{"text_format":"2","workbook":"xlsx","n_sheets":7,"sheets":["EventConfig","EventLinkConfig","EventConditionConfig","条件类型查询","产出tag查询","EventNPC","XianTuLogConfig"],"not_rendered":{"charts":0,"images":0,"macros":0,"external_links":0,"defined_names":4,"comments":0,"pivot_tables":0},"unopened":[],"bounds":{"document_bytes":16777216,"sheet_cells":100000,"run_cost":"one","rows_first":2000,"rows_last":500,"rows_between":2000,"halvings":0,"cell_chars":16384,"cell_head_chars":4096},"cells_cut":0,"cells_raw":0,"read":"whole","date_system":"1900"}

{"sheet":"EventConfig","index":0,"n_rows":99,"n_cols":43,"rows_kept":99,"cut":false,"hidden":false,"merged":[]}
["ID","EventLinksId","EventTriggerType","EventTag","EventType","Score","EventQuality","PrizeType","PrizeIDs","PrizeNums","RefreshProbability","RefreshCount","placeID","XiantuID",{"$f":"SUMIF(C:C,2,K:K)","v":0},"EventConditionId","EventValue","EventCount","EventName","Description"]
["int","int[]","int","int","int","int","int","int[]","int[]","int[]","int","int","int","int",null,"int","int[]","int","int","int"]
[{"$nulls":23},1,2,3,4,5,6,7,8,9,10,11,12,13,14,15,16,17,18,19,20]
["ID","事件包含的ID","事件类型：\n1.通用事件\n2.挂机事件\n4.主线任务\n5.仙山探险\n6.支线事件\n99.无标记\n","tag\n1主线2支线\n3通用\n4地图通用\n5道友6任务\n7资源","1.正常触发\n2.直接结算","增加进度值","事件品质","产出tag\n在辅助表查询","事件结局奖励","事件结局奖励数量","刷新的概率\n（100=100%）","最大刷新数量","属于哪张地图","仙途日志ID","触发条件","触发条件类型\n只能配处于什么状态和数值，不能配变化的数值","触发效果值","触发判定数量or次数","任务标题","任务详情界面的总描述","标题","整体描述","总步数","步骤1","步骤2","步骤3","步骤4","步骤5","步骤6","步骤7","步骤8","步骤9","步骤10","步骤11","步骤12","步骤13","步骤14","步骤15","步骤16","步骤17","步骤18","步骤19","步骤20"]
[1,{"$f":"IF(A5=\"\",\"\",_xlfn.TEXTJOIN(\";\",1,X5:AQ5,102))","v":"1001;1002;1003;1004;1005;100;102"},1,3,1,0,1,5,999001,1,null,null,null,4,{"$f":"IF(P5=\"\",\"\",VLOOKUP(P5,条件类型查询!A:B,2,FALSE))","v":""},null,null,null,174,1936,"受伤的狼","你发现一只奄奄一息的狼，决定上前一探究竟。",{"$f":"COUNTIF(EventLinkConfig!O:O,EventConfig!A5)","v":5},1001,1002,1003,1004,1005,{"$nulls":14},100]
[2,{"$f":"IF(A6=\"\",\"\",_xlfn.TEXTJOIN(\";\",1,X6:AQ6,102))","v":"1010;1011;1012;1013;1014;1015;1016;100;102"},1,3,1,0,1,6,999002,1,null,null,null,4,{"$f":"IF(P6=\"\",\"\",VLOOKUP(P6,条件类型查询!A:B,2,FALSE))","v":""},null,null,null,175,1937,"鹬蚌相争","附近的小树林闹的不可开交，你决定去看看怎么回事。",{"$f":"COUNTIF(EventLinkConfig!O:O,EventConfig!A6)","v":6},1010,1011,1012,1013,1014,1015,1016,{"$nulls":12},100]
[4,"1030;100;102",1,3,2,0,1,1,1001,100,null,null,null,3,{"$f":"IF(P7=\"\",\"\",VLOOKUP(P7,条件类型查询!A:B,2,FALSE))","v":""},null,null,null,217,1939,"溅血背包","不远处有一个小红点，走近一看你发现是一个带血的背包。",{"$f":"COUNTIF(EventLinkConfig!O:O,EventConfig!A7)","v":1},1030,{"$nulls":18},100]
[5,"1040;100;102",1,3,2,0,1,2,1003,100,null,null,null,3,{"$f":"IF(P8=\"\",\"\",VLOOKUP(P8,条件类型查询!A:B,2,FALSE))","v":""},null,null,null,218,1940,"废弃矿山","底下一座矿山甚是磅礴雄伟，走，去看一看。",{"$f":"COUNTIF(EventLinkConfig!O:O,EventConfig!A8)","v":1},1040,{"$nulls":18},100]
[6,"1050;100;102",1,3,2,0,1,3,1005,100,null,null,null,3,{"$f":"IF(P9=\"\",\"\",VLOOKUP(P9,条件类型查询!A:B,2,FALSE))","v":""},null,null,null,219,1941,"吵架声","你被一男一女的吵架声吸引。",{"$f":"COUNTIF(EventLinkConfig!O:O,EventConfig!A9)","v":1},1050,{"$nulls":18},100]
[7,"1060;100;102",1,3,2,0,1,4,1006,100,null,null,null,3,{"$f":"IF(P10=\"\",\"\",VLOOKUP(P10,条件类型查询!A:B,2,FALSE))","v":""},null,null,null,220,1942,"一座道观","远处一座道观仙气缭绕，似有仙人在此。",{"$f":"COUNTIF(EventLinkConfig!O:O,EventConfig!A10)","v":1},1060,{"$nulls":18},100]
[1011,{"$f":"IF(A11=\"\",\"\",_xlfn.TEXTJOIN(\";\",1,X11:AQ11,102))","v":"101101;100;102"},1,7,1,0,1,7,1401,1,{"$nulls":8},3017,3018,"药田","神识探索至一处山洞之中，似乎别有洞天",{"$f":"COUNTIF(EventLinkConfig!O:O,EventConfig!A11)","v":1},{"$f":"IF($W11>=X$3,$A11*100+X$3,\"\")","v":101101},"","","","","","","","","","","","","","","",null,null,null,100]
[1012,"101201;100;102",1,7,1,0,3,7,1402,1,{"$nulls":8},3038,3039,"矿井","神识探索至一处矿井之中，此处灵气氤氲",{"$f":"COUNTIF(EventLinkConfig!O:O,EventConfig!A12)","v":1},101201,"","","","","","","","","","","","","","","",null,null,null,100]
[1013,"101301;100;102",1,7,1,0,3,7,1403,1,{"$nulls":8},3040,3041,"寺庙","神识经过一处荒废寺庙之外，寺庙之中似乎有不同寻常之物",{"$f":"COUNTIF(EventLinkConfig!O:O,EventConfig!A13)","v":1},101301,"","","","","","","","","","","","","","","",null,null,null,100]
[1014,"101401;100;102",1,7,1,0,3,7,1404,1,{"$nulls":8},3042,3043,"洞府遗址","神识至一处灵气充盈之地，似乎是处洞府",{"$f":"COUNTIF(EventLinkConfig!O:O,EventConfig!A14)","v":1},101401,"","","","","","","","","","","","","","","",null,null,null,100]
[1015,"101501;101502;100;102",1,7,1,0,1,8,1301,1,{"$nulls":8},3046,3047,"拦路山贼","一个不知好歹的山贼拦住了你的去路",{"$f":"COUNTIF(EventLinkConfig!O:O,EventConfig!A15)","v":2},101501,101502,"","","","","","","","","","","","","","",null,null,null,100]
[1016,"101601;101602;100;102",1,7,1,0,1,8,1302,1,{"$nulls":8},3048,3049,"丢袈裟的和尚","一位和尚叫住了你，似乎有什么急事",{"$f":"COUNTIF(EventLinkConfig!O:O,EventConfig!A16)","v":2},101601,101602,"","","","","","","","","","","","","","",null,null,null,100]
[1017,"101701;100;102",1,7,1,0,1,8,1303,1,{"$nulls":5},10,30009,null,3048,3050,"丢袈裟的和尚","将袈裟还给和尚",{"$f":"COUNTIF(EventLinkConfig!O:O,EventConfig!A17)","v":1},101701,"","","","","","","","","","","","","","","",null,null,null,100]
[1018,"101801;101802;101803;101804;100;102",1,7,1,0,1,8,1304,1,{"$nulls":8},3051,3052,"云游修士","一名云游修士前来问道",{"$f":"COUNTIF(EventLinkConfig!O:O,EventConfig!A18)","v":4},101801,101802,101803,101804,"","","","","","","","","","","","",null,null,null,100]
[1019,"101901;101902;101903;100;102",1,7,1,0,1,9,1201,1,{"$nulls":8},3053,3054,"镇压妖王","逍遥宗长老前来求教",{"$f":"COUNTIF(EventLinkConfig!O:O,EventConfig!A19)","v":3},101901,101902,101903,"","","","","","","","","","","","","",null,null,null,100]
[1020,"102001;102002;100;102",1,7,1,0,1,9,1204,1,{"$nulls":8},3055,3056,"清剿妖兽","妖兽入侵了村子，消灭掉它们",{"$f":"COUNTIF(EventLinkConfig!O:O,EventConfig!A20)","v":2},102001,102002,"","","","","","","","","","","","","","",null,null,null,100]
[1021,"102101;102102;102103;100;102",1,7,1,0,1,9,1207,1,{"$nulls":8},3057,3058,"失窃的琉璃盏","琉璃盏被妖兽盗窃，前去寻回",{"$f":"COUNTIF(EventLinkConfig!O:O,EventConfig!A21)","v":3},{"$f":"IF($W21>=X$3,$A21*100+X$3,\"\")","v":102101},102102,102103,"","","","","","","","","","","","","",null,null,null,100]
[1022,"102201;102202;102203;102204;102205;102206;102207;100;102",1,7,1,0,1,10,1501,1,{"$nulls":8},3059,3060,"论道何长","明镜道长前来论道",{"$f":"COUNTIF(EventLinkConfig!O:O,EventConfig!A22)","v":7},102201,102202,102203,102204,102205,102206,102207,"","","","","","","","","",null,null,null,100]
[1023,"102301;102302;102303;100;102",1,7,1,0,1,10,1502,1,{"$nulls":8},3061,3062,"炼丹药童","炼丹药童前来询问丹药",{"$f":"COUNTIF(EventLinkConfig!O:O,EventConfig!A23)","v":3},102301,102302,102303,"","","","","","","","","","","","","",null,null,null,100]
[1024,"102401;102402;102403;100;102",1,7,1,0,1,11,1601,1,{"$nulls":8},3063,3064,"风无咎前来切磋","风无咎前来与你武艺论道",{"$f":"COUNTIF(EventLinkConfig!O:O,EventConfig!A24)","v":3},102401,102402,102403,"","","","","","","","","","","","","",null,null,null,100]
[1025,"102501;102502;102503;100;102",1,7,1,0,1,1,1001,100,{"$nulls":8},3065,3066,"魔族来犯","与魔族交涉",{"$f":"COUNTIF(EventLinkConfig!O:O,EventConfig!A25)","v":3},102501,102502,102503,"","","","","","","","","","","","","",null,null,null,100]
[1026,"102601;102602;100;102",1,7,1,0,1,2,1003,100,{"$nulls":8},3067,3068,"妖族入侵","击败妖族",{"$f":"COUNTIF(EventLinkConfig!O:O,EventConfig!A26)","v":2},102601,102602,"","","","","","","","","","","","","","",null,null,null,100]
[1027,"102701;102702;100;102",1,7,1,0,1,3,1005,100,{"$nulls":8},3069,3070,"北海危机","击败拦路妖兽",{"$f":"COUNTIF(EventLinkConfig!O:O,EventConfig!A27)","v":2},102701,102702,"","","","","","","","","","","","","","",null,null,null,100]
[1028,"102801;102802;102803;102804;102805;100;102",1,7,1,0,1,4,1006,100,{"$nulls":8},3071,3072,"保护北海","击败入侵妖兽",{"$f":"COUNTIF(EventLinkConfig!O:O,EventConfig!A28)","v":5},102801,102802,102803,102804,102805,"","","","","","","","","","","",null,null,null,100]
[1029,"102901;102902;102903;102904;102905;102906;102907;102908;100;102",1,7,1,0,1,7,1401,1,{"$nulls":8},3073,3074,"境明论道","境明道长邀请你与其论道",{"$f":"COUNTIF(EventLinkConfig!O:O,EventConfig!A29)","v":8},102901,102902,102903,102904,102905,102906,102907,102908,"","","","","","","","",null,null,null,100]
[1030,"103001;103002;103003;103004;103005;103006;103007;100;102",1,7,1,0,1,8,1301,1,{"$nulls":8},3075,3076,"听经习道","前去寺庙之中听经",{"$f":"COUNTIF(EventLinkConfig!O:O,EventConfig!A30)","v":7},103001,103002,103003,103004,103005,103006,103007,"","","","","","","","","",null,null,null,100]
[1031,"103101;103102;103103;103104;103105;100;102",1,7,1,0,1,9,1201,1,{"$nulls":8},3077,3074,"境明论道二","境明道长邀请你与其论道",{"$f":"COUNTIF(EventLinkConfig!O:O,EventConfig!A31)","v":5},103101,103102,103103,103104,103105,"","","","","","","","","","","",null,null,null,100]
[]
[11,"1101;1102;1103;100;102",2,3,1,0,1,null,-1,-1,{"$nulls":10},"挂机1","修为",{"$f":"COUNTIF(EventLinkConfig!O:O,EventConfig!A33)","v":3},{"$f":"IF($W33>=X$3,$A33*100+X$3,\"\")","v":1101},1102,1103,"","","","","","","","","",{"$nulls":7},100]
[12,"1201;1202;1203;100;102",2,3,1,0,1,null,-1,-1,{"$nulls":10},"挂机2","灵气",{"$f":"COUNTIF(EventLinkConfig!O:O,EventConfig!A34)","v":3},1201,1202,1203,"","","","","","","","","",{"$nulls":7},100]
[13,"1301;1302;1303;1304;100;102",2,3,1,0,1,null,-1,-1,{"$nulls":10},"挂机3","玄晶",{"$f":"COUNTIF(EventLinkConfig!O:O,EventConfig!A35)","v":4},1301,1302,1303,1304,"","","","","","","","",{"$nulls":7},100]
[14,"1401;1402;1403;100;102",2,3,1,0,1,null,-1,-1,{"$nulls":10},"挂机4","灵石",{"$f":"COUNTIF(EventLinkConfig!O:O,EventConfig!A36)","v":3},1401,1402,1403,"","","","","","","","","",{"$nulls":7},100]
[15,"1501;1502;1503;1504;100;102",2,3,1,0,1,null,-1,-1,{"$nulls":10},"挂机5","神识丹",{"$f":"COUNTIF(EventLinkConfig!O:O,EventConfig!A37)","v":4},1501,1502,1503,1504,"","","","","","","","",{"$nulls":7},100]
[16,{"$f":"IF(A38=\"\",\"\",_xlfn.TEXTJOIN(\";\",1,X38:AQ38,102))","v":"1601;1602;1603;100;102"},2,3,1,0,1,null,-1,-1,{"$nulls":10},"挂机6","妖丹",{"$f":"COUNTIF(EventLinkConfig!O:O,EventConfig!A38)","v":3},1601,1602,1603,"","","","","","","","","",{"$nulls":7},100]
[null,"",{"$nulls":12},{"$f":"IF(P39=\"\",\"\",VLOOKUP(P39,条件类型查询!A:B,2,FALSE))","v":""}]
[10001,"1000101;1000102;1000103;1000104;102",4,1,1,10,1,null,1001,10,null,null,1,1,{"$f":"IF(P40=\"\",\"\",VLOOKUP(P40,条件类型查询!A:B,2,FALSE))","v":""},null,null,null,1906,1914,"鲲鹏何在","神识未灭",{"$f":"COUNTIF(EventLinkConfig!O:O,EventConfig!A40)","v":4},{"$f":"IF($W40>=X$3,$A40*100+X$3,\"\")","v":1000101},1000102,1000103,1000104,"","","","","","","","","","","",""]
[10002,"1000201;1000202;1000203;102",4,1,1,10,1,null,1001,10,null,null,1,1,{"$f":"IF(P41=\"\",\"\",VLOOKUP(P41,条件类型查询!A:B,2,FALSE))","v":""},null,null,null,1907,1915,"北海迷径1","御剑而行",{"$f":"COUNTIF(EventLinkConfig!O:O,EventConfig!A41)","v":3},1000201,1000202,1000203,"","","","","","","","","","","","",""]
[10003,"1000301;1000302;1000303;1000304;1000305;1000306;1000307;1000308;1000309;102",4,1,1,10,1,null,1001,10,null,null,1,1,{"$f":"IF(P42=\"\",\"\",VLOOKUP(P42,条件类型查询!A:B,2,FALSE))","v":""},null,null,null,1908,1916,"北海迷径2","雀笑大鹏",{"$f":"COUNTIF(EventLinkConfig!O:O,EventConfig!A42)","v":9},1000301,1000302,1000303,1000304,1000305,1000306,1000307,1000308,1000309,"","","","","","",""]
[10004,"1000401;1000402;1000403;1000404;102",4,1,1,10,1,null,1001,10,null,null,1,1,{"$f":"IF(P43=\"\",\"\",VLOOKUP(P43,条件类型查询!A:B,2,FALSE))","v":""},null,null,null,1909,1917,"古径阵法","击败结界兽",{"$f":"COUNTIF(EventLinkConfig!O:O,EventConfig!A43)","v":4},1000401,1000402,1000403,1000404,"","","","","","","","","","","",""]
[10005,"1000501;1000502;1000503;1000504;1000505;1000506;1000507;1000508;1000509;1000510;1000511;1000512;1000513;1000514;102",4,1,1,10,1,null,1001,10,null,null,1,1,{"$f":"IF(P44=\"\",\"\",VLOOKUP(P44,条件类型查询!A:B,2,FALSE))","v":""},null,null,null,2135,2137,"浮空之岛1","初见疯道人",{"$f":"COUNTIF(EventLinkConfig!O:O,EventConfig!A44)","v":14},1000501,1000502,1000503,1000504,1000505,1000506,1000507,1000508,1000509,1000510,1000511,1000512,1000513,1000514,"",""]
[10006,"1000601;1000602;1000603;1000604;1000605;1000606;102",4,1,1,10,1,null,1001,10,null,null,1,1,{"$f":"IF(P45=\"\",\"\",VLOOKUP(P45,条件类型查询!A:B,2,FALSE))","v":""},null,null,null,2136,2138,"浮空之岛2","筑基中期",{"$f":"COUNTIF(EventLinkConfig!O:O,EventConfig!A45)","v":6},1000601,1000602,1000603,1000604,1000605,1000606,"","","","","","","","","",""]
[10007,"1000701;1000702;1000703;1000704;1000705;102",4,1,1,10,1,null,1001,10,null,null,1,1,{"$f":"IF(P46=\"\",\"\",VLOOKUP(P46,条件类型查询!A:B,2,FALSE))","v":""},null,null,null,2801,2822,"风中洞府1","击败痴道人",{"$f":"COUNTIF(EventLinkConfig!O:O,EventConfig!A46)","v":5},1000701,1000702,1000703,1000704,1000705,"","","","","","","","","","",""]
[10008,"1000801;1000802;1000803;1000804;1000805;1000806;1000807;1000808;1000809;1000810;1000811;1000812;1000813;1000814;102",4,1,1,10,1,null,1001,10,null,null,1,1,{"$f":"IF(P47=\"\",\"\",VLOOKUP(P47,条件类型查询!A:B,2,FALSE))","v":""},null,null,null,2802,2823,"风中洞府2","疯痴相聚",{"$f":"COUNTIF(EventLinkConfig!O:O,EventConfig!A47)","v":14},1000801,1000802,1000803,1000804,1000805,1000806,1000807,1000808,1000809,1000810,1000811,1000812,1000813,1000814,"",""]
[10009,"1000901;1000902;1000903;102",4,1,1,10,1,null,1001,10,null,null,1,1,{"$f":"IF(P48=\"\",\"\",VLOOKUP(P48,条件类型查询!A:B,2,FALSE))","v":""},null,null,null,2803,2824,"风灵之力","筑基后期",{"$f":"COUNTIF(EventLinkConfig!O:O,EventConfig!A48)","v":3},1000901,1000902,1000903,"","","","","","","","","","","","",""]
[10010,"1001001;102",4,1,1,10,1,null,1001,10,null,null,1,1,{"$f":"IF(P49=\"\",\"\",VLOOKUP(P49,条件类型查询!A:B,2,FALSE))","v":""},null,null,null,2804,2825,"北海深处1","妖兽横行",{"$f":"COUNTIF(EventLinkConfig!O:O,EventConfig!A49)","v":1},1001001,"","","","","","","","","","","","","","",""]
[10011,"1001101;102",4,1,1,10,1,null,1001,10,null,null,1,1,{"$f":"IF(P50=\"\",\"\",VLOOKUP(P50,条件类型查询!A:B,2,FALSE))","v":""},null,null,null,2805,2826,"北海深处2","遇见鲲鹏",{"$f":"COUNTIF(EventLinkConfig!O:O,EventConfig!A50)","v":1},{"$f":"IF($W50>=X$3,$A50*100+X$3,\"\")","v":1001101},"","","","","","","","","","","","","","",""]
[10012,"1001201;1001202;1001203;1001204;1001205;1001206;1001207;1001208;1001209;1001210;1001211;1001212;102",4,1,1,10,1,null,1001,10,null,null,2,1,{"$f":"IF(P51=\"\",\"\",VLOOKUP(P51,条件类型查询!A:B,2,FALSE))","v":""},null,null,null,2806,2827,"尧之都","尧让天下",{"$f":"COUNTIF(EventLinkConfig!O:O,EventConfig!A51)","v":12},1001201,1001202,1001203,1001204,1001205,1001206,1001207,1001208,1001209,1001210,1001211,1001212,"","","",""]
[10013,"1001301;1001302;1001303;1001304;1001305;1001306;1001307;1001308;1001309;1001310;1001311;1001312;1001313;1001314;1001315;1001316;102",4,1,1,10,1,null,1001,10,null,null,2,1,{"$f":"IF(P52=\"\",\"\",VLOOKUP(P52,条件类型查询!A:B,2,FALSE))","v":""},null,null,null,2807,2828,"山林清音","访贤许由",{"$f":"COUNTIF(EventLinkConfig!O:O,EventConfig!A52)","v":16},1001301,1001302,1001303,1001304,1001305,1001306,1001307,1001308,1001309,1001310,1001311,1001312,1001313,1001314,1001315,1001316]
[10014,"1001401;1001402;1001403;1001404;1001405;1001406;1001407;1001408;102",4,1,1,10,1,null,1001,10,null,null,2,1,{"$f":"IF(P53=\"\",\"\",VLOOKUP(P53,条件类型查询!A:B,2,FALSE))","v":""},null,null,null,2808,2829,"山中劳作","割草喝茶",{"$f":"COUNTIF(EventLinkConfig!O:O,EventConfig!A53)","v":8},1001401,1001402,1001403,1001404,1001405,1001406,1001407,1001408,"","","","","","","",""]
[10015,"1001501;1001502;1001503;1001504;1001505;1001506;1001507;1001508;102",4,1,1,10,1,null,1001,10,null,null,2,1,{"$f":"IF(P54=\"\",\"\",VLOOKUP(P54,条件类型查询!A:B,2,FALSE))","v":""},null,null,null,2809,2830,"风起夜战","再来一杯",{"$f":"COUNTIF(EventLinkConfig!O:O,EventConfig!A54)","v":8},1001501,1001502,1001503,1001504,1001505,1001506,1001507,1001508,"","","","","","","",""]
[10016,"1001601;1001602;1001603;1001604;1001605;1001606;1001607;1001608;1001609;1001610;1001611;1001612;1001613;102",4,1,1,10,1,null,1001,10,null,null,2,1,{"$f":"IF(P55=\"\",\"\",VLOOKUP(P55,条件类型查询!A:B,2,FALSE))","v":""},null,null,null,2810,2831,"吃茶三问","战胜妖王",{"$f":"COUNTIF(EventLinkConfig!O:O,EventConfig!A55)","v":13},1001601,1001602,1001603,1001604,1001605,1001606,1001607,1001608,1001609,1001610,1001611,1001612,1001613,"","",""]
[10017,"1001701;1001702;1001703;1001704;1001705;1001706;1001707;1001708;1001709;1001710;102",4,1,1,10,1,null,1001,10,null,null,2,1,{"$f":"IF(P56=\"\",\"\",VLOOKUP(P56,条件类型查询!A:B,2,FALSE))","v":""},null,null,null,2811,2832,"尧让天下","复命尧帝",{"$f":"COUNTIF(EventLinkConfig!O:O,EventConfig!A56)","v":10},1001701,1001702,1001703,1001704,1001705,1001706,1001707,1001708,1001709,1001710,"","","","","",""]
[10018,"1001801;1001802;1001803;1001804;1001805;1001806;1001807;1001808;1001809;1001810;1001811;1001812;1001813;1001814;1001815;1001816;1001817;1001818;1001819;1001820;102",4,1,1,10,1,null,1001,10,null,null,2,1,{"$f":"IF(P57=\"\",\"\",VLOOKUP(P57,条件类型查询!A:B,2,FALSE))","v":""},null,null,null,2812,2833,"无用之树","树下闲话",{"$f":"COUNTIF(EventLinkConfig!O:O,EventConfig!A57)","v":20},1001801,1001802,1001803,1001804,1001805,1001806,1001807,1001808,1001809,1001810,1001811,1001812,1001813,1001814,1001815,1001816,{"$f":"IF($W57>=AN$3,$A57*100+AN$3,\"\")","v":1001817},{"$f":"IF($W57>=AO$3,$A57*100+AO$3,\"\")","v":1001818},{"$f":"IF($W57>=AP$3,$A57*100+AP$3,\"\")","v":1001819},{"$f":"IF($W57>=AQ$3,$A57*100+AQ$3,\"\")","v":1001820}]
[10019,"1001901;1001902;102",4,1,1,10,1,null,1001,10,null,null,2,1,{"$f":"IF(P58=\"\",\"\",VLOOKUP(P58,条件类型查询!A:B,2,FALSE))","v":""},null,null,null,2813,2834,"樗木之灵","切磋切磋",{"$f":"COUNTIF(EventLinkConfig!O:O,EventConfig!A58)","v":2},1001901,1001902,"","","","","","","","","","","","","",""]
[10020,"1002001;1002002;1002003;1002004;102",4,1,1,10,1,null,1001,10,null,null,2,1,{"$f":"IF(P59=\"\",\"\",VLOOKUP(P59,条件类型查询!A:B,2,FALSE))","v":""},null,null,null,2814,2835,"游尧都","金丹前期",{"$f":"COUNTIF(EventLinkConfig!O:O,EventConfig!A59)","v":4},1002001,1002002,1002003,1002004,"","","","","","","","","","","",""]
[10021,"1002101;1002102;1002103;1002104;1002105;1002106;1002107;1002108;1002109;1002110;1002111;1002112;102",4,1,1,10,1,null,1001,10,null,null,2,1,{"$f":"IF(P60=\"\",\"\",VLOOKUP(P60,条件类型查询!A:B,2,FALSE))","v":""},null,null,null,2815,2836,"再见尧帝","仙山传说",{"$f":"COUNTIF(EventLinkConfig!O:O,EventConfig!A60)","v":12},{"$f":"IF($W60>=X$3,$A60*100+X$3,\"\")","v":1002101},1002102,1002103,1002104,1002105,1002106,1002107,1002108,1002109,1002110,1002111,1002112,"","","",""]
[10022,"1002201;1002202;1002203;102",4,1,1,10,1,null,1001,10,null,null,3,1,{"$f":"IF(P61=\"\",\"\",VLOOKUP(P61,条件类型查询!A:B,2,FALSE))","v":""},null,null,null,2816,2837,"云海漫行","入山幻阵",{"$f":"COUNTIF(EventLinkConfig!O:O,EventConfig!A61)","v":3},1002201,1002202,1002203,"","","","","","","","","","","","",""]
[10023,"1002301;1002302;1002303;1002304;1002305;1002306;1002307;1002308;1002309;1002310;1002311;1002312;1002313;102",4,1,1,10,1,null,1001,10,null,null,3,1,{"$f":"IF(P62=\"\",\"\",VLOOKUP(P62,条件类型查询!A:B,2,FALSE))","v":""},null,null,null,2817,2838,"初见惠子","葫芦种子",{"$f":"COUNTIF(EventLinkConfig!O:O,EventConfig!A62)","v":13},1002301,1002302,1002303,1002304,1002305,1002306,1002307,1002308,1002309,1002310,1002311,1002312,1002313,"","",""]
[10024,"1002401;1002402;1002403;1002404;1002405;1002406;1002407;102",4,1,1,10,1,null,1001,10,null,null,3,1,{"$f":"IF(P63=\"\",\"\",VLOOKUP(P63,条件类型查询!A:B,2,FALSE))","v":""},null,null,null,2818,2839,"葫芦肥料","天肥地肥",{"$f":"COUNTIF(EventLinkConfig!O:O,EventConfig!A63)","v":7},1002401,1002402,1002403,1002404,1002405,1002406,1002407,"","","","","","","","",""]
[10025,"1002501;1002502;1002503;1002504;1002505;1002506;1002507;1002508;1002509;102",4,1,1,10,1,null,1001,10,null,null,3,1,{"$f":"IF(P64=\"\",\"\",VLOOKUP(P64,条件类型查询!A:B,2,FALSE))","v":""},null,null,null,2819,2840,"藐姑射山","登山",{"$f":"COUNTIF(EventLinkConfig!O:O,EventConfig!A64)","v":9},1002501,1002502,1002503,1002504,1002505,1002506,1002507,1002508,1002509,"","","","","","",""]
[10026,"102",4,1,1,10,1,null,1001,10,null,null,3,1,{"$f":"IF(P65=\"\",\"\",VLOOKUP(P65,条件类型查询!A:B,2,FALSE))","v":""},null,null,null,2820,2841,"炼器师","重铸忘火剑",{"$f":"COUNTIF(EventLinkConfig!O:O,EventConfig!A65)","v":0},"","","","","","","","","","","","","","","",""]
[10027,"102",4,1,1,10,1,null,1001,10,null,null,3,1,{"$f":"IF(P66=\"\",\"\",VLOOKUP(P66,条件类型查询!A:B,2,FALSE))","v":""},null,null,null,2821,2842,"忘火剑","护法",{"$f":"COUNTIF(EventLinkConfig!O:O,EventConfig!A66)","v":0},"","","","","","","","","","","","","","","",""]
[null,""]
[null,""]
[20001,"1001;1002;1003;1004;1005;102",5,null,1,0,1,null,1001,10,{"$nulls":8},174,1936,"受伤的狼","你发现一只奄奄一息的狼，决定上前一探究竟。",null,1001,1002,1003,1004,1005]
[20002,{"$f":"IF(A70=\"\",\"\",_xlfn.TEXTJOIN(\";\",1,X70:AQ70,102))","v":"1010;1011;1012;1013;1014;1015;1016;102"},5,null,1,0,1,null,1001,10,{"$nulls":4},{"$f":"IF(P70=\"\",\"\",VLOOKUP(P70,条件类型查询!A:B,2,FALSE))","v":""},null,null,null,175,1937,"鹬蚌相争","附近的小树林闹的不可开交，你决定去看看怎么回事。",null,1010,1011,1012,1013,1014,1015,1016]
[20003,"1001;1002;1003;1004;1005;102",5,null,1,0,1,null,1001,10,{"$nulls":8},1943,1944,"受伤的鸟","你发现一只奄奄一息的鸟，决定上前一探究竟。",null,1001,1002,1003,1004,1005]
[null,""]
[9001,"1001;1002;1003;1004;1005;102",6,3,1,0,1,null,1001,10,{"$nulls":8},174,1936,"受伤的狼","你发现一只奄奄一息的狼，决定上前一探究竟。",null,1001,1002,1003,1004,1005]
[9002,"1010;1011;1012;1013;1014;1015;1016;102",6,3,1,0,1,null,1001,10,{"$nulls":4},{"$f":"IF(P74=\"\",\"\",VLOOKUP(P74,条件类型查询!A:B,2,FALSE))","v":""},null,null,null,175,1937,"鹬蚌相争","附近的小树林闹的不可开交，你决定去看看怎么回事。",null,1010,1011,1012,1013,1014,1015,1016]
[9003,"9003;9004;9005;9006;9007;9008;102",6,5,1,0,1,null,1001,10,{"$nulls":8},2035,2036,"幽谷剑鸣","你在闭关修炼时，感受到一股凌厉的剑意波动。深入探查，发现一名白衣剑修“清霜”盘坐于谷中，周围剑气环绕，正与一柄散发不祥气息的灵剑对峙。她似在参悟剑诀，却灵气不足，剑灵桀骜。",null,9003,9004,9005,9006,9007,9008]
[9025,"102",6,3,1,0,1,null,1001,10,null,null,1,2,{"$nulls":4},2067,2068,"惠子.没用的大葫芦","惠子种的葫芦没用，他非常生气"]
[9014,"9014;102",6,3,1,0,1,null,1001,10,null,null,2,2,{"$nulls":4},2069,2070,"发现魔修","发现一群魔修，正在夺人钱财",null,9014]
[9031,"9031;102",6,3,1,0,1,null,1001,10,30,2,3,2,{"$nulls":4},2071,2072,"魔修","打败魔休",null,9031]
[]
[3,{"$f":"IF(A80=\"\",\"\",_xlfn.TEXTJOIN(\";\",1,X80:AQ80,102))","v":"1020;1021;1022;1023;1024;1025;1026;102"},99,2,1,10,1,null,1001,10,null,null,1,4,{"$f":"IF(P80=\"\",\"\",VLOOKUP(P80,条件类型查询!A:B,2,FALSE))","v":"拥有特定道具"},1,1004,1,176,1938,"鹬蚌相争2","附近的小树林闹的不可开交，你决定去看看怎么回事。",null,1020,1021,1022,1023,1024,1025,1026]
[1001,{"$f":"IF(A81=\"\",\"\",_xlfn.TEXTJOIN(\";\",1,X81:AQ81,102))","v":"1001;1002;1003;1004;1005;100;102"},99,4,1,10,1,null,1001,10,{"$nulls":4},{"$f":"IF(P81=\"\",\"\",VLOOKUP(P81,条件类型查询!A:B,2,FALSE))","v":""},null,null,null,1943,1944,"受伤的鸟","你发现一只奄奄一息的鸟，决定上前一探究竟。",null,1001,1002,1003,1004,1005,{"$nulls":14},100]
[30001,"100;102",99,6,1,0,1,null,null,null,50,5,null,null,{"$f":"IF(P82=\"\",\"\",VLOOKUP(P82,条件类型查询!A:B,2,FALSE))","v":""},{"$nulls":7},{"$f":"COUNTIF(EventLinkConfig!O:O,EventConfig!A82)","v":0},{"$f":"IF($W82>=X$3,$A82*100+X$3,\"\")","v":""},"","","","","","","","","","","","","","","",null,null,null,100]
[30002,"100;102",99,6,1,0,1,null,null,null,50,1,null,null,{"$f":"IF(P83=\"\",\"\",VLOOKUP(P83,条件类型查询!A:B,2,FALSE))","v":""},{"$nulls":7},{"$f":"COUNTIF(EventLinkConfig!O:O,EventConfig!A83)","v":0},"","","","","","","","","","","","","","","","",null,null,null,100]
[30003,"3000301;100;102",99,6,1,0,1,null,null,null,50,1,1,null,{"$f":"IF(P84=\"\",\"\",VLOOKUP(P84,条件类型查询!A:B,2,FALSE))","v":""},{"$nulls":7},{"$f":"COUNTIF(EventLinkConfig!O:O,EventConfig!A84)","v":1},3000301,"","","","","","","","","","","","","","","",null,null,null,100]
[30004,"3000401;100;102",99,6,1,0,1,null,null,null,50,3,2,null,{"$f":"IF(P85=\"\",\"\",VLOOKUP(P85,条件类型查询!A:B,2,FALSE))","v":""},{"$nulls":7},{"$f":"COUNTIF(EventLinkConfig!O:O,EventConfig!A85)","v":1},3000401,"","","","","","","","","","","","","","","",null,null,null,100]
[30005,"3000501;100;102",99,6,1,0,1,null,null,null,50,1,2,null,{"$f":"IF(P86=\"\",\"\",VLOOKUP(P86,条件类型查询!A:B,2,FALSE))","v":""},{"$nulls":7},{"$f":"COUNTIF(EventLinkConfig!O:O,EventConfig!A86)","v":1},3000501,"","","","","","","","","","","","","","","",null,null,null,100]
[30006,"3000601;100;102",99,6,1,0,1,null,null,null,50,1,2,null,{"$f":"IF(P87=\"\",\"\",VLOOKUP(P87,条件类型查询!A:B,2,FALSE))","v":""},{"$nulls":7},{"$f":"COUNTIF(EventLinkConfig!O:O,EventConfig!A87)","v":1},3000601,"","","","","","","","","","","","","","","",null,null,null,100]
[30007,"3000701;100;102",99,6,1,0,1,null,null,null,50,1,3,null,{"$f":"IF(P88=\"\",\"\",VLOOKUP(P88,条件类型查询!A:B,2,FALSE))","v":""},{"$nulls":7},{"$f":"COUNTIF(EventLinkConfig!O:O,EventConfig!A88)","v":1},3000701,"","","","","","","","","","","","","","","",null,null,null,100]
[30008,"3000801;100;102",99,6,1,0,1,null,null,null,15,1,3,null,{"$f":"IF(P89=\"\",\"\",VLOOKUP(P89,条件类型查询!A:B,2,FALSE))","v":""},{"$nulls":7},{"$f":"COUNTIF(EventLinkConfig!O:O,EventConfig!A89)","v":1},3000801,"","","","","","","","","","","","","","","",null,null,null,100]
[30009,"3000901;3000902;100;102",99,6,1,0,1,null,1301,1,100,1,3,null,{"$f":"IF(P90=\"\",\"\",VLOOKUP(P90,条件类型查询!A:B,2,FALSE))","v":""},{"$nulls":7},{"$f":"COUNTIF(EventLinkConfig!O:O,EventConfig!A90)","v":2},3000901,3000902,"","","","","","","","","","","","","","",null,null,null,100]
[30010,"3001001;100;102",99,6,1,0,1,null,1001,1,100,1,3,null,{"$f":"IF(P91=\"\",\"\",VLOOKUP(P91,条件类型查询!A:B,2,FALSE))","v":"前置事件"},10,1021,{"$nulls":5},{"$f":"COUNTIF(EventLinkConfig!O:O,EventConfig!A91)","v":1},3001001,"","","","","","","","","","","","","","","",null,null,null,100]
[30011,"3001101;3001102;100;102",99,6,1,0,1,null,20003,3,100,1,2,null,{"$f":"IF(P92=\"\",\"\",VLOOKUP(P92,条件类型查询!A:B,2,FALSE))","v":""},{"$nulls":7},{"$f":"COUNTIF(EventLinkConfig!O:O,EventConfig!A92)","v":2},3001101,3001102,"","","","","","","","","","","","","","",null,null,null,100]
[5001,"500101;500102;500103;500104;500105;500106;500107;500108;500109;500110;500111;500112;500113;500114;500115;500116;500117;500118;500119;102",99,5,1,10,1,10,1501,1,null,null,1,1,{"$f":"IF(P93=\"\",\"\",VLOOKUP(P93,条件类型查询!A:B,2,FALSE))","v":""},null,null,null,3019,3020,"风影为二","风影为二详情占位",{"$f":"COUNTIF(EventLinkConfig!O:O,EventConfig!A93)","v":19},{"$f":"IF($W93>=X$3,$A93*100+X$3,\"\")","v":500101},500102,500103,500104,500105,500106,500107,500108,500109,500110,{"$f":"IF($W93>=AH$3,$A93*100+AH$3,\"\")","v":500111},500112,500113,500114,500115,500116,500117,500118,500119,""]
[5002,"500201;500202;500203;500204;500205;500206;500207;500208;500209;500210;500211;500212;500213;500214;500215;500216;102",99,5,1,10,1,11,1601,1,null,null,1,1,{"$f":"IF(P94=\"\",\"\",VLOOKUP(P94,条件类型查询!A:B,2,FALSE))","v":"前置事件"},10,5001,null,3036,3037,"风影合一","风影合一详情占位",{"$f":"COUNTIF(EventLinkConfig!O:O,EventConfig!A94)","v":16},500201,500202,500203,500204,500205,500206,500207,500208,500209,500210,500211,500212,500213,500214,500215,500216,"","","",""]
[5003,"500301;500302;500303;500304;500305;500306;500307;500308;500309;500310;500311;500312;500313;500314;500315;500316;500317;500318;500319;500320;102",99,2,1,0,1,1,1001,500,null,null,1,1,{"$f":"IF(P95=\"\",\"\",VLOOKUP(P95,条件类型查询!A:B,2,FALSE))","v":""},null,null,null,3034,3035,"北海剑妖","百年化妖为红颜，一剑焚海断孽缘",{"$f":"COUNTIF(EventLinkConfig!O:O,EventConfig!A95)","v":20},500301,500302,500303,500304,500305,500306,500307,500308,500309,500310,500311,500312,500313,500314,500315,500316,500317,500318,500319,500320]
[5004,{"$f":"IF(A96=\"\",\"\",_xlfn.TEXTJOIN(\";\",1,X96:AQ96,102))","v":"500401;102"},99,7,1,0,1,1,1001,-5000,{"$nulls":4},{"$f":"IF(P96=\"\",\"\",VLOOKUP(P96,条件类型查询!A:B,2,FALSE))","v":""},null,null,null,3034,3035,"【纳福】灵石","大量获取灵石",{"$f":"COUNTIF(EventLinkConfig!O:O,EventConfig!A96)","v":1},500401,"","","","","","","","","","","","","","","","","","",""]
[5005,{"$f":"IF(A97=\"\",\"\",_xlfn.TEXTJOIN(\";\",1,X97:AQ97,102))","v":"500501;102"},99,7,1,0,1,1,1003,-5000,{"$nulls":4},{"$f":"IF(P97=\"\",\"\",VLOOKUP(P97,条件类型查询!A:B,2,FALSE))","v":""},null,null,null,3034,3035,"【纳福】修为","大量获取修为",{"$f":"COUNTIF(EventLinkConfig!O:O,EventConfig!A97)","v":1},500501,"","","","","","","","","","","","","","","","","","",""]
[5006,"500601;102",99,7,1,0,1,1,1005,-5000,{"$nulls":4},{"$f":"IF(P98=\"\",\"\",VLOOKUP(P98,条件类型查询!A:B,2,FALSE))","v":""},null,null,null,3034,3035,"【纳福】灵气","大量获取灵气",{"$f":"COUNTIF(EventLinkConfig!O:O,EventConfig!A98)","v":1},500601,"","","","","","","","","","","","","","","","","","",""]
[5007,{"$f":"IF(A99=\"\",\"\",_xlfn.TEXTJOIN(\";\",1,X99:AQ99,102))","v":"500701;102"},99,7,1,0,1,1,1006,-5000,{"$nulls":4},{"$f":"IF(P99=\"\",\"\",VLOOKUP(P99,条件类型查询!A:B,2,FALSE))","v":""},null,null,null,3034,3035,"【纳福】玄晶","大量获取玄晶",{"$f":"COUNTIF(EventLinkConfig!O:O,EventConfig!A99)","v":1},500701,"","","","","","","","","","","","","","","","","","",""]

{"sheet":"EventLinkConfig","index":1,"n_rows":481,"n_cols":37,"rows_kept":481,"cut":false,"hidden":false,"merged":[]}
["ID","conciseEventMessage",null,"EventConditionMessage",null,null,"PreShow","PreShowPar",null,"NPCID",null,"LanID",null,"DialogueType","EventID",null,"ConditionId",null,null,null,"optionType","optionPara1","optionPara2",{"$nulls":6},"PrizeIDs","PrizeNums","ResultType","ResultOptions"]
["int","int",null,"int",null,null,"int","int",null,"int",null,"int[]",null,"int","int",null,"int[]",null,null,null,"int","int[]","int[]",{"$nulls":6},"int[]","int[]","int","int[]"]
[]
["ID","任务列表中的简洁描述","任务列表中的简洁描述","无任务目标时的补充文本","无任务目标时的补充文本",null,"前置表现\n","前置表现参数\n",null,"对话NPCID","NPC","对话","对话1","对话框类型","属于哪个事件","步骤","条件判断类型","任务目标1","任务目标2","条件判断内容","步骤类型\n1=提供选项\n2=进入战斗\n5=自动退出\n3=获得奖励\n4=扣除道具","事件常量1\n1=步骤IDs\n2=战斗ID","事件常量2\n1=事件文本","选择1","选择1\n步骤：填选项文本1\n战斗：填战斗ID","选择1\n步骤1：跳转到哪一步\n不填默认跳转到下一步","选择2","选择2\n步骤：填选项文本2","选择1\n步骤2：跳转到哪一步\n不填默认跳转到下一步","事件结局奖励","事件结局奖励数量","事件结束类型\n1：跳转步骤\n2：根据战斗结果跳转\n3.触发新事件","事件结局后提供的选项\n1.EventLinkId\n2.胜利id;失败id\n3.EventConfigId","1.步骤ID（不填默认为下一个步骤ID）\n2.胜利ID（不填默认为下一个步骤ID）\n3.事件ID（不填默认为下一个事件ID）","语言表最大值"]
[100,{"$nulls":10},216,"你被怪物击败，神识也随之消散了。",null,null,null,{"$f":"_xlfn.TEXTJOIN(\";\",1,R5:S5)","v":""},null,null,{"$f":"IF(R5=\"\",\"\",\"-\"&VLOOKUP(R5,EventConditionConfig!A:C,3,FALSE)&IF(S5=\"\",\"\",CHAR(10)&\"-\"&VLOOKUP(S5,EventConditionConfig!A:C,3,FALSE)))","v":""},{"$nulls":14},{"$f":"IF(A5=\"\",\"\",MAX(B5,D5,L5,X5,AA5))","v":216}]
[101,{"$nulls":10},3011,"你败下阵来，感到头晕目眩，试图努力回忆起刚才发生的事情。",null,null,null,{"$f":"_xlfn.TEXTJOIN(\";\",1,R6:S6)","v":""},null,null,{"$f":"IF(R6=\"\",\"\",\"-\"&VLOOKUP(R6,EventConditionConfig!A:C,3,FALSE)&IF(S6=\"\",\"\",CHAR(10)&\"-\"&VLOOKUP(S6,EventConditionConfig!A:C,3,FALSE)))","v":""},{"$nulls":14},{"$f":"IF(A6=\"\",\"\",MAX(B6,D6,L6,X6,AA6))","v":3011}]
[102,{"$nulls":10},3012,"战斗胜利，你的任务进度增加了。",{"$nulls":21},3012]
[{"$nulls":16},"",null,null,{"$f":"IF(R8=\"\",\"\",\"-\"&VLOOKUP(R8,EventConditionConfig!A:C,3,FALSE)&IF(S8=\"\",\"\",CHAR(10)&\"-\"&VLOOKUP(S8,EventConditionConfig!A:C,3,FALSE)))","v":""},{"$nulls":14},""]
[1001,177,{"$nulls":7},2,null,177,"你遇到一只奄奄一息的野狼，从周围四散的血迹来看，想必它刚才经历了一场恶战。",null,1,null,"",null,null,{"$f":"IF(R9=\"\",\"\",\"-\"&VLOOKUP(R9,EventConditionConfig!A:C,3,FALSE)&IF(S9=\"\",\"\",CHAR(10)&\"-\"&VLOOKUP(S9,EventConditionConfig!A:C,3,FALSE)))","v":""},1,"1002;1003","198;199",null,"趁它虚弱赶紧除掉它！",null,null,"你不忍见它受苦，选择帮它减轻痛苦。",{"$nulls":6},177]
[1002,178,{"$nulls":9},178,"野狼用它最后一口气，朝你扑了过来！",null,1,null,"",null,null,{"$f":"IF(R10=\"\",\"\",\"-\"&VLOOKUP(R10,EventConditionConfig!A:C,3,FALSE)&IF(S10=\"\",\"\",CHAR(10)&\"-\"&VLOOKUP(S10,EventConditionConfig!A:C,3,FALSE)))","v":""},2,100001,{"$nulls":9},2,"1004;100",null,178]
[1003,179,{"$nulls":9},179,"你抽出匕首准备了结它的生命，却发现怀中还躺着一只刚出生的狼崽。",null,1,null,"",null,null,{"$f":"IF(R11=\"\",\"\",\"-\"&VLOOKUP(R11,EventConditionConfig!A:C,3,FALSE)&IF(S11=\"\",\"\",CHAR(10)&\"-\"&VLOOKUP(S11,EventConditionConfig!A:C,3,FALSE)))","v":""},1,1005,200,{"$nulls":11},179]
[1004,180,{"$nulls":9},180,"随着你的最后一击，野狼应声倒下，你罔顾它幽怨的眼神，从它怀中拿走了一些财物。",null,1,null,"",null,null,{"$f":"IF(R12=\"\",\"\",\"-\"&VLOOKUP(R12,EventConditionConfig!A:C,3,FALSE)&IF(S12=\"\",\"\",CHAR(10)&\"-\"&VLOOKUP(S12,EventConditionConfig!A:C,3,FALSE)))","v":""},3,{"$nulls":8},1002,100,null,null,null,180]
[1005,181,{"$nulls":9},181,"母狼似乎懂你要做什么，眼神归于平静。你终结了她，决定收养这只小狼仔。",null,1,null,"",null,null,{"$f":"IF(R13=\"\",\"\",\"-\"&VLOOKUP(R13,EventConditionConfig!A:C,3,FALSE)&IF(S13=\"\",\"\",CHAR(10)&\"-\"&VLOOKUP(S13,EventConditionConfig!A:C,3,FALSE)))","v":""},3,{"$nulls":8},1001,50,null,null,null,181]
[{"$nulls":16},"",null,null,{"$f":"IF(R14=\"\",\"\",\"-\"&VLOOKUP(R14,EventConditionConfig!A:C,3,FALSE)&IF(S14=\"\",\"\",CHAR(10)&\"-\"&VLOOKUP(S14,EventConditionConfig!A:C,3,FALSE)))","v":""},{"$nulls":14},""]
[1010,182,{"$nulls":9},182,"从不远处传来刀剑声，听起来双方已经精疲力尽了。",null,2,null,"",null,null,{"$f":"IF(R15=\"\",\"\",\"-\"&VLOOKUP(R15,EventConditionConfig!A:C,3,FALSE)&IF(S15=\"\",\"\",CHAR(10)&\"-\"&VLOOKUP(S15,EventConditionConfig!A:C,3,FALSE)))","v":""},1,"1011;1012","201;202",null,"去看看",null,null,"(需拥有法宝凝神珠）听起来都是鸡毛蒜皮的小摩擦，你选择祭出凝神珠化解他们的怨气。",{"$nulls":6},182]
[1011,183,{"$nulls":9},183,"你走进一看，原来是一伙山贼分赃不均内讧了起来。你看着旁边被砍的七零八落的轿子和这群山贼，选择怎么做呢：",null,2,null,"",null,null,{"$f":"IF(R16=\"\",\"\",\"-\"&VLOOKUP(R16,EventConditionConfig!A:C,3,FALSE)&IF(S16=\"\",\"\",CHAR(10)&\"-\"&VLOOKUP(S16,EventConditionConfig!A:C,3,FALSE)))","v":""},1,"1014;1015","203;204",null,"你顿时杀心四起，决定杀了贼寇，救出轿中之人",null,null,"盗贼们个个双眼杀的通红，你决定来个渔翁得利。",{"$nulls":6},183]
[1012,184,{"$nulls":9},"184;187","法宝现身，效果立竿见影，刀剑声逐渐消失，这个世界安静了。",null,2,null,"",null,null,{"$f":"IF(R17=\"\",\"\",\"-\"&VLOOKUP(R17,EventConditionConfig!A:C,3,FALSE)&IF(S17=\"\",\"\",CHAR(10)&\"-\"&VLOOKUP(S17,EventConditionConfig!A:C,3,FALSE)))","v":""},3,{"$nulls":8},1001,10,null,null,null,184,1,"1001;1"]
[1014,185,{"$nulls":9},185,"你怒斥贼寇的恶行，贼寇们被你激怒了，准备迎战！",null,2,null,"",null,null,{"$f":"IF(R18=\"\",\"\",\"-\"&VLOOKUP(R18,EventConditionConfig!A:C,3,FALSE)&IF(S18=\"\",\"\",CHAR(10)&\"-\"&VLOOKUP(S18,EventConditionConfig!A:C,3,FALSE)))","v":""},2,100002,{"$nulls":9},2,"1016;100",null,185,2,"4;150"]
[1015,186,{"$nulls":9},"186;189","你趁人不备顺走了轿内主人的包裹，任留轿内人痛苦的挣扎。",null,2,null,"",null,null,{"$f":"IF(R19=\"\",\"\",\"-\"&VLOOKUP(R19,EventConditionConfig!A:C,3,FALSE)&IF(S19=\"\",\"\",CHAR(10)&\"-\"&VLOOKUP(S19,EventConditionConfig!A:C,3,FALSE)))","v":""},3,{"$nulls":8},1003,1000,null,null,null,186]
[1016,188,{"$nulls":9},188,"杀退贼寇，你上演了一出英雄救美的桥段。姑娘为了答谢你的救命之恩，将藏在贴身处的珍贵首饰赠与你作为定情信物。",null,2,null,"",null,null,{"$f":"IF(R20=\"\",\"\",\"-\"&VLOOKUP(R20,EventConditionConfig!A:C,3,FALSE)&IF(S20=\"\",\"\",CHAR(10)&\"-\"&VLOOKUP(S20,EventConditionConfig!A:C,3,FALSE)))","v":""},{"$nulls":9},1001,200,null,null,null,188]
[{"$nulls":16},"",null,null,{"$f":"IF(R21=\"\",\"\",\"-\"&VLOOKUP(R21,EventConditionConfig!A:C,3,FALSE)&IF(S21=\"\",\"\",CHAR(10)&\"-\"&VLOOKUP(S21,EventConditionConfig!A:C,3,FALSE)))","v":""},{"$nulls":14},""]
[1020,190,{"$nulls":9},190,"从不远处传来刀剑声，听起来双方已经精疲力尽了。",null,null,null,"",null,null,{"$f":"IF(R22=\"\",\"\",\"-\"&VLOOKUP(R22,EventConditionConfig!A:C,3,FALSE)&IF(S22=\"\",\"\",CHAR(10)&\"-\"&VLOOKUP(S22,EventConditionConfig!A:C,3,FALSE)))","v":""},1,"1021;1022","201;202",null,"去看看",null,null,"使用法宝息事宁人",{"$nulls":6},190]
[1021,191,{"$nulls":9},191,"你走进一看，原来是一伙山贼抢了一名坐在官轿内的女子，因分赃不均内讧了起来。山贼二话不说就朝你冲了过来！",null,null,null,"",null,null,{"$f":"IF(R23=\"\",\"\",\"-\"&VLOOKUP(R23,EventConditionConfig!A:C,3,FALSE)&IF(S23=\"\",\"\",CHAR(10)&\"-\"&VLOOKUP(S23,EventConditionConfig!A:C,3,FALSE)))","v":""},2,100003,{"$nulls":7},1002,100,2,"1026;100",null,191]
[1022,192,{"$nulls":9},192,"法宝现身，效果立竿见影，刀剑声逐渐消失，这个世界安静了。",null,null,null,"",null,null,{"$f":"IF(R24=\"\",\"\",\"-\"&VLOOKUP(R24,EventConditionConfig!A:C,3,FALSE)&IF(S24=\"\",\"\",CHAR(10)&\"-\"&VLOOKUP(S24,EventConditionConfig!A:C,3,FALSE)))","v":""},4,{"$nulls":8},1002,10,null,null,null,192,1,"1001;1"]
[1024,193,{"$nulls":9},"193;196","你大声怒斥贼寇的恶行，贼首发现你了，准备迎战！",null,null,null,"",null,null,{"$f":"IF(R25=\"\",\"\",\"-\"&VLOOKUP(R25,EventConditionConfig!A:C,3,FALSE)&IF(S25=\"\",\"\",CHAR(10)&\"-\"&VLOOKUP(S25,EventConditionConfig!A:C,3,FALSE)))","v":""},2,100004,{"$nulls":7},1004,100,2,"1016;100",null,193,2,"4;150"]
[1025,194,{"$nulls":9},"194;197","你趁人不备顺走了轿内主人的包裹，任留轿内人痛苦的挣扎。",null,null,null,"",null,null,{"$f":"IF(R26=\"\",\"\",\"-\"&VLOOKUP(R26,EventConditionConfig!A:C,3,FALSE)&IF(S26=\"\",\"\",CHAR(10)&\"-\"&VLOOKUP(S26,EventConditionConfig!A:C,3,FALSE)))","v":""},3,{"$nulls":8},1002,1000,null,null,null,194]
[1026,207,{"$nulls":9},207,"你将山贼们打的落花流水，成功吸引了山贼头子的注意。",null,null,null,"",null,null,{"$f":"IF(R27=\"\",\"\",\"-\"&VLOOKUP(R27,EventConditionConfig!A:C,3,FALSE)&IF(S27=\"\",\"\",CHAR(10)&\"-\"&VLOOKUP(S27,EventConditionConfig!A:C,3,FALSE)))","v":""},1,"1024;1025","205;206",null,"选择正面迎战山贼头领（困难）",null,null,"你决定避开山贼头领的视线，来个渔翁得利。",{"$nulls":6},207]
[{"$nulls":16},"",null,null,{"$f":"IF(R28=\"\",\"\",\"-\"&VLOOKUP(R28,EventConditionConfig!A:C,3,FALSE)&IF(S28=\"\",\"\",CHAR(10)&\"-\"&VLOOKUP(S28,EventConditionConfig!A:C,3,FALSE)))","v":""},{"$nulls":14},""]
[1030,{"$nulls":10},221,"发现一个血迹斑斑的背包，好像刚刚发生了战斗，我翻翻背包...",null,4,null,"",null,null,{"$f":"IF(R29=\"\",\"\",\"-\"&VLOOKUP(R29,EventConditionConfig!A:C,3,FALSE)&IF(S29=\"\",\"\",CHAR(10)&\"-\"&VLOOKUP(S29,EventConditionConfig!A:C,3,FALSE)))","v":""},3,{"$nulls":8},1002,10,null,null,null,221]
[{"$nulls":16},"",null,null,{"$f":"IF(R30=\"\",\"\",\"-\"&VLOOKUP(R30,EventConditionConfig!A:C,3,FALSE)&IF(S30=\"\",\"\",CHAR(10)&\"-\"&VLOOKUP(S30,EventConditionConfig!A:C,3,FALSE)))","v":""},{"$nulls":14},""]
[1040,{"$nulls":10},222,"啥也没有....除了钱",null,5,null,"",null,null,{"$f":"IF(R31=\"\",\"\",\"-\"&VLOOKUP(R31,EventConditionConfig!A:C,3,FALSE)&IF(S31=\"\",\"\",CHAR(10)&\"-\"&VLOOKUP(S31,EventConditionConfig!A:C,3,FALSE)))","v":""},3,{"$nulls":8},1002,10,null,null,null,222]
[{"$nulls":16},"",null,null,{"$f":"IF(R32=\"\",\"\",\"-\"&VLOOKUP(R32,EventConditionConfig!A:C,3,FALSE)&IF(S32=\"\",\"\",CHAR(10)&\"-\"&VLOOKUP(S32,EventConditionConfig!A:C,3,FALSE)))","v":""},{"$nulls":14},""]
[1050,{"$nulls":10},223,"两夫妻在吵架，似乎为了一件大事..",null,6,null,"",null,null,{"$f":"IF(R33=\"\",\"\",\"-\"&VLOOKUP(R33,EventConditionConfig!A:C,3,FALSE)&IF(S33=\"\",\"\",CHAR(10)&\"-\"&VLOOKUP(S33,EventConditionConfig!A:C,3,FALSE)))","v":""},3,{"$nulls":8},"1002;1001","10;20",null,null,null,223]
[{"$nulls":16},"",null,null,{"$f":"IF(R34=\"\",\"\",\"-\"&VLOOKUP(R34,EventConditionConfig!A:C,3,FALSE)&IF(S34=\"\",\"\",CHAR(10)&\"-\"&VLOOKUP(S34,EventConditionConfig!A:C,3,FALSE)))","v":""},{"$nulls":14},""]
[1060,{"$nulls":10},224,"没有任何发现，但感觉空气很好....下次有空再来看看",null,7,null,"",null,null,{"$f":"IF(R35=\"\",\"\",\"-\"&VLOOKUP(R35,EventConditionConfig!A:C,3,FALSE)&IF(S35=\"\",\"\",CHAR(10)&\"-\"&VLOOKUP(S35,EventConditionConfig!A:C,3,FALSE)))","v":""},{"$nulls":14},224]
[{"$nulls":16},"",null,null,{"$f":"IF(R36=\"\",\"\",\"-\"&VLOOKUP(R36,EventConditionConfig!A:C,3,FALSE)&IF(S36=\"\",\"\",CHAR(10)&\"-\"&VLOOKUP(S36,EventConditionConfig!A:C,3,FALSE)))","v":""},{"$nulls":14},""]
[{"$nulls":16},"",null,null,{"$f":"IF(R37=\"\",\"\",\"-\"&VLOOKUP(R37,EventConditionConfig!A:C,3,FALSE)&IF(S37=\"\",\"\",CHAR(10)&\"-\"&VLOOKUP(S37,EventConditionConfig!A:C,3,FALSE)))","v":""},{"$nulls":14},""]
[{"$nulls":16},"",null,null,{"$f":"IF(R38=\"\",\"\",\"-\"&VLOOKUP(R38,EventConditionConfig!A:C,3,FALSE)&IF(S38=\"\",\"\",CHAR(10)&\"-\"&VLOOKUP(S38,EventConditionConfig!A:C,3,FALSE)))","v":""},{"$nulls":14},""]
[{"$f":"O39*100+P39","v":1101},{"$nulls":10},208,"你遇到一只拦路的妖兽，它看起来饥肠辘辘",null,11,{"$f":"IF(O39=O38,P38+1,1)","v":1},"",null,null,{"$f":"IF(R39=\"\",\"\",\"-\"&VLOOKUP(R39,EventConditionConfig!A:C,3,FALSE)&IF(S39=\"\",\"\",CHAR(10)&\"-\"&VLOOKUP(S39,EventConditionConfig!A:C,3,FALSE)))","v":""},{"$nulls":11},1,{"$f":"A40","v":1102},null,208]
[{"$f":"O40*100+P40","v":1102},{"$nulls":10},209,"你扔出一块鹿肉，趁它抢食之际，你祭出腰间的法宝",null,11,{"$f":"IF(O40=O39,P39+1,1)","v":2},"",null,null,{"$f":"IF(R40=\"\",\"\",\"-\"&VLOOKUP(R40,EventConditionConfig!A:C,3,FALSE)&IF(S40=\"\",\"\",CHAR(10)&\"-\"&VLOOKUP(S40,EventConditionConfig!A:C,3,FALSE)))","v":""},{"$nulls":11},1,{"$f":"A41","v":1103},null,209]
[{"$f":"O41*100+P41","v":1103},{"$nulls":10},209,"你成功诱捕了怪物，并从它身上吸取了一些修为",null,11,{"$f":"IF(O41=O40,P40+1,1)","v":3},{"$f":"_xlfn.TEXTJOIN(\";\",1,R41:S41)","v":""},null,null,{"$f":"IF(R41=\"\",\"\",\"-\"&VLOOKUP(R41,EventConditionConfig!A:C,3,FALSE)&IF(S41=\"\",\"\",CHAR(10)&\"-\"&VLOOKUP(S41,EventConditionConfig!A:C,3,FALSE)))","v":""},{"$nulls":14},{"$f":"IF(A41=\"\",\"\",MAX(B41,D41,L41,X41,AA41))","v":209}]
[{"$nulls":16},"",null,null,{"$f":"IF(R42=\"\",\"\",\"-\"&VLOOKUP(R42,EventConditionConfig!A:C,3,FALSE)&IF(S42=\"\",\"\",CHAR(10)&\"-\"&VLOOKUP(S42,EventConditionConfig!A:C,3,FALSE)))","v":""},{"$nulls":14},""]
[{"$f":"O43*100+P43","v":1201},{"$nulls":10},210,"你偶遇一处仙气四溢无人生活的洞穴",null,12,{"$f":"IF(O43=O42,P42+1,1)","v":1},"",null,null,{"$f":"IF(R43=\"\",\"\",\"-\"&VLOOKUP(R43,EventConditionConfig!A:C,3,FALSE)&IF(S43=\"\",\"\",CHAR(10)&\"-\"&VLOOKUP(S43,EventConditionConfig!A:C,3,FALSE)))","v":""},{"$nulls":11},1,{"$f":"A44","v":1202},null,210]
[{"$f":"O44*100+P44","v":1202},{"$nulls":10},211,"不知哪位高人在洞穴内壁留下绝世秘籍",null,12,{"$f":"IF(O44=O43,P43+1,1)","v":2},"",null,null,{"$f":"IF(R44=\"\",\"\",\"-\"&VLOOKUP(R44,EventConditionConfig!A:C,3,FALSE)&IF(S44=\"\",\"\",CHAR(10)&\"-\"&VLOOKUP(S44,EventConditionConfig!A:C,3,FALSE)))","v":""},{"$nulls":11},1,{"$f":"A45","v":1203},null,211]
[{"$f":"O45*100+P45","v":1203},{"$nulls":10},1903,"你仔细研读后，功法得到精进",null,12,{"$f":"IF(O45=O44,P44+1,1)","v":3},"",null,null,{"$f":"IF(R45=\"\",\"\",\"-\"&VLOOKUP(R45,EventConditionConfig!A:C,3,FALSE)&IF(S45=\"\",\"\",CHAR(10)&\"-\"&VLOOKUP(S45,EventConditionConfig!A:C,3,FALSE)))","v":""},{"$nulls":14},1903]
[{"$nulls":16},"",null,null,{"$f":"IF(R46=\"\",\"\",\"-\"&VLOOKUP(R46,EventConditionConfig!A:C,3,FALSE)&IF(S46=\"\",\"\",CHAR(10)&\"-\"&VLOOKUP(S46,EventConditionConfig!A:C,3,FALSE)))","v":""},{"$nulls":14},""]
[{"$f":"O47*100+P47","v":1301},{"$nulls":10},3220,"你偶然发现一只枯萎的葫芦，但泛着蓝光",null,13,{"$f":"IF(O47=O46,P46+1,1)","v":1},"",null,null,{"$f":"IF(R47=\"\",\"\",\"-\"&VLOOKUP(R47,EventConditionConfig!A:C,3,FALSE)&IF(S47=\"\",\"\",CHAR(10)&\"-\"&VLOOKUP(S47,EventConditionConfig!A:C,3,FALSE)))","v":""},{"$nulls":11},1,{"$f":"A48","v":1302},null,3220]
[{"$f":"O48*100+P48","v":1302},{"$nulls":10},3221,"好奇的你凑近一看，不知谁将这件法宝遗落于此",null,13,{"$f":"IF(O48=O47,P47+1,1)","v":2},"",null,null,{"$f":"IF(R48=\"\",\"\",\"-\"&VLOOKUP(R48,EventConditionConfig!A:C,3,FALSE)&IF(S48=\"\",\"\",CHAR(10)&\"-\"&VLOOKUP(S48,EventConditionConfig!A:C,3,FALSE)))","v":""},{"$nulls":11},1,{"$f":"A49","v":1303},null,3221]
[1303,{"$nulls":10},3222,"但法宝已经枯竭，你后悔没有早点发现它",null,13,3,"",null,null,{"$f":"IF(R49=\"\",\"\",\"-\"&VLOOKUP(R49,EventConditionConfig!A:C,3,FALSE)&IF(S49=\"\",\"\",CHAR(10)&\"-\"&VLOOKUP(S49,EventConditionConfig!A:C,3,FALSE)))","v":""},{"$nulls":11},1,{"$f":"A50","v":1304},null,3222]
[1304,{"$nulls":10},3223,"最后你从法宝中回收了一些玄晶",null,13,4,"",null,null,{"$f":"IF(R50=\"\",\"\",\"-\"&VLOOKUP(R50,EventConditionConfig!A:C,3,FALSE)&IF(S50=\"\",\"\",CHAR(10)&\"-\"&VLOOKUP(S50,EventConditionConfig!A:C,3,FALSE)))","v":""},{"$nulls":14},3223]
[{"$nulls":11},3224,{"$nulls":4},"",null,null,{"$f":"IF(R51=\"\",\"\",\"-\"&VLOOKUP(R51,EventConditionConfig!A:C,3,FALSE)&IF(S51=\"\",\"\",CHAR(10)&\"-\"&VLOOKUP(S51,EventConditionConfig!A:C,3,FALSE)))","v":""},{"$nulls":14},""]
[{"$f":"O52*100+P52","v":1401},{"$nulls":10},3225,"你路过一座矿山，一个闪光点引起了你的注意",null,14,{"$f":"IF(O52=O51,P51+1,1)","v":1},{"$f":"_xlfn.TEXTJOIN(\";\",1,R52:S52)","v":""},null,null,{"$f":"IF(R52=\"\",\"\",\"-\"&VLOOKUP(R52,EventConditionConfig!A:C,3,FALSE)&IF(S52=\"\",\"\",CHAR(10)&\"-\"&VLOOKUP(S52,EventConditionConfig!A:C,3,FALSE)))","v":""},{"$nulls":11},1,{"$f":"A53","v":1402},null,{"$f":"IF(A52=\"\",\"\",MAX(B52,D52,L52,X52,AA52))","v":3225}]
[{"$f":"O53*100+P53","v":1402},{"$nulls":10},3226,"原来这是一颗珍贵的绿玛瑙",null,14,{"$f":"IF(O53=O52,P52+1,1)","v":2},"",null,null,{"$f":"IF(R53=\"\",\"\",\"-\"&VLOOKUP(R53,EventConditionConfig!A:C,3,FALSE)&IF(S53=\"\",\"\",CHAR(10)&\"-\"&VLOOKUP(S53,EventConditionConfig!A:C,3,FALSE)))","v":""},{"$nulls":11},1,{"$f":"A54","v":1403},null,3226]
[{"$f":"O54*100+P54","v":1403},{"$nulls":10},3227,"你祭出法宝，将它转化成一些灵石",null,14,{"$f":"IF(O54=O53,P53+1,1)","v":3},"",null,null,{"$f":"IF(R54=\"\",\"\",\"-\"&VLOOKUP(R54,EventConditionConfig!A:C,3,FALSE)&IF(S54=\"\",\"\",CHAR(10)&\"-\"&VLOOKUP(S54,EventConditionConfig!A:C,3,FALSE)))","v":""},{"$nulls":14},3227]
[{"$nulls":11},3228]
[{"$f":"O56*100+P56","v":1501},{"$nulls":10},3229,"漫漫旅途，你通过神识释放增进不少阅历",null,15,{"$f":"IF(O56=O55,P55+1,1)","v":1},{"$f":"_xlfn.TEXTJOIN(\";\",1,R56:S56)","v":""},null,null,{"$f":"IF(R56=\"\",\"\",\"-\"&VLOOKUP(R56,EventConditionConfig!A:C,3,FALSE)&IF(S56=\"\",\"\",CHAR(10)&\"-\"&VLOOKUP(S56,EventConditionConfig!A:C,3,FALSE)))","v":""},{"$nulls":11},1,{"$f":"A57","v":1502},null,{"$f":"IF(A56=\"\",\"\",MAX(B56,D56,L56,X56,AA56))","v":3229}]
[{"$f":"O57*100+P57","v":1502},{"$nulls":10},3230,"但随之而来的是神识用尽的空虚感",null,15,{"$f":"IF(O57=O56,P56+1,1)","v":2},"",null,null,{"$f":"IF(R57=\"\",\"\",\"-\"&VLOOKUP(R57,EventConditionConfig!A:C,3,FALSE)&IF(S57=\"\",\"\",CHAR(10)&\"-\"&VLOOKUP(S57,EventConditionConfig!A:C,3,FALSE)))","v":""},{"$nulls":11},1,{"$f":"A58","v":1503},null,3230]
[{"$f":"O58*100+P58","v":1503},{"$nulls":10},3231,"但这种感受何尝又不是一种新的阅历呢",null,15,{"$f":"IF(O58=O57,P57+1,1)","v":3},"",null,null,{"$f":"IF(R58=\"\",\"\",\"-\"&VLOOKUP(R58,EventConditionConfig!A:C,3,FALSE)&IF(S58=\"\",\"\",CHAR(10)&\"-\"&VLOOKUP(S58,EventConditionConfig!A:C,3,FALSE)))","v":""},{"$nulls":11},1,{"$f":"A59","v":1504},null,3231]
[{"$f":"O59*100+P59","v":1504},{"$nulls":10},3232,"你将这些新的感悟存进了一颗神识丹",null,15,{"$f":"IF(O59=O58,P58+1,1)","v":4},{"$f":"_xlfn.TEXTJOIN(\";\",1,R59:S59)","v":""},null,null,{"$f":"IF(R59=\"\",\"\",\"-\"&VLOOKUP(R59,EventConditionConfig!A:C,3,FALSE)&IF(S59=\"\",\"\",CHAR(10)&\"-\"&VLOOKUP(S59,EventConditionConfig!A:C,3,FALSE)))","v":""},{"$nulls":14},{"$f":"IF(A59=\"\",\"\",MAX(B59,D59,L59,X59,AA59))","v":3232}]
[{"$nulls":11},3233]
[{"$f":"O61*100+P61","v":1601},{"$nulls":10},3234,"两只体型硕大的妖兽正在为了一颗灵丹而缠斗",null,16,{"$f":"IF(O61=O60,P60+1,1)","v":1},{"$f":"_xlfn.TEXTJOIN(\";\",1,R61:S61)","v":""},null,null,{"$f":"IF(R61=\"\",\"\",\"-\"&VLOOKUP(R61,EventConditionConfig!A:C,3,FALSE)&IF(S61=\"\",\"\",CHAR(10)&\"-\"&VLOOKUP(S61,EventConditionConfig!A:C,3,FALSE)))","v":""},{"$nulls":11},1,{"$f":"A62","v":1602},null,{"$f":"IF(A61=\"\",\"\",MAX(B61,D61,L61,X61,AA61))","v":3234}]
[{"$f":"O62*100+P62","v":1602},{"$nulls":10},3235,"突然一道闪电自天而降，正中两只妖兽",null,16,{"$f":"IF(O62=O61,P61+1,1)","v":2},"",null,null,{"$f":"IF(R62=\"\",\"\",\"-\"&VLOOKUP(R62,EventConditionConfig!A:C,3,FALSE)&IF(S62=\"\",\"\",CHAR(10)&\"-\"&VLOOKUP(S62,EventConditionConfig!A:C,3,FALSE)))","v":""},{"$nulls":11},1,{"$f":"A63","v":1603},null,3235]
[{"$f":"O63*100+P63","v":1603},{"$nulls":10},3236,"何其悲哉，念完往生咒，你顺手拿走了这颗珍贵的妖丹",null,16,{"$f":"IF(O63=O62,P62+1,1)","v":3},"",null,null,{"$f":"IF(R63=\"\",\"\",\"-\"&VLOOKUP(R63,EventConditionConfig!A:C,3,FALSE)&IF(S63=\"\",\"\",CHAR(10)&\"-\"&VLOOKUP(S63,EventConditionConfig!A:C,3,FALSE)))","v":""},{"$nulls":14},3236]
[]
[9003,2036,{"$nulls":9},2036,"你在闭关修炼时，感受到一股凌厉的剑意波动。深入探查，发现一名白衣剑修“清霜”盘坐于谷中，周围剑气环绕，正与一柄散发不祥气息的灵剑对峙。她似在参悟剑诀，却灵气不足，剑灵桀骜。",null,null,null,"",null,null,{"$f":"IF(R65=\"\",\"\",\"-\"&VLOOKUP(R65,EventConditionConfig!A:C,3,FALSE)&IF(S65=\"\",\"\",CHAR(10)&\"-\"&VLOOKUP(S65,EventConditionConfig!A:C,3,FALSE)))","v":""},1,"9004;9006","2041;2042",{"$nulls":11},2036]
[9004,2037,{"$nulls":9},2037,"你上前以剑意对抗剑灵",null,null,null,"",null,null,{"$f":"IF(R66=\"\",\"\",\"-\"&VLOOKUP(R66,EventConditionConfig!A:C,3,FALSE)&IF(S66=\"\",\"\",CHAR(10)&\"-\"&VLOOKUP(S66,EventConditionConfig!A:C,3,FALSE)))","v":""},2,100001,{"$nulls":9},2,"9005;100",null,2037]
[9005,2038,{"$nulls":9},2038,"成功压制剑灵，清霜赠你“霜华剑符”并结下道友之谊",null,null,null,"",null,null,{"$f":"IF(R67=\"\",\"\",\"-\"&VLOOKUP(R67,EventConditionConfig!A:C,3,FALSE)&IF(S67=\"\",\"\",CHAR(10)&\"-\"&VLOOKUP(S67,EventConditionConfig!A:C,3,FALSE)))","v":""},{"$nulls":14},2038]
[9006,2039,{"$nulls":9},2039,"你察觉谷中灵气匮乏，清霜剑意凝滞。神识探查得知，附近秘境可采集“玄冰花”",null,null,null,"",null,null,{"$f":"IF(R68=\"\",\"\",\"-\"&VLOOKUP(R68,EventConditionConfig!A:C,3,FALSE)&IF(S68=\"\",\"\",CHAR(10)&\"-\"&VLOOKUP(S68,EventConditionConfig!A:C,3,FALSE)))","v":""},{"$nulls":14},2039]
[9007,2040,{"$nulls":9},2040,"献上玄冰花，清霜炼化灵气突破瓶颈，赠你“玄霜剑意”",null,null,null,"",null,null,{"$f":"IF(R69=\"\",\"\",\"-\"&VLOOKUP(R69,EventConditionConfig!A:C,3,FALSE)&IF(S69=\"\",\"\",CHAR(10)&\"-\"&VLOOKUP(S69,EventConditionConfig!A:C,3,FALSE)))","v":""},4,{"$nulls":10},1,9007,null,2040]
[9008,{"$nulls":15},"",null,null,{"$f":"IF(R70=\"\",\"\",\"-\"&VLOOKUP(R70,EventConditionConfig!A:C,3,FALSE)&IF(S70=\"\",\"\",CHAR(10)&\"-\"&VLOOKUP(S70,EventConditionConfig!A:C,3,FALSE)))","v":""},3,{"$nulls":8},1001,999,null,null,null,0]
[{"$nulls":16},"",null,null,{"$f":"IF(R71=\"\",\"\",\"-\"&VLOOKUP(R71,EventConditionConfig!A:C,3,FALSE)&IF(S71=\"\",\"\",CHAR(10)&\"-\"&VLOOKUP(S71,EventConditionConfig!A:C,3,FALSE)))","v":""},{"$nulls":14},""]
[{"$nulls":16},"",null,null,{"$f":"IF(R72=\"\",\"\",\"-\"&VLOOKUP(R72,EventConditionConfig!A:C,3,FALSE)&IF(S72=\"\",\"\",CHAR(10)&\"-\"&VLOOKUP(S72,EventConditionConfig!A:C,3,FALSE)))","v":""},{"$nulls":14},""]
[{"$nulls":16},"",null,null,{"$f":"IF(R73=\"\",\"\",\"-\"&VLOOKUP(R73,EventConditionConfig!A:C,3,FALSE)&IF(S73=\"\",\"\",CHAR(10)&\"-\"&VLOOKUP(S73,EventConditionConfig!A:C,3,FALSE)))","v":""},{"$nulls":14},""]
[9025,2074,null,2073,"和惠子交谈",{"$nulls":6},2074,"惠子种的葫芦没用，他非常生气，需要打败魔休",null,null,null,"",null,null,{"$f":"IF(R74=\"\",\"\",\"-\"&VLOOKUP(R74,EventConditionConfig!A:C,3,FALSE)&IF(S74=\"\",\"\",CHAR(10)&\"-\"&VLOOKUP(S74,EventConditionConfig!A:C,3,FALSE)))","v":""},1,9026,2075,{"$nulls":11},2074]
[9026,{"$nulls":11},"选择后接新的事件",null,null,null,"",null,null,{"$f":"IF(R75=\"\",\"\",\"-\"&VLOOKUP(R75,EventConditionConfig!A:C,3,FALSE)&IF(S75=\"\",\"\",CHAR(10)&\"-\"&VLOOKUP(S75,EventConditionConfig!A:C,3,FALSE)))","v":""},{"$nulls":4},"接受任务",{"$nulls":6},3,9014,null,0]
[{"$nulls":16},"",null,null,{"$f":"IF(R76=\"\",\"\",\"-\"&VLOOKUP(R76,EventConditionConfig!A:C,3,FALSE)&IF(S76=\"\",\"\",CHAR(10)&\"-\"&VLOOKUP(S76,EventConditionConfig!A:C,3,FALSE)))","v":""},{"$nulls":14},""]
[{"$nulls":16},"",null,null,{"$f":"IF(R77=\"\",\"\",\"-\"&VLOOKUP(R77,EventConditionConfig!A:C,3,FALSE)&IF(S77=\"\",\"\",CHAR(10)&\"-\"&VLOOKUP(S77,EventConditionConfig!A:C,3,FALSE)))","v":""},{"$nulls":14},""]
[9014,2070,null,null,"击杀魔休",{"$nulls":11},"3",3,null,{"$f":"IF(R78=\"\",\"\",\"-\"&VLOOKUP(R78,EventConditionConfig!A:C,3,FALSE)&IF(S78=\"\",\"\",CHAR(10)&\"-\"&VLOOKUP(S78,EventConditionConfig!A:C,3,FALSE)))","v":"-击杀魔休"},{"$nulls":14},{"$f":"IF(A78=\"\",\"\",MAX(B78,D78,L78,X78,AA78))","v":2070}]
[{"$nulls":16},{"$f":"_xlfn.TEXTJOIN(\";\",1,R79:S79)","v":""},null,null,{"$f":"IF(R79=\"\",\"\",\"-\"&VLOOKUP(R79,EventConditionConfig!A:C,3,FALSE)&IF(S79=\"\",\"\",CHAR(10)&\"-\"&VLOOKUP(S79,EventConditionConfig!A:C,3,FALSE)))","v":""},{"$nulls":14},""]
[{"$nulls":16},"",null,null,{"$f":"IF(R80=\"\",\"\",\"-\"&VLOOKUP(R80,EventConditionConfig!A:C,3,FALSE)&IF(S80=\"\",\"\",CHAR(10)&\"-\"&VLOOKUP(S80,EventConditionConfig!A:C,3,FALSE)))","v":""},{"$nulls":14},""]
[9031,2076,"出现Boss魔修",2077,"打败魔修",{"$nulls":11},"",null,null,{"$f":"IF(R81=\"\",\"\",\"-\"&VLOOKUP(R81,EventConditionConfig!A:C,3,FALSE)&IF(S81=\"\",\"\",CHAR(10)&\"-\"&VLOOKUP(S81,EventConditionConfig!A:C,3,FALSE)))","v":""},2,100001,{"$nulls":12},2077]
[{"$nulls":16},"",null,null,{"$f":"IF(R82=\"\",\"\",\"-\"&VLOOKUP(R82,EventConditionConfig!A:C,3,FALSE)&IF(S82=\"\",\"\",CHAR(10)&\"-\"&VLOOKUP(S82,EventConditionConfig!A:C,3,FALSE)))","v":""},{"$nulls":14},""]
[{"$f":"O83*100+P83","v":1000101},2086,"使用风铃唤醒还未泯灭的神识",{"$nulls":8},2083,"北冥有鱼，其名为鲲……",2,10001,{"$f":"IF(O83=O82,P82+1,1)","v":1},"",null,null,{"$f":"IF(R83=\"\",\"\",\"-\"&VLOOKUP(R83,EventConditionConfig!A:C,3,FALSE)&IF(S83=\"\",\"\",CHAR(10)&\"-\"&VLOOKUP(S83,EventConditionConfig!A:C,3,FALSE)))","v":""},{"$nulls":11},{"$f":"IF(A83=\"\",\"\",IF(U83=1,\"\",IF(A84=\"\",3,1)))","v":1},{"$f":"IF(AF83=1,A84,IF(AF83=3,LEFT(A83,5)+1,\"\"))","v":1000102},null,2086]
[{"$f":"O84*100+P84","v":1000102},2086,"使用风铃唤醒还未泯灭的神识",{"$nulls":8},2084,"不过北海遥远，何时能寻得鲲鹏的踪迹。",2,10001,{"$f":"IF(O84=O83,P83+1,1)","v":2},"",null,null,{"$f":"IF(R84=\"\",\"\",\"-\"&VLOOKUP(R84,EventConditionConfig!A:C,3,FALSE)&IF(S84=\"\",\"\",CHAR(10)&\"-\"&VLOOKUP(S84,EventConditionConfig!A:C,3,FALSE)))","v":""},{"$nulls":11},{"$f":"IF(A84=\"\",\"\",IF(U84=1,\"\",IF(A85=\"\",3,1)))","v":1},{"$f":"IF(AF84=1,A85,IF(AF84=3,LEFT(A84,5)+1,\"\"))","v":1000103},null,2086]
[{"$f":"O85*100+P85","v":1000103},2086,"使用风铃唤醒还未泯灭的神识",{"$nulls":8},2085,"好在我的神识尚在，可探天地，再加上刚刚的风铃，或许能寻得前路线索。",2,10001,3,"",null,null,{"$f":"IF(R85=\"\",\"\",\"-\"&VLOOKUP(R85,EventConditionConfig!A:C,3,FALSE)&IF(S85=\"\",\"\",CHAR(10)&\"-\"&VLOOKUP(S85,EventConditionConfig!A:C,3,FALSE)))","v":""},{"$nulls":11},1,1000104,null,2086]
[{"$f":"O86*100+P86","v":1000104},2086,"使用风铃唤醒还未泯灭的神识",{"$nulls":11},10001,4,"5",5,null,{"$f":"IF(R86=\"\",\"\",\"-\"&VLOOKUP(R86,EventConditionConfig!A:C,3,FALSE)&IF(S86=\"\",\"\",CHAR(10)&\"-\"&VLOOKUP(S86,EventConditionConfig!A:C,3,FALSE)))","v":"-使用神识"},{"$nulls":11},3,10002,null,2086]
[{"$nulls":16},"",null,null,{"$f":"IF(R87=\"\",\"\",\"-\"&VLOOKUP(R87,EventConditionConfig!A:C,3,FALSE)&IF(S87=\"\",\"\",CHAR(10)&\"-\"&VLOOKUP(S87,EventConditionConfig!A:C,3,FALSE)))","v":""},{"$nulls":11},"","",null,""]
[{"$f":"O88*100+P88","v":1000201},2091,"前往妖兽盘踞的地方",{"$nulls":8},2092,"神识发现有一条古径，隐于云山之间，不过似乎有妖兽盘踞。",3,10002,1,"",null,null,{"$f":"IF(R88=\"\",\"\",\"-\"&VLOOKUP(R88,EventConditionConfig!A:C,3,FALSE)&IF(S88=\"\",\"\",CHAR(10)&\"-\"&VLOOKUP(S88,EventConditionConfig!A:C,3,FALSE)))","v":""},{"$nulls":11},1,{"$f":"IF(AF88=1,A89,IF(AF88=3,LEFT(A88,5)+1,\"\"))","v":1000202},null,2092]
[{"$f":"O89*100+P89","v":1000202},2091,"前往妖兽盘踞的地方",{"$nulls":8},2093,"没其他办法了，过去看看吧。",3,10002,2,"",null,null,{"$f":"IF(R89=\"\",\"\",\"-\"&VLOOKUP(R89,EventConditionConfig!A:C,3,FALSE)&IF(S89=\"\",\"\",CHAR(10)&\"-\"&VLOOKUP(S89,EventConditionConfig!A:C,3,FALSE)))","v":""},{"$nulls":11},1,1000203,null,2093]
[{"$f":"O90*100+P90","v":1000203},2091,"前往妖兽盘踞的地方",2094,"继续飞行一段时间",{"$nulls":9},10002,3,"",null,null,{"$f":"IF(R90=\"\",\"\",\"-\"&VLOOKUP(R90,EventConditionConfig!A:C,3,FALSE)&IF(S90=\"\",\"\",CHAR(10)&\"-\"&VLOOKUP(S90,EventConditionConfig!A:C,3,FALSE)))","v":""},{"$nulls":11},3,10003,null,2094]
[{"$nulls":16},"",null,null,{"$f":"IF(R91=\"\",\"\",\"-\"&VLOOKUP(R91,EventConditionConfig!A:C,3,FALSE)&IF(S91=\"\",\"\",CHAR(10)&\"-\"&VLOOKUP(S91,EventConditionConfig!A:C,3,FALSE)))","v":""},{"$nulls":11},"","",null,""]
[1000301,2095,"蜩鸟和小麻雀对你的到来很好奇",{"$nulls":7},{"$f":"IF(J92=\"\",\"\",VLOOKUP(J92,EventNPC!A:E,5,FALSE))","v":""},2096,"应该就是这里了，似乎有古老的阵法挡住了去路",null,10003,1,"",null,null,{"$f":"IF(R92=\"\",\"\",\"-\"&VLOOKUP(R92,EventConditionConfig!A:C,3,FALSE)&IF(S92=\"\",\"\",CHAR(10)&\"-\"&VLOOKUP(S92,EventConditionConfig!A:C,3,FALSE)))","v":""},{"$nulls":11},1,1000302,null,2096]
[{"$f":"O93*100+P93","v":1000302},2095,"蜩鸟和小麻雀对你的到来很好奇",{"$nulls":7},{"$f":"IF(J93=\"\",\"\",VLOOKUP(J93,EventNPC!A:E,5,FALSE))","v":""},2097,"（结界门前，三只小鸟飞来，落在一旁古松上）",null,10003,2,"",null,null,{"$f":"IF(R93=\"\",\"\",\"-\"&VLOOKUP(R93,EventConditionConfig!A:C,3,FALSE)&IF(S93=\"\",\"\",CHAR(10)&\"-\"&VLOOKUP(S93,EventConditionConfig!A:C,3,FALSE)))","v":""},{"$nulls":11},1,1000303,null,2097]
[{"$f":"O94*100+P94","v":1000303},2095,"蜩鸟和小麻雀对你的到来很好奇",{"$nulls":6},101,{"$f":"IF(J94=\"\",\"\",VLOOKUP(J94,EventNPC!A:E,5,FALSE))","v":"蜩鸟"},2098,"（拍翅）：“咦？又是妄图穿行北海之人？”",null,10003,{"$f":"IF(O94=O93,P93+1,1)","v":3},"",null,null,{"$f":"IF(R94=\"\",\"\",\"-\"&VLOOKUP(R94,EventConditionConfig!A:C,3,FALSE)&IF(S94=\"\",\"\",CHAR(10)&\"-\"&VLOOKUP(S94,EventConditionConfig!A:C,3,FALSE)))","v":""},1,{"$f":"A95","v":1000304},{"$f":"_xlfn.TEXTJOIN(\";\",1,X94,AA94)","v":"2099"},2099,"我在寻找鲲鹏，你们知道它在哪里吗？",{"$nulls":6},"","",null,2099]
[{"$f":"O95*100+P95","v":1000304},2095,"蜩鸟和小麻雀对你的到来很好奇",{"$nulls":6},102,{"$f":"IF(J95=\"\",\"\",VLOOKUP(J95,EventNPC!A:E,5,FALSE))","v":"小麻雀"},2100,"（扑棱翅膀）是想要从北海飞往南海的超级大鸟吧？",null,10003,{"$f":"IF(O95=O94,P94+1,1)","v":4},"",null,null,{"$f":"IF(R95=\"\",\"\",\"-\"&VLOOKUP(R95,EventConditionConfig!A:C,3,FALSE)&IF(S95=\"\",\"\",CHAR(10)&\"-\"&VLOOKUP(S95,EventConditionConfig!A:C,3,FALSE)))","v":""},null,null,"",{"$nulls":8},1,1000305,null,2100]
[{"$f":"O96*100+P96","v":1000305},2095,"蜩鸟和小麻雀对你的到来很好奇",{"$nulls":6},102,{"$f":"IF(J96=\"\",\"\",VLOOKUP(J96,EventNPC!A:E,5,FALSE))","v":"小麻雀"},2101,"我就想不明白，她为何要飞如此之远，太奇怪啦！",null,10003,{"$f":"IF(O96=O95,P95+1,1)","v":5},"",null,null,{"$f":"IF(R96=\"\",\"\",\"-\"&VLOOKUP(R96,EventConditionConfig!A:C,3,FALSE)&IF(S96=\"\",\"\",CHAR(10)&\"-\"&VLOOKUP(S96,EventConditionConfig!A:C,3,FALSE)))","v":""},1,{"$f":"A97","v":1000306},"2102",2102,"鲲鹏是在追求心中的目标吧。",{"$nulls":6},"","",null,2102]
[{"$f":"O97*100+P97","v":1000306},2095,"蜩鸟和小麻雀对你的到来很好奇",{"$nulls":6},102,{"$f":"IF(J97=\"\",\"\",VLOOKUP(J97,EventNPC!A:E,5,FALSE))","v":"小麻雀"},2103,"（偏头想了想）目标？我天天在这里上蹿下跳，在附近树林飞来飞去，就已经很幸福啦。",null,10003,{"$f":"IF(O97=O96,P96+1,1)","v":6},"",null,null,{"$f":"IF(R97=\"\",\"\",\"-\"&VLOOKUP(R97,EventConditionConfig!A:C,3,FALSE)&IF(S97=\"\",\"\",CHAR(10)&\"-\"&VLOOKUP(S97,EventConditionConfig!A:C,3,FALSE)))","v":""},null,null,"",{"$nulls":8},1,1000307,null,2103]
[{"$f":"O98*100+P98","v":1000307},2095,"蜩鸟和小麻雀对你的到来很好奇",{"$nulls":6},102,{"$f":"IF(J98=\"\",\"\",VLOOKUP(J98,EventNPC!A:E,5,FALSE))","v":"小麻雀"},2104,"就那大傻鸟，非要飞那么远，又笨又蠢...真没意思。",null,10003,{"$f":"IF(O98=O97,P97+1,1)","v":7},"",null,null,{"$f":"IF(R98=\"\",\"\",\"-\"&VLOOKUP(R98,EventConditionConfig!A:C,3,FALSE)&IF(S98=\"\",\"\",CHAR(10)&\"-\"&VLOOKUP(S98,EventConditionConfig!A:C,3,FALSE)))","v":""},1,{"$f":"IF(U98=1,_xlfn.TEXTJOIN(\";\",1,IF(Z98=\"\",A98+1,Z98),IF(AND(AA98<>\"\",AC98=\"\"),A98+1,AC98)),IF(U98=2,Y98,\"\"))","v":"1000308;1000308"},"2105;2106",2105,"你说得也有一定道理…",null,2106,"你懂什么..这大鹏鸟可比你更有志向多了。",null,null,null,"","",null,2106]
[{"$f":"O99*100+P99","v":1000308},2095,"蜩鸟和小麻雀对你的到来很好奇",{"$nulls":6},101,{"$f":"IF(J99=\"\",\"\",VLOOKUP(J99,EventNPC!A:E,5,FALSE))","v":"蜩鸟"},2107,"（翻飞一圈）志向有什么用？到头来还不是风停了就落地。",null,10003,{"$f":"IF(O99=O98,P98+1,1)","v":8},"",null,null,{"$f":"IF(R99=\"\",\"\",\"-\"&VLOOKUP(R99,EventConditionConfig!A:C,3,FALSE)&IF(S99=\"\",\"\",CHAR(10)&\"-\"&VLOOKUP(S99,EventConditionConfig!A:C,3,FALSE)))","v":""},1,{"$f":"A100","v":1000309},"2108",2108,"......",{"$nulls":6},"","",null,2108]
[{"$f":"O100*100+P100","v":1000309},2095,"蜩鸟和小麻雀对你的到来很好奇",{"$nulls":7},{"$f":"IF(J100=\"\",\"\",VLOOKUP(J100,EventNPC!A:E,5,FALSE))","v":""},2109,"（此时，结界微动，一缕风穿林而过，古径阵法竟有一丝松动）",null,10003,{"$f":"IF(O100=O99,P99+1,1)","v":9},"",null,null,{"$f":"IF(R100=\"\",\"\",\"-\"&VLOOKUP(R100,EventConditionConfig!A:C,3,FALSE)&IF(S100=\"\",\"\",CHAR(10)&\"-\"&VLOOKUP(S100,EventConditionConfig!A:C,3,FALSE)))","v":""},null,null,"",{"$nulls":8},3,10004,null,2109]
[{"$nulls":16},"",null,null,{"$f":"IF(R101=\"\",\"\",\"-\"&VLOOKUP(R101,EventConditionConfig!A:C,3,FALSE)&IF(S101=\"\",\"\",CHAR(10)&\"-\"&VLOOKUP(S101,EventConditionConfig!A:C,3,FALSE)))","v":""},{"$nulls":11},"","",null,""]
[{"$f":"O102*100+P102","v":1000401},2110,"原来它们就是镇守阵法的结界兽",3185,"击败结界兽",{"$nulls":4},101,{"$f":"IF(J102=\"\",\"\",VLOOKUP(J102,EventNPC!A:E,5,FALSE))","v":"蜩鸟"},2111,"这结界似乎有所反应…",null,10004,{"$f":"IF(O102=O101,P101+1,1)","v":1},"",null,null,{"$f":"IF(R102=\"\",\"\",\"-\"&VLOOKUP(R102,EventConditionConfig!A:C,3,FALSE)&IF(S102=\"\",\"\",CHAR(10)&\"-\"&VLOOKUP(S102,EventConditionConfig!A:C,3,FALSE)))","v":""},1,{"$f":"A103","v":1000402},{"$f":"_xlfn.TEXTJOIN(\";\",1,X102,AA102)","v":"2112"},2112,"与你们聊天很有意思，不过今天我是非过去不可，没人能阻止我重返仙途！",{"$nulls":6},"","",null,3185]
[{"$f":"O103*100+P103","v":1000402},2110,"原来它们就是镇守阵法的结界兽",3185,"击败结界兽",{"$nulls":4},102,{"$f":"IF(J103=\"\",\"\",VLOOKUP(J103,EventNPC!A:E,5,FALSE))","v":"小麻雀"},2113,"\"小鸟..\"现身吧！",null,10004,{"$f":"IF(O103=O102,P102+1,1)","v":2},"",null,null,{"$f":"IF(R103=\"\",\"\",\"-\"&VLOOKUP(R103,EventConditionConfig!A:C,3,FALSE)&IF(S103=\"\",\"\",CHAR(10)&\"-\"&VLOOKUP(S103,EventConditionConfig!A:C,3,FALSE)))","v":""},null,null,{"$f":"_xlfn.TEXTJOIN(\";\",1,X103,AA103)","v":""},{"$nulls":8},{"$f":"IF(A103=\"\",\"\",IF(U103=1,\"\",IF(A104=\"\",3,1)))","v":1},{"$f":"IF(AF103=1,A104,IF(AF103=3,LEFT(A103,5)+1,\"\"))","v":1000403},null,3185]
[{"$f":"O104*100+P104","v":1000403},2110,"原来它们就是镇守阵法的结界兽",3185,"击败结界兽",{"$nulls":4},101,{"$f":"IF(J104=\"\",\"\",VLOOKUP(J104,EventNPC!A:E,5,FALSE))","v":"蜩鸟"},2114,"（轻轻飞下来..）又来...来吧来吧..",null,10004,{"$f":"IF(O104=O103,P103+1,1)","v":3},"",null,null,{"$f":"IF(R104=\"\",\"\",\"-\"&VLOOKUP(R104,EventConditionConfig!A:C,3,FALSE)&IF(S104=\"\",\"\",CHAR(10)&\"-\"&VLOOKUP(S104,EventConditionConfig!A:C,3,FALSE)))","v":""},2,100001,{"$f":"_xlfn.TEXTJOIN(\";\",1,X104,AA104)","v":""},{"$nulls":8},2,"1000404;101",null,3185]
[{"$f":"O105*100+P105","v":1000404},2110,"原来它们就是镇守阵法的结界兽",{"$nulls":6},102,{"$f":"IF(J105=\"\",\"\",VLOOKUP(J105,EventNPC!A:E,5,FALSE))","v":"小麻雀"},2115,"这么想过去，就去吧...",null,10004,{"$f":"IF(O105=O104,P104+1,1)","v":4},"",null,null,{"$f":"IF(R105=\"\",\"\",\"-\"&VLOOKUP(R105,EventConditionConfig!A:C,3,FALSE)&IF(S105=\"\",\"\",CHAR(10)&\"-\"&VLOOKUP(S105,EventConditionConfig!A:C,3,FALSE)))","v":""},null,null,{"$f":"_xlfn.TEXTJOIN(\";\",1,X105,AA105)","v":""},{"$nulls":8},{"$f":"IF(A105=\"\",\"\",IF(U105=1,\"\",IF(A106=\"\",3,1)))","v":3},{"$f":"IF(AF105=1,A106,IF(AF105=3,LEFT(A105,5)+1,\"\"))","v":10005},null,2115]
[{"$nulls":16},"",null,null,{"$f":"IF(R106=\"\",\"\",\"-\"&VLOOKUP(R106,EventConditionConfig!A:C,3,FALSE)&IF(S106=\"\",\"\",CHAR(10)&\"-\"&VLOOKUP(S106,EventConditionConfig!A:C,3,FALSE)))","v":""},{"$nulls":14},""]
[{"$f":"O107*100+P107","v":1000501},2151,"初见疯道人",{"$nulls":7},{"$f":"IF(J107=\"\",\"\",VLOOKUP(J107,EventNPC!A:E,5,FALSE))","v":""},2116,"你穿过古径结界，来到一片被风托起的浮空灵岛群。",null,10005,{"$f":"IF(O107=O106,P106+1,1)","v":1},"",null,null,{"$f":"IF(R107=\"\",\"\",\"-\"&VLOOKUP(R107,EventConditionConfig!A:C,3,FALSE)&IF(S107=\"\",\"\",CHAR(10)&\"-\"&VLOOKUP(S107,EventConditionConfig!A:C,3,FALSE)))","v":""},null,null,{"$f":"_xlfn.TEXTJOIN(\";\",1,X107,AA107)","v":""},{"$nulls":8},{"$f":"IF(A107=\"\",\"\",IF(U107=1,\"\",IF(A108=\"\",3,1)))","v":1},{"$f":"IF(AF107=1,A108,IF(AF107=3,LEFT(A107,5)+1,\"\"))","v":1000502},null,2151]
[{"$f":"O108*100+P108","v":1000502},2151,"初见疯道人",{"$nulls":7},{"$f":"IF(J108=\"\",\"\",VLOOKUP(J108,EventNPC!A:E,5,FALSE))","v":""},2117,"风势强劲，岛与岛之间缝隙深不见底，无桥无梯。",null,10005,{"$f":"IF(O108=O107,P107+1,1)","v":2},"",null,null,{"$f":"IF(R108=\"\",\"\",\"-\"&VLOOKUP(R108,EventConditionConfig!A:C,3,FALSE)&IF(S108=\"\",\"\",CHAR(10)&\"-\"&VLOOKUP(S108,EventConditionConfig!A:C,3,FALSE)))","v":""},null,null,"",{"$nulls":8},{"$f":"IF(A108=\"\",\"\",IF(U108=1,\"\",IF(A109=\"\",3,1)))","v":1},{"$f":"IF(AF108=1,A109,IF(AF108=3,LEFT(A108,5)+1,\"\"))","v":1000503},null,2151]
[{"$f":"O109*100+P109","v":1000503},2151,"初见疯道人",{"$nulls":7},{"$f":"IF(J109=\"\",\"\",VLOOKUP(J109,EventNPC!A:E,5,FALSE))","v":""},2118,"此处盘踞一位神秘道人，常独自站在岛边望风，仿佛等待什么。",null,10005,{"$f":"IF(O109=O108,P108+1,1)","v":3},"",null,null,{"$f":"IF(R109=\"\",\"\",\"-\"&VLOOKUP(R109,EventConditionConfig!A:C,3,FALSE)&IF(S109=\"\",\"\",CHAR(10)&\"-\"&VLOOKUP(S109,EventConditionConfig!A:C,3,FALSE)))","v":""},null,null,"",{"$nulls":8},{"$f":"IF(A109=\"\",\"\",IF(U109=1,\"\",IF(A110=\"\",3,1)))","v":1},{"$f":"IF(AF109=1,A110,IF(AF109=3,LEFT(A109,5)+1,\"\"))","v":1000504},null,2151]
[{"$f":"O110*100+P110","v":1000504},2151,"初见疯道人",{"$nulls":7},{"$f":"IF(J110=\"\",\"\",VLOOKUP(J110,EventNPC!A:E,5,FALSE))","v":""},2119,"（你尝试御剑，却在风中打转，被吹回原地）",null,10005,{"$f":"IF(O110=O109,P109+1,1)","v":4},"",null,null,{"$f":"IF(R110=\"\",\"\",\"-\"&VLOOKUP(R110,EventConditionConfig!A:C,3,FALSE)&IF(S110=\"\",\"\",CHAR(10)&\"-\"&VLOOKUP(S110,EventConditionConfig!A:C,3,FALSE)))","v":""},1,{"$f":"A111","v":1000505},"2120",2120,"前辈，这里的风太大，我无法飞行，请教如何才能通过？",{"$nulls":6},{"$f":"IF(A110=\"\",\"\",IF(U110=1,\"\",IF(A111=\"\",3,1)))","v":""},{"$f":"IF(AF110=1,A111,IF(AF110=3,LEFT(A110,5)+1,\"\"))","v":""},null,2151]
[1000505,2151,"初见疯道人",{"$nulls":6},103,{"$f":"IF(J111=\"\",\"\",VLOOKUP(J111,EventNPC!A:E,5,FALSE))","v":"疯道人"},2121,"......",null,10005,5,"",null,null,{"$f":"IF(R111=\"\",\"\",\"-\"&VLOOKUP(R111,EventConditionConfig!A:C,3,FALSE)&IF(S111=\"\",\"\",CHAR(10)&\"-\"&VLOOKUP(S111,EventConditionConfig!A:C,3,FALSE)))","v":""},1,{"$f":"A112","v":1000506},"2122",2122,"前辈，我准备前往北海深处，寻鲲鹏。",{"$nulls":6},"","",null,2151]
[1000506,2151,"初见疯道人",{"$nulls":6},103,{"$f":"IF(J112=\"\",\"\",VLOOKUP(J112,EventNPC!A:E,5,FALSE))","v":"疯道人"},2123,"鲲鹏？……世间竟还有人记得它。",null,10005,6,"",null,null,{"$f":"IF(R112=\"\",\"\",\"-\"&VLOOKUP(R112,EventConditionConfig!A:C,3,FALSE)&IF(S112=\"\",\"\",CHAR(10)&\"-\"&VLOOKUP(S112,EventConditionConfig!A:C,3,FALSE)))","v":""},null,null,"",{"$nulls":8},1,1000507,null,2151]
[{"$f":"O113*100+P113","v":1000507},2151,"初见疯道人",{"$nulls":6},103,{"$f":"IF(J113=\"\",\"\",VLOOKUP(J113,EventNPC!A:E,5,FALSE))","v":"疯道人"},2124,"（说着从手中掏出一个碎片，往空中一震，瞬间风停）过来吧。",null,10005,{"$f":"IF(O113=O112,P112+1,1)","v":7},"",null,null,{"$f":"IF(R113=\"\",\"\",\"-\"&VLOOKUP(R113,EventConditionConfig!A:C,3,FALSE)&IF(S113=\"\",\"\",CHAR(10)&\"-\"&VLOOKUP(S113,EventConditionConfig!A:C,3,FALSE)))","v":""},null,null,"",{"$nulls":8},{"$f":"IF(A113=\"\",\"\",IF(U113=1,\"\",IF(A114=\"\",3,1)))","v":1},{"$f":"IF(AF113=1,A114,IF(AF113=3,LEFT(A113,5)+1,\"\"))","v":1000508},null,2151]
[{"$f":"O114*100+P114","v":1000508},2151,"初见疯道人",{"$nulls":6},103,{"$f":"IF(J114=\"\",\"\",VLOOKUP(J114,EventNPC!A:E,5,FALSE))","v":"疯道人"},2125,"说吧，为何寻那鲲鹏？",null,10005,{"$f":"IF(O114=O113,P113+1,1)","v":8},"",null,null,{"$f":"IF(R114=\"\",\"\",\"-\"&VLOOKUP(R114,EventConditionConfig!A:C,3,FALSE)&IF(S114=\"\",\"\",CHAR(10)&\"-\"&VLOOKUP(S114,EventConditionConfig!A:C,3,FALSE)))","v":""},1,{"$f":"IF(U114=1,_xlfn.TEXTJOIN(\";\",1,IF(Z114=\"\",A114+1,Z114),IF(AND(AA114<>\"\",AC114=\"\"),A114+1,AC114)),IF(U114=2,Y114,\"\"))","v":"1000509;1000509"},"2126;2127",2126,"冲虚真人让我去的",null,2127,"我只是好奇..",null,null,null,{"$f":"IF(A114=\"\",\"\",IF(U114=1,\"\",IF(A115=\"\",3,1)))","v":""},{"$f":"IF(AF114=1,A115,IF(AF114=3,LEFT(A114,5)+1,\"\"))","v":""},null,2151]
[1000509,2151,"初见疯道人",{"$nulls":6},103,{"$f":"IF(J115=\"\",\"\",VLOOKUP(J115,EventNPC!A:E,5,FALSE))","v":"疯道人"},2128,"你可知鹏飞九万里，需凭借龙卷风，才可达成？",null,10005,9,"",null,null,{"$f":"IF(R115=\"\",\"\",\"-\"&VLOOKUP(R115,EventConditionConfig!A:C,3,FALSE)&IF(S115=\"\",\"\",CHAR(10)&\"-\"&VLOOKUP(S115,EventConditionConfig!A:C,3,FALSE)))","v":""},1,{"$f":"A116","v":1000510},"2129",2129,"请前辈赐教......",{"$nulls":6},"","",null,2151]
[1000510,2151,"初见疯道人",{"$nulls":6},103,{"$f":"IF(J116=\"\",\"\",VLOOKUP(J116,EventNPC!A:E,5,FALSE))","v":"疯道人"},2130,"看你修为尚浅，跟你说多了也无用。",null,10005,10,"",null,null,{"$f":"IF(R116=\"\",\"\",\"-\"&VLOOKUP(R116,EventConditionConfig!A:C,3,FALSE)&IF(S116=\"\",\"\",CHAR(10)&\"-\"&VLOOKUP(S116,EventConditionConfig!A:C,3,FALSE)))","v":""},null,null,"",{"$nulls":8},1,1000511,null,2151]
[{"$f":"O117*100+P117","v":1000511},2151,"初见疯道人",{"$nulls":6},103,{"$f":"IF(J117=\"\",\"\",VLOOKUP(J117,EventNPC!A:E,5,FALSE))","v":"疯道人"},2131,"再往前是我师弟的洞府了，他可不好说话。",null,10005,{"$f":"IF(O117=O116,P116+1,1)","v":11},"",null,null,{"$f":"IF(R117=\"\",\"\",\"-\"&VLOOKUP(R117,EventConditionConfig!A:C,3,FALSE)&IF(S117=\"\",\"\",CHAR(10)&\"-\"&VLOOKUP(S117,EventConditionConfig!A:C,3,FALSE)))","v":""},null,null,"",{"$nulls":8},{"$f":"IF(A117=\"\",\"\",IF(U117=1,\"\",IF(A118=\"\",3,1)))","v":1},{"$f":"IF(AF117=1,A118,IF(AF117=3,LEFT(A117,5)+1,\"\"))","v":1000512},null,2151]
[{"$f":"O118*100+P118","v":1000512},2151,"初见疯道人",{"$nulls":6},103,{"$f":"IF(J118=\"\",\"\",VLOOKUP(J118,EventNPC!A:E,5,FALSE))","v":"疯道人"},2132,"就在我这附近好好修炼吧，至少提升至筑基修为。",null,10005,{"$f":"IF(O118=O117,P117+1,1)","v":12},"",null,null,{"$f":"IF(R118=\"\",\"\",\"-\"&VLOOKUP(R118,EventConditionConfig!A:C,3,FALSE)&IF(S118=\"\",\"\",CHAR(10)&\"-\"&VLOOKUP(S118,EventConditionConfig!A:C,3,FALSE)))","v":""},1,{"$f":"A119","v":1000513},"2133",2133,"前辈为何如此助我？",{"$nulls":6},{"$f":"IF(A118=\"\",\"\",IF(U118=1,\"\",IF(A119=\"\",3,1)))","v":""},{"$f":"IF(AF118=1,A119,IF(AF118=3,LEFT(A118,5)+1,\"\"))","v":""},null,2151]
[1000513,2151,"初见疯道人",{"$nulls":6},103,{"$f":"IF(J119=\"\",\"\",VLOOKUP(J119,EventNPC!A:E,5,FALSE))","v":"疯道人"},2134,"（疯道人望你一眼，没有回答，但丢过来一本功法）修到[筑基-中期]再来找我。",null,10005,13,"",null,null,{"$f":"IF(R119=\"\",\"\",\"-\"&VLOOKUP(R119,EventConditionConfig!A:C,3,FALSE)&IF(S119=\"\",\"\",CHAR(10)&\"-\"&VLOOKUP(S119,EventConditionConfig!A:C,3,FALSE)))","v":""},null,null,"",{"$nulls":8},1,1000514,null,2151]
[{"$f":"O120*100+P120","v":1000514},2151,"初见疯道人",{"$nulls":7},{"$f":"IF(J120=\"\",\"\",VLOOKUP(J120,EventNPC!A:E,5,FALSE))","v":""},null,null,null,10005,{"$f":"IF(O120=O119,P119+1,1)","v":14},"2",2,null,{"$f":"IF(R120=\"\",\"\",\"-\"&VLOOKUP(R120,EventConditionConfig!A:C,3,FALSE)&IF(S120=\"\",\"\",CHAR(10)&\"-\"&VLOOKUP(S120,EventConditionConfig!A:C,3,FALSE)))","v":"-达到境界：筑基-中期"},null,null,"",{"$nulls":8},{"$f":"IF(A120=\"\",\"\",IF(U120=1,\"\",IF(A121=\"\",3,1)))","v":3},{"$f":"IF(AF120=1,A121,IF(AF120=3,LEFT(A120,5)+1,\"\"))","v":10006},null,2151]
[{"$nulls":16},"",null,null,{"$f":"IF(R121=\"\",\"\",\"-\"&VLOOKUP(R121,EventConditionConfig!A:C,3,FALSE)&IF(S121=\"\",\"\",CHAR(10)&\"-\"&VLOOKUP(S121,EventConditionConfig!A:C,3,FALSE)))","v":""},{"$nulls":14},""]
[{"$f":"O122*100+P122","v":1000601},2152,"疯道人赠与一半风灵珠",{"$nulls":6},103,{"$f":"IF(J122=\"\",\"\",VLOOKUP(J122,EventNPC!A:E,5,FALSE))","v":"疯道人"},2139,"你已突破筑基前期达到中期，灵力通畅，是时候去会一会我的师弟了。",null,10006,{"$f":"IF(O122=O121,P121+1,1)","v":1},"",null,null,{"$f":"IF(R122=\"\",\"\",\"-\"&VLOOKUP(R122,EventConditionConfig!A:C,3,FALSE)&IF(S122=\"\",\"\",CHAR(10)&\"-\"&VLOOKUP(S122,EventConditionConfig!A:C,3,FALSE)))","v":""},1,"1000603;1000602",{"$f":"_xlfn.TEXTJOIN(\";\",1,X122,AA122)","v":"2140;2141"},2140,"是的。鲲鹏之行，志在必达。",null,2141,"看看风的尽头到底有什么。",null,null,null,{"$f":"IF(A122=\"\",\"\",IF(U122=1,\"\",IF(A123=\"\",3,1)))","v":""},{"$f":"IF(AF122=1,A123,IF(AF122=3,LEFT(A122,5)+1,\"\"))","v":""},null,2152]
[{"$f":"O123*100+P123","v":1000602},2152,"疯道人赠与一半风灵珠",{"$nulls":6},103,{"$f":"IF(J123=\"\",\"\",VLOOKUP(J123,EventNPC!A:E,5,FALSE))","v":"疯道人"},2142,"（轻轻一笑）你说风的尽头……我也曾想看。\n（他望向远处翻涌的云海）",null,10006,{"$f":"IF(O123=O122,P122+1,1)","v":2},"",null,null,{"$f":"IF(R123=\"\",\"\",\"-\"&VLOOKUP(R123,EventConditionConfig!A:C,3,FALSE)&IF(S123=\"\",\"\",CHAR(10)&\"-\"&VLOOKUP(S123,EventConditionConfig!A:C,3,FALSE)))","v":""},1,{"$f":"A124","v":1000603},2140,2140,"是的。鲲鹏之行，志在必达。",{"$nulls":6},{"$f":"IF(A123=\"\",\"\",IF(U123=1,\"\",IF(A124=\"\",3,1)))","v":""},{"$f":"IF(AF123=1,A124,IF(AF123=3,LEFT(A123,5)+1,\"\"))","v":""},null,2152]
[{"$f":"O124*100+P124","v":1000603},2152,"疯道人赠与一半风灵珠",{"$nulls":6},103,{"$f":"IF(J124=\"\",\"\",VLOOKUP(J124,EventNPC!A:E,5,FALSE))","v":"疯道人"},2143,"我和师弟，共守这处风眼多年。我想出去，他却偏要留。",null,10006,{"$f":"IF(O124=O123,P123+1,1)","v":3},"",null,null,{"$f":"IF(R124=\"\",\"\",\"-\"&VLOOKUP(R124,EventConditionConfig!A:C,3,FALSE)&IF(S124=\"\",\"\",CHAR(10)&\"-\"&VLOOKUP(S124,EventConditionConfig!A:C,3,FALSE)))","v":""},null,null,"",{"$nulls":8},{"$f":"IF(A124=\"\",\"\",IF(U124=1,\"\",IF(A125=\"\",3,1)))","v":1},{"$f":"IF(AF124=1,A125,IF(AF124=3,LEFT(A124,5)+1,\"\"))","v":1000604},null,2152]
[{"$f":"O125*100+P125","v":1000604},2152,"疯道人赠与一半风灵珠",{"$nulls":6},103,{"$f":"IF(J125=\"\",\"\",VLOOKUP(J125,EventNPC!A:E,5,FALSE))","v":"疯道人"},2144,"风灵珠碎成两半，一半在我这里，另一半……在他洞府中。",null,10006,{"$f":"IF(O125=O124,P124+1,1)","v":4},"",null,null,{"$f":"IF(R125=\"\",\"\",\"-\"&VLOOKUP(R125,EventConditionConfig!A:C,3,FALSE)&IF(S125=\"\",\"\",CHAR(10)&\"-\"&VLOOKUP(S125,EventConditionConfig!A:C,3,FALSE)))","v":""},null,null,"",{"$nulls":8},{"$f":"IF(A125=\"\",\"\",IF(U125=1,\"\",IF(A126=\"\",3,1)))","v":1},{"$f":"IF(AF125=1,A126,IF(AF125=3,LEFT(A125,5)+1,\"\"))","v":1000605},null,2152]
[{"$f":"O126*100+P126","v":1000605},2152,"疯道人赠与一半风灵珠",{"$nulls":6},103,{"$f":"IF(J126=\"\",\"\",VLOOKUP(J126,EventNPC!A:E,5,FALSE))","v":"疯道人"},2145,"你若想见鲲鹏，必须要集齐整个风灵珠。",null,10006,{"$f":"IF(O126=O125,P125+1,1)","v":5},"",null,null,{"$f":"IF(R126=\"\",\"\",\"-\"&VLOOKUP(R126,EventConditionConfig!A:C,3,FALSE)&IF(S126=\"\",\"\",CHAR(10)&\"-\"&VLOOKUP(S126,EventConditionConfig!A:C,3,FALSE)))","v":""},null,null,"",{"$nulls":8},{"$f":"IF(A126=\"\",\"\",IF(U126=1,\"\",IF(A127=\"\",3,1)))","v":1},{"$f":"IF(AF126=1,A127,IF(AF126=3,LEFT(A126,5)+1,\"\"))","v":1000606},null,2152]
[{"$f":"O127*100+P127","v":1000606},2152,"疯道人赠与一半风灵珠",{"$nulls":6},103,{"$f":"IF(J127=\"\",\"\",VLOOKUP(J127,EventNPC!A:E,5,FALSE))","v":"疯道人"},2146,"我这一半给你，可助你在大风中，来去自如。",null,10006,{"$f":"IF(O127=O126,P126+1,1)","v":6},"",null,null,{"$f":"IF(R127=\"\",\"\",\"-\"&VLOOKUP(R127,EventConditionConfig!A:C,3,FALSE)&IF(S127=\"\",\"\",CHAR(10)&\"-\"&VLOOKUP(S127,EventConditionConfig!A:C,3,FALSE)))","v":""},null,null,"",{"$nulls":8},{"$f":"IF(A127=\"\",\"\",IF(U127=1,\"\",IF(A128=\"\",3,1)))","v":3},{"$f":"IF(AF127=1,A128,IF(AF127=3,LEFT(A127,5)+1,\"\"))","v":10007},null,2152]
[{"$nulls":16},"",null,null,{"$f":"IF(R128=\"\",\"\",\"-\"&VLOOKUP(R128,EventConditionConfig!A:C,3,FALSE)&IF(S128=\"\",\"\",CHAR(10)&\"-\"&VLOOKUP(S128,EventConditionConfig!A:C,3,FALSE)))","v":""},{"$nulls":14},""]
[{"$f":"O129*100+P129","v":1000701},2153,"没想到痴道人一来就要与你交手",{"$nulls":7},{"$f":"IF(J129=\"\",\"\",VLOOKUP(J129,EventNPC!A:E,5,FALSE))","v":""},2147,"你获得了疯道人的半颗风灵珠，在狂风中自由飞行，好不自在。",null,10007,{"$f":"IF(O129=O128,P128+1,1)","v":1},"",null,null,{"$f":"IF(R129=\"\",\"\",\"-\"&VLOOKUP(R129,EventConditionConfig!A:C,3,FALSE)&IF(S129=\"\",\"\",CHAR(10)&\"-\"&VLOOKUP(S129,EventConditionConfig!A:C,3,FALSE)))","v":""},null,null,{"$f":"_xlfn.TEXTJOIN(\";\",1,X129,AA129)","v":""},{"$nulls":8},{"$f":"IF(A129=\"\",\"\",IF(U129=1,\"\",IF(A130=\"\",3,1)))","v":1},{"$f":"IF(AF129=1,A130,IF(AF129=3,LEFT(A129,5)+1,\"\"))","v":1000702},null,2153]
[{"$f":"O130*100+P130","v":1000702},2153,"没想到痴道人一来就要与你交手",{"$nulls":7},{"$f":"IF(J130=\"\",\"\",VLOOKUP(J130,EventNPC!A:E,5,FALSE))","v":""},2148,"这......就是逍遥游吗？",null,10007,{"$f":"IF(O130=O129,P129+1,1)","v":2},"",null,null,{"$f":"IF(R130=\"\",\"\",\"-\"&VLOOKUP(R130,EventConditionConfig!A:C,3,FALSE)&IF(S130=\"\",\"\",CHAR(10)&\"-\"&VLOOKUP(S130,EventConditionConfig!A:C,3,FALSE)))","v":""},null,null,{"$f":"_xlfn.TEXTJOIN(\";\",1,X130,AA130)","v":""},{"$nulls":8},{"$f":"IF(A130=\"\",\"\",IF(U130=1,\"\",IF(A131=\"\",3,1)))","v":1},{"$f":"IF(AF130=1,A131,IF(AF130=3,LEFT(A130,5)+1,\"\"))","v":1000703},null,2153]
[{"$f":"O131*100+P131","v":1000703},2153,"没想到痴道人一来就要与你交手",{"$nulls":6},104,{"$f":"IF(J131=\"\",\"\",VLOOKUP(J131,EventNPC!A:E,5,FALSE))","v":"痴道人"},2149,"你终于来了......",null,10007,{"$f":"IF(O131=O130,P130+1,1)","v":3},"",null,null,{"$f":"IF(R131=\"\",\"\",\"-\"&VLOOKUP(R131,EventConditionConfig!A:C,3,FALSE)&IF(S131=\"\",\"\",CHAR(10)&\"-\"&VLOOKUP(S131,EventConditionConfig!A:C,3,FALSE)))","v":""},1,{"$f":"A132","v":1000704},{"$f":"_xlfn.TEXTJOIN(\";\",1,X131,AA131)","v":"2150"},2150,"你知道我要来？",{"$nulls":6},{"$f":"IF(A131=\"\",\"\",IF(U131=1,\"\",IF(A132=\"\",3,1)))","v":""},{"$f":"IF(AF131=1,A132,IF(AF131=3,LEFT(A131,5)+1,\"\"))","v":""},null,2153]
[{"$f":"O132*100+P132","v":1000704},2153,"没想到痴道人一来就要与你交手",{"$nulls":6},104,{"$f":"IF(J132=\"\",\"\",VLOOKUP(J132,EventNPC!A:E,5,FALSE))","v":"痴道人"},2154,"多说无益，我早已感应到你身上的半颗风灵珠。必是那疯老头让来的。出手吧！",null,10007,{"$f":"IF(O132=O131,P131+1,1)","v":4},"",null,null,{"$f":"IF(R132=\"\",\"\",\"-\"&VLOOKUP(R132,EventConditionConfig!A:C,3,FALSE)&IF(S132=\"\",\"\",CHAR(10)&\"-\"&VLOOKUP(S132,EventConditionConfig!A:C,3,FALSE)))","v":""},2,100004,{"$f":"_xlfn.TEXTJOIN(\";\",1,X132,AA132)","v":""},{"$nulls":8},2,"1000705;101",null,2154]
[1000705,2153,"没想到痴道人一来就要与你交手",{"$nulls":6},104,{"$f":"IF(J133=\"\",\"\",VLOOKUP(J133,EventNPC!A:E,5,FALSE))","v":"痴道人"},2155,"（被击倒在一边）够了！",null,10007,5,"",null,null,{"$f":"IF(R133=\"\",\"\",\"-\"&VLOOKUP(R133,EventConditionConfig!A:C,3,FALSE)&IF(S133=\"\",\"\",CHAR(10)&\"-\"&VLOOKUP(S133,EventConditionConfig!A:C,3,FALSE)))","v":""},null,null,{"$f":"_xlfn.TEXTJOIN(\";\",1,X133,AA133)","v":""},{"$nulls":8},{"$f":"IF(A133=\"\",\"\",IF(U133=1,\"\",IF(A134=\"\",3,1)))","v":3},{"$f":"IF(AF133=1,A134,IF(AF133=3,LEFT(A133,5)+1,\"\"))","v":10008},null,2155]
[{"$nulls":16},"",null,null,{"$f":"IF(R134=\"\",\"\",\"-\"&VLOOKUP(R134,EventConditionConfig!A:C,3,FALSE)&IF(S134=\"\",\"\",CHAR(10)&\"-\"&VLOOKUP(S134,EventConditionConfig!A:C,3,FALSE)))","v":""},{"$nulls":14},""]
[{"$f":"O135*100+P135","v":1000801},2156,"疯痴相聚",{"$nulls":6},104,{"$f":"IF(J135=\"\",\"\",VLOOKUP(J135,EventNPC!A:E,5,FALSE))","v":"痴道人"},2157,"......",null,10008,{"$f":"IF(O135=O134,P134+1,1)","v":1},"",null,null,{"$f":"IF(R135=\"\",\"\",\"-\"&VLOOKUP(R135,EventConditionConfig!A:C,3,FALSE)&IF(S135=\"\",\"\",CHAR(10)&\"-\"&VLOOKUP(S135,EventConditionConfig!A:C,3,FALSE)))","v":""},1,{"$f":"A136","v":1000802},{"$f":"_xlfn.TEXTJOIN(\";\",1,X135,AA135)","v":"2158"},2158,"（你靠近痴道人）你真的想一直留在这里？你师兄说你不肯走。",{"$nulls":6},{"$f":"IF(A135=\"\",\"\",IF(U135=1,\"\",IF(A136=\"\",3,1)))","v":""},{"$f":"IF(AF135=1,A136,IF(AF135=3,LEFT(A135,5)+1,\"\"))","v":""},null,2158]
[1000802,2156,"疯痴相聚",{"$nulls":6},104,{"$f":"IF(J136=\"\",\"\",VLOOKUP(J136,EventNPC!A:E,5,FALSE))","v":"痴道人"},2159,"你修炼的时候，有没有过那种感觉——身边的人都在往前走，只有你还在原地。",null,10008,2,"",null,null,{"$f":"IF(R136=\"\",\"\",\"-\"&VLOOKUP(R136,EventConditionConfig!A:C,3,FALSE)&IF(S136=\"\",\"\",CHAR(10)&\"-\"&VLOOKUP(S136,EventConditionConfig!A:C,3,FALSE)))","v":""},null,null,"",{"$nulls":8},1,1000803,null,2159]
[{"$f":"O137*100+P137","v":1000803},2156,"疯痴相聚",{"$nulls":6},104,{"$f":"IF(J137=\"\",\"\",VLOOKUP(J137,EventNPC!A:E,5,FALSE))","v":"痴道人"},2160,"我师兄，他悟性极高，一年就能走我三年的路。我不服气，想努力赶上他。",null,10008,{"$f":"IF(O137=O136,P136+1,1)","v":3},"",null,null,{"$f":"IF(R137=\"\",\"\",\"-\"&VLOOKUP(R137,EventConditionConfig!A:C,3,FALSE)&IF(S137=\"\",\"\",CHAR(10)&\"-\"&VLOOKUP(S137,EventConditionConfig!A:C,3,FALSE)))","v":""},1,{"$f":"A138","v":1000804},"2161",2161,"然后呢？",{"$nulls":6},{"$f":"IF(A137=\"\",\"\",IF(U137=1,\"\",IF(A138=\"\",3,1)))","v":""},{"$f":"IF(AF137=1,A138,IF(AF137=3,LEFT(A137,5)+1,\"\"))","v":""},null,2161]
[{"$f":"O138*100+P138","v":1000804},2156,"疯痴相聚",{"$nulls":6},104,{"$f":"IF(J138=\"\",\"\",VLOOKUP(J138,EventNPC!A:E,5,FALSE))","v":"痴道人"},2162,"我一直苦心修炼，可人也困在这儿了……越修炼，越困难，修不动了。",null,10008,{"$f":"IF(O138=O137,P137+1,1)","v":4},"",null,null,{"$f":"IF(R138=\"\",\"\",\"-\"&VLOOKUP(R138,EventConditionConfig!A:C,3,FALSE)&IF(S138=\"\",\"\",CHAR(10)&\"-\"&VLOOKUP(S138,EventConditionConfig!A:C,3,FALSE)))","v":""},null,null,"",{"$nulls":8},{"$f":"IF(A138=\"\",\"\",IF(U138=1,\"\",IF(A139=\"\",3,1)))","v":1},{"$f":"IF(AF138=1,A139,IF(AF138=3,LEFT(A138,5)+1,\"\"))","v":1000805},null,2162]
[{"$f":"O139*100+P139","v":1000805},2156,"疯痴相聚",{"$nulls":7},{"$f":"IF(J139=\"\",\"\",VLOOKUP(J139,EventNPC!A:E,5,FALSE))","v":""},2163,"[此时，疯道人踏风而至，就在几步之外]",null,10008,{"$f":"IF(O139=O138,P138+1,1)","v":5},"",null,null,{"$f":"IF(R139=\"\",\"\",\"-\"&VLOOKUP(R139,EventConditionConfig!A:C,3,FALSE)&IF(S139=\"\",\"\",CHAR(10)&\"-\"&VLOOKUP(S139,EventConditionConfig!A:C,3,FALSE)))","v":""},null,null,"",{"$nulls":8},{"$f":"IF(A139=\"\",\"\",IF(U139=1,\"\",IF(A140=\"\",3,1)))","v":1},{"$f":"IF(AF139=1,A140,IF(AF139=3,LEFT(A139,5)+1,\"\"))","v":1000806},null,2163]
[{"$f":"O140*100+P140","v":1000806},2156,"疯痴相聚",{"$nulls":6},103,{"$f":"IF(J140=\"\",\"\",VLOOKUP(J140,EventNPC!A:E,5,FALSE))","v":"疯道人"},2164,"师弟，你修着修着，就不记得一开始，是为了什么而修行。",null,10008,{"$f":"IF(O140=O139,P139+1,1)","v":6},"",null,null,{"$f":"IF(R140=\"\",\"\",\"-\"&VLOOKUP(R140,EventConditionConfig!A:C,3,FALSE)&IF(S140=\"\",\"\",CHAR(10)&\"-\"&VLOOKUP(S140,EventConditionConfig!A:C,3,FALSE)))","v":""},null,null,"",{"$nulls":8},{"$f":"IF(A140=\"\",\"\",IF(U140=1,\"\",IF(A141=\"\",3,1)))","v":1},{"$f":"IF(AF140=1,A141,IF(AF140=3,LEFT(A140,5)+1,\"\"))","v":1000807},null,2164]
[{"$f":"O141*100+P141","v":1000807},2156,"疯痴相聚",{"$nulls":6},104,{"$f":"IF(J141=\"\",\"\",VLOOKUP(J141,EventNPC!A:E,5,FALSE))","v":"痴道人"},2165,"（抬头）......我，我真的不记得了。",null,10008,{"$f":"IF(O141=O140,P140+1,1)","v":7},"",null,null,{"$f":"IF(R141=\"\",\"\",\"-\"&VLOOKUP(R141,EventConditionConfig!A:C,3,FALSE)&IF(S141=\"\",\"\",CHAR(10)&\"-\"&VLOOKUP(S141,EventConditionConfig!A:C,3,FALSE)))","v":""},null,null,"",{"$nulls":8},{"$f":"IF(A141=\"\",\"\",IF(U141=1,\"\",IF(A142=\"\",3,1)))","v":1},{"$f":"IF(AF141=1,A142,IF(AF141=3,LEFT(A141,5)+1,\"\"))","v":1000808},null,2165]
[{"$f":"O142*100+P142","v":1000808},2156,"疯痴相聚",{"$nulls":6},103,{"$f":"IF(J142=\"\",\"\",VLOOKUP(J142,EventNPC!A:E,5,FALSE))","v":"疯道人"},2166,"那就放下风灵珠，和我出去走走。",null,10008,{"$f":"IF(O142=O141,P141+1,1)","v":8},"",null,null,{"$f":"IF(R142=\"\",\"\",\"-\"&VLOOKUP(R142,EventConditionConfig!A:C,3,FALSE)&IF(S142=\"\",\"\",CHAR(10)&\"-\"&VLOOKUP(S142,EventConditionConfig!A:C,3,FALSE)))","v":""},null,null,"",{"$nulls":8},{"$f":"IF(A142=\"\",\"\",IF(U142=1,\"\",IF(A143=\"\",3,1)))","v":1},{"$f":"IF(AF142=1,A143,IF(AF142=3,LEFT(A142,5)+1,\"\"))","v":1000809},null,{"$f":"IF(A142=\"\",\"\",MAX(B142,D142,L142,X142,AA142))","v":2166}]
[{"$f":"O143*100+P143","v":1000809},2156,"疯痴相聚",{"$nulls":6},103,{"$f":"IF(J143=\"\",\"\",VLOOKUP(J143,EventNPC!A:E,5,FALSE))","v":"疯道人"},2167,"[痴道人楞了一下，片刻后轻轻点头]",null,10008,{"$f":"IF(O143=O142,P142+1,1)","v":9},{"$f":"_xlfn.TEXTJOIN(\";\",1,R143:S143)","v":""},null,null,{"$f":"IF(R143=\"\",\"\",\"-\"&VLOOKUP(R143,EventConditionConfig!A:C,3,FALSE)&IF(S143=\"\",\"\",CHAR(10)&\"-\"&VLOOKUP(S143,EventConditionConfig!A:C,3,FALSE)))","v":""},null,null,"",{"$nulls":8},{"$f":"IF(A143=\"\",\"\",IF(U143=1,\"\",IF(A144=\"\",3,1)))","v":1},{"$f":"IF(AF143=1,A144,IF(AF143=3,LEFT(A143,5)+1,\"\"))","v":1000810},null,2167]
[{"$f":"O144*100+P144","v":1000810},2156,"疯痴相聚",{"$nulls":7},{"$f":"IF(J144=\"\",\"\",VLOOKUP(J144,EventNPC!A:E,5,FALSE))","v":""},2168,"[突然..洞府周围灵气汇聚，快速涌入痴道人的身体.]",null,10008,{"$f":"IF(O144=O143,P143+1,1)","v":10},"",null,null,{"$f":"IF(R144=\"\",\"\",\"-\"&VLOOKUP(R144,EventConditionConfig!A:C,3,FALSE)&IF(S144=\"\",\"\",CHAR(10)&\"-\"&VLOOKUP(S144,EventConditionConfig!A:C,3,FALSE)))","v":""},1,{"$f":"A145","v":1000811},"2169",2169,"前辈，为何灵气会动！",{"$nulls":6},{"$f":"IF(A144=\"\",\"\",IF(U144=1,\"\",IF(A145=\"\",3,1)))","v":""},{"$f":"IF(AF144=1,A145,IF(AF144=3,LEFT(A144,5)+1,\"\"))","v":""},null,2169]
[{"$f":"O145*100+P145","v":1000811},2156,"疯痴相聚",{"$nulls":6},103,{"$f":"IF(J145=\"\",\"\",VLOOKUP(J145,EventNPC!A:E,5,FALSE))","v":"疯道人"},2170,"恭喜师弟，突破心魔。",null,10008,{"$f":"IF(O145=O144,P144+1,1)","v":11},"",null,null,{"$f":"IF(R145=\"\",\"\",\"-\"&VLOOKUP(R145,EventConditionConfig!A:C,3,FALSE)&IF(S145=\"\",\"\",CHAR(10)&\"-\"&VLOOKUP(S145,EventConditionConfig!A:C,3,FALSE)))","v":""},null,null,"",{"$nulls":8},{"$f":"IF(A145=\"\",\"\",IF(U145=1,\"\",IF(A146=\"\",3,1)))","v":1},{"$f":"IF(AF145=1,A146,IF(AF145=3,LEFT(A145,5)+1,\"\"))","v":1000812},null,2170]
[{"$f":"O146*100+P146","v":1000812},2156,"疯痴相聚",{"$nulls":6},104,{"$f":"IF(J146=\"\",\"\",VLOOKUP(J146,EventNPC!A:E,5,FALSE))","v":"痴道人"},{"$f":"MAX(B145,L145,D145,X145,AA145)+1","v":2171},"多谢师兄！",null,10008,{"$f":"IF(O146=O145,P145+1,1)","v":12},"",null,null,{"$f":"IF(R146=\"\",\"\",\"-\"&VLOOKUP(R146,EventConditionConfig!A:C,3,FALSE)&IF(S146=\"\",\"\",CHAR(10)&\"-\"&VLOOKUP(S146,EventConditionConfig!A:C,3,FALSE)))","v":""},1,{"$f":"IF(U146=1,_xlfn.TEXTJOIN(\";\",1,IF(Z146=\"\",A146+1,Z146),IF(AND(AA146<>\"\",AC146=\"\"),A146+1,AC146)),IF(U146=2,Y146,\"\"))","v":"1000813;1000813"},"2172;2173",{"$f":"L146+1","v":2172},"原来如此…",null,{"$f":"X146+1","v":2173},"请前辈赐我风灵珠。",null,null,null,{"$f":"IF(A146=\"\",\"\",IF(U146=1,\"\",IF(A147=\"\",3,1)))","v":""},{"$f":"IF(AF146=1,A147,IF(AF146=3,LEFT(A146,5)+1,\"\"))","v":""},null,2173]
[{"$f":"O147*100+P147","v":1000813},2156,"疯痴相聚",{"$nulls":6},104,{"$f":"IF(J147=\"\",\"\",VLOOKUP(J147,EventNPC!A:E,5,FALSE))","v":"痴道人"},{"$f":"MAX(B146,L146,D146,X146,AA146)+1","v":2174},"小友莫急… (说罢，痴道人将风灵珠的碎片合成了一颗完整的风灵珠)",null,10008,{"$f":"IF(O147=O146,P146+1,1)","v":13},"",null,null,{"$f":"IF(R147=\"\",\"\",\"-\"&VLOOKUP(R147,EventConditionConfig!A:C,3,FALSE)&IF(S147=\"\",\"\",CHAR(10)&\"-\"&VLOOKUP(S147,EventConditionConfig!A:C,3,FALSE)))","v":""},null,null,"",{"$nulls":8},{"$f":"IF(A147=\"\",\"\",IF(U147=1,\"\",IF(A148=\"\",3,1)))","v":1},{"$f":"IF(AF147=1,A148,IF(AF147=3,LEFT(A147,5)+1,\"\"))","v":1000814},null,2174]
[{"$f":"O148*100+P148","v":1000814},2156,"疯痴相聚",{"$nulls":6},104,{"$f":"IF(J148=\"\",\"\",VLOOKUP(J148,EventNPC!A:E,5,FALSE))","v":"痴道人"},{"$f":"MAX(B147,L147,D147,X147,AA147)+1","v":2175},"拿好了，这风啊……来一回，不容易。",null,10008,{"$f":"IF(O148=O147,P147+1,1)","v":14},"",null,null,{"$f":"IF(R148=\"\",\"\",\"-\"&VLOOKUP(R148,EventConditionConfig!A:C,3,FALSE)&IF(S148=\"\",\"\",CHAR(10)&\"-\"&VLOOKUP(S148,EventConditionConfig!A:C,3,FALSE)))","v":""},null,null,"",{"$nulls":8},{"$f":"IF(A148=\"\",\"\",IF(U148=1,\"\",IF(A149=\"\",3,1)))","v":3},{"$f":"IF(AF148=1,A149,IF(AF148=3,LEFT(A148,5)+1,\"\"))","v":10009},null,2175]
[{"$nulls":16},"",null,null,{"$f":"IF(R149=\"\",\"\",\"-\"&VLOOKUP(R149,EventConditionConfig!A:C,3,FALSE)&IF(S149=\"\",\"\",CHAR(10)&\"-\"&VLOOKUP(S149,EventConditionConfig!A:C,3,FALSE)))","v":""},{"$nulls":14},""]
[{"$f":"O150*100+P150","v":1000901},{"$f":"IF(B149=\"\",MAX(AA148,X148,L148)+1,B149)","v":2176},"达到筑基后期",{"$nulls":6},100,{"$f":"IF(J150=\"\",\"\",VLOOKUP(J150,EventNPC!A:E,5,FALSE))","v":"玩家"},{"$f":"IF(P150=1,B150+1,MAX(B149,L149,D149,X149,AA149)+1)","v":2177},"完整的风灵珠果然不同凡响，我可以更大的狂风中穿行了。",null,10009,{"$f":"IF(O150=O149,P149+1,1)","v":1},"",null,null,{"$f":"IF(R150=\"\",\"\",\"-\"&VLOOKUP(R150,EventConditionConfig!A:C,3,FALSE)&IF(S150=\"\",\"\",CHAR(10)&\"-\"&VLOOKUP(S150,EventConditionConfig!A:C,3,FALSE)))","v":""},null,null,{"$f":"_xlfn.TEXTJOIN(\";\",1,X150,AA150)","v":""},{"$nulls":8},{"$f":"IF(A150=\"\",\"\",IF(U150=1,\"\",IF(A151=\"\",3,1)))","v":1},{"$f":"IF(AF150=1,A151,IF(AF150=3,LEFT(A150,5)+1,\"\"))","v":1000902},null,2177]
[{"$f":"O151*100+P151","v":1000902},{"$f":"IF(B150=\"\",MAX(AA149,X149,L149)+1,B150)","v":2176},"达到筑基后期",{"$nulls":6},100,{"$f":"IF(J151=\"\",\"\",VLOOKUP(J151,EventNPC!A:E,5,FALSE))","v":"玩家"},{"$f":"IF(P151=1,B151+1,MAX(B150,L150,D150,X150,AA150)+1)","v":2178},"前方似乎有不少高阶妖兽，我先在此地提升一些修为吧。",null,10009,{"$f":"IF(O151=O150,P150+1,1)","v":2},"",null,null,{"$f":"IF(R151=\"\",\"\",\"-\"&VLOOKUP(R151,EventConditionConfig!A:C,3,FALSE)&IF(S151=\"\",\"\",CHAR(10)&\"-\"&VLOOKUP(S151,EventConditionConfig!A:C,3,FALSE)))","v":""},null,null,{"$f":"_xlfn.TEXTJOIN(\";\",1,X151,AA151)","v":""},{"$nulls":8},{"$f":"IF(A151=\"\",\"\",IF(U151=1,\"\",IF(A152=\"\",3,1)))","v":1},{"$f":"IF(AF151=1,A152,IF(AF151=3,LEFT(A151,5)+1,\"\"))","v":1000903},null,2178]
[{"$f":"O152*100+P152","v":1000903},{"$f":"IF(B151=\"\",MAX(AA150,X150,L150)+1,B151)","v":2176},"达到筑基后期",{"$nulls":6},100,{"$f":"IF(J152=\"\",\"\",VLOOKUP(J152,EventNPC!A:E,5,FALSE))","v":"玩家"},{"$f":"IF(P152=1,B152+1,MAX(B151,L151,D151,X151,AA151)+1)","v":2179},"终于筑基后期了，继续寻找冲虚提到的“七道心境”吧，不知鲲鹏是否会给我答案。",null,10009,{"$f":"IF(O152=O151,P151+1,1)","v":3},"8",8,null,{"$f":"IF(R152=\"\",\"\",\"-\"&VLOOKUP(R152,EventConditionConfig!A:C,3,FALSE)&IF(S152=\"\",\"\",CHAR(10)&\"-\"&VLOOKUP(S152,EventConditionConfig!A:C,3,FALSE)))","v":"-达到境界：筑基-后期"},null,null,{"$f":"_xlfn.TEXTJOIN(\";\",1,X152,AA152)","v":""},{"$nulls":8},{"$f":"IF(A152=\"\",\"\",IF(U152=1,\"\",IF(A153=\"\",3,1)))","v":3},{"$f":"IF(AF152=1,A153,IF(AF152=3,LEFT(A152,5)+1,\"\"))","v":10010},null,2179]
[{"$nulls":16},"",null,null,{"$f":"IF(R153=\"\",\"\",\"-\"&VLOOKUP(R153,EventConditionConfig!A:C,3,FALSE)&IF(S153=\"\",\"\",CHAR(10)&\"-\"&VLOOKUP(S153,EventConditionConfig!A:C,3,FALSE)))","v":""},{"$nulls":14},""]
[{"$f":"O154*100+P154","v":1001001},{"$f":"IF(B153=\"\",MAX(AA152,X152,L152)+1,B153)","v":2180},"妖兽横行",{"$nulls":7},{"$f":"IF(J154=\"\",\"\",VLOOKUP(J154,EventNPC!A:E,5,FALSE))","v":""},null,null,null,{"$f":"IF(O153=\"\",O152+1,O153)","v":10010},{"$f":"IF(O154=O153,P153+1,1)","v":1},"9",9,null,{"$f":"IF(R154=\"\",\"\",\"-\"&VLOOKUP(R154,EventConditionConfig!A:C,3,FALSE)&IF(S154=\"\",\"\",CHAR(10)&\"-\"&VLOOKUP(S154,EventConditionConfig!A:C,3,FALSE)))","v":"-击杀妖兽"},null,null,{"$f":"_xlfn.TEXTJOIN(\";\",1,X154,AA154)","v":""},{"$nulls":8},{"$f":"IF(A154=\"\",\"\",IF(U154=1,\"\",IF(A155=\"\",3,1)))","v":3},{"$f":"IF(AF154=1,A155,IF(AF154=3,LEFT(A154,5)+1,\"\"))","v":10011},null,2180]
[{"$nulls":16},"",null,null,{"$f":"IF(R155=\"\",\"\",\"-\"&VLOOKUP(R155,EventConditionConfig!A:C,3,FALSE)&IF(S155=\"\",\"\",CHAR(10)&\"-\"&VLOOKUP(S155,EventConditionConfig!A:C,3,FALSE)))","v":""},{"$nulls":14},""]
[{"$f":"O156*100+P156","v":1001101},{"$f":"IF(B155=\"\",MAX(AA154,X154,L154,B154,D154)+1,B155)","v":2181},"遇见鲲鹏",{"$nulls":7},{"$f":"IF(J156=\"\",\"\",VLOOKUP(J156,EventNPC!A:E,5,FALSE))","v":""},{"$f":"IF(P156=1,B156+1,MAX(B155,L155,D155,X155,AA155)+1)","v":2182},"鲲鹏需要去南海最深处的天池，可缺少龙卷风，没有大风，大鹏无法飞起来",null,{"$f":"IF(O155=\"\",O154+1,O155)","v":10011},{"$f":"IF(O156=O155,P155+1,1)","v":1},"",null,null,{"$f":"IF(R156=\"\",\"\",\"-\"&VLOOKUP(R156,EventConditionConfig!A:C,3,FALSE)&IF(S156=\"\",\"\",CHAR(10)&\"-\"&VLOOKUP(S156,EventConditionConfig!A:C,3,FALSE)))","v":""},null,null,{"$f":"_xlfn.TEXTJOIN(\";\",1,X156,AA156)","v":""},{"$nulls":8},{"$f":"IF(A156=\"\",\"\",IF(U156=1,\"\",IF(A157=\"\",3,1)))","v":3},{"$f":"IF(AF156=1,A157,IF(AF156=3,LEFT(A156,5)+1,\"\"))","v":10012},null,2182]
[{"$nulls":16},"",null,null,{"$f":"IF(R157=\"\",\"\",\"-\"&VLOOKUP(R157,EventConditionConfig!A:C,3,FALSE)&IF(S157=\"\",\"\",CHAR(10)&\"-\"&VLOOKUP(S157,EventConditionConfig!A:C,3,FALSE)))","v":""},{"$nulls":14},""]
[{"$f":"O158*100+P158","v":1001201},{"$f":"IF(B157=\"\",MAX(AA156,X156,L156,B156,D156)+1,B157)","v":2183},"尧让天下",{"$f":"IF(E158=\"\",\"\",B158+1)","v":2184},"倾听尧帝的烦恼",{"$nulls":5},{"$f":"IF(J158=\"\",\"\",VLOOKUP(J158,EventNPC!A:E,5,FALSE))","v":""},{"$f":"IF(M158=\"\",\"\",IF(P158=1,MAX(D158,B158)+1,MAX(B157,L157,D157,X157,AA157)+1))","v":2185},"你踏入帝尧治下的仙域——一片祥和之地，灵气充沛，民众安居，仿佛世外桃源。",null,{"$f":"IF(O157=\"\",O156+1,O157)","v":10012},{"$f":"IF(O158=O157,P157+1,1)","v":1},"",null,null,{"$f":"IF(R158=\"\",\"\",\"-\"&VLOOKUP(R158,EventConditionConfig!A:C,3,FALSE)&IF(S158=\"\",\"\",CHAR(10)&\"-\"&VLOOKUP(S158,EventConditionConfig!A:C,3,FALSE)))","v":""},null,null,{"$f":"_xlfn.TEXTJOIN(\";\",1,X158,AA158)","v":""},{"$nulls":8},{"$f":"IF(A158=\"\",\"\",IF(U158=1,\"\",IF(A159=\"\",3,1)))","v":1},{"$f":"IF(AF158=1,A159,IF(AF158=3,LEFT(A158,5)+1,\"\"))","v":1001202},null,2185]
[{"$f":"O159*100+P159","v":1001202},2183,"尧让天下",{"$f":"IF(E159=\"\",\"\",B159+1)","v":2184},"倾听尧帝的烦恼",{"$nulls":5},{"$f":"IF(J159=\"\",\"\",VLOOKUP(J159,EventNPC!A:E,5,FALSE))","v":""},{"$f":"IF(M159=\"\",\"\",IF(P159=1,MAX(D159,B159)+1,MAX(B158,L158,D158,X158,AA158)+1))","v":2186},"然而，这位千年帝君，却眉宇间有难掩的忧色。",null,10012,{"$f":"IF(O159=O158,P158+1,1)","v":2},"",null,null,{"$f":"IF(R159=\"\",\"\",\"-\"&VLOOKUP(R159,EventConditionConfig!A:C,3,FALSE)&IF(S159=\"\",\"\",CHAR(10)&\"-\"&VLOOKUP(S159,EventConditionConfig!A:C,3,FALSE)))","v":""},null,null,"",{"$nulls":8},{"$f":"IF(A159=\"\",\"\",IF(U159=1,\"\",IF(A160=\"\",3,1)))","v":1},{"$f":"IF(AF159=1,A160,IF(AF159=3,LEFT(A159,5)+1,\"\"))","v":1001203},null,2186]
[{"$f":"O160*100+P160","v":1001203},2183,"尧让天下",2184,"倾听尧帝的烦恼",{"$nulls":5},{"$f":"IF(J160=\"\",\"\",VLOOKUP(J160,EventNPC!A:E,5,FALSE))","v":""},2187,"（你根据逍遥铃的指引，找到了尧）",null,10012,{"$f":"IF(O160=O159,P159+1,1)","v":3},"",null,null,{"$f":"IF(R160=\"\",\"\",\"-\"&VLOOKUP(R160,EventConditionConfig!A:C,3,FALSE)&IF(S160=\"\",\"\",CHAR(10)&\"-\"&VLOOKUP(S160,EventConditionConfig!A:C,3,FALSE)))","v":""},1,{"$f":"A161","v":1001204},"2188",{"$f":"IF(Y160=\"\",\"\",L160+1)","v":2188},"拜见帝尧，晚辈受冲虚真人的指引，游历到此处。",{"$nulls":6},{"$f":"IF(A160=\"\",\"\",IF(U160=1,\"\",IF(A161=\"\",3,1)))","v":""},{"$f":"IF(AF160=1,A161,IF(AF160=3,LEFT(A160,5)+1,\"\"))","v":""},null,2188]
[{"$f":"O161*100+P161","v":1001204},2183,"尧让天下",2184,"倾听尧帝的烦恼",{"$nulls":4},105,{"$f":"IF(J161=\"\",\"\",VLOOKUP(J161,EventNPC!A:E,5,FALSE))","v":"尧帝"},2189,"（缓缓回头，脸上带着淡淡忧虑）冲虚真人吗？我也许久没见了..",null,10012,{"$f":"IF(O161=O160,P160+1,1)","v":4},"",null,null,{"$f":"IF(R161=\"\",\"\",\"-\"&VLOOKUP(R161,EventConditionConfig!A:C,3,FALSE)&IF(S161=\"\",\"\",CHAR(10)&\"-\"&VLOOKUP(S161,EventConditionConfig!A:C,3,FALSE)))","v":""},null,null,"","",{"$nulls":7},{"$f":"IF(A161=\"\",\"\",IF(U161=1,\"\",IF(A162=\"\",3,1)))","v":1},{"$f":"IF(AF161=1,A162,IF(AF161=3,LEFT(A161,5)+1,\"\"))","v":1001205},null,2189]
[{"$f":"O162*100+P162","v":1001205},2183,"尧让天下",2184,"倾听尧帝的烦恼",{"$nulls":4},105,{"$f":"IF(J162=\"\",\"\",VLOOKUP(J162,EventNPC!A:E,5,FALSE))","v":"尧帝"},2190,"(尧帝邀你来到一高处)\n小友，你看此处景致如何？",null,10012,{"$f":"IF(O162=O161,P161+1,1)","v":5},"",null,null,{"$f":"IF(R162=\"\",\"\",\"-\"&VLOOKUP(R162,EventConditionConfig!A:C,3,FALSE)&IF(S162=\"\",\"\",CHAR(10)&\"-\"&VLOOKUP(S162,EventConditionConfig!A:C,3,FALSE)))","v":""},1,"1001206;1001206","2191;2192",2191,"万象更新，灵气环绕，是修行的福地。",null,{"$f":"IF(AB162=\"\",\"\",X162+1)","v":2192},"国泰民安，仙人治理，世间罕见。",null,null,null,{"$f":"IF(A162=\"\",\"\",IF(U162=1,\"\",IF(A163=\"\",3,1)))","v":""},{"$f":"IF(AF162=1,A163,IF(AF162=3,LEFT(A162,5)+1,\"\"))","v":""},null,2192]
[{"$f":"O163*100+P163","v":1001206},2183,"尧让天下",2184,"倾听尧帝的烦恼",{"$nulls":4},105,{"$f":"IF(J163=\"\",\"\",VLOOKUP(J163,EventNPC!A:E,5,FALSE))","v":"尧帝"},2193,"（叹息）是啊，人人自在，唯我不自在。这些年来，我境界难以寸进，已有百年。",null,10012,{"$f":"IF(O163=O162,P162+1,1)","v":6},"",null,null,{"$f":"IF(R163=\"\",\"\",\"-\"&VLOOKUP(R163,EventConditionConfig!A:C,3,FALSE)&IF(S163=\"\",\"\",CHAR(10)&\"-\"&VLOOKUP(S163,EventConditionConfig!A:C,3,FALSE)))","v":""},1,{"$f":"A164","v":1001207},"2194",2194,"帝尧何出此言？",null,"",{"$nulls":4},{"$f":"IF(A163=\"\",\"\",IF(U163=1,\"\",IF(A164=\"\",3,1)))","v":""},{"$f":"IF(AF163=1,A164,IF(AF163=3,LEFT(A163,5)+1,\"\"))","v":""},null,2194]
[{"$f":"O164*100+P164","v":1001207},2183,"尧让天下",2184,"倾听尧帝的烦恼",{"$nulls":4},105,{"$f":"IF(J164=\"\",\"\",VLOOKUP(J164,EventNPC!A:E,5,FALSE))","v":"尧帝"},2195,"你等散修，自由自在，来去如风，可曾体会过身负重任的滋味？",null,10012,{"$f":"IF(O164=O163,P163+1,1)","v":7},"",null,null,{"$f":"IF(R164=\"\",\"\",\"-\"&VLOOKUP(R164,EventConditionConfig!A:C,3,FALSE)&IF(S164=\"\",\"\",CHAR(10)&\"-\"&VLOOKUP(S164,EventConditionConfig!A:C,3,FALSE)))","v":""},1,{"$f":"A165","v":1001208},"2196",2196,"也有重担，却未必如帝尧这样复杂。",null,"",{"$nulls":4},{"$f":"IF(A164=\"\",\"\",IF(U164=1,\"\",IF(A165=\"\",3,1)))","v":""},{"$f":"IF(AF164=1,A165,IF(AF164=3,LEFT(A164,5)+1,\"\"))","v":""},null,2196]
[{"$f":"O165*100+P165","v":1001208},2183,"尧让天下",2184,"倾听尧帝的烦恼",{"$nulls":4},105,{"$f":"IF(J165=\"\",\"\",VLOOKUP(J165,EventNPC!A:E,5,FALSE))","v":"尧帝"},2197,"（微微一笑，摇头）天下如画卷，画卷再美，日夜背负，也终是负担。",null,10012,{"$f":"IF(O165=O164,P164+1,1)","v":8},"",null,null,{"$f":"IF(R165=\"\",\"\",\"-\"&VLOOKUP(R165,EventConditionConfig!A:C,3,FALSE)&IF(S165=\"\",\"\",CHAR(10)&\"-\"&VLOOKUP(S165,EventConditionConfig!A:C,3,FALSE)))","v":""},1,{"$f":"A166","v":1001209},"2198",2198,"......",null,"",{"$nulls":4},{"$f":"IF(A165=\"\",\"\",IF(U165=1,\"\",IF(A166=\"\",3,1)))","v":""},{"$f":"IF(AF165=1,A166,IF(AF165=3,LEFT(A165,5)+1,\"\"))","v":""},null,2198]
[{"$f":"O166*100+P166","v":1001209},2183,"尧让天下",2184,"倾听尧帝的烦恼",{"$nulls":4},105,{"$f":"IF(J166=\"\",\"\",VLOOKUP(J166,EventNPC!A:E,5,FALSE))","v":"尧帝"},2199,"（凝望远方云海）深山之中有位贤士，名为许由，素有盛名，我曾多次请他出山，但未成如愿。",null,10012,{"$f":"IF(O166=O165,P165+1,1)","v":9},"",null,null,{"$f":"IF(R166=\"\",\"\",\"-\"&VLOOKUP(R166,EventConditionConfig!A:C,3,FALSE)&IF(S166=\"\",\"\",CHAR(10)&\"-\"&VLOOKUP(S166,EventConditionConfig!A:C,3,FALSE)))","v":""},null,null,"","",null,null,"",{"$nulls":4},{"$f":"IF(A166=\"\",\"\",IF(U166=1,\"\",IF(A167=\"\",3,1)))","v":1},{"$f":"IF(AF166=1,A167,IF(AF166=3,LEFT(A166,5)+1,\"\"))","v":1001210},null,2199]
[{"$f":"O167*100+P167","v":1001210},2183,"尧让天下",2184,"倾听尧帝的烦恼",{"$nulls":4},105,{"$f":"IF(J167=\"\",\"\",VLOOKUP(J167,EventNPC!A:E,5,FALSE))","v":"尧帝"},2200,"我甚至提出让天下于他，他也不为所动。",null,10012,{"$f":"IF(O167=O166,P166+1,1)","v":10},"",null,null,{"$f":"IF(R167=\"\",\"\",\"-\"&VLOOKUP(R167,EventConditionConfig!A:C,3,FALSE)&IF(S167=\"\",\"\",CHAR(10)&\"-\"&VLOOKUP(S167,EventConditionConfig!A:C,3,FALSE)))","v":""},1,{"$f":"A168","v":1001211},"2201",2201,"世间竟然有此奇人？",null,"",{"$nulls":4},{"$f":"IF(A167=\"\",\"\",IF(U167=1,\"\",IF(A168=\"\",3,1)))","v":""},{"$f":"IF(AF167=1,A168,IF(AF167=3,LEFT(A167,5)+1,\"\"))","v":""},null,2201]
[{"$f":"O168*100+P168","v":1001211},2183,"尧让天下",2184,"倾听尧帝的烦恼",{"$nulls":4},105,{"$f":"IF(J168=\"\",\"\",VLOOKUP(J168,EventNPC!A:E,5,FALSE))","v":"尧帝"},2202,"（凝望远方云海）若小友有空，帮我再请许由出山，我定当感谢。",null,10012,{"$f":"IF(O168=O167,P167+1,1)","v":11},"",null,null,{"$f":"IF(R168=\"\",\"\",\"-\"&VLOOKUP(R168,EventConditionConfig!A:C,3,FALSE)&IF(S168=\"\",\"\",CHAR(10)&\"-\"&VLOOKUP(S168,EventConditionConfig!A:C,3,FALSE)))","v":""},1,{"$f":"A169","v":1001212},"2203",2203,"好的，既然来了，我就走一趟。",null,"",{"$nulls":4},{"$f":"IF(A168=\"\",\"\",IF(U168=1,\"\",IF(A169=\"\",3,1)))","v":""},{"$f":"IF(AF168=1,A169,IF(AF168=3,LEFT(A168,5)+1,\"\"))","v":""},null,2203]
[{"$f":"O169*100+P169","v":1001212},2183,"尧让天下",2184,"倾听尧帝的烦恼",{"$nulls":5},{"$f":"IF(J169=\"\",\"\",VLOOKUP(J169,EventNPC!A:E,5,FALSE))","v":""},"",null,null,10012,{"$f":"IF(O169=O168,P168+1,1)","v":12},"",null,null,{"$f":"IF(R169=\"\",\"\",\"-\"&VLOOKUP(R169,EventConditionConfig!A:C,3,FALSE)&IF(S169=\"\",\"\",CHAR(10)&\"-\"&VLOOKUP(S169,EventConditionConfig!A:C,3,FALSE)))","v":""},null,null,"","",null,null,"",{"$nulls":4},{"$f":"IF(A169=\"\",\"\",IF(U169=1,\"\",IF(A170=\"\",3,1)))","v":3},{"$f":"IF(AF169=1,A170,IF(AF169=3,LEFT(A169,5)+1,\"\"))","v":10013},null,2184]
[{"$nulls":16},"",null,null,{"$f":"IF(R170=\"\",\"\",\"-\"&VLOOKUP(R170,EventConditionConfig!A:C,3,FALSE)&IF(S170=\"\",\"\",CHAR(10)&\"-\"&VLOOKUP(S170,EventConditionConfig!A:C,3,FALSE)))","v":""},{"$nulls":14},""]
[{"$f":"O171*100+P171","v":1001301},{"$f":"IF(B170=\"\",MAX(AA169,X169,L169,B169,D169,AA168,X168,L168)+1,B170)","v":2204},"访贤许由",{"$f":"IF(E171=\"\",\"\",B171+1)","v":2205},"听一听这位尧帝口中的贤士有何说法",{"$nulls":5},{"$f":"IF(J171=\"\",\"\",VLOOKUP(J171,EventNPC!A:E,5,FALSE))","v":""},{"$f":"IF(M171=\"\",\"\",IF(P171=1,MAX(D171,B171)+1,MAX(B170,L170,D170,X170,AA170)+1))","v":2206},"你循帝尧所言，御剑前往幽山秘境。此处灵气绵长，古木参天，溪水潺潺。",null,{"$f":"IF(O170=\"\",O169+1,O170)","v":10013},{"$f":"IF(O171=O170,P170+1,1)","v":1},"",null,null,{"$f":"IF(R171=\"\",\"\",\"-\"&VLOOKUP(R171,EventConditionConfig!A:C,3,FALSE)&IF(S171=\"\",\"\",CHAR(10)&\"-\"&VLOOKUP(S171,EventConditionConfig!A:C,3,FALSE)))","v":""},null,null,{"$f":"_xlfn.TEXTJOIN(\";\",1,X171,AA171)","v":""},{"$f":"IF(Y171=\"\",\"\",L171+1)","v":""},null,null,{"$f":"IF(AB171=\"\",\"\",X171+1)","v":""},{"$nulls":4},{"$f":"IF(A171=\"\",\"\",IF(U171=1,\"\",IF(A172=\"\",3,1)))","v":1},{"$f":"IF(AF171=1,A172,IF(AF171=3,LEFT(A171,5)+1,\"\"))","v":1001302},null,2206]
[{"$f":"O172*100+P172","v":1001302},2204,"访贤许由",{"$f":"IF(E172=\"\",\"\",B172+1)","v":2205},"听一听这位尧帝口中的贤士有何说法",{"$nulls":5},{"$f":"IF(J172=\"\",\"\",VLOOKUP(J172,EventNPC!A:E,5,FALSE))","v":""},{"$f":"IF(M172=\"\",\"\",IF(P172=1,MAX(D172,B172)+1,MAX(B171,L171,D171,X171,AA171)+1))","v":2207},"据说，许由栖身于此，绝迹尘世，已有数百年。",null,10013,{"$f":"IF(O172=O171,P171+1,1)","v":2},"",null,null,{"$f":"IF(R172=\"\",\"\",\"-\"&VLOOKUP(R172,EventConditionConfig!A:C,3,FALSE)&IF(S172=\"\",\"\",CHAR(10)&\"-\"&VLOOKUP(S172,EventConditionConfig!A:C,3,FALSE)))","v":""},null,null,"","",null,null,"",{"$nulls":4},{"$f":"IF(A172=\"\",\"\",IF(U172=1,\"\",IF(A173=\"\",3,1)))","v":1},{"$f":"IF(AF172=1,A173,IF(AF172=3,LEFT(A172,5)+1,\"\"))","v":1001303},null,2207]
[{"$f":"O173*100+P173","v":1001303},2204,"访贤许由",{"$f":"IF(E173=\"\",\"\",B173+1)","v":2205},"听一听这位尧帝口中的贤士有何说法",{"$nulls":5},{"$f":"IF(J173=\"\",\"\",VLOOKUP(J173,EventNPC!A:E,5,FALSE))","v":""},{"$f":"IF(M173=\"\",\"\",IF(P173=1,MAX(D173,B173)+1,MAX(B172,L172,D172,X172,AA172)+1))","v":2208},"山风徐徐，水声如琴，你踏过青石小径，看见一位白衣道人正倚石观水。",null,10013,{"$f":"IF(O173=O172,P172+1,1)","v":3},"",null,null,{"$f":"IF(R173=\"\",\"\",\"-\"&VLOOKUP(R173,EventConditionConfig!A:C,3,FALSE)&IF(S173=\"\",\"\",CHAR(10)&\"-\"&VLOOKUP(S173,EventConditionConfig!A:C,3,FALSE)))","v":""},1,{"$f":"A174","v":1001304},"2209",2209,"前辈可是许由？",null,"",{"$nulls":4},{"$f":"IF(A173=\"\",\"\",IF(U173=1,\"\",IF(A174=\"\",3,1)))","v":""},{"$f":"IF(AF173=1,A174,IF(AF173=3,LEFT(A173,5)+1,\"\"))","v":""},null,2209]
[{"$f":"O174*100+P174","v":1001304},2204,"访贤许由",{"$f":"IF(E174=\"\",\"\",B174+1)","v":2205},"听一听这位尧帝口中的贤士有何说法",{"$nulls":4},106,{"$f":"IF(J174=\"\",\"\",VLOOKUP(J174,EventNPC!A:E,5,FALSE))","v":"许由"},{"$f":"IF(M174=\"\",\"\",IF(P174=1,MAX(D174,B174)+1,MAX(B173,L173,D173,X173,AA173)+1))","v":2210},"正是，小友何事？",null,10013,{"$f":"IF(O174=O173,P173+1,1)","v":4},"",null,null,{"$f":"IF(R174=\"\",\"\",\"-\"&VLOOKUP(R174,EventConditionConfig!A:C,3,FALSE)&IF(S174=\"\",\"\",CHAR(10)&\"-\"&VLOOKUP(S174,EventConditionConfig!A:C,3,FALSE)))","v":""},null,null,"","",null,null,"",{"$nulls":4},{"$f":"IF(A174=\"\",\"\",IF(U174=1,\"\",IF(A175=\"\",3,1)))","v":1},{"$f":"IF(AF174=1,A175,IF(AF174=3,LEFT(A174,5)+1,\"\"))","v":1001305},null,2210]
[{"$f":"O175*100+P175","v":1001305},2204,"访贤许由",{"$f":"IF(E175=\"\",\"\",B175+1)","v":2205},"听一听这位尧帝口中的贤士有何说法",{"$nulls":4},100,{"$f":"IF(J175=\"\",\"\",VLOOKUP(J175,EventNPC!A:E,5,FALSE))","v":"玩家"},{"$f":"IF(M175=\"\",\"\",IF(P175=1,MAX(D175,B175)+1,MAX(B174,L174,D174,X174,AA174)+1))","v":2211},"帝尧欲专心修行，求道问玄，又怕耽误世事，特托我前来相请，欲让天下于你。",null,10013,{"$f":"IF(O175=O174,P174+1,1)","v":5},"",null,null,{"$f":"IF(R175=\"\",\"\",\"-\"&VLOOKUP(R175,EventConditionConfig!A:C,3,FALSE)&IF(S175=\"\",\"\",CHAR(10)&\"-\"&VLOOKUP(S175,EventConditionConfig!A:C,3,FALSE)))","v":""},null,null,"","",null,null,"",{"$nulls":4},{"$f":"IF(A175=\"\",\"\",IF(U175=1,\"\",IF(A176=\"\",3,1)))","v":1},{"$f":"IF(AF175=1,A176,IF(AF175=3,LEFT(A175,5)+1,\"\"))","v":1001306},null,2211]
[{"$f":"O176*100+P176","v":1001306},2204,"访贤许由",{"$f":"IF(E176=\"\",\"\",B176+1)","v":2205},"听一听这位尧帝口中的贤士有何说法",{"$nulls":4},106,{"$f":"IF(J176=\"\",\"\",VLOOKUP(J176,EventNPC!A:E,5,FALSE))","v":"许由"},{"$f":"IF(M176=\"\",\"\",IF(P176=1,MAX(D176,B176)+1,MAX(B175,L175,D175,X175,AA175)+1))","v":2212},"（静默片刻）昔日帝尧就提过此事，我已辞之。",null,10013,{"$f":"IF(O176=O175,P175+1,1)","v":6},"",null,null,{"$f":"IF(R176=\"\",\"\",\"-\"&VLOOKUP(R176,EventConditionConfig!A:C,3,FALSE)&IF(S176=\"\",\"\",CHAR(10)&\"-\"&VLOOKUP(S176,EventConditionConfig!A:C,3,FALSE)))","v":""},null,null,"","",null,null,"",{"$nulls":4},{"$f":"IF(A176=\"\",\"\",IF(U176=1,\"\",IF(A177=\"\",3,1)))","v":1},{"$f":"IF(AF176=1,A177,IF(AF176=3,LEFT(A176,5)+1,\"\"))","v":1001307},null,2212]
[{"$f":"O177*100+P177","v":1001307},2204,"访贤许由",{"$f":"IF(E177=\"\",\"\",B177+1)","v":2205},"听一听这位尧帝口中的贤士有何说法",{"$nulls":4},106,{"$f":"IF(J177=\"\",\"\",VLOOKUP(J177,EventNPC!A:E,5,FALSE))","v":"许由"},{"$f":"IF(M177=\"\",\"\",IF(P177=1,MAX(D177,B177)+1,MAX(B176,L176,D176,X176,AA176)+1))","v":2213},"今日又来，想是道心不定，执念未除。",null,10013,{"$f":"IF(O177=O176,P176+1,1)","v":7},"",null,null,{"$f":"IF(R177=\"\",\"\",\"-\"&VLOOKUP(R177,EventConditionConfig!A:C,3,FALSE)&IF(S177=\"\",\"\",CHAR(10)&\"-\"&VLOOKUP(S177,EventConditionConfig!A:C,3,FALSE)))","v":""},1,{"$f":"A178","v":1001308},"2214",2214,"请前辈出山。",null,"",{"$nulls":4},{"$f":"IF(A177=\"\",\"\",IF(U177=1,\"\",IF(A178=\"\",3,1)))","v":""},{"$f":"IF(AF177=1,A178,IF(AF177=3,LEFT(A177,5)+1,\"\"))","v":""},null,2214]
[1001308,2204,"访贤许由",2205,"听一听这位尧帝口中的贤士有何说法",{"$nulls":4},106,{"$f":"IF(J178=\"\",\"\",VLOOKUP(J178,EventNPC!A:E,5,FALSE))","v":"许由"},2215,"哼，让我去？",null,10013,8,"",null,null,{"$f":"IF(R178=\"\",\"\",\"-\"&VLOOKUP(R178,EventConditionConfig!A:C,3,FALSE)&IF(S178=\"\",\"\",CHAR(10)&\"-\"&VLOOKUP(S178,EventConditionConfig!A:C,3,FALSE)))","v":""},null,null,"","",null,null,"",{"$nulls":4},1,1001309,null,2215]
[{"$f":"O179*100+P179","v":1001309},2204,"访贤许由",{"$f":"IF(E179=\"\",\"\",B179+1)","v":2205},"听一听这位尧帝口中的贤士有何说法",{"$nulls":4},106,{"$f":"IF(J179=\"\",\"\",VLOOKUP(J179,EventNPC!A:E,5,FALSE))","v":"许由"},{"$f":"IF(M179=\"\",\"\",IF(P179=1,MAX(D179,B179)+1,MAX(B178,L178,D178,X178,AA178)+1))","v":2216},"那我问你，日月升天，照耀四方。若这时有人手举火把照路，岂不徒劳？",null,10013,{"$f":"IF(O179=O178,P178+1,1)","v":9},"",null,null,{"$f":"IF(R179=\"\",\"\",\"-\"&VLOOKUP(R179,EventConditionConfig!A:C,3,FALSE)&IF(S179=\"\",\"\",CHAR(10)&\"-\"&VLOOKUP(S179,EventConditionConfig!A:C,3,FALSE)))","v":""},null,null,"","",null,null,"",{"$nulls":4},{"$f":"IF(A179=\"\",\"\",IF(U179=1,\"\",IF(A180=\"\",3,1)))","v":1},{"$f":"IF(AF179=1,A180,IF(AF179=3,LEFT(A179,5)+1,\"\"))","v":1001310},null,2216]
[{"$f":"O180*100+P180","v":1001310},2204,"访贤许由",{"$f":"IF(E180=\"\",\"\",B180+1)","v":2205},"听一听这位尧帝口中的贤士有何说法",{"$nulls":4},106,{"$f":"IF(J180=\"\",\"\",VLOOKUP(J180,EventNPC!A:E,5,FALSE))","v":"许由"},{"$f":"IF(M180=\"\",\"\",IF(P180=1,MAX(D180,B180)+1,MAX(B179,L179,D179,X179,AA179)+1))","v":2217},"那我再问你，斜风细雨，滋养万物。若这时有人用水桶来灌溉，岂不可笑？",null,10013,{"$f":"IF(O180=O179,P179+1,1)","v":10},"",null,null,{"$f":"IF(R180=\"\",\"\",\"-\"&VLOOKUP(R180,EventConditionConfig!A:C,3,FALSE)&IF(S180=\"\",\"\",CHAR(10)&\"-\"&VLOOKUP(S180,EventConditionConfig!A:C,3,FALSE)))","v":""},null,null,"","",null,null,"",{"$nulls":4},{"$f":"IF(A180=\"\",\"\",IF(U180=1,\"\",IF(A181=\"\",3,1)))","v":1},{"$f":"IF(AF180=1,A181,IF(AF180=3,LEFT(A180,5)+1,\"\"))","v":1001311},null,2217]
[{"$f":"O181*100+P181","v":1001311},2204,"访贤许由",{"$f":"IF(E181=\"\",\"\",B181+1)","v":2205},"听一听这位尧帝口中的贤士有何说法",{"$nulls":4},106,{"$f":"IF(J181=\"\",\"\",VLOOKUP(J181,EventNPC!A:E,5,FALSE))","v":"许由"},{"$f":"IF(M181=\"\",\"\",IF(P181=1,MAX(D181,B181)+1,MAX(B180,L180,D180,X180,AA180)+1))","v":2218},"天下在尧的带领下，已经治理得很好了，又何必要我，我是要去混个功成名就吗？",null,10013,{"$f":"IF(O181=O180,P180+1,1)","v":11},"",null,null,{"$f":"IF(R181=\"\",\"\",\"-\"&VLOOKUP(R181,EventConditionConfig!A:C,3,FALSE)&IF(S181=\"\",\"\",CHAR(10)&\"-\"&VLOOKUP(S181,EventConditionConfig!A:C,3,FALSE)))","v":""},null,null,"","",null,null,"",{"$nulls":4},{"$f":"IF(A181=\"\",\"\",IF(U181=1,\"\",IF(A182=\"\",3,1)))","v":1},{"$f":"IF(AF181=1,A182,IF(AF181=3,LEFT(A181,5)+1,\"\"))","v":1001312},null,2218]
[{"$f":"O182*100+P182","v":1001312},2204,"访贤许由",{"$f":"IF(E182=\"\",\"\",B182+1)","v":2205},"听一听这位尧帝口中的贤士有何说法",{"$nulls":4},106,{"$f":"IF(J182=\"\",\"\",VLOOKUP(J182,EventNPC!A:E,5,FALSE))","v":"许由"},{"$f":"IF(M182=\"\",\"\",IF(P182=1,MAX(D182,B182)+1,MAX(B181,L181,D181,X181,AA181)+1))","v":2219},"回答我？",null,10013,{"$f":"IF(O182=O181,P181+1,1)","v":12},"",null,null,{"$f":"IF(R182=\"\",\"\",\"-\"&VLOOKUP(R182,EventConditionConfig!A:C,3,FALSE)&IF(S182=\"\",\"\",CHAR(10)&\"-\"&VLOOKUP(S182,EventConditionConfig!A:C,3,FALSE)))","v":""},1,{"$f":"A183","v":1001313},"2220",2220,"就算只得功成名就也不错。",null,"",{"$nulls":4},{"$f":"IF(A182=\"\",\"\",IF(U182=1,\"\",IF(A183=\"\",3,1)))","v":""},{"$f":"IF(AF182=1,A183,IF(AF182=3,LEFT(A182,5)+1,\"\"))","v":""},null,2220]
[1001313,2204,"访贤许由",2205,"听一听这位尧帝口中的贤士有何说法",{"$nulls":4},106,{"$f":"IF(J183=\"\",\"\",VLOOKUP(J183,EventNPC!A:E,5,FALSE))","v":"许由"},2221,"小友，名就像宾客一样，难道我们的一生是为了宾客吗？",null,10013,13,"",null,null,{"$f":"IF(R183=\"\",\"\",\"-\"&VLOOKUP(R183,EventConditionConfig!A:C,3,FALSE)&IF(S183=\"\",\"\",CHAR(10)&\"-\"&VLOOKUP(S183,EventConditionConfig!A:C,3,FALSE)))","v":""},1,{"$f":"A184","v":1001314},"2222",2222,"（愣住）......",null,"",{"$nulls":4},"","",null,2222]
[{"$f":"O184*100+P184","v":1001314},2204,"访贤许由",{"$f":"IF(E184=\"\",\"\",B184+1)","v":2205},"听一听这位尧帝口中的贤士有何说法",{"$nulls":4},106,{"$f":"IF(J184=\"\",\"\",VLOOKUP(J184,EventNPC!A:E,5,FALSE))","v":"许由"},{"$f":"IF(M184=\"\",\"\",IF(P184=1,MAX(D184,B184)+1,MAX(B183,L183,D183,X183,AA183)+1))","v":2223},"他若真想修道，便该知“道不碍政，心自碍道”。",null,10013,{"$f":"IF(O184=O183,P183+1,1)","v":14},"",null,null,{"$f":"IF(R184=\"\",\"\",\"-\"&VLOOKUP(R184,EventConditionConfig!A:C,3,FALSE)&IF(S184=\"\",\"\",CHAR(10)&\"-\"&VLOOKUP(S184,EventConditionConfig!A:C,3,FALSE)))","v":""},{"$nulls":6},"",{"$nulls":4},{"$f":"IF(A184=\"\",\"\",IF(U184=1,\"\",IF(A185=\"\",3,1)))","v":1},{"$f":"IF(AF184=1,A185,IF(AF184=3,LEFT(A184,5)+1,\"\"))","v":1001315},null,2223]
[1001315,2204,"访贤许由",2205,"听一听这位尧帝口中的贤士有何说法",{"$nulls":4},106,{"$f":"IF(J185=\"\",\"\",VLOOKUP(J185,EventNPC!A:E,5,FALSE))","v":"许由"},2224,"若心不净，纵避千山万水，又有何用。",null,10013,15,"",null,null,{"$f":"IF(R185=\"\",\"\",\"-\"&VLOOKUP(R185,EventConditionConfig!A:C,3,FALSE)&IF(S185=\"\",\"\",CHAR(10)&\"-\"&VLOOKUP(S185,EventConditionConfig!A:C,3,FALSE)))","v":""},1,{"$f":"A186","v":1001316},{"$f":"_xlfn.TEXTJOIN(\";\",1,X185,AA185)","v":"2225"},{"$f":"IF(Y185=\"\",\"\",L185+1)","v":2225},"（愣住）......",null,"",{"$nulls":4},"","",null,2225]
[1001316,2204,"访贤许由",2205,"听一听这位尧帝口中的贤士有何说法",{"$nulls":5},{"$f":"IF(J186=\"\",\"\",VLOOKUP(J186,EventNPC!A:E,5,FALSE))","v":""},"",null,null,10013,16,"",null,null,{"$f":"IF(R186=\"\",\"\",\"-\"&VLOOKUP(R186,EventConditionConfig!A:C,3,FALSE)&IF(S186=\"\",\"\",CHAR(10)&\"-\"&VLOOKUP(S186,EventConditionConfig!A:C,3,FALSE)))","v":""},null,null,{"$f":"_xlfn.TEXTJOIN(\";\",1,X186,AA186)","v":""},{"$f":"IF(Y186=\"\",\"\",L186+1)","v":""},null,null,"",{"$nulls":4},3,10014,null,2205]
[{"$nulls":16},"",null,null,{"$f":"IF(R187=\"\",\"\",\"-\"&VLOOKUP(R187,EventConditionConfig!A:C,3,FALSE)&IF(S187=\"\",\"\",CHAR(10)&\"-\"&VLOOKUP(S187,EventConditionConfig!A:C,3,FALSE)))","v":""},{"$nulls":14},""]
[{"$f":"O188*100+P188","v":1001401},{"$f":"IF(B187=\"\",MAX(AA186,X186,L186,B186,D186,AA185,X185,L185)+1,B187)","v":2226},"割草喝茶",{"$f":"IF(E188=\"\",\"\",B188+1)","v":""},{"$nulls":5},106,{"$f":"IF(J188=\"\",\"\",VLOOKUP(J188,EventNPC!A:E,5,FALSE))","v":"许由"},{"$f":"IF(M188=\"\",\"\",IF(P188=1,MAX(D188,B188)+1,MAX(B187,L187,D187,X187,AA187)+1))","v":2227},"（转身望向屋后的山坡）你来得也巧，我正想在开辟一块新药田。",null,{"$f":"IF(O187=\"\",O186+1,O187)","v":10014},{"$f":"IF(O188=O187,P187+1,1)","v":1},"",null,null,{"$f":"IF(R188=\"\",\"\",\"-\"&VLOOKUP(R188,EventConditionConfig!A:C,3,FALSE)&IF(S188=\"\",\"\",CHAR(10)&\"-\"&VLOOKUP(S188,EventConditionConfig!A:C,3,FALSE)))","v":""},null,null,{"$f":"_xlfn.TEXTJOIN(\";\",1,X188,AA188)","v":""},{"$f":"IF(Y188=\"\",\"\",L188+1)","v":""},null,null,{"$f":"IF(AB188=\"\",\"\",X188+1)","v":""},{"$nulls":4},{"$f":"IF(A188=\"\",\"\",IF(U188=1,\"\",IF(A189=\"\",3,1)))","v":1},{"$f":"IF(AF188=1,A189,IF(AF188=3,LEFT(A188,5)+1,\"\"))","v":1001402},null,2227]
[{"$f":"O189*100+P189","v":1001402},2226,"割草喝茶",{"$f":"IF(E189=\"\",\"\",B189+1)","v":""},{"$nulls":5},106,{"$f":"IF(J189=\"\",\"\",VLOOKUP(J189,EventNPC!A:E,5,FALSE))","v":"许由"},{"$f":"IF(M189=\"\",\"\",IF(P189=1,MAX(D189,B189)+1,MAX(B188,L188,D188,X188,AA188)+1))","v":2228},"后山有一块不错的地，离家有一点远平时我也懒得去打理，正好你来了帮我开辟出来吧。",null,10014,{"$f":"IF(O189=O188,P188+1,1)","v":2},"",null,null,{"$f":"IF(R189=\"\",\"\",\"-\"&VLOOKUP(R189,EventConditionConfig!A:C,3,FALSE)&IF(S189=\"\",\"\",CHAR(10)&\"-\"&VLOOKUP(S189,EventConditionConfig!A:C,3,FALSE)))","v":""},1,{"$f":"A190","v":1001403},"2229",2229,"……前辈是让我干农活吗",null,"",{"$nulls":4},{"$f":"IF(A189=\"\",\"\",IF(U189=1,\"\",IF(A190=\"\",3,1)))","v":""},{"$f":"IF(AF189=1,A190,IF(AF189=3,LEFT(A189,5)+1,\"\"))","v":""},null,2229]
[1001403,2226,"割草喝茶","",{"$nulls":5},106,{"$f":"IF(J190=\"\",\"\",VLOOKUP(J190,EventNPC!A:E,5,FALSE))","v":"许由"},2230,"（笑）哈哈，正是，帮我清理一下灵田，回来请你喝茶。",null,10014,3,{"$f":"_xlfn.TEXTJOIN(\";\",1,R190:S190)","v":""},null,null,{"$f":"IF(R190=\"\",\"\",\"-\"&VLOOKUP(R190,EventConditionConfig!A:C,3,FALSE)&IF(S190=\"\",\"\",CHAR(10)&\"-\"&VLOOKUP(S190,EventConditionConfig!A:C,3,FALSE)))","v":""},null,null,"","",null,null,"",{"$nulls":4},1,1001404,null,2230]
[{"$f":"O191*100+P191","v":1001404},2226,"割草喝茶",{"$f":"IF(E191=\"\",\"\",B191+1)","v":""},{"$nulls":5},106,{"$f":"IF(J191=\"\",\"\",VLOOKUP(J191,EventNPC!A:E,5,FALSE))","v":"许由"},{"$f":"IF(M191=\"\",\"\",IF(P191=1,MAX(D191,B191)+1,MAX(B190,L190,D190,X190,AA190)+1))","v":2231},"对了，在哪些杂草中不也会生长着一些药效不错的药草，这些药草在杂草中没有更好的成长起来，如果发现了药草帮我收集一些药草的种子回来。",null,10014,{"$f":"IF(O191=O190,P190+1,1)","v":4},{"$f":"_xlfn.TEXTJOIN(\";\",1,R191:S191)","v":""},null,null,{"$f":"IF(R191=\"\",\"\",\"-\"&VLOOKUP(R191,EventConditionConfig!A:C,3,FALSE)&IF(S191=\"\",\"\",CHAR(10)&\"-\"&VLOOKUP(S191,EventConditionConfig!A:C,3,FALSE)))","v":""},null,null,"","",null,null,"",{"$nulls":4},{"$f":"IF(A191=\"\",\"\",IF(U191=1,\"\",IF(A192=\"\",3,1)))","v":1},{"$f":"IF(AF191=1,A192,IF(AF191=3,LEFT(A191,5)+1,\"\"))","v":1001405},null,2231]
[{"$f":"O192*100+P192","v":1001405},2226,"割草喝茶",{"$f":"IF(E192=\"\",\"\",B192+1)","v":""},{"$nulls":5},106,{"$f":"IF(J192=\"\",\"\",VLOOKUP(J192,EventNPC!A:E,5,FALSE))","v":"许由"},{"$f":"IF(M192=\"\",\"\",IF(P192=1,MAX(D192,B192)+1,MAX(B191,L191,D191,X191,AA191)+1))","v":2232},"在开辟的过程中也请小心一点，后山也经常有妖怪出没。",null,10014,{"$f":"IF(O192=O191,P191+1,1)","v":5},{"$f":"_xlfn.TEXTJOIN(\";\",1,R192:S192)","v":"10;11"},10,11,{"$f":"IF(R192=\"\",\"\",\"-\"&VLOOKUP(R192,EventConditionConfig!A:C,3,FALSE)&IF(S192=\"\",\"\",CHAR(10)&\"-\"&VLOOKUP(S192,EventConditionConfig!A:C,3,FALSE)))","v":"-击败后山小妖\n-收集灵草种子"},null,null,"","",null,null,"",{"$nulls":4},{"$f":"IF(A192=\"\",\"\",IF(U192=1,\"\",IF(A193=\"\",3,1)))","v":1},{"$f":"IF(AF192=1,A193,IF(AF192=3,LEFT(A192,5)+1,\"\"))","v":1001406},null,2232]
[1001406,2226,"割草喝茶","",{"$nulls":6},{"$f":"IF(J193=\"\",\"\",VLOOKUP(J193,EventNPC!A:E,5,FALSE))","v":""},2233,"（你回到屋前，满身草屑与泥土，许由在烧水，煮茶）",null,10014,6,"",null,null,{"$f":"IF(R193=\"\",\"\",\"-\"&VLOOKUP(R193,EventConditionConfig!A:C,3,FALSE)&IF(S193=\"\",\"\",CHAR(10)&\"-\"&VLOOKUP(S193,EventConditionConfig!A:C,3,FALSE)))","v":""},null,null,"","",null,null,"",{"$nulls":4},1,1001407,null,2233]
[{"$f":"O194*100+P194","v":1001407},2226,"割草喝茶",{"$f":"IF(E194=\"\",\"\",B194+1)","v":""},{"$nulls":5},106,{"$f":"IF(J194=\"\",\"\",VLOOKUP(J194,EventNPC!A:E,5,FALSE))","v":"许由"},{"$f":"IF(M194=\"\",\"\",IF(P194=1,MAX(D194,B194)+1,MAX(B193,L193,D193,X193,AA193)+1))","v":2234},"动得挺快。坐，喝口茶。",null,10014,{"$f":"IF(O194=O193,P193+1,1)","v":7},{"$f":"_xlfn.TEXTJOIN(\";\",1,R194:S194)","v":""},null,null,{"$f":"IF(R194=\"\",\"\",\"-\"&VLOOKUP(R194,EventConditionConfig!A:C,3,FALSE)&IF(S194=\"\",\"\",CHAR(10)&\"-\"&VLOOKUP(S194,EventConditionConfig!A:C,3,FALSE)))","v":""},{"$f":"IF(Y194=\"\",\"\",1)","v":1},{"$f":"IF(U194=1,A195,\"\")","v":1001408},"2235",2235,"多谢前辈。",null,"",{"$nulls":4},{"$f":"IF(A194=\"\",\"\",IF(U194=1,\"\",IF(A195=\"\",3,1)))","v":""},{"$f":"IF(AF194=1,A195,IF(AF194=3,LEFT(A194,5)+1,\"\"))","v":""},null,2235]
[{"$f":"O195*100+P195","v":1001408},2226,"割草喝茶",{"$f":"IF(E195=\"\",\"\",B195+1)","v":""},{"$nulls":6},{"$f":"IF(J195=\"\",\"\",VLOOKUP(J195,EventNPC!A:E,5,FALSE))","v":""},{"$f":"IF(M195=\"\",\"\",IF(P195=1,MAX(D195,B195)+1,MAX(B194,L194,D194,X194,AA194)+1))","v":2236},"（你获得了永久属性提升）（此处需要进一步处理）",null,10014,{"$f":"IF(O195=O194,P194+1,1)","v":8},{"$f":"_xlfn.TEXTJOIN(\";\",1,R195:S195)","v":""},null,null,{"$f":"IF(R195=\"\",\"\",\"-\"&VLOOKUP(R195,EventConditionConfig!A:C,3,FALSE)&IF(S195=\"\",\"\",CHAR(10)&\"-\"&VLOOKUP(S195,EventConditionConfig!A:C,3,FALSE)))","v":""},{"$f":"IF(Y195=\"\",\"\",1)","v":""},{"$f":"IF(U195=1,A196,\"\")","v":""},"","",null,null,"",{"$nulls":4},{"$f":"IF(A195=\"\",\"\",IF(U195=1,\"\",IF(A196=\"\",3,1)))","v":3},{"$f":"IF(AF195=1,A196,IF(AF195=3,LEFT(A195,5)+1,\"\"))","v":10015},null,2236]
[{"$nulls":34},""]
[{"$f":"O197*100+P197","v":1001501},{"$f":"IF(B196=\"\",MAX(AA195,X195,L195,B195,D195,AA194,X194,L194)+1,B196)","v":2237},"再来一杯",{"$f":"IF(E197=\"\",\"\",B197+1)","v":""},{"$nulls":5},106,{"$f":"IF(J197=\"\",\"\",VLOOKUP(J197,EventNPC!A:E,5,FALSE))","v":"许由"},3190,"今天的风有点不对，开来昨日你在后山的动静不小呀，山那头怕是要来些不速之客。",null,{"$f":"IF(O196=\"\",O195+1,O196)","v":10015},{"$f":"IF(O197=O196,P196+1,1)","v":1},{"$f":"_xlfn.TEXTJOIN(\";\",1,R197:S197)","v":""},null,null,{"$f":"IF(R197=\"\",\"\",\"-\"&VLOOKUP(R197,EventConditionConfig!A:C,3,FALSE)&IF(S197=\"\",\"\",CHAR(10)&\"-\"&VLOOKUP(S197,EventConditionConfig!A:C,3,FALSE)))","v":""},{"$f":"IF(Y197=\"\",\"\",1)","v":""},{"$f":"IF(U197=1,A198,\"\")","v":""},{"$f":"_xlfn.TEXTJOIN(\";\",1,X197,AA197)","v":""},{"$f":"IF(Y197=\"\",\"\",L197+1)","v":""},null,null,{"$f":"IF(AB197=\"\",\"\",X197+1)","v":""},{"$nulls":4},{"$f":"IF(A197=\"\",\"\",IF(U197=1,\"\",IF(A198=\"\",3,1)))","v":1},{"$f":"IF(AF197=1,A198,IF(AF197=3,LEFT(A197,5)+1,\"\"))","v":1001502},null,3190]
[{"$f":"O198*100+P198","v":1001502},2237,"再来一杯",{"$f":"IF(E198=\"\",\"\",B198+1)","v":""},{"$nulls":5},106,{"$f":"IF(J198=\"\",\"\",VLOOKUP(J198,EventNPC!A:E,5,FALSE))","v":"许由"},3191,"你才帮我弄好灵草种子和灵田，别让妖兽给毁了。",null,10015,{"$f":"IF(O198=O197,P197+1,1)","v":2},{"$f":"_xlfn.TEXTJOIN(\";\",1,R198:S198)","v":""},null,null,{"$f":"IF(R198=\"\",\"\",\"-\"&VLOOKUP(R198,EventConditionConfig!A:C,3,FALSE)&IF(S198=\"\",\"\",CHAR(10)&\"-\"&VLOOKUP(S198,EventConditionConfig!A:C,3,FALSE)))","v":""},"","","","",null,null,"",{"$nulls":4},{"$f":"IF(A198=\"\",\"\",IF(U198=1,\"\",IF(A199=\"\",3,1)))","v":1},{"$f":"IF(AF198=1,A199,IF(AF198=3,LEFT(A198,5)+1,\"\"))","v":1001503},null,3191]
[{"$f":"O199*100+P199","v":1001503},2237,"再来一杯",{"$f":"IF(E199=\"\",\"\",B199+1)","v":""},{"$nulls":5},106,{"$f":"IF(J199=\"\",\"\",VLOOKUP(J199,EventNPC!A:E,5,FALSE))","v":"许由"},3192,"你去走一趟。",null,10015,{"$f":"IF(O199=O198,P198+1,1)","v":3},{"$f":"_xlfn.TEXTJOIN(\";\",1,R199:S199)","v":""},null,null,{"$f":"IF(R199=\"\",\"\",\"-\"&VLOOKUP(R199,EventConditionConfig!A:C,3,FALSE)&IF(S199=\"\",\"\",CHAR(10)&\"-\"&VLOOKUP(S199,EventConditionConfig!A:C,3,FALSE)))","v":""},1,1001504,"3193",3193,"好的......",null,"",{"$nulls":4},{"$f":"IF(A199=\"\",\"\",IF(U199=1,\"\",IF(A200=\"\",3,1)))","v":""},{"$f":"IF(AF199=1,A200,IF(AF199=3,LEFT(A199,5)+1,\"\"))","v":""},null,3193]
[1001504,2237,"再来一杯","",{"$nulls":6},{"$f":"IF(J200=\"\",\"\",VLOOKUP(J200,EventNPC!A:E,5,FALSE))","v":""},{"$f":"IF(M200=\"\",\"\",IF(P200=1,MAX(D200,B200)+1,MAX(B199,L199,D199,X199,AA199)+1))","v":""},null,null,10015,4,"12",12,null,{"$f":"IF(R200=\"\",\"\",\"-\"&VLOOKUP(R200,EventConditionConfig!A:C,3,FALSE)&IF(S200=\"\",\"\",CHAR(10)&\"-\"&VLOOKUP(S200,EventConditionConfig!A:C,3,FALSE)))","v":"-击败夜袭的妖兽"},"","","","",null,null,"",{"$nulls":4},1,1001505,null,2237]
[1001505,2237,"再来一杯","",{"$nulls":6},{"$f":"IF(J201=\"\",\"\",VLOOKUP(J201,EventNPC!A:E,5,FALSE))","v":""},2238,"（回到屋前，看到许由又在烧水，煮茶，和上次一样）",null,10015,5,"",null,null,{"$f":"IF(R201=\"\",\"\",\"-\"&VLOOKUP(R201,EventConditionConfig!A:C,3,FALSE)&IF(S201=\"\",\"\",CHAR(10)&\"-\"&VLOOKUP(S201,EventConditionConfig!A:C,3,FALSE)))","v":""},"","","","",null,null,"",{"$nulls":4},1,1001506,null,2238]
[{"$f":"O202*100+P202","v":1001506},2237,"再来一杯",{"$f":"IF(E202=\"\",\"\",B202+1)","v":""},{"$nulls":5},106,{"$f":"IF(J202=\"\",\"\",VLOOKUP(J202,EventNPC!A:E,5,FALSE))","v":"许由"},{"$f":"IF(M202=\"\",\"\",IF(P202=1,MAX(D202,B202)+1,MAX(B201,L201,D201,X201,AA201)+1))","v":2239},"来，喝茶。",null,10015,{"$f":"IF(O202=O201,P201+1,1)","v":6},{"$f":"_xlfn.TEXTJOIN(\";\",1,R202:S202)","v":""},null,null,{"$f":"IF(R202=\"\",\"\",\"-\"&VLOOKUP(R202,EventConditionConfig!A:C,3,FALSE)&IF(S202=\"\",\"\",CHAR(10)&\"-\"&VLOOKUP(S202,EventConditionConfig!A:C,3,FALSE)))","v":""},"","","","",null,null,"",{"$nulls":4},{"$f":"IF(A202=\"\",\"\",IF(U202=1,\"\",IF(A203=\"\",3,1)))","v":1},{"$f":"IF(AF202=1,A203,IF(AF202=3,LEFT(A202,5)+1,\"\"))","v":1001507},null,2239]
[{"$f":"O203*100+P203","v":1001507},2237,"再来一杯",{"$f":"IF(E203=\"\",\"\",B203+1)","v":""},{"$nulls":5},100,{"$f":"IF(J203=\"\",\"\",VLOOKUP(J203,EventNPC!A:E,5,FALSE))","v":"玩家"},{"$f":"IF(M203=\"\",\"\",IF(P203=1,MAX(D203,B203)+1,MAX(B202,L202,D202,X202,AA202)+1))","v":2240},"（心中默念...这个精英妖兽，可费我一些功夫，怎么又是茶？）",null,10015,{"$f":"IF(O203=O202,P202+1,1)","v":7},{"$f":"_xlfn.TEXTJOIN(\";\",1,R203:S203)","v":""},null,null,{"$f":"IF(R203=\"\",\"\",\"-\"&VLOOKUP(R203,EventConditionConfig!A:C,3,FALSE)&IF(S203=\"\",\"\",CHAR(10)&\"-\"&VLOOKUP(S203,EventConditionConfig!A:C,3,FALSE)))","v":""},1,1001508,"2241",2241,"（你没说话，默默喝下）",null,"",{"$nulls":4},{"$f":"IF(A203=\"\",\"\",IF(U203=1,\"\",IF(A204=\"\",3,1)))","v":""},{"$f":"IF(AF203=1,A204,IF(AF203=3,LEFT(A203,5)+1,\"\"))","v":""},null,2241]
[1001508,2237,"再来一杯","",{"$nulls":6},{"$f":"IF(J204=\"\",\"\",VLOOKUP(J204,EventNPC!A:E,5,FALSE))","v":""},2242,"（你获得了永久属性提升）（此处需要进一步处理）",null,10015,8,"",null,null,{"$f":"IF(R204=\"\",\"\",\"-\"&VLOOKUP(R204,EventConditionConfig!A:C,3,FALSE)&IF(S204=\"\",\"\",CHAR(10)&\"-\"&VLOOKUP(S204,EventConditionConfig!A:C,3,FALSE)))","v":""},"","","","",null,null,"",{"$nulls":4},3,10016,null,2242]
[{"$nulls":34},""]
[{"$f":"O206*100+P206","v":1001601},{"$f":"IF(B205=\"\",MAX(AA204,X204,L204,B204,D204,AA203,X203,L203)+1,B205)","v":2243},"战胜妖王",{"$f":"IF(E206=\"\",\"\",B206+1)","v":""},{"$nulls":6},{"$f":"IF(J206=\"\",\"\",VLOOKUP(J206,EventNPC!A:E,5,FALSE))","v":""},{"$f":"IF(M206=\"\",\"\",IF(P206=1,MAX(D206,B206)+1,MAX(B205,L205,D205,X205,AA205)+1))","v":2244},"（次日清晨，山顶云气升腾，许由站在灵田边，看着远山）",null,{"$f":"IF(O205=\"\",O204+1,O205)","v":10016},{"$f":"IF(O206=O205,P205+1,1)","v":1},{"$f":"_xlfn.TEXTJOIN(\";\",1,R206:S206)","v":""},null,null,{"$f":"IF(R206=\"\",\"\",\"-\"&VLOOKUP(R206,EventConditionConfig!A:C,3,FALSE)&IF(S206=\"\",\"\",CHAR(10)&\"-\"&VLOOKUP(S206,EventConditionConfig!A:C,3,FALSE)))","v":""},{"$f":"IF(Y206=\"\",\"\",1)","v":""},{"$f":"IF(U206=1,A207,\"\")","v":""},{"$f":"_xlfn.TEXTJOIN(\";\",1,X206,AA206)","v":""},{"$f":"IF(Y206=\"\",\"\",L206+1)","v":""},null,null,{"$f":"IF(AB206=\"\",\"\",X206+1)","v":""},{"$nulls":4},{"$f":"IF(A206=\"\",\"\",IF(U206=1,\"\",IF(A207=\"\",3,1)))","v":1},{"$f":"IF(AF206=1,A207,IF(AF206=3,LEFT(A206,5)+1,\"\"))","v":1001602},null,{"$f":"IF(A206=\"\",\"\",MAX(B206,D206,L206,X206,AA206))","v":2244}]
[{"$f":"O207*100+P207","v":1001602},2243,"战胜妖王",{"$f":"IF(E207=\"\",\"\",B207+1)","v":""},{"$nulls":6},{"$f":"IF(J207=\"\",\"\",VLOOKUP(J207,EventNPC!A:E,5,FALSE))","v":""},{"$f":"IF(M207=\"\",\"\",IF(P207=1,MAX(D207,B207)+1,MAX(B206,L206,D206,X206,AA206)+1))","v":2245}," 先前的妖兽，被你压了下去。可峰顶还有一头老家伙，脾气大。",null,10016,{"$f":"IF(O207=O206,P206+1,1)","v":2},{"$f":"_xlfn.TEXTJOIN(\";\",1,R207:S207)","v":""},null,null,{"$f":"IF(R207=\"\",\"\",\"-\"&VLOOKUP(R207,EventConditionConfig!A:C,3,FALSE)&IF(S207=\"\",\"\",CHAR(10)&\"-\"&VLOOKUP(S207,EventConditionConfig!A:C,3,FALSE)))","v":""},1,1001603,"2246",2246,"前辈可是希望我去处理？",null,"",{"$nulls":4},{"$f":"IF(A207=\"\",\"\",IF(U207=1,\"\",IF(A208=\"\",3,1)))","v":""},{"$f":"IF(AF207=1,A208,IF(AF207=3,LEFT(A207,5)+1,\"\"))","v":""},null,2246]
[1001603,2243,"战胜妖王","",{"$nulls":5},106,{"$f":"IF(J208=\"\",\"\",VLOOKUP(J208,EventNPC!A:E,5,FALSE))","v":"许由"},2247,"（淡笑）去吧，你可以应付的。",null,10016,3,"",null,null,{"$f":"IF(R208=\"\",\"\",\"-\"&VLOOKUP(R208,EventConditionConfig!A:C,3,FALSE)&IF(S208=\"\",\"\",CHAR(10)&\"-\"&VLOOKUP(S208,EventConditionConfig!A:C,3,FALSE)))","v":""},"","","","",null,null,"",{"$nulls":4},1,1001604,null,2247]
[1001604,2243,"战胜妖王",{"$f":"IF(E209=\"\",\"\",B209+1)","v":""},{"$nulls":6},{"$f":"IF(J209=\"\",\"\",VLOOKUP(J209,EventNPC!A:E,5,FALSE))","v":""},{"$f":"IF(M209=\"\",\"\",IF(P209=1,MAX(D209,B209)+1,MAX(B208,L208,D208,X208,AA208)+1))","v":""},null,null,10016,{"$f":"IF(O209=O208,P208+1,1)","v":4},{"$f":"_xlfn.TEXTJOIN(\";\",1,R209:S209)","v":"13"},13,null,{"$f":"IF(R209=\"\",\"\",\"-\"&VLOOKUP(R209,EventConditionConfig!A:C,3,FALSE)&IF(S209=\"\",\"\",CHAR(10)&\"-\"&VLOOKUP(S209,EventConditionConfig!A:C,3,FALSE)))","v":"-击败峰顶的妖王"},"","","","",null,null,"",{"$nulls":4},{"$f":"IF(A209=\"\",\"\",IF(U209=1,\"\",IF(A210=\"\",3,1)))","v":1},{"$f":"IF(AF209=1,A210,IF(AF209=3,LEFT(A209,5)+1,\"\"))","v":1001605},null,2243]
[{"$f":"O210*100+P210","v":1001605},2243,"战胜妖王","",{"$nulls":6},{"$f":"IF(J210=\"\",\"\",VLOOKUP(J210,EventNPC!A:E,5,FALSE))","v":""},3186,"（你回到屋前，略显疲惫，许由依然在烧水，煮茶）",null,10016,5,"",null,null,{"$f":"IF(R210=\"\",\"\",\"-\"&VLOOKUP(R210,EventConditionConfig!A:C,3,FALSE)&IF(S210=\"\",\"\",CHAR(10)&\"-\"&VLOOKUP(S210,EventConditionConfig!A:C,3,FALSE)))","v":""},"","","","",null,null,"",{"$nulls":4},1,1001606,null,3186]
[{"$f":"O211*100+P211","v":1001606},2243,"战胜妖王",{"$f":"IF(E211=\"\",\"\",B211+1)","v":""},{"$nulls":5},106,{"$f":"IF(J211=\"\",\"\",VLOOKUP(J211,EventNPC!A:E,5,FALSE))","v":"许由"},3187,"（不动声色，递茶）喝吧。",null,10016,{"$f":"IF(O211=O210,P210+1,1)","v":6},{"$f":"_xlfn.TEXTJOIN(\";\",1,R211:S211)","v":""},null,null,{"$f":"IF(R211=\"\",\"\",\"-\"&VLOOKUP(R211,EventConditionConfig!A:C,3,FALSE)&IF(S211=\"\",\"\",CHAR(10)&\"-\"&VLOOKUP(S211,EventConditionConfig!A:C,3,FALSE)))","v":""},"","","","",null,null,"",{"$nulls":4},{"$f":"IF(A211=\"\",\"\",IF(U211=1,\"\",IF(A212=\"\",3,1)))","v":1},{"$f":"IF(AF211=1,A212,IF(AF211=3,LEFT(A211,5)+1,\"\"))","v":1001607},null,3187]
[{"$f":"O212*100+P212","v":1001607},2243,"战胜妖王",{"$f":"IF(E212=\"\",\"\",B212+1)","v":""},{"$nulls":5},100,{"$f":"IF(J212=\"\",\"\",VLOOKUP(J212,EventNPC!A:E,5,FALSE))","v":"玩家"},3188,"（低声）……前辈，我做了怎么多事，一次比一次难。为何每次都让我喝茶？",null,10016,{"$f":"IF(O212=O211,P211+1,1)","v":7},{"$f":"_xlfn.TEXTJOIN(\";\",1,R212:S212)","v":""},null,null,{"$f":"IF(R212=\"\",\"\",\"-\"&VLOOKUP(R212,EventConditionConfig!A:C,3,FALSE)&IF(S212=\"\",\"\",CHAR(10)&\"-\"&VLOOKUP(S212,EventConditionConfig!A:C,3,FALSE)))","v":""},"","","","",null,null,"",{"$nulls":4},{"$f":"IF(A212=\"\",\"\",IF(U212=1,\"\",IF(A213=\"\",3,1)))","v":1},{"$f":"IF(AF212=1,A213,IF(AF212=3,LEFT(A212,5)+1,\"\"))","v":1001608},null,3188]
[{"$f":"O213*100+P213","v":1001608},2243,"战胜妖王",{"$f":"IF(E213=\"\",\"\",B213+1)","v":""},{"$nulls":5},106,{"$f":"IF(J213=\"\",\"\",VLOOKUP(J213,EventNPC!A:E,5,FALSE))","v":"许由"},3189,"哈哈哈，小友.你赢得越来越多，喝得却越来越不甘心。",null,10016,{"$f":"IF(O213=O212,P212+1,1)","v":8},{"$f":"_xlfn.TEXTJOIN(\";\",1,R213:S213)","v":""},null,null,{"$f":"IF(R213=\"\",\"\",\"-\"&VLOOKUP(R213,EventConditionConfig!A:C,3,FALSE)&IF(S213=\"\",\"\",CHAR(10)&\"-\"&VLOOKUP(S213,EventConditionConfig!A:C,3,FALSE)))","v":""},"","","","",null,null,"",{"$nulls":4},{"$f":"IF(A213=\"\",\"\",IF(U213=1,\"\",IF(A214=\"\",3,1)))","v":1},{"$f":"IF(AF213=1,A214,IF(AF213=3,LEFT(A213,5)+1,\"\"))","v":1001609},null,3189]
[{"$f":"O214*100+P214","v":1001609},2243,"战胜妖王",{"$f":"IF(E214=\"\",\"\",B214+1)","v":""},{"$nulls":5},106,{"$f":"IF(J214=\"\",\"\",VLOOKUP(J214,EventNPC!A:E,5,FALSE))","v":"许由"},2248,"尧现在，或许也是这个心情吧。一路赢到底，却再没能静下心来，喝一杯茶。",null,10016,{"$f":"IF(O214=O213,P213+1,1)","v":9},{"$f":"_xlfn.TEXTJOIN(\";\",1,R214:S214)","v":""},null,null,{"$f":"IF(R214=\"\",\"\",\"-\"&VLOOKUP(R214,EventConditionConfig!A:C,3,FALSE)&IF(S214=\"\",\"\",CHAR(10)&\"-\"&VLOOKUP(S214,EventConditionConfig!A:C,3,FALSE)))","v":""},"","","","",null,null,"",{"$nulls":4},{"$f":"IF(A214=\"\",\"\",IF(U214=1,\"\",IF(A215=\"\",3,1)))","v":1},{"$f":"IF(AF214=1,A215,IF(AF214=3,LEFT(A214,5)+1,\"\"))","v":1001610},null,2248]
[{"$f":"O215*100+P215","v":1001610},2243,"战胜妖王",{"$f":"IF(E215=\"\",\"\",B215+1)","v":""},{"$nulls":5},106,{"$f":"IF(J215=\"\",\"\",VLOOKUP(J215,EventNPC!A:E,5,FALSE))","v":"许由"},{"$f":"IF(M215=\"\",\"\",IF(P215=1,MAX(D215,B215)+1,MAX(B214,L214,D214,X214,AA214)+1))","v":2249},"好了，你回去吧。",null,10016,{"$f":"IF(O215=O214,P214+1,1)","v":10},{"$f":"_xlfn.TEXTJOIN(\";\",1,R215:S215)","v":""},null,null,{"$f":"IF(R215=\"\",\"\",\"-\"&VLOOKUP(R215,EventConditionConfig!A:C,3,FALSE)&IF(S215=\"\",\"\",CHAR(10)&\"-\"&VLOOKUP(S215,EventConditionConfig!A:C,3,FALSE)))","v":""},1,{"$f":"IF(U215=1,_xlfn.TEXTJOIN(\";\",1,IF(Z215=\"\",A215+1,Z215),IF(AND(AA215<>\"\",AC215=\"\"),A215+1,AC215)),IF(U215=2,Y215,\"\"))","v":"1001611;1001612"},"2250;2251",2250,"我该如何回复尧帝？",{"$f":"A216","v":1001611},2251,"多谢前辈提醒。",{"$f":"A217","v":1001612},null,null,{"$f":"IF(A215=\"\",\"\",IF(U215=1,\"\",IF(A216=\"\",3,1)))","v":""},{"$f":"IF(AF215=1,A216,IF(AF215=3,LEFT(A215,5)+1,\"\"))","v":""},null,2251]
[1001611,2243,"战胜妖王","",{"$nulls":5},106,{"$f":"IF(J216=\"\",\"\",VLOOKUP(J216,EventNPC!A:E,5,FALSE))","v":"许由"},2252,"“道不碍政，心自碍道”。若心不净，纵避千山万水，又有何用。",null,10016,11,"",null,null,{"$f":"IF(R216=\"\",\"\",\"-\"&VLOOKUP(R216,EventConditionConfig!A:C,3,FALSE)&IF(S216=\"\",\"\",CHAR(10)&\"-\"&VLOOKUP(S216,EventConditionConfig!A:C,3,FALSE)))","v":""},"",{"$f":"IF(U216=1,A217,\"\")","v":""},"","",null,null,"",{"$nulls":4},1,1001612,null,2252]
[{"$f":"O217*100+P217","v":1001612},2243,"战胜妖王",{"$f":"IF(E217=\"\",\"\",B217+1)","v":""},{"$nulls":6},{"$f":"IF(J217=\"\",\"\",VLOOKUP(J217,EventNPC!A:E,5,FALSE))","v":""},{"$f":"IF(M217=\"\",\"\",IF(P217=1,MAX(D217,B217)+1,MAX(B216,L216,D216,X216,AA216)+1))","v":2253},"（你低头，看着杯中微动的茶水）\n（喝下第三杯茶，觉得一身轻松）",null,10016,{"$f":"IF(O217=O216,P216+1,1)","v":12},{"$f":"_xlfn.TEXTJOIN(\";\",1,R217:S217)","v":""},null,null,{"$f":"IF(R217=\"\",\"\",\"-\"&VLOOKUP(R217,EventConditionConfig!A:C,3,FALSE)&IF(S217=\"\",\"\",CHAR(10)&\"-\"&VLOOKUP(S217,EventConditionConfig!A:C,3,FALSE)))","v":""},"",{"$f":"IF(U217=1,A218,\"\")","v":""},"","",null,null,"",{"$nulls":4},{"$f":"IF(A217=\"\",\"\",IF(U217=1,\"\",IF(A218=\"\",3,1)))","v":1},{"$f":"IF(AF217=1,A218,IF(AF217=3,LEFT(A217,5)+1,\"\"))","v":1001613},null,2253]
[1001613,2243,"战胜妖王","",{"$nulls":6},{"$f":"IF(J218=\"\",\"\",VLOOKUP(J218,EventNPC!A:E,5,FALSE))","v":""},2254,"（你获得了永久属性提升）（此处需要进一步处理）",null,10016,13,"",null,null,{"$f":"IF(R218=\"\",\"\",\"-\"&VLOOKUP(R218,EventConditionConfig!A:C,3,FALSE)&IF(S218=\"\",\"\",CHAR(10)&\"-\"&VLOOKUP(S218,EventConditionConfig!A:C,3,FALSE)))","v":""},"",{"$f":"IF(U218=1,A219,\"\")","v":""},"","",null,null,"",{"$nulls":4},3,10017,null,2254]
[{"$nulls":34},""]
[{"$f":"O220*100+P220","v":1001701},{"$f":"IF(B219=\"\",MAX(AA218,X218,L218,B218,D218,AA217,X217,L217)+1,B219)","v":2255},"回尧城与帝尧对话，复述许由之言",{"$f":"IF(E220=\"\",\"\",B220+1)","v":""},{"$nulls":5},100,{"$f":"IF(J220=\"\",\"\",VLOOKUP(J220,EventNPC!A:E,5,FALSE))","v":"玩家"},{"$f":"IF(M220=\"\",\"\",IF(P220=1,MAX(D220,B220)+1,MAX(B219,L219,D219,X219,AA219)+1))","v":2256},"前辈，晚辈已往访许由，将事情告知他。",null,{"$f":"IF(O219=\"\",O218+1,O219)","v":10017},{"$f":"IF(O220=O219,P219+1,1)","v":1},{"$f":"_xlfn.TEXTJOIN(\";\",1,R220:S220)","v":""},null,null,{"$f":"IF(R220=\"\",\"\",\"-\"&VLOOKUP(R220,EventConditionConfig!A:C,3,FALSE)&IF(S220=\"\",\"\",CHAR(10)&\"-\"&VLOOKUP(S220,EventConditionConfig!A:C,3,FALSE)))","v":""},{"$f":"IF(Y220=\"\",\"\",1)","v":""},{"$f":"IF(U220=1,A221,\"\")","v":""},{"$f":"_xlfn.TEXTJOIN(\";\",1,X220,AA220)","v":""},{"$f":"IF(Y220=\"\",\"\",L220+1)","v":""},null,null,{"$f":"IF(AB220=\"\",\"\",X220+1)","v":""},{"$nulls":4},{"$f":"IF(A220=\"\",\"\",IF(U220=1,\"\",IF(A221=\"\",3,1)))","v":1},{"$f":"IF(AF220=1,A221,IF(AF220=3,LEFT(A220,5)+1,\"\"))","v":1001702},null,2256]
[{"$f":"O221*100+P221","v":1001702},2255,"回尧城与帝尧对话，复述许由之言",{"$f":"IF(E221=\"\",\"\",B221+1)","v":""},{"$nulls":5},105,{"$f":"IF(J221=\"\",\"\",VLOOKUP(J221,EventNPC!A:E,5,FALSE))","v":"尧帝"},{"$f":"IF(M221=\"\",\"\",IF(P221=1,MAX(D221,B221)+1,MAX(B220,L220,D220,X220,AA220)+1))","v":2257},"他如何说？",null,10017,{"$f":"IF(O221=O220,P220+1,1)","v":2},{"$f":"_xlfn.TEXTJOIN(\";\",1,R221:S221)","v":""},null,null,{"$f":"IF(R221=\"\",\"\",\"-\"&VLOOKUP(R221,EventConditionConfig!A:C,3,FALSE)&IF(S221=\"\",\"\",CHAR(10)&\"-\"&VLOOKUP(S221,EventConditionConfig!A:C,3,FALSE)))","v":""},"","","","",null,null,"",{"$nulls":4},{"$f":"IF(A221=\"\",\"\",IF(U221=1,\"\",IF(A222=\"\",3,1)))","v":1},{"$f":"IF(AF221=1,A222,IF(AF221=3,LEFT(A221,5)+1,\"\"))","v":1001703},null,2257]
[{"$f":"O222*100+P222","v":1001703},2255,"回尧城与帝尧对话，复述许由之言",{"$f":"IF(E222=\"\",\"\",B222+1)","v":""},{"$nulls":5},100,{"$f":"IF(J222=\"\",\"\",VLOOKUP(J222,EventNPC!A:E,5,FALSE))","v":"玩家"},{"$f":"IF(M222=\"\",\"\",IF(P222=1,MAX(D222,B222)+1,MAX(B221,L221,D221,X221,AA221)+1))","v":2258},"许由不愿出山，让我转告您一句话。\n“道不碍政，心自碍道。”\n若心不净，纵避千山万水，又有何用。”",null,10017,{"$f":"IF(O222=O221,P221+1,1)","v":3},{"$f":"_xlfn.TEXTJOIN(\";\",1,R222:S222)","v":""},null,null,{"$f":"IF(R222=\"\",\"\",\"-\"&VLOOKUP(R222,EventConditionConfig!A:C,3,FALSE)&IF(S222=\"\",\"\",CHAR(10)&\"-\"&VLOOKUP(S222,EventConditionConfig!A:C,3,FALSE)))","v":""},"","","","",null,null,"",{"$nulls":4},{"$f":"IF(A222=\"\",\"\",IF(U222=1,\"\",IF(A223=\"\",3,1)))","v":1},{"$f":"IF(AF222=1,A223,IF(AF222=3,LEFT(A222,5)+1,\"\"))","v":1001704},null,2258]
[1001704,2255,"回尧城与帝尧对话，复述许由之言",{"$f":"IF(E223=\"\",\"\",B223+1)","v":""},{"$nulls":5},105,{"$f":"IF(J223=\"\",\"\",VLOOKUP(J223,EventNPC!A:E,5,FALSE))","v":"尧帝"},{"$f":"IF(M223=\"\",\"\",IF(P223=1,MAX(D223,B223)+1,MAX(B222,L222,D222,X222,AA222)+1))","v":2259},"（帝尧沉默，良久，轻轻点头）他还是那副模样……不肯出山。",null,10017,{"$f":"IF(O223=O222,P222+1,1)","v":4},{"$f":"_xlfn.TEXTJOIN(\";\",1,R223:S223)","v":""},null,null,{"$f":"IF(R223=\"\",\"\",\"-\"&VLOOKUP(R223,EventConditionConfig!A:C,3,FALSE)&IF(S223=\"\",\"\",CHAR(10)&\"-\"&VLOOKUP(S223,EventConditionConfig!A:C,3,FALSE)))","v":""},"","","","",null,null,"",{"$nulls":4},{"$f":"IF(A223=\"\",\"\",IF(U223=1,\"\",IF(A224=\"\",3,1)))","v":1},{"$f":"IF(AF223=1,A224,IF(AF223=3,LEFT(A223,5)+1,\"\"))","v":1001705},null,2259]
[1001705,2255,"回尧城与帝尧对话，复述许由之言",{"$f":"IF(E224=\"\",\"\",B224+1)","v":""},{"$nulls":5},105,{"$f":"IF(J224=\"\",\"\",VLOOKUP(J224,EventNPC!A:E,5,FALSE))","v":"尧帝"},{"$f":"IF(M224=\"\",\"\",IF(P224=1,MAX(D224,B224)+1,MAX(B223,L223,D223,X223,AA223)+1))","v":2260},"（抬眼望你）不过，他说得也有几分道理。",null,10017,{"$f":"IF(O224=O223,P223+1,1)","v":5},{"$f":"_xlfn.TEXTJOIN(\";\",1,R224:S224)","v":""},null,null,{"$f":"IF(R224=\"\",\"\",\"-\"&VLOOKUP(R224,EventConditionConfig!A:C,3,FALSE)&IF(S224=\"\",\"\",CHAR(10)&\"-\"&VLOOKUP(S224,EventConditionConfig!A:C,3,FALSE)))","v":""},"","","","",null,null,"",{"$nulls":4},{"$f":"IF(A224=\"\",\"\",IF(U224=1,\"\",IF(A225=\"\",3,1)))","v":1},{"$f":"IF(AF224=1,A225,IF(AF224=3,LEFT(A224,5)+1,\"\"))","v":1001706},null,2260]
[1001706,2255,"回尧城与帝尧对话，复述许由之言",{"$f":"IF(E225=\"\",\"\",B225+1)","v":""},{"$nulls":5},105,{"$f":"IF(J225=\"\",\"\",VLOOKUP(J225,EventNPC!A:E,5,FALSE))","v":"尧帝"},{"$f":"IF(M225=\"\",\"\",IF(P225=1,MAX(D225,B225)+1,MAX(B224,L224,D224,X224,AA224)+1))","v":2261},"我以为，是天下扰我修行，难道是我自己扰了自己？我再想想吧。（轻叹）",null,10017,{"$f":"IF(O225=O224,P224+1,1)","v":6},{"$f":"_xlfn.TEXTJOIN(\";\",1,R225:S225)","v":""},null,null,{"$f":"IF(R225=\"\",\"\",\"-\"&VLOOKUP(R225,EventConditionConfig!A:C,3,FALSE)&IF(S225=\"\",\"\",CHAR(10)&\"-\"&VLOOKUP(S225,EventConditionConfig!A:C,3,FALSE)))","v":""},"","","","",null,null,"",{"$nulls":4},{"$f":"IF(A225=\"\",\"\",IF(U225=1,\"\",IF(A226=\"\",3,1)))","v":1},{"$f":"IF(AF225=1,A226,IF(AF225=3,LEFT(A225,5)+1,\"\"))","v":1001707},null,2261]
[1001707,2255,"回尧城与帝尧对话，复述许由之言",{"$f":"IF(E226=\"\",\"\",B226+1)","v":""},{"$nulls":5},105,{"$f":"IF(J226=\"\",\"\",VLOOKUP(J226,EventNPC!A:E,5,FALSE))","v":"尧帝"},{"$f":"IF(M226=\"\",\"\",IF(P226=1,MAX(D226,B226)+1,MAX(B225,L225,D225,X225,AA225)+1))","v":2262},"小友，辛苦你这一趟。",null,10017,{"$f":"IF(O226=O225,P225+1,1)","v":7},{"$f":"_xlfn.TEXTJOIN(\";\",1,R226:S226)","v":""},null,null,{"$f":"IF(R226=\"\",\"\",\"-\"&VLOOKUP(R226,EventConditionConfig!A:C,3,FALSE)&IF(S226=\"\",\"\",CHAR(10)&\"-\"&VLOOKUP(S226,EventConditionConfig!A:C,3,FALSE)))","v":""},"","","","",null,null,"",{"$nulls":4},{"$f":"IF(A226=\"\",\"\",IF(U226=1,\"\",IF(A227=\"\",3,1)))","v":1},{"$f":"IF(AF226=1,A227,IF(AF226=3,LEFT(A226,5)+1,\"\"))","v":1001708},null,2262]
[1001708,2255,"回尧城与帝尧对话，复述许由之言",{"$f":"IF(E227=\"\",\"\",B227+1)","v":""},{"$nulls":5},105,{"$f":"IF(J227=\"\",\"\",VLOOKUP(J227,EventNPC!A:E,5,FALSE))","v":"尧帝"},{"$f":"IF(M227=\"\",\"\",IF(P227=1,MAX(D227,B227)+1,MAX(B226,L226,D226,X226,AA226)+1))","v":2263},"你让我想起，我当年初修时，也常在山野之间，与人论道、与妖兽斗法……",null,10017,{"$f":"IF(O227=O226,P226+1,1)","v":8},{"$f":"_xlfn.TEXTJOIN(\";\",1,R227:S227)","v":""},null,null,{"$f":"IF(R227=\"\",\"\",\"-\"&VLOOKUP(R227,EventConditionConfig!A:C,3,FALSE)&IF(S227=\"\",\"\",CHAR(10)&\"-\"&VLOOKUP(S227,EventConditionConfig!A:C,3,FALSE)))","v":""},"","","","",null,null,"",{"$nulls":4},{"$f":"IF(A227=\"\",\"\",IF(U227=1,\"\",IF(A228=\"\",3,1)))","v":1},{"$f":"IF(AF227=1,A228,IF(AF227=3,LEFT(A227,5)+1,\"\"))","v":1001709},null,2263]
[1001709,2255,"回尧城与帝尧对话，复述许由之言",{"$f":"IF(E228=\"\",\"\",B228+1)","v":""},{"$nulls":5},105,{"$f":"IF(J228=\"\",\"\",VLOOKUP(J228,EventNPC!A:E,5,FALSE))","v":"尧帝"},{"$f":"IF(M228=\"\",\"\",IF(P228=1,MAX(D228,B228)+1,MAX(B227,L227,D227,X227,AA227)+1))","v":2264},"（转身，望向殿后灵山）我这里灵气充沛，古迹亦多，不妨在此逗留几日，四处看看。",null,10017,{"$f":"IF(O228=O227,P227+1,1)","v":9},{"$f":"_xlfn.TEXTJOIN(\";\",1,R228:S228)","v":""},null,null,{"$f":"IF(R228=\"\",\"\",\"-\"&VLOOKUP(R228,EventConditionConfig!A:C,3,FALSE)&IF(S228=\"\",\"\",CHAR(10)&\"-\"&VLOOKUP(S228,EventConditionConfig!A:C,3,FALSE)))","v":""},"","","","",null,null,"",{"$nulls":4},{"$f":"IF(A228=\"\",\"\",IF(U228=1,\"\",IF(A229=\"\",3,1)))","v":1},{"$f":"IF(AF228=1,A229,IF(AF228=3,LEFT(A228,5)+1,\"\"))","v":1001710},null,2264]
[1001710,2255,"回尧城与帝尧对话，复述许由之言",{"$f":"IF(E229=\"\",\"\",B229+1)","v":""},{"$nulls":5},105,{"$f":"IF(J229=\"\",\"\",VLOOKUP(J229,EventNPC!A:E,5,FALSE))","v":"尧帝"},{"$f":"IF(M229=\"\",\"\",IF(P229=1,MAX(D229,B229)+1,MAX(B228,L228,D228,X228,AA228)+1))","v":2265},"或许这也是冲虚真人引你来的真正用意。",null,10017,{"$f":"IF(O229=O228,P228+1,1)","v":10},{"$f":"_xlfn.TEXTJOIN(\";\",1,R229:S229)","v":""},null,null,{"$f":"IF(R229=\"\",\"\",\"-\"&VLOOKUP(R229,EventConditionConfig!A:C,3,FALSE)&IF(S229=\"\",\"\",CHAR(10)&\"-\"&VLOOKUP(S229,EventConditionConfig!A:C,3,FALSE)))","v":""},"","","","",null,null,"",{"$nulls":4},{"$f":"IF(A229=\"\",\"\",IF(U229=1,\"\",IF(A230=\"\",3,1)))","v":3},{"$f":"IF(AF229=1,A230,IF(AF229=3,LEFT(A229,5)+1,\"\"))","v":10018},null,2265]
[{"$nulls":34},""]
[{"$f":"O231*100+P231","v":1001801},{"$f":"IF(B230=\"\",MAX(AA229,X229,L229,B229,D229,AA228,X228,L228)+1,B230)","v":2266},"和村民对话",{"$f":"IF(E231=\"\",\"\",B231+1)","v":""},{"$nulls":5},107,{"$f":"IF(J231=\"\",\"\",VLOOKUP(J231,EventNPC!A:E,5,FALSE))","v":"村名甲"},{"$f":"IF(M231=\"\",\"\",IF(P231=1,MAX(D231,B231)+1,MAX(B230,L230,D230,X230,AA230)+1))","v":2267},"（抬头看树）啧，这棵老怪树，又矮又歪，枝杈乱伸，挡着田，碍着路。",null,{"$f":"IF(O230=\"\",O229+1,O230)","v":10018},{"$f":"IF(O231=O230,P230+1,1)","v":1},{"$f":"_xlfn.TEXTJOIN(\";\",1,R231:S231)","v":""},null,null,{"$f":"IF(R231=\"\",\"\",\"-\"&VLOOKUP(R231,EventConditionConfig!A:C,3,FALSE)&IF(S231=\"\",\"\",CHAR(10)&\"-\"&VLOOKUP(S231,EventConditionConfig!A:C,3,FALSE)))","v":""},{"$f":"IF(Y231=\"\",\"\",1)","v":""},{"$f":"IF(U231=1,A232,\"\")","v":""},{"$f":"_xlfn.TEXTJOIN(\";\",1,X231,AA231)","v":""},{"$f":"IF(Y231=\"\",\"\",L231+1)","v":""},null,null,{"$f":"IF(AB231=\"\",\"\",X231+1)","v":""},{"$nulls":4},{"$f":"IF(A231=\"\",\"\",IF(U231=1,\"\",IF(A232=\"\",3,1)))","v":1},{"$f":"IF(AF231=1,A232,IF(AF231=3,LEFT(A231,5)+1,\"\"))","v":1001802},null,2267]
[1001802,2266,"和村民对话",{"$f":"IF(E232=\"\",\"\",B232+1)","v":""},{"$nulls":5},108,{"$f":"IF(J232=\"\",\"\",VLOOKUP(J232,EventNPC!A:E,5,FALSE))","v":"村名乙"},{"$f":"IF(M232=\"\",\"\",IF(P232=1,MAX(D232,B232)+1,MAX(B231,L231,D231,X231,AA231)+1))","v":2268},"（叹气）啊，对对对。\n长得歪七扭八的，根还凸出土，差点把我家牛绊了。",null,10018,{"$f":"IF(O232=O231,P231+1,1)","v":2},{"$f":"_xlfn.TEXTJOIN(\";\",1,R232:S232)","v":""},null,null,{"$f":"IF(R232=\"\",\"\",\"-\"&VLOOKUP(R232,EventConditionConfig!A:C,3,FALSE)&IF(S232=\"\",\"\",CHAR(10)&\"-\"&VLOOKUP(S232,EventConditionConfig!A:C,3,FALSE)))","v":""},"","","","",null,null,"",{"$nulls":4},{"$f":"IF(A232=\"\",\"\",IF(U232=1,\"\",IF(A233=\"\",3,1)))","v":1},{"$f":"IF(AF232=1,A233,IF(AF232=3,LEFT(A232,5)+1,\"\"))","v":1001803},null,2268]
[1001803,2266,"和村民对话",{"$f":"IF(E233=\"\",\"\",B233+1)","v":""},{"$nulls":5},109,{"$f":"IF(J233=\"\",\"\",VLOOKUP(J233,EventNPC!A:E,5,FALSE))","v":"村名丙"},{"$f":"IF(M233=\"\",\"\",IF(P233=1,MAX(D233,B233)+1,MAX(B232,L232,D232,X232,AA232)+1))","v":2269},"对对对，要是没有这棵树就好了，空占这么大块好地。",null,10018,{"$f":"IF(O233=O232,P232+1,1)","v":3},{"$f":"_xlfn.TEXTJOIN(\";\",1,R233:S233)","v":""},null,null,{"$f":"IF(R233=\"\",\"\",\"-\"&VLOOKUP(R233,EventConditionConfig!A:C,3,FALSE)&IF(S233=\"\",\"\",CHAR(10)&\"-\"&VLOOKUP(S233,EventConditionConfig!A:C,3,FALSE)))","v":""},"","","","",null,null,"",{"$nulls":4},{"$f":"IF(A233=\"\",\"\",IF(U233=1,\"\",IF(A234=\"\",3,1)))","v":1},{"$f":"IF(AF233=1,A234,IF(AF233=3,LEFT(A233,5)+1,\"\"))","v":1001804},null,2269]
[1001804,2266,"和村民对话","",{"$nulls":5},107,{"$f":"IF(J234=\"\",\"\",VLOOKUP(J234,EventNPC!A:E,5,FALSE))","v":"村名甲"},2270,"这树是真没用，连个树荫都没，晴天底下站着热，雨天底下水多。",null,10018,4,"",null,null,{"$f":"IF(R234=\"\",\"\",\"-\"&VLOOKUP(R234,EventConditionConfig!A:C,3,FALSE)&IF(S234=\"\",\"\",CHAR(10)&\"-\"&VLOOKUP(S234,EventConditionConfig!A:C,3,FALSE)))","v":""},"","","","",null,null,"",{"$nulls":4},1,1001805,null,2270]
[1001805,2266,"和村民对话","",{"$nulls":5},108,{"$f":"IF(J235=\"\",\"\",VLOOKUP(J235,EventNPC!A:E,5,FALSE))","v":"村名乙"},2271,"就是啊，想在树下歇个脚都不行。",null,10018,5,"",null,null,{"$f":"IF(R235=\"\",\"\",\"-\"&VLOOKUP(R235,EventConditionConfig!A:C,3,FALSE)&IF(S235=\"\",\"\",CHAR(10)&\"-\"&VLOOKUP(S235,EventConditionConfig!A:C,3,FALSE)))","v":""},1,1001806,"2272",2272,"（环顾左右）是吗，我就不信，这棵树没有用…",null,"",{"$nulls":4},"","",null,2272]
[1001806,2266,"和村民对话",{"$f":"IF(E236=\"\",\"\",B236+1)","v":""},{"$nulls":5},109,{"$f":"IF(J236=\"\",\"\",VLOOKUP(J236,EventNPC!A:E,5,FALSE))","v":"村名丙"},{"$f":"IF(M236=\"\",\"\",IF(P236=1,MAX(D236,B236)+1,MAX(B235,L235,D235,X235,AA235)+1))","v":2273},"这位仙长，那你说说看，这树能干什么？",null,10018,{"$f":"IF(O236=O235,P235+1,1)","v":6},{"$f":"_xlfn.TEXTJOIN(\";\",1,R236:S236)","v":""},null,null,{"$f":"IF(R236=\"\",\"\",\"-\"&VLOOKUP(R236,EventConditionConfig!A:C,3,FALSE)&IF(S236=\"\",\"\",CHAR(10)&\"-\"&VLOOKUP(S236,EventConditionConfig!A:C,3,FALSE)))","v":""},1,1001807,"2274",2274,"劈了当柴烧。",null,"",{"$nulls":4},{"$f":"IF(A236=\"\",\"\",IF(U236=1,\"\",IF(A237=\"\",3,1)))","v":""},{"$f":"IF(AF236=1,A237,IF(AF236=3,LEFT(A236,5)+1,\"\"))","v":""},null,2274]
[1001807,2266,"和村民对话","",{"$nulls":5},107,{"$f":"IF(J237=\"\",\"\",VLOOKUP(J237,EventNPC!A:E,5,FALSE))","v":"村名甲"},2275,"这位仙长，你有所不知，这树又大又硬，根本没法劈。",null,10018,7,"",null,null,{"$f":"IF(R237=\"\",\"\",\"-\"&VLOOKUP(R237,EventConditionConfig!A:C,3,FALSE)&IF(S237=\"\",\"\",CHAR(10)&\"-\"&VLOOKUP(S237,EventConditionConfig!A:C,3,FALSE)))","v":""},1,1001808,"2276",2276,"劈了做家具。",null,"",{"$nulls":4},"","",null,2276]
[1001808,2266,"和村民对话","",{"$nulls":5},108,{"$f":"IF(J238=\"\",\"\",VLOOKUP(J238,EventNPC!A:E,5,FALSE))","v":"村名乙"},2277,"我就是匠人，这树一看就不中用。",null,10018,8,"",null,null,{"$f":"IF(R238=\"\",\"\",\"-\"&VLOOKUP(R238,EventConditionConfig!A:C,3,FALSE)&IF(S238=\"\",\"\",CHAR(10)&\"-\"&VLOOKUP(S238,EventConditionConfig!A:C,3,FALSE)))","v":""},"","","","",null,null,"",{"$nulls":4},1,1001809,null,2277]
[1001809,2266,"和村民对话",{"$f":"IF(E239=\"\",\"\",B239+1)","v":""},{"$nulls":5},108,{"$f":"IF(J239=\"\",\"\",VLOOKUP(J239,EventNPC!A:E,5,FALSE))","v":"村名乙"},{"$f":"IF(M239=\"\",\"\",IF(P239=1,MAX(D239,B239)+1,MAX(B238,L238,D238,X238,AA238)+1))","v":2278},"锯下来的木头，绳墨拉不直，做不了梁柱，做不了门板，更别说其他家具了。",null,10018,{"$f":"IF(O239=O238,P238+1,1)","v":9},{"$f":"_xlfn.TEXTJOIN(\";\",1,R239:S239)","v":""},null,null,{"$f":"IF(R239=\"\",\"\",\"-\"&VLOOKUP(R239,EventConditionConfig!A:C,3,FALSE)&IF(S239=\"\",\"\",CHAR(10)&\"-\"&VLOOKUP(S239,EventConditionConfig!A:C,3,FALSE)))","v":""},"","","","",null,null,"",{"$nulls":4},{"$f":"IF(A239=\"\",\"\",IF(U239=1,\"\",IF(A240=\"\",3,1)))","v":1},{"$f":"IF(AF239=1,A240,IF(AF239=3,LEFT(A239,5)+1,\"\"))","v":1001810},null,2278]
[1001810,2266,"和村民对话","",{"$nulls":5},109,{"$f":"IF(J240=\"\",\"\",VLOOKUP(J240,EventNPC!A:E,5,FALSE))","v":"村名丙"},2279,"没错，我是木匠，此树木质发涩发腥，连漆都涂不上，当真无用。",null,10018,10,"",null,null,{"$f":"IF(R240=\"\",\"\",\"-\"&VLOOKUP(R240,EventConditionConfig!A:C,3,FALSE)&IF(S240=\"\",\"\",CHAR(10)&\"-\"&VLOOKUP(S240,EventConditionConfig!A:C,3,FALSE)))","v":""},"","","","",null,null,"",{"$nulls":4},1,1001811,null,2279]
[1001811,2266,"和村民对话",{"$f":"IF(E241=\"\",\"\",B241+1)","v":""},{"$nulls":5},100,{"$f":"IF(J241=\"\",\"\",VLOOKUP(J241,EventNPC!A:E,5,FALSE))","v":"玩家"},{"$f":"IF(M241=\"\",\"\",IF(P241=1,MAX(D241,B241)+1,MAX(B240,L240,D240,X240,AA240)+1))","v":2280},"此树如此之大，真的毫无用处吗？\n此树看起来有数千年了。",null,10018,{"$f":"IF(O241=O240,P240+1,1)","v":11},{"$f":"_xlfn.TEXTJOIN(\";\",1,R241:S241)","v":""},null,null,{"$f":"IF(R241=\"\",\"\",\"-\"&VLOOKUP(R241,EventConditionConfig!A:C,3,FALSE)&IF(S241=\"\",\"\",CHAR(10)&\"-\"&VLOOKUP(S241,EventConditionConfig!A:C,3,FALSE)))","v":""},"","","","",null,null,"",{"$nulls":4},{"$f":"IF(A241=\"\",\"\",IF(U241=1,\"\",IF(A242=\"\",3,1)))","v":1},{"$f":"IF(AF241=1,A242,IF(AF241=3,LEFT(A241,5)+1,\"\"))","v":1001812},null,2280]
[1001812,2266,"和村民对话",{"$f":"IF(E242=\"\",\"\",B242+1)","v":""},{"$nulls":5},100,{"$f":"IF(J242=\"\",\"\",VLOOKUP(J242,EventNPC!A:E,5,FALSE))","v":"玩家"},{"$f":"IF(M242=\"\",\"\",IF(P242=1,MAX(D242,B242)+1,MAX(B241,L241,D241,X241,AA241)+1))","v":2281},"（见村民纷纷离开了，你靠近大树）",null,10018,{"$f":"IF(O242=O241,P241+1,1)","v":12},{"$f":"_xlfn.TEXTJOIN(\";\",1,R242:S242)","v":""},null,null,{"$f":"IF(R242=\"\",\"\",\"-\"&VLOOKUP(R242,EventConditionConfig!A:C,3,FALSE)&IF(S242=\"\",\"\",CHAR(10)&\"-\"&VLOOKUP(S242,EventConditionConfig!A:C,3,FALSE)))","v":""},"","","","",null,null,"",{"$nulls":4},{"$f":"IF(A242=\"\",\"\",IF(U242=1,\"\",IF(A243=\"\",3,1)))","v":1},{"$f":"IF(AF242=1,A243,IF(AF242=3,LEFT(A242,5)+1,\"\"))","v":1001813},null,2281]
[1001813,2266,"和村民对话",{"$f":"IF(E243=\"\",\"\",B243+1)","v":""},{"$nulls":5},110,{"$f":"IF(J243=\"\",\"\",VLOOKUP(J243,EventNPC!A:E,5,FALSE))","v":"樗木之灵"},{"$f":"IF(M243=\"\",\"\",IF(P243=1,MAX(D243,B243)+1,MAX(B242,L242,D242,X242,AA242)+1))","v":2282},"（低沉悠远的声音）我是樗。\n世人见我歪斜，粗大，笑我无用……",null,10018,{"$f":"IF(O243=O242,P242+1,1)","v":13},{"$f":"_xlfn.TEXTJOIN(\";\",1,R243:S243)","v":""},null,null,{"$f":"IF(R243=\"\",\"\",\"-\"&VLOOKUP(R243,EventConditionConfig!A:C,3,FALSE)&IF(S243=\"\",\"\",CHAR(10)&\"-\"&VLOOKUP(S243,EventConditionConfig!A:C,3,FALSE)))","v":""},"","","","",null,null,"",{"$nulls":4},{"$f":"IF(A243=\"\",\"\",IF(U243=1,\"\",IF(A244=\"\",3,1)))","v":1},{"$f":"IF(AF243=1,A244,IF(AF243=3,LEFT(A243,5)+1,\"\"))","v":1001814},null,2282]
[1001814,2266,"和村民对话",{"$f":"IF(E244=\"\",\"\",B244+1)","v":""},{"$nulls":5},110,{"$f":"IF(J244=\"\",\"\",VLOOKUP(J244,EventNPC!A:E,5,FALSE))","v":"樗木之灵"},{"$f":"IF(M244=\"\",\"\",IF(P244=1,MAX(D244,B244)+1,MAX(B243,L243,D243,X243,AA243)+1))","v":2283},"可他们不知，正是这‘无用’，让我活过三千年。",null,10018,{"$f":"IF(O244=O243,P243+1,1)","v":14},{"$f":"_xlfn.TEXTJOIN(\";\",1,R244:S244)","v":""},null,null,{"$f":"IF(R244=\"\",\"\",\"-\"&VLOOKUP(R244,EventConditionConfig!A:C,3,FALSE)&IF(S244=\"\",\"\",CHAR(10)&\"-\"&VLOOKUP(S244,EventConditionConfig!A:C,3,FALSE)))","v":""},1,1001815,"2284",2284,"那你可曾遗憾？毕竟无人欣赏你。",null,"",{"$nulls":4},{"$f":"IF(A244=\"\",\"\",IF(U244=1,\"\",IF(A245=\"\",3,1)))","v":""},{"$f":"IF(AF244=1,A245,IF(AF244=3,LEFT(A244,5)+1,\"\"))","v":""},null,2284]
[1001815,2266,"和村民对话","",{"$nulls":5},110,{"$f":"IF(J245=\"\",\"\",VLOOKUP(J245,EventNPC!A:E,5,FALSE))","v":"樗木之灵"},2285,"（枝叶轻摇）欣赏？那些笔直的楠木，被伐去做梁柱，不过百年；",null,10018,15,"",null,null,{"$f":"IF(R245=\"\",\"\",\"-\"&VLOOKUP(R245,EventConditionConfig!A:C,3,FALSE)&IF(S245=\"\",\"\",CHAR(10)&\"-\"&VLOOKUP(S245,EventConditionConfig!A:C,3,FALSE)))","v":""},"","","","",null,null,"",{"$nulls":4},1,1001816,null,2285]
[1001816,2266,"和村民对话",{"$f":"IF(E246=\"\",\"\",B246+1)","v":""},{"$nulls":5},110,{"$f":"IF(J246=\"\",\"\",VLOOKUP(J246,EventNPC!A:E,5,FALSE))","v":"樗木之灵"},{"$f":"IF(M246=\"\",\"\",IF(P246=1,MAX(D246,B246)+1,MAX(B245,L245,D245,X245,AA245)+1))","v":2286},"那些秀美的花树，被移栽进庭院，也不过百年。",null,10018,{"$f":"IF(O246=O245,P245+1,1)","v":16},{"$f":"_xlfn.TEXTJOIN(\";\",1,R246:S246)","v":""},null,null,{"$f":"IF(R246=\"\",\"\",\"-\"&VLOOKUP(R246,EventConditionConfig!A:C,3,FALSE)&IF(S246=\"\",\"\",CHAR(10)&\"-\"&VLOOKUP(S246,EventConditionConfig!A:C,3,FALSE)))","v":""},"","","","",null,null,"",{"$nulls":4},{"$f":"IF(A246=\"\",\"\",IF(U246=1,\"\",IF(A247=\"\",3,1)))","v":1},{"$f":"IF(AF246=1,A247,IF(AF246=3,LEFT(A246,5)+1,\"\"))","v":1001817},null,2286]
[1001817,2266,"和村民对话",{"$f":"IF(E247=\"\",\"\",B247+1)","v":""},{"$nulls":5},110,{"$f":"IF(J247=\"\",\"\",VLOOKUP(J247,EventNPC!A:E,5,FALSE))","v":"樗木之灵"},{"$f":"IF(M247=\"\",\"\",IF(P247=1,MAX(D247,B247)+1,MAX(B246,L246,D246,X246,AA246)+1))","v":2287},"而我，仍在此处，看春去秋来，听风过林梢，不亦乐乎？",null,10018,{"$f":"IF(O247=O246,P246+1,1)","v":17},{"$f":"_xlfn.TEXTJOIN(\";\",1,R247:S247)","v":""},null,null,{"$f":"IF(R247=\"\",\"\",\"-\"&VLOOKUP(R247,EventConditionConfig!A:C,3,FALSE)&IF(S247=\"\",\"\",CHAR(10)&\"-\"&VLOOKUP(S247,EventConditionConfig!A:C,3,FALSE)))","v":""},1,1001818,"2288",2288,"可你终究只是一棵树，不能动，不能说话",null,"",{"$nulls":4},{"$f":"IF(A247=\"\",\"\",IF(U247=1,\"\",IF(A248=\"\",3,1)))","v":""},{"$f":"IF(AF247=1,A248,IF(AF247=3,LEFT(A247,5)+1,\"\"))","v":""},null,2288]
[1001818,2266,"和村民对话","",{"$nulls":5},110,{"$f":"IF(J248=\"\",\"\",VLOOKUP(J248,EventNPC!A:E,5,FALSE))","v":"樗木之灵"},2289,"（树皮浮现苍老面容）动？说话？\n数千年过去，我早已有灵智，可以说话。",null,10018,18,"",null,null,{"$f":"IF(R248=\"\",\"\",\"-\"&VLOOKUP(R248,EventConditionConfig!A:C,3,FALSE)&IF(S248=\"\",\"\",CHAR(10)&\"-\"&VLOOKUP(S248,EventConditionConfig!A:C,3,FALSE)))","v":""},"","","","",null,null,"",{"$nulls":4},1,1001819,null,2289]
[1001819,2266,"和村民对话",{"$f":"IF(E249=\"\",\"\",B249+1)","v":""},{"$nulls":5},110,{"$f":"IF(J249=\"\",\"\",VLOOKUP(J249,EventNPC!A:E,5,FALSE))","v":"樗木之灵"},{"$f":"IF(M249=\"\",\"\",IF(P249=1,MAX(D249,B249)+1,MAX(B248,L248,D248,X248,AA248)+1))","v":2290},"不过我确实好久没动过了，小友，今日与你有缘，不如陪我动一动。",null,10018,{"$f":"IF(O249=O248,P248+1,1)","v":19},{"$f":"_xlfn.TEXTJOIN(\";\",1,R249:S249)","v":""},null,null,{"$f":"IF(R249=\"\",\"\",\"-\"&VLOOKUP(R249,EventConditionConfig!A:C,3,FALSE)&IF(S249=\"\",\"\",CHAR(10)&\"-\"&VLOOKUP(S249,EventConditionConfig!A:C,3,FALSE)))","v":""},1,1001820,"2291",2291,"不好...这是要找我打架..",null,"",{"$nulls":4},{"$f":"IF(A249=\"\",\"\",IF(U249=1,\"\",IF(A250=\"\",3,1)))","v":""},{"$f":"IF(AF249=1,A250,IF(AF249=3,LEFT(A249,5)+1,\"\"))","v":""},null,2291]
[1001820,2266,"和村民对话","",{"$nulls":6},{"$f":"IF(J250=\"\",\"\",VLOOKUP(J250,EventNPC!A:E,5,FALSE))","v":""},"",null,null,10018,20,"",null,null,{"$f":"IF(R250=\"\",\"\",\"-\"&VLOOKUP(R250,EventConditionConfig!A:C,3,FALSE)&IF(S250=\"\",\"\",CHAR(10)&\"-\"&VLOOKUP(S250,EventConditionConfig!A:C,3,FALSE)))","v":""},"","","","",null,null,"",{"$nulls":4},3,10019,null,2266]
[{"$nulls":34},""]
[{"$f":"O252*100+P252","v":1001901},{"$f":"IF(B251=\"\",MAX(AA250,X250,L250,B250,D250,AA249,X249,L249)+1,B251)","v":2292},"击败樗木之灵",{"$f":"IF(E252=\"\",\"\",B252+1)","v":2293},"击败樗木之灵",{"$nulls":5},{"$f":"IF(J252=\"\",\"\",VLOOKUP(J252,EventNPC!A:E,5,FALSE))","v":""},{"$f":"IF(M252=\"\",\"\",IF(P252=1,MAX(D252,B252)+1,MAX(B251,L251,D251,X251,AA251)+1))","v":""},null,null,{"$f":"IF(O251=\"\",O250+1,O251)","v":10019},{"$f":"IF(O252=O251,P251+1,1)","v":1},{"$f":"_xlfn.TEXTJOIN(\";\",1,R252:S252)","v":""},null,null,{"$f":"IF(R252=\"\",\"\",\"-\"&VLOOKUP(R252,EventConditionConfig!A:C,3,FALSE)&IF(S252=\"\",\"\",CHAR(10)&\"-\"&VLOOKUP(S252,EventConditionConfig!A:C,3,FALSE)))","v":""},2,100004,{"$f":"_xlfn.TEXTJOIN(\";\",1,X252,AA252)","v":""},{"$f":"IF(Y252=\"\",\"\",L252+1)","v":""},null,null,{"$f":"IF(AB252=\"\",\"\",X252+1)","v":""},{"$nulls":4},{"$f":"IF(U252=2,2,IF(A252=\"\",\"\",IF(U252=1,\"\",IF(A253=\"\",3,1))))","v":2},{"$f":"IF(AF252=2,A253&\";101\",IF(AF252=1,A253,IF(AF252=3,LEFT(A252,5)+1,\"\")))","v":"1001902;101"},null,2293]
[{"$f":"O253*100+P253","v":1001902},{"$f":"IF(B252=\"\",MAX(AA251,X251,L251,B251,D251,AA250,X250,L250)+1,B252)","v":2292},"击败樗木之灵",2293,"击败樗木之灵",{"$nulls":5},{"$f":"IF(J253=\"\",\"\",VLOOKUP(J253,EventNPC!A:E,5,FALSE))","v":""},"",null,null,{"$f":"IF(O252=\"\",O251+1,O252)","v":10019},2,"",null,null,{"$f":"IF(R253=\"\",\"\",\"-\"&VLOOKUP(R253,EventConditionConfig!A:C,3,FALSE)&IF(S253=\"\",\"\",CHAR(10)&\"-\"&VLOOKUP(S253,EventConditionConfig!A:C,3,FALSE)))","v":""},{"$f":"IF(Y253=\"\",\"\",1)","v":""},{"$f":"IF(U253=1,A254,\"\")","v":""},{"$f":"_xlfn.TEXTJOIN(\";\",1,X253,AA253)","v":""},{"$f":"IF(Y253=\"\",\"\",L253+1)","v":""},null,null,{"$f":"IF(AB253=\"\",\"\",X253+1)","v":""},{"$nulls":4},{"$f":"IF(U253=2,2,IF(A253=\"\",\"\",IF(U253=1,\"\",IF(A254=\"\",3,1))))","v":3},{"$f":"IF(AF253=1,A254,IF(AF253=3,LEFT(A253,5)+1,\"\"))","v":10020},null,2293]
[{"$nulls":34},""]
[{"$f":"O255*100+P255","v":1002001},{"$f":"IF(B254=\"\",MAX(AA253,X253,L253,B253,D253,AA252,X252,L252)+1,B254)","v":2294},"境界达到[金丹-前期]",{"$f":"IF(E255=\"\",\"\",B255+1)","v":""},{"$nulls":5},100,{"$f":"IF(J255=\"\",\"\",VLOOKUP(J255,EventNPC!A:E,5,FALSE))","v":"玩家"},{"$f":"IF(M255=\"\",\"\",IF(P255=1,MAX(D255,B255)+1,MAX(B254,L254,D254,X254,AA254)+1))","v":2295},"此处奇遇众多，灵气充裕，就留在此处修行，达到筑基巅峰吧。",null,{"$f":"IF(O254=\"\",O253+1,O254)","v":10020},{"$f":"IF(O255=O254,P254+1,1)","v":1},{"$f":"_xlfn.TEXTJOIN(\";\",1,R255:S255)","v":""},null,null,{"$f":"IF(R255=\"\",\"\",\"-\"&VLOOKUP(R255,EventConditionConfig!A:C,3,FALSE)&IF(S255=\"\",\"\",CHAR(10)&\"-\"&VLOOKUP(S255,EventConditionConfig!A:C,3,FALSE)))","v":""},{"$f":"IF(Y255=\"\",\"\",1)","v":""},{"$f":"IF(U255=1,A256,\"\")","v":""},{"$f":"_xlfn.TEXTJOIN(\";\",1,X255,AA255)","v":""},{"$f":"IF(Y255=\"\",\"\",L255+1)","v":""},null,null,{"$f":"IF(AB255=\"\",\"\",X255+1)","v":""},{"$nulls":4},{"$f":"IF(U255=2,2,IF(A255=\"\",\"\",IF(U255=1,\"\",IF(A256=\"\",3,1))))","v":1},{"$f":"IF(AF255=1,A256,IF(AF255=3,LEFT(A255,5)+1,\"\"))","v":1002002},null,2295]
[{"$f":"O256*100+P256","v":1002002},{"$f":"IF(B255=\"\",MAX(AA254,X254,L254,B254,D254,AA253,X253,L253)+1,B255)","v":2294},"境界达到[金丹-前期]",{"$f":"IF(E256=\"\",\"\",B256+1)","v":""},{"$nulls":5},100,{"$f":"IF(J256=\"\",\"\",VLOOKUP(J256,EventNPC!A:E,5,FALSE))","v":"玩家"},{"$f":"IF(M256=\"\",\"\",IF(P256=1,MAX(D256,B256)+1,MAX(B255,L255,D255,X255,AA255)+1))","v":2296},"此地果真是好地方，修为又有精进。",null,{"$f":"IF(O255=\"\",O254+1,O255)","v":10020},{"$f":"IF(O256=O255,P255+1,1)","v":2},{"$f":"_xlfn.TEXTJOIN(\";\",1,R256:S256)","v":"14"},14,null,{"$f":"IF(R256=\"\",\"\",\"-\"&VLOOKUP(R256,EventConditionConfig!A:C,3,FALSE)&IF(S256=\"\",\"\",CHAR(10)&\"-\"&VLOOKUP(S256,EventConditionConfig!A:C,3,FALSE)))","v":"-境界达到[金丹-前期]"},{"$f":"IF(Y256=\"\",\"\",1)","v":""},{"$f":"IF(U256=1,A257,\"\")","v":""},{"$f":"_xlfn.TEXTJOIN(\";\",1,X256,AA256)","v":""},{"$f":"IF(Y256=\"\",\"\",L256+1)","v":""},null,null,{"$f":"IF(AB256=\"\",\"\",X256+1)","v":""},{"$nulls":4},{"$f":"IF(U256=2,2,IF(A256=\"\",\"\",IF(U256=1,\"\",IF(A257=\"\",3,1))))","v":1},{"$f":"IF(AF256=1,A257,IF(AF256=3,LEFT(A256,5)+1,\"\"))","v":1002003},null,2296]
[{"$f":"O257*100+P257","v":1002003},{"$f":"IF(B256=\"\",MAX(AA255,X255,L255,B255,D255,AA254,X254,L254)+1,B256)","v":2294},"境界达到[金丹-前期]","",{"$nulls":5},100,{"$f":"IF(J257=\"\",\"\",VLOOKUP(J257,EventNPC!A:E,5,FALSE))","v":"玩家"},2297,"不过想要达到更高的境界，突破冲虚说的什么心境，还需继续修行。",null,{"$f":"IF(O256=\"\",O255+1,O256)","v":10020},3,"",null,null,{"$f":"IF(R257=\"\",\"\",\"-\"&VLOOKUP(R257,EventConditionConfig!A:C,3,FALSE)&IF(S257=\"\",\"\",CHAR(10)&\"-\"&VLOOKUP(S257,EventConditionConfig!A:C,3,FALSE)))","v":""},{"$f":"IF(Y257=\"\",\"\",1)","v":""},{"$f":"IF(U257=1,A258,\"\")","v":""},{"$f":"_xlfn.TEXTJOIN(\";\",1,X257,AA257)","v":""},{"$f":"IF(Y257=\"\",\"\",L257+1)","v":""},null,null,{"$f":"IF(AB257=\"\",\"\",X257+1)","v":""},{"$nulls":4},{"$f":"IF(U257=2,2,IF(A257=\"\",\"\",IF(U257=1,\"\",IF(A258=\"\",3,1))))","v":1},1002004,null,2297]
[{"$f":"O258*100+P258","v":1002004},{"$f":"IF(B257=\"\",MAX(AA256,X256,L256,B256,D256,AA255,X255,L255)+1,B257)","v":2294},"境界达到[金丹-前期]",{"$f":"IF(E258=\"\",\"\",B258+1)","v":""},{"$nulls":5},100,{"$f":"IF(J258=\"\",\"\",VLOOKUP(J258,EventNPC!A:E,5,FALSE))","v":"玩家"},{"$f":"IF(M258=\"\",\"\",IF(P258=1,MAX(D258,B258)+1,MAX(B257,L257,D257,X257,AA257)+1))","v":2298},"是时候离开了，去问问尧帝有何建议。",null,{"$f":"IF(O257=\"\",O256+1,O257)","v":10020},{"$f":"IF(O258=O257,P257+1,1)","v":4},{"$f":"_xlfn.TEXTJOIN(\";\",1,R258:S258)","v":""},null,null,{"$f":"IF(R258=\"\",\"\",\"-\"&VLOOKUP(R258,EventConditionConfig!A:C,3,FALSE)&IF(S258=\"\",\"\",CHAR(10)&\"-\"&VLOOKUP(S258,EventConditionConfig!A:C,3,FALSE)))","v":""},{"$f":"IF(Y258=\"\",\"\",1)","v":""},{"$f":"IF(U258=1,A259,\"\")","v":""},{"$f":"_xlfn.TEXTJOIN(\";\",1,X258,AA258)","v":""},{"$f":"IF(Y258=\"\",\"\",L258+1)","v":""},null,null,{"$f":"IF(AB258=\"\",\"\",X258+1)","v":""},{"$nulls":4},{"$f":"IF(U258=2,2,IF(A258=\"\",\"\",IF(U258=1,\"\",IF(A259=\"\",3,1))))","v":3},{"$f":"IF(AF258=1,A259,IF(AF258=3,LEFT(A258,5)+1,\"\"))","v":10021},null,2298]
[{"$nulls":34},""]
[{"$f":"O260*100+P260","v":1002101},{"$f":"IF(B259=\"\",MAX(AA258,X258,L258,B258,D258,AA257,X257,L257)+1,B259)","v":2299},"仙山传说",{"$f":"IF(E260=\"\",\"\",B260+1)","v":""},{"$nulls":5},105,{"$f":"IF(J260=\"\",\"\",VLOOKUP(J260,EventNPC!A:E,5,FALSE))","v":"尧帝"},{"$f":"IF(M260=\"\",\"\",IF(P260=1,MAX(D260,B260)+1,MAX(B259,L259,D259,X259,AA259)+1))","v":2300},"（高兴）小友，你来了。",null,{"$f":"IF(O259=\"\",O258+1,O259)","v":10021},{"$f":"IF(O260=O259,P259+1,1)","v":1},{"$f":"_xlfn.TEXTJOIN(\";\",1,R260:S260)","v":""},null,null,{"$f":"IF(R260=\"\",\"\",\"-\"&VLOOKUP(R260,EventConditionConfig!A:C,3,FALSE)&IF(S260=\"\",\"\",CHAR(10)&\"-\"&VLOOKUP(S260,EventConditionConfig!A:C,3,FALSE)))","v":""},{"$f":"IF(Y260=\"\",\"\",1)","v":""},{"$f":"IF(U260=1,A261,\"\")","v":""},{"$f":"_xlfn.TEXTJOIN(\";\",1,X260,AA260)","v":""},{"$f":"IF(Y260=\"\",\"\",L260+1)","v":""},null,null,{"$f":"IF(AB260=\"\",\"\",X260+1)","v":""},{"$nulls":4},{"$f":"IF(U260=2,2,IF(A260=\"\",\"\",IF(U260=1,\"\",IF(A261=\"\",3,1))))","v":1},{"$f":"IF(AF260=1,A261,IF(AF260=3,LEFT(A260,5)+1,\"\"))","v":1002102},null,2300]
[1002102,2299,"仙山传说",{"$f":"IF(E261=\"\",\"\",B261+1)","v":""},{"$nulls":5},105,{"$f":"IF(J261=\"\",\"\",VLOOKUP(J261,EventNPC!A:E,5,FALSE))","v":"尧帝"},{"$f":"IF(M261=\"\",\"\",IF(P261=1,MAX(D261,B261)+1,MAX(B260,L260,D260,X260,AA260)+1))","v":2301},"数月不见，你已入筑基巅峰，距离结丹，也是指日可待！",null,10021,{"$f":"IF(O261=O260,P260+1,1)","v":2},{"$f":"_xlfn.TEXTJOIN(\";\",1,R261:S261)","v":""},null,null,{"$f":"IF(R261=\"\",\"\",\"-\"&VLOOKUP(R261,EventConditionConfig!A:C,3,FALSE)&IF(S261=\"\",\"\",CHAR(10)&\"-\"&VLOOKUP(S261,EventConditionConfig!A:C,3,FALSE)))","v":""},"",{"$f":"IF(U261=1,A262,\"\")","v":""},"","",null,null,"",{"$nulls":4},1,{"$f":"IF(AF261=1,A262,IF(AF261=3,LEFT(A261,5)+1,\"\"))","v":1002103},null,2301]
[1002103,2299,"仙山传说",{"$f":"IF(E262=\"\",\"\",B262+1)","v":""},{"$nulls":5},100,{"$f":"IF(J262=\"\",\"\",VLOOKUP(J262,EventNPC!A:E,5,FALSE))","v":"玩家"},{"$f":"IF(M262=\"\",\"\",IF(P262=1,MAX(D262,B262)+1,MAX(B261,L261,D261,X261,AA261)+1))","v":2302},"多谢尧帝，我是来辞行的，也想打听一下，关于“七道心境”的更多线索",null,10021,{"$f":"IF(O262=O261,P261+1,1)","v":3},{"$f":"_xlfn.TEXTJOIN(\";\",1,R262:S262)","v":""},null,null,{"$f":"IF(R262=\"\",\"\",\"-\"&VLOOKUP(R262,EventConditionConfig!A:C,3,FALSE)&IF(S262=\"\",\"\",CHAR(10)&\"-\"&VLOOKUP(S262,EventConditionConfig!A:C,3,FALSE)))","v":""},"",{"$f":"IF(U262=1,A263,\"\")","v":""},"","",null,null,"",{"$nulls":4},1,{"$f":"IF(AF262=1,A263,IF(AF262=3,LEFT(A262,5)+1,\"\"))","v":1002104},null,2302]
[1002104,2299,"仙山传说",{"$f":"IF(E263=\"\",\"\",B263+1)","v":""},{"$nulls":5},105,{"$f":"IF(J263=\"\",\"\",VLOOKUP(J263,EventNPC!A:E,5,FALSE))","v":"尧帝"},{"$f":"IF(M263=\"\",\"\",IF(P263=1,MAX(D263,B263)+1,MAX(B262,L262,D262,X262,AA262)+1))","v":2303},"小友，你可曾听过‘藐姑射山’",null,10021,{"$f":"IF(O263=O262,P262+1,1)","v":4},{"$f":"_xlfn.TEXTJOIN(\";\",1,R263:S263)","v":""},null,null,{"$f":"IF(R263=\"\",\"\",\"-\"&VLOOKUP(R263,EventConditionConfig!A:C,3,FALSE)&IF(S263=\"\",\"\",CHAR(10)&\"-\"&VLOOKUP(S263,EventConditionConfig!A:C,3,FALSE)))","v":""},1,{"$f":"IF(U263=1,_xlfn.TEXTJOIN(\";\",1,IF(Z263=\"\",A263+1,Z263),IF(AND(AA263<>\"\",AC263=\"\"),A263+1,AC263)),IF(U263=2,Y263,\"\"))","v":"1002105;1002109"},"2304;2305",2304,"未曾听闻，请前辈指点。",{"$f":"A264","v":1002105},2305,"莫非是传说中的仙人居所？",{"$f":"A268","v":1002109},null,null,"",{"$f":"IF(AF263=1,A264,IF(AF263=3,LEFT(A263,5)+1,\"\"))","v":""},null,2305]
[1002105,2299,"仙山传说","",{"$nulls":5},105,{"$f":"IF(J264=\"\",\"\",VLOOKUP(J264,EventNPC!A:E,5,FALSE))","v":"尧帝"},2306,"此山在尧都之北，云雾缭绕，凡人难见。当年我巡狩天下，偶遇山中神人……\n（尧帝眼神恍惚，似陷入回忆）",null,10021,5,"",null,null,{"$f":"IF(R264=\"\",\"\",\"-\"&VLOOKUP(R264,EventConditionConfig!A:C,3,FALSE)&IF(S264=\"\",\"\",CHAR(10)&\"-\"&VLOOKUP(S264,EventConditionConfig!A:C,3,FALSE)))","v":""},"",{"$f":"IF(U264=1,A265,\"\")","v":""},"","",null,null,"",{"$nulls":4},1,1002106,null,2306]
[1002106,2299,"仙山传说",{"$f":"IF(E265=\"\",\"\",B265+1)","v":""},{"$nulls":5},105,{"$f":"IF(J265=\"\",\"\",VLOOKUP(J265,EventNPC!A:E,5,FALSE))","v":"尧帝"},{"$f":"IF(M265=\"\",\"\",IF(P265=1,MAX(D265,B265)+1,MAX(B264,L264,D264,X264,AA264)+1))","v":2307},"不错。山中神人，她皮肤润白像冰雪，体态柔美如年轻的女子，不食五谷，吸清风饮甘露，乘云气驾飞龙，遨游于四海之外。",null,10021,{"$f":"IF(O265=O264,P264+1,1)","v":6},{"$f":"_xlfn.TEXTJOIN(\";\",1,R265:S265)","v":""},null,null,{"$f":"IF(R265=\"\",\"\",\"-\"&VLOOKUP(R265,EventConditionConfig!A:C,3,FALSE)&IF(S265=\"\",\"\",CHAR(10)&\"-\"&VLOOKUP(S265,EventConditionConfig!A:C,3,FALSE)))","v":""},"","","","",null,null,"",{"$nulls":4},1,{"$f":"IF(AF265=1,A266,IF(AF265=3,LEFT(A265,5)+1,\"\"))","v":1002107},null,2307]
[1002107,2299,"仙山传说",{"$f":"IF(E266=\"\",\"\",B266+1)","v":""},{"$nulls":5},105,{"$f":"IF(J266=\"\",\"\",VLOOKUP(J266,EventNPC!A:E,5,FALSE))","v":"尧帝"},{"$f":"IF(M266=\"\",\"\",IF(P266=1,MAX(D266,B266)+1,MAX(B265,L265,D265,X265,AA265)+1))","v":2308},"当年见到神人时，我已是一都之君。可在她面前，自觉渺小如尘沙，治理的天下如同儿戏一般。",null,10021,{"$f":"IF(O266=O265,P265+1,1)","v":7},{"$f":"_xlfn.TEXTJOIN(\";\",1,R266:S266)","v":""},null,null,{"$f":"IF(R266=\"\",\"\",\"-\"&VLOOKUP(R266,EventConditionConfig!A:C,3,FALSE)&IF(S266=\"\",\"\",CHAR(10)&\"-\"&VLOOKUP(S266,EventConditionConfig!A:C,3,FALSE)))","v":""},"","","","",null,null,"",{"$nulls":4},1,{"$f":"IF(AF266=1,A267,IF(AF266=3,LEFT(A266,5)+1,\"\"))","v":1002108},null,2308]
[1002108,2299,"仙山传说",{"$f":"IF(E267=\"\",\"\",B267+1)","v":""},{"$nulls":5},105,{"$f":"IF(J267=\"\",\"\",VLOOKUP(J267,EventNPC!A:E,5,FALSE))","v":"尧帝"},{"$f":"IF(M267=\"\",\"\",IF(P267=1,MAX(D267,B267)+1,MAX(B266,L266,D266,X266,AA266)+1))","v":2309},"甚至连开口说话，都没有勇气…",null,10021,{"$f":"IF(O267=O266,P266+1,1)","v":8},{"$f":"_xlfn.TEXTJOIN(\";\",1,R267:S267)","v":""},null,null,{"$f":"IF(R267=\"\",\"\",\"-\"&VLOOKUP(R267,EventConditionConfig!A:C,3,FALSE)&IF(S267=\"\",\"\",CHAR(10)&\"-\"&VLOOKUP(S267,EventConditionConfig!A:C,3,FALSE)))","v":""},"","","","",null,null,"",{"$nulls":4},1,{"$f":"IF(AF267=1,A268,IF(AF267=3,LEFT(A267,5)+1,\"\"))","v":1002109},null,2309]
[1002109,2299,"仙山传说",{"$f":"IF(E268=\"\",\"\",B268+1)","v":""},{"$nulls":5},100,{"$f":"IF(J268=\"\",\"\",VLOOKUP(J268,EventNPC!A:E,5,FALSE))","v":"玩家"},{"$f":"IF(M268=\"\",\"\",IF(P268=1,MAX(D268,B268)+1,MAX(B267,L267,D267,X267,AA267)+1))","v":2310},"......",null,10021,{"$f":"IF(O268=O267,P267+1,1)","v":9},{"$f":"_xlfn.TEXTJOIN(\";\",1,R268:S268)","v":""},null,null,{"$f":"IF(R268=\"\",\"\",\"-\"&VLOOKUP(R268,EventConditionConfig!A:C,3,FALSE)&IF(S268=\"\",\"\",CHAR(10)&\"-\"&VLOOKUP(S268,EventConditionConfig!A:C,3,FALSE)))","v":""},1,1002110,"2311",2311,"连尧帝都如此敬畏，那神人究竟何等境界？",null,"",{"$nulls":4},"",{"$f":"IF(AF268=1,A269,IF(AF268=3,LEFT(A268,5)+1,\"\"))","v":""},null,2311]
[1002110,2299,"仙山传说","",{"$nulls":5},105,{"$f":"IF(J269=\"\",\"\",VLOOKUP(J269,EventNPC!A:E,5,FALSE))","v":"尧帝"},2312,"我也不知..你可前去寻觅，如有缘遇见，定能提升修为，突破心境。",null,10021,10,"",null,null,{"$f":"IF(R269=\"\",\"\",\"-\"&VLOOKUP(R269,EventConditionConfig!A:C,3,FALSE)&IF(S269=\"\",\"\",CHAR(10)&\"-\"&VLOOKUP(S269,EventConditionConfig!A:C,3,FALSE)))","v":""},"","","","",null,null,"",{"$nulls":4},1,1002111,null,2312]
[1002111,2299,"仙山传说",{"$f":"IF(E270=\"\",\"\",B270+1)","v":""},{"$nulls":5},105,{"$f":"IF(J270=\"\",\"\",VLOOKUP(J270,EventNPC!A:E,5,FALSE))","v":"尧帝"},{"$f":"IF(M270=\"\",\"\",IF(P270=1,MAX(D270,B270)+1,MAX(B269,L269,D269,X269,AA269)+1))","v":2313},"你手中的逍遥铃，绝非凡物，跟着它的指引，应该能找到藐姑射山。",null,10021,{"$f":"IF(O270=O269,P269+1,1)","v":11},{"$f":"_xlfn.TEXTJOIN(\";\",1,R270:S270)","v":""},null,null,{"$f":"IF(R270=\"\",\"\",\"-\"&VLOOKUP(R270,EventConditionConfig!A:C,3,FALSE)&IF(S270=\"\",\"\",CHAR(10)&\"-\"&VLOOKUP(S270,EventConditionConfig!A:C,3,FALSE)))","v":""},1,1002112,"2314",2314,"多谢前辈。",null,"",{"$nulls":4},"",{"$f":"IF(AF270=1,A271,IF(AF270=3,LEFT(A270,5)+1,\"\"))","v":""},null,{"$f":"IF(A270=\"\",\"\",MAX(B270,D270,L270,X270,AA270))","v":2314}]
[1002112,2299,"仙山传说",{"$f":"IF(E271=\"\",\"\",B271+1)","v":""},{"$nulls":6},{"$f":"IF(J271=\"\",\"\",VLOOKUP(J271,EventNPC!A:E,5,FALSE))","v":""},{"$f":"IF(M271=\"\",\"\",IF(P271=1,MAX(D271,B271)+1,MAX(B270,L270,D270,X270,AA270)+1))","v":""},null,null,10021,{"$f":"IF(O271=O270,P270+1,1)","v":12},{"$f":"_xlfn.TEXTJOIN(\";\",1,R271:S271)","v":""},null,null,{"$f":"IF(R271=\"\",\"\",\"-\"&VLOOKUP(R271,EventConditionConfig!A:C,3,FALSE)&IF(S271=\"\",\"\",CHAR(10)&\"-\"&VLOOKUP(S271,EventConditionConfig!A:C,3,FALSE)))","v":""},"","","","",null,null,"",{"$nulls":4},3,{"$f":"IF(AF271=1,A272,IF(AF271=3,LEFT(A271,5)+1,\"\"))","v":10022},null,2299]
[{"$nulls":34},""]
[{"$f":"O273*100+P273","v":1002201},{"$f":"IF(B272=\"\",MAX(AA271,X271,L271,B271,D271,AA270,X270,L270)+1,B272)","v":2315},"入山幻阵",{"$f":"IF(E273=\"\",\"\",B273+1)","v":""},{"$nulls":6},{"$f":"IF(J273=\"\",\"\",VLOOKUP(J273,EventNPC!A:E,5,FALSE))","v":""},{"$f":"IF(M273=\"\",\"\",IF(P273=1,MAX(D273,B273)+1,MAX(B272,L272,D272,X272,AA272)+1))","v":2316},"仙山被五行阵笼罩，需要击败阵眼方可破除（细节待设计）",null,{"$f":"IF(O272=\"\",O271+1,O272)","v":10022},{"$f":"IF(O273=O272,P272+1,1)","v":1},{"$f":"_xlfn.TEXTJOIN(\";\",1,R273:S273)","v":""},null,null,{"$f":"IF(R273=\"\",\"\",\"-\"&VLOOKUP(R273,EventConditionConfig!A:C,3,FALSE)&IF(S273=\"\",\"\",CHAR(10)&\"-\"&VLOOKUP(S273,EventConditionConfig!A:C,3,FALSE)))","v":""},{"$f":"IF(Y273=\"\",\"\",1)","v":""},{"$f":"IF(U273=1,A274,\"\")","v":""},{"$f":"_xlfn.TEXTJOIN(\";\",1,X273,AA273)","v":""},{"$f":"IF(Y273=\"\",\"\",L273+1)","v":""},null,null,{"$f":"IF(AB273=\"\",\"\",X273+1)","v":""},{"$nulls":4},{"$f":"IF(U273=2,2,IF(A273=\"\",\"\",IF(U273=1,\"\",IF(A274=\"\",3,1))))","v":1},{"$f":"IF(AF273=1,A274,IF(AF273=3,LEFT(A273,5)+1,\"\"))","v":1002202},null,2316]
[{"$f":"O274*100+P274","v":1002202},{"$f":"IF(B273=\"\",MAX(AA272,X272,L272,B272,D272,AA271,X271,L271)+1,B273)","v":2315},"入山幻阵",{"$f":"IF(E274=\"\",\"\",B274+1)","v":""},{"$nulls":6},{"$f":"IF(J274=\"\",\"\",VLOOKUP(J274,EventNPC!A:E,5,FALSE))","v":""},{"$f":"IF(M274=\"\",\"\",IF(P274=1,MAX(D274,B274)+1,MAX(B273,L273,D273,X273,AA273)+1))","v":2317},"阵眼妖兽被击败，仙山现在可以进入了（细节待设计）",null,{"$f":"IF(O273=\"\",O272+1,O273)","v":10022},{"$f":"IF(O274=O273,P273+1,1)","v":2},{"$f":"_xlfn.TEXTJOIN(\";\",1,R274:S274)","v":"15"},15,null,{"$f":"IF(R274=\"\",\"\",\"-\"&VLOOKUP(R274,EventConditionConfig!A:C,3,FALSE)&IF(S274=\"\",\"\",CHAR(10)&\"-\"&VLOOKUP(S274,EventConditionConfig!A:C,3,FALSE)))","v":"-击败仙山的阵眼妖兽"},{"$f":"IF(Y274=\"\",\"\",1)","v":""},{"$f":"IF(U274=1,A275,\"\")","v":""},{"$f":"_xlfn.TEXTJOIN(\";\",1,X274,AA274)","v":""},{"$f":"IF(Y274=\"\",\"\",L274+1)","v":""},null,null,{"$f":"IF(AB274=\"\",\"\",X274+1)","v":""},{"$nulls":4},{"$f":"IF(U274=2,2,IF(A274=\"\",\"\",IF(U274=1,\"\",IF(A275=\"\",3,1))))","v":1},{"$f":"IF(AF274=1,A275,IF(AF274=3,LEFT(A274,5)+1,\"\"))","v":1002203},null,2317]
[{"$f":"O275*100+P275","v":1002203},{"$f":"IF(B274=\"\",MAX(AA273,X273,L273,B273,D273,AA272,X272,L272)+1,B274)","v":2315},"入山幻阵","",{"$nulls":6},{"$f":"IF(J275=\"\",\"\",VLOOKUP(J275,EventNPC!A:E,5,FALSE))","v":""},"",null,null,{"$f":"IF(O274=\"\",O273+1,O274)","v":10022},3,"",null,null,{"$f":"IF(R275=\"\",\"\",\"-\"&VLOOKUP(R275,EventConditionConfig!A:C,3,FALSE)&IF(S275=\"\",\"\",CHAR(10)&\"-\"&VLOOKUP(S275,EventConditionConfig!A:C,3,FALSE)))","v":""},{"$f":"IF(Y275=\"\",\"\",1)","v":""},{"$f":"IF(U275=1,A276,\"\")","v":""},{"$f":"_xlfn.TEXTJOIN(\";\",1,X275,AA275)","v":""},{"$f":"IF(Y275=\"\",\"\",L275+1)","v":""},null,null,{"$f":"IF(AB275=\"\",\"\",X275+1)","v":""},{"$nulls":4},{"$f":"IF(U275=2,2,IF(A275=\"\",\"\",IF(U275=1,\"\",IF(A276=\"\",3,1))))","v":3},10023,null,2315]
[{"$nulls":34},""]
[{"$f":"O277*100+P277","v":1002301},{"$f":"IF(B276=\"\",MAX(AA275,X275,L275,B275,D275,AA274,X274,L274)+1,B276)","v":2318},"听惠子吹嘘种子来历，并答应帮他种葫芦",{"$f":"IF(E277=\"\",\"\",B277+1)","v":""},{"$nulls":5},111,{"$f":"IF(J277=\"\",\"\",VLOOKUP(J277,EventNPC!A:E,5,FALSE))","v":"惠子"},{"$f":"IF(M277=\"\",\"\",IF(P277=1,MAX(D277,B277)+1,MAX(B276,L276,D276,X276,AA276)+1))","v":2319},"（惠子手持一颗七彩流光的种子，满脸得意）\n“小友！来得正好！瞧我这宝贝——”",null,{"$f":"IF(O276=\"\",O275+1,O276)","v":10023},{"$f":"IF(O277=O276,P276+1,1)","v":1},{"$f":"_xlfn.TEXTJOIN(\";\",1,R277:S277)","v":""},null,null,{"$f":"IF(R277=\"\",\"\",\"-\"&VLOOKUP(R277,EventConditionConfig!A:C,3,FALSE)&IF(S277=\"\",\"\",CHAR(10)&\"-\"&VLOOKUP(S277,EventConditionConfig!A:C,3,FALSE)))","v":""},{"$f":"IF(Y277=\"\",\"\",1)","v":""},{"$f":"IF(U277=1,A278,\"\")","v":""},{"$f":"_xlfn.TEXTJOIN(\";\",1,X277,AA277)","v":""},{"$f":"IF(Y277=\"\",\"\",L277+1)","v":""},null,null,{"$f":"IF(AB277=\"\",\"\",X277+1)","v":""},{"$nulls":4},{"$f":"IF(U277=2,2,IF(A277=\"\",\"\",IF(U277=1,\"\",IF(A278=\"\",3,1))))","v":1},{"$f":"IF(AF277=1,A278,IF(AF277=3,LEFT(A277,5)+1,\"\"))","v":1002302},null,2319]
[1002302,2318,"听惠子吹嘘种子来历，并答应帮他种葫芦",{"$f":"IF(E278=\"\",\"\",B278+1)","v":""},{"$nulls":5},111,{"$f":"IF(J278=\"\",\"\",VLOOKUP(J278,EventNPC!A:E,5,FALSE))","v":"惠子"},{"$f":"IF(M278=\"\",\"\",IF(P278=1,MAX(D278,B278)+1,MAX(B277,L277,D277,X277,AA277)+1))","v":2320},"（惠子举起一颗种子，阳光照射下熠熠生辉）\n“此乃‘五石葫芦’之种！虽然我也不知道能种出来什么，但绝非凡品，一定大有用处！”",null,10023,{"$f":"IF(O278=O277,P277+1,1)","v":2},{"$f":"_xlfn.TEXTJOIN(\";\",1,R278:S278)","v":""},null,null,{"$f":"IF(R278=\"\",\"\",\"-\"&VLOOKUP(R278,EventConditionConfig!A:C,3,FALSE)&IF(S278=\"\",\"\",CHAR(10)&\"-\"&VLOOKUP(S278,EventConditionConfig!A:C,3,FALSE)))","v":""},1,1002303,"2321",2321,"这么厉害？哪来的？",null,"",{"$nulls":4},"",{"$f":"IF(AF278=1,A279,IF(AF278=3,LEFT(A278,5)+1,\"\"))","v":""},null,2321]
[1002303,2318,"听惠子吹嘘种子来历，并答应帮他种葫芦",{"$f":"IF(E279=\"\",\"\",B279+1)","v":""},{"$nulls":5},111,{"$f":"IF(J279=\"\",\"\",VLOOKUP(J279,EventNPC!A:E,5,FALSE))","v":"惠子"},{"$f":"IF(M279=\"\",\"\",IF(P279=1,MAX(D279,B279)+1,MAX(B278,L278,D278,X278,AA278)+1))","v":2322},"这是我的好朋友庄子送我的，给的时候，还神神秘秘的，说种出来的东西很好玩。",null,10023,{"$f":"IF(O279=O278,P278+1,1)","v":3},{"$f":"_xlfn.TEXTJOIN(\";\",1,R279:S279)","v":""},null,null,{"$f":"IF(R279=\"\",\"\",\"-\"&VLOOKUP(R279,EventConditionConfig!A:C,3,FALSE)&IF(S279=\"\",\"\",CHAR(10)&\"-\"&VLOOKUP(S279,EventConditionConfig!A:C,3,FALSE)))","v":""},"","","","",null,null,"",{"$nulls":4},1,{"$f":"IF(AF279=1,A280,IF(AF279=3,LEFT(A279,5)+1,\"\"))","v":1002304},null,2322]
[1002304,2318,"听惠子吹嘘种子来历，并答应帮他种葫芦",{"$f":"IF(E280=\"\",\"\",B280+1)","v":""},{"$nulls":5},100,{"$f":"IF(J280=\"\",\"\",VLOOKUP(J280,EventNPC!A:E,5,FALSE))","v":"玩家"},{"$f":"IF(M280=\"\",\"\",IF(P280=1,MAX(D280,B280)+1,MAX(B279,L279,D279,X279,AA279)+1))","v":2323},"原来如此。\n我游历到这里，是想拜访山中神仙，请道友指路。",null,10023,{"$f":"IF(O280=O279,P279+1,1)","v":4},{"$f":"_xlfn.TEXTJOIN(\";\",1,R280:S280)","v":""},null,null,{"$f":"IF(R280=\"\",\"\",\"-\"&VLOOKUP(R280,EventConditionConfig!A:C,3,FALSE)&IF(S280=\"\",\"\",CHAR(10)&\"-\"&VLOOKUP(S280,EventConditionConfig!A:C,3,FALSE)))","v":""},"","","","",null,null,"",{"$nulls":4},1,{"$f":"IF(AF280=1,A281,IF(AF280=3,LEFT(A280,5)+1,\"\"))","v":1002305},null,2323]
[1002305,2318,"听惠子吹嘘种子来历，并答应帮他种葫芦",{"$f":"IF(E281=\"\",\"\",B281+1)","v":""},{"$nulls":5},111,{"$f":"IF(J281=\"\",\"\",VLOOKUP(J281,EventNPC!A:E,5,FALSE))","v":"惠子"},{"$f":"IF(M281=\"\",\"\",IF(P281=1,MAX(D281,B281)+1,MAX(B280,L280,D280,X280,AA280)+1))","v":2324},"又是来找神仙的？\n帮你也不是不行，但是你得先帮我，帮我种葫芦！",null,10023,{"$f":"IF(O281=O280,P280+1,1)","v":5},{"$f":"_xlfn.TEXTJOIN(\";\",1,R281:S281)","v":""},null,null,{"$f":"IF(R281=\"\",\"\",\"-\"&VLOOKUP(R281,EventConditionConfig!A:C,3,FALSE)&IF(S281=\"\",\"\",CHAR(10)&\"-\"&VLOOKUP(S281,EventConditionConfig!A:C,3,FALSE)))","v":""},1,1002306,"2325",2325,"我不擅长种植",null,"",{"$nulls":4},"",{"$f":"IF(AF281=1,A282,IF(AF281=3,LEFT(A281,5)+1,\"\"))","v":""},null,2325]
[1002306,2318,"听惠子吹嘘种子来历，并答应帮他种葫芦","",{"$nulls":5},111,{"$f":"IF(J282=\"\",\"\",VLOOKUP(J282,EventNPC!A:E,5,FALSE))","v":"惠子"},2326,"没事，我非常擅长，哈哈。\n道友只需要帮我找几种肥料即可。",null,10023,6,"",null,null,{"$f":"IF(R282=\"\",\"\",\"-\"&VLOOKUP(R282,EventConditionConfig!A:C,3,FALSE)&IF(S282=\"\",\"\",CHAR(10)&\"-\"&VLOOKUP(S282,EventConditionConfig!A:C,3,FALSE)))","v":""},1,1002307,"2327",2327,"道友请讲…",null,"",{"$nulls":4},"","",null,2327]
[1002307,2318,"听惠子吹嘘种子来历，并答应帮他种葫芦","",{"$nulls":5},111,{"$f":"IF(J283=\"\",\"\",VLOOKUP(J283,EventNPC!A:E,5,FALSE))","v":"惠子"},2328,"此葫芦种子，需要2种肥料：“天肥”和“地肥”。",null,10023,7,"",null,null,{"$f":"IF(R283=\"\",\"\",\"-\"&VLOOKUP(R283,EventConditionConfig!A:C,3,FALSE)&IF(S283=\"\",\"\",CHAR(10)&\"-\"&VLOOKUP(S283,EventConditionConfig!A:C,3,FALSE)))","v":""},"","","","",null,null,"",{"$nulls":4},1,1002308,null,2328]
[1002308,2318,"听惠子吹嘘种子来历，并答应帮他种葫芦",{"$f":"IF(E284=\"\",\"\",B284+1)","v":""},{"$nulls":5},100,{"$f":"IF(J284=\"\",\"\",VLOOKUP(J284,EventNPC!A:E,5,FALSE))","v":"玩家"},{"$f":"IF(M284=\"\",\"\",IF(P284=1,MAX(D284,B284)+1,MAX(B283,L283,D283,X283,AA283)+1))","v":2329},"....未曾听闻…",null,10023,{"$f":"IF(O284=O283,P283+1,1)","v":8},{"$f":"_xlfn.TEXTJOIN(\";\",1,R284:S284)","v":""},null,null,{"$f":"IF(R284=\"\",\"\",\"-\"&VLOOKUP(R284,EventConditionConfig!A:C,3,FALSE)&IF(S284=\"\",\"\",CHAR(10)&\"-\"&VLOOKUP(S284,EventConditionConfig!A:C,3,FALSE)))","v":""},1,1002309,"2330",2330,"何为“天肥”",null,"",{"$nulls":4},"",{"$f":"IF(AF284=1,A285,IF(AF284=3,LEFT(A284,5)+1,\"\"))","v":""},null,2330]
[1002309,2318,"听惠子吹嘘种子来历，并答应帮他种葫芦","",{"$nulls":5},111,{"$f":"IF(J285=\"\",\"\",VLOOKUP(J285,EventNPC!A:E,5,FALSE))","v":"惠子"},2331,"天肥很简单，你往上看\n（惠子把手指向云端）",null,10023,9,"",null,null,{"$f":"IF(R285=\"\",\"\",\"-\"&VLOOKUP(R285,EventConditionConfig!A:C,3,FALSE)&IF(S285=\"\",\"\",CHAR(10)&\"-\"&VLOOKUP(S285,EventConditionConfig!A:C,3,FALSE)))","v":""},"","","","",null,null,"",{"$nulls":4},1,1002310,null,2331]
[1002310,2318,"听惠子吹嘘种子来历，并答应帮他种葫芦",{"$f":"IF(E286=\"\",\"\",B286+1)","v":""},{"$nulls":5},111,{"$f":"IF(J286=\"\",\"\",VLOOKUP(J286,EventNPC!A:E,5,FALSE))","v":"惠子"},{"$f":"IF(M286=\"\",\"\",IF(P286=1,MAX(D286,B286)+1,MAX(B285,L285,D285,X285,AA285)+1))","v":2332},"此山附近有许多飞行的灵兽围绕，你去击败几只飞行的灵兽，就有机会拿到了。",null,10023,{"$f":"IF(O286=O285,P285+1,1)","v":10},{"$f":"_xlfn.TEXTJOIN(\";\",1,R286:S286)","v":""},null,null,{"$f":"IF(R286=\"\",\"\",\"-\"&VLOOKUP(R286,EventConditionConfig!A:C,3,FALSE)&IF(S286=\"\",\"\",CHAR(10)&\"-\"&VLOOKUP(S286,EventConditionConfig!A:C,3,FALSE)))","v":""},1,1002311,"2333",2333,"何为“地肥”",null,"",{"$nulls":4},"",{"$f":"IF(AF286=1,A287,IF(AF286=3,LEFT(A286,5)+1,\"\"))","v":""},null,2333]
[1002311,2318,"听惠子吹嘘种子来历，并答应帮他种葫芦",{"$f":"IF(E287=\"\",\"\",B287+1)","v":""},{"$nulls":5},111,{"$f":"IF(J287=\"\",\"\",VLOOKUP(J287,EventNPC!A:E,5,FALSE))","v":"惠子"},{"$f":"IF(M287=\"\",\"\",IF(P287=1,MAX(D287,B287)+1,MAX(B286,L286,D286,X286,AA286)+1))","v":2334},"这地肥就比较麻烦了，需要2000年以上的灵木树枝才能当“地肥”",null,10023,{"$f":"IF(O287=O286,P286+1,1)","v":11},{"$f":"_xlfn.TEXTJOIN(\";\",1,R287:S287)","v":""},null,null,{"$f":"IF(R287=\"\",\"\",\"-\"&VLOOKUP(R287,EventConditionConfig!A:C,3,FALSE)&IF(S287=\"\",\"\",CHAR(10)&\"-\"&VLOOKUP(S287,EventConditionConfig!A:C,3,FALSE)))","v":""},"","","","",null,null,"",{"$nulls":4},1,{"$f":"IF(AF287=1,A288,IF(AF287=3,LEFT(A287,5)+1,\"\"))","v":1002312},null,2334]
[1002312,2318,"听惠子吹嘘种子来历，并答应帮他种葫芦",{"$f":"IF(E288=\"\",\"\",B288+1)","v":""},{"$nulls":5},111,{"$f":"IF(J288=\"\",\"\",VLOOKUP(J288,EventNPC!A:E,5,FALSE))","v":"惠子"},{"$f":"IF(M288=\"\",\"\",IF(P288=1,MAX(D288,B288)+1,MAX(B287,L287,D287,X287,AA287)+1))","v":2335},"不过，这千年以上的树木，都会化形，不好找啊，不好找。",null,10023,{"$f":"IF(O288=O287,P287+1,1)","v":12},{"$f":"_xlfn.TEXTJOIN(\";\",1,R288:S288)","v":""},null,null,{"$f":"IF(R288=\"\",\"\",\"-\"&VLOOKUP(R288,EventConditionConfig!A:C,3,FALSE)&IF(S288=\"\",\"\",CHAR(10)&\"-\"&VLOOKUP(S288,EventConditionConfig!A:C,3,FALSE)))","v":""},1,1002313,"2336",2336,"好的道友，那我这就去寻。",null,"",{"$nulls":4},{"$f":"IF(U288=2,2,IF(A288=\"\",\"\",IF(U288=1,\"\",IF(A290=\"\",3,1))))","v":""},{"$f":"IF(AF288=1,A290,IF(AF288=3,LEFT(A288,5)+1,\"\"))","v":""},null,2336]
[{"$f":"O289*100+P289","v":1002313},{"$f":"IF(B288=\"\",MAX(AA287,X287,L287,B287,D287,AA286,X286,L286)+1,B288)","v":2318},"听惠子吹嘘种子来历，并答应帮他种葫芦",{"$f":"IF(E289=\"\",\"\",B289+1)","v":""},{"$nulls":6},{"$f":"IF(J289=\"\",\"\",VLOOKUP(J289,EventNPC!A:E,5,FALSE))","v":""},{"$f":"IF(M289=\"\",\"\",IF(P289=1,MAX(D289,B289)+1,MAX(B288,L288,D288,X288,AA288)+1))","v":""},null,null,10023,{"$f":"IF(O289=O288,P288+1,1)","v":13},{"$f":"_xlfn.TEXTJOIN(\";\",1,R289:S289)","v":""},null,null,{"$f":"IF(R289=\"\",\"\",\"-\"&VLOOKUP(R289,EventConditionConfig!A:C,3,FALSE)&IF(S289=\"\",\"\",CHAR(10)&\"-\"&VLOOKUP(S289,EventConditionConfig!A:C,3,FALSE)))","v":""},{"$f":"IF(Y289=\"\",\"\",1)","v":""},{"$f":"IF(U289=1,A291,\"\")","v":""},{"$f":"_xlfn.TEXTJOIN(\";\",1,X289,AA289)","v":""},{"$f":"IF(Y289=\"\",\"\",L289+1)","v":""},null,null,{"$f":"IF(AB289=\"\",\"\",X289+1)","v":""},{"$nulls":4},{"$f":"IF(U289=2,2,IF(A289=\"\",\"\",IF(U289=1,\"\",IF(A291=\"\",3,1))))","v":1},{"$f":"IF(AF289=1,A291,IF(AF289=3,LEFT(A289,5)+1,\"\"))","v":1002401},null,{"$f":"IF(A289=\"\",\"\",MAX(B289,D289,L289,X289,AA289))","v":2318}]
[{"$nulls":34},""]
[{"$f":"O291*100+P291","v":1002401},{"$f":"IF(B290=\"\",MAX(AA288,X288,L288,B288,D288,AA287,X287,L287)+1,B290)","v":2337},"天肥地肥",{"$f":"IF(E291=\"\",\"\",B291+1)","v":""},{"$nulls":6},{"$f":"IF(J291=\"\",\"\",VLOOKUP(J291,EventNPC!A:E,5,FALSE))","v":""},{"$f":"IF(M291=\"\",\"\",IF(P291=1,MAX(D291,B291)+1,MAX(B290,L290,D290,X290,AA290)+1))","v":2338},"你来到飞行的灵兽周围，碰碰运气吧。",null,{"$f":"IF(O290=\"\",O288+1,O290)","v":10024},{"$f":"IF(O291=O290,P290+1,1)","v":1},{"$f":"_xlfn.TEXTJOIN(\";\",1,R291:S291)","v":""},null,null,{"$f":"IF(R291=\"\",\"\",\"-\"&VLOOKUP(R291,EventConditionConfig!A:C,3,FALSE)&IF(S291=\"\",\"\",CHAR(10)&\"-\"&VLOOKUP(S291,EventConditionConfig!A:C,3,FALSE)))","v":""},{"$f":"IF(Y291=\"\",\"\",1)","v":""},{"$f":"IF(U291=1,A292,\"\")","v":""},{"$f":"_xlfn.TEXTJOIN(\";\",1,X291,AA291)","v":""},{"$f":"IF(Y291=\"\",\"\",L291+1)","v":""},null,null,{"$f":"IF(AB291=\"\",\"\",X291+1)","v":""},{"$nulls":4},{"$f":"IF(U291=2,2,IF(A291=\"\",\"\",IF(U291=1,\"\",IF(A292=\"\",3,1))))","v":1},{"$f":"IF(AF291=1,A292,IF(AF291=3,LEFT(A291,5)+1,\"\"))","v":1002402},null,2338]
[1002402,{"$f":"IF(B291=\"\",MAX(AA290,X290,L290,B290,D290,AA288,X288,L288)+1,B291)","v":2337},"天肥地肥",{"$f":"IF(E292=\"\",\"\",B292+1)","v":""},{"$nulls":6},{"$f":"IF(J292=\"\",\"\",VLOOKUP(J292,EventNPC!A:E,5,FALSE))","v":""},{"$f":"IF(M292=\"\",\"\",IF(P292=1,MAX(D292,B292)+1,MAX(B291,L291,D291,X291,AA291)+1))","v":2339},"天肥搜集到了，关于地肥，你突然想到之前碰到的樗木之灵",null,{"$f":"IF(O291=\"\",O290+1,O291)","v":10024},{"$f":"IF(O292=O291,P291+1,1)","v":2},{"$f":"_xlfn.TEXTJOIN(\";\",1,R292:S292)","v":"17"},17,null,{"$f":"IF(R292=\"\",\"\",\"-\"&VLOOKUP(R292,EventConditionConfig!A:C,3,FALSE)&IF(S292=\"\",\"\",CHAR(10)&\"-\"&VLOOKUP(S292,EventConditionConfig!A:C,3,FALSE)))","v":"-击杀灵兽获得天肥"},"","","","",null,null,"",{"$nulls":4},1,{"$f":"IF(AF292=1,A293,IF(AF292=3,LEFT(A292,5)+1,\"\"))","v":1002403},null,2339]
[1002403,{"$f":"IF(B292=\"\",MAX(AA291,X291,L291,B291,D291,AA290,X290,L290)+1,B292)","v":2337},"天肥地肥","",{"$nulls":5},100,{"$f":"IF(J293=\"\",\"\",VLOOKUP(J293,EventNPC!A:E,5,FALSE))","v":"玩家"},2340,"前辈，我有一事相求。",null,10024,3,"",null,null,{"$f":"IF(R293=\"\",\"\",\"-\"&VLOOKUP(R293,EventConditionConfig!A:C,3,FALSE)&IF(S293=\"\",\"\",CHAR(10)&\"-\"&VLOOKUP(S293,EventConditionConfig!A:C,3,FALSE)))","v":""},"","","","",null,null,"",{"$nulls":4},1,1002404,null,2340]
[1002404,2337,"天肥地肥",{"$f":"IF(E294=\"\",\"\",B294+1)","v":""},{"$nulls":5},110,{"$f":"IF(J294=\"\",\"\",VLOOKUP(J294,EventNPC!A:E,5,FALSE))","v":"樗木之灵"},{"$f":"IF(M294=\"\",\"\",IF(P294=1,MAX(D294,B294)+1,MAX(B293,L293,D293,X293,AA293)+1))","v":2341},"小友请说",null,10024,{"$f":"IF(O294=O293,P293+1,1)","v":4},{"$f":"_xlfn.TEXTJOIN(\";\",1,R294:S294)","v":""},null,null,{"$f":"IF(R294=\"\",\"\",\"-\"&VLOOKUP(R294,EventConditionConfig!A:C,3,FALSE)&IF(S294=\"\",\"\",CHAR(10)&\"-\"&VLOOKUP(S294,EventConditionConfig!A:C,3,FALSE)))","v":""},"","","","",null,null,"",{"$nulls":4},1,{"$f":"IF(AF294=1,A295,IF(AF294=3,LEFT(A294,5)+1,\"\"))","v":1002405},null,2341]
[1002405,2337,"天肥地肥",{"$f":"IF(E295=\"\",\"\",B295+1)","v":""},{"$nulls":5},100,{"$f":"IF(J295=\"\",\"\",VLOOKUP(J295,EventNPC!A:E,5,FALSE))","v":"玩家"},{"$f":"IF(M295=\"\",\"\",IF(P295=1,MAX(D295,B295)+1,MAX(B294,L294,D294,X294,AA294)+1))","v":2342},"我在藐姑射山时，遇到有位道友让我帮他找“地肥”来种葫芦...\n不止前辈可否借我一点点树枝。",null,10024,{"$f":"IF(O295=O294,P294+1,1)","v":5},{"$f":"_xlfn.TEXTJOIN(\";\",1,R295:S295)","v":""},null,null,{"$f":"IF(R295=\"\",\"\",\"-\"&VLOOKUP(R295,EventConditionConfig!A:C,3,FALSE)&IF(S295=\"\",\"\",CHAR(10)&\"-\"&VLOOKUP(S295,EventConditionConfig!A:C,3,FALSE)))","v":""},"","","","",null,null,"",{"$nulls":4},1,{"$f":"IF(AF295=1,A296,IF(AF295=3,LEFT(A295,5)+1,\"\"))","v":1002406},null,2342]
[1002406,2337,"天肥地肥","",{"$nulls":5},110,{"$f":"IF(J296=\"\",\"\",VLOOKUP(J296,EventNPC!A:E,5,FALSE))","v":"樗木之灵"},2343,"好说好说，以后多来陪我聊聊天就好。",null,10024,6,"",null,null,{"$f":"IF(R296=\"\",\"\",\"-\"&VLOOKUP(R296,EventConditionConfig!A:C,3,FALSE)&IF(S296=\"\",\"\",CHAR(10)&\"-\"&VLOOKUP(S296,EventConditionConfig!A:C,3,FALSE)))","v":""},"","","","",null,null,"",{"$nulls":4},1,1002407,null,2343]
[1002407,2337,"天肥地肥",{"$f":"IF(E297=\"\",\"\",B297+1)","v":""},{"$nulls":5},100,{"$f":"IF(J297=\"\",\"\",VLOOKUP(J297,EventNPC!A:E,5,FALSE))","v":"玩家"},{"$f":"IF(M297=\"\",\"\",IF(P297=1,MAX(D297,B297)+1,MAX(B296,L296,D296,X296,AA296)+1))","v":2344},"多谢前辈！  （得到樗木的树枝）",null,10024,{"$f":"IF(O297=O296,P296+1,1)","v":7},{"$f":"_xlfn.TEXTJOIN(\";\",1,R297:S297)","v":""},null,null,{"$f":"IF(R297=\"\",\"\",\"-\"&VLOOKUP(R297,EventConditionConfig!A:C,3,FALSE)&IF(S297=\"\",\"\",CHAR(10)&\"-\"&VLOOKUP(S297,EventConditionConfig!A:C,3,FALSE)))","v":""},"","","","",null,null,"",null,null,20001,1,3,{"$f":"IF(AF297=1,A298,IF(AF297=3,LEFT(A297,5)+1,\"\"))","v":10025},null,2344]
[{"$nulls":34},""]
[{"$f":"O299*100+P299","v":1002501},{"$f":"IF(B298=\"\",MAX(AA297,X297,L297,B297,D297,AA296,X296,L296)+1,B298)","v":2345},"登山",{"$f":"IF(E299=\"\",\"\",B299+1)","v":""},{"$nulls":5},111,{"$f":"IF(J299=\"\",\"\",VLOOKUP(J299,EventNPC!A:E,5,FALSE))","v":"惠子"},{"$f":"IF(M299=\"\",\"\",IF(P299=1,MAX(D299,B299)+1,MAX(B298,L298,D298,X298,AA298)+1))","v":2346},"（眼睛一亮）好好好！\n这位道友果然好手段！竟真能找到“地肥”！",null,{"$f":"IF(O298=\"\",O297+1,O298)","v":10025},{"$f":"IF(O299=O298,P298+1,1)","v":1},{"$f":"_xlfn.TEXTJOIN(\";\",1,R299:S299)","v":""},null,null,{"$f":"IF(R299=\"\",\"\",\"-\"&VLOOKUP(R299,EventConditionConfig!A:C,3,FALSE)&IF(S299=\"\",\"\",CHAR(10)&\"-\"&VLOOKUP(S299,EventConditionConfig!A:C,3,FALSE)))","v":""},{"$f":"IF(Y299=\"\",\"\",1)","v":""},{"$f":"IF(U299=1,A300,\"\")","v":""},{"$f":"_xlfn.TEXTJOIN(\";\",1,X299,AA299)","v":""},{"$f":"IF(Y299=\"\",\"\",L299+1)","v":""},null,null,{"$f":"IF(AB299=\"\",\"\",X299+1)","v":""},{"$nulls":4},{"$f":"IF(U299=2,2,IF(A299=\"\",\"\",IF(U299=1,\"\",IF(A300=\"\",3,1))))","v":1},{"$f":"IF(AF299=1,A300,IF(AF299=3,LEFT(A299,5)+1,\"\"))","v":1002502},null,2346]
[1002502,2345,"登山",{"$f":"IF(E300=\"\",\"\",B300+1)","v":""},{"$nulls":5},100,{"$f":"IF(J300=\"\",\"\",VLOOKUP(J300,EventNPC!A:E,5,FALSE))","v":"玩家"},{"$f":"IF(M300=\"\",\"\",IF(P300=1,MAX(D300,B300)+1,MAX(B299,L299,D299,X299,AA299)+1))","v":2347},"（谁管你的葫芦....）\n请道友告知，哪里可以见到神仙，我有事相求。",null,10025,{"$f":"IF(O300=O299,P299+1,1)","v":2},{"$f":"_xlfn.TEXTJOIN(\";\",1,R300:S300)","v":""},null,null,{"$f":"IF(R300=\"\",\"\",\"-\"&VLOOKUP(R300,EventConditionConfig!A:C,3,FALSE)&IF(S300=\"\",\"\",CHAR(10)&\"-\"&VLOOKUP(S300,EventConditionConfig!A:C,3,FALSE)))","v":""},"",{"$f":"IF(U300=1,A301,\"\")","v":""},"","",null,null,"",{"$nulls":4},1,{"$f":"IF(AF300=1,A301,IF(AF300=3,LEFT(A300,5)+1,\"\"))","v":1002503},null,2347]
[1002503,2345,"登山",{"$f":"IF(E301=\"\",\"\",B301+1)","v":""},{"$nulls":5},111,{"$f":"IF(J301=\"\",\"\",VLOOKUP(J301,EventNPC!A:E,5,FALSE))","v":"惠子"},{"$f":"IF(M301=\"\",\"\",IF(P301=1,MAX(D301,B301)+1,MAX(B300,L300,D300,X300,AA300)+1))","v":2348},"不瞒道友，我在这藐姑射山的山脚生活多年，并未见过神仙。\n来找神仙的倒是多…",null,10025,{"$f":"IF(O301=O300,P300+1,1)","v":3},{"$f":"_xlfn.TEXTJOIN(\";\",1,R301:S301)","v":""},null,null,{"$f":"IF(R301=\"\",\"\",\"-\"&VLOOKUP(R301,EventConditionConfig!A:C,3,FALSE)&IF(S301=\"\",\"\",CHAR(10)&\"-\"&VLOOKUP(S301,EventConditionConfig!A:C,3,FALSE)))","v":""},1,{"$f":"IF(U301=1,A302,\"\")","v":1002504},"2349",2349,"…",null,"",{"$nulls":4},"",{"$f":"IF(AF301=1,A302,IF(AF301=3,LEFT(A301,5)+1,\"\"))","v":""},null,2349]
[1002504,2345,"登山","",{"$nulls":5},111,{"$f":"IF(J302=\"\",\"\",VLOOKUP(J302,EventNPC!A:E,5,FALSE))","v":"惠子"},2350,"不过道友也不要急，我确实听庄子提过，此山有神仙的事迹。",null,10025,4,"",null,null,{"$f":"IF(R302=\"\",\"\",\"-\"&VLOOKUP(R302,EventConditionConfig!A:C,3,FALSE)&IF(S302=\"\",\"\",CHAR(10)&\"-\"&VLOOKUP(S302,EventConditionConfig!A:C,3,FALSE)))","v":""},"",{"$f":"IF(U302=1,A303,\"\")","v":""},"","",null,null,"",{"$nulls":4},1,1002505,null,2350]
[1002505,2345,"登山",{"$f":"IF(E303=\"\",\"\",B303+1)","v":""},{"$nulls":5},111,{"$f":"IF(J303=\"\",\"\",VLOOKUP(J303,EventNPC!A:E,5,FALSE))","v":"惠子"},{"$f":"IF(M303=\"\",\"\",IF(P303=1,MAX(D303,B303)+1,MAX(B302,L302,D302,X302,AA302)+1))","v":2351},"我屋后设有一阵法，隐藏了上山的小路，我一会开启法阵，你从那边上山吧。",null,10025,{"$f":"IF(O303=O302,P302+1,1)","v":5},{"$f":"_xlfn.TEXTJOIN(\";\",1,R303:S303)","v":""},null,null,{"$f":"IF(R303=\"\",\"\",\"-\"&VLOOKUP(R303,EventConditionConfig!A:C,3,FALSE)&IF(S303=\"\",\"\",CHAR(10)&\"-\"&VLOOKUP(S303,EventConditionConfig!A:C,3,FALSE)))","v":""},1,{"$f":"IF(U303=1,_xlfn.TEXTJOIN(\";\",1,IF(Z303=\"\",A303+1,Z303),IF(AND(AA303<>\"\",AC303=\"\"),A303+1,AC303)),IF(U303=2,Y303,\"\"))","v":"1002506;1002507"},"2352;2353",2352,"我这就启程登山！",{"$f":"A304","v":1002506},2353,"道友竟然精通阵法？",{"$f":"A305","v":1002507},null,null,"",{"$f":"IF(AF303=1,A304,IF(AF303=3,LEFT(A303,5)+1,\"\"))","v":""},null,2353]
[1002506,2345,"登山","",{"$nulls":5},111,{"$f":"IF(J304=\"\",\"\",VLOOKUP(J304,EventNPC!A:E,5,FALSE))","v":"惠子"},2354,"去吧，登上山顶，也许能找到你想要的。",null,10025,6,"",null,null,{"$f":"IF(R304=\"\",\"\",\"-\"&VLOOKUP(R304,EventConditionConfig!A:C,3,FALSE)&IF(S304=\"\",\"\",CHAR(10)&\"-\"&VLOOKUP(S304,EventConditionConfig!A:C,3,FALSE)))","v":""},"",{"$f":"IF(U304=1,A305,\"\")","v":""},"","",null,null,"",{"$nulls":4},1,{"$f":"IF(AF304=\"\",\"\",CHOOSE(AF304,IF(AH304=\"\",A304+1,AH304),CONCATENATE(IF(AH304=\"\",A304+1,AH304),\";101\"),IF(AH304=\"\",O304+1,AH304)))","v":1002509},1002509,2354]
[1002507,2345,"登山",{"$f":"IF(E305=\"\",\"\",B305+1)","v":""},{"$nulls":5},111,{"$f":"IF(J305=\"\",\"\",VLOOKUP(J305,EventNPC!A:E,5,FALSE))","v":"惠子"},{"$f":"IF(M305=\"\",\"\",IF(P305=1,MAX(D305,B305)+1,MAX(B304,L304,D304,X304,AA304)+1))","v":2355},"好说好说，我确实无心修炼，也对神仙没兴趣。",null,10025,{"$f":"IF(O305=O304,P304+1,1)","v":7},{"$f":"_xlfn.TEXTJOIN(\";\",1,R305:S305)","v":""},null,null,{"$f":"IF(R305=\"\",\"\",\"-\"&VLOOKUP(R305,EventConditionConfig!A:C,3,FALSE)&IF(S305=\"\",\"\",CHAR(10)&\"-\"&VLOOKUP(S305,EventConditionConfig!A:C,3,FALSE)))","v":""},"",{"$f":"IF(U305=1,A306,\"\")","v":""},"","",null,null,"",{"$nulls":4},1,{"$f":"IF(AF305=1,A306,IF(AF305=3,LEFT(A305,5)+1,\"\"))","v":1002508},null,2355]
[1002508,2345,"登山",{"$f":"IF(E306=\"\",\"\",B306+1)","v":""},{"$nulls":5},111,{"$f":"IF(J306=\"\",\"\",VLOOKUP(J306,EventNPC!A:E,5,FALSE))","v":"惠子"},{"$f":"IF(M306=\"\",\"\",IF(P306=1,MAX(D306,B306)+1,MAX(B305,L305,D305,X305,AA305)+1))","v":2356},"闲来无事，种种花草，研究研究阵法。\n如果道友有兴趣，可以随时交流。",null,10025,{"$f":"IF(O306=O305,P305+1,1)","v":8},{"$f":"_xlfn.TEXTJOIN(\";\",1,R306:S306)","v":""},null,null,{"$f":"IF(R306=\"\",\"\",\"-\"&VLOOKUP(R306,EventConditionConfig!A:C,3,FALSE)&IF(S306=\"\",\"\",CHAR(10)&\"-\"&VLOOKUP(S306,EventConditionConfig!A:C,3,FALSE)))","v":""},"",{"$f":"IF(U306=1,A307,\"\")","v":""},"","",null,null,"",{"$nulls":4},1,{"$f":"IF(AF306=1,A307,IF(AF306=3,LEFT(A306,5)+1,\"\"))","v":1002509},null,2356]
[1002509,2345,"登山",{"$f":"IF(E307=\"\",\"\",B307+1)","v":""},{"$nulls":6},{"$f":"IF(J307=\"\",\"\",VLOOKUP(J307,EventNPC!A:E,5,FALSE))","v":""},{"$f":"IF(M307=\"\",\"\",IF(P307=1,MAX(D307,B307)+1,MAX(B306,L306,D306,X306,AA306)+1))","v":""},null,null,10025,{"$f":"IF(O307=O306,P306+1,1)","v":9},{"$f":"_xlfn.TEXTJOIN(\";\",1,R307:S307)","v":""},null,null,{"$f":"IF(R307=\"\",\"\",\"-\"&VLOOKUP(R307,EventConditionConfig!A:C,3,FALSE)&IF(S307=\"\",\"\",CHAR(10)&\"-\"&VLOOKUP(S307,EventConditionConfig!A:C,3,FALSE)))","v":""},"",{"$f":"IF(U307=1,A308,\"\")","v":""},"","",null,null,"",{"$nulls":4},3,{"$f":"IF(AF307=1,A308,IF(AF307=3,LEFT(A307,5)+1,\"\"))","v":10026},null,2345]
[{"$nulls":34},""]
[{"$f":"O309*100+P309","v":3000301},{"$f":"IF(B308=\"\",MAX(AA307,X307,L307,B307,D307,AA306,X306,L306)+1,B308)","v":2357},"击杀妖兽",{"$f":"IF(E309=\"\",\"\",B309+1)","v":""},{"$nulls":6},{"$f":"IF(J309=\"\",\"\",VLOOKUP(J309,EventNPC!A:E,5,FALSE))","v":""},{"$f":"IF(M309=\"\",\"\",IF(P309=1,MAX(D309,B309)+1,MAX(B308,L308,D308,X308,AA308)+1))","v":""},null,null,30003,{"$f":"IF(O309=O308,P308+1,1)","v":1},{"$f":"_xlfn.TEXTJOIN(\";\",1,R309:S309)","v":""},null,null,{"$f":"IF(R309=\"\",\"\",\"-\"&VLOOKUP(R309,EventConditionConfig!A:C,3,FALSE)&IF(S309=\"\",\"\",CHAR(10)&\"-\"&VLOOKUP(S309,EventConditionConfig!A:C,3,FALSE)))","v":""},2,1003,{"$f":"_xlfn.TEXTJOIN(\";\",1,X309,AA309)","v":""},{"$f":"IF(Y309=\"\",\"\",L309+1)","v":""},null,null,{"$f":"IF(AB309=\"\",\"\",X309+1)","v":""},{"$nulls":4},{"$f":"IF(U309=2,2,IF(A309=\"\",\"\",IF(U309=1,\"\",IF(A310=\"\",3,1))))","v":2},"102;101",null,2357]
[{"$nulls":34},""]
[{"$f":"O311*100+P311","v":3000401},{"$f":"IF(B310=\"\",MAX(AA309,X309,L309,B309,D309,AA308,X308,L308)+1,B310)","v":2358},"击败后山小妖",{"$f":"IF(E311=\"\",\"\",B311+1)","v":""},{"$nulls":6},{"$f":"IF(J311=\"\",\"\",VLOOKUP(J311,EventNPC!A:E,5,FALSE))","v":""},{"$f":"IF(M311=\"\",\"\",IF(P311=1,MAX(D311,B311)+1,MAX(B310,L310,D310,X310,AA310)+1))","v":""},null,null,30004,{"$f":"IF(O311=O310,P310+1,1)","v":1},{"$f":"_xlfn.TEXTJOIN(\";\",1,R311:S311)","v":""},null,null,{"$f":"IF(R311=\"\",\"\",\"-\"&VLOOKUP(R311,EventConditionConfig!A:C,3,FALSE)&IF(S311=\"\",\"\",CHAR(10)&\"-\"&VLOOKUP(S311,EventConditionConfig!A:C,3,FALSE)))","v":""},2,1004,{"$f":"_xlfn.TEXTJOIN(\";\",1,X311,AA311)","v":""},{"$f":"IF(Y311=\"\",\"\",L311+1)","v":""},null,null,{"$f":"IF(AB311=\"\",\"\",X311+1)","v":""},{"$nulls":4},{"$f":"IF(U311=2,2,IF(A311=\"\",\"\",IF(U311=1,\"\",IF(A312=\"\",3,1))))","v":2},"102;101",null,2358]
[{"$nulls":34},""]
[{"$f":"O313*100+P313","v":3000501},{"$f":"IF(B312=\"\",MAX(AA311,X311,L311,B311,D311,AA310,X310,L310)+1,B312)","v":2359},"击败夜袭的妖兽",{"$f":"IF(E313=\"\",\"\",B313+1)","v":""},{"$nulls":6},{"$f":"IF(J313=\"\",\"\",VLOOKUP(J313,EventNPC!A:E,5,FALSE))","v":""},{"$f":"IF(M313=\"\",\"\",IF(P313=1,MAX(D313,B313)+1,MAX(B312,L312,D312,X312,AA312)+1))","v":""},null,null,30005,{"$f":"IF(O313=O312,P312+1,1)","v":1},{"$f":"_xlfn.TEXTJOIN(\";\",1,R313:S313)","v":""},null,null,{"$f":"IF(R313=\"\",\"\",\"-\"&VLOOKUP(R313,EventConditionConfig!A:C,3,FALSE)&IF(S313=\"\",\"\",CHAR(10)&\"-\"&VLOOKUP(S313,EventConditionConfig!A:C,3,FALSE)))","v":""},2,1005,{"$f":"_xlfn.TEXTJOIN(\";\",1,X313,AA313)","v":""},{"$f":"IF(Y313=\"\",\"\",L313+1)","v":""},null,null,{"$f":"IF(AB313=\"\",\"\",X313+1)","v":""},{"$nulls":4},{"$f":"IF(U313=2,2,IF(A313=\"\",\"\",IF(U313=1,\"\",IF(A314=\"\",3,1))))","v":2},"102;101",null,2359]
[{"$nulls":34},""]
[{"$f":"O315*100+P315","v":3000601},{"$f":"IF(B314=\"\",MAX(AA313,X313,L313,B313,D313,AA312,X312,L312)+1,B314)","v":2360},"击败峰顶的妖王",{"$f":"IF(E315=\"\",\"\",B315+1)","v":""},{"$nulls":6},{"$f":"IF(J315=\"\",\"\",VLOOKUP(J315,EventNPC!A:E,5,FALSE))","v":""},{"$f":"IF(M315=\"\",\"\",IF(P315=1,MAX(D315,B315)+1,MAX(B314,L314,D314,X314,AA314)+1))","v":""},null,null,30006,{"$f":"IF(O315=O314,P314+1,1)","v":1},{"$f":"_xlfn.TEXTJOIN(\";\",1,R315:S315)","v":""},null,null,{"$f":"IF(R315=\"\",\"\",\"-\"&VLOOKUP(R315,EventConditionConfig!A:C,3,FALSE)&IF(S315=\"\",\"\",CHAR(10)&\"-\"&VLOOKUP(S315,EventConditionConfig!A:C,3,FALSE)))","v":""},2,1006,{"$f":"_xlfn.TEXTJOIN(\";\",1,X315,AA315)","v":""},{"$f":"IF(Y315=\"\",\"\",L315+1)","v":""},null,null,{"$f":"IF(AB315=\"\",\"\",X315+1)","v":""},{"$nulls":4},{"$f":"IF(U315=2,2,IF(A315=\"\",\"\",IF(U315=1,\"\",IF(A316=\"\",3,1))))","v":2},"102;101",null,2360]
[{"$nulls":34},""]
[{"$f":"O317*100+P317","v":3000701},{"$f":"IF(B316=\"\",MAX(AA315,X315,L315,B315,D315,AA314,X314,L314)+1,B316)","v":2361},"击败仙山的阵眼妖兽",{"$f":"IF(E317=\"\",\"\",B317+1)","v":""},{"$nulls":6},{"$f":"IF(J317=\"\",\"\",VLOOKUP(J317,EventNPC!A:E,5,FALSE))","v":""},{"$f":"IF(M317=\"\",\"\",IF(P317=1,MAX(D317,B317)+1,MAX(B316,L316,D316,X316,AA316)+1))","v":""},null,null,30007,{"$f":"IF(O317=O316,P316+1,1)","v":1},{"$f":"_xlfn.TEXTJOIN(\";\",1,R317:S317)","v":""},null,null,{"$f":"IF(R317=\"\",\"\",\"-\"&VLOOKUP(R317,EventConditionConfig!A:C,3,FALSE)&IF(S317=\"\",\"\",CHAR(10)&\"-\"&VLOOKUP(S317,EventConditionConfig!A:C,3,FALSE)))","v":""},2,1007,{"$f":"_xlfn.TEXTJOIN(\";\",1,X317,AA317)","v":""},{"$f":"IF(Y317=\"\",\"\",L317+1)","v":""},null,null,{"$f":"IF(AB317=\"\",\"\",X317+1)","v":""},{"$nulls":4},{"$f":"IF(U317=2,2,IF(A317=\"\",\"\",IF(U317=1,\"\",IF(A318=\"\",3,1))))","v":2},"102;101",null,2361]
[{"$nulls":34},""]
[3000801,2362,"击杀灵兽获得天肥",{"$f":"IF(E319=\"\",\"\",B319+1)","v":""},{"$nulls":6},{"$f":"IF(J319=\"\",\"\",VLOOKUP(J319,EventNPC!A:E,5,FALSE))","v":""},{"$f":"IF(M319=\"\",\"\",IF(P319=1,MAX(D319,B319)+1,MAX(B318,L318,D318,X318,AA318)+1))","v":""},null,null,30008,{"$f":"IF(O319=O318,P318+1,1)","v":1},{"$f":"_xlfn.TEXTJOIN(\";\",1,R319:S319)","v":""},null,null,{"$f":"IF(R319=\"\",\"\",\"-\"&VLOOKUP(R319,EventConditionConfig!A:C,3,FALSE)&IF(S319=\"\",\"\",CHAR(10)&\"-\"&VLOOKUP(S319,EventConditionConfig!A:C,3,FALSE)))","v":""},2,1008,"","",null,null,"",null,null,20002,1,{"$f":"IF(U319=2,2,IF(A319=\"\",\"\",IF(U319=1,\"\",IF(A323=\"\",3,1))))","v":2},"102;101",null,2362]
[{"$nulls":34},""]
[{"$f":"O321*100+P321","v":3001101},{"$f":"IF(B320=\"\",MAX(AA319,X319,L319,B319,D319,AA318,X318,L318)+1,B320)","v":2363},"获得灵草种子",{"$f":"IF(E321=\"\",\"\",B321+1)","v":""},{"$nulls":6},{"$f":"IF(J321=\"\",\"\",VLOOKUP(J321,EventNPC!A:E,5,FALSE))","v":""},{"$f":"IF(M321=\"\",\"\",IF(P321=1,MAX(D321,B321)+1,MAX(B320,L320,D320,X320,AA320)+1))","v":2364},"你来到后山的草园中，按照许由的要求，摘了几株灵草种子。",null,30011,{"$f":"IF(O321=O320,P320+1,1)","v":1},{"$f":"_xlfn.TEXTJOIN(\";\",1,R321:S321)","v":""},null,null,{"$f":"IF(R321=\"\",\"\",\"-\"&VLOOKUP(R321,EventConditionConfig!A:C,3,FALSE)&IF(S321=\"\",\"\",CHAR(10)&\"-\"&VLOOKUP(S321,EventConditionConfig!A:C,3,FALSE)))","v":""},{"$f":"IF(Y321=\"\",\"\",IF(ISTEXT(Y321),1,2))","v":1},{"$f":"IF(U321=1,_xlfn.TEXTJOIN(\";\",1,IF(Z321=\"\",A321+1,Z321),IF(AND(AA321<>\"\",AC321=\"\"),A321+1,AC321)),IF(U321=2,Y321,\"\"))","v":"3001102"},{"$f":"_xlfn.TEXTJOIN(\";\",1,X321,AA321)","v":"2365"},{"$f":"IF(OR(ISNUMBER(Y321),Y321=\"\"),\"\",L321+1)","v":2365},"将种子收好",null,{"$f":"IF(AB321=\"\",\"\",X321+1)","v":""},{"$nulls":5},{"$f":"IF(AF321=\"\",\"\",CHOOSE(AF321,IF(AH321=\"\",A321+1,AH321),CONCATENATE(IF(AH321=\"\",A321+1,AH321),\";101\"),IF(AH321=\"\",O321+1,AH321)))","v":""},null,2365]
[{"$f":"O322*100+P322","v":3001102},{"$f":"IF(B321=\"\",MAX(AA320,X320,L320,B320,D320,AA319,X319,L319)+1,B321)","v":2363},"获得灵草种子",{"$f":"IF(E322=\"\",\"\",B322+1)","v":""},{"$nulls":6},{"$f":"IF(J322=\"\",\"\",VLOOKUP(J322,EventNPC!A:E,5,FALSE))","v":""},{"$f":"IF(M322=\"\",\"\",IF(P322=1,MAX(D322,B322)+1,MAX(B321,L321,D321,X321,AA321)+1))","v":""},null,null,30011,{"$f":"IF(O322=O321,P321+1,1)","v":2},{"$f":"_xlfn.TEXTJOIN(\";\",1,R322:S322)","v":""},null,null,{"$f":"IF(R322=\"\",\"\",\"-\"&VLOOKUP(R322,EventConditionConfig!A:C,3,FALSE)&IF(S322=\"\",\"\",CHAR(10)&\"-\"&VLOOKUP(S322,EventConditionConfig!A:C,3,FALSE)))","v":""},{"$f":"IF(Y322=\"\",\"\",IF(ISTEXT(Y322),1,2))","v":""},{"$f":"IF(U322=1,_xlfn.TEXTJOIN(\";\",1,IF(Z322=\"\",A322+1,Z322),IF(AND(AA322<>\"\",AC322=\"\"),A322+1,AC322)),IF(U322=2,Y322,\"\"))","v":""},{"$f":"_xlfn.TEXTJOIN(\";\",1,X322,AA322)","v":""},{"$f":"IF(OR(ISNUMBER(Y322),Y322=\"\"),\"\",L322+1)","v":""},null,null,{"$f":"IF(AB322=\"\",\"\",X322+1)","v":""},{"$nulls":5},{"$f":"IF(AF322=\"\",\"\",CHOOSE(AF322,IF(AH322=\"\",A322+1,AH322),CONCATENATE(IF(AH322=\"\",A322+1,AH322),\";101\"),IF(AH322=\"\",O322+1,AH322)))","v":""},null,{"$f":"IF(A322=\"\",\"\",MAX(B322,D322,L322,X322,AA322))","v":2363}]
[{"$nulls":34},""]
[{"$f":"O324*100+P324","v":101101},2366,"神识探索至一处山洞之中，似乎别有洞天",{"$f":"IF(E324=\"\",\"\",B324+1)","v":""},{"$nulls":6},{"$f":"IF(J324=\"\",\"\",VLOOKUP(J324,EventNPC!A:E,5,FALSE))","v":""},{"$f":"IF(M324=\"\",\"\",IF(P324=1,MAX(D324,B324)+1,MAX(B323,L323,D323,X323,AA323)+1))","v":2367},"前往山洞之中收集药材",null,1011,{"$f":"IF(O324=O323,P323+1,1)","v":1},{"$f":"_xlfn.TEXTJOIN(\";\",1,R324:S324)","v":""},null,null,{"$f":"IF(R324=\"\",\"\",\"-\"&VLOOKUP(R324,EventConditionConfig!A:C,3,FALSE)&IF(S324=\"\",\"\",CHAR(10)&\"-\"&VLOOKUP(S324,EventConditionConfig!A:C,3,FALSE)))","v":""},{"$f":"IF(Y324=\"\",\"\",1)","v":""},{"$f":"IF(U324=1,A325,\"\")","v":""},{"$f":"_xlfn.TEXTJOIN(\";\",1,X324,AA324)","v":""},{"$f":"IF(Y324=\"\",\"\",L324+1)","v":""},null,null,{"$f":"IF(AB324=\"\",\"\",X324+1)","v":""},{"$nulls":7},2367]
[{"$nulls":34},""]
[{"$f":"O326*100+P326","v":500101},{"$f":"IF(C326=\"\",\"\",IF(C326=C325,B325,MAX(AI324,AI325)+1))","v":2368},"受疯道人所托，追查《御风化影诀》的下落",{"$f":"IF(E326=\"\",\"\",IF(P326=1,B326+1,IF(E326=E325,D325,MAX(AI325,B326)+1)))","v":2369},"与疯道人对话(0/1)",{"$nulls":4},103,{"$f":"IF(J326=\"\",\"\",VLOOKUP(J326,EventNPC!A:E,5,FALSE))","v":"疯道人"},{"$f":"IF(M326=\"\",\"\",MAX(AI325,B326,D326)+1)","v":2370},"小友留步，老夫有一事相求",null,5001,{"$f":"IF(O326=O325,P325+1,1)","v":1},{"$f":"_xlfn.TEXTJOIN(\";\",1,R326:S326)","v":""},null,null,{"$f":"IF(R326=\"\",\"\",\"-\"&VLOOKUP(R326,EventConditionConfig!A:C,3,FALSE)&IF(S326=\"\",\"\",CHAR(10)&\"-\"&VLOOKUP(S326,EventConditionConfig!A:C,3,FALSE)))","v":""},{"$f":"IF(Y326=\"\",\"\",IF(ISTEXT(Y326),1,2))","v":""},{"$f":"IF(U326=1,_xlfn.TEXTJOIN(\";\",1,IF(Z326=\"\",A326+1,Z326),IF(AND(AA326<>\"\",AC326=\"\"),A326+1,AC326)),IF(U326=2,Y326,\"\"))","v":""},{"$f":"_xlfn.TEXTJOIN(\";\",1,X326,AA326)","v":""},{"$f":"IF(OR(ISNUMBER(Y326),Y326=\"\"),\"\",L326+1)","v":""},null,null,{"$f":"IF(AB326=\"\",\"\",X326+1)","v":""},{"$nulls":4},{"$f":"IF(A327=\"\",IF(OR(AH326>0,VLOOKUP(O326,EventConfig!A:C,3,FALSE)=4),3,\"\"),IF(ISNUMBER(Y326),2,1))","v":1},{"$f":"IF(AF326=\"\",\"\",CHOOSE(AF326,IF(AH326=\"\",A326+1,AH326),CONCATENATE(IF(AH326=\"\",A326+1,AH326),\";101\"),IF(AH326=\"\",O326+1,AH326)))","v":500102},null,2370]
[500102,{"$f":"IF(C327=\"\",\"\",IF(C327=C326,B326,MAX(AI325,AI326)+1))","v":2368},"受疯道人所托，追查《御风化影诀》的下落",{"$f":"IF(E327=\"\",\"\",IF(P327=1,B327+1,IF(E327=E326,D326,MAX(AI326,B327)+1)))","v":2369},"与疯道人对话(0/1)",{"$nulls":4},103,{"$f":"IF(J327=\"\",\"\",VLOOKUP(J327,EventNPC!A:E,5,FALSE))","v":"疯道人"},{"$f":"IF(M327=\"\",\"\",MAX(AI326,B327,D327)+1)","v":2371},"三十年前北海妖族来犯，击退妖族后老夫捡到个被妖兽重伤的娃娃。",null,5001,2,"",null,null,{"$f":"IF(R327=\"\",\"\",\"-\"&VLOOKUP(R327,EventConditionConfig!A:C,3,FALSE)&IF(S327=\"\",\"\",CHAR(10)&\"-\"&VLOOKUP(S327,EventConditionConfig!A:C,3,FALSE)))","v":""},{"$f":"IF(Y327=\"\",\"\",IF(ISTEXT(Y327),1,2))","v":""},{"$f":"IF(U327=1,_xlfn.TEXTJOIN(\";\",1,IF(Z327=\"\",A327+1,Z327),IF(AND(AA327<>\"\",AC327=\"\"),A327+1,AC327)),IF(U327=2,Y327,\"\"))","v":""},{"$f":"_xlfn.TEXTJOIN(\";\",1,X327,AA327)","v":""},{"$f":"IF(OR(ISNUMBER(Y327),Y327=\"\"),\"\",L327+1)","v":""},null,null,"",{"$nulls":4},{"$f":"IF(A328=\"\",IF(OR(AH327>0,VLOOKUP(O327,EventConfig!A:C,3,FALSE)=4),3,\"\"),IF(ISNUMBER(Y327),2,1))","v":1},{"$f":"IF(AF327=\"\",\"\",CHOOSE(AF327,IF(AH327=\"\",A327+1,AH327),CONCATENATE(IF(AH327=\"\",A327+1,AH327),\";101\"),IF(AH327=\"\",O327+1,AH327)))","v":500103},null,2371]
[500103,2368,"受疯道人所托，追查《御风化影诀》的下落",2369,"与疯道人对话(0/1)",{"$nulls":4},103,{"$f":"IF(J328=\"\",\"\",VLOOKUP(J328,EventNPC!A:E,5,FALSE))","v":"疯道人"},2372,"他心口妖气汇聚，周身却萦绕着纯净的风灵根。这般矛盾体质，注定要卷入因果轮回。",null,5001,3,"",null,null,{"$f":"IF(R328=\"\",\"\",\"-\"&VLOOKUP(R328,EventConditionConfig!A:C,3,FALSE)&IF(S328=\"\",\"\",CHAR(10)&\"-\"&VLOOKUP(S328,EventConditionConfig!A:C,3,FALSE)))","v":""},"","","","",null,null,"",{"$nulls":4},{"$f":"IF(A329=\"\",IF(OR(AH328>0,VLOOKUP(O328,EventConfig!A:C,3,FALSE)=4),3,\"\"),IF(ISNUMBER(Y328),2,1))","v":1},500104,null,2372]
[500104,2368,"受疯道人所托，追查《御风化影诀》的下落",2369,"与疯道人对话(0/1)",{"$nulls":4},103,{"$f":"IF(J329=\"\",\"\",VLOOKUP(J329,EventNPC!A:E,5,FALSE))","v":"疯道人"},2373,"于是老夫收留他在门下修养",null,5001,4,"",null,null,{"$f":"IF(R329=\"\",\"\",\"-\"&VLOOKUP(R329,EventConditionConfig!A:C,3,FALSE)&IF(S329=\"\",\"\",CHAR(10)&\"-\"&VLOOKUP(S329,EventConditionConfig!A:C,3,FALSE)))","v":""},"","","","",null,null,"",{"$nulls":4},{"$f":"IF(A330=\"\",IF(OR(AH329>0,VLOOKUP(O329,EventConfig!A:C,3,FALSE)=4),3,\"\"),IF(ISNUMBER(Y329),2,1))","v":1},500105,null,2373]
[500105,2368,"受疯道人所托，追查《御风化影诀》的下落",2369,"与疯道人对话(0/1)",{"$nulls":4},103,{"$f":"IF(J330=\"\",\"\",VLOOKUP(J330,EventNPC!A:E,5,FALSE))","v":"疯道人"},2374,"但他心智被妖气所蛊惑一心只想报仇，整日念叨着要杀尽北海妖族。",null,5001,5,"",null,null,{"$f":"IF(R330=\"\",\"\",\"-\"&VLOOKUP(R330,EventConditionConfig!A:C,3,FALSE)&IF(S330=\"\",\"\",CHAR(10)&\"-\"&VLOOKUP(S330,EventConditionConfig!A:C,3,FALSE)))","v":""},"","","","",null,null,"",{"$nulls":4},{"$f":"IF(A331=\"\",IF(OR(AH330>0,VLOOKUP(O330,EventConfig!A:C,3,FALSE)=4),3,\"\"),IF(ISNUMBER(Y330),2,1))","v":1},500106,null,2374]
[500106,2368,"受疯道人所托，追查《御风化影诀》的下落",2369,"与疯道人对话(0/1)",{"$nulls":4},103,{"$f":"IF(J331=\"\",\"\",VLOOKUP(J331,EventNPC!A:E,5,FALSE))","v":"疯道人"},2375,"但十年的相处老夫早就把他当做亲人看待，为了断掉念想，只得让他离去，他离开之时盗走了洞府中的禁书《御风化影诀》。",null,5001,6,"",null,null,{"$f":"IF(R331=\"\",\"\",\"-\"&VLOOKUP(R331,EventConditionConfig!A:C,3,FALSE)&IF(S331=\"\",\"\",CHAR(10)&\"-\"&VLOOKUP(S331,EventConditionConfig!A:C,3,FALSE)))","v":""},"","","","",null,null,"",{"$nulls":4},{"$f":"IF(A332=\"\",IF(OR(AH331>0,VLOOKUP(O331,EventConfig!A:C,3,FALSE)=4),3,\"\"),IF(ISNUMBER(Y331),2,1))","v":1},500107,null,2375]
[{"$f":"O332*100+P332","v":500107},2368,"受疯道人所托，追查《御风化影诀》的下落",2369,"与疯道人对话(0/1)",{"$nulls":4},100,{"$f":"IF(J332=\"\",\"\",VLOOKUP(J332,EventNPC!A:E,5,FALSE))","v":"玩家"},2376,"\"\"",null,5001,{"$f":"IF(O332=O331,P331+1,1)","v":7},{"$f":"_xlfn.TEXTJOIN(\";\",1,R332:S332)","v":""},null,null,{"$f":"IF(R332=\"\",\"\",\"-\"&VLOOKUP(R332,EventConditionConfig!A:C,3,FALSE)&IF(S332=\"\",\"\",CHAR(10)&\"-\"&VLOOKUP(S332,EventConditionConfig!A:C,3,FALSE)))","v":""},1,"500108;500108","2377;2378",2377,"前辈为何不追",null,{"$f":"IF(AB332=\"\",\"\",X332+1)","v":2378},"他怎会轻易盗走此书",null,null,null,{"$f":"IF(A333=\"\",IF(OR(AH332>0,VLOOKUP(O332,EventConfig!A:C,3,FALSE)=4),3,\"\"),IF(ISNUMBER(Y332),2,1))","v":1},500108,null,2378]
[500108,2368,"受疯道人所托，追查《御风化影诀》的下落",2369,"与疯道人对话(0/1)",{"$nulls":4},103,{"$f":"IF(J333=\"\",\"\",VLOOKUP(J333,EventNPC!A:E,5,FALSE))","v":"疯道人"},2379,"那孩子恐是为了给爹妈寻仇，也是看往日情面，老夫不想亲自动手。",null,5001,8,"",null,null,{"$f":"IF(R333=\"\",\"\",\"-\"&VLOOKUP(R333,EventConditionConfig!A:C,3,FALSE)&IF(S333=\"\",\"\",CHAR(10)&\"-\"&VLOOKUP(S333,EventConditionConfig!A:C,3,FALSE)))","v":""},"","","","",null,null,"",{"$nulls":4},{"$f":"IF(A334=\"\",IF(OR(AH333>0,VLOOKUP(O333,EventConfig!A:C,3,FALSE)=4),3,\"\"),IF(ISNUMBER(Y333),2,1))","v":1},500109,null,2379]
[500109,2368,"受疯道人所托，追查《御风化影诀》的下落",2369,"与疯道人对话(0/1)",{"$nulls":4},103,{"$f":"IF(J334=\"\",\"\",VLOOKUP(J334,EventNPC!A:E,5,FALSE))","v":"疯道人"},2380,"现如今老夫发现山中的生灵会莫名消失，村中孩童也是被神秘的妖气所卷走，这和书中的血肉炼化的方法一模一样，老夫断定是那孩子所为。",null,5001,9,"",null,null,{"$f":"IF(R334=\"\",\"\",\"-\"&VLOOKUP(R334,EventConditionConfig!A:C,3,FALSE)&IF(S334=\"\",\"\",CHAR(10)&\"-\"&VLOOKUP(S334,EventConditionConfig!A:C,3,FALSE)))","v":""},"","","","",null,null,"",{"$nulls":4},{"$f":"IF(A335=\"\",IF(OR(AH334>0,VLOOKUP(O334,EventConfig!A:C,3,FALSE)=4),3,\"\"),IF(ISNUMBER(Y334),2,1))","v":1},500110,null,2380]
[500110,2368,"受疯道人所托，追查《御风化影诀》的下落",2369,"与疯道人对话(0/1)",{"$nulls":4},103,{"$f":"IF(J335=\"\",\"\",VLOOKUP(J335,EventNPC!A:E,5,FALSE))","v":"疯道人"},2381,"小友，我追踪妖气波动，他就在西边的树林之中！",null,5001,10,"",null,null,{"$f":"IF(R335=\"\",\"\",\"-\"&VLOOKUP(R335,EventConditionConfig!A:C,3,FALSE)&IF(S335=\"\",\"\",CHAR(10)&\"-\"&VLOOKUP(S335,EventConditionConfig!A:C,3,FALSE)))","v":""},5,"","","",null,null,"",{"$nulls":4},{"$f":"IF(A336=\"\",IF(OR(AH335>0,VLOOKUP(O335,EventConfig!A:C,3,FALSE)=4),3,\"\"),IF(ISNUMBER(Y335),2,1))","v":1},500111,null,2381]
[500111,2368,"受疯道人所托，追查《御风化影诀》的下落",2382,"追查风无咎(0/1)",{"$nulls":5},{"$f":"IF(J336=\"\",\"\",VLOOKUP(J336,EventNPC!A:E,5,FALSE))","v":""},2383,"（枯叶居然无风漂浮在空中，地面残留着扭曲的符文刻痕，见风无咎在地上刻画着什么）",null,5001,11,"",null,null,{"$f":"IF(R336=\"\",\"\",\"-\"&VLOOKUP(R336,EventConditionConfig!A:C,3,FALSE)&IF(S336=\"\",\"\",CHAR(10)&\"-\"&VLOOKUP(S336,EventConditionConfig!A:C,3,FALSE)))","v":""},{"$f":"IF(Y336=\"\",\"\",IF(ISTEXT(Y336),1,2))","v":""},"","","",null,null,"",{"$nulls":4},{"$f":"IF(A337=\"\",IF(OR(AH336>0,VLOOKUP(O336,EventConfig!A:C,3,FALSE)=4),3,\"\"),IF(ISNUMBER(Y336),2,1))","v":1},500112,null,{"$f":"IF(A336=\"\",\"\",MAX(B336,D336,L336,X336,AA336))","v":2383}]
[500112,2368,"受疯道人所托，追查《御风化影诀》的下落",2382,"追查风无咎(0/1)",{"$nulls":4},112,{"$f":"IF(J337=\"\",\"\",VLOOKUP(J337,EventNPC!A:E,5,FALSE))","v":"风无咎"},2384,"(看见主角到来)你小子身上怎会有老疯子的气，是那老头让你来抓我的吗。",null,5001,12,"",null,null,{"$f":"IF(R337=\"\",\"\",\"-\"&VLOOKUP(R337,EventConditionConfig!A:C,3,FALSE)&IF(S337=\"\",\"\",CHAR(10)&\"-\"&VLOOKUP(S337,EventConditionConfig!A:C,3,FALSE)))","v":""},"","","","",null,null,"",{"$nulls":4},{"$f":"IF(A338=\"\",IF(OR(AH337>0,VLOOKUP(O337,EventConfig!A:C,3,FALSE)=4),3,\"\"),IF(ISNUMBER(Y337),2,1))","v":1},500113,null,{"$f":"IF(A337=\"\",\"\",MAX(B337,D337,L337,X337,AA337))","v":2384}]
[500113,2368,"受疯道人所托，追查《御风化影诀》的下落",2382,"追查风无咎(0/1)",{"$nulls":4},100,{"$f":"IF(J338=\"\",\"\",VLOOKUP(J338,EventNPC!A:E,5,FALSE))","v":"玩家"},2385,"前辈见往日情面不愿亲自动手，我一人足以",null,5001,13,"",null,null,{"$f":"IF(R338=\"\",\"\",\"-\"&VLOOKUP(R338,EventConditionConfig!A:C,3,FALSE)&IF(S338=\"\",\"\",CHAR(10)&\"-\"&VLOOKUP(S338,EventConditionConfig!A:C,3,FALSE)))","v":""},"","","","",null,null,"",{"$nulls":4},{"$f":"IF(A339=\"\",IF(OR(AH338>0,VLOOKUP(O338,EventConfig!A:C,3,FALSE)=4),3,\"\"),IF(ISNUMBER(Y338),2,1))","v":1},500114,null,{"$f":"IF(A338=\"\",\"\",MAX(B338,D338,L338,X338,AA338))","v":2385}]
[500114,2368,"受疯道人所托，追查《御风化影诀》的下落",2382,"追查风无咎(0/1)",{"$nulls":5},{"$f":"IF(J339=\"\",\"\",VLOOKUP(J339,EventNPC!A:E,5,FALSE))","v":""},2386,"（说罢，风无咎的影子化形，为了一妖，顿时煞气暴涨）",null,5001,14,"",null,null,{"$f":"IF(R339=\"\",\"\",\"-\"&VLOOKUP(R339,EventConditionConfig!A:C,3,FALSE)&IF(S339=\"\",\"\",CHAR(10)&\"-\"&VLOOKUP(S339,EventConditionConfig!A:C,3,FALSE)))","v":""},"","","","",null,null,"",{"$nulls":4},{"$f":"IF(A340=\"\",IF(OR(AH339>0,VLOOKUP(O339,EventConfig!A:C,3,FALSE)=4),3,\"\"),IF(ISNUMBER(Y339),2,1))","v":1},500115,null,2386]
[500115,2368,"受疯道人所托，追查《御风化影诀》的下落",2382,"追查风无咎(0/1)",{"$nulls":4},112,{"$f":"IF(J340=\"\",\"\",VLOOKUP(J340,EventNPC!A:E,5,FALSE))","v":"风无咎"},2387,"如今我自断妖魂炼出影身，正好今天拿你试试！",null,5001,15,"",null,null,{"$f":"IF(R340=\"\",\"\",\"-\"&VLOOKUP(R340,EventConditionConfig!A:C,3,FALSE)&IF(S340=\"\",\"\",CHAR(10)&\"-\"&VLOOKUP(S340,EventConditionConfig!A:C,3,FALSE)))","v":""},2,100001,"","",100001,null,"",{"$nulls":4},{"$f":"IF(A341=\"\",IF(OR(AH340>0,VLOOKUP(O340,EventConfig!A:C,3,FALSE)=4),3,\"\"),IF(ISNUMBER(Y340),2,1))","v":2},"500116;101",null,2387]
[500116,2368,"受疯道人所托，追查《御风化影诀》的下落",2382,"追查风无咎(0/1)",{"$nulls":4},112,{"$f":"IF(J341=\"\",\"\",VLOOKUP(J341,EventNPC!A:E,5,FALSE))","v":"风无咎"},2388,"岂会如此！",null,5001,16,"",null,null,{"$f":"IF(R341=\"\",\"\",\"-\"&VLOOKUP(R341,EventConditionConfig!A:C,3,FALSE)&IF(S341=\"\",\"\",CHAR(10)&\"-\"&VLOOKUP(S341,EventConditionConfig!A:C,3,FALSE)))","v":""},1,"500117","2389",2389,"交还书页，我可留你魂魄入轮回。",null,"",{"$nulls":4},{"$f":"IF(A342=\"\",IF(OR(AH341>0,VLOOKUP(O341,EventConfig!A:C,3,FALSE)=4),3,\"\"),IF(ISNUMBER(Y341),2,1))","v":1},500117,null,2389]
[500117,2368,"受疯道人所托，追查《御风化影诀》的下落",2382,"追查风无咎(0/1)",{"$nulls":4},112,{"$f":"IF(J342=\"\",\"\",VLOOKUP(J342,EventNPC!A:E,5,FALSE))","v":"风无咎"},2390,"轮回？今日是我大意了！老东西还有你，给我等着！（化作一震妖风带着《御风化影诀》逃往远方",null,5001,17,"",null,null,{"$f":"IF(R342=\"\",\"\",\"-\"&VLOOKUP(R342,EventConditionConfig!A:C,3,FALSE)&IF(S342=\"\",\"\",CHAR(10)&\"-\"&VLOOKUP(S342,EventConditionConfig!A:C,3,FALSE)))","v":""},"","","","",null,null,"",{"$nulls":4},{"$f":"IF(A343=\"\",IF(OR(AH342>0,VLOOKUP(O342,EventConfig!A:C,3,FALSE)=4),3,\"\"),IF(ISNUMBER(Y342),2,1))","v":1},500118,null,2390]
[500118,2368,"受疯道人所托，追查《御风化影诀》的下落",2382,"追查风无咎(0/1)",{"$nulls":4},103,{"$f":"IF(J343=\"\",\"\",VLOOKUP(J343,EventNPC!A:E,5,FALSE))","v":"疯道人"},2391,"这孩子天资聪颖，短短二十年就能参悟书中所写。",null,5001,18,"",null,null,{"$f":"IF(R343=\"\",\"\",\"-\"&VLOOKUP(R343,EventConditionConfig!A:C,3,FALSE)&IF(S343=\"\",\"\",CHAR(10)&\"-\"&VLOOKUP(S343,EventConditionConfig!A:C,3,FALSE)))","v":""},"","","","",null,null,"",{"$nulls":4},{"$f":"IF(A344=\"\",IF(OR(AH343>0,VLOOKUP(O343,EventConfig!A:C,3,FALSE)=4),3,\"\"),IF(ISNUMBER(Y343),2,1))","v":1},500119,null,2391]
[500119,2368,"受疯道人所托，追查《御风化影诀》的下落",2382,"追查风无咎(0/1)",{"$nulls":4},103,{"$f":"IF(J344=\"\",\"\",VLOOKUP(J344,EventNPC!A:E,5,FALSE))","v":"疯道人"},2392,"无妨，此法需要大量血肉献祭，如此规模的法术定会妖气四散，找到他也是迟早之事。",null,5001,19,"",null,null,{"$f":"IF(R344=\"\",\"\",\"-\"&VLOOKUP(R344,EventConditionConfig!A:C,3,FALSE)&IF(S344=\"\",\"\",CHAR(10)&\"-\"&VLOOKUP(S344,EventConditionConfig!A:C,3,FALSE)))","v":""},"","","","",null,null,"",{"$nulls":4},{"$f":"IF(A345=\"\",IF(OR(AH344>0,VLOOKUP(O344,EventConfig!A:C,3,FALSE)=4),3,\"\"),IF(ISNUMBER(Y344),2,1))","v":""},{"$f":"IF(AF344=\"\",\"\",CHOOSE(AF344,IF(AH344=\"\",A344+1,AH344),CONCATENATE(IF(AH344=\"\",A344+1,AH344),\";101\"),IF(AH344=\"\",O344+1,AH344)))","v":""},null,{"$f":"IF(A344=\"\",\"\",MAX(B344,D344,L344,X344,AA344))","v":2392}]
[]
[{"$f":"O346*100+P346","v":500301},2412,"受化妖剑士所托，帮助他消灭藏匿北海的海妖",{"$f":"IF(E346=\"\",\"\",IF(P346=1,B346+1,IF(E346=E345,D345,MAX(AI345,B346)+1)))","v":2413},"与化妖剑士对话",{"$nulls":5},{"$f":"IF(J346=\"\",\"\",VLOOKUP(J346,EventNPC!A:E,5,FALSE))","v":""},{"$f":"IF(M346=\"\",\"\",MAX(AI345,B346,D346)+1)","v":2414},"咸腥的海风中，你看见礁石上蜷缩着人形怪物——它的脊椎刺破皮肤形成剑鞘，一柄生满红锈的巨剑就背在嵴骨之间。当它转头看向你时，你不由得心底生寒。",null,5003,{"$f":"IF(O346=O345,P345+1,1)","v":1},{"$f":"_xlfn.TEXTJOIN(\";\",1,R346:S346)","v":""},null,null,{"$f":"IF(R346=\"\",\"\",\"-\"&VLOOKUP(R346,EventConditionConfig!A:C,3,FALSE)&IF(S346=\"\",\"\",CHAR(10)&\"-\"&VLOOKUP(S346,EventConditionConfig!A:C,3,FALSE)))","v":""},{"$f":"IF(Y346=\"\",\"\",IF(ISTEXT(Y346),1,2))","v":""},{"$f":"IF(U346=1,_xlfn.TEXTJOIN(\";\",1,IF(Z346=\"\",A346+1,Z346),IF(AND(AA346<>\"\",AC346=\"\"),A346+1,AC346)),IF(U346=2,Y346,\"\"))","v":""},{"$f":"_xlfn.TEXTJOIN(\";\",1,X346,AA346)","v":""},{"$f":"IF(OR(ISNUMBER(Y346),Y346=\"\"),\"\",L346+1)","v":""},null,null,{"$f":"IF(AB346=\"\",\"\",X346+1)","v":""},{"$nulls":4},{"$f":"IF(A347=\"\",IF(OR(AH346>0,VLOOKUP(O346,EventConfig!A:C,3,FALSE)=4),3,\"\"),IF(ISNUMBER(Y346),2,1))","v":1},{"$f":"IF(AF346=\"\",\"\",CHOOSE(AF346,IF(AH346=\"\",A346+1,AH346),CONCATENATE(IF(AH346=\"\",A346+1,AH346),\";101\"),IF(AH346=\"\",O346+1,AH346)))","v":500302},null,{"$f":"IF(A346=\"\",\"\",MAX(B346,D346,L346,X346,AA346))","v":2414}]
[500302,{"$f":"IF(C347=\"\",\"\",IF(C347=C346,B346,MAX(AI345,AI346)+1))","v":2412},"受化妖剑士所托，帮助他消灭藏匿北海的海妖",2413,"与化妖剑士对话",{"$nulls":4},113,{"$f":"IF(J347=\"\",\"\",VLOOKUP(J347,EventNPC!A:E,5,FALSE))","v":"北海剑妖"},2415,"你闻到了吗...海里的血锈味。那厮海妖在这片海滩卷走阿蘅时的这种味道",null,5003,2,"",null,null,{"$f":"IF(R347=\"\",\"\",\"-\"&VLOOKUP(R347,EventConditionConfig!A:C,3,FALSE)&IF(S347=\"\",\"\",CHAR(10)&\"-\"&VLOOKUP(S347,EventConditionConfig!A:C,3,FALSE)))","v":""},"","","","",null,null,"",{"$nulls":4},{"$f":"IF(A348=\"\",IF(OR(AH347>0,VLOOKUP(O347,EventConfig!A:C,3,FALSE)=4),3,\"\"),IF(ISNUMBER(Y347),2,1))","v":1},500303,null,2415]
[500303,{"$f":"IF(C348=\"\",\"\",IF(C348=C347,B347,MAX(AI346,AI347)+1))","v":2412},"受化妖剑士所托，帮助他消灭藏匿北海的海妖",2413,"与化妖剑士对话",{"$nulls":4},100,{"$f":"IF(J348=\"\",\"\",VLOOKUP(J348,EventNPC!A:E,5,FALSE))","v":"玩家"},2416,"什么血锈味，我闻不见，你口中的阿蘅是？",null,5003,3,"",null,null,{"$f":"IF(R348=\"\",\"\",\"-\"&VLOOKUP(R348,EventConditionConfig!A:C,3,FALSE)&IF(S348=\"\",\"\",CHAR(10)&\"-\"&VLOOKUP(S348,EventConditionConfig!A:C,3,FALSE)))","v":""},"","","","",null,null,"",{"$nulls":4},{"$f":"IF(A349=\"\",IF(OR(AH348>0,VLOOKUP(O348,EventConfig!A:C,3,FALSE)=4),3,\"\"),IF(ISNUMBER(Y348),2,1))","v":1},500304,null,2416]
[500304,2412,"受化妖剑士所托，帮助他消灭藏匿北海的海妖",2413,"与化妖剑士对话",{"$nulls":4},113,{"$f":"IF(J349=\"\",\"\",VLOOKUP(J349,EventNPC!A:E,5,FALSE))","v":"北海剑妖"},2417,"我的妻子。",null,5003,4,"",null,null,{"$f":"IF(R349=\"\",\"\",\"-\"&VLOOKUP(R349,EventConditionConfig!A:C,3,FALSE)&IF(S349=\"\",\"\",CHAR(10)&\"-\"&VLOOKUP(S349,EventConditionConfig!A:C,3,FALSE)))","v":""},"","","","",null,null,"",{"$nulls":4},{"$f":"IF(A350=\"\",IF(OR(AH349>0,VLOOKUP(O349,EventConfig!A:C,3,FALSE)=4),3,\"\"),IF(ISNUMBER(Y349),2,1))","v":1},500305,null,2417]
[500305,2412,"受化妖剑士所托，帮助他消灭藏匿北海的海妖",2413,"与化妖剑士对话",{"$nulls":4},100,{"$f":"IF(J350=\"\",\"\",VLOOKUP(J350,EventNPC!A:E,5,FALSE))","v":"玩家"},2418,"妖怪还有妻子，还挺稀奇。",null,5003,5,"",null,null,{"$f":"IF(R350=\"\",\"\",\"-\"&VLOOKUP(R350,EventConditionConfig!A:C,3,FALSE)&IF(S350=\"\",\"\",CHAR(10)&\"-\"&VLOOKUP(S350,EventConditionConfig!A:C,3,FALSE)))","v":""},"","","","",null,null,"",{"$nulls":4},{"$f":"IF(A351=\"\",IF(OR(AH350>0,VLOOKUP(O350,EventConfig!A:C,3,FALSE)=4),3,\"\"),IF(ISNUMBER(Y350),2,1))","v":1},500306,null,2418]
[500306,2412,"受化妖剑士所托，帮助他消灭藏匿北海的海妖",2413,"与化妖剑士对话",{"$nulls":4},113,{"$f":"IF(J351=\"\",\"\",VLOOKUP(J351,EventNPC!A:E,5,FALSE))","v":"北海剑妖"},2419,"当年我可是和你一样的修士，但从那之后一切都变了",null,5003,6,"",null,null,{"$f":"IF(R351=\"\",\"\",\"-\"&VLOOKUP(R351,EventConditionConfig!A:C,3,FALSE)&IF(S351=\"\",\"\",CHAR(10)&\"-\"&VLOOKUP(S351,EventConditionConfig!A:C,3,FALSE)))","v":""},"","","","",null,null,"",{"$nulls":4},{"$f":"IF(A352=\"\",IF(OR(AH351>0,VLOOKUP(O351,EventConfig!A:C,3,FALSE)=4),3,\"\"),IF(ISNUMBER(Y351),2,1))","v":1},500307,null,2419]
[500307,2412,"受化妖剑士所托，帮助他消灭藏匿北海的海妖",2413,"与化妖剑士对话",{"$nulls":4},113,{"$f":"IF(J352=\"\",\"\",VLOOKUP(J352,EventNPC!A:E,5,FALSE))","v":"北海剑妖"},2420,"百余年我送给阿蘅的定情信物贝壳项链，被阿蘅不慎遗失在这片海滩，她于是在这苦苦寻找。可突然间一头妖兽现身，将她拖入了海中！",null,5003,7,"",null,null,{"$f":"IF(R352=\"\",\"\",\"-\"&VLOOKUP(R352,EventConditionConfig!A:C,3,FALSE)&IF(S352=\"\",\"\",CHAR(10)&\"-\"&VLOOKUP(S352,EventConditionConfig!A:C,3,FALSE)))","v":""},"","","","",null,null,"",{"$nulls":4},{"$f":"IF(A353=\"\",IF(OR(AH352>0,VLOOKUP(O352,EventConfig!A:C,3,FALSE)=4),3,\"\"),IF(ISNUMBER(Y352),2,1))","v":1},500308,null,2420]
[500308,2412,"受化妖剑士所托，帮助他消灭藏匿北海的海妖",2413,"与化妖剑士对话",{"$nulls":4},113,{"$f":"IF(J353=\"\",\"\",VLOOKUP(J353,EventNPC!A:E,5,FALSE))","v":"北海剑妖"},2421,"得知此事后一直守在这，等着那厮妖兽从海中现身。",null,5003,8,"",null,null,{"$f":"IF(R353=\"\",\"\",\"-\"&VLOOKUP(R353,EventConditionConfig!A:C,3,FALSE)&IF(S353=\"\",\"\",CHAR(10)&\"-\"&VLOOKUP(S353,EventConditionConfig!A:C,3,FALSE)))","v":""},"","","","",null,null,"",{"$nulls":4},{"$f":"IF(A354=\"\",IF(OR(AH353>0,VLOOKUP(O353,EventConfig!A:C,3,FALSE)=4),3,\"\"),IF(ISNUMBER(Y353),2,1))","v":1},500309,null,2421]
[500309,2412,"受化妖剑士所托，帮助他消灭藏匿北海的海妖",2413,"与化妖剑士对话",{"$nulls":4},113,{"$f":"IF(J354=\"\",\"\",VLOOKUP(J354,EventNPC!A:E,5,FALSE))","v":"北海剑妖"},2422,"我在这片海滩终于等到那厮妖兽从海中出现，我便提剑向其冲去，我的剑深深刺入了妖兽的身体，它一吃痛逃入了这片海中，空中忽然刮起了狂风，被狂风阻拦无法进入海中追寻，妖兽也被狂风困在了海中",null,5003,9,"",null,null,{"$f":"IF(R354=\"\",\"\",\"-\"&VLOOKUP(R354,EventConditionConfig!A:C,3,FALSE)&IF(S354=\"\",\"\",CHAR(10)&\"-\"&VLOOKUP(S354,EventConditionConfig!A:C,3,FALSE)))","v":""},"","","","",null,null,"",{"$nulls":4},{"$f":"IF(A355=\"\",IF(OR(AH354>0,VLOOKUP(O354,EventConfig!A:C,3,FALSE)=4),3,\"\"),IF(ISNUMBER(Y354),2,1))","v":1},500310,null,2422]
[500310,2412,"受化妖剑士所托，帮助他消灭藏匿北海的海妖",2413,"与化妖剑士对话",{"$nulls":4},113,{"$f":"IF(J355=\"\",\"\",VLOOKUP(J355,EventNPC!A:E,5,FALSE))","v":"北海剑妖"},2423,"那你为何会变成了妖",null,5003,10,"",null,null,{"$f":"IF(R355=\"\",\"\",\"-\"&VLOOKUP(R355,EventConditionConfig!A:C,3,FALSE)&IF(S355=\"\",\"\",CHAR(10)&\"-\"&VLOOKUP(S355,EventConditionConfig!A:C,3,FALSE)))","v":""},"","","","",null,null,"",{"$nulls":4},{"$f":"IF(A356=\"\",IF(OR(AH355>0,VLOOKUP(O355,EventConfig!A:C,3,FALSE)=4),3,\"\"),IF(ISNUMBER(Y355),2,1))","v":1},500311,null,2423]
[500311,2412,"受化妖剑士所托，帮助他消灭藏匿北海的海妖",2413,"与化妖剑士对话",{"$nulls":4},113,{"$f":"IF(J356=\"\",\"\",VLOOKUP(J356,EventNPC!A:E,5,FALSE))","v":"北海剑妖"},2424,"因北海妖气横行，我被妖气入体，身体慢慢发生了变化，不妨这也算北海对我的恩赐，妻子死后我日以继日的待在这里等着复仇，等着斩杀掉那只吞掉我妻子的妖兽。",null,5003,11,"",null,null,{"$f":"IF(R356=\"\",\"\",\"-\"&VLOOKUP(R356,EventConditionConfig!A:C,3,FALSE)&IF(S356=\"\",\"\",CHAR(10)&\"-\"&VLOOKUP(S356,EventConditionConfig!A:C,3,FALSE)))","v":""},"","","","",null,null,"",{"$nulls":4},{"$f":"IF(A357=\"\",IF(OR(AH356>0,VLOOKUP(O356,EventConfig!A:C,3,FALSE)=4),3,\"\"),IF(ISNUMBER(Y356),2,1))","v":1},500312,null,2424]
[500312,2412,"受化妖剑士所托，帮助他消灭藏匿北海的海妖",2413,"与化妖剑士对话",{"$nulls":4},113,{"$f":"IF(J357=\"\",\"\",VLOOKUP(J357,EventNPC!A:E,5,FALSE))","v":"北海剑妖"},2425,"我有办法驱散狂风",null,5003,12,"",null,null,{"$f":"IF(R357=\"\",\"\",\"-\"&VLOOKUP(R357,EventConditionConfig!A:C,3,FALSE)&IF(S357=\"\",\"\",CHAR(10)&\"-\"&VLOOKUP(S357,EventConditionConfig!A:C,3,FALSE)))","v":""},"","","","",null,null,"",{"$nulls":4},{"$f":"IF(A358=\"\",IF(OR(AH357>0,VLOOKUP(O357,EventConfig!A:C,3,FALSE)=4),3,\"\"),IF(ISNUMBER(Y357),2,1))","v":1},500313,null,2425]
[500313,2412,"受化妖剑士所托，帮助他消灭藏匿北海的海妖",2413,"与化妖剑士对话",{"$nulls":5},{"$f":"IF(J358=\"\",\"\",VLOOKUP(J358,EventNPC!A:E,5,FALSE))","v":""},2426,"（拿出风灵珠驱散海面狂风）（瞬间海面变的不平，一头妖力浑厚的妖兽从海面中跃出）",null,5003,13,"",null,null,{"$f":"IF(R358=\"\",\"\",\"-\"&VLOOKUP(R358,EventConditionConfig!A:C,3,FALSE)&IF(S358=\"\",\"\",CHAR(10)&\"-\"&VLOOKUP(S358,EventConditionConfig!A:C,3,FALSE)))","v":""},"","","","",null,null,"",{"$nulls":4},{"$f":"IF(A359=\"\",IF(OR(AH358>0,VLOOKUP(O358,EventConfig!A:C,3,FALSE)=4),3,\"\"),IF(ISNUMBER(Y358),2,1))","v":1},500314,null,2426]
[500314,2412,"受化妖剑士所托，帮助他消灭藏匿北海的海妖",2427,"追查海妖(0/1)",{"$nulls":4},113,{"$f":"IF(J359=\"\",\"\",VLOOKUP(J359,EventNPC!A:E,5,FALSE))","v":"北海剑妖"},2428,"小友有如此绝技，当斩杀那厮妖兽后定当好好报答你！",null,5003,14,"",null,null,{"$f":"IF(R359=\"\",\"\",\"-\"&VLOOKUP(R359,EventConditionConfig!A:C,3,FALSE)&IF(S359=\"\",\"\",CHAR(10)&\"-\"&VLOOKUP(S359,EventConditionConfig!A:C,3,FALSE)))","v":""},2,100001,"","",100001,null,"",{"$nulls":4},{"$f":"IF(A360=\"\",IF(OR(AH359>0,VLOOKUP(O359,EventConfig!A:C,3,FALSE)=4),3,\"\"),IF(ISNUMBER(Y359),2,1))","v":2},"500315;101",null,2428]
[500315,2412,"受化妖剑士所托，帮助他消灭藏匿北海的海妖",2427,"追查海妖(0/1)",{"$nulls":4},113,{"$f":"IF(J360=\"\",\"\",VLOOKUP(J360,EventNPC!A:E,5,FALSE))","v":"北海剑妖"},2429,"小友你快躲开，无论如何我也要这妖兽葬身于此！即便魂飞魄散永世不得轮回也无所谓！阿蘅，我来见你了！",null,5003,15,"",null,null,{"$f":"IF(R360=\"\",\"\",\"-\"&VLOOKUP(R360,EventConditionConfig!A:C,3,FALSE)&IF(S360=\"\",\"\",CHAR(10)&\"-\"&VLOOKUP(S360,EventConditionConfig!A:C,3,FALSE)))","v":""},"","","","",null,null,"",{"$nulls":4},{"$f":"IF(A361=\"\",IF(OR(AH360>0,VLOOKUP(O360,EventConfig!A:C,3,FALSE)=4),3,\"\"),IF(ISNUMBER(Y360),2,1))","v":1},500316,null,2429]
[500316,2412,"受化妖剑士所托，帮助他消灭藏匿北海的海妖",2427,"追查海妖(0/1)",{"$nulls":5},{"$f":"IF(J361=\"\",\"\",VLOOKUP(J361,EventNPC!A:E,5,FALSE))","v":""},2430,"海面沸腾，妖兽嘶吼着掀起滔天巨浪，触须如铁鞭般抽向你。剑妖猛地推开你，他脊骨间的锈剑剧烈震颤，裂纹中迸发出刺目的血光。",null,5003,16,"",null,null,{"$f":"IF(R361=\"\",\"\",\"-\"&VLOOKUP(R361,EventConditionConfig!A:C,3,FALSE)&IF(S361=\"\",\"\",CHAR(10)&\"-\"&VLOOKUP(S361,EventConditionConfig!A:C,3,FALSE)))","v":""},"","","","",null,null,"",{"$nulls":4},{"$f":"IF(A362=\"\",IF(OR(AH361>0,VLOOKUP(O361,EventConfig!A:C,3,FALSE)=4),3,\"\"),IF(ISNUMBER(Y361),2,1))","v":1},500317,null,2430]
[500317,2412,"受化妖剑士所托，帮助他消灭藏匿北海的海妖",2427,"追查海妖(0/1)",{"$nulls":4},113,{"$f":"IF(J362=\"\",\"\",VLOOKUP(J362,EventNPC!A:E,5,FALSE))","v":"北海剑妖"},2431,"百年的执念……今日，该了结了！",null,5003,17,"",null,null,{"$f":"IF(R362=\"\",\"\",\"-\"&VLOOKUP(R362,EventConditionConfig!A:C,3,FALSE)&IF(S362=\"\",\"\",CHAR(10)&\"-\"&VLOOKUP(S362,EventConditionConfig!A:C,3,FALSE)))","v":""},"","","","",null,null,"",{"$nulls":4},{"$f":"IF(A363=\"\",IF(OR(AH362>0,VLOOKUP(O362,EventConfig!A:C,3,FALSE)=4),3,\"\"),IF(ISNUMBER(Y362),2,1))","v":1},500318,null,2431]
[500318,2412,"受化妖剑士所托，帮助他消灭藏匿北海的海妖",2427,"追查海妖(0/1)",{"$nulls":5},{"$f":"IF(J363=\"\",\"\",VLOOKUP(J363,EventNPC!A:E,5,FALSE))","v":""},2432,"剑妖的身体开始崩解，血肉化作赤红的火焰，缠绕着锈剑熊熊燃烧。那半枚嵌在脸上的银簪突然亮起幽蓝的光，与妖兽颅骨中的另半枚遥相呼应。",null,5003,18,"",null,null,{"$f":"IF(R363=\"\",\"\",\"-\"&VLOOKUP(R363,EventConditionConfig!A:C,3,FALSE)&IF(S363=\"\",\"\",CHAR(10)&\"-\"&VLOOKUP(S363,EventConditionConfig!A:C,3,FALSE)))","v":""},"","","","",null,null,"",{"$nulls":4},{"$f":"IF(A364=\"\",IF(OR(AH363>0,VLOOKUP(O363,EventConfig!A:C,3,FALSE)=4),3,\"\"),IF(ISNUMBER(Y363),2,1))","v":1},500319,null,2432]
[500319,2412,"受化妖剑士所托，帮助他消灭藏匿北海的海妖",2427,"追查海妖(0/1)",{"$nulls":4},113,{"$f":"IF(J364=\"\",\"\",VLOOKUP(J364,EventNPC!A:E,5,FALSE))","v":"北海剑妖"},2433,"阿蘅……你看到了吗？我终于……能带你回家了！",null,5003,19,"",null,null,{"$f":"IF(R364=\"\",\"\",\"-\"&VLOOKUP(R364,EventConditionConfig!A:C,3,FALSE)&IF(S364=\"\",\"\",CHAR(10)&\"-\"&VLOOKUP(S364,EventConditionConfig!A:C,3,FALSE)))","v":""},"","","","",null,null,"",{"$nulls":4},{"$f":"IF(A365=\"\",IF(OR(AH364>0,VLOOKUP(O364,EventConfig!A:C,3,FALSE)=4),3,\"\"),IF(ISNUMBER(Y364),2,1))","v":1},500320,null,2433]
[500320,2412,"受化妖剑士所托，帮助他消灭藏匿北海的海妖",2427,"追查海妖(0/1)",{"$nulls":5},{"$f":"IF(J365=\"\",\"\",VLOOKUP(J365,EventNPC!A:E,5,FALSE))","v":""},2434,"他化作一道血色，贯穿妖兽的头颅。银簪在爆炸的强光中被蹦飞，妖兽发出凄厉的哀嚎，庞大的身躯寸寸瓦解，化作漫天荧光。",null,5003,20,"",null,null,{"$f":"IF(R365=\"\",\"\",\"-\"&VLOOKUP(R365,EventConditionConfig!A:C,3,FALSE)&IF(S365=\"\",\"\",CHAR(10)&\"-\"&VLOOKUP(S365,EventConditionConfig!A:C,3,FALSE)))","v":""},"","","","",null,null,"",{"$nulls":7},2434]
[]
[{"$f":"O367*100+P367","v":500201},{"$f":"IF(C367=\"\",\"\",IF(C367=C366,B366,MAX(AI365,AI366)+1))","v":2435},"受疯道人所托，追查《御风化影诀》的下落",{"$f":"IF(E367=\"\",\"\",IF(P367=1,B367+1,IF(E367=E366,D366,MAX(AI366,B367)+1)))","v":2436},"与疯道人对话(0/1)",{"$nulls":4},103,{"$f":"IF(J367=\"\",\"\",VLOOKUP(J367,EventNPC!A:E,5,FALSE))","v":"疯道人"},{"$f":"IF(M367=\"\",\"\",MAX(AI366,B367,D367)+1)","v":2437},"小友，可曾记得风无咎",null,5002,{"$f":"IF(O367=O366,P366+1,1)","v":1},{"$f":"_xlfn.TEXTJOIN(\";\",1,R367:S367)","v":""},null,null,{"$f":"IF(R367=\"\",\"\",\"-\"&VLOOKUP(R367,EventConditionConfig!A:C,3,FALSE)&IF(S367=\"\",\"\",CHAR(10)&\"-\"&VLOOKUP(S367,EventConditionConfig!A:C,3,FALSE)))","v":""},{"$f":"IF(Y367=\"\",\"\",IF(ISTEXT(Y367),1,2))","v":""},{"$f":"IF(U367=1,_xlfn.TEXTJOIN(\";\",1,IF(Z367=\"\",A367+1,Z367),IF(AND(AA367<>\"\",AC367=\"\"),A367+1,AC367)),IF(U367=2,Y367,\"\"))","v":""},{"$f":"_xlfn.TEXTJOIN(\";\",1,X367,AA367)","v":""},{"$f":"IF(OR(ISNUMBER(Y367),Y367=\"\"),\"\",L367+1)","v":""},null,null,{"$f":"IF(AB367=\"\",\"\",X367+1)","v":""},{"$nulls":4},{"$f":"IF(A368=\"\",IF(OR(AH367>0,VLOOKUP(O367,EventConfig!A:C,3,FALSE)=4),3,\"\"),IF(ISNUMBER(Y367),2,1))","v":1},{"$f":"IF(AF367=\"\",\"\",CHOOSE(AF367,IF(AH367=\"\",A367+1,AH367),CONCATENATE(IF(AH367=\"\",A367+1,AH367),\";101\"),IF(AH367=\"\",O367+1,AH367)))","v":500202},null,{"$f":"IF(A367=\"\",\"\",MAX(B367,D367,L367,X367,AA367))","v":2437}]
[500202,2435,"受疯道人所托，追查《御风化影诀》的下落",2436,"与疯道人对话(0/1)",{"$nulls":4},103,{"$f":"IF(J368=\"\",\"\",VLOOKUP(J368,EventNPC!A:E,5,FALSE))","v":"疯道人"},2438,"老夫感受到了风无咎的藏匿之地。",null,5002,2,"",null,null,{"$f":"IF(R368=\"\",\"\",\"-\"&VLOOKUP(R368,EventConditionConfig!A:C,3,FALSE)&IF(S368=\"\",\"\",CHAR(10)&\"-\"&VLOOKUP(S368,EventConditionConfig!A:C,3,FALSE)))","v":""},"","","","",null,null,"",{"$nulls":4},{"$f":"IF(A369=\"\",IF(OR(AH368>0,VLOOKUP(O368,EventConfig!A:C,3,FALSE)=4),3,\"\"),IF(ISNUMBER(Y368),2,1))","v":1},500203,null,2438]
[500203,2435,"受疯道人所托，追查《御风化影诀》的下落",2436,"与疯道人对话(0/1)",{"$nulls":4},100,{"$f":"IF(J369=\"\",\"\",VLOOKUP(J369,EventNPC!A:E,5,FALSE))","v":"玩家"},2439,"前辈我这就赶去。",null,5002,3,"",null,null,{"$f":"IF(R369=\"\",\"\",\"-\"&VLOOKUP(R369,EventConditionConfig!A:C,3,FALSE)&IF(S369=\"\",\"\",CHAR(10)&\"-\"&VLOOKUP(S369,EventConditionConfig!A:C,3,FALSE)))","v":""},"","","","",null,null,"",{"$nulls":4},{"$f":"IF(A370=\"\",IF(OR(AH369>0,VLOOKUP(O369,EventConfig!A:C,3,FALSE)=4),3,\"\"),IF(ISNUMBER(Y369),2,1))","v":1},500204,null,2439]
[500204,2435,"受疯道人所托，追查《御风化影诀》的下落",2436,"与疯道人对话(0/1)",{"$nulls":5},{"$f":"IF(J370=\"\",\"\",VLOOKUP(J370,EventNPC!A:E,5,FALSE))","v":""},2440,"（风无咎在一血池之中打坐，身旁妖气环绕，一眼望去全是生灵血肉）",null,5002,4,"",null,null,{"$f":"IF(R370=\"\",\"\",\"-\"&VLOOKUP(R370,EventConditionConfig!A:C,3,FALSE)&IF(S370=\"\",\"\",CHAR(10)&\"-\"&VLOOKUP(S370,EventConditionConfig!A:C,3,FALSE)))","v":""},"","","","",null,null,"",{"$nulls":4},{"$f":"IF(A371=\"\",IF(OR(AH370>0,VLOOKUP(O370,EventConfig!A:C,3,FALSE)=4),3,\"\"),IF(ISNUMBER(Y370),2,1))","v":1},500205,null,2440]
[500205,2435,"受疯道人所托，追查《御风化影诀》的下落",2436,"与疯道人对话(0/1)",{"$nulls":4},103,{"$f":"IF(J371=\"\",\"\",VLOOKUP(J371,EventNPC!A:E,5,FALSE))","v":"疯道人"},2441,"竟用生魂喂养功法...小友当心！",null,5002,5,"",null,null,{"$f":"IF(R371=\"\",\"\",\"-\"&VLOOKUP(R371,EventConditionConfig!A:C,3,FALSE)&IF(S371=\"\",\"\",CHAR(10)&\"-\"&VLOOKUP(S371,EventConditionConfig!A:C,3,FALSE)))","v":""},"","","","",null,null,"",{"$nulls":4},{"$f":"IF(A372=\"\",IF(OR(AH371>0,VLOOKUP(O371,EventConfig!A:C,3,FALSE)=4),3,\"\"),IF(ISNUMBER(Y371),2,1))","v":1},500206,null,2441]
[500206,2435,"受疯道人所托，追查《御风化影诀》的下落",2436,"与疯道人对话(0/1)",{"$nulls":5},{"$f":"IF(J372=\"\",\"\",VLOOKUP(J372,EventNPC!A:E,5,FALSE))","v":""},2442,"（血池突然炸开，风妖与影妖完全融合，妖躯浮现古魔纹路）",null,5002,6,"",null,null,{"$f":"IF(R372=\"\",\"\",\"-\"&VLOOKUP(R372,EventConditionConfig!A:C,3,FALSE)&IF(S372=\"\",\"\",CHAR(10)&\"-\"&VLOOKUP(S372,EventConditionConfig!A:C,3,FALSE)))","v":""},"","","","",null,null,"",{"$nulls":4},{"$f":"IF(A373=\"\",IF(OR(AH372>0,VLOOKUP(O372,EventConfig!A:C,3,FALSE)=4),3,\"\"),IF(ISNUMBER(Y372),2,1))","v":1},500207,null,2442]
[500207,2435,"受疯道人所托，追查《御风化影诀》的下落",2436,"与疯道人对话(0/1)",{"$nulls":4},112,{"$f":"IF(J373=\"\",\"\",VLOOKUP(J373,EventNPC!A:E,5,FALSE))","v":"风无咎"},2443,"那日是我疏忽大意，这《御风化影诀》留给你们也是暴殄天物，如今在我手上才能发挥它的用处，多说无益既然你们追来了就留下给我当做丹引让我的功力更上一步吧！",null,5002,7,"",null,null,{"$f":"IF(R373=\"\",\"\",\"-\"&VLOOKUP(R373,EventConditionConfig!A:C,3,FALSE)&IF(S373=\"\",\"\",CHAR(10)&\"-\"&VLOOKUP(S373,EventConditionConfig!A:C,3,FALSE)))","v":""},"","","","",null,null,"",{"$nulls":4},1,500208,null,2443]
[500208,2435,"受疯道人所托，追查《御风化影诀》的下落",2444,"击败风无咎(0/1)",{"$nulls":4},100,{"$f":"IF(J374=\"\",\"\",VLOOKUP(J374,EventNPC!A:E,5,FALSE))","v":"玩家"},2445,"大胆邪修，今日就让你魂飞魄散。",null,5002,8,"",null,null,{"$f":"IF(R374=\"\",\"\",\"-\"&VLOOKUP(R374,EventConditionConfig!A:C,3,FALSE)&IF(S374=\"\",\"\",CHAR(10)&\"-\"&VLOOKUP(S374,EventConditionConfig!A:C,3,FALSE)))","v":""},2,100001,"","",100001,null,"",{"$nulls":4},{"$f":"IF(A375=\"\",IF(OR(AH374>0,VLOOKUP(O374,EventConfig!A:C,3,FALSE)=4),3,\"\"),IF(ISNUMBER(Y374),2,1))","v":2},"500209;101",null,2445]
[500209,2435,"受疯道人所托，追查《御风化影诀》的下落",2444,"击败风无咎(0/1)",{"$nulls":4},103,{"$f":"IF(J375=\"\",\"\",VLOOKUP(J375,EventNPC!A:E,5,FALSE))","v":"疯道人"},2446,"妖族灭我父母，修道的也要杀了我，我究竟做错了什么！",null,5002,9,"",null,null,{"$f":"IF(R375=\"\",\"\",\"-\"&VLOOKUP(R375,EventConditionConfig!A:C,3,FALSE)&IF(S375=\"\",\"\",CHAR(10)&\"-\"&VLOOKUP(S375,EventConditionConfig!A:C,3,FALSE)))","v":""},"","","","",null,null,"",{"$nulls":4},{"$f":"IF(A376=\"\",IF(OR(AH375>0,VLOOKUP(O375,EventConfig!A:C,3,FALSE)=4),3,\"\"),IF(ISNUMBER(Y375),2,1))","v":1},500210,null,2446]
[500210,2435,"受疯道人所托，追查《御风化影诀》的下落",2444,"击败风无咎(0/1)",{"$nulls":5},{"$f":"IF(J376=\"\",\"\",VLOOKUP(J376,EventNPC!A:E,5,FALSE))","v":""},2447,"疯道人赶来后醉醺醺的说道",null,5002,10,"",null,null,{"$f":"IF(R376=\"\",\"\",\"-\"&VLOOKUP(R376,EventConditionConfig!A:C,3,FALSE)&IF(S376=\"\",\"\",CHAR(10)&\"-\"&VLOOKUP(S376,EventConditionConfig!A:C,3,FALSE)))","v":""},"","","","",null,null,"",{"$nulls":4},{"$f":"IF(A377=\"\",IF(OR(AH376>0,VLOOKUP(O376,EventConfig!A:C,3,FALSE)=4),3,\"\"),IF(ISNUMBER(Y376),2,1))","v":1},500211,null,2447]
[500211,2435,"受疯道人所托，追查《御风化影诀》的下落",2444,"击败风无咎(0/1)",{"$nulls":4},103,{"$f":"IF(J377=\"\",\"\",VLOOKUP(J377,EventNPC!A:E,5,FALSE))","v":"疯道人"},2448,"小友还请留手。",null,5002,11,"",null,null,{"$f":"IF(R377=\"\",\"\",\"-\"&VLOOKUP(R377,EventConditionConfig!A:C,3,FALSE)&IF(S377=\"\",\"\",CHAR(10)&\"-\"&VLOOKUP(S377,EventConditionConfig!A:C,3,FALSE)))","v":""},"","","","",null,null,"",{"$nulls":4},{"$f":"IF(A378=\"\",IF(OR(AH377>0,VLOOKUP(O377,EventConfig!A:C,3,FALSE)=4),3,\"\"),IF(ISNUMBER(Y377),2,1))","v":1},500212,null,2448]
[500212,2435,"受疯道人所托，追查《御风化影诀》的下落",2444,"击败风无咎(0/1)",{"$nulls":4},100,{"$f":"IF(J378=\"\",\"\",VLOOKUP(J378,EventNPC!A:E,5,FALSE))","v":"玩家"},2449,"\"\"",null,5002,12,"",null,null,{"$f":"IF(R378=\"\",\"\",\"-\"&VLOOKUP(R378,EventConditionConfig!A:C,3,FALSE)&IF(S378=\"\",\"\",CHAR(10)&\"-\"&VLOOKUP(S378,EventConditionConfig!A:C,3,FALSE)))","v":""},1,"500213;500213","2450;2451",2450,"前辈这种时刻还有心思喝酒",null,2451,"这步入邪道之人留着为何",null,null,null,{"$f":"IF(A379=\"\",IF(OR(AH378>0,VLOOKUP(O378,EventConfig!A:C,3,FALSE)=4),3,\"\"),IF(ISNUMBER(Y378),2,1))","v":1},500213,null,2451]
[500213,2435,"受疯道人所托，追查《御风化影诀》的下落",2444,"击败风无咎(0/1)",{"$nulls":4},103,{"$f":"IF(J379=\"\",\"\",VLOOKUP(J379,EventNPC!A:E,5,FALSE))","v":"疯道人"},2452,"所谓《御风化影诀》凡人无法驾驭，老夫念他风灵根强大便想着拿去便是",null,5002,13,"",null,null,{"$f":"IF(R379=\"\",\"\",\"-\"&VLOOKUP(R379,EventConditionConfig!A:C,3,FALSE)&IF(S379=\"\",\"\",CHAR(10)&\"-\"&VLOOKUP(S379,EventConditionConfig!A:C,3,FALSE)))","v":""},"","","","",null,null,"",{"$nulls":4},{"$f":"IF(A380=\"\",IF(OR(AH379>0,VLOOKUP(O379,EventConfig!A:C,3,FALSE)=4),3,\"\"),IF(ISNUMBER(Y379),2,1))","v":1},500214,null,2452]
[500214,2435,"受疯道人所托，追查《御风化影诀》的下落",2444,"击败风无咎(0/1)",{"$nulls":4},103,{"$f":"IF(J380=\"\",\"\",VLOOKUP(J380,EventNPC!A:E,5,FALSE))","v":"疯道人"},2453,"没想到你以魂为薪...以血为引...强行修炼",null,5002,14,"",null,null,{"$f":"IF(R380=\"\",\"\",\"-\"&VLOOKUP(R380,EventConditionConfig!A:C,3,FALSE)&IF(S380=\"\",\"\",CHAR(10)&\"-\"&VLOOKUP(S380,EventConditionConfig!A:C,3,FALSE)))","v":""},"","","","",null,null,"",{"$nulls":4},{"$f":"IF(A381=\"\",IF(OR(AH380>0,VLOOKUP(O380,EventConfig!A:C,3,FALSE)=4),3,\"\"),IF(ISNUMBER(Y380),2,1))","v":1},500215,null,2453]
[500215,2435,"受疯道人所托，追查《御风化影诀》的下落",2444,"击败风无咎(0/1)",{"$nulls":4},103,{"$f":"IF(J381=\"\",\"\",VLOOKUP(J381,EventNPC!A:E,5,FALSE))","v":"疯道人"},2454,"今日放你一马，去洗涤魔气后还能拜入我的门下",null,5002,15,"",null,null,{"$f":"IF(R381=\"\",\"\",\"-\"&VLOOKUP(R381,EventConditionConfig!A:C,3,FALSE)&IF(S381=\"\",\"\",CHAR(10)&\"-\"&VLOOKUP(S381,EventConditionConfig!A:C,3,FALSE)))","v":""},"","","","",null,null,"",{"$nulls":4},{"$f":"IF(A382=\"\",IF(OR(AH381>0,VLOOKUP(O381,EventConfig!A:C,3,FALSE)=4),3,\"\"),IF(ISNUMBER(Y381),2,1))","v":1},500216,null,2454]
[500216,2435,"受疯道人所托，追查《御风化影诀》的下落",2444,"击败风无咎(0/1)",{"$nulls":4},103,{"$f":"IF(J382=\"\",\"\",VLOOKUP(J382,EventNPC!A:E,5,FALSE))","v":"疯道人"},2455,"记住，靠吞噬得来的力量，终有一日会反噬其主。",null,5002,16,"",null,null,{"$f":"IF(R382=\"\",\"\",\"-\"&VLOOKUP(R382,EventConditionConfig!A:C,3,FALSE)&IF(S382=\"\",\"\",CHAR(10)&\"-\"&VLOOKUP(S382,EventConditionConfig!A:C,3,FALSE)))","v":""},"","","","",null,null,"",{"$nulls":4},{"$f":"IF(A383=\"\",IF(OR(AH382>0,VLOOKUP(O382,EventConfig!A:C,3,FALSE)=4),3,\"\"),IF(ISNUMBER(Y382),2,1))","v":""},"",null,2455]
[]
[]
[{"$f":"O385*100+P385","v":101201},{"$f":"IF(B384=\"\",MAX(AA383,X383,L383,B383,D383,AA382,X382,L382)+1,B384)","v":2456},"神识探索至一处矿井之中，此处灵气氤氲",{"$f":"IF(E385=\"\",\"\",B385+1)","v":""},{"$nulls":6},{"$f":"IF(J385=\"\",\"\",VLOOKUP(J385,EventNPC!A:E,5,FALSE))","v":""},{"$f":"IF(M385=\"\",\"\",IF(P385=1,MAX(D385,B385)+1,MAX(B384,L384,D384,X384,AA384)+1))","v":2457},"前往矿井采集灵矿",null,1012,{"$f":"IF(O385=O384,P384+1,1)","v":1},{"$f":"_xlfn.TEXTJOIN(\";\",1,R385:S385)","v":""},null,null,{"$f":"IF(R385=\"\",\"\",\"-\"&VLOOKUP(R385,EventConditionConfig!A:C,3,FALSE)&IF(S385=\"\",\"\",CHAR(10)&\"-\"&VLOOKUP(S385,EventConditionConfig!A:C,3,FALSE)))","v":""},{"$f":"IF(Y385=\"\",\"\",1)","v":""},{"$f":"IF(U385=1,A386,\"\")","v":""},{"$f":"_xlfn.TEXTJOIN(\";\",1,X385,AA385)","v":""},{"$f":"IF(Y385=\"\",\"\",L385+1)","v":""},null,null,{"$f":"IF(AB385=\"\",\"\",X385+1)","v":""},{"$nulls":7},{"$f":"IF(A385=\"\",\"\",MAX(B385,D385,L385,X385,AA385))","v":2457}]
[]
[101301,2458,"神识经过一处荒废寺庙之外，寺庙之中似乎有不同寻常之物","",{"$nulls":6},{"$f":"IF(J387=\"\",\"\",VLOOKUP(J387,EventNPC!A:E,5,FALSE))","v":""},2459,"进入寺庙找寻散发灵气的修为丹",null,1013,1,"",null,null,{"$f":"IF(R387=\"\",\"\",\"-\"&VLOOKUP(R387,EventConditionConfig!A:C,3,FALSE)&IF(S387=\"\",\"\",CHAR(10)&\"-\"&VLOOKUP(S387,EventConditionConfig!A:C,3,FALSE)))","v":""},"","","","",null,null,"",{"$nulls":7},2459]
[]
[101401,2460,"神识至一处灵气充盈之地，似乎是处洞府","",{"$nulls":6},{"$f":"IF(J389=\"\",\"\",VLOOKUP(J389,EventNPC!A:E,5,FALSE))","v":""},2461,"进入洞府收集可用之物",null,1014,1,"",null,null,{"$f":"IF(R389=\"\",\"\",\"-\"&VLOOKUP(R389,EventConditionConfig!A:C,3,FALSE)&IF(S389=\"\",\"\",CHAR(10)&\"-\"&VLOOKUP(S389,EventConditionConfig!A:C,3,FALSE)))","v":""},"","","","",null,null,"",{"$nulls":7},2461]
[]
[{"$f":"O391*100+P391","v":101501},{"$f":"IF(B390=\"\",MAX(AA389,X389,L389,B389,D389,AA388,X388,L388)+1,B390)","v":2462},"一个不知好歹的邪修拦住了你的去路！",{"$f":"IF(E391=\"\",\"\",B391+1)","v":2463},"击败山贼（0/1)",{"$nulls":4},107,{"$f":"IF(J391=\"\",\"\",VLOOKUP(J391,EventNPC!A:E,5,FALSE))","v":"村名甲"},{"$f":"IF(M391=\"\",\"\",IF(P391=1,MAX(D391,B391)+1,MAX(B390,L390,D390,X390,AA390)+1))","v":2464},"此路是我开，此树是我栽，要想从此过，留下买命财！",null,1015,{"$f":"IF(O391=O390,P390+1,1)","v":1},{"$f":"_xlfn.TEXTJOIN(\";\",1,R391:S391)","v":""},null,null,{"$f":"IF(R391=\"\",\"\",\"-\"&VLOOKUP(R391,EventConditionConfig!A:C,3,FALSE)&IF(S391=\"\",\"\",CHAR(10)&\"-\"&VLOOKUP(S391,EventConditionConfig!A:C,3,FALSE)))","v":""},{"$f":"IF(Y391=\"\",\"\",IF(ISTEXT(Y391),1,2))","v":""},{"$f":"IF(U391=1,_xlfn.TEXTJOIN(\";\",1,IF(Z391=\"\",A391+1,Z391),IF(AND(AA391<>\"\",AC391=\"\"),A391+1,AC391)),IF(U391=2,Y391,\"\"))","v":""},{"$f":"_xlfn.TEXTJOIN(\";\",1,X391,AA391)","v":""},{"$f":"IF(OR(ISNUMBER(Y391),Y391=\"\"),\"\",L391+1)","v":""},null,null,{"$f":"IF(AB391=\"\",\"\",X391+1)","v":""},{"$nulls":4},{"$f":"IF(A392=\"\",IF(OR(AH391>0,VLOOKUP(O391,EventConfig!A:C,3,FALSE)=4),3,\"\"),IF(ISNUMBER(Y391),2,1))","v":1},{"$f":"IF(AF391=\"\",\"\",CHOOSE(AF391,IF(AH391=\"\",A391+1,AH391),CONCATENATE(IF(AH391=\"\",A391+1,AH391),\";101\"),IF(AH391=\"\",O391+1,AH391)))","v":101502},null,{"$f":"IF(A391=\"\",\"\",MAX(B391,D391,L391,X391,AA391))","v":2464}]
[101502,2462,"一个不知好歹的邪修拦住了你的去路！",2463,"击败山贼（1/1)",{"$nulls":4},107,{"$f":"IF(J392=\"\",\"\",VLOOKUP(J392,EventNPC!A:E,5,FALSE))","v":"村名甲"},2465,"大胆山贼，拿命来！",null,1015,2,"",null,null,{"$f":"IF(R392=\"\",\"\",\"-\"&VLOOKUP(R392,EventConditionConfig!A:C,3,FALSE)&IF(S392=\"\",\"\",CHAR(10)&\"-\"&VLOOKUP(S392,EventConditionConfig!A:C,3,FALSE)))","v":""},2,100001,"","",100001,null,"",{"$nulls":4},2,"101503;101",null,2465]
[]
[{"$f":"O394*100+P394","v":101601},2466,"一位和尚叫住了你，貌似有什么急事",2467,"找到袈裟",{"$nulls":4},108,{"$f":"IF(J394=\"\",\"\",VLOOKUP(J394,EventNPC!A:E,5,FALSE))","v":"村名乙"},2468,"仙长，我的袈裟被可恶的妖兽夺走了，还请为老僧主持公道啊",null,1016,{"$f":"IF(O394=O393,P393+1,1)","v":1},{"$f":"_xlfn.TEXTJOIN(\";\",1,R394:S394)","v":""},null,null,{"$f":"IF(R394=\"\",\"\",\"-\"&VLOOKUP(R394,EventConditionConfig!A:C,3,FALSE)&IF(S394=\"\",\"\",CHAR(10)&\"-\"&VLOOKUP(S394,EventConditionConfig!A:C,3,FALSE)))","v":""},"","",{"$f":"_xlfn.TEXTJOIN(\";\",1,X394,AA394)","v":""},{"$f":"IF(OR(ISNUMBER(Y394),Y394=\"\"),\"\",L394+1)","v":""},null,null,{"$f":"IF(AB394=\"\",\"\",X394+1)","v":""},{"$nulls":4},{"$f":"IF(A395=\"\",IF(OR(AH394>0,VLOOKUP(O394,EventConfig!A:C,3,FALSE)=4),3,\"\"),IF(ISNUMBER(Y394),2,1))","v":1},{"$f":"IF(AF394=\"\",\"\",CHOOSE(AF394,IF(AH394=\"\",A394+1,AH394),CONCATENATE(IF(AH394=\"\",A394+1,AH394),\";101\"),IF(AH394=\"\",O394+1,AH394)))","v":101602},null,{"$f":"IF(A394=\"\",\"\",MAX(B394,D394,L394,X394,AA394))","v":2468}]
[101602,2466,"一位和尚叫住了你，貌似有什么急事",2467,"使用神识寻找袈裟",{"$nulls":4},100,{"$f":"IF(J395=\"\",\"\",VLOOKUP(J395,EventNPC!A:E,5,FALSE))","v":"玩家"},2469,"在此等待即可",null,1016,2,"",null,null,{"$f":"IF(R395=\"\",\"\",\"-\"&VLOOKUP(R395,EventConditionConfig!A:C,3,FALSE)&IF(S395=\"\",\"\",CHAR(10)&\"-\"&VLOOKUP(S395,EventConditionConfig!A:C,3,FALSE)))","v":""},"","","","",null,null,"",{"$nulls":4},{"$f":"IF(A396=\"\",IF(OR(AH395>0,VLOOKUP(O395,EventConfig!A:C,3,FALSE)=4),3,\"\"),IF(ISNUMBER(Y395),2,1))","v":3},{"$f":"IF(AF395=\"\",\"\",CHOOSE(AF395,IF(AH395=\"\",A395+1,AH395),CONCATENATE(IF(AH395=\"\",A395+1,AH395),\";101\"),IF(AH395=\"\",O395+1,AH395)))","v":30009},30009,2469]
[]
[101701,{"$f":"IF(B396=\"\",MAX(AA395,X395,L395,B395,D395,AA394,X394,L394)+1,B396)","v":2470},"一位和尚叫住了你，貌似有什么急事",{"$f":"IF(E397=\"\",\"\",B397+1)","v":2471},"找到袈裟",{"$nulls":4},108,{"$f":"IF(J397=\"\",\"\",VLOOKUP(J397,EventNPC!A:E,5,FALSE))","v":"村名乙"},{"$f":"IF(M397=\"\",\"\",IF(P397=1,MAX(D397,B397)+1,MAX(B396,L396,D396,X396,AA396)+1))","v":2472},"感谢仙长帮我寻回这件袈裟！",null,1017,1,"18",18,null,{"$f":"IF(R397=\"\",\"\",\"-\"&VLOOKUP(R397,EventConditionConfig!A:C,3,FALSE)&IF(S397=\"\",\"\",CHAR(10)&\"-\"&VLOOKUP(S397,EventConditionConfig!A:C,3,FALSE)))","v":"-获得一件袈裟"},{"$f":"IF(Y397=\"\",\"\",IF(ISTEXT(Y397),1,2))","v":""},{"$f":"IF(U397=1,_xlfn.TEXTJOIN(\";\",1,IF(Z397=\"\",A397+1,Z397),IF(AND(AA397<>\"\",AC397=\"\"),A397+1,AC397)),IF(U397=2,Y397,\"\"))","v":""},"","",null,null,"",{"$nulls":7},2472]
[]
[{"$f":"O399*100+P399","v":3000901},2473,"击杀灵兽获得袈裟","",{"$nulls":6},{"$f":"IF(J399=\"\",\"\",VLOOKUP(J399,EventNPC!A:E,5,FALSE))","v":""},"",null,null,30009,{"$f":"IF(O399=O398,P398+1,1)","v":1},{"$f":"_xlfn.TEXTJOIN(\";\",1,R399:S399)","v":""},null,null,{"$f":"IF(R399=\"\",\"\",\"-\"&VLOOKUP(R399,EventConditionConfig!A:C,3,FALSE)&IF(S399=\"\",\"\",CHAR(10)&\"-\"&VLOOKUP(S399,EventConditionConfig!A:C,3,FALSE)))","v":""},2,100001,{"$f":"_xlfn.TEXTJOIN(\";\",1,X399,AA399)","v":""},{"$f":"IF(Y399=\"\",\"\",L399+1)","v":""},null,null,{"$f":"IF(AB399=\"\",\"\",X399+1)","v":""},null,null,1301,1,{"$f":"IF(U399=2,2,IF(A399=\"\",\"\",IF(U399=1,\"\",IF(A403=\"\",3,1))))","v":2},"3000902;101",null,{"$f":"IF(A399=\"\",\"\",MAX(B399,D399,L399,X399,AA399))","v":2473}]
[{"$f":"O400*100+P400","v":3000902},{"$f":"IF(B399=\"\",MAX(AA398,X398,L398,B398,D398,AA397,X397,L397)+1,B399)","v":2473},"击杀灵兽获得袈裟",{"$f":"IF(E400=\"\",\"\",B400+1)","v":""},{"$nulls":6},{"$f":"IF(J400=\"\",\"\",VLOOKUP(J400,EventNPC!A:E,5,FALSE))","v":""},{"$f":"IF(M400=\"\",\"\",IF(P400=1,MAX(D400,B400)+1,MAX(B399,L399,D399,X399,AA399)+1))","v":""},null,null,30009,{"$f":"IF(O400=O399,P399+1,1)","v":2},{"$f":"_xlfn.TEXTJOIN(\";\",1,R400:S400)","v":""},null,null,{"$f":"IF(R400=\"\",\"\",\"-\"&VLOOKUP(R400,EventConditionConfig!A:C,3,FALSE)&IF(S400=\"\",\"\",CHAR(10)&\"-\"&VLOOKUP(S400,EventConditionConfig!A:C,3,FALSE)))","v":""},null,null,{"$f":"_xlfn.TEXTJOIN(\";\",1,X400,AA400)","v":""},{"$f":"IF(Y400=\"\",\"\",L400+1)","v":""},null,null,{"$f":"IF(AB400=\"\",\"\",X400+1)","v":""},{"$nulls":4},3,{"$f":"IF(AF400=\"\",\"\",CHOOSE(AF400,IF(AH400=\"\",A400+1,AH400),CONCATENATE(IF(AH400=\"\",A400+1,AH400),\";101\"),IF(AH400=\"\",O400+1,AH400)))","v":1017},1017,{"$f":"IF(A400=\"\",\"\",MAX(B400,D400,L400,X400,AA400))","v":2473}]
[]
[101801,{"$f":"IF(B401=\"\",MAX(AA399,X399,L399,B399,D399,AA398,X398,L398)+1,B401)","v":2474},"云游修士历练在即，急待前辈指点一二",2475,"指引云游修士",{"$nulls":4},107,{"$f":"IF(J402=\"\",\"\",VLOOKUP(J402,EventNPC!A:E,5,FALSE))","v":"村名甲"},2476,"前辈还请赐教一二",null,1018,1,"",null,null,{"$f":"IF(R402=\"\",\"\",\"-\"&VLOOKUP(R402,EventConditionConfig!A:C,3,FALSE)&IF(S402=\"\",\"\",CHAR(10)&\"-\"&VLOOKUP(S402,EventConditionConfig!A:C,3,FALSE)))","v":""},"","","",{"$f":"IF(OR(ISNUMBER(Y402),Y402=\"\"),\"\",L402+1)","v":""},null,null,"",{"$nulls":4},1,101802,null,2476]
[101802,{"$f":"IF(B402=\"\",MAX(AA401,X401,L401,B401,D401,AA399,X399,L399)+1,B402)","v":2474},"云游修士历练在即，急待前辈指点一二",2475,"指引云游修士",{"$nulls":4},100,{"$f":"IF(J403=\"\",\"\",VLOOKUP(J403,EventNPC!A:E,5,FALSE))","v":"玩家"},2477,"\"\"",null,1018,2,"",null,null,{"$f":"IF(R403=\"\",\"\",\"-\"&VLOOKUP(R403,EventConditionConfig!A:C,3,FALSE)&IF(S403=\"\",\"\",CHAR(10)&\"-\"&VLOOKUP(S403,EventConditionConfig!A:C,3,FALSE)))","v":""},1,"101804;101803","2478;2479",2478,"不予理睬直接离开",101804,2479,"指导云游修士进行修炼",null,null,null,1,101803,null,2479]
[101803,2474,"云游修士历练在即，急待前辈指点一二",2475,"指引云游修士",{"$nulls":4},107,{"$f":"IF(J404=\"\",\"\",VLOOKUP(J404,EventNPC!A:E,5,FALSE))","v":"村名甲"},2480,"多谢前辈！",null,1018,3,"",null,null,{"$f":"IF(R404=\"\",\"\",\"-\"&VLOOKUP(R404,EventConditionConfig!A:C,3,FALSE)&IF(S404=\"\",\"\",CHAR(10)&\"-\"&VLOOKUP(S404,EventConditionConfig!A:C,3,FALSE)))","v":""},"","","","",null,null,"",null,null,1202,1,null,null,null,2480]
[101804,2474,"云游修士历练在即，急待前辈指点一二",2475,"指引云游修士",{"$nulls":5},{"$f":"IF(J405=\"\",\"\",VLOOKUP(J405,EventNPC!A:E,5,FALSE))","v":""},2481,"云游修士见你不愿教导便离开了",null,1018,4,"",null,null,{"$f":"IF(R405=\"\",\"\",\"-\"&VLOOKUP(R405,EventConditionConfig!A:C,3,FALSE)&IF(S405=\"\",\"\",CHAR(10)&\"-\"&VLOOKUP(S405,EventConditionConfig!A:C,3,FALSE)))","v":""},"","","","",null,null,"",null,null,1201,1,null,null,null,2481]
[]
[{"$f":"O407*100+P407","v":101901},{"$f":"IF(B406=\"\",MAX(AA405,X405,L405,B405,D405,AA404,X404,L404)+1,B406)","v":2482},"逍遥宗的长老似乎有事找你",{"$f":"IF(E407=\"\",\"\",B407+1)","v":2483},"清剿妖王（0/1）",{"$nulls":4},108,{"$f":"IF(J407=\"\",\"\",VLOOKUP(J407,EventNPC!A:E,5,FALSE))","v":"村名乙"},{"$f":"IF(M407=\"\",\"\",IF(P407=1,MAX(D407,B407)+1,MAX(B406,L406,D406,X406,AA406)+1))","v":2484},"今日我宗弟子发现云海妖气冲天，怕是有妖兽来临。还望小友走一趟，消灭那的妖王",null,1019,{"$f":"IF(O407=O406,P406+1,1)","v":1},{"$f":"_xlfn.TEXTJOIN(\";\",1,R407:S407)","v":""},null,null,null,{"$f":"IF(Y407=\"\",\"\",IF(ISTEXT(Y407),1,2))","v":""},{"$f":"IF(U407=1,_xlfn.TEXTJOIN(\";\",1,IF(Z407=\"\",A407+1,Z407),IF(AND(AA407<>\"\",AC407=\"\"),A407+1,AC407)),IF(U407=2,Y407,\"\"))","v":""},{"$f":"_xlfn.TEXTJOIN(\";\",1,X407,AA407)","v":""},{"$f":"IF(OR(ISNUMBER(Y407),Y407=\"\"),\"\",L407+1)","v":""},null,null,{"$f":"IF(AB407=\"\",\"\",X407+1)","v":""},{"$nulls":4},1,101902,null,{"$f":"IF(A407=\"\",\"\",MAX(B407,D407,L407,X407,AA407))","v":2484}]
[101902,2482,"逍遥宗的长老似乎有事找你",2483,"清剿妖王（0/1）",{"$nulls":4},100,{"$f":"IF(J408=\"\",\"\",VLOOKUP(J408,EventNPC!A:E,5,FALSE))","v":"玩家"},2485,"小事一桩",null,1019,2,"",null,null,{"$f":"IF(R408=\"\",\"\",\"-\"&VLOOKUP(R408,EventConditionConfig!A:C,3,FALSE)&IF(S408=\"\",\"\",CHAR(10)&\"-\"&VLOOKUP(S408,EventConditionConfig!A:C,3,FALSE)))","v":""},5,"","","",null,null,"",{"$nulls":4},1,101903,null,2485]
[101903,2482,"前往清剿妖王",2483,"清剿妖王（0/1）",{"$nulls":5},{"$f":"IF(J409=\"\",\"\",VLOOKUP(J409,EventNPC!A:E,5,FALSE))","v":""},"",null,null,1019,3,"",null,null,{"$f":"IF(R409=\"\",\"\",\"-\"&VLOOKUP(R409,EventConditionConfig!A:C,3,FALSE)&IF(S409=\"\",\"\",CHAR(10)&\"-\"&VLOOKUP(S409,EventConditionConfig!A:C,3,FALSE)))","v":""},{"$f":"IF(Y409=\"\",\"\",IF(ISTEXT(Y409),1,2))","v":2},{"$f":"IF(U409=1,_xlfn.TEXTJOIN(\";\",1,IF(Z409=\"\",A409+1,Z409),IF(AND(AA409<>\"\",AC409=\"\"),A409+1,AC409)),IF(U409=2,Y409,\"\"))","v":100001},"","",100001,null,"",{"$nulls":4},2,"101904;101",null,2483]
[]
[{"$f":"O411*100+P411","v":102001},{"$f":"IF(B410=\"\",MAX(AA409,X409,L409,B409,D409,AA408,X408,L408)+1,B410)","v":2486},"村民急匆匆的前来找你",{"$f":"IF(E411=\"\",\"\",B411+1)","v":2487},"清剿妖兽（0/1）",{"$nulls":4},108,{"$f":"IF(J411=\"\",\"\",VLOOKUP(J411,EventNPC!A:E,5,FALSE))","v":"村名乙"},{"$f":"IF(M411=\"\",\"\",IF(P411=1,MAX(D411,B411)+1,MAX(B410,L410,D410,X410,AA410)+1))","v":2488},"仙长，村中有妖兽闹事，还请出手解决！",null,1020,{"$f":"IF(O411=O410,P410+1,1)","v":1},{"$f":"_xlfn.TEXTJOIN(\";\",1,R411:S411)","v":""},null,null,null,1,"102002;102002",{"$f":"_xlfn.TEXTJOIN(\";\",1,X411,AA411)","v":"2489;2490"},{"$f":"IF(OR(ISNUMBER(Y411),Y411=\"\"),\"\",L411+1)","v":2489},"区区妖兽，灭掉便是",null,{"$f":"IF(AB411=\"\",\"\",X411+1)","v":2490},"我可是要酬劳的",{"$nulls":6},{"$f":"IF(A411=\"\",\"\",MAX(B411,D411,L411,X411,AA411))","v":2490}]
[102002,{"$f":"IF(B411=\"\",MAX(AA410,X410,L410,B410,D410,AA409,X409,L409)+1,B411)","v":2486},"村民急匆匆的前来找你",{"$f":"IF(E412=\"\",\"\",B412+1)","v":2487},"清剿妖兽（0/1）",{"$nulls":4},108,{"$f":"IF(J412=\"\",\"\",VLOOKUP(J412,EventNPC!A:E,5,FALSE))","v":"村名乙"},2491,"多谢仙长相救!报酬好说",null,1020,2,"",null,null,null,2,100001,"","",100001,null,"",null,null,1203,1,2,{"$f":"IF(AF412=\"\",\"\",CHOOSE(AF412,IF(AH412=\"\",A412+1,AH412),CONCATENATE(IF(AH412=\"\",A412+1,AH412),\";101\"),IF(AH412=\"\",O412+1,AH412)))","v":"102003;101"},null,2491]
[]
[102101,{"$f":"IF(B413=\"\",MAX(AA412,X412,L412,B412,D412,AA411,X411,L411)+1,B413)","v":2492},"一个和尚急匆匆的叫住了你",{"$f":"IF(E414=\"\",\"\",B414+1)","v":2493},"与和尚对话",{"$nulls":4},108,{"$f":"IF(J414=\"\",\"\",VLOOKUP(J414,EventNPC!A:E,5,FALSE))","v":"村名乙"},{"$f":"IF(M414=\"\",\"\",IF(P414=1,MAX(D414,B414)+1,MAX(#REF!,#REF!,#REF!,#REF!,#REF!)+1))","v":2494},"前些日子有妖兽在寺中大闹，盗走了琉璃盏，还请仙长出手相助",null,1021,1,"",null,null,null,{"$f":"IF(Y414=\"\",\"\",IF(ISTEXT(Y414),1,2))","v":""},{"$f":"IF(U414=1,_xlfn.TEXTJOIN(\";\",1,IF(Z414=\"\",A414+1,Z414),IF(AND(AA414<>\"\",AC414=\"\"),A414+1,AC414)),IF(U414=2,Y414,\"\"))","v":""},"","",null,null,"",{"$nulls":4},{"$f":"IF(A416=\"\",IF(OR(AH414>0,VLOOKUP(O414,EventConfig!A:C,3,FALSE)=4),3,\"\"),IF(ISNUMBER(Y414),2,1))","v":1},102102,null,2494]
[102102,{"$f":"IF(B414=\"\",MAX(AA413,X413,L413,B413,D413,AA412,X412,L412)+1,B414)","v":2492},"一个和尚急匆匆的叫住了你",{"$f":"IF(E415=\"\",\"\",B415+1)","v":2493},"与和尚对话",{"$nulls":4},100,{"$f":"IF(J415=\"\",\"\",VLOOKUP(J415,EventNPC!A:E,5,FALSE))","v":"玩家"},2495," ",null,1021,2,"",null,null,{"$f":"IF(R415=\"\",\"\",\"-\"&VLOOKUP(R415,EventConditionConfig!A:C,3,FALSE)&IF(S415=\"\",\"\",CHAR(10)&\"-\"&VLOOKUP(S415,EventConditionConfig!A:C,3,FALSE)))","v":""},1,"102103","2496",2496,"还请在此等候我拿来琉璃盏",null,"",{"$nulls":4},{"$f":"IF(A416=\"\",IF(OR(AH415>0,VLOOKUP(O415,EventConfig!A:C,3,FALSE)=4),3,\"\"),IF(ISNUMBER(Y415),2,1))","v":1},102103,null,2496]
[102103,{"$f":"IF(C416=\"\",\"\",IF(C416=C414,B414,MAX(AI413,AI414)+1))","v":2492},"一个和尚急匆匆的叫住了你",{"$f":"IF(E416=\"\",\"\",IF(P416=1,B416+1,IF(E416=E414,D414,MAX(AI414,B416)+1)))","v":2493},"与和尚对话",{"$nulls":4},108,{"$f":"IF(J416=\"\",\"\",VLOOKUP(J416,EventNPC!A:E,5,FALSE))","v":"村名乙"},2497,"感谢仙长相助！",null,1021,3,"19",19,null,{"$f":"IF(R416=\"\",\"\",\"-\"&VLOOKUP(R416,EventConditionConfig!A:C,3,FALSE)&IF(S416=\"\",\"\",CHAR(10)&\"-\"&VLOOKUP(S416,EventConditionConfig!A:C,3,FALSE)))","v":"-夺回琉璃盏"},"","","","",null,null,"",null,null,1203,1,{"$f":"IF(A417=\"\",IF(OR(AH416>0,VLOOKUP(O416,EventConfig!A:C,3,FALSE)=4),3,\"\"),IF(ISNUMBER(Y416),2,1))","v":""},"",null,2497]
[]
[{"$f":"O418*100+P418","v":3001001},{"$f":"IF(C418=\"\",\"\",IF(C418=C416,B416,MAX(AI414,AI416)+1))","v":2498},"击败盗走琉璃盏的妖兽",{"$f":"IF(E418=\"\",\"\",B418+1)","v":2499},"击败妖兽",{"$nulls":4},100,{"$f":"IF(J418=\"\",\"\",VLOOKUP(J418,EventNPC!A:E,5,FALSE))","v":"玩家"},{"$f":"IF(M418=\"\",\"\",IF(P418=1,MAX(D418,B418)+1,MAX(B417,L417,D417,X417,AA417)+1))","v":2500},"好一个妖兽竟敢盗走琉璃盏！",null,30010,{"$f":"IF(O418=O417,P417+1,1)","v":1},{"$f":"_xlfn.TEXTJOIN(\";\",1,R418:S418)","v":""},null,null,null,{"$f":"IF(Y418=\"\",\"\",IF(ISTEXT(Y418),1,2))","v":2},{"$f":"IF(U418=1,_xlfn.TEXTJOIN(\";\",1,IF(Z418=\"\",A418+1,Z418),IF(AND(AA418<>\"\",AC418=\"\"),A418+1,AC418)),IF(U418=2,Y418,\"\"))","v":100001},{"$f":"_xlfn.TEXTJOIN(\";\",1,X418,AA418)","v":""},{"$f":"IF(OR(ISNUMBER(Y418),Y418=\"\"),\"\",L418+1)","v":""},100001,null,{"$f":"IF(AB418=\"\",\"\",X418+1)","v":""},null,null,1001,null,{"$f":"IF(U418=2,2,IF(A418=\"\",\"\",IF(U418=1,\"\",IF(A419=\"\",3,1))))","v":2},"102;101",null,{"$f":"IF(A418=\"\",\"\",MAX(B418,D418,L418,X418,AA418))","v":2500}]
[{"$nulls":20},"","","",""]
[102201,{"$f":"IF(B419=\"\",MAX(AA418,X418,L418,B418,D418,AA417,X417,L417)+1,B419)","v":2501},"道之何在，明境道长前来论道",2502,"与道长进行对话",{"$nulls":4},107,{"$f":"IF(J420=\"\",\"\",VLOOKUP(J420,EventNPC!A:E,5,FALSE))","v":"村名甲"},2503,"世人都知神仙好，惟有功名忘不了。",null,1022,1,"",null,null,{"$f":"IF(R420=\"\",\"\",\"-\"&VLOOKUP(R420,EventConditionConfig!A:C,3,FALSE)&IF(S420=\"\",\"\",CHAR(10)&\"-\"&VLOOKUP(S420,EventConditionConfig!A:C,3,FALSE)))","v":""},"","","","",null,null,"",{"$nulls":4},{"$f":"IF(A421=\"\",IF(OR(AH420>0,VLOOKUP(O420,EventConfig!A:C,3,FALSE)=4),3,\"\"),IF(ISNUMBER(Y420),2,1))","v":1},{"$f":"IF(AF420=\"\",\"\",CHOOSE(AF420,IF(AH420=\"\",A420+1,AH420),CONCATENATE(IF(AH420=\"\",A420+1,AH420),\";101\"),IF(AH420=\"\",O420+1,AH420)))","v":102202},null,2503]
[102202,2501,"道之何在，明境道长前来论道",2502,"与道长进行对话",{"$nulls":4},107,{"$f":"IF(J421=\"\",\"\",VLOOKUP(J421,EventNPC!A:E,5,FALSE))","v":"村名甲"},2504,"古今将相在何方？荒冢一堆草没了。",null,1022,2,"",null,null,{"$f":"IF(R421=\"\",\"\",\"-\"&VLOOKUP(R421,EventConditionConfig!A:C,3,FALSE)&IF(S421=\"\",\"\",CHAR(10)&\"-\"&VLOOKUP(S421,EventConditionConfig!A:C,3,FALSE)))","v":""},"","","","",null,null,"",{"$nulls":4},{"$f":"IF(A422=\"\",IF(OR(AH421>0,VLOOKUP(O421,EventConfig!A:C,3,FALSE)=4),3,\"\"),IF(ISNUMBER(Y421),2,1))","v":1},102203,null,2504]
[102203,2501,"道之何在，明境道长前来论道",2502,"与道长进行对话",{"$nulls":4},107,{"$f":"IF(J422=\"\",\"\",VLOOKUP(J422,EventNPC!A:E,5,FALSE))","v":"村名甲"},2505,"仙友，这歌儿有些意思，可替我注解？",null,1022,3,"",null,null,{"$f":"IF(R422=\"\",\"\",\"-\"&VLOOKUP(R422,EventConditionConfig!A:C,3,FALSE)&IF(S422=\"\",\"\",CHAR(10)&\"-\"&VLOOKUP(S422,EventConditionConfig!A:C,3,FALSE)))","v":""},"","","","",null,null,"",{"$nulls":4},{"$f":"IF(A423=\"\",IF(OR(AH422>0,VLOOKUP(O422,EventConfig!A:C,3,FALSE)=4),3,\"\"),IF(ISNUMBER(Y422),2,1))","v":1},102204,null,2505]
[102204,2501,"道之何在，明境道长前来论道",2502,"与道长进行对话",{"$nulls":4},100,{"$f":"IF(J423=\"\",\"\",VLOOKUP(J423,EventNPC!A:E,5,FALSE))","v":"玩家"},2506,"\"\"",null,1022,4,"",null,null,{"$f":"IF(R423=\"\",\"\",\"-\"&VLOOKUP(R423,EventConditionConfig!A:C,3,FALSE)&IF(S423=\"\",\"\",CHAR(10)&\"-\"&VLOOKUP(S423,EventConditionConfig!A:C,3,FALSE)))","v":""},1,"102205;102207","2507;2508",2507,"言语论道",null,2508,"拒绝回答",102207,null,null,{"$f":"IF(A424=\"\",IF(OR(AH423>0,VLOOKUP(O423,EventConfig!A:C,3,FALSE)=4),3,\"\"),IF(ISNUMBER(Y423),2,1))","v":1},102205,null,2508]
[102205,2501,"道之何在，明境道长前来论道",2502,"与道长进行对话",{"$nulls":4},107,{"$f":"IF(J424=\"\",\"\",VLOOKUP(J424,EventNPC!A:E,5,FALSE))","v":"村名甲"},2509,"求仙不舍功名场，甚荒唐，到头来都是为他人作嫁衣裳。",null,1022,5,"",null,null,{"$f":"IF(R424=\"\",\"\",\"-\"&VLOOKUP(R424,EventConditionConfig!A:C,3,FALSE)&IF(S424=\"\",\"\",CHAR(10)&\"-\"&VLOOKUP(S424,EventConditionConfig!A:C,3,FALSE)))","v":""},"","","","",null,null,"",{"$nulls":4},{"$f":"IF(A425=\"\",IF(OR(AH424>0,VLOOKUP(O424,EventConfig!A:C,3,FALSE)=4),3,\"\"),IF(ISNUMBER(Y424),2,1))","v":1},102206,null,2509]
[102206,2501,"道之何在，明境道长前来论道",2502,"与道长进行对话",{"$nulls":4},107,{"$f":"IF(J425=\"\",\"\",VLOOKUP(J425,EventNPC!A:E,5,FALSE))","v":"村名甲"},2510,"明镜道长听到你的回复后，甚为满意的离去了。",null,1022,6,"",null,null,{"$f":"IF(R425=\"\",\"\",\"-\"&VLOOKUP(R425,EventConditionConfig!A:C,3,FALSE)&IF(S425=\"\",\"\",CHAR(10)&\"-\"&VLOOKUP(S425,EventConditionConfig!A:C,3,FALSE)))","v":""},"","","","",null,null,"",{"$nulls":7},2510]
[102207,2501,"道之何在，明境道长前来论道",2502,"与道长进行对话",{"$nulls":4},107,{"$f":"IF(J426=\"\",\"\",VLOOKUP(J426,EventNPC!A:E,5,FALSE))","v":"村名甲"},2511,"明镜道长听到你的回复后，离开了。",null,1022,7,"",null,null,{"$f":"IF(R426=\"\",\"\",\"-\"&VLOOKUP(R426,EventConditionConfig!A:C,3,FALSE)&IF(S426=\"\",\"\",CHAR(10)&\"-\"&VLOOKUP(S426,EventConditionConfig!A:C,3,FALSE)))","v":""},"","","","",null,null,"",{"$nulls":7},2511]
[{"$nulls":20},"","","",""]
[{"$f":"O428*100+P428","v":102301},{"$f":"IF(C428=\"\",\"\",IF(C428=C427,B427,MAX(AI426,AI427)+1))","v":2512},"药童前来求得一枚丹药",{"$f":"IF(E428=\"\",\"\",IF(P428=1,B428+1,IF(E428=E427,D427,MAX(AI427,B428)+1)))","v":2513},"与小药童对话(0/1)",{"$nulls":4},107,{"$f":"IF(J428=\"\",\"\",VLOOKUP(J428,EventNPC!A:E,5,FALSE))","v":"村名甲"},{"$f":"IF(M428=\"\",\"\",IF(P428=1,MAX(D428,B428)+1,MAX(B427,L427,D427,X427,AA427)+1))","v":2514},"听闻道友经常出外历练，今日我师傅炼制丹药，尚缺一颗渡劫丹作为药引，苦寻不得，道友可否赠与一颗。",null,1023,{"$f":"IF(O428=O427,P427+1,1)","v":1},{"$f":"_xlfn.TEXTJOIN(\";\",1,R428:S428)","v":""},null,null,{"$f":"IF(R428=\"\",\"\",\"-\"&VLOOKUP(R428,EventConditionConfig!A:C,3,FALSE)&IF(S428=\"\",\"\",CHAR(10)&\"-\"&VLOOKUP(S428,EventConditionConfig!A:C,3,FALSE)))","v":""},{"$f":"IF(Y428=\"\",\"\",IF(ISTEXT(Y428),1,2))","v":1},{"$f":"IF(U428=1,_xlfn.TEXTJOIN(\";\",1,IF(Z428=\"\",A428+1,Z428),IF(AND(AA428<>\"\",AC428=\"\"),A428+1,AC428)),IF(U428=2,Y428,\"\"))","v":"102302;102303"},{"$f":"_xlfn.TEXTJOIN(\";\",1,X428,AA428)","v":"2515;2516"},{"$f":"IF(OR(ISNUMBER(Y428),Y428=\"\"),\"\",L428+1)","v":2515},"给予一颗渡劫丹",102302,{"$f":"IF(AB428=\"\",\"\",X428+1)","v":2516},"没有此渡劫丹",102303,null,null,null,{"$f":"IF(AF428=\"\",\"\",CHOOSE(AF428,IF(AH428=\"\",A428+1,AH428),CONCATENATE(IF(AH428=\"\",A428+1,AH428),\";101\"),IF(AH428=\"\",O428+1,AH428)))","v":""},null,{"$f":"IF(A428=\"\",\"\",MAX(B428,D428,L428,X428,AA428))","v":2516}]
[102302,2512,"药童前来求得一枚丹药",2513,"与小药童对话(0/1)",{"$nulls":5},{"$f":"IF(J429=\"\",\"\",VLOOKUP(J429,EventNPC!A:E,5,FALSE))","v":""},2517,"你将丹药赠与药童。药童十分高兴表示可以回复命了。",null,1023,2,"20",20,null,{"$f":"IF(R429=\"\",\"\",\"-\"&VLOOKUP(R429,EventConditionConfig!A:C,3,FALSE)&IF(S429=\"\",\"\",CHAR(10)&\"-\"&VLOOKUP(S429,EventConditionConfig!A:C,3,FALSE)))","v":"-给予渡劫丹"},"","","","",null,null,"",null,null,1001,null,null,"",null,2517]
[102303,2512,"药童前来求得一枚丹药",2513,"与小药童对话(0/1)",{"$nulls":5},{"$f":"IF(J430=\"\",\"\",VLOOKUP(J430,EventNPC!A:E,5,FALSE))","v":""},2518,"药童听完便离开了",null,1023,3,"",null,null,{"$f":"IF(R430=\"\",\"\",\"-\"&VLOOKUP(R430,EventConditionConfig!A:C,3,FALSE)&IF(S430=\"\",\"\",CHAR(10)&\"-\"&VLOOKUP(S430,EventConditionConfig!A:C,3,FALSE)))","v":""},"","","","",null,null,"",{"$nulls":5},"",null,2518]
[{"$nulls":20},"","","",""]
[{"$f":"O432*100+P432","v":102401},2519,"风无咎前来武艺论道",{"$f":"IF(E432=\"\",\"\",IF(P432=1,B432+1,IF(E432=E431,D431,MAX(AI431,B432)+1)))","v":2520},"与风无咎对话(0/1)",{"$nulls":4},112,{"$f":"IF(J432=\"\",\"\",VLOOKUP(J432,EventNPC!A:E,5,FALSE))","v":"风无咎"},{"$f":"IF(M432=\"\",\"\",IF(P432=1,MAX(D432,B432)+1,MAX(B431,L431,D431,X431,AA431)+1))","v":2521},"听闻道友最近修为又有所精进，特来讨教，望能切磋一二",null,1024,{"$f":"IF(O432=O431,P431+1,1)","v":1},{"$f":"_xlfn.TEXTJOIN(\";\",1,R432:S432)","v":""},null,null,{"$f":"IF(R432=\"\",\"\",\"-\"&VLOOKUP(R432,EventConditionConfig!A:C,3,FALSE)&IF(S432=\"\",\"\",CHAR(10)&\"-\"&VLOOKUP(S432,EventConditionConfig!A:C,3,FALSE)))","v":""},{"$f":"IF(Y432=\"\",\"\",IF(ISTEXT(Y432),1,2))","v":1},{"$f":"IF(U432=1,_xlfn.TEXTJOIN(\";\",1,IF(Z432=\"\",A432+1,Z432),IF(AND(AA432<>\"\",AC432=\"\"),A432+1,AC432)),IF(U432=2,Y432,\"\"))","v":"102402;102403"},"2522;2523",2522,"全力切磋",102402,{"$f":"IF(AB432=\"\",\"\",X432+1)","v":2523},"回绝切磋",102403,null,null,null,{"$f":"IF(AF432=\"\",\"\",CHOOSE(AF432,IF(AH432=\"\",A432+1,AH432),CONCATENATE(IF(AH432=\"\",A432+1,AH432),\";101\"),IF(AH432=\"\",O432+1,AH432)))","v":""},null,{"$f":"IF(A432=\"\",\"\",MAX(B432,D432,L432,X432,AA432))","v":2523}]
[102402,{"$f":"IF(C433=\"\",\"\",IF(C433=C432,B432,MAX(AI431,AI432)+1))","v":2519},"风无咎前来武艺论道",2520,"与风无咎对话(0/1)",{"$nulls":4},112,{"$f":"IF(J433=\"\",\"\",VLOOKUP(J433,EventNPC!A:E,5,FALSE))","v":"风无咎"},2524,"还请讨教！",null,1024,2,"",null,null,{"$f":"IF(R433=\"\",\"\",\"-\"&VLOOKUP(R433,EventConditionConfig!A:C,3,FALSE)&IF(S433=\"\",\"\",CHAR(10)&\"-\"&VLOOKUP(S433,EventConditionConfig!A:C,3,FALSE)))","v":""},{"$f":"IF(Y433=\"\",\"\",IF(ISTEXT(Y433),1,2))","v":2},{"$f":"IF(U433=1,_xlfn.TEXTJOIN(\";\",1,IF(Z433=\"\",A433+1,Z433),IF(AND(AA433<>\"\",AC433=\"\"),A433+1,AC433)),IF(U433=2,Y433,\"\"))","v":100001},{"$f":"_xlfn.TEXTJOIN(\";\",1,X433,AA433)","v":""},{"$f":"IF(OR(ISNUMBER(Y433),Y433=\"\"),\"\",L433+1)","v":""},100001,null,{"$f":"IF(AB433=\"\",\"\",X433+1)","v":""},null,null,1001,2,2,"102403;101",null,{"$f":"IF(A433=\"\",\"\",MAX(B433,D433,L433,X433,AA433))","v":2524}]
[102403,2519,"风无咎前来武艺论道",{"$f":"IF(E434=\"\",\"\",IF(P434=1,B434+1,IF(E434=E433,D433,MAX(AI433,B434)+1)))","v":2520},"与风无咎对话(0/1)",{"$nulls":4},112,{"$f":"IF(J434=\"\",\"\",VLOOKUP(J434,EventNPC!A:E,5,FALSE))","v":"风无咎"},2525,"若不愿意，也无妨，此物赠与道友继续修行",null,1024,3,"",null,null,{"$f":"IF(R434=\"\",\"\",\"-\"&VLOOKUP(R434,EventConditionConfig!A:C,3,FALSE)&IF(S434=\"\",\"\",CHAR(10)&\"-\"&VLOOKUP(S434,EventConditionConfig!A:C,3,FALSE)))","v":""},"","","","",null,null,"",null,null,1001,1,null,"",null,2525]
[{"$nulls":20},"","","",""]
[{"$f":"O436*100+P436","v":102501},{"$f":"IF(B435=\"\",MAX(AA434,X434,L434,B434,D434,AA433,X433,L433)+1,B435)","v":2526},"魔族修士前来威胁你加入魔族",2527,"与魔族交涉",{"$nulls":4},107,{"$f":"IF(J436=\"\",\"\",VLOOKUP(J436,EventNPC!A:E,5,FALSE))","v":"村名甲"},{"$f":"IF(M436=\"\",\"\",IF(P436=1,MAX(D436,B436)+1,MAX(B435,L435,D435,X435,AA435)+1))","v":2528},"三番两次邀请你加入我魔族，你却为了北海执迷不悟，今日本宫便让你知道拒绝魔族的后果！",null,1025,{"$f":"IF(O436=O435,P435+1,1)","v":1},{"$f":"_xlfn.TEXTJOIN(\";\",1,R436:S436)","v":""},null,null,{"$f":"IF(R436=\"\",\"\",\"-\"&VLOOKUP(R436,EventConditionConfig!A:C,3,FALSE)&IF(S436=\"\",\"\",CHAR(10)&\"-\"&VLOOKUP(S436,EventConditionConfig!A:C,3,FALSE)))","v":""},1,"102502;102503","2529;2530",2529,"全力应战",102502,2530,"御剑逃离",102503,null,null,null,{"$f":"IF(AF436=\"\",\"\",CHOOSE(AF436,IF(AH436=\"\",A436+1,AH436),CONCATENATE(IF(AH436=\"\",A436+1,AH436),\";101\"),IF(AH436=\"\",O436+1,AH436)))","v":""},null,{"$f":"IF(A436=\"\",\"\",MAX(B436,D436,L436,X436,AA436))","v":2530}]
[102502,2526,"魔族修士前来威胁你加入魔族",2527,"与魔族交涉",{"$nulls":4},107,{"$f":"IF(J437=\"\",\"\",VLOOKUP(J437,EventNPC!A:E,5,FALSE))","v":"村名甲"},2531,"你可知魔族威名！受死吧！",null,1025,2,"",null,null,{"$f":"IF(R437=\"\",\"\",\"-\"&VLOOKUP(R437,EventConditionConfig!A:C,3,FALSE)&IF(S437=\"\",\"\",CHAR(10)&\"-\"&VLOOKUP(S437,EventConditionConfig!A:C,3,FALSE)))","v":""},2,100001,"","",100001,null,"",null,null,1001,1,2,"102503;101",null,2531]
[102503,2526,"魔族修士前来威胁你加入魔族",2527,"与魔族交涉",{"$nulls":4},107,{"$f":"IF(J438=\"\",\"\",VLOOKUP(J438,EventNPC!A:E,5,FALSE))","v":"村名甲"},2532,"可恶！今日饶你一马",null,1025,3,"",null,null,{"$f":"IF(R438=\"\",\"\",\"-\"&VLOOKUP(R438,EventConditionConfig!A:C,3,FALSE)&IF(S438=\"\",\"\",CHAR(10)&\"-\"&VLOOKUP(S438,EventConditionConfig!A:C,3,FALSE)))","v":""},"","","","",null,null,"",{"$nulls":5},"",null,2532]
[null,null,null,"",{"$nulls":16},"","","",""]
[{"$f":"O440*100+P440","v":102601},{"$f":"IF(B439=\"\",MAX(AA438,X438,L438,B438,D438,AA437,X437,L437)+1,B439)","v":2533},"妖兽入侵",2534,"前去击杀妖兽",{"$nulls":4},107,{"$f":"IF(J440=\"\",\"\",VLOOKUP(J440,EventNPC!A:E,5,FALSE))","v":"村名甲"},{"$f":"IF(M440=\"\",\"\",IF(P440=1,MAX(D440,B440)+1,MAX(B439,L439,D439,X439,AA439)+1))","v":2535},"我在北海境内发现一只妖兽闯入，还请道友前往镇压",null,1026,{"$f":"IF(O440=O439,P439+1,1)","v":1},{"$f":"_xlfn.TEXTJOIN(\";\",1,R440:S440)","v":""},null,null,{"$f":"IF(R440=\"\",\"\",\"-\"&VLOOKUP(R440,EventConditionConfig!A:C,3,FALSE)&IF(S440=\"\",\"\",CHAR(10)&\"-\"&VLOOKUP(S440,EventConditionConfig!A:C,3,FALSE)))","v":""},2,100001,"","",100001,null,{"$f":"IF(AB440=\"\",\"\",X440+1)","v":""},{"$nulls":4},2,{"$f":"IF(AF440=\"\",\"\",CHOOSE(AF440,IF(AH440=\"\",A440+1,AH440),CONCATENATE(IF(AH440=\"\",A440+1,AH440),\";101\"),IF(AH440=\"\",O440+1,AH440)))","v":"102602;101"},null,{"$f":"IF(A440=\"\",\"\",MAX(B440,D440,L440,X440,AA440))","v":2535}]
[102602,2533,"妖兽入侵",2534,"前去击杀妖兽",{"$nulls":4},107,{"$f":"IF(J441=\"\",\"\",VLOOKUP(J441,EventNPC!A:E,5,FALSE))","v":"村名甲"},2536,"北海境内越来越不安定了，若还有妖兽闯入，我会第一时间告知你",null,1026,2,"",null,null,{"$f":"IF(R441=\"\",\"\",\"-\"&VLOOKUP(R441,EventConditionConfig!A:C,3,FALSE)&IF(S441=\"\",\"\",CHAR(10)&\"-\"&VLOOKUP(S441,EventConditionConfig!A:C,3,FALSE)))","v":""},"","","","",null,null,"",{"$nulls":5},"",null,2536]
[{"$nulls":20},"","","",""]
[102701,2537,"妖兽拦住了你的去路",{"$f":"IF(E443=\"\",\"\",IF(P443=1,B443+1,IF(E443=E442,D442,MAX(AI442,B443)+1)))","v":2538},"阻止妖族前往北海",{"$nulls":4},114,{"$f":"IF(J443=\"\",\"\",VLOOKUP(J443,EventNPC!A:E,5,FALSE))","v":"拦路妖兽"},2539,"站住，乖乖告诉我北海在哪",null,1027,1,"",null,null,{"$f":"IF(R443=\"\",\"\",\"-\"&VLOOKUP(R443,EventConditionConfig!A:C,3,FALSE)&IF(S443=\"\",\"\",CHAR(10)&\"-\"&VLOOKUP(S443,EventConditionConfig!A:C,3,FALSE)))","v":""},1,"102702","2540",2540,"大胆妖兽，今日就让你葬身于此",null,"",{"$nulls":5},"",null,2540]
[102702,2537,"妖兽拦住了你的去路",2538,"阻止妖族前往北海",{"$nulls":4},114,{"$f":"IF(J444=\"\",\"\",VLOOKUP(J444,EventNPC!A:E,5,FALSE))","v":"拦路妖兽"},2541,"不识抬举，去死吧",null,1027,2,"",null,null,{"$f":"IF(R444=\"\",\"\",\"-\"&VLOOKUP(R444,EventConditionConfig!A:C,3,FALSE)&IF(S444=\"\",\"\",CHAR(10)&\"-\"&VLOOKUP(S444,EventConditionConfig!A:C,3,FALSE)))","v":""},2,{"$f":"IF(U444=1,_xlfn.TEXTJOIN(\";\",1,IF(Z444=\"\",A444+1,Z444),IF(AND(AA444<>\"\",AC444=\"\"),A444+1,AC444)),IF(U444=2,Y444,\"\"))","v":100001},"","",100001,null,"",{"$nulls":4},2,"102703;101",null,2541]
[{"$nulls":20},"","","",""]
[{"$f":"O446*100+P446","v":102801},{"$f":"IF(B445=\"\",MAX(AA444,X444,L444,B444,D444,AA443,X443,L443)+1,B445)","v":2542},"前去击败入侵妖兽",2543,"击败入侵的妖兽",{"$nulls":4},114,{"$f":"IF(J446=\"\",\"\",VLOOKUP(J446,EventNPC!A:E,5,FALSE))","v":"拦路妖兽"},{"$f":"IF(M446=\"\",\"\",IF(P446=1,MAX(D446,B446)+1,MAX(B445,L445,D445,X445,AA445)+1))","v":2544},"终于找到了北海城镇了，你拦不住我的，滚吧",null,1028,{"$f":"IF(O446=O445,P445+1,1)","v":1},{"$f":"_xlfn.TEXTJOIN(\";\",1,R446:S446)","v":""},null,null,{"$f":"IF(R446=\"\",\"\",\"-\"&VLOOKUP(R446,EventConditionConfig!A:C,3,FALSE)&IF(S446=\"\",\"\",CHAR(10)&\"-\"&VLOOKUP(S446,EventConditionConfig!A:C,3,FALSE)))","v":""},1,"102802","2545",2545,"迎接敌人",null,{"$f":"IF(AB446=\"\",\"\",X446+1)","v":""},{"$nulls":5},{"$f":"IF(AF446=\"\",\"\",CHOOSE(AF446,IF(AH446=\"\",A446+1,AH446),CONCATENATE(IF(AH446=\"\",A446+1,AH446),\";101\"),IF(AH446=\"\",O446+1,AH446)))","v":""},null,{"$f":"IF(A446=\"\",\"\",MAX(B446,D446,L446,X446,AA446))","v":2545}]
[102802,2542,"前去击败入侵妖兽",2543,"击败入侵的妖兽",{"$nulls":4},114,{"$f":"IF(J447=\"\",\"\",VLOOKUP(J447,EventNPC!A:E,5,FALSE))","v":"拦路妖兽"},2546,"不识抬举，去死吧",null,1028,2,"",null,null,{"$f":"IF(R447=\"\",\"\",\"-\"&VLOOKUP(R447,EventConditionConfig!A:C,3,FALSE)&IF(S447=\"\",\"\",CHAR(10)&\"-\"&VLOOKUP(S447,EventConditionConfig!A:C,3,FALSE)))","v":""},2,100001,"","",100001,null,"",{"$nulls":4},2,"102803;101",null,2546]
[102803,2542,"前去击败入侵妖兽",2543,"击败入侵的妖兽",{"$nulls":5},{"$f":"IF(J448=\"\",\"\",VLOOKUP(J448,EventNPC!A:E,5,FALSE))","v":""},2547,"妖兽被重伤后吞下丹药激发了潜力，实力突然暴涨，阻止他破坏城镇",null,1028,3,"",null,null,{"$f":"IF(R448=\"\",\"\",\"-\"&VLOOKUP(R448,EventConditionConfig!A:C,3,FALSE)&IF(S448=\"\",\"\",CHAR(10)&\"-\"&VLOOKUP(S448,EventConditionConfig!A:C,3,FALSE)))","v":""},1,"102804;102805","2548;2549",2548,"稍作休整",102804,2549,"挑战妖兽",102805,null,null,null,"",null,2549]
[102804,2542,"前去击败入侵妖兽",2543,"击败入侵的妖兽",{"$nulls":5},{"$f":"IF(J449=\"\",\"\",VLOOKUP(J449,EventNPC!A:E,5,FALSE))","v":""},2550,"见到情况不对，稍作休整再去击杀妖兽",null,1028,4,"",null,null,{"$f":"IF(R449=\"\",\"\",\"-\"&VLOOKUP(R449,EventConditionConfig!A:C,3,FALSE)&IF(S449=\"\",\"\",CHAR(10)&\"-\"&VLOOKUP(S449,EventConditionConfig!A:C,3,FALSE)))","v":""},5,"","","",null,null,"",{"$nulls":5},"",null,2550]
[102805,2542,"前去击败入侵妖兽",2543,"击败入侵的妖兽",{"$nulls":4},114,{"$f":"IF(J450=\"\",\"\",VLOOKUP(J450,EventNPC!A:E,5,FALSE))","v":"拦路妖兽"},2551,"见到我不逃跑反而朝我攻来吗，有趣",null,1028,5,"",null,null,{"$f":"IF(R450=\"\",\"\",\"-\"&VLOOKUP(R450,EventConditionConfig!A:C,3,FALSE)&IF(S450=\"\",\"\",CHAR(10)&\"-\"&VLOOKUP(S450,EventConditionConfig!A:C,3,FALSE)))","v":""},{"$f":"IF(Y450=\"\",\"\",IF(ISTEXT(Y450),1,2))","v":2},100001,"","",100001,null,"",null,null,1001,10,2,"102806;101",null,2551]
[{"$nulls":20},"","","",""]
[{"$f":"O452*100+P452","v":102901},{"$f":"IF(B451=\"\",MAX(AA450,X450,L450,B450,D450,AA449,X449,L449)+1,B451)","v":2552},"明境道长邀请你前去论道",{"$f":"IF(E452=\"\",\"\",B452+1)","v":2553},"与道长进行对话",{"$nulls":4},107,{"$f":"IF(J452=\"\",\"\",VLOOKUP(J452,EventNPC!A:E,5,FALSE))","v":"村名甲"},{"$f":"IF(M452=\"\",\"\",IF(P452=1,MAX(D452,B452)+1,MAX(B451,L451,D451,X451,AA451)+1))","v":2554},"小友修为有所长进，但我却不知你的道是独自一人还是众人前行",null,1029,{"$f":"IF(O452=O451,P451+1,1)","v":1},{"$f":"_xlfn.TEXTJOIN(\";\",1,R452:S452)","v":""},null,null,{"$f":"IF(R452=\"\",\"\",\"-\"&VLOOKUP(R452,EventConditionConfig!A:C,3,FALSE)&IF(S452=\"\",\"\",CHAR(10)&\"-\"&VLOOKUP(S452,EventConditionConfig!A:C,3,FALSE)))","v":""},1,"102902;102903","2555;2556",2555,"道之所在，在于自己，修炼其身即可成星火之势",102902,{"$f":"IF(AB452=\"\",\"\",X452+1)","v":2556},"道之所在，在于众势，天下大同可让蚍蜉撼树",102903,null,null,null,{"$f":"IF(AF452=\"\",\"\",CHOOSE(AF452,IF(AH452=\"\",A452+1,AH452),CONCATENATE(IF(AH452=\"\",A452+1,AH452),\";101\"),IF(AH452=\"\",O452+1,AH452)))","v":""},null,{"$f":"IF(A452=\"\",\"\",MAX(B452,D452,L452,X452,AA452))","v":2556}]
[102902,2552,"明镜道长邀请你前去论道",2553,"与道长进行对话",{"$nulls":4},107,{"$f":"IF(J453=\"\",\"\",VLOOKUP(J453,EventNPC!A:E,5,FALSE))","v":"村名甲"},2557,"此言甚好，却不知小友遇见难关，是真的独自面对，还是寻求了他人帮助",null,1029,2,"",null,null,{"$f":"IF(R453=\"\",\"\",\"-\"&VLOOKUP(R453,EventConditionConfig!A:C,3,FALSE)&IF(S453=\"\",\"\",CHAR(10)&\"-\"&VLOOKUP(S453,EventConditionConfig!A:C,3,FALSE)))","v":""},1,"102904;102905","2558;2559",2558,"这....",102904,2559,"道长此言甚有意为之，如遇难关确实迷茫会去寻求他人",102905,null,null,null,"",null,2559]
[102903,2552,"明镜道长邀请你前去论道",2553,"与道长进行对话",{"$nulls":4},107,{"$f":"IF(J454=\"\",\"\",VLOOKUP(J454,EventNPC!A:E,5,FALSE))","v":"村名甲"},2560,"绝境之中，众人离去，你又该如何呢?",null,1029,3,"",null,null,{"$f":"IF(R454=\"\",\"\",\"-\"&VLOOKUP(R454,EventConditionConfig!A:C,3,FALSE)&IF(S454=\"\",\"\",CHAR(10)&\"-\"&VLOOKUP(S454,EventConditionConfig!A:C,3,FALSE)))","v":""},1,"102904;102907","2561;2562",2561,"这....",102904,2562,"绝境之下，亦能爆发潜能，无需借助他人也能成功",102907,null,null,null,"",null,2562]
[102904,2552,"明境道长邀请你前去论道",2553,"与道长进行对话",{"$nulls":4},107,{"$f":"IF(J455=\"\",\"\",VLOOKUP(J455,EventNPC!A:E,5,FALSE))","v":"村名甲"},2563,"看来你的道，还在混沌之中，独自面对亦或是众人攻克，这事并无绝对，还请小友继续去追寻自己正确的道",null,1029,4,"",null,null,{"$f":"IF(R455=\"\",\"\",\"-\"&VLOOKUP(R455,EventConditionConfig!A:C,3,FALSE)&IF(S455=\"\",\"\",CHAR(10)&\"-\"&VLOOKUP(S455,EventConditionConfig!A:C,3,FALSE)))","v":""},1,"102905","2564",2564,"多谢道长指点，晚辈明白",null,"",{"$nulls":5},"",null,2564]
[102905,2552,"明境道长邀请你前去论道",2553,"与道长进行对话",{"$nulls":4},107,{"$f":"IF(J456=\"\",\"\",VLOOKUP(J456,EventNPC!A:E,5,FALSE))","v":"村名甲"},2565,"如你所说，道还不够坚定，你已经告诉了你自己还没有足够的力量去找到真正的道",null,1029,5,"",null,null,{"$f":"IF(R456=\"\",\"\",\"-\"&VLOOKUP(R456,EventConditionConfig!A:C,3,FALSE)&IF(S456=\"\",\"\",CHAR(10)&\"-\"&VLOOKUP(S456,EventConditionConfig!A:C,3,FALSE)))","v":""},"","","","",null,null,"",{"$nulls":4},1,102906,102906,2565]
[102906,2552,"明境道长邀请你前去论道",2553,"与道长进行对话",{"$nulls":4},100,{"$f":"IF(J457=\"\",\"\",VLOOKUP(J457,EventNPC!A:E,5,FALSE))","v":"玩家"},2566,"晚辈明白，多谢道长",null,1029,6,"",null,null,{"$f":"IF(R457=\"\",\"\",\"-\"&VLOOKUP(R457,EventConditionConfig!A:C,3,FALSE)&IF(S457=\"\",\"\",CHAR(10)&\"-\"&VLOOKUP(S457,EventConditionConfig!A:C,3,FALSE)))","v":""},"","","","",null,null,"",{"$nulls":5},"",null,2566]
[102907,2552,"明境道长邀请你前去论道",2553,"与道长进行对话",{"$nulls":4},107,{"$f":"IF(J458=\"\",\"\",VLOOKUP(J458,EventNPC!A:E,5,FALSE))","v":"村名甲"},2567,"有趣，既然不是独步天下，为何又说无需借助",null,1029,7,"",null,null,{"$f":"IF(R458=\"\",\"\",\"-\"&VLOOKUP(R458,EventConditionConfig!A:C,3,FALSE)&IF(S458=\"\",\"\",CHAR(10)&\"-\"&VLOOKUP(S458,EventConditionConfig!A:C,3,FALSE)))","v":""},1,{"$f":"IF(U458=1,_xlfn.TEXTJOIN(\";\",1,IF(Z458=\"\",A458+1,Z458),IF(AND(AA458<>\"\",AC458=\"\"),A458+1,AC458)),IF(U458=2,Y458,\"\"))","v":"102908;102908"},"2568;2569",2568,"道长此言差矣，没有他人帮助，怎会在绝境之战激发潜能去攻克难关，这并非独步天下",null,2569,"无需借助并非独步天下，能结缘不同的人，才能在绝境之中爆发潜能",{"$nulls":4},"",null,2569]
[102908,2552,"明境道长邀请你前去论道",2553,"与道长进行对话",{"$nulls":4},107,{"$f":"IF(J459=\"\",\"\",VLOOKUP(J459,EventNPC!A:E,5,FALSE))","v":"村名甲"},2570,"禹能众万人心，舜能独断万古，你的道如禹舜之续，我很满意",null,1029,8,"",null,null,{"$f":"IF(R459=\"\",\"\",\"-\"&VLOOKUP(R459,EventConditionConfig!A:C,3,FALSE)&IF(S459=\"\",\"\",CHAR(10)&\"-\"&VLOOKUP(S459,EventConditionConfig!A:C,3,FALSE)))","v":""},"","","","",null,null,"",{"$nulls":5},"",null,2570]
[]
[{"$f":"O461*100+P461","v":103001},{"$f":"IF(B460=\"\",MAX(AA459,X459,L459,B459,D459,AA458,X458,L458)+1,B460)","v":2571},"印宗邀请你一同论道",{"$f":"IF(E461=\"\",\"\",B461+1)","v":2572},"与印宗法师进行对话",{"$nulls":5},{"$f":"IF(J461=\"\",\"\",VLOOKUP(J461,EventNPC!A:E,5,FALSE))","v":""},{"$f":"IF(M461=\"\",\"\",IF(P461=1,MAX(D461,B461)+1,MAX(B460,L460,D460,X460,AA460)+1))","v":2573},"你正遇上这里的印宗法师在讲经书。这时吹来了一阵风，把挂在门口和堂内的佛幡吹得飘舞起来。印宗法师看到佛幡舞动，于是问你",null,1030,{"$f":"IF(O461=O460,P460+1,1)","v":1},{"$f":"_xlfn.TEXTJOIN(\";\",1,R461:S461)","v":""},null,null,{"$f":"IF(R461=\"\",\"\",\"-\"&VLOOKUP(R461,EventConditionConfig!A:C,3,FALSE)&IF(S461=\"\",\"\",CHAR(10)&\"-\"&VLOOKUP(S461,EventConditionConfig!A:C,3,FALSE)))","v":""},{"$f":"IF(Y461=\"\",\"\",IF(ISTEXT(Y461),1,2))","v":""},"",{"$f":"_xlfn.TEXTJOIN(\";\",1,X461,AA461)","v":""},{"$f":"IF(OR(ISNUMBER(Y461),Y461=\"\"),\"\",L461+1)","v":""},null,null,{"$f":"IF(AB461=\"\",\"\",X461+1)","v":""},{"$nulls":4},{"$f":"IF(A462=\"\",IF(OR(AH461>0,VLOOKUP(O461,EventConfig!A:C,3,FALSE)=4),3,\"\"),IF(ISNUMBER(Y461),2,1))","v":1},{"$f":"IF(AF461=\"\",\"\",CHOOSE(AF461,IF(AH461=\"\",A461+1,AH461),CONCATENATE(IF(AH461=\"\",A461+1,AH461),\";101\"),IF(AH461=\"\",O461+1,AH461)))","v":103002},null,{"$f":"IF(A461=\"\",\"\",MAX(B461,D461,L461,X461,AA461))","v":2573}]
[103002,2571,"印宗邀请你一同论道",2572,"与印宗法师进行对话",{"$nulls":4},107,{"$f":"IF(J462=\"\",\"\",VLOOKUP(J462,EventNPC!A:E,5,FALSE))","v":"村名甲"},2574,"小友可知，这是风动？还是幡动？",null,1030,2,"",null,null,{"$f":"IF(R462=\"\",\"\",\"-\"&VLOOKUP(R462,EventConditionConfig!A:C,3,FALSE)&IF(S462=\"\",\"\",CHAR(10)&\"-\"&VLOOKUP(S462,EventConditionConfig!A:C,3,FALSE)))","v":""},1,"103003;103004","2575;2576",2575,"是风在动而幡没有动",103003,2576,"是幡在动而风没有动",103004,null,null,{"$f":"IF(A463=\"\",IF(OR(AH462>0,VLOOKUP(O462,EventConfig!A:C,3,FALSE)=4),3,\"\"),IF(ISNUMBER(Y462),2,1))","v":1},103003,null,2576]
[103003,2571,"印宗邀请你一同论道",2572,"与印宗法师进行对话",{"$nulls":4},107,{"$f":"IF(J463=\"\",\"\",VLOOKUP(J463,EventNPC!A:E,5,FALSE))","v":"村名甲"},2577,"小友为何会认为是风动呢？",null,1030,3,"",null,null,{"$f":"IF(R463=\"\",\"\",\"-\"&VLOOKUP(R463,EventConditionConfig!A:C,3,FALSE)&IF(S463=\"\",\"\",CHAR(10)&\"-\"&VLOOKUP(S463,EventConditionConfig!A:C,3,FALSE)))","v":""},1,"103005","2578",2578,"风若不吹，幡怎么会自己动",103005,"",{"$nulls":4},{"$f":"IF(A464=\"\",IF(OR(AH463>0,VLOOKUP(O463,EventConfig!A:C,3,FALSE)=4),3,\"\"),IF(ISNUMBER(Y463),2,1))","v":1},103004,null,2578]
[103004,2571,"印宗邀请你一同论道",2572,"与印宗法师进行对话",{"$nulls":4},107,{"$f":"IF(J464=\"\",\"\",VLOOKUP(J464,EventNPC!A:E,5,FALSE))","v":"村名甲"},2579,"小友为何会认为是幡动呢？",null,1030,4,"",null,null,{"$f":"IF(R464=\"\",\"\",\"-\"&VLOOKUP(R464,EventConditionConfig!A:C,3,FALSE)&IF(S464=\"\",\"\",CHAR(10)&\"-\"&VLOOKUP(S464,EventConditionConfig!A:C,3,FALSE)))","v":""},1,"103005","2580",2580,"可能是幡有灵气，自己动了起来",103005,"",{"$nulls":4},{"$f":"IF(A465=\"\",IF(OR(AH464>0,VLOOKUP(O464,EventConfig!A:C,3,FALSE)=4),3,\"\"),IF(ISNUMBER(Y464),2,1))","v":1},103005,null,2580]
[103005,2571,"印宗邀请你一同论道",2572,"与印宗法师进行对话",{"$nulls":4},107,{"$f":"IF(J465=\"\",\"\",VLOOKUP(J465,EventNPC!A:E,5,FALSE))","v":"村名甲"},2581,"小友此解释确实有意思，但还是不对",null,1030,5,"",null,null,{"$f":"IF(R465=\"\",\"\",\"-\"&VLOOKUP(R465,EventConditionConfig!A:C,3,FALSE)&IF(S465=\"\",\"\",CHAR(10)&\"-\"&VLOOKUP(S465,EventConditionConfig!A:C,3,FALSE)))","v":""},1,"103006","2582",2582,"大师此话怎讲，还请赐教",null,"",{"$nulls":4},{"$f":"IF(A466=\"\",IF(OR(AH465>0,VLOOKUP(O465,EventConfig!A:C,3,FALSE)=4),3,\"\"),IF(ISNUMBER(Y465),2,1))","v":1},103006,null,2582]
[103006,2571,"印宗邀请你一同论道",2572,"与印宗法师进行对话",{"$nulls":4},107,{"$f":"IF(J466=\"\",\"\",VLOOKUP(J466,EventNPC!A:E,5,FALSE))","v":"村名甲"},2583,"不是风动，不是幡动，是仁者心动",null,1030,6,"",null,null,{"$f":"IF(R466=\"\",\"\",\"-\"&VLOOKUP(R466,EventConditionConfig!A:C,3,FALSE)&IF(S466=\"\",\"\",CHAR(10)&\"-\"&VLOOKUP(S466,EventConditionConfig!A:C,3,FALSE)))","v":""},1,"103007","2584",2584,"既不是风在动，也不是幡在动，而是我内心认为是在动的吗",null,"",{"$nulls":4},{"$f":"IF(A467=\"\",IF(OR(AH466>0,VLOOKUP(O466,EventConfig!A:C,3,FALSE)=4),3,\"\"),IF(ISNUMBER(Y466),2,1))","v":1},103007,null,2584]
[103007,2571,"印宗邀请你一同论道",2572,"与印宗法师进行对话",{"$nulls":4},107,{"$f":"IF(J467=\"\",\"\",VLOOKUP(J467,EventNPC!A:E,5,FALSE))","v":"村名甲"},2585,"此话也不对。小友，你听经不得心识不专注，心识看到了旗帜上，而非经书上，你的心若在修行之上，那风与幡怎么会因你的心而舞动呢",null,1030,7,"",null,null,{"$f":"IF(R467=\"\",\"\",\"-\"&VLOOKUP(R467,EventConditionConfig!A:C,3,FALSE)&IF(S467=\"\",\"\",CHAR(10)&\"-\"&VLOOKUP(S467,EventConditionConfig!A:C,3,FALSE)))","v":""},"","","","",null,null,"",{"$nulls":5},"",null,2585]
[]
[{"$f":"O469*100+P469","v":103101},{"$f":"IF(B468=\"\",MAX(AA467,X467,L467,B467,D467,AA466,X466,L466)+1,B468)","v":2586},"明境道长邀请你前去论道",{"$f":"IF(E469=\"\",\"\",B469+1)","v":2587},"与道长进行对话",{"$nulls":4},107,{"$f":"IF(J469=\"\",\"\",VLOOKUP(J469,EventNPC!A:E,5,FALSE))","v":"村名甲"},{"$f":"IF(M469=\"\",\"\",IF(P469=1,MAX(D469,B469)+1,MAX(B468,L468,D468,X468,AA468)+1))","v":2588},"小友好些日子不见，可有时间与我看些经文",null,1031,{"$f":"IF(O469=O468,P468+1,1)","v":1},{"$f":"_xlfn.TEXTJOIN(\";\",1,R469:S469)","v":""},null,null,{"$f":"IF(R469=\"\",\"\",\"-\"&VLOOKUP(R469,EventConditionConfig!A:C,3,FALSE)&IF(S469=\"\",\"\",CHAR(10)&\"-\"&VLOOKUP(S469,EventConditionConfig!A:C,3,FALSE)))","v":""},{"$f":"IF(Y469=\"\",\"\",IF(ISTEXT(Y469),1,2))","v":1},{"$f":"IF(U469=1,_xlfn.TEXTJOIN(\";\",1,IF(Z469=\"\",A469+1,Z469),IF(AND(AA469<>\"\",AC469=\"\"),A469+1,AC469)),IF(U469=2,Y469,\"\"))","v":"103102;103105"},{"$f":"_xlfn.TEXTJOIN(\";\",1,X469,AA469)","v":"2589;2590"},{"$f":"IF(OR(ISNUMBER(Y469),Y469=\"\"),\"\",L469+1)","v":2589},"道长请讲",103102,{"$f":"IF(AB469=\"\",\"\",X469+1)","v":2590},"回绝论道",103105,null,null,null,{"$f":"IF(AF469=\"\",\"\",CHOOSE(AF469,IF(AH469=\"\",A469+1,AH469),CONCATENATE(IF(AH469=\"\",A469+1,AH469),\";101\"),IF(AH469=\"\",O469+1,AH469)))","v":""},null,{"$f":"IF(A469=\"\",\"\",MAX(B469,D469,L469,X469,AA469))","v":2590}]
[103102,2586,"明境道长邀请你前去论道",2587,"与道长进行对话",{"$nulls":4},107,{"$f":"IF(J470=\"\",\"\",VLOOKUP(J470,EventNPC!A:E,5,FALSE))","v":"村名甲"},2591,"人生天地之间，若白驹之过隙，忽然而已。道友，这话有些意思，可知何意？",null,1031,2,"",null,null,{"$f":"IF(R470=\"\",\"\",\"-\"&VLOOKUP(R470,EventConditionConfig!A:C,3,FALSE)&IF(S470=\"\",\"\",CHAR(10)&\"-\"&VLOOKUP(S470,EventConditionConfig!A:C,3,FALSE)))","v":""},1,"103103","2592",2592,"生命如骏马跃过缝隙般短暂",null,"",{"$nulls":4},{"$f":"IF(A471=\"\",IF(OR(AH470>0,VLOOKUP(O470,EventConfig!A:C,3,FALSE)=4),3,\"\"),IF(ISNUMBER(Y470),2,1))","v":1},103103,null,2592]
[103103,2586,"明境道长邀请你前去论道",2587,"与道长进行对话",{"$nulls":4},107,{"$f":"IF(J471=\"\",\"\",VLOOKUP(J471,EventNPC!A:E,5,FALSE))","v":"村名甲"},2593,"小友可深得此话所讲？",null,1031,3,"",null,null,{"$f":"IF(R471=\"\",\"\",\"-\"&VLOOKUP(R471,EventConditionConfig!A:C,3,FALSE)&IF(S471=\"\",\"\",CHAR(10)&\"-\"&VLOOKUP(S471,EventConditionConfig!A:C,3,FALSE)))","v":""},1,"103104","2594",2594,"道长之意，可是想让我珍惜当下",null,"",{"$nulls":4},{"$f":"IF(A472=\"\",IF(OR(AH471>0,VLOOKUP(O471,EventConfig!A:C,3,FALSE)=4),3,\"\"),IF(ISNUMBER(Y471),2,1))","v":1},103104,null,2594]
[103104,2586,"明境道长邀请你前去论道",2587,"与道长进行对话",{"$nulls":4},107,{"$f":"IF(J472=\"\",\"\",VLOOKUP(J472,EventNPC!A:E,5,FALSE))","v":"村名甲"},2595,"看来你心有所感，我甚为满意。时间匆匆，还请小友破除对时间流逝的焦虑，好好感受现在的每一刻。",null,1031,4,"",null,null,{"$f":"IF(R472=\"\",\"\",\"-\"&VLOOKUP(R472,EventConditionConfig!A:C,3,FALSE)&IF(S472=\"\",\"\",CHAR(10)&\"-\"&VLOOKUP(S472,EventConditionConfig!A:C,3,FALSE)))","v":""},"","","","",null,null,"",{"$nulls":5},"",null,2595]
[103105,2586,"明境道长邀请你前去论道",2587,"与道长进行对话",{"$nulls":4},107,{"$f":"IF(J473=\"\",\"\",VLOOKUP(J473,EventNPC!A:E,5,FALSE))","v":"村名甲"},2596,"明镜道长听到你的拒绝后暂时离开了",null,1031,5,"",null,null,{"$f":"IF(R473=\"\",\"\",\"-\"&VLOOKUP(R473,EventConditionConfig!A:C,3,FALSE)&IF(S473=\"\",\"\",CHAR(10)&\"-\"&VLOOKUP(S473,EventConditionConfig!A:C,3,FALSE)))","v":""},"","","","",null,null,"",{"$nulls":5},"",null,2596]
[]
[{"$f":"O475*100+P475","v":500401},{"$f":"IF(B474=\"\",MAX(AA473,X473,L473,B473,D473,AA472,X472,L472)+1,B474)","v":2597},"纳福-灵石",{"$f":"IF(E475=\"\",\"\",B475+1)","v":""},{"$nulls":6},{"$f":"IF(J475=\"\",\"\",VLOOKUP(J475,EventNPC!A:E,5,FALSE))","v":""},{"$f":"IF(M475=\"\",\"\",IF(P475=1,MAX(D475,B475)+1,MAX(B474,L474,D474,X474,AA474)+1))","v":2598},"你偶得良缘，大量灵石从天而降。",null,5004,{"$f":"IF(O475=O474,P474+1,1)","v":1},{"$f":"_xlfn.TEXTJOIN(\";\",1,R475:S475)","v":""},null,null,{"$f":"IF(R475=\"\",\"\",\"-\"&VLOOKUP(R475,EventConditionConfig!A:C,3,FALSE)&IF(S475=\"\",\"\",CHAR(10)&\"-\"&VLOOKUP(S475,EventConditionConfig!A:C,3,FALSE)))","v":""},{"$f":"IF(Y475=\"\",\"\",IF(ISTEXT(Y475),1,2))","v":""},{"$f":"IF(U475=1,_xlfn.TEXTJOIN(\";\",1,IF(Z475=\"\",A475+1,Z475),IF(AND(AA475<>\"\",AC475=\"\"),A475+1,AC475)),IF(U475=2,Y475,\"\"))","v":""},{"$f":"_xlfn.TEXTJOIN(\";\",1,X475,AA475)","v":""},{"$f":"IF(OR(ISNUMBER(Y475),Y475=\"\"),\"\",L475+1)","v":""},null,null,{"$f":"IF(AB475=\"\",\"\",X475+1)","v":""},{"$nulls":5},{"$f":"IF(AF475=\"\",\"\",CHOOSE(AF475,IF(AH475=\"\",A475+1,AH475),CONCATENATE(IF(AH475=\"\",A475+1,AH475),\";101\"),IF(AH475=\"\",O475+1,AH475)))","v":""},null,{"$f":"IF(A475=\"\",\"\",MAX(B475,D475,L475,X475,AA475))","v":2598}]
[]
[{"$f":"O477*100+P477","v":500501},{"$f":"IF(B476=\"\",MAX(AA475,X475,L475,B475,D475,AA474,X474,L474)+1,B476)","v":2599},"纳福-修为",{"$f":"IF(E477=\"\",\"\",B477+1)","v":""},{"$nulls":6},{"$f":"IF(J477=\"\",\"\",VLOOKUP(J477,EventNPC!A:E,5,FALSE))","v":""},{"$f":"IF(M477=\"\",\"\",IF(P477=1,MAX(D477,B477)+1,MAX(B476,L476,D476,X476,AA476)+1))","v":2600},"你偶得良缘，大量修为从天而降。",null,5005,{"$f":"IF(O477=O476,P476+1,1)","v":1},{"$f":"_xlfn.TEXTJOIN(\";\",1,R477:S477)","v":""},null,null,{"$f":"IF(R477=\"\",\"\",\"-\"&VLOOKUP(R477,EventConditionConfig!A:C,3,FALSE)&IF(S477=\"\",\"\",CHAR(10)&\"-\"&VLOOKUP(S477,EventConditionConfig!A:C,3,FALSE)))","v":""},{"$f":"IF(Y477=\"\",\"\",IF(ISTEXT(Y477),1,2))","v":""},{"$f":"IF(U477=1,_xlfn.TEXTJOIN(\";\",1,IF(Z477=\"\",A477+1,Z477),IF(AND(AA477<>\"\",AC477=\"\"),A477+1,AC477)),IF(U477=2,Y477,\"\"))","v":""},{"$f":"_xlfn.TEXTJOIN(\";\",1,X477,AA477)","v":""},{"$f":"IF(OR(ISNUMBER(Y477),Y477=\"\"),\"\",L477+1)","v":""},null,null,{"$f":"IF(AB477=\"\",\"\",X477+1)","v":""},{"$nulls":5},{"$f":"IF(AF477=\"\",\"\",CHOOSE(AF477,IF(AH477=\"\",A477+1,AH477),CONCATENATE(IF(AH477=\"\",A477+1,AH477),\";101\"),IF(AH477=\"\",O477+1,AH477)))","v":""},null,{"$f":"IF(A477=\"\",\"\",MAX(B477,D477,L477,X477,AA477))","v":2600}]
[]
[{"$f":"O479*100+P479","v":500601},{"$f":"IF(B478=\"\",MAX(AA477,X477,L477,B477,D477,AA476,X476,L476)+1,B478)","v":2601},"纳福-灵气",{"$f":"IF(E479=\"\",\"\",B479+1)","v":""},{"$nulls":6},{"$f":"IF(J479=\"\",\"\",VLOOKUP(J479,EventNPC!A:E,5,FALSE))","v":""},{"$f":"IF(M479=\"\",\"\",IF(P479=1,MAX(D479,B479)+1,MAX(B478,L478,D478,X478,AA478)+1))","v":2602},"你偶得良缘，大量灵气从天而降。",null,5006,{"$f":"IF(O479=O478,P478+1,1)","v":1},{"$f":"_xlfn.TEXTJOIN(\";\",1,R479:S479)","v":""},null,null,{"$f":"IF(R479=\"\",\"\",\"-\"&VLOOKUP(R479,EventConditionConfig!A:C,3,FALSE)&IF(S479=\"\",\"\",CHAR(10)&\"-\"&VLOOKUP(S479,EventConditionConfig!A:C,3,FALSE)))","v":""},{"$f":"IF(Y479=\"\",\"\",IF(ISTEXT(Y479),1,2))","v":""},{"$f":"IF(U479=1,_xlfn.TEXTJOIN(\";\",1,IF(Z479=\"\",A479+1,Z479),IF(AND(AA479<>\"\",AC479=\"\"),A479+1,AC479)),IF(U479=2,Y479,\"\"))","v":""},{"$f":"_xlfn.TEXTJOIN(\";\",1,X479,AA479)","v":""},{"$f":"IF(OR(ISNUMBER(Y479),Y479=\"\"),\"\",L479+1)","v":""},null,null,{"$f":"IF(AB479=\"\",\"\",X479+1)","v":""},{"$nulls":5},{"$f":"IF(AF479=\"\",\"\",CHOOSE(AF479,IF(AH479=\"\",A479+1,AH479),CONCATENATE(IF(AH479=\"\",A479+1,AH479),\";101\"),IF(AH479=\"\",O479+1,AH479)))","v":""},null,{"$f":"IF(A479=\"\",\"\",MAX(B479,D479,L479,X479,AA479))","v":2602}]
[]
[{"$f":"O481*100+P481","v":500701},{"$f":"IF(B480=\"\",MAX(AA479,X479,L479,B479,D479,AA478,X478,L478)+1,B480)","v":2603},"纳福-玄晶",{"$f":"IF(E481=\"\",\"\",B481+1)","v":""},{"$nulls":6},{"$f":"IF(J481=\"\",\"\",VLOOKUP(J481,EventNPC!A:E,5,FALSE))","v":""},{"$f":"IF(M481=\"\",\"\",IF(P481=1,MAX(D481,B481)+1,MAX(B480,L480,D480,X480,AA480)+1))","v":2604},"你偶得良缘，大量玄晶从天而降。",null,5007,{"$f":"IF(O481=O480,P480+1,1)","v":1},{"$f":"_xlfn.TEXTJOIN(\";\",1,R481:S481)","v":""},null,null,{"$f":"IF(R481=\"\",\"\",\"-\"&VLOOKUP(R481,EventConditionConfig!A:C,3,FALSE)&IF(S481=\"\",\"\",CHAR(10)&\"-\"&VLOOKUP(S481,EventConditionConfig!A:C,3,FALSE)))","v":""},{"$f":"IF(Y481=\"\",\"\",IF(ISTEXT(Y481),1,2))","v":""},{"$f":"IF(U481=1,_xlfn.TEXTJOIN(\";\",1,IF(Z481=\"\",A481+1,Z481),IF(AND(AA481<>\"\",AC481=\"\"),A481+1,AC481)),IF(U481=2,Y481,\"\"))","v":""},{"$f":"_xlfn.TEXTJOIN(\";\",1,X481,AA481)","v":""},{"$f":"IF(OR(ISNUMBER(Y481),Y481=\"\"),\"\",L481+1)","v":""},null,null,{"$f":"IF(AB481=\"\",\"\",X481+1)","v":""},{"$nulls":5},{"$f":"IF(AF481=\"\",\"\",CHOOSE(AF481,IF(AH481=\"\",A481+1,AH481),CONCATENATE(IF(AH481=\"\",A481+1,AH481),\";101\"),IF(AH481=\"\",O481+1,AH481)))","v":""},null,{"$f":"IF(A481=\"\",\"\",MAX(B481,D481,L481,X481,AA481))","v":2604}]

{"sheet":"EventConditionConfig","index":2,"n_rows":23,"n_cols":12,"rows_kept":23,"cut":false,"hidden":false,"merged":[]}
["ID","message",null,null,"Operation",null,"ConditionType","ConditionPara","finishCount","RelatedEvents"]
["int","int",null,null,"int",null,"int","int[]","int","int[]"]
[]
["ID","描述",null,null,"与0\n或1",null,"条件判断类型","条件判断值","条件完成次数or数量","关联的事件Id","提示","跳转"]
[1,2078,"拥有金币",{"$f":"CONCATENATE(\"- \",C5,\"{0}/{1}\")","v":"- 拥有金币{0}/{1}"},null,null,1,1001,10]
[2,2079,"达到境界：筑基-中期",{"$f":"CONCATENATE(\"- \",C6,\"{0}/{1}\")","v":"- 达到境界：筑基-中期{0}/{1}"},null,null,3,11,1]
[3,2080,"击杀魔休","- 击杀魔休{0}/{1}",null,null,5,1001,5,9031]
[4,2081,"获得钻石","- 获得钻石{0}/{1}",null,null,6,1002,10]
[5,2082,"使用神识","- 使用神识{0}/{1}",null,null,8,null,1]
[6,2094,"继续飞行一段时间","- 继续飞行一段时间{0}/{1}",null,null,9,null,6]
[7,2843,"击败结界兽","- 击败结界兽{0}/{1}",null,null,5,1002,1]
[8,2844,"达到境界：筑基-后期","- 达到境界：筑基-后期{0}/{1}",null,null,3,21,1]
[9,2845,"击杀妖兽","- 击杀妖兽{0}/{1}",null,null,5,1003,1,30003]
[10,2846,"击败后山小妖","- 击败后山小妖{0}/{1}",null,null,5,1004,3,30004]
[11,2847,"收集灵草种子","- 收集灵草种子{0}/{1}",null,null,6,20003,3,30011]
[12,2848,"击败夜袭的妖兽","- 击败夜袭的妖兽{0}/{1}",null,null,5,1005,1,30005]
[13,2849,"击败峰顶的妖王","- 击败峰顶的妖王{0}/{1}",null,null,5,1006,1,30006]
[14,2850,"境界达到[金丹-前期]","- 境界达到[金丹-前期]{0}/{1}",null,null,3,31,1]
[15,2851,"击败仙山的阵眼妖兽","- 击败仙山的阵眼妖兽{0}/{1}",null,null,5,1007,1,30007]
[17,2852,"击杀灵兽获得天肥",{"$f":"CONCATENATE(\"- \",C20,\"{0}/{1}\")","v":"- 击杀灵兽获得天肥{0}/{1}"},null,null,5,1008,1,30008]
[18,2853,"获得一件袈裟","- 获得一件袈裟{0}/{1}",null,null,6,1301,1,30009]
[19,2854,"夺回琉璃盏","- 夺回琉璃盏{0}/{1}",null,null,6,1001,1,30010]
[20,2855,"给予渡劫丹","- 给予渡劫丹{0}/{1}",null,null,1,1001,1]

{"sheet":"条件类型查询","index":3,"n_rows":10,"n_cols":7,"rows_kept":10,"cut":false,"hidden":false,"merged":[]}
["ID","条件判断类型","条件判断值","条件完成次数or数量","额外文本","不可用","是否可用于事件"]
[1,"拥有特定道具","道具ID","数量≥","检测背包道具",null,1]
[2,"灵根判定","哪个灵根","灵根值≥",null,1]
[3,"境界判断","境界id",null,null,null,1]
[5,"战斗胜利","战斗组ID","胜利次数≥"]
[6,"获得道具","道具的ID","数量≥","探测出事件才开始检测"]
[7,"触发概率","概率值 1000=100%",null,null,null,1]
[8,"使用神识",null,"数量≥"]
[9,"游戏在线多少时长（秒）",null,"时间≥（秒）",null,null,1]
[10,"前置事件","事件ID",null,null,null,1]

{"sheet":"产出tag查询","index":4,"n_rows":23,"n_cols":2,"rows_kept":23,"cut":false,"hidden":false,"merged":[]}
["产出TAG","产出类型"]
[1,"金币"]
[2,"修为"]
[3,"功法灵气"]
[4,"法宝灵韵"]
[5,"功法碎片"]
[6,"法宝碎片"]
[7,"修为丹"]
[8,"天材地宝"]
[9,"渡劫丹"]
[10,"好感度礼物"]
[11,"心情礼物"]
[12]
[13]
[14]
[15]
[16]
[17]
[18]
[19]
[20]
[21]
[22]

{"sheet":"EventNPC","index":5,"n_rows":31,"n_cols":5,"rows_kept":31,"cut":false,"hidden":false,"merged":[]}
["ID","name","ID","DaoyouID"]
["int","int","int","int"]
[]
["ID","名字","半身像icon","道友ID","名称"]
[1,null,null,null,"玩家"]
[2,null,null,1,"道友1"]
[3,null,null,2,"道友2"]
[4,null,null,3,"道友3"]
[5,null,null,4,"道友4"]
[6,null,null,5,"道友5"]
[7,null,null,6,"道友6"]
[8,null,null,7,"道友7"]
[9,null,null,8,"道友8"]
[10,null,null,9,"道友9"]
[11,null,null,10,"道友10"]
[]
[100,3000,null,null,"玩家"]
[101,3001,null,null,"蜩鸟"]
[102,3002,null,null,"小麻雀"]
[103,3003,null,null,"疯道人"]
[104,3004,null,null,"痴道人"]
[105,3005,null,null,"尧帝"]
[106,3006,null,null,"许由"]
[107,3007,null,null,"村名甲"]
[108,3008,null,null,"村名乙"]
[109,3009,null,null,"村名丙"]
[110,3010,null,null,"樗木之灵"]
[111,null,null,null,"惠子"]
[112,3021,null,null,"风无咎"]
[113,3034,null,null,"北海剑妖"]
[114,3067,null,null,"拦路妖兽"]

{"sheet":"XianTuLogConfig","index":6,"n_rows":8,"n_cols":7,"rows_kept":8,"cut":false,"hidden":false,"merged":[]}
["ID","EventType","Title","Desc","BigMapID"]
["int","int","int","int","int"]
[]
["ID","1主线\n2事件","名称","描述","属于哪个章节"]
[1,1,2087,2089,1,"第一章.逍遥游","多次渡劫失败的你，误入“无何有之乡”，在这里受到了列子的指引，踏上了寻找七道心境的修仙之路。"]
[2,2,2088,2090,1,"无用的大葫芦","惠子种出了巨大葫芦，他觉得毫无用处，非常生气！"]
[3,2,2088,2090,2,"无用的大葫芦","惠子种出了巨大葫芦，他觉得毫无用处，非常生气！"]
[4,2,2088,2090,3,"无用的大葫芦","惠子种出了巨大葫芦，他觉得毫无用处，非常生气！"]