{"text_format":"2","workbook":"xlsx","n_sheets":7,"sheets":["DropConfig","DropGroupConfig","DropItemConfig","DropCountConfig","说明页","道具表","英雄招募相关"],"not_rendered":{"charts":0,"images":0,"macros":0,"external_links":2,"defined_names":4,"comments":0,"pivot_tables":0},"unopened":[],"bounds":{"document_bytes":16777216,"sheet_cells":100000,"run_cost":"one","rows_first":2000,"rows_last":500,"rows_between":2000,"halvings":0,"cell_chars":16384,"cell_head_chars":4096},"cells_cut":0,"cells_raw":0,"read":"whole","date_system":"1900"}

{"sheet":"DropConfig","index":0,"n_rows":164,"n_cols":10,"rows_kept":164,"cut":false,"hidden":false,"merged":[]}
["ID","dropGroupID",null,"dropType","showItemId"]
["int","int[]",null,"int","int[]"]
[{"$nulls":4},"c"]
["掉落ID","掉落组ID","掉落组说明","掉落方式\n1.每个掉落组根据掉落概率掉落\n2.所有掉落组根据掉落权重掉落\n3.直接掉落道具","显示ID\n通过工厂表决定显示",null,"完整值"]
[1001,{"$f":"IF(A5=\"\",\"\",A5)","v":1001},{"$f":"IF(A5=\"\",\"\",IF(D5=3,CONCATENATE(\"直接掉落道具：\",VLOOKUP(A5,[1]ItemConfig!$A:$C,3,FALSE)),\"\"))","v":"直接掉落道具：灵石"},3,{"$f":"A5","v":1001},{"$f":"IF(A5=\"\",\"\",IF(D5=3,VLOOKUP(A5,[1]ItemConfig!$A:$C,3,FALSE),\"\"))","v":"灵石"}]
[1002,{"$f":"IF(A6=\"\",\"\",A6)","v":1002},{"$f":"IF(A6=\"\",\"\",IF(D6=3,CONCATENATE(\"直接掉落道具：\",VLOOKUP(A6,[1]ItemConfig!$A:$C,3,FALSE)),\"\"))","v":"直接掉落道具：妖丹"},3,{"$f":"A6","v":1002},{"$f":"IF(A6=\"\",\"\",IF(D6=3,VLOOKUP(A6,[1]ItemConfig!$A:$C,3,FALSE),\"\"))","v":"妖丹"}]
[1003,1003,{"$f":"IF(A7=\"\",\"\",IF(D7=3,CONCATENATE(\"直接掉落道具：\",VLOOKUP(A7,[1]ItemConfig!$A:$C,3,FALSE)),\"\"))","v":"直接掉落道具：修为"},3,1003,{"$f":"IF(A7=\"\",\"\",IF(D7=3,VLOOKUP(A7,[1]ItemConfig!$A:$C,3,FALSE),\"\"))","v":"修为"}]
[1004,1004,{"$f":"IF(A8=\"\",\"\",IF(D8=3,CONCATENATE(\"直接掉落道具：\",VLOOKUP(A8,[1]ItemConfig!$A:$C,3,FALSE)),\"\"))","v":"直接掉落道具：妖王丹"},3,1004,{"$f":"IF(A8=\"\",\"\",IF(D8=3,VLOOKUP(A8,[1]ItemConfig!$A:$C,3,FALSE),\"\"))","v":"妖王丹"}]
[1005,1005,{"$f":"IF(A9=\"\",\"\",IF(D9=3,CONCATENATE(\"直接掉落道具：\",VLOOKUP(A9,[1]ItemConfig!$A:$C,3,FALSE)),\"\"))","v":"直接掉落道具：灵气"},3,1005,{"$f":"IF(A9=\"\",\"\",IF(D9=3,VLOOKUP(A9,[1]ItemConfig!$A:$C,3,FALSE),\"\"))","v":"灵气"}]
[1006,1006,{"$f":"IF(A10=\"\",\"\",IF(D10=3,CONCATENATE(\"直接掉落道具：\",VLOOKUP(A10,[1]ItemConfig!$A:$C,3,FALSE)),\"\"))","v":"直接掉落道具：玄晶"},3,1006,{"$f":"IF(A10=\"\",\"\",IF(D10=3,VLOOKUP(A10,[1]ItemConfig!$A:$C,3,FALSE),\"\"))","v":"玄晶"}]
[null,"",{"$f":"IF(A11=\"\",\"\",IF(D11=3,CONCATENATE(\"直接掉落道具：\",VLOOKUP(A11,[1]ItemConfig!$A:$C,3,FALSE)),\"\"))","v":""},3,0,{"$f":"IF(A11=\"\",\"\",IF(D11=3,VLOOKUP(A11,[1]ItemConfig!$A:$C,3,FALSE),\"\"))","v":""}]
[1201,1201,{"$f":"IF(A12=\"\",\"\",IF(D12=3,CONCATENATE(\"直接掉落道具：\",VLOOKUP(A12,[1]ItemConfig!$A:$C,3,FALSE)),\"\"))","v":"直接掉落道具：渡劫丹-A1"},3,1201,{"$f":"IF(A12=\"\",\"\",IF(D12=3,VLOOKUP(A12,[1]ItemConfig!$A:$C,3,FALSE),\"\"))","v":"渡劫丹-A1"}]
[1202,1202,{"$f":"IF(A13=\"\",\"\",IF(D13=3,CONCATENATE(\"直接掉落道具：\",VLOOKUP(A13,[1]ItemConfig!$A:$C,3,FALSE)),\"\"))","v":"直接掉落道具：渡劫丹-A2"},3,1202,{"$f":"IF(A13=\"\",\"\",IF(D13=3,VLOOKUP(A13,[1]ItemConfig!$A:$C,3,FALSE),\"\"))","v":"渡劫丹-A2"}]
[1203,1203,{"$f":"IF(A14=\"\",\"\",IF(D14=3,CONCATENATE(\"直接掉落道具：\",VLOOKUP(A14,[1]ItemConfig!$A:$C,3,FALSE)),\"\"))","v":"直接掉落道具：渡劫丹-A3"},3,1203,{"$f":"IF(A14=\"\",\"\",IF(D14=3,VLOOKUP(A14,[1]ItemConfig!$A:$C,3,FALSE),\"\"))","v":"渡劫丹-A3"}]
[1204,1204,{"$f":"IF(A15=\"\",\"\",IF(D15=3,CONCATENATE(\"直接掉落道具：\",VLOOKUP(A15,[1]ItemConfig!$A:$C,3,FALSE)),\"\"))","v":"直接掉落道具：渡劫丹-B1"},3,1204,{"$f":"IF(A15=\"\",\"\",IF(D15=3,VLOOKUP(A15,[1]ItemConfig!$A:$C,3,FALSE),\"\"))","v":"渡劫丹-B1"}]
[1205,1205,{"$f":"IF(A16=\"\",\"\",IF(D16=3,CONCATENATE(\"直接掉落道具：\",VLOOKUP(A16,[1]ItemConfig!$A:$C,3,FALSE)),\"\"))","v":"直接掉落道具：渡劫丹-B2"},3,1205,{"$f":"IF(A16=\"\",\"\",IF(D16=3,VLOOKUP(A16,[1]ItemConfig!$A:$C,3,FALSE),\"\"))","v":"渡劫丹-B2"}]
[1206,1206,{"$f":"IF(A17=\"\",\"\",IF(D17=3,CONCATENATE(\"直接掉落道具：\",VLOOKUP(A17,[1]ItemConfig!$A:$C,3,FALSE)),\"\"))","v":"直接掉落道具：渡劫丹-B3"},3,1206,{"$f":"IF(A17=\"\",\"\",IF(D17=3,VLOOKUP(A17,[1]ItemConfig!$A:$C,3,FALSE),\"\"))","v":"渡劫丹-B3"}]
[1207,1207,{"$f":"IF(A18=\"\",\"\",IF(D18=3,CONCATENATE(\"直接掉落道具：\",VLOOKUP(A18,[1]ItemConfig!$A:$C,3,FALSE)),\"\"))","v":"直接掉落道具：渡劫丹-C1"},3,1207,{"$f":"IF(A18=\"\",\"\",IF(D18=3,VLOOKUP(A18,[1]ItemConfig!$A:$C,3,FALSE),\"\"))","v":"渡劫丹-C1"}]
[1208,1208,{"$f":"IF(A19=\"\",\"\",IF(D19=3,CONCATENATE(\"直接掉落道具：\",VLOOKUP(A19,[1]ItemConfig!$A:$C,3,FALSE)),\"\"))","v":"直接掉落道具：渡劫丹-C2"},3,1208,{"$f":"IF(A19=\"\",\"\",IF(D19=3,VLOOKUP(A19,[1]ItemConfig!$A:$C,3,FALSE),\"\"))","v":"渡劫丹-C2"}]
[1209,1209,{"$f":"IF(A20=\"\",\"\",IF(D20=3,CONCATENATE(\"直接掉落道具：\",VLOOKUP(A20,[1]ItemConfig!$A:$C,3,FALSE)),\"\"))","v":"直接掉落道具：渡劫丹-C3"},3,1209,{"$f":"IF(A20=\"\",\"\",IF(D20=3,VLOOKUP(A20,[1]ItemConfig!$A:$C,3,FALSE),\"\"))","v":"渡劫丹-C3"}]
[null,"",{"$f":"IF(A21=\"\",\"\",IF(D21=3,CONCATENATE(\"直接掉落道具：\",VLOOKUP(A21,[1]ItemConfig!$A:$C,3,FALSE)),\"\"))","v":""},3,0,{"$f":"IF(A21=\"\",\"\",IF(D21=3,VLOOKUP(A21,[1]ItemConfig!$A:$C,3,FALSE),\"\"))","v":""}]
[1301,1301,{"$f":"IF(A22=\"\",\"\",IF(D22=3,CONCATENATE(\"直接掉落道具：\",VLOOKUP(A22,[1]ItemConfig!$A:$C,3,FALSE)),\"\"))","v":"直接掉落道具：天材地宝1"},3,1301,{"$f":"IF(A22=\"\",\"\",IF(D22=3,VLOOKUP(A22,[1]ItemConfig!$A:$C,3,FALSE),\"\"))","v":"天材地宝1"}]
[1302,1302,{"$f":"IF(A23=\"\",\"\",IF(D23=3,CONCATENATE(\"直接掉落道具：\",VLOOKUP(A23,[1]ItemConfig!$A:$C,3,FALSE)),\"\"))","v":"直接掉落道具：天材地宝2"},3,1302,{"$f":"IF(A23=\"\",\"\",IF(D23=3,VLOOKUP(A23,[1]ItemConfig!$A:$C,3,FALSE),\"\"))","v":"天材地宝2"}]
[1303,1303,{"$f":"IF(A24=\"\",\"\",IF(D24=3,CONCATENATE(\"直接掉落道具：\",VLOOKUP(A24,[1]ItemConfig!$A:$C,3,FALSE)),\"\"))","v":"直接掉落道具：天材地宝3"},3,1303,{"$f":"IF(A24=\"\",\"\",IF(D24=3,VLOOKUP(A24,[1]ItemConfig!$A:$C,3,FALSE),\"\"))","v":"天材地宝3"}]
[1304,1304,{"$f":"IF(A25=\"\",\"\",IF(D25=3,CONCATENATE(\"直接掉落道具：\",VLOOKUP(A25,[1]ItemConfig!$A:$C,3,FALSE)),\"\"))","v":"直接掉落道具：天材地宝4"},3,1304,{"$f":"IF(A25=\"\",\"\",IF(D25=3,VLOOKUP(A25,[1]ItemConfig!$A:$C,3,FALSE),\"\"))","v":"天材地宝4"}]
[null,"",{"$f":"IF(A26=\"\",\"\",IF(D26=3,CONCATENATE(\"直接掉落道具：\",VLOOKUP(A26,[1]ItemConfig!$A:$C,3,FALSE)),\"\"))","v":""},3,0,{"$f":"IF(A26=\"\",\"\",IF(D26=3,VLOOKUP(A26,[1]ItemConfig!$A:$C,3,FALSE),\"\"))","v":""}]
[1401,1401,{"$f":"IF(A27=\"\",\"\",IF(D27=3,CONCATENATE(\"直接掉落道具：\",VLOOKUP(A27,[1]ItemConfig!$A:$C,3,FALSE)),\"\"))","v":"直接掉落道具：修为丹·下"},3,1401,{"$f":"IF(A27=\"\",\"\",IF(D27=3,VLOOKUP(A27,[1]ItemConfig!$A:$C,3,FALSE),\"\"))","v":"修为丹·下"}]
[1402,1402,{"$f":"IF(A28=\"\",\"\",IF(D28=3,CONCATENATE(\"直接掉落道具：\",VLOOKUP(A28,[1]ItemConfig!$A:$C,3,FALSE)),\"\"))","v":"直接掉落道具：修为丹·中"},3,1402,{"$f":"IF(A28=\"\",\"\",IF(D28=3,VLOOKUP(A28,[1]ItemConfig!$A:$C,3,FALSE),\"\"))","v":"修为丹·中"}]
[1403,1403,{"$f":"IF(A29=\"\",\"\",IF(D29=3,CONCATENATE(\"直接掉落道具：\",VLOOKUP(A29,[1]ItemConfig!$A:$C,3,FALSE)),\"\"))","v":"直接掉落道具：修为丹·上"},3,1403,{"$f":"IF(A29=\"\",\"\",IF(D29=3,VLOOKUP(A29,[1]ItemConfig!$A:$C,3,FALSE),\"\"))","v":"修为丹·上"}]
[1404,1404,{"$f":"IF(A30=\"\",\"\",IF(D30=3,CONCATENATE(\"直接掉落道具：\",VLOOKUP(A30,[1]ItemConfig!$A:$C,3,FALSE)),\"\"))","v":"直接掉落道具：修为丹·极"},3,1404,{"$f":"IF(A30=\"\",\"\",IF(D30=3,VLOOKUP(A30,[1]ItemConfig!$A:$C,3,FALSE),\"\"))","v":"修为丹·极"}]
[null,"",{"$f":"IF(A31=\"\",\"\",IF(D31=3,CONCATENATE(\"直接掉落道具：\",VLOOKUP(A31,[1]ItemConfig!$A:$C,3,FALSE)),\"\"))","v":""},3,0,{"$f":"IF(A31=\"\",\"\",IF(D31=3,VLOOKUP(A31,[1]ItemConfig!$A:$C,3,FALSE),\"\"))","v":""}]
[1501,1501,{"$f":"IF(A32=\"\",\"\",IF(D32=3,CONCATENATE(\"直接掉落道具：\",VLOOKUP(A32,[1]ItemConfig!$A:$C,3,FALSE)),\"\"))","v":"直接掉落道具：好感度礼物1"},3,1501,{"$f":"IF(A32=\"\",\"\",IF(D32=3,VLOOKUP(A32,[1]ItemConfig!$A:$C,3,FALSE),\"\"))","v":"好感度礼物1"}]
[1502,1502,{"$f":"IF(A33=\"\",\"\",IF(D33=3,CONCATENATE(\"直接掉落道具：\",VLOOKUP(A33,[1]ItemConfig!$A:$C,3,FALSE)),\"\"))","v":"直接掉落道具：好感度礼物2"},3,1502,{"$f":"IF(A33=\"\",\"\",IF(D33=3,VLOOKUP(A33,[1]ItemConfig!$A:$C,3,FALSE),\"\"))","v":"好感度礼物2"}]
[null,"",{"$f":"IF(A34=\"\",\"\",IF(D34=3,CONCATENATE(\"直接掉落道具：\",VLOOKUP(A34,[1]ItemConfig!$A:$C,3,FALSE)),\"\"))","v":""},3,0,{"$f":"IF(A34=\"\",\"\",IF(D34=3,VLOOKUP(A34,[1]ItemConfig!$A:$C,3,FALSE),\"\"))","v":""}]
[1601,1601,{"$f":"IF(A35=\"\",\"\",IF(D35=3,CONCATENATE(\"直接掉落道具：\",VLOOKUP(A35,[1]ItemConfig!$A:$C,3,FALSE)),\"\"))","v":"直接掉落道具：心情礼物1"},3,1601,{"$f":"IF(A35=\"\",\"\",IF(D35=3,VLOOKUP(A35,[1]ItemConfig!$A:$C,3,FALSE),\"\"))","v":"心情礼物1"}]
[null,"",{"$f":"IF(A36=\"\",\"\",IF(D36=3,CONCATENATE(\"直接掉落道具：\",VLOOKUP(A36,[1]ItemConfig!$A:$C,3,FALSE)),\"\"))","v":""},3,0,{"$f":"IF(A36=\"\",\"\",IF(D36=3,VLOOKUP(A36,[1]ItemConfig!$A:$C,3,FALSE),\"\"))","v":""}]
[10001,10001,{"$f":"IF(A37=\"\",\"\",IF(D37=3,CONCATENATE(\"直接掉落道具：\",VLOOKUP(A37,[1]ItemConfig!$A:$C,3,FALSE)),\"\"))","v":"直接掉落道具：神龙鼎"},3,10001,{"$f":"IF(A37=\"\",\"\",IF(D37=3,VLOOKUP(A37,[1]ItemConfig!$A:$C,3,FALSE),\"\"))","v":"神龙鼎"}]
[10002,10002,{"$f":"IF(A38=\"\",\"\",IF(D38=3,CONCATENATE(\"直接掉落道具：\",VLOOKUP(A38,[1]ItemConfig!$A:$C,3,FALSE)),\"\"))","v":"直接掉落道具：破天斧"},3,10002,{"$f":"IF(A38=\"\",\"\",IF(D38=3,VLOOKUP(A38,[1]ItemConfig!$A:$C,3,FALSE),\"\"))","v":"破天斧"}]
[10003,10003,{"$f":"IF(A39=\"\",\"\",IF(D39=3,CONCATENATE(\"直接掉落道具：\",VLOOKUP(A39,[1]ItemConfig!$A:$C,3,FALSE)),\"\"))","v":"直接掉落道具：翡翠葫芦"},3,10003,{"$f":"IF(A39=\"\",\"\",IF(D39=3,VLOOKUP(A39,[1]ItemConfig!$A:$C,3,FALSE),\"\"))","v":"翡翠葫芦"}]
[10004,10004,{"$f":"IF(A40=\"\",\"\",IF(D40=3,CONCATENATE(\"直接掉落道具：\",VLOOKUP(A40,[1]ItemConfig!$A:$C,3,FALSE)),\"\"))","v":"直接掉落道具：混沌珠"},3,10004,{"$f":"IF(A40=\"\",\"\",IF(D40=3,VLOOKUP(A40,[1]ItemConfig!$A:$C,3,FALSE),\"\"))","v":"混沌珠"}]
[10005,10005,{"$f":"IF(A41=\"\",\"\",IF(D41=3,CONCATENATE(\"直接掉落道具：\",VLOOKUP(A41,[1]ItemConfig!$A:$C,3,FALSE)),\"\"))","v":"直接掉落道具：琉璃宝塔"},3,10005,{"$f":"IF(A41=\"\",\"\",IF(D41=3,VLOOKUP(A41,[1]ItemConfig!$A:$C,3,FALSE),\"\"))","v":"琉璃宝塔"}]
[10006,10006,{"$f":"IF(A42=\"\",\"\",IF(D42=3,CONCATENATE(\"直接掉落道具：\",VLOOKUP(A42,[1]ItemConfig!$A:$C,3,FALSE)),\"\"))","v":"直接掉落道具：九幽镇魂瓶"},3,10006,{"$f":"IF(A42=\"\",\"\",IF(D42=3,VLOOKUP(A42,[1]ItemConfig!$A:$C,3,FALSE),\"\"))","v":"九幽镇魂瓶"}]
[10007,10007,{"$f":"IF(A43=\"\",\"\",IF(D43=3,CONCATENATE(\"直接掉落道具：\",VLOOKUP(A43,[1]ItemConfig!$A:$C,3,FALSE)),\"\"))","v":"直接掉落道具：玉莲守心灯"},3,10007,{"$f":"IF(A43=\"\",\"\",IF(D43=3,VLOOKUP(A43,[1]ItemConfig!$A:$C,3,FALSE),\"\"))","v":"玉莲守心灯"}]
[10008,10008,{"$f":"IF(A44=\"\",\"\",IF(D44=3,CONCATENATE(\"直接掉落道具：\",VLOOKUP(A44,[1]ItemConfig!$A:$C,3,FALSE)),\"\"))","v":"直接掉落道具：融灵塔"},3,10008,{"$f":"IF(A44=\"\",\"\",IF(D44=3,VLOOKUP(A44,[1]ItemConfig!$A:$C,3,FALSE),\"\"))","v":"融灵塔"}]
[10009,10009,{"$f":"IF(A45=\"\",\"\",IF(D45=3,CONCATENATE(\"直接掉落道具：\",VLOOKUP(A45,[1]ItemConfig!$A:$C,3,FALSE)),\"\"))","v":"直接掉落道具：禁元珠"},3,10009,{"$f":"IF(A45=\"\",\"\",IF(D45=3,VLOOKUP(A45,[1]ItemConfig!$A:$C,3,FALSE),\"\"))","v":"禁元珠"}]
[10010,10010,{"$f":"IF(A46=\"\",\"\",IF(D46=3,CONCATENATE(\"直接掉落道具：\",VLOOKUP(A46,[1]ItemConfig!$A:$C,3,FALSE)),\"\"))","v":"直接掉落道具：玄龟盾"},3,10010,{"$f":"IF(A46=\"\",\"\",IF(D46=3,VLOOKUP(A46,[1]ItemConfig!$A:$C,3,FALSE),\"\"))","v":"玄龟盾"}]
[10011,10011,{"$f":"IF(A47=\"\",\"\",IF(D47=3,CONCATENATE(\"直接掉落道具：\",VLOOKUP(A47,[1]ItemConfig!$A:$C,3,FALSE)),\"\"))","v":"直接掉落道具：天殇血刃剑"},3,10011,{"$f":"IF(A47=\"\",\"\",IF(D47=3,VLOOKUP(A47,[1]ItemConfig!$A:$C,3,FALSE),\"\"))","v":"天殇血刃剑"}]
[null,"",{"$f":"IF(A48=\"\",\"\",IF(D48=3,CONCATENATE(\"直接掉落道具：\",VLOOKUP(A48,[1]ItemConfig!$A:$C,3,FALSE)),\"\"))","v":""},3,0,{"$f":"IF(A48=\"\",\"\",IF(D48=3,VLOOKUP(A48,[1]ItemConfig!$A:$C,3,FALSE),\"\"))","v":""}]
[11001,11001,{"$f":"IF(A49=\"\",\"\",IF(D49=3,CONCATENATE(\"直接掉落道具：\",VLOOKUP(A49,[1]ItemConfig!$A:$C,3,FALSE)),\"\"))","v":"直接掉落道具：神龙鼎碎片"},3,11001,{"$f":"IF(A49=\"\",\"\",IF(D49=3,VLOOKUP(A49,[1]ItemConfig!$A:$C,3,FALSE),\"\"))","v":"神龙鼎碎片"}]
[11002,11002,{"$f":"IF(A50=\"\",\"\",IF(D50=3,CONCATENATE(\"直接掉落道具：\",VLOOKUP(A50,[1]ItemConfig!$A:$C,3,FALSE)),\"\"))","v":"直接掉落道具：破天斧碎片"},3,11002,{"$f":"IF(A50=\"\",\"\",IF(D50=3,VLOOKUP(A50,[1]ItemConfig!$A:$C,3,FALSE),\"\"))","v":"破天斧碎片"}]
[11003,11003,{"$f":"IF(A51=\"\",\"\",IF(D51=3,CONCATENATE(\"直接掉落道具：\",VLOOKUP(A51,[1]ItemConfig!$A:$C,3,FALSE)),\"\"))","v":"直接掉落道具：翡翠葫芦碎片"},3,11003,{"$f":"IF(A51=\"\",\"\",IF(D51=3,VLOOKUP(A51,[1]ItemConfig!$A:$C,3,FALSE),\"\"))","v":"翡翠葫芦碎片"}]
[11004,11004,{"$f":"IF(A52=\"\",\"\",IF(D52=3,CONCATENATE(\"直接掉落道具：\",VLOOKUP(A52,[1]ItemConfig!$A:$C,3,FALSE)),\"\"))","v":"直接掉落道具：混沌珠碎片"},3,11004,{"$f":"IF(A52=\"\",\"\",IF(D52=3,VLOOKUP(A52,[1]ItemConfig!$A:$C,3,FALSE),\"\"))","v":"混沌珠碎片"}]
[11005,11005,{"$f":"IF(A53=\"\",\"\",IF(D53=3,CONCATENATE(\"直接掉落道具：\",VLOOKUP(A53,[1]ItemConfig!$A:$C,3,FALSE)),\"\"))","v":"直接掉落道具：琉璃宝塔碎片"},3,11005,{"$f":"IF(A53=\"\",\"\",IF(D53=3,VLOOKUP(A53,[1]ItemConfig!$A:$C,3,FALSE),\"\"))","v":"琉璃宝塔碎片"}]
[11006,11006,{"$f":"IF(A54=\"\",\"\",IF(D54=3,CONCATENATE(\"直接掉落道具：\",VLOOKUP(A54,[1]ItemConfig!$A:$C,3,FALSE)),\"\"))","v":"直接掉落道具：九幽镇魂瓶碎片"},3,11006,{"$f":"IF(A54=\"\",\"\",IF(D54=3,VLOOKUP(A54,[1]ItemConfig!$A:$C,3,FALSE),\"\"))","v":"九幽镇魂瓶碎片"}]
[11007,11007,{"$f":"IF(A55=\"\",\"\",IF(D55=3,CONCATENATE(\"直接掉落道具：\",VLOOKUP(A55,[1]ItemConfig!$A:$C,3,FALSE)),\"\"))","v":"直接掉落道具：玉莲守心灯碎片"},3,11007,{"$f":"IF(A55=\"\",\"\",IF(D55=3,VLOOKUP(A55,[1]ItemConfig!$A:$C,3,FALSE),\"\"))","v":"玉莲守心灯碎片"}]
[11008,11008,{"$f":"IF(A56=\"\",\"\",IF(D56=3,CONCATENATE(\"直接掉落道具：\",VLOOKUP(A56,[1]ItemConfig!$A:$C,3,FALSE)),\"\"))","v":"直接掉落道具：融灵塔碎片"},3,11008,{"$f":"IF(A56=\"\",\"\",IF(D56=3,VLOOKUP(A56,[1]ItemConfig!$A:$C,3,FALSE),\"\"))","v":"融灵塔碎片"}]
[11009,11009,{"$f":"IF(A57=\"\",\"\",IF(D57=3,CONCATENATE(\"直接掉落道具：\",VLOOKUP(A57,[1]ItemConfig!$A:$C,3,FALSE)),\"\"))","v":"直接掉落道具：禁元珠碎片"},3,11009,{"$f":"IF(A57=\"\",\"\",IF(D57=3,VLOOKUP(A57,[1]ItemConfig!$A:$C,3,FALSE),\"\"))","v":"禁元珠碎片"}]
[11010,11010,{"$f":"IF(A58=\"\",\"\",IF(D58=3,CONCATENATE(\"直接掉落道具：\",VLOOKUP(A58,[1]ItemConfig!$A:$C,3,FALSE)),\"\"))","v":"直接掉落道具：玄龟盾碎片"},3,11010,{"$f":"IF(A58=\"\",\"\",IF(D58=3,VLOOKUP(A58,[1]ItemConfig!$A:$C,3,FALSE),\"\"))","v":"玄龟盾碎片"}]
[11011,11011,{"$f":"IF(A59=\"\",\"\",IF(D59=3,CONCATENATE(\"直接掉落道具：\",VLOOKUP(A59,[1]ItemConfig!$A:$C,3,FALSE)),\"\"))","v":"直接掉落道具：天殇血刃剑碎片"},3,11011,{"$f":"IF(A59=\"\",\"\",IF(D59=3,VLOOKUP(A59,[1]ItemConfig!$A:$C,3,FALSE),\"\"))","v":"天殇血刃剑碎片"}]
[null,"",{"$f":"IF(A60=\"\",\"\",IF(D60=3,CONCATENATE(\"直接掉落道具：\",VLOOKUP(A60,[1]ItemConfig!$A:$C,3,FALSE)),\"\"))","v":""},3,0,{"$f":"IF(A60=\"\",\"\",IF(D60=3,VLOOKUP(A60,[1]ItemConfig!$A:$C,3,FALSE),\"\"))","v":""}]
[12001,12001,{"$f":"IF(A61=\"\",\"\",IF(D61=3,CONCATENATE(\"直接掉落道具：\",VLOOKUP(A61,[1]ItemConfig!$A:$C,3,FALSE)),\"\"))","v":"直接掉落道具：太虚幻剑经"},3,12001,{"$f":"IF(A61=\"\",\"\",IF(D61=3,VLOOKUP(A61,[1]ItemConfig!$A:$C,3,FALSE),\"\"))","v":"太虚幻剑经"}]
[12002,12002,{"$f":"IF(A62=\"\",\"\",IF(D62=3,CONCATENATE(\"直接掉落道具：\",VLOOKUP(A62,[1]ItemConfig!$A:$C,3,FALSE)),\"\"))","v":"直接掉落道具：天罡剑气诀"},3,12002,{"$f":"IF(A62=\"\",\"\",IF(D62=3,VLOOKUP(A62,[1]ItemConfig!$A:$C,3,FALSE),\"\"))","v":"天罡剑气诀"}]
[12003,12003,{"$f":"IF(A63=\"\",\"\",IF(D63=3,CONCATENATE(\"直接掉落道具：\",VLOOKUP(A63,[1]ItemConfig!$A:$C,3,FALSE)),\"\"))","v":"直接掉落道具：血刃金煌功"},3,12003,{"$f":"IF(A63=\"\",\"\",IF(D63=3,VLOOKUP(A63,[1]ItemConfig!$A:$C,3,FALSE),\"\"))","v":"血刃金煌功"}]
[12004,12004,{"$f":"IF(A64=\"\",\"\",IF(D64=3,CONCATENATE(\"直接掉落道具：\",VLOOKUP(A64,[1]ItemConfig!$A:$C,3,FALSE)),\"\"))","v":"直接掉落道具：飞刃"},3,12004,{"$f":"IF(A64=\"\",\"\",IF(D64=3,VLOOKUP(A64,[1]ItemConfig!$A:$C,3,FALSE),\"\"))","v":"飞刃"}]
[12005,12005,{"$f":"IF(A65=\"\",\"\",IF(D65=3,CONCATENATE(\"直接掉落道具：\",VLOOKUP(A65,[1]ItemConfig!$A:$C,3,FALSE)),\"\"))","v":"直接掉落道具：金针"},3,12005,{"$f":"IF(A65=\"\",\"\",IF(D65=3,VLOOKUP(A65,[1]ItemConfig!$A:$C,3,FALSE),\"\"))","v":"金针"}]
[12006,12006,{"$f":"IF(A66=\"\",\"\",IF(D66=3,CONCATENATE(\"直接掉落道具：\",VLOOKUP(A66,[1]ItemConfig!$A:$C,3,FALSE)),\"\"))","v":"直接掉落道具：碧落幽冥劲"},3,12006,{"$f":"IF(A66=\"\",\"\",IF(D66=3,VLOOKUP(A66,[1]ItemConfig!$A:$C,3,FALSE),\"\"))","v":"碧落幽冥劲"}]
[12007,12007,{"$f":"IF(A67=\"\",\"\",IF(D67=3,CONCATENATE(\"直接掉落道具：\",VLOOKUP(A67,[1]ItemConfig!$A:$C,3,FALSE)),\"\"))","v":"直接掉落道具：雾隐千流法"},3,12007,{"$f":"IF(A67=\"\",\"\",IF(D67=3,VLOOKUP(A67,[1]ItemConfig!$A:$C,3,FALSE),\"\"))","v":"雾隐千流法"}]
[12008,12008,{"$f":"IF(A68=\"\",\"\",IF(D68=3,CONCATENATE(\"直接掉落道具：\",VLOOKUP(A68,[1]ItemConfig!$A:$C,3,FALSE)),\"\"))","v":"直接掉落道具：功法-水3"},3,12008,{"$f":"IF(A68=\"\",\"\",IF(D68=3,VLOOKUP(A68,[1]ItemConfig!$A:$C,3,FALSE),\"\"))","v":"功法-水3"}]
[12009,12009,{"$f":"IF(A69=\"\",\"\",IF(D69=3,CONCATENATE(\"直接掉落道具：\",VLOOKUP(A69,[1]ItemConfig!$A:$C,3,FALSE)),\"\"))","v":"直接掉落道具：水球"},3,12009,{"$f":"IF(A69=\"\",\"\",IF(D69=3,VLOOKUP(A69,[1]ItemConfig!$A:$C,3,FALSE),\"\"))","v":"水球"}]
[12010,{"$f":"IF(A70=\"\",\"\",A70)","v":12010},{"$f":"IF(A70=\"\",\"\",IF(D70=3,CONCATENATE(\"直接掉落道具：\",VLOOKUP(A70,[1]ItemConfig!$A:$C,3,FALSE)),\"\"))","v":"直接掉落道具：冰刀"},3,{"$f":"A70","v":12010},{"$f":"IF(A70=\"\",\"\",IF(D70=3,VLOOKUP(A70,[1]ItemConfig!$A:$C,3,FALSE),\"\"))","v":"冰刀"}]
[12011,12011,{"$f":"IF(A71=\"\",\"\",IF(D71=3,CONCATENATE(\"直接掉落道具：\",VLOOKUP(A71,[1]ItemConfig!$A:$C,3,FALSE)),\"\"))","v":"直接掉落道具：瘴影千丝术"},3,12011,{"$f":"IF(A71=\"\",\"\",IF(D71=3,VLOOKUP(A71,[1]ItemConfig!$A:$C,3,FALSE),\"\"))","v":"瘴影千丝术"}]
[12012,12012,{"$f":"IF(A72=\"\",\"\",IF(D72=3,CONCATENATE(\"直接掉落道具：\",VLOOKUP(A72,[1]ItemConfig!$A:$C,3,FALSE)),\"\"))","v":"直接掉落道具：蚀骨腐血掌"},3,12012,{"$f":"IF(A72=\"\",\"\",IF(D72=3,VLOOKUP(A72,[1]ItemConfig!$A:$C,3,FALSE),\"\"))","v":"蚀骨腐血掌"}]
[12013,12013,{"$f":"IF(A73=\"\",\"\",IF(D73=3,CONCATENATE(\"直接掉落道具：\",VLOOKUP(A73,[1]ItemConfig!$A:$C,3,FALSE)),\"\"))","v":"直接掉落道具：功法-木3"},3,12013,{"$f":"IF(A73=\"\",\"\",IF(D73=3,VLOOKUP(A73,[1]ItemConfig!$A:$C,3,FALSE),\"\"))","v":"功法-木3"}]
[12014,12014,{"$f":"IF(A74=\"\",\"\",IF(D74=3,CONCATENATE(\"直接掉落道具：\",VLOOKUP(A74,[1]ItemConfig!$A:$C,3,FALSE)),\"\"))","v":"直接掉落道具：竹刺"},3,12014,{"$f":"IF(A74=\"\",\"\",IF(D74=3,VLOOKUP(A74,[1]ItemConfig!$A:$C,3,FALSE),\"\"))","v":"竹刺"}]
[12015,12015,{"$f":"IF(A75=\"\",\"\",IF(D75=3,CONCATENATE(\"直接掉落道具：\",VLOOKUP(A75,[1]ItemConfig!$A:$C,3,FALSE)),\"\"))","v":"直接掉落道具：飞叶"},3,12015,{"$f":"IF(A75=\"\",\"\",IF(D75=3,VLOOKUP(A75,[1]ItemConfig!$A:$C,3,FALSE),\"\"))","v":"飞叶"}]
[12016,12016,{"$f":"IF(A76=\"\",\"\",IF(D76=3,CONCATENATE(\"直接掉落道具：\",VLOOKUP(A76,[1]ItemConfig!$A:$C,3,FALSE)),\"\"))","v":"直接掉落道具：烈焰剑"},3,12016,{"$f":"IF(A76=\"\",\"\",IF(D76=3,VLOOKUP(A76,[1]ItemConfig!$A:$C,3,FALSE),\"\"))","v":"烈焰剑"}]
[12017,12017,{"$f":"IF(A77=\"\",\"\",IF(D77=3,CONCATENATE(\"直接掉落道具：\",VLOOKUP(A77,[1]ItemConfig!$A:$C,3,FALSE)),\"\"))","v":"直接掉落道具：赤焰龙吟功"},3,12017,{"$f":"IF(A77=\"\",\"\",IF(D77=3,VLOOKUP(A77,[1]ItemConfig!$A:$C,3,FALSE),\"\"))","v":"赤焰龙吟功"}]
[12018,12018,{"$f":"IF(A78=\"\",\"\",IF(D78=3,CONCATENATE(\"直接掉落道具：\",VLOOKUP(A78,[1]ItemConfig!$A:$C,3,FALSE)),\"\"))","v":"直接掉落道具：朱雀燎原指"},3,12018,{"$f":"IF(A78=\"\",\"\",IF(D78=3,VLOOKUP(A78,[1]ItemConfig!$A:$C,3,FALSE),\"\"))","v":"朱雀燎原指"}]
[12019,12019,{"$f":"IF(A79=\"\",\"\",IF(D79=3,CONCATENATE(\"直接掉落道具：\",VLOOKUP(A79,[1]ItemConfig!$A:$C,3,FALSE)),\"\"))","v":"直接掉落道具：火球"},3,12019,{"$f":"IF(A79=\"\",\"\",IF(D79=3,VLOOKUP(A79,[1]ItemConfig!$A:$C,3,FALSE),\"\"))","v":"火球"}]
[12020,12020,{"$f":"IF(A80=\"\",\"\",IF(D80=3,CONCATENATE(\"直接掉落道具：\",VLOOKUP(A80,[1]ItemConfig!$A:$C,3,FALSE)),\"\"))","v":"直接掉落道具：火刀"},3,12020,{"$f":"IF(A80=\"\",\"\",IF(D80=3,VLOOKUP(A80,[1]ItemConfig!$A:$C,3,FALSE),\"\"))","v":"火刀"}]
[12021,12021,{"$f":"IF(A81=\"\",\"\",IF(D81=3,CONCATENATE(\"直接掉落道具：\",VLOOKUP(A81,[1]ItemConfig!$A:$C,3,FALSE)),\"\"))","v":"直接掉落道具：黄尘灭魂刺"},3,12021,{"$f":"IF(A81=\"\",\"\",IF(D81=3,VLOOKUP(A81,[1]ItemConfig!$A:$C,3,FALSE),\"\"))","v":"黄尘灭魂刺"}]
[12022,12022,{"$f":"IF(A82=\"\",\"\",IF(D82=3,CONCATENATE(\"直接掉落道具：\",VLOOKUP(A82,[1]ItemConfig!$A:$C,3,FALSE)),\"\"))","v":"直接掉落道具：地裂屠龙斩"},3,12022,{"$f":"IF(A82=\"\",\"\",IF(D82=3,VLOOKUP(A82,[1]ItemConfig!$A:$C,3,FALSE),\"\"))","v":"地裂屠龙斩"}]
[12023,12023,{"$f":"IF(A83=\"\",\"\",IF(D83=3,CONCATENATE(\"直接掉落道具：\",VLOOKUP(A83,[1]ItemConfig!$A:$C,3,FALSE)),\"\"))","v":"直接掉落道具：功法-土3"},3,12023,{"$f":"IF(A83=\"\",\"\",IF(D83=3,VLOOKUP(A83,[1]ItemConfig!$A:$C,3,FALSE),\"\"))","v":"功法-土3"}]
[12024,12024,{"$f":"IF(A84=\"\",\"\",IF(D84=3,CONCATENATE(\"直接掉落道具：\",VLOOKUP(A84,[1]ItemConfig!$A:$C,3,FALSE)),\"\"))","v":"直接掉落道具：落石"},3,12024,{"$f":"IF(A84=\"\",\"\",IF(D84=3,VLOOKUP(A84,[1]ItemConfig!$A:$C,3,FALSE),\"\"))","v":"落石"}]
[12025,12025,{"$f":"IF(A85=\"\",\"\",IF(D85=3,CONCATENATE(\"直接掉落道具：\",VLOOKUP(A85,[1]ItemConfig!$A:$C,3,FALSE)),\"\"))","v":"直接掉落道具：小石头"},3,12025,{"$f":"IF(A85=\"\",\"\",IF(D85=3,VLOOKUP(A85,[1]ItemConfig!$A:$C,3,FALSE),\"\"))","v":"小石头"}]
[null,"",{"$f":"IF(A86=\"\",\"\",IF(D86=3,CONCATENATE(\"直接掉落道具：\",VLOOKUP(A86,[1]ItemConfig!$A:$C,3,FALSE)),\"\"))","v":""},3,0,{"$f":"IF(A86=\"\",\"\",IF(D86=3,VLOOKUP(A86,[1]ItemConfig!$A:$C,3,FALSE),\"\"))","v":""}]
[12501,12501,{"$f":"IF(A87=\"\",\"\",IF(D87=3,CONCATENATE(\"直接掉落道具：\",VLOOKUP(A87,[1]ItemConfig!$A:$C,3,FALSE)),\"\"))","v":"直接掉落道具：天衍星辰诀"},3,12501,{"$f":"IF(A87=\"\",\"\",IF(D87=3,VLOOKUP(A87,[1]ItemConfig!$A:$C,3,FALSE),\"\"))","v":"天衍星辰诀"}]
[12502,12502,{"$f":"IF(A88=\"\",\"\",IF(D88=3,CONCATENATE(\"直接掉落道具：\",VLOOKUP(A88,[1]ItemConfig!$A:$C,3,FALSE)),\"\"))","v":"直接掉落道具：法宝秘籍"},3,12502,{"$f":"IF(A88=\"\",\"\",IF(D88=3,VLOOKUP(A88,[1]ItemConfig!$A:$C,3,FALSE),\"\"))","v":"法宝秘籍"}]
[12503,12503,{"$f":"IF(A89=\"\",\"\",IF(D89=3,CONCATENATE(\"直接掉落道具：\",VLOOKUP(A89,[1]ItemConfig!$A:$C,3,FALSE)),\"\"))","v":"直接掉落道具：崩脉决"},3,12503,{"$f":"IF(A89=\"\",\"\",IF(D89=3,VLOOKUP(A89,[1]ItemConfig!$A:$C,3,FALSE),\"\"))","v":"崩脉决"}]
[12504,12504,{"$f":"IF(A90=\"\",\"\",IF(D90=3,CONCATENATE(\"直接掉落道具：\",VLOOKUP(A90,[1]ItemConfig!$A:$C,3,FALSE)),\"\"))","v":"直接掉落道具：两仪决"},3,12504,{"$f":"IF(A90=\"\",\"\",IF(D90=3,VLOOKUP(A90,[1]ItemConfig!$A:$C,3,FALSE),\"\"))","v":"两仪决"}]
[12505,12505,{"$f":"IF(A91=\"\",\"\",IF(D91=3,CONCATENATE(\"直接掉落道具：\",VLOOKUP(A91,[1]ItemConfig!$A:$C,3,FALSE)),\"\"))","v":"直接掉落道具：火焰决"},3,12505,{"$f":"IF(A91=\"\",\"\",IF(D91=3,VLOOKUP(A91,[1]ItemConfig!$A:$C,3,FALSE),\"\"))","v":"火焰决"}]
[12506,12506,{"$f":"IF(A92=\"\",\"\",IF(D92=3,CONCATENATE(\"直接掉落道具：\",VLOOKUP(A92,[1]ItemConfig!$A:$C,3,FALSE)),\"\"))","v":"直接掉落道具：乾坤巨灵诀"},3,12506,{"$f":"IF(A92=\"\",\"\",IF(D92=3,VLOOKUP(A92,[1]ItemConfig!$A:$C,3,FALSE),\"\"))","v":"乾坤巨灵诀"}]
[12507,12507,{"$f":"IF(A93=\"\",\"\",IF(D93=3,CONCATENATE(\"直接掉落道具：\",VLOOKUP(A93,[1]ItemConfig!$A:$C,3,FALSE)),\"\"))","v":"直接掉落道具：极速齿轮"},3,12507,{"$f":"IF(A93=\"\",\"\",IF(D93=3,VLOOKUP(A93,[1]ItemConfig!$A:$C,3,FALSE),\"\"))","v":"极速齿轮"}]
[12508,12508,{"$f":"IF(A94=\"\",\"\",IF(D94=3,CONCATENATE(\"直接掉落道具：\",VLOOKUP(A94,[1]ItemConfig!$A:$C,3,FALSE)),\"\"))","v":"直接掉落道具：太虚剑意"},3,12508,{"$f":"IF(A94=\"\",\"\",IF(D94=3,VLOOKUP(A94,[1]ItemConfig!$A:$C,3,FALSE),\"\"))","v":"太虚剑意"}]
[12509,12509,{"$f":"IF(A95=\"\",\"\",IF(D95=3,CONCATENATE(\"直接掉落道具：\",VLOOKUP(A95,[1]ItemConfig!$A:$C,3,FALSE)),\"\"))","v":"直接掉落道具：青莲净体诀"},3,12509,{"$f":"IF(A95=\"\",\"\",IF(D95=3,VLOOKUP(A95,[1]ItemConfig!$A:$C,3,FALSE),\"\"))","v":"青莲净体诀"}]
[12510,12510,{"$f":"IF(A96=\"\",\"\",IF(D96=3,CONCATENATE(\"直接掉落道具：\",VLOOKUP(A96,[1]ItemConfig!$A:$C,3,FALSE)),\"\"))","v":"直接掉落道具：碧霄回春术"},3,12510,{"$f":"IF(A96=\"\",\"\",IF(D96=3,VLOOKUP(A96,[1]ItemConfig!$A:$C,3,FALSE),\"\"))","v":"碧霄回春术"}]
[null,"",{"$f":"IF(A97=\"\",\"\",IF(D97=3,CONCATENATE(\"直接掉落道具：\",VLOOKUP(A97,[1]ItemConfig!$A:$C,3,FALSE)),\"\"))","v":""},3,0,{"$f":"IF(A97=\"\",\"\",IF(D97=3,VLOOKUP(A97,[1]ItemConfig!$A:$C,3,FALSE),\"\"))","v":""}]
[13001,13001,{"$f":"IF(A98=\"\",\"\",IF(D98=3,CONCATENATE(\"直接掉落道具：\",VLOOKUP(A98,[1]ItemConfig!$A:$C,3,FALSE)),\"\"))","v":"直接掉落道具：太虚幻剑经碎片"},3,13001,{"$f":"IF(A98=\"\",\"\",IF(D98=3,VLOOKUP(A98,[1]ItemConfig!$A:$C,3,FALSE),\"\"))","v":"太虚幻剑经碎片"}]
[13002,13002,{"$f":"IF(A99=\"\",\"\",IF(D99=3,CONCATENATE(\"直接掉落道具：\",VLOOKUP(A99,[1]ItemConfig!$A:$C,3,FALSE)),\"\"))","v":"直接掉落道具：天罡剑气诀碎片"},3,13002,{"$f":"IF(A99=\"\",\"\",IF(D99=3,VLOOKUP(A99,[1]ItemConfig!$A:$C,3,FALSE),\"\"))","v":"天罡剑气诀碎片"}]
[13003,13003,{"$f":"IF(A100=\"\",\"\",IF(D100=3,CONCATENATE(\"直接掉落道具：\",VLOOKUP(A100,[1]ItemConfig!$A:$C,3,FALSE)),\"\"))","v":"直接掉落道具：血刃金煌功碎片"},3,13003,{"$f":"IF(A100=\"\",\"\",IF(D100=3,VLOOKUP(A100,[1]ItemConfig!$A:$C,3,FALSE),\"\"))","v":"血刃金煌功碎片"}]
[13004,13004,{"$f":"IF(A101=\"\",\"\",IF(D101=3,CONCATENATE(\"直接掉落道具：\",VLOOKUP(A101,[1]ItemConfig!$A:$C,3,FALSE)),\"\"))","v":"直接掉落道具：飞刃碎片"},3,13004,{"$f":"IF(A101=\"\",\"\",IF(D101=3,VLOOKUP(A101,[1]ItemConfig!$A:$C,3,FALSE),\"\"))","v":"飞刃碎片"}]
[13005,13005,{"$f":"IF(A102=\"\",\"\",IF(D102=3,CONCATENATE(\"直接掉落道具：\",VLOOKUP(A102,[1]ItemConfig!$A:$C,3,FALSE)),\"\"))","v":"直接掉落道具：金针碎片"},3,13005,{"$f":"IF(A102=\"\",\"\",IF(D102=3,VLOOKUP(A102,[1]ItemConfig!$A:$C,3,FALSE),\"\"))","v":"金针碎片"}]
[13006,13006,{"$f":"IF(A103=\"\",\"\",IF(D103=3,CONCATENATE(\"直接掉落道具：\",VLOOKUP(A103,[1]ItemConfig!$A:$C,3,FALSE)),\"\"))","v":"直接掉落道具：碧落幽冥劲碎片"},3,13006,{"$f":"IF(A103=\"\",\"\",IF(D103=3,VLOOKUP(A103,[1]ItemConfig!$A:$C,3,FALSE),\"\"))","v":"碧落幽冥劲碎片"}]
[13007,13007,{"$f":"IF(A104=\"\",\"\",IF(D104=3,CONCATENATE(\"直接掉落道具：\",VLOOKUP(A104,[1]ItemConfig!$A:$C,3,FALSE)),\"\"))","v":"直接掉落道具：雾隐千流法碎片"},3,13007,{"$f":"IF(A104=\"\",\"\",IF(D104=3,VLOOKUP(A104,[1]ItemConfig!$A:$C,3,FALSE),\"\"))","v":"雾隐千流法碎片"}]
[13008,13008,{"$f":"IF(A105=\"\",\"\",IF(D105=3,CONCATENATE(\"直接掉落道具：\",VLOOKUP(A105,[1]ItemConfig!$A:$C,3,FALSE)),\"\"))","v":"直接掉落道具：功法-水3碎片"},3,13008,{"$f":"IF(A105=\"\",\"\",IF(D105=3,VLOOKUP(A105,[1]ItemConfig!$A:$C,3,FALSE),\"\"))","v":"功法-水3碎片"}]
[13009,13009,{"$f":"IF(A106=\"\",\"\",IF(D106=3,CONCATENATE(\"直接掉落道具：\",VLOOKUP(A106,[1]ItemConfig!$A:$C,3,FALSE)),\"\"))","v":"直接掉落道具：水球碎片"},3,13009,{"$f":"IF(A106=\"\",\"\",IF(D106=3,VLOOKUP(A106,[1]ItemConfig!$A:$C,3,FALSE),\"\"))","v":"水球碎片"}]
[13010,13010,{"$f":"IF(A107=\"\",\"\",IF(D107=3,CONCATENATE(\"直接掉落道具：\",VLOOKUP(A107,[1]ItemConfig!$A:$C,3,FALSE)),\"\"))","v":"直接掉落道具：冰刀碎片"},3,13010,{"$f":"IF(A107=\"\",\"\",IF(D107=3,VLOOKUP(A107,[1]ItemConfig!$A:$C,3,FALSE),\"\"))","v":"冰刀碎片"}]
[13011,13011,{"$f":"IF(A108=\"\",\"\",IF(D108=3,CONCATENATE(\"直接掉落道具：\",VLOOKUP(A108,[1]ItemConfig!$A:$C,3,FALSE)),\"\"))","v":"直接掉落道具：瘴影千丝术碎片"},3,13011,{"$f":"IF(A108=\"\",\"\",IF(D108=3,VLOOKUP(A108,[1]ItemConfig!$A:$C,3,FALSE),\"\"))","v":"瘴影千丝术碎片"}]
[13012,13012,{"$f":"IF(A109=\"\",\"\",IF(D109=3,CONCATENATE(\"直接掉落道具：\",VLOOKUP(A109,[1]ItemConfig!$A:$C,3,FALSE)),\"\"))","v":"直接掉落道具：蚀骨腐血掌碎片"},3,13012,{"$f":"IF(A109=\"\",\"\",IF(D109=3,VLOOKUP(A109,[1]ItemConfig!$A:$C,3,FALSE),\"\"))","v":"蚀骨腐血掌碎片"}]
[13013,13013,{"$f":"IF(A110=\"\",\"\",IF(D110=3,CONCATENATE(\"直接掉落道具：\",VLOOKUP(A110,[1]ItemConfig!$A:$C,3,FALSE)),\"\"))","v":"直接掉落道具：功法-木3碎片"},3,13013,{"$f":"IF(A110=\"\",\"\",IF(D110=3,VLOOKUP(A110,[1]ItemConfig!$A:$C,3,FALSE),\"\"))","v":"功法-木3碎片"}]
[13014,13014,{"$f":"IF(A111=\"\",\"\",IF(D111=3,CONCATENATE(\"直接掉落道具：\",VLOOKUP(A111,[1]ItemConfig!$A:$C,3,FALSE)),\"\"))","v":"直接掉落道具：竹刺碎片"},3,13014,{"$f":"IF(A111=\"\",\"\",IF(D111=3,VLOOKUP(A111,[1]ItemConfig!$A:$C,3,FALSE),\"\"))","v":"竹刺碎片"}]
[13015,13015,{"$f":"IF(A112=\"\",\"\",IF(D112=3,CONCATENATE(\"直接掉落道具：\",VLOOKUP(A112,[1]ItemConfig!$A:$C,3,FALSE)),\"\"))","v":"直接掉落道具：飞叶碎片"},3,13015,{"$f":"IF(A112=\"\",\"\",IF(D112=3,VLOOKUP(A112,[1]ItemConfig!$A:$C,3,FALSE),\"\"))","v":"飞叶碎片"}]
[13016,13016,{"$f":"IF(A113=\"\",\"\",IF(D113=3,CONCATENATE(\"直接掉落道具：\",VLOOKUP(A113,[1]ItemConfig!$A:$C,3,FALSE)),\"\"))","v":"直接掉落道具：烈焰剑碎片"},3,13016,{"$f":"IF(A113=\"\",\"\",IF(D113=3,VLOOKUP(A113,[1]ItemConfig!$A:$C,3,FALSE),\"\"))","v":"烈焰剑碎片"}]
[13017,13017,{"$f":"IF(A114=\"\",\"\",IF(D114=3,CONCATENATE(\"直接掉落道具：\",VLOOKUP(A114,[1]ItemConfig!$A:$C,3,FALSE)),\"\"))","v":"直接掉落道具：赤焰龙吟功碎片"},3,13017,{"$f":"IF(A114=\"\",\"\",IF(D114=3,VLOOKUP(A114,[1]ItemConfig!$A:$C,3,FALSE),\"\"))","v":"赤焰龙吟功碎片"}]
[13018,13018,{"$f":"IF(A115=\"\",\"\",IF(D115=3,CONCATENATE(\"直接掉落道具：\",VLOOKUP(A115,[1]ItemConfig!$A:$C,3,FALSE)),\"\"))","v":"直接掉落道具：朱雀燎原指碎片"},3,13018,{"$f":"IF(A115=\"\",\"\",IF(D115=3,VLOOKUP(A115,[1]ItemConfig!$A:$C,3,FALSE),\"\"))","v":"朱雀燎原指碎片"}]
[13019,13019,{"$f":"IF(A116=\"\",\"\",IF(D116=3,CONCATENATE(\"直接掉落道具：\",VLOOKUP(A116,[1]ItemConfig!$A:$C,3,FALSE)),\"\"))","v":"直接掉落道具：火球碎片"},3,13019,{"$f":"IF(A116=\"\",\"\",IF(D116=3,VLOOKUP(A116,[1]ItemConfig!$A:$C,3,FALSE),\"\"))","v":"火球碎片"}]
[13020,13020,{"$f":"IF(A117=\"\",\"\",IF(D117=3,CONCATENATE(\"直接掉落道具：\",VLOOKUP(A117,[1]ItemConfig!$A:$C,3,FALSE)),\"\"))","v":"直接掉落道具：火刀碎片"},3,13020,{"$f":"IF(A117=\"\",\"\",IF(D117=3,VLOOKUP(A117,[1]ItemConfig!$A:$C,3,FALSE),\"\"))","v":"火刀碎片"}]
[13021,13021,{"$f":"IF(A118=\"\",\"\",IF(D118=3,CONCATENATE(\"直接掉落道具：\",VLOOKUP(A118,[1]ItemConfig!$A:$C,3,FALSE)),\"\"))","v":"直接掉落道具：黄尘灭魂刺碎片"},3,13021,{"$f":"IF(A118=\"\",\"\",IF(D118=3,VLOOKUP(A118,[1]ItemConfig!$A:$C,3,FALSE),\"\"))","v":"黄尘灭魂刺碎片"}]
[13022,13022,{"$f":"IF(A119=\"\",\"\",IF(D119=3,CONCATENATE(\"直接掉落道具：\",VLOOKUP(A119,[1]ItemConfig!$A:$C,3,FALSE)),\"\"))","v":"直接掉落道具：地裂屠龙斩碎片"},3,13022,{"$f":"IF(A119=\"\",\"\",IF(D119=3,VLOOKUP(A119,[1]ItemConfig!$A:$C,3,FALSE),\"\"))","v":"地裂屠龙斩碎片"}]
[13023,13023,{"$f":"IF(A120=\"\",\"\",IF(D120=3,CONCATENATE(\"直接掉落道具：\",VLOOKUP(A120,[1]ItemConfig!$A:$C,3,FALSE)),\"\"))","v":"直接掉落道具：功法-土3碎片"},3,13023,{"$f":"IF(A120=\"\",\"\",IF(D120=3,VLOOKUP(A120,[1]ItemConfig!$A:$C,3,FALSE),\"\"))","v":"功法-土3碎片"}]
[13024,13024,{"$f":"IF(A121=\"\",\"\",IF(D121=3,CONCATENATE(\"直接掉落道具：\",VLOOKUP(A121,[1]ItemConfig!$A:$C,3,FALSE)),\"\"))","v":"直接掉落道具：落石碎片"},3,13024,{"$f":"IF(A121=\"\",\"\",IF(D121=3,VLOOKUP(A121,[1]ItemConfig!$A:$C,3,FALSE),\"\"))","v":"落石碎片"}]
[13025,13025,{"$f":"IF(A122=\"\",\"\",IF(D122=3,CONCATENATE(\"直接掉落道具：\",VLOOKUP(A122,[1]ItemConfig!$A:$C,3,FALSE)),\"\"))","v":"直接掉落道具：小石头碎片"},3,13025,{"$f":"IF(A122=\"\",\"\",IF(D122=3,VLOOKUP(A122,[1]ItemConfig!$A:$C,3,FALSE),\"\"))","v":"小石头碎片"}]
[null,"",{"$f":"IF(A123=\"\",\"\",IF(D123=3,CONCATENATE(\"直接掉落道具：\",VLOOKUP(A123,[1]ItemConfig!$A:$C,3,FALSE)),\"\"))","v":""},3,0,{"$f":"IF(A123=\"\",\"\",IF(D123=3,VLOOKUP(A123,[1]ItemConfig!$A:$C,3,FALSE),\"\"))","v":""}]
[13501,13501,{"$f":"IF(A124=\"\",\"\",IF(D124=3,CONCATENATE(\"直接掉落道具：\",VLOOKUP(A124,[1]ItemConfig!$A:$C,3,FALSE)),\"\"))","v":"直接掉落道具：天衍星辰诀碎片"},3,13501,{"$f":"IF(A124=\"\",\"\",IF(D124=3,VLOOKUP(A124,[1]ItemConfig!$A:$C,3,FALSE),\"\"))","v":"天衍星辰诀碎片"}]
[13502,13502,{"$f":"IF(A125=\"\",\"\",IF(D125=3,CONCATENATE(\"直接掉落道具：\",VLOOKUP(A125,[1]ItemConfig!$A:$C,3,FALSE)),\"\"))","v":"直接掉落道具：法宝秘籍碎片"},3,13502,{"$f":"IF(A125=\"\",\"\",IF(D125=3,VLOOKUP(A125,[1]ItemConfig!$A:$C,3,FALSE),\"\"))","v":"法宝秘籍碎片"}]
[13503,13503,{"$f":"IF(A126=\"\",\"\",IF(D126=3,CONCATENATE(\"直接掉落道具：\",VLOOKUP(A126,[1]ItemConfig!$A:$C,3,FALSE)),\"\"))","v":"直接掉落道具：崩脉决碎片"},3,13503,{"$f":"IF(A126=\"\",\"\",IF(D126=3,VLOOKUP(A126,[1]ItemConfig!$A:$C,3,FALSE),\"\"))","v":"崩脉决碎片"}]
[13504,13504,{"$f":"IF(A127=\"\",\"\",IF(D127=3,CONCATENATE(\"直接掉落道具：\",VLOOKUP(A127,[1]ItemConfig!$A:$C,3,FALSE)),\"\"))","v":"直接掉落道具：两仪决碎片"},3,13504,{"$f":"IF(A127=\"\",\"\",IF(D127=3,VLOOKUP(A127,[1]ItemConfig!$A:$C,3,FALSE),\"\"))","v":"两仪决碎片"}]
[13505,13505,{"$f":"IF(A128=\"\",\"\",IF(D128=3,CONCATENATE(\"直接掉落道具：\",VLOOKUP(A128,[1]ItemConfig!$A:$C,3,FALSE)),\"\"))","v":"直接掉落道具：火焰决碎片"},3,13505,{"$f":"IF(A128=\"\",\"\",IF(D128=3,VLOOKUP(A128,[1]ItemConfig!$A:$C,3,FALSE),\"\"))","v":"火焰决碎片"}]
[13506,13506,{"$f":"IF(A129=\"\",\"\",IF(D129=3,CONCATENATE(\"直接掉落道具：\",VLOOKUP(A129,[1]ItemConfig!$A:$C,3,FALSE)),\"\"))","v":"直接掉落道具：乾坤巨灵诀碎片"},3,13506,{"$f":"IF(A129=\"\",\"\",IF(D129=3,VLOOKUP(A129,[1]ItemConfig!$A:$C,3,FALSE),\"\"))","v":"乾坤巨灵诀碎片"}]
[13507,13507,{"$f":"IF(A130=\"\",\"\",IF(D130=3,CONCATENATE(\"直接掉落道具：\",VLOOKUP(A130,[1]ItemConfig!$A:$C,3,FALSE)),\"\"))","v":"直接掉落道具：极速齿轮碎片"},3,13507,{"$f":"IF(A130=\"\",\"\",IF(D130=3,VLOOKUP(A130,[1]ItemConfig!$A:$C,3,FALSE),\"\"))","v":"极速齿轮碎片"}]
[13508,13508,{"$f":"IF(A131=\"\",\"\",IF(D131=3,CONCATENATE(\"直接掉落道具：\",VLOOKUP(A131,[1]ItemConfig!$A:$C,3,FALSE)),\"\"))","v":"直接掉落道具：太虚剑意碎片"},3,13508,{"$f":"IF(A131=\"\",\"\",IF(D131=3,VLOOKUP(A131,[1]ItemConfig!$A:$C,3,FALSE),\"\"))","v":"太虚剑意碎片"}]
[13509,13509,{"$f":"IF(A132=\"\",\"\",IF(D132=3,CONCATENATE(\"直接掉落道具：\",VLOOKUP(A132,[1]ItemConfig!$A:$C,3,FALSE)),\"\"))","v":"直接掉落道具：青莲净体诀碎片"},3,13509,{"$f":"IF(A132=\"\",\"\",IF(D132=3,VLOOKUP(A132,[1]ItemConfig!$A:$C,3,FALSE),\"\"))","v":"青莲净体诀碎片"}]
[13510,13510,{"$f":"IF(A133=\"\",\"\",IF(D133=3,CONCATENATE(\"直接掉落道具：\",VLOOKUP(A133,[1]ItemConfig!$A:$C,3,FALSE)),\"\"))","v":"直接掉落道具：碧霄回春术碎片"},3,13510,{"$f":"IF(A133=\"\",\"\",IF(D133=3,VLOOKUP(A133,[1]ItemConfig!$A:$C,3,FALSE),\"\"))","v":"碧霄回春术碎片"}]
[null,null,{"$f":"IF(A134=\"\",\"\",IF(D134=3,CONCATENATE(\"直接掉落道具：\",VLOOKUP(A134,[1]ItemConfig!$A:$C,3,FALSE)),\"\"))","v":""},null,0]
[20001,{"$f":"IF(A135=\"\",\"\",A135)","v":20001},{"$f":"IF(A135=\"\",\"\",IF(D135=3,CONCATENATE(\"直接掉落道具：\",VLOOKUP(A135,[1]ItemConfig!$A:$C,3,FALSE)),\"\"))","v":"直接掉落道具：樗木之灵的树枝"},3,{"$f":"A135","v":20001},{"$f":"IF(A135=\"\",\"\",IF(D135=3,VLOOKUP(A135,[1]ItemConfig!$A:$C,3,FALSE),\"\"))","v":"樗木之灵的树枝"}]
[20002,20002,{"$f":"IF(A136=\"\",\"\",IF(D136=3,CONCATENATE(\"直接掉落道具：\",VLOOKUP(A136,[1]ItemConfig!$A:$C,3,FALSE)),\"\"))","v":"直接掉落道具：飞天灵兽的翅膀"},3,20002,{"$f":"IF(A136=\"\",\"\",IF(D136=3,VLOOKUP(A136,[1]ItemConfig!$A:$C,3,FALSE),\"\"))","v":"飞天灵兽的翅膀"}]
[20003,20003,{"$f":"IF(A137=\"\",\"\",IF(D137=3,CONCATENATE(\"直接掉落道具：\",VLOOKUP(A137,[1]ItemConfig!$A:$C,3,FALSE)),\"\"))","v":"直接掉落道具：灵草种子"},3,20003,{"$f":"IF(A137=\"\",\"\",IF(D137=3,VLOOKUP(A137,[1]ItemConfig!$A:$C,3,FALSE),\"\"))","v":"灵草种子"}]
[]
[999001,{"$f":"_xlfn.TEXTJOIN(\";\",1,H139:R139)","v":"1;2;3"},"法宝掉落",2,10001,{"$f":"IF(A139=\"\",\"\",IF(D139=3,VLOOKUP(A139,[1]ItemConfig!$A:$C,3,FALSE),\"\"))","v":""},null,1,2,3]
[999002,{"$f":"_xlfn.TEXTJOIN(\";\",1,H140:R140)","v":"4;5;6"},"功法掉落",2,12001,{"$f":"IF(A140=\"\",\"\",IF(D140=3,VLOOKUP(A140,[1]ItemConfig!$A:$C,3,FALSE),\"\"))","v":""},null,4,5,6]
[]
[21001,{"$f":"IF(A142=\"\",\"\",A142)","v":21001},{"$f":"IF(A142=\"\",\"\",IF(D142=3,CONCATENATE(\"直接掉落道具：\",VLOOKUP(A142,[1]ItemConfig!$A:$C,3,FALSE)),\"\"))","v":"直接掉落道具：神识符-灵石"},{"$f":"IF(A142=\"\",\"\",3)","v":3},{"$f":"IF(A142=\"\",\"\",A142)","v":21001},{"$f":"IF(A142=\"\",\"\",IF(D142=3,VLOOKUP(A142,[1]ItemConfig!$A:$C,3,FALSE),\"\"))","v":"神识符-灵石"}]
[21002,{"$f":"IF(A143=\"\",\"\",A143)","v":21002},{"$f":"IF(A143=\"\",\"\",IF(D143=3,CONCATENATE(\"直接掉落道具：\",VLOOKUP(A143,[1]ItemConfig!$A:$C,3,FALSE)),\"\"))","v":"直接掉落道具：神识符-修为"},{"$f":"IF(A143=\"\",\"\",3)","v":3},{"$f":"IF(A143=\"\",\"\",A143)","v":21002},{"$f":"IF(A143=\"\",\"\",IF(D143=3,VLOOKUP(A143,[1]ItemConfig!$A:$C,3,FALSE),\"\"))","v":"神识符-修为"}]
[21003,21003,{"$f":"IF(A144=\"\",\"\",IF(D144=3,CONCATENATE(\"直接掉落道具：\",VLOOKUP(A144,[1]ItemConfig!$A:$C,3,FALSE)),\"\"))","v":"直接掉落道具：神识符-灵气"},3,21003,{"$f":"IF(A144=\"\",\"\",IF(D144=3,VLOOKUP(A144,[1]ItemConfig!$A:$C,3,FALSE),\"\"))","v":"神识符-灵气"}]
[21004,21004,{"$f":"IF(A145=\"\",\"\",IF(D145=3,CONCATENATE(\"直接掉落道具：\",VLOOKUP(A145,[1]ItemConfig!$A:$C,3,FALSE)),\"\"))","v":"直接掉落道具：神识符-玄晶"},3,21004,{"$f":"IF(A145=\"\",\"\",IF(D145=3,VLOOKUP(A145,[1]ItemConfig!$A:$C,3,FALSE),\"\"))","v":"神识符-玄晶"}]
[21005,21005,{"$f":"IF(A146=\"\",\"\",IF(D146=3,CONCATENATE(\"直接掉落道具：\",VLOOKUP(A146,[1]ItemConfig!$A:$C,3,FALSE)),\"\"))","v":"直接掉落道具：神识符-功法碎片"},3,21005,{"$f":"IF(A146=\"\",\"\",IF(D146=3,VLOOKUP(A146,[1]ItemConfig!$A:$C,3,FALSE),\"\"))","v":"神识符-功法碎片"}]
[21006,21006,{"$f":"IF(A147=\"\",\"\",IF(D147=3,CONCATENATE(\"直接掉落道具：\",VLOOKUP(A147,[1]ItemConfig!$A:$C,3,FALSE)),\"\"))","v":"直接掉落道具：神识符-法宝碎片"},3,21006,{"$f":"IF(A147=\"\",\"\",IF(D147=3,VLOOKUP(A147,[1]ItemConfig!$A:$C,3,FALSE),\"\"))","v":"神识符-法宝碎片"}]
[21007,21007,{"$f":"IF(A148=\"\",\"\",IF(D148=3,CONCATENATE(\"直接掉落道具：\",VLOOKUP(A148,[1]ItemConfig!$A:$C,3,FALSE)),\"\"))","v":"直接掉落道具：神识符-修为丹"},3,21007,{"$f":"IF(A148=\"\",\"\",IF(D148=3,VLOOKUP(A148,[1]ItemConfig!$A:$C,3,FALSE),\"\"))","v":"神识符-修为丹"}]
[21008,21008,{"$f":"IF(A149=\"\",\"\",IF(D149=3,CONCATENATE(\"直接掉落道具：\",VLOOKUP(A149,[1]ItemConfig!$A:$C,3,FALSE)),\"\"))","v":"直接掉落道具：神识符-天材地宝"},3,21008,{"$f":"IF(A149=\"\",\"\",IF(D149=3,VLOOKUP(A149,[1]ItemConfig!$A:$C,3,FALSE),\"\"))","v":"神识符-天材地宝"}]
[21009,21009,{"$f":"IF(A150=\"\",\"\",IF(D150=3,CONCATENATE(\"直接掉落道具：\",VLOOKUP(A150,[1]ItemConfig!$A:$C,3,FALSE)),\"\"))","v":"直接掉落道具：神识符-渡劫丹"},3,21009,{"$f":"IF(A150=\"\",\"\",IF(D150=3,VLOOKUP(A150,[1]ItemConfig!$A:$C,3,FALSE),\"\"))","v":"神识符-渡劫丹"}]
[21010,21010,{"$f":"IF(A151=\"\",\"\",IF(D151=3,CONCATENATE(\"直接掉落道具：\",VLOOKUP(A151,[1]ItemConfig!$A:$C,3,FALSE)),\"\"))","v":"直接掉落道具：神识符-好感度礼物"},3,21010,{"$f":"IF(A151=\"\",\"\",IF(D151=3,VLOOKUP(A151,[1]ItemConfig!$A:$C,3,FALSE),\"\"))","v":"神识符-好感度礼物"}]
[21011,21011,{"$f":"IF(A152=\"\",\"\",IF(D152=3,CONCATENATE(\"直接掉落道具：\",VLOOKUP(A152,[1]ItemConfig!$A:$C,3,FALSE)),\"\"))","v":"直接掉落道具：神识符-心情礼物"},3,21011,{"$f":"IF(A152=\"\",\"\",IF(D152=3,VLOOKUP(A152,[1]ItemConfig!$A:$C,3,FALSE),\"\"))","v":"神识符-心情礼物"}]
[21012,21012,{"$f":"IF(A153=\"\",\"\",IF(D153=3,CONCATENATE(\"直接掉落道具：\",VLOOKUP(A153,[1]ItemConfig!$A:$C,3,FALSE)),\"\"))","v":"直接掉落道具：紫色神识提升符"},3,21012,{"$f":"IF(A153=\"\",\"\",IF(D153=3,VLOOKUP(A153,[1]ItemConfig!$A:$C,3,FALSE),\"\"))","v":"紫色神识提升符"}]
[21013,21013,{"$f":"IF(A154=\"\",\"\",IF(D154=3,CONCATENATE(\"直接掉落道具：\",VLOOKUP(A154,[1]ItemConfig!$A:$C,3,FALSE)),\"\"))","v":"直接掉落道具：橙色神识提升符"},3,21013,{"$f":"IF(A154=\"\",\"\",IF(D154=3,VLOOKUP(A154,[1]ItemConfig!$A:$C,3,FALSE),\"\"))","v":"橙色神识提升符"}]
[null,"",{"$f":"IF(A155=\"\",\"\",IF(D155=3,CONCATENATE(\"直接掉落道具：\",VLOOKUP(A155,[1]ItemConfig!$A:$C,3,FALSE)),\"\"))","v":""},"","",{"$f":"IF(A155=\"\",\"\",IF(D155=3,VLOOKUP(A155,[1]ItemConfig!$A:$C,3,FALSE),\"\"))","v":""}]
[22001,22001,{"$f":"IF(A156=\"\",\"\",IF(D156=3,CONCATENATE(\"直接掉落道具：\",VLOOKUP(A156,[1]ItemConfig!$A:$C,3,FALSE)),\"\"))","v":"直接掉落道具：感悟点1"},3,22001,{"$f":"IF(A156=\"\",\"\",IF(D156=3,VLOOKUP(A156,[1]ItemConfig!$A:$C,3,FALSE),\"\"))","v":"感悟点1"}]
[22002,22002,{"$f":"IF(A157=\"\",\"\",IF(D157=3,CONCATENATE(\"直接掉落道具：\",VLOOKUP(A157,[1]ItemConfig!$A:$C,3,FALSE)),\"\"))","v":"直接掉落道具：感悟点2"},3,22002,{"$f":"IF(A157=\"\",\"\",IF(D157=3,VLOOKUP(A157,[1]ItemConfig!$A:$C,3,FALSE),\"\"))","v":"感悟点2"}]
[22003,22003,{"$f":"IF(A158=\"\",\"\",IF(D158=3,CONCATENATE(\"直接掉落道具：\",VLOOKUP(A158,[1]ItemConfig!$A:$C,3,FALSE)),\"\"))","v":"直接掉落道具：感悟点3"},3,22003,{"$f":"IF(A158=\"\",\"\",IF(D158=3,VLOOKUP(A158,[1]ItemConfig!$A:$C,3,FALSE),\"\"))","v":"感悟点3"}]
[22004,22004,{"$f":"IF(A159=\"\",\"\",IF(D159=3,CONCATENATE(\"直接掉落道具：\",VLOOKUP(A159,[1]ItemConfig!$A:$C,3,FALSE)),\"\"))","v":"直接掉落道具：感悟点4"},3,22004,{"$f":"IF(A159=\"\",\"\",IF(D159=3,VLOOKUP(A159,[1]ItemConfig!$A:$C,3,FALSE),\"\"))","v":"感悟点4"}]
[22005,22005,{"$f":"IF(A160=\"\",\"\",IF(D160=3,CONCATENATE(\"直接掉落道具：\",VLOOKUP(A160,[1]ItemConfig!$A:$C,3,FALSE)),\"\"))","v":"直接掉落道具：感悟点5"},3,22005,{"$f":"IF(A160=\"\",\"\",IF(D160=3,VLOOKUP(A160,[1]ItemConfig!$A:$C,3,FALSE),\"\"))","v":"感悟点5"}]
[22006,22006,{"$f":"IF(A161=\"\",\"\",IF(D161=3,CONCATENATE(\"直接掉落道具：\",VLOOKUP(A161,[1]ItemConfig!$A:$C,3,FALSE)),\"\"))","v":"直接掉落道具：感悟点6"},3,22006,{"$f":"IF(A161=\"\",\"\",IF(D161=3,VLOOKUP(A161,[1]ItemConfig!$A:$C,3,FALSE),\"\"))","v":"感悟点6"}]
[22007,22007,{"$f":"IF(A162=\"\",\"\",IF(D162=3,CONCATENATE(\"直接掉落道具：\",VLOOKUP(A162,[1]ItemConfig!$A:$C,3,FALSE)),\"\"))","v":"直接掉落道具：感悟点7"},3,22007,{"$f":"IF(A162=\"\",\"\",IF(D162=3,VLOOKUP(A162,[1]ItemConfig!$A:$C,3,FALSE),\"\"))","v":"感悟点7"}]
[]
[999003,null,"乾坤袋-每分钟随机掉落3种资源",2,1001,"乾坤袋-每分钟随机掉落3种资源"]

{"sheet":"DropGroupConfig","index":1,"n_rows":12,"n_cols":6,"rows_kept":12,"cut":false,"hidden":false,"merged":[]}
["ID","dropRate","dropItemID"]
["int","int","int[]"]
[]
["掉落组ID","掉落概率\\权重\n1000为100%",null,"备注1","备注2","备注3\n（完整版数据）"]
[1,650,1,"法宝-蓝色"]
[2,250,2,"法宝-紫色"]
[3,100,3,"法宝-橙色"]
[4,400,4,"功法-蓝色"]
[5,300,5,"功法-紫色"]
[6,300,6,"功法-橙色"]
[]
[7,1000,7,"乾坤袋-每分钟随机掉落3种资源"]

{"sheet":"DropItemConfig","index":2,"n_rows":12,"n_cols":31,"rows_kept":12,"cut":false,"hidden":false,"merged":[]}
["ID","dropItemType","itemID",null,null,"dropMinV","dropMaxV","dropCountGoupID"]
["int","int","int[]",null,null,"int","int","int"]
[]
["ID号","道具类型\n1=道具\n2=装备稀有度\n3=装备等级\n4=完整装备(品质和等级随机)\n5=完整装备，品质固定(等级随机)","道具ID",null,"道具名称（策划）","掉落最小数量","掉落最大数量","掉落数量使用哪种分布方式\n对应DropCountConfig的GroupID\n默认-1，平均分布","实际掉落情况","标准数量",null,"组成1","组成2","组成3","组成4","组成5","组成6","组成7","组成8","组成9","组成10","组成11","组成12","组成13","组成14","组成15","组成16","组成17","组成18","组成19","组成20"]
[1,1,{"$f":"_xlfn.TEXTJOIN(\";\",1,L5:AE5)","v":"10001;10003;10006;10008;10010"},null,null,1,1,-1,{"$f":"CONCATENATE(\"【\",VLOOKUP(L5,[1]ItemConfig!$A:$H,8,FALSE),\"】\",VLOOKUP(L5,[1]ItemConfig!$A:$C,3,FALSE),\" × \",F5,\" - \",G5,IF(COUNT(L5:AE5)=1,\"\",\" (等共\"&COUNT(L5:AE5)&\"种道具)\"))","v":"【法宝-本体】神龙鼎 × 1 - 1 (等共5种道具)"},null,null,10001,10003,10006,10008,10010]
[2,1,{"$f":"_xlfn.TEXTJOIN(\";\",1,L6:AE6)","v":"10002;10004;10007;10009;10011"},null,null,1,1,-1,{"$f":"CONCATENATE(\"【\",VLOOKUP(L6,[1]ItemConfig!$A:$H,8,FALSE),\"】\",VLOOKUP(L6,[1]ItemConfig!$A:$C,3,FALSE),\" × \",F6,\" - \",G6,IF(COUNT(L6:AE6)=1,\"\",\" (等共\"&COUNT(L6:AE6)&\"种道具)\"))","v":"【法宝-本体】破天斧 × 1 - 1 (等共5种道具)"},null,null,10002,10004,10007,10009,10011]
[3,1,"10005",null,null,1,1,-1,{"$f":"CONCATENATE(\"【\",VLOOKUP(L7,[1]ItemConfig!$A:$H,8,FALSE),\"】\",VLOOKUP(L7,[1]ItemConfig!$A:$C,3,FALSE),\" × \",F7,\" - \",G7,IF(COUNT(L7:AE7)=1,\"\",\" (等共\"&COUNT(L7:AE7)&\"种道具)\"))","v":"【法宝-本体】琉璃宝塔 × 1 - 1"},null,null,10005]
[4,1,"12005;12010;12015;12020;12025",null,null,1,1,-1,{"$f":"CONCATENATE(\"【\",VLOOKUP(L8,[1]ItemConfig!$A:$H,8,FALSE),\"】\",VLOOKUP(L8,[1]ItemConfig!$A:$C,3,FALSE),\" × \",F8,\" - \",G8,IF(COUNT(L8:AE8)=1,\"\",\" (等共\"&COUNT(L8:AE8)&\"种道具)\"))","v":"【功法-本体】金针 × 1 - 1 (等共5种道具)"},null,null,12005,12010,12015,12020,12025]
[5,1,"12004;12009;12014;12019;12024",null,null,1,1,-1,{"$f":"CONCATENATE(\"【\",VLOOKUP(L9,[1]ItemConfig!$A:$H,8,FALSE),\"】\",VLOOKUP(L9,[1]ItemConfig!$A:$C,3,FALSE),\" × \",F9,\" - \",G9,IF(COUNT(L9:AE9)=1,\"\",\" (等共\"&COUNT(L9:AE9)&\"种道具)\"))","v":"【功法-本体】飞刃 × 1 - 1 (等共5种道具)"},null,null,12004,12009,12014,12019,12024]
[6,1,"12001;12002;12003;12006;12007;12008;12011;12012;12013;12016;12017;12018;12021;12022;12023",null,null,1,1,-1,{"$f":"CONCATENATE(\"【\",VLOOKUP(L10,[1]ItemConfig!$A:$H,8,FALSE),\"】\",VLOOKUP(L10,[1]ItemConfig!$A:$C,3,FALSE),\" × \",F10,\" - \",G10,IF(COUNT(L10:AE10)=1,\"\",\" (等共\"&COUNT(L10:AE10)&\"种道具)\"))","v":"【功法-本体】太虚幻剑经 × 1 - 1 (等共15种道具)"},null,null,12001,12002,12003,12006,12007,12008,12011,12012,12013,12016,12017,12018,12021,12022,12023]
[]
[7,1,{"$f":"_xlfn.TEXTJOIN(\";\",1,L12:AE12)","v":"1001;1005;1006"},null,null,-10,-10,-1,{"$f":"CONCATENATE(\"【\",VLOOKUP(L12,[1]ItemConfig!$A:$H,8,FALSE),\"】\",VLOOKUP(L12,[1]ItemConfig!$A:$C,3,FALSE),\" × \",F12,\" - \",G12,IF(COUNT(L12:AE12)=1,\"\",\" (等共\"&COUNT(L12:AE12)&\"种道具)\"))","v":"【资源-货币】灵石 × -10 - -10 (等共3种道具)"},null,null,1001,1005,1006]

{"sheet":"DropCountConfig","index":3,"n_rows":36,"n_cols":6,"rows_kept":36,"cut":false,"hidden":false,"merged":[]}
["ID","groupID","proportion","weight"]
["int","int","int","int"]
[]
[null,null,"最高比例","权重","掉率","实际值"]
[1,1,10,2,{"$f":"IF(D5=\"\",\"\",D5/SUMIF(B:B,B5,D:D))","v":2.1505376344085999E-2},{"$f":"SUMPRODUCT(C5:C14,E5:E14)","v":50.537634408602202}]
[2,1,20,4,4.3010752688171998E-2]
[3,1,30,8,8.6021505376344107E-2]
[4,1,40,16,0.17204301075268799]
[5,1,50,32,0.34408602150537598]
[6,1,60,16,{"$f":"IF(D10=\"\",\"\",D10/SUMIF(B:B,B10,D:D))","v":0.17204301075268799}]
[7,1,70,8,8.6021505376344107E-2]
[8,1,80,4,4.3010752688171998E-2]
[9,1,90,2,2.1505376344085999E-2]
[10,1,100,1,1.0752688172042999E-2]
[]
[11,2,10,1,1.0416666666666701E-2,{"$f":"SUMPRODUCT(C16:C25,E16:E25)","v":74.7916666666667}]
[12,2,20,2,2.0833333333333301E-2]
[13,2,30,3,3.125E-2]
[14,2,40,5,5.2083333333333301E-2]
[15,2,50,7,7.2916666666666699E-2]
[16,2,60,9,9.375E-2]
[17,2,70,15,0.15625]
[18,2,80,16,0.16666666666666699]
[19,2,90,18,0.1875]
[20,2,100,20,0.20833333333333301]
[]
[21,3,10,1024,0.66710097719869699,{"$f":"SUMPRODUCT(C27:C36,E27:E36)","v":16.599348534202001}]
[22,3,20,256,0.166775244299674]
[23,3,30,128,8.3387622149837096E-2]
[24,3,40,64,4.1693811074918603E-2]
[25,3,50,32,2.0846905537459302E-2]
[26,3,60,16,1.0423452768729601E-2]
[27,3,70,8,5.2117263843648202E-3]
[28,3,80,4,2.6058631921824101E-3]
[29,3,90,2,1.30293159609121E-3]
[30,3,100,1,6.5146579804560296E-4]

{"sheet":"说明页","index":4,"n_rows":26,"n_cols":3,"rows_kept":26,"cut":false,"hidden":false,"merged":[]}
["表名称","DropItemConfig"]
["字段","dropItemType"]
["说明","道具类型\n1=道具\n2=装备稀有度\n3=装备等级"]
[]
[]
[]
[null,"字段关联表缩写字母","关联表"]
[null,"l","LanguageChinese"]
[null,"w","Item"]
[null,"c","chouka"]
{"$rows_empty":11}
[null,"DropItemConfigID：暂定为5位数字，按照合成类型决定首位。 如果有需求，再用第二位进一步区分。"]
[]
[null,"抽卡合成类型对应表（暂定）"]
[]
[null,"道具类型 1=道具 2=声望任务 3=装备星级 4=装备品质 5=假五星 6=装备工厂 7=装备效果 8=装备私物效果"]

{"sheet":"道具表","index":5,"n_rows":2444,"n_cols":10,"rows_kept":2444,"cut":false,"hidden":false,"merged":[]}
["道具ID","道具名称\n语言表ID","道具描述\n语言表ID","道具名称（Item表）","道具名称（语言表）","道具描述（语言表）"]
[1001,{"$f":"IF(A2=\"\",\"\",VLOOKUP(A2,[1]ItemConfig!$A:$B,2,FALSE))","v":169},{"$f":"IF(A2=\"\",\"\",VLOOKUP(A2,[1]ItemConfig!$A:$D,4,FALSE))","v":162},{"$f":"IF(A2=\"\",\"\",VLOOKUP(A2,[1]ItemConfig!$A:$C,3,FALSE))","v":"灵石"},{"$f":"IF(A2=\"\",\"\",VLOOKUP(B2,#REF!,5,FALSE))","v":{"$error":"#REF!"}},{"$f":"IF(A2=\"\",\"\",VLOOKUP(C2,#REF!,5,FALSE))","v":{"$error":"#REF!"}}]
[1002,{"$f":"IF(A3=\"\",\"\",VLOOKUP(A3,[1]ItemConfig!$A:$B,2,FALSE))","v":170},{"$f":"IF(A3=\"\",\"\",VLOOKUP(A3,[1]ItemConfig!$A:$D,4,FALSE))","v":163},{"$f":"IF(A3=\"\",\"\",VLOOKUP(A3,[1]ItemConfig!$A:$C,3,FALSE))","v":"妖丹"},{"$f":"IF(A3=\"\",\"\",VLOOKUP(B3,#REF!,5,FALSE))","v":{"$error":"#REF!"}},{"$f":"IF(A3=\"\",\"\",VLOOKUP(C3,#REF!,5,FALSE))","v":{"$error":"#REF!"}},null,2]
[1003,{"$f":"IF(A4=\"\",\"\",VLOOKUP(A4,[1]ItemConfig!$A:$B,2,FALSE))","v":171},{"$f":"IF(A4=\"\",\"\",VLOOKUP(A4,[1]ItemConfig!$A:$D,4,FALSE))","v":164},{"$f":"IF(A4=\"\",\"\",VLOOKUP(A4,[1]ItemConfig!$A:$C,3,FALSE))","v":"修为"},{"$f":"IF(A4=\"\",\"\",VLOOKUP(B4,#REF!,5,FALSE))","v":{"$error":"#REF!"}},{"$f":"IF(A4=\"\",\"\",VLOOKUP(C4,#REF!,5,FALSE))","v":{"$error":"#REF!"}},null,"7101",{"$f":"IF(H5=\"\",\"\",\";\")","v":";"},{"$f":"_xlfn.CONCAT(H4:I32)","v":"7101;7102;7104;7304;7402;7403;7502;7601;7602"}]
[1004,{"$f":"IF(A5=\"\",\"\",VLOOKUP(A5,[1]ItemConfig!$A:$B,2,FALSE))","v":248},{"$f":"IF(A5=\"\",\"\",VLOOKUP(A5,[1]ItemConfig!$A:$D,4,FALSE))","v":249},{"$f":"IF(A5=\"\",\"\",VLOOKUP(A5,[1]ItemConfig!$A:$C,3,FALSE))","v":"妖王丹"},{"$f":"IF(A5=\"\",\"\",VLOOKUP(B5,#REF!,5,FALSE))","v":{"$error":"#REF!"}},{"$f":"IF(A5=\"\",\"\",VLOOKUP(C5,#REF!,5,FALSE))","v":{"$error":"#REF!"}},null,"7102",{"$f":"IF(H6=\"\",\"\",\";\")","v":";"}]
[1005,{"$f":"IF(A6=\"\",\"\",VLOOKUP(A6,[1]ItemConfig!$A:$B,2,FALSE))","v":725},{"$f":"IF(A6=\"\",\"\",VLOOKUP(A6,[1]ItemConfig!$A:$D,4,FALSE))","v":726},{"$f":"IF(A6=\"\",\"\",VLOOKUP(A6,[1]ItemConfig!$A:$C,3,FALSE))","v":"灵气"},{"$f":"IF(A6=\"\",\"\",VLOOKUP(B6,#REF!,5,FALSE))","v":{"$error":"#REF!"}},{"$f":"IF(A6=\"\",\"\",VLOOKUP(C6,#REF!,5,FALSE))","v":{"$error":"#REF!"}},null,"7104",";"]
[1006,{"$f":"IF(A7=\"\",\"\",VLOOKUP(A7,[1]ItemConfig!$A:$B,2,FALSE))","v":1400},{"$f":"IF(A7=\"\",\"\",VLOOKUP(A7,[1]ItemConfig!$A:$D,4,FALSE))","v":1401},{"$f":"IF(A7=\"\",\"\",VLOOKUP(A7,[1]ItemConfig!$A:$C,3,FALSE))","v":"玄晶"},{"$f":"IF(A7=\"\",\"\",VLOOKUP(B7,#REF!,5,FALSE))","v":{"$error":"#REF!"}},{"$f":"IF(A7=\"\",\"\",VLOOKUP(C7,#REF!,5,FALSE))","v":{"$error":"#REF!"}},null,"7304",";"]
[1007,{"$f":"IF(A8=\"\",\"\",VLOOKUP(A8,[1]ItemConfig!$A:$B,2,FALSE))","v":{"$error":"#N/A"}},{"$f":"IF(A8=\"\",\"\",VLOOKUP(A8,[1]ItemConfig!$A:$D,4,FALSE))","v":{"$error":"#N/A"}},{"$f":"IF(A8=\"\",\"\",VLOOKUP(A8,[1]ItemConfig!$A:$C,3,FALSE))","v":{"$error":"#N/A"}},{"$f":"IF(A8=\"\",\"\",VLOOKUP(B8,#REF!,5,FALSE))","v":{"$error":"#N/A"}},{"$f":"IF(A8=\"\",\"\",VLOOKUP(C8,#REF!,5,FALSE))","v":{"$error":"#N/A"}},null,"7402",";"]
[1008,{"$f":"IF(A9=\"\",\"\",VLOOKUP(A9,[1]ItemConfig!$A:$B,2,FALSE))","v":{"$error":"#N/A"}},{"$f":"IF(A9=\"\",\"\",VLOOKUP(A9,[1]ItemConfig!$A:$D,4,FALSE))","v":{"$error":"#N/A"}},{"$f":"IF(A9=\"\",\"\",VLOOKUP(A9,[1]ItemConfig!$A:$C,3,FALSE))","v":{"$error":"#N/A"}},{"$f":"IF(A9=\"\",\"\",VLOOKUP(B9,#REF!,5,FALSE))","v":{"$error":"#N/A"}},{"$f":"IF(A9=\"\",\"\",VLOOKUP(C9,#REF!,5,FALSE))","v":{"$error":"#N/A"}},null,"7403",";"]
[1009,{"$f":"IF(A10=\"\",\"\",VLOOKUP(A10,[1]ItemConfig!$A:$B,2,FALSE))","v":{"$error":"#N/A"}},{"$f":"IF(A10=\"\",\"\",VLOOKUP(A10,[1]ItemConfig!$A:$D,4,FALSE))","v":{"$error":"#N/A"}},{"$f":"IF(A10=\"\",\"\",VLOOKUP(A10,[1]ItemConfig!$A:$C,3,FALSE))","v":{"$error":"#N/A"}},{"$f":"IF(A10=\"\",\"\",VLOOKUP(B10,#REF!,5,FALSE))","v":{"$error":"#N/A"}},{"$f":"IF(A10=\"\",\"\",VLOOKUP(C10,#REF!,5,FALSE))","v":{"$error":"#N/A"}},null,"7502",";"]
[1010,{"$f":"IF(A11=\"\",\"\",VLOOKUP(A11,[1]ItemConfig!$A:$B,2,FALSE))","v":{"$error":"#N/A"}},{"$f":"IF(A11=\"\",\"\",VLOOKUP(A11,[1]ItemConfig!$A:$D,4,FALSE))","v":{"$error":"#N/A"}},{"$f":"IF(A11=\"\",\"\",VLOOKUP(A11,[1]ItemConfig!$A:$C,3,FALSE))","v":{"$error":"#N/A"}},{"$f":"IF(A11=\"\",\"\",VLOOKUP(B11,#REF!,5,FALSE))","v":{"$error":"#N/A"}},{"$f":"IF(A11=\"\",\"\",VLOOKUP(C11,#REF!,5,FALSE))","v":{"$error":"#N/A"}},null,"7601",";"]
[1011,{"$f":"IF(A12=\"\",\"\",VLOOKUP(A12,[1]ItemConfig!$A:$B,2,FALSE))","v":{"$error":"#N/A"}},{"$f":"IF(A12=\"\",\"\",VLOOKUP(A12,[1]ItemConfig!$A:$D,4,FALSE))","v":{"$error":"#N/A"}},{"$f":"IF(A12=\"\",\"\",VLOOKUP(A12,[1]ItemConfig!$A:$C,3,FALSE))","v":{"$error":"#N/A"}},{"$f":"IF(A12=\"\",\"\",VLOOKUP(B12,#REF!,5,FALSE))","v":{"$error":"#N/A"}},{"$f":"IF(A12=\"\",\"\",VLOOKUP(C12,#REF!,5,FALSE))","v":{"$error":"#N/A"}},null,"7602",""]
[1012,{"$f":"IF(A13=\"\",\"\",VLOOKUP(A13,[1]ItemConfig!$A:$B,2,FALSE))","v":{"$error":"#N/A"}},{"$f":"IF(A13=\"\",\"\",VLOOKUP(A13,[1]ItemConfig!$A:$D,4,FALSE))","v":{"$error":"#N/A"}},{"$f":"IF(A13=\"\",\"\",VLOOKUP(A13,[1]ItemConfig!$A:$C,3,FALSE))","v":{"$error":"#N/A"}},{"$f":"IF(A13=\"\",\"\",VLOOKUP(B13,#REF!,5,FALSE))","v":{"$error":"#N/A"}},{"$f":"IF(A13=\"\",\"\",VLOOKUP(C13,#REF!,5,FALSE))","v":{"$error":"#N/A"}},null,null,""]
[1013,{"$f":"IF(A14=\"\",\"\",VLOOKUP(A14,[1]ItemConfig!$A:$B,2,FALSE))","v":{"$error":"#N/A"}},{"$f":"IF(A14=\"\",\"\",VLOOKUP(A14,[1]ItemConfig!$A:$D,4,FALSE))","v":{"$error":"#N/A"}},{"$f":"IF(A14=\"\",\"\",VLOOKUP(A14,[1]ItemConfig!$A:$C,3,FALSE))","v":{"$error":"#N/A"}},{"$f":"IF(A14=\"\",\"\",VLOOKUP(B14,#REF!,5,FALSE))","v":{"$error":"#N/A"}},{"$f":"IF(A14=\"\",\"\",VLOOKUP(C14,#REF!,5,FALSE))","v":{"$error":"#N/A"}},null,null,""]
[1014,{"$f":"IF(A15=\"\",\"\",VLOOKUP(A15,[1]ItemConfig!$A:$B,2,FALSE))","v":{"$error":"#N/A"}},{"$f":"IF(A15=\"\",\"\",VLOOKUP(A15,[1]ItemConfig!$A:$D,4,FALSE))","v":{"$error":"#N/A"}},{"$f":"IF(A15=\"\",\"\",VLOOKUP(A15,[1]ItemConfig!$A:$C,3,FALSE))","v":{"$error":"#N/A"}},{"$f":"IF(A15=\"\",\"\",VLOOKUP(B15,#REF!,5,FALSE))","v":{"$error":"#N/A"}},{"$f":"IF(A15=\"\",\"\",VLOOKUP(C15,#REF!,5,FALSE))","v":{"$error":"#N/A"}},null,null,""]
[null,{"$f":"IF(A16=\"\",\"\",VLOOKUP(A16,[1]ItemConfig!$A:$B,2,FALSE))","v":""},{"$f":"IF(A16=\"\",\"\",VLOOKUP(A16,[1]ItemConfig!$A:$D,4,FALSE))","v":""},{"$f":"IF(A16=\"\",\"\",VLOOKUP(A16,[1]ItemConfig!$A:$C,3,FALSE))","v":""},{"$f":"IF(A16=\"\",\"\",VLOOKUP(B16,#REF!,5,FALSE))","v":""},{"$f":"IF(A16=\"\",\"\",VLOOKUP(C16,#REF!,5,FALSE))","v":""},null,null,""]
[2001,{"$f":"IF(A17=\"\",\"\",VLOOKUP(A17,[1]ItemConfig!$A:$B,2,FALSE))","v":{"$error":"#N/A"}},{"$f":"IF(A17=\"\",\"\",VLOOKUP(A17,[1]ItemConfig!$A:$D,4,FALSE))","v":{"$error":"#N/A"}},{"$f":"IF(A17=\"\",\"\",VLOOKUP(A17,[1]ItemConfig!$A:$C,3,FALSE))","v":{"$error":"#N/A"}},{"$f":"IF(A17=\"\",\"\",VLOOKUP(B17,#REF!,5,FALSE))","v":{"$error":"#N/A"}},{"$f":"IF(A17=\"\",\"\",VLOOKUP(C17,#REF!,5,FALSE))","v":{"$error":"#N/A"}},null,null,""]
[2002,{"$f":"IF(A18=\"\",\"\",VLOOKUP(A18,[1]ItemConfig!$A:$B,2,FALSE))","v":{"$error":"#N/A"}},{"$f":"IF(A18=\"\",\"\",VLOOKUP(A18,[1]ItemConfig!$A:$D,4,FALSE))","v":{"$error":"#N/A"}},{"$f":"IF(A18=\"\",\"\",VLOOKUP(A18,[1]ItemConfig!$A:$C,3,FALSE))","v":{"$error":"#N/A"}},{"$f":"IF(A18=\"\",\"\",VLOOKUP(B18,#REF!,5,FALSE))","v":{"$error":"#N/A"}},{"$f":"IF(A18=\"\",\"\",VLOOKUP(C18,#REF!,5,FALSE))","v":{"$error":"#N/A"}},null,null,""]
[2003,{"$f":"IF(A19=\"\",\"\",VLOOKUP(A19,[1]ItemConfig!$A:$B,2,FALSE))","v":{"$error":"#N/A"}},{"$f":"IF(A19=\"\",\"\",VLOOKUP(A19,[1]ItemConfig!$A:$D,4,FALSE))","v":{"$error":"#N/A"}},{"$f":"IF(A19=\"\",\"\",VLOOKUP(A19,[1]ItemConfig!$A:$C,3,FALSE))","v":{"$error":"#N/A"}},{"$f":"IF(A19=\"\",\"\",VLOOKUP(B19,#REF!,5,FALSE))","v":{"$error":"#N/A"}},{"$f":"IF(A19=\"\",\"\",VLOOKUP(C19,#REF!,5,FALSE))","v":{"$error":"#N/A"}},null,null,""]
[2004,{"$f":"IF(A20=\"\",\"\",VLOOKUP(A20,[1]ItemConfig!$A:$B,2,FALSE))","v":{"$error":"#N/A"}},{"$f":"IF(A20=\"\",\"\",VLOOKUP(A20,[1]ItemConfig!$A:$D,4,FALSE))","v":{"$error":"#N/A"}},{"$f":"IF(A20=\"\",\"\",VLOOKUP(A20,[1]ItemConfig!$A:$C,3,FALSE))","v":{"$error":"#N/A"}},{"$f":"IF(A20=\"\",\"\",VLOOKUP(B20,#REF!,5,FALSE))","v":{"$error":"#N/A"}},{"$f":"IF(A20=\"\",\"\",VLOOKUP(C20,#REF!,5,FALSE))","v":{"$error":"#N/A"}},null,null,""]
[null,{"$f":"IF(A21=\"\",\"\",VLOOKUP(A21,[1]ItemConfig!$A:$B,2,FALSE))","v":""},{"$f":"IF(A21=\"\",\"\",VLOOKUP(A21,[1]ItemConfig!$A:$D,4,FALSE))","v":""},{"$f":"IF(A21=\"\",\"\",VLOOKUP(A21,[1]ItemConfig!$A:$C,3,FALSE))","v":""},{"$f":"IF(A21=\"\",\"\",VLOOKUP(B21,#REF!,5,FALSE))","v":""},{"$f":"IF(A21=\"\",\"\",VLOOKUP(C21,#REF!,5,FALSE))","v":""},null,null,""]
[null,{"$f":"IF(A22=\"\",\"\",VLOOKUP(A22,[1]ItemConfig!$A:$B,2,FALSE))","v":""},{"$f":"IF(A22=\"\",\"\",VLOOKUP(A22,[1]ItemConfig!$A:$D,4,FALSE))","v":""},{"$f":"IF(A22=\"\",\"\",VLOOKUP(A22,[1]ItemConfig!$A:$C,3,FALSE))","v":""},{"$f":"IF(A22=\"\",\"\",VLOOKUP(B22,#REF!,5,FALSE))","v":""},{"$f":"IF(A22=\"\",\"\",VLOOKUP(C22,#REF!,5,FALSE))","v":""},null,null,""]
[2007,{"$f":"IF(A23=\"\",\"\",VLOOKUP(A23,[1]ItemConfig!$A:$B,2,FALSE))","v":{"$error":"#N/A"}},{"$f":"IF(A23=\"\",\"\",VLOOKUP(A23,[1]ItemConfig!$A:$D,4,FALSE))","v":{"$error":"#N/A"}},{"$f":"IF(A23=\"\",\"\",VLOOKUP(A23,[1]ItemConfig!$A:$C,3,FALSE))","v":{"$error":"#N/A"}},{"$f":"IF(A23=\"\",\"\",VLOOKUP(B23,#REF!,5,FALSE))","v":{"$error":"#N/A"}},{"$f":"IF(A23=\"\",\"\",VLOOKUP(C23,#REF!,5,FALSE))","v":{"$error":"#N/A"}},null,null,""]
[2008,{"$f":"IF(A24=\"\",\"\",VLOOKUP(A24,[1]ItemConfig!$A:$B,2,FALSE))","v":{"$error":"#N/A"}},{"$f":"IF(A24=\"\",\"\",VLOOKUP(A24,[1]ItemConfig!$A:$D,4,FALSE))","v":{"$error":"#N/A"}},{"$f":"IF(A24=\"\",\"\",VLOOKUP(A24,[1]ItemConfig!$A:$C,3,FALSE))","v":{"$error":"#N/A"}},{"$f":"IF(A24=\"\",\"\",VLOOKUP(B24,#REF!,5,FALSE))","v":{"$error":"#N/A"}},{"$f":"IF(A24=\"\",\"\",VLOOKUP(C24,#REF!,5,FALSE))","v":{"$error":"#N/A"}},null,null,""]
[null,{"$f":"IF(A25=\"\",\"\",VLOOKUP(A25,[1]ItemConfig!$A:$B,2,FALSE))","v":""},{"$f":"IF(A25=\"\",\"\",VLOOKUP(A25,[1]ItemConfig!$A:$D,4,FALSE))","v":""},{"$f":"IF(A25=\"\",\"\",VLOOKUP(A25,[1]ItemConfig!$A:$C,3,FALSE))","v":""},{"$f":"IF(A25=\"\",\"\",VLOOKUP(B25,#REF!,5,FALSE))","v":""},{"$f":"IF(A25=\"\",\"\",VLOOKUP(C25,#REF!,5,FALSE))","v":""},null,null,""]
[2010,{"$f":"IF(A26=\"\",\"\",VLOOKUP(A26,[1]ItemConfig!$A:$B,2,FALSE))","v":{"$error":"#N/A"}},{"$f":"IF(A26=\"\",\"\",VLOOKUP(A26,[1]ItemConfig!$A:$D,4,FALSE))","v":{"$error":"#N/A"}},{"$f":"IF(A26=\"\",\"\",VLOOKUP(A26,[1]ItemConfig!$A:$C,3,FALSE))","v":{"$error":"#N/A"}},{"$f":"IF(A26=\"\",\"\",VLOOKUP(B26,#REF!,5,FALSE))","v":{"$error":"#N/A"}},{"$f":"IF(A26=\"\",\"\",VLOOKUP(C26,#REF!,5,FALSE))","v":{"$error":"#N/A"}},null,null,""]
[2011,{"$f":"IF(A27=\"\",\"\",VLOOKUP(A27,[1]ItemConfig!$A:$B,2,FALSE))","v":{"$error":"#N/A"}},{"$f":"IF(A27=\"\",\"\",VLOOKUP(A27,[1]ItemConfig!$A:$D,4,FALSE))","v":{"$error":"#N/A"}},{"$f":"IF(A27=\"\",\"\",VLOOKUP(A27,[1]ItemConfig!$A:$C,3,FALSE))","v":{"$error":"#N/A"}},{"$f":"IF(A27=\"\",\"\",VLOOKUP(B27,#REF!,5,FALSE))","v":{"$error":"#N/A"}},{"$f":"IF(A27=\"\",\"\",VLOOKUP(C27,#REF!,5,FALSE))","v":{"$error":"#N/A"}},null,null,""]
[2012,{"$f":"IF(A28=\"\",\"\",VLOOKUP(A28,[1]ItemConfig!$A:$B,2,FALSE))","v":{"$error":"#N/A"}},{"$f":"IF(A28=\"\",\"\",VLOOKUP(A28,[1]ItemConfig!$A:$D,4,FALSE))","v":{"$error":"#N/A"}},{"$f":"IF(A28=\"\",\"\",VLOOKUP(A28,[1]ItemConfig!$A:$C,3,FALSE))","v":{"$error":"#N/A"}},{"$f":"IF(A28=\"\",\"\",VLOOKUP(B28,#REF!,5,FALSE))","v":{"$error":"#N/A"}},{"$f":"IF(A28=\"\",\"\",VLOOKUP(C28,#REF!,5,FALSE))","v":{"$error":"#N/A"}},null,null,""]
[2013,{"$f":"IF(A29=\"\",\"\",VLOOKUP(A29,[1]ItemConfig!$A:$B,2,FALSE))","v":{"$error":"#N/A"}},{"$f":"IF(A29=\"\",\"\",VLOOKUP(A29,[1]ItemConfig!$A:$D,4,FALSE))","v":{"$error":"#N/A"}},{"$f":"IF(A29=\"\",\"\",VLOOKUP(A29,[1]ItemConfig!$A:$C,3,FALSE))","v":{"$error":"#N/A"}},{"$f":"IF(A29=\"\",\"\",VLOOKUP(B29,#REF!,5,FALSE))","v":{"$error":"#N/A"}},{"$f":"IF(A29=\"\",\"\",VLOOKUP(C29,#REF!,5,FALSE))","v":{"$error":"#N/A"}},null,null,""]
[2014,{"$f":"IF(A30=\"\",\"\",VLOOKUP(A30,[1]ItemConfig!$A:$B,2,FALSE))","v":{"$error":"#N/A"}},{"$f":"IF(A30=\"\",\"\",VLOOKUP(A30,[1]ItemConfig!$A:$D,4,FALSE))","v":{"$error":"#N/A"}},{"$f":"IF(A30=\"\",\"\",VLOOKUP(A30,[1]ItemConfig!$A:$C,3,FALSE))","v":{"$error":"#N/A"}},{"$f":"IF(A30=\"\",\"\",VLOOKUP(B30,#REF!,5,FALSE))","v":{"$error":"#N/A"}},{"$f":"IF(A30=\"\",\"\",VLOOKUP(C30,#REF!,5,FALSE))","v":{"$error":"#N/A"}},null,null,""]
[2015,{"$f":"IF(A31=\"\",\"\",VLOOKUP(A31,[1]ItemConfig!$A:$B,2,FALSE))","v":{"$error":"#N/A"}},{"$f":"IF(A31=\"\",\"\",VLOOKUP(A31,[1]ItemConfig!$A:$D,4,FALSE))","v":{"$error":"#N/A"}},{"$f":"IF(A31=\"\",\"\",VLOOKUP(A31,[1]ItemConfig!$A:$C,3,FALSE))","v":{"$error":"#N/A"}},{"$f":"IF(A31=\"\",\"\",VLOOKUP(B31,#REF!,5,FALSE))","v":{"$error":"#N/A"}},{"$f":"IF(A31=\"\",\"\",VLOOKUP(C31,#REF!,5,FALSE))","v":{"$error":"#N/A"}},null,null,""]
[2016,{"$f":"IF(A32=\"\",\"\",VLOOKUP(A32,[1]ItemConfig!$A:$B,2,FALSE))","v":{"$error":"#N/A"}},{"$f":"IF(A32=\"\",\"\",VLOOKUP(A32,[1]ItemConfig!$A:$D,4,FALSE))","v":{"$error":"#N/A"}},{"$f":"IF(A32=\"\",\"\",VLOOKUP(A32,[1]ItemConfig!$A:$C,3,FALSE))","v":{"$error":"#N/A"}},{"$f":"IF(A32=\"\",\"\",VLOOKUP(B32,#REF!,5,FALSE))","v":{"$error":"#N/A"}},{"$f":"IF(A32=\"\",\"\",VLOOKUP(C32,#REF!,5,FALSE))","v":{"$error":"#N/A"}},null,null,""]
[2017,{"$f":"IF(A33=\"\",\"\",VLOOKUP(A33,[1]ItemConfig!$A:$B,2,FALSE))","v":{"$error":"#N/A"}},{"$f":"IF(A33=\"\",\"\",VLOOKUP(A33,[1]ItemConfig!$A:$D,4,FALSE))","v":{"$error":"#N/A"}},{"$f":"IF(A33=\"\",\"\",VLOOKUP(A33,[1]ItemConfig!$A:$C,3,FALSE))","v":{"$error":"#N/A"}},{"$f":"IF(A33=\"\",\"\",VLOOKUP(B33,#REF!,5,FALSE))","v":{"$error":"#N/A"}},{"$f":"IF(A33=\"\",\"\",VLOOKUP(C33,#REF!,5,FALSE))","v":{"$error":"#N/A"}},null,null,""]
[2018,{"$f":"IF(A34=\"\",\"\",VLOOKUP(A34,[1]ItemConfig!$A:$B,2,FALSE))","v":{"$error":"#N/A"}},{"$f":"IF(A34=\"\",\"\",VLOOKUP(A34,[1]ItemConfig!$A:$D,4,FALSE))","v":{"$error":"#N/A"}},{"$f":"IF(A34=\"\",\"\",VLOOKUP(A34,[1]ItemConfig!$A:$C,3,FALSE))","v":{"$error":"#N/A"}},{"$f":"IF(A34=\"\",\"\",VLOOKUP(B34,#REF!,5,FALSE))","v":{"$error":"#N/A"}},{"$f":"IF(A34=\"\",\"\",VLOOKUP(C34,#REF!,5,FALSE))","v":{"$error":"#N/A"}},null,null,""]
[2019,{"$f":"IF(A35=\"\",\"\",VLOOKUP(A35,[1]ItemConfig!$A:$B,2,FALSE))","v":{"$error":"#N/A"}},{"$f":"IF(A35=\"\",\"\",VLOOKUP(A35,[1]ItemConfig!$A:$D,4,FALSE))","v":{"$error":"#N/A"}},{"$f":"IF(A35=\"\",\"\",VLOOKUP(A35,[1]ItemConfig!$A:$C,3,FALSE))","v":{"$error":"#N/A"}},{"$f":"IF(A35=\"\",\"\",VLOOKUP(B35,#REF!,5,FALSE))","v":{"$error":"#N/A"}},{"$f":"IF(A35=\"\",\"\",VLOOKUP(C35,#REF!,5,FALSE))","v":{"$error":"#N/A"}},null,null,""]
[2020,{"$f":"IF(A36=\"\",\"\",VLOOKUP(A36,[1]ItemConfig!$A:$B,2,FALSE))","v":{"$error":"#N/A"}},{"$f":"IF(A36=\"\",\"\",VLOOKUP(A36,[1]ItemConfig!$A:$D,4,FALSE))","v":{"$error":"#N/A"}},{"$f":"IF(A36=\"\",\"\",VLOOKUP(A36,[1]ItemConfig!$A:$C,3,FALSE))","v":{"$error":"#N/A"}},{"$f":"IF(A36=\"\",\"\",VLOOKUP(B36,#REF!,5,FALSE))","v":{"$error":"#N/A"}},{"$f":"IF(A36=\"\",\"\",VLOOKUP(C36,#REF!,5,FALSE))","v":{"$error":"#N/A"}},null,null,""]
[2021,{"$f":"IF(A37=\"\",\"\",VLOOKUP(A37,[1]ItemConfig!$A:$B,2,FALSE))","v":{"$error":"#N/A"}},{"$f":"IF(A37=\"\",\"\",VLOOKUP(A37,[1]ItemConfig!$A:$D,4,FALSE))","v":{"$error":"#N/A"}},{"$f":"IF(A37=\"\",\"\",VLOOKUP(A37,[1]ItemConfig!$A:$C,3,FALSE))","v":{"$error":"#N/A"}},{"$f":"IF(A37=\"\",\"\",VLOOKUP(B37,#REF!,5,FALSE))","v":{"$error":"#N/A"}},{"$f":"IF(A37=\"\",\"\",VLOOKUP(C37,#REF!,5,FALSE))","v":{"$error":"#N/A"}},null,null,""]
[2022,{"$f":"IF(A38=\"\",\"\",VLOOKUP(A38,[1]ItemConfig!$A:$B,2,FALSE))","v":{"$error":"#N/A"}},{"$f":"IF(A38=\"\",\"\",VLOOKUP(A38,[1]ItemConfig!$A:$D,4,FALSE))","v":{"$error":"#N/A"}},{"$f":"IF(A38=\"\",\"\",VLOOKUP(A38,[1]ItemConfig!$A:$C,3,FALSE))","v":{"$error":"#N/A"}},{"$f":"IF(A38=\"\",\"\",VLOOKUP(B38,#REF!,5,FALSE))","v":{"$error":"#N/A"}},{"$f":"IF(A38=\"\",\"\",VLOOKUP(C38,#REF!,5,FALSE))","v":{"$error":"#N/A"}},null,null,""]
[null,{"$f":"IF(A39=\"\",\"\",VLOOKUP(A39,[1]ItemConfig!$A:$B,2,FALSE))","v":""},{"$f":"IF(A39=\"\",\"\",VLOOKUP(A39,[1]ItemConfig!$A:$D,4,FALSE))","v":""},{"$f":"IF(A39=\"\",\"\",VLOOKUP(A39,[1]ItemConfig!$A:$C,3,FALSE))","v":""},{"$f":"IF(A39=\"\",\"\",VLOOKUP(B39,#REF!,5,FALSE))","v":""},{"$f":"IF(A39=\"\",\"\",VLOOKUP(C39,#REF!,5,FALSE))","v":""},null,null,""]
[2101,{"$f":"IF(A40=\"\",\"\",VLOOKUP(A40,[1]ItemConfig!$A:$B,2,FALSE))","v":{"$error":"#N/A"}},{"$f":"IF(A40=\"\",\"\",VLOOKUP(A40,[1]ItemConfig!$A:$D,4,FALSE))","v":{"$error":"#N/A"}},{"$f":"IF(A40=\"\",\"\",VLOOKUP(A40,[1]ItemConfig!$A:$C,3,FALSE))","v":{"$error":"#N/A"}},{"$f":"IF(A40=\"\",\"\",VLOOKUP(B40,#REF!,5,FALSE))","v":{"$error":"#N/A"}},{"$f":"IF(A40=\"\",\"\",VLOOKUP(C40,#REF!,5,FALSE))","v":{"$error":"#N/A"}},null,null,""]
[2102,{"$f":"IF(A41=\"\",\"\",VLOOKUP(A41,[1]ItemConfig!$A:$B,2,FALSE))","v":{"$error":"#N/A"}},{"$f":"IF(A41=\"\",\"\",VLOOKUP(A41,[1]ItemConfig!$A:$D,4,FALSE))","v":{"$error":"#N/A"}},{"$f":"IF(A41=\"\",\"\",VLOOKUP(A41,[1]ItemConfig!$A:$C,3,FALSE))","v":{"$error":"#N/A"}},{"$f":"IF(A41=\"\",\"\",VLOOKUP(B41,#REF!,5,FALSE))","v":{"$error":"#N/A"}},{"$f":"IF(A41=\"\",\"\",VLOOKUP(C41,#REF!,5,FALSE))","v":{"$error":"#N/A"}}]
[2103,{"$f":"IF(A42=\"\",\"\",VLOOKUP(A42,[1]ItemConfig!$A:$B,2,FALSE))","v":{"$error":"#N/A"}},{"$f":"IF(A42=\"\",\"\",VLOOKUP(A42,[1]ItemConfig!$A:$D,4,FALSE))","v":{"$error":"#N/A"}},{"$f":"IF(A42=\"\",\"\",VLOOKUP(A42,[1]ItemConfig!$A:$C,3,FALSE))","v":{"$error":"#N/A"}},{"$f":"IF(A42=\"\",\"\",VLOOKUP(B42,#REF!,5,FALSE))","v":{"$error":"#N/A"}},{"$f":"IF(A42=\"\",\"\",VLOOKUP(C42,#REF!,5,FALSE))","v":{"$error":"#N/A"}}]
[2104,{"$f":"IF(A43=\"\",\"\",VLOOKUP(A43,[1]ItemConfig!$A:$B,2,FALSE))","v":{"$error":"#N/A"}},{"$f":"IF(A43=\"\",\"\",VLOOKUP(A43,[1]ItemConfig!$A:$D,4,FALSE))","v":{"$error":"#N/A"}},{"$f":"IF(A43=\"\",\"\",VLOOKUP(A43,[1]ItemConfig!$A:$C,3,FALSE))","v":{"$error":"#N/A"}},{"$f":"IF(A43=\"\",\"\",VLOOKUP(B43,#REF!,5,FALSE))","v":{"$error":"#N/A"}},{"$f":"IF(A43=\"\",\"\",VLOOKUP(C43,#REF!,5,FALSE))","v":{"$error":"#N/A"}}]
[2105,{"$f":"IF(A44=\"\",\"\",VLOOKUP(A44,[1]ItemConfig!$A:$B,2,FALSE))","v":{"$error":"#N/A"}},{"$f":"IF(A44=\"\",\"\",VLOOKUP(A44,[1]ItemConfig!$A:$D,4,FALSE))","v":{"$error":"#N/A"}},{"$f":"IF(A44=\"\",\"\",VLOOKUP(A44,[1]ItemConfig!$A:$C,3,FALSE))","v":{"$error":"#N/A"}},{"$f":"IF(A44=\"\",\"\",VLOOKUP(B44,#REF!,5,FALSE))","v":{"$error":"#N/A"}},{"$f":"IF(A44=\"\",\"\",VLOOKUP(C44,#REF!,5,FALSE))","v":{"$error":"#N/A"}}]
[2106,{"$f":"IF(A45=\"\",\"\",VLOOKUP(A45,[1]ItemConfig!$A:$B,2,FALSE))","v":{"$error":"#N/A"}},{"$f":"IF(A45=\"\",\"\",VLOOKUP(A45,[1]ItemConfig!$A:$D,4,FALSE))","v":{"$error":"#N/A"}},{"$f":"IF(A45=\"\",\"\",VLOOKUP(A45,[1]ItemConfig!$A:$C,3,FALSE))","v":{"$error":"#N/A"}},{"$f":"IF(A45=\"\",\"\",VLOOKUP(B45,#REF!,5,FALSE))","v":{"$error":"#N/A"}},{"$f":"IF(A45=\"\",\"\",VLOOKUP(C45,#REF!,5,FALSE))","v":{"$error":"#N/A"}}]
[2107,{"$f":"IF(A46=\"\",\"\",VLOOKUP(A46,[1]ItemConfig!$A:$B,2,FALSE))","v":{"$error":"#N/A"}},{"$f":"IF(A46=\"\",\"\",VLOOKUP(A46,[1]ItemConfig!$A:$D,4,FALSE))","v":{"$error":"#N/A"}},{"$f":"IF(A46=\"\",\"\",VLOOKUP(A46,[1]ItemConfig!$A:$C,3,FALSE))","v":{"$error":"#N/A"}},{"$f":"IF(A46=\"\",\"\",VLOOKUP(B46,#REF!,5,FALSE))","v":{"$error":"#N/A"}},{"$f":"IF(A46=\"\",\"\",VLOOKUP(C46,#REF!,5,FALSE))","v":{"$error":"#N/A"}}]
[2108,{"$f":"IF(A47=\"\",\"\",VLOOKUP(A47,[1]ItemConfig!$A:$B,2,FALSE))","v":{"$error":"#N/A"}},{"$f":"IF(A47=\"\",\"\",VLOOKUP(A47,[1]ItemConfig!$A:$D,4,FALSE))","v":{"$error":"#N/A"}},{"$f":"IF(A47=\"\",\"\",VLOOKUP(A47,[1]ItemConfig!$A:$C,3,FALSE))","v":{"$error":"#N/A"}},{"$f":"IF(A47=\"\",\"\",VLOOKUP(B47,#REF!,5,FALSE))","v":{"$error":"#N/A"}},{"$f":"IF(A47=\"\",\"\",VLOOKUP(C47,#REF!,5,FALSE))","v":{"$error":"#N/A"}}]
[2109,{"$f":"IF(A48=\"\",\"\",VLOOKUP(A48,[1]ItemConfig!$A:$B,2,FALSE))","v":{"$error":"#N/A"}},{"$f":"IF(A48=\"\",\"\",VLOOKUP(A48,[1]ItemConfig!$A:$D,4,FALSE))","v":{"$error":"#N/A"}},{"$f":"IF(A48=\"\",\"\",VLOOKUP(A48,[1]ItemConfig!$A:$C,3,FALSE))","v":{"$error":"#N/A"}},{"$f":"IF(A48=\"\",\"\",VLOOKUP(B48,#REF!,5,FALSE))","v":{"$error":"#N/A"}},{"$f":"IF(A48=\"\",\"\",VLOOKUP(C48,#REF!,5,FALSE))","v":{"$error":"#N/A"}}]
[2110,{"$f":"IF(A49=\"\",\"\",VLOOKUP(A49,[1]ItemConfig!$A:$B,2,FALSE))","v":{"$error":"#N/A"}},{"$f":"IF(A49=\"\",\"\",VLOOKUP(A49,[1]ItemConfig!$A:$D,4,FALSE))","v":{"$error":"#N/A"}},{"$f":"IF(A49=\"\",\"\",VLOOKUP(A49,[1]ItemConfig!$A:$C,3,FALSE))","v":{"$error":"#N/A"}},{"$f":"IF(A49=\"\",\"\",VLOOKUP(B49,#REF!,5,FALSE))","v":{"$error":"#N/A"}},{"$f":"IF(A49=\"\",\"\",VLOOKUP(C49,#REF!,5,FALSE))","v":{"$error":"#N/A"}}]
[2111,{"$f":"IF(A50=\"\",\"\",VLOOKUP(A50,[1]ItemConfig!$A:$B,2,FALSE))","v":{"$error":"#N/A"}},{"$f":"IF(A50=\"\",\"\",VLOOKUP(A50,[1]ItemConfig!$A:$D,4,FALSE))","v":{"$error":"#N/A"}},{"$f":"IF(A50=\"\",\"\",VLOOKUP(A50,[1]ItemConfig!$A:$C,3,FALSE))","v":{"$error":"#N/A"}},{"$f":"IF(A50=\"\",\"\",VLOOKUP(B50,#REF!,5,FALSE))","v":{"$error":"#N/A"}},{"$f":"IF(A50=\"\",\"\",VLOOKUP(C50,#REF!,5,FALSE))","v":{"$error":"#N/A"}}]
[2112,{"$f":"IF(A51=\"\",\"\",VLOOKUP(A51,[1]ItemConfig!$A:$B,2,FALSE))","v":{"$error":"#N/A"}},{"$f":"IF(A51=\"\",\"\",VLOOKUP(A51,[1]ItemConfig!$A:$D,4,FALSE))","v":{"$error":"#N/A"}},{"$f":"IF(A51=\"\",\"\",VLOOKUP(A51,[1]ItemConfig!$A:$C,3,FALSE))","v":{"$error":"#N/A"}},{"$f":"IF(A51=\"\",\"\",VLOOKUP(B51,#REF!,5,FALSE))","v":{"$error":"#N/A"}},{"$f":"IF(A51=\"\",\"\",VLOOKUP(C51,#REF!,5,FALSE))","v":{"$error":"#N/A"}}]
[2113,{"$f":"IF(A52=\"\",\"\",VLOOKUP(A52,[1]ItemConfig!$A:$B,2,FALSE))","v":{"$error":"#N/A"}},{"$f":"IF(A52=\"\",\"\",VLOOKUP(A52,[1]ItemConfig!$A:$D,4,FALSE))","v":{"$error":"#N/A"}},{"$f":"IF(A52=\"\",\"\",VLOOKUP(A52,[1]ItemConfig!$A:$C,3,FALSE))","v":{"$error":"#N/A"}},{"$f":"IF(A52=\"\",\"\",VLOOKUP(B52,#REF!,5,FALSE))","v":{"$error":"#N/A"}},{"$f":"IF(A52=\"\",\"\",VLOOKUP(C52,#REF!,5,FALSE))","v":{"$error":"#N/A"}}]
[2114,{"$f":"IF(A53=\"\",\"\",VLOOKUP(A53,[1]ItemConfig!$A:$B,2,FALSE))","v":{"$error":"#N/A"}},{"$f":"IF(A53=\"\",\"\",VLOOKUP(A53,[1]ItemConfig!$A:$D,4,FALSE))","v":{"$error":"#N/A"}},{"$f":"IF(A53=\"\",\"\",VLOOKUP(A53,[1]ItemConfig!$A:$C,3,FALSE))","v":{"$error":"#N/A"}},{"$f":"IF(A53=\"\",\"\",VLOOKUP(B53,#REF!,5,FALSE))","v":{"$error":"#N/A"}},{"$f":"IF(A53=\"\",\"\",VLOOKUP(C53,#REF!,5,FALSE))","v":{"$error":"#N/A"}}]
[2115,{"$f":"IF(A54=\"\",\"\",VLOOKUP(A54,[1]ItemConfig!$A:$B,2,FALSE))","v":{"$error":"#N/A"}},{"$f":"IF(A54=\"\",\"\",VLOOKUP(A54,[1]ItemConfig!$A:$D,4,FALSE))","v":{"$error":"#N/A"}},{"$f":"IF(A54=\"\",\"\",VLOOKUP(A54,[1]ItemConfig!$A:$C,3,FALSE))","v":{"$error":"#N/A"}},{"$f":"IF(A54=\"\",\"\",VLOOKUP(B54,#REF!,5,FALSE))","v":{"$error":"#N/A"}},{"$f":"IF(A54=\"\",\"\",VLOOKUP(C54,#REF!,5,FALSE))","v":{"$error":"#N/A"}}]
[2116,{"$f":"IF(A55=\"\",\"\",VLOOKUP(A55,[1]ItemConfig!$A:$B,2,FALSE))","v":{"$error":"#N/A"}},{"$f":"IF(A55=\"\",\"\",VLOOKUP(A55,[1]ItemConfig!$A:$D,4,FALSE))","v":{"$error":"#N/A"}},{"$f":"IF(A55=\"\",\"\",VLOOKUP(A55,[1]ItemConfig!$A:$C,3,FALSE))","v":{"$error":"#N/A"}},{"$f":"IF(A55=\"\",\"\",VLOOKUP(B55,#REF!,5,FALSE))","v":{"$error":"#N/A"}},{"$f":"IF(A55=\"\",\"\",VLOOKUP(C55,#REF!,5,FALSE))","v":{"$error":"#N/A"}}]
[2117,{"$f":"IF(A56=\"\",\"\",VLOOKUP(A56,[1]ItemConfig!$A:$B,2,FALSE))","v":{"$error":"#N/A"}},{"$f":"IF(A56=\"\",\"\",VLOOKUP(A56,[1]ItemConfig!$A:$D,4,FALSE))","v":{"$error":"#N/A"}},{"$f":"IF(A56=\"\",\"\",VLOOKUP(A56,[1]ItemConfig!$A:$C,3,FALSE))","v":{"$error":"#N/A"}},{"$f":"IF(A56=\"\",\"\",VLOOKUP(B56,#REF!,5,FALSE))","v":{"$error":"#N/A"}},{"$f":"IF(A56=\"\",\"\",VLOOKUP(C56,#REF!,5,FALSE))","v":{"$error":"#N/A"}}]
[2118,{"$f":"IF(A57=\"\",\"\",VLOOKUP(A57,[1]ItemConfig!$A:$B,2,FALSE))","v":{"$error":"#N/A"}},{"$f":"IF(A57=\"\",\"\",VLOOKUP(A57,[1]ItemConfig!$A:$D,4,FALSE))","v":{"$error":"#N/A"}},{"$f":"IF(A57=\"\",\"\",VLOOKUP(A57,[1]ItemConfig!$A:$C,3,FALSE))","v":{"$error":"#N/A"}},{"$f":"IF(A57=\"\",\"\",VLOOKUP(B57,#REF!,5,FALSE))","v":{"$error":"#N/A"}},{"$f":"IF(A57=\"\",\"\",VLOOKUP(C57,#REF!,5,FALSE))","v":{"$error":"#N/A"}}]
[null,{"$f":"IF(A58=\"\",\"\",VLOOKUP(A58,[1]ItemConfig!$A:$B,2,FALSE))","v":""},{"$f":"IF(A58=\"\",\"\",VLOOKUP(A58,[1]ItemConfig!$A:$D,4,FALSE))","v":""},{"$f":"IF(A58=\"\",\"\",VLOOKUP(A58,[1]ItemConfig!$A:$C,3,FALSE))","v":""},{"$f":"IF(A58=\"\",\"\",VLOOKUP(B58,#REF!,5,FALSE))","v":""},{"$f":"IF(A58=\"\",\"\",VLOOKUP(C58,#REF!,5,FALSE))","v":""}]
[10001,{"$f":"IF(A59=\"\",\"\",VLOOKUP(A59,[1]ItemConfig!$A:$B,2,FALSE))","v":284},{"$f":"IF(A59=\"\",\"\",VLOOKUP(A59,[1]ItemConfig!$A:$D,4,FALSE))","v":292},{"$f":"IF(A59=\"\",\"\",VLOOKUP(A59,[1]ItemConfig!$A:$C,3,FALSE))","v":"神龙鼎"},{"$f":"IF(A59=\"\",\"\",VLOOKUP(B59,#REF!,5,FALSE))","v":{"$error":"#REF!"}},{"$f":"IF(A59=\"\",\"\",VLOOKUP(C59,#REF!,5,FALSE))","v":{"$error":"#REF!"}}]
[10002,{"$f":"IF(A60=\"\",\"\",VLOOKUP(A60,[1]ItemConfig!$A:$B,2,FALSE))","v":285},{"$f":"IF(A60=\"\",\"\",VLOOKUP(A60,[1]ItemConfig!$A:$D,4,FALSE))","v":293},{"$f":"IF(A60=\"\",\"\",VLOOKUP(A60,[1]ItemConfig!$A:$C,3,FALSE))","v":"破天斧"},{"$f":"IF(A60=\"\",\"\",VLOOKUP(B60,#REF!,5,FALSE))","v":{"$error":"#REF!"}},{"$f":"IF(A60=\"\",\"\",VLOOKUP(C60,#REF!,5,FALSE))","v":{"$error":"#REF!"}}]
[10003,{"$f":"IF(A61=\"\",\"\",VLOOKUP(A61,[1]ItemConfig!$A:$B,2,FALSE))","v":286},{"$f":"IF(A61=\"\",\"\",VLOOKUP(A61,[1]ItemConfig!$A:$D,4,FALSE))","v":294},{"$f":"IF(A61=\"\",\"\",VLOOKUP(A61,[1]ItemConfig!$A:$C,3,FALSE))","v":"翡翠葫芦"},{"$f":"IF(A61=\"\",\"\",VLOOKUP(B61,#REF!,5,FALSE))","v":{"$error":"#REF!"}},{"$f":"IF(A61=\"\",\"\",VLOOKUP(C61,#REF!,5,FALSE))","v":{"$error":"#REF!"}}]
[10004,{"$f":"IF(A62=\"\",\"\",VLOOKUP(A62,[1]ItemConfig!$A:$B,2,FALSE))","v":287},{"$f":"IF(A62=\"\",\"\",VLOOKUP(A62,[1]ItemConfig!$A:$D,4,FALSE))","v":295},{"$f":"IF(A62=\"\",\"\",VLOOKUP(A62,[1]ItemConfig!$A:$C,3,FALSE))","v":"混沌珠"},{"$f":"IF(A62=\"\",\"\",VLOOKUP(B62,#REF!,5,FALSE))","v":{"$error":"#REF!"}},{"$f":"IF(A62=\"\",\"\",VLOOKUP(C62,#REF!,5,FALSE))","v":{"$error":"#REF!"}}]
[30000,{"$f":"IF(A63=\"\",\"\",VLOOKUP(A63,[1]ItemConfig!$A:$B,2,FALSE))","v":{"$error":"#N/A"}},{"$f":"IF(A63=\"\",\"\",VLOOKUP(A63,[1]ItemConfig!$A:$D,4,FALSE))","v":{"$error":"#N/A"}},{"$f":"IF(A63=\"\",\"\",VLOOKUP(A63,[1]ItemConfig!$A:$C,3,FALSE))","v":{"$error":"#N/A"}},{"$f":"IF(A63=\"\",\"\",VLOOKUP(B63,#REF!,5,FALSE))","v":{"$error":"#N/A"}},{"$f":"IF(A63=\"\",\"\",VLOOKUP(C63,#REF!,5,FALSE))","v":{"$error":"#N/A"}}]
[30001,{"$f":"IF(A64=\"\",\"\",VLOOKUP(A64,[1]ItemConfig!$A:$B,2,FALSE))","v":{"$error":"#N/A"}},{"$f":"IF(A64=\"\",\"\",VLOOKUP(A64,[1]ItemConfig!$A:$D,4,FALSE))","v":{"$error":"#N/A"}},{"$f":"IF(A64=\"\",\"\",VLOOKUP(A64,[1]ItemConfig!$A:$C,3,FALSE))","v":{"$error":"#N/A"}},{"$f":"IF(A64=\"\",\"\",VLOOKUP(B64,#REF!,5,FALSE))","v":{"$error":"#N/A"}},{"$f":"IF(A64=\"\",\"\",VLOOKUP(C64,#REF!,5,FALSE))","v":{"$error":"#N/A"}}]
[null,{"$f":"IF(A65=\"\",\"\",VLOOKUP(A65,[1]ItemConfig!$A:$B,2,FALSE))","v":""},{"$f":"IF(A65=\"\",\"\",VLOOKUP(A65,[1]ItemConfig!$A:$D,4,FALSE))","v":""},{"$f":"IF(A65=\"\",\"\",VLOOKUP(A65,[1]ItemConfig!$A:$C,3,FALSE))","v":""},{"$f":"IF(A65=\"\",\"\",VLOOKUP(B65,#REF!,5,FALSE))","v":""},{"$f":"IF(A65=\"\",\"\",VLOOKUP(C65,#REF!,5,FALSE))","v":""}]
[null,{"$f":"IF(A66=\"\",\"\",VLOOKUP(A66,[1]ItemConfig!$A:$B,2,FALSE))","v":""},{"$f":"IF(A66=\"\",\"\",VLOOKUP(A66,[1]ItemConfig!$A:$D,4,FALSE))","v":""},{"$f":"IF(A66=\"\",\"\",VLOOKUP(A66,[1]ItemConfig!$A:$C,3,FALSE))","v":""},{"$f":"IF(A66=\"\",\"\",VLOOKUP(B66,#REF!,5,FALSE))","v":""},{"$f":"IF(A66=\"\",\"\",VLOOKUP(C66,#REF!,5,FALSE))","v":""}]
[null,{"$f":"IF(A67=\"\",\"\",VLOOKUP(A67,[1]ItemConfig!$A:$B,2,FALSE))","v":""},{"$f":"IF(A67=\"\",\"\",VLOOKUP(A67,[1]ItemConfig!$A:$D,4,FALSE))","v":""},{"$f":"IF(A67=\"\",\"\",VLOOKUP(A67,[1]ItemConfig!$A:$C,3,FALSE))","v":""},{"$f":"IF(A67=\"\",\"\",VLOOKUP(B67,#REF!,5,FALSE))","v":""},{"$f":"IF(A67=\"\",\"\",VLOOKUP(C67,#REF!,5,FALSE))","v":""}]
[3104,{"$f":"IF(A68=\"\",\"\",VLOOKUP(A68,[1]ItemConfig!$A:$B,2,FALSE))","v":{"$error":"#N/A"}},{"$f":"IF(A68=\"\",\"\",VLOOKUP(A68,[1]ItemConfig!$A:$D,4,FALSE))","v":{"$error":"#N/A"}},{"$f":"IF(A68=\"\",\"\",VLOOKUP(A68,[1]ItemConfig!$A:$C,3,FALSE))","v":{"$error":"#N/A"}},{"$f":"IF(A68=\"\",\"\",VLOOKUP(B68,#REF!,5,FALSE))","v":{"$error":"#N/A"}},{"$f":"IF(A68=\"\",\"\",VLOOKUP(C68,#REF!,5,FALSE))","v":{"$error":"#N/A"}}]
[3105,{"$f":"IF(A69=\"\",\"\",VLOOKUP(A69,[1]ItemConfig!$A:$B,2,FALSE))","v":{"$error":"#N/A"}},{"$f":"IF(A69=\"\",\"\",VLOOKUP(A69,[1]ItemConfig!$A:$D,4,FALSE))","v":{"$error":"#N/A"}},{"$f":"IF(A69=\"\",\"\",VLOOKUP(A69,[1]ItemConfig!$A:$C,3,FALSE))","v":{"$error":"#N/A"}},{"$f":"IF(A69=\"\",\"\",VLOOKUP(B69,#REF!,5,FALSE))","v":{"$error":"#N/A"}},{"$f":"IF(A69=\"\",\"\",VLOOKUP(C69,#REF!,5,FALSE))","v":{"$error":"#N/A"}}]
[3201,{"$f":"IF(A70=\"\",\"\",VLOOKUP(A70,[1]ItemConfig!$A:$B,2,FALSE))","v":{"$error":"#N/A"}},{"$f":"IF(A70=\"\",\"\",VLOOKUP(A70,[1]ItemConfig!$A:$D,4,FALSE))","v":{"$error":"#N/A"}},{"$f":"IF(A70=\"\",\"\",VLOOKUP(A70,[1]ItemConfig!$A:$C,3,FALSE))","v":{"$error":"#N/A"}},{"$f":"IF(A70=\"\",\"\",VLOOKUP(B70,#REF!,5,FALSE))","v":{"$error":"#N/A"}},{"$f":"IF(A70=\"\",\"\",VLOOKUP(C70,#REF!,5,FALSE))","v":{"$error":"#N/A"}}]
[null,{"$f":"IF(A71=\"\",\"\",VLOOKUP(A71,[1]ItemConfig!$A:$B,2,FALSE))","v":""},{"$f":"IF(A71=\"\",\"\",VLOOKUP(A71,[1]ItemConfig!$A:$D,4,FALSE))","v":""},{"$f":"IF(A71=\"\",\"\",VLOOKUP(A71,[1]ItemConfig!$A:$C,3,FALSE))","v":""},{"$f":"IF(A71=\"\",\"\",VLOOKUP(B71,#REF!,5,FALSE))","v":""},{"$f":"IF(A71=\"\",\"\",VLOOKUP(C71,#REF!,5,FALSE))","v":""}]
[3205,{"$f":"IF(A72=\"\",\"\",VLOOKUP(A72,[1]ItemConfig!$A:$B,2,FALSE))","v":{"$error":"#N/A"}},{"$f":"IF(A72=\"\",\"\",VLOOKUP(A72,[1]ItemConfig!$A:$D,4,FALSE))","v":{"$error":"#N/A"}},{"$f":"IF(A72=\"\",\"\",VLOOKUP(A72,[1]ItemConfig!$A:$C,3,FALSE))","v":{"$error":"#N/A"}},{"$f":"IF(A72=\"\",\"\",VLOOKUP(B72,#REF!,5,FALSE))","v":{"$error":"#N/A"}},{"$f":"IF(A72=\"\",\"\",VLOOKUP(C72,#REF!,5,FALSE))","v":{"$error":"#N/A"}}]
[3206,{"$f":"IF(A73=\"\",\"\",VLOOKUP(A73,[1]ItemConfig!$A:$B,2,FALSE))","v":{"$error":"#N/A"}},{"$f":"IF(A73=\"\",\"\",VLOOKUP(A73,[1]ItemConfig!$A:$D,4,FALSE))","v":{"$error":"#N/A"}},{"$f":"IF(A73=\"\",\"\",VLOOKUP(A73,[1]ItemConfig!$A:$C,3,FALSE))","v":{"$error":"#N/A"}},{"$f":"IF(A73=\"\",\"\",VLOOKUP(B73,#REF!,5,FALSE))","v":{"$error":"#N/A"}},{"$f":"IF(A73=\"\",\"\",VLOOKUP(C73,#REF!,5,FALSE))","v":{"$error":"#N/A"}}]
[3301,{"$f":"IF(A74=\"\",\"\",VLOOKUP(A74,[1]ItemConfig!$A:$B,2,FALSE))","v":{"$error":"#N/A"}},{"$f":"IF(A74=\"\",\"\",VLOOKUP(A74,[1]ItemConfig!$A:$D,4,FALSE))","v":{"$error":"#N/A"}},{"$f":"IF(A74=\"\",\"\",VLOOKUP(A74,[1]ItemConfig!$A:$C,3,FALSE))","v":{"$error":"#N/A"}},{"$f":"IF(A74=\"\",\"\",VLOOKUP(B74,#REF!,5,FALSE))","v":{"$error":"#N/A"}},{"$f":"IF(A74=\"\",\"\",VLOOKUP(C74,#REF!,5,FALSE))","v":{"$error":"#N/A"}}]
[3304,{"$f":"IF(A75=\"\",\"\",VLOOKUP(A75,[1]ItemConfig!$A:$B,2,FALSE))","v":{"$error":"#N/A"}},{"$f":"IF(A75=\"\",\"\",VLOOKUP(A75,[1]ItemConfig!$A:$D,4,FALSE))","v":{"$error":"#N/A"}},{"$f":"IF(A75=\"\",\"\",VLOOKUP(A75,[1]ItemConfig!$A:$C,3,FALSE))","v":{"$error":"#N/A"}},{"$f":"IF(A75=\"\",\"\",VLOOKUP(B75,#REF!,5,FALSE))","v":{"$error":"#N/A"}},{"$f":"IF(A75=\"\",\"\",VLOOKUP(C75,#REF!,5,FALSE))","v":{"$error":"#N/A"}}]
[3401,{"$f":"IF(A76=\"\",\"\",VLOOKUP(A76,[1]ItemConfig!$A:$B,2,FALSE))","v":{"$error":"#N/A"}},{"$f":"IF(A76=\"\",\"\",VLOOKUP(A76,[1]ItemConfig!$A:$D,4,FALSE))","v":{"$error":"#N/A"}},{"$f":"IF(A76=\"\",\"\",VLOOKUP(A76,[1]ItemConfig!$A:$C,3,FALSE))","v":{"$error":"#N/A"}},{"$f":"IF(A76=\"\",\"\",VLOOKUP(B76,#REF!,5,FALSE))","v":{"$error":"#N/A"}},{"$f":"IF(A76=\"\",\"\",VLOOKUP(C76,#REF!,5,FALSE))","v":{"$error":"#N/A"}}]
[null,{"$f":"IF(A77=\"\",\"\",VLOOKUP(A77,[1]ItemConfig!$A:$B,2,FALSE))","v":""},{"$f":"IF(A77=\"\",\"\",VLOOKUP(A77,[1]ItemConfig!$A:$D,4,FALSE))","v":""},{"$f":"IF(A77=\"\",\"\",VLOOKUP(A77,[1]ItemConfig!$A:$C,3,FALSE))","v":""},{"$f":"IF(A77=\"\",\"\",VLOOKUP(B77,#REF!,5,FALSE))","v":""},{"$f":"IF(A77=\"\",\"\",VLOOKUP(C77,#REF!,5,FALSE))","v":""}]
[3403,{"$f":"IF(A78=\"\",\"\",VLOOKUP(A78,[1]ItemConfig!$A:$B,2,FALSE))","v":{"$error":"#N/A"}},{"$f":"IF(A78=\"\",\"\",VLOOKUP(A78,[1]ItemConfig!$A:$D,4,FALSE))","v":{"$error":"#N/A"}},{"$f":"IF(A78=\"\",\"\",VLOOKUP(A78,[1]ItemConfig!$A:$C,3,FALSE))","v":{"$error":"#N/A"}},{"$f":"IF(A78=\"\",\"\",VLOOKUP(B78,#REF!,5,FALSE))","v":{"$error":"#N/A"}},{"$f":"IF(A78=\"\",\"\",VLOOKUP(C78,#REF!,5,FALSE))","v":{"$error":"#N/A"}}]
[3501,{"$f":"IF(A79=\"\",\"\",VLOOKUP(A79,[1]ItemConfig!$A:$B,2,FALSE))","v":{"$error":"#N/A"}},{"$f":"IF(A79=\"\",\"\",VLOOKUP(A79,[1]ItemConfig!$A:$D,4,FALSE))","v":{"$error":"#N/A"}},{"$f":"IF(A79=\"\",\"\",VLOOKUP(A79,[1]ItemConfig!$A:$C,3,FALSE))","v":{"$error":"#N/A"}},{"$f":"IF(A79=\"\",\"\",VLOOKUP(B79,#REF!,5,FALSE))","v":{"$error":"#N/A"}},{"$f":"IF(A79=\"\",\"\",VLOOKUP(C79,#REF!,5,FALSE))","v":{"$error":"#N/A"}}]
[null,{"$f":"IF(A80=\"\",\"\",VLOOKUP(A80,[1]ItemConfig!$A:$B,2,FALSE))","v":""},{"$f":"IF(A80=\"\",\"\",VLOOKUP(A80,[1]ItemConfig!$A:$D,4,FALSE))","v":""},{"$f":"IF(A80=\"\",\"\",VLOOKUP(A80,[1]ItemConfig!$A:$C,3,FALSE))","v":""},{"$f":"IF(A80=\"\",\"\",VLOOKUP(B80,#REF!,5,FALSE))","v":""},{"$f":"IF(A80=\"\",\"\",VLOOKUP(C80,#REF!,5,FALSE))","v":""}]
[3601,{"$f":"IF(A81=\"\",\"\",VLOOKUP(A81,[1]ItemConfig!$A:$B,2,FALSE))","v":{"$error":"#N/A"}},{"$f":"IF(A81=\"\",\"\",VLOOKUP(A81,[1]ItemConfig!$A:$D,4,FALSE))","v":{"$error":"#N/A"}},{"$f":"IF(A81=\"\",\"\",VLOOKUP(A81,[1]ItemConfig!$A:$C,3,FALSE))","v":{"$error":"#N/A"}},{"$f":"IF(A81=\"\",\"\",VLOOKUP(B81,#REF!,5,FALSE))","v":{"$error":"#N/A"}},{"$f":"IF(A81=\"\",\"\",VLOOKUP(C81,#REF!,5,FALSE))","v":{"$error":"#N/A"}}]
[3602,{"$f":"IF(A82=\"\",\"\",VLOOKUP(A82,[1]ItemConfig!$A:$B,2,FALSE))","v":{"$error":"#N/A"}},{"$f":"IF(A82=\"\",\"\",VLOOKUP(A82,[1]ItemConfig!$A:$D,4,FALSE))","v":{"$error":"#N/A"}},{"$f":"IF(A82=\"\",\"\",VLOOKUP(A82,[1]ItemConfig!$A:$C,3,FALSE))","v":{"$error":"#N/A"}},{"$f":"IF(A82=\"\",\"\",VLOOKUP(B82,#REF!,5,FALSE))","v":{"$error":"#N/A"}},{"$f":"IF(A82=\"\",\"\",VLOOKUP(C82,#REF!,5,FALSE))","v":{"$error":"#N/A"}}]
[3603,{"$f":"IF(A83=\"\",\"\",VLOOKUP(A83,[1]ItemConfig!$A:$B,2,FALSE))","v":{"$error":"#N/A"}},{"$f":"IF(A83=\"\",\"\",VLOOKUP(A83,[1]ItemConfig!$A:$D,4,FALSE))","v":{"$error":"#N/A"}},{"$f":"IF(A83=\"\",\"\",VLOOKUP(A83,[1]ItemConfig!$A:$C,3,FALSE))","v":{"$error":"#N/A"}},{"$f":"IF(A83=\"\",\"\",VLOOKUP(B83,#REF!,5,FALSE))","v":{"$error":"#N/A"}},{"$f":"IF(A83=\"\",\"\",VLOOKUP(C83,#REF!,5,FALSE))","v":{"$error":"#N/A"}}]
[null,{"$f":"IF(A84=\"\",\"\",VLOOKUP(A84,[1]ItemConfig!$A:$B,2,FALSE))","v":""},{"$f":"IF(A84=\"\",\"\",VLOOKUP(A84,[1]ItemConfig!$A:$D,4,FALSE))","v":""},{"$f":"IF(A84=\"\",\"\",VLOOKUP(A84,[1]ItemConfig!$A:$C,3,FALSE))","v":""},{"$f":"IF(A84=\"\",\"\",VLOOKUP(B84,#REF!,5,FALSE))","v":""},{"$f":"IF(A84=\"\",\"\",VLOOKUP(C84,#REF!,5,FALSE))","v":""}]
[3703,{"$f":"IF(A85=\"\",\"\",VLOOKUP(A85,[1]ItemConfig!$A:$B,2,FALSE))","v":{"$error":"#N/A"}},{"$f":"IF(A85=\"\",\"\",VLOOKUP(A85,[1]ItemConfig!$A:$D,4,FALSE))","v":{"$error":"#N/A"}},{"$f":"IF(A85=\"\",\"\",VLOOKUP(A85,[1]ItemConfig!$A:$C,3,FALSE))","v":{"$error":"#N/A"}},{"$f":"IF(A85=\"\",\"\",VLOOKUP(B85,#REF!,5,FALSE))","v":{"$error":"#N/A"}},{"$f":"IF(A85=\"\",\"\",VLOOKUP(C85,#REF!,5,FALSE))","v":{"$error":"#N/A"}}]
[null,{"$f":"IF(A86=\"\",\"\",VLOOKUP(A86,[1]ItemConfig!$A:$B,2,FALSE))","v":""},{"$f":"IF(A86=\"\",\"\",VLOOKUP(A86,[1]ItemConfig!$A:$D,4,FALSE))","v":""},{"$f":"IF(A86=\"\",\"\",VLOOKUP(A86,[1]ItemConfig!$A:$C,3,FALSE))","v":""},{"$f":"IF(A86=\"\",\"\",VLOOKUP(B86,#REF!,5,FALSE))","v":""},{"$f":"IF(A86=\"\",\"\",VLOOKUP(C86,#REF!,5,FALSE))","v":""}]
[null,{"$f":"IF(A87=\"\",\"\",VLOOKUP(A87,[1]ItemConfig!$A:$B,2,FALSE))","v":""},{"$f":"IF(A87=\"\",\"\",VLOOKUP(A87,[1]ItemConfig!$A:$D,4,FALSE))","v":""},{"$f":"IF(A87=\"\",\"\",VLOOKUP(A87,[1]ItemConfig!$A:$C,3,FALSE))","v":""},{"$f":"IF(A87=\"\",\"\",VLOOKUP(B87,#REF!,5,FALSE))","v":""},{"$f":"IF(A87=\"\",\"\",VLOOKUP(C87,#REF!,5,FALSE))","v":""}]
[null,{"$f":"IF(A88=\"\",\"\",VLOOKUP(A88,[1]ItemConfig!$A:$B,2,FALSE))","v":""},{"$f":"IF(A88=\"\",\"\",VLOOKUP(A88,[1]ItemConfig!$A:$D,4,FALSE))","v":""},{"$f":"IF(A88=\"\",\"\",VLOOKUP(A88,[1]ItemConfig!$A:$C,3,FALSE))","v":""},{"$f":"IF(A88=\"\",\"\",VLOOKUP(B88,#REF!,5,FALSE))","v":""},{"$f":"IF(A88=\"\",\"\",VLOOKUP(C88,#REF!,5,FALSE))","v":""}]
[7104,{"$f":"IF(A89=\"\",\"\",VLOOKUP(A89,[1]ItemConfig!$A:$B,2,FALSE))","v":{"$error":"#N/A"}},{"$f":"IF(A89=\"\",\"\",VLOOKUP(A89,[1]ItemConfig!$A:$D,4,FALSE))","v":{"$error":"#N/A"}},{"$f":"IF(A89=\"\",\"\",VLOOKUP(A89,[1]ItemConfig!$A:$C,3,FALSE))","v":{"$error":"#N/A"}},{"$f":"IF(A89=\"\",\"\",VLOOKUP(B89,#REF!,5,FALSE))","v":{"$error":"#N/A"}},{"$f":"IF(A89=\"\",\"\",VLOOKUP(C89,#REF!,5,FALSE))","v":{"$error":"#N/A"}}]
[7105,{"$f":"IF(A90=\"\",\"\",VLOOKUP(A90,[1]ItemConfig!$A:$B,2,FALSE))","v":{"$error":"#N/A"}},{"$f":"IF(A90=\"\",\"\",VLOOKUP(A90,[1]ItemConfig!$A:$D,4,FALSE))","v":{"$error":"#N/A"}},{"$f":"IF(A90=\"\",\"\",VLOOKUP(A90,[1]ItemConfig!$A:$C,3,FALSE))","v":{"$error":"#N/A"}},{"$f":"IF(A90=\"\",\"\",VLOOKUP(B90,#REF!,5,FALSE))","v":{"$error":"#N/A"}},{"$f":"IF(A90=\"\",\"\",VLOOKUP(C90,#REF!,5,FALSE))","v":{"$error":"#N/A"}}]
[7201,{"$f":"IF(A91=\"\",\"\",VLOOKUP(A91,[1]ItemConfig!$A:$B,2,FALSE))","v":{"$error":"#N/A"}},{"$f":"IF(A91=\"\",\"\",VLOOKUP(A91,[1]ItemConfig!$A:$D,4,FALSE))","v":{"$error":"#N/A"}},{"$f":"IF(A91=\"\",\"\",VLOOKUP(A91,[1]ItemConfig!$A:$C,3,FALSE))","v":{"$error":"#N/A"}},{"$f":"IF(A91=\"\",\"\",VLOOKUP(B91,#REF!,5,FALSE))","v":{"$error":"#N/A"}},{"$f":"IF(A91=\"\",\"\",VLOOKUP(C91,#REF!,5,FALSE))","v":{"$error":"#N/A"}}]
[null,{"$f":"IF(A92=\"\",\"\",VLOOKUP(A92,[1]ItemConfig!$A:$B,2,FALSE))","v":""},{"$f":"IF(A92=\"\",\"\",VLOOKUP(A92,[1]ItemConfig!$A:$D,4,FALSE))","v":""},{"$f":"IF(A92=\"\",\"\",VLOOKUP(A92,[1]ItemConfig!$A:$C,3,FALSE))","v":""},{"$f":"IF(A92=\"\",\"\",VLOOKUP(B92,#REF!,5,FALSE))","v":""},{"$f":"IF(A92=\"\",\"\",VLOOKUP(C92,#REF!,5,FALSE))","v":""}]
[7205,{"$f":"IF(A93=\"\",\"\",VLOOKUP(A93,[1]ItemConfig!$A:$B,2,FALSE))","v":{"$error":"#N/A"}},{"$f":"IF(A93=\"\",\"\",VLOOKUP(A93,[1]ItemConfig!$A:$D,4,FALSE))","v":{"$error":"#N/A"}},{"$f":"IF(A93=\"\",\"\",VLOOKUP(A93,[1]ItemConfig!$A:$C,3,FALSE))","v":{"$error":"#N/A"}},{"$f":"IF(A93=\"\",\"\",VLOOKUP(B93,#REF!,5,FALSE))","v":{"$error":"#N/A"}},{"$f":"IF(A93=\"\",\"\",VLOOKUP(C93,#REF!,5,FALSE))","v":{"$error":"#N/A"}}]
[7206,{"$f":"IF(A94=\"\",\"\",VLOOKUP(A94,[1]ItemConfig!$A:$B,2,FALSE))","v":{"$error":"#N/A"}},{"$f":"IF(A94=\"\",\"\",VLOOKUP(A94,[1]ItemConfig!$A:$D,4,FALSE))","v":{"$error":"#N/A"}},{"$f":"IF(A94=\"\",\"\",VLOOKUP(A94,[1]ItemConfig!$A:$C,3,FALSE))","v":{"$error":"#N/A"}},{"$f":"IF(A94=\"\",\"\",VLOOKUP(B94,#REF!,5,FALSE))","v":{"$error":"#N/A"}},{"$f":"IF(A94=\"\",\"\",VLOOKUP(C94,#REF!,5,FALSE))","v":{"$error":"#N/A"}}]
[7301,{"$f":"IF(A95=\"\",\"\",VLOOKUP(A95,[1]ItemConfig!$A:$B,2,FALSE))","v":{"$error":"#N/A"}},{"$f":"IF(A95=\"\",\"\",VLOOKUP(A95,[1]ItemConfig!$A:$D,4,FALSE))","v":{"$error":"#N/A"}},{"$f":"IF(A95=\"\",\"\",VLOOKUP(A95,[1]ItemConfig!$A:$C,3,FALSE))","v":{"$error":"#N/A"}},{"$f":"IF(A95=\"\",\"\",VLOOKUP(B95,#REF!,5,FALSE))","v":{"$error":"#N/A"}},{"$f":"IF(A95=\"\",\"\",VLOOKUP(C95,#REF!,5,FALSE))","v":{"$error":"#N/A"}}]
[7304,{"$f":"IF(A96=\"\",\"\",VLOOKUP(A96,[1]ItemConfig!$A:$B,2,FALSE))","v":{"$error":"#N/A"}},{"$f":"IF(A96=\"\",\"\",VLOOKUP(A96,[1]ItemConfig!$A:$D,4,FALSE))","v":{"$error":"#N/A"}},{"$f":"IF(A96=\"\",\"\",VLOOKUP(A96,[1]ItemConfig!$A:$C,3,FALSE))","v":{"$error":"#N/A"}},{"$f":"IF(A96=\"\",\"\",VLOOKUP(B96,#REF!,5,FALSE))","v":{"$error":"#N/A"}},{"$f":"IF(A96=\"\",\"\",VLOOKUP(C96,#REF!,5,FALSE))","v":{"$error":"#N/A"}}]
[7401,{"$f":"IF(A97=\"\",\"\",VLOOKUP(A97,[1]ItemConfig!$A:$B,2,FALSE))","v":{"$error":"#N/A"}},{"$f":"IF(A97=\"\",\"\",VLOOKUP(A97,[1]ItemConfig!$A:$D,4,FALSE))","v":{"$error":"#N/A"}},{"$f":"IF(A97=\"\",\"\",VLOOKUP(A97,[1]ItemConfig!$A:$C,3,FALSE))","v":{"$error":"#N/A"}},{"$f":"IF(A97=\"\",\"\",VLOOKUP(B97,#REF!,5,FALSE))","v":{"$error":"#N/A"}},{"$f":"IF(A97=\"\",\"\",VLOOKUP(C97,#REF!,5,FALSE))","v":{"$error":"#N/A"}}]
[null,{"$f":"IF(A98=\"\",\"\",VLOOKUP(A98,[1]ItemConfig!$A:$B,2,FALSE))","v":""},{"$f":"IF(A98=\"\",\"\",VLOOKUP(A98,[1]ItemConfig!$A:$D,4,FALSE))","v":""},{"$f":"IF(A98=\"\",\"\",VLOOKUP(A98,[1]ItemConfig!$A:$C,3,FALSE))","v":""},{"$f":"IF(A98=\"\",\"\",VLOOKUP(B98,#REF!,5,FALSE))","v":""},{"$f":"IF(A98=\"\",\"\",VLOOKUP(C98,#REF!,5,FALSE))","v":""}]
[7403,{"$f":"IF(A99=\"\",\"\",VLOOKUP(A99,[1]ItemConfig!$A:$B,2,FALSE))","v":{"$error":"#N/A"}},{"$f":"IF(A99=\"\",\"\",VLOOKUP(A99,[1]ItemConfig!$A:$D,4,FALSE))","v":{"$error":"#N/A"}},{"$f":"IF(A99=\"\",\"\",VLOOKUP(A99,[1]ItemConfig!$A:$C,3,FALSE))","v":{"$error":"#N/A"}},{"$f":"IF(A99=\"\",\"\",VLOOKUP(B99,#REF!,5,FALSE))","v":{"$error":"#N/A"}},{"$f":"IF(A99=\"\",\"\",VLOOKUP(C99,#REF!,5,FALSE))","v":{"$error":"#N/A"}}]
[7501,{"$f":"IF(A100=\"\",\"\",VLOOKUP(A100,[1]ItemConfig!$A:$B,2,FALSE))","v":{"$error":"#N/A"}},{"$f":"IF(A100=\"\",\"\",VLOOKUP(A100,[1]ItemConfig!$A:$D,4,FALSE))","v":{"$error":"#N/A"}},{"$f":"IF(A100=\"\",\"\",VLOOKUP(A100,[1]ItemConfig!$A:$C,3,FALSE))","v":{"$error":"#N/A"}},{"$f":"IF(A100=\"\",\"\",VLOOKUP(B100,#REF!,5,FALSE))","v":{"$error":"#N/A"}},{"$f":"IF(A100=\"\",\"\",VLOOKUP(C100,#REF!,5,FALSE))","v":{"$error":"#N/A"}}]
[null,{"$f":"IF(A101=\"\",\"\",VLOOKUP(A101,[1]ItemConfig!$A:$B,2,FALSE))","v":""},{"$f":"IF(A101=\"\",\"\",VLOOKUP(A101,[1]ItemConfig!$A:$D,4,FALSE))","v":""},{"$f":"IF(A101=\"\",\"\",VLOOKUP(A101,[1]ItemConfig!$A:$C,3,FALSE))","v":""},{"$f":"IF(A101=\"\",\"\",VLOOKUP(B101,#REF!,5,FALSE))","v":""},{"$f":"IF(A101=\"\",\"\",VLOOKUP(C101,#REF!,5,FALSE))","v":""}]
[7601,{"$f":"IF(A102=\"\",\"\",VLOOKUP(A102,[1]ItemConfig!$A:$B,2,FALSE))","v":{"$error":"#N/A"}},{"$f":"IF(A102=\"\",\"\",VLOOKUP(A102,[1]ItemConfig!$A:$D,4,FALSE))","v":{"$error":"#N/A"}},{"$f":"IF(A102=\"\",\"\",VLOOKUP(A102,[1]ItemConfig!$A:$C,3,FALSE))","v":{"$error":"#N/A"}},{"$f":"IF(A102=\"\",\"\",VLOOKUP(B102,#REF!,5,FALSE))","v":{"$error":"#N/A"}},{"$f":"IF(A102=\"\",\"\",VLOOKUP(C102,#REF!,5,FALSE))","v":{"$error":"#N/A"}}]
[7602,{"$f":"IF(A103=\"\",\"\",VLOOKUP(A103,[1]ItemConfig!$A:$B,2,FALSE))","v":{"$error":"#N/A"}},{"$f":"IF(A103=\"\",\"\",VLOOKUP(A103,[1]ItemConfig!$A:$D,4,FALSE))","v":{"$error":"#N/A"}},{"$f":"IF(A103=\"\",\"\",VLOOKUP(A103,[1]ItemConfig!$A:$C,3,FALSE))","v":{"$error":"#N/A"}},{"$f":"IF(A103=\"\",\"\",VLOOKUP(B103,#REF!,5,FALSE))","v":{"$error":"#N/A"}},{"$f":"IF(A103=\"\",\"\",VLOOKUP(C103,#REF!,5,FALSE))","v":{"$error":"#N/A"}}]
[7603,{"$f":"IF(A104=\"\",\"\",VLOOKUP(A104,[1]ItemConfig!$A:$B,2,FALSE))","v":{"$error":"#N/A"}},{"$f":"IF(A104=\"\",\"\",VLOOKUP(A104,[1]ItemConfig!$A:$D,4,FALSE))","v":{"$error":"#N/A"}},{"$f":"IF(A104=\"\",\"\",VLOOKUP(A104,[1]ItemConfig!$A:$C,3,FALSE))","v":{"$error":"#N/A"}},{"$f":"IF(A104=\"\",\"\",VLOOKUP(B104,#REF!,5,FALSE))","v":{"$error":"#N/A"}},{"$f":"IF(A104=\"\",\"\",VLOOKUP(C104,#REF!,5,FALSE))","v":{"$error":"#N/A"}}]
[null,{"$f":"IF(A105=\"\",\"\",VLOOKUP(A105,[1]ItemConfig!$A:$B,2,FALSE))","v":""},{"$f":"IF(A105=\"\",\"\",VLOOKUP(A105,[1]ItemConfig!$A:$D,4,FALSE))","v":""},{"$f":"IF(A105=\"\",\"\",VLOOKUP(A105,[1]ItemConfig!$A:$C,3,FALSE))","v":""},{"$f":"IF(A105=\"\",\"\",VLOOKUP(B105,#REF!,5,FALSE))","v":""},{"$f":"IF(A105=\"\",\"\",VLOOKUP(C105,#REF!,5,FALSE))","v":""}]
[7703,{"$f":"IF(A106=\"\",\"\",VLOOKUP(A106,[1]ItemConfig!$A:$B,2,FALSE))","v":{"$error":"#N/A"}},{"$f":"IF(A106=\"\",\"\",VLOOKUP(A106,[1]ItemConfig!$A:$D,4,FALSE))","v":{"$error":"#N/A"}},{"$f":"IF(A106=\"\",\"\",VLOOKUP(A106,[1]ItemConfig!$A:$C,3,FALSE))","v":{"$error":"#N/A"}},{"$f":"IF(A106=\"\",\"\",VLOOKUP(B106,#REF!,5,FALSE))","v":{"$error":"#N/A"}},{"$f":"IF(A106=\"\",\"\",VLOOKUP(C106,#REF!,5,FALSE))","v":{"$error":"#N/A"}}]
[null,{"$f":"IF(A107=\"\",\"\",VLOOKUP(A107,[1]ItemConfig!$A:$B,2,FALSE))","v":""},{"$f":"IF(A107=\"\",\"\",VLOOKUP(A107,[1]ItemConfig!$A:$D,4,FALSE))","v":""},{"$f":"IF(A107=\"\",\"\",VLOOKUP(A107,[1]ItemConfig!$A:$C,3,FALSE))","v":""},{"$f":"IF(A107=\"\",\"\",VLOOKUP(B107,#REF!,5,FALSE))","v":""},{"$f":"IF(A107=\"\",\"\",VLOOKUP(C107,#REF!,5,FALSE))","v":""}]
[9000,{"$f":"IF(A108=\"\",\"\",VLOOKUP(A108,[1]ItemConfig!$A:$B,2,FALSE))","v":{"$error":"#N/A"}},{"$f":"IF(A108=\"\",\"\",VLOOKUP(A108,[1]ItemConfig!$A:$D,4,FALSE))","v":{"$error":"#N/A"}},{"$f":"IF(A108=\"\",\"\",VLOOKUP(A108,[1]ItemConfig!$A:$C,3,FALSE))","v":{"$error":"#N/A"}},{"$f":"IF(A108=\"\",\"\",VLOOKUP(B108,#REF!,5,FALSE))","v":{"$error":"#N/A"}},{"$f":"IF(A108=\"\",\"\",VLOOKUP(C108,#REF!,5,FALSE))","v":{"$error":"#N/A"}}]
[9001,{"$f":"IF(A109=\"\",\"\",VLOOKUP(A109,[1]ItemConfig!$A:$B,2,FALSE))","v":{"$error":"#N/A"}},{"$f":"IF(A109=\"\",\"\",VLOOKUP(A109,[1]ItemConfig!$A:$D,4,FALSE))","v":{"$error":"#N/A"}},{"$f":"IF(A109=\"\",\"\",VLOOKUP(A109,[1]ItemConfig!$A:$C,3,FALSE))","v":{"$error":"#N/A"}},{"$f":"IF(A109=\"\",\"\",VLOOKUP(B109,#REF!,5,FALSE))","v":{"$error":"#N/A"}},{"$f":"IF(A109=\"\",\"\",VLOOKUP(C109,#REF!,5,FALSE))","v":{"$error":"#N/A"}}]
[103001,{"$f":"IF(A110=\"\",\"\",VLOOKUP(A110,[1]ItemConfig!$A:$B,2,FALSE))","v":{"$error":"#N/A"}},{"$f":"IF(A110=\"\",\"\",VLOOKUP(A110,[1]ItemConfig!$A:$D,4,FALSE))","v":{"$error":"#N/A"}},{"$f":"IF(A110=\"\",\"\",VLOOKUP(A110,[1]ItemConfig!$A:$C,3,FALSE))","v":{"$error":"#N/A"}},{"$f":"IF(A110=\"\",\"\",VLOOKUP(B110,#REF!,5,FALSE))","v":{"$error":"#N/A"}},{"$f":"IF(A110=\"\",\"\",VLOOKUP(C110,#REF!,5,FALSE))","v":{"$error":"#N/A"}}]
[103002,{"$f":"IF(A111=\"\",\"\",VLOOKUP(A111,[1]ItemConfig!$A:$B,2,FALSE))","v":{"$error":"#N/A"}},{"$f":"IF(A111=\"\",\"\",VLOOKUP(A111,[1]ItemConfig!$A:$D,4,FALSE))","v":{"$error":"#N/A"}},{"$f":"IF(A111=\"\",\"\",VLOOKUP(A111,[1]ItemConfig!$A:$C,3,FALSE))","v":{"$error":"#N/A"}},{"$f":"IF(A111=\"\",\"\",VLOOKUP(B111,#REF!,5,FALSE))","v":{"$error":"#N/A"}},{"$f":"IF(A111=\"\",\"\",VLOOKUP(C111,#REF!,5,FALSE))","v":{"$error":"#N/A"}}]
[103003,{"$f":"IF(A112=\"\",\"\",VLOOKUP(A112,[1]ItemConfig!$A:$B,2,FALSE))","v":{"$error":"#N/A"}},{"$f":"IF(A112=\"\",\"\",VLOOKUP(A112,[1]ItemConfig!$A:$D,4,FALSE))","v":{"$error":"#N/A"}},{"$f":"IF(A112=\"\",\"\",VLOOKUP(A112,[1]ItemConfig!$A:$C,3,FALSE))","v":{"$error":"#N/A"}},{"$f":"IF(A112=\"\",\"\",VLOOKUP(B112,#REF!,5,FALSE))","v":{"$error":"#N/A"}},{"$f":"IF(A112=\"\",\"\",VLOOKUP(C112,#REF!,5,FALSE))","v":{"$error":"#N/A"}}]
[103004,{"$f":"IF(A113=\"\",\"\",VLOOKUP(A113,[1]ItemConfig!$A:$B,2,FALSE))","v":{"$error":"#N/A"}},{"$f":"IF(A113=\"\",\"\",VLOOKUP(A113,[1]ItemConfig!$A:$D,4,FALSE))","v":{"$error":"#N/A"}},{"$f":"IF(A113=\"\",\"\",VLOOKUP(A113,[1]ItemConfig!$A:$C,3,FALSE))","v":{"$error":"#N/A"}},{"$f":"IF(A113=\"\",\"\",VLOOKUP(B113,#REF!,5,FALSE))","v":{"$error":"#N/A"}},{"$f":"IF(A113=\"\",\"\",VLOOKUP(C113,#REF!,5,FALSE))","v":{"$error":"#N/A"}}]
[103005,{"$f":"IF(A114=\"\",\"\",VLOOKUP(A114,[1]ItemConfig!$A:$B,2,FALSE))","v":{"$error":"#N/A"}},{"$f":"IF(A114=\"\",\"\",VLOOKUP(A114,[1]ItemConfig!$A:$D,4,FALSE))","v":{"$error":"#N/A"}},{"$f":"IF(A114=\"\",\"\",VLOOKUP(A114,[1]ItemConfig!$A:$C,3,FALSE))","v":{"$error":"#N/A"}},{"$f":"IF(A114=\"\",\"\",VLOOKUP(B114,#REF!,5,FALSE))","v":{"$error":"#N/A"}},{"$f":"IF(A114=\"\",\"\",VLOOKUP(C114,#REF!,5,FALSE))","v":{"$error":"#N/A"}}]
[105001,{"$f":"IF(A115=\"\",\"\",VLOOKUP(A115,[1]ItemConfig!$A:$B,2,FALSE))","v":{"$error":"#N/A"}},{"$f":"IF(A115=\"\",\"\",VLOOKUP(A115,[1]ItemConfig!$A:$D,4,FALSE))","v":{"$error":"#N/A"}},{"$f":"IF(A115=\"\",\"\",VLOOKUP(A115,[1]ItemConfig!$A:$C,3,FALSE))","v":{"$error":"#N/A"}},{"$f":"IF(A115=\"\",\"\",VLOOKUP(B115,#REF!,5,FALSE))","v":{"$error":"#N/A"}},{"$f":"IF(A115=\"\",\"\",VLOOKUP(C115,#REF!,5,FALSE))","v":{"$error":"#N/A"}}]
[105002,{"$f":"IF(A116=\"\",\"\",VLOOKUP(A116,[1]ItemConfig!$A:$B,2,FALSE))","v":{"$error":"#N/A"}},{"$f":"IF(A116=\"\",\"\",VLOOKUP(A116,[1]ItemConfig!$A:$D,4,FALSE))","v":{"$error":"#N/A"}},{"$f":"IF(A116=\"\",\"\",VLOOKUP(A116,[1]ItemConfig!$A:$C,3,FALSE))","v":{"$error":"#N/A"}},{"$f":"IF(A116=\"\",\"\",VLOOKUP(B116,#REF!,5,FALSE))","v":{"$error":"#N/A"}},{"$f":"IF(A116=\"\",\"\",VLOOKUP(C116,#REF!,5,FALSE))","v":{"$error":"#N/A"}}]
[105003,{"$f":"IF(A117=\"\",\"\",VLOOKUP(A117,[1]ItemConfig!$A:$B,2,FALSE))","v":{"$error":"#N/A"}},{"$f":"IF(A117=\"\",\"\",VLOOKUP(A117,[1]ItemConfig!$A:$D,4,FALSE))","v":{"$error":"#N/A"}},{"$f":"IF(A117=\"\",\"\",VLOOKUP(A117,[1]ItemConfig!$A:$C,3,FALSE))","v":{"$error":"#N/A"}},{"$f":"IF(A117=\"\",\"\",VLOOKUP(B117,#REF!,5,FALSE))","v":{"$error":"#N/A"}},{"$f":"IF(A117=\"\",\"\",VLOOKUP(C117,#REF!,5,FALSE))","v":{"$error":"#N/A"}}]
[105004,{"$f":"IF(A118=\"\",\"\",VLOOKUP(A118,[1]ItemConfig!$A:$B,2,FALSE))","v":{"$error":"#N/A"}},{"$f":"IF(A118=\"\",\"\",VLOOKUP(A118,[1]ItemConfig!$A:$D,4,FALSE))","v":{"$error":"#N/A"}},{"$f":"IF(A118=\"\",\"\",VLOOKUP(A118,[1]ItemConfig!$A:$C,3,FALSE))","v":{"$error":"#N/A"}},{"$f":"IF(A118=\"\",\"\",VLOOKUP(B118,#REF!,5,FALSE))","v":{"$error":"#N/A"}},{"$f":"IF(A118=\"\",\"\",VLOOKUP(C118,#REF!,5,FALSE))","v":{"$error":"#N/A"}}]
[105005,{"$f":"IF(A119=\"\",\"\",VLOOKUP(A119,[1]ItemConfig!$A:$B,2,FALSE))","v":{"$error":"#N/A"}},{"$f":"IF(A119=\"\",\"\",VLOOKUP(A119,[1]ItemConfig!$A:$D,4,FALSE))","v":{"$error":"#N/A"}},{"$f":"IF(A119=\"\",\"\",VLOOKUP(A119,[1]ItemConfig!$A:$C,3,FALSE))","v":{"$error":"#N/A"}},{"$f":"IF(A119=\"\",\"\",VLOOKUP(B119,#REF!,5,FALSE))","v":{"$error":"#N/A"}},{"$f":"IF(A119=\"\",\"\",VLOOKUP(C119,#REF!,5,FALSE))","v":{"$error":"#N/A"}}]
[105006,{"$f":"IF(A120=\"\",\"\",VLOOKUP(A120,[1]ItemConfig!$A:$B,2,FALSE))","v":{"$error":"#N/A"}},{"$f":"IF(A120=\"\",\"\",VLOOKUP(A120,[1]ItemConfig!$A:$D,4,FALSE))","v":{"$error":"#N/A"}},{"$f":"IF(A120=\"\",\"\",VLOOKUP(A120,[1]ItemConfig!$A:$C,3,FALSE))","v":{"$error":"#N/A"}},{"$f":"IF(A120=\"\",\"\",VLOOKUP(B120,#REF!,5,FALSE))","v":{"$error":"#N/A"}},{"$f":"IF(A120=\"\",\"\",VLOOKUP(C120,#REF!,5,FALSE))","v":{"$error":"#N/A"}}]
[105007,{"$f":"IF(A121=\"\",\"\",VLOOKUP(A121,[1]ItemConfig!$A:$B,2,FALSE))","v":{"$error":"#N/A"}},{"$f":"IF(A121=\"\",\"\",VLOOKUP(A121,[1]ItemConfig!$A:$D,4,FALSE))","v":{"$error":"#N/A"}},{"$f":"IF(A121=\"\",\"\",VLOOKUP(A121,[1]ItemConfig!$A:$C,3,FALSE))","v":{"$error":"#N/A"}},{"$f":"IF(A121=\"\",\"\",VLOOKUP(B121,#REF!,5,FALSE))","v":{"$error":"#N/A"}},{"$f":"IF(A121=\"\",\"\",VLOOKUP(C121,#REF!,5,FALSE))","v":{"$error":"#N/A"}}]
[105008,{"$f":"IF(A122=\"\",\"\",VLOOKUP(A122,[1]ItemConfig!$A:$B,2,FALSE))","v":{"$error":"#N/A"}},{"$f":"IF(A122=\"\",\"\",VLOOKUP(A122,[1]ItemConfig!$A:$D,4,FALSE))","v":{"$error":"#N/A"}},{"$f":"IF(A122=\"\",\"\",VLOOKUP(A122,[1]ItemConfig!$A:$C,3,FALSE))","v":{"$error":"#N/A"}},{"$f":"IF(A122=\"\",\"\",VLOOKUP(B122,#REF!,5,FALSE))","v":{"$error":"#N/A"}},{"$f":"IF(A122=\"\",\"\",VLOOKUP(C122,#REF!,5,FALSE))","v":{"$error":"#N/A"}}]
[105009,{"$f":"IF(A123=\"\",\"\",VLOOKUP(A123,[1]ItemConfig!$A:$B,2,FALSE))","v":{"$error":"#N/A"}},{"$f":"IF(A123=\"\",\"\",VLOOKUP(A123,[1]ItemConfig!$A:$D,4,FALSE))","v":{"$error":"#N/A"}},{"$f":"IF(A123=\"\",\"\",VLOOKUP(A123,[1]ItemConfig!$A:$C,3,FALSE))","v":{"$error":"#N/A"}},{"$f":"IF(A123=\"\",\"\",VLOOKUP(B123,#REF!,5,FALSE))","v":{"$error":"#N/A"}},{"$f":"IF(A123=\"\",\"\",VLOOKUP(C123,#REF!,5,FALSE))","v":{"$error":"#N/A"}}]
[105010,{"$f":"IF(A124=\"\",\"\",VLOOKUP(A124,[1]ItemConfig!$A:$B,2,FALSE))","v":{"$error":"#N/A"}},{"$f":"IF(A124=\"\",\"\",VLOOKUP(A124,[1]ItemConfig!$A:$D,4,FALSE))","v":{"$error":"#N/A"}},{"$f":"IF(A124=\"\",\"\",VLOOKUP(A124,[1]ItemConfig!$A:$C,3,FALSE))","v":{"$error":"#N/A"}},{"$f":"IF(A124=\"\",\"\",VLOOKUP(B124,#REF!,5,FALSE))","v":{"$error":"#N/A"}},{"$f":"IF(A124=\"\",\"\",VLOOKUP(C124,#REF!,5,FALSE))","v":{"$error":"#N/A"}}]
[107001,{"$f":"IF(A125=\"\",\"\",VLOOKUP(A125,[1]ItemConfig!$A:$B,2,FALSE))","v":{"$error":"#N/A"}},{"$f":"IF(A125=\"\",\"\",VLOOKUP(A125,[1]ItemConfig!$A:$D,4,FALSE))","v":{"$error":"#N/A"}},{"$f":"IF(A125=\"\",\"\",VLOOKUP(A125,[1]ItemConfig!$A:$C,3,FALSE))","v":{"$error":"#N/A"}},{"$f":"IF(A125=\"\",\"\",VLOOKUP(B125,#REF!,5,FALSE))","v":{"$error":"#N/A"}},{"$f":"IF(A125=\"\",\"\",VLOOKUP(C125,#REF!,5,FALSE))","v":{"$error":"#N/A"}}]
[107002,{"$f":"IF(A126=\"\",\"\",VLOOKUP(A126,[1]ItemConfig!$A:$B,2,FALSE))","v":{"$error":"#N/A"}},{"$f":"IF(A126=\"\",\"\",VLOOKUP(A126,[1]ItemConfig!$A:$D,4,FALSE))","v":{"$error":"#N/A"}},{"$f":"IF(A126=\"\",\"\",VLOOKUP(A126,[1]ItemConfig!$A:$C,3,FALSE))","v":{"$error":"#N/A"}},{"$f":"IF(A126=\"\",\"\",VLOOKUP(B126,#REF!,5,FALSE))","v":{"$error":"#N/A"}},{"$f":"IF(A126=\"\",\"\",VLOOKUP(C126,#REF!,5,FALSE))","v":{"$error":"#N/A"}}]
[107003,{"$f":"IF(A127=\"\",\"\",VLOOKUP(A127,[1]ItemConfig!$A:$B,2,FALSE))","v":{"$error":"#N/A"}},{"$f":"IF(A127=\"\",\"\",VLOOKUP(A127,[1]ItemConfig!$A:$D,4,FALSE))","v":{"$error":"#N/A"}},{"$f":"IF(A127=\"\",\"\",VLOOKUP(A127,[1]ItemConfig!$A:$C,3,FALSE))","v":{"$error":"#N/A"}},{"$f":"IF(A127=\"\",\"\",VLOOKUP(B127,#REF!,5,FALSE))","v":{"$error":"#N/A"}},{"$f":"IF(A127=\"\",\"\",VLOOKUP(C127,#REF!,5,FALSE))","v":{"$error":"#N/A"}}]
[108001,{"$f":"IF(A128=\"\",\"\",VLOOKUP(A128,[1]ItemConfig!$A:$B,2,FALSE))","v":{"$error":"#N/A"}},{"$f":"IF(A128=\"\",\"\",VLOOKUP(A128,[1]ItemConfig!$A:$D,4,FALSE))","v":{"$error":"#N/A"}},{"$f":"IF(A128=\"\",\"\",VLOOKUP(A128,[1]ItemConfig!$A:$C,3,FALSE))","v":{"$error":"#N/A"}},{"$f":"IF(A128=\"\",\"\",VLOOKUP(B128,#REF!,5,FALSE))","v":{"$error":"#N/A"}},{"$f":"IF(A128=\"\",\"\",VLOOKUP(C128,#REF!,5,FALSE))","v":{"$error":"#N/A"}}]
[108002,{"$f":"IF(A129=\"\",\"\",VLOOKUP(A129,[1]ItemConfig!$A:$B,2,FALSE))","v":{"$error":"#N/A"}},{"$f":"IF(A129=\"\",\"\",VLOOKUP(A129,[1]ItemConfig!$A:$D,4,FALSE))","v":{"$error":"#N/A"}},{"$f":"IF(A129=\"\",\"\",VLOOKUP(A129,[1]ItemConfig!$A:$C,3,FALSE))","v":{"$error":"#N/A"}},{"$f":"IF(A129=\"\",\"\",VLOOKUP(B129,#REF!,5,FALSE))","v":{"$error":"#N/A"}},{"$f":"IF(A129=\"\",\"\",VLOOKUP(C129,#REF!,5,FALSE))","v":{"$error":"#N/A"}}]
[null,{"$f":"IF(A130=\"\",\"\",VLOOKUP(A130,[1]ItemConfig!$A:$B,2,FALSE))","v":""},{"$f":"IF(A130=\"\",\"\",VLOOKUP(A130,[1]ItemConfig!$A:$D,4,FALSE))","v":""},{"$f":"IF(A130=\"\",\"\",VLOOKUP(A130,[1]ItemConfig!$A:$C,3,FALSE))","v":""},{"$f":"IF(A130=\"\",\"\",VLOOKUP(B130,#REF!,5,FALSE))","v":""},{"$f":"IF(A130=\"\",\"\",VLOOKUP(C130,#REF!,5,FALSE))","v":""}]
[5001,{"$f":"IF(A131=\"\",\"\",VLOOKUP(A131,[1]ItemConfig!$A:$B,2,FALSE))","v":{"$error":"#N/A"}},{"$f":"IF(A131=\"\",\"\",VLOOKUP(A131,[1]ItemConfig!$A:$D,4,FALSE))","v":{"$error":"#N/A"}},{"$f":"IF(A131=\"\",\"\",VLOOKUP(A131,[1]ItemConfig!$A:$C,3,FALSE))","v":{"$error":"#N/A"}},{"$f":"IF(A131=\"\",\"\",VLOOKUP(B131,#REF!,5,FALSE))","v":{"$error":"#N/A"}},{"$f":"IF(A131=\"\",\"\",VLOOKUP(C131,#REF!,5,FALSE))","v":{"$error":"#N/A"}}]
[5002,{"$f":"IF(A132=\"\",\"\",VLOOKUP(A132,[1]ItemConfig!$A:$B,2,FALSE))","v":{"$error":"#N/A"}},{"$f":"IF(A132=\"\",\"\",VLOOKUP(A132,[1]ItemConfig!$A:$D,4,FALSE))","v":{"$error":"#N/A"}},{"$f":"IF(A132=\"\",\"\",VLOOKUP(A132,[1]ItemConfig!$A:$C,3,FALSE))","v":{"$error":"#N/A"}},{"$f":"IF(A132=\"\",\"\",VLOOKUP(B132,#REF!,5,FALSE))","v":{"$error":"#N/A"}},{"$f":"IF(A132=\"\",\"\",VLOOKUP(C132,#REF!,5,FALSE))","v":{"$error":"#N/A"}}]
[5003,{"$f":"IF(A133=\"\",\"\",VLOOKUP(A133,[1]ItemConfig!$A:$B,2,FALSE))","v":{"$error":"#N/A"}},{"$f":"IF(A133=\"\",\"\",VLOOKUP(A133,[1]ItemConfig!$A:$D,4,FALSE))","v":{"$error":"#N/A"}},{"$f":"IF(A133=\"\",\"\",VLOOKUP(A133,[1]ItemConfig!$A:$C,3,FALSE))","v":{"$error":"#N/A"}},{"$f":"IF(A133=\"\",\"\",VLOOKUP(B133,#REF!,5,FALSE))","v":{"$error":"#N/A"}},{"$f":"IF(A133=\"\",\"\",VLOOKUP(C133,#REF!,5,FALSE))","v":{"$error":"#N/A"}}]
[5004,{"$f":"IF(A134=\"\",\"\",VLOOKUP(A134,[1]ItemConfig!$A:$B,2,FALSE))","v":{"$error":"#N/A"}},{"$f":"IF(A134=\"\",\"\",VLOOKUP(A134,[1]ItemConfig!$A:$D,4,FALSE))","v":{"$error":"#N/A"}},{"$f":"IF(A134=\"\",\"\",VLOOKUP(A134,[1]ItemConfig!$A:$C,3,FALSE))","v":{"$error":"#N/A"}},{"$f":"IF(A134=\"\",\"\",VLOOKUP(B134,#REF!,5,FALSE))","v":{"$error":"#N/A"}},{"$f":"IF(A134=\"\",\"\",VLOOKUP(C134,#REF!,5,FALSE))","v":{"$error":"#N/A"}}]
[5005,{"$f":"IF(A135=\"\",\"\",VLOOKUP(A135,[1]ItemConfig!$A:$B,2,FALSE))","v":{"$error":"#N/A"}},{"$f":"IF(A135=\"\",\"\",VLOOKUP(A135,[1]ItemConfig!$A:$D,4,FALSE))","v":{"$error":"#N/A"}},{"$f":"IF(A135=\"\",\"\",VLOOKUP(A135,[1]ItemConfig!$A:$C,3,FALSE))","v":{"$error":"#N/A"}},{"$f":"IF(A135=\"\",\"\",VLOOKUP(B135,#REF!,5,FALSE))","v":{"$error":"#N/A"}},{"$f":"IF(A135=\"\",\"\",VLOOKUP(C135,#REF!,5,FALSE))","v":{"$error":"#N/A"}}]
[5006,{"$f":"IF(A136=\"\",\"\",VLOOKUP(A136,[1]ItemConfig!$A:$B,2,FALSE))","v":{"$error":"#N/A"}},{"$f":"IF(A136=\"\",\"\",VLOOKUP(A136,[1]ItemConfig!$A:$D,4,FALSE))","v":{"$error":"#N/A"}},{"$f":"IF(A136=\"\",\"\",VLOOKUP(A136,[1]ItemConfig!$A:$C,3,FALSE))","v":{"$error":"#N/A"}},{"$f":"IF(A136=\"\",\"\",VLOOKUP(B136,#REF!,5,FALSE))","v":{"$error":"#N/A"}},{"$f":"IF(A136=\"\",\"\",VLOOKUP(C136,#REF!,5,FALSE))","v":{"$error":"#N/A"}}]
[5007,{"$f":"IF(A137=\"\",\"\",VLOOKUP(A137,[1]ItemConfig!$A:$B,2,FALSE))","v":{"$error":"#N/A"}},{"$f":"IF(A137=\"\",\"\",VLOOKUP(A137,[1]ItemConfig!$A:$D,4,FALSE))","v":{"$error":"#N/A"}},{"$f":"IF(A137=\"\",\"\",VLOOKUP(A137,[1]ItemConfig!$A:$C,3,FALSE))","v":{"$error":"#N/A"}},{"$f":"IF(A137=\"\",\"\",VLOOKUP(B137,#REF!,5,FALSE))","v":{"$error":"#N/A"}},{"$f":"IF(A137=\"\",\"\",VLOOKUP(C137,#REF!,5,FALSE))","v":{"$error":"#N/A"}}]
[5008,{"$f":"IF(A138=\"\",\"\",VLOOKUP(A138,[1]ItemConfig!$A:$B,2,FALSE))","v":{"$error":"#N/A"}},{"$f":"IF(A138=\"\",\"\",VLOOKUP(A138,[1]ItemConfig!$A:$D,4,FALSE))","v":{"$error":"#N/A"}},{"$f":"IF(A138=\"\",\"\",VLOOKUP(A138,[1]ItemConfig!$A:$C,3,FALSE))","v":{"$error":"#N/A"}},{"$f":"IF(A138=\"\",\"\",VLOOKUP(B138,#REF!,5,FALSE))","v":{"$error":"#N/A"}},{"$f":"IF(A138=\"\",\"\",VLOOKUP(C138,#REF!,5,FALSE))","v":{"$error":"#N/A"}}]
[5009,{"$f":"IF(A139=\"\",\"\",VLOOKUP(A139,[1]ItemConfig!$A:$B,2,FALSE))","v":{"$error":"#N/A"}},{"$f":"IF(A139=\"\",\"\",VLOOKUP(A139,[1]ItemConfig!$A:$D,4,FALSE))","v":{"$error":"#N/A"}},{"$f":"IF(A139=\"\",\"\",VLOOKUP(A139,[1]ItemConfig!$A:$C,3,FALSE))","v":{"$error":"#N/A"}},{"$f":"IF(A139=\"\",\"\",VLOOKUP(B139,#REF!,5,FALSE))","v":{"$error":"#N/A"}},{"$f":"IF(A139=\"\",\"\",VLOOKUP(C139,#REF!,5,FALSE))","v":{"$error":"#N/A"}}]
[5010,{"$f":"IF(A140=\"\",\"\",VLOOKUP(A140,[1]ItemConfig!$A:$B,2,FALSE))","v":{"$error":"#N/A"}},{"$f":"IF(A140=\"\",\"\",VLOOKUP(A140,[1]ItemConfig!$A:$D,4,FALSE))","v":{"$error":"#N/A"}},{"$f":"IF(A140=\"\",\"\",VLOOKUP(A140,[1]ItemConfig!$A:$C,3,FALSE))","v":{"$error":"#N/A"}},{"$f":"IF(A140=\"\",\"\",VLOOKUP(B140,#REF!,5,FALSE))","v":{"$error":"#N/A"}},{"$f":"IF(A140=\"\",\"\",VLOOKUP(C140,#REF!,5,FALSE))","v":{"$error":"#N/A"}}]
[5011,{"$f":"IF(A141=\"\",\"\",VLOOKUP(A141,[1]ItemConfig!$A:$B,2,FALSE))","v":{"$error":"#N/A"}},{"$f":"IF(A141=\"\",\"\",VLOOKUP(A141,[1]ItemConfig!$A:$D,4,FALSE))","v":{"$error":"#N/A"}},{"$f":"IF(A141=\"\",\"\",VLOOKUP(A141,[1]ItemConfig!$A:$C,3,FALSE))","v":{"$error":"#N/A"}},{"$f":"IF(A141=\"\",\"\",VLOOKUP(B141,#REF!,5,FALSE))","v":{"$error":"#N/A"}},{"$f":"IF(A141=\"\",\"\",VLOOKUP(C141,#REF!,5,FALSE))","v":{"$error":"#N/A"}}]
[5012,{"$f":"IF(A142=\"\",\"\",VLOOKUP(A142,[1]ItemConfig!$A:$B,2,FALSE))","v":{"$error":"#N/A"}},{"$f":"IF(A142=\"\",\"\",VLOOKUP(A142,[1]ItemConfig!$A:$D,4,FALSE))","v":{"$error":"#N/A"}},{"$f":"IF(A142=\"\",\"\",VLOOKUP(A142,[1]ItemConfig!$A:$C,3,FALSE))","v":{"$error":"#N/A"}},{"$f":"IF(A142=\"\",\"\",VLOOKUP(B142,#REF!,5,FALSE))","v":{"$error":"#N/A"}},{"$f":"IF(A142=\"\",\"\",VLOOKUP(C142,#REF!,5,FALSE))","v":{"$error":"#N/A"}}]
[5013,{"$f":"IF(A143=\"\",\"\",VLOOKUP(A143,[1]ItemConfig!$A:$B,2,FALSE))","v":{"$error":"#N/A"}},{"$f":"IF(A143=\"\",\"\",VLOOKUP(A143,[1]ItemConfig!$A:$D,4,FALSE))","v":{"$error":"#N/A"}},{"$f":"IF(A143=\"\",\"\",VLOOKUP(A143,[1]ItemConfig!$A:$C,3,FALSE))","v":{"$error":"#N/A"}},{"$f":"IF(A143=\"\",\"\",VLOOKUP(B143,#REF!,5,FALSE))","v":{"$error":"#N/A"}},{"$f":"IF(A143=\"\",\"\",VLOOKUP(C143,#REF!,5,FALSE))","v":{"$error":"#N/A"}}]
[5014,{"$f":"IF(A144=\"\",\"\",VLOOKUP(A144,[1]ItemConfig!$A:$B,2,FALSE))","v":{"$error":"#N/A"}},{"$f":"IF(A144=\"\",\"\",VLOOKUP(A144,[1]ItemConfig!$A:$D,4,FALSE))","v":{"$error":"#N/A"}},{"$f":"IF(A144=\"\",\"\",VLOOKUP(A144,[1]ItemConfig!$A:$C,3,FALSE))","v":{"$error":"#N/A"}},{"$f":"IF(A144=\"\",\"\",VLOOKUP(B144,#REF!,5,FALSE))","v":{"$error":"#N/A"}},{"$f":"IF(A144=\"\",\"\",VLOOKUP(C144,#REF!,5,FALSE))","v":{"$error":"#N/A"}}]
[5015,{"$f":"IF(A145=\"\",\"\",VLOOKUP(A145,[1]ItemConfig!$A:$B,2,FALSE))","v":{"$error":"#N/A"}},{"$f":"IF(A145=\"\",\"\",VLOOKUP(A145,[1]ItemConfig!$A:$D,4,FALSE))","v":{"$error":"#N/A"}},{"$f":"IF(A145=\"\",\"\",VLOOKUP(A145,[1]ItemConfig!$A:$C,3,FALSE))","v":{"$error":"#N/A"}},{"$f":"IF(A145=\"\",\"\",VLOOKUP(B145,#REF!,5,FALSE))","v":{"$error":"#N/A"}},{"$f":"IF(A145=\"\",\"\",VLOOKUP(C145,#REF!,5,FALSE))","v":{"$error":"#N/A"}}]
[5016,{"$f":"IF(A146=\"\",\"\",VLOOKUP(A146,[1]ItemConfig!$A:$B,2,FALSE))","v":{"$error":"#N/A"}},{"$f":"IF(A146=\"\",\"\",VLOOKUP(A146,[1]ItemConfig!$A:$D,4,FALSE))","v":{"$error":"#N/A"}},{"$f":"IF(A146=\"\",\"\",VLOOKUP(A146,[1]ItemConfig!$A:$C,3,FALSE))","v":{"$error":"#N/A"}},{"$f":"IF(A146=\"\",\"\",VLOOKUP(B146,#REF!,5,FALSE))","v":{"$error":"#N/A"}},{"$f":"IF(A146=\"\",\"\",VLOOKUP(C146,#REF!,5,FALSE))","v":{"$error":"#N/A"}}]
[null,{"$f":"IF(A147=\"\",\"\",VLOOKUP(A147,[1]ItemConfig!$A:$B,2,FALSE))","v":""},{"$f":"IF(A147=\"\",\"\",VLOOKUP(A147,[1]ItemConfig!$A:$D,4,FALSE))","v":""},{"$f":"IF(A147=\"\",\"\",VLOOKUP(A147,[1]ItemConfig!$A:$C,3,FALSE))","v":""},{"$f":"IF(A147=\"\",\"\",VLOOKUP(B147,#REF!,5,FALSE))","v":""},{"$f":"IF(A147=\"\",\"\",VLOOKUP(C147,#REF!,5,FALSE))","v":""}]
[5017,{"$f":"IF(A148=\"\",\"\",VLOOKUP(A148,[1]ItemConfig!$A:$B,2,FALSE))","v":{"$error":"#N/A"}},{"$f":"IF(A148=\"\",\"\",VLOOKUP(A148,[1]ItemConfig!$A:$D,4,FALSE))","v":{"$error":"#N/A"}},{"$f":"IF(A148=\"\",\"\",VLOOKUP(A148,[1]ItemConfig!$A:$C,3,FALSE))","v":{"$error":"#N/A"}},{"$f":"IF(A148=\"\",\"\",VLOOKUP(B148,#REF!,5,FALSE))","v":{"$error":"#N/A"}},{"$f":"IF(A148=\"\",\"\",VLOOKUP(C148,#REF!,5,FALSE))","v":{"$error":"#N/A"}}]
[5018,{"$f":"IF(A149=\"\",\"\",VLOOKUP(A149,[1]ItemConfig!$A:$B,2,FALSE))","v":{"$error":"#N/A"}},{"$f":"IF(A149=\"\",\"\",VLOOKUP(A149,[1]ItemConfig!$A:$D,4,FALSE))","v":{"$error":"#N/A"}},{"$f":"IF(A149=\"\",\"\",VLOOKUP(A149,[1]ItemConfig!$A:$C,3,FALSE))","v":{"$error":"#N/A"}},{"$f":"IF(A149=\"\",\"\",VLOOKUP(B149,#REF!,5,FALSE))","v":{"$error":"#N/A"}},{"$f":"IF(A149=\"\",\"\",VLOOKUP(C149,#REF!,5,FALSE))","v":{"$error":"#N/A"}}]
[5019,{"$f":"IF(A150=\"\",\"\",VLOOKUP(A150,[1]ItemConfig!$A:$B,2,FALSE))","v":{"$error":"#N/A"}},{"$f":"IF(A150=\"\",\"\",VLOOKUP(A150,[1]ItemConfig!$A:$D,4,FALSE))","v":{"$error":"#N/A"}},{"$f":"IF(A150=\"\",\"\",VLOOKUP(A150,[1]ItemConfig!$A:$C,3,FALSE))","v":{"$error":"#N/A"}},{"$f":"IF(A150=\"\",\"\",VLOOKUP(B150,#REF!,5,FALSE))","v":{"$error":"#N/A"}},{"$f":"IF(A150=\"\",\"\",VLOOKUP(C150,#REF!,5,FALSE))","v":{"$error":"#N/A"}}]
[5020,{"$f":"IF(A151=\"\",\"\",VLOOKUP(A151,[1]ItemConfig!$A:$B,2,FALSE))","v":{"$error":"#N/A"}},{"$f":"IF(A151=\"\",\"\",VLOOKUP(A151,[1]ItemConfig!$A:$D,4,FALSE))","v":{"$error":"#N/A"}},{"$f":"IF(A151=\"\",\"\",VLOOKUP(A151,[1]ItemConfig!$A:$C,3,FALSE))","v":{"$error":"#N/A"}},{"$f":"IF(A151=\"\",\"\",VLOOKUP(B151,#REF!,5,FALSE))","v":{"$error":"#N/A"}},{"$f":"IF(A151=\"\",\"\",VLOOKUP(C151,#REF!,5,FALSE))","v":{"$error":"#N/A"}}]
[5021,{"$f":"IF(A152=\"\",\"\",VLOOKUP(A152,[1]ItemConfig!$A:$B,2,FALSE))","v":{"$error":"#N/A"}},{"$f":"IF(A152=\"\",\"\",VLOOKUP(A152,[1]ItemConfig!$A:$D,4,FALSE))","v":{"$error":"#N/A"}},{"$f":"IF(A152=\"\",\"\",VLOOKUP(A152,[1]ItemConfig!$A:$C,3,FALSE))","v":{"$error":"#N/A"}},{"$f":"IF(A152=\"\",\"\",VLOOKUP(B152,#REF!,5,FALSE))","v":{"$error":"#N/A"}},{"$f":"IF(A152=\"\",\"\",VLOOKUP(C152,#REF!,5,FALSE))","v":{"$error":"#N/A"}}]
[5022,{"$f":"IF(A153=\"\",\"\",VLOOKUP(A153,[1]ItemConfig!$A:$B,2,FALSE))","v":{"$error":"#N/A"}},{"$f":"IF(A153=\"\",\"\",VLOOKUP(A153,[1]ItemConfig!$A:$D,4,FALSE))","v":{"$error":"#N/A"}},{"$f":"IF(A153=\"\",\"\",VLOOKUP(A153,[1]ItemConfig!$A:$C,3,FALSE))","v":{"$error":"#N/A"}},{"$f":"IF(A153=\"\",\"\",VLOOKUP(B153,#REF!,5,FALSE))","v":{"$error":"#N/A"}},{"$f":"IF(A153=\"\",\"\",VLOOKUP(C153,#REF!,5,FALSE))","v":{"$error":"#N/A"}}]
[5023,{"$f":"IF(A154=\"\",\"\",VLOOKUP(A154,[1]ItemConfig!$A:$B,2,FALSE))","v":{"$error":"#N/A"}},{"$f":"IF(A154=\"\",\"\",VLOOKUP(A154,[1]ItemConfig!$A:$D,4,FALSE))","v":{"$error":"#N/A"}},{"$f":"IF(A154=\"\",\"\",VLOOKUP(A154,[1]ItemConfig!$A:$C,3,FALSE))","v":{"$error":"#N/A"}},{"$f":"IF(A154=\"\",\"\",VLOOKUP(B154,#REF!,5,FALSE))","v":{"$error":"#N/A"}},{"$f":"IF(A154=\"\",\"\",VLOOKUP(C154,#REF!,5,FALSE))","v":{"$error":"#N/A"}}]
[5024,{"$f":"IF(A155=\"\",\"\",VLOOKUP(A155,[1]ItemConfig!$A:$B,2,FALSE))","v":{"$error":"#N/A"}},{"$f":"IF(A155=\"\",\"\",VLOOKUP(A155,[1]ItemConfig!$A:$D,4,FALSE))","v":{"$error":"#N/A"}},{"$f":"IF(A155=\"\",\"\",VLOOKUP(A155,[1]ItemConfig!$A:$C,3,FALSE))","v":{"$error":"#N/A"}},{"$f":"IF(A155=\"\",\"\",VLOOKUP(B155,#REF!,5,FALSE))","v":{"$error":"#N/A"}},{"$f":"IF(A155=\"\",\"\",VLOOKUP(C155,#REF!,5,FALSE))","v":{"$error":"#N/A"}}]
[5025,{"$f":"IF(A156=\"\",\"\",VLOOKUP(A156,[1]ItemConfig!$A:$B,2,FALSE))","v":{"$error":"#N/A"}},{"$f":"IF(A156=\"\",\"\",VLOOKUP(A156,[1]ItemConfig!$A:$D,4,FALSE))","v":{"$error":"#N/A"}},{"$f":"IF(A156=\"\",\"\",VLOOKUP(A156,[1]ItemConfig!$A:$C,3,FALSE))","v":{"$error":"#N/A"}},{"$f":"IF(A156=\"\",\"\",VLOOKUP(B156,#REF!,5,FALSE))","v":{"$error":"#N/A"}},{"$f":"IF(A156=\"\",\"\",VLOOKUP(C156,#REF!,5,FALSE))","v":{"$error":"#N/A"}}]
[5026,{"$f":"IF(A157=\"\",\"\",VLOOKUP(A157,[1]ItemConfig!$A:$B,2,FALSE))","v":{"$error":"#N/A"}},{"$f":"IF(A157=\"\",\"\",VLOOKUP(A157,[1]ItemConfig!$A:$D,4,FALSE))","v":{"$error":"#N/A"}},{"$f":"IF(A157=\"\",\"\",VLOOKUP(A157,[1]ItemConfig!$A:$C,3,FALSE))","v":{"$error":"#N/A"}},{"$f":"IF(A157=\"\",\"\",VLOOKUP(B157,#REF!,5,FALSE))","v":{"$error":"#N/A"}},{"$f":"IF(A157=\"\",\"\",VLOOKUP(C157,#REF!,5,FALSE))","v":{"$error":"#N/A"}}]
[5027,{"$f":"IF(A158=\"\",\"\",VLOOKUP(A158,[1]ItemConfig!$A:$B,2,FALSE))","v":{"$error":"#N/A"}},{"$f":"IF(A158=\"\",\"\",VLOOKUP(A158,[1]ItemConfig!$A:$D,4,FALSE))","v":{"$error":"#N/A"}},{"$f":"IF(A158=\"\",\"\",VLOOKUP(A158,[1]ItemConfig!$A:$C,3,FALSE))","v":{"$error":"#N/A"}},{"$f":"IF(A158=\"\",\"\",VLOOKUP(B158,#REF!,5,FALSE))","v":{"$error":"#N/A"}},{"$f":"IF(A158=\"\",\"\",VLOOKUP(C158,#REF!,5,FALSE))","v":{"$error":"#N/A"}}]
[5028,{"$f":"IF(A159=\"\",\"\",VLOOKUP(A159,[1]ItemConfig!$A:$B,2,FALSE))","v":{"$error":"#N/A"}},{"$f":"IF(A159=\"\",\"\",VLOOKUP(A159,[1]ItemConfig!$A:$D,4,FALSE))","v":{"$error":"#N/A"}},{"$f":"IF(A159=\"\",\"\",VLOOKUP(A159,[1]ItemConfig!$A:$C,3,FALSE))","v":{"$error":"#N/A"}},{"$f":"IF(A159=\"\",\"\",VLOOKUP(B159,#REF!,5,FALSE))","v":{"$error":"#N/A"}},{"$f":"IF(A159=\"\",\"\",VLOOKUP(C159,#REF!,5,FALSE))","v":{"$error":"#N/A"}}]
[5029,{"$f":"IF(A160=\"\",\"\",VLOOKUP(A160,[1]ItemConfig!$A:$B,2,FALSE))","v":{"$error":"#N/A"}},{"$f":"IF(A160=\"\",\"\",VLOOKUP(A160,[1]ItemConfig!$A:$D,4,FALSE))","v":{"$error":"#N/A"}},{"$f":"IF(A160=\"\",\"\",VLOOKUP(A160,[1]ItemConfig!$A:$C,3,FALSE))","v":{"$error":"#N/A"}},{"$f":"IF(A160=\"\",\"\",VLOOKUP(B160,#REF!,5,FALSE))","v":{"$error":"#N/A"}},{"$f":"IF(A160=\"\",\"\",VLOOKUP(C160,#REF!,5,FALSE))","v":{"$error":"#N/A"}}]
[5030,{"$f":"IF(A161=\"\",\"\",VLOOKUP(A161,[1]ItemConfig!$A:$B,2,FALSE))","v":{"$error":"#N/A"}},{"$f":"IF(A161=\"\",\"\",VLOOKUP(A161,[1]ItemConfig!$A:$D,4,FALSE))","v":{"$error":"#N/A"}},{"$f":"IF(A161=\"\",\"\",VLOOKUP(A161,[1]ItemConfig!$A:$C,3,FALSE))","v":{"$error":"#N/A"}},{"$f":"IF(A161=\"\",\"\",VLOOKUP(B161,#REF!,5,FALSE))","v":{"$error":"#N/A"}},{"$f":"IF(A161=\"\",\"\",VLOOKUP(C161,#REF!,5,FALSE))","v":{"$error":"#N/A"}}]
[5031,{"$f":"IF(A162=\"\",\"\",VLOOKUP(A162,[1]ItemConfig!$A:$B,2,FALSE))","v":{"$error":"#N/A"}},{"$f":"IF(A162=\"\",\"\",VLOOKUP(A162,[1]ItemConfig!$A:$D,4,FALSE))","v":{"$error":"#N/A"}},{"$f":"IF(A162=\"\",\"\",VLOOKUP(A162,[1]ItemConfig!$A:$C,3,FALSE))","v":{"$error":"#N/A"}},{"$f":"IF(A162=\"\",\"\",VLOOKUP(B162,#REF!,5,FALSE))","v":{"$error":"#N/A"}},{"$f":"IF(A162=\"\",\"\",VLOOKUP(C162,#REF!,5,FALSE))","v":{"$error":"#N/A"}}]
[5032,{"$f":"IF(A163=\"\",\"\",VLOOKUP(A163,[1]ItemConfig!$A:$B,2,FALSE))","v":{"$error":"#N/A"}},{"$f":"IF(A163=\"\",\"\",VLOOKUP(A163,[1]ItemConfig!$A:$D,4,FALSE))","v":{"$error":"#N/A"}},{"$f":"IF(A163=\"\",\"\",VLOOKUP(A163,[1]ItemConfig!$A:$C,3,FALSE))","v":{"$error":"#N/A"}},{"$f":"IF(A163=\"\",\"\",VLOOKUP(B163,#REF!,5,FALSE))","v":{"$error":"#N/A"}},{"$f":"IF(A163=\"\",\"\",VLOOKUP(C163,#REF!,5,FALSE))","v":{"$error":"#N/A"}}]
[null,{"$f":"IF(A164=\"\",\"\",VLOOKUP(A164,[1]ItemConfig!$A:$B,2,FALSE))","v":""},{"$f":"IF(A164=\"\",\"\",VLOOKUP(A164,[1]ItemConfig!$A:$D,4,FALSE))","v":""},{"$f":"IF(A164=\"\",\"\",VLOOKUP(A164,[1]ItemConfig!$A:$C,3,FALSE))","v":""},{"$f":"IF(A164=\"\",\"\",VLOOKUP(B164,#REF!,5,FALSE))","v":""},{"$f":"IF(A164=\"\",\"\",VLOOKUP(C164,#REF!,5,FALSE))","v":""}]
[5033,{"$f":"IF(A165=\"\",\"\",VLOOKUP(A165,[1]ItemConfig!$A:$B,2,FALSE))","v":{"$error":"#N/A"}},{"$f":"IF(A165=\"\",\"\",VLOOKUP(A165,[1]ItemConfig!$A:$D,4,FALSE))","v":{"$error":"#N/A"}},{"$f":"IF(A165=\"\",\"\",VLOOKUP(A165,[1]ItemConfig!$A:$C,3,FALSE))","v":{"$error":"#N/A"}},{"$f":"IF(A165=\"\",\"\",VLOOKUP(B165,#REF!,5,FALSE))","v":{"$error":"#N/A"}},{"$f":"IF(A165=\"\",\"\",VLOOKUP(C165,#REF!,5,FALSE))","v":{"$error":"#N/A"}}]
[5034,{"$f":"IF(A166=\"\",\"\",VLOOKUP(A166,[1]ItemConfig!$A:$B,2,FALSE))","v":{"$error":"#N/A"}},{"$f":"IF(A166=\"\",\"\",VLOOKUP(A166,[1]ItemConfig!$A:$D,4,FALSE))","v":{"$error":"#N/A"}},{"$f":"IF(A166=\"\",\"\",VLOOKUP(A166,[1]ItemConfig!$A:$C,3,FALSE))","v":{"$error":"#N/A"}},{"$f":"IF(A166=\"\",\"\",VLOOKUP(B166,#REF!,5,FALSE))","v":{"$error":"#N/A"}},{"$f":"IF(A166=\"\",\"\",VLOOKUP(C166,#REF!,5,FALSE))","v":{"$error":"#N/A"}}]
[5035,{"$f":"IF(A167=\"\",\"\",VLOOKUP(A167,[1]ItemConfig!$A:$B,2,FALSE))","v":{"$error":"#N/A"}},{"$f":"IF(A167=\"\",\"\",VLOOKUP(A167,[1]ItemConfig!$A:$D,4,FALSE))","v":{"$error":"#N/A"}},{"$f":"IF(A167=\"\",\"\",VLOOKUP(A167,[1]ItemConfig!$A:$C,3,FALSE))","v":{"$error":"#N/A"}},{"$f":"IF(A167=\"\",\"\",VLOOKUP(B167,#REF!,5,FALSE))","v":{"$error":"#N/A"}},{"$f":"IF(A167=\"\",\"\",VLOOKUP(C167,#REF!,5,FALSE))","v":{"$error":"#N/A"}}]
[5036,{"$f":"IF(A168=\"\",\"\",VLOOKUP(A168,[1]ItemConfig!$A:$B,2,FALSE))","v":{"$error":"#N/A"}},{"$f":"IF(A168=\"\",\"\",VLOOKUP(A168,[1]ItemConfig!$A:$D,4,FALSE))","v":{"$error":"#N/A"}},{"$f":"IF(A168=\"\",\"\",VLOOKUP(A168,[1]ItemConfig!$A:$C,3,FALSE))","v":{"$error":"#N/A"}},{"$f":"IF(A168=\"\",\"\",VLOOKUP(B168,#REF!,5,FALSE))","v":{"$error":"#N/A"}},{"$f":"IF(A168=\"\",\"\",VLOOKUP(C168,#REF!,5,FALSE))","v":{"$error":"#N/A"}}]
[5037,{"$f":"IF(A169=\"\",\"\",VLOOKUP(A169,[1]ItemConfig!$A:$B,2,FALSE))","v":{"$error":"#N/A"}},{"$f":"IF(A169=\"\",\"\",VLOOKUP(A169,[1]ItemConfig!$A:$D,4,FALSE))","v":{"$error":"#N/A"}},{"$f":"IF(A169=\"\",\"\",VLOOKUP(A169,[1]ItemConfig!$A:$C,3,FALSE))","v":{"$error":"#N/A"}},{"$f":"IF(A169=\"\",\"\",VLOOKUP(B169,#REF!,5,FALSE))","v":{"$error":"#N/A"}},{"$f":"IF(A169=\"\",\"\",VLOOKUP(C169,#REF!,5,FALSE))","v":{"$error":"#N/A"}}]
[5038,{"$f":"IF(A170=\"\",\"\",VLOOKUP(A170,[1]ItemConfig!$A:$B,2,FALSE))","v":{"$error":"#N/A"}},{"$f":"IF(A170=\"\",\"\",VLOOKUP(A170,[1]ItemConfig!$A:$D,4,FALSE))","v":{"$error":"#N/A"}},{"$f":"IF(A170=\"\",\"\",VLOOKUP(A170,[1]ItemConfig!$A:$C,3,FALSE))","v":{"$error":"#N/A"}},{"$f":"IF(A170=\"\",\"\",VLOOKUP(B170,#REF!,5,FALSE))","v":{"$error":"#N/A"}},{"$f":"IF(A170=\"\",\"\",VLOOKUP(C170,#REF!,5,FALSE))","v":{"$error":"#N/A"}}]
[5039,{"$f":"IF(A171=\"\",\"\",VLOOKUP(A171,[1]ItemConfig!$A:$B,2,FALSE))","v":{"$error":"#N/A"}},{"$f":"IF(A171=\"\",\"\",VLOOKUP(A171,[1]ItemConfig!$A:$D,4,FALSE))","v":{"$error":"#N/A"}},{"$f":"IF(A171=\"\",\"\",VLOOKUP(A171,[1]ItemConfig!$A:$C,3,FALSE))","v":{"$error":"#N/A"}},{"$f":"IF(A171=\"\",\"\",VLOOKUP(B171,#REF!,5,FALSE))","v":{"$error":"#N/A"}},{"$f":"IF(A171=\"\",\"\",VLOOKUP(C171,#REF!,5,FALSE))","v":{"$error":"#N/A"}}]
[5040,{"$f":"IF(A172=\"\",\"\",VLOOKUP(A172,[1]ItemConfig!$A:$B,2,FALSE))","v":{"$error":"#N/A"}},{"$f":"IF(A172=\"\",\"\",VLOOKUP(A172,[1]ItemConfig!$A:$D,4,FALSE))","v":{"$error":"#N/A"}},{"$f":"IF(A172=\"\",\"\",VLOOKUP(A172,[1]ItemConfig!$A:$C,3,FALSE))","v":{"$error":"#N/A"}},{"$f":"IF(A172=\"\",\"\",VLOOKUP(B172,#REF!,5,FALSE))","v":{"$error":"#N/A"}},{"$f":"IF(A172=\"\",\"\",VLOOKUP(C172,#REF!,5,FALSE))","v":{"$error":"#N/A"}}]
[5041,{"$f":"IF(A173=\"\",\"\",VLOOKUP(A173,[1]ItemConfig!$A:$B,2,FALSE))","v":{"$error":"#N/A"}},{"$f":"IF(A173=\"\",\"\",VLOOKUP(A173,[1]ItemConfig!$A:$D,4,FALSE))","v":{"$error":"#N/A"}},{"$f":"IF(A173=\"\",\"\",VLOOKUP(A173,[1]ItemConfig!$A:$C,3,FALSE))","v":{"$error":"#N/A"}},{"$f":"IF(A173=\"\",\"\",VLOOKUP(B173,#REF!,5,FALSE))","v":{"$error":"#N/A"}},{"$f":"IF(A173=\"\",\"\",VLOOKUP(C173,#REF!,5,FALSE))","v":{"$error":"#N/A"}}]
[5042,{"$f":"IF(A174=\"\",\"\",VLOOKUP(A174,[1]ItemConfig!$A:$B,2,FALSE))","v":{"$error":"#N/A"}},{"$f":"IF(A174=\"\",\"\",VLOOKUP(A174,[1]ItemConfig!$A:$D,4,FALSE))","v":{"$error":"#N/A"}},{"$f":"IF(A174=\"\",\"\",VLOOKUP(A174,[1]ItemConfig!$A:$C,3,FALSE))","v":{"$error":"#N/A"}},{"$f":"IF(A174=\"\",\"\",VLOOKUP(B174,#REF!,5,FALSE))","v":{"$error":"#N/A"}},{"$f":"IF(A174=\"\",\"\",VLOOKUP(C174,#REF!,5,FALSE))","v":{"$error":"#N/A"}}]
[5043,{"$f":"IF(A175=\"\",\"\",VLOOKUP(A175,[1]ItemConfig!$A:$B,2,FALSE))","v":{"$error":"#N/A"}},{"$f":"IF(A175=\"\",\"\",VLOOKUP(A175,[1]ItemConfig!$A:$D,4,FALSE))","v":{"$error":"#N/A"}},{"$f":"IF(A175=\"\",\"\",VLOOKUP(A175,[1]ItemConfig!$A:$C,3,FALSE))","v":{"$error":"#N/A"}},{"$f":"IF(A175=\"\",\"\",VLOOKUP(B175,#REF!,5,FALSE))","v":{"$error":"#N/A"}},{"$f":"IF(A175=\"\",\"\",VLOOKUP(C175,#REF!,5,FALSE))","v":{"$error":"#N/A"}}]
[5044,{"$f":"IF(A176=\"\",\"\",VLOOKUP(A176,[1]ItemConfig!$A:$B,2,FALSE))","v":{"$error":"#N/A"}},{"$f":"IF(A176=\"\",\"\",VLOOKUP(A176,[1]ItemConfig!$A:$D,4,FALSE))","v":{"$error":"#N/A"}},{"$f":"IF(A176=\"\",\"\",VLOOKUP(A176,[1]ItemConfig!$A:$C,3,FALSE))","v":{"$error":"#N/A"}},{"$f":"IF(A176=\"\",\"\",VLOOKUP(B176,#REF!,5,FALSE))","v":{"$error":"#N/A"}},{"$f":"IF(A176=\"\",\"\",VLOOKUP(C176,#REF!,5,FALSE))","v":{"$error":"#N/A"}}]
[5045,{"$f":"IF(A177=\"\",\"\",VLOOKUP(A177,[1]ItemConfig!$A:$B,2,FALSE))","v":{"$error":"#N/A"}},{"$f":"IF(A177=\"\",\"\",VLOOKUP(A177,[1]ItemConfig!$A:$D,4,FALSE))","v":{"$error":"#N/A"}},{"$f":"IF(A177=\"\",\"\",VLOOKUP(A177,[1]ItemConfig!$A:$C,3,FALSE))","v":{"$error":"#N/A"}},{"$f":"IF(A177=\"\",\"\",VLOOKUP(B177,#REF!,5,FALSE))","v":{"$error":"#N/A"}},{"$f":"IF(A177=\"\",\"\",VLOOKUP(C177,#REF!,5,FALSE))","v":{"$error":"#N/A"}}]
[5046,{"$f":"IF(A178=\"\",\"\",VLOOKUP(A178,[1]ItemConfig!$A:$B,2,FALSE))","v":{"$error":"#N/A"}},{"$f":"IF(A178=\"\",\"\",VLOOKUP(A178,[1]ItemConfig!$A:$D,4,FALSE))","v":{"$error":"#N/A"}},{"$f":"IF(A178=\"\",\"\",VLOOKUP(A178,[1]ItemConfig!$A:$C,3,FALSE))","v":{"$error":"#N/A"}},{"$f":"IF(A178=\"\",\"\",VLOOKUP(B178,#REF!,5,FALSE))","v":{"$error":"#N/A"}},{"$f":"IF(A178=\"\",\"\",VLOOKUP(C178,#REF!,5,FALSE))","v":{"$error":"#N/A"}}]
[5047,{"$f":"IF(A179=\"\",\"\",VLOOKUP(A179,[1]ItemConfig!$A:$B,2,FALSE))","v":{"$error":"#N/A"}},{"$f":"IF(A179=\"\",\"\",VLOOKUP(A179,[1]ItemConfig!$A:$D,4,FALSE))","v":{"$error":"#N/A"}},{"$f":"IF(A179=\"\",\"\",VLOOKUP(A179,[1]ItemConfig!$A:$C,3,FALSE))","v":{"$error":"#N/A"}},{"$f":"IF(A179=\"\",\"\",VLOOKUP(B179,#REF!,5,FALSE))","v":{"$error":"#N/A"}},{"$f":"IF(A179=\"\",\"\",VLOOKUP(C179,#REF!,5,FALSE))","v":{"$error":"#N/A"}}]
[5048,{"$f":"IF(A180=\"\",\"\",VLOOKUP(A180,[1]ItemConfig!$A:$B,2,FALSE))","v":{"$error":"#N/A"}},{"$f":"IF(A180=\"\",\"\",VLOOKUP(A180,[1]ItemConfig!$A:$D,4,FALSE))","v":{"$error":"#N/A"}},{"$f":"IF(A180=\"\",\"\",VLOOKUP(A180,[1]ItemConfig!$A:$C,3,FALSE))","v":{"$error":"#N/A"}},{"$f":"IF(A180=\"\",\"\",VLOOKUP(B180,#REF!,5,FALSE))","v":{"$error":"#N/A"}},{"$f":"IF(A180=\"\",\"\",VLOOKUP(C180,#REF!,5,FALSE))","v":{"$error":"#N/A"}}]
[null,{"$f":"IF(A181=\"\",\"\",VLOOKUP(A181,[1]ItemConfig!$A:$B,2,FALSE))","v":""},{"$f":"IF(A181=\"\",\"\",VLOOKUP(A181,[1]ItemConfig!$A:$D,4,FALSE))","v":""},{"$f":"IF(A181=\"\",\"\",VLOOKUP(A181,[1]ItemConfig!$A:$C,3,FALSE))","v":""},{"$f":"IF(A181=\"\",\"\",VLOOKUP(B181,#REF!,5,FALSE))","v":""},{"$f":"IF(A181=\"\",\"\",VLOOKUP(C181,#REF!,5,FALSE))","v":""}]
[5049,{"$f":"IF(A182=\"\",\"\",VLOOKUP(A182,[1]ItemConfig!$A:$B,2,FALSE))","v":{"$error":"#N/A"}},{"$f":"IF(A182=\"\",\"\",VLOOKUP(A182,[1]ItemConfig!$A:$D,4,FALSE))","v":{"$error":"#N/A"}},{"$f":"IF(A182=\"\",\"\",VLOOKUP(A182,[1]ItemConfig!$A:$C,3,FALSE))","v":{"$error":"#N/A"}},{"$f":"IF(A182=\"\",\"\",VLOOKUP(B182,#REF!,5,FALSE))","v":{"$error":"#N/A"}},{"$f":"IF(A182=\"\",\"\",VLOOKUP(C182,#REF!,5,FALSE))","v":{"$error":"#N/A"}}]
[5050,{"$f":"IF(A183=\"\",\"\",VLOOKUP(A183,[1]ItemConfig!$A:$B,2,FALSE))","v":{"$error":"#N/A"}},{"$f":"IF(A183=\"\",\"\",VLOOKUP(A183,[1]ItemConfig!$A:$D,4,FALSE))","v":{"$error":"#N/A"}},{"$f":"IF(A183=\"\",\"\",VLOOKUP(A183,[1]ItemConfig!$A:$C,3,FALSE))","v":{"$error":"#N/A"}},{"$f":"IF(A183=\"\",\"\",VLOOKUP(B183,#REF!,5,FALSE))","v":{"$error":"#N/A"}},{"$f":"IF(A183=\"\",\"\",VLOOKUP(C183,#REF!,5,FALSE))","v":{"$error":"#N/A"}}]
[5051,{"$f":"IF(A184=\"\",\"\",VLOOKUP(A184,[1]ItemConfig!$A:$B,2,FALSE))","v":{"$error":"#N/A"}},{"$f":"IF(A184=\"\",\"\",VLOOKUP(A184,[1]ItemConfig!$A:$D,4,FALSE))","v":{"$error":"#N/A"}},{"$f":"IF(A184=\"\",\"\",VLOOKUP(A184,[1]ItemConfig!$A:$C,3,FALSE))","v":{"$error":"#N/A"}},{"$f":"IF(A184=\"\",\"\",VLOOKUP(B184,#REF!,5,FALSE))","v":{"$error":"#N/A"}},{"$f":"IF(A184=\"\",\"\",VLOOKUP(C184,#REF!,5,FALSE))","v":{"$error":"#N/A"}}]
[5052,{"$f":"IF(A185=\"\",\"\",VLOOKUP(A185,[1]ItemConfig!$A:$B,2,FALSE))","v":{"$error":"#N/A"}},{"$f":"IF(A185=\"\",\"\",VLOOKUP(A185,[1]ItemConfig!$A:$D,4,FALSE))","v":{"$error":"#N/A"}},{"$f":"IF(A185=\"\",\"\",VLOOKUP(A185,[1]ItemConfig!$A:$C,3,FALSE))","v":{"$error":"#N/A"}},{"$f":"IF(A185=\"\",\"\",VLOOKUP(B185,#REF!,5,FALSE))","v":{"$error":"#N/A"}},{"$f":"IF(A185=\"\",\"\",VLOOKUP(C185,#REF!,5,FALSE))","v":{"$error":"#N/A"}}]
[5053,{"$f":"IF(A186=\"\",\"\",VLOOKUP(A186,[1]ItemConfig!$A:$B,2,FALSE))","v":{"$error":"#N/A"}},{"$f":"IF(A186=\"\",\"\",VLOOKUP(A186,[1]ItemConfig!$A:$D,4,FALSE))","v":{"$error":"#N/A"}},{"$f":"IF(A186=\"\",\"\",VLOOKUP(A186,[1]ItemConfig!$A:$C,3,FALSE))","v":{"$error":"#N/A"}},{"$f":"IF(A186=\"\",\"\",VLOOKUP(B186,#REF!,5,FALSE))","v":{"$error":"#N/A"}},{"$f":"IF(A186=\"\",\"\",VLOOKUP(C186,#REF!,5,FALSE))","v":{"$error":"#N/A"}}]
[5054,{"$f":"IF(A187=\"\",\"\",VLOOKUP(A187,[1]ItemConfig!$A:$B,2,FALSE))","v":{"$error":"#N/A"}},{"$f":"IF(A187=\"\",\"\",VLOOKUP(A187,[1]ItemConfig!$A:$D,4,FALSE))","v":{"$error":"#N/A"}},{"$f":"IF(A187=\"\",\"\",VLOOKUP(A187,[1]ItemConfig!$A:$C,3,FALSE))","v":{"$error":"#N/A"}},{"$f":"IF(A187=\"\",\"\",VLOOKUP(B187,#REF!,5,FALSE))","v":{"$error":"#N/A"}},{"$f":"IF(A187=\"\",\"\",VLOOKUP(C187,#REF!,5,FALSE))","v":{"$error":"#N/A"}}]
[5055,{"$f":"IF(A188=\"\",\"\",VLOOKUP(A188,[1]ItemConfig!$A:$B,2,FALSE))","v":{"$error":"#N/A"}},{"$f":"IF(A188=\"\",\"\",VLOOKUP(A188,[1]ItemConfig!$A:$D,4,FALSE))","v":{"$error":"#N/A"}},{"$f":"IF(A188=\"\",\"\",VLOOKUP(A188,[1]ItemConfig!$A:$C,3,FALSE))","v":{"$error":"#N/A"}},{"$f":"IF(A188=\"\",\"\",VLOOKUP(B188,#REF!,5,FALSE))","v":{"$error":"#N/A"}},{"$f":"IF(A188=\"\",\"\",VLOOKUP(C188,#REF!,5,FALSE))","v":{"$error":"#N/A"}}]
[5056,{"$f":"IF(A189=\"\",\"\",VLOOKUP(A189,[1]ItemConfig!$A:$B,2,FALSE))","v":{"$error":"#N/A"}},{"$f":"IF(A189=\"\",\"\",VLOOKUP(A189,[1]ItemConfig!$A:$D,4,FALSE))","v":{"$error":"#N/A"}},{"$f":"IF(A189=\"\",\"\",VLOOKUP(A189,[1]ItemConfig!$A:$C,3,FALSE))","v":{"$error":"#N/A"}},{"$f":"IF(A189=\"\",\"\",VLOOKUP(B189,#REF!,5,FALSE))","v":{"$error":"#N/A"}},{"$f":"IF(A189=\"\",\"\",VLOOKUP(C189,#REF!,5,FALSE))","v":{"$error":"#N/A"}}]
[5057,{"$f":"IF(A190=\"\",\"\",VLOOKUP(A190,[1]ItemConfig!$A:$B,2,FALSE))","v":{"$error":"#N/A"}},{"$f":"IF(A190=\"\",\"\",VLOOKUP(A190,[1]ItemConfig!$A:$D,4,FALSE))","v":{"$error":"#N/A"}},{"$f":"IF(A190=\"\",\"\",VLOOKUP(A190,[1]ItemConfig!$A:$C,3,FALSE))","v":{"$error":"#N/A"}},{"$f":"IF(A190=\"\",\"\",VLOOKUP(B190,#REF!,5,FALSE))","v":{"$error":"#N/A"}},{"$f":"IF(A190=\"\",\"\",VLOOKUP(C190,#REF!,5,FALSE))","v":{"$error":"#N/A"}}]
[5058,{"$f":"IF(A191=\"\",\"\",VLOOKUP(A191,[1]ItemConfig!$A:$B,2,FALSE))","v":{"$error":"#N/A"}},{"$f":"IF(A191=\"\",\"\",VLOOKUP(A191,[1]ItemConfig!$A:$D,4,FALSE))","v":{"$error":"#N/A"}},{"$f":"IF(A191=\"\",\"\",VLOOKUP(A191,[1]ItemConfig!$A:$C,3,FALSE))","v":{"$error":"#N/A"}},{"$f":"IF(A191=\"\",\"\",VLOOKUP(B191,#REF!,5,FALSE))","v":{"$error":"#N/A"}},{"$f":"IF(A191=\"\",\"\",VLOOKUP(C191,#REF!,5,FALSE))","v":{"$error":"#N/A"}}]
[5059,{"$f":"IF(A192=\"\",\"\",VLOOKUP(A192,[1]ItemConfig!$A:$B,2,FALSE))","v":{"$error":"#N/A"}},{"$f":"IF(A192=\"\",\"\",VLOOKUP(A192,[1]ItemConfig!$A:$D,4,FALSE))","v":{"$error":"#N/A"}},{"$f":"IF(A192=\"\",\"\",VLOOKUP(A192,[1]ItemConfig!$A:$C,3,FALSE))","v":{"$error":"#N/A"}},{"$f":"IF(A192=\"\",\"\",VLOOKUP(B192,#REF!,5,FALSE))","v":{"$error":"#N/A"}},{"$f":"IF(A192=\"\",\"\",VLOOKUP(C192,#REF!,5,FALSE))","v":{"$error":"#N/A"}}]
[5060,{"$f":"IF(A193=\"\",\"\",VLOOKUP(A193,[1]ItemConfig!$A:$B,2,FALSE))","v":{"$error":"#N/A"}},{"$f":"IF(A193=\"\",\"\",VLOOKUP(A193,[1]ItemConfig!$A:$D,4,FALSE))","v":{"$error":"#N/A"}},{"$f":"IF(A193=\"\",\"\",VLOOKUP(A193,[1]ItemConfig!$A:$C,3,FALSE))","v":{"$error":"#N/A"}},{"$f":"IF(A193=\"\",\"\",VLOOKUP(B193,#REF!,5,FALSE))","v":{"$error":"#N/A"}},{"$f":"IF(A193=\"\",\"\",VLOOKUP(C193,#REF!,5,FALSE))","v":{"$error":"#N/A"}}]
[null,{"$f":"IF(A194=\"\",\"\",VLOOKUP(A194,[1]ItemConfig!$A:$B,2,FALSE))","v":""},{"$f":"IF(A194=\"\",\"\",VLOOKUP(A194,[1]ItemConfig!$A:$D,4,FALSE))","v":""},{"$f":"IF(A194=\"\",\"\",VLOOKUP(A194,[1]ItemConfig!$A:$C,3,FALSE))","v":""},{"$f":"IF(A194=\"\",\"\",VLOOKUP(B194,#REF!,5,FALSE))","v":""},{"$f":"IF(A194=\"\",\"\",VLOOKUP(C194,#REF!,5,FALSE))","v":""}]
[5061,{"$f":"IF(A195=\"\",\"\",VLOOKUP(A195,[1]ItemConfig!$A:$B,2,FALSE))","v":{"$error":"#N/A"}},{"$f":"IF(A195=\"\",\"\",VLOOKUP(A195,[1]ItemConfig!$A:$D,4,FALSE))","v":{"$error":"#N/A"}},{"$f":"IF(A195=\"\",\"\",VLOOKUP(A195,[1]ItemConfig!$A:$C,3,FALSE))","v":{"$error":"#N/A"}},{"$f":"IF(A195=\"\",\"\",VLOOKUP(B195,#REF!,5,FALSE))","v":{"$error":"#N/A"}},{"$f":"IF(A195=\"\",\"\",VLOOKUP(C195,#REF!,5,FALSE))","v":{"$error":"#N/A"}}]
[5062,{"$f":"IF(A196=\"\",\"\",VLOOKUP(A196,[1]ItemConfig!$A:$B,2,FALSE))","v":{"$error":"#N/A"}},{"$f":"IF(A196=\"\",\"\",VLOOKUP(A196,[1]ItemConfig!$A:$D,4,FALSE))","v":{"$error":"#N/A"}},{"$f":"IF(A196=\"\",\"\",VLOOKUP(A196,[1]ItemConfig!$A:$C,3,FALSE))","v":{"$error":"#N/A"}},{"$f":"IF(A196=\"\",\"\",VLOOKUP(B196,#REF!,5,FALSE))","v":{"$error":"#N/A"}},{"$f":"IF(A196=\"\",\"\",VLOOKUP(C196,#REF!,5,FALSE))","v":{"$error":"#N/A"}}]
[5063,{"$f":"IF(A197=\"\",\"\",VLOOKUP(A197,[1]ItemConfig!$A:$B,2,FALSE))","v":{"$error":"#N/A"}},{"$f":"IF(A197=\"\",\"\",VLOOKUP(A197,[1]ItemConfig!$A:$D,4,FALSE))","v":{"$error":"#N/A"}},{"$f":"IF(A197=\"\",\"\",VLOOKUP(A197,[1]ItemConfig!$A:$C,3,FALSE))","v":{"$error":"#N/A"}},{"$f":"IF(A197=\"\",\"\",VLOOKUP(B197,#REF!,5,FALSE))","v":{"$error":"#N/A"}},{"$f":"IF(A197=\"\",\"\",VLOOKUP(C197,#REF!,5,FALSE))","v":{"$error":"#N/A"}}]
[5064,{"$f":"IF(A198=\"\",\"\",VLOOKUP(A198,[1]ItemConfig!$A:$B,2,FALSE))","v":{"$error":"#N/A"}},{"$f":"IF(A198=\"\",\"\",VLOOKUP(A198,[1]ItemConfig!$A:$D,4,FALSE))","v":{"$error":"#N/A"}},{"$f":"IF(A198=\"\",\"\",VLOOKUP(A198,[1]ItemConfig!$A:$C,3,FALSE))","v":{"$error":"#N/A"}},{"$f":"IF(A198=\"\",\"\",VLOOKUP(B198,#REF!,5,FALSE))","v":{"$error":"#N/A"}},{"$f":"IF(A198=\"\",\"\",VLOOKUP(C198,#REF!,5,FALSE))","v":{"$error":"#N/A"}}]
[5065,{"$f":"IF(A199=\"\",\"\",VLOOKUP(A199,[1]ItemConfig!$A:$B,2,FALSE))","v":{"$error":"#N/A"}},{"$f":"IF(A199=\"\",\"\",VLOOKUP(A199,[1]ItemConfig!$A:$D,4,FALSE))","v":{"$error":"#N/A"}},{"$f":"IF(A199=\"\",\"\",VLOOKUP(A199,[1]ItemConfig!$A:$C,3,FALSE))","v":{"$error":"#N/A"}},{"$f":"IF(A199=\"\",\"\",VLOOKUP(B199,#REF!,5,FALSE))","v":{"$error":"#N/A"}},{"$f":"IF(A199=\"\",\"\",VLOOKUP(C199,#REF!,5,FALSE))","v":{"$error":"#N/A"}}]
[5066,{"$f":"IF(A200=\"\",\"\",VLOOKUP(A200,[1]ItemConfig!$A:$B,2,FALSE))","v":{"$error":"#N/A"}},{"$f":"IF(A200=\"\",\"\",VLOOKUP(A200,[1]ItemConfig!$A:$D,4,FALSE))","v":{"$error":"#N/A"}},{"$f":"IF(A200=\"\",\"\",VLOOKUP(A200,[1]ItemConfig!$A:$C,3,FALSE))","v":{"$error":"#N/A"}},{"$f":"IF(A200=\"\",\"\",VLOOKUP(B200,#REF!,5,FALSE))","v":{"$error":"#N/A"}},{"$f":"IF(A200=\"\",\"\",VLOOKUP(C200,#REF!,5,FALSE))","v":{"$error":"#N/A"}}]
[5067,{"$f":"IF(A201=\"\",\"\",VLOOKUP(A201,[1]ItemConfig!$A:$B,2,FALSE))","v":{"$error":"#N/A"}},{"$f":"IF(A201=\"\",\"\",VLOOKUP(A201,[1]ItemConfig!$A:$D,4,FALSE))","v":{"$error":"#N/A"}},{"$f":"IF(A201=\"\",\"\",VLOOKUP(A201,[1]ItemConfig!$A:$C,3,FALSE))","v":{"$error":"#N/A"}},{"$f":"IF(A201=\"\",\"\",VLOOKUP(B201,#REF!,5,FALSE))","v":{"$error":"#N/A"}},{"$f":"IF(A201=\"\",\"\",VLOOKUP(C201,#REF!,5,FALSE))","v":{"$error":"#N/A"}}]
[5068,{"$f":"IF(A202=\"\",\"\",VLOOKUP(A202,[1]ItemConfig!$A:$B,2,FALSE))","v":{"$error":"#N/A"}},{"$f":"IF(A202=\"\",\"\",VLOOKUP(A202,[1]ItemConfig!$A:$D,4,FALSE))","v":{"$error":"#N/A"}},{"$f":"IF(A202=\"\",\"\",VLOOKUP(A202,[1]ItemConfig!$A:$C,3,FALSE))","v":{"$error":"#N/A"}},{"$f":"IF(A202=\"\",\"\",VLOOKUP(B202,#REF!,5,FALSE))","v":{"$error":"#N/A"}},{"$f":"IF(A202=\"\",\"\",VLOOKUP(C202,#REF!,5,FALSE))","v":{"$error":"#N/A"}}]
[5069,{"$f":"IF(A203=\"\",\"\",VLOOKUP(A203,[1]ItemConfig!$A:$B,2,FALSE))","v":{"$error":"#N/A"}},{"$f":"IF(A203=\"\",\"\",VLOOKUP(A203,[1]ItemConfig!$A:$D,4,FALSE))","v":{"$error":"#N/A"}},{"$f":"IF(A203=\"\",\"\",VLOOKUP(A203,[1]ItemConfig!$A:$C,3,FALSE))","v":{"$error":"#N/A"}},{"$f":"IF(A203=\"\",\"\",VLOOKUP(B203,#REF!,5,FALSE))","v":{"$error":"#N/A"}},{"$f":"IF(A203=\"\",\"\",VLOOKUP(C203,#REF!,5,FALSE))","v":{"$error":"#N/A"}}]
[5070,{"$f":"IF(A204=\"\",\"\",VLOOKUP(A204,[1]ItemConfig!$A:$B,2,FALSE))","v":{"$error":"#N/A"}},{"$f":"IF(A204=\"\",\"\",VLOOKUP(A204,[1]ItemConfig!$A:$D,4,FALSE))","v":{"$error":"#N/A"}},{"$f":"IF(A204=\"\",\"\",VLOOKUP(A204,[1]ItemConfig!$A:$C,3,FALSE))","v":{"$error":"#N/A"}},{"$f":"IF(A204=\"\",\"\",VLOOKUP(B204,#REF!,5,FALSE))","v":{"$error":"#N/A"}},{"$f":"IF(A204=\"\",\"\",VLOOKUP(C204,#REF!,5,FALSE))","v":{"$error":"#N/A"}}]
[5071,{"$f":"IF(A205=\"\",\"\",VLOOKUP(A205,[1]ItemConfig!$A:$B,2,FALSE))","v":{"$error":"#N/A"}},{"$f":"IF(A205=\"\",\"\",VLOOKUP(A205,[1]ItemConfig!$A:$D,4,FALSE))","v":{"$error":"#N/A"}},{"$f":"IF(A205=\"\",\"\",VLOOKUP(A205,[1]ItemConfig!$A:$C,3,FALSE))","v":{"$error":"#N/A"}},{"$f":"IF(A205=\"\",\"\",VLOOKUP(B205,#REF!,5,FALSE))","v":{"$error":"#N/A"}},{"$f":"IF(A205=\"\",\"\",VLOOKUP(C205,#REF!,5,FALSE))","v":{"$error":"#N/A"}}]
[5072,{"$f":"IF(A206=\"\",\"\",VLOOKUP(A206,[1]ItemConfig!$A:$B,2,FALSE))","v":{"$error":"#N/A"}},{"$f":"IF(A206=\"\",\"\",VLOOKUP(A206,[1]ItemConfig!$A:$D,4,FALSE))","v":{"$error":"#N/A"}},{"$f":"IF(A206=\"\",\"\",VLOOKUP(A206,[1]ItemConfig!$A:$C,3,FALSE))","v":{"$error":"#N/A"}},{"$f":"IF(A206=\"\",\"\",VLOOKUP(B206,#REF!,5,FALSE))","v":{"$error":"#N/A"}},{"$f":"IF(A206=\"\",\"\",VLOOKUP(C206,#REF!,5,FALSE))","v":{"$error":"#N/A"}}]
[null,{"$f":"IF(A207=\"\",\"\",VLOOKUP(A207,[1]ItemConfig!$A:$B,2,FALSE))","v":""},{"$f":"IF(A207=\"\",\"\",VLOOKUP(A207,[1]ItemConfig!$A:$D,4,FALSE))","v":""},{"$f":"IF(A207=\"\",\"\",VLOOKUP(A207,[1]ItemConfig!$A:$C,3,FALSE))","v":""},{"$f":"IF(A207=\"\",\"\",VLOOKUP(B207,#REF!,5,FALSE))","v":""},{"$f":"IF(A207=\"\",\"\",VLOOKUP(C207,#REF!,5,FALSE))","v":""}]
[5073,{"$f":"IF(A208=\"\",\"\",VLOOKUP(A208,[1]ItemConfig!$A:$B,2,FALSE))","v":{"$error":"#N/A"}},{"$f":"IF(A208=\"\",\"\",VLOOKUP(A208,[1]ItemConfig!$A:$D,4,FALSE))","v":{"$error":"#N/A"}},{"$f":"IF(A208=\"\",\"\",VLOOKUP(A208,[1]ItemConfig!$A:$C,3,FALSE))","v":{"$error":"#N/A"}},{"$f":"IF(A208=\"\",\"\",VLOOKUP(B208,#REF!,5,FALSE))","v":{"$error":"#N/A"}},{"$f":"IF(A208=\"\",\"\",VLOOKUP(C208,#REF!,5,FALSE))","v":{"$error":"#N/A"}}]
[5074,{"$f":"IF(A209=\"\",\"\",VLOOKUP(A209,[1]ItemConfig!$A:$B,2,FALSE))","v":{"$error":"#N/A"}},{"$f":"IF(A209=\"\",\"\",VLOOKUP(A209,[1]ItemConfig!$A:$D,4,FALSE))","v":{"$error":"#N/A"}},{"$f":"IF(A209=\"\",\"\",VLOOKUP(A209,[1]ItemConfig!$A:$C,3,FALSE))","v":{"$error":"#N/A"}},{"$f":"IF(A209=\"\",\"\",VLOOKUP(B209,#REF!,5,FALSE))","v":{"$error":"#N/A"}},{"$f":"IF(A209=\"\",\"\",VLOOKUP(C209,#REF!,5,FALSE))","v":{"$error":"#N/A"}}]
[5075,{"$f":"IF(A210=\"\",\"\",VLOOKUP(A210,[1]ItemConfig!$A:$B,2,FALSE))","v":{"$error":"#N/A"}},{"$f":"IF(A210=\"\",\"\",VLOOKUP(A210,[1]ItemConfig!$A:$D,4,FALSE))","v":{"$error":"#N/A"}},{"$f":"IF(A210=\"\",\"\",VLOOKUP(A210,[1]ItemConfig!$A:$C,3,FALSE))","v":{"$error":"#N/A"}},{"$f":"IF(A210=\"\",\"\",VLOOKUP(B210,#REF!,5,FALSE))","v":{"$error":"#N/A"}},{"$f":"IF(A210=\"\",\"\",VLOOKUP(C210,#REF!,5,FALSE))","v":{"$error":"#N/A"}}]
[5076,{"$f":"IF(A211=\"\",\"\",VLOOKUP(A211,[1]ItemConfig!$A:$B,2,FALSE))","v":{"$error":"#N/A"}},{"$f":"IF(A211=\"\",\"\",VLOOKUP(A211,[1]ItemConfig!$A:$D,4,FALSE))","v":{"$error":"#N/A"}},{"$f":"IF(A211=\"\",\"\",VLOOKUP(A211,[1]ItemConfig!$A:$C,3,FALSE))","v":{"$error":"#N/A"}},{"$f":"IF(A211=\"\",\"\",VLOOKUP(B211,#REF!,5,FALSE))","v":{"$error":"#N/A"}},{"$f":"IF(A211=\"\",\"\",VLOOKUP(C211,#REF!,5,FALSE))","v":{"$error":"#N/A"}}]
[5077,{"$f":"IF(A212=\"\",\"\",VLOOKUP(A212,[1]ItemConfig!$A:$B,2,FALSE))","v":{"$error":"#N/A"}},{"$f":"IF(A212=\"\",\"\",VLOOKUP(A212,[1]ItemConfig!$A:$D,4,FALSE))","v":{"$error":"#N/A"}},{"$f":"IF(A212=\"\",\"\",VLOOKUP(A212,[1]ItemConfig!$A:$C,3,FALSE))","v":{"$error":"#N/A"}},{"$f":"IF(A212=\"\",\"\",VLOOKUP(B212,#REF!,5,FALSE))","v":{"$error":"#N/A"}},{"$f":"IF(A212=\"\",\"\",VLOOKUP(C212,#REF!,5,FALSE))","v":{"$error":"#N/A"}}]
[5078,{"$f":"IF(A213=\"\",\"\",VLOOKUP(A213,[1]ItemConfig!$A:$B,2,FALSE))","v":{"$error":"#N/A"}},{"$f":"IF(A213=\"\",\"\",VLOOKUP(A213,[1]ItemConfig!$A:$D,4,FALSE))","v":{"$error":"#N/A"}},{"$f":"IF(A213=\"\",\"\",VLOOKUP(A213,[1]ItemConfig!$A:$C,3,FALSE))","v":{"$error":"#N/A"}},{"$f":"IF(A213=\"\",\"\",VLOOKUP(B213,#REF!,5,FALSE))","v":{"$error":"#N/A"}},{"$f":"IF(A213=\"\",\"\",VLOOKUP(C213,#REF!,5,FALSE))","v":{"$error":"#N/A"}}]
[5079,{"$f":"IF(A214=\"\",\"\",VLOOKUP(A214,[1]ItemConfig!$A:$B,2,FALSE))","v":{"$error":"#N/A"}},{"$f":"IF(A214=\"\",\"\",VLOOKUP(A214,[1]ItemConfig!$A:$D,4,FALSE))","v":{"$error":"#N/A"}},{"$f":"IF(A214=\"\",\"\",VLOOKUP(A214,[1]ItemConfig!$A:$C,3,FALSE))","v":{"$error":"#N/A"}},{"$f":"IF(A214=\"\",\"\",VLOOKUP(B214,#REF!,5,FALSE))","v":{"$error":"#N/A"}},{"$f":"IF(A214=\"\",\"\",VLOOKUP(C214,#REF!,5,FALSE))","v":{"$error":"#N/A"}}]
[5080,{"$f":"IF(A215=\"\",\"\",VLOOKUP(A215,[1]ItemConfig!$A:$B,2,FALSE))","v":{"$error":"#N/A"}},{"$f":"IF(A215=\"\",\"\",VLOOKUP(A215,[1]ItemConfig!$A:$D,4,FALSE))","v":{"$error":"#N/A"}},{"$f":"IF(A215=\"\",\"\",VLOOKUP(A215,[1]ItemConfig!$A:$C,3,FALSE))","v":{"$error":"#N/A"}},{"$f":"IF(A215=\"\",\"\",VLOOKUP(B215,#REF!,5,FALSE))","v":{"$error":"#N/A"}},{"$f":"IF(A215=\"\",\"\",VLOOKUP(C215,#REF!,5,FALSE))","v":{"$error":"#N/A"}}]
[5081,{"$f":"IF(A216=\"\",\"\",VLOOKUP(A216,[1]ItemConfig!$A:$B,2,FALSE))","v":{"$error":"#N/A"}},{"$f":"IF(A216=\"\",\"\",VLOOKUP(A216,[1]ItemConfig!$A:$D,4,FALSE))","v":{"$error":"#N/A"}},{"$f":"IF(A216=\"\",\"\",VLOOKUP(A216,[1]ItemConfig!$A:$C,3,FALSE))","v":{"$error":"#N/A"}},{"$f":"IF(A216=\"\",\"\",VLOOKUP(B216,#REF!,5,FALSE))","v":{"$error":"#N/A"}},{"$f":"IF(A216=\"\",\"\",VLOOKUP(C216,#REF!,5,FALSE))","v":{"$error":"#N/A"}}]
[5082,{"$f":"IF(A217=\"\",\"\",VLOOKUP(A217,[1]ItemConfig!$A:$B,2,FALSE))","v":{"$error":"#N/A"}},{"$f":"IF(A217=\"\",\"\",VLOOKUP(A217,[1]ItemConfig!$A:$D,4,FALSE))","v":{"$error":"#N/A"}},{"$f":"IF(A217=\"\",\"\",VLOOKUP(A217,[1]ItemConfig!$A:$C,3,FALSE))","v":{"$error":"#N/A"}},{"$f":"IF(A217=\"\",\"\",VLOOKUP(B217,#REF!,5,FALSE))","v":{"$error":"#N/A"}},{"$f":"IF(A217=\"\",\"\",VLOOKUP(C217,#REF!,5,FALSE))","v":{"$error":"#N/A"}}]
[5083,{"$f":"IF(A218=\"\",\"\",VLOOKUP(A218,[1]ItemConfig!$A:$B,2,FALSE))","v":{"$error":"#N/A"}},{"$f":"IF(A218=\"\",\"\",VLOOKUP(A218,[1]ItemConfig!$A:$D,4,FALSE))","v":{"$error":"#N/A"}},{"$f":"IF(A218=\"\",\"\",VLOOKUP(A218,[1]ItemConfig!$A:$C,3,FALSE))","v":{"$error":"#N/A"}},{"$f":"IF(A218=\"\",\"\",VLOOKUP(B218,#REF!,5,FALSE))","v":{"$error":"#N/A"}},{"$f":"IF(A218=\"\",\"\",VLOOKUP(C218,#REF!,5,FALSE))","v":{"$error":"#N/A"}}]
[5084,{"$f":"IF(A219=\"\",\"\",VLOOKUP(A219,[1]ItemConfig!$A:$B,2,FALSE))","v":{"$error":"#N/A"}},{"$f":"IF(A219=\"\",\"\",VLOOKUP(A219,[1]ItemConfig!$A:$D,4,FALSE))","v":{"$error":"#N/A"}},{"$f":"IF(A219=\"\",\"\",VLOOKUP(A219,[1]ItemConfig!$A:$C,3,FALSE))","v":{"$error":"#N/A"}},{"$f":"IF(A219=\"\",\"\",VLOOKUP(B219,#REF!,5,FALSE))","v":{"$error":"#N/A"}},{"$f":"IF(A219=\"\",\"\",VLOOKUP(C219,#REF!,5,FALSE))","v":{"$error":"#N/A"}}]
[null,{"$f":"IF(A220=\"\",\"\",VLOOKUP(A220,[1]ItemConfig!$A:$B,2,FALSE))","v":""},{"$f":"IF(A220=\"\",\"\",VLOOKUP(A220,[1]ItemConfig!$A:$D,4,FALSE))","v":""},{"$f":"IF(A220=\"\",\"\",VLOOKUP(A220,[1]ItemConfig!$A:$C,3,FALSE))","v":""},{"$f":"IF(A220=\"\",\"\",VLOOKUP(B220,#REF!,5,FALSE))","v":""},{"$f":"IF(A220=\"\",\"\",VLOOKUP(C220,#REF!,5,FALSE))","v":""}]
[5085,{"$f":"IF(A221=\"\",\"\",VLOOKUP(A221,[1]ItemConfig!$A:$B,2,FALSE))","v":{"$error":"#N/A"}},{"$f":"IF(A221=\"\",\"\",VLOOKUP(A221,[1]ItemConfig!$A:$D,4,FALSE))","v":{"$error":"#N/A"}},{"$f":"IF(A221=\"\",\"\",VLOOKUP(A221,[1]ItemConfig!$A:$C,3,FALSE))","v":{"$error":"#N/A"}},{"$f":"IF(A221=\"\",\"\",VLOOKUP(B221,#REF!,5,FALSE))","v":{"$error":"#N/A"}},{"$f":"IF(A221=\"\",\"\",VLOOKUP(C221,#REF!,5,FALSE))","v":{"$error":"#N/A"}}]
[5086,{"$f":"IF(A222=\"\",\"\",VLOOKUP(A222,[1]ItemConfig!$A:$B,2,FALSE))","v":{"$error":"#N/A"}},{"$f":"IF(A222=\"\",\"\",VLOOKUP(A222,[1]ItemConfig!$A:$D,4,FALSE))","v":{"$error":"#N/A"}},{"$f":"IF(A222=\"\",\"\",VLOOKUP(A222,[1]ItemConfig!$A:$C,3,FALSE))","v":{"$error":"#N/A"}},{"$f":"IF(A222=\"\",\"\",VLOOKUP(B222,#REF!,5,FALSE))","v":{"$error":"#N/A"}},{"$f":"IF(A222=\"\",\"\",VLOOKUP(C222,#REF!,5,FALSE))","v":{"$error":"#N/A"}}]
[5087,{"$f":"IF(A223=\"\",\"\",VLOOKUP(A223,[1]ItemConfig!$A:$B,2,FALSE))","v":{"$error":"#N/A"}},{"$f":"IF(A223=\"\",\"\",VLOOKUP(A223,[1]ItemConfig!$A:$D,4,FALSE))","v":{"$error":"#N/A"}},{"$f":"IF(A223=\"\",\"\",VLOOKUP(A223,[1]ItemConfig!$A:$C,3,FALSE))","v":{"$error":"#N/A"}},{"$f":"IF(A223=\"\",\"\",VLOOKUP(B223,#REF!,5,FALSE))","v":{"$error":"#N/A"}},{"$f":"IF(A223=\"\",\"\",VLOOKUP(C223,#REF!,5,FALSE))","v":{"$error":"#N/A"}}]
[5088,{"$f":"IF(A224=\"\",\"\",VLOOKUP(A224,[1]ItemConfig!$A:$B,2,FALSE))","v":{"$error":"#N/A"}},{"$f":"IF(A224=\"\",\"\",VLOOKUP(A224,[1]ItemConfig!$A:$D,4,FALSE))","v":{"$error":"#N/A"}},{"$f":"IF(A224=\"\",\"\",VLOOKUP(A224,[1]ItemConfig!$A:$C,3,FALSE))","v":{"$error":"#N/A"}},{"$f":"IF(A224=\"\",\"\",VLOOKUP(B224,#REF!,5,FALSE))","v":{"$error":"#N/A"}},{"$f":"IF(A224=\"\",\"\",VLOOKUP(C224,#REF!,5,FALSE))","v":{"$error":"#N/A"}}]
[5089,{"$f":"IF(A225=\"\",\"\",VLOOKUP(A225,[1]ItemConfig!$A:$B,2,FALSE))","v":{"$error":"#N/A"}},{"$f":"IF(A225=\"\",\"\",VLOOKUP(A225,[1]ItemConfig!$A:$D,4,FALSE))","v":{"$error":"#N/A"}},{"$f":"IF(A225=\"\",\"\",VLOOKUP(A225,[1]ItemConfig!$A:$C,3,FALSE))","v":{"$error":"#N/A"}},{"$f":"IF(A225=\"\",\"\",VLOOKUP(B225,#REF!,5,FALSE))","v":{"$error":"#N/A"}},{"$f":"IF(A225=\"\",\"\",VLOOKUP(C225,#REF!,5,FALSE))","v":{"$error":"#N/A"}}]
[5090,{"$f":"IF(A226=\"\",\"\",VLOOKUP(A226,[1]ItemConfig!$A:$B,2,FALSE))","v":{"$error":"#N/A"}},{"$f":"IF(A226=\"\",\"\",VLOOKUP(A226,[1]ItemConfig!$A:$D,4,FALSE))","v":{"$error":"#N/A"}},{"$f":"IF(A226=\"\",\"\",VLOOKUP(A226,[1]ItemConfig!$A:$C,3,FALSE))","v":{"$error":"#N/A"}},{"$f":"IF(A226=\"\",\"\",VLOOKUP(B226,#REF!,5,FALSE))","v":{"$error":"#N/A"}},{"$f":"IF(A226=\"\",\"\",VLOOKUP(C226,#REF!,5,FALSE))","v":{"$error":"#N/A"}}]
[5091,{"$f":"IF(A227=\"\",\"\",VLOOKUP(A227,[1]ItemConfig!$A:$B,2,FALSE))","v":{"$error":"#N/A"}},{"$f":"IF(A227=\"\",\"\",VLOOKUP(A227,[1]ItemConfig!$A:$D,4,FALSE))","v":{"$error":"#N/A"}},{"$f":"IF(A227=\"\",\"\",VLOOKUP(A227,[1]ItemConfig!$A:$C,3,FALSE))","v":{"$error":"#N/A"}},{"$f":"IF(A227=\"\",\"\",VLOOKUP(B227,#REF!,5,FALSE))","v":{"$error":"#N/A"}},{"$f":"IF(A227=\"\",\"\",VLOOKUP(C227,#REF!,5,FALSE))","v":{"$error":"#N/A"}}]
[5092,{"$f":"IF(A228=\"\",\"\",VLOOKUP(A228,[1]ItemConfig!$A:$B,2,FALSE))","v":{"$error":"#N/A"}},{"$f":"IF(A228=\"\",\"\",VLOOKUP(A228,[1]ItemConfig!$A:$D,4,FALSE))","v":{"$error":"#N/A"}},{"$f":"IF(A228=\"\",\"\",VLOOKUP(A228,[1]ItemConfig!$A:$C,3,FALSE))","v":{"$error":"#N/A"}},{"$f":"IF(A228=\"\",\"\",VLOOKUP(B228,#REF!,5,FALSE))","v":{"$error":"#N/A"}},{"$f":"IF(A228=\"\",\"\",VLOOKUP(C228,#REF!,5,FALSE))","v":{"$error":"#N/A"}}]
[5093,{"$f":"IF(A229=\"\",\"\",VLOOKUP(A229,[1]ItemConfig!$A:$B,2,FALSE))","v":{"$error":"#N/A"}},{"$f":"IF(A229=\"\",\"\",VLOOKUP(A229,[1]ItemConfig!$A:$D,4,FALSE))","v":{"$error":"#N/A"}},{"$f":"IF(A229=\"\",\"\",VLOOKUP(A229,[1]ItemConfig!$A:$C,3,FALSE))","v":{"$error":"#N/A"}},{"$f":"IF(A229=\"\",\"\",VLOOKUP(B229,#REF!,5,FALSE))","v":{"$error":"#N/A"}},{"$f":"IF(A229=\"\",\"\",VLOOKUP(C229,#REF!,5,FALSE))","v":{"$error":"#N/A"}}]
[5094,{"$f":"IF(A230=\"\",\"\",VLOOKUP(A230,[1]ItemConfig!$A:$B,2,FALSE))","v":{"$error":"#N/A"}},{"$f":"IF(A230=\"\",\"\",VLOOKUP(A230,[1]ItemConfig!$A:$D,4,FALSE))","v":{"$error":"#N/A"}},{"$f":"IF(A230=\"\",\"\",VLOOKUP(A230,[1]ItemConfig!$A:$C,3,FALSE))","v":{"$error":"#N/A"}},{"$f":"IF(A230=\"\",\"\",VLOOKUP(B230,#REF!,5,FALSE))","v":{"$error":"#N/A"}},{"$f":"IF(A230=\"\",\"\",VLOOKUP(C230,#REF!,5,FALSE))","v":{"$error":"#N/A"}}]
[5095,{"$f":"IF(A231=\"\",\"\",VLOOKUP(A231,[1]ItemConfig!$A:$B,2,FALSE))","v":{"$error":"#N/A"}},{"$f":"IF(A231=\"\",\"\",VLOOKUP(A231,[1]ItemConfig!$A:$D,4,FALSE))","v":{"$error":"#N/A"}},{"$f":"IF(A231=\"\",\"\",VLOOKUP(A231,[1]ItemConfig!$A:$C,3,FALSE))","v":{"$error":"#N/A"}},{"$f":"IF(A231=\"\",\"\",VLOOKUP(B231,#REF!,5,FALSE))","v":{"$error":"#N/A"}},{"$f":"IF(A231=\"\",\"\",VLOOKUP(C231,#REF!,5,FALSE))","v":{"$error":"#N/A"}}]
[5096,{"$f":"IF(A232=\"\",\"\",VLOOKUP(A232,[1]ItemConfig!$A:$B,2,FALSE))","v":{"$error":"#N/A"}},{"$f":"IF(A232=\"\",\"\",VLOOKUP(A232,[1]ItemConfig!$A:$D,4,FALSE))","v":{"$error":"#N/A"}},{"$f":"IF(A232=\"\",\"\",VLOOKUP(A232,[1]ItemConfig!$A:$C,3,FALSE))","v":{"$error":"#N/A"}},{"$f":"IF(A232=\"\",\"\",VLOOKUP(B232,#REF!,5,FALSE))","v":{"$error":"#N/A"}},{"$f":"IF(A232=\"\",\"\",VLOOKUP(C232,#REF!,5,FALSE))","v":{"$error":"#N/A"}}]
[null,{"$f":"IF(A233=\"\",\"\",VLOOKUP(A233,[1]ItemConfig!$A:$B,2,FALSE))","v":""},{"$f":"IF(A233=\"\",\"\",VLOOKUP(A233,[1]ItemConfig!$A:$D,4,FALSE))","v":""},{"$f":"IF(A233=\"\",\"\",VLOOKUP(A233,[1]ItemConfig!$A:$C,3,FALSE))","v":""},{"$f":"IF(A233=\"\",\"\",VLOOKUP(B233,#REF!,5,FALSE))","v":""},{"$f":"IF(A233=\"\",\"\",VLOOKUP(C233,#REF!,5,FALSE))","v":""}]
[5097,{"$f":"IF(A234=\"\",\"\",VLOOKUP(A234,[1]ItemConfig!$A:$B,2,FALSE))","v":{"$error":"#N/A"}},{"$f":"IF(A234=\"\",\"\",VLOOKUP(A234,[1]ItemConfig!$A:$D,4,FALSE))","v":{"$error":"#N/A"}},{"$f":"IF(A234=\"\",\"\",VLOOKUP(A234,[1]ItemConfig!$A:$C,3,FALSE))","v":{"$error":"#N/A"}},{"$f":"IF(A234=\"\",\"\",VLOOKUP(B234,#REF!,5,FALSE))","v":{"$error":"#N/A"}},{"$f":"IF(A234=\"\",\"\",VLOOKUP(C234,#REF!,5,FALSE))","v":{"$error":"#N/A"}}]
[5098,{"$f":"IF(A235=\"\",\"\",VLOOKUP(A235,[1]ItemConfig!$A:$B,2,FALSE))","v":{"$error":"#N/A"}},{"$f":"IF(A235=\"\",\"\",VLOOKUP(A235,[1]ItemConfig!$A:$D,4,FALSE))","v":{"$error":"#N/A"}},{"$f":"IF(A235=\"\",\"\",VLOOKUP(A235,[1]ItemConfig!$A:$C,3,FALSE))","v":{"$error":"#N/A"}},{"$f":"IF(A235=\"\",\"\",VLOOKUP(B235,#REF!,5,FALSE))","v":{"$error":"#N/A"}},{"$f":"IF(A235=\"\",\"\",VLOOKUP(C235,#REF!,5,FALSE))","v":{"$error":"#N/A"}}]
[5099,{"$f":"IF(A236=\"\",\"\",VLOOKUP(A236,[1]ItemConfig!$A:$B,2,FALSE))","v":{"$error":"#N/A"}},{"$f":"IF(A236=\"\",\"\",VLOOKUP(A236,[1]ItemConfig!$A:$D,4,FALSE))","v":{"$error":"#N/A"}},{"$f":"IF(A236=\"\",\"\",VLOOKUP(A236,[1]ItemConfig!$A:$C,3,FALSE))","v":{"$error":"#N/A"}},{"$f":"IF(A236=\"\",\"\",VLOOKUP(B236,#REF!,5,FALSE))","v":{"$error":"#N/A"}},{"$f":"IF(A236=\"\",\"\",VLOOKUP(C236,#REF!,5,FALSE))","v":{"$error":"#N/A"}}]
[5100,{"$f":"IF(A237=\"\",\"\",VLOOKUP(A237,[1]ItemConfig!$A:$B,2,FALSE))","v":{"$error":"#N/A"}},{"$f":"IF(A237=\"\",\"\",VLOOKUP(A237,[1]ItemConfig!$A:$D,4,FALSE))","v":{"$error":"#N/A"}},{"$f":"IF(A237=\"\",\"\",VLOOKUP(A237,[1]ItemConfig!$A:$C,3,FALSE))","v":{"$error":"#N/A"}},{"$f":"IF(A237=\"\",\"\",VLOOKUP(B237,#REF!,5,FALSE))","v":{"$error":"#N/A"}},{"$f":"IF(A237=\"\",\"\",VLOOKUP(C237,#REF!,5,FALSE))","v":{"$error":"#N/A"}}]
[5101,{"$f":"IF(A238=\"\",\"\",VLOOKUP(A238,[1]ItemConfig!$A:$B,2,FALSE))","v":{"$error":"#N/A"}},{"$f":"IF(A238=\"\",\"\",VLOOKUP(A238,[1]ItemConfig!$A:$D,4,FALSE))","v":{"$error":"#N/A"}},{"$f":"IF(A238=\"\",\"\",VLOOKUP(A238,[1]ItemConfig!$A:$C,3,FALSE))","v":{"$error":"#N/A"}},{"$f":"IF(A238=\"\",\"\",VLOOKUP(B238,#REF!,5,FALSE))","v":{"$error":"#N/A"}},{"$f":"IF(A238=\"\",\"\",VLOOKUP(C238,#REF!,5,FALSE))","v":{"$error":"#N/A"}}]
[5102,{"$f":"IF(A239=\"\",\"\",VLOOKUP(A239,[1]ItemConfig!$A:$B,2,FALSE))","v":{"$error":"#N/A"}},{"$f":"IF(A239=\"\",\"\",VLOOKUP(A239,[1]ItemConfig!$A:$D,4,FALSE))","v":{"$error":"#N/A"}},{"$f":"IF(A239=\"\",\"\",VLOOKUP(A239,[1]ItemConfig!$A:$C,3,FALSE))","v":{"$error":"#N/A"}},{"$f":"IF(A239=\"\",\"\",VLOOKUP(B239,#REF!,5,FALSE))","v":{"$error":"#N/A"}},{"$f":"IF(A239=\"\",\"\",VLOOKUP(C239,#REF!,5,FALSE))","v":{"$error":"#N/A"}}]
[5103,{"$f":"IF(A240=\"\",\"\",VLOOKUP(A240,[1]ItemConfig!$A:$B,2,FALSE))","v":{"$error":"#N/A"}},{"$f":"IF(A240=\"\",\"\",VLOOKUP(A240,[1]ItemConfig!$A:$D,4,FALSE))","v":{"$error":"#N/A"}},{"$f":"IF(A240=\"\",\"\",VLOOKUP(A240,[1]ItemConfig!$A:$C,3,FALSE))","v":{"$error":"#N/A"}},{"$f":"IF(A240=\"\",\"\",VLOOKUP(B240,#REF!,5,FALSE))","v":{"$error":"#N/A"}},{"$f":"IF(A240=\"\",\"\",VLOOKUP(C240,#REF!,5,FALSE))","v":{"$error":"#N/A"}}]
[5104,{"$f":"IF(A241=\"\",\"\",VLOOKUP(A241,[1]ItemConfig!$A:$B,2,FALSE))","v":{"$error":"#N/A"}},{"$f":"IF(A241=\"\",\"\",VLOOKUP(A241,[1]ItemConfig!$A:$D,4,FALSE))","v":{"$error":"#N/A"}},{"$f":"IF(A241=\"\",\"\",VLOOKUP(A241,[1]ItemConfig!$A:$C,3,FALSE))","v":{"$error":"#N/A"}},{"$f":"IF(A241=\"\",\"\",VLOOKUP(B241,#REF!,5,FALSE))","v":{"$error":"#N/A"}},{"$f":"IF(A241=\"\",\"\",VLOOKUP(C241,#REF!,5,FALSE))","v":{"$error":"#N/A"}}]
[5105,{"$f":"IF(A242=\"\",\"\",VLOOKUP(A242,[1]ItemConfig!$A:$B,2,FALSE))","v":{"$error":"#N/A"}},{"$f":"IF(A242=\"\",\"\",VLOOKUP(A242,[1]ItemConfig!$A:$D,4,FALSE))","v":{"$error":"#N/A"}},{"$f":"IF(A242=\"\",\"\",VLOOKUP(A242,[1]ItemConfig!$A:$C,3,FALSE))","v":{"$error":"#N/A"}},{"$f":"IF(A242=\"\",\"\",VLOOKUP(B242,#REF!,5,FALSE))","v":{"$error":"#N/A"}},{"$f":"IF(A242=\"\",\"\",VLOOKUP(C242,#REF!,5,FALSE))","v":{"$error":"#N/A"}}]
[5106,{"$f":"IF(A243=\"\",\"\",VLOOKUP(A243,[1]ItemConfig!$A:$B,2,FALSE))","v":{"$error":"#N/A"}},{"$f":"IF(A243=\"\",\"\",VLOOKUP(A243,[1]ItemConfig!$A:$D,4,FALSE))","v":{"$error":"#N/A"}},{"$f":"IF(A243=\"\",\"\",VLOOKUP(A243,[1]ItemConfig!$A:$C,3,FALSE))","v":{"$error":"#N/A"}},{"$f":"IF(A243=\"\",\"\",VLOOKUP(B243,#REF!,5,FALSE))","v":{"$error":"#N/A"}},{"$f":"IF(A243=\"\",\"\",VLOOKUP(C243,#REF!,5,FALSE))","v":{"$error":"#N/A"}}]
[5107,{"$f":"IF(A244=\"\",\"\",VLOOKUP(A244,[1]ItemConfig!$A:$B,2,FALSE))","v":{"$error":"#N/A"}},{"$f":"IF(A244=\"\",\"\",VLOOKUP(A244,[1]ItemConfig!$A:$D,4,FALSE))","v":{"$error":"#N/A"}},{"$f":"IF(A244=\"\",\"\",VLOOKUP(A244,[1]ItemConfig!$A:$C,3,FALSE))","v":{"$error":"#N/A"}},{"$f":"IF(A244=\"\",\"\",VLOOKUP(B244,#REF!,5,FALSE))","v":{"$error":"#N/A"}},{"$f":"IF(A244=\"\",\"\",VLOOKUP(C244,#REF!,5,FALSE))","v":{"$error":"#N/A"}}]
[5108,{"$f":"IF(A245=\"\",\"\",VLOOKUP(A245,[1]ItemConfig!$A:$B,2,FALSE))","v":{"$error":"#N/A"}},{"$f":"IF(A245=\"\",\"\",VLOOKUP(A245,[1]ItemConfig!$A:$D,4,FALSE))","v":{"$error":"#N/A"}},{"$f":"IF(A245=\"\",\"\",VLOOKUP(A245,[1]ItemConfig!$A:$C,3,FALSE))","v":{"$error":"#N/A"}},{"$f":"IF(A245=\"\",\"\",VLOOKUP(B245,#REF!,5,FALSE))","v":{"$error":"#N/A"}},{"$f":"IF(A245=\"\",\"\",VLOOKUP(C245,#REF!,5,FALSE))","v":{"$error":"#N/A"}}]
[null,{"$f":"IF(A246=\"\",\"\",VLOOKUP(A246,[1]ItemConfig!$A:$B,2,FALSE))","v":""},{"$f":"IF(A246=\"\",\"\",VLOOKUP(A246,[1]ItemConfig!$A:$D,4,FALSE))","v":""},{"$f":"IF(A246=\"\",\"\",VLOOKUP(A246,[1]ItemConfig!$A:$C,3,FALSE))","v":""},{"$f":"IF(A246=\"\",\"\",VLOOKUP(B246,#REF!,5,FALSE))","v":""},{"$f":"IF(A246=\"\",\"\",VLOOKUP(C246,#REF!,5,FALSE))","v":""}]
[5109,{"$f":"IF(A247=\"\",\"\",VLOOKUP(A247,[1]ItemConfig!$A:$B,2,FALSE))","v":{"$error":"#N/A"}},{"$f":"IF(A247=\"\",\"\",VLOOKUP(A247,[1]ItemConfig!$A:$D,4,FALSE))","v":{"$error":"#N/A"}},{"$f":"IF(A247=\"\",\"\",VLOOKUP(A247,[1]ItemConfig!$A:$C,3,FALSE))","v":{"$error":"#N/A"}},{"$f":"IF(A247=\"\",\"\",VLOOKUP(B247,#REF!,5,FALSE))","v":{"$error":"#N/A"}},{"$f":"IF(A247=\"\",\"\",VLOOKUP(C247,#REF!,5,FALSE))","v":{"$error":"#N/A"}}]
[5110,{"$f":"IF(A248=\"\",\"\",VLOOKUP(A248,[1]ItemConfig!$A:$B,2,FALSE))","v":{"$error":"#N/A"}},{"$f":"IF(A248=\"\",\"\",VLOOKUP(A248,[1]ItemConfig!$A:$D,4,FALSE))","v":{"$error":"#N/A"}},{"$f":"IF(A248=\"\",\"\",VLOOKUP(A248,[1]ItemConfig!$A:$C,3,FALSE))","v":{"$error":"#N/A"}},{"$f":"IF(A248=\"\",\"\",VLOOKUP(B248,#REF!,5,FALSE))","v":{"$error":"#N/A"}},{"$f":"IF(A248=\"\",\"\",VLOOKUP(C248,#REF!,5,FALSE))","v":{"$error":"#N/A"}}]
[5111,{"$f":"IF(A249=\"\",\"\",VLOOKUP(A249,[1]ItemConfig!$A:$B,2,FALSE))","v":{"$error":"#N/A"}},{"$f":"IF(A249=\"\",\"\",VLOOKUP(A249,[1]ItemConfig!$A:$D,4,FALSE))","v":{"$error":"#N/A"}},{"$f":"IF(A249=\"\",\"\",VLOOKUP(A249,[1]ItemConfig!$A:$C,3,FALSE))","v":{"$error":"#N/A"}},{"$f":"IF(A249=\"\",\"\",VLOOKUP(B249,#REF!,5,FALSE))","v":{"$error":"#N/A"}},{"$f":"IF(A249=\"\",\"\",VLOOKUP(C249,#REF!,5,FALSE))","v":{"$error":"#N/A"}}]
[5112,{"$f":"IF(A250=\"\",\"\",VLOOKUP(A250,[1]ItemConfig!$A:$B,2,FALSE))","v":{"$error":"#N/A"}},{"$f":"IF(A250=\"\",\"\",VLOOKUP(A250,[1]ItemConfig!$A:$D,4,FALSE))","v":{"$error":"#N/A"}},{"$f":"IF(A250=\"\",\"\",VLOOKUP(A250,[1]ItemConfig!$A:$C,3,FALSE))","v":{"$error":"#N/A"}},{"$f":"IF(A250=\"\",\"\",VLOOKUP(B250,#REF!,5,FALSE))","v":{"$error":"#N/A"}},{"$f":"IF(A250=\"\",\"\",VLOOKUP(C250,#REF!,5,FALSE))","v":{"$error":"#N/A"}}]
[5113,{"$f":"IF(A251=\"\",\"\",VLOOKUP(A251,[1]ItemConfig!$A:$B,2,FALSE))","v":{"$error":"#N/A"}},{"$f":"IF(A251=\"\",\"\",VLOOKUP(A251,[1]ItemConfig!$A:$D,4,FALSE))","v":{"$error":"#N/A"}},{"$f":"IF(A251=\"\",\"\",VLOOKUP(A251,[1]ItemConfig!$A:$C,3,FALSE))","v":{"$error":"#N/A"}},{"$f":"IF(A251=\"\",\"\",VLOOKUP(B251,#REF!,5,FALSE))","v":{"$error":"#N/A"}},{"$f":"IF(A251=\"\",\"\",VLOOKUP(C251,#REF!,5,FALSE))","v":{"$error":"#N/A"}}]
[5114,{"$f":"IF(A252=\"\",\"\",VLOOKUP(A252,[1]ItemConfig!$A:$B,2,FALSE))","v":{"$error":"#N/A"}},{"$f":"IF(A252=\"\",\"\",VLOOKUP(A252,[1]ItemConfig!$A:$D,4,FALSE))","v":{"$error":"#N/A"}},{"$f":"IF(A252=\"\",\"\",VLOOKUP(A252,[1]ItemConfig!$A:$C,3,FALSE))","v":{"$error":"#N/A"}},{"$f":"IF(A252=\"\",\"\",VLOOKUP(B252,#REF!,5,FALSE))","v":{"$error":"#N/A"}},{"$f":"IF(A252=\"\",\"\",VLOOKUP(C252,#REF!,5,FALSE))","v":{"$error":"#N/A"}}]
[5115,{"$f":"IF(A253=\"\",\"\",VLOOKUP(A253,[1]ItemConfig!$A:$B,2,FALSE))","v":{"$error":"#N/A"}},{"$f":"IF(A253=\"\",\"\",VLOOKUP(A253,[1]ItemConfig!$A:$D,4,FALSE))","v":{"$error":"#N/A"}},{"$f":"IF(A253=\"\",\"\",VLOOKUP(A253,[1]ItemConfig!$A:$C,3,FALSE))","v":{"$error":"#N/A"}},{"$f":"IF(A253=\"\",\"\",VLOOKUP(B253,#REF!,5,FALSE))","v":{"$error":"#N/A"}},{"$f":"IF(A253=\"\",\"\",VLOOKUP(C253,#REF!,5,FALSE))","v":{"$error":"#N/A"}}]
[5116,{"$f":"IF(A254=\"\",\"\",VLOOKUP(A254,[1]ItemConfig!$A:$B,2,FALSE))","v":{"$error":"#N/A"}},{"$f":"IF(A254=\"\",\"\",VLOOKUP(A254,[1]ItemConfig!$A:$D,4,FALSE))","v":{"$error":"#N/A"}},{"$f":"IF(A254=\"\",\"\",VLOOKUP(A254,[1]ItemConfig!$A:$C,3,FALSE))","v":{"$error":"#N/A"}},{"$f":"IF(A254=\"\",\"\",VLOOKUP(B254,#REF!,5,FALSE))","v":{"$error":"#N/A"}},{"$f":"IF(A254=\"\",\"\",VLOOKUP(C254,#REF!,5,FALSE))","v":{"$error":"#N/A"}}]
[5117,{"$f":"IF(A255=\"\",\"\",VLOOKUP(A255,[1]ItemConfig!$A:$B,2,FALSE))","v":{"$error":"#N/A"}},{"$f":"IF(A255=\"\",\"\",VLOOKUP(A255,[1]ItemConfig!$A:$D,4,FALSE))","v":{"$error":"#N/A"}},{"$f":"IF(A255=\"\",\"\",VLOOKUP(A255,[1]ItemConfig!$A:$C,3,FALSE))","v":{"$error":"#N/A"}},{"$f":"IF(A255=\"\",\"\",VLOOKUP(B255,#REF!,5,FALSE))","v":{"$error":"#N/A"}},{"$f":"IF(A255=\"\",\"\",VLOOKUP(C255,#REF!,5,FALSE))","v":{"$error":"#N/A"}}]
[5118,{"$f":"IF(A256=\"\",\"\",VLOOKUP(A256,[1]ItemConfig!$A:$B,2,FALSE))","v":{"$error":"#N/A"}},{"$f":"IF(A256=\"\",\"\",VLOOKUP(A256,[1]ItemConfig!$A:$D,4,FALSE))","v":{"$error":"#N/A"}},{"$f":"IF(A256=\"\",\"\",VLOOKUP(A256,[1]ItemConfig!$A:$C,3,FALSE))","v":{"$error":"#N/A"}},{"$f":"IF(A256=\"\",\"\",VLOOKUP(B256,#REF!,5,FALSE))","v":{"$error":"#N/A"}},{"$f":"IF(A256=\"\",\"\",VLOOKUP(C256,#REF!,5,FALSE))","v":{"$error":"#N/A"}}]
[5119,{"$f":"IF(A257=\"\",\"\",VLOOKUP(A257,[1]ItemConfig!$A:$B,2,FALSE))","v":{"$error":"#N/A"}},{"$f":"IF(A257=\"\",\"\",VLOOKUP(A257,[1]ItemConfig!$A:$D,4,FALSE))","v":{"$error":"#N/A"}},{"$f":"IF(A257=\"\",\"\",VLOOKUP(A257,[1]ItemConfig!$A:$C,3,FALSE))","v":{"$error":"#N/A"}},{"$f":"IF(A257=\"\",\"\",VLOOKUP(B257,#REF!,5,FALSE))","v":{"$error":"#N/A"}},{"$f":"IF(A257=\"\",\"\",VLOOKUP(C257,#REF!,5,FALSE))","v":{"$error":"#N/A"}}]
[5120,{"$f":"IF(A258=\"\",\"\",VLOOKUP(A258,[1]ItemConfig!$A:$B,2,FALSE))","v":{"$error":"#N/A"}},{"$f":"IF(A258=\"\",\"\",VLOOKUP(A258,[1]ItemConfig!$A:$D,4,FALSE))","v":{"$error":"#N/A"}},{"$f":"IF(A258=\"\",\"\",VLOOKUP(A258,[1]ItemConfig!$A:$C,3,FALSE))","v":{"$error":"#N/A"}},{"$f":"IF(A258=\"\",\"\",VLOOKUP(B258,#REF!,5,FALSE))","v":{"$error":"#N/A"}},{"$f":"IF(A258=\"\",\"\",VLOOKUP(C258,#REF!,5,FALSE))","v":{"$error":"#N/A"}}]
[null,{"$f":"IF(A259=\"\",\"\",VLOOKUP(A259,[1]ItemConfig!$A:$B,2,FALSE))","v":""},{"$f":"IF(A259=\"\",\"\",VLOOKUP(A259,[1]ItemConfig!$A:$D,4,FALSE))","v":""},{"$f":"IF(A259=\"\",\"\",VLOOKUP(A259,[1]ItemConfig!$A:$C,3,FALSE))","v":""},{"$f":"IF(A259=\"\",\"\",VLOOKUP(B259,#REF!,5,FALSE))","v":""},{"$f":"IF(A259=\"\",\"\",VLOOKUP(C259,#REF!,5,FALSE))","v":""}]
[5121,{"$f":"IF(A260=\"\",\"\",VLOOKUP(A260,[1]ItemConfig!$A:$B,2,FALSE))","v":{"$error":"#N/A"}},{"$f":"IF(A260=\"\",\"\",VLOOKUP(A260,[1]ItemConfig!$A:$D,4,FALSE))","v":{"$error":"#N/A"}},{"$f":"IF(A260=\"\",\"\",VLOOKUP(A260,[1]ItemConfig!$A:$C,3,FALSE))","v":{"$error":"#N/A"}},{"$f":"IF(A260=\"\",\"\",VLOOKUP(B260,#REF!,5,FALSE))","v":{"$error":"#N/A"}},{"$f":"IF(A260=\"\",\"\",VLOOKUP(C260,#REF!,5,FALSE))","v":{"$error":"#N/A"}}]
[5122,{"$f":"IF(A261=\"\",\"\",VLOOKUP(A261,[1]ItemConfig!$A:$B,2,FALSE))","v":{"$error":"#N/A"}},{"$f":"IF(A261=\"\",\"\",VLOOKUP(A261,[1]ItemConfig!$A:$D,4,FALSE))","v":{"$error":"#N/A"}},{"$f":"IF(A261=\"\",\"\",VLOOKUP(A261,[1]ItemConfig!$A:$C,3,FALSE))","v":{"$error":"#N/A"}},{"$f":"IF(A261=\"\",\"\",VLOOKUP(B261,#REF!,5,FALSE))","v":{"$error":"#N/A"}},{"$f":"IF(A261=\"\",\"\",VLOOKUP(C261,#REF!,5,FALSE))","v":{"$error":"#N/A"}}]
[5123,{"$f":"IF(A262=\"\",\"\",VLOOKUP(A262,[1]ItemConfig!$A:$B,2,FALSE))","v":{"$error":"#N/A"}},{"$f":"IF(A262=\"\",\"\",VLOOKUP(A262,[1]ItemConfig!$A:$D,4,FALSE))","v":{"$error":"#N/A"}},{"$f":"IF(A262=\"\",\"\",VLOOKUP(A262,[1]ItemConfig!$A:$C,3,FALSE))","v":{"$error":"#N/A"}},{"$f":"IF(A262=\"\",\"\",VLOOKUP(B262,#REF!,5,FALSE))","v":{"$error":"#N/A"}},{"$f":"IF(A262=\"\",\"\",VLOOKUP(C262,#REF!,5,FALSE))","v":{"$error":"#N/A"}}]
[5124,{"$f":"IF(A263=\"\",\"\",VLOOKUP(A263,[1]ItemConfig!$A:$B,2,FALSE))","v":{"$error":"#N/A"}},{"$f":"IF(A263=\"\",\"\",VLOOKUP(A263,[1]ItemConfig!$A:$D,4,FALSE))","v":{"$error":"#N/A"}},{"$f":"IF(A263=\"\",\"\",VLOOKUP(A263,[1]ItemConfig!$A:$C,3,FALSE))","v":{"$error":"#N/A"}},{"$f":"IF(A263=\"\",\"\",VLOOKUP(B263,#REF!,5,FALSE))","v":{"$error":"#N/A"}},{"$f":"IF(A263=\"\",\"\",VLOOKUP(C263,#REF!,5,FALSE))","v":{"$error":"#N/A"}}]
[5125,{"$f":"IF(A264=\"\",\"\",VLOOKUP(A264,[1]ItemConfig!$A:$B,2,FALSE))","v":{"$error":"#N/A"}},{"$f":"IF(A264=\"\",\"\",VLOOKUP(A264,[1]ItemConfig!$A:$D,4,FALSE))","v":{"$error":"#N/A"}},{"$f":"IF(A264=\"\",\"\",VLOOKUP(A264,[1]ItemConfig!$A:$C,3,FALSE))","v":{"$error":"#N/A"}},{"$f":"IF(A264=\"\",\"\",VLOOKUP(B264,#REF!,5,FALSE))","v":{"$error":"#N/A"}},{"$f":"IF(A264=\"\",\"\",VLOOKUP(C264,#REF!,5,FALSE))","v":{"$error":"#N/A"}}]
[5126,{"$f":"IF(A265=\"\",\"\",VLOOKUP(A265,[1]ItemConfig!$A:$B,2,FALSE))","v":{"$error":"#N/A"}},{"$f":"IF(A265=\"\",\"\",VLOOKUP(A265,[1]ItemConfig!$A:$D,4,FALSE))","v":{"$error":"#N/A"}},{"$f":"IF(A265=\"\",\"\",VLOOKUP(A265,[1]ItemConfig!$A:$C,3,FALSE))","v":{"$error":"#N/A"}},{"$f":"IF(A265=\"\",\"\",VLOOKUP(B265,#REF!,5,FALSE))","v":{"$error":"#N/A"}},{"$f":"IF(A265=\"\",\"\",VLOOKUP(C265,#REF!,5,FALSE))","v":{"$error":"#N/A"}}]
[5127,{"$f":"IF(A266=\"\",\"\",VLOOKUP(A266,[1]ItemConfig!$A:$B,2,FALSE))","v":{"$error":"#N/A"}},{"$f":"IF(A266=\"\",\"\",VLOOKUP(A266,[1]ItemConfig!$A:$D,4,FALSE))","v":{"$error":"#N/A"}},{"$f":"IF(A266=\"\",\"\",VLOOKUP(A266,[1]ItemConfig!$A:$C,3,FALSE))","v":{"$error":"#N/A"}},{"$f":"IF(A266=\"\",\"\",VLOOKUP(B266,#REF!,5,FALSE))","v":{"$error":"#N/A"}},{"$f":"IF(A266=\"\",\"\",VLOOKUP(C266,#REF!,5,FALSE))","v":{"$error":"#N/A"}}]
[5128,{"$f":"IF(A267=\"\",\"\",VLOOKUP(A267,[1]ItemConfig!$A:$B,2,FALSE))","v":{"$error":"#N/A"}},{"$f":"IF(A267=\"\",\"\",VLOOKUP(A267,[1]ItemConfig!$A:$D,4,FALSE))","v":{"$error":"#N/A"}},{"$f":"IF(A267=\"\",\"\",VLOOKUP(A267,[1]ItemConfig!$A:$C,3,FALSE))","v":{"$error":"#N/A"}},{"$f":"IF(A267=\"\",\"\",VLOOKUP(B267,#REF!,5,FALSE))","v":{"$error":"#N/A"}},{"$f":"IF(A267=\"\",\"\",VLOOKUP(C267,#REF!,5,FALSE))","v":{"$error":"#N/A"}}]
[5129,{"$f":"IF(A268=\"\",\"\",VLOOKUP(A268,[1]ItemConfig!$A:$B,2,FALSE))","v":{"$error":"#N/A"}},{"$f":"IF(A268=\"\",\"\",VLOOKUP(A268,[1]ItemConfig!$A:$D,4,FALSE))","v":{"$error":"#N/A"}},{"$f":"IF(A268=\"\",\"\",VLOOKUP(A268,[1]ItemConfig!$A:$C,3,FALSE))","v":{"$error":"#N/A"}},{"$f":"IF(A268=\"\",\"\",VLOOKUP(B268,#REF!,5,FALSE))","v":{"$error":"#N/A"}},{"$f":"IF(A268=\"\",\"\",VLOOKUP(C268,#REF!,5,FALSE))","v":{"$error":"#N/A"}}]
[5130,{"$f":"IF(A269=\"\",\"\",VLOOKUP(A269,[1]ItemConfig!$A:$B,2,FALSE))","v":{"$error":"#N/A"}},{"$f":"IF(A269=\"\",\"\",VLOOKUP(A269,[1]ItemConfig!$A:$D,4,FALSE))","v":{"$error":"#N/A"}},{"$f":"IF(A269=\"\",\"\",VLOOKUP(A269,[1]ItemConfig!$A:$C,3,FALSE))","v":{"$error":"#N/A"}},{"$f":"IF(A269=\"\",\"\",VLOOKUP(B269,#REF!,5,FALSE))","v":{"$error":"#N/A"}},{"$f":"IF(A269=\"\",\"\",VLOOKUP(C269,#REF!,5,FALSE))","v":{"$error":"#N/A"}}]
[5131,{"$f":"IF(A270=\"\",\"\",VLOOKUP(A270,[1]ItemConfig!$A:$B,2,FALSE))","v":{"$error":"#N/A"}},{"$f":"IF(A270=\"\",\"\",VLOOKUP(A270,[1]ItemConfig!$A:$D,4,FALSE))","v":{"$error":"#N/A"}},{"$f":"IF(A270=\"\",\"\",VLOOKUP(A270,[1]ItemConfig!$A:$C,3,FALSE))","v":{"$error":"#N/A"}},{"$f":"IF(A270=\"\",\"\",VLOOKUP(B270,#REF!,5,FALSE))","v":{"$error":"#N/A"}},{"$f":"IF(A270=\"\",\"\",VLOOKUP(C270,#REF!,5,FALSE))","v":{"$error":"#N/A"}}]
[5132,{"$f":"IF(A271=\"\",\"\",VLOOKUP(A271,[1]ItemConfig!$A:$B,2,FALSE))","v":{"$error":"#N/A"}},{"$f":"IF(A271=\"\",\"\",VLOOKUP(A271,[1]ItemConfig!$A:$D,4,FALSE))","v":{"$error":"#N/A"}},{"$f":"IF(A271=\"\",\"\",VLOOKUP(A271,[1]ItemConfig!$A:$C,3,FALSE))","v":{"$error":"#N/A"}},{"$f":"IF(A271=\"\",\"\",VLOOKUP(B271,#REF!,5,FALSE))","v":{"$error":"#N/A"}},{"$f":"IF(A271=\"\",\"\",VLOOKUP(C271,#REF!,5,FALSE))","v":{"$error":"#N/A"}}]
[null,{"$f":"IF(A272=\"\",\"\",VLOOKUP(A272,[1]ItemConfig!$A:$B,2,FALSE))","v":""},{"$f":"IF(A272=\"\",\"\",VLOOKUP(A272,[1]ItemConfig!$A:$D,4,FALSE))","v":""},{"$f":"IF(A272=\"\",\"\",VLOOKUP(A272,[1]ItemConfig!$A:$C,3,FALSE))","v":""},{"$f":"IF(A272=\"\",\"\",VLOOKUP(B272,#REF!,5,FALSE))","v":""},{"$f":"IF(A272=\"\",\"\",VLOOKUP(C272,#REF!,5,FALSE))","v":""}]
[5133,{"$f":"IF(A273=\"\",\"\",VLOOKUP(A273,[1]ItemConfig!$A:$B,2,FALSE))","v":{"$error":"#N/A"}},{"$f":"IF(A273=\"\",\"\",VLOOKUP(A273,[1]ItemConfig!$A:$D,4,FALSE))","v":{"$error":"#N/A"}},{"$f":"IF(A273=\"\",\"\",VLOOKUP(A273,[1]ItemConfig!$A:$C,3,FALSE))","v":{"$error":"#N/A"}},{"$f":"IF(A273=\"\",\"\",VLOOKUP(B273,#REF!,5,FALSE))","v":{"$error":"#N/A"}},{"$f":"IF(A273=\"\",\"\",VLOOKUP(C273,#REF!,5,FALSE))","v":{"$error":"#N/A"}}]
[5134,{"$f":"IF(A274=\"\",\"\",VLOOKUP(A274,[1]ItemConfig!$A:$B,2,FALSE))","v":{"$error":"#N/A"}},{"$f":"IF(A274=\"\",\"\",VLOOKUP(A274,[1]ItemConfig!$A:$D,4,FALSE))","v":{"$error":"#N/A"}},{"$f":"IF(A274=\"\",\"\",VLOOKUP(A274,[1]ItemConfig!$A:$C,3,FALSE))","v":{"$error":"#N/A"}},{"$f":"IF(A274=\"\",\"\",VLOOKUP(B274,#REF!,5,FALSE))","v":{"$error":"#N/A"}},{"$f":"IF(A274=\"\",\"\",VLOOKUP(C274,#REF!,5,FALSE))","v":{"$error":"#N/A"}}]
[5135,{"$f":"IF(A275=\"\",\"\",VLOOKUP(A275,[1]ItemConfig!$A:$B,2,FALSE))","v":{"$error":"#N/A"}},{"$f":"IF(A275=\"\",\"\",VLOOKUP(A275,[1]ItemConfig!$A:$D,4,FALSE))","v":{"$error":"#N/A"}},{"$f":"IF(A275=\"\",\"\",VLOOKUP(A275,[1]ItemConfig!$A:$C,3,FALSE))","v":{"$error":"#N/A"}},{"$f":"IF(A275=\"\",\"\",VLOOKUP(B275,#REF!,5,FALSE))","v":{"$error":"#N/A"}},{"$f":"IF(A275=\"\",\"\",VLOOKUP(C275,#REF!,5,FALSE))","v":{"$error":"#N/A"}}]
[5136,{"$f":"IF(A276=\"\",\"\",VLOOKUP(A276,[1]ItemConfig!$A:$B,2,FALSE))","v":{"$error":"#N/A"}},{"$f":"IF(A276=\"\",\"\",VLOOKUP(A276,[1]ItemConfig!$A:$D,4,FALSE))","v":{"$error":"#N/A"}},{"$f":"IF(A276=\"\",\"\",VLOOKUP(A276,[1]ItemConfig!$A:$C,3,FALSE))","v":{"$error":"#N/A"}},{"$f":"IF(A276=\"\",\"\",VLOOKUP(B276,#REF!,5,FALSE))","v":{"$error":"#N/A"}},{"$f":"IF(A276=\"\",\"\",VLOOKUP(C276,#REF!,5,FALSE))","v":{"$error":"#N/A"}}]
[5137,{"$f":"IF(A277=\"\",\"\",VLOOKUP(A277,[1]ItemConfig!$A:$B,2,FALSE))","v":{"$error":"#N/A"}},{"$f":"IF(A277=\"\",\"\",VLOOKUP(A277,[1]ItemConfig!$A:$D,4,FALSE))","v":{"$error":"#N/A"}},{"$f":"IF(A277=\"\",\"\",VLOOKUP(A277,[1]ItemConfig!$A:$C,3,FALSE))","v":{"$error":"#N/A"}},{"$f":"IF(A277=\"\",\"\",VLOOKUP(B277,#REF!,5,FALSE))","v":{"$error":"#N/A"}},{"$f":"IF(A277=\"\",\"\",VLOOKUP(C277,#REF!,5,FALSE))","v":{"$error":"#N/A"}}]
[5138,{"$f":"IF(A278=\"\",\"\",VLOOKUP(A278,[1]ItemConfig!$A:$B,2,FALSE))","v":{"$error":"#N/A"}},{"$f":"IF(A278=\"\",\"\",VLOOKUP(A278,[1]ItemConfig!$A:$D,4,FALSE))","v":{"$error":"#N/A"}},{"$f":"IF(A278=\"\",\"\",VLOOKUP(A278,[1]ItemConfig!$A:$C,3,FALSE))","v":{"$error":"#N/A"}},{"$f":"IF(A278=\"\",\"\",VLOOKUP(B278,#REF!,5,FALSE))","v":{"$error":"#N/A"}},{"$f":"IF(A278=\"\",\"\",VLOOKUP(C278,#REF!,5,FALSE))","v":{"$error":"#N/A"}}]
[5139,{"$f":"IF(A279=\"\",\"\",VLOOKUP(A279,[1]ItemConfig!$A:$B,2,FALSE))","v":{"$error":"#N/A"}},{"$f":"IF(A279=\"\",\"\",VLOOKUP(A279,[1]ItemConfig!$A:$D,4,FALSE))","v":{"$error":"#N/A"}},{"$f":"IF(A279=\"\",\"\",VLOOKUP(A279,[1]ItemConfig!$A:$C,3,FALSE))","v":{"$error":"#N/A"}},{"$f":"IF(A279=\"\",\"\",VLOOKUP(B279,#REF!,5,FALSE))","v":{"$error":"#N/A"}},{"$f":"IF(A279=\"\",\"\",VLOOKUP(C279,#REF!,5,FALSE))","v":{"$error":"#N/A"}}]
[5140,{"$f":"IF(A280=\"\",\"\",VLOOKUP(A280,[1]ItemConfig!$A:$B,2,FALSE))","v":{"$error":"#N/A"}},{"$f":"IF(A280=\"\",\"\",VLOOKUP(A280,[1]ItemConfig!$A:$D,4,FALSE))","v":{"$error":"#N/A"}},{"$f":"IF(A280=\"\",\"\",VLOOKUP(A280,[1]ItemConfig!$A:$C,3,FALSE))","v":{"$error":"#N/A"}},{"$f":"IF(A280=\"\",\"\",VLOOKUP(B280,#REF!,5,FALSE))","v":{"$error":"#N/A"}},{"$f":"IF(A280=\"\",\"\",VLOOKUP(C280,#REF!,5,FALSE))","v":{"$error":"#N/A"}}]
[5141,{"$f":"IF(A281=\"\",\"\",VLOOKUP(A281,[1]ItemConfig!$A:$B,2,FALSE))","v":{"$error":"#N/A"}},{"$f":"IF(A281=\"\",\"\",VLOOKUP(A281,[1]ItemConfig!$A:$D,4,FALSE))","v":{"$error":"#N/A"}},{"$f":"IF(A281=\"\",\"\",VLOOKUP(A281,[1]ItemConfig!$A:$C,3,FALSE))","v":{"$error":"#N/A"}},{"$f":"IF(A281=\"\",\"\",VLOOKUP(B281,#REF!,5,FALSE))","v":{"$error":"#N/A"}},{"$f":"IF(A281=\"\",\"\",VLOOKUP(C281,#REF!,5,FALSE))","v":{"$error":"#N/A"}}]
[5142,{"$f":"IF(A282=\"\",\"\",VLOOKUP(A282,[1]ItemConfig!$A:$B,2,FALSE))","v":{"$error":"#N/A"}},{"$f":"IF(A282=\"\",\"\",VLOOKUP(A282,[1]ItemConfig!$A:$D,4,FALSE))","v":{"$error":"#N/A"}},{"$f":"IF(A282=\"\",\"\",VLOOKUP(A282,[1]ItemConfig!$A:$C,3,FALSE))","v":{"$error":"#N/A"}},{"$f":"IF(A282=\"\",\"\",VLOOKUP(B282,#REF!,5,FALSE))","v":{"$error":"#N/A"}},{"$f":"IF(A282=\"\",\"\",VLOOKUP(C282,#REF!,5,FALSE))","v":{"$error":"#N/A"}}]
[5143,{"$f":"IF(A283=\"\",\"\",VLOOKUP(A283,[1]ItemConfig!$A:$B,2,FALSE))","v":{"$error":"#N/A"}},{"$f":"IF(A283=\"\",\"\",VLOOKUP(A283,[1]ItemConfig!$A:$D,4,FALSE))","v":{"$error":"#N/A"}},{"$f":"IF(A283=\"\",\"\",VLOOKUP(A283,[1]ItemConfig!$A:$C,3,FALSE))","v":{"$error":"#N/A"}},{"$f":"IF(A283=\"\",\"\",VLOOKUP(B283,#REF!,5,FALSE))","v":{"$error":"#N/A"}},{"$f":"IF(A283=\"\",\"\",VLOOKUP(C283,#REF!,5,FALSE))","v":{"$error":"#N/A"}}]
[5144,{"$f":"IF(A284=\"\",\"\",VLOOKUP(A284,[1]ItemConfig!$A:$B,2,FALSE))","v":{"$error":"#N/A"}},{"$f":"IF(A284=\"\",\"\",VLOOKUP(A284,[1]ItemConfig!$A:$D,4,FALSE))","v":{"$error":"#N/A"}},{"$f":"IF(A284=\"\",\"\",VLOOKUP(A284,[1]ItemConfig!$A:$C,3,FALSE))","v":{"$error":"#N/A"}},{"$f":"IF(A284=\"\",\"\",VLOOKUP(B284,#REF!,5,FALSE))","v":{"$error":"#N/A"}},{"$f":"IF(A284=\"\",\"\",VLOOKUP(C284,#REF!,5,FALSE))","v":{"$error":"#N/A"}}]
[null,{"$f":"IF(A285=\"\",\"\",VLOOKUP(A285,[1]ItemConfig!$A:$B,2,FALSE))","v":""},{"$f":"IF(A285=\"\",\"\",VLOOKUP(A285,[1]ItemConfig!$A:$D,4,FALSE))","v":""},{"$f":"IF(A285=\"\",\"\",VLOOKUP(A285,[1]ItemConfig!$A:$C,3,FALSE))","v":""},{"$f":"IF(A285=\"\",\"\",VLOOKUP(B285,#REF!,5,FALSE))","v":""},{"$f":"IF(A285=\"\",\"\",VLOOKUP(C285,#REF!,5,FALSE))","v":""}]
[5145,{"$f":"IF(A286=\"\",\"\",VLOOKUP(A286,[1]ItemConfig!$A:$B,2,FALSE))","v":{"$error":"#N/A"}},{"$f":"IF(A286=\"\",\"\",VLOOKUP(A286,[1]ItemConfig!$A:$D,4,FALSE))","v":{"$error":"#N/A"}},{"$f":"IF(A286=\"\",\"\",VLOOKUP(A286,[1]ItemConfig!$A:$C,3,FALSE))","v":{"$error":"#N/A"}},{"$f":"IF(A286=\"\",\"\",VLOOKUP(B286,#REF!,5,FALSE))","v":{"$error":"#N/A"}},{"$f":"IF(A286=\"\",\"\",VLOOKUP(C286,#REF!,5,FALSE))","v":{"$error":"#N/A"}}]
[5146,{"$f":"IF(A287=\"\",\"\",VLOOKUP(A287,[1]ItemConfig!$A:$B,2,FALSE))","v":{"$error":"#N/A"}},{"$f":"IF(A287=\"\",\"\",VLOOKUP(A287,[1]ItemConfig!$A:$D,4,FALSE))","v":{"$error":"#N/A"}},{"$f":"IF(A287=\"\",\"\",VLOOKUP(A287,[1]ItemConfig!$A:$C,3,FALSE))","v":{"$error":"#N/A"}},{"$f":"IF(A287=\"\",\"\",VLOOKUP(B287,#REF!,5,FALSE))","v":{"$error":"#N/A"}},{"$f":"IF(A287=\"\",\"\",VLOOKUP(C287,#REF!,5,FALSE))","v":{"$error":"#N/A"}}]
[5147,{"$f":"IF(A288=\"\",\"\",VLOOKUP(A288,[1]ItemConfig!$A:$B,2,FALSE))","v":{"$error":"#N/A"}},{"$f":"IF(A288=\"\",\"\",VLOOKUP(A288,[1]ItemConfig!$A:$D,4,FALSE))","v":{"$error":"#N/A"}},{"$f":"IF(A288=\"\",\"\",VLOOKUP(A288,[1]ItemConfig!$A:$C,3,FALSE))","v":{"$error":"#N/A"}},{"$f":"IF(A288=\"\",\"\",VLOOKUP(B288,#REF!,5,FALSE))","v":{"$error":"#N/A"}},{"$f":"IF(A288=\"\",\"\",VLOOKUP(C288,#REF!,5,FALSE))","v":{"$error":"#N/A"}}]
[5148,{"$f":"IF(A289=\"\",\"\",VLOOKUP(A289,[1]ItemConfig!$A:$B,2,FALSE))","v":{"$error":"#N/A"}},{"$f":"IF(A289=\"\",\"\",VLOOKUP(A289,[1]ItemConfig!$A:$D,4,FALSE))","v":{"$error":"#N/A"}},{"$f":"IF(A289=\"\",\"\",VLOOKUP(A289,[1]ItemConfig!$A:$C,3,FALSE))","v":{"$error":"#N/A"}},{"$f":"IF(A289=\"\",\"\",VLOOKUP(B289,#REF!,5,FALSE))","v":{"$error":"#N/A"}},{"$f":"IF(A289=\"\",\"\",VLOOKUP(C289,#REF!,5,FALSE))","v":{"$error":"#N/A"}}]
[5149,{"$f":"IF(A290=\"\",\"\",VLOOKUP(A290,[1]ItemConfig!$A:$B,2,FALSE))","v":{"$error":"#N/A"}},{"$f":"IF(A290=\"\",\"\",VLOOKUP(A290,[1]ItemConfig!$A:$D,4,FALSE))","v":{"$error":"#N/A"}},{"$f":"IF(A290=\"\",\"\",VLOOKUP(A290,[1]ItemConfig!$A:$C,3,FALSE))","v":{"$error":"#N/A"}},{"$f":"IF(A290=\"\",\"\",VLOOKUP(B290,#REF!,5,FALSE))","v":{"$error":"#N/A"}},{"$f":"IF(A290=\"\",\"\",VLOOKUP(C290,#REF!,5,FALSE))","v":{"$error":"#N/A"}}]
[5150,{"$f":"IF(A291=\"\",\"\",VLOOKUP(A291,[1]ItemConfig!$A:$B,2,FALSE))","v":{"$error":"#N/A"}},{"$f":"IF(A291=\"\",\"\",VLOOKUP(A291,[1]ItemConfig!$A:$D,4,FALSE))","v":{"$error":"#N/A"}},{"$f":"IF(A291=\"\",\"\",VLOOKUP(A291,[1]ItemConfig!$A:$C,3,FALSE))","v":{"$error":"#N/A"}},{"$f":"IF(A291=\"\",\"\",VLOOKUP(B291,#REF!,5,FALSE))","v":{"$error":"#N/A"}},{"$f":"IF(A291=\"\",\"\",VLOOKUP(C291,#REF!,5,FALSE))","v":{"$error":"#N/A"}}]
[5151,{"$f":"IF(A292=\"\",\"\",VLOOKUP(A292,[1]ItemConfig!$A:$B,2,FALSE))","v":{"$error":"#N/A"}},{"$f":"IF(A292=\"\",\"\",VLOOKUP(A292,[1]ItemConfig!$A:$D,4,FALSE))","v":{"$error":"#N/A"}},{"$f":"IF(A292=\"\",\"\",VLOOKUP(A292,[1]ItemConfig!$A:$C,3,FALSE))","v":{"$error":"#N/A"}},{"$f":"IF(A292=\"\",\"\",VLOOKUP(B292,#REF!,5,FALSE))","v":{"$error":"#N/A"}},{"$f":"IF(A292=\"\",\"\",VLOOKUP(C292,#REF!,5,FALSE))","v":{"$error":"#N/A"}}]
[5152,{"$f":"IF(A293=\"\",\"\",VLOOKUP(A293,[1]ItemConfig!$A:$B,2,FALSE))","v":{"$error":"#N/A"}},{"$f":"IF(A293=\"\",\"\",VLOOKUP(A293,[1]ItemConfig!$A:$D,4,FALSE))","v":{"$error":"#N/A"}},{"$f":"IF(A293=\"\",\"\",VLOOKUP(A293,[1]ItemConfig!$A:$C,3,FALSE))","v":{"$error":"#N/A"}},{"$f":"IF(A293=\"\",\"\",VLOOKUP(B293,#REF!,5,FALSE))","v":{"$error":"#N/A"}},{"$f":"IF(A293=\"\",\"\",VLOOKUP(C293,#REF!,5,FALSE))","v":{"$error":"#N/A"}}]
[5153,{"$f":"IF(A294=\"\",\"\",VLOOKUP(A294,[1]ItemConfig!$A:$B,2,FALSE))","v":{"$error":"#N/A"}},{"$f":"IF(A294=\"\",\"\",VLOOKUP(A294,[1]ItemConfig!$A:$D,4,FALSE))","v":{"$error":"#N/A"}},{"$f":"IF(A294=\"\",\"\",VLOOKUP(A294,[1]ItemConfig!$A:$C,3,FALSE))","v":{"$error":"#N/A"}},{"$f":"IF(A294=\"\",\"\",VLOOKUP(B294,#REF!,5,FALSE))","v":{"$error":"#N/A"}},{"$f":"IF(A294=\"\",\"\",VLOOKUP(C294,#REF!,5,FALSE))","v":{"$error":"#N/A"}}]
[5154,{"$f":"IF(A295=\"\",\"\",VLOOKUP(A295,[1]ItemConfig!$A:$B,2,FALSE))","v":{"$error":"#N/A"}},{"$f":"IF(A295=\"\",\"\",VLOOKUP(A295,[1]ItemConfig!$A:$D,4,FALSE))","v":{"$error":"#N/A"}},{"$f":"IF(A295=\"\",\"\",VLOOKUP(A295,[1]ItemConfig!$A:$C,3,FALSE))","v":{"$error":"#N/A"}},{"$f":"IF(A295=\"\",\"\",VLOOKUP(B295,#REF!,5,FALSE))","v":{"$error":"#N/A"}},{"$f":"IF(A295=\"\",\"\",VLOOKUP(C295,#REF!,5,FALSE))","v":{"$error":"#N/A"}}]
[5155,{"$f":"IF(A296=\"\",\"\",VLOOKUP(A296,[1]ItemConfig!$A:$B,2,FALSE))","v":{"$error":"#N/A"}},{"$f":"IF(A296=\"\",\"\",VLOOKUP(A296,[1]ItemConfig!$A:$D,4,FALSE))","v":{"$error":"#N/A"}},{"$f":"IF(A296=\"\",\"\",VLOOKUP(A296,[1]ItemConfig!$A:$C,3,FALSE))","v":{"$error":"#N/A"}},{"$f":"IF(A296=\"\",\"\",VLOOKUP(B296,#REF!,5,FALSE))","v":{"$error":"#N/A"}},{"$f":"IF(A296=\"\",\"\",VLOOKUP(C296,#REF!,5,FALSE))","v":{"$error":"#N/A"}}]
[5156,{"$f":"IF(A297=\"\",\"\",VLOOKUP(A297,[1]ItemConfig!$A:$B,2,FALSE))","v":{"$error":"#N/A"}},{"$f":"IF(A297=\"\",\"\",VLOOKUP(A297,[1]ItemConfig!$A:$D,4,FALSE))","v":{"$error":"#N/A"}},{"$f":"IF(A297=\"\",\"\",VLOOKUP(A297,[1]ItemConfig!$A:$C,3,FALSE))","v":{"$error":"#N/A"}},{"$f":"IF(A297=\"\",\"\",VLOOKUP(B297,#REF!,5,FALSE))","v":{"$error":"#N/A"}},{"$f":"IF(A297=\"\",\"\",VLOOKUP(C297,#REF!,5,FALSE))","v":{"$error":"#N/A"}}]
[null,{"$f":"IF(A298=\"\",\"\",VLOOKUP(A298,[1]ItemConfig!$A:$B,2,FALSE))","v":""},{"$f":"IF(A298=\"\",\"\",VLOOKUP(A298,[1]ItemConfig!$A:$D,4,FALSE))","v":""},{"$f":"IF(A298=\"\",\"\",VLOOKUP(A298,[1]ItemConfig!$A:$C,3,FALSE))","v":""},{"$f":"IF(A298=\"\",\"\",VLOOKUP(B298,#REF!,5,FALSE))","v":""},{"$f":"IF(A298=\"\",\"\",VLOOKUP(C298,#REF!,5,FALSE))","v":""}]
[108003,{"$f":"IF(A299=\"\",\"\",VLOOKUP(A299,[1]ItemConfig!$A:$B,2,FALSE))","v":{"$error":"#N/A"}},{"$f":"IF(A299=\"\",\"\",VLOOKUP(A299,[1]ItemConfig!$A:$D,4,FALSE))","v":{"$error":"#N/A"}},{"$f":"IF(A299=\"\",\"\",VLOOKUP(A299,[1]ItemConfig!$A:$C,3,FALSE))","v":{"$error":"#N/A"}},{"$f":"IF(A299=\"\",\"\",VLOOKUP(B299,#REF!,5,FALSE))","v":{"$error":"#N/A"}},{"$f":"IF(A299=\"\",\"\",VLOOKUP(C299,#REF!,5,FALSE))","v":{"$error":"#N/A"}}]
[107004,{"$f":"IF(A300=\"\",\"\",VLOOKUP(A300,[1]ItemConfig!$A:$B,2,FALSE))","v":{"$error":"#N/A"}},{"$f":"IF(A300=\"\",\"\",VLOOKUP(A300,[1]ItemConfig!$A:$D,4,FALSE))","v":{"$error":"#N/A"}},{"$f":"IF(A300=\"\",\"\",VLOOKUP(A300,[1]ItemConfig!$A:$C,3,FALSE))","v":{"$error":"#N/A"}},{"$f":"IF(A300=\"\",\"\",VLOOKUP(B300,#REF!,5,FALSE))","v":{"$error":"#N/A"}},{"$f":"IF(A300=\"\",\"\",VLOOKUP(C300,#REF!,5,FALSE))","v":{"$error":"#N/A"}}]
[107005,{"$f":"IF(A301=\"\",\"\",VLOOKUP(A301,[1]ItemConfig!$A:$B,2,FALSE))","v":{"$error":"#N/A"}},{"$f":"IF(A301=\"\",\"\",VLOOKUP(A301,[1]ItemConfig!$A:$D,4,FALSE))","v":{"$error":"#N/A"}},{"$f":"IF(A301=\"\",\"\",VLOOKUP(A301,[1]ItemConfig!$A:$C,3,FALSE))","v":{"$error":"#N/A"}},{"$f":"IF(A301=\"\",\"\",VLOOKUP(B301,#REF!,5,FALSE))","v":{"$error":"#N/A"}},{"$f":"IF(A301=\"\",\"\",VLOOKUP(C301,#REF!,5,FALSE))","v":{"$error":"#N/A"}}]
[107006,{"$f":"IF(A302=\"\",\"\",VLOOKUP(A302,[1]ItemConfig!$A:$B,2,FALSE))","v":{"$error":"#N/A"}},{"$f":"IF(A302=\"\",\"\",VLOOKUP(A302,[1]ItemConfig!$A:$D,4,FALSE))","v":{"$error":"#N/A"}},{"$f":"IF(A302=\"\",\"\",VLOOKUP(A302,[1]ItemConfig!$A:$C,3,FALSE))","v":{"$error":"#N/A"}},{"$f":"IF(A302=\"\",\"\",VLOOKUP(B302,#REF!,5,FALSE))","v":{"$error":"#N/A"}},{"$f":"IF(A302=\"\",\"\",VLOOKUP(C302,#REF!,5,FALSE))","v":{"$error":"#N/A"}}]
[107007,{"$f":"IF(A303=\"\",\"\",VLOOKUP(A303,[1]ItemConfig!$A:$B,2,FALSE))","v":{"$error":"#N/A"}},{"$f":"IF(A303=\"\",\"\",VLOOKUP(A303,[1]ItemConfig!$A:$D,4,FALSE))","v":{"$error":"#N/A"}},{"$f":"IF(A303=\"\",\"\",VLOOKUP(A303,[1]ItemConfig!$A:$C,3,FALSE))","v":{"$error":"#N/A"}},{"$f":"IF(A303=\"\",\"\",VLOOKUP(B303,#REF!,5,FALSE))","v":{"$error":"#N/A"}},{"$f":"IF(A303=\"\",\"\",VLOOKUP(C303,#REF!,5,FALSE))","v":{"$error":"#N/A"}}]
[107008,{"$f":"IF(A304=\"\",\"\",VLOOKUP(A304,[1]ItemConfig!$A:$B,2,FALSE))","v":{"$error":"#N/A"}},{"$f":"IF(A304=\"\",\"\",VLOOKUP(A304,[1]ItemConfig!$A:$D,4,FALSE))","v":{"$error":"#N/A"}},{"$f":"IF(A304=\"\",\"\",VLOOKUP(A304,[1]ItemConfig!$A:$C,3,FALSE))","v":{"$error":"#N/A"}},{"$f":"IF(A304=\"\",\"\",VLOOKUP(B304,#REF!,5,FALSE))","v":{"$error":"#N/A"}},{"$f":"IF(A304=\"\",\"\",VLOOKUP(C304,#REF!,5,FALSE))","v":{"$error":"#N/A"}}]
[107009,{"$f":"IF(A305=\"\",\"\",VLOOKUP(A305,[1]ItemConfig!$A:$B,2,FALSE))","v":{"$error":"#N/A"}},{"$f":"IF(A305=\"\",\"\",VLOOKUP(A305,[1]ItemConfig!$A:$D,4,FALSE))","v":{"$error":"#N/A"}},{"$f":"IF(A305=\"\",\"\",VLOOKUP(A305,[1]ItemConfig!$A:$C,3,FALSE))","v":{"$error":"#N/A"}},{"$f":"IF(A305=\"\",\"\",VLOOKUP(B305,#REF!,5,FALSE))","v":{"$error":"#N/A"}},{"$f":"IF(A305=\"\",\"\",VLOOKUP(C305,#REF!,5,FALSE))","v":{"$error":"#N/A"}}]
[107010,{"$f":"IF(A306=\"\",\"\",VLOOKUP(A306,[1]ItemConfig!$A:$B,2,FALSE))","v":{"$error":"#N/A"}},{"$f":"IF(A306=\"\",\"\",VLOOKUP(A306,[1]ItemConfig!$A:$D,4,FALSE))","v":{"$error":"#N/A"}},{"$f":"IF(A306=\"\",\"\",VLOOKUP(A306,[1]ItemConfig!$A:$C,3,FALSE))","v":{"$error":"#N/A"}},{"$f":"IF(A306=\"\",\"\",VLOOKUP(B306,#REF!,5,FALSE))","v":{"$error":"#N/A"}},{"$f":"IF(A306=\"\",\"\",VLOOKUP(C306,#REF!,5,FALSE))","v":{"$error":"#N/A"}}]
[107011,{"$f":"IF(A307=\"\",\"\",VLOOKUP(A307,[1]ItemConfig!$A:$B,2,FALSE))","v":{"$error":"#N/A"}},{"$f":"IF(A307=\"\",\"\",VLOOKUP(A307,[1]ItemConfig!$A:$D,4,FALSE))","v":{"$error":"#N/A"}},{"$f":"IF(A307=\"\",\"\",VLOOKUP(A307,[1]ItemConfig!$A:$C,3,FALSE))","v":{"$error":"#N/A"}},{"$f":"IF(A307=\"\",\"\",VLOOKUP(B307,#REF!,5,FALSE))","v":{"$error":"#N/A"}},{"$f":"IF(A307=\"\",\"\",VLOOKUP(C307,#REF!,5,FALSE))","v":{"$error":"#N/A"}}]
[108004,{"$f":"IF(A308=\"\",\"\",VLOOKUP(A308,[1]ItemConfig!$A:$B,2,FALSE))","v":{"$error":"#N/A"}},{"$f":"IF(A308=\"\",\"\",VLOOKUP(A308,[1]ItemConfig!$A:$D,4,FALSE))","v":{"$error":"#N/A"}},{"$f":"IF(A308=\"\",\"\",VLOOKUP(A308,[1]ItemConfig!$A:$C,3,FALSE))","v":{"$error":"#N/A"}},{"$f":"IF(A308=\"\",\"\",VLOOKUP(B308,#REF!,5,FALSE))","v":{"$error":"#N/A"}},{"$f":"IF(A308=\"\",\"\",VLOOKUP(C308,#REF!,5,FALSE))","v":{"$error":"#N/A"}}]
[105011,{"$f":"IF(A309=\"\",\"\",VLOOKUP(A309,[1]ItemConfig!$A:$B,2,FALSE))","v":{"$error":"#N/A"}},{"$f":"IF(A309=\"\",\"\",VLOOKUP(A309,[1]ItemConfig!$A:$D,4,FALSE))","v":{"$error":"#N/A"}},{"$f":"IF(A309=\"\",\"\",VLOOKUP(A309,[1]ItemConfig!$A:$C,3,FALSE))","v":{"$error":"#N/A"}},{"$f":"IF(A309=\"\",\"\",VLOOKUP(B309,#REF!,5,FALSE))","v":{"$error":"#N/A"}},{"$f":"IF(A309=\"\",\"\",VLOOKUP(C309,#REF!,5,FALSE))","v":{"$error":"#N/A"}}]
[105012,{"$f":"IF(A310=\"\",\"\",VLOOKUP(A310,[1]ItemConfig!$A:$B,2,FALSE))","v":{"$error":"#N/A"}},{"$f":"IF(A310=\"\",\"\",VLOOKUP(A310,[1]ItemConfig!$A:$D,4,FALSE))","v":{"$error":"#N/A"}},{"$f":"IF(A310=\"\",\"\",VLOOKUP(A310,[1]ItemConfig!$A:$C,3,FALSE))","v":{"$error":"#N/A"}},{"$f":"IF(A310=\"\",\"\",VLOOKUP(B310,#REF!,5,FALSE))","v":{"$error":"#N/A"}},{"$f":"IF(A310=\"\",\"\",VLOOKUP(C310,#REF!,5,FALSE))","v":{"$error":"#N/A"}}]
[105013,{"$f":"IF(A311=\"\",\"\",VLOOKUP(A311,[1]ItemConfig!$A:$B,2,FALSE))","v":{"$error":"#N/A"}},{"$f":"IF(A311=\"\",\"\",VLOOKUP(A311,[1]ItemConfig!$A:$D,4,FALSE))","v":{"$error":"#N/A"}},{"$f":"IF(A311=\"\",\"\",VLOOKUP(A311,[1]ItemConfig!$A:$C,3,FALSE))","v":{"$error":"#N/A"}},{"$f":"IF(A311=\"\",\"\",VLOOKUP(B311,#REF!,5,FALSE))","v":{"$error":"#N/A"}},{"$f":"IF(A311=\"\",\"\",VLOOKUP(C311,#REF!,5,FALSE))","v":{"$error":"#N/A"}}]
[108005,{"$f":"IF(A312=\"\",\"\",VLOOKUP(A312,[1]ItemConfig!$A:$B,2,FALSE))","v":{"$error":"#N/A"}},{"$f":"IF(A312=\"\",\"\",VLOOKUP(A312,[1]ItemConfig!$A:$D,4,FALSE))","v":{"$error":"#N/A"}},{"$f":"IF(A312=\"\",\"\",VLOOKUP(A312,[1]ItemConfig!$A:$C,3,FALSE))","v":{"$error":"#N/A"}},{"$f":"IF(A312=\"\",\"\",VLOOKUP(B312,#REF!,5,FALSE))","v":{"$error":"#N/A"}},{"$f":"IF(A312=\"\",\"\",VLOOKUP(C312,#REF!,5,FALSE))","v":{"$error":"#N/A"}}]
[108006,{"$f":"IF(A313=\"\",\"\",VLOOKUP(A313,[1]ItemConfig!$A:$B,2,FALSE))","v":{"$error":"#N/A"}},{"$f":"IF(A313=\"\",\"\",VLOOKUP(A313,[1]ItemConfig!$A:$D,4,FALSE))","v":{"$error":"#N/A"}},{"$f":"IF(A313=\"\",\"\",VLOOKUP(A313,[1]ItemConfig!$A:$C,3,FALSE))","v":{"$error":"#N/A"}},{"$f":"IF(A313=\"\",\"\",VLOOKUP(B313,#REF!,5,FALSE))","v":{"$error":"#N/A"}},{"$f":"IF(A313=\"\",\"\",VLOOKUP(C313,#REF!,5,FALSE))","v":{"$error":"#N/A"}}]
[108007,{"$f":"IF(A314=\"\",\"\",VLOOKUP(A314,[1]ItemConfig!$A:$B,2,FALSE))","v":{"$error":"#N/A"}},{"$f":"IF(A314=\"\",\"\",VLOOKUP(A314,[1]ItemConfig!$A:$D,4,FALSE))","v":{"$error":"#N/A"}},{"$f":"IF(A314=\"\",\"\",VLOOKUP(A314,[1]ItemConfig!$A:$C,3,FALSE))","v":{"$error":"#N/A"}},{"$f":"IF(A314=\"\",\"\",VLOOKUP(B314,#REF!,5,FALSE))","v":{"$error":"#N/A"}},{"$f":"IF(A314=\"\",\"\",VLOOKUP(C314,#REF!,5,FALSE))","v":{"$error":"#N/A"}}]
[108008,{"$f":"IF(A315=\"\",\"\",VLOOKUP(A315,[1]ItemConfig!$A:$B,2,FALSE))","v":{"$error":"#N/A"}},{"$f":"IF(A315=\"\",\"\",VLOOKUP(A315,[1]ItemConfig!$A:$D,4,FALSE))","v":{"$error":"#N/A"}},{"$f":"IF(A315=\"\",\"\",VLOOKUP(A315,[1]ItemConfig!$A:$C,3,FALSE))","v":{"$error":"#N/A"}},{"$f":"IF(A315=\"\",\"\",VLOOKUP(B315,#REF!,5,FALSE))","v":{"$error":"#N/A"}},{"$f":"IF(A315=\"\",\"\",VLOOKUP(C315,#REF!,5,FALSE))","v":{"$error":"#N/A"}}]
[108009,{"$f":"IF(A316=\"\",\"\",VLOOKUP(A316,[1]ItemConfig!$A:$B,2,FALSE))","v":{"$error":"#N/A"}},{"$f":"IF(A316=\"\",\"\",VLOOKUP(A316,[1]ItemConfig!$A:$D,4,FALSE))","v":{"$error":"#N/A"}},{"$f":"IF(A316=\"\",\"\",VLOOKUP(A316,[1]ItemConfig!$A:$C,3,FALSE))","v":{"$error":"#N/A"}},{"$f":"IF(A316=\"\",\"\",VLOOKUP(B316,#REF!,5,FALSE))","v":{"$error":"#N/A"}},{"$f":"IF(A316=\"\",\"\",VLOOKUP(C316,#REF!,5,FALSE))","v":{"$error":"#N/A"}}]
[108010,{"$f":"IF(A317=\"\",\"\",VLOOKUP(A317,[1]ItemConfig!$A:$B,2,FALSE))","v":{"$error":"#N/A"}},{"$f":"IF(A317=\"\",\"\",VLOOKUP(A317,[1]ItemConfig!$A:$D,4,FALSE))","v":{"$error":"#N/A"}},{"$f":"IF(A317=\"\",\"\",VLOOKUP(A317,[1]ItemConfig!$A:$C,3,FALSE))","v":{"$error":"#N/A"}},{"$f":"IF(A317=\"\",\"\",VLOOKUP(B317,#REF!,5,FALSE))","v":{"$error":"#N/A"}},{"$f":"IF(A317=\"\",\"\",VLOOKUP(C317,#REF!,5,FALSE))","v":{"$error":"#N/A"}}]
[113001,{"$f":"IF(A318=\"\",\"\",VLOOKUP(A318,[1]ItemConfig!$A:$B,2,FALSE))","v":{"$error":"#N/A"}},{"$f":"IF(A318=\"\",\"\",VLOOKUP(A318,[1]ItemConfig!$A:$D,4,FALSE))","v":{"$error":"#N/A"}},{"$f":"IF(A318=\"\",\"\",VLOOKUP(A318,[1]ItemConfig!$A:$C,3,FALSE))","v":{"$error":"#N/A"}},{"$f":"IF(A318=\"\",\"\",VLOOKUP(B318,#REF!,5,FALSE))","v":{"$error":"#N/A"}},{"$f":"IF(A318=\"\",\"\",VLOOKUP(C318,#REF!,5,FALSE))","v":{"$error":"#N/A"}}]
[113002,{"$f":"IF(A319=\"\",\"\",VLOOKUP(A319,[1]ItemConfig!$A:$B,2,FALSE))","v":{"$error":"#N/A"}},{"$f":"IF(A319=\"\",\"\",VLOOKUP(A319,[1]ItemConfig!$A:$D,4,FALSE))","v":{"$error":"#N/A"}},{"$f":"IF(A319=\"\",\"\",VLOOKUP(A319,[1]ItemConfig!$A:$C,3,FALSE))","v":{"$error":"#N/A"}},{"$f":"IF(A319=\"\",\"\",VLOOKUP(B319,#REF!,5,FALSE))","v":{"$error":"#N/A"}},{"$f":"IF(A319=\"\",\"\",VLOOKUP(C319,#REF!,5,FALSE))","v":{"$error":"#N/A"}}]
[113003,{"$f":"IF(A320=\"\",\"\",VLOOKUP(A320,[1]ItemConfig!$A:$B,2,FALSE))","v":{"$error":"#N/A"}},{"$f":"IF(A320=\"\",\"\",VLOOKUP(A320,[1]ItemConfig!$A:$D,4,FALSE))","v":{"$error":"#N/A"}},{"$f":"IF(A320=\"\",\"\",VLOOKUP(A320,[1]ItemConfig!$A:$C,3,FALSE))","v":{"$error":"#N/A"}},{"$f":"IF(A320=\"\",\"\",VLOOKUP(B320,#REF!,5,FALSE))","v":{"$error":"#N/A"}},{"$f":"IF(A320=\"\",\"\",VLOOKUP(C320,#REF!,5,FALSE))","v":{"$error":"#N/A"}}]
[113004,{"$f":"IF(A321=\"\",\"\",VLOOKUP(A321,[1]ItemConfig!$A:$B,2,FALSE))","v":{"$error":"#N/A"}},{"$f":"IF(A321=\"\",\"\",VLOOKUP(A321,[1]ItemConfig!$A:$D,4,FALSE))","v":{"$error":"#N/A"}},{"$f":"IF(A321=\"\",\"\",VLOOKUP(A321,[1]ItemConfig!$A:$C,3,FALSE))","v":{"$error":"#N/A"}},{"$f":"IF(A321=\"\",\"\",VLOOKUP(B321,#REF!,5,FALSE))","v":{"$error":"#N/A"}},{"$f":"IF(A321=\"\",\"\",VLOOKUP(C321,#REF!,5,FALSE))","v":{"$error":"#N/A"}}]
[107012,{"$f":"IF(A322=\"\",\"\",VLOOKUP(A322,[1]ItemConfig!$A:$B,2,FALSE))","v":{"$error":"#N/A"}},{"$f":"IF(A322=\"\",\"\",VLOOKUP(A322,[1]ItemConfig!$A:$D,4,FALSE))","v":{"$error":"#N/A"}},{"$f":"IF(A322=\"\",\"\",VLOOKUP(A322,[1]ItemConfig!$A:$C,3,FALSE))","v":{"$error":"#N/A"}},{"$f":"IF(A322=\"\",\"\",VLOOKUP(B322,#REF!,5,FALSE))","v":{"$error":"#N/A"}},{"$f":"IF(A322=\"\",\"\",VLOOKUP(C322,#REF!,5,FALSE))","v":{"$error":"#N/A"}}]
[null,{"$f":"IF(A323=\"\",\"\",VLOOKUP(A323,[1]ItemConfig!$A:$B,2,FALSE))","v":""},{"$f":"IF(A323=\"\",\"\",VLOOKUP(A323,[1]ItemConfig!$A:$D,4,FALSE))","v":""},{"$f":"IF(A323=\"\",\"\",VLOOKUP(A323,[1]ItemConfig!$A:$C,3,FALSE))","v":""},{"$f":"IF(A323=\"\",\"\",VLOOKUP(B323,#REF!,5,FALSE))","v":""},{"$f":"IF(A323=\"\",\"\",VLOOKUP(C323,#REF!,5,FALSE))","v":""}]
[200001,{"$f":"IF(A324=\"\",\"\",VLOOKUP(A324,[1]ItemConfig!$A:$B,2,FALSE))","v":{"$error":"#N/A"}},{"$f":"IF(A324=\"\",\"\",VLOOKUP(A324,[1]ItemConfig!$A:$D,4,FALSE))","v":{"$error":"#N/A"}},{"$f":"IF(A324=\"\",\"\",VLOOKUP(A324,[1]ItemConfig!$A:$C,3,FALSE))","v":{"$error":"#N/A"}},{"$f":"IF(A324=\"\",\"\",VLOOKUP(B324,#REF!,5,FALSE))","v":{"$error":"#N/A"}},{"$f":"IF(A324=\"\",\"\",VLOOKUP(C324,#REF!,5,FALSE))","v":{"$error":"#N/A"}}]
[200002,{"$f":"IF(A325=\"\",\"\",VLOOKUP(A325,[1]ItemConfig!$A:$B,2,FALSE))","v":{"$error":"#N/A"}},{"$f":"IF(A325=\"\",\"\",VLOOKUP(A325,[1]ItemConfig!$A:$D,4,FALSE))","v":{"$error":"#N/A"}},{"$f":"IF(A325=\"\",\"\",VLOOKUP(A325,[1]ItemConfig!$A:$C,3,FALSE))","v":{"$error":"#N/A"}},{"$f":"IF(A325=\"\",\"\",VLOOKUP(B325,#REF!,5,FALSE))","v":{"$error":"#N/A"}},{"$f":"IF(A325=\"\",\"\",VLOOKUP(C325,#REF!,5,FALSE))","v":{"$error":"#N/A"}}]
[200003,{"$f":"IF(A326=\"\",\"\",VLOOKUP(A326,[1]ItemConfig!$A:$B,2,FALSE))","v":{"$error":"#N/A"}},{"$f":"IF(A326=\"\",\"\",VLOOKUP(A326,[1]ItemConfig!$A:$D,4,FALSE))","v":{"$error":"#N/A"}},{"$f":"IF(A326=\"\",\"\",VLOOKUP(A326,[1]ItemConfig!$A:$C,3,FALSE))","v":{"$error":"#N/A"}},{"$f":"IF(A326=\"\",\"\",VLOOKUP(B326,#REF!,5,FALSE))","v":{"$error":"#N/A"}},{"$f":"IF(A326=\"\",\"\",VLOOKUP(C326,#REF!,5,FALSE))","v":{"$error":"#N/A"}}]
[200004,{"$f":"IF(A327=\"\",\"\",VLOOKUP(A327,[1]ItemConfig!$A:$B,2,FALSE))","v":{"$error":"#N/A"}},{"$f":"IF(A327=\"\",\"\",VLOOKUP(A327,[1]ItemConfig!$A:$D,4,FALSE))","v":{"$error":"#N/A"}},{"$f":"IF(A327=\"\",\"\",VLOOKUP(A327,[1]ItemConfig!$A:$C,3,FALSE))","v":{"$error":"#N/A"}},{"$f":"IF(A327=\"\",\"\",VLOOKUP(B327,#REF!,5,FALSE))","v":{"$error":"#N/A"}},{"$f":"IF(A327=\"\",\"\",VLOOKUP(C327,#REF!,5,FALSE))","v":{"$error":"#N/A"}}]
[200005,{"$f":"IF(A328=\"\",\"\",VLOOKUP(A328,[1]ItemConfig!$A:$B,2,FALSE))","v":{"$error":"#N/A"}},{"$f":"IF(A328=\"\",\"\",VLOOKUP(A328,[1]ItemConfig!$A:$D,4,FALSE))","v":{"$error":"#N/A"}},{"$f":"IF(A328=\"\",\"\",VLOOKUP(A328,[1]ItemConfig!$A:$C,3,FALSE))","v":{"$error":"#N/A"}},{"$f":"IF(A328=\"\",\"\",VLOOKUP(B328,#REF!,5,FALSE))","v":{"$error":"#N/A"}},{"$f":"IF(A328=\"\",\"\",VLOOKUP(C328,#REF!,5,FALSE))","v":{"$error":"#N/A"}}]
[200006,{"$f":"IF(A329=\"\",\"\",VLOOKUP(A329,[1]ItemConfig!$A:$B,2,FALSE))","v":{"$error":"#N/A"}},{"$f":"IF(A329=\"\",\"\",VLOOKUP(A329,[1]ItemConfig!$A:$D,4,FALSE))","v":{"$error":"#N/A"}},{"$f":"IF(A329=\"\",\"\",VLOOKUP(A329,[1]ItemConfig!$A:$C,3,FALSE))","v":{"$error":"#N/A"}},{"$f":"IF(A329=\"\",\"\",VLOOKUP(B329,#REF!,5,FALSE))","v":{"$error":"#N/A"}},{"$f":"IF(A329=\"\",\"\",VLOOKUP(C329,#REF!,5,FALSE))","v":{"$error":"#N/A"}}]
[200007,{"$f":"IF(A330=\"\",\"\",VLOOKUP(A330,[1]ItemConfig!$A:$B,2,FALSE))","v":{"$error":"#N/A"}},{"$f":"IF(A330=\"\",\"\",VLOOKUP(A330,[1]ItemConfig!$A:$D,4,FALSE))","v":{"$error":"#N/A"}},{"$f":"IF(A330=\"\",\"\",VLOOKUP(A330,[1]ItemConfig!$A:$C,3,FALSE))","v":{"$error":"#N/A"}},{"$f":"IF(A330=\"\",\"\",VLOOKUP(B330,#REF!,5,FALSE))","v":{"$error":"#N/A"}},{"$f":"IF(A330=\"\",\"\",VLOOKUP(C330,#REF!,5,FALSE))","v":{"$error":"#N/A"}}]
[200008,{"$f":"IF(A331=\"\",\"\",VLOOKUP(A331,[1]ItemConfig!$A:$B,2,FALSE))","v":{"$error":"#N/A"}},{"$f":"IF(A331=\"\",\"\",VLOOKUP(A331,[1]ItemConfig!$A:$D,4,FALSE))","v":{"$error":"#N/A"}},{"$f":"IF(A331=\"\",\"\",VLOOKUP(A331,[1]ItemConfig!$A:$C,3,FALSE))","v":{"$error":"#N/A"}},{"$f":"IF(A331=\"\",\"\",VLOOKUP(B331,#REF!,5,FALSE))","v":{"$error":"#N/A"}},{"$f":"IF(A331=\"\",\"\",VLOOKUP(C331,#REF!,5,FALSE))","v":{"$error":"#N/A"}}]
[200009,{"$f":"IF(A332=\"\",\"\",VLOOKUP(A332,[1]ItemConfig!$A:$B,2,FALSE))","v":{"$error":"#N/A"}},{"$f":"IF(A332=\"\",\"\",VLOOKUP(A332,[1]ItemConfig!$A:$D,4,FALSE))","v":{"$error":"#N/A"}},{"$f":"IF(A332=\"\",\"\",VLOOKUP(A332,[1]ItemConfig!$A:$C,3,FALSE))","v":{"$error":"#N/A"}},{"$f":"IF(A332=\"\",\"\",VLOOKUP(B332,#REF!,5,FALSE))","v":{"$error":"#N/A"}},{"$f":"IF(A332=\"\",\"\",VLOOKUP(C332,#REF!,5,FALSE))","v":{"$error":"#N/A"}}]
[200010,{"$f":"IF(A333=\"\",\"\",VLOOKUP(A333,[1]ItemConfig!$A:$B,2,FALSE))","v":{"$error":"#N/A"}},{"$f":"IF(A333=\"\",\"\",VLOOKUP(A333,[1]ItemConfig!$A:$D,4,FALSE))","v":{"$error":"#N/A"}},{"$f":"IF(A333=\"\",\"\",VLOOKUP(A333,[1]ItemConfig!$A:$C,3,FALSE))","v":{"$error":"#N/A"}},{"$f":"IF(A333=\"\",\"\",VLOOKUP(B333,#REF!,5,FALSE))","v":{"$error":"#N/A"}},{"$f":"IF(A333=\"\",\"\",VLOOKUP(C333,#REF!,5,FALSE))","v":{"$error":"#N/A"}}]
[200011,{"$f":"IF(A334=\"\",\"\",VLOOKUP(A334,[1]ItemConfig!$A:$B,2,FALSE))","v":{"$error":"#N/A"}},{"$f":"IF(A334=\"\",\"\",VLOOKUP(A334,[1]ItemConfig!$A:$D,4,FALSE))","v":{"$error":"#N/A"}},{"$f":"IF(A334=\"\",\"\",VLOOKUP(A334,[1]ItemConfig!$A:$C,3,FALSE))","v":{"$error":"#N/A"}},{"$f":"IF(A334=\"\",\"\",VLOOKUP(B334,#REF!,5,FALSE))","v":{"$error":"#N/A"}},{"$f":"IF(A334=\"\",\"\",VLOOKUP(C334,#REF!,5,FALSE))","v":{"$error":"#N/A"}}]
[200012,{"$f":"IF(A335=\"\",\"\",VLOOKUP(A335,[1]ItemConfig!$A:$B,2,FALSE))","v":{"$error":"#N/A"}},{"$f":"IF(A335=\"\",\"\",VLOOKUP(A335,[1]ItemConfig!$A:$D,4,FALSE))","v":{"$error":"#N/A"}},{"$f":"IF(A335=\"\",\"\",VLOOKUP(A335,[1]ItemConfig!$A:$C,3,FALSE))","v":{"$error":"#N/A"}},{"$f":"IF(A335=\"\",\"\",VLOOKUP(B335,#REF!,5,FALSE))","v":{"$error":"#N/A"}},{"$f":"IF(A335=\"\",\"\",VLOOKUP(C335,#REF!,5,FALSE))","v":{"$error":"#N/A"}}]
[200013,{"$f":"IF(A336=\"\",\"\",VLOOKUP(A336,[1]ItemConfig!$A:$B,2,FALSE))","v":{"$error":"#N/A"}},{"$f":"IF(A336=\"\",\"\",VLOOKUP(A336,[1]ItemConfig!$A:$D,4,FALSE))","v":{"$error":"#N/A"}},{"$f":"IF(A336=\"\",\"\",VLOOKUP(A336,[1]ItemConfig!$A:$C,3,FALSE))","v":{"$error":"#N/A"}},{"$f":"IF(A336=\"\",\"\",VLOOKUP(B336,#REF!,5,FALSE))","v":{"$error":"#N/A"}},{"$f":"IF(A336=\"\",\"\",VLOOKUP(C336,#REF!,5,FALSE))","v":{"$error":"#N/A"}}]
[200014,{"$f":"IF(A337=\"\",\"\",VLOOKUP(A337,[1]ItemConfig!$A:$B,2,FALSE))","v":{"$error":"#N/A"}},{"$f":"IF(A337=\"\",\"\",VLOOKUP(A337,[1]ItemConfig!$A:$D,4,FALSE))","v":{"$error":"#N/A"}},{"$f":"IF(A337=\"\",\"\",VLOOKUP(A337,[1]ItemConfig!$A:$C,3,FALSE))","v":{"$error":"#N/A"}},{"$f":"IF(A337=\"\",\"\",VLOOKUP(B337,#REF!,5,FALSE))","v":{"$error":"#N/A"}},{"$f":"IF(A337=\"\",\"\",VLOOKUP(C337,#REF!,5,FALSE))","v":{"$error":"#N/A"}}]
[200015,{"$f":"IF(A338=\"\",\"\",VLOOKUP(A338,[1]ItemConfig!$A:$B,2,FALSE))","v":{"$error":"#N/A"}},{"$f":"IF(A338=\"\",\"\",VLOOKUP(A338,[1]ItemConfig!$A:$D,4,FALSE))","v":{"$error":"#N/A"}},{"$f":"IF(A338=\"\",\"\",VLOOKUP(A338,[1]ItemConfig!$A:$C,3,FALSE))","v":{"$error":"#N/A"}},{"$f":"IF(A338=\"\",\"\",VLOOKUP(B338,#REF!,5,FALSE))","v":{"$error":"#N/A"}},{"$f":"IF(A338=\"\",\"\",VLOOKUP(C338,#REF!,5,FALSE))","v":{"$error":"#N/A"}}]
[200016,{"$f":"IF(A339=\"\",\"\",VLOOKUP(A339,[1]ItemConfig!$A:$B,2,FALSE))","v":{"$error":"#N/A"}},{"$f":"IF(A339=\"\",\"\",VLOOKUP(A339,[1]ItemConfig!$A:$D,4,FALSE))","v":{"$error":"#N/A"}},{"$f":"IF(A339=\"\",\"\",VLOOKUP(A339,[1]ItemConfig!$A:$C,3,FALSE))","v":{"$error":"#N/A"}},{"$f":"IF(A339=\"\",\"\",VLOOKUP(B339,#REF!,5,FALSE))","v":{"$error":"#N/A"}},{"$f":"IF(A339=\"\",\"\",VLOOKUP(C339,#REF!,5,FALSE))","v":{"$error":"#N/A"}}]
[200017,{"$f":"IF(A340=\"\",\"\",VLOOKUP(A340,[1]ItemConfig!$A:$B,2,FALSE))","v":{"$error":"#N/A"}},{"$f":"IF(A340=\"\",\"\",VLOOKUP(A340,[1]ItemConfig!$A:$D,4,FALSE))","v":{"$error":"#N/A"}},{"$f":"IF(A340=\"\",\"\",VLOOKUP(A340,[1]ItemConfig!$A:$C,3,FALSE))","v":{"$error":"#N/A"}},{"$f":"IF(A340=\"\",\"\",VLOOKUP(B340,#REF!,5,FALSE))","v":{"$error":"#N/A"}},{"$f":"IF(A340=\"\",\"\",VLOOKUP(C340,#REF!,5,FALSE))","v":{"$error":"#N/A"}}]
[200018,{"$f":"IF(A341=\"\",\"\",VLOOKUP(A341,[1]ItemConfig!$A:$B,2,FALSE))","v":{"$error":"#N/A"}},{"$f":"IF(A341=\"\",\"\",VLOOKUP(A341,[1]ItemConfig!$A:$D,4,FALSE))","v":{"$error":"#N/A"}},{"$f":"IF(A341=\"\",\"\",VLOOKUP(A341,[1]ItemConfig!$A:$C,3,FALSE))","v":{"$error":"#N/A"}},{"$f":"IF(A341=\"\",\"\",VLOOKUP(B341,#REF!,5,FALSE))","v":{"$error":"#N/A"}},{"$f":"IF(A341=\"\",\"\",VLOOKUP(C341,#REF!,5,FALSE))","v":{"$error":"#N/A"}}]
[200019,{"$f":"IF(A342=\"\",\"\",VLOOKUP(A342,[1]ItemConfig!$A:$B,2,FALSE))","v":{"$error":"#N/A"}},{"$f":"IF(A342=\"\",\"\",VLOOKUP(A342,[1]ItemConfig!$A:$D,4,FALSE))","v":{"$error":"#N/A"}},{"$f":"IF(A342=\"\",\"\",VLOOKUP(A342,[1]ItemConfig!$A:$C,3,FALSE))","v":{"$error":"#N/A"}},{"$f":"IF(A342=\"\",\"\",VLOOKUP(B342,#REF!,5,FALSE))","v":{"$error":"#N/A"}},{"$f":"IF(A342=\"\",\"\",VLOOKUP(C342,#REF!,5,FALSE))","v":{"$error":"#N/A"}}]
[200020,{"$f":"IF(A343=\"\",\"\",VLOOKUP(A343,[1]ItemConfig!$A:$B,2,FALSE))","v":{"$error":"#N/A"}},{"$f":"IF(A343=\"\",\"\",VLOOKUP(A343,[1]ItemConfig!$A:$D,4,FALSE))","v":{"$error":"#N/A"}},{"$f":"IF(A343=\"\",\"\",VLOOKUP(A343,[1]ItemConfig!$A:$C,3,FALSE))","v":{"$error":"#N/A"}},{"$f":"IF(A343=\"\",\"\",VLOOKUP(B343,#REF!,5,FALSE))","v":{"$error":"#N/A"}},{"$f":"IF(A343=\"\",\"\",VLOOKUP(C343,#REF!,5,FALSE))","v":{"$error":"#N/A"}}]
[200021,{"$f":"IF(A344=\"\",\"\",VLOOKUP(A344,[1]ItemConfig!$A:$B,2,FALSE))","v":{"$error":"#N/A"}},{"$f":"IF(A344=\"\",\"\",VLOOKUP(A344,[1]ItemConfig!$A:$D,4,FALSE))","v":{"$error":"#N/A"}},{"$f":"IF(A344=\"\",\"\",VLOOKUP(A344,[1]ItemConfig!$A:$C,3,FALSE))","v":{"$error":"#N/A"}},{"$f":"IF(A344=\"\",\"\",VLOOKUP(B344,#REF!,5,FALSE))","v":{"$error":"#N/A"}},{"$f":"IF(A344=\"\",\"\",VLOOKUP(C344,#REF!,5,FALSE))","v":{"$error":"#N/A"}}]
[200022,{"$f":"IF(A345=\"\",\"\",VLOOKUP(A345,[1]ItemConfig!$A:$B,2,FALSE))","v":{"$error":"#N/A"}},{"$f":"IF(A345=\"\",\"\",VLOOKUP(A345,[1]ItemConfig!$A:$D,4,FALSE))","v":{"$error":"#N/A"}},{"$f":"IF(A345=\"\",\"\",VLOOKUP(A345,[1]ItemConfig!$A:$C,3,FALSE))","v":{"$error":"#N/A"}},{"$f":"IF(A345=\"\",\"\",VLOOKUP(B345,#REF!,5,FALSE))","v":{"$error":"#N/A"}},{"$f":"IF(A345=\"\",\"\",VLOOKUP(C345,#REF!,5,FALSE))","v":{"$error":"#N/A"}}]
[200023,{"$f":"IF(A346=\"\",\"\",VLOOKUP(A346,[1]ItemConfig!$A:$B,2,FALSE))","v":{"$error":"#N/A"}},{"$f":"IF(A346=\"\",\"\",VLOOKUP(A346,[1]ItemConfig!$A:$D,4,FALSE))","v":{"$error":"#N/A"}},{"$f":"IF(A346=\"\",\"\",VLOOKUP(A346,[1]ItemConfig!$A:$C,3,FALSE))","v":{"$error":"#N/A"}},{"$f":"IF(A346=\"\",\"\",VLOOKUP(B346,#REF!,5,FALSE))","v":{"$error":"#N/A"}},{"$f":"IF(A346=\"\",\"\",VLOOKUP(C346,#REF!,5,FALSE))","v":{"$error":"#N/A"}}]
[200024,{"$f":"IF(A347=\"\",\"\",VLOOKUP(A347,[1]ItemConfig!$A:$B,2,FALSE))","v":{"$error":"#N/A"}},{"$f":"IF(A347=\"\",\"\",VLOOKUP(A347,[1]ItemConfig!$A:$D,4,FALSE))","v":{"$error":"#N/A"}},{"$f":"IF(A347=\"\",\"\",VLOOKUP(A347,[1]ItemConfig!$A:$C,3,FALSE))","v":{"$error":"#N/A"}},{"$f":"IF(A347=\"\",\"\",VLOOKUP(B347,#REF!,5,FALSE))","v":{"$error":"#N/A"}},{"$f":"IF(A347=\"\",\"\",VLOOKUP(C347,#REF!,5,FALSE))","v":{"$error":"#N/A"}}]
[200025,{"$f":"IF(A348=\"\",\"\",VLOOKUP(A348,[1]ItemConfig!$A:$B,2,FALSE))","v":{"$error":"#N/A"}},{"$f":"IF(A348=\"\",\"\",VLOOKUP(A348,[1]ItemConfig!$A:$D,4,FALSE))","v":{"$error":"#N/A"}},{"$f":"IF(A348=\"\",\"\",VLOOKUP(A348,[1]ItemConfig!$A:$C,3,FALSE))","v":{"$error":"#N/A"}},{"$f":"IF(A348=\"\",\"\",VLOOKUP(B348,#REF!,5,FALSE))","v":{"$error":"#N/A"}},{"$f":"IF(A348=\"\",\"\",VLOOKUP(C348,#REF!,5,FALSE))","v":{"$error":"#N/A"}}]
[200026,{"$f":"IF(A349=\"\",\"\",VLOOKUP(A349,[1]ItemConfig!$A:$B,2,FALSE))","v":{"$error":"#N/A"}},{"$f":"IF(A349=\"\",\"\",VLOOKUP(A349,[1]ItemConfig!$A:$D,4,FALSE))","v":{"$error":"#N/A"}},{"$f":"IF(A349=\"\",\"\",VLOOKUP(A349,[1]ItemConfig!$A:$C,3,FALSE))","v":{"$error":"#N/A"}},{"$f":"IF(A349=\"\",\"\",VLOOKUP(B349,#REF!,5,FALSE))","v":{"$error":"#N/A"}},{"$f":"IF(A349=\"\",\"\",VLOOKUP(C349,#REF!,5,FALSE))","v":{"$error":"#N/A"}}]
[200027,{"$f":"IF(A350=\"\",\"\",VLOOKUP(A350,[1]ItemConfig!$A:$B,2,FALSE))","v":{"$error":"#N/A"}},{"$f":"IF(A350=\"\",\"\",VLOOKUP(A350,[1]ItemConfig!$A:$D,4,FALSE))","v":{"$error":"#N/A"}},{"$f":"IF(A350=\"\",\"\",VLOOKUP(A350,[1]ItemConfig!$A:$C,3,FALSE))","v":{"$error":"#N/A"}},{"$f":"IF(A350=\"\",\"\",VLOOKUP(B350,#REF!,5,FALSE))","v":{"$error":"#N/A"}},{"$f":"IF(A350=\"\",\"\",VLOOKUP(C350,#REF!,5,FALSE))","v":{"$error":"#N/A"}}]
[200028,{"$f":"IF(A351=\"\",\"\",VLOOKUP(A351,[1]ItemConfig!$A:$B,2,FALSE))","v":{"$error":"#N/A"}},{"$f":"IF(A351=\"\",\"\",VLOOKUP(A351,[1]ItemConfig!$A:$D,4,FALSE))","v":{"$error":"#N/A"}},{"$f":"IF(A351=\"\",\"\",VLOOKUP(A351,[1]ItemConfig!$A:$C,3,FALSE))","v":{"$error":"#N/A"}},{"$f":"IF(A351=\"\",\"\",VLOOKUP(B351,#REF!,5,FALSE))","v":{"$error":"#N/A"}},{"$f":"IF(A351=\"\",\"\",VLOOKUP(C351,#REF!,5,FALSE))","v":{"$error":"#N/A"}}]
[200029,{"$f":"IF(A352=\"\",\"\",VLOOKUP(A352,[1]ItemConfig!$A:$B,2,FALSE))","v":{"$error":"#N/A"}},{"$f":"IF(A352=\"\",\"\",VLOOKUP(A352,[1]ItemConfig!$A:$D,4,FALSE))","v":{"$error":"#N/A"}},{"$f":"IF(A352=\"\",\"\",VLOOKUP(A352,[1]ItemConfig!$A:$C,3,FALSE))","v":{"$error":"#N/A"}},{"$f":"IF(A352=\"\",\"\",VLOOKUP(B352,#REF!,5,FALSE))","v":{"$error":"#N/A"}},{"$f":"IF(A352=\"\",\"\",VLOOKUP(C352,#REF!,5,FALSE))","v":{"$error":"#N/A"}}]
[200030,{"$f":"IF(A353=\"\",\"\",VLOOKUP(A353,[1]ItemConfig!$A:$B,2,FALSE))","v":{"$error":"#N/A"}},{"$f":"IF(A353=\"\",\"\",VLOOKUP(A353,[1]ItemConfig!$A:$D,4,FALSE))","v":{"$error":"#N/A"}},{"$f":"IF(A353=\"\",\"\",VLOOKUP(A353,[1]ItemConfig!$A:$C,3,FALSE))","v":{"$error":"#N/A"}},{"$f":"IF(A353=\"\",\"\",VLOOKUP(B353,#REF!,5,FALSE))","v":{"$error":"#N/A"}},{"$f":"IF(A353=\"\",\"\",VLOOKUP(C353,#REF!,5,FALSE))","v":{"$error":"#N/A"}}]
[200031,{"$f":"IF(A354=\"\",\"\",VLOOKUP(A354,[1]ItemConfig!$A:$B,2,FALSE))","v":{"$error":"#N/A"}},{"$f":"IF(A354=\"\",\"\",VLOOKUP(A354,[1]ItemConfig!$A:$D,4,FALSE))","v":{"$error":"#N/A"}},{"$f":"IF(A354=\"\",\"\",VLOOKUP(A354,[1]ItemConfig!$A:$C,3,FALSE))","v":{"$error":"#N/A"}},{"$f":"IF(A354=\"\",\"\",VLOOKUP(B354,#REF!,5,FALSE))","v":{"$error":"#N/A"}},{"$f":"IF(A354=\"\",\"\",VLOOKUP(C354,#REF!,5,FALSE))","v":{"$error":"#N/A"}}]
[200032,{"$f":"IF(A355=\"\",\"\",VLOOKUP(A355,[1]ItemConfig!$A:$B,2,FALSE))","v":{"$error":"#N/A"}},{"$f":"IF(A355=\"\",\"\",VLOOKUP(A355,[1]ItemConfig!$A:$D,4,FALSE))","v":{"$error":"#N/A"}},{"$f":"IF(A355=\"\",\"\",VLOOKUP(A355,[1]ItemConfig!$A:$C,3,FALSE))","v":{"$error":"#N/A"}},{"$f":"IF(A355=\"\",\"\",VLOOKUP(B355,#REF!,5,FALSE))","v":{"$error":"#N/A"}},{"$f":"IF(A355=\"\",\"\",VLOOKUP(C355,#REF!,5,FALSE))","v":{"$error":"#N/A"}}]
[200033,{"$f":"IF(A356=\"\",\"\",VLOOKUP(A356,[1]ItemConfig!$A:$B,2,FALSE))","v":{"$error":"#N/A"}},{"$f":"IF(A356=\"\",\"\",VLOOKUP(A356,[1]ItemConfig!$A:$D,4,FALSE))","v":{"$error":"#N/A"}},{"$f":"IF(A356=\"\",\"\",VLOOKUP(A356,[1]ItemConfig!$A:$C,3,FALSE))","v":{"$error":"#N/A"}},{"$f":"IF(A356=\"\",\"\",VLOOKUP(B356,#REF!,5,FALSE))","v":{"$error":"#N/A"}},{"$f":"IF(A356=\"\",\"\",VLOOKUP(C356,#REF!,5,FALSE))","v":{"$error":"#N/A"}}]
[200034,{"$f":"IF(A357=\"\",\"\",VLOOKUP(A357,[1]ItemConfig!$A:$B,2,FALSE))","v":{"$error":"#N/A"}},{"$f":"IF(A357=\"\",\"\",VLOOKUP(A357,[1]ItemConfig!$A:$D,4,FALSE))","v":{"$error":"#N/A"}},{"$f":"IF(A357=\"\",\"\",VLOOKUP(A357,[1]ItemConfig!$A:$C,3,FALSE))","v":{"$error":"#N/A"}},{"$f":"IF(A357=\"\",\"\",VLOOKUP(B357,#REF!,5,FALSE))","v":{"$error":"#N/A"}},{"$f":"IF(A357=\"\",\"\",VLOOKUP(C357,#REF!,5,FALSE))","v":{"$error":"#N/A"}}]
[200035,{"$f":"IF(A358=\"\",\"\",VLOOKUP(A358,[1]ItemConfig!$A:$B,2,FALSE))","v":{"$error":"#N/A"}},{"$f":"IF(A358=\"\",\"\",VLOOKUP(A358,[1]ItemConfig!$A:$D,4,FALSE))","v":{"$error":"#N/A"}},{"$f":"IF(A358=\"\",\"\",VLOOKUP(A358,[1]ItemConfig!$A:$C,3,FALSE))","v":{"$error":"#N/A"}},{"$f":"IF(A358=\"\",\"\",VLOOKUP(B358,#REF!,5,FALSE))","v":{"$error":"#N/A"}},{"$f":"IF(A358=\"\",\"\",VLOOKUP(C358,#REF!,5,FALSE))","v":{"$error":"#N/A"}}]
[200036,{"$f":"IF(A359=\"\",\"\",VLOOKUP(A359,[1]ItemConfig!$A:$B,2,FALSE))","v":{"$error":"#N/A"}},{"$f":"IF(A359=\"\",\"\",VLOOKUP(A359,[1]ItemConfig!$A:$D,4,FALSE))","v":{"$error":"#N/A"}},{"$f":"IF(A359=\"\",\"\",VLOOKUP(A359,[1]ItemConfig!$A:$C,3,FALSE))","v":{"$error":"#N/A"}},{"$f":"IF(A359=\"\",\"\",VLOOKUP(B359,#REF!,5,FALSE))","v":{"$error":"#N/A"}},{"$f":"IF(A359=\"\",\"\",VLOOKUP(C359,#REF!,5,FALSE))","v":{"$error":"#N/A"}}]
[200037,{"$f":"IF(A360=\"\",\"\",VLOOKUP(A360,[1]ItemConfig!$A:$B,2,FALSE))","v":{"$error":"#N/A"}},{"$f":"IF(A360=\"\",\"\",VLOOKUP(A360,[1]ItemConfig!$A:$D,4,FALSE))","v":{"$error":"#N/A"}},{"$f":"IF(A360=\"\",\"\",VLOOKUP(A360,[1]ItemConfig!$A:$C,3,FALSE))","v":{"$error":"#N/A"}},{"$f":"IF(A360=\"\",\"\",VLOOKUP(B360,#REF!,5,FALSE))","v":{"$error":"#N/A"}},{"$f":"IF(A360=\"\",\"\",VLOOKUP(C360,#REF!,5,FALSE))","v":{"$error":"#N/A"}}]
[200038,{"$f":"IF(A361=\"\",\"\",VLOOKUP(A361,[1]ItemConfig!$A:$B,2,FALSE))","v":{"$error":"#N/A"}},{"$f":"IF(A361=\"\",\"\",VLOOKUP(A361,[1]ItemConfig!$A:$D,4,FALSE))","v":{"$error":"#N/A"}},{"$f":"IF(A361=\"\",\"\",VLOOKUP(A361,[1]ItemConfig!$A:$C,3,FALSE))","v":{"$error":"#N/A"}},{"$f":"IF(A361=\"\",\"\",VLOOKUP(B361,#REF!,5,FALSE))","v":{"$error":"#N/A"}},{"$f":"IF(A361=\"\",\"\",VLOOKUP(C361,#REF!,5,FALSE))","v":{"$error":"#N/A"}}]
[200039,{"$f":"IF(A362=\"\",\"\",VLOOKUP(A362,[1]ItemConfig!$A:$B,2,FALSE))","v":{"$error":"#N/A"}},{"$f":"IF(A362=\"\",\"\",VLOOKUP(A362,[1]ItemConfig!$A:$D,4,FALSE))","v":{"$error":"#N/A"}},{"$f":"IF(A362=\"\",\"\",VLOOKUP(A362,[1]ItemConfig!$A:$C,3,FALSE))","v":{"$error":"#N/A"}},{"$f":"IF(A362=\"\",\"\",VLOOKUP(B362,#REF!,5,FALSE))","v":{"$error":"#N/A"}},{"$f":"IF(A362=\"\",\"\",VLOOKUP(C362,#REF!,5,FALSE))","v":{"$error":"#N/A"}}]
[200040,{"$f":"IF(A363=\"\",\"\",VLOOKUP(A363,[1]ItemConfig!$A:$B,2,FALSE))","v":{"$error":"#N/A"}},{"$f":"IF(A363=\"\",\"\",VLOOKUP(A363,[1]ItemConfig!$A:$D,4,FALSE))","v":{"$error":"#N/A"}},{"$f":"IF(A363=\"\",\"\",VLOOKUP(A363,[1]ItemConfig!$A:$C,3,FALSE))","v":{"$error":"#N/A"}},{"$f":"IF(A363=\"\",\"\",VLOOKUP(B363,#REF!,5,FALSE))","v":{"$error":"#N/A"}},{"$f":"IF(A363=\"\",\"\",VLOOKUP(C363,#REF!,5,FALSE))","v":{"$error":"#N/A"}}]
[200041,{"$f":"IF(A364=\"\",\"\",VLOOKUP(A364,[1]ItemConfig!$A:$B,2,FALSE))","v":{"$error":"#N/A"}},{"$f":"IF(A364=\"\",\"\",VLOOKUP(A364,[1]ItemConfig!$A:$D,4,FALSE))","v":{"$error":"#N/A"}},{"$f":"IF(A364=\"\",\"\",VLOOKUP(A364,[1]ItemConfig!$A:$C,3,FALSE))","v":{"$error":"#N/A"}},{"$f":"IF(A364=\"\",\"\",VLOOKUP(B364,#REF!,5,FALSE))","v":{"$error":"#N/A"}},{"$f":"IF(A364=\"\",\"\",VLOOKUP(C364,#REF!,5,FALSE))","v":{"$error":"#N/A"}}]
[200042,{"$f":"IF(A365=\"\",\"\",VLOOKUP(A365,[1]ItemConfig!$A:$B,2,FALSE))","v":{"$error":"#N/A"}},{"$f":"IF(A365=\"\",\"\",VLOOKUP(A365,[1]ItemConfig!$A:$D,4,FALSE))","v":{"$error":"#N/A"}},{"$f":"IF(A365=\"\",\"\",VLOOKUP(A365,[1]ItemConfig!$A:$C,3,FALSE))","v":{"$error":"#N/A"}},{"$f":"IF(A365=\"\",\"\",VLOOKUP(B365,#REF!,5,FALSE))","v":{"$error":"#N/A"}},{"$f":"IF(A365=\"\",\"\",VLOOKUP(C365,#REF!,5,FALSE))","v":{"$error":"#N/A"}}]
[200043,{"$f":"IF(A366=\"\",\"\",VLOOKUP(A366,[1]ItemConfig!$A:$B,2,FALSE))","v":{"$error":"#N/A"}},{"$f":"IF(A366=\"\",\"\",VLOOKUP(A366,[1]ItemConfig!$A:$D,4,FALSE))","v":{"$error":"#N/A"}},{"$f":"IF(A366=\"\",\"\",VLOOKUP(A366,[1]ItemConfig!$A:$C,3,FALSE))","v":{"$error":"#N/A"}},{"$f":"IF(A366=\"\",\"\",VLOOKUP(B366,#REF!,5,FALSE))","v":{"$error":"#N/A"}},{"$f":"IF(A366=\"\",\"\",VLOOKUP(C366,#REF!,5,FALSE))","v":{"$error":"#N/A"}}]
[200044,{"$f":"IF(A367=\"\",\"\",VLOOKUP(A367,[1]ItemConfig!$A:$B,2,FALSE))","v":{"$error":"#N/A"}},{"$f":"IF(A367=\"\",\"\",VLOOKUP(A367,[1]ItemConfig!$A:$D,4,FALSE))","v":{"$error":"#N/A"}},{"$f":"IF(A367=\"\",\"\",VLOOKUP(A367,[1]ItemConfig!$A:$C,3,FALSE))","v":{"$error":"#N/A"}},{"$f":"IF(A367=\"\",\"\",VLOOKUP(B367,#REF!,5,FALSE))","v":{"$error":"#N/A"}},{"$f":"IF(A367=\"\",\"\",VLOOKUP(C367,#REF!,5,FALSE))","v":{"$error":"#N/A"}}]
[200045,{"$f":"IF(A368=\"\",\"\",VLOOKUP(A368,[1]ItemConfig!$A:$B,2,FALSE))","v":{"$error":"#N/A"}},{"$f":"IF(A368=\"\",\"\",VLOOKUP(A368,[1]ItemConfig!$A:$D,4,FALSE))","v":{"$error":"#N/A"}},{"$f":"IF(A368=\"\",\"\",VLOOKUP(A368,[1]ItemConfig!$A:$C,3,FALSE))","v":{"$error":"#N/A"}},{"$f":"IF(A368=\"\",\"\",VLOOKUP(B368,#REF!,5,FALSE))","v":{"$error":"#N/A"}},{"$f":"IF(A368=\"\",\"\",VLOOKUP(C368,#REF!,5,FALSE))","v":{"$error":"#N/A"}}]
[200046,{"$f":"IF(A369=\"\",\"\",VLOOKUP(A369,[1]ItemConfig!$A:$B,2,FALSE))","v":{"$error":"#N/A"}},{"$f":"IF(A369=\"\",\"\",VLOOKUP(A369,[1]ItemConfig!$A:$D,4,FALSE))","v":{"$error":"#N/A"}},{"$f":"IF(A369=\"\",\"\",VLOOKUP(A369,[1]ItemConfig!$A:$C,3,FALSE))","v":{"$error":"#N/A"}},{"$f":"IF(A369=\"\",\"\",VLOOKUP(B369,#REF!,5,FALSE))","v":{"$error":"#N/A"}},{"$f":"IF(A369=\"\",\"\",VLOOKUP(C369,#REF!,5,FALSE))","v":{"$error":"#N/A"}}]
[200047,{"$f":"IF(A370=\"\",\"\",VLOOKUP(A370,[1]ItemConfig!$A:$B,2,FALSE))","v":{"$error":"#N/A"}},{"$f":"IF(A370=\"\",\"\",VLOOKUP(A370,[1]ItemConfig!$A:$D,4,FALSE))","v":{"$error":"#N/A"}},{"$f":"IF(A370=\"\",\"\",VLOOKUP(A370,[1]ItemConfig!$A:$C,3,FALSE))","v":{"$error":"#N/A"}},{"$f":"IF(A370=\"\",\"\",VLOOKUP(B370,#REF!,5,FALSE))","v":{"$error":"#N/A"}},{"$f":"IF(A370=\"\",\"\",VLOOKUP(C370,#REF!,5,FALSE))","v":{"$error":"#N/A"}}]
[200048,{"$f":"IF(A371=\"\",\"\",VLOOKUP(A371,[1]ItemConfig!$A:$B,2,FALSE))","v":{"$error":"#N/A"}},{"$f":"IF(A371=\"\",\"\",VLOOKUP(A371,[1]ItemConfig!$A:$D,4,FALSE))","v":{"$error":"#N/A"}},{"$f":"IF(A371=\"\",\"\",VLOOKUP(A371,[1]ItemConfig!$A:$C,3,FALSE))","v":{"$error":"#N/A"}},{"$f":"IF(A371=\"\",\"\",VLOOKUP(B371,#REF!,5,FALSE))","v":{"$error":"#N/A"}},{"$f":"IF(A371=\"\",\"\",VLOOKUP(C371,#REF!,5,FALSE))","v":{"$error":"#N/A"}}]
[200049,{"$f":"IF(A372=\"\",\"\",VLOOKUP(A372,[1]ItemConfig!$A:$B,2,FALSE))","v":{"$error":"#N/A"}},{"$f":"IF(A372=\"\",\"\",VLOOKUP(A372,[1]ItemConfig!$A:$D,4,FALSE))","v":{"$error":"#N/A"}},{"$f":"IF(A372=\"\",\"\",VLOOKUP(A372,[1]ItemConfig!$A:$C,3,FALSE))","v":{"$error":"#N/A"}},{"$f":"IF(A372=\"\",\"\",VLOOKUP(B372,#REF!,5,FALSE))","v":{"$error":"#N/A"}},{"$f":"IF(A372=\"\",\"\",VLOOKUP(C372,#REF!,5,FALSE))","v":{"$error":"#N/A"}}]
[200050,{"$f":"IF(A373=\"\",\"\",VLOOKUP(A373,[1]ItemConfig!$A:$B,2,FALSE))","v":{"$error":"#N/A"}},{"$f":"IF(A373=\"\",\"\",VLOOKUP(A373,[1]ItemConfig!$A:$D,4,FALSE))","v":{"$error":"#N/A"}},{"$f":"IF(A373=\"\",\"\",VLOOKUP(A373,[1]ItemConfig!$A:$C,3,FALSE))","v":{"$error":"#N/A"}},{"$f":"IF(A373=\"\",\"\",VLOOKUP(B373,#REF!,5,FALSE))","v":{"$error":"#N/A"}},{"$f":"IF(A373=\"\",\"\",VLOOKUP(C373,#REF!,5,FALSE))","v":{"$error":"#N/A"}}]
[200051,{"$f":"IF(A374=\"\",\"\",VLOOKUP(A374,[1]ItemConfig!$A:$B,2,FALSE))","v":{"$error":"#N/A"}},{"$f":"IF(A374=\"\",\"\",VLOOKUP(A374,[1]ItemConfig!$A:$D,4,FALSE))","v":{"$error":"#N/A"}},{"$f":"IF(A374=\"\",\"\",VLOOKUP(A374,[1]ItemConfig!$A:$C,3,FALSE))","v":{"$error":"#N/A"}},{"$f":"IF(A374=\"\",\"\",VLOOKUP(B374,#REF!,5,FALSE))","v":{"$error":"#N/A"}},{"$f":"IF(A374=\"\",\"\",VLOOKUP(C374,#REF!,5,FALSE))","v":{"$error":"#N/A"}}]
[200052,{"$f":"IF(A375=\"\",\"\",VLOOKUP(A375,[1]ItemConfig!$A:$B,2,FALSE))","v":{"$error":"#N/A"}},{"$f":"IF(A375=\"\",\"\",VLOOKUP(A375,[1]ItemConfig!$A:$D,4,FALSE))","v":{"$error":"#N/A"}},{"$f":"IF(A375=\"\",\"\",VLOOKUP(A375,[1]ItemConfig!$A:$C,3,FALSE))","v":{"$error":"#N/A"}},{"$f":"IF(A375=\"\",\"\",VLOOKUP(B375,#REF!,5,FALSE))","v":{"$error":"#N/A"}},{"$f":"IF(A375=\"\",\"\",VLOOKUP(C375,#REF!,5,FALSE))","v":{"$error":"#N/A"}}]
[200053,{"$f":"IF(A376=\"\",\"\",VLOOKUP(A376,[1]ItemConfig!$A:$B,2,FALSE))","v":{"$error":"#N/A"}},{"$f":"IF(A376=\"\",\"\",VLOOKUP(A376,[1]ItemConfig!$A:$D,4,FALSE))","v":{"$error":"#N/A"}},{"$f":"IF(A376=\"\",\"\",VLOOKUP(A376,[1]ItemConfig!$A:$C,3,FALSE))","v":{"$error":"#N/A"}},{"$f":"IF(A376=\"\",\"\",VLOOKUP(B376,#REF!,5,FALSE))","v":{"$error":"#N/A"}},{"$f":"IF(A376=\"\",\"\",VLOOKUP(C376,#REF!,5,FALSE))","v":{"$error":"#N/A"}}]
[200054,{"$f":"IF(A377=\"\",\"\",VLOOKUP(A377,[1]ItemConfig!$A:$B,2,FALSE))","v":{"$error":"#N/A"}},{"$f":"IF(A377=\"\",\"\",VLOOKUP(A377,[1]ItemConfig!$A:$D,4,FALSE))","v":{"$error":"#N/A"}},{"$f":"IF(A377=\"\",\"\",VLOOKUP(A377,[1]ItemConfig!$A:$C,3,FALSE))","v":{"$error":"#N/A"}},{"$f":"IF(A377=\"\",\"\",VLOOKUP(B377,#REF!,5,FALSE))","v":{"$error":"#N/A"}},{"$f":"IF(A377=\"\",\"\",VLOOKUP(C377,#REF!,5,FALSE))","v":{"$error":"#N/A"}}]
[200055,{"$f":"IF(A378=\"\",\"\",VLOOKUP(A378,[1]ItemConfig!$A:$B,2,FALSE))","v":{"$error":"#N/A"}},{"$f":"IF(A378=\"\",\"\",VLOOKUP(A378,[1]ItemConfig!$A:$D,4,FALSE))","v":{"$error":"#N/A"}},{"$f":"IF(A378=\"\",\"\",VLOOKUP(A378,[1]ItemConfig!$A:$C,3,FALSE))","v":{"$error":"#N/A"}},{"$f":"IF(A378=\"\",\"\",VLOOKUP(B378,#REF!,5,FALSE))","v":{"$error":"#N/A"}},{"$f":"IF(A378=\"\",\"\",VLOOKUP(C378,#REF!,5,FALSE))","v":{"$error":"#N/A"}}]
[200056,{"$f":"IF(A379=\"\",\"\",VLOOKUP(A379,[1]ItemConfig!$A:$B,2,FALSE))","v":{"$error":"#N/A"}},{"$f":"IF(A379=\"\",\"\",VLOOKUP(A379,[1]ItemConfig!$A:$D,4,FALSE))","v":{"$error":"#N/A"}},{"$f":"IF(A379=\"\",\"\",VLOOKUP(A379,[1]ItemConfig!$A:$C,3,FALSE))","v":{"$error":"#N/A"}},{"$f":"IF(A379=\"\",\"\",VLOOKUP(B379,#REF!,5,FALSE))","v":{"$error":"#N/A"}},{"$f":"IF(A379=\"\",\"\",VLOOKUP(C379,#REF!,5,FALSE))","v":{"$error":"#N/A"}}]
[200057,{"$f":"IF(A380=\"\",\"\",VLOOKUP(A380,[1]ItemConfig!$A:$B,2,FALSE))","v":{"$error":"#N/A"}},{"$f":"IF(A380=\"\",\"\",VLOOKUP(A380,[1]ItemConfig!$A:$D,4,FALSE))","v":{"$error":"#N/A"}},{"$f":"IF(A380=\"\",\"\",VLOOKUP(A380,[1]ItemConfig!$A:$C,3,FALSE))","v":{"$error":"#N/A"}},{"$f":"IF(A380=\"\",\"\",VLOOKUP(B380,#REF!,5,FALSE))","v":{"$error":"#N/A"}},{"$f":"IF(A380=\"\",\"\",VLOOKUP(C380,#REF!,5,FALSE))","v":{"$error":"#N/A"}}]
[200058,{"$f":"IF(A381=\"\",\"\",VLOOKUP(A381,[1]ItemConfig!$A:$B,2,FALSE))","v":{"$error":"#N/A"}},{"$f":"IF(A381=\"\",\"\",VLOOKUP(A381,[1]ItemConfig!$A:$D,4,FALSE))","v":{"$error":"#N/A"}},{"$f":"IF(A381=\"\",\"\",VLOOKUP(A381,[1]ItemConfig!$A:$C,3,FALSE))","v":{"$error":"#N/A"}},{"$f":"IF(A381=\"\",\"\",VLOOKUP(B381,#REF!,5,FALSE))","v":{"$error":"#N/A"}},{"$f":"IF(A381=\"\",\"\",VLOOKUP(C381,#REF!,5,FALSE))","v":{"$error":"#N/A"}}]
[200059,{"$f":"IF(A382=\"\",\"\",VLOOKUP(A382,[1]ItemConfig!$A:$B,2,FALSE))","v":{"$error":"#N/A"}},{"$f":"IF(A382=\"\",\"\",VLOOKUP(A382,[1]ItemConfig!$A:$D,4,FALSE))","v":{"$error":"#N/A"}},{"$f":"IF(A382=\"\",\"\",VLOOKUP(A382,[1]ItemConfig!$A:$C,3,FALSE))","v":{"$error":"#N/A"}},{"$f":"IF(A382=\"\",\"\",VLOOKUP(B382,#REF!,5,FALSE))","v":{"$error":"#N/A"}},{"$f":"IF(A382=\"\",\"\",VLOOKUP(C382,#REF!,5,FALSE))","v":{"$error":"#N/A"}}]
[200060,{"$f":"IF(A383=\"\",\"\",VLOOKUP(A383,[1]ItemConfig!$A:$B,2,FALSE))","v":{"$error":"#N/A"}},{"$f":"IF(A383=\"\",\"\",VLOOKUP(A383,[1]ItemConfig!$A:$D,4,FALSE))","v":{"$error":"#N/A"}},{"$f":"IF(A383=\"\",\"\",VLOOKUP(A383,[1]ItemConfig!$A:$C,3,FALSE))","v":{"$error":"#N/A"}},{"$f":"IF(A383=\"\",\"\",VLOOKUP(B383,#REF!,5,FALSE))","v":{"$error":"#N/A"}},{"$f":"IF(A383=\"\",\"\",VLOOKUP(C383,#REF!,5,FALSE))","v":{"$error":"#N/A"}}]
[200061,{"$f":"IF(A384=\"\",\"\",VLOOKUP(A384,[1]ItemConfig!$A:$B,2,FALSE))","v":{"$error":"#N/A"}},{"$f":"IF(A384=\"\",\"\",VLOOKUP(A384,[1]ItemConfig!$A:$D,4,FALSE))","v":{"$error":"#N/A"}},{"$f":"IF(A384=\"\",\"\",VLOOKUP(A384,[1]ItemConfig!$A:$C,3,FALSE))","v":{"$error":"#N/A"}},{"$f":"IF(A384=\"\",\"\",VLOOKUP(B384,#REF!,5,FALSE))","v":{"$error":"#N/A"}},{"$f":"IF(A384=\"\",\"\",VLOOKUP(C384,#REF!,5,FALSE))","v":{"$error":"#N/A"}}]
[200062,{"$f":"IF(A385=\"\",\"\",VLOOKUP(A385,[1]ItemConfig!$A:$B,2,FALSE))","v":{"$error":"#N/A"}},{"$f":"IF(A385=\"\",\"\",VLOOKUP(A385,[1]ItemConfig!$A:$D,4,FALSE))","v":{"$error":"#N/A"}},{"$f":"IF(A385=\"\",\"\",VLOOKUP(A385,[1]ItemConfig!$A:$C,3,FALSE))","v":{"$error":"#N/A"}},{"$f":"IF(A385=\"\",\"\",VLOOKUP(B385,#REF!,5,FALSE))","v":{"$error":"#N/A"}},{"$f":"IF(A385=\"\",\"\",VLOOKUP(C385,#REF!,5,FALSE))","v":{"$error":"#N/A"}}]
[200063,{"$f":"IF(A386=\"\",\"\",VLOOKUP(A386,[1]ItemConfig!$A:$B,2,FALSE))","v":{"$error":"#N/A"}},{"$f":"IF(A386=\"\",\"\",VLOOKUP(A386,[1]ItemConfig!$A:$D,4,FALSE))","v":{"$error":"#N/A"}},{"$f":"IF(A386=\"\",\"\",VLOOKUP(A386,[1]ItemConfig!$A:$C,3,FALSE))","v":{"$error":"#N/A"}},{"$f":"IF(A386=\"\",\"\",VLOOKUP(B386,#REF!,5,FALSE))","v":{"$error":"#N/A"}},{"$f":"IF(A386=\"\",\"\",VLOOKUP(C386,#REF!,5,FALSE))","v":{"$error":"#N/A"}}]
[200064,{"$f":"IF(A387=\"\",\"\",VLOOKUP(A387,[1]ItemConfig!$A:$B,2,FALSE))","v":{"$error":"#N/A"}},{"$f":"IF(A387=\"\",\"\",VLOOKUP(A387,[1]ItemConfig!$A:$D,4,FALSE))","v":{"$error":"#N/A"}},{"$f":"IF(A387=\"\",\"\",VLOOKUP(A387,[1]ItemConfig!$A:$C,3,FALSE))","v":{"$error":"#N/A"}},{"$f":"IF(A387=\"\",\"\",VLOOKUP(B387,#REF!,5,FALSE))","v":{"$error":"#N/A"}},{"$f":"IF(A387=\"\",\"\",VLOOKUP(C387,#REF!,5,FALSE))","v":{"$error":"#N/A"}}]
[200065,{"$f":"IF(A388=\"\",\"\",VLOOKUP(A388,[1]ItemConfig!$A:$B,2,FALSE))","v":{"$error":"#N/A"}},{"$f":"IF(A388=\"\",\"\",VLOOKUP(A388,[1]ItemConfig!$A:$D,4,FALSE))","v":{"$error":"#N/A"}},{"$f":"IF(A388=\"\",\"\",VLOOKUP(A388,[1]ItemConfig!$A:$C,3,FALSE))","v":{"$error":"#N/A"}},{"$f":"IF(A388=\"\",\"\",VLOOKUP(B388,#REF!,5,FALSE))","v":{"$error":"#N/A"}},{"$f":"IF(A388=\"\",\"\",VLOOKUP(C388,#REF!,5,FALSE))","v":{"$error":"#N/A"}}]
[200066,{"$f":"IF(A389=\"\",\"\",VLOOKUP(A389,[1]ItemConfig!$A:$B,2,FALSE))","v":{"$error":"#N/A"}},{"$f":"IF(A389=\"\",\"\",VLOOKUP(A389,[1]ItemConfig!$A:$D,4,FALSE))","v":{"$error":"#N/A"}},{"$f":"IF(A389=\"\",\"\",VLOOKUP(A389,[1]ItemConfig!$A:$C,3,FALSE))","v":{"$error":"#N/A"}},{"$f":"IF(A389=\"\",\"\",VLOOKUP(B389,#REF!,5,FALSE))","v":{"$error":"#N/A"}},{"$f":"IF(A389=\"\",\"\",VLOOKUP(C389,#REF!,5,FALSE))","v":{"$error":"#N/A"}}]
[200067,{"$f":"IF(A390=\"\",\"\",VLOOKUP(A390,[1]ItemConfig!$A:$B,2,FALSE))","v":{"$error":"#N/A"}},{"$f":"IF(A390=\"\",\"\",VLOOKUP(A390,[1]ItemConfig!$A:$D,4,FALSE))","v":{"$error":"#N/A"}},{"$f":"IF(A390=\"\",\"\",VLOOKUP(A390,[1]ItemConfig!$A:$C,3,FALSE))","v":{"$error":"#N/A"}},{"$f":"IF(A390=\"\",\"\",VLOOKUP(B390,#REF!,5,FALSE))","v":{"$error":"#N/A"}},{"$f":"IF(A390=\"\",\"\",VLOOKUP(C390,#REF!,5,FALSE))","v":{"$error":"#N/A"}}]
[200068,{"$f":"IF(A391=\"\",\"\",VLOOKUP(A391,[1]ItemConfig!$A:$B,2,FALSE))","v":{"$error":"#N/A"}},{"$f":"IF(A391=\"\",\"\",VLOOKUP(A391,[1]ItemConfig!$A:$D,4,FALSE))","v":{"$error":"#N/A"}},{"$f":"IF(A391=\"\",\"\",VLOOKUP(A391,[1]ItemConfig!$A:$C,3,FALSE))","v":{"$error":"#N/A"}},{"$f":"IF(A391=\"\",\"\",VLOOKUP(B391,#REF!,5,FALSE))","v":{"$error":"#N/A"}},{"$f":"IF(A391=\"\",\"\",VLOOKUP(C391,#REF!,5,FALSE))","v":{"$error":"#N/A"}}]
[200069,{"$f":"IF(A392=\"\",\"\",VLOOKUP(A392,[1]ItemConfig!$A:$B,2,FALSE))","v":{"$error":"#N/A"}},{"$f":"IF(A392=\"\",\"\",VLOOKUP(A392,[1]ItemConfig!$A:$D,4,FALSE))","v":{"$error":"#N/A"}},{"$f":"IF(A392=\"\",\"\",VLOOKUP(A392,[1]ItemConfig!$A:$C,3,FALSE))","v":{"$error":"#N/A"}},{"$f":"IF(A392=\"\",\"\",VLOOKUP(B392,#REF!,5,FALSE))","v":{"$error":"#N/A"}},{"$f":"IF(A392=\"\",\"\",VLOOKUP(C392,#REF!,5,FALSE))","v":{"$error":"#N/A"}}]
[200070,{"$f":"IF(A393=\"\",\"\",VLOOKUP(A393,[1]ItemConfig!$A:$B,2,FALSE))","v":{"$error":"#N/A"}},{"$f":"IF(A393=\"\",\"\",VLOOKUP(A393,[1]ItemConfig!$A:$D,4,FALSE))","v":{"$error":"#N/A"}},{"$f":"IF(A393=\"\",\"\",VLOOKUP(A393,[1]ItemConfig!$A:$C,3,FALSE))","v":{"$error":"#N/A"}},{"$f":"IF(A393=\"\",\"\",VLOOKUP(B393,#REF!,5,FALSE))","v":{"$error":"#N/A"}},{"$f":"IF(A393=\"\",\"\",VLOOKUP(C393,#REF!,5,FALSE))","v":{"$error":"#N/A"}}]
[200071,{"$f":"IF(A394=\"\",\"\",VLOOKUP(A394,[1]ItemConfig!$A:$B,2,FALSE))","v":{"$error":"#N/A"}},{"$f":"IF(A394=\"\",\"\",VLOOKUP(A394,[1]ItemConfig!$A:$D,4,FALSE))","v":{"$error":"#N/A"}},{"$f":"IF(A394=\"\",\"\",VLOOKUP(A394,[1]ItemConfig!$A:$C,3,FALSE))","v":{"$error":"#N/A"}},{"$f":"IF(A394=\"\",\"\",VLOOKUP(B394,#REF!,5,FALSE))","v":{"$error":"#N/A"}},{"$f":"IF(A394=\"\",\"\",VLOOKUP(C394,#REF!,5,FALSE))","v":{"$error":"#N/A"}}]
[200072,{"$f":"IF(A395=\"\",\"\",VLOOKUP(A395,[1]ItemConfig!$A:$B,2,FALSE))","v":{"$error":"#N/A"}},{"$f":"IF(A395=\"\",\"\",VLOOKUP(A395,[1]ItemConfig!$A:$D,4,FALSE))","v":{"$error":"#N/A"}},{"$f":"IF(A395=\"\",\"\",VLOOKUP(A395,[1]ItemConfig!$A:$C,3,FALSE))","v":{"$error":"#N/A"}},{"$f":"IF(A395=\"\",\"\",VLOOKUP(B395,#REF!,5,FALSE))","v":{"$error":"#N/A"}},{"$f":"IF(A395=\"\",\"\",VLOOKUP(C395,#REF!,5,FALSE))","v":{"$error":"#N/A"}}]
[200073,{"$f":"IF(A396=\"\",\"\",VLOOKUP(A396,[1]ItemConfig!$A:$B,2,FALSE))","v":{"$error":"#N/A"}},{"$f":"IF(A396=\"\",\"\",VLOOKUP(A396,[1]ItemConfig!$A:$D,4,FALSE))","v":{"$error":"#N/A"}},{"$f":"IF(A396=\"\",\"\",VLOOKUP(A396,[1]ItemConfig!$A:$C,3,FALSE))","v":{"$error":"#N/A"}},{"$f":"IF(A396=\"\",\"\",VLOOKUP(B396,#REF!,5,FALSE))","v":{"$error":"#N/A"}},{"$f":"IF(A396=\"\",\"\",VLOOKUP(C396,#REF!,5,FALSE))","v":{"$error":"#N/A"}}]
[200074,{"$f":"IF(A397=\"\",\"\",VLOOKUP(A397,[1]ItemConfig!$A:$B,2,FALSE))","v":{"$error":"#N/A"}},{"$f":"IF(A397=\"\",\"\",VLOOKUP(A397,[1]ItemConfig!$A:$D,4,FALSE))","v":{"$error":"#N/A"}},{"$f":"IF(A397=\"\",\"\",VLOOKUP(A397,[1]ItemConfig!$A:$C,3,FALSE))","v":{"$error":"#N/A"}},{"$f":"IF(A397=\"\",\"\",VLOOKUP(B397,#REF!,5,FALSE))","v":{"$error":"#N/A"}},{"$f":"IF(A397=\"\",\"\",VLOOKUP(C397,#REF!,5,FALSE))","v":{"$error":"#N/A"}}]
[200075,{"$f":"IF(A398=\"\",\"\",VLOOKUP(A398,[1]ItemConfig!$A:$B,2,FALSE))","v":{"$error":"#N/A"}},{"$f":"IF(A398=\"\",\"\",VLOOKUP(A398,[1]ItemConfig!$A:$D,4,FALSE))","v":{"$error":"#N/A"}},{"$f":"IF(A398=\"\",\"\",VLOOKUP(A398,[1]ItemConfig!$A:$C,3,FALSE))","v":{"$error":"#N/A"}},{"$f":"IF(A398=\"\",\"\",VLOOKUP(B398,#REF!,5,FALSE))","v":{"$error":"#N/A"}},{"$f":"IF(A398=\"\",\"\",VLOOKUP(C398,#REF!,5,FALSE))","v":{"$error":"#N/A"}}]
[200076,{"$f":"IF(A399=\"\",\"\",VLOOKUP(A399,[1]ItemConfig!$A:$B,2,FALSE))","v":{"$error":"#N/A"}},{"$f":"IF(A399=\"\",\"\",VLOOKUP(A399,[1]ItemConfig!$A:$D,4,FALSE))","v":{"$error":"#N/A"}},{"$f":"IF(A399=\"\",\"\",VLOOKUP(A399,[1]ItemConfig!$A:$C,3,FALSE))","v":{"$error":"#N/A"}},{"$f":"IF(A399=\"\",\"\",VLOOKUP(B399,#REF!,5,FALSE))","v":{"$error":"#N/A"}},{"$f":"IF(A399=\"\",\"\",VLOOKUP(C399,#REF!,5,FALSE))","v":{"$error":"#N/A"}}]
[200077,{"$f":"IF(A400=\"\",\"\",VLOOKUP(A400,[1]ItemConfig!$A:$B,2,FALSE))","v":{"$error":"#N/A"}},{"$f":"IF(A400=\"\",\"\",VLOOKUP(A400,[1]ItemConfig!$A:$D,4,FALSE))","v":{"$error":"#N/A"}},{"$f":"IF(A400=\"\",\"\",VLOOKUP(A400,[1]ItemConfig!$A:$C,3,FALSE))","v":{"$error":"#N/A"}},{"$f":"IF(A400=\"\",\"\",VLOOKUP(B400,#REF!,5,FALSE))","v":{"$error":"#N/A"}},{"$f":"IF(A400=\"\",\"\",VLOOKUP(C400,#REF!,5,FALSE))","v":{"$error":"#N/A"}}]
[200078,{"$f":"IF(A401=\"\",\"\",VLOOKUP(A401,[1]ItemConfig!$A:$B,2,FALSE))","v":{"$error":"#N/A"}},{"$f":"IF(A401=\"\",\"\",VLOOKUP(A401,[1]ItemConfig!$A:$D,4,FALSE))","v":{"$error":"#N/A"}},{"$f":"IF(A401=\"\",\"\",VLOOKUP(A401,[1]ItemConfig!$A:$C,3,FALSE))","v":{"$error":"#N/A"}},{"$f":"IF(A401=\"\",\"\",VLOOKUP(B401,#REF!,5,FALSE))","v":{"$error":"#N/A"}},{"$f":"IF(A401=\"\",\"\",VLOOKUP(C401,#REF!,5,FALSE))","v":{"$error":"#N/A"}}]
[200079,{"$f":"IF(A402=\"\",\"\",VLOOKUP(A402,[1]ItemConfig!$A:$B,2,FALSE))","v":{"$error":"#N/A"}},{"$f":"IF(A402=\"\",\"\",VLOOKUP(A402,[1]ItemConfig!$A:$D,4,FALSE))","v":{"$error":"#N/A"}},{"$f":"IF(A402=\"\",\"\",VLOOKUP(A402,[1]ItemConfig!$A:$C,3,FALSE))","v":{"$error":"#N/A"}},{"$f":"IF(A402=\"\",\"\",VLOOKUP(B402,#REF!,5,FALSE))","v":{"$error":"#N/A"}},{"$f":"IF(A402=\"\",\"\",VLOOKUP(C402,#REF!,5,FALSE))","v":{"$error":"#N/A"}}]
[200080,{"$f":"IF(A403=\"\",\"\",VLOOKUP(A403,[1]ItemConfig!$A:$B,2,FALSE))","v":{"$error":"#N/A"}},{"$f":"IF(A403=\"\",\"\",VLOOKUP(A403,[1]ItemConfig!$A:$D,4,FALSE))","v":{"$error":"#N/A"}},{"$f":"IF(A403=\"\",\"\",VLOOKUP(A403,[1]ItemConfig!$A:$C,3,FALSE))","v":{"$error":"#N/A"}},{"$f":"IF(A403=\"\",\"\",VLOOKUP(B403,#REF!,5,FALSE))","v":{"$error":"#N/A"}},{"$f":"IF(A403=\"\",\"\",VLOOKUP(C403,#REF!,5,FALSE))","v":{"$error":"#N/A"}}]
[200081,{"$f":"IF(A404=\"\",\"\",VLOOKUP(A404,[1]ItemConfig!$A:$B,2,FALSE))","v":{"$error":"#N/A"}},{"$f":"IF(A404=\"\",\"\",VLOOKUP(A404,[1]ItemConfig!$A:$D,4,FALSE))","v":{"$error":"#N/A"}},{"$f":"IF(A404=\"\",\"\",VLOOKUP(A404,[1]ItemConfig!$A:$C,3,FALSE))","v":{"$error":"#N/A"}},{"$f":"IF(A404=\"\",\"\",VLOOKUP(B404,#REF!,5,FALSE))","v":{"$error":"#N/A"}},{"$f":"IF(A404=\"\",\"\",VLOOKUP(C404,#REF!,5,FALSE))","v":{"$error":"#N/A"}}]
[200082,{"$f":"IF(A405=\"\",\"\",VLOOKUP(A405,[1]ItemConfig!$A:$B,2,FALSE))","v":{"$error":"#N/A"}},{"$f":"IF(A405=\"\",\"\",VLOOKUP(A405,[1]ItemConfig!$A:$D,4,FALSE))","v":{"$error":"#N/A"}},{"$f":"IF(A405=\"\",\"\",VLOOKUP(A405,[1]ItemConfig!$A:$C,3,FALSE))","v":{"$error":"#N/A"}},{"$f":"IF(A405=\"\",\"\",VLOOKUP(B405,#REF!,5,FALSE))","v":{"$error":"#N/A"}},{"$f":"IF(A405=\"\",\"\",VLOOKUP(C405,#REF!,5,FALSE))","v":{"$error":"#N/A"}}]
[200083,{"$f":"IF(A406=\"\",\"\",VLOOKUP(A406,[1]ItemConfig!$A:$B,2,FALSE))","v":{"$error":"#N/A"}},{"$f":"IF(A406=\"\",\"\",VLOOKUP(A406,[1]ItemConfig!$A:$D,4,FALSE))","v":{"$error":"#N/A"}},{"$f":"IF(A406=\"\",\"\",VLOOKUP(A406,[1]ItemConfig!$A:$C,3,FALSE))","v":{"$error":"#N/A"}},{"$f":"IF(A406=\"\",\"\",VLOOKUP(B406,#REF!,5,FALSE))","v":{"$error":"#N/A"}},{"$f":"IF(A406=\"\",\"\",VLOOKUP(C406,#REF!,5,FALSE))","v":{"$error":"#N/A"}}]
[200084,{"$f":"IF(A407=\"\",\"\",VLOOKUP(A407,[1]ItemConfig!$A:$B,2,FALSE))","v":{"$error":"#N/A"}},{"$f":"IF(A407=\"\",\"\",VLOOKUP(A407,[1]ItemConfig!$A:$D,4,FALSE))","v":{"$error":"#N/A"}},{"$f":"IF(A407=\"\",\"\",VLOOKUP(A407,[1]ItemConfig!$A:$C,3,FALSE))","v":{"$error":"#N/A"}},{"$f":"IF(A407=\"\",\"\",VLOOKUP(B407,#REF!,5,FALSE))","v":{"$error":"#N/A"}},{"$f":"IF(A407=\"\",\"\",VLOOKUP(C407,#REF!,5,FALSE))","v":{"$error":"#N/A"}}]
[200085,{"$f":"IF(A408=\"\",\"\",VLOOKUP(A408,[1]ItemConfig!$A:$B,2,FALSE))","v":{"$error":"#N/A"}},{"$f":"IF(A408=\"\",\"\",VLOOKUP(A408,[1]ItemConfig!$A:$D,4,FALSE))","v":{"$error":"#N/A"}},{"$f":"IF(A408=\"\",\"\",VLOOKUP(A408,[1]ItemConfig!$A:$C,3,FALSE))","v":{"$error":"#N/A"}},{"$f":"IF(A408=\"\",\"\",VLOOKUP(B408,#REF!,5,FALSE))","v":{"$error":"#N/A"}},{"$f":"IF(A408=\"\",\"\",VLOOKUP(C408,#REF!,5,FALSE))","v":{"$error":"#N/A"}}]
[200086,{"$f":"IF(A409=\"\",\"\",VLOOKUP(A409,[1]ItemConfig!$A:$B,2,FALSE))","v":{"$error":"#N/A"}},{"$f":"IF(A409=\"\",\"\",VLOOKUP(A409,[1]ItemConfig!$A:$D,4,FALSE))","v":{"$error":"#N/A"}},{"$f":"IF(A409=\"\",\"\",VLOOKUP(A409,[1]ItemConfig!$A:$C,3,FALSE))","v":{"$error":"#N/A"}},{"$f":"IF(A409=\"\",\"\",VLOOKUP(B409,#REF!,5,FALSE))","v":{"$error":"#N/A"}},{"$f":"IF(A409=\"\",\"\",VLOOKUP(C409,#REF!,5,FALSE))","v":{"$error":"#N/A"}}]
[200087,{"$f":"IF(A410=\"\",\"\",VLOOKUP(A410,[1]ItemConfig!$A:$B,2,FALSE))","v":{"$error":"#N/A"}},{"$f":"IF(A410=\"\",\"\",VLOOKUP(A410,[1]ItemConfig!$A:$D,4,FALSE))","v":{"$error":"#N/A"}},{"$f":"IF(A410=\"\",\"\",VLOOKUP(A410,[1]ItemConfig!$A:$C,3,FALSE))","v":{"$error":"#N/A"}},{"$f":"IF(A410=\"\",\"\",VLOOKUP(B410,#REF!,5,FALSE))","v":{"$error":"#N/A"}},{"$f":"IF(A410=\"\",\"\",VLOOKUP(C410,#REF!,5,FALSE))","v":{"$error":"#N/A"}}]
[200088,{"$f":"IF(A411=\"\",\"\",VLOOKUP(A411,[1]ItemConfig!$A:$B,2,FALSE))","v":{"$error":"#N/A"}},{"$f":"IF(A411=\"\",\"\",VLOOKUP(A411,[1]ItemConfig!$A:$D,4,FALSE))","v":{"$error":"#N/A"}},{"$f":"IF(A411=\"\",\"\",VLOOKUP(A411,[1]ItemConfig!$A:$C,3,FALSE))","v":{"$error":"#N/A"}},{"$f":"IF(A411=\"\",\"\",VLOOKUP(B411,#REF!,5,FALSE))","v":{"$error":"#N/A"}},{"$f":"IF(A411=\"\",\"\",VLOOKUP(C411,#REF!,5,FALSE))","v":{"$error":"#N/A"}}]
[200089,{"$f":"IF(A412=\"\",\"\",VLOOKUP(A412,[1]ItemConfig!$A:$B,2,FALSE))","v":{"$error":"#N/A"}},{"$f":"IF(A412=\"\",\"\",VLOOKUP(A412,[1]ItemConfig!$A:$D,4,FALSE))","v":{"$error":"#N/A"}},{"$f":"IF(A412=\"\",\"\",VLOOKUP(A412,[1]ItemConfig!$A:$C,3,FALSE))","v":{"$error":"#N/A"}},{"$f":"IF(A412=\"\",\"\",VLOOKUP(B412,#REF!,5,FALSE))","v":{"$error":"#N/A"}},{"$f":"IF(A412=\"\",\"\",VLOOKUP(C412,#REF!,5,FALSE))","v":{"$error":"#N/A"}}]
[200090,{"$f":"IF(A413=\"\",\"\",VLOOKUP(A413,[1]ItemConfig!$A:$B,2,FALSE))","v":{"$error":"#N/A"}},{"$f":"IF(A413=\"\",\"\",VLOOKUP(A413,[1]ItemConfig!$A:$D,4,FALSE))","v":{"$error":"#N/A"}},{"$f":"IF(A413=\"\",\"\",VLOOKUP(A413,[1]ItemConfig!$A:$C,3,FALSE))","v":{"$error":"#N/A"}},{"$f":"IF(A413=\"\",\"\",VLOOKUP(B413,#REF!,5,FALSE))","v":{"$error":"#N/A"}},{"$f":"IF(A413=\"\",\"\",VLOOKUP(C413,#REF!,5,FALSE))","v":{"$error":"#N/A"}}]
[200091,{"$f":"IF(A414=\"\",\"\",VLOOKUP(A414,[1]ItemConfig!$A:$B,2,FALSE))","v":{"$error":"#N/A"}},{"$f":"IF(A414=\"\",\"\",VLOOKUP(A414,[1]ItemConfig!$A:$D,4,FALSE))","v":{"$error":"#N/A"}},{"$f":"IF(A414=\"\",\"\",VLOOKUP(A414,[1]ItemConfig!$A:$C,3,FALSE))","v":{"$error":"#N/A"}},{"$f":"IF(A414=\"\",\"\",VLOOKUP(B414,#REF!,5,FALSE))","v":{"$error":"#N/A"}},{"$f":"IF(A414=\"\",\"\",VLOOKUP(C414,#REF!,5,FALSE))","v":{"$error":"#N/A"}}]
[200092,{"$f":"IF(A415=\"\",\"\",VLOOKUP(A415,[1]ItemConfig!$A:$B,2,FALSE))","v":{"$error":"#N/A"}},{"$f":"IF(A415=\"\",\"\",VLOOKUP(A415,[1]ItemConfig!$A:$D,4,FALSE))","v":{"$error":"#N/A"}},{"$f":"IF(A415=\"\",\"\",VLOOKUP(A415,[1]ItemConfig!$A:$C,3,FALSE))","v":{"$error":"#N/A"}},{"$f":"IF(A415=\"\",\"\",VLOOKUP(B415,#REF!,5,FALSE))","v":{"$error":"#N/A"}},{"$f":"IF(A415=\"\",\"\",VLOOKUP(C415,#REF!,5,FALSE))","v":{"$error":"#N/A"}}]
[200093,{"$f":"IF(A416=\"\",\"\",VLOOKUP(A416,[1]ItemConfig!$A:$B,2,FALSE))","v":{"$error":"#N/A"}},{"$f":"IF(A416=\"\",\"\",VLOOKUP(A416,[1]ItemConfig!$A:$D,4,FALSE))","v":{"$error":"#N/A"}},{"$f":"IF(A416=\"\",\"\",VLOOKUP(A416,[1]ItemConfig!$A:$C,3,FALSE))","v":{"$error":"#N/A"}},{"$f":"IF(A416=\"\",\"\",VLOOKUP(B416,#REF!,5,FALSE))","v":{"$error":"#N/A"}},{"$f":"IF(A416=\"\",\"\",VLOOKUP(C416,#REF!,5,FALSE))","v":{"$error":"#N/A"}}]
[200094,{"$f":"IF(A417=\"\",\"\",VLOOKUP(A417,[1]ItemConfig!$A:$B,2,FALSE))","v":{"$error":"#N/A"}},{"$f":"IF(A417=\"\",\"\",VLOOKUP(A417,[1]ItemConfig!$A:$D,4,FALSE))","v":{"$error":"#N/A"}},{"$f":"IF(A417=\"\",\"\",VLOOKUP(A417,[1]ItemConfig!$A:$C,3,FALSE))","v":{"$error":"#N/A"}},{"$f":"IF(A417=\"\",\"\",VLOOKUP(B417,#REF!,5,FALSE))","v":{"$error":"#N/A"}},{"$f":"IF(A417=\"\",\"\",VLOOKUP(C417,#REF!,5,FALSE))","v":{"$error":"#N/A"}}]
[200095,{"$f":"IF(A418=\"\",\"\",VLOOKUP(A418,[1]ItemConfig!$A:$B,2,FALSE))","v":{"$error":"#N/A"}},{"$f":"IF(A418=\"\",\"\",VLOOKUP(A418,[1]ItemConfig!$A:$D,4,FALSE))","v":{"$error":"#N/A"}},{"$f":"IF(A418=\"\",\"\",VLOOKUP(A418,[1]ItemConfig!$A:$C,3,FALSE))","v":{"$error":"#N/A"}},{"$f":"IF(A418=\"\",\"\",VLOOKUP(B418,#REF!,5,FALSE))","v":{"$error":"#N/A"}},{"$f":"IF(A418=\"\",\"\",VLOOKUP(C418,#REF!,5,FALSE))","v":{"$error":"#N/A"}}]
[200096,{"$f":"IF(A419=\"\",\"\",VLOOKUP(A419,[1]ItemConfig!$A:$B,2,FALSE))","v":{"$error":"#N/A"}},{"$f":"IF(A419=\"\",\"\",VLOOKUP(A419,[1]ItemConfig!$A:$D,4,FALSE))","v":{"$error":"#N/A"}},{"$f":"IF(A419=\"\",\"\",VLOOKUP(A419,[1]ItemConfig!$A:$C,3,FALSE))","v":{"$error":"#N/A"}},{"$f":"IF(A419=\"\",\"\",VLOOKUP(B419,#REF!,5,FALSE))","v":{"$error":"#N/A"}},{"$f":"IF(A419=\"\",\"\",VLOOKUP(C419,#REF!,5,FALSE))","v":{"$error":"#N/A"}}]
[200097,{"$f":"IF(A420=\"\",\"\",VLOOKUP(A420,[1]ItemConfig!$A:$B,2,FALSE))","v":{"$error":"#N/A"}},{"$f":"IF(A420=\"\",\"\",VLOOKUP(A420,[1]ItemConfig!$A:$D,4,FALSE))","v":{"$error":"#N/A"}},{"$f":"IF(A420=\"\",\"\",VLOOKUP(A420,[1]ItemConfig!$A:$C,3,FALSE))","v":{"$error":"#N/A"}},{"$f":"IF(A420=\"\",\"\",VLOOKUP(B420,#REF!,5,FALSE))","v":{"$error":"#N/A"}},{"$f":"IF(A420=\"\",\"\",VLOOKUP(C420,#REF!,5,FALSE))","v":{"$error":"#N/A"}}]
[200098,{"$f":"IF(A421=\"\",\"\",VLOOKUP(A421,[1]ItemConfig!$A:$B,2,FALSE))","v":{"$error":"#N/A"}},{"$f":"IF(A421=\"\",\"\",VLOOKUP(A421,[1]ItemConfig!$A:$D,4,FALSE))","v":{"$error":"#N/A"}},{"$f":"IF(A421=\"\",\"\",VLOOKUP(A421,[1]ItemConfig!$A:$C,3,FALSE))","v":{"$error":"#N/A"}},{"$f":"IF(A421=\"\",\"\",VLOOKUP(B421,#REF!,5,FALSE))","v":{"$error":"#N/A"}},{"$f":"IF(A421=\"\",\"\",VLOOKUP(C421,#REF!,5,FALSE))","v":{"$error":"#N/A"}}]
[200099,{"$f":"IF(A422=\"\",\"\",VLOOKUP(A422,[1]ItemConfig!$A:$B,2,FALSE))","v":{"$error":"#N/A"}},{"$f":"IF(A422=\"\",\"\",VLOOKUP(A422,[1]ItemConfig!$A:$D,4,FALSE))","v":{"$error":"#N/A"}},{"$f":"IF(A422=\"\",\"\",VLOOKUP(A422,[1]ItemConfig!$A:$C,3,FALSE))","v":{"$error":"#N/A"}},{"$f":"IF(A422=\"\",\"\",VLOOKUP(B422,#REF!,5,FALSE))","v":{"$error":"#N/A"}},{"$f":"IF(A422=\"\",\"\",VLOOKUP(C422,#REF!,5,FALSE))","v":{"$error":"#N/A"}}]
[200100,{"$f":"IF(A423=\"\",\"\",VLOOKUP(A423,[1]ItemConfig!$A:$B,2,FALSE))","v":{"$error":"#N/A"}},{"$f":"IF(A423=\"\",\"\",VLOOKUP(A423,[1]ItemConfig!$A:$D,4,FALSE))","v":{"$error":"#N/A"}},{"$f":"IF(A423=\"\",\"\",VLOOKUP(A423,[1]ItemConfig!$A:$C,3,FALSE))","v":{"$error":"#N/A"}},{"$f":"IF(A423=\"\",\"\",VLOOKUP(B423,#REF!,5,FALSE))","v":{"$error":"#N/A"}},{"$f":"IF(A423=\"\",\"\",VLOOKUP(C423,#REF!,5,FALSE))","v":{"$error":"#N/A"}}]
[200101,{"$f":"IF(A424=\"\",\"\",VLOOKUP(A424,[1]ItemConfig!$A:$B,2,FALSE))","v":{"$error":"#N/A"}},{"$f":"IF(A424=\"\",\"\",VLOOKUP(A424,[1]ItemConfig!$A:$D,4,FALSE))","v":{"$error":"#N/A"}},{"$f":"IF(A424=\"\",\"\",VLOOKUP(A424,[1]ItemConfig!$A:$C,3,FALSE))","v":{"$error":"#N/A"}},{"$f":"IF(A424=\"\",\"\",VLOOKUP(B424,#REF!,5,FALSE))","v":{"$error":"#N/A"}},{"$f":"IF(A424=\"\",\"\",VLOOKUP(C424,#REF!,5,FALSE))","v":{"$error":"#N/A"}}]
[200102,{"$f":"IF(A425=\"\",\"\",VLOOKUP(A425,[1]ItemConfig!$A:$B,2,FALSE))","v":{"$error":"#N/A"}},{"$f":"IF(A425=\"\",\"\",VLOOKUP(A425,[1]ItemConfig!$A:$D,4,FALSE))","v":{"$error":"#N/A"}},{"$f":"IF(A425=\"\",\"\",VLOOKUP(A425,[1]ItemConfig!$A:$C,3,FALSE))","v":{"$error":"#N/A"}},{"$f":"IF(A425=\"\",\"\",VLOOKUP(B425,#REF!,5,FALSE))","v":{"$error":"#N/A"}},{"$f":"IF(A425=\"\",\"\",VLOOKUP(C425,#REF!,5,FALSE))","v":{"$error":"#N/A"}}]
[200103,{"$f":"IF(A426=\"\",\"\",VLOOKUP(A426,[1]ItemConfig!$A:$B,2,FALSE))","v":{"$error":"#N/A"}},{"$f":"IF(A426=\"\",\"\",VLOOKUP(A426,[1]ItemConfig!$A:$D,4,FALSE))","v":{"$error":"#N/A"}},{"$f":"IF(A426=\"\",\"\",VLOOKUP(A426,[1]ItemConfig!$A:$C,3,FALSE))","v":{"$error":"#N/A"}},{"$f":"IF(A426=\"\",\"\",VLOOKUP(B426,#REF!,5,FALSE))","v":{"$error":"#N/A"}},{"$f":"IF(A426=\"\",\"\",VLOOKUP(C426,#REF!,5,FALSE))","v":{"$error":"#N/A"}}]
[200104,{"$f":"IF(A427=\"\",\"\",VLOOKUP(A427,[1]ItemConfig!$A:$B,2,FALSE))","v":{"$error":"#N/A"}},{"$f":"IF(A427=\"\",\"\",VLOOKUP(A427,[1]ItemConfig!$A:$D,4,FALSE))","v":{"$error":"#N/A"}},{"$f":"IF(A427=\"\",\"\",VLOOKUP(A427,[1]ItemConfig!$A:$C,3,FALSE))","v":{"$error":"#N/A"}},{"$f":"IF(A427=\"\",\"\",VLOOKUP(B427,#REF!,5,FALSE))","v":{"$error":"#N/A"}},{"$f":"IF(A427=\"\",\"\",VLOOKUP(C427,#REF!,5,FALSE))","v":{"$error":"#N/A"}}]
[200105,{"$f":"IF(A428=\"\",\"\",VLOOKUP(A428,[1]ItemConfig!$A:$B,2,FALSE))","v":{"$error":"#N/A"}},{"$f":"IF(A428=\"\",\"\",VLOOKUP(A428,[1]ItemConfig!$A:$D,4,FALSE))","v":{"$error":"#N/A"}},{"$f":"IF(A428=\"\",\"\",VLOOKUP(A428,[1]ItemConfig!$A:$C,3,FALSE))","v":{"$error":"#N/A"}},{"$f":"IF(A428=\"\",\"\",VLOOKUP(B428,#REF!,5,FALSE))","v":{"$error":"#N/A"}},{"$f":"IF(A428=\"\",\"\",VLOOKUP(C428,#REF!,5,FALSE))","v":{"$error":"#N/A"}}]
[200106,{"$f":"IF(A429=\"\",\"\",VLOOKUP(A429,[1]ItemConfig!$A:$B,2,FALSE))","v":{"$error":"#N/A"}},{"$f":"IF(A429=\"\",\"\",VLOOKUP(A429,[1]ItemConfig!$A:$D,4,FALSE))","v":{"$error":"#N/A"}},{"$f":"IF(A429=\"\",\"\",VLOOKUP(A429,[1]ItemConfig!$A:$C,3,FALSE))","v":{"$error":"#N/A"}},{"$f":"IF(A429=\"\",\"\",VLOOKUP(B429,#REF!,5,FALSE))","v":{"$error":"#N/A"}},{"$f":"IF(A429=\"\",\"\",VLOOKUP(C429,#REF!,5,FALSE))","v":{"$error":"#N/A"}}]
[200107,{"$f":"IF(A430=\"\",\"\",VLOOKUP(A430,[1]ItemConfig!$A:$B,2,FALSE))","v":{"$error":"#N/A"}},{"$f":"IF(A430=\"\",\"\",VLOOKUP(A430,[1]ItemConfig!$A:$D,4,FALSE))","v":{"$error":"#N/A"}},{"$f":"IF(A430=\"\",\"\",VLOOKUP(A430,[1]ItemConfig!$A:$C,3,FALSE))","v":{"$error":"#N/A"}},{"$f":"IF(A430=\"\",\"\",VLOOKUP(B430,#REF!,5,FALSE))","v":{"$error":"#N/A"}},{"$f":"IF(A430=\"\",\"\",VLOOKUP(C430,#REF!,5,FALSE))","v":{"$error":"#N/A"}}]
[200108,{"$f":"IF(A431=\"\",\"\",VLOOKUP(A431,[1]ItemConfig!$A:$B,2,FALSE))","v":{"$error":"#N/A"}},{"$f":"IF(A431=\"\",\"\",VLOOKUP(A431,[1]ItemConfig!$A:$D,4,FALSE))","v":{"$error":"#N/A"}},{"$f":"IF(A431=\"\",\"\",VLOOKUP(A431,[1]ItemConfig!$A:$C,3,FALSE))","v":{"$error":"#N/A"}},{"$f":"IF(A431=\"\",\"\",VLOOKUP(B431,#REF!,5,FALSE))","v":{"$error":"#N/A"}},{"$f":"IF(A431=\"\",\"\",VLOOKUP(C431,#REF!,5,FALSE))","v":{"$error":"#N/A"}}]
[200109,{"$f":"IF(A432=\"\",\"\",VLOOKUP(A432,[1]ItemConfig!$A:$B,2,FALSE))","v":{"$error":"#N/A"}},{"$f":"IF(A432=\"\",\"\",VLOOKUP(A432,[1]ItemConfig!$A:$D,4,FALSE))","v":{"$error":"#N/A"}},{"$f":"IF(A432=\"\",\"\",VLOOKUP(A432,[1]ItemConfig!$A:$C,3,FALSE))","v":{"$error":"#N/A"}},{"$f":"IF(A432=\"\",\"\",VLOOKUP(B432,#REF!,5,FALSE))","v":{"$error":"#N/A"}},{"$f":"IF(A432=\"\",\"\",VLOOKUP(C432,#REF!,5,FALSE))","v":{"$error":"#N/A"}}]
[200110,{"$f":"IF(A433=\"\",\"\",VLOOKUP(A433,[1]ItemConfig!$A:$B,2,FALSE))","v":{"$error":"#N/A"}},{"$f":"IF(A433=\"\",\"\",VLOOKUP(A433,[1]ItemConfig!$A:$D,4,FALSE))","v":{"$error":"#N/A"}},{"$f":"IF(A433=\"\",\"\",VLOOKUP(A433,[1]ItemConfig!$A:$C,3,FALSE))","v":{"$error":"#N/A"}},{"$f":"IF(A433=\"\",\"\",VLOOKUP(B433,#REF!,5,FALSE))","v":{"$error":"#N/A"}},{"$f":"IF(A433=\"\",\"\",VLOOKUP(C433,#REF!,5,FALSE))","v":{"$error":"#N/A"}}]
[200111,{"$f":"IF(A434=\"\",\"\",VLOOKUP(A434,[1]ItemConfig!$A:$B,2,FALSE))","v":{"$error":"#N/A"}},{"$f":"IF(A434=\"\",\"\",VLOOKUP(A434,[1]ItemConfig!$A:$D,4,FALSE))","v":{"$error":"#N/A"}},{"$f":"IF(A434=\"\",\"\",VLOOKUP(A434,[1]ItemConfig!$A:$C,3,FALSE))","v":{"$error":"#N/A"}},{"$f":"IF(A434=\"\",\"\",VLOOKUP(B434,#REF!,5,FALSE))","v":{"$error":"#N/A"}},{"$f":"IF(A434=\"\",\"\",VLOOKUP(C434,#REF!,5,FALSE))","v":{"$error":"#N/A"}}]
[200112,{"$f":"IF(A435=\"\",\"\",VLOOKUP(A435,[1]ItemConfig!$A:$B,2,FALSE))","v":{"$error":"#N/A"}},{"$f":"IF(A435=\"\",\"\",VLOOKUP(A435,[1]ItemConfig!$A:$D,4,FALSE))","v":{"$error":"#N/A"}},{"$f":"IF(A435=\"\",\"\",VLOOKUP(A435,[1]ItemConfig!$A:$C,3,FALSE))","v":{"$error":"#N/A"}},{"$f":"IF(A435=\"\",\"\",VLOOKUP(B435,#REF!,5,FALSE))","v":{"$error":"#N/A"}},{"$f":"IF(A435=\"\",\"\",VLOOKUP(C435,#REF!,5,FALSE))","v":{"$error":"#N/A"}}]
[200113,{"$f":"IF(A436=\"\",\"\",VLOOKUP(A436,[1]ItemConfig!$A:$B,2,FALSE))","v":{"$error":"#N/A"}},{"$f":"IF(A436=\"\",\"\",VLOOKUP(A436,[1]ItemConfig!$A:$D,4,FALSE))","v":{"$error":"#N/A"}},{"$f":"IF(A436=\"\",\"\",VLOOKUP(A436,[1]ItemConfig!$A:$C,3,FALSE))","v":{"$error":"#N/A"}},{"$f":"IF(A436=\"\",\"\",VLOOKUP(B436,#REF!,5,FALSE))","v":{"$error":"#N/A"}},{"$f":"IF(A436=\"\",\"\",VLOOKUP(C436,#REF!,5,FALSE))","v":{"$error":"#N/A"}}]
[200114,{"$f":"IF(A437=\"\",\"\",VLOOKUP(A437,[1]ItemConfig!$A:$B,2,FALSE))","v":{"$error":"#N/A"}},{"$f":"IF(A437=\"\",\"\",VLOOKUP(A437,[1]ItemConfig!$A:$D,4,FALSE))","v":{"$error":"#N/A"}},{"$f":"IF(A437=\"\",\"\",VLOOKUP(A437,[1]ItemConfig!$A:$C,3,FALSE))","v":{"$error":"#N/A"}},{"$f":"IF(A437=\"\",\"\",VLOOKUP(B437,#REF!,5,FALSE))","v":{"$error":"#N/A"}},{"$f":"IF(A437=\"\",\"\",VLOOKUP(C437,#REF!,5,FALSE))","v":{"$error":"#N/A"}}]
[200115,{"$f":"IF(A438=\"\",\"\",VLOOKUP(A438,[1]ItemConfig!$A:$B,2,FALSE))","v":{"$error":"#N/A"}},{"$f":"IF(A438=\"\",\"\",VLOOKUP(A438,[1]ItemConfig!$A:$D,4,FALSE))","v":{"$error":"#N/A"}},{"$f":"IF(A438=\"\",\"\",VLOOKUP(A438,[1]ItemConfig!$A:$C,3,FALSE))","v":{"$error":"#N/A"}},{"$f":"IF(A438=\"\",\"\",VLOOKUP(B438,#REF!,5,FALSE))","v":{"$error":"#N/A"}},{"$f":"IF(A438=\"\",\"\",VLOOKUP(C438,#REF!,5,FALSE))","v":{"$error":"#N/A"}}]
[200116,{"$f":"IF(A439=\"\",\"\",VLOOKUP(A439,[1]ItemConfig!$A:$B,2,FALSE))","v":{"$error":"#N/A"}},{"$f":"IF(A439=\"\",\"\",VLOOKUP(A439,[1]ItemConfig!$A:$D,4,FALSE))","v":{"$error":"#N/A"}},{"$f":"IF(A439=\"\",\"\",VLOOKUP(A439,[1]ItemConfig!$A:$C,3,FALSE))","v":{"$error":"#N/A"}},{"$f":"IF(A439=\"\",\"\",VLOOKUP(B439,#REF!,5,FALSE))","v":{"$error":"#N/A"}},{"$f":"IF(A439=\"\",\"\",VLOOKUP(C439,#REF!,5,FALSE))","v":{"$error":"#N/A"}}]
[200117,{"$f":"IF(A440=\"\",\"\",VLOOKUP(A440,[1]ItemConfig!$A:$B,2,FALSE))","v":{"$error":"#N/A"}},{"$f":"IF(A440=\"\",\"\",VLOOKUP(A440,[1]ItemConfig!$A:$D,4,FALSE))","v":{"$error":"#N/A"}},{"$f":"IF(A440=\"\",\"\",VLOOKUP(A440,[1]ItemConfig!$A:$C,3,FALSE))","v":{"$error":"#N/A"}},{"$f":"IF(A440=\"\",\"\",VLOOKUP(B440,#REF!,5,FALSE))","v":{"$error":"#N/A"}},{"$f":"IF(A440=\"\",\"\",VLOOKUP(C440,#REF!,5,FALSE))","v":{"$error":"#N/A"}}]
[200118,{"$f":"IF(A441=\"\",\"\",VLOOKUP(A441,[1]ItemConfig!$A:$B,2,FALSE))","v":{"$error":"#N/A"}},{"$f":"IF(A441=\"\",\"\",VLOOKUP(A441,[1]ItemConfig!$A:$D,4,FALSE))","v":{"$error":"#N/A"}},{"$f":"IF(A441=\"\",\"\",VLOOKUP(A441,[1]ItemConfig!$A:$C,3,FALSE))","v":{"$error":"#N/A"}},{"$f":"IF(A441=\"\",\"\",VLOOKUP(B441,#REF!,5,FALSE))","v":{"$error":"#N/A"}},{"$f":"IF(A441=\"\",\"\",VLOOKUP(C441,#REF!,5,FALSE))","v":{"$error":"#N/A"}}]
[200119,{"$f":"IF(A442=\"\",\"\",VLOOKUP(A442,[1]ItemConfig!$A:$B,2,FALSE))","v":{"$error":"#N/A"}},{"$f":"IF(A442=\"\",\"\",VLOOKUP(A442,[1]ItemConfig!$A:$D,4,FALSE))","v":{"$error":"#N/A"}},{"$f":"IF(A442=\"\",\"\",VLOOKUP(A442,[1]ItemConfig!$A:$C,3,FALSE))","v":{"$error":"#N/A"}},{"$f":"IF(A442=\"\",\"\",VLOOKUP(B442,#REF!,5,FALSE))","v":{"$error":"#N/A"}},{"$f":"IF(A442=\"\",\"\",VLOOKUP(C442,#REF!,5,FALSE))","v":{"$error":"#N/A"}}]
[200120,{"$f":"IF(A443=\"\",\"\",VLOOKUP(A443,[1]ItemConfig!$A:$B,2,FALSE))","v":{"$error":"#N/A"}},{"$f":"IF(A443=\"\",\"\",VLOOKUP(A443,[1]ItemConfig!$A:$D,4,FALSE))","v":{"$error":"#N/A"}},{"$f":"IF(A443=\"\",\"\",VLOOKUP(A443,[1]ItemConfig!$A:$C,3,FALSE))","v":{"$error":"#N/A"}},{"$f":"IF(A443=\"\",\"\",VLOOKUP(B443,#REF!,5,FALSE))","v":{"$error":"#N/A"}},{"$f":"IF(A443=\"\",\"\",VLOOKUP(C443,#REF!,5,FALSE))","v":{"$error":"#N/A"}}]
[200121,{"$f":"IF(A444=\"\",\"\",VLOOKUP(A444,[1]ItemConfig!$A:$B,2,FALSE))","v":{"$error":"#N/A"}},{"$f":"IF(A444=\"\",\"\",VLOOKUP(A444,[1]ItemConfig!$A:$D,4,FALSE))","v":{"$error":"#N/A"}},{"$f":"IF(A444=\"\",\"\",VLOOKUP(A444,[1]ItemConfig!$A:$C,3,FALSE))","v":{"$error":"#N/A"}},{"$f":"IF(A444=\"\",\"\",VLOOKUP(B444,#REF!,5,FALSE))","v":{"$error":"#N/A"}},{"$f":"IF(A444=\"\",\"\",VLOOKUP(C444,#REF!,5,FALSE))","v":{"$error":"#N/A"}}]
[200122,{"$f":"IF(A445=\"\",\"\",VLOOKUP(A445,[1]ItemConfig!$A:$B,2,FALSE))","v":{"$error":"#N/A"}},{"$f":"IF(A445=\"\",\"\",VLOOKUP(A445,[1]ItemConfig!$A:$D,4,FALSE))","v":{"$error":"#N/A"}},{"$f":"IF(A445=\"\",\"\",VLOOKUP(A445,[1]ItemConfig!$A:$C,3,FALSE))","v":{"$error":"#N/A"}},{"$f":"IF(A445=\"\",\"\",VLOOKUP(B445,#REF!,5,FALSE))","v":{"$error":"#N/A"}},{"$f":"IF(A445=\"\",\"\",VLOOKUP(C445,#REF!,5,FALSE))","v":{"$error":"#N/A"}}]
[200123,{"$f":"IF(A446=\"\",\"\",VLOOKUP(A446,[1]ItemConfig!$A:$B,2,FALSE))","v":{"$error":"#N/A"}},{"$f":"IF(A446=\"\",\"\",VLOOKUP(A446,[1]ItemConfig!$A:$D,4,FALSE))","v":{"$error":"#N/A"}},{"$f":"IF(A446=\"\",\"\",VLOOKUP(A446,[1]ItemConfig!$A:$C,3,FALSE))","v":{"$error":"#N/A"}},{"$f":"IF(A446=\"\",\"\",VLOOKUP(B446,#REF!,5,FALSE))","v":{"$error":"#N/A"}},{"$f":"IF(A446=\"\",\"\",VLOOKUP(C446,#REF!,5,FALSE))","v":{"$error":"#N/A"}}]
[200124,{"$f":"IF(A447=\"\",\"\",VLOOKUP(A447,[1]ItemConfig!$A:$B,2,FALSE))","v":{"$error":"#N/A"}},{"$f":"IF(A447=\"\",\"\",VLOOKUP(A447,[1]ItemConfig!$A:$D,4,FALSE))","v":{"$error":"#N/A"}},{"$f":"IF(A447=\"\",\"\",VLOOKUP(A447,[1]ItemConfig!$A:$C,3,FALSE))","v":{"$error":"#N/A"}},{"$f":"IF(A447=\"\",\"\",VLOOKUP(B447,#REF!,5,FALSE))","v":{"$error":"#N/A"}},{"$f":"IF(A447=\"\",\"\",VLOOKUP(C447,#REF!,5,FALSE))","v":{"$error":"#N/A"}}]
[200125,{"$f":"IF(A448=\"\",\"\",VLOOKUP(A448,[1]ItemConfig!$A:$B,2,FALSE))","v":{"$error":"#N/A"}},{"$f":"IF(A448=\"\",\"\",VLOOKUP(A448,[1]ItemConfig!$A:$D,4,FALSE))","v":{"$error":"#N/A"}},{"$f":"IF(A448=\"\",\"\",VLOOKUP(A448,[1]ItemConfig!$A:$C,3,FALSE))","v":{"$error":"#N/A"}},{"$f":"IF(A448=\"\",\"\",VLOOKUP(B448,#REF!,5,FALSE))","v":{"$error":"#N/A"}},{"$f":"IF(A448=\"\",\"\",VLOOKUP(C448,#REF!,5,FALSE))","v":{"$error":"#N/A"}}]
[200126,{"$f":"IF(A449=\"\",\"\",VLOOKUP(A449,[1]ItemConfig!$A:$B,2,FALSE))","v":{"$error":"#N/A"}},{"$f":"IF(A449=\"\",\"\",VLOOKUP(A449,[1]ItemConfig!$A:$D,4,FALSE))","v":{"$error":"#N/A"}},{"$f":"IF(A449=\"\",\"\",VLOOKUP(A449,[1]ItemConfig!$A:$C,3,FALSE))","v":{"$error":"#N/A"}},{"$f":"IF(A449=\"\",\"\",VLOOKUP(B449,#REF!,5,FALSE))","v":{"$error":"#N/A"}},{"$f":"IF(A449=\"\",\"\",VLOOKUP(C449,#REF!,5,FALSE))","v":{"$error":"#N/A"}}]
[null,{"$f":"IF(A450=\"\",\"\",VLOOKUP(A450,[1]ItemConfig!$A:$B,2,FALSE))","v":""},{"$f":"IF(A450=\"\",\"\",VLOOKUP(A450,[1]ItemConfig!$A:$D,4,FALSE))","v":""},{"$f":"IF(A450=\"\",\"\",VLOOKUP(A450,[1]ItemConfig!$A:$C,3,FALSE))","v":""},{"$f":"IF(A450=\"\",\"\",VLOOKUP(B450,#REF!,5,FALSE))","v":""},{"$f":"IF(A450=\"\",\"\",VLOOKUP(C450,#REF!,5,FALSE))","v":""}]
[200127,{"$f":"IF(A451=\"\",\"\",VLOOKUP(A451,[1]ItemConfig!$A:$B,2,FALSE))","v":{"$error":"#N/A"}},{"$f":"IF(A451=\"\",\"\",VLOOKUP(A451,[1]ItemConfig!$A:$D,4,FALSE))","v":{"$error":"#N/A"}},{"$f":"IF(A451=\"\",\"\",VLOOKUP(A451,[1]ItemConfig!$A:$C,3,FALSE))","v":{"$error":"#N/A"}},{"$f":"IF(A451=\"\",\"\",VLOOKUP(B451,#REF!,5,FALSE))","v":{"$error":"#N/A"}},{"$f":"IF(A451=\"\",\"\",VLOOKUP(C451,#REF!,5,FALSE))","v":{"$error":"#N/A"}}]
[200128,{"$f":"IF(A452=\"\",\"\",VLOOKUP(A452,[1]ItemConfig!$A:$B,2,FALSE))","v":{"$error":"#N/A"}},{"$f":"IF(A452=\"\",\"\",VLOOKUP(A452,[1]ItemConfig!$A:$D,4,FALSE))","v":{"$error":"#N/A"}},{"$f":"IF(A452=\"\",\"\",VLOOKUP(A452,[1]ItemConfig!$A:$C,3,FALSE))","v":{"$error":"#N/A"}},{"$f":"IF(A452=\"\",\"\",VLOOKUP(B452,#REF!,5,FALSE))","v":{"$error":"#N/A"}},{"$f":"IF(A452=\"\",\"\",VLOOKUP(C452,#REF!,5,FALSE))","v":{"$error":"#N/A"}}]
[200129,{"$f":"IF(A453=\"\",\"\",VLOOKUP(A453,[1]ItemConfig!$A:$B,2,FALSE))","v":{"$error":"#N/A"}},{"$f":"IF(A453=\"\",\"\",VLOOKUP(A453,[1]ItemConfig!$A:$D,4,FALSE))","v":{"$error":"#N/A"}},{"$f":"IF(A453=\"\",\"\",VLOOKUP(A453,[1]ItemConfig!$A:$C,3,FALSE))","v":{"$error":"#N/A"}},{"$f":"IF(A453=\"\",\"\",VLOOKUP(B453,#REF!,5,FALSE))","v":{"$error":"#N/A"}},{"$f":"IF(A453=\"\",\"\",VLOOKUP(C453,#REF!,5,FALSE))","v":{"$error":"#N/A"}}]
[200130,{"$f":"IF(A454=\"\",\"\",VLOOKUP(A454,[1]ItemConfig!$A:$B,2,FALSE))","v":{"$error":"#N/A"}},{"$f":"IF(A454=\"\",\"\",VLOOKUP(A454,[1]ItemConfig!$A:$D,4,FALSE))","v":{"$error":"#N/A"}},{"$f":"IF(A454=\"\",\"\",VLOOKUP(A454,[1]ItemConfig!$A:$C,3,FALSE))","v":{"$error":"#N/A"}},{"$f":"IF(A454=\"\",\"\",VLOOKUP(B454,#REF!,5,FALSE))","v":{"$error":"#N/A"}},{"$f":"IF(A454=\"\",\"\",VLOOKUP(C454,#REF!,5,FALSE))","v":{"$error":"#N/A"}}]
[200131,{"$f":"IF(A455=\"\",\"\",VLOOKUP(A455,[1]ItemConfig!$A:$B,2,FALSE))","v":{"$error":"#N/A"}},{"$f":"IF(A455=\"\",\"\",VLOOKUP(A455,[1]ItemConfig!$A:$D,4,FALSE))","v":{"$error":"#N/A"}},{"$f":"IF(A455=\"\",\"\",VLOOKUP(A455,[1]ItemConfig!$A:$C,3,FALSE))","v":{"$error":"#N/A"}},{"$f":"IF(A455=\"\",\"\",VLOOKUP(B455,#REF!,5,FALSE))","v":{"$error":"#N/A"}},{"$f":"IF(A455=\"\",\"\",VLOOKUP(C455,#REF!,5,FALSE))","v":{"$error":"#N/A"}}]
[200132,{"$f":"IF(A456=\"\",\"\",VLOOKUP(A456,[1]ItemConfig!$A:$B,2,FALSE))","v":{"$error":"#N/A"}},{"$f":"IF(A456=\"\",\"\",VLOOKUP(A456,[1]ItemConfig!$A:$D,4,FALSE))","v":{"$error":"#N/A"}},{"$f":"IF(A456=\"\",\"\",VLOOKUP(A456,[1]ItemConfig!$A:$C,3,FALSE))","v":{"$error":"#N/A"}},{"$f":"IF(A456=\"\",\"\",VLOOKUP(B456,#REF!,5,FALSE))","v":{"$error":"#N/A"}},{"$f":"IF(A456=\"\",\"\",VLOOKUP(C456,#REF!,5,FALSE))","v":{"$error":"#N/A"}}]
[200133,{"$f":"IF(A457=\"\",\"\",VLOOKUP(A457,[1]ItemConfig!$A:$B,2,FALSE))","v":{"$error":"#N/A"}},{"$f":"IF(A457=\"\",\"\",VLOOKUP(A457,[1]ItemConfig!$A:$D,4,FALSE))","v":{"$error":"#N/A"}},{"$f":"IF(A457=\"\",\"\",VLOOKUP(A457,[1]ItemConfig!$A:$C,3,FALSE))","v":{"$error":"#N/A"}},{"$f":"IF(A457=\"\",\"\",VLOOKUP(B457,#REF!,5,FALSE))","v":{"$error":"#N/A"}},{"$f":"IF(A457=\"\",\"\",VLOOKUP(C457,#REF!,5,FALSE))","v":{"$error":"#N/A"}}]
[200134,{"$f":"IF(A458=\"\",\"\",VLOOKUP(A458,[1]ItemConfig!$A:$B,2,FALSE))","v":{"$error":"#N/A"}},{"$f":"IF(A458=\"\",\"\",VLOOKUP(A458,[1]ItemConfig!$A:$D,4,FALSE))","v":{"$error":"#N/A"}},{"$f":"IF(A458=\"\",\"\",VLOOKUP(A458,[1]ItemConfig!$A:$C,3,FALSE))","v":{"$error":"#N/A"}},{"$f":"IF(A458=\"\",\"\",VLOOKUP(B458,#REF!,5,FALSE))","v":{"$error":"#N/A"}},{"$f":"IF(A458=\"\",\"\",VLOOKUP(C458,#REF!,5,FALSE))","v":{"$error":"#N/A"}}]
[200135,{"$f":"IF(A459=\"\",\"\",VLOOKUP(A459,[1]ItemConfig!$A:$B,2,FALSE))","v":{"$error":"#N/A"}},{"$f":"IF(A459=\"\",\"\",VLOOKUP(A459,[1]ItemConfig!$A:$D,4,FALSE))","v":{"$error":"#N/A"}},{"$f":"IF(A459=\"\",\"\",VLOOKUP(A459,[1]ItemConfig!$A:$C,3,FALSE))","v":{"$error":"#N/A"}},{"$f":"IF(A459=\"\",\"\",VLOOKUP(B459,#REF!,5,FALSE))","v":{"$error":"#N/A"}},{"$f":"IF(A459=\"\",\"\",VLOOKUP(C459,#REF!,5,FALSE))","v":{"$error":"#N/A"}}]
[200136,{"$f":"IF(A460=\"\",\"\",VLOOKUP(A460,[1]ItemConfig!$A:$B,2,FALSE))","v":{"$error":"#N/A"}},{"$f":"IF(A460=\"\",\"\",VLOOKUP(A460,[1]ItemConfig!$A:$D,4,FALSE))","v":{"$error":"#N/A"}},{"$f":"IF(A460=\"\",\"\",VLOOKUP(A460,[1]ItemConfig!$A:$C,3,FALSE))","v":{"$error":"#N/A"}},{"$f":"IF(A460=\"\",\"\",VLOOKUP(B460,#REF!,5,FALSE))","v":{"$error":"#N/A"}},{"$f":"IF(A460=\"\",\"\",VLOOKUP(C460,#REF!,5,FALSE))","v":{"$error":"#N/A"}}]
[200137,{"$f":"IF(A461=\"\",\"\",VLOOKUP(A461,[1]ItemConfig!$A:$B,2,FALSE))","v":{"$error":"#N/A"}},{"$f":"IF(A461=\"\",\"\",VLOOKUP(A461,[1]ItemConfig!$A:$D,4,FALSE))","v":{"$error":"#N/A"}},{"$f":"IF(A461=\"\",\"\",VLOOKUP(A461,[1]ItemConfig!$A:$C,3,FALSE))","v":{"$error":"#N/A"}},{"$f":"IF(A461=\"\",\"\",VLOOKUP(B461,#REF!,5,FALSE))","v":{"$error":"#N/A"}},{"$f":"IF(A461=\"\",\"\",VLOOKUP(C461,#REF!,5,FALSE))","v":{"$error":"#N/A"}}]
[200138,{"$f":"IF(A462=\"\",\"\",VLOOKUP(A462,[1]ItemConfig!$A:$B,2,FALSE))","v":{"$error":"#N/A"}},{"$f":"IF(A462=\"\",\"\",VLOOKUP(A462,[1]ItemConfig!$A:$D,4,FALSE))","v":{"$error":"#N/A"}},{"$f":"IF(A462=\"\",\"\",VLOOKUP(A462,[1]ItemConfig!$A:$C,3,FALSE))","v":{"$error":"#N/A"}},{"$f":"IF(A462=\"\",\"\",VLOOKUP(B462,#REF!,5,FALSE))","v":{"$error":"#N/A"}},{"$f":"IF(A462=\"\",\"\",VLOOKUP(C462,#REF!,5,FALSE))","v":{"$error":"#N/A"}}]
[200139,{"$f":"IF(A463=\"\",\"\",VLOOKUP(A463,[1]ItemConfig!$A:$B,2,FALSE))","v":{"$error":"#N/A"}},{"$f":"IF(A463=\"\",\"\",VLOOKUP(A463,[1]ItemConfig!$A:$D,4,FALSE))","v":{"$error":"#N/A"}},{"$f":"IF(A463=\"\",\"\",VLOOKUP(A463,[1]ItemConfig!$A:$C,3,FALSE))","v":{"$error":"#N/A"}},{"$f":"IF(A463=\"\",\"\",VLOOKUP(B463,#REF!,5,FALSE))","v":{"$error":"#N/A"}},{"$f":"IF(A463=\"\",\"\",VLOOKUP(C463,#REF!,5,FALSE))","v":{"$error":"#N/A"}}]
[200140,{"$f":"IF(A464=\"\",\"\",VLOOKUP(A464,[1]ItemConfig!$A:$B,2,FALSE))","v":{"$error":"#N/A"}},{"$f":"IF(A464=\"\",\"\",VLOOKUP(A464,[1]ItemConfig!$A:$D,4,FALSE))","v":{"$error":"#N/A"}},{"$f":"IF(A464=\"\",\"\",VLOOKUP(A464,[1]ItemConfig!$A:$C,3,FALSE))","v":{"$error":"#N/A"}},{"$f":"IF(A464=\"\",\"\",VLOOKUP(B464,#REF!,5,FALSE))","v":{"$error":"#N/A"}},{"$f":"IF(A464=\"\",\"\",VLOOKUP(C464,#REF!,5,FALSE))","v":{"$error":"#N/A"}}]
[200141,{"$f":"IF(A465=\"\",\"\",VLOOKUP(A465,[1]ItemConfig!$A:$B,2,FALSE))","v":{"$error":"#N/A"}},{"$f":"IF(A465=\"\",\"\",VLOOKUP(A465,[1]ItemConfig!$A:$D,4,FALSE))","v":{"$error":"#N/A"}},{"$f":"IF(A465=\"\",\"\",VLOOKUP(A465,[1]ItemConfig!$A:$C,3,FALSE))","v":{"$error":"#N/A"}},{"$f":"IF(A465=\"\",\"\",VLOOKUP(B465,#REF!,5,FALSE))","v":{"$error":"#N/A"}},{"$f":"IF(A465=\"\",\"\",VLOOKUP(C465,#REF!,5,FALSE))","v":{"$error":"#N/A"}}]
[200142,{"$f":"IF(A466=\"\",\"\",VLOOKUP(A466,[1]ItemConfig!$A:$B,2,FALSE))","v":{"$error":"#N/A"}},{"$f":"IF(A466=\"\",\"\",VLOOKUP(A466,[1]ItemConfig!$A:$D,4,FALSE))","v":{"$error":"#N/A"}},{"$f":"IF(A466=\"\",\"\",VLOOKUP(A466,[1]ItemConfig!$A:$C,3,FALSE))","v":{"$error":"#N/A"}},{"$f":"IF(A466=\"\",\"\",VLOOKUP(B466,#REF!,5,FALSE))","v":{"$error":"#N/A"}},{"$f":"IF(A466=\"\",\"\",VLOOKUP(C466,#REF!,5,FALSE))","v":{"$error":"#N/A"}}]
[200143,{"$f":"IF(A467=\"\",\"\",VLOOKUP(A467,[1]ItemConfig!$A:$B,2,FALSE))","v":{"$error":"#N/A"}},{"$f":"IF(A467=\"\",\"\",VLOOKUP(A467,[1]ItemConfig!$A:$D,4,FALSE))","v":{"$error":"#N/A"}},{"$f":"IF(A467=\"\",\"\",VLOOKUP(A467,[1]ItemConfig!$A:$C,3,FALSE))","v":{"$error":"#N/A"}},{"$f":"IF(A467=\"\",\"\",VLOOKUP(B467,#REF!,5,FALSE))","v":{"$error":"#N/A"}},{"$f":"IF(A467=\"\",\"\",VLOOKUP(C467,#REF!,5,FALSE))","v":{"$error":"#N/A"}}]
[200144,{"$f":"IF(A468=\"\",\"\",VLOOKUP(A468,[1]ItemConfig!$A:$B,2,FALSE))","v":{"$error":"#N/A"}},{"$f":"IF(A468=\"\",\"\",VLOOKUP(A468,[1]ItemConfig!$A:$D,4,FALSE))","v":{"$error":"#N/A"}},{"$f":"IF(A468=\"\",\"\",VLOOKUP(A468,[1]ItemConfig!$A:$C,3,FALSE))","v":{"$error":"#N/A"}},{"$f":"IF(A468=\"\",\"\",VLOOKUP(B468,#REF!,5,FALSE))","v":{"$error":"#N/A"}},{"$f":"IF(A468=\"\",\"\",VLOOKUP(C468,#REF!,5,FALSE))","v":{"$error":"#N/A"}}]
[200145,{"$f":"IF(A469=\"\",\"\",VLOOKUP(A469,[1]ItemConfig!$A:$B,2,FALSE))","v":{"$error":"#N/A"}},{"$f":"IF(A469=\"\",\"\",VLOOKUP(A469,[1]ItemConfig!$A:$D,4,FALSE))","v":{"$error":"#N/A"}},{"$f":"IF(A469=\"\",\"\",VLOOKUP(A469,[1]ItemConfig!$A:$C,3,FALSE))","v":{"$error":"#N/A"}},{"$f":"IF(A469=\"\",\"\",VLOOKUP(B469,#REF!,5,FALSE))","v":{"$error":"#N/A"}},{"$f":"IF(A469=\"\",\"\",VLOOKUP(C469,#REF!,5,FALSE))","v":{"$error":"#N/A"}}]
[200146,{"$f":"IF(A470=\"\",\"\",VLOOKUP(A470,[1]ItemConfig!$A:$B,2,FALSE))","v":{"$error":"#N/A"}},{"$f":"IF(A470=\"\",\"\",VLOOKUP(A470,[1]ItemConfig!$A:$D,4,FALSE))","v":{"$error":"#N/A"}},{"$f":"IF(A470=\"\",\"\",VLOOKUP(A470,[1]ItemConfig!$A:$C,3,FALSE))","v":{"$error":"#N/A"}},{"$f":"IF(A470=\"\",\"\",VLOOKUP(B470,#REF!,5,FALSE))","v":{"$error":"#N/A"}},{"$f":"IF(A470=\"\",\"\",VLOOKUP(C470,#REF!,5,FALSE))","v":{"$error":"#N/A"}}]
[200147,{"$f":"IF(A471=\"\",\"\",VLOOKUP(A471,[1]ItemConfig!$A:$B,2,FALSE))","v":{"$error":"#N/A"}},{"$f":"IF(A471=\"\",\"\",VLOOKUP(A471,[1]ItemConfig!$A:$D,4,FALSE))","v":{"$error":"#N/A"}},{"$f":"IF(A471=\"\",\"\",VLOOKUP(A471,[1]ItemConfig!$A:$C,3,FALSE))","v":{"$error":"#N/A"}},{"$f":"IF(A471=\"\",\"\",VLOOKUP(B471,#REF!,5,FALSE))","v":{"$error":"#N/A"}},{"$f":"IF(A471=\"\",\"\",VLOOKUP(C471,#REF!,5,FALSE))","v":{"$error":"#N/A"}}]
[200148,{"$f":"IF(A472=\"\",\"\",VLOOKUP(A472,[1]ItemConfig!$A:$B,2,FALSE))","v":{"$error":"#N/A"}},{"$f":"IF(A472=\"\",\"\",VLOOKUP(A472,[1]ItemConfig!$A:$D,4,FALSE))","v":{"$error":"#N/A"}},{"$f":"IF(A472=\"\",\"\",VLOOKUP(A472,[1]ItemConfig!$A:$C,3,FALSE))","v":{"$error":"#N/A"}},{"$f":"IF(A472=\"\",\"\",VLOOKUP(B472,#REF!,5,FALSE))","v":{"$error":"#N/A"}},{"$f":"IF(A472=\"\",\"\",VLOOKUP(C472,#REF!,5,FALSE))","v":{"$error":"#N/A"}}]
[200149,{"$f":"IF(A473=\"\",\"\",VLOOKUP(A473,[1]ItemConfig!$A:$B,2,FALSE))","v":{"$error":"#N/A"}},{"$f":"IF(A473=\"\",\"\",VLOOKUP(A473,[1]ItemConfig!$A:$D,4,FALSE))","v":{"$error":"#N/A"}},{"$f":"IF(A473=\"\",\"\",VLOOKUP(A473,[1]ItemConfig!$A:$C,3,FALSE))","v":{"$error":"#N/A"}},{"$f":"IF(A473=\"\",\"\",VLOOKUP(B473,#REF!,5,FALSE))","v":{"$error":"#N/A"}},{"$f":"IF(A473=\"\",\"\",VLOOKUP(C473,#REF!,5,FALSE))","v":{"$error":"#N/A"}}]
[200150,{"$f":"IF(A474=\"\",\"\",VLOOKUP(A474,[1]ItemConfig!$A:$B,2,FALSE))","v":{"$error":"#N/A"}},{"$f":"IF(A474=\"\",\"\",VLOOKUP(A474,[1]ItemConfig!$A:$D,4,FALSE))","v":{"$error":"#N/A"}},{"$f":"IF(A474=\"\",\"\",VLOOKUP(A474,[1]ItemConfig!$A:$C,3,FALSE))","v":{"$error":"#N/A"}},{"$f":"IF(A474=\"\",\"\",VLOOKUP(B474,#REF!,5,FALSE))","v":{"$error":"#N/A"}},{"$f":"IF(A474=\"\",\"\",VLOOKUP(C474,#REF!,5,FALSE))","v":{"$error":"#N/A"}}]
[200151,{"$f":"IF(A475=\"\",\"\",VLOOKUP(A475,[1]ItemConfig!$A:$B,2,FALSE))","v":{"$error":"#N/A"}},{"$f":"IF(A475=\"\",\"\",VLOOKUP(A475,[1]ItemConfig!$A:$D,4,FALSE))","v":{"$error":"#N/A"}},{"$f":"IF(A475=\"\",\"\",VLOOKUP(A475,[1]ItemConfig!$A:$C,3,FALSE))","v":{"$error":"#N/A"}},{"$f":"IF(A475=\"\",\"\",VLOOKUP(B475,#REF!,5,FALSE))","v":{"$error":"#N/A"}},{"$f":"IF(A475=\"\",\"\",VLOOKUP(C475,#REF!,5,FALSE))","v":{"$error":"#N/A"}}]
[200152,{"$f":"IF(A476=\"\",\"\",VLOOKUP(A476,[1]ItemConfig!$A:$B,2,FALSE))","v":{"$error":"#N/A"}},{"$f":"IF(A476=\"\",\"\",VLOOKUP(A476,[1]ItemConfig!$A:$D,4,FALSE))","v":{"$error":"#N/A"}},{"$f":"IF(A476=\"\",\"\",VLOOKUP(A476,[1]ItemConfig!$A:$C,3,FALSE))","v":{"$error":"#N/A"}},{"$f":"IF(A476=\"\",\"\",VLOOKUP(B476,#REF!,5,FALSE))","v":{"$error":"#N/A"}},{"$f":"IF(A476=\"\",\"\",VLOOKUP(C476,#REF!,5,FALSE))","v":{"$error":"#N/A"}}]
[200153,{"$f":"IF(A477=\"\",\"\",VLOOKUP(A477,[1]ItemConfig!$A:$B,2,FALSE))","v":{"$error":"#N/A"}},{"$f":"IF(A477=\"\",\"\",VLOOKUP(A477,[1]ItemConfig!$A:$D,4,FALSE))","v":{"$error":"#N/A"}},{"$f":"IF(A477=\"\",\"\",VLOOKUP(A477,[1]ItemConfig!$A:$C,3,FALSE))","v":{"$error":"#N/A"}},{"$f":"IF(A477=\"\",\"\",VLOOKUP(B477,#REF!,5,FALSE))","v":{"$error":"#N/A"}},{"$f":"IF(A477=\"\",\"\",VLOOKUP(C477,#REF!,5,FALSE))","v":{"$error":"#N/A"}}]
[200154,{"$f":"IF(A478=\"\",\"\",VLOOKUP(A478,[1]ItemConfig!$A:$B,2,FALSE))","v":{"$error":"#N/A"}},{"$f":"IF(A478=\"\",\"\",VLOOKUP(A478,[1]ItemConfig!$A:$D,4,FALSE))","v":{"$error":"#N/A"}},{"$f":"IF(A478=\"\",\"\",VLOOKUP(A478,[1]ItemConfig!$A:$C,3,FALSE))","v":{"$error":"#N/A"}},{"$f":"IF(A478=\"\",\"\",VLOOKUP(B478,#REF!,5,FALSE))","v":{"$error":"#N/A"}},{"$f":"IF(A478=\"\",\"\",VLOOKUP(C478,#REF!,5,FALSE))","v":{"$error":"#N/A"}}]
[null,{"$f":"IF(A479=\"\",\"\",VLOOKUP(A479,[1]ItemConfig!$A:$B,2,FALSE))","v":""},{"$f":"IF(A479=\"\",\"\",VLOOKUP(A479,[1]ItemConfig!$A:$D,4,FALSE))","v":""},{"$f":"IF(A479=\"\",\"\",VLOOKUP(A479,[1]ItemConfig!$A:$C,3,FALSE))","v":""},{"$f":"IF(A479=\"\",\"\",VLOOKUP(B479,#REF!,5,FALSE))","v":""},{"$f":"IF(A479=\"\",\"\",VLOOKUP(C479,#REF!,5,FALSE))","v":""}]
[200155,{"$f":"IF(A480=\"\",\"\",VLOOKUP(A480,[1]ItemConfig!$A:$B,2,FALSE))","v":{"$error":"#N/A"}},{"$f":"IF(A480=\"\",\"\",VLOOKUP(A480,[1]ItemConfig!$A:$D,4,FALSE))","v":{"$error":"#N/A"}},{"$f":"IF(A480=\"\",\"\",VLOOKUP(A480,[1]ItemConfig!$A:$C,3,FALSE))","v":{"$error":"#N/A"}},{"$f":"IF(A480=\"\",\"\",VLOOKUP(B480,#REF!,5,FALSE))","v":{"$error":"#N/A"}},{"$f":"IF(A480=\"\",\"\",VLOOKUP(C480,#REF!,5,FALSE))","v":{"$error":"#N/A"}}]
[200156,{"$f":"IF(A481=\"\",\"\",VLOOKUP(A481,[1]ItemConfig!$A:$B,2,FALSE))","v":{"$error":"#N/A"}},{"$f":"IF(A481=\"\",\"\",VLOOKUP(A481,[1]ItemConfig!$A:$D,4,FALSE))","v":{"$error":"#N/A"}},{"$f":"IF(A481=\"\",\"\",VLOOKUP(A481,[1]ItemConfig!$A:$C,3,FALSE))","v":{"$error":"#N/A"}},{"$f":"IF(A481=\"\",\"\",VLOOKUP(B481,#REF!,5,FALSE))","v":{"$error":"#N/A"}},{"$f":"IF(A481=\"\",\"\",VLOOKUP(C481,#REF!,5,FALSE))","v":{"$error":"#N/A"}}]
[200157,{"$f":"IF(A482=\"\",\"\",VLOOKUP(A482,[1]ItemConfig!$A:$B,2,FALSE))","v":{"$error":"#N/A"}},{"$f":"IF(A482=\"\",\"\",VLOOKUP(A482,[1]ItemConfig!$A:$D,4,FALSE))","v":{"$error":"#N/A"}},{"$f":"IF(A482=\"\",\"\",VLOOKUP(A482,[1]ItemConfig!$A:$C,3,FALSE))","v":{"$error":"#N/A"}},{"$f":"IF(A482=\"\",\"\",VLOOKUP(B482,#REF!,5,FALSE))","v":{"$error":"#N/A"}},{"$f":"IF(A482=\"\",\"\",VLOOKUP(C482,#REF!,5,FALSE))","v":{"$error":"#N/A"}}]
[200158,{"$f":"IF(A483=\"\",\"\",VLOOKUP(A483,[1]ItemConfig!$A:$B,2,FALSE))","v":{"$error":"#N/A"}},{"$f":"IF(A483=\"\",\"\",VLOOKUP(A483,[1]ItemConfig!$A:$D,4,FALSE))","v":{"$error":"#N/A"}},{"$f":"IF(A483=\"\",\"\",VLOOKUP(A483,[1]ItemConfig!$A:$C,3,FALSE))","v":{"$error":"#N/A"}},{"$f":"IF(A483=\"\",\"\",VLOOKUP(B483,#REF!,5,FALSE))","v":{"$error":"#N/A"}},{"$f":"IF(A483=\"\",\"\",VLOOKUP(C483,#REF!,5,FALSE))","v":{"$error":"#N/A"}}]
[200159,{"$f":"IF(A484=\"\",\"\",VLOOKUP(A484,[1]ItemConfig!$A:$B,2,FALSE))","v":{"$error":"#N/A"}},{"$f":"IF(A484=\"\",\"\",VLOOKUP(A484,[1]ItemConfig!$A:$D,4,FALSE))","v":{"$error":"#N/A"}},{"$f":"IF(A484=\"\",\"\",VLOOKUP(A484,[1]ItemConfig!$A:$C,3,FALSE))","v":{"$error":"#N/A"}},{"$f":"IF(A484=\"\",\"\",VLOOKUP(B484,#REF!,5,FALSE))","v":{"$error":"#N/A"}},{"$f":"IF(A484=\"\",\"\",VLOOKUP(C484,#REF!,5,FALSE))","v":{"$error":"#N/A"}}]
[200160,{"$f":"IF(A485=\"\",\"\",VLOOKUP(A485,[1]ItemConfig!$A:$B,2,FALSE))","v":{"$error":"#N/A"}},{"$f":"IF(A485=\"\",\"\",VLOOKUP(A485,[1]ItemConfig!$A:$D,4,FALSE))","v":{"$error":"#N/A"}},{"$f":"IF(A485=\"\",\"\",VLOOKUP(A485,[1]ItemConfig!$A:$C,3,FALSE))","v":{"$error":"#N/A"}},{"$f":"IF(A485=\"\",\"\",VLOOKUP(B485,#REF!,5,FALSE))","v":{"$error":"#N/A"}},{"$f":"IF(A485=\"\",\"\",VLOOKUP(C485,#REF!,5,FALSE))","v":{"$error":"#N/A"}}]
[200161,{"$f":"IF(A486=\"\",\"\",VLOOKUP(A486,[1]ItemConfig!$A:$B,2,FALSE))","v":{"$error":"#N/A"}},{"$f":"IF(A486=\"\",\"\",VLOOKUP(A486,[1]ItemConfig!$A:$D,4,FALSE))","v":{"$error":"#N/A"}},{"$f":"IF(A486=\"\",\"\",VLOOKUP(A486,[1]ItemConfig!$A:$C,3,FALSE))","v":{"$error":"#N/A"}},{"$f":"IF(A486=\"\",\"\",VLOOKUP(B486,#REF!,5,FALSE))","v":{"$error":"#N/A"}},{"$f":"IF(A486=\"\",\"\",VLOOKUP(C486,#REF!,5,FALSE))","v":{"$error":"#N/A"}}]
[200162,{"$f":"IF(A487=\"\",\"\",VLOOKUP(A487,[1]ItemConfig!$A:$B,2,FALSE))","v":{"$error":"#N/A"}},{"$f":"IF(A487=\"\",\"\",VLOOKUP(A487,[1]ItemConfig!$A:$D,4,FALSE))","v":{"$error":"#N/A"}},{"$f":"IF(A487=\"\",\"\",VLOOKUP(A487,[1]ItemConfig!$A:$C,3,FALSE))","v":{"$error":"#N/A"}},{"$f":"IF(A487=\"\",\"\",VLOOKUP(B487,#REF!,5,FALSE))","v":{"$error":"#N/A"}},{"$f":"IF(A487=\"\",\"\",VLOOKUP(C487,#REF!,5,FALSE))","v":{"$error":"#N/A"}}]
[200163,{"$f":"IF(A488=\"\",\"\",VLOOKUP(A488,[1]ItemConfig!$A:$B,2,FALSE))","v":{"$error":"#N/A"}},{"$f":"IF(A488=\"\",\"\",VLOOKUP(A488,[1]ItemConfig!$A:$D,4,FALSE))","v":{"$error":"#N/A"}},{"$f":"IF(A488=\"\",\"\",VLOOKUP(A488,[1]ItemConfig!$A:$C,3,FALSE))","v":{"$error":"#N/A"}},{"$f":"IF(A488=\"\",\"\",VLOOKUP(B488,#REF!,5,FALSE))","v":{"$error":"#N/A"}},{"$f":"IF(A488=\"\",\"\",VLOOKUP(C488,#REF!,5,FALSE))","v":{"$error":"#N/A"}}]
[200164,{"$f":"IF(A489=\"\",\"\",VLOOKUP(A489,[1]ItemConfig!$A:$B,2,FALSE))","v":{"$error":"#N/A"}},{"$f":"IF(A489=\"\",\"\",VLOOKUP(A489,[1]ItemConfig!$A:$D,4,FALSE))","v":{"$error":"#N/A"}},{"$f":"IF(A489=\"\",\"\",VLOOKUP(A489,[1]ItemConfig!$A:$C,3,FALSE))","v":{"$error":"#N/A"}},{"$f":"IF(A489=\"\",\"\",VLOOKUP(B489,#REF!,5,FALSE))","v":{"$error":"#N/A"}},{"$f":"IF(A489=\"\",\"\",VLOOKUP(C489,#REF!,5,FALSE))","v":{"$error":"#N/A"}}]
[200165,{"$f":"IF(A490=\"\",\"\",VLOOKUP(A490,[1]ItemConfig!$A:$B,2,FALSE))","v":{"$error":"#N/A"}},{"$f":"IF(A490=\"\",\"\",VLOOKUP(A490,[1]ItemConfig!$A:$D,4,FALSE))","v":{"$error":"#N/A"}},{"$f":"IF(A490=\"\",\"\",VLOOKUP(A490,[1]ItemConfig!$A:$C,3,FALSE))","v":{"$error":"#N/A"}},{"$f":"IF(A490=\"\",\"\",VLOOKUP(B490,#REF!,5,FALSE))","v":{"$error":"#N/A"}},{"$f":"IF(A490=\"\",\"\",VLOOKUP(C490,#REF!,5,FALSE))","v":{"$error":"#N/A"}}]
[200166,{"$f":"IF(A491=\"\",\"\",VLOOKUP(A491,[1]ItemConfig!$A:$B,2,FALSE))","v":{"$error":"#N/A"}},{"$f":"IF(A491=\"\",\"\",VLOOKUP(A491,[1]ItemConfig!$A:$D,4,FALSE))","v":{"$error":"#N/A"}},{"$f":"IF(A491=\"\",\"\",VLOOKUP(A491,[1]ItemConfig!$A:$C,3,FALSE))","v":{"$error":"#N/A"}},{"$f":"IF(A491=\"\",\"\",VLOOKUP(B491,#REF!,5,FALSE))","v":{"$error":"#N/A"}},{"$f":"IF(A491=\"\",\"\",VLOOKUP(C491,#REF!,5,FALSE))","v":{"$error":"#N/A"}}]
[200167,{"$f":"IF(A492=\"\",\"\",VLOOKUP(A492,[1]ItemConfig!$A:$B,2,FALSE))","v":{"$error":"#N/A"}},{"$f":"IF(A492=\"\",\"\",VLOOKUP(A492,[1]ItemConfig!$A:$D,4,FALSE))","v":{"$error":"#N/A"}},{"$f":"IF(A492=\"\",\"\",VLOOKUP(A492,[1]ItemConfig!$A:$C,3,FALSE))","v":{"$error":"#N/A"}},{"$f":"IF(A492=\"\",\"\",VLOOKUP(B492,#REF!,5,FALSE))","v":{"$error":"#N/A"}},{"$f":"IF(A492=\"\",\"\",VLOOKUP(C492,#REF!,5,FALSE))","v":{"$error":"#N/A"}}]
[200168,{"$f":"IF(A493=\"\",\"\",VLOOKUP(A493,[1]ItemConfig!$A:$B,2,FALSE))","v":{"$error":"#N/A"}},{"$f":"IF(A493=\"\",\"\",VLOOKUP(A493,[1]ItemConfig!$A:$D,4,FALSE))","v":{"$error":"#N/A"}},{"$f":"IF(A493=\"\",\"\",VLOOKUP(A493,[1]ItemConfig!$A:$C,3,FALSE))","v":{"$error":"#N/A"}},{"$f":"IF(A493=\"\",\"\",VLOOKUP(B493,#REF!,5,FALSE))","v":{"$error":"#N/A"}},{"$f":"IF(A493=\"\",\"\",VLOOKUP(C493,#REF!,5,FALSE))","v":{"$error":"#N/A"}}]
[200169,{"$f":"IF(A494=\"\",\"\",VLOOKUP(A494,[1]ItemConfig!$A:$B,2,FALSE))","v":{"$error":"#N/A"}},{"$f":"IF(A494=\"\",\"\",VLOOKUP(A494,[1]ItemConfig!$A:$D,4,FALSE))","v":{"$error":"#N/A"}},{"$f":"IF(A494=\"\",\"\",VLOOKUP(A494,[1]ItemConfig!$A:$C,3,FALSE))","v":{"$error":"#N/A"}},{"$f":"IF(A494=\"\",\"\",VLOOKUP(B494,#REF!,5,FALSE))","v":{"$error":"#N/A"}},{"$f":"IF(A494=\"\",\"\",VLOOKUP(C494,#REF!,5,FALSE))","v":{"$error":"#N/A"}}]
[200170,{"$f":"IF(A495=\"\",\"\",VLOOKUP(A495,[1]ItemConfig!$A:$B,2,FALSE))","v":{"$error":"#N/A"}},{"$f":"IF(A495=\"\",\"\",VLOOKUP(A495,[1]ItemConfig!$A:$D,4,FALSE))","v":{"$error":"#N/A"}},{"$f":"IF(A495=\"\",\"\",VLOOKUP(A495,[1]ItemConfig!$A:$C,3,FALSE))","v":{"$error":"#N/A"}},{"$f":"IF(A495=\"\",\"\",VLOOKUP(B495,#REF!,5,FALSE))","v":{"$error":"#N/A"}},{"$f":"IF(A495=\"\",\"\",VLOOKUP(C495,#REF!,5,FALSE))","v":{"$error":"#N/A"}}]
[200171,{"$f":"IF(A496=\"\",\"\",VLOOKUP(A496,[1]ItemConfig!$A:$B,2,FALSE))","v":{"$error":"#N/A"}},{"$f":"IF(A496=\"\",\"\",VLOOKUP(A496,[1]ItemConfig!$A:$D,4,FALSE))","v":{"$error":"#N/A"}},{"$f":"IF(A496=\"\",\"\",VLOOKUP(A496,[1]ItemConfig!$A:$C,3,FALSE))","v":{"$error":"#N/A"}},{"$f":"IF(A496=\"\",\"\",VLOOKUP(B496,#REF!,5,FALSE))","v":{"$error":"#N/A"}},{"$f":"IF(A496=\"\",\"\",VLOOKUP(C496,#REF!,5,FALSE))","v":{"$error":"#N/A"}}]
[200172,{"$f":"IF(A497=\"\",\"\",VLOOKUP(A497,[1]ItemConfig!$A:$B,2,FALSE))","v":{"$error":"#N/A"}},{"$f":"IF(A497=\"\",\"\",VLOOKUP(A497,[1]ItemConfig!$A:$D,4,FALSE))","v":{"$error":"#N/A"}},{"$f":"IF(A497=\"\",\"\",VLOOKUP(A497,[1]ItemConfig!$A:$C,3,FALSE))","v":{"$error":"#N/A"}},{"$f":"IF(A497=\"\",\"\",VLOOKUP(B497,#REF!,5,FALSE))","v":{"$error":"#N/A"}},{"$f":"IF(A497=\"\",\"\",VLOOKUP(C497,#REF!,5,FALSE))","v":{"$error":"#N/A"}}]
[200173,{"$f":"IF(A498=\"\",\"\",VLOOKUP(A498,[1]ItemConfig!$A:$B,2,FALSE))","v":{"$error":"#N/A"}},{"$f":"IF(A498=\"\",\"\",VLOOKUP(A498,[1]ItemConfig!$A:$D,4,FALSE))","v":{"$error":"#N/A"}},{"$f":"IF(A498=\"\",\"\",VLOOKUP(A498,[1]ItemConfig!$A:$C,3,FALSE))","v":{"$error":"#N/A"}},{"$f":"IF(A498=\"\",\"\",VLOOKUP(B498,#REF!,5,FALSE))","v":{"$error":"#N/A"}},{"$f":"IF(A498=\"\",\"\",VLOOKUP(C498,#REF!,5,FALSE))","v":{"$error":"#N/A"}}]
[200174,{"$f":"IF(A499=\"\",\"\",VLOOKUP(A499,[1]ItemConfig!$A:$B,2,FALSE))","v":{"$error":"#N/A"}},{"$f":"IF(A499=\"\",\"\",VLOOKUP(A499,[1]ItemConfig!$A:$D,4,FALSE))","v":{"$error":"#N/A"}},{"$f":"IF(A499=\"\",\"\",VLOOKUP(A499,[1]ItemConfig!$A:$C,3,FALSE))","v":{"$error":"#N/A"}},{"$f":"IF(A499=\"\",\"\",VLOOKUP(B499,#REF!,5,FALSE))","v":{"$error":"#N/A"}},{"$f":"IF(A499=\"\",\"\",VLOOKUP(C499,#REF!,5,FALSE))","v":{"$error":"#N/A"}}]
[200175,{"$f":"IF(A500=\"\",\"\",VLOOKUP(A500,[1]ItemConfig!$A:$B,2,FALSE))","v":{"$error":"#N/A"}},{"$f":"IF(A500=\"\",\"\",VLOOKUP(A500,[1]ItemConfig!$A:$D,4,FALSE))","v":{"$error":"#N/A"}},{"$f":"IF(A500=\"\",\"\",VLOOKUP(A500,[1]ItemConfig!$A:$C,3,FALSE))","v":{"$error":"#N/A"}},{"$f":"IF(A500=\"\",\"\",VLOOKUP(B500,#REF!,5,FALSE))","v":{"$error":"#N/A"}},{"$f":"IF(A500=\"\",\"\",VLOOKUP(C500,#REF!,5,FALSE))","v":{"$error":"#N/A"}}]
[200176,{"$f":"IF(A501=\"\",\"\",VLOOKUP(A501,[1]ItemConfig!$A:$B,2,FALSE))","v":{"$error":"#N/A"}},{"$f":"IF(A501=\"\",\"\",VLOOKUP(A501,[1]ItemConfig!$A:$D,4,FALSE))","v":{"$error":"#N/A"}},{"$f":"IF(A501=\"\",\"\",VLOOKUP(A501,[1]ItemConfig!$A:$C,3,FALSE))","v":{"$error":"#N/A"}},{"$f":"IF(A501=\"\",\"\",VLOOKUP(B501,#REF!,5,FALSE))","v":{"$error":"#N/A"}},{"$f":"IF(A501=\"\",\"\",VLOOKUP(C501,#REF!,5,FALSE))","v":{"$error":"#N/A"}}]
[200177,{"$f":"IF(A502=\"\",\"\",VLOOKUP(A502,[1]ItemConfig!$A:$B,2,FALSE))","v":{"$error":"#N/A"}},{"$f":"IF(A502=\"\",\"\",VLOOKUP(A502,[1]ItemConfig!$A:$D,4,FALSE))","v":{"$error":"#N/A"}},{"$f":"IF(A502=\"\",\"\",VLOOKUP(A502,[1]ItemConfig!$A:$C,3,FALSE))","v":{"$error":"#N/A"}},{"$f":"IF(A502=\"\",\"\",VLOOKUP(B502,#REF!,5,FALSE))","v":{"$error":"#N/A"}},{"$f":"IF(A502=\"\",\"\",VLOOKUP(C502,#REF!,5,FALSE))","v":{"$error":"#N/A"}}]
[200178,{"$f":"IF(A503=\"\",\"\",VLOOKUP(A503,[1]ItemConfig!$A:$B,2,FALSE))","v":{"$error":"#N/A"}},{"$f":"IF(A503=\"\",\"\",VLOOKUP(A503,[1]ItemConfig!$A:$D,4,FALSE))","v":{"$error":"#N/A"}},{"$f":"IF(A503=\"\",\"\",VLOOKUP(A503,[1]ItemConfig!$A:$C,3,FALSE))","v":{"$error":"#N/A"}},{"$f":"IF(A503=\"\",\"\",VLOOKUP(B503,#REF!,5,FALSE))","v":{"$error":"#N/A"}},{"$f":"IF(A503=\"\",\"\",VLOOKUP(C503,#REF!,5,FALSE))","v":{"$error":"#N/A"}}]
[200179,{"$f":"IF(A504=\"\",\"\",VLOOKUP(A504,[1]ItemConfig!$A:$B,2,FALSE))","v":{"$error":"#N/A"}},{"$f":"IF(A504=\"\",\"\",VLOOKUP(A504,[1]ItemConfig!$A:$D,4,FALSE))","v":{"$error":"#N/A"}},{"$f":"IF(A504=\"\",\"\",VLOOKUP(A504,[1]ItemConfig!$A:$C,3,FALSE))","v":{"$error":"#N/A"}},{"$f":"IF(A504=\"\",\"\",VLOOKUP(B504,#REF!,5,FALSE))","v":{"$error":"#N/A"}},{"$f":"IF(A504=\"\",\"\",VLOOKUP(C504,#REF!,5,FALSE))","v":{"$error":"#N/A"}}]
[200180,{"$f":"IF(A505=\"\",\"\",VLOOKUP(A505,[1]ItemConfig!$A:$B,2,FALSE))","v":{"$error":"#N/A"}},{"$f":"IF(A505=\"\",\"\",VLOOKUP(A505,[1]ItemConfig!$A:$D,4,FALSE))","v":{"$error":"#N/A"}},{"$f":"IF(A505=\"\",\"\",VLOOKUP(A505,[1]ItemConfig!$A:$C,3,FALSE))","v":{"$error":"#N/A"}},{"$f":"IF(A505=\"\",\"\",VLOOKUP(B505,#REF!,5,FALSE))","v":{"$error":"#N/A"}},{"$f":"IF(A505=\"\",\"\",VLOOKUP(C505,#REF!,5,FALSE))","v":{"$error":"#N/A"}}]
[200181,{"$f":"IF(A506=\"\",\"\",VLOOKUP(A506,[1]ItemConfig!$A:$B,2,FALSE))","v":{"$error":"#N/A"}},{"$f":"IF(A506=\"\",\"\",VLOOKUP(A506,[1]ItemConfig!$A:$D,4,FALSE))","v":{"$error":"#N/A"}},{"$f":"IF(A506=\"\",\"\",VLOOKUP(A506,[1]ItemConfig!$A:$C,3,FALSE))","v":{"$error":"#N/A"}},{"$f":"IF(A506=\"\",\"\",VLOOKUP(B506,#REF!,5,FALSE))","v":{"$error":"#N/A"}},{"$f":"IF(A506=\"\",\"\",VLOOKUP(C506,#REF!,5,FALSE))","v":{"$error":"#N/A"}}]
[200182,{"$f":"IF(A507=\"\",\"\",VLOOKUP(A507,[1]ItemConfig!$A:$B,2,FALSE))","v":{"$error":"#N/A"}},{"$f":"IF(A507=\"\",\"\",VLOOKUP(A507,[1]ItemConfig!$A:$D,4,FALSE))","v":{"$error":"#N/A"}},{"$f":"IF(A507=\"\",\"\",VLOOKUP(A507,[1]ItemConfig!$A:$C,3,FALSE))","v":{"$error":"#N/A"}},{"$f":"IF(A507=\"\",\"\",VLOOKUP(B507,#REF!,5,FALSE))","v":{"$error":"#N/A"}},{"$f":"IF(A507=\"\",\"\",VLOOKUP(C507,#REF!,5,FALSE))","v":{"$error":"#N/A"}}]
[null,{"$f":"IF(A508=\"\",\"\",VLOOKUP(A508,[1]ItemConfig!$A:$B,2,FALSE))","v":""},{"$f":"IF(A508=\"\",\"\",VLOOKUP(A508,[1]ItemConfig!$A:$D,4,FALSE))","v":""},{"$f":"IF(A508=\"\",\"\",VLOOKUP(A508,[1]ItemConfig!$A:$C,3,FALSE))","v":""},{"$f":"IF(A508=\"\",\"\",VLOOKUP(B508,#REF!,5,FALSE))","v":""},{"$f":"IF(A508=\"\",\"\",VLOOKUP(C508,#REF!,5,FALSE))","v":""}]
[200183,{"$f":"IF(A509=\"\",\"\",VLOOKUP(A509,[1]ItemConfig!$A:$B,2,FALSE))","v":{"$error":"#N/A"}},{"$f":"IF(A509=\"\",\"\",VLOOKUP(A509,[1]ItemConfig!$A:$D,4,FALSE))","v":{"$error":"#N/A"}},{"$f":"IF(A509=\"\",\"\",VLOOKUP(A509,[1]ItemConfig!$A:$C,3,FALSE))","v":{"$error":"#N/A"}},{"$f":"IF(A509=\"\",\"\",VLOOKUP(B509,#REF!,5,FALSE))","v":{"$error":"#N/A"}},{"$f":"IF(A509=\"\",\"\",VLOOKUP(C509,#REF!,5,FALSE))","v":{"$error":"#N/A"}}]
[200184,{"$f":"IF(A510=\"\",\"\",VLOOKUP(A510,[1]ItemConfig!$A:$B,2,FALSE))","v":{"$error":"#N/A"}},{"$f":"IF(A510=\"\",\"\",VLOOKUP(A510,[1]ItemConfig!$A:$D,4,FALSE))","v":{"$error":"#N/A"}},{"$f":"IF(A510=\"\",\"\",VLOOKUP(A510,[1]ItemConfig!$A:$C,3,FALSE))","v":{"$error":"#N/A"}},{"$f":"IF(A510=\"\",\"\",VLOOKUP(B510,#REF!,5,FALSE))","v":{"$error":"#N/A"}},{"$f":"IF(A510=\"\",\"\",VLOOKUP(C510,#REF!,5,FALSE))","v":{"$error":"#N/A"}}]
[200185,{"$f":"IF(A511=\"\",\"\",VLOOKUP(A511,[1]ItemConfig!$A:$B,2,FALSE))","v":{"$error":"#N/A"}},{"$f":"IF(A511=\"\",\"\",VLOOKUP(A511,[1]ItemConfig!$A:$D,4,FALSE))","v":{"$error":"#N/A"}},{"$f":"IF(A511=\"\",\"\",VLOOKUP(A511,[1]ItemConfig!$A:$C,3,FALSE))","v":{"$error":"#N/A"}},{"$f":"IF(A511=\"\",\"\",VLOOKUP(B511,#REF!,5,FALSE))","v":{"$error":"#N/A"}},{"$f":"IF(A511=\"\",\"\",VLOOKUP(C511,#REF!,5,FALSE))","v":{"$error":"#N/A"}}]
[200186,{"$f":"IF(A512=\"\",\"\",VLOOKUP(A512,[1]ItemConfig!$A:$B,2,FALSE))","v":{"$error":"#N/A"}},{"$f":"IF(A512=\"\",\"\",VLOOKUP(A512,[1]ItemConfig!$A:$D,4,FALSE))","v":{"$error":"#N/A"}},{"$f":"IF(A512=\"\",\"\",VLOOKUP(A512,[1]ItemConfig!$A:$C,3,FALSE))","v":{"$error":"#N/A"}},{"$f":"IF(A512=\"\",\"\",VLOOKUP(B512,#REF!,5,FALSE))","v":{"$error":"#N/A"}},{"$f":"IF(A512=\"\",\"\",VLOOKUP(C512,#REF!,5,FALSE))","v":{"$error":"#N/A"}}]
[200187,{"$f":"IF(A513=\"\",\"\",VLOOKUP(A513,[1]ItemConfig!$A:$B,2,FALSE))","v":{"$error":"#N/A"}},{"$f":"IF(A513=\"\",\"\",VLOOKUP(A513,[1]ItemConfig!$A:$D,4,FALSE))","v":{"$error":"#N/A"}},{"$f":"IF(A513=\"\",\"\",VLOOKUP(A513,[1]ItemConfig!$A:$C,3,FALSE))","v":{"$error":"#N/A"}},{"$f":"IF(A513=\"\",\"\",VLOOKUP(B513,#REF!,5,FALSE))","v":{"$error":"#N/A"}},{"$f":"IF(A513=\"\",\"\",VLOOKUP(C513,#REF!,5,FALSE))","v":{"$error":"#N/A"}}]
[200188,{"$f":"IF(A514=\"\",\"\",VLOOKUP(A514,[1]ItemConfig!$A:$B,2,FALSE))","v":{"$error":"#N/A"}},{"$f":"IF(A514=\"\",\"\",VLOOKUP(A514,[1]ItemConfig!$A:$D,4,FALSE))","v":{"$error":"#N/A"}},{"$f":"IF(A514=\"\",\"\",VLOOKUP(A514,[1]ItemConfig!$A:$C,3,FALSE))","v":{"$error":"#N/A"}},{"$f":"IF(A514=\"\",\"\",VLOOKUP(B514,#REF!,5,FALSE))","v":{"$error":"#N/A"}},{"$f":"IF(A514=\"\",\"\",VLOOKUP(C514,#REF!,5,FALSE))","v":{"$error":"#N/A"}}]
[200189,{"$f":"IF(A515=\"\",\"\",VLOOKUP(A515,[1]ItemConfig!$A:$B,2,FALSE))","v":{"$error":"#N/A"}},{"$f":"IF(A515=\"\",\"\",VLOOKUP(A515,[1]ItemConfig!$A:$D,4,FALSE))","v":{"$error":"#N/A"}},{"$f":"IF(A515=\"\",\"\",VLOOKUP(A515,[1]ItemConfig!$A:$C,3,FALSE))","v":{"$error":"#N/A"}},{"$f":"IF(A515=\"\",\"\",VLOOKUP(B515,#REF!,5,FALSE))","v":{"$error":"#N/A"}},{"$f":"IF(A515=\"\",\"\",VLOOKUP(C515,#REF!,5,FALSE))","v":{"$error":"#N/A"}}]
[200190,{"$f":"IF(A516=\"\",\"\",VLOOKUP(A516,[1]ItemConfig!$A:$B,2,FALSE))","v":{"$error":"#N/A"}},{"$f":"IF(A516=\"\",\"\",VLOOKUP(A516,[1]ItemConfig!$A:$D,4,FALSE))","v":{"$error":"#N/A"}},{"$f":"IF(A516=\"\",\"\",VLOOKUP(A516,[1]ItemConfig!$A:$C,3,FALSE))","v":{"$error":"#N/A"}},{"$f":"IF(A516=\"\",\"\",VLOOKUP(B516,#REF!,5,FALSE))","v":{"$error":"#N/A"}},{"$f":"IF(A516=\"\",\"\",VLOOKUP(C516,#REF!,5,FALSE))","v":{"$error":"#N/A"}}]
[200191,{"$f":"IF(A517=\"\",\"\",VLOOKUP(A517,[1]ItemConfig!$A:$B,2,FALSE))","v":{"$error":"#N/A"}},{"$f":"IF(A517=\"\",\"\",VLOOKUP(A517,[1]ItemConfig!$A:$D,4,FALSE))","v":{"$error":"#N/A"}},{"$f":"IF(A517=\"\",\"\",VLOOKUP(A517,[1]ItemConfig!$A:$C,3,FALSE))","v":{"$error":"#N/A"}},{"$f":"IF(A517=\"\",\"\",VLOOKUP(B517,#REF!,5,FALSE))","v":{"$error":"#N/A"}},{"$f":"IF(A517=\"\",\"\",VLOOKUP(C517,#REF!,5,FALSE))","v":{"$error":"#N/A"}}]
[200192,{"$f":"IF(A518=\"\",\"\",VLOOKUP(A518,[1]ItemConfig!$A:$B,2,FALSE))","v":{"$error":"#N/A"}},{"$f":"IF(A518=\"\",\"\",VLOOKUP(A518,[1]ItemConfig!$A:$D,4,FALSE))","v":{"$error":"#N/A"}},{"$f":"IF(A518=\"\",\"\",VLOOKUP(A518,[1]ItemConfig!$A:$C,3,FALSE))","v":{"$error":"#N/A"}},{"$f":"IF(A518=\"\",\"\",VLOOKUP(B518,#REF!,5,FALSE))","v":{"$error":"#N/A"}},{"$f":"IF(A518=\"\",\"\",VLOOKUP(C518,#REF!,5,FALSE))","v":{"$error":"#N/A"}}]
[200193,{"$f":"IF(A519=\"\",\"\",VLOOKUP(A519,[1]ItemConfig!$A:$B,2,FALSE))","v":{"$error":"#N/A"}},{"$f":"IF(A519=\"\",\"\",VLOOKUP(A519,[1]ItemConfig!$A:$D,4,FALSE))","v":{"$error":"#N/A"}},{"$f":"IF(A519=\"\",\"\",VLOOKUP(A519,[1]ItemConfig!$A:$C,3,FALSE))","v":{"$error":"#N/A"}},{"$f":"IF(A519=\"\",\"\",VLOOKUP(B519,#REF!,5,FALSE))","v":{"$error":"#N/A"}},{"$f":"IF(A519=\"\",\"\",VLOOKUP(C519,#REF!,5,FALSE))","v":{"$error":"#N/A"}}]
[200194,{"$f":"IF(A520=\"\",\"\",VLOOKUP(A520,[1]ItemConfig!$A:$B,2,FALSE))","v":{"$error":"#N/A"}},{"$f":"IF(A520=\"\",\"\",VLOOKUP(A520,[1]ItemConfig!$A:$D,4,FALSE))","v":{"$error":"#N/A"}},{"$f":"IF(A520=\"\",\"\",VLOOKUP(A520,[1]ItemConfig!$A:$C,3,FALSE))","v":{"$error":"#N/A"}},{"$f":"IF(A520=\"\",\"\",VLOOKUP(B520,#REF!,5,FALSE))","v":{"$error":"#N/A"}},{"$f":"IF(A520=\"\",\"\",VLOOKUP(C520,#REF!,5,FALSE))","v":{"$error":"#N/A"}}]
[200195,{"$f":"IF(A521=\"\",\"\",VLOOKUP(A521,[1]ItemConfig!$A:$B,2,FALSE))","v":{"$error":"#N/A"}},{"$f":"IF(A521=\"\",\"\",VLOOKUP(A521,[1]ItemConfig!$A:$D,4,FALSE))","v":{"$error":"#N/A"}},{"$f":"IF(A521=\"\",\"\",VLOOKUP(A521,[1]ItemConfig!$A:$C,3,FALSE))","v":{"$error":"#N/A"}},{"$f":"IF(A521=\"\",\"\",VLOOKUP(B521,#REF!,5,FALSE))","v":{"$error":"#N/A"}},{"$f":"IF(A521=\"\",\"\",VLOOKUP(C521,#REF!,5,FALSE))","v":{"$error":"#N/A"}}]
[200196,{"$f":"IF(A522=\"\",\"\",VLOOKUP(A522,[1]ItemConfig!$A:$B,2,FALSE))","v":{"$error":"#N/A"}},{"$f":"IF(A522=\"\",\"\",VLOOKUP(A522,[1]ItemConfig!$A:$D,4,FALSE))","v":{"$error":"#N/A"}},{"$f":"IF(A522=\"\",\"\",VLOOKUP(A522,[1]ItemConfig!$A:$C,3,FALSE))","v":{"$error":"#N/A"}},{"$f":"IF(A522=\"\",\"\",VLOOKUP(B522,#REF!,5,FALSE))","v":{"$error":"#N/A"}},{"$f":"IF(A522=\"\",\"\",VLOOKUP(C522,#REF!,5,FALSE))","v":{"$error":"#N/A"}}]
[200197,{"$f":"IF(A523=\"\",\"\",VLOOKUP(A523,[1]ItemConfig!$A:$B,2,FALSE))","v":{"$error":"#N/A"}},{"$f":"IF(A523=\"\",\"\",VLOOKUP(A523,[1]ItemConfig!$A:$D,4,FALSE))","v":{"$error":"#N/A"}},{"$f":"IF(A523=\"\",\"\",VLOOKUP(A523,[1]ItemConfig!$A:$C,3,FALSE))","v":{"$error":"#N/A"}},{"$f":"IF(A523=\"\",\"\",VLOOKUP(B523,#REF!,5,FALSE))","v":{"$error":"#N/A"}},{"$f":"IF(A523=\"\",\"\",VLOOKUP(C523,#REF!,5,FALSE))","v":{"$error":"#N/A"}}]
[200198,{"$f":"IF(A524=\"\",\"\",VLOOKUP(A524,[1]ItemConfig!$A:$B,2,FALSE))","v":{"$error":"#N/A"}},{"$f":"IF(A524=\"\",\"\",VLOOKUP(A524,[1]ItemConfig!$A:$D,4,FALSE))","v":{"$error":"#N/A"}},{"$f":"IF(A524=\"\",\"\",VLOOKUP(A524,[1]ItemConfig!$A:$C,3,FALSE))","v":{"$error":"#N/A"}},{"$f":"IF(A524=\"\",\"\",VLOOKUP(B524,#REF!,5,FALSE))","v":{"$error":"#N/A"}},{"$f":"IF(A524=\"\",\"\",VLOOKUP(C524,#REF!,5,FALSE))","v":{"$error":"#N/A"}}]
[200199,{"$f":"IF(A525=\"\",\"\",VLOOKUP(A525,[1]ItemConfig!$A:$B,2,FALSE))","v":{"$error":"#N/A"}},{"$f":"IF(A525=\"\",\"\",VLOOKUP(A525,[1]ItemConfig!$A:$D,4,FALSE))","v":{"$error":"#N/A"}},{"$f":"IF(A525=\"\",\"\",VLOOKUP(A525,[1]ItemConfig!$A:$C,3,FALSE))","v":{"$error":"#N/A"}},{"$f":"IF(A525=\"\",\"\",VLOOKUP(B525,#REF!,5,FALSE))","v":{"$error":"#N/A"}},{"$f":"IF(A525=\"\",\"\",VLOOKUP(C525,#REF!,5,FALSE))","v":{"$error":"#N/A"}}]
[200200,{"$f":"IF(A526=\"\",\"\",VLOOKUP(A526,[1]ItemConfig!$A:$B,2,FALSE))","v":{"$error":"#N/A"}},{"$f":"IF(A526=\"\",\"\",VLOOKUP(A526,[1]ItemConfig!$A:$D,4,FALSE))","v":{"$error":"#N/A"}},{"$f":"IF(A526=\"\",\"\",VLOOKUP(A526,[1]ItemConfig!$A:$C,3,FALSE))","v":{"$error":"#N/A"}},{"$f":"IF(A526=\"\",\"\",VLOOKUP(B526,#REF!,5,FALSE))","v":{"$error":"#N/A"}},{"$f":"IF(A526=\"\",\"\",VLOOKUP(C526,#REF!,5,FALSE))","v":{"$error":"#N/A"}}]
[200201,{"$f":"IF(A527=\"\",\"\",VLOOKUP(A527,[1]ItemConfig!$A:$B,2,FALSE))","v":{"$error":"#N/A"}},{"$f":"IF(A527=\"\",\"\",VLOOKUP(A527,[1]ItemConfig!$A:$D,4,FALSE))","v":{"$error":"#N/A"}},{"$f":"IF(A527=\"\",\"\",VLOOKUP(A527,[1]ItemConfig!$A:$C,3,FALSE))","v":{"$error":"#N/A"}},{"$f":"IF(A527=\"\",\"\",VLOOKUP(B527,#REF!,5,FALSE))","v":{"$error":"#N/A"}},{"$f":"IF(A527=\"\",\"\",VLOOKUP(C527,#REF!,5,FALSE))","v":{"$error":"#N/A"}}]
[200202,{"$f":"IF(A528=\"\",\"\",VLOOKUP(A528,[1]ItemConfig!$A:$B,2,FALSE))","v":{"$error":"#N/A"}},{"$f":"IF(A528=\"\",\"\",VLOOKUP(A528,[1]ItemConfig!$A:$D,4,FALSE))","v":{"$error":"#N/A"}},{"$f":"IF(A528=\"\",\"\",VLOOKUP(A528,[1]ItemConfig!$A:$C,3,FALSE))","v":{"$error":"#N/A"}},{"$f":"IF(A528=\"\",\"\",VLOOKUP(B528,#REF!,5,FALSE))","v":{"$error":"#N/A"}},{"$f":"IF(A528=\"\",\"\",VLOOKUP(C528,#REF!,5,FALSE))","v":{"$error":"#N/A"}}]
[200203,{"$f":"IF(A529=\"\",\"\",VLOOKUP(A529,[1]ItemConfig!$A:$B,2,FALSE))","v":{"$error":"#N/A"}},{"$f":"IF(A529=\"\",\"\",VLOOKUP(A529,[1]ItemConfig!$A:$D,4,FALSE))","v":{"$error":"#N/A"}},{"$f":"IF(A529=\"\",\"\",VLOOKUP(A529,[1]ItemConfig!$A:$C,3,FALSE))","v":{"$error":"#N/A"}},{"$f":"IF(A529=\"\",\"\",VLOOKUP(B529,#REF!,5,FALSE))","v":{"$error":"#N/A"}},{"$f":"IF(A529=\"\",\"\",VLOOKUP(C529,#REF!,5,FALSE))","v":{"$error":"#N/A"}}]
[200204,{"$f":"IF(A530=\"\",\"\",VLOOKUP(A530,[1]ItemConfig!$A:$B,2,FALSE))","v":{"$error":"#N/A"}},{"$f":"IF(A530=\"\",\"\",VLOOKUP(A530,[1]ItemConfig!$A:$D,4,FALSE))","v":{"$error":"#N/A"}},{"$f":"IF(A530=\"\",\"\",VLOOKUP(A530,[1]ItemConfig!$A:$C,3,FALSE))","v":{"$error":"#N/A"}},{"$f":"IF(A530=\"\",\"\",VLOOKUP(B530,#REF!,5,FALSE))","v":{"$error":"#N/A"}},{"$f":"IF(A530=\"\",\"\",VLOOKUP(C530,#REF!,5,FALSE))","v":{"$error":"#N/A"}}]
[200205,{"$f":"IF(A531=\"\",\"\",VLOOKUP(A531,[1]ItemConfig!$A:$B,2,FALSE))","v":{"$error":"#N/A"}},{"$f":"IF(A531=\"\",\"\",VLOOKUP(A531,[1]ItemConfig!$A:$D,4,FALSE))","v":{"$error":"#N/A"}},{"$f":"IF(A531=\"\",\"\",VLOOKUP(A531,[1]ItemConfig!$A:$C,3,FALSE))","v":{"$error":"#N/A"}},{"$f":"IF(A531=\"\",\"\",VLOOKUP(B531,#REF!,5,FALSE))","v":{"$error":"#N/A"}},{"$f":"IF(A531=\"\",\"\",VLOOKUP(C531,#REF!,5,FALSE))","v":{"$error":"#N/A"}}]
[200206,{"$f":"IF(A532=\"\",\"\",VLOOKUP(A532,[1]ItemConfig!$A:$B,2,FALSE))","v":{"$error":"#N/A"}},{"$f":"IF(A532=\"\",\"\",VLOOKUP(A532,[1]ItemConfig!$A:$D,4,FALSE))","v":{"$error":"#N/A"}},{"$f":"IF(A532=\"\",\"\",VLOOKUP(A532,[1]ItemConfig!$A:$C,3,FALSE))","v":{"$error":"#N/A"}},{"$f":"IF(A532=\"\",\"\",VLOOKUP(B532,#REF!,5,FALSE))","v":{"$error":"#N/A"}},{"$f":"IF(A532=\"\",\"\",VLOOKUP(C532,#REF!,5,FALSE))","v":{"$error":"#N/A"}}]
[200207,{"$f":"IF(A533=\"\",\"\",VLOOKUP(A533,[1]ItemConfig!$A:$B,2,FALSE))","v":{"$error":"#N/A"}},{"$f":"IF(A533=\"\",\"\",VLOOKUP(A533,[1]ItemConfig!$A:$D,4,FALSE))","v":{"$error":"#N/A"}},{"$f":"IF(A533=\"\",\"\",VLOOKUP(A533,[1]ItemConfig!$A:$C,3,FALSE))","v":{"$error":"#N/A"}},{"$f":"IF(A533=\"\",\"\",VLOOKUP(B533,#REF!,5,FALSE))","v":{"$error":"#N/A"}},{"$f":"IF(A533=\"\",\"\",VLOOKUP(C533,#REF!,5,FALSE))","v":{"$error":"#N/A"}}]
[200208,{"$f":"IF(A534=\"\",\"\",VLOOKUP(A534,[1]ItemConfig!$A:$B,2,FALSE))","v":{"$error":"#N/A"}},{"$f":"IF(A534=\"\",\"\",VLOOKUP(A534,[1]ItemConfig!$A:$D,4,FALSE))","v":{"$error":"#N/A"}},{"$f":"IF(A534=\"\",\"\",VLOOKUP(A534,[1]ItemConfig!$A:$C,3,FALSE))","v":{"$error":"#N/A"}},{"$f":"IF(A534=\"\",\"\",VLOOKUP(B534,#REF!,5,FALSE))","v":{"$error":"#N/A"}},{"$f":"IF(A534=\"\",\"\",VLOOKUP(C534,#REF!,5,FALSE))","v":{"$error":"#N/A"}}]
[200209,{"$f":"IF(A535=\"\",\"\",VLOOKUP(A535,[1]ItemConfig!$A:$B,2,FALSE))","v":{"$error":"#N/A"}},{"$f":"IF(A535=\"\",\"\",VLOOKUP(A535,[1]ItemConfig!$A:$D,4,FALSE))","v":{"$error":"#N/A"}},{"$f":"IF(A535=\"\",\"\",VLOOKUP(A535,[1]ItemConfig!$A:$C,3,FALSE))","v":{"$error":"#N/A"}},{"$f":"IF(A535=\"\",\"\",VLOOKUP(B535,#REF!,5,FALSE))","v":{"$error":"#N/A"}},{"$f":"IF(A535=\"\",\"\",VLOOKUP(C535,#REF!,5,FALSE))","v":{"$error":"#N/A"}}]
[200210,{"$f":"IF(A536=\"\",\"\",VLOOKUP(A536,[1]ItemConfig!$A:$B,2,FALSE))","v":{"$error":"#N/A"}},{"$f":"IF(A536=\"\",\"\",VLOOKUP(A536,[1]ItemConfig!$A:$D,4,FALSE))","v":{"$error":"#N/A"}},{"$f":"IF(A536=\"\",\"\",VLOOKUP(A536,[1]ItemConfig!$A:$C,3,FALSE))","v":{"$error":"#N/A"}},{"$f":"IF(A536=\"\",\"\",VLOOKUP(B536,#REF!,5,FALSE))","v":{"$error":"#N/A"}},{"$f":"IF(A536=\"\",\"\",VLOOKUP(C536,#REF!,5,FALSE))","v":{"$error":"#N/A"}}]
[null,{"$f":"IF(A537=\"\",\"\",VLOOKUP(A537,[1]ItemConfig!$A:$B,2,FALSE))","v":""},{"$f":"IF(A537=\"\",\"\",VLOOKUP(A537,[1]ItemConfig!$A:$D,4,FALSE))","v":""},{"$f":"IF(A537=\"\",\"\",VLOOKUP(A537,[1]ItemConfig!$A:$C,3,FALSE))","v":""},{"$f":"IF(A537=\"\",\"\",VLOOKUP(B537,#REF!,5,FALSE))","v":""},{"$f":"IF(A537=\"\",\"\",VLOOKUP(C537,#REF!,5,FALSE))","v":""}]
[200211,{"$f":"IF(A538=\"\",\"\",VLOOKUP(A538,[1]ItemConfig!$A:$B,2,FALSE))","v":{"$error":"#N/A"}},{"$f":"IF(A538=\"\",\"\",VLOOKUP(A538,[1]ItemConfig!$A:$D,4,FALSE))","v":{"$error":"#N/A"}},{"$f":"IF(A538=\"\",\"\",VLOOKUP(A538,[1]ItemConfig!$A:$C,3,FALSE))","v":{"$error":"#N/A"}},{"$f":"IF(A538=\"\",\"\",VLOOKUP(B538,#REF!,5,FALSE))","v":{"$error":"#N/A"}},{"$f":"IF(A538=\"\",\"\",VLOOKUP(C538,#REF!,5,FALSE))","v":{"$error":"#N/A"}}]
[200212,{"$f":"IF(A539=\"\",\"\",VLOOKUP(A539,[1]ItemConfig!$A:$B,2,FALSE))","v":{"$error":"#N/A"}},{"$f":"IF(A539=\"\",\"\",VLOOKUP(A539,[1]ItemConfig!$A:$D,4,FALSE))","v":{"$error":"#N/A"}},{"$f":"IF(A539=\"\",\"\",VLOOKUP(A539,[1]ItemConfig!$A:$C,3,FALSE))","v":{"$error":"#N/A"}},{"$f":"IF(A539=\"\",\"\",VLOOKUP(B539,#REF!,5,FALSE))","v":{"$error":"#N/A"}},{"$f":"IF(A539=\"\",\"\",VLOOKUP(C539,#REF!,5,FALSE))","v":{"$error":"#N/A"}}]
[200213,{"$f":"IF(A540=\"\",\"\",VLOOKUP(A540,[1]ItemConfig!$A:$B,2,FALSE))","v":{"$error":"#N/A"}},{"$f":"IF(A540=\"\",\"\",VLOOKUP(A540,[1]ItemConfig!$A:$D,4,FALSE))","v":{"$error":"#N/A"}},{"$f":"IF(A540=\"\",\"\",VLOOKUP(A540,[1]ItemConfig!$A:$C,3,FALSE))","v":{"$error":"#N/A"}},{"$f":"IF(A540=\"\",\"\",VLOOKUP(B540,#REF!,5,FALSE))","v":{"$error":"#N/A"}},{"$f":"IF(A540=\"\",\"\",VLOOKUP(C540,#REF!,5,FALSE))","v":{"$error":"#N/A"}}]
[200214,{"$f":"IF(A541=\"\",\"\",VLOOKUP(A541,[1]ItemConfig!$A:$B,2,FALSE))","v":{"$error":"#N/A"}},{"$f":"IF(A541=\"\",\"\",VLOOKUP(A541,[1]ItemConfig!$A:$D,4,FALSE))","v":{"$error":"#N/A"}},{"$f":"IF(A541=\"\",\"\",VLOOKUP(A541,[1]ItemConfig!$A:$C,3,FALSE))","v":{"$error":"#N/A"}},{"$f":"IF(A541=\"\",\"\",VLOOKUP(B541,#REF!,5,FALSE))","v":{"$error":"#N/A"}},{"$f":"IF(A541=\"\",\"\",VLOOKUP(C541,#REF!,5,FALSE))","v":{"$error":"#N/A"}}]
[200215,{"$f":"IF(A542=\"\",\"\",VLOOKUP(A542,[1]ItemConfig!$A:$B,2,FALSE))","v":{"$error":"#N/A"}},{"$f":"IF(A542=\"\",\"\",VLOOKUP(A542,[1]ItemConfig!$A:$D,4,FALSE))","v":{"$error":"#N/A"}},{"$f":"IF(A542=\"\",\"\",VLOOKUP(A542,[1]ItemConfig!$A:$C,3,FALSE))","v":{"$error":"#N/A"}},{"$f":"IF(A542=\"\",\"\",VLOOKUP(B542,#REF!,5,FALSE))","v":{"$error":"#N/A"}},{"$f":"IF(A542=\"\",\"\",VLOOKUP(C542,#REF!,5,FALSE))","v":{"$error":"#N/A"}}]
[200216,{"$f":"IF(A543=\"\",\"\",VLOOKUP(A543,[1]ItemConfig!$A:$B,2,FALSE))","v":{"$error":"#N/A"}},{"$f":"IF(A543=\"\",\"\",VLOOKUP(A543,[1]ItemConfig!$A:$D,4,FALSE))","v":{"$error":"#N/A"}},{"$f":"IF(A543=\"\",\"\",VLOOKUP(A543,[1]ItemConfig!$A:$C,3,FALSE))","v":{"$error":"#N/A"}},{"$f":"IF(A543=\"\",\"\",VLOOKUP(B543,#REF!,5,FALSE))","v":{"$error":"#N/A"}},{"$f":"IF(A543=\"\",\"\",VLOOKUP(C543,#REF!,5,FALSE))","v":{"$error":"#N/A"}}]
[200217,{"$f":"IF(A544=\"\",\"\",VLOOKUP(A544,[1]ItemConfig!$A:$B,2,FALSE))","v":{"$error":"#N/A"}},{"$f":"IF(A544=\"\",\"\",VLOOKUP(A544,[1]ItemConfig!$A:$D,4,FALSE))","v":{"$error":"#N/A"}},{"$f":"IF(A544=\"\",\"\",VLOOKUP(A544,[1]ItemConfig!$A:$C,3,FALSE))","v":{"$error":"#N/A"}},{"$f":"IF(A544=\"\",\"\",VLOOKUP(B544,#REF!,5,FALSE))","v":{"$error":"#N/A"}},{"$f":"IF(A544=\"\",\"\",VLOOKUP(C544,#REF!,5,FALSE))","v":{"$error":"#N/A"}}]
[200218,{"$f":"IF(A545=\"\",\"\",VLOOKUP(A545,[1]ItemConfig!$A:$B,2,FALSE))","v":{"$error":"#N/A"}},{"$f":"IF(A545=\"\",\"\",VLOOKUP(A545,[1]ItemConfig!$A:$D,4,FALSE))","v":{"$error":"#N/A"}},{"$f":"IF(A545=\"\",\"\",VLOOKUP(A545,[1]ItemConfig!$A:$C,3,FALSE))","v":{"$error":"#N/A"}},{"$f":"IF(A545=\"\",\"\",VLOOKUP(B545,#REF!,5,FALSE))","v":{"$error":"#N/A"}},{"$f":"IF(A545=\"\",\"\",VLOOKUP(C545,#REF!,5,FALSE))","v":{"$error":"#N/A"}}]
[200219,{"$f":"IF(A546=\"\",\"\",VLOOKUP(A546,[1]ItemConfig!$A:$B,2,FALSE))","v":{"$error":"#N/A"}},{"$f":"IF(A546=\"\",\"\",VLOOKUP(A546,[1]ItemConfig!$A:$D,4,FALSE))","v":{"$error":"#N/A"}},{"$f":"IF(A546=\"\",\"\",VLOOKUP(A546,[1]ItemConfig!$A:$C,3,FALSE))","v":{"$error":"#N/A"}},{"$f":"IF(A546=\"\",\"\",VLOOKUP(B546,#REF!,5,FALSE))","v":{"$error":"#N/A"}},{"$f":"IF(A546=\"\",\"\",VLOOKUP(C546,#REF!,5,FALSE))","v":{"$error":"#N/A"}}]
[200220,{"$f":"IF(A547=\"\",\"\",VLOOKUP(A547,[1]ItemConfig!$A:$B,2,FALSE))","v":{"$error":"#N/A"}},{"$f":"IF(A547=\"\",\"\",VLOOKUP(A547,[1]ItemConfig!$A:$D,4,FALSE))","v":{"$error":"#N/A"}},{"$f":"IF(A547=\"\",\"\",VLOOKUP(A547,[1]ItemConfig!$A:$C,3,FALSE))","v":{"$error":"#N/A"}},{"$f":"IF(A547=\"\",\"\",VLOOKUP(B547,#REF!,5,FALSE))","v":{"$error":"#N/A"}},{"$f":"IF(A547=\"\",\"\",VLOOKUP(C547,#REF!,5,FALSE))","v":{"$error":"#N/A"}}]
[200221,{"$f":"IF(A548=\"\",\"\",VLOOKUP(A548,[1]ItemConfig!$A:$B,2,FALSE))","v":{"$error":"#N/A"}},{"$f":"IF(A548=\"\",\"\",VLOOKUP(A548,[1]ItemConfig!$A:$D,4,FALSE))","v":{"$error":"#N/A"}},{"$f":"IF(A548=\"\",\"\",VLOOKUP(A548,[1]ItemConfig!$A:$C,3,FALSE))","v":{"$error":"#N/A"}},{"$f":"IF(A548=\"\",\"\",VLOOKUP(B548,#REF!,5,FALSE))","v":{"$error":"#N/A"}},{"$f":"IF(A548=\"\",\"\",VLOOKUP(C548,#REF!,5,FALSE))","v":{"$error":"#N/A"}}]
[200222,{"$f":"IF(A549=\"\",\"\",VLOOKUP(A549,[1]ItemConfig!$A:$B,2,FALSE))","v":{"$error":"#N/A"}},{"$f":"IF(A549=\"\",\"\",VLOOKUP(A549,[1]ItemConfig!$A:$D,4,FALSE))","v":{"$error":"#N/A"}},{"$f":"IF(A549=\"\",\"\",VLOOKUP(A549,[1]ItemConfig!$A:$C,3,FALSE))","v":{"$error":"#N/A"}},{"$f":"IF(A549=\"\",\"\",VLOOKUP(B549,#REF!,5,FALSE))","v":{"$error":"#N/A"}},{"$f":"IF(A549=\"\",\"\",VLOOKUP(C549,#REF!,5,FALSE))","v":{"$error":"#N/A"}}]
[200223,{"$f":"IF(A550=\"\",\"\",VLOOKUP(A550,[1]ItemConfig!$A:$B,2,FALSE))","v":{"$error":"#N/A"}},{"$f":"IF(A550=\"\",\"\",VLOOKUP(A550,[1]ItemConfig!$A:$D,4,FALSE))","v":{"$error":"#N/A"}},{"$f":"IF(A550=\"\",\"\",VLOOKUP(A550,[1]ItemConfig!$A:$C,3,FALSE))","v":{"$error":"#N/A"}},{"$f":"IF(A550=\"\",\"\",VLOOKUP(B550,#REF!,5,FALSE))","v":{"$error":"#N/A"}},{"$f":"IF(A550=\"\",\"\",VLOOKUP(C550,#REF!,5,FALSE))","v":{"$error":"#N/A"}}]
[200224,{"$f":"IF(A551=\"\",\"\",VLOOKUP(A551,[1]ItemConfig!$A:$B,2,FALSE))","v":{"$error":"#N/A"}},{"$f":"IF(A551=\"\",\"\",VLOOKUP(A551,[1]ItemConfig!$A:$D,4,FALSE))","v":{"$error":"#N/A"}},{"$f":"IF(A551=\"\",\"\",VLOOKUP(A551,[1]ItemConfig!$A:$C,3,FALSE))","v":{"$error":"#N/A"}},{"$f":"IF(A551=\"\",\"\",VLOOKUP(B551,#REF!,5,FALSE))","v":{"$error":"#N/A"}},{"$f":"IF(A551=\"\",\"\",VLOOKUP(C551,#REF!,5,FALSE))","v":{"$error":"#N/A"}}]
[200225,{"$f":"IF(A552=\"\",\"\",VLOOKUP(A552,[1]ItemConfig!$A:$B,2,FALSE))","v":{"$error":"#N/A"}},{"$f":"IF(A552=\"\",\"\",VLOOKUP(A552,[1]ItemConfig!$A:$D,4,FALSE))","v":{"$error":"#N/A"}},{"$f":"IF(A552=\"\",\"\",VLOOKUP(A552,[1]ItemConfig!$A:$C,3,FALSE))","v":{"$error":"#N/A"}},{"$f":"IF(A552=\"\",\"\",VLOOKUP(B552,#REF!,5,FALSE))","v":{"$error":"#N/A"}},{"$f":"IF(A552=\"\",\"\",VLOOKUP(C552,#REF!,5,FALSE))","v":{"$error":"#N/A"}}]
[200226,{"$f":"IF(A553=\"\",\"\",VLOOKUP(A553,[1]ItemConfig!$A:$B,2,FALSE))","v":{"$error":"#N/A"}},{"$f":"IF(A553=\"\",\"\",VLOOKUP(A553,[1]ItemConfig!$A:$D,4,FALSE))","v":{"$error":"#N/A"}},{"$f":"IF(A553=\"\",\"\",VLOOKUP(A553,[1]ItemConfig!$A:$C,3,FALSE))","v":{"$error":"#N/A"}},{"$f":"IF(A553=\"\",\"\",VLOOKUP(B553,#REF!,5,FALSE))","v":{"$error":"#N/A"}},{"$f":"IF(A553=\"\",\"\",VLOOKUP(C553,#REF!,5,FALSE))","v":{"$error":"#N/A"}}]
[200227,{"$f":"IF(A554=\"\",\"\",VLOOKUP(A554,[1]ItemConfig!$A:$B,2,FALSE))","v":{"$error":"#N/A"}},{"$f":"IF(A554=\"\",\"\",VLOOKUP(A554,[1]ItemConfig!$A:$D,4,FALSE))","v":{"$error":"#N/A"}},{"$f":"IF(A554=\"\",\"\",VLOOKUP(A554,[1]ItemConfig!$A:$C,3,FALSE))","v":{"$error":"#N/A"}},{"$f":"IF(A554=\"\",\"\",VLOOKUP(B554,#REF!,5,FALSE))","v":{"$error":"#N/A"}},{"$f":"IF(A554=\"\",\"\",VLOOKUP(C554,#REF!,5,FALSE))","v":{"$error":"#N/A"}}]
[200228,{"$f":"IF(A555=\"\",\"\",VLOOKUP(A555,[1]ItemConfig!$A:$B,2,FALSE))","v":{"$error":"#N/A"}},{"$f":"IF(A555=\"\",\"\",VLOOKUP(A555,[1]ItemConfig!$A:$D,4,FALSE))","v":{"$error":"#N/A"}},{"$f":"IF(A555=\"\",\"\",VLOOKUP(A555,[1]ItemConfig!$A:$C,3,FALSE))","v":{"$error":"#N/A"}},{"$f":"IF(A555=\"\",\"\",VLOOKUP(B555,#REF!,5,FALSE))","v":{"$error":"#N/A"}},{"$f":"IF(A555=\"\",\"\",VLOOKUP(C555,#REF!,5,FALSE))","v":{"$error":"#N/A"}}]
[200229,{"$f":"IF(A556=\"\",\"\",VLOOKUP(A556,[1]ItemConfig!$A:$B,2,FALSE))","v":{"$error":"#N/A"}},{"$f":"IF(A556=\"\",\"\",VLOOKUP(A556,[1]ItemConfig!$A:$D,4,FALSE))","v":{"$error":"#N/A"}},{"$f":"IF(A556=\"\",\"\",VLOOKUP(A556,[1]ItemConfig!$A:$C,3,FALSE))","v":{"$error":"#N/A"}},{"$f":"IF(A556=\"\",\"\",VLOOKUP(B556,#REF!,5,FALSE))","v":{"$error":"#N/A"}},{"$f":"IF(A556=\"\",\"\",VLOOKUP(C556,#REF!,5,FALSE))","v":{"$error":"#N/A"}}]
[200230,{"$f":"IF(A557=\"\",\"\",VLOOKUP(A557,[1]ItemConfig!$A:$B,2,FALSE))","v":{"$error":"#N/A"}},{"$f":"IF(A557=\"\",\"\",VLOOKUP(A557,[1]ItemConfig!$A:$D,4,FALSE))","v":{"$error":"#N/A"}},{"$f":"IF(A557=\"\",\"\",VLOOKUP(A557,[1]ItemConfig!$A:$C,3,FALSE))","v":{"$error":"#N/A"}},{"$f":"IF(A557=\"\",\"\",VLOOKUP(B557,#REF!,5,FALSE))","v":{"$error":"#N/A"}},{"$f":"IF(A557=\"\",\"\",VLOOKUP(C557,#REF!,5,FALSE))","v":{"$error":"#N/A"}}]
[200231,{"$f":"IF(A558=\"\",\"\",VLOOKUP(A558,[1]ItemConfig!$A:$B,2,FALSE))","v":{"$error":"#N/A"}},{"$f":"IF(A558=\"\",\"\",VLOOKUP(A558,[1]ItemConfig!$A:$D,4,FALSE))","v":{"$error":"#N/A"}},{"$f":"IF(A558=\"\",\"\",VLOOKUP(A558,[1]ItemConfig!$A:$C,3,FALSE))","v":{"$error":"#N/A"}},{"$f":"IF(A558=\"\",\"\",VLOOKUP(B558,#REF!,5,FALSE))","v":{"$error":"#N/A"}},{"$f":"IF(A558=\"\",\"\",VLOOKUP(C558,#REF!,5,FALSE))","v":{"$error":"#N/A"}}]
[200232,{"$f":"IF(A559=\"\",\"\",VLOOKUP(A559,[1]ItemConfig!$A:$B,2,FALSE))","v":{"$error":"#N/A"}},{"$f":"IF(A559=\"\",\"\",VLOOKUP(A559,[1]ItemConfig!$A:$D,4,FALSE))","v":{"$error":"#N/A"}},{"$f":"IF(A559=\"\",\"\",VLOOKUP(A559,[1]ItemConfig!$A:$C,3,FALSE))","v":{"$error":"#N/A"}},{"$f":"IF(A559=\"\",\"\",VLOOKUP(B559,#REF!,5,FALSE))","v":{"$error":"#N/A"}},{"$f":"IF(A559=\"\",\"\",VLOOKUP(C559,#REF!,5,FALSE))","v":{"$error":"#N/A"}}]
[200233,{"$f":"IF(A560=\"\",\"\",VLOOKUP(A560,[1]ItemConfig!$A:$B,2,FALSE))","v":{"$error":"#N/A"}},{"$f":"IF(A560=\"\",\"\",VLOOKUP(A560,[1]ItemConfig!$A:$D,4,FALSE))","v":{"$error":"#N/A"}},{"$f":"IF(A560=\"\",\"\",VLOOKUP(A560,[1]ItemConfig!$A:$C,3,FALSE))","v":{"$error":"#N/A"}},{"$f":"IF(A560=\"\",\"\",VLOOKUP(B560,#REF!,5,FALSE))","v":{"$error":"#N/A"}},{"$f":"IF(A560=\"\",\"\",VLOOKUP(C560,#REF!,5,FALSE))","v":{"$error":"#N/A"}}]
[200234,{"$f":"IF(A561=\"\",\"\",VLOOKUP(A561,[1]ItemConfig!$A:$B,2,FALSE))","v":{"$error":"#N/A"}},{"$f":"IF(A561=\"\",\"\",VLOOKUP(A561,[1]ItemConfig!$A:$D,4,FALSE))","v":{"$error":"#N/A"}},{"$f":"IF(A561=\"\",\"\",VLOOKUP(A561,[1]ItemConfig!$A:$C,3,FALSE))","v":{"$error":"#N/A"}},{"$f":"IF(A561=\"\",\"\",VLOOKUP(B561,#REF!,5,FALSE))","v":{"$error":"#N/A"}},{"$f":"IF(A561=\"\",\"\",VLOOKUP(C561,#REF!,5,FALSE))","v":{"$error":"#N/A"}}]
[200235,{"$f":"IF(A562=\"\",\"\",VLOOKUP(A562,[1]ItemConfig!$A:$B,2,FALSE))","v":{"$error":"#N/A"}},{"$f":"IF(A562=\"\",\"\",VLOOKUP(A562,[1]ItemConfig!$A:$D,4,FALSE))","v":{"$error":"#N/A"}},{"$f":"IF(A562=\"\",\"\",VLOOKUP(A562,[1]ItemConfig!$A:$C,3,FALSE))","v":{"$error":"#N/A"}},{"$f":"IF(A562=\"\",\"\",VLOOKUP(B562,#REF!,5,FALSE))","v":{"$error":"#N/A"}},{"$f":"IF(A562=\"\",\"\",VLOOKUP(C562,#REF!,5,FALSE))","v":{"$error":"#N/A"}}]
[200236,{"$f":"IF(A563=\"\",\"\",VLOOKUP(A563,[1]ItemConfig!$A:$B,2,FALSE))","v":{"$error":"#N/A"}},{"$f":"IF(A563=\"\",\"\",VLOOKUP(A563,[1]ItemConfig!$A:$D,4,FALSE))","v":{"$error":"#N/A"}},{"$f":"IF(A563=\"\",\"\",VLOOKUP(A563,[1]ItemConfig!$A:$C,3,FALSE))","v":{"$error":"#N/A"}},{"$f":"IF(A563=\"\",\"\",VLOOKUP(B563,#REF!,5,FALSE))","v":{"$error":"#N/A"}},{"$f":"IF(A563=\"\",\"\",VLOOKUP(C563,#REF!,5,FALSE))","v":{"$error":"#N/A"}}]
[200237,{"$f":"IF(A564=\"\",\"\",VLOOKUP(A564,[1]ItemConfig!$A:$B,2,FALSE))","v":{"$error":"#N/A"}},{"$f":"IF(A564=\"\",\"\",VLOOKUP(A564,[1]ItemConfig!$A:$D,4,FALSE))","v":{"$error":"#N/A"}},{"$f":"IF(A564=\"\",\"\",VLOOKUP(A564,[1]ItemConfig!$A:$C,3,FALSE))","v":{"$error":"#N/A"}},{"$f":"IF(A564=\"\",\"\",VLOOKUP(B564,#REF!,5,FALSE))","v":{"$error":"#N/A"}},{"$f":"IF(A564=\"\",\"\",VLOOKUP(C564,#REF!,5,FALSE))","v":{"$error":"#N/A"}}]
[200238,{"$f":"IF(A565=\"\",\"\",VLOOKUP(A565,[1]ItemConfig!$A:$B,2,FALSE))","v":{"$error":"#N/A"}},{"$f":"IF(A565=\"\",\"\",VLOOKUP(A565,[1]ItemConfig!$A:$D,4,FALSE))","v":{"$error":"#N/A"}},{"$f":"IF(A565=\"\",\"\",VLOOKUP(A565,[1]ItemConfig!$A:$C,3,FALSE))","v":{"$error":"#N/A"}},{"$f":"IF(A565=\"\",\"\",VLOOKUP(B565,#REF!,5,FALSE))","v":{"$error":"#N/A"}},{"$f":"IF(A565=\"\",\"\",VLOOKUP(C565,#REF!,5,FALSE))","v":{"$error":"#N/A"}}]
[null,{"$f":"IF(A566=\"\",\"\",VLOOKUP(A566,[1]ItemConfig!$A:$B,2,FALSE))","v":""},{"$f":"IF(A566=\"\",\"\",VLOOKUP(A566,[1]ItemConfig!$A:$D,4,FALSE))","v":""},{"$f":"IF(A566=\"\",\"\",VLOOKUP(A566,[1]ItemConfig!$A:$C,3,FALSE))","v":""},{"$f":"IF(A566=\"\",\"\",VLOOKUP(B566,#REF!,5,FALSE))","v":""},{"$f":"IF(A566=\"\",\"\",VLOOKUP(C566,#REF!,5,FALSE))","v":""}]
[200239,{"$f":"IF(A567=\"\",\"\",VLOOKUP(A567,[1]ItemConfig!$A:$B,2,FALSE))","v":{"$error":"#N/A"}},{"$f":"IF(A567=\"\",\"\",VLOOKUP(A567,[1]ItemConfig!$A:$D,4,FALSE))","v":{"$error":"#N/A"}},{"$f":"IF(A567=\"\",\"\",VLOOKUP(A567,[1]ItemConfig!$A:$C,3,FALSE))","v":{"$error":"#N/A"}},{"$f":"IF(A567=\"\",\"\",VLOOKUP(B567,#REF!,5,FALSE))","v":{"$error":"#N/A"}},{"$f":"IF(A567=\"\",\"\",VLOOKUP(C567,#REF!,5,FALSE))","v":{"$error":"#N/A"}}]
[200240,{"$f":"IF(A568=\"\",\"\",VLOOKUP(A568,[1]ItemConfig!$A:$B,2,FALSE))","v":{"$error":"#N/A"}},{"$f":"IF(A568=\"\",\"\",VLOOKUP(A568,[1]ItemConfig!$A:$D,4,FALSE))","v":{"$error":"#N/A"}},{"$f":"IF(A568=\"\",\"\",VLOOKUP(A568,[1]ItemConfig!$A:$C,3,FALSE))","v":{"$error":"#N/A"}},{"$f":"IF(A568=\"\",\"\",VLOOKUP(B568,#REF!,5,FALSE))","v":{"$error":"#N/A"}},{"$f":"IF(A568=\"\",\"\",VLOOKUP(C568,#REF!,5,FALSE))","v":{"$error":"#N/A"}}]
[200241,{"$f":"IF(A569=\"\",\"\",VLOOKUP(A569,[1]ItemConfig!$A:$B,2,FALSE))","v":{"$error":"#N/A"}},{"$f":"IF(A569=\"\",\"\",VLOOKUP(A569,[1]ItemConfig!$A:$D,4,FALSE))","v":{"$error":"#N/A"}},{"$f":"IF(A569=\"\",\"\",VLOOKUP(A569,[1]ItemConfig!$A:$C,3,FALSE))","v":{"$error":"#N/A"}},{"$f":"IF(A569=\"\",\"\",VLOOKUP(B569,#REF!,5,FALSE))","v":{"$error":"#N/A"}},{"$f":"IF(A569=\"\",\"\",VLOOKUP(C569,#REF!,5,FALSE))","v":{"$error":"#N/A"}}]
[200242,{"$f":"IF(A570=\"\",\"\",VLOOKUP(A570,[1]ItemConfig!$A:$B,2,FALSE))","v":{"$error":"#N/A"}},{"$f":"IF(A570=\"\",\"\",VLOOKUP(A570,[1]ItemConfig!$A:$D,4,FALSE))","v":{"$error":"#N/A"}},{"$f":"IF(A570=\"\",\"\",VLOOKUP(A570,[1]ItemConfig!$A:$C,3,FALSE))","v":{"$error":"#N/A"}},{"$f":"IF(A570=\"\",\"\",VLOOKUP(B570,#REF!,5,FALSE))","v":{"$error":"#N/A"}},{"$f":"IF(A570=\"\",\"\",VLOOKUP(C570,#REF!,5,FALSE))","v":{"$error":"#N/A"}}]
[200243,{"$f":"IF(A571=\"\",\"\",VLOOKUP(A571,[1]ItemConfig!$A:$B,2,FALSE))","v":{"$error":"#N/A"}},{"$f":"IF(A571=\"\",\"\",VLOOKUP(A571,[1]ItemConfig!$A:$D,4,FALSE))","v":{"$error":"#N/A"}},{"$f":"IF(A571=\"\",\"\",VLOOKUP(A571,[1]ItemConfig!$A:$C,3,FALSE))","v":{"$error":"#N/A"}},{"$f":"IF(A571=\"\",\"\",VLOOKUP(B571,#REF!,5,FALSE))","v":{"$error":"#N/A"}},{"$f":"IF(A571=\"\",\"\",VLOOKUP(C571,#REF!,5,FALSE))","v":{"$error":"#N/A"}}]
[200244,{"$f":"IF(A572=\"\",\"\",VLOOKUP(A572,[1]ItemConfig!$A:$B,2,FALSE))","v":{"$error":"#N/A"}},{"$f":"IF(A572=\"\",\"\",VLOOKUP(A572,[1]ItemConfig!$A:$D,4,FALSE))","v":{"$error":"#N/A"}},{"$f":"IF(A572=\"\",\"\",VLOOKUP(A572,[1]ItemConfig!$A:$C,3,FALSE))","v":{"$error":"#N/A"}},{"$f":"IF(A572=\"\",\"\",VLOOKUP(B572,#REF!,5,FALSE))","v":{"$error":"#N/A"}},{"$f":"IF(A572=\"\",\"\",VLOOKUP(C572,#REF!,5,FALSE))","v":{"$error":"#N/A"}}]
[200245,{"$f":"IF(A573=\"\",\"\",VLOOKUP(A573,[1]ItemConfig!$A:$B,2,FALSE))","v":{"$error":"#N/A"}},{"$f":"IF(A573=\"\",\"\",VLOOKUP(A573,[1]ItemConfig!$A:$D,4,FALSE))","v":{"$error":"#N/A"}},{"$f":"IF(A573=\"\",\"\",VLOOKUP(A573,[1]ItemConfig!$A:$C,3,FALSE))","v":{"$error":"#N/A"}},{"$f":"IF(A573=\"\",\"\",VLOOKUP(B573,#REF!,5,FALSE))","v":{"$error":"#N/A"}},{"$f":"IF(A573=\"\",\"\",VLOOKUP(C573,#REF!,5,FALSE))","v":{"$error":"#N/A"}}]
[200246,{"$f":"IF(A574=\"\",\"\",VLOOKUP(A574,[1]ItemConfig!$A:$B,2,FALSE))","v":{"$error":"#N/A"}},{"$f":"IF(A574=\"\",\"\",VLOOKUP(A574,[1]ItemConfig!$A:$D,4,FALSE))","v":{"$error":"#N/A"}},{"$f":"IF(A574=\"\",\"\",VLOOKUP(A574,[1]ItemConfig!$A:$C,3,FALSE))","v":{"$error":"#N/A"}},{"$f":"IF(A574=\"\",\"\",VLOOKUP(B574,#REF!,5,FALSE))","v":{"$error":"#N/A"}},{"$f":"IF(A574=\"\",\"\",VLOOKUP(C574,#REF!,5,FALSE))","v":{"$error":"#N/A"}}]
[200247,{"$f":"IF(A575=\"\",\"\",VLOOKUP(A575,[1]ItemConfig!$A:$B,2,FALSE))","v":{"$error":"#N/A"}},{"$f":"IF(A575=\"\",\"\",VLOOKUP(A575,[1]ItemConfig!$A:$D,4,FALSE))","v":{"$error":"#N/A"}},{"$f":"IF(A575=\"\",\"\",VLOOKUP(A575,[1]ItemConfig!$A:$C,3,FALSE))","v":{"$error":"#N/A"}},{"$f":"IF(A575=\"\",\"\",VLOOKUP(B575,#REF!,5,FALSE))","v":{"$error":"#N/A"}},{"$f":"IF(A575=\"\",\"\",VLOOKUP(C575,#REF!,5,FALSE))","v":{"$error":"#N/A"}}]
[200248,{"$f":"IF(A576=\"\",\"\",VLOOKUP(A576,[1]ItemConfig!$A:$B,2,FALSE))","v":{"$error":"#N/A"}},{"$f":"IF(A576=\"\",\"\",VLOOKUP(A576,[1]ItemConfig!$A:$D,4,FALSE))","v":{"$error":"#N/A"}},{"$f":"IF(A576=\"\",\"\",VLOOKUP(A576,[1]ItemConfig!$A:$C,3,FALSE))","v":{"$error":"#N/A"}},{"$f":"IF(A576=\"\",\"\",VLOOKUP(B576,#REF!,5,FALSE))","v":{"$error":"#N/A"}},{"$f":"IF(A576=\"\",\"\",VLOOKUP(C576,#REF!,5,FALSE))","v":{"$error":"#N/A"}}]
[200249,{"$f":"IF(A577=\"\",\"\",VLOOKUP(A577,[1]ItemConfig!$A:$B,2,FALSE))","v":{"$error":"#N/A"}},{"$f":"IF(A577=\"\",\"\",VLOOKUP(A577,[1]ItemConfig!$A:$D,4,FALSE))","v":{"$error":"#N/A"}},{"$f":"IF(A577=\"\",\"\",VLOOKUP(A577,[1]ItemConfig!$A:$C,3,FALSE))","v":{"$error":"#N/A"}},{"$f":"IF(A577=\"\",\"\",VLOOKUP(B577,#REF!,5,FALSE))","v":{"$error":"#N/A"}},{"$f":"IF(A577=\"\",\"\",VLOOKUP(C577,#REF!,5,FALSE))","v":{"$error":"#N/A"}}]
[200250,{"$f":"IF(A578=\"\",\"\",VLOOKUP(A578,[1]ItemConfig!$A:$B,2,FALSE))","v":{"$error":"#N/A"}},{"$f":"IF(A578=\"\",\"\",VLOOKUP(A578,[1]ItemConfig!$A:$D,4,FALSE))","v":{"$error":"#N/A"}},{"$f":"IF(A578=\"\",\"\",VLOOKUP(A578,[1]ItemConfig!$A:$C,3,FALSE))","v":{"$error":"#N/A"}},{"$f":"IF(A578=\"\",\"\",VLOOKUP(B578,#REF!,5,FALSE))","v":{"$error":"#N/A"}},{"$f":"IF(A578=\"\",\"\",VLOOKUP(C578,#REF!,5,FALSE))","v":{"$error":"#N/A"}}]
[200251,{"$f":"IF(A579=\"\",\"\",VLOOKUP(A579,[1]ItemConfig!$A:$B,2,FALSE))","v":{"$error":"#N/A"}},{"$f":"IF(A579=\"\",\"\",VLOOKUP(A579,[1]ItemConfig!$A:$D,4,FALSE))","v":{"$error":"#N/A"}},{"$f":"IF(A579=\"\",\"\",VLOOKUP(A579,[1]ItemConfig!$A:$C,3,FALSE))","v":{"$error":"#N/A"}},{"$f":"IF(A579=\"\",\"\",VLOOKUP(B579,#REF!,5,FALSE))","v":{"$error":"#N/A"}},{"$f":"IF(A579=\"\",\"\",VLOOKUP(C579,#REF!,5,FALSE))","v":{"$error":"#N/A"}}]
[200252,{"$f":"IF(A580=\"\",\"\",VLOOKUP(A580,[1]ItemConfig!$A:$B,2,FALSE))","v":{"$error":"#N/A"}},{"$f":"IF(A580=\"\",\"\",VLOOKUP(A580,[1]ItemConfig!$A:$D,4,FALSE))","v":{"$error":"#N/A"}},{"$f":"IF(A580=\"\",\"\",VLOOKUP(A580,[1]ItemConfig!$A:$C,3,FALSE))","v":{"$error":"#N/A"}},{"$f":"IF(A580=\"\",\"\",VLOOKUP(B580,#REF!,5,FALSE))","v":{"$error":"#N/A"}},{"$f":"IF(A580=\"\",\"\",VLOOKUP(C580,#REF!,5,FALSE))","v":{"$error":"#N/A"}}]
[200253,{"$f":"IF(A581=\"\",\"\",VLOOKUP(A581,[1]ItemConfig!$A:$B,2,FALSE))","v":{"$error":"#N/A"}},{"$f":"IF(A581=\"\",\"\",VLOOKUP(A581,[1]ItemConfig!$A:$D,4,FALSE))","v":{"$error":"#N/A"}},{"$f":"IF(A581=\"\",\"\",VLOOKUP(A581,[1]ItemConfig!$A:$C,3,FALSE))","v":{"$error":"#N/A"}},{"$f":"IF(A581=\"\",\"\",VLOOKUP(B581,#REF!,5,FALSE))","v":{"$error":"#N/A"}},{"$f":"IF(A581=\"\",\"\",VLOOKUP(C581,#REF!,5,FALSE))","v":{"$error":"#N/A"}}]
[200254,{"$f":"IF(A582=\"\",\"\",VLOOKUP(A582,[1]ItemConfig!$A:$B,2,FALSE))","v":{"$error":"#N/A"}},{"$f":"IF(A582=\"\",\"\",VLOOKUP(A582,[1]ItemConfig!$A:$D,4,FALSE))","v":{"$error":"#N/A"}},{"$f":"IF(A582=\"\",\"\",VLOOKUP(A582,[1]ItemConfig!$A:$C,3,FALSE))","v":{"$error":"#N/A"}},{"$f":"IF(A582=\"\",\"\",VLOOKUP(B582,#REF!,5,FALSE))","v":{"$error":"#N/A"}},{"$f":"IF(A582=\"\",\"\",VLOOKUP(C582,#REF!,5,FALSE))","v":{"$error":"#N/A"}}]
[200255,{"$f":"IF(A583=\"\",\"\",VLOOKUP(A583,[1]ItemConfig!$A:$B,2,FALSE))","v":{"$error":"#N/A"}},{"$f":"IF(A583=\"\",\"\",VLOOKUP(A583,[1]ItemConfig!$A:$D,4,FALSE))","v":{"$error":"#N/A"}},{"$f":"IF(A583=\"\",\"\",VLOOKUP(A583,[1]ItemConfig!$A:$C,3,FALSE))","v":{"$error":"#N/A"}},{"$f":"IF(A583=\"\",\"\",VLOOKUP(B583,#REF!,5,FALSE))","v":{"$error":"#N/A"}},{"$f":"IF(A583=\"\",\"\",VLOOKUP(C583,#REF!,5,FALSE))","v":{"$error":"#N/A"}}]
[200256,{"$f":"IF(A584=\"\",\"\",VLOOKUP(A584,[1]ItemConfig!$A:$B,2,FALSE))","v":{"$error":"#N/A"}},{"$f":"IF(A584=\"\",\"\",VLOOKUP(A584,[1]ItemConfig!$A:$D,4,FALSE))","v":{"$error":"#N/A"}},{"$f":"IF(A584=\"\",\"\",VLOOKUP(A584,[1]ItemConfig!$A:$C,3,FALSE))","v":{"$error":"#N/A"}},{"$f":"IF(A584=\"\",\"\",VLOOKUP(B584,#REF!,5,FALSE))","v":{"$error":"#N/A"}},{"$f":"IF(A584=\"\",\"\",VLOOKUP(C584,#REF!,5,FALSE))","v":{"$error":"#N/A"}}]
[200257,{"$f":"IF(A585=\"\",\"\",VLOOKUP(A585,[1]ItemConfig!$A:$B,2,FALSE))","v":{"$error":"#N/A"}},{"$f":"IF(A585=\"\",\"\",VLOOKUP(A585,[1]ItemConfig!$A:$D,4,FALSE))","v":{"$error":"#N/A"}},{"$f":"IF(A585=\"\",\"\",VLOOKUP(A585,[1]ItemConfig!$A:$C,3,FALSE))","v":{"$error":"#N/A"}},{"$f":"IF(A585=\"\",\"\",VLOOKUP(B585,#REF!,5,FALSE))","v":{"$error":"#N/A"}},{"$f":"IF(A585=\"\",\"\",VLOOKUP(C585,#REF!,5,FALSE))","v":{"$error":"#N/A"}}]
[200258,{"$f":"IF(A586=\"\",\"\",VLOOKUP(A586,[1]ItemConfig!$A:$B,2,FALSE))","v":{"$error":"#N/A"}},{"$f":"IF(A586=\"\",\"\",VLOOKUP(A586,[1]ItemConfig!$A:$D,4,FALSE))","v":{"$error":"#N/A"}},{"$f":"IF(A586=\"\",\"\",VLOOKUP(A586,[1]ItemConfig!$A:$C,3,FALSE))","v":{"$error":"#N/A"}},{"$f":"IF(A586=\"\",\"\",VLOOKUP(B586,#REF!,5,FALSE))","v":{"$error":"#N/A"}},{"$f":"IF(A586=\"\",\"\",VLOOKUP(C586,#REF!,5,FALSE))","v":{"$error":"#N/A"}}]
[200259,{"$f":"IF(A587=\"\",\"\",VLOOKUP(A587,[1]ItemConfig!$A:$B,2,FALSE))","v":{"$error":"#N/A"}},{"$f":"IF(A587=\"\",\"\",VLOOKUP(A587,[1]ItemConfig!$A:$D,4,FALSE))","v":{"$error":"#N/A"}},{"$f":"IF(A587=\"\",\"\",VLOOKUP(A587,[1]ItemConfig!$A:$C,3,FALSE))","v":{"$error":"#N/A"}},{"$f":"IF(A587=\"\",\"\",VLOOKUP(B587,#REF!,5,FALSE))","v":{"$error":"#N/A"}},{"$f":"IF(A587=\"\",\"\",VLOOKUP(C587,#REF!,5,FALSE))","v":{"$error":"#N/A"}}]
[200260,{"$f":"IF(A588=\"\",\"\",VLOOKUP(A588,[1]ItemConfig!$A:$B,2,FALSE))","v":{"$error":"#N/A"}},{"$f":"IF(A588=\"\",\"\",VLOOKUP(A588,[1]ItemConfig!$A:$D,4,FALSE))","v":{"$error":"#N/A"}},{"$f":"IF(A588=\"\",\"\",VLOOKUP(A588,[1]ItemConfig!$A:$C,3,FALSE))","v":{"$error":"#N/A"}},{"$f":"IF(A588=\"\",\"\",VLOOKUP(B588,#REF!,5,FALSE))","v":{"$error":"#N/A"}},{"$f":"IF(A588=\"\",\"\",VLOOKUP(C588,#REF!,5,FALSE))","v":{"$error":"#N/A"}}]
[200261,{"$f":"IF(A589=\"\",\"\",VLOOKUP(A589,[1]ItemConfig!$A:$B,2,FALSE))","v":{"$error":"#N/A"}},{"$f":"IF(A589=\"\",\"\",VLOOKUP(A589,[1]ItemConfig!$A:$D,4,FALSE))","v":{"$error":"#N/A"}},{"$f":"IF(A589=\"\",\"\",VLOOKUP(A589,[1]ItemConfig!$A:$C,3,FALSE))","v":{"$error":"#N/A"}},{"$f":"IF(A589=\"\",\"\",VLOOKUP(B589,#REF!,5,FALSE))","v":{"$error":"#N/A"}},{"$f":"IF(A589=\"\",\"\",VLOOKUP(C589,#REF!,5,FALSE))","v":{"$error":"#N/A"}}]
[200262,{"$f":"IF(A590=\"\",\"\",VLOOKUP(A590,[1]ItemConfig!$A:$B,2,FALSE))","v":{"$error":"#N/A"}},{"$f":"IF(A590=\"\",\"\",VLOOKUP(A590,[1]ItemConfig!$A:$D,4,FALSE))","v":{"$error":"#N/A"}},{"$f":"IF(A590=\"\",\"\",VLOOKUP(A590,[1]ItemConfig!$A:$C,3,FALSE))","v":{"$error":"#N/A"}},{"$f":"IF(A590=\"\",\"\",VLOOKUP(B590,#REF!,5,FALSE))","v":{"$error":"#N/A"}},{"$f":"IF(A590=\"\",\"\",VLOOKUP(C590,#REF!,5,FALSE))","v":{"$error":"#N/A"}}]
[200263,{"$f":"IF(A591=\"\",\"\",VLOOKUP(A591,[1]ItemConfig!$A:$B,2,FALSE))","v":{"$error":"#N/A"}},{"$f":"IF(A591=\"\",\"\",VLOOKUP(A591,[1]ItemConfig!$A:$D,4,FALSE))","v":{"$error":"#N/A"}},{"$f":"IF(A591=\"\",\"\",VLOOKUP(A591,[1]ItemConfig!$A:$C,3,FALSE))","v":{"$error":"#N/A"}},{"$f":"IF(A591=\"\",\"\",VLOOKUP(B591,#REF!,5,FALSE))","v":{"$error":"#N/A"}},{"$f":"IF(A591=\"\",\"\",VLOOKUP(C591,#REF!,5,FALSE))","v":{"$error":"#N/A"}}]
[200264,{"$f":"IF(A592=\"\",\"\",VLOOKUP(A592,[1]ItemConfig!$A:$B,2,FALSE))","v":{"$error":"#N/A"}},{"$f":"IF(A592=\"\",\"\",VLOOKUP(A592,[1]ItemConfig!$A:$D,4,FALSE))","v":{"$error":"#N/A"}},{"$f":"IF(A592=\"\",\"\",VLOOKUP(A592,[1]ItemConfig!$A:$C,3,FALSE))","v":{"$error":"#N/A"}},{"$f":"IF(A592=\"\",\"\",VLOOKUP(B592,#REF!,5,FALSE))","v":{"$error":"#N/A"}},{"$f":"IF(A592=\"\",\"\",VLOOKUP(C592,#REF!,5,FALSE))","v":{"$error":"#N/A"}}]
[200265,{"$f":"IF(A593=\"\",\"\",VLOOKUP(A593,[1]ItemConfig!$A:$B,2,FALSE))","v":{"$error":"#N/A"}},{"$f":"IF(A593=\"\",\"\",VLOOKUP(A593,[1]ItemConfig!$A:$D,4,FALSE))","v":{"$error":"#N/A"}},{"$f":"IF(A593=\"\",\"\",VLOOKUP(A593,[1]ItemConfig!$A:$C,3,FALSE))","v":{"$error":"#N/A"}},{"$f":"IF(A593=\"\",\"\",VLOOKUP(B593,#REF!,5,FALSE))","v":{"$error":"#N/A"}},{"$f":"IF(A593=\"\",\"\",VLOOKUP(C593,#REF!,5,FALSE))","v":{"$error":"#N/A"}}]
[200266,{"$f":"IF(A594=\"\",\"\",VLOOKUP(A594,[1]ItemConfig!$A:$B,2,FALSE))","v":{"$error":"#N/A"}},{"$f":"IF(A594=\"\",\"\",VLOOKUP(A594,[1]ItemConfig!$A:$D,4,FALSE))","v":{"$error":"#N/A"}},{"$f":"IF(A594=\"\",\"\",VLOOKUP(A594,[1]ItemConfig!$A:$C,3,FALSE))","v":{"$error":"#N/A"}},{"$f":"IF(A594=\"\",\"\",VLOOKUP(B594,#REF!,5,FALSE))","v":{"$error":"#N/A"}},{"$f":"IF(A594=\"\",\"\",VLOOKUP(C594,#REF!,5,FALSE))","v":{"$error":"#N/A"}}]
[null,{"$f":"IF(A595=\"\",\"\",VLOOKUP(A595,[1]ItemConfig!$A:$B,2,FALSE))","v":""},{"$f":"IF(A595=\"\",\"\",VLOOKUP(A595,[1]ItemConfig!$A:$D,4,FALSE))","v":""},{"$f":"IF(A595=\"\",\"\",VLOOKUP(A595,[1]ItemConfig!$A:$C,3,FALSE))","v":""},{"$f":"IF(A595=\"\",\"\",VLOOKUP(B595,#REF!,5,FALSE))","v":""},{"$f":"IF(A595=\"\",\"\",VLOOKUP(C595,#REF!,5,FALSE))","v":""}]
[200267,{"$f":"IF(A596=\"\",\"\",VLOOKUP(A596,[1]ItemConfig!$A:$B,2,FALSE))","v":{"$error":"#N/A"}},{"$f":"IF(A596=\"\",\"\",VLOOKUP(A596,[1]ItemConfig!$A:$D,4,FALSE))","v":{"$error":"#N/A"}},{"$f":"IF(A596=\"\",\"\",VLOOKUP(A596,[1]ItemConfig!$A:$C,3,FALSE))","v":{"$error":"#N/A"}},{"$f":"IF(A596=\"\",\"\",VLOOKUP(B596,#REF!,5,FALSE))","v":{"$error":"#N/A"}},{"$f":"IF(A596=\"\",\"\",VLOOKUP(C596,#REF!,5,FALSE))","v":{"$error":"#N/A"}}]
[200268,{"$f":"IF(A597=\"\",\"\",VLOOKUP(A597,[1]ItemConfig!$A:$B,2,FALSE))","v":{"$error":"#N/A"}},{"$f":"IF(A597=\"\",\"\",VLOOKUP(A597,[1]ItemConfig!$A:$D,4,FALSE))","v":{"$error":"#N/A"}},{"$f":"IF(A597=\"\",\"\",VLOOKUP(A597,[1]ItemConfig!$A:$C,3,FALSE))","v":{"$error":"#N/A"}},{"$f":"IF(A597=\"\",\"\",VLOOKUP(B597,#REF!,5,FALSE))","v":{"$error":"#N/A"}},{"$f":"IF(A597=\"\",\"\",VLOOKUP(C597,#REF!,5,FALSE))","v":{"$error":"#N/A"}}]
[200269,{"$f":"IF(A598=\"\",\"\",VLOOKUP(A598,[1]ItemConfig!$A:$B,2,FALSE))","v":{"$error":"#N/A"}},{"$f":"IF(A598=\"\",\"\",VLOOKUP(A598,[1]ItemConfig!$A:$D,4,FALSE))","v":{"$error":"#N/A"}},{"$f":"IF(A598=\"\",\"\",VLOOKUP(A598,[1]ItemConfig!$A:$C,3,FALSE))","v":{"$error":"#N/A"}},{"$f":"IF(A598=\"\",\"\",VLOOKUP(B598,#REF!,5,FALSE))","v":{"$error":"#N/A"}},{"$f":"IF(A598=\"\",\"\",VLOOKUP(C598,#REF!,5,FALSE))","v":{"$error":"#N/A"}}]
[200270,{"$f":"IF(A599=\"\",\"\",VLOOKUP(A599,[1]ItemConfig!$A:$B,2,FALSE))","v":{"$error":"#N/A"}},{"$f":"IF(A599=\"\",\"\",VLOOKUP(A599,[1]ItemConfig!$A:$D,4,FALSE))","v":{"$error":"#N/A"}},{"$f":"IF(A599=\"\",\"\",VLOOKUP(A599,[1]ItemConfig!$A:$C,3,FALSE))","v":{"$error":"#N/A"}},{"$f":"IF(A599=\"\",\"\",VLOOKUP(B599,#REF!,5,FALSE))","v":{"$error":"#N/A"}},{"$f":"IF(A599=\"\",\"\",VLOOKUP(C599,#REF!,5,FALSE))","v":{"$error":"#N/A"}}]
[200271,{"$f":"IF(A600=\"\",\"\",VLOOKUP(A600,[1]ItemConfig!$A:$B,2,FALSE))","v":{"$error":"#N/A"}},{"$f":"IF(A600=\"\",\"\",VLOOKUP(A600,[1]ItemConfig!$A:$D,4,FALSE))","v":{"$error":"#N/A"}},{"$f":"IF(A600=\"\",\"\",VLOOKUP(A600,[1]ItemConfig!$A:$C,3,FALSE))","v":{"$error":"#N/A"}},{"$f":"IF(A600=\"\",\"\",VLOOKUP(B600,#REF!,5,FALSE))","v":{"$error":"#N/A"}},{"$f":"IF(A600=\"\",\"\",VLOOKUP(C600,#REF!,5,FALSE))","v":{"$error":"#N/A"}}]
[200272,{"$f":"IF(A601=\"\",\"\",VLOOKUP(A601,[1]ItemConfig!$A:$B,2,FALSE))","v":{"$error":"#N/A"}},{"$f":"IF(A601=\"\",\"\",VLOOKUP(A601,[1]ItemConfig!$A:$D,4,FALSE))","v":{"$error":"#N/A"}},{"$f":"IF(A601=\"\",\"\",VLOOKUP(A601,[1]ItemConfig!$A:$C,3,FALSE))","v":{"$error":"#N/A"}},{"$f":"IF(A601=\"\",\"\",VLOOKUP(B601,#REF!,5,FALSE))","v":{"$error":"#N/A"}},{"$f":"IF(A601=\"\",\"\",VLOOKUP(C601,#REF!,5,FALSE))","v":{"$error":"#N/A"}}]
[200273,{"$f":"IF(A602=\"\",\"\",VLOOKUP(A602,[1]ItemConfig!$A:$B,2,FALSE))","v":{"$error":"#N/A"}},{"$f":"IF(A602=\"\",\"\",VLOOKUP(A602,[1]ItemConfig!$A:$D,4,FALSE))","v":{"$error":"#N/A"}},{"$f":"IF(A602=\"\",\"\",VLOOKUP(A602,[1]ItemConfig!$A:$C,3,FALSE))","v":{"$error":"#N/A"}},{"$f":"IF(A602=\"\",\"\",VLOOKUP(B602,#REF!,5,FALSE))","v":{"$error":"#N/A"}},{"$f":"IF(A602=\"\",\"\",VLOOKUP(C602,#REF!,5,FALSE))","v":{"$error":"#N/A"}}]
[200274,{"$f":"IF(A603=\"\",\"\",VLOOKUP(A603,[1]ItemConfig!$A:$B,2,FALSE))","v":{"$error":"#N/A"}},{"$f":"IF(A603=\"\",\"\",VLOOKUP(A603,[1]ItemConfig!$A:$D,4,FALSE))","v":{"$error":"#N/A"}},{"$f":"IF(A603=\"\",\"\",VLOOKUP(A603,[1]ItemConfig!$A:$C,3,FALSE))","v":{"$error":"#N/A"}},{"$f":"IF(A603=\"\",\"\",VLOOKUP(B603,#REF!,5,FALSE))","v":{"$error":"#N/A"}},{"$f":"IF(A603=\"\",\"\",VLOOKUP(C603,#REF!,5,FALSE))","v":{"$error":"#N/A"}}]
[200275,{"$f":"IF(A604=\"\",\"\",VLOOKUP(A604,[1]ItemConfig!$A:$B,2,FALSE))","v":{"$error":"#N/A"}},{"$f":"IF(A604=\"\",\"\",VLOOKUP(A604,[1]ItemConfig!$A:$D,4,FALSE))","v":{"$error":"#N/A"}},{"$f":"IF(A604=\"\",\"\",VLOOKUP(A604,[1]ItemConfig!$A:$C,3,FALSE))","v":{"$error":"#N/A"}},{"$f":"IF(A604=\"\",\"\",VLOOKUP(B604,#REF!,5,FALSE))","v":{"$error":"#N/A"}},{"$f":"IF(A604=\"\",\"\",VLOOKUP(C604,#REF!,5,FALSE))","v":{"$error":"#N/A"}}]
[200276,{"$f":"IF(A605=\"\",\"\",VLOOKUP(A605,[1]ItemConfig!$A:$B,2,FALSE))","v":{"$error":"#N/A"}},{"$f":"IF(A605=\"\",\"\",VLOOKUP(A605,[1]ItemConfig!$A:$D,4,FALSE))","v":{"$error":"#N/A"}},{"$f":"IF(A605=\"\",\"\",VLOOKUP(A605,[1]ItemConfig!$A:$C,3,FALSE))","v":{"$error":"#N/A"}},{"$f":"IF(A605=\"\",\"\",VLOOKUP(B605,#REF!,5,FALSE))","v":{"$error":"#N/A"}},{"$f":"IF(A605=\"\",\"\",VLOOKUP(C605,#REF!,5,FALSE))","v":{"$error":"#N/A"}}]
[200277,{"$f":"IF(A606=\"\",\"\",VLOOKUP(A606,[1]ItemConfig!$A:$B,2,FALSE))","v":{"$error":"#N/A"}},{"$f":"IF(A606=\"\",\"\",VLOOKUP(A606,[1]ItemConfig!$A:$D,4,FALSE))","v":{"$error":"#N/A"}},{"$f":"IF(A606=\"\",\"\",VLOOKUP(A606,[1]ItemConfig!$A:$C,3,FALSE))","v":{"$error":"#N/A"}},{"$f":"IF(A606=\"\",\"\",VLOOKUP(B606,#REF!,5,FALSE))","v":{"$error":"#N/A"}},{"$f":"IF(A606=\"\",\"\",VLOOKUP(C606,#REF!,5,FALSE))","v":{"$error":"#N/A"}}]
[200278,{"$f":"IF(A607=\"\",\"\",VLOOKUP(A607,[1]ItemConfig!$A:$B,2,FALSE))","v":{"$error":"#N/A"}},{"$f":"IF(A607=\"\",\"\",VLOOKUP(A607,[1]ItemConfig!$A:$D,4,FALSE))","v":{"$error":"#N/A"}},{"$f":"IF(A607=\"\",\"\",VLOOKUP(A607,[1]ItemConfig!$A:$C,3,FALSE))","v":{"$error":"#N/A"}},{"$f":"IF(A607=\"\",\"\",VLOOKUP(B607,#REF!,5,FALSE))","v":{"$error":"#N/A"}},{"$f":"IF(A607=\"\",\"\",VLOOKUP(C607,#REF!,5,FALSE))","v":{"$error":"#N/A"}}]
[200279,{"$f":"IF(A608=\"\",\"\",VLOOKUP(A608,[1]ItemConfig!$A:$B,2,FALSE))","v":{"$error":"#N/A"}},{"$f":"IF(A608=\"\",\"\",VLOOKUP(A608,[1]ItemConfig!$A:$D,4,FALSE))","v":{"$error":"#N/A"}},{"$f":"IF(A608=\"\",\"\",VLOOKUP(A608,[1]ItemConfig!$A:$C,3,FALSE))","v":{"$error":"#N/A"}},{"$f":"IF(A608=\"\",\"\",VLOOKUP(B608,#REF!,5,FALSE))","v":{"$error":"#N/A"}},{"$f":"IF(A608=\"\",\"\",VLOOKUP(C608,#REF!,5,FALSE))","v":{"$error":"#N/A"}}]
[200280,{"$f":"IF(A609=\"\",\"\",VLOOKUP(A609,[1]ItemConfig!$A:$B,2,FALSE))","v":{"$error":"#N/A"}},{"$f":"IF(A609=\"\",\"\",VLOOKUP(A609,[1]ItemConfig!$A:$D,4,FALSE))","v":{"$error":"#N/A"}},{"$f":"IF(A609=\"\",\"\",VLOOKUP(A609,[1]ItemConfig!$A:$C,3,FALSE))","v":{"$error":"#N/A"}},{"$f":"IF(A609=\"\",\"\",VLOOKUP(B609,#REF!,5,FALSE))","v":{"$error":"#N/A"}},{"$f":"IF(A609=\"\",\"\",VLOOKUP(C609,#REF!,5,FALSE))","v":{"$error":"#N/A"}}]
[200281,{"$f":"IF(A610=\"\",\"\",VLOOKUP(A610,[1]ItemConfig!$A:$B,2,FALSE))","v":{"$error":"#N/A"}},{"$f":"IF(A610=\"\",\"\",VLOOKUP(A610,[1]ItemConfig!$A:$D,4,FALSE))","v":{"$error":"#N/A"}},{"$f":"IF(A610=\"\",\"\",VLOOKUP(A610,[1]ItemConfig!$A:$C,3,FALSE))","v":{"$error":"#N/A"}},{"$f":"IF(A610=\"\",\"\",VLOOKUP(B610,#REF!,5,FALSE))","v":{"$error":"#N/A"}},{"$f":"IF(A610=\"\",\"\",VLOOKUP(C610,#REF!,5,FALSE))","v":{"$error":"#N/A"}}]
[200282,{"$f":"IF(A611=\"\",\"\",VLOOKUP(A611,[1]ItemConfig!$A:$B,2,FALSE))","v":{"$error":"#N/A"}},{"$f":"IF(A611=\"\",\"\",VLOOKUP(A611,[1]ItemConfig!$A:$D,4,FALSE))","v":{"$error":"#N/A"}},{"$f":"IF(A611=\"\",\"\",VLOOKUP(A611,[1]ItemConfig!$A:$C,3,FALSE))","v":{"$error":"#N/A"}},{"$f":"IF(A611=\"\",\"\",VLOOKUP(B611,#REF!,5,FALSE))","v":{"$error":"#N/A"}},{"$f":"IF(A611=\"\",\"\",VLOOKUP(C611,#REF!,5,FALSE))","v":{"$error":"#N/A"}}]
[200283,{"$f":"IF(A612=\"\",\"\",VLOOKUP(A612,[1]ItemConfig!$A:$B,2,FALSE))","v":{"$error":"#N/A"}},{"$f":"IF(A612=\"\",\"\",VLOOKUP(A612,[1]ItemConfig!$A:$D,4,FALSE))","v":{"$error":"#N/A"}},{"$f":"IF(A612=\"\",\"\",VLOOKUP(A612,[1]ItemConfig!$A:$C,3,FALSE))","v":{"$error":"#N/A"}},{"$f":"IF(A612=\"\",\"\",VLOOKUP(B612,#REF!,5,FALSE))","v":{"$error":"#N/A"}},{"$f":"IF(A612=\"\",\"\",VLOOKUP(C612,#REF!,5,FALSE))","v":{"$error":"#N/A"}}]
[200284,{"$f":"IF(A613=\"\",\"\",VLOOKUP(A613,[1]ItemConfig!$A:$B,2,FALSE))","v":{"$error":"#N/A"}},{"$f":"IF(A613=\"\",\"\",VLOOKUP(A613,[1]ItemConfig!$A:$D,4,FALSE))","v":{"$error":"#N/A"}},{"$f":"IF(A613=\"\",\"\",VLOOKUP(A613,[1]ItemConfig!$A:$C,3,FALSE))","v":{"$error":"#N/A"}},{"$f":"IF(A613=\"\",\"\",VLOOKUP(B613,#REF!,5,FALSE))","v":{"$error":"#N/A"}},{"$f":"IF(A613=\"\",\"\",VLOOKUP(C613,#REF!,5,FALSE))","v":{"$error":"#N/A"}}]
[200285,{"$f":"IF(A614=\"\",\"\",VLOOKUP(A614,[1]ItemConfig!$A:$B,2,FALSE))","v":{"$error":"#N/A"}},{"$f":"IF(A614=\"\",\"\",VLOOKUP(A614,[1]ItemConfig!$A:$D,4,FALSE))","v":{"$error":"#N/A"}},{"$f":"IF(A614=\"\",\"\",VLOOKUP(A614,[1]ItemConfig!$A:$C,3,FALSE))","v":{"$error":"#N/A"}},{"$f":"IF(A614=\"\",\"\",VLOOKUP(B614,#REF!,5,FALSE))","v":{"$error":"#N/A"}},{"$f":"IF(A614=\"\",\"\",VLOOKUP(C614,#REF!,5,FALSE))","v":{"$error":"#N/A"}}]
[200286,{"$f":"IF(A615=\"\",\"\",VLOOKUP(A615,[1]ItemConfig!$A:$B,2,FALSE))","v":{"$error":"#N/A"}},{"$f":"IF(A615=\"\",\"\",VLOOKUP(A615,[1]ItemConfig!$A:$D,4,FALSE))","v":{"$error":"#N/A"}},{"$f":"IF(A615=\"\",\"\",VLOOKUP(A615,[1]ItemConfig!$A:$C,3,FALSE))","v":{"$error":"#N/A"}},{"$f":"IF(A615=\"\",\"\",VLOOKUP(B615,#REF!,5,FALSE))","v":{"$error":"#N/A"}},{"$f":"IF(A615=\"\",\"\",VLOOKUP(C615,#REF!,5,FALSE))","v":{"$error":"#N/A"}}]
[200287,{"$f":"IF(A616=\"\",\"\",VLOOKUP(A616,[1]ItemConfig!$A:$B,2,FALSE))","v":{"$error":"#N/A"}},{"$f":"IF(A616=\"\",\"\",VLOOKUP(A616,[1]ItemConfig!$A:$D,4,FALSE))","v":{"$error":"#N/A"}},{"$f":"IF(A616=\"\",\"\",VLOOKUP(A616,[1]ItemConfig!$A:$C,3,FALSE))","v":{"$error":"#N/A"}},{"$f":"IF(A616=\"\",\"\",VLOOKUP(B616,#REF!,5,FALSE))","v":{"$error":"#N/A"}},{"$f":"IF(A616=\"\",\"\",VLOOKUP(C616,#REF!,5,FALSE))","v":{"$error":"#N/A"}}]
[200288,{"$f":"IF(A617=\"\",\"\",VLOOKUP(A617,[1]ItemConfig!$A:$B,2,FALSE))","v":{"$error":"#N/A"}},{"$f":"IF(A617=\"\",\"\",VLOOKUP(A617,[1]ItemConfig!$A:$D,4,FALSE))","v":{"$error":"#N/A"}},{"$f":"IF(A617=\"\",\"\",VLOOKUP(A617,[1]ItemConfig!$A:$C,3,FALSE))","v":{"$error":"#N/A"}},{"$f":"IF(A617=\"\",\"\",VLOOKUP(B617,#REF!,5,FALSE))","v":{"$error":"#N/A"}},{"$f":"IF(A617=\"\",\"\",VLOOKUP(C617,#REF!,5,FALSE))","v":{"$error":"#N/A"}}]
[200289,{"$f":"IF(A618=\"\",\"\",VLOOKUP(A618,[1]ItemConfig!$A:$B,2,FALSE))","v":{"$error":"#N/A"}},{"$f":"IF(A618=\"\",\"\",VLOOKUP(A618,[1]ItemConfig!$A:$D,4,FALSE))","v":{"$error":"#N/A"}},{"$f":"IF(A618=\"\",\"\",VLOOKUP(A618,[1]ItemConfig!$A:$C,3,FALSE))","v":{"$error":"#N/A"}},{"$f":"IF(A618=\"\",\"\",VLOOKUP(B618,#REF!,5,FALSE))","v":{"$error":"#N/A"}},{"$f":"IF(A618=\"\",\"\",VLOOKUP(C618,#REF!,5,FALSE))","v":{"$error":"#N/A"}}]
[200290,{"$f":"IF(A619=\"\",\"\",VLOOKUP(A619,[1]ItemConfig!$A:$B,2,FALSE))","v":{"$error":"#N/A"}},{"$f":"IF(A619=\"\",\"\",VLOOKUP(A619,[1]ItemConfig!$A:$D,4,FALSE))","v":{"$error":"#N/A"}},{"$f":"IF(A619=\"\",\"\",VLOOKUP(A619,[1]ItemConfig!$A:$C,3,FALSE))","v":{"$error":"#N/A"}},{"$f":"IF(A619=\"\",\"\",VLOOKUP(B619,#REF!,5,FALSE))","v":{"$error":"#N/A"}},{"$f":"IF(A619=\"\",\"\",VLOOKUP(C619,#REF!,5,FALSE))","v":{"$error":"#N/A"}}]
[200291,{"$f":"IF(A620=\"\",\"\",VLOOKUP(A620,[1]ItemConfig!$A:$B,2,FALSE))","v":{"$error":"#N/A"}},{"$f":"IF(A620=\"\",\"\",VLOOKUP(A620,[1]ItemConfig!$A:$D,4,FALSE))","v":{"$error":"#N/A"}},{"$f":"IF(A620=\"\",\"\",VLOOKUP(A620,[1]ItemConfig!$A:$C,3,FALSE))","v":{"$error":"#N/A"}},{"$f":"IF(A620=\"\",\"\",VLOOKUP(B620,#REF!,5,FALSE))","v":{"$error":"#N/A"}},{"$f":"IF(A620=\"\",\"\",VLOOKUP(C620,#REF!,5,FALSE))","v":{"$error":"#N/A"}}]
[200292,{"$f":"IF(A621=\"\",\"\",VLOOKUP(A621,[1]ItemConfig!$A:$B,2,FALSE))","v":{"$error":"#N/A"}},{"$f":"IF(A621=\"\",\"\",VLOOKUP(A621,[1]ItemConfig!$A:$D,4,FALSE))","v":{"$error":"#N/A"}},{"$f":"IF(A621=\"\",\"\",VLOOKUP(A621,[1]ItemConfig!$A:$C,3,FALSE))","v":{"$error":"#N/A"}},{"$f":"IF(A621=\"\",\"\",VLOOKUP(B621,#REF!,5,FALSE))","v":{"$error":"#N/A"}},{"$f":"IF(A621=\"\",\"\",VLOOKUP(C621,#REF!,5,FALSE))","v":{"$error":"#N/A"}}]
[200293,{"$f":"IF(A622=\"\",\"\",VLOOKUP(A622,[1]ItemConfig!$A:$B,2,FALSE))","v":{"$error":"#N/A"}},{"$f":"IF(A622=\"\",\"\",VLOOKUP(A622,[1]ItemConfig!$A:$D,4,FALSE))","v":{"$error":"#N/A"}},{"$f":"IF(A622=\"\",\"\",VLOOKUP(A622,[1]ItemConfig!$A:$C,3,FALSE))","v":{"$error":"#N/A"}},{"$f":"IF(A622=\"\",\"\",VLOOKUP(B622,#REF!,5,FALSE))","v":{"$error":"#N/A"}},{"$f":"IF(A622=\"\",\"\",VLOOKUP(C622,#REF!,5,FALSE))","v":{"$error":"#N/A"}}]
[200294,{"$f":"IF(A623=\"\",\"\",VLOOKUP(A623,[1]ItemConfig!$A:$B,2,FALSE))","v":{"$error":"#N/A"}},{"$f":"IF(A623=\"\",\"\",VLOOKUP(A623,[1]ItemConfig!$A:$D,4,FALSE))","v":{"$error":"#N/A"}},{"$f":"IF(A623=\"\",\"\",VLOOKUP(A623,[1]ItemConfig!$A:$C,3,FALSE))","v":{"$error":"#N/A"}},{"$f":"IF(A623=\"\",\"\",VLOOKUP(B623,#REF!,5,FALSE))","v":{"$error":"#N/A"}},{"$f":"IF(A623=\"\",\"\",VLOOKUP(C623,#REF!,5,FALSE))","v":{"$error":"#N/A"}}]
[null,{"$f":"IF(A624=\"\",\"\",VLOOKUP(A624,[1]ItemConfig!$A:$B,2,FALSE))","v":""},{"$f":"IF(A624=\"\",\"\",VLOOKUP(A624,[1]ItemConfig!$A:$D,4,FALSE))","v":""},{"$f":"IF(A624=\"\",\"\",VLOOKUP(A624,[1]ItemConfig!$A:$C,3,FALSE))","v":""},{"$f":"IF(A624=\"\",\"\",VLOOKUP(B624,#REF!,5,FALSE))","v":""},{"$f":"IF(A624=\"\",\"\",VLOOKUP(C624,#REF!,5,FALSE))","v":""}]
[200295,{"$f":"IF(A625=\"\",\"\",VLOOKUP(A625,[1]ItemConfig!$A:$B,2,FALSE))","v":{"$error":"#N/A"}},{"$f":"IF(A625=\"\",\"\",VLOOKUP(A625,[1]ItemConfig!$A:$D,4,FALSE))","v":{"$error":"#N/A"}},{"$f":"IF(A625=\"\",\"\",VLOOKUP(A625,[1]ItemConfig!$A:$C,3,FALSE))","v":{"$error":"#N/A"}},{"$f":"IF(A625=\"\",\"\",VLOOKUP(B625,#REF!,5,FALSE))","v":{"$error":"#N/A"}},{"$f":"IF(A625=\"\",\"\",VLOOKUP(C625,#REF!,5,FALSE))","v":{"$error":"#N/A"}}]
[200296,{"$f":"IF(A626=\"\",\"\",VLOOKUP(A626,[1]ItemConfig!$A:$B,2,FALSE))","v":{"$error":"#N/A"}},{"$f":"IF(A626=\"\",\"\",VLOOKUP(A626,[1]ItemConfig!$A:$D,4,FALSE))","v":{"$error":"#N/A"}},{"$f":"IF(A626=\"\",\"\",VLOOKUP(A626,[1]ItemConfig!$A:$C,3,FALSE))","v":{"$error":"#N/A"}},{"$f":"IF(A626=\"\",\"\",VLOOKUP(B626,#REF!,5,FALSE))","v":{"$error":"#N/A"}},{"$f":"IF(A626=\"\",\"\",VLOOKUP(C626,#REF!,5,FALSE))","v":{"$error":"#N/A"}}]
[200297,{"$f":"IF(A627=\"\",\"\",VLOOKUP(A627,[1]ItemConfig!$A:$B,2,FALSE))","v":{"$error":"#N/A"}},{"$f":"IF(A627=\"\",\"\",VLOOKUP(A627,[1]ItemConfig!$A:$D,4,FALSE))","v":{"$error":"#N/A"}},{"$f":"IF(A627=\"\",\"\",VLOOKUP(A627,[1]ItemConfig!$A:$C,3,FALSE))","v":{"$error":"#N/A"}},{"$f":"IF(A627=\"\",\"\",VLOOKUP(B627,#REF!,5,FALSE))","v":{"$error":"#N/A"}},{"$f":"IF(A627=\"\",\"\",VLOOKUP(C627,#REF!,5,FALSE))","v":{"$error":"#N/A"}}]
[200298,{"$f":"IF(A628=\"\",\"\",VLOOKUP(A628,[1]ItemConfig!$A:$B,2,FALSE))","v":{"$error":"#N/A"}},{"$f":"IF(A628=\"\",\"\",VLOOKUP(A628,[1]ItemConfig!$A:$D,4,FALSE))","v":{"$error":"#N/A"}},{"$f":"IF(A628=\"\",\"\",VLOOKUP(A628,[1]ItemConfig!$A:$C,3,FALSE))","v":{"$error":"#N/A"}},{"$f":"IF(A628=\"\",\"\",VLOOKUP(B628,#REF!,5,FALSE))","v":{"$error":"#N/A"}},{"$f":"IF(A628=\"\",\"\",VLOOKUP(C628,#REF!,5,FALSE))","v":{"$error":"#N/A"}}]
[200299,{"$f":"IF(A629=\"\",\"\",VLOOKUP(A629,[1]ItemConfig!$A:$B,2,FALSE))","v":{"$error":"#N/A"}},{"$f":"IF(A629=\"\",\"\",VLOOKUP(A629,[1]ItemConfig!$A:$D,4,FALSE))","v":{"$error":"#N/A"}},{"$f":"IF(A629=\"\",\"\",VLOOKUP(A629,[1]ItemConfig!$A:$C,3,FALSE))","v":{"$error":"#N/A"}},{"$f":"IF(A629=\"\",\"\",VLOOKUP(B629,#REF!,5,FALSE))","v":{"$error":"#N/A"}},{"$f":"IF(A629=\"\",\"\",VLOOKUP(C629,#REF!,5,FALSE))","v":{"$error":"#N/A"}}]
[200300,{"$f":"IF(A630=\"\",\"\",VLOOKUP(A630,[1]ItemConfig!$A:$B,2,FALSE))","v":{"$error":"#N/A"}},{"$f":"IF(A630=\"\",\"\",VLOOKUP(A630,[1]ItemConfig!$A:$D,4,FALSE))","v":{"$error":"#N/A"}},{"$f":"IF(A630=\"\",\"\",VLOOKUP(A630,[1]ItemConfig!$A:$C,3,FALSE))","v":{"$error":"#N/A"}},{"$f":"IF(A630=\"\",\"\",VLOOKUP(B630,#REF!,5,FALSE))","v":{"$error":"#N/A"}},{"$f":"IF(A630=\"\",\"\",VLOOKUP(C630,#REF!,5,FALSE))","v":{"$error":"#N/A"}}]
[200301,{"$f":"IF(A631=\"\",\"\",VLOOKUP(A631,[1]ItemConfig!$A:$B,2,FALSE))","v":{"$error":"#N/A"}},{"$f":"IF(A631=\"\",\"\",VLOOKUP(A631,[1]ItemConfig!$A:$D,4,FALSE))","v":{"$error":"#N/A"}},{"$f":"IF(A631=\"\",\"\",VLOOKUP(A631,[1]ItemConfig!$A:$C,3,FALSE))","v":{"$error":"#N/A"}},{"$f":"IF(A631=\"\",\"\",VLOOKUP(B631,#REF!,5,FALSE))","v":{"$error":"#N/A"}},{"$f":"IF(A631=\"\",\"\",VLOOKUP(C631,#REF!,5,FALSE))","v":{"$error":"#N/A"}}]
[200302,{"$f":"IF(A632=\"\",\"\",VLOOKUP(A632,[1]ItemConfig!$A:$B,2,FALSE))","v":{"$error":"#N/A"}},{"$f":"IF(A632=\"\",\"\",VLOOKUP(A632,[1]ItemConfig!$A:$D,4,FALSE))","v":{"$error":"#N/A"}},{"$f":"IF(A632=\"\",\"\",VLOOKUP(A632,[1]ItemConfig!$A:$C,3,FALSE))","v":{"$error":"#N/A"}},{"$f":"IF(A632=\"\",\"\",VLOOKUP(B632,#REF!,5,FALSE))","v":{"$error":"#N/A"}},{"$f":"IF(A632=\"\",\"\",VLOOKUP(C632,#REF!,5,FALSE))","v":{"$error":"#N/A"}}]
[200303,{"$f":"IF(A633=\"\",\"\",VLOOKUP(A633,[1]ItemConfig!$A:$B,2,FALSE))","v":{"$error":"#N/A"}},{"$f":"IF(A633=\"\",\"\",VLOOKUP(A633,[1]ItemConfig!$A:$D,4,FALSE))","v":{"$error":"#N/A"}},{"$f":"IF(A633=\"\",\"\",VLOOKUP(A633,[1]ItemConfig!$A:$C,3,FALSE))","v":{"$error":"#N/A"}},{"$f":"IF(A633=\"\",\"\",VLOOKUP(B633,#REF!,5,FALSE))","v":{"$error":"#N/A"}},{"$f":"IF(A633=\"\",\"\",VLOOKUP(C633,#REF!,5,FALSE))","v":{"$error":"#N/A"}}]
[200304,{"$f":"IF(A634=\"\",\"\",VLOOKUP(A634,[1]ItemConfig!$A:$B,2,FALSE))","v":{"$error":"#N/A"}},{"$f":"IF(A634=\"\",\"\",VLOOKUP(A634,[1]ItemConfig!$A:$D,4,FALSE))","v":{"$error":"#N/A"}},{"$f":"IF(A634=\"\",\"\",VLOOKUP(A634,[1]ItemConfig!$A:$C,3,FALSE))","v":{"$error":"#N/A"}},{"$f":"IF(A634=\"\",\"\",VLOOKUP(B634,#REF!,5,FALSE))","v":{"$error":"#N/A"}},{"$f":"IF(A634=\"\",\"\",VLOOKUP(C634,#REF!,5,FALSE))","v":{"$error":"#N/A"}}]
[200305,{"$f":"IF(A635=\"\",\"\",VLOOKUP(A635,[1]ItemConfig!$A:$B,2,FALSE))","v":{"$error":"#N/A"}},{"$f":"IF(A635=\"\",\"\",VLOOKUP(A635,[1]ItemConfig!$A:$D,4,FALSE))","v":{"$error":"#N/A"}},{"$f":"IF(A635=\"\",\"\",VLOOKUP(A635,[1]ItemConfig!$A:$C,3,FALSE))","v":{"$error":"#N/A"}},{"$f":"IF(A635=\"\",\"\",VLOOKUP(B635,#REF!,5,FALSE))","v":{"$error":"#N/A"}},{"$f":"IF(A635=\"\",\"\",VLOOKUP(C635,#REF!,5,FALSE))","v":{"$error":"#N/A"}}]
[200306,{"$f":"IF(A636=\"\",\"\",VLOOKUP(A636,[1]ItemConfig!$A:$B,2,FALSE))","v":{"$error":"#N/A"}},{"$f":"IF(A636=\"\",\"\",VLOOKUP(A636,[1]ItemConfig!$A:$D,4,FALSE))","v":{"$error":"#N/A"}},{"$f":"IF(A636=\"\",\"\",VLOOKUP(A636,[1]ItemConfig!$A:$C,3,FALSE))","v":{"$error":"#N/A"}},{"$f":"IF(A636=\"\",\"\",VLOOKUP(B636,#REF!,5,FALSE))","v":{"$error":"#N/A"}},{"$f":"IF(A636=\"\",\"\",VLOOKUP(C636,#REF!,5,FALSE))","v":{"$error":"#N/A"}}]
[200307,{"$f":"IF(A637=\"\",\"\",VLOOKUP(A637,[1]ItemConfig!$A:$B,2,FALSE))","v":{"$error":"#N/A"}},{"$f":"IF(A637=\"\",\"\",VLOOKUP(A637,[1]ItemConfig!$A:$D,4,FALSE))","v":{"$error":"#N/A"}},{"$f":"IF(A637=\"\",\"\",VLOOKUP(A637,[1]ItemConfig!$A:$C,3,FALSE))","v":{"$error":"#N/A"}},{"$f":"IF(A637=\"\",\"\",VLOOKUP(B637,#REF!,5,FALSE))","v":{"$error":"#N/A"}},{"$f":"IF(A637=\"\",\"\",VLOOKUP(C637,#REF!,5,FALSE))","v":{"$error":"#N/A"}}]
[200308,{"$f":"IF(A638=\"\",\"\",VLOOKUP(A638,[1]ItemConfig!$A:$B,2,FALSE))","v":{"$error":"#N/A"}},{"$f":"IF(A638=\"\",\"\",VLOOKUP(A638,[1]ItemConfig!$A:$D,4,FALSE))","v":{"$error":"#N/A"}},{"$f":"IF(A638=\"\",\"\",VLOOKUP(A638,[1]ItemConfig!$A:$C,3,FALSE))","v":{"$error":"#N/A"}},{"$f":"IF(A638=\"\",\"\",VLOOKUP(B638,#REF!,5,FALSE))","v":{"$error":"#N/A"}},{"$f":"IF(A638=\"\",\"\",VLOOKUP(C638,#REF!,5,FALSE))","v":{"$error":"#N/A"}}]
[200309,{"$f":"IF(A639=\"\",\"\",VLOOKUP(A639,[1]ItemConfig!$A:$B,2,FALSE))","v":{"$error":"#N/A"}},{"$f":"IF(A639=\"\",\"\",VLOOKUP(A639,[1]ItemConfig!$A:$D,4,FALSE))","v":{"$error":"#N/A"}},{"$f":"IF(A639=\"\",\"\",VLOOKUP(A639,[1]ItemConfig!$A:$C,3,FALSE))","v":{"$error":"#N/A"}},{"$f":"IF(A639=\"\",\"\",VLOOKUP(B639,#REF!,5,FALSE))","v":{"$error":"#N/A"}},{"$f":"IF(A639=\"\",\"\",VLOOKUP(C639,#REF!,5,FALSE))","v":{"$error":"#N/A"}}]
[200310,{"$f":"IF(A640=\"\",\"\",VLOOKUP(A640,[1]ItemConfig!$A:$B,2,FALSE))","v":{"$error":"#N/A"}},{"$f":"IF(A640=\"\",\"\",VLOOKUP(A640,[1]ItemConfig!$A:$D,4,FALSE))","v":{"$error":"#N/A"}},{"$f":"IF(A640=\"\",\"\",VLOOKUP(A640,[1]ItemConfig!$A:$C,3,FALSE))","v":{"$error":"#N/A"}},{"$f":"IF(A640=\"\",\"\",VLOOKUP(B640,#REF!,5,FALSE))","v":{"$error":"#N/A"}},{"$f":"IF(A640=\"\",\"\",VLOOKUP(C640,#REF!,5,FALSE))","v":{"$error":"#N/A"}}]
[200311,{"$f":"IF(A641=\"\",\"\",VLOOKUP(A641,[1]ItemConfig!$A:$B,2,FALSE))","v":{"$error":"#N/A"}},{"$f":"IF(A641=\"\",\"\",VLOOKUP(A641,[1]ItemConfig!$A:$D,4,FALSE))","v":{"$error":"#N/A"}},{"$f":"IF(A641=\"\",\"\",VLOOKUP(A641,[1]ItemConfig!$A:$C,3,FALSE))","v":{"$error":"#N/A"}},{"$f":"IF(A641=\"\",\"\",VLOOKUP(B641,#REF!,5,FALSE))","v":{"$error":"#N/A"}},{"$f":"IF(A641=\"\",\"\",VLOOKUP(C641,#REF!,5,FALSE))","v":{"$error":"#N/A"}}]
[200312,{"$f":"IF(A642=\"\",\"\",VLOOKUP(A642,[1]ItemConfig!$A:$B,2,FALSE))","v":{"$error":"#N/A"}},{"$f":"IF(A642=\"\",\"\",VLOOKUP(A642,[1]ItemConfig!$A:$D,4,FALSE))","v":{"$error":"#N/A"}},{"$f":"IF(A642=\"\",\"\",VLOOKUP(A642,[1]ItemConfig!$A:$C,3,FALSE))","v":{"$error":"#N/A"}},{"$f":"IF(A642=\"\",\"\",VLOOKUP(B642,#REF!,5,FALSE))","v":{"$error":"#N/A"}},{"$f":"IF(A642=\"\",\"\",VLOOKUP(C642,#REF!,5,FALSE))","v":{"$error":"#N/A"}}]
[200313,{"$f":"IF(A643=\"\",\"\",VLOOKUP(A643,[1]ItemConfig!$A:$B,2,FALSE))","v":{"$error":"#N/A"}},{"$f":"IF(A643=\"\",\"\",VLOOKUP(A643,[1]ItemConfig!$A:$D,4,FALSE))","v":{"$error":"#N/A"}},{"$f":"IF(A643=\"\",\"\",VLOOKUP(A643,[1]ItemConfig!$A:$C,3,FALSE))","v":{"$error":"#N/A"}},{"$f":"IF(A643=\"\",\"\",VLOOKUP(B643,#REF!,5,FALSE))","v":{"$error":"#N/A"}},{"$f":"IF(A643=\"\",\"\",VLOOKUP(C643,#REF!,5,FALSE))","v":{"$error":"#N/A"}}]
[200314,{"$f":"IF(A644=\"\",\"\",VLOOKUP(A644,[1]ItemConfig!$A:$B,2,FALSE))","v":{"$error":"#N/A"}},{"$f":"IF(A644=\"\",\"\",VLOOKUP(A644,[1]ItemConfig!$A:$D,4,FALSE))","v":{"$error":"#N/A"}},{"$f":"IF(A644=\"\",\"\",VLOOKUP(A644,[1]ItemConfig!$A:$C,3,FALSE))","v":{"$error":"#N/A"}},{"$f":"IF(A644=\"\",\"\",VLOOKUP(B644,#REF!,5,FALSE))","v":{"$error":"#N/A"}},{"$f":"IF(A644=\"\",\"\",VLOOKUP(C644,#REF!,5,FALSE))","v":{"$error":"#N/A"}}]
[200315,{"$f":"IF(A645=\"\",\"\",VLOOKUP(A645,[1]ItemConfig!$A:$B,2,FALSE))","v":{"$error":"#N/A"}},{"$f":"IF(A645=\"\",\"\",VLOOKUP(A645,[1]ItemConfig!$A:$D,4,FALSE))","v":{"$error":"#N/A"}},{"$f":"IF(A645=\"\",\"\",VLOOKUP(A645,[1]ItemConfig!$A:$C,3,FALSE))","v":{"$error":"#N/A"}},{"$f":"IF(A645=\"\",\"\",VLOOKUP(B645,#REF!,5,FALSE))","v":{"$error":"#N/A"}},{"$f":"IF(A645=\"\",\"\",VLOOKUP(C645,#REF!,5,FALSE))","v":{"$error":"#N/A"}}]
[200316,{"$f":"IF(A646=\"\",\"\",VLOOKUP(A646,[1]ItemConfig!$A:$B,2,FALSE))","v":{"$error":"#N/A"}},{"$f":"IF(A646=\"\",\"\",VLOOKUP(A646,[1]ItemConfig!$A:$D,4,FALSE))","v":{"$error":"#N/A"}},{"$f":"IF(A646=\"\",\"\",VLOOKUP(A646,[1]ItemConfig!$A:$C,3,FALSE))","v":{"$error":"#N/A"}},{"$f":"IF(A646=\"\",\"\",VLOOKUP(B646,#REF!,5,FALSE))","v":{"$error":"#N/A"}},{"$f":"IF(A646=\"\",\"\",VLOOKUP(C646,#REF!,5,FALSE))","v":{"$error":"#N/A"}}]
[200317,{"$f":"IF(A647=\"\",\"\",VLOOKUP(A647,[1]ItemConfig!$A:$B,2,FALSE))","v":{"$error":"#N/A"}},{"$f":"IF(A647=\"\",\"\",VLOOKUP(A647,[1]ItemConfig!$A:$D,4,FALSE))","v":{"$error":"#N/A"}},{"$f":"IF(A647=\"\",\"\",VLOOKUP(A647,[1]ItemConfig!$A:$C,3,FALSE))","v":{"$error":"#N/A"}},{"$f":"IF(A647=\"\",\"\",VLOOKUP(B647,#REF!,5,FALSE))","v":{"$error":"#N/A"}},{"$f":"IF(A647=\"\",\"\",VLOOKUP(C647,#REF!,5,FALSE))","v":{"$error":"#N/A"}}]
[200318,{"$f":"IF(A648=\"\",\"\",VLOOKUP(A648,[1]ItemConfig!$A:$B,2,FALSE))","v":{"$error":"#N/A"}},{"$f":"IF(A648=\"\",\"\",VLOOKUP(A648,[1]ItemConfig!$A:$D,4,FALSE))","v":{"$error":"#N/A"}},{"$f":"IF(A648=\"\",\"\",VLOOKUP(A648,[1]ItemConfig!$A:$C,3,FALSE))","v":{"$error":"#N/A"}},{"$f":"IF(A648=\"\",\"\",VLOOKUP(B648,#REF!,5,FALSE))","v":{"$error":"#N/A"}},{"$f":"IF(A648=\"\",\"\",VLOOKUP(C648,#REF!,5,FALSE))","v":{"$error":"#N/A"}}]
[200319,{"$f":"IF(A649=\"\",\"\",VLOOKUP(A649,[1]ItemConfig!$A:$B,2,FALSE))","v":{"$error":"#N/A"}},{"$f":"IF(A649=\"\",\"\",VLOOKUP(A649,[1]ItemConfig!$A:$D,4,FALSE))","v":{"$error":"#N/A"}},{"$f":"IF(A649=\"\",\"\",VLOOKUP(A649,[1]ItemConfig!$A:$C,3,FALSE))","v":{"$error":"#N/A"}},{"$f":"IF(A649=\"\",\"\",VLOOKUP(B649,#REF!,5,FALSE))","v":{"$error":"#N/A"}},{"$f":"IF(A649=\"\",\"\",VLOOKUP(C649,#REF!,5,FALSE))","v":{"$error":"#N/A"}}]
[200320,{"$f":"IF(A650=\"\",\"\",VLOOKUP(A650,[1]ItemConfig!$A:$B,2,FALSE))","v":{"$error":"#N/A"}},{"$f":"IF(A650=\"\",\"\",VLOOKUP(A650,[1]ItemConfig!$A:$D,4,FALSE))","v":{"$error":"#N/A"}},{"$f":"IF(A650=\"\",\"\",VLOOKUP(A650,[1]ItemConfig!$A:$C,3,FALSE))","v":{"$error":"#N/A"}},{"$f":"IF(A650=\"\",\"\",VLOOKUP(B650,#REF!,5,FALSE))","v":{"$error":"#N/A"}},{"$f":"IF(A650=\"\",\"\",VLOOKUP(C650,#REF!,5,FALSE))","v":{"$error":"#N/A"}}]
[200321,{"$f":"IF(A651=\"\",\"\",VLOOKUP(A651,[1]ItemConfig!$A:$B,2,FALSE))","v":{"$error":"#N/A"}},{"$f":"IF(A651=\"\",\"\",VLOOKUP(A651,[1]ItemConfig!$A:$D,4,FALSE))","v":{"$error":"#N/A"}},{"$f":"IF(A651=\"\",\"\",VLOOKUP(A651,[1]ItemConfig!$A:$C,3,FALSE))","v":{"$error":"#N/A"}},{"$f":"IF(A651=\"\",\"\",VLOOKUP(B651,#REF!,5,FALSE))","v":{"$error":"#N/A"}},{"$f":"IF(A651=\"\",\"\",VLOOKUP(C651,#REF!,5,FALSE))","v":{"$error":"#N/A"}}]
[200322,{"$f":"IF(A652=\"\",\"\",VLOOKUP(A652,[1]ItemConfig!$A:$B,2,FALSE))","v":{"$error":"#N/A"}},{"$f":"IF(A652=\"\",\"\",VLOOKUP(A652,[1]ItemConfig!$A:$D,4,FALSE))","v":{"$error":"#N/A"}},{"$f":"IF(A652=\"\",\"\",VLOOKUP(A652,[1]ItemConfig!$A:$C,3,FALSE))","v":{"$error":"#N/A"}},{"$f":"IF(A652=\"\",\"\",VLOOKUP(B652,#REF!,5,FALSE))","v":{"$error":"#N/A"}},{"$f":"IF(A652=\"\",\"\",VLOOKUP(C652,#REF!,5,FALSE))","v":{"$error":"#N/A"}}]
[null,{"$f":"IF(A653=\"\",\"\",VLOOKUP(A653,[1]ItemConfig!$A:$B,2,FALSE))","v":""},{"$f":"IF(A653=\"\",\"\",VLOOKUP(A653,[1]ItemConfig!$A:$D,4,FALSE))","v":""},{"$f":"IF(A653=\"\",\"\",VLOOKUP(A653,[1]ItemConfig!$A:$C,3,FALSE))","v":""},{"$f":"IF(A653=\"\",\"\",VLOOKUP(B653,#REF!,5,FALSE))","v":""},{"$f":"IF(A653=\"\",\"\",VLOOKUP(C653,#REF!,5,FALSE))","v":""}]
[200323,{"$f":"IF(A654=\"\",\"\",VLOOKUP(A654,[1]ItemConfig!$A:$B,2,FALSE))","v":{"$error":"#N/A"}},{"$f":"IF(A654=\"\",\"\",VLOOKUP(A654,[1]ItemConfig!$A:$D,4,FALSE))","v":{"$error":"#N/A"}},{"$f":"IF(A654=\"\",\"\",VLOOKUP(A654,[1]ItemConfig!$A:$C,3,FALSE))","v":{"$error":"#N/A"}},{"$f":"IF(A654=\"\",\"\",VLOOKUP(B654,#REF!,5,FALSE))","v":{"$error":"#N/A"}},{"$f":"IF(A654=\"\",\"\",VLOOKUP(C654,#REF!,5,FALSE))","v":{"$error":"#N/A"}}]
[200324,{"$f":"IF(A655=\"\",\"\",VLOOKUP(A655,[1]ItemConfig!$A:$B,2,FALSE))","v":{"$error":"#N/A"}},{"$f":"IF(A655=\"\",\"\",VLOOKUP(A655,[1]ItemConfig!$A:$D,4,FALSE))","v":{"$error":"#N/A"}},{"$f":"IF(A655=\"\",\"\",VLOOKUP(A655,[1]ItemConfig!$A:$C,3,FALSE))","v":{"$error":"#N/A"}},{"$f":"IF(A655=\"\",\"\",VLOOKUP(B655,#REF!,5,FALSE))","v":{"$error":"#N/A"}},{"$f":"IF(A655=\"\",\"\",VLOOKUP(C655,#REF!,5,FALSE))","v":{"$error":"#N/A"}}]
[200325,{"$f":"IF(A656=\"\",\"\",VLOOKUP(A656,[1]ItemConfig!$A:$B,2,FALSE))","v":{"$error":"#N/A"}},{"$f":"IF(A656=\"\",\"\",VLOOKUP(A656,[1]ItemConfig!$A:$D,4,FALSE))","v":{"$error":"#N/A"}},{"$f":"IF(A656=\"\",\"\",VLOOKUP(A656,[1]ItemConfig!$A:$C,3,FALSE))","v":{"$error":"#N/A"}},{"$f":"IF(A656=\"\",\"\",VLOOKUP(B656,#REF!,5,FALSE))","v":{"$error":"#N/A"}},{"$f":"IF(A656=\"\",\"\",VLOOKUP(C656,#REF!,5,FALSE))","v":{"$error":"#N/A"}}]
[200326,{"$f":"IF(A657=\"\",\"\",VLOOKUP(A657,[1]ItemConfig!$A:$B,2,FALSE))","v":{"$error":"#N/A"}},{"$f":"IF(A657=\"\",\"\",VLOOKUP(A657,[1]ItemConfig!$A:$D,4,FALSE))","v":{"$error":"#N/A"}},{"$f":"IF(A657=\"\",\"\",VLOOKUP(A657,[1]ItemConfig!$A:$C,3,FALSE))","v":{"$error":"#N/A"}},{"$f":"IF(A657=\"\",\"\",VLOOKUP(B657,#REF!,5,FALSE))","v":{"$error":"#N/A"}},{"$f":"IF(A657=\"\",\"\",VLOOKUP(C657,#REF!,5,FALSE))","v":{"$error":"#N/A"}}]
[200327,{"$f":"IF(A658=\"\",\"\",VLOOKUP(A658,[1]ItemConfig!$A:$B,2,FALSE))","v":{"$error":"#N/A"}},{"$f":"IF(A658=\"\",\"\",VLOOKUP(A658,[1]ItemConfig!$A:$D,4,FALSE))","v":{"$error":"#N/A"}},{"$f":"IF(A658=\"\",\"\",VLOOKUP(A658,[1]ItemConfig!$A:$C,3,FALSE))","v":{"$error":"#N/A"}},{"$f":"IF(A658=\"\",\"\",VLOOKUP(B658,#REF!,5,FALSE))","v":{"$error":"#N/A"}},{"$f":"IF(A658=\"\",\"\",VLOOKUP(C658,#REF!,5,FALSE))","v":{"$error":"#N/A"}}]
[200328,{"$f":"IF(A659=\"\",\"\",VLOOKUP(A659,[1]ItemConfig!$A:$B,2,FALSE))","v":{"$error":"#N/A"}},{"$f":"IF(A659=\"\",\"\",VLOOKUP(A659,[1]ItemConfig!$A:$D,4,FALSE))","v":{"$error":"#N/A"}},{"$f":"IF(A659=\"\",\"\",VLOOKUP(A659,[1]ItemConfig!$A:$C,3,FALSE))","v":{"$error":"#N/A"}},{"$f":"IF(A659=\"\",\"\",VLOOKUP(B659,#REF!,5,FALSE))","v":{"$error":"#N/A"}},{"$f":"IF(A659=\"\",\"\",VLOOKUP(C659,#REF!,5,FALSE))","v":{"$error":"#N/A"}}]
[200329,{"$f":"IF(A660=\"\",\"\",VLOOKUP(A660,[1]ItemConfig!$A:$B,2,FALSE))","v":{"$error":"#N/A"}},{"$f":"IF(A660=\"\",\"\",VLOOKUP(A660,[1]ItemConfig!$A:$D,4,FALSE))","v":{"$error":"#N/A"}},{"$f":"IF(A660=\"\",\"\",VLOOKUP(A660,[1]ItemConfig!$A:$C,3,FALSE))","v":{"$error":"#N/A"}},{"$f":"IF(A660=\"\",\"\",VLOOKUP(B660,#REF!,5,FALSE))","v":{"$error":"#N/A"}},{"$f":"IF(A660=\"\",\"\",VLOOKUP(C660,#REF!,5,FALSE))","v":{"$error":"#N/A"}}]
[200330,{"$f":"IF(A661=\"\",\"\",VLOOKUP(A661,[1]ItemConfig!$A:$B,2,FALSE))","v":{"$error":"#N/A"}},{"$f":"IF(A661=\"\",\"\",VLOOKUP(A661,[1]ItemConfig!$A:$D,4,FALSE))","v":{"$error":"#N/A"}},{"$f":"IF(A661=\"\",\"\",VLOOKUP(A661,[1]ItemConfig!$A:$C,3,FALSE))","v":{"$error":"#N/A"}},{"$f":"IF(A661=\"\",\"\",VLOOKUP(B661,#REF!,5,FALSE))","v":{"$error":"#N/A"}},{"$f":"IF(A661=\"\",\"\",VLOOKUP(C661,#REF!,5,FALSE))","v":{"$error":"#N/A"}}]
[200331,{"$f":"IF(A662=\"\",\"\",VLOOKUP(A662,[1]ItemConfig!$A:$B,2,FALSE))","v":{"$error":"#N/A"}},{"$f":"IF(A662=\"\",\"\",VLOOKUP(A662,[1]ItemConfig!$A:$D,4,FALSE))","v":{"$error":"#N/A"}},{"$f":"IF(A662=\"\",\"\",VLOOKUP(A662,[1]ItemConfig!$A:$C,3,FALSE))","v":{"$error":"#N/A"}},{"$f":"IF(A662=\"\",\"\",VLOOKUP(B662,#REF!,5,FALSE))","v":{"$error":"#N/A"}},{"$f":"IF(A662=\"\",\"\",VLOOKUP(C662,#REF!,5,FALSE))","v":{"$error":"#N/A"}}]
[200332,{"$f":"IF(A663=\"\",\"\",VLOOKUP(A663,[1]ItemConfig!$A:$B,2,FALSE))","v":{"$error":"#N/A"}},{"$f":"IF(A663=\"\",\"\",VLOOKUP(A663,[1]ItemConfig!$A:$D,4,FALSE))","v":{"$error":"#N/A"}},{"$f":"IF(A663=\"\",\"\",VLOOKUP(A663,[1]ItemConfig!$A:$C,3,FALSE))","v":{"$error":"#N/A"}},{"$f":"IF(A663=\"\",\"\",VLOOKUP(B663,#REF!,5,FALSE))","v":{"$error":"#N/A"}},{"$f":"IF(A663=\"\",\"\",VLOOKUP(C663,#REF!,5,FALSE))","v":{"$error":"#N/A"}}]
[200333,{"$f":"IF(A664=\"\",\"\",VLOOKUP(A664,[1]ItemConfig!$A:$B,2,FALSE))","v":{"$error":"#N/A"}},{"$f":"IF(A664=\"\",\"\",VLOOKUP(A664,[1]ItemConfig!$A:$D,4,FALSE))","v":{"$error":"#N/A"}},{"$f":"IF(A664=\"\",\"\",VLOOKUP(A664,[1]ItemConfig!$A:$C,3,FALSE))","v":{"$error":"#N/A"}},{"$f":"IF(A664=\"\",\"\",VLOOKUP(B664,#REF!,5,FALSE))","v":{"$error":"#N/A"}},{"$f":"IF(A664=\"\",\"\",VLOOKUP(C664,#REF!,5,FALSE))","v":{"$error":"#N/A"}}]
[200334,{"$f":"IF(A665=\"\",\"\",VLOOKUP(A665,[1]ItemConfig!$A:$B,2,FALSE))","v":{"$error":"#N/A"}},{"$f":"IF(A665=\"\",\"\",VLOOKUP(A665,[1]ItemConfig!$A:$D,4,FALSE))","v":{"$error":"#N/A"}},{"$f":"IF(A665=\"\",\"\",VLOOKUP(A665,[1]ItemConfig!$A:$C,3,FALSE))","v":{"$error":"#N/A"}},{"$f":"IF(A665=\"\",\"\",VLOOKUP(B665,#REF!,5,FALSE))","v":{"$error":"#N/A"}},{"$f":"IF(A665=\"\",\"\",VLOOKUP(C665,#REF!,5,FALSE))","v":{"$error":"#N/A"}}]
[200335,{"$f":"IF(A666=\"\",\"\",VLOOKUP(A666,[1]ItemConfig!$A:$B,2,FALSE))","v":{"$error":"#N/A"}},{"$f":"IF(A666=\"\",\"\",VLOOKUP(A666,[1]ItemConfig!$A:$D,4,FALSE))","v":{"$error":"#N/A"}},{"$f":"IF(A666=\"\",\"\",VLOOKUP(A666,[1]ItemConfig!$A:$C,3,FALSE))","v":{"$error":"#N/A"}},{"$f":"IF(A666=\"\",\"\",VLOOKUP(B666,#REF!,5,FALSE))","v":{"$error":"#N/A"}},{"$f":"IF(A666=\"\",\"\",VLOOKUP(C666,#REF!,5,FALSE))","v":{"$error":"#N/A"}}]
[200336,{"$f":"IF(A667=\"\",\"\",VLOOKUP(A667,[1]ItemConfig!$A:$B,2,FALSE))","v":{"$error":"#N/A"}},{"$f":"IF(A667=\"\",\"\",VLOOKUP(A667,[1]ItemConfig!$A:$D,4,FALSE))","v":{"$error":"#N/A"}},{"$f":"IF(A667=\"\",\"\",VLOOKUP(A667,[1]ItemConfig!$A:$C,3,FALSE))","v":{"$error":"#N/A"}},{"$f":"IF(A667=\"\",\"\",VLOOKUP(B667,#REF!,5,FALSE))","v":{"$error":"#N/A"}},{"$f":"IF(A667=\"\",\"\",VLOOKUP(C667,#REF!,5,FALSE))","v":{"$error":"#N/A"}}]
[200337,{"$f":"IF(A668=\"\",\"\",VLOOKUP(A668,[1]ItemConfig!$A:$B,2,FALSE))","v":{"$error":"#N/A"}},{"$f":"IF(A668=\"\",\"\",VLOOKUP(A668,[1]ItemConfig!$A:$D,4,FALSE))","v":{"$error":"#N/A"}},{"$f":"IF(A668=\"\",\"\",VLOOKUP(A668,[1]ItemConfig!$A:$C,3,FALSE))","v":{"$error":"#N/A"}},{"$f":"IF(A668=\"\",\"\",VLOOKUP(B668,#REF!,5,FALSE))","v":{"$error":"#N/A"}},{"$f":"IF(A668=\"\",\"\",VLOOKUP(C668,#REF!,5,FALSE))","v":{"$error":"#N/A"}}]
[200338,{"$f":"IF(A669=\"\",\"\",VLOOKUP(A669,[1]ItemConfig!$A:$B,2,FALSE))","v":{"$error":"#N/A"}},{"$f":"IF(A669=\"\",\"\",VLOOKUP(A669,[1]ItemConfig!$A:$D,4,FALSE))","v":{"$error":"#N/A"}},{"$f":"IF(A669=\"\",\"\",VLOOKUP(A669,[1]ItemConfig!$A:$C,3,FALSE))","v":{"$error":"#N/A"}},{"$f":"IF(A669=\"\",\"\",VLOOKUP(B669,#REF!,5,FALSE))","v":{"$error":"#N/A"}},{"$f":"IF(A669=\"\",\"\",VLOOKUP(C669,#REF!,5,FALSE))","v":{"$error":"#N/A"}}]
[200339,{"$f":"IF(A670=\"\",\"\",VLOOKUP(A670,[1]ItemConfig!$A:$B,2,FALSE))","v":{"$error":"#N/A"}},{"$f":"IF(A670=\"\",\"\",VLOOKUP(A670,[1]ItemConfig!$A:$D,4,FALSE))","v":{"$error":"#N/A"}},{"$f":"IF(A670=\"\",\"\",VLOOKUP(A670,[1]ItemConfig!$A:$C,3,FALSE))","v":{"$error":"#N/A"}},{"$f":"IF(A670=\"\",\"\",VLOOKUP(B670,#REF!,5,FALSE))","v":{"$error":"#N/A"}},{"$f":"IF(A670=\"\",\"\",VLOOKUP(C670,#REF!,5,FALSE))","v":{"$error":"#N/A"}}]
[200340,{"$f":"IF(A671=\"\",\"\",VLOOKUP(A671,[1]ItemConfig!$A:$B,2,FALSE))","v":{"$error":"#N/A"}},{"$f":"IF(A671=\"\",\"\",VLOOKUP(A671,[1]ItemConfig!$A:$D,4,FALSE))","v":{"$error":"#N/A"}},{"$f":"IF(A671=\"\",\"\",VLOOKUP(A671,[1]ItemConfig!$A:$C,3,FALSE))","v":{"$error":"#N/A"}},{"$f":"IF(A671=\"\",\"\",VLOOKUP(B671,#REF!,5,FALSE))","v":{"$error":"#N/A"}},{"$f":"IF(A671=\"\",\"\",VLOOKUP(C671,#REF!,5,FALSE))","v":{"$error":"#N/A"}}]
[200341,{"$f":"IF(A672=\"\",\"\",VLOOKUP(A672,[1]ItemConfig!$A:$B,2,FALSE))","v":{"$error":"#N/A"}},{"$f":"IF(A672=\"\",\"\",VLOOKUP(A672,[1]ItemConfig!$A:$D,4,FALSE))","v":{"$error":"#N/A"}},{"$f":"IF(A672=\"\",\"\",VLOOKUP(A672,[1]ItemConfig!$A:$C,3,FALSE))","v":{"$error":"#N/A"}},{"$f":"IF(A672=\"\",\"\",VLOOKUP(B672,#REF!,5,FALSE))","v":{"$error":"#N/A"}},{"$f":"IF(A672=\"\",\"\",VLOOKUP(C672,#REF!,5,FALSE))","v":{"$error":"#N/A"}}]
[200342,{"$f":"IF(A673=\"\",\"\",VLOOKUP(A673,[1]ItemConfig!$A:$B,2,FALSE))","v":{"$error":"#N/A"}},{"$f":"IF(A673=\"\",\"\",VLOOKUP(A673,[1]ItemConfig!$A:$D,4,FALSE))","v":{"$error":"#N/A"}},{"$f":"IF(A673=\"\",\"\",VLOOKUP(A673,[1]ItemConfig!$A:$C,3,FALSE))","v":{"$error":"#N/A"}},{"$f":"IF(A673=\"\",\"\",VLOOKUP(B673,#REF!,5,FALSE))","v":{"$error":"#N/A"}},{"$f":"IF(A673=\"\",\"\",VLOOKUP(C673,#REF!,5,FALSE))","v":{"$error":"#N/A"}}]
[200343,{"$f":"IF(A674=\"\",\"\",VLOOKUP(A674,[1]ItemConfig!$A:$B,2,FALSE))","v":{"$error":"#N/A"}},{"$f":"IF(A674=\"\",\"\",VLOOKUP(A674,[1]ItemConfig!$A:$D,4,FALSE))","v":{"$error":"#N/A"}},{"$f":"IF(A674=\"\",\"\",VLOOKUP(A674,[1]ItemConfig!$A:$C,3,FALSE))","v":{"$error":"#N/A"}},{"$f":"IF(A674=\"\",\"\",VLOOKUP(B674,#REF!,5,FALSE))","v":{"$error":"#N/A"}},{"$f":"IF(A674=\"\",\"\",VLOOKUP(C674,#REF!,5,FALSE))","v":{"$error":"#N/A"}}]
[200344,{"$f":"IF(A675=\"\",\"\",VLOOKUP(A675,[1]ItemConfig!$A:$B,2,FALSE))","v":{"$error":"#N/A"}},{"$f":"IF(A675=\"\",\"\",VLOOKUP(A675,[1]ItemConfig!$A:$D,4,FALSE))","v":{"$error":"#N/A"}},{"$f":"IF(A675=\"\",\"\",VLOOKUP(A675,[1]ItemConfig!$A:$C,3,FALSE))","v":{"$error":"#N/A"}},{"$f":"IF(A675=\"\",\"\",VLOOKUP(B675,#REF!,5,FALSE))","v":{"$error":"#N/A"}},{"$f":"IF(A675=\"\",\"\",VLOOKUP(C675,#REF!,5,FALSE))","v":{"$error":"#N/A"}}]
[200345,{"$f":"IF(A676=\"\",\"\",VLOOKUP(A676,[1]ItemConfig!$A:$B,2,FALSE))","v":{"$error":"#N/A"}},{"$f":"IF(A676=\"\",\"\",VLOOKUP(A676,[1]ItemConfig!$A:$D,4,FALSE))","v":{"$error":"#N/A"}},{"$f":"IF(A676=\"\",\"\",VLOOKUP(A676,[1]ItemConfig!$A:$C,3,FALSE))","v":{"$error":"#N/A"}},{"$f":"IF(A676=\"\",\"\",VLOOKUP(B676,#REF!,5,FALSE))","v":{"$error":"#N/A"}},{"$f":"IF(A676=\"\",\"\",VLOOKUP(C676,#REF!,5,FALSE))","v":{"$error":"#N/A"}}]
[200346,{"$f":"IF(A677=\"\",\"\",VLOOKUP(A677,[1]ItemConfig!$A:$B,2,FALSE))","v":{"$error":"#N/A"}},{"$f":"IF(A677=\"\",\"\",VLOOKUP(A677,[1]ItemConfig!$A:$D,4,FALSE))","v":{"$error":"#N/A"}},{"$f":"IF(A677=\"\",\"\",VLOOKUP(A677,[1]ItemConfig!$A:$C,3,FALSE))","v":{"$error":"#N/A"}},{"$f":"IF(A677=\"\",\"\",VLOOKUP(B677,#REF!,5,FALSE))","v":{"$error":"#N/A"}},{"$f":"IF(A677=\"\",\"\",VLOOKUP(C677,#REF!,5,FALSE))","v":{"$error":"#N/A"}}]
[200347,{"$f":"IF(A678=\"\",\"\",VLOOKUP(A678,[1]ItemConfig!$A:$B,2,FALSE))","v":{"$error":"#N/A"}},{"$f":"IF(A678=\"\",\"\",VLOOKUP(A678,[1]ItemConfig!$A:$D,4,FALSE))","v":{"$error":"#N/A"}},{"$f":"IF(A678=\"\",\"\",VLOOKUP(A678,[1]ItemConfig!$A:$C,3,FALSE))","v":{"$error":"#N/A"}},{"$f":"IF(A678=\"\",\"\",VLOOKUP(B678,#REF!,5,FALSE))","v":{"$error":"#N/A"}},{"$f":"IF(A678=\"\",\"\",VLOOKUP(C678,#REF!,5,FALSE))","v":{"$error":"#N/A"}}]
[200348,{"$f":"IF(A679=\"\",\"\",VLOOKUP(A679,[1]ItemConfig!$A:$B,2,FALSE))","v":{"$error":"#N/A"}},{"$f":"IF(A679=\"\",\"\",VLOOKUP(A679,[1]ItemConfig!$A:$D,4,FALSE))","v":{"$error":"#N/A"}},{"$f":"IF(A679=\"\",\"\",VLOOKUP(A679,[1]ItemConfig!$A:$C,3,FALSE))","v":{"$error":"#N/A"}},{"$f":"IF(A679=\"\",\"\",VLOOKUP(B679,#REF!,5,FALSE))","v":{"$error":"#N/A"}},{"$f":"IF(A679=\"\",\"\",VLOOKUP(C679,#REF!,5,FALSE))","v":{"$error":"#N/A"}}]
[200349,{"$f":"IF(A680=\"\",\"\",VLOOKUP(A680,[1]ItemConfig!$A:$B,2,FALSE))","v":{"$error":"#N/A"}},{"$f":"IF(A680=\"\",\"\",VLOOKUP(A680,[1]ItemConfig!$A:$D,4,FALSE))","v":{"$error":"#N/A"}},{"$f":"IF(A680=\"\",\"\",VLOOKUP(A680,[1]ItemConfig!$A:$C,3,FALSE))","v":{"$error":"#N/A"}},{"$f":"IF(A680=\"\",\"\",VLOOKUP(B680,#REF!,5,FALSE))","v":{"$error":"#N/A"}},{"$f":"IF(A680=\"\",\"\",VLOOKUP(C680,#REF!,5,FALSE))","v":{"$error":"#N/A"}}]
[200350,{"$f":"IF(A681=\"\",\"\",VLOOKUP(A681,[1]ItemConfig!$A:$B,2,FALSE))","v":{"$error":"#N/A"}},{"$f":"IF(A681=\"\",\"\",VLOOKUP(A681,[1]ItemConfig!$A:$D,4,FALSE))","v":{"$error":"#N/A"}},{"$f":"IF(A681=\"\",\"\",VLOOKUP(A681,[1]ItemConfig!$A:$C,3,FALSE))","v":{"$error":"#N/A"}},{"$f":"IF(A681=\"\",\"\",VLOOKUP(B681,#REF!,5,FALSE))","v":{"$error":"#N/A"}},{"$f":"IF(A681=\"\",\"\",VLOOKUP(C681,#REF!,5,FALSE))","v":{"$error":"#N/A"}}]
[null,{"$f":"IF(A682=\"\",\"\",VLOOKUP(A682,[1]ItemConfig!$A:$B,2,FALSE))","v":""},{"$f":"IF(A682=\"\",\"\",VLOOKUP(A682,[1]ItemConfig!$A:$D,4,FALSE))","v":""},{"$f":"IF(A682=\"\",\"\",VLOOKUP(A682,[1]ItemConfig!$A:$C,3,FALSE))","v":""},{"$f":"IF(A682=\"\",\"\",VLOOKUP(B682,#REF!,5,FALSE))","v":""},{"$f":"IF(A682=\"\",\"\",VLOOKUP(C682,#REF!,5,FALSE))","v":""}]
[200351,{"$f":"IF(A683=\"\",\"\",VLOOKUP(A683,[1]ItemConfig!$A:$B,2,FALSE))","v":{"$error":"#N/A"}},{"$f":"IF(A683=\"\",\"\",VLOOKUP(A683,[1]ItemConfig!$A:$D,4,FALSE))","v":{"$error":"#N/A"}},{"$f":"IF(A683=\"\",\"\",VLOOKUP(A683,[1]ItemConfig!$A:$C,3,FALSE))","v":{"$error":"#N/A"}},{"$f":"IF(A683=\"\",\"\",VLOOKUP(B683,#REF!,5,FALSE))","v":{"$error":"#N/A"}},{"$f":"IF(A683=\"\",\"\",VLOOKUP(C683,#REF!,5,FALSE))","v":{"$error":"#N/A"}}]
[200352,{"$f":"IF(A684=\"\",\"\",VLOOKUP(A684,[1]ItemConfig!$A:$B,2,FALSE))","v":{"$error":"#N/A"}},{"$f":"IF(A684=\"\",\"\",VLOOKUP(A684,[1]ItemConfig!$A:$D,4,FALSE))","v":{"$error":"#N/A"}},{"$f":"IF(A684=\"\",\"\",VLOOKUP(A684,[1]ItemConfig!$A:$C,3,FALSE))","v":{"$error":"#N/A"}},{"$f":"IF(A684=\"\",\"\",VLOOKUP(B684,#REF!,5,FALSE))","v":{"$error":"#N/A"}},{"$f":"IF(A684=\"\",\"\",VLOOKUP(C684,#REF!,5,FALSE))","v":{"$error":"#N/A"}}]
[200353,{"$f":"IF(A685=\"\",\"\",VLOOKUP(A685,[1]ItemConfig!$A:$B,2,FALSE))","v":{"$error":"#N/A"}},{"$f":"IF(A685=\"\",\"\",VLOOKUP(A685,[1]ItemConfig!$A:$D,4,FALSE))","v":{"$error":"#N/A"}},{"$f":"IF(A685=\"\",\"\",VLOOKUP(A685,[1]ItemConfig!$A:$C,3,FALSE))","v":{"$error":"#N/A"}},{"$f":"IF(A685=\"\",\"\",VLOOKUP(B685,#REF!,5,FALSE))","v":{"$error":"#N/A"}},{"$f":"IF(A685=\"\",\"\",VLOOKUP(C685,#REF!,5,FALSE))","v":{"$error":"#N/A"}}]
[200354,{"$f":"IF(A686=\"\",\"\",VLOOKUP(A686,[1]ItemConfig!$A:$B,2,FALSE))","v":{"$error":"#N/A"}},{"$f":"IF(A686=\"\",\"\",VLOOKUP(A686,[1]ItemConfig!$A:$D,4,FALSE))","v":{"$error":"#N/A"}},{"$f":"IF(A686=\"\",\"\",VLOOKUP(A686,[1]ItemConfig!$A:$C,3,FALSE))","v":{"$error":"#N/A"}},{"$f":"IF(A686=\"\",\"\",VLOOKUP(B686,#REF!,5,FALSE))","v":{"$error":"#N/A"}},{"$f":"IF(A686=\"\",\"\",VLOOKUP(C686,#REF!,5,FALSE))","v":{"$error":"#N/A"}}]
[200355,{"$f":"IF(A687=\"\",\"\",VLOOKUP(A687,[1]ItemConfig!$A:$B,2,FALSE))","v":{"$error":"#N/A"}},{"$f":"IF(A687=\"\",\"\",VLOOKUP(A687,[1]ItemConfig!$A:$D,4,FALSE))","v":{"$error":"#N/A"}},{"$f":"IF(A687=\"\",\"\",VLOOKUP(A687,[1]ItemConfig!$A:$C,3,FALSE))","v":{"$error":"#N/A"}},{"$f":"IF(A687=\"\",\"\",VLOOKUP(B687,#REF!,5,FALSE))","v":{"$error":"#N/A"}},{"$f":"IF(A687=\"\",\"\",VLOOKUP(C687,#REF!,5,FALSE))","v":{"$error":"#N/A"}}]
[200356,{"$f":"IF(A688=\"\",\"\",VLOOKUP(A688,[1]ItemConfig!$A:$B,2,FALSE))","v":{"$error":"#N/A"}},{"$f":"IF(A688=\"\",\"\",VLOOKUP(A688,[1]ItemConfig!$A:$D,4,FALSE))","v":{"$error":"#N/A"}},{"$f":"IF(A688=\"\",\"\",VLOOKUP(A688,[1]ItemConfig!$A:$C,3,FALSE))","v":{"$error":"#N/A"}},{"$f":"IF(A688=\"\",\"\",VLOOKUP(B688,#REF!,5,FALSE))","v":{"$error":"#N/A"}},{"$f":"IF(A688=\"\",\"\",VLOOKUP(C688,#REF!,5,FALSE))","v":{"$error":"#N/A"}}]
[200357,{"$f":"IF(A689=\"\",\"\",VLOOKUP(A689,[1]ItemConfig!$A:$B,2,FALSE))","v":{"$error":"#N/A"}},{"$f":"IF(A689=\"\",\"\",VLOOKUP(A689,[1]ItemConfig!$A:$D,4,FALSE))","v":{"$error":"#N/A"}},{"$f":"IF(A689=\"\",\"\",VLOOKUP(A689,[1]ItemConfig!$A:$C,3,FALSE))","v":{"$error":"#N/A"}},{"$f":"IF(A689=\"\",\"\",VLOOKUP(B689,#REF!,5,FALSE))","v":{"$error":"#N/A"}},{"$f":"IF(A689=\"\",\"\",VLOOKUP(C689,#REF!,5,FALSE))","v":{"$error":"#N/A"}}]
[200358,{"$f":"IF(A690=\"\",\"\",VLOOKUP(A690,[1]ItemConfig!$A:$B,2,FALSE))","v":{"$error":"#N/A"}},{"$f":"IF(A690=\"\",\"\",VLOOKUP(A690,[1]ItemConfig!$A:$D,4,FALSE))","v":{"$error":"#N/A"}},{"$f":"IF(A690=\"\",\"\",VLOOKUP(A690,[1]ItemConfig!$A:$C,3,FALSE))","v":{"$error":"#N/A"}},{"$f":"IF(A690=\"\",\"\",VLOOKUP(B690,#REF!,5,FALSE))","v":{"$error":"#N/A"}},{"$f":"IF(A690=\"\",\"\",VLOOKUP(C690,#REF!,5,FALSE))","v":{"$error":"#N/A"}}]
[200359,{"$f":"IF(A691=\"\",\"\",VLOOKUP(A691,[1]ItemConfig!$A:$B,2,FALSE))","v":{"$error":"#N/A"}},{"$f":"IF(A691=\"\",\"\",VLOOKUP(A691,[1]ItemConfig!$A:$D,4,FALSE))","v":{"$error":"#N/A"}},{"$f":"IF(A691=\"\",\"\",VLOOKUP(A691,[1]ItemConfig!$A:$C,3,FALSE))","v":{"$error":"#N/A"}},{"$f":"IF(A691=\"\",\"\",VLOOKUP(B691,#REF!,5,FALSE))","v":{"$error":"#N/A"}},{"$f":"IF(A691=\"\",\"\",VLOOKUP(C691,#REF!,5,FALSE))","v":{"$error":"#N/A"}}]
[200360,{"$f":"IF(A692=\"\",\"\",VLOOKUP(A692,[1]ItemConfig!$A:$B,2,FALSE))","v":{"$error":"#N/A"}},{"$f":"IF(A692=\"\",\"\",VLOOKUP(A692,[1]ItemConfig!$A:$D,4,FALSE))","v":{"$error":"#N/A"}},{"$f":"IF(A692=\"\",\"\",VLOOKUP(A692,[1]ItemConfig!$A:$C,3,FALSE))","v":{"$error":"#N/A"}},{"$f":"IF(A692=\"\",\"\",VLOOKUP(B692,#REF!,5,FALSE))","v":{"$error":"#N/A"}},{"$f":"IF(A692=\"\",\"\",VLOOKUP(C692,#REF!,5,FALSE))","v":{"$error":"#N/A"}}]
[200361,{"$f":"IF(A693=\"\",\"\",VLOOKUP(A693,[1]ItemConfig!$A:$B,2,FALSE))","v":{"$error":"#N/A"}},{"$f":"IF(A693=\"\",\"\",VLOOKUP(A693,[1]ItemConfig!$A:$D,4,FALSE))","v":{"$error":"#N/A"}},{"$f":"IF(A693=\"\",\"\",VLOOKUP(A693,[1]ItemConfig!$A:$C,3,FALSE))","v":{"$error":"#N/A"}},{"$f":"IF(A693=\"\",\"\",VLOOKUP(B693,#REF!,5,FALSE))","v":{"$error":"#N/A"}},{"$f":"IF(A693=\"\",\"\",VLOOKUP(C693,#REF!,5,FALSE))","v":{"$error":"#N/A"}}]
[200362,{"$f":"IF(A694=\"\",\"\",VLOOKUP(A694,[1]ItemConfig!$A:$B,2,FALSE))","v":{"$error":"#N/A"}},{"$f":"IF(A694=\"\",\"\",VLOOKUP(A694,[1]ItemConfig!$A:$D,4,FALSE))","v":{"$error":"#N/A"}},{"$f":"IF(A694=\"\",\"\",VLOOKUP(A694,[1]ItemConfig!$A:$C,3,FALSE))","v":{"$error":"#N/A"}},{"$f":"IF(A694=\"\",\"\",VLOOKUP(B694,#REF!,5,FALSE))","v":{"$error":"#N/A"}},{"$f":"IF(A694=\"\",\"\",VLOOKUP(C694,#REF!,5,FALSE))","v":{"$error":"#N/A"}}]
[200363,{"$f":"IF(A695=\"\",\"\",VLOOKUP(A695,[1]ItemConfig!$A:$B,2,FALSE))","v":{"$error":"#N/A"}},{"$f":"IF(A695=\"\",\"\",VLOOKUP(A695,[1]ItemConfig!$A:$D,4,FALSE))","v":{"$error":"#N/A"}},{"$f":"IF(A695=\"\",\"\",VLOOKUP(A695,[1]ItemConfig!$A:$C,3,FALSE))","v":{"$error":"#N/A"}},{"$f":"IF(A695=\"\",\"\",VLOOKUP(B695,#REF!,5,FALSE))","v":{"$error":"#N/A"}},{"$f":"IF(A695=\"\",\"\",VLOOKUP(C695,#REF!,5,FALSE))","v":{"$error":"#N/A"}}]
[200364,{"$f":"IF(A696=\"\",\"\",VLOOKUP(A696,[1]ItemConfig!$A:$B,2,FALSE))","v":{"$error":"#N/A"}},{"$f":"IF(A696=\"\",\"\",VLOOKUP(A696,[1]ItemConfig!$A:$D,4,FALSE))","v":{"$error":"#N/A"}},{"$f":"IF(A696=\"\",\"\",VLOOKUP(A696,[1]ItemConfig!$A:$C,3,FALSE))","v":{"$error":"#N/A"}},{"$f":"IF(A696=\"\",\"\",VLOOKUP(B696,#REF!,5,FALSE))","v":{"$error":"#N/A"}},{"$f":"IF(A696=\"\",\"\",VLOOKUP(C696,#REF!,5,FALSE))","v":{"$error":"#N/A"}}]
[200365,{"$f":"IF(A697=\"\",\"\",VLOOKUP(A697,[1]ItemConfig!$A:$B,2,FALSE))","v":{"$error":"#N/A"}},{"$f":"IF(A697=\"\",\"\",VLOOKUP(A697,[1]ItemConfig!$A:$D,4,FALSE))","v":{"$error":"#N/A"}},{"$f":"IF(A697=\"\",\"\",VLOOKUP(A697,[1]ItemConfig!$A:$C,3,FALSE))","v":{"$error":"#N/A"}},{"$f":"IF(A697=\"\",\"\",VLOOKUP(B697,#REF!,5,FALSE))","v":{"$error":"#N/A"}},{"$f":"IF(A697=\"\",\"\",VLOOKUP(C697,#REF!,5,FALSE))","v":{"$error":"#N/A"}}]
[200366,{"$f":"IF(A698=\"\",\"\",VLOOKUP(A698,[1]ItemConfig!$A:$B,2,FALSE))","v":{"$error":"#N/A"}},{"$f":"IF(A698=\"\",\"\",VLOOKUP(A698,[1]ItemConfig!$A:$D,4,FALSE))","v":{"$error":"#N/A"}},{"$f":"IF(A698=\"\",\"\",VLOOKUP(A698,[1]ItemConfig!$A:$C,3,FALSE))","v":{"$error":"#N/A"}},{"$f":"IF(A698=\"\",\"\",VLOOKUP(B698,#REF!,5,FALSE))","v":{"$error":"#N/A"}},{"$f":"IF(A698=\"\",\"\",VLOOKUP(C698,#REF!,5,FALSE))","v":{"$error":"#N/A"}}]
[200367,{"$f":"IF(A699=\"\",\"\",VLOOKUP(A699,[1]ItemConfig!$A:$B,2,FALSE))","v":{"$error":"#N/A"}},{"$f":"IF(A699=\"\",\"\",VLOOKUP(A699,[1]ItemConfig!$A:$D,4,FALSE))","v":{"$error":"#N/A"}},{"$f":"IF(A699=\"\",\"\",VLOOKUP(A699,[1]ItemConfig!$A:$C,3,FALSE))","v":{"$error":"#N/A"}},{"$f":"IF(A699=\"\",\"\",VLOOKUP(B699,#REF!,5,FALSE))","v":{"$error":"#N/A"}},{"$f":"IF(A699=\"\",\"\",VLOOKUP(C699,#REF!,5,FALSE))","v":{"$error":"#N/A"}}]
[200368,{"$f":"IF(A700=\"\",\"\",VLOOKUP(A700,[1]ItemConfig!$A:$B,2,FALSE))","v":{"$error":"#N/A"}},{"$f":"IF(A700=\"\",\"\",VLOOKUP(A700,[1]ItemConfig!$A:$D,4,FALSE))","v":{"$error":"#N/A"}},{"$f":"IF(A700=\"\",\"\",VLOOKUP(A700,[1]ItemConfig!$A:$C,3,FALSE))","v":{"$error":"#N/A"}},{"$f":"IF(A700=\"\",\"\",VLOOKUP(B700,#REF!,5,FALSE))","v":{"$error":"#N/A"}},{"$f":"IF(A700=\"\",\"\",VLOOKUP(C700,#REF!,5,FALSE))","v":{"$error":"#N/A"}}]
[200369,{"$f":"IF(A701=\"\",\"\",VLOOKUP(A701,[1]ItemConfig!$A:$B,2,FALSE))","v":{"$error":"#N/A"}},{"$f":"IF(A701=\"\",\"\",VLOOKUP(A701,[1]ItemConfig!$A:$D,4,FALSE))","v":{"$error":"#N/A"}},{"$f":"IF(A701=\"\",\"\",VLOOKUP(A701,[1]ItemConfig!$A:$C,3,FALSE))","v":{"$error":"#N/A"}},{"$f":"IF(A701=\"\",\"\",VLOOKUP(B701,#REF!,5,FALSE))","v":{"$error":"#N/A"}},{"$f":"IF(A701=\"\",\"\",VLOOKUP(C701,#REF!,5,FALSE))","v":{"$error":"#N/A"}}]
[200370,{"$f":"IF(A702=\"\",\"\",VLOOKUP(A702,[1]ItemConfig!$A:$B,2,FALSE))","v":{"$error":"#N/A"}},{"$f":"IF(A702=\"\",\"\",VLOOKUP(A702,[1]ItemConfig!$A:$D,4,FALSE))","v":{"$error":"#N/A"}},{"$f":"IF(A702=\"\",\"\",VLOOKUP(A702,[1]ItemConfig!$A:$C,3,FALSE))","v":{"$error":"#N/A"}},{"$f":"IF(A702=\"\",\"\",VLOOKUP(B702,#REF!,5,FALSE))","v":{"$error":"#N/A"}},{"$f":"IF(A702=\"\",\"\",VLOOKUP(C702,#REF!,5,FALSE))","v":{"$error":"#N/A"}}]
[200371,{"$f":"IF(A703=\"\",\"\",VLOOKUP(A703,[1]ItemConfig!$A:$B,2,FALSE))","v":{"$error":"#N/A"}},{"$f":"IF(A703=\"\",\"\",VLOOKUP(A703,[1]ItemConfig!$A:$D,4,FALSE))","v":{"$error":"#N/A"}},{"$f":"IF(A703=\"\",\"\",VLOOKUP(A703,[1]ItemConfig!$A:$C,3,FALSE))","v":{"$error":"#N/A"}},{"$f":"IF(A703=\"\",\"\",VLOOKUP(B703,#REF!,5,FALSE))","v":{"$error":"#N/A"}},{"$f":"IF(A703=\"\",\"\",VLOOKUP(C703,#REF!,5,FALSE))","v":{"$error":"#N/A"}}]
[200372,{"$f":"IF(A704=\"\",\"\",VLOOKUP(A704,[1]ItemConfig!$A:$B,2,FALSE))","v":{"$error":"#N/A"}},{"$f":"IF(A704=\"\",\"\",VLOOKUP(A704,[1]ItemConfig!$A:$D,4,FALSE))","v":{"$error":"#N/A"}},{"$f":"IF(A704=\"\",\"\",VLOOKUP(A704,[1]ItemConfig!$A:$C,3,FALSE))","v":{"$error":"#N/A"}},{"$f":"IF(A704=\"\",\"\",VLOOKUP(B704,#REF!,5,FALSE))","v":{"$error":"#N/A"}},{"$f":"IF(A704=\"\",\"\",VLOOKUP(C704,#REF!,5,FALSE))","v":{"$error":"#N/A"}}]
[200373,{"$f":"IF(A705=\"\",\"\",VLOOKUP(A705,[1]ItemConfig!$A:$B,2,FALSE))","v":{"$error":"#N/A"}},{"$f":"IF(A705=\"\",\"\",VLOOKUP(A705,[1]ItemConfig!$A:$D,4,FALSE))","v":{"$error":"#N/A"}},{"$f":"IF(A705=\"\",\"\",VLOOKUP(A705,[1]ItemConfig!$A:$C,3,FALSE))","v":{"$error":"#N/A"}},{"$f":"IF(A705=\"\",\"\",VLOOKUP(B705,#REF!,5,FALSE))","v":{"$error":"#N/A"}},{"$f":"IF(A705=\"\",\"\",VLOOKUP(C705,#REF!,5,FALSE))","v":{"$error":"#N/A"}}]
[200374,{"$f":"IF(A706=\"\",\"\",VLOOKUP(A706,[1]ItemConfig!$A:$B,2,FALSE))","v":{"$error":"#N/A"}},{"$f":"IF(A706=\"\",\"\",VLOOKUP(A706,[1]ItemConfig!$A:$D,4,FALSE))","v":{"$error":"#N/A"}},{"$f":"IF(A706=\"\",\"\",VLOOKUP(A706,[1]ItemConfig!$A:$C,3,FALSE))","v":{"$error":"#N/A"}},{"$f":"IF(A706=\"\",\"\",VLOOKUP(B706,#REF!,5,FALSE))","v":{"$error":"#N/A"}},{"$f":"IF(A706=\"\",\"\",VLOOKUP(C706,#REF!,5,FALSE))","v":{"$error":"#N/A"}}]
[200375,{"$f":"IF(A707=\"\",\"\",VLOOKUP(A707,[1]ItemConfig!$A:$B,2,FALSE))","v":{"$error":"#N/A"}},{"$f":"IF(A707=\"\",\"\",VLOOKUP(A707,[1]ItemConfig!$A:$D,4,FALSE))","v":{"$error":"#N/A"}},{"$f":"IF(A707=\"\",\"\",VLOOKUP(A707,[1]ItemConfig!$A:$C,3,FALSE))","v":{"$error":"#N/A"}},{"$f":"IF(A707=\"\",\"\",VLOOKUP(B707,#REF!,5,FALSE))","v":{"$error":"#N/A"}},{"$f":"IF(A707=\"\",\"\",VLOOKUP(C707,#REF!,5,FALSE))","v":{"$error":"#N/A"}}]
[200376,{"$f":"IF(A708=\"\",\"\",VLOOKUP(A708,[1]ItemConfig!$A:$B,2,FALSE))","v":{"$error":"#N/A"}},{"$f":"IF(A708=\"\",\"\",VLOOKUP(A708,[1]ItemConfig!$A:$D,4,FALSE))","v":{"$error":"#N/A"}},{"$f":"IF(A708=\"\",\"\",VLOOKUP(A708,[1]ItemConfig!$A:$C,3,FALSE))","v":{"$error":"#N/A"}},{"$f":"IF(A708=\"\",\"\",VLOOKUP(B708,#REF!,5,FALSE))","v":{"$error":"#N/A"}},{"$f":"IF(A708=\"\",\"\",VLOOKUP(C708,#REF!,5,FALSE))","v":{"$error":"#N/A"}}]
[200377,{"$f":"IF(A709=\"\",\"\",VLOOKUP(A709,[1]ItemConfig!$A:$B,2,FALSE))","v":{"$error":"#N/A"}},{"$f":"IF(A709=\"\",\"\",VLOOKUP(A709,[1]ItemConfig!$A:$D,4,FALSE))","v":{"$error":"#N/A"}},{"$f":"IF(A709=\"\",\"\",VLOOKUP(A709,[1]ItemConfig!$A:$C,3,FALSE))","v":{"$error":"#N/A"}},{"$f":"IF(A709=\"\",\"\",VLOOKUP(B709,#REF!,5,FALSE))","v":{"$error":"#N/A"}},{"$f":"IF(A709=\"\",\"\",VLOOKUP(C709,#REF!,5,FALSE))","v":{"$error":"#N/A"}}]
[200378,{"$f":"IF(A710=\"\",\"\",VLOOKUP(A710,[1]ItemConfig!$A:$B,2,FALSE))","v":{"$error":"#N/A"}},{"$f":"IF(A710=\"\",\"\",VLOOKUP(A710,[1]ItemConfig!$A:$D,4,FALSE))","v":{"$error":"#N/A"}},{"$f":"IF(A710=\"\",\"\",VLOOKUP(A710,[1]ItemConfig!$A:$C,3,FALSE))","v":{"$error":"#N/A"}},{"$f":"IF(A710=\"\",\"\",VLOOKUP(B710,#REF!,5,FALSE))","v":{"$error":"#N/A"}},{"$f":"IF(A710=\"\",\"\",VLOOKUP(C710,#REF!,5,FALSE))","v":{"$error":"#N/A"}}]
[null,{"$f":"IF(A711=\"\",\"\",VLOOKUP(A711,[1]ItemConfig!$A:$B,2,FALSE))","v":""},{"$f":"IF(A711=\"\",\"\",VLOOKUP(A711,[1]ItemConfig!$A:$D,4,FALSE))","v":""},{"$f":"IF(A711=\"\",\"\",VLOOKUP(A711,[1]ItemConfig!$A:$C,3,FALSE))","v":""},{"$f":"IF(A711=\"\",\"\",VLOOKUP(B711,#REF!,5,FALSE))","v":""},{"$f":"IF(A711=\"\",\"\",VLOOKUP(C711,#REF!,5,FALSE))","v":""}]
[200379,{"$f":"IF(A712=\"\",\"\",VLOOKUP(A712,[1]ItemConfig!$A:$B,2,FALSE))","v":{"$error":"#N/A"}},{"$f":"IF(A712=\"\",\"\",VLOOKUP(A712,[1]ItemConfig!$A:$D,4,FALSE))","v":{"$error":"#N/A"}},{"$f":"IF(A712=\"\",\"\",VLOOKUP(A712,[1]ItemConfig!$A:$C,3,FALSE))","v":{"$error":"#N/A"}},{"$f":"IF(A712=\"\",\"\",VLOOKUP(B712,#REF!,5,FALSE))","v":{"$error":"#N/A"}},{"$f":"IF(A712=\"\",\"\",VLOOKUP(C712,#REF!,5,FALSE))","v":{"$error":"#N/A"}}]
[200380,{"$f":"IF(A713=\"\",\"\",VLOOKUP(A713,[1]ItemConfig!$A:$B,2,FALSE))","v":{"$error":"#N/A"}},{"$f":"IF(A713=\"\",\"\",VLOOKUP(A713,[1]ItemConfig!$A:$D,4,FALSE))","v":{"$error":"#N/A"}},{"$f":"IF(A713=\"\",\"\",VLOOKUP(A713,[1]ItemConfig!$A:$C,3,FALSE))","v":{"$error":"#N/A"}},{"$f":"IF(A713=\"\",\"\",VLOOKUP(B713,#REF!,5,FALSE))","v":{"$error":"#N/A"}},{"$f":"IF(A713=\"\",\"\",VLOOKUP(C713,#REF!,5,FALSE))","v":{"$error":"#N/A"}}]
[200381,{"$f":"IF(A714=\"\",\"\",VLOOKUP(A714,[1]ItemConfig!$A:$B,2,FALSE))","v":{"$error":"#N/A"}},{"$f":"IF(A714=\"\",\"\",VLOOKUP(A714,[1]ItemConfig!$A:$D,4,FALSE))","v":{"$error":"#N/A"}},{"$f":"IF(A714=\"\",\"\",VLOOKUP(A714,[1]ItemConfig!$A:$C,3,FALSE))","v":{"$error":"#N/A"}},{"$f":"IF(A714=\"\",\"\",VLOOKUP(B714,#REF!,5,FALSE))","v":{"$error":"#N/A"}},{"$f":"IF(A714=\"\",\"\",VLOOKUP(C714,#REF!,5,FALSE))","v":{"$error":"#N/A"}}]
[200382,{"$f":"IF(A715=\"\",\"\",VLOOKUP(A715,[1]ItemConfig!$A:$B,2,FALSE))","v":{"$error":"#N/A"}},{"$f":"IF(A715=\"\",\"\",VLOOKUP(A715,[1]ItemConfig!$A:$D,4,FALSE))","v":{"$error":"#N/A"}},{"$f":"IF(A715=\"\",\"\",VLOOKUP(A715,[1]ItemConfig!$A:$C,3,FALSE))","v":{"$error":"#N/A"}},{"$f":"IF(A715=\"\",\"\",VLOOKUP(B715,#REF!,5,FALSE))","v":{"$error":"#N/A"}},{"$f":"IF(A715=\"\",\"\",VLOOKUP(C715,#REF!,5,FALSE))","v":{"$error":"#N/A"}}]
[200383,{"$f":"IF(A716=\"\",\"\",VLOOKUP(A716,[1]ItemConfig!$A:$B,2,FALSE))","v":{"$error":"#N/A"}},{"$f":"IF(A716=\"\",\"\",VLOOKUP(A716,[1]ItemConfig!$A:$D,4,FALSE))","v":{"$error":"#N/A"}},{"$f":"IF(A716=\"\",\"\",VLOOKUP(A716,[1]ItemConfig!$A:$C,3,FALSE))","v":{"$error":"#N/A"}},{"$f":"IF(A716=\"\",\"\",VLOOKUP(B716,#REF!,5,FALSE))","v":{"$error":"#N/A"}},{"$f":"IF(A716=\"\",\"\",VLOOKUP(C716,#REF!,5,FALSE))","v":{"$error":"#N/A"}}]
[200384,{"$f":"IF(A717=\"\",\"\",VLOOKUP(A717,[1]ItemConfig!$A:$B,2,FALSE))","v":{"$error":"#N/A"}},{"$f":"IF(A717=\"\",\"\",VLOOKUP(A717,[1]ItemConfig!$A:$D,4,FALSE))","v":{"$error":"#N/A"}},{"$f":"IF(A717=\"\",\"\",VLOOKUP(A717,[1]ItemConfig!$A:$C,3,FALSE))","v":{"$error":"#N/A"}},{"$f":"IF(A717=\"\",\"\",VLOOKUP(B717,#REF!,5,FALSE))","v":{"$error":"#N/A"}},{"$f":"IF(A717=\"\",\"\",VLOOKUP(C717,#REF!,5,FALSE))","v":{"$error":"#N/A"}}]
[200385,{"$f":"IF(A718=\"\",\"\",VLOOKUP(A718,[1]ItemConfig!$A:$B,2,FALSE))","v":{"$error":"#N/A"}},{"$f":"IF(A718=\"\",\"\",VLOOKUP(A718,[1]ItemConfig!$A:$D,4,FALSE))","v":{"$error":"#N/A"}},{"$f":"IF(A718=\"\",\"\",VLOOKUP(A718,[1]ItemConfig!$A:$C,3,FALSE))","v":{"$error":"#N/A"}},{"$f":"IF(A718=\"\",\"\",VLOOKUP(B718,#REF!,5,FALSE))","v":{"$error":"#N/A"}},{"$f":"IF(A718=\"\",\"\",VLOOKUP(C718,#REF!,5,FALSE))","v":{"$error":"#N/A"}}]
[200386,{"$f":"IF(A719=\"\",\"\",VLOOKUP(A719,[1]ItemConfig!$A:$B,2,FALSE))","v":{"$error":"#N/A"}},{"$f":"IF(A719=\"\",\"\",VLOOKUP(A719,[1]ItemConfig!$A:$D,4,FALSE))","v":{"$error":"#N/A"}},{"$f":"IF(A719=\"\",\"\",VLOOKUP(A719,[1]ItemConfig!$A:$C,3,FALSE))","v":{"$error":"#N/A"}},{"$f":"IF(A719=\"\",\"\",VLOOKUP(B719,#REF!,5,FALSE))","v":{"$error":"#N/A"}},{"$f":"IF(A719=\"\",\"\",VLOOKUP(C719,#REF!,5,FALSE))","v":{"$error":"#N/A"}}]
[200387,{"$f":"IF(A720=\"\",\"\",VLOOKUP(A720,[1]ItemConfig!$A:$B,2,FALSE))","v":{"$error":"#N/A"}},{"$f":"IF(A720=\"\",\"\",VLOOKUP(A720,[1]ItemConfig!$A:$D,4,FALSE))","v":{"$error":"#N/A"}},{"$f":"IF(A720=\"\",\"\",VLOOKUP(A720,[1]ItemConfig!$A:$C,3,FALSE))","v":{"$error":"#N/A"}},{"$f":"IF(A720=\"\",\"\",VLOOKUP(B720,#REF!,5,FALSE))","v":{"$error":"#N/A"}},{"$f":"IF(A720=\"\",\"\",VLOOKUP(C720,#REF!,5,FALSE))","v":{"$error":"#N/A"}}]
[200388,{"$f":"IF(A721=\"\",\"\",VLOOKUP(A721,[1]ItemConfig!$A:$B,2,FALSE))","v":{"$error":"#N/A"}},{"$f":"IF(A721=\"\",\"\",VLOOKUP(A721,[1]ItemConfig!$A:$D,4,FALSE))","v":{"$error":"#N/A"}},{"$f":"IF(A721=\"\",\"\",VLOOKUP(A721,[1]ItemConfig!$A:$C,3,FALSE))","v":{"$error":"#N/A"}},{"$f":"IF(A721=\"\",\"\",VLOOKUP(B721,#REF!,5,FALSE))","v":{"$error":"#N/A"}},{"$f":"IF(A721=\"\",\"\",VLOOKUP(C721,#REF!,5,FALSE))","v":{"$error":"#N/A"}}]
[200389,{"$f":"IF(A722=\"\",\"\",VLOOKUP(A722,[1]ItemConfig!$A:$B,2,FALSE))","v":{"$error":"#N/A"}},{"$f":"IF(A722=\"\",\"\",VLOOKUP(A722,[1]ItemConfig!$A:$D,4,FALSE))","v":{"$error":"#N/A"}},{"$f":"IF(A722=\"\",\"\",VLOOKUP(A722,[1]ItemConfig!$A:$C,3,FALSE))","v":{"$error":"#N/A"}},{"$f":"IF(A722=\"\",\"\",VLOOKUP(B722,#REF!,5,FALSE))","v":{"$error":"#N/A"}},{"$f":"IF(A722=\"\",\"\",VLOOKUP(C722,#REF!,5,FALSE))","v":{"$error":"#N/A"}}]
[200390,{"$f":"IF(A723=\"\",\"\",VLOOKUP(A723,[1]ItemConfig!$A:$B,2,FALSE))","v":{"$error":"#N/A"}},{"$f":"IF(A723=\"\",\"\",VLOOKUP(A723,[1]ItemConfig!$A:$D,4,FALSE))","v":{"$error":"#N/A"}},{"$f":"IF(A723=\"\",\"\",VLOOKUP(A723,[1]ItemConfig!$A:$C,3,FALSE))","v":{"$error":"#N/A"}},{"$f":"IF(A723=\"\",\"\",VLOOKUP(B723,#REF!,5,FALSE))","v":{"$error":"#N/A"}},{"$f":"IF(A723=\"\",\"\",VLOOKUP(C723,#REF!,5,FALSE))","v":{"$error":"#N/A"}}]
[200391,{"$f":"IF(A724=\"\",\"\",VLOOKUP(A724,[1]ItemConfig!$A:$B,2,FALSE))","v":{"$error":"#N/A"}},{"$f":"IF(A724=\"\",\"\",VLOOKUP(A724,[1]ItemConfig!$A:$D,4,FALSE))","v":{"$error":"#N/A"}},{"$f":"IF(A724=\"\",\"\",VLOOKUP(A724,[1]ItemConfig!$A:$C,3,FALSE))","v":{"$error":"#N/A"}},{"$f":"IF(A724=\"\",\"\",VLOOKUP(B724,#REF!,5,FALSE))","v":{"$error":"#N/A"}},{"$f":"IF(A724=\"\",\"\",VLOOKUP(C724,#REF!,5,FALSE))","v":{"$error":"#N/A"}}]
[200392,{"$f":"IF(A725=\"\",\"\",VLOOKUP(A725,[1]ItemConfig!$A:$B,2,FALSE))","v":{"$error":"#N/A"}},{"$f":"IF(A725=\"\",\"\",VLOOKUP(A725,[1]ItemConfig!$A:$D,4,FALSE))","v":{"$error":"#N/A"}},{"$f":"IF(A725=\"\",\"\",VLOOKUP(A725,[1]ItemConfig!$A:$C,3,FALSE))","v":{"$error":"#N/A"}},{"$f":"IF(A725=\"\",\"\",VLOOKUP(B725,#REF!,5,FALSE))","v":{"$error":"#N/A"}},{"$f":"IF(A725=\"\",\"\",VLOOKUP(C725,#REF!,5,FALSE))","v":{"$error":"#N/A"}}]
[200393,{"$f":"IF(A726=\"\",\"\",VLOOKUP(A726,[1]ItemConfig!$A:$B,2,FALSE))","v":{"$error":"#N/A"}},{"$f":"IF(A726=\"\",\"\",VLOOKUP(A726,[1]ItemConfig!$A:$D,4,FALSE))","v":{"$error":"#N/A"}},{"$f":"IF(A726=\"\",\"\",VLOOKUP(A726,[1]ItemConfig!$A:$C,3,FALSE))","v":{"$error":"#N/A"}},{"$f":"IF(A726=\"\",\"\",VLOOKUP(B726,#REF!,5,FALSE))","v":{"$error":"#N/A"}},{"$f":"IF(A726=\"\",\"\",VLOOKUP(C726,#REF!,5,FALSE))","v":{"$error":"#N/A"}}]
[200394,{"$f":"IF(A727=\"\",\"\",VLOOKUP(A727,[1]ItemConfig!$A:$B,2,FALSE))","v":{"$error":"#N/A"}},{"$f":"IF(A727=\"\",\"\",VLOOKUP(A727,[1]ItemConfig!$A:$D,4,FALSE))","v":{"$error":"#N/A"}},{"$f":"IF(A727=\"\",\"\",VLOOKUP(A727,[1]ItemConfig!$A:$C,3,FALSE))","v":{"$error":"#N/A"}},{"$f":"IF(A727=\"\",\"\",VLOOKUP(B727,#REF!,5,FALSE))","v":{"$error":"#N/A"}},{"$f":"IF(A727=\"\",\"\",VLOOKUP(C727,#REF!,5,FALSE))","v":{"$error":"#N/A"}}]
[200395,{"$f":"IF(A728=\"\",\"\",VLOOKUP(A728,[1]ItemConfig!$A:$B,2,FALSE))","v":{"$error":"#N/A"}},{"$f":"IF(A728=\"\",\"\",VLOOKUP(A728,[1]ItemConfig!$A:$D,4,FALSE))","v":{"$error":"#N/A"}},{"$f":"IF(A728=\"\",\"\",VLOOKUP(A728,[1]ItemConfig!$A:$C,3,FALSE))","v":{"$error":"#N/A"}},{"$f":"IF(A728=\"\",\"\",VLOOKUP(B728,#REF!,5,FALSE))","v":{"$error":"#N/A"}},{"$f":"IF(A728=\"\",\"\",VLOOKUP(C728,#REF!,5,FALSE))","v":{"$error":"#N/A"}}]
[200396,{"$f":"IF(A729=\"\",\"\",VLOOKUP(A729,[1]ItemConfig!$A:$B,2,FALSE))","v":{"$error":"#N/A"}},{"$f":"IF(A729=\"\",\"\",VLOOKUP(A729,[1]ItemConfig!$A:$D,4,FALSE))","v":{"$error":"#N/A"}},{"$f":"IF(A729=\"\",\"\",VLOOKUP(A729,[1]ItemConfig!$A:$C,3,FALSE))","v":{"$error":"#N/A"}},{"$f":"IF(A729=\"\",\"\",VLOOKUP(B729,#REF!,5,FALSE))","v":{"$error":"#N/A"}},{"$f":"IF(A729=\"\",\"\",VLOOKUP(C729,#REF!,5,FALSE))","v":{"$error":"#N/A"}}]
[200397,{"$f":"IF(A730=\"\",\"\",VLOOKUP(A730,[1]ItemConfig!$A:$B,2,FALSE))","v":{"$error":"#N/A"}},{"$f":"IF(A730=\"\",\"\",VLOOKUP(A730,[1]ItemConfig!$A:$D,4,FALSE))","v":{"$error":"#N/A"}},{"$f":"IF(A730=\"\",\"\",VLOOKUP(A730,[1]ItemConfig!$A:$C,3,FALSE))","v":{"$error":"#N/A"}},{"$f":"IF(A730=\"\",\"\",VLOOKUP(B730,#REF!,5,FALSE))","v":{"$error":"#N/A"}},{"$f":"IF(A730=\"\",\"\",VLOOKUP(C730,#REF!,5,FALSE))","v":{"$error":"#N/A"}}]
[200398,{"$f":"IF(A731=\"\",\"\",VLOOKUP(A731,[1]ItemConfig!$A:$B,2,FALSE))","v":{"$error":"#N/A"}},{"$f":"IF(A731=\"\",\"\",VLOOKUP(A731,[1]ItemConfig!$A:$D,4,FALSE))","v":{"$error":"#N/A"}},{"$f":"IF(A731=\"\",\"\",VLOOKUP(A731,[1]ItemConfig!$A:$C,3,FALSE))","v":{"$error":"#N/A"}},{"$f":"IF(A731=\"\",\"\",VLOOKUP(B731,#REF!,5,FALSE))","v":{"$error":"#N/A"}},{"$f":"IF(A731=\"\",\"\",VLOOKUP(C731,#REF!,5,FALSE))","v":{"$error":"#N/A"}}]
[200399,{"$f":"IF(A732=\"\",\"\",VLOOKUP(A732,[1]ItemConfig!$A:$B,2,FALSE))","v":{"$error":"#N/A"}},{"$f":"IF(A732=\"\",\"\",VLOOKUP(A732,[1]ItemConfig!$A:$D,4,FALSE))","v":{"$error":"#N/A"}},{"$f":"IF(A732=\"\",\"\",VLOOKUP(A732,[1]ItemConfig!$A:$C,3,FALSE))","v":{"$error":"#N/A"}},{"$f":"IF(A732=\"\",\"\",VLOOKUP(B732,#REF!,5,FALSE))","v":{"$error":"#N/A"}},{"$f":"IF(A732=\"\",\"\",VLOOKUP(C732,#REF!,5,FALSE))","v":{"$error":"#N/A"}}]
[200400,{"$f":"IF(A733=\"\",\"\",VLOOKUP(A733,[1]ItemConfig!$A:$B,2,FALSE))","v":{"$error":"#N/A"}},{"$f":"IF(A733=\"\",\"\",VLOOKUP(A733,[1]ItemConfig!$A:$D,4,FALSE))","v":{"$error":"#N/A"}},{"$f":"IF(A733=\"\",\"\",VLOOKUP(A733,[1]ItemConfig!$A:$C,3,FALSE))","v":{"$error":"#N/A"}},{"$f":"IF(A733=\"\",\"\",VLOOKUP(B733,#REF!,5,FALSE))","v":{"$error":"#N/A"}},{"$f":"IF(A733=\"\",\"\",VLOOKUP(C733,#REF!,5,FALSE))","v":{"$error":"#N/A"}}]
[200401,{"$f":"IF(A734=\"\",\"\",VLOOKUP(A734,[1]ItemConfig!$A:$B,2,FALSE))","v":{"$error":"#N/A"}},{"$f":"IF(A734=\"\",\"\",VLOOKUP(A734,[1]ItemConfig!$A:$D,4,FALSE))","v":{"$error":"#N/A"}},{"$f":"IF(A734=\"\",\"\",VLOOKUP(A734,[1]ItemConfig!$A:$C,3,FALSE))","v":{"$error":"#N/A"}},{"$f":"IF(A734=\"\",\"\",VLOOKUP(B734,#REF!,5,FALSE))","v":{"$error":"#N/A"}},{"$f":"IF(A734=\"\",\"\",VLOOKUP(C734,#REF!,5,FALSE))","v":{"$error":"#N/A"}}]
[200402,{"$f":"IF(A735=\"\",\"\",VLOOKUP(A735,[1]ItemConfig!$A:$B,2,FALSE))","v":{"$error":"#N/A"}},{"$f":"IF(A735=\"\",\"\",VLOOKUP(A735,[1]ItemConfig!$A:$D,4,FALSE))","v":{"$error":"#N/A"}},{"$f":"IF(A735=\"\",\"\",VLOOKUP(A735,[1]ItemConfig!$A:$C,3,FALSE))","v":{"$error":"#N/A"}},{"$f":"IF(A735=\"\",\"\",VLOOKUP(B735,#REF!,5,FALSE))","v":{"$error":"#N/A"}},{"$f":"IF(A735=\"\",\"\",VLOOKUP(C735,#REF!,5,FALSE))","v":{"$error":"#N/A"}}]
[200403,{"$f":"IF(A736=\"\",\"\",VLOOKUP(A736,[1]ItemConfig!$A:$B,2,FALSE))","v":{"$error":"#N/A"}},{"$f":"IF(A736=\"\",\"\",VLOOKUP(A736,[1]ItemConfig!$A:$D,4,FALSE))","v":{"$error":"#N/A"}},{"$f":"IF(A736=\"\",\"\",VLOOKUP(A736,[1]ItemConfig!$A:$C,3,FALSE))","v":{"$error":"#N/A"}},{"$f":"IF(A736=\"\",\"\",VLOOKUP(B736,#REF!,5,FALSE))","v":{"$error":"#N/A"}},{"$f":"IF(A736=\"\",\"\",VLOOKUP(C736,#REF!,5,FALSE))","v":{"$error":"#N/A"}}]
[200404,{"$f":"IF(A737=\"\",\"\",VLOOKUP(A737,[1]ItemConfig!$A:$B,2,FALSE))","v":{"$error":"#N/A"}},{"$f":"IF(A737=\"\",\"\",VLOOKUP(A737,[1]ItemConfig!$A:$D,4,FALSE))","v":{"$error":"#N/A"}},{"$f":"IF(A737=\"\",\"\",VLOOKUP(A737,[1]ItemConfig!$A:$C,3,FALSE))","v":{"$error":"#N/A"}},{"$f":"IF(A737=\"\",\"\",VLOOKUP(B737,#REF!,5,FALSE))","v":{"$error":"#N/A"}},{"$f":"IF(A737=\"\",\"\",VLOOKUP(C737,#REF!,5,FALSE))","v":{"$error":"#N/A"}}]
[200405,{"$f":"IF(A738=\"\",\"\",VLOOKUP(A738,[1]ItemConfig!$A:$B,2,FALSE))","v":{"$error":"#N/A"}},{"$f":"IF(A738=\"\",\"\",VLOOKUP(A738,[1]ItemConfig!$A:$D,4,FALSE))","v":{"$error":"#N/A"}},{"$f":"IF(A738=\"\",\"\",VLOOKUP(A738,[1]ItemConfig!$A:$C,3,FALSE))","v":{"$error":"#N/A"}},{"$f":"IF(A738=\"\",\"\",VLOOKUP(B738,#REF!,5,FALSE))","v":{"$error":"#N/A"}},{"$f":"IF(A738=\"\",\"\",VLOOKUP(C738,#REF!,5,FALSE))","v":{"$error":"#N/A"}}]
[200406,{"$f":"IF(A739=\"\",\"\",VLOOKUP(A739,[1]ItemConfig!$A:$B,2,FALSE))","v":{"$error":"#N/A"}},{"$f":"IF(A739=\"\",\"\",VLOOKUP(A739,[1]ItemConfig!$A:$D,4,FALSE))","v":{"$error":"#N/A"}},{"$f":"IF(A739=\"\",\"\",VLOOKUP(A739,[1]ItemConfig!$A:$C,3,FALSE))","v":{"$error":"#N/A"}},{"$f":"IF(A739=\"\",\"\",VLOOKUP(B739,#REF!,5,FALSE))","v":{"$error":"#N/A"}},{"$f":"IF(A739=\"\",\"\",VLOOKUP(C739,#REF!,5,FALSE))","v":{"$error":"#N/A"}}]
[null,{"$f":"IF(A740=\"\",\"\",VLOOKUP(A740,[1]ItemConfig!$A:$B,2,FALSE))","v":""},{"$f":"IF(A740=\"\",\"\",VLOOKUP(A740,[1]ItemConfig!$A:$D,4,FALSE))","v":""},{"$f":"IF(A740=\"\",\"\",VLOOKUP(A740,[1]ItemConfig!$A:$C,3,FALSE))","v":""},{"$f":"IF(A740=\"\",\"\",VLOOKUP(B740,#REF!,5,FALSE))","v":""},{"$f":"IF(A740=\"\",\"\",VLOOKUP(C740,#REF!,5,FALSE))","v":""}]
[200407,{"$f":"IF(A741=\"\",\"\",VLOOKUP(A741,[1]ItemConfig!$A:$B,2,FALSE))","v":{"$error":"#N/A"}},{"$f":"IF(A741=\"\",\"\",VLOOKUP(A741,[1]ItemConfig!$A:$D,4,FALSE))","v":{"$error":"#N/A"}},{"$f":"IF(A741=\"\",\"\",VLOOKUP(A741,[1]ItemConfig!$A:$C,3,FALSE))","v":{"$error":"#N/A"}},{"$f":"IF(A741=\"\",\"\",VLOOKUP(B741,#REF!,5,FALSE))","v":{"$error":"#N/A"}},{"$f":"IF(A741=\"\",\"\",VLOOKUP(C741,#REF!,5,FALSE))","v":{"$error":"#N/A"}}]
[200408,{"$f":"IF(A742=\"\",\"\",VLOOKUP(A742,[1]ItemConfig!$A:$B,2,FALSE))","v":{"$error":"#N/A"}},{"$f":"IF(A742=\"\",\"\",VLOOKUP(A742,[1]ItemConfig!$A:$D,4,FALSE))","v":{"$error":"#N/A"}},{"$f":"IF(A742=\"\",\"\",VLOOKUP(A742,[1]ItemConfig!$A:$C,3,FALSE))","v":{"$error":"#N/A"}},{"$f":"IF(A742=\"\",\"\",VLOOKUP(B742,#REF!,5,FALSE))","v":{"$error":"#N/A"}},{"$f":"IF(A742=\"\",\"\",VLOOKUP(C742,#REF!,5,FALSE))","v":{"$error":"#N/A"}}]
[200409,{"$f":"IF(A743=\"\",\"\",VLOOKUP(A743,[1]ItemConfig!$A:$B,2,FALSE))","v":{"$error":"#N/A"}},{"$f":"IF(A743=\"\",\"\",VLOOKUP(A743,[1]ItemConfig!$A:$D,4,FALSE))","v":{"$error":"#N/A"}},{"$f":"IF(A743=\"\",\"\",VLOOKUP(A743,[1]ItemConfig!$A:$C,3,FALSE))","v":{"$error":"#N/A"}},{"$f":"IF(A743=\"\",\"\",VLOOKUP(B743,#REF!,5,FALSE))","v":{"$error":"#N/A"}},{"$f":"IF(A743=\"\",\"\",VLOOKUP(C743,#REF!,5,FALSE))","v":{"$error":"#N/A"}}]
[200410,{"$f":"IF(A744=\"\",\"\",VLOOKUP(A744,[1]ItemConfig!$A:$B,2,FALSE))","v":{"$error":"#N/A"}},{"$f":"IF(A744=\"\",\"\",VLOOKUP(A744,[1]ItemConfig!$A:$D,4,FALSE))","v":{"$error":"#N/A"}},{"$f":"IF(A744=\"\",\"\",VLOOKUP(A744,[1]ItemConfig!$A:$C,3,FALSE))","v":{"$error":"#N/A"}},{"$f":"IF(A744=\"\",\"\",VLOOKUP(B744,#REF!,5,FALSE))","v":{"$error":"#N/A"}},{"$f":"IF(A744=\"\",\"\",VLOOKUP(C744,#REF!,5,FALSE))","v":{"$error":"#N/A"}}]
[200411,{"$f":"IF(A745=\"\",\"\",VLOOKUP(A745,[1]ItemConfig!$A:$B,2,FALSE))","v":{"$error":"#N/A"}},{"$f":"IF(A745=\"\",\"\",VLOOKUP(A745,[1]ItemConfig!$A:$D,4,FALSE))","v":{"$error":"#N/A"}},{"$f":"IF(A745=\"\",\"\",VLOOKUP(A745,[1]ItemConfig!$A:$C,3,FALSE))","v":{"$error":"#N/A"}},{"$f":"IF(A745=\"\",\"\",VLOOKUP(B745,#REF!,5,FALSE))","v":{"$error":"#N/A"}},{"$f":"IF(A745=\"\",\"\",VLOOKUP(C745,#REF!,5,FALSE))","v":{"$error":"#N/A"}}]
[200412,{"$f":"IF(A746=\"\",\"\",VLOOKUP(A746,[1]ItemConfig!$A:$B,2,FALSE))","v":{"$error":"#N/A"}},{"$f":"IF(A746=\"\",\"\",VLOOKUP(A746,[1]ItemConfig!$A:$D,4,FALSE))","v":{"$error":"#N/A"}},{"$f":"IF(A746=\"\",\"\",VLOOKUP(A746,[1]ItemConfig!$A:$C,3,FALSE))","v":{"$error":"#N/A"}},{"$f":"IF(A746=\"\",\"\",VLOOKUP(B746,#REF!,5,FALSE))","v":{"$error":"#N/A"}},{"$f":"IF(A746=\"\",\"\",VLOOKUP(C746,#REF!,5,FALSE))","v":{"$error":"#N/A"}}]
[200413,{"$f":"IF(A747=\"\",\"\",VLOOKUP(A747,[1]ItemConfig!$A:$B,2,FALSE))","v":{"$error":"#N/A"}},{"$f":"IF(A747=\"\",\"\",VLOOKUP(A747,[1]ItemConfig!$A:$D,4,FALSE))","v":{"$error":"#N/A"}},{"$f":"IF(A747=\"\",\"\",VLOOKUP(A747,[1]ItemConfig!$A:$C,3,FALSE))","v":{"$error":"#N/A"}},{"$f":"IF(A747=\"\",\"\",VLOOKUP(B747,#REF!,5,FALSE))","v":{"$error":"#N/A"}},{"$f":"IF(A747=\"\",\"\",VLOOKUP(C747,#REF!,5,FALSE))","v":{"$error":"#N/A"}}]
[200414,{"$f":"IF(A748=\"\",\"\",VLOOKUP(A748,[1]ItemConfig!$A:$B,2,FALSE))","v":{"$error":"#N/A"}},{"$f":"IF(A748=\"\",\"\",VLOOKUP(A748,[1]ItemConfig!$A:$D,4,FALSE))","v":{"$error":"#N/A"}},{"$f":"IF(A748=\"\",\"\",VLOOKUP(A748,[1]ItemConfig!$A:$C,3,FALSE))","v":{"$error":"#N/A"}},{"$f":"IF(A748=\"\",\"\",VLOOKUP(B748,#REF!,5,FALSE))","v":{"$error":"#N/A"}},{"$f":"IF(A748=\"\",\"\",VLOOKUP(C748,#REF!,5,FALSE))","v":{"$error":"#N/A"}}]
[200415,{"$f":"IF(A749=\"\",\"\",VLOOKUP(A749,[1]ItemConfig!$A:$B,2,FALSE))","v":{"$error":"#N/A"}},{"$f":"IF(A749=\"\",\"\",VLOOKUP(A749,[1]ItemConfig!$A:$D,4,FALSE))","v":{"$error":"#N/A"}},{"$f":"IF(A749=\"\",\"\",VLOOKUP(A749,[1]ItemConfig!$A:$C,3,FALSE))","v":{"$error":"#N/A"}},{"$f":"IF(A749=\"\",\"\",VLOOKUP(B749,#REF!,5,FALSE))","v":{"$error":"#N/A"}},{"$f":"IF(A749=\"\",\"\",VLOOKUP(C749,#REF!,5,FALSE))","v":{"$error":"#N/A"}}]
[200416,{"$f":"IF(A750=\"\",\"\",VLOOKUP(A750,[1]ItemConfig!$A:$B,2,FALSE))","v":{"$error":"#N/A"}},{"$f":"IF(A750=\"\",\"\",VLOOKUP(A750,[1]ItemConfig!$A:$D,4,FALSE))","v":{"$error":"#N/A"}},{"$f":"IF(A750=\"\",\"\",VLOOKUP(A750,[1]ItemConfig!$A:$C,3,FALSE))","v":{"$error":"#N/A"}},{"$f":"IF(A750=\"\",\"\",VLOOKUP(B750,#REF!,5,FALSE))","v":{"$error":"#N/A"}},{"$f":"IF(A750=\"\",\"\",VLOOKUP(C750,#REF!,5,FALSE))","v":{"$error":"#N/A"}}]
[200417,{"$f":"IF(A751=\"\",\"\",VLOOKUP(A751,[1]ItemConfig!$A:$B,2,FALSE))","v":{"$error":"#N/A"}},{"$f":"IF(A751=\"\",\"\",VLOOKUP(A751,[1]ItemConfig!$A:$D,4,FALSE))","v":{"$error":"#N/A"}},{"$f":"IF(A751=\"\",\"\",VLOOKUP(A751,[1]ItemConfig!$A:$C,3,FALSE))","v":{"$error":"#N/A"}},{"$f":"IF(A751=\"\",\"\",VLOOKUP(B751,#REF!,5,FALSE))","v":{"$error":"#N/A"}},{"$f":"IF(A751=\"\",\"\",VLOOKUP(C751,#REF!,5,FALSE))","v":{"$error":"#N/A"}}]
[200418,{"$f":"IF(A752=\"\",\"\",VLOOKUP(A752,[1]ItemConfig!$A:$B,2,FALSE))","v":{"$error":"#N/A"}},{"$f":"IF(A752=\"\",\"\",VLOOKUP(A752,[1]ItemConfig!$A:$D,4,FALSE))","v":{"$error":"#N/A"}},{"$f":"IF(A752=\"\",\"\",VLOOKUP(A752,[1]ItemConfig!$A:$C,3,FALSE))","v":{"$error":"#N/A"}},{"$f":"IF(A752=\"\",\"\",VLOOKUP(B752,#REF!,5,FALSE))","v":{"$error":"#N/A"}},{"$f":"IF(A752=\"\",\"\",VLOOKUP(C752,#REF!,5,FALSE))","v":{"$error":"#N/A"}}]
[200419,{"$f":"IF(A753=\"\",\"\",VLOOKUP(A753,[1]ItemConfig!$A:$B,2,FALSE))","v":{"$error":"#N/A"}},{"$f":"IF(A753=\"\",\"\",VLOOKUP(A753,[1]ItemConfig!$A:$D,4,FALSE))","v":{"$error":"#N/A"}},{"$f":"IF(A753=\"\",\"\",VLOOKUP(A753,[1]ItemConfig!$A:$C,3,FALSE))","v":{"$error":"#N/A"}},{"$f":"IF(A753=\"\",\"\",VLOOKUP(B753,#REF!,5,FALSE))","v":{"$error":"#N/A"}},{"$f":"IF(A753=\"\",\"\",VLOOKUP(C753,#REF!,5,FALSE))","v":{"$error":"#N/A"}}]
[200420,{"$f":"IF(A754=\"\",\"\",VLOOKUP(A754,[1]ItemConfig!$A:$B,2,FALSE))","v":{"$error":"#N/A"}},{"$f":"IF(A754=\"\",\"\",VLOOKUP(A754,[1]ItemConfig!$A:$D,4,FALSE))","v":{"$error":"#N/A"}},{"$f":"IF(A754=\"\",\"\",VLOOKUP(A754,[1]ItemConfig!$A:$C,3,FALSE))","v":{"$error":"#N/A"}},{"$f":"IF(A754=\"\",\"\",VLOOKUP(B754,#REF!,5,FALSE))","v":{"$error":"#N/A"}},{"$f":"IF(A754=\"\",\"\",VLOOKUP(C754,#REF!,5,FALSE))","v":{"$error":"#N/A"}}]
[200421,{"$f":"IF(A755=\"\",\"\",VLOOKUP(A755,[1]ItemConfig!$A:$B,2,FALSE))","v":{"$error":"#N/A"}},{"$f":"IF(A755=\"\",\"\",VLOOKUP(A755,[1]ItemConfig!$A:$D,4,FALSE))","v":{"$error":"#N/A"}},{"$f":"IF(A755=\"\",\"\",VLOOKUP(A755,[1]ItemConfig!$A:$C,3,FALSE))","v":{"$error":"#N/A"}},{"$f":"IF(A755=\"\",\"\",VLOOKUP(B755,#REF!,5,FALSE))","v":{"$error":"#N/A"}},{"$f":"IF(A755=\"\",\"\",VLOOKUP(C755,#REF!,5,FALSE))","v":{"$error":"#N/A"}}]
[200422,{"$f":"IF(A756=\"\",\"\",VLOOKUP(A756,[1]ItemConfig!$A:$B,2,FALSE))","v":{"$error":"#N/A"}},{"$f":"IF(A756=\"\",\"\",VLOOKUP(A756,[1]ItemConfig!$A:$D,4,FALSE))","v":{"$error":"#N/A"}},{"$f":"IF(A756=\"\",\"\",VLOOKUP(A756,[1]ItemConfig!$A:$C,3,FALSE))","v":{"$error":"#N/A"}},{"$f":"IF(A756=\"\",\"\",VLOOKUP(B756,#REF!,5,FALSE))","v":{"$error":"#N/A"}},{"$f":"IF(A756=\"\",\"\",VLOOKUP(C756,#REF!,5,FALSE))","v":{"$error":"#N/A"}}]
[200423,{"$f":"IF(A757=\"\",\"\",VLOOKUP(A757,[1]ItemConfig!$A:$B,2,FALSE))","v":{"$error":"#N/A"}},{"$f":"IF(A757=\"\",\"\",VLOOKUP(A757,[1]ItemConfig!$A:$D,4,FALSE))","v":{"$error":"#N/A"}},{"$f":"IF(A757=\"\",\"\",VLOOKUP(A757,[1]ItemConfig!$A:$C,3,FALSE))","v":{"$error":"#N/A"}},{"$f":"IF(A757=\"\",\"\",VLOOKUP(B757,#REF!,5,FALSE))","v":{"$error":"#N/A"}},{"$f":"IF(A757=\"\",\"\",VLOOKUP(C757,#REF!,5,FALSE))","v":{"$error":"#N/A"}}]
[200424,{"$f":"IF(A758=\"\",\"\",VLOOKUP(A758,[1]ItemConfig!$A:$B,2,FALSE))","v":{"$error":"#N/A"}},{"$f":"IF(A758=\"\",\"\",VLOOKUP(A758,[1]ItemConfig!$A:$D,4,FALSE))","v":{"$error":"#N/A"}},{"$f":"IF(A758=\"\",\"\",VLOOKUP(A758,[1]ItemConfig!$A:$C,3,FALSE))","v":{"$error":"#N/A"}},{"$f":"IF(A758=\"\",\"\",VLOOKUP(B758,#REF!,5,FALSE))","v":{"$error":"#N/A"}},{"$f":"IF(A758=\"\",\"\",VLOOKUP(C758,#REF!,5,FALSE))","v":{"$error":"#N/A"}}]
[200425,{"$f":"IF(A759=\"\",\"\",VLOOKUP(A759,[1]ItemConfig!$A:$B,2,FALSE))","v":{"$error":"#N/A"}},{"$f":"IF(A759=\"\",\"\",VLOOKUP(A759,[1]ItemConfig!$A:$D,4,FALSE))","v":{"$error":"#N/A"}},{"$f":"IF(A759=\"\",\"\",VLOOKUP(A759,[1]ItemConfig!$A:$C,3,FALSE))","v":{"$error":"#N/A"}},{"$f":"IF(A759=\"\",\"\",VLOOKUP(B759,#REF!,5,FALSE))","v":{"$error":"#N/A"}},{"$f":"IF(A759=\"\",\"\",VLOOKUP(C759,#REF!,5,FALSE))","v":{"$error":"#N/A"}}]
[200426,{"$f":"IF(A760=\"\",\"\",VLOOKUP(A760,[1]ItemConfig!$A:$B,2,FALSE))","v":{"$error":"#N/A"}},{"$f":"IF(A760=\"\",\"\",VLOOKUP(A760,[1]ItemConfig!$A:$D,4,FALSE))","v":{"$error":"#N/A"}},{"$f":"IF(A760=\"\",\"\",VLOOKUP(A760,[1]ItemConfig!$A:$C,3,FALSE))","v":{"$error":"#N/A"}},{"$f":"IF(A760=\"\",\"\",VLOOKUP(B760,#REF!,5,FALSE))","v":{"$error":"#N/A"}},{"$f":"IF(A760=\"\",\"\",VLOOKUP(C760,#REF!,5,FALSE))","v":{"$error":"#N/A"}}]
[200427,{"$f":"IF(A761=\"\",\"\",VLOOKUP(A761,[1]ItemConfig!$A:$B,2,FALSE))","v":{"$error":"#N/A"}},{"$f":"IF(A761=\"\",\"\",VLOOKUP(A761,[1]ItemConfig!$A:$D,4,FALSE))","v":{"$error":"#N/A"}},{"$f":"IF(A761=\"\",\"\",VLOOKUP(A761,[1]ItemConfig!$A:$C,3,FALSE))","v":{"$error":"#N/A"}},{"$f":"IF(A761=\"\",\"\",VLOOKUP(B761,#REF!,5,FALSE))","v":{"$error":"#N/A"}},{"$f":"IF(A761=\"\",\"\",VLOOKUP(C761,#REF!,5,FALSE))","v":{"$error":"#N/A"}}]
[200428,{"$f":"IF(A762=\"\",\"\",VLOOKUP(A762,[1]ItemConfig!$A:$B,2,FALSE))","v":{"$error":"#N/A"}},{"$f":"IF(A762=\"\",\"\",VLOOKUP(A762,[1]ItemConfig!$A:$D,4,FALSE))","v":{"$error":"#N/A"}},{"$f":"IF(A762=\"\",\"\",VLOOKUP(A762,[1]ItemConfig!$A:$C,3,FALSE))","v":{"$error":"#N/A"}},{"$f":"IF(A762=\"\",\"\",VLOOKUP(B762,#REF!,5,FALSE))","v":{"$error":"#N/A"}},{"$f":"IF(A762=\"\",\"\",VLOOKUP(C762,#REF!,5,FALSE))","v":{"$error":"#N/A"}}]
[200429,{"$f":"IF(A763=\"\",\"\",VLOOKUP(A763,[1]ItemConfig!$A:$B,2,FALSE))","v":{"$error":"#N/A"}},{"$f":"IF(A763=\"\",\"\",VLOOKUP(A763,[1]ItemConfig!$A:$D,4,FALSE))","v":{"$error":"#N/A"}},{"$f":"IF(A763=\"\",\"\",VLOOKUP(A763,[1]ItemConfig!$A:$C,3,FALSE))","v":{"$error":"#N/A"}},{"$f":"IF(A763=\"\",\"\",VLOOKUP(B763,#REF!,5,FALSE))","v":{"$error":"#N/A"}},{"$f":"IF(A763=\"\",\"\",VLOOKUP(C763,#REF!,5,FALSE))","v":{"$error":"#N/A"}}]
[200430,{"$f":"IF(A764=\"\",\"\",VLOOKUP(A764,[1]ItemConfig!$A:$B,2,FALSE))","v":{"$error":"#N/A"}},{"$f":"IF(A764=\"\",\"\",VLOOKUP(A764,[1]ItemConfig!$A:$D,4,FALSE))","v":{"$error":"#N/A"}},{"$f":"IF(A764=\"\",\"\",VLOOKUP(A764,[1]ItemConfig!$A:$C,3,FALSE))","v":{"$error":"#N/A"}},{"$f":"IF(A764=\"\",\"\",VLOOKUP(B764,#REF!,5,FALSE))","v":{"$error":"#N/A"}},{"$f":"IF(A764=\"\",\"\",VLOOKUP(C764,#REF!,5,FALSE))","v":{"$error":"#N/A"}}]
[200431,{"$f":"IF(A765=\"\",\"\",VLOOKUP(A765,[1]ItemConfig!$A:$B,2,FALSE))","v":{"$error":"#N/A"}},{"$f":"IF(A765=\"\",\"\",VLOOKUP(A765,[1]ItemConfig!$A:$D,4,FALSE))","v":{"$error":"#N/A"}},{"$f":"IF(A765=\"\",\"\",VLOOKUP(A765,[1]ItemConfig!$A:$C,3,FALSE))","v":{"$error":"#N/A"}},{"$f":"IF(A765=\"\",\"\",VLOOKUP(B765,#REF!,5,FALSE))","v":{"$error":"#N/A"}},{"$f":"IF(A765=\"\",\"\",VLOOKUP(C765,#REF!,5,FALSE))","v":{"$error":"#N/A"}}]
[200432,{"$f":"IF(A766=\"\",\"\",VLOOKUP(A766,[1]ItemConfig!$A:$B,2,FALSE))","v":{"$error":"#N/A"}},{"$f":"IF(A766=\"\",\"\",VLOOKUP(A766,[1]ItemConfig!$A:$D,4,FALSE))","v":{"$error":"#N/A"}},{"$f":"IF(A766=\"\",\"\",VLOOKUP(A766,[1]ItemConfig!$A:$C,3,FALSE))","v":{"$error":"#N/A"}},{"$f":"IF(A766=\"\",\"\",VLOOKUP(B766,#REF!,5,FALSE))","v":{"$error":"#N/A"}},{"$f":"IF(A766=\"\",\"\",VLOOKUP(C766,#REF!,5,FALSE))","v":{"$error":"#N/A"}}]
[200433,{"$f":"IF(A767=\"\",\"\",VLOOKUP(A767,[1]ItemConfig!$A:$B,2,FALSE))","v":{"$error":"#N/A"}},{"$f":"IF(A767=\"\",\"\",VLOOKUP(A767,[1]ItemConfig!$A:$D,4,FALSE))","v":{"$error":"#N/A"}},{"$f":"IF(A767=\"\",\"\",VLOOKUP(A767,[1]ItemConfig!$A:$C,3,FALSE))","v":{"$error":"#N/A"}},{"$f":"IF(A767=\"\",\"\",VLOOKUP(B767,#REF!,5,FALSE))","v":{"$error":"#N/A"}},{"$f":"IF(A767=\"\",\"\",VLOOKUP(C767,#REF!,5,FALSE))","v":{"$error":"#N/A"}}]
[200434,{"$f":"IF(A768=\"\",\"\",VLOOKUP(A768,[1]ItemConfig!$A:$B,2,FALSE))","v":{"$error":"#N/A"}},{"$f":"IF(A768=\"\",\"\",VLOOKUP(A768,[1]ItemConfig!$A:$D,4,FALSE))","v":{"$error":"#N/A"}},{"$f":"IF(A768=\"\",\"\",VLOOKUP(A768,[1]ItemConfig!$A:$C,3,FALSE))","v":{"$error":"#N/A"}},{"$f":"IF(A768=\"\",\"\",VLOOKUP(B768,#REF!,5,FALSE))","v":{"$error":"#N/A"}},{"$f":"IF(A768=\"\",\"\",VLOOKUP(C768,#REF!,5,FALSE))","v":{"$error":"#N/A"}}]
[null,{"$f":"IF(A769=\"\",\"\",VLOOKUP(A769,[1]ItemConfig!$A:$B,2,FALSE))","v":""},{"$f":"IF(A769=\"\",\"\",VLOOKUP(A769,[1]ItemConfig!$A:$D,4,FALSE))","v":""},{"$f":"IF(A769=\"\",\"\",VLOOKUP(A769,[1]ItemConfig!$A:$C,3,FALSE))","v":""},{"$f":"IF(A769=\"\",\"\",VLOOKUP(B769,#REF!,5,FALSE))","v":""},{"$f":"IF(A769=\"\",\"\",VLOOKUP(C769,#REF!,5,FALSE))","v":""}]
[200435,{"$f":"IF(A770=\"\",\"\",VLOOKUP(A770,[1]ItemConfig!$A:$B,2,FALSE))","v":{"$error":"#N/A"}},{"$f":"IF(A770=\"\",\"\",VLOOKUP(A770,[1]ItemConfig!$A:$D,4,FALSE))","v":{"$error":"#N/A"}},{"$f":"IF(A770=\"\",\"\",VLOOKUP(A770,[1]ItemConfig!$A:$C,3,FALSE))","v":{"$error":"#N/A"}},{"$f":"IF(A770=\"\",\"\",VLOOKUP(B770,#REF!,5,FALSE))","v":{"$error":"#N/A"}},{"$f":"IF(A770=\"\",\"\",VLOOKUP(C770,#REF!,5,FALSE))","v":{"$error":"#N/A"}}]
[200436,{"$f":"IF(A771=\"\",\"\",VLOOKUP(A771,[1]ItemConfig!$A:$B,2,FALSE))","v":{"$error":"#N/A"}},{"$f":"IF(A771=\"\",\"\",VLOOKUP(A771,[1]ItemConfig!$A:$D,4,FALSE))","v":{"$error":"#N/A"}},{"$f":"IF(A771=\"\",\"\",VLOOKUP(A771,[1]ItemConfig!$A:$C,3,FALSE))","v":{"$error":"#N/A"}},{"$f":"IF(A771=\"\",\"\",VLOOKUP(B771,#REF!,5,FALSE))","v":{"$error":"#N/A"}},{"$f":"IF(A771=\"\",\"\",VLOOKUP(C771,#REF!,5,FALSE))","v":{"$error":"#N/A"}}]
[200437,{"$f":"IF(A772=\"\",\"\",VLOOKUP(A772,[1]ItemConfig!$A:$B,2,FALSE))","v":{"$error":"#N/A"}},{"$f":"IF(A772=\"\",\"\",VLOOKUP(A772,[1]ItemConfig!$A:$D,4,FALSE))","v":{"$error":"#N/A"}},{"$f":"IF(A772=\"\",\"\",VLOOKUP(A772,[1]ItemConfig!$A:$C,3,FALSE))","v":{"$error":"#N/A"}},{"$f":"IF(A772=\"\",\"\",VLOOKUP(B772,#REF!,5,FALSE))","v":{"$error":"#N/A"}},{"$f":"IF(A772=\"\",\"\",VLOOKUP(C772,#REF!,5,FALSE))","v":{"$error":"#N/A"}}]
[200438,{"$f":"IF(A773=\"\",\"\",VLOOKUP(A773,[1]ItemConfig!$A:$B,2,FALSE))","v":{"$error":"#N/A"}},{"$f":"IF(A773=\"\",\"\",VLOOKUP(A773,[1]ItemConfig!$A:$D,4,FALSE))","v":{"$error":"#N/A"}},{"$f":"IF(A773=\"\",\"\",VLOOKUP(A773,[1]ItemConfig!$A:$C,3,FALSE))","v":{"$error":"#N/A"}},{"$f":"IF(A773=\"\",\"\",VLOOKUP(B773,#REF!,5,FALSE))","v":{"$error":"#N/A"}},{"$f":"IF(A773=\"\",\"\",VLOOKUP(C773,#REF!,5,FALSE))","v":{"$error":"#N/A"}}]
[200439,{"$f":"IF(A774=\"\",\"\",VLOOKUP(A774,[1]ItemConfig!$A:$B,2,FALSE))","v":{"$error":"#N/A"}},{"$f":"IF(A774=\"\",\"\",VLOOKUP(A774,[1]ItemConfig!$A:$D,4,FALSE))","v":{"$error":"#N/A"}},{"$f":"IF(A774=\"\",\"\",VLOOKUP(A774,[1]ItemConfig!$A:$C,3,FALSE))","v":{"$error":"#N/A"}},{"$f":"IF(A774=\"\",\"\",VLOOKUP(B774,#REF!,5,FALSE))","v":{"$error":"#N/A"}},{"$f":"IF(A774=\"\",\"\",VLOOKUP(C774,#REF!,5,FALSE))","v":{"$error":"#N/A"}}]
[200440,{"$f":"IF(A775=\"\",\"\",VLOOKUP(A775,[1]ItemConfig!$A:$B,2,FALSE))","v":{"$error":"#N/A"}},{"$f":"IF(A775=\"\",\"\",VLOOKUP(A775,[1]ItemConfig!$A:$D,4,FALSE))","v":{"$error":"#N/A"}},{"$f":"IF(A775=\"\",\"\",VLOOKUP(A775,[1]ItemConfig!$A:$C,3,FALSE))","v":{"$error":"#N/A"}},{"$f":"IF(A775=\"\",\"\",VLOOKUP(B775,#REF!,5,FALSE))","v":{"$error":"#N/A"}},{"$f":"IF(A775=\"\",\"\",VLOOKUP(C775,#REF!,5,FALSE))","v":{"$error":"#N/A"}}]
[200441,{"$f":"IF(A776=\"\",\"\",VLOOKUP(A776,[1]ItemConfig!$A:$B,2,FALSE))","v":{"$error":"#N/A"}},{"$f":"IF(A776=\"\",\"\",VLOOKUP(A776,[1]ItemConfig!$A:$D,4,FALSE))","v":{"$error":"#N/A"}},{"$f":"IF(A776=\"\",\"\",VLOOKUP(A776,[1]ItemConfig!$A:$C,3,FALSE))","v":{"$error":"#N/A"}},{"$f":"IF(A776=\"\",\"\",VLOOKUP(B776,#REF!,5,FALSE))","v":{"$error":"#N/A"}},{"$f":"IF(A776=\"\",\"\",VLOOKUP(C776,#REF!,5,FALSE))","v":{"$error":"#N/A"}}]
[200442,{"$f":"IF(A777=\"\",\"\",VLOOKUP(A777,[1]ItemConfig!$A:$B,2,FALSE))","v":{"$error":"#N/A"}},{"$f":"IF(A777=\"\",\"\",VLOOKUP(A777,[1]ItemConfig!$A:$D,4,FALSE))","v":{"$error":"#N/A"}},{"$f":"IF(A777=\"\",\"\",VLOOKUP(A777,[1]ItemConfig!$A:$C,3,FALSE))","v":{"$error":"#N/A"}},{"$f":"IF(A777=\"\",\"\",VLOOKUP(B777,#REF!,5,FALSE))","v":{"$error":"#N/A"}},{"$f":"IF(A777=\"\",\"\",VLOOKUP(C777,#REF!,5,FALSE))","v":{"$error":"#N/A"}}]
[200443,{"$f":"IF(A778=\"\",\"\",VLOOKUP(A778,[1]ItemConfig!$A:$B,2,FALSE))","v":{"$error":"#N/A"}},{"$f":"IF(A778=\"\",\"\",VLOOKUP(A778,[1]ItemConfig!$A:$D,4,FALSE))","v":{"$error":"#N/A"}},{"$f":"IF(A778=\"\",\"\",VLOOKUP(A778,[1]ItemConfig!$A:$C,3,FALSE))","v":{"$error":"#N/A"}},{"$f":"IF(A778=\"\",\"\",VLOOKUP(B778,#REF!,5,FALSE))","v":{"$error":"#N/A"}},{"$f":"IF(A778=\"\",\"\",VLOOKUP(C778,#REF!,5,FALSE))","v":{"$error":"#N/A"}}]
[200444,{"$f":"IF(A779=\"\",\"\",VLOOKUP(A779,[1]ItemConfig!$A:$B,2,FALSE))","v":{"$error":"#N/A"}},{"$f":"IF(A779=\"\",\"\",VLOOKUP(A779,[1]ItemConfig!$A:$D,4,FALSE))","v":{"$error":"#N/A"}},{"$f":"IF(A779=\"\",\"\",VLOOKUP(A779,[1]ItemConfig!$A:$C,3,FALSE))","v":{"$error":"#N/A"}},{"$f":"IF(A779=\"\",\"\",VLOOKUP(B779,#REF!,5,FALSE))","v":{"$error":"#N/A"}},{"$f":"IF(A779=\"\",\"\",VLOOKUP(C779,#REF!,5,FALSE))","v":{"$error":"#N/A"}}]
[200445,{"$f":"IF(A780=\"\",\"\",VLOOKUP(A780,[1]ItemConfig!$A:$B,2,FALSE))","v":{"$error":"#N/A"}},{"$f":"IF(A780=\"\",\"\",VLOOKUP(A780,[1]ItemConfig!$A:$D,4,FALSE))","v":{"$error":"#N/A"}},{"$f":"IF(A780=\"\",\"\",VLOOKUP(A780,[1]ItemConfig!$A:$C,3,FALSE))","v":{"$error":"#N/A"}},{"$f":"IF(A780=\"\",\"\",VLOOKUP(B780,#REF!,5,FALSE))","v":{"$error":"#N/A"}},{"$f":"IF(A780=\"\",\"\",VLOOKUP(C780,#REF!,5,FALSE))","v":{"$error":"#N/A"}}]
[200446,{"$f":"IF(A781=\"\",\"\",VLOOKUP(A781,[1]ItemConfig!$A:$B,2,FALSE))","v":{"$error":"#N/A"}},{"$f":"IF(A781=\"\",\"\",VLOOKUP(A781,[1]ItemConfig!$A:$D,4,FALSE))","v":{"$error":"#N/A"}},{"$f":"IF(A781=\"\",\"\",VLOOKUP(A781,[1]ItemConfig!$A:$C,3,FALSE))","v":{"$error":"#N/A"}},{"$f":"IF(A781=\"\",\"\",VLOOKUP(B781,#REF!,5,FALSE))","v":{"$error":"#N/A"}},{"$f":"IF(A781=\"\",\"\",VLOOKUP(C781,#REF!,5,FALSE))","v":{"$error":"#N/A"}}]
[200447,{"$f":"IF(A782=\"\",\"\",VLOOKUP(A782,[1]ItemConfig!$A:$B,2,FALSE))","v":{"$error":"#N/A"}},{"$f":"IF(A782=\"\",\"\",VLOOKUP(A782,[1]ItemConfig!$A:$D,4,FALSE))","v":{"$error":"#N/A"}},{"$f":"IF(A782=\"\",\"\",VLOOKUP(A782,[1]ItemConfig!$A:$C,3,FALSE))","v":{"$error":"#N/A"}},{"$f":"IF(A782=\"\",\"\",VLOOKUP(B782,#REF!,5,FALSE))","v":{"$error":"#N/A"}},{"$f":"IF(A782=\"\",\"\",VLOOKUP(C782,#REF!,5,FALSE))","v":{"$error":"#N/A"}}]
[200448,{"$f":"IF(A783=\"\",\"\",VLOOKUP(A783,[1]ItemConfig!$A:$B,2,FALSE))","v":{"$error":"#N/A"}},{"$f":"IF(A783=\"\",\"\",VLOOKUP(A783,[1]ItemConfig!$A:$D,4,FALSE))","v":{"$error":"#N/A"}},{"$f":"IF(A783=\"\",\"\",VLOOKUP(A783,[1]ItemConfig!$A:$C,3,FALSE))","v":{"$error":"#N/A"}},{"$f":"IF(A783=\"\",\"\",VLOOKUP(B783,#REF!,5,FALSE))","v":{"$error":"#N/A"}},{"$f":"IF(A783=\"\",\"\",VLOOKUP(C783,#REF!,5,FALSE))","v":{"$error":"#N/A"}}]
[200449,{"$f":"IF(A784=\"\",\"\",VLOOKUP(A784,[1]ItemConfig!$A:$B,2,FALSE))","v":{"$error":"#N/A"}},{"$f":"IF(A784=\"\",\"\",VLOOKUP(A784,[1]ItemConfig!$A:$D,4,FALSE))","v":{"$error":"#N/A"}},{"$f":"IF(A784=\"\",\"\",VLOOKUP(A784,[1]ItemConfig!$A:$C,3,FALSE))","v":{"$error":"#N/A"}},{"$f":"IF(A784=\"\",\"\",VLOOKUP(B784,#REF!,5,FALSE))","v":{"$error":"#N/A"}},{"$f":"IF(A784=\"\",\"\",VLOOKUP(C784,#REF!,5,FALSE))","v":{"$error":"#N/A"}}]
[200450,{"$f":"IF(A785=\"\",\"\",VLOOKUP(A785,[1]ItemConfig!$A:$B,2,FALSE))","v":{"$error":"#N/A"}},{"$f":"IF(A785=\"\",\"\",VLOOKUP(A785,[1]ItemConfig!$A:$D,4,FALSE))","v":{"$error":"#N/A"}},{"$f":"IF(A785=\"\",\"\",VLOOKUP(A785,[1]ItemConfig!$A:$C,3,FALSE))","v":{"$error":"#N/A"}},{"$f":"IF(A785=\"\",\"\",VLOOKUP(B785,#REF!,5,FALSE))","v":{"$error":"#N/A"}},{"$f":"IF(A785=\"\",\"\",VLOOKUP(C785,#REF!,5,FALSE))","v":{"$error":"#N/A"}}]
[200451,{"$f":"IF(A786=\"\",\"\",VLOOKUP(A786,[1]ItemConfig!$A:$B,2,FALSE))","v":{"$error":"#N/A"}},{"$f":"IF(A786=\"\",\"\",VLOOKUP(A786,[1]ItemConfig!$A:$D,4,FALSE))","v":{"$error":"#N/A"}},{"$f":"IF(A786=\"\",\"\",VLOOKUP(A786,[1]ItemConfig!$A:$C,3,FALSE))","v":{"$error":"#N/A"}},{"$f":"IF(A786=\"\",\"\",VLOOKUP(B786,#REF!,5,FALSE))","v":{"$error":"#N/A"}},{"$f":"IF(A786=\"\",\"\",VLOOKUP(C786,#REF!,5,FALSE))","v":{"$error":"#N/A"}}]
[200452,{"$f":"IF(A787=\"\",\"\",VLOOKUP(A787,[1]ItemConfig!$A:$B,2,FALSE))","v":{"$error":"#N/A"}},{"$f":"IF(A787=\"\",\"\",VLOOKUP(A787,[1]ItemConfig!$A:$D,4,FALSE))","v":{"$error":"#N/A"}},{"$f":"IF(A787=\"\",\"\",VLOOKUP(A787,[1]ItemConfig!$A:$C,3,FALSE))","v":{"$error":"#N/A"}},{"$f":"IF(A787=\"\",\"\",VLOOKUP(B787,#REF!,5,FALSE))","v":{"$error":"#N/A"}},{"$f":"IF(A787=\"\",\"\",VLOOKUP(C787,#REF!,5,FALSE))","v":{"$error":"#N/A"}}]
[200453,{"$f":"IF(A788=\"\",\"\",VLOOKUP(A788,[1]ItemConfig!$A:$B,2,FALSE))","v":{"$error":"#N/A"}},{"$f":"IF(A788=\"\",\"\",VLOOKUP(A788,[1]ItemConfig!$A:$D,4,FALSE))","v":{"$error":"#N/A"}},{"$f":"IF(A788=\"\",\"\",VLOOKUP(A788,[1]ItemConfig!$A:$C,3,FALSE))","v":{"$error":"#N/A"}},{"$f":"IF(A788=\"\",\"\",VLOOKUP(B788,#REF!,5,FALSE))","v":{"$error":"#N/A"}},{"$f":"IF(A788=\"\",\"\",VLOOKUP(C788,#REF!,5,FALSE))","v":{"$error":"#N/A"}}]
[200454,{"$f":"IF(A789=\"\",\"\",VLOOKUP(A789,[1]ItemConfig!$A:$B,2,FALSE))","v":{"$error":"#N/A"}},{"$f":"IF(A789=\"\",\"\",VLOOKUP(A789,[1]ItemConfig!$A:$D,4,FALSE))","v":{"$error":"#N/A"}},{"$f":"IF(A789=\"\",\"\",VLOOKUP(A789,[1]ItemConfig!$A:$C,3,FALSE))","v":{"$error":"#N/A"}},{"$f":"IF(A789=\"\",\"\",VLOOKUP(B789,#REF!,5,FALSE))","v":{"$error":"#N/A"}},{"$f":"IF(A789=\"\",\"\",VLOOKUP(C789,#REF!,5,FALSE))","v":{"$error":"#N/A"}}]
[200455,{"$f":"IF(A790=\"\",\"\",VLOOKUP(A790,[1]ItemConfig!$A:$B,2,FALSE))","v":{"$error":"#N/A"}},{"$f":"IF(A790=\"\",\"\",VLOOKUP(A790,[1]ItemConfig!$A:$D,4,FALSE))","v":{"$error":"#N/A"}},{"$f":"IF(A790=\"\",\"\",VLOOKUP(A790,[1]ItemConfig!$A:$C,3,FALSE))","v":{"$error":"#N/A"}},{"$f":"IF(A790=\"\",\"\",VLOOKUP(B790,#REF!,5,FALSE))","v":{"$error":"#N/A"}},{"$f":"IF(A790=\"\",\"\",VLOOKUP(C790,#REF!,5,FALSE))","v":{"$error":"#N/A"}}]
[200456,{"$f":"IF(A791=\"\",\"\",VLOOKUP(A791,[1]ItemConfig!$A:$B,2,FALSE))","v":{"$error":"#N/A"}},{"$f":"IF(A791=\"\",\"\",VLOOKUP(A791,[1]ItemConfig!$A:$D,4,FALSE))","v":{"$error":"#N/A"}},{"$f":"IF(A791=\"\",\"\",VLOOKUP(A791,[1]ItemConfig!$A:$C,3,FALSE))","v":{"$error":"#N/A"}},{"$f":"IF(A791=\"\",\"\",VLOOKUP(B791,#REF!,5,FALSE))","v":{"$error":"#N/A"}},{"$f":"IF(A791=\"\",\"\",VLOOKUP(C791,#REF!,5,FALSE))","v":{"$error":"#N/A"}}]
[200457,{"$f":"IF(A792=\"\",\"\",VLOOKUP(A792,[1]ItemConfig!$A:$B,2,FALSE))","v":{"$error":"#N/A"}},{"$f":"IF(A792=\"\",\"\",VLOOKUP(A792,[1]ItemConfig!$A:$D,4,FALSE))","v":{"$error":"#N/A"}},{"$f":"IF(A792=\"\",\"\",VLOOKUP(A792,[1]ItemConfig!$A:$C,3,FALSE))","v":{"$error":"#N/A"}},{"$f":"IF(A792=\"\",\"\",VLOOKUP(B792,#REF!,5,FALSE))","v":{"$error":"#N/A"}},{"$f":"IF(A792=\"\",\"\",VLOOKUP(C792,#REF!,5,FALSE))","v":{"$error":"#N/A"}}]
[200458,{"$f":"IF(A793=\"\",\"\",VLOOKUP(A793,[1]ItemConfig!$A:$B,2,FALSE))","v":{"$error":"#N/A"}},{"$f":"IF(A793=\"\",\"\",VLOOKUP(A793,[1]ItemConfig!$A:$D,4,FALSE))","v":{"$error":"#N/A"}},{"$f":"IF(A793=\"\",\"\",VLOOKUP(A793,[1]ItemConfig!$A:$C,3,FALSE))","v":{"$error":"#N/A"}},{"$f":"IF(A793=\"\",\"\",VLOOKUP(B793,#REF!,5,FALSE))","v":{"$error":"#N/A"}},{"$f":"IF(A793=\"\",\"\",VLOOKUP(C793,#REF!,5,FALSE))","v":{"$error":"#N/A"}}]
[200459,{"$f":"IF(A794=\"\",\"\",VLOOKUP(A794,[1]ItemConfig!$A:$B,2,FALSE))","v":{"$error":"#N/A"}},{"$f":"IF(A794=\"\",\"\",VLOOKUP(A794,[1]ItemConfig!$A:$D,4,FALSE))","v":{"$error":"#N/A"}},{"$f":"IF(A794=\"\",\"\",VLOOKUP(A794,[1]ItemConfig!$A:$C,3,FALSE))","v":{"$error":"#N/A"}},{"$f":"IF(A794=\"\",\"\",VLOOKUP(B794,#REF!,5,FALSE))","v":{"$error":"#N/A"}},{"$f":"IF(A794=\"\",\"\",VLOOKUP(C794,#REF!,5,FALSE))","v":{"$error":"#N/A"}}]
[200460,{"$f":"IF(A795=\"\",\"\",VLOOKUP(A795,[1]ItemConfig!$A:$B,2,FALSE))","v":{"$error":"#N/A"}},{"$f":"IF(A795=\"\",\"\",VLOOKUP(A795,[1]ItemConfig!$A:$D,4,FALSE))","v":{"$error":"#N/A"}},{"$f":"IF(A795=\"\",\"\",VLOOKUP(A795,[1]ItemConfig!$A:$C,3,FALSE))","v":{"$error":"#N/A"}},{"$f":"IF(A795=\"\",\"\",VLOOKUP(B795,#REF!,5,FALSE))","v":{"$error":"#N/A"}},{"$f":"IF(A795=\"\",\"\",VLOOKUP(C795,#REF!,5,FALSE))","v":{"$error":"#N/A"}}]
[200461,{"$f":"IF(A796=\"\",\"\",VLOOKUP(A796,[1]ItemConfig!$A:$B,2,FALSE))","v":{"$error":"#N/A"}},{"$f":"IF(A796=\"\",\"\",VLOOKUP(A796,[1]ItemConfig!$A:$D,4,FALSE))","v":{"$error":"#N/A"}},{"$f":"IF(A796=\"\",\"\",VLOOKUP(A796,[1]ItemConfig!$A:$C,3,FALSE))","v":{"$error":"#N/A"}},{"$f":"IF(A796=\"\",\"\",VLOOKUP(B796,#REF!,5,FALSE))","v":{"$error":"#N/A"}},{"$f":"IF(A796=\"\",\"\",VLOOKUP(C796,#REF!,5,FALSE))","v":{"$error":"#N/A"}}]
[200462,{"$f":"IF(A797=\"\",\"\",VLOOKUP(A797,[1]ItemConfig!$A:$B,2,FALSE))","v":{"$error":"#N/A"}},{"$f":"IF(A797=\"\",\"\",VLOOKUP(A797,[1]ItemConfig!$A:$D,4,FALSE))","v":{"$error":"#N/A"}},{"$f":"IF(A797=\"\",\"\",VLOOKUP(A797,[1]ItemConfig!$A:$C,3,FALSE))","v":{"$error":"#N/A"}},{"$f":"IF(A797=\"\",\"\",VLOOKUP(B797,#REF!,5,FALSE))","v":{"$error":"#N/A"}},{"$f":"IF(A797=\"\",\"\",VLOOKUP(C797,#REF!,5,FALSE))","v":{"$error":"#N/A"}}]
[null,{"$f":"IF(A798=\"\",\"\",VLOOKUP(A798,[1]ItemConfig!$A:$B,2,FALSE))","v":""},{"$f":"IF(A798=\"\",\"\",VLOOKUP(A798,[1]ItemConfig!$A:$D,4,FALSE))","v":""},{"$f":"IF(A798=\"\",\"\",VLOOKUP(A798,[1]ItemConfig!$A:$C,3,FALSE))","v":""},{"$f":"IF(A798=\"\",\"\",VLOOKUP(B798,#REF!,5,FALSE))","v":""},{"$f":"IF(A798=\"\",\"\",VLOOKUP(C798,#REF!,5,FALSE))","v":""}]
[200463,{"$f":"IF(A799=\"\",\"\",VLOOKUP(A799,[1]ItemConfig!$A:$B,2,FALSE))","v":{"$error":"#N/A"}},{"$f":"IF(A799=\"\",\"\",VLOOKUP(A799,[1]ItemConfig!$A:$D,4,FALSE))","v":{"$error":"#N/A"}},{"$f":"IF(A799=\"\",\"\",VLOOKUP(A799,[1]ItemConfig!$A:$C,3,FALSE))","v":{"$error":"#N/A"}},{"$f":"IF(A799=\"\",\"\",VLOOKUP(B799,#REF!,5,FALSE))","v":{"$error":"#N/A"}},{"$f":"IF(A799=\"\",\"\",VLOOKUP(C799,#REF!,5,FALSE))","v":{"$error":"#N/A"}}]
[200464,{"$f":"IF(A800=\"\",\"\",VLOOKUP(A800,[1]ItemConfig!$A:$B,2,FALSE))","v":{"$error":"#N/A"}},{"$f":"IF(A800=\"\",\"\",VLOOKUP(A800,[1]ItemConfig!$A:$D,4,FALSE))","v":{"$error":"#N/A"}},{"$f":"IF(A800=\"\",\"\",VLOOKUP(A800,[1]ItemConfig!$A:$C,3,FALSE))","v":{"$error":"#N/A"}},{"$f":"IF(A800=\"\",\"\",VLOOKUP(B800,#REF!,5,FALSE))","v":{"$error":"#N/A"}},{"$f":"IF(A800=\"\",\"\",VLOOKUP(C800,#REF!,5,FALSE))","v":{"$error":"#N/A"}}]
[200465,{"$f":"IF(A801=\"\",\"\",VLOOKUP(A801,[1]ItemConfig!$A:$B,2,FALSE))","v":{"$error":"#N/A"}},{"$f":"IF(A801=\"\",\"\",VLOOKUP(A801,[1]ItemConfig!$A:$D,4,FALSE))","v":{"$error":"#N/A"}},{"$f":"IF(A801=\"\",\"\",VLOOKUP(A801,[1]ItemConfig!$A:$C,3,FALSE))","v":{"$error":"#N/A"}},{"$f":"IF(A801=\"\",\"\",VLOOKUP(B801,#REF!,5,FALSE))","v":{"$error":"#N/A"}},{"$f":"IF(A801=\"\",\"\",VLOOKUP(C801,#REF!,5,FALSE))","v":{"$error":"#N/A"}}]
[200466,{"$f":"IF(A802=\"\",\"\",VLOOKUP(A802,[1]ItemConfig!$A:$B,2,FALSE))","v":{"$error":"#N/A"}},{"$f":"IF(A802=\"\",\"\",VLOOKUP(A802,[1]ItemConfig!$A:$D,4,FALSE))","v":{"$error":"#N/A"}},{"$f":"IF(A802=\"\",\"\",VLOOKUP(A802,[1]ItemConfig!$A:$C,3,FALSE))","v":{"$error":"#N/A"}},{"$f":"IF(A802=\"\",\"\",VLOOKUP(B802,#REF!,5,FALSE))","v":{"$error":"#N/A"}},{"$f":"IF(A802=\"\",\"\",VLOOKUP(C802,#REF!,5,FALSE))","v":{"$error":"#N/A"}}]
[200467,{"$f":"IF(A803=\"\",\"\",VLOOKUP(A803,[1]ItemConfig!$A:$B,2,FALSE))","v":{"$error":"#N/A"}},{"$f":"IF(A803=\"\",\"\",VLOOKUP(A803,[1]ItemConfig!$A:$D,4,FALSE))","v":{"$error":"#N/A"}},{"$f":"IF(A803=\"\",\"\",VLOOKUP(A803,[1]ItemConfig!$A:$C,3,FALSE))","v":{"$error":"#N/A"}},{"$f":"IF(A803=\"\",\"\",VLOOKUP(B803,#REF!,5,FALSE))","v":{"$error":"#N/A"}},{"$f":"IF(A803=\"\",\"\",VLOOKUP(C803,#REF!,5,FALSE))","v":{"$error":"#N/A"}}]
[200468,{"$f":"IF(A804=\"\",\"\",VLOOKUP(A804,[1]ItemConfig!$A:$B,2,FALSE))","v":{"$error":"#N/A"}},{"$f":"IF(A804=\"\",\"\",VLOOKUP(A804,[1]ItemConfig!$A:$D,4,FALSE))","v":{"$error":"#N/A"}},{"$f":"IF(A804=\"\",\"\",VLOOKUP(A804,[1]ItemConfig!$A:$C,3,FALSE))","v":{"$error":"#N/A"}},{"$f":"IF(A804=\"\",\"\",VLOOKUP(B804,#REF!,5,FALSE))","v":{"$error":"#N/A"}},{"$f":"IF(A804=\"\",\"\",VLOOKUP(C804,#REF!,5,FALSE))","v":{"$error":"#N/A"}}]
[200469,{"$f":"IF(A805=\"\",\"\",VLOOKUP(A805,[1]ItemConfig!$A:$B,2,FALSE))","v":{"$error":"#N/A"}},{"$f":"IF(A805=\"\",\"\",VLOOKUP(A805,[1]ItemConfig!$A:$D,4,FALSE))","v":{"$error":"#N/A"}},{"$f":"IF(A805=\"\",\"\",VLOOKUP(A805,[1]ItemConfig!$A:$C,3,FALSE))","v":{"$error":"#N/A"}},{"$f":"IF(A805=\"\",\"\",VLOOKUP(B805,#REF!,5,FALSE))","v":{"$error":"#N/A"}},{"$f":"IF(A805=\"\",\"\",VLOOKUP(C805,#REF!,5,FALSE))","v":{"$error":"#N/A"}}]
[200470,{"$f":"IF(A806=\"\",\"\",VLOOKUP(A806,[1]ItemConfig!$A:$B,2,FALSE))","v":{"$error":"#N/A"}},{"$f":"IF(A806=\"\",\"\",VLOOKUP(A806,[1]ItemConfig!$A:$D,4,FALSE))","v":{"$error":"#N/A"}},{"$f":"IF(A806=\"\",\"\",VLOOKUP(A806,[1]ItemConfig!$A:$C,3,FALSE))","v":{"$error":"#N/A"}},{"$f":"IF(A806=\"\",\"\",VLOOKUP(B806,#REF!,5,FALSE))","v":{"$error":"#N/A"}},{"$f":"IF(A806=\"\",\"\",VLOOKUP(C806,#REF!,5,FALSE))","v":{"$error":"#N/A"}}]
[200471,{"$f":"IF(A807=\"\",\"\",VLOOKUP(A807,[1]ItemConfig!$A:$B,2,FALSE))","v":{"$error":"#N/A"}},{"$f":"IF(A807=\"\",\"\",VLOOKUP(A807,[1]ItemConfig!$A:$D,4,FALSE))","v":{"$error":"#N/A"}},{"$f":"IF(A807=\"\",\"\",VLOOKUP(A807,[1]ItemConfig!$A:$C,3,FALSE))","v":{"$error":"#N/A"}},{"$f":"IF(A807=\"\",\"\",VLOOKUP(B807,#REF!,5,FALSE))","v":{"$error":"#N/A"}},{"$f":"IF(A807=\"\",\"\",VLOOKUP(C807,#REF!,5,FALSE))","v":{"$error":"#N/A"}}]
[200472,{"$f":"IF(A808=\"\",\"\",VLOOKUP(A808,[1]ItemConfig!$A:$B,2,FALSE))","v":{"$error":"#N/A"}},{"$f":"IF(A808=\"\",\"\",VLOOKUP(A808,[1]ItemConfig!$A:$D,4,FALSE))","v":{"$error":"#N/A"}},{"$f":"IF(A808=\"\",\"\",VLOOKUP(A808,[1]ItemConfig!$A:$C,3,FALSE))","v":{"$error":"#N/A"}},{"$f":"IF(A808=\"\",\"\",VLOOKUP(B808,#REF!,5,FALSE))","v":{"$error":"#N/A"}},{"$f":"IF(A808=\"\",\"\",VLOOKUP(C808,#REF!,5,FALSE))","v":{"$error":"#N/A"}}]
[200473,{"$f":"IF(A809=\"\",\"\",VLOOKUP(A809,[1]ItemConfig!$A:$B,2,FALSE))","v":{"$error":"#N/A"}},{"$f":"IF(A809=\"\",\"\",VLOOKUP(A809,[1]ItemConfig!$A:$D,4,FALSE))","v":{"$error":"#N/A"}},{"$f":"IF(A809=\"\",\"\",VLOOKUP(A809,[1]ItemConfig!$A:$C,3,FALSE))","v":{"$error":"#N/A"}},{"$f":"IF(A809=\"\",\"\",VLOOKUP(B809,#REF!,5,FALSE))","v":{"$error":"#N/A"}},{"$f":"IF(A809=\"\",\"\",VLOOKUP(C809,#REF!,5,FALSE))","v":{"$error":"#N/A"}}]
[200474,{"$f":"IF(A810=\"\",\"\",VLOOKUP(A810,[1]ItemConfig!$A:$B,2,FALSE))","v":{"$error":"#N/A"}},{"$f":"IF(A810=\"\",\"\",VLOOKUP(A810,[1]ItemConfig!$A:$D,4,FALSE))","v":{"$error":"#N/A"}},{"$f":"IF(A810=\"\",\"\",VLOOKUP(A810,[1]ItemConfig!$A:$C,3,FALSE))","v":{"$error":"#N/A"}},{"$f":"IF(A810=\"\",\"\",VLOOKUP(B810,#REF!,5,FALSE))","v":{"$error":"#N/A"}},{"$f":"IF(A810=\"\",\"\",VLOOKUP(C810,#REF!,5,FALSE))","v":{"$error":"#N/A"}}]
[200475,{"$f":"IF(A811=\"\",\"\",VLOOKUP(A811,[1]ItemConfig!$A:$B,2,FALSE))","v":{"$error":"#N/A"}},{"$f":"IF(A811=\"\",\"\",VLOOKUP(A811,[1]ItemConfig!$A:$D,4,FALSE))","v":{"$error":"#N/A"}},{"$f":"IF(A811=\"\",\"\",VLOOKUP(A811,[1]ItemConfig!$A:$C,3,FALSE))","v":{"$error":"#N/A"}},{"$f":"IF(A811=\"\",\"\",VLOOKUP(B811,#REF!,5,FALSE))","v":{"$error":"#N/A"}},{"$f":"IF(A811=\"\",\"\",VLOOKUP(C811,#REF!,5,FALSE))","v":{"$error":"#N/A"}}]
[200476,{"$f":"IF(A812=\"\",\"\",VLOOKUP(A812,[1]ItemConfig!$A:$B,2,FALSE))","v":{"$error":"#N/A"}},{"$f":"IF(A812=\"\",\"\",VLOOKUP(A812,[1]ItemConfig!$A:$D,4,FALSE))","v":{"$error":"#N/A"}},{"$f":"IF(A812=\"\",\"\",VLOOKUP(A812,[1]ItemConfig!$A:$C,3,FALSE))","v":{"$error":"#N/A"}},{"$f":"IF(A812=\"\",\"\",VLOOKUP(B812,#REF!,5,FALSE))","v":{"$error":"#N/A"}},{"$f":"IF(A812=\"\",\"\",VLOOKUP(C812,#REF!,5,FALSE))","v":{"$error":"#N/A"}}]
[200477,{"$f":"IF(A813=\"\",\"\",VLOOKUP(A813,[1]ItemConfig!$A:$B,2,FALSE))","v":{"$error":"#N/A"}},{"$f":"IF(A813=\"\",\"\",VLOOKUP(A813,[1]ItemConfig!$A:$D,4,FALSE))","v":{"$error":"#N/A"}},{"$f":"IF(A813=\"\",\"\",VLOOKUP(A813,[1]ItemConfig!$A:$C,3,FALSE))","v":{"$error":"#N/A"}},{"$f":"IF(A813=\"\",\"\",VLOOKUP(B813,#REF!,5,FALSE))","v":{"$error":"#N/A"}},{"$f":"IF(A813=\"\",\"\",VLOOKUP(C813,#REF!,5,FALSE))","v":{"$error":"#N/A"}}]
[200478,{"$f":"IF(A814=\"\",\"\",VLOOKUP(A814,[1]ItemConfig!$A:$B,2,FALSE))","v":{"$error":"#N/A"}},{"$f":"IF(A814=\"\",\"\",VLOOKUP(A814,[1]ItemConfig!$A:$D,4,FALSE))","v":{"$error":"#N/A"}},{"$f":"IF(A814=\"\",\"\",VLOOKUP(A814,[1]ItemConfig!$A:$C,3,FALSE))","v":{"$error":"#N/A"}},{"$f":"IF(A814=\"\",\"\",VLOOKUP(B814,#REF!,5,FALSE))","v":{"$error":"#N/A"}},{"$f":"IF(A814=\"\",\"\",VLOOKUP(C814,#REF!,5,FALSE))","v":{"$error":"#N/A"}}]
[200479,{"$f":"IF(A815=\"\",\"\",VLOOKUP(A815,[1]ItemConfig!$A:$B,2,FALSE))","v":{"$error":"#N/A"}},{"$f":"IF(A815=\"\",\"\",VLOOKUP(A815,[1]ItemConfig!$A:$D,4,FALSE))","v":{"$error":"#N/A"}},{"$f":"IF(A815=\"\",\"\",VLOOKUP(A815,[1]ItemConfig!$A:$C,3,FALSE))","v":{"$error":"#N/A"}},{"$f":"IF(A815=\"\",\"\",VLOOKUP(B815,#REF!,5,FALSE))","v":{"$error":"#N/A"}},{"$f":"IF(A815=\"\",\"\",VLOOKUP(C815,#REF!,5,FALSE))","v":{"$error":"#N/A"}}]
[200480,{"$f":"IF(A816=\"\",\"\",VLOOKUP(A816,[1]ItemConfig!$A:$B,2,FALSE))","v":{"$error":"#N/A"}},{"$f":"IF(A816=\"\",\"\",VLOOKUP(A816,[1]ItemConfig!$A:$D,4,FALSE))","v":{"$error":"#N/A"}},{"$f":"IF(A816=\"\",\"\",VLOOKUP(A816,[1]ItemConfig!$A:$C,3,FALSE))","v":{"$error":"#N/A"}},{"$f":"IF(A816=\"\",\"\",VLOOKUP(B816,#REF!,5,FALSE))","v":{"$error":"#N/A"}},{"$f":"IF(A816=\"\",\"\",VLOOKUP(C816,#REF!,5,FALSE))","v":{"$error":"#N/A"}}]
[200481,{"$f":"IF(A817=\"\",\"\",VLOOKUP(A817,[1]ItemConfig!$A:$B,2,FALSE))","v":{"$error":"#N/A"}},{"$f":"IF(A817=\"\",\"\",VLOOKUP(A817,[1]ItemConfig!$A:$D,4,FALSE))","v":{"$error":"#N/A"}},{"$f":"IF(A817=\"\",\"\",VLOOKUP(A817,[1]ItemConfig!$A:$C,3,FALSE))","v":{"$error":"#N/A"}},{"$f":"IF(A817=\"\",\"\",VLOOKUP(B817,#REF!,5,FALSE))","v":{"$error":"#N/A"}},{"$f":"IF(A817=\"\",\"\",VLOOKUP(C817,#REF!,5,FALSE))","v":{"$error":"#N/A"}}]
[200482,{"$f":"IF(A818=\"\",\"\",VLOOKUP(A818,[1]ItemConfig!$A:$B,2,FALSE))","v":{"$error":"#N/A"}},{"$f":"IF(A818=\"\",\"\",VLOOKUP(A818,[1]ItemConfig!$A:$D,4,FALSE))","v":{"$error":"#N/A"}},{"$f":"IF(A818=\"\",\"\",VLOOKUP(A818,[1]ItemConfig!$A:$C,3,FALSE))","v":{"$error":"#N/A"}},{"$f":"IF(A818=\"\",\"\",VLOOKUP(B818,#REF!,5,FALSE))","v":{"$error":"#N/A"}},{"$f":"IF(A818=\"\",\"\",VLOOKUP(C818,#REF!,5,FALSE))","v":{"$error":"#N/A"}}]
[200483,{"$f":"IF(A819=\"\",\"\",VLOOKUP(A819,[1]ItemConfig!$A:$B,2,FALSE))","v":{"$error":"#N/A"}},{"$f":"IF(A819=\"\",\"\",VLOOKUP(A819,[1]ItemConfig!$A:$D,4,FALSE))","v":{"$error":"#N/A"}},{"$f":"IF(A819=\"\",\"\",VLOOKUP(A819,[1]ItemConfig!$A:$C,3,FALSE))","v":{"$error":"#N/A"}},{"$f":"IF(A819=\"\",\"\",VLOOKUP(B819,#REF!,5,FALSE))","v":{"$error":"#N/A"}},{"$f":"IF(A819=\"\",\"\",VLOOKUP(C819,#REF!,5,FALSE))","v":{"$error":"#N/A"}}]
[200484,{"$f":"IF(A820=\"\",\"\",VLOOKUP(A820,[1]ItemConfig!$A:$B,2,FALSE))","v":{"$error":"#N/A"}},{"$f":"IF(A820=\"\",\"\",VLOOKUP(A820,[1]ItemConfig!$A:$D,4,FALSE))","v":{"$error":"#N/A"}},{"$f":"IF(A820=\"\",\"\",VLOOKUP(A820,[1]ItemConfig!$A:$C,3,FALSE))","v":{"$error":"#N/A"}},{"$f":"IF(A820=\"\",\"\",VLOOKUP(B820,#REF!,5,FALSE))","v":{"$error":"#N/A"}},{"$f":"IF(A820=\"\",\"\",VLOOKUP(C820,#REF!,5,FALSE))","v":{"$error":"#N/A"}}]
[200485,{"$f":"IF(A821=\"\",\"\",VLOOKUP(A821,[1]ItemConfig!$A:$B,2,FALSE))","v":{"$error":"#N/A"}},{"$f":"IF(A821=\"\",\"\",VLOOKUP(A821,[1]ItemConfig!$A:$D,4,FALSE))","v":{"$error":"#N/A"}},{"$f":"IF(A821=\"\",\"\",VLOOKUP(A821,[1]ItemConfig!$A:$C,3,FALSE))","v":{"$error":"#N/A"}},{"$f":"IF(A821=\"\",\"\",VLOOKUP(B821,#REF!,5,FALSE))","v":{"$error":"#N/A"}},{"$f":"IF(A821=\"\",\"\",VLOOKUP(C821,#REF!,5,FALSE))","v":{"$error":"#N/A"}}]
[200486,{"$f":"IF(A822=\"\",\"\",VLOOKUP(A822,[1]ItemConfig!$A:$B,2,FALSE))","v":{"$error":"#N/A"}},{"$f":"IF(A822=\"\",\"\",VLOOKUP(A822,[1]ItemConfig!$A:$D,4,FALSE))","v":{"$error":"#N/A"}},{"$f":"IF(A822=\"\",\"\",VLOOKUP(A822,[1]ItemConfig!$A:$C,3,FALSE))","v":{"$error":"#N/A"}},{"$f":"IF(A822=\"\",\"\",VLOOKUP(B822,#REF!,5,FALSE))","v":{"$error":"#N/A"}},{"$f":"IF(A822=\"\",\"\",VLOOKUP(C822,#REF!,5,FALSE))","v":{"$error":"#N/A"}}]
[200487,{"$f":"IF(A823=\"\",\"\",VLOOKUP(A823,[1]ItemConfig!$A:$B,2,FALSE))","v":{"$error":"#N/A"}},{"$f":"IF(A823=\"\",\"\",VLOOKUP(A823,[1]ItemConfig!$A:$D,4,FALSE))","v":{"$error":"#N/A"}},{"$f":"IF(A823=\"\",\"\",VLOOKUP(A823,[1]ItemConfig!$A:$C,3,FALSE))","v":{"$error":"#N/A"}},{"$f":"IF(A823=\"\",\"\",VLOOKUP(B823,#REF!,5,FALSE))","v":{"$error":"#N/A"}},{"$f":"IF(A823=\"\",\"\",VLOOKUP(C823,#REF!,5,FALSE))","v":{"$error":"#N/A"}}]
[200488,{"$f":"IF(A824=\"\",\"\",VLOOKUP(A824,[1]ItemConfig!$A:$B,2,FALSE))","v":{"$error":"#N/A"}},{"$f":"IF(A824=\"\",\"\",VLOOKUP(A824,[1]ItemConfig!$A:$D,4,FALSE))","v":{"$error":"#N/A"}},{"$f":"IF(A824=\"\",\"\",VLOOKUP(A824,[1]ItemConfig!$A:$C,3,FALSE))","v":{"$error":"#N/A"}},{"$f":"IF(A824=\"\",\"\",VLOOKUP(B824,#REF!,5,FALSE))","v":{"$error":"#N/A"}},{"$f":"IF(A824=\"\",\"\",VLOOKUP(C824,#REF!,5,FALSE))","v":{"$error":"#N/A"}}]
[200489,{"$f":"IF(A825=\"\",\"\",VLOOKUP(A825,[1]ItemConfig!$A:$B,2,FALSE))","v":{"$error":"#N/A"}},{"$f":"IF(A825=\"\",\"\",VLOOKUP(A825,[1]ItemConfig!$A:$D,4,FALSE))","v":{"$error":"#N/A"}},{"$f":"IF(A825=\"\",\"\",VLOOKUP(A825,[1]ItemConfig!$A:$C,3,FALSE))","v":{"$error":"#N/A"}},{"$f":"IF(A825=\"\",\"\",VLOOKUP(B825,#REF!,5,FALSE))","v":{"$error":"#N/A"}},{"$f":"IF(A825=\"\",\"\",VLOOKUP(C825,#REF!,5,FALSE))","v":{"$error":"#N/A"}}]
[200490,{"$f":"IF(A826=\"\",\"\",VLOOKUP(A826,[1]ItemConfig!$A:$B,2,FALSE))","v":{"$error":"#N/A"}},{"$f":"IF(A826=\"\",\"\",VLOOKUP(A826,[1]ItemConfig!$A:$D,4,FALSE))","v":{"$error":"#N/A"}},{"$f":"IF(A826=\"\",\"\",VLOOKUP(A826,[1]ItemConfig!$A:$C,3,FALSE))","v":{"$error":"#N/A"}},{"$f":"IF(A826=\"\",\"\",VLOOKUP(B826,#REF!,5,FALSE))","v":{"$error":"#N/A"}},{"$f":"IF(A826=\"\",\"\",VLOOKUP(C826,#REF!,5,FALSE))","v":{"$error":"#N/A"}}]
[null,{"$f":"IF(A827=\"\",\"\",VLOOKUP(A827,[1]ItemConfig!$A:$B,2,FALSE))","v":""},{"$f":"IF(A827=\"\",\"\",VLOOKUP(A827,[1]ItemConfig!$A:$D,4,FALSE))","v":""},{"$f":"IF(A827=\"\",\"\",VLOOKUP(A827,[1]ItemConfig!$A:$C,3,FALSE))","v":""},{"$f":"IF(A827=\"\",\"\",VLOOKUP(B827,#REF!,5,FALSE))","v":""},{"$f":"IF(A827=\"\",\"\",VLOOKUP(C827,#REF!,5,FALSE))","v":""}]
[200491,{"$f":"IF(A828=\"\",\"\",VLOOKUP(A828,[1]ItemConfig!$A:$B,2,FALSE))","v":{"$error":"#N/A"}},{"$f":"IF(A828=\"\",\"\",VLOOKUP(A828,[1]ItemConfig!$A:$D,4,FALSE))","v":{"$error":"#N/A"}},{"$f":"IF(A828=\"\",\"\",VLOOKUP(A828,[1]ItemConfig!$A:$C,3,FALSE))","v":{"$error":"#N/A"}},{"$f":"IF(A828=\"\",\"\",VLOOKUP(B828,#REF!,5,FALSE))","v":{"$error":"#N/A"}},{"$f":"IF(A828=\"\",\"\",VLOOKUP(C828,#REF!,5,FALSE))","v":{"$error":"#N/A"}}]
[200492,{"$f":"IF(A829=\"\",\"\",VLOOKUP(A829,[1]ItemConfig!$A:$B,2,FALSE))","v":{"$error":"#N/A"}},{"$f":"IF(A829=\"\",\"\",VLOOKUP(A829,[1]ItemConfig!$A:$D,4,FALSE))","v":{"$error":"#N/A"}},{"$f":"IF(A829=\"\",\"\",VLOOKUP(A829,[1]ItemConfig!$A:$C,3,FALSE))","v":{"$error":"#N/A"}},{"$f":"IF(A829=\"\",\"\",VLOOKUP(B829,#REF!,5,FALSE))","v":{"$error":"#N/A"}},{"$f":"IF(A829=\"\",\"\",VLOOKUP(C829,#REF!,5,FALSE))","v":{"$error":"#N/A"}}]
[200493,{"$f":"IF(A830=\"\",\"\",VLOOKUP(A830,[1]ItemConfig!$A:$B,2,FALSE))","v":{"$error":"#N/A"}},{"$f":"IF(A830=\"\",\"\",VLOOKUP(A830,[1]ItemConfig!$A:$D,4,FALSE))","v":{"$error":"#N/A"}},{"$f":"IF(A830=\"\",\"\",VLOOKUP(A830,[1]ItemConfig!$A:$C,3,FALSE))","v":{"$error":"#N/A"}},{"$f":"IF(A830=\"\",\"\",VLOOKUP(B830,#REF!,5,FALSE))","v":{"$error":"#N/A"}},{"$f":"IF(A830=\"\",\"\",VLOOKUP(C830,#REF!,5,FALSE))","v":{"$error":"#N/A"}}]
[200494,{"$f":"IF(A831=\"\",\"\",VLOOKUP(A831,[1]ItemConfig!$A:$B,2,FALSE))","v":{"$error":"#N/A"}},{"$f":"IF(A831=\"\",\"\",VLOOKUP(A831,[1]ItemConfig!$A:$D,4,FALSE))","v":{"$error":"#N/A"}},{"$f":"IF(A831=\"\",\"\",VLOOKUP(A831,[1]ItemConfig!$A:$C,3,FALSE))","v":{"$error":"#N/A"}},{"$f":"IF(A831=\"\",\"\",VLOOKUP(B831,#REF!,5,FALSE))","v":{"$error":"#N/A"}},{"$f":"IF(A831=\"\",\"\",VLOOKUP(C831,#REF!,5,FALSE))","v":{"$error":"#N/A"}}]
[200495,{"$f":"IF(A832=\"\",\"\",VLOOKUP(A832,[1]ItemConfig!$A:$B,2,FALSE))","v":{"$error":"#N/A"}},{"$f":"IF(A832=\"\",\"\",VLOOKUP(A832,[1]ItemConfig!$A:$D,4,FALSE))","v":{"$error":"#N/A"}},{"$f":"IF(A832=\"\",\"\",VLOOKUP(A832,[1]ItemConfig!$A:$C,3,FALSE))","v":{"$error":"#N/A"}},{"$f":"IF(A832=\"\",\"\",VLOOKUP(B832,#REF!,5,FALSE))","v":{"$error":"#N/A"}},{"$f":"IF(A832=\"\",\"\",VLOOKUP(C832,#REF!,5,FALSE))","v":{"$error":"#N/A"}}]
[200496,{"$f":"IF(A833=\"\",\"\",VLOOKUP(A833,[1]ItemConfig!$A:$B,2,FALSE))","v":{"$error":"#N/A"}},{"$f":"IF(A833=\"\",\"\",VLOOKUP(A833,[1]ItemConfig!$A:$D,4,FALSE))","v":{"$error":"#N/A"}},{"$f":"IF(A833=\"\",\"\",VLOOKUP(A833,[1]ItemConfig!$A:$C,3,FALSE))","v":{"$error":"#N/A"}},{"$f":"IF(A833=\"\",\"\",VLOOKUP(B833,#REF!,5,FALSE))","v":{"$error":"#N/A"}},{"$f":"IF(A833=\"\",\"\",VLOOKUP(C833,#REF!,5,FALSE))","v":{"$error":"#N/A"}}]
[200497,{"$f":"IF(A834=\"\",\"\",VLOOKUP(A834,[1]ItemConfig!$A:$B,2,FALSE))","v":{"$error":"#N/A"}},{"$f":"IF(A834=\"\",\"\",VLOOKUP(A834,[1]ItemConfig!$A:$D,4,FALSE))","v":{"$error":"#N/A"}},{"$f":"IF(A834=\"\",\"\",VLOOKUP(A834,[1]ItemConfig!$A:$C,3,FALSE))","v":{"$error":"#N/A"}},{"$f":"IF(A834=\"\",\"\",VLOOKUP(B834,#REF!,5,FALSE))","v":{"$error":"#N/A"}},{"$f":"IF(A834=\"\",\"\",VLOOKUP(C834,#REF!,5,FALSE))","v":{"$error":"#N/A"}}]
[200498,{"$f":"IF(A835=\"\",\"\",VLOOKUP(A835,[1]ItemConfig!$A:$B,2,FALSE))","v":{"$error":"#N/A"}},{"$f":"IF(A835=\"\",\"\",VLOOKUP(A835,[1]ItemConfig!$A:$D,4,FALSE))","v":{"$error":"#N/A"}},{"$f":"IF(A835=\"\",\"\",VLOOKUP(A835,[1]ItemConfig!$A:$C,3,FALSE))","v":{"$error":"#N/A"}},{"$f":"IF(A835=\"\",\"\",VLOOKUP(B835,#REF!,5,FALSE))","v":{"$error":"#N/A"}},{"$f":"IF(A835=\"\",\"\",VLOOKUP(C835,#REF!,5,FALSE))","v":{"$error":"#N/A"}}]
[200499,{"$f":"IF(A836=\"\",\"\",VLOOKUP(A836,[1]ItemConfig!$A:$B,2,FALSE))","v":{"$error":"#N/A"}},{"$f":"IF(A836=\"\",\"\",VLOOKUP(A836,[1]ItemConfig!$A:$D,4,FALSE))","v":{"$error":"#N/A"}},{"$f":"IF(A836=\"\",\"\",VLOOKUP(A836,[1]ItemConfig!$A:$C,3,FALSE))","v":{"$error":"#N/A"}},{"$f":"IF(A836=\"\",\"\",VLOOKUP(B836,#REF!,5,FALSE))","v":{"$error":"#N/A"}},{"$f":"IF(A836=\"\",\"\",VLOOKUP(C836,#REF!,5,FALSE))","v":{"$error":"#N/A"}}]
[200500,{"$f":"IF(A837=\"\",\"\",VLOOKUP(A837,[1]ItemConfig!$A:$B,2,FALSE))","v":{"$error":"#N/A"}},{"$f":"IF(A837=\"\",\"\",VLOOKUP(A837,[1]ItemConfig!$A:$D,4,FALSE))","v":{"$error":"#N/A"}},{"$f":"IF(A837=\"\",\"\",VLOOKUP(A837,[1]ItemConfig!$A:$C,3,FALSE))","v":{"$error":"#N/A"}},{"$f":"IF(A837=\"\",\"\",VLOOKUP(B837,#REF!,5,FALSE))","v":{"$error":"#N/A"}},{"$f":"IF(A837=\"\",\"\",VLOOKUP(C837,#REF!,5,FALSE))","v":{"$error":"#N/A"}}]
[200501,{"$f":"IF(A838=\"\",\"\",VLOOKUP(A838,[1]ItemConfig!$A:$B,2,FALSE))","v":{"$error":"#N/A"}},{"$f":"IF(A838=\"\",\"\",VLOOKUP(A838,[1]ItemConfig!$A:$D,4,FALSE))","v":{"$error":"#N/A"}},{"$f":"IF(A838=\"\",\"\",VLOOKUP(A838,[1]ItemConfig!$A:$C,3,FALSE))","v":{"$error":"#N/A"}},{"$f":"IF(A838=\"\",\"\",VLOOKUP(B838,#REF!,5,FALSE))","v":{"$error":"#N/A"}},{"$f":"IF(A838=\"\",\"\",VLOOKUP(C838,#REF!,5,FALSE))","v":{"$error":"#N/A"}}]
[200502,{"$f":"IF(A839=\"\",\"\",VLOOKUP(A839,[1]ItemConfig!$A:$B,2,FALSE))","v":{"$error":"#N/A"}},{"$f":"IF(A839=\"\",\"\",VLOOKUP(A839,[1]ItemConfig!$A:$D,4,FALSE))","v":{"$error":"#N/A"}},{"$f":"IF(A839=\"\",\"\",VLOOKUP(A839,[1]ItemConfig!$A:$C,3,FALSE))","v":{"$error":"#N/A"}},{"$f":"IF(A839=\"\",\"\",VLOOKUP(B839,#REF!,5,FALSE))","v":{"$error":"#N/A"}},{"$f":"IF(A839=\"\",\"\",VLOOKUP(C839,#REF!,5,FALSE))","v":{"$error":"#N/A"}}]
[200503,{"$f":"IF(A840=\"\",\"\",VLOOKUP(A840,[1]ItemConfig!$A:$B,2,FALSE))","v":{"$error":"#N/A"}},{"$f":"IF(A840=\"\",\"\",VLOOKUP(A840,[1]ItemConfig!$A:$D,4,FALSE))","v":{"$error":"#N/A"}},{"$f":"IF(A840=\"\",\"\",VLOOKUP(A840,[1]ItemConfig!$A:$C,3,FALSE))","v":{"$error":"#N/A"}},{"$f":"IF(A840=\"\",\"\",VLOOKUP(B840,#REF!,5,FALSE))","v":{"$error":"#N/A"}},{"$f":"IF(A840=\"\",\"\",VLOOKUP(C840,#REF!,5,FALSE))","v":{"$error":"#N/A"}}]
[200504,{"$f":"IF(A841=\"\",\"\",VLOOKUP(A841,[1]ItemConfig!$A:$B,2,FALSE))","v":{"$error":"#N/A"}},{"$f":"IF(A841=\"\",\"\",VLOOKUP(A841,[1]ItemConfig!$A:$D,4,FALSE))","v":{"$error":"#N/A"}},{"$f":"IF(A841=\"\",\"\",VLOOKUP(A841,[1]ItemConfig!$A:$C,3,FALSE))","v":{"$error":"#N/A"}},{"$f":"IF(A841=\"\",\"\",VLOOKUP(B841,#REF!,5,FALSE))","v":{"$error":"#N/A"}},{"$f":"IF(A841=\"\",\"\",VLOOKUP(C841,#REF!,5,FALSE))","v":{"$error":"#N/A"}}]
[200505,{"$f":"IF(A842=\"\",\"\",VLOOKUP(A842,[1]ItemConfig!$A:$B,2,FALSE))","v":{"$error":"#N/A"}},{"$f":"IF(A842=\"\",\"\",VLOOKUP(A842,[1]ItemConfig!$A:$D,4,FALSE))","v":{"$error":"#N/A"}},{"$f":"IF(A842=\"\",\"\",VLOOKUP(A842,[1]ItemConfig!$A:$C,3,FALSE))","v":{"$error":"#N/A"}},{"$f":"IF(A842=\"\",\"\",VLOOKUP(B842,#REF!,5,FALSE))","v":{"$error":"#N/A"}},{"$f":"IF(A842=\"\",\"\",VLOOKUP(C842,#REF!,5,FALSE))","v":{"$error":"#N/A"}}]
[200506,{"$f":"IF(A843=\"\",\"\",VLOOKUP(A843,[1]ItemConfig!$A:$B,2,FALSE))","v":{"$error":"#N/A"}},{"$f":"IF(A843=\"\",\"\",VLOOKUP(A843,[1]ItemConfig!$A:$D,4,FALSE))","v":{"$error":"#N/A"}},{"$f":"IF(A843=\"\",\"\",VLOOKUP(A843,[1]ItemConfig!$A:$C,3,FALSE))","v":{"$error":"#N/A"}},{"$f":"IF(A843=\"\",\"\",VLOOKUP(B843,#REF!,5,FALSE))","v":{"$error":"#N/A"}},{"$f":"IF(A843=\"\",\"\",VLOOKUP(C843,#REF!,5,FALSE))","v":{"$error":"#N/A"}}]
[200507,{"$f":"IF(A844=\"\",\"\",VLOOKUP(A844,[1]ItemConfig!$A:$B,2,FALSE))","v":{"$error":"#N/A"}},{"$f":"IF(A844=\"\",\"\",VLOOKUP(A844,[1]ItemConfig!$A:$D,4,FALSE))","v":{"$error":"#N/A"}},{"$f":"IF(A844=\"\",\"\",VLOOKUP(A844,[1]ItemConfig!$A:$C,3,FALSE))","v":{"$error":"#N/A"}},{"$f":"IF(A844=\"\",\"\",VLOOKUP(B844,#REF!,5,FALSE))","v":{"$error":"#N/A"}},{"$f":"IF(A844=\"\",\"\",VLOOKUP(C844,#REF!,5,FALSE))","v":{"$error":"#N/A"}}]
[200508,{"$f":"IF(A845=\"\",\"\",VLOOKUP(A845,[1]ItemConfig!$A:$B,2,FALSE))","v":{"$error":"#N/A"}},{"$f":"IF(A845=\"\",\"\",VLOOKUP(A845,[1]ItemConfig!$A:$D,4,FALSE))","v":{"$error":"#N/A"}},{"$f":"IF(A845=\"\",\"\",VLOOKUP(A845,[1]ItemConfig!$A:$C,3,FALSE))","v":{"$error":"#N/A"}},{"$f":"IF(A845=\"\",\"\",VLOOKUP(B845,#REF!,5,FALSE))","v":{"$error":"#N/A"}},{"$f":"IF(A845=\"\",\"\",VLOOKUP(C845,#REF!,5,FALSE))","v":{"$error":"#N/A"}}]
[200509,{"$f":"IF(A846=\"\",\"\",VLOOKUP(A846,[1]ItemConfig!$A:$B,2,FALSE))","v":{"$error":"#N/A"}},{"$f":"IF(A846=\"\",\"\",VLOOKUP(A846,[1]ItemConfig!$A:$D,4,FALSE))","v":{"$error":"#N/A"}},{"$f":"IF(A846=\"\",\"\",VLOOKUP(A846,[1]ItemConfig!$A:$C,3,FALSE))","v":{"$error":"#N/A"}},{"$f":"IF(A846=\"\",\"\",VLOOKUP(B846,#REF!,5,FALSE))","v":{"$error":"#N/A"}},{"$f":"IF(A846=\"\",\"\",VLOOKUP(C846,#REF!,5,FALSE))","v":{"$error":"#N/A"}}]
[200510,{"$f":"IF(A847=\"\",\"\",VLOOKUP(A847,[1]ItemConfig!$A:$B,2,FALSE))","v":{"$error":"#N/A"}},{"$f":"IF(A847=\"\",\"\",VLOOKUP(A847,[1]ItemConfig!$A:$D,4,FALSE))","v":{"$error":"#N/A"}},{"$f":"IF(A847=\"\",\"\",VLOOKUP(A847,[1]ItemConfig!$A:$C,3,FALSE))","v":{"$error":"#N/A"}},{"$f":"IF(A847=\"\",\"\",VLOOKUP(B847,#REF!,5,FALSE))","v":{"$error":"#N/A"}},{"$f":"IF(A847=\"\",\"\",VLOOKUP(C847,#REF!,5,FALSE))","v":{"$error":"#N/A"}}]
[200511,{"$f":"IF(A848=\"\",\"\",VLOOKUP(A848,[1]ItemConfig!$A:$B,2,FALSE))","v":{"$error":"#N/A"}},{"$f":"IF(A848=\"\",\"\",VLOOKUP(A848,[1]ItemConfig!$A:$D,4,FALSE))","v":{"$error":"#N/A"}},{"$f":"IF(A848=\"\",\"\",VLOOKUP(A848,[1]ItemConfig!$A:$C,3,FALSE))","v":{"$error":"#N/A"}},{"$f":"IF(A848=\"\",\"\",VLOOKUP(B848,#REF!,5,FALSE))","v":{"$error":"#N/A"}},{"$f":"IF(A848=\"\",\"\",VLOOKUP(C848,#REF!,5,FALSE))","v":{"$error":"#N/A"}}]
[200512,{"$f":"IF(A849=\"\",\"\",VLOOKUP(A849,[1]ItemConfig!$A:$B,2,FALSE))","v":{"$error":"#N/A"}},{"$f":"IF(A849=\"\",\"\",VLOOKUP(A849,[1]ItemConfig!$A:$D,4,FALSE))","v":{"$error":"#N/A"}},{"$f":"IF(A849=\"\",\"\",VLOOKUP(A849,[1]ItemConfig!$A:$C,3,FALSE))","v":{"$error":"#N/A"}},{"$f":"IF(A849=\"\",\"\",VLOOKUP(B849,#REF!,5,FALSE))","v":{"$error":"#N/A"}},{"$f":"IF(A849=\"\",\"\",VLOOKUP(C849,#REF!,5,FALSE))","v":{"$error":"#N/A"}}]
[200513,{"$f":"IF(A850=\"\",\"\",VLOOKUP(A850,[1]ItemConfig!$A:$B,2,FALSE))","v":{"$error":"#N/A"}},{"$f":"IF(A850=\"\",\"\",VLOOKUP(A850,[1]ItemConfig!$A:$D,4,FALSE))","v":{"$error":"#N/A"}},{"$f":"IF(A850=\"\",\"\",VLOOKUP(A850,[1]ItemConfig!$A:$C,3,FALSE))","v":{"$error":"#N/A"}},{"$f":"IF(A850=\"\",\"\",VLOOKUP(B850,#REF!,5,FALSE))","v":{"$error":"#N/A"}},{"$f":"IF(A850=\"\",\"\",VLOOKUP(C850,#REF!,5,FALSE))","v":{"$error":"#N/A"}}]
[200514,{"$f":"IF(A851=\"\",\"\",VLOOKUP(A851,[1]ItemConfig!$A:$B,2,FALSE))","v":{"$error":"#N/A"}},{"$f":"IF(A851=\"\",\"\",VLOOKUP(A851,[1]ItemConfig!$A:$D,4,FALSE))","v":{"$error":"#N/A"}},{"$f":"IF(A851=\"\",\"\",VLOOKUP(A851,[1]ItemConfig!$A:$C,3,FALSE))","v":{"$error":"#N/A"}},{"$f":"IF(A851=\"\",\"\",VLOOKUP(B851,#REF!,5,FALSE))","v":{"$error":"#N/A"}},{"$f":"IF(A851=\"\",\"\",VLOOKUP(C851,#REF!,5,FALSE))","v":{"$error":"#N/A"}}]
[200515,{"$f":"IF(A852=\"\",\"\",VLOOKUP(A852,[1]ItemConfig!$A:$B,2,FALSE))","v":{"$error":"#N/A"}},{"$f":"IF(A852=\"\",\"\",VLOOKUP(A852,[1]ItemConfig!$A:$D,4,FALSE))","v":{"$error":"#N/A"}},{"$f":"IF(A852=\"\",\"\",VLOOKUP(A852,[1]ItemConfig!$A:$C,3,FALSE))","v":{"$error":"#N/A"}},{"$f":"IF(A852=\"\",\"\",VLOOKUP(B852,#REF!,5,FALSE))","v":{"$error":"#N/A"}},{"$f":"IF(A852=\"\",\"\",VLOOKUP(C852,#REF!,5,FALSE))","v":{"$error":"#N/A"}}]
[200516,{"$f":"IF(A853=\"\",\"\",VLOOKUP(A853,[1]ItemConfig!$A:$B,2,FALSE))","v":{"$error":"#N/A"}},{"$f":"IF(A853=\"\",\"\",VLOOKUP(A853,[1]ItemConfig!$A:$D,4,FALSE))","v":{"$error":"#N/A"}},{"$f":"IF(A853=\"\",\"\",VLOOKUP(A853,[1]ItemConfig!$A:$C,3,FALSE))","v":{"$error":"#N/A"}},{"$f":"IF(A853=\"\",\"\",VLOOKUP(B853,#REF!,5,FALSE))","v":{"$error":"#N/A"}},{"$f":"IF(A853=\"\",\"\",VLOOKUP(C853,#REF!,5,FALSE))","v":{"$error":"#N/A"}}]
[200517,{"$f":"IF(A854=\"\",\"\",VLOOKUP(A854,[1]ItemConfig!$A:$B,2,FALSE))","v":{"$error":"#N/A"}},{"$f":"IF(A854=\"\",\"\",VLOOKUP(A854,[1]ItemConfig!$A:$D,4,FALSE))","v":{"$error":"#N/A"}},{"$f":"IF(A854=\"\",\"\",VLOOKUP(A854,[1]ItemConfig!$A:$C,3,FALSE))","v":{"$error":"#N/A"}},{"$f":"IF(A854=\"\",\"\",VLOOKUP(B854,#REF!,5,FALSE))","v":{"$error":"#N/A"}},{"$f":"IF(A854=\"\",\"\",VLOOKUP(C854,#REF!,5,FALSE))","v":{"$error":"#N/A"}}]
[200518,{"$f":"IF(A855=\"\",\"\",VLOOKUP(A855,[1]ItemConfig!$A:$B,2,FALSE))","v":{"$error":"#N/A"}},{"$f":"IF(A855=\"\",\"\",VLOOKUP(A855,[1]ItemConfig!$A:$D,4,FALSE))","v":{"$error":"#N/A"}},{"$f":"IF(A855=\"\",\"\",VLOOKUP(A855,[1]ItemConfig!$A:$C,3,FALSE))","v":{"$error":"#N/A"}},{"$f":"IF(A855=\"\",\"\",VLOOKUP(B855,#REF!,5,FALSE))","v":{"$error":"#N/A"}},{"$f":"IF(A855=\"\",\"\",VLOOKUP(C855,#REF!,5,FALSE))","v":{"$error":"#N/A"}}]
[null,{"$f":"IF(A856=\"\",\"\",VLOOKUP(A856,[1]ItemConfig!$A:$B,2,FALSE))","v":""},{"$f":"IF(A856=\"\",\"\",VLOOKUP(A856,[1]ItemConfig!$A:$D,4,FALSE))","v":""},{"$f":"IF(A856=\"\",\"\",VLOOKUP(A856,[1]ItemConfig!$A:$C,3,FALSE))","v":""},{"$f":"IF(A856=\"\",\"\",VLOOKUP(B856,#REF!,5,FALSE))","v":""},{"$f":"IF(A856=\"\",\"\",VLOOKUP(C856,#REF!,5,FALSE))","v":""}]
[200519,{"$f":"IF(A857=\"\",\"\",VLOOKUP(A857,[1]ItemConfig!$A:$B,2,FALSE))","v":{"$error":"#N/A"}},{"$f":"IF(A857=\"\",\"\",VLOOKUP(A857,[1]ItemConfig!$A:$D,4,FALSE))","v":{"$error":"#N/A"}},{"$f":"IF(A857=\"\",\"\",VLOOKUP(A857,[1]ItemConfig!$A:$C,3,FALSE))","v":{"$error":"#N/A"}},{"$f":"IF(A857=\"\",\"\",VLOOKUP(B857,#REF!,5,FALSE))","v":{"$error":"#N/A"}},{"$f":"IF(A857=\"\",\"\",VLOOKUP(C857,#REF!,5,FALSE))","v":{"$error":"#N/A"}}]
[200520,{"$f":"IF(A858=\"\",\"\",VLOOKUP(A858,[1]ItemConfig!$A:$B,2,FALSE))","v":{"$error":"#N/A"}},{"$f":"IF(A858=\"\",\"\",VLOOKUP(A858,[1]ItemConfig!$A:$D,4,FALSE))","v":{"$error":"#N/A"}},{"$f":"IF(A858=\"\",\"\",VLOOKUP(A858,[1]ItemConfig!$A:$C,3,FALSE))","v":{"$error":"#N/A"}},{"$f":"IF(A858=\"\",\"\",VLOOKUP(B858,#REF!,5,FALSE))","v":{"$error":"#N/A"}},{"$f":"IF(A858=\"\",\"\",VLOOKUP(C858,#REF!,5,FALSE))","v":{"$error":"#N/A"}}]
[200521,{"$f":"IF(A859=\"\",\"\",VLOOKUP(A859,[1]ItemConfig!$A:$B,2,FALSE))","v":{"$error":"#N/A"}},{"$f":"IF(A859=\"\",\"\",VLOOKUP(A859,[1]ItemConfig!$A:$D,4,FALSE))","v":{"$error":"#N/A"}},{"$f":"IF(A859=\"\",\"\",VLOOKUP(A859,[1]ItemConfig!$A:$C,3,FALSE))","v":{"$error":"#N/A"}},{"$f":"IF(A859=\"\",\"\",VLOOKUP(B859,#REF!,5,FALSE))","v":{"$error":"#N/A"}},{"$f":"IF(A859=\"\",\"\",VLOOKUP(C859,#REF!,5,FALSE))","v":{"$error":"#N/A"}}]
[200522,{"$f":"IF(A860=\"\",\"\",VLOOKUP(A860,[1]ItemConfig!$A:$B,2,FALSE))","v":{"$error":"#N/A"}},{"$f":"IF(A860=\"\",\"\",VLOOKUP(A860,[1]ItemConfig!$A:$D,4,FALSE))","v":{"$error":"#N/A"}},{"$f":"IF(A860=\"\",\"\",VLOOKUP(A860,[1]ItemConfig!$A:$C,3,FALSE))","v":{"$error":"#N/A"}},{"$f":"IF(A860=\"\",\"\",VLOOKUP(B860,#REF!,5,FALSE))","v":{"$error":"#N/A"}},{"$f":"IF(A860=\"\",\"\",VLOOKUP(C860,#REF!,5,FALSE))","v":{"$error":"#N/A"}}]
[200523,{"$f":"IF(A861=\"\",\"\",VLOOKUP(A861,[1]ItemConfig!$A:$B,2,FALSE))","v":{"$error":"#N/A"}},{"$f":"IF(A861=\"\",\"\",VLOOKUP(A861,[1]ItemConfig!$A:$D,4,FALSE))","v":{"$error":"#N/A"}},{"$f":"IF(A861=\"\",\"\",VLOOKUP(A861,[1]ItemConfig!$A:$C,3,FALSE))","v":{"$error":"#N/A"}},{"$f":"IF(A861=\"\",\"\",VLOOKUP(B861,#REF!,5,FALSE))","v":{"$error":"#N/A"}},{"$f":"IF(A861=\"\",\"\",VLOOKUP(C861,#REF!,5,FALSE))","v":{"$error":"#N/A"}}]
[200524,{"$f":"IF(A862=\"\",\"\",VLOOKUP(A862,[1]ItemConfig!$A:$B,2,FALSE))","v":{"$error":"#N/A"}},{"$f":"IF(A862=\"\",\"\",VLOOKUP(A862,[1]ItemConfig!$A:$D,4,FALSE))","v":{"$error":"#N/A"}},{"$f":"IF(A862=\"\",\"\",VLOOKUP(A862,[1]ItemConfig!$A:$C,3,FALSE))","v":{"$error":"#N/A"}},{"$f":"IF(A862=\"\",\"\",VLOOKUP(B862,#REF!,5,FALSE))","v":{"$error":"#N/A"}},{"$f":"IF(A862=\"\",\"\",VLOOKUP(C862,#REF!,5,FALSE))","v":{"$error":"#N/A"}}]
[200525,{"$f":"IF(A863=\"\",\"\",VLOOKUP(A863,[1]ItemConfig!$A:$B,2,FALSE))","v":{"$error":"#N/A"}},{"$f":"IF(A863=\"\",\"\",VLOOKUP(A863,[1]ItemConfig!$A:$D,4,FALSE))","v":{"$error":"#N/A"}},{"$f":"IF(A863=\"\",\"\",VLOOKUP(A863,[1]ItemConfig!$A:$C,3,FALSE))","v":{"$error":"#N/A"}},{"$f":"IF(A863=\"\",\"\",VLOOKUP(B863,#REF!,5,FALSE))","v":{"$error":"#N/A"}},{"$f":"IF(A863=\"\",\"\",VLOOKUP(C863,#REF!,5,FALSE))","v":{"$error":"#N/A"}}]
[200526,{"$f":"IF(A864=\"\",\"\",VLOOKUP(A864,[1]ItemConfig!$A:$B,2,FALSE))","v":{"$error":"#N/A"}},{"$f":"IF(A864=\"\",\"\",VLOOKUP(A864,[1]ItemConfig!$A:$D,4,FALSE))","v":{"$error":"#N/A"}},{"$f":"IF(A864=\"\",\"\",VLOOKUP(A864,[1]ItemConfig!$A:$C,3,FALSE))","v":{"$error":"#N/A"}},{"$f":"IF(A864=\"\",\"\",VLOOKUP(B864,#REF!,5,FALSE))","v":{"$error":"#N/A"}},{"$f":"IF(A864=\"\",\"\",VLOOKUP(C864,#REF!,5,FALSE))","v":{"$error":"#N/A"}}]
[200527,{"$f":"IF(A865=\"\",\"\",VLOOKUP(A865,[1]ItemConfig!$A:$B,2,FALSE))","v":{"$error":"#N/A"}},{"$f":"IF(A865=\"\",\"\",VLOOKUP(A865,[1]ItemConfig!$A:$D,4,FALSE))","v":{"$error":"#N/A"}},{"$f":"IF(A865=\"\",\"\",VLOOKUP(A865,[1]ItemConfig!$A:$C,3,FALSE))","v":{"$error":"#N/A"}},{"$f":"IF(A865=\"\",\"\",VLOOKUP(B865,#REF!,5,FALSE))","v":{"$error":"#N/A"}},{"$f":"IF(A865=\"\",\"\",VLOOKUP(C865,#REF!,5,FALSE))","v":{"$error":"#N/A"}}]
[200528,{"$f":"IF(A866=\"\",\"\",VLOOKUP(A866,[1]ItemConfig!$A:$B,2,FALSE))","v":{"$error":"#N/A"}},{"$f":"IF(A866=\"\",\"\",VLOOKUP(A866,[1]ItemConfig!$A:$D,4,FALSE))","v":{"$error":"#N/A"}},{"$f":"IF(A866=\"\",\"\",VLOOKUP(A866,[1]ItemConfig!$A:$C,3,FALSE))","v":{"$error":"#N/A"}},{"$f":"IF(A866=\"\",\"\",VLOOKUP(B866,#REF!,5,FALSE))","v":{"$error":"#N/A"}},{"$f":"IF(A866=\"\",\"\",VLOOKUP(C866,#REF!,5,FALSE))","v":{"$error":"#N/A"}}]
[200529,{"$f":"IF(A867=\"\",\"\",VLOOKUP(A867,[1]ItemConfig!$A:$B,2,FALSE))","v":{"$error":"#N/A"}},{"$f":"IF(A867=\"\",\"\",VLOOKUP(A867,[1]ItemConfig!$A:$D,4,FALSE))","v":{"$error":"#N/A"}},{"$f":"IF(A867=\"\",\"\",VLOOKUP(A867,[1]ItemConfig!$A:$C,3,FALSE))","v":{"$error":"#N/A"}},{"$f":"IF(A867=\"\",\"\",VLOOKUP(B867,#REF!,5,FALSE))","v":{"$error":"#N/A"}},{"$f":"IF(A867=\"\",\"\",VLOOKUP(C867,#REF!,5,FALSE))","v":{"$error":"#N/A"}}]
[200530,{"$f":"IF(A868=\"\",\"\",VLOOKUP(A868,[1]ItemConfig!$A:$B,2,FALSE))","v":{"$error":"#N/A"}},{"$f":"IF(A868=\"\",\"\",VLOOKUP(A868,[1]ItemConfig!$A:$D,4,FALSE))","v":{"$error":"#N/A"}},{"$f":"IF(A868=\"\",\"\",VLOOKUP(A868,[1]ItemConfig!$A:$C,3,FALSE))","v":{"$error":"#N/A"}},{"$f":"IF(A868=\"\",\"\",VLOOKUP(B868,#REF!,5,FALSE))","v":{"$error":"#N/A"}},{"$f":"IF(A868=\"\",\"\",VLOOKUP(C868,#REF!,5,FALSE))","v":{"$error":"#N/A"}}]
[200531,{"$f":"IF(A869=\"\",\"\",VLOOKUP(A869,[1]ItemConfig!$A:$B,2,FALSE))","v":{"$error":"#N/A"}},{"$f":"IF(A869=\"\",\"\",VLOOKUP(A869,[1]ItemConfig!$A:$D,4,FALSE))","v":{"$error":"#N/A"}},{"$f":"IF(A869=\"\",\"\",VLOOKUP(A869,[1]ItemConfig!$A:$C,3,FALSE))","v":{"$error":"#N/A"}},{"$f":"IF(A869=\"\",\"\",VLOOKUP(B869,#REF!,5,FALSE))","v":{"$error":"#N/A"}},{"$f":"IF(A869=\"\",\"\",VLOOKUP(C869,#REF!,5,FALSE))","v":{"$error":"#N/A"}}]
[200532,{"$f":"IF(A870=\"\",\"\",VLOOKUP(A870,[1]ItemConfig!$A:$B,2,FALSE))","v":{"$error":"#N/A"}},{"$f":"IF(A870=\"\",\"\",VLOOKUP(A870,[1]ItemConfig!$A:$D,4,FALSE))","v":{"$error":"#N/A"}},{"$f":"IF(A870=\"\",\"\",VLOOKUP(A870,[1]ItemConfig!$A:$C,3,FALSE))","v":{"$error":"#N/A"}},{"$f":"IF(A870=\"\",\"\",VLOOKUP(B870,#REF!,5,FALSE))","v":{"$error":"#N/A"}},{"$f":"IF(A870=\"\",\"\",VLOOKUP(C870,#REF!,5,FALSE))","v":{"$error":"#N/A"}}]
[200533,{"$f":"IF(A871=\"\",\"\",VLOOKUP(A871,[1]ItemConfig!$A:$B,2,FALSE))","v":{"$error":"#N/A"}},{"$f":"IF(A871=\"\",\"\",VLOOKUP(A871,[1]ItemConfig!$A:$D,4,FALSE))","v":{"$error":"#N/A"}},{"$f":"IF(A871=\"\",\"\",VLOOKUP(A871,[1]ItemConfig!$A:$C,3,FALSE))","v":{"$error":"#N/A"}},{"$f":"IF(A871=\"\",\"\",VLOOKUP(B871,#REF!,5,FALSE))","v":{"$error":"#N/A"}},{"$f":"IF(A871=\"\",\"\",VLOOKUP(C871,#REF!,5,FALSE))","v":{"$error":"#N/A"}}]
[200534,{"$f":"IF(A872=\"\",\"\",VLOOKUP(A872,[1]ItemConfig!$A:$B,2,FALSE))","v":{"$error":"#N/A"}},{"$f":"IF(A872=\"\",\"\",VLOOKUP(A872,[1]ItemConfig!$A:$D,4,FALSE))","v":{"$error":"#N/A"}},{"$f":"IF(A872=\"\",\"\",VLOOKUP(A872,[1]ItemConfig!$A:$C,3,FALSE))","v":{"$error":"#N/A"}},{"$f":"IF(A872=\"\",\"\",VLOOKUP(B872,#REF!,5,FALSE))","v":{"$error":"#N/A"}},{"$f":"IF(A872=\"\",\"\",VLOOKUP(C872,#REF!,5,FALSE))","v":{"$error":"#N/A"}}]
[200535,{"$f":"IF(A873=\"\",\"\",VLOOKUP(A873,[1]ItemConfig!$A:$B,2,FALSE))","v":{"$error":"#N/A"}},{"$f":"IF(A873=\"\",\"\",VLOOKUP(A873,[1]ItemConfig!$A:$D,4,FALSE))","v":{"$error":"#N/A"}},{"$f":"IF(A873=\"\",\"\",VLOOKUP(A873,[1]ItemConfig!$A:$C,3,FALSE))","v":{"$error":"#N/A"}},{"$f":"IF(A873=\"\",\"\",VLOOKUP(B873,#REF!,5,FALSE))","v":{"$error":"#N/A"}},{"$f":"IF(A873=\"\",\"\",VLOOKUP(C873,#REF!,5,FALSE))","v":{"$error":"#N/A"}}]
[200536,{"$f":"IF(A874=\"\",\"\",VLOOKUP(A874,[1]ItemConfig!$A:$B,2,FALSE))","v":{"$error":"#N/A"}},{"$f":"IF(A874=\"\",\"\",VLOOKUP(A874,[1]ItemConfig!$A:$D,4,FALSE))","v":{"$error":"#N/A"}},{"$f":"IF(A874=\"\",\"\",VLOOKUP(A874,[1]ItemConfig!$A:$C,3,FALSE))","v":{"$error":"#N/A"}},{"$f":"IF(A874=\"\",\"\",VLOOKUP(B874,#REF!,5,FALSE))","v":{"$error":"#N/A"}},{"$f":"IF(A874=\"\",\"\",VLOOKUP(C874,#REF!,5,FALSE))","v":{"$error":"#N/A"}}]
[200537,{"$f":"IF(A875=\"\",\"\",VLOOKUP(A875,[1]ItemConfig!$A:$B,2,FALSE))","v":{"$error":"#N/A"}},{"$f":"IF(A875=\"\",\"\",VLOOKUP(A875,[1]ItemConfig!$A:$D,4,FALSE))","v":{"$error":"#N/A"}},{"$f":"IF(A875=\"\",\"\",VLOOKUP(A875,[1]ItemConfig!$A:$C,3,FALSE))","v":{"$error":"#N/A"}},{"$f":"IF(A875=\"\",\"\",VLOOKUP(B875,#REF!,5,FALSE))","v":{"$error":"#N/A"}},{"$f":"IF(A875=\"\",\"\",VLOOKUP(C875,#REF!,5,FALSE))","v":{"$error":"#N/A"}}]
[200538,{"$f":"IF(A876=\"\",\"\",VLOOKUP(A876,[1]ItemConfig!$A:$B,2,FALSE))","v":{"$error":"#N/A"}},{"$f":"IF(A876=\"\",\"\",VLOOKUP(A876,[1]ItemConfig!$A:$D,4,FALSE))","v":{"$error":"#N/A"}},{"$f":"IF(A876=\"\",\"\",VLOOKUP(A876,[1]ItemConfig!$A:$C,3,FALSE))","v":{"$error":"#N/A"}},{"$f":"IF(A876=\"\",\"\",VLOOKUP(B876,#REF!,5,FALSE))","v":{"$error":"#N/A"}},{"$f":"IF(A876=\"\",\"\",VLOOKUP(C876,#REF!,5,FALSE))","v":{"$error":"#N/A"}}]
[200539,{"$f":"IF(A877=\"\",\"\",VLOOKUP(A877,[1]ItemConfig!$A:$B,2,FALSE))","v":{"$error":"#N/A"}},{"$f":"IF(A877=\"\",\"\",VLOOKUP(A877,[1]ItemConfig!$A:$D,4,FALSE))","v":{"$error":"#N/A"}},{"$f":"IF(A877=\"\",\"\",VLOOKUP(A877,[1]ItemConfig!$A:$C,3,FALSE))","v":{"$error":"#N/A"}},{"$f":"IF(A877=\"\",\"\",VLOOKUP(B877,#REF!,5,FALSE))","v":{"$error":"#N/A"}},{"$f":"IF(A877=\"\",\"\",VLOOKUP(C877,#REF!,5,FALSE))","v":{"$error":"#N/A"}}]
[200540,{"$f":"IF(A878=\"\",\"\",VLOOKUP(A878,[1]ItemConfig!$A:$B,2,FALSE))","v":{"$error":"#N/A"}},{"$f":"IF(A878=\"\",\"\",VLOOKUP(A878,[1]ItemConfig!$A:$D,4,FALSE))","v":{"$error":"#N/A"}},{"$f":"IF(A878=\"\",\"\",VLOOKUP(A878,[1]ItemConfig!$A:$C,3,FALSE))","v":{"$error":"#N/A"}},{"$f":"IF(A878=\"\",\"\",VLOOKUP(B878,#REF!,5,FALSE))","v":{"$error":"#N/A"}},{"$f":"IF(A878=\"\",\"\",VLOOKUP(C878,#REF!,5,FALSE))","v":{"$error":"#N/A"}}]
[200541,{"$f":"IF(A879=\"\",\"\",VLOOKUP(A879,[1]ItemConfig!$A:$B,2,FALSE))","v":{"$error":"#N/A"}},{"$f":"IF(A879=\"\",\"\",VLOOKUP(A879,[1]ItemConfig!$A:$D,4,FALSE))","v":{"$error":"#N/A"}},{"$f":"IF(A879=\"\",\"\",VLOOKUP(A879,[1]ItemConfig!$A:$C,3,FALSE))","v":{"$error":"#N/A"}},{"$f":"IF(A879=\"\",\"\",VLOOKUP(B879,#REF!,5,FALSE))","v":{"$error":"#N/A"}},{"$f":"IF(A879=\"\",\"\",VLOOKUP(C879,#REF!,5,FALSE))","v":{"$error":"#N/A"}}]
[200542,{"$f":"IF(A880=\"\",\"\",VLOOKUP(A880,[1]ItemConfig!$A:$B,2,FALSE))","v":{"$error":"#N/A"}},{"$f":"IF(A880=\"\",\"\",VLOOKUP(A880,[1]ItemConfig!$A:$D,4,FALSE))","v":{"$error":"#N/A"}},{"$f":"IF(A880=\"\",\"\",VLOOKUP(A880,[1]ItemConfig!$A:$C,3,FALSE))","v":{"$error":"#N/A"}},{"$f":"IF(A880=\"\",\"\",VLOOKUP(B880,#REF!,5,FALSE))","v":{"$error":"#N/A"}},{"$f":"IF(A880=\"\",\"\",VLOOKUP(C880,#REF!,5,FALSE))","v":{"$error":"#N/A"}}]
[200543,{"$f":"IF(A881=\"\",\"\",VLOOKUP(A881,[1]ItemConfig!$A:$B,2,FALSE))","v":{"$error":"#N/A"}},{"$f":"IF(A881=\"\",\"\",VLOOKUP(A881,[1]ItemConfig!$A:$D,4,FALSE))","v":{"$error":"#N/A"}},{"$f":"IF(A881=\"\",\"\",VLOOKUP(A881,[1]ItemConfig!$A:$C,3,FALSE))","v":{"$error":"#N/A"}},{"$f":"IF(A881=\"\",\"\",VLOOKUP(B881,#REF!,5,FALSE))","v":{"$error":"#N/A"}},{"$f":"IF(A881=\"\",\"\",VLOOKUP(C881,#REF!,5,FALSE))","v":{"$error":"#N/A"}}]
[200544,{"$f":"IF(A882=\"\",\"\",VLOOKUP(A882,[1]ItemConfig!$A:$B,2,FALSE))","v":{"$error":"#N/A"}},{"$f":"IF(A882=\"\",\"\",VLOOKUP(A882,[1]ItemConfig!$A:$D,4,FALSE))","v":{"$error":"#N/A"}},{"$f":"IF(A882=\"\",\"\",VLOOKUP(A882,[1]ItemConfig!$A:$C,3,FALSE))","v":{"$error":"#N/A"}},{"$f":"IF(A882=\"\",\"\",VLOOKUP(B882,#REF!,5,FALSE))","v":{"$error":"#N/A"}},{"$f":"IF(A882=\"\",\"\",VLOOKUP(C882,#REF!,5,FALSE))","v":{"$error":"#N/A"}}]
[200545,{"$f":"IF(A883=\"\",\"\",VLOOKUP(A883,[1]ItemConfig!$A:$B,2,FALSE))","v":{"$error":"#N/A"}},{"$f":"IF(A883=\"\",\"\",VLOOKUP(A883,[1]ItemConfig!$A:$D,4,FALSE))","v":{"$error":"#N/A"}},{"$f":"IF(A883=\"\",\"\",VLOOKUP(A883,[1]ItemConfig!$A:$C,3,FALSE))","v":{"$error":"#N/A"}},{"$f":"IF(A883=\"\",\"\",VLOOKUP(B883,#REF!,5,FALSE))","v":{"$error":"#N/A"}},{"$f":"IF(A883=\"\",\"\",VLOOKUP(C883,#REF!,5,FALSE))","v":{"$error":"#N/A"}}]
[200546,{"$f":"IF(A884=\"\",\"\",VLOOKUP(A884,[1]ItemConfig!$A:$B,2,FALSE))","v":{"$error":"#N/A"}},{"$f":"IF(A884=\"\",\"\",VLOOKUP(A884,[1]ItemConfig!$A:$D,4,FALSE))","v":{"$error":"#N/A"}},{"$f":"IF(A884=\"\",\"\",VLOOKUP(A884,[1]ItemConfig!$A:$C,3,FALSE))","v":{"$error":"#N/A"}},{"$f":"IF(A884=\"\",\"\",VLOOKUP(B884,#REF!,5,FALSE))","v":{"$error":"#N/A"}},{"$f":"IF(A884=\"\",\"\",VLOOKUP(C884,#REF!,5,FALSE))","v":{"$error":"#N/A"}}]
[null,{"$f":"IF(A885=\"\",\"\",VLOOKUP(A885,[1]ItemConfig!$A:$B,2,FALSE))","v":""},{"$f":"IF(A885=\"\",\"\",VLOOKUP(A885,[1]ItemConfig!$A:$D,4,FALSE))","v":""},{"$f":"IF(A885=\"\",\"\",VLOOKUP(A885,[1]ItemConfig!$A:$C,3,FALSE))","v":""},{"$f":"IF(A885=\"\",\"\",VLOOKUP(B885,#REF!,5,FALSE))","v":""},{"$f":"IF(A885=\"\",\"\",VLOOKUP(C885,#REF!,5,FALSE))","v":""}]
[300001,{"$f":"IF(A886=\"\",\"\",VLOOKUP(A886,[1]ItemConfig!$A:$B,2,FALSE))","v":{"$error":"#N/A"}},{"$f":"IF(A886=\"\",\"\",VLOOKUP(A886,[1]ItemConfig!$A:$D,4,FALSE))","v":{"$error":"#N/A"}},{"$f":"IF(A886=\"\",\"\",VLOOKUP(A886,[1]ItemConfig!$A:$C,3,FALSE))","v":{"$error":"#N/A"}},{"$f":"IF(A886=\"\",\"\",VLOOKUP(B886,#REF!,5,FALSE))","v":{"$error":"#N/A"}},{"$f":"IF(A886=\"\",\"\",VLOOKUP(C886,#REF!,5,FALSE))","v":{"$error":"#N/A"}}]
[300002,{"$f":"IF(A887=\"\",\"\",VLOOKUP(A887,[1]ItemConfig!$A:$B,2,FALSE))","v":{"$error":"#N/A"}},{"$f":"IF(A887=\"\",\"\",VLOOKUP(A887,[1]ItemConfig!$A:$D,4,FALSE))","v":{"$error":"#N/A"}},{"$f":"IF(A887=\"\",\"\",VLOOKUP(A887,[1]ItemConfig!$A:$C,3,FALSE))","v":{"$error":"#N/A"}},{"$f":"IF(A887=\"\",\"\",VLOOKUP(B887,#REF!,5,FALSE))","v":{"$error":"#N/A"}},{"$f":"IF(A887=\"\",\"\",VLOOKUP(C887,#REF!,5,FALSE))","v":{"$error":"#N/A"}}]
[300003,{"$f":"IF(A888=\"\",\"\",VLOOKUP(A888,[1]ItemConfig!$A:$B,2,FALSE))","v":{"$error":"#N/A"}},{"$f":"IF(A888=\"\",\"\",VLOOKUP(A888,[1]ItemConfig!$A:$D,4,FALSE))","v":{"$error":"#N/A"}},{"$f":"IF(A888=\"\",\"\",VLOOKUP(A888,[1]ItemConfig!$A:$C,3,FALSE))","v":{"$error":"#N/A"}},{"$f":"IF(A888=\"\",\"\",VLOOKUP(B888,#REF!,5,FALSE))","v":{"$error":"#N/A"}},{"$f":"IF(A888=\"\",\"\",VLOOKUP(C888,#REF!,5,FALSE))","v":{"$error":"#N/A"}}]
[300004,{"$f":"IF(A889=\"\",\"\",VLOOKUP(A889,[1]ItemConfig!$A:$B,2,FALSE))","v":{"$error":"#N/A"}},{"$f":"IF(A889=\"\",\"\",VLOOKUP(A889,[1]ItemConfig!$A:$D,4,FALSE))","v":{"$error":"#N/A"}},{"$f":"IF(A889=\"\",\"\",VLOOKUP(A889,[1]ItemConfig!$A:$C,3,FALSE))","v":{"$error":"#N/A"}},{"$f":"IF(A889=\"\",\"\",VLOOKUP(B889,#REF!,5,FALSE))","v":{"$error":"#N/A"}},{"$f":"IF(A889=\"\",\"\",VLOOKUP(C889,#REF!,5,FALSE))","v":{"$error":"#N/A"}}]
[300005,{"$f":"IF(A890=\"\",\"\",VLOOKUP(A890,[1]ItemConfig!$A:$B,2,FALSE))","v":{"$error":"#N/A"}},{"$f":"IF(A890=\"\",\"\",VLOOKUP(A890,[1]ItemConfig!$A:$D,4,FALSE))","v":{"$error":"#N/A"}},{"$f":"IF(A890=\"\",\"\",VLOOKUP(A890,[1]ItemConfig!$A:$C,3,FALSE))","v":{"$error":"#N/A"}},{"$f":"IF(A890=\"\",\"\",VLOOKUP(B890,#REF!,5,FALSE))","v":{"$error":"#N/A"}},{"$f":"IF(A890=\"\",\"\",VLOOKUP(C890,#REF!,5,FALSE))","v":{"$error":"#N/A"}}]
[300006,{"$f":"IF(A891=\"\",\"\",VLOOKUP(A891,[1]ItemConfig!$A:$B,2,FALSE))","v":{"$error":"#N/A"}},{"$f":"IF(A891=\"\",\"\",VLOOKUP(A891,[1]ItemConfig!$A:$D,4,FALSE))","v":{"$error":"#N/A"}},{"$f":"IF(A891=\"\",\"\",VLOOKUP(A891,[1]ItemConfig!$A:$C,3,FALSE))","v":{"$error":"#N/A"}},{"$f":"IF(A891=\"\",\"\",VLOOKUP(B891,#REF!,5,FALSE))","v":{"$error":"#N/A"}},{"$f":"IF(A891=\"\",\"\",VLOOKUP(C891,#REF!,5,FALSE))","v":{"$error":"#N/A"}}]
[300007,{"$f":"IF(A892=\"\",\"\",VLOOKUP(A892,[1]ItemConfig!$A:$B,2,FALSE))","v":{"$error":"#N/A"}},{"$f":"IF(A892=\"\",\"\",VLOOKUP(A892,[1]ItemConfig!$A:$D,4,FALSE))","v":{"$error":"#N/A"}},{"$f":"IF(A892=\"\",\"\",VLOOKUP(A892,[1]ItemConfig!$A:$C,3,FALSE))","v":{"$error":"#N/A"}},{"$f":"IF(A892=\"\",\"\",VLOOKUP(B892,#REF!,5,FALSE))","v":{"$error":"#N/A"}},{"$f":"IF(A892=\"\",\"\",VLOOKUP(C892,#REF!,5,FALSE))","v":{"$error":"#N/A"}}]
[300008,{"$f":"IF(A893=\"\",\"\",VLOOKUP(A893,[1]ItemConfig!$A:$B,2,FALSE))","v":{"$error":"#N/A"}},{"$f":"IF(A893=\"\",\"\",VLOOKUP(A893,[1]ItemConfig!$A:$D,4,FALSE))","v":{"$error":"#N/A"}},{"$f":"IF(A893=\"\",\"\",VLOOKUP(A893,[1]ItemConfig!$A:$C,3,FALSE))","v":{"$error":"#N/A"}},{"$f":"IF(A893=\"\",\"\",VLOOKUP(B893,#REF!,5,FALSE))","v":{"$error":"#N/A"}},{"$f":"IF(A893=\"\",\"\",VLOOKUP(C893,#REF!,5,FALSE))","v":{"$error":"#N/A"}}]
[300009,{"$f":"IF(A894=\"\",\"\",VLOOKUP(A894,[1]ItemConfig!$A:$B,2,FALSE))","v":{"$error":"#N/A"}},{"$f":"IF(A894=\"\",\"\",VLOOKUP(A894,[1]ItemConfig!$A:$D,4,FALSE))","v":{"$error":"#N/A"}},{"$f":"IF(A894=\"\",\"\",VLOOKUP(A894,[1]ItemConfig!$A:$C,3,FALSE))","v":{"$error":"#N/A"}},{"$f":"IF(A894=\"\",\"\",VLOOKUP(B894,#REF!,5,FALSE))","v":{"$error":"#N/A"}},{"$f":"IF(A894=\"\",\"\",VLOOKUP(C894,#REF!,5,FALSE))","v":{"$error":"#N/A"}}]
[300010,{"$f":"IF(A895=\"\",\"\",VLOOKUP(A895,[1]ItemConfig!$A:$B,2,FALSE))","v":{"$error":"#N/A"}},{"$f":"IF(A895=\"\",\"\",VLOOKUP(A895,[1]ItemConfig!$A:$D,4,FALSE))","v":{"$error":"#N/A"}},{"$f":"IF(A895=\"\",\"\",VLOOKUP(A895,[1]ItemConfig!$A:$C,3,FALSE))","v":{"$error":"#N/A"}},{"$f":"IF(A895=\"\",\"\",VLOOKUP(B895,#REF!,5,FALSE))","v":{"$error":"#N/A"}},{"$f":"IF(A895=\"\",\"\",VLOOKUP(C895,#REF!,5,FALSE))","v":{"$error":"#N/A"}}]
[300011,{"$f":"IF(A896=\"\",\"\",VLOOKUP(A896,[1]ItemConfig!$A:$B,2,FALSE))","v":{"$error":"#N/A"}},{"$f":"IF(A896=\"\",\"\",VLOOKUP(A896,[1]ItemConfig!$A:$D,4,FALSE))","v":{"$error":"#N/A"}},{"$f":"IF(A896=\"\",\"\",VLOOKUP(A896,[1]ItemConfig!$A:$C,3,FALSE))","v":{"$error":"#N/A"}},{"$f":"IF(A896=\"\",\"\",VLOOKUP(B896,#REF!,5,FALSE))","v":{"$error":"#N/A"}},{"$f":"IF(A896=\"\",\"\",VLOOKUP(C896,#REF!,5,FALSE))","v":{"$error":"#N/A"}}]
[300012,{"$f":"IF(A897=\"\",\"\",VLOOKUP(A897,[1]ItemConfig!$A:$B,2,FALSE))","v":{"$error":"#N/A"}},{"$f":"IF(A897=\"\",\"\",VLOOKUP(A897,[1]ItemConfig!$A:$D,4,FALSE))","v":{"$error":"#N/A"}},{"$f":"IF(A897=\"\",\"\",VLOOKUP(A897,[1]ItemConfig!$A:$C,3,FALSE))","v":{"$error":"#N/A"}},{"$f":"IF(A897=\"\",\"\",VLOOKUP(B897,#REF!,5,FALSE))","v":{"$error":"#N/A"}},{"$f":"IF(A897=\"\",\"\",VLOOKUP(C897,#REF!,5,FALSE))","v":{"$error":"#N/A"}}]
[300013,{"$f":"IF(A898=\"\",\"\",VLOOKUP(A898,[1]ItemConfig!$A:$B,2,FALSE))","v":{"$error":"#N/A"}},{"$f":"IF(A898=\"\",\"\",VLOOKUP(A898,[1]ItemConfig!$A:$D,4,FALSE))","v":{"$error":"#N/A"}},{"$f":"IF(A898=\"\",\"\",VLOOKUP(A898,[1]ItemConfig!$A:$C,3,FALSE))","v":{"$error":"#N/A"}},{"$f":"IF(A898=\"\",\"\",VLOOKUP(B898,#REF!,5,FALSE))","v":{"$error":"#N/A"}},{"$f":"IF(A898=\"\",\"\",VLOOKUP(C898,#REF!,5,FALSE))","v":{"$error":"#N/A"}}]
[300014,{"$f":"IF(A899=\"\",\"\",VLOOKUP(A899,[1]ItemConfig!$A:$B,2,FALSE))","v":{"$error":"#N/A"}},{"$f":"IF(A899=\"\",\"\",VLOOKUP(A899,[1]ItemConfig!$A:$D,4,FALSE))","v":{"$error":"#N/A"}},{"$f":"IF(A899=\"\",\"\",VLOOKUP(A899,[1]ItemConfig!$A:$C,3,FALSE))","v":{"$error":"#N/A"}},{"$f":"IF(A899=\"\",\"\",VLOOKUP(B899,#REF!,5,FALSE))","v":{"$error":"#N/A"}},{"$f":"IF(A899=\"\",\"\",VLOOKUP(C899,#REF!,5,FALSE))","v":{"$error":"#N/A"}}]
[300015,{"$f":"IF(A900=\"\",\"\",VLOOKUP(A900,[1]ItemConfig!$A:$B,2,FALSE))","v":{"$error":"#N/A"}},{"$f":"IF(A900=\"\",\"\",VLOOKUP(A900,[1]ItemConfig!$A:$D,4,FALSE))","v":{"$error":"#N/A"}},{"$f":"IF(A900=\"\",\"\",VLOOKUP(A900,[1]ItemConfig!$A:$C,3,FALSE))","v":{"$error":"#N/A"}},{"$f":"IF(A900=\"\",\"\",VLOOKUP(B900,#REF!,5,FALSE))","v":{"$error":"#N/A"}},{"$f":"IF(A900=\"\",\"\",VLOOKUP(C900,#REF!,5,FALSE))","v":{"$error":"#N/A"}}]
[300016,{"$f":"IF(A901=\"\",\"\",VLOOKUP(A901,[1]ItemConfig!$A:$B,2,FALSE))","v":{"$error":"#N/A"}},{"$f":"IF(A901=\"\",\"\",VLOOKUP(A901,[1]ItemConfig!$A:$D,4,FALSE))","v":{"$error":"#N/A"}},{"$f":"IF(A901=\"\",\"\",VLOOKUP(A901,[1]ItemConfig!$A:$C,3,FALSE))","v":{"$error":"#N/A"}},{"$f":"IF(A901=\"\",\"\",VLOOKUP(B901,#REF!,5,FALSE))","v":{"$error":"#N/A"}},{"$f":"IF(A901=\"\",\"\",VLOOKUP(C901,#REF!,5,FALSE))","v":{"$error":"#N/A"}}]
[300017,{"$f":"IF(A902=\"\",\"\",VLOOKUP(A902,[1]ItemConfig!$A:$B,2,FALSE))","v":{"$error":"#N/A"}},{"$f":"IF(A902=\"\",\"\",VLOOKUP(A902,[1]ItemConfig!$A:$D,4,FALSE))","v":{"$error":"#N/A"}},{"$f":"IF(A902=\"\",\"\",VLOOKUP(A902,[1]ItemConfig!$A:$C,3,FALSE))","v":{"$error":"#N/A"}},{"$f":"IF(A902=\"\",\"\",VLOOKUP(B902,#REF!,5,FALSE))","v":{"$error":"#N/A"}},{"$f":"IF(A902=\"\",\"\",VLOOKUP(C902,#REF!,5,FALSE))","v":{"$error":"#N/A"}}]
[300018,{"$f":"IF(A903=\"\",\"\",VLOOKUP(A903,[1]ItemConfig!$A:$B,2,FALSE))","v":{"$error":"#N/A"}},{"$f":"IF(A903=\"\",\"\",VLOOKUP(A903,[1]ItemConfig!$A:$D,4,FALSE))","v":{"$error":"#N/A"}},{"$f":"IF(A903=\"\",\"\",VLOOKUP(A903,[1]ItemConfig!$A:$C,3,FALSE))","v":{"$error":"#N/A"}},{"$f":"IF(A903=\"\",\"\",VLOOKUP(B903,#REF!,5,FALSE))","v":{"$error":"#N/A"}},{"$f":"IF(A903=\"\",\"\",VLOOKUP(C903,#REF!,5,FALSE))","v":{"$error":"#N/A"}}]
[300019,{"$f":"IF(A904=\"\",\"\",VLOOKUP(A904,[1]ItemConfig!$A:$B,2,FALSE))","v":{"$error":"#N/A"}},{"$f":"IF(A904=\"\",\"\",VLOOKUP(A904,[1]ItemConfig!$A:$D,4,FALSE))","v":{"$error":"#N/A"}},{"$f":"IF(A904=\"\",\"\",VLOOKUP(A904,[1]ItemConfig!$A:$C,3,FALSE))","v":{"$error":"#N/A"}},{"$f":"IF(A904=\"\",\"\",VLOOKUP(B904,#REF!,5,FALSE))","v":{"$error":"#N/A"}},{"$f":"IF(A904=\"\",\"\",VLOOKUP(C904,#REF!,5,FALSE))","v":{"$error":"#N/A"}}]
[300020,{"$f":"IF(A905=\"\",\"\",VLOOKUP(A905,[1]ItemConfig!$A:$B,2,FALSE))","v":{"$error":"#N/A"}},{"$f":"IF(A905=\"\",\"\",VLOOKUP(A905,[1]ItemConfig!$A:$D,4,FALSE))","v":{"$error":"#N/A"}},{"$f":"IF(A905=\"\",\"\",VLOOKUP(A905,[1]ItemConfig!$A:$C,3,FALSE))","v":{"$error":"#N/A"}},{"$f":"IF(A905=\"\",\"\",VLOOKUP(B905,#REF!,5,FALSE))","v":{"$error":"#N/A"}},{"$f":"IF(A905=\"\",\"\",VLOOKUP(C905,#REF!,5,FALSE))","v":{"$error":"#N/A"}}]
[300021,{"$f":"IF(A906=\"\",\"\",VLOOKUP(A906,[1]ItemConfig!$A:$B,2,FALSE))","v":{"$error":"#N/A"}},{"$f":"IF(A906=\"\",\"\",VLOOKUP(A906,[1]ItemConfig!$A:$D,4,FALSE))","v":{"$error":"#N/A"}},{"$f":"IF(A906=\"\",\"\",VLOOKUP(A906,[1]ItemConfig!$A:$C,3,FALSE))","v":{"$error":"#N/A"}},{"$f":"IF(A906=\"\",\"\",VLOOKUP(B906,#REF!,5,FALSE))","v":{"$error":"#N/A"}},{"$f":"IF(A906=\"\",\"\",VLOOKUP(C906,#REF!,5,FALSE))","v":{"$error":"#N/A"}}]
[300022,{"$f":"IF(A907=\"\",\"\",VLOOKUP(A907,[1]ItemConfig!$A:$B,2,FALSE))","v":{"$error":"#N/A"}},{"$f":"IF(A907=\"\",\"\",VLOOKUP(A907,[1]ItemConfig!$A:$D,4,FALSE))","v":{"$error":"#N/A"}},{"$f":"IF(A907=\"\",\"\",VLOOKUP(A907,[1]ItemConfig!$A:$C,3,FALSE))","v":{"$error":"#N/A"}},{"$f":"IF(A907=\"\",\"\",VLOOKUP(B907,#REF!,5,FALSE))","v":{"$error":"#N/A"}},{"$f":"IF(A907=\"\",\"\",VLOOKUP(C907,#REF!,5,FALSE))","v":{"$error":"#N/A"}}]
[300023,{"$f":"IF(A908=\"\",\"\",VLOOKUP(A908,[1]ItemConfig!$A:$B,2,FALSE))","v":{"$error":"#N/A"}},{"$f":"IF(A908=\"\",\"\",VLOOKUP(A908,[1]ItemConfig!$A:$D,4,FALSE))","v":{"$error":"#N/A"}},{"$f":"IF(A908=\"\",\"\",VLOOKUP(A908,[1]ItemConfig!$A:$C,3,FALSE))","v":{"$error":"#N/A"}},{"$f":"IF(A908=\"\",\"\",VLOOKUP(B908,#REF!,5,FALSE))","v":{"$error":"#N/A"}},{"$f":"IF(A908=\"\",\"\",VLOOKUP(C908,#REF!,5,FALSE))","v":{"$error":"#N/A"}}]
[300024,{"$f":"IF(A909=\"\",\"\",VLOOKUP(A909,[1]ItemConfig!$A:$B,2,FALSE))","v":{"$error":"#N/A"}},{"$f":"IF(A909=\"\",\"\",VLOOKUP(A909,[1]ItemConfig!$A:$D,4,FALSE))","v":{"$error":"#N/A"}},{"$f":"IF(A909=\"\",\"\",VLOOKUP(A909,[1]ItemConfig!$A:$C,3,FALSE))","v":{"$error":"#N/A"}},{"$f":"IF(A909=\"\",\"\",VLOOKUP(B909,#REF!,5,FALSE))","v":{"$error":"#N/A"}},{"$f":"IF(A909=\"\",\"\",VLOOKUP(C909,#REF!,5,FALSE))","v":{"$error":"#N/A"}}]
[300025,{"$f":"IF(A910=\"\",\"\",VLOOKUP(A910,[1]ItemConfig!$A:$B,2,FALSE))","v":{"$error":"#N/A"}},{"$f":"IF(A910=\"\",\"\",VLOOKUP(A910,[1]ItemConfig!$A:$D,4,FALSE))","v":{"$error":"#N/A"}},{"$f":"IF(A910=\"\",\"\",VLOOKUP(A910,[1]ItemConfig!$A:$C,3,FALSE))","v":{"$error":"#N/A"}},{"$f":"IF(A910=\"\",\"\",VLOOKUP(B910,#REF!,5,FALSE))","v":{"$error":"#N/A"}},{"$f":"IF(A910=\"\",\"\",VLOOKUP(C910,#REF!,5,FALSE))","v":{"$error":"#N/A"}}]
[300026,{"$f":"IF(A911=\"\",\"\",VLOOKUP(A911,[1]ItemConfig!$A:$B,2,FALSE))","v":{"$error":"#N/A"}},{"$f":"IF(A911=\"\",\"\",VLOOKUP(A911,[1]ItemConfig!$A:$D,4,FALSE))","v":{"$error":"#N/A"}},{"$f":"IF(A911=\"\",\"\",VLOOKUP(A911,[1]ItemConfig!$A:$C,3,FALSE))","v":{"$error":"#N/A"}},{"$f":"IF(A911=\"\",\"\",VLOOKUP(B911,#REF!,5,FALSE))","v":{"$error":"#N/A"}},{"$f":"IF(A911=\"\",\"\",VLOOKUP(C911,#REF!,5,FALSE))","v":{"$error":"#N/A"}}]
[300027,{"$f":"IF(A912=\"\",\"\",VLOOKUP(A912,[1]ItemConfig!$A:$B,2,FALSE))","v":{"$error":"#N/A"}},{"$f":"IF(A912=\"\",\"\",VLOOKUP(A912,[1]ItemConfig!$A:$D,4,FALSE))","v":{"$error":"#N/A"}},{"$f":"IF(A912=\"\",\"\",VLOOKUP(A912,[1]ItemConfig!$A:$C,3,FALSE))","v":{"$error":"#N/A"}},{"$f":"IF(A912=\"\",\"\",VLOOKUP(B912,#REF!,5,FALSE))","v":{"$error":"#N/A"}},{"$f":"IF(A912=\"\",\"\",VLOOKUP(C912,#REF!,5,FALSE))","v":{"$error":"#N/A"}}]
[300028,{"$f":"IF(A913=\"\",\"\",VLOOKUP(A913,[1]ItemConfig!$A:$B,2,FALSE))","v":{"$error":"#N/A"}},{"$f":"IF(A913=\"\",\"\",VLOOKUP(A913,[1]ItemConfig!$A:$D,4,FALSE))","v":{"$error":"#N/A"}},{"$f":"IF(A913=\"\",\"\",VLOOKUP(A913,[1]ItemConfig!$A:$C,3,FALSE))","v":{"$error":"#N/A"}},{"$f":"IF(A913=\"\",\"\",VLOOKUP(B913,#REF!,5,FALSE))","v":{"$error":"#N/A"}},{"$f":"IF(A913=\"\",\"\",VLOOKUP(C913,#REF!,5,FALSE))","v":{"$error":"#N/A"}}]
[300029,{"$f":"IF(A914=\"\",\"\",VLOOKUP(A914,[1]ItemConfig!$A:$B,2,FALSE))","v":{"$error":"#N/A"}},{"$f":"IF(A914=\"\",\"\",VLOOKUP(A914,[1]ItemConfig!$A:$D,4,FALSE))","v":{"$error":"#N/A"}},{"$f":"IF(A914=\"\",\"\",VLOOKUP(A914,[1]ItemConfig!$A:$C,3,FALSE))","v":{"$error":"#N/A"}},{"$f":"IF(A914=\"\",\"\",VLOOKUP(B914,#REF!,5,FALSE))","v":{"$error":"#N/A"}},{"$f":"IF(A914=\"\",\"\",VLOOKUP(C914,#REF!,5,FALSE))","v":{"$error":"#N/A"}}]
[300030,{"$f":"IF(A915=\"\",\"\",VLOOKUP(A915,[1]ItemConfig!$A:$B,2,FALSE))","v":{"$error":"#N/A"}},{"$f":"IF(A915=\"\",\"\",VLOOKUP(A915,[1]ItemConfig!$A:$D,4,FALSE))","v":{"$error":"#N/A"}},{"$f":"IF(A915=\"\",\"\",VLOOKUP(A915,[1]ItemConfig!$A:$C,3,FALSE))","v":{"$error":"#N/A"}},{"$f":"IF(A915=\"\",\"\",VLOOKUP(B915,#REF!,5,FALSE))","v":{"$error":"#N/A"}},{"$f":"IF(A915=\"\",\"\",VLOOKUP(C915,#REF!,5,FALSE))","v":{"$error":"#N/A"}}]
[300031,{"$f":"IF(A916=\"\",\"\",VLOOKUP(A916,[1]ItemConfig!$A:$B,2,FALSE))","v":{"$error":"#N/A"}},{"$f":"IF(A916=\"\",\"\",VLOOKUP(A916,[1]ItemConfig!$A:$D,4,FALSE))","v":{"$error":"#N/A"}},{"$f":"IF(A916=\"\",\"\",VLOOKUP(A916,[1]ItemConfig!$A:$C,3,FALSE))","v":{"$error":"#N/A"}},{"$f":"IF(A916=\"\",\"\",VLOOKUP(B916,#REF!,5,FALSE))","v":{"$error":"#N/A"}},{"$f":"IF(A916=\"\",\"\",VLOOKUP(C916,#REF!,5,FALSE))","v":{"$error":"#N/A"}}]
[300032,{"$f":"IF(A917=\"\",\"\",VLOOKUP(A917,[1]ItemConfig!$A:$B,2,FALSE))","v":{"$error":"#N/A"}},{"$f":"IF(A917=\"\",\"\",VLOOKUP(A917,[1]ItemConfig!$A:$D,4,FALSE))","v":{"$error":"#N/A"}},{"$f":"IF(A917=\"\",\"\",VLOOKUP(A917,[1]ItemConfig!$A:$C,3,FALSE))","v":{"$error":"#N/A"}},{"$f":"IF(A917=\"\",\"\",VLOOKUP(B917,#REF!,5,FALSE))","v":{"$error":"#N/A"}},{"$f":"IF(A917=\"\",\"\",VLOOKUP(C917,#REF!,5,FALSE))","v":{"$error":"#N/A"}}]
[300033,{"$f":"IF(A918=\"\",\"\",VLOOKUP(A918,[1]ItemConfig!$A:$B,2,FALSE))","v":{"$error":"#N/A"}},{"$f":"IF(A918=\"\",\"\",VLOOKUP(A918,[1]ItemConfig!$A:$D,4,FALSE))","v":{"$error":"#N/A"}},{"$f":"IF(A918=\"\",\"\",VLOOKUP(A918,[1]ItemConfig!$A:$C,3,FALSE))","v":{"$error":"#N/A"}},{"$f":"IF(A918=\"\",\"\",VLOOKUP(B918,#REF!,5,FALSE))","v":{"$error":"#N/A"}},{"$f":"IF(A918=\"\",\"\",VLOOKUP(C918,#REF!,5,FALSE))","v":{"$error":"#N/A"}}]
[300034,{"$f":"IF(A919=\"\",\"\",VLOOKUP(A919,[1]ItemConfig!$A:$B,2,FALSE))","v":{"$error":"#N/A"}},{"$f":"IF(A919=\"\",\"\",VLOOKUP(A919,[1]ItemConfig!$A:$D,4,FALSE))","v":{"$error":"#N/A"}},{"$f":"IF(A919=\"\",\"\",VLOOKUP(A919,[1]ItemConfig!$A:$C,3,FALSE))","v":{"$error":"#N/A"}},{"$f":"IF(A919=\"\",\"\",VLOOKUP(B919,#REF!,5,FALSE))","v":{"$error":"#N/A"}},{"$f":"IF(A919=\"\",\"\",VLOOKUP(C919,#REF!,5,FALSE))","v":{"$error":"#N/A"}}]
[300035,{"$f":"IF(A920=\"\",\"\",VLOOKUP(A920,[1]ItemConfig!$A:$B,2,FALSE))","v":{"$error":"#N/A"}},{"$f":"IF(A920=\"\",\"\",VLOOKUP(A920,[1]ItemConfig!$A:$D,4,FALSE))","v":{"$error":"#N/A"}},{"$f":"IF(A920=\"\",\"\",VLOOKUP(A920,[1]ItemConfig!$A:$C,3,FALSE))","v":{"$error":"#N/A"}},{"$f":"IF(A920=\"\",\"\",VLOOKUP(B920,#REF!,5,FALSE))","v":{"$error":"#N/A"}},{"$f":"IF(A920=\"\",\"\",VLOOKUP(C920,#REF!,5,FALSE))","v":{"$error":"#N/A"}}]
[300036,{"$f":"IF(A921=\"\",\"\",VLOOKUP(A921,[1]ItemConfig!$A:$B,2,FALSE))","v":{"$error":"#N/A"}},{"$f":"IF(A921=\"\",\"\",VLOOKUP(A921,[1]ItemConfig!$A:$D,4,FALSE))","v":{"$error":"#N/A"}},{"$f":"IF(A921=\"\",\"\",VLOOKUP(A921,[1]ItemConfig!$A:$C,3,FALSE))","v":{"$error":"#N/A"}},{"$f":"IF(A921=\"\",\"\",VLOOKUP(B921,#REF!,5,FALSE))","v":{"$error":"#N/A"}},{"$f":"IF(A921=\"\",\"\",VLOOKUP(C921,#REF!,5,FALSE))","v":{"$error":"#N/A"}}]
[300037,{"$f":"IF(A922=\"\",\"\",VLOOKUP(A922,[1]ItemConfig!$A:$B,2,FALSE))","v":{"$error":"#N/A"}},{"$f":"IF(A922=\"\",\"\",VLOOKUP(A922,[1]ItemConfig!$A:$D,4,FALSE))","v":{"$error":"#N/A"}},{"$f":"IF(A922=\"\",\"\",VLOOKUP(A922,[1]ItemConfig!$A:$C,3,FALSE))","v":{"$error":"#N/A"}},{"$f":"IF(A922=\"\",\"\",VLOOKUP(B922,#REF!,5,FALSE))","v":{"$error":"#N/A"}},{"$f":"IF(A922=\"\",\"\",VLOOKUP(C922,#REF!,5,FALSE))","v":{"$error":"#N/A"}}]
[300038,{"$f":"IF(A923=\"\",\"\",VLOOKUP(A923,[1]ItemConfig!$A:$B,2,FALSE))","v":{"$error":"#N/A"}},{"$f":"IF(A923=\"\",\"\",VLOOKUP(A923,[1]ItemConfig!$A:$D,4,FALSE))","v":{"$error":"#N/A"}},{"$f":"IF(A923=\"\",\"\",VLOOKUP(A923,[1]ItemConfig!$A:$C,3,FALSE))","v":{"$error":"#N/A"}},{"$f":"IF(A923=\"\",\"\",VLOOKUP(B923,#REF!,5,FALSE))","v":{"$error":"#N/A"}},{"$f":"IF(A923=\"\",\"\",VLOOKUP(C923,#REF!,5,FALSE))","v":{"$error":"#N/A"}}]
[300039,{"$f":"IF(A924=\"\",\"\",VLOOKUP(A924,[1]ItemConfig!$A:$B,2,FALSE))","v":{"$error":"#N/A"}},{"$f":"IF(A924=\"\",\"\",VLOOKUP(A924,[1]ItemConfig!$A:$D,4,FALSE))","v":{"$error":"#N/A"}},{"$f":"IF(A924=\"\",\"\",VLOOKUP(A924,[1]ItemConfig!$A:$C,3,FALSE))","v":{"$error":"#N/A"}},{"$f":"IF(A924=\"\",\"\",VLOOKUP(B924,#REF!,5,FALSE))","v":{"$error":"#N/A"}},{"$f":"IF(A924=\"\",\"\",VLOOKUP(C924,#REF!,5,FALSE))","v":{"$error":"#N/A"}}]
[300040,{"$f":"IF(A925=\"\",\"\",VLOOKUP(A925,[1]ItemConfig!$A:$B,2,FALSE))","v":{"$error":"#N/A"}},{"$f":"IF(A925=\"\",\"\",VLOOKUP(A925,[1]ItemConfig!$A:$D,4,FALSE))","v":{"$error":"#N/A"}},{"$f":"IF(A925=\"\",\"\",VLOOKUP(A925,[1]ItemConfig!$A:$C,3,FALSE))","v":{"$error":"#N/A"}},{"$f":"IF(A925=\"\",\"\",VLOOKUP(B925,#REF!,5,FALSE))","v":{"$error":"#N/A"}},{"$f":"IF(A925=\"\",\"\",VLOOKUP(C925,#REF!,5,FALSE))","v":{"$error":"#N/A"}}]
[300041,{"$f":"IF(A926=\"\",\"\",VLOOKUP(A926,[1]ItemConfig!$A:$B,2,FALSE))","v":{"$error":"#N/A"}},{"$f":"IF(A926=\"\",\"\",VLOOKUP(A926,[1]ItemConfig!$A:$D,4,FALSE))","v":{"$error":"#N/A"}},{"$f":"IF(A926=\"\",\"\",VLOOKUP(A926,[1]ItemConfig!$A:$C,3,FALSE))","v":{"$error":"#N/A"}},{"$f":"IF(A926=\"\",\"\",VLOOKUP(B926,#REF!,5,FALSE))","v":{"$error":"#N/A"}},{"$f":"IF(A926=\"\",\"\",VLOOKUP(C926,#REF!,5,FALSE))","v":{"$error":"#N/A"}}]
[300042,{"$f":"IF(A927=\"\",\"\",VLOOKUP(A927,[1]ItemConfig!$A:$B,2,FALSE))","v":{"$error":"#N/A"}},{"$f":"IF(A927=\"\",\"\",VLOOKUP(A927,[1]ItemConfig!$A:$D,4,FALSE))","v":{"$error":"#N/A"}},{"$f":"IF(A927=\"\",\"\",VLOOKUP(A927,[1]ItemConfig!$A:$C,3,FALSE))","v":{"$error":"#N/A"}},{"$f":"IF(A927=\"\",\"\",VLOOKUP(B927,#REF!,5,FALSE))","v":{"$error":"#N/A"}},{"$f":"IF(A927=\"\",\"\",VLOOKUP(C927,#REF!,5,FALSE))","v":{"$error":"#N/A"}}]
[300043,{"$f":"IF(A928=\"\",\"\",VLOOKUP(A928,[1]ItemConfig!$A:$B,2,FALSE))","v":{"$error":"#N/A"}},{"$f":"IF(A928=\"\",\"\",VLOOKUP(A928,[1]ItemConfig!$A:$D,4,FALSE))","v":{"$error":"#N/A"}},{"$f":"IF(A928=\"\",\"\",VLOOKUP(A928,[1]ItemConfig!$A:$C,3,FALSE))","v":{"$error":"#N/A"}},{"$f":"IF(A928=\"\",\"\",VLOOKUP(B928,#REF!,5,FALSE))","v":{"$error":"#N/A"}},{"$f":"IF(A928=\"\",\"\",VLOOKUP(C928,#REF!,5,FALSE))","v":{"$error":"#N/A"}}]
[300044,{"$f":"IF(A929=\"\",\"\",VLOOKUP(A929,[1]ItemConfig!$A:$B,2,FALSE))","v":{"$error":"#N/A"}},{"$f":"IF(A929=\"\",\"\",VLOOKUP(A929,[1]ItemConfig!$A:$D,4,FALSE))","v":{"$error":"#N/A"}},{"$f":"IF(A929=\"\",\"\",VLOOKUP(A929,[1]ItemConfig!$A:$C,3,FALSE))","v":{"$error":"#N/A"}},{"$f":"IF(A929=\"\",\"\",VLOOKUP(B929,#REF!,5,FALSE))","v":{"$error":"#N/A"}},{"$f":"IF(A929=\"\",\"\",VLOOKUP(C929,#REF!,5,FALSE))","v":{"$error":"#N/A"}}]
[300045,{"$f":"IF(A930=\"\",\"\",VLOOKUP(A930,[1]ItemConfig!$A:$B,2,FALSE))","v":{"$error":"#N/A"}},{"$f":"IF(A930=\"\",\"\",VLOOKUP(A930,[1]ItemConfig!$A:$D,4,FALSE))","v":{"$error":"#N/A"}},{"$f":"IF(A930=\"\",\"\",VLOOKUP(A930,[1]ItemConfig!$A:$C,3,FALSE))","v":{"$error":"#N/A"}},{"$f":"IF(A930=\"\",\"\",VLOOKUP(B930,#REF!,5,FALSE))","v":{"$error":"#N/A"}},{"$f":"IF(A930=\"\",\"\",VLOOKUP(C930,#REF!,5,FALSE))","v":{"$error":"#N/A"}}]
[300046,{"$f":"IF(A931=\"\",\"\",VLOOKUP(A931,[1]ItemConfig!$A:$B,2,FALSE))","v":{"$error":"#N/A"}},{"$f":"IF(A931=\"\",\"\",VLOOKUP(A931,[1]ItemConfig!$A:$D,4,FALSE))","v":{"$error":"#N/A"}},{"$f":"IF(A931=\"\",\"\",VLOOKUP(A931,[1]ItemConfig!$A:$C,3,FALSE))","v":{"$error":"#N/A"}},{"$f":"IF(A931=\"\",\"\",VLOOKUP(B931,#REF!,5,FALSE))","v":{"$error":"#N/A"}},{"$f":"IF(A931=\"\",\"\",VLOOKUP(C931,#REF!,5,FALSE))","v":{"$error":"#N/A"}}]
[300047,{"$f":"IF(A932=\"\",\"\",VLOOKUP(A932,[1]ItemConfig!$A:$B,2,FALSE))","v":{"$error":"#N/A"}},{"$f":"IF(A932=\"\",\"\",VLOOKUP(A932,[1]ItemConfig!$A:$D,4,FALSE))","v":{"$error":"#N/A"}},{"$f":"IF(A932=\"\",\"\",VLOOKUP(A932,[1]ItemConfig!$A:$C,3,FALSE))","v":{"$error":"#N/A"}},{"$f":"IF(A932=\"\",\"\",VLOOKUP(B932,#REF!,5,FALSE))","v":{"$error":"#N/A"}},{"$f":"IF(A932=\"\",\"\",VLOOKUP(C932,#REF!,5,FALSE))","v":{"$error":"#N/A"}}]
[300048,{"$f":"IF(A933=\"\",\"\",VLOOKUP(A933,[1]ItemConfig!$A:$B,2,FALSE))","v":{"$error":"#N/A"}},{"$f":"IF(A933=\"\",\"\",VLOOKUP(A933,[1]ItemConfig!$A:$D,4,FALSE))","v":{"$error":"#N/A"}},{"$f":"IF(A933=\"\",\"\",VLOOKUP(A933,[1]ItemConfig!$A:$C,3,FALSE))","v":{"$error":"#N/A"}},{"$f":"IF(A933=\"\",\"\",VLOOKUP(B933,#REF!,5,FALSE))","v":{"$error":"#N/A"}},{"$f":"IF(A933=\"\",\"\",VLOOKUP(C933,#REF!,5,FALSE))","v":{"$error":"#N/A"}}]
[300049,{"$f":"IF(A934=\"\",\"\",VLOOKUP(A934,[1]ItemConfig!$A:$B,2,FALSE))","v":{"$error":"#N/A"}},{"$f":"IF(A934=\"\",\"\",VLOOKUP(A934,[1]ItemConfig!$A:$D,4,FALSE))","v":{"$error":"#N/A"}},{"$f":"IF(A934=\"\",\"\",VLOOKUP(A934,[1]ItemConfig!$A:$C,3,FALSE))","v":{"$error":"#N/A"}},{"$f":"IF(A934=\"\",\"\",VLOOKUP(B934,#REF!,5,FALSE))","v":{"$error":"#N/A"}},{"$f":"IF(A934=\"\",\"\",VLOOKUP(C934,#REF!,5,FALSE))","v":{"$error":"#N/A"}}]
[300050,{"$f":"IF(A935=\"\",\"\",VLOOKUP(A935,[1]ItemConfig!$A:$B,2,FALSE))","v":{"$error":"#N/A"}},{"$f":"IF(A935=\"\",\"\",VLOOKUP(A935,[1]ItemConfig!$A:$D,4,FALSE))","v":{"$error":"#N/A"}},{"$f":"IF(A935=\"\",\"\",VLOOKUP(A935,[1]ItemConfig!$A:$C,3,FALSE))","v":{"$error":"#N/A"}},{"$f":"IF(A935=\"\",\"\",VLOOKUP(B935,#REF!,5,FALSE))","v":{"$error":"#N/A"}},{"$f":"IF(A935=\"\",\"\",VLOOKUP(C935,#REF!,5,FALSE))","v":{"$error":"#N/A"}}]
[300051,{"$f":"IF(A936=\"\",\"\",VLOOKUP(A936,[1]ItemConfig!$A:$B,2,FALSE))","v":{"$error":"#N/A"}},{"$f":"IF(A936=\"\",\"\",VLOOKUP(A936,[1]ItemConfig!$A:$D,4,FALSE))","v":{"$error":"#N/A"}},{"$f":"IF(A936=\"\",\"\",VLOOKUP(A936,[1]ItemConfig!$A:$C,3,FALSE))","v":{"$error":"#N/A"}},{"$f":"IF(A936=\"\",\"\",VLOOKUP(B936,#REF!,5,FALSE))","v":{"$error":"#N/A"}},{"$f":"IF(A936=\"\",\"\",VLOOKUP(C936,#REF!,5,FALSE))","v":{"$error":"#N/A"}}]
[300052,{"$f":"IF(A937=\"\",\"\",VLOOKUP(A937,[1]ItemConfig!$A:$B,2,FALSE))","v":{"$error":"#N/A"}},{"$f":"IF(A937=\"\",\"\",VLOOKUP(A937,[1]ItemConfig!$A:$D,4,FALSE))","v":{"$error":"#N/A"}},{"$f":"IF(A937=\"\",\"\",VLOOKUP(A937,[1]ItemConfig!$A:$C,3,FALSE))","v":{"$error":"#N/A"}},{"$f":"IF(A937=\"\",\"\",VLOOKUP(B937,#REF!,5,FALSE))","v":{"$error":"#N/A"}},{"$f":"IF(A937=\"\",\"\",VLOOKUP(C937,#REF!,5,FALSE))","v":{"$error":"#N/A"}}]
[300053,{"$f":"IF(A938=\"\",\"\",VLOOKUP(A938,[1]ItemConfig!$A:$B,2,FALSE))","v":{"$error":"#N/A"}},{"$f":"IF(A938=\"\",\"\",VLOOKUP(A938,[1]ItemConfig!$A:$D,4,FALSE))","v":{"$error":"#N/A"}},{"$f":"IF(A938=\"\",\"\",VLOOKUP(A938,[1]ItemConfig!$A:$C,3,FALSE))","v":{"$error":"#N/A"}},{"$f":"IF(A938=\"\",\"\",VLOOKUP(B938,#REF!,5,FALSE))","v":{"$error":"#N/A"}},{"$f":"IF(A938=\"\",\"\",VLOOKUP(C938,#REF!,5,FALSE))","v":{"$error":"#N/A"}}]
[300054,{"$f":"IF(A939=\"\",\"\",VLOOKUP(A939,[1]ItemConfig!$A:$B,2,FALSE))","v":{"$error":"#N/A"}},{"$f":"IF(A939=\"\",\"\",VLOOKUP(A939,[1]ItemConfig!$A:$D,4,FALSE))","v":{"$error":"#N/A"}},{"$f":"IF(A939=\"\",\"\",VLOOKUP(A939,[1]ItemConfig!$A:$C,3,FALSE))","v":{"$error":"#N/A"}},{"$f":"IF(A939=\"\",\"\",VLOOKUP(B939,#REF!,5,FALSE))","v":{"$error":"#N/A"}},{"$f":"IF(A939=\"\",\"\",VLOOKUP(C939,#REF!,5,FALSE))","v":{"$error":"#N/A"}}]
[300055,{"$f":"IF(A940=\"\",\"\",VLOOKUP(A940,[1]ItemConfig!$A:$B,2,FALSE))","v":{"$error":"#N/A"}},{"$f":"IF(A940=\"\",\"\",VLOOKUP(A940,[1]ItemConfig!$A:$D,4,FALSE))","v":{"$error":"#N/A"}},{"$f":"IF(A940=\"\",\"\",VLOOKUP(A940,[1]ItemConfig!$A:$C,3,FALSE))","v":{"$error":"#N/A"}},{"$f":"IF(A940=\"\",\"\",VLOOKUP(B940,#REF!,5,FALSE))","v":{"$error":"#N/A"}},{"$f":"IF(A940=\"\",\"\",VLOOKUP(C940,#REF!,5,FALSE))","v":{"$error":"#N/A"}}]
[300056,{"$f":"IF(A941=\"\",\"\",VLOOKUP(A941,[1]ItemConfig!$A:$B,2,FALSE))","v":{"$error":"#N/A"}},{"$f":"IF(A941=\"\",\"\",VLOOKUP(A941,[1]ItemConfig!$A:$D,4,FALSE))","v":{"$error":"#N/A"}},{"$f":"IF(A941=\"\",\"\",VLOOKUP(A941,[1]ItemConfig!$A:$C,3,FALSE))","v":{"$error":"#N/A"}},{"$f":"IF(A941=\"\",\"\",VLOOKUP(B941,#REF!,5,FALSE))","v":{"$error":"#N/A"}},{"$f":"IF(A941=\"\",\"\",VLOOKUP(C941,#REF!,5,FALSE))","v":{"$error":"#N/A"}}]
[300057,{"$f":"IF(A942=\"\",\"\",VLOOKUP(A942,[1]ItemConfig!$A:$B,2,FALSE))","v":{"$error":"#N/A"}},{"$f":"IF(A942=\"\",\"\",VLOOKUP(A942,[1]ItemConfig!$A:$D,4,FALSE))","v":{"$error":"#N/A"}},{"$f":"IF(A942=\"\",\"\",VLOOKUP(A942,[1]ItemConfig!$A:$C,3,FALSE))","v":{"$error":"#N/A"}},{"$f":"IF(A942=\"\",\"\",VLOOKUP(B942,#REF!,5,FALSE))","v":{"$error":"#N/A"}},{"$f":"IF(A942=\"\",\"\",VLOOKUP(C942,#REF!,5,FALSE))","v":{"$error":"#N/A"}}]
[300058,{"$f":"IF(A943=\"\",\"\",VLOOKUP(A943,[1]ItemConfig!$A:$B,2,FALSE))","v":{"$error":"#N/A"}},{"$f":"IF(A943=\"\",\"\",VLOOKUP(A943,[1]ItemConfig!$A:$D,4,FALSE))","v":{"$error":"#N/A"}},{"$f":"IF(A943=\"\",\"\",VLOOKUP(A943,[1]ItemConfig!$A:$C,3,FALSE))","v":{"$error":"#N/A"}},{"$f":"IF(A943=\"\",\"\",VLOOKUP(B943,#REF!,5,FALSE))","v":{"$error":"#N/A"}},{"$f":"IF(A943=\"\",\"\",VLOOKUP(C943,#REF!,5,FALSE))","v":{"$error":"#N/A"}}]
[300059,{"$f":"IF(A944=\"\",\"\",VLOOKUP(A944,[1]ItemConfig!$A:$B,2,FALSE))","v":{"$error":"#N/A"}},{"$f":"IF(A944=\"\",\"\",VLOOKUP(A944,[1]ItemConfig!$A:$D,4,FALSE))","v":{"$error":"#N/A"}},{"$f":"IF(A944=\"\",\"\",VLOOKUP(A944,[1]ItemConfig!$A:$C,3,FALSE))","v":{"$error":"#N/A"}},{"$f":"IF(A944=\"\",\"\",VLOOKUP(B944,#REF!,5,FALSE))","v":{"$error":"#N/A"}},{"$f":"IF(A944=\"\",\"\",VLOOKUP(C944,#REF!,5,FALSE))","v":{"$error":"#N/A"}}]
[300060,{"$f":"IF(A945=\"\",\"\",VLOOKUP(A945,[1]ItemConfig!$A:$B,2,FALSE))","v":{"$error":"#N/A"}},{"$f":"IF(A945=\"\",\"\",VLOOKUP(A945,[1]ItemConfig!$A:$D,4,FALSE))","v":{"$error":"#N/A"}},{"$f":"IF(A945=\"\",\"\",VLOOKUP(A945,[1]ItemConfig!$A:$C,3,FALSE))","v":{"$error":"#N/A"}},{"$f":"IF(A945=\"\",\"\",VLOOKUP(B945,#REF!,5,FALSE))","v":{"$error":"#N/A"}},{"$f":"IF(A945=\"\",\"\",VLOOKUP(C945,#REF!,5,FALSE))","v":{"$error":"#N/A"}}]
[300061,{"$f":"IF(A946=\"\",\"\",VLOOKUP(A946,[1]ItemConfig!$A:$B,2,FALSE))","v":{"$error":"#N/A"}},{"$f":"IF(A946=\"\",\"\",VLOOKUP(A946,[1]ItemConfig!$A:$D,4,FALSE))","v":{"$error":"#N/A"}},{"$f":"IF(A946=\"\",\"\",VLOOKUP(A946,[1]ItemConfig!$A:$C,3,FALSE))","v":{"$error":"#N/A"}},{"$f":"IF(A946=\"\",\"\",VLOOKUP(B946,#REF!,5,FALSE))","v":{"$error":"#N/A"}},{"$f":"IF(A946=\"\",\"\",VLOOKUP(C946,#REF!,5,FALSE))","v":{"$error":"#N/A"}}]
[300062,{"$f":"IF(A947=\"\",\"\",VLOOKUP(A947,[1]ItemConfig!$A:$B,2,FALSE))","v":{"$error":"#N/A"}},{"$f":"IF(A947=\"\",\"\",VLOOKUP(A947,[1]ItemConfig!$A:$D,4,FALSE))","v":{"$error":"#N/A"}},{"$f":"IF(A947=\"\",\"\",VLOOKUP(A947,[1]ItemConfig!$A:$C,3,FALSE))","v":{"$error":"#N/A"}},{"$f":"IF(A947=\"\",\"\",VLOOKUP(B947,#REF!,5,FALSE))","v":{"$error":"#N/A"}},{"$f":"IF(A947=\"\",\"\",VLOOKUP(C947,#REF!,5,FALSE))","v":{"$error":"#N/A"}}]
[300063,{"$f":"IF(A948=\"\",\"\",VLOOKUP(A948,[1]ItemConfig!$A:$B,2,FALSE))","v":{"$error":"#N/A"}},{"$f":"IF(A948=\"\",\"\",VLOOKUP(A948,[1]ItemConfig!$A:$D,4,FALSE))","v":{"$error":"#N/A"}},{"$f":"IF(A948=\"\",\"\",VLOOKUP(A948,[1]ItemConfig!$A:$C,3,FALSE))","v":{"$error":"#N/A"}},{"$f":"IF(A948=\"\",\"\",VLOOKUP(B948,#REF!,5,FALSE))","v":{"$error":"#N/A"}},{"$f":"IF(A948=\"\",\"\",VLOOKUP(C948,#REF!,5,FALSE))","v":{"$error":"#N/A"}}]
[300064,{"$f":"IF(A949=\"\",\"\",VLOOKUP(A949,[1]ItemConfig!$A:$B,2,FALSE))","v":{"$error":"#N/A"}},{"$f":"IF(A949=\"\",\"\",VLOOKUP(A949,[1]ItemConfig!$A:$D,4,FALSE))","v":{"$error":"#N/A"}},{"$f":"IF(A949=\"\",\"\",VLOOKUP(A949,[1]ItemConfig!$A:$C,3,FALSE))","v":{"$error":"#N/A"}},{"$f":"IF(A949=\"\",\"\",VLOOKUP(B949,#REF!,5,FALSE))","v":{"$error":"#N/A"}},{"$f":"IF(A949=\"\",\"\",VLOOKUP(C949,#REF!,5,FALSE))","v":{"$error":"#N/A"}}]
[300065,{"$f":"IF(A950=\"\",\"\",VLOOKUP(A950,[1]ItemConfig!$A:$B,2,FALSE))","v":{"$error":"#N/A"}},{"$f":"IF(A950=\"\",\"\",VLOOKUP(A950,[1]ItemConfig!$A:$D,4,FALSE))","v":{"$error":"#N/A"}},{"$f":"IF(A950=\"\",\"\",VLOOKUP(A950,[1]ItemConfig!$A:$C,3,FALSE))","v":{"$error":"#N/A"}},{"$f":"IF(A950=\"\",\"\",VLOOKUP(B950,#REF!,5,FALSE))","v":{"$error":"#N/A"}},{"$f":"IF(A950=\"\",\"\",VLOOKUP(C950,#REF!,5,FALSE))","v":{"$error":"#N/A"}}]
[300066,{"$f":"IF(A951=\"\",\"\",VLOOKUP(A951,[1]ItemConfig!$A:$B,2,FALSE))","v":{"$error":"#N/A"}},{"$f":"IF(A951=\"\",\"\",VLOOKUP(A951,[1]ItemConfig!$A:$D,4,FALSE))","v":{"$error":"#N/A"}},{"$f":"IF(A951=\"\",\"\",VLOOKUP(A951,[1]ItemConfig!$A:$C,3,FALSE))","v":{"$error":"#N/A"}},{"$f":"IF(A951=\"\",\"\",VLOOKUP(B951,#REF!,5,FALSE))","v":{"$error":"#N/A"}},{"$f":"IF(A951=\"\",\"\",VLOOKUP(C951,#REF!,5,FALSE))","v":{"$error":"#N/A"}}]
[300067,{"$f":"IF(A952=\"\",\"\",VLOOKUP(A952,[1]ItemConfig!$A:$B,2,FALSE))","v":{"$error":"#N/A"}},{"$f":"IF(A952=\"\",\"\",VLOOKUP(A952,[1]ItemConfig!$A:$D,4,FALSE))","v":{"$error":"#N/A"}},{"$f":"IF(A952=\"\",\"\",VLOOKUP(A952,[1]ItemConfig!$A:$C,3,FALSE))","v":{"$error":"#N/A"}},{"$f":"IF(A952=\"\",\"\",VLOOKUP(B952,#REF!,5,FALSE))","v":{"$error":"#N/A"}},{"$f":"IF(A952=\"\",\"\",VLOOKUP(C952,#REF!,5,FALSE))","v":{"$error":"#N/A"}}]
[300068,{"$f":"IF(A953=\"\",\"\",VLOOKUP(A953,[1]ItemConfig!$A:$B,2,FALSE))","v":{"$error":"#N/A"}},{"$f":"IF(A953=\"\",\"\",VLOOKUP(A953,[1]ItemConfig!$A:$D,4,FALSE))","v":{"$error":"#N/A"}},{"$f":"IF(A953=\"\",\"\",VLOOKUP(A953,[1]ItemConfig!$A:$C,3,FALSE))","v":{"$error":"#N/A"}},{"$f":"IF(A953=\"\",\"\",VLOOKUP(B953,#REF!,5,FALSE))","v":{"$error":"#N/A"}},{"$f":"IF(A953=\"\",\"\",VLOOKUP(C953,#REF!,5,FALSE))","v":{"$error":"#N/A"}}]
[300069,{"$f":"IF(A954=\"\",\"\",VLOOKUP(A954,[1]ItemConfig!$A:$B,2,FALSE))","v":{"$error":"#N/A"}},{"$f":"IF(A954=\"\",\"\",VLOOKUP(A954,[1]ItemConfig!$A:$D,4,FALSE))","v":{"$error":"#N/A"}},{"$f":"IF(A954=\"\",\"\",VLOOKUP(A954,[1]ItemConfig!$A:$C,3,FALSE))","v":{"$error":"#N/A"}},{"$f":"IF(A954=\"\",\"\",VLOOKUP(B954,#REF!,5,FALSE))","v":{"$error":"#N/A"}},{"$f":"IF(A954=\"\",\"\",VLOOKUP(C954,#REF!,5,FALSE))","v":{"$error":"#N/A"}}]
[300070,{"$f":"IF(A955=\"\",\"\",VLOOKUP(A955,[1]ItemConfig!$A:$B,2,FALSE))","v":{"$error":"#N/A"}},{"$f":"IF(A955=\"\",\"\",VLOOKUP(A955,[1]ItemConfig!$A:$D,4,FALSE))","v":{"$error":"#N/A"}},{"$f":"IF(A955=\"\",\"\",VLOOKUP(A955,[1]ItemConfig!$A:$C,3,FALSE))","v":{"$error":"#N/A"}},{"$f":"IF(A955=\"\",\"\",VLOOKUP(B955,#REF!,5,FALSE))","v":{"$error":"#N/A"}},{"$f":"IF(A955=\"\",\"\",VLOOKUP(C955,#REF!,5,FALSE))","v":{"$error":"#N/A"}}]
[300071,{"$f":"IF(A956=\"\",\"\",VLOOKUP(A956,[1]ItemConfig!$A:$B,2,FALSE))","v":{"$error":"#N/A"}},{"$f":"IF(A956=\"\",\"\",VLOOKUP(A956,[1]ItemConfig!$A:$D,4,FALSE))","v":{"$error":"#N/A"}},{"$f":"IF(A956=\"\",\"\",VLOOKUP(A956,[1]ItemConfig!$A:$C,3,FALSE))","v":{"$error":"#N/A"}},{"$f":"IF(A956=\"\",\"\",VLOOKUP(B956,#REF!,5,FALSE))","v":{"$error":"#N/A"}},{"$f":"IF(A956=\"\",\"\",VLOOKUP(C956,#REF!,5,FALSE))","v":{"$error":"#N/A"}}]
[300072,{"$f":"IF(A957=\"\",\"\",VLOOKUP(A957,[1]ItemConfig!$A:$B,2,FALSE))","v":{"$error":"#N/A"}},{"$f":"IF(A957=\"\",\"\",VLOOKUP(A957,[1]ItemConfig!$A:$D,4,FALSE))","v":{"$error":"#N/A"}},{"$f":"IF(A957=\"\",\"\",VLOOKUP(A957,[1]ItemConfig!$A:$C,3,FALSE))","v":{"$error":"#N/A"}},{"$f":"IF(A957=\"\",\"\",VLOOKUP(B957,#REF!,5,FALSE))","v":{"$error":"#N/A"}},{"$f":"IF(A957=\"\",\"\",VLOOKUP(C957,#REF!,5,FALSE))","v":{"$error":"#N/A"}}]
[300073,{"$f":"IF(A958=\"\",\"\",VLOOKUP(A958,[1]ItemConfig!$A:$B,2,FALSE))","v":{"$error":"#N/A"}},{"$f":"IF(A958=\"\",\"\",VLOOKUP(A958,[1]ItemConfig!$A:$D,4,FALSE))","v":{"$error":"#N/A"}},{"$f":"IF(A958=\"\",\"\",VLOOKUP(A958,[1]ItemConfig!$A:$C,3,FALSE))","v":{"$error":"#N/A"}},{"$f":"IF(A958=\"\",\"\",VLOOKUP(B958,#REF!,5,FALSE))","v":{"$error":"#N/A"}},{"$f":"IF(A958=\"\",\"\",VLOOKUP(C958,#REF!,5,FALSE))","v":{"$error":"#N/A"}}]
[300074,{"$f":"IF(A959=\"\",\"\",VLOOKUP(A959,[1]ItemConfig!$A:$B,2,FALSE))","v":{"$error":"#N/A"}},{"$f":"IF(A959=\"\",\"\",VLOOKUP(A959,[1]ItemConfig!$A:$D,4,FALSE))","v":{"$error":"#N/A"}},{"$f":"IF(A959=\"\",\"\",VLOOKUP(A959,[1]ItemConfig!$A:$C,3,FALSE))","v":{"$error":"#N/A"}},{"$f":"IF(A959=\"\",\"\",VLOOKUP(B959,#REF!,5,FALSE))","v":{"$error":"#N/A"}},{"$f":"IF(A959=\"\",\"\",VLOOKUP(C959,#REF!,5,FALSE))","v":{"$error":"#N/A"}}]
[300075,{"$f":"IF(A960=\"\",\"\",VLOOKUP(A960,[1]ItemConfig!$A:$B,2,FALSE))","v":{"$error":"#N/A"}},{"$f":"IF(A960=\"\",\"\",VLOOKUP(A960,[1]ItemConfig!$A:$D,4,FALSE))","v":{"$error":"#N/A"}},{"$f":"IF(A960=\"\",\"\",VLOOKUP(A960,[1]ItemConfig!$A:$C,3,FALSE))","v":{"$error":"#N/A"}},{"$f":"IF(A960=\"\",\"\",VLOOKUP(B960,#REF!,5,FALSE))","v":{"$error":"#N/A"}},{"$f":"IF(A960=\"\",\"\",VLOOKUP(C960,#REF!,5,FALSE))","v":{"$error":"#N/A"}}]
[300076,{"$f":"IF(A961=\"\",\"\",VLOOKUP(A961,[1]ItemConfig!$A:$B,2,FALSE))","v":{"$error":"#N/A"}},{"$f":"IF(A961=\"\",\"\",VLOOKUP(A961,[1]ItemConfig!$A:$D,4,FALSE))","v":{"$error":"#N/A"}},{"$f":"IF(A961=\"\",\"\",VLOOKUP(A961,[1]ItemConfig!$A:$C,3,FALSE))","v":{"$error":"#N/A"}},{"$f":"IF(A961=\"\",\"\",VLOOKUP(B961,#REF!,5,FALSE))","v":{"$error":"#N/A"}},{"$f":"IF(A961=\"\",\"\",VLOOKUP(C961,#REF!,5,FALSE))","v":{"$error":"#N/A"}}]
[300077,{"$f":"IF(A962=\"\",\"\",VLOOKUP(A962,[1]ItemConfig!$A:$B,2,FALSE))","v":{"$error":"#N/A"}},{"$f":"IF(A962=\"\",\"\",VLOOKUP(A962,[1]ItemConfig!$A:$D,4,FALSE))","v":{"$error":"#N/A"}},{"$f":"IF(A962=\"\",\"\",VLOOKUP(A962,[1]ItemConfig!$A:$C,3,FALSE))","v":{"$error":"#N/A"}},{"$f":"IF(A962=\"\",\"\",VLOOKUP(B962,#REF!,5,FALSE))","v":{"$error":"#N/A"}},{"$f":"IF(A962=\"\",\"\",VLOOKUP(C962,#REF!,5,FALSE))","v":{"$error":"#N/A"}}]
[300078,{"$f":"IF(A963=\"\",\"\",VLOOKUP(A963,[1]ItemConfig!$A:$B,2,FALSE))","v":{"$error":"#N/A"}},{"$f":"IF(A963=\"\",\"\",VLOOKUP(A963,[1]ItemConfig!$A:$D,4,FALSE))","v":{"$error":"#N/A"}},{"$f":"IF(A963=\"\",\"\",VLOOKUP(A963,[1]ItemConfig!$A:$C,3,FALSE))","v":{"$error":"#N/A"}},{"$f":"IF(A963=\"\",\"\",VLOOKUP(B963,#REF!,5,FALSE))","v":{"$error":"#N/A"}},{"$f":"IF(A963=\"\",\"\",VLOOKUP(C963,#REF!,5,FALSE))","v":{"$error":"#N/A"}}]
[300079,{"$f":"IF(A964=\"\",\"\",VLOOKUP(A964,[1]ItemConfig!$A:$B,2,FALSE))","v":{"$error":"#N/A"}},{"$f":"IF(A964=\"\",\"\",VLOOKUP(A964,[1]ItemConfig!$A:$D,4,FALSE))","v":{"$error":"#N/A"}},{"$f":"IF(A964=\"\",\"\",VLOOKUP(A964,[1]ItemConfig!$A:$C,3,FALSE))","v":{"$error":"#N/A"}},{"$f":"IF(A964=\"\",\"\",VLOOKUP(B964,#REF!,5,FALSE))","v":{"$error":"#N/A"}},{"$f":"IF(A964=\"\",\"\",VLOOKUP(C964,#REF!,5,FALSE))","v":{"$error":"#N/A"}}]
[300080,{"$f":"IF(A965=\"\",\"\",VLOOKUP(A965,[1]ItemConfig!$A:$B,2,FALSE))","v":{"$error":"#N/A"}},{"$f":"IF(A965=\"\",\"\",VLOOKUP(A965,[1]ItemConfig!$A:$D,4,FALSE))","v":{"$error":"#N/A"}},{"$f":"IF(A965=\"\",\"\",VLOOKUP(A965,[1]ItemConfig!$A:$C,3,FALSE))","v":{"$error":"#N/A"}},{"$f":"IF(A965=\"\",\"\",VLOOKUP(B965,#REF!,5,FALSE))","v":{"$error":"#N/A"}},{"$f":"IF(A965=\"\",\"\",VLOOKUP(C965,#REF!,5,FALSE))","v":{"$error":"#N/A"}}]
[300081,{"$f":"IF(A966=\"\",\"\",VLOOKUP(A966,[1]ItemConfig!$A:$B,2,FALSE))","v":{"$error":"#N/A"}},{"$f":"IF(A966=\"\",\"\",VLOOKUP(A966,[1]ItemConfig!$A:$D,4,FALSE))","v":{"$error":"#N/A"}},{"$f":"IF(A966=\"\",\"\",VLOOKUP(A966,[1]ItemConfig!$A:$C,3,FALSE))","v":{"$error":"#N/A"}},{"$f":"IF(A966=\"\",\"\",VLOOKUP(B966,#REF!,5,FALSE))","v":{"$error":"#N/A"}},{"$f":"IF(A966=\"\",\"\",VLOOKUP(C966,#REF!,5,FALSE))","v":{"$error":"#N/A"}}]
[300082,{"$f":"IF(A967=\"\",\"\",VLOOKUP(A967,[1]ItemConfig!$A:$B,2,FALSE))","v":{"$error":"#N/A"}},{"$f":"IF(A967=\"\",\"\",VLOOKUP(A967,[1]ItemConfig!$A:$D,4,FALSE))","v":{"$error":"#N/A"}},{"$f":"IF(A967=\"\",\"\",VLOOKUP(A967,[1]ItemConfig!$A:$C,3,FALSE))","v":{"$error":"#N/A"}},{"$f":"IF(A967=\"\",\"\",VLOOKUP(B967,#REF!,5,FALSE))","v":{"$error":"#N/A"}},{"$f":"IF(A967=\"\",\"\",VLOOKUP(C967,#REF!,5,FALSE))","v":{"$error":"#N/A"}}]
[300083,{"$f":"IF(A968=\"\",\"\",VLOOKUP(A968,[1]ItemConfig!$A:$B,2,FALSE))","v":{"$error":"#N/A"}},{"$f":"IF(A968=\"\",\"\",VLOOKUP(A968,[1]ItemConfig!$A:$D,4,FALSE))","v":{"$error":"#N/A"}},{"$f":"IF(A968=\"\",\"\",VLOOKUP(A968,[1]ItemConfig!$A:$C,3,FALSE))","v":{"$error":"#N/A"}},{"$f":"IF(A968=\"\",\"\",VLOOKUP(B968,#REF!,5,FALSE))","v":{"$error":"#N/A"}},{"$f":"IF(A968=\"\",\"\",VLOOKUP(C968,#REF!,5,FALSE))","v":{"$error":"#N/A"}}]
[300084,{"$f":"IF(A969=\"\",\"\",VLOOKUP(A969,[1]ItemConfig!$A:$B,2,FALSE))","v":{"$error":"#N/A"}},{"$f":"IF(A969=\"\",\"\",VLOOKUP(A969,[1]ItemConfig!$A:$D,4,FALSE))","v":{"$error":"#N/A"}},{"$f":"IF(A969=\"\",\"\",VLOOKUP(A969,[1]ItemConfig!$A:$C,3,FALSE))","v":{"$error":"#N/A"}},{"$f":"IF(A969=\"\",\"\",VLOOKUP(B969,#REF!,5,FALSE))","v":{"$error":"#N/A"}},{"$f":"IF(A969=\"\",\"\",VLOOKUP(C969,#REF!,5,FALSE))","v":{"$error":"#N/A"}}]
[300085,{"$f":"IF(A970=\"\",\"\",VLOOKUP(A970,[1]ItemConfig!$A:$B,2,FALSE))","v":{"$error":"#N/A"}},{"$f":"IF(A970=\"\",\"\",VLOOKUP(A970,[1]ItemConfig!$A:$D,4,FALSE))","v":{"$error":"#N/A"}},{"$f":"IF(A970=\"\",\"\",VLOOKUP(A970,[1]ItemConfig!$A:$C,3,FALSE))","v":{"$error":"#N/A"}},{"$f":"IF(A970=\"\",\"\",VLOOKUP(B970,#REF!,5,FALSE))","v":{"$error":"#N/A"}},{"$f":"IF(A970=\"\",\"\",VLOOKUP(C970,#REF!,5,FALSE))","v":{"$error":"#N/A"}}]
[300086,{"$f":"IF(A971=\"\",\"\",VLOOKUP(A971,[1]ItemConfig!$A:$B,2,FALSE))","v":{"$error":"#N/A"}},{"$f":"IF(A971=\"\",\"\",VLOOKUP(A971,[1]ItemConfig!$A:$D,4,FALSE))","v":{"$error":"#N/A"}},{"$f":"IF(A971=\"\",\"\",VLOOKUP(A971,[1]ItemConfig!$A:$C,3,FALSE))","v":{"$error":"#N/A"}},{"$f":"IF(A971=\"\",\"\",VLOOKUP(B971,#REF!,5,FALSE))","v":{"$error":"#N/A"}},{"$f":"IF(A971=\"\",\"\",VLOOKUP(C971,#REF!,5,FALSE))","v":{"$error":"#N/A"}}]
[300087,{"$f":"IF(A972=\"\",\"\",VLOOKUP(A972,[1]ItemConfig!$A:$B,2,FALSE))","v":{"$error":"#N/A"}},{"$f":"IF(A972=\"\",\"\",VLOOKUP(A972,[1]ItemConfig!$A:$D,4,FALSE))","v":{"$error":"#N/A"}},{"$f":"IF(A972=\"\",\"\",VLOOKUP(A972,[1]ItemConfig!$A:$C,3,FALSE))","v":{"$error":"#N/A"}},{"$f":"IF(A972=\"\",\"\",VLOOKUP(B972,#REF!,5,FALSE))","v":{"$error":"#N/A"}},{"$f":"IF(A972=\"\",\"\",VLOOKUP(C972,#REF!,5,FALSE))","v":{"$error":"#N/A"}}]
[300088,{"$f":"IF(A973=\"\",\"\",VLOOKUP(A973,[1]ItemConfig!$A:$B,2,FALSE))","v":{"$error":"#N/A"}},{"$f":"IF(A973=\"\",\"\",VLOOKUP(A973,[1]ItemConfig!$A:$D,4,FALSE))","v":{"$error":"#N/A"}},{"$f":"IF(A973=\"\",\"\",VLOOKUP(A973,[1]ItemConfig!$A:$C,3,FALSE))","v":{"$error":"#N/A"}},{"$f":"IF(A973=\"\",\"\",VLOOKUP(B973,#REF!,5,FALSE))","v":{"$error":"#N/A"}},{"$f":"IF(A973=\"\",\"\",VLOOKUP(C973,#REF!,5,FALSE))","v":{"$error":"#N/A"}}]
[300089,{"$f":"IF(A974=\"\",\"\",VLOOKUP(A974,[1]ItemConfig!$A:$B,2,FALSE))","v":{"$error":"#N/A"}},{"$f":"IF(A974=\"\",\"\",VLOOKUP(A974,[1]ItemConfig!$A:$D,4,FALSE))","v":{"$error":"#N/A"}},{"$f":"IF(A974=\"\",\"\",VLOOKUP(A974,[1]ItemConfig!$A:$C,3,FALSE))","v":{"$error":"#N/A"}},{"$f":"IF(A974=\"\",\"\",VLOOKUP(B974,#REF!,5,FALSE))","v":{"$error":"#N/A"}},{"$f":"IF(A974=\"\",\"\",VLOOKUP(C974,#REF!,5,FALSE))","v":{"$error":"#N/A"}}]
[300090,{"$f":"IF(A975=\"\",\"\",VLOOKUP(A975,[1]ItemConfig!$A:$B,2,FALSE))","v":{"$error":"#N/A"}},{"$f":"IF(A975=\"\",\"\",VLOOKUP(A975,[1]ItemConfig!$A:$D,4,FALSE))","v":{"$error":"#N/A"}},{"$f":"IF(A975=\"\",\"\",VLOOKUP(A975,[1]ItemConfig!$A:$C,3,FALSE))","v":{"$error":"#N/A"}},{"$f":"IF(A975=\"\",\"\",VLOOKUP(B975,#REF!,5,FALSE))","v":{"$error":"#N/A"}},{"$f":"IF(A975=\"\",\"\",VLOOKUP(C975,#REF!,5,FALSE))","v":{"$error":"#N/A"}}]
[300091,{"$f":"IF(A976=\"\",\"\",VLOOKUP(A976,[1]ItemConfig!$A:$B,2,FALSE))","v":{"$error":"#N/A"}},{"$f":"IF(A976=\"\",\"\",VLOOKUP(A976,[1]ItemConfig!$A:$D,4,FALSE))","v":{"$error":"#N/A"}},{"$f":"IF(A976=\"\",\"\",VLOOKUP(A976,[1]ItemConfig!$A:$C,3,FALSE))","v":{"$error":"#N/A"}},{"$f":"IF(A976=\"\",\"\",VLOOKUP(B976,#REF!,5,FALSE))","v":{"$error":"#N/A"}},{"$f":"IF(A976=\"\",\"\",VLOOKUP(C976,#REF!,5,FALSE))","v":{"$error":"#N/A"}}]
[300092,{"$f":"IF(A977=\"\",\"\",VLOOKUP(A977,[1]ItemConfig!$A:$B,2,FALSE))","v":{"$error":"#N/A"}},{"$f":"IF(A977=\"\",\"\",VLOOKUP(A977,[1]ItemConfig!$A:$D,4,FALSE))","v":{"$error":"#N/A"}},{"$f":"IF(A977=\"\",\"\",VLOOKUP(A977,[1]ItemConfig!$A:$C,3,FALSE))","v":{"$error":"#N/A"}},{"$f":"IF(A977=\"\",\"\",VLOOKUP(B977,#REF!,5,FALSE))","v":{"$error":"#N/A"}},{"$f":"IF(A977=\"\",\"\",VLOOKUP(C977,#REF!,5,FALSE))","v":{"$error":"#N/A"}}]
[300093,{"$f":"IF(A978=\"\",\"\",VLOOKUP(A978,[1]ItemConfig!$A:$B,2,FALSE))","v":{"$error":"#N/A"}},{"$f":"IF(A978=\"\",\"\",VLOOKUP(A978,[1]ItemConfig!$A:$D,4,FALSE))","v":{"$error":"#N/A"}},{"$f":"IF(A978=\"\",\"\",VLOOKUP(A978,[1]ItemConfig!$A:$C,3,FALSE))","v":{"$error":"#N/A"}},{"$f":"IF(A978=\"\",\"\",VLOOKUP(B978,#REF!,5,FALSE))","v":{"$error":"#N/A"}},{"$f":"IF(A978=\"\",\"\",VLOOKUP(C978,#REF!,5,FALSE))","v":{"$error":"#N/A"}}]
[300094,{"$f":"IF(A979=\"\",\"\",VLOOKUP(A979,[1]ItemConfig!$A:$B,2,FALSE))","v":{"$error":"#N/A"}},{"$f":"IF(A979=\"\",\"\",VLOOKUP(A979,[1]ItemConfig!$A:$D,4,FALSE))","v":{"$error":"#N/A"}},{"$f":"IF(A979=\"\",\"\",VLOOKUP(A979,[1]ItemConfig!$A:$C,3,FALSE))","v":{"$error":"#N/A"}},{"$f":"IF(A979=\"\",\"\",VLOOKUP(B979,#REF!,5,FALSE))","v":{"$error":"#N/A"}},{"$f":"IF(A979=\"\",\"\",VLOOKUP(C979,#REF!,5,FALSE))","v":{"$error":"#N/A"}}]
[300095,{"$f":"IF(A980=\"\",\"\",VLOOKUP(A980,[1]ItemConfig!$A:$B,2,FALSE))","v":{"$error":"#N/A"}},{"$f":"IF(A980=\"\",\"\",VLOOKUP(A980,[1]ItemConfig!$A:$D,4,FALSE))","v":{"$error":"#N/A"}},{"$f":"IF(A980=\"\",\"\",VLOOKUP(A980,[1]ItemConfig!$A:$C,3,FALSE))","v":{"$error":"#N/A"}},{"$f":"IF(A980=\"\",\"\",VLOOKUP(B980,#REF!,5,FALSE))","v":{"$error":"#N/A"}},{"$f":"IF(A980=\"\",\"\",VLOOKUP(C980,#REF!,5,FALSE))","v":{"$error":"#N/A"}}]
[300096,{"$f":"IF(A981=\"\",\"\",VLOOKUP(A981,[1]ItemConfig!$A:$B,2,FALSE))","v":{"$error":"#N/A"}},{"$f":"IF(A981=\"\",\"\",VLOOKUP(A981,[1]ItemConfig!$A:$D,4,FALSE))","v":{"$error":"#N/A"}},{"$f":"IF(A981=\"\",\"\",VLOOKUP(A981,[1]ItemConfig!$A:$C,3,FALSE))","v":{"$error":"#N/A"}},{"$f":"IF(A981=\"\",\"\",VLOOKUP(B981,#REF!,5,FALSE))","v":{"$error":"#N/A"}},{"$f":"IF(A981=\"\",\"\",VLOOKUP(C981,#REF!,5,FALSE))","v":{"$error":"#N/A"}}]
[300097,{"$f":"IF(A982=\"\",\"\",VLOOKUP(A982,[1]ItemConfig!$A:$B,2,FALSE))","v":{"$error":"#N/A"}},{"$f":"IF(A982=\"\",\"\",VLOOKUP(A982,[1]ItemConfig!$A:$D,4,FALSE))","v":{"$error":"#N/A"}},{"$f":"IF(A982=\"\",\"\",VLOOKUP(A982,[1]ItemConfig!$A:$C,3,FALSE))","v":{"$error":"#N/A"}},{"$f":"IF(A982=\"\",\"\",VLOOKUP(B982,#REF!,5,FALSE))","v":{"$error":"#N/A"}},{"$f":"IF(A982=\"\",\"\",VLOOKUP(C982,#REF!,5,FALSE))","v":{"$error":"#N/A"}}]
[300098,{"$f":"IF(A983=\"\",\"\",VLOOKUP(A983,[1]ItemConfig!$A:$B,2,FALSE))","v":{"$error":"#N/A"}},{"$f":"IF(A983=\"\",\"\",VLOOKUP(A983,[1]ItemConfig!$A:$D,4,FALSE))","v":{"$error":"#N/A"}},{"$f":"IF(A983=\"\",\"\",VLOOKUP(A983,[1]ItemConfig!$A:$C,3,FALSE))","v":{"$error":"#N/A"}},{"$f":"IF(A983=\"\",\"\",VLOOKUP(B983,#REF!,5,FALSE))","v":{"$error":"#N/A"}},{"$f":"IF(A983=\"\",\"\",VLOOKUP(C983,#REF!,5,FALSE))","v":{"$error":"#N/A"}}]
[300099,{"$f":"IF(A984=\"\",\"\",VLOOKUP(A984,[1]ItemConfig!$A:$B,2,FALSE))","v":{"$error":"#N/A"}},{"$f":"IF(A984=\"\",\"\",VLOOKUP(A984,[1]ItemConfig!$A:$D,4,FALSE))","v":{"$error":"#N/A"}},{"$f":"IF(A984=\"\",\"\",VLOOKUP(A984,[1]ItemConfig!$A:$C,3,FALSE))","v":{"$error":"#N/A"}},{"$f":"IF(A984=\"\",\"\",VLOOKUP(B984,#REF!,5,FALSE))","v":{"$error":"#N/A"}},{"$f":"IF(A984=\"\",\"\",VLOOKUP(C984,#REF!,5,FALSE))","v":{"$error":"#N/A"}}]
[300100,{"$f":"IF(A985=\"\",\"\",VLOOKUP(A985,[1]ItemConfig!$A:$B,2,FALSE))","v":{"$error":"#N/A"}},{"$f":"IF(A985=\"\",\"\",VLOOKUP(A985,[1]ItemConfig!$A:$D,4,FALSE))","v":{"$error":"#N/A"}},{"$f":"IF(A985=\"\",\"\",VLOOKUP(A985,[1]ItemConfig!$A:$C,3,FALSE))","v":{"$error":"#N/A"}},{"$f":"IF(A985=\"\",\"\",VLOOKUP(B985,#REF!,5,FALSE))","v":{"$error":"#N/A"}},{"$f":"IF(A985=\"\",\"\",VLOOKUP(C985,#REF!,5,FALSE))","v":{"$error":"#N/A"}}]
[null,{"$f":"IF(A986=\"\",\"\",VLOOKUP(A986,[1]ItemConfig!$A:$B,2,FALSE))","v":""},{"$f":"IF(A986=\"\",\"\",VLOOKUP(A986,[1]ItemConfig!$A:$D,4,FALSE))","v":""},{"$f":"IF(A986=\"\",\"\",VLOOKUP(A986,[1]ItemConfig!$A:$C,3,FALSE))","v":""},{"$f":"IF(A986=\"\",\"\",VLOOKUP(B986,#REF!,5,FALSE))","v":""},{"$f":"IF(A986=\"\",\"\",VLOOKUP(C986,#REF!,5,FALSE))","v":""}]
[300101,{"$f":"IF(A987=\"\",\"\",VLOOKUP(A987,[1]ItemConfig!$A:$B,2,FALSE))","v":{"$error":"#N/A"}},{"$f":"IF(A987=\"\",\"\",VLOOKUP(A987,[1]ItemConfig!$A:$D,4,FALSE))","v":{"$error":"#N/A"}},{"$f":"IF(A987=\"\",\"\",VLOOKUP(A987,[1]ItemConfig!$A:$C,3,FALSE))","v":{"$error":"#N/A"}},{"$f":"IF(A987=\"\",\"\",VLOOKUP(B987,#REF!,5,FALSE))","v":{"$error":"#N/A"}},{"$f":"IF(A987=\"\",\"\",VLOOKUP(C987,#REF!,5,FALSE))","v":{"$error":"#N/A"}}]
[300102,{"$f":"IF(A988=\"\",\"\",VLOOKUP(A988,[1]ItemConfig!$A:$B,2,FALSE))","v":{"$error":"#N/A"}},{"$f":"IF(A988=\"\",\"\",VLOOKUP(A988,[1]ItemConfig!$A:$D,4,FALSE))","v":{"$error":"#N/A"}},{"$f":"IF(A988=\"\",\"\",VLOOKUP(A988,[1]ItemConfig!$A:$C,3,FALSE))","v":{"$error":"#N/A"}},{"$f":"IF(A988=\"\",\"\",VLOOKUP(B988,#REF!,5,FALSE))","v":{"$error":"#N/A"}},{"$f":"IF(A988=\"\",\"\",VLOOKUP(C988,#REF!,5,FALSE))","v":{"$error":"#N/A"}}]
[300103,{"$f":"IF(A989=\"\",\"\",VLOOKUP(A989,[1]ItemConfig!$A:$B,2,FALSE))","v":{"$error":"#N/A"}},{"$f":"IF(A989=\"\",\"\",VLOOKUP(A989,[1]ItemConfig!$A:$D,4,FALSE))","v":{"$error":"#N/A"}},{"$f":"IF(A989=\"\",\"\",VLOOKUP(A989,[1]ItemConfig!$A:$C,3,FALSE))","v":{"$error":"#N/A"}},{"$f":"IF(A989=\"\",\"\",VLOOKUP(B989,#REF!,5,FALSE))","v":{"$error":"#N/A"}},{"$f":"IF(A989=\"\",\"\",VLOOKUP(C989,#REF!,5,FALSE))","v":{"$error":"#N/A"}}]
[300104,{"$f":"IF(A990=\"\",\"\",VLOOKUP(A990,[1]ItemConfig!$A:$B,2,FALSE))","v":{"$error":"#N/A"}},{"$f":"IF(A990=\"\",\"\",VLOOKUP(A990,[1]ItemConfig!$A:$D,4,FALSE))","v":{"$error":"#N/A"}},{"$f":"IF(A990=\"\",\"\",VLOOKUP(A990,[1]ItemConfig!$A:$C,3,FALSE))","v":{"$error":"#N/A"}},{"$f":"IF(A990=\"\",\"\",VLOOKUP(B990,#REF!,5,FALSE))","v":{"$error":"#N/A"}},{"$f":"IF(A990=\"\",\"\",VLOOKUP(C990,#REF!,5,FALSE))","v":{"$error":"#N/A"}}]
[300105,{"$f":"IF(A991=\"\",\"\",VLOOKUP(A991,[1]ItemConfig!$A:$B,2,FALSE))","v":{"$error":"#N/A"}},{"$f":"IF(A991=\"\",\"\",VLOOKUP(A991,[1]ItemConfig!$A:$D,4,FALSE))","v":{"$error":"#N/A"}},{"$f":"IF(A991=\"\",\"\",VLOOKUP(A991,[1]ItemConfig!$A:$C,3,FALSE))","v":{"$error":"#N/A"}},{"$f":"IF(A991=\"\",\"\",VLOOKUP(B991,#REF!,5,FALSE))","v":{"$error":"#N/A"}},{"$f":"IF(A991=\"\",\"\",VLOOKUP(C991,#REF!,5,FALSE))","v":{"$error":"#N/A"}}]
[300106,{"$f":"IF(A992=\"\",\"\",VLOOKUP(A992,[1]ItemConfig!$A:$B,2,FALSE))","v":{"$error":"#N/A"}},{"$f":"IF(A992=\"\",\"\",VLOOKUP(A992,[1]ItemConfig!$A:$D,4,FALSE))","v":{"$error":"#N/A"}},{"$f":"IF(A992=\"\",\"\",VLOOKUP(A992,[1]ItemConfig!$A:$C,3,FALSE))","v":{"$error":"#N/A"}},{"$f":"IF(A992=\"\",\"\",VLOOKUP(B992,#REF!,5,FALSE))","v":{"$error":"#N/A"}},{"$f":"IF(A992=\"\",\"\",VLOOKUP(C992,#REF!,5,FALSE))","v":{"$error":"#N/A"}}]
[300107,{"$f":"IF(A993=\"\",\"\",VLOOKUP(A993,[1]ItemConfig!$A:$B,2,FALSE))","v":{"$error":"#N/A"}},{"$f":"IF(A993=\"\",\"\",VLOOKUP(A993,[1]ItemConfig!$A:$D,4,FALSE))","v":{"$error":"#N/A"}},{"$f":"IF(A993=\"\",\"\",VLOOKUP(A993,[1]ItemConfig!$A:$C,3,FALSE))","v":{"$error":"#N/A"}},{"$f":"IF(A993=\"\",\"\",VLOOKUP(B993,#REF!,5,FALSE))","v":{"$error":"#N/A"}},{"$f":"IF(A993=\"\",\"\",VLOOKUP(C993,#REF!,5,FALSE))","v":{"$error":"#N/A"}}]
[300108,{"$f":"IF(A994=\"\",\"\",VLOOKUP(A994,[1]ItemConfig!$A:$B,2,FALSE))","v":{"$error":"#N/A"}},{"$f":"IF(A994=\"\",\"\",VLOOKUP(A994,[1]ItemConfig!$A:$D,4,FALSE))","v":{"$error":"#N/A"}},{"$f":"IF(A994=\"\",\"\",VLOOKUP(A994,[1]ItemConfig!$A:$C,3,FALSE))","v":{"$error":"#N/A"}},{"$f":"IF(A994=\"\",\"\",VLOOKUP(B994,#REF!,5,FALSE))","v":{"$error":"#N/A"}},{"$f":"IF(A994=\"\",\"\",VLOOKUP(C994,#REF!,5,FALSE))","v":{"$error":"#N/A"}}]
[300109,{"$f":"IF(A995=\"\",\"\",VLOOKUP(A995,[1]ItemConfig!$A:$B,2,FALSE))","v":{"$error":"#N/A"}},{"$f":"IF(A995=\"\",\"\",VLOOKUP(A995,[1]ItemConfig!$A:$D,4,FALSE))","v":{"$error":"#N/A"}},{"$f":"IF(A995=\"\",\"\",VLOOKUP(A995,[1]ItemConfig!$A:$C,3,FALSE))","v":{"$error":"#N/A"}},{"$f":"IF(A995=\"\",\"\",VLOOKUP(B995,#REF!,5,FALSE))","v":{"$error":"#N/A"}},{"$f":"IF(A995=\"\",\"\",VLOOKUP(C995,#REF!,5,FALSE))","v":{"$error":"#N/A"}}]
[300110,{"$f":"IF(A996=\"\",\"\",VLOOKUP(A996,[1]ItemConfig!$A:$B,2,FALSE))","v":{"$error":"#N/A"}},{"$f":"IF(A996=\"\",\"\",VLOOKUP(A996,[1]ItemConfig!$A:$D,4,FALSE))","v":{"$error":"#N/A"}},{"$f":"IF(A996=\"\",\"\",VLOOKUP(A996,[1]ItemConfig!$A:$C,3,FALSE))","v":{"$error":"#N/A"}},{"$f":"IF(A996=\"\",\"\",VLOOKUP(B996,#REF!,5,FALSE))","v":{"$error":"#N/A"}},{"$f":"IF(A996=\"\",\"\",VLOOKUP(C996,#REF!,5,FALSE))","v":{"$error":"#N/A"}}]
[300111,{"$f":"IF(A997=\"\",\"\",VLOOKUP(A997,[1]ItemConfig!$A:$B,2,FALSE))","v":{"$error":"#N/A"}},{"$f":"IF(A997=\"\",\"\",VLOOKUP(A997,[1]ItemConfig!$A:$D,4,FALSE))","v":{"$error":"#N/A"}},{"$f":"IF(A997=\"\",\"\",VLOOKUP(A997,[1]ItemConfig!$A:$C,3,FALSE))","v":{"$error":"#N/A"}},{"$f":"IF(A997=\"\",\"\",VLOOKUP(B997,#REF!,5,FALSE))","v":{"$error":"#N/A"}},{"$f":"IF(A997=\"\",\"\",VLOOKUP(C997,#REF!,5,FALSE))","v":{"$error":"#N/A"}}]
[300112,{"$f":"IF(A998=\"\",\"\",VLOOKUP(A998,[1]ItemConfig!$A:$B,2,FALSE))","v":{"$error":"#N/A"}},{"$f":"IF(A998=\"\",\"\",VLOOKUP(A998,[1]ItemConfig!$A:$D,4,FALSE))","v":{"$error":"#N/A"}},{"$f":"IF(A998=\"\",\"\",VLOOKUP(A998,[1]ItemConfig!$A:$C,3,FALSE))","v":{"$error":"#N/A"}},{"$f":"IF(A998=\"\",\"\",VLOOKUP(B998,#REF!,5,FALSE))","v":{"$error":"#N/A"}},{"$f":"IF(A998=\"\",\"\",VLOOKUP(C998,#REF!,5,FALSE))","v":{"$error":"#N/A"}}]
[300113,{"$f":"IF(A999=\"\",\"\",VLOOKUP(A999,[1]ItemConfig!$A:$B,2,FALSE))","v":{"$error":"#N/A"}},{"$f":"IF(A999=\"\",\"\",VLOOKUP(A999,[1]ItemConfig!$A:$D,4,FALSE))","v":{"$error":"#N/A"}},{"$f":"IF(A999=\"\",\"\",VLOOKUP(A999,[1]ItemConfig!$A:$C,3,FALSE))","v":{"$error":"#N/A"}},{"$f":"IF(A999=\"\",\"\",VLOOKUP(B999,#REF!,5,FALSE))","v":{"$error":"#N/A"}},{"$f":"IF(A999=\"\",\"\",VLOOKUP(C999,#REF!,5,FALSE))","v":{"$error":"#N/A"}}]
[300114,{"$f":"IF(A1000=\"\",\"\",VLOOKUP(A1000,[1]ItemConfig!$A:$B,2,FALSE))","v":{"$error":"#N/A"}},{"$f":"IF(A1000=\"\",\"\",VLOOKUP(A1000,[1]ItemConfig!$A:$D,4,FALSE))","v":{"$error":"#N/A"}},{"$f":"IF(A1000=\"\",\"\",VLOOKUP(A1000,[1]ItemConfig!$A:$C,3,FALSE))","v":{"$error":"#N/A"}},{"$f":"IF(A1000=\"\",\"\",VLOOKUP(B1000,#REF!,5,FALSE))","v":{"$error":"#N/A"}},{"$f":"IF(A1000=\"\",\"\",VLOOKUP(C1000,#REF!,5,FALSE))","v":{"$error":"#N/A"}}]
[300115,{"$f":"IF(A1001=\"\",\"\",VLOOKUP(A1001,[1]ItemConfig!$A:$B,2,FALSE))","v":{"$error":"#N/A"}},{"$f":"IF(A1001=\"\",\"\",VLOOKUP(A1001,[1]ItemConfig!$A:$D,4,FALSE))","v":{"$error":"#N/A"}},{"$f":"IF(A1001=\"\",\"\",VLOOKUP(A1001,[1]ItemConfig!$A:$C,3,FALSE))","v":{"$error":"#N/A"}},{"$f":"IF(A1001=\"\",\"\",VLOOKUP(B1001,#REF!,5,FALSE))","v":{"$error":"#N/A"}},{"$f":"IF(A1001=\"\",\"\",VLOOKUP(C1001,#REF!,5,FALSE))","v":{"$error":"#N/A"}}]
[300116,{"$f":"IF(A1002=\"\",\"\",VLOOKUP(A1002,[1]ItemConfig!$A:$B,2,FALSE))","v":{"$error":"#N/A"}},{"$f":"IF(A1002=\"\",\"\",VLOOKUP(A1002,[1]ItemConfig!$A:$D,4,FALSE))","v":{"$error":"#N/A"}},{"$f":"IF(A1002=\"\",\"\",VLOOKUP(A1002,[1]ItemConfig!$A:$C,3,FALSE))","v":{"$error":"#N/A"}},{"$f":"IF(A1002=\"\",\"\",VLOOKUP(B1002,#REF!,5,FALSE))","v":{"$error":"#N/A"}},{"$f":"IF(A1002=\"\",\"\",VLOOKUP(C1002,#REF!,5,FALSE))","v":{"$error":"#N/A"}}]
[300117,{"$f":"IF(A1003=\"\",\"\",VLOOKUP(A1003,[1]ItemConfig!$A:$B,2,FALSE))","v":{"$error":"#N/A"}},{"$f":"IF(A1003=\"\",\"\",VLOOKUP(A1003,[1]ItemConfig!$A:$D,4,FALSE))","v":{"$error":"#N/A"}},{"$f":"IF(A1003=\"\",\"\",VLOOKUP(A1003,[1]ItemConfig!$A:$C,3,FALSE))","v":{"$error":"#N/A"}},{"$f":"IF(A1003=\"\",\"\",VLOOKUP(B1003,#REF!,5,FALSE))","v":{"$error":"#N/A"}},{"$f":"IF(A1003=\"\",\"\",VLOOKUP(C1003,#REF!,5,FALSE))","v":{"$error":"#N/A"}}]
[300118,{"$f":"IF(A1004=\"\",\"\",VLOOKUP(A1004,[1]ItemConfig!$A:$B,2,FALSE))","v":{"$error":"#N/A"}},{"$f":"IF(A1004=\"\",\"\",VLOOKUP(A1004,[1]ItemConfig!$A:$D,4,FALSE))","v":{"$error":"#N/A"}},{"$f":"IF(A1004=\"\",\"\",VLOOKUP(A1004,[1]ItemConfig!$A:$C,3,FALSE))","v":{"$error":"#N/A"}},{"$f":"IF(A1004=\"\",\"\",VLOOKUP(B1004,#REF!,5,FALSE))","v":{"$error":"#N/A"}},{"$f":"IF(A1004=\"\",\"\",VLOOKUP(C1004,#REF!,5,FALSE))","v":{"$error":"#N/A"}}]
[300119,{"$f":"IF(A1005=\"\",\"\",VLOOKUP(A1005,[1]ItemConfig!$A:$B,2,FALSE))","v":{"$error":"#N/A"}},{"$f":"IF(A1005=\"\",\"\",VLOOKUP(A1005,[1]ItemConfig!$A:$D,4,FALSE))","v":{"$error":"#N/A"}},{"$f":"IF(A1005=\"\",\"\",VLOOKUP(A1005,[1]ItemConfig!$A:$C,3,FALSE))","v":{"$error":"#N/A"}},{"$f":"IF(A1005=\"\",\"\",VLOOKUP(B1005,#REF!,5,FALSE))","v":{"$error":"#N/A"}},{"$f":"IF(A1005=\"\",\"\",VLOOKUP(C1005,#REF!,5,FALSE))","v":{"$error":"#N/A"}}]
[300120,{"$f":"IF(A1006=\"\",\"\",VLOOKUP(A1006,[1]ItemConfig!$A:$B,2,FALSE))","v":{"$error":"#N/A"}},{"$f":"IF(A1006=\"\",\"\",VLOOKUP(A1006,[1]ItemConfig!$A:$D,4,FALSE))","v":{"$error":"#N/A"}},{"$f":"IF(A1006=\"\",\"\",VLOOKUP(A1006,[1]ItemConfig!$A:$C,3,FALSE))","v":{"$error":"#N/A"}},{"$f":"IF(A1006=\"\",\"\",VLOOKUP(B1006,#REF!,5,FALSE))","v":{"$error":"#N/A"}},{"$f":"IF(A1006=\"\",\"\",VLOOKUP(C1006,#REF!,5,FALSE))","v":{"$error":"#N/A"}}]
[300121,{"$f":"IF(A1007=\"\",\"\",VLOOKUP(A1007,[1]ItemConfig!$A:$B,2,FALSE))","v":{"$error":"#N/A"}},{"$f":"IF(A1007=\"\",\"\",VLOOKUP(A1007,[1]ItemConfig!$A:$D,4,FALSE))","v":{"$error":"#N/A"}},{"$f":"IF(A1007=\"\",\"\",VLOOKUP(A1007,[1]ItemConfig!$A:$C,3,FALSE))","v":{"$error":"#N/A"}},{"$f":"IF(A1007=\"\",\"\",VLOOKUP(B1007,#REF!,5,FALSE))","v":{"$error":"#N/A"}},{"$f":"IF(A1007=\"\",\"\",VLOOKUP(C1007,#REF!,5,FALSE))","v":{"$error":"#N/A"}}]
[300122,{"$f":"IF(A1008=\"\",\"\",VLOOKUP(A1008,[1]ItemConfig!$A:$B,2,FALSE))","v":{"$error":"#N/A"}},{"$f":"IF(A1008=\"\",\"\",VLOOKUP(A1008,[1]ItemConfig!$A:$D,4,FALSE))","v":{"$error":"#N/A"}},{"$f":"IF(A1008=\"\",\"\",VLOOKUP(A1008,[1]ItemConfig!$A:$C,3,FALSE))","v":{"$error":"#N/A"}},{"$f":"IF(A1008=\"\",\"\",VLOOKUP(B1008,#REF!,5,FALSE))","v":{"$error":"#N/A"}},{"$f":"IF(A1008=\"\",\"\",VLOOKUP(C1008,#REF!,5,FALSE))","v":{"$error":"#N/A"}}]
[300123,{"$f":"IF(A1009=\"\",\"\",VLOOKUP(A1009,[1]ItemConfig!$A:$B,2,FALSE))","v":{"$error":"#N/A"}},{"$f":"IF(A1009=\"\",\"\",VLOOKUP(A1009,[1]ItemConfig!$A:$D,4,FALSE))","v":{"$error":"#N/A"}},{"$f":"IF(A1009=\"\",\"\",VLOOKUP(A1009,[1]ItemConfig!$A:$C,3,FALSE))","v":{"$error":"#N/A"}},{"$f":"IF(A1009=\"\",\"\",VLOOKUP(B1009,#REF!,5,FALSE))","v":{"$error":"#N/A"}},{"$f":"IF(A1009=\"\",\"\",VLOOKUP(C1009,#REF!,5,FALSE))","v":{"$error":"#N/A"}}]
[300124,{"$f":"IF(A1010=\"\",\"\",VLOOKUP(A1010,[1]ItemConfig!$A:$B,2,FALSE))","v":{"$error":"#N/A"}},{"$f":"IF(A1010=\"\",\"\",VLOOKUP(A1010,[1]ItemConfig!$A:$D,4,FALSE))","v":{"$error":"#N/A"}},{"$f":"IF(A1010=\"\",\"\",VLOOKUP(A1010,[1]ItemConfig!$A:$C,3,FALSE))","v":{"$error":"#N/A"}},{"$f":"IF(A1010=\"\",\"\",VLOOKUP(B1010,#REF!,5,FALSE))","v":{"$error":"#N/A"}},{"$f":"IF(A1010=\"\",\"\",VLOOKUP(C1010,#REF!,5,FALSE))","v":{"$error":"#N/A"}}]
[300125,{"$f":"IF(A1011=\"\",\"\",VLOOKUP(A1011,[1]ItemConfig!$A:$B,2,FALSE))","v":{"$error":"#N/A"}},{"$f":"IF(A1011=\"\",\"\",VLOOKUP(A1011,[1]ItemConfig!$A:$D,4,FALSE))","v":{"$error":"#N/A"}},{"$f":"IF(A1011=\"\",\"\",VLOOKUP(A1011,[1]ItemConfig!$A:$C,3,FALSE))","v":{"$error":"#N/A"}},{"$f":"IF(A1011=\"\",\"\",VLOOKUP(B1011,#REF!,5,FALSE))","v":{"$error":"#N/A"}},{"$f":"IF(A1011=\"\",\"\",VLOOKUP(C1011,#REF!,5,FALSE))","v":{"$error":"#N/A"}}]
[300126,{"$f":"IF(A1012=\"\",\"\",VLOOKUP(A1012,[1]ItemConfig!$A:$B,2,FALSE))","v":{"$error":"#N/A"}},{"$f":"IF(A1012=\"\",\"\",VLOOKUP(A1012,[1]ItemConfig!$A:$D,4,FALSE))","v":{"$error":"#N/A"}},{"$f":"IF(A1012=\"\",\"\",VLOOKUP(A1012,[1]ItemConfig!$A:$C,3,FALSE))","v":{"$error":"#N/A"}},{"$f":"IF(A1012=\"\",\"\",VLOOKUP(B1012,#REF!,5,FALSE))","v":{"$error":"#N/A"}},{"$f":"IF(A1012=\"\",\"\",VLOOKUP(C1012,#REF!,5,FALSE))","v":{"$error":"#N/A"}}]
[300127,{"$f":"IF(A1013=\"\",\"\",VLOOKUP(A1013,[1]ItemConfig!$A:$B,2,FALSE))","v":{"$error":"#N/A"}},{"$f":"IF(A1013=\"\",\"\",VLOOKUP(A1013,[1]ItemConfig!$A:$D,4,FALSE))","v":{"$error":"#N/A"}},{"$f":"IF(A1013=\"\",\"\",VLOOKUP(A1013,[1]ItemConfig!$A:$C,3,FALSE))","v":{"$error":"#N/A"}},{"$f":"IF(A1013=\"\",\"\",VLOOKUP(B1013,#REF!,5,FALSE))","v":{"$error":"#N/A"}},{"$f":"IF(A1013=\"\",\"\",VLOOKUP(C1013,#REF!,5,FALSE))","v":{"$error":"#N/A"}}]
[300128,{"$f":"IF(A1014=\"\",\"\",VLOOKUP(A1014,[1]ItemConfig!$A:$B,2,FALSE))","v":{"$error":"#N/A"}},{"$f":"IF(A1014=\"\",\"\",VLOOKUP(A1014,[1]ItemConfig!$A:$D,4,FALSE))","v":{"$error":"#N/A"}},{"$f":"IF(A1014=\"\",\"\",VLOOKUP(A1014,[1]ItemConfig!$A:$C,3,FALSE))","v":{"$error":"#N/A"}},{"$f":"IF(A1014=\"\",\"\",VLOOKUP(B1014,#REF!,5,FALSE))","v":{"$error":"#N/A"}},{"$f":"IF(A1014=\"\",\"\",VLOOKUP(C1014,#REF!,5,FALSE))","v":{"$error":"#N/A"}}]
[300129,{"$f":"IF(A1015=\"\",\"\",VLOOKUP(A1015,[1]ItemConfig!$A:$B,2,FALSE))","v":{"$error":"#N/A"}},{"$f":"IF(A1015=\"\",\"\",VLOOKUP(A1015,[1]ItemConfig!$A:$D,4,FALSE))","v":{"$error":"#N/A"}},{"$f":"IF(A1015=\"\",\"\",VLOOKUP(A1015,[1]ItemConfig!$A:$C,3,FALSE))","v":{"$error":"#N/A"}},{"$f":"IF(A1015=\"\",\"\",VLOOKUP(B1015,#REF!,5,FALSE))","v":{"$error":"#N/A"}},{"$f":"IF(A1015=\"\",\"\",VLOOKUP(C1015,#REF!,5,FALSE))","v":{"$error":"#N/A"}}]
[300130,{"$f":"IF(A1016=\"\",\"\",VLOOKUP(A1016,[1]ItemConfig!$A:$B,2,FALSE))","v":{"$error":"#N/A"}},{"$f":"IF(A1016=\"\",\"\",VLOOKUP(A1016,[1]ItemConfig!$A:$D,4,FALSE))","v":{"$error":"#N/A"}},{"$f":"IF(A1016=\"\",\"\",VLOOKUP(A1016,[1]ItemConfig!$A:$C,3,FALSE))","v":{"$error":"#N/A"}},{"$f":"IF(A1016=\"\",\"\",VLOOKUP(B1016,#REF!,5,FALSE))","v":{"$error":"#N/A"}},{"$f":"IF(A1016=\"\",\"\",VLOOKUP(C1016,#REF!,5,FALSE))","v":{"$error":"#N/A"}}]
[300131,{"$f":"IF(A1017=\"\",\"\",VLOOKUP(A1017,[1]ItemConfig!$A:$B,2,FALSE))","v":{"$error":"#N/A"}},{"$f":"IF(A1017=\"\",\"\",VLOOKUP(A1017,[1]ItemConfig!$A:$D,4,FALSE))","v":{"$error":"#N/A"}},{"$f":"IF(A1017=\"\",\"\",VLOOKUP(A1017,[1]ItemConfig!$A:$C,3,FALSE))","v":{"$error":"#N/A"}},{"$f":"IF(A1017=\"\",\"\",VLOOKUP(B1017,#REF!,5,FALSE))","v":{"$error":"#N/A"}},{"$f":"IF(A1017=\"\",\"\",VLOOKUP(C1017,#REF!,5,FALSE))","v":{"$error":"#N/A"}}]
[300132,{"$f":"IF(A1018=\"\",\"\",VLOOKUP(A1018,[1]ItemConfig!$A:$B,2,FALSE))","v":{"$error":"#N/A"}},{"$f":"IF(A1018=\"\",\"\",VLOOKUP(A1018,[1]ItemConfig!$A:$D,4,FALSE))","v":{"$error":"#N/A"}},{"$f":"IF(A1018=\"\",\"\",VLOOKUP(A1018,[1]ItemConfig!$A:$C,3,FALSE))","v":{"$error":"#N/A"}},{"$f":"IF(A1018=\"\",\"\",VLOOKUP(B1018,#REF!,5,FALSE))","v":{"$error":"#N/A"}},{"$f":"IF(A1018=\"\",\"\",VLOOKUP(C1018,#REF!,5,FALSE))","v":{"$error":"#N/A"}}]
[300133,{"$f":"IF(A1019=\"\",\"\",VLOOKUP(A1019,[1]ItemConfig!$A:$B,2,FALSE))","v":{"$error":"#N/A"}},{"$f":"IF(A1019=\"\",\"\",VLOOKUP(A1019,[1]ItemConfig!$A:$D,4,FALSE))","v":{"$error":"#N/A"}},{"$f":"IF(A1019=\"\",\"\",VLOOKUP(A1019,[1]ItemConfig!$A:$C,3,FALSE))","v":{"$error":"#N/A"}},{"$f":"IF(A1019=\"\",\"\",VLOOKUP(B1019,#REF!,5,FALSE))","v":{"$error":"#N/A"}},{"$f":"IF(A1019=\"\",\"\",VLOOKUP(C1019,#REF!,5,FALSE))","v":{"$error":"#N/A"}}]
[300134,{"$f":"IF(A1020=\"\",\"\",VLOOKUP(A1020,[1]ItemConfig!$A:$B,2,FALSE))","v":{"$error":"#N/A"}},{"$f":"IF(A1020=\"\",\"\",VLOOKUP(A1020,[1]ItemConfig!$A:$D,4,FALSE))","v":{"$error":"#N/A"}},{"$f":"IF(A1020=\"\",\"\",VLOOKUP(A1020,[1]ItemConfig!$A:$C,3,FALSE))","v":{"$error":"#N/A"}},{"$f":"IF(A1020=\"\",\"\",VLOOKUP(B1020,#REF!,5,FALSE))","v":{"$error":"#N/A"}},{"$f":"IF(A1020=\"\",\"\",VLOOKUP(C1020,#REF!,5,FALSE))","v":{"$error":"#N/A"}}]
[300135,{"$f":"IF(A1021=\"\",\"\",VLOOKUP(A1021,[1]ItemConfig!$A:$B,2,FALSE))","v":{"$error":"#N/A"}},{"$f":"IF(A1021=\"\",\"\",VLOOKUP(A1021,[1]ItemConfig!$A:$D,4,FALSE))","v":{"$error":"#N/A"}},{"$f":"IF(A1021=\"\",\"\",VLOOKUP(A1021,[1]ItemConfig!$A:$C,3,FALSE))","v":{"$error":"#N/A"}},{"$f":"IF(A1021=\"\",\"\",VLOOKUP(B1021,#REF!,5,FALSE))","v":{"$error":"#N/A"}},{"$f":"IF(A1021=\"\",\"\",VLOOKUP(C1021,#REF!,5,FALSE))","v":{"$error":"#N/A"}}]
[300136,{"$f":"IF(A1022=\"\",\"\",VLOOKUP(A1022,[1]ItemConfig!$A:$B,2,FALSE))","v":{"$error":"#N/A"}},{"$f":"IF(A1022=\"\",\"\",VLOOKUP(A1022,[1]ItemConfig!$A:$D,4,FALSE))","v":{"$error":"#N/A"}},{"$f":"IF(A1022=\"\",\"\",VLOOKUP(A1022,[1]ItemConfig!$A:$C,3,FALSE))","v":{"$error":"#N/A"}},{"$f":"IF(A1022=\"\",\"\",VLOOKUP(B1022,#REF!,5,FALSE))","v":{"$error":"#N/A"}},{"$f":"IF(A1022=\"\",\"\",VLOOKUP(C1022,#REF!,5,FALSE))","v":{"$error":"#N/A"}}]
[300137,{"$f":"IF(A1023=\"\",\"\",VLOOKUP(A1023,[1]ItemConfig!$A:$B,2,FALSE))","v":{"$error":"#N/A"}},{"$f":"IF(A1023=\"\",\"\",VLOOKUP(A1023,[1]ItemConfig!$A:$D,4,FALSE))","v":{"$error":"#N/A"}},{"$f":"IF(A1023=\"\",\"\",VLOOKUP(A1023,[1]ItemConfig!$A:$C,3,FALSE))","v":{"$error":"#N/A"}},{"$f":"IF(A1023=\"\",\"\",VLOOKUP(B1023,#REF!,5,FALSE))","v":{"$error":"#N/A"}},{"$f":"IF(A1023=\"\",\"\",VLOOKUP(C1023,#REF!,5,FALSE))","v":{"$error":"#N/A"}}]
[300138,{"$f":"IF(A1024=\"\",\"\",VLOOKUP(A1024,[1]ItemConfig!$A:$B,2,FALSE))","v":{"$error":"#N/A"}},{"$f":"IF(A1024=\"\",\"\",VLOOKUP(A1024,[1]ItemConfig!$A:$D,4,FALSE))","v":{"$error":"#N/A"}},{"$f":"IF(A1024=\"\",\"\",VLOOKUP(A1024,[1]ItemConfig!$A:$C,3,FALSE))","v":{"$error":"#N/A"}},{"$f":"IF(A1024=\"\",\"\",VLOOKUP(B1024,#REF!,5,FALSE))","v":{"$error":"#N/A"}},{"$f":"IF(A1024=\"\",\"\",VLOOKUP(C1024,#REF!,5,FALSE))","v":{"$error":"#N/A"}}]
[300139,{"$f":"IF(A1025=\"\",\"\",VLOOKUP(A1025,[1]ItemConfig!$A:$B,2,FALSE))","v":{"$error":"#N/A"}},{"$f":"IF(A1025=\"\",\"\",VLOOKUP(A1025,[1]ItemConfig!$A:$D,4,FALSE))","v":{"$error":"#N/A"}},{"$f":"IF(A1025=\"\",\"\",VLOOKUP(A1025,[1]ItemConfig!$A:$C,3,FALSE))","v":{"$error":"#N/A"}},{"$f":"IF(A1025=\"\",\"\",VLOOKUP(B1025,#REF!,5,FALSE))","v":{"$error":"#N/A"}},{"$f":"IF(A1025=\"\",\"\",VLOOKUP(C1025,#REF!,5,FALSE))","v":{"$error":"#N/A"}}]
[300140,{"$f":"IF(A1026=\"\",\"\",VLOOKUP(A1026,[1]ItemConfig!$A:$B,2,FALSE))","v":{"$error":"#N/A"}},{"$f":"IF(A1026=\"\",\"\",VLOOKUP(A1026,[1]ItemConfig!$A:$D,4,FALSE))","v":{"$error":"#N/A"}},{"$f":"IF(A1026=\"\",\"\",VLOOKUP(A1026,[1]ItemConfig!$A:$C,3,FALSE))","v":{"$error":"#N/A"}},{"$f":"IF(A1026=\"\",\"\",VLOOKUP(B1026,#REF!,5,FALSE))","v":{"$error":"#N/A"}},{"$f":"IF(A1026=\"\",\"\",VLOOKUP(C1026,#REF!,5,FALSE))","v":{"$error":"#N/A"}}]
[300141,{"$f":"IF(A1027=\"\",\"\",VLOOKUP(A1027,[1]ItemConfig!$A:$B,2,FALSE))","v":{"$error":"#N/A"}},{"$f":"IF(A1027=\"\",\"\",VLOOKUP(A1027,[1]ItemConfig!$A:$D,4,FALSE))","v":{"$error":"#N/A"}},{"$f":"IF(A1027=\"\",\"\",VLOOKUP(A1027,[1]ItemConfig!$A:$C,3,FALSE))","v":{"$error":"#N/A"}},{"$f":"IF(A1027=\"\",\"\",VLOOKUP(B1027,#REF!,5,FALSE))","v":{"$error":"#N/A"}},{"$f":"IF(A1027=\"\",\"\",VLOOKUP(C1027,#REF!,5,FALSE))","v":{"$error":"#N/A"}}]
[300142,{"$f":"IF(A1028=\"\",\"\",VLOOKUP(A1028,[1]ItemConfig!$A:$B,2,FALSE))","v":{"$error":"#N/A"}},{"$f":"IF(A1028=\"\",\"\",VLOOKUP(A1028,[1]ItemConfig!$A:$D,4,FALSE))","v":{"$error":"#N/A"}},{"$f":"IF(A1028=\"\",\"\",VLOOKUP(A1028,[1]ItemConfig!$A:$C,3,FALSE))","v":{"$error":"#N/A"}},{"$f":"IF(A1028=\"\",\"\",VLOOKUP(B1028,#REF!,5,FALSE))","v":{"$error":"#N/A"}},{"$f":"IF(A1028=\"\",\"\",VLOOKUP(C1028,#REF!,5,FALSE))","v":{"$error":"#N/A"}}]
[300143,{"$f":"IF(A1029=\"\",\"\",VLOOKUP(A1029,[1]ItemConfig!$A:$B,2,FALSE))","v":{"$error":"#N/A"}},{"$f":"IF(A1029=\"\",\"\",VLOOKUP(A1029,[1]ItemConfig!$A:$D,4,FALSE))","v":{"$error":"#N/A"}},{"$f":"IF(A1029=\"\",\"\",VLOOKUP(A1029,[1]ItemConfig!$A:$C,3,FALSE))","v":{"$error":"#N/A"}},{"$f":"IF(A1029=\"\",\"\",VLOOKUP(B1029,#REF!,5,FALSE))","v":{"$error":"#N/A"}},{"$f":"IF(A1029=\"\",\"\",VLOOKUP(C1029,#REF!,5,FALSE))","v":{"$error":"#N/A"}}]
[300144,{"$f":"IF(A1030=\"\",\"\",VLOOKUP(A1030,[1]ItemConfig!$A:$B,2,FALSE))","v":{"$error":"#N/A"}},{"$f":"IF(A1030=\"\",\"\",VLOOKUP(A1030,[1]ItemConfig!$A:$D,4,FALSE))","v":{"$error":"#N/A"}},{"$f":"IF(A1030=\"\",\"\",VLOOKUP(A1030,[1]ItemConfig!$A:$C,3,FALSE))","v":{"$error":"#N/A"}},{"$f":"IF(A1030=\"\",\"\",VLOOKUP(B1030,#REF!,5,FALSE))","v":{"$error":"#N/A"}},{"$f":"IF(A1030=\"\",\"\",VLOOKUP(C1030,#REF!,5,FALSE))","v":{"$error":"#N/A"}}]
[300145,{"$f":"IF(A1031=\"\",\"\",VLOOKUP(A1031,[1]ItemConfig!$A:$B,2,FALSE))","v":{"$error":"#N/A"}},{"$f":"IF(A1031=\"\",\"\",VLOOKUP(A1031,[1]ItemConfig!$A:$D,4,FALSE))","v":{"$error":"#N/A"}},{"$f":"IF(A1031=\"\",\"\",VLOOKUP(A1031,[1]ItemConfig!$A:$C,3,FALSE))","v":{"$error":"#N/A"}},{"$f":"IF(A1031=\"\",\"\",VLOOKUP(B1031,#REF!,5,FALSE))","v":{"$error":"#N/A"}},{"$f":"IF(A1031=\"\",\"\",VLOOKUP(C1031,#REF!,5,FALSE))","v":{"$error":"#N/A"}}]
[300146,{"$f":"IF(A1032=\"\",\"\",VLOOKUP(A1032,[1]ItemConfig!$A:$B,2,FALSE))","v":{"$error":"#N/A"}},{"$f":"IF(A1032=\"\",\"\",VLOOKUP(A1032,[1]ItemConfig!$A:$D,4,FALSE))","v":{"$error":"#N/A"}},{"$f":"IF(A1032=\"\",\"\",VLOOKUP(A1032,[1]ItemConfig!$A:$C,3,FALSE))","v":{"$error":"#N/A"}},{"$f":"IF(A1032=\"\",\"\",VLOOKUP(B1032,#REF!,5,FALSE))","v":{"$error":"#N/A"}},{"$f":"IF(A1032=\"\",\"\",VLOOKUP(C1032,#REF!,5,FALSE))","v":{"$error":"#N/A"}}]
[300147,{"$f":"IF(A1033=\"\",\"\",VLOOKUP(A1033,[1]ItemConfig!$A:$B,2,FALSE))","v":{"$error":"#N/A"}},{"$f":"IF(A1033=\"\",\"\",VLOOKUP(A1033,[1]ItemConfig!$A:$D,4,FALSE))","v":{"$error":"#N/A"}},{"$f":"IF(A1033=\"\",\"\",VLOOKUP(A1033,[1]ItemConfig!$A:$C,3,FALSE))","v":{"$error":"#N/A"}},{"$f":"IF(A1033=\"\",\"\",VLOOKUP(B1033,#REF!,5,FALSE))","v":{"$error":"#N/A"}},{"$f":"IF(A1033=\"\",\"\",VLOOKUP(C1033,#REF!,5,FALSE))","v":{"$error":"#N/A"}}]
[300148,{"$f":"IF(A1034=\"\",\"\",VLOOKUP(A1034,[1]ItemConfig!$A:$B,2,FALSE))","v":{"$error":"#N/A"}},{"$f":"IF(A1034=\"\",\"\",VLOOKUP(A1034,[1]ItemConfig!$A:$D,4,FALSE))","v":{"$error":"#N/A"}},{"$f":"IF(A1034=\"\",\"\",VLOOKUP(A1034,[1]ItemConfig!$A:$C,3,FALSE))","v":{"$error":"#N/A"}},{"$f":"IF(A1034=\"\",\"\",VLOOKUP(B1034,#REF!,5,FALSE))","v":{"$error":"#N/A"}},{"$f":"IF(A1034=\"\",\"\",VLOOKUP(C1034,#REF!,5,FALSE))","v":{"$error":"#N/A"}}]
[300149,{"$f":"IF(A1035=\"\",\"\",VLOOKUP(A1035,[1]ItemConfig!$A:$B,2,FALSE))","v":{"$error":"#N/A"}},{"$f":"IF(A1035=\"\",\"\",VLOOKUP(A1035,[1]ItemConfig!$A:$D,4,FALSE))","v":{"$error":"#N/A"}},{"$f":"IF(A1035=\"\",\"\",VLOOKUP(A1035,[1]ItemConfig!$A:$C,3,FALSE))","v":{"$error":"#N/A"}},{"$f":"IF(A1035=\"\",\"\",VLOOKUP(B1035,#REF!,5,FALSE))","v":{"$error":"#N/A"}},{"$f":"IF(A1035=\"\",\"\",VLOOKUP(C1035,#REF!,5,FALSE))","v":{"$error":"#N/A"}}]
[300150,{"$f":"IF(A1036=\"\",\"\",VLOOKUP(A1036,[1]ItemConfig!$A:$B,2,FALSE))","v":{"$error":"#N/A"}},{"$f":"IF(A1036=\"\",\"\",VLOOKUP(A1036,[1]ItemConfig!$A:$D,4,FALSE))","v":{"$error":"#N/A"}},{"$f":"IF(A1036=\"\",\"\",VLOOKUP(A1036,[1]ItemConfig!$A:$C,3,FALSE))","v":{"$error":"#N/A"}},{"$f":"IF(A1036=\"\",\"\",VLOOKUP(B1036,#REF!,5,FALSE))","v":{"$error":"#N/A"}},{"$f":"IF(A1036=\"\",\"\",VLOOKUP(C1036,#REF!,5,FALSE))","v":{"$error":"#N/A"}}]
[300151,{"$f":"IF(A1037=\"\",\"\",VLOOKUP(A1037,[1]ItemConfig!$A:$B,2,FALSE))","v":{"$error":"#N/A"}},{"$f":"IF(A1037=\"\",\"\",VLOOKUP(A1037,[1]ItemConfig!$A:$D,4,FALSE))","v":{"$error":"#N/A"}},{"$f":"IF(A1037=\"\",\"\",VLOOKUP(A1037,[1]ItemConfig!$A:$C,3,FALSE))","v":{"$error":"#N/A"}},{"$f":"IF(A1037=\"\",\"\",VLOOKUP(B1037,#REF!,5,FALSE))","v":{"$error":"#N/A"}},{"$f":"IF(A1037=\"\",\"\",VLOOKUP(C1037,#REF!,5,FALSE))","v":{"$error":"#N/A"}}]
[300152,{"$f":"IF(A1038=\"\",\"\",VLOOKUP(A1038,[1]ItemConfig!$A:$B,2,FALSE))","v":{"$error":"#N/A"}},{"$f":"IF(A1038=\"\",\"\",VLOOKUP(A1038,[1]ItemConfig!$A:$D,4,FALSE))","v":{"$error":"#N/A"}},{"$f":"IF(A1038=\"\",\"\",VLOOKUP(A1038,[1]ItemConfig!$A:$C,3,FALSE))","v":{"$error":"#N/A"}},{"$f":"IF(A1038=\"\",\"\",VLOOKUP(B1038,#REF!,5,FALSE))","v":{"$error":"#N/A"}},{"$f":"IF(A1038=\"\",\"\",VLOOKUP(C1038,#REF!,5,FALSE))","v":{"$error":"#N/A"}}]
[300153,{"$f":"IF(A1039=\"\",\"\",VLOOKUP(A1039,[1]ItemConfig!$A:$B,2,FALSE))","v":{"$error":"#N/A"}},{"$f":"IF(A1039=\"\",\"\",VLOOKUP(A1039,[1]ItemConfig!$A:$D,4,FALSE))","v":{"$error":"#N/A"}},{"$f":"IF(A1039=\"\",\"\",VLOOKUP(A1039,[1]ItemConfig!$A:$C,3,FALSE))","v":{"$error":"#N/A"}},{"$f":"IF(A1039=\"\",\"\",VLOOKUP(B1039,#REF!,5,FALSE))","v":{"$error":"#N/A"}},{"$f":"IF(A1039=\"\",\"\",VLOOKUP(C1039,#REF!,5,FALSE))","v":{"$error":"#N/A"}}]
[300154,{"$f":"IF(A1040=\"\",\"\",VLOOKUP(A1040,[1]ItemConfig!$A:$B,2,FALSE))","v":{"$error":"#N/A"}},{"$f":"IF(A1040=\"\",\"\",VLOOKUP(A1040,[1]ItemConfig!$A:$D,4,FALSE))","v":{"$error":"#N/A"}},{"$f":"IF(A1040=\"\",\"\",VLOOKUP(A1040,[1]ItemConfig!$A:$C,3,FALSE))","v":{"$error":"#N/A"}},{"$f":"IF(A1040=\"\",\"\",VLOOKUP(B1040,#REF!,5,FALSE))","v":{"$error":"#N/A"}},{"$f":"IF(A1040=\"\",\"\",VLOOKUP(C1040,#REF!,5,FALSE))","v":{"$error":"#N/A"}}]
[300155,{"$f":"IF(A1041=\"\",\"\",VLOOKUP(A1041,[1]ItemConfig!$A:$B,2,FALSE))","v":{"$error":"#N/A"}},{"$f":"IF(A1041=\"\",\"\",VLOOKUP(A1041,[1]ItemConfig!$A:$D,4,FALSE))","v":{"$error":"#N/A"}},{"$f":"IF(A1041=\"\",\"\",VLOOKUP(A1041,[1]ItemConfig!$A:$C,3,FALSE))","v":{"$error":"#N/A"}},{"$f":"IF(A1041=\"\",\"\",VLOOKUP(B1041,#REF!,5,FALSE))","v":{"$error":"#N/A"}},{"$f":"IF(A1041=\"\",\"\",VLOOKUP(C1041,#REF!,5,FALSE))","v":{"$error":"#N/A"}}]
[300156,{"$f":"IF(A1042=\"\",\"\",VLOOKUP(A1042,[1]ItemConfig!$A:$B,2,FALSE))","v":{"$error":"#N/A"}},{"$f":"IF(A1042=\"\",\"\",VLOOKUP(A1042,[1]ItemConfig!$A:$D,4,FALSE))","v":{"$error":"#N/A"}},{"$f":"IF(A1042=\"\",\"\",VLOOKUP(A1042,[1]ItemConfig!$A:$C,3,FALSE))","v":{"$error":"#N/A"}},{"$f":"IF(A1042=\"\",\"\",VLOOKUP(B1042,#REF!,5,FALSE))","v":{"$error":"#N/A"}},{"$f":"IF(A1042=\"\",\"\",VLOOKUP(C1042,#REF!,5,FALSE))","v":{"$error":"#N/A"}}]
[300157,{"$f":"IF(A1043=\"\",\"\",VLOOKUP(A1043,[1]ItemConfig!$A:$B,2,FALSE))","v":{"$error":"#N/A"}},{"$f":"IF(A1043=\"\",\"\",VLOOKUP(A1043,[1]ItemConfig!$A:$D,4,FALSE))","v":{"$error":"#N/A"}},{"$f":"IF(A1043=\"\",\"\",VLOOKUP(A1043,[1]ItemConfig!$A:$C,3,FALSE))","v":{"$error":"#N/A"}},{"$f":"IF(A1043=\"\",\"\",VLOOKUP(B1043,#REF!,5,FALSE))","v":{"$error":"#N/A"}},{"$f":"IF(A1043=\"\",\"\",VLOOKUP(C1043,#REF!,5,FALSE))","v":{"$error":"#N/A"}}]
[300158,{"$f":"IF(A1044=\"\",\"\",VLOOKUP(A1044,[1]ItemConfig!$A:$B,2,FALSE))","v":{"$error":"#N/A"}},{"$f":"IF(A1044=\"\",\"\",VLOOKUP(A1044,[1]ItemConfig!$A:$D,4,FALSE))","v":{"$error":"#N/A"}},{"$f":"IF(A1044=\"\",\"\",VLOOKUP(A1044,[1]ItemConfig!$A:$C,3,FALSE))","v":{"$error":"#N/A"}},{"$f":"IF(A1044=\"\",\"\",VLOOKUP(B1044,#REF!,5,FALSE))","v":{"$error":"#N/A"}},{"$f":"IF(A1044=\"\",\"\",VLOOKUP(C1044,#REF!,5,FALSE))","v":{"$error":"#N/A"}}]
[300159,{"$f":"IF(A1045=\"\",\"\",VLOOKUP(A1045,[1]ItemConfig!$A:$B,2,FALSE))","v":{"$error":"#N/A"}},{"$f":"IF(A1045=\"\",\"\",VLOOKUP(A1045,[1]ItemConfig!$A:$D,4,FALSE))","v":{"$error":"#N/A"}},{"$f":"IF(A1045=\"\",\"\",VLOOKUP(A1045,[1]ItemConfig!$A:$C,3,FALSE))","v":{"$error":"#N/A"}},{"$f":"IF(A1045=\"\",\"\",VLOOKUP(B1045,#REF!,5,FALSE))","v":{"$error":"#N/A"}},{"$f":"IF(A1045=\"\",\"\",VLOOKUP(C1045,#REF!,5,FALSE))","v":{"$error":"#N/A"}}]
[300160,{"$f":"IF(A1046=\"\",\"\",VLOOKUP(A1046,[1]ItemConfig!$A:$B,2,FALSE))","v":{"$error":"#N/A"}},{"$f":"IF(A1046=\"\",\"\",VLOOKUP(A1046,[1]ItemConfig!$A:$D,4,FALSE))","v":{"$error":"#N/A"}},{"$f":"IF(A1046=\"\",\"\",VLOOKUP(A1046,[1]ItemConfig!$A:$C,3,FALSE))","v":{"$error":"#N/A"}},{"$f":"IF(A1046=\"\",\"\",VLOOKUP(B1046,#REF!,5,FALSE))","v":{"$error":"#N/A"}},{"$f":"IF(A1046=\"\",\"\",VLOOKUP(C1046,#REF!,5,FALSE))","v":{"$error":"#N/A"}}]
[300161,{"$f":"IF(A1047=\"\",\"\",VLOOKUP(A1047,[1]ItemConfig!$A:$B,2,FALSE))","v":{"$error":"#N/A"}},{"$f":"IF(A1047=\"\",\"\",VLOOKUP(A1047,[1]ItemConfig!$A:$D,4,FALSE))","v":{"$error":"#N/A"}},{"$f":"IF(A1047=\"\",\"\",VLOOKUP(A1047,[1]ItemConfig!$A:$C,3,FALSE))","v":{"$error":"#N/A"}},{"$f":"IF(A1047=\"\",\"\",VLOOKUP(B1047,#REF!,5,FALSE))","v":{"$error":"#N/A"}},{"$f":"IF(A1047=\"\",\"\",VLOOKUP(C1047,#REF!,5,FALSE))","v":{"$error":"#N/A"}}]
[300162,{"$f":"IF(A1048=\"\",\"\",VLOOKUP(A1048,[1]ItemConfig!$A:$B,2,FALSE))","v":{"$error":"#N/A"}},{"$f":"IF(A1048=\"\",\"\",VLOOKUP(A1048,[1]ItemConfig!$A:$D,4,FALSE))","v":{"$error":"#N/A"}},{"$f":"IF(A1048=\"\",\"\",VLOOKUP(A1048,[1]ItemConfig!$A:$C,3,FALSE))","v":{"$error":"#N/A"}},{"$f":"IF(A1048=\"\",\"\",VLOOKUP(B1048,#REF!,5,FALSE))","v":{"$error":"#N/A"}},{"$f":"IF(A1048=\"\",\"\",VLOOKUP(C1048,#REF!,5,FALSE))","v":{"$error":"#N/A"}}]
[300163,{"$f":"IF(A1049=\"\",\"\",VLOOKUP(A1049,[1]ItemConfig!$A:$B,2,FALSE))","v":{"$error":"#N/A"}},{"$f":"IF(A1049=\"\",\"\",VLOOKUP(A1049,[1]ItemConfig!$A:$D,4,FALSE))","v":{"$error":"#N/A"}},{"$f":"IF(A1049=\"\",\"\",VLOOKUP(A1049,[1]ItemConfig!$A:$C,3,FALSE))","v":{"$error":"#N/A"}},{"$f":"IF(A1049=\"\",\"\",VLOOKUP(B1049,#REF!,5,FALSE))","v":{"$error":"#N/A"}},{"$f":"IF(A1049=\"\",\"\",VLOOKUP(C1049,#REF!,5,FALSE))","v":{"$error":"#N/A"}}]
[300164,{"$f":"IF(A1050=\"\",\"\",VLOOKUP(A1050,[1]ItemConfig!$A:$B,2,FALSE))","v":{"$error":"#N/A"}},{"$f":"IF(A1050=\"\",\"\",VLOOKUP(A1050,[1]ItemConfig!$A:$D,4,FALSE))","v":{"$error":"#N/A"}},{"$f":"IF(A1050=\"\",\"\",VLOOKUP(A1050,[1]ItemConfig!$A:$C,3,FALSE))","v":{"$error":"#N/A"}},{"$f":"IF(A1050=\"\",\"\",VLOOKUP(B1050,#REF!,5,FALSE))","v":{"$error":"#N/A"}},{"$f":"IF(A1050=\"\",\"\",VLOOKUP(C1050,#REF!,5,FALSE))","v":{"$error":"#N/A"}}]
[300165,{"$f":"IF(A1051=\"\",\"\",VLOOKUP(A1051,[1]ItemConfig!$A:$B,2,FALSE))","v":{"$error":"#N/A"}},{"$f":"IF(A1051=\"\",\"\",VLOOKUP(A1051,[1]ItemConfig!$A:$D,4,FALSE))","v":{"$error":"#N/A"}},{"$f":"IF(A1051=\"\",\"\",VLOOKUP(A1051,[1]ItemConfig!$A:$C,3,FALSE))","v":{"$error":"#N/A"}},{"$f":"IF(A1051=\"\",\"\",VLOOKUP(B1051,#REF!,5,FALSE))","v":{"$error":"#N/A"}},{"$f":"IF(A1051=\"\",\"\",VLOOKUP(C1051,#REF!,5,FALSE))","v":{"$error":"#N/A"}}]
[300166,{"$f":"IF(A1052=\"\",\"\",VLOOKUP(A1052,[1]ItemConfig!$A:$B,2,FALSE))","v":{"$error":"#N/A"}},{"$f":"IF(A1052=\"\",\"\",VLOOKUP(A1052,[1]ItemConfig!$A:$D,4,FALSE))","v":{"$error":"#N/A"}},{"$f":"IF(A1052=\"\",\"\",VLOOKUP(A1052,[1]ItemConfig!$A:$C,3,FALSE))","v":{"$error":"#N/A"}},{"$f":"IF(A1052=\"\",\"\",VLOOKUP(B1052,#REF!,5,FALSE))","v":{"$error":"#N/A"}},{"$f":"IF(A1052=\"\",\"\",VLOOKUP(C1052,#REF!,5,FALSE))","v":{"$error":"#N/A"}}]
[300167,{"$f":"IF(A1053=\"\",\"\",VLOOKUP(A1053,[1]ItemConfig!$A:$B,2,FALSE))","v":{"$error":"#N/A"}},{"$f":"IF(A1053=\"\",\"\",VLOOKUP(A1053,[1]ItemConfig!$A:$D,4,FALSE))","v":{"$error":"#N/A"}},{"$f":"IF(A1053=\"\",\"\",VLOOKUP(A1053,[1]ItemConfig!$A:$C,3,FALSE))","v":{"$error":"#N/A"}},{"$f":"IF(A1053=\"\",\"\",VLOOKUP(B1053,#REF!,5,FALSE))","v":{"$error":"#N/A"}},{"$f":"IF(A1053=\"\",\"\",VLOOKUP(C1053,#REF!,5,FALSE))","v":{"$error":"#N/A"}}]
[300168,{"$f":"IF(A1054=\"\",\"\",VLOOKUP(A1054,[1]ItemConfig!$A:$B,2,FALSE))","v":{"$error":"#N/A"}},{"$f":"IF(A1054=\"\",\"\",VLOOKUP(A1054,[1]ItemConfig!$A:$D,4,FALSE))","v":{"$error":"#N/A"}},{"$f":"IF(A1054=\"\",\"\",VLOOKUP(A1054,[1]ItemConfig!$A:$C,3,FALSE))","v":{"$error":"#N/A"}},{"$f":"IF(A1054=\"\",\"\",VLOOKUP(B1054,#REF!,5,FALSE))","v":{"$error":"#N/A"}},{"$f":"IF(A1054=\"\",\"\",VLOOKUP(C1054,#REF!,5,FALSE))","v":{"$error":"#N/A"}}]
[300169,{"$f":"IF(A1055=\"\",\"\",VLOOKUP(A1055,[1]ItemConfig!$A:$B,2,FALSE))","v":{"$error":"#N/A"}},{"$f":"IF(A1055=\"\",\"\",VLOOKUP(A1055,[1]ItemConfig!$A:$D,4,FALSE))","v":{"$error":"#N/A"}},{"$f":"IF(A1055=\"\",\"\",VLOOKUP(A1055,[1]ItemConfig!$A:$C,3,FALSE))","v":{"$error":"#N/A"}},{"$f":"IF(A1055=\"\",\"\",VLOOKUP(B1055,#REF!,5,FALSE))","v":{"$error":"#N/A"}},{"$f":"IF(A1055=\"\",\"\",VLOOKUP(C1055,#REF!,5,FALSE))","v":{"$error":"#N/A"}}]
[300170,{"$f":"IF(A1056=\"\",\"\",VLOOKUP(A1056,[1]ItemConfig!$A:$B,2,FALSE))","v":{"$error":"#N/A"}},{"$f":"IF(A1056=\"\",\"\",VLOOKUP(A1056,[1]ItemConfig!$A:$D,4,FALSE))","v":{"$error":"#N/A"}},{"$f":"IF(A1056=\"\",\"\",VLOOKUP(A1056,[1]ItemConfig!$A:$C,3,FALSE))","v":{"$error":"#N/A"}},{"$f":"IF(A1056=\"\",\"\",VLOOKUP(B1056,#REF!,5,FALSE))","v":{"$error":"#N/A"}},{"$f":"IF(A1056=\"\",\"\",VLOOKUP(C1056,#REF!,5,FALSE))","v":{"$error":"#N/A"}}]
[300171,{"$f":"IF(A1057=\"\",\"\",VLOOKUP(A1057,[1]ItemConfig!$A:$B,2,FALSE))","v":{"$error":"#N/A"}},{"$f":"IF(A1057=\"\",\"\",VLOOKUP(A1057,[1]ItemConfig!$A:$D,4,FALSE))","v":{"$error":"#N/A"}},{"$f":"IF(A1057=\"\",\"\",VLOOKUP(A1057,[1]ItemConfig!$A:$C,3,FALSE))","v":{"$error":"#N/A"}},{"$f":"IF(A1057=\"\",\"\",VLOOKUP(B1057,#REF!,5,FALSE))","v":{"$error":"#N/A"}},{"$f":"IF(A1057=\"\",\"\",VLOOKUP(C1057,#REF!,5,FALSE))","v":{"$error":"#N/A"}}]
[300172,{"$f":"IF(A1058=\"\",\"\",VLOOKUP(A1058,[1]ItemConfig!$A:$B,2,FALSE))","v":{"$error":"#N/A"}},{"$f":"IF(A1058=\"\",\"\",VLOOKUP(A1058,[1]ItemConfig!$A:$D,4,FALSE))","v":{"$error":"#N/A"}},{"$f":"IF(A1058=\"\",\"\",VLOOKUP(A1058,[1]ItemConfig!$A:$C,3,FALSE))","v":{"$error":"#N/A"}},{"$f":"IF(A1058=\"\",\"\",VLOOKUP(B1058,#REF!,5,FALSE))","v":{"$error":"#N/A"}},{"$f":"IF(A1058=\"\",\"\",VLOOKUP(C1058,#REF!,5,FALSE))","v":{"$error":"#N/A"}}]
[300173,{"$f":"IF(A1059=\"\",\"\",VLOOKUP(A1059,[1]ItemConfig!$A:$B,2,FALSE))","v":{"$error":"#N/A"}},{"$f":"IF(A1059=\"\",\"\",VLOOKUP(A1059,[1]ItemConfig!$A:$D,4,FALSE))","v":{"$error":"#N/A"}},{"$f":"IF(A1059=\"\",\"\",VLOOKUP(A1059,[1]ItemConfig!$A:$C,3,FALSE))","v":{"$error":"#N/A"}},{"$f":"IF(A1059=\"\",\"\",VLOOKUP(B1059,#REF!,5,FALSE))","v":{"$error":"#N/A"}},{"$f":"IF(A1059=\"\",\"\",VLOOKUP(C1059,#REF!,5,FALSE))","v":{"$error":"#N/A"}}]
[300174,{"$f":"IF(A1060=\"\",\"\",VLOOKUP(A1060,[1]ItemConfig!$A:$B,2,FALSE))","v":{"$error":"#N/A"}},{"$f":"IF(A1060=\"\",\"\",VLOOKUP(A1060,[1]ItemConfig!$A:$D,4,FALSE))","v":{"$error":"#N/A"}},{"$f":"IF(A1060=\"\",\"\",VLOOKUP(A1060,[1]ItemConfig!$A:$C,3,FALSE))","v":{"$error":"#N/A"}},{"$f":"IF(A1060=\"\",\"\",VLOOKUP(B1060,#REF!,5,FALSE))","v":{"$error":"#N/A"}},{"$f":"IF(A1060=\"\",\"\",VLOOKUP(C1060,#REF!,5,FALSE))","v":{"$error":"#N/A"}}]
[300175,{"$f":"IF(A1061=\"\",\"\",VLOOKUP(A1061,[1]ItemConfig!$A:$B,2,FALSE))","v":{"$error":"#N/A"}},{"$f":"IF(A1061=\"\",\"\",VLOOKUP(A1061,[1]ItemConfig!$A:$D,4,FALSE))","v":{"$error":"#N/A"}},{"$f":"IF(A1061=\"\",\"\",VLOOKUP(A1061,[1]ItemConfig!$A:$C,3,FALSE))","v":{"$error":"#N/A"}},{"$f":"IF(A1061=\"\",\"\",VLOOKUP(B1061,#REF!,5,FALSE))","v":{"$error":"#N/A"}},{"$f":"IF(A1061=\"\",\"\",VLOOKUP(C1061,#REF!,5,FALSE))","v":{"$error":"#N/A"}}]
[300176,{"$f":"IF(A1062=\"\",\"\",VLOOKUP(A1062,[1]ItemConfig!$A:$B,2,FALSE))","v":{"$error":"#N/A"}},{"$f":"IF(A1062=\"\",\"\",VLOOKUP(A1062,[1]ItemConfig!$A:$D,4,FALSE))","v":{"$error":"#N/A"}},{"$f":"IF(A1062=\"\",\"\",VLOOKUP(A1062,[1]ItemConfig!$A:$C,3,FALSE))","v":{"$error":"#N/A"}},{"$f":"IF(A1062=\"\",\"\",VLOOKUP(B1062,#REF!,5,FALSE))","v":{"$error":"#N/A"}},{"$f":"IF(A1062=\"\",\"\",VLOOKUP(C1062,#REF!,5,FALSE))","v":{"$error":"#N/A"}}]
[300177,{"$f":"IF(A1063=\"\",\"\",VLOOKUP(A1063,[1]ItemConfig!$A:$B,2,FALSE))","v":{"$error":"#N/A"}},{"$f":"IF(A1063=\"\",\"\",VLOOKUP(A1063,[1]ItemConfig!$A:$D,4,FALSE))","v":{"$error":"#N/A"}},{"$f":"IF(A1063=\"\",\"\",VLOOKUP(A1063,[1]ItemConfig!$A:$C,3,FALSE))","v":{"$error":"#N/A"}},{"$f":"IF(A1063=\"\",\"\",VLOOKUP(B1063,#REF!,5,FALSE))","v":{"$error":"#N/A"}},{"$f":"IF(A1063=\"\",\"\",VLOOKUP(C1063,#REF!,5,FALSE))","v":{"$error":"#N/A"}}]
[300178,{"$f":"IF(A1064=\"\",\"\",VLOOKUP(A1064,[1]ItemConfig!$A:$B,2,FALSE))","v":{"$error":"#N/A"}},{"$f":"IF(A1064=\"\",\"\",VLOOKUP(A1064,[1]ItemConfig!$A:$D,4,FALSE))","v":{"$error":"#N/A"}},{"$f":"IF(A1064=\"\",\"\",VLOOKUP(A1064,[1]ItemConfig!$A:$C,3,FALSE))","v":{"$error":"#N/A"}},{"$f":"IF(A1064=\"\",\"\",VLOOKUP(B1064,#REF!,5,FALSE))","v":{"$error":"#N/A"}},{"$f":"IF(A1064=\"\",\"\",VLOOKUP(C1064,#REF!,5,FALSE))","v":{"$error":"#N/A"}}]
[300179,{"$f":"IF(A1065=\"\",\"\",VLOOKUP(A1065,[1]ItemConfig!$A:$B,2,FALSE))","v":{"$error":"#N/A"}},{"$f":"IF(A1065=\"\",\"\",VLOOKUP(A1065,[1]ItemConfig!$A:$D,4,FALSE))","v":{"$error":"#N/A"}},{"$f":"IF(A1065=\"\",\"\",VLOOKUP(A1065,[1]ItemConfig!$A:$C,3,FALSE))","v":{"$error":"#N/A"}},{"$f":"IF(A1065=\"\",\"\",VLOOKUP(B1065,#REF!,5,FALSE))","v":{"$error":"#N/A"}},{"$f":"IF(A1065=\"\",\"\",VLOOKUP(C1065,#REF!,5,FALSE))","v":{"$error":"#N/A"}}]
[300180,{"$f":"IF(A1066=\"\",\"\",VLOOKUP(A1066,[1]ItemConfig!$A:$B,2,FALSE))","v":{"$error":"#N/A"}},{"$f":"IF(A1066=\"\",\"\",VLOOKUP(A1066,[1]ItemConfig!$A:$D,4,FALSE))","v":{"$error":"#N/A"}},{"$f":"IF(A1066=\"\",\"\",VLOOKUP(A1066,[1]ItemConfig!$A:$C,3,FALSE))","v":{"$error":"#N/A"}},{"$f":"IF(A1066=\"\",\"\",VLOOKUP(B1066,#REF!,5,FALSE))","v":{"$error":"#N/A"}},{"$f":"IF(A1066=\"\",\"\",VLOOKUP(C1066,#REF!,5,FALSE))","v":{"$error":"#N/A"}}]
[300181,{"$f":"IF(A1067=\"\",\"\",VLOOKUP(A1067,[1]ItemConfig!$A:$B,2,FALSE))","v":{"$error":"#N/A"}},{"$f":"IF(A1067=\"\",\"\",VLOOKUP(A1067,[1]ItemConfig!$A:$D,4,FALSE))","v":{"$error":"#N/A"}},{"$f":"IF(A1067=\"\",\"\",VLOOKUP(A1067,[1]ItemConfig!$A:$C,3,FALSE))","v":{"$error":"#N/A"}},{"$f":"IF(A1067=\"\",\"\",VLOOKUP(B1067,#REF!,5,FALSE))","v":{"$error":"#N/A"}},{"$f":"IF(A1067=\"\",\"\",VLOOKUP(C1067,#REF!,5,FALSE))","v":{"$error":"#N/A"}}]
[300182,{"$f":"IF(A1068=\"\",\"\",VLOOKUP(A1068,[1]ItemConfig!$A:$B,2,FALSE))","v":{"$error":"#N/A"}},{"$f":"IF(A1068=\"\",\"\",VLOOKUP(A1068,[1]ItemConfig!$A:$D,4,FALSE))","v":{"$error":"#N/A"}},{"$f":"IF(A1068=\"\",\"\",VLOOKUP(A1068,[1]ItemConfig!$A:$C,3,FALSE))","v":{"$error":"#N/A"}},{"$f":"IF(A1068=\"\",\"\",VLOOKUP(B1068,#REF!,5,FALSE))","v":{"$error":"#N/A"}},{"$f":"IF(A1068=\"\",\"\",VLOOKUP(C1068,#REF!,5,FALSE))","v":{"$error":"#N/A"}}]
[300183,{"$f":"IF(A1069=\"\",\"\",VLOOKUP(A1069,[1]ItemConfig!$A:$B,2,FALSE))","v":{"$error":"#N/A"}},{"$f":"IF(A1069=\"\",\"\",VLOOKUP(A1069,[1]ItemConfig!$A:$D,4,FALSE))","v":{"$error":"#N/A"}},{"$f":"IF(A1069=\"\",\"\",VLOOKUP(A1069,[1]ItemConfig!$A:$C,3,FALSE))","v":{"$error":"#N/A"}},{"$f":"IF(A1069=\"\",\"\",VLOOKUP(B1069,#REF!,5,FALSE))","v":{"$error":"#N/A"}},{"$f":"IF(A1069=\"\",\"\",VLOOKUP(C1069,#REF!,5,FALSE))","v":{"$error":"#N/A"}}]
[300184,{"$f":"IF(A1070=\"\",\"\",VLOOKUP(A1070,[1]ItemConfig!$A:$B,2,FALSE))","v":{"$error":"#N/A"}},{"$f":"IF(A1070=\"\",\"\",VLOOKUP(A1070,[1]ItemConfig!$A:$D,4,FALSE))","v":{"$error":"#N/A"}},{"$f":"IF(A1070=\"\",\"\",VLOOKUP(A1070,[1]ItemConfig!$A:$C,3,FALSE))","v":{"$error":"#N/A"}},{"$f":"IF(A1070=\"\",\"\",VLOOKUP(B1070,#REF!,5,FALSE))","v":{"$error":"#N/A"}},{"$f":"IF(A1070=\"\",\"\",VLOOKUP(C1070,#REF!,5,FALSE))","v":{"$error":"#N/A"}}]
[300185,{"$f":"IF(A1071=\"\",\"\",VLOOKUP(A1071,[1]ItemConfig!$A:$B,2,FALSE))","v":{"$error":"#N/A"}},{"$f":"IF(A1071=\"\",\"\",VLOOKUP(A1071,[1]ItemConfig!$A:$D,4,FALSE))","v":{"$error":"#N/A"}},{"$f":"IF(A1071=\"\",\"\",VLOOKUP(A1071,[1]ItemConfig!$A:$C,3,FALSE))","v":{"$error":"#N/A"}},{"$f":"IF(A1071=\"\",\"\",VLOOKUP(B1071,#REF!,5,FALSE))","v":{"$error":"#N/A"}},{"$f":"IF(A1071=\"\",\"\",VLOOKUP(C1071,#REF!,5,FALSE))","v":{"$error":"#N/A"}}]
[300186,{"$f":"IF(A1072=\"\",\"\",VLOOKUP(A1072,[1]ItemConfig!$A:$B,2,FALSE))","v":{"$error":"#N/A"}},{"$f":"IF(A1072=\"\",\"\",VLOOKUP(A1072,[1]ItemConfig!$A:$D,4,FALSE))","v":{"$error":"#N/A"}},{"$f":"IF(A1072=\"\",\"\",VLOOKUP(A1072,[1]ItemConfig!$A:$C,3,FALSE))","v":{"$error":"#N/A"}},{"$f":"IF(A1072=\"\",\"\",VLOOKUP(B1072,#REF!,5,FALSE))","v":{"$error":"#N/A"}},{"$f":"IF(A1072=\"\",\"\",VLOOKUP(C1072,#REF!,5,FALSE))","v":{"$error":"#N/A"}}]
[300187,{"$f":"IF(A1073=\"\",\"\",VLOOKUP(A1073,[1]ItemConfig!$A:$B,2,FALSE))","v":{"$error":"#N/A"}},{"$f":"IF(A1073=\"\",\"\",VLOOKUP(A1073,[1]ItemConfig!$A:$D,4,FALSE))","v":{"$error":"#N/A"}},{"$f":"IF(A1073=\"\",\"\",VLOOKUP(A1073,[1]ItemConfig!$A:$C,3,FALSE))","v":{"$error":"#N/A"}},{"$f":"IF(A1073=\"\",\"\",VLOOKUP(B1073,#REF!,5,FALSE))","v":{"$error":"#N/A"}},{"$f":"IF(A1073=\"\",\"\",VLOOKUP(C1073,#REF!,5,FALSE))","v":{"$error":"#N/A"}}]
[300188,{"$f":"IF(A1074=\"\",\"\",VLOOKUP(A1074,[1]ItemConfig!$A:$B,2,FALSE))","v":{"$error":"#N/A"}},{"$f":"IF(A1074=\"\",\"\",VLOOKUP(A1074,[1]ItemConfig!$A:$D,4,FALSE))","v":{"$error":"#N/A"}},{"$f":"IF(A1074=\"\",\"\",VLOOKUP(A1074,[1]ItemConfig!$A:$C,3,FALSE))","v":{"$error":"#N/A"}},{"$f":"IF(A1074=\"\",\"\",VLOOKUP(B1074,#REF!,5,FALSE))","v":{"$error":"#N/A"}},{"$f":"IF(A1074=\"\",\"\",VLOOKUP(C1074,#REF!,5,FALSE))","v":{"$error":"#N/A"}}]
[300189,{"$f":"IF(A1075=\"\",\"\",VLOOKUP(A1075,[1]ItemConfig!$A:$B,2,FALSE))","v":{"$error":"#N/A"}},{"$f":"IF(A1075=\"\",\"\",VLOOKUP(A1075,[1]ItemConfig!$A:$D,4,FALSE))","v":{"$error":"#N/A"}},{"$f":"IF(A1075=\"\",\"\",VLOOKUP(A1075,[1]ItemConfig!$A:$C,3,FALSE))","v":{"$error":"#N/A"}},{"$f":"IF(A1075=\"\",\"\",VLOOKUP(B1075,#REF!,5,FALSE))","v":{"$error":"#N/A"}},{"$f":"IF(A1075=\"\",\"\",VLOOKUP(C1075,#REF!,5,FALSE))","v":{"$error":"#N/A"}}]
[300190,{"$f":"IF(A1076=\"\",\"\",VLOOKUP(A1076,[1]ItemConfig!$A:$B,2,FALSE))","v":{"$error":"#N/A"}},{"$f":"IF(A1076=\"\",\"\",VLOOKUP(A1076,[1]ItemConfig!$A:$D,4,FALSE))","v":{"$error":"#N/A"}},{"$f":"IF(A1076=\"\",\"\",VLOOKUP(A1076,[1]ItemConfig!$A:$C,3,FALSE))","v":{"$error":"#N/A"}},{"$f":"IF(A1076=\"\",\"\",VLOOKUP(B1076,#REF!,5,FALSE))","v":{"$error":"#N/A"}},{"$f":"IF(A1076=\"\",\"\",VLOOKUP(C1076,#REF!,5,FALSE))","v":{"$error":"#N/A"}}]
[300191,{"$f":"IF(A1077=\"\",\"\",VLOOKUP(A1077,[1]ItemConfig!$A:$B,2,FALSE))","v":{"$error":"#N/A"}},{"$f":"IF(A1077=\"\",\"\",VLOOKUP(A1077,[1]ItemConfig!$A:$D,4,FALSE))","v":{"$error":"#N/A"}},{"$f":"IF(A1077=\"\",\"\",VLOOKUP(A1077,[1]ItemConfig!$A:$C,3,FALSE))","v":{"$error":"#N/A"}},{"$f":"IF(A1077=\"\",\"\",VLOOKUP(B1077,#REF!,5,FALSE))","v":{"$error":"#N/A"}},{"$f":"IF(A1077=\"\",\"\",VLOOKUP(C1077,#REF!,5,FALSE))","v":{"$error":"#N/A"}}]
[300192,{"$f":"IF(A1078=\"\",\"\",VLOOKUP(A1078,[1]ItemConfig!$A:$B,2,FALSE))","v":{"$error":"#N/A"}},{"$f":"IF(A1078=\"\",\"\",VLOOKUP(A1078,[1]ItemConfig!$A:$D,4,FALSE))","v":{"$error":"#N/A"}},{"$f":"IF(A1078=\"\",\"\",VLOOKUP(A1078,[1]ItemConfig!$A:$C,3,FALSE))","v":{"$error":"#N/A"}},{"$f":"IF(A1078=\"\",\"\",VLOOKUP(B1078,#REF!,5,FALSE))","v":{"$error":"#N/A"}},{"$f":"IF(A1078=\"\",\"\",VLOOKUP(C1078,#REF!,5,FALSE))","v":{"$error":"#N/A"}}]
[300193,{"$f":"IF(A1079=\"\",\"\",VLOOKUP(A1079,[1]ItemConfig!$A:$B,2,FALSE))","v":{"$error":"#N/A"}},{"$f":"IF(A1079=\"\",\"\",VLOOKUP(A1079,[1]ItemConfig!$A:$D,4,FALSE))","v":{"$error":"#N/A"}},{"$f":"IF(A1079=\"\",\"\",VLOOKUP(A1079,[1]ItemConfig!$A:$C,3,FALSE))","v":{"$error":"#N/A"}},{"$f":"IF(A1079=\"\",\"\",VLOOKUP(B1079,#REF!,5,FALSE))","v":{"$error":"#N/A"}},{"$f":"IF(A1079=\"\",\"\",VLOOKUP(C1079,#REF!,5,FALSE))","v":{"$error":"#N/A"}}]
[300194,{"$f":"IF(A1080=\"\",\"\",VLOOKUP(A1080,[1]ItemConfig!$A:$B,2,FALSE))","v":{"$error":"#N/A"}},{"$f":"IF(A1080=\"\",\"\",VLOOKUP(A1080,[1]ItemConfig!$A:$D,4,FALSE))","v":{"$error":"#N/A"}},{"$f":"IF(A1080=\"\",\"\",VLOOKUP(A1080,[1]ItemConfig!$A:$C,3,FALSE))","v":{"$error":"#N/A"}},{"$f":"IF(A1080=\"\",\"\",VLOOKUP(B1080,#REF!,5,FALSE))","v":{"$error":"#N/A"}},{"$f":"IF(A1080=\"\",\"\",VLOOKUP(C1080,#REF!,5,FALSE))","v":{"$error":"#N/A"}}]
[300195,{"$f":"IF(A1081=\"\",\"\",VLOOKUP(A1081,[1]ItemConfig!$A:$B,2,FALSE))","v":{"$error":"#N/A"}},{"$f":"IF(A1081=\"\",\"\",VLOOKUP(A1081,[1]ItemConfig!$A:$D,4,FALSE))","v":{"$error":"#N/A"}},{"$f":"IF(A1081=\"\",\"\",VLOOKUP(A1081,[1]ItemConfig!$A:$C,3,FALSE))","v":{"$error":"#N/A"}},{"$f":"IF(A1081=\"\",\"\",VLOOKUP(B1081,#REF!,5,FALSE))","v":{"$error":"#N/A"}},{"$f":"IF(A1081=\"\",\"\",VLOOKUP(C1081,#REF!,5,FALSE))","v":{"$error":"#N/A"}}]
[300196,{"$f":"IF(A1082=\"\",\"\",VLOOKUP(A1082,[1]ItemConfig!$A:$B,2,FALSE))","v":{"$error":"#N/A"}},{"$f":"IF(A1082=\"\",\"\",VLOOKUP(A1082,[1]ItemConfig!$A:$D,4,FALSE))","v":{"$error":"#N/A"}},{"$f":"IF(A1082=\"\",\"\",VLOOKUP(A1082,[1]ItemConfig!$A:$C,3,FALSE))","v":{"$error":"#N/A"}},{"$f":"IF(A1082=\"\",\"\",VLOOKUP(B1082,#REF!,5,FALSE))","v":{"$error":"#N/A"}},{"$f":"IF(A1082=\"\",\"\",VLOOKUP(C1082,#REF!,5,FALSE))","v":{"$error":"#N/A"}}]
[300197,{"$f":"IF(A1083=\"\",\"\",VLOOKUP(A1083,[1]ItemConfig!$A:$B,2,FALSE))","v":{"$error":"#N/A"}},{"$f":"IF(A1083=\"\",\"\",VLOOKUP(A1083,[1]ItemConfig!$A:$D,4,FALSE))","v":{"$error":"#N/A"}},{"$f":"IF(A1083=\"\",\"\",VLOOKUP(A1083,[1]ItemConfig!$A:$C,3,FALSE))","v":{"$error":"#N/A"}},{"$f":"IF(A1083=\"\",\"\",VLOOKUP(B1083,#REF!,5,FALSE))","v":{"$error":"#N/A"}},{"$f":"IF(A1083=\"\",\"\",VLOOKUP(C1083,#REF!,5,FALSE))","v":{"$error":"#N/A"}}]
[300198,{"$f":"IF(A1084=\"\",\"\",VLOOKUP(A1084,[1]ItemConfig!$A:$B,2,FALSE))","v":{"$error":"#N/A"}},{"$f":"IF(A1084=\"\",\"\",VLOOKUP(A1084,[1]ItemConfig!$A:$D,4,FALSE))","v":{"$error":"#N/A"}},{"$f":"IF(A1084=\"\",\"\",VLOOKUP(A1084,[1]ItemConfig!$A:$C,3,FALSE))","v":{"$error":"#N/A"}},{"$f":"IF(A1084=\"\",\"\",VLOOKUP(B1084,#REF!,5,FALSE))","v":{"$error":"#N/A"}},{"$f":"IF(A1084=\"\",\"\",VLOOKUP(C1084,#REF!,5,FALSE))","v":{"$error":"#N/A"}}]
[300199,{"$f":"IF(A1085=\"\",\"\",VLOOKUP(A1085,[1]ItemConfig!$A:$B,2,FALSE))","v":{"$error":"#N/A"}},{"$f":"IF(A1085=\"\",\"\",VLOOKUP(A1085,[1]ItemConfig!$A:$D,4,FALSE))","v":{"$error":"#N/A"}},{"$f":"IF(A1085=\"\",\"\",VLOOKUP(A1085,[1]ItemConfig!$A:$C,3,FALSE))","v":{"$error":"#N/A"}},{"$f":"IF(A1085=\"\",\"\",VLOOKUP(B1085,#REF!,5,FALSE))","v":{"$error":"#N/A"}},{"$f":"IF(A1085=\"\",\"\",VLOOKUP(C1085,#REF!,5,FALSE))","v":{"$error":"#N/A"}}]
[300200,{"$f":"IF(A1086=\"\",\"\",VLOOKUP(A1086,[1]ItemConfig!$A:$B,2,FALSE))","v":{"$error":"#N/A"}},{"$f":"IF(A1086=\"\",\"\",VLOOKUP(A1086,[1]ItemConfig!$A:$D,4,FALSE))","v":{"$error":"#N/A"}},{"$f":"IF(A1086=\"\",\"\",VLOOKUP(A1086,[1]ItemConfig!$A:$C,3,FALSE))","v":{"$error":"#N/A"}},{"$f":"IF(A1086=\"\",\"\",VLOOKUP(B1086,#REF!,5,FALSE))","v":{"$error":"#N/A"}},{"$f":"IF(A1086=\"\",\"\",VLOOKUP(C1086,#REF!,5,FALSE))","v":{"$error":"#N/A"}}]
[null,{"$f":"IF(A1087=\"\",\"\",VLOOKUP(A1087,[1]ItemConfig!$A:$B,2,FALSE))","v":""},{"$f":"IF(A1087=\"\",\"\",VLOOKUP(A1087,[1]ItemConfig!$A:$D,4,FALSE))","v":""},{"$f":"IF(A1087=\"\",\"\",VLOOKUP(A1087,[1]ItemConfig!$A:$C,3,FALSE))","v":""},{"$f":"IF(A1087=\"\",\"\",VLOOKUP(B1087,#REF!,5,FALSE))","v":""},{"$f":"IF(A1087=\"\",\"\",VLOOKUP(C1087,#REF!,5,FALSE))","v":""}]
[300201,{"$f":"IF(A1088=\"\",\"\",VLOOKUP(A1088,[1]ItemConfig!$A:$B,2,FALSE))","v":{"$error":"#N/A"}},{"$f":"IF(A1088=\"\",\"\",VLOOKUP(A1088,[1]ItemConfig!$A:$D,4,FALSE))","v":{"$error":"#N/A"}},{"$f":"IF(A1088=\"\",\"\",VLOOKUP(A1088,[1]ItemConfig!$A:$C,3,FALSE))","v":{"$error":"#N/A"}},{"$f":"IF(A1088=\"\",\"\",VLOOKUP(B1088,#REF!,5,FALSE))","v":{"$error":"#N/A"}},{"$f":"IF(A1088=\"\",\"\",VLOOKUP(C1088,#REF!,5,FALSE))","v":{"$error":"#N/A"}}]
[300202,{"$f":"IF(A1089=\"\",\"\",VLOOKUP(A1089,[1]ItemConfig!$A:$B,2,FALSE))","v":{"$error":"#N/A"}},{"$f":"IF(A1089=\"\",\"\",VLOOKUP(A1089,[1]ItemConfig!$A:$D,4,FALSE))","v":{"$error":"#N/A"}},{"$f":"IF(A1089=\"\",\"\",VLOOKUP(A1089,[1]ItemConfig!$A:$C,3,FALSE))","v":{"$error":"#N/A"}},{"$f":"IF(A1089=\"\",\"\",VLOOKUP(B1089,#REF!,5,FALSE))","v":{"$error":"#N/A"}},{"$f":"IF(A1089=\"\",\"\",VLOOKUP(C1089,#REF!,5,FALSE))","v":{"$error":"#N/A"}}]
[300203,{"$f":"IF(A1090=\"\",\"\",VLOOKUP(A1090,[1]ItemConfig!$A:$B,2,FALSE))","v":{"$error":"#N/A"}},{"$f":"IF(A1090=\"\",\"\",VLOOKUP(A1090,[1]ItemConfig!$A:$D,4,FALSE))","v":{"$error":"#N/A"}},{"$f":"IF(A1090=\"\",\"\",VLOOKUP(A1090,[1]ItemConfig!$A:$C,3,FALSE))","v":{"$error":"#N/A"}},{"$f":"IF(A1090=\"\",\"\",VLOOKUP(B1090,#REF!,5,FALSE))","v":{"$error":"#N/A"}},{"$f":"IF(A1090=\"\",\"\",VLOOKUP(C1090,#REF!,5,FALSE))","v":{"$error":"#N/A"}}]
[300204,{"$f":"IF(A1091=\"\",\"\",VLOOKUP(A1091,[1]ItemConfig!$A:$B,2,FALSE))","v":{"$error":"#N/A"}},{"$f":"IF(A1091=\"\",\"\",VLOOKUP(A1091,[1]ItemConfig!$A:$D,4,FALSE))","v":{"$error":"#N/A"}},{"$f":"IF(A1091=\"\",\"\",VLOOKUP(A1091,[1]ItemConfig!$A:$C,3,FALSE))","v":{"$error":"#N/A"}},{"$f":"IF(A1091=\"\",\"\",VLOOKUP(B1091,#REF!,5,FALSE))","v":{"$error":"#N/A"}},{"$f":"IF(A1091=\"\",\"\",VLOOKUP(C1091,#REF!,5,FALSE))","v":{"$error":"#N/A"}}]
[300205,{"$f":"IF(A1092=\"\",\"\",VLOOKUP(A1092,[1]ItemConfig!$A:$B,2,FALSE))","v":{"$error":"#N/A"}},{"$f":"IF(A1092=\"\",\"\",VLOOKUP(A1092,[1]ItemConfig!$A:$D,4,FALSE))","v":{"$error":"#N/A"}},{"$f":"IF(A1092=\"\",\"\",VLOOKUP(A1092,[1]ItemConfig!$A:$C,3,FALSE))","v":{"$error":"#N/A"}},{"$f":"IF(A1092=\"\",\"\",VLOOKUP(B1092,#REF!,5,FALSE))","v":{"$error":"#N/A"}},{"$f":"IF(A1092=\"\",\"\",VLOOKUP(C1092,#REF!,5,FALSE))","v":{"$error":"#N/A"}}]
[300206,{"$f":"IF(A1093=\"\",\"\",VLOOKUP(A1093,[1]ItemConfig!$A:$B,2,FALSE))","v":{"$error":"#N/A"}},{"$f":"IF(A1093=\"\",\"\",VLOOKUP(A1093,[1]ItemConfig!$A:$D,4,FALSE))","v":{"$error":"#N/A"}},{"$f":"IF(A1093=\"\",\"\",VLOOKUP(A1093,[1]ItemConfig!$A:$C,3,FALSE))","v":{"$error":"#N/A"}},{"$f":"IF(A1093=\"\",\"\",VLOOKUP(B1093,#REF!,5,FALSE))","v":{"$error":"#N/A"}},{"$f":"IF(A1093=\"\",\"\",VLOOKUP(C1093,#REF!,5,FALSE))","v":{"$error":"#N/A"}}]
[300207,{"$f":"IF(A1094=\"\",\"\",VLOOKUP(A1094,[1]ItemConfig!$A:$B,2,FALSE))","v":{"$error":"#N/A"}},{"$f":"IF(A1094=\"\",\"\",VLOOKUP(A1094,[1]ItemConfig!$A:$D,4,FALSE))","v":{"$error":"#N/A"}},{"$f":"IF(A1094=\"\",\"\",VLOOKUP(A1094,[1]ItemConfig!$A:$C,3,FALSE))","v":{"$error":"#N/A"}},{"$f":"IF(A1094=\"\",\"\",VLOOKUP(B1094,#REF!,5,FALSE))","v":{"$error":"#N/A"}},{"$f":"IF(A1094=\"\",\"\",VLOOKUP(C1094,#REF!,5,FALSE))","v":{"$error":"#N/A"}}]
[300208,{"$f":"IF(A1095=\"\",\"\",VLOOKUP(A1095,[1]ItemConfig!$A:$B,2,FALSE))","v":{"$error":"#N/A"}},{"$f":"IF(A1095=\"\",\"\",VLOOKUP(A1095,[1]ItemConfig!$A:$D,4,FALSE))","v":{"$error":"#N/A"}},{"$f":"IF(A1095=\"\",\"\",VLOOKUP(A1095,[1]ItemConfig!$A:$C,3,FALSE))","v":{"$error":"#N/A"}},{"$f":"IF(A1095=\"\",\"\",VLOOKUP(B1095,#REF!,5,FALSE))","v":{"$error":"#N/A"}},{"$f":"IF(A1095=\"\",\"\",VLOOKUP(C1095,#REF!,5,FALSE))","v":{"$error":"#N/A"}}]
[300209,{"$f":"IF(A1096=\"\",\"\",VLOOKUP(A1096,[1]ItemConfig!$A:$B,2,FALSE))","v":{"$error":"#N/A"}},{"$f":"IF(A1096=\"\",\"\",VLOOKUP(A1096,[1]ItemConfig!$A:$D,4,FALSE))","v":{"$error":"#N/A"}},{"$f":"IF(A1096=\"\",\"\",VLOOKUP(A1096,[1]ItemConfig!$A:$C,3,FALSE))","v":{"$error":"#N/A"}},{"$f":"IF(A1096=\"\",\"\",VLOOKUP(B1096,#REF!,5,FALSE))","v":{"$error":"#N/A"}},{"$f":"IF(A1096=\"\",\"\",VLOOKUP(C1096,#REF!,5,FALSE))","v":{"$error":"#N/A"}}]
[300210,{"$f":"IF(A1097=\"\",\"\",VLOOKUP(A1097,[1]ItemConfig!$A:$B,2,FALSE))","v":{"$error":"#N/A"}},{"$f":"IF(A1097=\"\",\"\",VLOOKUP(A1097,[1]ItemConfig!$A:$D,4,FALSE))","v":{"$error":"#N/A"}},{"$f":"IF(A1097=\"\",\"\",VLOOKUP(A1097,[1]ItemConfig!$A:$C,3,FALSE))","v":{"$error":"#N/A"}},{"$f":"IF(A1097=\"\",\"\",VLOOKUP(B1097,#REF!,5,FALSE))","v":{"$error":"#N/A"}},{"$f":"IF(A1097=\"\",\"\",VLOOKUP(C1097,#REF!,5,FALSE))","v":{"$error":"#N/A"}}]
[300211,{"$f":"IF(A1098=\"\",\"\",VLOOKUP(A1098,[1]ItemConfig!$A:$B,2,FALSE))","v":{"$error":"#N/A"}},{"$f":"IF(A1098=\"\",\"\",VLOOKUP(A1098,[1]ItemConfig!$A:$D,4,FALSE))","v":{"$error":"#N/A"}},{"$f":"IF(A1098=\"\",\"\",VLOOKUP(A1098,[1]ItemConfig!$A:$C,3,FALSE))","v":{"$error":"#N/A"}},{"$f":"IF(A1098=\"\",\"\",VLOOKUP(B1098,#REF!,5,FALSE))","v":{"$error":"#N/A"}},{"$f":"IF(A1098=\"\",\"\",VLOOKUP(C1098,#REF!,5,FALSE))","v":{"$error":"#N/A"}}]
[300212,{"$f":"IF(A1099=\"\",\"\",VLOOKUP(A1099,[1]ItemConfig!$A:$B,2,FALSE))","v":{"$error":"#N/A"}},{"$f":"IF(A1099=\"\",\"\",VLOOKUP(A1099,[1]ItemConfig!$A:$D,4,FALSE))","v":{"$error":"#N/A"}},{"$f":"IF(A1099=\"\",\"\",VLOOKUP(A1099,[1]ItemConfig!$A:$C,3,FALSE))","v":{"$error":"#N/A"}},{"$f":"IF(A1099=\"\",\"\",VLOOKUP(B1099,#REF!,5,FALSE))","v":{"$error":"#N/A"}},{"$f":"IF(A1099=\"\",\"\",VLOOKUP(C1099,#REF!,5,FALSE))","v":{"$error":"#N/A"}}]
[300213,{"$f":"IF(A1100=\"\",\"\",VLOOKUP(A1100,[1]ItemConfig!$A:$B,2,FALSE))","v":{"$error":"#N/A"}},{"$f":"IF(A1100=\"\",\"\",VLOOKUP(A1100,[1]ItemConfig!$A:$D,4,FALSE))","v":{"$error":"#N/A"}},{"$f":"IF(A1100=\"\",\"\",VLOOKUP(A1100,[1]ItemConfig!$A:$C,3,FALSE))","v":{"$error":"#N/A"}},{"$f":"IF(A1100=\"\",\"\",VLOOKUP(B1100,#REF!,5,FALSE))","v":{"$error":"#N/A"}},{"$f":"IF(A1100=\"\",\"\",VLOOKUP(C1100,#REF!,5,FALSE))","v":{"$error":"#N/A"}}]
[300214,{"$f":"IF(A1101=\"\",\"\",VLOOKUP(A1101,[1]ItemConfig!$A:$B,2,FALSE))","v":{"$error":"#N/A"}},{"$f":"IF(A1101=\"\",\"\",VLOOKUP(A1101,[1]ItemConfig!$A:$D,4,FALSE))","v":{"$error":"#N/A"}},{"$f":"IF(A1101=\"\",\"\",VLOOKUP(A1101,[1]ItemConfig!$A:$C,3,FALSE))","v":{"$error":"#N/A"}},{"$f":"IF(A1101=\"\",\"\",VLOOKUP(B1101,#REF!,5,FALSE))","v":{"$error":"#N/A"}},{"$f":"IF(A1101=\"\",\"\",VLOOKUP(C1101,#REF!,5,FALSE))","v":{"$error":"#N/A"}}]
[300215,{"$f":"IF(A1102=\"\",\"\",VLOOKUP(A1102,[1]ItemConfig!$A:$B,2,FALSE))","v":{"$error":"#N/A"}},{"$f":"IF(A1102=\"\",\"\",VLOOKUP(A1102,[1]ItemConfig!$A:$D,4,FALSE))","v":{"$error":"#N/A"}},{"$f":"IF(A1102=\"\",\"\",VLOOKUP(A1102,[1]ItemConfig!$A:$C,3,FALSE))","v":{"$error":"#N/A"}},{"$f":"IF(A1102=\"\",\"\",VLOOKUP(B1102,#REF!,5,FALSE))","v":{"$error":"#N/A"}},{"$f":"IF(A1102=\"\",\"\",VLOOKUP(C1102,#REF!,5,FALSE))","v":{"$error":"#N/A"}}]
[300216,{"$f":"IF(A1103=\"\",\"\",VLOOKUP(A1103,[1]ItemConfig!$A:$B,2,FALSE))","v":{"$error":"#N/A"}},{"$f":"IF(A1103=\"\",\"\",VLOOKUP(A1103,[1]ItemConfig!$A:$D,4,FALSE))","v":{"$error":"#N/A"}},{"$f":"IF(A1103=\"\",\"\",VLOOKUP(A1103,[1]ItemConfig!$A:$C,3,FALSE))","v":{"$error":"#N/A"}},{"$f":"IF(A1103=\"\",\"\",VLOOKUP(B1103,#REF!,5,FALSE))","v":{"$error":"#N/A"}},{"$f":"IF(A1103=\"\",\"\",VLOOKUP(C1103,#REF!,5,FALSE))","v":{"$error":"#N/A"}}]
[300217,{"$f":"IF(A1104=\"\",\"\",VLOOKUP(A1104,[1]ItemConfig!$A:$B,2,FALSE))","v":{"$error":"#N/A"}},{"$f":"IF(A1104=\"\",\"\",VLOOKUP(A1104,[1]ItemConfig!$A:$D,4,FALSE))","v":{"$error":"#N/A"}},{"$f":"IF(A1104=\"\",\"\",VLOOKUP(A1104,[1]ItemConfig!$A:$C,3,FALSE))","v":{"$error":"#N/A"}},{"$f":"IF(A1104=\"\",\"\",VLOOKUP(B1104,#REF!,5,FALSE))","v":{"$error":"#N/A"}},{"$f":"IF(A1104=\"\",\"\",VLOOKUP(C1104,#REF!,5,FALSE))","v":{"$error":"#N/A"}}]
[300218,{"$f":"IF(A1105=\"\",\"\",VLOOKUP(A1105,[1]ItemConfig!$A:$B,2,FALSE))","v":{"$error":"#N/A"}},{"$f":"IF(A1105=\"\",\"\",VLOOKUP(A1105,[1]ItemConfig!$A:$D,4,FALSE))","v":{"$error":"#N/A"}},{"$f":"IF(A1105=\"\",\"\",VLOOKUP(A1105,[1]ItemConfig!$A:$C,3,FALSE))","v":{"$error":"#N/A"}},{"$f":"IF(A1105=\"\",\"\",VLOOKUP(B1105,#REF!,5,FALSE))","v":{"$error":"#N/A"}},{"$f":"IF(A1105=\"\",\"\",VLOOKUP(C1105,#REF!,5,FALSE))","v":{"$error":"#N/A"}}]
[300219,{"$f":"IF(A1106=\"\",\"\",VLOOKUP(A1106,[1]ItemConfig!$A:$B,2,FALSE))","v":{"$error":"#N/A"}},{"$f":"IF(A1106=\"\",\"\",VLOOKUP(A1106,[1]ItemConfig!$A:$D,4,FALSE))","v":{"$error":"#N/A"}},{"$f":"IF(A1106=\"\",\"\",VLOOKUP(A1106,[1]ItemConfig!$A:$C,3,FALSE))","v":{"$error":"#N/A"}},{"$f":"IF(A1106=\"\",\"\",VLOOKUP(B1106,#REF!,5,FALSE))","v":{"$error":"#N/A"}},{"$f":"IF(A1106=\"\",\"\",VLOOKUP(C1106,#REF!,5,FALSE))","v":{"$error":"#N/A"}}]
[300220,{"$f":"IF(A1107=\"\",\"\",VLOOKUP(A1107,[1]ItemConfig!$A:$B,2,FALSE))","v":{"$error":"#N/A"}},{"$f":"IF(A1107=\"\",\"\",VLOOKUP(A1107,[1]ItemConfig!$A:$D,4,FALSE))","v":{"$error":"#N/A"}},{"$f":"IF(A1107=\"\",\"\",VLOOKUP(A1107,[1]ItemConfig!$A:$C,3,FALSE))","v":{"$error":"#N/A"}},{"$f":"IF(A1107=\"\",\"\",VLOOKUP(B1107,#REF!,5,FALSE))","v":{"$error":"#N/A"}},{"$f":"IF(A1107=\"\",\"\",VLOOKUP(C1107,#REF!,5,FALSE))","v":{"$error":"#N/A"}}]
[300221,{"$f":"IF(A1108=\"\",\"\",VLOOKUP(A1108,[1]ItemConfig!$A:$B,2,FALSE))","v":{"$error":"#N/A"}},{"$f":"IF(A1108=\"\",\"\",VLOOKUP(A1108,[1]ItemConfig!$A:$D,4,FALSE))","v":{"$error":"#N/A"}},{"$f":"IF(A1108=\"\",\"\",VLOOKUP(A1108,[1]ItemConfig!$A:$C,3,FALSE))","v":{"$error":"#N/A"}},{"$f":"IF(A1108=\"\",\"\",VLOOKUP(B1108,#REF!,5,FALSE))","v":{"$error":"#N/A"}},{"$f":"IF(A1108=\"\",\"\",VLOOKUP(C1108,#REF!,5,FALSE))","v":{"$error":"#N/A"}}]
[300222,{"$f":"IF(A1109=\"\",\"\",VLOOKUP(A1109,[1]ItemConfig!$A:$B,2,FALSE))","v":{"$error":"#N/A"}},{"$f":"IF(A1109=\"\",\"\",VLOOKUP(A1109,[1]ItemConfig!$A:$D,4,FALSE))","v":{"$error":"#N/A"}},{"$f":"IF(A1109=\"\",\"\",VLOOKUP(A1109,[1]ItemConfig!$A:$C,3,FALSE))","v":{"$error":"#N/A"}},{"$f":"IF(A1109=\"\",\"\",VLOOKUP(B1109,#REF!,5,FALSE))","v":{"$error":"#N/A"}},{"$f":"IF(A1109=\"\",\"\",VLOOKUP(C1109,#REF!,5,FALSE))","v":{"$error":"#N/A"}}]
[300223,{"$f":"IF(A1110=\"\",\"\",VLOOKUP(A1110,[1]ItemConfig!$A:$B,2,FALSE))","v":{"$error":"#N/A"}},{"$f":"IF(A1110=\"\",\"\",VLOOKUP(A1110,[1]ItemConfig!$A:$D,4,FALSE))","v":{"$error":"#N/A"}},{"$f":"IF(A1110=\"\",\"\",VLOOKUP(A1110,[1]ItemConfig!$A:$C,3,FALSE))","v":{"$error":"#N/A"}},{"$f":"IF(A1110=\"\",\"\",VLOOKUP(B1110,#REF!,5,FALSE))","v":{"$error":"#N/A"}},{"$f":"IF(A1110=\"\",\"\",VLOOKUP(C1110,#REF!,5,FALSE))","v":{"$error":"#N/A"}}]
[300224,{"$f":"IF(A1111=\"\",\"\",VLOOKUP(A1111,[1]ItemConfig!$A:$B,2,FALSE))","v":{"$error":"#N/A"}},{"$f":"IF(A1111=\"\",\"\",VLOOKUP(A1111,[1]ItemConfig!$A:$D,4,FALSE))","v":{"$error":"#N/A"}},{"$f":"IF(A1111=\"\",\"\",VLOOKUP(A1111,[1]ItemConfig!$A:$C,3,FALSE))","v":{"$error":"#N/A"}},{"$f":"IF(A1111=\"\",\"\",VLOOKUP(B1111,#REF!,5,FALSE))","v":{"$error":"#N/A"}},{"$f":"IF(A1111=\"\",\"\",VLOOKUP(C1111,#REF!,5,FALSE))","v":{"$error":"#N/A"}}]
[300225,{"$f":"IF(A1112=\"\",\"\",VLOOKUP(A1112,[1]ItemConfig!$A:$B,2,FALSE))","v":{"$error":"#N/A"}},{"$f":"IF(A1112=\"\",\"\",VLOOKUP(A1112,[1]ItemConfig!$A:$D,4,FALSE))","v":{"$error":"#N/A"}},{"$f":"IF(A1112=\"\",\"\",VLOOKUP(A1112,[1]ItemConfig!$A:$C,3,FALSE))","v":{"$error":"#N/A"}},{"$f":"IF(A1112=\"\",\"\",VLOOKUP(B1112,#REF!,5,FALSE))","v":{"$error":"#N/A"}},{"$f":"IF(A1112=\"\",\"\",VLOOKUP(C1112,#REF!,5,FALSE))","v":{"$error":"#N/A"}}]
[300226,{"$f":"IF(A1113=\"\",\"\",VLOOKUP(A1113,[1]ItemConfig!$A:$B,2,FALSE))","v":{"$error":"#N/A"}},{"$f":"IF(A1113=\"\",\"\",VLOOKUP(A1113,[1]ItemConfig!$A:$D,4,FALSE))","v":{"$error":"#N/A"}},{"$f":"IF(A1113=\"\",\"\",VLOOKUP(A1113,[1]ItemConfig!$A:$C,3,FALSE))","v":{"$error":"#N/A"}},{"$f":"IF(A1113=\"\",\"\",VLOOKUP(B1113,#REF!,5,FALSE))","v":{"$error":"#N/A"}},{"$f":"IF(A1113=\"\",\"\",VLOOKUP(C1113,#REF!,5,FALSE))","v":{"$error":"#N/A"}}]
[300227,{"$f":"IF(A1114=\"\",\"\",VLOOKUP(A1114,[1]ItemConfig!$A:$B,2,FALSE))","v":{"$error":"#N/A"}},{"$f":"IF(A1114=\"\",\"\",VLOOKUP(A1114,[1]ItemConfig!$A:$D,4,FALSE))","v":{"$error":"#N/A"}},{"$f":"IF(A1114=\"\",\"\",VLOOKUP(A1114,[1]ItemConfig!$A:$C,3,FALSE))","v":{"$error":"#N/A"}},{"$f":"IF(A1114=\"\",\"\",VLOOKUP(B1114,#REF!,5,FALSE))","v":{"$error":"#N/A"}},{"$f":"IF(A1114=\"\",\"\",VLOOKUP(C1114,#REF!,5,FALSE))","v":{"$error":"#N/A"}}]
[300228,{"$f":"IF(A1115=\"\",\"\",VLOOKUP(A1115,[1]ItemConfig!$A:$B,2,FALSE))","v":{"$error":"#N/A"}},{"$f":"IF(A1115=\"\",\"\",VLOOKUP(A1115,[1]ItemConfig!$A:$D,4,FALSE))","v":{"$error":"#N/A"}},{"$f":"IF(A1115=\"\",\"\",VLOOKUP(A1115,[1]ItemConfig!$A:$C,3,FALSE))","v":{"$error":"#N/A"}},{"$f":"IF(A1115=\"\",\"\",VLOOKUP(B1115,#REF!,5,FALSE))","v":{"$error":"#N/A"}},{"$f":"IF(A1115=\"\",\"\",VLOOKUP(C1115,#REF!,5,FALSE))","v":{"$error":"#N/A"}}]
[300229,{"$f":"IF(A1116=\"\",\"\",VLOOKUP(A1116,[1]ItemConfig!$A:$B,2,FALSE))","v":{"$error":"#N/A"}},{"$f":"IF(A1116=\"\",\"\",VLOOKUP(A1116,[1]ItemConfig!$A:$D,4,FALSE))","v":{"$error":"#N/A"}},{"$f":"IF(A1116=\"\",\"\",VLOOKUP(A1116,[1]ItemConfig!$A:$C,3,FALSE))","v":{"$error":"#N/A"}},{"$f":"IF(A1116=\"\",\"\",VLOOKUP(B1116,#REF!,5,FALSE))","v":{"$error":"#N/A"}},{"$f":"IF(A1116=\"\",\"\",VLOOKUP(C1116,#REF!,5,FALSE))","v":{"$error":"#N/A"}}]
[300230,{"$f":"IF(A1117=\"\",\"\",VLOOKUP(A1117,[1]ItemConfig!$A:$B,2,FALSE))","v":{"$error":"#N/A"}},{"$f":"IF(A1117=\"\",\"\",VLOOKUP(A1117,[1]ItemConfig!$A:$D,4,FALSE))","v":{"$error":"#N/A"}},{"$f":"IF(A1117=\"\",\"\",VLOOKUP(A1117,[1]ItemConfig!$A:$C,3,FALSE))","v":{"$error":"#N/A"}},{"$f":"IF(A1117=\"\",\"\",VLOOKUP(B1117,#REF!,5,FALSE))","v":{"$error":"#N/A"}},{"$f":"IF(A1117=\"\",\"\",VLOOKUP(C1117,#REF!,5,FALSE))","v":{"$error":"#N/A"}}]
[300231,{"$f":"IF(A1118=\"\",\"\",VLOOKUP(A1118,[1]ItemConfig!$A:$B,2,FALSE))","v":{"$error":"#N/A"}},{"$f":"IF(A1118=\"\",\"\",VLOOKUP(A1118,[1]ItemConfig!$A:$D,4,FALSE))","v":{"$error":"#N/A"}},{"$f":"IF(A1118=\"\",\"\",VLOOKUP(A1118,[1]ItemConfig!$A:$C,3,FALSE))","v":{"$error":"#N/A"}},{"$f":"IF(A1118=\"\",\"\",VLOOKUP(B1118,#REF!,5,FALSE))","v":{"$error":"#N/A"}},{"$f":"IF(A1118=\"\",\"\",VLOOKUP(C1118,#REF!,5,FALSE))","v":{"$error":"#N/A"}}]
[300232,{"$f":"IF(A1119=\"\",\"\",VLOOKUP(A1119,[1]ItemConfig!$A:$B,2,FALSE))","v":{"$error":"#N/A"}},{"$f":"IF(A1119=\"\",\"\",VLOOKUP(A1119,[1]ItemConfig!$A:$D,4,FALSE))","v":{"$error":"#N/A"}},{"$f":"IF(A1119=\"\",\"\",VLOOKUP(A1119,[1]ItemConfig!$A:$C,3,FALSE))","v":{"$error":"#N/A"}},{"$f":"IF(A1119=\"\",\"\",VLOOKUP(B1119,#REF!,5,FALSE))","v":{"$error":"#N/A"}},{"$f":"IF(A1119=\"\",\"\",VLOOKUP(C1119,#REF!,5,FALSE))","v":{"$error":"#N/A"}}]
[300233,{"$f":"IF(A1120=\"\",\"\",VLOOKUP(A1120,[1]ItemConfig!$A:$B,2,FALSE))","v":{"$error":"#N/A"}},{"$f":"IF(A1120=\"\",\"\",VLOOKUP(A1120,[1]ItemConfig!$A:$D,4,FALSE))","v":{"$error":"#N/A"}},{"$f":"IF(A1120=\"\",\"\",VLOOKUP(A1120,[1]ItemConfig!$A:$C,3,FALSE))","v":{"$error":"#N/A"}},{"$f":"IF(A1120=\"\",\"\",VLOOKUP(B1120,#REF!,5,FALSE))","v":{"$error":"#N/A"}},{"$f":"IF(A1120=\"\",\"\",VLOOKUP(C1120,#REF!,5,FALSE))","v":{"$error":"#N/A"}}]
[300234,{"$f":"IF(A1121=\"\",\"\",VLOOKUP(A1121,[1]ItemConfig!$A:$B,2,FALSE))","v":{"$error":"#N/A"}},{"$f":"IF(A1121=\"\",\"\",VLOOKUP(A1121,[1]ItemConfig!$A:$D,4,FALSE))","v":{"$error":"#N/A"}},{"$f":"IF(A1121=\"\",\"\",VLOOKUP(A1121,[1]ItemConfig!$A:$C,3,FALSE))","v":{"$error":"#N/A"}},{"$f":"IF(A1121=\"\",\"\",VLOOKUP(B1121,#REF!,5,FALSE))","v":{"$error":"#N/A"}},{"$f":"IF(A1121=\"\",\"\",VLOOKUP(C1121,#REF!,5,FALSE))","v":{"$error":"#N/A"}}]
[300235,{"$f":"IF(A1122=\"\",\"\",VLOOKUP(A1122,[1]ItemConfig!$A:$B,2,FALSE))","v":{"$error":"#N/A"}},{"$f":"IF(A1122=\"\",\"\",VLOOKUP(A1122,[1]ItemConfig!$A:$D,4,FALSE))","v":{"$error":"#N/A"}},{"$f":"IF(A1122=\"\",\"\",VLOOKUP(A1122,[1]ItemConfig!$A:$C,3,FALSE))","v":{"$error":"#N/A"}},{"$f":"IF(A1122=\"\",\"\",VLOOKUP(B1122,#REF!,5,FALSE))","v":{"$error":"#N/A"}},{"$f":"IF(A1122=\"\",\"\",VLOOKUP(C1122,#REF!,5,FALSE))","v":{"$error":"#N/A"}}]
[300236,{"$f":"IF(A1123=\"\",\"\",VLOOKUP(A1123,[1]ItemConfig!$A:$B,2,FALSE))","v":{"$error":"#N/A"}},{"$f":"IF(A1123=\"\",\"\",VLOOKUP(A1123,[1]ItemConfig!$A:$D,4,FALSE))","v":{"$error":"#N/A"}},{"$f":"IF(A1123=\"\",\"\",VLOOKUP(A1123,[1]ItemConfig!$A:$C,3,FALSE))","v":{"$error":"#N/A"}},{"$f":"IF(A1123=\"\",\"\",VLOOKUP(B1123,#REF!,5,FALSE))","v":{"$error":"#N/A"}},{"$f":"IF(A1123=\"\",\"\",VLOOKUP(C1123,#REF!,5,FALSE))","v":{"$error":"#N/A"}}]
[300237,{"$f":"IF(A1124=\"\",\"\",VLOOKUP(A1124,[1]ItemConfig!$A:$B,2,FALSE))","v":{"$error":"#N/A"}},{"$f":"IF(A1124=\"\",\"\",VLOOKUP(A1124,[1]ItemConfig!$A:$D,4,FALSE))","v":{"$error":"#N/A"}},{"$f":"IF(A1124=\"\",\"\",VLOOKUP(A1124,[1]ItemConfig!$A:$C,3,FALSE))","v":{"$error":"#N/A"}},{"$f":"IF(A1124=\"\",\"\",VLOOKUP(B1124,#REF!,5,FALSE))","v":{"$error":"#N/A"}},{"$f":"IF(A1124=\"\",\"\",VLOOKUP(C1124,#REF!,5,FALSE))","v":{"$error":"#N/A"}}]
[300238,{"$f":"IF(A1125=\"\",\"\",VLOOKUP(A1125,[1]ItemConfig!$A:$B,2,FALSE))","v":{"$error":"#N/A"}},{"$f":"IF(A1125=\"\",\"\",VLOOKUP(A1125,[1]ItemConfig!$A:$D,4,FALSE))","v":{"$error":"#N/A"}},{"$f":"IF(A1125=\"\",\"\",VLOOKUP(A1125,[1]ItemConfig!$A:$C,3,FALSE))","v":{"$error":"#N/A"}},{"$f":"IF(A1125=\"\",\"\",VLOOKUP(B1125,#REF!,5,FALSE))","v":{"$error":"#N/A"}},{"$f":"IF(A1125=\"\",\"\",VLOOKUP(C1125,#REF!,5,FALSE))","v":{"$error":"#N/A"}}]
[300239,{"$f":"IF(A1126=\"\",\"\",VLOOKUP(A1126,[1]ItemConfig!$A:$B,2,FALSE))","v":{"$error":"#N/A"}},{"$f":"IF(A1126=\"\",\"\",VLOOKUP(A1126,[1]ItemConfig!$A:$D,4,FALSE))","v":{"$error":"#N/A"}},{"$f":"IF(A1126=\"\",\"\",VLOOKUP(A1126,[1]ItemConfig!$A:$C,3,FALSE))","v":{"$error":"#N/A"}},{"$f":"IF(A1126=\"\",\"\",VLOOKUP(B1126,#REF!,5,FALSE))","v":{"$error":"#N/A"}},{"$f":"IF(A1126=\"\",\"\",VLOOKUP(C1126,#REF!,5,FALSE))","v":{"$error":"#N/A"}}]
[300240,{"$f":"IF(A1127=\"\",\"\",VLOOKUP(A1127,[1]ItemConfig!$A:$B,2,FALSE))","v":{"$error":"#N/A"}},{"$f":"IF(A1127=\"\",\"\",VLOOKUP(A1127,[1]ItemConfig!$A:$D,4,FALSE))","v":{"$error":"#N/A"}},{"$f":"IF(A1127=\"\",\"\",VLOOKUP(A1127,[1]ItemConfig!$A:$C,3,FALSE))","v":{"$error":"#N/A"}},{"$f":"IF(A1127=\"\",\"\",VLOOKUP(B1127,#REF!,5,FALSE))","v":{"$error":"#N/A"}},{"$f":"IF(A1127=\"\",\"\",VLOOKUP(C1127,#REF!,5,FALSE))","v":{"$error":"#N/A"}}]
[300241,{"$f":"IF(A1128=\"\",\"\",VLOOKUP(A1128,[1]ItemConfig!$A:$B,2,FALSE))","v":{"$error":"#N/A"}},{"$f":"IF(A1128=\"\",\"\",VLOOKUP(A1128,[1]ItemConfig!$A:$D,4,FALSE))","v":{"$error":"#N/A"}},{"$f":"IF(A1128=\"\",\"\",VLOOKUP(A1128,[1]ItemConfig!$A:$C,3,FALSE))","v":{"$error":"#N/A"}},{"$f":"IF(A1128=\"\",\"\",VLOOKUP(B1128,#REF!,5,FALSE))","v":{"$error":"#N/A"}},{"$f":"IF(A1128=\"\",\"\",VLOOKUP(C1128,#REF!,5,FALSE))","v":{"$error":"#N/A"}}]
[300242,{"$f":"IF(A1129=\"\",\"\",VLOOKUP(A1129,[1]ItemConfig!$A:$B,2,FALSE))","v":{"$error":"#N/A"}},{"$f":"IF(A1129=\"\",\"\",VLOOKUP(A1129,[1]ItemConfig!$A:$D,4,FALSE))","v":{"$error":"#N/A"}},{"$f":"IF(A1129=\"\",\"\",VLOOKUP(A1129,[1]ItemConfig!$A:$C,3,FALSE))","v":{"$error":"#N/A"}},{"$f":"IF(A1129=\"\",\"\",VLOOKUP(B1129,#REF!,5,FALSE))","v":{"$error":"#N/A"}},{"$f":"IF(A1129=\"\",\"\",VLOOKUP(C1129,#REF!,5,FALSE))","v":{"$error":"#N/A"}}]
[300243,{"$f":"IF(A1130=\"\",\"\",VLOOKUP(A1130,[1]ItemConfig!$A:$B,2,FALSE))","v":{"$error":"#N/A"}},{"$f":"IF(A1130=\"\",\"\",VLOOKUP(A1130,[1]ItemConfig!$A:$D,4,FALSE))","v":{"$error":"#N/A"}},{"$f":"IF(A1130=\"\",\"\",VLOOKUP(A1130,[1]ItemConfig!$A:$C,3,FALSE))","v":{"$error":"#N/A"}},{"$f":"IF(A1130=\"\",\"\",VLOOKUP(B1130,#REF!,5,FALSE))","v":{"$error":"#N/A"}},{"$f":"IF(A1130=\"\",\"\",VLOOKUP(C1130,#REF!,5,FALSE))","v":{"$error":"#N/A"}}]
[300244,{"$f":"IF(A1131=\"\",\"\",VLOOKUP(A1131,[1]ItemConfig!$A:$B,2,FALSE))","v":{"$error":"#N/A"}},{"$f":"IF(A1131=\"\",\"\",VLOOKUP(A1131,[1]ItemConfig!$A:$D,4,FALSE))","v":{"$error":"#N/A"}},{"$f":"IF(A1131=\"\",\"\",VLOOKUP(A1131,[1]ItemConfig!$A:$C,3,FALSE))","v":{"$error":"#N/A"}},{"$f":"IF(A1131=\"\",\"\",VLOOKUP(B1131,#REF!,5,FALSE))","v":{"$error":"#N/A"}},{"$f":"IF(A1131=\"\",\"\",VLOOKUP(C1131,#REF!,5,FALSE))","v":{"$error":"#N/A"}}]
[300245,{"$f":"IF(A1132=\"\",\"\",VLOOKUP(A1132,[1]ItemConfig!$A:$B,2,FALSE))","v":{"$error":"#N/A"}},{"$f":"IF(A1132=\"\",\"\",VLOOKUP(A1132,[1]ItemConfig!$A:$D,4,FALSE))","v":{"$error":"#N/A"}},{"$f":"IF(A1132=\"\",\"\",VLOOKUP(A1132,[1]ItemConfig!$A:$C,3,FALSE))","v":{"$error":"#N/A"}},{"$f":"IF(A1132=\"\",\"\",VLOOKUP(B1132,#REF!,5,FALSE))","v":{"$error":"#N/A"}},{"$f":"IF(A1132=\"\",\"\",VLOOKUP(C1132,#REF!,5,FALSE))","v":{"$error":"#N/A"}}]
[300246,{"$f":"IF(A1133=\"\",\"\",VLOOKUP(A1133,[1]ItemConfig!$A:$B,2,FALSE))","v":{"$error":"#N/A"}},{"$f":"IF(A1133=\"\",\"\",VLOOKUP(A1133,[1]ItemConfig!$A:$D,4,FALSE))","v":{"$error":"#N/A"}},{"$f":"IF(A1133=\"\",\"\",VLOOKUP(A1133,[1]ItemConfig!$A:$C,3,FALSE))","v":{"$error":"#N/A"}},{"$f":"IF(A1133=\"\",\"\",VLOOKUP(B1133,#REF!,5,FALSE))","v":{"$error":"#N/A"}},{"$f":"IF(A1133=\"\",\"\",VLOOKUP(C1133,#REF!,5,FALSE))","v":{"$error":"#N/A"}}]
[300247,{"$f":"IF(A1134=\"\",\"\",VLOOKUP(A1134,[1]ItemConfig!$A:$B,2,FALSE))","v":{"$error":"#N/A"}},{"$f":"IF(A1134=\"\",\"\",VLOOKUP(A1134,[1]ItemConfig!$A:$D,4,FALSE))","v":{"$error":"#N/A"}},{"$f":"IF(A1134=\"\",\"\",VLOOKUP(A1134,[1]ItemConfig!$A:$C,3,FALSE))","v":{"$error":"#N/A"}},{"$f":"IF(A1134=\"\",\"\",VLOOKUP(B1134,#REF!,5,FALSE))","v":{"$error":"#N/A"}},{"$f":"IF(A1134=\"\",\"\",VLOOKUP(C1134,#REF!,5,FALSE))","v":{"$error":"#N/A"}}]
[300248,{"$f":"IF(A1135=\"\",\"\",VLOOKUP(A1135,[1]ItemConfig!$A:$B,2,FALSE))","v":{"$error":"#N/A"}},{"$f":"IF(A1135=\"\",\"\",VLOOKUP(A1135,[1]ItemConfig!$A:$D,4,FALSE))","v":{"$error":"#N/A"}},{"$f":"IF(A1135=\"\",\"\",VLOOKUP(A1135,[1]ItemConfig!$A:$C,3,FALSE))","v":{"$error":"#N/A"}},{"$f":"IF(A1135=\"\",\"\",VLOOKUP(B1135,#REF!,5,FALSE))","v":{"$error":"#N/A"}},{"$f":"IF(A1135=\"\",\"\",VLOOKUP(C1135,#REF!,5,FALSE))","v":{"$error":"#N/A"}}]
[300249,{"$f":"IF(A1136=\"\",\"\",VLOOKUP(A1136,[1]ItemConfig!$A:$B,2,FALSE))","v":{"$error":"#N/A"}},{"$f":"IF(A1136=\"\",\"\",VLOOKUP(A1136,[1]ItemConfig!$A:$D,4,FALSE))","v":{"$error":"#N/A"}},{"$f":"IF(A1136=\"\",\"\",VLOOKUP(A1136,[1]ItemConfig!$A:$C,3,FALSE))","v":{"$error":"#N/A"}},{"$f":"IF(A1136=\"\",\"\",VLOOKUP(B1136,#REF!,5,FALSE))","v":{"$error":"#N/A"}},{"$f":"IF(A1136=\"\",\"\",VLOOKUP(C1136,#REF!,5,FALSE))","v":{"$error":"#N/A"}}]
[300250,{"$f":"IF(A1137=\"\",\"\",VLOOKUP(A1137,[1]ItemConfig!$A:$B,2,FALSE))","v":{"$error":"#N/A"}},{"$f":"IF(A1137=\"\",\"\",VLOOKUP(A1137,[1]ItemConfig!$A:$D,4,FALSE))","v":{"$error":"#N/A"}},{"$f":"IF(A1137=\"\",\"\",VLOOKUP(A1137,[1]ItemConfig!$A:$C,3,FALSE))","v":{"$error":"#N/A"}},{"$f":"IF(A1137=\"\",\"\",VLOOKUP(B1137,#REF!,5,FALSE))","v":{"$error":"#N/A"}},{"$f":"IF(A1137=\"\",\"\",VLOOKUP(C1137,#REF!,5,FALSE))","v":{"$error":"#N/A"}}]
[300251,{"$f":"IF(A1138=\"\",\"\",VLOOKUP(A1138,[1]ItemConfig!$A:$B,2,FALSE))","v":{"$error":"#N/A"}},{"$f":"IF(A1138=\"\",\"\",VLOOKUP(A1138,[1]ItemConfig!$A:$D,4,FALSE))","v":{"$error":"#N/A"}},{"$f":"IF(A1138=\"\",\"\",VLOOKUP(A1138,[1]ItemConfig!$A:$C,3,FALSE))","v":{"$error":"#N/A"}},{"$f":"IF(A1138=\"\",\"\",VLOOKUP(B1138,#REF!,5,FALSE))","v":{"$error":"#N/A"}},{"$f":"IF(A1138=\"\",\"\",VLOOKUP(C1138,#REF!,5,FALSE))","v":{"$error":"#N/A"}}]
[300252,{"$f":"IF(A1139=\"\",\"\",VLOOKUP(A1139,[1]ItemConfig!$A:$B,2,FALSE))","v":{"$error":"#N/A"}},{"$f":"IF(A1139=\"\",\"\",VLOOKUP(A1139,[1]ItemConfig!$A:$D,4,FALSE))","v":{"$error":"#N/A"}},{"$f":"IF(A1139=\"\",\"\",VLOOKUP(A1139,[1]ItemConfig!$A:$C,3,FALSE))","v":{"$error":"#N/A"}},{"$f":"IF(A1139=\"\",\"\",VLOOKUP(B1139,#REF!,5,FALSE))","v":{"$error":"#N/A"}},{"$f":"IF(A1139=\"\",\"\",VLOOKUP(C1139,#REF!,5,FALSE))","v":{"$error":"#N/A"}}]
[300253,{"$f":"IF(A1140=\"\",\"\",VLOOKUP(A1140,[1]ItemConfig!$A:$B,2,FALSE))","v":{"$error":"#N/A"}},{"$f":"IF(A1140=\"\",\"\",VLOOKUP(A1140,[1]ItemConfig!$A:$D,4,FALSE))","v":{"$error":"#N/A"}},{"$f":"IF(A1140=\"\",\"\",VLOOKUP(A1140,[1]ItemConfig!$A:$C,3,FALSE))","v":{"$error":"#N/A"}},{"$f":"IF(A1140=\"\",\"\",VLOOKUP(B1140,#REF!,5,FALSE))","v":{"$error":"#N/A"}},{"$f":"IF(A1140=\"\",\"\",VLOOKUP(C1140,#REF!,5,FALSE))","v":{"$error":"#N/A"}}]
[300254,{"$f":"IF(A1141=\"\",\"\",VLOOKUP(A1141,[1]ItemConfig!$A:$B,2,FALSE))","v":{"$error":"#N/A"}},{"$f":"IF(A1141=\"\",\"\",VLOOKUP(A1141,[1]ItemConfig!$A:$D,4,FALSE))","v":{"$error":"#N/A"}},{"$f":"IF(A1141=\"\",\"\",VLOOKUP(A1141,[1]ItemConfig!$A:$C,3,FALSE))","v":{"$error":"#N/A"}},{"$f":"IF(A1141=\"\",\"\",VLOOKUP(B1141,#REF!,5,FALSE))","v":{"$error":"#N/A"}},{"$f":"IF(A1141=\"\",\"\",VLOOKUP(C1141,#REF!,5,FALSE))","v":{"$error":"#N/A"}}]
[300255,{"$f":"IF(A1142=\"\",\"\",VLOOKUP(A1142,[1]ItemConfig!$A:$B,2,FALSE))","v":{"$error":"#N/A"}},{"$f":"IF(A1142=\"\",\"\",VLOOKUP(A1142,[1]ItemConfig!$A:$D,4,FALSE))","v":{"$error":"#N/A"}},{"$f":"IF(A1142=\"\",\"\",VLOOKUP(A1142,[1]ItemConfig!$A:$C,3,FALSE))","v":{"$error":"#N/A"}},{"$f":"IF(A1142=\"\",\"\",VLOOKUP(B1142,#REF!,5,FALSE))","v":{"$error":"#N/A"}},{"$f":"IF(A1142=\"\",\"\",VLOOKUP(C1142,#REF!,5,FALSE))","v":{"$error":"#N/A"}}]
[300256,{"$f":"IF(A1143=\"\",\"\",VLOOKUP(A1143,[1]ItemConfig!$A:$B,2,FALSE))","v":{"$error":"#N/A"}},{"$f":"IF(A1143=\"\",\"\",VLOOKUP(A1143,[1]ItemConfig!$A:$D,4,FALSE))","v":{"$error":"#N/A"}},{"$f":"IF(A1143=\"\",\"\",VLOOKUP(A1143,[1]ItemConfig!$A:$C,3,FALSE))","v":{"$error":"#N/A"}},{"$f":"IF(A1143=\"\",\"\",VLOOKUP(B1143,#REF!,5,FALSE))","v":{"$error":"#N/A"}},{"$f":"IF(A1143=\"\",\"\",VLOOKUP(C1143,#REF!,5,FALSE))","v":{"$error":"#N/A"}}]
[300257,{"$f":"IF(A1144=\"\",\"\",VLOOKUP(A1144,[1]ItemConfig!$A:$B,2,FALSE))","v":{"$error":"#N/A"}},{"$f":"IF(A1144=\"\",\"\",VLOOKUP(A1144,[1]ItemConfig!$A:$D,4,FALSE))","v":{"$error":"#N/A"}},{"$f":"IF(A1144=\"\",\"\",VLOOKUP(A1144,[1]ItemConfig!$A:$C,3,FALSE))","v":{"$error":"#N/A"}},{"$f":"IF(A1144=\"\",\"\",VLOOKUP(B1144,#REF!,5,FALSE))","v":{"$error":"#N/A"}},{"$f":"IF(A1144=\"\",\"\",VLOOKUP(C1144,#REF!,5,FALSE))","v":{"$error":"#N/A"}}]
[300258,{"$f":"IF(A1145=\"\",\"\",VLOOKUP(A1145,[1]ItemConfig!$A:$B,2,FALSE))","v":{"$error":"#N/A"}},{"$f":"IF(A1145=\"\",\"\",VLOOKUP(A1145,[1]ItemConfig!$A:$D,4,FALSE))","v":{"$error":"#N/A"}},{"$f":"IF(A1145=\"\",\"\",VLOOKUP(A1145,[1]ItemConfig!$A:$C,3,FALSE))","v":{"$error":"#N/A"}},{"$f":"IF(A1145=\"\",\"\",VLOOKUP(B1145,#REF!,5,FALSE))","v":{"$error":"#N/A"}},{"$f":"IF(A1145=\"\",\"\",VLOOKUP(C1145,#REF!,5,FALSE))","v":{"$error":"#N/A"}}]
[300259,{"$f":"IF(A1146=\"\",\"\",VLOOKUP(A1146,[1]ItemConfig!$A:$B,2,FALSE))","v":{"$error":"#N/A"}},{"$f":"IF(A1146=\"\",\"\",VLOOKUP(A1146,[1]ItemConfig!$A:$D,4,FALSE))","v":{"$error":"#N/A"}},{"$f":"IF(A1146=\"\",\"\",VLOOKUP(A1146,[1]ItemConfig!$A:$C,3,FALSE))","v":{"$error":"#N/A"}},{"$f":"IF(A1146=\"\",\"\",VLOOKUP(B1146,#REF!,5,FALSE))","v":{"$error":"#N/A"}},{"$f":"IF(A1146=\"\",\"\",VLOOKUP(C1146,#REF!,5,FALSE))","v":{"$error":"#N/A"}}]
[300260,{"$f":"IF(A1147=\"\",\"\",VLOOKUP(A1147,[1]ItemConfig!$A:$B,2,FALSE))","v":{"$error":"#N/A"}},{"$f":"IF(A1147=\"\",\"\",VLOOKUP(A1147,[1]ItemConfig!$A:$D,4,FALSE))","v":{"$error":"#N/A"}},{"$f":"IF(A1147=\"\",\"\",VLOOKUP(A1147,[1]ItemConfig!$A:$C,3,FALSE))","v":{"$error":"#N/A"}},{"$f":"IF(A1147=\"\",\"\",VLOOKUP(B1147,#REF!,5,FALSE))","v":{"$error":"#N/A"}},{"$f":"IF(A1147=\"\",\"\",VLOOKUP(C1147,#REF!,5,FALSE))","v":{"$error":"#N/A"}}]
[300261,{"$f":"IF(A1148=\"\",\"\",VLOOKUP(A1148,[1]ItemConfig!$A:$B,2,FALSE))","v":{"$error":"#N/A"}},{"$f":"IF(A1148=\"\",\"\",VLOOKUP(A1148,[1]ItemConfig!$A:$D,4,FALSE))","v":{"$error":"#N/A"}},{"$f":"IF(A1148=\"\",\"\",VLOOKUP(A1148,[1]ItemConfig!$A:$C,3,FALSE))","v":{"$error":"#N/A"}},{"$f":"IF(A1148=\"\",\"\",VLOOKUP(B1148,#REF!,5,FALSE))","v":{"$error":"#N/A"}},{"$f":"IF(A1148=\"\",\"\",VLOOKUP(C1148,#REF!,5,FALSE))","v":{"$error":"#N/A"}}]
[300262,{"$f":"IF(A1149=\"\",\"\",VLOOKUP(A1149,[1]ItemConfig!$A:$B,2,FALSE))","v":{"$error":"#N/A"}},{"$f":"IF(A1149=\"\",\"\",VLOOKUP(A1149,[1]ItemConfig!$A:$D,4,FALSE))","v":{"$error":"#N/A"}},{"$f":"IF(A1149=\"\",\"\",VLOOKUP(A1149,[1]ItemConfig!$A:$C,3,FALSE))","v":{"$error":"#N/A"}},{"$f":"IF(A1149=\"\",\"\",VLOOKUP(B1149,#REF!,5,FALSE))","v":{"$error":"#N/A"}},{"$f":"IF(A1149=\"\",\"\",VLOOKUP(C1149,#REF!,5,FALSE))","v":{"$error":"#N/A"}}]
[300263,{"$f":"IF(A1150=\"\",\"\",VLOOKUP(A1150,[1]ItemConfig!$A:$B,2,FALSE))","v":{"$error":"#N/A"}},{"$f":"IF(A1150=\"\",\"\",VLOOKUP(A1150,[1]ItemConfig!$A:$D,4,FALSE))","v":{"$error":"#N/A"}},{"$f":"IF(A1150=\"\",\"\",VLOOKUP(A1150,[1]ItemConfig!$A:$C,3,FALSE))","v":{"$error":"#N/A"}},{"$f":"IF(A1150=\"\",\"\",VLOOKUP(B1150,#REF!,5,FALSE))","v":{"$error":"#N/A"}},{"$f":"IF(A1150=\"\",\"\",VLOOKUP(C1150,#REF!,5,FALSE))","v":{"$error":"#N/A"}}]
[300264,{"$f":"IF(A1151=\"\",\"\",VLOOKUP(A1151,[1]ItemConfig!$A:$B,2,FALSE))","v":{"$error":"#N/A"}},{"$f":"IF(A1151=\"\",\"\",VLOOKUP(A1151,[1]ItemConfig!$A:$D,4,FALSE))","v":{"$error":"#N/A"}},{"$f":"IF(A1151=\"\",\"\",VLOOKUP(A1151,[1]ItemConfig!$A:$C,3,FALSE))","v":{"$error":"#N/A"}},{"$f":"IF(A1151=\"\",\"\",VLOOKUP(B1151,#REF!,5,FALSE))","v":{"$error":"#N/A"}},{"$f":"IF(A1151=\"\",\"\",VLOOKUP(C1151,#REF!,5,FALSE))","v":{"$error":"#N/A"}}]
[300265,{"$f":"IF(A1152=\"\",\"\",VLOOKUP(A1152,[1]ItemConfig!$A:$B,2,FALSE))","v":{"$error":"#N/A"}},{"$f":"IF(A1152=\"\",\"\",VLOOKUP(A1152,[1]ItemConfig!$A:$D,4,FALSE))","v":{"$error":"#N/A"}},{"$f":"IF(A1152=\"\",\"\",VLOOKUP(A1152,[1]ItemConfig!$A:$C,3,FALSE))","v":{"$error":"#N/A"}},{"$f":"IF(A1152=\"\",\"\",VLOOKUP(B1152,#REF!,5,FALSE))","v":{"$error":"#N/A"}},{"$f":"IF(A1152=\"\",\"\",VLOOKUP(C1152,#REF!,5,FALSE))","v":{"$error":"#N/A"}}]
[300266,{"$f":"IF(A1153=\"\",\"\",VLOOKUP(A1153,[1]ItemConfig!$A:$B,2,FALSE))","v":{"$error":"#N/A"}},{"$f":"IF(A1153=\"\",\"\",VLOOKUP(A1153,[1]ItemConfig!$A:$D,4,FALSE))","v":{"$error":"#N/A"}},{"$f":"IF(A1153=\"\",\"\",VLOOKUP(A1153,[1]ItemConfig!$A:$C,3,FALSE))","v":{"$error":"#N/A"}},{"$f":"IF(A1153=\"\",\"\",VLOOKUP(B1153,#REF!,5,FALSE))","v":{"$error":"#N/A"}},{"$f":"IF(A1153=\"\",\"\",VLOOKUP(C1153,#REF!,5,FALSE))","v":{"$error":"#N/A"}}]
[300267,{"$f":"IF(A1154=\"\",\"\",VLOOKUP(A1154,[1]ItemConfig!$A:$B,2,FALSE))","v":{"$error":"#N/A"}},{"$f":"IF(A1154=\"\",\"\",VLOOKUP(A1154,[1]ItemConfig!$A:$D,4,FALSE))","v":{"$error":"#N/A"}},{"$f":"IF(A1154=\"\",\"\",VLOOKUP(A1154,[1]ItemConfig!$A:$C,3,FALSE))","v":{"$error":"#N/A"}},{"$f":"IF(A1154=\"\",\"\",VLOOKUP(B1154,#REF!,5,FALSE))","v":{"$error":"#N/A"}},{"$f":"IF(A1154=\"\",\"\",VLOOKUP(C1154,#REF!,5,FALSE))","v":{"$error":"#N/A"}}]
[300268,{"$f":"IF(A1155=\"\",\"\",VLOOKUP(A1155,[1]ItemConfig!$A:$B,2,FALSE))","v":{"$error":"#N/A"}},{"$f":"IF(A1155=\"\",\"\",VLOOKUP(A1155,[1]ItemConfig!$A:$D,4,FALSE))","v":{"$error":"#N/A"}},{"$f":"IF(A1155=\"\",\"\",VLOOKUP(A1155,[1]ItemConfig!$A:$C,3,FALSE))","v":{"$error":"#N/A"}},{"$f":"IF(A1155=\"\",\"\",VLOOKUP(B1155,#REF!,5,FALSE))","v":{"$error":"#N/A"}},{"$f":"IF(A1155=\"\",\"\",VLOOKUP(C1155,#REF!,5,FALSE))","v":{"$error":"#N/A"}}]
[300269,{"$f":"IF(A1156=\"\",\"\",VLOOKUP(A1156,[1]ItemConfig!$A:$B,2,FALSE))","v":{"$error":"#N/A"}},{"$f":"IF(A1156=\"\",\"\",VLOOKUP(A1156,[1]ItemConfig!$A:$D,4,FALSE))","v":{"$error":"#N/A"}},{"$f":"IF(A1156=\"\",\"\",VLOOKUP(A1156,[1]ItemConfig!$A:$C,3,FALSE))","v":{"$error":"#N/A"}},{"$f":"IF(A1156=\"\",\"\",VLOOKUP(B1156,#REF!,5,FALSE))","v":{"$error":"#N/A"}},{"$f":"IF(A1156=\"\",\"\",VLOOKUP(C1156,#REF!,5,FALSE))","v":{"$error":"#N/A"}}]
[300270,{"$f":"IF(A1157=\"\",\"\",VLOOKUP(A1157,[1]ItemConfig!$A:$B,2,FALSE))","v":{"$error":"#N/A"}},{"$f":"IF(A1157=\"\",\"\",VLOOKUP(A1157,[1]ItemConfig!$A:$D,4,FALSE))","v":{"$error":"#N/A"}},{"$f":"IF(A1157=\"\",\"\",VLOOKUP(A1157,[1]ItemConfig!$A:$C,3,FALSE))","v":{"$error":"#N/A"}},{"$f":"IF(A1157=\"\",\"\",VLOOKUP(B1157,#REF!,5,FALSE))","v":{"$error":"#N/A"}},{"$f":"IF(A1157=\"\",\"\",VLOOKUP(C1157,#REF!,5,FALSE))","v":{"$error":"#N/A"}}]
[300271,{"$f":"IF(A1158=\"\",\"\",VLOOKUP(A1158,[1]ItemConfig!$A:$B,2,FALSE))","v":{"$error":"#N/A"}},{"$f":"IF(A1158=\"\",\"\",VLOOKUP(A1158,[1]ItemConfig!$A:$D,4,FALSE))","v":{"$error":"#N/A"}},{"$f":"IF(A1158=\"\",\"\",VLOOKUP(A1158,[1]ItemConfig!$A:$C,3,FALSE))","v":{"$error":"#N/A"}},{"$f":"IF(A1158=\"\",\"\",VLOOKUP(B1158,#REF!,5,FALSE))","v":{"$error":"#N/A"}},{"$f":"IF(A1158=\"\",\"\",VLOOKUP(C1158,#REF!,5,FALSE))","v":{"$error":"#N/A"}}]
[300272,{"$f":"IF(A1159=\"\",\"\",VLOOKUP(A1159,[1]ItemConfig!$A:$B,2,FALSE))","v":{"$error":"#N/A"}},{"$f":"IF(A1159=\"\",\"\",VLOOKUP(A1159,[1]ItemConfig!$A:$D,4,FALSE))","v":{"$error":"#N/A"}},{"$f":"IF(A1159=\"\",\"\",VLOOKUP(A1159,[1]ItemConfig!$A:$C,3,FALSE))","v":{"$error":"#N/A"}},{"$f":"IF(A1159=\"\",\"\",VLOOKUP(B1159,#REF!,5,FALSE))","v":{"$error":"#N/A"}},{"$f":"IF(A1159=\"\",\"\",VLOOKUP(C1159,#REF!,5,FALSE))","v":{"$error":"#N/A"}}]
[300273,{"$f":"IF(A1160=\"\",\"\",VLOOKUP(A1160,[1]ItemConfig!$A:$B,2,FALSE))","v":{"$error":"#N/A"}},{"$f":"IF(A1160=\"\",\"\",VLOOKUP(A1160,[1]ItemConfig!$A:$D,4,FALSE))","v":{"$error":"#N/A"}},{"$f":"IF(A1160=\"\",\"\",VLOOKUP(A1160,[1]ItemConfig!$A:$C,3,FALSE))","v":{"$error":"#N/A"}},{"$f":"IF(A1160=\"\",\"\",VLOOKUP(B1160,#REF!,5,FALSE))","v":{"$error":"#N/A"}},{"$f":"IF(A1160=\"\",\"\",VLOOKUP(C1160,#REF!,5,FALSE))","v":{"$error":"#N/A"}}]
[300274,{"$f":"IF(A1161=\"\",\"\",VLOOKUP(A1161,[1]ItemConfig!$A:$B,2,FALSE))","v":{"$error":"#N/A"}},{"$f":"IF(A1161=\"\",\"\",VLOOKUP(A1161,[1]ItemConfig!$A:$D,4,FALSE))","v":{"$error":"#N/A"}},{"$f":"IF(A1161=\"\",\"\",VLOOKUP(A1161,[1]ItemConfig!$A:$C,3,FALSE))","v":{"$error":"#N/A"}},{"$f":"IF(A1161=\"\",\"\",VLOOKUP(B1161,#REF!,5,FALSE))","v":{"$error":"#N/A"}},{"$f":"IF(A1161=\"\",\"\",VLOOKUP(C1161,#REF!,5,FALSE))","v":{"$error":"#N/A"}}]
[300275,{"$f":"IF(A1162=\"\",\"\",VLOOKUP(A1162,[1]ItemConfig!$A:$B,2,FALSE))","v":{"$error":"#N/A"}},{"$f":"IF(A1162=\"\",\"\",VLOOKUP(A1162,[1]ItemConfig!$A:$D,4,FALSE))","v":{"$error":"#N/A"}},{"$f":"IF(A1162=\"\",\"\",VLOOKUP(A1162,[1]ItemConfig!$A:$C,3,FALSE))","v":{"$error":"#N/A"}},{"$f":"IF(A1162=\"\",\"\",VLOOKUP(B1162,#REF!,5,FALSE))","v":{"$error":"#N/A"}},{"$f":"IF(A1162=\"\",\"\",VLOOKUP(C1162,#REF!,5,FALSE))","v":{"$error":"#N/A"}}]
[300276,{"$f":"IF(A1163=\"\",\"\",VLOOKUP(A1163,[1]ItemConfig!$A:$B,2,FALSE))","v":{"$error":"#N/A"}},{"$f":"IF(A1163=\"\",\"\",VLOOKUP(A1163,[1]ItemConfig!$A:$D,4,FALSE))","v":{"$error":"#N/A"}},{"$f":"IF(A1163=\"\",\"\",VLOOKUP(A1163,[1]ItemConfig!$A:$C,3,FALSE))","v":{"$error":"#N/A"}},{"$f":"IF(A1163=\"\",\"\",VLOOKUP(B1163,#REF!,5,FALSE))","v":{"$error":"#N/A"}},{"$f":"IF(A1163=\"\",\"\",VLOOKUP(C1163,#REF!,5,FALSE))","v":{"$error":"#N/A"}}]
[300277,{"$f":"IF(A1164=\"\",\"\",VLOOKUP(A1164,[1]ItemConfig!$A:$B,2,FALSE))","v":{"$error":"#N/A"}},{"$f":"IF(A1164=\"\",\"\",VLOOKUP(A1164,[1]ItemConfig!$A:$D,4,FALSE))","v":{"$error":"#N/A"}},{"$f":"IF(A1164=\"\",\"\",VLOOKUP(A1164,[1]ItemConfig!$A:$C,3,FALSE))","v":{"$error":"#N/A"}},{"$f":"IF(A1164=\"\",\"\",VLOOKUP(B1164,#REF!,5,FALSE))","v":{"$error":"#N/A"}},{"$f":"IF(A1164=\"\",\"\",VLOOKUP(C1164,#REF!,5,FALSE))","v":{"$error":"#N/A"}}]
[300278,{"$f":"IF(A1165=\"\",\"\",VLOOKUP(A1165,[1]ItemConfig!$A:$B,2,FALSE))","v":{"$error":"#N/A"}},{"$f":"IF(A1165=\"\",\"\",VLOOKUP(A1165,[1]ItemConfig!$A:$D,4,FALSE))","v":{"$error":"#N/A"}},{"$f":"IF(A1165=\"\",\"\",VLOOKUP(A1165,[1]ItemConfig!$A:$C,3,FALSE))","v":{"$error":"#N/A"}},{"$f":"IF(A1165=\"\",\"\",VLOOKUP(B1165,#REF!,5,FALSE))","v":{"$error":"#N/A"}},{"$f":"IF(A1165=\"\",\"\",VLOOKUP(C1165,#REF!,5,FALSE))","v":{"$error":"#N/A"}}]
[300279,{"$f":"IF(A1166=\"\",\"\",VLOOKUP(A1166,[1]ItemConfig!$A:$B,2,FALSE))","v":{"$error":"#N/A"}},{"$f":"IF(A1166=\"\",\"\",VLOOKUP(A1166,[1]ItemConfig!$A:$D,4,FALSE))","v":{"$error":"#N/A"}},{"$f":"IF(A1166=\"\",\"\",VLOOKUP(A1166,[1]ItemConfig!$A:$C,3,FALSE))","v":{"$error":"#N/A"}},{"$f":"IF(A1166=\"\",\"\",VLOOKUP(B1166,#REF!,5,FALSE))","v":{"$error":"#N/A"}},{"$f":"IF(A1166=\"\",\"\",VLOOKUP(C1166,#REF!,5,FALSE))","v":{"$error":"#N/A"}}]
[300280,{"$f":"IF(A1167=\"\",\"\",VLOOKUP(A1167,[1]ItemConfig!$A:$B,2,FALSE))","v":{"$error":"#N/A"}},{"$f":"IF(A1167=\"\",\"\",VLOOKUP(A1167,[1]ItemConfig!$A:$D,4,FALSE))","v":{"$error":"#N/A"}},{"$f":"IF(A1167=\"\",\"\",VLOOKUP(A1167,[1]ItemConfig!$A:$C,3,FALSE))","v":{"$error":"#N/A"}},{"$f":"IF(A1167=\"\",\"\",VLOOKUP(B1167,#REF!,5,FALSE))","v":{"$error":"#N/A"}},{"$f":"IF(A1167=\"\",\"\",VLOOKUP(C1167,#REF!,5,FALSE))","v":{"$error":"#N/A"}}]
[300281,{"$f":"IF(A1168=\"\",\"\",VLOOKUP(A1168,[1]ItemConfig!$A:$B,2,FALSE))","v":{"$error":"#N/A"}},{"$f":"IF(A1168=\"\",\"\",VLOOKUP(A1168,[1]ItemConfig!$A:$D,4,FALSE))","v":{"$error":"#N/A"}},{"$f":"IF(A1168=\"\",\"\",VLOOKUP(A1168,[1]ItemConfig!$A:$C,3,FALSE))","v":{"$error":"#N/A"}},{"$f":"IF(A1168=\"\",\"\",VLOOKUP(B1168,#REF!,5,FALSE))","v":{"$error":"#N/A"}},{"$f":"IF(A1168=\"\",\"\",VLOOKUP(C1168,#REF!,5,FALSE))","v":{"$error":"#N/A"}}]
[300282,{"$f":"IF(A1169=\"\",\"\",VLOOKUP(A1169,[1]ItemConfig!$A:$B,2,FALSE))","v":{"$error":"#N/A"}},{"$f":"IF(A1169=\"\",\"\",VLOOKUP(A1169,[1]ItemConfig!$A:$D,4,FALSE))","v":{"$error":"#N/A"}},{"$f":"IF(A1169=\"\",\"\",VLOOKUP(A1169,[1]ItemConfig!$A:$C,3,FALSE))","v":{"$error":"#N/A"}},{"$f":"IF(A1169=\"\",\"\",VLOOKUP(B1169,#REF!,5,FALSE))","v":{"$error":"#N/A"}},{"$f":"IF(A1169=\"\",\"\",VLOOKUP(C1169,#REF!,5,FALSE))","v":{"$error":"#N/A"}}]
[300283,{"$f":"IF(A1170=\"\",\"\",VLOOKUP(A1170,[1]ItemConfig!$A:$B,2,FALSE))","v":{"$error":"#N/A"}},{"$f":"IF(A1170=\"\",\"\",VLOOKUP(A1170,[1]ItemConfig!$A:$D,4,FALSE))","v":{"$error":"#N/A"}},{"$f":"IF(A1170=\"\",\"\",VLOOKUP(A1170,[1]ItemConfig!$A:$C,3,FALSE))","v":{"$error":"#N/A"}},{"$f":"IF(A1170=\"\",\"\",VLOOKUP(B1170,#REF!,5,FALSE))","v":{"$error":"#N/A"}},{"$f":"IF(A1170=\"\",\"\",VLOOKUP(C1170,#REF!,5,FALSE))","v":{"$error":"#N/A"}}]
[300284,{"$f":"IF(A1171=\"\",\"\",VLOOKUP(A1171,[1]ItemConfig!$A:$B,2,FALSE))","v":{"$error":"#N/A"}},{"$f":"IF(A1171=\"\",\"\",VLOOKUP(A1171,[1]ItemConfig!$A:$D,4,FALSE))","v":{"$error":"#N/A"}},{"$f":"IF(A1171=\"\",\"\",VLOOKUP(A1171,[1]ItemConfig!$A:$C,3,FALSE))","v":{"$error":"#N/A"}},{"$f":"IF(A1171=\"\",\"\",VLOOKUP(B1171,#REF!,5,FALSE))","v":{"$error":"#N/A"}},{"$f":"IF(A1171=\"\",\"\",VLOOKUP(C1171,#REF!,5,FALSE))","v":{"$error":"#N/A"}}]
[300285,{"$f":"IF(A1172=\"\",\"\",VLOOKUP(A1172,[1]ItemConfig!$A:$B,2,FALSE))","v":{"$error":"#N/A"}},{"$f":"IF(A1172=\"\",\"\",VLOOKUP(A1172,[1]ItemConfig!$A:$D,4,FALSE))","v":{"$error":"#N/A"}},{"$f":"IF(A1172=\"\",\"\",VLOOKUP(A1172,[1]ItemConfig!$A:$C,3,FALSE))","v":{"$error":"#N/A"}},{"$f":"IF(A1172=\"\",\"\",VLOOKUP(B1172,#REF!,5,FALSE))","v":{"$error":"#N/A"}},{"$f":"IF(A1172=\"\",\"\",VLOOKUP(C1172,#REF!,5,FALSE))","v":{"$error":"#N/A"}}]
[300286,{"$f":"IF(A1173=\"\",\"\",VLOOKUP(A1173,[1]ItemConfig!$A:$B,2,FALSE))","v":{"$error":"#N/A"}},{"$f":"IF(A1173=\"\",\"\",VLOOKUP(A1173,[1]ItemConfig!$A:$D,4,FALSE))","v":{"$error":"#N/A"}},{"$f":"IF(A1173=\"\",\"\",VLOOKUP(A1173,[1]ItemConfig!$A:$C,3,FALSE))","v":{"$error":"#N/A"}},{"$f":"IF(A1173=\"\",\"\",VLOOKUP(B1173,#REF!,5,FALSE))","v":{"$error":"#N/A"}},{"$f":"IF(A1173=\"\",\"\",VLOOKUP(C1173,#REF!,5,FALSE))","v":{"$error":"#N/A"}}]
[300287,{"$f":"IF(A1174=\"\",\"\",VLOOKUP(A1174,[1]ItemConfig!$A:$B,2,FALSE))","v":{"$error":"#N/A"}},{"$f":"IF(A1174=\"\",\"\",VLOOKUP(A1174,[1]ItemConfig!$A:$D,4,FALSE))","v":{"$error":"#N/A"}},{"$f":"IF(A1174=\"\",\"\",VLOOKUP(A1174,[1]ItemConfig!$A:$C,3,FALSE))","v":{"$error":"#N/A"}},{"$f":"IF(A1174=\"\",\"\",VLOOKUP(B1174,#REF!,5,FALSE))","v":{"$error":"#N/A"}},{"$f":"IF(A1174=\"\",\"\",VLOOKUP(C1174,#REF!,5,FALSE))","v":{"$error":"#N/A"}}]
[300288,{"$f":"IF(A1175=\"\",\"\",VLOOKUP(A1175,[1]ItemConfig!$A:$B,2,FALSE))","v":{"$error":"#N/A"}},{"$f":"IF(A1175=\"\",\"\",VLOOKUP(A1175,[1]ItemConfig!$A:$D,4,FALSE))","v":{"$error":"#N/A"}},{"$f":"IF(A1175=\"\",\"\",VLOOKUP(A1175,[1]ItemConfig!$A:$C,3,FALSE))","v":{"$error":"#N/A"}},{"$f":"IF(A1175=\"\",\"\",VLOOKUP(B1175,#REF!,5,FALSE))","v":{"$error":"#N/A"}},{"$f":"IF(A1175=\"\",\"\",VLOOKUP(C1175,#REF!,5,FALSE))","v":{"$error":"#N/A"}}]
[300289,{"$f":"IF(A1176=\"\",\"\",VLOOKUP(A1176,[1]ItemConfig!$A:$B,2,FALSE))","v":{"$error":"#N/A"}},{"$f":"IF(A1176=\"\",\"\",VLOOKUP(A1176,[1]ItemConfig!$A:$D,4,FALSE))","v":{"$error":"#N/A"}},{"$f":"IF(A1176=\"\",\"\",VLOOKUP(A1176,[1]ItemConfig!$A:$C,3,FALSE))","v":{"$error":"#N/A"}},{"$f":"IF(A1176=\"\",\"\",VLOOKUP(B1176,#REF!,5,FALSE))","v":{"$error":"#N/A"}},{"$f":"IF(A1176=\"\",\"\",VLOOKUP(C1176,#REF!,5,FALSE))","v":{"$error":"#N/A"}}]
[300290,{"$f":"IF(A1177=\"\",\"\",VLOOKUP(A1177,[1]ItemConfig!$A:$B,2,FALSE))","v":{"$error":"#N/A"}},{"$f":"IF(A1177=\"\",\"\",VLOOKUP(A1177,[1]ItemConfig!$A:$D,4,FALSE))","v":{"$error":"#N/A"}},{"$f":"IF(A1177=\"\",\"\",VLOOKUP(A1177,[1]ItemConfig!$A:$C,3,FALSE))","v":{"$error":"#N/A"}},{"$f":"IF(A1177=\"\",\"\",VLOOKUP(B1177,#REF!,5,FALSE))","v":{"$error":"#N/A"}},{"$f":"IF(A1177=\"\",\"\",VLOOKUP(C1177,#REF!,5,FALSE))","v":{"$error":"#N/A"}}]
[300291,{"$f":"IF(A1178=\"\",\"\",VLOOKUP(A1178,[1]ItemConfig!$A:$B,2,FALSE))","v":{"$error":"#N/A"}},{"$f":"IF(A1178=\"\",\"\",VLOOKUP(A1178,[1]ItemConfig!$A:$D,4,FALSE))","v":{"$error":"#N/A"}},{"$f":"IF(A1178=\"\",\"\",VLOOKUP(A1178,[1]ItemConfig!$A:$C,3,FALSE))","v":{"$error":"#N/A"}},{"$f":"IF(A1178=\"\",\"\",VLOOKUP(B1178,#REF!,5,FALSE))","v":{"$error":"#N/A"}},{"$f":"IF(A1178=\"\",\"\",VLOOKUP(C1178,#REF!,5,FALSE))","v":{"$error":"#N/A"}}]
[300292,{"$f":"IF(A1179=\"\",\"\",VLOOKUP(A1179,[1]ItemConfig!$A:$B,2,FALSE))","v":{"$error":"#N/A"}},{"$f":"IF(A1179=\"\",\"\",VLOOKUP(A1179,[1]ItemConfig!$A:$D,4,FALSE))","v":{"$error":"#N/A"}},{"$f":"IF(A1179=\"\",\"\",VLOOKUP(A1179,[1]ItemConfig!$A:$C,3,FALSE))","v":{"$error":"#N/A"}},{"$f":"IF(A1179=\"\",\"\",VLOOKUP(B1179,#REF!,5,FALSE))","v":{"$error":"#N/A"}},{"$f":"IF(A1179=\"\",\"\",VLOOKUP(C1179,#REF!,5,FALSE))","v":{"$error":"#N/A"}}]
[300293,{"$f":"IF(A1180=\"\",\"\",VLOOKUP(A1180,[1]ItemConfig!$A:$B,2,FALSE))","v":{"$error":"#N/A"}},{"$f":"IF(A1180=\"\",\"\",VLOOKUP(A1180,[1]ItemConfig!$A:$D,4,FALSE))","v":{"$error":"#N/A"}},{"$f":"IF(A1180=\"\",\"\",VLOOKUP(A1180,[1]ItemConfig!$A:$C,3,FALSE))","v":{"$error":"#N/A"}},{"$f":"IF(A1180=\"\",\"\",VLOOKUP(B1180,#REF!,5,FALSE))","v":{"$error":"#N/A"}},{"$f":"IF(A1180=\"\",\"\",VLOOKUP(C1180,#REF!,5,FALSE))","v":{"$error":"#N/A"}}]
[300294,{"$f":"IF(A1181=\"\",\"\",VLOOKUP(A1181,[1]ItemConfig!$A:$B,2,FALSE))","v":{"$error":"#N/A"}},{"$f":"IF(A1181=\"\",\"\",VLOOKUP(A1181,[1]ItemConfig!$A:$D,4,FALSE))","v":{"$error":"#N/A"}},{"$f":"IF(A1181=\"\",\"\",VLOOKUP(A1181,[1]ItemConfig!$A:$C,3,FALSE))","v":{"$error":"#N/A"}},{"$f":"IF(A1181=\"\",\"\",VLOOKUP(B1181,#REF!,5,FALSE))","v":{"$error":"#N/A"}},{"$f":"IF(A1181=\"\",\"\",VLOOKUP(C1181,#REF!,5,FALSE))","v":{"$error":"#N/A"}}]
[300295,{"$f":"IF(A1182=\"\",\"\",VLOOKUP(A1182,[1]ItemConfig!$A:$B,2,FALSE))","v":{"$error":"#N/A"}},{"$f":"IF(A1182=\"\",\"\",VLOOKUP(A1182,[1]ItemConfig!$A:$D,4,FALSE))","v":{"$error":"#N/A"}},{"$f":"IF(A1182=\"\",\"\",VLOOKUP(A1182,[1]ItemConfig!$A:$C,3,FALSE))","v":{"$error":"#N/A"}},{"$f":"IF(A1182=\"\",\"\",VLOOKUP(B1182,#REF!,5,FALSE))","v":{"$error":"#N/A"}},{"$f":"IF(A1182=\"\",\"\",VLOOKUP(C1182,#REF!,5,FALSE))","v":{"$error":"#N/A"}}]
[300296,{"$f":"IF(A1183=\"\",\"\",VLOOKUP(A1183,[1]ItemConfig!$A:$B,2,FALSE))","v":{"$error":"#N/A"}},{"$f":"IF(A1183=\"\",\"\",VLOOKUP(A1183,[1]ItemConfig!$A:$D,4,FALSE))","v":{"$error":"#N/A"}},{"$f":"IF(A1183=\"\",\"\",VLOOKUP(A1183,[1]ItemConfig!$A:$C,3,FALSE))","v":{"$error":"#N/A"}},{"$f":"IF(A1183=\"\",\"\",VLOOKUP(B1183,#REF!,5,FALSE))","v":{"$error":"#N/A"}},{"$f":"IF(A1183=\"\",\"\",VLOOKUP(C1183,#REF!,5,FALSE))","v":{"$error":"#N/A"}}]
[300297,{"$f":"IF(A1184=\"\",\"\",VLOOKUP(A1184,[1]ItemConfig!$A:$B,2,FALSE))","v":{"$error":"#N/A"}},{"$f":"IF(A1184=\"\",\"\",VLOOKUP(A1184,[1]ItemConfig!$A:$D,4,FALSE))","v":{"$error":"#N/A"}},{"$f":"IF(A1184=\"\",\"\",VLOOKUP(A1184,[1]ItemConfig!$A:$C,3,FALSE))","v":{"$error":"#N/A"}},{"$f":"IF(A1184=\"\",\"\",VLOOKUP(B1184,#REF!,5,FALSE))","v":{"$error":"#N/A"}},{"$f":"IF(A1184=\"\",\"\",VLOOKUP(C1184,#REF!,5,FALSE))","v":{"$error":"#N/A"}}]
[300298,{"$f":"IF(A1185=\"\",\"\",VLOOKUP(A1185,[1]ItemConfig!$A:$B,2,FALSE))","v":{"$error":"#N/A"}},{"$f":"IF(A1185=\"\",\"\",VLOOKUP(A1185,[1]ItemConfig!$A:$D,4,FALSE))","v":{"$error":"#N/A"}},{"$f":"IF(A1185=\"\",\"\",VLOOKUP(A1185,[1]ItemConfig!$A:$C,3,FALSE))","v":{"$error":"#N/A"}},{"$f":"IF(A1185=\"\",\"\",VLOOKUP(B1185,#REF!,5,FALSE))","v":{"$error":"#N/A"}},{"$f":"IF(A1185=\"\",\"\",VLOOKUP(C1185,#REF!,5,FALSE))","v":{"$error":"#N/A"}}]
[300299,{"$f":"IF(A1186=\"\",\"\",VLOOKUP(A1186,[1]ItemConfig!$A:$B,2,FALSE))","v":{"$error":"#N/A"}},{"$f":"IF(A1186=\"\",\"\",VLOOKUP(A1186,[1]ItemConfig!$A:$D,4,FALSE))","v":{"$error":"#N/A"}},{"$f":"IF(A1186=\"\",\"\",VLOOKUP(A1186,[1]ItemConfig!$A:$C,3,FALSE))","v":{"$error":"#N/A"}},{"$f":"IF(A1186=\"\",\"\",VLOOKUP(B1186,#REF!,5,FALSE))","v":{"$error":"#N/A"}},{"$f":"IF(A1186=\"\",\"\",VLOOKUP(C1186,#REF!,5,FALSE))","v":{"$error":"#N/A"}}]
[300300,{"$f":"IF(A1187=\"\",\"\",VLOOKUP(A1187,[1]ItemConfig!$A:$B,2,FALSE))","v":{"$error":"#N/A"}},{"$f":"IF(A1187=\"\",\"\",VLOOKUP(A1187,[1]ItemConfig!$A:$D,4,FALSE))","v":{"$error":"#N/A"}},{"$f":"IF(A1187=\"\",\"\",VLOOKUP(A1187,[1]ItemConfig!$A:$C,3,FALSE))","v":{"$error":"#N/A"}},{"$f":"IF(A1187=\"\",\"\",VLOOKUP(B1187,#REF!,5,FALSE))","v":{"$error":"#N/A"}},{"$f":"IF(A1187=\"\",\"\",VLOOKUP(C1187,#REF!,5,FALSE))","v":{"$error":"#N/A"}}]
[null,{"$f":"IF(A1188=\"\",\"\",VLOOKUP(A1188,[1]ItemConfig!$A:$B,2,FALSE))","v":""},{"$f":"IF(A1188=\"\",\"\",VLOOKUP(A1188,[1]ItemConfig!$A:$D,4,FALSE))","v":""},{"$f":"IF(A1188=\"\",\"\",VLOOKUP(A1188,[1]ItemConfig!$A:$C,3,FALSE))","v":""},{"$f":"IF(A1188=\"\",\"\",VLOOKUP(B1188,#REF!,5,FALSE))","v":""},{"$f":"IF(A1188=\"\",\"\",VLOOKUP(C1188,#REF!,5,FALSE))","v":""}]
[300301,{"$f":"IF(A1189=\"\",\"\",VLOOKUP(A1189,[1]ItemConfig!$A:$B,2,FALSE))","v":{"$error":"#N/A"}},{"$f":"IF(A1189=\"\",\"\",VLOOKUP(A1189,[1]ItemConfig!$A:$D,4,FALSE))","v":{"$error":"#N/A"}},{"$f":"IF(A1189=\"\",\"\",VLOOKUP(A1189,[1]ItemConfig!$A:$C,3,FALSE))","v":{"$error":"#N/A"}},{"$f":"IF(A1189=\"\",\"\",VLOOKUP(B1189,#REF!,5,FALSE))","v":{"$error":"#N/A"}},{"$f":"IF(A1189=\"\",\"\",VLOOKUP(C1189,#REF!,5,FALSE))","v":{"$error":"#N/A"}}]
[300302,{"$f":"IF(A1190=\"\",\"\",VLOOKUP(A1190,[1]ItemConfig!$A:$B,2,FALSE))","v":{"$error":"#N/A"}},{"$f":"IF(A1190=\"\",\"\",VLOOKUP(A1190,[1]ItemConfig!$A:$D,4,FALSE))","v":{"$error":"#N/A"}},{"$f":"IF(A1190=\"\",\"\",VLOOKUP(A1190,[1]ItemConfig!$A:$C,3,FALSE))","v":{"$error":"#N/A"}},{"$f":"IF(A1190=\"\",\"\",VLOOKUP(B1190,#REF!,5,FALSE))","v":{"$error":"#N/A"}},{"$f":"IF(A1190=\"\",\"\",VLOOKUP(C1190,#REF!,5,FALSE))","v":{"$error":"#N/A"}}]
[300303,{"$f":"IF(A1191=\"\",\"\",VLOOKUP(A1191,[1]ItemConfig!$A:$B,2,FALSE))","v":{"$error":"#N/A"}},{"$f":"IF(A1191=\"\",\"\",VLOOKUP(A1191,[1]ItemConfig!$A:$D,4,FALSE))","v":{"$error":"#N/A"}},{"$f":"IF(A1191=\"\",\"\",VLOOKUP(A1191,[1]ItemConfig!$A:$C,3,FALSE))","v":{"$error":"#N/A"}},{"$f":"IF(A1191=\"\",\"\",VLOOKUP(B1191,#REF!,5,FALSE))","v":{"$error":"#N/A"}},{"$f":"IF(A1191=\"\",\"\",VLOOKUP(C1191,#REF!,5,FALSE))","v":{"$error":"#N/A"}}]
[300304,{"$f":"IF(A1192=\"\",\"\",VLOOKUP(A1192,[1]ItemConfig!$A:$B,2,FALSE))","v":{"$error":"#N/A"}},{"$f":"IF(A1192=\"\",\"\",VLOOKUP(A1192,[1]ItemConfig!$A:$D,4,FALSE))","v":{"$error":"#N/A"}},{"$f":"IF(A1192=\"\",\"\",VLOOKUP(A1192,[1]ItemConfig!$A:$C,3,FALSE))","v":{"$error":"#N/A"}},{"$f":"IF(A1192=\"\",\"\",VLOOKUP(B1192,#REF!,5,FALSE))","v":{"$error":"#N/A"}},{"$f":"IF(A1192=\"\",\"\",VLOOKUP(C1192,#REF!,5,FALSE))","v":{"$error":"#N/A"}}]
[300305,{"$f":"IF(A1193=\"\",\"\",VLOOKUP(A1193,[1]ItemConfig!$A:$B,2,FALSE))","v":{"$error":"#N/A"}},{"$f":"IF(A1193=\"\",\"\",VLOOKUP(A1193,[1]ItemConfig!$A:$D,4,FALSE))","v":{"$error":"#N/A"}},{"$f":"IF(A1193=\"\",\"\",VLOOKUP(A1193,[1]ItemConfig!$A:$C,3,FALSE))","v":{"$error":"#N/A"}},{"$f":"IF(A1193=\"\",\"\",VLOOKUP(B1193,#REF!,5,FALSE))","v":{"$error":"#N/A"}},{"$f":"IF(A1193=\"\",\"\",VLOOKUP(C1193,#REF!,5,FALSE))","v":{"$error":"#N/A"}}]
[300306,{"$f":"IF(A1194=\"\",\"\",VLOOKUP(A1194,[1]ItemConfig!$A:$B,2,FALSE))","v":{"$error":"#N/A"}},{"$f":"IF(A1194=\"\",\"\",VLOOKUP(A1194,[1]ItemConfig!$A:$D,4,FALSE))","v":{"$error":"#N/A"}},{"$f":"IF(A1194=\"\",\"\",VLOOKUP(A1194,[1]ItemConfig!$A:$C,3,FALSE))","v":{"$error":"#N/A"}},{"$f":"IF(A1194=\"\",\"\",VLOOKUP(B1194,#REF!,5,FALSE))","v":{"$error":"#N/A"}},{"$f":"IF(A1194=\"\",\"\",VLOOKUP(C1194,#REF!,5,FALSE))","v":{"$error":"#N/A"}}]
[300307,{"$f":"IF(A1195=\"\",\"\",VLOOKUP(A1195,[1]ItemConfig!$A:$B,2,FALSE))","v":{"$error":"#N/A"}},{"$f":"IF(A1195=\"\",\"\",VLOOKUP(A1195,[1]ItemConfig!$A:$D,4,FALSE))","v":{"$error":"#N/A"}},{"$f":"IF(A1195=\"\",\"\",VLOOKUP(A1195,[1]ItemConfig!$A:$C,3,FALSE))","v":{"$error":"#N/A"}},{"$f":"IF(A1195=\"\",\"\",VLOOKUP(B1195,#REF!,5,FALSE))","v":{"$error":"#N/A"}},{"$f":"IF(A1195=\"\",\"\",VLOOKUP(C1195,#REF!,5,FALSE))","v":{"$error":"#N/A"}}]
[300308,{"$f":"IF(A1196=\"\",\"\",VLOOKUP(A1196,[1]ItemConfig!$A:$B,2,FALSE))","v":{"$error":"#N/A"}},{"$f":"IF(A1196=\"\",\"\",VLOOKUP(A1196,[1]ItemConfig!$A:$D,4,FALSE))","v":{"$error":"#N/A"}},{"$f":"IF(A1196=\"\",\"\",VLOOKUP(A1196,[1]ItemConfig!$A:$C,3,FALSE))","v":{"$error":"#N/A"}},{"$f":"IF(A1196=\"\",\"\",VLOOKUP(B1196,#REF!,5,FALSE))","v":{"$error":"#N/A"}},{"$f":"IF(A1196=\"\",\"\",VLOOKUP(C1196,#REF!,5,FALSE))","v":{"$error":"#N/A"}}]
[300309,{"$f":"IF(A1197=\"\",\"\",VLOOKUP(A1197,[1]ItemConfig!$A:$B,2,FALSE))","v":{"$error":"#N/A"}},{"$f":"IF(A1197=\"\",\"\",VLOOKUP(A1197,[1]ItemConfig!$A:$D,4,FALSE))","v":{"$error":"#N/A"}},{"$f":"IF(A1197=\"\",\"\",VLOOKUP(A1197,[1]ItemConfig!$A:$C,3,FALSE))","v":{"$error":"#N/A"}},{"$f":"IF(A1197=\"\",\"\",VLOOKUP(B1197,#REF!,5,FALSE))","v":{"$error":"#N/A"}},{"$f":"IF(A1197=\"\",\"\",VLOOKUP(C1197,#REF!,5,FALSE))","v":{"$error":"#N/A"}}]
[300310,{"$f":"IF(A1198=\"\",\"\",VLOOKUP(A1198,[1]ItemConfig!$A:$B,2,FALSE))","v":{"$error":"#N/A"}},{"$f":"IF(A1198=\"\",\"\",VLOOKUP(A1198,[1]ItemConfig!$A:$D,4,FALSE))","v":{"$error":"#N/A"}},{"$f":"IF(A1198=\"\",\"\",VLOOKUP(A1198,[1]ItemConfig!$A:$C,3,FALSE))","v":{"$error":"#N/A"}},{"$f":"IF(A1198=\"\",\"\",VLOOKUP(B1198,#REF!,5,FALSE))","v":{"$error":"#N/A"}},{"$f":"IF(A1198=\"\",\"\",VLOOKUP(C1198,#REF!,5,FALSE))","v":{"$error":"#N/A"}}]
[300311,{"$f":"IF(A1199=\"\",\"\",VLOOKUP(A1199,[1]ItemConfig!$A:$B,2,FALSE))","v":{"$error":"#N/A"}},{"$f":"IF(A1199=\"\",\"\",VLOOKUP(A1199,[1]ItemConfig!$A:$D,4,FALSE))","v":{"$error":"#N/A"}},{"$f":"IF(A1199=\"\",\"\",VLOOKUP(A1199,[1]ItemConfig!$A:$C,3,FALSE))","v":{"$error":"#N/A"}},{"$f":"IF(A1199=\"\",\"\",VLOOKUP(B1199,#REF!,5,FALSE))","v":{"$error":"#N/A"}},{"$f":"IF(A1199=\"\",\"\",VLOOKUP(C1199,#REF!,5,FALSE))","v":{"$error":"#N/A"}}]
[300312,{"$f":"IF(A1200=\"\",\"\",VLOOKUP(A1200,[1]ItemConfig!$A:$B,2,FALSE))","v":{"$error":"#N/A"}},{"$f":"IF(A1200=\"\",\"\",VLOOKUP(A1200,[1]ItemConfig!$A:$D,4,FALSE))","v":{"$error":"#N/A"}},{"$f":"IF(A1200=\"\",\"\",VLOOKUP(A1200,[1]ItemConfig!$A:$C,3,FALSE))","v":{"$error":"#N/A"}},{"$f":"IF(A1200=\"\",\"\",VLOOKUP(B1200,#REF!,5,FALSE))","v":{"$error":"#N/A"}},{"$f":"IF(A1200=\"\",\"\",VLOOKUP(C1200,#REF!,5,FALSE))","v":{"$error":"#N/A"}}]
[300313,{"$f":"IF(A1201=\"\",\"\",VLOOKUP(A1201,[1]ItemConfig!$A:$B,2,FALSE))","v":{"$error":"#N/A"}},{"$f":"IF(A1201=\"\",\"\",VLOOKUP(A1201,[1]ItemConfig!$A:$D,4,FALSE))","v":{"$error":"#N/A"}},{"$f":"IF(A1201=\"\",\"\",VLOOKUP(A1201,[1]ItemConfig!$A:$C,3,FALSE))","v":{"$error":"#N/A"}},{"$f":"IF(A1201=\"\",\"\",VLOOKUP(B1201,#REF!,5,FALSE))","v":{"$error":"#N/A"}},{"$f":"IF(A1201=\"\",\"\",VLOOKUP(C1201,#REF!,5,FALSE))","v":{"$error":"#N/A"}}]
[300314,{"$f":"IF(A1202=\"\",\"\",VLOOKUP(A1202,[1]ItemConfig!$A:$B,2,FALSE))","v":{"$error":"#N/A"}},{"$f":"IF(A1202=\"\",\"\",VLOOKUP(A1202,[1]ItemConfig!$A:$D,4,FALSE))","v":{"$error":"#N/A"}},{"$f":"IF(A1202=\"\",\"\",VLOOKUP(A1202,[1]ItemConfig!$A:$C,3,FALSE))","v":{"$error":"#N/A"}},{"$f":"IF(A1202=\"\",\"\",VLOOKUP(B1202,#REF!,5,FALSE))","v":{"$error":"#N/A"}},{"$f":"IF(A1202=\"\",\"\",VLOOKUP(C1202,#REF!,5,FALSE))","v":{"$error":"#N/A"}}]
[300315,{"$f":"IF(A1203=\"\",\"\",VLOOKUP(A1203,[1]ItemConfig!$A:$B,2,FALSE))","v":{"$error":"#N/A"}},{"$f":"IF(A1203=\"\",\"\",VLOOKUP(A1203,[1]ItemConfig!$A:$D,4,FALSE))","v":{"$error":"#N/A"}},{"$f":"IF(A1203=\"\",\"\",VLOOKUP(A1203,[1]ItemConfig!$A:$C,3,FALSE))","v":{"$error":"#N/A"}},{"$f":"IF(A1203=\"\",\"\",VLOOKUP(B1203,#REF!,5,FALSE))","v":{"$error":"#N/A"}},{"$f":"IF(A1203=\"\",\"\",VLOOKUP(C1203,#REF!,5,FALSE))","v":{"$error":"#N/A"}}]
[300316,{"$f":"IF(A1204=\"\",\"\",VLOOKUP(A1204,[1]ItemConfig!$A:$B,2,FALSE))","v":{"$error":"#N/A"}},{"$f":"IF(A1204=\"\",\"\",VLOOKUP(A1204,[1]ItemConfig!$A:$D,4,FALSE))","v":{"$error":"#N/A"}},{"$f":"IF(A1204=\"\",\"\",VLOOKUP(A1204,[1]ItemConfig!$A:$C,3,FALSE))","v":{"$error":"#N/A"}},{"$f":"IF(A1204=\"\",\"\",VLOOKUP(B1204,#REF!,5,FALSE))","v":{"$error":"#N/A"}},{"$f":"IF(A1204=\"\",\"\",VLOOKUP(C1204,#REF!,5,FALSE))","v":{"$error":"#N/A"}}]
[300317,{"$f":"IF(A1205=\"\",\"\",VLOOKUP(A1205,[1]ItemConfig!$A:$B,2,FALSE))","v":{"$error":"#N/A"}},{"$f":"IF(A1205=\"\",\"\",VLOOKUP(A1205,[1]ItemConfig!$A:$D,4,FALSE))","v":{"$error":"#N/A"}},{"$f":"IF(A1205=\"\",\"\",VLOOKUP(A1205,[1]ItemConfig!$A:$C,3,FALSE))","v":{"$error":"#N/A"}},{"$f":"IF(A1205=\"\",\"\",VLOOKUP(B1205,#REF!,5,FALSE))","v":{"$error":"#N/A"}},{"$f":"IF(A1205=\"\",\"\",VLOOKUP(C1205,#REF!,5,FALSE))","v":{"$error":"#N/A"}}]
[300318,{"$f":"IF(A1206=\"\",\"\",VLOOKUP(A1206,[1]ItemConfig!$A:$B,2,FALSE))","v":{"$error":"#N/A"}},{"$f":"IF(A1206=\"\",\"\",VLOOKUP(A1206,[1]ItemConfig!$A:$D,4,FALSE))","v":{"$error":"#N/A"}},{"$f":"IF(A1206=\"\",\"\",VLOOKUP(A1206,[1]ItemConfig!$A:$C,3,FALSE))","v":{"$error":"#N/A"}},{"$f":"IF(A1206=\"\",\"\",VLOOKUP(B1206,#REF!,5,FALSE))","v":{"$error":"#N/A"}},{"$f":"IF(A1206=\"\",\"\",VLOOKUP(C1206,#REF!,5,FALSE))","v":{"$error":"#N/A"}}]
[300319,{"$f":"IF(A1207=\"\",\"\",VLOOKUP(A1207,[1]ItemConfig!$A:$B,2,FALSE))","v":{"$error":"#N/A"}},{"$f":"IF(A1207=\"\",\"\",VLOOKUP(A1207,[1]ItemConfig!$A:$D,4,FALSE))","v":{"$error":"#N/A"}},{"$f":"IF(A1207=\"\",\"\",VLOOKUP(A1207,[1]ItemConfig!$A:$C,3,FALSE))","v":{"$error":"#N/A"}},{"$f":"IF(A1207=\"\",\"\",VLOOKUP(B1207,#REF!,5,FALSE))","v":{"$error":"#N/A"}},{"$f":"IF(A1207=\"\",\"\",VLOOKUP(C1207,#REF!,5,FALSE))","v":{"$error":"#N/A"}}]
[300320,{"$f":"IF(A1208=\"\",\"\",VLOOKUP(A1208,[1]ItemConfig!$A:$B,2,FALSE))","v":{"$error":"#N/A"}},{"$f":"IF(A1208=\"\",\"\",VLOOKUP(A1208,[1]ItemConfig!$A:$D,4,FALSE))","v":{"$error":"#N/A"}},{"$f":"IF(A1208=\"\",\"\",VLOOKUP(A1208,[1]ItemConfig!$A:$C,3,FALSE))","v":{"$error":"#N/A"}},{"$f":"IF(A1208=\"\",\"\",VLOOKUP(B1208,#REF!,5,FALSE))","v":{"$error":"#N/A"}},{"$f":"IF(A1208=\"\",\"\",VLOOKUP(C1208,#REF!,5,FALSE))","v":{"$error":"#N/A"}}]
[300321,{"$f":"IF(A1209=\"\",\"\",VLOOKUP(A1209,[1]ItemConfig!$A:$B,2,FALSE))","v":{"$error":"#N/A"}},{"$f":"IF(A1209=\"\",\"\",VLOOKUP(A1209,[1]ItemConfig!$A:$D,4,FALSE))","v":{"$error":"#N/A"}},{"$f":"IF(A1209=\"\",\"\",VLOOKUP(A1209,[1]ItemConfig!$A:$C,3,FALSE))","v":{"$error":"#N/A"}},{"$f":"IF(A1209=\"\",\"\",VLOOKUP(B1209,#REF!,5,FALSE))","v":{"$error":"#N/A"}},{"$f":"IF(A1209=\"\",\"\",VLOOKUP(C1209,#REF!,5,FALSE))","v":{"$error":"#N/A"}}]
[300322,{"$f":"IF(A1210=\"\",\"\",VLOOKUP(A1210,[1]ItemConfig!$A:$B,2,FALSE))","v":{"$error":"#N/A"}},{"$f":"IF(A1210=\"\",\"\",VLOOKUP(A1210,[1]ItemConfig!$A:$D,4,FALSE))","v":{"$error":"#N/A"}},{"$f":"IF(A1210=\"\",\"\",VLOOKUP(A1210,[1]ItemConfig!$A:$C,3,FALSE))","v":{"$error":"#N/A"}},{"$f":"IF(A1210=\"\",\"\",VLOOKUP(B1210,#REF!,5,FALSE))","v":{"$error":"#N/A"}},{"$f":"IF(A1210=\"\",\"\",VLOOKUP(C1210,#REF!,5,FALSE))","v":{"$error":"#N/A"}}]
[300323,{"$f":"IF(A1211=\"\",\"\",VLOOKUP(A1211,[1]ItemConfig!$A:$B,2,FALSE))","v":{"$error":"#N/A"}},{"$f":"IF(A1211=\"\",\"\",VLOOKUP(A1211,[1]ItemConfig!$A:$D,4,FALSE))","v":{"$error":"#N/A"}},{"$f":"IF(A1211=\"\",\"\",VLOOKUP(A1211,[1]ItemConfig!$A:$C,3,FALSE))","v":{"$error":"#N/A"}},{"$f":"IF(A1211=\"\",\"\",VLOOKUP(B1211,#REF!,5,FALSE))","v":{"$error":"#N/A"}},{"$f":"IF(A1211=\"\",\"\",VLOOKUP(C1211,#REF!,5,FALSE))","v":{"$error":"#N/A"}}]
[300324,{"$f":"IF(A1212=\"\",\"\",VLOOKUP(A1212,[1]ItemConfig!$A:$B,2,FALSE))","v":{"$error":"#N/A"}},{"$f":"IF(A1212=\"\",\"\",VLOOKUP(A1212,[1]ItemConfig!$A:$D,4,FALSE))","v":{"$error":"#N/A"}},{"$f":"IF(A1212=\"\",\"\",VLOOKUP(A1212,[1]ItemConfig!$A:$C,3,FALSE))","v":{"$error":"#N/A"}},{"$f":"IF(A1212=\"\",\"\",VLOOKUP(B1212,#REF!,5,FALSE))","v":{"$error":"#N/A"}},{"$f":"IF(A1212=\"\",\"\",VLOOKUP(C1212,#REF!,5,FALSE))","v":{"$error":"#N/A"}}]
[300325,{"$f":"IF(A1213=\"\",\"\",VLOOKUP(A1213,[1]ItemConfig!$A:$B,2,FALSE))","v":{"$error":"#N/A"}},{"$f":"IF(A1213=\"\",\"\",VLOOKUP(A1213,[1]ItemConfig!$A:$D,4,FALSE))","v":{"$error":"#N/A"}},{"$f":"IF(A1213=\"\",\"\",VLOOKUP(A1213,[1]ItemConfig!$A:$C,3,FALSE))","v":{"$error":"#N/A"}},{"$f":"IF(A1213=\"\",\"\",VLOOKUP(B1213,#REF!,5,FALSE))","v":{"$error":"#N/A"}},{"$f":"IF(A1213=\"\",\"\",VLOOKUP(C1213,#REF!,5,FALSE))","v":{"$error":"#N/A"}}]
[300326,{"$f":"IF(A1214=\"\",\"\",VLOOKUP(A1214,[1]ItemConfig!$A:$B,2,FALSE))","v":{"$error":"#N/A"}},{"$f":"IF(A1214=\"\",\"\",VLOOKUP(A1214,[1]ItemConfig!$A:$D,4,FALSE))","v":{"$error":"#N/A"}},{"$f":"IF(A1214=\"\",\"\",VLOOKUP(A1214,[1]ItemConfig!$A:$C,3,FALSE))","v":{"$error":"#N/A"}},{"$f":"IF(A1214=\"\",\"\",VLOOKUP(B1214,#REF!,5,FALSE))","v":{"$error":"#N/A"}},{"$f":"IF(A1214=\"\",\"\",VLOOKUP(C1214,#REF!,5,FALSE))","v":{"$error":"#N/A"}}]
[300327,{"$f":"IF(A1215=\"\",\"\",VLOOKUP(A1215,[1]ItemConfig!$A:$B,2,FALSE))","v":{"$error":"#N/A"}},{"$f":"IF(A1215=\"\",\"\",VLOOKUP(A1215,[1]ItemConfig!$A:$D,4,FALSE))","v":{"$error":"#N/A"}},{"$f":"IF(A1215=\"\",\"\",VLOOKUP(A1215,[1]ItemConfig!$A:$C,3,FALSE))","v":{"$error":"#N/A"}},{"$f":"IF(A1215=\"\",\"\",VLOOKUP(B1215,#REF!,5,FALSE))","v":{"$error":"#N/A"}},{"$f":"IF(A1215=\"\",\"\",VLOOKUP(C1215,#REF!,5,FALSE))","v":{"$error":"#N/A"}}]
[300328,{"$f":"IF(A1216=\"\",\"\",VLOOKUP(A1216,[1]ItemConfig!$A:$B,2,FALSE))","v":{"$error":"#N/A"}},{"$f":"IF(A1216=\"\",\"\",VLOOKUP(A1216,[1]ItemConfig!$A:$D,4,FALSE))","v":{"$error":"#N/A"}},{"$f":"IF(A1216=\"\",\"\",VLOOKUP(A1216,[1]ItemConfig!$A:$C,3,FALSE))","v":{"$error":"#N/A"}},{"$f":"IF(A1216=\"\",\"\",VLOOKUP(B1216,#REF!,5,FALSE))","v":{"$error":"#N/A"}},{"$f":"IF(A1216=\"\",\"\",VLOOKUP(C1216,#REF!,5,FALSE))","v":{"$error":"#N/A"}}]
[300329,{"$f":"IF(A1217=\"\",\"\",VLOOKUP(A1217,[1]ItemConfig!$A:$B,2,FALSE))","v":{"$error":"#N/A"}},{"$f":"IF(A1217=\"\",\"\",VLOOKUP(A1217,[1]ItemConfig!$A:$D,4,FALSE))","v":{"$error":"#N/A"}},{"$f":"IF(A1217=\"\",\"\",VLOOKUP(A1217,[1]ItemConfig!$A:$C,3,FALSE))","v":{"$error":"#N/A"}},{"$f":"IF(A1217=\"\",\"\",VLOOKUP(B1217,#REF!,5,FALSE))","v":{"$error":"#N/A"}},{"$f":"IF(A1217=\"\",\"\",VLOOKUP(C1217,#REF!,5,FALSE))","v":{"$error":"#N/A"}}]
[300330,{"$f":"IF(A1218=\"\",\"\",VLOOKUP(A1218,[1]ItemConfig!$A:$B,2,FALSE))","v":{"$error":"#N/A"}},{"$f":"IF(A1218=\"\",\"\",VLOOKUP(A1218,[1]ItemConfig!$A:$D,4,FALSE))","v":{"$error":"#N/A"}},{"$f":"IF(A1218=\"\",\"\",VLOOKUP(A1218,[1]ItemConfig!$A:$C,3,FALSE))","v":{"$error":"#N/A"}},{"$f":"IF(A1218=\"\",\"\",VLOOKUP(B1218,#REF!,5,FALSE))","v":{"$error":"#N/A"}},{"$f":"IF(A1218=\"\",\"\",VLOOKUP(C1218,#REF!,5,FALSE))","v":{"$error":"#N/A"}}]
[300331,{"$f":"IF(A1219=\"\",\"\",VLOOKUP(A1219,[1]ItemConfig!$A:$B,2,FALSE))","v":{"$error":"#N/A"}},{"$f":"IF(A1219=\"\",\"\",VLOOKUP(A1219,[1]ItemConfig!$A:$D,4,FALSE))","v":{"$error":"#N/A"}},{"$f":"IF(A1219=\"\",\"\",VLOOKUP(A1219,[1]ItemConfig!$A:$C,3,FALSE))","v":{"$error":"#N/A"}},{"$f":"IF(A1219=\"\",\"\",VLOOKUP(B1219,#REF!,5,FALSE))","v":{"$error":"#N/A"}},{"$f":"IF(A1219=\"\",\"\",VLOOKUP(C1219,#REF!,5,FALSE))","v":{"$error":"#N/A"}}]
[300332,{"$f":"IF(A1220=\"\",\"\",VLOOKUP(A1220,[1]ItemConfig!$A:$B,2,FALSE))","v":{"$error":"#N/A"}},{"$f":"IF(A1220=\"\",\"\",VLOOKUP(A1220,[1]ItemConfig!$A:$D,4,FALSE))","v":{"$error":"#N/A"}},{"$f":"IF(A1220=\"\",\"\",VLOOKUP(A1220,[1]ItemConfig!$A:$C,3,FALSE))","v":{"$error":"#N/A"}},{"$f":"IF(A1220=\"\",\"\",VLOOKUP(B1220,#REF!,5,FALSE))","v":{"$error":"#N/A"}},{"$f":"IF(A1220=\"\",\"\",VLOOKUP(C1220,#REF!,5,FALSE))","v":{"$error":"#N/A"}}]
[300333,{"$f":"IF(A1221=\"\",\"\",VLOOKUP(A1221,[1]ItemConfig!$A:$B,2,FALSE))","v":{"$error":"#N/A"}},{"$f":"IF(A1221=\"\",\"\",VLOOKUP(A1221,[1]ItemConfig!$A:$D,4,FALSE))","v":{"$error":"#N/A"}},{"$f":"IF(A1221=\"\",\"\",VLOOKUP(A1221,[1]ItemConfig!$A:$C,3,FALSE))","v":{"$error":"#N/A"}},{"$f":"IF(A1221=\"\",\"\",VLOOKUP(B1221,#REF!,5,FALSE))","v":{"$error":"#N/A"}},{"$f":"IF(A1221=\"\",\"\",VLOOKUP(C1221,#REF!,5,FALSE))","v":{"$error":"#N/A"}}]
[300334,{"$f":"IF(A1222=\"\",\"\",VLOOKUP(A1222,[1]ItemConfig!$A:$B,2,FALSE))","v":{"$error":"#N/A"}},{"$f":"IF(A1222=\"\",\"\",VLOOKUP(A1222,[1]ItemConfig!$A:$D,4,FALSE))","v":{"$error":"#N/A"}},{"$f":"IF(A1222=\"\",\"\",VLOOKUP(A1222,[1]ItemConfig!$A:$C,3,FALSE))","v":{"$error":"#N/A"}},{"$f":"IF(A1222=\"\",\"\",VLOOKUP(B1222,#REF!,5,FALSE))","v":{"$error":"#N/A"}},{"$f":"IF(A1222=\"\",\"\",VLOOKUP(C1222,#REF!,5,FALSE))","v":{"$error":"#N/A"}}]
[300335,{"$f":"IF(A1223=\"\",\"\",VLOOKUP(A1223,[1]ItemConfig!$A:$B,2,FALSE))","v":{"$error":"#N/A"}},{"$f":"IF(A1223=\"\",\"\",VLOOKUP(A1223,[1]ItemConfig!$A:$D,4,FALSE))","v":{"$error":"#N/A"}},{"$f":"IF(A1223=\"\",\"\",VLOOKUP(A1223,[1]ItemConfig!$A:$C,3,FALSE))","v":{"$error":"#N/A"}},{"$f":"IF(A1223=\"\",\"\",VLOOKUP(B1223,#REF!,5,FALSE))","v":{"$error":"#N/A"}},{"$f":"IF(A1223=\"\",\"\",VLOOKUP(C1223,#REF!,5,FALSE))","v":{"$error":"#N/A"}}]
[300336,{"$f":"IF(A1224=\"\",\"\",VLOOKUP(A1224,[1]ItemConfig!$A:$B,2,FALSE))","v":{"$error":"#N/A"}},{"$f":"IF(A1224=\"\",\"\",VLOOKUP(A1224,[1]ItemConfig!$A:$D,4,FALSE))","v":{"$error":"#N/A"}},{"$f":"IF(A1224=\"\",\"\",VLOOKUP(A1224,[1]ItemConfig!$A:$C,3,FALSE))","v":{"$error":"#N/A"}},{"$f":"IF(A1224=\"\",\"\",VLOOKUP(B1224,#REF!,5,FALSE))","v":{"$error":"#N/A"}},{"$f":"IF(A1224=\"\",\"\",VLOOKUP(C1224,#REF!,5,FALSE))","v":{"$error":"#N/A"}}]
[300337,{"$f":"IF(A1225=\"\",\"\",VLOOKUP(A1225,[1]ItemConfig!$A:$B,2,FALSE))","v":{"$error":"#N/A"}},{"$f":"IF(A1225=\"\",\"\",VLOOKUP(A1225,[1]ItemConfig!$A:$D,4,FALSE))","v":{"$error":"#N/A"}},{"$f":"IF(A1225=\"\",\"\",VLOOKUP(A1225,[1]ItemConfig!$A:$C,3,FALSE))","v":{"$error":"#N/A"}},{"$f":"IF(A1225=\"\",\"\",VLOOKUP(B1225,#REF!,5,FALSE))","v":{"$error":"#N/A"}},{"$f":"IF(A1225=\"\",\"\",VLOOKUP(C1225,#REF!,5,FALSE))","v":{"$error":"#N/A"}}]
[300338,{"$f":"IF(A1226=\"\",\"\",VLOOKUP(A1226,[1]ItemConfig!$A:$B,2,FALSE))","v":{"$error":"#N/A"}},{"$f":"IF(A1226=\"\",\"\",VLOOKUP(A1226,[1]ItemConfig!$A:$D,4,FALSE))","v":{"$error":"#N/A"}},{"$f":"IF(A1226=\"\",\"\",VLOOKUP(A1226,[1]ItemConfig!$A:$C,3,FALSE))","v":{"$error":"#N/A"}},{"$f":"IF(A1226=\"\",\"\",VLOOKUP(B1226,#REF!,5,FALSE))","v":{"$error":"#N/A"}},{"$f":"IF(A1226=\"\",\"\",VLOOKUP(C1226,#REF!,5,FALSE))","v":{"$error":"#N/A"}}]
[300339,{"$f":"IF(A1227=\"\",\"\",VLOOKUP(A1227,[1]ItemConfig!$A:$B,2,FALSE))","v":{"$error":"#N/A"}},{"$f":"IF(A1227=\"\",\"\",VLOOKUP(A1227,[1]ItemConfig!$A:$D,4,FALSE))","v":{"$error":"#N/A"}},{"$f":"IF(A1227=\"\",\"\",VLOOKUP(A1227,[1]ItemConfig!$A:$C,3,FALSE))","v":{"$error":"#N/A"}},{"$f":"IF(A1227=\"\",\"\",VLOOKUP(B1227,#REF!,5,FALSE))","v":{"$error":"#N/A"}},{"$f":"IF(A1227=\"\",\"\",VLOOKUP(C1227,#REF!,5,FALSE))","v":{"$error":"#N/A"}}]
[300340,{"$f":"IF(A1228=\"\",\"\",VLOOKUP(A1228,[1]ItemConfig!$A:$B,2,FALSE))","v":{"$error":"#N/A"}},{"$f":"IF(A1228=\"\",\"\",VLOOKUP(A1228,[1]ItemConfig!$A:$D,4,FALSE))","v":{"$error":"#N/A"}},{"$f":"IF(A1228=\"\",\"\",VLOOKUP(A1228,[1]ItemConfig!$A:$C,3,FALSE))","v":{"$error":"#N/A"}},{"$f":"IF(A1228=\"\",\"\",VLOOKUP(B1228,#REF!,5,FALSE))","v":{"$error":"#N/A"}},{"$f":"IF(A1228=\"\",\"\",VLOOKUP(C1228,#REF!,5,FALSE))","v":{"$error":"#N/A"}}]
[300341,{"$f":"IF(A1229=\"\",\"\",VLOOKUP(A1229,[1]ItemConfig!$A:$B,2,FALSE))","v":{"$error":"#N/A"}},{"$f":"IF(A1229=\"\",\"\",VLOOKUP(A1229,[1]ItemConfig!$A:$D,4,FALSE))","v":{"$error":"#N/A"}},{"$f":"IF(A1229=\"\",\"\",VLOOKUP(A1229,[1]ItemConfig!$A:$C,3,FALSE))","v":{"$error":"#N/A"}},{"$f":"IF(A1229=\"\",\"\",VLOOKUP(B1229,#REF!,5,FALSE))","v":{"$error":"#N/A"}},{"$f":"IF(A1229=\"\",\"\",VLOOKUP(C1229,#REF!,5,FALSE))","v":{"$error":"#N/A"}}]
[300342,{"$f":"IF(A1230=\"\",\"\",VLOOKUP(A1230,[1]ItemConfig!$A:$B,2,FALSE))","v":{"$error":"#N/A"}},{"$f":"IF(A1230=\"\",\"\",VLOOKUP(A1230,[1]ItemConfig!$A:$D,4,FALSE))","v":{"$error":"#N/A"}},{"$f":"IF(A1230=\"\",\"\",VLOOKUP(A1230,[1]ItemConfig!$A:$C,3,FALSE))","v":{"$error":"#N/A"}},{"$f":"IF(A1230=\"\",\"\",VLOOKUP(B1230,#REF!,5,FALSE))","v":{"$error":"#N/A"}},{"$f":"IF(A1230=\"\",\"\",VLOOKUP(C1230,#REF!,5,FALSE))","v":{"$error":"#N/A"}}]
[300343,{"$f":"IF(A1231=\"\",\"\",VLOOKUP(A1231,[1]ItemConfig!$A:$B,2,FALSE))","v":{"$error":"#N/A"}},{"$f":"IF(A1231=\"\",\"\",VLOOKUP(A1231,[1]ItemConfig!$A:$D,4,FALSE))","v":{"$error":"#N/A"}},{"$f":"IF(A1231=\"\",\"\",VLOOKUP(A1231,[1]ItemConfig!$A:$C,3,FALSE))","v":{"$error":"#N/A"}},{"$f":"IF(A1231=\"\",\"\",VLOOKUP(B1231,#REF!,5,FALSE))","v":{"$error":"#N/A"}},{"$f":"IF(A1231=\"\",\"\",VLOOKUP(C1231,#REF!,5,FALSE))","v":{"$error":"#N/A"}}]
[300344,{"$f":"IF(A1232=\"\",\"\",VLOOKUP(A1232,[1]ItemConfig!$A:$B,2,FALSE))","v":{"$error":"#N/A"}},{"$f":"IF(A1232=\"\",\"\",VLOOKUP(A1232,[1]ItemConfig!$A:$D,4,FALSE))","v":{"$error":"#N/A"}},{"$f":"IF(A1232=\"\",\"\",VLOOKUP(A1232,[1]ItemConfig!$A:$C,3,FALSE))","v":{"$error":"#N/A"}},{"$f":"IF(A1232=\"\",\"\",VLOOKUP(B1232,#REF!,5,FALSE))","v":{"$error":"#N/A"}},{"$f":"IF(A1232=\"\",\"\",VLOOKUP(C1232,#REF!,5,FALSE))","v":{"$error":"#N/A"}}]
[300345,{"$f":"IF(A1233=\"\",\"\",VLOOKUP(A1233,[1]ItemConfig!$A:$B,2,FALSE))","v":{"$error":"#N/A"}},{"$f":"IF(A1233=\"\",\"\",VLOOKUP(A1233,[1]ItemConfig!$A:$D,4,FALSE))","v":{"$error":"#N/A"}},{"$f":"IF(A1233=\"\",\"\",VLOOKUP(A1233,[1]ItemConfig!$A:$C,3,FALSE))","v":{"$error":"#N/A"}},{"$f":"IF(A1233=\"\",\"\",VLOOKUP(B1233,#REF!,5,FALSE))","v":{"$error":"#N/A"}},{"$f":"IF(A1233=\"\",\"\",VLOOKUP(C1233,#REF!,5,FALSE))","v":{"$error":"#N/A"}}]
[300346,{"$f":"IF(A1234=\"\",\"\",VLOOKUP(A1234,[1]ItemConfig!$A:$B,2,FALSE))","v":{"$error":"#N/A"}},{"$f":"IF(A1234=\"\",\"\",VLOOKUP(A1234,[1]ItemConfig!$A:$D,4,FALSE))","v":{"$error":"#N/A"}},{"$f":"IF(A1234=\"\",\"\",VLOOKUP(A1234,[1]ItemConfig!$A:$C,3,FALSE))","v":{"$error":"#N/A"}},{"$f":"IF(A1234=\"\",\"\",VLOOKUP(B1234,#REF!,5,FALSE))","v":{"$error":"#N/A"}},{"$f":"IF(A1234=\"\",\"\",VLOOKUP(C1234,#REF!,5,FALSE))","v":{"$error":"#N/A"}}]
[300347,{"$f":"IF(A1235=\"\",\"\",VLOOKUP(A1235,[1]ItemConfig!$A:$B,2,FALSE))","v":{"$error":"#N/A"}},{"$f":"IF(A1235=\"\",\"\",VLOOKUP(A1235,[1]ItemConfig!$A:$D,4,FALSE))","v":{"$error":"#N/A"}},{"$f":"IF(A1235=\"\",\"\",VLOOKUP(A1235,[1]ItemConfig!$A:$C,3,FALSE))","v":{"$error":"#N/A"}},{"$f":"IF(A1235=\"\",\"\",VLOOKUP(B1235,#REF!,5,FALSE))","v":{"$error":"#N/A"}},{"$f":"IF(A1235=\"\",\"\",VLOOKUP(C1235,#REF!,5,FALSE))","v":{"$error":"#N/A"}}]
[300348,{"$f":"IF(A1236=\"\",\"\",VLOOKUP(A1236,[1]ItemConfig!$A:$B,2,FALSE))","v":{"$error":"#N/A"}},{"$f":"IF(A1236=\"\",\"\",VLOOKUP(A1236,[1]ItemConfig!$A:$D,4,FALSE))","v":{"$error":"#N/A"}},{"$f":"IF(A1236=\"\",\"\",VLOOKUP(A1236,[1]ItemConfig!$A:$C,3,FALSE))","v":{"$error":"#N/A"}},{"$f":"IF(A1236=\"\",\"\",VLOOKUP(B1236,#REF!,5,FALSE))","v":{"$error":"#N/A"}},{"$f":"IF(A1236=\"\",\"\",VLOOKUP(C1236,#REF!,5,FALSE))","v":{"$error":"#N/A"}}]
[300349,{"$f":"IF(A1237=\"\",\"\",VLOOKUP(A1237,[1]ItemConfig!$A:$B,2,FALSE))","v":{"$error":"#N/A"}},{"$f":"IF(A1237=\"\",\"\",VLOOKUP(A1237,[1]ItemConfig!$A:$D,4,FALSE))","v":{"$error":"#N/A"}},{"$f":"IF(A1237=\"\",\"\",VLOOKUP(A1237,[1]ItemConfig!$A:$C,3,FALSE))","v":{"$error":"#N/A"}},{"$f":"IF(A1237=\"\",\"\",VLOOKUP(B1237,#REF!,5,FALSE))","v":{"$error":"#N/A"}},{"$f":"IF(A1237=\"\",\"\",VLOOKUP(C1237,#REF!,5,FALSE))","v":{"$error":"#N/A"}}]
[300350,{"$f":"IF(A1238=\"\",\"\",VLOOKUP(A1238,[1]ItemConfig!$A:$B,2,FALSE))","v":{"$error":"#N/A"}},{"$f":"IF(A1238=\"\",\"\",VLOOKUP(A1238,[1]ItemConfig!$A:$D,4,FALSE))","v":{"$error":"#N/A"}},{"$f":"IF(A1238=\"\",\"\",VLOOKUP(A1238,[1]ItemConfig!$A:$C,3,FALSE))","v":{"$error":"#N/A"}},{"$f":"IF(A1238=\"\",\"\",VLOOKUP(B1238,#REF!,5,FALSE))","v":{"$error":"#N/A"}},{"$f":"IF(A1238=\"\",\"\",VLOOKUP(C1238,#REF!,5,FALSE))","v":{"$error":"#N/A"}}]
[300351,{"$f":"IF(A1239=\"\",\"\",VLOOKUP(A1239,[1]ItemConfig!$A:$B,2,FALSE))","v":{"$error":"#N/A"}},{"$f":"IF(A1239=\"\",\"\",VLOOKUP(A1239,[1]ItemConfig!$A:$D,4,FALSE))","v":{"$error":"#N/A"}},{"$f":"IF(A1239=\"\",\"\",VLOOKUP(A1239,[1]ItemConfig!$A:$C,3,FALSE))","v":{"$error":"#N/A"}},{"$f":"IF(A1239=\"\",\"\",VLOOKUP(B1239,#REF!,5,FALSE))","v":{"$error":"#N/A"}},{"$f":"IF(A1239=\"\",\"\",VLOOKUP(C1239,#REF!,5,FALSE))","v":{"$error":"#N/A"}}]
[300352,{"$f":"IF(A1240=\"\",\"\",VLOOKUP(A1240,[1]ItemConfig!$A:$B,2,FALSE))","v":{"$error":"#N/A"}},{"$f":"IF(A1240=\"\",\"\",VLOOKUP(A1240,[1]ItemConfig!$A:$D,4,FALSE))","v":{"$error":"#N/A"}},{"$f":"IF(A1240=\"\",\"\",VLOOKUP(A1240,[1]ItemConfig!$A:$C,3,FALSE))","v":{"$error":"#N/A"}},{"$f":"IF(A1240=\"\",\"\",VLOOKUP(B1240,#REF!,5,FALSE))","v":{"$error":"#N/A"}},{"$f":"IF(A1240=\"\",\"\",VLOOKUP(C1240,#REF!,5,FALSE))","v":{"$error":"#N/A"}}]
[300353,{"$f":"IF(A1241=\"\",\"\",VLOOKUP(A1241,[1]ItemConfig!$A:$B,2,FALSE))","v":{"$error":"#N/A"}},{"$f":"IF(A1241=\"\",\"\",VLOOKUP(A1241,[1]ItemConfig!$A:$D,4,FALSE))","v":{"$error":"#N/A"}},{"$f":"IF(A1241=\"\",\"\",VLOOKUP(A1241,[1]ItemConfig!$A:$C,3,FALSE))","v":{"$error":"#N/A"}},{"$f":"IF(A1241=\"\",\"\",VLOOKUP(B1241,#REF!,5,FALSE))","v":{"$error":"#N/A"}},{"$f":"IF(A1241=\"\",\"\",VLOOKUP(C1241,#REF!,5,FALSE))","v":{"$error":"#N/A"}}]
[300354,{"$f":"IF(A1242=\"\",\"\",VLOOKUP(A1242,[1]ItemConfig!$A:$B,2,FALSE))","v":{"$error":"#N/A"}},{"$f":"IF(A1242=\"\",\"\",VLOOKUP(A1242,[1]ItemConfig!$A:$D,4,FALSE))","v":{"$error":"#N/A"}},{"$f":"IF(A1242=\"\",\"\",VLOOKUP(A1242,[1]ItemConfig!$A:$C,3,FALSE))","v":{"$error":"#N/A"}},{"$f":"IF(A1242=\"\",\"\",VLOOKUP(B1242,#REF!,5,FALSE))","v":{"$error":"#N/A"}},{"$f":"IF(A1242=\"\",\"\",VLOOKUP(C1242,#REF!,5,FALSE))","v":{"$error":"#N/A"}}]
[300355,{"$f":"IF(A1243=\"\",\"\",VLOOKUP(A1243,[1]ItemConfig!$A:$B,2,FALSE))","v":{"$error":"#N/A"}},{"$f":"IF(A1243=\"\",\"\",VLOOKUP(A1243,[1]ItemConfig!$A:$D,4,FALSE))","v":{"$error":"#N/A"}},{"$f":"IF(A1243=\"\",\"\",VLOOKUP(A1243,[1]ItemConfig!$A:$C,3,FALSE))","v":{"$error":"#N/A"}},{"$f":"IF(A1243=\"\",\"\",VLOOKUP(B1243,#REF!,5,FALSE))","v":{"$error":"#N/A"}},{"$f":"IF(A1243=\"\",\"\",VLOOKUP(C1243,#REF!,5,FALSE))","v":{"$error":"#N/A"}}]
[300356,{"$f":"IF(A1244=\"\",\"\",VLOOKUP(A1244,[1]ItemConfig!$A:$B,2,FALSE))","v":{"$error":"#N/A"}},{"$f":"IF(A1244=\"\",\"\",VLOOKUP(A1244,[1]ItemConfig!$A:$D,4,FALSE))","v":{"$error":"#N/A"}},{"$f":"IF(A1244=\"\",\"\",VLOOKUP(A1244,[1]ItemConfig!$A:$C,3,FALSE))","v":{"$error":"#N/A"}},{"$f":"IF(A1244=\"\",\"\",VLOOKUP(B1244,#REF!,5,FALSE))","v":{"$error":"#N/A"}},{"$f":"IF(A1244=\"\",\"\",VLOOKUP(C1244,#REF!,5,FALSE))","v":{"$error":"#N/A"}}]
[300357,{"$f":"IF(A1245=\"\",\"\",VLOOKUP(A1245,[1]ItemConfig!$A:$B,2,FALSE))","v":{"$error":"#N/A"}},{"$f":"IF(A1245=\"\",\"\",VLOOKUP(A1245,[1]ItemConfig!$A:$D,4,FALSE))","v":{"$error":"#N/A"}},{"$f":"IF(A1245=\"\",\"\",VLOOKUP(A1245,[1]ItemConfig!$A:$C,3,FALSE))","v":{"$error":"#N/A"}},{"$f":"IF(A1245=\"\",\"\",VLOOKUP(B1245,#REF!,5,FALSE))","v":{"$error":"#N/A"}},{"$f":"IF(A1245=\"\",\"\",VLOOKUP(C1245,#REF!,5,FALSE))","v":{"$error":"#N/A"}}]
[300358,{"$f":"IF(A1246=\"\",\"\",VLOOKUP(A1246,[1]ItemConfig!$A:$B,2,FALSE))","v":{"$error":"#N/A"}},{"$f":"IF(A1246=\"\",\"\",VLOOKUP(A1246,[1]ItemConfig!$A:$D,4,FALSE))","v":{"$error":"#N/A"}},{"$f":"IF(A1246=\"\",\"\",VLOOKUP(A1246,[1]ItemConfig!$A:$C,3,FALSE))","v":{"$error":"#N/A"}},{"$f":"IF(A1246=\"\",\"\",VLOOKUP(B1246,#REF!,5,FALSE))","v":{"$error":"#N/A"}},{"$f":"IF(A1246=\"\",\"\",VLOOKUP(C1246,#REF!,5,FALSE))","v":{"$error":"#N/A"}}]
[300359,{"$f":"IF(A1247=\"\",\"\",VLOOKUP(A1247,[1]ItemConfig!$A:$B,2,FALSE))","v":{"$error":"#N/A"}},{"$f":"IF(A1247=\"\",\"\",VLOOKUP(A1247,[1]ItemConfig!$A:$D,4,FALSE))","v":{"$error":"#N/A"}},{"$f":"IF(A1247=\"\",\"\",VLOOKUP(A1247,[1]ItemConfig!$A:$C,3,FALSE))","v":{"$error":"#N/A"}},{"$f":"IF(A1247=\"\",\"\",VLOOKUP(B1247,#REF!,5,FALSE))","v":{"$error":"#N/A"}},{"$f":"IF(A1247=\"\",\"\",VLOOKUP(C1247,#REF!,5,FALSE))","v":{"$error":"#N/A"}}]
[300360,{"$f":"IF(A1248=\"\",\"\",VLOOKUP(A1248,[1]ItemConfig!$A:$B,2,FALSE))","v":{"$error":"#N/A"}},{"$f":"IF(A1248=\"\",\"\",VLOOKUP(A1248,[1]ItemConfig!$A:$D,4,FALSE))","v":{"$error":"#N/A"}},{"$f":"IF(A1248=\"\",\"\",VLOOKUP(A1248,[1]ItemConfig!$A:$C,3,FALSE))","v":{"$error":"#N/A"}},{"$f":"IF(A1248=\"\",\"\",VLOOKUP(B1248,#REF!,5,FALSE))","v":{"$error":"#N/A"}},{"$f":"IF(A1248=\"\",\"\",VLOOKUP(C1248,#REF!,5,FALSE))","v":{"$error":"#N/A"}}]
[300361,{"$f":"IF(A1249=\"\",\"\",VLOOKUP(A1249,[1]ItemConfig!$A:$B,2,FALSE))","v":{"$error":"#N/A"}},{"$f":"IF(A1249=\"\",\"\",VLOOKUP(A1249,[1]ItemConfig!$A:$D,4,FALSE))","v":{"$error":"#N/A"}},{"$f":"IF(A1249=\"\",\"\",VLOOKUP(A1249,[1]ItemConfig!$A:$C,3,FALSE))","v":{"$error":"#N/A"}},{"$f":"IF(A1249=\"\",\"\",VLOOKUP(B1249,#REF!,5,FALSE))","v":{"$error":"#N/A"}},{"$f":"IF(A1249=\"\",\"\",VLOOKUP(C1249,#REF!,5,FALSE))","v":{"$error":"#N/A"}}]
[300362,{"$f":"IF(A1250=\"\",\"\",VLOOKUP(A1250,[1]ItemConfig!$A:$B,2,FALSE))","v":{"$error":"#N/A"}},{"$f":"IF(A1250=\"\",\"\",VLOOKUP(A1250,[1]ItemConfig!$A:$D,4,FALSE))","v":{"$error":"#N/A"}},{"$f":"IF(A1250=\"\",\"\",VLOOKUP(A1250,[1]ItemConfig!$A:$C,3,FALSE))","v":{"$error":"#N/A"}},{"$f":"IF(A1250=\"\",\"\",VLOOKUP(B1250,#REF!,5,FALSE))","v":{"$error":"#N/A"}},{"$f":"IF(A1250=\"\",\"\",VLOOKUP(C1250,#REF!,5,FALSE))","v":{"$error":"#N/A"}}]
[300363,{"$f":"IF(A1251=\"\",\"\",VLOOKUP(A1251,[1]ItemConfig!$A:$B,2,FALSE))","v":{"$error":"#N/A"}},{"$f":"IF(A1251=\"\",\"\",VLOOKUP(A1251,[1]ItemConfig!$A:$D,4,FALSE))","v":{"$error":"#N/A"}},{"$f":"IF(A1251=\"\",\"\",VLOOKUP(A1251,[1]ItemConfig!$A:$C,3,FALSE))","v":{"$error":"#N/A"}},{"$f":"IF(A1251=\"\",\"\",VLOOKUP(B1251,#REF!,5,FALSE))","v":{"$error":"#N/A"}},{"$f":"IF(A1251=\"\",\"\",VLOOKUP(C1251,#REF!,5,FALSE))","v":{"$error":"#N/A"}}]
[300364,{"$f":"IF(A1252=\"\",\"\",VLOOKUP(A1252,[1]ItemConfig!$A:$B,2,FALSE))","v":{"$error":"#N/A"}},{"$f":"IF(A1252=\"\",\"\",VLOOKUP(A1252,[1]ItemConfig!$A:$D,4,FALSE))","v":{"$error":"#N/A"}},{"$f":"IF(A1252=\"\",\"\",VLOOKUP(A1252,[1]ItemConfig!$A:$C,3,FALSE))","v":{"$error":"#N/A"}},{"$f":"IF(A1252=\"\",\"\",VLOOKUP(B1252,#REF!,5,FALSE))","v":{"$error":"#N/A"}},{"$f":"IF(A1252=\"\",\"\",VLOOKUP(C1252,#REF!,5,FALSE))","v":{"$error":"#N/A"}}]
[300365,{"$f":"IF(A1253=\"\",\"\",VLOOKUP(A1253,[1]ItemConfig!$A:$B,2,FALSE))","v":{"$error":"#N/A"}},{"$f":"IF(A1253=\"\",\"\",VLOOKUP(A1253,[1]ItemConfig!$A:$D,4,FALSE))","v":{"$error":"#N/A"}},{"$f":"IF(A1253=\"\",\"\",VLOOKUP(A1253,[1]ItemConfig!$A:$C,3,FALSE))","v":{"$error":"#N/A"}},{"$f":"IF(A1253=\"\",\"\",VLOOKUP(B1253,#REF!,5,FALSE))","v":{"$error":"#N/A"}},{"$f":"IF(A1253=\"\",\"\",VLOOKUP(C1253,#REF!,5,FALSE))","v":{"$error":"#N/A"}}]
[300366,{"$f":"IF(A1254=\"\",\"\",VLOOKUP(A1254,[1]ItemConfig!$A:$B,2,FALSE))","v":{"$error":"#N/A"}},{"$f":"IF(A1254=\"\",\"\",VLOOKUP(A1254,[1]ItemConfig!$A:$D,4,FALSE))","v":{"$error":"#N/A"}},{"$f":"IF(A1254=\"\",\"\",VLOOKUP(A1254,[1]ItemConfig!$A:$C,3,FALSE))","v":{"$error":"#N/A"}},{"$f":"IF(A1254=\"\",\"\",VLOOKUP(B1254,#REF!,5,FALSE))","v":{"$error":"#N/A"}},{"$f":"IF(A1254=\"\",\"\",VLOOKUP(C1254,#REF!,5,FALSE))","v":{"$error":"#N/A"}}]
[300367,{"$f":"IF(A1255=\"\",\"\",VLOOKUP(A1255,[1]ItemConfig!$A:$B,2,FALSE))","v":{"$error":"#N/A"}},{"$f":"IF(A1255=\"\",\"\",VLOOKUP(A1255,[1]ItemConfig!$A:$D,4,FALSE))","v":{"$error":"#N/A"}},{"$f":"IF(A1255=\"\",\"\",VLOOKUP(A1255,[1]ItemConfig!$A:$C,3,FALSE))","v":{"$error":"#N/A"}},{"$f":"IF(A1255=\"\",\"\",VLOOKUP(B1255,#REF!,5,FALSE))","v":{"$error":"#N/A"}},{"$f":"IF(A1255=\"\",\"\",VLOOKUP(C1255,#REF!,5,FALSE))","v":{"$error":"#N/A"}}]
[300368,{"$f":"IF(A1256=\"\",\"\",VLOOKUP(A1256,[1]ItemConfig!$A:$B,2,FALSE))","v":{"$error":"#N/A"}},{"$f":"IF(A1256=\"\",\"\",VLOOKUP(A1256,[1]ItemConfig!$A:$D,4,FALSE))","v":{"$error":"#N/A"}},{"$f":"IF(A1256=\"\",\"\",VLOOKUP(A1256,[1]ItemConfig!$A:$C,3,FALSE))","v":{"$error":"#N/A"}},{"$f":"IF(A1256=\"\",\"\",VLOOKUP(B1256,#REF!,5,FALSE))","v":{"$error":"#N/A"}},{"$f":"IF(A1256=\"\",\"\",VLOOKUP(C1256,#REF!,5,FALSE))","v":{"$error":"#N/A"}}]
[300369,{"$f":"IF(A1257=\"\",\"\",VLOOKUP(A1257,[1]ItemConfig!$A:$B,2,FALSE))","v":{"$error":"#N/A"}},{"$f":"IF(A1257=\"\",\"\",VLOOKUP(A1257,[1]ItemConfig!$A:$D,4,FALSE))","v":{"$error":"#N/A"}},{"$f":"IF(A1257=\"\",\"\",VLOOKUP(A1257,[1]ItemConfig!$A:$C,3,FALSE))","v":{"$error":"#N/A"}},{"$f":"IF(A1257=\"\",\"\",VLOOKUP(B1257,#REF!,5,FALSE))","v":{"$error":"#N/A"}},{"$f":"IF(A1257=\"\",\"\",VLOOKUP(C1257,#REF!,5,FALSE))","v":{"$error":"#N/A"}}]
[300370,{"$f":"IF(A1258=\"\",\"\",VLOOKUP(A1258,[1]ItemConfig!$A:$B,2,FALSE))","v":{"$error":"#N/A"}},{"$f":"IF(A1258=\"\",\"\",VLOOKUP(A1258,[1]ItemConfig!$A:$D,4,FALSE))","v":{"$error":"#N/A"}},{"$f":"IF(A1258=\"\",\"\",VLOOKUP(A1258,[1]ItemConfig!$A:$C,3,FALSE))","v":{"$error":"#N/A"}},{"$f":"IF(A1258=\"\",\"\",VLOOKUP(B1258,#REF!,5,FALSE))","v":{"$error":"#N/A"}},{"$f":"IF(A1258=\"\",\"\",VLOOKUP(C1258,#REF!,5,FALSE))","v":{"$error":"#N/A"}}]
[300371,{"$f":"IF(A1259=\"\",\"\",VLOOKUP(A1259,[1]ItemConfig!$A:$B,2,FALSE))","v":{"$error":"#N/A"}},{"$f":"IF(A1259=\"\",\"\",VLOOKUP(A1259,[1]ItemConfig!$A:$D,4,FALSE))","v":{"$error":"#N/A"}},{"$f":"IF(A1259=\"\",\"\",VLOOKUP(A1259,[1]ItemConfig!$A:$C,3,FALSE))","v":{"$error":"#N/A"}},{"$f":"IF(A1259=\"\",\"\",VLOOKUP(B1259,#REF!,5,FALSE))","v":{"$error":"#N/A"}},{"$f":"IF(A1259=\"\",\"\",VLOOKUP(C1259,#REF!,5,FALSE))","v":{"$error":"#N/A"}}]
[300372,{"$f":"IF(A1260=\"\",\"\",VLOOKUP(A1260,[1]ItemConfig!$A:$B,2,FALSE))","v":{"$error":"#N/A"}},{"$f":"IF(A1260=\"\",\"\",VLOOKUP(A1260,[1]ItemConfig!$A:$D,4,FALSE))","v":{"$error":"#N/A"}},{"$f":"IF(A1260=\"\",\"\",VLOOKUP(A1260,[1]ItemConfig!$A:$C,3,FALSE))","v":{"$error":"#N/A"}},{"$f":"IF(A1260=\"\",\"\",VLOOKUP(B1260,#REF!,5,FALSE))","v":{"$error":"#N/A"}},{"$f":"IF(A1260=\"\",\"\",VLOOKUP(C1260,#REF!,5,FALSE))","v":{"$error":"#N/A"}}]
[300373,{"$f":"IF(A1261=\"\",\"\",VLOOKUP(A1261,[1]ItemConfig!$A:$B,2,FALSE))","v":{"$error":"#N/A"}},{"$f":"IF(A1261=\"\",\"\",VLOOKUP(A1261,[1]ItemConfig!$A:$D,4,FALSE))","v":{"$error":"#N/A"}},{"$f":"IF(A1261=\"\",\"\",VLOOKUP(A1261,[1]ItemConfig!$A:$C,3,FALSE))","v":{"$error":"#N/A"}},{"$f":"IF(A1261=\"\",\"\",VLOOKUP(B1261,#REF!,5,FALSE))","v":{"$error":"#N/A"}},{"$f":"IF(A1261=\"\",\"\",VLOOKUP(C1261,#REF!,5,FALSE))","v":{"$error":"#N/A"}}]
[300374,{"$f":"IF(A1262=\"\",\"\",VLOOKUP(A1262,[1]ItemConfig!$A:$B,2,FALSE))","v":{"$error":"#N/A"}},{"$f":"IF(A1262=\"\",\"\",VLOOKUP(A1262,[1]ItemConfig!$A:$D,4,FALSE))","v":{"$error":"#N/A"}},{"$f":"IF(A1262=\"\",\"\",VLOOKUP(A1262,[1]ItemConfig!$A:$C,3,FALSE))","v":{"$error":"#N/A"}},{"$f":"IF(A1262=\"\",\"\",VLOOKUP(B1262,#REF!,5,FALSE))","v":{"$error":"#N/A"}},{"$f":"IF(A1262=\"\",\"\",VLOOKUP(C1262,#REF!,5,FALSE))","v":{"$error":"#N/A"}}]
[300375,{"$f":"IF(A1263=\"\",\"\",VLOOKUP(A1263,[1]ItemConfig!$A:$B,2,FALSE))","v":{"$error":"#N/A"}},{"$f":"IF(A1263=\"\",\"\",VLOOKUP(A1263,[1]ItemConfig!$A:$D,4,FALSE))","v":{"$error":"#N/A"}},{"$f":"IF(A1263=\"\",\"\",VLOOKUP(A1263,[1]ItemConfig!$A:$C,3,FALSE))","v":{"$error":"#N/A"}},{"$f":"IF(A1263=\"\",\"\",VLOOKUP(B1263,#REF!,5,FALSE))","v":{"$error":"#N/A"}},{"$f":"IF(A1263=\"\",\"\",VLOOKUP(C1263,#REF!,5,FALSE))","v":{"$error":"#N/A"}}]
[300376,{"$f":"IF(A1264=\"\",\"\",VLOOKUP(A1264,[1]ItemConfig!$A:$B,2,FALSE))","v":{"$error":"#N/A"}},{"$f":"IF(A1264=\"\",\"\",VLOOKUP(A1264,[1]ItemConfig!$A:$D,4,FALSE))","v":{"$error":"#N/A"}},{"$f":"IF(A1264=\"\",\"\",VLOOKUP(A1264,[1]ItemConfig!$A:$C,3,FALSE))","v":{"$error":"#N/A"}},{"$f":"IF(A1264=\"\",\"\",VLOOKUP(B1264,#REF!,5,FALSE))","v":{"$error":"#N/A"}},{"$f":"IF(A1264=\"\",\"\",VLOOKUP(C1264,#REF!,5,FALSE))","v":{"$error":"#N/A"}}]
[300377,{"$f":"IF(A1265=\"\",\"\",VLOOKUP(A1265,[1]ItemConfig!$A:$B,2,FALSE))","v":{"$error":"#N/A"}},{"$f":"IF(A1265=\"\",\"\",VLOOKUP(A1265,[1]ItemConfig!$A:$D,4,FALSE))","v":{"$error":"#N/A"}},{"$f":"IF(A1265=\"\",\"\",VLOOKUP(A1265,[1]ItemConfig!$A:$C,3,FALSE))","v":{"$error":"#N/A"}},{"$f":"IF(A1265=\"\",\"\",VLOOKUP(B1265,#REF!,5,FALSE))","v":{"$error":"#N/A"}},{"$f":"IF(A1265=\"\",\"\",VLOOKUP(C1265,#REF!,5,FALSE))","v":{"$error":"#N/A"}}]
[300378,{"$f":"IF(A1266=\"\",\"\",VLOOKUP(A1266,[1]ItemConfig!$A:$B,2,FALSE))","v":{"$error":"#N/A"}},{"$f":"IF(A1266=\"\",\"\",VLOOKUP(A1266,[1]ItemConfig!$A:$D,4,FALSE))","v":{"$error":"#N/A"}},{"$f":"IF(A1266=\"\",\"\",VLOOKUP(A1266,[1]ItemConfig!$A:$C,3,FALSE))","v":{"$error":"#N/A"}},{"$f":"IF(A1266=\"\",\"\",VLOOKUP(B1266,#REF!,5,FALSE))","v":{"$error":"#N/A"}},{"$f":"IF(A1266=\"\",\"\",VLOOKUP(C1266,#REF!,5,FALSE))","v":{"$error":"#N/A"}}]
[300379,{"$f":"IF(A1267=\"\",\"\",VLOOKUP(A1267,[1]ItemConfig!$A:$B,2,FALSE))","v":{"$error":"#N/A"}},{"$f":"IF(A1267=\"\",\"\",VLOOKUP(A1267,[1]ItemConfig!$A:$D,4,FALSE))","v":{"$error":"#N/A"}},{"$f":"IF(A1267=\"\",\"\",VLOOKUP(A1267,[1]ItemConfig!$A:$C,3,FALSE))","v":{"$error":"#N/A"}},{"$f":"IF(A1267=\"\",\"\",VLOOKUP(B1267,#REF!,5,FALSE))","v":{"$error":"#N/A"}},{"$f":"IF(A1267=\"\",\"\",VLOOKUP(C1267,#REF!,5,FALSE))","v":{"$error":"#N/A"}}]
[300380,{"$f":"IF(A1268=\"\",\"\",VLOOKUP(A1268,[1]ItemConfig!$A:$B,2,FALSE))","v":{"$error":"#N/A"}},{"$f":"IF(A1268=\"\",\"\",VLOOKUP(A1268,[1]ItemConfig!$A:$D,4,FALSE))","v":{"$error":"#N/A"}},{"$f":"IF(A1268=\"\",\"\",VLOOKUP(A1268,[1]ItemConfig!$A:$C,3,FALSE))","v":{"$error":"#N/A"}},{"$f":"IF(A1268=\"\",\"\",VLOOKUP(B1268,#REF!,5,FALSE))","v":{"$error":"#N/A"}},{"$f":"IF(A1268=\"\",\"\",VLOOKUP(C1268,#REF!,5,FALSE))","v":{"$error":"#N/A"}}]
[300381,{"$f":"IF(A1269=\"\",\"\",VLOOKUP(A1269,[1]ItemConfig!$A:$B,2,FALSE))","v":{"$error":"#N/A"}},{"$f":"IF(A1269=\"\",\"\",VLOOKUP(A1269,[1]ItemConfig!$A:$D,4,FALSE))","v":{"$error":"#N/A"}},{"$f":"IF(A1269=\"\",\"\",VLOOKUP(A1269,[1]ItemConfig!$A:$C,3,FALSE))","v":{"$error":"#N/A"}},{"$f":"IF(A1269=\"\",\"\",VLOOKUP(B1269,#REF!,5,FALSE))","v":{"$error":"#N/A"}},{"$f":"IF(A1269=\"\",\"\",VLOOKUP(C1269,#REF!,5,FALSE))","v":{"$error":"#N/A"}}]
[300382,{"$f":"IF(A1270=\"\",\"\",VLOOKUP(A1270,[1]ItemConfig!$A:$B,2,FALSE))","v":{"$error":"#N/A"}},{"$f":"IF(A1270=\"\",\"\",VLOOKUP(A1270,[1]ItemConfig!$A:$D,4,FALSE))","v":{"$error":"#N/A"}},{"$f":"IF(A1270=\"\",\"\",VLOOKUP(A1270,[1]ItemConfig!$A:$C,3,FALSE))","v":{"$error":"#N/A"}},{"$f":"IF(A1270=\"\",\"\",VLOOKUP(B1270,#REF!,5,FALSE))","v":{"$error":"#N/A"}},{"$f":"IF(A1270=\"\",\"\",VLOOKUP(C1270,#REF!,5,FALSE))","v":{"$error":"#N/A"}}]
[300383,{"$f":"IF(A1271=\"\",\"\",VLOOKUP(A1271,[1]ItemConfig!$A:$B,2,FALSE))","v":{"$error":"#N/A"}},{"$f":"IF(A1271=\"\",\"\",VLOOKUP(A1271,[1]ItemConfig!$A:$D,4,FALSE))","v":{"$error":"#N/A"}},{"$f":"IF(A1271=\"\",\"\",VLOOKUP(A1271,[1]ItemConfig!$A:$C,3,FALSE))","v":{"$error":"#N/A"}},{"$f":"IF(A1271=\"\",\"\",VLOOKUP(B1271,#REF!,5,FALSE))","v":{"$error":"#N/A"}},{"$f":"IF(A1271=\"\",\"\",VLOOKUP(C1271,#REF!,5,FALSE))","v":{"$error":"#N/A"}}]
[300384,{"$f":"IF(A1272=\"\",\"\",VLOOKUP(A1272,[1]ItemConfig!$A:$B,2,FALSE))","v":{"$error":"#N/A"}},{"$f":"IF(A1272=\"\",\"\",VLOOKUP(A1272,[1]ItemConfig!$A:$D,4,FALSE))","v":{"$error":"#N/A"}},{"$f":"IF(A1272=\"\",\"\",VLOOKUP(A1272,[1]ItemConfig!$A:$C,3,FALSE))","v":{"$error":"#N/A"}},{"$f":"IF(A1272=\"\",\"\",VLOOKUP(B1272,#REF!,5,FALSE))","v":{"$error":"#N/A"}},{"$f":"IF(A1272=\"\",\"\",VLOOKUP(C1272,#REF!,5,FALSE))","v":{"$error":"#N/A"}}]
[300385,{"$f":"IF(A1273=\"\",\"\",VLOOKUP(A1273,[1]ItemConfig!$A:$B,2,FALSE))","v":{"$error":"#N/A"}},{"$f":"IF(A1273=\"\",\"\",VLOOKUP(A1273,[1]ItemConfig!$A:$D,4,FALSE))","v":{"$error":"#N/A"}},{"$f":"IF(A1273=\"\",\"\",VLOOKUP(A1273,[1]ItemConfig!$A:$C,3,FALSE))","v":{"$error":"#N/A"}},{"$f":"IF(A1273=\"\",\"\",VLOOKUP(B1273,#REF!,5,FALSE))","v":{"$error":"#N/A"}},{"$f":"IF(A1273=\"\",\"\",VLOOKUP(C1273,#REF!,5,FALSE))","v":{"$error":"#N/A"}}]
[300386,{"$f":"IF(A1274=\"\",\"\",VLOOKUP(A1274,[1]ItemConfig!$A:$B,2,FALSE))","v":{"$error":"#N/A"}},{"$f":"IF(A1274=\"\",\"\",VLOOKUP(A1274,[1]ItemConfig!$A:$D,4,FALSE))","v":{"$error":"#N/A"}},{"$f":"IF(A1274=\"\",\"\",VLOOKUP(A1274,[1]ItemConfig!$A:$C,3,FALSE))","v":{"$error":"#N/A"}},{"$f":"IF(A1274=\"\",\"\",VLOOKUP(B1274,#REF!,5,FALSE))","v":{"$error":"#N/A"}},{"$f":"IF(A1274=\"\",\"\",VLOOKUP(C1274,#REF!,5,FALSE))","v":{"$error":"#N/A"}}]
[300387,{"$f":"IF(A1275=\"\",\"\",VLOOKUP(A1275,[1]ItemConfig!$A:$B,2,FALSE))","v":{"$error":"#N/A"}},{"$f":"IF(A1275=\"\",\"\",VLOOKUP(A1275,[1]ItemConfig!$A:$D,4,FALSE))","v":{"$error":"#N/A"}},{"$f":"IF(A1275=\"\",\"\",VLOOKUP(A1275,[1]ItemConfig!$A:$C,3,FALSE))","v":{"$error":"#N/A"}},{"$f":"IF(A1275=\"\",\"\",VLOOKUP(B1275,#REF!,5,FALSE))","v":{"$error":"#N/A"}},{"$f":"IF(A1275=\"\",\"\",VLOOKUP(C1275,#REF!,5,FALSE))","v":{"$error":"#N/A"}}]
[300388,{"$f":"IF(A1276=\"\",\"\",VLOOKUP(A1276,[1]ItemConfig!$A:$B,2,FALSE))","v":{"$error":"#N/A"}},{"$f":"IF(A1276=\"\",\"\",VLOOKUP(A1276,[1]ItemConfig!$A:$D,4,FALSE))","v":{"$error":"#N/A"}},{"$f":"IF(A1276=\"\",\"\",VLOOKUP(A1276,[1]ItemConfig!$A:$C,3,FALSE))","v":{"$error":"#N/A"}},{"$f":"IF(A1276=\"\",\"\",VLOOKUP(B1276,#REF!,5,FALSE))","v":{"$error":"#N/A"}},{"$f":"IF(A1276=\"\",\"\",VLOOKUP(C1276,#REF!,5,FALSE))","v":{"$error":"#N/A"}}]
[300389,{"$f":"IF(A1277=\"\",\"\",VLOOKUP(A1277,[1]ItemConfig!$A:$B,2,FALSE))","v":{"$error":"#N/A"}},{"$f":"IF(A1277=\"\",\"\",VLOOKUP(A1277,[1]ItemConfig!$A:$D,4,FALSE))","v":{"$error":"#N/A"}},{"$f":"IF(A1277=\"\",\"\",VLOOKUP(A1277,[1]ItemConfig!$A:$C,3,FALSE))","v":{"$error":"#N/A"}},{"$f":"IF(A1277=\"\",\"\",VLOOKUP(B1277,#REF!,5,FALSE))","v":{"$error":"#N/A"}},{"$f":"IF(A1277=\"\",\"\",VLOOKUP(C1277,#REF!,5,FALSE))","v":{"$error":"#N/A"}}]
[300390,{"$f":"IF(A1278=\"\",\"\",VLOOKUP(A1278,[1]ItemConfig!$A:$B,2,FALSE))","v":{"$error":"#N/A"}},{"$f":"IF(A1278=\"\",\"\",VLOOKUP(A1278,[1]ItemConfig!$A:$D,4,FALSE))","v":{"$error":"#N/A"}},{"$f":"IF(A1278=\"\",\"\",VLOOKUP(A1278,[1]ItemConfig!$A:$C,3,FALSE))","v":{"$error":"#N/A"}},{"$f":"IF(A1278=\"\",\"\",VLOOKUP(B1278,#REF!,5,FALSE))","v":{"$error":"#N/A"}},{"$f":"IF(A1278=\"\",\"\",VLOOKUP(C1278,#REF!,5,FALSE))","v":{"$error":"#N/A"}}]
[300391,{"$f":"IF(A1279=\"\",\"\",VLOOKUP(A1279,[1]ItemConfig!$A:$B,2,FALSE))","v":{"$error":"#N/A"}},{"$f":"IF(A1279=\"\",\"\",VLOOKUP(A1279,[1]ItemConfig!$A:$D,4,FALSE))","v":{"$error":"#N/A"}},{"$f":"IF(A1279=\"\",\"\",VLOOKUP(A1279,[1]ItemConfig!$A:$C,3,FALSE))","v":{"$error":"#N/A"}},{"$f":"IF(A1279=\"\",\"\",VLOOKUP(B1279,#REF!,5,FALSE))","v":{"$error":"#N/A"}},{"$f":"IF(A1279=\"\",\"\",VLOOKUP(C1279,#REF!,5,FALSE))","v":{"$error":"#N/A"}}]
[300392,{"$f":"IF(A1280=\"\",\"\",VLOOKUP(A1280,[1]ItemConfig!$A:$B,2,FALSE))","v":{"$error":"#N/A"}},{"$f":"IF(A1280=\"\",\"\",VLOOKUP(A1280,[1]ItemConfig!$A:$D,4,FALSE))","v":{"$error":"#N/A"}},{"$f":"IF(A1280=\"\",\"\",VLOOKUP(A1280,[1]ItemConfig!$A:$C,3,FALSE))","v":{"$error":"#N/A"}},{"$f":"IF(A1280=\"\",\"\",VLOOKUP(B1280,#REF!,5,FALSE))","v":{"$error":"#N/A"}},{"$f":"IF(A1280=\"\",\"\",VLOOKUP(C1280,#REF!,5,FALSE))","v":{"$error":"#N/A"}}]
[300393,{"$f":"IF(A1281=\"\",\"\",VLOOKUP(A1281,[1]ItemConfig!$A:$B,2,FALSE))","v":{"$error":"#N/A"}},{"$f":"IF(A1281=\"\",\"\",VLOOKUP(A1281,[1]ItemConfig!$A:$D,4,FALSE))","v":{"$error":"#N/A"}},{"$f":"IF(A1281=\"\",\"\",VLOOKUP(A1281,[1]ItemConfig!$A:$C,3,FALSE))","v":{"$error":"#N/A"}},{"$f":"IF(A1281=\"\",\"\",VLOOKUP(B1281,#REF!,5,FALSE))","v":{"$error":"#N/A"}},{"$f":"IF(A1281=\"\",\"\",VLOOKUP(C1281,#REF!,5,FALSE))","v":{"$error":"#N/A"}}]
[300394,{"$f":"IF(A1282=\"\",\"\",VLOOKUP(A1282,[1]ItemConfig!$A:$B,2,FALSE))","v":{"$error":"#N/A"}},{"$f":"IF(A1282=\"\",\"\",VLOOKUP(A1282,[1]ItemConfig!$A:$D,4,FALSE))","v":{"$error":"#N/A"}},{"$f":"IF(A1282=\"\",\"\",VLOOKUP(A1282,[1]ItemConfig!$A:$C,3,FALSE))","v":{"$error":"#N/A"}},{"$f":"IF(A1282=\"\",\"\",VLOOKUP(B1282,#REF!,5,FALSE))","v":{"$error":"#N/A"}},{"$f":"IF(A1282=\"\",\"\",VLOOKUP(C1282,#REF!,5,FALSE))","v":{"$error":"#N/A"}}]
[300395,{"$f":"IF(A1283=\"\",\"\",VLOOKUP(A1283,[1]ItemConfig!$A:$B,2,FALSE))","v":{"$error":"#N/A"}},{"$f":"IF(A1283=\"\",\"\",VLOOKUP(A1283,[1]ItemConfig!$A:$D,4,FALSE))","v":{"$error":"#N/A"}},{"$f":"IF(A1283=\"\",\"\",VLOOKUP(A1283,[1]ItemConfig!$A:$C,3,FALSE))","v":{"$error":"#N/A"}},{"$f":"IF(A1283=\"\",\"\",VLOOKUP(B1283,#REF!,5,FALSE))","v":{"$error":"#N/A"}},{"$f":"IF(A1283=\"\",\"\",VLOOKUP(C1283,#REF!,5,FALSE))","v":{"$error":"#N/A"}}]
[300396,{"$f":"IF(A1284=\"\",\"\",VLOOKUP(A1284,[1]ItemConfig!$A:$B,2,FALSE))","v":{"$error":"#N/A"}},{"$f":"IF(A1284=\"\",\"\",VLOOKUP(A1284,[1]ItemConfig!$A:$D,4,FALSE))","v":{"$error":"#N/A"}},{"$f":"IF(A1284=\"\",\"\",VLOOKUP(A1284,[1]ItemConfig!$A:$C,3,FALSE))","v":{"$error":"#N/A"}},{"$f":"IF(A1284=\"\",\"\",VLOOKUP(B1284,#REF!,5,FALSE))","v":{"$error":"#N/A"}},{"$f":"IF(A1284=\"\",\"\",VLOOKUP(C1284,#REF!,5,FALSE))","v":{"$error":"#N/A"}}]
[300397,{"$f":"IF(A1285=\"\",\"\",VLOOKUP(A1285,[1]ItemConfig!$A:$B,2,FALSE))","v":{"$error":"#N/A"}},{"$f":"IF(A1285=\"\",\"\",VLOOKUP(A1285,[1]ItemConfig!$A:$D,4,FALSE))","v":{"$error":"#N/A"}},{"$f":"IF(A1285=\"\",\"\",VLOOKUP(A1285,[1]ItemConfig!$A:$C,3,FALSE))","v":{"$error":"#N/A"}},{"$f":"IF(A1285=\"\",\"\",VLOOKUP(B1285,#REF!,5,FALSE))","v":{"$error":"#N/A"}},{"$f":"IF(A1285=\"\",\"\",VLOOKUP(C1285,#REF!,5,FALSE))","v":{"$error":"#N/A"}}]
[300398,{"$f":"IF(A1286=\"\",\"\",VLOOKUP(A1286,[1]ItemConfig!$A:$B,2,FALSE))","v":{"$error":"#N/A"}},{"$f":"IF(A1286=\"\",\"\",VLOOKUP(A1286,[1]ItemConfig!$A:$D,4,FALSE))","v":{"$error":"#N/A"}},{"$f":"IF(A1286=\"\",\"\",VLOOKUP(A1286,[1]ItemConfig!$A:$C,3,FALSE))","v":{"$error":"#N/A"}},{"$f":"IF(A1286=\"\",\"\",VLOOKUP(B1286,#REF!,5,FALSE))","v":{"$error":"#N/A"}},{"$f":"IF(A1286=\"\",\"\",VLOOKUP(C1286,#REF!,5,FALSE))","v":{"$error":"#N/A"}}]
[300399,{"$f":"IF(A1287=\"\",\"\",VLOOKUP(A1287,[1]ItemConfig!$A:$B,2,FALSE))","v":{"$error":"#N/A"}},{"$f":"IF(A1287=\"\",\"\",VLOOKUP(A1287,[1]ItemConfig!$A:$D,4,FALSE))","v":{"$error":"#N/A"}},{"$f":"IF(A1287=\"\",\"\",VLOOKUP(A1287,[1]ItemConfig!$A:$C,3,FALSE))","v":{"$error":"#N/A"}},{"$f":"IF(A1287=\"\",\"\",VLOOKUP(B1287,#REF!,5,FALSE))","v":{"$error":"#N/A"}},{"$f":"IF(A1287=\"\",\"\",VLOOKUP(C1287,#REF!,5,FALSE))","v":{"$error":"#N/A"}}]
[300400,{"$f":"IF(A1288=\"\",\"\",VLOOKUP(A1288,[1]ItemConfig!$A:$B,2,FALSE))","v":{"$error":"#N/A"}},{"$f":"IF(A1288=\"\",\"\",VLOOKUP(A1288,[1]ItemConfig!$A:$D,4,FALSE))","v":{"$error":"#N/A"}},{"$f":"IF(A1288=\"\",\"\",VLOOKUP(A1288,[1]ItemConfig!$A:$C,3,FALSE))","v":{"$error":"#N/A"}},{"$f":"IF(A1288=\"\",\"\",VLOOKUP(B1288,#REF!,5,FALSE))","v":{"$error":"#N/A"}},{"$f":"IF(A1288=\"\",\"\",VLOOKUP(C1288,#REF!,5,FALSE))","v":{"$error":"#N/A"}}]
[null,{"$f":"IF(A1289=\"\",\"\",VLOOKUP(A1289,[1]ItemConfig!$A:$B,2,FALSE))","v":""},{"$f":"IF(A1289=\"\",\"\",VLOOKUP(A1289,[1]ItemConfig!$A:$D,4,FALSE))","v":""},{"$f":"IF(A1289=\"\",\"\",VLOOKUP(A1289,[1]ItemConfig!$A:$C,3,FALSE))","v":""},{"$f":"IF(A1289=\"\",\"\",VLOOKUP(B1289,#REF!,5,FALSE))","v":""},{"$f":"IF(A1289=\"\",\"\",VLOOKUP(C1289,#REF!,5,FALSE))","v":""}]
[300401,{"$f":"IF(A1290=\"\",\"\",VLOOKUP(A1290,[1]ItemConfig!$A:$B,2,FALSE))","v":{"$error":"#N/A"}},{"$f":"IF(A1290=\"\",\"\",VLOOKUP(A1290,[1]ItemConfig!$A:$D,4,FALSE))","v":{"$error":"#N/A"}},{"$f":"IF(A1290=\"\",\"\",VLOOKUP(A1290,[1]ItemConfig!$A:$C,3,FALSE))","v":{"$error":"#N/A"}},{"$f":"IF(A1290=\"\",\"\",VLOOKUP(B1290,#REF!,5,FALSE))","v":{"$error":"#N/A"}},{"$f":"IF(A1290=\"\",\"\",VLOOKUP(C1290,#REF!,5,FALSE))","v":{"$error":"#N/A"}}]
[300402,{"$f":"IF(A1291=\"\",\"\",VLOOKUP(A1291,[1]ItemConfig!$A:$B,2,FALSE))","v":{"$error":"#N/A"}},{"$f":"IF(A1291=\"\",\"\",VLOOKUP(A1291,[1]ItemConfig!$A:$D,4,FALSE))","v":{"$error":"#N/A"}},{"$f":"IF(A1291=\"\",\"\",VLOOKUP(A1291,[1]ItemConfig!$A:$C,3,FALSE))","v":{"$error":"#N/A"}},{"$f":"IF(A1291=\"\",\"\",VLOOKUP(B1291,#REF!,5,FALSE))","v":{"$error":"#N/A"}},{"$f":"IF(A1291=\"\",\"\",VLOOKUP(C1291,#REF!,5,FALSE))","v":{"$error":"#N/A"}}]
[300403,{"$f":"IF(A1292=\"\",\"\",VLOOKUP(A1292,[1]ItemConfig!$A:$B,2,FALSE))","v":{"$error":"#N/A"}},{"$f":"IF(A1292=\"\",\"\",VLOOKUP(A1292,[1]ItemConfig!$A:$D,4,FALSE))","v":{"$error":"#N/A"}},{"$f":"IF(A1292=\"\",\"\",VLOOKUP(A1292,[1]ItemConfig!$A:$C,3,FALSE))","v":{"$error":"#N/A"}},{"$f":"IF(A1292=\"\",\"\",VLOOKUP(B1292,#REF!,5,FALSE))","v":{"$error":"#N/A"}},{"$f":"IF(A1292=\"\",\"\",VLOOKUP(C1292,#REF!,5,FALSE))","v":{"$error":"#N/A"}}]
[300404,{"$f":"IF(A1293=\"\",\"\",VLOOKUP(A1293,[1]ItemConfig!$A:$B,2,FALSE))","v":{"$error":"#N/A"}},{"$f":"IF(A1293=\"\",\"\",VLOOKUP(A1293,[1]ItemConfig!$A:$D,4,FALSE))","v":{"$error":"#N/A"}},{"$f":"IF(A1293=\"\",\"\",VLOOKUP(A1293,[1]ItemConfig!$A:$C,3,FALSE))","v":{"$error":"#N/A"}},{"$f":"IF(A1293=\"\",\"\",VLOOKUP(B1293,#REF!,5,FALSE))","v":{"$error":"#N/A"}},{"$f":"IF(A1293=\"\",\"\",VLOOKUP(C1293,#REF!,5,FALSE))","v":{"$error":"#N/A"}}]
[300405,{"$f":"IF(A1294=\"\",\"\",VLOOKUP(A1294,[1]ItemConfig!$A:$B,2,FALSE))","v":{"$error":"#N/A"}},{"$f":"IF(A1294=\"\",\"\",VLOOKUP(A1294,[1]ItemConfig!$A:$D,4,FALSE))","v":{"$error":"#N/A"}},{"$f":"IF(A1294=\"\",\"\",VLOOKUP(A1294,[1]ItemConfig!$A:$C,3,FALSE))","v":{"$error":"#N/A"}},{"$f":"IF(A1294=\"\",\"\",VLOOKUP(B1294,#REF!,5,FALSE))","v":{"$error":"#N/A"}},{"$f":"IF(A1294=\"\",\"\",VLOOKUP(C1294,#REF!,5,FALSE))","v":{"$error":"#N/A"}}]
[300406,{"$f":"IF(A1295=\"\",\"\",VLOOKUP(A1295,[1]ItemConfig!$A:$B,2,FALSE))","v":{"$error":"#N/A"}},{"$f":"IF(A1295=\"\",\"\",VLOOKUP(A1295,[1]ItemConfig!$A:$D,4,FALSE))","v":{"$error":"#N/A"}},{"$f":"IF(A1295=\"\",\"\",VLOOKUP(A1295,[1]ItemConfig!$A:$C,3,FALSE))","v":{"$error":"#N/A"}},{"$f":"IF(A1295=\"\",\"\",VLOOKUP(B1295,#REF!,5,FALSE))","v":{"$error":"#N/A"}},{"$f":"IF(A1295=\"\",\"\",VLOOKUP(C1295,#REF!,5,FALSE))","v":{"$error":"#N/A"}}]
[300407,{"$f":"IF(A1296=\"\",\"\",VLOOKUP(A1296,[1]ItemConfig!$A:$B,2,FALSE))","v":{"$error":"#N/A"}},{"$f":"IF(A1296=\"\",\"\",VLOOKUP(A1296,[1]ItemConfig!$A:$D,4,FALSE))","v":{"$error":"#N/A"}},{"$f":"IF(A1296=\"\",\"\",VLOOKUP(A1296,[1]ItemConfig!$A:$C,3,FALSE))","v":{"$error":"#N/A"}},{"$f":"IF(A1296=\"\",\"\",VLOOKUP(B1296,#REF!,5,FALSE))","v":{"$error":"#N/A"}},{"$f":"IF(A1296=\"\",\"\",VLOOKUP(C1296,#REF!,5,FALSE))","v":{"$error":"#N/A"}}]
[300408,{"$f":"IF(A1297=\"\",\"\",VLOOKUP(A1297,[1]ItemConfig!$A:$B,2,FALSE))","v":{"$error":"#N/A"}},{"$f":"IF(A1297=\"\",\"\",VLOOKUP(A1297,[1]ItemConfig!$A:$D,4,FALSE))","v":{"$error":"#N/A"}},{"$f":"IF(A1297=\"\",\"\",VLOOKUP(A1297,[1]ItemConfig!$A:$C,3,FALSE))","v":{"$error":"#N/A"}},{"$f":"IF(A1297=\"\",\"\",VLOOKUP(B1297,#REF!,5,FALSE))","v":{"$error":"#N/A"}},{"$f":"IF(A1297=\"\",\"\",VLOOKUP(C1297,#REF!,5,FALSE))","v":{"$error":"#N/A"}}]
[300409,{"$f":"IF(A1298=\"\",\"\",VLOOKUP(A1298,[1]ItemConfig!$A:$B,2,FALSE))","v":{"$error":"#N/A"}},{"$f":"IF(A1298=\"\",\"\",VLOOKUP(A1298,[1]ItemConfig!$A:$D,4,FALSE))","v":{"$error":"#N/A"}},{"$f":"IF(A1298=\"\",\"\",VLOOKUP(A1298,[1]ItemConfig!$A:$C,3,FALSE))","v":{"$error":"#N/A"}},{"$f":"IF(A1298=\"\",\"\",VLOOKUP(B1298,#REF!,5,FALSE))","v":{"$error":"#N/A"}},{"$f":"IF(A1298=\"\",\"\",VLOOKUP(C1298,#REF!,5,FALSE))","v":{"$error":"#N/A"}}]
[300410,{"$f":"IF(A1299=\"\",\"\",VLOOKUP(A1299,[1]ItemConfig!$A:$B,2,FALSE))","v":{"$error":"#N/A"}},{"$f":"IF(A1299=\"\",\"\",VLOOKUP(A1299,[1]ItemConfig!$A:$D,4,FALSE))","v":{"$error":"#N/A"}},{"$f":"IF(A1299=\"\",\"\",VLOOKUP(A1299,[1]ItemConfig!$A:$C,3,FALSE))","v":{"$error":"#N/A"}},{"$f":"IF(A1299=\"\",\"\",VLOOKUP(B1299,#REF!,5,FALSE))","v":{"$error":"#N/A"}},{"$f":"IF(A1299=\"\",\"\",VLOOKUP(C1299,#REF!,5,FALSE))","v":{"$error":"#N/A"}}]
[300411,{"$f":"IF(A1300=\"\",\"\",VLOOKUP(A1300,[1]ItemConfig!$A:$B,2,FALSE))","v":{"$error":"#N/A"}},{"$f":"IF(A1300=\"\",\"\",VLOOKUP(A1300,[1]ItemConfig!$A:$D,4,FALSE))","v":{"$error":"#N/A"}},{"$f":"IF(A1300=\"\",\"\",VLOOKUP(A1300,[1]ItemConfig!$A:$C,3,FALSE))","v":{"$error":"#N/A"}},{"$f":"IF(A1300=\"\",\"\",VLOOKUP(B1300,#REF!,5,FALSE))","v":{"$error":"#N/A"}},{"$f":"IF(A1300=\"\",\"\",VLOOKUP(C1300,#REF!,5,FALSE))","v":{"$error":"#N/A"}}]
[300412,{"$f":"IF(A1301=\"\",\"\",VLOOKUP(A1301,[1]ItemConfig!$A:$B,2,FALSE))","v":{"$error":"#N/A"}},{"$f":"IF(A1301=\"\",\"\",VLOOKUP(A1301,[1]ItemConfig!$A:$D,4,FALSE))","v":{"$error":"#N/A"}},{"$f":"IF(A1301=\"\",\"\",VLOOKUP(A1301,[1]ItemConfig!$A:$C,3,FALSE))","v":{"$error":"#N/A"}},{"$f":"IF(A1301=\"\",\"\",VLOOKUP(B1301,#REF!,5,FALSE))","v":{"$error":"#N/A"}},{"$f":"IF(A1301=\"\",\"\",VLOOKUP(C1301,#REF!,5,FALSE))","v":{"$error":"#N/A"}}]
[300413,{"$f":"IF(A1302=\"\",\"\",VLOOKUP(A1302,[1]ItemConfig!$A:$B,2,FALSE))","v":{"$error":"#N/A"}},{"$f":"IF(A1302=\"\",\"\",VLOOKUP(A1302,[1]ItemConfig!$A:$D,4,FALSE))","v":{"$error":"#N/A"}},{"$f":"IF(A1302=\"\",\"\",VLOOKUP(A1302,[1]ItemConfig!$A:$C,3,FALSE))","v":{"$error":"#N/A"}},{"$f":"IF(A1302=\"\",\"\",VLOOKUP(B1302,#REF!,5,FALSE))","v":{"$error":"#N/A"}},{"$f":"IF(A1302=\"\",\"\",VLOOKUP(C1302,#REF!,5,FALSE))","v":{"$error":"#N/A"}}]
[300414,{"$f":"IF(A1303=\"\",\"\",VLOOKUP(A1303,[1]ItemConfig!$A:$B,2,FALSE))","v":{"$error":"#N/A"}},{"$f":"IF(A1303=\"\",\"\",VLOOKUP(A1303,[1]ItemConfig!$A:$D,4,FALSE))","v":{"$error":"#N/A"}},{"$f":"IF(A1303=\"\",\"\",VLOOKUP(A1303,[1]ItemConfig!$A:$C,3,FALSE))","v":{"$error":"#N/A"}},{"$f":"IF(A1303=\"\",\"\",VLOOKUP(B1303,#REF!,5,FALSE))","v":{"$error":"#N/A"}},{"$f":"IF(A1303=\"\",\"\",VLOOKUP(C1303,#REF!,5,FALSE))","v":{"$error":"#N/A"}}]
[300415,{"$f":"IF(A1304=\"\",\"\",VLOOKUP(A1304,[1]ItemConfig!$A:$B,2,FALSE))","v":{"$error":"#N/A"}},{"$f":"IF(A1304=\"\",\"\",VLOOKUP(A1304,[1]ItemConfig!$A:$D,4,FALSE))","v":{"$error":"#N/A"}},{"$f":"IF(A1304=\"\",\"\",VLOOKUP(A1304,[1]ItemConfig!$A:$C,3,FALSE))","v":{"$error":"#N/A"}},{"$f":"IF(A1304=\"\",\"\",VLOOKUP(B1304,#REF!,5,FALSE))","v":{"$error":"#N/A"}},{"$f":"IF(A1304=\"\",\"\",VLOOKUP(C1304,#REF!,5,FALSE))","v":{"$error":"#N/A"}}]
[300416,{"$f":"IF(A1305=\"\",\"\",VLOOKUP(A1305,[1]ItemConfig!$A:$B,2,FALSE))","v":{"$error":"#N/A"}},{"$f":"IF(A1305=\"\",\"\",VLOOKUP(A1305,[1]ItemConfig!$A:$D,4,FALSE))","v":{"$error":"#N/A"}},{"$f":"IF(A1305=\"\",\"\",VLOOKUP(A1305,[1]ItemConfig!$A:$C,3,FALSE))","v":{"$error":"#N/A"}},{"$f":"IF(A1305=\"\",\"\",VLOOKUP(B1305,#REF!,5,FALSE))","v":{"$error":"#N/A"}},{"$f":"IF(A1305=\"\",\"\",VLOOKUP(C1305,#REF!,5,FALSE))","v":{"$error":"#N/A"}}]
[300417,{"$f":"IF(A1306=\"\",\"\",VLOOKUP(A1306,[1]ItemConfig!$A:$B,2,FALSE))","v":{"$error":"#N/A"}},{"$f":"IF(A1306=\"\",\"\",VLOOKUP(A1306,[1]ItemConfig!$A:$D,4,FALSE))","v":{"$error":"#N/A"}},{"$f":"IF(A1306=\"\",\"\",VLOOKUP(A1306,[1]ItemConfig!$A:$C,3,FALSE))","v":{"$error":"#N/A"}},{"$f":"IF(A1306=\"\",\"\",VLOOKUP(B1306,#REF!,5,FALSE))","v":{"$error":"#N/A"}},{"$f":"IF(A1306=\"\",\"\",VLOOKUP(C1306,#REF!,5,FALSE))","v":{"$error":"#N/A"}}]
[300418,{"$f":"IF(A1307=\"\",\"\",VLOOKUP(A1307,[1]ItemConfig!$A:$B,2,FALSE))","v":{"$error":"#N/A"}},{"$f":"IF(A1307=\"\",\"\",VLOOKUP(A1307,[1]ItemConfig!$A:$D,4,FALSE))","v":{"$error":"#N/A"}},{"$f":"IF(A1307=\"\",\"\",VLOOKUP(A1307,[1]ItemConfig!$A:$C,3,FALSE))","v":{"$error":"#N/A"}},{"$f":"IF(A1307=\"\",\"\",VLOOKUP(B1307,#REF!,5,FALSE))","v":{"$error":"#N/A"}},{"$f":"IF(A1307=\"\",\"\",VLOOKUP(C1307,#REF!,5,FALSE))","v":{"$error":"#N/A"}}]
[300419,{"$f":"IF(A1308=\"\",\"\",VLOOKUP(A1308,[1]ItemConfig!$A:$B,2,FALSE))","v":{"$error":"#N/A"}},{"$f":"IF(A1308=\"\",\"\",VLOOKUP(A1308,[1]ItemConfig!$A:$D,4,FALSE))","v":{"$error":"#N/A"}},{"$f":"IF(A1308=\"\",\"\",VLOOKUP(A1308,[1]ItemConfig!$A:$C,3,FALSE))","v":{"$error":"#N/A"}},{"$f":"IF(A1308=\"\",\"\",VLOOKUP(B1308,#REF!,5,FALSE))","v":{"$error":"#N/A"}},{"$f":"IF(A1308=\"\",\"\",VLOOKUP(C1308,#REF!,5,FALSE))","v":{"$error":"#N/A"}}]
[300420,{"$f":"IF(A1309=\"\",\"\",VLOOKUP(A1309,[1]ItemConfig!$A:$B,2,FALSE))","v":{"$error":"#N/A"}},{"$f":"IF(A1309=\"\",\"\",VLOOKUP(A1309,[1]ItemConfig!$A:$D,4,FALSE))","v":{"$error":"#N/A"}},{"$f":"IF(A1309=\"\",\"\",VLOOKUP(A1309,[1]ItemConfig!$A:$C,3,FALSE))","v":{"$error":"#N/A"}},{"$f":"IF(A1309=\"\",\"\",VLOOKUP(B1309,#REF!,5,FALSE))","v":{"$error":"#N/A"}},{"$f":"IF(A1309=\"\",\"\",VLOOKUP(C1309,#REF!,5,FALSE))","v":{"$error":"#N/A"}}]
[300421,{"$f":"IF(A1310=\"\",\"\",VLOOKUP(A1310,[1]ItemConfig!$A:$B,2,FALSE))","v":{"$error":"#N/A"}},{"$f":"IF(A1310=\"\",\"\",VLOOKUP(A1310,[1]ItemConfig!$A:$D,4,FALSE))","v":{"$error":"#N/A"}},{"$f":"IF(A1310=\"\",\"\",VLOOKUP(A1310,[1]ItemConfig!$A:$C,3,FALSE))","v":{"$error":"#N/A"}},{"$f":"IF(A1310=\"\",\"\",VLOOKUP(B1310,#REF!,5,FALSE))","v":{"$error":"#N/A"}},{"$f":"IF(A1310=\"\",\"\",VLOOKUP(C1310,#REF!,5,FALSE))","v":{"$error":"#N/A"}}]
[300422,{"$f":"IF(A1311=\"\",\"\",VLOOKUP(A1311,[1]ItemConfig!$A:$B,2,FALSE))","v":{"$error":"#N/A"}},{"$f":"IF(A1311=\"\",\"\",VLOOKUP(A1311,[1]ItemConfig!$A:$D,4,FALSE))","v":{"$error":"#N/A"}},{"$f":"IF(A1311=\"\",\"\",VLOOKUP(A1311,[1]ItemConfig!$A:$C,3,FALSE))","v":{"$error":"#N/A"}},{"$f":"IF(A1311=\"\",\"\",VLOOKUP(B1311,#REF!,5,FALSE))","v":{"$error":"#N/A"}},{"$f":"IF(A1311=\"\",\"\",VLOOKUP(C1311,#REF!,5,FALSE))","v":{"$error":"#N/A"}}]
[300423,{"$f":"IF(A1312=\"\",\"\",VLOOKUP(A1312,[1]ItemConfig!$A:$B,2,FALSE))","v":{"$error":"#N/A"}},{"$f":"IF(A1312=\"\",\"\",VLOOKUP(A1312,[1]ItemConfig!$A:$D,4,FALSE))","v":{"$error":"#N/A"}},{"$f":"IF(A1312=\"\",\"\",VLOOKUP(A1312,[1]ItemConfig!$A:$C,3,FALSE))","v":{"$error":"#N/A"}},{"$f":"IF(A1312=\"\",\"\",VLOOKUP(B1312,#REF!,5,FALSE))","v":{"$error":"#N/A"}},{"$f":"IF(A1312=\"\",\"\",VLOOKUP(C1312,#REF!,5,FALSE))","v":{"$error":"#N/A"}}]
[300424,{"$f":"IF(A1313=\"\",\"\",VLOOKUP(A1313,[1]ItemConfig!$A:$B,2,FALSE))","v":{"$error":"#N/A"}},{"$f":"IF(A1313=\"\",\"\",VLOOKUP(A1313,[1]ItemConfig!$A:$D,4,FALSE))","v":{"$error":"#N/A"}},{"$f":"IF(A1313=\"\",\"\",VLOOKUP(A1313,[1]ItemConfig!$A:$C,3,FALSE))","v":{"$error":"#N/A"}},{"$f":"IF(A1313=\"\",\"\",VLOOKUP(B1313,#REF!,5,FALSE))","v":{"$error":"#N/A"}},{"$f":"IF(A1313=\"\",\"\",VLOOKUP(C1313,#REF!,5,FALSE))","v":{"$error":"#N/A"}}]
[300425,{"$f":"IF(A1314=\"\",\"\",VLOOKUP(A1314,[1]ItemConfig!$A:$B,2,FALSE))","v":{"$error":"#N/A"}},{"$f":"IF(A1314=\"\",\"\",VLOOKUP(A1314,[1]ItemConfig!$A:$D,4,FALSE))","v":{"$error":"#N/A"}},{"$f":"IF(A1314=\"\",\"\",VLOOKUP(A1314,[1]ItemConfig!$A:$C,3,FALSE))","v":{"$error":"#N/A"}},{"$f":"IF(A1314=\"\",\"\",VLOOKUP(B1314,#REF!,5,FALSE))","v":{"$error":"#N/A"}},{"$f":"IF(A1314=\"\",\"\",VLOOKUP(C1314,#REF!,5,FALSE))","v":{"$error":"#N/A"}}]
[300426,{"$f":"IF(A1315=\"\",\"\",VLOOKUP(A1315,[1]ItemConfig!$A:$B,2,FALSE))","v":{"$error":"#N/A"}},{"$f":"IF(A1315=\"\",\"\",VLOOKUP(A1315,[1]ItemConfig!$A:$D,4,FALSE))","v":{"$error":"#N/A"}},{"$f":"IF(A1315=\"\",\"\",VLOOKUP(A1315,[1]ItemConfig!$A:$C,3,FALSE))","v":{"$error":"#N/A"}},{"$f":"IF(A1315=\"\",\"\",VLOOKUP(B1315,#REF!,5,FALSE))","v":{"$error":"#N/A"}},{"$f":"IF(A1315=\"\",\"\",VLOOKUP(C1315,#REF!,5,FALSE))","v":{"$error":"#N/A"}}]
[300427,{"$f":"IF(A1316=\"\",\"\",VLOOKUP(A1316,[1]ItemConfig!$A:$B,2,FALSE))","v":{"$error":"#N/A"}},{"$f":"IF(A1316=\"\",\"\",VLOOKUP(A1316,[1]ItemConfig!$A:$D,4,FALSE))","v":{"$error":"#N/A"}},{"$f":"IF(A1316=\"\",\"\",VLOOKUP(A1316,[1]ItemConfig!$A:$C,3,FALSE))","v":{"$error":"#N/A"}},{"$f":"IF(A1316=\"\",\"\",VLOOKUP(B1316,#REF!,5,FALSE))","v":{"$error":"#N/A"}},{"$f":"IF(A1316=\"\",\"\",VLOOKUP(C1316,#REF!,5,FALSE))","v":{"$error":"#N/A"}}]
[300428,{"$f":"IF(A1317=\"\",\"\",VLOOKUP(A1317,[1]ItemConfig!$A:$B,2,FALSE))","v":{"$error":"#N/A"}},{"$f":"IF(A1317=\"\",\"\",VLOOKUP(A1317,[1]ItemConfig!$A:$D,4,FALSE))","v":{"$error":"#N/A"}},{"$f":"IF(A1317=\"\",\"\",VLOOKUP(A1317,[1]ItemConfig!$A:$C,3,FALSE))","v":{"$error":"#N/A"}},{"$f":"IF(A1317=\"\",\"\",VLOOKUP(B1317,#REF!,5,FALSE))","v":{"$error":"#N/A"}},{"$f":"IF(A1317=\"\",\"\",VLOOKUP(C1317,#REF!,5,FALSE))","v":{"$error":"#N/A"}}]
[300429,{"$f":"IF(A1318=\"\",\"\",VLOOKUP(A1318,[1]ItemConfig!$A:$B,2,FALSE))","v":{"$error":"#N/A"}},{"$f":"IF(A1318=\"\",\"\",VLOOKUP(A1318,[1]ItemConfig!$A:$D,4,FALSE))","v":{"$error":"#N/A"}},{"$f":"IF(A1318=\"\",\"\",VLOOKUP(A1318,[1]ItemConfig!$A:$C,3,FALSE))","v":{"$error":"#N/A"}},{"$f":"IF(A1318=\"\",\"\",VLOOKUP(B1318,#REF!,5,FALSE))","v":{"$error":"#N/A"}},{"$f":"IF(A1318=\"\",\"\",VLOOKUP(C1318,#REF!,5,FALSE))","v":{"$error":"#N/A"}}]
[300430,{"$f":"IF(A1319=\"\",\"\",VLOOKUP(A1319,[1]ItemConfig!$A:$B,2,FALSE))","v":{"$error":"#N/A"}},{"$f":"IF(A1319=\"\",\"\",VLOOKUP(A1319,[1]ItemConfig!$A:$D,4,FALSE))","v":{"$error":"#N/A"}},{"$f":"IF(A1319=\"\",\"\",VLOOKUP(A1319,[1]ItemConfig!$A:$C,3,FALSE))","v":{"$error":"#N/A"}},{"$f":"IF(A1319=\"\",\"\",VLOOKUP(B1319,#REF!,5,FALSE))","v":{"$error":"#N/A"}},{"$f":"IF(A1319=\"\",\"\",VLOOKUP(C1319,#REF!,5,FALSE))","v":{"$error":"#N/A"}}]
[300431,{"$f":"IF(A1320=\"\",\"\",VLOOKUP(A1320,[1]ItemConfig!$A:$B,2,FALSE))","v":{"$error":"#N/A"}},{"$f":"IF(A1320=\"\",\"\",VLOOKUP(A1320,[1]ItemConfig!$A:$D,4,FALSE))","v":{"$error":"#N/A"}},{"$f":"IF(A1320=\"\",\"\",VLOOKUP(A1320,[1]ItemConfig!$A:$C,3,FALSE))","v":{"$error":"#N/A"}},{"$f":"IF(A1320=\"\",\"\",VLOOKUP(B1320,#REF!,5,FALSE))","v":{"$error":"#N/A"}},{"$f":"IF(A1320=\"\",\"\",VLOOKUP(C1320,#REF!,5,FALSE))","v":{"$error":"#N/A"}}]
[300432,{"$f":"IF(A1321=\"\",\"\",VLOOKUP(A1321,[1]ItemConfig!$A:$B,2,FALSE))","v":{"$error":"#N/A"}},{"$f":"IF(A1321=\"\",\"\",VLOOKUP(A1321,[1]ItemConfig!$A:$D,4,FALSE))","v":{"$error":"#N/A"}},{"$f":"IF(A1321=\"\",\"\",VLOOKUP(A1321,[1]ItemConfig!$A:$C,3,FALSE))","v":{"$error":"#N/A"}},{"$f":"IF(A1321=\"\",\"\",VLOOKUP(B1321,#REF!,5,FALSE))","v":{"$error":"#N/A"}},{"$f":"IF(A1321=\"\",\"\",VLOOKUP(C1321,#REF!,5,FALSE))","v":{"$error":"#N/A"}}]
[300433,{"$f":"IF(A1322=\"\",\"\",VLOOKUP(A1322,[1]ItemConfig!$A:$B,2,FALSE))","v":{"$error":"#N/A"}},{"$f":"IF(A1322=\"\",\"\",VLOOKUP(A1322,[1]ItemConfig!$A:$D,4,FALSE))","v":{"$error":"#N/A"}},{"$f":"IF(A1322=\"\",\"\",VLOOKUP(A1322,[1]ItemConfig!$A:$C,3,FALSE))","v":{"$error":"#N/A"}},{"$f":"IF(A1322=\"\",\"\",VLOOKUP(B1322,#REF!,5,FALSE))","v":{"$error":"#N/A"}},{"$f":"IF(A1322=\"\",\"\",VLOOKUP(C1322,#REF!,5,FALSE))","v":{"$error":"#N/A"}}]
[300434,{"$f":"IF(A1323=\"\",\"\",VLOOKUP(A1323,[1]ItemConfig!$A:$B,2,FALSE))","v":{"$error":"#N/A"}},{"$f":"IF(A1323=\"\",\"\",VLOOKUP(A1323,[1]ItemConfig!$A:$D,4,FALSE))","v":{"$error":"#N/A"}},{"$f":"IF(A1323=\"\",\"\",VLOOKUP(A1323,[1]ItemConfig!$A:$C,3,FALSE))","v":{"$error":"#N/A"}},{"$f":"IF(A1323=\"\",\"\",VLOOKUP(B1323,#REF!,5,FALSE))","v":{"$error":"#N/A"}},{"$f":"IF(A1323=\"\",\"\",VLOOKUP(C1323,#REF!,5,FALSE))","v":{"$error":"#N/A"}}]
[300435,{"$f":"IF(A1324=\"\",\"\",VLOOKUP(A1324,[1]ItemConfig!$A:$B,2,FALSE))","v":{"$error":"#N/A"}},{"$f":"IF(A1324=\"\",\"\",VLOOKUP(A1324,[1]ItemConfig!$A:$D,4,FALSE))","v":{"$error":"#N/A"}},{"$f":"IF(A1324=\"\",\"\",VLOOKUP(A1324,[1]ItemConfig!$A:$C,3,FALSE))","v":{"$error":"#N/A"}},{"$f":"IF(A1324=\"\",\"\",VLOOKUP(B1324,#REF!,5,FALSE))","v":{"$error":"#N/A"}},{"$f":"IF(A1324=\"\",\"\",VLOOKUP(C1324,#REF!,5,FALSE))","v":{"$error":"#N/A"}}]
[300436,{"$f":"IF(A1325=\"\",\"\",VLOOKUP(A1325,[1]ItemConfig!$A:$B,2,FALSE))","v":{"$error":"#N/A"}},{"$f":"IF(A1325=\"\",\"\",VLOOKUP(A1325,[1]ItemConfig!$A:$D,4,FALSE))","v":{"$error":"#N/A"}},{"$f":"IF(A1325=\"\",\"\",VLOOKUP(A1325,[1]ItemConfig!$A:$C,3,FALSE))","v":{"$error":"#N/A"}},{"$f":"IF(A1325=\"\",\"\",VLOOKUP(B1325,#REF!,5,FALSE))","v":{"$error":"#N/A"}},{"$f":"IF(A1325=\"\",\"\",VLOOKUP(C1325,#REF!,5,FALSE))","v":{"$error":"#N/A"}}]
[300437,{"$f":"IF(A1326=\"\",\"\",VLOOKUP(A1326,[1]ItemConfig!$A:$B,2,FALSE))","v":{"$error":"#N/A"}},{"$f":"IF(A1326=\"\",\"\",VLOOKUP(A1326,[1]ItemConfig!$A:$D,4,FALSE))","v":{"$error":"#N/A"}},{"$f":"IF(A1326=\"\",\"\",VLOOKUP(A1326,[1]ItemConfig!$A:$C,3,FALSE))","v":{"$error":"#N/A"}},{"$f":"IF(A1326=\"\",\"\",VLOOKUP(B1326,#REF!,5,FALSE))","v":{"$error":"#N/A"}},{"$f":"IF(A1326=\"\",\"\",VLOOKUP(C1326,#REF!,5,FALSE))","v":{"$error":"#N/A"}}]
[300438,{"$f":"IF(A1327=\"\",\"\",VLOOKUP(A1327,[1]ItemConfig!$A:$B,2,FALSE))","v":{"$error":"#N/A"}},{"$f":"IF(A1327=\"\",\"\",VLOOKUP(A1327,[1]ItemConfig!$A:$D,4,FALSE))","v":{"$error":"#N/A"}},{"$f":"IF(A1327=\"\",\"\",VLOOKUP(A1327,[1]ItemConfig!$A:$C,3,FALSE))","v":{"$error":"#N/A"}},{"$f":"IF(A1327=\"\",\"\",VLOOKUP(B1327,#REF!,5,FALSE))","v":{"$error":"#N/A"}},{"$f":"IF(A1327=\"\",\"\",VLOOKUP(C1327,#REF!,5,FALSE))","v":{"$error":"#N/A"}}]
[300439,{"$f":"IF(A1328=\"\",\"\",VLOOKUP(A1328,[1]ItemConfig!$A:$B,2,FALSE))","v":{"$error":"#N/A"}},{"$f":"IF(A1328=\"\",\"\",VLOOKUP(A1328,[1]ItemConfig!$A:$D,4,FALSE))","v":{"$error":"#N/A"}},{"$f":"IF(A1328=\"\",\"\",VLOOKUP(A1328,[1]ItemConfig!$A:$C,3,FALSE))","v":{"$error":"#N/A"}},{"$f":"IF(A1328=\"\",\"\",VLOOKUP(B1328,#REF!,5,FALSE))","v":{"$error":"#N/A"}},{"$f":"IF(A1328=\"\",\"\",VLOOKUP(C1328,#REF!,5,FALSE))","v":{"$error":"#N/A"}}]
[300440,{"$f":"IF(A1329=\"\",\"\",VLOOKUP(A1329,[1]ItemConfig!$A:$B,2,FALSE))","v":{"$error":"#N/A"}},{"$f":"IF(A1329=\"\",\"\",VLOOKUP(A1329,[1]ItemConfig!$A:$D,4,FALSE))","v":{"$error":"#N/A"}},{"$f":"IF(A1329=\"\",\"\",VLOOKUP(A1329,[1]ItemConfig!$A:$C,3,FALSE))","v":{"$error":"#N/A"}},{"$f":"IF(A1329=\"\",\"\",VLOOKUP(B1329,#REF!,5,FALSE))","v":{"$error":"#N/A"}},{"$f":"IF(A1329=\"\",\"\",VLOOKUP(C1329,#REF!,5,FALSE))","v":{"$error":"#N/A"}}]
[300441,{"$f":"IF(A1330=\"\",\"\",VLOOKUP(A1330,[1]ItemConfig!$A:$B,2,FALSE))","v":{"$error":"#N/A"}},{"$f":"IF(A1330=\"\",\"\",VLOOKUP(A1330,[1]ItemConfig!$A:$D,4,FALSE))","v":{"$error":"#N/A"}},{"$f":"IF(A1330=\"\",\"\",VLOOKUP(A1330,[1]ItemConfig!$A:$C,3,FALSE))","v":{"$error":"#N/A"}},{"$f":"IF(A1330=\"\",\"\",VLOOKUP(B1330,#REF!,5,FALSE))","v":{"$error":"#N/A"}},{"$f":"IF(A1330=\"\",\"\",VLOOKUP(C1330,#REF!,5,FALSE))","v":{"$error":"#N/A"}}]
[300442,{"$f":"IF(A1331=\"\",\"\",VLOOKUP(A1331,[1]ItemConfig!$A:$B,2,FALSE))","v":{"$error":"#N/A"}},{"$f":"IF(A1331=\"\",\"\",VLOOKUP(A1331,[1]ItemConfig!$A:$D,4,FALSE))","v":{"$error":"#N/A"}},{"$f":"IF(A1331=\"\",\"\",VLOOKUP(A1331,[1]ItemConfig!$A:$C,3,FALSE))","v":{"$error":"#N/A"}},{"$f":"IF(A1331=\"\",\"\",VLOOKUP(B1331,#REF!,5,FALSE))","v":{"$error":"#N/A"}},{"$f":"IF(A1331=\"\",\"\",VLOOKUP(C1331,#REF!,5,FALSE))","v":{"$error":"#N/A"}}]
[300443,{"$f":"IF(A1332=\"\",\"\",VLOOKUP(A1332,[1]ItemConfig!$A:$B,2,FALSE))","v":{"$error":"#N/A"}},{"$f":"IF(A1332=\"\",\"\",VLOOKUP(A1332,[1]ItemConfig!$A:$D,4,FALSE))","v":{"$error":"#N/A"}},{"$f":"IF(A1332=\"\",\"\",VLOOKUP(A1332,[1]ItemConfig!$A:$C,3,FALSE))","v":{"$error":"#N/A"}},{"$f":"IF(A1332=\"\",\"\",VLOOKUP(B1332,#REF!,5,FALSE))","v":{"$error":"#N/A"}},{"$f":"IF(A1332=\"\",\"\",VLOOKUP(C1332,#REF!,5,FALSE))","v":{"$error":"#N/A"}}]
[300444,{"$f":"IF(A1333=\"\",\"\",VLOOKUP(A1333,[1]ItemConfig!$A:$B,2,FALSE))","v":{"$error":"#N/A"}},{"$f":"IF(A1333=\"\",\"\",VLOOKUP(A1333,[1]ItemConfig!$A:$D,4,FALSE))","v":{"$error":"#N/A"}},{"$f":"IF(A1333=\"\",\"\",VLOOKUP(A1333,[1]ItemConfig!$A:$C,3,FALSE))","v":{"$error":"#N/A"}},{"$f":"IF(A1333=\"\",\"\",VLOOKUP(B1333,#REF!,5,FALSE))","v":{"$error":"#N/A"}},{"$f":"IF(A1333=\"\",\"\",VLOOKUP(C1333,#REF!,5,FALSE))","v":{"$error":"#N/A"}}]
[300445,{"$f":"IF(A1334=\"\",\"\",VLOOKUP(A1334,[1]ItemConfig!$A:$B,2,FALSE))","v":{"$error":"#N/A"}},{"$f":"IF(A1334=\"\",\"\",VLOOKUP(A1334,[1]ItemConfig!$A:$D,4,FALSE))","v":{"$error":"#N/A"}},{"$f":"IF(A1334=\"\",\"\",VLOOKUP(A1334,[1]ItemConfig!$A:$C,3,FALSE))","v":{"$error":"#N/A"}},{"$f":"IF(A1334=\"\",\"\",VLOOKUP(B1334,#REF!,5,FALSE))","v":{"$error":"#N/A"}},{"$f":"IF(A1334=\"\",\"\",VLOOKUP(C1334,#REF!,5,FALSE))","v":{"$error":"#N/A"}}]
[300446,{"$f":"IF(A1335=\"\",\"\",VLOOKUP(A1335,[1]ItemConfig!$A:$B,2,FALSE))","v":{"$error":"#N/A"}},{"$f":"IF(A1335=\"\",\"\",VLOOKUP(A1335,[1]ItemConfig!$A:$D,4,FALSE))","v":{"$error":"#N/A"}},{"$f":"IF(A1335=\"\",\"\",VLOOKUP(A1335,[1]ItemConfig!$A:$C,3,FALSE))","v":{"$error":"#N/A"}},{"$f":"IF(A1335=\"\",\"\",VLOOKUP(B1335,#REF!,5,FALSE))","v":{"$error":"#N/A"}},{"$f":"IF(A1335=\"\",\"\",VLOOKUP(C1335,#REF!,5,FALSE))","v":{"$error":"#N/A"}}]
[300447,{"$f":"IF(A1336=\"\",\"\",VLOOKUP(A1336,[1]ItemConfig!$A:$B,2,FALSE))","v":{"$error":"#N/A"}},{"$f":"IF(A1336=\"\",\"\",VLOOKUP(A1336,[1]ItemConfig!$A:$D,4,FALSE))","v":{"$error":"#N/A"}},{"$f":"IF(A1336=\"\",\"\",VLOOKUP(A1336,[1]ItemConfig!$A:$C,3,FALSE))","v":{"$error":"#N/A"}},{"$f":"IF(A1336=\"\",\"\",VLOOKUP(B1336,#REF!,5,FALSE))","v":{"$error":"#N/A"}},{"$f":"IF(A1336=\"\",\"\",VLOOKUP(C1336,#REF!,5,FALSE))","v":{"$error":"#N/A"}}]
[300448,{"$f":"IF(A1337=\"\",\"\",VLOOKUP(A1337,[1]ItemConfig!$A:$B,2,FALSE))","v":{"$error":"#N/A"}},{"$f":"IF(A1337=\"\",\"\",VLOOKUP(A1337,[1]ItemConfig!$A:$D,4,FALSE))","v":{"$error":"#N/A"}},{"$f":"IF(A1337=\"\",\"\",VLOOKUP(A1337,[1]ItemConfig!$A:$C,3,FALSE))","v":{"$error":"#N/A"}},{"$f":"IF(A1337=\"\",\"\",VLOOKUP(B1337,#REF!,5,FALSE))","v":{"$error":"#N/A"}},{"$f":"IF(A1337=\"\",\"\",VLOOKUP(C1337,#REF!,5,FALSE))","v":{"$error":"#N/A"}}]
[300449,{"$f":"IF(A1338=\"\",\"\",VLOOKUP(A1338,[1]ItemConfig!$A:$B,2,FALSE))","v":{"$error":"#N/A"}},{"$f":"IF(A1338=\"\",\"\",VLOOKUP(A1338,[1]ItemConfig!$A:$D,4,FALSE))","v":{"$error":"#N/A"}},{"$f":"IF(A1338=\"\",\"\",VLOOKUP(A1338,[1]ItemConfig!$A:$C,3,FALSE))","v":{"$error":"#N/A"}},{"$f":"IF(A1338=\"\",\"\",VLOOKUP(B1338,#REF!,5,FALSE))","v":{"$error":"#N/A"}},{"$f":"IF(A1338=\"\",\"\",VLOOKUP(C1338,#REF!,5,FALSE))","v":{"$error":"#N/A"}}]
[300450,{"$f":"IF(A1339=\"\",\"\",VLOOKUP(A1339,[1]ItemConfig!$A:$B,2,FALSE))","v":{"$error":"#N/A"}},{"$f":"IF(A1339=\"\",\"\",VLOOKUP(A1339,[1]ItemConfig!$A:$D,4,FALSE))","v":{"$error":"#N/A"}},{"$f":"IF(A1339=\"\",\"\",VLOOKUP(A1339,[1]ItemConfig!$A:$C,3,FALSE))","v":{"$error":"#N/A"}},{"$f":"IF(A1339=\"\",\"\",VLOOKUP(B1339,#REF!,5,FALSE))","v":{"$error":"#N/A"}},{"$f":"IF(A1339=\"\",\"\",VLOOKUP(C1339,#REF!,5,FALSE))","v":{"$error":"#N/A"}}]
[300451,{"$f":"IF(A1340=\"\",\"\",VLOOKUP(A1340,[1]ItemConfig!$A:$B,2,FALSE))","v":{"$error":"#N/A"}},{"$f":"IF(A1340=\"\",\"\",VLOOKUP(A1340,[1]ItemConfig!$A:$D,4,FALSE))","v":{"$error":"#N/A"}},{"$f":"IF(A1340=\"\",\"\",VLOOKUP(A1340,[1]ItemConfig!$A:$C,3,FALSE))","v":{"$error":"#N/A"}},{"$f":"IF(A1340=\"\",\"\",VLOOKUP(B1340,#REF!,5,FALSE))","v":{"$error":"#N/A"}},{"$f":"IF(A1340=\"\",\"\",VLOOKUP(C1340,#REF!,5,FALSE))","v":{"$error":"#N/A"}}]
[300452,{"$f":"IF(A1341=\"\",\"\",VLOOKUP(A1341,[1]ItemConfig!$A:$B,2,FALSE))","v":{"$error":"#N/A"}},{"$f":"IF(A1341=\"\",\"\",VLOOKUP(A1341,[1]ItemConfig!$A:$D,4,FALSE))","v":{"$error":"#N/A"}},{"$f":"IF(A1341=\"\",\"\",VLOOKUP(A1341,[1]ItemConfig!$A:$C,3,FALSE))","v":{"$error":"#N/A"}},{"$f":"IF(A1341=\"\",\"\",VLOOKUP(B1341,#REF!,5,FALSE))","v":{"$error":"#N/A"}},{"$f":"IF(A1341=\"\",\"\",VLOOKUP(C1341,#REF!,5,FALSE))","v":{"$error":"#N/A"}}]
[300453,{"$f":"IF(A1342=\"\",\"\",VLOOKUP(A1342,[1]ItemConfig!$A:$B,2,FALSE))","v":{"$error":"#N/A"}},{"$f":"IF(A1342=\"\",\"\",VLOOKUP(A1342,[1]ItemConfig!$A:$D,4,FALSE))","v":{"$error":"#N/A"}},{"$f":"IF(A1342=\"\",\"\",VLOOKUP(A1342,[1]ItemConfig!$A:$C,3,FALSE))","v":{"$error":"#N/A"}},{"$f":"IF(A1342=\"\",\"\",VLOOKUP(B1342,#REF!,5,FALSE))","v":{"$error":"#N/A"}},{"$f":"IF(A1342=\"\",\"\",VLOOKUP(C1342,#REF!,5,FALSE))","v":{"$error":"#N/A"}}]
[300454,{"$f":"IF(A1343=\"\",\"\",VLOOKUP(A1343,[1]ItemConfig!$A:$B,2,FALSE))","v":{"$error":"#N/A"}},{"$f":"IF(A1343=\"\",\"\",VLOOKUP(A1343,[1]ItemConfig!$A:$D,4,FALSE))","v":{"$error":"#N/A"}},{"$f":"IF(A1343=\"\",\"\",VLOOKUP(A1343,[1]ItemConfig!$A:$C,3,FALSE))","v":{"$error":"#N/A"}},{"$f":"IF(A1343=\"\",\"\",VLOOKUP(B1343,#REF!,5,FALSE))","v":{"$error":"#N/A"}},{"$f":"IF(A1343=\"\",\"\",VLOOKUP(C1343,#REF!,5,FALSE))","v":{"$error":"#N/A"}}]
[300455,{"$f":"IF(A1344=\"\",\"\",VLOOKUP(A1344,[1]ItemConfig!$A:$B,2,FALSE))","v":{"$error":"#N/A"}},{"$f":"IF(A1344=\"\",\"\",VLOOKUP(A1344,[1]ItemConfig!$A:$D,4,FALSE))","v":{"$error":"#N/A"}},{"$f":"IF(A1344=\"\",\"\",VLOOKUP(A1344,[1]ItemConfig!$A:$C,3,FALSE))","v":{"$error":"#N/A"}},{"$f":"IF(A1344=\"\",\"\",VLOOKUP(B1344,#REF!,5,FALSE))","v":{"$error":"#N/A"}},{"$f":"IF(A1344=\"\",\"\",VLOOKUP(C1344,#REF!,5,FALSE))","v":{"$error":"#N/A"}}]
[300456,{"$f":"IF(A1345=\"\",\"\",VLOOKUP(A1345,[1]ItemConfig!$A:$B,2,FALSE))","v":{"$error":"#N/A"}},{"$f":"IF(A1345=\"\",\"\",VLOOKUP(A1345,[1]ItemConfig!$A:$D,4,FALSE))","v":{"$error":"#N/A"}},{"$f":"IF(A1345=\"\",\"\",VLOOKUP(A1345,[1]ItemConfig!$A:$C,3,FALSE))","v":{"$error":"#N/A"}},{"$f":"IF(A1345=\"\",\"\",VLOOKUP(B1345,#REF!,5,FALSE))","v":{"$error":"#N/A"}},{"$f":"IF(A1345=\"\",\"\",VLOOKUP(C1345,#REF!,5,FALSE))","v":{"$error":"#N/A"}}]
[300457,{"$f":"IF(A1346=\"\",\"\",VLOOKUP(A1346,[1]ItemConfig!$A:$B,2,FALSE))","v":{"$error":"#N/A"}},{"$f":"IF(A1346=\"\",\"\",VLOOKUP(A1346,[1]ItemConfig!$A:$D,4,FALSE))","v":{"$error":"#N/A"}},{"$f":"IF(A1346=\"\",\"\",VLOOKUP(A1346,[1]ItemConfig!$A:$C,3,FALSE))","v":{"$error":"#N/A"}},{"$f":"IF(A1346=\"\",\"\",VLOOKUP(B1346,#REF!,5,FALSE))","v":{"$error":"#N/A"}},{"$f":"IF(A1346=\"\",\"\",VLOOKUP(C1346,#REF!,5,FALSE))","v":{"$error":"#N/A"}}]
[300458,{"$f":"IF(A1347=\"\",\"\",VLOOKUP(A1347,[1]ItemConfig!$A:$B,2,FALSE))","v":{"$error":"#N/A"}},{"$f":"IF(A1347=\"\",\"\",VLOOKUP(A1347,[1]ItemConfig!$A:$D,4,FALSE))","v":{"$error":"#N/A"}},{"$f":"IF(A1347=\"\",\"\",VLOOKUP(A1347,[1]ItemConfig!$A:$C,3,FALSE))","v":{"$error":"#N/A"}},{"$f":"IF(A1347=\"\",\"\",VLOOKUP(B1347,#REF!,5,FALSE))","v":{"$error":"#N/A"}},{"$f":"IF(A1347=\"\",\"\",VLOOKUP(C1347,#REF!,5,FALSE))","v":{"$error":"#N/A"}}]
[300459,{"$f":"IF(A1348=\"\",\"\",VLOOKUP(A1348,[1]ItemConfig!$A:$B,2,FALSE))","v":{"$error":"#N/A"}},{"$f":"IF(A1348=\"\",\"\",VLOOKUP(A1348,[1]ItemConfig!$A:$D,4,FALSE))","v":{"$error":"#N/A"}},{"$f":"IF(A1348=\"\",\"\",VLOOKUP(A1348,[1]ItemConfig!$A:$C,3,FALSE))","v":{"$error":"#N/A"}},{"$f":"IF(A1348=\"\",\"\",VLOOKUP(B1348,#REF!,5,FALSE))","v":{"$error":"#N/A"}},{"$f":"IF(A1348=\"\",\"\",VLOOKUP(C1348,#REF!,5,FALSE))","v":{"$error":"#N/A"}}]
[300460,{"$f":"IF(A1349=\"\",\"\",VLOOKUP(A1349,[1]ItemConfig!$A:$B,2,FALSE))","v":{"$error":"#N/A"}},{"$f":"IF(A1349=\"\",\"\",VLOOKUP(A1349,[1]ItemConfig!$A:$D,4,FALSE))","v":{"$error":"#N/A"}},{"$f":"IF(A1349=\"\",\"\",VLOOKUP(A1349,[1]ItemConfig!$A:$C,3,FALSE))","v":{"$error":"#N/A"}},{"$f":"IF(A1349=\"\",\"\",VLOOKUP(B1349,#REF!,5,FALSE))","v":{"$error":"#N/A"}},{"$f":"IF(A1349=\"\",\"\",VLOOKUP(C1349,#REF!,5,FALSE))","v":{"$error":"#N/A"}}]
[300461,{"$f":"IF(A1350=\"\",\"\",VLOOKUP(A1350,[1]ItemConfig!$A:$B,2,FALSE))","v":{"$error":"#N/A"}},{"$f":"IF(A1350=\"\",\"\",VLOOKUP(A1350,[1]ItemConfig!$A:$D,4,FALSE))","v":{"$error":"#N/A"}},{"$f":"IF(A1350=\"\",\"\",VLOOKUP(A1350,[1]ItemConfig!$A:$C,3,FALSE))","v":{"$error":"#N/A"}},{"$f":"IF(A1350=\"\",\"\",VLOOKUP(B1350,#REF!,5,FALSE))","v":{"$error":"#N/A"}},{"$f":"IF(A1350=\"\",\"\",VLOOKUP(C1350,#REF!,5,FALSE))","v":{"$error":"#N/A"}}]
[300462,{"$f":"IF(A1351=\"\",\"\",VLOOKUP(A1351,[1]ItemConfig!$A:$B,2,FALSE))","v":{"$error":"#N/A"}},{"$f":"IF(A1351=\"\",\"\",VLOOKUP(A1351,[1]ItemConfig!$A:$D,4,FALSE))","v":{"$error":"#N/A"}},{"$f":"IF(A1351=\"\",\"\",VLOOKUP(A1351,[1]ItemConfig!$A:$C,3,FALSE))","v":{"$error":"#N/A"}},{"$f":"IF(A1351=\"\",\"\",VLOOKUP(B1351,#REF!,5,FALSE))","v":{"$error":"#N/A"}},{"$f":"IF(A1351=\"\",\"\",VLOOKUP(C1351,#REF!,5,FALSE))","v":{"$error":"#N/A"}}]
[300463,{"$f":"IF(A1352=\"\",\"\",VLOOKUP(A1352,[1]ItemConfig!$A:$B,2,FALSE))","v":{"$error":"#N/A"}},{"$f":"IF(A1352=\"\",\"\",VLOOKUP(A1352,[1]ItemConfig!$A:$D,4,FALSE))","v":{"$error":"#N/A"}},{"$f":"IF(A1352=\"\",\"\",VLOOKUP(A1352,[1]ItemConfig!$A:$C,3,FALSE))","v":{"$error":"#N/A"}},{"$f":"IF(A1352=\"\",\"\",VLOOKUP(B1352,#REF!,5,FALSE))","v":{"$error":"#N/A"}},{"$f":"IF(A1352=\"\",\"\",VLOOKUP(C1352,#REF!,5,FALSE))","v":{"$error":"#N/A"}}]
[300464,{"$f":"IF(A1353=\"\",\"\",VLOOKUP(A1353,[1]ItemConfig!$A:$B,2,FALSE))","v":{"$error":"#N/A"}},{"$f":"IF(A1353=\"\",\"\",VLOOKUP(A1353,[1]ItemConfig!$A:$D,4,FALSE))","v":{"$error":"#N/A"}},{"$f":"IF(A1353=\"\",\"\",VLOOKUP(A1353,[1]ItemConfig!$A:$C,3,FALSE))","v":{"$error":"#N/A"}},{"$f":"IF(A1353=\"\",\"\",VLOOKUP(B1353,#REF!,5,FALSE))","v":{"$error":"#N/A"}},{"$f":"IF(A1353=\"\",\"\",VLOOKUP(C1353,#REF!,5,FALSE))","v":{"$error":"#N/A"}}]
[300465,{"$f":"IF(A1354=\"\",\"\",VLOOKUP(A1354,[1]ItemConfig!$A:$B,2,FALSE))","v":{"$error":"#N/A"}},{"$f":"IF(A1354=\"\",\"\",VLOOKUP(A1354,[1]ItemConfig!$A:$D,4,FALSE))","v":{"$error":"#N/A"}},{"$f":"IF(A1354=\"\",\"\",VLOOKUP(A1354,[1]ItemConfig!$A:$C,3,FALSE))","v":{"$error":"#N/A"}},{"$f":"IF(A1354=\"\",\"\",VLOOKUP(B1354,#REF!,5,FALSE))","v":{"$error":"#N/A"}},{"$f":"IF(A1354=\"\",\"\",VLOOKUP(C1354,#REF!,5,FALSE))","v":{"$error":"#N/A"}}]
[300466,{"$f":"IF(A1355=\"\",\"\",VLOOKUP(A1355,[1]ItemConfig!$A:$B,2,FALSE))","v":{"$error":"#N/A"}},{"$f":"IF(A1355=\"\",\"\",VLOOKUP(A1355,[1]ItemConfig!$A:$D,4,FALSE))","v":{"$error":"#N/A"}},{"$f":"IF(A1355=\"\",\"\",VLOOKUP(A1355,[1]ItemConfig!$A:$C,3,FALSE))","v":{"$error":"#N/A"}},{"$f":"IF(A1355=\"\",\"\",VLOOKUP(B1355,#REF!,5,FALSE))","v":{"$error":"#N/A"}},{"$f":"IF(A1355=\"\",\"\",VLOOKUP(C1355,#REF!,5,FALSE))","v":{"$error":"#N/A"}}]
[300467,{"$f":"IF(A1356=\"\",\"\",VLOOKUP(A1356,[1]ItemConfig!$A:$B,2,FALSE))","v":{"$error":"#N/A"}},{"$f":"IF(A1356=\"\",\"\",VLOOKUP(A1356,[1]ItemConfig!$A:$D,4,FALSE))","v":{"$error":"#N/A"}},{"$f":"IF(A1356=\"\",\"\",VLOOKUP(A1356,[1]ItemConfig!$A:$C,3,FALSE))","v":{"$error":"#N/A"}},{"$f":"IF(A1356=\"\",\"\",VLOOKUP(B1356,#REF!,5,FALSE))","v":{"$error":"#N/A"}},{"$f":"IF(A1356=\"\",\"\",VLOOKUP(C1356,#REF!,5,FALSE))","v":{"$error":"#N/A"}}]
[300468,{"$f":"IF(A1357=\"\",\"\",VLOOKUP(A1357,[1]ItemConfig!$A:$B,2,FALSE))","v":{"$error":"#N/A"}},{"$f":"IF(A1357=\"\",\"\",VLOOKUP(A1357,[1]ItemConfig!$A:$D,4,FALSE))","v":{"$error":"#N/A"}},{"$f":"IF(A1357=\"\",\"\",VLOOKUP(A1357,[1]ItemConfig!$A:$C,3,FALSE))","v":{"$error":"#N/A"}},{"$f":"IF(A1357=\"\",\"\",VLOOKUP(B1357,#REF!,5,FALSE))","v":{"$error":"#N/A"}},{"$f":"IF(A1357=\"\",\"\",VLOOKUP(C1357,#REF!,5,FALSE))","v":{"$error":"#N/A"}}]
[300469,{"$f":"IF(A1358=\"\",\"\",VLOOKUP(A1358,[1]ItemConfig!$A:$B,2,FALSE))","v":{"$error":"#N/A"}},{"$f":"IF(A1358=\"\",\"\",VLOOKUP(A1358,[1]ItemConfig!$A:$D,4,FALSE))","v":{"$error":"#N/A"}},{"$f":"IF(A1358=\"\",\"\",VLOOKUP(A1358,[1]ItemConfig!$A:$C,3,FALSE))","v":{"$error":"#N/A"}},{"$f":"IF(A1358=\"\",\"\",VLOOKUP(B1358,#REF!,5,FALSE))","v":{"$error":"#N/A"}},{"$f":"IF(A1358=\"\",\"\",VLOOKUP(C1358,#REF!,5,FALSE))","v":{"$error":"#N/A"}}]
[300470,{"$f":"IF(A1359=\"\",\"\",VLOOKUP(A1359,[1]ItemConfig!$A:$B,2,FALSE))","v":{"$error":"#N/A"}},{"$f":"IF(A1359=\"\",\"\",VLOOKUP(A1359,[1]ItemConfig!$A:$D,4,FALSE))","v":{"$error":"#N/A"}},{"$f":"IF(A1359=\"\",\"\",VLOOKUP(A1359,[1]ItemConfig!$A:$C,3,FALSE))","v":{"$error":"#N/A"}},{"$f":"IF(A1359=\"\",\"\",VLOOKUP(B1359,#REF!,5,FALSE))","v":{"$error":"#N/A"}},{"$f":"IF(A1359=\"\",\"\",VLOOKUP(C1359,#REF!,5,FALSE))","v":{"$error":"#N/A"}}]
[300471,{"$f":"IF(A1360=\"\",\"\",VLOOKUP(A1360,[1]ItemConfig!$A:$B,2,FALSE))","v":{"$error":"#N/A"}},{"$f":"IF(A1360=\"\",\"\",VLOOKUP(A1360,[1]ItemConfig!$A:$D,4,FALSE))","v":{"$error":"#N/A"}},{"$f":"IF(A1360=\"\",\"\",VLOOKUP(A1360,[1]ItemConfig!$A:$C,3,FALSE))","v":{"$error":"#N/A"}},{"$f":"IF(A1360=\"\",\"\",VLOOKUP(B1360,#REF!,5,FALSE))","v":{"$error":"#N/A"}},{"$f":"IF(A1360=\"\",\"\",VLOOKUP(C1360,#REF!,5,FALSE))","v":{"$error":"#N/A"}}]
[300472,{"$f":"IF(A1361=\"\",\"\",VLOOKUP(A1361,[1]ItemConfig!$A:$B,2,FALSE))","v":{"$error":"#N/A"}},{"$f":"IF(A1361=\"\",\"\",VLOOKUP(A1361,[1]ItemConfig!$A:$D,4,FALSE))","v":{"$error":"#N/A"}},{"$f":"IF(A1361=\"\",\"\",VLOOKUP(A1361,[1]ItemConfig!$A:$C,3,FALSE))","v":{"$error":"#N/A"}},{"$f":"IF(A1361=\"\",\"\",VLOOKUP(B1361,#REF!,5,FALSE))","v":{"$error":"#N/A"}},{"$f":"IF(A1361=\"\",\"\",VLOOKUP(C1361,#REF!,5,FALSE))","v":{"$error":"#N/A"}}]
[300473,{"$f":"IF(A1362=\"\",\"\",VLOOKUP(A1362,[1]ItemConfig!$A:$B,2,FALSE))","v":{"$error":"#N/A"}},{"$f":"IF(A1362=\"\",\"\",VLOOKUP(A1362,[1]ItemConfig!$A:$D,4,FALSE))","v":{"$error":"#N/A"}},{"$f":"IF(A1362=\"\",\"\",VLOOKUP(A1362,[1]ItemConfig!$A:$C,3,FALSE))","v":{"$error":"#N/A"}},{"$f":"IF(A1362=\"\",\"\",VLOOKUP(B1362,#REF!,5,FALSE))","v":{"$error":"#N/A"}},{"$f":"IF(A1362=\"\",\"\",VLOOKUP(C1362,#REF!,5,FALSE))","v":{"$error":"#N/A"}}]
[300474,{"$f":"IF(A1363=\"\",\"\",VLOOKUP(A1363,[1]ItemConfig!$A:$B,2,FALSE))","v":{"$error":"#N/A"}},{"$f":"IF(A1363=\"\",\"\",VLOOKUP(A1363,[1]ItemConfig!$A:$D,4,FALSE))","v":{"$error":"#N/A"}},{"$f":"IF(A1363=\"\",\"\",VLOOKUP(A1363,[1]ItemConfig!$A:$C,3,FALSE))","v":{"$error":"#N/A"}},{"$f":"IF(A1363=\"\",\"\",VLOOKUP(B1363,#REF!,5,FALSE))","v":{"$error":"#N/A"}},{"$f":"IF(A1363=\"\",\"\",VLOOKUP(C1363,#REF!,5,FALSE))","v":{"$error":"#N/A"}}]
[300475,{"$f":"IF(A1364=\"\",\"\",VLOOKUP(A1364,[1]ItemConfig!$A:$B,2,FALSE))","v":{"$error":"#N/A"}},{"$f":"IF(A1364=\"\",\"\",VLOOKUP(A1364,[1]ItemConfig!$A:$D,4,FALSE))","v":{"$error":"#N/A"}},{"$f":"IF(A1364=\"\",\"\",VLOOKUP(A1364,[1]ItemConfig!$A:$C,3,FALSE))","v":{"$error":"#N/A"}},{"$f":"IF(A1364=\"\",\"\",VLOOKUP(B1364,#REF!,5,FALSE))","v":{"$error":"#N/A"}},{"$f":"IF(A1364=\"\",\"\",VLOOKUP(C1364,#REF!,5,FALSE))","v":{"$error":"#N/A"}}]
[300476,{"$f":"IF(A1365=\"\",\"\",VLOOKUP(A1365,[1]ItemConfig!$A:$B,2,FALSE))","v":{"$error":"#N/A"}},{"$f":"IF(A1365=\"\",\"\",VLOOKUP(A1365,[1]ItemConfig!$A:$D,4,FALSE))","v":{"$error":"#N/A"}},{"$f":"IF(A1365=\"\",\"\",VLOOKUP(A1365,[1]ItemConfig!$A:$C,3,FALSE))","v":{"$error":"#N/A"}},{"$f":"IF(A1365=\"\",\"\",VLOOKUP(B1365,#REF!,5,FALSE))","v":{"$error":"#N/A"}},{"$f":"IF(A1365=\"\",\"\",VLOOKUP(C1365,#REF!,5,FALSE))","v":{"$error":"#N/A"}}]
[300477,{"$f":"IF(A1366=\"\",\"\",VLOOKUP(A1366,[1]ItemConfig!$A:$B,2,FALSE))","v":{"$error":"#N/A"}},{"$f":"IF(A1366=\"\",\"\",VLOOKUP(A1366,[1]ItemConfig!$A:$D,4,FALSE))","v":{"$error":"#N/A"}},{"$f":"IF(A1366=\"\",\"\",VLOOKUP(A1366,[1]ItemConfig!$A:$C,3,FALSE))","v":{"$error":"#N/A"}},{"$f":"IF(A1366=\"\",\"\",VLOOKUP(B1366,#REF!,5,FALSE))","v":{"$error":"#N/A"}},{"$f":"IF(A1366=\"\",\"\",VLOOKUP(C1366,#REF!,5,FALSE))","v":{"$error":"#N/A"}}]
[300478,{"$f":"IF(A1367=\"\",\"\",VLOOKUP(A1367,[1]ItemConfig!$A:$B,2,FALSE))","v":{"$error":"#N/A"}},{"$f":"IF(A1367=\"\",\"\",VLOOKUP(A1367,[1]ItemConfig!$A:$D,4,FALSE))","v":{"$error":"#N/A"}},{"$f":"IF(A1367=\"\",\"\",VLOOKUP(A1367,[1]ItemConfig!$A:$C,3,FALSE))","v":{"$error":"#N/A"}},{"$f":"IF(A1367=\"\",\"\",VLOOKUP(B1367,#REF!,5,FALSE))","v":{"$error":"#N/A"}},{"$f":"IF(A1367=\"\",\"\",VLOOKUP(C1367,#REF!,5,FALSE))","v":{"$error":"#N/A"}}]
[300479,{"$f":"IF(A1368=\"\",\"\",VLOOKUP(A1368,[1]ItemConfig!$A:$B,2,FALSE))","v":{"$error":"#N/A"}},{"$f":"IF(A1368=\"\",\"\",VLOOKUP(A1368,[1]ItemConfig!$A:$D,4,FALSE))","v":{"$error":"#N/A"}},{"$f":"IF(A1368=\"\",\"\",VLOOKUP(A1368,[1]ItemConfig!$A:$C,3,FALSE))","v":{"$error":"#N/A"}},{"$f":"IF(A1368=\"\",\"\",VLOOKUP(B1368,#REF!,5,FALSE))","v":{"$error":"#N/A"}},{"$f":"IF(A1368=\"\",\"\",VLOOKUP(C1368,#REF!,5,FALSE))","v":{"$error":"#N/A"}}]
[300480,{"$f":"IF(A1369=\"\",\"\",VLOOKUP(A1369,[1]ItemConfig!$A:$B,2,FALSE))","v":{"$error":"#N/A"}},{"$f":"IF(A1369=\"\",\"\",VLOOKUP(A1369,[1]ItemConfig!$A:$D,4,FALSE))","v":{"$error":"#N/A"}},{"$f":"IF(A1369=\"\",\"\",VLOOKUP(A1369,[1]ItemConfig!$A:$C,3,FALSE))","v":{"$error":"#N/A"}},{"$f":"IF(A1369=\"\",\"\",VLOOKUP(B1369,#REF!,5,FALSE))","v":{"$error":"#N/A"}},{"$f":"IF(A1369=\"\",\"\",VLOOKUP(C1369,#REF!,5,FALSE))","v":{"$error":"#N/A"}}]
[300481,{"$f":"IF(A1370=\"\",\"\",VLOOKUP(A1370,[1]ItemConfig!$A:$B,2,FALSE))","v":{"$error":"#N/A"}},{"$f":"IF(A1370=\"\",\"\",VLOOKUP(A1370,[1]ItemConfig!$A:$D,4,FALSE))","v":{"$error":"#N/A"}},{"$f":"IF(A1370=\"\",\"\",VLOOKUP(A1370,[1]ItemConfig!$A:$C,3,FALSE))","v":{"$error":"#N/A"}},{"$f":"IF(A1370=\"\",\"\",VLOOKUP(B1370,#REF!,5,FALSE))","v":{"$error":"#N/A"}},{"$f":"IF(A1370=\"\",\"\",VLOOKUP(C1370,#REF!,5,FALSE))","v":{"$error":"#N/A"}}]
[300482,{"$f":"IF(A1371=\"\",\"\",VLOOKUP(A1371,[1]ItemConfig!$A:$B,2,FALSE))","v":{"$error":"#N/A"}},{"$f":"IF(A1371=\"\",\"\",VLOOKUP(A1371,[1]ItemConfig!$A:$D,4,FALSE))","v":{"$error":"#N/A"}},{"$f":"IF(A1371=\"\",\"\",VLOOKUP(A1371,[1]ItemConfig!$A:$C,3,FALSE))","v":{"$error":"#N/A"}},{"$f":"IF(A1371=\"\",\"\",VLOOKUP(B1371,#REF!,5,FALSE))","v":{"$error":"#N/A"}},{"$f":"IF(A1371=\"\",\"\",VLOOKUP(C1371,#REF!,5,FALSE))","v":{"$error":"#N/A"}}]
[300483,{"$f":"IF(A1372=\"\",\"\",VLOOKUP(A1372,[1]ItemConfig!$A:$B,2,FALSE))","v":{"$error":"#N/A"}},{"$f":"IF(A1372=\"\",\"\",VLOOKUP(A1372,[1]ItemConfig!$A:$D,4,FALSE))","v":{"$error":"#N/A"}},{"$f":"IF(A1372=\"\",\"\",VLOOKUP(A1372,[1]ItemConfig!$A:$C,3,FALSE))","v":{"$error":"#N/A"}},{"$f":"IF(A1372=\"\",\"\",VLOOKUP(B1372,#REF!,5,FALSE))","v":{"$error":"#N/A"}},{"$f":"IF(A1372=\"\",\"\",VLOOKUP(C1372,#REF!,5,FALSE))","v":{"$error":"#N/A"}}]
[300484,{"$f":"IF(A1373=\"\",\"\",VLOOKUP(A1373,[1]ItemConfig!$A:$B,2,FALSE))","v":{"$error":"#N/A"}},{"$f":"IF(A1373=\"\",\"\",VLOOKUP(A1373,[1]ItemConfig!$A:$D,4,FALSE))","v":{"$error":"#N/A"}},{"$f":"IF(A1373=\"\",\"\",VLOOKUP(A1373,[1]ItemConfig!$A:$C,3,FALSE))","v":{"$error":"#N/A"}},{"$f":"IF(A1373=\"\",\"\",VLOOKUP(B1373,#REF!,5,FALSE))","v":{"$error":"#N/A"}},{"$f":"IF(A1373=\"\",\"\",VLOOKUP(C1373,#REF!,5,FALSE))","v":{"$error":"#N/A"}}]
[300485,{"$f":"IF(A1374=\"\",\"\",VLOOKUP(A1374,[1]ItemConfig!$A:$B,2,FALSE))","v":{"$error":"#N/A"}},{"$f":"IF(A1374=\"\",\"\",VLOOKUP(A1374,[1]ItemConfig!$A:$D,4,FALSE))","v":{"$error":"#N/A"}},{"$f":"IF(A1374=\"\",\"\",VLOOKUP(A1374,[1]ItemConfig!$A:$C,3,FALSE))","v":{"$error":"#N/A"}},{"$f":"IF(A1374=\"\",\"\",VLOOKUP(B1374,#REF!,5,FALSE))","v":{"$error":"#N/A"}},{"$f":"IF(A1374=\"\",\"\",VLOOKUP(C1374,#REF!,5,FALSE))","v":{"$error":"#N/A"}}]
[300486,{"$f":"IF(A1375=\"\",\"\",VLOOKUP(A1375,[1]ItemConfig!$A:$B,2,FALSE))","v":{"$error":"#N/A"}},{"$f":"IF(A1375=\"\",\"\",VLOOKUP(A1375,[1]ItemConfig!$A:$D,4,FALSE))","v":{"$error":"#N/A"}},{"$f":"IF(A1375=\"\",\"\",VLOOKUP(A1375,[1]ItemConfig!$A:$C,3,FALSE))","v":{"$error":"#N/A"}},{"$f":"IF(A1375=\"\",\"\",VLOOKUP(B1375,#REF!,5,FALSE))","v":{"$error":"#N/A"}},{"$f":"IF(A1375=\"\",\"\",VLOOKUP(C1375,#REF!,5,FALSE))","v":{"$error":"#N/A"}}]
[300487,{"$f":"IF(A1376=\"\",\"\",VLOOKUP(A1376,[1]ItemConfig!$A:$B,2,FALSE))","v":{"$error":"#N/A"}},{"$f":"IF(A1376=\"\",\"\",VLOOKUP(A1376,[1]ItemConfig!$A:$D,4,FALSE))","v":{"$error":"#N/A"}},{"$f":"IF(A1376=\"\",\"\",VLOOKUP(A1376,[1]ItemConfig!$A:$C,3,FALSE))","v":{"$error":"#N/A"}},{"$f":"IF(A1376=\"\",\"\",VLOOKUP(B1376,#REF!,5,FALSE))","v":{"$error":"#N/A"}},{"$f":"IF(A1376=\"\",\"\",VLOOKUP(C1376,#REF!,5,FALSE))","v":{"$error":"#N/A"}}]
[300488,{"$f":"IF(A1377=\"\",\"\",VLOOKUP(A1377,[1]ItemConfig!$A:$B,2,FALSE))","v":{"$error":"#N/A"}},{"$f":"IF(A1377=\"\",\"\",VLOOKUP(A1377,[1]ItemConfig!$A:$D,4,FALSE))","v":{"$error":"#N/A"}},{"$f":"IF(A1377=\"\",\"\",VLOOKUP(A1377,[1]ItemConfig!$A:$C,3,FALSE))","v":{"$error":"#N/A"}},{"$f":"IF(A1377=\"\",\"\",VLOOKUP(B1377,#REF!,5,FALSE))","v":{"$error":"#N/A"}},{"$f":"IF(A1377=\"\",\"\",VLOOKUP(C1377,#REF!,5,FALSE))","v":{"$error":"#N/A"}}]
[300489,{"$f":"IF(A1378=\"\",\"\",VLOOKUP(A1378,[1]ItemConfig!$A:$B,2,FALSE))","v":{"$error":"#N/A"}},{"$f":"IF(A1378=\"\",\"\",VLOOKUP(A1378,[1]ItemConfig!$A:$D,4,FALSE))","v":{"$error":"#N/A"}},{"$f":"IF(A1378=\"\",\"\",VLOOKUP(A1378,[1]ItemConfig!$A:$C,3,FALSE))","v":{"$error":"#N/A"}},{"$f":"IF(A1378=\"\",\"\",VLOOKUP(B1378,#REF!,5,FALSE))","v":{"$error":"#N/A"}},{"$f":"IF(A1378=\"\",\"\",VLOOKUP(C1378,#REF!,5,FALSE))","v":{"$error":"#N/A"}}]
[300490,{"$f":"IF(A1379=\"\",\"\",VLOOKUP(A1379,[1]ItemConfig!$A:$B,2,FALSE))","v":{"$error":"#N/A"}},{"$f":"IF(A1379=\"\",\"\",VLOOKUP(A1379,[1]ItemConfig!$A:$D,4,FALSE))","v":{"$error":"#N/A"}},{"$f":"IF(A1379=\"\",\"\",VLOOKUP(A1379,[1]ItemConfig!$A:$C,3,FALSE))","v":{"$error":"#N/A"}},{"$f":"IF(A1379=\"\",\"\",VLOOKUP(B1379,#REF!,5,FALSE))","v":{"$error":"#N/A"}},{"$f":"IF(A1379=\"\",\"\",VLOOKUP(C1379,#REF!,5,FALSE))","v":{"$error":"#N/A"}}]
[300491,{"$f":"IF(A1380=\"\",\"\",VLOOKUP(A1380,[1]ItemConfig!$A:$B,2,FALSE))","v":{"$error":"#N/A"}},{"$f":"IF(A1380=\"\",\"\",VLOOKUP(A1380,[1]ItemConfig!$A:$D,4,FALSE))","v":{"$error":"#N/A"}},{"$f":"IF(A1380=\"\",\"\",VLOOKUP(A1380,[1]ItemConfig!$A:$C,3,FALSE))","v":{"$error":"#N/A"}},{"$f":"IF(A1380=\"\",\"\",VLOOKUP(B1380,#REF!,5,FALSE))","v":{"$error":"#N/A"}},{"$f":"IF(A1380=\"\",\"\",VLOOKUP(C1380,#REF!,5,FALSE))","v":{"$error":"#N/A"}}]
[300492,{"$f":"IF(A1381=\"\",\"\",VLOOKUP(A1381,[1]ItemConfig!$A:$B,2,FALSE))","v":{"$error":"#N/A"}},{"$f":"IF(A1381=\"\",\"\",VLOOKUP(A1381,[1]ItemConfig!$A:$D,4,FALSE))","v":{"$error":"#N/A"}},{"$f":"IF(A1381=\"\",\"\",VLOOKUP(A1381,[1]ItemConfig!$A:$C,3,FALSE))","v":{"$error":"#N/A"}},{"$f":"IF(A1381=\"\",\"\",VLOOKUP(B1381,#REF!,5,FALSE))","v":{"$error":"#N/A"}},{"$f":"IF(A1381=\"\",\"\",VLOOKUP(C1381,#REF!,5,FALSE))","v":{"$error":"#N/A"}}]
[300493,{"$f":"IF(A1382=\"\",\"\",VLOOKUP(A1382,[1]ItemConfig!$A:$B,2,FALSE))","v":{"$error":"#N/A"}},{"$f":"IF(A1382=\"\",\"\",VLOOKUP(A1382,[1]ItemConfig!$A:$D,4,FALSE))","v":{"$error":"#N/A"}},{"$f":"IF(A1382=\"\",\"\",VLOOKUP(A1382,[1]ItemConfig!$A:$C,3,FALSE))","v":{"$error":"#N/A"}},{"$f":"IF(A1382=\"\",\"\",VLOOKUP(B1382,#REF!,5,FALSE))","v":{"$error":"#N/A"}},{"$f":"IF(A1382=\"\",\"\",VLOOKUP(C1382,#REF!,5,FALSE))","v":{"$error":"#N/A"}}]
[300494,{"$f":"IF(A1383=\"\",\"\",VLOOKUP(A1383,[1]ItemConfig!$A:$B,2,FALSE))","v":{"$error":"#N/A"}},{"$f":"IF(A1383=\"\",\"\",VLOOKUP(A1383,[1]ItemConfig!$A:$D,4,FALSE))","v":{"$error":"#N/A"}},{"$f":"IF(A1383=\"\",\"\",VLOOKUP(A1383,[1]ItemConfig!$A:$C,3,FALSE))","v":{"$error":"#N/A"}},{"$f":"IF(A1383=\"\",\"\",VLOOKUP(B1383,#REF!,5,FALSE))","v":{"$error":"#N/A"}},{"$f":"IF(A1383=\"\",\"\",VLOOKUP(C1383,#REF!,5,FALSE))","v":{"$error":"#N/A"}}]
[300495,{"$f":"IF(A1384=\"\",\"\",VLOOKUP(A1384,[1]ItemConfig!$A:$B,2,FALSE))","v":{"$error":"#N/A"}},{"$f":"IF(A1384=\"\",\"\",VLOOKUP(A1384,[1]ItemConfig!$A:$D,4,FALSE))","v":{"$error":"#N/A"}},{"$f":"IF(A1384=\"\",\"\",VLOOKUP(A1384,[1]ItemConfig!$A:$C,3,FALSE))","v":{"$error":"#N/A"}},{"$f":"IF(A1384=\"\",\"\",VLOOKUP(B1384,#REF!,5,FALSE))","v":{"$error":"#N/A"}},{"$f":"IF(A1384=\"\",\"\",VLOOKUP(C1384,#REF!,5,FALSE))","v":{"$error":"#N/A"}}]
[300496,{"$f":"IF(A1385=\"\",\"\",VLOOKUP(A1385,[1]ItemConfig!$A:$B,2,FALSE))","v":{"$error":"#N/A"}},{"$f":"IF(A1385=\"\",\"\",VLOOKUP(A1385,[1]ItemConfig!$A:$D,4,FALSE))","v":{"$error":"#N/A"}},{"$f":"IF(A1385=\"\",\"\",VLOOKUP(A1385,[1]ItemConfig!$A:$C,3,FALSE))","v":{"$error":"#N/A"}},{"$f":"IF(A1385=\"\",\"\",VLOOKUP(B1385,#REF!,5,FALSE))","v":{"$error":"#N/A"}},{"$f":"IF(A1385=\"\",\"\",VLOOKUP(C1385,#REF!,5,FALSE))","v":{"$error":"#N/A"}}]
[300497,{"$f":"IF(A1386=\"\",\"\",VLOOKUP(A1386,[1]ItemConfig!$A:$B,2,FALSE))","v":{"$error":"#N/A"}},{"$f":"IF(A1386=\"\",\"\",VLOOKUP(A1386,[1]ItemConfig!$A:$D,4,FALSE))","v":{"$error":"#N/A"}},{"$f":"IF(A1386=\"\",\"\",VLOOKUP(A1386,[1]ItemConfig!$A:$C,3,FALSE))","v":{"$error":"#N/A"}},{"$f":"IF(A1386=\"\",\"\",VLOOKUP(B1386,#REF!,5,FALSE))","v":{"$error":"#N/A"}},{"$f":"IF(A1386=\"\",\"\",VLOOKUP(C1386,#REF!,5,FALSE))","v":{"$error":"#N/A"}}]
[300498,{"$f":"IF(A1387=\"\",\"\",VLOOKUP(A1387,[1]ItemConfig!$A:$B,2,FALSE))","v":{"$error":"#N/A"}},{"$f":"IF(A1387=\"\",\"\",VLOOKUP(A1387,[1]ItemConfig!$A:$D,4,FALSE))","v":{"$error":"#N/A"}},{"$f":"IF(A1387=\"\",\"\",VLOOKUP(A1387,[1]ItemConfig!$A:$C,3,FALSE))","v":{"$error":"#N/A"}},{"$f":"IF(A1387=\"\",\"\",VLOOKUP(B1387,#REF!,5,FALSE))","v":{"$error":"#N/A"}},{"$f":"IF(A1387=\"\",\"\",VLOOKUP(C1387,#REF!,5,FALSE))","v":{"$error":"#N/A"}}]
[300499,{"$f":"IF(A1388=\"\",\"\",VLOOKUP(A1388,[1]ItemConfig!$A:$B,2,FALSE))","v":{"$error":"#N/A"}},{"$f":"IF(A1388=\"\",\"\",VLOOKUP(A1388,[1]ItemConfig!$A:$D,4,FALSE))","v":{"$error":"#N/A"}},{"$f":"IF(A1388=\"\",\"\",VLOOKUP(A1388,[1]ItemConfig!$A:$C,3,FALSE))","v":{"$error":"#N/A"}},{"$f":"IF(A1388=\"\",\"\",VLOOKUP(B1388,#REF!,5,FALSE))","v":{"$error":"#N/A"}},{"$f":"IF(A1388=\"\",\"\",VLOOKUP(C1388,#REF!,5,FALSE))","v":{"$error":"#N/A"}}]
[300500,{"$f":"IF(A1389=\"\",\"\",VLOOKUP(A1389,[1]ItemConfig!$A:$B,2,FALSE))","v":{"$error":"#N/A"}},{"$f":"IF(A1389=\"\",\"\",VLOOKUP(A1389,[1]ItemConfig!$A:$D,4,FALSE))","v":{"$error":"#N/A"}},{"$f":"IF(A1389=\"\",\"\",VLOOKUP(A1389,[1]ItemConfig!$A:$C,3,FALSE))","v":{"$error":"#N/A"}},{"$f":"IF(A1389=\"\",\"\",VLOOKUP(B1389,#REF!,5,FALSE))","v":{"$error":"#N/A"}},{"$f":"IF(A1389=\"\",\"\",VLOOKUP(C1389,#REF!,5,FALSE))","v":{"$error":"#N/A"}}]
[null,{"$f":"IF(A1390=\"\",\"\",VLOOKUP(A1390,[1]ItemConfig!$A:$B,2,FALSE))","v":""},{"$f":"IF(A1390=\"\",\"\",VLOOKUP(A1390,[1]ItemConfig!$A:$D,4,FALSE))","v":""},{"$f":"IF(A1390=\"\",\"\",VLOOKUP(A1390,[1]ItemConfig!$A:$C,3,FALSE))","v":""},{"$f":"IF(A1390=\"\",\"\",VLOOKUP(B1390,#REF!,5,FALSE))","v":""},{"$f":"IF(A1390=\"\",\"\",VLOOKUP(C1390,#REF!,5,FALSE))","v":""}]
[300501,{"$f":"IF(A1391=\"\",\"\",VLOOKUP(A1391,[1]ItemConfig!$A:$B,2,FALSE))","v":{"$error":"#N/A"}},{"$f":"IF(A1391=\"\",\"\",VLOOKUP(A1391,[1]ItemConfig!$A:$D,4,FALSE))","v":{"$error":"#N/A"}},{"$f":"IF(A1391=\"\",\"\",VLOOKUP(A1391,[1]ItemConfig!$A:$C,3,FALSE))","v":{"$error":"#N/A"}},{"$f":"IF(A1391=\"\",\"\",VLOOKUP(B1391,#REF!,5,FALSE))","v":{"$error":"#N/A"}},{"$f":"IF(A1391=\"\",\"\",VLOOKUP(C1391,#REF!,5,FALSE))","v":{"$error":"#N/A"}}]
[300502,{"$f":"IF(A1392=\"\",\"\",VLOOKUP(A1392,[1]ItemConfig!$A:$B,2,FALSE))","v":{"$error":"#N/A"}},{"$f":"IF(A1392=\"\",\"\",VLOOKUP(A1392,[1]ItemConfig!$A:$D,4,FALSE))","v":{"$error":"#N/A"}},{"$f":"IF(A1392=\"\",\"\",VLOOKUP(A1392,[1]ItemConfig!$A:$C,3,FALSE))","v":{"$error":"#N/A"}},{"$f":"IF(A1392=\"\",\"\",VLOOKUP(B1392,#REF!,5,FALSE))","v":{"$error":"#N/A"}},{"$f":"IF(A1392=\"\",\"\",VLOOKUP(C1392,#REF!,5,FALSE))","v":{"$error":"#N/A"}}]
[300503,{"$f":"IF(A1393=\"\",\"\",VLOOKUP(A1393,[1]ItemConfig!$A:$B,2,FALSE))","v":{"$error":"#N/A"}},{"$f":"IF(A1393=\"\",\"\",VLOOKUP(A1393,[1]ItemConfig!$A:$D,4,FALSE))","v":{"$error":"#N/A"}},{"$f":"IF(A1393=\"\",\"\",VLOOKUP(A1393,[1]ItemConfig!$A:$C,3,FALSE))","v":{"$error":"#N/A"}},{"$f":"IF(A1393=\"\",\"\",VLOOKUP(B1393,#REF!,5,FALSE))","v":{"$error":"#N/A"}},{"$f":"IF(A1393=\"\",\"\",VLOOKUP(C1393,#REF!,5,FALSE))","v":{"$error":"#N/A"}}]
[300504,{"$f":"IF(A1394=\"\",\"\",VLOOKUP(A1394,[1]ItemConfig!$A:$B,2,FALSE))","v":{"$error":"#N/A"}},{"$f":"IF(A1394=\"\",\"\",VLOOKUP(A1394,[1]ItemConfig!$A:$D,4,FALSE))","v":{"$error":"#N/A"}},{"$f":"IF(A1394=\"\",\"\",VLOOKUP(A1394,[1]ItemConfig!$A:$C,3,FALSE))","v":{"$error":"#N/A"}},{"$f":"IF(A1394=\"\",\"\",VLOOKUP(B1394,#REF!,5,FALSE))","v":{"$error":"#N/A"}},{"$f":"IF(A1394=\"\",\"\",VLOOKUP(C1394,#REF!,5,FALSE))","v":{"$error":"#N/A"}}]
[300505,{"$f":"IF(A1395=\"\",\"\",VLOOKUP(A1395,[1]ItemConfig!$A:$B,2,FALSE))","v":{"$error":"#N/A"}},{"$f":"IF(A1395=\"\",\"\",VLOOKUP(A1395,[1]ItemConfig!$A:$D,4,FALSE))","v":{"$error":"#N/A"}},{"$f":"IF(A1395=\"\",\"\",VLOOKUP(A1395,[1]ItemConfig!$A:$C,3,FALSE))","v":{"$error":"#N/A"}},{"$f":"IF(A1395=\"\",\"\",VLOOKUP(B1395,#REF!,5,FALSE))","v":{"$error":"#N/A"}},{"$f":"IF(A1395=\"\",\"\",VLOOKUP(C1395,#REF!,5,FALSE))","v":{"$error":"#N/A"}}]
[300506,{"$f":"IF(A1396=\"\",\"\",VLOOKUP(A1396,[1]ItemConfig!$A:$B,2,FALSE))","v":{"$error":"#N/A"}},{"$f":"IF(A1396=\"\",\"\",VLOOKUP(A1396,[1]ItemConfig!$A:$D,4,FALSE))","v":{"$error":"#N/A"}},{"$f":"IF(A1396=\"\",\"\",VLOOKUP(A1396,[1]ItemConfig!$A:$C,3,FALSE))","v":{"$error":"#N/A"}},{"$f":"IF(A1396=\"\",\"\",VLOOKUP(B1396,#REF!,5,FALSE))","v":{"$error":"#N/A"}},{"$f":"IF(A1396=\"\",\"\",VLOOKUP(C1396,#REF!,5,FALSE))","v":{"$error":"#N/A"}}]
[300507,{"$f":"IF(A1397=\"\",\"\",VLOOKUP(A1397,[1]ItemConfig!$A:$B,2,FALSE))","v":{"$error":"#N/A"}},{"$f":"IF(A1397=\"\",\"\",VLOOKUP(A1397,[1]ItemConfig!$A:$D,4,FALSE))","v":{"$error":"#N/A"}},{"$f":"IF(A1397=\"\",\"\",VLOOKUP(A1397,[1]ItemConfig!$A:$C,3,FALSE))","v":{"$error":"#N/A"}},{"$f":"IF(A1397=\"\",\"\",VLOOKUP(B1397,#REF!,5,FALSE))","v":{"$error":"#N/A"}},{"$f":"IF(A1397=\"\",\"\",VLOOKUP(C1397,#REF!,5,FALSE))","v":{"$error":"#N/A"}}]
[300508,{"$f":"IF(A1398=\"\",\"\",VLOOKUP(A1398,[1]ItemConfig!$A:$B,2,FALSE))","v":{"$error":"#N/A"}},{"$f":"IF(A1398=\"\",\"\",VLOOKUP(A1398,[1]ItemConfig!$A:$D,4,FALSE))","v":{"$error":"#N/A"}},{"$f":"IF(A1398=\"\",\"\",VLOOKUP(A1398,[1]ItemConfig!$A:$C,3,FALSE))","v":{"$error":"#N/A"}},{"$f":"IF(A1398=\"\",\"\",VLOOKUP(B1398,#REF!,5,FALSE))","v":{"$error":"#N/A"}},{"$f":"IF(A1398=\"\",\"\",VLOOKUP(C1398,#REF!,5,FALSE))","v":{"$error":"#N/A"}}]
[300509,{"$f":"IF(A1399=\"\",\"\",VLOOKUP(A1399,[1]ItemConfig!$A:$B,2,FALSE))","v":{"$error":"#N/A"}},{"$f":"IF(A1399=\"\",\"\",VLOOKUP(A1399,[1]ItemConfig!$A:$D,4,FALSE))","v":{"$error":"#N/A"}},{"$f":"IF(A1399=\"\",\"\",VLOOKUP(A1399,[1]ItemConfig!$A:$C,3,FALSE))","v":{"$error":"#N/A"}},{"$f":"IF(A1399=\"\",\"\",VLOOKUP(B1399,#REF!,5,FALSE))","v":{"$error":"#N/A"}},{"$f":"IF(A1399=\"\",\"\",VLOOKUP(C1399,#REF!,5,FALSE))","v":{"$error":"#N/A"}}]
[300510,{"$f":"IF(A1400=\"\",\"\",VLOOKUP(A1400,[1]ItemConfig!$A:$B,2,FALSE))","v":{"$error":"#N/A"}},{"$f":"IF(A1400=\"\",\"\",VLOOKUP(A1400,[1]ItemConfig!$A:$D,4,FALSE))","v":{"$error":"#N/A"}},{"$f":"IF(A1400=\"\",\"\",VLOOKUP(A1400,[1]ItemConfig!$A:$C,3,FALSE))","v":{"$error":"#N/A"}},{"$f":"IF(A1400=\"\",\"\",VLOOKUP(B1400,#REF!,5,FALSE))","v":{"$error":"#N/A"}},{"$f":"IF(A1400=\"\",\"\",VLOOKUP(C1400,#REF!,5,FALSE))","v":{"$error":"#N/A"}}]
[300511,{"$f":"IF(A1401=\"\",\"\",VLOOKUP(A1401,[1]ItemConfig!$A:$B,2,FALSE))","v":{"$error":"#N/A"}},{"$f":"IF(A1401=\"\",\"\",VLOOKUP(A1401,[1]ItemConfig!$A:$D,4,FALSE))","v":{"$error":"#N/A"}},{"$f":"IF(A1401=\"\",\"\",VLOOKUP(A1401,[1]ItemConfig!$A:$C,3,FALSE))","v":{"$error":"#N/A"}},{"$f":"IF(A1401=\"\",\"\",VLOOKUP(B1401,#REF!,5,FALSE))","v":{"$error":"#N/A"}},{"$f":"IF(A1401=\"\",\"\",VLOOKUP(C1401,#REF!,5,FALSE))","v":{"$error":"#N/A"}}]
[300512,{"$f":"IF(A1402=\"\",\"\",VLOOKUP(A1402,[1]ItemConfig!$A:$B,2,FALSE))","v":{"$error":"#N/A"}},{"$f":"IF(A1402=\"\",\"\",VLOOKUP(A1402,[1]ItemConfig!$A:$D,4,FALSE))","v":{"$error":"#N/A"}},{"$f":"IF(A1402=\"\",\"\",VLOOKUP(A1402,[1]ItemConfig!$A:$C,3,FALSE))","v":{"$error":"#N/A"}},{"$f":"IF(A1402=\"\",\"\",VLOOKUP(B1402,#REF!,5,FALSE))","v":{"$error":"#N/A"}},{"$f":"IF(A1402=\"\",\"\",VLOOKUP(C1402,#REF!,5,FALSE))","v":{"$error":"#N/A"}}]
[300513,{"$f":"IF(A1403=\"\",\"\",VLOOKUP(A1403,[1]ItemConfig!$A:$B,2,FALSE))","v":{"$error":"#N/A"}},{"$f":"IF(A1403=\"\",\"\",VLOOKUP(A1403,[1]ItemConfig!$A:$D,4,FALSE))","v":{"$error":"#N/A"}},{"$f":"IF(A1403=\"\",\"\",VLOOKUP(A1403,[1]ItemConfig!$A:$C,3,FALSE))","v":{"$error":"#N/A"}},{"$f":"IF(A1403=\"\",\"\",VLOOKUP(B1403,#REF!,5,FALSE))","v":{"$error":"#N/A"}},{"$f":"IF(A1403=\"\",\"\",VLOOKUP(C1403,#REF!,5,FALSE))","v":{"$error":"#N/A"}}]
[300514,{"$f":"IF(A1404=\"\",\"\",VLOOKUP(A1404,[1]ItemConfig!$A:$B,2,FALSE))","v":{"$error":"#N/A"}},{"$f":"IF(A1404=\"\",\"\",VLOOKUP(A1404,[1]ItemConfig!$A:$D,4,FALSE))","v":{"$error":"#N/A"}},{"$f":"IF(A1404=\"\",\"\",VLOOKUP(A1404,[1]ItemConfig!$A:$C,3,FALSE))","v":{"$error":"#N/A"}},{"$f":"IF(A1404=\"\",\"\",VLOOKUP(B1404,#REF!,5,FALSE))","v":{"$error":"#N/A"}},{"$f":"IF(A1404=\"\",\"\",VLOOKUP(C1404,#REF!,5,FALSE))","v":{"$error":"#N/A"}}]
[300515,{"$f":"IF(A1405=\"\",\"\",VLOOKUP(A1405,[1]ItemConfig!$A:$B,2,FALSE))","v":{"$error":"#N/A"}},{"$f":"IF(A1405=\"\",\"\",VLOOKUP(A1405,[1]ItemConfig!$A:$D,4,FALSE))","v":{"$error":"#N/A"}},{"$f":"IF(A1405=\"\",\"\",VLOOKUP(A1405,[1]ItemConfig!$A:$C,3,FALSE))","v":{"$error":"#N/A"}},{"$f":"IF(A1405=\"\",\"\",VLOOKUP(B1405,#REF!,5,FALSE))","v":{"$error":"#N/A"}},{"$f":"IF(A1405=\"\",\"\",VLOOKUP(C1405,#REF!,5,FALSE))","v":{"$error":"#N/A"}}]
[300516,{"$f":"IF(A1406=\"\",\"\",VLOOKUP(A1406,[1]ItemConfig!$A:$B,2,FALSE))","v":{"$error":"#N/A"}},{"$f":"IF(A1406=\"\",\"\",VLOOKUP(A1406,[1]ItemConfig!$A:$D,4,FALSE))","v":{"$error":"#N/A"}},{"$f":"IF(A1406=\"\",\"\",VLOOKUP(A1406,[1]ItemConfig!$A:$C,3,FALSE))","v":{"$error":"#N/A"}},{"$f":"IF(A1406=\"\",\"\",VLOOKUP(B1406,#REF!,5,FALSE))","v":{"$error":"#N/A"}},{"$f":"IF(A1406=\"\",\"\",VLOOKUP(C1406,#REF!,5,FALSE))","v":{"$error":"#N/A"}}]
[300517,{"$f":"IF(A1407=\"\",\"\",VLOOKUP(A1407,[1]ItemConfig!$A:$B,2,FALSE))","v":{"$error":"#N/A"}},{"$f":"IF(A1407=\"\",\"\",VLOOKUP(A1407,[1]ItemConfig!$A:$D,4,FALSE))","v":{"$error":"#N/A"}},{"$f":"IF(A1407=\"\",\"\",VLOOKUP(A1407,[1]ItemConfig!$A:$C,3,FALSE))","v":{"$error":"#N/A"}},{"$f":"IF(A1407=\"\",\"\",VLOOKUP(B1407,#REF!,5,FALSE))","v":{"$error":"#N/A"}},{"$f":"IF(A1407=\"\",\"\",VLOOKUP(C1407,#REF!,5,FALSE))","v":{"$error":"#N/A"}}]
[300518,{"$f":"IF(A1408=\"\",\"\",VLOOKUP(A1408,[1]ItemConfig!$A:$B,2,FALSE))","v":{"$error":"#N/A"}},{"$f":"IF(A1408=\"\",\"\",VLOOKUP(A1408,[1]ItemConfig!$A:$D,4,FALSE))","v":{"$error":"#N/A"}},{"$f":"IF(A1408=\"\",\"\",VLOOKUP(A1408,[1]ItemConfig!$A:$C,3,FALSE))","v":{"$error":"#N/A"}},{"$f":"IF(A1408=\"\",\"\",VLOOKUP(B1408,#REF!,5,FALSE))","v":{"$error":"#N/A"}},{"$f":"IF(A1408=\"\",\"\",VLOOKUP(C1408,#REF!,5,FALSE))","v":{"$error":"#N/A"}}]
[300519,{"$f":"IF(A1409=\"\",\"\",VLOOKUP(A1409,[1]ItemConfig!$A:$B,2,FALSE))","v":{"$error":"#N/A"}},{"$f":"IF(A1409=\"\",\"\",VLOOKUP(A1409,[1]ItemConfig!$A:$D,4,FALSE))","v":{"$error":"#N/A"}},{"$f":"IF(A1409=\"\",\"\",VLOOKUP(A1409,[1]ItemConfig!$A:$C,3,FALSE))","v":{"$error":"#N/A"}},{"$f":"IF(A1409=\"\",\"\",VLOOKUP(B1409,#REF!,5,FALSE))","v":{"$error":"#N/A"}},{"$f":"IF(A1409=\"\",\"\",VLOOKUP(C1409,#REF!,5,FALSE))","v":{"$error":"#N/A"}}]
[300520,{"$f":"IF(A1410=\"\",\"\",VLOOKUP(A1410,[1]ItemConfig!$A:$B,2,FALSE))","v":{"$error":"#N/A"}},{"$f":"IF(A1410=\"\",\"\",VLOOKUP(A1410,[1]ItemConfig!$A:$D,4,FALSE))","v":{"$error":"#N/A"}},{"$f":"IF(A1410=\"\",\"\",VLOOKUP(A1410,[1]ItemConfig!$A:$C,3,FALSE))","v":{"$error":"#N/A"}},{"$f":"IF(A1410=\"\",\"\",VLOOKUP(B1410,#REF!,5,FALSE))","v":{"$error":"#N/A"}},{"$f":"IF(A1410=\"\",\"\",VLOOKUP(C1410,#REF!,5,FALSE))","v":{"$error":"#N/A"}}]
[300521,{"$f":"IF(A1411=\"\",\"\",VLOOKUP(A1411,[1]ItemConfig!$A:$B,2,FALSE))","v":{"$error":"#N/A"}},{"$f":"IF(A1411=\"\",\"\",VLOOKUP(A1411,[1]ItemConfig!$A:$D,4,FALSE))","v":{"$error":"#N/A"}},{"$f":"IF(A1411=\"\",\"\",VLOOKUP(A1411,[1]ItemConfig!$A:$C,3,FALSE))","v":{"$error":"#N/A"}},{"$f":"IF(A1411=\"\",\"\",VLOOKUP(B1411,#REF!,5,FALSE))","v":{"$error":"#N/A"}},{"$f":"IF(A1411=\"\",\"\",VLOOKUP(C1411,#REF!,5,FALSE))","v":{"$error":"#N/A"}}]
[300522,{"$f":"IF(A1412=\"\",\"\",VLOOKUP(A1412,[1]ItemConfig!$A:$B,2,FALSE))","v":{"$error":"#N/A"}},{"$f":"IF(A1412=\"\",\"\",VLOOKUP(A1412,[1]ItemConfig!$A:$D,4,FALSE))","v":{"$error":"#N/A"}},{"$f":"IF(A1412=\"\",\"\",VLOOKUP(A1412,[1]ItemConfig!$A:$C,3,FALSE))","v":{"$error":"#N/A"}},{"$f":"IF(A1412=\"\",\"\",VLOOKUP(B1412,#REF!,5,FALSE))","v":{"$error":"#N/A"}},{"$f":"IF(A1412=\"\",\"\",VLOOKUP(C1412,#REF!,5,FALSE))","v":{"$error":"#N/A"}}]
[300523,{"$f":"IF(A1413=\"\",\"\",VLOOKUP(A1413,[1]ItemConfig!$A:$B,2,FALSE))","v":{"$error":"#N/A"}},{"$f":"IF(A1413=\"\",\"\",VLOOKUP(A1413,[1]ItemConfig!$A:$D,4,FALSE))","v":{"$error":"#N/A"}},{"$f":"IF(A1413=\"\",\"\",VLOOKUP(A1413,[1]ItemConfig!$A:$C,3,FALSE))","v":{"$error":"#N/A"}},{"$f":"IF(A1413=\"\",\"\",VLOOKUP(B1413,#REF!,5,FALSE))","v":{"$error":"#N/A"}},{"$f":"IF(A1413=\"\",\"\",VLOOKUP(C1413,#REF!,5,FALSE))","v":{"$error":"#N/A"}}]
[300524,{"$f":"IF(A1414=\"\",\"\",VLOOKUP(A1414,[1]ItemConfig!$A:$B,2,FALSE))","v":{"$error":"#N/A"}},{"$f":"IF(A1414=\"\",\"\",VLOOKUP(A1414,[1]ItemConfig!$A:$D,4,FALSE))","v":{"$error":"#N/A"}},{"$f":"IF(A1414=\"\",\"\",VLOOKUP(A1414,[1]ItemConfig!$A:$C,3,FALSE))","v":{"$error":"#N/A"}},{"$f":"IF(A1414=\"\",\"\",VLOOKUP(B1414,#REF!,5,FALSE))","v":{"$error":"#N/A"}},{"$f":"IF(A1414=\"\",\"\",VLOOKUP(C1414,#REF!,5,FALSE))","v":{"$error":"#N/A"}}]
[300525,{"$f":"IF(A1415=\"\",\"\",VLOOKUP(A1415,[1]ItemConfig!$A:$B,2,FALSE))","v":{"$error":"#N/A"}},{"$f":"IF(A1415=\"\",\"\",VLOOKUP(A1415,[1]ItemConfig!$A:$D,4,FALSE))","v":{"$error":"#N/A"}},{"$f":"IF(A1415=\"\",\"\",VLOOKUP(A1415,[1]ItemConfig!$A:$C,3,FALSE))","v":{"$error":"#N/A"}},{"$f":"IF(A1415=\"\",\"\",VLOOKUP(B1415,#REF!,5,FALSE))","v":{"$error":"#N/A"}},{"$f":"IF(A1415=\"\",\"\",VLOOKUP(C1415,#REF!,5,FALSE))","v":{"$error":"#N/A"}}]
[300526,{"$f":"IF(A1416=\"\",\"\",VLOOKUP(A1416,[1]ItemConfig!$A:$B,2,FALSE))","v":{"$error":"#N/A"}},{"$f":"IF(A1416=\"\",\"\",VLOOKUP(A1416,[1]ItemConfig!$A:$D,4,FALSE))","v":{"$error":"#N/A"}},{"$f":"IF(A1416=\"\",\"\",VLOOKUP(A1416,[1]ItemConfig!$A:$C,3,FALSE))","v":{"$error":"#N/A"}},{"$f":"IF(A1416=\"\",\"\",VLOOKUP(B1416,#REF!,5,FALSE))","v":{"$error":"#N/A"}},{"$f":"IF(A1416=\"\",\"\",VLOOKUP(C1416,#REF!,5,FALSE))","v":{"$error":"#N/A"}}]
[300527,{"$f":"IF(A1417=\"\",\"\",VLOOKUP(A1417,[1]ItemConfig!$A:$B,2,FALSE))","v":{"$error":"#N/A"}},{"$f":"IF(A1417=\"\",\"\",VLOOKUP(A1417,[1]ItemConfig!$A:$D,4,FALSE))","v":{"$error":"#N/A"}},{"$f":"IF(A1417=\"\",\"\",VLOOKUP(A1417,[1]ItemConfig!$A:$C,3,FALSE))","v":{"$error":"#N/A"}},{"$f":"IF(A1417=\"\",\"\",VLOOKUP(B1417,#REF!,5,FALSE))","v":{"$error":"#N/A"}},{"$f":"IF(A1417=\"\",\"\",VLOOKUP(C1417,#REF!,5,FALSE))","v":{"$error":"#N/A"}}]
[300528,{"$f":"IF(A1418=\"\",\"\",VLOOKUP(A1418,[1]ItemConfig!$A:$B,2,FALSE))","v":{"$error":"#N/A"}},{"$f":"IF(A1418=\"\",\"\",VLOOKUP(A1418,[1]ItemConfig!$A:$D,4,FALSE))","v":{"$error":"#N/A"}},{"$f":"IF(A1418=\"\",\"\",VLOOKUP(A1418,[1]ItemConfig!$A:$C,3,FALSE))","v":{"$error":"#N/A"}},{"$f":"IF(A1418=\"\",\"\",VLOOKUP(B1418,#REF!,5,FALSE))","v":{"$error":"#N/A"}},{"$f":"IF(A1418=\"\",\"\",VLOOKUP(C1418,#REF!,5,FALSE))","v":{"$error":"#N/A"}}]
[300529,{"$f":"IF(A1419=\"\",\"\",VLOOKUP(A1419,[1]ItemConfig!$A:$B,2,FALSE))","v":{"$error":"#N/A"}},{"$f":"IF(A1419=\"\",\"\",VLOOKUP(A1419,[1]ItemConfig!$A:$D,4,FALSE))","v":{"$error":"#N/A"}},{"$f":"IF(A1419=\"\",\"\",VLOOKUP(A1419,[1]ItemConfig!$A:$C,3,FALSE))","v":{"$error":"#N/A"}},{"$f":"IF(A1419=\"\",\"\",VLOOKUP(B1419,#REF!,5,FALSE))","v":{"$error":"#N/A"}},{"$f":"IF(A1419=\"\",\"\",VLOOKUP(C1419,#REF!,5,FALSE))","v":{"$error":"#N/A"}}]
[300530,{"$f":"IF(A1420=\"\",\"\",VLOOKUP(A1420,[1]ItemConfig!$A:$B,2,FALSE))","v":{"$error":"#N/A"}},{"$f":"IF(A1420=\"\",\"\",VLOOKUP(A1420,[1]ItemConfig!$A:$D,4,FALSE))","v":{"$error":"#N/A"}},{"$f":"IF(A1420=\"\",\"\",VLOOKUP(A1420,[1]ItemConfig!$A:$C,3,FALSE))","v":{"$error":"#N/A"}},{"$f":"IF(A1420=\"\",\"\",VLOOKUP(B1420,#REF!,5,FALSE))","v":{"$error":"#N/A"}},{"$f":"IF(A1420=\"\",\"\",VLOOKUP(C1420,#REF!,5,FALSE))","v":{"$error":"#N/A"}}]
[300531,{"$f":"IF(A1421=\"\",\"\",VLOOKUP(A1421,[1]ItemConfig!$A:$B,2,FALSE))","v":{"$error":"#N/A"}},{"$f":"IF(A1421=\"\",\"\",VLOOKUP(A1421,[1]ItemConfig!$A:$D,4,FALSE))","v":{"$error":"#N/A"}},{"$f":"IF(A1421=\"\",\"\",VLOOKUP(A1421,[1]ItemConfig!$A:$C,3,FALSE))","v":{"$error":"#N/A"}},{"$f":"IF(A1421=\"\",\"\",VLOOKUP(B1421,#REF!,5,FALSE))","v":{"$error":"#N/A"}},{"$f":"IF(A1421=\"\",\"\",VLOOKUP(C1421,#REF!,5,FALSE))","v":{"$error":"#N/A"}}]
[300532,{"$f":"IF(A1422=\"\",\"\",VLOOKUP(A1422,[1]ItemConfig!$A:$B,2,FALSE))","v":{"$error":"#N/A"}},{"$f":"IF(A1422=\"\",\"\",VLOOKUP(A1422,[1]ItemConfig!$A:$D,4,FALSE))","v":{"$error":"#N/A"}},{"$f":"IF(A1422=\"\",\"\",VLOOKUP(A1422,[1]ItemConfig!$A:$C,3,FALSE))","v":{"$error":"#N/A"}},{"$f":"IF(A1422=\"\",\"\",VLOOKUP(B1422,#REF!,5,FALSE))","v":{"$error":"#N/A"}},{"$f":"IF(A1422=\"\",\"\",VLOOKUP(C1422,#REF!,5,FALSE))","v":{"$error":"#N/A"}}]
[300533,{"$f":"IF(A1423=\"\",\"\",VLOOKUP(A1423,[1]ItemConfig!$A:$B,2,FALSE))","v":{"$error":"#N/A"}},{"$f":"IF(A1423=\"\",\"\",VLOOKUP(A1423,[1]ItemConfig!$A:$D,4,FALSE))","v":{"$error":"#N/A"}},{"$f":"IF(A1423=\"\",\"\",VLOOKUP(A1423,[1]ItemConfig!$A:$C,3,FALSE))","v":{"$error":"#N/A"}},{"$f":"IF(A1423=\"\",\"\",VLOOKUP(B1423,#REF!,5,FALSE))","v":{"$error":"#N/A"}},{"$f":"IF(A1423=\"\",\"\",VLOOKUP(C1423,#REF!,5,FALSE))","v":{"$error":"#N/A"}}]
[300534,{"$f":"IF(A1424=\"\",\"\",VLOOKUP(A1424,[1]ItemConfig!$A:$B,2,FALSE))","v":{"$error":"#N/A"}},{"$f":"IF(A1424=\"\",\"\",VLOOKUP(A1424,[1]ItemConfig!$A:$D,4,FALSE))","v":{"$error":"#N/A"}},{"$f":"IF(A1424=\"\",\"\",VLOOKUP(A1424,[1]ItemConfig!$A:$C,3,FALSE))","v":{"$error":"#N/A"}},{"$f":"IF(A1424=\"\",\"\",VLOOKUP(B1424,#REF!,5,FALSE))","v":{"$error":"#N/A"}},{"$f":"IF(A1424=\"\",\"\",VLOOKUP(C1424,#REF!,5,FALSE))","v":{"$error":"#N/A"}}]
[300535,{"$f":"IF(A1425=\"\",\"\",VLOOKUP(A1425,[1]ItemConfig!$A:$B,2,FALSE))","v":{"$error":"#N/A"}},{"$f":"IF(A1425=\"\",\"\",VLOOKUP(A1425,[1]ItemConfig!$A:$D,4,FALSE))","v":{"$error":"#N/A"}},{"$f":"IF(A1425=\"\",\"\",VLOOKUP(A1425,[1]ItemConfig!$A:$C,3,FALSE))","v":{"$error":"#N/A"}},{"$f":"IF(A1425=\"\",\"\",VLOOKUP(B1425,#REF!,5,FALSE))","v":{"$error":"#N/A"}},{"$f":"IF(A1425=\"\",\"\",VLOOKUP(C1425,#REF!,5,FALSE))","v":{"$error":"#N/A"}}]
[300536,{"$f":"IF(A1426=\"\",\"\",VLOOKUP(A1426,[1]ItemConfig!$A:$B,2,FALSE))","v":{"$error":"#N/A"}},{"$f":"IF(A1426=\"\",\"\",VLOOKUP(A1426,[1]ItemConfig!$A:$D,4,FALSE))","v":{"$error":"#N/A"}},{"$f":"IF(A1426=\"\",\"\",VLOOKUP(A1426,[1]ItemConfig!$A:$C,3,FALSE))","v":{"$error":"#N/A"}},{"$f":"IF(A1426=\"\",\"\",VLOOKUP(B1426,#REF!,5,FALSE))","v":{"$error":"#N/A"}},{"$f":"IF(A1426=\"\",\"\",VLOOKUP(C1426,#REF!,5,FALSE))","v":{"$error":"#N/A"}}]
[300537,{"$f":"IF(A1427=\"\",\"\",VLOOKUP(A1427,[1]ItemConfig!$A:$B,2,FALSE))","v":{"$error":"#N/A"}},{"$f":"IF(A1427=\"\",\"\",VLOOKUP(A1427,[1]ItemConfig!$A:$D,4,FALSE))","v":{"$error":"#N/A"}},{"$f":"IF(A1427=\"\",\"\",VLOOKUP(A1427,[1]ItemConfig!$A:$C,3,FALSE))","v":{"$error":"#N/A"}},{"$f":"IF(A1427=\"\",\"\",VLOOKUP(B1427,#REF!,5,FALSE))","v":{"$error":"#N/A"}},{"$f":"IF(A1427=\"\",\"\",VLOOKUP(C1427,#REF!,5,FALSE))","v":{"$error":"#N/A"}}]
[300538,{"$f":"IF(A1428=\"\",\"\",VLOOKUP(A1428,[1]ItemConfig!$A:$B,2,FALSE))","v":{"$error":"#N/A"}},{"$f":"IF(A1428=\"\",\"\",VLOOKUP(A1428,[1]ItemConfig!$A:$D,4,FALSE))","v":{"$error":"#N/A"}},{"$f":"IF(A1428=\"\",\"\",VLOOKUP(A1428,[1]ItemConfig!$A:$C,3,FALSE))","v":{"$error":"#N/A"}},{"$f":"IF(A1428=\"\",\"\",VLOOKUP(B1428,#REF!,5,FALSE))","v":{"$error":"#N/A"}},{"$f":"IF(A1428=\"\",\"\",VLOOKUP(C1428,#REF!,5,FALSE))","v":{"$error":"#N/A"}}]
[300539,{"$f":"IF(A1429=\"\",\"\",VLOOKUP(A1429,[1]ItemConfig!$A:$B,2,FALSE))","v":{"$error":"#N/A"}},{"$f":"IF(A1429=\"\",\"\",VLOOKUP(A1429,[1]ItemConfig!$A:$D,4,FALSE))","v":{"$error":"#N/A"}},{"$f":"IF(A1429=\"\",\"\",VLOOKUP(A1429,[1]ItemConfig!$A:$C,3,FALSE))","v":{"$error":"#N/A"}},{"$f":"IF(A1429=\"\",\"\",VLOOKUP(B1429,#REF!,5,FALSE))","v":{"$error":"#N/A"}},{"$f":"IF(A1429=\"\",\"\",VLOOKUP(C1429,#REF!,5,FALSE))","v":{"$error":"#N/A"}}]
[300540,{"$f":"IF(A1430=\"\",\"\",VLOOKUP(A1430,[1]ItemConfig!$A:$B,2,FALSE))","v":{"$error":"#N/A"}},{"$f":"IF(A1430=\"\",\"\",VLOOKUP(A1430,[1]ItemConfig!$A:$D,4,FALSE))","v":{"$error":"#N/A"}},{"$f":"IF(A1430=\"\",\"\",VLOOKUP(A1430,[1]ItemConfig!$A:$C,3,FALSE))","v":{"$error":"#N/A"}},{"$f":"IF(A1430=\"\",\"\",VLOOKUP(B1430,#REF!,5,FALSE))","v":{"$error":"#N/A"}},{"$f":"IF(A1430=\"\",\"\",VLOOKUP(C1430,#REF!,5,FALSE))","v":{"$error":"#N/A"}}]
[300541,{"$f":"IF(A1431=\"\",\"\",VLOOKUP(A1431,[1]ItemConfig!$A:$B,2,FALSE))","v":{"$error":"#N/A"}},{"$f":"IF(A1431=\"\",\"\",VLOOKUP(A1431,[1]ItemConfig!$A:$D,4,FALSE))","v":{"$error":"#N/A"}},{"$f":"IF(A1431=\"\",\"\",VLOOKUP(A1431,[1]ItemConfig!$A:$C,3,FALSE))","v":{"$error":"#N/A"}},{"$f":"IF(A1431=\"\",\"\",VLOOKUP(B1431,#REF!,5,FALSE))","v":{"$error":"#N/A"}},{"$f":"IF(A1431=\"\",\"\",VLOOKUP(C1431,#REF!,5,FALSE))","v":{"$error":"#N/A"}}]
[300542,{"$f":"IF(A1432=\"\",\"\",VLOOKUP(A1432,[1]ItemConfig!$A:$B,2,FALSE))","v":{"$error":"#N/A"}},{"$f":"IF(A1432=\"\",\"\",VLOOKUP(A1432,[1]ItemConfig!$A:$D,4,FALSE))","v":{"$error":"#N/A"}},{"$f":"IF(A1432=\"\",\"\",VLOOKUP(A1432,[1]ItemConfig!$A:$C,3,FALSE))","v":{"$error":"#N/A"}},{"$f":"IF(A1432=\"\",\"\",VLOOKUP(B1432,#REF!,5,FALSE))","v":{"$error":"#N/A"}},{"$f":"IF(A1432=\"\",\"\",VLOOKUP(C1432,#REF!,5,FALSE))","v":{"$error":"#N/A"}}]
[300543,{"$f":"IF(A1433=\"\",\"\",VLOOKUP(A1433,[1]ItemConfig!$A:$B,2,FALSE))","v":{"$error":"#N/A"}},{"$f":"IF(A1433=\"\",\"\",VLOOKUP(A1433,[1]ItemConfig!$A:$D,4,FALSE))","v":{"$error":"#N/A"}},{"$f":"IF(A1433=\"\",\"\",VLOOKUP(A1433,[1]ItemConfig!$A:$C,3,FALSE))","v":{"$error":"#N/A"}},{"$f":"IF(A1433=\"\",\"\",VLOOKUP(B1433,#REF!,5,FALSE))","v":{"$error":"#N/A"}},{"$f":"IF(A1433=\"\",\"\",VLOOKUP(C1433,#REF!,5,FALSE))","v":{"$error":"#N/A"}}]
[300544,{"$f":"IF(A1434=\"\",\"\",VLOOKUP(A1434,[1]ItemConfig!$A:$B,2,FALSE))","v":{"$error":"#N/A"}},{"$f":"IF(A1434=\"\",\"\",VLOOKUP(A1434,[1]ItemConfig!$A:$D,4,FALSE))","v":{"$error":"#N/A"}},{"$f":"IF(A1434=\"\",\"\",VLOOKUP(A1434,[1]ItemConfig!$A:$C,3,FALSE))","v":{"$error":"#N/A"}},{"$f":"IF(A1434=\"\",\"\",VLOOKUP(B1434,#REF!,5,FALSE))","v":{"$error":"#N/A"}},{"$f":"IF(A1434=\"\",\"\",VLOOKUP(C1434,#REF!,5,FALSE))","v":{"$error":"#N/A"}}]
[300545,{"$f":"IF(A1435=\"\",\"\",VLOOKUP(A1435,[1]ItemConfig!$A:$B,2,FALSE))","v":{"$error":"#N/A"}},{"$f":"IF(A1435=\"\",\"\",VLOOKUP(A1435,[1]ItemConfig!$A:$D,4,FALSE))","v":{"$error":"#N/A"}},{"$f":"IF(A1435=\"\",\"\",VLOOKUP(A1435,[1]ItemConfig!$A:$C,3,FALSE))","v":{"$error":"#N/A"}},{"$f":"IF(A1435=\"\",\"\",VLOOKUP(B1435,#REF!,5,FALSE))","v":{"$error":"#N/A"}},{"$f":"IF(A1435=\"\",\"\",VLOOKUP(C1435,#REF!,5,FALSE))","v":{"$error":"#N/A"}}]
[300546,{"$f":"IF(A1436=\"\",\"\",VLOOKUP(A1436,[1]ItemConfig!$A:$B,2,FALSE))","v":{"$error":"#N/A"}},{"$f":"IF(A1436=\"\",\"\",VLOOKUP(A1436,[1]ItemConfig!$A:$D,4,FALSE))","v":{"$error":"#N/A"}},{"$f":"IF(A1436=\"\",\"\",VLOOKUP(A1436,[1]ItemConfig!$A:$C,3,FALSE))","v":{"$error":"#N/A"}},{"$f":"IF(A1436=\"\",\"\",VLOOKUP(B1436,#REF!,5,FALSE))","v":{"$error":"#N/A"}},{"$f":"IF(A1436=\"\",\"\",VLOOKUP(C1436,#REF!,5,FALSE))","v":{"$error":"#N/A"}}]
[300547,{"$f":"IF(A1437=\"\",\"\",VLOOKUP(A1437,[1]ItemConfig!$A:$B,2,FALSE))","v":{"$error":"#N/A"}},{"$f":"IF(A1437=\"\",\"\",VLOOKUP(A1437,[1]ItemConfig!$A:$D,4,FALSE))","v":{"$error":"#N/A"}},{"$f":"IF(A1437=\"\",\"\",VLOOKUP(A1437,[1]ItemConfig!$A:$C,3,FALSE))","v":{"$error":"#N/A"}},{"$f":"IF(A1437=\"\",\"\",VLOOKUP(B1437,#REF!,5,FALSE))","v":{"$error":"#N/A"}},{"$f":"IF(A1437=\"\",\"\",VLOOKUP(C1437,#REF!,5,FALSE))","v":{"$error":"#N/A"}}]
[300548,{"$f":"IF(A1438=\"\",\"\",VLOOKUP(A1438,[1]ItemConfig!$A:$B,2,FALSE))","v":{"$error":"#N/A"}},{"$f":"IF(A1438=\"\",\"\",VLOOKUP(A1438,[1]ItemConfig!$A:$D,4,FALSE))","v":{"$error":"#N/A"}},{"$f":"IF(A1438=\"\",\"\",VLOOKUP(A1438,[1]ItemConfig!$A:$C,3,FALSE))","v":{"$error":"#N/A"}},{"$f":"IF(A1438=\"\",\"\",VLOOKUP(B1438,#REF!,5,FALSE))","v":{"$error":"#N/A"}},{"$f":"IF(A1438=\"\",\"\",VLOOKUP(C1438,#REF!,5,FALSE))","v":{"$error":"#N/A"}}]
[300549,{"$f":"IF(A1439=\"\",\"\",VLOOKUP(A1439,[1]ItemConfig!$A:$B,2,FALSE))","v":{"$error":"#N/A"}},{"$f":"IF(A1439=\"\",\"\",VLOOKUP(A1439,[1]ItemConfig!$A:$D,4,FALSE))","v":{"$error":"#N/A"}},{"$f":"IF(A1439=\"\",\"\",VLOOKUP(A1439,[1]ItemConfig!$A:$C,3,FALSE))","v":{"$error":"#N/A"}},{"$f":"IF(A1439=\"\",\"\",VLOOKUP(B1439,#REF!,5,FALSE))","v":{"$error":"#N/A"}},{"$f":"IF(A1439=\"\",\"\",VLOOKUP(C1439,#REF!,5,FALSE))","v":{"$error":"#N/A"}}]
[300550,{"$f":"IF(A1440=\"\",\"\",VLOOKUP(A1440,[1]ItemConfig!$A:$B,2,FALSE))","v":{"$error":"#N/A"}},{"$f":"IF(A1440=\"\",\"\",VLOOKUP(A1440,[1]ItemConfig!$A:$D,4,FALSE))","v":{"$error":"#N/A"}},{"$f":"IF(A1440=\"\",\"\",VLOOKUP(A1440,[1]ItemConfig!$A:$C,3,FALSE))","v":{"$error":"#N/A"}},{"$f":"IF(A1440=\"\",\"\",VLOOKUP(B1440,#REF!,5,FALSE))","v":{"$error":"#N/A"}},{"$f":"IF(A1440=\"\",\"\",VLOOKUP(C1440,#REF!,5,FALSE))","v":{"$error":"#N/A"}}]
[300551,{"$f":"IF(A1441=\"\",\"\",VLOOKUP(A1441,[1]ItemConfig!$A:$B,2,FALSE))","v":{"$error":"#N/A"}},{"$f":"IF(A1441=\"\",\"\",VLOOKUP(A1441,[1]ItemConfig!$A:$D,4,FALSE))","v":{"$error":"#N/A"}},{"$f":"IF(A1441=\"\",\"\",VLOOKUP(A1441,[1]ItemConfig!$A:$C,3,FALSE))","v":{"$error":"#N/A"}},{"$f":"IF(A1441=\"\",\"\",VLOOKUP(B1441,#REF!,5,FALSE))","v":{"$error":"#N/A"}},{"$f":"IF(A1441=\"\",\"\",VLOOKUP(C1441,#REF!,5,FALSE))","v":{"$error":"#N/A"}}]
[300552,{"$f":"IF(A1442=\"\",\"\",VLOOKUP(A1442,[1]ItemConfig!$A:$B,2,FALSE))","v":{"$error":"#N/A"}},{"$f":"IF(A1442=\"\",\"\",VLOOKUP(A1442,[1]ItemConfig!$A:$D,4,FALSE))","v":{"$error":"#N/A"}},{"$f":"IF(A1442=\"\",\"\",VLOOKUP(A1442,[1]ItemConfig!$A:$C,3,FALSE))","v":{"$error":"#N/A"}},{"$f":"IF(A1442=\"\",\"\",VLOOKUP(B1442,#REF!,5,FALSE))","v":{"$error":"#N/A"}},{"$f":"IF(A1442=\"\",\"\",VLOOKUP(C1442,#REF!,5,FALSE))","v":{"$error":"#N/A"}}]
[300553,{"$f":"IF(A1443=\"\",\"\",VLOOKUP(A1443,[1]ItemConfig!$A:$B,2,FALSE))","v":{"$error":"#N/A"}},{"$f":"IF(A1443=\"\",\"\",VLOOKUP(A1443,[1]ItemConfig!$A:$D,4,FALSE))","v":{"$error":"#N/A"}},{"$f":"IF(A1443=\"\",\"\",VLOOKUP(A1443,[1]ItemConfig!$A:$C,3,FALSE))","v":{"$error":"#N/A"}},{"$f":"IF(A1443=\"\",\"\",VLOOKUP(B1443,#REF!,5,FALSE))","v":{"$error":"#N/A"}},{"$f":"IF(A1443=\"\",\"\",VLOOKUP(C1443,#REF!,5,FALSE))","v":{"$error":"#N/A"}}]
[300554,{"$f":"IF(A1444=\"\",\"\",VLOOKUP(A1444,[1]ItemConfig!$A:$B,2,FALSE))","v":{"$error":"#N/A"}},{"$f":"IF(A1444=\"\",\"\",VLOOKUP(A1444,[1]ItemConfig!$A:$D,4,FALSE))","v":{"$error":"#N/A"}},{"$f":"IF(A1444=\"\",\"\",VLOOKUP(A1444,[1]ItemConfig!$A:$C,3,FALSE))","v":{"$error":"#N/A"}},{"$f":"IF(A1444=\"\",\"\",VLOOKUP(B1444,#REF!,5,FALSE))","v":{"$error":"#N/A"}},{"$f":"IF(A1444=\"\",\"\",VLOOKUP(C1444,#REF!,5,FALSE))","v":{"$error":"#N/A"}}]
[300555,{"$f":"IF(A1445=\"\",\"\",VLOOKUP(A1445,[1]ItemConfig!$A:$B,2,FALSE))","v":{"$error":"#N/A"}},{"$f":"IF(A1445=\"\",\"\",VLOOKUP(A1445,[1]ItemConfig!$A:$D,4,FALSE))","v":{"$error":"#N/A"}},{"$f":"IF(A1445=\"\",\"\",VLOOKUP(A1445,[1]ItemConfig!$A:$C,3,FALSE))","v":{"$error":"#N/A"}},{"$f":"IF(A1445=\"\",\"\",VLOOKUP(B1445,#REF!,5,FALSE))","v":{"$error":"#N/A"}},{"$f":"IF(A1445=\"\",\"\",VLOOKUP(C1445,#REF!,5,FALSE))","v":{"$error":"#N/A"}}]
[300556,{"$f":"IF(A1446=\"\",\"\",VLOOKUP(A1446,[1]ItemConfig!$A:$B,2,FALSE))","v":{"$error":"#N/A"}},{"$f":"IF(A1446=\"\",\"\",VLOOKUP(A1446,[1]ItemConfig!$A:$D,4,FALSE))","v":{"$error":"#N/A"}},{"$f":"IF(A1446=\"\",\"\",VLOOKUP(A1446,[1]ItemConfig!$A:$C,3,FALSE))","v":{"$error":"#N/A"}},{"$f":"IF(A1446=\"\",\"\",VLOOKUP(B1446,#REF!,5,FALSE))","v":{"$error":"#N/A"}},{"$f":"IF(A1446=\"\",\"\",VLOOKUP(C1446,#REF!,5,FALSE))","v":{"$error":"#N/A"}}]
[300557,{"$f":"IF(A1447=\"\",\"\",VLOOKUP(A1447,[1]ItemConfig!$A:$B,2,FALSE))","v":{"$error":"#N/A"}},{"$f":"IF(A1447=\"\",\"\",VLOOKUP(A1447,[1]ItemConfig!$A:$D,4,FALSE))","v":{"$error":"#N/A"}},{"$f":"IF(A1447=\"\",\"\",VLOOKUP(A1447,[1]ItemConfig!$A:$C,3,FALSE))","v":{"$error":"#N/A"}},{"$f":"IF(A1447=\"\",\"\",VLOOKUP(B1447,#REF!,5,FALSE))","v":{"$error":"#N/A"}},{"$f":"IF(A1447=\"\",\"\",VLOOKUP(C1447,#REF!,5,FALSE))","v":{"$error":"#N/A"}}]
[300558,{"$f":"IF(A1448=\"\",\"\",VLOOKUP(A1448,[1]ItemConfig!$A:$B,2,FALSE))","v":{"$error":"#N/A"}},{"$f":"IF(A1448=\"\",\"\",VLOOKUP(A1448,[1]ItemConfig!$A:$D,4,FALSE))","v":{"$error":"#N/A"}},{"$f":"IF(A1448=\"\",\"\",VLOOKUP(A1448,[1]ItemConfig!$A:$C,3,FALSE))","v":{"$error":"#N/A"}},{"$f":"IF(A1448=\"\",\"\",VLOOKUP(B1448,#REF!,5,FALSE))","v":{"$error":"#N/A"}},{"$f":"IF(A1448=\"\",\"\",VLOOKUP(C1448,#REF!,5,FALSE))","v":{"$error":"#N/A"}}]
[300559,{"$f":"IF(A1449=\"\",\"\",VLOOKUP(A1449,[1]ItemConfig!$A:$B,2,FALSE))","v":{"$error":"#N/A"}},{"$f":"IF(A1449=\"\",\"\",VLOOKUP(A1449,[1]ItemConfig!$A:$D,4,FALSE))","v":{"$error":"#N/A"}},{"$f":"IF(A1449=\"\",\"\",VLOOKUP(A1449,[1]ItemConfig!$A:$C,3,FALSE))","v":{"$error":"#N/A"}},{"$f":"IF(A1449=\"\",\"\",VLOOKUP(B1449,#REF!,5,FALSE))","v":{"$error":"#N/A"}},{"$f":"IF(A1449=\"\",\"\",VLOOKUP(C1449,#REF!,5,FALSE))","v":{"$error":"#N/A"}}]
[300560,{"$f":"IF(A1450=\"\",\"\",VLOOKUP(A1450,[1]ItemConfig!$A:$B,2,FALSE))","v":{"$error":"#N/A"}},{"$f":"IF(A1450=\"\",\"\",VLOOKUP(A1450,[1]ItemConfig!$A:$D,4,FALSE))","v":{"$error":"#N/A"}},{"$f":"IF(A1450=\"\",\"\",VLOOKUP(A1450,[1]ItemConfig!$A:$C,3,FALSE))","v":{"$error":"#N/A"}},{"$f":"IF(A1450=\"\",\"\",VLOOKUP(B1450,#REF!,5,FALSE))","v":{"$error":"#N/A"}},{"$f":"IF(A1450=\"\",\"\",VLOOKUP(C1450,#REF!,5,FALSE))","v":{"$error":"#N/A"}}]
[300561,{"$f":"IF(A1451=\"\",\"\",VLOOKUP(A1451,[1]ItemConfig!$A:$B,2,FALSE))","v":{"$error":"#N/A"}},{"$f":"IF(A1451=\"\",\"\",VLOOKUP(A1451,[1]ItemConfig!$A:$D,4,FALSE))","v":{"$error":"#N/A"}},{"$f":"IF(A1451=\"\",\"\",VLOOKUP(A1451,[1]ItemConfig!$A:$C,3,FALSE))","v":{"$error":"#N/A"}},{"$f":"IF(A1451=\"\",\"\",VLOOKUP(B1451,#REF!,5,FALSE))","v":{"$error":"#N/A"}},{"$f":"IF(A1451=\"\",\"\",VLOOKUP(C1451,#REF!,5,FALSE))","v":{"$error":"#N/A"}}]
[300562,{"$f":"IF(A1452=\"\",\"\",VLOOKUP(A1452,[1]ItemConfig!$A:$B,2,FALSE))","v":{"$error":"#N/A"}},{"$f":"IF(A1452=\"\",\"\",VLOOKUP(A1452,[1]ItemConfig!$A:$D,4,FALSE))","v":{"$error":"#N/A"}},{"$f":"IF(A1452=\"\",\"\",VLOOKUP(A1452,[1]ItemConfig!$A:$C,3,FALSE))","v":{"$error":"#N/A"}},{"$f":"IF(A1452=\"\",\"\",VLOOKUP(B1452,#REF!,5,FALSE))","v":{"$error":"#N/A"}},{"$f":"IF(A1452=\"\",\"\",VLOOKUP(C1452,#REF!,5,FALSE))","v":{"$error":"#N/A"}}]
[300563,{"$f":"IF(A1453=\"\",\"\",VLOOKUP(A1453,[1]ItemConfig!$A:$B,2,FALSE))","v":{"$error":"#N/A"}},{"$f":"IF(A1453=\"\",\"\",VLOOKUP(A1453,[1]ItemConfig!$A:$D,4,FALSE))","v":{"$error":"#N/A"}},{"$f":"IF(A1453=\"\",\"\",VLOOKUP(A1453,[1]ItemConfig!$A:$C,3,FALSE))","v":{"$error":"#N/A"}},{"$f":"IF(A1453=\"\",\"\",VLOOKUP(B1453,#REF!,5,FALSE))","v":{"$error":"#N/A"}},{"$f":"IF(A1453=\"\",\"\",VLOOKUP(C1453,#REF!,5,FALSE))","v":{"$error":"#N/A"}}]
[300564,{"$f":"IF(A1454=\"\",\"\",VLOOKUP(A1454,[1]ItemConfig!$A:$B,2,FALSE))","v":{"$error":"#N/A"}},{"$f":"IF(A1454=\"\",\"\",VLOOKUP(A1454,[1]ItemConfig!$A:$D,4,FALSE))","v":{"$error":"#N/A"}},{"$f":"IF(A1454=\"\",\"\",VLOOKUP(A1454,[1]ItemConfig!$A:$C,3,FALSE))","v":{"$error":"#N/A"}},{"$f":"IF(A1454=\"\",\"\",VLOOKUP(B1454,#REF!,5,FALSE))","v":{"$error":"#N/A"}},{"$f":"IF(A1454=\"\",\"\",VLOOKUP(C1454,#REF!,5,FALSE))","v":{"$error":"#N/A"}}]
[300565,{"$f":"IF(A1455=\"\",\"\",VLOOKUP(A1455,[1]ItemConfig!$A:$B,2,FALSE))","v":{"$error":"#N/A"}},{"$f":"IF(A1455=\"\",\"\",VLOOKUP(A1455,[1]ItemConfig!$A:$D,4,FALSE))","v":{"$error":"#N/A"}},{"$f":"IF(A1455=\"\",\"\",VLOOKUP(A1455,[1]ItemConfig!$A:$C,3,FALSE))","v":{"$error":"#N/A"}},{"$f":"IF(A1455=\"\",\"\",VLOOKUP(B1455,#REF!,5,FALSE))","v":{"$error":"#N/A"}},{"$f":"IF(A1455=\"\",\"\",VLOOKUP(C1455,#REF!,5,FALSE))","v":{"$error":"#N/A"}}]
[300566,{"$f":"IF(A1456=\"\",\"\",VLOOKUP(A1456,[1]ItemConfig!$A:$B,2,FALSE))","v":{"$error":"#N/A"}},{"$f":"IF(A1456=\"\",\"\",VLOOKUP(A1456,[1]ItemConfig!$A:$D,4,FALSE))","v":{"$error":"#N/A"}},{"$f":"IF(A1456=\"\",\"\",VLOOKUP(A1456,[1]ItemConfig!$A:$C,3,FALSE))","v":{"$error":"#N/A"}},{"$f":"IF(A1456=\"\",\"\",VLOOKUP(B1456,#REF!,5,FALSE))","v":{"$error":"#N/A"}},{"$f":"IF(A1456=\"\",\"\",VLOOKUP(C1456,#REF!,5,FALSE))","v":{"$error":"#N/A"}}]
[300567,{"$f":"IF(A1457=\"\",\"\",VLOOKUP(A1457,[1]ItemConfig!$A:$B,2,FALSE))","v":{"$error":"#N/A"}},{"$f":"IF(A1457=\"\",\"\",VLOOKUP(A1457,[1]ItemConfig!$A:$D,4,FALSE))","v":{"$error":"#N/A"}},{"$f":"IF(A1457=\"\",\"\",VLOOKUP(A1457,[1]ItemConfig!$A:$C,3,FALSE))","v":{"$error":"#N/A"}},{"$f":"IF(A1457=\"\",\"\",VLOOKUP(B1457,#REF!,5,FALSE))","v":{"$error":"#N/A"}},{"$f":"IF(A1457=\"\",\"\",VLOOKUP(C1457,#REF!,5,FALSE))","v":{"$error":"#N/A"}}]
[300568,{"$f":"IF(A1458=\"\",\"\",VLOOKUP(A1458,[1]ItemConfig!$A:$B,2,FALSE))","v":{"$error":"#N/A"}},{"$f":"IF(A1458=\"\",\"\",VLOOKUP(A1458,[1]ItemConfig!$A:$D,4,FALSE))","v":{"$error":"#N/A"}},{"$f":"IF(A1458=\"\",\"\",VLOOKUP(A1458,[1]ItemConfig!$A:$C,3,FALSE))","v":{"$error":"#N/A"}},{"$f":"IF(A1458=\"\",\"\",VLOOKUP(B1458,#REF!,5,FALSE))","v":{"$error":"#N/A"}},{"$f":"IF(A1458=\"\",\"\",VLOOKUP(C1458,#REF!,5,FALSE))","v":{"$error":"#N/A"}}]
[300569,{"$f":"IF(A1459=\"\",\"\",VLOOKUP(A1459,[1]ItemConfig!$A:$B,2,FALSE))","v":{"$error":"#N/A"}},{"$f":"IF(A1459=\"\",\"\",VLOOKUP(A1459,[1]ItemConfig!$A:$D,4,FALSE))","v":{"$error":"#N/A"}},{"$f":"IF(A1459=\"\",\"\",VLOOKUP(A1459,[1]ItemConfig!$A:$C,3,FALSE))","v":{"$error":"#N/A"}},{"$f":"IF(A1459=\"\",\"\",VLOOKUP(B1459,#REF!,5,FALSE))","v":{"$error":"#N/A"}},{"$f":"IF(A1459=\"\",\"\",VLOOKUP(C1459,#REF!,5,FALSE))","v":{"$error":"#N/A"}}]
[300570,{"$f":"IF(A1460=\"\",\"\",VLOOKUP(A1460,[1]ItemConfig!$A:$B,2,FALSE))","v":{"$error":"#N/A"}},{"$f":"IF(A1460=\"\",\"\",VLOOKUP(A1460,[1]ItemConfig!$A:$D,4,FALSE))","v":{"$error":"#N/A"}},{"$f":"IF(A1460=\"\",\"\",VLOOKUP(A1460,[1]ItemConfig!$A:$C,3,FALSE))","v":{"$error":"#N/A"}},{"$f":"IF(A1460=\"\",\"\",VLOOKUP(B1460,#REF!,5,FALSE))","v":{"$error":"#N/A"}},{"$f":"IF(A1460=\"\",\"\",VLOOKUP(C1460,#REF!,5,FALSE))","v":{"$error":"#N/A"}}]
[300571,{"$f":"IF(A1461=\"\",\"\",VLOOKUP(A1461,[1]ItemConfig!$A:$B,2,FALSE))","v":{"$error":"#N/A"}},{"$f":"IF(A1461=\"\",\"\",VLOOKUP(A1461,[1]ItemConfig!$A:$D,4,FALSE))","v":{"$error":"#N/A"}},{"$f":"IF(A1461=\"\",\"\",VLOOKUP(A1461,[1]ItemConfig!$A:$C,3,FALSE))","v":{"$error":"#N/A"}},{"$f":"IF(A1461=\"\",\"\",VLOOKUP(B1461,#REF!,5,FALSE))","v":{"$error":"#N/A"}},{"$f":"IF(A1461=\"\",\"\",VLOOKUP(C1461,#REF!,5,FALSE))","v":{"$error":"#N/A"}}]
[300572,{"$f":"IF(A1462=\"\",\"\",VLOOKUP(A1462,[1]ItemConfig!$A:$B,2,FALSE))","v":{"$error":"#N/A"}},{"$f":"IF(A1462=\"\",\"\",VLOOKUP(A1462,[1]ItemConfig!$A:$D,4,FALSE))","v":{"$error":"#N/A"}},{"$f":"IF(A1462=\"\",\"\",VLOOKUP(A1462,[1]ItemConfig!$A:$C,3,FALSE))","v":{"$error":"#N/A"}},{"$f":"IF(A1462=\"\",\"\",VLOOKUP(B1462,#REF!,5,FALSE))","v":{"$error":"#N/A"}},{"$f":"IF(A1462=\"\",\"\",VLOOKUP(C1462,#REF!,5,FALSE))","v":{"$error":"#N/A"}}]
[300573,{"$f":"IF(A1463=\"\",\"\",VLOOKUP(A1463,[1]ItemConfig!$A:$B,2,FALSE))","v":{"$error":"#N/A"}},{"$f":"IF(A1463=\"\",\"\",VLOOKUP(A1463,[1]ItemConfig!$A:$D,4,FALSE))","v":{"$error":"#N/A"}},{"$f":"IF(A1463=\"\",\"\",VLOOKUP(A1463,[1]ItemConfig!$A:$C,3,FALSE))","v":{"$error":"#N/A"}},{"$f":"IF(A1463=\"\",\"\",VLOOKUP(B1463,#REF!,5,FALSE))","v":{"$error":"#N/A"}},{"$f":"IF(A1463=\"\",\"\",VLOOKUP(C1463,#REF!,5,FALSE))","v":{"$error":"#N/A"}}]
[300574,{"$f":"IF(A1464=\"\",\"\",VLOOKUP(A1464,[1]ItemConfig!$A:$B,2,FALSE))","v":{"$error":"#N/A"}},{"$f":"IF(A1464=\"\",\"\",VLOOKUP(A1464,[1]ItemConfig!$A:$D,4,FALSE))","v":{"$error":"#N/A"}},{"$f":"IF(A1464=\"\",\"\",VLOOKUP(A1464,[1]ItemConfig!$A:$C,3,FALSE))","v":{"$error":"#N/A"}},{"$f":"IF(A1464=\"\",\"\",VLOOKUP(B1464,#REF!,5,FALSE))","v":{"$error":"#N/A"}},{"$f":"IF(A1464=\"\",\"\",VLOOKUP(C1464,#REF!,5,FALSE))","v":{"$error":"#N/A"}}]
[300575,{"$f":"IF(A1465=\"\",\"\",VLOOKUP(A1465,[1]ItemConfig!$A:$B,2,FALSE))","v":{"$error":"#N/A"}},{"$f":"IF(A1465=\"\",\"\",VLOOKUP(A1465,[1]ItemConfig!$A:$D,4,FALSE))","v":{"$error":"#N/A"}},{"$f":"IF(A1465=\"\",\"\",VLOOKUP(A1465,[1]ItemConfig!$A:$C,3,FALSE))","v":{"$error":"#N/A"}},{"$f":"IF(A1465=\"\",\"\",VLOOKUP(B1465,#REF!,5,FALSE))","v":{"$error":"#N/A"}},{"$f":"IF(A1465=\"\",\"\",VLOOKUP(C1465,#REF!,5,FALSE))","v":{"$error":"#N/A"}}]
[300576,{"$f":"IF(A1466=\"\",\"\",VLOOKUP(A1466,[1]ItemConfig!$A:$B,2,FALSE))","v":{"$error":"#N/A"}},{"$f":"IF(A1466=\"\",\"\",VLOOKUP(A1466,[1]ItemConfig!$A:$D,4,FALSE))","v":{"$error":"#N/A"}},{"$f":"IF(A1466=\"\",\"\",VLOOKUP(A1466,[1]ItemConfig!$A:$C,3,FALSE))","v":{"$error":"#N/A"}},{"$f":"IF(A1466=\"\",\"\",VLOOKUP(B1466,#REF!,5,FALSE))","v":{"$error":"#N/A"}},{"$f":"IF(A1466=\"\",\"\",VLOOKUP(C1466,#REF!,5,FALSE))","v":{"$error":"#N/A"}}]
[300577,{"$f":"IF(A1467=\"\",\"\",VLOOKUP(A1467,[1]ItemConfig!$A:$B,2,FALSE))","v":{"$error":"#N/A"}},{"$f":"IF(A1467=\"\",\"\",VLOOKUP(A1467,[1]ItemConfig!$A:$D,4,FALSE))","v":{"$error":"#N/A"}},{"$f":"IF(A1467=\"\",\"\",VLOOKUP(A1467,[1]ItemConfig!$A:$C,3,FALSE))","v":{"$error":"#N/A"}},{"$f":"IF(A1467=\"\",\"\",VLOOKUP(B1467,#REF!,5,FALSE))","v":{"$error":"#N/A"}},{"$f":"IF(A1467=\"\",\"\",VLOOKUP(C1467,#REF!,5,FALSE))","v":{"$error":"#N/A"}}]
[300578,{"$f":"IF(A1468=\"\",\"\",VLOOKUP(A1468,[1]ItemConfig!$A:$B,2,FALSE))","v":{"$error":"#N/A"}},{"$f":"IF(A1468=\"\",\"\",VLOOKUP(A1468,[1]ItemConfig!$A:$D,4,FALSE))","v":{"$error":"#N/A"}},{"$f":"IF(A1468=\"\",\"\",VLOOKUP(A1468,[1]ItemConfig!$A:$C,3,FALSE))","v":{"$error":"#N/A"}},{"$f":"IF(A1468=\"\",\"\",VLOOKUP(B1468,#REF!,5,FALSE))","v":{"$error":"#N/A"}},{"$f":"IF(A1468=\"\",\"\",VLOOKUP(C1468,#REF!,5,FALSE))","v":{"$error":"#N/A"}}]
[300579,{"$f":"IF(A1469=\"\",\"\",VLOOKUP(A1469,[1]ItemConfig!$A:$B,2,FALSE))","v":{"$error":"#N/A"}},{"$f":"IF(A1469=\"\",\"\",VLOOKUP(A1469,[1]ItemConfig!$A:$D,4,FALSE))","v":{"$error":"#N/A"}},{"$f":"IF(A1469=\"\",\"\",VLOOKUP(A1469,[1]ItemConfig!$A:$C,3,FALSE))","v":{"$error":"#N/A"}},{"$f":"IF(A1469=\"\",\"\",VLOOKUP(B1469,#REF!,5,FALSE))","v":{"$error":"#N/A"}},{"$f":"IF(A1469=\"\",\"\",VLOOKUP(C1469,#REF!,5,FALSE))","v":{"$error":"#N/A"}}]
[300580,{"$f":"IF(A1470=\"\",\"\",VLOOKUP(A1470,[1]ItemConfig!$A:$B,2,FALSE))","v":{"$error":"#N/A"}},{"$f":"IF(A1470=\"\",\"\",VLOOKUP(A1470,[1]ItemConfig!$A:$D,4,FALSE))","v":{"$error":"#N/A"}},{"$f":"IF(A1470=\"\",\"\",VLOOKUP(A1470,[1]ItemConfig!$A:$C,3,FALSE))","v":{"$error":"#N/A"}},{"$f":"IF(A1470=\"\",\"\",VLOOKUP(B1470,#REF!,5,FALSE))","v":{"$error":"#N/A"}},{"$f":"IF(A1470=\"\",\"\",VLOOKUP(C1470,#REF!,5,FALSE))","v":{"$error":"#N/A"}}]
[300581,{"$f":"IF(A1471=\"\",\"\",VLOOKUP(A1471,[1]ItemConfig!$A:$B,2,FALSE))","v":{"$error":"#N/A"}},{"$f":"IF(A1471=\"\",\"\",VLOOKUP(A1471,[1]ItemConfig!$A:$D,4,FALSE))","v":{"$error":"#N/A"}},{"$f":"IF(A1471=\"\",\"\",VLOOKUP(A1471,[1]ItemConfig!$A:$C,3,FALSE))","v":{"$error":"#N/A"}},{"$f":"IF(A1471=\"\",\"\",VLOOKUP(B1471,#REF!,5,FALSE))","v":{"$error":"#N/A"}},{"$f":"IF(A1471=\"\",\"\",VLOOKUP(C1471,#REF!,5,FALSE))","v":{"$error":"#N/A"}}]
[300582,{"$f":"IF(A1472=\"\",\"\",VLOOKUP(A1472,[1]ItemConfig!$A:$B,2,FALSE))","v":{"$error":"#N/A"}},{"$f":"IF(A1472=\"\",\"\",VLOOKUP(A1472,[1]ItemConfig!$A:$D,4,FALSE))","v":{"$error":"#N/A"}},{"$f":"IF(A1472=\"\",\"\",VLOOKUP(A1472,[1]ItemConfig!$A:$C,3,FALSE))","v":{"$error":"#N/A"}},{"$f":"IF(A1472=\"\",\"\",VLOOKUP(B1472,#REF!,5,FALSE))","v":{"$error":"#N/A"}},{"$f":"IF(A1472=\"\",\"\",VLOOKUP(C1472,#REF!,5,FALSE))","v":{"$error":"#N/A"}}]
[300583,{"$f":"IF(A1473=\"\",\"\",VLOOKUP(A1473,[1]ItemConfig!$A:$B,2,FALSE))","v":{"$error":"#N/A"}},{"$f":"IF(A1473=\"\",\"\",VLOOKUP(A1473,[1]ItemConfig!$A:$D,4,FALSE))","v":{"$error":"#N/A"}},{"$f":"IF(A1473=\"\",\"\",VLOOKUP(A1473,[1]ItemConfig!$A:$C,3,FALSE))","v":{"$error":"#N/A"}},{"$f":"IF(A1473=\"\",\"\",VLOOKUP(B1473,#REF!,5,FALSE))","v":{"$error":"#N/A"}},{"$f":"IF(A1473=\"\",\"\",VLOOKUP(C1473,#REF!,5,FALSE))","v":{"$error":"#N/A"}}]
[300584,{"$f":"IF(A1474=\"\",\"\",VLOOKUP(A1474,[1]ItemConfig!$A:$B,2,FALSE))","v":{"$error":"#N/A"}},{"$f":"IF(A1474=\"\",\"\",VLOOKUP(A1474,[1]ItemConfig!$A:$D,4,FALSE))","v":{"$error":"#N/A"}},{"$f":"IF(A1474=\"\",\"\",VLOOKUP(A1474,[1]ItemConfig!$A:$C,3,FALSE))","v":{"$error":"#N/A"}},{"$f":"IF(A1474=\"\",\"\",VLOOKUP(B1474,#REF!,5,FALSE))","v":{"$error":"#N/A"}},{"$f":"IF(A1474=\"\",\"\",VLOOKUP(C1474,#REF!,5,FALSE))","v":{"$error":"#N/A"}}]
[300585,{"$f":"IF(A1475=\"\",\"\",VLOOKUP(A1475,[1]ItemConfig!$A:$B,2,FALSE))","v":{"$error":"#N/A"}},{"$f":"IF(A1475=\"\",\"\",VLOOKUP(A1475,[1]ItemConfig!$A:$D,4,FALSE))","v":{"$error":"#N/A"}},{"$f":"IF(A1475=\"\",\"\",VLOOKUP(A1475,[1]ItemConfig!$A:$C,3,FALSE))","v":{"$error":"#N/A"}},{"$f":"IF(A1475=\"\",\"\",VLOOKUP(B1475,#REF!,5,FALSE))","v":{"$error":"#N/A"}},{"$f":"IF(A1475=\"\",\"\",VLOOKUP(C1475,#REF!,5,FALSE))","v":{"$error":"#N/A"}}]
[300586,{"$f":"IF(A1476=\"\",\"\",VLOOKUP(A1476,[1]ItemConfig!$A:$B,2,FALSE))","v":{"$error":"#N/A"}},{"$f":"IF(A1476=\"\",\"\",VLOOKUP(A1476,[1]ItemConfig!$A:$D,4,FALSE))","v":{"$error":"#N/A"}},{"$f":"IF(A1476=\"\",\"\",VLOOKUP(A1476,[1]ItemConfig!$A:$C,3,FALSE))","v":{"$error":"#N/A"}},{"$f":"IF(A1476=\"\",\"\",VLOOKUP(B1476,#REF!,5,FALSE))","v":{"$error":"#N/A"}},{"$f":"IF(A1476=\"\",\"\",VLOOKUP(C1476,#REF!,5,FALSE))","v":{"$error":"#N/A"}}]
[300587,{"$f":"IF(A1477=\"\",\"\",VLOOKUP(A1477,[1]ItemConfig!$A:$B,2,FALSE))","v":{"$error":"#N/A"}},{"$f":"IF(A1477=\"\",\"\",VLOOKUP(A1477,[1]ItemConfig!$A:$D,4,FALSE))","v":{"$error":"#N/A"}},{"$f":"IF(A1477=\"\",\"\",VLOOKUP(A1477,[1]ItemConfig!$A:$C,3,FALSE))","v":{"$error":"#N/A"}},{"$f":"IF(A1477=\"\",\"\",VLOOKUP(B1477,#REF!,5,FALSE))","v":{"$error":"#N/A"}},{"$f":"IF(A1477=\"\",\"\",VLOOKUP(C1477,#REF!,5,FALSE))","v":{"$error":"#N/A"}}]
[300588,{"$f":"IF(A1478=\"\",\"\",VLOOKUP(A1478,[1]ItemConfig!$A:$B,2,FALSE))","v":{"$error":"#N/A"}},{"$f":"IF(A1478=\"\",\"\",VLOOKUP(A1478,[1]ItemConfig!$A:$D,4,FALSE))","v":{"$error":"#N/A"}},{"$f":"IF(A1478=\"\",\"\",VLOOKUP(A1478,[1]ItemConfig!$A:$C,3,FALSE))","v":{"$error":"#N/A"}},{"$f":"IF(A1478=\"\",\"\",VLOOKUP(B1478,#REF!,5,FALSE))","v":{"$error":"#N/A"}},{"$f":"IF(A1478=\"\",\"\",VLOOKUP(C1478,#REF!,5,FALSE))","v":{"$error":"#N/A"}}]
[300589,{"$f":"IF(A1479=\"\",\"\",VLOOKUP(A1479,[1]ItemConfig!$A:$B,2,FALSE))","v":{"$error":"#N/A"}},{"$f":"IF(A1479=\"\",\"\",VLOOKUP(A1479,[1]ItemConfig!$A:$D,4,FALSE))","v":{"$error":"#N/A"}},{"$f":"IF(A1479=\"\",\"\",VLOOKUP(A1479,[1]ItemConfig!$A:$C,3,FALSE))","v":{"$error":"#N/A"}},{"$f":"IF(A1479=\"\",\"\",VLOOKUP(B1479,#REF!,5,FALSE))","v":{"$error":"#N/A"}},{"$f":"IF(A1479=\"\",\"\",VLOOKUP(C1479,#REF!,5,FALSE))","v":{"$error":"#N/A"}}]
[300590,{"$f":"IF(A1480=\"\",\"\",VLOOKUP(A1480,[1]ItemConfig!$A:$B,2,FALSE))","v":{"$error":"#N/A"}},{"$f":"IF(A1480=\"\",\"\",VLOOKUP(A1480,[1]ItemConfig!$A:$D,4,FALSE))","v":{"$error":"#N/A"}},{"$f":"IF(A1480=\"\",\"\",VLOOKUP(A1480,[1]ItemConfig!$A:$C,3,FALSE))","v":{"$error":"#N/A"}},{"$f":"IF(A1480=\"\",\"\",VLOOKUP(B1480,#REF!,5,FALSE))","v":{"$error":"#N/A"}},{"$f":"IF(A1480=\"\",\"\",VLOOKUP(C1480,#REF!,5,FALSE))","v":{"$error":"#N/A"}}]
[300591,{"$f":"IF(A1481=\"\",\"\",VLOOKUP(A1481,[1]ItemConfig!$A:$B,2,FALSE))","v":{"$error":"#N/A"}},{"$f":"IF(A1481=\"\",\"\",VLOOKUP(A1481,[1]ItemConfig!$A:$D,4,FALSE))","v":{"$error":"#N/A"}},{"$f":"IF(A1481=\"\",\"\",VLOOKUP(A1481,[1]ItemConfig!$A:$C,3,FALSE))","v":{"$error":"#N/A"}},{"$f":"IF(A1481=\"\",\"\",VLOOKUP(B1481,#REF!,5,FALSE))","v":{"$error":"#N/A"}},{"$f":"IF(A1481=\"\",\"\",VLOOKUP(C1481,#REF!,5,FALSE))","v":{"$error":"#N/A"}}]
[300592,{"$f":"IF(A1482=\"\",\"\",VLOOKUP(A1482,[1]ItemConfig!$A:$B,2,FALSE))","v":{"$error":"#N/A"}},{"$f":"IF(A1482=\"\",\"\",VLOOKUP(A1482,[1]ItemConfig!$A:$D,4,FALSE))","v":{"$error":"#N/A"}},{"$f":"IF(A1482=\"\",\"\",VLOOKUP(A1482,[1]ItemConfig!$A:$C,3,FALSE))","v":{"$error":"#N/A"}},{"$f":"IF(A1482=\"\",\"\",VLOOKUP(B1482,#REF!,5,FALSE))","v":{"$error":"#N/A"}},{"$f":"IF(A1482=\"\",\"\",VLOOKUP(C1482,#REF!,5,FALSE))","v":{"$error":"#N/A"}}]
[300593,{"$f":"IF(A1483=\"\",\"\",VLOOKUP(A1483,[1]ItemConfig!$A:$B,2,FALSE))","v":{"$error":"#N/A"}},{"$f":"IF(A1483=\"\",\"\",VLOOKUP(A1483,[1]ItemConfig!$A:$D,4,FALSE))","v":{"$error":"#N/A"}},{"$f":"IF(A1483=\"\",\"\",VLOOKUP(A1483,[1]ItemConfig!$A:$C,3,FALSE))","v":{"$error":"#N/A"}},{"$f":"IF(A1483=\"\",\"\",VLOOKUP(B1483,#REF!,5,FALSE))","v":{"$error":"#N/A"}},{"$f":"IF(A1483=\"\",\"\",VLOOKUP(C1483,#REF!,5,FALSE))","v":{"$error":"#N/A"}}]
[300594,{"$f":"IF(A1484=\"\",\"\",VLOOKUP(A1484,[1]ItemConfig!$A:$B,2,FALSE))","v":{"$error":"#N/A"}},{"$f":"IF(A1484=\"\",\"\",VLOOKUP(A1484,[1]ItemConfig!$A:$D,4,FALSE))","v":{"$error":"#N/A"}},{"$f":"IF(A1484=\"\",\"\",VLOOKUP(A1484,[1]ItemConfig!$A:$C,3,FALSE))","v":{"$error":"#N/A"}},{"$f":"IF(A1484=\"\",\"\",VLOOKUP(B1484,#REF!,5,FALSE))","v":{"$error":"#N/A"}},{"$f":"IF(A1484=\"\",\"\",VLOOKUP(C1484,#REF!,5,FALSE))","v":{"$error":"#N/A"}}]
[300595,{"$f":"IF(A1485=\"\",\"\",VLOOKUP(A1485,[1]ItemConfig!$A:$B,2,FALSE))","v":{"$error":"#N/A"}},{"$f":"IF(A1485=\"\",\"\",VLOOKUP(A1485,[1]ItemConfig!$A:$D,4,FALSE))","v":{"$error":"#N/A"}},{"$f":"IF(A1485=\"\",\"\",VLOOKUP(A1485,[1]ItemConfig!$A:$C,3,FALSE))","v":{"$error":"#N/A"}},{"$f":"IF(A1485=\"\",\"\",VLOOKUP(B1485,#REF!,5,FALSE))","v":{"$error":"#N/A"}},{"$f":"IF(A1485=\"\",\"\",VLOOKUP(C1485,#REF!,5,FALSE))","v":{"$error":"#N/A"}}]
[300596,{"$f":"IF(A1486=\"\",\"\",VLOOKUP(A1486,[1]ItemConfig!$A:$B,2,FALSE))","v":{"$error":"#N/A"}},{"$f":"IF(A1486=\"\",\"\",VLOOKUP(A1486,[1]ItemConfig!$A:$D,4,FALSE))","v":{"$error":"#N/A"}},{"$f":"IF(A1486=\"\",\"\",VLOOKUP(A1486,[1]ItemConfig!$A:$C,3,FALSE))","v":{"$error":"#N/A"}},{"$f":"IF(A1486=\"\",\"\",VLOOKUP(B1486,#REF!,5,FALSE))","v":{"$error":"#N/A"}},{"$f":"IF(A1486=\"\",\"\",VLOOKUP(C1486,#REF!,5,FALSE))","v":{"$error":"#N/A"}}]
[300597,{"$f":"IF(A1487=\"\",\"\",VLOOKUP(A1487,[1]ItemConfig!$A:$B,2,FALSE))","v":{"$error":"#N/A"}},{"$f":"IF(A1487=\"\",\"\",VLOOKUP(A1487,[1]ItemConfig!$A:$D,4,FALSE))","v":{"$error":"#N/A"}},{"$f":"IF(A1487=\"\",\"\",VLOOKUP(A1487,[1]ItemConfig!$A:$C,3,FALSE))","v":{"$error":"#N/A"}},{"$f":"IF(A1487=\"\",\"\",VLOOKUP(B1487,#REF!,5,FALSE))","v":{"$error":"#N/A"}},{"$f":"IF(A1487=\"\",\"\",VLOOKUP(C1487,#REF!,5,FALSE))","v":{"$error":"#N/A"}}]
[300598,{"$f":"IF(A1488=\"\",\"\",VLOOKUP(A1488,[1]ItemConfig!$A:$B,2,FALSE))","v":{"$error":"#N/A"}},{"$f":"IF(A1488=\"\",\"\",VLOOKUP(A1488,[1]ItemConfig!$A:$D,4,FALSE))","v":{"$error":"#N/A"}},{"$f":"IF(A1488=\"\",\"\",VLOOKUP(A1488,[1]ItemConfig!$A:$C,3,FALSE))","v":{"$error":"#N/A"}},{"$f":"IF(A1488=\"\",\"\",VLOOKUP(B1488,#REF!,5,FALSE))","v":{"$error":"#N/A"}},{"$f":"IF(A1488=\"\",\"\",VLOOKUP(C1488,#REF!,5,FALSE))","v":{"$error":"#N/A"}}]
[300599,{"$f":"IF(A1489=\"\",\"\",VLOOKUP(A1489,[1]ItemConfig!$A:$B,2,FALSE))","v":{"$error":"#N/A"}},{"$f":"IF(A1489=\"\",\"\",VLOOKUP(A1489,[1]ItemConfig!$A:$D,4,FALSE))","v":{"$error":"#N/A"}},{"$f":"IF(A1489=\"\",\"\",VLOOKUP(A1489,[1]ItemConfig!$A:$C,3,FALSE))","v":{"$error":"#N/A"}},{"$f":"IF(A1489=\"\",\"\",VLOOKUP(B1489,#REF!,5,FALSE))","v":{"$error":"#N/A"}},{"$f":"IF(A1489=\"\",\"\",VLOOKUP(C1489,#REF!,5,FALSE))","v":{"$error":"#N/A"}}]
[300600,{"$f":"IF(A1490=\"\",\"\",VLOOKUP(A1490,[1]ItemConfig!$A:$B,2,FALSE))","v":{"$error":"#N/A"}},{"$f":"IF(A1490=\"\",\"\",VLOOKUP(A1490,[1]ItemConfig!$A:$D,4,FALSE))","v":{"$error":"#N/A"}},{"$f":"IF(A1490=\"\",\"\",VLOOKUP(A1490,[1]ItemConfig!$A:$C,3,FALSE))","v":{"$error":"#N/A"}},{"$f":"IF(A1490=\"\",\"\",VLOOKUP(B1490,#REF!,5,FALSE))","v":{"$error":"#N/A"}},{"$f":"IF(A1490=\"\",\"\",VLOOKUP(C1490,#REF!,5,FALSE))","v":{"$error":"#N/A"}}]
[null,{"$f":"IF(A1491=\"\",\"\",VLOOKUP(A1491,[1]ItemConfig!$A:$B,2,FALSE))","v":""},{"$f":"IF(A1491=\"\",\"\",VLOOKUP(A1491,[1]ItemConfig!$A:$D,4,FALSE))","v":""},{"$f":"IF(A1491=\"\",\"\",VLOOKUP(A1491,[1]ItemConfig!$A:$C,3,FALSE))","v":""},{"$f":"IF(A1491=\"\",\"\",VLOOKUP(B1491,#REF!,5,FALSE))","v":""},{"$f":"IF(A1491=\"\",\"\",VLOOKUP(C1491,#REF!,5,FALSE))","v":""}]
[300601,{"$f":"IF(A1492=\"\",\"\",VLOOKUP(A1492,[1]ItemConfig!$A:$B,2,FALSE))","v":{"$error":"#N/A"}},{"$f":"IF(A1492=\"\",\"\",VLOOKUP(A1492,[1]ItemConfig!$A:$D,4,FALSE))","v":{"$error":"#N/A"}},{"$f":"IF(A1492=\"\",\"\",VLOOKUP(A1492,[1]ItemConfig!$A:$C,3,FALSE))","v":{"$error":"#N/A"}},{"$f":"IF(A1492=\"\",\"\",VLOOKUP(B1492,#REF!,5,FALSE))","v":{"$error":"#N/A"}},{"$f":"IF(A1492=\"\",\"\",VLOOKUP(C1492,#REF!,5,FALSE))","v":{"$error":"#N/A"}}]
[300602,{"$f":"IF(A1493=\"\",\"\",VLOOKUP(A1493,[1]ItemConfig!$A:$B,2,FALSE))","v":{"$error":"#N/A"}},{"$f":"IF(A1493=\"\",\"\",VLOOKUP(A1493,[1]ItemConfig!$A:$D,4,FALSE))","v":{"$error":"#N/A"}},{"$f":"IF(A1493=\"\",\"\",VLOOKUP(A1493,[1]ItemConfig!$A:$C,3,FALSE))","v":{"$error":"#N/A"}},{"$f":"IF(A1493=\"\",\"\",VLOOKUP(B1493,#REF!,5,FALSE))","v":{"$error":"#N/A"}},{"$f":"IF(A1493=\"\",\"\",VLOOKUP(C1493,#REF!,5,FALSE))","v":{"$error":"#N/A"}}]
[300603,{"$f":"IF(A1494=\"\",\"\",VLOOKUP(A1494,[1]ItemConfig!$A:$B,2,FALSE))","v":{"$error":"#N/A"}},{"$f":"IF(A1494=\"\",\"\",VLOOKUP(A1494,[1]ItemConfig!$A:$D,4,FALSE))","v":{"$error":"#N/A"}},{"$f":"IF(A1494=\"\",\"\",VLOOKUP(A1494,[1]ItemConfig!$A:$C,3,FALSE))","v":{"$error":"#N/A"}},{"$f":"IF(A1494=\"\",\"\",VLOOKUP(B1494,#REF!,5,FALSE))","v":{"$error":"#N/A"}},{"$f":"IF(A1494=\"\",\"\",VLOOKUP(C1494,#REF!,5,FALSE))","v":{"$error":"#N/A"}}]
[300604,{"$f":"IF(A1495=\"\",\"\",VLOOKUP(A1495,[1]ItemConfig!$A:$B,2,FALSE))","v":{"$error":"#N/A"}},{"$f":"IF(A1495=\"\",\"\",VLOOKUP(A1495,[1]ItemConfig!$A:$D,4,FALSE))","v":{"$error":"#N/A"}},{"$f":"IF(A1495=\"\",\"\",VLOOKUP(A1495,[1]ItemConfig!$A:$C,3,FALSE))","v":{"$error":"#N/A"}},{"$f":"IF(A1495=\"\",\"\",VLOOKUP(B1495,#REF!,5,FALSE))","v":{"$error":"#N/A"}},{"$f":"IF(A1495=\"\",\"\",VLOOKUP(C1495,#REF!,5,FALSE))","v":{"$error":"#N/A"}}]
[300605,{"$f":"IF(A1496=\"\",\"\",VLOOKUP(A1496,[1]ItemConfig!$A:$B,2,FALSE))","v":{"$error":"#N/A"}},{"$f":"IF(A1496=\"\",\"\",VLOOKUP(A1496,[1]ItemConfig!$A:$D,4,FALSE))","v":{"$error":"#N/A"}},{"$f":"IF(A1496=\"\",\"\",VLOOKUP(A1496,[1]ItemConfig!$A:$C,3,FALSE))","v":{"$error":"#N/A"}},{"$f":"IF(A1496=\"\",\"\",VLOOKUP(B1496,#REF!,5,FALSE))","v":{"$error":"#N/A"}},{"$f":"IF(A1496=\"\",\"\",VLOOKUP(C1496,#REF!,5,FALSE))","v":{"$error":"#N/A"}}]
[300606,{"$f":"IF(A1497=\"\",\"\",VLOOKUP(A1497,[1]ItemConfig!$A:$B,2,FALSE))","v":{"$error":"#N/A"}},{"$f":"IF(A1497=\"\",\"\",VLOOKUP(A1497,[1]ItemConfig!$A:$D,4,FALSE))","v":{"$error":"#N/A"}},{"$f":"IF(A1497=\"\",\"\",VLOOKUP(A1497,[1]ItemConfig!$A:$C,3,FALSE))","v":{"$error":"#N/A"}},{"$f":"IF(A1497=\"\",\"\",VLOOKUP(B1497,#REF!,5,FALSE))","v":{"$error":"#N/A"}},{"$f":"IF(A1497=\"\",\"\",VLOOKUP(C1497,#REF!,5,FALSE))","v":{"$error":"#N/A"}}]
[300607,{"$f":"IF(A1498=\"\",\"\",VLOOKUP(A1498,[1]ItemConfig!$A:$B,2,FALSE))","v":{"$error":"#N/A"}},{"$f":"IF(A1498=\"\",\"\",VLOOKUP(A1498,[1]ItemConfig!$A:$D,4,FALSE))","v":{"$error":"#N/A"}},{"$f":"IF(A1498=\"\",\"\",VLOOKUP(A1498,[1]ItemConfig!$A:$C,3,FALSE))","v":{"$error":"#N/A"}},{"$f":"IF(A1498=\"\",\"\",VLOOKUP(B1498,#REF!,5,FALSE))","v":{"$error":"#N/A"}},{"$f":"IF(A1498=\"\",\"\",VLOOKUP(C1498,#REF!,5,FALSE))","v":{"$error":"#N/A"}}]
[300608,{"$f":"IF(A1499=\"\",\"\",VLOOKUP(A1499,[1]ItemConfig!$A:$B,2,FALSE))","v":{"$error":"#N/A"}},{"$f":"IF(A1499=\"\",\"\",VLOOKUP(A1499,[1]ItemConfig!$A:$D,4,FALSE))","v":{"$error":"#N/A"}},{"$f":"IF(A1499=\"\",\"\",VLOOKUP(A1499,[1]ItemConfig!$A:$C,3,FALSE))","v":{"$error":"#N/A"}},{"$f":"IF(A1499=\"\",\"\",VLOOKUP(B1499,#REF!,5,FALSE))","v":{"$error":"#N/A"}},{"$f":"IF(A1499=\"\",\"\",VLOOKUP(C1499,#REF!,5,FALSE))","v":{"$error":"#N/A"}}]
[300609,{"$f":"IF(A1500=\"\",\"\",VLOOKUP(A1500,[1]ItemConfig!$A:$B,2,FALSE))","v":{"$error":"#N/A"}},{"$f":"IF(A1500=\"\",\"\",VLOOKUP(A1500,[1]ItemConfig!$A:$D,4,FALSE))","v":{"$error":"#N/A"}},{"$f":"IF(A1500=\"\",\"\",VLOOKUP(A1500,[1]ItemConfig!$A:$C,3,FALSE))","v":{"$error":"#N/A"}},{"$f":"IF(A1500=\"\",\"\",VLOOKUP(B1500,#REF!,5,FALSE))","v":{"$error":"#N/A"}},{"$f":"IF(A1500=\"\",\"\",VLOOKUP(C1500,#REF!,5,FALSE))","v":{"$error":"#N/A"}}]
[300610,{"$f":"IF(A1501=\"\",\"\",VLOOKUP(A1501,[1]ItemConfig!$A:$B,2,FALSE))","v":{"$error":"#N/A"}},{"$f":"IF(A1501=\"\",\"\",VLOOKUP(A1501,[1]ItemConfig!$A:$D,4,FALSE))","v":{"$error":"#N/A"}},{"$f":"IF(A1501=\"\",\"\",VLOOKUP(A1501,[1]ItemConfig!$A:$C,3,FALSE))","v":{"$error":"#N/A"}},{"$f":"IF(A1501=\"\",\"\",VLOOKUP(B1501,#REF!,5,FALSE))","v":{"$error":"#N/A"}},{"$f":"IF(A1501=\"\",\"\",VLOOKUP(C1501,#REF!,5,FALSE))","v":{"$error":"#N/A"}}]
[300611,{"$f":"IF(A1502=\"\",\"\",VLOOKUP(A1502,[1]ItemConfig!$A:$B,2,FALSE))","v":{"$error":"#N/A"}},{"$f":"IF(A1502=\"\",\"\",VLOOKUP(A1502,[1]ItemConfig!$A:$D,4,FALSE))","v":{"$error":"#N/A"}},{"$f":"IF(A1502=\"\",\"\",VLOOKUP(A1502,[1]ItemConfig!$A:$C,3,FALSE))","v":{"$error":"#N/A"}},{"$f":"IF(A1502=\"\",\"\",VLOOKUP(B1502,#REF!,5,FALSE))","v":{"$error":"#N/A"}},{"$f":"IF(A1502=\"\",\"\",VLOOKUP(C1502,#REF!,5,FALSE))","v":{"$error":"#N/A"}}]
[300612,{"$f":"IF(A1503=\"\",\"\",VLOOKUP(A1503,[1]ItemConfig!$A:$B,2,FALSE))","v":{"$error":"#N/A"}},{"$f":"IF(A1503=\"\",\"\",VLOOKUP(A1503,[1]ItemConfig!$A:$D,4,FALSE))","v":{"$error":"#N/A"}},{"$f":"IF(A1503=\"\",\"\",VLOOKUP(A1503,[1]ItemConfig!$A:$C,3,FALSE))","v":{"$error":"#N/A"}},{"$f":"IF(A1503=\"\",\"\",VLOOKUP(B1503,#REF!,5,FALSE))","v":{"$error":"#N/A"}},{"$f":"IF(A1503=\"\",\"\",VLOOKUP(C1503,#REF!,5,FALSE))","v":{"$error":"#N/A"}}]
[300613,{"$f":"IF(A1504=\"\",\"\",VLOOKUP(A1504,[1]ItemConfig!$A:$B,2,FALSE))","v":{"$error":"#N/A"}},{"$f":"IF(A1504=\"\",\"\",VLOOKUP(A1504,[1]ItemConfig!$A:$D,4,FALSE))","v":{"$error":"#N/A"}},{"$f":"IF(A1504=\"\",\"\",VLOOKUP(A1504,[1]ItemConfig!$A:$C,3,FALSE))","v":{"$error":"#N/A"}},{"$f":"IF(A1504=\"\",\"\",VLOOKUP(B1504,#REF!,5,FALSE))","v":{"$error":"#N/A"}},{"$f":"IF(A1504=\"\",\"\",VLOOKUP(C1504,#REF!,5,FALSE))","v":{"$error":"#N/A"}}]
[300614,{"$f":"IF(A1505=\"\",\"\",VLOOKUP(A1505,[1]ItemConfig!$A:$B,2,FALSE))","v":{"$error":"#N/A"}},{"$f":"IF(A1505=\"\",\"\",VLOOKUP(A1505,[1]ItemConfig!$A:$D,4,FALSE))","v":{"$error":"#N/A"}},{"$f":"IF(A1505=\"\",\"\",VLOOKUP(A1505,[1]ItemConfig!$A:$C,3,FALSE))","v":{"$error":"#N/A"}},{"$f":"IF(A1505=\"\",\"\",VLOOKUP(B1505,#REF!,5,FALSE))","v":{"$error":"#N/A"}},{"$f":"IF(A1505=\"\",\"\",VLOOKUP(C1505,#REF!,5,FALSE))","v":{"$error":"#N/A"}}]
[300615,{"$f":"IF(A1506=\"\",\"\",VLOOKUP(A1506,[1]ItemConfig!$A:$B,2,FALSE))","v":{"$error":"#N/A"}},{"$f":"IF(A1506=\"\",\"\",VLOOKUP(A1506,[1]ItemConfig!$A:$D,4,FALSE))","v":{"$error":"#N/A"}},{"$f":"IF(A1506=\"\",\"\",VLOOKUP(A1506,[1]ItemConfig!$A:$C,3,FALSE))","v":{"$error":"#N/A"}},{"$f":"IF(A1506=\"\",\"\",VLOOKUP(B1506,#REF!,5,FALSE))","v":{"$error":"#N/A"}},{"$f":"IF(A1506=\"\",\"\",VLOOKUP(C1506,#REF!,5,FALSE))","v":{"$error":"#N/A"}}]
[300616,{"$f":"IF(A1507=\"\",\"\",VLOOKUP(A1507,[1]ItemConfig!$A:$B,2,FALSE))","v":{"$error":"#N/A"}},{"$f":"IF(A1507=\"\",\"\",VLOOKUP(A1507,[1]ItemConfig!$A:$D,4,FALSE))","v":{"$error":"#N/A"}},{"$f":"IF(A1507=\"\",\"\",VLOOKUP(A1507,[1]ItemConfig!$A:$C,3,FALSE))","v":{"$error":"#N/A"}},{"$f":"IF(A1507=\"\",\"\",VLOOKUP(B1507,#REF!,5,FALSE))","v":{"$error":"#N/A"}},{"$f":"IF(A1507=\"\",\"\",VLOOKUP(C1507,#REF!,5,FALSE))","v":{"$error":"#N/A"}}]
[300617,{"$f":"IF(A1508=\"\",\"\",VLOOKUP(A1508,[1]ItemConfig!$A:$B,2,FALSE))","v":{"$error":"#N/A"}},{"$f":"IF(A1508=\"\",\"\",VLOOKUP(A1508,[1]ItemConfig!$A:$D,4,FALSE))","v":{"$error":"#N/A"}},{"$f":"IF(A1508=\"\",\"\",VLOOKUP(A1508,[1]ItemConfig!$A:$C,3,FALSE))","v":{"$error":"#N/A"}},{"$f":"IF(A1508=\"\",\"\",VLOOKUP(B1508,#REF!,5,FALSE))","v":{"$error":"#N/A"}},{"$f":"IF(A1508=\"\",\"\",VLOOKUP(C1508,#REF!,5,FALSE))","v":{"$error":"#N/A"}}]
[300618,{"$f":"IF(A1509=\"\",\"\",VLOOKUP(A1509,[1]ItemConfig!$A:$B,2,FALSE))","v":{"$error":"#N/A"}},{"$f":"IF(A1509=\"\",\"\",VLOOKUP(A1509,[1]ItemConfig!$A:$D,4,FALSE))","v":{"$error":"#N/A"}},{"$f":"IF(A1509=\"\",\"\",VLOOKUP(A1509,[1]ItemConfig!$A:$C,3,FALSE))","v":{"$error":"#N/A"}},{"$f":"IF(A1509=\"\",\"\",VLOOKUP(B1509,#REF!,5,FALSE))","v":{"$error":"#N/A"}},{"$f":"IF(A1509=\"\",\"\",VLOOKUP(C1509,#REF!,5,FALSE))","v":{"$error":"#N/A"}}]
[300619,{"$f":"IF(A1510=\"\",\"\",VLOOKUP(A1510,[1]ItemConfig!$A:$B,2,FALSE))","v":{"$error":"#N/A"}},{"$f":"IF(A1510=\"\",\"\",VLOOKUP(A1510,[1]ItemConfig!$A:$D,4,FALSE))","v":{"$error":"#N/A"}},{"$f":"IF(A1510=\"\",\"\",VLOOKUP(A1510,[1]ItemConfig!$A:$C,3,FALSE))","v":{"$error":"#N/A"}},{"$f":"IF(A1510=\"\",\"\",VLOOKUP(B1510,#REF!,5,FALSE))","v":{"$error":"#N/A"}},{"$f":"IF(A1510=\"\",\"\",VLOOKUP(C1510,#REF!,5,FALSE))","v":{"$error":"#N/A"}}]
[300620,{"$f":"IF(A1511=\"\",\"\",VLOOKUP(A1511,[1]ItemConfig!$A:$B,2,FALSE))","v":{"$error":"#N/A"}},{"$f":"IF(A1511=\"\",\"\",VLOOKUP(A1511,[1]ItemConfig!$A:$D,4,FALSE))","v":{"$error":"#N/A"}},{"$f":"IF(A1511=\"\",\"\",VLOOKUP(A1511,[1]ItemConfig!$A:$C,3,FALSE))","v":{"$error":"#N/A"}},{"$f":"IF(A1511=\"\",\"\",VLOOKUP(B1511,#REF!,5,FALSE))","v":{"$error":"#N/A"}},{"$f":"IF(A1511=\"\",\"\",VLOOKUP(C1511,#REF!,5,FALSE))","v":{"$error":"#N/A"}}]
[300621,{"$f":"IF(A1512=\"\",\"\",VLOOKUP(A1512,[1]ItemConfig!$A:$B,2,FALSE))","v":{"$error":"#N/A"}},{"$f":"IF(A1512=\"\",\"\",VLOOKUP(A1512,[1]ItemConfig!$A:$D,4,FALSE))","v":{"$error":"#N/A"}},{"$f":"IF(A1512=\"\",\"\",VLOOKUP(A1512,[1]ItemConfig!$A:$C,3,FALSE))","v":{"$error":"#N/A"}},{"$f":"IF(A1512=\"\",\"\",VLOOKUP(B1512,#REF!,5,FALSE))","v":{"$error":"#N/A"}},{"$f":"IF(A1512=\"\",\"\",VLOOKUP(C1512,#REF!,5,FALSE))","v":{"$error":"#N/A"}}]
[300622,{"$f":"IF(A1513=\"\",\"\",VLOOKUP(A1513,[1]ItemConfig!$A:$B,2,FALSE))","v":{"$error":"#N/A"}},{"$f":"IF(A1513=\"\",\"\",VLOOKUP(A1513,[1]ItemConfig!$A:$D,4,FALSE))","v":{"$error":"#N/A"}},{"$f":"IF(A1513=\"\",\"\",VLOOKUP(A1513,[1]ItemConfig!$A:$C,3,FALSE))","v":{"$error":"#N/A"}},{"$f":"IF(A1513=\"\",\"\",VLOOKUP(B1513,#REF!,5,FALSE))","v":{"$error":"#N/A"}},{"$f":"IF(A1513=\"\",\"\",VLOOKUP(C1513,#REF!,5,FALSE))","v":{"$error":"#N/A"}}]
[300623,{"$f":"IF(A1514=\"\",\"\",VLOOKUP(A1514,[1]ItemConfig!$A:$B,2,FALSE))","v":{"$error":"#N/A"}},{"$f":"IF(A1514=\"\",\"\",VLOOKUP(A1514,[1]ItemConfig!$A:$D,4,FALSE))","v":{"$error":"#N/A"}},{"$f":"IF(A1514=\"\",\"\",VLOOKUP(A1514,[1]ItemConfig!$A:$C,3,FALSE))","v":{"$error":"#N/A"}},{"$f":"IF(A1514=\"\",\"\",VLOOKUP(B1514,#REF!,5,FALSE))","v":{"$error":"#N/A"}},{"$f":"IF(A1514=\"\",\"\",VLOOKUP(C1514,#REF!,5,FALSE))","v":{"$error":"#N/A"}}]
[300624,{"$f":"IF(A1515=\"\",\"\",VLOOKUP(A1515,[1]ItemConfig!$A:$B,2,FALSE))","v":{"$error":"#N/A"}},{"$f":"IF(A1515=\"\",\"\",VLOOKUP(A1515,[1]ItemConfig!$A:$D,4,FALSE))","v":{"$error":"#N/A"}},{"$f":"IF(A1515=\"\",\"\",VLOOKUP(A1515,[1]ItemConfig!$A:$C,3,FALSE))","v":{"$error":"#N/A"}},{"$f":"IF(A1515=\"\",\"\",VLOOKUP(B1515,#REF!,5,FALSE))","v":{"$error":"#N/A"}},{"$f":"IF(A1515=\"\",\"\",VLOOKUP(C1515,#REF!,5,FALSE))","v":{"$error":"#N/A"}}]
[300625,{"$f":"IF(A1516=\"\",\"\",VLOOKUP(A1516,[1]ItemConfig!$A:$B,2,FALSE))","v":{"$error":"#N/A"}},{"$f":"IF(A1516=\"\",\"\",VLOOKUP(A1516,[1]ItemConfig!$A:$D,4,FALSE))","v":{"$error":"#N/A"}},{"$f":"IF(A1516=\"\",\"\",VLOOKUP(A1516,[1]ItemConfig!$A:$C,3,FALSE))","v":{"$error":"#N/A"}},{"$f":"IF(A1516=\"\",\"\",VLOOKUP(B1516,#REF!,5,FALSE))","v":{"$error":"#N/A"}},{"$f":"IF(A1516=\"\",\"\",VLOOKUP(C1516,#REF!,5,FALSE))","v":{"$error":"#N/A"}}]
[300626,{"$f":"IF(A1517=\"\",\"\",VLOOKUP(A1517,[1]ItemConfig!$A:$B,2,FALSE))","v":{"$error":"#N/A"}},{"$f":"IF(A1517=\"\",\"\",VLOOKUP(A1517,[1]ItemConfig!$A:$D,4,FALSE))","v":{"$error":"#N/A"}},{"$f":"IF(A1517=\"\",\"\",VLOOKUP(A1517,[1]ItemConfig!$A:$C,3,FALSE))","v":{"$error":"#N/A"}},{"$f":"IF(A1517=\"\",\"\",VLOOKUP(B1517,#REF!,5,FALSE))","v":{"$error":"#N/A"}},{"$f":"IF(A1517=\"\",\"\",VLOOKUP(C1517,#REF!,5,FALSE))","v":{"$error":"#N/A"}}]
[300627,{"$f":"IF(A1518=\"\",\"\",VLOOKUP(A1518,[1]ItemConfig!$A:$B,2,FALSE))","v":{"$error":"#N/A"}},{"$f":"IF(A1518=\"\",\"\",VLOOKUP(A1518,[1]ItemConfig!$A:$D,4,FALSE))","v":{"$error":"#N/A"}},{"$f":"IF(A1518=\"\",\"\",VLOOKUP(A1518,[1]ItemConfig!$A:$C,3,FALSE))","v":{"$error":"#N/A"}},{"$f":"IF(A1518=\"\",\"\",VLOOKUP(B1518,#REF!,5,FALSE))","v":{"$error":"#N/A"}},{"$f":"IF(A1518=\"\",\"\",VLOOKUP(C1518,#REF!,5,FALSE))","v":{"$error":"#N/A"}}]
[300628,{"$f":"IF(A1519=\"\",\"\",VLOOKUP(A1519,[1]ItemConfig!$A:$B,2,FALSE))","v":{"$error":"#N/A"}},{"$f":"IF(A1519=\"\",\"\",VLOOKUP(A1519,[1]ItemConfig!$A:$D,4,FALSE))","v":{"$error":"#N/A"}},{"$f":"IF(A1519=\"\",\"\",VLOOKUP(A1519,[1]ItemConfig!$A:$C,3,FALSE))","v":{"$error":"#N/A"}},{"$f":"IF(A1519=\"\",\"\",VLOOKUP(B1519,#REF!,5,FALSE))","v":{"$error":"#N/A"}},{"$f":"IF(A1519=\"\",\"\",VLOOKUP(C1519,#REF!,5,FALSE))","v":{"$error":"#N/A"}}]
[300629,{"$f":"IF(A1520=\"\",\"\",VLOOKUP(A1520,[1]ItemConfig!$A:$B,2,FALSE))","v":{"$error":"#N/A"}},{"$f":"IF(A1520=\"\",\"\",VLOOKUP(A1520,[1]ItemConfig!$A:$D,4,FALSE))","v":{"$error":"#N/A"}},{"$f":"IF(A1520=\"\",\"\",VLOOKUP(A1520,[1]ItemConfig!$A:$C,3,FALSE))","v":{"$error":"#N/A"}},{"$f":"IF(A1520=\"\",\"\",VLOOKUP(B1520,#REF!,5,FALSE))","v":{"$error":"#N/A"}},{"$f":"IF(A1520=\"\",\"\",VLOOKUP(C1520,#REF!,5,FALSE))","v":{"$error":"#N/A"}}]
[300630,{"$f":"IF(A1521=\"\",\"\",VLOOKUP(A1521,[1]ItemConfig!$A:$B,2,FALSE))","v":{"$error":"#N/A"}},{"$f":"IF(A1521=\"\",\"\",VLOOKUP(A1521,[1]ItemConfig!$A:$D,4,FALSE))","v":{"$error":"#N/A"}},{"$f":"IF(A1521=\"\",\"\",VLOOKUP(A1521,[1]ItemConfig!$A:$C,3,FALSE))","v":{"$error":"#N/A"}},{"$f":"IF(A1521=\"\",\"\",VLOOKUP(B1521,#REF!,5,FALSE))","v":{"$error":"#N/A"}},{"$f":"IF(A1521=\"\",\"\",VLOOKUP(C1521,#REF!,5,FALSE))","v":{"$error":"#N/A"}}]
[300631,{"$f":"IF(A1522=\"\",\"\",VLOOKUP(A1522,[1]ItemConfig!$A:$B,2,FALSE))","v":{"$error":"#N/A"}},{"$f":"IF(A1522=\"\",\"\",VLOOKUP(A1522,[1]ItemConfig!$A:$D,4,FALSE))","v":{"$error":"#N/A"}},{"$f":"IF(A1522=\"\",\"\",VLOOKUP(A1522,[1]ItemConfig!$A:$C,3,FALSE))","v":{"$error":"#N/A"}},{"$f":"IF(A1522=\"\",\"\",VLOOKUP(B1522,#REF!,5,FALSE))","v":{"$error":"#N/A"}},{"$f":"IF(A1522=\"\",\"\",VLOOKUP(C1522,#REF!,5,FALSE))","v":{"$error":"#N/A"}}]
[300632,{"$f":"IF(A1523=\"\",\"\",VLOOKUP(A1523,[1]ItemConfig!$A:$B,2,FALSE))","v":{"$error":"#N/A"}},{"$f":"IF(A1523=\"\",\"\",VLOOKUP(A1523,[1]ItemConfig!$A:$D,4,FALSE))","v":{"$error":"#N/A"}},{"$f":"IF(A1523=\"\",\"\",VLOOKUP(A1523,[1]ItemConfig!$A:$C,3,FALSE))","v":{"$error":"#N/A"}},{"$f":"IF(A1523=\"\",\"\",VLOOKUP(B1523,#REF!,5,FALSE))","v":{"$error":"#N/A"}},{"$f":"IF(A1523=\"\",\"\",VLOOKUP(C1523,#REF!,5,FALSE))","v":{"$error":"#N/A"}}]
[300633,{"$f":"IF(A1524=\"\",\"\",VLOOKUP(A1524,[1]ItemConfig!$A:$B,2,FALSE))","v":{"$error":"#N/A"}},{"$f":"IF(A1524=\"\",\"\",VLOOKUP(A1524,[1]ItemConfig!$A:$D,4,FALSE))","v":{"$error":"#N/A"}},{"$f":"IF(A1524=\"\",\"\",VLOOKUP(A1524,[1]ItemConfig!$A:$C,3,FALSE))","v":{"$error":"#N/A"}},{"$f":"IF(A1524=\"\",\"\",VLOOKUP(B1524,#REF!,5,FALSE))","v":{"$error":"#N/A"}},{"$f":"IF(A1524=\"\",\"\",VLOOKUP(C1524,#REF!,5,FALSE))","v":{"$error":"#N/A"}}]
[300634,{"$f":"IF(A1525=\"\",\"\",VLOOKUP(A1525,[1]ItemConfig!$A:$B,2,FALSE))","v":{"$error":"#N/A"}},{"$f":"IF(A1525=\"\",\"\",VLOOKUP(A1525,[1]ItemConfig!$A:$D,4,FALSE))","v":{"$error":"#N/A"}},{"$f":"IF(A1525=\"\",\"\",VLOOKUP(A1525,[1]ItemConfig!$A:$C,3,FALSE))","v":{"$error":"#N/A"}},{"$f":"IF(A1525=\"\",\"\",VLOOKUP(B1525,#REF!,5,FALSE))","v":{"$error":"#N/A"}},{"$f":"IF(A1525=\"\",\"\",VLOOKUP(C1525,#REF!,5,FALSE))","v":{"$error":"#N/A"}}]
[300635,{"$f":"IF(A1526=\"\",\"\",VLOOKUP(A1526,[1]ItemConfig!$A:$B,2,FALSE))","v":{"$error":"#N/A"}},{"$f":"IF(A1526=\"\",\"\",VLOOKUP(A1526,[1]ItemConfig!$A:$D,4,FALSE))","v":{"$error":"#N/A"}},{"$f":"IF(A1526=\"\",\"\",VLOOKUP(A1526,[1]ItemConfig!$A:$C,3,FALSE))","v":{"$error":"#N/A"}},{"$f":"IF(A1526=\"\",\"\",VLOOKUP(B1526,#REF!,5,FALSE))","v":{"$error":"#N/A"}},{"$f":"IF(A1526=\"\",\"\",VLOOKUP(C1526,#REF!,5,FALSE))","v":{"$error":"#N/A"}}]
[300636,{"$f":"IF(A1527=\"\",\"\",VLOOKUP(A1527,[1]ItemConfig!$A:$B,2,FALSE))","v":{"$error":"#N/A"}},{"$f":"IF(A1527=\"\",\"\",VLOOKUP(A1527,[1]ItemConfig!$A:$D,4,FALSE))","v":{"$error":"#N/A"}},{"$f":"IF(A1527=\"\",\"\",VLOOKUP(A1527,[1]ItemConfig!$A:$C,3,FALSE))","v":{"$error":"#N/A"}},{"$f":"IF(A1527=\"\",\"\",VLOOKUP(B1527,#REF!,5,FALSE))","v":{"$error":"#N/A"}},{"$f":"IF(A1527=\"\",\"\",VLOOKUP(C1527,#REF!,5,FALSE))","v":{"$error":"#N/A"}}]
[300637,{"$f":"IF(A1528=\"\",\"\",VLOOKUP(A1528,[1]ItemConfig!$A:$B,2,FALSE))","v":{"$error":"#N/A"}},{"$f":"IF(A1528=\"\",\"\",VLOOKUP(A1528,[1]ItemConfig!$A:$D,4,FALSE))","v":{"$error":"#N/A"}},{"$f":"IF(A1528=\"\",\"\",VLOOKUP(A1528,[1]ItemConfig!$A:$C,3,FALSE))","v":{"$error":"#N/A"}},{"$f":"IF(A1528=\"\",\"\",VLOOKUP(B1528,#REF!,5,FALSE))","v":{"$error":"#N/A"}},{"$f":"IF(A1528=\"\",\"\",VLOOKUP(C1528,#REF!,5,FALSE))","v":{"$error":"#N/A"}}]
[300638,{"$f":"IF(A1529=\"\",\"\",VLOOKUP(A1529,[1]ItemConfig!$A:$B,2,FALSE))","v":{"$error":"#N/A"}},{"$f":"IF(A1529=\"\",\"\",VLOOKUP(A1529,[1]ItemConfig!$A:$D,4,FALSE))","v":{"$error":"#N/A"}},{"$f":"IF(A1529=\"\",\"\",VLOOKUP(A1529,[1]ItemConfig!$A:$C,3,FALSE))","v":{"$error":"#N/A"}},{"$f":"IF(A1529=\"\",\"\",VLOOKUP(B1529,#REF!,5,FALSE))","v":{"$error":"#N/A"}},{"$f":"IF(A1529=\"\",\"\",VLOOKUP(C1529,#REF!,5,FALSE))","v":{"$error":"#N/A"}}]
[300639,{"$f":"IF(A1530=\"\",\"\",VLOOKUP(A1530,[1]ItemConfig!$A:$B,2,FALSE))","v":{"$error":"#N/A"}},{"$f":"IF(A1530=\"\",\"\",VLOOKUP(A1530,[1]ItemConfig!$A:$D,4,FALSE))","v":{"$error":"#N/A"}},{"$f":"IF(A1530=\"\",\"\",VLOOKUP(A1530,[1]ItemConfig!$A:$C,3,FALSE))","v":{"$error":"#N/A"}},{"$f":"IF(A1530=\"\",\"\",VLOOKUP(B1530,#REF!,5,FALSE))","v":{"$error":"#N/A"}},{"$f":"IF(A1530=\"\",\"\",VLOOKUP(C1530,#REF!,5,FALSE))","v":{"$error":"#N/A"}}]
[300640,{"$f":"IF(A1531=\"\",\"\",VLOOKUP(A1531,[1]ItemConfig!$A:$B,2,FALSE))","v":{"$error":"#N/A"}},{"$f":"IF(A1531=\"\",\"\",VLOOKUP(A1531,[1]ItemConfig!$A:$D,4,FALSE))","v":{"$error":"#N/A"}},{"$f":"IF(A1531=\"\",\"\",VLOOKUP(A1531,[1]ItemConfig!$A:$C,3,FALSE))","v":{"$error":"#N/A"}},{"$f":"IF(A1531=\"\",\"\",VLOOKUP(B1531,#REF!,5,FALSE))","v":{"$error":"#N/A"}},{"$f":"IF(A1531=\"\",\"\",VLOOKUP(C1531,#REF!,5,FALSE))","v":{"$error":"#N/A"}}]
[300641,{"$f":"IF(A1532=\"\",\"\",VLOOKUP(A1532,[1]ItemConfig!$A:$B,2,FALSE))","v":{"$error":"#N/A"}},{"$f":"IF(A1532=\"\",\"\",VLOOKUP(A1532,[1]ItemConfig!$A:$D,4,FALSE))","v":{"$error":"#N/A"}},{"$f":"IF(A1532=\"\",\"\",VLOOKUP(A1532,[1]ItemConfig!$A:$C,3,FALSE))","v":{"$error":"#N/A"}},{"$f":"IF(A1532=\"\",\"\",VLOOKUP(B1532,#REF!,5,FALSE))","v":{"$error":"#N/A"}},{"$f":"IF(A1532=\"\",\"\",VLOOKUP(C1532,#REF!,5,FALSE))","v":{"$error":"#N/A"}}]
[300642,{"$f":"IF(A1533=\"\",\"\",VLOOKUP(A1533,[1]ItemConfig!$A:$B,2,FALSE))","v":{"$error":"#N/A"}},{"$f":"IF(A1533=\"\",\"\",VLOOKUP(A1533,[1]ItemConfig!$A:$D,4,FALSE))","v":{"$error":"#N/A"}},{"$f":"IF(A1533=\"\",\"\",VLOOKUP(A1533,[1]ItemConfig!$A:$C,3,FALSE))","v":{"$error":"#N/A"}},{"$f":"IF(A1533=\"\",\"\",VLOOKUP(B1533,#REF!,5,FALSE))","v":{"$error":"#N/A"}},{"$f":"IF(A1533=\"\",\"\",VLOOKUP(C1533,#REF!,5,FALSE))","v":{"$error":"#N/A"}}]
[300643,{"$f":"IF(A1534=\"\",\"\",VLOOKUP(A1534,[1]ItemConfig!$A:$B,2,FALSE))","v":{"$error":"#N/A"}},{"$f":"IF(A1534=\"\",\"\",VLOOKUP(A1534,[1]ItemConfig!$A:$D,4,FALSE))","v":{"$error":"#N/A"}},{"$f":"IF(A1534=\"\",\"\",VLOOKUP(A1534,[1]ItemConfig!$A:$C,3,FALSE))","v":{"$error":"#N/A"}},{"$f":"IF(A1534=\"\",\"\",VLOOKUP(B1534,#REF!,5,FALSE))","v":{"$error":"#N/A"}},{"$f":"IF(A1534=\"\",\"\",VLOOKUP(C1534,#REF!,5,FALSE))","v":{"$error":"#N/A"}}]
[300644,{"$f":"IF(A1535=\"\",\"\",VLOOKUP(A1535,[1]ItemConfig!$A:$B,2,FALSE))","v":{"$error":"#N/A"}},{"$f":"IF(A1535=\"\",\"\",VLOOKUP(A1535,[1]ItemConfig!$A:$D,4,FALSE))","v":{"$error":"#N/A"}},{"$f":"IF(A1535=\"\",\"\",VLOOKUP(A1535,[1]ItemConfig!$A:$C,3,FALSE))","v":{"$error":"#N/A"}},{"$f":"IF(A1535=\"\",\"\",VLOOKUP(B1535,#REF!,5,FALSE))","v":{"$error":"#N/A"}},{"$f":"IF(A1535=\"\",\"\",VLOOKUP(C1535,#REF!,5,FALSE))","v":{"$error":"#N/A"}}]
[300645,{"$f":"IF(A1536=\"\",\"\",VLOOKUP(A1536,[1]ItemConfig!$A:$B,2,FALSE))","v":{"$error":"#N/A"}},{"$f":"IF(A1536=\"\",\"\",VLOOKUP(A1536,[1]ItemConfig!$A:$D,4,FALSE))","v":{"$error":"#N/A"}},{"$f":"IF(A1536=\"\",\"\",VLOOKUP(A1536,[1]ItemConfig!$A:$C,3,FALSE))","v":{"$error":"#N/A"}},{"$f":"IF(A1536=\"\",\"\",VLOOKUP(B1536,#REF!,5,FALSE))","v":{"$error":"#N/A"}},{"$f":"IF(A1536=\"\",\"\",VLOOKUP(C1536,#REF!,5,FALSE))","v":{"$error":"#N/A"}}]
[300646,{"$f":"IF(A1537=\"\",\"\",VLOOKUP(A1537,[1]ItemConfig!$A:$B,2,FALSE))","v":{"$error":"#N/A"}},{"$f":"IF(A1537=\"\",\"\",VLOOKUP(A1537,[1]ItemConfig!$A:$D,4,FALSE))","v":{"$error":"#N/A"}},{"$f":"IF(A1537=\"\",\"\",VLOOKUP(A1537,[1]ItemConfig!$A:$C,3,FALSE))","v":{"$error":"#N/A"}},{"$f":"IF(A1537=\"\",\"\",VLOOKUP(B1537,#REF!,5,FALSE))","v":{"$error":"#N/A"}},{"$f":"IF(A1537=\"\",\"\",VLOOKUP(C1537,#REF!,5,FALSE))","v":{"$error":"#N/A"}}]
[300647,{"$f":"IF(A1538=\"\",\"\",VLOOKUP(A1538,[1]ItemConfig!$A:$B,2,FALSE))","v":{"$error":"#N/A"}},{"$f":"IF(A1538=\"\",\"\",VLOOKUP(A1538,[1]ItemConfig!$A:$D,4,FALSE))","v":{"$error":"#N/A"}},{"$f":"IF(A1538=\"\",\"\",VLOOKUP(A1538,[1]ItemConfig!$A:$C,3,FALSE))","v":{"$error":"#N/A"}},{"$f":"IF(A1538=\"\",\"\",VLOOKUP(B1538,#REF!,5,FALSE))","v":{"$error":"#N/A"}},{"$f":"IF(A1538=\"\",\"\",VLOOKUP(C1538,#REF!,5,FALSE))","v":{"$error":"#N/A"}}]
[300648,{"$f":"IF(A1539=\"\",\"\",VLOOKUP(A1539,[1]ItemConfig!$A:$B,2,FALSE))","v":{"$error":"#N/A"}},{"$f":"IF(A1539=\"\",\"\",VLOOKUP(A1539,[1]ItemConfig!$A:$D,4,FALSE))","v":{"$error":"#N/A"}},{"$f":"IF(A1539=\"\",\"\",VLOOKUP(A1539,[1]ItemConfig!$A:$C,3,FALSE))","v":{"$error":"#N/A"}},{"$f":"IF(A1539=\"\",\"\",VLOOKUP(B1539,#REF!,5,FALSE))","v":{"$error":"#N/A"}},{"$f":"IF(A1539=\"\",\"\",VLOOKUP(C1539,#REF!,5,FALSE))","v":{"$error":"#N/A"}}]
[300649,{"$f":"IF(A1540=\"\",\"\",VLOOKUP(A1540,[1]ItemConfig!$A:$B,2,FALSE))","v":{"$error":"#N/A"}},{"$f":"IF(A1540=\"\",\"\",VLOOKUP(A1540,[1]ItemConfig!$A:$D,4,FALSE))","v":{"$error":"#N/A"}},{"$f":"IF(A1540=\"\",\"\",VLOOKUP(A1540,[1]ItemConfig!$A:$C,3,FALSE))","v":{"$error":"#N/A"}},{"$f":"IF(A1540=\"\",\"\",VLOOKUP(B1540,#REF!,5,FALSE))","v":{"$error":"#N/A"}},{"$f":"IF(A1540=\"\",\"\",VLOOKUP(C1540,#REF!,5,FALSE))","v":{"$error":"#N/A"}}]
[300650,{"$f":"IF(A1541=\"\",\"\",VLOOKUP(A1541,[1]ItemConfig!$A:$B,2,FALSE))","v":{"$error":"#N/A"}},{"$f":"IF(A1541=\"\",\"\",VLOOKUP(A1541,[1]ItemConfig!$A:$D,4,FALSE))","v":{"$error":"#N/A"}},{"$f":"IF(A1541=\"\",\"\",VLOOKUP(A1541,[1]ItemConfig!$A:$C,3,FALSE))","v":{"$error":"#N/A"}},{"$f":"IF(A1541=\"\",\"\",VLOOKUP(B1541,#REF!,5,FALSE))","v":{"$error":"#N/A"}},{"$f":"IF(A1541=\"\",\"\",VLOOKUP(C1541,#REF!,5,FALSE))","v":{"$error":"#N/A"}}]
[300651,{"$f":"IF(A1542=\"\",\"\",VLOOKUP(A1542,[1]ItemConfig!$A:$B,2,FALSE))","v":{"$error":"#N/A"}},{"$f":"IF(A1542=\"\",\"\",VLOOKUP(A1542,[1]ItemConfig!$A:$D,4,FALSE))","v":{"$error":"#N/A"}},{"$f":"IF(A1542=\"\",\"\",VLOOKUP(A1542,[1]ItemConfig!$A:$C,3,FALSE))","v":{"$error":"#N/A"}},{"$f":"IF(A1542=\"\",\"\",VLOOKUP(B1542,#REF!,5,FALSE))","v":{"$error":"#N/A"}},{"$f":"IF(A1542=\"\",\"\",VLOOKUP(C1542,#REF!,5,FALSE))","v":{"$error":"#N/A"}}]
[300652,{"$f":"IF(A1543=\"\",\"\",VLOOKUP(A1543,[1]ItemConfig!$A:$B,2,FALSE))","v":{"$error":"#N/A"}},{"$f":"IF(A1543=\"\",\"\",VLOOKUP(A1543,[1]ItemConfig!$A:$D,4,FALSE))","v":{"$error":"#N/A"}},{"$f":"IF(A1543=\"\",\"\",VLOOKUP(A1543,[1]ItemConfig!$A:$C,3,FALSE))","v":{"$error":"#N/A"}},{"$f":"IF(A1543=\"\",\"\",VLOOKUP(B1543,#REF!,5,FALSE))","v":{"$error":"#N/A"}},{"$f":"IF(A1543=\"\",\"\",VLOOKUP(C1543,#REF!,5,FALSE))","v":{"$error":"#N/A"}}]
[300653,{"$f":"IF(A1544=\"\",\"\",VLOOKUP(A1544,[1]ItemConfig!$A:$B,2,FALSE))","v":{"$error":"#N/A"}},{"$f":"IF(A1544=\"\",\"\",VLOOKUP(A1544,[1]ItemConfig!$A:$D,4,FALSE))","v":{"$error":"#N/A"}},{"$f":"IF(A1544=\"\",\"\",VLOOKUP(A1544,[1]ItemConfig!$A:$C,3,FALSE))","v":{"$error":"#N/A"}},{"$f":"IF(A1544=\"\",\"\",VLOOKUP(B1544,#REF!,5,FALSE))","v":{"$error":"#N/A"}},{"$f":"IF(A1544=\"\",\"\",VLOOKUP(C1544,#REF!,5,FALSE))","v":{"$error":"#N/A"}}]
[300654,{"$f":"IF(A1545=\"\",\"\",VLOOKUP(A1545,[1]ItemConfig!$A:$B,2,FALSE))","v":{"$error":"#N/A"}},{"$f":"IF(A1545=\"\",\"\",VLOOKUP(A1545,[1]ItemConfig!$A:$D,4,FALSE))","v":{"$error":"#N/A"}},{"$f":"IF(A1545=\"\",\"\",VLOOKUP(A1545,[1]ItemConfig!$A:$C,3,FALSE))","v":{"$error":"#N/A"}},{"$f":"IF(A1545=\"\",\"\",VLOOKUP(B1545,#REF!,5,FALSE))","v":{"$error":"#N/A"}},{"$f":"IF(A1545=\"\",\"\",VLOOKUP(C1545,#REF!,5,FALSE))","v":{"$error":"#N/A"}}]
[300655,{"$f":"IF(A1546=\"\",\"\",VLOOKUP(A1546,[1]ItemConfig!$A:$B,2,FALSE))","v":{"$error":"#N/A"}},{"$f":"IF(A1546=\"\",\"\",VLOOKUP(A1546,[1]ItemConfig!$A:$D,4,FALSE))","v":{"$error":"#N/A"}},{"$f":"IF(A1546=\"\",\"\",VLOOKUP(A1546,[1]ItemConfig!$A:$C,3,FALSE))","v":{"$error":"#N/A"}},{"$f":"IF(A1546=\"\",\"\",VLOOKUP(B1546,#REF!,5,FALSE))","v":{"$error":"#N/A"}},{"$f":"IF(A1546=\"\",\"\",VLOOKUP(C1546,#REF!,5,FALSE))","v":{"$error":"#N/A"}}]
[300656,{"$f":"IF(A1547=\"\",\"\",VLOOKUP(A1547,[1]ItemConfig!$A:$B,2,FALSE))","v":{"$error":"#N/A"}},{"$f":"IF(A1547=\"\",\"\",VLOOKUP(A1547,[1]ItemConfig!$A:$D,4,FALSE))","v":{"$error":"#N/A"}},{"$f":"IF(A1547=\"\",\"\",VLOOKUP(A1547,[1]ItemConfig!$A:$C,3,FALSE))","v":{"$error":"#N/A"}},{"$f":"IF(A1547=\"\",\"\",VLOOKUP(B1547,#REF!,5,FALSE))","v":{"$error":"#N/A"}},{"$f":"IF(A1547=\"\",\"\",VLOOKUP(C1547,#REF!,5,FALSE))","v":{"$error":"#N/A"}}]
[300657,{"$f":"IF(A1548=\"\",\"\",VLOOKUP(A1548,[1]ItemConfig!$A:$B,2,FALSE))","v":{"$error":"#N/A"}},{"$f":"IF(A1548=\"\",\"\",VLOOKUP(A1548,[1]ItemConfig!$A:$D,4,FALSE))","v":{"$error":"#N/A"}},{"$f":"IF(A1548=\"\",\"\",VLOOKUP(A1548,[1]ItemConfig!$A:$C,3,FALSE))","v":{"$error":"#N/A"}},{"$f":"IF(A1548=\"\",\"\",VLOOKUP(B1548,#REF!,5,FALSE))","v":{"$error":"#N/A"}},{"$f":"IF(A1548=\"\",\"\",VLOOKUP(C1548,#REF!,5,FALSE))","v":{"$error":"#N/A"}}]
[300658,{"$f":"IF(A1549=\"\",\"\",VLOOKUP(A1549,[1]ItemConfig!$A:$B,2,FALSE))","v":{"$error":"#N/A"}},{"$f":"IF(A1549=\"\",\"\",VLOOKUP(A1549,[1]ItemConfig!$A:$D,4,FALSE))","v":{"$error":"#N/A"}},{"$f":"IF(A1549=\"\",\"\",VLOOKUP(A1549,[1]ItemConfig!$A:$C,3,FALSE))","v":{"$error":"#N/A"}},{"$f":"IF(A1549=\"\",\"\",VLOOKUP(B1549,#REF!,5,FALSE))","v":{"$error":"#N/A"}},{"$f":"IF(A1549=\"\",\"\",VLOOKUP(C1549,#REF!,5,FALSE))","v":{"$error":"#N/A"}}]
[300659,{"$f":"IF(A1550=\"\",\"\",VLOOKUP(A1550,[1]ItemConfig!$A:$B,2,FALSE))","v":{"$error":"#N/A"}},{"$f":"IF(A1550=\"\",\"\",VLOOKUP(A1550,[1]ItemConfig!$A:$D,4,FALSE))","v":{"$error":"#N/A"}},{"$f":"IF(A1550=\"\",\"\",VLOOKUP(A1550,[1]ItemConfig!$A:$C,3,FALSE))","v":{"$error":"#N/A"}},{"$f":"IF(A1550=\"\",\"\",VLOOKUP(B1550,#REF!,5,FALSE))","v":{"$error":"#N/A"}},{"$f":"IF(A1550=\"\",\"\",VLOOKUP(C1550,#REF!,5,FALSE))","v":{"$error":"#N/A"}}]
[300660,{"$f":"IF(A1551=\"\",\"\",VLOOKUP(A1551,[1]ItemConfig!$A:$B,2,FALSE))","v":{"$error":"#N/A"}},{"$f":"IF(A1551=\"\",\"\",VLOOKUP(A1551,[1]ItemConfig!$A:$D,4,FALSE))","v":{"$error":"#N/A"}},{"$f":"IF(A1551=\"\",\"\",VLOOKUP(A1551,[1]ItemConfig!$A:$C,3,FALSE))","v":{"$error":"#N/A"}},{"$f":"IF(A1551=\"\",\"\",VLOOKUP(B1551,#REF!,5,FALSE))","v":{"$error":"#N/A"}},{"$f":"IF(A1551=\"\",\"\",VLOOKUP(C1551,#REF!,5,FALSE))","v":{"$error":"#N/A"}}]
[300661,{"$f":"IF(A1552=\"\",\"\",VLOOKUP(A1552,[1]ItemConfig!$A:$B,2,FALSE))","v":{"$error":"#N/A"}},{"$f":"IF(A1552=\"\",\"\",VLOOKUP(A1552,[1]ItemConfig!$A:$D,4,FALSE))","v":{"$error":"#N/A"}},{"$f":"IF(A1552=\"\",\"\",VLOOKUP(A1552,[1]ItemConfig!$A:$C,3,FALSE))","v":{"$error":"#N/A"}},{"$f":"IF(A1552=\"\",\"\",VLOOKUP(B1552,#REF!,5,FALSE))","v":{"$error":"#N/A"}},{"$f":"IF(A1552=\"\",\"\",VLOOKUP(C1552,#REF!,5,FALSE))","v":{"$error":"#N/A"}}]
[300662,{"$f":"IF(A1553=\"\",\"\",VLOOKUP(A1553,[1]ItemConfig!$A:$B,2,FALSE))","v":{"$error":"#N/A"}},{"$f":"IF(A1553=\"\",\"\",VLOOKUP(A1553,[1]ItemConfig!$A:$D,4,FALSE))","v":{"$error":"#N/A"}},{"$f":"IF(A1553=\"\",\"\",VLOOKUP(A1553,[1]ItemConfig!$A:$C,3,FALSE))","v":{"$error":"#N/A"}},{"$f":"IF(A1553=\"\",\"\",VLOOKUP(B1553,#REF!,5,FALSE))","v":{"$error":"#N/A"}},{"$f":"IF(A1553=\"\",\"\",VLOOKUP(C1553,#REF!,5,FALSE))","v":{"$error":"#N/A"}}]
[300663,{"$f":"IF(A1554=\"\",\"\",VLOOKUP(A1554,[1]ItemConfig!$A:$B,2,FALSE))","v":{"$error":"#N/A"}},{"$f":"IF(A1554=\"\",\"\",VLOOKUP(A1554,[1]ItemConfig!$A:$D,4,FALSE))","v":{"$error":"#N/A"}},{"$f":"IF(A1554=\"\",\"\",VLOOKUP(A1554,[1]ItemConfig!$A:$C,3,FALSE))","v":{"$error":"#N/A"}},{"$f":"IF(A1554=\"\",\"\",VLOOKUP(B1554,#REF!,5,FALSE))","v":{"$error":"#N/A"}},{"$f":"IF(A1554=\"\",\"\",VLOOKUP(C1554,#REF!,5,FALSE))","v":{"$error":"#N/A"}}]
[300664,{"$f":"IF(A1555=\"\",\"\",VLOOKUP(A1555,[1]ItemConfig!$A:$B,2,FALSE))","v":{"$error":"#N/A"}},{"$f":"IF(A1555=\"\",\"\",VLOOKUP(A1555,[1]ItemConfig!$A:$D,4,FALSE))","v":{"$error":"#N/A"}},{"$f":"IF(A1555=\"\",\"\",VLOOKUP(A1555,[1]ItemConfig!$A:$C,3,FALSE))","v":{"$error":"#N/A"}},{"$f":"IF(A1555=\"\",\"\",VLOOKUP(B1555,#REF!,5,FALSE))","v":{"$error":"#N/A"}},{"$f":"IF(A1555=\"\",\"\",VLOOKUP(C1555,#REF!,5,FALSE))","v":{"$error":"#N/A"}}]
[300665,{"$f":"IF(A1556=\"\",\"\",VLOOKUP(A1556,[1]ItemConfig!$A:$B,2,FALSE))","v":{"$error":"#N/A"}},{"$f":"IF(A1556=\"\",\"\",VLOOKUP(A1556,[1]ItemConfig!$A:$D,4,FALSE))","v":{"$error":"#N/A"}},{"$f":"IF(A1556=\"\",\"\",VLOOKUP(A1556,[1]ItemConfig!$A:$C,3,FALSE))","v":{"$error":"#N/A"}},{"$f":"IF(A1556=\"\",\"\",VLOOKUP(B1556,#REF!,5,FALSE))","v":{"$error":"#N/A"}},{"$f":"IF(A1556=\"\",\"\",VLOOKUP(C1556,#REF!,5,FALSE))","v":{"$error":"#N/A"}}]
[300666,{"$f":"IF(A1557=\"\",\"\",VLOOKUP(A1557,[1]ItemConfig!$A:$B,2,FALSE))","v":{"$error":"#N/A"}},{"$f":"IF(A1557=\"\",\"\",VLOOKUP(A1557,[1]ItemConfig!$A:$D,4,FALSE))","v":{"$error":"#N/A"}},{"$f":"IF(A1557=\"\",\"\",VLOOKUP(A1557,[1]ItemConfig!$A:$C,3,FALSE))","v":{"$error":"#N/A"}},{"$f":"IF(A1557=\"\",\"\",VLOOKUP(B1557,#REF!,5,FALSE))","v":{"$error":"#N/A"}},{"$f":"IF(A1557=\"\",\"\",VLOOKUP(C1557,#REF!,5,FALSE))","v":{"$error":"#N/A"}}]
[300667,{"$f":"IF(A1558=\"\",\"\",VLOOKUP(A1558,[1]ItemConfig!$A:$B,2,FALSE))","v":{"$error":"#N/A"}},{"$f":"IF(A1558=\"\",\"\",VLOOKUP(A1558,[1]ItemConfig!$A:$D,4,FALSE))","v":{"$error":"#N/A"}},{"$f":"IF(A1558=\"\",\"\",VLOOKUP(A1558,[1]ItemConfig!$A:$C,3,FALSE))","v":{"$error":"#N/A"}},{"$f":"IF(A1558=\"\",\"\",VLOOKUP(B1558,#REF!,5,FALSE))","v":{"$error":"#N/A"}},{"$f":"IF(A1558=\"\",\"\",VLOOKUP(C1558,#REF!,5,FALSE))","v":{"$error":"#N/A"}}]
[300668,{"$f":"IF(A1559=\"\",\"\",VLOOKUP(A1559,[1]ItemConfig!$A:$B,2,FALSE))","v":{"$error":"#N/A"}},{"$f":"IF(A1559=\"\",\"\",VLOOKUP(A1559,[1]ItemConfig!$A:$D,4,FALSE))","v":{"$error":"#N/A"}},{"$f":"IF(A1559=\"\",\"\",VLOOKUP(A1559,[1]ItemConfig!$A:$C,3,FALSE))","v":{"$error":"#N/A"}},{"$f":"IF(A1559=\"\",\"\",VLOOKUP(B1559,#REF!,5,FALSE))","v":{"$error":"#N/A"}},{"$f":"IF(A1559=\"\",\"\",VLOOKUP(C1559,#REF!,5,FALSE))","v":{"$error":"#N/A"}}]
[300669,{"$f":"IF(A1560=\"\",\"\",VLOOKUP(A1560,[1]ItemConfig!$A:$B,2,FALSE))","v":{"$error":"#N/A"}},{"$f":"IF(A1560=\"\",\"\",VLOOKUP(A1560,[1]ItemConfig!$A:$D,4,FALSE))","v":{"$error":"#N/A"}},{"$f":"IF(A1560=\"\",\"\",VLOOKUP(A1560,[1]ItemConfig!$A:$C,3,FALSE))","v":{"$error":"#N/A"}},{"$f":"IF(A1560=\"\",\"\",VLOOKUP(B1560,#REF!,5,FALSE))","v":{"$error":"#N/A"}},{"$f":"IF(A1560=\"\",\"\",VLOOKUP(C1560,#REF!,5,FALSE))","v":{"$error":"#N/A"}}]
[300670,{"$f":"IF(A1561=\"\",\"\",VLOOKUP(A1561,[1]ItemConfig!$A:$B,2,FALSE))","v":{"$error":"#N/A"}},{"$f":"IF(A1561=\"\",\"\",VLOOKUP(A1561,[1]ItemConfig!$A:$D,4,FALSE))","v":{"$error":"#N/A"}},{"$f":"IF(A1561=\"\",\"\",VLOOKUP(A1561,[1]ItemConfig!$A:$C,3,FALSE))","v":{"$error":"#N/A"}},{"$f":"IF(A1561=\"\",\"\",VLOOKUP(B1561,#REF!,5,FALSE))","v":{"$error":"#N/A"}},{"$f":"IF(A1561=\"\",\"\",VLOOKUP(C1561,#REF!,5,FALSE))","v":{"$error":"#N/A"}}]
[300671,{"$f":"IF(A1562=\"\",\"\",VLOOKUP(A1562,[1]ItemConfig!$A:$B,2,FALSE))","v":{"$error":"#N/A"}},{"$f":"IF(A1562=\"\",\"\",VLOOKUP(A1562,[1]ItemConfig!$A:$D,4,FALSE))","v":{"$error":"#N/A"}},{"$f":"IF(A1562=\"\",\"\",VLOOKUP(A1562,[1]ItemConfig!$A:$C,3,FALSE))","v":{"$error":"#N/A"}},{"$f":"IF(A1562=\"\",\"\",VLOOKUP(B1562,#REF!,5,FALSE))","v":{"$error":"#N/A"}},{"$f":"IF(A1562=\"\",\"\",VLOOKUP(C1562,#REF!,5,FALSE))","v":{"$error":"#N/A"}}]
[300672,{"$f":"IF(A1563=\"\",\"\",VLOOKUP(A1563,[1]ItemConfig!$A:$B,2,FALSE))","v":{"$error":"#N/A"}},{"$f":"IF(A1563=\"\",\"\",VLOOKUP(A1563,[1]ItemConfig!$A:$D,4,FALSE))","v":{"$error":"#N/A"}},{"$f":"IF(A1563=\"\",\"\",VLOOKUP(A1563,[1]ItemConfig!$A:$C,3,FALSE))","v":{"$error":"#N/A"}},{"$f":"IF(A1563=\"\",\"\",VLOOKUP(B1563,#REF!,5,FALSE))","v":{"$error":"#N/A"}},{"$f":"IF(A1563=\"\",\"\",VLOOKUP(C1563,#REF!,5,FALSE))","v":{"$error":"#N/A"}}]
[300673,{"$f":"IF(A1564=\"\",\"\",VLOOKUP(A1564,[1]ItemConfig!$A:$B,2,FALSE))","v":{"$error":"#N/A"}},{"$f":"IF(A1564=\"\",\"\",VLOOKUP(A1564,[1]ItemConfig!$A:$D,4,FALSE))","v":{"$error":"#N/A"}},{"$f":"IF(A1564=\"\",\"\",VLOOKUP(A1564,[1]ItemConfig!$A:$C,3,FALSE))","v":{"$error":"#N/A"}},{"$f":"IF(A1564=\"\",\"\",VLOOKUP(B1564,#REF!,5,FALSE))","v":{"$error":"#N/A"}},{"$f":"IF(A1564=\"\",\"\",VLOOKUP(C1564,#REF!,5,FALSE))","v":{"$error":"#N/A"}}]
[300674,{"$f":"IF(A1565=\"\",\"\",VLOOKUP(A1565,[1]ItemConfig!$A:$B,2,FALSE))","v":{"$error":"#N/A"}},{"$f":"IF(A1565=\"\",\"\",VLOOKUP(A1565,[1]ItemConfig!$A:$D,4,FALSE))","v":{"$error":"#N/A"}},{"$f":"IF(A1565=\"\",\"\",VLOOKUP(A1565,[1]ItemConfig!$A:$C,3,FALSE))","v":{"$error":"#N/A"}},{"$f":"IF(A1565=\"\",\"\",VLOOKUP(B1565,#REF!,5,FALSE))","v":{"$error":"#N/A"}},{"$f":"IF(A1565=\"\",\"\",VLOOKUP(C1565,#REF!,5,FALSE))","v":{"$error":"#N/A"}}]
[300675,{"$f":"IF(A1566=\"\",\"\",VLOOKUP(A1566,[1]ItemConfig!$A:$B,2,FALSE))","v":{"$error":"#N/A"}},{"$f":"IF(A1566=\"\",\"\",VLOOKUP(A1566,[1]ItemConfig!$A:$D,4,FALSE))","v":{"$error":"#N/A"}},{"$f":"IF(A1566=\"\",\"\",VLOOKUP(A1566,[1]ItemConfig!$A:$C,3,FALSE))","v":{"$error":"#N/A"}},{"$f":"IF(A1566=\"\",\"\",VLOOKUP(B1566,#REF!,5,FALSE))","v":{"$error":"#N/A"}},{"$f":"IF(A1566=\"\",\"\",VLOOKUP(C1566,#REF!,5,FALSE))","v":{"$error":"#N/A"}}]
[300676,{"$f":"IF(A1567=\"\",\"\",VLOOKUP(A1567,[1]ItemConfig!$A:$B,2,FALSE))","v":{"$error":"#N/A"}},{"$f":"IF(A1567=\"\",\"\",VLOOKUP(A1567,[1]ItemConfig!$A:$D,4,FALSE))","v":{"$error":"#N/A"}},{"$f":"IF(A1567=\"\",\"\",VLOOKUP(A1567,[1]ItemConfig!$A:$C,3,FALSE))","v":{"$error":"#N/A"}},{"$f":"IF(A1567=\"\",\"\",VLOOKUP(B1567,#REF!,5,FALSE))","v":{"$error":"#N/A"}},{"$f":"IF(A1567=\"\",\"\",VLOOKUP(C1567,#REF!,5,FALSE))","v":{"$error":"#N/A"}}]
[300677,{"$f":"IF(A1568=\"\",\"\",VLOOKUP(A1568,[1]ItemConfig!$A:$B,2,FALSE))","v":{"$error":"#N/A"}},{"$f":"IF(A1568=\"\",\"\",VLOOKUP(A1568,[1]ItemConfig!$A:$D,4,FALSE))","v":{"$error":"#N/A"}},{"$f":"IF(A1568=\"\",\"\",VLOOKUP(A1568,[1]ItemConfig!$A:$C,3,FALSE))","v":{"$error":"#N/A"}},{"$f":"IF(A1568=\"\",\"\",VLOOKUP(B1568,#REF!,5,FALSE))","v":{"$error":"#N/A"}},{"$f":"IF(A1568=\"\",\"\",VLOOKUP(C1568,#REF!,5,FALSE))","v":{"$error":"#N/A"}}]
[300678,{"$f":"IF(A1569=\"\",\"\",VLOOKUP(A1569,[1]ItemConfig!$A:$B,2,FALSE))","v":{"$error":"#N/A"}},{"$f":"IF(A1569=\"\",\"\",VLOOKUP(A1569,[1]ItemConfig!$A:$D,4,FALSE))","v":{"$error":"#N/A"}},{"$f":"IF(A1569=\"\",\"\",VLOOKUP(A1569,[1]ItemConfig!$A:$C,3,FALSE))","v":{"$error":"#N/A"}},{"$f":"IF(A1569=\"\",\"\",VLOOKUP(B1569,#REF!,5,FALSE))","v":{"$error":"#N/A"}},{"$f":"IF(A1569=\"\",\"\",VLOOKUP(C1569,#REF!,5,FALSE))","v":{"$error":"#N/A"}}]
[300679,{"$f":"IF(A1570=\"\",\"\",VLOOKUP(A1570,[1]ItemConfig!$A:$B,2,FALSE))","v":{"$error":"#N/A"}},{"$f":"IF(A1570=\"\",\"\",VLOOKUP(A1570,[1]ItemConfig!$A:$D,4,FALSE))","v":{"$error":"#N/A"}},{"$f":"IF(A1570=\"\",\"\",VLOOKUP(A1570,[1]ItemConfig!$A:$C,3,FALSE))","v":{"$error":"#N/A"}},{"$f":"IF(A1570=\"\",\"\",VLOOKUP(B1570,#REF!,5,FALSE))","v":{"$error":"#N/A"}},{"$f":"IF(A1570=\"\",\"\",VLOOKUP(C1570,#REF!,5,FALSE))","v":{"$error":"#N/A"}}]
[300680,{"$f":"IF(A1571=\"\",\"\",VLOOKUP(A1571,[1]ItemConfig!$A:$B,2,FALSE))","v":{"$error":"#N/A"}},{"$f":"IF(A1571=\"\",\"\",VLOOKUP(A1571,[1]ItemConfig!$A:$D,4,FALSE))","v":{"$error":"#N/A"}},{"$f":"IF(A1571=\"\",\"\",VLOOKUP(A1571,[1]ItemConfig!$A:$C,3,FALSE))","v":{"$error":"#N/A"}},{"$f":"IF(A1571=\"\",\"\",VLOOKUP(B1571,#REF!,5,FALSE))","v":{"$error":"#N/A"}},{"$f":"IF(A1571=\"\",\"\",VLOOKUP(C1571,#REF!,5,FALSE))","v":{"$error":"#N/A"}}]
[300681,{"$f":"IF(A1572=\"\",\"\",VLOOKUP(A1572,[1]ItemConfig!$A:$B,2,FALSE))","v":{"$error":"#N/A"}},{"$f":"IF(A1572=\"\",\"\",VLOOKUP(A1572,[1]ItemConfig!$A:$D,4,FALSE))","v":{"$error":"#N/A"}},{"$f":"IF(A1572=\"\",\"\",VLOOKUP(A1572,[1]ItemConfig!$A:$C,3,FALSE))","v":{"$error":"#N/A"}},{"$f":"IF(A1572=\"\",\"\",VLOOKUP(B1572,#REF!,5,FALSE))","v":{"$error":"#N/A"}},{"$f":"IF(A1572=\"\",\"\",VLOOKUP(C1572,#REF!,5,FALSE))","v":{"$error":"#N/A"}}]
[300682,{"$f":"IF(A1573=\"\",\"\",VLOOKUP(A1573,[1]ItemConfig!$A:$B,2,FALSE))","v":{"$error":"#N/A"}},{"$f":"IF(A1573=\"\",\"\",VLOOKUP(A1573,[1]ItemConfig!$A:$D,4,FALSE))","v":{"$error":"#N/A"}},{"$f":"IF(A1573=\"\",\"\",VLOOKUP(A1573,[1]ItemConfig!$A:$C,3,FALSE))","v":{"$error":"#N/A"}},{"$f":"IF(A1573=\"\",\"\",VLOOKUP(B1573,#REF!,5,FALSE))","v":{"$error":"#N/A"}},{"$f":"IF(A1573=\"\",\"\",VLOOKUP(C1573,#REF!,5,FALSE))","v":{"$error":"#N/A"}}]
[300683,{"$f":"IF(A1574=\"\",\"\",VLOOKUP(A1574,[1]ItemConfig!$A:$B,2,FALSE))","v":{"$error":"#N/A"}},{"$f":"IF(A1574=\"\",\"\",VLOOKUP(A1574,[1]ItemConfig!$A:$D,4,FALSE))","v":{"$error":"#N/A"}},{"$f":"IF(A1574=\"\",\"\",VLOOKUP(A1574,[1]ItemConfig!$A:$C,3,FALSE))","v":{"$error":"#N/A"}},{"$f":"IF(A1574=\"\",\"\",VLOOKUP(B1574,#REF!,5,FALSE))","v":{"$error":"#N/A"}},{"$f":"IF(A1574=\"\",\"\",VLOOKUP(C1574,#REF!,5,FALSE))","v":{"$error":"#N/A"}}]
[300684,{"$f":"IF(A1575=\"\",\"\",VLOOKUP(A1575,[1]ItemConfig!$A:$B,2,FALSE))","v":{"$error":"#N/A"}},{"$f":"IF(A1575=\"\",\"\",VLOOKUP(A1575,[1]ItemConfig!$A:$D,4,FALSE))","v":{"$error":"#N/A"}},{"$f":"IF(A1575=\"\",\"\",VLOOKUP(A1575,[1]ItemConfig!$A:$C,3,FALSE))","v":{"$error":"#N/A"}},{"$f":"IF(A1575=\"\",\"\",VLOOKUP(B1575,#REF!,5,FALSE))","v":{"$error":"#N/A"}},{"$f":"IF(A1575=\"\",\"\",VLOOKUP(C1575,#REF!,5,FALSE))","v":{"$error":"#N/A"}}]
[300685,{"$f":"IF(A1576=\"\",\"\",VLOOKUP(A1576,[1]ItemConfig!$A:$B,2,FALSE))","v":{"$error":"#N/A"}},{"$f":"IF(A1576=\"\",\"\",VLOOKUP(A1576,[1]ItemConfig!$A:$D,4,FALSE))","v":{"$error":"#N/A"}},{"$f":"IF(A1576=\"\",\"\",VLOOKUP(A1576,[1]ItemConfig!$A:$C,3,FALSE))","v":{"$error":"#N/A"}},{"$f":"IF(A1576=\"\",\"\",VLOOKUP(B1576,#REF!,5,FALSE))","v":{"$error":"#N/A"}},{"$f":"IF(A1576=\"\",\"\",VLOOKUP(C1576,#REF!,5,FALSE))","v":{"$error":"#N/A"}}]
[300686,{"$f":"IF(A1577=\"\",\"\",VLOOKUP(A1577,[1]ItemConfig!$A:$B,2,FALSE))","v":{"$error":"#N/A"}},{"$f":"IF(A1577=\"\",\"\",VLOOKUP(A1577,[1]ItemConfig!$A:$D,4,FALSE))","v":{"$error":"#N/A"}},{"$f":"IF(A1577=\"\",\"\",VLOOKUP(A1577,[1]ItemConfig!$A:$C,3,FALSE))","v":{"$error":"#N/A"}},{"$f":"IF(A1577=\"\",\"\",VLOOKUP(B1577,#REF!,5,FALSE))","v":{"$error":"#N/A"}},{"$f":"IF(A1577=\"\",\"\",VLOOKUP(C1577,#REF!,5,FALSE))","v":{"$error":"#N/A"}}]
[300687,{"$f":"IF(A1578=\"\",\"\",VLOOKUP(A1578,[1]ItemConfig!$A:$B,2,FALSE))","v":{"$error":"#N/A"}},{"$f":"IF(A1578=\"\",\"\",VLOOKUP(A1578,[1]ItemConfig!$A:$D,4,FALSE))","v":{"$error":"#N/A"}},{"$f":"IF(A1578=\"\",\"\",VLOOKUP(A1578,[1]ItemConfig!$A:$C,3,FALSE))","v":{"$error":"#N/A"}},{"$f":"IF(A1578=\"\",\"\",VLOOKUP(B1578,#REF!,5,FALSE))","v":{"$error":"#N/A"}},{"$f":"IF(A1578=\"\",\"\",VLOOKUP(C1578,#REF!,5,FALSE))","v":{"$error":"#N/A"}}]
[300688,{"$f":"IF(A1579=\"\",\"\",VLOOKUP(A1579,[1]ItemConfig!$A:$B,2,FALSE))","v":{"$error":"#N/A"}},{"$f":"IF(A1579=\"\",\"\",VLOOKUP(A1579,[1]ItemConfig!$A:$D,4,FALSE))","v":{"$error":"#N/A"}},{"$f":"IF(A1579=\"\",\"\",VLOOKUP(A1579,[1]ItemConfig!$A:$C,3,FALSE))","v":{"$error":"#N/A"}},{"$f":"IF(A1579=\"\",\"\",VLOOKUP(B1579,#REF!,5,FALSE))","v":{"$error":"#N/A"}},{"$f":"IF(A1579=\"\",\"\",VLOOKUP(C1579,#REF!,5,FALSE))","v":{"$error":"#N/A"}}]
[300689,{"$f":"IF(A1580=\"\",\"\",VLOOKUP(A1580,[1]ItemConfig!$A:$B,2,FALSE))","v":{"$error":"#N/A"}},{"$f":"IF(A1580=\"\",\"\",VLOOKUP(A1580,[1]ItemConfig!$A:$D,4,FALSE))","v":{"$error":"#N/A"}},{"$f":"IF(A1580=\"\",\"\",VLOOKUP(A1580,[1]ItemConfig!$A:$C,3,FALSE))","v":{"$error":"#N/A"}},{"$f":"IF(A1580=\"\",\"\",VLOOKUP(B1580,#REF!,5,FALSE))","v":{"$error":"#N/A"}},{"$f":"IF(A1580=\"\",\"\",VLOOKUP(C1580,#REF!,5,FALSE))","v":{"$error":"#N/A"}}]
[300690,{"$f":"IF(A1581=\"\",\"\",VLOOKUP(A1581,[1]ItemConfig!$A:$B,2,FALSE))","v":{"$error":"#N/A"}},{"$f":"IF(A1581=\"\",\"\",VLOOKUP(A1581,[1]ItemConfig!$A:$D,4,FALSE))","v":{"$error":"#N/A"}},{"$f":"IF(A1581=\"\",\"\",VLOOKUP(A1581,[1]ItemConfig!$A:$C,3,FALSE))","v":{"$error":"#N/A"}},{"$f":"IF(A1581=\"\",\"\",VLOOKUP(B1581,#REF!,5,FALSE))","v":{"$error":"#N/A"}},{"$f":"IF(A1581=\"\",\"\",VLOOKUP(C1581,#REF!,5,FALSE))","v":{"$error":"#N/A"}}]
[300691,{"$f":"IF(A1582=\"\",\"\",VLOOKUP(A1582,[1]ItemConfig!$A:$B,2,FALSE))","v":{"$error":"#N/A"}},{"$f":"IF(A1582=\"\",\"\",VLOOKUP(A1582,[1]ItemConfig!$A:$D,4,FALSE))","v":{"$error":"#N/A"}},{"$f":"IF(A1582=\"\",\"\",VLOOKUP(A1582,[1]ItemConfig!$A:$C,3,FALSE))","v":{"$error":"#N/A"}},{"$f":"IF(A1582=\"\",\"\",VLOOKUP(B1582,#REF!,5,FALSE))","v":{"$error":"#N/A"}},{"$f":"IF(A1582=\"\",\"\",VLOOKUP(C1582,#REF!,5,FALSE))","v":{"$error":"#N/A"}}]
[300692,{"$f":"IF(A1583=\"\",\"\",VLOOKUP(A1583,[1]ItemConfig!$A:$B,2,FALSE))","v":{"$error":"#N/A"}},{"$f":"IF(A1583=\"\",\"\",VLOOKUP(A1583,[1]ItemConfig!$A:$D,4,FALSE))","v":{"$error":"#N/A"}},{"$f":"IF(A1583=\"\",\"\",VLOOKUP(A1583,[1]ItemConfig!$A:$C,3,FALSE))","v":{"$error":"#N/A"}},{"$f":"IF(A1583=\"\",\"\",VLOOKUP(B1583,#REF!,5,FALSE))","v":{"$error":"#N/A"}},{"$f":"IF(A1583=\"\",\"\",VLOOKUP(C1583,#REF!,5,FALSE))","v":{"$error":"#N/A"}}]
[300693,{"$f":"IF(A1584=\"\",\"\",VLOOKUP(A1584,[1]ItemConfig!$A:$B,2,FALSE))","v":{"$error":"#N/A"}},{"$f":"IF(A1584=\"\",\"\",VLOOKUP(A1584,[1]ItemConfig!$A:$D,4,FALSE))","v":{"$error":"#N/A"}},{"$f":"IF(A1584=\"\",\"\",VLOOKUP(A1584,[1]ItemConfig!$A:$C,3,FALSE))","v":{"$error":"#N/A"}},{"$f":"IF(A1584=\"\",\"\",VLOOKUP(B1584,#REF!,5,FALSE))","v":{"$error":"#N/A"}},{"$f":"IF(A1584=\"\",\"\",VLOOKUP(C1584,#REF!,5,FALSE))","v":{"$error":"#N/A"}}]
[300694,{"$f":"IF(A1585=\"\",\"\",VLOOKUP(A1585,[1]ItemConfig!$A:$B,2,FALSE))","v":{"$error":"#N/A"}},{"$f":"IF(A1585=\"\",\"\",VLOOKUP(A1585,[1]ItemConfig!$A:$D,4,FALSE))","v":{"$error":"#N/A"}},{"$f":"IF(A1585=\"\",\"\",VLOOKUP(A1585,[1]ItemConfig!$A:$C,3,FALSE))","v":{"$error":"#N/A"}},{"$f":"IF(A1585=\"\",\"\",VLOOKUP(B1585,#REF!,5,FALSE))","v":{"$error":"#N/A"}},{"$f":"IF(A1585=\"\",\"\",VLOOKUP(C1585,#REF!,5,FALSE))","v":{"$error":"#N/A"}}]
[300695,{"$f":"IF(A1586=\"\",\"\",VLOOKUP(A1586,[1]ItemConfig!$A:$B,2,FALSE))","v":{"$error":"#N/A"}},{"$f":"IF(A1586=\"\",\"\",VLOOKUP(A1586,[1]ItemConfig!$A:$D,4,FALSE))","v":{"$error":"#N/A"}},{"$f":"IF(A1586=\"\",\"\",VLOOKUP(A1586,[1]ItemConfig!$A:$C,3,FALSE))","v":{"$error":"#N/A"}},{"$f":"IF(A1586=\"\",\"\",VLOOKUP(B1586,#REF!,5,FALSE))","v":{"$error":"#N/A"}},{"$f":"IF(A1586=\"\",\"\",VLOOKUP(C1586,#REF!,5,FALSE))","v":{"$error":"#N/A"}}]
[300696,{"$f":"IF(A1587=\"\",\"\",VLOOKUP(A1587,[1]ItemConfig!$A:$B,2,FALSE))","v":{"$error":"#N/A"}},{"$f":"IF(A1587=\"\",\"\",VLOOKUP(A1587,[1]ItemConfig!$A:$D,4,FALSE))","v":{"$error":"#N/A"}},{"$f":"IF(A1587=\"\",\"\",VLOOKUP(A1587,[1]ItemConfig!$A:$C,3,FALSE))","v":{"$error":"#N/A"}},{"$f":"IF(A1587=\"\",\"\",VLOOKUP(B1587,#REF!,5,FALSE))","v":{"$error":"#N/A"}},{"$f":"IF(A1587=\"\",\"\",VLOOKUP(C1587,#REF!,5,FALSE))","v":{"$error":"#N/A"}}]
[300697,{"$f":"IF(A1588=\"\",\"\",VLOOKUP(A1588,[1]ItemConfig!$A:$B,2,FALSE))","v":{"$error":"#N/A"}},{"$f":"IF(A1588=\"\",\"\",VLOOKUP(A1588,[1]ItemConfig!$A:$D,4,FALSE))","v":{"$error":"#N/A"}},{"$f":"IF(A1588=\"\",\"\",VLOOKUP(A1588,[1]ItemConfig!$A:$C,3,FALSE))","v":{"$error":"#N/A"}},{"$f":"IF(A1588=\"\",\"\",VLOOKUP(B1588,#REF!,5,FALSE))","v":{"$error":"#N/A"}},{"$f":"IF(A1588=\"\",\"\",VLOOKUP(C1588,#REF!,5,FALSE))","v":{"$error":"#N/A"}}]
[300698,{"$f":"IF(A1589=\"\",\"\",VLOOKUP(A1589,[1]ItemConfig!$A:$B,2,FALSE))","v":{"$error":"#N/A"}},{"$f":"IF(A1589=\"\",\"\",VLOOKUP(A1589,[1]ItemConfig!$A:$D,4,FALSE))","v":{"$error":"#N/A"}},{"$f":"IF(A1589=\"\",\"\",VLOOKUP(A1589,[1]ItemConfig!$A:$C,3,FALSE))","v":{"$error":"#N/A"}},{"$f":"IF(A1589=\"\",\"\",VLOOKUP(B1589,#REF!,5,FALSE))","v":{"$error":"#N/A"}},{"$f":"IF(A1589=\"\",\"\",VLOOKUP(C1589,#REF!,5,FALSE))","v":{"$error":"#N/A"}}]
[300699,{"$f":"IF(A1590=\"\",\"\",VLOOKUP(A1590,[1]ItemConfig!$A:$B,2,FALSE))","v":{"$error":"#N/A"}},{"$f":"IF(A1590=\"\",\"\",VLOOKUP(A1590,[1]ItemConfig!$A:$D,4,FALSE))","v":{"$error":"#N/A"}},{"$f":"IF(A1590=\"\",\"\",VLOOKUP(A1590,[1]ItemConfig!$A:$C,3,FALSE))","v":{"$error":"#N/A"}},{"$f":"IF(A1590=\"\",\"\",VLOOKUP(B1590,#REF!,5,FALSE))","v":{"$error":"#N/A"}},{"$f":"IF(A1590=\"\",\"\",VLOOKUP(C1590,#REF!,5,FALSE))","v":{"$error":"#N/A"}}]
[300700,{"$f":"IF(A1591=\"\",\"\",VLOOKUP(A1591,[1]ItemConfig!$A:$B,2,FALSE))","v":{"$error":"#N/A"}},{"$f":"IF(A1591=\"\",\"\",VLOOKUP(A1591,[1]ItemConfig!$A:$D,4,FALSE))","v":{"$error":"#N/A"}},{"$f":"IF(A1591=\"\",\"\",VLOOKUP(A1591,[1]ItemConfig!$A:$C,3,FALSE))","v":{"$error":"#N/A"}},{"$f":"IF(A1591=\"\",\"\",VLOOKUP(B1591,#REF!,5,FALSE))","v":{"$error":"#N/A"}},{"$f":"IF(A1591=\"\",\"\",VLOOKUP(C1591,#REF!,5,FALSE))","v":{"$error":"#N/A"}}]
[null,{"$f":"IF(A1592=\"\",\"\",VLOOKUP(A1592,[1]ItemConfig!$A:$B,2,FALSE))","v":""},{"$f":"IF(A1592=\"\",\"\",VLOOKUP(A1592,[1]ItemConfig!$A:$D,4,FALSE))","v":""},{"$f":"IF(A1592=\"\",\"\",VLOOKUP(A1592,[1]ItemConfig!$A:$C,3,FALSE))","v":""},{"$f":"IF(A1592=\"\",\"\",VLOOKUP(B1592,#REF!,5,FALSE))","v":""},{"$f":"IF(A1592=\"\",\"\",VLOOKUP(C1592,#REF!,5,FALSE))","v":""}]
[300701,{"$f":"IF(A1593=\"\",\"\",VLOOKUP(A1593,[1]ItemConfig!$A:$B,2,FALSE))","v":{"$error":"#N/A"}},{"$f":"IF(A1593=\"\",\"\",VLOOKUP(A1593,[1]ItemConfig!$A:$D,4,FALSE))","v":{"$error":"#N/A"}},{"$f":"IF(A1593=\"\",\"\",VLOOKUP(A1593,[1]ItemConfig!$A:$C,3,FALSE))","v":{"$error":"#N/A"}},{"$f":"IF(A1593=\"\",\"\",VLOOKUP(B1593,#REF!,5,FALSE))","v":{"$error":"#N/A"}},{"$f":"IF(A1593=\"\",\"\",VLOOKUP(C1593,#REF!,5,FALSE))","v":{"$error":"#N/A"}}]
[300702,{"$f":"IF(A1594=\"\",\"\",VLOOKUP(A1594,[1]ItemConfig!$A:$B,2,FALSE))","v":{"$error":"#N/A"}},{"$f":"IF(A1594=\"\",\"\",VLOOKUP(A1594,[1]ItemConfig!$A:$D,4,FALSE))","v":{"$error":"#N/A"}},{"$f":"IF(A1594=\"\",\"\",VLOOKUP(A1594,[1]ItemConfig!$A:$C,3,FALSE))","v":{"$error":"#N/A"}},{"$f":"IF(A1594=\"\",\"\",VLOOKUP(B1594,#REF!,5,FALSE))","v":{"$error":"#N/A"}},{"$f":"IF(A1594=\"\",\"\",VLOOKUP(C1594,#REF!,5,FALSE))","v":{"$error":"#N/A"}}]
[300703,{"$f":"IF(A1595=\"\",\"\",VLOOKUP(A1595,[1]ItemConfig!$A:$B,2,FALSE))","v":{"$error":"#N/A"}},{"$f":"IF(A1595=\"\",\"\",VLOOKUP(A1595,[1]ItemConfig!$A:$D,4,FALSE))","v":{"$error":"#N/A"}},{"$f":"IF(A1595=\"\",\"\",VLOOKUP(A1595,[1]ItemConfig!$A:$C,3,FALSE))","v":{"$error":"#N/A"}},{"$f":"IF(A1595=\"\",\"\",VLOOKUP(B1595,#REF!,5,FALSE))","v":{"$error":"#N/A"}},{"$f":"IF(A1595=\"\",\"\",VLOOKUP(C1595,#REF!,5,FALSE))","v":{"$error":"#N/A"}}]
[300704,{"$f":"IF(A1596=\"\",\"\",VLOOKUP(A1596,[1]ItemConfig!$A:$B,2,FALSE))","v":{"$error":"#N/A"}},{"$f":"IF(A1596=\"\",\"\",VLOOKUP(A1596,[1]ItemConfig!$A:$D,4,FALSE))","v":{"$error":"#N/A"}},{"$f":"IF(A1596=\"\",\"\",VLOOKUP(A1596,[1]ItemConfig!$A:$C,3,FALSE))","v":{"$error":"#N/A"}},{"$f":"IF(A1596=\"\",\"\",VLOOKUP(B1596,#REF!,5,FALSE))","v":{"$error":"#N/A"}},{"$f":"IF(A1596=\"\",\"\",VLOOKUP(C1596,#REF!,5,FALSE))","v":{"$error":"#N/A"}}]
[300705,{"$f":"IF(A1597=\"\",\"\",VLOOKUP(A1597,[1]ItemConfig!$A:$B,2,FALSE))","v":{"$error":"#N/A"}},{"$f":"IF(A1597=\"\",\"\",VLOOKUP(A1597,[1]ItemConfig!$A:$D,4,FALSE))","v":{"$error":"#N/A"}},{"$f":"IF(A1597=\"\",\"\",VLOOKUP(A1597,[1]ItemConfig!$A:$C,3,FALSE))","v":{"$error":"#N/A"}},{"$f":"IF(A1597=\"\",\"\",VLOOKUP(B1597,#REF!,5,FALSE))","v":{"$error":"#N/A"}},{"$f":"IF(A1597=\"\",\"\",VLOOKUP(C1597,#REF!,5,FALSE))","v":{"$error":"#N/A"}}]
[300706,{"$f":"IF(A1598=\"\",\"\",VLOOKUP(A1598,[1]ItemConfig!$A:$B,2,FALSE))","v":{"$error":"#N/A"}},{"$f":"IF(A1598=\"\",\"\",VLOOKUP(A1598,[1]ItemConfig!$A:$D,4,FALSE))","v":{"$error":"#N/A"}},{"$f":"IF(A1598=\"\",\"\",VLOOKUP(A1598,[1]ItemConfig!$A:$C,3,FALSE))","v":{"$error":"#N/A"}},{"$f":"IF(A1598=\"\",\"\",VLOOKUP(B1598,#REF!,5,FALSE))","v":{"$error":"#N/A"}},{"$f":"IF(A1598=\"\",\"\",VLOOKUP(C1598,#REF!,5,FALSE))","v":{"$error":"#N/A"}}]
[300707,{"$f":"IF(A1599=\"\",\"\",VLOOKUP(A1599,[1]ItemConfig!$A:$B,2,FALSE))","v":{"$error":"#N/A"}},{"$f":"IF(A1599=\"\",\"\",VLOOKUP(A1599,[1]ItemConfig!$A:$D,4,FALSE))","v":{"$error":"#N/A"}},{"$f":"IF(A1599=\"\",\"\",VLOOKUP(A1599,[1]ItemConfig!$A:$C,3,FALSE))","v":{"$error":"#N/A"}},{"$f":"IF(A1599=\"\",\"\",VLOOKUP(B1599,#REF!,5,FALSE))","v":{"$error":"#N/A"}},{"$f":"IF(A1599=\"\",\"\",VLOOKUP(C1599,#REF!,5,FALSE))","v":{"$error":"#N/A"}}]
[300708,{"$f":"IF(A1600=\"\",\"\",VLOOKUP(A1600,[1]ItemConfig!$A:$B,2,FALSE))","v":{"$error":"#N/A"}},{"$f":"IF(A1600=\"\",\"\",VLOOKUP(A1600,[1]ItemConfig!$A:$D,4,FALSE))","v":{"$error":"#N/A"}},{"$f":"IF(A1600=\"\",\"\",VLOOKUP(A1600,[1]ItemConfig!$A:$C,3,FALSE))","v":{"$error":"#N/A"}},{"$f":"IF(A1600=\"\",\"\",VLOOKUP(B1600,#REF!,5,FALSE))","v":{"$error":"#N/A"}},{"$f":"IF(A1600=\"\",\"\",VLOOKUP(C1600,#REF!,5,FALSE))","v":{"$error":"#N/A"}}]
[300709,{"$f":"IF(A1601=\"\",\"\",VLOOKUP(A1601,[1]ItemConfig!$A:$B,2,FALSE))","v":{"$error":"#N/A"}},{"$f":"IF(A1601=\"\",\"\",VLOOKUP(A1601,[1]ItemConfig!$A:$D,4,FALSE))","v":{"$error":"#N/A"}},{"$f":"IF(A1601=\"\",\"\",VLOOKUP(A1601,[1]ItemConfig!$A:$C,3,FALSE))","v":{"$error":"#N/A"}},{"$f":"IF(A1601=\"\",\"\",VLOOKUP(B1601,#REF!,5,FALSE))","v":{"$error":"#N/A"}},{"$f":"IF(A1601=\"\",\"\",VLOOKUP(C1601,#REF!,5,FALSE))","v":{"$error":"#N/A"}}]
[300710,{"$f":"IF(A1602=\"\",\"\",VLOOKUP(A1602,[1]ItemConfig!$A:$B,2,FALSE))","v":{"$error":"#N/A"}},{"$f":"IF(A1602=\"\",\"\",VLOOKUP(A1602,[1]ItemConfig!$A:$D,4,FALSE))","v":{"$error":"#N/A"}},{"$f":"IF(A1602=\"\",\"\",VLOOKUP(A1602,[1]ItemConfig!$A:$C,3,FALSE))","v":{"$error":"#N/A"}},{"$f":"IF(A1602=\"\",\"\",VLOOKUP(B1602,#REF!,5,FALSE))","v":{"$error":"#N/A"}},{"$f":"IF(A1602=\"\",\"\",VLOOKUP(C1602,#REF!,5,FALSE))","v":{"$error":"#N/A"}}]
[300711,{"$f":"IF(A1603=\"\",\"\",VLOOKUP(A1603,[1]ItemConfig!$A:$B,2,FALSE))","v":{"$error":"#N/A"}},{"$f":"IF(A1603=\"\",\"\",VLOOKUP(A1603,[1]ItemConfig!$A:$D,4,FALSE))","v":{"$error":"#N/A"}},{"$f":"IF(A1603=\"\",\"\",VLOOKUP(A1603,[1]ItemConfig!$A:$C,3,FALSE))","v":{"$error":"#N/A"}},{"$f":"IF(A1603=\"\",\"\",VLOOKUP(B1603,#REF!,5,FALSE))","v":{"$error":"#N/A"}},{"$f":"IF(A1603=\"\",\"\",VLOOKUP(C1603,#REF!,5,FALSE))","v":{"$error":"#N/A"}}]
[300712,{"$f":"IF(A1604=\"\",\"\",VLOOKUP(A1604,[1]ItemConfig!$A:$B,2,FALSE))","v":{"$error":"#N/A"}},{"$f":"IF(A1604=\"\",\"\",VLOOKUP(A1604,[1]ItemConfig!$A:$D,4,FALSE))","v":{"$error":"#N/A"}},{"$f":"IF(A1604=\"\",\"\",VLOOKUP(A1604,[1]ItemConfig!$A:$C,3,FALSE))","v":{"$error":"#N/A"}},{"$f":"IF(A1604=\"\",\"\",VLOOKUP(B1604,#REF!,5,FALSE))","v":{"$error":"#N/A"}},{"$f":"IF(A1604=\"\",\"\",VLOOKUP(C1604,#REF!,5,FALSE))","v":{"$error":"#N/A"}}]
[300713,{"$f":"IF(A1605=\"\",\"\",VLOOKUP(A1605,[1]ItemConfig!$A:$B,2,FALSE))","v":{"$error":"#N/A"}},{"$f":"IF(A1605=\"\",\"\",VLOOKUP(A1605,[1]ItemConfig!$A:$D,4,FALSE))","v":{"$error":"#N/A"}},{"$f":"IF(A1605=\"\",\"\",VLOOKUP(A1605,[1]ItemConfig!$A:$C,3,FALSE))","v":{"$error":"#N/A"}},{"$f":"IF(A1605=\"\",\"\",VLOOKUP(B1605,#REF!,5,FALSE))","v":{"$error":"#N/A"}},{"$f":"IF(A1605=\"\",\"\",VLOOKUP(C1605,#REF!,5,FALSE))","v":{"$error":"#N/A"}}]
[300714,{"$f":"IF(A1606=\"\",\"\",VLOOKUP(A1606,[1]ItemConfig!$A:$B,2,FALSE))","v":{"$error":"#N/A"}},{"$f":"IF(A1606=\"\",\"\",VLOOKUP(A1606,[1]ItemConfig!$A:$D,4,FALSE))","v":{"$error":"#N/A"}},{"$f":"IF(A1606=\"\",\"\",VLOOKUP(A1606,[1]ItemConfig!$A:$C,3,FALSE))","v":{"$error":"#N/A"}},{"$f":"IF(A1606=\"\",\"\",VLOOKUP(B1606,#REF!,5,FALSE))","v":{"$error":"#N/A"}},{"$f":"IF(A1606=\"\",\"\",VLOOKUP(C1606,#REF!,5,FALSE))","v":{"$error":"#N/A"}}]
[300715,{"$f":"IF(A1607=\"\",\"\",VLOOKUP(A1607,[1]ItemConfig!$A:$B,2,FALSE))","v":{"$error":"#N/A"}},{"$f":"IF(A1607=\"\",\"\",VLOOKUP(A1607,[1]ItemConfig!$A:$D,4,FALSE))","v":{"$error":"#N/A"}},{"$f":"IF(A1607=\"\",\"\",VLOOKUP(A1607,[1]ItemConfig!$A:$C,3,FALSE))","v":{"$error":"#N/A"}},{"$f":"IF(A1607=\"\",\"\",VLOOKUP(B1607,#REF!,5,FALSE))","v":{"$error":"#N/A"}},{"$f":"IF(A1607=\"\",\"\",VLOOKUP(C1607,#REF!,5,FALSE))","v":{"$error":"#N/A"}}]
[300716,{"$f":"IF(A1608=\"\",\"\",VLOOKUP(A1608,[1]ItemConfig!$A:$B,2,FALSE))","v":{"$error":"#N/A"}},{"$f":"IF(A1608=\"\",\"\",VLOOKUP(A1608,[1]ItemConfig!$A:$D,4,FALSE))","v":{"$error":"#N/A"}},{"$f":"IF(A1608=\"\",\"\",VLOOKUP(A1608,[1]ItemConfig!$A:$C,3,FALSE))","v":{"$error":"#N/A"}},{"$f":"IF(A1608=\"\",\"\",VLOOKUP(B1608,#REF!,5,FALSE))","v":{"$error":"#N/A"}},{"$f":"IF(A1608=\"\",\"\",VLOOKUP(C1608,#REF!,5,FALSE))","v":{"$error":"#N/A"}}]
[300717,{"$f":"IF(A1609=\"\",\"\",VLOOKUP(A1609,[1]ItemConfig!$A:$B,2,FALSE))","v":{"$error":"#N/A"}},{"$f":"IF(A1609=\"\",\"\",VLOOKUP(A1609,[1]ItemConfig!$A:$D,4,FALSE))","v":{"$error":"#N/A"}},{"$f":"IF(A1609=\"\",\"\",VLOOKUP(A1609,[1]ItemConfig!$A:$C,3,FALSE))","v":{"$error":"#N/A"}},{"$f":"IF(A1609=\"\",\"\",VLOOKUP(B1609,#REF!,5,FALSE))","v":{"$error":"#N/A"}},{"$f":"IF(A1609=\"\",\"\",VLOOKUP(C1609,#REF!,5,FALSE))","v":{"$error":"#N/A"}}]
[300718,{"$f":"IF(A1610=\"\",\"\",VLOOKUP(A1610,[1]ItemConfig!$A:$B,2,FALSE))","v":{"$error":"#N/A"}},{"$f":"IF(A1610=\"\",\"\",VLOOKUP(A1610,[1]ItemConfig!$A:$D,4,FALSE))","v":{"$error":"#N/A"}},{"$f":"IF(A1610=\"\",\"\",VLOOKUP(A1610,[1]ItemConfig!$A:$C,3,FALSE))","v":{"$error":"#N/A"}},{"$f":"IF(A1610=\"\",\"\",VLOOKUP(B1610,#REF!,5,FALSE))","v":{"$error":"#N/A"}},{"$f":"IF(A1610=\"\",\"\",VLOOKUP(C1610,#REF!,5,FALSE))","v":{"$error":"#N/A"}}]
[300719,{"$f":"IF(A1611=\"\",\"\",VLOOKUP(A1611,[1]ItemConfig!$A:$B,2,FALSE))","v":{"$error":"#N/A"}},{"$f":"IF(A1611=\"\",\"\",VLOOKUP(A1611,[1]ItemConfig!$A:$D,4,FALSE))","v":{"$error":"#N/A"}},{"$f":"IF(A1611=\"\",\"\",VLOOKUP(A1611,[1]ItemConfig!$A:$C,3,FALSE))","v":{"$error":"#N/A"}},{"$f":"IF(A1611=\"\",\"\",VLOOKUP(B1611,#REF!,5,FALSE))","v":{"$error":"#N/A"}},{"$f":"IF(A1611=\"\",\"\",VLOOKUP(C1611,#REF!,5,FALSE))","v":{"$error":"#N/A"}}]
[300720,{"$f":"IF(A1612=\"\",\"\",VLOOKUP(A1612,[1]ItemConfig!$A:$B,2,FALSE))","v":{"$error":"#N/A"}},{"$f":"IF(A1612=\"\",\"\",VLOOKUP(A1612,[1]ItemConfig!$A:$D,4,FALSE))","v":{"$error":"#N/A"}},{"$f":"IF(A1612=\"\",\"\",VLOOKUP(A1612,[1]ItemConfig!$A:$C,3,FALSE))","v":{"$error":"#N/A"}},{"$f":"IF(A1612=\"\",\"\",VLOOKUP(B1612,#REF!,5,FALSE))","v":{"$error":"#N/A"}},{"$f":"IF(A1612=\"\",\"\",VLOOKUP(C1612,#REF!,5,FALSE))","v":{"$error":"#N/A"}}]
[300721,{"$f":"IF(A1613=\"\",\"\",VLOOKUP(A1613,[1]ItemConfig!$A:$B,2,FALSE))","v":{"$error":"#N/A"}},{"$f":"IF(A1613=\"\",\"\",VLOOKUP(A1613,[1]ItemConfig!$A:$D,4,FALSE))","v":{"$error":"#N/A"}},{"$f":"IF(A1613=\"\",\"\",VLOOKUP(A1613,[1]ItemConfig!$A:$C,3,FALSE))","v":{"$error":"#N/A"}},{"$f":"IF(A1613=\"\",\"\",VLOOKUP(B1613,#REF!,5,FALSE))","v":{"$error":"#N/A"}},{"$f":"IF(A1613=\"\",\"\",VLOOKUP(C1613,#REF!,5,FALSE))","v":{"$error":"#N/A"}}]
[300722,{"$f":"IF(A1614=\"\",\"\",VLOOKUP(A1614,[1]ItemConfig!$A:$B,2,FALSE))","v":{"$error":"#N/A"}},{"$f":"IF(A1614=\"\",\"\",VLOOKUP(A1614,[1]ItemConfig!$A:$D,4,FALSE))","v":{"$error":"#N/A"}},{"$f":"IF(A1614=\"\",\"\",VLOOKUP(A1614,[1]ItemConfig!$A:$C,3,FALSE))","v":{"$error":"#N/A"}},{"$f":"IF(A1614=\"\",\"\",VLOOKUP(B1614,#REF!,5,FALSE))","v":{"$error":"#N/A"}},{"$f":"IF(A1614=\"\",\"\",VLOOKUP(C1614,#REF!,5,FALSE))","v":{"$error":"#N/A"}}]
[300723,{"$f":"IF(A1615=\"\",\"\",VLOOKUP(A1615,[1]ItemConfig!$A:$B,2,FALSE))","v":{"$error":"#N/A"}},{"$f":"IF(A1615=\"\",\"\",VLOOKUP(A1615,[1]ItemConfig!$A:$D,4,FALSE))","v":{"$error":"#N/A"}},{"$f":"IF(A1615=\"\",\"\",VLOOKUP(A1615,[1]ItemConfig!$A:$C,3,FALSE))","v":{"$error":"#N/A"}},{"$f":"IF(A1615=\"\",\"\",VLOOKUP(B1615,#REF!,5,FALSE))","v":{"$error":"#N/A"}},{"$f":"IF(A1615=\"\",\"\",VLOOKUP(C1615,#REF!,5,FALSE))","v":{"$error":"#N/A"}}]
[300724,{"$f":"IF(A1616=\"\",\"\",VLOOKUP(A1616,[1]ItemConfig!$A:$B,2,FALSE))","v":{"$error":"#N/A"}},{"$f":"IF(A1616=\"\",\"\",VLOOKUP(A1616,[1]ItemConfig!$A:$D,4,FALSE))","v":{"$error":"#N/A"}},{"$f":"IF(A1616=\"\",\"\",VLOOKUP(A1616,[1]ItemConfig!$A:$C,3,FALSE))","v":{"$error":"#N/A"}},{"$f":"IF(A1616=\"\",\"\",VLOOKUP(B1616,#REF!,5,FALSE))","v":{"$error":"#N/A"}},{"$f":"IF(A1616=\"\",\"\",VLOOKUP(C1616,#REF!,5,FALSE))","v":{"$error":"#N/A"}}]
[300725,{"$f":"IF(A1617=\"\",\"\",VLOOKUP(A1617,[1]ItemConfig!$A:$B,2,FALSE))","v":{"$error":"#N/A"}},{"$f":"IF(A1617=\"\",\"\",VLOOKUP(A1617,[1]ItemConfig!$A:$D,4,FALSE))","v":{"$error":"#N/A"}},{"$f":"IF(A1617=\"\",\"\",VLOOKUP(A1617,[1]ItemConfig!$A:$C,3,FALSE))","v":{"$error":"#N/A"}},{"$f":"IF(A1617=\"\",\"\",VLOOKUP(B1617,#REF!,5,FALSE))","v":{"$error":"#N/A"}},{"$f":"IF(A1617=\"\",\"\",VLOOKUP(C1617,#REF!,5,FALSE))","v":{"$error":"#N/A"}}]
[300726,{"$f":"IF(A1618=\"\",\"\",VLOOKUP(A1618,[1]ItemConfig!$A:$B,2,FALSE))","v":{"$error":"#N/A"}},{"$f":"IF(A1618=\"\",\"\",VLOOKUP(A1618,[1]ItemConfig!$A:$D,4,FALSE))","v":{"$error":"#N/A"}},{"$f":"IF(A1618=\"\",\"\",VLOOKUP(A1618,[1]ItemConfig!$A:$C,3,FALSE))","v":{"$error":"#N/A"}},{"$f":"IF(A1618=\"\",\"\",VLOOKUP(B1618,#REF!,5,FALSE))","v":{"$error":"#N/A"}},{"$f":"IF(A1618=\"\",\"\",VLOOKUP(C1618,#REF!,5,FALSE))","v":{"$error":"#N/A"}}]
[300727,{"$f":"IF(A1619=\"\",\"\",VLOOKUP(A1619,[1]ItemConfig!$A:$B,2,FALSE))","v":{"$error":"#N/A"}},{"$f":"IF(A1619=\"\",\"\",VLOOKUP(A1619,[1]ItemConfig!$A:$D,4,FALSE))","v":{"$error":"#N/A"}},{"$f":"IF(A1619=\"\",\"\",VLOOKUP(A1619,[1]ItemConfig!$A:$C,3,FALSE))","v":{"$error":"#N/A"}},{"$f":"IF(A1619=\"\",\"\",VLOOKUP(B1619,#REF!,5,FALSE))","v":{"$error":"#N/A"}},{"$f":"IF(A1619=\"\",\"\",VLOOKUP(C1619,#REF!,5,FALSE))","v":{"$error":"#N/A"}}]
[300728,{"$f":"IF(A1620=\"\",\"\",VLOOKUP(A1620,[1]ItemConfig!$A:$B,2,FALSE))","v":{"$error":"#N/A"}},{"$f":"IF(A1620=\"\",\"\",VLOOKUP(A1620,[1]ItemConfig!$A:$D,4,FALSE))","v":{"$error":"#N/A"}},{"$f":"IF(A1620=\"\",\"\",VLOOKUP(A1620,[1]ItemConfig!$A:$C,3,FALSE))","v":{"$error":"#N/A"}},{"$f":"IF(A1620=\"\",\"\",VLOOKUP(B1620,#REF!,5,FALSE))","v":{"$error":"#N/A"}},{"$f":"IF(A1620=\"\",\"\",VLOOKUP(C1620,#REF!,5,FALSE))","v":{"$error":"#N/A"}}]
[300729,{"$f":"IF(A1621=\"\",\"\",VLOOKUP(A1621,[1]ItemConfig!$A:$B,2,FALSE))","v":{"$error":"#N/A"}},{"$f":"IF(A1621=\"\",\"\",VLOOKUP(A1621,[1]ItemConfig!$A:$D,4,FALSE))","v":{"$error":"#N/A"}},{"$f":"IF(A1621=\"\",\"\",VLOOKUP(A1621,[1]ItemConfig!$A:$C,3,FALSE))","v":{"$error":"#N/A"}},{"$f":"IF(A1621=\"\",\"\",VLOOKUP(B1621,#REF!,5,FALSE))","v":{"$error":"#N/A"}},{"$f":"IF(A1621=\"\",\"\",VLOOKUP(C1621,#REF!,5,FALSE))","v":{"$error":"#N/A"}}]
[300730,{"$f":"IF(A1622=\"\",\"\",VLOOKUP(A1622,[1]ItemConfig!$A:$B,2,FALSE))","v":{"$error":"#N/A"}},{"$f":"IF(A1622=\"\",\"\",VLOOKUP(A1622,[1]ItemConfig!$A:$D,4,FALSE))","v":{"$error":"#N/A"}},{"$f":"IF(A1622=\"\",\"\",VLOOKUP(A1622,[1]ItemConfig!$A:$C,3,FALSE))","v":{"$error":"#N/A"}},{"$f":"IF(A1622=\"\",\"\",VLOOKUP(B1622,#REF!,5,FALSE))","v":{"$error":"#N/A"}},{"$f":"IF(A1622=\"\",\"\",VLOOKUP(C1622,#REF!,5,FALSE))","v":{"$error":"#N/A"}}]
[300731,{"$f":"IF(A1623=\"\",\"\",VLOOKUP(A1623,[1]ItemConfig!$A:$B,2,FALSE))","v":{"$error":"#N/A"}},{"$f":"IF(A1623=\"\",\"\",VLOOKUP(A1623,[1]ItemConfig!$A:$D,4,FALSE))","v":{"$error":"#N/A"}},{"$f":"IF(A1623=\"\",\"\",VLOOKUP(A1623,[1]ItemConfig!$A:$C,3,FALSE))","v":{"$error":"#N/A"}},{"$f":"IF(A1623=\"\",\"\",VLOOKUP(B1623,#REF!,5,FALSE))","v":{"$error":"#N/A"}},{"$f":"IF(A1623=\"\",\"\",VLOOKUP(C1623,#REF!,5,FALSE))","v":{"$error":"#N/A"}}]
[300732,{"$f":"IF(A1624=\"\",\"\",VLOOKUP(A1624,[1]ItemConfig!$A:$B,2,FALSE))","v":{"$error":"#N/A"}},{"$f":"IF(A1624=\"\",\"\",VLOOKUP(A1624,[1]ItemConfig!$A:$D,4,FALSE))","v":{"$error":"#N/A"}},{"$f":"IF(A1624=\"\",\"\",VLOOKUP(A1624,[1]ItemConfig!$A:$C,3,FALSE))","v":{"$error":"#N/A"}},{"$f":"IF(A1624=\"\",\"\",VLOOKUP(B1624,#REF!,5,FALSE))","v":{"$error":"#N/A"}},{"$f":"IF(A1624=\"\",\"\",VLOOKUP(C1624,#REF!,5,FALSE))","v":{"$error":"#N/A"}}]
[300733,{"$f":"IF(A1625=\"\",\"\",VLOOKUP(A1625,[1]ItemConfig!$A:$B,2,FALSE))","v":{"$error":"#N/A"}},{"$f":"IF(A1625=\"\",\"\",VLOOKUP(A1625,[1]ItemConfig!$A:$D,4,FALSE))","v":{"$error":"#N/A"}},{"$f":"IF(A1625=\"\",\"\",VLOOKUP(A1625,[1]ItemConfig!$A:$C,3,FALSE))","v":{"$error":"#N/A"}},{"$f":"IF(A1625=\"\",\"\",VLOOKUP(B1625,#REF!,5,FALSE))","v":{"$error":"#N/A"}},{"$f":"IF(A1625=\"\",\"\",VLOOKUP(C1625,#REF!,5,FALSE))","v":{"$error":"#N/A"}}]
[300734,{"$f":"IF(A1626=\"\",\"\",VLOOKUP(A1626,[1]ItemConfig!$A:$B,2,FALSE))","v":{"$error":"#N/A"}},{"$f":"IF(A1626=\"\",\"\",VLOOKUP(A1626,[1]ItemConfig!$A:$D,4,FALSE))","v":{"$error":"#N/A"}},{"$f":"IF(A1626=\"\",\"\",VLOOKUP(A1626,[1]ItemConfig!$A:$C,3,FALSE))","v":{"$error":"#N/A"}},{"$f":"IF(A1626=\"\",\"\",VLOOKUP(B1626,#REF!,5,FALSE))","v":{"$error":"#N/A"}},{"$f":"IF(A1626=\"\",\"\",VLOOKUP(C1626,#REF!,5,FALSE))","v":{"$error":"#N/A"}}]
[300735,{"$f":"IF(A1627=\"\",\"\",VLOOKUP(A1627,[1]ItemConfig!$A:$B,2,FALSE))","v":{"$error":"#N/A"}},{"$f":"IF(A1627=\"\",\"\",VLOOKUP(A1627,[1]ItemConfig!$A:$D,4,FALSE))","v":{"$error":"#N/A"}},{"$f":"IF(A1627=\"\",\"\",VLOOKUP(A1627,[1]ItemConfig!$A:$C,3,FALSE))","v":{"$error":"#N/A"}},{"$f":"IF(A1627=\"\",\"\",VLOOKUP(B1627,#REF!,5,FALSE))","v":{"$error":"#N/A"}},{"$f":"IF(A1627=\"\",\"\",VLOOKUP(C1627,#REF!,5,FALSE))","v":{"$error":"#N/A"}}]
[300736,{"$f":"IF(A1628=\"\",\"\",VLOOKUP(A1628,[1]ItemConfig!$A:$B,2,FALSE))","v":{"$error":"#N/A"}},{"$f":"IF(A1628=\"\",\"\",VLOOKUP(A1628,[1]ItemConfig!$A:$D,4,FALSE))","v":{"$error":"#N/A"}},{"$f":"IF(A1628=\"\",\"\",VLOOKUP(A1628,[1]ItemConfig!$A:$C,3,FALSE))","v":{"$error":"#N/A"}},{"$f":"IF(A1628=\"\",\"\",VLOOKUP(B1628,#REF!,5,FALSE))","v":{"$error":"#N/A"}},{"$f":"IF(A1628=\"\",\"\",VLOOKUP(C1628,#REF!,5,FALSE))","v":{"$error":"#N/A"}}]
[300737,{"$f":"IF(A1629=\"\",\"\",VLOOKUP(A1629,[1]ItemConfig!$A:$B,2,FALSE))","v":{"$error":"#N/A"}},{"$f":"IF(A1629=\"\",\"\",VLOOKUP(A1629,[1]ItemConfig!$A:$D,4,FALSE))","v":{"$error":"#N/A"}},{"$f":"IF(A1629=\"\",\"\",VLOOKUP(A1629,[1]ItemConfig!$A:$C,3,FALSE))","v":{"$error":"#N/A"}},{"$f":"IF(A1629=\"\",\"\",VLOOKUP(B1629,#REF!,5,FALSE))","v":{"$error":"#N/A"}},{"$f":"IF(A1629=\"\",\"\",VLOOKUP(C1629,#REF!,5,FALSE))","v":{"$error":"#N/A"}}]
[300738,{"$f":"IF(A1630=\"\",\"\",VLOOKUP(A1630,[1]ItemConfig!$A:$B,2,FALSE))","v":{"$error":"#N/A"}},{"$f":"IF(A1630=\"\",\"\",VLOOKUP(A1630,[1]ItemConfig!$A:$D,4,FALSE))","v":{"$error":"#N/A"}},{"$f":"IF(A1630=\"\",\"\",VLOOKUP(A1630,[1]ItemConfig!$A:$C,3,FALSE))","v":{"$error":"#N/A"}},{"$f":"IF(A1630=\"\",\"\",VLOOKUP(B1630,#REF!,5,FALSE))","v":{"$error":"#N/A"}},{"$f":"IF(A1630=\"\",\"\",VLOOKUP(C1630,#REF!,5,FALSE))","v":{"$error":"#N/A"}}]
[300739,{"$f":"IF(A1631=\"\",\"\",VLOOKUP(A1631,[1]ItemConfig!$A:$B,2,FALSE))","v":{"$error":"#N/A"}},{"$f":"IF(A1631=\"\",\"\",VLOOKUP(A1631,[1]ItemConfig!$A:$D,4,FALSE))","v":{"$error":"#N/A"}},{"$f":"IF(A1631=\"\",\"\",VLOOKUP(A1631,[1]ItemConfig!$A:$C,3,FALSE))","v":{"$error":"#N/A"}},{"$f":"IF(A1631=\"\",\"\",VLOOKUP(B1631,#REF!,5,FALSE))","v":{"$error":"#N/A"}},{"$f":"IF(A1631=\"\",\"\",VLOOKUP(C1631,#REF!,5,FALSE))","v":{"$error":"#N/A"}}]
[300740,{"$f":"IF(A1632=\"\",\"\",VLOOKUP(A1632,[1]ItemConfig!$A:$B,2,FALSE))","v":{"$error":"#N/A"}},{"$f":"IF(A1632=\"\",\"\",VLOOKUP(A1632,[1]ItemConfig!$A:$D,4,FALSE))","v":{"$error":"#N/A"}},{"$f":"IF(A1632=\"\",\"\",VLOOKUP(A1632,[1]ItemConfig!$A:$C,3,FALSE))","v":{"$error":"#N/A"}},{"$f":"IF(A1632=\"\",\"\",VLOOKUP(B1632,#REF!,5,FALSE))","v":{"$error":"#N/A"}},{"$f":"IF(A1632=\"\",\"\",VLOOKUP(C1632,#REF!,5,FALSE))","v":{"$error":"#N/A"}}]
[300741,{"$f":"IF(A1633=\"\",\"\",VLOOKUP(A1633,[1]ItemConfig!$A:$B,2,FALSE))","v":{"$error":"#N/A"}},{"$f":"IF(A1633=\"\",\"\",VLOOKUP(A1633,[1]ItemConfig!$A:$D,4,FALSE))","v":{"$error":"#N/A"}},{"$f":"IF(A1633=\"\",\"\",VLOOKUP(A1633,[1]ItemConfig!$A:$C,3,FALSE))","v":{"$error":"#N/A"}},{"$f":"IF(A1633=\"\",\"\",VLOOKUP(B1633,#REF!,5,FALSE))","v":{"$error":"#N/A"}},{"$f":"IF(A1633=\"\",\"\",VLOOKUP(C1633,#REF!,5,FALSE))","v":{"$error":"#N/A"}}]
[300742,{"$f":"IF(A1634=\"\",\"\",VLOOKUP(A1634,[1]ItemConfig!$A:$B,2,FALSE))","v":{"$error":"#N/A"}},{"$f":"IF(A1634=\"\",\"\",VLOOKUP(A1634,[1]ItemConfig!$A:$D,4,FALSE))","v":{"$error":"#N/A"}},{"$f":"IF(A1634=\"\",\"\",VLOOKUP(A1634,[1]ItemConfig!$A:$C,3,FALSE))","v":{"$error":"#N/A"}},{"$f":"IF(A1634=\"\",\"\",VLOOKUP(B1634,#REF!,5,FALSE))","v":{"$error":"#N/A"}},{"$f":"IF(A1634=\"\",\"\",VLOOKUP(C1634,#REF!,5,FALSE))","v":{"$error":"#N/A"}}]
[300743,{"$f":"IF(A1635=\"\",\"\",VLOOKUP(A1635,[1]ItemConfig!$A:$B,2,FALSE))","v":{"$error":"#N/A"}},{"$f":"IF(A1635=\"\",\"\",VLOOKUP(A1635,[1]ItemConfig!$A:$D,4,FALSE))","v":{"$error":"#N/A"}},{"$f":"IF(A1635=\"\",\"\",VLOOKUP(A1635,[1]ItemConfig!$A:$C,3,FALSE))","v":{"$error":"#N/A"}},{"$f":"IF(A1635=\"\",\"\",VLOOKUP(B1635,#REF!,5,FALSE))","v":{"$error":"#N/A"}},{"$f":"IF(A1635=\"\",\"\",VLOOKUP(C1635,#REF!,5,FALSE))","v":{"$error":"#N/A"}}]
[300744,{"$f":"IF(A1636=\"\",\"\",VLOOKUP(A1636,[1]ItemConfig!$A:$B,2,FALSE))","v":{"$error":"#N/A"}},{"$f":"IF(A1636=\"\",\"\",VLOOKUP(A1636,[1]ItemConfig!$A:$D,4,FALSE))","v":{"$error":"#N/A"}},{"$f":"IF(A1636=\"\",\"\",VLOOKUP(A1636,[1]ItemConfig!$A:$C,3,FALSE))","v":{"$error":"#N/A"}},{"$f":"IF(A1636=\"\",\"\",VLOOKUP(B1636,#REF!,5,FALSE))","v":{"$error":"#N/A"}},{"$f":"IF(A1636=\"\",\"\",VLOOKUP(C1636,#REF!,5,FALSE))","v":{"$error":"#N/A"}}]
[300745,{"$f":"IF(A1637=\"\",\"\",VLOOKUP(A1637,[1]ItemConfig!$A:$B,2,FALSE))","v":{"$error":"#N/A"}},{"$f":"IF(A1637=\"\",\"\",VLOOKUP(A1637,[1]ItemConfig!$A:$D,4,FALSE))","v":{"$error":"#N/A"}},{"$f":"IF(A1637=\"\",\"\",VLOOKUP(A1637,[1]ItemConfig!$A:$C,3,FALSE))","v":{"$error":"#N/A"}},{"$f":"IF(A1637=\"\",\"\",VLOOKUP(B1637,#REF!,5,FALSE))","v":{"$error":"#N/A"}},{"$f":"IF(A1637=\"\",\"\",VLOOKUP(C1637,#REF!,5,FALSE))","v":{"$error":"#N/A"}}]
[300746,{"$f":"IF(A1638=\"\",\"\",VLOOKUP(A1638,[1]ItemConfig!$A:$B,2,FALSE))","v":{"$error":"#N/A"}},{"$f":"IF(A1638=\"\",\"\",VLOOKUP(A1638,[1]ItemConfig!$A:$D,4,FALSE))","v":{"$error":"#N/A"}},{"$f":"IF(A1638=\"\",\"\",VLOOKUP(A1638,[1]ItemConfig!$A:$C,3,FALSE))","v":{"$error":"#N/A"}},{"$f":"IF(A1638=\"\",\"\",VLOOKUP(B1638,#REF!,5,FALSE))","v":{"$error":"#N/A"}},{"$f":"IF(A1638=\"\",\"\",VLOOKUP(C1638,#REF!,5,FALSE))","v":{"$error":"#N/A"}}]
[300747,{"$f":"IF(A1639=\"\",\"\",VLOOKUP(A1639,[1]ItemConfig!$A:$B,2,FALSE))","v":{"$error":"#N/A"}},{"$f":"IF(A1639=\"\",\"\",VLOOKUP(A1639,[1]ItemConfig!$A:$D,4,FALSE))","v":{"$error":"#N/A"}},{"$f":"IF(A1639=\"\",\"\",VLOOKUP(A1639,[1]ItemConfig!$A:$C,3,FALSE))","v":{"$error":"#N/A"}},{"$f":"IF(A1639=\"\",\"\",VLOOKUP(B1639,#REF!,5,FALSE))","v":{"$error":"#N/A"}},{"$f":"IF(A1639=\"\",\"\",VLOOKUP(C1639,#REF!,5,FALSE))","v":{"$error":"#N/A"}}]
[300748,{"$f":"IF(A1640=\"\",\"\",VLOOKUP(A1640,[1]ItemConfig!$A:$B,2,FALSE))","v":{"$error":"#N/A"}},{"$f":"IF(A1640=\"\",\"\",VLOOKUP(A1640,[1]ItemConfig!$A:$D,4,FALSE))","v":{"$error":"#N/A"}},{"$f":"IF(A1640=\"\",\"\",VLOOKUP(A1640,[1]ItemConfig!$A:$C,3,FALSE))","v":{"$error":"#N/A"}},{"$f":"IF(A1640=\"\",\"\",VLOOKUP(B1640,#REF!,5,FALSE))","v":{"$error":"#N/A"}},{"$f":"IF(A1640=\"\",\"\",VLOOKUP(C1640,#REF!,5,FALSE))","v":{"$error":"#N/A"}}]
[300749,{"$f":"IF(A1641=\"\",\"\",VLOOKUP(A1641,[1]ItemConfig!$A:$B,2,FALSE))","v":{"$error":"#N/A"}},{"$f":"IF(A1641=\"\",\"\",VLOOKUP(A1641,[1]ItemConfig!$A:$D,4,FALSE))","v":{"$error":"#N/A"}},{"$f":"IF(A1641=\"\",\"\",VLOOKUP(A1641,[1]ItemConfig!$A:$C,3,FALSE))","v":{"$error":"#N/A"}},{"$f":"IF(A1641=\"\",\"\",VLOOKUP(B1641,#REF!,5,FALSE))","v":{"$error":"#N/A"}},{"$f":"IF(A1641=\"\",\"\",VLOOKUP(C1641,#REF!,5,FALSE))","v":{"$error":"#N/A"}}]
[300750,{"$f":"IF(A1642=\"\",\"\",VLOOKUP(A1642,[1]ItemConfig!$A:$B,2,FALSE))","v":{"$error":"#N/A"}},{"$f":"IF(A1642=\"\",\"\",VLOOKUP(A1642,[1]ItemConfig!$A:$D,4,FALSE))","v":{"$error":"#N/A"}},{"$f":"IF(A1642=\"\",\"\",VLOOKUP(A1642,[1]ItemConfig!$A:$C,3,FALSE))","v":{"$error":"#N/A"}},{"$f":"IF(A1642=\"\",\"\",VLOOKUP(B1642,#REF!,5,FALSE))","v":{"$error":"#N/A"}},{"$f":"IF(A1642=\"\",\"\",VLOOKUP(C1642,#REF!,5,FALSE))","v":{"$error":"#N/A"}}]
[300751,{"$f":"IF(A1643=\"\",\"\",VLOOKUP(A1643,[1]ItemConfig!$A:$B,2,FALSE))","v":{"$error":"#N/A"}},{"$f":"IF(A1643=\"\",\"\",VLOOKUP(A1643,[1]ItemConfig!$A:$D,4,FALSE))","v":{"$error":"#N/A"}},{"$f":"IF(A1643=\"\",\"\",VLOOKUP(A1643,[1]ItemConfig!$A:$C,3,FALSE))","v":{"$error":"#N/A"}},{"$f":"IF(A1643=\"\",\"\",VLOOKUP(B1643,#REF!,5,FALSE))","v":{"$error":"#N/A"}},{"$f":"IF(A1643=\"\",\"\",VLOOKUP(C1643,#REF!,5,FALSE))","v":{"$error":"#N/A"}}]
[300752,{"$f":"IF(A1644=\"\",\"\",VLOOKUP(A1644,[1]ItemConfig!$A:$B,2,FALSE))","v":{"$error":"#N/A"}},{"$f":"IF(A1644=\"\",\"\",VLOOKUP(A1644,[1]ItemConfig!$A:$D,4,FALSE))","v":{"$error":"#N/A"}},{"$f":"IF(A1644=\"\",\"\",VLOOKUP(A1644,[1]ItemConfig!$A:$C,3,FALSE))","v":{"$error":"#N/A"}},{"$f":"IF(A1644=\"\",\"\",VLOOKUP(B1644,#REF!,5,FALSE))","v":{"$error":"#N/A"}},{"$f":"IF(A1644=\"\",\"\",VLOOKUP(C1644,#REF!,5,FALSE))","v":{"$error":"#N/A"}}]
[300753,{"$f":"IF(A1645=\"\",\"\",VLOOKUP(A1645,[1]ItemConfig!$A:$B,2,FALSE))","v":{"$error":"#N/A"}},{"$f":"IF(A1645=\"\",\"\",VLOOKUP(A1645,[1]ItemConfig!$A:$D,4,FALSE))","v":{"$error":"#N/A"}},{"$f":"IF(A1645=\"\",\"\",VLOOKUP(A1645,[1]ItemConfig!$A:$C,3,FALSE))","v":{"$error":"#N/A"}},{"$f":"IF(A1645=\"\",\"\",VLOOKUP(B1645,#REF!,5,FALSE))","v":{"$error":"#N/A"}},{"$f":"IF(A1645=\"\",\"\",VLOOKUP(C1645,#REF!,5,FALSE))","v":{"$error":"#N/A"}}]
[300754,{"$f":"IF(A1646=\"\",\"\",VLOOKUP(A1646,[1]ItemConfig!$A:$B,2,FALSE))","v":{"$error":"#N/A"}},{"$f":"IF(A1646=\"\",\"\",VLOOKUP(A1646,[1]ItemConfig!$A:$D,4,FALSE))","v":{"$error":"#N/A"}},{"$f":"IF(A1646=\"\",\"\",VLOOKUP(A1646,[1]ItemConfig!$A:$C,3,FALSE))","v":{"$error":"#N/A"}},{"$f":"IF(A1646=\"\",\"\",VLOOKUP(B1646,#REF!,5,FALSE))","v":{"$error":"#N/A"}},{"$f":"IF(A1646=\"\",\"\",VLOOKUP(C1646,#REF!,5,FALSE))","v":{"$error":"#N/A"}}]
[300755,{"$f":"IF(A1647=\"\",\"\",VLOOKUP(A1647,[1]ItemConfig!$A:$B,2,FALSE))","v":{"$error":"#N/A"}},{"$f":"IF(A1647=\"\",\"\",VLOOKUP(A1647,[1]ItemConfig!$A:$D,4,FALSE))","v":{"$error":"#N/A"}},{"$f":"IF(A1647=\"\",\"\",VLOOKUP(A1647,[1]ItemConfig!$A:$C,3,FALSE))","v":{"$error":"#N/A"}},{"$f":"IF(A1647=\"\",\"\",VLOOKUP(B1647,#REF!,5,FALSE))","v":{"$error":"#N/A"}},{"$f":"IF(A1647=\"\",\"\",VLOOKUP(C1647,#REF!,5,FALSE))","v":{"$error":"#N/A"}}]
[300756,{"$f":"IF(A1648=\"\",\"\",VLOOKUP(A1648,[1]ItemConfig!$A:$B,2,FALSE))","v":{"$error":"#N/A"}},{"$f":"IF(A1648=\"\",\"\",VLOOKUP(A1648,[1]ItemConfig!$A:$D,4,FALSE))","v":{"$error":"#N/A"}},{"$f":"IF(A1648=\"\",\"\",VLOOKUP(A1648,[1]ItemConfig!$A:$C,3,FALSE))","v":{"$error":"#N/A"}},{"$f":"IF(A1648=\"\",\"\",VLOOKUP(B1648,#REF!,5,FALSE))","v":{"$error":"#N/A"}},{"$f":"IF(A1648=\"\",\"\",VLOOKUP(C1648,#REF!,5,FALSE))","v":{"$error":"#N/A"}}]
[300757,{"$f":"IF(A1649=\"\",\"\",VLOOKUP(A1649,[1]ItemConfig!$A:$B,2,FALSE))","v":{"$error":"#N/A"}},{"$f":"IF(A1649=\"\",\"\",VLOOKUP(A1649,[1]ItemConfig!$A:$D,4,FALSE))","v":{"$error":"#N/A"}},{"$f":"IF(A1649=\"\",\"\",VLOOKUP(A1649,[1]ItemConfig!$A:$C,3,FALSE))","v":{"$error":"#N/A"}},{"$f":"IF(A1649=\"\",\"\",VLOOKUP(B1649,#REF!,5,FALSE))","v":{"$error":"#N/A"}},{"$f":"IF(A1649=\"\",\"\",VLOOKUP(C1649,#REF!,5,FALSE))","v":{"$error":"#N/A"}}]
[300758,{"$f":"IF(A1650=\"\",\"\",VLOOKUP(A1650,[1]ItemConfig!$A:$B,2,FALSE))","v":{"$error":"#N/A"}},{"$f":"IF(A1650=\"\",\"\",VLOOKUP(A1650,[1]ItemConfig!$A:$D,4,FALSE))","v":{"$error":"#N/A"}},{"$f":"IF(A1650=\"\",\"\",VLOOKUP(A1650,[1]ItemConfig!$A:$C,3,FALSE))","v":{"$error":"#N/A"}},{"$f":"IF(A1650=\"\",\"\",VLOOKUP(B1650,#REF!,5,FALSE))","v":{"$error":"#N/A"}},{"$f":"IF(A1650=\"\",\"\",VLOOKUP(C1650,#REF!,5,FALSE))","v":{"$error":"#N/A"}}]
[300759,{"$f":"IF(A1651=\"\",\"\",VLOOKUP(A1651,[1]ItemConfig!$A:$B,2,FALSE))","v":{"$error":"#N/A"}},{"$f":"IF(A1651=\"\",\"\",VLOOKUP(A1651,[1]ItemConfig!$A:$D,4,FALSE))","v":{"$error":"#N/A"}},{"$f":"IF(A1651=\"\",\"\",VLOOKUP(A1651,[1]ItemConfig!$A:$C,3,FALSE))","v":{"$error":"#N/A"}},{"$f":"IF(A1651=\"\",\"\",VLOOKUP(B1651,#REF!,5,FALSE))","v":{"$error":"#N/A"}},{"$f":"IF(A1651=\"\",\"\",VLOOKUP(C1651,#REF!,5,FALSE))","v":{"$error":"#N/A"}}]
[300760,{"$f":"IF(A1652=\"\",\"\",VLOOKUP(A1652,[1]ItemConfig!$A:$B,2,FALSE))","v":{"$error":"#N/A"}},{"$f":"IF(A1652=\"\",\"\",VLOOKUP(A1652,[1]ItemConfig!$A:$D,4,FALSE))","v":{"$error":"#N/A"}},{"$f":"IF(A1652=\"\",\"\",VLOOKUP(A1652,[1]ItemConfig!$A:$C,3,FALSE))","v":{"$error":"#N/A"}},{"$f":"IF(A1652=\"\",\"\",VLOOKUP(B1652,#REF!,5,FALSE))","v":{"$error":"#N/A"}},{"$f":"IF(A1652=\"\",\"\",VLOOKUP(C1652,#REF!,5,FALSE))","v":{"$error":"#N/A"}}]
[300761,{"$f":"IF(A1653=\"\",\"\",VLOOKUP(A1653,[1]ItemConfig!$A:$B,2,FALSE))","v":{"$error":"#N/A"}},{"$f":"IF(A1653=\"\",\"\",VLOOKUP(A1653,[1]ItemConfig!$A:$D,4,FALSE))","v":{"$error":"#N/A"}},{"$f":"IF(A1653=\"\",\"\",VLOOKUP(A1653,[1]ItemConfig!$A:$C,3,FALSE))","v":{"$error":"#N/A"}},{"$f":"IF(A1653=\"\",\"\",VLOOKUP(B1653,#REF!,5,FALSE))","v":{"$error":"#N/A"}},{"$f":"IF(A1653=\"\",\"\",VLOOKUP(C1653,#REF!,5,FALSE))","v":{"$error":"#N/A"}}]
[300762,{"$f":"IF(A1654=\"\",\"\",VLOOKUP(A1654,[1]ItemConfig!$A:$B,2,FALSE))","v":{"$error":"#N/A"}},{"$f":"IF(A1654=\"\",\"\",VLOOKUP(A1654,[1]ItemConfig!$A:$D,4,FALSE))","v":{"$error":"#N/A"}},{"$f":"IF(A1654=\"\",\"\",VLOOKUP(A1654,[1]ItemConfig!$A:$C,3,FALSE))","v":{"$error":"#N/A"}},{"$f":"IF(A1654=\"\",\"\",VLOOKUP(B1654,#REF!,5,FALSE))","v":{"$error":"#N/A"}},{"$f":"IF(A1654=\"\",\"\",VLOOKUP(C1654,#REF!,5,FALSE))","v":{"$error":"#N/A"}}]
[300763,{"$f":"IF(A1655=\"\",\"\",VLOOKUP(A1655,[1]ItemConfig!$A:$B,2,FALSE))","v":{"$error":"#N/A"}},{"$f":"IF(A1655=\"\",\"\",VLOOKUP(A1655,[1]ItemConfig!$A:$D,4,FALSE))","v":{"$error":"#N/A"}},{"$f":"IF(A1655=\"\",\"\",VLOOKUP(A1655,[1]ItemConfig!$A:$C,3,FALSE))","v":{"$error":"#N/A"}},{"$f":"IF(A1655=\"\",\"\",VLOOKUP(B1655,#REF!,5,FALSE))","v":{"$error":"#N/A"}},{"$f":"IF(A1655=\"\",\"\",VLOOKUP(C1655,#REF!,5,FALSE))","v":{"$error":"#N/A"}}]
[300764,{"$f":"IF(A1656=\"\",\"\",VLOOKUP(A1656,[1]ItemConfig!$A:$B,2,FALSE))","v":{"$error":"#N/A"}},{"$f":"IF(A1656=\"\",\"\",VLOOKUP(A1656,[1]ItemConfig!$A:$D,4,FALSE))","v":{"$error":"#N/A"}},{"$f":"IF(A1656=\"\",\"\",VLOOKUP(A1656,[1]ItemConfig!$A:$C,3,FALSE))","v":{"$error":"#N/A"}},{"$f":"IF(A1656=\"\",\"\",VLOOKUP(B1656,#REF!,5,FALSE))","v":{"$error":"#N/A"}},{"$f":"IF(A1656=\"\",\"\",VLOOKUP(C1656,#REF!,5,FALSE))","v":{"$error":"#N/A"}}]
[300765,{"$f":"IF(A1657=\"\",\"\",VLOOKUP(A1657,[1]ItemConfig!$A:$B,2,FALSE))","v":{"$error":"#N/A"}},{"$f":"IF(A1657=\"\",\"\",VLOOKUP(A1657,[1]ItemConfig!$A:$D,4,FALSE))","v":{"$error":"#N/A"}},{"$f":"IF(A1657=\"\",\"\",VLOOKUP(A1657,[1]ItemConfig!$A:$C,3,FALSE))","v":{"$error":"#N/A"}},{"$f":"IF(A1657=\"\",\"\",VLOOKUP(B1657,#REF!,5,FALSE))","v":{"$error":"#N/A"}},{"$f":"IF(A1657=\"\",\"\",VLOOKUP(C1657,#REF!,5,FALSE))","v":{"$error":"#N/A"}}]
[300766,{"$f":"IF(A1658=\"\",\"\",VLOOKUP(A1658,[1]ItemConfig!$A:$B,2,FALSE))","v":{"$error":"#N/A"}},{"$f":"IF(A1658=\"\",\"\",VLOOKUP(A1658,[1]ItemConfig!$A:$D,4,FALSE))","v":{"$error":"#N/A"}},{"$f":"IF(A1658=\"\",\"\",VLOOKUP(A1658,[1]ItemConfig!$A:$C,3,FALSE))","v":{"$error":"#N/A"}},{"$f":"IF(A1658=\"\",\"\",VLOOKUP(B1658,#REF!,5,FALSE))","v":{"$error":"#N/A"}},{"$f":"IF(A1658=\"\",\"\",VLOOKUP(C1658,#REF!,5,FALSE))","v":{"$error":"#N/A"}}]
[300767,{"$f":"IF(A1659=\"\",\"\",VLOOKUP(A1659,[1]ItemConfig!$A:$B,2,FALSE))","v":{"$error":"#N/A"}},{"$f":"IF(A1659=\"\",\"\",VLOOKUP(A1659,[1]ItemConfig!$A:$D,4,FALSE))","v":{"$error":"#N/A"}},{"$f":"IF(A1659=\"\",\"\",VLOOKUP(A1659,[1]ItemConfig!$A:$C,3,FALSE))","v":{"$error":"#N/A"}},{"$f":"IF(A1659=\"\",\"\",VLOOKUP(B1659,#REF!,5,FALSE))","v":{"$error":"#N/A"}},{"$f":"IF(A1659=\"\",\"\",VLOOKUP(C1659,#REF!,5,FALSE))","v":{"$error":"#N/A"}}]
[300768,{"$f":"IF(A1660=\"\",\"\",VLOOKUP(A1660,[1]ItemConfig!$A:$B,2,FALSE))","v":{"$error":"#N/A"}},{"$f":"IF(A1660=\"\",\"\",VLOOKUP(A1660,[1]ItemConfig!$A:$D,4,FALSE))","v":{"$error":"#N/A"}},{"$f":"IF(A1660=\"\",\"\",VLOOKUP(A1660,[1]ItemConfig!$A:$C,3,FALSE))","v":{"$error":"#N/A"}},{"$f":"IF(A1660=\"\",\"\",VLOOKUP(B1660,#REF!,5,FALSE))","v":{"$error":"#N/A"}},{"$f":"IF(A1660=\"\",\"\",VLOOKUP(C1660,#REF!,5,FALSE))","v":{"$error":"#N/A"}}]
[300769,{"$f":"IF(A1661=\"\",\"\",VLOOKUP(A1661,[1]ItemConfig!$A:$B,2,FALSE))","v":{"$error":"#N/A"}},{"$f":"IF(A1661=\"\",\"\",VLOOKUP(A1661,[1]ItemConfig!$A:$D,4,FALSE))","v":{"$error":"#N/A"}},{"$f":"IF(A1661=\"\",\"\",VLOOKUP(A1661,[1]ItemConfig!$A:$C,3,FALSE))","v":{"$error":"#N/A"}},{"$f":"IF(A1661=\"\",\"\",VLOOKUP(B1661,#REF!,5,FALSE))","v":{"$error":"#N/A"}},{"$f":"IF(A1661=\"\",\"\",VLOOKUP(C1661,#REF!,5,FALSE))","v":{"$error":"#N/A"}}]
[300770,{"$f":"IF(A1662=\"\",\"\",VLOOKUP(A1662,[1]ItemConfig!$A:$B,2,FALSE))","v":{"$error":"#N/A"}},{"$f":"IF(A1662=\"\",\"\",VLOOKUP(A1662,[1]ItemConfig!$A:$D,4,FALSE))","v":{"$error":"#N/A"}},{"$f":"IF(A1662=\"\",\"\",VLOOKUP(A1662,[1]ItemConfig!$A:$C,3,FALSE))","v":{"$error":"#N/A"}},{"$f":"IF(A1662=\"\",\"\",VLOOKUP(B1662,#REF!,5,FALSE))","v":{"$error":"#N/A"}},{"$f":"IF(A1662=\"\",\"\",VLOOKUP(C1662,#REF!,5,FALSE))","v":{"$error":"#N/A"}}]
[300771,{"$f":"IF(A1663=\"\",\"\",VLOOKUP(A1663,[1]ItemConfig!$A:$B,2,FALSE))","v":{"$error":"#N/A"}},{"$f":"IF(A1663=\"\",\"\",VLOOKUP(A1663,[1]ItemConfig!$A:$D,4,FALSE))","v":{"$error":"#N/A"}},{"$f":"IF(A1663=\"\",\"\",VLOOKUP(A1663,[1]ItemConfig!$A:$C,3,FALSE))","v":{"$error":"#N/A"}},{"$f":"IF(A1663=\"\",\"\",VLOOKUP(B1663,#REF!,5,FALSE))","v":{"$error":"#N/A"}},{"$f":"IF(A1663=\"\",\"\",VLOOKUP(C1663,#REF!,5,FALSE))","v":{"$error":"#N/A"}}]
[300772,{"$f":"IF(A1664=\"\",\"\",VLOOKUP(A1664,[1]ItemConfig!$A:$B,2,FALSE))","v":{"$error":"#N/A"}},{"$f":"IF(A1664=\"\",\"\",VLOOKUP(A1664,[1]ItemConfig!$A:$D,4,FALSE))","v":{"$error":"#N/A"}},{"$f":"IF(A1664=\"\",\"\",VLOOKUP(A1664,[1]ItemConfig!$A:$C,3,FALSE))","v":{"$error":"#N/A"}},{"$f":"IF(A1664=\"\",\"\",VLOOKUP(B1664,#REF!,5,FALSE))","v":{"$error":"#N/A"}},{"$f":"IF(A1664=\"\",\"\",VLOOKUP(C1664,#REF!,5,FALSE))","v":{"$error":"#N/A"}}]
[300773,{"$f":"IF(A1665=\"\",\"\",VLOOKUP(A1665,[1]ItemConfig!$A:$B,2,FALSE))","v":{"$error":"#N/A"}},{"$f":"IF(A1665=\"\",\"\",VLOOKUP(A1665,[1]ItemConfig!$A:$D,4,FALSE))","v":{"$error":"#N/A"}},{"$f":"IF(A1665=\"\",\"\",VLOOKUP(A1665,[1]ItemConfig!$A:$C,3,FALSE))","v":{"$error":"#N/A"}},{"$f":"IF(A1665=\"\",\"\",VLOOKUP(B1665,#REF!,5,FALSE))","v":{"$error":"#N/A"}},{"$f":"IF(A1665=\"\",\"\",VLOOKUP(C1665,#REF!,5,FALSE))","v":{"$error":"#N/A"}}]
[300774,{"$f":"IF(A1666=\"\",\"\",VLOOKUP(A1666,[1]ItemConfig!$A:$B,2,FALSE))","v":{"$error":"#N/A"}},{"$f":"IF(A1666=\"\",\"\",VLOOKUP(A1666,[1]ItemConfig!$A:$D,4,FALSE))","v":{"$error":"#N/A"}},{"$f":"IF(A1666=\"\",\"\",VLOOKUP(A1666,[1]ItemConfig!$A:$C,3,FALSE))","v":{"$error":"#N/A"}},{"$f":"IF(A1666=\"\",\"\",VLOOKUP(B1666,#REF!,5,FALSE))","v":{"$error":"#N/A"}},{"$f":"IF(A1666=\"\",\"\",VLOOKUP(C1666,#REF!,5,FALSE))","v":{"$error":"#N/A"}}]
[300775,{"$f":"IF(A1667=\"\",\"\",VLOOKUP(A1667,[1]ItemConfig!$A:$B,2,FALSE))","v":{"$error":"#N/A"}},{"$f":"IF(A1667=\"\",\"\",VLOOKUP(A1667,[1]ItemConfig!$A:$D,4,FALSE))","v":{"$error":"#N/A"}},{"$f":"IF(A1667=\"\",\"\",VLOOKUP(A1667,[1]ItemConfig!$A:$C,3,FALSE))","v":{"$error":"#N/A"}},{"$f":"IF(A1667=\"\",\"\",VLOOKUP(B1667,#REF!,5,FALSE))","v":{"$error":"#N/A"}},{"$f":"IF(A1667=\"\",\"\",VLOOKUP(C1667,#REF!,5,FALSE))","v":{"$error":"#N/A"}}]
[300776,{"$f":"IF(A1668=\"\",\"\",VLOOKUP(A1668,[1]ItemConfig!$A:$B,2,FALSE))","v":{"$error":"#N/A"}},{"$f":"IF(A1668=\"\",\"\",VLOOKUP(A1668,[1]ItemConfig!$A:$D,4,FALSE))","v":{"$error":"#N/A"}},{"$f":"IF(A1668=\"\",\"\",VLOOKUP(A1668,[1]ItemConfig!$A:$C,3,FALSE))","v":{"$error":"#N/A"}},{"$f":"IF(A1668=\"\",\"\",VLOOKUP(B1668,#REF!,5,FALSE))","v":{"$error":"#N/A"}},{"$f":"IF(A1668=\"\",\"\",VLOOKUP(C1668,#REF!,5,FALSE))","v":{"$error":"#N/A"}}]
[300777,{"$f":"IF(A1669=\"\",\"\",VLOOKUP(A1669,[1]ItemConfig!$A:$B,2,FALSE))","v":{"$error":"#N/A"}},{"$f":"IF(A1669=\"\",\"\",VLOOKUP(A1669,[1]ItemConfig!$A:$D,4,FALSE))","v":{"$error":"#N/A"}},{"$f":"IF(A1669=\"\",\"\",VLOOKUP(A1669,[1]ItemConfig!$A:$C,3,FALSE))","v":{"$error":"#N/A"}},{"$f":"IF(A1669=\"\",\"\",VLOOKUP(B1669,#REF!,5,FALSE))","v":{"$error":"#N/A"}},{"$f":"IF(A1669=\"\",\"\",VLOOKUP(C1669,#REF!,5,FALSE))","v":{"$error":"#N/A"}}]
[300778,{"$f":"IF(A1670=\"\",\"\",VLOOKUP(A1670,[1]ItemConfig!$A:$B,2,FALSE))","v":{"$error":"#N/A"}},{"$f":"IF(A1670=\"\",\"\",VLOOKUP(A1670,[1]ItemConfig!$A:$D,4,FALSE))","v":{"$error":"#N/A"}},{"$f":"IF(A1670=\"\",\"\",VLOOKUP(A1670,[1]ItemConfig!$A:$C,3,FALSE))","v":{"$error":"#N/A"}},{"$f":"IF(A1670=\"\",\"\",VLOOKUP(B1670,#REF!,5,FALSE))","v":{"$error":"#N/A"}},{"$f":"IF(A1670=\"\",\"\",VLOOKUP(C1670,#REF!,5,FALSE))","v":{"$error":"#N/A"}}]
[300779,{"$f":"IF(A1671=\"\",\"\",VLOOKUP(A1671,[1]ItemConfig!$A:$B,2,FALSE))","v":{"$error":"#N/A"}},{"$f":"IF(A1671=\"\",\"\",VLOOKUP(A1671,[1]ItemConfig!$A:$D,4,FALSE))","v":{"$error":"#N/A"}},{"$f":"IF(A1671=\"\",\"\",VLOOKUP(A1671,[1]ItemConfig!$A:$C,3,FALSE))","v":{"$error":"#N/A"}},{"$f":"IF(A1671=\"\",\"\",VLOOKUP(B1671,#REF!,5,FALSE))","v":{"$error":"#N/A"}},{"$f":"IF(A1671=\"\",\"\",VLOOKUP(C1671,#REF!,5,FALSE))","v":{"$error":"#N/A"}}]
[300780,{"$f":"IF(A1672=\"\",\"\",VLOOKUP(A1672,[1]ItemConfig!$A:$B,2,FALSE))","v":{"$error":"#N/A"}},{"$f":"IF(A1672=\"\",\"\",VLOOKUP(A1672,[1]ItemConfig!$A:$D,4,FALSE))","v":{"$error":"#N/A"}},{"$f":"IF(A1672=\"\",\"\",VLOOKUP(A1672,[1]ItemConfig!$A:$C,3,FALSE))","v":{"$error":"#N/A"}},{"$f":"IF(A1672=\"\",\"\",VLOOKUP(B1672,#REF!,5,FALSE))","v":{"$error":"#N/A"}},{"$f":"IF(A1672=\"\",\"\",VLOOKUP(C1672,#REF!,5,FALSE))","v":{"$error":"#N/A"}}]
[300781,{"$f":"IF(A1673=\"\",\"\",VLOOKUP(A1673,[1]ItemConfig!$A:$B,2,FALSE))","v":{"$error":"#N/A"}},{"$f":"IF(A1673=\"\",\"\",VLOOKUP(A1673,[1]ItemConfig!$A:$D,4,FALSE))","v":{"$error":"#N/A"}},{"$f":"IF(A1673=\"\",\"\",VLOOKUP(A1673,[1]ItemConfig!$A:$C,3,FALSE))","v":{"$error":"#N/A"}},{"$f":"IF(A1673=\"\",\"\",VLOOKUP(B1673,#REF!,5,FALSE))","v":{"$error":"#N/A"}},{"$f":"IF(A1673=\"\",\"\",VLOOKUP(C1673,#REF!,5,FALSE))","v":{"$error":"#N/A"}}]
[300782,{"$f":"IF(A1674=\"\",\"\",VLOOKUP(A1674,[1]ItemConfig!$A:$B,2,FALSE))","v":{"$error":"#N/A"}},{"$f":"IF(A1674=\"\",\"\",VLOOKUP(A1674,[1]ItemConfig!$A:$D,4,FALSE))","v":{"$error":"#N/A"}},{"$f":"IF(A1674=\"\",\"\",VLOOKUP(A1674,[1]ItemConfig!$A:$C,3,FALSE))","v":{"$error":"#N/A"}},{"$f":"IF(A1674=\"\",\"\",VLOOKUP(B1674,#REF!,5,FALSE))","v":{"$error":"#N/A"}},{"$f":"IF(A1674=\"\",\"\",VLOOKUP(C1674,#REF!,5,FALSE))","v":{"$error":"#N/A"}}]
[300783,{"$f":"IF(A1675=\"\",\"\",VLOOKUP(A1675,[1]ItemConfig!$A:$B,2,FALSE))","v":{"$error":"#N/A"}},{"$f":"IF(A1675=\"\",\"\",VLOOKUP(A1675,[1]ItemConfig!$A:$D,4,FALSE))","v":{"$error":"#N/A"}},{"$f":"IF(A1675=\"\",\"\",VLOOKUP(A1675,[1]ItemConfig!$A:$C,3,FALSE))","v":{"$error":"#N/A"}},{"$f":"IF(A1675=\"\",\"\",VLOOKUP(B1675,#REF!,5,FALSE))","v":{"$error":"#N/A"}},{"$f":"IF(A1675=\"\",\"\",VLOOKUP(C1675,#REF!,5,FALSE))","v":{"$error":"#N/A"}}]
[300784,{"$f":"IF(A1676=\"\",\"\",VLOOKUP(A1676,[1]ItemConfig!$A:$B,2,FALSE))","v":{"$error":"#N/A"}},{"$f":"IF(A1676=\"\",\"\",VLOOKUP(A1676,[1]ItemConfig!$A:$D,4,FALSE))","v":{"$error":"#N/A"}},{"$f":"IF(A1676=\"\",\"\",VLOOKUP(A1676,[1]ItemConfig!$A:$C,3,FALSE))","v":{"$error":"#N/A"}},{"$f":"IF(A1676=\"\",\"\",VLOOKUP(B1676,#REF!,5,FALSE))","v":{"$error":"#N/A"}},{"$f":"IF(A1676=\"\",\"\",VLOOKUP(C1676,#REF!,5,FALSE))","v":{"$error":"#N/A"}}]
[300785,{"$f":"IF(A1677=\"\",\"\",VLOOKUP(A1677,[1]ItemConfig!$A:$B,2,FALSE))","v":{"$error":"#N/A"}},{"$f":"IF(A1677=\"\",\"\",VLOOKUP(A1677,[1]ItemConfig!$A:$D,4,FALSE))","v":{"$error":"#N/A"}},{"$f":"IF(A1677=\"\",\"\",VLOOKUP(A1677,[1]ItemConfig!$A:$C,3,FALSE))","v":{"$error":"#N/A"}},{"$f":"IF(A1677=\"\",\"\",VLOOKUP(B1677,#REF!,5,FALSE))","v":{"$error":"#N/A"}},{"$f":"IF(A1677=\"\",\"\",VLOOKUP(C1677,#REF!,5,FALSE))","v":{"$error":"#N/A"}}]
[300786,{"$f":"IF(A1678=\"\",\"\",VLOOKUP(A1678,[1]ItemConfig!$A:$B,2,FALSE))","v":{"$error":"#N/A"}},{"$f":"IF(A1678=\"\",\"\",VLOOKUP(A1678,[1]ItemConfig!$A:$D,4,FALSE))","v":{"$error":"#N/A"}},{"$f":"IF(A1678=\"\",\"\",VLOOKUP(A1678,[1]ItemConfig!$A:$C,3,FALSE))","v":{"$error":"#N/A"}},{"$f":"IF(A1678=\"\",\"\",VLOOKUP(B1678,#REF!,5,FALSE))","v":{"$error":"#N/A"}},{"$f":"IF(A1678=\"\",\"\",VLOOKUP(C1678,#REF!,5,FALSE))","v":{"$error":"#N/A"}}]
[300787,{"$f":"IF(A1679=\"\",\"\",VLOOKUP(A1679,[1]ItemConfig!$A:$B,2,FALSE))","v":{"$error":"#N/A"}},{"$f":"IF(A1679=\"\",\"\",VLOOKUP(A1679,[1]ItemConfig!$A:$D,4,FALSE))","v":{"$error":"#N/A"}},{"$f":"IF(A1679=\"\",\"\",VLOOKUP(A1679,[1]ItemConfig!$A:$C,3,FALSE))","v":{"$error":"#N/A"}},{"$f":"IF(A1679=\"\",\"\",VLOOKUP(B1679,#REF!,5,FALSE))","v":{"$error":"#N/A"}},{"$f":"IF(A1679=\"\",\"\",VLOOKUP(C1679,#REF!,5,FALSE))","v":{"$error":"#N/A"}}]
[300788,{"$f":"IF(A1680=\"\",\"\",VLOOKUP(A1680,[1]ItemConfig!$A:$B,2,FALSE))","v":{"$error":"#N/A"}},{"$f":"IF(A1680=\"\",\"\",VLOOKUP(A1680,[1]ItemConfig!$A:$D,4,FALSE))","v":{"$error":"#N/A"}},{"$f":"IF(A1680=\"\",\"\",VLOOKUP(A1680,[1]ItemConfig!$A:$C,3,FALSE))","v":{"$error":"#N/A"}},{"$f":"IF(A1680=\"\",\"\",VLOOKUP(B1680,#REF!,5,FALSE))","v":{"$error":"#N/A"}},{"$f":"IF(A1680=\"\",\"\",VLOOKUP(C1680,#REF!,5,FALSE))","v":{"$error":"#N/A"}}]
[300789,{"$f":"IF(A1681=\"\",\"\",VLOOKUP(A1681,[1]ItemConfig!$A:$B,2,FALSE))","v":{"$error":"#N/A"}},{"$f":"IF(A1681=\"\",\"\",VLOOKUP(A1681,[1]ItemConfig!$A:$D,4,FALSE))","v":{"$error":"#N/A"}},{"$f":"IF(A1681=\"\",\"\",VLOOKUP(A1681,[1]ItemConfig!$A:$C,3,FALSE))","v":{"$error":"#N/A"}},{"$f":"IF(A1681=\"\",\"\",VLOOKUP(B1681,#REF!,5,FALSE))","v":{"$error":"#N/A"}},{"$f":"IF(A1681=\"\",\"\",VLOOKUP(C1681,#REF!,5,FALSE))","v":{"$error":"#N/A"}}]
[300790,{"$f":"IF(A1682=\"\",\"\",VLOOKUP(A1682,[1]ItemConfig!$A:$B,2,FALSE))","v":{"$error":"#N/A"}},{"$f":"IF(A1682=\"\",\"\",VLOOKUP(A1682,[1]ItemConfig!$A:$D,4,FALSE))","v":{"$error":"#N/A"}},{"$f":"IF(A1682=\"\",\"\",VLOOKUP(A1682,[1]ItemConfig!$A:$C,3,FALSE))","v":{"$error":"#N/A"}},{"$f":"IF(A1682=\"\",\"\",VLOOKUP(B1682,#REF!,5,FALSE))","v":{"$error":"#N/A"}},{"$f":"IF(A1682=\"\",\"\",VLOOKUP(C1682,#REF!,5,FALSE))","v":{"$error":"#N/A"}}]
[300791,{"$f":"IF(A1683=\"\",\"\",VLOOKUP(A1683,[1]ItemConfig!$A:$B,2,FALSE))","v":{"$error":"#N/A"}},{"$f":"IF(A1683=\"\",\"\",VLOOKUP(A1683,[1]ItemConfig!$A:$D,4,FALSE))","v":{"$error":"#N/A"}},{"$f":"IF(A1683=\"\",\"\",VLOOKUP(A1683,[1]ItemConfig!$A:$C,3,FALSE))","v":{"$error":"#N/A"}},{"$f":"IF(A1683=\"\",\"\",VLOOKUP(B1683,#REF!,5,FALSE))","v":{"$error":"#N/A"}},{"$f":"IF(A1683=\"\",\"\",VLOOKUP(C1683,#REF!,5,FALSE))","v":{"$error":"#N/A"}}]
[300792,{"$f":"IF(A1684=\"\",\"\",VLOOKUP(A1684,[1]ItemConfig!$A:$B,2,FALSE))","v":{"$error":"#N/A"}},{"$f":"IF(A1684=\"\",\"\",VLOOKUP(A1684,[1]ItemConfig!$A:$D,4,FALSE))","v":{"$error":"#N/A"}},{"$f":"IF(A1684=\"\",\"\",VLOOKUP(A1684,[1]ItemConfig!$A:$C,3,FALSE))","v":{"$error":"#N/A"}},{"$f":"IF(A1684=\"\",\"\",VLOOKUP(B1684,#REF!,5,FALSE))","v":{"$error":"#N/A"}},{"$f":"IF(A1684=\"\",\"\",VLOOKUP(C1684,#REF!,5,FALSE))","v":{"$error":"#N/A"}}]
[300793,{"$f":"IF(A1685=\"\",\"\",VLOOKUP(A1685,[1]ItemConfig!$A:$B,2,FALSE))","v":{"$error":"#N/A"}},{"$f":"IF(A1685=\"\",\"\",VLOOKUP(A1685,[1]ItemConfig!$A:$D,4,FALSE))","v":{"$error":"#N/A"}},{"$f":"IF(A1685=\"\",\"\",VLOOKUP(A1685,[1]ItemConfig!$A:$C,3,FALSE))","v":{"$error":"#N/A"}},{"$f":"IF(A1685=\"\",\"\",VLOOKUP(B1685,#REF!,5,FALSE))","v":{"$error":"#N/A"}},{"$f":"IF(A1685=\"\",\"\",VLOOKUP(C1685,#REF!,5,FALSE))","v":{"$error":"#N/A"}}]
[300794,{"$f":"IF(A1686=\"\",\"\",VLOOKUP(A1686,[1]ItemConfig!$A:$B,2,FALSE))","v":{"$error":"#N/A"}},{"$f":"IF(A1686=\"\",\"\",VLOOKUP(A1686,[1]ItemConfig!$A:$D,4,FALSE))","v":{"$error":"#N/A"}},{"$f":"IF(A1686=\"\",\"\",VLOOKUP(A1686,[1]ItemConfig!$A:$C,3,FALSE))","v":{"$error":"#N/A"}},{"$f":"IF(A1686=\"\",\"\",VLOOKUP(B1686,#REF!,5,FALSE))","v":{"$error":"#N/A"}},{"$f":"IF(A1686=\"\",\"\",VLOOKUP(C1686,#REF!,5,FALSE))","v":{"$error":"#N/A"}}]
[300795,{"$f":"IF(A1687=\"\",\"\",VLOOKUP(A1687,[1]ItemConfig!$A:$B,2,FALSE))","v":{"$error":"#N/A"}},{"$f":"IF(A1687=\"\",\"\",VLOOKUP(A1687,[1]ItemConfig!$A:$D,4,FALSE))","v":{"$error":"#N/A"}},{"$f":"IF(A1687=\"\",\"\",VLOOKUP(A1687,[1]ItemConfig!$A:$C,3,FALSE))","v":{"$error":"#N/A"}},{"$f":"IF(A1687=\"\",\"\",VLOOKUP(B1687,#REF!,5,FALSE))","v":{"$error":"#N/A"}},{"$f":"IF(A1687=\"\",\"\",VLOOKUP(C1687,#REF!,5,FALSE))","v":{"$error":"#N/A"}}]
[300796,{"$f":"IF(A1688=\"\",\"\",VLOOKUP(A1688,[1]ItemConfig!$A:$B,2,FALSE))","v":{"$error":"#N/A"}},{"$f":"IF(A1688=\"\",\"\",VLOOKUP(A1688,[1]ItemConfig!$A:$D,4,FALSE))","v":{"$error":"#N/A"}},{"$f":"IF(A1688=\"\",\"\",VLOOKUP(A1688,[1]ItemConfig!$A:$C,3,FALSE))","v":{"$error":"#N/A"}},{"$f":"IF(A1688=\"\",\"\",VLOOKUP(B1688,#REF!,5,FALSE))","v":{"$error":"#N/A"}},{"$f":"IF(A1688=\"\",\"\",VLOOKUP(C1688,#REF!,5,FALSE))","v":{"$error":"#N/A"}}]
[300797,{"$f":"IF(A1689=\"\",\"\",VLOOKUP(A1689,[1]ItemConfig!$A:$B,2,FALSE))","v":{"$error":"#N/A"}},{"$f":"IF(A1689=\"\",\"\",VLOOKUP(A1689,[1]ItemConfig!$A:$D,4,FALSE))","v":{"$error":"#N/A"}},{"$f":"IF(A1689=\"\",\"\",VLOOKUP(A1689,[1]ItemConfig!$A:$C,3,FALSE))","v":{"$error":"#N/A"}},{"$f":"IF(A1689=\"\",\"\",VLOOKUP(B1689,#REF!,5,FALSE))","v":{"$error":"#N/A"}},{"$f":"IF(A1689=\"\",\"\",VLOOKUP(C1689,#REF!,5,FALSE))","v":{"$error":"#N/A"}}]
[300798,{"$f":"IF(A1690=\"\",\"\",VLOOKUP(A1690,[1]ItemConfig!$A:$B,2,FALSE))","v":{"$error":"#N/A"}},{"$f":"IF(A1690=\"\",\"\",VLOOKUP(A1690,[1]ItemConfig!$A:$D,4,FALSE))","v":{"$error":"#N/A"}},{"$f":"IF(A1690=\"\",\"\",VLOOKUP(A1690,[1]ItemConfig!$A:$C,3,FALSE))","v":{"$error":"#N/A"}},{"$f":"IF(A1690=\"\",\"\",VLOOKUP(B1690,#REF!,5,FALSE))","v":{"$error":"#N/A"}},{"$f":"IF(A1690=\"\",\"\",VLOOKUP(C1690,#REF!,5,FALSE))","v":{"$error":"#N/A"}}]
[300799,{"$f":"IF(A1691=\"\",\"\",VLOOKUP(A1691,[1]ItemConfig!$A:$B,2,FALSE))","v":{"$error":"#N/A"}},{"$f":"IF(A1691=\"\",\"\",VLOOKUP(A1691,[1]ItemConfig!$A:$D,4,FALSE))","v":{"$error":"#N/A"}},{"$f":"IF(A1691=\"\",\"\",VLOOKUP(A1691,[1]ItemConfig!$A:$C,3,FALSE))","v":{"$error":"#N/A"}},{"$f":"IF(A1691=\"\",\"\",VLOOKUP(B1691,#REF!,5,FALSE))","v":{"$error":"#N/A"}},{"$f":"IF(A1691=\"\",\"\",VLOOKUP(C1691,#REF!,5,FALSE))","v":{"$error":"#N/A"}}]
[300800,{"$f":"IF(A1692=\"\",\"\",VLOOKUP(A1692,[1]ItemConfig!$A:$B,2,FALSE))","v":{"$error":"#N/A"}},{"$f":"IF(A1692=\"\",\"\",VLOOKUP(A1692,[1]ItemConfig!$A:$D,4,FALSE))","v":{"$error":"#N/A"}},{"$f":"IF(A1692=\"\",\"\",VLOOKUP(A1692,[1]ItemConfig!$A:$C,3,FALSE))","v":{"$error":"#N/A"}},{"$f":"IF(A1692=\"\",\"\",VLOOKUP(B1692,#REF!,5,FALSE))","v":{"$error":"#N/A"}},{"$f":"IF(A1692=\"\",\"\",VLOOKUP(C1692,#REF!,5,FALSE))","v":{"$error":"#N/A"}}]
[null,{"$f":"IF(A1693=\"\",\"\",VLOOKUP(A1693,[1]ItemConfig!$A:$B,2,FALSE))","v":""},{"$f":"IF(A1693=\"\",\"\",VLOOKUP(A1693,[1]ItemConfig!$A:$D,4,FALSE))","v":""},{"$f":"IF(A1693=\"\",\"\",VLOOKUP(A1693,[1]ItemConfig!$A:$C,3,FALSE))","v":""},{"$f":"IF(A1693=\"\",\"\",VLOOKUP(B1693,#REF!,5,FALSE))","v":""},{"$f":"IF(A1693=\"\",\"\",VLOOKUP(C1693,#REF!,5,FALSE))","v":""}]
[300801,{"$f":"IF(A1694=\"\",\"\",VLOOKUP(A1694,[1]ItemConfig!$A:$B,2,FALSE))","v":{"$error":"#N/A"}},{"$f":"IF(A1694=\"\",\"\",VLOOKUP(A1694,[1]ItemConfig!$A:$D,4,FALSE))","v":{"$error":"#N/A"}},{"$f":"IF(A1694=\"\",\"\",VLOOKUP(A1694,[1]ItemConfig!$A:$C,3,FALSE))","v":{"$error":"#N/A"}},{"$f":"IF(A1694=\"\",\"\",VLOOKUP(B1694,#REF!,5,FALSE))","v":{"$error":"#N/A"}},{"$f":"IF(A1694=\"\",\"\",VLOOKUP(C1694,#REF!,5,FALSE))","v":{"$error":"#N/A"}}]
[300802,{"$f":"IF(A1695=\"\",\"\",VLOOKUP(A1695,[1]ItemConfig!$A:$B,2,FALSE))","v":{"$error":"#N/A"}},{"$f":"IF(A1695=\"\",\"\",VLOOKUP(A1695,[1]ItemConfig!$A:$D,4,FALSE))","v":{"$error":"#N/A"}},{"$f":"IF(A1695=\"\",\"\",VLOOKUP(A1695,[1]ItemConfig!$A:$C,3,FALSE))","v":{"$error":"#N/A"}},{"$f":"IF(A1695=\"\",\"\",VLOOKUP(B1695,#REF!,5,FALSE))","v":{"$error":"#N/A"}},{"$f":"IF(A1695=\"\",\"\",VLOOKUP(C1695,#REF!,5,FALSE))","v":{"$error":"#N/A"}}]
[300803,{"$f":"IF(A1696=\"\",\"\",VLOOKUP(A1696,[1]ItemConfig!$A:$B,2,FALSE))","v":{"$error":"#N/A"}},{"$f":"IF(A1696=\"\",\"\",VLOOKUP(A1696,[1]ItemConfig!$A:$D,4,FALSE))","v":{"$error":"#N/A"}},{"$f":"IF(A1696=\"\",\"\",VLOOKUP(A1696,[1]ItemConfig!$A:$C,3,FALSE))","v":{"$error":"#N/A"}},{"$f":"IF(A1696=\"\",\"\",VLOOKUP(B1696,#REF!,5,FALSE))","v":{"$error":"#N/A"}},{"$f":"IF(A1696=\"\",\"\",VLOOKUP(C1696,#REF!,5,FALSE))","v":{"$error":"#N/A"}}]
[300804,{"$f":"IF(A1697=\"\",\"\",VLOOKUP(A1697,[1]ItemConfig!$A:$B,2,FALSE))","v":{"$error":"#N/A"}},{"$f":"IF(A1697=\"\",\"\",VLOOKUP(A1697,[1]ItemConfig!$A:$D,4,FALSE))","v":{"$error":"#N/A"}},{"$f":"IF(A1697=\"\",\"\",VLOOKUP(A1697,[1]ItemConfig!$A:$C,3,FALSE))","v":{"$error":"#N/A"}},{"$f":"IF(A1697=\"\",\"\",VLOOKUP(B1697,#REF!,5,FALSE))","v":{"$error":"#N/A"}},{"$f":"IF(A1697=\"\",\"\",VLOOKUP(C1697,#REF!,5,FALSE))","v":{"$error":"#N/A"}}]
[300805,{"$f":"IF(A1698=\"\",\"\",VLOOKUP(A1698,[1]ItemConfig!$A:$B,2,FALSE))","v":{"$error":"#N/A"}},{"$f":"IF(A1698=\"\",\"\",VLOOKUP(A1698,[1]ItemConfig!$A:$D,4,FALSE))","v":{"$error":"#N/A"}},{"$f":"IF(A1698=\"\",\"\",VLOOKUP(A1698,[1]ItemConfig!$A:$C,3,FALSE))","v":{"$error":"#N/A"}},{"$f":"IF(A1698=\"\",\"\",VLOOKUP(B1698,#REF!,5,FALSE))","v":{"$error":"#N/A"}},{"$f":"IF(A1698=\"\",\"\",VLOOKUP(C1698,#REF!,5,FALSE))","v":{"$error":"#N/A"}}]
[300806,{"$f":"IF(A1699=\"\",\"\",VLOOKUP(A1699,[1]ItemConfig!$A:$B,2,FALSE))","v":{"$error":"#N/A"}},{"$f":"IF(A1699=\"\",\"\",VLOOKUP(A1699,[1]ItemConfig!$A:$D,4,FALSE))","v":{"$error":"#N/A"}},{"$f":"IF(A1699=\"\",\"\",VLOOKUP(A1699,[1]ItemConfig!$A:$C,3,FALSE))","v":{"$error":"#N/A"}},{"$f":"IF(A1699=\"\",\"\",VLOOKUP(B1699,#REF!,5,FALSE))","v":{"$error":"#N/A"}},{"$f":"IF(A1699=\"\",\"\",VLOOKUP(C1699,#REF!,5,FALSE))","v":{"$error":"#N/A"}}]
[300807,{"$f":"IF(A1700=\"\",\"\",VLOOKUP(A1700,[1]ItemConfig!$A:$B,2,FALSE))","v":{"$error":"#N/A"}},{"$f":"IF(A1700=\"\",\"\",VLOOKUP(A1700,[1]ItemConfig!$A:$D,4,FALSE))","v":{"$error":"#N/A"}},{"$f":"IF(A1700=\"\",\"\",VLOOKUP(A1700,[1]ItemConfig!$A:$C,3,FALSE))","v":{"$error":"#N/A"}},{"$f":"IF(A1700=\"\",\"\",VLOOKUP(B1700,#REF!,5,FALSE))","v":{"$error":"#N/A"}},{"$f":"IF(A1700=\"\",\"\",VLOOKUP(C1700,#REF!,5,FALSE))","v":{"$error":"#N/A"}}]
[300808,{"$f":"IF(A1701=\"\",\"\",VLOOKUP(A1701,[1]ItemConfig!$A:$B,2,FALSE))","v":{"$error":"#N/A"}},{"$f":"IF(A1701=\"\",\"\",VLOOKUP(A1701,[1]ItemConfig!$A:$D,4,FALSE))","v":{"$error":"#N/A"}},{"$f":"IF(A1701=\"\",\"\",VLOOKUP(A1701,[1]ItemConfig!$A:$C,3,FALSE))","v":{"$error":"#N/A"}},{"$f":"IF(A1701=\"\",\"\",VLOOKUP(B1701,#REF!,5,FALSE))","v":{"$error":"#N/A"}},{"$f":"IF(A1701=\"\",\"\",VLOOKUP(C1701,#REF!,5,FALSE))","v":{"$error":"#N/A"}}]
[300809,{"$f":"IF(A1702=\"\",\"\",VLOOKUP(A1702,[1]ItemConfig!$A:$B,2,FALSE))","v":{"$error":"#N/A"}},{"$f":"IF(A1702=\"\",\"\",VLOOKUP(A1702,[1]ItemConfig!$A:$D,4,FALSE))","v":{"$error":"#N/A"}},{"$f":"IF(A1702=\"\",\"\",VLOOKUP(A1702,[1]ItemConfig!$A:$C,3,FALSE))","v":{"$error":"#N/A"}},{"$f":"IF(A1702=\"\",\"\",VLOOKUP(B1702,#REF!,5,FALSE))","v":{"$error":"#N/A"}},{"$f":"IF(A1702=\"\",\"\",VLOOKUP(C1702,#REF!,5,FALSE))","v":{"$error":"#N/A"}}]
[300810,{"$f":"IF(A1703=\"\",\"\",VLOOKUP(A1703,[1]ItemConfig!$A:$B,2,FALSE))","v":{"$error":"#N/A"}},{"$f":"IF(A1703=\"\",\"\",VLOOKUP(A1703,[1]ItemConfig!$A:$D,4,FALSE))","v":{"$error":"#N/A"}},{"$f":"IF(A1703=\"\",\"\",VLOOKUP(A1703,[1]ItemConfig!$A:$C,3,FALSE))","v":{"$error":"#N/A"}},{"$f":"IF(A1703=\"\",\"\",VLOOKUP(B1703,#REF!,5,FALSE))","v":{"$error":"#N/A"}},{"$f":"IF(A1703=\"\",\"\",VLOOKUP(C1703,#REF!,5,FALSE))","v":{"$error":"#N/A"}}]
[300811,{"$f":"IF(A1704=\"\",\"\",VLOOKUP(A1704,[1]ItemConfig!$A:$B,2,FALSE))","v":{"$error":"#N/A"}},{"$f":"IF(A1704=\"\",\"\",VLOOKUP(A1704,[1]ItemConfig!$A:$D,4,FALSE))","v":{"$error":"#N/A"}},{"$f":"IF(A1704=\"\",\"\",VLOOKUP(A1704,[1]ItemConfig!$A:$C,3,FALSE))","v":{"$error":"#N/A"}},{"$f":"IF(A1704=\"\",\"\",VLOOKUP(B1704,#REF!,5,FALSE))","v":{"$error":"#N/A"}},{"$f":"IF(A1704=\"\",\"\",VLOOKUP(C1704,#REF!,5,FALSE))","v":{"$error":"#N/A"}}]
[300812,{"$f":"IF(A1705=\"\",\"\",VLOOKUP(A1705,[1]ItemConfig!$A:$B,2,FALSE))","v":{"$error":"#N/A"}},{"$f":"IF(A1705=\"\",\"\",VLOOKUP(A1705,[1]ItemConfig!$A:$D,4,FALSE))","v":{"$error":"#N/A"}},{"$f":"IF(A1705=\"\",\"\",VLOOKUP(A1705,[1]ItemConfig!$A:$C,3,FALSE))","v":{"$error":"#N/A"}},{"$f":"IF(A1705=\"\",\"\",VLOOKUP(B1705,#REF!,5,FALSE))","v":{"$error":"#N/A"}},{"$f":"IF(A1705=\"\",\"\",VLOOKUP(C1705,#REF!,5,FALSE))","v":{"$error":"#N/A"}}]
[300813,{"$f":"IF(A1706=\"\",\"\",VLOOKUP(A1706,[1]ItemConfig!$A:$B,2,FALSE))","v":{"$error":"#N/A"}},{"$f":"IF(A1706=\"\",\"\",VLOOKUP(A1706,[1]ItemConfig!$A:$D,4,FALSE))","v":{"$error":"#N/A"}},{"$f":"IF(A1706=\"\",\"\",VLOOKUP(A1706,[1]ItemConfig!$A:$C,3,FALSE))","v":{"$error":"#N/A"}},{"$f":"IF(A1706=\"\",\"\",VLOOKUP(B1706,#REF!,5,FALSE))","v":{"$error":"#N/A"}},{"$f":"IF(A1706=\"\",\"\",VLOOKUP(C1706,#REF!,5,FALSE))","v":{"$error":"#N/A"}}]
[300814,{"$f":"IF(A1707=\"\",\"\",VLOOKUP(A1707,[1]ItemConfig!$A:$B,2,FALSE))","v":{"$error":"#N/A"}},{"$f":"IF(A1707=\"\",\"\",VLOOKUP(A1707,[1]ItemConfig!$A:$D,4,FALSE))","v":{"$error":"#N/A"}},{"$f":"IF(A1707=\"\",\"\",VLOOKUP(A1707,[1]ItemConfig!$A:$C,3,FALSE))","v":{"$error":"#N/A"}},{"$f":"IF(A1707=\"\",\"\",VLOOKUP(B1707,#REF!,5,FALSE))","v":{"$error":"#N/A"}},{"$f":"IF(A1707=\"\",\"\",VLOOKUP(C1707,#REF!,5,FALSE))","v":{"$error":"#N/A"}}]
[300815,{"$f":"IF(A1708=\"\",\"\",VLOOKUP(A1708,[1]ItemConfig!$A:$B,2,FALSE))","v":{"$error":"#N/A"}},{"$f":"IF(A1708=\"\",\"\",VLOOKUP(A1708,[1]ItemConfig!$A:$D,4,FALSE))","v":{"$error":"#N/A"}},{"$f":"IF(A1708=\"\",\"\",VLOOKUP(A1708,[1]ItemConfig!$A:$C,3,FALSE))","v":{"$error":"#N/A"}},{"$f":"IF(A1708=\"\",\"\",VLOOKUP(B1708,#REF!,5,FALSE))","v":{"$error":"#N/A"}},{"$f":"IF(A1708=\"\",\"\",VLOOKUP(C1708,#REF!,5,FALSE))","v":{"$error":"#N/A"}}]
[300816,{"$f":"IF(A1709=\"\",\"\",VLOOKUP(A1709,[1]ItemConfig!$A:$B,2,FALSE))","v":{"$error":"#N/A"}},{"$f":"IF(A1709=\"\",\"\",VLOOKUP(A1709,[1]ItemConfig!$A:$D,4,FALSE))","v":{"$error":"#N/A"}},{"$f":"IF(A1709=\"\",\"\",VLOOKUP(A1709,[1]ItemConfig!$A:$C,3,FALSE))","v":{"$error":"#N/A"}},{"$f":"IF(A1709=\"\",\"\",VLOOKUP(B1709,#REF!,5,FALSE))","v":{"$error":"#N/A"}},{"$f":"IF(A1709=\"\",\"\",VLOOKUP(C1709,#REF!,5,FALSE))","v":{"$error":"#N/A"}}]
[300817,{"$f":"IF(A1710=\"\",\"\",VLOOKUP(A1710,[1]ItemConfig!$A:$B,2,FALSE))","v":{"$error":"#N/A"}},{"$f":"IF(A1710=\"\",\"\",VLOOKUP(A1710,[1]ItemConfig!$A:$D,4,FALSE))","v":{"$error":"#N/A"}},{"$f":"IF(A1710=\"\",\"\",VLOOKUP(A1710,[1]ItemConfig!$A:$C,3,FALSE))","v":{"$error":"#N/A"}},{"$f":"IF(A1710=\"\",\"\",VLOOKUP(B1710,#REF!,5,FALSE))","v":{"$error":"#N/A"}},{"$f":"IF(A1710=\"\",\"\",VLOOKUP(C1710,#REF!,5,FALSE))","v":{"$error":"#N/A"}}]
[300818,{"$f":"IF(A1711=\"\",\"\",VLOOKUP(A1711,[1]ItemConfig!$A:$B,2,FALSE))","v":{"$error":"#N/A"}},{"$f":"IF(A1711=\"\",\"\",VLOOKUP(A1711,[1]ItemConfig!$A:$D,4,FALSE))","v":{"$error":"#N/A"}},{"$f":"IF(A1711=\"\",\"\",VLOOKUP(A1711,[1]ItemConfig!$A:$C,3,FALSE))","v":{"$error":"#N/A"}},{"$f":"IF(A1711=\"\",\"\",VLOOKUP(B1711,#REF!,5,FALSE))","v":{"$error":"#N/A"}},{"$f":"IF(A1711=\"\",\"\",VLOOKUP(C1711,#REF!,5,FALSE))","v":{"$error":"#N/A"}}]
[300819,{"$f":"IF(A1712=\"\",\"\",VLOOKUP(A1712,[1]ItemConfig!$A:$B,2,FALSE))","v":{"$error":"#N/A"}},{"$f":"IF(A1712=\"\",\"\",VLOOKUP(A1712,[1]ItemConfig!$A:$D,4,FALSE))","v":{"$error":"#N/A"}},{"$f":"IF(A1712=\"\",\"\",VLOOKUP(A1712,[1]ItemConfig!$A:$C,3,FALSE))","v":{"$error":"#N/A"}},{"$f":"IF(A1712=\"\",\"\",VLOOKUP(B1712,#REF!,5,FALSE))","v":{"$error":"#N/A"}},{"$f":"IF(A1712=\"\",\"\",VLOOKUP(C1712,#REF!,5,FALSE))","v":{"$error":"#N/A"}}]
[300820,{"$f":"IF(A1713=\"\",\"\",VLOOKUP(A1713,[1]ItemConfig!$A:$B,2,FALSE))","v":{"$error":"#N/A"}},{"$f":"IF(A1713=\"\",\"\",VLOOKUP(A1713,[1]ItemConfig!$A:$D,4,FALSE))","v":{"$error":"#N/A"}},{"$f":"IF(A1713=\"\",\"\",VLOOKUP(A1713,[1]ItemConfig!$A:$C,3,FALSE))","v":{"$error":"#N/A"}},{"$f":"IF(A1713=\"\",\"\",VLOOKUP(B1713,#REF!,5,FALSE))","v":{"$error":"#N/A"}},{"$f":"IF(A1713=\"\",\"\",VLOOKUP(C1713,#REF!,5,FALSE))","v":{"$error":"#N/A"}}]
[300821,{"$f":"IF(A1714=\"\",\"\",VLOOKUP(A1714,[1]ItemConfig!$A:$B,2,FALSE))","v":{"$error":"#N/A"}},{"$f":"IF(A1714=\"\",\"\",VLOOKUP(A1714,[1]ItemConfig!$A:$D,4,FALSE))","v":{"$error":"#N/A"}},{"$f":"IF(A1714=\"\",\"\",VLOOKUP(A1714,[1]ItemConfig!$A:$C,3,FALSE))","v":{"$error":"#N/A"}},{"$f":"IF(A1714=\"\",\"\",VLOOKUP(B1714,#REF!,5,FALSE))","v":{"$error":"#N/A"}},{"$f":"IF(A1714=\"\",\"\",VLOOKUP(C1714,#REF!,5,FALSE))","v":{"$error":"#N/A"}}]
[300822,{"$f":"IF(A1715=\"\",\"\",VLOOKUP(A1715,[1]ItemConfig!$A:$B,2,FALSE))","v":{"$error":"#N/A"}},{"$f":"IF(A1715=\"\",\"\",VLOOKUP(A1715,[1]ItemConfig!$A:$D,4,FALSE))","v":{"$error":"#N/A"}},{"$f":"IF(A1715=\"\",\"\",VLOOKUP(A1715,[1]ItemConfig!$A:$C,3,FALSE))","v":{"$error":"#N/A"}},{"$f":"IF(A1715=\"\",\"\",VLOOKUP(B1715,#REF!,5,FALSE))","v":{"$error":"#N/A"}},{"$f":"IF(A1715=\"\",\"\",VLOOKUP(C1715,#REF!,5,FALSE))","v":{"$error":"#N/A"}}]
[300823,{"$f":"IF(A1716=\"\",\"\",VLOOKUP(A1716,[1]ItemConfig!$A:$B,2,FALSE))","v":{"$error":"#N/A"}},{"$f":"IF(A1716=\"\",\"\",VLOOKUP(A1716,[1]ItemConfig!$A:$D,4,FALSE))","v":{"$error":"#N/A"}},{"$f":"IF(A1716=\"\",\"\",VLOOKUP(A1716,[1]ItemConfig!$A:$C,3,FALSE))","v":{"$error":"#N/A"}},{"$f":"IF(A1716=\"\",\"\",VLOOKUP(B1716,#REF!,5,FALSE))","v":{"$error":"#N/A"}},{"$f":"IF(A1716=\"\",\"\",VLOOKUP(C1716,#REF!,5,FALSE))","v":{"$error":"#N/A"}}]
[300824,{"$f":"IF(A1717=\"\",\"\",VLOOKUP(A1717,[1]ItemConfig!$A:$B,2,FALSE))","v":{"$error":"#N/A"}},{"$f":"IF(A1717=\"\",\"\",VLOOKUP(A1717,[1]ItemConfig!$A:$D,4,FALSE))","v":{"$error":"#N/A"}},{"$f":"IF(A1717=\"\",\"\",VLOOKUP(A1717,[1]ItemConfig!$A:$C,3,FALSE))","v":{"$error":"#N/A"}},{"$f":"IF(A1717=\"\",\"\",VLOOKUP(B1717,#REF!,5,FALSE))","v":{"$error":"#N/A"}},{"$f":"IF(A1717=\"\",\"\",VLOOKUP(C1717,#REF!,5,FALSE))","v":{"$error":"#N/A"}}]
[300825,{"$f":"IF(A1718=\"\",\"\",VLOOKUP(A1718,[1]ItemConfig!$A:$B,2,FALSE))","v":{"$error":"#N/A"}},{"$f":"IF(A1718=\"\",\"\",VLOOKUP(A1718,[1]ItemConfig!$A:$D,4,FALSE))","v":{"$error":"#N/A"}},{"$f":"IF(A1718=\"\",\"\",VLOOKUP(A1718,[1]ItemConfig!$A:$C,3,FALSE))","v":{"$error":"#N/A"}},{"$f":"IF(A1718=\"\",\"\",VLOOKUP(B1718,#REF!,5,FALSE))","v":{"$error":"#N/A"}},{"$f":"IF(A1718=\"\",\"\",VLOOKUP(C1718,#REF!,5,FALSE))","v":{"$error":"#N/A"}}]
[300826,{"$f":"IF(A1719=\"\",\"\",VLOOKUP(A1719,[1]ItemConfig!$A:$B,2,FALSE))","v":{"$error":"#N/A"}},{"$f":"IF(A1719=\"\",\"\",VLOOKUP(A1719,[1]ItemConfig!$A:$D,4,FALSE))","v":{"$error":"#N/A"}},{"$f":"IF(A1719=\"\",\"\",VLOOKUP(A1719,[1]ItemConfig!$A:$C,3,FALSE))","v":{"$error":"#N/A"}},{"$f":"IF(A1719=\"\",\"\",VLOOKUP(B1719,#REF!,5,FALSE))","v":{"$error":"#N/A"}},{"$f":"IF(A1719=\"\",\"\",VLOOKUP(C1719,#REF!,5,FALSE))","v":{"$error":"#N/A"}}]
[300827,{"$f":"IF(A1720=\"\",\"\",VLOOKUP(A1720,[1]ItemConfig!$A:$B,2,FALSE))","v":{"$error":"#N/A"}},{"$f":"IF(A1720=\"\",\"\",VLOOKUP(A1720,[1]ItemConfig!$A:$D,4,FALSE))","v":{"$error":"#N/A"}},{"$f":"IF(A1720=\"\",\"\",VLOOKUP(A1720,[1]ItemConfig!$A:$C,3,FALSE))","v":{"$error":"#N/A"}},{"$f":"IF(A1720=\"\",\"\",VLOOKUP(B1720,#REF!,5,FALSE))","v":{"$error":"#N/A"}},{"$f":"IF(A1720=\"\",\"\",VLOOKUP(C1720,#REF!,5,FALSE))","v":{"$error":"#N/A"}}]
[300828,{"$f":"IF(A1721=\"\",\"\",VLOOKUP(A1721,[1]ItemConfig!$A:$B,2,FALSE))","v":{"$error":"#N/A"}},{"$f":"IF(A1721=\"\",\"\",VLOOKUP(A1721,[1]ItemConfig!$A:$D,4,FALSE))","v":{"$error":"#N/A"}},{"$f":"IF(A1721=\"\",\"\",VLOOKUP(A1721,[1]ItemConfig!$A:$C,3,FALSE))","v":{"$error":"#N/A"}},{"$f":"IF(A1721=\"\",\"\",VLOOKUP(B1721,#REF!,5,FALSE))","v":{"$error":"#N/A"}},{"$f":"IF(A1721=\"\",\"\",VLOOKUP(C1721,#REF!,5,FALSE))","v":{"$error":"#N/A"}}]
[300829,{"$f":"IF(A1722=\"\",\"\",VLOOKUP(A1722,[1]ItemConfig!$A:$B,2,FALSE))","v":{"$error":"#N/A"}},{"$f":"IF(A1722=\"\",\"\",VLOOKUP(A1722,[1]ItemConfig!$A:$D,4,FALSE))","v":{"$error":"#N/A"}},{"$f":"IF(A1722=\"\",\"\",VLOOKUP(A1722,[1]ItemConfig!$A:$C,3,FALSE))","v":{"$error":"#N/A"}},{"$f":"IF(A1722=\"\",\"\",VLOOKUP(B1722,#REF!,5,FALSE))","v":{"$error":"#N/A"}},{"$f":"IF(A1722=\"\",\"\",VLOOKUP(C1722,#REF!,5,FALSE))","v":{"$error":"#N/A"}}]
[300830,{"$f":"IF(A1723=\"\",\"\",VLOOKUP(A1723,[1]ItemConfig!$A:$B,2,FALSE))","v":{"$error":"#N/A"}},{"$f":"IF(A1723=\"\",\"\",VLOOKUP(A1723,[1]ItemConfig!$A:$D,4,FALSE))","v":{"$error":"#N/A"}},{"$f":"IF(A1723=\"\",\"\",VLOOKUP(A1723,[1]ItemConfig!$A:$C,3,FALSE))","v":{"$error":"#N/A"}},{"$f":"IF(A1723=\"\",\"\",VLOOKUP(B1723,#REF!,5,FALSE))","v":{"$error":"#N/A"}},{"$f":"IF(A1723=\"\",\"\",VLOOKUP(C1723,#REF!,5,FALSE))","v":{"$error":"#N/A"}}]
[300831,{"$f":"IF(A1724=\"\",\"\",VLOOKUP(A1724,[1]ItemConfig!$A:$B,2,FALSE))","v":{"$error":"#N/A"}},{"$f":"IF(A1724=\"\",\"\",VLOOKUP(A1724,[1]ItemConfig!$A:$D,4,FALSE))","v":{"$error":"#N/A"}},{"$f":"IF(A1724=\"\",\"\",VLOOKUP(A1724,[1]ItemConfig!$A:$C,3,FALSE))","v":{"$error":"#N/A"}},{"$f":"IF(A1724=\"\",\"\",VLOOKUP(B1724,#REF!,5,FALSE))","v":{"$error":"#N/A"}},{"$f":"IF(A1724=\"\",\"\",VLOOKUP(C1724,#REF!,5,FALSE))","v":{"$error":"#N/A"}}]
[300832,{"$f":"IF(A1725=\"\",\"\",VLOOKUP(A1725,[1]ItemConfig!$A:$B,2,FALSE))","v":{"$error":"#N/A"}},{"$f":"IF(A1725=\"\",\"\",VLOOKUP(A1725,[1]ItemConfig!$A:$D,4,FALSE))","v":{"$error":"#N/A"}},{"$f":"IF(A1725=\"\",\"\",VLOOKUP(A1725,[1]ItemConfig!$A:$C,3,FALSE))","v":{"$error":"#N/A"}},{"$f":"IF(A1725=\"\",\"\",VLOOKUP(B1725,#REF!,5,FALSE))","v":{"$error":"#N/A"}},{"$f":"IF(A1725=\"\",\"\",VLOOKUP(C1725,#REF!,5,FALSE))","v":{"$error":"#N/A"}}]
[300833,{"$f":"IF(A1726=\"\",\"\",VLOOKUP(A1726,[1]ItemConfig!$A:$B,2,FALSE))","v":{"$error":"#N/A"}},{"$f":"IF(A1726=\"\",\"\",VLOOKUP(A1726,[1]ItemConfig!$A:$D,4,FALSE))","v":{"$error":"#N/A"}},{"$f":"IF(A1726=\"\",\"\",VLOOKUP(A1726,[1]ItemConfig!$A:$C,3,FALSE))","v":{"$error":"#N/A"}},{"$f":"IF(A1726=\"\",\"\",VLOOKUP(B1726,#REF!,5,FALSE))","v":{"$error":"#N/A"}},{"$f":"IF(A1726=\"\",\"\",VLOOKUP(C1726,#REF!,5,FALSE))","v":{"$error":"#N/A"}}]
[300834,{"$f":"IF(A1727=\"\",\"\",VLOOKUP(A1727,[1]ItemConfig!$A:$B,2,FALSE))","v":{"$error":"#N/A"}},{"$f":"IF(A1727=\"\",\"\",VLOOKUP(A1727,[1]ItemConfig!$A:$D,4,FALSE))","v":{"$error":"#N/A"}},{"$f":"IF(A1727=\"\",\"\",VLOOKUP(A1727,[1]ItemConfig!$A:$C,3,FALSE))","v":{"$error":"#N/A"}},{"$f":"IF(A1727=\"\",\"\",VLOOKUP(B1727,#REF!,5,FALSE))","v":{"$error":"#N/A"}},{"$f":"IF(A1727=\"\",\"\",VLOOKUP(C1727,#REF!,5,FALSE))","v":{"$error":"#N/A"}}]
[300835,{"$f":"IF(A1728=\"\",\"\",VLOOKUP(A1728,[1]ItemConfig!$A:$B,2,FALSE))","v":{"$error":"#N/A"}},{"$f":"IF(A1728=\"\",\"\",VLOOKUP(A1728,[1]ItemConfig!$A:$D,4,FALSE))","v":{"$error":"#N/A"}},{"$f":"IF(A1728=\"\",\"\",VLOOKUP(A1728,[1]ItemConfig!$A:$C,3,FALSE))","v":{"$error":"#N/A"}},{"$f":"IF(A1728=\"\",\"\",VLOOKUP(B1728,#REF!,5,FALSE))","v":{"$error":"#N/A"}},{"$f":"IF(A1728=\"\",\"\",VLOOKUP(C1728,#REF!,5,FALSE))","v":{"$error":"#N/A"}}]
[300836,{"$f":"IF(A1729=\"\",\"\",VLOOKUP(A1729,[1]ItemConfig!$A:$B,2,FALSE))","v":{"$error":"#N/A"}},{"$f":"IF(A1729=\"\",\"\",VLOOKUP(A1729,[1]ItemConfig!$A:$D,4,FALSE))","v":{"$error":"#N/A"}},{"$f":"IF(A1729=\"\",\"\",VLOOKUP(A1729,[1]ItemConfig!$A:$C,3,FALSE))","v":{"$error":"#N/A"}},{"$f":"IF(A1729=\"\",\"\",VLOOKUP(B1729,#REF!,5,FALSE))","v":{"$error":"#N/A"}},{"$f":"IF(A1729=\"\",\"\",VLOOKUP(C1729,#REF!,5,FALSE))","v":{"$error":"#N/A"}}]
[300837,{"$f":"IF(A1730=\"\",\"\",VLOOKUP(A1730,[1]ItemConfig!$A:$B,2,FALSE))","v":{"$error":"#N/A"}},{"$f":"IF(A1730=\"\",\"\",VLOOKUP(A1730,[1]ItemConfig!$A:$D,4,FALSE))","v":{"$error":"#N/A"}},{"$f":"IF(A1730=\"\",\"\",VLOOKUP(A1730,[1]ItemConfig!$A:$C,3,FALSE))","v":{"$error":"#N/A"}},{"$f":"IF(A1730=\"\",\"\",VLOOKUP(B1730,#REF!,5,FALSE))","v":{"$error":"#N/A"}},{"$f":"IF(A1730=\"\",\"\",VLOOKUP(C1730,#REF!,5,FALSE))","v":{"$error":"#N/A"}}]
[300838,{"$f":"IF(A1731=\"\",\"\",VLOOKUP(A1731,[1]ItemConfig!$A:$B,2,FALSE))","v":{"$error":"#N/A"}},{"$f":"IF(A1731=\"\",\"\",VLOOKUP(A1731,[1]ItemConfig!$A:$D,4,FALSE))","v":{"$error":"#N/A"}},{"$f":"IF(A1731=\"\",\"\",VLOOKUP(A1731,[1]ItemConfig!$A:$C,3,FALSE))","v":{"$error":"#N/A"}},{"$f":"IF(A1731=\"\",\"\",VLOOKUP(B1731,#REF!,5,FALSE))","v":{"$error":"#N/A"}},{"$f":"IF(A1731=\"\",\"\",VLOOKUP(C1731,#REF!,5,FALSE))","v":{"$error":"#N/A"}}]
[300839,{"$f":"IF(A1732=\"\",\"\",VLOOKUP(A1732,[1]ItemConfig!$A:$B,2,FALSE))","v":{"$error":"#N/A"}},{"$f":"IF(A1732=\"\",\"\",VLOOKUP(A1732,[1]ItemConfig!$A:$D,4,FALSE))","v":{"$error":"#N/A"}},{"$f":"IF(A1732=\"\",\"\",VLOOKUP(A1732,[1]ItemConfig!$A:$C,3,FALSE))","v":{"$error":"#N/A"}},{"$f":"IF(A1732=\"\",\"\",VLOOKUP(B1732,#REF!,5,FALSE))","v":{"$error":"#N/A"}},{"$f":"IF(A1732=\"\",\"\",VLOOKUP(C1732,#REF!,5,FALSE))","v":{"$error":"#N/A"}}]
[300840,{"$f":"IF(A1733=\"\",\"\",VLOOKUP(A1733,[1]ItemConfig!$A:$B,2,FALSE))","v":{"$error":"#N/A"}},{"$f":"IF(A1733=\"\",\"\",VLOOKUP(A1733,[1]ItemConfig!$A:$D,4,FALSE))","v":{"$error":"#N/A"}},{"$f":"IF(A1733=\"\",\"\",VLOOKUP(A1733,[1]ItemConfig!$A:$C,3,FALSE))","v":{"$error":"#N/A"}},{"$f":"IF(A1733=\"\",\"\",VLOOKUP(B1733,#REF!,5,FALSE))","v":{"$error":"#N/A"}},{"$f":"IF(A1733=\"\",\"\",VLOOKUP(C1733,#REF!,5,FALSE))","v":{"$error":"#N/A"}}]
[300841,{"$f":"IF(A1734=\"\",\"\",VLOOKUP(A1734,[1]ItemConfig!$A:$B,2,FALSE))","v":{"$error":"#N/A"}},{"$f":"IF(A1734=\"\",\"\",VLOOKUP(A1734,[1]ItemConfig!$A:$D,4,FALSE))","v":{"$error":"#N/A"}},{"$f":"IF(A1734=\"\",\"\",VLOOKUP(A1734,[1]ItemConfig!$A:$C,3,FALSE))","v":{"$error":"#N/A"}},{"$f":"IF(A1734=\"\",\"\",VLOOKUP(B1734,#REF!,5,FALSE))","v":{"$error":"#N/A"}},{"$f":"IF(A1734=\"\",\"\",VLOOKUP(C1734,#REF!,5,FALSE))","v":{"$error":"#N/A"}}]
[300842,{"$f":"IF(A1735=\"\",\"\",VLOOKUP(A1735,[1]ItemConfig!$A:$B,2,FALSE))","v":{"$error":"#N/A"}},{"$f":"IF(A1735=\"\",\"\",VLOOKUP(A1735,[1]ItemConfig!$A:$D,4,FALSE))","v":{"$error":"#N/A"}},{"$f":"IF(A1735=\"\",\"\",VLOOKUP(A1735,[1]ItemConfig!$A:$C,3,FALSE))","v":{"$error":"#N/A"}},{"$f":"IF(A1735=\"\",\"\",VLOOKUP(B1735,#REF!,5,FALSE))","v":{"$error":"#N/A"}},{"$f":"IF(A1735=\"\",\"\",VLOOKUP(C1735,#REF!,5,FALSE))","v":{"$error":"#N/A"}}]
[300843,{"$f":"IF(A1736=\"\",\"\",VLOOKUP(A1736,[1]ItemConfig!$A:$B,2,FALSE))","v":{"$error":"#N/A"}},{"$f":"IF(A1736=\"\",\"\",VLOOKUP(A1736,[1]ItemConfig!$A:$D,4,FALSE))","v":{"$error":"#N/A"}},{"$f":"IF(A1736=\"\",\"\",VLOOKUP(A1736,[1]ItemConfig!$A:$C,3,FALSE))","v":{"$error":"#N/A"}},{"$f":"IF(A1736=\"\",\"\",VLOOKUP(B1736,#REF!,5,FALSE))","v":{"$error":"#N/A"}},{"$f":"IF(A1736=\"\",\"\",VLOOKUP(C1736,#REF!,5,FALSE))","v":{"$error":"#N/A"}}]
[300844,{"$f":"IF(A1737=\"\",\"\",VLOOKUP(A1737,[1]ItemConfig!$A:$B,2,FALSE))","v":{"$error":"#N/A"}},{"$f":"IF(A1737=\"\",\"\",VLOOKUP(A1737,[1]ItemConfig!$A:$D,4,FALSE))","v":{"$error":"#N/A"}},{"$f":"IF(A1737=\"\",\"\",VLOOKUP(A1737,[1]ItemConfig!$A:$C,3,FALSE))","v":{"$error":"#N/A"}},{"$f":"IF(A1737=\"\",\"\",VLOOKUP(B1737,#REF!,5,FALSE))","v":{"$error":"#N/A"}},{"$f":"IF(A1737=\"\",\"\",VLOOKUP(C1737,#REF!,5,FALSE))","v":{"$error":"#N/A"}}]
[300845,{"$f":"IF(A1738=\"\",\"\",VLOOKUP(A1738,[1]ItemConfig!$A:$B,2,FALSE))","v":{"$error":"#N/A"}},{"$f":"IF(A1738=\"\",\"\",VLOOKUP(A1738,[1]ItemConfig!$A:$D,4,FALSE))","v":{"$error":"#N/A"}},{"$f":"IF(A1738=\"\",\"\",VLOOKUP(A1738,[1]ItemConfig!$A:$C,3,FALSE))","v":{"$error":"#N/A"}},{"$f":"IF(A1738=\"\",\"\",VLOOKUP(B1738,#REF!,5,FALSE))","v":{"$error":"#N/A"}},{"$f":"IF(A1738=\"\",\"\",VLOOKUP(C1738,#REF!,5,FALSE))","v":{"$error":"#N/A"}}]
[300846,{"$f":"IF(A1739=\"\",\"\",VLOOKUP(A1739,[1]ItemConfig!$A:$B,2,FALSE))","v":{"$error":"#N/A"}},{"$f":"IF(A1739=\"\",\"\",VLOOKUP(A1739,[1]ItemConfig!$A:$D,4,FALSE))","v":{"$error":"#N/A"}},{"$f":"IF(A1739=\"\",\"\",VLOOKUP(A1739,[1]ItemConfig!$A:$C,3,FALSE))","v":{"$error":"#N/A"}},{"$f":"IF(A1739=\"\",\"\",VLOOKUP(B1739,#REF!,5,FALSE))","v":{"$error":"#N/A"}},{"$f":"IF(A1739=\"\",\"\",VLOOKUP(C1739,#REF!,5,FALSE))","v":{"$error":"#N/A"}}]
[300847,{"$f":"IF(A1740=\"\",\"\",VLOOKUP(A1740,[1]ItemConfig!$A:$B,2,FALSE))","v":{"$error":"#N/A"}},{"$f":"IF(A1740=\"\",\"\",VLOOKUP(A1740,[1]ItemConfig!$A:$D,4,FALSE))","v":{"$error":"#N/A"}},{"$f":"IF(A1740=\"\",\"\",VLOOKUP(A1740,[1]ItemConfig!$A:$C,3,FALSE))","v":{"$error":"#N/A"}},{"$f":"IF(A1740=\"\",\"\",VLOOKUP(B1740,#REF!,5,FALSE))","v":{"$error":"#N/A"}},{"$f":"IF(A1740=\"\",\"\",VLOOKUP(C1740,#REF!,5,FALSE))","v":{"$error":"#N/A"}}]
[300848,{"$f":"IF(A1741=\"\",\"\",VLOOKUP(A1741,[1]ItemConfig!$A:$B,2,FALSE))","v":{"$error":"#N/A"}},{"$f":"IF(A1741=\"\",\"\",VLOOKUP(A1741,[1]ItemConfig!$A:$D,4,FALSE))","v":{"$error":"#N/A"}},{"$f":"IF(A1741=\"\",\"\",VLOOKUP(A1741,[1]ItemConfig!$A:$C,3,FALSE))","v":{"$error":"#N/A"}},{"$f":"IF(A1741=\"\",\"\",VLOOKUP(B1741,#REF!,5,FALSE))","v":{"$error":"#N/A"}},{"$f":"IF(A1741=\"\",\"\",VLOOKUP(C1741,#REF!,5,FALSE))","v":{"$error":"#N/A"}}]
[300849,{"$f":"IF(A1742=\"\",\"\",VLOOKUP(A1742,[1]ItemConfig!$A:$B,2,FALSE))","v":{"$error":"#N/A"}},{"$f":"IF(A1742=\"\",\"\",VLOOKUP(A1742,[1]ItemConfig!$A:$D,4,FALSE))","v":{"$error":"#N/A"}},{"$f":"IF(A1742=\"\",\"\",VLOOKUP(A1742,[1]ItemConfig!$A:$C,3,FALSE))","v":{"$error":"#N/A"}},{"$f":"IF(A1742=\"\",\"\",VLOOKUP(B1742,#REF!,5,FALSE))","v":{"$error":"#N/A"}},{"$f":"IF(A1742=\"\",\"\",VLOOKUP(C1742,#REF!,5,FALSE))","v":{"$error":"#N/A"}}]
[300850,{"$f":"IF(A1743=\"\",\"\",VLOOKUP(A1743,[1]ItemConfig!$A:$B,2,FALSE))","v":{"$error":"#N/A"}},{"$f":"IF(A1743=\"\",\"\",VLOOKUP(A1743,[1]ItemConfig!$A:$D,4,FALSE))","v":{"$error":"#N/A"}},{"$f":"IF(A1743=\"\",\"\",VLOOKUP(A1743,[1]ItemConfig!$A:$C,3,FALSE))","v":{"$error":"#N/A"}},{"$f":"IF(A1743=\"\",\"\",VLOOKUP(B1743,#REF!,5,FALSE))","v":{"$error":"#N/A"}},{"$f":"IF(A1743=\"\",\"\",VLOOKUP(C1743,#REF!,5,FALSE))","v":{"$error":"#N/A"}}]
[300851,{"$f":"IF(A1744=\"\",\"\",VLOOKUP(A1744,[1]ItemConfig!$A:$B,2,FALSE))","v":{"$error":"#N/A"}},{"$f":"IF(A1744=\"\",\"\",VLOOKUP(A1744,[1]ItemConfig!$A:$D,4,FALSE))","v":{"$error":"#N/A"}},{"$f":"IF(A1744=\"\",\"\",VLOOKUP(A1744,[1]ItemConfig!$A:$C,3,FALSE))","v":{"$error":"#N/A"}},{"$f":"IF(A1744=\"\",\"\",VLOOKUP(B1744,#REF!,5,FALSE))","v":{"$error":"#N/A"}},{"$f":"IF(A1744=\"\",\"\",VLOOKUP(C1744,#REF!,5,FALSE))","v":{"$error":"#N/A"}}]
[300852,{"$f":"IF(A1745=\"\",\"\",VLOOKUP(A1745,[1]ItemConfig!$A:$B,2,FALSE))","v":{"$error":"#N/A"}},{"$f":"IF(A1745=\"\",\"\",VLOOKUP(A1745,[1]ItemConfig!$A:$D,4,FALSE))","v":{"$error":"#N/A"}},{"$f":"IF(A1745=\"\",\"\",VLOOKUP(A1745,[1]ItemConfig!$A:$C,3,FALSE))","v":{"$error":"#N/A"}},{"$f":"IF(A1745=\"\",\"\",VLOOKUP(B1745,#REF!,5,FALSE))","v":{"$error":"#N/A"}},{"$f":"IF(A1745=\"\",\"\",VLOOKUP(C1745,#REF!,5,FALSE))","v":{"$error":"#N/A"}}]
[300853,{"$f":"IF(A1746=\"\",\"\",VLOOKUP(A1746,[1]ItemConfig!$A:$B,2,FALSE))","v":{"$error":"#N/A"}},{"$f":"IF(A1746=\"\",\"\",VLOOKUP(A1746,[1]ItemConfig!$A:$D,4,FALSE))","v":{"$error":"#N/A"}},{"$f":"IF(A1746=\"\",\"\",VLOOKUP(A1746,[1]ItemConfig!$A:$C,3,FALSE))","v":{"$error":"#N/A"}},{"$f":"IF(A1746=\"\",\"\",VLOOKUP(B1746,#REF!,5,FALSE))","v":{"$error":"#N/A"}},{"$f":"IF(A1746=\"\",\"\",VLOOKUP(C1746,#REF!,5,FALSE))","v":{"$error":"#N/A"}}]
[300854,{"$f":"IF(A1747=\"\",\"\",VLOOKUP(A1747,[1]ItemConfig!$A:$B,2,FALSE))","v":{"$error":"#N/A"}},{"$f":"IF(A1747=\"\",\"\",VLOOKUP(A1747,[1]ItemConfig!$A:$D,4,FALSE))","v":{"$error":"#N/A"}},{"$f":"IF(A1747=\"\",\"\",VLOOKUP(A1747,[1]ItemConfig!$A:$C,3,FALSE))","v":{"$error":"#N/A"}},{"$f":"IF(A1747=\"\",\"\",VLOOKUP(B1747,#REF!,5,FALSE))","v":{"$error":"#N/A"}},{"$f":"IF(A1747=\"\",\"\",VLOOKUP(C1747,#REF!,5,FALSE))","v":{"$error":"#N/A"}}]
[300855,{"$f":"IF(A1748=\"\",\"\",VLOOKUP(A1748,[1]ItemConfig!$A:$B,2,FALSE))","v":{"$error":"#N/A"}},{"$f":"IF(A1748=\"\",\"\",VLOOKUP(A1748,[1]ItemConfig!$A:$D,4,FALSE))","v":{"$error":"#N/A"}},{"$f":"IF(A1748=\"\",\"\",VLOOKUP(A1748,[1]ItemConfig!$A:$C,3,FALSE))","v":{"$error":"#N/A"}},{"$f":"IF(A1748=\"\",\"\",VLOOKUP(B1748,#REF!,5,FALSE))","v":{"$error":"#N/A"}},{"$f":"IF(A1748=\"\",\"\",VLOOKUP(C1748,#REF!,5,FALSE))","v":{"$error":"#N/A"}}]
[300856,{"$f":"IF(A1749=\"\",\"\",VLOOKUP(A1749,[1]ItemConfig!$A:$B,2,FALSE))","v":{"$error":"#N/A"}},{"$f":"IF(A1749=\"\",\"\",VLOOKUP(A1749,[1]ItemConfig!$A:$D,4,FALSE))","v":{"$error":"#N/A"}},{"$f":"IF(A1749=\"\",\"\",VLOOKUP(A1749,[1]ItemConfig!$A:$C,3,FALSE))","v":{"$error":"#N/A"}},{"$f":"IF(A1749=\"\",\"\",VLOOKUP(B1749,#REF!,5,FALSE))","v":{"$error":"#N/A"}},{"$f":"IF(A1749=\"\",\"\",VLOOKUP(C1749,#REF!,5,FALSE))","v":{"$error":"#N/A"}}]
[300857,{"$f":"IF(A1750=\"\",\"\",VLOOKUP(A1750,[1]ItemConfig!$A:$B,2,FALSE))","v":{"$error":"#N/A"}},{"$f":"IF(A1750=\"\",\"\",VLOOKUP(A1750,[1]ItemConfig!$A:$D,4,FALSE))","v":{"$error":"#N/A"}},{"$f":"IF(A1750=\"\",\"\",VLOOKUP(A1750,[1]ItemConfig!$A:$C,3,FALSE))","v":{"$error":"#N/A"}},{"$f":"IF(A1750=\"\",\"\",VLOOKUP(B1750,#REF!,5,FALSE))","v":{"$error":"#N/A"}},{"$f":"IF(A1750=\"\",\"\",VLOOKUP(C1750,#REF!,5,FALSE))","v":{"$error":"#N/A"}}]
[300858,{"$f":"IF(A1751=\"\",\"\",VLOOKUP(A1751,[1]ItemConfig!$A:$B,2,FALSE))","v":{"$error":"#N/A"}},{"$f":"IF(A1751=\"\",\"\",VLOOKUP(A1751,[1]ItemConfig!$A:$D,4,FALSE))","v":{"$error":"#N/A"}},{"$f":"IF(A1751=\"\",\"\",VLOOKUP(A1751,[1]ItemConfig!$A:$C,3,FALSE))","v":{"$error":"#N/A"}},{"$f":"IF(A1751=\"\",\"\",VLOOKUP(B1751,#REF!,5,FALSE))","v":{"$error":"#N/A"}},{"$f":"IF(A1751=\"\",\"\",VLOOKUP(C1751,#REF!,5,FALSE))","v":{"$error":"#N/A"}}]
[300859,{"$f":"IF(A1752=\"\",\"\",VLOOKUP(A1752,[1]ItemConfig!$A:$B,2,FALSE))","v":{"$error":"#N/A"}},{"$f":"IF(A1752=\"\",\"\",VLOOKUP(A1752,[1]ItemConfig!$A:$D,4,FALSE))","v":{"$error":"#N/A"}},{"$f":"IF(A1752=\"\",\"\",VLOOKUP(A1752,[1]ItemConfig!$A:$C,3,FALSE))","v":{"$error":"#N/A"}},{"$f":"IF(A1752=\"\",\"\",VLOOKUP(B1752,#REF!,5,FALSE))","v":{"$error":"#N/A"}},{"$f":"IF(A1752=\"\",\"\",VLOOKUP(C1752,#REF!,5,FALSE))","v":{"$error":"#N/A"}}]
[300860,{"$f":"IF(A1753=\"\",\"\",VLOOKUP(A1753,[1]ItemConfig!$A:$B,2,FALSE))","v":{"$error":"#N/A"}},{"$f":"IF(A1753=\"\",\"\",VLOOKUP(A1753,[1]ItemConfig!$A:$D,4,FALSE))","v":{"$error":"#N/A"}},{"$f":"IF(A1753=\"\",\"\",VLOOKUP(A1753,[1]ItemConfig!$A:$C,3,FALSE))","v":{"$error":"#N/A"}},{"$f":"IF(A1753=\"\",\"\",VLOOKUP(B1753,#REF!,5,FALSE))","v":{"$error":"#N/A"}},{"$f":"IF(A1753=\"\",\"\",VLOOKUP(C1753,#REF!,5,FALSE))","v":{"$error":"#N/A"}}]
[300861,{"$f":"IF(A1754=\"\",\"\",VLOOKUP(A1754,[1]ItemConfig!$A:$B,2,FALSE))","v":{"$error":"#N/A"}},{"$f":"IF(A1754=\"\",\"\",VLOOKUP(A1754,[1]ItemConfig!$A:$D,4,FALSE))","v":{"$error":"#N/A"}},{"$f":"IF(A1754=\"\",\"\",VLOOKUP(A1754,[1]ItemConfig!$A:$C,3,FALSE))","v":{"$error":"#N/A"}},{"$f":"IF(A1754=\"\",\"\",VLOOKUP(B1754,#REF!,5,FALSE))","v":{"$error":"#N/A"}},{"$f":"IF(A1754=\"\",\"\",VLOOKUP(C1754,#REF!,5,FALSE))","v":{"$error":"#N/A"}}]
[300862,{"$f":"IF(A1755=\"\",\"\",VLOOKUP(A1755,[1]ItemConfig!$A:$B,2,FALSE))","v":{"$error":"#N/A"}},{"$f":"IF(A1755=\"\",\"\",VLOOKUP(A1755,[1]ItemConfig!$A:$D,4,FALSE))","v":{"$error":"#N/A"}},{"$f":"IF(A1755=\"\",\"\",VLOOKUP(A1755,[1]ItemConfig!$A:$C,3,FALSE))","v":{"$error":"#N/A"}},{"$f":"IF(A1755=\"\",\"\",VLOOKUP(B1755,#REF!,5,FALSE))","v":{"$error":"#N/A"}},{"$f":"IF(A1755=\"\",\"\",VLOOKUP(C1755,#REF!,5,FALSE))","v":{"$error":"#N/A"}}]
[300863,{"$f":"IF(A1756=\"\",\"\",VLOOKUP(A1756,[1]ItemConfig!$A:$B,2,FALSE))","v":{"$error":"#N/A"}},{"$f":"IF(A1756=\"\",\"\",VLOOKUP(A1756,[1]ItemConfig!$A:$D,4,FALSE))","v":{"$error":"#N/A"}},{"$f":"IF(A1756=\"\",\"\",VLOOKUP(A1756,[1]ItemConfig!$A:$C,3,FALSE))","v":{"$error":"#N/A"}},{"$f":"IF(A1756=\"\",\"\",VLOOKUP(B1756,#REF!,5,FALSE))","v":{"$error":"#N/A"}},{"$f":"IF(A1756=\"\",\"\",VLOOKUP(C1756,#REF!,5,FALSE))","v":{"$error":"#N/A"}}]
[300864,{"$f":"IF(A1757=\"\",\"\",VLOOKUP(A1757,[1]ItemConfig!$A:$B,2,FALSE))","v":{"$error":"#N/A"}},{"$f":"IF(A1757=\"\",\"\",VLOOKUP(A1757,[1]ItemConfig!$A:$D,4,FALSE))","v":{"$error":"#N/A"}},{"$f":"IF(A1757=\"\",\"\",VLOOKUP(A1757,[1]ItemConfig!$A:$C,3,FALSE))","v":{"$error":"#N/A"}},{"$f":"IF(A1757=\"\",\"\",VLOOKUP(B1757,#REF!,5,FALSE))","v":{"$error":"#N/A"}},{"$f":"IF(A1757=\"\",\"\",VLOOKUP(C1757,#REF!,5,FALSE))","v":{"$error":"#N/A"}}]
[300865,{"$f":"IF(A1758=\"\",\"\",VLOOKUP(A1758,[1]ItemConfig!$A:$B,2,FALSE))","v":{"$error":"#N/A"}},{"$f":"IF(A1758=\"\",\"\",VLOOKUP(A1758,[1]ItemConfig!$A:$D,4,FALSE))","v":{"$error":"#N/A"}},{"$f":"IF(A1758=\"\",\"\",VLOOKUP(A1758,[1]ItemConfig!$A:$C,3,FALSE))","v":{"$error":"#N/A"}},{"$f":"IF(A1758=\"\",\"\",VLOOKUP(B1758,#REF!,5,FALSE))","v":{"$error":"#N/A"}},{"$f":"IF(A1758=\"\",\"\",VLOOKUP(C1758,#REF!,5,FALSE))","v":{"$error":"#N/A"}}]
[300866,{"$f":"IF(A1759=\"\",\"\",VLOOKUP(A1759,[1]ItemConfig!$A:$B,2,FALSE))","v":{"$error":"#N/A"}},{"$f":"IF(A1759=\"\",\"\",VLOOKUP(A1759,[1]ItemConfig!$A:$D,4,FALSE))","v":{"$error":"#N/A"}},{"$f":"IF(A1759=\"\",\"\",VLOOKUP(A1759,[1]ItemConfig!$A:$C,3,FALSE))","v":{"$error":"#N/A"}},{"$f":"IF(A1759=\"\",\"\",VLOOKUP(B1759,#REF!,5,FALSE))","v":{"$error":"#N/A"}},{"$f":"IF(A1759=\"\",\"\",VLOOKUP(C1759,#REF!,5,FALSE))","v":{"$error":"#N/A"}}]
[300867,{"$f":"IF(A1760=\"\",\"\",VLOOKUP(A1760,[1]ItemConfig!$A:$B,2,FALSE))","v":{"$error":"#N/A"}},{"$f":"IF(A1760=\"\",\"\",VLOOKUP(A1760,[1]ItemConfig!$A:$D,4,FALSE))","v":{"$error":"#N/A"}},{"$f":"IF(A1760=\"\",\"\",VLOOKUP(A1760,[1]ItemConfig!$A:$C,3,FALSE))","v":{"$error":"#N/A"}},{"$f":"IF(A1760=\"\",\"\",VLOOKUP(B1760,#REF!,5,FALSE))","v":{"$error":"#N/A"}},{"$f":"IF(A1760=\"\",\"\",VLOOKUP(C1760,#REF!,5,FALSE))","v":{"$error":"#N/A"}}]
[300868,{"$f":"IF(A1761=\"\",\"\",VLOOKUP(A1761,[1]ItemConfig!$A:$B,2,FALSE))","v":{"$error":"#N/A"}},{"$f":"IF(A1761=\"\",\"\",VLOOKUP(A1761,[1]ItemConfig!$A:$D,4,FALSE))","v":{"$error":"#N/A"}},{"$f":"IF(A1761=\"\",\"\",VLOOKUP(A1761,[1]ItemConfig!$A:$C,3,FALSE))","v":{"$error":"#N/A"}},{"$f":"IF(A1761=\"\",\"\",VLOOKUP(B1761,#REF!,5,FALSE))","v":{"$error":"#N/A"}},{"$f":"IF(A1761=\"\",\"\",VLOOKUP(C1761,#REF!,5,FALSE))","v":{"$error":"#N/A"}}]
[300869,{"$f":"IF(A1762=\"\",\"\",VLOOKUP(A1762,[1]ItemConfig!$A:$B,2,FALSE))","v":{"$error":"#N/A"}},{"$f":"IF(A1762=\"\",\"\",VLOOKUP(A1762,[1]ItemConfig!$A:$D,4,FALSE))","v":{"$error":"#N/A"}},{"$f":"IF(A1762=\"\",\"\",VLOOKUP(A1762,[1]ItemConfig!$A:$C,3,FALSE))","v":{"$error":"#N/A"}},{"$f":"IF(A1762=\"\",\"\",VLOOKUP(B1762,#REF!,5,FALSE))","v":{"$error":"#N/A"}},{"$f":"IF(A1762=\"\",\"\",VLOOKUP(C1762,#REF!,5,FALSE))","v":{"$error":"#N/A"}}]
[300870,{"$f":"IF(A1763=\"\",\"\",VLOOKUP(A1763,[1]ItemConfig!$A:$B,2,FALSE))","v":{"$error":"#N/A"}},{"$f":"IF(A1763=\"\",\"\",VLOOKUP(A1763,[1]ItemConfig!$A:$D,4,FALSE))","v":{"$error":"#N/A"}},{"$f":"IF(A1763=\"\",\"\",VLOOKUP(A1763,[1]ItemConfig!$A:$C,3,FALSE))","v":{"$error":"#N/A"}},{"$f":"IF(A1763=\"\",\"\",VLOOKUP(B1763,#REF!,5,FALSE))","v":{"$error":"#N/A"}},{"$f":"IF(A1763=\"\",\"\",VLOOKUP(C1763,#REF!,5,FALSE))","v":{"$error":"#N/A"}}]
[300871,{"$f":"IF(A1764=\"\",\"\",VLOOKUP(A1764,[1]ItemConfig!$A:$B,2,FALSE))","v":{"$error":"#N/A"}},{"$f":"IF(A1764=\"\",\"\",VLOOKUP(A1764,[1]ItemConfig!$A:$D,4,FALSE))","v":{"$error":"#N/A"}},{"$f":"IF(A1764=\"\",\"\",VLOOKUP(A1764,[1]ItemConfig!$A:$C,3,FALSE))","v":{"$error":"#N/A"}},{"$f":"IF(A1764=\"\",\"\",VLOOKUP(B1764,#REF!,5,FALSE))","v":{"$error":"#N/A"}},{"$f":"IF(A1764=\"\",\"\",VLOOKUP(C1764,#REF!,5,FALSE))","v":{"$error":"#N/A"}}]
[300872,{"$f":"IF(A1765=\"\",\"\",VLOOKUP(A1765,[1]ItemConfig!$A:$B,2,FALSE))","v":{"$error":"#N/A"}},{"$f":"IF(A1765=\"\",\"\",VLOOKUP(A1765,[1]ItemConfig!$A:$D,4,FALSE))","v":{"$error":"#N/A"}},{"$f":"IF(A1765=\"\",\"\",VLOOKUP(A1765,[1]ItemConfig!$A:$C,3,FALSE))","v":{"$error":"#N/A"}},{"$f":"IF(A1765=\"\",\"\",VLOOKUP(B1765,#REF!,5,FALSE))","v":{"$error":"#N/A"}},{"$f":"IF(A1765=\"\",\"\",VLOOKUP(C1765,#REF!,5,FALSE))","v":{"$error":"#N/A"}}]
[300873,{"$f":"IF(A1766=\"\",\"\",VLOOKUP(A1766,[1]ItemConfig!$A:$B,2,FALSE))","v":{"$error":"#N/A"}},{"$f":"IF(A1766=\"\",\"\",VLOOKUP(A1766,[1]ItemConfig!$A:$D,4,FALSE))","v":{"$error":"#N/A"}},{"$f":"IF(A1766=\"\",\"\",VLOOKUP(A1766,[1]ItemConfig!$A:$C,3,FALSE))","v":{"$error":"#N/A"}},{"$f":"IF(A1766=\"\",\"\",VLOOKUP(B1766,#REF!,5,FALSE))","v":{"$error":"#N/A"}},{"$f":"IF(A1766=\"\",\"\",VLOOKUP(C1766,#REF!,5,FALSE))","v":{"$error":"#N/A"}}]
[300874,{"$f":"IF(A1767=\"\",\"\",VLOOKUP(A1767,[1]ItemConfig!$A:$B,2,FALSE))","v":{"$error":"#N/A"}},{"$f":"IF(A1767=\"\",\"\",VLOOKUP(A1767,[1]ItemConfig!$A:$D,4,FALSE))","v":{"$error":"#N/A"}},{"$f":"IF(A1767=\"\",\"\",VLOOKUP(A1767,[1]ItemConfig!$A:$C,3,FALSE))","v":{"$error":"#N/A"}},{"$f":"IF(A1767=\"\",\"\",VLOOKUP(B1767,#REF!,5,FALSE))","v":{"$error":"#N/A"}},{"$f":"IF(A1767=\"\",\"\",VLOOKUP(C1767,#REF!,5,FALSE))","v":{"$error":"#N/A"}}]
[300875,{"$f":"IF(A1768=\"\",\"\",VLOOKUP(A1768,[1]ItemConfig!$A:$B,2,FALSE))","v":{"$error":"#N/A"}},{"$f":"IF(A1768=\"\",\"\",VLOOKUP(A1768,[1]ItemConfig!$A:$D,4,FALSE))","v":{"$error":"#N/A"}},{"$f":"IF(A1768=\"\",\"\",VLOOKUP(A1768,[1]ItemConfig!$A:$C,3,FALSE))","v":{"$error":"#N/A"}},{"$f":"IF(A1768=\"\",\"\",VLOOKUP(B1768,#REF!,5,FALSE))","v":{"$error":"#N/A"}},{"$f":"IF(A1768=\"\",\"\",VLOOKUP(C1768,#REF!,5,FALSE))","v":{"$error":"#N/A"}}]
[300876,{"$f":"IF(A1769=\"\",\"\",VLOOKUP(A1769,[1]ItemConfig!$A:$B,2,FALSE))","v":{"$error":"#N/A"}},{"$f":"IF(A1769=\"\",\"\",VLOOKUP(A1769,[1]ItemConfig!$A:$D,4,FALSE))","v":{"$error":"#N/A"}},{"$f":"IF(A1769=\"\",\"\",VLOOKUP(A1769,[1]ItemConfig!$A:$C,3,FALSE))","v":{"$error":"#N/A"}},{"$f":"IF(A1769=\"\",\"\",VLOOKUP(B1769,#REF!,5,FALSE))","v":{"$error":"#N/A"}},{"$f":"IF(A1769=\"\",\"\",VLOOKUP(C1769,#REF!,5,FALSE))","v":{"$error":"#N/A"}}]
[300877,{"$f":"IF(A1770=\"\",\"\",VLOOKUP(A1770,[1]ItemConfig!$A:$B,2,FALSE))","v":{"$error":"#N/A"}},{"$f":"IF(A1770=\"\",\"\",VLOOKUP(A1770,[1]ItemConfig!$A:$D,4,FALSE))","v":{"$error":"#N/A"}},{"$f":"IF(A1770=\"\",\"\",VLOOKUP(A1770,[1]ItemConfig!$A:$C,3,FALSE))","v":{"$error":"#N/A"}},{"$f":"IF(A1770=\"\",\"\",VLOOKUP(B1770,#REF!,5,FALSE))","v":{"$error":"#N/A"}},{"$f":"IF(A1770=\"\",\"\",VLOOKUP(C1770,#REF!,5,FALSE))","v":{"$error":"#N/A"}}]
[300878,{"$f":"IF(A1771=\"\",\"\",VLOOKUP(A1771,[1]ItemConfig!$A:$B,2,FALSE))","v":{"$error":"#N/A"}},{"$f":"IF(A1771=\"\",\"\",VLOOKUP(A1771,[1]ItemConfig!$A:$D,4,FALSE))","v":{"$error":"#N/A"}},{"$f":"IF(A1771=\"\",\"\",VLOOKUP(A1771,[1]ItemConfig!$A:$C,3,FALSE))","v":{"$error":"#N/A"}},{"$f":"IF(A1771=\"\",\"\",VLOOKUP(B1771,#REF!,5,FALSE))","v":{"$error":"#N/A"}},{"$f":"IF(A1771=\"\",\"\",VLOOKUP(C1771,#REF!,5,FALSE))","v":{"$error":"#N/A"}}]
[300879,{"$f":"IF(A1772=\"\",\"\",VLOOKUP(A1772,[1]ItemConfig!$A:$B,2,FALSE))","v":{"$error":"#N/A"}},{"$f":"IF(A1772=\"\",\"\",VLOOKUP(A1772,[1]ItemConfig!$A:$D,4,FALSE))","v":{"$error":"#N/A"}},{"$f":"IF(A1772=\"\",\"\",VLOOKUP(A1772,[1]ItemConfig!$A:$C,3,FALSE))","v":{"$error":"#N/A"}},{"$f":"IF(A1772=\"\",\"\",VLOOKUP(B1772,#REF!,5,FALSE))","v":{"$error":"#N/A"}},{"$f":"IF(A1772=\"\",\"\",VLOOKUP(C1772,#REF!,5,FALSE))","v":{"$error":"#N/A"}}]
[300880,{"$f":"IF(A1773=\"\",\"\",VLOOKUP(A1773,[1]ItemConfig!$A:$B,2,FALSE))","v":{"$error":"#N/A"}},{"$f":"IF(A1773=\"\",\"\",VLOOKUP(A1773,[1]ItemConfig!$A:$D,4,FALSE))","v":{"$error":"#N/A"}},{"$f":"IF(A1773=\"\",\"\",VLOOKUP(A1773,[1]ItemConfig!$A:$C,3,FALSE))","v":{"$error":"#N/A"}},{"$f":"IF(A1773=\"\",\"\",VLOOKUP(B1773,#REF!,5,FALSE))","v":{"$error":"#N/A"}},{"$f":"IF(A1773=\"\",\"\",VLOOKUP(C1773,#REF!,5,FALSE))","v":{"$error":"#N/A"}}]
[300881,{"$f":"IF(A1774=\"\",\"\",VLOOKUP(A1774,[1]ItemConfig!$A:$B,2,FALSE))","v":{"$error":"#N/A"}},{"$f":"IF(A1774=\"\",\"\",VLOOKUP(A1774,[1]ItemConfig!$A:$D,4,FALSE))","v":{"$error":"#N/A"}},{"$f":"IF(A1774=\"\",\"\",VLOOKUP(A1774,[1]ItemConfig!$A:$C,3,FALSE))","v":{"$error":"#N/A"}},{"$f":"IF(A1774=\"\",\"\",VLOOKUP(B1774,#REF!,5,FALSE))","v":{"$error":"#N/A"}},{"$f":"IF(A1774=\"\",\"\",VLOOKUP(C1774,#REF!,5,FALSE))","v":{"$error":"#N/A"}}]
[300882,{"$f":"IF(A1775=\"\",\"\",VLOOKUP(A1775,[1]ItemConfig!$A:$B,2,FALSE))","v":{"$error":"#N/A"}},{"$f":"IF(A1775=\"\",\"\",VLOOKUP(A1775,[1]ItemConfig!$A:$D,4,FALSE))","v":{"$error":"#N/A"}},{"$f":"IF(A1775=\"\",\"\",VLOOKUP(A1775,[1]ItemConfig!$A:$C,3,FALSE))","v":{"$error":"#N/A"}},{"$f":"IF(A1775=\"\",\"\",VLOOKUP(B1775,#REF!,5,FALSE))","v":{"$error":"#N/A"}},{"$f":"IF(A1775=\"\",\"\",VLOOKUP(C1775,#REF!,5,FALSE))","v":{"$error":"#N/A"}}]
[300883,{"$f":"IF(A1776=\"\",\"\",VLOOKUP(A1776,[1]ItemConfig!$A:$B,2,FALSE))","v":{"$error":"#N/A"}},{"$f":"IF(A1776=\"\",\"\",VLOOKUP(A1776,[1]ItemConfig!$A:$D,4,FALSE))","v":{"$error":"#N/A"}},{"$f":"IF(A1776=\"\",\"\",VLOOKUP(A1776,[1]ItemConfig!$A:$C,3,FALSE))","v":{"$error":"#N/A"}},{"$f":"IF(A1776=\"\",\"\",VLOOKUP(B1776,#REF!,5,FALSE))","v":{"$error":"#N/A"}},{"$f":"IF(A1776=\"\",\"\",VLOOKUP(C1776,#REF!,5,FALSE))","v":{"$error":"#N/A"}}]
[300884,{"$f":"IF(A1777=\"\",\"\",VLOOKUP(A1777,[1]ItemConfig!$A:$B,2,FALSE))","v":{"$error":"#N/A"}},{"$f":"IF(A1777=\"\",\"\",VLOOKUP(A1777,[1]ItemConfig!$A:$D,4,FALSE))","v":{"$error":"#N/A"}},{"$f":"IF(A1777=\"\",\"\",VLOOKUP(A1777,[1]ItemConfig!$A:$C,3,FALSE))","v":{"$error":"#N/A"}},{"$f":"IF(A1777=\"\",\"\",VLOOKUP(B1777,#REF!,5,FALSE))","v":{"$error":"#N/A"}},{"$f":"IF(A1777=\"\",\"\",VLOOKUP(C1777,#REF!,5,FALSE))","v":{"$error":"#N/A"}}]
[300885,{"$f":"IF(A1778=\"\",\"\",VLOOKUP(A1778,[1]ItemConfig!$A:$B,2,FALSE))","v":{"$error":"#N/A"}},{"$f":"IF(A1778=\"\",\"\",VLOOKUP(A1778,[1]ItemConfig!$A:$D,4,FALSE))","v":{"$error":"#N/A"}},{"$f":"IF(A1778=\"\",\"\",VLOOKUP(A1778,[1]ItemConfig!$A:$C,3,FALSE))","v":{"$error":"#N/A"}},{"$f":"IF(A1778=\"\",\"\",VLOOKUP(B1778,#REF!,5,FALSE))","v":{"$error":"#N/A"}},{"$f":"IF(A1778=\"\",\"\",VLOOKUP(C1778,#REF!,5,FALSE))","v":{"$error":"#N/A"}}]
[300886,{"$f":"IF(A1779=\"\",\"\",VLOOKUP(A1779,[1]ItemConfig!$A:$B,2,FALSE))","v":{"$error":"#N/A"}},{"$f":"IF(A1779=\"\",\"\",VLOOKUP(A1779,[1]ItemConfig!$A:$D,4,FALSE))","v":{"$error":"#N/A"}},{"$f":"IF(A1779=\"\",\"\",VLOOKUP(A1779,[1]ItemConfig!$A:$C,3,FALSE))","v":{"$error":"#N/A"}},{"$f":"IF(A1779=\"\",\"\",VLOOKUP(B1779,#REF!,5,FALSE))","v":{"$error":"#N/A"}},{"$f":"IF(A1779=\"\",\"\",VLOOKUP(C1779,#REF!,5,FALSE))","v":{"$error":"#N/A"}}]
[300887,{"$f":"IF(A1780=\"\",\"\",VLOOKUP(A1780,[1]ItemConfig!$A:$B,2,FALSE))","v":{"$error":"#N/A"}},{"$f":"IF(A1780=\"\",\"\",VLOOKUP(A1780,[1]ItemConfig!$A:$D,4,FALSE))","v":{"$error":"#N/A"}},{"$f":"IF(A1780=\"\",\"\",VLOOKUP(A1780,[1]ItemConfig!$A:$C,3,FALSE))","v":{"$error":"#N/A"}},{"$f":"IF(A1780=\"\",\"\",VLOOKUP(B1780,#REF!,5,FALSE))","v":{"$error":"#N/A"}},{"$f":"IF(A1780=\"\",\"\",VLOOKUP(C1780,#REF!,5,FALSE))","v":{"$error":"#N/A"}}]
[300888,{"$f":"IF(A1781=\"\",\"\",VLOOKUP(A1781,[1]ItemConfig!$A:$B,2,FALSE))","v":{"$error":"#N/A"}},{"$f":"IF(A1781=\"\",\"\",VLOOKUP(A1781,[1]ItemConfig!$A:$D,4,FALSE))","v":{"$error":"#N/A"}},{"$f":"IF(A1781=\"\",\"\",VLOOKUP(A1781,[1]ItemConfig!$A:$C,3,FALSE))","v":{"$error":"#N/A"}},{"$f":"IF(A1781=\"\",\"\",VLOOKUP(B1781,#REF!,5,FALSE))","v":{"$error":"#N/A"}},{"$f":"IF(A1781=\"\",\"\",VLOOKUP(C1781,#REF!,5,FALSE))","v":{"$error":"#N/A"}}]
[300889,{"$f":"IF(A1782=\"\",\"\",VLOOKUP(A1782,[1]ItemConfig!$A:$B,2,FALSE))","v":{"$error":"#N/A"}},{"$f":"IF(A1782=\"\",\"\",VLOOKUP(A1782,[1]ItemConfig!$A:$D,4,FALSE))","v":{"$error":"#N/A"}},{"$f":"IF(A1782=\"\",\"\",VLOOKUP(A1782,[1]ItemConfig!$A:$C,3,FALSE))","v":{"$error":"#N/A"}},{"$f":"IF(A1782=\"\",\"\",VLOOKUP(B1782,#REF!,5,FALSE))","v":{"$error":"#N/A"}},{"$f":"IF(A1782=\"\",\"\",VLOOKUP(C1782,#REF!,5,FALSE))","v":{"$error":"#N/A"}}]
[300890,{"$f":"IF(A1783=\"\",\"\",VLOOKUP(A1783,[1]ItemConfig!$A:$B,2,FALSE))","v":{"$error":"#N/A"}},{"$f":"IF(A1783=\"\",\"\",VLOOKUP(A1783,[1]ItemConfig!$A:$D,4,FALSE))","v":{"$error":"#N/A"}},{"$f":"IF(A1783=\"\",\"\",VLOOKUP(A1783,[1]ItemConfig!$A:$C,3,FALSE))","v":{"$error":"#N/A"}},{"$f":"IF(A1783=\"\",\"\",VLOOKUP(B1783,#REF!,5,FALSE))","v":{"$error":"#N/A"}},{"$f":"IF(A1783=\"\",\"\",VLOOKUP(C1783,#REF!,5,FALSE))","v":{"$error":"#N/A"}}]
[300891,{"$f":"IF(A1784=\"\",\"\",VLOOKUP(A1784,[1]ItemConfig!$A:$B,2,FALSE))","v":{"$error":"#N/A"}},{"$f":"IF(A1784=\"\",\"\",VLOOKUP(A1784,[1]ItemConfig!$A:$D,4,FALSE))","v":{"$error":"#N/A"}},{"$f":"IF(A1784=\"\",\"\",VLOOKUP(A1784,[1]ItemConfig!$A:$C,3,FALSE))","v":{"$error":"#N/A"}},{"$f":"IF(A1784=\"\",\"\",VLOOKUP(B1784,#REF!,5,FALSE))","v":{"$error":"#N/A"}},{"$f":"IF(A1784=\"\",\"\",VLOOKUP(C1784,#REF!,5,FALSE))","v":{"$error":"#N/A"}}]
[300892,{"$f":"IF(A1785=\"\",\"\",VLOOKUP(A1785,[1]ItemConfig!$A:$B,2,FALSE))","v":{"$error":"#N/A"}},{"$f":"IF(A1785=\"\",\"\",VLOOKUP(A1785,[1]ItemConfig!$A:$D,4,FALSE))","v":{"$error":"#N/A"}},{"$f":"IF(A1785=\"\",\"\",VLOOKUP(A1785,[1]ItemConfig!$A:$C,3,FALSE))","v":{"$error":"#N/A"}},{"$f":"IF(A1785=\"\",\"\",VLOOKUP(B1785,#REF!,5,FALSE))","v":{"$error":"#N/A"}},{"$f":"IF(A1785=\"\",\"\",VLOOKUP(C1785,#REF!,5,FALSE))","v":{"$error":"#N/A"}}]
[300893,{"$f":"IF(A1786=\"\",\"\",VLOOKUP(A1786,[1]ItemConfig!$A:$B,2,FALSE))","v":{"$error":"#N/A"}},{"$f":"IF(A1786=\"\",\"\",VLOOKUP(A1786,[1]ItemConfig!$A:$D,4,FALSE))","v":{"$error":"#N/A"}},{"$f":"IF(A1786=\"\",\"\",VLOOKUP(A1786,[1]ItemConfig!$A:$C,3,FALSE))","v":{"$error":"#N/A"}},{"$f":"IF(A1786=\"\",\"\",VLOOKUP(B1786,#REF!,5,FALSE))","v":{"$error":"#N/A"}},{"$f":"IF(A1786=\"\",\"\",VLOOKUP(C1786,#REF!,5,FALSE))","v":{"$error":"#N/A"}}]
[300894,{"$f":"IF(A1787=\"\",\"\",VLOOKUP(A1787,[1]ItemConfig!$A:$B,2,FALSE))","v":{"$error":"#N/A"}},{"$f":"IF(A1787=\"\",\"\",VLOOKUP(A1787,[1]ItemConfig!$A:$D,4,FALSE))","v":{"$error":"#N/A"}},{"$f":"IF(A1787=\"\",\"\",VLOOKUP(A1787,[1]ItemConfig!$A:$C,3,FALSE))","v":{"$error":"#N/A"}},{"$f":"IF(A1787=\"\",\"\",VLOOKUP(B1787,#REF!,5,FALSE))","v":{"$error":"#N/A"}},{"$f":"IF(A1787=\"\",\"\",VLOOKUP(C1787,#REF!,5,FALSE))","v":{"$error":"#N/A"}}]
[300895,{"$f":"IF(A1788=\"\",\"\",VLOOKUP(A1788,[1]ItemConfig!$A:$B,2,FALSE))","v":{"$error":"#N/A"}},{"$f":"IF(A1788=\"\",\"\",VLOOKUP(A1788,[1]ItemConfig!$A:$D,4,FALSE))","v":{"$error":"#N/A"}},{"$f":"IF(A1788=\"\",\"\",VLOOKUP(A1788,[1]ItemConfig!$A:$C,3,FALSE))","v":{"$error":"#N/A"}},{"$f":"IF(A1788=\"\",\"\",VLOOKUP(B1788,#REF!,5,FALSE))","v":{"$error":"#N/A"}},{"$f":"IF(A1788=\"\",\"\",VLOOKUP(C1788,#REF!,5,FALSE))","v":{"$error":"#N/A"}}]
[300896,{"$f":"IF(A1789=\"\",\"\",VLOOKUP(A1789,[1]ItemConfig!$A:$B,2,FALSE))","v":{"$error":"#N/A"}},{"$f":"IF(A1789=\"\",\"\",VLOOKUP(A1789,[1]ItemConfig!$A:$D,4,FALSE))","v":{"$error":"#N/A"}},{"$f":"IF(A1789=\"\",\"\",VLOOKUP(A1789,[1]ItemConfig!$A:$C,3,FALSE))","v":{"$error":"#N/A"}},{"$f":"IF(A1789=\"\",\"\",VLOOKUP(B1789,#REF!,5,FALSE))","v":{"$error":"#N/A"}},{"$f":"IF(A1789=\"\",\"\",VLOOKUP(C1789,#REF!,5,FALSE))","v":{"$error":"#N/A"}}]
[300897,{"$f":"IF(A1790=\"\",\"\",VLOOKUP(A1790,[1]ItemConfig!$A:$B,2,FALSE))","v":{"$error":"#N/A"}},{"$f":"IF(A1790=\"\",\"\",VLOOKUP(A1790,[1]ItemConfig!$A:$D,4,FALSE))","v":{"$error":"#N/A"}},{"$f":"IF(A1790=\"\",\"\",VLOOKUP(A1790,[1]ItemConfig!$A:$C,3,FALSE))","v":{"$error":"#N/A"}},{"$f":"IF(A1790=\"\",\"\",VLOOKUP(B1790,#REF!,5,FALSE))","v":{"$error":"#N/A"}},{"$f":"IF(A1790=\"\",\"\",VLOOKUP(C1790,#REF!,5,FALSE))","v":{"$error":"#N/A"}}]
[300898,{"$f":"IF(A1791=\"\",\"\",VLOOKUP(A1791,[1]ItemConfig!$A:$B,2,FALSE))","v":{"$error":"#N/A"}},{"$f":"IF(A1791=\"\",\"\",VLOOKUP(A1791,[1]ItemConfig!$A:$D,4,FALSE))","v":{"$error":"#N/A"}},{"$f":"IF(A1791=\"\",\"\",VLOOKUP(A1791,[1]ItemConfig!$A:$C,3,FALSE))","v":{"$error":"#N/A"}},{"$f":"IF(A1791=\"\",\"\",VLOOKUP(B1791,#REF!,5,FALSE))","v":{"$error":"#N/A"}},{"$f":"IF(A1791=\"\",\"\",VLOOKUP(C1791,#REF!,5,FALSE))","v":{"$error":"#N/A"}}]
[300899,{"$f":"IF(A1792=\"\",\"\",VLOOKUP(A1792,[1]ItemConfig!$A:$B,2,FALSE))","v":{"$error":"#N/A"}},{"$f":"IF(A1792=\"\",\"\",VLOOKUP(A1792,[1]ItemConfig!$A:$D,4,FALSE))","v":{"$error":"#N/A"}},{"$f":"IF(A1792=\"\",\"\",VLOOKUP(A1792,[1]ItemConfig!$A:$C,3,FALSE))","v":{"$error":"#N/A"}},{"$f":"IF(A1792=\"\",\"\",VLOOKUP(B1792,#REF!,5,FALSE))","v":{"$error":"#N/A"}},{"$f":"IF(A1792=\"\",\"\",VLOOKUP(C1792,#REF!,5,FALSE))","v":{"$error":"#N/A"}}]
[300900,{"$f":"IF(A1793=\"\",\"\",VLOOKUP(A1793,[1]ItemConfig!$A:$B,2,FALSE))","v":{"$error":"#N/A"}},{"$f":"IF(A1793=\"\",\"\",VLOOKUP(A1793,[1]ItemConfig!$A:$D,4,FALSE))","v":{"$error":"#N/A"}},{"$f":"IF(A1793=\"\",\"\",VLOOKUP(A1793,[1]ItemConfig!$A:$C,3,FALSE))","v":{"$error":"#N/A"}},{"$f":"IF(A1793=\"\",\"\",VLOOKUP(B1793,#REF!,5,FALSE))","v":{"$error":"#N/A"}},{"$f":"IF(A1793=\"\",\"\",VLOOKUP(C1793,#REF!,5,FALSE))","v":{"$error":"#N/A"}}]
[null,{"$f":"IF(A1794=\"\",\"\",VLOOKUP(A1794,[1]ItemConfig!$A:$B,2,FALSE))","v":""},{"$f":"IF(A1794=\"\",\"\",VLOOKUP(A1794,[1]ItemConfig!$A:$D,4,FALSE))","v":""},{"$f":"IF(A1794=\"\",\"\",VLOOKUP(A1794,[1]ItemConfig!$A:$C,3,FALSE))","v":""},{"$f":"IF(A1794=\"\",\"\",VLOOKUP(B1794,#REF!,5,FALSE))","v":""},{"$f":"IF(A1794=\"\",\"\",VLOOKUP(C1794,#REF!,5,FALSE))","v":""}]
[300901,{"$f":"IF(A1795=\"\",\"\",VLOOKUP(A1795,[1]ItemConfig!$A:$B,2,FALSE))","v":{"$error":"#N/A"}},{"$f":"IF(A1795=\"\",\"\",VLOOKUP(A1795,[1]ItemConfig!$A:$D,4,FALSE))","v":{"$error":"#N/A"}},{"$f":"IF(A1795=\"\",\"\",VLOOKUP(A1795,[1]ItemConfig!$A:$C,3,FALSE))","v":{"$error":"#N/A"}},{"$f":"IF(A1795=\"\",\"\",VLOOKUP(B1795,#REF!,5,FALSE))","v":{"$error":"#N/A"}},{"$f":"IF(A1795=\"\",\"\",VLOOKUP(C1795,#REF!,5,FALSE))","v":{"$error":"#N/A"}}]
[300902,{"$f":"IF(A1796=\"\",\"\",VLOOKUP(A1796,[1]ItemConfig!$A:$B,2,FALSE))","v":{"$error":"#N/A"}},{"$f":"IF(A1796=\"\",\"\",VLOOKUP(A1796,[1]ItemConfig!$A:$D,4,FALSE))","v":{"$error":"#N/A"}},{"$f":"IF(A1796=\"\",\"\",VLOOKUP(A1796,[1]ItemConfig!$A:$C,3,FALSE))","v":{"$error":"#N/A"}},{"$f":"IF(A1796=\"\",\"\",VLOOKUP(B1796,#REF!,5,FALSE))","v":{"$error":"#N/A"}},{"$f":"IF(A1796=\"\",\"\",VLOOKUP(C1796,#REF!,5,FALSE))","v":{"$error":"#N/A"}}]
[300903,{"$f":"IF(A1797=\"\",\"\",VLOOKUP(A1797,[1]ItemConfig!$A:$B,2,FALSE))","v":{"$error":"#N/A"}},{"$f":"IF(A1797=\"\",\"\",VLOOKUP(A1797,[1]ItemConfig!$A:$D,4,FALSE))","v":{"$error":"#N/A"}},{"$f":"IF(A1797=\"\",\"\",VLOOKUP(A1797,[1]ItemConfig!$A:$C,3,FALSE))","v":{"$error":"#N/A"}},{"$f":"IF(A1797=\"\",\"\",VLOOKUP(B1797,#REF!,5,FALSE))","v":{"$error":"#N/A"}},{"$f":"IF(A1797=\"\",\"\",VLOOKUP(C1797,#REF!,5,FALSE))","v":{"$error":"#N/A"}}]
[300904,{"$f":"IF(A1798=\"\",\"\",VLOOKUP(A1798,[1]ItemConfig!$A:$B,2,FALSE))","v":{"$error":"#N/A"}},{"$f":"IF(A1798=\"\",\"\",VLOOKUP(A1798,[1]ItemConfig!$A:$D,4,FALSE))","v":{"$error":"#N/A"}},{"$f":"IF(A1798=\"\",\"\",VLOOKUP(A1798,[1]ItemConfig!$A:$C,3,FALSE))","v":{"$error":"#N/A"}},{"$f":"IF(A1798=\"\",\"\",VLOOKUP(B1798,#REF!,5,FALSE))","v":{"$error":"#N/A"}},{"$f":"IF(A1798=\"\",\"\",VLOOKUP(C1798,#REF!,5,FALSE))","v":{"$error":"#N/A"}}]
[300905,{"$f":"IF(A1799=\"\",\"\",VLOOKUP(A1799,[1]ItemConfig!$A:$B,2,FALSE))","v":{"$error":"#N/A"}},{"$f":"IF(A1799=\"\",\"\",VLOOKUP(A1799,[1]ItemConfig!$A:$D,4,FALSE))","v":{"$error":"#N/A"}},{"$f":"IF(A1799=\"\",\"\",VLOOKUP(A1799,[1]ItemConfig!$A:$C,3,FALSE))","v":{"$error":"#N/A"}},{"$f":"IF(A1799=\"\",\"\",VLOOKUP(B1799,#REF!,5,FALSE))","v":{"$error":"#N/A"}},{"$f":"IF(A1799=\"\",\"\",VLOOKUP(C1799,#REF!,5,FALSE))","v":{"$error":"#N/A"}}]
[300906,{"$f":"IF(A1800=\"\",\"\",VLOOKUP(A1800,[1]ItemConfig!$A:$B,2,FALSE))","v":{"$error":"#N/A"}},{"$f":"IF(A1800=\"\",\"\",VLOOKUP(A1800,[1]ItemConfig!$A:$D,4,FALSE))","v":{"$error":"#N/A"}},{"$f":"IF(A1800=\"\",\"\",VLOOKUP(A1800,[1]ItemConfig!$A:$C,3,FALSE))","v":{"$error":"#N/A"}},{"$f":"IF(A1800=\"\",\"\",VLOOKUP(B1800,#REF!,5,FALSE))","v":{"$error":"#N/A"}},{"$f":"IF(A1800=\"\",\"\",VLOOKUP(C1800,#REF!,5,FALSE))","v":{"$error":"#N/A"}}]
[300907,{"$f":"IF(A1801=\"\",\"\",VLOOKUP(A1801,[1]ItemConfig!$A:$B,2,FALSE))","v":{"$error":"#N/A"}},{"$f":"IF(A1801=\"\",\"\",VLOOKUP(A1801,[1]ItemConfig!$A:$D,4,FALSE))","v":{"$error":"#N/A"}},{"$f":"IF(A1801=\"\",\"\",VLOOKUP(A1801,[1]ItemConfig!$A:$C,3,FALSE))","v":{"$error":"#N/A"}},{"$f":"IF(A1801=\"\",\"\",VLOOKUP(B1801,#REF!,5,FALSE))","v":{"$error":"#N/A"}},{"$f":"IF(A1801=\"\",\"\",VLOOKUP(C1801,#REF!,5,FALSE))","v":{"$error":"#N/A"}}]
[300908,{"$f":"IF(A1802=\"\",\"\",VLOOKUP(A1802,[1]ItemConfig!$A:$B,2,FALSE))","v":{"$error":"#N/A"}},{"$f":"IF(A1802=\"\",\"\",VLOOKUP(A1802,[1]ItemConfig!$A:$D,4,FALSE))","v":{"$error":"#N/A"}},{"$f":"IF(A1802=\"\",\"\",VLOOKUP(A1802,[1]ItemConfig!$A:$C,3,FALSE))","v":{"$error":"#N/A"}},{"$f":"IF(A1802=\"\",\"\",VLOOKUP(B1802,#REF!,5,FALSE))","v":{"$error":"#N/A"}},{"$f":"IF(A1802=\"\",\"\",VLOOKUP(C1802,#REF!,5,FALSE))","v":{"$error":"#N/A"}}]
[300909,{"$f":"IF(A1803=\"\",\"\",VLOOKUP(A1803,[1]ItemConfig!$A:$B,2,FALSE))","v":{"$error":"#N/A"}},{"$f":"IF(A1803=\"\",\"\",VLOOKUP(A1803,[1]ItemConfig!$A:$D,4,FALSE))","v":{"$error":"#N/A"}},{"$f":"IF(A1803=\"\",\"\",VLOOKUP(A1803,[1]ItemConfig!$A:$C,3,FALSE))","v":{"$error":"#N/A"}},{"$f":"IF(A1803=\"\",\"\",VLOOKUP(B1803,#REF!,5,FALSE))","v":{"$error":"#N/A"}},{"$f":"IF(A1803=\"\",\"\",VLOOKUP(C1803,#REF!,5,FALSE))","v":{"$error":"#N/A"}}]
[300910,{"$f":"IF(A1804=\"\",\"\",VLOOKUP(A1804,[1]ItemConfig!$A:$B,2,FALSE))","v":{"$error":"#N/A"}},{"$f":"IF(A1804=\"\",\"\",VLOOKUP(A1804,[1]ItemConfig!$A:$D,4,FALSE))","v":{"$error":"#N/A"}},{"$f":"IF(A1804=\"\",\"\",VLOOKUP(A1804,[1]ItemConfig!$A:$C,3,FALSE))","v":{"$error":"#N/A"}},{"$f":"IF(A1804=\"\",\"\",VLOOKUP(B1804,#REF!,5,FALSE))","v":{"$error":"#N/A"}},{"$f":"IF(A1804=\"\",\"\",VLOOKUP(C1804,#REF!,5,FALSE))","v":{"$error":"#N/A"}}]
[300911,{"$f":"IF(A1805=\"\",\"\",VLOOKUP(A1805,[1]ItemConfig!$A:$B,2,FALSE))","v":{"$error":"#N/A"}},{"$f":"IF(A1805=\"\",\"\",VLOOKUP(A1805,[1]ItemConfig!$A:$D,4,FALSE))","v":{"$error":"#N/A"}},{"$f":"IF(A1805=\"\",\"\",VLOOKUP(A1805,[1]ItemConfig!$A:$C,3,FALSE))","v":{"$error":"#N/A"}},{"$f":"IF(A1805=\"\",\"\",VLOOKUP(B1805,#REF!,5,FALSE))","v":{"$error":"#N/A"}},{"$f":"IF(A1805=\"\",\"\",VLOOKUP(C1805,#REF!,5,FALSE))","v":{"$error":"#N/A"}}]
[300912,{"$f":"IF(A1806=\"\",\"\",VLOOKUP(A1806,[1]ItemConfig!$A:$B,2,FALSE))","v":{"$error":"#N/A"}},{"$f":"IF(A1806=\"\",\"\",VLOOKUP(A1806,[1]ItemConfig!$A:$D,4,FALSE))","v":{"$error":"#N/A"}},{"$f":"IF(A1806=\"\",\"\",VLOOKUP(A1806,[1]ItemConfig!$A:$C,3,FALSE))","v":{"$error":"#N/A"}},{"$f":"IF(A1806=\"\",\"\",VLOOKUP(B1806,#REF!,5,FALSE))","v":{"$error":"#N/A"}},{"$f":"IF(A1806=\"\",\"\",VLOOKUP(C1806,#REF!,5,FALSE))","v":{"$error":"#N/A"}}]
[300913,{"$f":"IF(A1807=\"\",\"\",VLOOKUP(A1807,[1]ItemConfig!$A:$B,2,FALSE))","v":{"$error":"#N/A"}},{"$f":"IF(A1807=\"\",\"\",VLOOKUP(A1807,[1]ItemConfig!$A:$D,4,FALSE))","v":{"$error":"#N/A"}},{"$f":"IF(A1807=\"\",\"\",VLOOKUP(A1807,[1]ItemConfig!$A:$C,3,FALSE))","v":{"$error":"#N/A"}},{"$f":"IF(A1807=\"\",\"\",VLOOKUP(B1807,#REF!,5,FALSE))","v":{"$error":"#N/A"}},{"$f":"IF(A1807=\"\",\"\",VLOOKUP(C1807,#REF!,5,FALSE))","v":{"$error":"#N/A"}}]
[300914,{"$f":"IF(A1808=\"\",\"\",VLOOKUP(A1808,[1]ItemConfig!$A:$B,2,FALSE))","v":{"$error":"#N/A"}},{"$f":"IF(A1808=\"\",\"\",VLOOKUP(A1808,[1]ItemConfig!$A:$D,4,FALSE))","v":{"$error":"#N/A"}},{"$f":"IF(A1808=\"\",\"\",VLOOKUP(A1808,[1]ItemConfig!$A:$C,3,FALSE))","v":{"$error":"#N/A"}},{"$f":"IF(A1808=\"\",\"\",VLOOKUP(B1808,#REF!,5,FALSE))","v":{"$error":"#N/A"}},{"$f":"IF(A1808=\"\",\"\",VLOOKUP(C1808,#REF!,5,FALSE))","v":{"$error":"#N/A"}}]
[300915,{"$f":"IF(A1809=\"\",\"\",VLOOKUP(A1809,[1]ItemConfig!$A:$B,2,FALSE))","v":{"$error":"#N/A"}},{"$f":"IF(A1809=\"\",\"\",VLOOKUP(A1809,[1]ItemConfig!$A:$D,4,FALSE))","v":{"$error":"#N/A"}},{"$f":"IF(A1809=\"\",\"\",VLOOKUP(A1809,[1]ItemConfig!$A:$C,3,FALSE))","v":{"$error":"#N/A"}},{"$f":"IF(A1809=\"\",\"\",VLOOKUP(B1809,#REF!,5,FALSE))","v":{"$error":"#N/A"}},{"$f":"IF(A1809=\"\",\"\",VLOOKUP(C1809,#REF!,5,FALSE))","v":{"$error":"#N/A"}}]
[300916,{"$f":"IF(A1810=\"\",\"\",VLOOKUP(A1810,[1]ItemConfig!$A:$B,2,FALSE))","v":{"$error":"#N/A"}},{"$f":"IF(A1810=\"\",\"\",VLOOKUP(A1810,[1]ItemConfig!$A:$D,4,FALSE))","v":{"$error":"#N/A"}},{"$f":"IF(A1810=\"\",\"\",VLOOKUP(A1810,[1]ItemConfig!$A:$C,3,FALSE))","v":{"$error":"#N/A"}},{"$f":"IF(A1810=\"\",\"\",VLOOKUP(B1810,#REF!,5,FALSE))","v":{"$error":"#N/A"}},{"$f":"IF(A1810=\"\",\"\",VLOOKUP(C1810,#REF!,5,FALSE))","v":{"$error":"#N/A"}}]
[300917,{"$f":"IF(A1811=\"\",\"\",VLOOKUP(A1811,[1]ItemConfig!$A:$B,2,FALSE))","v":{"$error":"#N/A"}},{"$f":"IF(A1811=\"\",\"\",VLOOKUP(A1811,[1]ItemConfig!$A:$D,4,FALSE))","v":{"$error":"#N/A"}},{"$f":"IF(A1811=\"\",\"\",VLOOKUP(A1811,[1]ItemConfig!$A:$C,3,FALSE))","v":{"$error":"#N/A"}},{"$f":"IF(A1811=\"\",\"\",VLOOKUP(B1811,#REF!,5,FALSE))","v":{"$error":"#N/A"}},{"$f":"IF(A1811=\"\",\"\",VLOOKUP(C1811,#REF!,5,FALSE))","v":{"$error":"#N/A"}}]
[300918,{"$f":"IF(A1812=\"\",\"\",VLOOKUP(A1812,[1]ItemConfig!$A:$B,2,FALSE))","v":{"$error":"#N/A"}},{"$f":"IF(A1812=\"\",\"\",VLOOKUP(A1812,[1]ItemConfig!$A:$D,4,FALSE))","v":{"$error":"#N/A"}},{"$f":"IF(A1812=\"\",\"\",VLOOKUP(A1812,[1]ItemConfig!$A:$C,3,FALSE))","v":{"$error":"#N/A"}},{"$f":"IF(A1812=\"\",\"\",VLOOKUP(B1812,#REF!,5,FALSE))","v":{"$error":"#N/A"}},{"$f":"IF(A1812=\"\",\"\",VLOOKUP(C1812,#REF!,5,FALSE))","v":{"$error":"#N/A"}}]
[300919,{"$f":"IF(A1813=\"\",\"\",VLOOKUP(A1813,[1]ItemConfig!$A:$B,2,FALSE))","v":{"$error":"#N/A"}},{"$f":"IF(A1813=\"\",\"\",VLOOKUP(A1813,[1]ItemConfig!$A:$D,4,FALSE))","v":{"$error":"#N/A"}},{"$f":"IF(A1813=\"\",\"\",VLOOKUP(A1813,[1]ItemConfig!$A:$C,3,FALSE))","v":{"$error":"#N/A"}},{"$f":"IF(A1813=\"\",\"\",VLOOKUP(B1813,#REF!,5,FALSE))","v":{"$error":"#N/A"}},{"$f":"IF(A1813=\"\",\"\",VLOOKUP(C1813,#REF!,5,FALSE))","v":{"$error":"#N/A"}}]
[300920,{"$f":"IF(A1814=\"\",\"\",VLOOKUP(A1814,[1]ItemConfig!$A:$B,2,FALSE))","v":{"$error":"#N/A"}},{"$f":"IF(A1814=\"\",\"\",VLOOKUP(A1814,[1]ItemConfig!$A:$D,4,FALSE))","v":{"$error":"#N/A"}},{"$f":"IF(A1814=\"\",\"\",VLOOKUP(A1814,[1]ItemConfig!$A:$C,3,FALSE))","v":{"$error":"#N/A"}},{"$f":"IF(A1814=\"\",\"\",VLOOKUP(B1814,#REF!,5,FALSE))","v":{"$error":"#N/A"}},{"$f":"IF(A1814=\"\",\"\",VLOOKUP(C1814,#REF!,5,FALSE))","v":{"$error":"#N/A"}}]
[300921,{"$f":"IF(A1815=\"\",\"\",VLOOKUP(A1815,[1]ItemConfig!$A:$B,2,FALSE))","v":{"$error":"#N/A"}},{"$f":"IF(A1815=\"\",\"\",VLOOKUP(A1815,[1]ItemConfig!$A:$D,4,FALSE))","v":{"$error":"#N/A"}},{"$f":"IF(A1815=\"\",\"\",VLOOKUP(A1815,[1]ItemConfig!$A:$C,3,FALSE))","v":{"$error":"#N/A"}},{"$f":"IF(A1815=\"\",\"\",VLOOKUP(B1815,#REF!,5,FALSE))","v":{"$error":"#N/A"}},{"$f":"IF(A1815=\"\",\"\",VLOOKUP(C1815,#REF!,5,FALSE))","v":{"$error":"#N/A"}}]
[300922,{"$f":"IF(A1816=\"\",\"\",VLOOKUP(A1816,[1]ItemConfig!$A:$B,2,FALSE))","v":{"$error":"#N/A"}},{"$f":"IF(A1816=\"\",\"\",VLOOKUP(A1816,[1]ItemConfig!$A:$D,4,FALSE))","v":{"$error":"#N/A"}},{"$f":"IF(A1816=\"\",\"\",VLOOKUP(A1816,[1]ItemConfig!$A:$C,3,FALSE))","v":{"$error":"#N/A"}},{"$f":"IF(A1816=\"\",\"\",VLOOKUP(B1816,#REF!,5,FALSE))","v":{"$error":"#N/A"}},{"$f":"IF(A1816=\"\",\"\",VLOOKUP(C1816,#REF!,5,FALSE))","v":{"$error":"#N/A"}}]
[300923,{"$f":"IF(A1817=\"\",\"\",VLOOKUP(A1817,[1]ItemConfig!$A:$B,2,FALSE))","v":{"$error":"#N/A"}},{"$f":"IF(A1817=\"\",\"\",VLOOKUP(A1817,[1]ItemConfig!$A:$D,4,FALSE))","v":{"$error":"#N/A"}},{"$f":"IF(A1817=\"\",\"\",VLOOKUP(A1817,[1]ItemConfig!$A:$C,3,FALSE))","v":{"$error":"#N/A"}},{"$f":"IF(A1817=\"\",\"\",VLOOKUP(B1817,#REF!,5,FALSE))","v":{"$error":"#N/A"}},{"$f":"IF(A1817=\"\",\"\",VLOOKUP(C1817,#REF!,5,FALSE))","v":{"$error":"#N/A"}}]
[300924,{"$f":"IF(A1818=\"\",\"\",VLOOKUP(A1818,[1]ItemConfig!$A:$B,2,FALSE))","v":{"$error":"#N/A"}},{"$f":"IF(A1818=\"\",\"\",VLOOKUP(A1818,[1]ItemConfig!$A:$D,4,FALSE))","v":{"$error":"#N/A"}},{"$f":"IF(A1818=\"\",\"\",VLOOKUP(A1818,[1]ItemConfig!$A:$C,3,FALSE))","v":{"$error":"#N/A"}},{"$f":"IF(A1818=\"\",\"\",VLOOKUP(B1818,#REF!,5,FALSE))","v":{"$error":"#N/A"}},{"$f":"IF(A1818=\"\",\"\",VLOOKUP(C1818,#REF!,5,FALSE))","v":{"$error":"#N/A"}}]
[300925,{"$f":"IF(A1819=\"\",\"\",VLOOKUP(A1819,[1]ItemConfig!$A:$B,2,FALSE))","v":{"$error":"#N/A"}},{"$f":"IF(A1819=\"\",\"\",VLOOKUP(A1819,[1]ItemConfig!$A:$D,4,FALSE))","v":{"$error":"#N/A"}},{"$f":"IF(A1819=\"\",\"\",VLOOKUP(A1819,[1]ItemConfig!$A:$C,3,FALSE))","v":{"$error":"#N/A"}},{"$f":"IF(A1819=\"\",\"\",VLOOKUP(B1819,#REF!,5,FALSE))","v":{"$error":"#N/A"}},{"$f":"IF(A1819=\"\",\"\",VLOOKUP(C1819,#REF!,5,FALSE))","v":{"$error":"#N/A"}}]
[300926,{"$f":"IF(A1820=\"\",\"\",VLOOKUP(A1820,[1]ItemConfig!$A:$B,2,FALSE))","v":{"$error":"#N/A"}},{"$f":"IF(A1820=\"\",\"\",VLOOKUP(A1820,[1]ItemConfig!$A:$D,4,FALSE))","v":{"$error":"#N/A"}},{"$f":"IF(A1820=\"\",\"\",VLOOKUP(A1820,[1]ItemConfig!$A:$C,3,FALSE))","v":{"$error":"#N/A"}},{"$f":"IF(A1820=\"\",\"\",VLOOKUP(B1820,#REF!,5,FALSE))","v":{"$error":"#N/A"}},{"$f":"IF(A1820=\"\",\"\",VLOOKUP(C1820,#REF!,5,FALSE))","v":{"$error":"#N/A"}}]
[300927,{"$f":"IF(A1821=\"\",\"\",VLOOKUP(A1821,[1]ItemConfig!$A:$B,2,FALSE))","v":{"$error":"#N/A"}},{"$f":"IF(A1821=\"\",\"\",VLOOKUP(A1821,[1]ItemConfig!$A:$D,4,FALSE))","v":{"$error":"#N/A"}},{"$f":"IF(A1821=\"\",\"\",VLOOKUP(A1821,[1]ItemConfig!$A:$C,3,FALSE))","v":{"$error":"#N/A"}},{"$f":"IF(A1821=\"\",\"\",VLOOKUP(B1821,#REF!,5,FALSE))","v":{"$error":"#N/A"}},{"$f":"IF(A1821=\"\",\"\",VLOOKUP(C1821,#REF!,5,FALSE))","v":{"$error":"#N/A"}}]
[300928,{"$f":"IF(A1822=\"\",\"\",VLOOKUP(A1822,[1]ItemConfig!$A:$B,2,FALSE))","v":{"$error":"#N/A"}},{"$f":"IF(A1822=\"\",\"\",VLOOKUP(A1822,[1]ItemConfig!$A:$D,4,FALSE))","v":{"$error":"#N/A"}},{"$f":"IF(A1822=\"\",\"\",VLOOKUP(A1822,[1]ItemConfig!$A:$C,3,FALSE))","v":{"$error":"#N/A"}},{"$f":"IF(A1822=\"\",\"\",VLOOKUP(B1822,#REF!,5,FALSE))","v":{"$error":"#N/A"}},{"$f":"IF(A1822=\"\",\"\",VLOOKUP(C1822,#REF!,5,FALSE))","v":{"$error":"#N/A"}}]
[300929,{"$f":"IF(A1823=\"\",\"\",VLOOKUP(A1823,[1]ItemConfig!$A:$B,2,FALSE))","v":{"$error":"#N/A"}},{"$f":"IF(A1823=\"\",\"\",VLOOKUP(A1823,[1]ItemConfig!$A:$D,4,FALSE))","v":{"$error":"#N/A"}},{"$f":"IF(A1823=\"\",\"\",VLOOKUP(A1823,[1]ItemConfig!$A:$C,3,FALSE))","v":{"$error":"#N/A"}},{"$f":"IF(A1823=\"\",\"\",VLOOKUP(B1823,#REF!,5,FALSE))","v":{"$error":"#N/A"}},{"$f":"IF(A1823=\"\",\"\",VLOOKUP(C1823,#REF!,5,FALSE))","v":{"$error":"#N/A"}}]
[300930,{"$f":"IF(A1824=\"\",\"\",VLOOKUP(A1824,[1]ItemConfig!$A:$B,2,FALSE))","v":{"$error":"#N/A"}},{"$f":"IF(A1824=\"\",\"\",VLOOKUP(A1824,[1]ItemConfig!$A:$D,4,FALSE))","v":{"$error":"#N/A"}},{"$f":"IF(A1824=\"\",\"\",VLOOKUP(A1824,[1]ItemConfig!$A:$C,3,FALSE))","v":{"$error":"#N/A"}},{"$f":"IF(A1824=\"\",\"\",VLOOKUP(B1824,#REF!,5,FALSE))","v":{"$error":"#N/A"}},{"$f":"IF(A1824=\"\",\"\",VLOOKUP(C1824,#REF!,5,FALSE))","v":{"$error":"#N/A"}}]
[300931,{"$f":"IF(A1825=\"\",\"\",VLOOKUP(A1825,[1]ItemConfig!$A:$B,2,FALSE))","v":{"$error":"#N/A"}},{"$f":"IF(A1825=\"\",\"\",VLOOKUP(A1825,[1]ItemConfig!$A:$D,4,FALSE))","v":{"$error":"#N/A"}},{"$f":"IF(A1825=\"\",\"\",VLOOKUP(A1825,[1]ItemConfig!$A:$C,3,FALSE))","v":{"$error":"#N/A"}},{"$f":"IF(A1825=\"\",\"\",VLOOKUP(B1825,#REF!,5,FALSE))","v":{"$error":"#N/A"}},{"$f":"IF(A1825=\"\",\"\",VLOOKUP(C1825,#REF!,5,FALSE))","v":{"$error":"#N/A"}}]
[300932,{"$f":"IF(A1826=\"\",\"\",VLOOKUP(A1826,[1]ItemConfig!$A:$B,2,FALSE))","v":{"$error":"#N/A"}},{"$f":"IF(A1826=\"\",\"\",VLOOKUP(A1826,[1]ItemConfig!$A:$D,4,FALSE))","v":{"$error":"#N/A"}},{"$f":"IF(A1826=\"\",\"\",VLOOKUP(A1826,[1]ItemConfig!$A:$C,3,FALSE))","v":{"$error":"#N/A"}},{"$f":"IF(A1826=\"\",\"\",VLOOKUP(B1826,#REF!,5,FALSE))","v":{"$error":"#N/A"}},{"$f":"IF(A1826=\"\",\"\",VLOOKUP(C1826,#REF!,5,FALSE))","v":{"$error":"#N/A"}}]
[300933,{"$f":"IF(A1827=\"\",\"\",VLOOKUP(A1827,[1]ItemConfig!$A:$B,2,FALSE))","v":{"$error":"#N/A"}},{"$f":"IF(A1827=\"\",\"\",VLOOKUP(A1827,[1]ItemConfig!$A:$D,4,FALSE))","v":{"$error":"#N/A"}},{"$f":"IF(A1827=\"\",\"\",VLOOKUP(A1827,[1]ItemConfig!$A:$C,3,FALSE))","v":{"$error":"#N/A"}},{"$f":"IF(A1827=\"\",\"\",VLOOKUP(B1827,#REF!,5,FALSE))","v":{"$error":"#N/A"}},{"$f":"IF(A1827=\"\",\"\",VLOOKUP(C1827,#REF!,5,FALSE))","v":{"$error":"#N/A"}}]
[300934,{"$f":"IF(A1828=\"\",\"\",VLOOKUP(A1828,[1]ItemConfig!$A:$B,2,FALSE))","v":{"$error":"#N/A"}},{"$f":"IF(A1828=\"\",\"\",VLOOKUP(A1828,[1]ItemConfig!$A:$D,4,FALSE))","v":{"$error":"#N/A"}},{"$f":"IF(A1828=\"\",\"\",VLOOKUP(A1828,[1]ItemConfig!$A:$C,3,FALSE))","v":{"$error":"#N/A"}},{"$f":"IF(A1828=\"\",\"\",VLOOKUP(B1828,#REF!,5,FALSE))","v":{"$error":"#N/A"}},{"$f":"IF(A1828=\"\",\"\",VLOOKUP(C1828,#REF!,5,FALSE))","v":{"$error":"#N/A"}}]
[300935,{"$f":"IF(A1829=\"\",\"\",VLOOKUP(A1829,[1]ItemConfig!$A:$B,2,FALSE))","v":{"$error":"#N/A"}},{"$f":"IF(A1829=\"\",\"\",VLOOKUP(A1829,[1]ItemConfig!$A:$D,4,FALSE))","v":{"$error":"#N/A"}},{"$f":"IF(A1829=\"\",\"\",VLOOKUP(A1829,[1]ItemConfig!$A:$C,3,FALSE))","v":{"$error":"#N/A"}},{"$f":"IF(A1829=\"\",\"\",VLOOKUP(B1829,#REF!,5,FALSE))","v":{"$error":"#N/A"}},{"$f":"IF(A1829=\"\",\"\",VLOOKUP(C1829,#REF!,5,FALSE))","v":{"$error":"#N/A"}}]
[300936,{"$f":"IF(A1830=\"\",\"\",VLOOKUP(A1830,[1]ItemConfig!$A:$B,2,FALSE))","v":{"$error":"#N/A"}},{"$f":"IF(A1830=\"\",\"\",VLOOKUP(A1830,[1]ItemConfig!$A:$D,4,FALSE))","v":{"$error":"#N/A"}},{"$f":"IF(A1830=\"\",\"\",VLOOKUP(A1830,[1]ItemConfig!$A:$C,3,FALSE))","v":{"$error":"#N/A"}},{"$f":"IF(A1830=\"\",\"\",VLOOKUP(B1830,#REF!,5,FALSE))","v":{"$error":"#N/A"}},{"$f":"IF(A1830=\"\",\"\",VLOOKUP(C1830,#REF!,5,FALSE))","v":{"$error":"#N/A"}}]
[300937,{"$f":"IF(A1831=\"\",\"\",VLOOKUP(A1831,[1]ItemConfig!$A:$B,2,FALSE))","v":{"$error":"#N/A"}},{"$f":"IF(A1831=\"\",\"\",VLOOKUP(A1831,[1]ItemConfig!$A:$D,4,FALSE))","v":{"$error":"#N/A"}},{"$f":"IF(A1831=\"\",\"\",VLOOKUP(A1831,[1]ItemConfig!$A:$C,3,FALSE))","v":{"$error":"#N/A"}},{"$f":"IF(A1831=\"\",\"\",VLOOKUP(B1831,#REF!,5,FALSE))","v":{"$error":"#N/A"}},{"$f":"IF(A1831=\"\",\"\",VLOOKUP(C1831,#REF!,5,FALSE))","v":{"$error":"#N/A"}}]
[300938,{"$f":"IF(A1832=\"\",\"\",VLOOKUP(A1832,[1]ItemConfig!$A:$B,2,FALSE))","v":{"$error":"#N/A"}},{"$f":"IF(A1832=\"\",\"\",VLOOKUP(A1832,[1]ItemConfig!$A:$D,4,FALSE))","v":{"$error":"#N/A"}},{"$f":"IF(A1832=\"\",\"\",VLOOKUP(A1832,[1]ItemConfig!$A:$C,3,FALSE))","v":{"$error":"#N/A"}},{"$f":"IF(A1832=\"\",\"\",VLOOKUP(B1832,#REF!,5,FALSE))","v":{"$error":"#N/A"}},{"$f":"IF(A1832=\"\",\"\",VLOOKUP(C1832,#REF!,5,FALSE))","v":{"$error":"#N/A"}}]
[300939,{"$f":"IF(A1833=\"\",\"\",VLOOKUP(A1833,[1]ItemConfig!$A:$B,2,FALSE))","v":{"$error":"#N/A"}},{"$f":"IF(A1833=\"\",\"\",VLOOKUP(A1833,[1]ItemConfig!$A:$D,4,FALSE))","v":{"$error":"#N/A"}},{"$f":"IF(A1833=\"\",\"\",VLOOKUP(A1833,[1]ItemConfig!$A:$C,3,FALSE))","v":{"$error":"#N/A"}},{"$f":"IF(A1833=\"\",\"\",VLOOKUP(B1833,#REF!,5,FALSE))","v":{"$error":"#N/A"}},{"$f":"IF(A1833=\"\",\"\",VLOOKUP(C1833,#REF!,5,FALSE))","v":{"$error":"#N/A"}}]
[300940,{"$f":"IF(A1834=\"\",\"\",VLOOKUP(A1834,[1]ItemConfig!$A:$B,2,FALSE))","v":{"$error":"#N/A"}},{"$f":"IF(A1834=\"\",\"\",VLOOKUP(A1834,[1]ItemConfig!$A:$D,4,FALSE))","v":{"$error":"#N/A"}},{"$f":"IF(A1834=\"\",\"\",VLOOKUP(A1834,[1]ItemConfig!$A:$C,3,FALSE))","v":{"$error":"#N/A"}},{"$f":"IF(A1834=\"\",\"\",VLOOKUP(B1834,#REF!,5,FALSE))","v":{"$error":"#N/A"}},{"$f":"IF(A1834=\"\",\"\",VLOOKUP(C1834,#REF!,5,FALSE))","v":{"$error":"#N/A"}}]
[300941,{"$f":"IF(A1835=\"\",\"\",VLOOKUP(A1835,[1]ItemConfig!$A:$B,2,FALSE))","v":{"$error":"#N/A"}},{"$f":"IF(A1835=\"\",\"\",VLOOKUP(A1835,[1]ItemConfig!$A:$D,4,FALSE))","v":{"$error":"#N/A"}},{"$f":"IF(A1835=\"\",\"\",VLOOKUP(A1835,[1]ItemConfig!$A:$C,3,FALSE))","v":{"$error":"#N/A"}},{"$f":"IF(A1835=\"\",\"\",VLOOKUP(B1835,#REF!,5,FALSE))","v":{"$error":"#N/A"}},{"$f":"IF(A1835=\"\",\"\",VLOOKUP(C1835,#REF!,5,FALSE))","v":{"$error":"#N/A"}}]
[300942,{"$f":"IF(A1836=\"\",\"\",VLOOKUP(A1836,[1]ItemConfig!$A:$B,2,FALSE))","v":{"$error":"#N/A"}},{"$f":"IF(A1836=\"\",\"\",VLOOKUP(A1836,[1]ItemConfig!$A:$D,4,FALSE))","v":{"$error":"#N/A"}},{"$f":"IF(A1836=\"\",\"\",VLOOKUP(A1836,[1]ItemConfig!$A:$C,3,FALSE))","v":{"$error":"#N/A"}},{"$f":"IF(A1836=\"\",\"\",VLOOKUP(B1836,#REF!,5,FALSE))","v":{"$error":"#N/A"}},{"$f":"IF(A1836=\"\",\"\",VLOOKUP(C1836,#REF!,5,FALSE))","v":{"$error":"#N/A"}}]
[300943,{"$f":"IF(A1837=\"\",\"\",VLOOKUP(A1837,[1]ItemConfig!$A:$B,2,FALSE))","v":{"$error":"#N/A"}},{"$f":"IF(A1837=\"\",\"\",VLOOKUP(A1837,[1]ItemConfig!$A:$D,4,FALSE))","v":{"$error":"#N/A"}},{"$f":"IF(A1837=\"\",\"\",VLOOKUP(A1837,[1]ItemConfig!$A:$C,3,FALSE))","v":{"$error":"#N/A"}},{"$f":"IF(A1837=\"\",\"\",VLOOKUP(B1837,#REF!,5,FALSE))","v":{"$error":"#N/A"}},{"$f":"IF(A1837=\"\",\"\",VLOOKUP(C1837,#REF!,5,FALSE))","v":{"$error":"#N/A"}}]
[300944,{"$f":"IF(A1838=\"\",\"\",VLOOKUP(A1838,[1]ItemConfig!$A:$B,2,FALSE))","v":{"$error":"#N/A"}},{"$f":"IF(A1838=\"\",\"\",VLOOKUP(A1838,[1]ItemConfig!$A:$D,4,FALSE))","v":{"$error":"#N/A"}},{"$f":"IF(A1838=\"\",\"\",VLOOKUP(A1838,[1]ItemConfig!$A:$C,3,FALSE))","v":{"$error":"#N/A"}},{"$f":"IF(A1838=\"\",\"\",VLOOKUP(B1838,#REF!,5,FALSE))","v":{"$error":"#N/A"}},{"$f":"IF(A1838=\"\",\"\",VLOOKUP(C1838,#REF!,5,FALSE))","v":{"$error":"#N/A"}}]
[300945,{"$f":"IF(A1839=\"\",\"\",VLOOKUP(A1839,[1]ItemConfig!$A:$B,2,FALSE))","v":{"$error":"#N/A"}},{"$f":"IF(A1839=\"\",\"\",VLOOKUP(A1839,[1]ItemConfig!$A:$D,4,FALSE))","v":{"$error":"#N/A"}},{"$f":"IF(A1839=\"\",\"\",VLOOKUP(A1839,[1]ItemConfig!$A:$C,3,FALSE))","v":{"$error":"#N/A"}},{"$f":"IF(A1839=\"\",\"\",VLOOKUP(B1839,#REF!,5,FALSE))","v":{"$error":"#N/A"}},{"$f":"IF(A1839=\"\",\"\",VLOOKUP(C1839,#REF!,5,FALSE))","v":{"$error":"#N/A"}}]
[300946,{"$f":"IF(A1840=\"\",\"\",VLOOKUP(A1840,[1]ItemConfig!$A:$B,2,FALSE))","v":{"$error":"#N/A"}},{"$f":"IF(A1840=\"\",\"\",VLOOKUP(A1840,[1]ItemConfig!$A:$D,4,FALSE))","v":{"$error":"#N/A"}},{"$f":"IF(A1840=\"\",\"\",VLOOKUP(A1840,[1]ItemConfig!$A:$C,3,FALSE))","v":{"$error":"#N/A"}},{"$f":"IF(A1840=\"\",\"\",VLOOKUP(B1840,#REF!,5,FALSE))","v":{"$error":"#N/A"}},{"$f":"IF(A1840=\"\",\"\",VLOOKUP(C1840,#REF!,5,FALSE))","v":{"$error":"#N/A"}}]
[300947,{"$f":"IF(A1841=\"\",\"\",VLOOKUP(A1841,[1]ItemConfig!$A:$B,2,FALSE))","v":{"$error":"#N/A"}},{"$f":"IF(A1841=\"\",\"\",VLOOKUP(A1841,[1]ItemConfig!$A:$D,4,FALSE))","v":{"$error":"#N/A"}},{"$f":"IF(A1841=\"\",\"\",VLOOKUP(A1841,[1]ItemConfig!$A:$C,3,FALSE))","v":{"$error":"#N/A"}},{"$f":"IF(A1841=\"\",\"\",VLOOKUP(B1841,#REF!,5,FALSE))","v":{"$error":"#N/A"}},{"$f":"IF(A1841=\"\",\"\",VLOOKUP(C1841,#REF!,5,FALSE))","v":{"$error":"#N/A"}}]
[300948,{"$f":"IF(A1842=\"\",\"\",VLOOKUP(A1842,[1]ItemConfig!$A:$B,2,FALSE))","v":{"$error":"#N/A"}},{"$f":"IF(A1842=\"\",\"\",VLOOKUP(A1842,[1]ItemConfig!$A:$D,4,FALSE))","v":{"$error":"#N/A"}},{"$f":"IF(A1842=\"\",\"\",VLOOKUP(A1842,[1]ItemConfig!$A:$C,3,FALSE))","v":{"$error":"#N/A"}},{"$f":"IF(A1842=\"\",\"\",VLOOKUP(B1842,#REF!,5,FALSE))","v":{"$error":"#N/A"}},{"$f":"IF(A1842=\"\",\"\",VLOOKUP(C1842,#REF!,5,FALSE))","v":{"$error":"#N/A"}}]
[300949,{"$f":"IF(A1843=\"\",\"\",VLOOKUP(A1843,[1]ItemConfig!$A:$B,2,FALSE))","v":{"$error":"#N/A"}},{"$f":"IF(A1843=\"\",\"\",VLOOKUP(A1843,[1]ItemConfig!$A:$D,4,FALSE))","v":{"$error":"#N/A"}},{"$f":"IF(A1843=\"\",\"\",VLOOKUP(A1843,[1]ItemConfig!$A:$C,3,FALSE))","v":{"$error":"#N/A"}},{"$f":"IF(A1843=\"\",\"\",VLOOKUP(B1843,#REF!,5,FALSE))","v":{"$error":"#N/A"}},{"$f":"IF(A1843=\"\",\"\",VLOOKUP(C1843,#REF!,5,FALSE))","v":{"$error":"#N/A"}}]
[300950,{"$f":"IF(A1844=\"\",\"\",VLOOKUP(A1844,[1]ItemConfig!$A:$B,2,FALSE))","v":{"$error":"#N/A"}},{"$f":"IF(A1844=\"\",\"\",VLOOKUP(A1844,[1]ItemConfig!$A:$D,4,FALSE))","v":{"$error":"#N/A"}},{"$f":"IF(A1844=\"\",\"\",VLOOKUP(A1844,[1]ItemConfig!$A:$C,3,FALSE))","v":{"$error":"#N/A"}},{"$f":"IF(A1844=\"\",\"\",VLOOKUP(B1844,#REF!,5,FALSE))","v":{"$error":"#N/A"}},{"$f":"IF(A1844=\"\",\"\",VLOOKUP(C1844,#REF!,5,FALSE))","v":{"$error":"#N/A"}}]
[300951,{"$f":"IF(A1845=\"\",\"\",VLOOKUP(A1845,[1]ItemConfig!$A:$B,2,FALSE))","v":{"$error":"#N/A"}},{"$f":"IF(A1845=\"\",\"\",VLOOKUP(A1845,[1]ItemConfig!$A:$D,4,FALSE))","v":{"$error":"#N/A"}},{"$f":"IF(A1845=\"\",\"\",VLOOKUP(A1845,[1]ItemConfig!$A:$C,3,FALSE))","v":{"$error":"#N/A"}},{"$f":"IF(A1845=\"\",\"\",VLOOKUP(B1845,#REF!,5,FALSE))","v":{"$error":"#N/A"}},{"$f":"IF(A1845=\"\",\"\",VLOOKUP(C1845,#REF!,5,FALSE))","v":{"$error":"#N/A"}}]
[300952,{"$f":"IF(A1846=\"\",\"\",VLOOKUP(A1846,[1]ItemConfig!$A:$B,2,FALSE))","v":{"$error":"#N/A"}},{"$f":"IF(A1846=\"\",\"\",VLOOKUP(A1846,[1]ItemConfig!$A:$D,4,FALSE))","v":{"$error":"#N/A"}},{"$f":"IF(A1846=\"\",\"\",VLOOKUP(A1846,[1]ItemConfig!$A:$C,3,FALSE))","v":{"$error":"#N/A"}},{"$f":"IF(A1846=\"\",\"\",VLOOKUP(B1846,#REF!,5,FALSE))","v":{"$error":"#N/A"}},{"$f":"IF(A1846=\"\",\"\",VLOOKUP(C1846,#REF!,5,FALSE))","v":{"$error":"#N/A"}}]
[300953,{"$f":"IF(A1847=\"\",\"\",VLOOKUP(A1847,[1]ItemConfig!$A:$B,2,FALSE))","v":{"$error":"#N/A"}},{"$f":"IF(A1847=\"\",\"\",VLOOKUP(A1847,[1]ItemConfig!$A:$D,4,FALSE))","v":{"$error":"#N/A"}},{"$f":"IF(A1847=\"\",\"\",VLOOKUP(A1847,[1]ItemConfig!$A:$C,3,FALSE))","v":{"$error":"#N/A"}},{"$f":"IF(A1847=\"\",\"\",VLOOKUP(B1847,#REF!,5,FALSE))","v":{"$error":"#N/A"}},{"$f":"IF(A1847=\"\",\"\",VLOOKUP(C1847,#REF!,5,FALSE))","v":{"$error":"#N/A"}}]
[300954,{"$f":"IF(A1848=\"\",\"\",VLOOKUP(A1848,[1]ItemConfig!$A:$B,2,FALSE))","v":{"$error":"#N/A"}},{"$f":"IF(A1848=\"\",\"\",VLOOKUP(A1848,[1]ItemConfig!$A:$D,4,FALSE))","v":{"$error":"#N/A"}},{"$f":"IF(A1848=\"\",\"\",VLOOKUP(A1848,[1]ItemConfig!$A:$C,3,FALSE))","v":{"$error":"#N/A"}},{"$f":"IF(A1848=\"\",\"\",VLOOKUP(B1848,#REF!,5,FALSE))","v":{"$error":"#N/A"}},{"$f":"IF(A1848=\"\",\"\",VLOOKUP(C1848,#REF!,5,FALSE))","v":{"$error":"#N/A"}}]
[300955,{"$f":"IF(A1849=\"\",\"\",VLOOKUP(A1849,[1]ItemConfig!$A:$B,2,FALSE))","v":{"$error":"#N/A"}},{"$f":"IF(A1849=\"\",\"\",VLOOKUP(A1849,[1]ItemConfig!$A:$D,4,FALSE))","v":{"$error":"#N/A"}},{"$f":"IF(A1849=\"\",\"\",VLOOKUP(A1849,[1]ItemConfig!$A:$C,3,FALSE))","v":{"$error":"#N/A"}},{"$f":"IF(A1849=\"\",\"\",VLOOKUP(B1849,#REF!,5,FALSE))","v":{"$error":"#N/A"}},{"$f":"IF(A1849=\"\",\"\",VLOOKUP(C1849,#REF!,5,FALSE))","v":{"$error":"#N/A"}}]
[300956,{"$f":"IF(A1850=\"\",\"\",VLOOKUP(A1850,[1]ItemConfig!$A:$B,2,FALSE))","v":{"$error":"#N/A"}},{"$f":"IF(A1850=\"\",\"\",VLOOKUP(A1850,[1]ItemConfig!$A:$D,4,FALSE))","v":{"$error":"#N/A"}},{"$f":"IF(A1850=\"\",\"\",VLOOKUP(A1850,[1]ItemConfig!$A:$C,3,FALSE))","v":{"$error":"#N/A"}},{"$f":"IF(A1850=\"\",\"\",VLOOKUP(B1850,#REF!,5,FALSE))","v":{"$error":"#N/A"}},{"$f":"IF(A1850=\"\",\"\",VLOOKUP(C1850,#REF!,5,FALSE))","v":{"$error":"#N/A"}}]
[300957,{"$f":"IF(A1851=\"\",\"\",VLOOKUP(A1851,[1]ItemConfig!$A:$B,2,FALSE))","v":{"$error":"#N/A"}},{"$f":"IF(A1851=\"\",\"\",VLOOKUP(A1851,[1]ItemConfig!$A:$D,4,FALSE))","v":{"$error":"#N/A"}},{"$f":"IF(A1851=\"\",\"\",VLOOKUP(A1851,[1]ItemConfig!$A:$C,3,FALSE))","v":{"$error":"#N/A"}},{"$f":"IF(A1851=\"\",\"\",VLOOKUP(B1851,#REF!,5,FALSE))","v":{"$error":"#N/A"}},{"$f":"IF(A1851=\"\",\"\",VLOOKUP(C1851,#REF!,5,FALSE))","v":{"$error":"#N/A"}}]
[300958,{"$f":"IF(A1852=\"\",\"\",VLOOKUP(A1852,[1]ItemConfig!$A:$B,2,FALSE))","v":{"$error":"#N/A"}},{"$f":"IF(A1852=\"\",\"\",VLOOKUP(A1852,[1]ItemConfig!$A:$D,4,FALSE))","v":{"$error":"#N/A"}},{"$f":"IF(A1852=\"\",\"\",VLOOKUP(A1852,[1]ItemConfig!$A:$C,3,FALSE))","v":{"$error":"#N/A"}},{"$f":"IF(A1852=\"\",\"\",VLOOKUP(B1852,#REF!,5,FALSE))","v":{"$error":"#N/A"}},{"$f":"IF(A1852=\"\",\"\",VLOOKUP(C1852,#REF!,5,FALSE))","v":{"$error":"#N/A"}}]
[300959,{"$f":"IF(A1853=\"\",\"\",VLOOKUP(A1853,[1]ItemConfig!$A:$B,2,FALSE))","v":{"$error":"#N/A"}},{"$f":"IF(A1853=\"\",\"\",VLOOKUP(A1853,[1]ItemConfig!$A:$D,4,FALSE))","v":{"$error":"#N/A"}},{"$f":"IF(A1853=\"\",\"\",VLOOKUP(A1853,[1]ItemConfig!$A:$C,3,FALSE))","v":{"$error":"#N/A"}},{"$f":"IF(A1853=\"\",\"\",VLOOKUP(B1853,#REF!,5,FALSE))","v":{"$error":"#N/A"}},{"$f":"IF(A1853=\"\",\"\",VLOOKUP(C1853,#REF!,5,FALSE))","v":{"$error":"#N/A"}}]
[300960,{"$f":"IF(A1854=\"\",\"\",VLOOKUP(A1854,[1]ItemConfig!$A:$B,2,FALSE))","v":{"$error":"#N/A"}},{"$f":"IF(A1854=\"\",\"\",VLOOKUP(A1854,[1]ItemConfig!$A:$D,4,FALSE))","v":{"$error":"#N/A"}},{"$f":"IF(A1854=\"\",\"\",VLOOKUP(A1854,[1]ItemConfig!$A:$C,3,FALSE))","v":{"$error":"#N/A"}},{"$f":"IF(A1854=\"\",\"\",VLOOKUP(B1854,#REF!,5,FALSE))","v":{"$error":"#N/A"}},{"$f":"IF(A1854=\"\",\"\",VLOOKUP(C1854,#REF!,5,FALSE))","v":{"$error":"#N/A"}}]
[300961,{"$f":"IF(A1855=\"\",\"\",VLOOKUP(A1855,[1]ItemConfig!$A:$B,2,FALSE))","v":{"$error":"#N/A"}},{"$f":"IF(A1855=\"\",\"\",VLOOKUP(A1855,[1]ItemConfig!$A:$D,4,FALSE))","v":{"$error":"#N/A"}},{"$f":"IF(A1855=\"\",\"\",VLOOKUP(A1855,[1]ItemConfig!$A:$C,3,FALSE))","v":{"$error":"#N/A"}},{"$f":"IF(A1855=\"\",\"\",VLOOKUP(B1855,#REF!,5,FALSE))","v":{"$error":"#N/A"}},{"$f":"IF(A1855=\"\",\"\",VLOOKUP(C1855,#REF!,5,FALSE))","v":{"$error":"#N/A"}}]
[300962,{"$f":"IF(A1856=\"\",\"\",VLOOKUP(A1856,[1]ItemConfig!$A:$B,2,FALSE))","v":{"$error":"#N/A"}},{"$f":"IF(A1856=\"\",\"\",VLOOKUP(A1856,[1]ItemConfig!$A:$D,4,FALSE))","v":{"$error":"#N/A"}},{"$f":"IF(A1856=\"\",\"\",VLOOKUP(A1856,[1]ItemConfig!$A:$C,3,FALSE))","v":{"$error":"#N/A"}},{"$f":"IF(A1856=\"\",\"\",VLOOKUP(B1856,#REF!,5,FALSE))","v":{"$error":"#N/A"}},{"$f":"IF(A1856=\"\",\"\",VLOOKUP(C1856,#REF!,5,FALSE))","v":{"$error":"#N/A"}}]
[300963,{"$f":"IF(A1857=\"\",\"\",VLOOKUP(A1857,[1]ItemConfig!$A:$B,2,FALSE))","v":{"$error":"#N/A"}},{"$f":"IF(A1857=\"\",\"\",VLOOKUP(A1857,[1]ItemConfig!$A:$D,4,FALSE))","v":{"$error":"#N/A"}},{"$f":"IF(A1857=\"\",\"\",VLOOKUP(A1857,[1]ItemConfig!$A:$C,3,FALSE))","v":{"$error":"#N/A"}},{"$f":"IF(A1857=\"\",\"\",VLOOKUP(B1857,#REF!,5,FALSE))","v":{"$error":"#N/A"}},{"$f":"IF(A1857=\"\",\"\",VLOOKUP(C1857,#REF!,5,FALSE))","v":{"$error":"#N/A"}}]
[300964,{"$f":"IF(A1858=\"\",\"\",VLOOKUP(A1858,[1]ItemConfig!$A:$B,2,FALSE))","v":{"$error":"#N/A"}},{"$f":"IF(A1858=\"\",\"\",VLOOKUP(A1858,[1]ItemConfig!$A:$D,4,FALSE))","v":{"$error":"#N/A"}},{"$f":"IF(A1858=\"\",\"\",VLOOKUP(A1858,[1]ItemConfig!$A:$C,3,FALSE))","v":{"$error":"#N/A"}},{"$f":"IF(A1858=\"\",\"\",VLOOKUP(B1858,#REF!,5,FALSE))","v":{"$error":"#N/A"}},{"$f":"IF(A1858=\"\",\"\",VLOOKUP(C1858,#REF!,5,FALSE))","v":{"$error":"#N/A"}}]
[300965,{"$f":"IF(A1859=\"\",\"\",VLOOKUP(A1859,[1]ItemConfig!$A:$B,2,FALSE))","v":{"$error":"#N/A"}},{"$f":"IF(A1859=\"\",\"\",VLOOKUP(A1859,[1]ItemConfig!$A:$D,4,FALSE))","v":{"$error":"#N/A"}},{"$f":"IF(A1859=\"\",\"\",VLOOKUP(A1859,[1]ItemConfig!$A:$C,3,FALSE))","v":{"$error":"#N/A"}},{"$f":"IF(A1859=\"\",\"\",VLOOKUP(B1859,#REF!,5,FALSE))","v":{"$error":"#N/A"}},{"$f":"IF(A1859=\"\",\"\",VLOOKUP(C1859,#REF!,5,FALSE))","v":{"$error":"#N/A"}}]
[300966,{"$f":"IF(A1860=\"\",\"\",VLOOKUP(A1860,[1]ItemConfig!$A:$B,2,FALSE))","v":{"$error":"#N/A"}},{"$f":"IF(A1860=\"\",\"\",VLOOKUP(A1860,[1]ItemConfig!$A:$D,4,FALSE))","v":{"$error":"#N/A"}},{"$f":"IF(A1860=\"\",\"\",VLOOKUP(A1860,[1]ItemConfig!$A:$C,3,FALSE))","v":{"$error":"#N/A"}},{"$f":"IF(A1860=\"\",\"\",VLOOKUP(B1860,#REF!,5,FALSE))","v":{"$error":"#N/A"}},{"$f":"IF(A1860=\"\",\"\",VLOOKUP(C1860,#REF!,5,FALSE))","v":{"$error":"#N/A"}}]
[300967,{"$f":"IF(A1861=\"\",\"\",VLOOKUP(A1861,[1]ItemConfig!$A:$B,2,FALSE))","v":{"$error":"#N/A"}},{"$f":"IF(A1861=\"\",\"\",VLOOKUP(A1861,[1]ItemConfig!$A:$D,4,FALSE))","v":{"$error":"#N/A"}},{"$f":"IF(A1861=\"\",\"\",VLOOKUP(A1861,[1]ItemConfig!$A:$C,3,FALSE))","v":{"$error":"#N/A"}},{"$f":"IF(A1861=\"\",\"\",VLOOKUP(B1861,#REF!,5,FALSE))","v":{"$error":"#N/A"}},{"$f":"IF(A1861=\"\",\"\",VLOOKUP(C1861,#REF!,5,FALSE))","v":{"$error":"#N/A"}}]
[300968,{"$f":"IF(A1862=\"\",\"\",VLOOKUP(A1862,[1]ItemConfig!$A:$B,2,FALSE))","v":{"$error":"#N/A"}},{"$f":"IF(A1862=\"\",\"\",VLOOKUP(A1862,[1]ItemConfig!$A:$D,4,FALSE))","v":{"$error":"#N/A"}},{"$f":"IF(A1862=\"\",\"\",VLOOKUP(A1862,[1]ItemConfig!$A:$C,3,FALSE))","v":{"$error":"#N/A"}},{"$f":"IF(A1862=\"\",\"\",VLOOKUP(B1862,#REF!,5,FALSE))","v":{"$error":"#N/A"}},{"$f":"IF(A1862=\"\",\"\",VLOOKUP(C1862,#REF!,5,FALSE))","v":{"$error":"#N/A"}}]
[300969,{"$f":"IF(A1863=\"\",\"\",VLOOKUP(A1863,[1]ItemConfig!$A:$B,2,FALSE))","v":{"$error":"#N/A"}},{"$f":"IF(A1863=\"\",\"\",VLOOKUP(A1863,[1]ItemConfig!$A:$D,4,FALSE))","v":{"$error":"#N/A"}},{"$f":"IF(A1863=\"\",\"\",VLOOKUP(A1863,[1]ItemConfig!$A:$C,3,FALSE))","v":{"$error":"#N/A"}},{"$f":"IF(A1863=\"\",\"\",VLOOKUP(B1863,#REF!,5,FALSE))","v":{"$error":"#N/A"}},{"$f":"IF(A1863=\"\",\"\",VLOOKUP(C1863,#REF!,5,FALSE))","v":{"$error":"#N/A"}}]
[300970,{"$f":"IF(A1864=\"\",\"\",VLOOKUP(A1864,[1]ItemConfig!$A:$B,2,FALSE))","v":{"$error":"#N/A"}},{"$f":"IF(A1864=\"\",\"\",VLOOKUP(A1864,[1]ItemConfig!$A:$D,4,FALSE))","v":{"$error":"#N/A"}},{"$f":"IF(A1864=\"\",\"\",VLOOKUP(A1864,[1]ItemConfig!$A:$C,3,FALSE))","v":{"$error":"#N/A"}},{"$f":"IF(A1864=\"\",\"\",VLOOKUP(B1864,#REF!,5,FALSE))","v":{"$error":"#N/A"}},{"$f":"IF(A1864=\"\",\"\",VLOOKUP(C1864,#REF!,5,FALSE))","v":{"$error":"#N/A"}}]
[300971,{"$f":"IF(A1865=\"\",\"\",VLOOKUP(A1865,[1]ItemConfig!$A:$B,2,FALSE))","v":{"$error":"#N/A"}},{"$f":"IF(A1865=\"\",\"\",VLOOKUP(A1865,[1]ItemConfig!$A:$D,4,FALSE))","v":{"$error":"#N/A"}},{"$f":"IF(A1865=\"\",\"\",VLOOKUP(A1865,[1]ItemConfig!$A:$C,3,FALSE))","v":{"$error":"#N/A"}},{"$f":"IF(A1865=\"\",\"\",VLOOKUP(B1865,#REF!,5,FALSE))","v":{"$error":"#N/A"}},{"$f":"IF(A1865=\"\",\"\",VLOOKUP(C1865,#REF!,5,FALSE))","v":{"$error":"#N/A"}}]
[300972,{"$f":"IF(A1866=\"\",\"\",VLOOKUP(A1866,[1]ItemConfig!$A:$B,2,FALSE))","v":{"$error":"#N/A"}},{"$f":"IF(A1866=\"\",\"\",VLOOKUP(A1866,[1]ItemConfig!$A:$D,4,FALSE))","v":{"$error":"#N/A"}},{"$f":"IF(A1866=\"\",\"\",VLOOKUP(A1866,[1]ItemConfig!$A:$C,3,FALSE))","v":{"$error":"#N/A"}},{"$f":"IF(A1866=\"\",\"\",VLOOKUP(B1866,#REF!,5,FALSE))","v":{"$error":"#N/A"}},{"$f":"IF(A1866=\"\",\"\",VLOOKUP(C1866,#REF!,5,FALSE))","v":{"$error":"#N/A"}}]
[300973,{"$f":"IF(A1867=\"\",\"\",VLOOKUP(A1867,[1]ItemConfig!$A:$B,2,FALSE))","v":{"$error":"#N/A"}},{"$f":"IF(A1867=\"\",\"\",VLOOKUP(A1867,[1]ItemConfig!$A:$D,4,FALSE))","v":{"$error":"#N/A"}},{"$f":"IF(A1867=\"\",\"\",VLOOKUP(A1867,[1]ItemConfig!$A:$C,3,FALSE))","v":{"$error":"#N/A"}},{"$f":"IF(A1867=\"\",\"\",VLOOKUP(B1867,#REF!,5,FALSE))","v":{"$error":"#N/A"}},{"$f":"IF(A1867=\"\",\"\",VLOOKUP(C1867,#REF!,5,FALSE))","v":{"$error":"#N/A"}}]
[300974,{"$f":"IF(A1868=\"\",\"\",VLOOKUP(A1868,[1]ItemConfig!$A:$B,2,FALSE))","v":{"$error":"#N/A"}},{"$f":"IF(A1868=\"\",\"\",VLOOKUP(A1868,[1]ItemConfig!$A:$D,4,FALSE))","v":{"$error":"#N/A"}},{"$f":"IF(A1868=\"\",\"\",VLOOKUP(A1868,[1]ItemConfig!$A:$C,3,FALSE))","v":{"$error":"#N/A"}},{"$f":"IF(A1868=\"\",\"\",VLOOKUP(B1868,#REF!,5,FALSE))","v":{"$error":"#N/A"}},{"$f":"IF(A1868=\"\",\"\",VLOOKUP(C1868,#REF!,5,FALSE))","v":{"$error":"#N/A"}}]
[300975,{"$f":"IF(A1869=\"\",\"\",VLOOKUP(A1869,[1]ItemConfig!$A:$B,2,FALSE))","v":{"$error":"#N/A"}},{"$f":"IF(A1869=\"\",\"\",VLOOKUP(A1869,[1]ItemConfig!$A:$D,4,FALSE))","v":{"$error":"#N/A"}},{"$f":"IF(A1869=\"\",\"\",VLOOKUP(A1869,[1]ItemConfig!$A:$C,3,FALSE))","v":{"$error":"#N/A"}},{"$f":"IF(A1869=\"\",\"\",VLOOKUP(B1869,#REF!,5,FALSE))","v":{"$error":"#N/A"}},{"$f":"IF(A1869=\"\",\"\",VLOOKUP(C1869,#REF!,5,FALSE))","v":{"$error":"#N/A"}}]
[300976,{"$f":"IF(A1870=\"\",\"\",VLOOKUP(A1870,[1]ItemConfig!$A:$B,2,FALSE))","v":{"$error":"#N/A"}},{"$f":"IF(A1870=\"\",\"\",VLOOKUP(A1870,[1]ItemConfig!$A:$D,4,FALSE))","v":{"$error":"#N/A"}},{"$f":"IF(A1870=\"\",\"\",VLOOKUP(A1870,[1]ItemConfig!$A:$C,3,FALSE))","v":{"$error":"#N/A"}},{"$f":"IF(A1870=\"\",\"\",VLOOKUP(B1870,#REF!,5,FALSE))","v":{"$error":"#N/A"}},{"$f":"IF(A1870=\"\",\"\",VLOOKUP(C1870,#REF!,5,FALSE))","v":{"$error":"#N/A"}}]
[300977,{"$f":"IF(A1871=\"\",\"\",VLOOKUP(A1871,[1]ItemConfig!$A:$B,2,FALSE))","v":{"$error":"#N/A"}},{"$f":"IF(A1871=\"\",\"\",VLOOKUP(A1871,[1]ItemConfig!$A:$D,4,FALSE))","v":{"$error":"#N/A"}},{"$f":"IF(A1871=\"\",\"\",VLOOKUP(A1871,[1]ItemConfig!$A:$C,3,FALSE))","v":{"$error":"#N/A"}},{"$f":"IF(A1871=\"\",\"\",VLOOKUP(B1871,#REF!,5,FALSE))","v":{"$error":"#N/A"}},{"$f":"IF(A1871=\"\",\"\",VLOOKUP(C1871,#REF!,5,FALSE))","v":{"$error":"#N/A"}}]
[300978,{"$f":"IF(A1872=\"\",\"\",VLOOKUP(A1872,[1]ItemConfig!$A:$B,2,FALSE))","v":{"$error":"#N/A"}},{"$f":"IF(A1872=\"\",\"\",VLOOKUP(A1872,[1]ItemConfig!$A:$D,4,FALSE))","v":{"$error":"#N/A"}},{"$f":"IF(A1872=\"\",\"\",VLOOKUP(A1872,[1]ItemConfig!$A:$C,3,FALSE))","v":{"$error":"#N/A"}},{"$f":"IF(A1872=\"\",\"\",VLOOKUP(B1872,#REF!,5,FALSE))","v":{"$error":"#N/A"}},{"$f":"IF(A1872=\"\",\"\",VLOOKUP(C1872,#REF!,5,FALSE))","v":{"$error":"#N/A"}}]
[300979,{"$f":"IF(A1873=\"\",\"\",VLOOKUP(A1873,[1]ItemConfig!$A:$B,2,FALSE))","v":{"$error":"#N/A"}},{"$f":"IF(A1873=\"\",\"\",VLOOKUP(A1873,[1]ItemConfig!$A:$D,4,FALSE))","v":{"$error":"#N/A"}},{"$f":"IF(A1873=\"\",\"\",VLOOKUP(A1873,[1]ItemConfig!$A:$C,3,FALSE))","v":{"$error":"#N/A"}},{"$f":"IF(A1873=\"\",\"\",VLOOKUP(B1873,#REF!,5,FALSE))","v":{"$error":"#N/A"}},{"$f":"IF(A1873=\"\",\"\",VLOOKUP(C1873,#REF!,5,FALSE))","v":{"$error":"#N/A"}}]
[300980,{"$f":"IF(A1874=\"\",\"\",VLOOKUP(A1874,[1]ItemConfig!$A:$B,2,FALSE))","v":{"$error":"#N/A"}},{"$f":"IF(A1874=\"\",\"\",VLOOKUP(A1874,[1]ItemConfig!$A:$D,4,FALSE))","v":{"$error":"#N/A"}},{"$f":"IF(A1874=\"\",\"\",VLOOKUP(A1874,[1]ItemConfig!$A:$C,3,FALSE))","v":{"$error":"#N/A"}},{"$f":"IF(A1874=\"\",\"\",VLOOKUP(B1874,#REF!,5,FALSE))","v":{"$error":"#N/A"}},{"$f":"IF(A1874=\"\",\"\",VLOOKUP(C1874,#REF!,5,FALSE))","v":{"$error":"#N/A"}}]
[300981,{"$f":"IF(A1875=\"\",\"\",VLOOKUP(A1875,[1]ItemConfig!$A:$B,2,FALSE))","v":{"$error":"#N/A"}},{"$f":"IF(A1875=\"\",\"\",VLOOKUP(A1875,[1]ItemConfig!$A:$D,4,FALSE))","v":{"$error":"#N/A"}},{"$f":"IF(A1875=\"\",\"\",VLOOKUP(A1875,[1]ItemConfig!$A:$C,3,FALSE))","v":{"$error":"#N/A"}},{"$f":"IF(A1875=\"\",\"\",VLOOKUP(B1875,#REF!,5,FALSE))","v":{"$error":"#N/A"}},{"$f":"IF(A1875=\"\",\"\",VLOOKUP(C1875,#REF!,5,FALSE))","v":{"$error":"#N/A"}}]
[300982,{"$f":"IF(A1876=\"\",\"\",VLOOKUP(A1876,[1]ItemConfig!$A:$B,2,FALSE))","v":{"$error":"#N/A"}},{"$f":"IF(A1876=\"\",\"\",VLOOKUP(A1876,[1]ItemConfig!$A:$D,4,FALSE))","v":{"$error":"#N/A"}},{"$f":"IF(A1876=\"\",\"\",VLOOKUP(A1876,[1]ItemConfig!$A:$C,3,FALSE))","v":{"$error":"#N/A"}},{"$f":"IF(A1876=\"\",\"\",VLOOKUP(B1876,#REF!,5,FALSE))","v":{"$error":"#N/A"}},{"$f":"IF(A1876=\"\",\"\",VLOOKUP(C1876,#REF!,5,FALSE))","v":{"$error":"#N/A"}}]
[300983,{"$f":"IF(A1877=\"\",\"\",VLOOKUP(A1877,[1]ItemConfig!$A:$B,2,FALSE))","v":{"$error":"#N/A"}},{"$f":"IF(A1877=\"\",\"\",VLOOKUP(A1877,[1]ItemConfig!$A:$D,4,FALSE))","v":{"$error":"#N/A"}},{"$f":"IF(A1877=\"\",\"\",VLOOKUP(A1877,[1]ItemConfig!$A:$C,3,FALSE))","v":{"$error":"#N/A"}},{"$f":"IF(A1877=\"\",\"\",VLOOKUP(B1877,#REF!,5,FALSE))","v":{"$error":"#N/A"}},{"$f":"IF(A1877=\"\",\"\",VLOOKUP(C1877,#REF!,5,FALSE))","v":{"$error":"#N/A"}}]
[300984,{"$f":"IF(A1878=\"\",\"\",VLOOKUP(A1878,[1]ItemConfig!$A:$B,2,FALSE))","v":{"$error":"#N/A"}},{"$f":"IF(A1878=\"\",\"\",VLOOKUP(A1878,[1]ItemConfig!$A:$D,4,FALSE))","v":{"$error":"#N/A"}},{"$f":"IF(A1878=\"\",\"\",VLOOKUP(A1878,[1]ItemConfig!$A:$C,3,FALSE))","v":{"$error":"#N/A"}},{"$f":"IF(A1878=\"\",\"\",VLOOKUP(B1878,#REF!,5,FALSE))","v":{"$error":"#N/A"}},{"$f":"IF(A1878=\"\",\"\",VLOOKUP(C1878,#REF!,5,FALSE))","v":{"$error":"#N/A"}}]
[300985,{"$f":"IF(A1879=\"\",\"\",VLOOKUP(A1879,[1]ItemConfig!$A:$B,2,FALSE))","v":{"$error":"#N/A"}},{"$f":"IF(A1879=\"\",\"\",VLOOKUP(A1879,[1]ItemConfig!$A:$D,4,FALSE))","v":{"$error":"#N/A"}},{"$f":"IF(A1879=\"\",\"\",VLOOKUP(A1879,[1]ItemConfig!$A:$C,3,FALSE))","v":{"$error":"#N/A"}},{"$f":"IF(A1879=\"\",\"\",VLOOKUP(B1879,#REF!,5,FALSE))","v":{"$error":"#N/A"}},{"$f":"IF(A1879=\"\",\"\",VLOOKUP(C1879,#REF!,5,FALSE))","v":{"$error":"#N/A"}}]
[300986,{"$f":"IF(A1880=\"\",\"\",VLOOKUP(A1880,[1]ItemConfig!$A:$B,2,FALSE))","v":{"$error":"#N/A"}},{"$f":"IF(A1880=\"\",\"\",VLOOKUP(A1880,[1]ItemConfig!$A:$D,4,FALSE))","v":{"$error":"#N/A"}},{"$f":"IF(A1880=\"\",\"\",VLOOKUP(A1880,[1]ItemConfig!$A:$C,3,FALSE))","v":{"$error":"#N/A"}},{"$f":"IF(A1880=\"\",\"\",VLOOKUP(B1880,#REF!,5,FALSE))","v":{"$error":"#N/A"}},{"$f":"IF(A1880=\"\",\"\",VLOOKUP(C1880,#REF!,5,FALSE))","v":{"$error":"#N/A"}}]
[300987,{"$f":"IF(A1881=\"\",\"\",VLOOKUP(A1881,[1]ItemConfig!$A:$B,2,FALSE))","v":{"$error":"#N/A"}},{"$f":"IF(A1881=\"\",\"\",VLOOKUP(A1881,[1]ItemConfig!$A:$D,4,FALSE))","v":{"$error":"#N/A"}},{"$f":"IF(A1881=\"\",\"\",VLOOKUP(A1881,[1]ItemConfig!$A:$C,3,FALSE))","v":{"$error":"#N/A"}},{"$f":"IF(A1881=\"\",\"\",VLOOKUP(B1881,#REF!,5,FALSE))","v":{"$error":"#N/A"}},{"$f":"IF(A1881=\"\",\"\",VLOOKUP(C1881,#REF!,5,FALSE))","v":{"$error":"#N/A"}}]
[300988,{"$f":"IF(A1882=\"\",\"\",VLOOKUP(A1882,[1]ItemConfig!$A:$B,2,FALSE))","v":{"$error":"#N/A"}},{"$f":"IF(A1882=\"\",\"\",VLOOKUP(A1882,[1]ItemConfig!$A:$D,4,FALSE))","v":{"$error":"#N/A"}},{"$f":"IF(A1882=\"\",\"\",VLOOKUP(A1882,[1]ItemConfig!$A:$C,3,FALSE))","v":{"$error":"#N/A"}},{"$f":"IF(A1882=\"\",\"\",VLOOKUP(B1882,#REF!,5,FALSE))","v":{"$error":"#N/A"}},{"$f":"IF(A1882=\"\",\"\",VLOOKUP(C1882,#REF!,5,FALSE))","v":{"$error":"#N/A"}}]
[300989,{"$f":"IF(A1883=\"\",\"\",VLOOKUP(A1883,[1]ItemConfig!$A:$B,2,FALSE))","v":{"$error":"#N/A"}},{"$f":"IF(A1883=\"\",\"\",VLOOKUP(A1883,[1]ItemConfig!$A:$D,4,FALSE))","v":{"$error":"#N/A"}},{"$f":"IF(A1883=\"\",\"\",VLOOKUP(A1883,[1]ItemConfig!$A:$C,3,FALSE))","v":{"$error":"#N/A"}},{"$f":"IF(A1883=\"\",\"\",VLOOKUP(B1883,#REF!,5,FALSE))","v":{"$error":"#N/A"}},{"$f":"IF(A1883=\"\",\"\",VLOOKUP(C1883,#REF!,5,FALSE))","v":{"$error":"#N/A"}}]
[300990,{"$f":"IF(A1884=\"\",\"\",VLOOKUP(A1884,[1]ItemConfig!$A:$B,2,FALSE))","v":{"$error":"#N/A"}},{"$f":"IF(A1884=\"\",\"\",VLOOKUP(A1884,[1]ItemConfig!$A:$D,4,FALSE))","v":{"$error":"#N/A"}},{"$f":"IF(A1884=\"\",\"\",VLOOKUP(A1884,[1]ItemConfig!$A:$C,3,FALSE))","v":{"$error":"#N/A"}},{"$f":"IF(A1884=\"\",\"\",VLOOKUP(B1884,#REF!,5,FALSE))","v":{"$error":"#N/A"}},{"$f":"IF(A1884=\"\",\"\",VLOOKUP(C1884,#REF!,5,FALSE))","v":{"$error":"#N/A"}}]
[300991,{"$f":"IF(A1885=\"\",\"\",VLOOKUP(A1885,[1]ItemConfig!$A:$B,2,FALSE))","v":{"$error":"#N/A"}},{"$f":"IF(A1885=\"\",\"\",VLOOKUP(A1885,[1]ItemConfig!$A:$D,4,FALSE))","v":{"$error":"#N/A"}},{"$f":"IF(A1885=\"\",\"\",VLOOKUP(A1885,[1]ItemConfig!$A:$C,3,FALSE))","v":{"$error":"#N/A"}},{"$f":"IF(A1885=\"\",\"\",VLOOKUP(B1885,#REF!,5,FALSE))","v":{"$error":"#N/A"}},{"$f":"IF(A1885=\"\",\"\",VLOOKUP(C1885,#REF!,5,FALSE))","v":{"$error":"#N/A"}}]
[300992,{"$f":"IF(A1886=\"\",\"\",VLOOKUP(A1886,[1]ItemConfig!$A:$B,2,FALSE))","v":{"$error":"#N/A"}},{"$f":"IF(A1886=\"\",\"\",VLOOKUP(A1886,[1]ItemConfig!$A:$D,4,FALSE))","v":{"$error":"#N/A"}},{"$f":"IF(A1886=\"\",\"\",VLOOKUP(A1886,[1]ItemConfig!$A:$C,3,FALSE))","v":{"$error":"#N/A"}},{"$f":"IF(A1886=\"\",\"\",VLOOKUP(B1886,#REF!,5,FALSE))","v":{"$error":"#N/A"}},{"$f":"IF(A1886=\"\",\"\",VLOOKUP(C1886,#REF!,5,FALSE))","v":{"$error":"#N/A"}}]
[300993,{"$f":"IF(A1887=\"\",\"\",VLOOKUP(A1887,[1]ItemConfig!$A:$B,2,FALSE))","v":{"$error":"#N/A"}},{"$f":"IF(A1887=\"\",\"\",VLOOKUP(A1887,[1]ItemConfig!$A:$D,4,FALSE))","v":{"$error":"#N/A"}},{"$f":"IF(A1887=\"\",\"\",VLOOKUP(A1887,[1]ItemConfig!$A:$C,3,FALSE))","v":{"$error":"#N/A"}},{"$f":"IF(A1887=\"\",\"\",VLOOKUP(B1887,#REF!,5,FALSE))","v":{"$error":"#N/A"}},{"$f":"IF(A1887=\"\",\"\",VLOOKUP(C1887,#REF!,5,FALSE))","v":{"$error":"#N/A"}}]
[300994,{"$f":"IF(A1888=\"\",\"\",VLOOKUP(A1888,[1]ItemConfig!$A:$B,2,FALSE))","v":{"$error":"#N/A"}},{"$f":"IF(A1888=\"\",\"\",VLOOKUP(A1888,[1]ItemConfig!$A:$D,4,FALSE))","v":{"$error":"#N/A"}},{"$f":"IF(A1888=\"\",\"\",VLOOKUP(A1888,[1]ItemConfig!$A:$C,3,FALSE))","v":{"$error":"#N/A"}},{"$f":"IF(A1888=\"\",\"\",VLOOKUP(B1888,#REF!,5,FALSE))","v":{"$error":"#N/A"}},{"$f":"IF(A1888=\"\",\"\",VLOOKUP(C1888,#REF!,5,FALSE))","v":{"$error":"#N/A"}}]
[300995,{"$f":"IF(A1889=\"\",\"\",VLOOKUP(A1889,[1]ItemConfig!$A:$B,2,FALSE))","v":{"$error":"#N/A"}},{"$f":"IF(A1889=\"\",\"\",VLOOKUP(A1889,[1]ItemConfig!$A:$D,4,FALSE))","v":{"$error":"#N/A"}},{"$f":"IF(A1889=\"\",\"\",VLOOKUP(A1889,[1]ItemConfig!$A:$C,3,FALSE))","v":{"$error":"#N/A"}},{"$f":"IF(A1889=\"\",\"\",VLOOKUP(B1889,#REF!,5,FALSE))","v":{"$error":"#N/A"}},{"$f":"IF(A1889=\"\",\"\",VLOOKUP(C1889,#REF!,5,FALSE))","v":{"$error":"#N/A"}}]
[300996,{"$f":"IF(A1890=\"\",\"\",VLOOKUP(A1890,[1]ItemConfig!$A:$B,2,FALSE))","v":{"$error":"#N/A"}},{"$f":"IF(A1890=\"\",\"\",VLOOKUP(A1890,[1]ItemConfig!$A:$D,4,FALSE))","v":{"$error":"#N/A"}},{"$f":"IF(A1890=\"\",\"\",VLOOKUP(A1890,[1]ItemConfig!$A:$C,3,FALSE))","v":{"$error":"#N/A"}},{"$f":"IF(A1890=\"\",\"\",VLOOKUP(B1890,#REF!,5,FALSE))","v":{"$error":"#N/A"}},{"$f":"IF(A1890=\"\",\"\",VLOOKUP(C1890,#REF!,5,FALSE))","v":{"$error":"#N/A"}}]
[300997,{"$f":"IF(A1891=\"\",\"\",VLOOKUP(A1891,[1]ItemConfig!$A:$B,2,FALSE))","v":{"$error":"#N/A"}},{"$f":"IF(A1891=\"\",\"\",VLOOKUP(A1891,[1]ItemConfig!$A:$D,4,FALSE))","v":{"$error":"#N/A"}},{"$f":"IF(A1891=\"\",\"\",VLOOKUP(A1891,[1]ItemConfig!$A:$C,3,FALSE))","v":{"$error":"#N/A"}},{"$f":"IF(A1891=\"\",\"\",VLOOKUP(B1891,#REF!,5,FALSE))","v":{"$error":"#N/A"}},{"$f":"IF(A1891=\"\",\"\",VLOOKUP(C1891,#REF!,5,FALSE))","v":{"$error":"#N/A"}}]
[300998,{"$f":"IF(A1892=\"\",\"\",VLOOKUP(A1892,[1]ItemConfig!$A:$B,2,FALSE))","v":{"$error":"#N/A"}},{"$f":"IF(A1892=\"\",\"\",VLOOKUP(A1892,[1]ItemConfig!$A:$D,4,FALSE))","v":{"$error":"#N/A"}},{"$f":"IF(A1892=\"\",\"\",VLOOKUP(A1892,[1]ItemConfig!$A:$C,3,FALSE))","v":{"$error":"#N/A"}},{"$f":"IF(A1892=\"\",\"\",VLOOKUP(B1892,#REF!,5,FALSE))","v":{"$error":"#N/A"}},{"$f":"IF(A1892=\"\",\"\",VLOOKUP(C1892,#REF!,5,FALSE))","v":{"$error":"#N/A"}}]
[300999,{"$f":"IF(A1893=\"\",\"\",VLOOKUP(A1893,[1]ItemConfig!$A:$B,2,FALSE))","v":{"$error":"#N/A"}},{"$f":"IF(A1893=\"\",\"\",VLOOKUP(A1893,[1]ItemConfig!$A:$D,4,FALSE))","v":{"$error":"#N/A"}},{"$f":"IF(A1893=\"\",\"\",VLOOKUP(A1893,[1]ItemConfig!$A:$C,3,FALSE))","v":{"$error":"#N/A"}},{"$f":"IF(A1893=\"\",\"\",VLOOKUP(B1893,#REF!,5,FALSE))","v":{"$error":"#N/A"}},{"$f":"IF(A1893=\"\",\"\",VLOOKUP(C1893,#REF!,5,FALSE))","v":{"$error":"#N/A"}}]
[301000,{"$f":"IF(A1894=\"\",\"\",VLOOKUP(A1894,[1]ItemConfig!$A:$B,2,FALSE))","v":{"$error":"#N/A"}},{"$f":"IF(A1894=\"\",\"\",VLOOKUP(A1894,[1]ItemConfig!$A:$D,4,FALSE))","v":{"$error":"#N/A"}},{"$f":"IF(A1894=\"\",\"\",VLOOKUP(A1894,[1]ItemConfig!$A:$C,3,FALSE))","v":{"$error":"#N/A"}},{"$f":"IF(A1894=\"\",\"\",VLOOKUP(B1894,#REF!,5,FALSE))","v":{"$error":"#N/A"}},{"$f":"IF(A1894=\"\",\"\",VLOOKUP(C1894,#REF!,5,FALSE))","v":{"$error":"#N/A"}}]
[null,{"$f":"IF(A1895=\"\",\"\",VLOOKUP(A1895,[1]ItemConfig!$A:$B,2,FALSE))","v":""},{"$f":"IF(A1895=\"\",\"\",VLOOKUP(A1895,[1]ItemConfig!$A:$D,4,FALSE))","v":""},{"$f":"IF(A1895=\"\",\"\",VLOOKUP(A1895,[1]ItemConfig!$A:$C,3,FALSE))","v":""},{"$f":"IF(A1895=\"\",\"\",VLOOKUP(B1895,#REF!,5,FALSE))","v":""},{"$f":"IF(A1895=\"\",\"\",VLOOKUP(C1895,#REF!,5,FALSE))","v":""}]
[301001,{"$f":"IF(A1896=\"\",\"\",VLOOKUP(A1896,[1]ItemConfig!$A:$B,2,FALSE))","v":{"$error":"#N/A"}},{"$f":"IF(A1896=\"\",\"\",VLOOKUP(A1896,[1]ItemConfig!$A:$D,4,FALSE))","v":{"$error":"#N/A"}},{"$f":"IF(A1896=\"\",\"\",VLOOKUP(A1896,[1]ItemConfig!$A:$C,3,FALSE))","v":{"$error":"#N/A"}},{"$f":"IF(A1896=\"\",\"\",VLOOKUP(B1896,#REF!,5,FALSE))","v":{"$error":"#N/A"}},{"$f":"IF(A1896=\"\",\"\",VLOOKUP(C1896,#REF!,5,FALSE))","v":{"$error":"#N/A"}}]
[301002,{"$f":"IF(A1897=\"\",\"\",VLOOKUP(A1897,[1]ItemConfig!$A:$B,2,FALSE))","v":{"$error":"#N/A"}},{"$f":"IF(A1897=\"\",\"\",VLOOKUP(A1897,[1]ItemConfig!$A:$D,4,FALSE))","v":{"$error":"#N/A"}},{"$f":"IF(A1897=\"\",\"\",VLOOKUP(A1897,[1]ItemConfig!$A:$C,3,FALSE))","v":{"$error":"#N/A"}},{"$f":"IF(A1897=\"\",\"\",VLOOKUP(B1897,#REF!,5,FALSE))","v":{"$error":"#N/A"}},{"$f":"IF(A1897=\"\",\"\",VLOOKUP(C1897,#REF!,5,FALSE))","v":{"$error":"#N/A"}}]
[301003,{"$f":"IF(A1898=\"\",\"\",VLOOKUP(A1898,[1]ItemConfig!$A:$B,2,FALSE))","v":{"$error":"#N/A"}},{"$f":"IF(A1898=\"\",\"\",VLOOKUP(A1898,[1]ItemConfig!$A:$D,4,FALSE))","v":{"$error":"#N/A"}},{"$f":"IF(A1898=\"\",\"\",VLOOKUP(A1898,[1]ItemConfig!$A:$C,3,FALSE))","v":{"$error":"#N/A"}},{"$f":"IF(A1898=\"\",\"\",VLOOKUP(B1898,#REF!,5,FALSE))","v":{"$error":"#N/A"}},{"$f":"IF(A1898=\"\",\"\",VLOOKUP(C1898,#REF!,5,FALSE))","v":{"$error":"#N/A"}}]
[301004,{"$f":"IF(A1899=\"\",\"\",VLOOKUP(A1899,[1]ItemConfig!$A:$B,2,FALSE))","v":{"$error":"#N/A"}},{"$f":"IF(A1899=\"\",\"\",VLOOKUP(A1899,[1]ItemConfig!$A:$D,4,FALSE))","v":{"$error":"#N/A"}},{"$f":"IF(A1899=\"\",\"\",VLOOKUP(A1899,[1]ItemConfig!$A:$C,3,FALSE))","v":{"$error":"#N/A"}},{"$f":"IF(A1899=\"\",\"\",VLOOKUP(B1899,#REF!,5,FALSE))","v":{"$error":"#N/A"}},{"$f":"IF(A1899=\"\",\"\",VLOOKUP(C1899,#REF!,5,FALSE))","v":{"$error":"#N/A"}}]
[301005,{"$f":"IF(A1900=\"\",\"\",VLOOKUP(A1900,[1]ItemConfig!$A:$B,2,FALSE))","v":{"$error":"#N/A"}},{"$f":"IF(A1900=\"\",\"\",VLOOKUP(A1900,[1]ItemConfig!$A:$D,4,FALSE))","v":{"$error":"#N/A"}},{"$f":"IF(A1900=\"\",\"\",VLOOKUP(A1900,[1]ItemConfig!$A:$C,3,FALSE))","v":{"$error":"#N/A"}},{"$f":"IF(A1900=\"\",\"\",VLOOKUP(B1900,#REF!,5,FALSE))","v":{"$error":"#N/A"}},{"$f":"IF(A1900=\"\",\"\",VLOOKUP(C1900,#REF!,5,FALSE))","v":{"$error":"#N/A"}}]
[301006,{"$f":"IF(A1901=\"\",\"\",VLOOKUP(A1901,[1]ItemConfig!$A:$B,2,FALSE))","v":{"$error":"#N/A"}},{"$f":"IF(A1901=\"\",\"\",VLOOKUP(A1901,[1]ItemConfig!$A:$D,4,FALSE))","v":{"$error":"#N/A"}},{"$f":"IF(A1901=\"\",\"\",VLOOKUP(A1901,[1]ItemConfig!$A:$C,3,FALSE))","v":{"$error":"#N/A"}},{"$f":"IF(A1901=\"\",\"\",VLOOKUP(B1901,#REF!,5,FALSE))","v":{"$error":"#N/A"}},{"$f":"IF(A1901=\"\",\"\",VLOOKUP(C1901,#REF!,5,FALSE))","v":{"$error":"#N/A"}}]
[301007,{"$f":"IF(A1902=\"\",\"\",VLOOKUP(A1902,[1]ItemConfig!$A:$B,2,FALSE))","v":{"$error":"#N/A"}},{"$f":"IF(A1902=\"\",\"\",VLOOKUP(A1902,[1]ItemConfig!$A:$D,4,FALSE))","v":{"$error":"#N/A"}},{"$f":"IF(A1902=\"\",\"\",VLOOKUP(A1902,[1]ItemConfig!$A:$C,3,FALSE))","v":{"$error":"#N/A"}},{"$f":"IF(A1902=\"\",\"\",VLOOKUP(B1902,#REF!,5,FALSE))","v":{"$error":"#N/A"}},{"$f":"IF(A1902=\"\",\"\",VLOOKUP(C1902,#REF!,5,FALSE))","v":{"$error":"#N/A"}}]
[301008,{"$f":"IF(A1903=\"\",\"\",VLOOKUP(A1903,[1]ItemConfig!$A:$B,2,FALSE))","v":{"$error":"#N/A"}},{"$f":"IF(A1903=\"\",\"\",VLOOKUP(A1903,[1]ItemConfig!$A:$D,4,FALSE))","v":{"$error":"#N/A"}},{"$f":"IF(A1903=\"\",\"\",VLOOKUP(A1903,[1]ItemConfig!$A:$C,3,FALSE))","v":{"$error":"#N/A"}},{"$f":"IF(A1903=\"\",\"\",VLOOKUP(B1903,#REF!,5,FALSE))","v":{"$error":"#N/A"}},{"$f":"IF(A1903=\"\",\"\",VLOOKUP(C1903,#REF!,5,FALSE))","v":{"$error":"#N/A"}}]
[301009,{"$f":"IF(A1904=\"\",\"\",VLOOKUP(A1904,[1]ItemConfig!$A:$B,2,FALSE))","v":{"$error":"#N/A"}},{"$f":"IF(A1904=\"\",\"\",VLOOKUP(A1904,[1]ItemConfig!$A:$D,4,FALSE))","v":{"$error":"#N/A"}},{"$f":"IF(A1904=\"\",\"\",VLOOKUP(A1904,[1]ItemConfig!$A:$C,3,FALSE))","v":{"$error":"#N/A"}},{"$f":"IF(A1904=\"\",\"\",VLOOKUP(B1904,#REF!,5,FALSE))","v":{"$error":"#N/A"}},{"$f":"IF(A1904=\"\",\"\",VLOOKUP(C1904,#REF!,5,FALSE))","v":{"$error":"#N/A"}}]
[301010,{"$f":"IF(A1905=\"\",\"\",VLOOKUP(A1905,[1]ItemConfig!$A:$B,2,FALSE))","v":{"$error":"#N/A"}},{"$f":"IF(A1905=\"\",\"\",VLOOKUP(A1905,[1]ItemConfig!$A:$D,4,FALSE))","v":{"$error":"#N/A"}},{"$f":"IF(A1905=\"\",\"\",VLOOKUP(A1905,[1]ItemConfig!$A:$C,3,FALSE))","v":{"$error":"#N/A"}},{"$f":"IF(A1905=\"\",\"\",VLOOKUP(B1905,#REF!,5,FALSE))","v":{"$error":"#N/A"}},{"$f":"IF(A1905=\"\",\"\",VLOOKUP(C1905,#REF!,5,FALSE))","v":{"$error":"#N/A"}}]
[301011,{"$f":"IF(A1906=\"\",\"\",VLOOKUP(A1906,[1]ItemConfig!$A:$B,2,FALSE))","v":{"$error":"#N/A"}},{"$f":"IF(A1906=\"\",\"\",VLOOKUP(A1906,[1]ItemConfig!$A:$D,4,FALSE))","v":{"$error":"#N/A"}},{"$f":"IF(A1906=\"\",\"\",VLOOKUP(A1906,[1]ItemConfig!$A:$C,3,FALSE))","v":{"$error":"#N/A"}},{"$f":"IF(A1906=\"\",\"\",VLOOKUP(B1906,#REF!,5,FALSE))","v":{"$error":"#N/A"}},{"$f":"IF(A1906=\"\",\"\",VLOOKUP(C1906,#REF!,5,FALSE))","v":{"$error":"#N/A"}}]
[301012,{"$f":"IF(A1907=\"\",\"\",VLOOKUP(A1907,[1]ItemConfig!$A:$B,2,FALSE))","v":{"$error":"#N/A"}},{"$f":"IF(A1907=\"\",\"\",VLOOKUP(A1907,[1]ItemConfig!$A:$D,4,FALSE))","v":{"$error":"#N/A"}},{"$f":"IF(A1907=\"\",\"\",VLOOKUP(A1907,[1]ItemConfig!$A:$C,3,FALSE))","v":{"$error":"#N/A"}},{"$f":"IF(A1907=\"\",\"\",VLOOKUP(B1907,#REF!,5,FALSE))","v":{"$error":"#N/A"}},{"$f":"IF(A1907=\"\",\"\",VLOOKUP(C1907,#REF!,5,FALSE))","v":{"$error":"#N/A"}}]
[301013,{"$f":"IF(A1908=\"\",\"\",VLOOKUP(A1908,[1]ItemConfig!$A:$B,2,FALSE))","v":{"$error":"#N/A"}},{"$f":"IF(A1908=\"\",\"\",VLOOKUP(A1908,[1]ItemConfig!$A:$D,4,FALSE))","v":{"$error":"#N/A"}},{"$f":"IF(A1908=\"\",\"\",VLOOKUP(A1908,[1]ItemConfig!$A:$C,3,FALSE))","v":{"$error":"#N/A"}},{"$f":"IF(A1908=\"\",\"\",VLOOKUP(B1908,#REF!,5,FALSE))","v":{"$error":"#N/A"}},{"$f":"IF(A1908=\"\",\"\",VLOOKUP(C1908,#REF!,5,FALSE))","v":{"$error":"#N/A"}}]
[301014,{"$f":"IF(A1909=\"\",\"\",VLOOKUP(A1909,[1]ItemConfig!$A:$B,2,FALSE))","v":{"$error":"#N/A"}},{"$f":"IF(A1909=\"\",\"\",VLOOKUP(A1909,[1]ItemConfig!$A:$D,4,FALSE))","v":{"$error":"#N/A"}},{"$f":"IF(A1909=\"\",\"\",VLOOKUP(A1909,[1]ItemConfig!$A:$C,3,FALSE))","v":{"$error":"#N/A"}},{"$f":"IF(A1909=\"\",\"\",VLOOKUP(B1909,#REF!,5,FALSE))","v":{"$error":"#N/A"}},{"$f":"IF(A1909=\"\",\"\",VLOOKUP(C1909,#REF!,5,FALSE))","v":{"$error":"#N/A"}}]
[301015,{"$f":"IF(A1910=\"\",\"\",VLOOKUP(A1910,[1]ItemConfig!$A:$B,2,FALSE))","v":{"$error":"#N/A"}},{"$f":"IF(A1910=\"\",\"\",VLOOKUP(A1910,[1]ItemConfig!$A:$D,4,FALSE))","v":{"$error":"#N/A"}},{"$f":"IF(A1910=\"\",\"\",VLOOKUP(A1910,[1]ItemConfig!$A:$C,3,FALSE))","v":{"$error":"#N/A"}},{"$f":"IF(A1910=\"\",\"\",VLOOKUP(B1910,#REF!,5,FALSE))","v":{"$error":"#N/A"}},{"$f":"IF(A1910=\"\",\"\",VLOOKUP(C1910,#REF!,5,FALSE))","v":{"$error":"#N/A"}}]
[301016,{"$f":"IF(A1911=\"\",\"\",VLOOKUP(A1911,[1]ItemConfig!$A:$B,2,FALSE))","v":{"$error":"#N/A"}},{"$f":"IF(A1911=\"\",\"\",VLOOKUP(A1911,[1]ItemConfig!$A:$D,4,FALSE))","v":{"$error":"#N/A"}},{"$f":"IF(A1911=\"\",\"\",VLOOKUP(A1911,[1]ItemConfig!$A:$C,3,FALSE))","v":{"$error":"#N/A"}},{"$f":"IF(A1911=\"\",\"\",VLOOKUP(B1911,#REF!,5,FALSE))","v":{"$error":"#N/A"}},{"$f":"IF(A1911=\"\",\"\",VLOOKUP(C1911,#REF!,5,FALSE))","v":{"$error":"#N/A"}}]
[301017,{"$f":"IF(A1912=\"\",\"\",VLOOKUP(A1912,[1]ItemConfig!$A:$B,2,FALSE))","v":{"$error":"#N/A"}},{"$f":"IF(A1912=\"\",\"\",VLOOKUP(A1912,[1]ItemConfig!$A:$D,4,FALSE))","v":{"$error":"#N/A"}},{"$f":"IF(A1912=\"\",\"\",VLOOKUP(A1912,[1]ItemConfig!$A:$C,3,FALSE))","v":{"$error":"#N/A"}},{"$f":"IF(A1912=\"\",\"\",VLOOKUP(B1912,#REF!,5,FALSE))","v":{"$error":"#N/A"}},{"$f":"IF(A1912=\"\",\"\",VLOOKUP(C1912,#REF!,5,FALSE))","v":{"$error":"#N/A"}}]
[301018,{"$f":"IF(A1913=\"\",\"\",VLOOKUP(A1913,[1]ItemConfig!$A:$B,2,FALSE))","v":{"$error":"#N/A"}},{"$f":"IF(A1913=\"\",\"\",VLOOKUP(A1913,[1]ItemConfig!$A:$D,4,FALSE))","v":{"$error":"#N/A"}},{"$f":"IF(A1913=\"\",\"\",VLOOKUP(A1913,[1]ItemConfig!$A:$C,3,FALSE))","v":{"$error":"#N/A"}},{"$f":"IF(A1913=\"\",\"\",VLOOKUP(B1913,#REF!,5,FALSE))","v":{"$error":"#N/A"}},{"$f":"IF(A1913=\"\",\"\",VLOOKUP(C1913,#REF!,5,FALSE))","v":{"$error":"#N/A"}}]
[301019,{"$f":"IF(A1914=\"\",\"\",VLOOKUP(A1914,[1]ItemConfig!$A:$B,2,FALSE))","v":{"$error":"#N/A"}},{"$f":"IF(A1914=\"\",\"\",VLOOKUP(A1914,[1]ItemConfig!$A:$D,4,FALSE))","v":{"$error":"#N/A"}},{"$f":"IF(A1914=\"\",\"\",VLOOKUP(A1914,[1]ItemConfig!$A:$C,3,FALSE))","v":{"$error":"#N/A"}},{"$f":"IF(A1914=\"\",\"\",VLOOKUP(B1914,#REF!,5,FALSE))","v":{"$error":"#N/A"}},{"$f":"IF(A1914=\"\",\"\",VLOOKUP(C1914,#REF!,5,FALSE))","v":{"$error":"#N/A"}}]
[301020,{"$f":"IF(A1915=\"\",\"\",VLOOKUP(A1915,[1]ItemConfig!$A:$B,2,FALSE))","v":{"$error":"#N/A"}},{"$f":"IF(A1915=\"\",\"\",VLOOKUP(A1915,[1]ItemConfig!$A:$D,4,FALSE))","v":{"$error":"#N/A"}},{"$f":"IF(A1915=\"\",\"\",VLOOKUP(A1915,[1]ItemConfig!$A:$C,3,FALSE))","v":{"$error":"#N/A"}},{"$f":"IF(A1915=\"\",\"\",VLOOKUP(B1915,#REF!,5,FALSE))","v":{"$error":"#N/A"}},{"$f":"IF(A1915=\"\",\"\",VLOOKUP(C1915,#REF!,5,FALSE))","v":{"$error":"#N/A"}}]
[301021,{"$f":"IF(A1916=\"\",\"\",VLOOKUP(A1916,[1]ItemConfig!$A:$B,2,FALSE))","v":{"$error":"#N/A"}},{"$f":"IF(A1916=\"\",\"\",VLOOKUP(A1916,[1]ItemConfig!$A:$D,4,FALSE))","v":{"$error":"#N/A"}},{"$f":"IF(A1916=\"\",\"\",VLOOKUP(A1916,[1]ItemConfig!$A:$C,3,FALSE))","v":{"$error":"#N/A"}},{"$f":"IF(A1916=\"\",\"\",VLOOKUP(B1916,#REF!,5,FALSE))","v":{"$error":"#N/A"}},{"$f":"IF(A1916=\"\",\"\",VLOOKUP(C1916,#REF!,5,FALSE))","v":{"$error":"#N/A"}}]
[301022,{"$f":"IF(A1917=\"\",\"\",VLOOKUP(A1917,[1]ItemConfig!$A:$B,2,FALSE))","v":{"$error":"#N/A"}},{"$f":"IF(A1917=\"\",\"\",VLOOKUP(A1917,[1]ItemConfig!$A:$D,4,FALSE))","v":{"$error":"#N/A"}},{"$f":"IF(A1917=\"\",\"\",VLOOKUP(A1917,[1]ItemConfig!$A:$C,3,FALSE))","v":{"$error":"#N/A"}},{"$f":"IF(A1917=\"\",\"\",VLOOKUP(B1917,#REF!,5,FALSE))","v":{"$error":"#N/A"}},{"$f":"IF(A1917=\"\",\"\",VLOOKUP(C1917,#REF!,5,FALSE))","v":{"$error":"#N/A"}}]
[301023,{"$f":"IF(A1918=\"\",\"\",VLOOKUP(A1918,[1]ItemConfig!$A:$B,2,FALSE))","v":{"$error":"#N/A"}},{"$f":"IF(A1918=\"\",\"\",VLOOKUP(A1918,[1]ItemConfig!$A:$D,4,FALSE))","v":{"$error":"#N/A"}},{"$f":"IF(A1918=\"\",\"\",VLOOKUP(A1918,[1]ItemConfig!$A:$C,3,FALSE))","v":{"$error":"#N/A"}},{"$f":"IF(A1918=\"\",\"\",VLOOKUP(B1918,#REF!,5,FALSE))","v":{"$error":"#N/A"}},{"$f":"IF(A1918=\"\",\"\",VLOOKUP(C1918,#REF!,5,FALSE))","v":{"$error":"#N/A"}}]
[301024,{"$f":"IF(A1919=\"\",\"\",VLOOKUP(A1919,[1]ItemConfig!$A:$B,2,FALSE))","v":{"$error":"#N/A"}},{"$f":"IF(A1919=\"\",\"\",VLOOKUP(A1919,[1]ItemConfig!$A:$D,4,FALSE))","v":{"$error":"#N/A"}},{"$f":"IF(A1919=\"\",\"\",VLOOKUP(A1919,[1]ItemConfig!$A:$C,3,FALSE))","v":{"$error":"#N/A"}},{"$f":"IF(A1919=\"\",\"\",VLOOKUP(B1919,#REF!,5,FALSE))","v":{"$error":"#N/A"}},{"$f":"IF(A1919=\"\",\"\",VLOOKUP(C1919,#REF!,5,FALSE))","v":{"$error":"#N/A"}}]
[301025,{"$f":"IF(A1920=\"\",\"\",VLOOKUP(A1920,[1]ItemConfig!$A:$B,2,FALSE))","v":{"$error":"#N/A"}},{"$f":"IF(A1920=\"\",\"\",VLOOKUP(A1920,[1]ItemConfig!$A:$D,4,FALSE))","v":{"$error":"#N/A"}},{"$f":"IF(A1920=\"\",\"\",VLOOKUP(A1920,[1]ItemConfig!$A:$C,3,FALSE))","v":{"$error":"#N/A"}},{"$f":"IF(A1920=\"\",\"\",VLOOKUP(B1920,#REF!,5,FALSE))","v":{"$error":"#N/A"}},{"$f":"IF(A1920=\"\",\"\",VLOOKUP(C1920,#REF!,5,FALSE))","v":{"$error":"#N/A"}}]
[301026,{"$f":"IF(A1921=\"\",\"\",VLOOKUP(A1921,[1]ItemConfig!$A:$B,2,FALSE))","v":{"$error":"#N/A"}},{"$f":"IF(A1921=\"\",\"\",VLOOKUP(A1921,[1]ItemConfig!$A:$D,4,FALSE))","v":{"$error":"#N/A"}},{"$f":"IF(A1921=\"\",\"\",VLOOKUP(A1921,[1]ItemConfig!$A:$C,3,FALSE))","v":{"$error":"#N/A"}},{"$f":"IF(A1921=\"\",\"\",VLOOKUP(B1921,#REF!,5,FALSE))","v":{"$error":"#N/A"}},{"$f":"IF(A1921=\"\",\"\",VLOOKUP(C1921,#REF!,5,FALSE))","v":{"$error":"#N/A"}}]
[301027,{"$f":"IF(A1922=\"\",\"\",VLOOKUP(A1922,[1]ItemConfig!$A:$B,2,FALSE))","v":{"$error":"#N/A"}},{"$f":"IF(A1922=\"\",\"\",VLOOKUP(A1922,[1]ItemConfig!$A:$D,4,FALSE))","v":{"$error":"#N/A"}},{"$f":"IF(A1922=\"\",\"\",VLOOKUP(A1922,[1]ItemConfig!$A:$C,3,FALSE))","v":{"$error":"#N/A"}},{"$f":"IF(A1922=\"\",\"\",VLOOKUP(B1922,#REF!,5,FALSE))","v":{"$error":"#N/A"}},{"$f":"IF(A1922=\"\",\"\",VLOOKUP(C1922,#REF!,5,FALSE))","v":{"$error":"#N/A"}}]
[301028,{"$f":"IF(A1923=\"\",\"\",VLOOKUP(A1923,[1]ItemConfig!$A:$B,2,FALSE))","v":{"$error":"#N/A"}},{"$f":"IF(A1923=\"\",\"\",VLOOKUP(A1923,[1]ItemConfig!$A:$D,4,FALSE))","v":{"$error":"#N/A"}},{"$f":"IF(A1923=\"\",\"\",VLOOKUP(A1923,[1]ItemConfig!$A:$C,3,FALSE))","v":{"$error":"#N/A"}},{"$f":"IF(A1923=\"\",\"\",VLOOKUP(B1923,#REF!,5,FALSE))","v":{"$error":"#N/A"}},{"$f":"IF(A1923=\"\",\"\",VLOOKUP(C1923,#REF!,5,FALSE))","v":{"$error":"#N/A"}}]
[301029,{"$f":"IF(A1924=\"\",\"\",VLOOKUP(A1924,[1]ItemConfig!$A:$B,2,FALSE))","v":{"$error":"#N/A"}},{"$f":"IF(A1924=\"\",\"\",VLOOKUP(A1924,[1]ItemConfig!$A:$D,4,FALSE))","v":{"$error":"#N/A"}},{"$f":"IF(A1924=\"\",\"\",VLOOKUP(A1924,[1]ItemConfig!$A:$C,3,FALSE))","v":{"$error":"#N/A"}},{"$f":"IF(A1924=\"\",\"\",VLOOKUP(B1924,#REF!,5,FALSE))","v":{"$error":"#N/A"}},{"$f":"IF(A1924=\"\",\"\",VLOOKUP(C1924,#REF!,5,FALSE))","v":{"$error":"#N/A"}}]
[301030,{"$f":"IF(A1925=\"\",\"\",VLOOKUP(A1925,[1]ItemConfig!$A:$B,2,FALSE))","v":{"$error":"#N/A"}},{"$f":"IF(A1925=\"\",\"\",VLOOKUP(A1925,[1]ItemConfig!$A:$D,4,FALSE))","v":{"$error":"#N/A"}},{"$f":"IF(A1925=\"\",\"\",VLOOKUP(A1925,[1]ItemConfig!$A:$C,3,FALSE))","v":{"$error":"#N/A"}},{"$f":"IF(A1925=\"\",\"\",VLOOKUP(B1925,#REF!,5,FALSE))","v":{"$error":"#N/A"}},{"$f":"IF(A1925=\"\",\"\",VLOOKUP(C1925,#REF!,5,FALSE))","v":{"$error":"#N/A"}}]
[301031,{"$f":"IF(A1926=\"\",\"\",VLOOKUP(A1926,[1]ItemConfig!$A:$B,2,FALSE))","v":{"$error":"#N/A"}},{"$f":"IF(A1926=\"\",\"\",VLOOKUP(A1926,[1]ItemConfig!$A:$D,4,FALSE))","v":{"$error":"#N/A"}},{"$f":"IF(A1926=\"\",\"\",VLOOKUP(A1926,[1]ItemConfig!$A:$C,3,FALSE))","v":{"$error":"#N/A"}},{"$f":"IF(A1926=\"\",\"\",VLOOKUP(B1926,#REF!,5,FALSE))","v":{"$error":"#N/A"}},{"$f":"IF(A1926=\"\",\"\",VLOOKUP(C1926,#REF!,5,FALSE))","v":{"$error":"#N/A"}}]
[301032,{"$f":"IF(A1927=\"\",\"\",VLOOKUP(A1927,[1]ItemConfig!$A:$B,2,FALSE))","v":{"$error":"#N/A"}},{"$f":"IF(A1927=\"\",\"\",VLOOKUP(A1927,[1]ItemConfig!$A:$D,4,FALSE))","v":{"$error":"#N/A"}},{"$f":"IF(A1927=\"\",\"\",VLOOKUP(A1927,[1]ItemConfig!$A:$C,3,FALSE))","v":{"$error":"#N/A"}},{"$f":"IF(A1927=\"\",\"\",VLOOKUP(B1927,#REF!,5,FALSE))","v":{"$error":"#N/A"}},{"$f":"IF(A1927=\"\",\"\",VLOOKUP(C1927,#REF!,5,FALSE))","v":{"$error":"#N/A"}}]
[301033,{"$f":"IF(A1928=\"\",\"\",VLOOKUP(A1928,[1]ItemConfig!$A:$B,2,FALSE))","v":{"$error":"#N/A"}},{"$f":"IF(A1928=\"\",\"\",VLOOKUP(A1928,[1]ItemConfig!$A:$D,4,FALSE))","v":{"$error":"#N/A"}},{"$f":"IF(A1928=\"\",\"\",VLOOKUP(A1928,[1]ItemConfig!$A:$C,3,FALSE))","v":{"$error":"#N/A"}},{"$f":"IF(A1928=\"\",\"\",VLOOKUP(B1928,#REF!,5,FALSE))","v":{"$error":"#N/A"}},{"$f":"IF(A1928=\"\",\"\",VLOOKUP(C1928,#REF!,5,FALSE))","v":{"$error":"#N/A"}}]
[301034,{"$f":"IF(A1929=\"\",\"\",VLOOKUP(A1929,[1]ItemConfig!$A:$B,2,FALSE))","v":{"$error":"#N/A"}},{"$f":"IF(A1929=\"\",\"\",VLOOKUP(A1929,[1]ItemConfig!$A:$D,4,FALSE))","v":{"$error":"#N/A"}},{"$f":"IF(A1929=\"\",\"\",VLOOKUP(A1929,[1]ItemConfig!$A:$C,3,FALSE))","v":{"$error":"#N/A"}},{"$f":"IF(A1929=\"\",\"\",VLOOKUP(B1929,#REF!,5,FALSE))","v":{"$error":"#N/A"}},{"$f":"IF(A1929=\"\",\"\",VLOOKUP(C1929,#REF!,5,FALSE))","v":{"$error":"#N/A"}}]
[301035,{"$f":"IF(A1930=\"\",\"\",VLOOKUP(A1930,[1]ItemConfig!$A:$B,2,FALSE))","v":{"$error":"#N/A"}},{"$f":"IF(A1930=\"\",\"\",VLOOKUP(A1930,[1]ItemConfig!$A:$D,4,FALSE))","v":{"$error":"#N/A"}},{"$f":"IF(A1930=\"\",\"\",VLOOKUP(A1930,[1]ItemConfig!$A:$C,3,FALSE))","v":{"$error":"#N/A"}},{"$f":"IF(A1930=\"\",\"\",VLOOKUP(B1930,#REF!,5,FALSE))","v":{"$error":"#N/A"}},{"$f":"IF(A1930=\"\",\"\",VLOOKUP(C1930,#REF!,5,FALSE))","v":{"$error":"#N/A"}}]
[301036,{"$f":"IF(A1931=\"\",\"\",VLOOKUP(A1931,[1]ItemConfig!$A:$B,2,FALSE))","v":{"$error":"#N/A"}},{"$f":"IF(A1931=\"\",\"\",VLOOKUP(A1931,[1]ItemConfig!$A:$D,4,FALSE))","v":{"$error":"#N/A"}},{"$f":"IF(A1931=\"\",\"\",VLOOKUP(A1931,[1]ItemConfig!$A:$C,3,FALSE))","v":{"$error":"#N/A"}},{"$f":"IF(A1931=\"\",\"\",VLOOKUP(B1931,#REF!,5,FALSE))","v":{"$error":"#N/A"}},{"$f":"IF(A1931=\"\",\"\",VLOOKUP(C1931,#REF!,5,FALSE))","v":{"$error":"#N/A"}}]
[301037,{"$f":"IF(A1932=\"\",\"\",VLOOKUP(A1932,[1]ItemConfig!$A:$B,2,FALSE))","v":{"$error":"#N/A"}},{"$f":"IF(A1932=\"\",\"\",VLOOKUP(A1932,[1]ItemConfig!$A:$D,4,FALSE))","v":{"$error":"#N/A"}},{"$f":"IF(A1932=\"\",\"\",VLOOKUP(A1932,[1]ItemConfig!$A:$C,3,FALSE))","v":{"$error":"#N/A"}},{"$f":"IF(A1932=\"\",\"\",VLOOKUP(B1932,#REF!,5,FALSE))","v":{"$error":"#N/A"}},{"$f":"IF(A1932=\"\",\"\",VLOOKUP(C1932,#REF!,5,FALSE))","v":{"$error":"#N/A"}}]
[301038,{"$f":"IF(A1933=\"\",\"\",VLOOKUP(A1933,[1]ItemConfig!$A:$B,2,FALSE))","v":{"$error":"#N/A"}},{"$f":"IF(A1933=\"\",\"\",VLOOKUP(A1933,[1]ItemConfig!$A:$D,4,FALSE))","v":{"$error":"#N/A"}},{"$f":"IF(A1933=\"\",\"\",VLOOKUP(A1933,[1]ItemConfig!$A:$C,3,FALSE))","v":{"$error":"#N/A"}},{"$f":"IF(A1933=\"\",\"\",VLOOKUP(B1933,#REF!,5,FALSE))","v":{"$error":"#N/A"}},{"$f":"IF(A1933=\"\",\"\",VLOOKUP(C1933,#REF!,5,FALSE))","v":{"$error":"#N/A"}}]
[301039,{"$f":"IF(A1934=\"\",\"\",VLOOKUP(A1934,[1]ItemConfig!$A:$B,2,FALSE))","v":{"$error":"#N/A"}},{"$f":"IF(A1934=\"\",\"\",VLOOKUP(A1934,[1]ItemConfig!$A:$D,4,FALSE))","v":{"$error":"#N/A"}},{"$f":"IF(A1934=\"\",\"\",VLOOKUP(A1934,[1]ItemConfig!$A:$C,3,FALSE))","v":{"$error":"#N/A"}},{"$f":"IF(A1934=\"\",\"\",VLOOKUP(B1934,#REF!,5,FALSE))","v":{"$error":"#N/A"}},{"$f":"IF(A1934=\"\",\"\",VLOOKUP(C1934,#REF!,5,FALSE))","v":{"$error":"#N/A"}}]
[301040,{"$f":"IF(A1935=\"\",\"\",VLOOKUP(A1935,[1]ItemConfig!$A:$B,2,FALSE))","v":{"$error":"#N/A"}},{"$f":"IF(A1935=\"\",\"\",VLOOKUP(A1935,[1]ItemConfig!$A:$D,4,FALSE))","v":{"$error":"#N/A"}},{"$f":"IF(A1935=\"\",\"\",VLOOKUP(A1935,[1]ItemConfig!$A:$C,3,FALSE))","v":{"$error":"#N/A"}},{"$f":"IF(A1935=\"\",\"\",VLOOKUP(B1935,#REF!,5,FALSE))","v":{"$error":"#N/A"}},{"$f":"IF(A1935=\"\",\"\",VLOOKUP(C1935,#REF!,5,FALSE))","v":{"$error":"#N/A"}}]
[301041,{"$f":"IF(A1936=\"\",\"\",VLOOKUP(A1936,[1]ItemConfig!$A:$B,2,FALSE))","v":{"$error":"#N/A"}},{"$f":"IF(A1936=\"\",\"\",VLOOKUP(A1936,[1]ItemConfig!$A:$D,4,FALSE))","v":{"$error":"#N/A"}},{"$f":"IF(A1936=\"\",\"\",VLOOKUP(A1936,[1]ItemConfig!$A:$C,3,FALSE))","v":{"$error":"#N/A"}},{"$f":"IF(A1936=\"\",\"\",VLOOKUP(B1936,#REF!,5,FALSE))","v":{"$error":"#N/A"}},{"$f":"IF(A1936=\"\",\"\",VLOOKUP(C1936,#REF!,5,FALSE))","v":{"$error":"#N/A"}}]
[301042,{"$f":"IF(A1937=\"\",\"\",VLOOKUP(A1937,[1]ItemConfig!$A:$B,2,FALSE))","v":{"$error":"#N/A"}},{"$f":"IF(A1937=\"\",\"\",VLOOKUP(A1937,[1]ItemConfig!$A:$D,4,FALSE))","v":{"$error":"#N/A"}},{"$f":"IF(A1937=\"\",\"\",VLOOKUP(A1937,[1]ItemConfig!$A:$C,3,FALSE))","v":{"$error":"#N/A"}},{"$f":"IF(A1937=\"\",\"\",VLOOKUP(B1937,#REF!,5,FALSE))","v":{"$error":"#N/A"}},{"$f":"IF(A1937=\"\",\"\",VLOOKUP(C1937,#REF!,5,FALSE))","v":{"$error":"#N/A"}}]
[301043,{"$f":"IF(A1938=\"\",\"\",VLOOKUP(A1938,[1]ItemConfig!$A:$B,2,FALSE))","v":{"$error":"#N/A"}},{"$f":"IF(A1938=\"\",\"\",VLOOKUP(A1938,[1]ItemConfig!$A:$D,4,FALSE))","v":{"$error":"#N/A"}},{"$f":"IF(A1938=\"\",\"\",VLOOKUP(A1938,[1]ItemConfig!$A:$C,3,FALSE))","v":{"$error":"#N/A"}},{"$f":"IF(A1938=\"\",\"\",VLOOKUP(B1938,#REF!,5,FALSE))","v":{"$error":"#N/A"}},{"$f":"IF(A1938=\"\",\"\",VLOOKUP(C1938,#REF!,5,FALSE))","v":{"$error":"#N/A"}}]
[301044,{"$f":"IF(A1939=\"\",\"\",VLOOKUP(A1939,[1]ItemConfig!$A:$B,2,FALSE))","v":{"$error":"#N/A"}},{"$f":"IF(A1939=\"\",\"\",VLOOKUP(A1939,[1]ItemConfig!$A:$D,4,FALSE))","v":{"$error":"#N/A"}},{"$f":"IF(A1939=\"\",\"\",VLOOKUP(A1939,[1]ItemConfig!$A:$C,3,FALSE))","v":{"$error":"#N/A"}},{"$f":"IF(A1939=\"\",\"\",VLOOKUP(B1939,#REF!,5,FALSE))","v":{"$error":"#N/A"}},{"$f":"IF(A1939=\"\",\"\",VLOOKUP(C1939,#REF!,5,FALSE))","v":{"$error":"#N/A"}}]
[301045,{"$f":"IF(A1940=\"\",\"\",VLOOKUP(A1940,[1]ItemConfig!$A:$B,2,FALSE))","v":{"$error":"#N/A"}},{"$f":"IF(A1940=\"\",\"\",VLOOKUP(A1940,[1]ItemConfig!$A:$D,4,FALSE))","v":{"$error":"#N/A"}},{"$f":"IF(A1940=\"\",\"\",VLOOKUP(A1940,[1]ItemConfig!$A:$C,3,FALSE))","v":{"$error":"#N/A"}},{"$f":"IF(A1940=\"\",\"\",VLOOKUP(B1940,#REF!,5,FALSE))","v":{"$error":"#N/A"}},{"$f":"IF(A1940=\"\",\"\",VLOOKUP(C1940,#REF!,5,FALSE))","v":{"$error":"#N/A"}}]
[301046,{"$f":"IF(A1941=\"\",\"\",VLOOKUP(A1941,[1]ItemConfig!$A:$B,2,FALSE))","v":{"$error":"#N/A"}},{"$f":"IF(A1941=\"\",\"\",VLOOKUP(A1941,[1]ItemConfig!$A:$D,4,FALSE))","v":{"$error":"#N/A"}},{"$f":"IF(A1941=\"\",\"\",VLOOKUP(A1941,[1]ItemConfig!$A:$C,3,FALSE))","v":{"$error":"#N/A"}},{"$f":"IF(A1941=\"\",\"\",VLOOKUP(B1941,#REF!,5,FALSE))","v":{"$error":"#N/A"}},{"$f":"IF(A1941=\"\",\"\",VLOOKUP(C1941,#REF!,5,FALSE))","v":{"$error":"#N/A"}}]
[301047,{"$f":"IF(A1942=\"\",\"\",VLOOKUP(A1942,[1]ItemConfig!$A:$B,2,FALSE))","v":{"$error":"#N/A"}},{"$f":"IF(A1942=\"\",\"\",VLOOKUP(A1942,[1]ItemConfig!$A:$D,4,FALSE))","v":{"$error":"#N/A"}},{"$f":"IF(A1942=\"\",\"\",VLOOKUP(A1942,[1]ItemConfig!$A:$C,3,FALSE))","v":{"$error":"#N/A"}},{"$f":"IF(A1942=\"\",\"\",VLOOKUP(B1942,#REF!,5,FALSE))","v":{"$error":"#N/A"}},{"$f":"IF(A1942=\"\",\"\",VLOOKUP(C1942,#REF!,5,FALSE))","v":{"$error":"#N/A"}}]
[301048,{"$f":"IF(A1943=\"\",\"\",VLOOKUP(A1943,[1]ItemConfig!$A:$B,2,FALSE))","v":{"$error":"#N/A"}},{"$f":"IF(A1943=\"\",\"\",VLOOKUP(A1943,[1]ItemConfig!$A:$D,4,FALSE))","v":{"$error":"#N/A"}},{"$f":"IF(A1943=\"\",\"\",VLOOKUP(A1943,[1]ItemConfig!$A:$C,3,FALSE))","v":{"$error":"#N/A"}},{"$f":"IF(A1943=\"\",\"\",VLOOKUP(B1943,#REF!,5,FALSE))","v":{"$error":"#N/A"}},{"$f":"IF(A1943=\"\",\"\",VLOOKUP(C1943,#REF!,5,FALSE))","v":{"$error":"#N/A"}}]
[301049,{"$f":"IF(A1944=\"\",\"\",VLOOKUP(A1944,[1]ItemConfig!$A:$B,2,FALSE))","v":{"$error":"#N/A"}},{"$f":"IF(A1944=\"\",\"\",VLOOKUP(A1944,[1]ItemConfig!$A:$D,4,FALSE))","v":{"$error":"#N/A"}},{"$f":"IF(A1944=\"\",\"\",VLOOKUP(A1944,[1]ItemConfig!$A:$C,3,FALSE))","v":{"$error":"#N/A"}},{"$f":"IF(A1944=\"\",\"\",VLOOKUP(B1944,#REF!,5,FALSE))","v":{"$error":"#N/A"}},{"$f":"IF(A1944=\"\",\"\",VLOOKUP(C1944,#REF!,5,FALSE))","v":{"$error":"#N/A"}}]
[301050,{"$f":"IF(A1945=\"\",\"\",VLOOKUP(A1945,[1]ItemConfig!$A:$B,2,FALSE))","v":{"$error":"#N/A"}},{"$f":"IF(A1945=\"\",\"\",VLOOKUP(A1945,[1]ItemConfig!$A:$D,4,FALSE))","v":{"$error":"#N/A"}},{"$f":"IF(A1945=\"\",\"\",VLOOKUP(A1945,[1]ItemConfig!$A:$C,3,FALSE))","v":{"$error":"#N/A"}},{"$f":"IF(A1945=\"\",\"\",VLOOKUP(B1945,#REF!,5,FALSE))","v":{"$error":"#N/A"}},{"$f":"IF(A1945=\"\",\"\",VLOOKUP(C1945,#REF!,5,FALSE))","v":{"$error":"#N/A"}}]
[301051,{"$f":"IF(A1946=\"\",\"\",VLOOKUP(A1946,[1]ItemConfig!$A:$B,2,FALSE))","v":{"$error":"#N/A"}},{"$f":"IF(A1946=\"\",\"\",VLOOKUP(A1946,[1]ItemConfig!$A:$D,4,FALSE))","v":{"$error":"#N/A"}},{"$f":"IF(A1946=\"\",\"\",VLOOKUP(A1946,[1]ItemConfig!$A:$C,3,FALSE))","v":{"$error":"#N/A"}},{"$f":"IF(A1946=\"\",\"\",VLOOKUP(B1946,#REF!,5,FALSE))","v":{"$error":"#N/A"}},{"$f":"IF(A1946=\"\",\"\",VLOOKUP(C1946,#REF!,5,FALSE))","v":{"$error":"#N/A"}}]
[301052,{"$f":"IF(A1947=\"\",\"\",VLOOKUP(A1947,[1]ItemConfig!$A:$B,2,FALSE))","v":{"$error":"#N/A"}},{"$f":"IF(A1947=\"\",\"\",VLOOKUP(A1947,[1]ItemConfig!$A:$D,4,FALSE))","v":{"$error":"#N/A"}},{"$f":"IF(A1947=\"\",\"\",VLOOKUP(A1947,[1]ItemConfig!$A:$C,3,FALSE))","v":{"$error":"#N/A"}},{"$f":"IF(A1947=\"\",\"\",VLOOKUP(B1947,#REF!,5,FALSE))","v":{"$error":"#N/A"}},{"$f":"IF(A1947=\"\",\"\",VLOOKUP(C1947,#REF!,5,FALSE))","v":{"$error":"#N/A"}}]
[301053,{"$f":"IF(A1948=\"\",\"\",VLOOKUP(A1948,[1]ItemConfig!$A:$B,2,FALSE))","v":{"$error":"#N/A"}},{"$f":"IF(A1948=\"\",\"\",VLOOKUP(A1948,[1]ItemConfig!$A:$D,4,FALSE))","v":{"$error":"#N/A"}},{"$f":"IF(A1948=\"\",\"\",VLOOKUP(A1948,[1]ItemConfig!$A:$C,3,FALSE))","v":{"$error":"#N/A"}},{"$f":"IF(A1948=\"\",\"\",VLOOKUP(B1948,#REF!,5,FALSE))","v":{"$error":"#N/A"}},{"$f":"IF(A1948=\"\",\"\",VLOOKUP(C1948,#REF!,5,FALSE))","v":{"$error":"#N/A"}}]
[301054,{"$f":"IF(A1949=\"\",\"\",VLOOKUP(A1949,[1]ItemConfig!$A:$B,2,FALSE))","v":{"$error":"#N/A"}},{"$f":"IF(A1949=\"\",\"\",VLOOKUP(A1949,[1]ItemConfig!$A:$D,4,FALSE))","v":{"$error":"#N/A"}},{"$f":"IF(A1949=\"\",\"\",VLOOKUP(A1949,[1]ItemConfig!$A:$C,3,FALSE))","v":{"$error":"#N/A"}},{"$f":"IF(A1949=\"\",\"\",VLOOKUP(B1949,#REF!,5,FALSE))","v":{"$error":"#N/A"}},{"$f":"IF(A1949=\"\",\"\",VLOOKUP(C1949,#REF!,5,FALSE))","v":{"$error":"#N/A"}}]
[301055,{"$f":"IF(A1950=\"\",\"\",VLOOKUP(A1950,[1]ItemConfig!$A:$B,2,FALSE))","v":{"$error":"#N/A"}},{"$f":"IF(A1950=\"\",\"\",VLOOKUP(A1950,[1]ItemConfig!$A:$D,4,FALSE))","v":{"$error":"#N/A"}},{"$f":"IF(A1950=\"\",\"\",VLOOKUP(A1950,[1]ItemConfig!$A:$C,3,FALSE))","v":{"$error":"#N/A"}},{"$f":"IF(A1950=\"\",\"\",VLOOKUP(B1950,#REF!,5,FALSE))","v":{"$error":"#N/A"}},{"$f":"IF(A1950=\"\",\"\",VLOOKUP(C1950,#REF!,5,FALSE))","v":{"$error":"#N/A"}}]
[301056,{"$f":"IF(A1951=\"\",\"\",VLOOKUP(A1951,[1]ItemConfig!$A:$B,2,FALSE))","v":{"$error":"#N/A"}},{"$f":"IF(A1951=\"\",\"\",VLOOKUP(A1951,[1]ItemConfig!$A:$D,4,FALSE))","v":{"$error":"#N/A"}},{"$f":"IF(A1951=\"\",\"\",VLOOKUP(A1951,[1]ItemConfig!$A:$C,3,FALSE))","v":{"$error":"#N/A"}},{"$f":"IF(A1951=\"\",\"\",VLOOKUP(B1951,#REF!,5,FALSE))","v":{"$error":"#N/A"}},{"$f":"IF(A1951=\"\",\"\",VLOOKUP(C1951,#REF!,5,FALSE))","v":{"$error":"#N/A"}}]
[301057,{"$f":"IF(A1952=\"\",\"\",VLOOKUP(A1952,[1]ItemConfig!$A:$B,2,FALSE))","v":{"$error":"#N/A"}},{"$f":"IF(A1952=\"\",\"\",VLOOKUP(A1952,[1]ItemConfig!$A:$D,4,FALSE))","v":{"$error":"#N/A"}},{"$f":"IF(A1952=\"\",\"\",VLOOKUP(A1952,[1]ItemConfig!$A:$C,3,FALSE))","v":{"$error":"#N/A"}},{"$f":"IF(A1952=\"\",\"\",VLOOKUP(B1952,#REF!,5,FALSE))","v":{"$error":"#N/A"}},{"$f":"IF(A1952=\"\",\"\",VLOOKUP(C1952,#REF!,5,FALSE))","v":{"$error":"#N/A"}}]
[301058,{"$f":"IF(A1953=\"\",\"\",VLOOKUP(A1953,[1]ItemConfig!$A:$B,2,FALSE))","v":{"$error":"#N/A"}},{"$f":"IF(A1953=\"\",\"\",VLOOKUP(A1953,[1]ItemConfig!$A:$D,4,FALSE))","v":{"$error":"#N/A"}},{"$f":"IF(A1953=\"\",\"\",VLOOKUP(A1953,[1]ItemConfig!$A:$C,3,FALSE))","v":{"$error":"#N/A"}},{"$f":"IF(A1953=\"\",\"\",VLOOKUP(B1953,#REF!,5,FALSE))","v":{"$error":"#N/A"}},{"$f":"IF(A1953=\"\",\"\",VLOOKUP(C1953,#REF!,5,FALSE))","v":{"$error":"#N/A"}}]
[301059,{"$f":"IF(A1954=\"\",\"\",VLOOKUP(A1954,[1]ItemConfig!$A:$B,2,FALSE))","v":{"$error":"#N/A"}},{"$f":"IF(A1954=\"\",\"\",VLOOKUP(A1954,[1]ItemConfig!$A:$D,4,FALSE))","v":{"$error":"#N/A"}},{"$f":"IF(A1954=\"\",\"\",VLOOKUP(A1954,[1]ItemConfig!$A:$C,3,FALSE))","v":{"$error":"#N/A"}},{"$f":"IF(A1954=\"\",\"\",VLOOKUP(B1954,#REF!,5,FALSE))","v":{"$error":"#N/A"}},{"$f":"IF(A1954=\"\",\"\",VLOOKUP(C1954,#REF!,5,FALSE))","v":{"$error":"#N/A"}}]
[301060,{"$f":"IF(A1955=\"\",\"\",VLOOKUP(A1955,[1]ItemConfig!$A:$B,2,FALSE))","v":{"$error":"#N/A"}},{"$f":"IF(A1955=\"\",\"\",VLOOKUP(A1955,[1]ItemConfig!$A:$D,4,FALSE))","v":{"$error":"#N/A"}},{"$f":"IF(A1955=\"\",\"\",VLOOKUP(A1955,[1]ItemConfig!$A:$C,3,FALSE))","v":{"$error":"#N/A"}},{"$f":"IF(A1955=\"\",\"\",VLOOKUP(B1955,#REF!,5,FALSE))","v":{"$error":"#N/A"}},{"$f":"IF(A1955=\"\",\"\",VLOOKUP(C1955,#REF!,5,FALSE))","v":{"$error":"#N/A"}}]
[301061,{"$f":"IF(A1956=\"\",\"\",VLOOKUP(A1956,[1]ItemConfig!$A:$B,2,FALSE))","v":{"$error":"#N/A"}},{"$f":"IF(A1956=\"\",\"\",VLOOKUP(A1956,[1]ItemConfig!$A:$D,4,FALSE))","v":{"$error":"#N/A"}},{"$f":"IF(A1956=\"\",\"\",VLOOKUP(A1956,[1]ItemConfig!$A:$C,3,FALSE))","v":{"$error":"#N/A"}},{"$f":"IF(A1956=\"\",\"\",VLOOKUP(B1956,#REF!,5,FALSE))","v":{"$error":"#N/A"}},{"$f":"IF(A1956=\"\",\"\",VLOOKUP(C1956,#REF!,5,FALSE))","v":{"$error":"#N/A"}}]
[301062,{"$f":"IF(A1957=\"\",\"\",VLOOKUP(A1957,[1]ItemConfig!$A:$B,2,FALSE))","v":{"$error":"#N/A"}},{"$f":"IF(A1957=\"\",\"\",VLOOKUP(A1957,[1]ItemConfig!$A:$D,4,FALSE))","v":{"$error":"#N/A"}},{"$f":"IF(A1957=\"\",\"\",VLOOKUP(A1957,[1]ItemConfig!$A:$C,3,FALSE))","v":{"$error":"#N/A"}},{"$f":"IF(A1957=\"\",\"\",VLOOKUP(B1957,#REF!,5,FALSE))","v":{"$error":"#N/A"}},{"$f":"IF(A1957=\"\",\"\",VLOOKUP(C1957,#REF!,5,FALSE))","v":{"$error":"#N/A"}}]
[301063,{"$f":"IF(A1958=\"\",\"\",VLOOKUP(A1958,[1]ItemConfig!$A:$B,2,FALSE))","v":{"$error":"#N/A"}},{"$f":"IF(A1958=\"\",\"\",VLOOKUP(A1958,[1]ItemConfig!$A:$D,4,FALSE))","v":{"$error":"#N/A"}},{"$f":"IF(A1958=\"\",\"\",VLOOKUP(A1958,[1]ItemConfig!$A:$C,3,FALSE))","v":{"$error":"#N/A"}},{"$f":"IF(A1958=\"\",\"\",VLOOKUP(B1958,#REF!,5,FALSE))","v":{"$error":"#N/A"}},{"$f":"IF(A1958=\"\",\"\",VLOOKUP(C1958,#REF!,5,FALSE))","v":{"$error":"#N/A"}}]
[301064,{"$f":"IF(A1959=\"\",\"\",VLOOKUP(A1959,[1]ItemConfig!$A:$B,2,FALSE))","v":{"$error":"#N/A"}},{"$f":"IF(A1959=\"\",\"\",VLOOKUP(A1959,[1]ItemConfig!$A:$D,4,FALSE))","v":{"$error":"#N/A"}},{"$f":"IF(A1959=\"\",\"\",VLOOKUP(A1959,[1]ItemConfig!$A:$C,3,FALSE))","v":{"$error":"#N/A"}},{"$f":"IF(A1959=\"\",\"\",VLOOKUP(B1959,#REF!,5,FALSE))","v":{"$error":"#N/A"}},{"$f":"IF(A1959=\"\",\"\",VLOOKUP(C1959,#REF!,5,FALSE))","v":{"$error":"#N/A"}}]
[301065,{"$f":"IF(A1960=\"\",\"\",VLOOKUP(A1960,[1]ItemConfig!$A:$B,2,FALSE))","v":{"$error":"#N/A"}},{"$f":"IF(A1960=\"\",\"\",VLOOKUP(A1960,[1]ItemConfig!$A:$D,4,FALSE))","v":{"$error":"#N/A"}},{"$f":"IF(A1960=\"\",\"\",VLOOKUP(A1960,[1]ItemConfig!$A:$C,3,FALSE))","v":{"$error":"#N/A"}},{"$f":"IF(A1960=\"\",\"\",VLOOKUP(B1960,#REF!,5,FALSE))","v":{"$error":"#N/A"}},{"$f":"IF(A1960=\"\",\"\",VLOOKUP(C1960,#REF!,5,FALSE))","v":{"$error":"#N/A"}}]
[301066,{"$f":"IF(A1961=\"\",\"\",VLOOKUP(A1961,[1]ItemConfig!$A:$B,2,FALSE))","v":{"$error":"#N/A"}},{"$f":"IF(A1961=\"\",\"\",VLOOKUP(A1961,[1]ItemConfig!$A:$D,4,FALSE))","v":{"$error":"#N/A"}},{"$f":"IF(A1961=\"\",\"\",VLOOKUP(A1961,[1]ItemConfig!$A:$C,3,FALSE))","v":{"$error":"#N/A"}},{"$f":"IF(A1961=\"\",\"\",VLOOKUP(B1961,#REF!,5,FALSE))","v":{"$error":"#N/A"}},{"$f":"IF(A1961=\"\",\"\",VLOOKUP(C1961,#REF!,5,FALSE))","v":{"$error":"#N/A"}}]
[301067,{"$f":"IF(A1962=\"\",\"\",VLOOKUP(A1962,[1]ItemConfig!$A:$B,2,FALSE))","v":{"$error":"#N/A"}},{"$f":"IF(A1962=\"\",\"\",VLOOKUP(A1962,[1]ItemConfig!$A:$D,4,FALSE))","v":{"$error":"#N/A"}},{"$f":"IF(A1962=\"\",\"\",VLOOKUP(A1962,[1]ItemConfig!$A:$C,3,FALSE))","v":{"$error":"#N/A"}},{"$f":"IF(A1962=\"\",\"\",VLOOKUP(B1962,#REF!,5,FALSE))","v":{"$error":"#N/A"}},{"$f":"IF(A1962=\"\",\"\",VLOOKUP(C1962,#REF!,5,FALSE))","v":{"$error":"#N/A"}}]
[301068,{"$f":"IF(A1963=\"\",\"\",VLOOKUP(A1963,[1]ItemConfig!$A:$B,2,FALSE))","v":{"$error":"#N/A"}},{"$f":"IF(A1963=\"\",\"\",VLOOKUP(A1963,[1]ItemConfig!$A:$D,4,FALSE))","v":{"$error":"#N/A"}},{"$f":"IF(A1963=\"\",\"\",VLOOKUP(A1963,[1]ItemConfig!$A:$C,3,FALSE))","v":{"$error":"#N/A"}},{"$f":"IF(A1963=\"\",\"\",VLOOKUP(B1963,#REF!,5,FALSE))","v":{"$error":"#N/A"}},{"$f":"IF(A1963=\"\",\"\",VLOOKUP(C1963,#REF!,5,FALSE))","v":{"$error":"#N/A"}}]
[301069,{"$f":"IF(A1964=\"\",\"\",VLOOKUP(A1964,[1]ItemConfig!$A:$B,2,FALSE))","v":{"$error":"#N/A"}},{"$f":"IF(A1964=\"\",\"\",VLOOKUP(A1964,[1]ItemConfig!$A:$D,4,FALSE))","v":{"$error":"#N/A"}},{"$f":"IF(A1964=\"\",\"\",VLOOKUP(A1964,[1]ItemConfig!$A:$C,3,FALSE))","v":{"$error":"#N/A"}},{"$f":"IF(A1964=\"\",\"\",VLOOKUP(B1964,#REF!,5,FALSE))","v":{"$error":"#N/A"}},{"$f":"IF(A1964=\"\",\"\",VLOOKUP(C1964,#REF!,5,FALSE))","v":{"$error":"#N/A"}}]
[301070,{"$f":"IF(A1965=\"\",\"\",VLOOKUP(A1965,[1]ItemConfig!$A:$B,2,FALSE))","v":{"$error":"#N/A"}},{"$f":"IF(A1965=\"\",\"\",VLOOKUP(A1965,[1]ItemConfig!$A:$D,4,FALSE))","v":{"$error":"#N/A"}},{"$f":"IF(A1965=\"\",\"\",VLOOKUP(A1965,[1]ItemConfig!$A:$C,3,FALSE))","v":{"$error":"#N/A"}},{"$f":"IF(A1965=\"\",\"\",VLOOKUP(B1965,#REF!,5,FALSE))","v":{"$error":"#N/A"}},{"$f":"IF(A1965=\"\",\"\",VLOOKUP(C1965,#REF!,5,FALSE))","v":{"$error":"#N/A"}}]
[301071,{"$f":"IF(A1966=\"\",\"\",VLOOKUP(A1966,[1]ItemConfig!$A:$B,2,FALSE))","v":{"$error":"#N/A"}},{"$f":"IF(A1966=\"\",\"\",VLOOKUP(A1966,[1]ItemConfig!$A:$D,4,FALSE))","v":{"$error":"#N/A"}},{"$f":"IF(A1966=\"\",\"\",VLOOKUP(A1966,[1]ItemConfig!$A:$C,3,FALSE))","v":{"$error":"#N/A"}},{"$f":"IF(A1966=\"\",\"\",VLOOKUP(B1966,#REF!,5,FALSE))","v":{"$error":"#N/A"}},{"$f":"IF(A1966=\"\",\"\",VLOOKUP(C1966,#REF!,5,FALSE))","v":{"$error":"#N/A"}}]
[301072,{"$f":"IF(A1967=\"\",\"\",VLOOKUP(A1967,[1]ItemConfig!$A:$B,2,FALSE))","v":{"$error":"#N/A"}},{"$f":"IF(A1967=\"\",\"\",VLOOKUP(A1967,[1]ItemConfig!$A:$D,4,FALSE))","v":{"$error":"#N/A"}},{"$f":"IF(A1967=\"\",\"\",VLOOKUP(A1967,[1]ItemConfig!$A:$C,3,FALSE))","v":{"$error":"#N/A"}},{"$f":"IF(A1967=\"\",\"\",VLOOKUP(B1967,#REF!,5,FALSE))","v":{"$error":"#N/A"}},{"$f":"IF(A1967=\"\",\"\",VLOOKUP(C1967,#REF!,5,FALSE))","v":{"$error":"#N/A"}}]
[301073,{"$f":"IF(A1968=\"\",\"\",VLOOKUP(A1968,[1]ItemConfig!$A:$B,2,FALSE))","v":{"$error":"#N/A"}},{"$f":"IF(A1968=\"\",\"\",VLOOKUP(A1968,[1]ItemConfig!$A:$D,4,FALSE))","v":{"$error":"#N/A"}},{"$f":"IF(A1968=\"\",\"\",VLOOKUP(A1968,[1]ItemConfig!$A:$C,3,FALSE))","v":{"$error":"#N/A"}},{"$f":"IF(A1968=\"\",\"\",VLOOKUP(B1968,#REF!,5,FALSE))","v":{"$error":"#N/A"}},{"$f":"IF(A1968=\"\",\"\",VLOOKUP(C1968,#REF!,5,FALSE))","v":{"$error":"#N/A"}}]
[301074,{"$f":"IF(A1969=\"\",\"\",VLOOKUP(A1969,[1]ItemConfig!$A:$B,2,FALSE))","v":{"$error":"#N/A"}},{"$f":"IF(A1969=\"\",\"\",VLOOKUP(A1969,[1]ItemConfig!$A:$D,4,FALSE))","v":{"$error":"#N/A"}},{"$f":"IF(A1969=\"\",\"\",VLOOKUP(A1969,[1]ItemConfig!$A:$C,3,FALSE))","v":{"$error":"#N/A"}},{"$f":"IF(A1969=\"\",\"\",VLOOKUP(B1969,#REF!,5,FALSE))","v":{"$error":"#N/A"}},{"$f":"IF(A1969=\"\",\"\",VLOOKUP(C1969,#REF!,5,FALSE))","v":{"$error":"#N/A"}}]
[301075,{"$f":"IF(A1970=\"\",\"\",VLOOKUP(A1970,[1]ItemConfig!$A:$B,2,FALSE))","v":{"$error":"#N/A"}},{"$f":"IF(A1970=\"\",\"\",VLOOKUP(A1970,[1]ItemConfig!$A:$D,4,FALSE))","v":{"$error":"#N/A"}},{"$f":"IF(A1970=\"\",\"\",VLOOKUP(A1970,[1]ItemConfig!$A:$C,3,FALSE))","v":{"$error":"#N/A"}},{"$f":"IF(A1970=\"\",\"\",VLOOKUP(B1970,#REF!,5,FALSE))","v":{"$error":"#N/A"}},{"$f":"IF(A1970=\"\",\"\",VLOOKUP(C1970,#REF!,5,FALSE))","v":{"$error":"#N/A"}}]
[301076,{"$f":"IF(A1971=\"\",\"\",VLOOKUP(A1971,[1]ItemConfig!$A:$B,2,FALSE))","v":{"$error":"#N/A"}},{"$f":"IF(A1971=\"\",\"\",VLOOKUP(A1971,[1]ItemConfig!$A:$D,4,FALSE))","v":{"$error":"#N/A"}},{"$f":"IF(A1971=\"\",\"\",VLOOKUP(A1971,[1]ItemConfig!$A:$C,3,FALSE))","v":{"$error":"#N/A"}},{"$f":"IF(A1971=\"\",\"\",VLOOKUP(B1971,#REF!,5,FALSE))","v":{"$error":"#N/A"}},{"$f":"IF(A1971=\"\",\"\",VLOOKUP(C1971,#REF!,5,FALSE))","v":{"$error":"#N/A"}}]
[301077,{"$f":"IF(A1972=\"\",\"\",VLOOKUP(A1972,[1]ItemConfig!$A:$B,2,FALSE))","v":{"$error":"#N/A"}},{"$f":"IF(A1972=\"\",\"\",VLOOKUP(A1972,[1]ItemConfig!$A:$D,4,FALSE))","v":{"$error":"#N/A"}},{"$f":"IF(A1972=\"\",\"\",VLOOKUP(A1972,[1]ItemConfig!$A:$C,3,FALSE))","v":{"$error":"#N/A"}},{"$f":"IF(A1972=\"\",\"\",VLOOKUP(B1972,#REF!,5,FALSE))","v":{"$error":"#N/A"}},{"$f":"IF(A1972=\"\",\"\",VLOOKUP(C1972,#REF!,5,FALSE))","v":{"$error":"#N/A"}}]
[301078,{"$f":"IF(A1973=\"\",\"\",VLOOKUP(A1973,[1]ItemConfig!$A:$B,2,FALSE))","v":{"$error":"#N/A"}},{"$f":"IF(A1973=\"\",\"\",VLOOKUP(A1973,[1]ItemConfig!$A:$D,4,FALSE))","v":{"$error":"#N/A"}},{"$f":"IF(A1973=\"\",\"\",VLOOKUP(A1973,[1]ItemConfig!$A:$C,3,FALSE))","v":{"$error":"#N/A"}},{"$f":"IF(A1973=\"\",\"\",VLOOKUP(B1973,#REF!,5,FALSE))","v":{"$error":"#N/A"}},{"$f":"IF(A1973=\"\",\"\",VLOOKUP(C1973,#REF!,5,FALSE))","v":{"$error":"#N/A"}}]
[301079,{"$f":"IF(A1974=\"\",\"\",VLOOKUP(A1974,[1]ItemConfig!$A:$B,2,FALSE))","v":{"$error":"#N/A"}},{"$f":"IF(A1974=\"\",\"\",VLOOKUP(A1974,[1]ItemConfig!$A:$D,4,FALSE))","v":{"$error":"#N/A"}},{"$f":"IF(A1974=\"\",\"\",VLOOKUP(A1974,[1]ItemConfig!$A:$C,3,FALSE))","v":{"$error":"#N/A"}},{"$f":"IF(A1974=\"\",\"\",VLOOKUP(B1974,#REF!,5,FALSE))","v":{"$error":"#N/A"}},{"$f":"IF(A1974=\"\",\"\",VLOOKUP(C1974,#REF!,5,FALSE))","v":{"$error":"#N/A"}}]
[301080,{"$f":"IF(A1975=\"\",\"\",VLOOKUP(A1975,[1]ItemConfig!$A:$B,2,FALSE))","v":{"$error":"#N/A"}},{"$f":"IF(A1975=\"\",\"\",VLOOKUP(A1975,[1]ItemConfig!$A:$D,4,FALSE))","v":{"$error":"#N/A"}},{"$f":"IF(A1975=\"\",\"\",VLOOKUP(A1975,[1]ItemConfig!$A:$C,3,FALSE))","v":{"$error":"#N/A"}},{"$f":"IF(A1975=\"\",\"\",VLOOKUP(B1975,#REF!,5,FALSE))","v":{"$error":"#N/A"}},{"$f":"IF(A1975=\"\",\"\",VLOOKUP(C1975,#REF!,5,FALSE))","v":{"$error":"#N/A"}}]
[301081,{"$f":"IF(A1976=\"\",\"\",VLOOKUP(A1976,[1]ItemConfig!$A:$B,2,FALSE))","v":{"$error":"#N/A"}},{"$f":"IF(A1976=\"\",\"\",VLOOKUP(A1976,[1]ItemConfig!$A:$D,4,FALSE))","v":{"$error":"#N/A"}},{"$f":"IF(A1976=\"\",\"\",VLOOKUP(A1976,[1]ItemConfig!$A:$C,3,FALSE))","v":{"$error":"#N/A"}},{"$f":"IF(A1976=\"\",\"\",VLOOKUP(B1976,#REF!,5,FALSE))","v":{"$error":"#N/A"}},{"$f":"IF(A1976=\"\",\"\",VLOOKUP(C1976,#REF!,5,FALSE))","v":{"$error":"#N/A"}}]
[301082,{"$f":"IF(A1977=\"\",\"\",VLOOKUP(A1977,[1]ItemConfig!$A:$B,2,FALSE))","v":{"$error":"#N/A"}},{"$f":"IF(A1977=\"\",\"\",VLOOKUP(A1977,[1]ItemConfig!$A:$D,4,FALSE))","v":{"$error":"#N/A"}},{"$f":"IF(A1977=\"\",\"\",VLOOKUP(A1977,[1]ItemConfig!$A:$C,3,FALSE))","v":{"$error":"#N/A"}},{"$f":"IF(A1977=\"\",\"\",VLOOKUP(B1977,#REF!,5,FALSE))","v":{"$error":"#N/A"}},{"$f":"IF(A1977=\"\",\"\",VLOOKUP(C1977,#REF!,5,FALSE))","v":{"$error":"#N/A"}}]
[301083,{"$f":"IF(A1978=\"\",\"\",VLOOKUP(A1978,[1]ItemConfig!$A:$B,2,FALSE))","v":{"$error":"#N/A"}},{"$f":"IF(A1978=\"\",\"\",VLOOKUP(A1978,[1]ItemConfig!$A:$D,4,FALSE))","v":{"$error":"#N/A"}},{"$f":"IF(A1978=\"\",\"\",VLOOKUP(A1978,[1]ItemConfig!$A:$C,3,FALSE))","v":{"$error":"#N/A"}},{"$f":"IF(A1978=\"\",\"\",VLOOKUP(B1978,#REF!,5,FALSE))","v":{"$error":"#N/A"}},{"$f":"IF(A1978=\"\",\"\",VLOOKUP(C1978,#REF!,5,FALSE))","v":{"$error":"#N/A"}}]
[301084,{"$f":"IF(A1979=\"\",\"\",VLOOKUP(A1979,[1]ItemConfig!$A:$B,2,FALSE))","v":{"$error":"#N/A"}},{"$f":"IF(A1979=\"\",\"\",VLOOKUP(A1979,[1]ItemConfig!$A:$D,4,FALSE))","v":{"$error":"#N/A"}},{"$f":"IF(A1979=\"\",\"\",VLOOKUP(A1979,[1]ItemConfig!$A:$C,3,FALSE))","v":{"$error":"#N/A"}},{"$f":"IF(A1979=\"\",\"\",VLOOKUP(B1979,#REF!,5,FALSE))","v":{"$error":"#N/A"}},{"$f":"IF(A1979=\"\",\"\",VLOOKUP(C1979,#REF!,5,FALSE))","v":{"$error":"#N/A"}}]
[301085,{"$f":"IF(A1980=\"\",\"\",VLOOKUP(A1980,[1]ItemConfig!$A:$B,2,FALSE))","v":{"$error":"#N/A"}},{"$f":"IF(A1980=\"\",\"\",VLOOKUP(A1980,[1]ItemConfig!$A:$D,4,FALSE))","v":{"$error":"#N/A"}},{"$f":"IF(A1980=\"\",\"\",VLOOKUP(A1980,[1]ItemConfig!$A:$C,3,FALSE))","v":{"$error":"#N/A"}},{"$f":"IF(A1980=\"\",\"\",VLOOKUP(B1980,#REF!,5,FALSE))","v":{"$error":"#N/A"}},{"$f":"IF(A1980=\"\",\"\",VLOOKUP(C1980,#REF!,5,FALSE))","v":{"$error":"#N/A"}}]
[301086,{"$f":"IF(A1981=\"\",\"\",VLOOKUP(A1981,[1]ItemConfig!$A:$B,2,FALSE))","v":{"$error":"#N/A"}},{"$f":"IF(A1981=\"\",\"\",VLOOKUP(A1981,[1]ItemConfig!$A:$D,4,FALSE))","v":{"$error":"#N/A"}},{"$f":"IF(A1981=\"\",\"\",VLOOKUP(A1981,[1]ItemConfig!$A:$C,3,FALSE))","v":{"$error":"#N/A"}},{"$f":"IF(A1981=\"\",\"\",VLOOKUP(B1981,#REF!,5,FALSE))","v":{"$error":"#N/A"}},{"$f":"IF(A1981=\"\",\"\",VLOOKUP(C1981,#REF!,5,FALSE))","v":{"$error":"#N/A"}}]
[301087,{"$f":"IF(A1982=\"\",\"\",VLOOKUP(A1982,[1]ItemConfig!$A:$B,2,FALSE))","v":{"$error":"#N/A"}},{"$f":"IF(A1982=\"\",\"\",VLOOKUP(A1982,[1]ItemConfig!$A:$D,4,FALSE))","v":{"$error":"#N/A"}},{"$f":"IF(A1982=\"\",\"\",VLOOKUP(A1982,[1]ItemConfig!$A:$C,3,FALSE))","v":{"$error":"#N/A"}},{"$f":"IF(A1982=\"\",\"\",VLOOKUP(B1982,#REF!,5,FALSE))","v":{"$error":"#N/A"}},{"$f":"IF(A1982=\"\",\"\",VLOOKUP(C1982,#REF!,5,FALSE))","v":{"$error":"#N/A"}}]
[301088,{"$f":"IF(A1983=\"\",\"\",VLOOKUP(A1983,[1]ItemConfig!$A:$B,2,FALSE))","v":{"$error":"#N/A"}},{"$f":"IF(A1983=\"\",\"\",VLOOKUP(A1983,[1]ItemConfig!$A:$D,4,FALSE))","v":{"$error":"#N/A"}},{"$f":"IF(A1983=\"\",\"\",VLOOKUP(A1983,[1]ItemConfig!$A:$C,3,FALSE))","v":{"$error":"#N/A"}},{"$f":"IF(A1983=\"\",\"\",VLOOKUP(B1983,#REF!,5,FALSE))","v":{"$error":"#N/A"}},{"$f":"IF(A1983=\"\",\"\",VLOOKUP(C1983,#REF!,5,FALSE))","v":{"$error":"#N/A"}}]
[301089,{"$f":"IF(A1984=\"\",\"\",VLOOKUP(A1984,[1]ItemConfig!$A:$B,2,FALSE))","v":{"$error":"#N/A"}},{"$f":"IF(A1984=\"\",\"\",VLOOKUP(A1984,[1]ItemConfig!$A:$D,4,FALSE))","v":{"$error":"#N/A"}},{"$f":"IF(A1984=\"\",\"\",VLOOKUP(A1984,[1]ItemConfig!$A:$C,3,FALSE))","v":{"$error":"#N/A"}},{"$f":"IF(A1984=\"\",\"\",VLOOKUP(B1984,#REF!,5,FALSE))","v":{"$error":"#N/A"}},{"$f":"IF(A1984=\"\",\"\",VLOOKUP(C1984,#REF!,5,FALSE))","v":{"$error":"#N/A"}}]
[301090,{"$f":"IF(A1985=\"\",\"\",VLOOKUP(A1985,[1]ItemConfig!$A:$B,2,FALSE))","v":{"$error":"#N/A"}},{"$f":"IF(A1985=\"\",\"\",VLOOKUP(A1985,[1]ItemConfig!$A:$D,4,FALSE))","v":{"$error":"#N/A"}},{"$f":"IF(A1985=\"\",\"\",VLOOKUP(A1985,[1]ItemConfig!$A:$C,3,FALSE))","v":{"$error":"#N/A"}},{"$f":"IF(A1985=\"\",\"\",VLOOKUP(B1985,#REF!,5,FALSE))","v":{"$error":"#N/A"}},{"$f":"IF(A1985=\"\",\"\",VLOOKUP(C1985,#REF!,5,FALSE))","v":{"$error":"#N/A"}}]
[301091,{"$f":"IF(A1986=\"\",\"\",VLOOKUP(A1986,[1]ItemConfig!$A:$B,2,FALSE))","v":{"$error":"#N/A"}},{"$f":"IF(A1986=\"\",\"\",VLOOKUP(A1986,[1]ItemConfig!$A:$D,4,FALSE))","v":{"$error":"#N/A"}},{"$f":"IF(A1986=\"\",\"\",VLOOKUP(A1986,[1]ItemConfig!$A:$C,3,FALSE))","v":{"$error":"#N/A"}},{"$f":"IF(A1986=\"\",\"\",VLOOKUP(B1986,#REF!,5,FALSE))","v":{"$error":"#N/A"}},{"$f":"IF(A1986=\"\",\"\",VLOOKUP(C1986,#REF!,5,FALSE))","v":{"$error":"#N/A"}}]
[301092,{"$f":"IF(A1987=\"\",\"\",VLOOKUP(A1987,[1]ItemConfig!$A:$B,2,FALSE))","v":{"$error":"#N/A"}},{"$f":"IF(A1987=\"\",\"\",VLOOKUP(A1987,[1]ItemConfig!$A:$D,4,FALSE))","v":{"$error":"#N/A"}},{"$f":"IF(A1987=\"\",\"\",VLOOKUP(A1987,[1]ItemConfig!$A:$C,3,FALSE))","v":{"$error":"#N/A"}},{"$f":"IF(A1987=\"\",\"\",VLOOKUP(B1987,#REF!,5,FALSE))","v":{"$error":"#N/A"}},{"$f":"IF(A1987=\"\",\"\",VLOOKUP(C1987,#REF!,5,FALSE))","v":{"$error":"#N/A"}}]
[301093,{"$f":"IF(A1988=\"\",\"\",VLOOKUP(A1988,[1]ItemConfig!$A:$B,2,FALSE))","v":{"$error":"#N/A"}},{"$f":"IF(A1988=\"\",\"\",VLOOKUP(A1988,[1]ItemConfig!$A:$D,4,FALSE))","v":{"$error":"#N/A"}},{"$f":"IF(A1988=\"\",\"\",VLOOKUP(A1988,[1]ItemConfig!$A:$C,3,FALSE))","v":{"$error":"#N/A"}},{"$f":"IF(A1988=\"\",\"\",VLOOKUP(B1988,#REF!,5,FALSE))","v":{"$error":"#N/A"}},{"$f":"IF(A1988=\"\",\"\",VLOOKUP(C1988,#REF!,5,FALSE))","v":{"$error":"#N/A"}}]
[301094,{"$f":"IF(A1989=\"\",\"\",VLOOKUP(A1989,[1]ItemConfig!$A:$B,2,FALSE))","v":{"$error":"#N/A"}},{"$f":"IF(A1989=\"\",\"\",VLOOKUP(A1989,[1]ItemConfig!$A:$D,4,FALSE))","v":{"$error":"#N/A"}},{"$f":"IF(A1989=\"\",\"\",VLOOKUP(A1989,[1]ItemConfig!$A:$C,3,FALSE))","v":{"$error":"#N/A"}},{"$f":"IF(A1989=\"\",\"\",VLOOKUP(B1989,#REF!,5,FALSE))","v":{"$error":"#N/A"}},{"$f":"IF(A1989=\"\",\"\",VLOOKUP(C1989,#REF!,5,FALSE))","v":{"$error":"#N/A"}}]
[301095,{"$f":"IF(A1990=\"\",\"\",VLOOKUP(A1990,[1]ItemConfig!$A:$B,2,FALSE))","v":{"$error":"#N/A"}},{"$f":"IF(A1990=\"\",\"\",VLOOKUP(A1990,[1]ItemConfig!$A:$D,4,FALSE))","v":{"$error":"#N/A"}},{"$f":"IF(A1990=\"\",\"\",VLOOKUP(A1990,[1]ItemConfig!$A:$C,3,FALSE))","v":{"$error":"#N/A"}},{"$f":"IF(A1990=\"\",\"\",VLOOKUP(B1990,#REF!,5,FALSE))","v":{"$error":"#N/A"}},{"$f":"IF(A1990=\"\",\"\",VLOOKUP(C1990,#REF!,5,FALSE))","v":{"$error":"#N/A"}}]
[301096,{"$f":"IF(A1991=\"\",\"\",VLOOKUP(A1991,[1]ItemConfig!$A:$B,2,FALSE))","v":{"$error":"#N/A"}},{"$f":"IF(A1991=\"\",\"\",VLOOKUP(A1991,[1]ItemConfig!$A:$D,4,FALSE))","v":{"$error":"#N/A"}},{"$f":"IF(A1991=\"\",\"\",VLOOKUP(A1991,[1]ItemConfig!$A:$C,3,FALSE))","v":{"$error":"#N/A"}},{"$f":"IF(A1991=\"\",\"\",VLOOKUP(B1991,#REF!,5,FALSE))","v":{"$error":"#N/A"}},{"$f":"IF(A1991=\"\",\"\",VLOOKUP(C1991,#REF!,5,FALSE))","v":{"$error":"#N/A"}}]
[301097,{"$f":"IF(A1992=\"\",\"\",VLOOKUP(A1992,[1]ItemConfig!$A:$B,2,FALSE))","v":{"$error":"#N/A"}},{"$f":"IF(A1992=\"\",\"\",VLOOKUP(A1992,[1]ItemConfig!$A:$D,4,FALSE))","v":{"$error":"#N/A"}},{"$f":"IF(A1992=\"\",\"\",VLOOKUP(A1992,[1]ItemConfig!$A:$C,3,FALSE))","v":{"$error":"#N/A"}},{"$f":"IF(A1992=\"\",\"\",VLOOKUP(B1992,#REF!,5,FALSE))","v":{"$error":"#N/A"}},{"$f":"IF(A1992=\"\",\"\",VLOOKUP(C1992,#REF!,5,FALSE))","v":{"$error":"#N/A"}}]
[301098,{"$f":"IF(A1993=\"\",\"\",VLOOKUP(A1993,[1]ItemConfig!$A:$B,2,FALSE))","v":{"$error":"#N/A"}},{"$f":"IF(A1993=\"\",\"\",VLOOKUP(A1993,[1]ItemConfig!$A:$D,4,FALSE))","v":{"$error":"#N/A"}},{"$f":"IF(A1993=\"\",\"\",VLOOKUP(A1993,[1]ItemConfig!$A:$C,3,FALSE))","v":{"$error":"#N/A"}},{"$f":"IF(A1993=\"\",\"\",VLOOKUP(B1993,#REF!,5,FALSE))","v":{"$error":"#N/A"}},{"$f":"IF(A1993=\"\",\"\",VLOOKUP(C1993,#REF!,5,FALSE))","v":{"$error":"#N/A"}}]
[301099,{"$f":"IF(A1994=\"\",\"\",VLOOKUP(A1994,[1]ItemConfig!$A:$B,2,FALSE))","v":{"$error":"#N/A"}},{"$f":"IF(A1994=\"\",\"\",VLOOKUP(A1994,[1]ItemConfig!$A:$D,4,FALSE))","v":{"$error":"#N/A"}},{"$f":"IF(A1994=\"\",\"\",VLOOKUP(A1994,[1]ItemConfig!$A:$C,3,FALSE))","v":{"$error":"#N/A"}},{"$f":"IF(A1994=\"\",\"\",VLOOKUP(B1994,#REF!,5,FALSE))","v":{"$error":"#N/A"}},{"$f":"IF(A1994=\"\",\"\",VLOOKUP(C1994,#REF!,5,FALSE))","v":{"$error":"#N/A"}}]
[301100,{"$f":"IF(A1995=\"\",\"\",VLOOKUP(A1995,[1]ItemConfig!$A:$B,2,FALSE))","v":{"$error":"#N/A"}},{"$f":"IF(A1995=\"\",\"\",VLOOKUP(A1995,[1]ItemConfig!$A:$D,4,FALSE))","v":{"$error":"#N/A"}},{"$f":"IF(A1995=\"\",\"\",VLOOKUP(A1995,[1]ItemConfig!$A:$C,3,FALSE))","v":{"$error":"#N/A"}},{"$f":"IF(A1995=\"\",\"\",VLOOKUP(B1995,#REF!,5,FALSE))","v":{"$error":"#N/A"}},{"$f":"IF(A1995=\"\",\"\",VLOOKUP(C1995,#REF!,5,FALSE))","v":{"$error":"#N/A"}}]
[null,{"$f":"IF(A1996=\"\",\"\",VLOOKUP(A1996,[1]ItemConfig!$A:$B,2,FALSE))","v":""},{"$f":"IF(A1996=\"\",\"\",VLOOKUP(A1996,[1]ItemConfig!$A:$D,4,FALSE))","v":""},{"$f":"IF(A1996=\"\",\"\",VLOOKUP(A1996,[1]ItemConfig!$A:$C,3,FALSE))","v":""},{"$f":"IF(A1996=\"\",\"\",VLOOKUP(B1996,#REF!,5,FALSE))","v":""},{"$f":"IF(A1996=\"\",\"\",VLOOKUP(C1996,#REF!,5,FALSE))","v":""}]
[301101,{"$f":"IF(A1997=\"\",\"\",VLOOKUP(A1997,[1]ItemConfig!$A:$B,2,FALSE))","v":{"$error":"#N/A"}},{"$f":"IF(A1997=\"\",\"\",VLOOKUP(A1997,[1]ItemConfig!$A:$D,4,FALSE))","v":{"$error":"#N/A"}},{"$f":"IF(A1997=\"\",\"\",VLOOKUP(A1997,[1]ItemConfig!$A:$C,3,FALSE))","v":{"$error":"#N/A"}},{"$f":"IF(A1997=\"\",\"\",VLOOKUP(B1997,#REF!,5,FALSE))","v":{"$error":"#N/A"}},{"$f":"IF(A1997=\"\",\"\",VLOOKUP(C1997,#REF!,5,FALSE))","v":{"$error":"#N/A"}}]
[301102,{"$f":"IF(A1998=\"\",\"\",VLOOKUP(A1998,[1]ItemConfig!$A:$B,2,FALSE))","v":{"$error":"#N/A"}},{"$f":"IF(A1998=\"\",\"\",VLOOKUP(A1998,[1]ItemConfig!$A:$D,4,FALSE))","v":{"$error":"#N/A"}},{"$f":"IF(A1998=\"\",\"\",VLOOKUP(A1998,[1]ItemConfig!$A:$C,3,FALSE))","v":{"$error":"#N/A"}},{"$f":"IF(A1998=\"\",\"\",VLOOKUP(B1998,#REF!,5,FALSE))","v":{"$error":"#N/A"}},{"$f":"IF(A1998=\"\",\"\",VLOOKUP(C1998,#REF!,5,FALSE))","v":{"$error":"#N/A"}}]
[301103,{"$f":"IF(A1999=\"\",\"\",VLOOKUP(A1999,[1]ItemConfig!$A:$B,2,FALSE))","v":{"$error":"#N/A"}},{"$f":"IF(A1999=\"\",\"\",VLOOKUP(A1999,[1]ItemConfig!$A:$D,4,FALSE))","v":{"$error":"#N/A"}},{"$f":"IF(A1999=\"\",\"\",VLOOKUP(A1999,[1]ItemConfig!$A:$C,3,FALSE))","v":{"$error":"#N/A"}},{"$f":"IF(A1999=\"\",\"\",VLOOKUP(B1999,#REF!,5,FALSE))","v":{"$error":"#N/A"}},{"$f":"IF(A1999=\"\",\"\",VLOOKUP(C1999,#REF!,5,FALSE))","v":{"$error":"#N/A"}}]
[301104,{"$f":"IF(A2000=\"\",\"\",VLOOKUP(A2000,[1]ItemConfig!$A:$B,2,FALSE))","v":{"$error":"#N/A"}},{"$f":"IF(A2000=\"\",\"\",VLOOKUP(A2000,[1]ItemConfig!$A:$D,4,FALSE))","v":{"$error":"#N/A"}},{"$f":"IF(A2000=\"\",\"\",VLOOKUP(A2000,[1]ItemConfig!$A:$C,3,FALSE))","v":{"$error":"#N/A"}},{"$f":"IF(A2000=\"\",\"\",VLOOKUP(B2000,#REF!,5,FALSE))","v":{"$error":"#N/A"}},{"$f":"IF(A2000=\"\",\"\",VLOOKUP(C2000,#REF!,5,FALSE))","v":{"$error":"#N/A"}}]
[301105,{"$f":"IF(A2001=\"\",\"\",VLOOKUP(A2001,[1]ItemConfig!$A:$B,2,FALSE))","v":{"$error":"#N/A"}},{"$f":"IF(A2001=\"\",\"\",VLOOKUP(A2001,[1]ItemConfig!$A:$D,4,FALSE))","v":{"$error":"#N/A"}},{"$f":"IF(A2001=\"\",\"\",VLOOKUP(A2001,[1]ItemConfig!$A:$C,3,FALSE))","v":{"$error":"#N/A"}},{"$f":"IF(A2001=\"\",\"\",VLOOKUP(B2001,#REF!,5,FALSE))","v":{"$error":"#N/A"}},{"$f":"IF(A2001=\"\",\"\",VLOOKUP(C2001,#REF!,5,FALSE))","v":{"$error":"#N/A"}}]
[301106,{"$f":"IF(A2002=\"\",\"\",VLOOKUP(A2002,[1]ItemConfig!$A:$B,2,FALSE))","v":{"$error":"#N/A"}},{"$f":"IF(A2002=\"\",\"\",VLOOKUP(A2002,[1]ItemConfig!$A:$D,4,FALSE))","v":{"$error":"#N/A"}},{"$f":"IF(A2002=\"\",\"\",VLOOKUP(A2002,[1]ItemConfig!$A:$C,3,FALSE))","v":{"$error":"#N/A"}},{"$f":"IF(A2002=\"\",\"\",VLOOKUP(B2002,#REF!,5,FALSE))","v":{"$error":"#N/A"}},{"$f":"IF(A2002=\"\",\"\",VLOOKUP(C2002,#REF!,5,FALSE))","v":{"$error":"#N/A"}}]
[301107,{"$f":"IF(A2003=\"\",\"\",VLOOKUP(A2003,[1]ItemConfig!$A:$B,2,FALSE))","v":{"$error":"#N/A"}},{"$f":"IF(A2003=\"\",\"\",VLOOKUP(A2003,[1]ItemConfig!$A:$D,4,FALSE))","v":{"$error":"#N/A"}},{"$f":"IF(A2003=\"\",\"\",VLOOKUP(A2003,[1]ItemConfig!$A:$C,3,FALSE))","v":{"$error":"#N/A"}},{"$f":"IF(A2003=\"\",\"\",VLOOKUP(B2003,#REF!,5,FALSE))","v":{"$error":"#N/A"}},{"$f":"IF(A2003=\"\",\"\",VLOOKUP(C2003,#REF!,5,FALSE))","v":{"$error":"#N/A"}}]
[301108,{"$f":"IF(A2004=\"\",\"\",VLOOKUP(A2004,[1]ItemConfig!$A:$B,2,FALSE))","v":{"$error":"#N/A"}},{"$f":"IF(A2004=\"\",\"\",VLOOKUP(A2004,[1]ItemConfig!$A:$D,4,FALSE))","v":{"$error":"#N/A"}},{"$f":"IF(A2004=\"\",\"\",VLOOKUP(A2004,[1]ItemConfig!$A:$C,3,FALSE))","v":{"$error":"#N/A"}},{"$f":"IF(A2004=\"\",\"\",VLOOKUP(B2004,#REF!,5,FALSE))","v":{"$error":"#N/A"}},{"$f":"IF(A2004=\"\",\"\",VLOOKUP(C2004,#REF!,5,FALSE))","v":{"$error":"#N/A"}}]
[301109,{"$f":"IF(A2005=\"\",\"\",VLOOKUP(A2005,[1]ItemConfig!$A:$B,2,FALSE))","v":{"$error":"#N/A"}},{"$f":"IF(A2005=\"\",\"\",VLOOKUP(A2005,[1]ItemConfig!$A:$D,4,FALSE))","v":{"$error":"#N/A"}},{"$f":"IF(A2005=\"\",\"\",VLOOKUP(A2005,[1]ItemConfig!$A:$C,3,FALSE))","v":{"$error":"#N/A"}},{"$f":"IF(A2005=\"\",\"\",VLOOKUP(B2005,#REF!,5,FALSE))","v":{"$error":"#N/A"}},{"$f":"IF(A2005=\"\",\"\",VLOOKUP(C2005,#REF!,5,FALSE))","v":{"$error":"#N/A"}}]
[301110,{"$f":"IF(A2006=\"\",\"\",VLOOKUP(A2006,[1]ItemConfig!$A:$B,2,FALSE))","v":{"$error":"#N/A"}},{"$f":"IF(A2006=\"\",\"\",VLOOKUP(A2006,[1]ItemConfig!$A:$D,4,FALSE))","v":{"$error":"#N/A"}},{"$f":"IF(A2006=\"\",\"\",VLOOKUP(A2006,[1]ItemConfig!$A:$C,3,FALSE))","v":{"$error":"#N/A"}},{"$f":"IF(A2006=\"\",\"\",VLOOKUP(B2006,#REF!,5,FALSE))","v":{"$error":"#N/A"}},{"$f":"IF(A2006=\"\",\"\",VLOOKUP(C2006,#REF!,5,FALSE))","v":{"$error":"#N/A"}}]
[301111,{"$f":"IF(A2007=\"\",\"\",VLOOKUP(A2007,[1]ItemConfig!$A:$B,2,FALSE))","v":{"$error":"#N/A"}},{"$f":"IF(A2007=\"\",\"\",VLOOKUP(A2007,[1]ItemConfig!$A:$D,4,FALSE))","v":{"$error":"#N/A"}},{"$f":"IF(A2007=\"\",\"\",VLOOKUP(A2007,[1]ItemConfig!$A:$C,3,FALSE))","v":{"$error":"#N/A"}},{"$f":"IF(A2007=\"\",\"\",VLOOKUP(B2007,#REF!,5,FALSE))","v":{"$error":"#N/A"}},{"$f":"IF(A2007=\"\",\"\",VLOOKUP(C2007,#REF!,5,FALSE))","v":{"$error":"#N/A"}}]
[301112,{"$f":"IF(A2008=\"\",\"\",VLOOKUP(A2008,[1]ItemConfig!$A:$B,2,FALSE))","v":{"$error":"#N/A"}},{"$f":"IF(A2008=\"\",\"\",VLOOKUP(A2008,[1]ItemConfig!$A:$D,4,FALSE))","v":{"$error":"#N/A"}},{"$f":"IF(A2008=\"\",\"\",VLOOKUP(A2008,[1]ItemConfig!$A:$C,3,FALSE))","v":{"$error":"#N/A"}},{"$f":"IF(A2008=\"\",\"\",VLOOKUP(B2008,#REF!,5,FALSE))","v":{"$error":"#N/A"}},{"$f":"IF(A2008=\"\",\"\",VLOOKUP(C2008,#REF!,5,FALSE))","v":{"$error":"#N/A"}}]
[301113,{"$f":"IF(A2009=\"\",\"\",VLOOKUP(A2009,[1]ItemConfig!$A:$B,2,FALSE))","v":{"$error":"#N/A"}},{"$f":"IF(A2009=\"\",\"\",VLOOKUP(A2009,[1]ItemConfig!$A:$D,4,FALSE))","v":{"$error":"#N/A"}},{"$f":"IF(A2009=\"\",\"\",VLOOKUP(A2009,[1]ItemConfig!$A:$C,3,FALSE))","v":{"$error":"#N/A"}},{"$f":"IF(A2009=\"\",\"\",VLOOKUP(B2009,#REF!,5,FALSE))","v":{"$error":"#N/A"}},{"$f":"IF(A2009=\"\",\"\",VLOOKUP(C2009,#REF!,5,FALSE))","v":{"$error":"#N/A"}}]
[301114,{"$f":"IF(A2010=\"\",\"\",VLOOKUP(A2010,[1]ItemConfig!$A:$B,2,FALSE))","v":{"$error":"#N/A"}},{"$f":"IF(A2010=\"\",\"\",VLOOKUP(A2010,[1]ItemConfig!$A:$D,4,FALSE))","v":{"$error":"#N/A"}},{"$f":"IF(A2010=\"\",\"\",VLOOKUP(A2010,[1]ItemConfig!$A:$C,3,FALSE))","v":{"$error":"#N/A"}},{"$f":"IF(A2010=\"\",\"\",VLOOKUP(B2010,#REF!,5,FALSE))","v":{"$error":"#N/A"}},{"$f":"IF(A2010=\"\",\"\",VLOOKUP(C2010,#REF!,5,FALSE))","v":{"$error":"#N/A"}}]
[301115,{"$f":"IF(A2011=\"\",\"\",VLOOKUP(A2011,[1]ItemConfig!$A:$B,2,FALSE))","v":{"$error":"#N/A"}},{"$f":"IF(A2011=\"\",\"\",VLOOKUP(A2011,[1]ItemConfig!$A:$D,4,FALSE))","v":{"$error":"#N/A"}},{"$f":"IF(A2011=\"\",\"\",VLOOKUP(A2011,[1]ItemConfig!$A:$C,3,FALSE))","v":{"$error":"#N/A"}},{"$f":"IF(A2011=\"\",\"\",VLOOKUP(B2011,#REF!,5,FALSE))","v":{"$error":"#N/A"}},{"$f":"IF(A2011=\"\",\"\",VLOOKUP(C2011,#REF!,5,FALSE))","v":{"$error":"#N/A"}}]
[301116,{"$f":"IF(A2012=\"\",\"\",VLOOKUP(A2012,[1]ItemConfig!$A:$B,2,FALSE))","v":{"$error":"#N/A"}},{"$f":"IF(A2012=\"\",\"\",VLOOKUP(A2012,[1]ItemConfig!$A:$D,4,FALSE))","v":{"$error":"#N/A"}},{"$f":"IF(A2012=\"\",\"\",VLOOKUP(A2012,[1]ItemConfig!$A:$C,3,FALSE))","v":{"$error":"#N/A"}},{"$f":"IF(A2012=\"\",\"\",VLOOKUP(B2012,#REF!,5,FALSE))","v":{"$error":"#N/A"}},{"$f":"IF(A2012=\"\",\"\",VLOOKUP(C2012,#REF!,5,FALSE))","v":{"$error":"#N/A"}}]
[301117,{"$f":"IF(A2013=\"\",\"\",VLOOKUP(A2013,[1]ItemConfig!$A:$B,2,FALSE))","v":{"$error":"#N/A"}},{"$f":"IF(A2013=\"\",\"\",VLOOKUP(A2013,[1]ItemConfig!$A:$D,4,FALSE))","v":{"$error":"#N/A"}},{"$f":"IF(A2013=\"\",\"\",VLOOKUP(A2013,[1]ItemConfig!$A:$C,3,FALSE))","v":{"$error":"#N/A"}},{"$f":"IF(A2013=\"\",\"\",VLOOKUP(B2013,#REF!,5,FALSE))","v":{"$error":"#N/A"}},{"$f":"IF(A2013=\"\",\"\",VLOOKUP(C2013,#REF!,5,FALSE))","v":{"$error":"#N/A"}}]
[301118,{"$f":"IF(A2014=\"\",\"\",VLOOKUP(A2014,[1]ItemConfig!$A:$B,2,FALSE))","v":{"$error":"#N/A"}},{"$f":"IF(A2014=\"\",\"\",VLOOKUP(A2014,[1]ItemConfig!$A:$D,4,FALSE))","v":{"$error":"#N/A"}},{"$f":"IF(A2014=\"\",\"\",VLOOKUP(A2014,[1]ItemConfig!$A:$C,3,FALSE))","v":{"$error":"#N/A"}},{"$f":"IF(A2014=\"\",\"\",VLOOKUP(B2014,#REF!,5,FALSE))","v":{"$error":"#N/A"}},{"$f":"IF(A2014=\"\",\"\",VLOOKUP(C2014,#REF!,5,FALSE))","v":{"$error":"#N/A"}}]
[301119,{"$f":"IF(A2015=\"\",\"\",VLOOKUP(A2015,[1]ItemConfig!$A:$B,2,FALSE))","v":{"$error":"#N/A"}},{"$f":"IF(A2015=\"\",\"\",VLOOKUP(A2015,[1]ItemConfig!$A:$D,4,FALSE))","v":{"$error":"#N/A"}},{"$f":"IF(A2015=\"\",\"\",VLOOKUP(A2015,[1]ItemConfig!$A:$C,3,FALSE))","v":{"$error":"#N/A"}},{"$f":"IF(A2015=\"\",\"\",VLOOKUP(B2015,#REF!,5,FALSE))","v":{"$error":"#N/A"}},{"$f":"IF(A2015=\"\",\"\",VLOOKUP(C2015,#REF!,5,FALSE))","v":{"$error":"#N/A"}}]
[301120,{"$f":"IF(A2016=\"\",\"\",VLOOKUP(A2016,[1]ItemConfig!$A:$B,2,FALSE))","v":{"$error":"#N/A"}},{"$f":"IF(A2016=\"\",\"\",VLOOKUP(A2016,[1]ItemConfig!$A:$D,4,FALSE))","v":{"$error":"#N/A"}},{"$f":"IF(A2016=\"\",\"\",VLOOKUP(A2016,[1]ItemConfig!$A:$C,3,FALSE))","v":{"$error":"#N/A"}},{"$f":"IF(A2016=\"\",\"\",VLOOKUP(B2016,#REF!,5,FALSE))","v":{"$error":"#N/A"}},{"$f":"IF(A2016=\"\",\"\",VLOOKUP(C2016,#REF!,5,FALSE))","v":{"$error":"#N/A"}}]
[301121,{"$f":"IF(A2017=\"\",\"\",VLOOKUP(A2017,[1]ItemConfig!$A:$B,2,FALSE))","v":{"$error":"#N/A"}},{"$f":"IF(A2017=\"\",\"\",VLOOKUP(A2017,[1]ItemConfig!$A:$D,4,FALSE))","v":{"$error":"#N/A"}},{"$f":"IF(A2017=\"\",\"\",VLOOKUP(A2017,[1]ItemConfig!$A:$C,3,FALSE))","v":{"$error":"#N/A"}},{"$f":"IF(A2017=\"\",\"\",VLOOKUP(B2017,#REF!,5,FALSE))","v":{"$error":"#N/A"}},{"$f":"IF(A2017=\"\",\"\",VLOOKUP(C2017,#REF!,5,FALSE))","v":{"$error":"#N/A"}}]
[301122,{"$f":"IF(A2018=\"\",\"\",VLOOKUP(A2018,[1]ItemConfig!$A:$B,2,FALSE))","v":{"$error":"#N/A"}},{"$f":"IF(A2018=\"\",\"\",VLOOKUP(A2018,[1]ItemConfig!$A:$D,4,FALSE))","v":{"$error":"#N/A"}},{"$f":"IF(A2018=\"\",\"\",VLOOKUP(A2018,[1]ItemConfig!$A:$C,3,FALSE))","v":{"$error":"#N/A"}},{"$f":"IF(A2018=\"\",\"\",VLOOKUP(B2018,#REF!,5,FALSE))","v":{"$error":"#N/A"}},{"$f":"IF(A2018=\"\",\"\",VLOOKUP(C2018,#REF!,5,FALSE))","v":{"$error":"#N/A"}}]
[301123,{"$f":"IF(A2019=\"\",\"\",VLOOKUP(A2019,[1]ItemConfig!$A:$B,2,FALSE))","v":{"$error":"#N/A"}},{"$f":"IF(A2019=\"\",\"\",VLOOKUP(A2019,[1]ItemConfig!$A:$D,4,FALSE))","v":{"$error":"#N/A"}},{"$f":"IF(A2019=\"\",\"\",VLOOKUP(A2019,[1]ItemConfig!$A:$C,3,FALSE))","v":{"$error":"#N/A"}},{"$f":"IF(A2019=\"\",\"\",VLOOKUP(B2019,#REF!,5,FALSE))","v":{"$error":"#N/A"}},{"$f":"IF(A2019=\"\",\"\",VLOOKUP(C2019,#REF!,5,FALSE))","v":{"$error":"#N/A"}}]
[301124,{"$f":"IF(A2020=\"\",\"\",VLOOKUP(A2020,[1]ItemConfig!$A:$B,2,FALSE))","v":{"$error":"#N/A"}},{"$f":"IF(A2020=\"\",\"\",VLOOKUP(A2020,[1]ItemConfig!$A:$D,4,FALSE))","v":{"$error":"#N/A"}},{"$f":"IF(A2020=\"\",\"\",VLOOKUP(A2020,[1]ItemConfig!$A:$C,3,FALSE))","v":{"$error":"#N/A"}},{"$f":"IF(A2020=\"\",\"\",VLOOKUP(B2020,#REF!,5,FALSE))","v":{"$error":"#N/A"}},{"$f":"IF(A2020=\"\",\"\",VLOOKUP(C2020,#REF!,5,FALSE))","v":{"$error":"#N/A"}}]
[301125,{"$f":"IF(A2021=\"\",\"\",VLOOKUP(A2021,[1]ItemConfig!$A:$B,2,FALSE))","v":{"$error":"#N/A"}},{"$f":"IF(A2021=\"\",\"\",VLOOKUP(A2021,[1]ItemConfig!$A:$D,4,FALSE))","v":{"$error":"#N/A"}},{"$f":"IF(A2021=\"\",\"\",VLOOKUP(A2021,[1]ItemConfig!$A:$C,3,FALSE))","v":{"$error":"#N/A"}},{"$f":"IF(A2021=\"\",\"\",VLOOKUP(B2021,#REF!,5,FALSE))","v":{"$error":"#N/A"}},{"$f":"IF(A2021=\"\",\"\",VLOOKUP(C2021,#REF!,5,FALSE))","v":{"$error":"#N/A"}}]
[301126,{"$f":"IF(A2022=\"\",\"\",VLOOKUP(A2022,[1]ItemConfig!$A:$B,2,FALSE))","v":{"$error":"#N/A"}},{"$f":"IF(A2022=\"\",\"\",VLOOKUP(A2022,[1]ItemConfig!$A:$D,4,FALSE))","v":{"$error":"#N/A"}},{"$f":"IF(A2022=\"\",\"\",VLOOKUP(A2022,[1]ItemConfig!$A:$C,3,FALSE))","v":{"$error":"#N/A"}},{"$f":"IF(A2022=\"\",\"\",VLOOKUP(B2022,#REF!,5,FALSE))","v":{"$error":"#N/A"}},{"$f":"IF(A2022=\"\",\"\",VLOOKUP(C2022,#REF!,5,FALSE))","v":{"$error":"#N/A"}}]
[301127,{"$f":"IF(A2023=\"\",\"\",VLOOKUP(A2023,[1]ItemConfig!$A:$B,2,FALSE))","v":{"$error":"#N/A"}},{"$f":"IF(A2023=\"\",\"\",VLOOKUP(A2023,[1]ItemConfig!$A:$D,4,FALSE))","v":{"$error":"#N/A"}},{"$f":"IF(A2023=\"\",\"\",VLOOKUP(A2023,[1]ItemConfig!$A:$C,3,FALSE))","v":{"$error":"#N/A"}},{"$f":"IF(A2023=\"\",\"\",VLOOKUP(B2023,#REF!,5,FALSE))","v":{"$error":"#N/A"}},{"$f":"IF(A2023=\"\",\"\",VLOOKUP(C2023,#REF!,5,FALSE))","v":{"$error":"#N/A"}}]
[301128,{"$f":"IF(A2024=\"\",\"\",VLOOKUP(A2024,[1]ItemConfig!$A:$B,2,FALSE))","v":{"$error":"#N/A"}},{"$f":"IF(A2024=\"\",\"\",VLOOKUP(A2024,[1]ItemConfig!$A:$D,4,FALSE))","v":{"$error":"#N/A"}},{"$f":"IF(A2024=\"\",\"\",VLOOKUP(A2024,[1]ItemConfig!$A:$C,3,FALSE))","v":{"$error":"#N/A"}},{"$f":"IF(A2024=\"\",\"\",VLOOKUP(B2024,#REF!,5,FALSE))","v":{"$error":"#N/A"}},{"$f":"IF(A2024=\"\",\"\",VLOOKUP(C2024,#REF!,5,FALSE))","v":{"$error":"#N/A"}}]
[301129,{"$f":"IF(A2025=\"\",\"\",VLOOKUP(A2025,[1]ItemConfig!$A:$B,2,FALSE))","v":{"$error":"#N/A"}},{"$f":"IF(A2025=\"\",\"\",VLOOKUP(A2025,[1]ItemConfig!$A:$D,4,FALSE))","v":{"$error":"#N/A"}},{"$f":"IF(A2025=\"\",\"\",VLOOKUP(A2025,[1]ItemConfig!$A:$C,3,FALSE))","v":{"$error":"#N/A"}},{"$f":"IF(A2025=\"\",\"\",VLOOKUP(B2025,#REF!,5,FALSE))","v":{"$error":"#N/A"}},{"$f":"IF(A2025=\"\",\"\",VLOOKUP(C2025,#REF!,5,FALSE))","v":{"$error":"#N/A"}}]
[301130,{"$f":"IF(A2026=\"\",\"\",VLOOKUP(A2026,[1]ItemConfig!$A:$B,2,FALSE))","v":{"$error":"#N/A"}},{"$f":"IF(A2026=\"\",\"\",VLOOKUP(A2026,[1]ItemConfig!$A:$D,4,FALSE))","v":{"$error":"#N/A"}},{"$f":"IF(A2026=\"\",\"\",VLOOKUP(A2026,[1]ItemConfig!$A:$C,3,FALSE))","v":{"$error":"#N/A"}},{"$f":"IF(A2026=\"\",\"\",VLOOKUP(B2026,#REF!,5,FALSE))","v":{"$error":"#N/A"}},{"$f":"IF(A2026=\"\",\"\",VLOOKUP(C2026,#REF!,5,FALSE))","v":{"$error":"#N/A"}}]
[301131,{"$f":"IF(A2027=\"\",\"\",VLOOKUP(A2027,[1]ItemConfig!$A:$B,2,FALSE))","v":{"$error":"#N/A"}},{"$f":"IF(A2027=\"\",\"\",VLOOKUP(A2027,[1]ItemConfig!$A:$D,4,FALSE))","v":{"$error":"#N/A"}},{"$f":"IF(A2027=\"\",\"\",VLOOKUP(A2027,[1]ItemConfig!$A:$C,3,FALSE))","v":{"$error":"#N/A"}},{"$f":"IF(A2027=\"\",\"\",VLOOKUP(B2027,#REF!,5,FALSE))","v":{"$error":"#N/A"}},{"$f":"IF(A2027=\"\",\"\",VLOOKUP(C2027,#REF!,5,FALSE))","v":{"$error":"#N/A"}}]
[301132,{"$f":"IF(A2028=\"\",\"\",VLOOKUP(A2028,[1]ItemConfig!$A:$B,2,FALSE))","v":{"$error":"#N/A"}},{"$f":"IF(A2028=\"\",\"\",VLOOKUP(A2028,[1]ItemConfig!$A:$D,4,FALSE))","v":{"$error":"#N/A"}},{"$f":"IF(A2028=\"\",\"\",VLOOKUP(A2028,[1]ItemConfig!$A:$C,3,FALSE))","v":{"$error":"#N/A"}},{"$f":"IF(A2028=\"\",\"\",VLOOKUP(B2028,#REF!,5,FALSE))","v":{"$error":"#N/A"}},{"$f":"IF(A2028=\"\",\"\",VLOOKUP(C2028,#REF!,5,FALSE))","v":{"$error":"#N/A"}}]
[301133,{"$f":"IF(A2029=\"\",\"\",VLOOKUP(A2029,[1]ItemConfig!$A:$B,2,FALSE))","v":{"$error":"#N/A"}},{"$f":"IF(A2029=\"\",\"\",VLOOKUP(A2029,[1]ItemConfig!$A:$D,4,FALSE))","v":{"$error":"#N/A"}},{"$f":"IF(A2029=\"\",\"\",VLOOKUP(A2029,[1]ItemConfig!$A:$C,3,FALSE))","v":{"$error":"#N/A"}},{"$f":"IF(A2029=\"\",\"\",VLOOKUP(B2029,#REF!,5,FALSE))","v":{"$error":"#N/A"}},{"$f":"IF(A2029=\"\",\"\",VLOOKUP(C2029,#REF!,5,FALSE))","v":{"$error":"#N/A"}}]
[301134,{"$f":"IF(A2030=\"\",\"\",VLOOKUP(A2030,[1]ItemConfig!$A:$B,2,FALSE))","v":{"$error":"#N/A"}},{"$f":"IF(A2030=\"\",\"\",VLOOKUP(A2030,[1]ItemConfig!$A:$D,4,FALSE))","v":{"$error":"#N/A"}},{"$f":"IF(A2030=\"\",\"\",VLOOKUP(A2030,[1]ItemConfig!$A:$C,3,FALSE))","v":{"$error":"#N/A"}},{"$f":"IF(A2030=\"\",\"\",VLOOKUP(B2030,#REF!,5,FALSE))","v":{"$error":"#N/A"}},{"$f":"IF(A2030=\"\",\"\",VLOOKUP(C2030,#REF!,5,FALSE))","v":{"$error":"#N/A"}}]
[301135,{"$f":"IF(A2031=\"\",\"\",VLOOKUP(A2031,[1]ItemConfig!$A:$B,2,FALSE))","v":{"$error":"#N/A"}},{"$f":"IF(A2031=\"\",\"\",VLOOKUP(A2031,[1]ItemConfig!$A:$D,4,FALSE))","v":{"$error":"#N/A"}},{"$f":"IF(A2031=\"\",\"\",VLOOKUP(A2031,[1]ItemConfig!$A:$C,3,FALSE))","v":{"$error":"#N/A"}},{"$f":"IF(A2031=\"\",\"\",VLOOKUP(B2031,#REF!,5,FALSE))","v":{"$error":"#N/A"}},{"$f":"IF(A2031=\"\",\"\",VLOOKUP(C2031,#REF!,5,FALSE))","v":{"$error":"#N/A"}}]
[301136,{"$f":"IF(A2032=\"\",\"\",VLOOKUP(A2032,[1]ItemConfig!$A:$B,2,FALSE))","v":{"$error":"#N/A"}},{"$f":"IF(A2032=\"\",\"\",VLOOKUP(A2032,[1]ItemConfig!$A:$D,4,FALSE))","v":{"$error":"#N/A"}},{"$f":"IF(A2032=\"\",\"\",VLOOKUP(A2032,[1]ItemConfig!$A:$C,3,FALSE))","v":{"$error":"#N/A"}},{"$f":"IF(A2032=\"\",\"\",VLOOKUP(B2032,#REF!,5,FALSE))","v":{"$error":"#N/A"}},{"$f":"IF(A2032=\"\",\"\",VLOOKUP(C2032,#REF!,5,FALSE))","v":{"$error":"#N/A"}}]
[301137,{"$f":"IF(A2033=\"\",\"\",VLOOKUP(A2033,[1]ItemConfig!$A:$B,2,FALSE))","v":{"$error":"#N/A"}},{"$f":"IF(A2033=\"\",\"\",VLOOKUP(A2033,[1]ItemConfig!$A:$D,4,FALSE))","v":{"$error":"#N/A"}},{"$f":"IF(A2033=\"\",\"\",VLOOKUP(A2033,[1]ItemConfig!$A:$C,3,FALSE))","v":{"$error":"#N/A"}},{"$f":"IF(A2033=\"\",\"\",VLOOKUP(B2033,#REF!,5,FALSE))","v":{"$error":"#N/A"}},{"$f":"IF(A2033=\"\",\"\",VLOOKUP(C2033,#REF!,5,FALSE))","v":{"$error":"#N/A"}}]
[301138,{"$f":"IF(A2034=\"\",\"\",VLOOKUP(A2034,[1]ItemConfig!$A:$B,2,FALSE))","v":{"$error":"#N/A"}},{"$f":"IF(A2034=\"\",\"\",VLOOKUP(A2034,[1]ItemConfig!$A:$D,4,FALSE))","v":{"$error":"#N/A"}},{"$f":"IF(A2034=\"\",\"\",VLOOKUP(A2034,[1]ItemConfig!$A:$C,3,FALSE))","v":{"$error":"#N/A"}},{"$f":"IF(A2034=\"\",\"\",VLOOKUP(B2034,#REF!,5,FALSE))","v":{"$error":"#N/A"}},{"$f":"IF(A2034=\"\",\"\",VLOOKUP(C2034,#REF!,5,FALSE))","v":{"$error":"#N/A"}}]
[301139,{"$f":"IF(A2035=\"\",\"\",VLOOKUP(A2035,[1]ItemConfig!$A:$B,2,FALSE))","v":{"$error":"#N/A"}},{"$f":"IF(A2035=\"\",\"\",VLOOKUP(A2035,[1]ItemConfig!$A:$D,4,FALSE))","v":{"$error":"#N/A"}},{"$f":"IF(A2035=\"\",\"\",VLOOKUP(A2035,[1]ItemConfig!$A:$C,3,FALSE))","v":{"$error":"#N/A"}},{"$f":"IF(A2035=\"\",\"\",VLOOKUP(B2035,#REF!,5,FALSE))","v":{"$error":"#N/A"}},{"$f":"IF(A2035=\"\",\"\",VLOOKUP(C2035,#REF!,5,FALSE))","v":{"$error":"#N/A"}}]
[301140,{"$f":"IF(A2036=\"\",\"\",VLOOKUP(A2036,[1]ItemConfig!$A:$B,2,FALSE))","v":{"$error":"#N/A"}},{"$f":"IF(A2036=\"\",\"\",VLOOKUP(A2036,[1]ItemConfig!$A:$D,4,FALSE))","v":{"$error":"#N/A"}},{"$f":"IF(A2036=\"\",\"\",VLOOKUP(A2036,[1]ItemConfig!$A:$C,3,FALSE))","v":{"$error":"#N/A"}},{"$f":"IF(A2036=\"\",\"\",VLOOKUP(B2036,#REF!,5,FALSE))","v":{"$error":"#N/A"}},{"$f":"IF(A2036=\"\",\"\",VLOOKUP(C2036,#REF!,5,FALSE))","v":{"$error":"#N/A"}}]
[301141,{"$f":"IF(A2037=\"\",\"\",VLOOKUP(A2037,[1]ItemConfig!$A:$B,2,FALSE))","v":{"$error":"#N/A"}},{"$f":"IF(A2037=\"\",\"\",VLOOKUP(A2037,[1]ItemConfig!$A:$D,4,FALSE))","v":{"$error":"#N/A"}},{"$f":"IF(A2037=\"\",\"\",VLOOKUP(A2037,[1]ItemConfig!$A:$C,3,FALSE))","v":{"$error":"#N/A"}},{"$f":"IF(A2037=\"\",\"\",VLOOKUP(B2037,#REF!,5,FALSE))","v":{"$error":"#N/A"}},{"$f":"IF(A2037=\"\",\"\",VLOOKUP(C2037,#REF!,5,FALSE))","v":{"$error":"#N/A"}}]
[301142,{"$f":"IF(A2038=\"\",\"\",VLOOKUP(A2038,[1]ItemConfig!$A:$B,2,FALSE))","v":{"$error":"#N/A"}},{"$f":"IF(A2038=\"\",\"\",VLOOKUP(A2038,[1]ItemConfig!$A:$D,4,FALSE))","v":{"$error":"#N/A"}},{"$f":"IF(A2038=\"\",\"\",VLOOKUP(A2038,[1]ItemConfig!$A:$C,3,FALSE))","v":{"$error":"#N/A"}},{"$f":"IF(A2038=\"\",\"\",VLOOKUP(B2038,#REF!,5,FALSE))","v":{"$error":"#N/A"}},{"$f":"IF(A2038=\"\",\"\",VLOOKUP(C2038,#REF!,5,FALSE))","v":{"$error":"#N/A"}}]
[301143,{"$f":"IF(A2039=\"\",\"\",VLOOKUP(A2039,[1]ItemConfig!$A:$B,2,FALSE))","v":{"$error":"#N/A"}},{"$f":"IF(A2039=\"\",\"\",VLOOKUP(A2039,[1]ItemConfig!$A:$D,4,FALSE))","v":{"$error":"#N/A"}},{"$f":"IF(A2039=\"\",\"\",VLOOKUP(A2039,[1]ItemConfig!$A:$C,3,FALSE))","v":{"$error":"#N/A"}},{"$f":"IF(A2039=\"\",\"\",VLOOKUP(B2039,#REF!,5,FALSE))","v":{"$error":"#N/A"}},{"$f":"IF(A2039=\"\",\"\",VLOOKUP(C2039,#REF!,5,FALSE))","v":{"$error":"#N/A"}}]
[301144,{"$f":"IF(A2040=\"\",\"\",VLOOKUP(A2040,[1]ItemConfig!$A:$B,2,FALSE))","v":{"$error":"#N/A"}},{"$f":"IF(A2040=\"\",\"\",VLOOKUP(A2040,[1]ItemConfig!$A:$D,4,FALSE))","v":{"$error":"#N/A"}},{"$f":"IF(A2040=\"\",\"\",VLOOKUP(A2040,[1]ItemConfig!$A:$C,3,FALSE))","v":{"$error":"#N/A"}},{"$f":"IF(A2040=\"\",\"\",VLOOKUP(B2040,#REF!,5,FALSE))","v":{"$error":"#N/A"}},{"$f":"IF(A2040=\"\",\"\",VLOOKUP(C2040,#REF!,5,FALSE))","v":{"$error":"#N/A"}}]
[301145,{"$f":"IF(A2041=\"\",\"\",VLOOKUP(A2041,[1]ItemConfig!$A:$B,2,FALSE))","v":{"$error":"#N/A"}},{"$f":"IF(A2041=\"\",\"\",VLOOKUP(A2041,[1]ItemConfig!$A:$D,4,FALSE))","v":{"$error":"#N/A"}},{"$f":"IF(A2041=\"\",\"\",VLOOKUP(A2041,[1]ItemConfig!$A:$C,3,FALSE))","v":{"$error":"#N/A"}},{"$f":"IF(A2041=\"\",\"\",VLOOKUP(B2041,#REF!,5,FALSE))","v":{"$error":"#N/A"}},{"$f":"IF(A2041=\"\",\"\",VLOOKUP(C2041,#REF!,5,FALSE))","v":{"$error":"#N/A"}}]
[301146,{"$f":"IF(A2042=\"\",\"\",VLOOKUP(A2042,[1]ItemConfig!$A:$B,2,FALSE))","v":{"$error":"#N/A"}},{"$f":"IF(A2042=\"\",\"\",VLOOKUP(A2042,[1]ItemConfig!$A:$D,4,FALSE))","v":{"$error":"#N/A"}},{"$f":"IF(A2042=\"\",\"\",VLOOKUP(A2042,[1]ItemConfig!$A:$C,3,FALSE))","v":{"$error":"#N/A"}},{"$f":"IF(A2042=\"\",\"\",VLOOKUP(B2042,#REF!,5,FALSE))","v":{"$error":"#N/A"}},{"$f":"IF(A2042=\"\",\"\",VLOOKUP(C2042,#REF!,5,FALSE))","v":{"$error":"#N/A"}}]
[301147,{"$f":"IF(A2043=\"\",\"\",VLOOKUP(A2043,[1]ItemConfig!$A:$B,2,FALSE))","v":{"$error":"#N/A"}},{"$f":"IF(A2043=\"\",\"\",VLOOKUP(A2043,[1]ItemConfig!$A:$D,4,FALSE))","v":{"$error":"#N/A"}},{"$f":"IF(A2043=\"\",\"\",VLOOKUP(A2043,[1]ItemConfig!$A:$C,3,FALSE))","v":{"$error":"#N/A"}},{"$f":"IF(A2043=\"\",\"\",VLOOKUP(B2043,#REF!,5,FALSE))","v":{"$error":"#N/A"}},{"$f":"IF(A2043=\"\",\"\",VLOOKUP(C2043,#REF!,5,FALSE))","v":{"$error":"#N/A"}}]
[301148,{"$f":"IF(A2044=\"\",\"\",VLOOKUP(A2044,[1]ItemConfig!$A:$B,2,FALSE))","v":{"$error":"#N/A"}},{"$f":"IF(A2044=\"\",\"\",VLOOKUP(A2044,[1]ItemConfig!$A:$D,4,FALSE))","v":{"$error":"#N/A"}},{"$f":"IF(A2044=\"\",\"\",VLOOKUP(A2044,[1]ItemConfig!$A:$C,3,FALSE))","v":{"$error":"#N/A"}},{"$f":"IF(A2044=\"\",\"\",VLOOKUP(B2044,#REF!,5,FALSE))","v":{"$error":"#N/A"}},{"$f":"IF(A2044=\"\",\"\",VLOOKUP(C2044,#REF!,5,FALSE))","v":{"$error":"#N/A"}}]
[301149,{"$f":"IF(A2045=\"\",\"\",VLOOKUP(A2045,[1]ItemConfig!$A:$B,2,FALSE))","v":{"$error":"#N/A"}},{"$f":"IF(A2045=\"\",\"\",VLOOKUP(A2045,[1]ItemConfig!$A:$D,4,FALSE))","v":{"$error":"#N/A"}},{"$f":"IF(A2045=\"\",\"\",VLOOKUP(A2045,[1]ItemConfig!$A:$C,3,FALSE))","v":{"$error":"#N/A"}},{"$f":"IF(A2045=\"\",\"\",VLOOKUP(B2045,#REF!,5,FALSE))","v":{"$error":"#N/A"}},{"$f":"IF(A2045=\"\",\"\",VLOOKUP(C2045,#REF!,5,FALSE))","v":{"$error":"#N/A"}}]
[301150,{"$f":"IF(A2046=\"\",\"\",VLOOKUP(A2046,[1]ItemConfig!$A:$B,2,FALSE))","v":{"$error":"#N/A"}},{"$f":"IF(A2046=\"\",\"\",VLOOKUP(A2046,[1]ItemConfig!$A:$D,4,FALSE))","v":{"$error":"#N/A"}},{"$f":"IF(A2046=\"\",\"\",VLOOKUP(A2046,[1]ItemConfig!$A:$C,3,FALSE))","v":{"$error":"#N/A"}},{"$f":"IF(A2046=\"\",\"\",VLOOKUP(B2046,#REF!,5,FALSE))","v":{"$error":"#N/A"}},{"$f":"IF(A2046=\"\",\"\",VLOOKUP(C2046,#REF!,5,FALSE))","v":{"$error":"#N/A"}}]
[301151,{"$f":"IF(A2047=\"\",\"\",VLOOKUP(A2047,[1]ItemConfig!$A:$B,2,FALSE))","v":{"$error":"#N/A"}},{"$f":"IF(A2047=\"\",\"\",VLOOKUP(A2047,[1]ItemConfig!$A:$D,4,FALSE))","v":{"$error":"#N/A"}},{"$f":"IF(A2047=\"\",\"\",VLOOKUP(A2047,[1]ItemConfig!$A:$C,3,FALSE))","v":{"$error":"#N/A"}},{"$f":"IF(A2047=\"\",\"\",VLOOKUP(B2047,#REF!,5,FALSE))","v":{"$error":"#N/A"}},{"$f":"IF(A2047=\"\",\"\",VLOOKUP(C2047,#REF!,5,FALSE))","v":{"$error":"#N/A"}}]
[301152,{"$f":"IF(A2048=\"\",\"\",VLOOKUP(A2048,[1]ItemConfig!$A:$B,2,FALSE))","v":{"$error":"#N/A"}},{"$f":"IF(A2048=\"\",\"\",VLOOKUP(A2048,[1]ItemConfig!$A:$D,4,FALSE))","v":{"$error":"#N/A"}},{"$f":"IF(A2048=\"\",\"\",VLOOKUP(A2048,[1]ItemConfig!$A:$C,3,FALSE))","v":{"$error":"#N/A"}},{"$f":"IF(A2048=\"\",\"\",VLOOKUP(B2048,#REF!,5,FALSE))","v":{"$error":"#N/A"}},{"$f":"IF(A2048=\"\",\"\",VLOOKUP(C2048,#REF!,5,FALSE))","v":{"$error":"#N/A"}}]
[301153,{"$f":"IF(A2049=\"\",\"\",VLOOKUP(A2049,[1]ItemConfig!$A:$B,2,FALSE))","v":{"$error":"#N/A"}},{"$f":"IF(A2049=\"\",\"\",VLOOKUP(A2049,[1]ItemConfig!$A:$D,4,FALSE))","v":{"$error":"#N/A"}},{"$f":"IF(A2049=\"\",\"\",VLOOKUP(A2049,[1]ItemConfig!$A:$C,3,FALSE))","v":{"$error":"#N/A"}},{"$f":"IF(A2049=\"\",\"\",VLOOKUP(B2049,#REF!,5,FALSE))","v":{"$error":"#N/A"}},{"$f":"IF(A2049=\"\",\"\",VLOOKUP(C2049,#REF!,5,FALSE))","v":{"$error":"#N/A"}}]
[301154,{"$f":"IF(A2050=\"\",\"\",VLOOKUP(A2050,[1]ItemConfig!$A:$B,2,FALSE))","v":{"$error":"#N/A"}},{"$f":"IF(A2050=\"\",\"\",VLOOKUP(A2050,[1]ItemConfig!$A:$D,4,FALSE))","v":{"$error":"#N/A"}},{"$f":"IF(A2050=\"\",\"\",VLOOKUP(A2050,[1]ItemConfig!$A:$C,3,FALSE))","v":{"$error":"#N/A"}},{"$f":"IF(A2050=\"\",\"\",VLOOKUP(B2050,#REF!,5,FALSE))","v":{"$error":"#N/A"}},{"$f":"IF(A2050=\"\",\"\",VLOOKUP(C2050,#REF!,5,FALSE))","v":{"$error":"#N/A"}}]
[301155,{"$f":"IF(A2051=\"\",\"\",VLOOKUP(A2051,[1]ItemConfig!$A:$B,2,FALSE))","v":{"$error":"#N/A"}},{"$f":"IF(A2051=\"\",\"\",VLOOKUP(A2051,[1]ItemConfig!$A:$D,4,FALSE))","v":{"$error":"#N/A"}},{"$f":"IF(A2051=\"\",\"\",VLOOKUP(A2051,[1]ItemConfig!$A:$C,3,FALSE))","v":{"$error":"#N/A"}},{"$f":"IF(A2051=\"\",\"\",VLOOKUP(B2051,#REF!,5,FALSE))","v":{"$error":"#N/A"}},{"$f":"IF(A2051=\"\",\"\",VLOOKUP(C2051,#REF!,5,FALSE))","v":{"$error":"#N/A"}}]
[301156,{"$f":"IF(A2052=\"\",\"\",VLOOKUP(A2052,[1]ItemConfig!$A:$B,2,FALSE))","v":{"$error":"#N/A"}},{"$f":"IF(A2052=\"\",\"\",VLOOKUP(A2052,[1]ItemConfig!$A:$D,4,FALSE))","v":{"$error":"#N/A"}},{"$f":"IF(A2052=\"\",\"\",VLOOKUP(A2052,[1]ItemConfig!$A:$C,3,FALSE))","v":{"$error":"#N/A"}},{"$f":"IF(A2052=\"\",\"\",VLOOKUP(B2052,#REF!,5,FALSE))","v":{"$error":"#N/A"}},{"$f":"IF(A2052=\"\",\"\",VLOOKUP(C2052,#REF!,5,FALSE))","v":{"$error":"#N/A"}}]
[301157,{"$f":"IF(A2053=\"\",\"\",VLOOKUP(A2053,[1]ItemConfig!$A:$B,2,FALSE))","v":{"$error":"#N/A"}},{"$f":"IF(A2053=\"\",\"\",VLOOKUP(A2053,[1]ItemConfig!$A:$D,4,FALSE))","v":{"$error":"#N/A"}},{"$f":"IF(A2053=\"\",\"\",VLOOKUP(A2053,[1]ItemConfig!$A:$C,3,FALSE))","v":{"$error":"#N/A"}},{"$f":"IF(A2053=\"\",\"\",VLOOKUP(B2053,#REF!,5,FALSE))","v":{"$error":"#N/A"}},{"$f":"IF(A2053=\"\",\"\",VLOOKUP(C2053,#REF!,5,FALSE))","v":{"$error":"#N/A"}}]
[301158,{"$f":"IF(A2054=\"\",\"\",VLOOKUP(A2054,[1]ItemConfig!$A:$B,2,FALSE))","v":{"$error":"#N/A"}},{"$f":"IF(A2054=\"\",\"\",VLOOKUP(A2054,[1]ItemConfig!$A:$D,4,FALSE))","v":{"$error":"#N/A"}},{"$f":"IF(A2054=\"\",\"\",VLOOKUP(A2054,[1]ItemConfig!$A:$C,3,FALSE))","v":{"$error":"#N/A"}},{"$f":"IF(A2054=\"\",\"\",VLOOKUP(B2054,#REF!,5,FALSE))","v":{"$error":"#N/A"}},{"$f":"IF(A2054=\"\",\"\",VLOOKUP(C2054,#REF!,5,FALSE))","v":{"$error":"#N/A"}}]
[301159,{"$f":"IF(A2055=\"\",\"\",VLOOKUP(A2055,[1]ItemConfig!$A:$B,2,FALSE))","v":{"$error":"#N/A"}},{"$f":"IF(A2055=\"\",\"\",VLOOKUP(A2055,[1]ItemConfig!$A:$D,4,FALSE))","v":{"$error":"#N/A"}},{"$f":"IF(A2055=\"\",\"\",VLOOKUP(A2055,[1]ItemConfig!$A:$C,3,FALSE))","v":{"$error":"#N/A"}},{"$f":"IF(A2055=\"\",\"\",VLOOKUP(B2055,#REF!,5,FALSE))","v":{"$error":"#N/A"}},{"$f":"IF(A2055=\"\",\"\",VLOOKUP(C2055,#REF!,5,FALSE))","v":{"$error":"#N/A"}}]
[301160,{"$f":"IF(A2056=\"\",\"\",VLOOKUP(A2056,[1]ItemConfig!$A:$B,2,FALSE))","v":{"$error":"#N/A"}},{"$f":"IF(A2056=\"\",\"\",VLOOKUP(A2056,[1]ItemConfig!$A:$D,4,FALSE))","v":{"$error":"#N/A"}},{"$f":"IF(A2056=\"\",\"\",VLOOKUP(A2056,[1]ItemConfig!$A:$C,3,FALSE))","v":{"$error":"#N/A"}},{"$f":"IF(A2056=\"\",\"\",VLOOKUP(B2056,#REF!,5,FALSE))","v":{"$error":"#N/A"}},{"$f":"IF(A2056=\"\",\"\",VLOOKUP(C2056,#REF!,5,FALSE))","v":{"$error":"#N/A"}}]
[301161,{"$f":"IF(A2057=\"\",\"\",VLOOKUP(A2057,[1]ItemConfig!$A:$B,2,FALSE))","v":{"$error":"#N/A"}},{"$f":"IF(A2057=\"\",\"\",VLOOKUP(A2057,[1]ItemConfig!$A:$D,4,FALSE))","v":{"$error":"#N/A"}},{"$f":"IF(A2057=\"\",\"\",VLOOKUP(A2057,[1]ItemConfig!$A:$C,3,FALSE))","v":{"$error":"#N/A"}},{"$f":"IF(A2057=\"\",\"\",VLOOKUP(B2057,#REF!,5,FALSE))","v":{"$error":"#N/A"}},{"$f":"IF(A2057=\"\",\"\",VLOOKUP(C2057,#REF!,5,FALSE))","v":{"$error":"#N/A"}}]
[301162,{"$f":"IF(A2058=\"\",\"\",VLOOKUP(A2058,[1]ItemConfig!$A:$B,2,FALSE))","v":{"$error":"#N/A"}},{"$f":"IF(A2058=\"\",\"\",VLOOKUP(A2058,[1]ItemConfig!$A:$D,4,FALSE))","v":{"$error":"#N/A"}},{"$f":"IF(A2058=\"\",\"\",VLOOKUP(A2058,[1]ItemConfig!$A:$C,3,FALSE))","v":{"$error":"#N/A"}},{"$f":"IF(A2058=\"\",\"\",VLOOKUP(B2058,#REF!,5,FALSE))","v":{"$error":"#N/A"}},{"$f":"IF(A2058=\"\",\"\",VLOOKUP(C2058,#REF!,5,FALSE))","v":{"$error":"#N/A"}}]
[301163,{"$f":"IF(A2059=\"\",\"\",VLOOKUP(A2059,[1]ItemConfig!$A:$B,2,FALSE))","v":{"$error":"#N/A"}},{"$f":"IF(A2059=\"\",\"\",VLOOKUP(A2059,[1]ItemConfig!$A:$D,4,FALSE))","v":{"$error":"#N/A"}},{"$f":"IF(A2059=\"\",\"\",VLOOKUP(A2059,[1]ItemConfig!$A:$C,3,FALSE))","v":{"$error":"#N/A"}},{"$f":"IF(A2059=\"\",\"\",VLOOKUP(B2059,#REF!,5,FALSE))","v":{"$error":"#N/A"}},{"$f":"IF(A2059=\"\",\"\",VLOOKUP(C2059,#REF!,5,FALSE))","v":{"$error":"#N/A"}}]
[301164,{"$f":"IF(A2060=\"\",\"\",VLOOKUP(A2060,[1]ItemConfig!$A:$B,2,FALSE))","v":{"$error":"#N/A"}},{"$f":"IF(A2060=\"\",\"\",VLOOKUP(A2060,[1]ItemConfig!$A:$D,4,FALSE))","v":{"$error":"#N/A"}},{"$f":"IF(A2060=\"\",\"\",VLOOKUP(A2060,[1]ItemConfig!$A:$C,3,FALSE))","v":{"$error":"#N/A"}},{"$f":"IF(A2060=\"\",\"\",VLOOKUP(B2060,#REF!,5,FALSE))","v":{"$error":"#N/A"}},{"$f":"IF(A2060=\"\",\"\",VLOOKUP(C2060,#REF!,5,FALSE))","v":{"$error":"#N/A"}}]
[301165,{"$f":"IF(A2061=\"\",\"\",VLOOKUP(A2061,[1]ItemConfig!$A:$B,2,FALSE))","v":{"$error":"#N/A"}},{"$f":"IF(A2061=\"\",\"\",VLOOKUP(A2061,[1]ItemConfig!$A:$D,4,FALSE))","v":{"$error":"#N/A"}},{"$f":"IF(A2061=\"\",\"\",VLOOKUP(A2061,[1]ItemConfig!$A:$C,3,FALSE))","v":{"$error":"#N/A"}},{"$f":"IF(A2061=\"\",\"\",VLOOKUP(B2061,#REF!,5,FALSE))","v":{"$error":"#N/A"}},{"$f":"IF(A2061=\"\",\"\",VLOOKUP(C2061,#REF!,5,FALSE))","v":{"$error":"#N/A"}}]
[301166,{"$f":"IF(A2062=\"\",\"\",VLOOKUP(A2062,[1]ItemConfig!$A:$B,2,FALSE))","v":{"$error":"#N/A"}},{"$f":"IF(A2062=\"\",\"\",VLOOKUP(A2062,[1]ItemConfig!$A:$D,4,FALSE))","v":{"$error":"#N/A"}},{"$f":"IF(A2062=\"\",\"\",VLOOKUP(A2062,[1]ItemConfig!$A:$C,3,FALSE))","v":{"$error":"#N/A"}},{"$f":"IF(A2062=\"\",\"\",VLOOKUP(B2062,#REF!,5,FALSE))","v":{"$error":"#N/A"}},{"$f":"IF(A2062=\"\",\"\",VLOOKUP(C2062,#REF!,5,FALSE))","v":{"$error":"#N/A"}}]
[301167,{"$f":"IF(A2063=\"\",\"\",VLOOKUP(A2063,[1]ItemConfig!$A:$B,2,FALSE))","v":{"$error":"#N/A"}},{"$f":"IF(A2063=\"\",\"\",VLOOKUP(A2063,[1]ItemConfig!$A:$D,4,FALSE))","v":{"$error":"#N/A"}},{"$f":"IF(A2063=\"\",\"\",VLOOKUP(A2063,[1]ItemConfig!$A:$C,3,FALSE))","v":{"$error":"#N/A"}},{"$f":"IF(A2063=\"\",\"\",VLOOKUP(B2063,#REF!,5,FALSE))","v":{"$error":"#N/A"}},{"$f":"IF(A2063=\"\",\"\",VLOOKUP(C2063,#REF!,5,FALSE))","v":{"$error":"#N/A"}}]
[301168,{"$f":"IF(A2064=\"\",\"\",VLOOKUP(A2064,[1]ItemConfig!$A:$B,2,FALSE))","v":{"$error":"#N/A"}},{"$f":"IF(A2064=\"\",\"\",VLOOKUP(A2064,[1]ItemConfig!$A:$D,4,FALSE))","v":{"$error":"#N/A"}},{"$f":"IF(A2064=\"\",\"\",VLOOKUP(A2064,[1]ItemConfig!$A:$C,3,FALSE))","v":{"$error":"#N/A"}},{"$f":"IF(A2064=\"\",\"\",VLOOKUP(B2064,#REF!,5,FALSE))","v":{"$error":"#N/A"}},{"$f":"IF(A2064=\"\",\"\",VLOOKUP(C2064,#REF!,5,FALSE))","v":{"$error":"#N/A"}}]
[301169,{"$f":"IF(A2065=\"\",\"\",VLOOKUP(A2065,[1]ItemConfig!$A:$B,2,FALSE))","v":{"$error":"#N/A"}},{"$f":"IF(A2065=\"\",\"\",VLOOKUP(A2065,[1]ItemConfig!$A:$D,4,FALSE))","v":{"$error":"#N/A"}},{"$f":"IF(A2065=\"\",\"\",VLOOKUP(A2065,[1]ItemConfig!$A:$C,3,FALSE))","v":{"$error":"#N/A"}},{"$f":"IF(A2065=\"\",\"\",VLOOKUP(B2065,#REF!,5,FALSE))","v":{"$error":"#N/A"}},{"$f":"IF(A2065=\"\",\"\",VLOOKUP(C2065,#REF!,5,FALSE))","v":{"$error":"#N/A"}}]
[301170,{"$f":"IF(A2066=\"\",\"\",VLOOKUP(A2066,[1]ItemConfig!$A:$B,2,FALSE))","v":{"$error":"#N/A"}},{"$f":"IF(A2066=\"\",\"\",VLOOKUP(A2066,[1]ItemConfig!$A:$D,4,FALSE))","v":{"$error":"#N/A"}},{"$f":"IF(A2066=\"\",\"\",VLOOKUP(A2066,[1]ItemConfig!$A:$C,3,FALSE))","v":{"$error":"#N/A"}},{"$f":"IF(A2066=\"\",\"\",VLOOKUP(B2066,#REF!,5,FALSE))","v":{"$error":"#N/A"}},{"$f":"IF(A2066=\"\",\"\",VLOOKUP(C2066,#REF!,5,FALSE))","v":{"$error":"#N/A"}}]
[301171,{"$f":"IF(A2067=\"\",\"\",VLOOKUP(A2067,[1]ItemConfig!$A:$B,2,FALSE))","v":{"$error":"#N/A"}},{"$f":"IF(A2067=\"\",\"\",VLOOKUP(A2067,[1]ItemConfig!$A:$D,4,FALSE))","v":{"$error":"#N/A"}},{"$f":"IF(A2067=\"\",\"\",VLOOKUP(A2067,[1]ItemConfig!$A:$C,3,FALSE))","v":{"$error":"#N/A"}},{"$f":"IF(A2067=\"\",\"\",VLOOKUP(B2067,#REF!,5,FALSE))","v":{"$error":"#N/A"}},{"$f":"IF(A2067=\"\",\"\",VLOOKUP(C2067,#REF!,5,FALSE))","v":{"$error":"#N/A"}}]
[301172,{"$f":"IF(A2068=\"\",\"\",VLOOKUP(A2068,[1]ItemConfig!$A:$B,2,FALSE))","v":{"$error":"#N/A"}},{"$f":"IF(A2068=\"\",\"\",VLOOKUP(A2068,[1]ItemConfig!$A:$D,4,FALSE))","v":{"$error":"#N/A"}},{"$f":"IF(A2068=\"\",\"\",VLOOKUP(A2068,[1]ItemConfig!$A:$C,3,FALSE))","v":{"$error":"#N/A"}},{"$f":"IF(A2068=\"\",\"\",VLOOKUP(B2068,#REF!,5,FALSE))","v":{"$error":"#N/A"}},{"$f":"IF(A2068=\"\",\"\",VLOOKUP(C2068,#REF!,5,FALSE))","v":{"$error":"#N/A"}}]
[301173,{"$f":"IF(A2069=\"\",\"\",VLOOKUP(A2069,[1]ItemConfig!$A:$B,2,FALSE))","v":{"$error":"#N/A"}},{"$f":"IF(A2069=\"\",\"\",VLOOKUP(A2069,[1]ItemConfig!$A:$D,4,FALSE))","v":{"$error":"#N/A"}},{"$f":"IF(A2069=\"\",\"\",VLOOKUP(A2069,[1]ItemConfig!$A:$C,3,FALSE))","v":{"$error":"#N/A"}},{"$f":"IF(A2069=\"\",\"\",VLOOKUP(B2069,#REF!,5,FALSE))","v":{"$error":"#N/A"}},{"$f":"IF(A2069=\"\",\"\",VLOOKUP(C2069,#REF!,5,FALSE))","v":{"$error":"#N/A"}}]
[301174,{"$f":"IF(A2070=\"\",\"\",VLOOKUP(A2070,[1]ItemConfig!$A:$B,2,FALSE))","v":{"$error":"#N/A"}},{"$f":"IF(A2070=\"\",\"\",VLOOKUP(A2070,[1]ItemConfig!$A:$D,4,FALSE))","v":{"$error":"#N/A"}},{"$f":"IF(A2070=\"\",\"\",VLOOKUP(A2070,[1]ItemConfig!$A:$C,3,FALSE))","v":{"$error":"#N/A"}},{"$f":"IF(A2070=\"\",\"\",VLOOKUP(B2070,#REF!,5,FALSE))","v":{"$error":"#N/A"}},{"$f":"IF(A2070=\"\",\"\",VLOOKUP(C2070,#REF!,5,FALSE))","v":{"$error":"#N/A"}}]
[301175,{"$f":"IF(A2071=\"\",\"\",VLOOKUP(A2071,[1]ItemConfig!$A:$B,2,FALSE))","v":{"$error":"#N/A"}},{"$f":"IF(A2071=\"\",\"\",VLOOKUP(A2071,[1]ItemConfig!$A:$D,4,FALSE))","v":{"$error":"#N/A"}},{"$f":"IF(A2071=\"\",\"\",VLOOKUP(A2071,[1]ItemConfig!$A:$C,3,FALSE))","v":{"$error":"#N/A"}},{"$f":"IF(A2071=\"\",\"\",VLOOKUP(B2071,#REF!,5,FALSE))","v":{"$error":"#N/A"}},{"$f":"IF(A2071=\"\",\"\",VLOOKUP(C2071,#REF!,5,FALSE))","v":{"$error":"#N/A"}}]
[301176,{"$f":"IF(A2072=\"\",\"\",VLOOKUP(A2072,[1]ItemConfig!$A:$B,2,FALSE))","v":{"$error":"#N/A"}},{"$f":"IF(A2072=\"\",\"\",VLOOKUP(A2072,[1]ItemConfig!$A:$D,4,FALSE))","v":{"$error":"#N/A"}},{"$f":"IF(A2072=\"\",\"\",VLOOKUP(A2072,[1]ItemConfig!$A:$C,3,FALSE))","v":{"$error":"#N/A"}},{"$f":"IF(A2072=\"\",\"\",VLOOKUP(B2072,#REF!,5,FALSE))","v":{"$error":"#N/A"}},{"$f":"IF(A2072=\"\",\"\",VLOOKUP(C2072,#REF!,5,FALSE))","v":{"$error":"#N/A"}}]
[301177,{"$f":"IF(A2073=\"\",\"\",VLOOKUP(A2073,[1]ItemConfig!$A:$B,2,FALSE))","v":{"$error":"#N/A"}},{"$f":"IF(A2073=\"\",\"\",VLOOKUP(A2073,[1]ItemConfig!$A:$D,4,FALSE))","v":{"$error":"#N/A"}},{"$f":"IF(A2073=\"\",\"\",VLOOKUP(A2073,[1]ItemConfig!$A:$C,3,FALSE))","v":{"$error":"#N/A"}},{"$f":"IF(A2073=\"\",\"\",VLOOKUP(B2073,#REF!,5,FALSE))","v":{"$error":"#N/A"}},{"$f":"IF(A2073=\"\",\"\",VLOOKUP(C2073,#REF!,5,FALSE))","v":{"$error":"#N/A"}}]
[301178,{"$f":"IF(A2074=\"\",\"\",VLOOKUP(A2074,[1]ItemConfig!$A:$B,2,FALSE))","v":{"$error":"#N/A"}},{"$f":"IF(A2074=\"\",\"\",VLOOKUP(A2074,[1]ItemConfig!$A:$D,4,FALSE))","v":{"$error":"#N/A"}},{"$f":"IF(A2074=\"\",\"\",VLOOKUP(A2074,[1]ItemConfig!$A:$C,3,FALSE))","v":{"$error":"#N/A"}},{"$f":"IF(A2074=\"\",\"\",VLOOKUP(B2074,#REF!,5,FALSE))","v":{"$error":"#N/A"}},{"$f":"IF(A2074=\"\",\"\",VLOOKUP(C2074,#REF!,5,FALSE))","v":{"$error":"#N/A"}}]
[301179,{"$f":"IF(A2075=\"\",\"\",VLOOKUP(A2075,[1]ItemConfig!$A:$B,2,FALSE))","v":{"$error":"#N/A"}},{"$f":"IF(A2075=\"\",\"\",VLOOKUP(A2075,[1]ItemConfig!$A:$D,4,FALSE))","v":{"$error":"#N/A"}},{"$f":"IF(A2075=\"\",\"\",VLOOKUP(A2075,[1]ItemConfig!$A:$C,3,FALSE))","v":{"$error":"#N/A"}},{"$f":"IF(A2075=\"\",\"\",VLOOKUP(B2075,#REF!,5,FALSE))","v":{"$error":"#N/A"}},{"$f":"IF(A2075=\"\",\"\",VLOOKUP(C2075,#REF!,5,FALSE))","v":{"$error":"#N/A"}}]
[301180,{"$f":"IF(A2076=\"\",\"\",VLOOKUP(A2076,[1]ItemConfig!$A:$B,2,FALSE))","v":{"$error":"#N/A"}},{"$f":"IF(A2076=\"\",\"\",VLOOKUP(A2076,[1]ItemConfig!$A:$D,4,FALSE))","v":{"$error":"#N/A"}},{"$f":"IF(A2076=\"\",\"\",VLOOKUP(A2076,[1]ItemConfig!$A:$C,3,FALSE))","v":{"$error":"#N/A"}},{"$f":"IF(A2076=\"\",\"\",VLOOKUP(B2076,#REF!,5,FALSE))","v":{"$error":"#N/A"}},{"$f":"IF(A2076=\"\",\"\",VLOOKUP(C2076,#REF!,5,FALSE))","v":{"$error":"#N/A"}}]
[301181,{"$f":"IF(A2077=\"\",\"\",VLOOKUP(A2077,[1]ItemConfig!$A:$B,2,FALSE))","v":{"$error":"#N/A"}},{"$f":"IF(A2077=\"\",\"\",VLOOKUP(A2077,[1]ItemConfig!$A:$D,4,FALSE))","v":{"$error":"#N/A"}},{"$f":"IF(A2077=\"\",\"\",VLOOKUP(A2077,[1]ItemConfig!$A:$C,3,FALSE))","v":{"$error":"#N/A"}},{"$f":"IF(A2077=\"\",\"\",VLOOKUP(B2077,#REF!,5,FALSE))","v":{"$error":"#N/A"}},{"$f":"IF(A2077=\"\",\"\",VLOOKUP(C2077,#REF!,5,FALSE))","v":{"$error":"#N/A"}}]
[301182,{"$f":"IF(A2078=\"\",\"\",VLOOKUP(A2078,[1]ItemConfig!$A:$B,2,FALSE))","v":{"$error":"#N/A"}},{"$f":"IF(A2078=\"\",\"\",VLOOKUP(A2078,[1]ItemConfig!$A:$D,4,FALSE))","v":{"$error":"#N/A"}},{"$f":"IF(A2078=\"\",\"\",VLOOKUP(A2078,[1]ItemConfig!$A:$C,3,FALSE))","v":{"$error":"#N/A"}},{"$f":"IF(A2078=\"\",\"\",VLOOKUP(B2078,#REF!,5,FALSE))","v":{"$error":"#N/A"}},{"$f":"IF(A2078=\"\",\"\",VLOOKUP(C2078,#REF!,5,FALSE))","v":{"$error":"#N/A"}}]
[301183,{"$f":"IF(A2079=\"\",\"\",VLOOKUP(A2079,[1]ItemConfig!$A:$B,2,FALSE))","v":{"$error":"#N/A"}},{"$f":"IF(A2079=\"\",\"\",VLOOKUP(A2079,[1]ItemConfig!$A:$D,4,FALSE))","v":{"$error":"#N/A"}},{"$f":"IF(A2079=\"\",\"\",VLOOKUP(A2079,[1]ItemConfig!$A:$C,3,FALSE))","v":{"$error":"#N/A"}},{"$f":"IF(A2079=\"\",\"\",VLOOKUP(B2079,#REF!,5,FALSE))","v":{"$error":"#N/A"}},{"$f":"IF(A2079=\"\",\"\",VLOOKUP(C2079,#REF!,5,FALSE))","v":{"$error":"#N/A"}}]
[301184,{"$f":"IF(A2080=\"\",\"\",VLOOKUP(A2080,[1]ItemConfig!$A:$B,2,FALSE))","v":{"$error":"#N/A"}},{"$f":"IF(A2080=\"\",\"\",VLOOKUP(A2080,[1]ItemConfig!$A:$D,4,FALSE))","v":{"$error":"#N/A"}},{"$f":"IF(A2080=\"\",\"\",VLOOKUP(A2080,[1]ItemConfig!$A:$C,3,FALSE))","v":{"$error":"#N/A"}},{"$f":"IF(A2080=\"\",\"\",VLOOKUP(B2080,#REF!,5,FALSE))","v":{"$error":"#N/A"}},{"$f":"IF(A2080=\"\",\"\",VLOOKUP(C2080,#REF!,5,FALSE))","v":{"$error":"#N/A"}}]
[301185,{"$f":"IF(A2081=\"\",\"\",VLOOKUP(A2081,[1]ItemConfig!$A:$B,2,FALSE))","v":{"$error":"#N/A"}},{"$f":"IF(A2081=\"\",\"\",VLOOKUP(A2081,[1]ItemConfig!$A:$D,4,FALSE))","v":{"$error":"#N/A"}},{"$f":"IF(A2081=\"\",\"\",VLOOKUP(A2081,[1]ItemConfig!$A:$C,3,FALSE))","v":{"$error":"#N/A"}},{"$f":"IF(A2081=\"\",\"\",VLOOKUP(B2081,#REF!,5,FALSE))","v":{"$error":"#N/A"}},{"$f":"IF(A2081=\"\",\"\",VLOOKUP(C2081,#REF!,5,FALSE))","v":{"$error":"#N/A"}}]
[301186,{"$f":"IF(A2082=\"\",\"\",VLOOKUP(A2082,[1]ItemConfig!$A:$B,2,FALSE))","v":{"$error":"#N/A"}},{"$f":"IF(A2082=\"\",\"\",VLOOKUP(A2082,[1]ItemConfig!$A:$D,4,FALSE))","v":{"$error":"#N/A"}},{"$f":"IF(A2082=\"\",\"\",VLOOKUP(A2082,[1]ItemConfig!$A:$C,3,FALSE))","v":{"$error":"#N/A"}},{"$f":"IF(A2082=\"\",\"\",VLOOKUP(B2082,#REF!,5,FALSE))","v":{"$error":"#N/A"}},{"$f":"IF(A2082=\"\",\"\",VLOOKUP(C2082,#REF!,5,FALSE))","v":{"$error":"#N/A"}}]
[301187,{"$f":"IF(A2083=\"\",\"\",VLOOKUP(A2083,[1]ItemConfig!$A:$B,2,FALSE))","v":{"$error":"#N/A"}},{"$f":"IF(A2083=\"\",\"\",VLOOKUP(A2083,[1]ItemConfig!$A:$D,4,FALSE))","v":{"$error":"#N/A"}},{"$f":"IF(A2083=\"\",\"\",VLOOKUP(A2083,[1]ItemConfig!$A:$C,3,FALSE))","v":{"$error":"#N/A"}},{"$f":"IF(A2083=\"\",\"\",VLOOKUP(B2083,#REF!,5,FALSE))","v":{"$error":"#N/A"}},{"$f":"IF(A2083=\"\",\"\",VLOOKUP(C2083,#REF!,5,FALSE))","v":{"$error":"#N/A"}}]
[301188,{"$f":"IF(A2084=\"\",\"\",VLOOKUP(A2084,[1]ItemConfig!$A:$B,2,FALSE))","v":{"$error":"#N/A"}},{"$f":"IF(A2084=\"\",\"\",VLOOKUP(A2084,[1]ItemConfig!$A:$D,4,FALSE))","v":{"$error":"#N/A"}},{"$f":"IF(A2084=\"\",\"\",VLOOKUP(A2084,[1]ItemConfig!$A:$C,3,FALSE))","v":{"$error":"#N/A"}},{"$f":"IF(A2084=\"\",\"\",VLOOKUP(B2084,#REF!,5,FALSE))","v":{"$error":"#N/A"}},{"$f":"IF(A2084=\"\",\"\",VLOOKUP(C2084,#REF!,5,FALSE))","v":{"$error":"#N/A"}}]
[301189,{"$f":"IF(A2085=\"\",\"\",VLOOKUP(A2085,[1]ItemConfig!$A:$B,2,FALSE))","v":{"$error":"#N/A"}},{"$f":"IF(A2085=\"\",\"\",VLOOKUP(A2085,[1]ItemConfig!$A:$D,4,FALSE))","v":{"$error":"#N/A"}},{"$f":"IF(A2085=\"\",\"\",VLOOKUP(A2085,[1]ItemConfig!$A:$C,3,FALSE))","v":{"$error":"#N/A"}},{"$f":"IF(A2085=\"\",\"\",VLOOKUP(B2085,#REF!,5,FALSE))","v":{"$error":"#N/A"}},{"$f":"IF(A2085=\"\",\"\",VLOOKUP(C2085,#REF!,5,FALSE))","v":{"$error":"#N/A"}}]
[301190,{"$f":"IF(A2086=\"\",\"\",VLOOKUP(A2086,[1]ItemConfig!$A:$B,2,FALSE))","v":{"$error":"#N/A"}},{"$f":"IF(A2086=\"\",\"\",VLOOKUP(A2086,[1]ItemConfig!$A:$D,4,FALSE))","v":{"$error":"#N/A"}},{"$f":"IF(A2086=\"\",\"\",VLOOKUP(A2086,[1]ItemConfig!$A:$C,3,FALSE))","v":{"$error":"#N/A"}},{"$f":"IF(A2086=\"\",\"\",VLOOKUP(B2086,#REF!,5,FALSE))","v":{"$error":"#N/A"}},{"$f":"IF(A2086=\"\",\"\",VLOOKUP(C2086,#REF!,5,FALSE))","v":{"$error":"#N/A"}}]
[301191,{"$f":"IF(A2087=\"\",\"\",VLOOKUP(A2087,[1]ItemConfig!$A:$B,2,FALSE))","v":{"$error":"#N/A"}},{"$f":"IF(A2087=\"\",\"\",VLOOKUP(A2087,[1]ItemConfig!$A:$D,4,FALSE))","v":{"$error":"#N/A"}},{"$f":"IF(A2087=\"\",\"\",VLOOKUP(A2087,[1]ItemConfig!$A:$C,3,FALSE))","v":{"$error":"#N/A"}},{"$f":"IF(A2087=\"\",\"\",VLOOKUP(B2087,#REF!,5,FALSE))","v":{"$error":"#N/A"}},{"$f":"IF(A2087=\"\",\"\",VLOOKUP(C2087,#REF!,5,FALSE))","v":{"$error":"#N/A"}}]
[301192,{"$f":"IF(A2088=\"\",\"\",VLOOKUP(A2088,[1]ItemConfig!$A:$B,2,FALSE))","v":{"$error":"#N/A"}},{"$f":"IF(A2088=\"\",\"\",VLOOKUP(A2088,[1]ItemConfig!$A:$D,4,FALSE))","v":{"$error":"#N/A"}},{"$f":"IF(A2088=\"\",\"\",VLOOKUP(A2088,[1]ItemConfig!$A:$C,3,FALSE))","v":{"$error":"#N/A"}},{"$f":"IF(A2088=\"\",\"\",VLOOKUP(B2088,#REF!,5,FALSE))","v":{"$error":"#N/A"}},{"$f":"IF(A2088=\"\",\"\",VLOOKUP(C2088,#REF!,5,FALSE))","v":{"$error":"#N/A"}}]
[301193,{"$f":"IF(A2089=\"\",\"\",VLOOKUP(A2089,[1]ItemConfig!$A:$B,2,FALSE))","v":{"$error":"#N/A"}},{"$f":"IF(A2089=\"\",\"\",VLOOKUP(A2089,[1]ItemConfig!$A:$D,4,FALSE))","v":{"$error":"#N/A"}},{"$f":"IF(A2089=\"\",\"\",VLOOKUP(A2089,[1]ItemConfig!$A:$C,3,FALSE))","v":{"$error":"#N/A"}},{"$f":"IF(A2089=\"\",\"\",VLOOKUP(B2089,#REF!,5,FALSE))","v":{"$error":"#N/A"}},{"$f":"IF(A2089=\"\",\"\",VLOOKUP(C2089,#REF!,5,FALSE))","v":{"$error":"#N/A"}}]
[301194,{"$f":"IF(A2090=\"\",\"\",VLOOKUP(A2090,[1]ItemConfig!$A:$B,2,FALSE))","v":{"$error":"#N/A"}},{"$f":"IF(A2090=\"\",\"\",VLOOKUP(A2090,[1]ItemConfig!$A:$D,4,FALSE))","v":{"$error":"#N/A"}},{"$f":"IF(A2090=\"\",\"\",VLOOKUP(A2090,[1]ItemConfig!$A:$C,3,FALSE))","v":{"$error":"#N/A"}},{"$f":"IF(A2090=\"\",\"\",VLOOKUP(B2090,#REF!,5,FALSE))","v":{"$error":"#N/A"}},{"$f":"IF(A2090=\"\",\"\",VLOOKUP(C2090,#REF!,5,FALSE))","v":{"$error":"#N/A"}}]
[301195,{"$f":"IF(A2091=\"\",\"\",VLOOKUP(A2091,[1]ItemConfig!$A:$B,2,FALSE))","v":{"$error":"#N/A"}},{"$f":"IF(A2091=\"\",\"\",VLOOKUP(A2091,[1]ItemConfig!$A:$D,4,FALSE))","v":{"$error":"#N/A"}},{"$f":"IF(A2091=\"\",\"\",VLOOKUP(A2091,[1]ItemConfig!$A:$C,3,FALSE))","v":{"$error":"#N/A"}},{"$f":"IF(A2091=\"\",\"\",VLOOKUP(B2091,#REF!,5,FALSE))","v":{"$error":"#N/A"}},{"$f":"IF(A2091=\"\",\"\",VLOOKUP(C2091,#REF!,5,FALSE))","v":{"$error":"#N/A"}}]
[301196,{"$f":"IF(A2092=\"\",\"\",VLOOKUP(A2092,[1]ItemConfig!$A:$B,2,FALSE))","v":{"$error":"#N/A"}},{"$f":"IF(A2092=\"\",\"\",VLOOKUP(A2092,[1]ItemConfig!$A:$D,4,FALSE))","v":{"$error":"#N/A"}},{"$f":"IF(A2092=\"\",\"\",VLOOKUP(A2092,[1]ItemConfig!$A:$C,3,FALSE))","v":{"$error":"#N/A"}},{"$f":"IF(A2092=\"\",\"\",VLOOKUP(B2092,#REF!,5,FALSE))","v":{"$error":"#N/A"}},{"$f":"IF(A2092=\"\",\"\",VLOOKUP(C2092,#REF!,5,FALSE))","v":{"$error":"#N/A"}}]
[301197,{"$f":"IF(A2093=\"\",\"\",VLOOKUP(A2093,[1]ItemConfig!$A:$B,2,FALSE))","v":{"$error":"#N/A"}},{"$f":"IF(A2093=\"\",\"\",VLOOKUP(A2093,[1]ItemConfig!$A:$D,4,FALSE))","v":{"$error":"#N/A"}},{"$f":"IF(A2093=\"\",\"\",VLOOKUP(A2093,[1]ItemConfig!$A:$C,3,FALSE))","v":{"$error":"#N/A"}},{"$f":"IF(A2093=\"\",\"\",VLOOKUP(B2093,#REF!,5,FALSE))","v":{"$error":"#N/A"}},{"$f":"IF(A2093=\"\",\"\",VLOOKUP(C2093,#REF!,5,FALSE))","v":{"$error":"#N/A"}}]
[301198,{"$f":"IF(A2094=\"\",\"\",VLOOKUP(A2094,[1]ItemConfig!$A:$B,2,FALSE))","v":{"$error":"#N/A"}},{"$f":"IF(A2094=\"\",\"\",VLOOKUP(A2094,[1]ItemConfig!$A:$D,4,FALSE))","v":{"$error":"#N/A"}},{"$f":"IF(A2094=\"\",\"\",VLOOKUP(A2094,[1]ItemConfig!$A:$C,3,FALSE))","v":{"$error":"#N/A"}},{"$f":"IF(A2094=\"\",\"\",VLOOKUP(B2094,#REF!,5,FALSE))","v":{"$error":"#N/A"}},{"$f":"IF(A2094=\"\",\"\",VLOOKUP(C2094,#REF!,5,FALSE))","v":{"$error":"#N/A"}}]
[301199,{"$f":"IF(A2095=\"\",\"\",VLOOKUP(A2095,[1]ItemConfig!$A:$B,2,FALSE))","v":{"$error":"#N/A"}},{"$f":"IF(A2095=\"\",\"\",VLOOKUP(A2095,[1]ItemConfig!$A:$D,4,FALSE))","v":{"$error":"#N/A"}},{"$f":"IF(A2095=\"\",\"\",VLOOKUP(A2095,[1]ItemConfig!$A:$C,3,FALSE))","v":{"$error":"#N/A"}},{"$f":"IF(A2095=\"\",\"\",VLOOKUP(B2095,#REF!,5,FALSE))","v":{"$error":"#N/A"}},{"$f":"IF(A2095=\"\",\"\",VLOOKUP(C2095,#REF!,5,FALSE))","v":{"$error":"#N/A"}}]
[301200,{"$f":"IF(A2096=\"\",\"\",VLOOKUP(A2096,[1]ItemConfig!$A:$B,2,FALSE))","v":{"$error":"#N/A"}},{"$f":"IF(A2096=\"\",\"\",VLOOKUP(A2096,[1]ItemConfig!$A:$D,4,FALSE))","v":{"$error":"#N/A"}},{"$f":"IF(A2096=\"\",\"\",VLOOKUP(A2096,[1]ItemConfig!$A:$C,3,FALSE))","v":{"$error":"#N/A"}},{"$f":"IF(A2096=\"\",\"\",VLOOKUP(B2096,#REF!,5,FALSE))","v":{"$error":"#N/A"}},{"$f":"IF(A2096=\"\",\"\",VLOOKUP(C2096,#REF!,5,FALSE))","v":{"$error":"#N/A"}}]
[null,{"$f":"IF(A2097=\"\",\"\",VLOOKUP(A2097,[1]ItemConfig!$A:$B,2,FALSE))","v":""},{"$f":"IF(A2097=\"\",\"\",VLOOKUP(A2097,[1]ItemConfig!$A:$D,4,FALSE))","v":""},{"$f":"IF(A2097=\"\",\"\",VLOOKUP(A2097,[1]ItemConfig!$A:$C,3,FALSE))","v":""},{"$f":"IF(A2097=\"\",\"\",VLOOKUP(B2097,#REF!,5,FALSE))","v":""},{"$f":"IF(A2097=\"\",\"\",VLOOKUP(C2097,#REF!,5,FALSE))","v":""}]
[301201,{"$f":"IF(A2098=\"\",\"\",VLOOKUP(A2098,[1]ItemConfig!$A:$B,2,FALSE))","v":{"$error":"#N/A"}},{"$f":"IF(A2098=\"\",\"\",VLOOKUP(A2098,[1]ItemConfig!$A:$D,4,FALSE))","v":{"$error":"#N/A"}},{"$f":"IF(A2098=\"\",\"\",VLOOKUP(A2098,[1]ItemConfig!$A:$C,3,FALSE))","v":{"$error":"#N/A"}},{"$f":"IF(A2098=\"\",\"\",VLOOKUP(B2098,#REF!,5,FALSE))","v":{"$error":"#N/A"}},{"$f":"IF(A2098=\"\",\"\",VLOOKUP(C2098,#REF!,5,FALSE))","v":{"$error":"#N/A"}}]
[301202,{"$f":"IF(A2099=\"\",\"\",VLOOKUP(A2099,[1]ItemConfig!$A:$B,2,FALSE))","v":{"$error":"#N/A"}},{"$f":"IF(A2099=\"\",\"\",VLOOKUP(A2099,[1]ItemConfig!$A:$D,4,FALSE))","v":{"$error":"#N/A"}},{"$f":"IF(A2099=\"\",\"\",VLOOKUP(A2099,[1]ItemConfig!$A:$C,3,FALSE))","v":{"$error":"#N/A"}},{"$f":"IF(A2099=\"\",\"\",VLOOKUP(B2099,#REF!,5,FALSE))","v":{"$error":"#N/A"}},{"$f":"IF(A2099=\"\",\"\",VLOOKUP(C2099,#REF!,5,FALSE))","v":{"$error":"#N/A"}}]
[301203,{"$f":"IF(A2100=\"\",\"\",VLOOKUP(A2100,[1]ItemConfig!$A:$B,2,FALSE))","v":{"$error":"#N/A"}},{"$f":"IF(A2100=\"\",\"\",VLOOKUP(A2100,[1]ItemConfig!$A:$D,4,FALSE))","v":{"$error":"#N/A"}},{"$f":"IF(A2100=\"\",\"\",VLOOKUP(A2100,[1]ItemConfig!$A:$C,3,FALSE))","v":{"$error":"#N/A"}},{"$f":"IF(A2100=\"\",\"\",VLOOKUP(B2100,#REF!,5,FALSE))","v":{"$error":"#N/A"}},{"$f":"IF(A2100=\"\",\"\",VLOOKUP(C2100,#REF!,5,FALSE))","v":{"$error":"#N/A"}}]
[301204,{"$f":"IF(A2101=\"\",\"\",VLOOKUP(A2101,[1]ItemConfig!$A:$B,2,FALSE))","v":{"$error":"#N/A"}},{"$f":"IF(A2101=\"\",\"\",VLOOKUP(A2101,[1]ItemConfig!$A:$D,4,FALSE))","v":{"$error":"#N/A"}},{"$f":"IF(A2101=\"\",\"\",VLOOKUP(A2101,[1]ItemConfig!$A:$C,3,FALSE))","v":{"$error":"#N/A"}},{"$f":"IF(A2101=\"\",\"\",VLOOKUP(B2101,#REF!,5,FALSE))","v":{"$error":"#N/A"}},{"$f":"IF(A2101=\"\",\"\",VLOOKUP(C2101,#REF!,5,FALSE))","v":{"$error":"#N/A"}}]
[301205,{"$f":"IF(A2102=\"\",\"\",VLOOKUP(A2102,[1]ItemConfig!$A:$B,2,FALSE))","v":{"$error":"#N/A"}},{"$f":"IF(A2102=\"\",\"\",VLOOKUP(A2102,[1]ItemConfig!$A:$D,4,FALSE))","v":{"$error":"#N/A"}},{"$f":"IF(A2102=\"\",\"\",VLOOKUP(A2102,[1]ItemConfig!$A:$C,3,FALSE))","v":{"$error":"#N/A"}},{"$f":"IF(A2102=\"\",\"\",VLOOKUP(B2102,#REF!,5,FALSE))","v":{"$error":"#N/A"}},{"$f":"IF(A2102=\"\",\"\",VLOOKUP(C2102,#REF!,5,FALSE))","v":{"$error":"#N/A"}}]
[301206,{"$f":"IF(A2103=\"\",\"\",VLOOKUP(A2103,[1]ItemConfig!$A:$B,2,FALSE))","v":{"$error":"#N/A"}},{"$f":"IF(A2103=\"\",\"\",VLOOKUP(A2103,[1]ItemConfig!$A:$D,4,FALSE))","v":{"$error":"#N/A"}},{"$f":"IF(A2103=\"\",\"\",VLOOKUP(A2103,[1]ItemConfig!$A:$C,3,FALSE))","v":{"$error":"#N/A"}},{"$f":"IF(A2103=\"\",\"\",VLOOKUP(B2103,#REF!,5,FALSE))","v":{"$error":"#N/A"}},{"$f":"IF(A2103=\"\",\"\",VLOOKUP(C2103,#REF!,5,FALSE))","v":{"$error":"#N/A"}}]
[301207,{"$f":"IF(A2104=\"\",\"\",VLOOKUP(A2104,[1]ItemConfig!$A:$B,2,FALSE))","v":{"$error":"#N/A"}},{"$f":"IF(A2104=\"\",\"\",VLOOKUP(A2104,[1]ItemConfig!$A:$D,4,FALSE))","v":{"$error":"#N/A"}},{"$f":"IF(A2104=\"\",\"\",VLOOKUP(A2104,[1]ItemConfig!$A:$C,3,FALSE))","v":{"$error":"#N/A"}},{"$f":"IF(A2104=\"\",\"\",VLOOKUP(B2104,#REF!,5,FALSE))","v":{"$error":"#N/A"}},{"$f":"IF(A2104=\"\",\"\",VLOOKUP(C2104,#REF!,5,FALSE))","v":{"$error":"#N/A"}}]
[301208,{"$f":"IF(A2105=\"\",\"\",VLOOKUP(A2105,[1]ItemConfig!$A:$B,2,FALSE))","v":{"$error":"#N/A"}},{"$f":"IF(A2105=\"\",\"\",VLOOKUP(A2105,[1]ItemConfig!$A:$D,4,FALSE))","v":{"$error":"#N/A"}},{"$f":"IF(A2105=\"\",\"\",VLOOKUP(A2105,[1]ItemConfig!$A:$C,3,FALSE))","v":{"$error":"#N/A"}},{"$f":"IF(A2105=\"\",\"\",VLOOKUP(B2105,#REF!,5,FALSE))","v":{"$error":"#N/A"}},{"$f":"IF(A2105=\"\",\"\",VLOOKUP(C2105,#REF!,5,FALSE))","v":{"$error":"#N/A"}}]
[null,{"$f":"IF(A2106=\"\",\"\",VLOOKUP(A2106,[1]ItemConfig!$A:$B,2,FALSE))","v":""},{"$f":"IF(A2106=\"\",\"\",VLOOKUP(A2106,[1]ItemConfig!$A:$D,4,FALSE))","v":""},{"$f":"IF(A2106=\"\",\"\",VLOOKUP(A2106,[1]ItemConfig!$A:$C,3,FALSE))","v":""},{"$f":"IF(A2106=\"\",\"\",VLOOKUP(B2106,#REF!,5,FALSE))","v":""},{"$f":"IF(A2106=\"\",\"\",VLOOKUP(C2106,#REF!,5,FALSE))","v":""}]
[301209,{"$f":"IF(A2107=\"\",\"\",VLOOKUP(A2107,[1]ItemConfig!$A:$B,2,FALSE))","v":{"$error":"#N/A"}},{"$f":"IF(A2107=\"\",\"\",VLOOKUP(A2107,[1]ItemConfig!$A:$D,4,FALSE))","v":{"$error":"#N/A"}},{"$f":"IF(A2107=\"\",\"\",VLOOKUP(A2107,[1]ItemConfig!$A:$C,3,FALSE))","v":{"$error":"#N/A"}},{"$f":"IF(A2107=\"\",\"\",VLOOKUP(B2107,#REF!,5,FALSE))","v":{"$error":"#N/A"}},{"$f":"IF(A2107=\"\",\"\",VLOOKUP(C2107,#REF!,5,FALSE))","v":{"$error":"#N/A"}}]
[301210,{"$f":"IF(A2108=\"\",\"\",VLOOKUP(A2108,[1]ItemConfig!$A:$B,2,FALSE))","v":{"$error":"#N/A"}},{"$f":"IF(A2108=\"\",\"\",VLOOKUP(A2108,[1]ItemConfig!$A:$D,4,FALSE))","v":{"$error":"#N/A"}},{"$f":"IF(A2108=\"\",\"\",VLOOKUP(A2108,[1]ItemConfig!$A:$C,3,FALSE))","v":{"$error":"#N/A"}},{"$f":"IF(A2108=\"\",\"\",VLOOKUP(B2108,#REF!,5,FALSE))","v":{"$error":"#N/A"}},{"$f":"IF(A2108=\"\",\"\",VLOOKUP(C2108,#REF!,5,FALSE))","v":{"$error":"#N/A"}}]
[301211,{"$f":"IF(A2109=\"\",\"\",VLOOKUP(A2109,[1]ItemConfig!$A:$B,2,FALSE))","v":{"$error":"#N/A"}},{"$f":"IF(A2109=\"\",\"\",VLOOKUP(A2109,[1]ItemConfig!$A:$D,4,FALSE))","v":{"$error":"#N/A"}},{"$f":"IF(A2109=\"\",\"\",VLOOKUP(A2109,[1]ItemConfig!$A:$C,3,FALSE))","v":{"$error":"#N/A"}},{"$f":"IF(A2109=\"\",\"\",VLOOKUP(B2109,#REF!,5,FALSE))","v":{"$error":"#N/A"}},{"$f":"IF(A2109=\"\",\"\",VLOOKUP(C2109,#REF!,5,FALSE))","v":{"$error":"#N/A"}}]
[301212,{"$f":"IF(A2110=\"\",\"\",VLOOKUP(A2110,[1]ItemConfig!$A:$B,2,FALSE))","v":{"$error":"#N/A"}},{"$f":"IF(A2110=\"\",\"\",VLOOKUP(A2110,[1]ItemConfig!$A:$D,4,FALSE))","v":{"$error":"#N/A"}},{"$f":"IF(A2110=\"\",\"\",VLOOKUP(A2110,[1]ItemConfig!$A:$C,3,FALSE))","v":{"$error":"#N/A"}},{"$f":"IF(A2110=\"\",\"\",VLOOKUP(B2110,#REF!,5,FALSE))","v":{"$error":"#N/A"}},{"$f":"IF(A2110=\"\",\"\",VLOOKUP(C2110,#REF!,5,FALSE))","v":{"$error":"#N/A"}}]
[301213,{"$f":"IF(A2111=\"\",\"\",VLOOKUP(A2111,[1]ItemConfig!$A:$B,2,FALSE))","v":{"$error":"#N/A"}},{"$f":"IF(A2111=\"\",\"\",VLOOKUP(A2111,[1]ItemConfig!$A:$D,4,FALSE))","v":{"$error":"#N/A"}},{"$f":"IF(A2111=\"\",\"\",VLOOKUP(A2111,[1]ItemConfig!$A:$C,3,FALSE))","v":{"$error":"#N/A"}},{"$f":"IF(A2111=\"\",\"\",VLOOKUP(B2111,#REF!,5,FALSE))","v":{"$error":"#N/A"}},{"$f":"IF(A2111=\"\",\"\",VLOOKUP(C2111,#REF!,5,FALSE))","v":{"$error":"#N/A"}}]
[301214,{"$f":"IF(A2112=\"\",\"\",VLOOKUP(A2112,[1]ItemConfig!$A:$B,2,FALSE))","v":{"$error":"#N/A"}},{"$f":"IF(A2112=\"\",\"\",VLOOKUP(A2112,[1]ItemConfig!$A:$D,4,FALSE))","v":{"$error":"#N/A"}},{"$f":"IF(A2112=\"\",\"\",VLOOKUP(A2112,[1]ItemConfig!$A:$C,3,FALSE))","v":{"$error":"#N/A"}},{"$f":"IF(A2112=\"\",\"\",VLOOKUP(B2112,#REF!,5,FALSE))","v":{"$error":"#N/A"}},{"$f":"IF(A2112=\"\",\"\",VLOOKUP(C2112,#REF!,5,FALSE))","v":{"$error":"#N/A"}}]
[301215,{"$f":"IF(A2113=\"\",\"\",VLOOKUP(A2113,[1]ItemConfig!$A:$B,2,FALSE))","v":{"$error":"#N/A"}},{"$f":"IF(A2113=\"\",\"\",VLOOKUP(A2113,[1]ItemConfig!$A:$D,4,FALSE))","v":{"$error":"#N/A"}},{"$f":"IF(A2113=\"\",\"\",VLOOKUP(A2113,[1]ItemConfig!$A:$C,3,FALSE))","v":{"$error":"#N/A"}},{"$f":"IF(A2113=\"\",\"\",VLOOKUP(B2113,#REF!,5,FALSE))","v":{"$error":"#N/A"}},{"$f":"IF(A2113=\"\",\"\",VLOOKUP(C2113,#REF!,5,FALSE))","v":{"$error":"#N/A"}}]
[301216,{"$f":"IF(A2114=\"\",\"\",VLOOKUP(A2114,[1]ItemConfig!$A:$B,2,FALSE))","v":{"$error":"#N/A"}},{"$f":"IF(A2114=\"\",\"\",VLOOKUP(A2114,[1]ItemConfig!$A:$D,4,FALSE))","v":{"$error":"#N/A"}},{"$f":"IF(A2114=\"\",\"\",VLOOKUP(A2114,[1]ItemConfig!$A:$C,3,FALSE))","v":{"$error":"#N/A"}},{"$f":"IF(A2114=\"\",\"\",VLOOKUP(B2114,#REF!,5,FALSE))","v":{"$error":"#N/A"}},{"$f":"IF(A2114=\"\",\"\",VLOOKUP(C2114,#REF!,5,FALSE))","v":{"$error":"#N/A"}}]
[null,{"$f":"IF(A2115=\"\",\"\",VLOOKUP(A2115,[1]ItemConfig!$A:$B,2,FALSE))","v":""},{"$f":"IF(A2115=\"\",\"\",VLOOKUP(A2115,[1]ItemConfig!$A:$D,4,FALSE))","v":""},{"$f":"IF(A2115=\"\",\"\",VLOOKUP(A2115,[1]ItemConfig!$A:$C,3,FALSE))","v":""},{"$f":"IF(A2115=\"\",\"\",VLOOKUP(B2115,#REF!,5,FALSE))","v":""},{"$f":"IF(A2115=\"\",\"\",VLOOKUP(C2115,#REF!,5,FALSE))","v":""}]
[301217,{"$f":"IF(A2116=\"\",\"\",VLOOKUP(A2116,[1]ItemConfig!$A:$B,2,FALSE))","v":{"$error":"#N/A"}},{"$f":"IF(A2116=\"\",\"\",VLOOKUP(A2116,[1]ItemConfig!$A:$D,4,FALSE))","v":{"$error":"#N/A"}},{"$f":"IF(A2116=\"\",\"\",VLOOKUP(A2116,[1]ItemConfig!$A:$C,3,FALSE))","v":{"$error":"#N/A"}},{"$f":"IF(A2116=\"\",\"\",VLOOKUP(B2116,#REF!,5,FALSE))","v":{"$error":"#N/A"}},{"$f":"IF(A2116=\"\",\"\",VLOOKUP(C2116,#REF!,5,FALSE))","v":{"$error":"#N/A"}}]
[301218,{"$f":"IF(A2117=\"\",\"\",VLOOKUP(A2117,[1]ItemConfig!$A:$B,2,FALSE))","v":{"$error":"#N/A"}},{"$f":"IF(A2117=\"\",\"\",VLOOKUP(A2117,[1]ItemConfig!$A:$D,4,FALSE))","v":{"$error":"#N/A"}},{"$f":"IF(A2117=\"\",\"\",VLOOKUP(A2117,[1]ItemConfig!$A:$C,3,FALSE))","v":{"$error":"#N/A"}},{"$f":"IF(A2117=\"\",\"\",VLOOKUP(B2117,#REF!,5,FALSE))","v":{"$error":"#N/A"}},{"$f":"IF(A2117=\"\",\"\",VLOOKUP(C2117,#REF!,5,FALSE))","v":{"$error":"#N/A"}}]
[301219,{"$f":"IF(A2118=\"\",\"\",VLOOKUP(A2118,[1]ItemConfig!$A:$B,2,FALSE))","v":{"$error":"#N/A"}},{"$f":"IF(A2118=\"\",\"\",VLOOKUP(A2118,[1]ItemConfig!$A:$D,4,FALSE))","v":{"$error":"#N/A"}},{"$f":"IF(A2118=\"\",\"\",VLOOKUP(A2118,[1]ItemConfig!$A:$C,3,FALSE))","v":{"$error":"#N/A"}},{"$f":"IF(A2118=\"\",\"\",VLOOKUP(B2118,#REF!,5,FALSE))","v":{"$error":"#N/A"}},{"$f":"IF(A2118=\"\",\"\",VLOOKUP(C2118,#REF!,5,FALSE))","v":{"$error":"#N/A"}}]
[301220,{"$f":"IF(A2119=\"\",\"\",VLOOKUP(A2119,[1]ItemConfig!$A:$B,2,FALSE))","v":{"$error":"#N/A"}},{"$f":"IF(A2119=\"\",\"\",VLOOKUP(A2119,[1]ItemConfig!$A:$D,4,FALSE))","v":{"$error":"#N/A"}},{"$f":"IF(A2119=\"\",\"\",VLOOKUP(A2119,[1]ItemConfig!$A:$C,3,FALSE))","v":{"$error":"#N/A"}},{"$f":"IF(A2119=\"\",\"\",VLOOKUP(B2119,#REF!,5,FALSE))","v":{"$error":"#N/A"}},{"$f":"IF(A2119=\"\",\"\",VLOOKUP(C2119,#REF!,5,FALSE))","v":{"$error":"#N/A"}}]
[301221,{"$f":"IF(A2120=\"\",\"\",VLOOKUP(A2120,[1]ItemConfig!$A:$B,2,FALSE))","v":{"$error":"#N/A"}},{"$f":"IF(A2120=\"\",\"\",VLOOKUP(A2120,[1]ItemConfig!$A:$D,4,FALSE))","v":{"$error":"#N/A"}},{"$f":"IF(A2120=\"\",\"\",VLOOKUP(A2120,[1]ItemConfig!$A:$C,3,FALSE))","v":{"$error":"#N/A"}},{"$f":"IF(A2120=\"\",\"\",VLOOKUP(B2120,#REF!,5,FALSE))","v":{"$error":"#N/A"}},{"$f":"IF(A2120=\"\",\"\",VLOOKUP(C2120,#REF!,5,FALSE))","v":{"$error":"#N/A"}}]
[301222,{"$f":"IF(A2121=\"\",\"\",VLOOKUP(A2121,[1]ItemConfig!$A:$B,2,FALSE))","v":{"$error":"#N/A"}},{"$f":"IF(A2121=\"\",\"\",VLOOKUP(A2121,[1]ItemConfig!$A:$D,4,FALSE))","v":{"$error":"#N/A"}},{"$f":"IF(A2121=\"\",\"\",VLOOKUP(A2121,[1]ItemConfig!$A:$C,3,FALSE))","v":{"$error":"#N/A"}},{"$f":"IF(A2121=\"\",\"\",VLOOKUP(B2121,#REF!,5,FALSE))","v":{"$error":"#N/A"}},{"$f":"IF(A2121=\"\",\"\",VLOOKUP(C2121,#REF!,5,FALSE))","v":{"$error":"#N/A"}}]
[301223,{"$f":"IF(A2122=\"\",\"\",VLOOKUP(A2122,[1]ItemConfig!$A:$B,2,FALSE))","v":{"$error":"#N/A"}},{"$f":"IF(A2122=\"\",\"\",VLOOKUP(A2122,[1]ItemConfig!$A:$D,4,FALSE))","v":{"$error":"#N/A"}},{"$f":"IF(A2122=\"\",\"\",VLOOKUP(A2122,[1]ItemConfig!$A:$C,3,FALSE))","v":{"$error":"#N/A"}},{"$f":"IF(A2122=\"\",\"\",VLOOKUP(B2122,#REF!,5,FALSE))","v":{"$error":"#N/A"}},{"$f":"IF(A2122=\"\",\"\",VLOOKUP(C2122,#REF!,5,FALSE))","v":{"$error":"#N/A"}}]
[301224,{"$f":"IF(A2123=\"\",\"\",VLOOKUP(A2123,[1]ItemConfig!$A:$B,2,FALSE))","v":{"$error":"#N/A"}},{"$f":"IF(A2123=\"\",\"\",VLOOKUP(A2123,[1]ItemConfig!$A:$D,4,FALSE))","v":{"$error":"#N/A"}},{"$f":"IF(A2123=\"\",\"\",VLOOKUP(A2123,[1]ItemConfig!$A:$C,3,FALSE))","v":{"$error":"#N/A"}},{"$f":"IF(A2123=\"\",\"\",VLOOKUP(B2123,#REF!,5,FALSE))","v":{"$error":"#N/A"}},{"$f":"IF(A2123=\"\",\"\",VLOOKUP(C2123,#REF!,5,FALSE))","v":{"$error":"#N/A"}}]
[null,{"$f":"IF(A2124=\"\",\"\",VLOOKUP(A2124,[1]ItemConfig!$A:$B,2,FALSE))","v":""},{"$f":"IF(A2124=\"\",\"\",VLOOKUP(A2124,[1]ItemConfig!$A:$D,4,FALSE))","v":""},{"$f":"IF(A2124=\"\",\"\",VLOOKUP(A2124,[1]ItemConfig!$A:$C,3,FALSE))","v":""},{"$f":"IF(A2124=\"\",\"\",VLOOKUP(B2124,#REF!,5,FALSE))","v":""},{"$f":"IF(A2124=\"\",\"\",VLOOKUP(C2124,#REF!,5,FALSE))","v":""}]
[301225,{"$f":"IF(A2125=\"\",\"\",VLOOKUP(A2125,[1]ItemConfig!$A:$B,2,FALSE))","v":{"$error":"#N/A"}},{"$f":"IF(A2125=\"\",\"\",VLOOKUP(A2125,[1]ItemConfig!$A:$D,4,FALSE))","v":{"$error":"#N/A"}},{"$f":"IF(A2125=\"\",\"\",VLOOKUP(A2125,[1]ItemConfig!$A:$C,3,FALSE))","v":{"$error":"#N/A"}},{"$f":"IF(A2125=\"\",\"\",VLOOKUP(B2125,#REF!,5,FALSE))","v":{"$error":"#N/A"}},{"$f":"IF(A2125=\"\",\"\",VLOOKUP(C2125,#REF!,5,FALSE))","v":{"$error":"#N/A"}}]
[301226,{"$f":"IF(A2126=\"\",\"\",VLOOKUP(A2126,[1]ItemConfig!$A:$B,2,FALSE))","v":{"$error":"#N/A"}},{"$f":"IF(A2126=\"\",\"\",VLOOKUP(A2126,[1]ItemConfig!$A:$D,4,FALSE))","v":{"$error":"#N/A"}},{"$f":"IF(A2126=\"\",\"\",VLOOKUP(A2126,[1]ItemConfig!$A:$C,3,FALSE))","v":{"$error":"#N/A"}},{"$f":"IF(A2126=\"\",\"\",VLOOKUP(B2126,#REF!,5,FALSE))","v":{"$error":"#N/A"}},{"$f":"IF(A2126=\"\",\"\",VLOOKUP(C2126,#REF!,5,FALSE))","v":{"$error":"#N/A"}}]
[301227,{"$f":"IF(A2127=\"\",\"\",VLOOKUP(A2127,[1]ItemConfig!$A:$B,2,FALSE))","v":{"$error":"#N/A"}},{"$f":"IF(A2127=\"\",\"\",VLOOKUP(A2127,[1]ItemConfig!$A:$D,4,FALSE))","v":{"$error":"#N/A"}},{"$f":"IF(A2127=\"\",\"\",VLOOKUP(A2127,[1]ItemConfig!$A:$C,3,FALSE))","v":{"$error":"#N/A"}},{"$f":"IF(A2127=\"\",\"\",VLOOKUP(B2127,#REF!,5,FALSE))","v":{"$error":"#N/A"}},{"$f":"IF(A2127=\"\",\"\",VLOOKUP(C2127,#REF!,5,FALSE))","v":{"$error":"#N/A"}}]
[301228,{"$f":"IF(A2128=\"\",\"\",VLOOKUP(A2128,[1]ItemConfig!$A:$B,2,FALSE))","v":{"$error":"#N/A"}},{"$f":"IF(A2128=\"\",\"\",VLOOKUP(A2128,[1]ItemConfig!$A:$D,4,FALSE))","v":{"$error":"#N/A"}},{"$f":"IF(A2128=\"\",\"\",VLOOKUP(A2128,[1]ItemConfig!$A:$C,3,FALSE))","v":{"$error":"#N/A"}},{"$f":"IF(A2128=\"\",\"\",VLOOKUP(B2128,#REF!,5,FALSE))","v":{"$error":"#N/A"}},{"$f":"IF(A2128=\"\",\"\",VLOOKUP(C2128,#REF!,5,FALSE))","v":{"$error":"#N/A"}}]
[301229,{"$f":"IF(A2129=\"\",\"\",VLOOKUP(A2129,[1]ItemConfig!$A:$B,2,FALSE))","v":{"$error":"#N/A"}},{"$f":"IF(A2129=\"\",\"\",VLOOKUP(A2129,[1]ItemConfig!$A:$D,4,FALSE))","v":{"$error":"#N/A"}},{"$f":"IF(A2129=\"\",\"\",VLOOKUP(A2129,[1]ItemConfig!$A:$C,3,FALSE))","v":{"$error":"#N/A"}},{"$f":"IF(A2129=\"\",\"\",VLOOKUP(B2129,#REF!,5,FALSE))","v":{"$error":"#N/A"}},{"$f":"IF(A2129=\"\",\"\",VLOOKUP(C2129,#REF!,5,FALSE))","v":{"$error":"#N/A"}}]
[301230,{"$f":"IF(A2130=\"\",\"\",VLOOKUP(A2130,[1]ItemConfig!$A:$B,2,FALSE))","v":{"$error":"#N/A"}},{"$f":"IF(A2130=\"\",\"\",VLOOKUP(A2130,[1]ItemConfig!$A:$D,4,FALSE))","v":{"$error":"#N/A"}},{"$f":"IF(A2130=\"\",\"\",VLOOKUP(A2130,[1]ItemConfig!$A:$C,3,FALSE))","v":{"$error":"#N/A"}},{"$f":"IF(A2130=\"\",\"\",VLOOKUP(B2130,#REF!,5,FALSE))","v":{"$error":"#N/A"}},{"$f":"IF(A2130=\"\",\"\",VLOOKUP(C2130,#REF!,5,FALSE))","v":{"$error":"#N/A"}}]
[301231,{"$f":"IF(A2131=\"\",\"\",VLOOKUP(A2131,[1]ItemConfig!$A:$B,2,FALSE))","v":{"$error":"#N/A"}},{"$f":"IF(A2131=\"\",\"\",VLOOKUP(A2131,[1]ItemConfig!$A:$D,4,FALSE))","v":{"$error":"#N/A"}},{"$f":"IF(A2131=\"\",\"\",VLOOKUP(A2131,[1]ItemConfig!$A:$C,3,FALSE))","v":{"$error":"#N/A"}},{"$f":"IF(A2131=\"\",\"\",VLOOKUP(B2131,#REF!,5,FALSE))","v":{"$error":"#N/A"}},{"$f":"IF(A2131=\"\",\"\",VLOOKUP(C2131,#REF!,5,FALSE))","v":{"$error":"#N/A"}}]
[301232,{"$f":"IF(A2132=\"\",\"\",VLOOKUP(A2132,[1]ItemConfig!$A:$B,2,FALSE))","v":{"$error":"#N/A"}},{"$f":"IF(A2132=\"\",\"\",VLOOKUP(A2132,[1]ItemConfig!$A:$D,4,FALSE))","v":{"$error":"#N/A"}},{"$f":"IF(A2132=\"\",\"\",VLOOKUP(A2132,[1]ItemConfig!$A:$C,3,FALSE))","v":{"$error":"#N/A"}},{"$f":"IF(A2132=\"\",\"\",VLOOKUP(B2132,#REF!,5,FALSE))","v":{"$error":"#N/A"}},{"$f":"IF(A2132=\"\",\"\",VLOOKUP(C2132,#REF!,5,FALSE))","v":{"$error":"#N/A"}}]
[null,{"$f":"IF(A2133=\"\",\"\",VLOOKUP(A2133,[1]ItemConfig!$A:$B,2,FALSE))","v":""},{"$f":"IF(A2133=\"\",\"\",VLOOKUP(A2133,[1]ItemConfig!$A:$D,4,FALSE))","v":""},{"$f":"IF(A2133=\"\",\"\",VLOOKUP(A2133,[1]ItemConfig!$A:$C,3,FALSE))","v":""},{"$f":"IF(A2133=\"\",\"\",VLOOKUP(B2133,#REF!,5,FALSE))","v":""},{"$f":"IF(A2133=\"\",\"\",VLOOKUP(C2133,#REF!,5,FALSE))","v":""}]
[301233,{"$f":"IF(A2134=\"\",\"\",VLOOKUP(A2134,[1]ItemConfig!$A:$B,2,FALSE))","v":{"$error":"#N/A"}},{"$f":"IF(A2134=\"\",\"\",VLOOKUP(A2134,[1]ItemConfig!$A:$D,4,FALSE))","v":{"$error":"#N/A"}},{"$f":"IF(A2134=\"\",\"\",VLOOKUP(A2134,[1]ItemConfig!$A:$C,3,FALSE))","v":{"$error":"#N/A"}},{"$f":"IF(A2134=\"\",\"\",VLOOKUP(B2134,#REF!,5,FALSE))","v":{"$error":"#N/A"}},{"$f":"IF(A2134=\"\",\"\",VLOOKUP(C2134,#REF!,5,FALSE))","v":{"$error":"#N/A"}}]
[301234,{"$f":"IF(A2135=\"\",\"\",VLOOKUP(A2135,[1]ItemConfig!$A:$B,2,FALSE))","v":{"$error":"#N/A"}},{"$f":"IF(A2135=\"\",\"\",VLOOKUP(A2135,[1]ItemConfig!$A:$D,4,FALSE))","v":{"$error":"#N/A"}},{"$f":"IF(A2135=\"\",\"\",VLOOKUP(A2135,[1]ItemConfig!$A:$C,3,FALSE))","v":{"$error":"#N/A"}},{"$f":"IF(A2135=\"\",\"\",VLOOKUP(B2135,#REF!,5,FALSE))","v":{"$error":"#N/A"}},{"$f":"IF(A2135=\"\",\"\",VLOOKUP(C2135,#REF!,5,FALSE))","v":{"$error":"#N/A"}}]
[301235,{"$f":"IF(A2136=\"\",\"\",VLOOKUP(A2136,[1]ItemConfig!$A:$B,2,FALSE))","v":{"$error":"#N/A"}},{"$f":"IF(A2136=\"\",\"\",VLOOKUP(A2136,[1]ItemConfig!$A:$D,4,FALSE))","v":{"$error":"#N/A"}},{"$f":"IF(A2136=\"\",\"\",VLOOKUP(A2136,[1]ItemConfig!$A:$C,3,FALSE))","v":{"$error":"#N/A"}},{"$f":"IF(A2136=\"\",\"\",VLOOKUP(B2136,#REF!,5,FALSE))","v":{"$error":"#N/A"}},{"$f":"IF(A2136=\"\",\"\",VLOOKUP(C2136,#REF!,5,FALSE))","v":{"$error":"#N/A"}}]
[301236,{"$f":"IF(A2137=\"\",\"\",VLOOKUP(A2137,[1]ItemConfig!$A:$B,2,FALSE))","v":{"$error":"#N/A"}},{"$f":"IF(A2137=\"\",\"\",VLOOKUP(A2137,[1]ItemConfig!$A:$D,4,FALSE))","v":{"$error":"#N/A"}},{"$f":"IF(A2137=\"\",\"\",VLOOKUP(A2137,[1]ItemConfig!$A:$C,3,FALSE))","v":{"$error":"#N/A"}},{"$f":"IF(A2137=\"\",\"\",VLOOKUP(B2137,#REF!,5,FALSE))","v":{"$error":"#N/A"}},{"$f":"IF(A2137=\"\",\"\",VLOOKUP(C2137,#REF!,5,FALSE))","v":{"$error":"#N/A"}}]
[301237,{"$f":"IF(A2138=\"\",\"\",VLOOKUP(A2138,[1]ItemConfig!$A:$B,2,FALSE))","v":{"$error":"#N/A"}},{"$f":"IF(A2138=\"\",\"\",VLOOKUP(A2138,[1]ItemConfig!$A:$D,4,FALSE))","v":{"$error":"#N/A"}},{"$f":"IF(A2138=\"\",\"\",VLOOKUP(A2138,[1]ItemConfig!$A:$C,3,FALSE))","v":{"$error":"#N/A"}},{"$f":"IF(A2138=\"\",\"\",VLOOKUP(B2138,#REF!,5,FALSE))","v":{"$error":"#N/A"}},{"$f":"IF(A2138=\"\",\"\",VLOOKUP(C2138,#REF!,5,FALSE))","v":{"$error":"#N/A"}}]
[301238,{"$f":"IF(A2139=\"\",\"\",VLOOKUP(A2139,[1]ItemConfig!$A:$B,2,FALSE))","v":{"$error":"#N/A"}},{"$f":"IF(A2139=\"\",\"\",VLOOKUP(A2139,[1]ItemConfig!$A:$D,4,FALSE))","v":{"$error":"#N/A"}},{"$f":"IF(A2139=\"\",\"\",VLOOKUP(A2139,[1]ItemConfig!$A:$C,3,FALSE))","v":{"$error":"#N/A"}},{"$f":"IF(A2139=\"\",\"\",VLOOKUP(B2139,#REF!,5,FALSE))","v":{"$error":"#N/A"}},{"$f":"IF(A2139=\"\",\"\",VLOOKUP(C2139,#REF!,5,FALSE))","v":{"$error":"#N/A"}}]
[301239,{"$f":"IF(A2140=\"\",\"\",VLOOKUP(A2140,[1]ItemConfig!$A:$B,2,FALSE))","v":{"$error":"#N/A"}},{"$f":"IF(A2140=\"\",\"\",VLOOKUP(A2140,[1]ItemConfig!$A:$D,4,FALSE))","v":{"$error":"#N/A"}},{"$f":"IF(A2140=\"\",\"\",VLOOKUP(A2140,[1]ItemConfig!$A:$C,3,FALSE))","v":{"$error":"#N/A"}},{"$f":"IF(A2140=\"\",\"\",VLOOKUP(B2140,#REF!,5,FALSE))","v":{"$error":"#N/A"}},{"$f":"IF(A2140=\"\",\"\",VLOOKUP(C2140,#REF!,5,FALSE))","v":{"$error":"#N/A"}}]
[301240,{"$f":"IF(A2141=\"\",\"\",VLOOKUP(A2141,[1]ItemConfig!$A:$B,2,FALSE))","v":{"$error":"#N/A"}},{"$f":"IF(A2141=\"\",\"\",VLOOKUP(A2141,[1]ItemConfig!$A:$D,4,FALSE))","v":{"$error":"#N/A"}},{"$f":"IF(A2141=\"\",\"\",VLOOKUP(A2141,[1]ItemConfig!$A:$C,3,FALSE))","v":{"$error":"#N/A"}},{"$f":"IF(A2141=\"\",\"\",VLOOKUP(B2141,#REF!,5,FALSE))","v":{"$error":"#N/A"}},{"$f":"IF(A2141=\"\",\"\",VLOOKUP(C2141,#REF!,5,FALSE))","v":{"$error":"#N/A"}}]
[null,{"$f":"IF(A2142=\"\",\"\",VLOOKUP(A2142,[1]ItemConfig!$A:$B,2,FALSE))","v":""},{"$f":"IF(A2142=\"\",\"\",VLOOKUP(A2142,[1]ItemConfig!$A:$D,4,FALSE))","v":""},{"$f":"IF(A2142=\"\",\"\",VLOOKUP(A2142,[1]ItemConfig!$A:$C,3,FALSE))","v":""},{"$f":"IF(A2142=\"\",\"\",VLOOKUP(B2142,#REF!,5,FALSE))","v":""},{"$f":"IF(A2142=\"\",\"\",VLOOKUP(C2142,#REF!,5,FALSE))","v":""}]
[301241,{"$f":"IF(A2143=\"\",\"\",VLOOKUP(A2143,[1]ItemConfig!$A:$B,2,FALSE))","v":{"$error":"#N/A"}},{"$f":"IF(A2143=\"\",\"\",VLOOKUP(A2143,[1]ItemConfig!$A:$D,4,FALSE))","v":{"$error":"#N/A"}},{"$f":"IF(A2143=\"\",\"\",VLOOKUP(A2143,[1]ItemConfig!$A:$C,3,FALSE))","v":{"$error":"#N/A"}},{"$f":"IF(A2143=\"\",\"\",VLOOKUP(B2143,#REF!,5,FALSE))","v":{"$error":"#N/A"}},{"$f":"IF(A2143=\"\",\"\",VLOOKUP(C2143,#REF!,5,FALSE))","v":{"$error":"#N/A"}}]
[301242,{"$f":"IF(A2144=\"\",\"\",VLOOKUP(A2144,[1]ItemConfig!$A:$B,2,FALSE))","v":{"$error":"#N/A"}},{"$f":"IF(A2144=\"\",\"\",VLOOKUP(A2144,[1]ItemConfig!$A:$D,4,FALSE))","v":{"$error":"#N/A"}},{"$f":"IF(A2144=\"\",\"\",VLOOKUP(A2144,[1]ItemConfig!$A:$C,3,FALSE))","v":{"$error":"#N/A"}},{"$f":"IF(A2144=\"\",\"\",VLOOKUP(B2144,#REF!,5,FALSE))","v":{"$error":"#N/A"}},{"$f":"IF(A2144=\"\",\"\",VLOOKUP(C2144,#REF!,5,FALSE))","v":{"$error":"#N/A"}}]
[301243,{"$f":"IF(A2145=\"\",\"\",VLOOKUP(A2145,[1]ItemConfig!$A:$B,2,FALSE))","v":{"$error":"#N/A"}},{"$f":"IF(A2145=\"\",\"\",VLOOKUP(A2145,[1]ItemConfig!$A:$D,4,FALSE))","v":{"$error":"#N/A"}},{"$f":"IF(A2145=\"\",\"\",VLOOKUP(A2145,[1]ItemConfig!$A:$C,3,FALSE))","v":{"$error":"#N/A"}},{"$f":"IF(A2145=\"\",\"\",VLOOKUP(B2145,#REF!,5,FALSE))","v":{"$error":"#N/A"}},{"$f":"IF(A2145=\"\",\"\",VLOOKUP(C2145,#REF!,5,FALSE))","v":{"$error":"#N/A"}}]
[301244,{"$f":"IF(A2146=\"\",\"\",VLOOKUP(A2146,[1]ItemConfig!$A:$B,2,FALSE))","v":{"$error":"#N/A"}},{"$f":"IF(A2146=\"\",\"\",VLOOKUP(A2146,[1]ItemConfig!$A:$D,4,FALSE))","v":{"$error":"#N/A"}},{"$f":"IF(A2146=\"\",\"\",VLOOKUP(A2146,[1]ItemConfig!$A:$C,3,FALSE))","v":{"$error":"#N/A"}},{"$f":"IF(A2146=\"\",\"\",VLOOKUP(B2146,#REF!,5,FALSE))","v":{"$error":"#N/A"}},{"$f":"IF(A2146=\"\",\"\",VLOOKUP(C2146,#REF!,5,FALSE))","v":{"$error":"#N/A"}}]
[301245,{"$f":"IF(A2147=\"\",\"\",VLOOKUP(A2147,[1]ItemConfig!$A:$B,2,FALSE))","v":{"$error":"#N/A"}},{"$f":"IF(A2147=\"\",\"\",VLOOKUP(A2147,[1]ItemConfig!$A:$D,4,FALSE))","v":{"$error":"#N/A"}},{"$f":"IF(A2147=\"\",\"\",VLOOKUP(A2147,[1]ItemConfig!$A:$C,3,FALSE))","v":{"$error":"#N/A"}},{"$f":"IF(A2147=\"\",\"\",VLOOKUP(B2147,#REF!,5,FALSE))","v":{"$error":"#N/A"}},{"$f":"IF(A2147=\"\",\"\",VLOOKUP(C2147,#REF!,5,FALSE))","v":{"$error":"#N/A"}}]
[301246,{"$f":"IF(A2148=\"\",\"\",VLOOKUP(A2148,[1]ItemConfig!$A:$B,2,FALSE))","v":{"$error":"#N/A"}},{"$f":"IF(A2148=\"\",\"\",VLOOKUP(A2148,[1]ItemConfig!$A:$D,4,FALSE))","v":{"$error":"#N/A"}},{"$f":"IF(A2148=\"\",\"\",VLOOKUP(A2148,[1]ItemConfig!$A:$C,3,FALSE))","v":{"$error":"#N/A"}},{"$f":"IF(A2148=\"\",\"\",VLOOKUP(B2148,#REF!,5,FALSE))","v":{"$error":"#N/A"}},{"$f":"IF(A2148=\"\",\"\",VLOOKUP(C2148,#REF!,5,FALSE))","v":{"$error":"#N/A"}}]
[301247,{"$f":"IF(A2149=\"\",\"\",VLOOKUP(A2149,[1]ItemConfig!$A:$B,2,FALSE))","v":{"$error":"#N/A"}},{"$f":"IF(A2149=\"\",\"\",VLOOKUP(A2149,[1]ItemConfig!$A:$D,4,FALSE))","v":{"$error":"#N/A"}},{"$f":"IF(A2149=\"\",\"\",VLOOKUP(A2149,[1]ItemConfig!$A:$C,3,FALSE))","v":{"$error":"#N/A"}},{"$f":"IF(A2149=\"\",\"\",VLOOKUP(B2149,#REF!,5,FALSE))","v":{"$error":"#N/A"}},{"$f":"IF(A2149=\"\",\"\",VLOOKUP(C2149,#REF!,5,FALSE))","v":{"$error":"#N/A"}}]
[301248,{"$f":"IF(A2150=\"\",\"\",VLOOKUP(A2150,[1]ItemConfig!$A:$B,2,FALSE))","v":{"$error":"#N/A"}},{"$f":"IF(A2150=\"\",\"\",VLOOKUP(A2150,[1]ItemConfig!$A:$D,4,FALSE))","v":{"$error":"#N/A"}},{"$f":"IF(A2150=\"\",\"\",VLOOKUP(A2150,[1]ItemConfig!$A:$C,3,FALSE))","v":{"$error":"#N/A"}},{"$f":"IF(A2150=\"\",\"\",VLOOKUP(B2150,#REF!,5,FALSE))","v":{"$error":"#N/A"}},{"$f":"IF(A2150=\"\",\"\",VLOOKUP(C2150,#REF!,5,FALSE))","v":{"$error":"#N/A"}}]
[null,{"$f":"IF(A2151=\"\",\"\",VLOOKUP(A2151,[1]ItemConfig!$A:$B,2,FALSE))","v":""},{"$f":"IF(A2151=\"\",\"\",VLOOKUP(A2151,[1]ItemConfig!$A:$D,4,FALSE))","v":""},{"$f":"IF(A2151=\"\",\"\",VLOOKUP(A2151,[1]ItemConfig!$A:$C,3,FALSE))","v":""},{"$f":"IF(A2151=\"\",\"\",VLOOKUP(B2151,#REF!,5,FALSE))","v":""},{"$f":"IF(A2151=\"\",\"\",VLOOKUP(C2151,#REF!,5,FALSE))","v":""}]
[301249,{"$f":"IF(A2152=\"\",\"\",VLOOKUP(A2152,[1]ItemConfig!$A:$B,2,FALSE))","v":{"$error":"#N/A"}},{"$f":"IF(A2152=\"\",\"\",VLOOKUP(A2152,[1]ItemConfig!$A:$D,4,FALSE))","v":{"$error":"#N/A"}},{"$f":"IF(A2152=\"\",\"\",VLOOKUP(A2152,[1]ItemConfig!$A:$C,3,FALSE))","v":{"$error":"#N/A"}},{"$f":"IF(A2152=\"\",\"\",VLOOKUP(B2152,#REF!,5,FALSE))","v":{"$error":"#N/A"}},{"$f":"IF(A2152=\"\",\"\",VLOOKUP(C2152,#REF!,5,FALSE))","v":{"$error":"#N/A"}}]
[301250,{"$f":"IF(A2153=\"\",\"\",VLOOKUP(A2153,[1]ItemConfig!$A:$B,2,FALSE))","v":{"$error":"#N/A"}},{"$f":"IF(A2153=\"\",\"\",VLOOKUP(A2153,[1]ItemConfig!$A:$D,4,FALSE))","v":{"$error":"#N/A"}},{"$f":"IF(A2153=\"\",\"\",VLOOKUP(A2153,[1]ItemConfig!$A:$C,3,FALSE))","v":{"$error":"#N/A"}},{"$f":"IF(A2153=\"\",\"\",VLOOKUP(B2153,#REF!,5,FALSE))","v":{"$error":"#N/A"}},{"$f":"IF(A2153=\"\",\"\",VLOOKUP(C2153,#REF!,5,FALSE))","v":{"$error":"#N/A"}}]
[301251,{"$f":"IF(A2154=\"\",\"\",VLOOKUP(A2154,[1]ItemConfig!$A:$B,2,FALSE))","v":{"$error":"#N/A"}},{"$f":"IF(A2154=\"\",\"\",VLOOKUP(A2154,[1]ItemConfig!$A:$D,4,FALSE))","v":{"$error":"#N/A"}},{"$f":"IF(A2154=\"\",\"\",VLOOKUP(A2154,[1]ItemConfig!$A:$C,3,FALSE))","v":{"$error":"#N/A"}},{"$f":"IF(A2154=\"\",\"\",VLOOKUP(B2154,#REF!,5,FALSE))","v":{"$error":"#N/A"}},{"$f":"IF(A2154=\"\",\"\",VLOOKUP(C2154,#REF!,5,FALSE))","v":{"$error":"#N/A"}}]
[301252,{"$f":"IF(A2155=\"\",\"\",VLOOKUP(A2155,[1]ItemConfig!$A:$B,2,FALSE))","v":{"$error":"#N/A"}},{"$f":"IF(A2155=\"\",\"\",VLOOKUP(A2155,[1]ItemConfig!$A:$D,4,FALSE))","v":{"$error":"#N/A"}},{"$f":"IF(A2155=\"\",\"\",VLOOKUP(A2155,[1]ItemConfig!$A:$C,3,FALSE))","v":{"$error":"#N/A"}},{"$f":"IF(A2155=\"\",\"\",VLOOKUP(B2155,#REF!,5,FALSE))","v":{"$error":"#N/A"}},{"$f":"IF(A2155=\"\",\"\",VLOOKUP(C2155,#REF!,5,FALSE))","v":{"$error":"#N/A"}}]
[301253,{"$f":"IF(A2156=\"\",\"\",VLOOKUP(A2156,[1]ItemConfig!$A:$B,2,FALSE))","v":{"$error":"#N/A"}},{"$f":"IF(A2156=\"\",\"\",VLOOKUP(A2156,[1]ItemConfig!$A:$D,4,FALSE))","v":{"$error":"#N/A"}},{"$f":"IF(A2156=\"\",\"\",VLOOKUP(A2156,[1]ItemConfig!$A:$C,3,FALSE))","v":{"$error":"#N/A"}},{"$f":"IF(A2156=\"\",\"\",VLOOKUP(B2156,#REF!,5,FALSE))","v":{"$error":"#N/A"}},{"$f":"IF(A2156=\"\",\"\",VLOOKUP(C2156,#REF!,5,FALSE))","v":{"$error":"#N/A"}}]
[301254,{"$f":"IF(A2157=\"\",\"\",VLOOKUP(A2157,[1]ItemConfig!$A:$B,2,FALSE))","v":{"$error":"#N/A"}},{"$f":"IF(A2157=\"\",\"\",VLOOKUP(A2157,[1]ItemConfig!$A:$D,4,FALSE))","v":{"$error":"#N/A"}},{"$f":"IF(A2157=\"\",\"\",VLOOKUP(A2157,[1]ItemConfig!$A:$C,3,FALSE))","v":{"$error":"#N/A"}},{"$f":"IF(A2157=\"\",\"\",VLOOKUP(B2157,#REF!,5,FALSE))","v":{"$error":"#N/A"}},{"$f":"IF(A2157=\"\",\"\",VLOOKUP(C2157,#REF!,5,FALSE))","v":{"$error":"#N/A"}}]
[301255,{"$f":"IF(A2158=\"\",\"\",VLOOKUP(A2158,[1]ItemConfig!$A:$B,2,FALSE))","v":{"$error":"#N/A"}},{"$f":"IF(A2158=\"\",\"\",VLOOKUP(A2158,[1]ItemConfig!$A:$D,4,FALSE))","v":{"$error":"#N/A"}},{"$f":"IF(A2158=\"\",\"\",VLOOKUP(A2158,[1]ItemConfig!$A:$C,3,FALSE))","v":{"$error":"#N/A"}},{"$f":"IF(A2158=\"\",\"\",VLOOKUP(B2158,#REF!,5,FALSE))","v":{"$error":"#N/A"}},{"$f":"IF(A2158=\"\",\"\",VLOOKUP(C2158,#REF!,5,FALSE))","v":{"$error":"#N/A"}}]
[301256,{"$f":"IF(A2159=\"\",\"\",VLOOKUP(A2159,[1]ItemConfig!$A:$B,2,FALSE))","v":{"$error":"#N/A"}},{"$f":"IF(A2159=\"\",\"\",VLOOKUP(A2159,[1]ItemConfig!$A:$D,4,FALSE))","v":{"$error":"#N/A"}},{"$f":"IF(A2159=\"\",\"\",VLOOKUP(A2159,[1]ItemConfig!$A:$C,3,FALSE))","v":{"$error":"#N/A"}},{"$f":"IF(A2159=\"\",\"\",VLOOKUP(B2159,#REF!,5,FALSE))","v":{"$error":"#N/A"}},{"$f":"IF(A2159=\"\",\"\",VLOOKUP(C2159,#REF!,5,FALSE))","v":{"$error":"#N/A"}}]
[null,{"$f":"IF(A2160=\"\",\"\",VLOOKUP(A2160,[1]ItemConfig!$A:$B,2,FALSE))","v":""},{"$f":"IF(A2160=\"\",\"\",VLOOKUP(A2160,[1]ItemConfig!$A:$D,4,FALSE))","v":""},{"$f":"IF(A2160=\"\",\"\",VLOOKUP(A2160,[1]ItemConfig!$A:$C,3,FALSE))","v":""},{"$f":"IF(A2160=\"\",\"\",VLOOKUP(B2160,#REF!,5,FALSE))","v":""},{"$f":"IF(A2160=\"\",\"\",VLOOKUP(C2160,#REF!,5,FALSE))","v":""}]
[301257,{"$f":"IF(A2161=\"\",\"\",VLOOKUP(A2161,[1]ItemConfig!$A:$B,2,FALSE))","v":{"$error":"#N/A"}},{"$f":"IF(A2161=\"\",\"\",VLOOKUP(A2161,[1]ItemConfig!$A:$D,4,FALSE))","v":{"$error":"#N/A"}},{"$f":"IF(A2161=\"\",\"\",VLOOKUP(A2161,[1]ItemConfig!$A:$C,3,FALSE))","v":{"$error":"#N/A"}},{"$f":"IF(A2161=\"\",\"\",VLOOKUP(B2161,#REF!,5,FALSE))","v":{"$error":"#N/A"}},{"$f":"IF(A2161=\"\",\"\",VLOOKUP(C2161,#REF!,5,FALSE))","v":{"$error":"#N/A"}}]
[301258,{"$f":"IF(A2162=\"\",\"\",VLOOKUP(A2162,[1]ItemConfig!$A:$B,2,FALSE))","v":{"$error":"#N/A"}},{"$f":"IF(A2162=\"\",\"\",VLOOKUP(A2162,[1]ItemConfig!$A:$D,4,FALSE))","v":{"$error":"#N/A"}},{"$f":"IF(A2162=\"\",\"\",VLOOKUP(A2162,[1]ItemConfig!$A:$C,3,FALSE))","v":{"$error":"#N/A"}},{"$f":"IF(A2162=\"\",\"\",VLOOKUP(B2162,#REF!,5,FALSE))","v":{"$error":"#N/A"}},{"$f":"IF(A2162=\"\",\"\",VLOOKUP(C2162,#REF!,5,FALSE))","v":{"$error":"#N/A"}}]
[301259,{"$f":"IF(A2163=\"\",\"\",VLOOKUP(A2163,[1]ItemConfig!$A:$B,2,FALSE))","v":{"$error":"#N/A"}},{"$f":"IF(A2163=\"\",\"\",VLOOKUP(A2163,[1]ItemConfig!$A:$D,4,FALSE))","v":{"$error":"#N/A"}},{"$f":"IF(A2163=\"\",\"\",VLOOKUP(A2163,[1]ItemConfig!$A:$C,3,FALSE))","v":{"$error":"#N/A"}},{"$f":"IF(A2163=\"\",\"\",VLOOKUP(B2163,#REF!,5,FALSE))","v":{"$error":"#N/A"}},{"$f":"IF(A2163=\"\",\"\",VLOOKUP(C2163,#REF!,5,FALSE))","v":{"$error":"#N/A"}}]
[301260,{"$f":"IF(A2164=\"\",\"\",VLOOKUP(A2164,[1]ItemConfig!$A:$B,2,FALSE))","v":{"$error":"#N/A"}},{"$f":"IF(A2164=\"\",\"\",VLOOKUP(A2164,[1]ItemConfig!$A:$D,4,FALSE))","v":{"$error":"#N/A"}},{"$f":"IF(A2164=\"\",\"\",VLOOKUP(A2164,[1]ItemConfig!$A:$C,3,FALSE))","v":{"$error":"#N/A"}},{"$f":"IF(A2164=\"\",\"\",VLOOKUP(B2164,#REF!,5,FALSE))","v":{"$error":"#N/A"}},{"$f":"IF(A2164=\"\",\"\",VLOOKUP(C2164,#REF!,5,FALSE))","v":{"$error":"#N/A"}}]
[301261,{"$f":"IF(A2165=\"\",\"\",VLOOKUP(A2165,[1]ItemConfig!$A:$B,2,FALSE))","v":{"$error":"#N/A"}},{"$f":"IF(A2165=\"\",\"\",VLOOKUP(A2165,[1]ItemConfig!$A:$D,4,FALSE))","v":{"$error":"#N/A"}},{"$f":"IF(A2165=\"\",\"\",VLOOKUP(A2165,[1]ItemConfig!$A:$C,3,FALSE))","v":{"$error":"#N/A"}},{"$f":"IF(A2165=\"\",\"\",VLOOKUP(B2165,#REF!,5,FALSE))","v":{"$error":"#N/A"}},{"$f":"IF(A2165=\"\",\"\",VLOOKUP(C2165,#REF!,5,FALSE))","v":{"$error":"#N/A"}}]
[301262,{"$f":"IF(A2166=\"\",\"\",VLOOKUP(A2166,[1]ItemConfig!$A:$B,2,FALSE))","v":{"$error":"#N/A"}},{"$f":"IF(A2166=\"\",\"\",VLOOKUP(A2166,[1]ItemConfig!$A:$D,4,FALSE))","v":{"$error":"#N/A"}},{"$f":"IF(A2166=\"\",\"\",VLOOKUP(A2166,[1]ItemConfig!$A:$C,3,FALSE))","v":{"$error":"#N/A"}},{"$f":"IF(A2166=\"\",\"\",VLOOKUP(B2166,#REF!,5,FALSE))","v":{"$error":"#N/A"}},{"$f":"IF(A2166=\"\",\"\",VLOOKUP(C2166,#REF!,5,FALSE))","v":{"$error":"#N/A"}}]
[301263,{"$f":"IF(A2167=\"\",\"\",VLOOKUP(A2167,[1]ItemConfig!$A:$B,2,FALSE))","v":{"$error":"#N/A"}},{"$f":"IF(A2167=\"\",\"\",VLOOKUP(A2167,[1]ItemConfig!$A:$D,4,FALSE))","v":{"$error":"#N/A"}},{"$f":"IF(A2167=\"\",\"\",VLOOKUP(A2167,[1]ItemConfig!$A:$C,3,FALSE))","v":{"$error":"#N/A"}},{"$f":"IF(A2167=\"\",\"\",VLOOKUP(B2167,#REF!,5,FALSE))","v":{"$error":"#N/A"}},{"$f":"IF(A2167=\"\",\"\",VLOOKUP(C2167,#REF!,5,FALSE))","v":{"$error":"#N/A"}}]
[301264,{"$f":"IF(A2168=\"\",\"\",VLOOKUP(A2168,[1]ItemConfig!$A:$B,2,FALSE))","v":{"$error":"#N/A"}},{"$f":"IF(A2168=\"\",\"\",VLOOKUP(A2168,[1]ItemConfig!$A:$D,4,FALSE))","v":{"$error":"#N/A"}},{"$f":"IF(A2168=\"\",\"\",VLOOKUP(A2168,[1]ItemConfig!$A:$C,3,FALSE))","v":{"$error":"#N/A"}},{"$f":"IF(A2168=\"\",\"\",VLOOKUP(B2168,#REF!,5,FALSE))","v":{"$error":"#N/A"}},{"$f":"IF(A2168=\"\",\"\",VLOOKUP(C2168,#REF!,5,FALSE))","v":{"$error":"#N/A"}}]
[null,{"$f":"IF(A2169=\"\",\"\",VLOOKUP(A2169,[1]ItemConfig!$A:$B,2,FALSE))","v":""},{"$f":"IF(A2169=\"\",\"\",VLOOKUP(A2169,[1]ItemConfig!$A:$D,4,FALSE))","v":""},{"$f":"IF(A2169=\"\",\"\",VLOOKUP(A2169,[1]ItemConfig!$A:$C,3,FALSE))","v":""},{"$f":"IF(A2169=\"\",\"\",VLOOKUP(B2169,#REF!,5,FALSE))","v":""},{"$f":"IF(A2169=\"\",\"\",VLOOKUP(C2169,#REF!,5,FALSE))","v":""}]
[301265,{"$f":"IF(A2170=\"\",\"\",VLOOKUP(A2170,[1]ItemConfig!$A:$B,2,FALSE))","v":{"$error":"#N/A"}},{"$f":"IF(A2170=\"\",\"\",VLOOKUP(A2170,[1]ItemConfig!$A:$D,4,FALSE))","v":{"$error":"#N/A"}},{"$f":"IF(A2170=\"\",\"\",VLOOKUP(A2170,[1]ItemConfig!$A:$C,3,FALSE))","v":{"$error":"#N/A"}},{"$f":"IF(A2170=\"\",\"\",VLOOKUP(B2170,#REF!,5,FALSE))","v":{"$error":"#N/A"}},{"$f":"IF(A2170=\"\",\"\",VLOOKUP(C2170,#REF!,5,FALSE))","v":{"$error":"#N/A"}}]
[301266,{"$f":"IF(A2171=\"\",\"\",VLOOKUP(A2171,[1]ItemConfig!$A:$B,2,FALSE))","v":{"$error":"#N/A"}},{"$f":"IF(A2171=\"\",\"\",VLOOKUP(A2171,[1]ItemConfig!$A:$D,4,FALSE))","v":{"$error":"#N/A"}},{"$f":"IF(A2171=\"\",\"\",VLOOKUP(A2171,[1]ItemConfig!$A:$C,3,FALSE))","v":{"$error":"#N/A"}},{"$f":"IF(A2171=\"\",\"\",VLOOKUP(B2171,#REF!,5,FALSE))","v":{"$error":"#N/A"}},{"$f":"IF(A2171=\"\",\"\",VLOOKUP(C2171,#REF!,5,FALSE))","v":{"$error":"#N/A"}}]
[301267,{"$f":"IF(A2172=\"\",\"\",VLOOKUP(A2172,[1]ItemConfig!$A:$B,2,FALSE))","v":{"$error":"#N/A"}},{"$f":"IF(A2172=\"\",\"\",VLOOKUP(A2172,[1]ItemConfig!$A:$D,4,FALSE))","v":{"$error":"#N/A"}},{"$f":"IF(A2172=\"\",\"\",VLOOKUP(A2172,[1]ItemConfig!$A:$C,3,FALSE))","v":{"$error":"#N/A"}},{"$f":"IF(A2172=\"\",\"\",VLOOKUP(B2172,#REF!,5,FALSE))","v":{"$error":"#N/A"}},{"$f":"IF(A2172=\"\",\"\",VLOOKUP(C2172,#REF!,5,FALSE))","v":{"$error":"#N/A"}}]
[301268,{"$f":"IF(A2173=\"\",\"\",VLOOKUP(A2173,[1]ItemConfig!$A:$B,2,FALSE))","v":{"$error":"#N/A"}},{"$f":"IF(A2173=\"\",\"\",VLOOKUP(A2173,[1]ItemConfig!$A:$D,4,FALSE))","v":{"$error":"#N/A"}},{"$f":"IF(A2173=\"\",\"\",VLOOKUP(A2173,[1]ItemConfig!$A:$C,3,FALSE))","v":{"$error":"#N/A"}},{"$f":"IF(A2173=\"\",\"\",VLOOKUP(B2173,#REF!,5,FALSE))","v":{"$error":"#N/A"}},{"$f":"IF(A2173=\"\",\"\",VLOOKUP(C2173,#REF!,5,FALSE))","v":{"$error":"#N/A"}}]
[301269,{"$f":"IF(A2174=\"\",\"\",VLOOKUP(A2174,[1]ItemConfig!$A:$B,2,FALSE))","v":{"$error":"#N/A"}},{"$f":"IF(A2174=\"\",\"\",VLOOKUP(A2174,[1]ItemConfig!$A:$D,4,FALSE))","v":{"$error":"#N/A"}},{"$f":"IF(A2174=\"\",\"\",VLOOKUP(A2174,[1]ItemConfig!$A:$C,3,FALSE))","v":{"$error":"#N/A"}},{"$f":"IF(A2174=\"\",\"\",VLOOKUP(B2174,#REF!,5,FALSE))","v":{"$error":"#N/A"}},{"$f":"IF(A2174=\"\",\"\",VLOOKUP(C2174,#REF!,5,FALSE))","v":{"$error":"#N/A"}}]
[301270,{"$f":"IF(A2175=\"\",\"\",VLOOKUP(A2175,[1]ItemConfig!$A:$B,2,FALSE))","v":{"$error":"#N/A"}},{"$f":"IF(A2175=\"\",\"\",VLOOKUP(A2175,[1]ItemConfig!$A:$D,4,FALSE))","v":{"$error":"#N/A"}},{"$f":"IF(A2175=\"\",\"\",VLOOKUP(A2175,[1]ItemConfig!$A:$C,3,FALSE))","v":{"$error":"#N/A"}},{"$f":"IF(A2175=\"\",\"\",VLOOKUP(B2175,#REF!,5,FALSE))","v":{"$error":"#N/A"}},{"$f":"IF(A2175=\"\",\"\",VLOOKUP(C2175,#REF!,5,FALSE))","v":{"$error":"#N/A"}}]
[301271,{"$f":"IF(A2176=\"\",\"\",VLOOKUP(A2176,[1]ItemConfig!$A:$B,2,FALSE))","v":{"$error":"#N/A"}},{"$f":"IF(A2176=\"\",\"\",VLOOKUP(A2176,[1]ItemConfig!$A:$D,4,FALSE))","v":{"$error":"#N/A"}},{"$f":"IF(A2176=\"\",\"\",VLOOKUP(A2176,[1]ItemConfig!$A:$C,3,FALSE))","v":{"$error":"#N/A"}},{"$f":"IF(A2176=\"\",\"\",VLOOKUP(B2176,#REF!,5,FALSE))","v":{"$error":"#N/A"}},{"$f":"IF(A2176=\"\",\"\",VLOOKUP(C2176,#REF!,5,FALSE))","v":{"$error":"#N/A"}}]
[301272,{"$f":"IF(A2177=\"\",\"\",VLOOKUP(A2177,[1]ItemConfig!$A:$B,2,FALSE))","v":{"$error":"#N/A"}},{"$f":"IF(A2177=\"\",\"\",VLOOKUP(A2177,[1]ItemConfig!$A:$D,4,FALSE))","v":{"$error":"#N/A"}},{"$f":"IF(A2177=\"\",\"\",VLOOKUP(A2177,[1]ItemConfig!$A:$C,3,FALSE))","v":{"$error":"#N/A"}},{"$f":"IF(A2177=\"\",\"\",VLOOKUP(B2177,#REF!,5,FALSE))","v":{"$error":"#N/A"}},{"$f":"IF(A2177=\"\",\"\",VLOOKUP(C2177,#REF!,5,FALSE))","v":{"$error":"#N/A"}}]
[null,{"$f":"IF(A2178=\"\",\"\",VLOOKUP(A2178,[1]ItemConfig!$A:$B,2,FALSE))","v":""},{"$f":"IF(A2178=\"\",\"\",VLOOKUP(A2178,[1]ItemConfig!$A:$D,4,FALSE))","v":""},{"$f":"IF(A2178=\"\",\"\",VLOOKUP(A2178,[1]ItemConfig!$A:$C,3,FALSE))","v":""},{"$f":"IF(A2178=\"\",\"\",VLOOKUP(B2178,#REF!,5,FALSE))","v":""},{"$f":"IF(A2178=\"\",\"\",VLOOKUP(C2178,#REF!,5,FALSE))","v":""}]
[301273,{"$f":"IF(A2179=\"\",\"\",VLOOKUP(A2179,[1]ItemConfig!$A:$B,2,FALSE))","v":{"$error":"#N/A"}},{"$f":"IF(A2179=\"\",\"\",VLOOKUP(A2179,[1]ItemConfig!$A:$D,4,FALSE))","v":{"$error":"#N/A"}},{"$f":"IF(A2179=\"\",\"\",VLOOKUP(A2179,[1]ItemConfig!$A:$C,3,FALSE))","v":{"$error":"#N/A"}},{"$f":"IF(A2179=\"\",\"\",VLOOKUP(B2179,#REF!,5,FALSE))","v":{"$error":"#N/A"}},{"$f":"IF(A2179=\"\",\"\",VLOOKUP(C2179,#REF!,5,FALSE))","v":{"$error":"#N/A"}}]
[301274,{"$f":"IF(A2180=\"\",\"\",VLOOKUP(A2180,[1]ItemConfig!$A:$B,2,FALSE))","v":{"$error":"#N/A"}},{"$f":"IF(A2180=\"\",\"\",VLOOKUP(A2180,[1]ItemConfig!$A:$D,4,FALSE))","v":{"$error":"#N/A"}},{"$f":"IF(A2180=\"\",\"\",VLOOKUP(A2180,[1]ItemConfig!$A:$C,3,FALSE))","v":{"$error":"#N/A"}},{"$f":"IF(A2180=\"\",\"\",VLOOKUP(B2180,#REF!,5,FALSE))","v":{"$error":"#N/A"}},{"$f":"IF(A2180=\"\",\"\",VLOOKUP(C2180,#REF!,5,FALSE))","v":{"$error":"#N/A"}}]
[301275,{"$f":"IF(A2181=\"\",\"\",VLOOKUP(A2181,[1]ItemConfig!$A:$B,2,FALSE))","v":{"$error":"#N/A"}},{"$f":"IF(A2181=\"\",\"\",VLOOKUP(A2181,[1]ItemConfig!$A:$D,4,FALSE))","v":{"$error":"#N/A"}},{"$f":"IF(A2181=\"\",\"\",VLOOKUP(A2181,[1]ItemConfig!$A:$C,3,FALSE))","v":{"$error":"#N/A"}},{"$f":"IF(A2181=\"\",\"\",VLOOKUP(B2181,#REF!,5,FALSE))","v":{"$error":"#N/A"}},{"$f":"IF(A2181=\"\",\"\",VLOOKUP(C2181,#REF!,5,FALSE))","v":{"$error":"#N/A"}}]
[301276,{"$f":"IF(A2182=\"\",\"\",VLOOKUP(A2182,[1]ItemConfig!$A:$B,2,FALSE))","v":{"$error":"#N/A"}},{"$f":"IF(A2182=\"\",\"\",VLOOKUP(A2182,[1]ItemConfig!$A:$D,4,FALSE))","v":{"$error":"#N/A"}},{"$f":"IF(A2182=\"\",\"\",VLOOKUP(A2182,[1]ItemConfig!$A:$C,3,FALSE))","v":{"$error":"#N/A"}},{"$f":"IF(A2182=\"\",\"\",VLOOKUP(B2182,#REF!,5,FALSE))","v":{"$error":"#N/A"}},{"$f":"IF(A2182=\"\",\"\",VLOOKUP(C2182,#REF!,5,FALSE))","v":{"$error":"#N/A"}}]
[301277,{"$f":"IF(A2183=\"\",\"\",VLOOKUP(A2183,[1]ItemConfig!$A:$B,2,FALSE))","v":{"$error":"#N/A"}},{"$f":"IF(A2183=\"\",\"\",VLOOKUP(A2183,[1]ItemConfig!$A:$D,4,FALSE))","v":{"$error":"#N/A"}},{"$f":"IF(A2183=\"\",\"\",VLOOKUP(A2183,[1]ItemConfig!$A:$C,3,FALSE))","v":{"$error":"#N/A"}},{"$f":"IF(A2183=\"\",\"\",VLOOKUP(B2183,#REF!,5,FALSE))","v":{"$error":"#N/A"}},{"$f":"IF(A2183=\"\",\"\",VLOOKUP(C2183,#REF!,5,FALSE))","v":{"$error":"#N/A"}}]
[301278,{"$f":"IF(A2184=\"\",\"\",VLOOKUP(A2184,[1]ItemConfig!$A:$B,2,FALSE))","v":{"$error":"#N/A"}},{"$f":"IF(A2184=\"\",\"\",VLOOKUP(A2184,[1]ItemConfig!$A:$D,4,FALSE))","v":{"$error":"#N/A"}},{"$f":"IF(A2184=\"\",\"\",VLOOKUP(A2184,[1]ItemConfig!$A:$C,3,FALSE))","v":{"$error":"#N/A"}},{"$f":"IF(A2184=\"\",\"\",VLOOKUP(B2184,#REF!,5,FALSE))","v":{"$error":"#N/A"}},{"$f":"IF(A2184=\"\",\"\",VLOOKUP(C2184,#REF!,5,FALSE))","v":{"$error":"#N/A"}}]
[301279,{"$f":"IF(A2185=\"\",\"\",VLOOKUP(A2185,[1]ItemConfig!$A:$B,2,FALSE))","v":{"$error":"#N/A"}},{"$f":"IF(A2185=\"\",\"\",VLOOKUP(A2185,[1]ItemConfig!$A:$D,4,FALSE))","v":{"$error":"#N/A"}},{"$f":"IF(A2185=\"\",\"\",VLOOKUP(A2185,[1]ItemConfig!$A:$C,3,FALSE))","v":{"$error":"#N/A"}},{"$f":"IF(A2185=\"\",\"\",VLOOKUP(B2185,#REF!,5,FALSE))","v":{"$error":"#N/A"}},{"$f":"IF(A2185=\"\",\"\",VLOOKUP(C2185,#REF!,5,FALSE))","v":{"$error":"#N/A"}}]
[301280,{"$f":"IF(A2186=\"\",\"\",VLOOKUP(A2186,[1]ItemConfig!$A:$B,2,FALSE))","v":{"$error":"#N/A"}},{"$f":"IF(A2186=\"\",\"\",VLOOKUP(A2186,[1]ItemConfig!$A:$D,4,FALSE))","v":{"$error":"#N/A"}},{"$f":"IF(A2186=\"\",\"\",VLOOKUP(A2186,[1]ItemConfig!$A:$C,3,FALSE))","v":{"$error":"#N/A"}},{"$f":"IF(A2186=\"\",\"\",VLOOKUP(B2186,#REF!,5,FALSE))","v":{"$error":"#N/A"}},{"$f":"IF(A2186=\"\",\"\",VLOOKUP(C2186,#REF!,5,FALSE))","v":{"$error":"#N/A"}}]
[null,{"$f":"IF(A2187=\"\",\"\",VLOOKUP(A2187,[1]ItemConfig!$A:$B,2,FALSE))","v":""},{"$f":"IF(A2187=\"\",\"\",VLOOKUP(A2187,[1]ItemConfig!$A:$D,4,FALSE))","v":""},{"$f":"IF(A2187=\"\",\"\",VLOOKUP(A2187,[1]ItemConfig!$A:$C,3,FALSE))","v":""},{"$f":"IF(A2187=\"\",\"\",VLOOKUP(B2187,#REF!,5,FALSE))","v":""},{"$f":"IF(A2187=\"\",\"\",VLOOKUP(C2187,#REF!,5,FALSE))","v":""}]
[301281,{"$f":"IF(A2188=\"\",\"\",VLOOKUP(A2188,[1]ItemConfig!$A:$B,2,FALSE))","v":{"$error":"#N/A"}},{"$f":"IF(A2188=\"\",\"\",VLOOKUP(A2188,[1]ItemConfig!$A:$D,4,FALSE))","v":{"$error":"#N/A"}},{"$f":"IF(A2188=\"\",\"\",VLOOKUP(A2188,[1]ItemConfig!$A:$C,3,FALSE))","v":{"$error":"#N/A"}},{"$f":"IF(A2188=\"\",\"\",VLOOKUP(B2188,#REF!,5,FALSE))","v":{"$error":"#N/A"}},{"$f":"IF(A2188=\"\",\"\",VLOOKUP(C2188,#REF!,5,FALSE))","v":{"$error":"#N/A"}}]
[301282,{"$f":"IF(A2189=\"\",\"\",VLOOKUP(A2189,[1]ItemConfig!$A:$B,2,FALSE))","v":{"$error":"#N/A"}},{"$f":"IF(A2189=\"\",\"\",VLOOKUP(A2189,[1]ItemConfig!$A:$D,4,FALSE))","v":{"$error":"#N/A"}},{"$f":"IF(A2189=\"\",\"\",VLOOKUP(A2189,[1]ItemConfig!$A:$C,3,FALSE))","v":{"$error":"#N/A"}},{"$f":"IF(A2189=\"\",\"\",VLOOKUP(B2189,#REF!,5,FALSE))","v":{"$error":"#N/A"}},{"$f":"IF(A2189=\"\",\"\",VLOOKUP(C2189,#REF!,5,FALSE))","v":{"$error":"#N/A"}}]
[301283,{"$f":"IF(A2190=\"\",\"\",VLOOKUP(A2190,[1]ItemConfig!$A:$B,2,FALSE))","v":{"$error":"#N/A"}},{"$f":"IF(A2190=\"\",\"\",VLOOKUP(A2190,[1]ItemConfig!$A:$D,4,FALSE))","v":{"$error":"#N/A"}},{"$f":"IF(A2190=\"\",\"\",VLOOKUP(A2190,[1]ItemConfig!$A:$C,3,FALSE))","v":{"$error":"#N/A"}},{"$f":"IF(A2190=\"\",\"\",VLOOKUP(B2190,#REF!,5,FALSE))","v":{"$error":"#N/A"}},{"$f":"IF(A2190=\"\",\"\",VLOOKUP(C2190,#REF!,5,FALSE))","v":{"$error":"#N/A"}}]
[301284,{"$f":"IF(A2191=\"\",\"\",VLOOKUP(A2191,[1]ItemConfig!$A:$B,2,FALSE))","v":{"$error":"#N/A"}},{"$f":"IF(A2191=\"\",\"\",VLOOKUP(A2191,[1]ItemConfig!$A:$D,4,FALSE))","v":{"$error":"#N/A"}},{"$f":"IF(A2191=\"\",\"\",VLOOKUP(A2191,[1]ItemConfig!$A:$C,3,FALSE))","v":{"$error":"#N/A"}},{"$f":"IF(A2191=\"\",\"\",VLOOKUP(B2191,#REF!,5,FALSE))","v":{"$error":"#N/A"}},{"$f":"IF(A2191=\"\",\"\",VLOOKUP(C2191,#REF!,5,FALSE))","v":{"$error":"#N/A"}}]
[301285,{"$f":"IF(A2192=\"\",\"\",VLOOKUP(A2192,[1]ItemConfig!$A:$B,2,FALSE))","v":{"$error":"#N/A"}},{"$f":"IF(A2192=\"\",\"\",VLOOKUP(A2192,[1]ItemConfig!$A:$D,4,FALSE))","v":{"$error":"#N/A"}},{"$f":"IF(A2192=\"\",\"\",VLOOKUP(A2192,[1]ItemConfig!$A:$C,3,FALSE))","v":{"$error":"#N/A"}},{"$f":"IF(A2192=\"\",\"\",VLOOKUP(B2192,#REF!,5,FALSE))","v":{"$error":"#N/A"}},{"$f":"IF(A2192=\"\",\"\",VLOOKUP(C2192,#REF!,5,FALSE))","v":{"$error":"#N/A"}}]
[301286,{"$f":"IF(A2193=\"\",\"\",VLOOKUP(A2193,[1]ItemConfig!$A:$B,2,FALSE))","v":{"$error":"#N/A"}},{"$f":"IF(A2193=\"\",\"\",VLOOKUP(A2193,[1]ItemConfig!$A:$D,4,FALSE))","v":{"$error":"#N/A"}},{"$f":"IF(A2193=\"\",\"\",VLOOKUP(A2193,[1]ItemConfig!$A:$C,3,FALSE))","v":{"$error":"#N/A"}},{"$f":"IF(A2193=\"\",\"\",VLOOKUP(B2193,#REF!,5,FALSE))","v":{"$error":"#N/A"}},{"$f":"IF(A2193=\"\",\"\",VLOOKUP(C2193,#REF!,5,FALSE))","v":{"$error":"#N/A"}}]
[301287,{"$f":"IF(A2194=\"\",\"\",VLOOKUP(A2194,[1]ItemConfig!$A:$B,2,FALSE))","v":{"$error":"#N/A"}},{"$f":"IF(A2194=\"\",\"\",VLOOKUP(A2194,[1]ItemConfig!$A:$D,4,FALSE))","v":{"$error":"#N/A"}},{"$f":"IF(A2194=\"\",\"\",VLOOKUP(A2194,[1]ItemConfig!$A:$C,3,FALSE))","v":{"$error":"#N/A"}},{"$f":"IF(A2194=\"\",\"\",VLOOKUP(B2194,#REF!,5,FALSE))","v":{"$error":"#N/A"}},{"$f":"IF(A2194=\"\",\"\",VLOOKUP(C2194,#REF!,5,FALSE))","v":{"$error":"#N/A"}}]
[301288,{"$f":"IF(A2195=\"\",\"\",VLOOKUP(A2195,[1]ItemConfig!$A:$B,2,FALSE))","v":{"$error":"#N/A"}},{"$f":"IF(A2195=\"\",\"\",VLOOKUP(A2195,[1]ItemConfig!$A:$D,4,FALSE))","v":{"$error":"#N/A"}},{"$f":"IF(A2195=\"\",\"\",VLOOKUP(A2195,[1]ItemConfig!$A:$C,3,FALSE))","v":{"$error":"#N/A"}},{"$f":"IF(A2195=\"\",\"\",VLOOKUP(B2195,#REF!,5,FALSE))","v":{"$error":"#N/A"}},{"$f":"IF(A2195=\"\",\"\",VLOOKUP(C2195,#REF!,5,FALSE))","v":{"$error":"#N/A"}}]
[null,{"$f":"IF(A2196=\"\",\"\",VLOOKUP(A2196,[1]ItemConfig!$A:$B,2,FALSE))","v":""},{"$f":"IF(A2196=\"\",\"\",VLOOKUP(A2196,[1]ItemConfig!$A:$D,4,FALSE))","v":""},{"$f":"IF(A2196=\"\",\"\",VLOOKUP(A2196,[1]ItemConfig!$A:$C,3,FALSE))","v":""},{"$f":"IF(A2196=\"\",\"\",VLOOKUP(B2196,#REF!,5,FALSE))","v":""},{"$f":"IF(A2196=\"\",\"\",VLOOKUP(C2196,#REF!,5,FALSE))","v":""}]
[301289,{"$f":"IF(A2197=\"\",\"\",VLOOKUP(A2197,[1]ItemConfig!$A:$B,2,FALSE))","v":{"$error":"#N/A"}},{"$f":"IF(A2197=\"\",\"\",VLOOKUP(A2197,[1]ItemConfig!$A:$D,4,FALSE))","v":{"$error":"#N/A"}},{"$f":"IF(A2197=\"\",\"\",VLOOKUP(A2197,[1]ItemConfig!$A:$C,3,FALSE))","v":{"$error":"#N/A"}},{"$f":"IF(A2197=\"\",\"\",VLOOKUP(B2197,#REF!,5,FALSE))","v":{"$error":"#N/A"}},{"$f":"IF(A2197=\"\",\"\",VLOOKUP(C2197,#REF!,5,FALSE))","v":{"$error":"#N/A"}}]
[301290,{"$f":"IF(A2198=\"\",\"\",VLOOKUP(A2198,[1]ItemConfig!$A:$B,2,FALSE))","v":{"$error":"#N/A"}},{"$f":"IF(A2198=\"\",\"\",VLOOKUP(A2198,[1]ItemConfig!$A:$D,4,FALSE))","v":{"$error":"#N/A"}},{"$f":"IF(A2198=\"\",\"\",VLOOKUP(A2198,[1]ItemConfig!$A:$C,3,FALSE))","v":{"$error":"#N/A"}},{"$f":"IF(A2198=\"\",\"\",VLOOKUP(B2198,#REF!,5,FALSE))","v":{"$error":"#N/A"}},{"$f":"IF(A2198=\"\",\"\",VLOOKUP(C2198,#REF!,5,FALSE))","v":{"$error":"#N/A"}}]
[301291,{"$f":"IF(A2199=\"\",\"\",VLOOKUP(A2199,[1]ItemConfig!$A:$B,2,FALSE))","v":{"$error":"#N/A"}},{"$f":"IF(A2199=\"\",\"\",VLOOKUP(A2199,[1]ItemConfig!$A:$D,4,FALSE))","v":{"$error":"#N/A"}},{"$f":"IF(A2199=\"\",\"\",VLOOKUP(A2199,[1]ItemConfig!$A:$C,3,FALSE))","v":{"$error":"#N/A"}},{"$f":"IF(A2199=\"\",\"\",VLOOKUP(B2199,#REF!,5,FALSE))","v":{"$error":"#N/A"}},{"$f":"IF(A2199=\"\",\"\",VLOOKUP(C2199,#REF!,5,FALSE))","v":{"$error":"#N/A"}}]
[301292,{"$f":"IF(A2200=\"\",\"\",VLOOKUP(A2200,[1]ItemConfig!$A:$B,2,FALSE))","v":{"$error":"#N/A"}},{"$f":"IF(A2200=\"\",\"\",VLOOKUP(A2200,[1]ItemConfig!$A:$D,4,FALSE))","v":{"$error":"#N/A"}},{"$f":"IF(A2200=\"\",\"\",VLOOKUP(A2200,[1]ItemConfig!$A:$C,3,FALSE))","v":{"$error":"#N/A"}},{"$f":"IF(A2200=\"\",\"\",VLOOKUP(B2200,#REF!,5,FALSE))","v":{"$error":"#N/A"}},{"$f":"IF(A2200=\"\",\"\",VLOOKUP(C2200,#REF!,5,FALSE))","v":{"$error":"#N/A"}}]
[301293,{"$f":"IF(A2201=\"\",\"\",VLOOKUP(A2201,[1]ItemConfig!$A:$B,2,FALSE))","v":{"$error":"#N/A"}},{"$f":"IF(A2201=\"\",\"\",VLOOKUP(A2201,[1]ItemConfig!$A:$D,4,FALSE))","v":{"$error":"#N/A"}},{"$f":"IF(A2201=\"\",\"\",VLOOKUP(A2201,[1]ItemConfig!$A:$C,3,FALSE))","v":{"$error":"#N/A"}},{"$f":"IF(A2201=\"\",\"\",VLOOKUP(B2201,#REF!,5,FALSE))","v":{"$error":"#N/A"}},{"$f":"IF(A2201=\"\",\"\",VLOOKUP(C2201,#REF!,5,FALSE))","v":{"$error":"#N/A"}}]
[301294,{"$f":"IF(A2202=\"\",\"\",VLOOKUP(A2202,[1]ItemConfig!$A:$B,2,FALSE))","v":{"$error":"#N/A"}},{"$f":"IF(A2202=\"\",\"\",VLOOKUP(A2202,[1]ItemConfig!$A:$D,4,FALSE))","v":{"$error":"#N/A"}},{"$f":"IF(A2202=\"\",\"\",VLOOKUP(A2202,[1]ItemConfig!$A:$C,3,FALSE))","v":{"$error":"#N/A"}},{"$f":"IF(A2202=\"\",\"\",VLOOKUP(B2202,#REF!,5,FALSE))","v":{"$error":"#N/A"}},{"$f":"IF(A2202=\"\",\"\",VLOOKUP(C2202,#REF!,5,FALSE))","v":{"$error":"#N/A"}}]
[301295,{"$f":"IF(A2203=\"\",\"\",VLOOKUP(A2203,[1]ItemConfig!$A:$B,2,FALSE))","v":{"$error":"#N/A"}},{"$f":"IF(A2203=\"\",\"\",VLOOKUP(A2203,[1]ItemConfig!$A:$D,4,FALSE))","v":{"$error":"#N/A"}},{"$f":"IF(A2203=\"\",\"\",VLOOKUP(A2203,[1]ItemConfig!$A:$C,3,FALSE))","v":{"$error":"#N/A"}},{"$f":"IF(A2203=\"\",\"\",VLOOKUP(B2203,#REF!,5,FALSE))","v":{"$error":"#N/A"}},{"$f":"IF(A2203=\"\",\"\",VLOOKUP(C2203,#REF!,5,FALSE))","v":{"$error":"#N/A"}}]
[301296,{"$f":"IF(A2204=\"\",\"\",VLOOKUP(A2204,[1]ItemConfig!$A:$B,2,FALSE))","v":{"$error":"#N/A"}},{"$f":"IF(A2204=\"\",\"\",VLOOKUP(A2204,[1]ItemConfig!$A:$D,4,FALSE))","v":{"$error":"#N/A"}},{"$f":"IF(A2204=\"\",\"\",VLOOKUP(A2204,[1]ItemConfig!$A:$C,3,FALSE))","v":{"$error":"#N/A"}},{"$f":"IF(A2204=\"\",\"\",VLOOKUP(B2204,#REF!,5,FALSE))","v":{"$error":"#N/A"}},{"$f":"IF(A2204=\"\",\"\",VLOOKUP(C2204,#REF!,5,FALSE))","v":{"$error":"#N/A"}}]
[null,{"$f":"IF(A2205=\"\",\"\",VLOOKUP(A2205,[1]ItemConfig!$A:$B,2,FALSE))","v":""},{"$f":"IF(A2205=\"\",\"\",VLOOKUP(A2205,[1]ItemConfig!$A:$D,4,FALSE))","v":""},{"$f":"IF(A2205=\"\",\"\",VLOOKUP(A2205,[1]ItemConfig!$A:$C,3,FALSE))","v":""},{"$f":"IF(A2205=\"\",\"\",VLOOKUP(B2205,#REF!,5,FALSE))","v":""},{"$f":"IF(A2205=\"\",\"\",VLOOKUP(C2205,#REF!,5,FALSE))","v":""}]
[301297,{"$f":"IF(A2206=\"\",\"\",VLOOKUP(A2206,[1]ItemConfig!$A:$B,2,FALSE))","v":{"$error":"#N/A"}},{"$f":"IF(A2206=\"\",\"\",VLOOKUP(A2206,[1]ItemConfig!$A:$D,4,FALSE))","v":{"$error":"#N/A"}},{"$f":"IF(A2206=\"\",\"\",VLOOKUP(A2206,[1]ItemConfig!$A:$C,3,FALSE))","v":{"$error":"#N/A"}},{"$f":"IF(A2206=\"\",\"\",VLOOKUP(B2206,#REF!,5,FALSE))","v":{"$error":"#N/A"}},{"$f":"IF(A2206=\"\",\"\",VLOOKUP(C2206,#REF!,5,FALSE))","v":{"$error":"#N/A"}}]
[301298,{"$f":"IF(A2207=\"\",\"\",VLOOKUP(A2207,[1]ItemConfig!$A:$B,2,FALSE))","v":{"$error":"#N/A"}},{"$f":"IF(A2207=\"\",\"\",VLOOKUP(A2207,[1]ItemConfig!$A:$D,4,FALSE))","v":{"$error":"#N/A"}},{"$f":"IF(A2207=\"\",\"\",VLOOKUP(A2207,[1]ItemConfig!$A:$C,3,FALSE))","v":{"$error":"#N/A"}},{"$f":"IF(A2207=\"\",\"\",VLOOKUP(B2207,#REF!,5,FALSE))","v":{"$error":"#N/A"}},{"$f":"IF(A2207=\"\",\"\",VLOOKUP(C2207,#REF!,5,FALSE))","v":{"$error":"#N/A"}}]
[301299,{"$f":"IF(A2208=\"\",\"\",VLOOKUP(A2208,[1]ItemConfig!$A:$B,2,FALSE))","v":{"$error":"#N/A"}},{"$f":"IF(A2208=\"\",\"\",VLOOKUP(A2208,[1]ItemConfig!$A:$D,4,FALSE))","v":{"$error":"#N/A"}},{"$f":"IF(A2208=\"\",\"\",VLOOKUP(A2208,[1]ItemConfig!$A:$C,3,FALSE))","v":{"$error":"#N/A"}},{"$f":"IF(A2208=\"\",\"\",VLOOKUP(B2208,#REF!,5,FALSE))","v":{"$error":"#N/A"}},{"$f":"IF(A2208=\"\",\"\",VLOOKUP(C2208,#REF!,5,FALSE))","v":{"$error":"#N/A"}}]
[301300,{"$f":"IF(A2209=\"\",\"\",VLOOKUP(A2209,[1]ItemConfig!$A:$B,2,FALSE))","v":{"$error":"#N/A"}},{"$f":"IF(A2209=\"\",\"\",VLOOKUP(A2209,[1]ItemConfig!$A:$D,4,FALSE))","v":{"$error":"#N/A"}},{"$f":"IF(A2209=\"\",\"\",VLOOKUP(A2209,[1]ItemConfig!$A:$C,3,FALSE))","v":{"$error":"#N/A"}},{"$f":"IF(A2209=\"\",\"\",VLOOKUP(B2209,#REF!,5,FALSE))","v":{"$error":"#N/A"}},{"$f":"IF(A2209=\"\",\"\",VLOOKUP(C2209,#REF!,5,FALSE))","v":{"$error":"#N/A"}}]
[301301,{"$f":"IF(A2210=\"\",\"\",VLOOKUP(A2210,[1]ItemConfig!$A:$B,2,FALSE))","v":{"$error":"#N/A"}},{"$f":"IF(A2210=\"\",\"\",VLOOKUP(A2210,[1]ItemConfig!$A:$D,4,FALSE))","v":{"$error":"#N/A"}},{"$f":"IF(A2210=\"\",\"\",VLOOKUP(A2210,[1]ItemConfig!$A:$C,3,FALSE))","v":{"$error":"#N/A"}},{"$f":"IF(A2210=\"\",\"\",VLOOKUP(B2210,#REF!,5,FALSE))","v":{"$error":"#N/A"}},{"$f":"IF(A2210=\"\",\"\",VLOOKUP(C2210,#REF!,5,FALSE))","v":{"$error":"#N/A"}}]
[301302,{"$f":"IF(A2211=\"\",\"\",VLOOKUP(A2211,[1]ItemConfig!$A:$B,2,FALSE))","v":{"$error":"#N/A"}},{"$f":"IF(A2211=\"\",\"\",VLOOKUP(A2211,[1]ItemConfig!$A:$D,4,FALSE))","v":{"$error":"#N/A"}},{"$f":"IF(A2211=\"\",\"\",VLOOKUP(A2211,[1]ItemConfig!$A:$C,3,FALSE))","v":{"$error":"#N/A"}},{"$f":"IF(A2211=\"\",\"\",VLOOKUP(B2211,#REF!,5,FALSE))","v":{"$error":"#N/A"}},{"$f":"IF(A2211=\"\",\"\",VLOOKUP(C2211,#REF!,5,FALSE))","v":{"$error":"#N/A"}}]
[301303,{"$f":"IF(A2212=\"\",\"\",VLOOKUP(A2212,[1]ItemConfig!$A:$B,2,FALSE))","v":{"$error":"#N/A"}},{"$f":"IF(A2212=\"\",\"\",VLOOKUP(A2212,[1]ItemConfig!$A:$D,4,FALSE))","v":{"$error":"#N/A"}},{"$f":"IF(A2212=\"\",\"\",VLOOKUP(A2212,[1]ItemConfig!$A:$C,3,FALSE))","v":{"$error":"#N/A"}},{"$f":"IF(A2212=\"\",\"\",VLOOKUP(B2212,#REF!,5,FALSE))","v":{"$error":"#N/A"}},{"$f":"IF(A2212=\"\",\"\",VLOOKUP(C2212,#REF!,5,FALSE))","v":{"$error":"#N/A"}}]
[301304,{"$f":"IF(A2213=\"\",\"\",VLOOKUP(A2213,[1]ItemConfig!$A:$B,2,FALSE))","v":{"$error":"#N/A"}},{"$f":"IF(A2213=\"\",\"\",VLOOKUP(A2213,[1]ItemConfig!$A:$D,4,FALSE))","v":{"$error":"#N/A"}},{"$f":"IF(A2213=\"\",\"\",VLOOKUP(A2213,[1]ItemConfig!$A:$C,3,FALSE))","v":{"$error":"#N/A"}},{"$f":"IF(A2213=\"\",\"\",VLOOKUP(B2213,#REF!,5,FALSE))","v":{"$error":"#N/A"}},{"$f":"IF(A2213=\"\",\"\",VLOOKUP(C2213,#REF!,5,FALSE))","v":{"$error":"#N/A"}}]
[null,{"$f":"IF(A2214=\"\",\"\",VLOOKUP(A2214,[1]ItemConfig!$A:$B,2,FALSE))","v":""},{"$f":"IF(A2214=\"\",\"\",VLOOKUP(A2214,[1]ItemConfig!$A:$D,4,FALSE))","v":""},{"$f":"IF(A2214=\"\",\"\",VLOOKUP(A2214,[1]ItemConfig!$A:$C,3,FALSE))","v":""},{"$f":"IF(A2214=\"\",\"\",VLOOKUP(B2214,#REF!,5,FALSE))","v":""},{"$f":"IF(A2214=\"\",\"\",VLOOKUP(C2214,#REF!,5,FALSE))","v":""}]
[301305,{"$f":"IF(A2215=\"\",\"\",VLOOKUP(A2215,[1]ItemConfig!$A:$B,2,FALSE))","v":{"$error":"#N/A"}},{"$f":"IF(A2215=\"\",\"\",VLOOKUP(A2215,[1]ItemConfig!$A:$D,4,FALSE))","v":{"$error":"#N/A"}},{"$f":"IF(A2215=\"\",\"\",VLOOKUP(A2215,[1]ItemConfig!$A:$C,3,FALSE))","v":{"$error":"#N/A"}},{"$f":"IF(A2215=\"\",\"\",VLOOKUP(B2215,#REF!,5,FALSE))","v":{"$error":"#N/A"}},{"$f":"IF(A2215=\"\",\"\",VLOOKUP(C2215,#REF!,5,FALSE))","v":{"$error":"#N/A"}}]
[301306,{"$f":"IF(A2216=\"\",\"\",VLOOKUP(A2216,[1]ItemConfig!$A:$B,2,FALSE))","v":{"$error":"#N/A"}},{"$f":"IF(A2216=\"\",\"\",VLOOKUP(A2216,[1]ItemConfig!$A:$D,4,FALSE))","v":{"$error":"#N/A"}},{"$f":"IF(A2216=\"\",\"\",VLOOKUP(A2216,[1]ItemConfig!$A:$C,3,FALSE))","v":{"$error":"#N/A"}},{"$f":"IF(A2216=\"\",\"\",VLOOKUP(B2216,#REF!,5,FALSE))","v":{"$error":"#N/A"}},{"$f":"IF(A2216=\"\",\"\",VLOOKUP(C2216,#REF!,5,FALSE))","v":{"$error":"#N/A"}}]
[301307,{"$f":"IF(A2217=\"\",\"\",VLOOKUP(A2217,[1]ItemConfig!$A:$B,2,FALSE))","v":{"$error":"#N/A"}},{"$f":"IF(A2217=\"\",\"\",VLOOKUP(A2217,[1]ItemConfig!$A:$D,4,FALSE))","v":{"$error":"#N/A"}},{"$f":"IF(A2217=\"\",\"\",VLOOKUP(A2217,[1]ItemConfig!$A:$C,3,FALSE))","v":{"$error":"#N/A"}},{"$f":"IF(A2217=\"\",\"\",VLOOKUP(B2217,#REF!,5,FALSE))","v":{"$error":"#N/A"}},{"$f":"IF(A2217=\"\",\"\",VLOOKUP(C2217,#REF!,5,FALSE))","v":{"$error":"#N/A"}}]
[301308,{"$f":"IF(A2218=\"\",\"\",VLOOKUP(A2218,[1]ItemConfig!$A:$B,2,FALSE))","v":{"$error":"#N/A"}},{"$f":"IF(A2218=\"\",\"\",VLOOKUP(A2218,[1]ItemConfig!$A:$D,4,FALSE))","v":{"$error":"#N/A"}},{"$f":"IF(A2218=\"\",\"\",VLOOKUP(A2218,[1]ItemConfig!$A:$C,3,FALSE))","v":{"$error":"#N/A"}},{"$f":"IF(A2218=\"\",\"\",VLOOKUP(B2218,#REF!,5,FALSE))","v":{"$error":"#N/A"}},{"$f":"IF(A2218=\"\",\"\",VLOOKUP(C2218,#REF!,5,FALSE))","v":{"$error":"#N/A"}}]
[301309,{"$f":"IF(A2219=\"\",\"\",VLOOKUP(A2219,[1]ItemConfig!$A:$B,2,FALSE))","v":{"$error":"#N/A"}},{"$f":"IF(A2219=\"\",\"\",VLOOKUP(A2219,[1]ItemConfig!$A:$D,4,FALSE))","v":{"$error":"#N/A"}},{"$f":"IF(A2219=\"\",\"\",VLOOKUP(A2219,[1]ItemConfig!$A:$C,3,FALSE))","v":{"$error":"#N/A"}},{"$f":"IF(A2219=\"\",\"\",VLOOKUP(B2219,#REF!,5,FALSE))","v":{"$error":"#N/A"}},{"$f":"IF(A2219=\"\",\"\",VLOOKUP(C2219,#REF!,5,FALSE))","v":{"$error":"#N/A"}}]
[301310,{"$f":"IF(A2220=\"\",\"\",VLOOKUP(A2220,[1]ItemConfig!$A:$B,2,FALSE))","v":{"$error":"#N/A"}},{"$f":"IF(A2220=\"\",\"\",VLOOKUP(A2220,[1]ItemConfig!$A:$D,4,FALSE))","v":{"$error":"#N/A"}},{"$f":"IF(A2220=\"\",\"\",VLOOKUP(A2220,[1]ItemConfig!$A:$C,3,FALSE))","v":{"$error":"#N/A"}},{"$f":"IF(A2220=\"\",\"\",VLOOKUP(B2220,#REF!,5,FALSE))","v":{"$error":"#N/A"}},{"$f":"IF(A2220=\"\",\"\",VLOOKUP(C2220,#REF!,5,FALSE))","v":{"$error":"#N/A"}}]
[301311,{"$f":"IF(A2221=\"\",\"\",VLOOKUP(A2221,[1]ItemConfig!$A:$B,2,FALSE))","v":{"$error":"#N/A"}},{"$f":"IF(A2221=\"\",\"\",VLOOKUP(A2221,[1]ItemConfig!$A:$D,4,FALSE))","v":{"$error":"#N/A"}},{"$f":"IF(A2221=\"\",\"\",VLOOKUP(A2221,[1]ItemConfig!$A:$C,3,FALSE))","v":{"$error":"#N/A"}},{"$f":"IF(A2221=\"\",\"\",VLOOKUP(B2221,#REF!,5,FALSE))","v":{"$error":"#N/A"}},{"$f":"IF(A2221=\"\",\"\",VLOOKUP(C2221,#REF!,5,FALSE))","v":{"$error":"#N/A"}}]
[301312,{"$f":"IF(A2222=\"\",\"\",VLOOKUP(A2222,[1]ItemConfig!$A:$B,2,FALSE))","v":{"$error":"#N/A"}},{"$f":"IF(A2222=\"\",\"\",VLOOKUP(A2222,[1]ItemConfig!$A:$D,4,FALSE))","v":{"$error":"#N/A"}},{"$f":"IF(A2222=\"\",\"\",VLOOKUP(A2222,[1]ItemConfig!$A:$C,3,FALSE))","v":{"$error":"#N/A"}},{"$f":"IF(A2222=\"\",\"\",VLOOKUP(B2222,#REF!,5,FALSE))","v":{"$error":"#N/A"}},{"$f":"IF(A2222=\"\",\"\",VLOOKUP(C2222,#REF!,5,FALSE))","v":{"$error":"#N/A"}}]
[null,{"$f":"IF(A2223=\"\",\"\",VLOOKUP(A2223,[1]ItemConfig!$A:$B,2,FALSE))","v":""},{"$f":"IF(A2223=\"\",\"\",VLOOKUP(A2223,[1]ItemConfig!$A:$D,4,FALSE))","v":""},{"$f":"IF(A2223=\"\",\"\",VLOOKUP(A2223,[1]ItemConfig!$A:$C,3,FALSE))","v":""},{"$f":"IF(A2223=\"\",\"\",VLOOKUP(B2223,#REF!,5,FALSE))","v":""},{"$f":"IF(A2223=\"\",\"\",VLOOKUP(C2223,#REF!,5,FALSE))","v":""}]
[114001,{"$f":"IF(A2224=\"\",\"\",VLOOKUP(A2224,[1]ItemConfig!$A:$B,2,FALSE))","v":{"$error":"#N/A"}},{"$f":"IF(A2224=\"\",\"\",VLOOKUP(A2224,[1]ItemConfig!$A:$D,4,FALSE))","v":{"$error":"#N/A"}},{"$f":"IF(A2224=\"\",\"\",VLOOKUP(A2224,[1]ItemConfig!$A:$C,3,FALSE))","v":{"$error":"#N/A"}},{"$f":"IF(A2224=\"\",\"\",VLOOKUP(B2224,#REF!,5,FALSE))","v":{"$error":"#N/A"}},{"$f":"IF(A2224=\"\",\"\",VLOOKUP(C2224,#REF!,5,FALSE))","v":{"$error":"#N/A"}}]
[114002,{"$f":"IF(A2225=\"\",\"\",VLOOKUP(A2225,[1]ItemConfig!$A:$B,2,FALSE))","v":{"$error":"#N/A"}},{"$f":"IF(A2225=\"\",\"\",VLOOKUP(A2225,[1]ItemConfig!$A:$D,4,FALSE))","v":{"$error":"#N/A"}},{"$f":"IF(A2225=\"\",\"\",VLOOKUP(A2225,[1]ItemConfig!$A:$C,3,FALSE))","v":{"$error":"#N/A"}},{"$f":"IF(A2225=\"\",\"\",VLOOKUP(B2225,#REF!,5,FALSE))","v":{"$error":"#N/A"}},{"$f":"IF(A2225=\"\",\"\",VLOOKUP(C2225,#REF!,5,FALSE))","v":{"$error":"#N/A"}}]
[114003,{"$f":"IF(A2226=\"\",\"\",VLOOKUP(A2226,[1]ItemConfig!$A:$B,2,FALSE))","v":{"$error":"#N/A"}},{"$f":"IF(A2226=\"\",\"\",VLOOKUP(A2226,[1]ItemConfig!$A:$D,4,FALSE))","v":{"$error":"#N/A"}},{"$f":"IF(A2226=\"\",\"\",VLOOKUP(A2226,[1]ItemConfig!$A:$C,3,FALSE))","v":{"$error":"#N/A"}},{"$f":"IF(A2226=\"\",\"\",VLOOKUP(B2226,#REF!,5,FALSE))","v":{"$error":"#N/A"}},{"$f":"IF(A2226=\"\",\"\",VLOOKUP(C2226,#REF!,5,FALSE))","v":{"$error":"#N/A"}}]
[114004,{"$f":"IF(A2227=\"\",\"\",VLOOKUP(A2227,[1]ItemConfig!$A:$B,2,FALSE))","v":{"$error":"#N/A"}},{"$f":"IF(A2227=\"\",\"\",VLOOKUP(A2227,[1]ItemConfig!$A:$D,4,FALSE))","v":{"$error":"#N/A"}},{"$f":"IF(A2227=\"\",\"\",VLOOKUP(A2227,[1]ItemConfig!$A:$C,3,FALSE))","v":{"$error":"#N/A"}},{"$f":"IF(A2227=\"\",\"\",VLOOKUP(B2227,#REF!,5,FALSE))","v":{"$error":"#N/A"}},{"$f":"IF(A2227=\"\",\"\",VLOOKUP(C2227,#REF!,5,FALSE))","v":{"$error":"#N/A"}}]
[114005,{"$f":"IF(A2228=\"\",\"\",VLOOKUP(A2228,[1]ItemConfig!$A:$B,2,FALSE))","v":{"$error":"#N/A"}},{"$f":"IF(A2228=\"\",\"\",VLOOKUP(A2228,[1]ItemConfig!$A:$D,4,FALSE))","v":{"$error":"#N/A"}},{"$f":"IF(A2228=\"\",\"\",VLOOKUP(A2228,[1]ItemConfig!$A:$C,3,FALSE))","v":{"$error":"#N/A"}},{"$f":"IF(A2228=\"\",\"\",VLOOKUP(B2228,#REF!,5,FALSE))","v":{"$error":"#N/A"}},{"$f":"IF(A2228=\"\",\"\",VLOOKUP(C2228,#REF!,5,FALSE))","v":{"$error":"#N/A"}}]
[114006,{"$f":"IF(A2229=\"\",\"\",VLOOKUP(A2229,[1]ItemConfig!$A:$B,2,FALSE))","v":{"$error":"#N/A"}},{"$f":"IF(A2229=\"\",\"\",VLOOKUP(A2229,[1]ItemConfig!$A:$D,4,FALSE))","v":{"$error":"#N/A"}},{"$f":"IF(A2229=\"\",\"\",VLOOKUP(A2229,[1]ItemConfig!$A:$C,3,FALSE))","v":{"$error":"#N/A"}},{"$f":"IF(A2229=\"\",\"\",VLOOKUP(B2229,#REF!,5,FALSE))","v":{"$error":"#N/A"}},{"$f":"IF(A2229=\"\",\"\",VLOOKUP(C2229,#REF!,5,FALSE))","v":{"$error":"#N/A"}}]
[114007,{"$f":"IF(A2230=\"\",\"\",VLOOKUP(A2230,[1]ItemConfig!$A:$B,2,FALSE))","v":{"$error":"#N/A"}},{"$f":"IF(A2230=\"\",\"\",VLOOKUP(A2230,[1]ItemConfig!$A:$D,4,FALSE))","v":{"$error":"#N/A"}},{"$f":"IF(A2230=\"\",\"\",VLOOKUP(A2230,[1]ItemConfig!$A:$C,3,FALSE))","v":{"$error":"#N/A"}},{"$f":"IF(A2230=\"\",\"\",VLOOKUP(B2230,#REF!,5,FALSE))","v":{"$error":"#N/A"}},{"$f":"IF(A2230=\"\",\"\",VLOOKUP(C2230,#REF!,5,FALSE))","v":{"$error":"#N/A"}}]
[114008,{"$f":"IF(A2231=\"\",\"\",VLOOKUP(A2231,[1]ItemConfig!$A:$B,2,FALSE))","v":{"$error":"#N/A"}},{"$f":"IF(A2231=\"\",\"\",VLOOKUP(A2231,[1]ItemConfig!$A:$D,4,FALSE))","v":{"$error":"#N/A"}},{"$f":"IF(A2231=\"\",\"\",VLOOKUP(A2231,[1]ItemConfig!$A:$C,3,FALSE))","v":{"$error":"#N/A"}},{"$f":"IF(A2231=\"\",\"\",VLOOKUP(B2231,#REF!,5,FALSE))","v":{"$error":"#N/A"}},{"$f":"IF(A2231=\"\",\"\",VLOOKUP(C2231,#REF!,5,FALSE))","v":{"$error":"#N/A"}}]
[114009,{"$f":"IF(A2232=\"\",\"\",VLOOKUP(A2232,[1]ItemConfig!$A:$B,2,FALSE))","v":{"$error":"#N/A"}},{"$f":"IF(A2232=\"\",\"\",VLOOKUP(A2232,[1]ItemConfig!$A:$D,4,FALSE))","v":{"$error":"#N/A"}},{"$f":"IF(A2232=\"\",\"\",VLOOKUP(A2232,[1]ItemConfig!$A:$C,3,FALSE))","v":{"$error":"#N/A"}},{"$f":"IF(A2232=\"\",\"\",VLOOKUP(B2232,#REF!,5,FALSE))","v":{"$error":"#N/A"}},{"$f":"IF(A2232=\"\",\"\",VLOOKUP(C2232,#REF!,5,FALSE))","v":{"$error":"#N/A"}}]
[114010,{"$f":"IF(A2233=\"\",\"\",VLOOKUP(A2233,[1]ItemConfig!$A:$B,2,FALSE))","v":{"$error":"#N/A"}},{"$f":"IF(A2233=\"\",\"\",VLOOKUP(A2233,[1]ItemConfig!$A:$D,4,FALSE))","v":{"$error":"#N/A"}},{"$f":"IF(A2233=\"\",\"\",VLOOKUP(A2233,[1]ItemConfig!$A:$C,3,FALSE))","v":{"$error":"#N/A"}},{"$f":"IF(A2233=\"\",\"\",VLOOKUP(B2233,#REF!,5,FALSE))","v":{"$error":"#N/A"}},{"$f":"IF(A2233=\"\",\"\",VLOOKUP(C2233,#REF!,5,FALSE))","v":{"$error":"#N/A"}}]
[114011,{"$f":"IF(A2234=\"\",\"\",VLOOKUP(A2234,[1]ItemConfig!$A:$B,2,FALSE))","v":{"$error":"#N/A"}},{"$f":"IF(A2234=\"\",\"\",VLOOKUP(A2234,[1]ItemConfig!$A:$D,4,FALSE))","v":{"$error":"#N/A"}},{"$f":"IF(A2234=\"\",\"\",VLOOKUP(A2234,[1]ItemConfig!$A:$C,3,FALSE))","v":{"$error":"#N/A"}},{"$f":"IF(A2234=\"\",\"\",VLOOKUP(B2234,#REF!,5,FALSE))","v":{"$error":"#N/A"}},{"$f":"IF(A2234=\"\",\"\",VLOOKUP(C2234,#REF!,5,FALSE))","v":{"$error":"#N/A"}}]
[114012,{"$f":"IF(A2235=\"\",\"\",VLOOKUP(A2235,[1]ItemConfig!$A:$B,2,FALSE))","v":{"$error":"#N/A"}},{"$f":"IF(A2235=\"\",\"\",VLOOKUP(A2235,[1]ItemConfig!$A:$D,4,FALSE))","v":{"$error":"#N/A"}},{"$f":"IF(A2235=\"\",\"\",VLOOKUP(A2235,[1]ItemConfig!$A:$C,3,FALSE))","v":{"$error":"#N/A"}},{"$f":"IF(A2235=\"\",\"\",VLOOKUP(B2235,#REF!,5,FALSE))","v":{"$error":"#N/A"}},{"$f":"IF(A2235=\"\",\"\",VLOOKUP(C2235,#REF!,5,FALSE))","v":{"$error":"#N/A"}}]
[114013,{"$f":"IF(A2236=\"\",\"\",VLOOKUP(A2236,[1]ItemConfig!$A:$B,2,FALSE))","v":{"$error":"#N/A"}},{"$f":"IF(A2236=\"\",\"\",VLOOKUP(A2236,[1]ItemConfig!$A:$D,4,FALSE))","v":{"$error":"#N/A"}},{"$f":"IF(A2236=\"\",\"\",VLOOKUP(A2236,[1]ItemConfig!$A:$C,3,FALSE))","v":{"$error":"#N/A"}},{"$f":"IF(A2236=\"\",\"\",VLOOKUP(B2236,#REF!,5,FALSE))","v":{"$error":"#N/A"}},{"$f":"IF(A2236=\"\",\"\",VLOOKUP(C2236,#REF!,5,FALSE))","v":{"$error":"#N/A"}}]
[114014,{"$f":"IF(A2237=\"\",\"\",VLOOKUP(A2237,[1]ItemConfig!$A:$B,2,FALSE))","v":{"$error":"#N/A"}},{"$f":"IF(A2237=\"\",\"\",VLOOKUP(A2237,[1]ItemConfig!$A:$D,4,FALSE))","v":{"$error":"#N/A"}},{"$f":"IF(A2237=\"\",\"\",VLOOKUP(A2237,[1]ItemConfig!$A:$C,3,FALSE))","v":{"$error":"#N/A"}},{"$f":"IF(A2237=\"\",\"\",VLOOKUP(B2237,#REF!,5,FALSE))","v":{"$error":"#N/A"}},{"$f":"IF(A2237=\"\",\"\",VLOOKUP(C2237,#REF!,5,FALSE))","v":{"$error":"#N/A"}}]
[114015,{"$f":"IF(A2238=\"\",\"\",VLOOKUP(A2238,[1]ItemConfig!$A:$B,2,FALSE))","v":{"$error":"#N/A"}},{"$f":"IF(A2238=\"\",\"\",VLOOKUP(A2238,[1]ItemConfig!$A:$D,4,FALSE))","v":{"$error":"#N/A"}},{"$f":"IF(A2238=\"\",\"\",VLOOKUP(A2238,[1]ItemConfig!$A:$C,3,FALSE))","v":{"$error":"#N/A"}},{"$f":"IF(A2238=\"\",\"\",VLOOKUP(B2238,#REF!,5,FALSE))","v":{"$error":"#N/A"}},{"$f":"IF(A2238=\"\",\"\",VLOOKUP(C2238,#REF!,5,FALSE))","v":{"$error":"#N/A"}}]
[114016,{"$f":"IF(A2239=\"\",\"\",VLOOKUP(A2239,[1]ItemConfig!$A:$B,2,FALSE))","v":{"$error":"#N/A"}},{"$f":"IF(A2239=\"\",\"\",VLOOKUP(A2239,[1]ItemConfig!$A:$D,4,FALSE))","v":{"$error":"#N/A"}},{"$f":"IF(A2239=\"\",\"\",VLOOKUP(A2239,[1]ItemConfig!$A:$C,3,FALSE))","v":{"$error":"#N/A"}},{"$f":"IF(A2239=\"\",\"\",VLOOKUP(B2239,#REF!,5,FALSE))","v":{"$error":"#N/A"}},{"$f":"IF(A2239=\"\",\"\",VLOOKUP(C2239,#REF!,5,FALSE))","v":{"$error":"#N/A"}}]
[114017,{"$f":"IF(A2240=\"\",\"\",VLOOKUP(A2240,[1]ItemConfig!$A:$B,2,FALSE))","v":{"$error":"#N/A"}},{"$f":"IF(A2240=\"\",\"\",VLOOKUP(A2240,[1]ItemConfig!$A:$D,4,FALSE))","v":{"$error":"#N/A"}},{"$f":"IF(A2240=\"\",\"\",VLOOKUP(A2240,[1]ItemConfig!$A:$C,3,FALSE))","v":{"$error":"#N/A"}},{"$f":"IF(A2240=\"\",\"\",VLOOKUP(B2240,#REF!,5,FALSE))","v":{"$error":"#N/A"}},{"$f":"IF(A2240=\"\",\"\",VLOOKUP(C2240,#REF!,5,FALSE))","v":{"$error":"#N/A"}}]
[114018,{"$f":"IF(A2241=\"\",\"\",VLOOKUP(A2241,[1]ItemConfig!$A:$B,2,FALSE))","v":{"$error":"#N/A"}},{"$f":"IF(A2241=\"\",\"\",VLOOKUP(A2241,[1]ItemConfig!$A:$D,4,FALSE))","v":{"$error":"#N/A"}},{"$f":"IF(A2241=\"\",\"\",VLOOKUP(A2241,[1]ItemConfig!$A:$C,3,FALSE))","v":{"$error":"#N/A"}},{"$f":"IF(A2241=\"\",\"\",VLOOKUP(B2241,#REF!,5,FALSE))","v":{"$error":"#N/A"}},{"$f":"IF(A2241=\"\",\"\",VLOOKUP(C2241,#REF!,5,FALSE))","v":{"$error":"#N/A"}}]
[114019,{"$f":"IF(A2242=\"\",\"\",VLOOKUP(A2242,[1]ItemConfig!$A:$B,2,FALSE))","v":{"$error":"#N/A"}},{"$f":"IF(A2242=\"\",\"\",VLOOKUP(A2242,[1]ItemConfig!$A:$D,4,FALSE))","v":{"$error":"#N/A"}},{"$f":"IF(A2242=\"\",\"\",VLOOKUP(A2242,[1]ItemConfig!$A:$C,3,FALSE))","v":{"$error":"#N/A"}},{"$f":"IF(A2242=\"\",\"\",VLOOKUP(B2242,#REF!,5,FALSE))","v":{"$error":"#N/A"}},{"$f":"IF(A2242=\"\",\"\",VLOOKUP(C2242,#REF!,5,FALSE))","v":{"$error":"#N/A"}}]
[114020,{"$f":"IF(A2243=\"\",\"\",VLOOKUP(A2243,[1]ItemConfig!$A:$B,2,FALSE))","v":{"$error":"#N/A"}},{"$f":"IF(A2243=\"\",\"\",VLOOKUP(A2243,[1]ItemConfig!$A:$D,4,FALSE))","v":{"$error":"#N/A"}},{"$f":"IF(A2243=\"\",\"\",VLOOKUP(A2243,[1]ItemConfig!$A:$C,3,FALSE))","v":{"$error":"#N/A"}},{"$f":"IF(A2243=\"\",\"\",VLOOKUP(B2243,#REF!,5,FALSE))","v":{"$error":"#N/A"}},{"$f":"IF(A2243=\"\",\"\",VLOOKUP(C2243,#REF!,5,FALSE))","v":{"$error":"#N/A"}}]
[114021,{"$f":"IF(A2244=\"\",\"\",VLOOKUP(A2244,[1]ItemConfig!$A:$B,2,FALSE))","v":{"$error":"#N/A"}},{"$f":"IF(A2244=\"\",\"\",VLOOKUP(A2244,[1]ItemConfig!$A:$D,4,FALSE))","v":{"$error":"#N/A"}},{"$f":"IF(A2244=\"\",\"\",VLOOKUP(A2244,[1]ItemConfig!$A:$C,3,FALSE))","v":{"$error":"#N/A"}},{"$f":"IF(A2244=\"\",\"\",VLOOKUP(B2244,#REF!,5,FALSE))","v":{"$error":"#N/A"}},{"$f":"IF(A2244=\"\",\"\",VLOOKUP(C2244,#REF!,5,FALSE))","v":{"$error":"#N/A"}}]
[114022,{"$f":"IF(A2245=\"\",\"\",VLOOKUP(A2245,[1]ItemConfig!$A:$B,2,FALSE))","v":{"$error":"#N/A"}},{"$f":"IF(A2245=\"\",\"\",VLOOKUP(A2245,[1]ItemConfig!$A:$D,4,FALSE))","v":{"$error":"#N/A"}},{"$f":"IF(A2245=\"\",\"\",VLOOKUP(A2245,[1]ItemConfig!$A:$C,3,FALSE))","v":{"$error":"#N/A"}},{"$f":"IF(A2245=\"\",\"\",VLOOKUP(B2245,#REF!,5,FALSE))","v":{"$error":"#N/A"}},{"$f":"IF(A2245=\"\",\"\",VLOOKUP(C2245,#REF!,5,FALSE))","v":{"$error":"#N/A"}}]
[114023,{"$f":"IF(A2246=\"\",\"\",VLOOKUP(A2246,[1]ItemConfig!$A:$B,2,FALSE))","v":{"$error":"#N/A"}},{"$f":"IF(A2246=\"\",\"\",VLOOKUP(A2246,[1]ItemConfig!$A:$D,4,FALSE))","v":{"$error":"#N/A"}},{"$f":"IF(A2246=\"\",\"\",VLOOKUP(A2246,[1]ItemConfig!$A:$C,3,FALSE))","v":{"$error":"#N/A"}},{"$f":"IF(A2246=\"\",\"\",VLOOKUP(B2246,#REF!,5,FALSE))","v":{"$error":"#N/A"}},{"$f":"IF(A2246=\"\",\"\",VLOOKUP(C2246,#REF!,5,FALSE))","v":{"$error":"#N/A"}}]
[114024,{"$f":"IF(A2247=\"\",\"\",VLOOKUP(A2247,[1]ItemConfig!$A:$B,2,FALSE))","v":{"$error":"#N/A"}},{"$f":"IF(A2247=\"\",\"\",VLOOKUP(A2247,[1]ItemConfig!$A:$D,4,FALSE))","v":{"$error":"#N/A"}},{"$f":"IF(A2247=\"\",\"\",VLOOKUP(A2247,[1]ItemConfig!$A:$C,3,FALSE))","v":{"$error":"#N/A"}},{"$f":"IF(A2247=\"\",\"\",VLOOKUP(B2247,#REF!,5,FALSE))","v":{"$error":"#N/A"}},{"$f":"IF(A2247=\"\",\"\",VLOOKUP(C2247,#REF!,5,FALSE))","v":{"$error":"#N/A"}}]
[114025,{"$f":"IF(A2248=\"\",\"\",VLOOKUP(A2248,[1]ItemConfig!$A:$B,2,FALSE))","v":{"$error":"#N/A"}},{"$f":"IF(A2248=\"\",\"\",VLOOKUP(A2248,[1]ItemConfig!$A:$D,4,FALSE))","v":{"$error":"#N/A"}},{"$f":"IF(A2248=\"\",\"\",VLOOKUP(A2248,[1]ItemConfig!$A:$C,3,FALSE))","v":{"$error":"#N/A"}},{"$f":"IF(A2248=\"\",\"\",VLOOKUP(B2248,#REF!,5,FALSE))","v":{"$error":"#N/A"}},{"$f":"IF(A2248=\"\",\"\",VLOOKUP(C2248,#REF!,5,FALSE))","v":{"$error":"#N/A"}}]
[114026,{"$f":"IF(A2249=\"\",\"\",VLOOKUP(A2249,[1]ItemConfig!$A:$B,2,FALSE))","v":{"$error":"#N/A"}},{"$f":"IF(A2249=\"\",\"\",VLOOKUP(A2249,[1]ItemConfig!$A:$D,4,FALSE))","v":{"$error":"#N/A"}},{"$f":"IF(A2249=\"\",\"\",VLOOKUP(A2249,[1]ItemConfig!$A:$C,3,FALSE))","v":{"$error":"#N/A"}},{"$f":"IF(A2249=\"\",\"\",VLOOKUP(B2249,#REF!,5,FALSE))","v":{"$error":"#N/A"}},{"$f":"IF(A2249=\"\",\"\",VLOOKUP(C2249,#REF!,5,FALSE))","v":{"$error":"#N/A"}}]
[114027,{"$f":"IF(A2250=\"\",\"\",VLOOKUP(A2250,[1]ItemConfig!$A:$B,2,FALSE))","v":{"$error":"#N/A"}},{"$f":"IF(A2250=\"\",\"\",VLOOKUP(A2250,[1]ItemConfig!$A:$D,4,FALSE))","v":{"$error":"#N/A"}},{"$f":"IF(A2250=\"\",\"\",VLOOKUP(A2250,[1]ItemConfig!$A:$C,3,FALSE))","v":{"$error":"#N/A"}},{"$f":"IF(A2250=\"\",\"\",VLOOKUP(B2250,#REF!,5,FALSE))","v":{"$error":"#N/A"}},{"$f":"IF(A2250=\"\",\"\",VLOOKUP(C2250,#REF!,5,FALSE))","v":{"$error":"#N/A"}}]
[114028,{"$f":"IF(A2251=\"\",\"\",VLOOKUP(A2251,[1]ItemConfig!$A:$B,2,FALSE))","v":{"$error":"#N/A"}},{"$f":"IF(A2251=\"\",\"\",VLOOKUP(A2251,[1]ItemConfig!$A:$D,4,FALSE))","v":{"$error":"#N/A"}},{"$f":"IF(A2251=\"\",\"\",VLOOKUP(A2251,[1]ItemConfig!$A:$C,3,FALSE))","v":{"$error":"#N/A"}},{"$f":"IF(A2251=\"\",\"\",VLOOKUP(B2251,#REF!,5,FALSE))","v":{"$error":"#N/A"}},{"$f":"IF(A2251=\"\",\"\",VLOOKUP(C2251,#REF!,5,FALSE))","v":{"$error":"#N/A"}}]
[114029,{"$f":"IF(A2252=\"\",\"\",VLOOKUP(A2252,[1]ItemConfig!$A:$B,2,FALSE))","v":{"$error":"#N/A"}},{"$f":"IF(A2252=\"\",\"\",VLOOKUP(A2252,[1]ItemConfig!$A:$D,4,FALSE))","v":{"$error":"#N/A"}},{"$f":"IF(A2252=\"\",\"\",VLOOKUP(A2252,[1]ItemConfig!$A:$C,3,FALSE))","v":{"$error":"#N/A"}},{"$f":"IF(A2252=\"\",\"\",VLOOKUP(B2252,#REF!,5,FALSE))","v":{"$error":"#N/A"}},{"$f":"IF(A2252=\"\",\"\",VLOOKUP(C2252,#REF!,5,FALSE))","v":{"$error":"#N/A"}}]
[114030,{"$f":"IF(A2253=\"\",\"\",VLOOKUP(A2253,[1]ItemConfig!$A:$B,2,FALSE))","v":{"$error":"#N/A"}},{"$f":"IF(A2253=\"\",\"\",VLOOKUP(A2253,[1]ItemConfig!$A:$D,4,FALSE))","v":{"$error":"#N/A"}},{"$f":"IF(A2253=\"\",\"\",VLOOKUP(A2253,[1]ItemConfig!$A:$C,3,FALSE))","v":{"$error":"#N/A"}},{"$f":"IF(A2253=\"\",\"\",VLOOKUP(B2253,#REF!,5,FALSE))","v":{"$error":"#N/A"}},{"$f":"IF(A2253=\"\",\"\",VLOOKUP(C2253,#REF!,5,FALSE))","v":{"$error":"#N/A"}}]
[null,{"$f":"IF(A2254=\"\",\"\",VLOOKUP(A2254,[1]ItemConfig!$A:$B,2,FALSE))","v":""},{"$f":"IF(A2254=\"\",\"\",VLOOKUP(A2254,[1]ItemConfig!$A:$D,4,FALSE))","v":""},{"$f":"IF(A2254=\"\",\"\",VLOOKUP(A2254,[1]ItemConfig!$A:$C,3,FALSE))","v":""},{"$f":"IF(A2254=\"\",\"\",VLOOKUP(B2254,#REF!,5,FALSE))","v":""},{"$f":"IF(A2254=\"\",\"\",VLOOKUP(C2254,#REF!,5,FALSE))","v":""}]
[500001,{"$f":"IF(A2255=\"\",\"\",VLOOKUP(A2255,[1]ItemConfig!$A:$B,2,FALSE))","v":{"$error":"#N/A"}},{"$f":"IF(A2255=\"\",\"\",VLOOKUP(A2255,[1]ItemConfig!$A:$D,4,FALSE))","v":{"$error":"#N/A"}},{"$f":"IF(A2255=\"\",\"\",VLOOKUP(A2255,[1]ItemConfig!$A:$C,3,FALSE))","v":{"$error":"#N/A"}},{"$f":"IF(A2255=\"\",\"\",VLOOKUP(B2255,#REF!,5,FALSE))","v":{"$error":"#N/A"}},{"$f":"IF(A2255=\"\",\"\",VLOOKUP(C2255,#REF!,5,FALSE))","v":{"$error":"#N/A"}}]
[500002,{"$f":"IF(A2256=\"\",\"\",VLOOKUP(A2256,[1]ItemConfig!$A:$B,2,FALSE))","v":{"$error":"#N/A"}},{"$f":"IF(A2256=\"\",\"\",VLOOKUP(A2256,[1]ItemConfig!$A:$D,4,FALSE))","v":{"$error":"#N/A"}},{"$f":"IF(A2256=\"\",\"\",VLOOKUP(A2256,[1]ItemConfig!$A:$C,3,FALSE))","v":{"$error":"#N/A"}},{"$f":"IF(A2256=\"\",\"\",VLOOKUP(B2256,#REF!,5,FALSE))","v":{"$error":"#N/A"}},{"$f":"IF(A2256=\"\",\"\",VLOOKUP(C2256,#REF!,5,FALSE))","v":{"$error":"#N/A"}}]
[500003,{"$f":"IF(A2257=\"\",\"\",VLOOKUP(A2257,[1]ItemConfig!$A:$B,2,FALSE))","v":{"$error":"#N/A"}},{"$f":"IF(A2257=\"\",\"\",VLOOKUP(A2257,[1]ItemConfig!$A:$D,4,FALSE))","v":{"$error":"#N/A"}},{"$f":"IF(A2257=\"\",\"\",VLOOKUP(A2257,[1]ItemConfig!$A:$C,3,FALSE))","v":{"$error":"#N/A"}},{"$f":"IF(A2257=\"\",\"\",VLOOKUP(B2257,#REF!,5,FALSE))","v":{"$error":"#N/A"}},{"$f":"IF(A2257=\"\",\"\",VLOOKUP(C2257,#REF!,5,FALSE))","v":{"$error":"#N/A"}}]
[500004,{"$f":"IF(A2258=\"\",\"\",VLOOKUP(A2258,[1]ItemConfig!$A:$B,2,FALSE))","v":{"$error":"#N/A"}},{"$f":"IF(A2258=\"\",\"\",VLOOKUP(A2258,[1]ItemConfig!$A:$D,4,FALSE))","v":{"$error":"#N/A"}},{"$f":"IF(A2258=\"\",\"\",VLOOKUP(A2258,[1]ItemConfig!$A:$C,3,FALSE))","v":{"$error":"#N/A"}},{"$f":"IF(A2258=\"\",\"\",VLOOKUP(B2258,#REF!,5,FALSE))","v":{"$error":"#N/A"}},{"$f":"IF(A2258=\"\",\"\",VLOOKUP(C2258,#REF!,5,FALSE))","v":{"$error":"#N/A"}}]
[500005,{"$f":"IF(A2259=\"\",\"\",VLOOKUP(A2259,[1]ItemConfig!$A:$B,2,FALSE))","v":{"$error":"#N/A"}},{"$f":"IF(A2259=\"\",\"\",VLOOKUP(A2259,[1]ItemConfig!$A:$D,4,FALSE))","v":{"$error":"#N/A"}},{"$f":"IF(A2259=\"\",\"\",VLOOKUP(A2259,[1]ItemConfig!$A:$C,3,FALSE))","v":{"$error":"#N/A"}},{"$f":"IF(A2259=\"\",\"\",VLOOKUP(B2259,#REF!,5,FALSE))","v":{"$error":"#N/A"}},{"$f":"IF(A2259=\"\",\"\",VLOOKUP(C2259,#REF!,5,FALSE))","v":{"$error":"#N/A"}}]
[500006,{"$f":"IF(A2260=\"\",\"\",VLOOKUP(A2260,[1]ItemConfig!$A:$B,2,FALSE))","v":{"$error":"#N/A"}},{"$f":"IF(A2260=\"\",\"\",VLOOKUP(A2260,[1]ItemConfig!$A:$D,4,FALSE))","v":{"$error":"#N/A"}},{"$f":"IF(A2260=\"\",\"\",VLOOKUP(A2260,[1]ItemConfig!$A:$C,3,FALSE))","v":{"$error":"#N/A"}},{"$f":"IF(A2260=\"\",\"\",VLOOKUP(B2260,#REF!,5,FALSE))","v":{"$error":"#N/A"}},{"$f":"IF(A2260=\"\",\"\",VLOOKUP(C2260,#REF!,5,FALSE))","v":{"$error":"#N/A"}}]
[500007,{"$f":"IF(A2261=\"\",\"\",VLOOKUP(A2261,[1]ItemConfig!$A:$B,2,FALSE))","v":{"$error":"#N/A"}},{"$f":"IF(A2261=\"\",\"\",VLOOKUP(A2261,[1]ItemConfig!$A:$D,4,FALSE))","v":{"$error":"#N/A"}},{"$f":"IF(A2261=\"\",\"\",VLOOKUP(A2261,[1]ItemConfig!$A:$C,3,FALSE))","v":{"$error":"#N/A"}},{"$f":"IF(A2261=\"\",\"\",VLOOKUP(B2261,#REF!,5,FALSE))","v":{"$error":"#N/A"}},{"$f":"IF(A2261=\"\",\"\",VLOOKUP(C2261,#REF!,5,FALSE))","v":{"$error":"#N/A"}}]
[500008,{"$f":"IF(A2262=\"\",\"\",VLOOKUP(A2262,[1]ItemConfig!$A:$B,2,FALSE))","v":{"$error":"#N/A"}},{"$f":"IF(A2262=\"\",\"\",VLOOKUP(A2262,[1]ItemConfig!$A:$D,4,FALSE))","v":{"$error":"#N/A"}},{"$f":"IF(A2262=\"\",\"\",VLOOKUP(A2262,[1]ItemConfig!$A:$C,3,FALSE))","v":{"$error":"#N/A"}},{"$f":"IF(A2262=\"\",\"\",VLOOKUP(B2262,#REF!,5,FALSE))","v":{"$error":"#N/A"}},{"$f":"IF(A2262=\"\",\"\",VLOOKUP(C2262,#REF!,5,FALSE))","v":{"$error":"#N/A"}}]
[500009,{"$f":"IF(A2263=\"\",\"\",VLOOKUP(A2263,[1]ItemConfig!$A:$B,2,FALSE))","v":{"$error":"#N/A"}},{"$f":"IF(A2263=\"\",\"\",VLOOKUP(A2263,[1]ItemConfig!$A:$D,4,FALSE))","v":{"$error":"#N/A"}},{"$f":"IF(A2263=\"\",\"\",VLOOKUP(A2263,[1]ItemConfig!$A:$C,3,FALSE))","v":{"$error":"#N/A"}},{"$f":"IF(A2263=\"\",\"\",VLOOKUP(B2263,#REF!,5,FALSE))","v":{"$error":"#N/A"}},{"$f":"IF(A2263=\"\",\"\",VLOOKUP(C2263,#REF!,5,FALSE))","v":{"$error":"#N/A"}}]
[500010,{"$f":"IF(A2264=\"\",\"\",VLOOKUP(A2264,[1]ItemConfig!$A:$B,2,FALSE))","v":{"$error":"#N/A"}},{"$f":"IF(A2264=\"\",\"\",VLOOKUP(A2264,[1]ItemConfig!$A:$D,4,FALSE))","v":{"$error":"#N/A"}},{"$f":"IF(A2264=\"\",\"\",VLOOKUP(A2264,[1]ItemConfig!$A:$C,3,FALSE))","v":{"$error":"#N/A"}},{"$f":"IF(A2264=\"\",\"\",VLOOKUP(B2264,#REF!,5,FALSE))","v":{"$error":"#N/A"}},{"$f":"IF(A2264=\"\",\"\",VLOOKUP(C2264,#REF!,5,FALSE))","v":{"$error":"#N/A"}}]
[500011,{"$f":"IF(A2265=\"\",\"\",VLOOKUP(A2265,[1]ItemConfig!$A:$B,2,FALSE))","v":{"$error":"#N/A"}},{"$f":"IF(A2265=\"\",\"\",VLOOKUP(A2265,[1]ItemConfig!$A:$D,4,FALSE))","v":{"$error":"#N/A"}},{"$f":"IF(A2265=\"\",\"\",VLOOKUP(A2265,[1]ItemConfig!$A:$C,3,FALSE))","v":{"$error":"#N/A"}},{"$f":"IF(A2265=\"\",\"\",VLOOKUP(B2265,#REF!,5,FALSE))","v":{"$error":"#N/A"}},{"$f":"IF(A2265=\"\",\"\",VLOOKUP(C2265,#REF!,5,FALSE))","v":{"$error":"#N/A"}}]
[500012,{"$f":"IF(A2266=\"\",\"\",VLOOKUP(A2266,[1]ItemConfig!$A:$B,2,FALSE))","v":{"$error":"#N/A"}},{"$f":"IF(A2266=\"\",\"\",VLOOKUP(A2266,[1]ItemConfig!$A:$D,4,FALSE))","v":{"$error":"#N/A"}},{"$f":"IF(A2266=\"\",\"\",VLOOKUP(A2266,[1]ItemConfig!$A:$C,3,FALSE))","v":{"$error":"#N/A"}},{"$f":"IF(A2266=\"\",\"\",VLOOKUP(B2266,#REF!,5,FALSE))","v":{"$error":"#N/A"}},{"$f":"IF(A2266=\"\",\"\",VLOOKUP(C2266,#REF!,5,FALSE))","v":{"$error":"#N/A"}}]
[500013,{"$f":"IF(A2267=\"\",\"\",VLOOKUP(A2267,[1]ItemConfig!$A:$B,2,FALSE))","v":{"$error":"#N/A"}},{"$f":"IF(A2267=\"\",\"\",VLOOKUP(A2267,[1]ItemConfig!$A:$D,4,FALSE))","v":{"$error":"#N/A"}},{"$f":"IF(A2267=\"\",\"\",VLOOKUP(A2267,[1]ItemConfig!$A:$C,3,FALSE))","v":{"$error":"#N/A"}},{"$f":"IF(A2267=\"\",\"\",VLOOKUP(B2267,#REF!,5,FALSE))","v":{"$error":"#N/A"}},{"$f":"IF(A2267=\"\",\"\",VLOOKUP(C2267,#REF!,5,FALSE))","v":{"$error":"#N/A"}}]
[500014,{"$f":"IF(A2268=\"\",\"\",VLOOKUP(A2268,[1]ItemConfig!$A:$B,2,FALSE))","v":{"$error":"#N/A"}},{"$f":"IF(A2268=\"\",\"\",VLOOKUP(A2268,[1]ItemConfig!$A:$D,4,FALSE))","v":{"$error":"#N/A"}},{"$f":"IF(A2268=\"\",\"\",VLOOKUP(A2268,[1]ItemConfig!$A:$C,3,FALSE))","v":{"$error":"#N/A"}},{"$f":"IF(A2268=\"\",\"\",VLOOKUP(B2268,#REF!,5,FALSE))","v":{"$error":"#N/A"}},{"$f":"IF(A2268=\"\",\"\",VLOOKUP(C2268,#REF!,5,FALSE))","v":{"$error":"#N/A"}}]
[500015,{"$f":"IF(A2269=\"\",\"\",VLOOKUP(A2269,[1]ItemConfig!$A:$B,2,FALSE))","v":{"$error":"#N/A"}},{"$f":"IF(A2269=\"\",\"\",VLOOKUP(A2269,[1]ItemConfig!$A:$D,4,FALSE))","v":{"$error":"#N/A"}},{"$f":"IF(A2269=\"\",\"\",VLOOKUP(A2269,[1]ItemConfig!$A:$C,3,FALSE))","v":{"$error":"#N/A"}},{"$f":"IF(A2269=\"\",\"\",VLOOKUP(B2269,#REF!,5,FALSE))","v":{"$error":"#N/A"}},{"$f":"IF(A2269=\"\",\"\",VLOOKUP(C2269,#REF!,5,FALSE))","v":{"$error":"#N/A"}}]
[500016,{"$f":"IF(A2270=\"\",\"\",VLOOKUP(A2270,[1]ItemConfig!$A:$B,2,FALSE))","v":{"$error":"#N/A"}},{"$f":"IF(A2270=\"\",\"\",VLOOKUP(A2270,[1]ItemConfig!$A:$D,4,FALSE))","v":{"$error":"#N/A"}},{"$f":"IF(A2270=\"\",\"\",VLOOKUP(A2270,[1]ItemConfig!$A:$C,3,FALSE))","v":{"$error":"#N/A"}},{"$f":"IF(A2270=\"\",\"\",VLOOKUP(B2270,#REF!,5,FALSE))","v":{"$error":"#N/A"}},{"$f":"IF(A2270=\"\",\"\",VLOOKUP(C2270,#REF!,5,FALSE))","v":{"$error":"#N/A"}}]
[500017,{"$f":"IF(A2271=\"\",\"\",VLOOKUP(A2271,[1]ItemConfig!$A:$B,2,FALSE))","v":{"$error":"#N/A"}},{"$f":"IF(A2271=\"\",\"\",VLOOKUP(A2271,[1]ItemConfig!$A:$D,4,FALSE))","v":{"$error":"#N/A"}},{"$f":"IF(A2271=\"\",\"\",VLOOKUP(A2271,[1]ItemConfig!$A:$C,3,FALSE))","v":{"$error":"#N/A"}},{"$f":"IF(A2271=\"\",\"\",VLOOKUP(B2271,#REF!,5,FALSE))","v":{"$error":"#N/A"}},{"$f":"IF(A2271=\"\",\"\",VLOOKUP(C2271,#REF!,5,FALSE))","v":{"$error":"#N/A"}}]
[500018,{"$f":"IF(A2272=\"\",\"\",VLOOKUP(A2272,[1]ItemConfig!$A:$B,2,FALSE))","v":{"$error":"#N/A"}},{"$f":"IF(A2272=\"\",\"\",VLOOKUP(A2272,[1]ItemConfig!$A:$D,4,FALSE))","v":{"$error":"#N/A"}},{"$f":"IF(A2272=\"\",\"\",VLOOKUP(A2272,[1]ItemConfig!$A:$C,3,FALSE))","v":{"$error":"#N/A"}},{"$f":"IF(A2272=\"\",\"\",VLOOKUP(B2272,#REF!,5,FALSE))","v":{"$error":"#N/A"}},{"$f":"IF(A2272=\"\",\"\",VLOOKUP(C2272,#REF!,5,FALSE))","v":{"$error":"#N/A"}}]
[null,{"$f":"IF(A2273=\"\",\"\",VLOOKUP(A2273,[1]ItemConfig!$A:$B,2,FALSE))","v":""},{"$f":"IF(A2273=\"\",\"\",VLOOKUP(A2273,[1]ItemConfig!$A:$D,4,FALSE))","v":""},{"$f":"IF(A2273=\"\",\"\",VLOOKUP(A2273,[1]ItemConfig!$A:$C,3,FALSE))","v":""},{"$f":"IF(A2273=\"\",\"\",VLOOKUP(B2273,#REF!,5,FALSE))","v":""},{"$f":"IF(A2273=\"\",\"\",VLOOKUP(C2273,#REF!,5,FALSE))","v":""}]
[null,{"$f":"IF(A2274=\"\",\"\",VLOOKUP(A2274,[1]ItemConfig!$A:$B,2,FALSE))","v":""},{"$f":"IF(A2274=\"\",\"\",VLOOKUP(A2274,[1]ItemConfig!$A:$D,4,FALSE))","v":""},{"$f":"IF(A2274=\"\",\"\",VLOOKUP(A2274,[1]ItemConfig!$A:$C,3,FALSE))","v":""},{"$f":"IF(A2274=\"\",\"\",VLOOKUP(B2274,#REF!,5,FALSE))","v":""},{"$f":"IF(A2274=\"\",\"\",VLOOKUP(C2274,#REF!,5,FALSE))","v":""}]
[null,{"$f":"IF(A2275=\"\",\"\",VLOOKUP(A2275,[1]ItemConfig!$A:$B,2,FALSE))","v":""},{"$f":"IF(A2275=\"\",\"\",VLOOKUP(A2275,[1]ItemConfig!$A:$D,4,FALSE))","v":""},{"$f":"IF(A2275=\"\",\"\",VLOOKUP(A2275,[1]ItemConfig!$A:$C,3,FALSE))","v":""},{"$f":"IF(A2275=\"\",\"\",VLOOKUP(B2275,#REF!,5,FALSE))","v":""},{"$f":"IF(A2275=\"\",\"\",VLOOKUP(C2275,#REF!,5,FALSE))","v":""}]
[null,{"$f":"IF(A2276=\"\",\"\",VLOOKUP(A2276,[1]ItemConfig!$A:$B,2,FALSE))","v":""},{"$f":"IF(A2276=\"\",\"\",VLOOKUP(A2276,[1]ItemConfig!$A:$D,4,FALSE))","v":""},{"$f":"IF(A2276=\"\",\"\",VLOOKUP(A2276,[1]ItemConfig!$A:$C,3,FALSE))","v":""},{"$f":"IF(A2276=\"\",\"\",VLOOKUP(B2276,#REF!,5,FALSE))","v":""},{"$f":"IF(A2276=\"\",\"\",VLOOKUP(C2276,#REF!,5,FALSE))","v":""}]
[null,{"$f":"IF(A2277=\"\",\"\",VLOOKUP(A2277,[1]ItemConfig!$A:$B,2,FALSE))","v":""},{"$f":"IF(A2277=\"\",\"\",VLOOKUP(A2277,[1]ItemConfig!$A:$D,4,FALSE))","v":""},{"$f":"IF(A2277=\"\",\"\",VLOOKUP(A2277,[1]ItemConfig!$A:$C,3,FALSE))","v":""},{"$f":"IF(A2277=\"\",\"\",VLOOKUP(B2277,#REF!,5,FALSE))","v":""},{"$f":"IF(A2277=\"\",\"\",VLOOKUP(C2277,#REF!,5,FALSE))","v":""}]
[null,{"$f":"IF(A2278=\"\",\"\",VLOOKUP(A2278,[1]ItemConfig!$A:$B,2,FALSE))","v":""},{"$f":"IF(A2278=\"\",\"\",VLOOKUP(A2278,[1]ItemConfig!$A:$D,4,FALSE))","v":""},{"$f":"IF(A2278=\"\",\"\",VLOOKUP(A2278,[1]ItemConfig!$A:$C,3,FALSE))","v":""},{"$f":"IF(A2278=\"\",\"\",VLOOKUP(B2278,#REF!,5,FALSE))","v":""},{"$f":"IF(A2278=\"\",\"\",VLOOKUP(C2278,#REF!,5,FALSE))","v":""}]
[500025,{"$f":"IF(A2279=\"\",\"\",VLOOKUP(A2279,[1]ItemConfig!$A:$B,2,FALSE))","v":{"$error":"#N/A"}},{"$f":"IF(A2279=\"\",\"\",VLOOKUP(A2279,[1]ItemConfig!$A:$D,4,FALSE))","v":{"$error":"#N/A"}},{"$f":"IF(A2279=\"\",\"\",VLOOKUP(A2279,[1]ItemConfig!$A:$C,3,FALSE))","v":{"$error":"#N/A"}},{"$f":"IF(A2279=\"\",\"\",VLOOKUP(B2279,#REF!,5,FALSE))","v":{"$error":"#N/A"}},{"$f":"IF(A2279=\"\",\"\",VLOOKUP(C2279,#REF!,5,FALSE))","v":{"$error":"#N/A"}}]
[null,{"$f":"IF(A2280=\"\",\"\",VLOOKUP(A2280,[1]ItemConfig!$A:$B,2,FALSE))","v":""},{"$f":"IF(A2280=\"\",\"\",VLOOKUP(A2280,[1]ItemConfig!$A:$D,4,FALSE))","v":""},{"$f":"IF(A2280=\"\",\"\",VLOOKUP(A2280,[1]ItemConfig!$A:$C,3,FALSE))","v":""},{"$f":"IF(A2280=\"\",\"\",VLOOKUP(B2280,#REF!,5,FALSE))","v":""},{"$f":"IF(A2280=\"\",\"\",VLOOKUP(C2280,#REF!,5,FALSE))","v":""}]
[null,{"$f":"IF(A2281=\"\",\"\",VLOOKUP(A2281,[1]ItemConfig!$A:$B,2,FALSE))","v":""},{"$f":"IF(A2281=\"\",\"\",VLOOKUP(A2281,[1]ItemConfig!$A:$D,4,FALSE))","v":""},{"$f":"IF(A2281=\"\",\"\",VLOOKUP(A2281,[1]ItemConfig!$A:$C,3,FALSE))","v":""},{"$f":"IF(A2281=\"\",\"\",VLOOKUP(B2281,#REF!,5,FALSE))","v":""},{"$f":"IF(A2281=\"\",\"\",VLOOKUP(C2281,#REF!,5,FALSE))","v":""}]
[null,{"$f":"IF(A2282=\"\",\"\",VLOOKUP(A2282,[1]ItemConfig!$A:$B,2,FALSE))","v":""},{"$f":"IF(A2282=\"\",\"\",VLOOKUP(A2282,[1]ItemConfig!$A:$D,4,FALSE))","v":""},{"$f":"IF(A2282=\"\",\"\",VLOOKUP(A2282,[1]ItemConfig!$A:$C,3,FALSE))","v":""},{"$f":"IF(A2282=\"\",\"\",VLOOKUP(B2282,#REF!,5,FALSE))","v":""},{"$f":"IF(A2282=\"\",\"\",VLOOKUP(C2282,#REF!,5,FALSE))","v":""}]
[null,{"$f":"IF(A2283=\"\",\"\",VLOOKUP(A2283,[1]ItemConfig!$A:$B,2,FALSE))","v":""},{"$f":"IF(A2283=\"\",\"\",VLOOKUP(A2283,[1]ItemConfig!$A:$D,4,FALSE))","v":""},{"$f":"IF(A2283=\"\",\"\",VLOOKUP(A2283,[1]ItemConfig!$A:$C,3,FALSE))","v":""},{"$f":"IF(A2283=\"\",\"\",VLOOKUP(B2283,#REF!,5,FALSE))","v":""},{"$f":"IF(A2283=\"\",\"\",VLOOKUP(C2283,#REF!,5,FALSE))","v":""}]
[null,{"$f":"IF(A2284=\"\",\"\",VLOOKUP(A2284,[1]ItemConfig!$A:$B,2,FALSE))","v":""},{"$f":"IF(A2284=\"\",\"\",VLOOKUP(A2284,[1]ItemConfig!$A:$D,4,FALSE))","v":""},{"$f":"IF(A2284=\"\",\"\",VLOOKUP(A2284,[1]ItemConfig!$A:$C,3,FALSE))","v":""},{"$f":"IF(A2284=\"\",\"\",VLOOKUP(B2284,#REF!,5,FALSE))","v":""},{"$f":"IF(A2284=\"\",\"\",VLOOKUP(C2284,#REF!,5,FALSE))","v":""}]
[null,{"$f":"IF(A2285=\"\",\"\",VLOOKUP(A2285,[1]ItemConfig!$A:$B,2,FALSE))","v":""},{"$f":"IF(A2285=\"\",\"\",VLOOKUP(A2285,[1]ItemConfig!$A:$D,4,FALSE))","v":""},{"$f":"IF(A2285=\"\",\"\",VLOOKUP(A2285,[1]ItemConfig!$A:$C,3,FALSE))","v":""},{"$f":"IF(A2285=\"\",\"\",VLOOKUP(B2285,#REF!,5,FALSE))","v":""},{"$f":"IF(A2285=\"\",\"\",VLOOKUP(C2285,#REF!,5,FALSE))","v":""}]
[500032,{"$f":"IF(A2286=\"\",\"\",VLOOKUP(A2286,[1]ItemConfig!$A:$B,2,FALSE))","v":{"$error":"#N/A"}},{"$f":"IF(A2286=\"\",\"\",VLOOKUP(A2286,[1]ItemConfig!$A:$D,4,FALSE))","v":{"$error":"#N/A"}},{"$f":"IF(A2286=\"\",\"\",VLOOKUP(A2286,[1]ItemConfig!$A:$C,3,FALSE))","v":{"$error":"#N/A"}},{"$f":"IF(A2286=\"\",\"\",VLOOKUP(B2286,#REF!,5,FALSE))","v":{"$error":"#N/A"}},{"$f":"IF(A2286=\"\",\"\",VLOOKUP(C2286,#REF!,5,FALSE))","v":{"$error":"#N/A"}}]
[null,{"$f":"IF(A2287=\"\",\"\",VLOOKUP(A2287,[1]ItemConfig!$A:$B,2,FALSE))","v":""},{"$f":"IF(A2287=\"\",\"\",VLOOKUP(A2287,[1]ItemConfig!$A:$D,4,FALSE))","v":""},{"$f":"IF(A2287=\"\",\"\",VLOOKUP(A2287,[1]ItemConfig!$A:$C,3,FALSE))","v":""},{"$f":"IF(A2287=\"\",\"\",VLOOKUP(B2287,#REF!,5,FALSE))","v":""},{"$f":"IF(A2287=\"\",\"\",VLOOKUP(C2287,#REF!,5,FALSE))","v":""}]
[null,{"$f":"IF(A2288=\"\",\"\",VLOOKUP(A2288,[1]ItemConfig!$A:$B,2,FALSE))","v":""},{"$f":"IF(A2288=\"\",\"\",VLOOKUP(A2288,[1]ItemConfig!$A:$D,4,FALSE))","v":""},{"$f":"IF(A2288=\"\",\"\",VLOOKUP(A2288,[1]ItemConfig!$A:$C,3,FALSE))","v":""},{"$f":"IF(A2288=\"\",\"\",VLOOKUP(B2288,#REF!,5,FALSE))","v":""},{"$f":"IF(A2288=\"\",\"\",VLOOKUP(C2288,#REF!,5,FALSE))","v":""}]
[null,{"$f":"IF(A2289=\"\",\"\",VLOOKUP(A2289,[1]ItemConfig!$A:$B,2,FALSE))","v":""},{"$f":"IF(A2289=\"\",\"\",VLOOKUP(A2289,[1]ItemConfig!$A:$D,4,FALSE))","v":""},{"$f":"IF(A2289=\"\",\"\",VLOOKUP(A2289,[1]ItemConfig!$A:$C,3,FALSE))","v":""},{"$f":"IF(A2289=\"\",\"\",VLOOKUP(B2289,#REF!,5,FALSE))","v":""},{"$f":"IF(A2289=\"\",\"\",VLOOKUP(C2289,#REF!,5,FALSE))","v":""}]
[null,{"$f":"IF(A2290=\"\",\"\",VLOOKUP(A2290,[1]ItemConfig!$A:$B,2,FALSE))","v":""},{"$f":"IF(A2290=\"\",\"\",VLOOKUP(A2290,[1]ItemConfig!$A:$D,4,FALSE))","v":""},{"$f":"IF(A2290=\"\",\"\",VLOOKUP(A2290,[1]ItemConfig!$A:$C,3,FALSE))","v":""},{"$f":"IF(A2290=\"\",\"\",VLOOKUP(B2290,#REF!,5,FALSE))","v":""},{"$f":"IF(A2290=\"\",\"\",VLOOKUP(C2290,#REF!,5,FALSE))","v":""}]
[null,{"$f":"IF(A2291=\"\",\"\",VLOOKUP(A2291,[1]ItemConfig!$A:$B,2,FALSE))","v":""},{"$f":"IF(A2291=\"\",\"\",VLOOKUP(A2291,[1]ItemConfig!$A:$D,4,FALSE))","v":""},{"$f":"IF(A2291=\"\",\"\",VLOOKUP(A2291,[1]ItemConfig!$A:$C,3,FALSE))","v":""},{"$f":"IF(A2291=\"\",\"\",VLOOKUP(B2291,#REF!,5,FALSE))","v":""},{"$f":"IF(A2291=\"\",\"\",VLOOKUP(C2291,#REF!,5,FALSE))","v":""}]
[null,{"$f":"IF(A2292=\"\",\"\",VLOOKUP(A2292,[1]ItemConfig!$A:$B,2,FALSE))","v":""},{"$f":"IF(A2292=\"\",\"\",VLOOKUP(A2292,[1]ItemConfig!$A:$D,4,FALSE))","v":""},{"$f":"IF(A2292=\"\",\"\",VLOOKUP(A2292,[1]ItemConfig!$A:$C,3,FALSE))","v":""},{"$f":"IF(A2292=\"\",\"\",VLOOKUP(B2292,#REF!,5,FALSE))","v":""},{"$f":"IF(A2292=\"\",\"\",VLOOKUP(C2292,#REF!,5,FALSE))","v":""}]
[500039,{"$f":"IF(A2293=\"\",\"\",VLOOKUP(A2293,[1]ItemConfig!$A:$B,2,FALSE))","v":{"$error":"#N/A"}},{"$f":"IF(A2293=\"\",\"\",VLOOKUP(A2293,[1]ItemConfig!$A:$D,4,FALSE))","v":{"$error":"#N/A"}},{"$f":"IF(A2293=\"\",\"\",VLOOKUP(A2293,[1]ItemConfig!$A:$C,3,FALSE))","v":{"$error":"#N/A"}},{"$f":"IF(A2293=\"\",\"\",VLOOKUP(B2293,#REF!,5,FALSE))","v":{"$error":"#N/A"}},{"$f":"IF(A2293=\"\",\"\",VLOOKUP(C2293,#REF!,5,FALSE))","v":{"$error":"#N/A"}}]
[null,{"$f":"IF(A2294=\"\",\"\",VLOOKUP(A2294,[1]ItemConfig!$A:$B,2,FALSE))","v":""},{"$f":"IF(A2294=\"\",\"\",VLOOKUP(A2294,[1]ItemConfig!$A:$D,4,FALSE))","v":""},{"$f":"IF(A2294=\"\",\"\",VLOOKUP(A2294,[1]ItemConfig!$A:$C,3,FALSE))","v":""},{"$f":"IF(A2294=\"\",\"\",VLOOKUP(B2294,#REF!,5,FALSE))","v":""},{"$f":"IF(A2294=\"\",\"\",VLOOKUP(C2294,#REF!,5,FALSE))","v":""}]
[null,{"$f":"IF(A2295=\"\",\"\",VLOOKUP(A2295,[1]ItemConfig!$A:$B,2,FALSE))","v":""},{"$f":"IF(A2295=\"\",\"\",VLOOKUP(A2295,[1]ItemConfig!$A:$D,4,FALSE))","v":""},{"$f":"IF(A2295=\"\",\"\",VLOOKUP(A2295,[1]ItemConfig!$A:$C,3,FALSE))","v":""},{"$f":"IF(A2295=\"\",\"\",VLOOKUP(B2295,#REF!,5,FALSE))","v":""},{"$f":"IF(A2295=\"\",\"\",VLOOKUP(C2295,#REF!,5,FALSE))","v":""}]
[null,{"$f":"IF(A2296=\"\",\"\",VLOOKUP(A2296,[1]ItemConfig!$A:$B,2,FALSE))","v":""},{"$f":"IF(A2296=\"\",\"\",VLOOKUP(A2296,[1]ItemConfig!$A:$D,4,FALSE))","v":""},{"$f":"IF(A2296=\"\",\"\",VLOOKUP(A2296,[1]ItemConfig!$A:$C,3,FALSE))","v":""},{"$f":"IF(A2296=\"\",\"\",VLOOKUP(B2296,#REF!,5,FALSE))","v":""},{"$f":"IF(A2296=\"\",\"\",VLOOKUP(C2296,#REF!,5,FALSE))","v":""}]
[null,{"$f":"IF(A2297=\"\",\"\",VLOOKUP(A2297,[1]ItemConfig!$A:$B,2,FALSE))","v":""},{"$f":"IF(A2297=\"\",\"\",VLOOKUP(A2297,[1]ItemConfig!$A:$D,4,FALSE))","v":""},{"$f":"IF(A2297=\"\",\"\",VLOOKUP(A2297,[1]ItemConfig!$A:$C,3,FALSE))","v":""},{"$f":"IF(A2297=\"\",\"\",VLOOKUP(B2297,#REF!,5,FALSE))","v":""},{"$f":"IF(A2297=\"\",\"\",VLOOKUP(C2297,#REF!,5,FALSE))","v":""}]
[null,{"$f":"IF(A2298=\"\",\"\",VLOOKUP(A2298,[1]ItemConfig!$A:$B,2,FALSE))","v":""},{"$f":"IF(A2298=\"\",\"\",VLOOKUP(A2298,[1]ItemConfig!$A:$D,4,FALSE))","v":""},{"$f":"IF(A2298=\"\",\"\",VLOOKUP(A2298,[1]ItemConfig!$A:$C,3,FALSE))","v":""},{"$f":"IF(A2298=\"\",\"\",VLOOKUP(B2298,#REF!,5,FALSE))","v":""},{"$f":"IF(A2298=\"\",\"\",VLOOKUP(C2298,#REF!,5,FALSE))","v":""}]
[null,{"$f":"IF(A2299=\"\",\"\",VLOOKUP(A2299,[1]ItemConfig!$A:$B,2,FALSE))","v":""},{"$f":"IF(A2299=\"\",\"\",VLOOKUP(A2299,[1]ItemConfig!$A:$D,4,FALSE))","v":""},{"$f":"IF(A2299=\"\",\"\",VLOOKUP(A2299,[1]ItemConfig!$A:$C,3,FALSE))","v":""},{"$f":"IF(A2299=\"\",\"\",VLOOKUP(B2299,#REF!,5,FALSE))","v":""},{"$f":"IF(A2299=\"\",\"\",VLOOKUP(C2299,#REF!,5,FALSE))","v":""}]
[500046,{"$f":"IF(A2300=\"\",\"\",VLOOKUP(A2300,[1]ItemConfig!$A:$B,2,FALSE))","v":{"$error":"#N/A"}},{"$f":"IF(A2300=\"\",\"\",VLOOKUP(A2300,[1]ItemConfig!$A:$D,4,FALSE))","v":{"$error":"#N/A"}},{"$f":"IF(A2300=\"\",\"\",VLOOKUP(A2300,[1]ItemConfig!$A:$C,3,FALSE))","v":{"$error":"#N/A"}},{"$f":"IF(A2300=\"\",\"\",VLOOKUP(B2300,#REF!,5,FALSE))","v":{"$error":"#N/A"}},{"$f":"IF(A2300=\"\",\"\",VLOOKUP(C2300,#REF!,5,FALSE))","v":{"$error":"#N/A"}}]
[null,{"$f":"IF(A2301=\"\",\"\",VLOOKUP(A2301,[1]ItemConfig!$A:$B,2,FALSE))","v":""},{"$f":"IF(A2301=\"\",\"\",VLOOKUP(A2301,[1]ItemConfig!$A:$D,4,FALSE))","v":""},{"$f":"IF(A2301=\"\",\"\",VLOOKUP(A2301,[1]ItemConfig!$A:$C,3,FALSE))","v":""},{"$f":"IF(A2301=\"\",\"\",VLOOKUP(B2301,#REF!,5,FALSE))","v":""},{"$f":"IF(A2301=\"\",\"\",VLOOKUP(C2301,#REF!,5,FALSE))","v":""}]
[null,{"$f":"IF(A2302=\"\",\"\",VLOOKUP(A2302,[1]ItemConfig!$A:$B,2,FALSE))","v":""},{"$f":"IF(A2302=\"\",\"\",VLOOKUP(A2302,[1]ItemConfig!$A:$D,4,FALSE))","v":""},{"$f":"IF(A2302=\"\",\"\",VLOOKUP(A2302,[1]ItemConfig!$A:$C,3,FALSE))","v":""},{"$f":"IF(A2302=\"\",\"\",VLOOKUP(B2302,#REF!,5,FALSE))","v":""},{"$f":"IF(A2302=\"\",\"\",VLOOKUP(C2302,#REF!,5,FALSE))","v":""}]
[null,{"$f":"IF(A2303=\"\",\"\",VLOOKUP(A2303,[1]ItemConfig!$A:$B,2,FALSE))","v":""},{"$f":"IF(A2303=\"\",\"\",VLOOKUP(A2303,[1]ItemConfig!$A:$D,4,FALSE))","v":""},{"$f":"IF(A2303=\"\",\"\",VLOOKUP(A2303,[1]ItemConfig!$A:$C,3,FALSE))","v":""},{"$f":"IF(A2303=\"\",\"\",VLOOKUP(B2303,#REF!,5,FALSE))","v":""},{"$f":"IF(A2303=\"\",\"\",VLOOKUP(C2303,#REF!,5,FALSE))","v":""}]
[null,{"$f":"IF(A2304=\"\",\"\",VLOOKUP(A2304,[1]ItemConfig!$A:$B,2,FALSE))","v":""},{"$f":"IF(A2304=\"\",\"\",VLOOKUP(A2304,[1]ItemConfig!$A:$D,4,FALSE))","v":""},{"$f":"IF(A2304=\"\",\"\",VLOOKUP(A2304,[1]ItemConfig!$A:$C,3,FALSE))","v":""},{"$f":"IF(A2304=\"\",\"\",VLOOKUP(B2304,#REF!,5,FALSE))","v":""},{"$f":"IF(A2304=\"\",\"\",VLOOKUP(C2304,#REF!,5,FALSE))","v":""}]
[null,{"$f":"IF(A2305=\"\",\"\",VLOOKUP(A2305,[1]ItemConfig!$A:$B,2,FALSE))","v":""},{"$f":"IF(A2305=\"\",\"\",VLOOKUP(A2305,[1]ItemConfig!$A:$D,4,FALSE))","v":""},{"$f":"IF(A2305=\"\",\"\",VLOOKUP(A2305,[1]ItemConfig!$A:$C,3,FALSE))","v":""},{"$f":"IF(A2305=\"\",\"\",VLOOKUP(B2305,#REF!,5,FALSE))","v":""},{"$f":"IF(A2305=\"\",\"\",VLOOKUP(C2305,#REF!,5,FALSE))","v":""}]
[null,{"$f":"IF(A2306=\"\",\"\",VLOOKUP(A2306,[1]ItemConfig!$A:$B,2,FALSE))","v":""},{"$f":"IF(A2306=\"\",\"\",VLOOKUP(A2306,[1]ItemConfig!$A:$D,4,FALSE))","v":""},{"$f":"IF(A2306=\"\",\"\",VLOOKUP(A2306,[1]ItemConfig!$A:$C,3,FALSE))","v":""},{"$f":"IF(A2306=\"\",\"\",VLOOKUP(B2306,#REF!,5,FALSE))","v":""},{"$f":"IF(A2306=\"\",\"\",VLOOKUP(C2306,#REF!,5,FALSE))","v":""}]
[500053,{"$f":"IF(A2307=\"\",\"\",VLOOKUP(A2307,[1]ItemConfig!$A:$B,2,FALSE))","v":{"$error":"#N/A"}},{"$f":"IF(A2307=\"\",\"\",VLOOKUP(A2307,[1]ItemConfig!$A:$D,4,FALSE))","v":{"$error":"#N/A"}},{"$f":"IF(A2307=\"\",\"\",VLOOKUP(A2307,[1]ItemConfig!$A:$C,3,FALSE))","v":{"$error":"#N/A"}},{"$f":"IF(A2307=\"\",\"\",VLOOKUP(B2307,#REF!,5,FALSE))","v":{"$error":"#N/A"}},{"$f":"IF(A2307=\"\",\"\",VLOOKUP(C2307,#REF!,5,FALSE))","v":{"$error":"#N/A"}}]
[null,{"$f":"IF(A2308=\"\",\"\",VLOOKUP(A2308,[1]ItemConfig!$A:$B,2,FALSE))","v":""},{"$f":"IF(A2308=\"\",\"\",VLOOKUP(A2308,[1]ItemConfig!$A:$D,4,FALSE))","v":""},{"$f":"IF(A2308=\"\",\"\",VLOOKUP(A2308,[1]ItemConfig!$A:$C,3,FALSE))","v":""},{"$f":"IF(A2308=\"\",\"\",VLOOKUP(B2308,#REF!,5,FALSE))","v":""},{"$f":"IF(A2308=\"\",\"\",VLOOKUP(C2308,#REF!,5,FALSE))","v":""}]
[null,{"$f":"IF(A2309=\"\",\"\",VLOOKUP(A2309,[1]ItemConfig!$A:$B,2,FALSE))","v":""},{"$f":"IF(A2309=\"\",\"\",VLOOKUP(A2309,[1]ItemConfig!$A:$D,4,FALSE))","v":""},{"$f":"IF(A2309=\"\",\"\",VLOOKUP(A2309,[1]ItemConfig!$A:$C,3,FALSE))","v":""},{"$f":"IF(A2309=\"\",\"\",VLOOKUP(B2309,#REF!,5,FALSE))","v":""},{"$f":"IF(A2309=\"\",\"\",VLOOKUP(C2309,#REF!,5,FALSE))","v":""}]
[null,{"$f":"IF(A2310=\"\",\"\",VLOOKUP(A2310,[1]ItemConfig!$A:$B,2,FALSE))","v":""},{"$f":"IF(A2310=\"\",\"\",VLOOKUP(A2310,[1]ItemConfig!$A:$D,4,FALSE))","v":""},{"$f":"IF(A2310=\"\",\"\",VLOOKUP(A2310,[1]ItemConfig!$A:$C,3,FALSE))","v":""},{"$f":"IF(A2310=\"\",\"\",VLOOKUP(B2310,#REF!,5,FALSE))","v":""},{"$f":"IF(A2310=\"\",\"\",VLOOKUP(C2310,#REF!,5,FALSE))","v":""}]
[null,{"$f":"IF(A2311=\"\",\"\",VLOOKUP(A2311,[1]ItemConfig!$A:$B,2,FALSE))","v":""},{"$f":"IF(A2311=\"\",\"\",VLOOKUP(A2311,[1]ItemConfig!$A:$D,4,FALSE))","v":""},{"$f":"IF(A2311=\"\",\"\",VLOOKUP(A2311,[1]ItemConfig!$A:$C,3,FALSE))","v":""},{"$f":"IF(A2311=\"\",\"\",VLOOKUP(B2311,#REF!,5,FALSE))","v":""},{"$f":"IF(A2311=\"\",\"\",VLOOKUP(C2311,#REF!,5,FALSE))","v":""}]
[null,{"$f":"IF(A2312=\"\",\"\",VLOOKUP(A2312,[1]ItemConfig!$A:$B,2,FALSE))","v":""},{"$f":"IF(A2312=\"\",\"\",VLOOKUP(A2312,[1]ItemConfig!$A:$D,4,FALSE))","v":""},{"$f":"IF(A2312=\"\",\"\",VLOOKUP(A2312,[1]ItemConfig!$A:$C,3,FALSE))","v":""},{"$f":"IF(A2312=\"\",\"\",VLOOKUP(B2312,#REF!,5,FALSE))","v":""},{"$f":"IF(A2312=\"\",\"\",VLOOKUP(C2312,#REF!,5,FALSE))","v":""}]
[null,{"$f":"IF(A2313=\"\",\"\",VLOOKUP(A2313,[1]ItemConfig!$A:$B,2,FALSE))","v":""},{"$f":"IF(A2313=\"\",\"\",VLOOKUP(A2313,[1]ItemConfig!$A:$D,4,FALSE))","v":""},{"$f":"IF(A2313=\"\",\"\",VLOOKUP(A2313,[1]ItemConfig!$A:$C,3,FALSE))","v":""},{"$f":"IF(A2313=\"\",\"\",VLOOKUP(B2313,#REF!,5,FALSE))","v":""},{"$f":"IF(A2313=\"\",\"\",VLOOKUP(C2313,#REF!,5,FALSE))","v":""}]
[500060,{"$f":"IF(A2314=\"\",\"\",VLOOKUP(A2314,[1]ItemConfig!$A:$B,2,FALSE))","v":{"$error":"#N/A"}},{"$f":"IF(A2314=\"\",\"\",VLOOKUP(A2314,[1]ItemConfig!$A:$D,4,FALSE))","v":{"$error":"#N/A"}},{"$f":"IF(A2314=\"\",\"\",VLOOKUP(A2314,[1]ItemConfig!$A:$C,3,FALSE))","v":{"$error":"#N/A"}},{"$f":"IF(A2314=\"\",\"\",VLOOKUP(B2314,#REF!,5,FALSE))","v":{"$error":"#N/A"}},{"$f":"IF(A2314=\"\",\"\",VLOOKUP(C2314,#REF!,5,FALSE))","v":{"$error":"#N/A"}}]
[null,{"$f":"IF(A2315=\"\",\"\",VLOOKUP(A2315,[1]ItemConfig!$A:$B,2,FALSE))","v":""},{"$f":"IF(A2315=\"\",\"\",VLOOKUP(A2315,[1]ItemConfig!$A:$D,4,FALSE))","v":""},{"$f":"IF(A2315=\"\",\"\",VLOOKUP(A2315,[1]ItemConfig!$A:$C,3,FALSE))","v":""},{"$f":"IF(A2315=\"\",\"\",VLOOKUP(B2315,#REF!,5,FALSE))","v":""},{"$f":"IF(A2315=\"\",\"\",VLOOKUP(C2315,#REF!,5,FALSE))","v":""}]
[null,{"$f":"IF(A2316=\"\",\"\",VLOOKUP(A2316,[1]ItemConfig!$A:$B,2,FALSE))","v":""},{"$f":"IF(A2316=\"\",\"\",VLOOKUP(A2316,[1]ItemConfig!$A:$D,4,FALSE))","v":""},{"$f":"IF(A2316=\"\",\"\",VLOOKUP(A2316,[1]ItemConfig!$A:$C,3,FALSE))","v":""},{"$f":"IF(A2316=\"\",\"\",VLOOKUP(B2316,#REF!,5,FALSE))","v":""},{"$f":"IF(A2316=\"\",\"\",VLOOKUP(C2316,#REF!,5,FALSE))","v":""}]
[null,{"$f":"IF(A2317=\"\",\"\",VLOOKUP(A2317,[1]ItemConfig!$A:$B,2,FALSE))","v":""},{"$f":"IF(A2317=\"\",\"\",VLOOKUP(A2317,[1]ItemConfig!$A:$D,4,FALSE))","v":""},{"$f":"IF(A2317=\"\",\"\",VLOOKUP(A2317,[1]ItemConfig!$A:$C,3,FALSE))","v":""},{"$f":"IF(A2317=\"\",\"\",VLOOKUP(B2317,#REF!,5,FALSE))","v":""},{"$f":"IF(A2317=\"\",\"\",VLOOKUP(C2317,#REF!,5,FALSE))","v":""}]
[null,{"$f":"IF(A2318=\"\",\"\",VLOOKUP(A2318,[1]ItemConfig!$A:$B,2,FALSE))","v":""},{"$f":"IF(A2318=\"\",\"\",VLOOKUP(A2318,[1]ItemConfig!$A:$D,4,FALSE))","v":""},{"$f":"IF(A2318=\"\",\"\",VLOOKUP(A2318,[1]ItemConfig!$A:$C,3,FALSE))","v":""},{"$f":"IF(A2318=\"\",\"\",VLOOKUP(B2318,#REF!,5,FALSE))","v":""},{"$f":"IF(A2318=\"\",\"\",VLOOKUP(C2318,#REF!,5,FALSE))","v":""}]
[null,{"$f":"IF(A2319=\"\",\"\",VLOOKUP(A2319,[1]ItemConfig!$A:$B,2,FALSE))","v":""},{"$f":"IF(A2319=\"\",\"\",VLOOKUP(A2319,[1]ItemConfig!$A:$D,4,FALSE))","v":""},{"$f":"IF(A2319=\"\",\"\",VLOOKUP(A2319,[1]ItemConfig!$A:$C,3,FALSE))","v":""},{"$f":"IF(A2319=\"\",\"\",VLOOKUP(B2319,#REF!,5,FALSE))","v":""},{"$f":"IF(A2319=\"\",\"\",VLOOKUP(C2319,#REF!,5,FALSE))","v":""}]
[null,{"$f":"IF(A2320=\"\",\"\",VLOOKUP(A2320,[1]ItemConfig!$A:$B,2,FALSE))","v":""},{"$f":"IF(A2320=\"\",\"\",VLOOKUP(A2320,[1]ItemConfig!$A:$D,4,FALSE))","v":""},{"$f":"IF(A2320=\"\",\"\",VLOOKUP(A2320,[1]ItemConfig!$A:$C,3,FALSE))","v":""},{"$f":"IF(A2320=\"\",\"\",VLOOKUP(B2320,#REF!,5,FALSE))","v":""},{"$f":"IF(A2320=\"\",\"\",VLOOKUP(C2320,#REF!,5,FALSE))","v":""}]
[500067,{"$f":"IF(A2321=\"\",\"\",VLOOKUP(A2321,[1]ItemConfig!$A:$B,2,FALSE))","v":{"$error":"#N/A"}},{"$f":"IF(A2321=\"\",\"\",VLOOKUP(A2321,[1]ItemConfig!$A:$D,4,FALSE))","v":{"$error":"#N/A"}},{"$f":"IF(A2321=\"\",\"\",VLOOKUP(A2321,[1]ItemConfig!$A:$C,3,FALSE))","v":{"$error":"#N/A"}},{"$f":"IF(A2321=\"\",\"\",VLOOKUP(B2321,#REF!,5,FALSE))","v":{"$error":"#N/A"}},{"$f":"IF(A2321=\"\",\"\",VLOOKUP(C2321,#REF!,5,FALSE))","v":{"$error":"#N/A"}}]
[null,{"$f":"IF(A2322=\"\",\"\",VLOOKUP(A2322,[1]ItemConfig!$A:$B,2,FALSE))","v":""},{"$f":"IF(A2322=\"\",\"\",VLOOKUP(A2322,[1]ItemConfig!$A:$D,4,FALSE))","v":""},{"$f":"IF(A2322=\"\",\"\",VLOOKUP(A2322,[1]ItemConfig!$A:$C,3,FALSE))","v":""},{"$f":"IF(A2322=\"\",\"\",VLOOKUP(B2322,#REF!,5,FALSE))","v":""},{"$f":"IF(A2322=\"\",\"\",VLOOKUP(C2322,#REF!,5,FALSE))","v":""}]
[null,{"$f":"IF(A2323=\"\",\"\",VLOOKUP(A2323,[1]ItemConfig!$A:$B,2,FALSE))","v":""},{"$f":"IF(A2323=\"\",\"\",VLOOKUP(A2323,[1]ItemConfig!$A:$D,4,FALSE))","v":""},{"$f":"IF(A2323=\"\",\"\",VLOOKUP(A2323,[1]ItemConfig!$A:$C,3,FALSE))","v":""},{"$f":"IF(A2323=\"\",\"\",VLOOKUP(B2323,#REF!,5,FALSE))","v":""},{"$f":"IF(A2323=\"\",\"\",VLOOKUP(C2323,#REF!,5,FALSE))","v":""}]
[null,{"$f":"IF(A2324=\"\",\"\",VLOOKUP(A2324,[1]ItemConfig!$A:$B,2,FALSE))","v":""},{"$f":"IF(A2324=\"\",\"\",VLOOKUP(A2324,[1]ItemConfig!$A:$D,4,FALSE))","v":""},{"$f":"IF(A2324=\"\",\"\",VLOOKUP(A2324,[1]ItemConfig!$A:$C,3,FALSE))","v":""},{"$f":"IF(A2324=\"\",\"\",VLOOKUP(B2324,#REF!,5,FALSE))","v":""},{"$f":"IF(A2324=\"\",\"\",VLOOKUP(C2324,#REF!,5,FALSE))","v":""}]
[null,{"$f":"IF(A2325=\"\",\"\",VLOOKUP(A2325,[1]ItemConfig!$A:$B,2,FALSE))","v":""},{"$f":"IF(A2325=\"\",\"\",VLOOKUP(A2325,[1]ItemConfig!$A:$D,4,FALSE))","v":""},{"$f":"IF(A2325=\"\",\"\",VLOOKUP(A2325,[1]ItemConfig!$A:$C,3,FALSE))","v":""},{"$f":"IF(A2325=\"\",\"\",VLOOKUP(B2325,#REF!,5,FALSE))","v":""},{"$f":"IF(A2325=\"\",\"\",VLOOKUP(C2325,#REF!,5,FALSE))","v":""}]
[null,{"$f":"IF(A2326=\"\",\"\",VLOOKUP(A2326,[1]ItemConfig!$A:$B,2,FALSE))","v":""},{"$f":"IF(A2326=\"\",\"\",VLOOKUP(A2326,[1]ItemConfig!$A:$D,4,FALSE))","v":""},{"$f":"IF(A2326=\"\",\"\",VLOOKUP(A2326,[1]ItemConfig!$A:$C,3,FALSE))","v":""},{"$f":"IF(A2326=\"\",\"\",VLOOKUP(B2326,#REF!,5,FALSE))","v":""},{"$f":"IF(A2326=\"\",\"\",VLOOKUP(C2326,#REF!,5,FALSE))","v":""}]
[null,{"$f":"IF(A2327=\"\",\"\",VLOOKUP(A2327,[1]ItemConfig!$A:$B,2,FALSE))","v":""},{"$f":"IF(A2327=\"\",\"\",VLOOKUP(A2327,[1]ItemConfig!$A:$D,4,FALSE))","v":""},{"$f":"IF(A2327=\"\",\"\",VLOOKUP(A2327,[1]ItemConfig!$A:$C,3,FALSE))","v":""},{"$f":"IF(A2327=\"\",\"\",VLOOKUP(B2327,#REF!,5,FALSE))","v":""},{"$f":"IF(A2327=\"\",\"\",VLOOKUP(C2327,#REF!,5,FALSE))","v":""}]
[500074,{"$f":"IF(A2328=\"\",\"\",VLOOKUP(A2328,[1]ItemConfig!$A:$B,2,FALSE))","v":{"$error":"#N/A"}},{"$f":"IF(A2328=\"\",\"\",VLOOKUP(A2328,[1]ItemConfig!$A:$D,4,FALSE))","v":{"$error":"#N/A"}},{"$f":"IF(A2328=\"\",\"\",VLOOKUP(A2328,[1]ItemConfig!$A:$C,3,FALSE))","v":{"$error":"#N/A"}},{"$f":"IF(A2328=\"\",\"\",VLOOKUP(B2328,#REF!,5,FALSE))","v":{"$error":"#N/A"}},{"$f":"IF(A2328=\"\",\"\",VLOOKUP(C2328,#REF!,5,FALSE))","v":{"$error":"#N/A"}}]
[null,{"$f":"IF(A2329=\"\",\"\",VLOOKUP(A2329,[1]ItemConfig!$A:$B,2,FALSE))","v":""},{"$f":"IF(A2329=\"\",\"\",VLOOKUP(A2329,[1]ItemConfig!$A:$D,4,FALSE))","v":""},{"$f":"IF(A2329=\"\",\"\",VLOOKUP(A2329,[1]ItemConfig!$A:$C,3,FALSE))","v":""},{"$f":"IF(A2329=\"\",\"\",VLOOKUP(B2329,#REF!,5,FALSE))","v":""},{"$f":"IF(A2329=\"\",\"\",VLOOKUP(C2329,#REF!,5,FALSE))","v":""}]
[null,{"$f":"IF(A2330=\"\",\"\",VLOOKUP(A2330,[1]ItemConfig!$A:$B,2,FALSE))","v":""},{"$f":"IF(A2330=\"\",\"\",VLOOKUP(A2330,[1]ItemConfig!$A:$D,4,FALSE))","v":""},{"$f":"IF(A2330=\"\",\"\",VLOOKUP(A2330,[1]ItemConfig!$A:$C,3,FALSE))","v":""},{"$f":"IF(A2330=\"\",\"\",VLOOKUP(B2330,#REF!,5,FALSE))","v":""},{"$f":"IF(A2330=\"\",\"\",VLOOKUP(C2330,#REF!,5,FALSE))","v":""}]
[null,{"$f":"IF(A2331=\"\",\"\",VLOOKUP(A2331,[1]ItemConfig!$A:$B,2,FALSE))","v":""},{"$f":"IF(A2331=\"\",\"\",VLOOKUP(A2331,[1]ItemConfig!$A:$D,4,FALSE))","v":""},{"$f":"IF(A2331=\"\",\"\",VLOOKUP(A2331,[1]ItemConfig!$A:$C,3,FALSE))","v":""},{"$f":"IF(A2331=\"\",\"\",VLOOKUP(B2331,#REF!,5,FALSE))","v":""},{"$f":"IF(A2331=\"\",\"\",VLOOKUP(C2331,#REF!,5,FALSE))","v":""}]
[null,{"$f":"IF(A2332=\"\",\"\",VLOOKUP(A2332,[1]ItemConfig!$A:$B,2,FALSE))","v":""},{"$f":"IF(A2332=\"\",\"\",VLOOKUP(A2332,[1]ItemConfig!$A:$D,4,FALSE))","v":""},{"$f":"IF(A2332=\"\",\"\",VLOOKUP(A2332,[1]ItemConfig!$A:$C,3,FALSE))","v":""},{"$f":"IF(A2332=\"\",\"\",VLOOKUP(B2332,#REF!,5,FALSE))","v":""},{"$f":"IF(A2332=\"\",\"\",VLOOKUP(C2332,#REF!,5,FALSE))","v":""}]
[null,{"$f":"IF(A2333=\"\",\"\",VLOOKUP(A2333,[1]ItemConfig!$A:$B,2,FALSE))","v":""},{"$f":"IF(A2333=\"\",\"\",VLOOKUP(A2333,[1]ItemConfig!$A:$D,4,FALSE))","v":""},{"$f":"IF(A2333=\"\",\"\",VLOOKUP(A2333,[1]ItemConfig!$A:$C,3,FALSE))","v":""},{"$f":"IF(A2333=\"\",\"\",VLOOKUP(B2333,#REF!,5,FALSE))","v":""},{"$f":"IF(A2333=\"\",\"\",VLOOKUP(C2333,#REF!,5,FALSE))","v":""}]
[null,{"$f":"IF(A2334=\"\",\"\",VLOOKUP(A2334,[1]ItemConfig!$A:$B,2,FALSE))","v":""},{"$f":"IF(A2334=\"\",\"\",VLOOKUP(A2334,[1]ItemConfig!$A:$D,4,FALSE))","v":""},{"$f":"IF(A2334=\"\",\"\",VLOOKUP(A2334,[1]ItemConfig!$A:$C,3,FALSE))","v":""},{"$f":"IF(A2334=\"\",\"\",VLOOKUP(B2334,#REF!,5,FALSE))","v":""},{"$f":"IF(A2334=\"\",\"\",VLOOKUP(C2334,#REF!,5,FALSE))","v":""}]
[500081,{"$f":"IF(A2335=\"\",\"\",VLOOKUP(A2335,[1]ItemConfig!$A:$B,2,FALSE))","v":{"$error":"#N/A"}},{"$f":"IF(A2335=\"\",\"\",VLOOKUP(A2335,[1]ItemConfig!$A:$D,4,FALSE))","v":{"$error":"#N/A"}},{"$f":"IF(A2335=\"\",\"\",VLOOKUP(A2335,[1]ItemConfig!$A:$C,3,FALSE))","v":{"$error":"#N/A"}},{"$f":"IF(A2335=\"\",\"\",VLOOKUP(B2335,#REF!,5,FALSE))","v":{"$error":"#N/A"}},{"$f":"IF(A2335=\"\",\"\",VLOOKUP(C2335,#REF!,5,FALSE))","v":{"$error":"#N/A"}}]
[null,{"$f":"IF(A2336=\"\",\"\",VLOOKUP(A2336,[1]ItemConfig!$A:$B,2,FALSE))","v":""},{"$f":"IF(A2336=\"\",\"\",VLOOKUP(A2336,[1]ItemConfig!$A:$D,4,FALSE))","v":""},{"$f":"IF(A2336=\"\",\"\",VLOOKUP(A2336,[1]ItemConfig!$A:$C,3,FALSE))","v":""},{"$f":"IF(A2336=\"\",\"\",VLOOKUP(B2336,#REF!,5,FALSE))","v":""},{"$f":"IF(A2336=\"\",\"\",VLOOKUP(C2336,#REF!,5,FALSE))","v":""}]
[null,{"$f":"IF(A2337=\"\",\"\",VLOOKUP(A2337,[1]ItemConfig!$A:$B,2,FALSE))","v":""},{"$f":"IF(A2337=\"\",\"\",VLOOKUP(A2337,[1]ItemConfig!$A:$D,4,FALSE))","v":""},{"$f":"IF(A2337=\"\",\"\",VLOOKUP(A2337,[1]ItemConfig!$A:$C,3,FALSE))","v":""},{"$f":"IF(A2337=\"\",\"\",VLOOKUP(B2337,#REF!,5,FALSE))","v":""},{"$f":"IF(A2337=\"\",\"\",VLOOKUP(C2337,#REF!,5,FALSE))","v":""}]
[null,{"$f":"IF(A2338=\"\",\"\",VLOOKUP(A2338,[1]ItemConfig!$A:$B,2,FALSE))","v":""},{"$f":"IF(A2338=\"\",\"\",VLOOKUP(A2338,[1]ItemConfig!$A:$D,4,FALSE))","v":""},{"$f":"IF(A2338=\"\",\"\",VLOOKUP(A2338,[1]ItemConfig!$A:$C,3,FALSE))","v":""},{"$f":"IF(A2338=\"\",\"\",VLOOKUP(B2338,#REF!,5,FALSE))","v":""},{"$f":"IF(A2338=\"\",\"\",VLOOKUP(C2338,#REF!,5,FALSE))","v":""}]
[null,{"$f":"IF(A2339=\"\",\"\",VLOOKUP(A2339,[1]ItemConfig!$A:$B,2,FALSE))","v":""},{"$f":"IF(A2339=\"\",\"\",VLOOKUP(A2339,[1]ItemConfig!$A:$D,4,FALSE))","v":""},{"$f":"IF(A2339=\"\",\"\",VLOOKUP(A2339,[1]ItemConfig!$A:$C,3,FALSE))","v":""},{"$f":"IF(A2339=\"\",\"\",VLOOKUP(B2339,#REF!,5,FALSE))","v":""},{"$f":"IF(A2339=\"\",\"\",VLOOKUP(C2339,#REF!,5,FALSE))","v":""}]
[null,{"$f":"IF(A2340=\"\",\"\",VLOOKUP(A2340,[1]ItemConfig!$A:$B,2,FALSE))","v":""},{"$f":"IF(A2340=\"\",\"\",VLOOKUP(A2340,[1]ItemConfig!$A:$D,4,FALSE))","v":""},{"$f":"IF(A2340=\"\",\"\",VLOOKUP(A2340,[1]ItemConfig!$A:$C,3,FALSE))","v":""},{"$f":"IF(A2340=\"\",\"\",VLOOKUP(B2340,#REF!,5,FALSE))","v":""},{"$f":"IF(A2340=\"\",\"\",VLOOKUP(C2340,#REF!,5,FALSE))","v":""}]
[null,{"$f":"IF(A2341=\"\",\"\",VLOOKUP(A2341,[1]ItemConfig!$A:$B,2,FALSE))","v":""},{"$f":"IF(A2341=\"\",\"\",VLOOKUP(A2341,[1]ItemConfig!$A:$D,4,FALSE))","v":""},{"$f":"IF(A2341=\"\",\"\",VLOOKUP(A2341,[1]ItemConfig!$A:$C,3,FALSE))","v":""},{"$f":"IF(A2341=\"\",\"\",VLOOKUP(B2341,#REF!,5,FALSE))","v":""},{"$f":"IF(A2341=\"\",\"\",VLOOKUP(C2341,#REF!,5,FALSE))","v":""}]
[500088,{"$f":"IF(A2342=\"\",\"\",VLOOKUP(A2342,[1]ItemConfig!$A:$B,2,FALSE))","v":{"$error":"#N/A"}},{"$f":"IF(A2342=\"\",\"\",VLOOKUP(A2342,[1]ItemConfig!$A:$D,4,FALSE))","v":{"$error":"#N/A"}},{"$f":"IF(A2342=\"\",\"\",VLOOKUP(A2342,[1]ItemConfig!$A:$C,3,FALSE))","v":{"$error":"#N/A"}},{"$f":"IF(A2342=\"\",\"\",VLOOKUP(B2342,#REF!,5,FALSE))","v":{"$error":"#N/A"}},{"$f":"IF(A2342=\"\",\"\",VLOOKUP(C2342,#REF!,5,FALSE))","v":{"$error":"#N/A"}}]
[null,{"$f":"IF(A2343=\"\",\"\",VLOOKUP(A2343,[1]ItemConfig!$A:$B,2,FALSE))","v":""},{"$f":"IF(A2343=\"\",\"\",VLOOKUP(A2343,[1]ItemConfig!$A:$D,4,FALSE))","v":""},{"$f":"IF(A2343=\"\",\"\",VLOOKUP(A2343,[1]ItemConfig!$A:$C,3,FALSE))","v":""},{"$f":"IF(A2343=\"\",\"\",VLOOKUP(B2343,#REF!,5,FALSE))","v":""},{"$f":"IF(A2343=\"\",\"\",VLOOKUP(C2343,#REF!,5,FALSE))","v":""}]
[null,{"$f":"IF(A2344=\"\",\"\",VLOOKUP(A2344,[1]ItemConfig!$A:$B,2,FALSE))","v":""},{"$f":"IF(A2344=\"\",\"\",VLOOKUP(A2344,[1]ItemConfig!$A:$D,4,FALSE))","v":""},{"$f":"IF(A2344=\"\",\"\",VLOOKUP(A2344,[1]ItemConfig!$A:$C,3,FALSE))","v":""},{"$f":"IF(A2344=\"\",\"\",VLOOKUP(B2344,#REF!,5,FALSE))","v":""},{"$f":"IF(A2344=\"\",\"\",VLOOKUP(C2344,#REF!,5,FALSE))","v":""}]
[null,{"$f":"IF(A2345=\"\",\"\",VLOOKUP(A2345,[1]ItemConfig!$A:$B,2,FALSE))","v":""},{"$f":"IF(A2345=\"\",\"\",VLOOKUP(A2345,[1]ItemConfig!$A:$D,4,FALSE))","v":""},{"$f":"IF(A2345=\"\",\"\",VLOOKUP(A2345,[1]ItemConfig!$A:$C,3,FALSE))","v":""},{"$f":"IF(A2345=\"\",\"\",VLOOKUP(B2345,#REF!,5,FALSE))","v":""},{"$f":"IF(A2345=\"\",\"\",VLOOKUP(C2345,#REF!,5,FALSE))","v":""}]
[null,{"$f":"IF(A2346=\"\",\"\",VLOOKUP(A2346,[1]ItemConfig!$A:$B,2,FALSE))","v":""},{"$f":"IF(A2346=\"\",\"\",VLOOKUP(A2346,[1]ItemConfig!$A:$D,4,FALSE))","v":""},{"$f":"IF(A2346=\"\",\"\",VLOOKUP(A2346,[1]ItemConfig!$A:$C,3,FALSE))","v":""},{"$f":"IF(A2346=\"\",\"\",VLOOKUP(B2346,#REF!,5,FALSE))","v":""},{"$f":"IF(A2346=\"\",\"\",VLOOKUP(C2346,#REF!,5,FALSE))","v":""}]
[null,{"$f":"IF(A2347=\"\",\"\",VLOOKUP(A2347,[1]ItemConfig!$A:$B,2,FALSE))","v":""},{"$f":"IF(A2347=\"\",\"\",VLOOKUP(A2347,[1]ItemConfig!$A:$D,4,FALSE))","v":""},{"$f":"IF(A2347=\"\",\"\",VLOOKUP(A2347,[1]ItemConfig!$A:$C,3,FALSE))","v":""},{"$f":"IF(A2347=\"\",\"\",VLOOKUP(B2347,#REF!,5,FALSE))","v":""},{"$f":"IF(A2347=\"\",\"\",VLOOKUP(C2347,#REF!,5,FALSE))","v":""}]
[null,{"$f":"IF(A2348=\"\",\"\",VLOOKUP(A2348,[1]ItemConfig!$A:$B,2,FALSE))","v":""},{"$f":"IF(A2348=\"\",\"\",VLOOKUP(A2348,[1]ItemConfig!$A:$D,4,FALSE))","v":""},{"$f":"IF(A2348=\"\",\"\",VLOOKUP(A2348,[1]ItemConfig!$A:$C,3,FALSE))","v":""},{"$f":"IF(A2348=\"\",\"\",VLOOKUP(B2348,#REF!,5,FALSE))","v":""},{"$f":"IF(A2348=\"\",\"\",VLOOKUP(C2348,#REF!,5,FALSE))","v":""}]
[500095,{"$f":"IF(A2349=\"\",\"\",VLOOKUP(A2349,[1]ItemConfig!$A:$B,2,FALSE))","v":{"$error":"#N/A"}},{"$f":"IF(A2349=\"\",\"\",VLOOKUP(A2349,[1]ItemConfig!$A:$D,4,FALSE))","v":{"$error":"#N/A"}},{"$f":"IF(A2349=\"\",\"\",VLOOKUP(A2349,[1]ItemConfig!$A:$C,3,FALSE))","v":{"$error":"#N/A"}},{"$f":"IF(A2349=\"\",\"\",VLOOKUP(B2349,#REF!,5,FALSE))","v":{"$error":"#N/A"}},{"$f":"IF(A2349=\"\",\"\",VLOOKUP(C2349,#REF!,5,FALSE))","v":{"$error":"#N/A"}}]
[null,{"$f":"IF(A2350=\"\",\"\",VLOOKUP(A2350,[1]ItemConfig!$A:$B,2,FALSE))","v":""},{"$f":"IF(A2350=\"\",\"\",VLOOKUP(A2350,[1]ItemConfig!$A:$D,4,FALSE))","v":""},{"$f":"IF(A2350=\"\",\"\",VLOOKUP(A2350,[1]ItemConfig!$A:$C,3,FALSE))","v":""},{"$f":"IF(A2350=\"\",\"\",VLOOKUP(B2350,#REF!,5,FALSE))","v":""},{"$f":"IF(A2350=\"\",\"\",VLOOKUP(C2350,#REF!,5,FALSE))","v":""}]
[null,{"$f":"IF(A2351=\"\",\"\",VLOOKUP(A2351,[1]ItemConfig!$A:$B,2,FALSE))","v":""},{"$f":"IF(A2351=\"\",\"\",VLOOKUP(A2351,[1]ItemConfig!$A:$D,4,FALSE))","v":""},{"$f":"IF(A2351=\"\",\"\",VLOOKUP(A2351,[1]ItemConfig!$A:$C,3,FALSE))","v":""},{"$f":"IF(A2351=\"\",\"\",VLOOKUP(B2351,#REF!,5,FALSE))","v":""},{"$f":"IF(A2351=\"\",\"\",VLOOKUP(C2351,#REF!,5,FALSE))","v":""}]
[null,{"$f":"IF(A2352=\"\",\"\",VLOOKUP(A2352,[1]ItemConfig!$A:$B,2,FALSE))","v":""},{"$f":"IF(A2352=\"\",\"\",VLOOKUP(A2352,[1]ItemConfig!$A:$D,4,FALSE))","v":""},{"$f":"IF(A2352=\"\",\"\",VLOOKUP(A2352,[1]ItemConfig!$A:$C,3,FALSE))","v":""},{"$f":"IF(A2352=\"\",\"\",VLOOKUP(B2352,#REF!,5,FALSE))","v":""},{"$f":"IF(A2352=\"\",\"\",VLOOKUP(C2352,#REF!,5,FALSE))","v":""}]
[null,{"$f":"IF(A2353=\"\",\"\",VLOOKUP(A2353,[1]ItemConfig!$A:$B,2,FALSE))","v":""},{"$f":"IF(A2353=\"\",\"\",VLOOKUP(A2353,[1]ItemConfig!$A:$D,4,FALSE))","v":""},{"$f":"IF(A2353=\"\",\"\",VLOOKUP(A2353,[1]ItemConfig!$A:$C,3,FALSE))","v":""},{"$f":"IF(A2353=\"\",\"\",VLOOKUP(B2353,#REF!,5,FALSE))","v":""},{"$f":"IF(A2353=\"\",\"\",VLOOKUP(C2353,#REF!,5,FALSE))","v":""}]
[null,{"$f":"IF(A2354=\"\",\"\",VLOOKUP(A2354,[1]ItemConfig!$A:$B,2,FALSE))","v":""},{"$f":"IF(A2354=\"\",\"\",VLOOKUP(A2354,[1]ItemConfig!$A:$D,4,FALSE))","v":""},{"$f":"IF(A2354=\"\",\"\",VLOOKUP(A2354,[1]ItemConfig!$A:$C,3,FALSE))","v":""},{"$f":"IF(A2354=\"\",\"\",VLOOKUP(B2354,#REF!,5,FALSE))","v":""},{"$f":"IF(A2354=\"\",\"\",VLOOKUP(C2354,#REF!,5,FALSE))","v":""}]
[null,{"$f":"IF(A2355=\"\",\"\",VLOOKUP(A2355,[1]ItemConfig!$A:$B,2,FALSE))","v":""},{"$f":"IF(A2355=\"\",\"\",VLOOKUP(A2355,[1]ItemConfig!$A:$D,4,FALSE))","v":""},{"$f":"IF(A2355=\"\",\"\",VLOOKUP(A2355,[1]ItemConfig!$A:$C,3,FALSE))","v":""},{"$f":"IF(A2355=\"\",\"\",VLOOKUP(B2355,#REF!,5,FALSE))","v":""},{"$f":"IF(A2355=\"\",\"\",VLOOKUP(C2355,#REF!,5,FALSE))","v":""}]
[500102,{"$f":"IF(A2356=\"\",\"\",VLOOKUP(A2356,[1]ItemConfig!$A:$B,2,FALSE))","v":{"$error":"#N/A"}},{"$f":"IF(A2356=\"\",\"\",VLOOKUP(A2356,[1]ItemConfig!$A:$D,4,FALSE))","v":{"$error":"#N/A"}},{"$f":"IF(A2356=\"\",\"\",VLOOKUP(A2356,[1]ItemConfig!$A:$C,3,FALSE))","v":{"$error":"#N/A"}},{"$f":"IF(A2356=\"\",\"\",VLOOKUP(B2356,#REF!,5,FALSE))","v":{"$error":"#N/A"}},{"$f":"IF(A2356=\"\",\"\",VLOOKUP(C2356,#REF!,5,FALSE))","v":{"$error":"#N/A"}}]
[null,{"$f":"IF(A2357=\"\",\"\",VLOOKUP(A2357,[1]ItemConfig!$A:$B,2,FALSE))","v":""},{"$f":"IF(A2357=\"\",\"\",VLOOKUP(A2357,[1]ItemConfig!$A:$D,4,FALSE))","v":""},{"$f":"IF(A2357=\"\",\"\",VLOOKUP(A2357,[1]ItemConfig!$A:$C,3,FALSE))","v":""},{"$f":"IF(A2357=\"\",\"\",VLOOKUP(B2357,#REF!,5,FALSE))","v":""},{"$f":"IF(A2357=\"\",\"\",VLOOKUP(C2357,#REF!,5,FALSE))","v":""}]
[null,{"$f":"IF(A2358=\"\",\"\",VLOOKUP(A2358,[1]ItemConfig!$A:$B,2,FALSE))","v":""},{"$f":"IF(A2358=\"\",\"\",VLOOKUP(A2358,[1]ItemConfig!$A:$D,4,FALSE))","v":""},{"$f":"IF(A2358=\"\",\"\",VLOOKUP(A2358,[1]ItemConfig!$A:$C,3,FALSE))","v":""},{"$f":"IF(A2358=\"\",\"\",VLOOKUP(B2358,#REF!,5,FALSE))","v":""},{"$f":"IF(A2358=\"\",\"\",VLOOKUP(C2358,#REF!,5,FALSE))","v":""}]
[null,{"$f":"IF(A2359=\"\",\"\",VLOOKUP(A2359,[1]ItemConfig!$A:$B,2,FALSE))","v":""},{"$f":"IF(A2359=\"\",\"\",VLOOKUP(A2359,[1]ItemConfig!$A:$D,4,FALSE))","v":""},{"$f":"IF(A2359=\"\",\"\",VLOOKUP(A2359,[1]ItemConfig!$A:$C,3,FALSE))","v":""},{"$f":"IF(A2359=\"\",\"\",VLOOKUP(B2359,#REF!,5,FALSE))","v":""},{"$f":"IF(A2359=\"\",\"\",VLOOKUP(C2359,#REF!,5,FALSE))","v":""}]
[null,{"$f":"IF(A2360=\"\",\"\",VLOOKUP(A2360,[1]ItemConfig!$A:$B,2,FALSE))","v":""},{"$f":"IF(A2360=\"\",\"\",VLOOKUP(A2360,[1]ItemConfig!$A:$D,4,FALSE))","v":""},{"$f":"IF(A2360=\"\",\"\",VLOOKUP(A2360,[1]ItemConfig!$A:$C,3,FALSE))","v":""},{"$f":"IF(A2360=\"\",\"\",VLOOKUP(B2360,#REF!,5,FALSE))","v":""},{"$f":"IF(A2360=\"\",\"\",VLOOKUP(C2360,#REF!,5,FALSE))","v":""}]
[null,{"$f":"IF(A2361=\"\",\"\",VLOOKUP(A2361,[1]ItemConfig!$A:$B,2,FALSE))","v":""},{"$f":"IF(A2361=\"\",\"\",VLOOKUP(A2361,[1]ItemConfig!$A:$D,4,FALSE))","v":""},{"$f":"IF(A2361=\"\",\"\",VLOOKUP(A2361,[1]ItemConfig!$A:$C,3,FALSE))","v":""},{"$f":"IF(A2361=\"\",\"\",VLOOKUP(B2361,#REF!,5,FALSE))","v":""},{"$f":"IF(A2361=\"\",\"\",VLOOKUP(C2361,#REF!,5,FALSE))","v":""}]
[null,{"$f":"IF(A2362=\"\",\"\",VLOOKUP(A2362,[1]ItemConfig!$A:$B,2,FALSE))","v":""},{"$f":"IF(A2362=\"\",\"\",VLOOKUP(A2362,[1]ItemConfig!$A:$D,4,FALSE))","v":""},{"$f":"IF(A2362=\"\",\"\",VLOOKUP(A2362,[1]ItemConfig!$A:$C,3,FALSE))","v":""},{"$f":"IF(A2362=\"\",\"\",VLOOKUP(B2362,#REF!,5,FALSE))","v":""},{"$f":"IF(A2362=\"\",\"\",VLOOKUP(C2362,#REF!,5,FALSE))","v":""}]
[500109,{"$f":"IF(A2363=\"\",\"\",VLOOKUP(A2363,[1]ItemConfig!$A:$B,2,FALSE))","v":{"$error":"#N/A"}},{"$f":"IF(A2363=\"\",\"\",VLOOKUP(A2363,[1]ItemConfig!$A:$D,4,FALSE))","v":{"$error":"#N/A"}},{"$f":"IF(A2363=\"\",\"\",VLOOKUP(A2363,[1]ItemConfig!$A:$C,3,FALSE))","v":{"$error":"#N/A"}},{"$f":"IF(A2363=\"\",\"\",VLOOKUP(B2363,#REF!,5,FALSE))","v":{"$error":"#N/A"}},{"$f":"IF(A2363=\"\",\"\",VLOOKUP(C2363,#REF!,5,FALSE))","v":{"$error":"#N/A"}}]
[null,{"$f":"IF(A2364=\"\",\"\",VLOOKUP(A2364,[1]ItemConfig!$A:$B,2,FALSE))","v":""},{"$f":"IF(A2364=\"\",\"\",VLOOKUP(A2364,[1]ItemConfig!$A:$D,4,FALSE))","v":""},{"$f":"IF(A2364=\"\",\"\",VLOOKUP(A2364,[1]ItemConfig!$A:$C,3,FALSE))","v":""},{"$f":"IF(A2364=\"\",\"\",VLOOKUP(B2364,#REF!,5,FALSE))","v":""},{"$f":"IF(A2364=\"\",\"\",VLOOKUP(C2364,#REF!,5,FALSE))","v":""}]
[null,{"$f":"IF(A2365=\"\",\"\",VLOOKUP(A2365,[1]ItemConfig!$A:$B,2,FALSE))","v":""},{"$f":"IF(A2365=\"\",\"\",VLOOKUP(A2365,[1]ItemConfig!$A:$D,4,FALSE))","v":""},{"$f":"IF(A2365=\"\",\"\",VLOOKUP(A2365,[1]ItemConfig!$A:$C,3,FALSE))","v":""},{"$f":"IF(A2365=\"\",\"\",VLOOKUP(B2365,#REF!,5,FALSE))","v":""},{"$f":"IF(A2365=\"\",\"\",VLOOKUP(C2365,#REF!,5,FALSE))","v":""}]
[null,{"$f":"IF(A2366=\"\",\"\",VLOOKUP(A2366,[1]ItemConfig!$A:$B,2,FALSE))","v":""},{"$f":"IF(A2366=\"\",\"\",VLOOKUP(A2366,[1]ItemConfig!$A:$D,4,FALSE))","v":""},{"$f":"IF(A2366=\"\",\"\",VLOOKUP(A2366,[1]ItemConfig!$A:$C,3,FALSE))","v":""},{"$f":"IF(A2366=\"\",\"\",VLOOKUP(B2366,#REF!,5,FALSE))","v":""},{"$f":"IF(A2366=\"\",\"\",VLOOKUP(C2366,#REF!,5,FALSE))","v":""}]
[null,{"$f":"IF(A2367=\"\",\"\",VLOOKUP(A2367,[1]ItemConfig!$A:$B,2,FALSE))","v":""},{"$f":"IF(A2367=\"\",\"\",VLOOKUP(A2367,[1]ItemConfig!$A:$D,4,FALSE))","v":""},{"$f":"IF(A2367=\"\",\"\",VLOOKUP(A2367,[1]ItemConfig!$A:$C,3,FALSE))","v":""},{"$f":"IF(A2367=\"\",\"\",VLOOKUP(B2367,#REF!,5,FALSE))","v":""},{"$f":"IF(A2367=\"\",\"\",VLOOKUP(C2367,#REF!,5,FALSE))","v":""}]
[null,{"$f":"IF(A2368=\"\",\"\",VLOOKUP(A2368,[1]ItemConfig!$A:$B,2,FALSE))","v":""},{"$f":"IF(A2368=\"\",\"\",VLOOKUP(A2368,[1]ItemConfig!$A:$D,4,FALSE))","v":""},{"$f":"IF(A2368=\"\",\"\",VLOOKUP(A2368,[1]ItemConfig!$A:$C,3,FALSE))","v":""},{"$f":"IF(A2368=\"\",\"\",VLOOKUP(B2368,#REF!,5,FALSE))","v":""},{"$f":"IF(A2368=\"\",\"\",VLOOKUP(C2368,#REF!,5,FALSE))","v":""}]
[null,{"$f":"IF(A2369=\"\",\"\",VLOOKUP(A2369,[1]ItemConfig!$A:$B,2,FALSE))","v":""},{"$f":"IF(A2369=\"\",\"\",VLOOKUP(A2369,[1]ItemConfig!$A:$D,4,FALSE))","v":""},{"$f":"IF(A2369=\"\",\"\",VLOOKUP(A2369,[1]ItemConfig!$A:$C,3,FALSE))","v":""},{"$f":"IF(A2369=\"\",\"\",VLOOKUP(B2369,#REF!,5,FALSE))","v":""},{"$f":"IF(A2369=\"\",\"\",VLOOKUP(C2369,#REF!,5,FALSE))","v":""}]
[500116,{"$f":"IF(A2370=\"\",\"\",VLOOKUP(A2370,[1]ItemConfig!$A:$B,2,FALSE))","v":{"$error":"#N/A"}},{"$f":"IF(A2370=\"\",\"\",VLOOKUP(A2370,[1]ItemConfig!$A:$D,4,FALSE))","v":{"$error":"#N/A"}},{"$f":"IF(A2370=\"\",\"\",VLOOKUP(A2370,[1]ItemConfig!$A:$C,3,FALSE))","v":{"$error":"#N/A"}},{"$f":"IF(A2370=\"\",\"\",VLOOKUP(B2370,#REF!,5,FALSE))","v":{"$error":"#N/A"}},{"$f":"IF(A2370=\"\",\"\",VLOOKUP(C2370,#REF!,5,FALSE))","v":{"$error":"#N/A"}}]
[null,{"$f":"IF(A2371=\"\",\"\",VLOOKUP(A2371,[1]ItemConfig!$A:$B,2,FALSE))","v":""},{"$f":"IF(A2371=\"\",\"\",VLOOKUP(A2371,[1]ItemConfig!$A:$D,4,FALSE))","v":""},{"$f":"IF(A2371=\"\",\"\",VLOOKUP(A2371,[1]ItemConfig!$A:$C,3,FALSE))","v":""},{"$f":"IF(A2371=\"\",\"\",VLOOKUP(B2371,#REF!,5,FALSE))","v":""},{"$f":"IF(A2371=\"\",\"\",VLOOKUP(C2371,#REF!,5,FALSE))","v":""}]
[null,{"$f":"IF(A2372=\"\",\"\",VLOOKUP(A2372,[1]ItemConfig!$A:$B,2,FALSE))","v":""},{"$f":"IF(A2372=\"\",\"\",VLOOKUP(A2372,[1]ItemConfig!$A:$D,4,FALSE))","v":""},{"$f":"IF(A2372=\"\",\"\",VLOOKUP(A2372,[1]ItemConfig!$A:$C,3,FALSE))","v":""},{"$f":"IF(A2372=\"\",\"\",VLOOKUP(B2372,#REF!,5,FALSE))","v":""},{"$f":"IF(A2372=\"\",\"\",VLOOKUP(C2372,#REF!,5,FALSE))","v":""}]
[null,{"$f":"IF(A2373=\"\",\"\",VLOOKUP(A2373,[1]ItemConfig!$A:$B,2,FALSE))","v":""},{"$f":"IF(A2373=\"\",\"\",VLOOKUP(A2373,[1]ItemConfig!$A:$D,4,FALSE))","v":""},{"$f":"IF(A2373=\"\",\"\",VLOOKUP(A2373,[1]ItemConfig!$A:$C,3,FALSE))","v":""},{"$f":"IF(A2373=\"\",\"\",VLOOKUP(B2373,#REF!,5,FALSE))","v":""},{"$f":"IF(A2373=\"\",\"\",VLOOKUP(C2373,#REF!,5,FALSE))","v":""}]
[null,{"$f":"IF(A2374=\"\",\"\",VLOOKUP(A2374,[1]ItemConfig!$A:$B,2,FALSE))","v":""},{"$f":"IF(A2374=\"\",\"\",VLOOKUP(A2374,[1]ItemConfig!$A:$D,4,FALSE))","v":""},{"$f":"IF(A2374=\"\",\"\",VLOOKUP(A2374,[1]ItemConfig!$A:$C,3,FALSE))","v":""},{"$f":"IF(A2374=\"\",\"\",VLOOKUP(B2374,#REF!,5,FALSE))","v":""},{"$f":"IF(A2374=\"\",\"\",VLOOKUP(C2374,#REF!,5,FALSE))","v":""}]
[null,{"$f":"IF(A2375=\"\",\"\",VLOOKUP(A2375,[1]ItemConfig!$A:$B,2,FALSE))","v":""},{"$f":"IF(A2375=\"\",\"\",VLOOKUP(A2375,[1]ItemConfig!$A:$D,4,FALSE))","v":""},{"$f":"IF(A2375=\"\",\"\",VLOOKUP(A2375,[1]ItemConfig!$A:$C,3,FALSE))","v":""},{"$f":"IF(A2375=\"\",\"\",VLOOKUP(B2375,#REF!,5,FALSE))","v":""},{"$f":"IF(A2375=\"\",\"\",VLOOKUP(C2375,#REF!,5,FALSE))","v":""}]
[null,{"$f":"IF(A2376=\"\",\"\",VLOOKUP(A2376,[1]ItemConfig!$A:$B,2,FALSE))","v":""},{"$f":"IF(A2376=\"\",\"\",VLOOKUP(A2376,[1]ItemConfig!$A:$D,4,FALSE))","v":""},{"$f":"IF(A2376=\"\",\"\",VLOOKUP(A2376,[1]ItemConfig!$A:$C,3,FALSE))","v":""},{"$f":"IF(A2376=\"\",\"\",VLOOKUP(B2376,#REF!,5,FALSE))","v":""},{"$f":"IF(A2376=\"\",\"\",VLOOKUP(C2376,#REF!,5,FALSE))","v":""}]
[null,{"$f":"IF(A2377=\"\",\"\",VLOOKUP(A2377,[1]ItemConfig!$A:$B,2,FALSE))","v":""},{"$f":"IF(A2377=\"\",\"\",VLOOKUP(A2377,[1]ItemConfig!$A:$D,4,FALSE))","v":""},{"$f":"IF(A2377=\"\",\"\",VLOOKUP(A2377,[1]ItemConfig!$A:$C,3,FALSE))","v":""},{"$f":"IF(A2377=\"\",\"\",VLOOKUP(B2377,#REF!,5,FALSE))","v":""},{"$f":"IF(A2377=\"\",\"\",VLOOKUP(C2377,#REF!,5,FALSE))","v":""}]
[500123,{"$f":"IF(A2378=\"\",\"\",VLOOKUP(A2378,[1]ItemConfig!$A:$B,2,FALSE))","v":{"$error":"#N/A"}},{"$f":"IF(A2378=\"\",\"\",VLOOKUP(A2378,[1]ItemConfig!$A:$D,4,FALSE))","v":{"$error":"#N/A"}},{"$f":"IF(A2378=\"\",\"\",VLOOKUP(A2378,[1]ItemConfig!$A:$C,3,FALSE))","v":{"$error":"#N/A"}},{"$f":"IF(A2378=\"\",\"\",VLOOKUP(B2378,#REF!,5,FALSE))","v":{"$error":"#N/A"}},{"$f":"IF(A2378=\"\",\"\",VLOOKUP(C2378,#REF!,5,FALSE))","v":{"$error":"#N/A"}}]
[500124,{"$f":"IF(A2379=\"\",\"\",VLOOKUP(A2379,[1]ItemConfig!$A:$B,2,FALSE))","v":{"$error":"#N/A"}},{"$f":"IF(A2379=\"\",\"\",VLOOKUP(A2379,[1]ItemConfig!$A:$D,4,FALSE))","v":{"$error":"#N/A"}},{"$f":"IF(A2379=\"\",\"\",VLOOKUP(A2379,[1]ItemConfig!$A:$C,3,FALSE))","v":{"$error":"#N/A"}},{"$f":"IF(A2379=\"\",\"\",VLOOKUP(B2379,#REF!,5,FALSE))","v":{"$error":"#N/A"}},{"$f":"IF(A2379=\"\",\"\",VLOOKUP(C2379,#REF!,5,FALSE))","v":{"$error":"#N/A"}}]
[500125,{"$f":"IF(A2380=\"\",\"\",VLOOKUP(A2380,[1]ItemConfig!$A:$B,2,FALSE))","v":{"$error":"#N/A"}},{"$f":"IF(A2380=\"\",\"\",VLOOKUP(A2380,[1]ItemConfig!$A:$D,4,FALSE))","v":{"$error":"#N/A"}},{"$f":"IF(A2380=\"\",\"\",VLOOKUP(A2380,[1]ItemConfig!$A:$C,3,FALSE))","v":{"$error":"#N/A"}},{"$f":"IF(A2380=\"\",\"\",VLOOKUP(B2380,#REF!,5,FALSE))","v":{"$error":"#N/A"}},{"$f":"IF(A2380=\"\",\"\",VLOOKUP(C2380,#REF!,5,FALSE))","v":{"$error":"#N/A"}}]
[500126,{"$f":"IF(A2381=\"\",\"\",VLOOKUP(A2381,[1]ItemConfig!$A:$B,2,FALSE))","v":{"$error":"#N/A"}},{"$f":"IF(A2381=\"\",\"\",VLOOKUP(A2381,[1]ItemConfig!$A:$D,4,FALSE))","v":{"$error":"#N/A"}},{"$f":"IF(A2381=\"\",\"\",VLOOKUP(A2381,[1]ItemConfig!$A:$C,3,FALSE))","v":{"$error":"#N/A"}},{"$f":"IF(A2381=\"\",\"\",VLOOKUP(B2381,#REF!,5,FALSE))","v":{"$error":"#N/A"}},{"$f":"IF(A2381=\"\",\"\",VLOOKUP(C2381,#REF!,5,FALSE))","v":{"$error":"#N/A"}}]
[500127,{"$f":"IF(A2382=\"\",\"\",VLOOKUP(A2382,[1]ItemConfig!$A:$B,2,FALSE))","v":{"$error":"#N/A"}},{"$f":"IF(A2382=\"\",\"\",VLOOKUP(A2382,[1]ItemConfig!$A:$D,4,FALSE))","v":{"$error":"#N/A"}},{"$f":"IF(A2382=\"\",\"\",VLOOKUP(A2382,[1]ItemConfig!$A:$C,3,FALSE))","v":{"$error":"#N/A"}},{"$f":"IF(A2382=\"\",\"\",VLOOKUP(B2382,#REF!,5,FALSE))","v":{"$error":"#N/A"}},{"$f":"IF(A2382=\"\",\"\",VLOOKUP(C2382,#REF!,5,FALSE))","v":{"$error":"#N/A"}}]
[500128,{"$f":"IF(A2383=\"\",\"\",VLOOKUP(A2383,[1]ItemConfig!$A:$B,2,FALSE))","v":{"$error":"#N/A"}},{"$f":"IF(A2383=\"\",\"\",VLOOKUP(A2383,[1]ItemConfig!$A:$D,4,FALSE))","v":{"$error":"#N/A"}},{"$f":"IF(A2383=\"\",\"\",VLOOKUP(A2383,[1]ItemConfig!$A:$C,3,FALSE))","v":{"$error":"#N/A"}},{"$f":"IF(A2383=\"\",\"\",VLOOKUP(B2383,#REF!,5,FALSE))","v":{"$error":"#N/A"}},{"$f":"IF(A2383=\"\",\"\",VLOOKUP(C2383,#REF!,5,FALSE))","v":{"$error":"#N/A"}}]
[500129,{"$f":"IF(A2384=\"\",\"\",VLOOKUP(A2384,[1]ItemConfig!$A:$B,2,FALSE))","v":{"$error":"#N/A"}},{"$f":"IF(A2384=\"\",\"\",VLOOKUP(A2384,[1]ItemConfig!$A:$D,4,FALSE))","v":{"$error":"#N/A"}},{"$f":"IF(A2384=\"\",\"\",VLOOKUP(A2384,[1]ItemConfig!$A:$C,3,FALSE))","v":{"$error":"#N/A"}},{"$f":"IF(A2384=\"\",\"\",VLOOKUP(B2384,#REF!,5,FALSE))","v":{"$error":"#N/A"}},{"$f":"IF(A2384=\"\",\"\",VLOOKUP(C2384,#REF!,5,FALSE))","v":{"$error":"#N/A"}}]
[500130,{"$f":"IF(A2385=\"\",\"\",VLOOKUP(A2385,[1]ItemConfig!$A:$B,2,FALSE))","v":{"$error":"#N/A"}},{"$f":"IF(A2385=\"\",\"\",VLOOKUP(A2385,[1]ItemConfig!$A:$D,4,FALSE))","v":{"$error":"#N/A"}},{"$f":"IF(A2385=\"\",\"\",VLOOKUP(A2385,[1]ItemConfig!$A:$C,3,FALSE))","v":{"$error":"#N/A"}},{"$f":"IF(A2385=\"\",\"\",VLOOKUP(B2385,#REF!,5,FALSE))","v":{"$error":"#N/A"}},{"$f":"IF(A2385=\"\",\"\",VLOOKUP(C2385,#REF!,5,FALSE))","v":{"$error":"#N/A"}}]
[500131,{"$f":"IF(A2386=\"\",\"\",VLOOKUP(A2386,[1]ItemConfig!$A:$B,2,FALSE))","v":{"$error":"#N/A"}},{"$f":"IF(A2386=\"\",\"\",VLOOKUP(A2386,[1]ItemConfig!$A:$D,4,FALSE))","v":{"$error":"#N/A"}},{"$f":"IF(A2386=\"\",\"\",VLOOKUP(A2386,[1]ItemConfig!$A:$C,3,FALSE))","v":{"$error":"#N/A"}},{"$f":"IF(A2386=\"\",\"\",VLOOKUP(B2386,#REF!,5,FALSE))","v":{"$error":"#N/A"}},{"$f":"IF(A2386=\"\",\"\",VLOOKUP(C2386,#REF!,5,FALSE))","v":{"$error":"#N/A"}}]
[500132,{"$f":"IF(A2387=\"\",\"\",VLOOKUP(A2387,[1]ItemConfig!$A:$B,2,FALSE))","v":{"$error":"#N/A"}},{"$f":"IF(A2387=\"\",\"\",VLOOKUP(A2387,[1]ItemConfig!$A:$D,4,FALSE))","v":{"$error":"#N/A"}},{"$f":"IF(A2387=\"\",\"\",VLOOKUP(A2387,[1]ItemConfig!$A:$C,3,FALSE))","v":{"$error":"#N/A"}},{"$f":"IF(A2387=\"\",\"\",VLOOKUP(B2387,#REF!,5,FALSE))","v":{"$error":"#N/A"}},{"$f":"IF(A2387=\"\",\"\",VLOOKUP(C2387,#REF!,5,FALSE))","v":{"$error":"#N/A"}}]
[500133,{"$f":"IF(A2388=\"\",\"\",VLOOKUP(A2388,[1]ItemConfig!$A:$B,2,FALSE))","v":{"$error":"#N/A"}},{"$f":"IF(A2388=\"\",\"\",VLOOKUP(A2388,[1]ItemConfig!$A:$D,4,FALSE))","v":{"$error":"#N/A"}},{"$f":"IF(A2388=\"\",\"\",VLOOKUP(A2388,[1]ItemConfig!$A:$C,3,FALSE))","v":{"$error":"#N/A"}},{"$f":"IF(A2388=\"\",\"\",VLOOKUP(B2388,#REF!,5,FALSE))","v":{"$error":"#N/A"}},{"$f":"IF(A2388=\"\",\"\",VLOOKUP(C2388,#REF!,5,FALSE))","v":{"$error":"#N/A"}}]
[500134,{"$f":"IF(A2389=\"\",\"\",VLOOKUP(A2389,[1]ItemConfig!$A:$B,2,FALSE))","v":{"$error":"#N/A"}},{"$f":"IF(A2389=\"\",\"\",VLOOKUP(A2389,[1]ItemConfig!$A:$D,4,FALSE))","v":{"$error":"#N/A"}},{"$f":"IF(A2389=\"\",\"\",VLOOKUP(A2389,[1]ItemConfig!$A:$C,3,FALSE))","v":{"$error":"#N/A"}},{"$f":"IF(A2389=\"\",\"\",VLOOKUP(B2389,#REF!,5,FALSE))","v":{"$error":"#N/A"}},{"$f":"IF(A2389=\"\",\"\",VLOOKUP(C2389,#REF!,5,FALSE))","v":{"$error":"#N/A"}}]
[500135,{"$f":"IF(A2390=\"\",\"\",VLOOKUP(A2390,[1]ItemConfig!$A:$B,2,FALSE))","v":{"$error":"#N/A"}},{"$f":"IF(A2390=\"\",\"\",VLOOKUP(A2390,[1]ItemConfig!$A:$D,4,FALSE))","v":{"$error":"#N/A"}},{"$f":"IF(A2390=\"\",\"\",VLOOKUP(A2390,[1]ItemConfig!$A:$C,3,FALSE))","v":{"$error":"#N/A"}},{"$f":"IF(A2390=\"\",\"\",VLOOKUP(B2390,#REF!,5,FALSE))","v":{"$error":"#N/A"}},{"$f":"IF(A2390=\"\",\"\",VLOOKUP(C2390,#REF!,5,FALSE))","v":{"$error":"#N/A"}}]
[500136,{"$f":"IF(A2391=\"\",\"\",VLOOKUP(A2391,[1]ItemConfig!$A:$B,2,FALSE))","v":{"$error":"#N/A"}},{"$f":"IF(A2391=\"\",\"\",VLOOKUP(A2391,[1]ItemConfig!$A:$D,4,FALSE))","v":{"$error":"#N/A"}},{"$f":"IF(A2391=\"\",\"\",VLOOKUP(A2391,[1]ItemConfig!$A:$C,3,FALSE))","v":{"$error":"#N/A"}},{"$f":"IF(A2391=\"\",\"\",VLOOKUP(B2391,#REF!,5,FALSE))","v":{"$error":"#N/A"}},{"$f":"IF(A2391=\"\",\"\",VLOOKUP(C2391,#REF!,5,FALSE))","v":{"$error":"#N/A"}}]
[500137,{"$f":"IF(A2392=\"\",\"\",VLOOKUP(A2392,[1]ItemConfig!$A:$B,2,FALSE))","v":{"$error":"#N/A"}},{"$f":"IF(A2392=\"\",\"\",VLOOKUP(A2392,[1]ItemConfig!$A:$D,4,FALSE))","v":{"$error":"#N/A"}},{"$f":"IF(A2392=\"\",\"\",VLOOKUP(A2392,[1]ItemConfig!$A:$C,3,FALSE))","v":{"$error":"#N/A"}},{"$f":"IF(A2392=\"\",\"\",VLOOKUP(B2392,#REF!,5,FALSE))","v":{"$error":"#N/A"}},{"$f":"IF(A2392=\"\",\"\",VLOOKUP(C2392,#REF!,5,FALSE))","v":{"$error":"#N/A"}}]
[500138,{"$f":"IF(A2393=\"\",\"\",VLOOKUP(A2393,[1]ItemConfig!$A:$B,2,FALSE))","v":{"$error":"#N/A"}},{"$f":"IF(A2393=\"\",\"\",VLOOKUP(A2393,[1]ItemConfig!$A:$D,4,FALSE))","v":{"$error":"#N/A"}},{"$f":"IF(A2393=\"\",\"\",VLOOKUP(A2393,[1]ItemConfig!$A:$C,3,FALSE))","v":{"$error":"#N/A"}},{"$f":"IF(A2393=\"\",\"\",VLOOKUP(B2393,#REF!,5,FALSE))","v":{"$error":"#N/A"}},{"$f":"IF(A2393=\"\",\"\",VLOOKUP(C2393,#REF!,5,FALSE))","v":{"$error":"#N/A"}}]
[500139,{"$f":"IF(A2394=\"\",\"\",VLOOKUP(A2394,[1]ItemConfig!$A:$B,2,FALSE))","v":{"$error":"#N/A"}},{"$f":"IF(A2394=\"\",\"\",VLOOKUP(A2394,[1]ItemConfig!$A:$D,4,FALSE))","v":{"$error":"#N/A"}},{"$f":"IF(A2394=\"\",\"\",VLOOKUP(A2394,[1]ItemConfig!$A:$C,3,FALSE))","v":{"$error":"#N/A"}},{"$f":"IF(A2394=\"\",\"\",VLOOKUP(B2394,#REF!,5,FALSE))","v":{"$error":"#N/A"}},{"$f":"IF(A2394=\"\",\"\",VLOOKUP(C2394,#REF!,5,FALSE))","v":{"$error":"#N/A"}}]
[500140,{"$f":"IF(A2395=\"\",\"\",VLOOKUP(A2395,[1]ItemConfig!$A:$B,2,FALSE))","v":{"$error":"#N/A"}},{"$f":"IF(A2395=\"\",\"\",VLOOKUP(A2395,[1]ItemConfig!$A:$D,4,FALSE))","v":{"$error":"#N/A"}},{"$f":"IF(A2395=\"\",\"\",VLOOKUP(A2395,[1]ItemConfig!$A:$C,3,FALSE))","v":{"$error":"#N/A"}},{"$f":"IF(A2395=\"\",\"\",VLOOKUP(B2395,#REF!,5,FALSE))","v":{"$error":"#N/A"}},{"$f":"IF(A2395=\"\",\"\",VLOOKUP(C2395,#REF!,5,FALSE))","v":{"$error":"#N/A"}}]
[500141,{"$f":"IF(A2396=\"\",\"\",VLOOKUP(A2396,[1]ItemConfig!$A:$B,2,FALSE))","v":{"$error":"#N/A"}},{"$f":"IF(A2396=\"\",\"\",VLOOKUP(A2396,[1]ItemConfig!$A:$D,4,FALSE))","v":{"$error":"#N/A"}},{"$f":"IF(A2396=\"\",\"\",VLOOKUP(A2396,[1]ItemConfig!$A:$C,3,FALSE))","v":{"$error":"#N/A"}},{"$f":"IF(A2396=\"\",\"\",VLOOKUP(B2396,#REF!,5,FALSE))","v":{"$error":"#N/A"}},{"$f":"IF(A2396=\"\",\"\",VLOOKUP(C2396,#REF!,5,FALSE))","v":{"$error":"#N/A"}}]
[500142,{"$f":"IF(A2397=\"\",\"\",VLOOKUP(A2397,[1]ItemConfig!$A:$B,2,FALSE))","v":{"$error":"#N/A"}},{"$f":"IF(A2397=\"\",\"\",VLOOKUP(A2397,[1]ItemConfig!$A:$D,4,FALSE))","v":{"$error":"#N/A"}},{"$f":"IF(A2397=\"\",\"\",VLOOKUP(A2397,[1]ItemConfig!$A:$C,3,FALSE))","v":{"$error":"#N/A"}},{"$f":"IF(A2397=\"\",\"\",VLOOKUP(B2397,#REF!,5,FALSE))","v":{"$error":"#N/A"}},{"$f":"IF(A2397=\"\",\"\",VLOOKUP(C2397,#REF!,5,FALSE))","v":{"$error":"#N/A"}}]
[500143,{"$f":"IF(A2398=\"\",\"\",VLOOKUP(A2398,[1]ItemConfig!$A:$B,2,FALSE))","v":{"$error":"#N/A"}},{"$f":"IF(A2398=\"\",\"\",VLOOKUP(A2398,[1]ItemConfig!$A:$D,4,FALSE))","v":{"$error":"#N/A"}},{"$f":"IF(A2398=\"\",\"\",VLOOKUP(A2398,[1]ItemConfig!$A:$C,3,FALSE))","v":{"$error":"#N/A"}},{"$f":"IF(A2398=\"\",\"\",VLOOKUP(B2398,#REF!,5,FALSE))","v":{"$error":"#N/A"}},{"$f":"IF(A2398=\"\",\"\",VLOOKUP(C2398,#REF!,5,FALSE))","v":{"$error":"#N/A"}}]
[500144,{"$f":"IF(A2399=\"\",\"\",VLOOKUP(A2399,[1]ItemConfig!$A:$B,2,FALSE))","v":{"$error":"#N/A"}},{"$f":"IF(A2399=\"\",\"\",VLOOKUP(A2399,[1]ItemConfig!$A:$D,4,FALSE))","v":{"$error":"#N/A"}},{"$f":"IF(A2399=\"\",\"\",VLOOKUP(A2399,[1]ItemConfig!$A:$C,3,FALSE))","v":{"$error":"#N/A"}},{"$f":"IF(A2399=\"\",\"\",VLOOKUP(B2399,#REF!,5,FALSE))","v":{"$error":"#N/A"}},{"$f":"IF(A2399=\"\",\"\",VLOOKUP(C2399,#REF!,5,FALSE))","v":{"$error":"#N/A"}}]
[500145,{"$f":"IF(A2400=\"\",\"\",VLOOKUP(A2400,[1]ItemConfig!$A:$B,2,FALSE))","v":{"$error":"#N/A"}},{"$f":"IF(A2400=\"\",\"\",VLOOKUP(A2400,[1]ItemConfig!$A:$D,4,FALSE))","v":{"$error":"#N/A"}},{"$f":"IF(A2400=\"\",\"\",VLOOKUP(A2400,[1]ItemConfig!$A:$C,3,FALSE))","v":{"$error":"#N/A"}},{"$f":"IF(A2400=\"\",\"\",VLOOKUP(B2400,#REF!,5,FALSE))","v":{"$error":"#N/A"}},{"$f":"IF(A2400=\"\",\"\",VLOOKUP(C2400,#REF!,5,FALSE))","v":{"$error":"#N/A"}}]
[500146,{"$f":"IF(A2401=\"\",\"\",VLOOKUP(A2401,[1]ItemConfig!$A:$B,2,FALSE))","v":{"$error":"#N/A"}},{"$f":"IF(A2401=\"\",\"\",VLOOKUP(A2401,[1]ItemConfig!$A:$D,4,FALSE))","v":{"$error":"#N/A"}},{"$f":"IF(A2401=\"\",\"\",VLOOKUP(A2401,[1]ItemConfig!$A:$C,3,FALSE))","v":{"$error":"#N/A"}},{"$f":"IF(A2401=\"\",\"\",VLOOKUP(B2401,#REF!,5,FALSE))","v":{"$error":"#N/A"}},{"$f":"IF(A2401=\"\",\"\",VLOOKUP(C2401,#REF!,5,FALSE))","v":{"$error":"#N/A"}}]
[500147,{"$f":"IF(A2402=\"\",\"\",VLOOKUP(A2402,[1]ItemConfig!$A:$B,2,FALSE))","v":{"$error":"#N/A"}},{"$f":"IF(A2402=\"\",\"\",VLOOKUP(A2402,[1]ItemConfig!$A:$D,4,FALSE))","v":{"$error":"#N/A"}},{"$f":"IF(A2402=\"\",\"\",VLOOKUP(A2402,[1]ItemConfig!$A:$C,3,FALSE))","v":{"$error":"#N/A"}},{"$f":"IF(A2402=\"\",\"\",VLOOKUP(B2402,#REF!,5,FALSE))","v":{"$error":"#N/A"}},{"$f":"IF(A2402=\"\",\"\",VLOOKUP(C2402,#REF!,5,FALSE))","v":{"$error":"#N/A"}}]
[500148,{"$f":"IF(A2403=\"\",\"\",VLOOKUP(A2403,[1]ItemConfig!$A:$B,2,FALSE))","v":{"$error":"#N/A"}},{"$f":"IF(A2403=\"\",\"\",VLOOKUP(A2403,[1]ItemConfig!$A:$D,4,FALSE))","v":{"$error":"#N/A"}},{"$f":"IF(A2403=\"\",\"\",VLOOKUP(A2403,[1]ItemConfig!$A:$C,3,FALSE))","v":{"$error":"#N/A"}},{"$f":"IF(A2403=\"\",\"\",VLOOKUP(B2403,#REF!,5,FALSE))","v":{"$error":"#N/A"}},{"$f":"IF(A2403=\"\",\"\",VLOOKUP(C2403,#REF!,5,FALSE))","v":{"$error":"#N/A"}}]
[500149,{"$f":"IF(A2404=\"\",\"\",VLOOKUP(A2404,[1]ItemConfig!$A:$B,2,FALSE))","v":{"$error":"#N/A"}},{"$f":"IF(A2404=\"\",\"\",VLOOKUP(A2404,[1]ItemConfig!$A:$D,4,FALSE))","v":{"$error":"#N/A"}},{"$f":"IF(A2404=\"\",\"\",VLOOKUP(A2404,[1]ItemConfig!$A:$C,3,FALSE))","v":{"$error":"#N/A"}},{"$f":"IF(A2404=\"\",\"\",VLOOKUP(B2404,#REF!,5,FALSE))","v":{"$error":"#N/A"}},{"$f":"IF(A2404=\"\",\"\",VLOOKUP(C2404,#REF!,5,FALSE))","v":{"$error":"#N/A"}}]
[500150,{"$f":"IF(A2405=\"\",\"\",VLOOKUP(A2405,[1]ItemConfig!$A:$B,2,FALSE))","v":{"$error":"#N/A"}},{"$f":"IF(A2405=\"\",\"\",VLOOKUP(A2405,[1]ItemConfig!$A:$D,4,FALSE))","v":{"$error":"#N/A"}},{"$f":"IF(A2405=\"\",\"\",VLOOKUP(A2405,[1]ItemConfig!$A:$C,3,FALSE))","v":{"$error":"#N/A"}},{"$f":"IF(A2405=\"\",\"\",VLOOKUP(B2405,#REF!,5,FALSE))","v":{"$error":"#N/A"}},{"$f":"IF(A2405=\"\",\"\",VLOOKUP(C2405,#REF!,5,FALSE))","v":{"$error":"#N/A"}}]
[500151,{"$f":"IF(A2406=\"\",\"\",VLOOKUP(A2406,[1]ItemConfig!$A:$B,2,FALSE))","v":{"$error":"#N/A"}},{"$f":"IF(A2406=\"\",\"\",VLOOKUP(A2406,[1]ItemConfig!$A:$D,4,FALSE))","v":{"$error":"#N/A"}},{"$f":"IF(A2406=\"\",\"\",VLOOKUP(A2406,[1]ItemConfig!$A:$C,3,FALSE))","v":{"$error":"#N/A"}},{"$f":"IF(A2406=\"\",\"\",VLOOKUP(B2406,#REF!,5,FALSE))","v":{"$error":"#N/A"}},{"$f":"IF(A2406=\"\",\"\",VLOOKUP(C2406,#REF!,5,FALSE))","v":{"$error":"#N/A"}}]
[500152,{"$f":"IF(A2407=\"\",\"\",VLOOKUP(A2407,[1]ItemConfig!$A:$B,2,FALSE))","v":{"$error":"#N/A"}},{"$f":"IF(A2407=\"\",\"\",VLOOKUP(A2407,[1]ItemConfig!$A:$D,4,FALSE))","v":{"$error":"#N/A"}},{"$f":"IF(A2407=\"\",\"\",VLOOKUP(A2407,[1]ItemConfig!$A:$C,3,FALSE))","v":{"$error":"#N/A"}},{"$f":"IF(A2407=\"\",\"\",VLOOKUP(B2407,#REF!,5,FALSE))","v":{"$error":"#N/A"}},{"$f":"IF(A2407=\"\",\"\",VLOOKUP(C2407,#REF!,5,FALSE))","v":{"$error":"#N/A"}}]
[500153,{"$f":"IF(A2408=\"\",\"\",VLOOKUP(A2408,[1]ItemConfig!$A:$B,2,FALSE))","v":{"$error":"#N/A"}},{"$f":"IF(A2408=\"\",\"\",VLOOKUP(A2408,[1]ItemConfig!$A:$D,4,FALSE))","v":{"$error":"#N/A"}},{"$f":"IF(A2408=\"\",\"\",VLOOKUP(A2408,[1]ItemConfig!$A:$C,3,FALSE))","v":{"$error":"#N/A"}},{"$f":"IF(A2408=\"\",\"\",VLOOKUP(B2408,#REF!,5,FALSE))","v":{"$error":"#N/A"}},{"$f":"IF(A2408=\"\",\"\",VLOOKUP(C2408,#REF!,5,FALSE))","v":{"$error":"#N/A"}}]
[500154,{"$f":"IF(A2409=\"\",\"\",VLOOKUP(A2409,[1]ItemConfig!$A:$B,2,FALSE))","v":{"$error":"#N/A"}},{"$f":"IF(A2409=\"\",\"\",VLOOKUP(A2409,[1]ItemConfig!$A:$D,4,FALSE))","v":{"$error":"#N/A"}},{"$f":"IF(A2409=\"\",\"\",VLOOKUP(A2409,[1]ItemConfig!$A:$C,3,FALSE))","v":{"$error":"#N/A"}},{"$f":"IF(A2409=\"\",\"\",VLOOKUP(B2409,#REF!,5,FALSE))","v":{"$error":"#N/A"}},{"$f":"IF(A2409=\"\",\"\",VLOOKUP(C2409,#REF!,5,FALSE))","v":{"$error":"#N/A"}}]
[500155,{"$f":"IF(A2410=\"\",\"\",VLOOKUP(A2410,[1]ItemConfig!$A:$B,2,FALSE))","v":{"$error":"#N/A"}},{"$f":"IF(A2410=\"\",\"\",VLOOKUP(A2410,[1]ItemConfig!$A:$D,4,FALSE))","v":{"$error":"#N/A"}},{"$f":"IF(A2410=\"\",\"\",VLOOKUP(A2410,[1]ItemConfig!$A:$C,3,FALSE))","v":{"$error":"#N/A"}},{"$f":"IF(A2410=\"\",\"\",VLOOKUP(B2410,#REF!,5,FALSE))","v":{"$error":"#N/A"}},{"$f":"IF(A2410=\"\",\"\",VLOOKUP(C2410,#REF!,5,FALSE))","v":{"$error":"#N/A"}}]
[500156,{"$f":"IF(A2411=\"\",\"\",VLOOKUP(A2411,[1]ItemConfig!$A:$B,2,FALSE))","v":{"$error":"#N/A"}},{"$f":"IF(A2411=\"\",\"\",VLOOKUP(A2411,[1]ItemConfig!$A:$D,4,FALSE))","v":{"$error":"#N/A"}},{"$f":"IF(A2411=\"\",\"\",VLOOKUP(A2411,[1]ItemConfig!$A:$C,3,FALSE))","v":{"$error":"#N/A"}},{"$f":"IF(A2411=\"\",\"\",VLOOKUP(B2411,#REF!,5,FALSE))","v":{"$error":"#N/A"}},{"$f":"IF(A2411=\"\",\"\",VLOOKUP(C2411,#REF!,5,FALSE))","v":{"$error":"#N/A"}}]
[500157,{"$f":"IF(A2412=\"\",\"\",VLOOKUP(A2412,[1]ItemConfig!$A:$B,2,FALSE))","v":{"$error":"#N/A"}},{"$f":"IF(A2412=\"\",\"\",VLOOKUP(A2412,[1]ItemConfig!$A:$D,4,FALSE))","v":{"$error":"#N/A"}},{"$f":"IF(A2412=\"\",\"\",VLOOKUP(A2412,[1]ItemConfig!$A:$C,3,FALSE))","v":{"$error":"#N/A"}},{"$f":"IF(A2412=\"\",\"\",VLOOKUP(B2412,#REF!,5,FALSE))","v":{"$error":"#N/A"}},{"$f":"IF(A2412=\"\",\"\",VLOOKUP(C2412,#REF!,5,FALSE))","v":{"$error":"#N/A"}}]
[null,{"$f":"IF(A2413=\"\",\"\",VLOOKUP(A2413,[1]ItemConfig!$A:$B,2,FALSE))","v":""},{"$f":"IF(A2413=\"\",\"\",VLOOKUP(A2413,[1]ItemConfig!$A:$D,4,FALSE))","v":""},{"$f":"IF(A2413=\"\",\"\",VLOOKUP(A2413,[1]ItemConfig!$A:$C,3,FALSE))","v":""},{"$f":"IF(A2413=\"\",\"\",VLOOKUP(B2413,#REF!,5,FALSE))","v":""},{"$f":"IF(A2413=\"\",\"\",VLOOKUP(C2413,#REF!,5,FALSE))","v":""}]
[500158,{"$f":"IF(A2414=\"\",\"\",VLOOKUP(A2414,[1]ItemConfig!$A:$B,2,FALSE))","v":{"$error":"#N/A"}},{"$f":"IF(A2414=\"\",\"\",VLOOKUP(A2414,[1]ItemConfig!$A:$D,4,FALSE))","v":{"$error":"#N/A"}},{"$f":"IF(A2414=\"\",\"\",VLOOKUP(A2414,[1]ItemConfig!$A:$C,3,FALSE))","v":{"$error":"#N/A"}},{"$f":"IF(A2414=\"\",\"\",VLOOKUP(B2414,#REF!,5,FALSE))","v":{"$error":"#N/A"}},{"$f":"IF(A2414=\"\",\"\",VLOOKUP(C2414,#REF!,5,FALSE))","v":{"$error":"#N/A"}}]
[500159,{"$f":"IF(A2415=\"\",\"\",VLOOKUP(A2415,[1]ItemConfig!$A:$B,2,FALSE))","v":{"$error":"#N/A"}},{"$f":"IF(A2415=\"\",\"\",VLOOKUP(A2415,[1]ItemConfig!$A:$D,4,FALSE))","v":{"$error":"#N/A"}},{"$f":"IF(A2415=\"\",\"\",VLOOKUP(A2415,[1]ItemConfig!$A:$C,3,FALSE))","v":{"$error":"#N/A"}},{"$f":"IF(A2415=\"\",\"\",VLOOKUP(B2415,#REF!,5,FALSE))","v":{"$error":"#N/A"}},{"$f":"IF(A2415=\"\",\"\",VLOOKUP(C2415,#REF!,5,FALSE))","v":{"$error":"#N/A"}}]
[108011,{"$f":"IF(A2416=\"\",\"\",VLOOKUP(A2416,[1]ItemConfig!$A:$B,2,FALSE))","v":{"$error":"#N/A"}},{"$f":"IF(A2416=\"\",\"\",VLOOKUP(A2416,[1]ItemConfig!$A:$D,4,FALSE))","v":{"$error":"#N/A"}},{"$f":"IF(A2416=\"\",\"\",VLOOKUP(A2416,[1]ItemConfig!$A:$C,3,FALSE))","v":{"$error":"#N/A"}},{"$f":"IF(A2416=\"\",\"\",VLOOKUP(B2416,#REF!,5,FALSE))","v":{"$error":"#N/A"}},{"$f":"IF(A2416=\"\",\"\",VLOOKUP(C2416,#REF!,5,FALSE))","v":{"$error":"#N/A"}}]
[108012,{"$f":"IF(A2417=\"\",\"\",VLOOKUP(A2417,[1]ItemConfig!$A:$B,2,FALSE))","v":{"$error":"#N/A"}},{"$f":"IF(A2417=\"\",\"\",VLOOKUP(A2417,[1]ItemConfig!$A:$D,4,FALSE))","v":{"$error":"#N/A"}},{"$f":"IF(A2417=\"\",\"\",VLOOKUP(A2417,[1]ItemConfig!$A:$C,3,FALSE))","v":{"$error":"#N/A"}},{"$f":"IF(A2417=\"\",\"\",VLOOKUP(B2417,#REF!,5,FALSE))","v":{"$error":"#N/A"}},{"$f":"IF(A2417=\"\",\"\",VLOOKUP(C2417,#REF!,5,FALSE))","v":{"$error":"#N/A"}}]
[500160,{"$f":"IF(A2418=\"\",\"\",VLOOKUP(A2418,[1]ItemConfig!$A:$B,2,FALSE))","v":{"$error":"#N/A"}},{"$f":"IF(A2418=\"\",\"\",VLOOKUP(A2418,[1]ItemConfig!$A:$D,4,FALSE))","v":{"$error":"#N/A"}},{"$f":"IF(A2418=\"\",\"\",VLOOKUP(A2418,[1]ItemConfig!$A:$C,3,FALSE))","v":{"$error":"#N/A"}},{"$f":"IF(A2418=\"\",\"\",VLOOKUP(B2418,#REF!,5,FALSE))","v":{"$error":"#N/A"}},{"$f":"IF(A2418=\"\",\"\",VLOOKUP(C2418,#REF!,5,FALSE))","v":{"$error":"#N/A"}}]
[500161,{"$f":"IF(A2419=\"\",\"\",VLOOKUP(A2419,[1]ItemConfig!$A:$B,2,FALSE))","v":{"$error":"#N/A"}},{"$f":"IF(A2419=\"\",\"\",VLOOKUP(A2419,[1]ItemConfig!$A:$D,4,FALSE))","v":{"$error":"#N/A"}},{"$f":"IF(A2419=\"\",\"\",VLOOKUP(A2419,[1]ItemConfig!$A:$C,3,FALSE))","v":{"$error":"#N/A"}},{"$f":"IF(A2419=\"\",\"\",VLOOKUP(B2419,#REF!,5,FALSE))","v":{"$error":"#N/A"}},{"$f":"IF(A2419=\"\",\"\",VLOOKUP(C2419,#REF!,5,FALSE))","v":{"$error":"#N/A"}}]
[500162,{"$f":"IF(A2420=\"\",\"\",VLOOKUP(A2420,[1]ItemConfig!$A:$B,2,FALSE))","v":{"$error":"#N/A"}},{"$f":"IF(A2420=\"\",\"\",VLOOKUP(A2420,[1]ItemConfig!$A:$D,4,FALSE))","v":{"$error":"#N/A"}},{"$f":"IF(A2420=\"\",\"\",VLOOKUP(A2420,[1]ItemConfig!$A:$C,3,FALSE))","v":{"$error":"#N/A"}},{"$f":"IF(A2420=\"\",\"\",VLOOKUP(B2420,#REF!,5,FALSE))","v":{"$error":"#N/A"}},{"$f":"IF(A2420=\"\",\"\",VLOOKUP(C2420,#REF!,5,FALSE))","v":{"$error":"#N/A"}}]
[500163,{"$f":"IF(A2421=\"\",\"\",VLOOKUP(A2421,[1]ItemConfig!$A:$B,2,FALSE))","v":{"$error":"#N/A"}},{"$f":"IF(A2421=\"\",\"\",VLOOKUP(A2421,[1]ItemConfig!$A:$D,4,FALSE))","v":{"$error":"#N/A"}},{"$f":"IF(A2421=\"\",\"\",VLOOKUP(A2421,[1]ItemConfig!$A:$C,3,FALSE))","v":{"$error":"#N/A"}},{"$f":"IF(A2421=\"\",\"\",VLOOKUP(B2421,#REF!,5,FALSE))","v":{"$error":"#N/A"}},{"$f":"IF(A2421=\"\",\"\",VLOOKUP(C2421,#REF!,5,FALSE))","v":{"$error":"#N/A"}}]
[500164,{"$f":"IF(A2422=\"\",\"\",VLOOKUP(A2422,[1]ItemConfig!$A:$B,2,FALSE))","v":{"$error":"#N/A"}},{"$f":"IF(A2422=\"\",\"\",VLOOKUP(A2422,[1]ItemConfig!$A:$D,4,FALSE))","v":{"$error":"#N/A"}},{"$f":"IF(A2422=\"\",\"\",VLOOKUP(A2422,[1]ItemConfig!$A:$C,3,FALSE))","v":{"$error":"#N/A"}},{"$f":"IF(A2422=\"\",\"\",VLOOKUP(B2422,#REF!,5,FALSE))","v":{"$error":"#N/A"}},{"$f":"IF(A2422=\"\",\"\",VLOOKUP(C2422,#REF!,5,FALSE))","v":{"$error":"#N/A"}}]
[500165,{"$f":"IF(A2423=\"\",\"\",VLOOKUP(A2423,[1]ItemConfig!$A:$B,2,FALSE))","v":{"$error":"#N/A"}},{"$f":"IF(A2423=\"\",\"\",VLOOKUP(A2423,[1]ItemConfig!$A:$D,4,FALSE))","v":{"$error":"#N/A"}},{"$f":"IF(A2423=\"\",\"\",VLOOKUP(A2423,[1]ItemConfig!$A:$C,3,FALSE))","v":{"$error":"#N/A"}},{"$f":"IF(A2423=\"\",\"\",VLOOKUP(B2423,#REF!,5,FALSE))","v":{"$error":"#N/A"}},{"$f":"IF(A2423=\"\",\"\",VLOOKUP(C2423,#REF!,5,FALSE))","v":{"$error":"#N/A"}}]
[500166,{"$f":"IF(A2424=\"\",\"\",VLOOKUP(A2424,[1]ItemConfig!$A:$B,2,FALSE))","v":{"$error":"#N/A"}},{"$f":"IF(A2424=\"\",\"\",VLOOKUP(A2424,[1]ItemConfig!$A:$D,4,FALSE))","v":{"$error":"#N/A"}},{"$f":"IF(A2424=\"\",\"\",VLOOKUP(A2424,[1]ItemConfig!$A:$C,3,FALSE))","v":{"$error":"#N/A"}},{"$f":"IF(A2424=\"\",\"\",VLOOKUP(B2424,#REF!,5,FALSE))","v":{"$error":"#N/A"}},{"$f":"IF(A2424=\"\",\"\",VLOOKUP(C2424,#REF!,5,FALSE))","v":{"$error":"#N/A"}}]
[500167,{"$f":"IF(A2425=\"\",\"\",VLOOKUP(A2425,[1]ItemConfig!$A:$B,2,FALSE))","v":{"$error":"#N/A"}},{"$f":"IF(A2425=\"\",\"\",VLOOKUP(A2425,[1]ItemConfig!$A:$D,4,FALSE))","v":{"$error":"#N/A"}},{"$f":"IF(A2425=\"\",\"\",VLOOKUP(A2425,[1]ItemConfig!$A:$C,3,FALSE))","v":{"$error":"#N/A"}},{"$f":"IF(A2425=\"\",\"\",VLOOKUP(B2425,#REF!,5,FALSE))","v":{"$error":"#N/A"}},{"$f":"IF(A2425=\"\",\"\",VLOOKUP(C2425,#REF!,5,FALSE))","v":{"$error":"#N/A"}}]
[500168,{"$f":"IF(A2426=\"\",\"\",VLOOKUP(A2426,[1]ItemConfig!$A:$B,2,FALSE))","v":{"$error":"#N/A"}},{"$f":"IF(A2426=\"\",\"\",VLOOKUP(A2426,[1]ItemConfig!$A:$D,4,FALSE))","v":{"$error":"#N/A"}},{"$f":"IF(A2426=\"\",\"\",VLOOKUP(A2426,[1]ItemConfig!$A:$C,3,FALSE))","v":{"$error":"#N/A"}},{"$f":"IF(A2426=\"\",\"\",VLOOKUP(B2426,#REF!,5,FALSE))","v":{"$error":"#N/A"}},{"$f":"IF(A2426=\"\",\"\",VLOOKUP(C2426,#REF!,5,FALSE))","v":{"$error":"#N/A"}}]
[500169,{"$f":"IF(A2427=\"\",\"\",VLOOKUP(A2427,[1]ItemConfig!$A:$B,2,FALSE))","v":{"$error":"#N/A"}},{"$f":"IF(A2427=\"\",\"\",VLOOKUP(A2427,[1]ItemConfig!$A:$D,4,FALSE))","v":{"$error":"#N/A"}},{"$f":"IF(A2427=\"\",\"\",VLOOKUP(A2427,[1]ItemConfig!$A:$C,3,FALSE))","v":{"$error":"#N/A"}},{"$f":"IF(A2427=\"\",\"\",VLOOKUP(B2427,#REF!,5,FALSE))","v":{"$error":"#N/A"}},{"$f":"IF(A2427=\"\",\"\",VLOOKUP(C2427,#REF!,5,FALSE))","v":{"$error":"#N/A"}}]
[500170,{"$f":"IF(A2428=\"\",\"\",VLOOKUP(A2428,[1]ItemConfig!$A:$B,2,FALSE))","v":{"$error":"#N/A"}},{"$f":"IF(A2428=\"\",\"\",VLOOKUP(A2428,[1]ItemConfig!$A:$D,4,FALSE))","v":{"$error":"#N/A"}},{"$f":"IF(A2428=\"\",\"\",VLOOKUP(A2428,[1]ItemConfig!$A:$C,3,FALSE))","v":{"$error":"#N/A"}},{"$f":"IF(A2428=\"\",\"\",VLOOKUP(B2428,#REF!,5,FALSE))","v":{"$error":"#N/A"}},{"$f":"IF(A2428=\"\",\"\",VLOOKUP(C2428,#REF!,5,FALSE))","v":{"$error":"#N/A"}}]
[500171,{"$f":"IF(A2429=\"\",\"\",VLOOKUP(A2429,[1]ItemConfig!$A:$B,2,FALSE))","v":{"$error":"#N/A"}},{"$f":"IF(A2429=\"\",\"\",VLOOKUP(A2429,[1]ItemConfig!$A:$D,4,FALSE))","v":{"$error":"#N/A"}},{"$f":"IF(A2429=\"\",\"\",VLOOKUP(A2429,[1]ItemConfig!$A:$C,3,FALSE))","v":{"$error":"#N/A"}},{"$f":"IF(A2429=\"\",\"\",VLOOKUP(B2429,#REF!,5,FALSE))","v":{"$error":"#N/A"}},{"$f":"IF(A2429=\"\",\"\",VLOOKUP(C2429,#REF!,5,FALSE))","v":{"$error":"#N/A"}}]
[500172,{"$f":"IF(A2430=\"\",\"\",VLOOKUP(A2430,[1]ItemConfig!$A:$B,2,FALSE))","v":{"$error":"#N/A"}},{"$f":"IF(A2430=\"\",\"\",VLOOKUP(A2430,[1]ItemConfig!$A:$D,4,FALSE))","v":{"$error":"#N/A"}},{"$f":"IF(A2430=\"\",\"\",VLOOKUP(A2430,[1]ItemConfig!$A:$C,3,FALSE))","v":{"$error":"#N/A"}},{"$f":"IF(A2430=\"\",\"\",VLOOKUP(B2430,#REF!,5,FALSE))","v":{"$error":"#N/A"}},{"$f":"IF(A2430=\"\",\"\",VLOOKUP(C2430,#REF!,5,FALSE))","v":{"$error":"#N/A"}}]
[500173,{"$f":"IF(A2431=\"\",\"\",VLOOKUP(A2431,[1]ItemConfig!$A:$B,2,FALSE))","v":{"$error":"#N/A"}},{"$f":"IF(A2431=\"\",\"\",VLOOKUP(A2431,[1]ItemConfig!$A:$D,4,FALSE))","v":{"$error":"#N/A"}},{"$f":"IF(A2431=\"\",\"\",VLOOKUP(A2431,[1]ItemConfig!$A:$C,3,FALSE))","v":{"$error":"#N/A"}},{"$f":"IF(A2431=\"\",\"\",VLOOKUP(B2431,#REF!,5,FALSE))","v":{"$error":"#N/A"}},{"$f":"IF(A2431=\"\",\"\",VLOOKUP(C2431,#REF!,5,FALSE))","v":{"$error":"#N/A"}}]
[108013,{"$f":"IF(A2432=\"\",\"\",VLOOKUP(A2432,[1]ItemConfig!$A:$B,2,FALSE))","v":{"$error":"#N/A"}},{"$f":"IF(A2432=\"\",\"\",VLOOKUP(A2432,[1]ItemConfig!$A:$D,4,FALSE))","v":{"$error":"#N/A"}},{"$f":"IF(A2432=\"\",\"\",VLOOKUP(A2432,[1]ItemConfig!$A:$C,3,FALSE))","v":{"$error":"#N/A"}},{"$f":"IF(A2432=\"\",\"\",VLOOKUP(B2432,#REF!,5,FALSE))","v":{"$error":"#N/A"}},{"$f":"IF(A2432=\"\",\"\",VLOOKUP(C2432,#REF!,5,FALSE))","v":{"$error":"#N/A"}}]
[500174,{"$f":"IF(A2433=\"\",\"\",VLOOKUP(A2433,[1]ItemConfig!$A:$B,2,FALSE))","v":{"$error":"#N/A"}},{"$f":"IF(A2433=\"\",\"\",VLOOKUP(A2433,[1]ItemConfig!$A:$D,4,FALSE))","v":{"$error":"#N/A"}},{"$f":"IF(A2433=\"\",\"\",VLOOKUP(A2433,[1]ItemConfig!$A:$C,3,FALSE))","v":{"$error":"#N/A"}},{"$f":"IF(A2433=\"\",\"\",VLOOKUP(B2433,#REF!,5,FALSE))","v":{"$error":"#N/A"}},{"$f":"IF(A2433=\"\",\"\",VLOOKUP(C2433,#REF!,5,FALSE))","v":{"$error":"#N/A"}}]
[500175,{"$f":"IF(A2434=\"\",\"\",VLOOKUP(A2434,[1]ItemConfig!$A:$B,2,FALSE))","v":{"$error":"#N/A"}},{"$f":"IF(A2434=\"\",\"\",VLOOKUP(A2434,[1]ItemConfig!$A:$D,4,FALSE))","v":{"$error":"#N/A"}},{"$f":"IF(A2434=\"\",\"\",VLOOKUP(A2434,[1]ItemConfig!$A:$C,3,FALSE))","v":{"$error":"#N/A"}},{"$f":"IF(A2434=\"\",\"\",VLOOKUP(B2434,#REF!,5,FALSE))","v":{"$error":"#N/A"}},{"$f":"IF(A2434=\"\",\"\",VLOOKUP(C2434,#REF!,5,FALSE))","v":{"$error":"#N/A"}}]
[500176,{"$f":"IF(A2435=\"\",\"\",VLOOKUP(A2435,[1]ItemConfig!$A:$B,2,FALSE))","v":{"$error":"#N/A"}},{"$f":"IF(A2435=\"\",\"\",VLOOKUP(A2435,[1]ItemConfig!$A:$D,4,FALSE))","v":{"$error":"#N/A"}},{"$f":"IF(A2435=\"\",\"\",VLOOKUP(A2435,[1]ItemConfig!$A:$C,3,FALSE))","v":{"$error":"#N/A"}},{"$f":"IF(A2435=\"\",\"\",VLOOKUP(B2435,#REF!,5,FALSE))","v":{"$error":"#N/A"}},{"$f":"IF(A2435=\"\",\"\",VLOOKUP(C2435,#REF!,5,FALSE))","v":{"$error":"#N/A"}}]
[500177,{"$f":"IF(A2436=\"\",\"\",VLOOKUP(A2436,[1]ItemConfig!$A:$B,2,FALSE))","v":{"$error":"#N/A"}},{"$f":"IF(A2436=\"\",\"\",VLOOKUP(A2436,[1]ItemConfig!$A:$D,4,FALSE))","v":{"$error":"#N/A"}},{"$f":"IF(A2436=\"\",\"\",VLOOKUP(A2436,[1]ItemConfig!$A:$C,3,FALSE))","v":{"$error":"#N/A"}},{"$f":"IF(A2436=\"\",\"\",VLOOKUP(B2436,#REF!,5,FALSE))","v":{"$error":"#N/A"}},{"$f":"IF(A2436=\"\",\"\",VLOOKUP(C2436,#REF!,5,FALSE))","v":{"$error":"#N/A"}}]
[500178,{"$f":"IF(A2437=\"\",\"\",VLOOKUP(A2437,[1]ItemConfig!$A:$B,2,FALSE))","v":{"$error":"#N/A"}},{"$f":"IF(A2437=\"\",\"\",VLOOKUP(A2437,[1]ItemConfig!$A:$D,4,FALSE))","v":{"$error":"#N/A"}},{"$f":"IF(A2437=\"\",\"\",VLOOKUP(A2437,[1]ItemConfig!$A:$C,3,FALSE))","v":{"$error":"#N/A"}},{"$f":"IF(A2437=\"\",\"\",VLOOKUP(B2437,#REF!,5,FALSE))","v":{"$error":"#N/A"}},{"$f":"IF(A2437=\"\",\"\",VLOOKUP(C2437,#REF!,5,FALSE))","v":{"$error":"#N/A"}}]
[500179,{"$f":"IF(A2438=\"\",\"\",VLOOKUP(A2438,[1]ItemConfig!$A:$B,2,FALSE))","v":{"$error":"#N/A"}},{"$f":"IF(A2438=\"\",\"\",VLOOKUP(A2438,[1]ItemConfig!$A:$D,4,FALSE))","v":{"$error":"#N/A"}},{"$f":"IF(A2438=\"\",\"\",VLOOKUP(A2438,[1]ItemConfig!$A:$C,3,FALSE))","v":{"$error":"#N/A"}},{"$f":"IF(A2438=\"\",\"\",VLOOKUP(B2438,#REF!,5,FALSE))","v":{"$error":"#N/A"}},{"$f":"IF(A2438=\"\",\"\",VLOOKUP(C2438,#REF!,5,FALSE))","v":{"$error":"#N/A"}}]
[500180,{"$f":"IF(A2439=\"\",\"\",VLOOKUP(A2439,[1]ItemConfig!$A:$B,2,FALSE))","v":{"$error":"#N/A"}},{"$f":"IF(A2439=\"\",\"\",VLOOKUP(A2439,[1]ItemConfig!$A:$D,4,FALSE))","v":{"$error":"#N/A"}},{"$f":"IF(A2439=\"\",\"\",VLOOKUP(A2439,[1]ItemConfig!$A:$C,3,FALSE))","v":{"$error":"#N/A"}},{"$f":"IF(A2439=\"\",\"\",VLOOKUP(B2439,#REF!,5,FALSE))","v":{"$error":"#N/A"}},{"$f":"IF(A2439=\"\",\"\",VLOOKUP(C2439,#REF!,5,FALSE))","v":{"$error":"#N/A"}}]
[500181,{"$f":"IF(A2440=\"\",\"\",VLOOKUP(A2440,[1]ItemConfig!$A:$B,2,FALSE))","v":{"$error":"#N/A"}},{"$f":"IF(A2440=\"\",\"\",VLOOKUP(A2440,[1]ItemConfig!$A:$D,4,FALSE))","v":{"$error":"#N/A"}},{"$f":"IF(A2440=\"\",\"\",VLOOKUP(A2440,[1]ItemConfig!$A:$C,3,FALSE))","v":{"$error":"#N/A"}},{"$f":"IF(A2440=\"\",\"\",VLOOKUP(B2440,#REF!,5,FALSE))","v":{"$error":"#N/A"}},{"$f":"IF(A2440=\"\",\"\",VLOOKUP(C2440,#REF!,5,FALSE))","v":{"$error":"#N/A"}}]
[500182,{"$f":"IF(A2441=\"\",\"\",VLOOKUP(A2441,[1]ItemConfig!$A:$B,2,FALSE))","v":{"$error":"#N/A"}},{"$f":"IF(A2441=\"\",\"\",VLOOKUP(A2441,[1]ItemConfig!$A:$D,4,FALSE))","v":{"$error":"#N/A"}},{"$f":"IF(A2441=\"\",\"\",VLOOKUP(A2441,[1]ItemConfig!$A:$C,3,FALSE))","v":{"$error":"#N/A"}},{"$f":"IF(A2441=\"\",\"\",VLOOKUP(B2441,#REF!,5,FALSE))","v":{"$error":"#N/A"}},{"$f":"IF(A2441=\"\",\"\",VLOOKUP(C2441,#REF!,5,FALSE))","v":{"$error":"#N/A"}}]
[500183,{"$f":"IF(A2442=\"\",\"\",VLOOKUP(A2442,[1]ItemConfig!$A:$B,2,FALSE))","v":{"$error":"#N/A"}},{"$f":"IF(A2442=\"\",\"\",VLOOKUP(A2442,[1]ItemConfig!$A:$D,4,FALSE))","v":{"$error":"#N/A"}},{"$f":"IF(A2442=\"\",\"\",VLOOKUP(A2442,[1]ItemConfig!$A:$C,3,FALSE))","v":{"$error":"#N/A"}},{"$f":"IF(A2442=\"\",\"\",VLOOKUP(B2442,#REF!,5,FALSE))","v":{"$error":"#N/A"}},{"$f":"IF(A2442=\"\",\"\",VLOOKUP(C2442,#REF!,5,FALSE))","v":{"$error":"#N/A"}}]
[500184,{"$f":"IF(A2443=\"\",\"\",VLOOKUP(A2443,[1]ItemConfig!$A:$B,2,FALSE))","v":{"$error":"#N/A"}},{"$f":"IF(A2443=\"\",\"\",VLOOKUP(A2443,[1]ItemConfig!$A:$D,4,FALSE))","v":{"$error":"#N/A"}},{"$f":"IF(A2443=\"\",\"\",VLOOKUP(A2443,[1]ItemConfig!$A:$C,3,FALSE))","v":{"$error":"#N/A"}},{"$f":"IF(A2443=\"\",\"\",VLOOKUP(B2443,#REF!,5,FALSE))","v":{"$error":"#N/A"}},{"$f":"IF(A2443=\"\",\"\",VLOOKUP(C2443,#REF!,5,FALSE))","v":{"$error":"#N/A"}}]
[500185,{"$f":"IF(A2444=\"\",\"\",VLOOKUP(A2444,[1]ItemConfig!$A:$B,2,FALSE))","v":{"$error":"#N/A"}},{"$f":"IF(A2444=\"\",\"\",VLOOKUP(A2444,[1]ItemConfig!$A:$D,4,FALSE))","v":{"$error":"#N/A"}},{"$f":"IF(A2444=\"\",\"\",VLOOKUP(A2444,[1]ItemConfig!$A:$C,3,FALSE))","v":{"$error":"#N/A"}},{"$f":"IF(A2444=\"\",\"\",VLOOKUP(B2444,#REF!,5,FALSE))","v":{"$error":"#N/A"}},{"$f":"IF(A2444=\"\",\"\",VLOOKUP(C2444,#REF!,5,FALSE))","v":{"$error":"#N/A"}}]

{"sheet":"英雄招募相关","index":6,"n_rows":36,"n_cols":22,"rows_kept":36,"cut":false,"hidden":false,"merged":[]}
[null,"火R","冰R","雷R",null,"火SR","冰SR","雷SR",null,"火SSR","冰SSR","雷SSR",{"$nulls":7},"火SSR","冰SSR","雷SSR"]
["常驻",3401,3201,3103,null,3206,3105,3202,null,3101,3104,3102,{"$nulls":7},{"$f":"IF(J2=\"\",\"\",J2+4000)","v":7101},{"$f":"IF(K2=\"\",\"\",K2+4000)","v":7104},7102]
[null,3702,3205,3106,null,3404,3504,3303,null,3304,3403,3203,{"$nulls":7},{"$f":"IF(J3=\"\",\"\",J3+4000)","v":7304},{"$f":"IF(K3=\"\",\"\",K3+4000)","v":7403},{"$f":"IF(L3=\"\",\"\",L3+4000)","v":7203}]
[null,null,3301,null,null,3501,3603,3704,null,3502,3601,3305,{"$nulls":7},7502,7601,7305]
[{"$nulls":5},3503,3703,3705,null,3602,null,3402,{"$nulls":7},7602,"",7402]
[{"$nulls":14},"新增SSR","是否进普池","系别","名称",null,"","",""]
["新增",{"$nulls":8},{"$f":"IF(AND($P7=1,$Q7=1),$O7,\"\")","v":{"$error":"#N/A"}},{"$f":"IF(AND($P7=1,$Q7=2),$O7,\"\")","v":{"$error":"#N/A"}},{"$f":"IF(AND($P7=1,$Q7=3),$O7,\"\")","v":{"$error":"#N/A"}},null,2001,3302,"",{"$f":"IF(O7=\"\",\"\",VLOOKUP(O7-3000,[2]HeroModelConfig!$A:$E,5,FALSE))","v":{"$error":"#N/A"}},{"$f":"IF(Q7=\"\",\"\",VLOOKUP(O7-3000,[2]HeroModelConfig!$A:$C,3,FALSE))","v":{"$error":"#N/A"}},null,{"$error":"#N/A"},{"$error":"#N/A"},{"$error":"#N/A"}]
[{"$nulls":9},{"$f":"IF(AND($P8=1,$Q8=1),$O8,\"\")","v":{"$error":"#N/A"}},{"$f":"IF(AND($P8=1,$Q8=2),$O8,\"\")","v":{"$error":"#N/A"}},{"$f":"IF(AND($P8=1,$Q8=3),$O8,\"\")","v":{"$error":"#N/A"}},null,2002,3204,"",{"$f":"IF(O8=\"\",\"\",VLOOKUP(O8-3000,[2]HeroModelConfig!$A:$E,5,FALSE))","v":{"$error":"#N/A"}},{"$f":"IF(Q8=\"\",\"\",VLOOKUP(O8-3000,[2]HeroModelConfig!$A:$C,3,FALSE))","v":{"$error":"#N/A"}},null,{"$error":"#N/A"},{"$error":"#N/A"},{"$error":"#N/A"}]
[{"$nulls":9},"","","",null,2003,"","",{"$f":"IF(O9=\"\",\"\",VLOOKUP(O9-3000,[2]HeroModelConfig!$A:$E,5,FALSE))","v":""},{"$f":"IF(Q9=\"\",\"\",VLOOKUP(O9-3000,[2]HeroModelConfig!$A:$C,3,FALSE))","v":""},null,"","",""]
[{"$nulls":9},"","","",null,2004,"","",{"$f":"IF(O10=\"\",\"\",VLOOKUP(O10-3000,[2]HeroModelConfig!$A:$E,5,FALSE))","v":""},{"$f":"IF(Q10=\"\",\"\",VLOOKUP(O10-3000,[2]HeroModelConfig!$A:$C,3,FALSE))","v":""},null,"","",""]
[{"$nulls":9},"","","",null,2005,"","",{"$f":"IF(O11=\"\",\"\",VLOOKUP(O11-3000,[2]HeroModelConfig!$A:$E,5,FALSE))","v":""},{"$f":"IF(Q11=\"\",\"\",VLOOKUP(O11-3000,[2]HeroModelConfig!$A:$C,3,FALSE))","v":""},null,"","",""]
[{"$nulls":9},"","","",null,2006,"","",{"$f":"IF(O12=\"\",\"\",VLOOKUP(O12-3000,[2]HeroModelConfig!$A:$E,5,FALSE))","v":""},{"$f":"IF(Q12=\"\",\"\",VLOOKUP(O12-3000,[2]HeroModelConfig!$A:$C,3,FALSE))","v":""},null,"","",""]
[{"$nulls":9},"","","",null,2007,"","",{"$f":"IF(O13=\"\",\"\",VLOOKUP(O13-3000,[2]HeroModelConfig!$A:$E,5,FALSE))","v":""},{"$f":"IF(Q13=\"\",\"\",VLOOKUP(O13-3000,[2]HeroModelConfig!$A:$C,3,FALSE))","v":""},null,"","",""]
[{"$nulls":9},"","","",null,2008,"","",{"$f":"IF(O14=\"\",\"\",VLOOKUP(O14-3000,[2]HeroModelConfig!$A:$E,5,FALSE))","v":""},{"$f":"IF(Q14=\"\",\"\",VLOOKUP(O14-3000,[2]HeroModelConfig!$A:$C,3,FALSE))","v":""},null,"","",""]
[{"$nulls":9},"","","",null,2009,"","",{"$f":"IF(O15=\"\",\"\",VLOOKUP(O15-3000,[2]HeroModelConfig!$A:$E,5,FALSE))","v":""},{"$f":"IF(Q15=\"\",\"\",VLOOKUP(O15-3000,[2]HeroModelConfig!$A:$C,3,FALSE))","v":""},null,"","",""]
[{"$nulls":9},"","","",null,2010,"","",{"$f":"IF(O16=\"\",\"\",VLOOKUP(O16-3000,[2]HeroModelConfig!$A:$E,5,FALSE))","v":""},{"$f":"IF(Q16=\"\",\"\",VLOOKUP(O16-3000,[2]HeroModelConfig!$A:$C,3,FALSE))","v":""},null,"","",""]
[{"$nulls":9},"","","",null,2011,"","",{"$f":"IF(O17=\"\",\"\",VLOOKUP(O17-3000,[2]HeroModelConfig!$A:$E,5,FALSE))","v":""},{"$f":"IF(Q17=\"\",\"\",VLOOKUP(O17-3000,[2]HeroModelConfig!$A:$C,3,FALSE))","v":""},null,"","",""]
[{"$nulls":9},"","","",null,2012,"","",{"$f":"IF(O18=\"\",\"\",VLOOKUP(O18-3000,[2]HeroModelConfig!$A:$E,5,FALSE))","v":""},{"$f":"IF(Q18=\"\",\"\",VLOOKUP(O18-3000,[2]HeroModelConfig!$A:$C,3,FALSE))","v":""},null,"","",""]
[{"$nulls":9},"","","",null,2013,"","",{"$f":"IF(O19=\"\",\"\",VLOOKUP(O19-3000,[2]HeroModelConfig!$A:$E,5,FALSE))","v":""},{"$f":"IF(Q19=\"\",\"\",VLOOKUP(O19-3000,[2]HeroModelConfig!$A:$C,3,FALSE))","v":""},null,"","",""]
[{"$nulls":9},"","","",null,2014,"","",{"$f":"IF(O20=\"\",\"\",VLOOKUP(O20-3000,[2]HeroModelConfig!$A:$E,5,FALSE))","v":""},{"$f":"IF(Q20=\"\",\"\",VLOOKUP(O20-3000,[2]HeroModelConfig!$A:$C,3,FALSE))","v":""},null,"","",""]
[{"$nulls":9},"","","",null,2015,"","",{"$f":"IF(O21=\"\",\"\",VLOOKUP(O21-3000,[2]HeroModelConfig!$A:$E,5,FALSE))","v":""},{"$f":"IF(Q21=\"\",\"\",VLOOKUP(O21-3000,[2]HeroModelConfig!$A:$C,3,FALSE))","v":""},null,"","",""]
[{"$nulls":9},"","","",null,2016,"","",{"$f":"IF(O22=\"\",\"\",VLOOKUP(O22-3000,[2]HeroModelConfig!$A:$E,5,FALSE))","v":""},{"$f":"IF(Q22=\"\",\"\",VLOOKUP(O22-3000,[2]HeroModelConfig!$A:$C,3,FALSE))","v":""},null,"","",""]
[{"$nulls":9},"","","",null,2017,"","",{"$f":"IF(O23=\"\",\"\",VLOOKUP(O23-3000,[2]HeroModelConfig!$A:$E,5,FALSE))","v":""},{"$f":"IF(Q23=\"\",\"\",VLOOKUP(O23-3000,[2]HeroModelConfig!$A:$C,3,FALSE))","v":""},null,"","",""]
[{"$nulls":9},"","","",null,2018,"","",{"$f":"IF(O24=\"\",\"\",VLOOKUP(O24-3000,[2]HeroModelConfig!$A:$E,5,FALSE))","v":""},{"$f":"IF(Q24=\"\",\"\",VLOOKUP(O24-3000,[2]HeroModelConfig!$A:$C,3,FALSE))","v":""},null,"","",""]
[{"$nulls":9},"","","",null,2019,"","",{"$f":"IF(O25=\"\",\"\",VLOOKUP(O25-3000,[2]HeroModelConfig!$A:$E,5,FALSE))","v":""},{"$f":"IF(Q25=\"\",\"\",VLOOKUP(O25-3000,[2]HeroModelConfig!$A:$C,3,FALSE))","v":""},null,"","",""]
[{"$nulls":9},"","","",null,2020,"","",{"$f":"IF(O26=\"\",\"\",VLOOKUP(O26-3000,[2]HeroModelConfig!$A:$E,5,FALSE))","v":""},{"$f":"IF(Q26=\"\",\"\",VLOOKUP(O26-3000,[2]HeroModelConfig!$A:$C,3,FALSE))","v":""},null,"","",""]
[{"$nulls":9},"","","",null,2021,"","",{"$f":"IF(O27=\"\",\"\",VLOOKUP(O27-3000,[2]HeroModelConfig!$A:$E,5,FALSE))","v":""},{"$f":"IF(Q27=\"\",\"\",VLOOKUP(O27-3000,[2]HeroModelConfig!$A:$C,3,FALSE))","v":""},null,"","",""]
[{"$nulls":9},"","","",null,2022,"","",{"$f":"IF(O28=\"\",\"\",VLOOKUP(O28-3000,[2]HeroModelConfig!$A:$E,5,FALSE))","v":""},{"$f":"IF(Q28=\"\",\"\",VLOOKUP(O28-3000,[2]HeroModelConfig!$A:$C,3,FALSE))","v":""},null,"","",""]
[{"$nulls":9},"","","",null,2023,"","",{"$f":"IF(O29=\"\",\"\",VLOOKUP(O29-3000,[2]HeroModelConfig!$A:$E,5,FALSE))","v":""},{"$f":"IF(Q29=\"\",\"\",VLOOKUP(O29-3000,[2]HeroModelConfig!$A:$C,3,FALSE))","v":""},null,"","",""]
[{"$nulls":9},"","","",null,2024,"","",{"$f":"IF(O30=\"\",\"\",VLOOKUP(O30-3000,[2]HeroModelConfig!$A:$E,5,FALSE))","v":""},{"$f":"IF(Q30=\"\",\"\",VLOOKUP(O30-3000,[2]HeroModelConfig!$A:$C,3,FALSE))","v":""},null,"","",""]
[{"$nulls":9},"","","",null,2025,"","",{"$f":"IF(O31=\"\",\"\",VLOOKUP(O31-3000,[2]HeroModelConfig!$A:$E,5,FALSE))","v":""},{"$f":"IF(Q31=\"\",\"\",VLOOKUP(O31-3000,[2]HeroModelConfig!$A:$C,3,FALSE))","v":""},null,"","",""]
[{"$nulls":9},"","","",null,2026,"","",{"$f":"IF(O32=\"\",\"\",VLOOKUP(O32-3000,[2]HeroModelConfig!$A:$E,5,FALSE))","v":""},{"$f":"IF(Q32=\"\",\"\",VLOOKUP(O32-3000,[2]HeroModelConfig!$A:$C,3,FALSE))","v":""},null,"","",""]
[{"$nulls":9},"","","",null,2027,"","",{"$f":"IF(O33=\"\",\"\",VLOOKUP(O33-3000,[2]HeroModelConfig!$A:$E,5,FALSE))","v":""},{"$f":"IF(Q33=\"\",\"\",VLOOKUP(O33-3000,[2]HeroModelConfig!$A:$C,3,FALSE))","v":""},null,"","",""]
[{"$nulls":9},"","","",null,2028,"","",{"$f":"IF(O34=\"\",\"\",VLOOKUP(O34-3000,[2]HeroModelConfig!$A:$E,5,FALSE))","v":""},{"$f":"IF(Q34=\"\",\"\",VLOOKUP(O34-3000,[2]HeroModelConfig!$A:$C,3,FALSE))","v":""},null,"","",""]
[{"$nulls":9},"","","",null,2029,"","",{"$f":"IF(O35=\"\",\"\",VLOOKUP(O35-3000,[2]HeroModelConfig!$A:$E,5,FALSE))","v":""},{"$f":"IF(Q35=\"\",\"\",VLOOKUP(O35-3000,[2]HeroModelConfig!$A:$C,3,FALSE))","v":""},null,"","",""]
[{"$nulls":9},"","","",null,2030,"","",{"$f":"IF(O36=\"\",\"\",VLOOKUP(O36-3000,[2]HeroModelConfig!$A:$E,5,FALSE))","v":""},{"$f":"IF(Q36=\"\",\"\",VLOOKUP(O36-3000,[2]HeroModelConfig!$A:$C,3,FALSE))","v":""},null,"","",""]