{"text_format":"2","workbook":"xlsx","n_sheets":1,"sheets":["HeroPowerUpConfig"],"not_rendered":{"charts":0,"images":0,"macros":0,"external_links":3,"defined_names":1,"comments":0,"pivot_tables":0},"unopened":[],"bounds":{"document_bytes":16777216,"sheet_cells":100000,"run_cost":"one","rows_first":2000,"rows_last":500,"rows_between":2000,"halvings":0,"cell_chars":16384,"cell_head_chars":4096},"cells_cut":0,"cells_raw":0,"read":"whole","date_system":"1900"}

{"sheet":"HeroPowerUpConfig","index":0,"n_rows":304,"n_cols":38,"rows_kept":304,"cut":false,"hidden":false,"merged":[]}
["ID","HeroLevel","jingjie1","jingjie2","jingjie3","jingjieLanIDs",{"$nulls":6},"levelUpExp","DujieLevelbattleID","DujieRateviaBattle","DujieMustItemIDs","DujieMustItemValues","DujieItemIDs","DujieItemValues","LeijieDamages","HPFactor","ATKFactor","DEFFactor","HudunFactor","defK","ShenshiMax","AutoXiuwei","FailureExpReduce","MaxActiveGongfaNum","MaxPassiveGongfaNum","MaxFabaoNum",{"$nulls":4},"MPFactor","DaoyouCount"]
["int","int","int","int","int","int[]",{"$nulls":6},"int","int","int","int[]","int[]","int[]","int[]","int[]","float","float","float","float","int","int","float","int","int","int","int",{"$nulls":4},"float","int"]
[{"$nulls":31},{"$f":"SUM(AF5:AF304)","v":1229974},{"$f":"AF3/60","v":20499.566666666666},{"$f":"AG3/60","v":341.65944444444443},{"$f":"AH3/12","v":28.471620370370371}]
["ID","玩家修为境界（等级）","大境界ID","中境界ID","小境界ID","境界语言表ID","境界名称1","境界名称2","境界名称3",null,null,null,"升级所需修为值\n（-1代表最大等级)","渡劫必须战斗ID","战斗增加渡劫几率","渡劫必需道具ID","渡劫必需道具数量","渡劫选有道具IDs","渡劫选有道具数量","雷劫伤害\n要填下限和上限","生命倍率","攻击倍率","防御倍率","护盾倍率","防御系数K","神识上限","每秒获得的修为值","雷劫失败扣除的当前等级修为百分比","主动功法可配置上限","被动功法可配置上限","法宝可配置上限","吐纳时长(s)","分钟","小时","天（每天12小时）","法力倍率","允许出现的最大挂机道友数量"]
[1,1,1,1,{"$f":"I5","v":1},{"$f":"_xlfn.TEXTJOIN(\";\",1,J5:L5)","v":"225;235;238"},"筑基期","前",1,225,235,238,{"$f":"[1]ResourceLevelConfig!$E5*10","v":1000},{"$f":"IF(I5=10,100004,-1)","v":-1},{"$f":"IF(N5=-1,-1,20)","v":-1},{"$f":"IF(I5=10,1002,-1)","v":-1},{"$f":"IF(P5=-1,-1,100)","v":-1},{"$f":"IF(I5=10,\"1001;1002;1004\",-1)","v":-1},{"$f":"IF(R5=-1,-1,\"100;200;300\")","v":-1},{"$f":"IF(G5=G6,0,CONCATENATE(80*ROUND(VLOOKUP(B5,[2]MonsterPowerUpConfig!$A:$I,9,FALSE),0),\";\",120*ROUND(VLOOKUP(B5,[2]MonsterPowerUpConfig!$A:$I,9,FALSE),0)))","v":0},{"$f":"[3]主表!J3","v":20.116666666666667},{"$f":"[3]主表!K3","v":1},{"$f":"[3]主表!L3","v":1},{"$f":"[3]主表!M3","v":0},{"$f":"[3]主表!$G3","v":105},{"$f":"[3]升级!$H3","v":1000},{"$f":"MAX(1,ROUND(100/(24*3600)*VLOOKUP(B5,[1]ResourceLevelConfig!$A:$E,5,FALSE),2))","v":1},-1,2,0,1,{"$f":"ROUND(10^(B5*0.01+2.07),0)","v":120},null,{"$f":"50*W5","v":50},null,1,1,1]
[2,2,1,1,{"$f":"I6","v":2},{"$f":"_xlfn.TEXTJOIN(\";\",1,J6:L6)","v":"225;235;239"},"筑基期","前",2,225,235,239,{"$f":"[1]ResourceLevelConfig!$E6*10","v":1100},{"$f":"IF(I6=10,100004,-1)","v":-1},{"$f":"IF(N6=-1,-1,20)","v":-1},{"$f":"IF(I6=10,1002,-1)","v":-1},{"$f":"IF(P6=-1,-1,100)","v":-1},{"$f":"IF(I6=10,\"1001;1002;1004\",-1)","v":-1},{"$f":"IF(R6=-1,-1,\"100;200;300\")","v":-1},{"$f":"IF(G6=G7,0,CONCATENATE(80*ROUND(VLOOKUP(B6,[2]MonsterPowerUpConfig!$A:$I,9,FALSE),0),\";\",120*ROUND(VLOOKUP(B6,[2]MonsterPowerUpConfig!$A:$I,9,FALSE),0)))","v":0},{"$f":"[3]主表!J4","v":20.638000000000002},{"$f":"[3]主表!K4","v":1.02},{"$f":"[3]主表!L4","v":1.02},{"$f":"[3]主表!M4","v":0},{"$f":"[3]主表!$G4","v":107},{"$f":"[3]升级!$H4","v":1000},{"$f":"MAX(1,ROUND(100/(24*3600)*VLOOKUP(B6,[1]ResourceLevelConfig!$A:$E,5,FALSE),2))","v":1},-1,{"$f":"AC5","v":2},{"$f":"AD5","v":0},1,{"$f":"MAX(AF5+10,ROUND(10^(B6*0.01+1.405),0))","v":130},null,51,null,1,1,2]
[3,3,1,1,3,"225;235;240","筑基期","前",3,225,235,240,{"$f":"[1]ResourceLevelConfig!$E7*10","v":1200},-1,-1,-1,-1,-1,-1,{"$f":"IF(G7=G8,0,CONCATENATE(80*ROUND(VLOOKUP(B7,[2]MonsterPowerUpConfig!$A:$I,9,FALSE),0),\";\",120*ROUND(VLOOKUP(B7,[2]MonsterPowerUpConfig!$A:$I,9,FALSE),0)))","v":0},{"$f":"[3]主表!J5","v":21.164000000000001},{"$f":"[3]主表!K5","v":1.04},{"$f":"[3]主表!L5","v":1.04},{"$f":"[3]主表!M5","v":0},{"$f":"[3]主表!$G5","v":109},{"$f":"[3]升级!$H5","v":1000},{"$f":"MAX(1,ROUND(100/(24*3600)*VLOOKUP(B7,[1]ResourceLevelConfig!$A:$E,5,FALSE),2))","v":1},-1,{"$f":"AC6","v":2},{"$f":"AD6","v":0},{"$f":"AE6","v":1},140,null,52,null,1,1,3]
[4,4,1,1,4,"225;235;241","筑基期","前",4,225,235,241,{"$f":"[1]ResourceLevelConfig!$E8*10","v":1300},-1,-1,-1,-1,-1,-1,{"$f":"IF(G8=G9,0,CONCATENATE(80*ROUND(VLOOKUP(B8,[2]MonsterPowerUpConfig!$A:$I,9,FALSE),0),\";\",120*ROUND(VLOOKUP(B8,[2]MonsterPowerUpConfig!$A:$I,9,FALSE),0)))","v":0},{"$f":"[3]主表!J6","v":21.69466666666667},{"$f":"[3]主表!K6","v":1.06},{"$f":"[3]主表!L6","v":1.06},{"$f":"[3]主表!M6","v":0},{"$f":"[3]主表!$G6","v":111},{"$f":"[3]升级!$H6","v":1000},{"$f":"MAX(1,ROUND(100/(24*3600)*VLOOKUP(B8,[1]ResourceLevelConfig!$A:$E,5,FALSE),2))","v":1},-1,2,0,1,150,null,53,null,1,1,4]
[5,5,1,1,5,"225;235;242","筑基期","前",5,225,235,242,{"$f":"[1]ResourceLevelConfig!$E9*10","v":1400},-1,-1,-1,-1,-1,-1,{"$f":"IF(G9=G10,0,CONCATENATE(80*ROUND(VLOOKUP(B9,[2]MonsterPowerUpConfig!$A:$I,9,FALSE),0),\";\",120*ROUND(VLOOKUP(B9,[2]MonsterPowerUpConfig!$A:$I,9,FALSE),0)))","v":0},{"$f":"[3]主表!J7","v":22.229999999999997},{"$f":"[3]主表!K7","v":1.08},{"$f":"[3]主表!L7","v":1.08},{"$f":"[3]主表!M7","v":0},{"$f":"[3]主表!$G7","v":113},{"$f":"[3]升级!$H7","v":1000},{"$f":"MAX(1,ROUND(100/(24*3600)*VLOOKUP(B9,[1]ResourceLevelConfig!$A:$E,5,FALSE),2))","v":1},-1,2,0,1,160,null,54,null,1,1,5]
[6,6,1,1,6,"225;235;243","筑基期","前",6,225,235,243,{"$f":"[1]ResourceLevelConfig!$E10*10","v":1500},-1,-1,-1,-1,-1,-1,{"$f":"IF(G10=G11,0,CONCATENATE(80*ROUND(VLOOKUP(B10,[2]MonsterPowerUpConfig!$A:$I,9,FALSE),0),\";\",120*ROUND(VLOOKUP(B10,[2]MonsterPowerUpConfig!$A:$I,9,FALSE),0)))","v":0},{"$f":"[3]主表!J8","v":22.770000000000003},{"$f":"[3]主表!K8","v":1.1000000000000001},{"$f":"[3]主表!L8","v":1.1000000000000001},{"$f":"[3]主表!M8","v":0},{"$f":"[3]主表!$G8","v":115},{"$f":"[3]升级!$H8","v":1000},{"$f":"MAX(1,ROUND(100/(24*3600)*VLOOKUP(B10,[1]ResourceLevelConfig!$A:$E,5,FALSE),2))","v":1},-1,2,0,1,170,null,55.000000000000007,null,1,1,6]
[7,7,1,1,7,"225;235;244","筑基期","前",7,225,235,244,{"$f":"[1]ResourceLevelConfig!$E11*10","v":1600},-1,-1,-1,-1,-1,-1,{"$f":"IF(G11=G12,0,CONCATENATE(80*ROUND(VLOOKUP(B11,[2]MonsterPowerUpConfig!$A:$I,9,FALSE),0),\";\",120*ROUND(VLOOKUP(B11,[2]MonsterPowerUpConfig!$A:$I,9,FALSE),0)))","v":0},{"$f":"[3]主表!J9","v":23.314666666666668},{"$f":"[3]主表!K9","v":1.1200000000000001},{"$f":"[3]主表!L9","v":1.1200000000000001},{"$f":"[3]主表!M9","v":0},{"$f":"[3]主表!$G9","v":117},{"$f":"[3]升级!$H9","v":1000},{"$f":"MAX(1,ROUND(100/(24*3600)*VLOOKUP(B11,[1]ResourceLevelConfig!$A:$E,5,FALSE),2))","v":1},-1,2,0,1,180,null,56.000000000000007,null,1,1,7]
[8,8,1,1,8,"225;235;245","筑基期","前",8,225,235,245,{"$f":"[1]ResourceLevelConfig!$E12*10","v":1700},-1,-1,-1,-1,-1,-1,{"$f":"IF(G12=G13,0,CONCATENATE(80*ROUND(VLOOKUP(B12,[2]MonsterPowerUpConfig!$A:$I,9,FALSE),0),\";\",120*ROUND(VLOOKUP(B12,[2]MonsterPowerUpConfig!$A:$I,9,FALSE),0)))","v":0},{"$f":"[3]主表!J10","v":23.863999999999997},{"$f":"[3]主表!K10","v":1.1399999999999999},{"$f":"[3]主表!L10","v":1.1399999999999999},{"$f":"[3]主表!M10","v":0},{"$f":"[3]主表!$G10","v":119},{"$f":"[3]升级!$H10","v":1000},{"$f":"MAX(1,ROUND(100/(24*3600)*VLOOKUP(B12,[1]ResourceLevelConfig!$A:$E,5,FALSE),2))","v":1},-1,2,0,1,190,null,56.999999999999993,null,1,1,8]
[9,9,1,1,9,"225;235;246","筑基期","前",9,225,235,246,{"$f":"[1]ResourceLevelConfig!$E13*10","v":1800},-1,-1,-1,-1,-1,-1,{"$f":"IF(G13=G14,0,CONCATENATE(80*ROUND(VLOOKUP(B13,[2]MonsterPowerUpConfig!$A:$I,9,FALSE),0),\";\",120*ROUND(VLOOKUP(B13,[2]MonsterPowerUpConfig!$A:$I,9,FALSE),0)))","v":0},{"$f":"[3]主表!J11","v":24.417999999999999},{"$f":"[3]主表!K11","v":1.1599999999999999},{"$f":"[3]主表!L11","v":1.1599999999999999},{"$f":"[3]主表!M11","v":0},{"$f":"[3]主表!$G11","v":121},{"$f":"[3]升级!$H11","v":1000},{"$f":"MAX(1,ROUND(100/(24*3600)*VLOOKUP(B13,[1]ResourceLevelConfig!$A:$E,5,FALSE),2))","v":1},-1,2,0,1,200,null,57.999999999999993,null,1,1,9]
[10,10,1,1,10,"225;235;247","筑基期","前",10,225,235,247,{"$f":"[1]ResourceLevelConfig!$E14*10","v":1900},100004,20,1301,1,1301,1,{"$f":"IF(G14=G15,0,CONCATENATE(80*ROUND(VLOOKUP(B14,[2]MonsterPowerUpConfig!$A:$I,9,FALSE),0),\";\",120*ROUND(VLOOKUP(B14,[2]MonsterPowerUpConfig!$A:$I,9,FALSE),0)))","v":0},{"$f":"[3]主表!J12","v":25.823333333333331},{"$f":"[3]主表!K12","v":1.22},{"$f":"[3]主表!L12","v":1.22},{"$f":"[3]主表!M12","v":0},{"$f":"[3]主表!$G12","v":127},{"$f":"[3]升级!$H12","v":1000},{"$f":"MAX(1,ROUND(100/(24*3600)*VLOOKUP(B14,[1]ResourceLevelConfig!$A:$E,5,FALSE),2))","v":1},20,{"$f":"AC13","v":2},0,1,210,null,61,null,1,1,10]
[11,11,1,2,1,"225;236;238","筑基期","中",1,225,236,238,{"$f":"[1]ResourceLevelConfig!$E15*10","v":2000},-1,-1,-1,-1,-1,-1,{"$f":"IF(G15=G16,0,CONCATENATE(80*ROUND(VLOOKUP(B15,[2]MonsterPowerUpConfig!$A:$I,9,FALSE),0),\";\",120*ROUND(VLOOKUP(B15,[2]MonsterPowerUpConfig!$A:$I,9,FALSE),0)))","v":0},{"$f":"[3]主表!J13","v":26.391333333333336},{"$f":"[3]主表!K13","v":1.24},{"$f":"[3]主表!L13","v":1.24},{"$f":"[3]主表!M13","v":0},{"$f":"[3]主表!$G13","v":131},{"$f":"[3]升级!$H13","v":1000},{"$f":"MAX(1,ROUND(100/(24*3600)*VLOOKUP(B15,[1]ResourceLevelConfig!$A:$E,5,FALSE),2))","v":1},-1,2,1,1,220,null,null,null,1,1,11]
[12,12,1,2,2,"225;236;239","筑基期","中",2,225,236,239,{"$f":"[1]ResourceLevelConfig!$E16*10","v":2100},-1,-1,-1,-1,-1,-1,{"$f":"IF(G16=G17,0,CONCATENATE(80*ROUND(VLOOKUP(B16,[2]MonsterPowerUpConfig!$A:$I,9,FALSE),0),\";\",120*ROUND(VLOOKUP(B16,[2]MonsterPowerUpConfig!$A:$I,9,FALSE),0)))","v":0},{"$f":"[3]主表!J14","v":26.964000000000002},{"$f":"[3]主表!K14","v":1.26},{"$f":"[3]主表!L14","v":1.26},{"$f":"[3]主表!M14","v":0},{"$f":"[3]主表!$G14","v":133},{"$f":"[3]升级!$H14","v":1000},{"$f":"MAX(1,ROUND(100/(24*3600)*VLOOKUP(B16,[1]ResourceLevelConfig!$A:$E,5,FALSE),2))","v":1},-1,{"$f":"AC15","v":2},{"$f":"AD15","v":1},1,230,null,null,null,1,1,12]
[13,13,1,2,3,"225;236;240","筑基期","中",3,225,236,240,{"$f":"[1]ResourceLevelConfig!$E17*10","v":2200},-1,-1,-1,-1,-1,-1,{"$f":"IF(G17=G18,0,CONCATENATE(80*ROUND(VLOOKUP(B17,[2]MonsterPowerUpConfig!$A:$I,9,FALSE),0),\";\",120*ROUND(VLOOKUP(B17,[2]MonsterPowerUpConfig!$A:$I,9,FALSE),0)))","v":0},{"$f":"[3]主表!J15","v":27.541333333333338},{"$f":"[3]主表!K15","v":1.28},{"$f":"[3]主表!L15","v":1.28},{"$f":"[3]主表!M15","v":0},{"$f":"[3]主表!$G15","v":135},{"$f":"[3]升级!$H15","v":1000},{"$f":"MAX(1,ROUND(100/(24*3600)*VLOOKUP(B17,[1]ResourceLevelConfig!$A:$E,5,FALSE),2))","v":1},-1,{"$f":"AC16","v":2},{"$f":"AD16","v":1},{"$f":"AE16","v":1},240,null,null,null,1,1,13]
[14,14,1,2,4,"225;236;241","筑基期","中",4,225,236,241,{"$f":"[1]ResourceLevelConfig!$E18*10","v":2300},-1,-1,-1,-1,-1,-1,{"$f":"IF(G18=G19,0,CONCATENATE(80*ROUND(VLOOKUP(B18,[2]MonsterPowerUpConfig!$A:$I,9,FALSE),0),\";\",120*ROUND(VLOOKUP(B18,[2]MonsterPowerUpConfig!$A:$I,9,FALSE),0)))","v":0},{"$f":"[3]主表!J16","v":28.123333333333331},{"$f":"[3]主表!K16","v":1.3},{"$f":"[3]主表!L16","v":1.3},{"$f":"[3]主表!M16","v":0},{"$f":"[3]主表!$G16","v":137},{"$f":"[3]升级!$H16","v":1000},{"$f":"MAX(1,ROUND(100/(24*3600)*VLOOKUP(B18,[1]ResourceLevelConfig!$A:$E,5,FALSE),2))","v":1},-1,2,1,1,250,null,null,null,1,1,14]
[15,15,1,2,5,"225;236;242","筑基期","中",5,225,236,242,{"$f":"[1]ResourceLevelConfig!$E19*10","v":2400},-1,-1,-1,-1,-1,-1,{"$f":"IF(G19=G20,0,CONCATENATE(80*ROUND(VLOOKUP(B19,[2]MonsterPowerUpConfig!$A:$I,9,FALSE),0),\";\",120*ROUND(VLOOKUP(B19,[2]MonsterPowerUpConfig!$A:$I,9,FALSE),0)))","v":0},{"$f":"[3]主表!J17","v":28.71},{"$f":"[3]主表!K17","v":1.32},{"$f":"[3]主表!L17","v":1.32},{"$f":"[3]主表!M17","v":0},{"$f":"[3]主表!$G17","v":139},{"$f":"[3]升级!$H17","v":1000},{"$f":"MAX(1,ROUND(100/(24*3600)*VLOOKUP(B19,[1]ResourceLevelConfig!$A:$E,5,FALSE),2))","v":1},-1,2,1,1,260,null,null,null,1,1,15]
[16,16,1,2,6,"225;236;243","筑基期","中",6,225,236,243,{"$f":"[1]ResourceLevelConfig!$E20*10","v":2500},-1,-1,-1,-1,-1,-1,{"$f":"IF(G20=G21,0,CONCATENATE(80*ROUND(VLOOKUP(B20,[2]MonsterPowerUpConfig!$A:$I,9,FALSE),0),\";\",120*ROUND(VLOOKUP(B20,[2]MonsterPowerUpConfig!$A:$I,9,FALSE),0)))","v":0},{"$f":"[3]主表!J18","v":29.301333333333336},{"$f":"[3]主表!K18","v":1.34},{"$f":"[3]主表!L18","v":1.34},{"$f":"[3]主表!M18","v":0},{"$f":"[3]主表!$G18","v":141},{"$f":"[3]升级!$H18","v":1000},{"$f":"MAX(1,ROUND(100/(24*3600)*VLOOKUP(B20,[1]ResourceLevelConfig!$A:$E,5,FALSE),2))","v":1},-1,2,1,1,270,null,null,null,1,1,16]
[17,17,1,2,7,"225;236;244","筑基期","中",7,225,236,244,{"$f":"[1]ResourceLevelConfig!$E21*10","v":2600},-1,-1,-1,-1,-1,-1,{"$f":"IF(G21=G22,0,CONCATENATE(80*ROUND(VLOOKUP(B21,[2]MonsterPowerUpConfig!$A:$I,9,FALSE),0),\";\",120*ROUND(VLOOKUP(B21,[2]MonsterPowerUpConfig!$A:$I,9,FALSE),0)))","v":0},{"$f":"[3]主表!J19","v":29.897333333333336},{"$f":"[3]主表!K19","v":1.36},{"$f":"[3]主表!L19","v":1.36},{"$f":"[3]主表!M19","v":0},{"$f":"[3]主表!$G19","v":143},{"$f":"[3]升级!$H19","v":1000},{"$f":"MAX(1,ROUND(100/(24*3600)*VLOOKUP(B21,[1]ResourceLevelConfig!$A:$E,5,FALSE),2))","v":1},-1,2,1,1,280,null,null,null,1,1,17]
[18,18,1,2,8,"225;236;245","筑基期","中",8,225,236,245,{"$f":"[1]ResourceLevelConfig!$E22*10","v":2700},-1,-1,-1,-1,-1,-1,{"$f":"IF(G22=G23,0,CONCATENATE(80*ROUND(VLOOKUP(B22,[2]MonsterPowerUpConfig!$A:$I,9,FALSE),0),\";\",120*ROUND(VLOOKUP(B22,[2]MonsterPowerUpConfig!$A:$I,9,FALSE),0)))","v":0},{"$f":"[3]主表!J20","v":30.497999999999998},{"$f":"[3]主表!K20","v":1.38},{"$f":"[3]主表!L20","v":1.38},{"$f":"[3]主表!M20","v":0},{"$f":"[3]主表!$G20","v":146},{"$f":"[3]升级!$H20","v":1000},{"$f":"MAX(1,ROUND(100/(24*3600)*VLOOKUP(B22,[1]ResourceLevelConfig!$A:$E,5,FALSE),2))","v":1},-1,2,1,1,290,null,null,null,1,1,18]
[19,19,1,2,9,"225;236;246","筑基期","中",9,225,236,246,{"$f":"[1]ResourceLevelConfig!$E23*10","v":2800},-1,-1,-1,-1,-1,-1,{"$f":"IF(G23=G24,0,CONCATENATE(80*ROUND(VLOOKUP(B23,[2]MonsterPowerUpConfig!$A:$I,9,FALSE),0),\";\",120*ROUND(VLOOKUP(B23,[2]MonsterPowerUpConfig!$A:$I,9,FALSE),0)))","v":0},{"$f":"[3]主表!J21","v":31.103333333333332},{"$f":"[3]主表!K21","v":1.4},{"$f":"[3]主表!L21","v":1.4},{"$f":"[3]主表!M21","v":0},{"$f":"[3]主表!$G21","v":148},{"$f":"[3]升级!$H21","v":1000},{"$f":"MAX(1,ROUND(100/(24*3600)*VLOOKUP(B23,[1]ResourceLevelConfig!$A:$E,5,FALSE),2))","v":1},-1,2,1,1,300,null,null,null,1,1,19]
[20,20,1,2,10,"225;236;247","筑基期","中",10,225,236,247,{"$f":"[1]ResourceLevelConfig!$E24*10","v":2900},100004,20,1301,1,"1301;1302","1;1",{"$f":"IF(G24=G25,0,CONCATENATE(80*ROUND(VLOOKUP(B24,[2]MonsterPowerUpConfig!$A:$I,9,FALSE),0),\";\",120*ROUND(VLOOKUP(B24,[2]MonsterPowerUpConfig!$A:$I,9,FALSE),0)))","v":0},{"$f":"[3]主表!J22","v":33.5},{"$f":"[3]主表!K22","v":1.5},{"$f":"[3]主表!L22","v":1.5},{"$f":"[3]主表!M22","v":0},{"$f":"[3]主表!$G22","v":158},{"$f":"[3]升级!$H22","v":1000},{"$f":"MAX(1,ROUND(100/(24*3600)*VLOOKUP(B24,[1]ResourceLevelConfig!$A:$E,5,FALSE),2))","v":1},20,2,1,1,310,null,null,null,1,1,20]
[21,21,1,3,1,"225;237;238","筑基期","后",1,225,237,238,{"$f":"[1]ResourceLevelConfig!$E25*10","v":3000},-1,-1,-1,-1,-1,-1,{"$f":"IF(G25=G26,0,CONCATENATE(80*ROUND(VLOOKUP(B25,[2]MonsterPowerUpConfig!$A:$I,9,FALSE),0),\";\",120*ROUND(VLOOKUP(B25,[2]MonsterPowerUpConfig!$A:$I,9,FALSE),0)))","v":0},{"$f":"[3]主表!J23","v":34.124000000000002},{"$f":"[3]主表!K23","v":1.52},{"$f":"[3]主表!L23","v":1.52},{"$f":"[3]主表!M23","v":0},{"$f":"[3]主表!$G23","v":170},{"$f":"[3]升级!$H23","v":1000},{"$f":"MAX(1,ROUND(100/(24*3600)*VLOOKUP(B25,[1]ResourceLevelConfig!$A:$E,5,FALSE),2))","v":1},-1,3,1,1,320,null,null,null,1,1,21]
[22,22,1,3,2,"225;237;239","筑基期","后",2,225,237,239,{"$f":"[1]ResourceLevelConfig!$E26*10","v":3100},-1,-1,-1,-1,-1,-1,{"$f":"IF(G26=G27,0,CONCATENATE(80*ROUND(VLOOKUP(B26,[2]MonsterPowerUpConfig!$A:$I,9,FALSE),0),\";\",120*ROUND(VLOOKUP(B26,[2]MonsterPowerUpConfig!$A:$I,9,FALSE),0)))","v":0},{"$f":"[3]主表!J24","v":34.75266666666667},{"$f":"[3]主表!K24","v":1.54},{"$f":"[3]主表!L24","v":1.54},{"$f":"[3]主表!M24","v":0},{"$f":"[3]主表!$G24","v":172},{"$f":"[3]升级!$H24","v":1000},{"$f":"MAX(1,ROUND(100/(24*3600)*VLOOKUP(B26,[1]ResourceLevelConfig!$A:$E,5,FALSE),2))","v":1},-1,{"$f":"AC25","v":3},{"$f":"AD25","v":1},{"$f":"AE25","v":1},330,null,null,null,1,1,22]
[23,23,1,3,3,"225;237;240","筑基期","后",3,225,237,240,{"$f":"[1]ResourceLevelConfig!$E27*10","v":3200},-1,-1,-1,-1,-1,-1,{"$f":"IF(G27=G28,0,CONCATENATE(80*ROUND(VLOOKUP(B27,[2]MonsterPowerUpConfig!$A:$I,9,FALSE),0),\";\",120*ROUND(VLOOKUP(B27,[2]MonsterPowerUpConfig!$A:$I,9,FALSE),0)))","v":0},{"$f":"[3]主表!J25","v":35.839666666666673},{"$f":"[3]主表!K25","v":1.58},{"$f":"[3]主表!L25","v":1.58},{"$f":"[3]主表!M25","v":0},{"$f":"[3]主表!$G25","v":176},{"$f":"[3]升级!$H25","v":1000},{"$f":"MAX(1,ROUND(100/(24*3600)*VLOOKUP(B27,[1]ResourceLevelConfig!$A:$E,5,FALSE),2))","v":1},-1,{"$f":"AC26","v":3},1,1,340,null,null,null,1,1,23]
[24,24,1,3,4,"225;237;241","筑基期","后",4,225,237,241,{"$f":"[1]ResourceLevelConfig!$E28*10","v":3300},-1,-1,-1,-1,-1,-1,{"$f":"IF(G28=G29,0,CONCATENATE(80*ROUND(VLOOKUP(B28,[2]MonsterPowerUpConfig!$A:$I,9,FALSE),0),\";\",120*ROUND(VLOOKUP(B28,[2]MonsterPowerUpConfig!$A:$I,9,FALSE),0)))","v":0},{"$f":"[3]主表!J26","v":36.480000000000004},{"$f":"[3]主表!K26","v":1.6},{"$f":"[3]主表!L26","v":1.6},{"$f":"[3]主表!M26","v":0},{"$f":"[3]主表!$G26","v":179},{"$f":"[3]升级!$H26","v":1000},{"$f":"MAX(1,ROUND(100/(24*3600)*VLOOKUP(B28,[1]ResourceLevelConfig!$A:$E,5,FALSE),2))","v":1},-1,3,1,1,350,null,null,null,1,1,24]
[25,25,1,3,5,"225;237;242","筑基期","后",5,225,237,242,{"$f":"[1]ResourceLevelConfig!$E29*10","v":3400},-1,-1,-1,-1,-1,-1,{"$f":"IF(G29=G30,0,CONCATENATE(80*ROUND(VLOOKUP(B29,[2]MonsterPowerUpConfig!$A:$I,9,FALSE),0),\";\",120*ROUND(VLOOKUP(B29,[2]MonsterPowerUpConfig!$A:$I,9,FALSE),0)))","v":0},{"$f":"[3]主表!J27","v":37.125},{"$f":"[3]主表!K27","v":1.62},{"$f":"[3]主表!L27","v":1.62},{"$f":"[3]主表!M27","v":0},{"$f":"[3]主表!$G27","v":181},{"$f":"[3]升级!$H27","v":1000},{"$f":"MAX(1,ROUND(100/(24*3600)*VLOOKUP(B29,[1]ResourceLevelConfig!$A:$E,5,FALSE),2))","v":1},-1,3,1,1,360,null,null,null,1,1,25]
[26,26,1,3,6,"225;237;243","筑基期","后",6,225,237,243,{"$f":"[1]ResourceLevelConfig!$E30*10","v":3500},-1,-1,-1,-1,-1,-1,{"$f":"IF(G30=G31,0,CONCATENATE(80*ROUND(VLOOKUP(B30,[2]MonsterPowerUpConfig!$A:$I,9,FALSE),0),\";\",120*ROUND(VLOOKUP(B30,[2]MonsterPowerUpConfig!$A:$I,9,FALSE),0)))","v":0},{"$f":"[3]主表!J28","v":38.23533333333333},{"$f":"[3]主表!K28","v":1.66},{"$f":"[3]主表!L28","v":1.66},{"$f":"[3]主表!M28","v":0},{"$f":"[3]主表!$G28","v":185},{"$f":"[3]升级!$H28","v":1000},{"$f":"MAX(1,ROUND(100/(24*3600)*VLOOKUP(B30,[1]ResourceLevelConfig!$A:$E,5,FALSE),2))","v":1},-1,3,1,1,370,null,null,null,1,1,26]
[27,27,1,3,7,"225;237;244","筑基期","后",7,225,237,244,{"$f":"[1]ResourceLevelConfig!$E31*10","v":3600},-1,-1,-1,-1,-1,-1,{"$f":"IF(G31=G32,0,CONCATENATE(80*ROUND(VLOOKUP(B31,[2]MonsterPowerUpConfig!$A:$I,9,FALSE),0),\";\",120*ROUND(VLOOKUP(B31,[2]MonsterPowerUpConfig!$A:$I,9,FALSE),0)))","v":0},{"$f":"[3]主表!J29","v":38.891999999999996},{"$f":"[3]主表!K29","v":1.68},{"$f":"[3]主表!L29","v":1.68},{"$f":"[3]主表!M29","v":0},{"$f":"[3]主表!$G29","v":188},{"$f":"[3]升级!$H29","v":1000},{"$f":"MAX(1,ROUND(100/(24*3600)*VLOOKUP(B31,[1]ResourceLevelConfig!$A:$E,5,FALSE),2))","v":1},-1,3,1,1,380,null,null,null,1,1,27]
[28,28,1,3,8,"225;237;245","筑基期","后",8,225,237,245,{"$f":"[1]ResourceLevelConfig!$E32*10","v":3700},-1,-1,-1,-1,-1,-1,{"$f":"IF(G32=G33,0,CONCATENATE(80*ROUND(VLOOKUP(B32,[2]MonsterPowerUpConfig!$A:$I,9,FALSE),0),\";\",120*ROUND(VLOOKUP(B32,[2]MonsterPowerUpConfig!$A:$I,9,FALSE),0)))","v":0},{"$f":"[3]主表!J30","v":39.553333333333335},{"$f":"[3]主表!K30","v":1.7},{"$f":"[3]主表!L30","v":1.7},{"$f":"[3]主表!M30","v":0},{"$f":"[3]主表!$G30","v":190},{"$f":"[3]升级!$H30","v":1000},{"$f":"MAX(1,ROUND(100/(24*3600)*VLOOKUP(B32,[1]ResourceLevelConfig!$A:$E,5,FALSE),2))","v":1},-1,3,1,1,390,null,null,null,1,1,28]
[29,29,1,3,9,"225;237;246","筑基期","后",9,225,237,246,{"$f":"[1]ResourceLevelConfig!$E33*10","v":3800},-1,-1,-1,-1,-1,-1,{"$f":"IF(G33=G34,0,CONCATENATE(80*ROUND(VLOOKUP(B33,[2]MonsterPowerUpConfig!$A:$I,9,FALSE),0),\";\",120*ROUND(VLOOKUP(B33,[2]MonsterPowerUpConfig!$A:$I,9,FALSE),0)))","v":0},{"$f":"[3]主表!J31","v":40.686999999999998},{"$f":"[3]主表!K31","v":1.74},{"$f":"[3]主表!L31","v":1.74},{"$f":"[3]主表!M31","v":0},{"$f":"[3]主表!$G31","v":195},{"$f":"[3]升级!$H31","v":1000},{"$f":"MAX(1,ROUND(100/(24*3600)*VLOOKUP(B33,[1]ResourceLevelConfig!$A:$E,5,FALSE),2))","v":1},-1,3,1,1,400,null,null,null,1,1,29]
[30,30,1,3,10,"225;237;247","筑基期","后",10,225,237,247,{"$f":"[1]ResourceLevelConfig!$E34*10","v":3900},100004,20,1301,1,"1301;1302;1303","1;1;1",{"$f":"IF(G34=G35,0,CONCATENATE(\"1;1\"))","v":"1;1"},{"$f":"[3]主表!J32","v":46.06},{"$f":"[3]主表!K32","v":1.96},{"$f":"[3]主表!L32","v":1.96},{"$f":"[3]主表!M32","v":0},{"$f":"[3]主表!$G32","v":218},{"$f":"[3]升级!$H32","v":1000},{"$f":"MAX(1,ROUND(100/(24*3600)*VLOOKUP(B34,[1]ResourceLevelConfig!$A:$E,5,FALSE),2))","v":1},50,3,1,1,410,null,null,null,1,1,30]
[31,31,2,4,1,"226;235;238","金丹期","前",1,226,235,238,{"$f":"[1]ResourceLevelConfig!$E35*10","v":4000},-1,-1,-1,-1,{"$f":"IF(I35=10,\"1001;1002;1004\",-1)","v":-1},{"$f":"IF(R35=-1,-1,\"100;200;300\")","v":-1},{"$f":"IF(G35=G36,0,CONCATENATE(\"1;1\"))","v":0},{"$f":"[3]主表!J33","v":47.233333333333334},{"$f":"[3]主表!K33","v":2},{"$f":"[3]主表!L33","v":2},{"$f":"[3]主表!M33","v":0},{"$f":"[3]主表!$G33","v":227},{"$f":"[3]升级!$H33","v":1100},{"$f":"MAX(1,ROUND(100/(24*3600)*VLOOKUP(B35,[1]ResourceLevelConfig!$A:$E,5,FALSE),2))","v":1},-1,3,2,1,420,null,null,null,1,1,31]
[32,32,2,4,2,"226;235;239","金丹期","前",2,226,235,239,{"$f":"[1]ResourceLevelConfig!$E36*10","v":4100},-1,-1,-1,-1,{"$f":"IF(I36=10,\"1001;1002;1004\",-1)","v":-1},-1,0,{"$f":"[3]主表!J34","v":48.416000000000004},{"$f":"[3]主表!K34","v":2.04},{"$f":"[3]主表!L34","v":2.04},{"$f":"[3]主表!M34","v":0},{"$f":"[3]主表!$G34","v":232},{"$f":"[3]升级!$H34","v":1100},{"$f":"MAX(1,ROUND(100/(24*3600)*VLOOKUP(B36,[1]ResourceLevelConfig!$A:$E,5,FALSE),2))","v":1},-1,{"$f":"AC35","v":3},{"$f":"AD35","v":2},{"$f":"AE35","v":1},430,null,null,null,1,1,32]
[33,33,2,4,3,"226;235;240","金丹期","前",3,226,235,240,{"$f":"[1]ResourceLevelConfig!$E37*10","v":4200},-1,-1,-1,-1,-1,-1,0,{"$f":"[3]主表!J35","v":49.131},{"$f":"[3]主表!K35","v":2.06},{"$f":"[3]主表!L35","v":2.06},{"$f":"[3]主表!M35","v":0},{"$f":"[3]主表!$G35","v":235},{"$f":"[3]升级!$H35","v":1100},{"$f":"MAX(1,ROUND(100/(24*3600)*VLOOKUP(B37,[1]ResourceLevelConfig!$A:$E,5,FALSE),2))","v":1},-1,{"$f":"AC36","v":3},2,1,440,null,null,null,1,1,33]
[34,34,2,4,4,"226;235;241","金丹期","前",4,226,235,241,{"$f":"[1]ResourceLevelConfig!$E38*10","v":4300},-1,-1,-1,-1,-1,-1,0,{"$f":"[3]主表!J36","v":50.33},{"$f":"[3]主表!K36","v":2.1},{"$f":"[3]主表!L36","v":2.1},{"$f":"[3]主表!M36","v":0},{"$f":"[3]主表!$G36","v":240},{"$f":"[3]升级!$H36","v":1100},{"$f":"MAX(1,ROUND(100/(24*3600)*VLOOKUP(B38,[1]ResourceLevelConfig!$A:$E,5,FALSE),2))","v":1},-1,3,2,1,450,null,null,null,1,1,34]
[35,35,2,4,5,"226;235;242","金丹期","前",5,226,235,242,{"$f":"[1]ResourceLevelConfig!$E39*10","v":4400},-1,-1,-1,-1,-1,-1,0,{"$f":"[3]主表!J37","v":51.538333333333327},{"$f":"[3]主表!K37","v":2.14},{"$f":"[3]主表!L37","v":2.14},{"$f":"[3]主表!M37","v":0},{"$f":"[3]主表!$G37","v":244},{"$f":"[3]升级!$H37","v":1100},{"$f":"MAX(1,ROUND(100/(24*3600)*VLOOKUP(B39,[1]ResourceLevelConfig!$A:$E,5,FALSE),2))","v":1},-1,3,2,1,460,null,null,null,1,1,35]
[36,36,2,4,6,"226;235;243","金丹期","前",6,226,235,243,{"$f":"[1]ResourceLevelConfig!$E40*10","v":4500},-1,-1,-1,-1,-1,-1,0,{"$f":"[3]主表!J38","v":52.271999999999998},{"$f":"[3]主表!K38","v":2.16},{"$f":"[3]主表!L38","v":2.16},{"$f":"[3]主表!M38","v":0},{"$f":"[3]主表!$G38","v":247},{"$f":"[3]升级!$H38","v":1100},{"$f":"MAX(1,ROUND(100/(24*3600)*VLOOKUP(B40,[1]ResourceLevelConfig!$A:$E,5,FALSE),2))","v":1},-1,3,2,1,470,null,null,null,1,1,36]
[37,37,2,4,7,"226;235;244","金丹期","前",7,226,235,244,{"$f":"[1]ResourceLevelConfig!$E41*10","v":4600},-1,-1,-1,-1,-1,-1,0,{"$f":"[3]主表!J39","v":53.49666666666667},{"$f":"[3]主表!K39","v":2.2000000000000002},{"$f":"[3]主表!L39","v":2.2000000000000002},{"$f":"[3]主表!M39","v":0},{"$f":"[3]主表!$G39","v":252},{"$f":"[3]升级!$H39","v":1100},{"$f":"MAX(1,ROUND(100/(24*3600)*VLOOKUP(B41,[1]ResourceLevelConfig!$A:$E,5,FALSE),2))","v":1},-1,3,2,1,480,null,null,null,1,1,37]
[38,38,2,4,8,"226;235;245","金丹期","前",8,226,235,245,{"$f":"[1]ResourceLevelConfig!$E42*10","v":4700},-1,-1,-1,-1,-1,-1,0,{"$f":"[3]主表!J40","v":54.730666666666671},{"$f":"[3]主表!K40","v":2.2400000000000002},{"$f":"[3]主表!L40","v":2.2400000000000002},{"$f":"[3]主表!M40","v":0},{"$f":"[3]主表!$G40","v":257},{"$f":"[3]升级!$H40","v":1100},{"$f":"MAX(1,ROUND(100/(24*3600)*VLOOKUP(B42,[1]ResourceLevelConfig!$A:$E,5,FALSE),2))","v":1},-1,3,2,1,490,null,null,null,1,1,38]
[39,39,2,4,9,"226;235;246","金丹期","前",9,226,235,246,{"$f":"[1]ResourceLevelConfig!$E43*10","v":4800},-1,-1,-1,-1,-1,-1,0,{"$f":"[3]主表!J41","v":55.973999999999997},{"$f":"[3]主表!K41","v":2.2799999999999998},{"$f":"[3]主表!L41","v":2.2799999999999998},{"$f":"[3]主表!M41","v":0},{"$f":"[3]主表!$G41","v":262},{"$f":"[3]升级!$H41","v":1100},{"$f":"MAX(1,ROUND(100/(24*3600)*VLOOKUP(B43,[1]ResourceLevelConfig!$A:$E,5,FALSE),2))","v":1},-1,3,2,1,500,null,null,null,1,1,39]
[40,40,2,4,10,"226;235;247","金丹期","前",10,226,235,247,{"$f":"[1]ResourceLevelConfig!$E44*10","v":4900},100004,20,1301,1,1301,1,0,{"$f":"[3]主表!J42","v":59.693333333333328},{"$f":"[3]主表!K42","v":2.42},{"$f":"[3]主表!L42","v":2.42},{"$f":"[3]主表!M42","v":0},{"$f":"[3]主表!$G42","v":277},{"$f":"[3]升级!$H42","v":1100},{"$f":"MAX(1,ROUND(100/(24*3600)*VLOOKUP(B44,[1]ResourceLevelConfig!$A:$E,5,FALSE),2))","v":1},20,3,2,1,510,null,null,null,1,1,40]
[41,41,2,5,1,"226;236;238","金丹期","中",1,226,236,238,{"$f":"[1]ResourceLevelConfig!$E45*10","v":5000},-1,-1,-1,-1,{"$f":"IF(I45=10,\"1001;1002;1004\",-1)","v":-1},-1,0,{"$f":"[3]主表!J43","v":60.966999999999999},{"$f":"[3]主表!K43","v":2.46},{"$f":"[3]主表!L43","v":2.46},{"$f":"[3]主表!M43","v":0},{"$f":"[3]主表!$G43","v":287},{"$f":"[3]升级!$H43","v":1100},{"$f":"MAX(1,ROUND(100/(24*3600)*VLOOKUP(B45,[1]ResourceLevelConfig!$A:$E,5,FALSE),2))","v":1},-1,3,2,2,520,null,null,null,1,1,41]
[42,42,2,5,2,"226;236;239","金丹期","中",2,226,236,239,{"$f":"[1]ResourceLevelConfig!$E46*10","v":5100},-1,-1,-1,-1,-1,-1,0,{"$f":"[3]主表!J44","v":62.250000000000007},{"$f":"[3]主表!K44","v":2.5},{"$f":"[3]主表!L44","v":2.5},{"$f":"[3]主表!M44","v":0},{"$f":"[3]主表!$G44","v":292},{"$f":"[3]升级!$H44","v":1100},{"$f":"MAX(1,ROUND(100/(24*3600)*VLOOKUP(B46,[1]ResourceLevelConfig!$A:$E,5,FALSE),2))","v":1},-1,{"$f":"AC45","v":3},{"$f":"AD45","v":2},{"$f":"AE45","v":2},530,null,null,null,1,1,42]
[43,43,2,5,3,"226;236;240","金丹期","中",3,226,236,240,{"$f":"[1]ResourceLevelConfig!$E47*10","v":5200},-1,-1,-1,-1,-1,-1,0,{"$f":"[3]主表!J45","v":63.542333333333339},{"$f":"[3]主表!K45","v":2.54},{"$f":"[3]主表!L45","v":2.54},{"$f":"[3]主表!M45","v":0},{"$f":"[3]主表!$G45","v":298},{"$f":"[3]升级!$H45","v":1100},{"$f":"MAX(1,ROUND(100/(24*3600)*VLOOKUP(B47,[1]ResourceLevelConfig!$A:$E,5,FALSE),2))","v":1},-1,{"$f":"AC46","v":3},{"$f":"AD46","v":2},{"$f":"AE46","v":2},540,null,null,null,1,1,43]
[44,44,2,5,4,"226;236;241","金丹期","中",4,226,236,241,{"$f":"[1]ResourceLevelConfig!$E48*10","v":5300},-1,-1,-1,-1,-1,-1,0,{"$f":"[3]主表!J46","v":65.346666666666664},{"$f":"[3]主表!K46","v":2.6},{"$f":"[3]主表!L46","v":2.6},{"$f":"[3]主表!M46","v":0},{"$f":"[3]主表!$G46","v":305},{"$f":"[3]升级!$H46","v":1100},{"$f":"MAX(1,ROUND(100/(24*3600)*VLOOKUP(B48,[1]ResourceLevelConfig!$A:$E,5,FALSE),2))","v":1},-1,3,2,2,550,null,null,null,1,1,44]
[45,45,2,5,5,"226;236;242","金丹期","中",5,226,236,242,{"$f":"[1]ResourceLevelConfig!$E49*10","v":5410},-1,-1,-1,-1,-1,-1,0,{"$f":"[3]主表!J47","v":66.66},{"$f":"[3]主表!K47","v":2.64},{"$f":"[3]主表!L47","v":2.64},{"$f":"[3]主表!M47","v":0},{"$f":"[3]主表!$G47","v":310},{"$f":"[3]升级!$H47","v":1100},{"$f":"MAX(1,ROUND(100/(24*3600)*VLOOKUP(B49,[1]ResourceLevelConfig!$A:$E,5,FALSE),2))","v":1},-1,3,2,2,560,null,null,null,1,1,45]
[46,46,2,5,6,"226;236;243","金丹期","中",6,226,236,243,{"$f":"[1]ResourceLevelConfig!$E50*10","v":5520},-1,-1,-1,-1,-1,-1,0,{"$f":"[3]主表!J48","v":67.98266666666666},{"$f":"[3]主表!K48","v":2.68},{"$f":"[3]主表!L48","v":2.68},{"$f":"[3]主表!M48","v":0},{"$f":"[3]主表!$G48","v":316},{"$f":"[3]升级!$H48","v":1100},{"$f":"MAX(1,ROUND(100/(24*3600)*VLOOKUP(B50,[1]ResourceLevelConfig!$A:$E,5,FALSE),2))","v":1},-1,3,2,2,570,null,null,null,1,1,46]
[47,47,2,5,7,"226;236;244","金丹期","中",7,226,236,244,{"$f":"[1]ResourceLevelConfig!$E51*10","v":5630},-1,-1,-1,-1,-1,-1,0,{"$f":"[3]主表!J49","v":69.314666666666668},{"$f":"[3]主表!K49","v":2.72},{"$f":"[3]主表!L49","v":2.72},{"$f":"[3]主表!M49","v":0},{"$f":"[3]主表!$G49","v":321},{"$f":"[3]升级!$H49","v":1100},{"$f":"MAX(1,ROUND(100/(24*3600)*VLOOKUP(B51,[1]ResourceLevelConfig!$A:$E,5,FALSE),2))","v":1},-1,3,2,2,580,null,null,null,1,1,47]
[48,48,2,5,8,"226;236;245","金丹期","中",8,226,236,245,{"$f":"[1]ResourceLevelConfig!$E52*10","v":5740},-1,-1,-1,-1,-1,-1,0,{"$f":"[3]主表!J50","v":70.656000000000006},{"$f":"[3]主表!K50","v":2.76},{"$f":"[3]主表!L50","v":2.76},{"$f":"[3]主表!M50","v":0},{"$f":"[3]主表!$G50","v":327},{"$f":"[3]升级!$H50","v":1100},{"$f":"MAX(1,ROUND(100/(24*3600)*VLOOKUP(B52,[1]ResourceLevelConfig!$A:$E,5,FALSE),2))","v":1},-1,3,2,2,590,null,null,null,1,1,48]
[49,49,2,5,9,"226;236;246","金丹期","中",9,226,236,246,{"$f":"[1]ResourceLevelConfig!$E53*10","v":5850},-1,-1,-1,-1,-1,-1,0,{"$f":"[3]主表!J51","v":72.521000000000001},{"$f":"[3]主表!K51","v":2.82},{"$f":"[3]主表!L51","v":2.82},{"$f":"[3]主表!M51","v":0},{"$f":"[3]主表!$G51","v":334},{"$f":"[3]升级!$H51","v":1100},{"$f":"MAX(1,ROUND(100/(24*3600)*VLOOKUP(B53,[1]ResourceLevelConfig!$A:$E,5,FALSE),2))","v":1},-1,3,2,2,600,null,null,null,1,1,49]
[50,50,2,5,10,"226;236;247","金丹期","中",10,226,236,247,{"$f":"[1]ResourceLevelConfig!$E54*10","v":5970},100004,20,1301,1,"1301;1302","1;1",0,{"$f":"[3]主表!J52","v":77.5},{"$f":"[3]主表!K52","v":3},{"$f":"[3]主表!L52","v":3},{"$f":"[3]主表!M52","v":0},{"$f":"[3]主表!$G52","v":355},{"$f":"[3]升级!$H52","v":1100},{"$f":"MAX(1,ROUND(100/(24*3600)*VLOOKUP(B54,[1]ResourceLevelConfig!$A:$E,5,FALSE),2))","v":1},20,3,2,2,610,null,null,null,1,1,50]
[51,51,2,6,1,"226;237;238","金丹期","后",1,226,237,238,{"$f":"[1]ResourceLevelConfig!$E55*10","v":6090},-1,-1,-1,-1,{"$f":"IF(I55=10,\"1001;1002;1004\",-1)","v":-1},-1,0,{"$f":"[3]主表!J53","v":78.887999999999991},{"$f":"[3]主表!K53","v":3.04},{"$f":"[3]主表!L53","v":3.04},{"$f":"[3]主表!M53","v":0},{"$f":"[3]主表!$G53","v":384},{"$f":"[3]升级!$H53","v":1100},{"$f":"MAX(1,ROUND(100/(24*3600)*VLOOKUP(B55,[1]ResourceLevelConfig!$A:$E,5,FALSE),2))","v":1},-1,4,2,2,620,null,null,null,1,1,51]
[52,52,2,6,2,"226;237;239","金丹期","后",2,226,237,239,{"$f":"[1]ResourceLevelConfig!$E56*10","v":6210},-1,-1,-1,-1,-1,-1,0,{"$f":"[3]主表!J54","v":80.806666666666658},{"$f":"[3]主表!K54","v":3.1},{"$f":"[3]主表!L54","v":3.1},{"$f":"[3]主表!M54","v":0},{"$f":"[3]主表!$G54","v":392},{"$f":"[3]升级!$H54","v":1100},{"$f":"MAX(1,ROUND(100/(24*3600)*VLOOKUP(B56,[1]ResourceLevelConfig!$A:$E,5,FALSE),2))","v":1},-1,{"$f":"AC55","v":4},{"$f":"AD55","v":2},{"$f":"AE55","v":2},630,null,null,null,1,1,52]
[53,53,2,6,3,"226;237;240","金丹期","后",3,226,237,240,{"$f":"[1]ResourceLevelConfig!$E57*10","v":6330},-1,-1,-1,-1,-1,-1,0,{"$f":"[3]主表!J55","v":82.215666666666664},{"$f":"[3]主表!K55","v":3.14},{"$f":"[3]主表!L55","v":3.14},{"$f":"[3]主表!M55","v":0},{"$f":"[3]主表!$G55","v":398},{"$f":"[3]升级!$H55","v":1100},{"$f":"MAX(1,ROUND(100/(24*3600)*VLOOKUP(B57,[1]ResourceLevelConfig!$A:$E,5,FALSE),2))","v":1},-1,4,2,2,640,null,null,null,1,1,53]
[54,54,2,6,4,"226;237;241","金丹期","后",4,226,237,241,{"$f":"[1]ResourceLevelConfig!$E58*10","v":6460},-1,-1,-1,-1,-1,-1,0,{"$f":"[3]主表!J56","v":84.16},{"$f":"[3]主表!K56","v":3.2},{"$f":"[3]主表!L56","v":3.2},{"$f":"[3]主表!M56","v":0},{"$f":"[3]主表!$G56","v":406},{"$f":"[3]升级!$H56","v":1100},{"$f":"MAX(1,ROUND(100/(24*3600)*VLOOKUP(B58,[1]ResourceLevelConfig!$A:$E,5,FALSE),2))","v":1},-1,4,2,2,650,null,null,null,1,1,54]
[55,55,2,6,5,"226;237;242","金丹期","后",5,226,237,242,{"$f":"[1]ResourceLevelConfig!$E59*10","v":6590},-1,-1,-1,-1,-1,-1,0,{"$f":"[3]主表!J57","v":86.118333333333339},{"$f":"[3]主表!K57","v":3.26},{"$f":"[3]主表!L57","v":3.26},{"$f":"[3]主表!M57","v":0},{"$f":"[3]主表!$G57","v":414},{"$f":"[3]升级!$H57","v":1100},{"$f":"MAX(1,ROUND(100/(24*3600)*VLOOKUP(B59,[1]ResourceLevelConfig!$A:$E,5,FALSE),2))","v":1},-1,4,2,2,660,null,null,null,1,1,55]
[56,56,2,6,6,"226;237;243","金丹期","后",6,226,237,243,{"$f":"[1]ResourceLevelConfig!$E60*10","v":6720},-1,-1,-1,-1,-1,-1,0,{"$f":"[3]主表!J58","v":87.56},{"$f":"[3]主表!K58","v":3.3},{"$f":"[3]主表!L58","v":3.3},{"$f":"[3]主表!M58","v":0},{"$f":"[3]主表!$G58","v":421},{"$f":"[3]升级!$H58","v":1100},{"$f":"MAX(1,ROUND(100/(24*3600)*VLOOKUP(B60,[1]ResourceLevelConfig!$A:$E,5,FALSE),2))","v":1},-1,4,2,2,670,null,null,null,1,1,56]
[57,57,2,6,7,"226;237;244","金丹期","后",7,226,237,244,{"$f":"[1]ResourceLevelConfig!$E61*10","v":6850},-1,-1,-1,-1,-1,-1,0,{"$f":"[3]主表!J59","v":89.543999999999997},{"$f":"[3]主表!K59","v":3.36},{"$f":"[3]主表!L59","v":3.36},{"$f":"[3]主表!M59","v":0},{"$f":"[3]主表!$G59","v":429},{"$f":"[3]升级!$H59","v":1100},{"$f":"MAX(1,ROUND(100/(24*3600)*VLOOKUP(B61,[1]ResourceLevelConfig!$A:$E,5,FALSE),2))","v":1},-1,4,2,2,680,null,null,null,1,1,57]
[58,58,2,6,8,"226;237;245","金丹期","后",8,226,237,245,{"$f":"[1]ResourceLevelConfig!$E62*10","v":6990},-1,-1,-1,-1,-1,-1,0,{"$f":"[3]主表!J60","v":91.542000000000002},{"$f":"[3]主表!K60","v":3.42},{"$f":"[3]主表!L60","v":3.42},{"$f":"[3]主表!M60","v":0},{"$f":"[3]主表!$G60","v":438},{"$f":"[3]升级!$H60","v":1100},{"$f":"MAX(1,ROUND(100/(24*3600)*VLOOKUP(B62,[1]ResourceLevelConfig!$A:$E,5,FALSE),2))","v":1},-1,4,2,2,690,null,null,null,1,1,58]
[59,59,2,6,9,"226;237;246","金丹期","后",9,226,237,246,{"$f":"[1]ResourceLevelConfig!$E63*10","v":7130},-1,-1,-1,-1,-1,-1,0,{"$f":"[3]主表!J61","v":93.554000000000016},{"$f":"[3]主表!K61","v":3.48},{"$f":"[3]主表!L61","v":3.48},{"$f":"[3]主表!M61","v":0},{"$f":"[3]主表!$G61","v":446},{"$f":"[3]升级!$H61","v":1100},{"$f":"MAX(1,ROUND(100/(24*3600)*VLOOKUP(B63,[1]ResourceLevelConfig!$A:$E,5,FALSE),2))","v":1},-1,4,2,2,700,null,null,null,1,1,59]
[60,60,2,6,10,"226;237;247","金丹期","后",10,226,237,247,{"$f":"[1]ResourceLevelConfig!$E64*10","v":7270},100004,20,1301,1,"1301;1302;1303","1;1;1","1;1",{"$f":"[3]主表!J62","v":105.84},{"$f":"[3]主表!K62","v":3.92},{"$f":"[3]主表!L62","v":3.92},{"$f":"[3]主表!M62","v":0},{"$f":"[3]主表!$G62","v":498},{"$f":"[3]升级!$H62","v":1100},{"$f":"MAX(1,ROUND(100/(24*3600)*VLOOKUP(B64,[1]ResourceLevelConfig!$A:$E,5,FALSE),2))","v":1},50,4,2,2,710,null,null,null,1,1,60]
[61,61,3,7,1,"227;235;238","元婴期","前",1,227,235,238,{"$f":"[1]ResourceLevelConfig!$E65*10","v":7420},-1,-1,-1,-1,{"$f":"IF(I65=10,\"1001;1002;1004\",-1)","v":-1},{"$f":"IF(R65=-1,-1,\"100;200;300\")","v":-1},0,{"$f":"[3]主表!J63","v":108.46666666666667},{"$f":"[3]主表!K63","v":4},{"$f":"[3]主表!L63","v":4},{"$f":"[3]主表!M63","v":0},{"$f":"[3]主表!$G63","v":526},{"$f":"[3]升级!$H63","v":1200},{"$f":"MAX(1,ROUND(100/(24*3600)*VLOOKUP(B65,[1]ResourceLevelConfig!$A:$E,5,FALSE),2))","v":1},-1,4,3,2,720,null,null,null,1,2,61]
[62,62,3,7,2,"227;235;239","元婴期","前",2,227,235,239,{"$f":"[1]ResourceLevelConfig!$E66*10","v":7570},-1,-1,-1,-1,{"$f":"IF(I66=10,\"1001;1002;1004\",-1)","v":-1},-1,0,{"$f":"[3]主表!J64","v":110.56733333333334},{"$f":"[3]主表!K64","v":4.0599999999999996},{"$f":"[3]主表!L64","v":4.0599999999999996},{"$f":"[3]主表!M64","v":0},{"$f":"[3]主表!$G64","v":536},{"$f":"[3]升级!$H64","v":1200},{"$f":"MAX(1,ROUND(100/(24*3600)*VLOOKUP(B66,[1]ResourceLevelConfig!$A:$E,5,FALSE),2))","v":1},-1,{"$f":"AC65","v":4},{"$f":"AD65","v":3},2,730,null,null,null,1,2,62]
[63,63,3,7,3,"227;235;240","元婴期","前",3,227,235,240,{"$f":"[1]ResourceLevelConfig!$E67*10","v":7720},-1,-1,-1,-1,-1,-1,0,{"$f":"[3]主表!J65","v":112.682},{"$f":"[3]主表!K65","v":4.12},{"$f":"[3]主表!L65","v":4.12},{"$f":"[3]主表!M65","v":0},{"$f":"[3]主表!$G65","v":545},{"$f":"[3]升级!$H65","v":1200},{"$f":"MAX(1,ROUND(100/(24*3600)*VLOOKUP(B67,[1]ResourceLevelConfig!$A:$E,5,FALSE),2))","v":1},-1,{"$f":"AC66","v":4},{"$f":"AD66","v":3},{"$f":"AE66","v":2},740,null,null,null,1,2,63]
[64,64,3,7,4,"227;235;241","元婴期","前",4,227,235,241,{"$f":"[1]ResourceLevelConfig!$E68*10","v":7870},-1,-1,-1,-1,-1,-1,0,{"$f":"[3]主表!J66","v":115.36},{"$f":"[3]主表!K66","v":4.2},{"$f":"[3]主表!L66","v":4.2},{"$f":"[3]主表!M66","v":0},{"$f":"[3]主表!$G66","v":557},{"$f":"[3]升级!$H66","v":1200},{"$f":"MAX(1,ROUND(100/(24*3600)*VLOOKUP(B68,[1]ResourceLevelConfig!$A:$E,5,FALSE),2))","v":1},-1,4,3,2,750,null,null,null,1,2,64]
[65,65,3,7,5,"227;235;242","元婴期","前",5,227,235,242,{"$f":"[1]ResourceLevelConfig!$E69*10","v":8030},-1,-1,-1,-1,-1,-1,0,{"$f":"[3]主表!J67","v":117.505},{"$f":"[3]主表!K67","v":4.26},{"$f":"[3]主表!L67","v":4.26},{"$f":"[3]主表!M67","v":0},{"$f":"[3]主表!$G67","v":567},{"$f":"[3]升级!$H67","v":1200},{"$f":"MAX(1,ROUND(100/(24*3600)*VLOOKUP(B69,[1]ResourceLevelConfig!$A:$E,5,FALSE),2))","v":1},-1,4,3,2,760,null,null,null,1,2,65]
[66,66,3,7,{"$f":"I70","v":6},{"$f":"_xlfn.TEXTJOIN(\";\",1,J70:L70)","v":"227;235;243"},"元婴期","前",6,227,235,243,{"$f":"[1]ResourceLevelConfig!$E70*10","v":8190},{"$f":"IF(I70=10,100004,-1)","v":-1},{"$f":"IF(N70=-1,-1,20)","v":-1},-1,-1,-1,{"$f":"IF(R70=-1,-1,\"100;200;300\")","v":-1},0,{"$f":"[3]主表!J68","v":120.21799999999999},{"$f":"[3]主表!K68","v":4.34},{"$f":"[3]主表!L68","v":4.34},{"$f":"[3]主表!M68","v":0},{"$f":"[3]主表!$G68","v":581},{"$f":"[3]升级!$H68","v":1200},{"$f":"MAX(1,ROUND(100/(24*3600)*VLOOKUP(B70,[1]ResourceLevelConfig!$A:$E,5,FALSE),2))","v":1},-1,4,3,2,{"$f":"MAX(AF69+10,ROUND(10^(B70*0.01+1.405),0))","v":770},null,null,null,1,2,66]
[67,67,3,7,7,"227;235;244","元婴期","前",7,227,235,244,{"$f":"[1]ResourceLevelConfig!$E71*10","v":8350},-1,-1,-1,-1,-1,-1,0,{"$f":"[3]主表!J69","v":122.39333333333335},{"$f":"[3]主表!K69","v":4.4000000000000004},{"$f":"[3]主表!L69","v":4.4000000000000004},{"$f":"[3]主表!M69","v":0},{"$f":"[3]主表!$G69","v":592},{"$f":"[3]升级!$H69","v":1200},{"$f":"MAX(1,ROUND(100/(24*3600)*VLOOKUP(B71,[1]ResourceLevelConfig!$A:$E,5,FALSE),2))","v":1},-1,4,3,2,780,null,null,null,1,2,67]
[68,68,3,7,8,"227;235;245","元婴期","前",8,227,235,245,{"$f":"[1]ResourceLevelConfig!$E72*10","v":8520},-1,-1,-1,-1,-1,-1,0,{"$f":"[3]主表!J70","v":125.14133333333335},{"$f":"[3]主表!K70","v":4.4800000000000004},{"$f":"[3]主表!L70","v":4.4800000000000004},{"$f":"[3]主表!M70","v":0},{"$f":"[3]主表!$G70","v":606},{"$f":"[3]升级!$H70","v":1200},{"$f":"MAX(1,ROUND(100/(24*3600)*VLOOKUP(B72,[1]ResourceLevelConfig!$A:$E,5,FALSE),2))","v":1},-1,4,3,2,790,null,null,null,1,2,68]
[69,69,3,7,9,"227;235;246","元婴期","前",9,227,235,246,{"$f":"[1]ResourceLevelConfig!$E73*10","v":8690},-1,-1,-1,-1,-1,-1,0,{"$f":"[3]主表!J71","v":127.90799999999999},{"$f":"[3]主表!K71","v":4.5599999999999996},{"$f":"[3]主表!L71","v":4.5599999999999996},{"$f":"[3]主表!M71","v":0},{"$f":"[3]主表!$G71","v":620},{"$f":"[3]升级!$H71","v":1200},{"$f":"MAX(1,ROUND(100/(24*3600)*VLOOKUP(B73,[1]ResourceLevelConfig!$A:$E,5,FALSE),2))","v":1.01},-1,4,3,2,800,null,null,null,1,2,69]
[70,70,3,7,10,"227;235;247","元婴期","前",10,227,235,247,{"$f":"[1]ResourceLevelConfig!$E74*10","v":8860},100004,20,1301,1,1301,1,0,{"$f":"[3]主表!J72","v":136.88999999999999},{"$f":"[3]主表!K72","v":4.8600000000000003},{"$f":"[3]主表!L72","v":4.8600000000000003},{"$f":"[3]主表!M72","v":0},{"$f":"[3]主表!$G72","v":661},{"$f":"[3]升级!$H72","v":1200},{"$f":"MAX(1,ROUND(100/(24*3600)*VLOOKUP(B74,[1]ResourceLevelConfig!$A:$E,5,FALSE),2))","v":1.03},20,4,3,2,810,null,null,null,1,2,70]
[71,71,3,8,1,"227;236;238","元婴期","中",1,227,236,238,{"$f":"[1]ResourceLevelConfig!$E75*10","v":9040},-1,-1,-1,-1,{"$f":"IF(I75=10,\"1001;1002;1004\",-1)","v":-1},-1,0,{"$f":"[3]主表!J73","v":139.71966666666668},{"$f":"[3]主表!K73","v":4.9400000000000004},{"$f":"[3]主表!L73","v":4.9400000000000004},{"$f":"[3]主表!M73","v":0},{"$f":"[3]主表!$G73","v":693},{"$f":"[3]升级!$H73","v":1200},{"$f":"MAX(1,ROUND(100/(24*3600)*VLOOKUP(B75,[1]ResourceLevelConfig!$A:$E,5,FALSE),2))","v":1.05},-1,4,3,3,820,null,null,null,1,2,71]
[72,72,3,8,2,"227;236;239","元婴期","中",2,227,236,239,{"$f":"[1]ResourceLevelConfig!$E76*10","v":9220},-1,-1,-1,-1,-1,-1,0,{"$f":"[3]主表!J74","v":142.56799999999998},{"$f":"[3]主表!K74","v":5.0199999999999996},{"$f":"[3]主表!L74","v":5.0199999999999996},{"$f":"[3]主表!M74","v":0},{"$f":"[3]主表!$G74","v":708},{"$f":"[3]升级!$H74","v":1200},{"$f":"MAX(1,ROUND(100/(24*3600)*VLOOKUP(B76,[1]ResourceLevelConfig!$A:$E,5,FALSE),2))","v":1.07},-1,4,3,3,830,null,null,null,1,2,72]
[73,73,3,8,3,"227;236;240","元婴期","中",3,227,236,240,{"$f":"[1]ResourceLevelConfig!$E77*10","v":9400},-1,-1,-1,-1,-1,-1,0,{"$f":"[3]主表!J75","v":145.43499999999997},{"$f":"[3]主表!K75","v":5.0999999999999996},{"$f":"[3]主表!L75","v":5.0999999999999996},{"$f":"[3]主表!M75","v":0},{"$f":"[3]主表!$G75","v":723},{"$f":"[3]升级!$H75","v":1200},{"$f":"MAX(1,ROUND(100/(24*3600)*VLOOKUP(B77,[1]ResourceLevelConfig!$A:$E,5,FALSE),2))","v":1.0900000000000001},-1,4,3,3,840,null,null,null,1,2,73]
[74,74,3,8,4,"227;236;241","元婴期","中",4,227,236,241,{"$f":"[1]ResourceLevelConfig!$E78*10","v":9590},-1,-1,-1,-1,-1,-1,0,{"$f":"[3]主表!J76","v":148.32066666666665},{"$f":"[3]主表!K76","v":5.18},{"$f":"[3]主表!L76","v":5.18},{"$f":"[3]主表!M76","v":0},{"$f":"[3]主表!$G76","v":739},{"$f":"[3]升级!$H76","v":1200},{"$f":"MAX(1,ROUND(100/(24*3600)*VLOOKUP(B78,[1]ResourceLevelConfig!$A:$E,5,FALSE),2))","v":1.1100000000000001},-1,4,3,3,850,null,null,null,1,2,74]
[75,75,3,8,5,"227;236;242","元婴期","中",5,227,236,242,{"$f":"[1]ResourceLevelConfig!$E79*10","v":9780},-1,-1,-1,-1,-1,-1,0,{"$f":"[3]主表!J77","v":151.22499999999999},{"$f":"[3]主表!K77","v":5.26},{"$f":"[3]主表!L77","v":5.26},{"$f":"[3]主表!M77","v":0},{"$f":"[3]主表!$G77","v":755},{"$f":"[3]升级!$H77","v":1200},{"$f":"MAX(1,ROUND(100/(24*3600)*VLOOKUP(B79,[1]ResourceLevelConfig!$A:$E,5,FALSE),2))","v":1.1299999999999999},-1,4,3,3,860,null,null,null,1,2,75]
[76,76,3,8,6,"227;236;243","元婴期","中",6,227,236,243,{"$f":"[1]ResourceLevelConfig!$E80*10","v":9980},-1,-1,-1,-1,-1,-1,0,{"$f":"[3]主表!J78","v":154.72533333333334},{"$f":"[3]主表!K78","v":5.36},{"$f":"[3]主表!L78","v":5.36},{"$f":"[3]主表!M78","v":0},{"$f":"[3]主表!$G78","v":774},{"$f":"[3]升级!$H78","v":1200},{"$f":"MAX(1,ROUND(100/(24*3600)*VLOOKUP(B80,[1]ResourceLevelConfig!$A:$E,5,FALSE),2))","v":1.1599999999999999},-1,4,3,3,870,null,null,null,1,2,76]
[77,77,3,8,7,"227;236;244","元婴期","中",7,227,236,244,{"$f":"[1]ResourceLevelConfig!$E81*10","v":10180},-1,-1,-1,-1,-1,-1,0,{"$f":"[3]主表!J79","v":157.66933333333333},{"$f":"[3]主表!K79","v":5.44},{"$f":"[3]主表!L79","v":5.44},{"$f":"[3]主表!M79","v":0},{"$f":"[3]主表!$G79","v":790},{"$f":"[3]升级!$H79","v":1200},{"$f":"MAX(1,ROUND(100/(24*3600)*VLOOKUP(B81,[1]ResourceLevelConfig!$A:$E,5,FALSE),2))","v":1.18},-1,4,3,3,880,null,null,null,1,2,77]
[78,78,3,8,8,"227;236;245","元婴期","中",8,227,236,245,{"$f":"[1]ResourceLevelConfig!$E82*10","v":10380},-1,-1,-1,-1,-1,-1,0,{"$f":"[3]主表!J80","v":160.63199999999998},{"$f":"[3]主表!K80","v":5.52},{"$f":"[3]主表!L80","v":5.52},{"$f":"[3]主表!M80","v":0},{"$f":"[3]主表!$G80","v":807},{"$f":"[3]升级!$H80","v":1200},{"$f":"MAX(1,ROUND(100/(24*3600)*VLOOKUP(B82,[1]ResourceLevelConfig!$A:$E,5,FALSE),2))","v":1.2},-1,4,3,3,890,null,null,null,1,2,78]
[79,79,3,8,9,"227;236;246","元婴期","中",9,227,236,246,{"$f":"[1]ResourceLevelConfig!$E83*10","v":10590},-1,-1,-1,-1,-1,-1,0,{"$f":"[3]主表!J81","v":164.19766666666669},{"$f":"[3]主表!K81","v":5.62},{"$f":"[3]主表!L81","v":5.62},{"$f":"[3]主表!M81","v":0},{"$f":"[3]主表!$G81","v":827},{"$f":"[3]升级!$H81","v":1200},{"$f":"MAX(1,ROUND(100/(24*3600)*VLOOKUP(B83,[1]ResourceLevelConfig!$A:$E,5,FALSE),2))","v":1.23},-1,4,3,3,900,null,null,null,1,2,79]
[80,80,3,8,10,"227;236;247","元婴期","中",10,227,236,247,{"$f":"[1]ResourceLevelConfig!$E84*10","v":10800},100004,20,1301,1,"1301;1302","1;1",0,{"$f":"[3]主表!J82","v":176},{"$f":"[3]主表!K82","v":6},{"$f":"[3]主表!L82","v":6},{"$f":"[3]主表!M82","v":0},{"$f":"[3]主表!$G82","v":883},{"$f":"[3]升级!$H82","v":1200},{"$f":"MAX(1,ROUND(100/(24*3600)*VLOOKUP(B84,[1]ResourceLevelConfig!$A:$E,5,FALSE),2))","v":1.25},20,4,3,3,910,null,null,null,1,2,80]
[81,81,3,9,1,"227;237;238","元婴期","后",1,227,237,238,{"$f":"[1]ResourceLevelConfig!$E85*10","v":11020},-1,-1,-1,-1,{"$f":"IF(I85=10,\"1001;1002;1004\",-1)","v":-1},-1,0,{"$f":"[3]主表!J83","v":179.05599999999998},{"$f":"[3]主表!K83","v":6.08},{"$f":"[3]主表!L83","v":6.08},{"$f":"[3]主表!M83","v":0},{"$f":"[3]主表!$G83","v":964},{"$f":"[3]升级!$H83","v":1200},{"$f":"MAX(1,ROUND(100/(24*3600)*VLOOKUP(B85,[1]ResourceLevelConfig!$A:$E,5,FALSE),2))","v":1.28},-1,4,4,3,920,null,null,null,1,2,81]
[82,82,3,9,2,"227;237;239","元婴期","后",2,227,237,239,{"$f":"[1]ResourceLevelConfig!$E86*10","v":11240},-1,-1,-1,-1,-1,-1,0,{"$f":"[3]主表!J84","v":182.72199999999998},{"$f":"[3]主表!K84","v":6.18},{"$f":"[3]主表!L84","v":6.18},{"$f":"[3]主表!M84","v":0},{"$f":"[3]主表!$G84","v":985},{"$f":"[3]升级!$H84","v":1200},{"$f":"MAX(1,ROUND(100/(24*3600)*VLOOKUP(B86,[1]ResourceLevelConfig!$A:$E,5,FALSE),2))","v":1.3},-1,4,4,3,930,null,null,null,1,2,82]
[83,83,3,9,3,"227;237;240","元婴期","后",3,227,237,240,{"$f":"[1]ResourceLevelConfig!$E87*10","v":11460},-1,-1,-1,-1,-1,-1,0,{"$f":"[3]主表!J85","v":187.005},{"$f":"[3]主表!K85","v":6.3},{"$f":"[3]主表!L85","v":6.3},{"$f":"[3]主表!M85","v":0},{"$f":"[3]主表!$G85","v":1010},{"$f":"[3]升级!$H85","v":1200},{"$f":"MAX(1,ROUND(100/(24*3600)*VLOOKUP(B87,[1]ResourceLevelConfig!$A:$E,5,FALSE),2))","v":1.33},-1,4,4,3,940,null,null,null,1,2,83]
[84,84,3,9,4,"227;237;241","元婴期","后",4,227,237,241,{"$f":"[1]ResourceLevelConfig!$E88*10","v":11690},-1,-1,-1,-1,-1,-1,0,{"$f":"[3]主表!J86","v":190.72},{"$f":"[3]主表!K86","v":6.4},{"$f":"[3]主表!L86","v":6.4},{"$f":"[3]主表!M86","v":0},{"$f":"[3]主表!$G86","v":1032},{"$f":"[3]升级!$H86","v":1200},{"$f":"MAX(1,ROUND(100/(24*3600)*VLOOKUP(B88,[1]ResourceLevelConfig!$A:$E,5,FALSE),2))","v":1.35},-1,4,4,3,950,null,null,null,1,2,84]
[85,85,3,9,5,"227;237;242","元婴期","后",5,227,237,242,{"$f":"[1]ResourceLevelConfig!$E89*10","v":11920},-1,-1,-1,-1,-1,-1,0,{"$f":"[3]主表!J87","v":194.45833333333331},{"$f":"[3]主表!K87","v":6.5},{"$f":"[3]主表!L87","v":6.5},{"$f":"[3]主表!M87","v":0},{"$f":"[3]主表!$G87","v":1055},{"$f":"[3]升级!$H87","v":1200},{"$f":"MAX(1,ROUND(100/(24*3600)*VLOOKUP(B89,[1]ResourceLevelConfig!$A:$E,5,FALSE),2))","v":1.38},-1,4,4,3,960,null,null,null,1,2,85]
[86,86,3,9,6,"227;237;243","元婴期","后",6,227,237,243,{"$f":"[1]ResourceLevelConfig!$E90*10","v":12160},-1,-1,-1,-1,-1,-1,0,{"$f":"[3]主表!J88","v":198.22},{"$f":"[3]主表!K88","v":6.6},{"$f":"[3]主表!L88","v":6.6},{"$f":"[3]主表!M88","v":0},{"$f":"[3]主表!$G88","v":1077},{"$f":"[3]升级!$H88","v":1200},{"$f":"MAX(1,ROUND(100/(24*3600)*VLOOKUP(B90,[1]ResourceLevelConfig!$A:$E,5,FALSE),2))","v":1.41},-1,4,4,3,970,null,null,null,1,2,86]
[87,87,3,9,7,"227;237;244","元婴期","后",7,227,237,244,{"$f":"[1]ResourceLevelConfig!$E91*10","v":12400},-1,-1,-1,-1,-1,-1,0,{"$f":"[3]主表!J89","v":202.60799999999995},{"$f":"[3]主表!K89","v":6.72},{"$f":"[3]主表!L89","v":6.72},{"$f":"[3]主表!M89","v":0},{"$f":"[3]主表!$G89","v":1104},{"$f":"[3]升级!$H89","v":1200},{"$f":"MAX(1,ROUND(100/(24*3600)*VLOOKUP(B91,[1]ResourceLevelConfig!$A:$E,5,FALSE),2))","v":1.44},-1,4,4,3,980,null,null,null,1,2,87]
[88,88,3,9,8,"227;237;245","元婴期","后",8,227,237,245,{"$f":"[1]ResourceLevelConfig!$E92*10","v":12650},-1,-1,-1,-1,-1,-1,0,{"$f":"[3]主表!J90","v":206.41866666666664},{"$f":"[3]主表!K90","v":6.82},{"$f":"[3]主表!L90","v":6.82},{"$f":"[3]主表!M90","v":0},{"$f":"[3]主表!$G90","v":1127},{"$f":"[3]升级!$H90","v":1200},{"$f":"MAX(1,ROUND(100/(24*3600)*VLOOKUP(B92,[1]ResourceLevelConfig!$A:$E,5,FALSE),2))","v":1.46},-1,4,4,3,990,null,null,null,1,2,88]
[89,89,3,9,9,"227;237;246","元婴期","后",9,227,237,246,{"$f":"[1]ResourceLevelConfig!$E93*10","v":12900},-1,-1,-1,-1,-1,-1,0,{"$f":"[3]主表!J91","v":210.86033333333333},{"$f":"[3]主表!K91","v":6.94},{"$f":"[3]主表!L91","v":6.94},{"$f":"[3]主表!M91","v":0},{"$f":"[3]主表!$G91","v":1154},{"$f":"[3]升级!$H91","v":1200},{"$f":"MAX(1,ROUND(100/(24*3600)*VLOOKUP(B93,[1]ResourceLevelConfig!$A:$E,5,FALSE),2))","v":1.49},-1,4,4,3,1000,null,null,null,1,2,89]
[90,90,3,9,10,"227;237;247","元婴期","后",10,227,237,247,{"$f":"[1]ResourceLevelConfig!$E94*10","v":13160},100004,20,1301,1,"1301;1302;1303","1;1;1","1;1",{"$f":"[3]主表!J92","v":239.73},{"$f":"[3]主表!K92","v":7.86},{"$f":"[3]主表!L92","v":7.86},{"$f":"[3]主表!M92","v":0},{"$f":"[3]主表!$G92","v":1296},{"$f":"[3]升级!$H92","v":1200},{"$f":"MAX(1,ROUND(100/(24*3600)*VLOOKUP(B94,[1]ResourceLevelConfig!$A:$E,5,FALSE),2))","v":1.52},50,4,4,3,1010,null,null,null,1,2,90]
[91,91,4,10,1,"228;235;238","化神期","前",1,228,235,238,{"$f":"[1]ResourceLevelConfig!$E95*10","v":13420},-1,-1,-1,-1,{"$f":"IF(I95=10,\"1001;1002;1004\",-1)","v":-1},{"$f":"IF(R95=-1,-1,\"100;200;300\")","v":-1},0,{"$f":"[3]主表!J93","v":244.32100000000003},{"$f":"[3]主表!K93","v":7.98},{"$f":"[3]主表!L93","v":7.98},{"$f":"[3]主表!M93","v":0},{"$f":"[3]主表!$G93","v":1379},{"$f":"[3]升级!$H93","v":1300},{"$f":"MAX(1,ROUND(100/(24*3600)*VLOOKUP(B95,[1]ResourceLevelConfig!$A:$E,5,FALSE),2))","v":1.55},-1,4,4,4,1020,null,null,null,1,2,91]
[92,92,4,10,2,"228;235;239","化神期","前",2,228,235,239,{"$f":"[1]ResourceLevelConfig!$E96*10","v":13690},-1,-1,-1,-1,{"$f":"IF(I96=10,\"1001;1002;1004\",-1)","v":-1},{"$f":"IF(R96=-1,-1,\"100;200;300\")","v":-1},0,{"$f":"[3]主表!J94","v":249.55466666666663},{"$f":"[3]主表!K94","v":8.1199999999999992},{"$f":"[3]主表!L94","v":8.1199999999999992},{"$f":"[3]主表!M94","v":0},{"$f":"[3]主表!$G94","v":1412},{"$f":"[3]升级!$H94","v":1300},{"$f":"MAX(1,ROUND(100/(24*3600)*VLOOKUP(B96,[1]ResourceLevelConfig!$A:$E,5,FALSE),2))","v":1.58},-1,4,4,4,1030,null,null,null,1,2,92]
[93,93,4,10,3,"228;235;240","化神期","前",3,228,235,240,{"$f":"[1]ResourceLevelConfig!$E97*10","v":13960},-1,-1,-1,-1,-1,-1,0,{"$f":"[3]主表!J95","v":254.20400000000001},{"$f":"[3]主表!K95","v":8.24},{"$f":"[3]主表!L95","v":8.24},{"$f":"[3]主表!M95","v":0},{"$f":"[3]主表!$G95","v":1442},{"$f":"[3]升级!$H95","v":1300},{"$f":"MAX(1,ROUND(100/(24*3600)*VLOOKUP(B97,[1]ResourceLevelConfig!$A:$E,5,FALSE),2))","v":1.62},-1,4,4,4,1040,null,null,null,1,2,93]
[94,94,4,10,4,"228;235;241","化神期","前",4,228,235,241,{"$f":"[1]ResourceLevelConfig!$E98*10","v":14240},-1,-1,-1,-1,-1,-1,0,{"$f":"[3]主表!J96","v":259.50066666666669},{"$f":"[3]主表!K96","v":8.3800000000000008},{"$f":"[3]主表!L96","v":8.3800000000000008},{"$f":"[3]主表!M96","v":0},{"$f":"[3]主表!$G96","v":1476},{"$f":"[3]升级!$H96","v":1300},{"$f":"MAX(1,ROUND(100/(24*3600)*VLOOKUP(B98,[1]ResourceLevelConfig!$A:$E,5,FALSE),2))","v":1.65},-1,4,4,4,1050,null,null,null,1,2,94]
[95,95,4,10,5,"228;235;242","化神期","前",5,228,235,242,{"$f":"[1]ResourceLevelConfig!$E99*10","v":14520},-1,-1,-1,-1,-1,-1,{"$f":"IF(G99=G100,0,CONCATENATE(\"1;1\"))","v":0},{"$f":"[3]主表!J97","v":264.83},{"$f":"[3]主表!K97","v":8.52},{"$f":"[3]主表!L97","v":8.52},{"$f":"[3]主表!M97","v":0},{"$f":"[3]主表!$G97","v":1510},{"$f":"[3]升级!$H97","v":1300},{"$f":"MAX(1,ROUND(100/(24*3600)*VLOOKUP(B99,[1]ResourceLevelConfig!$A:$E,5,FALSE),2))","v":1.68},-1,4,4,4,1060,null,null,null,1,2,95]
[96,96,4,10,6,"228;235;243","化神期","前",6,228,235,243,{"$f":"[1]ResourceLevelConfig!$E100*10","v":14810},-1,-1,-1,-1,-1,-1,0,{"$f":"[3]主表!J98","v":270.19200000000001},{"$f":"[3]主表!K98","v":8.66},{"$f":"[3]主表!L98","v":8.66},{"$f":"[3]主表!M98","v":0},{"$f":"[3]主表!$G98","v":1545},{"$f":"[3]升级!$H98","v":1300},{"$f":"MAX(1,ROUND(100/(24*3600)*VLOOKUP(B100,[1]ResourceLevelConfig!$A:$E,5,FALSE),2))","v":1.71},-1,4,4,4,1070,null,null,null,1,2,96]
[97,97,4,10,7,"228;235;244","化神期","前",7,228,235,244,{"$f":"[1]ResourceLevelConfig!$E101*10","v":15110},-1,-1,-1,-1,-1,-1,0,{"$f":"[3]主表!J99","v":275.5866666666667},{"$f":"[3]主表!K99","v":8.8000000000000007},{"$f":"[3]主表!L99","v":8.8000000000000007},{"$f":"[3]主表!M99","v":0},{"$f":"[3]主表!$G99","v":1580},{"$f":"[3]升级!$H99","v":1300},{"$f":"MAX(1,ROUND(100/(24*3600)*VLOOKUP(B101,[1]ResourceLevelConfig!$A:$E,5,FALSE),2))","v":1.75},-1,4,4,4,1080,null,null,null,1,2,97]
[98,98,4,10,8,"228;235;245","化神期","前",8,228,235,245,{"$f":"[1]ResourceLevelConfig!$E102*10","v":15410},-1,-1,-1,-1,-1,-1,0,{"$f":"[3]主表!J100","v":281.01400000000001},{"$f":"[3]主表!K100","v":8.94},{"$f":"[3]主表!L100","v":8.94},{"$f":"[3]主表!M100","v":0},{"$f":"[3]主表!$G100","v":1616},{"$f":"[3]升级!$H100","v":1300},{"$f":"MAX(1,ROUND(100/(24*3600)*VLOOKUP(B102,[1]ResourceLevelConfig!$A:$E,5,FALSE),2))","v":1.78},-1,4,4,4,1090,null,null,null,1,2,98]
[99,99,4,10,9,"228;235;246","化神期","前",9,228,235,246,{"$f":"[1]ResourceLevelConfig!$E103*10","v":15720},-1,-1,-1,-1,-1,-1,0,{"$f":"[3]主表!J101","v":287.10500000000002},{"$f":"[3]主表!K101","v":9.1},{"$f":"[3]主表!L101","v":9.1},{"$f":"[3]主表!M101","v":0},{"$f":"[3]主表!$G101","v":1656},{"$f":"[3]升级!$H101","v":1300},{"$f":"MAX(1,ROUND(100/(24*3600)*VLOOKUP(B103,[1]ResourceLevelConfig!$A:$E,5,FALSE),2))","v":1.82},-1,4,4,4,1100,null,null,null,1,2,99]
[100,100,4,10,10,"228;235;247","化神期","前",10,228,235,247,{"$f":"[1]ResourceLevelConfig!$E104*10","v":16030},100004,20,1301,1,1301,1,0,{"$f":"[3]主表!J102","v":307.16666666666669},{"$f":"[3]主表!K102","v":9.6999999999999993},{"$f":"[3]主表!L102","v":9.6999999999999993},{"$f":"[3]主表!M102","v":0},{"$f":"[3]主表!$G102","v":1765},{"$f":"[3]升级!$H102","v":1300},{"$f":"MAX(1,ROUND(100/(24*3600)*VLOOKUP(B104,[1]ResourceLevelConfig!$A:$E,5,FALSE),2))","v":1.86},20,4,4,4,1110,null,null,null,1,2,100]
[101,101,4,11,1,"228;236;238","化神期","中",1,228,236,238,{"$f":"[1]ResourceLevelConfig!$E105*10","v":16350},-1,-1,-1,-1,{"$f":"IF(I105=10,\"1001;1002;1004\",-1)","v":-1},-1,0,{"$f":"[3]主表!J103","v":313.38366666666667},{"$f":"[3]主表!K103","v":9.86},{"$f":"[3]主表!L103","v":9.86},{"$f":"[3]主表!M103","v":0},{"$f":"[3]主表!$G103","v":1859},{"$f":"[3]升级!$H103","v":1300},{"$f":"MAX(1,ROUND(100/(24*3600)*VLOOKUP(B105,[1]ResourceLevelConfig!$A:$E,5,FALSE),2))","v":1.89},-1,4,4,4,1120,null,null,null,1,2,101]
[102,102,4,11,2,"228;236;239","化神期","中",2,228,236,239,{"$f":"[1]ResourceLevelConfig!$E106*10","v":16680},-1,-1,-1,-1,-1,-1,0,{"$f":"[3]主表!J104","v":319.63799999999998},{"$f":"[3]主表!K104","v":10.02},{"$f":"[3]主表!L104","v":10.02},{"$f":"[3]主表!M104","v":0},{"$f":"[3]主表!$G104","v":1895},{"$f":"[3]升级!$H104","v":1300},{"$f":"MAX(1,ROUND(100/(24*3600)*VLOOKUP(B106,[1]ResourceLevelConfig!$A:$E,5,FALSE),2))","v":1.93},-1,4,4,4,1130,null,null,null,1,2,102]
[103,103,4,11,3,"228;236;240","化神期","中",3,228,236,240,{"$f":"[1]ResourceLevelConfig!$E107*10","v":17010},-1,-1,-1,-1,-1,-1,0,{"$f":"[3]主表!J105","v":325.92966666666666},{"$f":"[3]主表!K105","v":10.18},{"$f":"[3]主表!L105","v":10.18},{"$f":"[3]主表!M105","v":0},{"$f":"[3]主表!$G105","v":1930},{"$f":"[3]升级!$H105","v":1300},{"$f":"MAX(1,ROUND(100/(24*3600)*VLOOKUP(B107,[1]ResourceLevelConfig!$A:$E,5,FALSE),2))","v":1.97},-1,4,4,4,1140,null,null,null,1,2,103]
[104,104,4,11,4,"228;236;241","化神期","中",4,228,236,241,{"$f":"[1]ResourceLevelConfig!$E108*10","v":17350},-1,-1,-1,-1,-1,-1,0,{"$f":"[3]主表!J106","v":332.9013333333333},{"$f":"[3]主表!K106","v":10.36},{"$f":"[3]主表!L106","v":10.36},{"$f":"[3]主表!M106","v":0},{"$f":"[3]主表!$G106","v":1970},{"$f":"[3]升级!$H106","v":1300},{"$f":"MAX(1,ROUND(100/(24*3600)*VLOOKUP(B108,[1]ResourceLevelConfig!$A:$E,5,FALSE),2))","v":2.0099999999999998},-1,4,4,4,1150,null,null,null,1,2,104]
[105,105,4,11,5,"228;236;242","化神期","中",5,228,236,242,{"$f":"[1]ResourceLevelConfig!$E109*10","v":17700},-1,-1,-1,-1,-1,-1,0,{"$f":"[3]主表!J107","v":339.27},{"$f":"[3]主表!K107","v":10.52},{"$f":"[3]主表!L107","v":10.52},{"$f":"[3]主表!M107","v":0},{"$f":"[3]主表!$G107","v":2006},{"$f":"[3]升级!$H107","v":1300},{"$f":"MAX(1,ROUND(100/(24*3600)*VLOOKUP(B109,[1]ResourceLevelConfig!$A:$E,5,FALSE),2))","v":2.0499999999999998},-1,4,4,4,1160,null,null,null,1,2,105]
[106,106,4,11,6,"228;236;243","化神期","中",6,228,236,243,{"$f":"[1]ResourceLevelConfig!$E110*10","v":18050},-1,-1,-1,-1,-1,-1,0,{"$f":"[3]主表!J108","v":346.32333333333327},{"$f":"[3]主表!K108","v":10.7},{"$f":"[3]主表!L108","v":10.7},{"$f":"[3]主表!M108","v":0},{"$f":"[3]主表!$G108","v":2046},{"$f":"[3]升级!$H108","v":1300},{"$f":"MAX(1,ROUND(100/(24*3600)*VLOOKUP(B110,[1]ResourceLevelConfig!$A:$E,5,FALSE),2))","v":2.09},-1,4,4,4,1170,null,null,null,1,2,106]
[107,107,4,11,7,"228;236;244","化神期","中",7,228,236,244,{"$f":"[1]ResourceLevelConfig!$E111*10","v":18410},-1,-1,-1,-1,-1,-1,0,{"$f":"[3]主表!J109","v":353.4186666666667},{"$f":"[3]主表!K109","v":10.88},{"$f":"[3]主表!L109","v":10.88},{"$f":"[3]主表!M109","v":0},{"$f":"[3]主表!$G109","v":2086},{"$f":"[3]升级!$H109","v":1300},{"$f":"MAX(1,ROUND(100/(24*3600)*VLOOKUP(B111,[1]ResourceLevelConfig!$A:$E,5,FALSE),2))","v":2.13},-1,4,4,4,1180,null,null,null,1,2,107]
[108,108,4,11,8,"228;236;245","化神期","中",8,228,236,245,{"$f":"[1]ResourceLevelConfig!$E112*10","v":18780},-1,-1,-1,-1,-1,-1,0,{"$f":"[3]主表!J110","v":359.90399999999994},{"$f":"[3]主表!K110","v":11.04},{"$f":"[3]主表!L110","v":11.04},{"$f":"[3]主表!M110","v":0},{"$f":"[3]主表!$G110","v":2124},{"$f":"[3]升级!$H110","v":1300},{"$f":"MAX(1,ROUND(100/(24*3600)*VLOOKUP(B112,[1]ResourceLevelConfig!$A:$E,5,FALSE),2))","v":2.17},-1,4,4,4,1190,null,null,null,1,2,108]
[109,109,4,11,9,"228;236;246","化神期","中",9,228,236,246,{"$f":"[1]ResourceLevelConfig!$E113*10","v":19160},-1,-1,-1,-1,-1,-1,0,{"$f":"[3]主表!J111","v":367.7353333333333},{"$f":"[3]主表!K111","v":11.24},{"$f":"[3]主表!L111","v":11.24},{"$f":"[3]主表!M111","v":0},{"$f":"[3]主表!$G111","v":2168},{"$f":"[3]升级!$H111","v":1300},{"$f":"MAX(1,ROUND(100/(24*3600)*VLOOKUP(B113,[1]ResourceLevelConfig!$A:$E,5,FALSE),2))","v":2.2200000000000002},-1,4,4,4,1200,null,null,null,1,2,109]
[110,110,4,11,10,"228;236;247","化神期","中",10,228,236,247,{"$f":"[1]ResourceLevelConfig!$E114*10","v":19540},100004,20,1301,1,"1301;1302","1;1",0,{"$f":"[3]主表!J112","v":393.34333333333336},{"$f":"[3]主表!K112","v":11.98},{"$f":"[3]主表!L112","v":11.98},{"$f":"[3]主表!M112","v":0},{"$f":"[3]主表!$G112","v":2302},{"$f":"[3]升级!$H112","v":1300},{"$f":"MAX(1,ROUND(100/(24*3600)*VLOOKUP(B114,[1]ResourceLevelConfig!$A:$E,5,FALSE),2))","v":2.2599999999999998},20,4,4,4,1210,null,null,null,1,2,110]
[111,111,4,12,1,"228;237;238","化神期","后",1,228,237,238,{"$f":"[1]ResourceLevelConfig!$E115*10","v":19930},-1,-1,-1,-1,{"$f":"IF(I115=10,\"1001;1002;1004\",-1)","v":-1},-1,0,{"$f":"[3]主表!J113","v":400.67200000000003},{"$f":"[3]主表!K113","v":12.16},{"$f":"[3]主表!L113","v":12.16},{"$f":"[3]主表!M113","v":0},{"$f":"[3]主表!$G113","v":2420},{"$f":"[3]升级!$H113","v":1300},{"$f":"MAX(1,ROUND(100/(24*3600)*VLOOKUP(B115,[1]ResourceLevelConfig!$A:$E,5,FALSE),2))","v":2.31},-1,4,4,4,1220,null,null,null,1,2,111]
[112,112,4,12,2,"228;237;239","化神期","后",2,228,237,239,{"$f":"[1]ResourceLevelConfig!$E116*10","v":20330},-1,-1,-1,-1,-1,-1,0,{"$f":"[3]主表!J114","v":408.70399999999995},{"$f":"[3]主表!K114","v":12.36},{"$f":"[3]主表!L114","v":12.36},{"$f":"[3]主表!M114","v":0},{"$f":"[3]主表!$G114","v":2466},{"$f":"[3]升级!$H114","v":1300},{"$f":"MAX(1,ROUND(100/(24*3600)*VLOOKUP(B116,[1]ResourceLevelConfig!$A:$E,5,FALSE),2))","v":2.35},-1,4,4,4,1230,null,null,null,1,2,112]
[113,113,4,12,3,"228;237;240","化神期","后",3,228,237,240,{"$f":"[1]ResourceLevelConfig!$E117*10","v":20740},-1,-1,-1,-1,-1,-1,0,{"$f":"[3]主表!J115","v":417.44633333333331},{"$f":"[3]主表!K115","v":12.58},{"$f":"[3]主表!L115","v":12.58},{"$f":"[3]主表!M115","v":0},{"$f":"[3]主表!$G115","v":2516},{"$f":"[3]升级!$H115","v":1300},{"$f":"MAX(1,ROUND(100/(24*3600)*VLOOKUP(B117,[1]ResourceLevelConfig!$A:$E,5,FALSE),2))","v":2.4},-1,4,4,4,1240,null,null,null,1,2,113]
[114,114,4,12,4,"228;237;241","化神期","后",4,228,237,241,{"$f":"[1]ResourceLevelConfig!$E118*10","v":21150},-1,-1,-1,-1,-1,-1,0,{"$f":"[3]主表!J116","v":425.57400000000001},{"$f":"[3]主表!K116","v":12.78},{"$f":"[3]主表!L116","v":12.78},{"$f":"[3]主表!M116","v":0},{"$f":"[3]主表!$G116","v":2563},{"$f":"[3]升级!$H116","v":1300},{"$f":"MAX(1,ROUND(100/(24*3600)*VLOOKUP(B118,[1]ResourceLevelConfig!$A:$E,5,FALSE),2))","v":2.4500000000000002},-1,4,4,4,1250,null,null,null,1,2,114]
[115,115,4,12,5,"228;237;242","化神期","后",5,228,237,242,{"$f":"[1]ResourceLevelConfig!$E119*10","v":21570},-1,-1,-1,-1,-1,-1,0,{"$f":"[3]主表!J117","v":434.41666666666669},{"$f":"[3]主表!K117","v":13},{"$f":"[3]主表!L117","v":13},{"$f":"[3]主表!M117","v":0},{"$f":"[3]主表!$G117","v":2613},{"$f":"[3]升级!$H117","v":1300},{"$f":"MAX(1,ROUND(100/(24*3600)*VLOOKUP(B119,[1]ResourceLevelConfig!$A:$E,5,FALSE),2))","v":2.5},-1,4,4,4,1260,null,null,null,1,2,115]
[116,116,4,12,6,"228;237;243","化神期","后",6,228,237,243,{"$f":"[1]ResourceLevelConfig!$E120*10","v":22000},-1,-1,-1,-1,-1,-1,0,{"$f":"[3]主表!J118","v":442.64000000000004},{"$f":"[3]主表!K118","v":13.2},{"$f":"[3]主表!L118","v":13.2},{"$f":"[3]主表!M118","v":0},{"$f":"[3]主表!$G118","v":2661},{"$f":"[3]升级!$H118","v":1300},{"$f":"MAX(1,ROUND(100/(24*3600)*VLOOKUP(B120,[1]ResourceLevelConfig!$A:$E,5,FALSE),2))","v":2.5499999999999998},-1,4,4,4,1270,null,null,null,1,2,116]
[117,117,4,12,7,"228;237;244","化神期","后",7,228,237,244,{"$f":"[1]ResourceLevelConfig!$E121*10","v":22440},-1,-1,-1,-1,-1,-1,0,{"$f":"[3]主表!J119","v":451.58300000000003},{"$f":"[3]主表!K119","v":13.42},{"$f":"[3]主表!L119","v":13.42},{"$f":"[3]主表!M119","v":0},{"$f":"[3]主表!$G119","v":2712},{"$f":"[3]升级!$H119","v":1300},{"$f":"MAX(1,ROUND(100/(24*3600)*VLOOKUP(B121,[1]ResourceLevelConfig!$A:$E,5,FALSE),2))","v":2.6},-1,4,4,4,1280,null,null,null,1,2,117]
[118,118,4,12,8,"228;237;245","化神期","后",8,228,237,245,{"$f":"[1]ResourceLevelConfig!$E122*10","v":22890},-1,-1,-1,-1,-1,-1,0,{"$f":"[3]主表!J120","v":460.5773333333334},{"$f":"[3]主表!K120","v":13.64},{"$f":"[3]主表!L120","v":13.64},{"$f":"[3]主表!M120","v":0},{"$f":"[3]主表!$G120","v":2763},{"$f":"[3]升级!$H120","v":1300},{"$f":"MAX(1,ROUND(100/(24*3600)*VLOOKUP(B122,[1]ResourceLevelConfig!$A:$E,5,FALSE),2))","v":2.65},-1,4,4,4,1290,null,null,null,1,2,118]
[119,119,4,12,9,"228;237;246","化神期","后",9,228,237,246,{"$f":"[1]ResourceLevelConfig!$E123*10","v":23350},-1,-1,-1,-1,-1,-1,0,{"$f":"[3]主表!J121","v":469.62299999999999},{"$f":"[3]主表!K121","v":13.86},{"$f":"[3]主表!L121","v":13.86},{"$f":"[3]主表!M121","v":0},{"$f":"[3]主表!$G121","v":2816},{"$f":"[3]升级!$H121","v":1300},{"$f":"MAX(1,ROUND(100/(24*3600)*VLOOKUP(B123,[1]ResourceLevelConfig!$A:$E,5,FALSE),2))","v":2.7},-1,4,4,4,1300,null,null,null,1,2,119]
[120,120,4,12,10,"228;237;247","化神期","后",10,228,237,247,{"$f":"[1]ResourceLevelConfig!$E124*10","v":23820},100004,20,1301,1,"1301;1302;1303","1;1;1","1;1",{"$f":"[3]主表!J122","v":533.79999999999995},{"$f":"[3]主表!K122","v":15.7},{"$f":"[3]主表!L122","v":15.7},{"$f":"[3]主表!M122","v":0},{"$f":"[3]主表!$G122","v":3149},{"$f":"[3]升级!$H122","v":1300},{"$f":"MAX(1,ROUND(100/(24*3600)*VLOOKUP(B124,[1]ResourceLevelConfig!$A:$E,5,FALSE),2))","v":2.76},50,4,4,4,1310,null,null,null,1,2,120]
[121,121,5,13,1,"229;235;238","炼虚期","前",1,229,235,238,{"$f":"[1]ResourceLevelConfig!$E125*10","v":24300},-1,-1,-1,-1,{"$f":"IF(I125=10,\"1001;1002;1004\",-1)","v":-1},{"$f":"IF(R125=-1,-1,\"100;200;300\")","v":-1},0,{"$f":"[3]主表!J123","v":544.50200000000007},{"$f":"[3]主表!K123","v":15.96},{"$f":"[3]主表!L123","v":15.96},{"$f":"[3]主表!M123","v":0},{"$f":"[3]主表!$G123","v":3340},{"$f":"[3]升级!$H123","v":1400},{"$f":"MAX(1,ROUND(100/(24*3600)*VLOOKUP(B125,[1]ResourceLevelConfig!$A:$E,5,FALSE),2))","v":2.81},-1,4,4,4,1320,null,null,null,1,3,121]
[122,122,5,13,2,"229;235;239","炼虚期","前",2,229,235,239,{"$f":"[1]ResourceLevelConfig!$E126*10","v":24790},-1,-1,-1,-1,{"$f":"IF(I126=10,\"1001;1002;1004\",-1)","v":-1},{"$f":"IF(R126=-1,-1,\"100;200;300\")","v":-1},0,{"$f":"[3]主表!J124","v":555.2646666666667},{"$f":"[3]主表!K124","v":16.22},{"$f":"[3]主表!L124","v":16.22},{"$f":"[3]主表!M124","v":0},{"$f":"[3]主表!$G124","v":3399},{"$f":"[3]升级!$H124","v":1400},{"$f":"MAX(1,ROUND(100/(24*3600)*VLOOKUP(B126,[1]ResourceLevelConfig!$A:$E,5,FALSE),2))","v":2.87},-1,4,4,4,1330,null,null,null,1,3,122]
[123,123,5,13,3,"229;235;240","炼虚期","前",3,229,235,240,{"$f":"[1]ResourceLevelConfig!$E127*10","v":25290},-1,-1,-1,-1,-1,-1,0,{"$f":"[3]主表!J125","v":566.08799999999997},{"$f":"[3]主表!K125","v":16.48},{"$f":"[3]主表!L125","v":16.48},{"$f":"[3]主表!M125","v":0},{"$f":"[3]主表!$G125","v":3458},{"$f":"[3]升级!$H125","v":1400},{"$f":"MAX(1,ROUND(100/(24*3600)*VLOOKUP(B127,[1]ResourceLevelConfig!$A:$E,5,FALSE),2))","v":2.93},-1,4,4,4,1340,null,null,null,1,3,123]
[124,124,5,13,4,"229;235;241","炼虚期","前",4,229,235,241,{"$f":"[1]ResourceLevelConfig!$E128*10","v":25800},-1,-1,-1,-1,-1,-1,0,{"$f":"[3]主表!J126","v":577.66133333333346},{"$f":"[3]主表!K126","v":16.760000000000002},{"$f":"[3]主表!L126","v":16.760000000000002},{"$f":"[3]主表!M126","v":0},{"$f":"[3]主表!$G126","v":3521},{"$f":"[3]升级!$H126","v":1400},{"$f":"MAX(1,ROUND(100/(24*3600)*VLOOKUP(B128,[1]ResourceLevelConfig!$A:$E,5,FALSE),2))","v":2.99},-1,4,4,4,1350,null,null,null,1,3,124]
[125,125,5,13,5,"229;235;242","炼虚期","前",5,229,235,242,{"$f":"[1]ResourceLevelConfig!$E129*10","v":26320},-1,-1,-1,-1,-1,-1,0,{"$f":"[3]主表!J127","v":588.60833333333323},{"$f":"[3]主表!K127","v":17.02},{"$f":"[3]主表!L127","v":17.02},{"$f":"[3]主表!M127","v":0},{"$f":"[3]主表!$G127","v":3581},{"$f":"[3]升级!$H127","v":1400},{"$f":"MAX(1,ROUND(100/(24*3600)*VLOOKUP(B129,[1]ResourceLevelConfig!$A:$E,5,FALSE),2))","v":3.05},-1,4,4,4,1360,null,null,null,1,3,125]
[126,126,5,13,6,"229;235;243","炼虚期","前",6,229,235,243,{"$f":"[1]ResourceLevelConfig!$E130*10","v":26850},-1,-1,-1,-1,-1,-1,0,{"$f":"[3]主表!J128","v":601.00399999999991},{"$f":"[3]主表!K128","v":17.32},{"$f":"[3]主表!L128","v":17.32},{"$f":"[3]主表!M128","v":0},{"$f":"[3]主表!$G128","v":3645},{"$f":"[3]升级!$H128","v":1400},{"$f":"MAX(1,ROUND(100/(24*3600)*VLOOKUP(B130,[1]ResourceLevelConfig!$A:$E,5,FALSE),2))","v":3.11},-1,4,4,4,1370,null,null,null,1,3,126]
[127,127,5,13,7,"229;235;244","炼虚期","前",7,229,235,244,{"$f":"[1]ResourceLevelConfig!$E131*10","v":27390},-1,-1,-1,-1,-1,-1,0,{"$f":"[3]主表!J129","v":612.77333333333331},{"$f":"[3]主表!K129","v":17.600000000000001},{"$f":"[3]主表!L129","v":17.600000000000001},{"$f":"[3]主表!M129","v":0},{"$f":"[3]主表!$G129","v":3705},{"$f":"[3]升级!$H129","v":1400},{"$f":"MAX(1,ROUND(100/(24*3600)*VLOOKUP(B131,[1]ResourceLevelConfig!$A:$E,5,FALSE),2))","v":3.17},-1,{"$f":"AC130","v":4},{"$f":"AD130","v":4},{"$f":"AE130","v":4},1380,null,null,null,1,3,127]
[128,128,5,13,8,"229;235;245","炼虚期","前",8,229,235,245,{"$f":"[1]ResourceLevelConfig!$E132*10","v":27940},-1,-1,-1,-1,-1,-1,0,{"$f":"[3]主表!J130","v":624.60799999999995},{"$f":"[3]主表!K130","v":17.88},{"$f":"[3]主表!L130","v":17.88},{"$f":"[3]主表!M130","v":0},{"$f":"[3]主表!$G130","v":3766},{"$f":"[3]升级!$H130","v":1400},{"$f":"MAX(1,ROUND(100/(24*3600)*VLOOKUP(B132,[1]ResourceLevelConfig!$A:$E,5,FALSE),2))","v":3.23},-1,4,4,4,1390,null,null,null,1,3,128]
[129,129,5,13,9,"229;235;246","炼虚期","前",9,229,235,246,{"$f":"[1]ResourceLevelConfig!$E133*10","v":28500},-1,-1,-1,-1,-1,-1,0,{"$f":"[3]主表!J131","v":637.20900000000006},{"$f":"[3]主表!K131","v":18.18},{"$f":"[3]主表!L131","v":18.18},{"$f":"[3]主表!M131","v":0},{"$f":"[3]主表!$G131","v":3830},{"$f":"[3]升级!$H131","v":1400},{"$f":"MAX(1,ROUND(100/(24*3600)*VLOOKUP(B133,[1]ResourceLevelConfig!$A:$E,5,FALSE),2))","v":3.3},-1,4,4,4,1400,null,null,null,1,3,129]
[130,130,5,13,{"$f":"I134","v":10},{"$f":"_xlfn.TEXTJOIN(\";\",1,J134:L134)","v":"229;235;247"},"炼虚期","前",10,229,235,247,{"$f":"[1]ResourceLevelConfig!$E134*10","v":29070},{"$f":"IF(I134=10,100004,-1)","v":100004},{"$f":"IF(N134=-1,-1,20)","v":20},1301,1,1301,1,0,{"$f":"[3]主表!J132","v":681.53},{"$f":"[3]主表!K132","v":19.38},{"$f":"[3]主表!L132","v":19.38},{"$f":"[3]主表!M132","v":0},{"$f":"[3]主表!$G132","v":4056},{"$f":"[3]升级!$H132","v":1400},{"$f":"MAX(1,ROUND(100/(24*3600)*VLOOKUP(B134,[1]ResourceLevelConfig!$A:$E,5,FALSE),2))","v":3.36},20,4,4,4,{"$f":"MAX(AF133+10,ROUND(10^(B134*0.01+1.405),0))","v":1410},null,null,null,1,3,130]
[131,131,5,14,1,"229;236;238","炼虚期","中",1,229,236,238,{"$f":"[1]ResourceLevelConfig!$E135*10","v":29650},-1,-1,-1,-1,{"$f":"IF(I135=10,\"1001;1002;1004\",-1)","v":-1},-1,0,{"$f":"[3]主表!J133","v":695.08166666666671},{"$f":"[3]主表!K133","v":19.7},{"$f":"[3]主表!L133","v":19.7},{"$f":"[3]主表!M133","v":0},{"$f":"[3]主表!$G133","v":4260},{"$f":"[3]升级!$H133","v":1400},{"$f":"MAX(1,ROUND(100/(24*3600)*VLOOKUP(B135,[1]ResourceLevelConfig!$A:$E,5,FALSE),2))","v":3.43},-1,4,4,4,1420,null,null,null,1,3,131]
[132,132,5,14,2,"229;236;239","炼虚期","中",2,229,236,239,{"$f":"[1]ResourceLevelConfig!$E136*10","v":30240},-1,-1,-1,-1,-1,-1,0,{"$f":"[3]主表!J134","v":708.70800000000008},{"$f":"[3]主表!K134","v":20.02},{"$f":"[3]主表!L134","v":20.02},{"$f":"[3]主表!M134","v":0},{"$f":"[3]主表!$G134","v":4330},{"$f":"[3]升级!$H134","v":1400},{"$f":"MAX(1,ROUND(100/(24*3600)*VLOOKUP(B136,[1]ResourceLevelConfig!$A:$E,5,FALSE),2))","v":3.5},-1,4,4,4,1430,null,null,null,1,3,132]
[133,133,5,14,3,"229;236;240","炼虚期","中",3,229,236,240,{"$f":"[1]ResourceLevelConfig!$E137*10","v":30840},-1,-1,-1,-1,-1,-1,0,{"$f":"[3]主表!J135","v":723.11933333333332},{"$f":"[3]主表!K135","v":20.36},{"$f":"[3]主表!L135","v":20.36},{"$f":"[3]主表!M135","v":0},{"$f":"[3]主表!$G135","v":4404},{"$f":"[3]升级!$H135","v":1400},{"$f":"MAX(1,ROUND(100/(24*3600)*VLOOKUP(B137,[1]ResourceLevelConfig!$A:$E,5,FALSE),2))","v":3.57},-1,4,4,4,1440,null,null,null,1,3,133]
[134,134,5,14,4,"229;236;241","炼虚期","中",4,229,236,241,{"$f":"[1]ResourceLevelConfig!$E138*10","v":31460},-1,-1,-1,-1,-1,-1,0,{"$f":"[3]主表!J136","v":736.89733333333334},{"$f":"[3]主表!K136","v":20.68},{"$f":"[3]主表!L136","v":20.68},{"$f":"[3]主表!M136","v":0},{"$f":"[3]主表!$G136","v":4474},{"$f":"[3]升级!$H136","v":1400},{"$f":"MAX(1,ROUND(100/(24*3600)*VLOOKUP(B138,[1]ResourceLevelConfig!$A:$E,5,FALSE),2))","v":3.64},-1,4,4,4,1450,null,null,null,1,3,134]
[135,135,5,14,5,"229;236;242","炼虚期","中",5,229,236,242,{"$f":"[1]ResourceLevelConfig!$E139*10","v":32090},-1,-1,-1,-1,-1,-1,0,{"$f":"[3]主表!J137","v":751.46500000000003},{"$f":"[3]主表!K137","v":21.02},{"$f":"[3]主表!L137","v":21.02},{"$f":"[3]主表!M137","v":0},{"$f":"[3]主表!$G137","v":4548},{"$f":"[3]升级!$H137","v":1400},{"$f":"MAX(1,ROUND(100/(24*3600)*VLOOKUP(B139,[1]ResourceLevelConfig!$A:$E,5,FALSE),2))","v":3.71},-1,4,4,4,1460,null,null,null,1,3,135]
[136,136,5,14,6,"229;236;243","炼虚期","中",6,229,236,243,{"$f":"[1]ResourceLevelConfig!$E140*10","v":32730},-1,-1,-1,-1,-1,-1,0,{"$f":"[3]主表!J138","v":766.82933333333335},{"$f":"[3]主表!K138","v":21.38},{"$f":"[3]主表!L138","v":21.38},{"$f":"[3]主表!M138","v":0},{"$f":"[3]主表!$G138","v":4627},{"$f":"[3]升级!$H138","v":1400},{"$f":"MAX(1,ROUND(100/(24*3600)*VLOOKUP(B140,[1]ResourceLevelConfig!$A:$E,5,FALSE),2))","v":3.79},-1,4,4,4,1470,null,null,null,1,3,136]
[137,137,5,14,7,"229;236;244","炼虚期","中",7,229,236,244,{"$f":"[1]ResourceLevelConfig!$E141*10","v":33380},-1,-1,-1,-1,-1,-1,0,{"$f":"[3]主表!J139","v":781.55799999999999},{"$f":"[3]主表!K139","v":21.72},{"$f":"[3]主表!L139","v":21.72},{"$f":"[3]主表!M139","v":0},{"$f":"[3]主表!$G139","v":4702},{"$f":"[3]升级!$H139","v":1400},{"$f":"MAX(1,ROUND(100/(24*3600)*VLOOKUP(B141,[1]ResourceLevelConfig!$A:$E,5,FALSE),2))","v":3.86},-1,4,4,4,1480,null,null,null,1,3,137]
[138,138,5,14,8,"229;236;245","炼虚期","中",8,229,236,245,{"$f":"[1]ResourceLevelConfig!$E142*10","v":34050},-1,-1,-1,-1,-1,-1,0,{"$f":"[3]主表!J140","v":797.08799999999997},{"$f":"[3]主表!K140","v":22.08},{"$f":"[3]主表!L140","v":22.08},{"$f":"[3]主表!M140","v":0},{"$f":"[3]主表!$G140","v":4781},{"$f":"[3]升级!$H140","v":1400},{"$f":"MAX(1,ROUND(100/(24*3600)*VLOOKUP(B142,[1]ResourceLevelConfig!$A:$E,5,FALSE),2))","v":3.94},-1,4,4,4,1490,null,null,null,1,3,138]
[139,139,5,14,9,"229;236;246","炼虚期","中",9,229,236,246,{"$f":"[1]ResourceLevelConfig!$E143*10","v":34730},-1,-1,-1,-1,-1,-1,0,{"$f":"[3]主表!J141","v":812.702},{"$f":"[3]主表!K141","v":22.44},{"$f":"[3]主表!L141","v":22.44},{"$f":"[3]主表!M141","v":0},{"$f":"[3]主表!$G141","v":4860},{"$f":"[3]升级!$H141","v":1400},{"$f":"MAX(1,ROUND(100/(24*3600)*VLOOKUP(B143,[1]ResourceLevelConfig!$A:$E,5,FALSE),2))","v":4.0199999999999996},-1,4,4,4,1500,null,null,null,1,3,139]
[140,140,5,14,10,"229;236;247","炼虚期","中",10,229,236,247,{"$f":"[1]ResourceLevelConfig!$E144*10","v":35420},100004,20,1301,1,"1301;1302","1;1",0,{"$f":"[3]主表!J142","v":869.09333333333336},{"$f":"[3]主表!K142","v":23.92},{"$f":"[3]主表!L142","v":23.92},{"$f":"[3]主表!M142","v":0},{"$f":"[3]主表!$G142","v":5147},{"$f":"[3]升级!$H142","v":1400},{"$f":"MAX(1,ROUND(100/(24*3600)*VLOOKUP(B144,[1]ResourceLevelConfig!$A:$E,5,FALSE),2))","v":4.0999999999999996},20,4,4,4,1510,null,null,null,1,3,140]
[141,141,5,15,1,"229;237;238","炼虚期","后",1,229,237,238,{"$f":"[1]ResourceLevelConfig!$E145*10","v":36130},-1,-1,-1,-1,{"$f":"IF(I145=10,\"1001;1002;1004\",-1)","v":-1},-1,0,{"$f":"[3]主表!J143","v":886.46399999999994},{"$f":"[3]主表!K143","v":24.32},{"$f":"[3]主表!L143","v":24.32},{"$f":"[3]主表!M143","v":0},{"$f":"[3]主表!$G143","v":5407},{"$f":"[3]升级!$H143","v":1400},{"$f":"MAX(1,ROUND(100/(24*3600)*VLOOKUP(B145,[1]ResourceLevelConfig!$A:$E,5,FALSE),2))","v":4.18},-1,4,4,4,1520,null,null,null,1,3,141]
[142,142,5,15,2,"229;237;239","炼虚期","后",2,229,237,239,{"$f":"[1]ResourceLevelConfig!$E146*10","v":36850},-1,-1,-1,-1,-1,-1,0,{"$f":"[3]主表!J144","v":903.92799999999988},{"$f":"[3]主表!K144","v":24.72},{"$f":"[3]主表!L144","v":24.72},{"$f":"[3]主表!M144","v":0},{"$f":"[3]主表!$G144","v":5496},{"$f":"[3]升级!$H144","v":1400},{"$f":"MAX(1,ROUND(100/(24*3600)*VLOOKUP(B146,[1]ResourceLevelConfig!$A:$E,5,FALSE),2))","v":4.2699999999999996},-1,4,4,4,1530,null,null,null,1,3,142]
[143,143,5,15,3,"229;237;240","炼虚期","后",3,229,237,240,{"$f":"[1]ResourceLevelConfig!$E147*10","v":37590},-1,-1,-1,-1,-1,-1,0,{"$f":"[3]主表!J145","v":921.4853333333333},{"$f":"[3]主表!K145","v":25.12},{"$f":"[3]主表!L145","v":25.12},{"$f":"[3]主表!M145","v":0},{"$f":"[3]主表!$G145","v":5585},{"$f":"[3]升级!$H145","v":1400},{"$f":"MAX(1,ROUND(100/(24*3600)*VLOOKUP(B147,[1]ResourceLevelConfig!$A:$E,5,FALSE),2))","v":4.3499999999999996},-1,4,4,4,1540,null,null,null,1,3,143]
[144,144,5,15,4,"229;237;241","炼虚期","后",4,229,237,241,{"$f":"[1]ResourceLevelConfig!$E148*10","v":38340},-1,-1,-1,-1,-1,-1,0,{"$f":"[3]主表!J146","v":939.87199999999984},{"$f":"[3]主表!K146","v":25.54},{"$f":"[3]主表!L146","v":25.54},{"$f":"[3]主表!M146","v":0},{"$f":"[3]主表!$G146","v":5679},{"$f":"[3]升级!$H146","v":1400},{"$f":"MAX(1,ROUND(100/(24*3600)*VLOOKUP(B148,[1]ResourceLevelConfig!$A:$E,5,FALSE),2))","v":4.4400000000000004},-1,4,4,4,1550,null,null,null,1,3,144]
[145,145,5,15,5,"229;237;242","炼虚期","后",5,229,237,242,{"$f":"[1]ResourceLevelConfig!$E149*10","v":39110},-1,-1,-1,-1,-1,-1,0,{"$f":"[3]主表!J147","v":958.35666666666668},{"$f":"[3]主表!K147","v":25.96},{"$f":"[3]主表!L147","v":25.96},{"$f":"[3]主表!M147","v":0},{"$f":"[3]主表!$G147","v":5773},{"$f":"[3]升级!$H147","v":1400},{"$f":"MAX(1,ROUND(100/(24*3600)*VLOOKUP(B149,[1]ResourceLevelConfig!$A:$E,5,FALSE),2))","v":4.53},-1,4,4,4,1560,null,null,null,1,3,145]
[146,146,5,15,6,"229;237;243","炼虚期","后",6,229,237,243,{"$f":"[1]ResourceLevelConfig!$E150*10","v":39890},-1,-1,-1,-1,-1,-1,0,{"$f":"[3]主表!J148","v":976.93933333333325},{"$f":"[3]主表!K148","v":26.38},{"$f":"[3]主表!L148","v":26.38},{"$f":"[3]主表!M148","v":0},{"$f":"[3]主表!$G148","v":5867},{"$f":"[3]升级!$H148","v":1400},{"$f":"MAX(1,ROUND(100/(24*3600)*VLOOKUP(B150,[1]ResourceLevelConfig!$A:$E,5,FALSE),2))","v":4.62},-1,4,4,4,1570,null,null,null,1,3,146]
[147,147,5,15,7,"229;237;244","炼虚期","后",7,229,237,244,{"$f":"[1]ResourceLevelConfig!$E151*10","v":40690},-1,-1,-1,-1,-1,-1,0,{"$f":"[3]主表!J149","v":996.36299999999994},{"$f":"[3]主表!K149","v":26.82},{"$f":"[3]主表!L149","v":26.82},{"$f":"[3]主表!M149","v":0},{"$f":"[3]主表!$G149","v":5966},{"$f":"[3]升级!$H149","v":1400},{"$f":"MAX(1,ROUND(100/(24*3600)*VLOOKUP(B151,[1]ResourceLevelConfig!$A:$E,5,FALSE),2))","v":4.71},-1,4,4,4,1580,null,null,null,1,3,147]
[148,148,5,15,8,"229;237;245","炼虚期","后",8,229,237,245,{"$f":"[1]ResourceLevelConfig!$E152*10","v":41500},-1,-1,-1,-1,-1,-1,0,{"$f":"[3]主表!J150","v":1015.8893333333333},{"$f":"[3]主表!K150","v":27.26},{"$f":"[3]主表!L150","v":27.26},{"$f":"[3]主表!M150","v":0},{"$f":"[3]主表!$G150","v":6065},{"$f":"[3]升级!$H150","v":1400},{"$f":"MAX(1,ROUND(100/(24*3600)*VLOOKUP(B152,[1]ResourceLevelConfig!$A:$E,5,FALSE),2))","v":4.8},-1,4,4,4,1590,null,null,null,1,3,148]
[149,149,5,15,9,"229;237;246","炼虚期","后",9,229,237,246,{"$f":"[1]ResourceLevelConfig!$E153*10","v":42330},-1,-1,-1,-1,-1,-1,0,{"$f":"[3]主表!J151","v":1036.2660000000001},{"$f":"[3]主表!K151","v":27.72},{"$f":"[3]主表!L151","v":27.72},{"$f":"[3]主表!M151","v":0},{"$f":"[3]主表!$G151","v":6168},{"$f":"[3]升级!$H151","v":1400},{"$f":"MAX(1,ROUND(100/(24*3600)*VLOOKUP(B153,[1]ResourceLevelConfig!$A:$E,5,FALSE),2))","v":4.9000000000000004},-1,4,4,4,1600,null,null,null,1,3,149]
[150,150,5,15,10,"229;237;247","炼虚期","后",10,229,237,247,{"$f":"[1]ResourceLevelConfig!$E154*10","v":43180},100004,20,1301,1,"1301;1302;1303","1;1;1","1;1",{"$f":"[3]主表!J152","v":1176},{"$f":"[3]主表!K152","v":31.36},{"$f":"[3]主表!L152","v":31.36},{"$f":"[3]主表!M152","v":0},{"$f":"[3]主表!$G152","v":6875},{"$f":"[3]升级!$H152","v":1400},{"$f":"MAX(1,ROUND(100/(24*3600)*VLOOKUP(B154,[1]ResourceLevelConfig!$A:$E,5,FALSE),2))","v":5},50,4,4,4,1610,null,null,null,1,3,150]
[151,151,6,16,1,"230;235;238","合体期","前",1,230,235,238,{"$f":"[1]ResourceLevelConfig!$E155*10","v":44040},-1,-1,-1,-1,{"$f":"IF(I155=10,\"1001;1002;1004\",-1)","v":-1},{"$f":"IF(R155=-1,-1,\"100;200;300\")","v":-1},0,{"$f":"[3]主表!J153","v":1199.2193333333332},{"$f":"[3]主表!K153","v":31.88},{"$f":"[3]主表!L153","v":31.88},{"$f":"[3]主表!M153","v":0},{"$f":"[3]主表!$G153","v":7280},{"$f":"[3]升级!$H153","v":1500},{"$f":"MAX(1,ROUND(100/(24*3600)*VLOOKUP(B155,[1]ResourceLevelConfig!$A:$E,5,FALSE),2))","v":5.0999999999999996},-1,4,4,4,1620,null,null,null,1,3,151]
[152,152,6,16,2,"230;235;239","合体期","前",2,230,235,239,{"$f":"[1]ResourceLevelConfig!$E156*10","v":44920},-1,-1,-1,-1,{"$f":"IF(I156=10,\"1001;1002;1004\",-1)","v":-1},{"$f":"IF(R156=-1,-1,\"100;200;300\")","v":-1},0,{"$f":"[3]主表!J154","v":1222.56},{"$f":"[3]主表!K154","v":32.4},{"$f":"[3]主表!L154","v":32.4},{"$f":"[3]主表!M154","v":0},{"$f":"[3]主表!$G154","v":7399},{"$f":"[3]升级!$H154","v":1500},{"$f":"MAX(1,ROUND(100/(24*3600)*VLOOKUP(B156,[1]ResourceLevelConfig!$A:$E,5,FALSE),2))","v":5.2},-1,4,4,4,1630,null,null,null,1,3,152]
[153,153,6,16,3,"230;235;240","合体期","前",3,230,235,240,{"$f":"[1]ResourceLevelConfig!$E157*10","v":45820},-1,-1,-1,-1,-1,-1,0,{"$f":"[3]主表!J155","v":1246.779},{"$f":"[3]主表!K155","v":32.94},{"$f":"[3]主表!L155","v":32.94},{"$f":"[3]主表!M155","v":0},{"$f":"[3]主表!$G155","v":7521},{"$f":"[3]升级!$H155","v":1500},{"$f":"MAX(1,ROUND(100/(24*3600)*VLOOKUP(B157,[1]ResourceLevelConfig!$A:$E,5,FALSE),2))","v":5.3},-1,4,4,4,1640,null,null,null,1,3,153]
[154,154,6,16,4,"230;235;241","合体期","前",4,230,235,241,{"$f":"[1]ResourceLevelConfig!$E158*10","v":46740},-1,-1,-1,-1,-1,-1,0,{"$f":"[3]主表!J156","v":1271.124},{"$f":"[3]主表!K156","v":33.479999999999997},{"$f":"[3]主表!L156","v":33.479999999999997},{"$f":"[3]主表!M156","v":0},{"$f":"[3]主表!$G156","v":7645},{"$f":"[3]升级!$H156","v":1500},{"$f":"MAX(1,ROUND(100/(24*3600)*VLOOKUP(B158,[1]ResourceLevelConfig!$A:$E,5,FALSE),2))","v":5.41},-1,4,4,4,1650,null,null,null,1,3,154]
[155,155,6,16,5,"230;235;242","合体期","前",5,230,235,242,{"$f":"[1]ResourceLevelConfig!$E159*10","v":47670},-1,-1,-1,-1,-1,-1,0,{"$f":"[3]主表!J157","v":1296.3566666666668},{"$f":"[3]主表!K157","v":34.04},{"$f":"[3]主表!L157","v":34.04},{"$f":"[3]主表!M157","v":0},{"$f":"[3]主表!$G157","v":7773},{"$f":"[3]升级!$H157","v":1500},{"$f":"MAX(1,ROUND(100/(24*3600)*VLOOKUP(B159,[1]ResourceLevelConfig!$A:$E,5,FALSE),2))","v":5.52},-1,4,4,4,1660,null,null,null,1,3,155]
[156,156,6,16,6,"230;235;243","合体期","前",6,230,235,243,{"$f":"[1]ResourceLevelConfig!$E160*10","v":48620},-1,-1,-1,-1,-1,-1,0,{"$f":"[3]主表!J158","v":1321.7200000000003},{"$f":"[3]主表!K158","v":34.6},{"$f":"[3]主表!L158","v":34.6},{"$f":"[3]主表!M158","v":0},{"$f":"[3]主表!$G158","v":7901},{"$f":"[3]升级!$H158","v":1500},{"$f":"MAX(1,ROUND(100/(24*3600)*VLOOKUP(B160,[1]ResourceLevelConfig!$A:$E,5,FALSE),2))","v":5.63},-1,4,4,4,1670,null,null,null,1,3,156]
[157,157,6,16,7,"230;235;244","合体期","前",7,230,235,244,{"$f":"[1]ResourceLevelConfig!$E161*10","v":49590},-1,-1,-1,-1,-1,-1,0,{"$f":"[3]主表!J159","v":1347.2139999999999},{"$f":"[3]主表!K159","v":35.159999999999997},{"$f":"[3]主表!L159","v":35.159999999999997},{"$f":"[3]主表!M159","v":0},{"$f":"[3]主表!$G159","v":8030},{"$f":"[3]升级!$H159","v":1500},{"$f":"MAX(1,ROUND(100/(24*3600)*VLOOKUP(B161,[1]ResourceLevelConfig!$A:$E,5,FALSE),2))","v":5.74},-1,4,4,4,1680,null,null,null,1,3,157]
[158,158,6,16,8,"230;235;245","合体期","前",8,230,235,245,{"$f":"[1]ResourceLevelConfig!$E162*10","v":50580},-1,-1,-1,-1,-1,-1,0,{"$f":"[3]主表!J160","v":1373.6073333333334},{"$f":"[3]主表!K160","v":35.74},{"$f":"[3]主表!L160","v":35.74},{"$f":"[3]主表!M160","v":0},{"$f":"[3]主表!$G160","v":8163},{"$f":"[3]升级!$H160","v":1500},{"$f":"MAX(1,ROUND(100/(24*3600)*VLOOKUP(B162,[1]ResourceLevelConfig!$A:$E,5,FALSE),2))","v":5.85},-1,4,4,4,1690,null,null,null,1,3,158]
[159,159,6,16,9,"230;235;246","合体期","前",9,230,235,246,{"$f":"[1]ResourceLevelConfig!$E163*10","v":51590},-1,-1,-1,-1,-1,-1,{"$f":"IF(G163=G164,0,CONCATENATE(\"1;1\"))","v":0},{"$f":"[3]主表!J161","v":1400.9070000000002},{"$f":"[3]主表!K161","v":36.340000000000003},{"$f":"[3]主表!L161","v":36.340000000000003},{"$f":"[3]主表!M161","v":0},{"$f":"[3]主表!$G161","v":8301},{"$f":"[3]升级!$H161","v":1500},{"$f":"MAX(1,ROUND(100/(24*3600)*VLOOKUP(B163,[1]ResourceLevelConfig!$A:$E,5,FALSE),2))","v":5.97},-1,4,4,4,1700,null,null,null,1,3,159]
[160,160,6,16,10,"230;235;247","合体期","前",10,230,235,247,{"$f":"[1]ResourceLevelConfig!$E164*10","v":52620},100004,20,1301,1,1301,1,0,{"$f":"[3]主表!J162","v":1497.1733333333332},{"$f":"[3]主表!K162","v":38.72},{"$f":"[3]主表!L162","v":38.72},{"$f":"[3]主表!M162","v":175.72},{"$f":"[3]主表!$G162","v":8786},{"$f":"[3]升级!$H162","v":1500},{"$f":"MAX(1,ROUND(100/(24*3600)*VLOOKUP(B164,[1]ResourceLevelConfig!$A:$E,5,FALSE),2))","v":6.09},20,4,4,4,1710,null,null,null,1,3,160]
[161,161,6,17,1,"230;236;238","合体期","中",1,230,236,238,{"$f":"[1]ResourceLevelConfig!$E165*10","v":53670},-1,-1,-1,-1,{"$f":"IF(I165=10,\"1001;1002;1004\",-1)","v":-1},-1,0,{"$f":"[3]主表!J163","v":1526.5119999999999},{"$f":"[3]主表!K163","v":39.36},{"$f":"[3]主表!L163","v":39.36},{"$f":"[3]主表!M163","v":184.52},{"$f":"[3]主表!$G163","v":9226},{"$f":"[3]升级!$H163","v":1500},{"$f":"MAX(1,ROUND(100/(24*3600)*VLOOKUP(B165,[1]ResourceLevelConfig!$A:$E,5,FALSE),2))","v":6.21},-1,4,4,4,1720,null,null,null,1,3,161]
[162,162,6,17,2,"230;236;239","合体期","中",2,230,236,239,{"$f":"[1]ResourceLevelConfig!$E166*10","v":54740},-1,-1,-1,-1,-1,-1,0,{"$f":"[3]主表!J164","v":1556.7779999999998},{"$f":"[3]主表!K164","v":40.020000000000003},{"$f":"[3]主表!L164","v":40.020000000000003},{"$f":"[3]主表!M164","v":187.6},{"$f":"[3]主表!$G164","v":9380},{"$f":"[3]升级!$H164","v":1500},{"$f":"MAX(1,ROUND(100/(24*3600)*VLOOKUP(B166,[1]ResourceLevelConfig!$A:$E,5,FALSE),2))","v":6.34},-1,4,4,4,1730,null,null,null,1,3,162]
[163,163,6,17,3,"230;236;240","合体期","中",3,230,236,240,{"$f":"[1]ResourceLevelConfig!$E167*10","v":55830},-1,-1,-1,-1,-1,-1,0,{"$f":"[3]主表!J165","v":1587.1979999999999},{"$f":"[3]主表!K165","v":40.68},{"$f":"[3]主表!L165","v":40.68},{"$f":"[3]主表!M165","v":190.66},{"$f":"[3]主表!$G165","v":9533},{"$f":"[3]升级!$H165","v":1500},{"$f":"MAX(1,ROUND(100/(24*3600)*VLOOKUP(B167,[1]ResourceLevelConfig!$A:$E,5,FALSE),2))","v":6.46},-1,4,4,4,1740,null,null,null,1,3,163]
[164,164,6,17,4,"230;236;241","合体期","中",4,230,236,241,{"$f":"[1]ResourceLevelConfig!$E168*10","v":56950},-1,-1,-1,-1,-1,-1,0,{"$f":"[3]主表!J166","v":1617.7719999999999},{"$f":"[3]主表!K166","v":41.34},{"$f":"[3]主表!L166","v":41.34},{"$f":"[3]主表!M166","v":193.76},{"$f":"[3]主表!$G166","v":9688},{"$f":"[3]升级!$H166","v":1500},{"$f":"MAX(1,ROUND(100/(24*3600)*VLOOKUP(B168,[1]ResourceLevelConfig!$A:$E,5,FALSE),2))","v":6.59},-1,4,4,4,1750,null,null,null,1,3,164]
[165,165,6,17,5,"230;236;242","合体期","中",5,230,236,242,{"$f":"[1]ResourceLevelConfig!$E169*10","v":58090},-1,-1,-1,-1,-1,-1,0,{"$f":"[3]主表!J167","v":1649.2850000000001},{"$f":"[3]主表!K167","v":42.02},{"$f":"[3]主表!L167","v":42.02},{"$f":"[3]主表!M167","v":196.94},{"$f":"[3]主表!$G167","v":9847},{"$f":"[3]升级!$H167","v":1500},{"$f":"MAX(1,ROUND(100/(24*3600)*VLOOKUP(B169,[1]ResourceLevelConfig!$A:$E,5,FALSE),2))","v":6.72},-1,4,4,4,1760,null,null,null,1,3,165]
[166,166,6,17,6,"230;236;243","合体期","中",6,230,236,243,{"$f":"[1]ResourceLevelConfig!$E170*10","v":59250},-1,-1,-1,-1,-1,-1,0,{"$f":"[3]主表!J168","v":1681.7439999999999},{"$f":"[3]主表!K168","v":42.72},{"$f":"[3]主表!L168","v":42.72},{"$f":"[3]主表!M168","v":200.2},{"$f":"[3]主表!$G168","v":10010},{"$f":"[3]升级!$H168","v":1500},{"$f":"MAX(1,ROUND(100/(24*3600)*VLOOKUP(B170,[1]ResourceLevelConfig!$A:$E,5,FALSE),2))","v":6.86},-1,4,4,4,1770,null,null,null,1,3,166]
[167,167,6,17,7,"230;236;244","合体期","中",7,230,236,244,{"$f":"[1]ResourceLevelConfig!$E171*10","v":60440},-1,-1,-1,-1,-1,-1,0,{"$f":"[3]主表!J169","v":1714.3663333333334},{"$f":"[3]主表!K169","v":43.42},{"$f":"[3]主表!L169","v":43.42},{"$f":"[3]主表!M169","v":203.5},{"$f":"[3]主表!$G169","v":10175},{"$f":"[3]升级!$H169","v":1500},{"$f":"MAX(1,ROUND(100/(24*3600)*VLOOKUP(B171,[1]ResourceLevelConfig!$A:$E,5,FALSE),2))","v":7},-1,4,4,4,1780,null,null,null,1,3,167]
[168,168,6,17,8,"230;236;245","合体期","中",8,230,236,245,{"$f":"[1]ResourceLevelConfig!$E172*10","v":61650},-1,-1,-1,-1,-1,-1,0,{"$f":"[3]主表!J170","v":1747.944},{"$f":"[3]主表!K170","v":44.14},{"$f":"[3]主表!L170","v":44.14},{"$f":"[3]主表!M170","v":206.88},{"$f":"[3]主表!$G170","v":10344},{"$f":"[3]升级!$H170","v":1500},{"$f":"MAX(1,ROUND(100/(24*3600)*VLOOKUP(B172,[1]ResourceLevelConfig!$A:$E,5,FALSE),2))","v":7.14},-1,4,4,4,1790,null,null,null,1,3,168]
[169,169,6,17,9,"230;236;246","合体期","中",9,230,236,246,{"$f":"[1]ResourceLevelConfig!$E173*10","v":62880},-1,-1,-1,-1,-1,-1,0,{"$f":"[3]主表!J171","v":1781.6896666666667},{"$f":"[3]主表!K171","v":44.86},{"$f":"[3]主表!L171","v":44.86},{"$f":"[3]主表!M171","v":210.28},{"$f":"[3]主表!$G171","v":10514},{"$f":"[3]升级!$H171","v":1500},{"$f":"MAX(1,ROUND(100/(24*3600)*VLOOKUP(B173,[1]ResourceLevelConfig!$A:$E,5,FALSE),2))","v":7.28},-1,4,4,4,1800,null,null,null,1,3,169]
[170,170,6,17,10,"230;236;247","合体期","中",10,230,236,247,{"$f":"[1]ResourceLevelConfig!$E174*10","v":64140},100004,20,1301,1,"1301;1302","1;1",0,{"$f":"[3]主表!J172","v":1904.83},{"$f":"[3]主表!K172","v":47.82},{"$f":"[3]主表!L172","v":47.82},{"$f":"[3]主表!M172","v":244.9},{"$f":"[3]主表!$G172","v":11132},{"$f":"[3]升级!$H172","v":1500},{"$f":"MAX(1,ROUND(100/(24*3600)*VLOOKUP(B174,[1]ResourceLevelConfig!$A:$E,5,FALSE),2))","v":7.42},20,4,4,4,1810,null,null,null,1,3,170]
[171,171,6,18,1,"230;237;238","合体期","后",1,230,237,238,{"$f":"[1]ResourceLevelConfig!$E175*10","v":65420},-1,-1,-1,-1,{"$f":"IF(I175=10,\"1001;1002;1004\",-1)","v":-1},-1,0,{"$f":"[3]主表!J173","v":1941.5700000000002},{"$f":"[3]主表!K173","v":48.6},{"$f":"[3]主表!L173","v":48.6},{"$f":"[3]主表!M173","v":257.11},{"$f":"[3]主表!$G173","v":11687},{"$f":"[3]升级!$H173","v":1500},{"$f":"MAX(1,ROUND(100/(24*3600)*VLOOKUP(B175,[1]ResourceLevelConfig!$A:$E,5,FALSE),2))","v":7.57},-1,4,4,4,1820,null,null,null,1,3,171]
[172,172,6,18,2,"230;237;239","合体期","后",2,230,237,239,{"$f":"[1]ResourceLevelConfig!$E176*10","v":66730},-1,-1,-1,-1,-1,-1,0,{"$f":"[3]主表!J174","v":1979.2933333333335},{"$f":"[3]主表!K174","v":49.4},{"$f":"[3]主表!L174","v":49.4},{"$f":"[3]主表!M174","v":261.29000000000002},{"$f":"[3]主表!$G174","v":11877},{"$f":"[3]升级!$H174","v":1500},{"$f":"MAX(1,ROUND(100/(24*3600)*VLOOKUP(B176,[1]ResourceLevelConfig!$A:$E,5,FALSE),2))","v":7.72},-1,4,4,4,1830,null,null,null,1,3,172]
[173,173,6,18,3,"230;237;240","合体期","后",3,230,237,240,{"$f":"[1]ResourceLevelConfig!$E177*10","v":68060},-1,-1,-1,-1,-1,-1,0,{"$f":"[3]主表!J175","v":2018.0070000000001},{"$f":"[3]主表!K175","v":50.22},{"$f":"[3]主表!L175","v":50.22},{"$f":"[3]主表!M175","v":265.58},{"$f":"[3]主表!$G175","v":12072},{"$f":"[3]升级!$H175","v":1500},{"$f":"MAX(1,ROUND(100/(24*3600)*VLOOKUP(B177,[1]ResourceLevelConfig!$A:$E,5,FALSE),2))","v":7.88},-1,4,4,4,1840,null,null,null,1,3,173]
[174,174,6,18,4,"230;237;241","合体期","后",4,230,237,241,{"$f":"[1]ResourceLevelConfig!$E178*10","v":69420},-1,-1,-1,-1,-1,-1,0,{"$f":"[3]主表!J176","v":2056.9119999999994},{"$f":"[3]主表!K176","v":51.04},{"$f":"[3]主表!L176","v":51.04},{"$f":"[3]主表!M176","v":269.87},{"$f":"[3]主表!$G176","v":12267},{"$f":"[3]升级!$H176","v":1500},{"$f":"MAX(1,ROUND(100/(24*3600)*VLOOKUP(B178,[1]ResourceLevelConfig!$A:$E,5,FALSE),2))","v":8.0299999999999994},-1,4,4,4,1850,null,null,null,1,3,174]
[175,175,6,18,5,"230;237;242","合体期","后",5,230,237,242,{"$f":"[1]ResourceLevelConfig!$E179*10","v":70810},-1,-1,-1,-1,-1,-1,0,{"$f":"[3]主表!J177","v":2096.8166666666666},{"$f":"[3]主表!K177","v":51.88},{"$f":"[3]主表!L177","v":51.88},{"$f":"[3]主表!M177","v":274.3},{"$f":"[3]主表!$G177","v":12468},{"$f":"[3]升级!$H177","v":1500},{"$f":"MAX(1,ROUND(100/(24*3600)*VLOOKUP(B179,[1]ResourceLevelConfig!$A:$E,5,FALSE),2))","v":8.1999999999999993},-1,4,4,4,1860,null,null,null,1,3,175]
[176,176,6,18,6,"230;237;243","合体期","后",6,230,237,243,{"$f":"[1]ResourceLevelConfig!$E180*10","v":72230},-1,-1,-1,-1,-1,-1,0,{"$f":"[3]主表!J178","v":2137.7280000000001},{"$f":"[3]主表!K178","v":52.74},{"$f":"[3]主表!L178","v":52.74},{"$f":"[3]主表!M178","v":278.83},{"$f":"[3]主表!$G178","v":12674},{"$f":"[3]升级!$H178","v":1500},{"$f":"MAX(1,ROUND(100/(24*3600)*VLOOKUP(B180,[1]ResourceLevelConfig!$A:$E,5,FALSE),2))","v":8.36},-1,4,4,4,1870,null,null,null,1,3,176]
[177,177,6,18,7,"230;237;244","合体期","后",7,230,237,244,{"$f":"[1]ResourceLevelConfig!$E181*10","v":73670},-1,-1,-1,-1,-1,-1,0,{"$f":"[3]主表!J179","v":2178.8399999999997},{"$f":"[3]主表!K179","v":53.6},{"$f":"[3]主表!L179","v":53.6},{"$f":"[3]主表!M179","v":283.36},{"$f":"[3]主表!$G179","v":12880},{"$f":"[3]升级!$H179","v":1500},{"$f":"MAX(1,ROUND(100/(24*3600)*VLOOKUP(B181,[1]ResourceLevelConfig!$A:$E,5,FALSE),2))","v":8.5299999999999994},-1,4,4,4,1880,null,null,null,1,3,177]
[178,178,6,18,8,"230;237;245","合体期","后",8,230,237,245,{"$f":"[1]ResourceLevelConfig!$E182*10","v":75140},-1,-1,-1,-1,-1,-1,0,{"$f":"[3]主表!J180","v":2220.9679999999998},{"$f":"[3]主表!K180","v":54.48},{"$f":"[3]主表!L180","v":54.48},{"$f":"[3]主表!M180","v":288},{"$f":"[3]主表!$G180","v":13091},{"$f":"[3]升级!$H180","v":1500},{"$f":"MAX(1,ROUND(100/(24*3600)*VLOOKUP(B182,[1]ResourceLevelConfig!$A:$E,5,FALSE),2))","v":8.6999999999999993},-1,4,4,4,1890,null,null,null,1,3,178]
[179,179,6,18,9,"230;237;246","合体期","后",9,230,237,246,{"$f":"[1]ResourceLevelConfig!$E183*10","v":76640},-1,-1,-1,-1,-1,-1,0,{"$f":"[3]主表!J181","v":2264.1189999999997},{"$f":"[3]主表!K181","v":55.38},{"$f":"[3]主表!L181","v":55.38},{"$f":"[3]主表!M181","v":292.77999999999997},{"$f":"[3]主表!$G181","v":13308},{"$f":"[3]升级!$H181","v":1500},{"$f":"MAX(1,ROUND(100/(24*3600)*VLOOKUP(B183,[1]ResourceLevelConfig!$A:$E,5,FALSE),2))","v":8.8699999999999992},-1,4,4,4,1900,null,null,null,1,3,179]
[180,180,6,18,10,"230;237;247","合体期","后",10,230,237,247,{"$f":"[1]ResourceLevelConfig!$E184*10","v":78170},100004,20,1301,1,"1301;1302;1303","1;1;1","1;1",{"$f":"[3]主表!J182","v":2569.88},{"$f":"[3]主表!K182","v":62.68},{"$f":"[3]主表!L182","v":62.68},{"$f":"[3]主表!M182","v":356.09},{"$f":"[3]主表!$G182","v":14837},{"$f":"[3]升级!$H182","v":1500},{"$f":"MAX(1,ROUND(100/(24*3600)*VLOOKUP(B184,[1]ResourceLevelConfig!$A:$E,5,FALSE),2))","v":9.0500000000000007},50,4,4,4,1910,null,null,null,1,3,180]
[181,181,7,19,1,"231;235;238","大乘期","前",1,231,235,238,{"$f":"[1]ResourceLevelConfig!$E185*10","v":79730},-1,-1,-1,-1,{"$f":"IF(I185=10,\"1001;1002;1004\",-1)","v":-1},{"$f":"IF(R185=-1,-1,\"100;200;300\")","v":-1},0,{"$f":"[3]主表!J183","v":2619.9539999999997},{"$f":"[3]主表!K183","v":63.72},{"$f":"[3]主表!L183","v":63.72},{"$f":"[3]主表!M183","v":377.42},{"$f":"[3]主表!$G183","v":15726},{"$f":"[3]升级!$H183","v":1600},{"$f":"MAX(1,ROUND(100/(24*3600)*VLOOKUP(B185,[1]ResourceLevelConfig!$A:$E,5,FALSE),2))","v":9.23},-1,4,4,4,1920,null,null,null,1,4,181]
[182,182,7,19,2,"231;235;239","大乘期","前",2,231,235,239,{"$f":"[1]ResourceLevelConfig!$E186*10","v":81320},-1,-1,-1,-1,{"$f":"IF(I186=10,\"1001;1002;1004\",-1)","v":-1},{"$f":"IF(R186=-1,-1,\"100;200;300\")","v":-1},0,{"$f":"[3]主表!J184","v":2670.2706666666663},{"$f":"[3]主表!K184","v":64.760000000000005},{"$f":"[3]主表!L184","v":64.760000000000005},{"$f":"[3]主表!M184","v":383.95},{"$f":"[3]主表!$G184","v":15998},{"$f":"[3]升级!$H184","v":1600},{"$f":"MAX(1,ROUND(100/(24*3600)*VLOOKUP(B186,[1]ResourceLevelConfig!$A:$E,5,FALSE),2))","v":9.41},-1,4,4,4,1930,null,null,null,1,4,182]
[183,183,7,19,3,"231;235;240","大乘期","前",3,231,235,240,{"$f":"[1]ResourceLevelConfig!$E187*10","v":82950},-1,-1,-1,-1,-1,-1,0,{"$f":"[3]主表!J185","v":2722.4839999999999},{"$f":"[3]主表!K185","v":65.84},{"$f":"[3]主表!L185","v":65.84},{"$f":"[3]主表!M185","v":390.7},{"$f":"[3]主表!$G185","v":16279},{"$f":"[3]升级!$H185","v":1600},{"$f":"MAX(1,ROUND(100/(24*3600)*VLOOKUP(B187,[1]ResourceLevelConfig!$A:$E,5,FALSE),2))","v":9.6},-1,4,4,4,1940,null,null,null,1,4,183]
[184,184,7,19,4,"231;235;241","大乘期","前",4,231,235,241,{"$f":"[1]ResourceLevelConfig!$E188*10","v":84610},-1,-1,-1,-1,-1,-1,0,{"$f":"[3]主表!J186","v":2774.9493333333335},{"$f":"[3]主表!K186","v":66.92},{"$f":"[3]主表!L186","v":66.92},{"$f":"[3]主表!M186","v":397.49},{"$f":"[3]主表!$G186","v":16562},{"$f":"[3]升级!$H186","v":1600},{"$f":"MAX(1,ROUND(100/(24*3600)*VLOOKUP(B188,[1]ResourceLevelConfig!$A:$E,5,FALSE),2))","v":9.7899999999999991},-1,4,4,4,1950,null,null,null,1,4,184]
[185,185,7,19,5,"231;235;242","大乘期","前",5,231,235,242,{"$f":"[1]ResourceLevelConfig!$E189*10","v":86300},-1,-1,-1,-1,-1,-1,0,{"$f":"[3]主表!J187","v":2828.498333333333},{"$f":"[3]主表!K187","v":68.02},{"$f":"[3]主表!L187","v":68.02},{"$f":"[3]主表!M187","v":404.42},{"$f":"[3]主表!$G187","v":16851},{"$f":"[3]升级!$H187","v":1600},{"$f":"MAX(1,ROUND(100/(24*3600)*VLOOKUP(B189,[1]ResourceLevelConfig!$A:$E,5,FALSE),2))","v":9.99},-1,4,4,4,1960,null,null,null,1,4,185]
[186,186,7,19,6,"231;235;243","大乘期","前",6,231,235,243,{"$f":"[1]ResourceLevelConfig!$E190*10","v":88030},-1,-1,-1,-1,-1,-1,0,{"$f":"[3]主表!J188","v":2883.1379999999999},{"$f":"[3]主表!K188","v":69.14},{"$f":"[3]主表!L188","v":69.14},{"$f":"[3]主表!M188","v":411.7},{"$f":"[3]主表!$G188","v":17154},{"$f":"[3]升级!$H188","v":1600},{"$f":"MAX(1,ROUND(100/(24*3600)*VLOOKUP(B190,[1]ResourceLevelConfig!$A:$E,5,FALSE),2))","v":10.19},-1,4,4,4,1970,null,null,null,1,4,186]
[187,187,7,19,7,"231;235;244","大乘期","前",7,231,235,244,{"$f":"[1]ResourceLevelConfig!$E191*10","v":89790},-1,-1,-1,-1,-1,-1,0,{"$f":"[3]主表!J189","v":2938.8753333333334},{"$f":"[3]主表!K189","v":70.28},{"$f":"[3]主表!L189","v":70.28},{"$f":"[3]主表!M189","v":419.11},{"$f":"[3]主表!$G189","v":17463},{"$f":"[3]升级!$H189","v":1600},{"$f":"MAX(1,ROUND(100/(24*3600)*VLOOKUP(B191,[1]ResourceLevelConfig!$A:$E,5,FALSE),2))","v":10.39},-1,4,4,4,1980,null,null,null,1,4,187]
[188,188,7,19,8,"231;235;245","大乘期","前",8,231,235,245,{"$f":"[1]ResourceLevelConfig!$E192*10","v":91590},-1,-1,-1,-1,-1,-1,0,{"$f":"[3]主表!J190","v":2995.717333333333},{"$f":"[3]主表!K190","v":71.44},{"$f":"[3]主表!L190","v":71.44},{"$f":"[3]主表!M190","v":426.67},{"$f":"[3]主表!$G190","v":17778},{"$f":"[3]升级!$H190","v":1600},{"$f":"MAX(1,ROUND(100/(24*3600)*VLOOKUP(B192,[1]ResourceLevelConfig!$A:$E,5,FALSE),2))","v":10.6},-1,4,4,4,1990,null,null,null,1,4,188]
[189,189,7,19,9,"231;235;246","大乘期","前",9,231,235,246,{"$f":"[1]ResourceLevelConfig!$E193*10","v":93420},-1,-1,-1,-1,-1,-1,0,{"$f":"[3]主表!J191","v":3053.6710000000003},{"$f":"[3]主表!K191","v":72.62},{"$f":"[3]主表!L191","v":72.62},{"$f":"[3]主表!M191","v":434.38},{"$f":"[3]主表!$G191","v":18099},{"$f":"[3]升级!$H191","v":1600},{"$f":"MAX(1,ROUND(100/(24*3600)*VLOOKUP(B193,[1]ResourceLevelConfig!$A:$E,5,FALSE),2))","v":10.81},-1,4,4,4,2000,null,null,null,1,4,189]
[190,190,7,19,10,"231;235;247","大乘期","前",10,231,235,247,{"$f":"[1]ResourceLevelConfig!$E194*10","v":95290},100004,20,1301,1,1301,1,0,{"$f":"[3]主表!J192","v":3263.7000000000007},{"$f":"[3]主表!K192","v":77.400000000000006},{"$f":"[3]主表!L192","v":77.400000000000006},{"$f":"[3]主表!M192","v":498.91},{"$f":"[3]主表!$G192","v":19189},{"$f":"[3]升级!$H192","v":1600},{"$f":"MAX(1,ROUND(100/(24*3600)*VLOOKUP(B194,[1]ResourceLevelConfig!$A:$E,5,FALSE),2))","v":11.03},20,4,4,4,2018,null,null,null,1,4,190]
[191,191,7,20,1,"231;236;238","大乘期","中",1,231,236,238,{"$f":"[1]ResourceLevelConfig!$E195*10","v":97200},-1,-1,-1,-1,{"$f":"IF(I195=10,\"1001;1002;1004\",-1)","v":-1},-1,0,{"$f":"[3]主表!J193","v":3326.8526666666676},{"$f":"[3]主表!K193","v":78.680000000000007},{"$f":"[3]主表!L193","v":78.680000000000007},{"$f":"[3]主表!M193","v":524.63},{"$f":"[3]主表!$G193","v":20178},{"$f":"[3]升级!$H193","v":1600},{"$f":"MAX(1,ROUND(100/(24*3600)*VLOOKUP(B195,[1]ResourceLevelConfig!$A:$E,5,FALSE),2))","v":11.25},-1,{"$f":"AC194","v":4},{"$f":"AD194","v":4},{"$f":"AE194","v":4},2065,null,null,null,1,4,191]
[192,192,7,20,2,"231;236;239","大乘期","中",2,231,236,239,{"$f":"[1]ResourceLevelConfig!$E196*10","v":99140},-1,-1,-1,-1,-1,-1,0,{"$f":"[3]主表!J194","v":3390.3040000000001},{"$f":"[3]主表!K194","v":79.959999999999994},{"$f":"[3]主表!L194","v":79.959999999999994},{"$f":"[3]主表!M194","v":533.83000000000004},{"$f":"[3]主表!$G194","v":20532},{"$f":"[3]升级!$H194","v":1600},{"$f":"MAX(1,ROUND(100/(24*3600)*VLOOKUP(B196,[1]ResourceLevelConfig!$A:$E,5,FALSE),2))","v":11.47},-1,4,4,4,2113,null,null,null,1,4,192]
[193,193,7,20,3,"231;236;240","大乘期","中",3,231,236,240,{"$f":"[1]ResourceLevelConfig!$E197*10","v":101120},-1,-1,-1,-1,-1,-1,0,{"$f":"[3]主表!J195","v":3455.7546666666667},{"$f":"[3]主表!K195","v":81.28},{"$f":"[3]主表!L195","v":81.28},{"$f":"[3]主表!M195","v":543.32000000000005},{"$f":"[3]主表!$G195","v":20897},{"$f":"[3]升级!$H195","v":1600},{"$f":"MAX(1,ROUND(100/(24*3600)*VLOOKUP(B197,[1]ResourceLevelConfig!$A:$E,5,FALSE),2))","v":11.7},-1,4,4,4,2163,null,null,null,1,4,193]
[194,194,7,20,{"$f":"I198","v":4},{"$f":"_xlfn.TEXTJOIN(\";\",1,J198:L198)","v":"231;236;241"},"大乘期","中",4,231,236,241,{"$f":"[1]ResourceLevelConfig!$E198*10","v":103140},{"$f":"IF(I198=10,100004,-1)","v":-1},{"$f":"IF(N198=-1,-1,20)","v":-1},-1,-1,-1,-1,0,{"$f":"[3]主表!J196","v":3522.3660000000009},{"$f":"[3]主表!K196","v":82.62},{"$f":"[3]主表!L196","v":82.62},{"$f":"[3]主表!M196","v":552.99},{"$f":"[3]主表!$G196","v":21269},{"$f":"[3]升级!$H196","v":1600},{"$f":"MAX(1,ROUND(100/(24*3600)*VLOOKUP(B198,[1]ResourceLevelConfig!$A:$E,5,FALSE),2))","v":11.94},-1,4,4,4,{"$f":"MAX(AF197+10,ROUND(10^(B198*0.01+1.405),0))","v":2213},null,null,null,1,4,194]
[195,195,7,20,5,"231;236;242","大乘期","中",5,231,236,242,{"$f":"[1]ResourceLevelConfig!$E199*10","v":105200},-1,-1,-1,-1,-1,-1,0,{"$f":"[3]主表!J197","v":3590.1450000000004},{"$f":"[3]主表!K197","v":83.98},{"$f":"[3]主表!L197","v":83.98},{"$f":"[3]主表!M197","v":562.82000000000005},{"$f":"[3]主表!$G197","v":21647},{"$f":"[3]升级!$H197","v":1600},{"$f":"MAX(1,ROUND(100/(24*3600)*VLOOKUP(B199,[1]ResourceLevelConfig!$A:$E,5,FALSE),2))","v":12.18},-1,4,4,4,2265,null,null,null,1,4,195]
[196,196,7,20,6,"231;236;243","大乘期","中",6,231,236,243,{"$f":"[1]ResourceLevelConfig!$E200*10","v":107300},-1,-1,-1,-1,-1,-1,0,{"$f":"[3]主表!J198","v":3659.0986666666668},{"$f":"[3]主表!K198","v":85.36},{"$f":"[3]主表!L198","v":85.36},{"$f":"[3]主表!M198","v":572.83000000000004},{"$f":"[3]主表!$G198","v":22032},{"$f":"[3]升级!$H198","v":1600},{"$f":"MAX(1,ROUND(100/(24*3600)*VLOOKUP(B200,[1]ResourceLevelConfig!$A:$E,5,FALSE),2))","v":12.42},-1,4,4,4,2317,null,null,null,1,4,196]
[197,197,7,20,7,"231;236;244","大乘期","中",7,231,236,244,{"$f":"[1]ResourceLevelConfig!$E201*10","v":109450},-1,-1,-1,-1,-1,-1,0,{"$f":"[3]主表!J199","v":3730.0936666666671},{"$f":"[3]主表!K199","v":86.78},{"$f":"[3]主表!L199","v":86.78},{"$f":"[3]主表!M199","v":583.13},{"$f":"[3]主表!$G199","v":22428},{"$f":"[3]升级!$H199","v":1600},{"$f":"MAX(1,ROUND(100/(24*3600)*VLOOKUP(B201,[1]ResourceLevelConfig!$A:$E,5,FALSE),2))","v":12.67},-1,4,4,4,2371,null,null,null,1,4,197]
[198,198,7,20,8,"231;236;245","大乘期","中",8,231,236,245,{"$f":"[1]ResourceLevelConfig!$E202*10","v":111640},-1,-1,-1,-1,-1,-1,0,{"$f":"[3]主表!J200","v":3801.4200000000005},{"$f":"[3]主表!K200","v":88.2},{"$f":"[3]主表!L200","v":88.2},{"$f":"[3]主表!M200","v":593.5},{"$f":"[3]主表!$G200","v":22827},{"$f":"[3]升级!$H200","v":1600},{"$f":"MAX(1,ROUND(100/(24*3600)*VLOOKUP(B202,[1]ResourceLevelConfig!$A:$E,5,FALSE),2))","v":12.92},-1,4,4,4,2427,null,null,null,1,4,198]
[199,199,7,20,9,"231;236;246","大乘期","中",9,231,236,246,{"$f":"[1]ResourceLevelConfig!$E203*10","v":113870},-1,-1,-1,-1,-1,-1,0,{"$f":"[3]主表!J201","v":3874.8063333333334},{"$f":"[3]主表!K201","v":89.66},{"$f":"[3]主表!L201","v":89.66},{"$f":"[3]主表!M201","v":604.14},{"$f":"[3]主表!$G201","v":23236},{"$f":"[3]升级!$H201","v":1600},{"$f":"MAX(1,ROUND(100/(24*3600)*VLOOKUP(B203,[1]ResourceLevelConfig!$A:$E,5,FALSE),2))","v":13.18},-1,4,4,4,2483,null,null,null,1,4,199]
[200,200,7,20,10,"231;236;247","大乘期","中",10,231,236,247,{"$f":"[1]ResourceLevelConfig!$E204*10","v":116150},100004,20,1301,1,"1301;1302","1;1",0,{"$f":"[3]主表!J202","v":4140.9333333333343},{"$f":"[3]主表!K202","v":95.56},{"$f":"[3]主表!L202","v":95.56},{"$f":"[3]主表!M202","v":689.67},{"$f":"[3]主表!$G202","v":24631},{"$f":"[3]升级!$H202","v":1600},{"$f":"MAX(1,ROUND(100/(24*3600)*VLOOKUP(B204,[1]ResourceLevelConfig!$A:$E,5,FALSE),2))","v":13.44},20,4,4,4,2541,null,null,null,1,4,200]
[201,201,7,21,1,"231;237;238","大乘期","后",1,231,237,238,{"$f":"[1]ResourceLevelConfig!$E205*10","v":118470},-1,-1,-1,-1,{"$f":"IF(I205=10,\"1001;1002;1004\",-1)","v":-1},-1,0,{"$f":"[3]主表!J203","v":4220.7330000000011},{"$f":"[3]主表!K203","v":97.14},{"$f":"[3]主表!L203","v":97.14},{"$f":"[3]主表!M203","v":725.09},{"$f":"[3]主表!$G203","v":25896},{"$f":"[3]升级!$H203","v":1600},{"$f":"MAX(1,ROUND(100/(24*3600)*VLOOKUP(B205,[1]ResourceLevelConfig!$A:$E,5,FALSE),2))","v":13.71},-1,4,4,4,2600,null,null,null,1,4,201]
[202,202,7,21,2,"231;237;239","大乘期","后",2,231,237,239,{"$f":"[1]ResourceLevelConfig!$E206*10","v":120840},-1,-1,-1,-1,-1,-1,0,{"$f":"[3]主表!J204","v":4301.7726666666667},{"$f":"[3]主表!K204","v":98.74},{"$f":"[3]主表!L204","v":98.74},{"$f":"[3]主表!M204","v":737.86},{"$f":"[3]主表!$G204","v":26352},{"$f":"[3]升级!$H204","v":1600},{"$f":"MAX(1,ROUND(100/(24*3600)*VLOOKUP(B206,[1]ResourceLevelConfig!$A:$E,5,FALSE),2))","v":13.99},-1,4,4,4,2661,null,null,null,1,4,202]
[203,203,7,21,3,"231;237;240","大乘期","后",3,231,237,240,{"$f":"[1]ResourceLevelConfig!$E207*10","v":123260},-1,-1,-1,-1,-1,-1,0,{"$f":"[3]主表!J205","v":4384.0593333333336},{"$f":"[3]主表!K205","v":100.36},{"$f":"[3]主表!L205","v":100.36},{"$f":"[3]主表!M205","v":750.79},{"$f":"[3]主表!$G205","v":26814},{"$f":"[3]升级!$H205","v":1600},{"$f":"MAX(1,ROUND(100/(24*3600)*VLOOKUP(B207,[1]ResourceLevelConfig!$A:$E,5,FALSE),2))","v":14.27},-1,4,4,4,2723,null,null,null,1,4,203]
[204,204,7,21,4,"231;237;241","大乘期","后",4,231,237,241,{"$f":"[1]ResourceLevelConfig!$E208*10","v":125730},-1,-1,-1,-1,-1,-1,0,{"$f":"[3]主表!J206","v":4468.4759999999997},{"$f":"[3]主表!K206","v":102.02},{"$f":"[3]主表!L206","v":102.02},{"$f":"[3]主表!M206","v":764.06},{"$f":"[3]主表!$G206","v":27288},{"$f":"[3]升级!$H206","v":1600},{"$f":"MAX(1,ROUND(100/(24*3600)*VLOOKUP(B208,[1]ResourceLevelConfig!$A:$E,5,FALSE),2))","v":14.55},-1,4,4,4,2786,null,null,null,1,4,204]
[205,205,7,21,5,"231;237;242","大乘期","后",5,231,237,242,{"$f":"[1]ResourceLevelConfig!$E209*10","v":128240},-1,-1,-1,-1,-1,-1,0,{"$f":"[3]主表!J207","v":4554.1583333333338},{"$f":"[3]主表!K207","v":103.7},{"$f":"[3]主表!L207","v":103.7},{"$f":"[3]主表!M207","v":777.53},{"$f":"[3]主表!$G207","v":27769},{"$f":"[3]升级!$H207","v":1600},{"$f":"MAX(1,ROUND(100/(24*3600)*VLOOKUP(B209,[1]ResourceLevelConfig!$A:$E,5,FALSE),2))","v":14.84},-1,4,4,4,2851,null,null,null,1,4,205]
[206,206,7,21,6,"231;237;243","大乘期","后",6,231,237,243,{"$f":"[1]ResourceLevelConfig!$E210*10","v":130800},-1,-1,-1,-1,-1,-1,0,{"$f":"[3]主表!J208","v":4641.1133333333337},{"$f":"[3]主表!K208","v":105.4},{"$f":"[3]主表!L208","v":105.4},{"$f":"[3]主表!M208","v":791.22},{"$f":"[3]主表!$G208","v":28258},{"$f":"[3]升级!$H208","v":1600},{"$f":"MAX(1,ROUND(100/(24*3600)*VLOOKUP(B210,[1]ResourceLevelConfig!$A:$E,5,FALSE),2))","v":15.14},-1,4,4,4,2917,null,null,null,1,4,206]
[207,207,7,21,7,"231;237;244","大乘期","后",7,231,237,244,{"$f":"[1]ResourceLevelConfig!$E211*10","v":133420},-1,-1,-1,-1,-1,-1,0,{"$f":"[3]主表!J209","v":4730.2309999999998},{"$f":"[3]主表!K209","v":107.14},{"$f":"[3]主表!L209","v":107.14},{"$f":"[3]主表!M209","v":805.25},{"$f":"[3]主表!$G209","v":28759},{"$f":"[3]升级!$H209","v":1600},{"$f":"MAX(1,ROUND(100/(24*3600)*VLOOKUP(B211,[1]ResourceLevelConfig!$A:$E,5,FALSE),2))","v":15.44},-1,4,4,4,2985,null,null,null,1,4,207]
[208,208,7,21,8,"231;237;245","大乘期","后",8,231,237,245,{"$f":"[1]ResourceLevelConfig!$E212*10","v":136090},-1,-1,-1,-1,-1,-1,0,{"$f":"[3]主表!J210","v":4820.6400000000003},{"$f":"[3]主表!K210","v":108.9},{"$f":"[3]主表!L210","v":108.9},{"$f":"[3]主表!M210","v":819.48},{"$f":"[3]主表!$G210","v":29267},{"$f":"[3]升级!$H210","v":1600},{"$f":"MAX(1,ROUND(100/(24*3600)*VLOOKUP(B212,[1]ResourceLevelConfig!$A:$E,5,FALSE),2))","v":15.75},-1,4,4,4,3055,null,null,null,1,4,208]
[209,209,7,21,9,"231;237;246","大乘期","后",9,231,237,246,{"$f":"[1]ResourceLevelConfig!$E213*10","v":138810},-1,-1,-1,-1,-1,-1,0,{"$f":"[3]主表!J211","v":4913.2350000000006},{"$f":"[3]主表!K211","v":110.7},{"$f":"[3]主表!L211","v":110.7},{"$f":"[3]主表!M211","v":834.06},{"$f":"[3]主表!$G211","v":29788},{"$f":"[3]升级!$H211","v":1600},{"$f":"MAX(1,ROUND(100/(24*3600)*VLOOKUP(B213,[1]ResourceLevelConfig!$A:$E,5,FALSE),2))","v":16.07},-1,4,4,4,3126,null,null,null,1,4,209]
[210,210,7,21,10,"231;237;247","大乘期","后",10,231,237,247,{"$f":"[1]ResourceLevelConfig!$E214*10","v":141590},100004,20,1301,1,"1301;1302;1303","1;1;1","1;1",{"$f":"[3]主表!J212","v":5574.96},{"$f":"[3]主表!K212","v":125.28},{"$f":"[3]主表!L212","v":125.28},{"$f":"[3]主表!M212","v":997.41},{"$f":"[3]主表!$G212","v":33247},{"$f":"[3]升级!$H212","v":1600},{"$f":"MAX(1,ROUND(100/(24*3600)*VLOOKUP(B214,[1]ResourceLevelConfig!$A:$E,5,FALSE),2))","v":16.39},50,4,4,4,3199,null,null,null,1,4,210]
[null,211,7,19,1,"232;235;238","飞升期","前",1,232,235,238,{"$f":"[1]ResourceLevelConfig!$E215*10","v":144420},-1,-1,-1,-1,{"$f":"IF(I215=10,\"1001;1002;1004\",-1)","v":-1},{"$f":"IF(R215=-1,-1,\"100;200;300\")","v":-1},0,{"$f":"[3]主表!J213","v":5681.4863333333324},{"$f":"[3]主表!K213","v":127.34},{"$f":"[3]主表!L213","v":127.34},{"$f":"[3]主表!M213","v":1057.1099999999999},{"$f":"[3]主表!$G213","v":35237},{"$f":"[3]升级!$H213","v":1700},{"$f":"MAX(1,ROUND(100/(24*3600)*VLOOKUP(B215,[1]ResourceLevelConfig!$A:$E,5,FALSE),2))","v":16.72},-1,4,4,4,3273,null,null,null,1,4,211]
[null,212,7,19,2,"232;235;239","飞升期","前",2,232,235,239,{"$f":"[1]ResourceLevelConfig!$E216*10","v":147310},-1,-1,-1,-1,{"$f":"IF(I216=10,\"1001;1002;1004\",-1)","v":-1},{"$f":"IF(R216=-1,-1,\"100;200;300\")","v":-1},0,{"$f":"[3]主表!J214","v":5790.282666666666},{"$f":"[3]主表!K214","v":129.44},{"$f":"[3]主表!L214","v":129.44},{"$f":"[3]主表!M214","v":1075.56},{"$f":"[3]主表!$G214","v":35852},{"$f":"[3]升级!$H214","v":1700},{"$f":"MAX(1,ROUND(100/(24*3600)*VLOOKUP(B216,[1]ResourceLevelConfig!$A:$E,5,FALSE),2))","v":17.05},-1,4,4,4,3350,null,null,null,1,4,212]
[null,213,7,19,3,"232;235;240","飞升期","前",3,232,235,240,{"$f":"[1]ResourceLevelConfig!$E217*10","v":150260},-1,-1,-1,-1,-1,-1,0,{"$f":"[3]主表!J215","v":5900.4659999999985},{"$f":"[3]主表!K215","v":131.56},{"$f":"[3]主表!L215","v":131.56},{"$f":"[3]主表!M215","v":1094.28},{"$f":"[3]主表!$G215","v":36476},{"$f":"[3]升级!$H215","v":1700},{"$f":"MAX(1,ROUND(100/(24*3600)*VLOOKUP(B217,[1]ResourceLevelConfig!$A:$E,5,FALSE),2))","v":17.39},-1,4,4,4,3428,null,null,null,1,4,213]
[null,214,7,19,4,"232;235;241","飞升期","前",4,232,235,241,{"$f":"[1]ResourceLevelConfig!$E218*10","v":153270},-1,-1,-1,-1,-1,-1,0,{"$f":"[3]主表!J216","v":6013.8419999999996},{"$f":"[3]主表!K216","v":133.74},{"$f":"[3]主表!L216","v":133.74},{"$f":"[3]主表!M216","v":1113.51},{"$f":"[3]主表!$G216","v":37117},{"$f":"[3]升级!$H216","v":1700},{"$f":"MAX(1,ROUND(100/(24*3600)*VLOOKUP(B218,[1]ResourceLevelConfig!$A:$E,5,FALSE),2))","v":17.739999999999998},-1,4,4,4,3508,null,null,null,1,4,214]
[null,215,7,19,5,"232;235;242","飞升期","前",5,232,235,242,{"$f":"[1]ResourceLevelConfig!$E219*10","v":156340},-1,-1,-1,-1,-1,-1,0,{"$f":"[3]主表!J217","v":6128.6283333333322},{"$f":"[3]主表!K217","v":135.94},{"$f":"[3]主表!L217","v":135.94},{"$f":"[3]主表!M217","v":1132.98},{"$f":"[3]主表!$G217","v":37766},{"$f":"[3]升级!$H217","v":1700},{"$f":"MAX(1,ROUND(100/(24*3600)*VLOOKUP(B219,[1]ResourceLevelConfig!$A:$E,5,FALSE),2))","v":18.09},-1,4,4,4,3589,null,null,null,1,4,215]
[null,216,7,19,6,"232;235;243","飞升期","前",6,232,235,243,{"$f":"[1]ResourceLevelConfig!$E220*10","v":159470},-1,-1,-1,-1,-1,-1,0,{"$f":"[3]主表!J218","v":6245.735999999999},{"$f":"[3]主表!K218","v":138.18},{"$f":"[3]主表!L218","v":138.18},{"$f":"[3]主表!M218","v":1152.8399999999999},{"$f":"[3]主表!$G218","v":38428},{"$f":"[3]升级!$H218","v":1700},{"$f":"MAX(1,ROUND(100/(24*3600)*VLOOKUP(B220,[1]ResourceLevelConfig!$A:$E,5,FALSE),2))","v":18.46},-1,4,4,4,3673,null,null,null,1,4,216]
[null,217,7,19,7,"232;235;244","飞升期","前",7,232,235,244,{"$f":"[1]ResourceLevelConfig!$E221*10","v":162660},-1,-1,-1,-1,-1,-1,0,{"$f":"[3]主表!J219","v":6365.1789999999992},{"$f":"[3]主表!K219","v":140.46},{"$f":"[3]主表!L219","v":140.46},{"$f":"[3]主表!M219","v":1173.0899999999999},{"$f":"[3]主表!$G219","v":39103},{"$f":"[3]升级!$H219","v":1700},{"$f":"MAX(1,ROUND(100/(24*3600)*VLOOKUP(B221,[1]ResourceLevelConfig!$A:$E,5,FALSE),2))","v":18.829999999999998},-1,4,4,4,3758,null,null,null,1,4,217]
[null,218,7,19,8,"232;235;245","飞升期","前",8,232,235,245,{"$f":"[1]ResourceLevelConfig!$E222*10","v":165910},-1,-1,-1,-1,-1,-1,0,{"$f":"[3]主表!J220","v":6486.0626666666658},{"$f":"[3]主表!K220","v":142.76},{"$f":"[3]主表!L220","v":142.76},{"$f":"[3]主表!M220","v":1193.6400000000001},{"$f":"[3]主表!$G220","v":39788},{"$f":"[3]升级!$H220","v":1700},{"$f":"MAX(1,ROUND(100/(24*3600)*VLOOKUP(B222,[1]ResourceLevelConfig!$A:$E,5,FALSE),2))","v":19.2},-1,4,4,4,3846,null,null,null,1,4,218]
[null,219,7,19,9,"232;235;246","飞升期","前",9,232,235,246,{"$f":"[1]ResourceLevelConfig!$E223*10","v":169230},-1,-1,-1,-1,-1,-1,0,{"$f":"[3]主表!J221","v":6610.2160000000003},{"$f":"[3]主表!K221","v":145.12},{"$f":"[3]主表!L221","v":145.12},{"$f":"[3]主表!M221","v":1214.7},{"$f":"[3]主表!$G221","v":40490},{"$f":"[3]升级!$H221","v":1700},{"$f":"MAX(1,ROUND(100/(24*3600)*VLOOKUP(B223,[1]ResourceLevelConfig!$A:$E,5,FALSE),2))","v":19.59},-1,4,4,4,3936,null,null,null,1,4,219]
[null,220,7,19,10,"232;235;247","飞升期","前",10,232,235,247,{"$f":"[1]ResourceLevelConfig!$E224*10","v":172610},100004,20,1301,1,1301,1,0,{"$f":"[3]主表!J222","v":7063.7199999999993},{"$f":"[3]主表!K222","v":154.68},{"$f":"[3]主表!L222","v":154.68},{"$f":"[3]主表!M222","v":1373.15},{"$f":"[3]主表!$G222","v":42911},{"$f":"[3]升级!$H222","v":1700},{"$f":"MAX(1,ROUND(100/(24*3600)*VLOOKUP(B224,[1]ResourceLevelConfig!$A:$E,5,FALSE),2))","v":19.98},20,4,4,4,4027,null,null,null,1,4,220]
[null,221,7,20,1,"232;236;238","飞升期","中",1,232,236,238,{"$f":"[1]ResourceLevelConfig!$E225*10","v":176060},-1,-1,-1,-1,{"$f":"IF(I225=10,\"1001;1002;1004\",-1)","v":-1},{"$f":"IF(R225=-1,-1,\"100;200;300\")","v":-1},0,{"$f":"[3]主表!J223","v":7198.0556666666671},{"$f":"[3]主表!K223","v":157.22},{"$f":"[3]主表!L223","v":157.22},{"$f":"[3]主表!M223","v":1443.17},{"$f":"[3]主表!$G223","v":45099},{"$f":"[3]升级!$H223","v":1700},{"$f":"MAX(1,ROUND(100/(24*3600)*VLOOKUP(B225,[1]ResourceLevelConfig!$A:$E,5,FALSE),2))","v":20.38},-1,4,4,4,4121,null,null,null,1,4,221]
[null,222,7,20,2,"232;236;239","飞升期","中",2,232,236,239,{"$f":"[1]ResourceLevelConfig!$E226*10","v":179580},-1,-1,-1,-1,-1,-1,0,{"$f":"[3]主表!J224","v":7335.7379999999994},{"$f":"[3]主表!K224","v":159.82},{"$f":"[3]主表!L224","v":159.82},{"$f":"[3]主表!M224","v":1468.22},{"$f":"[3]主表!$G224","v":45882},{"$f":"[3]升级!$H224","v":1700},{"$f":"MAX(1,ROUND(100/(24*3600)*VLOOKUP(B226,[1]ResourceLevelConfig!$A:$E,5,FALSE),2))","v":20.78},-1,4,4,4,4217,null,null,null,1,4,222]
[null,223,7,20,3,"232;236;240","飞升期","中",3,232,236,240,{"$f":"[1]ResourceLevelConfig!$E227*10","v":183170},-1,-1,-1,-1,-1,-1,{"$f":"IF(G227=G228,0,CONCATENATE(\"1;1\"))","v":0},{"$f":"[3]主表!J225","v":7474.9473333333335},{"$f":"[3]主表!K225","v":162.44},{"$f":"[3]主表!L225","v":162.44},{"$f":"[3]主表!M225","v":1493.57},{"$f":"[3]主表!$G225","v":46674},{"$f":"[3]升级!$H225","v":1700},{"$f":"MAX(1,ROUND(100/(24*3600)*VLOOKUP(B227,[1]ResourceLevelConfig!$A:$E,5,FALSE),2))","v":21.2},-1,4,4,4,4315,null,null,null,1,4,223]
[null,224,7,20,{"$f":"I228","v":4},"232;236;241","飞升期","中",4,232,236,241,{"$f":"[1]ResourceLevelConfig!$E228*10","v":186830},-1,{"$f":"IF(N228=-1,-1,20)","v":-1},-1,-1,-1,-1,0,{"$f":"[3]主表!J226","v":7617.5360000000001},{"$f":"[3]主表!K226","v":165.12},{"$f":"[3]主表!L226","v":165.12},{"$f":"[3]主表!M226","v":1519.52},{"$f":"[3]主表!$G226","v":47485},{"$f":"[3]升级!$H226","v":1700},{"$f":"MAX(1,ROUND(100/(24*3600)*VLOOKUP(B228,[1]ResourceLevelConfig!$A:$E,5,FALSE),2))","v":21.62},-1,4,4,4,4416,null,null,null,1,4,224]
[null,225,7,20,5,"232;236;242","飞升期","中",5,232,236,242,{"$f":"[1]ResourceLevelConfig!$E229*10","v":190570},-1,-1,-1,-1,-1,-1,0,{"$f":"[3]主表!J227","v":7762.6},{"$f":"[3]主表!K227","v":167.84},{"$f":"[3]主表!L227","v":167.84},{"$f":"[3]主表!M227","v":1545.92},{"$f":"[3]主表!$G227","v":48310},{"$f":"[3]升级!$H227","v":1700},{"$f":"MAX(1,ROUND(100/(24*3600)*VLOOKUP(B229,[1]ResourceLevelConfig!$A:$E,5,FALSE),2))","v":22.06},-1,4,4,4,4519,null,null,null,1,4,225]
[null,226,7,20,6,"232;236;243","飞升期","中",6,232,236,243,{"$f":"[1]ResourceLevelConfig!$E230*10","v":194380},-1,-1,-1,-1,-1,-1,0,{"$f":"[3]主表!J228","v":7910.1533333333327},{"$f":"[3]主表!K228","v":170.6},{"$f":"[3]主表!L228","v":170.6},{"$f":"[3]主表!M228","v":1572.8},{"$f":"[3]主表!$G228","v":49150},{"$f":"[3]升级!$H228","v":1700},{"$f":"MAX(1,ROUND(100/(24*3600)*VLOOKUP(B230,[1]ResourceLevelConfig!$A:$E,5,FALSE),2))","v":22.5},-1,4,4,4,4624,null,null,null,1,4,226]
[null,227,7,20,7,"232;236;244","飞升期","中",7,232,236,244,{"$f":"[1]ResourceLevelConfig!$E231*10","v":198270},-1,-1,-1,-1,-1,-1,0,{"$f":"[3]主表!J229","v":8061.1396666666669},{"$f":"[3]主表!K229","v":173.42},{"$f":"[3]主表!L229","v":173.42},{"$f":"[3]主表!M229","v":1600.29},{"$f":"[3]主表!$G229","v":50009},{"$f":"[3]升级!$H229","v":1700},{"$f":"MAX(1,ROUND(100/(24*3600)*VLOOKUP(B231,[1]ResourceLevelConfig!$A:$E,5,FALSE),2))","v":22.95},-1,4,4,4,4732,null,null,null,1,4,227]
[null,228,7,20,8,"232;236;245","飞升期","中",8,232,236,245,{"$f":"[1]ResourceLevelConfig!$E232*10","v":202240},-1,-1,-1,-1,-1,-1,0,{"$f":"[3]主表!J230","v":8214.648000000001},{"$f":"[3]主表!K230","v":176.28},{"$f":"[3]主表!L230","v":176.28},{"$f":"[3]主表!M230","v":1628.26},{"$f":"[3]主表!$G230","v":50883},{"$f":"[3]升级!$H230","v":1700},{"$f":"MAX(1,ROUND(100/(24*3600)*VLOOKUP(B232,[1]ResourceLevelConfig!$A:$E,5,FALSE),2))","v":23.41},-1,4,4,4,4842,null,null,null,1,4,228]
[null,229,7,20,9,"232;236;246","飞升期","中",9,232,236,246,{"$f":"[1]ResourceLevelConfig!$E233*10","v":206280},-1,-1,-1,-1,-1,-1,0,{"$f":"[3]主表!J231","v":8370.6923333333343},{"$f":"[3]主表!K231","v":179.18},{"$f":"[3]主表!L231","v":179.18},{"$f":"[3]主表!M231","v":1656.67},{"$f":"[3]主表!$G231","v":51771},{"$f":"[3]升级!$H231","v":1700},{"$f":"MAX(1,ROUND(100/(24*3600)*VLOOKUP(B233,[1]ResourceLevelConfig!$A:$E,5,FALSE),2))","v":23.88},-1,4,4,4,4955,null,null,null,1,4,229]
[null,230,7,20,10,"232;236;247","飞升期","中",10,232,236,247,{"$f":"[1]ResourceLevelConfig!$E234*10","v":210410},100004,20,1301,1,"1301;1302","1;1",0,{"$f":"[3]主表!J232","v":8944.23},{"$f":"[3]主表!K232","v":190.98},{"$f":"[3]主表!L232","v":190.98},{"$f":"[3]主表!M232","v":1865.21},{"$f":"[3]主表!$G232","v":54859},{"$f":"[3]升级!$H232","v":1700},{"$f":"MAX(1,ROUND(100/(24*3600)*VLOOKUP(B234,[1]ResourceLevelConfig!$A:$E,5,FALSE),2))","v":24.35},20,4,4,4,5070,null,null,null,1,4,230]
[null,231,7,21,1,"232;237;238","飞升期","后",1,232,237,238,{"$f":"[1]ResourceLevelConfig!$E235*10","v":214620},-1,-1,-1,-1,{"$f":"IF(I235=10,\"1001;1002;1004\",-1)","v":-1},{"$f":"IF(R235=-1,-1,\"100;200;300\")","v":-1},0,{"$f":"[3]主表!J233","v":9113.9340000000011},{"$f":"[3]主表!K233","v":194.12},{"$f":"[3]主表!L233","v":194.12},{"$f":"[3]主表!M233","v":1960.1},{"$f":"[3]主表!$G233","v":57650},{"$f":"[3]升级!$H233","v":1700},{"$f":"MAX(1,ROUND(100/(24*3600)*VLOOKUP(B235,[1]ResourceLevelConfig!$A:$E,5,FALSE),2))","v":24.84},-1,4,4,4,5188,null,null,null,1,4,231]
[null,232,7,21,2,"232;237;239","飞升期","后",2,232,237,239,{"$f":"[1]ResourceLevelConfig!$E236*10","v":218910},-1,-1,-1,-1,-1,-1,0,{"$f":"[3]主表!J234","v":9287.1946666666663},{"$f":"[3]主表!K234","v":197.32},{"$f":"[3]主表!L234","v":197.32},{"$f":"[3]主表!M234","v":1993.83},{"$f":"[3]主表!$G234","v":58642},{"$f":"[3]升级!$H234","v":1700},{"$f":"MAX(1,ROUND(100/(24*3600)*VLOOKUP(B236,[1]ResourceLevelConfig!$A:$E,5,FALSE),2))","v":25.34},-1,4,4,4,5309,null,null,null,1,4,232]
[null,233,7,21,3,"232;237;240","飞升期","后",3,232,237,240,{"$f":"[1]ResourceLevelConfig!$E237*10","v":223290},-1,-1,-1,-1,-1,-1,0,{"$f":"[3]主表!J235","v":9463.0893333333352},{"$f":"[3]主表!K235","v":200.56},{"$f":"[3]主表!L235","v":200.56},{"$f":"[3]主表!M235","v":2028.03},{"$f":"[3]主表!$G235","v":59648},{"$f":"[3]升级!$H235","v":1700},{"$f":"MAX(1,ROUND(100/(24*3600)*VLOOKUP(B237,[1]ResourceLevelConfig!$A:$E,5,FALSE),2))","v":25.84},-1,4,4,4,5433,null,null,null,1,4,233]
[null,234,7,21,4,"232;237;241","飞升期","后",4,232,237,241,{"$f":"[1]ResourceLevelConfig!$E238*10","v":227760},-1,-1,-1,-1,-1,-1,0,{"$f":"[3]主表!J236","v":9643.5240000000013},{"$f":"[3]主表!K236","v":203.88},{"$f":"[3]主表!L236","v":203.88},{"$f":"[3]主表!M236","v":2063.15},{"$f":"[3]主表!$G236","v":60681},{"$f":"[3]升级!$H236","v":1700},{"$f":"MAX(1,ROUND(100/(24*3600)*VLOOKUP(B238,[1]ResourceLevelConfig!$A:$E,5,FALSE),2))","v":26.36},-1,4,4,4,5559,null,null,null,1,4,234]
[null,235,7,21,5,"232;237;242","飞升期","后",5,232,237,242,{"$f":"[1]ResourceLevelConfig!$E239*10","v":232320},-1,-1,-1,-1,-1,-1,0,{"$f":"[3]主表!J237","v":9825.6816666666673},{"$f":"[3]主表!K237","v":207.22},{"$f":"[3]主表!L237","v":207.22},{"$f":"[3]主表!M237","v":2098.58},{"$f":"[3]主表!$G237","v":61723},{"$f":"[3]升级!$H237","v":1700},{"$f":"MAX(1,ROUND(100/(24*3600)*VLOOKUP(B239,[1]ResourceLevelConfig!$A:$E,5,FALSE),2))","v":26.89},-1,4,4,4,5689,null,null,null,1,4,235]
[null,236,7,21,6,"232;237;243","飞升期","后",6,232,237,243,{"$f":"[1]ResourceLevelConfig!$E240*10","v":236970},-1,-1,-1,-1,-1,-1,0,{"$f":"[3]主表!J238","v":10012.421333333334},{"$f":"[3]主表!K238","v":210.64},{"$f":"[3]主表!L238","v":210.64},{"$f":"[3]主表!M238","v":2134.9299999999998},{"$f":"[3]主表!$G238","v":62792},{"$f":"[3]升级!$H238","v":1700},{"$f":"MAX(1,ROUND(100/(24*3600)*VLOOKUP(B240,[1]ResourceLevelConfig!$A:$E,5,FALSE),2))","v":27.43},-1,4,4,4,5821,null,null,null,1,4,236]
[null,237,7,21,7,"232;237;244","飞升期","后",7,232,237,244,{"$f":"[1]ResourceLevelConfig!$E241*10","v":241710},-1,-1,-1,-1,-1,-1,0,{"$f":"[3]主表!J239","v":10202.818000000001},{"$f":"[3]主表!K239","v":214.12},{"$f":"[3]主表!L239","v":214.12},{"$f":"[3]主表!M239","v":2171.9899999999998},{"$f":"[3]主表!$G239","v":63882},{"$f":"[3]升级!$H239","v":1700},{"$f":"MAX(1,ROUND(100/(24*3600)*VLOOKUP(B241,[1]ResourceLevelConfig!$A:$E,5,FALSE),2))","v":27.98},-1,4,4,4,5957,null,null,null,1,4,237]
[null,238,7,21,8,"232;237;245","飞升期","后",8,232,237,245,{"$f":"[1]ResourceLevelConfig!$E242*10","v":246540},-1,-1,-1,-1,-1,-1,0,{"$f":"[3]主表!J240","v":10395.937333333333},{"$f":"[3]主表!K240","v":217.64},{"$f":"[3]主表!L240","v":217.64},{"$f":"[3]主表!M240","v":2209.56},{"$f":"[3]主表!$G240","v":64987},{"$f":"[3]升级!$H240","v":1700},{"$f":"MAX(1,ROUND(100/(24*3600)*VLOOKUP(B242,[1]ResourceLevelConfig!$A:$E,5,FALSE),2))","v":28.53},-1,4,4,4,6095,null,null,null,1,4,238]
[null,239,7,21,9,"232;237;246","飞升期","后",9,232,237,246,{"$f":"[1]ResourceLevelConfig!$E243*10","v":251470},-1,-1,-1,-1,-1,-1,0,{"$f":"[3]主表!J241","v":10592.751},{"$f":"[3]主表!K241","v":221.22},{"$f":"[3]主表!L241","v":221.22},{"$f":"[3]主表!M241","v":2247.88},{"$f":"[3]主表!$G241","v":66114},{"$f":"[3]升级!$H241","v":1700},{"$f":"MAX(1,ROUND(100/(24*3600)*VLOOKUP(B243,[1]ResourceLevelConfig!$A:$E,5,FALSE),2))","v":29.11},-1,4,4,4,6237,null,null,null,1,4,239]
[null,240,7,21,10,"232;237;247","飞升期","后",10,232,237,247,{"$f":"[1]ResourceLevelConfig!$E244*10","v":256500},100004,20,1301,1,"1301;1302;1303","1;1;1","1;1",{"$f":"[3]主表!J242","v":12017.28},{"$f":"[3]主表!K242","v":250.36},{"$f":"[3]主表!L242","v":250.36},{"$f":"[3]主表!M242","v":2655.61},{"$f":"[3]主表!$G242","v":73767},{"$f":"[3]升级!$H242","v":1700},{"$f":"MAX(1,ROUND(100/(24*3600)*VLOOKUP(B244,[1]ResourceLevelConfig!$A:$E,5,FALSE),2))","v":29.69},50,4,4,4,6383,null,null,null,1,4,240]
[null,241,7,19,1,"233;235;238","逍遥期","前",1,233,235,238,{"$f":"[1]ResourceLevelConfig!$E245*10","v":261630},-1,-1,-1,-1,{"$f":"IF(I245=10,\"1001;1002;1004\",-1)","v":-1},{"$f":"IF(R245=-1,-1,\"100;200;300\")","v":-1},0,{"$f":"[3]主表!J243","v":12245.691666666666},{"$f":"[3]主表!K243","v":254.5},{"$f":"[3]主表!L243","v":254.5},{"$f":"[3]主表!M243","v":2808},{"$f":"[3]主表!$G243","v":78000},{"$f":"[3]升级!$H243","v":1800},{"$f":"MAX(1,ROUND(100/(24*3600)*VLOOKUP(B245,[1]ResourceLevelConfig!$A:$E,5,FALSE),2))","v":30.28},-1,4,4,4,6531,null,null,null,1,5,241]
[null,242,7,19,2,"233;235;239","逍遥期","前",2,233,235,239,{"$f":"[1]ResourceLevelConfig!$E246*10","v":266860},-1,-1,-1,-1,{"$f":"IF(I246=10,\"1001;1002;1004\",-1)","v":-1},{"$f":"IF(R246=-1,-1,\"100;200;300\")","v":-1},0,{"$f":"[3]主表!J244","v":12476.998666666666},{"$f":"[3]主表!K244","v":258.68},{"$f":"[3]主表!L244","v":258.68},{"$f":"[3]主表!M244","v":2849.94},{"$f":"[3]主表!$G244","v":79165},{"$f":"[3]升级!$H244","v":1800},{"$f":"MAX(1,ROUND(100/(24*3600)*VLOOKUP(B246,[1]ResourceLevelConfig!$A:$E,5,FALSE),2))","v":30.89},-1,4,4,4,6683,null,null,null,1,5,242]
[null,243,7,19,3,"233;235;240","逍遥期","前",3,233,235,240,{"$f":"[1]ResourceLevelConfig!$E247*10","v":272200},-1,-1,-1,-1,-1,-1,0,{"$f":"[3]主表!J245","v":12713.149000000001},{"$f":"[3]主表!K245","v":262.94},{"$f":"[3]主表!L245","v":262.94},{"$f":"[3]主表!M245","v":2892.74},{"$f":"[3]主表!$G245","v":80354},{"$f":"[3]升级!$H245","v":1800},{"$f":"MAX(1,ROUND(100/(24*3600)*VLOOKUP(B247,[1]ResourceLevelConfig!$A:$E,5,FALSE),2))","v":31.5},-1,4,4,4,6839,null,null,null,1,5,243]
[null,244,7,19,4,"233;235;241","逍遥期","前",4,233,235,241,{"$f":"[1]ResourceLevelConfig!$E248*10","v":277640},-1,-1,-1,-1,-1,-1,0,{"$f":"[3]主表!J246","v":12954.170666666667},{"$f":"[3]主表!K246","v":267.27999999999997},{"$f":"[3]主表!L246","v":267.27999999999997},{"$f":"[3]主表!M246","v":2936.38},{"$f":"[3]主表!$G246","v":81566},{"$f":"[3]升级!$H246","v":1800},{"$f":"MAX(1,ROUND(100/(24*3600)*VLOOKUP(B248,[1]ResourceLevelConfig!$A:$E,5,FALSE),2))","v":32.130000000000003},-1,4,4,4,6998,null,null,null,1,5,244]
[null,245,7,19,5,"233;235;242","逍遥期","前",5,233,235,242,{"$f":"[1]ResourceLevelConfig!$E249*10","v":283190},-1,-1,-1,-1,-1,-1,0,{"$f":"[3]主表!J247","v":13199.12},{"$f":"[3]主表!K247","v":271.68},{"$f":"[3]主表!L247","v":271.68},{"$f":"[3]主表!M247","v":2980.66},{"$f":"[3]主表!$G247","v":82796},{"$f":"[3]升级!$H247","v":1800},{"$f":"MAX(1,ROUND(100/(24*3600)*VLOOKUP(B249,[1]ResourceLevelConfig!$A:$E,5,FALSE),2))","v":32.78},-1,4,4,4,7161,null,null,null,1,5,245]
[null,246,7,19,6,"233;235;243","逍遥期","前",6,233,235,243,{"$f":"[1]ResourceLevelConfig!$E250*10","v":288850},-1,-1,-1,-1,-1,-1,0,{"$f":"[3]主表!J248","v":13448.992},{"$f":"[3]主表!K248","v":276.16000000000003},{"$f":"[3]主表!L248","v":276.16000000000003},{"$f":"[3]主表!M248","v":3025.37},{"$f":"[3]主表!$G248","v":84038},{"$f":"[3]升级!$H248","v":1800},{"$f":"MAX(1,ROUND(100/(24*3600)*VLOOKUP(B250,[1]ResourceLevelConfig!$A:$E,5,FALSE),2))","v":33.43},-1,4,4,4,7328,null,null,null,1,5,246]
[null,247,7,19,7,"233;235;244","逍遥期","前",7,233,235,244,{"$f":"[1]ResourceLevelConfig!$E251*10","v":294630},-1,-1,-1,-1,-1,-1,0,{"$f":"[3]主表!J249","v":13702.838333333333},{"$f":"[3]主表!K249","v":280.7},{"$f":"[3]主表!L249","v":280.7},{"$f":"[3]主表!M249","v":3070.76},{"$f":"[3]主表!$G249","v":85299},{"$f":"[3]升级!$H249","v":1800},{"$f":"MAX(1,ROUND(100/(24*3600)*VLOOKUP(B251,[1]ResourceLevelConfig!$A:$E,5,FALSE),2))","v":34.1},-1,4,4,4,7499,null,null,null,1,5,247]
[null,248,7,19,8,"233;235;245","逍遥期","前",8,233,235,245,{"$f":"[1]ResourceLevelConfig!$E252*10","v":300520},-1,-1,-1,-1,-1,-1,0,{"$f":"[3]主表!J250","v":13961.658666666666},{"$f":"[3]主表!K250","v":285.32},{"$f":"[3]主表!L250","v":285.32},{"$f":"[3]主表!M250","v":3116.95},{"$f":"[3]主表!$G250","v":86582},{"$f":"[3]升级!$H250","v":1800},{"$f":"MAX(1,ROUND(100/(24*3600)*VLOOKUP(B252,[1]ResourceLevelConfig!$A:$E,5,FALSE),2))","v":34.78},-1,4,4,4,7674,null,null,null,1,5,248]
[null,249,7,19,9,"233;235;246","逍遥期","前",9,233,235,246,{"$f":"[1]ResourceLevelConfig!$E253*10","v":306530},-1,-1,-1,-1,-1,-1,0,{"$f":"[3]主表!J251","v":14225.480999999998},{"$f":"[3]主表!K251","v":290.02},{"$f":"[3]主表!L251","v":290.02},{"$f":"[3]主表!M251","v":3164},{"$f":"[3]主表!$G251","v":87889},{"$f":"[3]升级!$H251","v":1800},{"$f":"MAX(1,ROUND(100/(24*3600)*VLOOKUP(B253,[1]ResourceLevelConfig!$A:$E,5,FALSE),2))","v":35.479999999999997},-1,4,4,4,7852,null,null,null,1,5,249]
[null,250,7,19,10,"233;235;247","逍遥期","前",10,233,235,247,{"$f":"[1]ResourceLevelConfig!$E254*10","v":312660},100004,20,1301,1,1301,1,0,{"$f":"[3]主表!J252","v":15198.4},{"$f":"[3]主表!K252","v":309.12},{"$f":"[3]主表!L252","v":309.12},{"$f":"[3]主表!M252","v":3530.77},{"$f":"[3]主表!$G252","v":92915},{"$f":"[3]升级!$H252","v":1800},{"$f":"MAX(1,ROUND(100/(24*3600)*VLOOKUP(B254,[1]ResourceLevelConfig!$A:$E,5,FALSE),2))","v":36.19},20,4,4,4,8035,null,null,null,1,5,250]
[null,251,7,20,1,"233;236;238","逍遥期","中",1,233,236,238,{"$f":"[1]ResourceLevelConfig!$E255*10","v":318910},-1,-1,-1,-1,{"$f":"IF(I255=10,\"1001;1002;1004\",-1)","v":-1},{"$f":"IF(R255=-1,-1,\"100;200;300\")","v":-1},0,{"$f":"[3]主表!J253","v":15485.808999999999},{"$f":"[3]主表!K253","v":314.22000000000003},{"$f":"[3]主表!L253","v":314.22000000000003},{"$f":"[3]主表!M253","v":3702},{"$f":"[3]主表!$G253","v":97421},{"$f":"[3]升级!$H253","v":1800},{"$f":"MAX(1,ROUND(100/(24*3600)*VLOOKUP(B255,[1]ResourceLevelConfig!$A:$E,5,FALSE),2))","v":36.909999999999997},-1,4,4,4,8222,null,null,null,1,5,251]
[null,252,7,20,2,"233;236;239","逍遥期","中",2,233,236,239,{"$f":"[1]ResourceLevelConfig!$E256*10","v":325290},-1,-1,-1,-1,-1,-1,0,{"$f":"[3]主表!J254","v":15778.359999999997},{"$f":"[3]主表!K254","v":319.39999999999998},{"$f":"[3]主表!L254","v":319.39999999999998},{"$f":"[3]主表!M254","v":3756.95},{"$f":"[3]主表!$G254","v":98867},{"$f":"[3]升级!$H254","v":1800},{"$f":"MAX(1,ROUND(100/(24*3600)*VLOOKUP(B256,[1]ResourceLevelConfig!$A:$E,5,FALSE),2))","v":37.65},-1,4,4,4,8414,null,null,null,1,5,252]
[null,253,7,20,3,"233;236;240","逍遥期","中",3,233,236,240,{"$f":"[1]ResourceLevelConfig!$E257*10","v":331800},-1,-1,-1,-1,-1,-1,0,{"$f":"[3]主表!J255","v":16076.080999999998},{"$f":"[3]主表!K255","v":324.66000000000003},{"$f":"[3]主表!L255","v":324.66000000000003},{"$f":"[3]主表!M255","v":3812.84},{"$f":"[3]主表!$G255","v":100338},{"$f":"[3]升级!$H255","v":1800},{"$f":"MAX(1,ROUND(100/(24*3600)*VLOOKUP(B257,[1]ResourceLevelConfig!$A:$E,5,FALSE),2))","v":38.4},-1,4,4,4,8610,null,null,null,1,5,253]
[null,254,7,20,{"$f":"I258","v":4},"233;236;241","逍遥期","中",4,233,236,241,{"$f":"[1]ResourceLevelConfig!$E258*10","v":338440},-1,{"$f":"IF(N258=-1,-1,20)","v":-1},-1,-1,-1,-1,0,{"$f":"[3]主表!J256","v":16378.999999999998},{"$f":"[3]主表!K256","v":330},{"$f":"[3]主表!L256","v":330},{"$f":"[3]主表!M256","v":3869.62},{"$f":"[3]主表!$G256","v":101832},{"$f":"[3]升级!$H256","v":1800},{"$f":"MAX(1,ROUND(100/(24*3600)*VLOOKUP(B258,[1]ResourceLevelConfig!$A:$E,5,FALSE),2))","v":39.17},-1,4,4,4,8810,null,null,null,1,5,254]
[null,255,7,20,5,"233;236;242","逍遥期","中",5,233,236,242,{"$f":"[1]ResourceLevelConfig!$E259*10","v":345210},-1,-1,-1,-1,-1,-1,0,{"$f":"[3]主表!J257","v":16688.14},{"$f":"[3]主表!K257","v":335.44},{"$f":"[3]主表!L257","v":335.44},{"$f":"[3]主表!M257","v":3927.49},{"$f":"[3]主表!$G257","v":103355},{"$f":"[3]升级!$H257","v":1800},{"$f":"MAX(1,ROUND(100/(24*3600)*VLOOKUP(B259,[1]ResourceLevelConfig!$A:$E,5,FALSE),2))","v":39.950000000000003},-1,{"$f":"AC258","v":4},{"$f":"AD258","v":4},{"$f":"AE258","v":4},9016,null,null,null,1,5,255]
[null,256,7,20,6,"233;236;243","逍遥期","中",6,233,236,243,{"$f":"[1]ResourceLevelConfig!$E260*10","v":352110},-1,-1,-1,-1,-1,-1,0,{"$f":"[3]主表!J258","v":17002.538666666664},{"$f":"[3]主表!K258","v":340.96},{"$f":"[3]主表!L258","v":340.96},{"$f":"[3]主表!M258","v":3986.28},{"$f":"[3]主表!$G258","v":104902},{"$f":"[3]升级!$H258","v":1800},{"$f":"MAX(1,ROUND(100/(24*3600)*VLOOKUP(B260,[1]ResourceLevelConfig!$A:$E,5,FALSE),2))","v":40.75},-1,4,4,4,9226,null,null,null,1,5,256]
[null,257,7,20,7,"233;236;244","逍遥期","中",7,233,236,244,{"$f":"[1]ResourceLevelConfig!$E261*10","v":359150},-1,-1,-1,-1,-1,-1,0,{"$f":"[3]主表!J259","v":17323.223666666665},{"$f":"[3]主表!K259","v":346.58},{"$f":"[3]主表!L259","v":346.58},{"$f":"[3]主表!M259","v":4046.16},{"$f":"[3]主表!$G259","v":106478},{"$f":"[3]升级!$H259","v":1800},{"$f":"MAX(1,ROUND(100/(24*3600)*VLOOKUP(B261,[1]ResourceLevelConfig!$A:$E,5,FALSE),2))","v":41.57},-1,4,4,4,9441,null,null,null,1,5,257]
[null,258,7,20,8,{"$f":"_xlfn.TEXTJOIN(\";\",1,J262:L262)","v":"233;236;245"},"逍遥期","中",8,233,236,245,{"$f":"[1]ResourceLevelConfig!$E262*10","v":366330},{"$f":"IF(I262=10,100004,-1)","v":-1},-1,-1,-1,-1,-1,0,{"$f":"[3]主表!J260","v":17649.227999999999},{"$f":"[3]主表!K260","v":352.28},{"$f":"[3]主表!L260","v":352.28},{"$f":"[3]主表!M260","v":4106.96},{"$f":"[3]主表!$G260","v":108078},{"$f":"[3]升级!$H260","v":1800},{"$f":"MAX(1,ROUND(100/(24*3600)*VLOOKUP(B262,[1]ResourceLevelConfig!$A:$E,5,FALSE),2))","v":42.4},-1,4,4,4,{"$f":"MAX(AF261+10,ROUND(10^(B262*0.01+1.405),0))","v":9661},null,null,null,1,5,258]
[null,259,7,20,9,"233;236;246","逍遥期","中",9,233,236,246,{"$f":"[1]ResourceLevelConfig!$E263*10","v":373660},-1,-1,-1,-1,-1,-1,0,{"$f":"[3]主表!J261","v":17981.583999999999},{"$f":"[3]主表!K261","v":358.08},{"$f":"[3]主表!L261","v":358.08},{"$f":"[3]主表!M261","v":4168.87},{"$f":"[3]主表!$G261","v":109707},{"$f":"[3]升级!$H261","v":1800},{"$f":"MAX(1,ROUND(100/(24*3600)*VLOOKUP(B263,[1]ResourceLevelConfig!$A:$E,5,FALSE),2))","v":43.25},-1,4,4,4,9886,null,null,null,1,5,259]
[null,260,7,20,10,"233;236;247","逍遥期","中",10,233,236,247,{"$f":"[1]ResourceLevelConfig!$E264*10","v":381130},100004,20,1301,1,"1301;1302","1;1",0,{"$f":"[3]主表!J262","v":19211.226666666666},{"$f":"[3]主表!K262","v":381.68},{"$f":"[3]主表!L262","v":381.68},{"$f":"[3]主表!M262","v":4639.3599999999997},{"$f":"[3]主表!$G262","v":115984},{"$f":"[3]升级!$H262","v":1800},{"$f":"MAX(1,ROUND(100/(24*3600)*VLOOKUP(B264,[1]ResourceLevelConfig!$A:$E,5,FALSE),2))","v":44.11},20,4,4,4,10116,null,null,null,1,5,260]
[null,261,7,21,1,"233;237;238","逍遥期","后",1,233,237,238,{"$f":"[1]ResourceLevelConfig!$E265*10","v":388750},-1,-1,-1,-1,{"$f":"IF(I265=10,\"1001;1002;1004\",-1)","v":-1},{"$f":"IF(R265=-1,-1,\"100;200;300\")","v":-1},0,{"$f":"[3]主表!J263","v":19572.581999999999},{"$f":"[3]主表!K263","v":387.96},{"$f":"[3]主表!L263","v":387.96},{"$f":"[3]主表!M263","v":4864.08},{"$f":"[3]主表!$G263","v":121602},{"$f":"[3]升级!$H263","v":1800},{"$f":"MAX(1,ROUND(100/(24*3600)*VLOOKUP(B265,[1]ResourceLevelConfig!$A:$E,5,FALSE),2))","v":44.99},-1,4,4,4,10351,null,null,null,1,5,261]
[null,262,7,21,2,"233;237;239","逍遥期","后",2,233,237,239,{"$f":"[1]ResourceLevelConfig!$E266*10","v":396530},-1,-1,-1,-1,-1,-1,0,{"$f":"[3]主表!J264","v":19940.459333333332},{"$f":"[3]主表!K264","v":394.34},{"$f":"[3]主表!L264","v":394.34},{"$f":"[3]主表!M264","v":4936.08},{"$f":"[3]主表!$G264","v":123402},{"$f":"[3]升级!$H264","v":1800},{"$f":"MAX(1,ROUND(100/(24*3600)*VLOOKUP(B266,[1]ResourceLevelConfig!$A:$E,5,FALSE),2))","v":45.89},-1,4,4,4,10593,null,null,null,1,5,262]
[null,263,7,21,3,"233;237;240","逍遥期","后",3,233,237,240,{"$f":"[1]ResourceLevelConfig!$E267*10","v":404460},-1,-1,-1,-1,-1,-1,0,{"$f":"[3]主表!J265","v":20315.907333333333},{"$f":"[3]主表!K265","v":400.84},{"$f":"[3]主表!L265","v":400.84},{"$f":"[3]主表!M265","v":5009.5200000000004},{"$f":"[3]主表!$G265","v":125238},{"$f":"[3]升级!$H265","v":1800},{"$f":"MAX(1,ROUND(100/(24*3600)*VLOOKUP(B267,[1]ResourceLevelConfig!$A:$E,5,FALSE),2))","v":46.81},-1,4,4,4,10839,null,null,null,1,5,263]
[null,264,7,21,4,"233;237;241","逍遥期","后",4,233,237,241,{"$f":"[1]ResourceLevelConfig!$E268*10","v":412550},-1,-1,-1,-1,-1,-1,0,{"$f":"[3]主表!J266","v":20697.952000000001},{"$f":"[3]主表!K266","v":407.44},{"$f":"[3]主表!L266","v":407.44},{"$f":"[3]主表!M266","v":5084.12},{"$f":"[3]主表!$G266","v":127103},{"$f":"[3]升级!$H266","v":1800},{"$f":"MAX(1,ROUND(100/(24*3600)*VLOOKUP(B268,[1]ResourceLevelConfig!$A:$E,5,FALSE),2))","v":47.75},-1,4,4,4,11092,null,null,null,1,5,264]
[null,265,7,21,5,"233;237;242","逍遥期","后",5,233,237,242,{"$f":"[1]ResourceLevelConfig!$E269*10","v":420800},-1,-1,-1,-1,-1,-1,0,{"$f":"[3]主表!J267","v":21087.646666666667},{"$f":"[3]主表!K267","v":414.16},{"$f":"[3]主表!L267","v":414.16},{"$f":"[3]主表!M267","v":5160.12},{"$f":"[3]主表!$G267","v":129003},{"$f":"[3]升级!$H267","v":1800},{"$f":"MAX(1,ROUND(100/(24*3600)*VLOOKUP(B269,[1]ResourceLevelConfig!$A:$E,5,FALSE),2))","v":48.7},-1,4,4,4,11350,null,null,null,1,5,265]
[null,266,7,21,6,"233;237;243","逍遥期","后",6,233,237,243,{"$f":"[1]ResourceLevelConfig!$E270*10","v":429220},-1,-1,-1,-1,-1,-1,0,{"$f":"[3]主表!J268","v":21484.012666666669},{"$f":"[3]主表!K268","v":420.98},{"$f":"[3]主表!L268","v":420.98},{"$f":"[3]主表!M268","v":5237.32},{"$f":"[3]主表!$G268","v":130933},{"$f":"[3]升级!$H268","v":1800},{"$f":"MAX(1,ROUND(100/(24*3600)*VLOOKUP(B270,[1]ResourceLevelConfig!$A:$E,5,FALSE),2))","v":49.68},-1,4,4,4,11614,null,null,null,1,5,266]
[null,267,7,21,7,"233;237;244","逍遥期","后",7,233,237,244,{"$f":"[1]ResourceLevelConfig!$E271*10","v":437800},-1,-1,-1,-1,-1,-1,0,{"$f":"[3]主表!J269","v":21887.085000000003},{"$f":"[3]主表!K269","v":427.9},{"$f":"[3]主表!L269","v":427.9},{"$f":"[3]主表!M269","v":5315.76},{"$f":"[3]主表!$G269","v":132894},{"$f":"[3]升级!$H269","v":1800},{"$f":"MAX(1,ROUND(100/(24*3600)*VLOOKUP(B271,[1]ResourceLevelConfig!$A:$E,5,FALSE),2))","v":50.67},-1,4,4,4,11885,null,null,null,1,5,267]
[null,268,7,21,8,"233;237;245","逍遥期","后",8,233,237,245,{"$f":"[1]ResourceLevelConfig!$E272*10","v":446560},-1,-1,-1,-1,-1,-1,0,{"$f":"[3]主表!J270","v":22298.949333333334},{"$f":"[3]主表!K270","v":434.96},{"$f":"[3]主表!L270","v":434.96},{"$f":"[3]主表!M270","v":5395.8},{"$f":"[3]主表!$G270","v":134895},{"$f":"[3]升级!$H270","v":1800},{"$f":"MAX(1,ROUND(100/(24*3600)*VLOOKUP(B272,[1]ResourceLevelConfig!$A:$E,5,FALSE),2))","v":51.69},-1,4,4,4,12162,null,null,null,1,5,268]
[null,269,7,21,9,"233;237;246","逍遥期","后",9,233,237,246,{"$f":"[1]ResourceLevelConfig!$E273*10","v":455490},-1,-1,-1,-1,-1,-1,0,{"$f":"[3]主表!J271","v":22717.599333333339},{"$f":"[3]主表!K271","v":442.12},{"$f":"[3]主表!L271","v":442.12},{"$f":"[3]主表!M271","v":5477.08},{"$f":"[3]主表!$G271","v":136927},{"$f":"[3]升级!$H271","v":1800},{"$f":"MAX(1,ROUND(100/(24*3600)*VLOOKUP(B273,[1]ResourceLevelConfig!$A:$E,5,FALSE),2))","v":52.72},-1,4,4,4,12445,null,null,null,1,5,269]
[null,270,7,21,10,"233;237;247","逍遥期","后",10,233,237,247,{"$f":"[1]ResourceLevelConfig!$E274*10","v":464600},100004,20,1301,1,"1301;1302;1303","1;1;1","1;1",{"$f":"[3]主表!J272","v":25768.54},{"$f":"[3]主表!K272","v":500.36},{"$f":"[3]主表!L272","v":500.36},{"$f":"[3]主表!M272","v":6402.27},{"$f":"[3]主表!$G272","v":152435},{"$f":"[3]升级!$H272","v":1800},{"$f":"MAX(1,ROUND(100/(24*3600)*VLOOKUP(B274,[1]ResourceLevelConfig!$A:$E,5,FALSE),2))","v":53.77},50,4,4,4,12735,null,null,null,1,5,270]
[null,271,7,19,1,"234;235;238","真神期","前",1,234,235,238,{"$f":"[1]ResourceLevelConfig!$E275*10","v":473890},-1,-1,-1,-1,{"$f":"IF(I275=10,\"1001;1002;1004\",-1)","v":-1},{"$f":"IF(R275=-1,-1,\"100;200;300\")","v":-1},0,{"$f":"[3]主表!J273","v":26252.236666666671},{"$f":"[3]主表!K273","v":508.6},{"$f":"[3]主表!L273","v":508.6},{"$f":"[3]主表!M273","v":6768.09},{"$f":"[3]主表!$G273","v":161145},{"$f":"[3]升级!$H273","v":1900},{"$f":"MAX(1,ROUND(100/(24*3600)*VLOOKUP(B275,[1]ResourceLevelConfig!$A:$E,5,FALSE),2))","v":54.85},-1,4,4,4,13032,null,null,null,1,5,271]
[null,272,7,19,2,"234;235;239","真神期","前",2,234,235,239,{"$f":"[1]ResourceLevelConfig!$E276*10","v":483370},-1,-1,-1,-1,{"$f":"IF(I276=10,\"1001;1002;1004\",-1)","v":-1},{"$f":"IF(R276=-1,-1,\"100;200;300\")","v":-1},0,{"$f":"[3]主表!J274","v":26745.098666666669},{"$f":"[3]主表!K274","v":516.98},{"$f":"[3]主表!L274","v":516.98},{"$f":"[3]主表!M274","v":6868.39},{"$f":"[3]主表!$G274","v":163533},{"$f":"[3]升级!$H274","v":1900},{"$f":"MAX(1,ROUND(100/(24*3600)*VLOOKUP(B276,[1]ResourceLevelConfig!$A:$E,5,FALSE),2))","v":55.95},-1,4,4,4,13335,null,null,null,1,5,272]
[null,273,7,19,3,"234;235;240","真神期","前",3,234,235,240,{"$f":"[1]ResourceLevelConfig!$E277*10","v":493040},-1,-1,-1,-1,-1,-1,0,{"$f":"[3]主表!J275","v":27247.175000000003},{"$f":"[3]主表!K275","v":525.5},{"$f":"[3]主表!L275","v":525.5},{"$f":"[3]主表!M275","v":6970.4},{"$f":"[3]主表!$G275","v":165962},{"$f":"[3]升级!$H275","v":1900},{"$f":"MAX(1,ROUND(100/(24*3600)*VLOOKUP(B277,[1]ResourceLevelConfig!$A:$E,5,FALSE),2))","v":57.06},-1,4,4,4,13646,null,null,null,1,5,273]
[null,274,7,19,4,"234;235;241","真神期","前",4,234,235,241,{"$f":"[1]ResourceLevelConfig!$E278*10","v":502900},-1,-1,-1,-1,-1,-1,0,{"$f":"[3]主表!J276","v":27758.51466666667},{"$f":"[3]主表!K276","v":534.16},{"$f":"[3]主表!L276","v":534.16},{"$f":"[3]主表!M276","v":7074.23},{"$f":"[3]主表!$G276","v":168434},{"$f":"[3]升级!$H276","v":1900},{"$f":"MAX(1,ROUND(100/(24*3600)*VLOOKUP(B278,[1]ResourceLevelConfig!$A:$E,5,FALSE),2))","v":58.21},-1,4,4,4,13964,null,null,null,1,5,274]
[null,275,7,19,5,"234;235;242","真神期","前",5,234,235,242,{"$f":"[1]ResourceLevelConfig!$E279*10","v":512960},-1,-1,-1,-1,-1,-1,0,{"$f":"[3]主表!J277","v":28279.166666666672},{"$f":"[3]主表!K277","v":542.96},{"$f":"[3]主表!L277","v":542.96},{"$f":"[3]主表!M277","v":7179.82},{"$f":"[3]主表!$G277","v":170948},{"$f":"[3]升级!$H277","v":1900},{"$f":"MAX(1,ROUND(100/(24*3600)*VLOOKUP(B279,[1]ResourceLevelConfig!$A:$E,5,FALSE),2))","v":59.37},-1,4,4,4,14289,null,null,null,1,5,275]
[null,276,7,19,6,"234;235;243","真神期","前",6,234,235,243,{"$f":"[1]ResourceLevelConfig!$E280*10","v":523220},-1,-1,-1,-1,-1,-1,0,{"$f":"[3]主表!J278","v":28809.18},{"$f":"[3]主表!K278","v":551.9},{"$f":"[3]主表!L278","v":551.9},{"$f":"[3]主表!M278","v":7287.13},{"$f":"[3]主表!$G278","v":173503},{"$f":"[3]升级!$H278","v":1900},{"$f":"MAX(1,ROUND(100/(24*3600)*VLOOKUP(B280,[1]ResourceLevelConfig!$A:$E,5,FALSE),2))","v":60.56},-1,4,4,4,14622,null,null,null,1,5,276]
[null,277,7,19,7,"234;235;244","真神期","前",7,234,235,244,{"$f":"[1]ResourceLevelConfig!$E281*10","v":533680},-1,-1,-1,-1,-1,-1,0,{"$f":"[3]主表!J279","v":29348.60366666667},{"$f":"[3]主表!K279","v":560.98},{"$f":"[3]主表!L279","v":560.98},{"$f":"[3]主表!M279","v":7396.24},{"$f":"[3]主表!$G279","v":176101},{"$f":"[3]升级!$H279","v":1900},{"$f":"MAX(1,ROUND(100/(24*3600)*VLOOKUP(B281,[1]ResourceLevelConfig!$A:$E,5,FALSE),2))","v":61.77},-1,4,4,4,14962,null,null,null,1,5,277]
[null,278,7,19,8,"234;235;245","真神期","前",8,234,235,245,{"$f":"[1]ResourceLevelConfig!$E282*10","v":544350},-1,-1,-1,-1,-1,-1,0,{"$f":"[3]主表!J280","v":29898.535333333333},{"$f":"[3]主表!K280","v":570.22},{"$f":"[3]主表!L280","v":570.22},{"$f":"[3]主表!M280","v":7507.37},{"$f":"[3]主表!$G280","v":178747},{"$f":"[3]升级!$H280","v":1900},{"$f":"MAX(1,ROUND(100/(24*3600)*VLOOKUP(B282,[1]ResourceLevelConfig!$A:$E,5,FALSE),2))","v":63},-1,4,4,4,15311,null,null,null,1,5,278]
[null,279,7,19,9,"234;235;246","真神期","前",9,234,235,246,{"$f":"[1]ResourceLevelConfig!$E283*10","v":555240},-1,-1,-1,-1,-1,-1,0,{"$f":"[3]主表!J281","v":30459.030999999999},{"$f":"[3]主表!K281","v":579.62},{"$f":"[3]主表!L281","v":579.62},{"$f":"[3]主表!M281","v":7620.52},{"$f":"[3]主表!$G281","v":181441},{"$f":"[3]升级!$H281","v":1900},{"$f":"MAX(1,ROUND(100/(24*3600)*VLOOKUP(B283,[1]ResourceLevelConfig!$A:$E,5,FALSE),2))","v":64.260000000000005},-1,4,4,4,15668,null,null,null,1,5,279]
[null,280,7,19,10,"234;235;247","真神期","前",10,234,235,247,{"$f":"[1]ResourceLevelConfig!$E284*10","v":566340},100004,20,1301,1,1301,1,0,{"$f":"[3]主表!J282","v":32537.466666666664},{"$f":"[3]主表!K282","v":617.79999999999995},{"$f":"[3]主表!L282","v":617.79999999999995},{"$f":"[3]主表!M282","v":8439.73},{"$f":"[3]主表!$G282","v":191812},{"$f":"[3]升级!$H282","v":1900},{"$f":"MAX(1,ROUND(100/(24*3600)*VLOOKUP(B284,[1]ResourceLevelConfig!$A:$E,5,FALSE),2))","v":65.55},20,4,4,4,16032,null,null,null,1,5,280]
[null,281,7,20,1,"234;236;238","真神期","中",1,234,236,238,{"$f":"[1]ResourceLevelConfig!$E285*10","v":577670},-1,-1,-1,-1,{"$f":"IF(I285=10,\"1001;1002;1004\",-1)","v":-1},{"$f":"IF(R285=-1,-1,\"100;200;300\")","v":-1},0,{"$f":"[3]主表!J283","v":33146.877666666667},{"$f":"[3]主表!K283","v":627.98},{"$f":"[3]主表!L283","v":627.98},{"$f":"[3]主表!M283","v":8848.58},{"$f":"[3]主表!$G283","v":201104},{"$f":"[3]升级!$H283","v":1900},{"$f":"MAX(1,ROUND(100/(24*3600)*VLOOKUP(B285,[1]ResourceLevelConfig!$A:$E,5,FALSE),2))","v":66.86},-1,4,4,4,16406,null,null,null,1,5,281]
[null,282,7,20,2,"234;236;239","真神期","中",2,234,236,239,{"$f":"[1]ResourceLevelConfig!$E286*10","v":589220},-1,-1,-1,-1,-1,-1,0,{"$f":"[3]主表!J284","v":33767.128000000004},{"$f":"[3]主表!K284","v":638.32000000000005},{"$f":"[3]主表!L284","v":638.32000000000005},{"$f":"[3]主表!M284","v":8979.52},{"$f":"[3]主表!$G284","v":204080},{"$f":"[3]升级!$H284","v":1900},{"$f":"MAX(1,ROUND(100/(24*3600)*VLOOKUP(B286,[1]ResourceLevelConfig!$A:$E,5,FALSE),2))","v":68.2},-1,4,4,4,16788,null,null,null,1,5,282]
[null,283,7,20,3,"234;236;240","真神期","中",3,234,236,240,{"$f":"[1]ResourceLevelConfig!$E287*10","v":601000},-1,-1,-1,-1,-1,-1,0,{"$f":"[3]主表!J285","v":34398.273666666668},{"$f":"[3]主表!K285","v":648.82000000000005},{"$f":"[3]主表!L285","v":648.82000000000005},{"$f":"[3]主表!M285","v":9112.6200000000008},{"$f":"[3]主表!$G285","v":207105},{"$f":"[3]升级!$H285","v":1900},{"$f":"MAX(1,ROUND(100/(24*3600)*VLOOKUP(B287,[1]ResourceLevelConfig!$A:$E,5,FALSE),2))","v":69.56},-1,4,4,4,17179,null,null,null,1,5,283]
[null,284,7,20,{"$f":"I288","v":4},"234;236;241","真神期","中",4,234,236,241,{"$f":"[1]ResourceLevelConfig!$E288*10","v":613020},-1,{"$f":"IF(N288=-1,-1,20)","v":-1},-1,-1,-1,-1,0,{"$f":"[3]主表!J286","v":35042.495999999999},{"$f":"[3]主表!K286","v":659.52},{"$f":"[3]主表!L286","v":659.52},{"$f":"[3]主表!M286","v":9248.32},{"$f":"[3]主表!$G286","v":210189},{"$f":"[3]升级!$H286","v":1900},{"$f":"MAX(1,ROUND(100/(24*3600)*VLOOKUP(B288,[1]ResourceLevelConfig!$A:$E,5,FALSE),2))","v":70.95},-1,4,4,4,17579,null,null,null,1,5,284]
[null,285,7,20,5,"234;236;242","真神期","中",5,234,236,242,{"$f":"[1]ResourceLevelConfig!$E289*10","v":625280},-1,-1,-1,-1,-1,-1,0,{"$f":"[3]主表!J287","v":35697.735000000001},{"$f":"[3]主表!K287","v":670.38},{"$f":"[3]主表!L287","v":670.38},{"$f":"[3]主表!M287","v":9386.17},{"$f":"[3]主表!$G287","v":213322},{"$f":"[3]升级!$H287","v":1900},{"$f":"MAX(1,ROUND(100/(24*3600)*VLOOKUP(B289,[1]ResourceLevelConfig!$A:$E,5,FALSE),2))","v":72.37},-1,4,4,4,17989,null,null,null,1,5,285]
[null,286,7,20,6,"234;236;243","真神期","中",6,234,236,243,{"$f":"[1]ResourceLevelConfig!$E290*10","v":637790},-1,-1,-1,-1,-1,-1,0,{"$f":"[3]主表!J288","v":36365.113999999994},{"$f":"[3]主表!K288","v":681.42},{"$f":"[3]主表!L288","v":681.42},{"$f":"[3]主表!M288","v":9526.4},{"$f":"[3]主表!$G288","v":216509},{"$f":"[3]升级!$H288","v":1900},{"$f":"MAX(1,ROUND(100/(24*3600)*VLOOKUP(B290,[1]ResourceLevelConfig!$A:$E,5,FALSE),2))","v":73.819999999999993},-1,4,4,4,18408,null,null,null,1,5,286]
[null,287,7,20,7,"234;236;244","真神期","中",7,234,236,244,{"$f":"[1]ResourceLevelConfig!$E291*10","v":650550},-1,-1,-1,-1,-1,-1,{"$f":"IF(G291=G292,0,CONCATENATE(\"1;1\"))","v":0},{"$f":"[3]主表!J289","v":37044.695999999996},{"$f":"[3]主表!K289","v":692.64},{"$f":"[3]主表!L289","v":692.64},{"$f":"[3]主表!M289","v":9669.0400000000009},{"$f":"[3]主表!$G289","v":219751},{"$f":"[3]升级!$H289","v":1900},{"$f":"MAX(1,ROUND(100/(24*3600)*VLOOKUP(B291,[1]ResourceLevelConfig!$A:$E,5,FALSE),2))","v":75.3},-1,4,4,4,18836,null,null,null,1,5,287]
[null,288,7,20,8,"234;236;245","真神期","中",8,234,236,245,{"$f":"[1]ResourceLevelConfig!$E292*10","v":663560},-1,-1,-1,-1,-1,-1,0,{"$f":"[3]主表!J290","v":37736.543999999994},{"$f":"[3]主表!K290","v":704.04},{"$f":"[3]主表!L290","v":704.04},{"$f":"[3]主表!M290","v":9814.11},{"$f":"[3]主表!$G290","v":223048},{"$f":"[3]升级!$H290","v":1900},{"$f":"MAX(1,ROUND(100/(24*3600)*VLOOKUP(B292,[1]ResourceLevelConfig!$A:$E,5,FALSE),2))","v":76.8},-1,4,4,4,19275,null,null,null,1,5,288]
[null,289,7,20,9,"234;236;246","真神期","中",9,234,236,246,{"$f":"[1]ResourceLevelConfig!$E293*10","v":676830},-1,-1,-1,-1,-1,-1,0,{"$f":"[3]主表!J291","v":38441.795333333328},{"$f":"[3]主表!K291","v":715.64},{"$f":"[3]主表!L291","v":715.64},{"$f":"[3]主表!M291","v":9961.82},{"$f":"[3]主表!$G291","v":226405},{"$f":"[3]升级!$H291","v":1900},{"$f":"MAX(1,ROUND(100/(24*3600)*VLOOKUP(B293,[1]ResourceLevelConfig!$A:$E,5,FALSE),2))","v":78.34},-1,4,4,4,19724,null,null,null,1,5,289]
[null,290,7,20,10,"234;236;247","真神期","中",10,234,236,247,{"$f":"[1]ResourceLevelConfig!$E294*10","v":690370},100004,20,1301,1,"1301;1302","1;1",0,{"$f":"[3]主表!J292","v":41062.989999999991},{"$f":"[3]主表!K292","v":762.78},{"$f":"[3]主表!L292","v":762.78},{"$f":"[3]主表!M292","v":11009.78},{"$f":"[3]主表!$G292","v":239343},{"$f":"[3]升级!$H292","v":1900},{"$f":"MAX(1,ROUND(100/(24*3600)*VLOOKUP(B294,[1]ResourceLevelConfig!$A:$E,5,FALSE),2))","v":79.900000000000006},20,4,4,4,20184,null,null,null,1,5,290]
[null,291,7,21,1,"234;237;238","真神期","后",1,234,237,238,{"$f":"[1]ResourceLevelConfig!$E295*10","v":704180},-1,-1,-1,-1,{"$f":"IF(I295=10,\"1001;1002;1004\",-1)","v":-1},{"$f":"IF(R295=-1,-1,\"100;200;300\")","v":-1},0,{"$f":"[3]主表!J293","v":41829.592999999993},{"$f":"[3]主表!K293","v":775.34},{"$f":"[3]主表!L293","v":775.34},{"$f":"[3]主表!M293","v":11542.83},{"$f":"[3]主表!$G293","v":250931},{"$f":"[3]升级!$H293","v":1900},{"$f":"MAX(1,ROUND(100/(24*3600)*VLOOKUP(B295,[1]ResourceLevelConfig!$A:$E,5,FALSE),2))","v":81.5},-1,4,4,4,20654,null,null,null,1,5,291]
[null,292,7,21,2,"234;237;239","真神期","后",2,234,237,239,{"$f":"[1]ResourceLevelConfig!$E296*10","v":718260},-1,-1,-1,-1,-1,-1,0,{"$f":"[3]主表!J294","v":42611.02133333333},{"$f":"[3]主表!K294","v":788.12},{"$f":"[3]主表!L294","v":788.12},{"$f":"[3]主表!M294","v":11713.67},{"$f":"[3]主表!$G294","v":254645},{"$f":"[3]升级!$H294","v":1900},{"$f":"MAX(1,ROUND(100/(24*3600)*VLOOKUP(B296,[1]ResourceLevelConfig!$A:$E,5,FALSE),2))","v":83.13},-1,4,4,4,21135,null,null,null,1,5,292]
[null,293,7,21,3,"234;237;240","真神期","后",3,234,237,240,{"$f":"[1]ResourceLevelConfig!$E297*10","v":732630},-1,-1,-1,-1,-1,-1,0,{"$f":"[3]主表!J295","v":43406.268333333326},{"$f":"[3]主表!K295","v":801.1},{"$f":"[3]主表!L295","v":801.1},{"$f":"[3]主表!M295","v":11887.32},{"$f":"[3]主表!$G295","v":258420},{"$f":"[3]升级!$H295","v":1900},{"$f":"MAX(1,ROUND(100/(24*3600)*VLOOKUP(B297,[1]ResourceLevelConfig!$A:$E,5,FALSE),2))","v":84.8},-1,4,4,4,21627,null,null,null,1,5,293]
[null,294,7,21,4,"234;237;241","真神期","后",4,234,237,241,{"$f":"[1]ResourceLevelConfig!$E298*10","v":747280},-1,-1,-1,-1,-1,-1,0,{"$f":"[3]主表!J296","v":44215.403999999995},{"$f":"[3]主表!K296","v":814.28},{"$f":"[3]主表!L296","v":814.28},{"$f":"[3]主表!M296","v":12063.82},{"$f":"[3]主表!$G296","v":262257},{"$f":"[3]升级!$H296","v":1900},{"$f":"MAX(1,ROUND(100/(24*3600)*VLOOKUP(B298,[1]ResourceLevelConfig!$A:$E,5,FALSE),2))","v":86.49},-1,4,4,4,22131,null,null,null,1,5,294]
[null,295,7,21,5,"234;237;242","真神期","后",5,234,237,242,{"$f":"[1]ResourceLevelConfig!$E299*10","v":762230},-1,-1,-1,-1,-1,-1,0,{"$f":"[3]主表!J297","v":45040.675000000003},{"$f":"[3]主表!K297","v":827.7},{"$f":"[3]主表!L297","v":827.7},{"$f":"[3]主表!M297","v":12243.64},{"$f":"[3]主表!$G297","v":266166},{"$f":"[3]升级!$H297","v":1900},{"$f":"MAX(1,ROUND(100/(24*3600)*VLOOKUP(B299,[1]ResourceLevelConfig!$A:$E,5,FALSE),2))","v":88.22},-1,4,4,4,22646,null,null,null,1,5,295]
[null,296,7,21,6,"234;237;243","真神期","后",6,234,237,243,{"$f":"[1]ResourceLevelConfig!$E300*10","v":777470},-1,-1,-1,-1,-1,-1,0,{"$f":"[3]主表!J298","v":45879.984000000004},{"$f":"[3]主表!K298","v":841.32},{"$f":"[3]主表!L298","v":841.32},{"$f":"[3]主表!M298","v":12424.05},{"$f":"[3]主表!$G298","v":270088},{"$f":"[3]升级!$H298","v":1900},{"$f":"MAX(1,ROUND(100/(24*3600)*VLOOKUP(B300,[1]ResourceLevelConfig!$A:$E,5,FALSE),2))","v":89.98},-1,4,4,4,23174,null,null,null,1,5,296]
[null,297,7,21,7,"234;237;244","真神期","后",7,234,237,244,{"$f":"[1]ResourceLevelConfig!$E301*10","v":793020},-1,-1,-1,-1,-1,-1,0,{"$f":"[3]主表!J299","v":46735.587},{"$f":"[3]主表!K299","v":855.18},{"$f":"[3]主表!L299","v":855.18},{"$f":"[3]主表!M299","v":12607.68},{"$f":"[3]主表!$G299","v":274080},{"$f":"[3]升级!$H299","v":1900},{"$f":"MAX(1,ROUND(100/(24*3600)*VLOOKUP(B301,[1]ResourceLevelConfig!$A:$E,5,FALSE),2))","v":91.78},-1,4,4,4,23714,null,null,null,1,5,297]
[null,298,7,21,8,"234;237;245","真神期","后",8,234,237,245,{"$f":"[1]ResourceLevelConfig!$E302*10","v":808880},-1,-1,-1,-1,-1,-1,0,{"$f":"[3]主表!J300","v":47606.472666666668},{"$f":"[3]主表!K300","v":869.26},{"$f":"[3]主表!L300","v":869.26},{"$f":"[3]主表!M300","v":12794.39},{"$f":"[3]主表!$G300","v":278139},{"$f":"[3]升级!$H300","v":1900},{"$f":"MAX(1,ROUND(100/(24*3600)*VLOOKUP(B302,[1]ResourceLevelConfig!$A:$E,5,FALSE),2))","v":93.62},-1,4,4,4,24266,null,null,null,1,5,298]
[null,299,7,21,9,"234;237;246","真神期","后",9,234,237,246,{"$f":"[1]ResourceLevelConfig!$E303*10","v":825060},-1,-1,-1,-1,-1,-1,0,{"$f":"[3]主表!J301","v":48493.815666666669},{"$f":"[3]主表!K301","v":883.58},{"$f":"[3]主表!L301","v":883.58},{"$f":"[3]主表!M301","v":12984.42},{"$f":"[3]主表!$G301","v":282270},{"$f":"[3]升级!$H301","v":1900},{"$f":"MAX(1,ROUND(100/(24*3600)*VLOOKUP(B303,[1]ResourceLevelConfig!$A:$E,5,FALSE),2))","v":95.49},-1,4,4,4,24831,null,null,null,1,5,299]
[null,300,7,21,10,"234;237;247","真神期","后",10,234,237,247,{"$f":"[1]ResourceLevelConfig!$E304*10","v":841560},100004,20,1301,1,"1301;1302;1303","1;1;1","1;1",{"$f":"[3]主表!J302","v":55000},{"$f":"[3]主表!K302","v":1000},{"$f":"[3]主表!L302","v":1000},{"$f":"[3]主表!M302","v":15667.2},{"$f":"[3]主表!$G302","v":326400},{"$f":"[3]升级!$H302","v":2000},{"$f":"MAX(1,ROUND(100/(24*3600)*VLOOKUP(B304,[1]ResourceLevelConfig!$A:$E,5,FALSE),2))","v":97.4},50,4,4,4,25410,null,null,null,1,5,300]