{"text_format":"2","workbook":"xlsx","n_sheets":4,"sheets":["UnlockConfig","SubunlockConfig","解锁功能查询","UI的序列号查询"],"not_rendered":{"charts":0,"images":0,"macros":0,"external_links":2,"defined_names":2,"comments":0,"pivot_tables":0},"unopened":[],"bounds":{"document_bytes":16777216,"sheet_cells":100000,"run_cost":"one","rows_first":2000,"rows_last":500,"rows_between":2000,"halvings":0,"cell_chars":16384,"cell_head_chars":4096},"cells_cut":0,"cells_raw":0,"read":"whole","date_system":"1900"}

{"sheet":"UnlockConfig","index":0,"n_rows":226,"n_cols":15,"rows_kept":226,"cut":false,"hidden":false,"merged":[]}
["ID","ulockFunction","ulockCondition","ulockValue","functionValue","lockType","PlayerGuideID","GuidebyUI","UnlockTipsID"]
["int","int","int","int","int","int","int","int[]","int"]
[]
["序列","解锁功能\n见解锁功能查询","解锁方式\n1=飞艇等级解锁\n2=主线关卡ID解锁(MainStageNewConfig)\n4=试炼之地关卡ID解锁\n5=主线章节ID","ulockCondition=1，代表飞艇等级\nulockCondition=2，MainStageNewConfig_ID（到达）\nulockCondition=4，TowerLevelConfig_ID\nulockCondition=5，ChapterConfig_ID","功能参数\n","未解锁前对应入口的展现形式\n1、看不见\n2、置灰","新手引导ID","进入特定界面时再判断是否触发引导\n-1=任何界面都触发","未解锁时点击的提示语言表ID\n{0}取ulockValue","功能","对应Mainstage表里的文本",null,"新手引导ID，只填写功能解锁时会强制触发的引导。\n进入某功能才进行的引导不填！",null,"飞艇等级段"]
[186,338,2,2,0,1,0,-1,407063,{"$f":"VLOOKUP(B5,解锁功能查询!A:C,2,FALSE)","v":"【入口】英雄"}]
[193,515,2,2,0,1,0,-1,407063,"【引导】进1-2引导"]
[118,317,2,3,0,2,0,-1,407063,{"$f":"VLOOKUP(B7,解锁功能查询!A:C,2,FALSE)","v":"【选项卡】英雄详情-武具"},null,null,10]
[188,510,2,3,0,1,0,-1,407063,"【引导】英雄界面引导"]
[123,324,2,{"$f":"VLOOKUP(K9,[1]主线及解锁!$E:$I,5,FALSE)+1","v":6},0,1,0,-1,407063,{"$f":"VLOOKUP(B9,解锁功能查询!A:C,2,FALSE)","v":"【入口】公告"},"冒险指南",null,7]
[124,325,2,{"$f":"VLOOKUP(K10,[1]主线及解锁!$E:$I,5,FALSE)+1","v":6},0,1,0,-1,407063,{"$f":"VLOOKUP(B10,解锁功能查询!A:C,2,FALSE)","v":"【入口】邮件"},"冒险指南",null,7]
[135,311,2,8,0,1,0,-1,407063,{"$f":"VLOOKUP(B11,解锁功能查询!A:C,2,FALSE)","v":"【入口】主界面-商店"},"冒险指南",null,2]
[179,507,2,{"$f":"VLOOKUP(K12,[1]主线及解锁!$E:$I,5,FALSE)+1","v":10},0,1,0,-1,407063,{"$f":"VLOOKUP(B12,解锁功能查询!A:C,2,FALSE)","v":"活动框架"},"活动"]
[178,506,2,{"$f":"VLOOKUP(K13,[1]主线及解锁!$E:$I,5,FALSE)+1","v":7},0,1,0,-1,407063,{"$f":"VLOOKUP(B13,解锁功能查询!A:C,2,FALSE)","v":"日常签到"},"签到"]
[187,339,2,{"$f":"VLOOKUP(K14,[1]主线及解锁!$E:$I,5,FALSE)+1","v":6},0,1,0,-1,407063,{"$f":"VLOOKUP(B14,解锁功能查询!A:C,2,FALSE)","v":"【入口】背包"},"冒险指南"]
[197,340,2,4,0,2,0,-1,407063,"编队","冒险指南"]
[199,521,2,4,0,2,0,-1,407063,"穿装备引导"]
[125,326,2,{"$f":"VLOOKUP(K17,[1]主线及解锁!$E:$I,5,FALSE)+1","v":33},0,1,0,-1,407063,{"$f":"VLOOKUP(B17,解锁功能查询!A:C,2,FALSE)","v":"【入口】主线-三星奖励"},"探险地图1",null,7]
[130,307,2,{"$f":"VLOOKUP(K18,[1]主线及解锁!$E:$I,5,FALSE)+1","v":18},0,1,0,-1,407063,{"$f":"VLOOKUP(B18,解锁功能查询!A:C,2,FALSE)","v":"【入口】聊天UI"},"聊天好友",null,10]
[117,316,2,{"$f":"VLOOKUP(K19,[1]主线及解锁!$E:$I,5,FALSE)+1","v":12},0,2,0,-1,407063,{"$f":"VLOOKUP(B19,解锁功能查询!A:C,2,FALSE)","v":"【选项卡】英雄详情-防具"},"防具",null,10]
[198,520,2,33,0,2,0,-1,400027,"主线地图探索引导"]
[200,522,2,5,0,2,0,-1,407063,"编队引导"]
[203,525,2,33,0,1,0,-1,407063,"探索地图功能入口"]
[116,315,2,{"$f":"VLOOKUP(K23,[1]主线及解锁!$E:$I,5,FALSE)+1","v":6},0,2,0,-1,407063,{"$f":"VLOOKUP(B23,解锁功能查询!A:C,2,FALSE)","v":"【选项卡】英雄详情-觉醒"},"冒险指南",null,7]
[121,214,2,{"$f":"VLOOKUP(K24,[1]主线及解锁!$E:$I,5,FALSE)+1","v":6},0,1,0,-1,407063,{"$f":"VLOOKUP(B24,解锁功能查询!A:C,2,FALSE)","v":"【入口】冒险指南1"},"冒险指南",null,2]
[134,308,2,{"$f":"VLOOKUP(K25,[1]主线及解锁!$E:$I,5,FALSE)+1","v":6},0,1,0,-1,407063,{"$f":"VLOOKUP(B25,解锁功能查询!A:C,2,FALSE)","v":"【入口】英雄招募"},"冒险指南",null,2]
[153,501,2,{"$f":"VLOOKUP(K26,[1]主线及解锁!$E:$I,5,FALSE)+1","v":6},0,1,0,-1,407063,{"$f":"VLOOKUP(B26,解锁功能查询!A:C,2,FALSE)","v":"战斗-2倍速"},"冒险指南"]
[156,504,2,{"$f":"VLOOKUP(K27,[1]主线及解锁!$E:$I,5,FALSE)+1","v":6},0,1,0,-1,407063,{"$f":"VLOOKUP(B27,解锁功能查询!A:C,2,FALSE)","v":"战斗-瞄准线按钮"},"冒险指南"]
[154,502,2,{"$f":"VLOOKUP(K28,[1]主线及解锁!$E:$I,5,FALSE)+1","v":6},0,1,0,-1,407063,{"$f":"VLOOKUP(B28,解锁功能查询!A:C,2,FALSE)","v":"战斗-自动释放终结技"},"冒险指南"]
[155,503,2,{"$f":"VLOOKUP(K29,[1]主线及解锁!$E:$I,5,FALSE)+1","v":6},0,1,0,-1,407063,{"$f":"VLOOKUP(B29,解锁功能查询!A:C,2,FALSE)","v":"战斗-自动战斗"},"冒险指南"]
[196,519,2,{"$f":"VLOOKUP(K30,[1]主线及解锁!$E:$I,5,FALSE)+1","v":7},0,1,0,-1,407063,"累充奖励","签到"]
[107,201,2,{"$f":"VLOOKUP(K31,[1]主线及解锁!$E:$I,5,FALSE)+1","v":9},0,1,0,-1,407063,{"$f":"VLOOKUP(B31,解锁功能查询!A:C,2,FALSE)","v":"【入口】冒险-物资枢纽+第1个选项卡"},"物资枢纽-巨石营地1",null,10]
[109,203,2,{"$f":"VLOOKUP(K32,[1]主线及解锁!$E:$I,5,FALSE)+1","v":9},0,1,0,-1,407063,{"$f":"VLOOKUP(B32,解锁功能查询!A:C,2,FALSE)","v":"物资枢纽-巨石营地（英雄经验）"},"物资枢纽-巨石营地1",null,13]
[111,205,2,{"$f":"VLOOKUP(K33,[1]主线及解锁!$E:$I,5,FALSE)+1","v":16},0,1,0,-1,407063,{"$f":"VLOOKUP(B33,解锁功能查询!A:C,2,FALSE)","v":"物资枢纽-深渊猎场（防具材料）"},"物资枢纽-深渊猎场1",null,10]
[201,523,2,7,0,2,0,-1,407063,"主线箱子引导"]
[168,331,2,{"$f":"VLOOKUP(K35,[1]主线及解锁!$E:$I,5,FALSE)+1","v":29},0,1,0,-1,407063,{"$f":"VLOOKUP(B35,解锁功能查询!A:C,2,FALSE)","v":"【入口】战令"},"深渊通行证"]
[177,239,2,{"$f":"VLOOKUP(K36,[1]主线及解锁!$E:$I,5,FALSE)+1","v":43},0,1,0,-1,407063,{"$f":"VLOOKUP(B36,解锁功能查询!A:C,2,FALSE)","v":"契约按钮"},"契约"]
[108,202,2,{"$f":"VLOOKUP(K37,[1]主线及解锁!$E:$I,5,FALSE)+1","v":26},0,1,0,-1,407063,{"$f":"VLOOKUP(B37,解锁功能查询!A:C,2,FALSE)","v":"物资枢纽-闹鬼金矿（金币）"},"物资枢纽-闹鬼金矿1",null,18,"如果不缺的话，这个延后"]
[202,524,2,10,0,2,0,-1,407063,"特殊关卡引导"]
[127,328,2,{"$f":"VLOOKUP(K39,[1]主线及解锁!$E:$I,5,FALSE)+1","v":6},0,1,0,-1,407063,{"$f":"VLOOKUP(B39,解锁功能查询!A:C,2,FALSE)","v":"【入口】图鉴"},"冒险指南",null,7]
[191,513,2,{"$f":"VLOOKUP(K40,[1]主线及解锁!$E:$I,5,FALSE)+1","v":12},0,1,0,-1,407063,"【引导】防具强化引导","防具"]
[1001,4,2,{"$f":"VLOOKUP(K41,[1]主线及解锁!$E:$I,5,FALSE)+1","v":11},20,1,0,-1,407063,{"$f":"VLOOKUP(B41,解锁功能查询!A:C,2,FALSE)","v":"英雄等级上限提升"},{"$f":"CONCATENATE(\"英雄等级上限Lv.\",E41-10,\" → Lv.\",E41)","v":"英雄等级上限Lv.10 → Lv.20"}]
[1020,518,2,{"$f":"VLOOKUP(K42,[1]主线及解锁!$E:$I,5,FALSE)+1","v":23},0,1,0,-1,407063,"连续战斗按钮的解锁","连续战斗"]
[129,306,2,{"$f":"VLOOKUP(K43,[1]主线及解锁!$E:$I,5,FALSE)+1","v":18},0,1,0,-1,407063,{"$f":"VLOOKUP(B43,解锁功能查询!A:C,2,FALSE)","v":"【入口】好友"},"聊天好友",null,5]
[184,241,2,{"$f":"VLOOKUP(K44,[1]主线及解锁!$E:$I,5,FALSE)+1","v":141},0,2,0,-1,407063,{"$f":"VLOOKUP(B44,解锁功能查询!A:C,2,FALSE)","v":"深渊道馆入口按钮"},"深渊道馆"]
[169,332,1,68,0,1,0,-1,400027,{"$f":"VLOOKUP(B45,解锁功能查询!A:C,2,FALSE)","v":"商店-小镇杂货"},"钻石商店",null,2]
[180,508,2,{"$f":"VLOOKUP(K46,[1]主线及解锁!$E:$I,5,FALSE)+1","v":136},0,1,0,-1,407063,{"$f":"VLOOKUP(B46,解锁功能查询!A:C,2,FALSE)","v":"公会"},"小队系统"]
[122,215,2,{"$f":"VLOOKUP(K47,[1]主线及解锁!$E:$I,5,FALSE)+1","v":61},0,1,0,-1,407063,{"$f":"VLOOKUP(B47,解锁功能查询!A:C,2,FALSE)","v":"【入口】日常周常"},"日常任务",null,2]
[142,222,2,{"$f":"VLOOKUP(K48,[1]主线及解锁!$E:$I,5,FALSE)+1","v":46},0,2,0,-1,407063,{"$f":"VLOOKUP(B48,解锁功能查询!A:C,2,FALSE)","v":"试炼之地-时光试炼1"},"试炼之地-时光试炼1"]
[136,330,2,{"$f":"VLOOKUP(K49,[1]主线及解锁!$E:$I,5,FALSE)+1","v":46},0,1,0,-1,407063,{"$f":"VLOOKUP(B49,解锁功能查询!A:C,2,FALSE)","v":"【入口】冒险-试炼之地"},"试炼之地-时光试炼1"]
[915,336,2,{"$f":"VLOOKUP(K50,[1]主线及解锁!$E:$I,5,FALSE)+1","v":46},0,2,0,-1,407063,{"$f":"VLOOKUP(B50,解锁功能查询!A:C,2,FALSE)","v":"【入口】铁匠铺-时光之契"},"试炼之地-时光试炼1"]
[119,321,2,{"$f":"VLOOKUP(K51,[1]主线及解锁!$E:$I,5,FALSE)+1","v":46},0,1,0,-1,407063,{"$f":"VLOOKUP(B51,解锁功能查询!A:C,2,FALSE)","v":"【入口】编队界面-神器"},"试炼之地-时光试炼1",null,30,"神器作为到30级的养成。"]
[115,303,2,{"$f":"VLOOKUP(K52,[1]主线及解锁!$E:$I,5,FALSE)+1","v":46},0,1,0,-1,407063,{"$f":"VLOOKUP(B52,解锁功能查询!A:C,2,FALSE)","v":"【入口】主界面-铁匠铺"},"试炼之地-时光试炼1",null,20]
[204,526,2,15,0,1,0,-1,407063,"使用背包道具引导"]
[113,212,2,{"$f":"VLOOKUP(K54,[1]主线及解锁!$E:$I,5,FALSE)+1","v":58},0,1,0,-1,407063,{"$f":"VLOOKUP(B54,解锁功能查询!A:C,2,FALSE)","v":"BURP酒馆-悬赏任务"},"悬赏任务",null,15]
[114,301,2,{"$f":"VLOOKUP(K55,[1]主线及解锁!$E:$I,5,FALSE)+1","v":58},0,1,0,-1,407063,{"$f":"VLOOKUP(B55,解锁功能查询!A:C,2,FALSE)","v":"主界面-BURP酒馆入口"},"悬赏任务",null,999]
[175,334,1,9999,0,1,0,-1,400027,{"$f":"VLOOKUP(B56,解锁功能查询!A:C,2,FALSE)","v":"冲刺活动按钮"}]
[137,217,2,{"$f":"VLOOKUP(K57,[1]主线及解锁!$E:$I,5,FALSE)+1","v":66},0,2,0,-1,407063,{"$f":"VLOOKUP(B57,解锁功能查询!A:C,2,FALSE)","v":"试炼之地-流明试炼1（主线）"},"试炼之地-流明试炼"]
[131,319,2,{"$f":"VLOOKUP(K58,[1]主线及解锁!$E:$I,5,FALSE)+1","v":46},0,1,0,-1,407063,{"$f":"VLOOKUP(B58,解锁功能查询!A:C,2,FALSE)","v":"【入口】预设编队"},"试炼之地-时光试炼1",null,15]
[120,213,2,{"$f":"VLOOKUP(K59,[1]主线及解锁!$E:$I,5,FALSE)+1","v":36},0,1,0,-1,407063,{"$f":"VLOOKUP(B59,解锁功能查询!A:C,2,FALSE)","v":"【入口】冒险-模拟训练选"},"模拟训练-难度Lv.35",null,20]
[170,333,2,{"$f":"VLOOKUP(K60,[1]主线及解锁!$E:$I,5,FALSE)+1","v":{"$error":"#N/A"}},0,1,0,-1,407063,{"$f":"VLOOKUP(B60,解锁功能查询!A:C,2,FALSE)","v":"商店-模拟训练"},"模拟商店"]
[916,337,2,{"$f":"VLOOKUP(K61,[1]主线及解锁!$E:$I,5,FALSE)+1","v":206},0,2,0,-1,407063,{"$f":"VLOOKUP(B61,解锁功能查询!A:C,2,FALSE)","v":"【入口】铁匠铺-打造武器"},"武器打造"]
[195,517,2,{"$f":"VLOOKUP(K62,[1]主线及解锁!$E:$I,5,FALSE)+1","v":206},0,1,0,-1,407063,"【引导】分解装备","武器打造"]
[171,234,2,{"$f":"VLOOKUP(K63,[1]主线及解锁!$E:$I,5,FALSE)+1","v":126},0,1,0,-1,407063,{"$f":"VLOOKUP(B63,解锁功能查询!A:C,2,FALSE)","v":"物资枢纽-残响1"},"残响遗迹1"]
[167,233,2,{"$f":"VLOOKUP(K64,[1]主线及解锁!$E:$I,5,FALSE)+1","v":126},0,2,0,-1,407063,{"$f":"VLOOKUP(B64,解锁功能查询!A:C,2,FALSE)","v":"物资枢纽-第2个选项卡（遗物）"},"残响遗迹1"]
[181,335,2,128,0,2,0,-1,407063,{"$f":"VLOOKUP(B65,解锁功能查询!A:C,2,FALSE)","v":"残响的强化按钮"},"残响遗迹1"]
[143,223,2,{"$f":"VLOOKUP(K66,[1]主线及解锁!$E:$I,5,FALSE)+1","v":81},0,2,0,-1,407063,{"$f":"VLOOKUP(B66,解锁功能查询!A:C,2,FALSE)","v":"试炼之地-时光试炼2"},"试炼之地-时光试炼2"]
[101,2,1,9999,1,1,0,-1,400027,{"$f":"VLOOKUP(B67,解锁功能查询!A:C,2,FALSE)","v":"勋章栏位解锁"},"勋章",null,35]
[102,2,1,9999,2,1,0,-1,400027,{"$f":"VLOOKUP(B68,解锁功能查询!A:C,2,FALSE)","v":"勋章栏位解锁"},"勋章",null,35]
[103,2,1,9999,3,1,0,-1,400027,{"$f":"VLOOKUP(B69,解锁功能查询!A:C,2,FALSE)","v":"勋章栏位解锁"},"勋章",null,35]
[104,2,1,9999,4,1,0,-1,400027,{"$f":"VLOOKUP(B70,解锁功能查询!A:C,2,FALSE)","v":"勋章栏位解锁"},"勋章",null,35]
[182,509,2,31,0,1,0,-1,407063,"关闭新手特殊指引"]
[1002,4,2,{"$f":"VLOOKUP(K72,[1]主线及解锁!$E:$I,5,FALSE)+1","v":21},30,1,0,-1,407063,{"$f":"VLOOKUP(B72,解锁功能查询!A:C,2,FALSE)","v":"英雄等级上限提升"},{"$f":"CONCATENATE(\"英雄等级上限Lv.\",E72-10,\" → Lv.\",E72)","v":"英雄等级上限Lv.20 → Lv.30"}]
[133,309,2,{"$f":"VLOOKUP(K73,[1]主线及解锁!$E:$I,5,FALSE)+1","v":541},0,1,0,-1,407063,{"$f":"VLOOKUP(B73,解锁功能查询!A:C,2,FALSE)","v":"【入口】冒险-精英共斗"},"组队共斗",null,2]
[166,505,1,35,0,1,0,-1,400027,{"$f":"VLOOKUP(B74,解锁功能查询!A:C,2,FALSE)","v":"专属遗物信息解锁。解锁前，编队界面选神器后，英雄不显示专属遗物相关信息，神器上不显示强化效果信息"}]
[172,235,2,{"$f":"VLOOKUP(K75,[1]主线及解锁!$E:$I,5,FALSE)+1","v":241},0,1,0,-1,407063,{"$f":"VLOOKUP(B75,解锁功能查询!A:C,2,FALSE)","v":"物资枢纽-残响2"},"残响遗迹2"]
[144,224,2,{"$f":"VLOOKUP(K76,[1]主线及解锁!$E:$I,5,FALSE)+1","v":121},0,2,0,-1,407063,{"$f":"VLOOKUP(B76,解锁功能查询!A:C,2,FALSE)","v":"试炼之地-时光试炼3"},"试炼之地-时光试炼3"]
[173,236,2,{"$f":"VLOOKUP(K77,[1]主线及解锁!$E:$I,5,FALSE)+1","v":436},0,1,0,-1,407063,{"$f":"VLOOKUP(B77,解锁功能查询!A:C,2,FALSE)","v":"物资枢纽-残响3"},"残响遗迹3"]
[183,240,2,{"$f":"VLOOKUP(K78,[1]主线及解锁!$E:$I,5,FALSE)+1","v":1981},0,2,0,-1,407063,"赛季roguelike","模拟训练-赛季模式"]
[1003,4,2,{"$f":"VLOOKUP(K79,[1]主线及解锁!$E:$I,5,FALSE)+1","v":31},40,1,0,-1,407063,{"$f":"VLOOKUP(B79,解锁功能查询!A:C,2,FALSE)","v":"英雄等级上限提升"},{"$f":"CONCATENATE(\"英雄等级上限Lv.\",E79-10,\" → Lv.\",E79)","v":"英雄等级上限Lv.30 → Lv.40"}]
[145,225,2,{"$f":"VLOOKUP(K80,[1]主线及解锁!$E:$I,5,FALSE)+1","v":166},0,2,0,-1,407063,{"$f":"VLOOKUP(B80,解锁功能查询!A:C,2,FALSE)","v":"试炼之地-时光试炼4"},"试炼之地-时光试炼4"]
[151,231,2,{"$f":"VLOOKUP(K81,[1]主线及解锁!$E:$I,5,FALSE)+1","v":941},0,1,0,-1,407063,{"$f":"VLOOKUP(B81,解锁功能查询!A:C,2,FALSE)","v":"藏宝图-单人行动选项卡"},"藏宝图-单人"]
[112,209,2,{"$f":"VLOOKUP(K82,[1]主线及解锁!$E:$I,5,FALSE)+1","v":941},0,1,0,-1,407063,{"$f":"VLOOKUP(B82,解锁功能查询!A:C,2,FALSE)","v":"【入口】冒险-藏宝图"},"藏宝图-单人",null,40]
[185,242,2,{"$f":"VLOOKUP(K83,[1]主线及解锁!$E:$I,5,FALSE)+1","v":941},0,2,0,-1,407063,{"$f":"VLOOKUP(B83,解锁功能查询!A:C,2,FALSE)","v":"藏宝图活动入口"},"藏宝图-单人"]
[174,237,2,{"$f":"VLOOKUP(K84,[1]主线及解锁!$E:$I,5,FALSE)+1","v":641},0,1,0,-1,407063,{"$f":"VLOOKUP(B84,解锁功能查询!A:C,2,FALSE)","v":"物资枢纽-残响4"},"残响遗迹4"]
[148,228,2,{"$f":"VLOOKUP(K85,[1]主线及解锁!$E:$I,5,FALSE)+1","v":1961},0,2,0,-1,407063,{"$f":"VLOOKUP(B85,解锁功能查询!A:C,2,FALSE)","v":"试炼之地-轮回试炼1"},"试炼之地-轮回试炼",null,null,"轮回试炼2后解锁。跨度极大。"]
[149,229,2,{"$f":"VLOOKUP(K86,[1]主线及解锁!$E:$I,5,FALSE)+1","v":1961},0,2,0,-1,407063,{"$f":"VLOOKUP(B86,解锁功能查询!A:C,2,FALSE)","v":"试炼之地-轮回试炼2"},"试炼之地-轮回试炼"]
[150,230,2,{"$f":"VLOOKUP(K87,[1]主线及解锁!$E:$I,5,FALSE)+1","v":1961},0,2,0,-1,407063,{"$f":"VLOOKUP(B87,解锁功能查询!A:C,2,FALSE)","v":"试炼之地-轮回试炼3"},"试炼之地-轮回试炼"]
[146,226,2,{"$f":"VLOOKUP(K88,[1]主线及解锁!$E:$I,5,FALSE)+1","v":216},0,2,0,-1,407063,{"$f":"VLOOKUP(B88,解锁功能查询!A:C,2,FALSE)","v":"试炼之地-时光试炼5"},"试炼之地-时光试炼5"]
[152,232,2,{"$f":"VLOOKUP(K89,[1]主线及解锁!$E:$I,5,FALSE)+1","v":1141},0,1,0,-1,407063,{"$f":"VLOOKUP(B89,解锁功能查询!A:C,2,FALSE)","v":"藏宝图-我是队长&加入行动选项卡"},"藏宝图-组队"]
[147,227,2,{"$f":"VLOOKUP(K90,[1]主线及解锁!$E:$I,5,FALSE)+1","v":296},0,2,0,-1,407063,{"$f":"VLOOKUP(B90,解锁功能查询!A:C,2,FALSE)","v":"试炼之地-时光试炼6"},"试炼之地-时光试炼6"]
[176,238,2,9999,0,1,0,-1,407063,{"$f":"VLOOKUP(B91,解锁功能查询!A:C,2,FALSE)","v":"冒险指南2"},"冒险指南-进阶"]
[1004,4,2,{"$f":"VLOOKUP(K92,[1]主线及解锁!$E:$I,5,FALSE)+1","v":41},50,1,0,-1,407063,{"$f":"VLOOKUP(B92,解锁功能查询!A:C,2,FALSE)","v":"英雄等级上限提升"},{"$f":"CONCATENATE(\"英雄等级上限Lv.\",E92-10,\" → Lv.\",E92)","v":"英雄等级上限Lv.40 → Lv.50"}]
[1005,4,2,{"$f":"VLOOKUP(K93,[1]主线及解锁!$E:$I,5,FALSE)+1","v":51},60,1,0,-1,407063,{"$f":"VLOOKUP(B93,解锁功能查询!A:C,2,FALSE)","v":"英雄等级上限提升"},{"$f":"CONCATENATE(\"英雄等级上限Lv.\",E93-10,\" → Lv.\",E93)","v":"英雄等级上限Lv.50 → Lv.60"}]
[138,218,2,{"$f":"VLOOKUP(K94,[1]主线及解锁!$E:$I,5,FALSE)+1","v":181},0,2,0,-1,407063,{"$f":"VLOOKUP(B94,解锁功能查询!A:C,2,FALSE)","v":"试炼之地-流明试炼2（火）"},"试炼之地-流明试炼-属性"]
[139,219,2,{"$f":"VLOOKUP(K95,[1]主线及解锁!$E:$I,5,FALSE)+1","v":181},0,2,0,-1,407063,{"$f":"VLOOKUP(B95,解锁功能查询!A:C,2,FALSE)","v":"试炼之地-流明试炼3（冰）"},"试炼之地-流明试炼-属性"]
[140,220,2,{"$f":"VLOOKUP(K96,[1]主线及解锁!$E:$I,5,FALSE)+1","v":181},0,2,0,-1,407063,{"$f":"VLOOKUP(B96,解锁功能查询!A:C,2,FALSE)","v":"试炼之地-流明试炼4（雷）"},"试炼之地-流明试炼-属性"]
[1006,4,2,{"$f":"VLOOKUP(K97,[1]主线及解锁!$E:$I,5,FALSE)+1","v":71},70,1,0,-1,407063,{"$f":"VLOOKUP(B97,解锁功能查询!A:C,2,FALSE)","v":"英雄等级上限提升"},{"$f":"CONCATENATE(\"英雄等级上限Lv.\",E97-10,\" → Lv.\",E97)","v":"英雄等级上限Lv.60 → Lv.70"}]
[1007,4,2,{"$f":"VLOOKUP(K98,[1]主线及解锁!$E:$I,5,FALSE)+1","v":91},80,1,0,-1,407063,{"$f":"VLOOKUP(B98,解锁功能查询!A:C,2,FALSE)","v":"英雄等级上限提升"},"英雄等级上限Lv.70 → Lv.80"]
[1008,4,2,{"$f":"VLOOKUP(K99,[1]主线及解锁!$E:$I,5,FALSE)+1","v":111},90,1,0,-1,407063,{"$f":"VLOOKUP(B99,解锁功能查询!A:C,2,FALSE)","v":"英雄等级上限提升"},"英雄等级上限Lv.80 → Lv.90"]
[1009,4,2,{"$f":"VLOOKUP(K100,[1]主线及解锁!$E:$I,5,FALSE)+1","v":131},100,1,0,-1,407063,{"$f":"VLOOKUP(B100,解锁功能查询!A:C,2,FALSE)","v":"英雄等级上限提升"},"英雄等级上限Lv.90 → Lv.100"]
[1010,4,2,{"$f":"VLOOKUP(K101,[1]主线及解锁!$E:$I,5,FALSE)+1","v":151},110,1,0,-1,407063,{"$f":"VLOOKUP(B101,解锁功能查询!A:C,2,FALSE)","v":"英雄等级上限提升"},"英雄等级上限Lv.100 → Lv.110"]
[1011,4,2,{"$f":"VLOOKUP(K102,[1]主线及解锁!$E:$I,5,FALSE)+1","v":171},120,1,0,-1,407063,{"$f":"VLOOKUP(B102,解锁功能查询!A:C,2,FALSE)","v":"英雄等级上限提升"},"英雄等级上限Lv.110 → Lv.120"]
[1012,4,2,{"$f":"VLOOKUP(K103,[1]主线及解锁!$E:$I,5,FALSE)+1","v":191},130,1,0,-1,407063,{"$f":"VLOOKUP(B103,解锁功能查询!A:C,2,FALSE)","v":"英雄等级上限提升"},"英雄等级上限Lv.120 → Lv.130"]
[1013,4,2,{"$f":"VLOOKUP(K104,[1]主线及解锁!$E:$I,5,FALSE)+1","v":211},140,1,0,-1,407063,{"$f":"VLOOKUP(B104,解锁功能查询!A:C,2,FALSE)","v":"英雄等级上限提升"},"英雄等级上限Lv.130 → Lv.140"]
[1014,4,2,{"$f":"VLOOKUP(K105,[1]主线及解锁!$E:$I,5,FALSE)+1","v":231},150,1,0,-1,407063,{"$f":"VLOOKUP(B105,解锁功能查询!A:C,2,FALSE)","v":"英雄等级上限提升"},"英雄等级上限Lv.140 → Lv.150"]
[1015,4,2,{"$f":"VLOOKUP(K106,[1]主线及解锁!$E:$I,5,FALSE)+1","v":251},160,1,0,-1,407063,{"$f":"VLOOKUP(B106,解锁功能查询!A:C,2,FALSE)","v":"英雄等级上限提升"},"英雄等级上限Lv.150 → Lv.160"]
[1016,4,2,{"$f":"VLOOKUP(K107,[1]主线及解锁!$E:$I,5,FALSE)+1","v":271},170,1,0,-1,407063,{"$f":"VLOOKUP(B107,解锁功能查询!A:C,2,FALSE)","v":"英雄等级上限提升"},"英雄等级上限Lv.160 → Lv.170"]
[1017,4,2,{"$f":"VLOOKUP(K108,[1]主线及解锁!$E:$I,5,FALSE)+1","v":291},180,1,0,-1,407063,{"$f":"VLOOKUP(B108,解锁功能查询!A:C,2,FALSE)","v":"英雄等级上限提升"},"英雄等级上限Lv.170 → Lv.180"]
[1018,4,2,{"$f":"VLOOKUP(K109,[1]主线及解锁!$E:$I,5,FALSE)+1","v":311},190,1,0,-1,407063,{"$f":"VLOOKUP(B109,解锁功能查询!A:C,2,FALSE)","v":"英雄等级上限提升"},"英雄等级上限Lv.180 → Lv.190"]
[1019,4,2,{"$f":"VLOOKUP(K110,[1]主线及解锁!$E:$I,5,FALSE)+1","v":331},200,1,0,-1,407063,{"$f":"VLOOKUP(B110,解锁功能查询!A:C,2,FALSE)","v":"英雄等级上限提升"},"英雄等级上限Lv.190 → Lv.200"]
[128,329,1,999,0,1,0,-1,400027,{"$f":"VLOOKUP(B111,解锁功能查询!A:C,2,FALSE)","v":"【选项卡】铁匠铺-合成"},null,null,7]
[132,216,1,9999,0,1,0,-1,400027,{"$f":"VLOOKUP(B112,解锁功能查询!A:C,2,FALSE)","v":"成就界面"},null,null,2]
[190,512,2,9999,0,1,0,-1,407063,{"$f":"VLOOKUP(B113,解锁功能查询!A:C,2,FALSE)","v":"【引导】切换章节引导"}]
[192,514,2,9999,0,1,0,-1,407063,{"$f":"VLOOKUP(B114,解锁功能查询!A:C,2,FALSE)","v":"【引导】进通道2引导"}]
[194,516,2,9999,0,1,0,-1,407063,{"$f":"VLOOKUP(B115,解锁功能查询!A:C,2,FALSE)","v":"【引导】多波怪战斗引导"}]
[189,511,1,9999,0,1,0,-1,400027,{"$f":"VLOOKUP(B116,解锁功能查询!A:C,2,FALSE)","v":"【引导】累计星星引导"}]
[{"$nulls":8},407063]
[205,527,2,{"$f":"VLOOKUP(K118,[1]主线及解锁!$E:$I,5,FALSE)+1","v":126},0,1,0,-1,407063,{"$f":"VLOOKUP(B118,解锁功能查询!A:C,2,FALSE)","v":"【引导】英雄和队伍评分入口"},"残响遗迹1"]
[{"$nulls":8},407063]
[1021,4,2,{"$f":"VLOOKUP(K120,[1]主线及解锁!$E:$I,5,FALSE)+1","v":351},210,1,0,-1,407063,{"$f":"VLOOKUP(B120,解锁功能查询!A:C,2,FALSE)","v":"英雄等级上限提升"},{"$f":"CONCATENATE(\"英雄等级上限Lv.\",E120-10,\" → Lv.\",E120)","v":"英雄等级上限Lv.200 → Lv.210"}]
[1022,4,2,{"$f":"VLOOKUP(K121,[1]主线及解锁!$E:$I,5,FALSE)+1","v":371},220,1,0,-1,407063,{"$f":"VLOOKUP(B121,解锁功能查询!A:C,2,FALSE)","v":"英雄等级上限提升"},{"$f":"CONCATENATE(\"英雄等级上限Lv.\",E121-10,\" → Lv.\",E121)","v":"英雄等级上限Lv.210 → Lv.220"}]
[1023,4,2,{"$f":"VLOOKUP(K122,[1]主线及解锁!$E:$I,5,FALSE)+1","v":391},230,1,0,-1,407063,{"$f":"VLOOKUP(B122,解锁功能查询!A:C,2,FALSE)","v":"英雄等级上限提升"},{"$f":"CONCATENATE(\"英雄等级上限Lv.\",E122-10,\" → Lv.\",E122)","v":"英雄等级上限Lv.220 → Lv.230"}]
[1024,4,2,{"$f":"VLOOKUP(K123,[1]主线及解锁!$E:$I,5,FALSE)+1","v":411},240,1,0,-1,407063,{"$f":"VLOOKUP(B123,解锁功能查询!A:C,2,FALSE)","v":"英雄等级上限提升"},"英雄等级上限Lv.230 → Lv.240"]
[1025,4,2,{"$f":"VLOOKUP(K124,[1]主线及解锁!$E:$I,5,FALSE)+1","v":431},250,1,0,-1,407063,{"$f":"VLOOKUP(B124,解锁功能查询!A:C,2,FALSE)","v":"英雄等级上限提升"},"英雄等级上限Lv.240 → Lv.250"]
[1026,4,2,{"$f":"VLOOKUP(K125,[1]主线及解锁!$E:$I,5,FALSE)+1","v":451},260,1,0,-1,407063,{"$f":"VLOOKUP(B125,解锁功能查询!A:C,2,FALSE)","v":"英雄等级上限提升"},"英雄等级上限Lv.250 → Lv.260"]
[1027,4,2,{"$f":"VLOOKUP(K126,[1]主线及解锁!$E:$I,5,FALSE)+1","v":471},270,1,0,-1,407063,{"$f":"VLOOKUP(B126,解锁功能查询!A:C,2,FALSE)","v":"英雄等级上限提升"},"英雄等级上限Lv.260 → Lv.270"]
[1028,4,2,{"$f":"VLOOKUP(K127,[1]主线及解锁!$E:$I,5,FALSE)+1","v":491},280,1,0,-1,407063,{"$f":"VLOOKUP(B127,解锁功能查询!A:C,2,FALSE)","v":"英雄等级上限提升"},"英雄等级上限Lv.270 → Lv.280"]
[1029,4,2,{"$f":"VLOOKUP(K128,[1]主线及解锁!$E:$I,5,FALSE)+1","v":511},290,1,0,-1,407063,{"$f":"VLOOKUP(B128,解锁功能查询!A:C,2,FALSE)","v":"英雄等级上限提升"},"英雄等级上限Lv.280 → Lv.290"]
[1030,4,2,{"$f":"VLOOKUP(K129,[1]主线及解锁!$E:$I,5,FALSE)+1","v":531},300,1,0,-1,407063,{"$f":"VLOOKUP(B129,解锁功能查询!A:C,2,FALSE)","v":"英雄等级上限提升"},"英雄等级上限Lv.290 → Lv.300"]
[1031,4,2,{"$f":"VLOOKUP(K130,[1]主线及解锁!$E:$I,5,FALSE)+1","v":551},310,1,0,-1,407063,{"$f":"VLOOKUP(B130,解锁功能查询!A:C,2,FALSE)","v":"英雄等级上限提升"},"英雄等级上限Lv.300 → Lv.310"]
[1032,4,2,{"$f":"VLOOKUP(K131,[1]主线及解锁!$E:$I,5,FALSE)+1","v":571},320,1,0,-1,407063,{"$f":"VLOOKUP(B131,解锁功能查询!A:C,2,FALSE)","v":"英雄等级上限提升"},"英雄等级上限Lv.310 → Lv.320"]
[1033,4,2,{"$f":"VLOOKUP(K132,[1]主线及解锁!$E:$I,5,FALSE)+1","v":591},330,1,0,-1,407063,{"$f":"VLOOKUP(B132,解锁功能查询!A:C,2,FALSE)","v":"英雄等级上限提升"},"英雄等级上限Lv.320 → Lv.330"]
[1034,4,2,{"$f":"VLOOKUP(K133,[1]主线及解锁!$E:$I,5,FALSE)+1","v":611},340,1,0,-1,407063,{"$f":"VLOOKUP(B133,解锁功能查询!A:C,2,FALSE)","v":"英雄等级上限提升"},"英雄等级上限Lv.330 → Lv.340"]
[1035,4,2,{"$f":"VLOOKUP(K134,[1]主线及解锁!$E:$I,5,FALSE)+1","v":631},350,1,0,-1,407063,{"$f":"VLOOKUP(B134,解锁功能查询!A:C,2,FALSE)","v":"英雄等级上限提升"},"英雄等级上限Lv.340 → Lv.350"]
[1036,4,2,{"$f":"VLOOKUP(K135,[1]主线及解锁!$E:$I,5,FALSE)+1","v":651},360,1,0,-1,407063,{"$f":"VLOOKUP(B135,解锁功能查询!A:C,2,FALSE)","v":"英雄等级上限提升"},"英雄等级上限Lv.350 → Lv.360"]
[1037,4,2,{"$f":"VLOOKUP(K136,[1]主线及解锁!$E:$I,5,FALSE)+1","v":671},370,1,0,-1,407063,{"$f":"VLOOKUP(B136,解锁功能查询!A:C,2,FALSE)","v":"英雄等级上限提升"},"英雄等级上限Lv.360 → Lv.370"]
[1038,4,2,{"$f":"VLOOKUP(K137,[1]主线及解锁!$E:$I,5,FALSE)+1","v":691},380,1,0,-1,407063,{"$f":"VLOOKUP(B137,解锁功能查询!A:C,2,FALSE)","v":"英雄等级上限提升"},"英雄等级上限Lv.370 → Lv.380"]
[1039,4,2,{"$f":"VLOOKUP(K138,[1]主线及解锁!$E:$I,5,FALSE)+1","v":711},390,1,0,-1,407063,{"$f":"VLOOKUP(B138,解锁功能查询!A:C,2,FALSE)","v":"英雄等级上限提升"},{"$f":"CONCATENATE(\"英雄等级上限Lv.\",E138-10,\" → Lv.\",E138)","v":"英雄等级上限Lv.380 → Lv.390"}]
[1040,4,2,{"$f":"VLOOKUP(K139,[1]主线及解锁!$E:$I,5,FALSE)+1","v":731},400,1,0,-1,407063,{"$f":"VLOOKUP(B139,解锁功能查询!A:C,2,FALSE)","v":"英雄等级上限提升"},"英雄等级上限Lv.390 → Lv.400"]
[1041,4,2,{"$f":"VLOOKUP(K140,[1]主线及解锁!$E:$I,5,FALSE)+1","v":751},410,1,0,-1,407063,{"$f":"VLOOKUP(B140,解锁功能查询!A:C,2,FALSE)","v":"英雄等级上限提升"},"英雄等级上限Lv.400 → Lv.410"]
[1042,4,2,{"$f":"VLOOKUP(K141,[1]主线及解锁!$E:$I,5,FALSE)+1","v":771},420,1,0,-1,407063,{"$f":"VLOOKUP(B141,解锁功能查询!A:C,2,FALSE)","v":"英雄等级上限提升"},"英雄等级上限Lv.410 → Lv.420"]
[1043,4,2,{"$f":"VLOOKUP(K142,[1]主线及解锁!$E:$I,5,FALSE)+1","v":791},430,1,0,-1,407063,{"$f":"VLOOKUP(B142,解锁功能查询!A:C,2,FALSE)","v":"英雄等级上限提升"},"英雄等级上限Lv.420 → Lv.430"]
[1044,4,2,{"$f":"VLOOKUP(K143,[1]主线及解锁!$E:$I,5,FALSE)+1","v":811},440,1,0,-1,407063,{"$f":"VLOOKUP(B143,解锁功能查询!A:C,2,FALSE)","v":"英雄等级上限提升"},"英雄等级上限Lv.430 → Lv.440"]
[1045,4,2,{"$f":"VLOOKUP(K144,[1]主线及解锁!$E:$I,5,FALSE)+1","v":831},450,1,0,-1,407063,{"$f":"VLOOKUP(B144,解锁功能查询!A:C,2,FALSE)","v":"英雄等级上限提升"},"英雄等级上限Lv.440 → Lv.450"]
[1046,4,2,{"$f":"VLOOKUP(K145,[1]主线及解锁!$E:$I,5,FALSE)+1","v":851},460,1,0,-1,407063,{"$f":"VLOOKUP(B145,解锁功能查询!A:C,2,FALSE)","v":"英雄等级上限提升"},"英雄等级上限Lv.450 → Lv.460"]
[1047,4,2,{"$f":"VLOOKUP(K146,[1]主线及解锁!$E:$I,5,FALSE)+1","v":871},470,1,0,-1,407063,{"$f":"VLOOKUP(B146,解锁功能查询!A:C,2,FALSE)","v":"英雄等级上限提升"},"英雄等级上限Lv.460 → Lv.470"]
[1048,4,2,{"$f":"VLOOKUP(K147,[1]主线及解锁!$E:$I,5,FALSE)+1","v":891},480,1,0,-1,407063,{"$f":"VLOOKUP(B147,解锁功能查询!A:C,2,FALSE)","v":"英雄等级上限提升"},"英雄等级上限Lv.470 → Lv.480"]
[1049,4,2,{"$f":"VLOOKUP(K148,[1]主线及解锁!$E:$I,5,FALSE)+1","v":911},490,1,0,-1,407063,{"$f":"VLOOKUP(B148,解锁功能查询!A:C,2,FALSE)","v":"英雄等级上限提升"},"英雄等级上限Lv.480 → Lv.490"]
[1050,4,2,{"$f":"VLOOKUP(K149,[1]主线及解锁!$E:$I,5,FALSE)+1","v":931},500,1,0,-1,407063,{"$f":"VLOOKUP(B149,解锁功能查询!A:C,2,FALSE)","v":"英雄等级上限提升"},"英雄等级上限Lv.490 → Lv.500"]
[1051,4,2,{"$f":"VLOOKUP(K150,[1]主线及解锁!$E:$I,5,FALSE)+1","v":951},510,1,0,-1,407063,{"$f":"VLOOKUP(B150,解锁功能查询!A:C,2,FALSE)","v":"英雄等级上限提升"},"英雄等级上限Lv.500 → Lv.510"]
[1052,4,2,{"$f":"VLOOKUP(K151,[1]主线及解锁!$E:$I,5,FALSE)+1","v":971},520,1,0,-1,407063,{"$f":"VLOOKUP(B151,解锁功能查询!A:C,2,FALSE)","v":"英雄等级上限提升"},"英雄等级上限Lv.510 → Lv.520"]
[1053,4,2,{"$f":"VLOOKUP(K152,[1]主线及解锁!$E:$I,5,FALSE)+1","v":991},530,1,0,-1,407063,{"$f":"VLOOKUP(B152,解锁功能查询!A:C,2,FALSE)","v":"英雄等级上限提升"},"英雄等级上限Lv.520 → Lv.530"]
[1054,4,2,{"$f":"VLOOKUP(K153,[1]主线及解锁!$E:$I,5,FALSE)+1","v":1011},540,1,0,-1,407063,{"$f":"VLOOKUP(B153,解锁功能查询!A:C,2,FALSE)","v":"英雄等级上限提升"},"英雄等级上限Lv.530 → Lv.540"]
[1055,4,2,{"$f":"VLOOKUP(K154,[1]主线及解锁!$E:$I,5,FALSE)+1","v":1031},550,1,0,-1,407063,{"$f":"VLOOKUP(B154,解锁功能查询!A:C,2,FALSE)","v":"英雄等级上限提升"},"英雄等级上限Lv.540 → Lv.550"]
[1056,4,2,{"$f":"VLOOKUP(K155,[1]主线及解锁!$E:$I,5,FALSE)+1","v":1051},560,1,0,-1,407063,{"$f":"VLOOKUP(B155,解锁功能查询!A:C,2,FALSE)","v":"英雄等级上限提升"},"英雄等级上限Lv.550 → Lv.560"]
[1057,4,2,{"$f":"VLOOKUP(K156,[1]主线及解锁!$E:$I,5,FALSE)+1","v":1071},570,1,0,-1,407063,{"$f":"VLOOKUP(B156,解锁功能查询!A:C,2,FALSE)","v":"英雄等级上限提升"},"英雄等级上限Lv.560 → Lv.570"]
[1058,4,2,{"$f":"VLOOKUP(K157,[1]主线及解锁!$E:$I,5,FALSE)+1","v":1091},580,1,0,-1,407063,{"$f":"VLOOKUP(B157,解锁功能查询!A:C,2,FALSE)","v":"英雄等级上限提升"},"英雄等级上限Lv.570 → Lv.580"]
[1059,4,2,{"$f":"VLOOKUP(K158,[1]主线及解锁!$E:$I,5,FALSE)+1","v":1111},590,1,0,-1,407063,{"$f":"VLOOKUP(B158,解锁功能查询!A:C,2,FALSE)","v":"英雄等级上限提升"},"英雄等级上限Lv.580 → Lv.590"]
[1060,4,2,{"$f":"VLOOKUP(K159,[1]主线及解锁!$E:$I,5,FALSE)+1","v":1131},600,1,0,-1,407063,{"$f":"VLOOKUP(B159,解锁功能查询!A:C,2,FALSE)","v":"英雄等级上限提升"},"英雄等级上限Lv.590 → Lv.600"]
[1061,4,2,{"$f":"VLOOKUP(K160,[1]主线及解锁!$E:$I,5,FALSE)+1","v":1151},610,1,0,-1,407063,{"$f":"VLOOKUP(B160,解锁功能查询!A:C,2,FALSE)","v":"英雄等级上限提升"},"英雄等级上限Lv.600 → Lv.610"]
[1062,4,2,{"$f":"VLOOKUP(K161,[1]主线及解锁!$E:$I,5,FALSE)+1","v":1171},620,1,0,-1,407063,{"$f":"VLOOKUP(B161,解锁功能查询!A:C,2,FALSE)","v":"英雄等级上限提升"},"英雄等级上限Lv.610 → Lv.620"]
[1063,4,2,{"$f":"VLOOKUP(K162,[1]主线及解锁!$E:$I,5,FALSE)+1","v":1191},630,1,0,-1,407063,{"$f":"VLOOKUP(B162,解锁功能查询!A:C,2,FALSE)","v":"英雄等级上限提升"},"英雄等级上限Lv.620 → Lv.630"]
[1064,4,2,{"$f":"VLOOKUP(K163,[1]主线及解锁!$E:$I,5,FALSE)+1","v":1211},640,1,0,-1,407063,{"$f":"VLOOKUP(B163,解锁功能查询!A:C,2,FALSE)","v":"英雄等级上限提升"},"英雄等级上限Lv.630 → Lv.640"]
[1065,4,2,{"$f":"VLOOKUP(K164,[1]主线及解锁!$E:$I,5,FALSE)+1","v":1231},650,1,0,-1,407063,{"$f":"VLOOKUP(B164,解锁功能查询!A:C,2,FALSE)","v":"英雄等级上限提升"},"英雄等级上限Lv.640 → Lv.650"]
[1066,4,2,{"$f":"VLOOKUP(K165,[1]主线及解锁!$E:$I,5,FALSE)+1","v":1251},660,1,0,-1,407063,{"$f":"VLOOKUP(B165,解锁功能查询!A:C,2,FALSE)","v":"英雄等级上限提升"},"英雄等级上限Lv.650 → Lv.660"]
[1067,4,2,{"$f":"VLOOKUP(K166,[1]主线及解锁!$E:$I,5,FALSE)+1","v":1271},670,1,0,-1,407063,{"$f":"VLOOKUP(B166,解锁功能查询!A:C,2,FALSE)","v":"英雄等级上限提升"},"英雄等级上限Lv.660 → Lv.670"]
[1068,4,2,{"$f":"VLOOKUP(K167,[1]主线及解锁!$E:$I,5,FALSE)+1","v":1291},680,1,0,-1,407063,{"$f":"VLOOKUP(B167,解锁功能查询!A:C,2,FALSE)","v":"英雄等级上限提升"},"英雄等级上限Lv.670 → Lv.680"]
[1069,4,2,{"$f":"VLOOKUP(K168,[1]主线及解锁!$E:$I,5,FALSE)+1","v":1311},690,1,0,-1,407063,{"$f":"VLOOKUP(B168,解锁功能查询!A:C,2,FALSE)","v":"英雄等级上限提升"},"英雄等级上限Lv.680 → Lv.690"]
[1070,4,2,{"$f":"VLOOKUP(K169,[1]主线及解锁!$E:$I,5,FALSE)+1","v":1331},700,1,0,-1,407063,{"$f":"VLOOKUP(B169,解锁功能查询!A:C,2,FALSE)","v":"英雄等级上限提升"},"英雄等级上限Lv.690 → Lv.700"]
[1071,4,2,{"$f":"VLOOKUP(K170,[1]主线及解锁!$E:$I,5,FALSE)+1","v":1351},710,1,0,-1,407063,{"$f":"VLOOKUP(B170,解锁功能查询!A:C,2,FALSE)","v":"英雄等级上限提升"},"英雄等级上限Lv.700 → Lv.710"]
[1072,4,2,{"$f":"VLOOKUP(K171,[1]主线及解锁!$E:$I,5,FALSE)+1","v":1371},720,1,0,-1,407063,{"$f":"VLOOKUP(B171,解锁功能查询!A:C,2,FALSE)","v":"英雄等级上限提升"},"英雄等级上限Lv.710 → Lv.720"]
[1073,4,2,{"$f":"VLOOKUP(K172,[1]主线及解锁!$E:$I,5,FALSE)+1","v":1391},730,1,0,-1,407063,{"$f":"VLOOKUP(B172,解锁功能查询!A:C,2,FALSE)","v":"英雄等级上限提升"},"英雄等级上限Lv.720 → Lv.730"]
[1074,4,2,{"$f":"VLOOKUP(K173,[1]主线及解锁!$E:$I,5,FALSE)+1","v":1411},740,1,0,-1,407063,{"$f":"VLOOKUP(B173,解锁功能查询!A:C,2,FALSE)","v":"英雄等级上限提升"},"英雄等级上限Lv.730 → Lv.740"]
[1075,4,2,{"$f":"VLOOKUP(K174,[1]主线及解锁!$E:$I,5,FALSE)+1","v":1431},750,1,0,-1,407063,{"$f":"VLOOKUP(B174,解锁功能查询!A:C,2,FALSE)","v":"英雄等级上限提升"},"英雄等级上限Lv.740 → Lv.750"]
[1076,4,2,{"$f":"VLOOKUP(K175,[1]主线及解锁!$E:$I,5,FALSE)+1","v":1451},760,1,0,-1,407063,{"$f":"VLOOKUP(B175,解锁功能查询!A:C,2,FALSE)","v":"英雄等级上限提升"},"英雄等级上限Lv.750 → Lv.760"]
[1077,4,2,{"$f":"VLOOKUP(K176,[1]主线及解锁!$E:$I,5,FALSE)+1","v":1471},770,1,0,-1,407063,{"$f":"VLOOKUP(B176,解锁功能查询!A:C,2,FALSE)","v":"英雄等级上限提升"},"英雄等级上限Lv.760 → Lv.770"]
[1078,4,2,{"$f":"VLOOKUP(K177,[1]主线及解锁!$E:$I,5,FALSE)+1","v":1491},780,1,0,-1,407063,{"$f":"VLOOKUP(B177,解锁功能查询!A:C,2,FALSE)","v":"英雄等级上限提升"},"英雄等级上限Lv.770 → Lv.780"]
[1079,4,2,{"$f":"VLOOKUP(K178,[1]主线及解锁!$E:$I,5,FALSE)+1","v":1511},790,1,0,-1,407063,{"$f":"VLOOKUP(B178,解锁功能查询!A:C,2,FALSE)","v":"英雄等级上限提升"},"英雄等级上限Lv.780 → Lv.790"]
[1080,4,2,{"$f":"VLOOKUP(K179,[1]主线及解锁!$E:$I,5,FALSE)+1","v":1531},800,1,0,-1,407063,{"$f":"VLOOKUP(B179,解锁功能查询!A:C,2,FALSE)","v":"英雄等级上限提升"},"英雄等级上限Lv.790 → Lv.800"]
[1081,4,2,{"$f":"VLOOKUP(K180,[1]主线及解锁!$E:$I,5,FALSE)+1","v":1551},810,1,0,-1,407063,{"$f":"VLOOKUP(B180,解锁功能查询!A:C,2,FALSE)","v":"英雄等级上限提升"},"英雄等级上限Lv.800 → Lv.810"]
[1082,4,2,{"$f":"VLOOKUP(K181,[1]主线及解锁!$E:$I,5,FALSE)+1","v":1571},820,1,0,-1,407063,{"$f":"VLOOKUP(B181,解锁功能查询!A:C,2,FALSE)","v":"英雄等级上限提升"},"英雄等级上限Lv.810 → Lv.820"]
[1083,4,2,{"$f":"VLOOKUP(K182,[1]主线及解锁!$E:$I,5,FALSE)+1","v":1591},830,1,0,-1,407063,{"$f":"VLOOKUP(B182,解锁功能查询!A:C,2,FALSE)","v":"英雄等级上限提升"},"英雄等级上限Lv.820 → Lv.830"]
[1084,4,2,{"$f":"VLOOKUP(K183,[1]主线及解锁!$E:$I,5,FALSE)+1","v":1611},840,1,0,-1,407063,{"$f":"VLOOKUP(B183,解锁功能查询!A:C,2,FALSE)","v":"英雄等级上限提升"},"英雄等级上限Lv.830 → Lv.840"]
[1085,4,2,{"$f":"VLOOKUP(K184,[1]主线及解锁!$E:$I,5,FALSE)+1","v":1631},850,1,0,-1,407063,{"$f":"VLOOKUP(B184,解锁功能查询!A:C,2,FALSE)","v":"英雄等级上限提升"},"英雄等级上限Lv.840 → Lv.850"]
[1086,4,2,{"$f":"VLOOKUP(K185,[1]主线及解锁!$E:$I,5,FALSE)+1","v":1651},860,1,0,-1,407063,{"$f":"VLOOKUP(B185,解锁功能查询!A:C,2,FALSE)","v":"英雄等级上限提升"},"英雄等级上限Lv.850 → Lv.860"]
[1087,4,2,{"$f":"VLOOKUP(K186,[1]主线及解锁!$E:$I,5,FALSE)+1","v":1671},870,1,0,-1,407063,{"$f":"VLOOKUP(B186,解锁功能查询!A:C,2,FALSE)","v":"英雄等级上限提升"},"英雄等级上限Lv.860 → Lv.870"]
[1088,4,2,{"$f":"VLOOKUP(K187,[1]主线及解锁!$E:$I,5,FALSE)+1","v":1691},880,1,0,-1,407063,{"$f":"VLOOKUP(B187,解锁功能查询!A:C,2,FALSE)","v":"英雄等级上限提升"},"英雄等级上限Lv.870 → Lv.880"]
[1089,4,2,{"$f":"VLOOKUP(K188,[1]主线及解锁!$E:$I,5,FALSE)+1","v":1711},890,1,0,-1,407063,{"$f":"VLOOKUP(B188,解锁功能查询!A:C,2,FALSE)","v":"英雄等级上限提升"},"英雄等级上限Lv.880 → Lv.890"]
[1090,4,2,{"$f":"VLOOKUP(K189,[1]主线及解锁!$E:$I,5,FALSE)+1","v":1731},900,1,0,-1,407063,{"$f":"VLOOKUP(B189,解锁功能查询!A:C,2,FALSE)","v":"英雄等级上限提升"},"英雄等级上限Lv.890 → Lv.900"]
[1091,4,2,{"$f":"VLOOKUP(K190,[1]主线及解锁!$E:$I,5,FALSE)+1","v":1751},910,1,0,-1,407063,{"$f":"VLOOKUP(B190,解锁功能查询!A:C,2,FALSE)","v":"英雄等级上限提升"},"英雄等级上限Lv.900 → Lv.910"]
[1092,4,2,{"$f":"VLOOKUP(K191,[1]主线及解锁!$E:$I,5,FALSE)+1","v":1771},920,1,0,-1,407063,{"$f":"VLOOKUP(B191,解锁功能查询!A:C,2,FALSE)","v":"英雄等级上限提升"},"英雄等级上限Lv.910 → Lv.920"]
[1093,4,2,{"$f":"VLOOKUP(K192,[1]主线及解锁!$E:$I,5,FALSE)+1","v":1791},930,1,0,-1,407063,{"$f":"VLOOKUP(B192,解锁功能查询!A:C,2,FALSE)","v":"英雄等级上限提升"},"英雄等级上限Lv.920 → Lv.930"]
[1094,4,2,{"$f":"VLOOKUP(K193,[1]主线及解锁!$E:$I,5,FALSE)+1","v":1811},940,1,0,-1,407063,{"$f":"VLOOKUP(B193,解锁功能查询!A:C,2,FALSE)","v":"英雄等级上限提升"},"英雄等级上限Lv.930 → Lv.940"]
[1095,4,2,{"$f":"VLOOKUP(K194,[1]主线及解锁!$E:$I,5,FALSE)+1","v":1831},950,1,0,-1,407063,{"$f":"VLOOKUP(B194,解锁功能查询!A:C,2,FALSE)","v":"英雄等级上限提升"},"英雄等级上限Lv.940 → Lv.950"]
[1096,4,2,{"$f":"VLOOKUP(K195,[1]主线及解锁!$E:$I,5,FALSE)+1","v":1851},960,1,0,-1,407063,{"$f":"VLOOKUP(B195,解锁功能查询!A:C,2,FALSE)","v":"英雄等级上限提升"},"英雄等级上限Lv.950 → Lv.960"]
[1097,4,2,{"$f":"VLOOKUP(K196,[1]主线及解锁!$E:$I,5,FALSE)+1","v":1871},970,1,0,-1,407063,{"$f":"VLOOKUP(B196,解锁功能查询!A:C,2,FALSE)","v":"英雄等级上限提升"},"英雄等级上限Lv.960 → Lv.970"]
[1098,4,2,{"$f":"VLOOKUP(K197,[1]主线及解锁!$E:$I,5,FALSE)+1","v":1891},980,1,0,-1,407063,{"$f":"VLOOKUP(B197,解锁功能查询!A:C,2,FALSE)","v":"英雄等级上限提升"},"英雄等级上限Lv.970 → Lv.980"]
[1099,4,2,{"$f":"VLOOKUP(K198,[1]主线及解锁!$E:$I,5,FALSE)+1","v":1911},990,1,0,-1,407063,{"$f":"VLOOKUP(B198,解锁功能查询!A:C,2,FALSE)","v":"英雄等级上限提升"},"英雄等级上限Lv.980 → Lv.990"]
[1100,4,2,{"$f":"VLOOKUP(K199,[1]主线及解锁!$E:$I,5,FALSE)+1","v":1931},1000,1,0,-1,407063,{"$f":"VLOOKUP(B199,解锁功能查询!A:C,2,FALSE)","v":"英雄等级上限提升"},"英雄等级上限Lv.990 → Lv.1000"]
[{"$nulls":8},407063]
[2001,601,2,{"$f":"VLOOKUP(K201,[1]主线及解锁!$E:$I,5,FALSE)+1","v":128},5,1,0,-1,407063,{"$f":"VLOOKUP(B201,解锁功能查询!A:C,2,FALSE)","v":"残响强化等级上限解锁"},"残响强化上限+0 → +5"]
[2002,601,2,{"$f":"VLOOKUP(K202,[1]主线及解锁!$E:$I,5,FALSE)+1","v":234},10,1,0,-1,407063,{"$f":"VLOOKUP(B202,解锁功能查询!A:C,2,FALSE)","v":"残响强化等级上限解锁"},"残响强化上限+5 → +10"]
[2003,601,2,{"$f":"VLOOKUP(K203,[1]主线及解锁!$E:$I,5,FALSE)+1","v":336},15,1,0,-1,407063,{"$f":"VLOOKUP(B203,解锁功能查询!A:C,2,FALSE)","v":"残响强化等级上限解锁"},"残响强化上限+10 → +15"]
[2004,601,2,{"$f":"VLOOKUP(K204,[1]主线及解锁!$E:$I,5,FALSE)+1","v":446},20,1,0,-1,407063,{"$f":"VLOOKUP(B204,解锁功能查询!A:C,2,FALSE)","v":"残响强化等级上限解锁"},"残响强化上限+15 → +20"]
[2005,601,2,{"$f":"VLOOKUP(K205,[1]主线及解锁!$E:$I,5,FALSE)+1","v":536},25,1,0,-1,407063,{"$f":"VLOOKUP(B205,解锁功能查询!A:C,2,FALSE)","v":"残响强化等级上限解锁"},"残响强化上限+20 → +25"]
[2006,601,2,{"$f":"VLOOKUP(K206,[1]主线及解锁!$E:$I,5,FALSE)+1","v":636},30,1,0,-1,407063,{"$f":"VLOOKUP(B206,解锁功能查询!A:C,2,FALSE)","v":"残响强化等级上限解锁"},"残响强化上限+25 → +30"]
[2007,601,2,{"$f":"VLOOKUP(K207,[1]主线及解锁!$E:$I,5,FALSE)+1","v":736},35,1,0,-1,407063,{"$f":"VLOOKUP(B207,解锁功能查询!A:C,2,FALSE)","v":"残响强化等级上限解锁"},"残响强化上限+30 → +35"]
[2008,601,2,{"$f":"VLOOKUP(K208,[1]主线及解锁!$E:$I,5,FALSE)+1","v":836},40,1,0,-1,407063,{"$f":"VLOOKUP(B208,解锁功能查询!A:C,2,FALSE)","v":"残响强化等级上限解锁"},"残响强化上限+35 → +40"]
[2009,601,2,{"$f":"VLOOKUP(K209,[1]主线及解锁!$E:$I,5,FALSE)+1","v":936},45,1,0,-1,407063,{"$f":"VLOOKUP(B209,解锁功能查询!A:C,2,FALSE)","v":"残响强化等级上限解锁"},"残响强化上限+40 → +45"]
[2010,601,2,{"$f":"VLOOKUP(K210,[1]主线及解锁!$E:$I,5,FALSE)+1","v":1036},50,1,0,-1,407063,{"$f":"VLOOKUP(B210,解锁功能查询!A:C,2,FALSE)","v":"残响强化等级上限解锁"},"残响强化上限+45 → +50"]
[2011,601,2,{"$f":"VLOOKUP(K211,[1]主线及解锁!$E:$I,5,FALSE)+1","v":1136},55,1,0,-1,407063,{"$f":"VLOOKUP(B211,解锁功能查询!A:C,2,FALSE)","v":"残响强化等级上限解锁"},"残响强化上限+50 → +55"]
[2012,601,2,{"$f":"VLOOKUP(K212,[1]主线及解锁!$E:$I,5,FALSE)+1","v":1236},60,1,0,-1,407063,{"$f":"VLOOKUP(B212,解锁功能查询!A:C,2,FALSE)","v":"残响强化等级上限解锁"},"残响强化上限+55 → +60"]
[2013,601,2,{"$f":"VLOOKUP(K213,[1]主线及解锁!$E:$I,5,FALSE)+1","v":1336},65,1,0,-1,407063,{"$f":"VLOOKUP(B213,解锁功能查询!A:C,2,FALSE)","v":"残响强化等级上限解锁"},"残响强化上限+60→ +65"]
[2014,601,2,{"$f":"VLOOKUP(K214,[1]主线及解锁!$E:$I,5,FALSE)+1","v":1436},70,1,0,-1,407063,{"$f":"VLOOKUP(B214,解锁功能查询!A:C,2,FALSE)","v":"残响强化等级上限解锁"},"残响强化上限+65→ +70"]
[2015,601,2,{"$f":"VLOOKUP(K215,[1]主线及解锁!$E:$I,5,FALSE)+1","v":1536},75,1,0,-1,407063,{"$f":"VLOOKUP(B215,解锁功能查询!A:C,2,FALSE)","v":"残响强化等级上限解锁"},"残响强化上限+70→ +75"]
[2016,601,2,{"$f":"VLOOKUP(K216,[1]主线及解锁!$E:$I,5,FALSE)+1","v":1636},80,1,0,-1,407063,{"$f":"VLOOKUP(B216,解锁功能查询!A:C,2,FALSE)","v":"残响强化等级上限解锁"},"残响强化上限+75→ +80"]
[2017,601,2,{"$f":"VLOOKUP(K217,[1]主线及解锁!$E:$I,5,FALSE)+1","v":1736},85,1,0,-1,407063,{"$f":"VLOOKUP(B217,解锁功能查询!A:C,2,FALSE)","v":"残响强化等级上限解锁"},"残响强化上限+80→ +85"]
[2018,601,2,{"$f":"VLOOKUP(K218,[1]主线及解锁!$E:$I,5,FALSE)+1","v":1836},90,1,0,-1,407063,{"$f":"VLOOKUP(B218,解锁功能查询!A:C,2,FALSE)","v":"残响强化等级上限解锁"},"残响强化上限+85→ +90"]
[]
[206,602,1,6,18,1,0,-1,400027,{"$f":"VLOOKUP(B220,解锁功能查询!A:C,2,FALSE)","v":"解锁活动activity对应ID的入口"},"活跃活动"]
[207,602,1,1001,19,1,0,-1,400027,{"$f":"VLOOKUP(B221,解锁功能查询!A:C,2,FALSE)","v":"解锁活动activity对应ID的入口"},"定制残响"]
[208,603,1,51,19,1,0,-1,400027,{"$f":"VLOOKUP(B222,解锁功能查询!A:C,2,FALSE)","v":"防具一键升级"}]
[209,-1,1,125,-1,1,0,-1,400027,"供武器商店用"]
[210,-1,1,142,-1,1,0,-1,400027,"供残响商店用"]
[212,-1,2,116,-1,1,0,-1,400027,"兑换英雄商店用"]
[213,602,1,50,22,1,0,-1,400027,{"$f":"VLOOKUP(B226,解锁功能查询!A:C,2,FALSE)","v":"解锁活动activity对应ID的入口"},"活跃活动"]

{"sheet":"SubunlockConfig","index":1,"n_rows":35,"n_cols":20,"rows_kept":35,"cut":false,"hidden":false,"merged":[[4,7,4,11],[17,7,17,11]]}
["ID","unlockSystem","unlockSubystem","unlocHeroDuty","ulockHeroLevel"]
["int","int","int","int","int"]
[]
["ID","1=防具栏位\n2=遗物栏位\n3=秘石栏位","unlockSystem=1时：随身装备部位\n1=鞋子\n2=衣服\n3=腰带\nunlockSystem=2时：遗物部位\n1=部件A-希音遗物\n2=部件B-曜烨遗物\n3=部件C-馨香遗物\n4=部件D-藏微遗物","解锁所需英雄定位\n0=任意定位\n1=肉盾\n2=输出\n3=治疗\n4=辅助","解锁所需英雄等级"]
[101,1,1,1,{"$f":"I7","v":10},null,null,"不同职业随身装备各部位解锁所需英雄等级"]
[102,1,1,2,{"$f":"J7","v":200},null,null,null,"坦克（重）","输出（皮）","治疗（布）","辅助（布）",null,null,"重甲","皮甲","布甲"]
[103,1,1,3,{"$f":"K7","v":400},null,"防御","鞋子",10,200,400,200,null,"防御",1.5,1,0.5,null,300,200]
[104,1,1,4,{"$f":"L7","v":200},null,"生命","衣服",200,400,10,10,null,"生命",1,0.5,1.5,null,600,800]
[105,1,2,1,{"$f":"I8","v":200},null,"攻击","腰带",400,10,200,400,null,"攻击",0.5,1.5,1,null,900,2000]
[106,1,2,2,{"$f":"J8","v":400}]
[107,1,2,3,{"$f":"K8","v":10}]
[108,1,2,4,{"$f":"L8","v":10}]
[109,1,3,1,{"$f":"I9","v":400}]
[110,1,3,2,{"$f":"J9","v":10}]
[111,1,3,3,{"$f":"K9","v":200}]
[112,1,3,4,{"$f":"L9","v":400}]
[]
[201,2,1,1,90,null,null,"不同职业遗物各位置解锁所需英雄等级"]
[202,2,1,2,90,null,null,null,"坦克","输出","治疗","辅助"]
[203,2,1,3,90,null,"生命","部位1",90,90,90,90]
[204,2,1,4,90,null,"防御","部位2",90,90,90,90]
[205,2,2,1,90,null,"攻击","部位3",90,90,90,90]
[206,2,2,2,90,null,"辅助","部位4",90,90,90,90]
[207,2,2,3,90]
[208,2,2,4,90]
[209,2,3,1,90]
[210,2,3,2,90]
[211,2,3,3,90]
[212,2,3,4,90]
[213,2,4,1,90]
[214,2,4,2,90,null,null,null,31,51,31,51]
[215,2,4,3,90,null,null,null,51,31,51,31]
[216,2,4,4,90,null,null,null,51,31,51,31]
[]
[301,3,1,0,500]

{"sheet":"解锁功能查询","index":2,"n_rows":148,"n_cols":20,"rows_kept":148,"cut":false,"hidden":false,"merged":[]}
["ulockFunction","解锁功能","functionValue代表的意义","计数",{"$nulls":14},"遗物部位","随身装备部位"]
[1,"飞艇等级上限","飞艇等级上限解锁到多少级",{"$f":"COUNTIF(UnlockConfig!B:B,解锁功能查询!A2)","v":0},{"$nulls":8},"飞艇等级上限","飞艇等级上限解锁到多少级",{"$nulls":4},"int","int"]
[4,"英雄等级上限提升","英雄等级上限解锁到多少级"]
[101,"勋章栏位1解锁",null,{"$f":"COUNTIF(UnlockConfig!B:B,解锁功能查询!A4)","v":0},{"$nulls":8},"勋章栏位","解锁第几个勋章栏位"]
[102,"勋章栏位2解锁",null,{"$f":"COUNTIF(UnlockConfig!B:B,解锁功能查询!A5)","v":0},{"$nulls":8},"商业街建筑","1=酒馆（悬赏）\n2=职业介绍所（抽卡）\n3=铁匠铺（防具&抽武器）\n4=生物馆\n5=健身房",{"$nulls":4},"装备类型\n1:部件A\n2:部件B\n3:部件C\n4:部件D","装备类型\n1=鞋子\n2=衣服\n3=腰带"]
[103,"勋章栏位3解锁",null,{"$f":"COUNTIF(UnlockConfig!B:B,解锁功能查询!A6)","v":0},{"$nulls":8},"秘石栏位解锁","解锁第几个秘石栏位"]
[104,"勋章栏位4解锁",null,{"$f":"COUNTIF(UnlockConfig!B:B,解锁功能查询!A7)","v":0},{"$nulls":8},"排位赛解锁","无"]
[105,"英雄界面-武具-秘石",null,{"$f":"COUNTIF(UnlockConfig!B:B,解锁功能查询!A8)","v":0},{"$nulls":8},"好友&聊天","无"]
[106,"英雄界面-武具-遗物",null,{"$f":"COUNTIF(UnlockConfig!B:B,解锁功能查询!A9)","v":0},{"$nulls":8},"资源本","1金币 2英雄经验 3防具材料 4武器经验"]
[107,null,null,{"$f":"COUNTIF(UnlockConfig!B:B,解锁功能查询!A10)","v":0},{"$nulls":8},"入围赛解锁","无"]
[108,null,null,{"$f":"COUNTIF(UnlockConfig!B:B,解锁功能查询!A11)","v":0},{"$nulls":8},"藏宝图玩法","无"]
[109,"符文选项卡+秘石的提升按钮",null,{"$f":"COUNTIF(UnlockConfig!B:B,解锁功能查询!A12)","v":0},{"$nulls":8},"符文解锁","无"]
[null,null,null,{"$f":"COUNTIF(UnlockConfig!B:B,解锁功能查询!A13)","v":0}]
[201,"【入口】冒险-物资枢纽+第1个选项卡",null,{"$f":"COUNTIF(UnlockConfig!B:B,解锁功能查询!A14)","v":1}]
[202,"物资枢纽-闹鬼金矿（金币）",null,{"$f":"COUNTIF(UnlockConfig!B:B,解锁功能查询!A15)","v":1}]
[203,"物资枢纽-巨石营地（英雄经验）",null,{"$f":"COUNTIF(UnlockConfig!B:B,解锁功能查询!A16)","v":1}]
[204,"物资枢纽-机械废墟（残响）",null,{"$f":"COUNTIF(UnlockConfig!B:B,解锁功能查询!A17)","v":0}]
[205,"物资枢纽-深渊猎场（防具材料）",null,{"$f":"COUNTIF(UnlockConfig!B:B,解锁功能查询!A18)","v":1}]
[206,"勇士选拔赛按钮",null,{"$f":"COUNTIF(UnlockConfig!B:B,解锁功能查询!A19)","v":0}]
[207,"入围赛入口",null,{"$f":"COUNTIF(UnlockConfig!B:B,解锁功能查询!A20)","v":0}]
[208,"排位赛入口",null,{"$f":"COUNTIF(UnlockConfig!B:B,解锁功能查询!A21)","v":0}]
[209,"【入口】冒险-藏宝图",null,{"$f":"COUNTIF(UnlockConfig!B:B,解锁功能查询!A22)","v":1}]
[210,"藏宝图商店选项卡",null,{"$f":"COUNTIF(UnlockConfig!B:B,解锁功能查询!A23)","v":0}]
[211,"打工玩法选项卡",null,{"$f":"COUNTIF(UnlockConfig!B:B,解锁功能查询!A24)","v":0}]
[212,"BURP酒馆-悬赏任务",null,{"$f":"COUNTIF(UnlockConfig!B:B,解锁功能查询!A25)","v":1}]
[213,"【入口】冒险-模拟训练选",null,{"$f":"COUNTIF(UnlockConfig!B:B,解锁功能查询!A26)","v":1}]
[214,"【入口】冒险指南1",null,{"$f":"COUNTIF(UnlockConfig!B:B,解锁功能查询!A27)","v":1}]
[215,"【入口】日常周常",null,{"$f":"COUNTIF(UnlockConfig!B:B,解锁功能查询!A28)","v":1}]
[216,"成就界面",null,{"$f":"COUNTIF(UnlockConfig!B:B,解锁功能查询!A29)","v":1}]
[217,"试炼之地-流明试炼1（主线）",null,{"$f":"COUNTIF(UnlockConfig!B:B,解锁功能查询!A30)","v":1}]
[218,"试炼之地-流明试炼2（火）",null,{"$f":"COUNTIF(UnlockConfig!B:B,解锁功能查询!A31)","v":1}]
[219,"试炼之地-流明试炼3（冰）",null,{"$f":"COUNTIF(UnlockConfig!B:B,解锁功能查询!A32)","v":1}]
[220,"试炼之地-流明试炼4（雷）",null,{"$f":"COUNTIF(UnlockConfig!B:B,解锁功能查询!A33)","v":1}]
[221,"试炼之地-流明试炼5",null,{"$f":"COUNTIF(UnlockConfig!B:B,解锁功能查询!A34)","v":0}]
[222,"试炼之地-时光试炼1",null,{"$f":"COUNTIF(UnlockConfig!B:B,解锁功能查询!A35)","v":1}]
[223,"试炼之地-时光试炼2",null,{"$f":"COUNTIF(UnlockConfig!B:B,解锁功能查询!A36)","v":1}]
[224,"试炼之地-时光试炼3",null,{"$f":"COUNTIF(UnlockConfig!B:B,解锁功能查询!A37)","v":1}]
[225,"试炼之地-时光试炼4",null,{"$f":"COUNTIF(UnlockConfig!B:B,解锁功能查询!A38)","v":1}]
[226,"试炼之地-时光试炼5",null,{"$f":"COUNTIF(UnlockConfig!B:B,解锁功能查询!A39)","v":1}]
[227,"试炼之地-时光试炼6",null,{"$f":"COUNTIF(UnlockConfig!B:B,解锁功能查询!A40)","v":1}]
[228,"试炼之地-轮回试炼1",null,{"$f":"COUNTIF(UnlockConfig!B:B,解锁功能查询!A41)","v":1}]
[229,"试炼之地-轮回试炼2",null,{"$f":"COUNTIF(UnlockConfig!B:B,解锁功能查询!A42)","v":1}]
[230,"试炼之地-轮回试炼3",null,{"$f":"COUNTIF(UnlockConfig!B:B,解锁功能查询!A43)","v":1}]
[231,"藏宝图-单人行动选项卡",null,{"$f":"COUNTIF(UnlockConfig!B:B,解锁功能查询!A44)","v":1}]
[232,"藏宝图-我是队长&加入行动选项卡",null,{"$f":"COUNTIF(UnlockConfig!B:B,解锁功能查询!A45)","v":1}]
[233,"物资枢纽-第2个选项卡（遗物）",null,{"$f":"COUNTIF(UnlockConfig!B:B,解锁功能查询!A46)","v":1}]
[234,"物资枢纽-残响1",null,{"$f":"COUNTIF(UnlockConfig!B:B,解锁功能查询!A47)","v":1}]
[235,"物资枢纽-残响2",null,{"$f":"COUNTIF(UnlockConfig!B:B,解锁功能查询!A48)","v":1}]
[236,"物资枢纽-残响3",null,{"$f":"COUNTIF(UnlockConfig!B:B,解锁功能查询!A49)","v":1}]
[237,"物资枢纽-残响4",null,{"$f":"COUNTIF(UnlockConfig!B:B,解锁功能查询!A50)","v":1}]
[238,"冒险指南2",null,{"$f":"COUNTIF(UnlockConfig!B:B,解锁功能查询!A51)","v":1}]
[239,"契约按钮",null,{"$f":"COUNTIF(UnlockConfig!B:B,解锁功能查询!A52)","v":1}]
[240,"赛季模拟训练",null,{"$f":"COUNTIF(UnlockConfig!B:B,解锁功能查询!A53)","v":1}]
[241,"深渊道馆入口按钮",null,{"$f":"COUNTIF(UnlockConfig!B:B,解锁功能查询!A54)","v":1}]
[242,"藏宝图活动入口",null,{"$f":"COUNTIF(UnlockConfig!B:B,解锁功能查询!A55)","v":1}]
[]
[301,"主界面-BURP酒馆入口",null,{"$f":"COUNTIF(UnlockConfig!B:B,解锁功能查询!A57)","v":1}]
[302,"职业介绍所建筑入口",null,{"$f":"COUNTIF(UnlockConfig!B:B,解锁功能查询!A58)","v":0}]
[303,"【入口】主界面-铁匠铺",null,{"$f":"COUNTIF(UnlockConfig!B:B,解锁功能查询!A59)","v":1}]
[304,"生物馆建筑入口",null,{"$f":"COUNTIF(UnlockConfig!B:B,解锁功能查询!A60)","v":0}]
[305,"健身房建筑入口",null,{"$f":"COUNTIF(UnlockConfig!B:B,解锁功能查询!A61)","v":0}]
[306,"【入口】好友",null,{"$f":"COUNTIF(UnlockConfig!B:B,解锁功能查询!A62)","v":1}]
[307,"【入口】聊天UI",null,{"$f":"COUNTIF(UnlockConfig!B:B,解锁功能查询!A63)","v":1}]
[308,"【入口】英雄招募",null,{"$f":"COUNTIF(UnlockConfig!B:B,解锁功能查询!A64)","v":1}]
[309,"【入口】冒险-精英共斗",null,{"$f":"COUNTIF(UnlockConfig!B:B,解锁功能查询!A65)","v":1}]
[310,"商业街-巡回商人",null,{"$f":"COUNTIF(UnlockConfig!B:B,解锁功能查询!A66)","v":0}]
[311,"【入口】主界面-商店",null,{"$f":"COUNTIF(UnlockConfig!B:B,解锁功能查询!A67)","v":1}]
[312,"酒馆商店选项卡",null,{"$f":"COUNTIF(UnlockConfig!B:B,解锁功能查询!A68)","v":0}]
[313,"职业介绍所商店选项卡",null,{"$f":"COUNTIF(UnlockConfig!B:B,解锁功能查询!A69)","v":0}]
[314,"铁匠铺商店选项卡",null,{"$f":"COUNTIF(UnlockConfig!B:B,解锁功能查询!A70)","v":0}]
[315,"【选项卡】英雄详情-觉醒",null,{"$f":"COUNTIF(UnlockConfig!B:B,解锁功能查询!A71)","v":1}]
[316,"【选项卡】英雄详情-防具",null,{"$f":"COUNTIF(UnlockConfig!B:B,解锁功能查询!A72)","v":1}]
[317,"【选项卡】英雄详情-武具",null,{"$f":"COUNTIF(UnlockConfig!B:B,解锁功能查询!A73)","v":1}]
[318,"【选项卡】英雄详情-羁绊",null,{"$f":"COUNTIF(UnlockConfig!B:B,解锁功能查询!A74)","v":0}]
[319,"【入口】预设编队",null,{"$f":"COUNTIF(UnlockConfig!B:B,解锁功能查询!A75)","v":1}]
[320,"【选项卡】铁匠铺-武器强化",null,{"$f":"COUNTIF(UnlockConfig!B:B,解锁功能查询!A76)","v":0}]
[321,"【入口】编队界面-神器",null,{"$f":"COUNTIF(UnlockConfig!B:B,解锁功能查询!A77)","v":1}]
[322,"解锁商城-礼包商店",null,{"$f":"COUNTIF(UnlockConfig!B:B,解锁功能查询!A78)","v":0}]
[323,"解锁商城-招募商店",null,{"$f":"COUNTIF(UnlockConfig!B:B,解锁功能查询!A79)","v":0}]
[324,"【入口】公告",null,{"$f":"COUNTIF(UnlockConfig!B:B,解锁功能查询!A80)","v":1}]
[325,"【入口】邮件",null,{"$f":"COUNTIF(UnlockConfig!B:B,解锁功能查询!A81)","v":1}]
[326,"【入口】主线-三星奖励",null,{"$f":"COUNTIF(UnlockConfig!B:B,解锁功能查询!A82)","v":1}]
[327,"英雄-详情-生活技能",null,{"$f":"COUNTIF(UnlockConfig!B:B,解锁功能查询!A83)","v":0}]
[328,"【入口】图鉴",null,{"$f":"COUNTIF(UnlockConfig!B:B,解锁功能查询!A84)","v":1}]
[329,"【选项卡】铁匠铺-合成",null,{"$f":"COUNTIF(UnlockConfig!B:B,解锁功能查询!A85)","v":1}]
[330,"【入口】冒险-试炼之地",null,{"$f":"COUNTIF(UnlockConfig!B:B,解锁功能查询!A86)","v":1}]
[331,"【入口】战令",null,{"$f":"COUNTIF(UnlockConfig!B:B,解锁功能查询!A87)","v":1}]
[332,"商店-小镇杂货",null,{"$f":"COUNTIF(UnlockConfig!B:B,解锁功能查询!A88)","v":1}]
[333,"商店-模拟训练",null,{"$f":"COUNTIF(UnlockConfig!B:B,解锁功能查询!A89)","v":1}]
[334,"冲刺活动按钮",null,{"$f":"COUNTIF(UnlockConfig!B:B,解锁功能查询!A90)","v":1}]
[335,"残响的强化按钮",null,{"$f":"COUNTIF(UnlockConfig!B:B,解锁功能查询!A91)","v":1}]
[336,"【入口】铁匠铺-时光之契",null,1]
[337,"【入口】铁匠铺-打造武器",null,1]
[338,"【入口】英雄",null,1]
[339,"【入口】背包",null,1]
[340,"编队",null,1]
[401,"主线第1章",null,{"$f":"COUNTIF(UnlockConfig!B:B,解锁功能查询!A97)","v":0}]
[402,"主线第2章",null,{"$f":"COUNTIF(UnlockConfig!B:B,解锁功能查询!A98)","v":0}]
[403,"主线第3章",null,{"$f":"COUNTIF(UnlockConfig!B:B,解锁功能查询!A99)","v":0}]
[404,"主线第4章",null,{"$f":"COUNTIF(UnlockConfig!B:B,解锁功能查询!A100)","v":0}]
[405,"主线第5章",null,{"$f":"COUNTIF(UnlockConfig!B:B,解锁功能查询!A101)","v":0}]
[406,"主线第6章",null,{"$f":"COUNTIF(UnlockConfig!B:B,解锁功能查询!A102)","v":0}]
[407,"主线第7章",null,{"$f":"COUNTIF(UnlockConfig!B:B,解锁功能查询!A103)","v":0}]
[408,"主线第8章",null,{"$f":"COUNTIF(UnlockConfig!B:B,解锁功能查询!A104)","v":0}]
[409,"主线第9章",null,{"$f":"COUNTIF(UnlockConfig!B:B,解锁功能查询!A105)","v":0}]
[410,"主线第10章",null,{"$f":"COUNTIF(UnlockConfig!B:B,解锁功能查询!A106)","v":0}]
[]
[2,"勋章栏位解锁","解锁哪个栏位"]
[3,"秘石栏位解锁","解锁哪个栏位"]
[]
[501,"战斗-2倍速"]
[502,"战斗-自动释放终结技"]
[503,"战斗-自动战斗"]
[504,"战斗-瞄准线按钮"]
[]
[505,"专属遗物信息解锁。解锁前，编队界面选神器后，英雄不显示专属遗物相关信息，神器上不显示强化效果信息"]
[506,"日常签到"]
[507,"活动框架"]
[508,"公会"]
[]
[509,"关闭新手特殊指引，当新手特殊指引开启时，玩家在主界面停留6秒且无任何操作时，指定区域会出现光圈或手型图标。玩家点击对应图标会跳转到对应玩法"]
[510,"【引导】英雄界面引导",null,{"$f":"COUNTIF(UnlockConfig!B:B,解锁功能查询!A122)","v":1}]
[511,"【引导】累计星星引导",null,{"$f":"COUNTIF(UnlockConfig!B:B,解锁功能查询!A123)","v":1}]
[512,"【引导】切换章节引导",null,{"$f":"COUNTIF(UnlockConfig!B:B,解锁功能查询!A124)","v":1}]
[513,"【引导】防具强化引导",null,{"$f":"COUNTIF(UnlockConfig!B:B,解锁功能查询!A125)","v":1}]
[514,"【引导】进通道2引导",null,{"$f":"COUNTIF(UnlockConfig!B:B,解锁功能查询!A126)","v":1}]
[515,"【引导】进1-2引导",null,{"$f":"COUNTIF(UnlockConfig!B:B,解锁功能查询!A127)","v":1}]
[516,"【引导】多波怪战斗引导",null,{"$f":"COUNTIF(UnlockConfig!B:B,解锁功能查询!A128)","v":1}]
[517,"【引导】分解装备",null,{"$f":"COUNTIF(UnlockConfig!B:B,解锁功能查询!A129)","v":1}]
[]
[518,"主线中的连续战斗按钮解锁",null,{"$f":"COUNTIF(UnlockConfig!B:B,解锁功能查询!A131)","v":1}]
[519,"累充奖励",null,{"$f":"COUNTIF(UnlockConfig!B:B,解锁功能查询!A132)","v":1}]
[520,"主线地图探索引导",null,{"$f":"COUNTIF(UnlockConfig!B:B,解锁功能查询!A133)","v":1}]
[521,"穿装备引导",null,{"$f":"COUNTIF(UnlockConfig!B:B,解锁功能查询!A134)","v":1}]
[522,"编队引导",null,{"$f":"COUNTIF(UnlockConfig!B:B,解锁功能查询!A135)","v":1}]
[523,"主线箱子引导",null,{"$f":"COUNTIF(UnlockConfig!B:B,解锁功能查询!A136)","v":1}]
[524,"特殊关卡引导",null,{"$f":"COUNTIF(UnlockConfig!B:B,解锁功能查询!A137)","v":1}]
[525,"探索地图功能入口",null,{"$f":"COUNTIF(UnlockConfig!B:B,解锁功能查询!A138)","v":1}]
[526,"使用背包道具引导"]
[]
[527,"【引导】英雄和队伍评分入口",null,{"$f":"COUNTIF(UnlockConfig!B:B,解锁功能查询!A141)","v":1}]
[]
[601,"残响强化等级上限解锁","最高可强化到多少"]
[602,"解锁活动activity对应ID的入口","activityID",{"$f":"COUNTIF(UnlockConfig!B:B,解锁功能查询!A144)","v":3}]
[]
[603,"防具一键升级",null,{"$f":"COUNTIF(UnlockConfig!B:B,解锁功能查询!A146)","v":1}]
[604,"残响商店"]
[605,"武器商店"]

{"sheet":"UI的序列号查询","index":3,"n_rows":100,"n_cols":2,"rows_kept":100,"cut":false,"hidden":false,"merged":[]}
["序列号","代表界面"]
[{"$f":"IF([2]跳转类型!$A6=\"\",\"\",[2]跳转类型!$A6)","v":1},{"$f":"IF(A2=\"\",\"待定义\",VLOOKUP(A2,[2]跳转类型!$A:$B,2,FALSE))","v":"冒险关卡第1章"}]
[{"$f":"IF([2]跳转类型!$A7=\"\",\"\",[2]跳转类型!$A7)","v":2},{"$f":"IF(A3=\"\",\"待定义\",VLOOKUP(A3,[2]跳转类型!$A:$B,2,FALSE))","v":"冒险关卡第2章"}]
[{"$f":"IF([2]跳转类型!$A8=\"\",\"\",[2]跳转类型!$A8)","v":3},{"$f":"IF(A4=\"\",\"待定义\",VLOOKUP(A4,[2]跳转类型!$A:$B,2,FALSE))","v":"冒险关卡第3章"}]
[{"$f":"IF([2]跳转类型!$A9=\"\",\"\",[2]跳转类型!$A9)","v":4},{"$f":"IF(A5=\"\",\"待定义\",VLOOKUP(A5,[2]跳转类型!$A:$B,2,FALSE))","v":"冒险关卡第4章"}]
[{"$f":"IF([2]跳转类型!$A10=\"\",\"\",[2]跳转类型!$A10)","v":5},{"$f":"IF(A6=\"\",\"待定义\",VLOOKUP(A6,[2]跳转类型!$A:$B,2,FALSE))","v":"冒险关卡第5章"}]
[{"$f":"IF([2]跳转类型!$A11=\"\",\"\",[2]跳转类型!$A11)","v":6},{"$f":"IF(A7=\"\",\"待定义\",VLOOKUP(A7,[2]跳转类型!$A:$B,2,FALSE))","v":"冒险关卡第6章"}]
[{"$f":"IF([2]跳转类型!$A12=\"\",\"\",[2]跳转类型!$A12)","v":7},{"$f":"IF(A8=\"\",\"待定义\",VLOOKUP(A8,[2]跳转类型!$A:$B,2,FALSE))","v":"冒险关卡第7章"}]
[{"$f":"IF([2]跳转类型!$A13=\"\",\"\",[2]跳转类型!$A13)","v":8},{"$f":"IF(A9=\"\",\"待定义\",VLOOKUP(A9,[2]跳转类型!$A:$B,2,FALSE))","v":"冒险关卡第8章"}]
[{"$f":"IF([2]跳转类型!$A14=\"\",\"\",[2]跳转类型!$A14)","v":9},{"$f":"IF(A10=\"\",\"待定义\",VLOOKUP(A10,[2]跳转类型!$A:$B,2,FALSE))","v":"冒险关卡第9章"}]
[{"$f":"IF([2]跳转类型!$A15=\"\",\"\",[2]跳转类型!$A15)","v":10},{"$f":"IF(A11=\"\",\"待定义\",VLOOKUP(A11,[2]跳转类型!$A:$B,2,FALSE))","v":"冒险关卡第10章"}]
[{"$f":"IF([2]跳转类型!$A16=\"\",\"\",[2]跳转类型!$A16)","v":11},{"$f":"IF(A12=\"\",\"待定义\",VLOOKUP(A12,[2]跳转类型!$A:$B,2,FALSE))","v":"冒险关卡第11章"}]
[{"$f":"IF([2]跳转类型!$A17=\"\",\"\",[2]跳转类型!$A17)","v":12},{"$f":"IF(A13=\"\",\"待定义\",VLOOKUP(A13,[2]跳转类型!$A:$B,2,FALSE))","v":"冒险关卡第12章"}]
[{"$f":"IF([2]跳转类型!$A18=\"\",\"\",[2]跳转类型!$A18)","v":30},{"$f":"IF(A14=\"\",\"待定义\",VLOOKUP(A14,[2]跳转类型!$A:$B,2,FALSE))","v":"冒险关卡当前进度章节"}]
[{"$f":"IF([2]跳转类型!$A19=\"\",\"\",[2]跳转类型!$A19)","v":35},{"$f":"IF(A15=\"\",\"待定义\",VLOOKUP(A15,[2]跳转类型!$A:$B,2,FALSE))","v":"藏宝图大厅"}]
[{"$f":"IF([2]跳转类型!$A20=\"\",\"\",[2]跳转类型!$A20)","v":36},{"$f":"IF(A16=\"\",\"待定义\",VLOOKUP(A16,[2]跳转类型!$A:$B,2,FALSE))","v":"模拟训练"}]
[{"$f":"IF([2]跳转类型!$A21=\"\",\"\",[2]跳转类型!$A21)","v":37},{"$f":"IF(A17=\"\",\"待定义\",VLOOKUP(A17,[2]跳转类型!$A:$B,2,FALSE))","v":"共斗玩法"}]
[{"$f":"IF([2]跳转类型!$A22=\"\",\"\",[2]跳转类型!$A22)","v":38},{"$f":"IF(A18=\"\",\"待定义\",VLOOKUP(A18,[2]跳转类型!$A:$B,2,FALSE))","v":"商店"}]
[{"$f":"IF([2]跳转类型!$A23=\"\",\"\",[2]跳转类型!$A23)","v":39},{"$f":"IF(A19=\"\",\"待定义\",VLOOKUP(A19,[2]跳转类型!$A:$B,2,FALSE))","v":"好友"}]
[{"$f":"IF([2]跳转类型!$A24=\"\",\"\",[2]跳转类型!$A24)","v":40},{"$f":"IF(A20=\"\",\"待定义\",VLOOKUP(A20,[2]跳转类型!$A:$B,2,FALSE))","v":"公会"}]
[{"$f":"IF([2]跳转类型!$A25=\"\",\"\",[2]跳转类型!$A25)","v":41},{"$f":"IF(A21=\"\",\"待定义\",VLOOKUP(A21,[2]跳转类型!$A:$B,2,FALSE))","v":"悬赏栏"}]
[{"$f":"IF([2]跳转类型!$A26=\"\",\"\",[2]跳转类型!$A26)","v":42},{"$f":"IF(A22=\"\",\"待定义\",VLOOKUP(A22,[2]跳转类型!$A:$B,2,FALSE))","v":"铁匠铺"}]
[{"$f":"IF([2]跳转类型!$A27=\"\",\"\",[2]跳转类型!$A27)","v":43},{"$f":"IF(A23=\"\",\"待定义\",VLOOKUP(A23,[2]跳转类型!$A:$B,2,FALSE))","v":"英雄招募"}]
[{"$f":"IF([2]跳转类型!$A28=\"\",\"\",[2]跳转类型!$A28)","v":44},{"$f":"IF(A24=\"\",\"待定义\",VLOOKUP(A24,[2]跳转类型!$A:$B,2,FALSE))","v":"英雄选择界面"}]
[{"$f":"IF([2]跳转类型!$A29=\"\",\"\",[2]跳转类型!$A29)","v":45},{"$f":"IF(A25=\"\",\"待定义\",VLOOKUP(A25,[2]跳转类型!$A:$B,2,FALSE))","v":"成就"}]
[{"$f":"IF([2]跳转类型!$A30=\"\",\"\",[2]跳转类型!$A30)","v":46},{"$f":"IF(A26=\"\",\"待定义\",VLOOKUP(A26,[2]跳转类型!$A:$B,2,FALSE))","v":"图鉴"}]
[{"$f":"IF([2]跳转类型!$A31=\"\",\"\",[2]跳转类型!$A31)","v":47},{"$f":"IF(A27=\"\",\"待定义\",VLOOKUP(A27,[2]跳转类型!$A:$B,2,FALSE))","v":"邮箱"}]
[{"$f":"IF([2]跳转类型!$A32=\"\",\"\",[2]跳转类型!$A32)","v":48},{"$f":"IF(A28=\"\",\"待定义\",VLOOKUP(A28,[2]跳转类型!$A:$B,2,FALSE))","v":"背包界面"}]
[{"$f":"IF([2]跳转类型!$A33=\"\",\"\",[2]跳转类型!$A33)","v":49},{"$f":"IF(A29=\"\",\"待定义\",VLOOKUP(A29,[2]跳转类型!$A:$B,2,FALSE))","v":"日常任务界面"}]
[{"$f":"IF([2]跳转类型!$A34=\"\",\"\",[2]跳转类型!$A34)","v":50},{"$f":"IF(A30=\"\",\"待定义\",VLOOKUP(A30,[2]跳转类型!$A:$B,2,FALSE))","v":"商店-小镇杂货页签"}]
[{"$f":"IF([2]跳转类型!$A35=\"\",\"\",[2]跳转类型!$A35)","v":51},{"$f":"IF(A31=\"\",\"待定义\",VLOOKUP(A31,[2]跳转类型!$A:$B,2,FALSE))","v":"试炼之塔-流明试炼"}]
[{"$f":"IF([2]跳转类型!$A36=\"\",\"\",[2]跳转类型!$A36)","v":52},{"$f":"IF(A32=\"\",\"待定义\",VLOOKUP(A32,[2]跳转类型!$A:$B,2,FALSE))","v":"试炼之塔-时光试炼"}]
[{"$f":"IF([2]跳转类型!$A37=\"\",\"\",[2]跳转类型!$A37)","v":53},{"$f":"IF(A33=\"\",\"待定义\",VLOOKUP(A33,[2]跳转类型!$A:$B,2,FALSE))","v":"试炼之塔-轮回试炼"}]
[{"$f":"IF([2]跳转类型!$A38=\"\",\"\",[2]跳转类型!$A38)","v":54},{"$f":"IF(A34=\"\",\"待定义\",VLOOKUP(A34,[2]跳转类型!$A:$B,2,FALSE))","v":"个人飞艇界面"}]
[{"$f":"IF([2]跳转类型!$A39=\"\",\"\",[2]跳转类型!$A39)","v":60},{"$f":"IF(A35=\"\",\"待定义\",VLOOKUP(A35,[2]跳转类型!$A:$B,2,FALSE))","v":"物资枢纽主界面"}]
[{"$f":"IF([2]跳转类型!$A40=\"\",\"\",[2]跳转类型!$A40)","v":61},{"$f":"IF(A36=\"\",\"待定义\",VLOOKUP(A36,[2]跳转类型!$A:$B,2,FALSE))","v":"物资枢纽-闹鬼金矿"}]
[{"$f":"IF([2]跳转类型!$A41=\"\",\"\",[2]跳转类型!$A41)","v":62},{"$f":"IF(A37=\"\",\"待定义\",VLOOKUP(A37,[2]跳转类型!$A:$B,2,FALSE))","v":"物资枢纽-冒险者墓地"}]
[{"$f":"IF([2]跳转类型!$A42=\"\",\"\",[2]跳转类型!$A42)","v":63},{"$f":"IF(A38=\"\",\"待定义\",VLOOKUP(A38,[2]跳转类型!$A:$B,2,FALSE))","v":"物资枢纽-机械废墟·红-进攻型遗物"}]
[{"$f":"IF([2]跳转类型!$A43=\"\",\"\",[2]跳转类型!$A43)","v":64},{"$f":"IF(A39=\"\",\"待定义\",VLOOKUP(A39,[2]跳转类型!$A:$B,2,FALSE))","v":"物资枢纽-机械废墟·蓝-防御型遗物"}]
[{"$f":"IF([2]跳转类型!$A44=\"\",\"\",[2]跳转类型!$A44)","v":65},{"$f":"IF(A40=\"\",\"待定义\",VLOOKUP(A40,[2]跳转类型!$A:$B,2,FALSE))","v":"物资枢纽-机械废墟·绿-辅助型遗物"}]
[{"$f":"IF([2]跳转类型!$A45=\"\",\"\",[2]跳转类型!$A45)","v":67},{"$f":"IF(A41=\"\",\"待定义\",VLOOKUP(A41,[2]跳转类型!$A:$B,2,FALSE))","v":"物资枢纽-深渊猎场"}]
[{"$f":"IF([2]跳转类型!$A46=\"\",\"\",[2]跳转类型!$A46)","v":""},{"$f":"IF(A42=\"\",\"待定义\",VLOOKUP(A42,[2]跳转类型!$A:$B,2,FALSE))","v":"待定义"}]
[{"$f":"IF([2]跳转类型!$A47=\"\",\"\",[2]跳转类型!$A47)","v":""},{"$f":"IF(A43=\"\",\"待定义\",VLOOKUP(A43,[2]跳转类型!$A:$B,2,FALSE))","v":"待定义"}]
[{"$f":"IF([2]跳转类型!$A48=\"\",\"\",[2]跳转类型!$A48)","v":""},{"$f":"IF(A44=\"\",\"待定义\",VLOOKUP(A44,[2]跳转类型!$A:$B,2,FALSE))","v":"待定义"}]
[{"$f":"IF([2]跳转类型!$A49=\"\",\"\",[2]跳转类型!$A49)","v":""},{"$f":"IF(A45=\"\",\"待定义\",VLOOKUP(A45,[2]跳转类型!$A:$B,2,FALSE))","v":"待定义"}]
[{"$f":"IF([2]跳转类型!$A50=\"\",\"\",[2]跳转类型!$A50)","v":""},{"$f":"IF(A46=\"\",\"待定义\",VLOOKUP(A46,[2]跳转类型!$A:$B,2,FALSE))","v":"待定义"}]
[{"$f":"IF([2]跳转类型!$A51=\"\",\"\",[2]跳转类型!$A51)","v":""},{"$f":"IF(A47=\"\",\"待定义\",VLOOKUP(A47,[2]跳转类型!$A:$B,2,FALSE))","v":"待定义"}]
[{"$f":"IF([2]跳转类型!$A52=\"\",\"\",[2]跳转类型!$A52)","v":""},{"$f":"IF(A48=\"\",\"待定义\",VLOOKUP(A48,[2]跳转类型!$A:$B,2,FALSE))","v":"待定义"}]
[{"$f":"IF([2]跳转类型!$A53=\"\",\"\",[2]跳转类型!$A53)","v":""},{"$f":"IF(A49=\"\",\"待定义\",VLOOKUP(A49,[2]跳转类型!$A:$B,2,FALSE))","v":"待定义"}]
[{"$f":"IF([2]跳转类型!$A54=\"\",\"\",[2]跳转类型!$A54)","v":""},{"$f":"IF(A50=\"\",\"待定义\",VLOOKUP(A50,[2]跳转类型!$A:$B,2,FALSE))","v":"待定义"}]
[{"$f":"IF([2]跳转类型!$A55=\"\",\"\",[2]跳转类型!$A55)","v":""},{"$f":"IF(A51=\"\",\"待定义\",VLOOKUP(A51,[2]跳转类型!$A:$B,2,FALSE))","v":"待定义"}]
[{"$f":"IF([2]跳转类型!$A56=\"\",\"\",[2]跳转类型!$A56)","v":""},{"$f":"IF(A52=\"\",\"待定义\",VLOOKUP(A52,[2]跳转类型!$A:$B,2,FALSE))","v":"待定义"}]
[{"$f":"IF([2]跳转类型!$A57=\"\",\"\",[2]跳转类型!$A57)","v":""},{"$f":"IF(A53=\"\",\"待定义\",VLOOKUP(A53,[2]跳转类型!$A:$B,2,FALSE))","v":"待定义"}]
[{"$f":"IF([2]跳转类型!$A58=\"\",\"\",[2]跳转类型!$A58)","v":""},{"$f":"IF(A54=\"\",\"待定义\",VLOOKUP(A54,[2]跳转类型!$A:$B,2,FALSE))","v":"待定义"}]
[{"$f":"IF([2]跳转类型!$A59=\"\",\"\",[2]跳转类型!$A59)","v":""},{"$f":"IF(A55=\"\",\"待定义\",VLOOKUP(A55,[2]跳转类型!$A:$B,2,FALSE))","v":"待定义"}]
[{"$f":"IF([2]跳转类型!$A60=\"\",\"\",[2]跳转类型!$A60)","v":""},{"$f":"IF(A56=\"\",\"待定义\",VLOOKUP(A56,[2]跳转类型!$A:$B,2,FALSE))","v":"待定义"}]
[{"$f":"IF([2]跳转类型!$A61=\"\",\"\",[2]跳转类型!$A61)","v":""},{"$f":"IF(A57=\"\",\"待定义\",VLOOKUP(A57,[2]跳转类型!$A:$B,2,FALSE))","v":"待定义"}]
[{"$f":"IF([2]跳转类型!$A62=\"\",\"\",[2]跳转类型!$A62)","v":""},{"$f":"IF(A58=\"\",\"待定义\",VLOOKUP(A58,[2]跳转类型!$A:$B,2,FALSE))","v":"待定义"}]
[{"$f":"IF([2]跳转类型!$A63=\"\",\"\",[2]跳转类型!$A63)","v":""},{"$f":"IF(A59=\"\",\"待定义\",VLOOKUP(A59,[2]跳转类型!$A:$B,2,FALSE))","v":"待定义"}]
[{"$f":"IF([2]跳转类型!$A64=\"\",\"\",[2]跳转类型!$A64)","v":""},{"$f":"IF(A60=\"\",\"待定义\",VLOOKUP(A60,[2]跳转类型!$A:$B,2,FALSE))","v":"待定义"}]
[{"$f":"IF([2]跳转类型!$A65=\"\",\"\",[2]跳转类型!$A65)","v":""},{"$f":"IF(A61=\"\",\"待定义\",VLOOKUP(A61,[2]跳转类型!$A:$B,2,FALSE))","v":"待定义"}]
[{"$f":"IF([2]跳转类型!$A66=\"\",\"\",[2]跳转类型!$A66)","v":""},{"$f":"IF(A62=\"\",\"待定义\",VLOOKUP(A62,[2]跳转类型!$A:$B,2,FALSE))","v":"待定义"}]
[{"$f":"IF([2]跳转类型!$A67=\"\",\"\",[2]跳转类型!$A67)","v":""},{"$f":"IF(A63=\"\",\"待定义\",VLOOKUP(A63,[2]跳转类型!$A:$B,2,FALSE))","v":"待定义"}]
[{"$f":"IF([2]跳转类型!$A68=\"\",\"\",[2]跳转类型!$A68)","v":""},{"$f":"IF(A64=\"\",\"待定义\",VLOOKUP(A64,[2]跳转类型!$A:$B,2,FALSE))","v":"待定义"}]
[{"$f":"IF([2]跳转类型!$A69=\"\",\"\",[2]跳转类型!$A69)","v":""},{"$f":"IF(A65=\"\",\"待定义\",VLOOKUP(A65,[2]跳转类型!$A:$B,2,FALSE))","v":"待定义"}]
[{"$f":"IF([2]跳转类型!$A70=\"\",\"\",[2]跳转类型!$A70)","v":""},{"$f":"IF(A66=\"\",\"待定义\",VLOOKUP(A66,[2]跳转类型!$A:$B,2,FALSE))","v":"待定义"}]
[{"$f":"IF([2]跳转类型!$A71=\"\",\"\",[2]跳转类型!$A71)","v":""},{"$f":"IF(A67=\"\",\"待定义\",VLOOKUP(A67,[2]跳转类型!$A:$B,2,FALSE))","v":"待定义"}]
[{"$f":"IF([2]跳转类型!$A72=\"\",\"\",[2]跳转类型!$A72)","v":""},{"$f":"IF(A68=\"\",\"待定义\",VLOOKUP(A68,[2]跳转类型!$A:$B,2,FALSE))","v":"待定义"}]
[{"$f":"IF([2]跳转类型!$A73=\"\",\"\",[2]跳转类型!$A73)","v":""},{"$f":"IF(A69=\"\",\"待定义\",VLOOKUP(A69,[2]跳转类型!$A:$B,2,FALSE))","v":"待定义"}]
[{"$f":"IF([2]跳转类型!$A74=\"\",\"\",[2]跳转类型!$A74)","v":""},{"$f":"IF(A70=\"\",\"待定义\",VLOOKUP(A70,[2]跳转类型!$A:$B,2,FALSE))","v":"待定义"}]
[{"$f":"IF([2]跳转类型!$A75=\"\",\"\",[2]跳转类型!$A75)","v":""},{"$f":"IF(A71=\"\",\"待定义\",VLOOKUP(A71,[2]跳转类型!$A:$B,2,FALSE))","v":"待定义"}]
[{"$f":"IF([2]跳转类型!$A76=\"\",\"\",[2]跳转类型!$A76)","v":""},{"$f":"IF(A72=\"\",\"待定义\",VLOOKUP(A72,[2]跳转类型!$A:$B,2,FALSE))","v":"待定义"}]
[{"$f":"IF([2]跳转类型!$A77=\"\",\"\",[2]跳转类型!$A77)","v":""},{"$f":"IF(A73=\"\",\"待定义\",VLOOKUP(A73,[2]跳转类型!$A:$B,2,FALSE))","v":"待定义"}]
[{"$f":"IF([2]跳转类型!$A78=\"\",\"\",[2]跳转类型!$A78)","v":""},{"$f":"IF(A74=\"\",\"待定义\",VLOOKUP(A74,[2]跳转类型!$A:$B,2,FALSE))","v":"待定义"}]
[{"$f":"IF([2]跳转类型!$A79=\"\",\"\",[2]跳转类型!$A79)","v":""},{"$f":"IF(A75=\"\",\"待定义\",VLOOKUP(A75,[2]跳转类型!$A:$B,2,FALSE))","v":"待定义"}]
[{"$f":"IF([2]跳转类型!$A80=\"\",\"\",[2]跳转类型!$A80)","v":""},{"$f":"IF(A76=\"\",\"待定义\",VLOOKUP(A76,[2]跳转类型!$A:$B,2,FALSE))","v":"待定义"}]
[{"$f":"IF([2]跳转类型!$A81=\"\",\"\",[2]跳转类型!$A81)","v":""},{"$f":"IF(A77=\"\",\"待定义\",VLOOKUP(A77,[2]跳转类型!$A:$B,2,FALSE))","v":"待定义"}]
[{"$f":"IF([2]跳转类型!$A82=\"\",\"\",[2]跳转类型!$A82)","v":""},{"$f":"IF(A78=\"\",\"待定义\",VLOOKUP(A78,[2]跳转类型!$A:$B,2,FALSE))","v":"待定义"}]
[{"$f":"IF([2]跳转类型!$A83=\"\",\"\",[2]跳转类型!$A83)","v":""},{"$f":"IF(A79=\"\",\"待定义\",VLOOKUP(A79,[2]跳转类型!$A:$B,2,FALSE))","v":"待定义"}]
[{"$f":"IF([2]跳转类型!$A84=\"\",\"\",[2]跳转类型!$A84)","v":""},{"$f":"IF(A80=\"\",\"待定义\",VLOOKUP(A80,[2]跳转类型!$A:$B,2,FALSE))","v":"待定义"}]
[{"$f":"IF([2]跳转类型!$A85=\"\",\"\",[2]跳转类型!$A85)","v":""},{"$f":"IF(A81=\"\",\"待定义\",VLOOKUP(A81,[2]跳转类型!$A:$B,2,FALSE))","v":"待定义"}]
[{"$f":"IF([2]跳转类型!$A86=\"\",\"\",[2]跳转类型!$A86)","v":""},{"$f":"IF(A82=\"\",\"待定义\",VLOOKUP(A82,[2]跳转类型!$A:$B,2,FALSE))","v":"待定义"}]
[{"$f":"IF([2]跳转类型!$A87=\"\",\"\",[2]跳转类型!$A87)","v":""},{"$f":"IF(A83=\"\",\"待定义\",VLOOKUP(A83,[2]跳转类型!$A:$B,2,FALSE))","v":"待定义"}]
[{"$f":"IF([2]跳转类型!$A88=\"\",\"\",[2]跳转类型!$A88)","v":""},{"$f":"IF(A84=\"\",\"待定义\",VLOOKUP(A84,[2]跳转类型!$A:$B,2,FALSE))","v":"待定义"}]
[{"$f":"IF([2]跳转类型!$A89=\"\",\"\",[2]跳转类型!$A89)","v":""},{"$f":"IF(A85=\"\",\"待定义\",VLOOKUP(A85,[2]跳转类型!$A:$B,2,FALSE))","v":"待定义"}]
[{"$f":"IF([2]跳转类型!$A90=\"\",\"\",[2]跳转类型!$A90)","v":""},{"$f":"IF(A86=\"\",\"待定义\",VLOOKUP(A86,[2]跳转类型!$A:$B,2,FALSE))","v":"待定义"}]
[{"$f":"IF([2]跳转类型!$A91=\"\",\"\",[2]跳转类型!$A91)","v":""},{"$f":"IF(A87=\"\",\"待定义\",VLOOKUP(A87,[2]跳转类型!$A:$B,2,FALSE))","v":"待定义"}]
[{"$f":"IF([2]跳转类型!$A92=\"\",\"\",[2]跳转类型!$A92)","v":""},{"$f":"IF(A88=\"\",\"待定义\",VLOOKUP(A88,[2]跳转类型!$A:$B,2,FALSE))","v":"待定义"}]
[{"$f":"IF([2]跳转类型!$A93=\"\",\"\",[2]跳转类型!$A93)","v":""},{"$f":"IF(A89=\"\",\"待定义\",VLOOKUP(A89,[2]跳转类型!$A:$B,2,FALSE))","v":"待定义"}]
[{"$f":"IF([2]跳转类型!$A94=\"\",\"\",[2]跳转类型!$A94)","v":""},{"$f":"IF(A90=\"\",\"待定义\",VLOOKUP(A90,[2]跳转类型!$A:$B,2,FALSE))","v":"待定义"}]
[{"$f":"IF([2]跳转类型!$A95=\"\",\"\",[2]跳转类型!$A95)","v":""},{"$f":"IF(A91=\"\",\"待定义\",VLOOKUP(A91,[2]跳转类型!$A:$B,2,FALSE))","v":"待定义"}]
[{"$f":"IF([2]跳转类型!$A96=\"\",\"\",[2]跳转类型!$A96)","v":""},{"$f":"IF(A92=\"\",\"待定义\",VLOOKUP(A92,[2]跳转类型!$A:$B,2,FALSE))","v":"待定义"}]
[{"$f":"IF([2]跳转类型!$A97=\"\",\"\",[2]跳转类型!$A97)","v":""},{"$f":"IF(A93=\"\",\"待定义\",VLOOKUP(A93,[2]跳转类型!$A:$B,2,FALSE))","v":"待定义"}]
[{"$f":"IF([2]跳转类型!$A98=\"\",\"\",[2]跳转类型!$A98)","v":""},{"$f":"IF(A94=\"\",\"待定义\",VLOOKUP(A94,[2]跳转类型!$A:$B,2,FALSE))","v":"待定义"}]
[{"$f":"IF([2]跳转类型!$A99=\"\",\"\",[2]跳转类型!$A99)","v":""},{"$f":"IF(A95=\"\",\"待定义\",VLOOKUP(A95,[2]跳转类型!$A:$B,2,FALSE))","v":"待定义"}]
[{"$f":"IF([2]跳转类型!$A100=\"\",\"\",[2]跳转类型!$A100)","v":""},{"$f":"IF(A96=\"\",\"待定义\",VLOOKUP(A96,[2]跳转类型!$A:$B,2,FALSE))","v":"待定义"}]
[{"$f":"IF([2]跳转类型!$A101=\"\",\"\",[2]跳转类型!$A101)","v":""},{"$f":"IF(A97=\"\",\"待定义\",VLOOKUP(A97,[2]跳转类型!$A:$B,2,FALSE))","v":"待定义"}]
[{"$f":"IF([2]跳转类型!$A102=\"\",\"\",[2]跳转类型!$A102)","v":""},{"$f":"IF(A98=\"\",\"待定义\",VLOOKUP(A98,[2]跳转类型!$A:$B,2,FALSE))","v":"待定义"}]
[{"$f":"IF([2]跳转类型!$A103=\"\",\"\",[2]跳转类型!$A103)","v":""},{"$f":"IF(A99=\"\",\"待定义\",VLOOKUP(A99,[2]跳转类型!$A:$B,2,FALSE))","v":"待定义"}]
[{"$f":"IF([2]跳转类型!$A104=\"\",\"\",[2]跳转类型!$A104)","v":""},{"$f":"IF(A100=\"\",\"待定义\",VLOOKUP(A100,[2]跳转类型!$A:$B,2,FALSE))","v":"待定义"}]