{"text_format":"2","workbook":"xlsx","n_sheets":4,"sheets":["SkillConfig","SkillPowerupConfig","SkillConstant","技能设计"],"not_rendered":{"charts":0,"images":0,"macros":0,"external_links":0,"defined_names":1,"comments":0,"pivot_tables":0},"unopened":[],"bounds":{"document_bytes":16777216,"sheet_cells":100000,"run_cost":"one","rows_first":2000,"rows_last":500,"rows_between":2000,"halvings":0,"cell_chars":16384,"cell_head_chars":4096},"cells_cut":0,"cells_raw":0,"read":"whole","date_system":"1900"}

{"sheet":"SkillConfig","index":0,"n_rows":357,"n_cols":47,"rows_kept":357,"cut":false,"hidden":false,"merged":[]}
["ID","PieceID","power","name","dec",null,null,"attribute","icon","scriptName","IDGroup","timelineName","cd","addcd","SkillType","level","effectValue","intensifierIndex","addPropertyType","addPropertyValue","PromoteLan","PromoteLanPara","PromoteLanPara"]
["int","int","float","int","int",null,null,"int","string","string","int","string","float","float","int","int","float[]","int[]","int[]","float[]","int","float[]","float[]"]
[{"$nulls":39},{"$f":"SUMIFS(AN5:AN10018,$A5:$A10018,\"<>\"&\"\",$P5:$P10018,6)","v":174},176,166,10,10,20,20,10]
["技能ID\nIDGroup+技能等级","对应的碎片ID","功法强度\n基于标准强度的百分比\n50=50%","名称语言表ID","描述语言表ID","技能名称","技能效果","技能属性\n1=金\n2=水\n4=木\n8=火\n16=土","图标","脚本名称","技能组","技能的timeline表现，没得就不填，这个可以程序填","功法：多少圈释放1次\n法宝：CD多少秒","功法上阵后，大道增加的CD\n大道的默认CD","技能类型:\n1=主动功法\n2=被动功法\n3=法宝技能\n4=大道\n","星级","效果值","允许被加强的效果下表","属性ID表内对应\n101=生命百分比\n102=攻击百分比\n103=防御百分比\n106~110=金木水火土灵根\n","具体效果值","升星简短描述","升星简短描述参数","哪边的法宝被影响\n0=无\n1=前方\n-1=后方","数值1","数值2","数值3","数值4","数值5","数值6","数值7","升星描述",null,null,"总威力","段数","单段伤害","buff占比","额外占比",null,101,102,103,106,107,108,109,110]
[null,"英雄-主动功法区域"]
[{"$f":"K6*10+P6-1","v":11010},13001,100,316,739,"太虚幻剑经","身体周围幻化出{0}柄细剑，每柄细剑对敌人造成{1}%伤害，并有{2}几率对敌人造成1层流血。",1,{"$f":"CONCATENATE(\"icon_s\",K6)","v":"icon_s1101"},{"$f":"CONCATENATE(\"S\",K6)","v":"S1101"},1101,"1101_timeline_TD",1,1,1,1,{"$f":"_xlfn.TEXTJOIN(\";\",1,X6:AD6)","v":"6;40;20"},2,{"$f":"_xlfn.TEXTJOIN(\";\",1,IF(AN6=\"\",\"\",101),IF(AO6=\"\",\"\",102),IF(AP6=\"\",\"\",103),IF(AQ6=\"\",\"\",106),IF(AR6=\"\",\"\",107),IF(AS6=\"\",\"\",108),IF(AT6=\"\",\"\",109),IF(AU6=\"\",\"\",110))","v":""},{"$f":"_xlfn.TEXTJOIN(\";\",1,AN6:AU6)","v":""},-1,null,null,6,40,20,{"$nulls":5},{"$f":"IF(F6=\"\",\"\",CONCATENATE(F6,\"·\",CHOOSE(P6,\"壹\",\"贰\",\"叁\",\"肆\",\"伍\",\"陆\")))","v":"太虚幻剑经·壹"},null,{"$f":"IF(A6=\"\",\"\",AI6*AJ6/(1-AK6-AL6))","v":300},{"$f":"X6","v":6},{"$f":"Y6","v":40},0.2]
[{"$f":"K7*10+P7-1","v":11011},13001,150,317,740,"太虚幻剑经","身体周围幻化出{0}柄细剑，每柄细剑对敌人造成{1}%伤害，并有{2}几率对敌人造成1层流血。",1,"icon_s1101",{"$f":"CONCATENATE(\"S\",K7)","v":"S1101"},1101,"1101_timeline_TD",1,1,1,2,{"$f":"_xlfn.TEXTJOIN(\";\",1,X7:AD7)","v":"8;40;20"},2,{"$f":"_xlfn.TEXTJOIN(\";\",1,IF(AN7=\"\",\"\",101),IF(AO7=\"\",\"\",102),IF(AP7=\"\",\"\",103),IF(AQ7=\"\",\"\",106),IF(AR7=\"\",\"\",107),IF(AS7=\"\",\"\",108),IF(AT7=\"\",\"\",109),IF(AU7=\"\",\"\",110))","v":""},{"$f":"_xlfn.TEXTJOIN(\";\",1,AN7:AU7)","v":""},1100,2,null,8,40,20,{"$nulls":4},{"$f":"CONCATENATE(\"飞剑数量+\",V7)","v":"飞剑数量+2"},{"$f":"IF(F7=\"\",\"\",CONCATENATE(F7,\"·\",CHOOSE(P7,\"壹\",\"贰\",\"叁\",\"肆\",\"伍\",\"陆\")))","v":"太虚幻剑经·贰"},null,{"$f":"IF(A7=\"\",\"\",AI7*AJ7/(1-AK7-AL7))","v":400},{"$f":"X7","v":8},{"$f":"Y7","v":40},0.2]
[11012,13001,225,318,741,"太虚幻剑经","身体周围幻化出{0}柄细剑，每柄细剑对敌人造成{1}%伤害，并有{2}几率对敌人造成1层流血。",1,"icon_s1101","S1101",1101,"1101_timeline_TD",1,1,1,3,"8;40;20",2,"101","10",1101,10,null,8,40,20,{"$nulls":4},{"$f":"CONCATENATE(CHOOSE(S8-100,\"生命\",\"攻击\",\"防御\"),\"+\",V8,\"%\")","v":"生命+10%"},"太虚幻剑经·叁",null,400,8,40,0.2,null,null,10]
[11013,13001,337.5,319,742,"太虚幻剑经","身体周围幻化出{0}柄细剑，每柄细剑对敌人造成{1}%伤害，并有{2}几率对敌人造成1层流血。\n如果敌人有减益状态，则虚剑伤害提升{3}%。",1,"icon_s1101","S1101",1101,"1101_timeline_TD",1,1,1,4,"9;40;20;20",2,"101","10",1102,1,null,9,40,20,20,null,null,null,{"$f":"CONCATENATE(\"飞剑数量+\",V9,\"，对带减益的敌人增伤\")","v":"飞剑数量+1，对带减益的敌人增伤"},"太虚幻剑经·肆",null,500,9,40,0.28,null,null,10]
[11014,13001,506.25,320,743,"太虚幻剑经","身体周围幻化出{0}柄细剑，每柄细剑对敌人造成{1}%伤害，并有{2}几率对敌人造成1层流血。\n如果敌人有减益状态，则虚剑伤害提升{3}%。",1,"icon_s1101","S1101",1101,"1101_timeline_TD",1,1,1,5,"9;40;20;20",2,"101","20",1103,10,null,9,40,20,20,null,null,null,{"$f":"CONCATENATE(CHOOSE(S10-100,\"生命\",\"攻击\",\"防御\"),\"+\",V10,\"%\")","v":"生命+10%"},"太虚幻剑经·伍",null,500,9,40,0.28,null,null,20]
[11015,13001,759.375,321,744,"太虚幻剑经","身体周围幻化出{0}柄更大体型的虚剑，每柄虚剑对敌人造成{1}%伤害，并有{2}几率对敌人造成1层流血。\n如果敌人有减益状态，则虚剑伤害提升{3}%。",1,"icon_s1101","S1101",1101,"1101_timeline_TD",1,1,1,6,"9;48;20;20",2,"101","20",1104,null,null,9,48,20,20,null,null,null,"发射伤害更高的幻剑","太虚幻剑经·陆",null,600,9,48,0.28,null,null,20]
[{"$nulls":13},1,{"$nulls":17},"",null,""]
[{"$f":"K13*10+P13-1","v":11020},{"$f":"B6+1","v":13002},100,322,745,"天罡剑气诀","吸收自身灵气凝聚{0}柄大剑，大剑旋转快速穿透敌人对敌人照成{1}%伤害",1,{"$f":"CONCATENATE(\"icon_s\",K13)","v":"icon_s1102"},{"$f":"CONCATENATE(\"S\",K13)","v":"S1102"},{"$f":"K6+1","v":1102},"1102_timeline_TD",1,1,1,1,{"$f":"_xlfn.TEXTJOIN(\";\",1,X13:AD13)","v":"6;50"},2,{"$f":"_xlfn.TEXTJOIN(\";\",1,IF(AN13=\"\",\"\",101),IF(AO13=\"\",\"\",102),IF(AP13=\"\",\"\",103),IF(AQ13=\"\",\"\",106),IF(AR13=\"\",\"\",107),IF(AS13=\"\",\"\",108),IF(AT13=\"\",\"\",109),IF(AU13=\"\",\"\",110))","v":""},{"$f":"_xlfn.TEXTJOIN(\";\",1,AN13:AU13)","v":""},-1,null,null,6,50,{"$nulls":6},"天罡剑气诀·壹",null,300,{"$f":"X13","v":6},{"$f":"Y13","v":50}]
[{"$f":"K14*10+P14-1","v":11021},{"$f":"B7+1","v":13002},150,323,746,"天罡剑气诀","吸收自身灵气凝聚{0}柄大剑，大剑旋转快速穿透敌人对敌人照成{1}%伤害\n敌人如果在流血或放血状态，对敌人造成的伤害+{2}%",1,{"$f":"CONCATENATE(\"icon_s\",K14)","v":"icon_s1102"},{"$f":"CONCATENATE(\"S\",K14)","v":"S1102"},{"$f":"K7+1","v":1102},"1102_timeline_TD",1,1,1,2,{"$f":"_xlfn.TEXTJOIN(\";\",1,X14:AD14)","v":"6;50;25"},2,{"$f":"_xlfn.TEXTJOIN(\";\",1,IF(AN14=\"\",\"\",101),IF(AO14=\"\",\"\",102),IF(AP14=\"\",\"\",103),IF(AQ14=\"\",\"\",106),IF(AR14=\"\",\"\",107),IF(AS14=\"\",\"\",108),IF(AT14=\"\",\"\",109),IF(AU14=\"\",\"\",110))","v":""},{"$f":"_xlfn.TEXTJOIN(\";\",1,AN14:AU14)","v":""},1105,2,null,6,50,25,{"$nulls":4},"对流血或放血敌人增伤","天罡剑气诀·贰",null,400,{"$f":"X14","v":6},{"$f":"Y14","v":50},0.25]
[11022,13002,225,324,747,"天罡剑气诀","吸收自身灵气凝聚{0}柄大剑，大剑旋转快速穿透敌人对敌人照成{1}%伤害\n敌人如果在流血或放血状态，对敌人造成的伤害+{2}%",1,"icon_s1102","S1102",1102,"1102_timeline_TD",1,1,1,3,"6;50;25",2,"102","10",1106,10,null,6,50,25,{"$nulls":4},{"$f":"CONCATENATE(CHOOSE(S15-100,\"生命\",\"攻击\",\"防御\"),\"+\",V15,\"%\")","v":"攻击+10%"},"天罡剑气诀·叁",null,400,6,50,0.25,null,null,null,10]
[11023,13002,337.5,325,748,"天罡剑气诀","吸收自身灵气凝聚{0}柄大剑，大剑旋转快速穿透敌人对敌人照成{1}%伤害\n敌人如果在流血或放血状态，对敌人造成的伤害+{2}%\n重伤敌人后，如果目标没在放血状态，直接放血且不消耗流血层数",1,"icon_s1102","S1102",1102,"1102_timeline_TD",1,1,1,4,"6;50;25",2,"102","10",1107,1,null,6,50,25,{"$nulls":4},"无条件放血","天罡剑气诀·肆",null,500,6,50,0.4,null,null,null,10]
[11024,13002,506.25,326,749,"天罡剑气诀","吸收自身灵气凝聚{0}柄大剑，大剑旋转快速穿透敌人对敌人照成{1}%伤害\n敌人如果在流血或放血状态，对敌人造成的伤害+{2}%\n重伤敌人后，如果目标没在放血状态，直接放血且不消耗流血层数",1,"icon_s1102","S1102",1102,"1102_timeline_TD",1,1,1,5,"6;50;25",2,"102","20",1108,10,null,6,50,25,{"$nulls":4},{"$f":"CONCATENATE(CHOOSE(S17-100,\"生命\",\"攻击\",\"防御\"),\"+\",V17,\"%\")","v":"攻击+10%"},"天罡剑气诀·伍",null,500,6,50,0.4,null,null,null,20]
[11025,13002,759.375,327,750,"天罡剑气诀","吸收自身灵气凝聚{0}柄大剑，大剑旋转快速穿透敌人对敌人照成{1}%伤害\n敌人如果在流血或放血状态，对敌人造成的伤害+{2}%\n重伤敌人后，如果目标没在放血状态，直接放血且不消耗流血层数\n全盛状态，剑的体型变大，对拼强度+{3}%，伤害提升{4}%",1,"icon_s1102","S1102",1102,"1102_timeline_TD",1,1,1,6,"6;50;25;100;30",2,"102","20",1109,null,null,6,50,25,100,30,null,null,"对拼强度和伤害提升","天罡剑气诀·陆",null,600,6,50,0.5,null,null,null,20]
[{"$nulls":13},1,{"$nulls":17},"",null,"",null,null,null," "]
[{"$f":"K20*10+P20-1","v":11030},{"$f":"B13+1","v":13003},100,328,751,"血刃金煌功","向前方挥动{0}次，每次挥动形成一道血刃刀气，对敌人{1}造成伤害，并有{2}%概率对敌人造成流血。",1,{"$f":"CONCATENATE(\"icon_s\",K20)","v":"icon_s1103"},{"$f":"CONCATENATE(\"S\",K20)","v":"S1103"},{"$f":"K13+1","v":1103},"1103_timeline_TD",1,1,1,1,{"$f":"_xlfn.TEXTJOIN(\";\",1,X20:AD20)","v":"6;40;20"},2,{"$f":"_xlfn.TEXTJOIN(\";\",1,IF(AN20=\"\",\"\",101),IF(AO20=\"\",\"\",102),IF(AP20=\"\",\"\",103),IF(AQ20=\"\",\"\",106),IF(AR20=\"\",\"\",107),IF(AS20=\"\",\"\",108),IF(AT20=\"\",\"\",109),IF(AU20=\"\",\"\",110))","v":""},{"$f":"_xlfn.TEXTJOIN(\";\",1,AN20:AU20)","v":""},-1,null,null,6,40,20,{"$nulls":5},"血刃金煌功·壹",null,300,{"$f":"X20","v":6},{"$f":"Y20","v":40},0.2]
[{"$f":"K21*10+P21-1","v":11031},{"$f":"B14+1","v":13003},150,329,752,"血刃金煌功","向前方挥动{0}次，每次挥动形成一道血刃刀气，对敌人{1}造成伤害，并有{2}%概率对敌人造成流血。\n刀气命中目标后，恢复本次伤害{3}%的生命。",1,"icon_s1103",{"$f":"CONCATENATE(\"S\",K21)","v":"S1103"},{"$f":"K14+1","v":1103},"1103_timeline_TD",1,1,1,2,{"$f":"_xlfn.TEXTJOIN(\";\",1,X21:AD21)","v":"6;40;20;25"},2,{"$f":"_xlfn.TEXTJOIN(\";\",1,IF(AN21=\"\",\"\",101),IF(AO21=\"\",\"\",102),IF(AP21=\"\",\"\",103),IF(AQ21=\"\",\"\",106),IF(AR21=\"\",\"\",107),IF(AS21=\"\",\"\",108),IF(AT21=\"\",\"\",109),IF(AU21=\"\",\"\",110))","v":""},{"$f":"_xlfn.TEXTJOIN(\";\",1,AN21:AU21)","v":""},1110,null,null,6,40,20,25,null,null,null,"刀气命中回血","血刃金煌功·贰",null,400,{"$f":"X21","v":6},{"$f":"Y21","v":40},0.4]
[11032,13003,225,330,753,"血刃金煌功","向前方挥动{0}次，每次挥动形成一道血刃刀气，对敌人{1}造成伤害，并有{2}%概率对敌人造成流血。\n刀气命中目标后，恢复本次伤害{3}%的生命。",1,"icon_s1103","S1103",1103,"1103_timeline_TD",1,1,1,3,"6;40;20;25",2,"103","10",1111,10,null,6,40,20,25,null,null,null,{"$f":"CONCATENATE(CHOOSE(S22-100,\"生命\",\"攻击\",\"防御\"),\"+\",V22,\"%\")","v":"防御+10%"},"血刃金煌功·叁",null,400,6,40,0.4,{"$nulls":4},10]
[11033,13003,337.5,331,754,"血刃金煌功","向前方挥动{0}次，每次挥动形成一道血刃刀气，对敌人{1}造成伤害，并有{2}%概率对敌人造成流血。\n刀气命中目标后，恢复本次伤害{3}%的生命。",1,"icon_s1103","S1103",1103,"1103_timeline_TD",1,1,1,4,"8;40;20;25",2,"103","10",1112,2,null,8,40,20,25,null,null,null,{"$f":"CONCATENATE(\"刀气+\",V23)","v":"刀气+2"},"血刃金煌功·肆",null,500,8,40,0.36,{"$nulls":4},10]
[11034,13003,506.25,332,755,"血刃金煌功","向前方挥动{0}次，每次挥动形成一道血刃刀气，对敌人{1}造成伤害，并有{2}%概率对敌人造成流血。\n刀气命中目标后，恢复本次伤害{3}%的生命。",1,"icon_s1103","S1103",1103,"1103_timeline_TD",1,1,1,5,"8;40;20;25",2,"103","20",1113,10,null,8,40,20,25,null,null,null,{"$f":"CONCATENATE(CHOOSE(S24-100,\"生命\",\"攻击\",\"防御\"),\"+\",V24,\"%\")","v":"防御+10%"},"血刃金煌功·伍",null,500,8,40,0.36,{"$nulls":4},20]
[11035,13003,759.375,333,756,"血刃金煌功","向前方挥动{0}次，每次挥动形成一道血刃刀气，对敌人{1}造成伤害，并有{2}%概率对敌人造成流血。\n刀气命中目标后，恢复本次伤害{3}%的生命。\n刀气对流血的敌人额外造成{4}%伤害，且再施加1层流血。",1,"icon_s1103","S1103",1103,"1103_timeline_TD",1,1,1,6,"8;40;20;25;20",2,"103","20",1114,null,null,8,40,20,25,20,null,null,"对流血目标增伤，再次放血","血刃金煌功·陆",null,599.925009373828,8,40,0.4666,{"$nulls":4},20]
[{"$nulls":13},1,{"$nulls":17},"",null,""]
[{"$f":"K27*10+P27-1","v":11040},{"$f":"B20+1","v":13004},100,334,757,"飞刃","发射{0}枚飞刀，对敌人造成{1}%伤害。",1,{"$f":"CONCATENATE(\"icon_s\",K27)","v":"icon_s1104"},{"$f":"CONCATENATE(\"S\",K27)","v":"S1104"},{"$f":"K20+1","v":1104},"1104_timeline_TD",1,1,1,1,{"$f":"_xlfn.TEXTJOIN(\";\",1,X27:AD27)","v":"6;50"},2,{"$f":"_xlfn.TEXTJOIN(\";\",1,IF(AN27=\"\",\"\",101),IF(AO27=\"\",\"\",102),IF(AP27=\"\",\"\",103),IF(AQ27=\"\",\"\",106),IF(AR27=\"\",\"\",107),IF(AS27=\"\",\"\",108),IF(AT27=\"\",\"\",109),IF(AU27=\"\",\"\",110))","v":""},{"$f":"_xlfn.TEXTJOIN(\";\",1,AN27:AU27)","v":""},-1,null,null,6,50,{"$nulls":6},"飞刃·壹",null,300,{"$f":"X27","v":6},{"$f":"Y27","v":50}]
[{"$f":"K28*10+P28-1","v":11041},{"$f":"B21+1","v":13004},150,335,758,"飞刃","发射{0}枚飞刀，对敌人造成{1}%伤害。",1,"icon_s1104",{"$f":"CONCATENATE(\"S\",K28)","v":"S1104"},{"$f":"K21+1","v":1104},"1104_timeline_TD",1,1,1,2,{"$f":"_xlfn.TEXTJOIN(\";\",1,X28:AD28)","v":"6;50"},2,{"$f":"_xlfn.TEXTJOIN(\";\",1,IF(AN28=\"\",\"\",101),IF(AO28=\"\",\"\",102),IF(AP28=\"\",\"\",103),IF(AQ28=\"\",\"\",106),IF(AR28=\"\",\"\",107),IF(AS28=\"\",\"\",108),IF(AT28=\"\",\"\",109),IF(AU28=\"\",\"\",110))","v":"102"},{"$f":"_xlfn.TEXTJOIN(\";\",1,AN28:AU28)","v":"5"},1115,5,null,6,50,{"$nulls":5},{"$f":"CONCATENATE(CHOOSE(S28-100,\"生命\",\"攻击\",\"防御\"),\"+\",V28,\"%\")","v":"攻击+5%"},"飞刃·贰",null,300,{"$f":"X28","v":6},{"$f":"Y28","v":50},{"$nulls":4},5]
[11042,13004,225,336,759,"飞刃","发射{0}枚飞刀，对敌人造成{1}%伤害。",1,"icon_s1104","S1104",1104,"1104_timeline_TD",1,1,1,3,"8;50",2,"102","5",1116,2,null,8,50,{"$nulls":5},{"$f":"CONCATENATE(\"飞刀数量+\",V29)","v":"飞刀数量+2"},"飞刃·叁",null,400,8,50,{"$nulls":4},5]
[11043,13004,337.5,337,760,"飞刃","发射{0}枚飞刀，对敌人造成{1}%伤害。",1,"icon_s1104","S1104",1104,"1104_timeline_TD",1,1,1,4,"8;50",2,"102","10",1117,5,null,8,50,{"$nulls":5},{"$f":"CONCATENATE(CHOOSE(S30-100,\"生命\",\"攻击\",\"防御\"),\"+\",V30,\"%\")","v":"攻击+5%"},"飞刃·肆",null,400,8,50,{"$nulls":4},10]
[11044,13004,506.25,338,761,"飞刃","发射{0}枚飞刀，对敌人造成{1}%伤害。",1,"icon_s1104","S1104",1104,"1104_timeline_TD",1,1,1,5,"10;50",2,"102","10",1118,2,null,10,50,{"$nulls":5},{"$f":"CONCATENATE(\"飞刀数量+\",V31)","v":"飞刀数量+2"},"飞刃·伍",null,500,10,50,{"$nulls":4},10]
[11045,13004,759.375,339,762,"飞刃","发射{0}枚飞刀，对敌人造成{1}%伤害。",1,"icon_s1104","S1104",1104,"1104_timeline_TD",1,1,1,6,"10;50",2,"102","15",1119,5,null,10,50,{"$nulls":5},{"$f":"CONCATENATE(CHOOSE(S32-100,\"生命\",\"攻击\",\"防御\"),\"+\",V32,\"%\")","v":"攻击+5%"},"飞刃·陆",null,500,10,50,{"$nulls":4},15]
[{"$nulls":13},1,{"$nulls":17},"",null,""]
[{"$f":"K34*10+P34-1","v":11050},{"$f":"B27+1","v":13005},100,340,763,"金针","手中快速发射{0}%枚金针，对敌人造成{1}%伤害，并有{2}%概率施加1层流血。",1,{"$f":"CONCATENATE(\"icon_s\",K34)","v":"icon_s1105"},{"$f":"CONCATENATE(\"S\",K34)","v":"S1105"},{"$f":"K27+1","v":1105},"1105_timeline_TD",1,1,1,1,{"$f":"_xlfn.TEXTJOIN(\";\",1,X34:AD34)","v":"3;80;40"},2,{"$f":"_xlfn.TEXTJOIN(\";\",1,IF(AN34=\"\",\"\",101),IF(AO34=\"\",\"\",102),IF(AP34=\"\",\"\",103),IF(AQ34=\"\",\"\",106),IF(AR34=\"\",\"\",107),IF(AS34=\"\",\"\",108),IF(AT34=\"\",\"\",109),IF(AU34=\"\",\"\",110))","v":""},{"$f":"_xlfn.TEXTJOIN(\";\",1,AN34:AU34)","v":""},-1,null,null,3,80,40,{"$nulls":5},"金针·壹",null,300,{"$f":"X34","v":3},{"$f":"Y34","v":80},0.2]
[{"$f":"K35*10+P35-1","v":11051},{"$f":"B28+1","v":13005},150,341,764,"金针","手中快速发射{0}%枚金针，对敌人造成{1}%伤害，并有{2}%概率施加1层流血。",1,"icon_s1105",{"$f":"CONCATENATE(\"S\",K35)","v":"S1105"},{"$f":"K28+1","v":1105},"1105_timeline_TD",1,1,1,2,{"$f":"_xlfn.TEXTJOIN(\";\",1,X35:AD35)","v":"3;80;40"},2,{"$f":"_xlfn.TEXTJOIN(\";\",1,IF(AN35=\"\",\"\",101),IF(AO35=\"\",\"\",102),IF(AP35=\"\",\"\",103),IF(AQ35=\"\",\"\",106),IF(AR35=\"\",\"\",107),IF(AS35=\"\",\"\",108),IF(AT35=\"\",\"\",109),IF(AU35=\"\",\"\",110))","v":"103"},{"$f":"_xlfn.TEXTJOIN(\";\",1,AN35:AU35)","v":"5"},1120,5,null,3,80,40,{"$nulls":4},{"$f":"CONCATENATE(CHOOSE(S35-100,\"生命\",\"攻击\",\"防御\"),\"+\",V35,\"%\")","v":"防御+5%"},"金针·贰",null,300,3,80,0.2,{"$nulls":4},5]
[11052,13005,225,342,765,"金针","手中快速发射{0}%枚金针，对敌人造成{1}%伤害，并有{2}%概率施加1层流血。",1,"icon_s1105","S1105",1105,"1105_timeline_TD",1,1,1,3,"4;80;40",2,"103","5",1121,1,null,4,80,40,{"$nulls":4},{"$f":"CONCATENATE(\"金针数量+\",V36)","v":"金针数量+1"},"金针·叁",null,400,4,80,0.2,{"$nulls":4},5]
[11053,13005,337.5,343,766,"金针","手中快速发射{0}%枚金针，对敌人造成{1}%伤害，并有{2}%概率施加1层流血。",1,"icon_s1105","S1105",1105,"1105_timeline_TD",1,1,1,4,"4;80;40",2,"103","10",1122,5,null,4,80,40,{"$nulls":4},{"$f":"CONCATENATE(CHOOSE(S37-100,\"生命\",\"攻击\",\"防御\"),\"+\",V37,\"%\")","v":"防御+5%"},"金针·肆",null,400,4,80,0.2,{"$nulls":4},10]
[11054,13005,506.25,344,767,"金针","手中快速发射{0}%枚金针，对敌人造成{1}%伤害，并有{2}%概率施加1层流血。",1,"icon_s1105","S1105",1105,"1105_timeline_TD",1,1,1,5,"5;80;40",2,"103","10",1123,1,null,5,80,40,{"$nulls":4},{"$f":"CONCATENATE(\"金针数量+\",V38)","v":"金针数量+1"},"金针·伍",null,500,5,80,0.2,{"$nulls":4},10]
[11055,13005,759.375,345,768,"金针","手中快速发射{0}%枚金针，对敌人造成{1}%伤害，并有{2}%概率施加1层流血。",1,"icon_s1105","S1105",1105,"1105_timeline_TD",1,1,1,6,"5;80;40",2,"103","15",1124,5,null,5,80,40,{"$nulls":4},{"$f":"CONCATENATE(CHOOSE(S39-100,\"生命\",\"攻击\",\"防御\"),\"+\",V39,\"%\")","v":"防御+5%"},"金针·陆",null,500,5,80,0.2,{"$nulls":4},15]
[{"$nulls":13},1,{"$nulls":17},"",null,""]
[{"$f":"K41*10+P41-1","v":12010},{"$f":"B34+1","v":13006},100,346,769,"碧落幽冥劲","发出{0}道寒气冰锥，对敌人照成{1}%伤害，每到冰锥有{2}%概率对敌人施加1层寒气",2,{"$f":"CONCATENATE(\"icon_s\",K41)","v":"icon_s1201"},{"$f":"CONCATENATE(\"S\",K41)","v":"S1201"},1201,"1201_timeline_TD",1,1,1,1,{"$f":"_xlfn.TEXTJOIN(\";\",1,X41:AD41)","v":"6;40;20"},2,{"$f":"_xlfn.TEXTJOIN(\";\",1,IF(AN41=\"\",\"\",101),IF(AO41=\"\",\"\",102),IF(AP41=\"\",\"\",103),IF(AQ41=\"\",\"\",106),IF(AR41=\"\",\"\",107),IF(AS41=\"\",\"\",108),IF(AT41=\"\",\"\",109),IF(AU41=\"\",\"\",110))","v":""},{"$f":"_xlfn.TEXTJOIN(\";\",1,AN41:AU41)","v":""},-1,null,null,6,40,20,{"$nulls":5},"碧落幽冥劲·壹",null,300,{"$f":"X41","v":6},{"$f":"Y41","v":40},0.2]
[{"$f":"K42*10+P42-1","v":12011},{"$f":"B35+1","v":13006},150,347,770,"碧落幽冥劲","发出{0}道寒气冰锥，对敌人照成{1}%伤害，每到冰锥有{2}%概率对敌人施加1层寒气",2,"icon_s1201",{"$f":"CONCATENATE(\"S\",K42)","v":"S1201"},1201,"1201_timeline_TD",1,1,1,2,{"$f":"_xlfn.TEXTJOIN(\";\",1,X42:AD42)","v":"6;40;20"},2,{"$f":"_xlfn.TEXTJOIN(\";\",1,IF(AN42=\"\",\"\",101),IF(AO42=\"\",\"\",102),IF(AP42=\"\",\"\",103),IF(AQ42=\"\",\"\",106),IF(AR42=\"\",\"\",107),IF(AS42=\"\",\"\",108),IF(AT42=\"\",\"\",109),IF(AU42=\"\",\"\",110))","v":""},{"$f":"_xlfn.TEXTJOIN(\";\",1,AN42:AU42)","v":""},1125,1,null,6,40,20,{"$nulls":4},{"$f":"CONCATENATE(\"冰锥数量+\",V42)","v":"冰锥数量+1"},"碧落幽冥劲·贰",null,300,6,40,0.2]
[12012,13006,225,348,771,"碧落幽冥劲","发出{0}道寒气冰锥，对敌人照成{1}%伤害，每到冰锥有{2}%概率对敌人施加1层寒气",2,"icon_s1201","S1201",1201,"1201_timeline_TD",1,1,1,3,"9;40;20",2,"101","10",1126,10,null,9,40,20,{"$nulls":4},{"$f":"CONCATENATE(CHOOSE(S43-100,\"生命\",\"攻击\",\"防御\"),\"+\",V43,\"%\")","v":"生命+10%"},"碧落幽冥劲·叁",null,450,9,40,0.2,null,null,10]
[12013,13006,337.5,349,772,"碧落幽冥劲","发出{0}道寒气冰锥，对敌人照成{1}%伤害，每到冰锥有{2}%概率对敌人施加1层寒气",2,"icon_s1201","S1201",1201,"1201_timeline_TD",1,1,1,4,"9;40;20",2,"101","10",1127,1,null,9,40,20,{"$nulls":4},{"$f":"CONCATENATE(\"冰锥数量+\",V44)","v":"冰锥数量+1"},"碧落幽冥劲·肆",null,450,9,40,0.2,null,null,10]
[12014,13006,506.25,350,773,"碧落幽冥劲","发出{0}道寒气冰锥，对敌人照成{1}%伤害，每到冰锥有{2}%概率对敌人施加1层寒气",2,"icon_s1201","S1201",1201,"1201_timeline_TD",1,1,1,5,"12;40;20",2,"101","20",1128,10,null,12,40,20,{"$nulls":4},{"$f":"CONCATENATE(CHOOSE(S45-100,\"生命\",\"攻击\",\"防御\"),\"+\",V45,\"%\")","v":"生命+10%"},"碧落幽冥劲·伍",null,600,12,40,0.2,null,null,20]
[12015,13006,759.375,351,774,"碧落幽冥劲","发出{0}道寒气冰锥，对敌人照成{1}%伤害，每到冰锥有{2}%概率对敌人施加1层寒气",2,"icon_s1201","S1201",1201,"1201_timeline_TD",1,1,1,6,"12;40;20",2,"101","20",1129,1,null,12,40,20,{"$nulls":4},{"$f":"CONCATENATE(\"冰锥数量+\",V46)","v":"冰锥数量+1"},"碧落幽冥劲·陆",null,600,12,40,0.2,null,null,20]
[{"$nulls":13},1,{"$nulls":17},"",null,""]
[{"$f":"K48*10+P48-1","v":12020},{"$f":"B41+1","v":13007},100,352,775,"雾隐千流法","身体散发出一团迷雾。从迷雾中飞出{0}个冰球，每个冰球对敌人照成{1}%伤害，并有{2}%概率施加1层寒气",2,{"$f":"CONCATENATE(\"icon_s\",K48)","v":"icon_s1202"},{"$f":"CONCATENATE(\"S\",K48)","v":"S1202"},{"$f":"K41+1","v":1202},"1202_timeline_TD",1,1,1,1,{"$f":"_xlfn.TEXTJOIN(\";\",1,X48:AD48)","v":"3;80;40"},2,{"$f":"_xlfn.TEXTJOIN(\";\",1,IF(AN48=\"\",\"\",101),IF(AO48=\"\",\"\",102),IF(AP48=\"\",\"\",103),IF(AQ48=\"\",\"\",106),IF(AR48=\"\",\"\",107),IF(AS48=\"\",\"\",108),IF(AT48=\"\",\"\",109),IF(AU48=\"\",\"\",110))","v":""},{"$f":"_xlfn.TEXTJOIN(\";\",1,AN48:AU48)","v":""},-1,null,null,3,80,40,{"$nulls":5},"雾隐千流法·壹",null,{"$f":"IF(A48=\"\",\"\",AI48*AJ48/(1-AK48-AL48))","v":300},{"$f":"X48","v":3},{"$f":"Y48","v":80},0.2]
[{"$f":"K49*10+P49-1","v":12021},{"$f":"B42+1","v":13007},150,353,776,"雾隐千流法","身体散发出一团迷雾。从迷雾中飞出{0}个冰球，每个冰球对敌人照成{1}%伤害，并有{2}%概率施加1层寒气",2,"icon_s1202",{"$f":"CONCATENATE(\"S\",K49)","v":"S1202"},{"$f":"K42+1","v":1202},"1202_timeline_TD",1,1,1,2,{"$f":"_xlfn.TEXTJOIN(\";\",1,X49:AD49)","v":"4;80;40"},2,{"$f":"_xlfn.TEXTJOIN(\";\",1,IF(AN49=\"\",\"\",101),IF(AO49=\"\",\"\",102),IF(AP49=\"\",\"\",103),IF(AQ49=\"\",\"\",106),IF(AR49=\"\",\"\",107),IF(AS49=\"\",\"\",108),IF(AT49=\"\",\"\",109),IF(AU49=\"\",\"\",110))","v":""},{"$f":"_xlfn.TEXTJOIN(\";\",1,AN49:AU49)","v":""},1130,1,null,4,80,40,{"$nulls":4},{"$f":"CONCATENATE(\"冰球数量+\",V49)","v":"冰球数量+1"},"雾隐千流法·贰",null,400,4,80,0.2]
[12022,13007,225,354,777,"雾隐千流法","身体散发出一团迷雾。从迷雾中飞出{0}个冰球，每个冰球对敌人照成{1}%伤害，并有{2}%概率施加1层寒气",2,"icon_s1202","S1202",1202,"1202_timeline_TD",1,1,1,3,"4;80;40",2,"103","10",1131,10,null,4,80,40,{"$nulls":4},{"$f":"CONCATENATE(CHOOSE(S50-100,\"生命\",\"攻击\",\"防御\"),\"+\",V50,\"%\")","v":"防御+10%"},"雾隐千流法·叁",null,400,4,80,0.2,{"$nulls":4},10]
[12023,13007,337.5,355,778,"雾隐千流法","身体散发出一团迷雾。从迷雾中飞出{0}个冰球，每个冰球对敌人照成{1}%伤害，并有{2}%概率施加1层寒气",2,"icon_s1202","S1202",1202,"1202_timeline_TD",1,1,1,4,"5;80;40",2,"103","10",1132,1,null,5,80,40,{"$nulls":4},{"$f":"CONCATENATE(\"冰球数量+\",V51)","v":"冰球数量+1"},"雾隐千流法·肆",null,500,5,80,0.2,{"$nulls":4},10]
[12024,13007,506.25,356,779,"雾隐千流法","身体散发出一团迷雾。从迷雾中飞出{0}个冰球，每个冰球对敌人照成{1}%伤害，并有{2}%概率施加1层寒气",2,"icon_s1202","S1202",1202,"1202_timeline_TD",1,1,1,5,"5;80;40",2,"103","20",1133,10,null,5,80,40,{"$nulls":4},{"$f":"CONCATENATE(CHOOSE(S52-100,\"生命\",\"攻击\",\"防御\"),\"+\",V52,\"%\")","v":"防御+10%"},"雾隐千流法·伍",null,500,5,80,0.2,{"$nulls":4},20]
[12025,13007,759.375,357,780,"雾隐千流法","身体散发出一团迷雾。从迷雾中飞出{0}个冰球，每个冰球对敌人照成{1}%伤害，并有{2}%概率施加1层寒气",2,"icon_s1202","S1202",1202,"1202_timeline_TD",1,1,1,6,"6;80;40",2,"103","20",1134,1,null,6,80,40,{"$nulls":4},{"$f":"CONCATENATE(\"冰球数量+\",V53)","v":"冰球数量+1"},"雾隐千流法·陆",null,600,6,80,0.2,{"$nulls":4},20]
[{"$nulls":13},1,{"$nulls":17},"",null,""]
[null,{"$f":"B48+1","v":13008},100,358,781,null,"占位",2,{"$f":"CONCATENATE(\"icon_s\",K55)","v":"icon_s1203"},{"$f":"CONCATENATE(\"S\",K55)","v":"S1203"},{"$f":"K48+1","v":1203},"bingqiu_timeline_TD",1,1,1,1,{"$f":"_xlfn.TEXTJOIN(\";\",1,X55:AD55)","v":"3;120;30"},2,{"$f":"_xlfn.TEXTJOIN(\";\",1,IF(AN55=\"\",\"\",101),IF(AO55=\"\",\"\",102),IF(AP55=\"\",\"\",103),IF(AQ55=\"\",\"\",106),IF(AR55=\"\",\"\",107),IF(AS55=\"\",\"\",108),IF(AT55=\"\",\"\",109),IF(AU55=\"\",\"\",110))","v":""},{"$f":"_xlfn.TEXTJOIN(\";\",1,AN55:AU55)","v":""},-1,null,null,3,120,30,{"$nulls":5},{"$f":"IF(F55=\"\",\"\",CONCATENATE(F55,\"·\",CHOOSE(P55,\"壹\",\"贰\",\"叁\",\"肆\",\"伍\",\"陆\")))","v":""},null,"",{"$f":"X55","v":3},{"$f":"Y55","v":120},0.2]
[null,{"$f":"B49+1","v":13008},150,359,782,null,"占位",2,"icon_s1203",{"$f":"CONCATENATE(\"S\",K56)","v":"S1203"},{"$f":"K49+1","v":1203},"bingqiu_timeline_TD",1,1,1,2,{"$f":"_xlfn.TEXTJOIN(\";\",1,X56:AD56)","v":"4;120;30"},2,{"$f":"_xlfn.TEXTJOIN(\";\",1,IF(AN56=\"\",\"\",101),IF(AO56=\"\",\"\",102),IF(AP56=\"\",\"\",103),IF(AQ56=\"\",\"\",106),IF(AR56=\"\",\"\",107),IF(AS56=\"\",\"\",108),IF(AT56=\"\",\"\",109),IF(AU56=\"\",\"\",110))","v":"102"},{"$f":"_xlfn.TEXTJOIN(\";\",1,AN56:AU56)","v":"10"},1135,1,null,4,120,30,{"$nulls":4},{"$f":"CONCATENATE(\"冰球数量+\",V56)","v":"冰球数量+1"},"",null,"",4,120,0.2,null,null,null,10]
[null,13008,225,360,783,null,"占位",2,"icon_s1203","S1203",1203,"bingqiu_timeline_TD",1,1,1,3,"4;120;30",2,"102","10",1136,10,null,4,120,30,{"$nulls":4},{"$f":"CONCATENATE(CHOOSE(S57-100,\"生命\",\"攻击\",\"防御\"),\"+\",V57,\"%\")","v":"攻击+10%"},"",null,"",4,120,0.2,null,null,null,10]
[null,13008,337.5,361,784,null,"占位",2,"icon_s1203","S1203",1203,"bingqiu_timeline_TD",1,1,1,4,"5;120;30",2,"102","20",1137,1,null,5,120,30,{"$nulls":4},{"$f":"CONCATENATE(\"冰球数量+\",V58)","v":"冰球数量+1"},"",null,"",5,120,0.2,null,null,null,20]
[null,13008,506.25,362,785,null,"占位",2,"icon_s1203","S1203",1203,"bingqiu_timeline_TD",1,1,1,5,"5;120;30",2,"102","20",1138,10,null,5,120,30,{"$nulls":4},{"$f":"CONCATENATE(CHOOSE(S59-100,\"生命\",\"攻击\",\"防御\"),\"+\",V59,\"%\")","v":"攻击+10%"},"",null,"",5,120,0.2,null,null,null,20]
[null,13008,759.375,363,786,null,"占位",2,"icon_s1203","S1203",1203,"bingqiu_timeline_TD",1,1,1,6,"6;120;30",2,"","",1139,1,null,6,120,30,{"$nulls":4},{"$f":"CONCATENATE(\"冰球数量+\",V60)","v":"冰球数量+1"},"",null,"",6,120,0.2]
[{"$nulls":8},{"$f":"CONCATENATE(\"icon_s\",K61)","v":"icon_s"},{"$nulls":4},1,{"$nulls":17},"",null,""]
[{"$f":"K62*10+P62-1","v":12040},{"$f":"B55+1","v":13009},100,358,781,"水球","发射{0}枚水波，对敌人造成{1}%伤害。",2,"icon_s1204",{"$f":"CONCATENATE(\"S\",K62)","v":"S1204"},1204,"1204_timeline_TD",1,1,1,1,{"$f":"_xlfn.TEXTJOIN(\";\",1,X62:AD62)","v":"3;100"},2,{"$f":"_xlfn.TEXTJOIN(\";\",1,IF(AN62=\"\",\"\",101),IF(AO62=\"\",\"\",102),IF(AP62=\"\",\"\",103),IF(AQ62=\"\",\"\",106),IF(AR62=\"\",\"\",107),IF(AS62=\"\",\"\",108),IF(AT62=\"\",\"\",109),IF(AU62=\"\",\"\",110))","v":""},{"$f":"_xlfn.TEXTJOIN(\";\",1,AN62:AU62)","v":""},-1,null,null,3,100,{"$nulls":6},"水球·壹",null,300,{"$f":"X62","v":3},{"$f":"Y62","v":100}]
[{"$f":"K63*10+P63-1","v":12041},{"$f":"B56+1","v":13009},150,359,782,"水球","发射{0}枚水波，对敌人造成{1}%伤害。",2,"icon_s1204",{"$f":"CONCATENATE(\"S\",K63)","v":"S1204"},1204,"1204_timeline_TD",1,1,1,2,{"$f":"_xlfn.TEXTJOIN(\";\",1,X63:AD63)","v":"3;100"},2,{"$f":"_xlfn.TEXTJOIN(\";\",1,IF(AN63=\"\",\"\",101),IF(AO63=\"\",\"\",102),IF(AP63=\"\",\"\",103),IF(AQ63=\"\",\"\",106),IF(AR63=\"\",\"\",107),IF(AS63=\"\",\"\",108),IF(AT63=\"\",\"\",109),IF(AU63=\"\",\"\",110))","v":"102"},{"$f":"_xlfn.TEXTJOIN(\";\",1,AN63:AU63)","v":"5"},1140,5,null,3,100,{"$nulls":5},{"$f":"CONCATENATE(CHOOSE(S63-100,\"生命\",\"攻击\",\"防御\"),\"+\",V63,\"%\")","v":"攻击+5%"},"水球·贰",null,300,3,100,{"$nulls":4},5]
[12042,13009,225,360,783,"水球","发射{0}枚水波，对敌人造成{1}%伤害。",2,"icon_s1204","S1204",1204,"1204_timeline_TD",1,1,1,3,"4;100",2,"102","5",1141,1,null,4,100,{"$nulls":5},{"$f":"CONCATENATE(\"水波数量+\",V64)","v":"水波数量+1"},"水球·叁",null,400,4,100,{"$nulls":4},5]
[12043,13009,337.5,361,784,"水球","发射{0}枚水波，对敌人造成{1}%伤害。",2,"icon_s1204","S1204",1204,"1204_timeline_TD",1,1,1,4,"4;100",2,"102","10",1142,10,null,4,100,{"$nulls":5},{"$f":"CONCATENATE(CHOOSE(S65-100,\"生命\",\"攻击\",\"防御\"),\"+\",V65,\"%\")","v":"攻击+10%"},"水球·肆",null,400,4,100,{"$nulls":4},10]
[12044,13009,506.25,362,785,"水球","发射{0}枚水波，对敌人造成{1}%伤害。",2,"icon_s1204","S1204",1204,"1204_timeline_TD",1,1,1,5,"5;100",2,"102","10",1143,1,null,5,100,{"$nulls":5},{"$f":"CONCATENATE(\"水波数量+\",V66)","v":"水波数量+1"},"水球·伍",null,500,5,100,{"$nulls":4},10]
[12045,13009,759.375,363,786,"水球","发射{0}枚水波，对敌人造成{1}%伤害。",2,{"$f":"CONCATENATE(\"icon_s\",K67)","v":"icon_s1204"},"S1204",1204,"1204_timeline_TD",1,1,1,6,"5;100",2,"102","15",1144,15,null,5,100,{"$nulls":5},{"$f":"CONCATENATE(CHOOSE(S67-100,\"生命\",\"攻击\",\"防御\"),\"+\",V67,\"%\")","v":"攻击+15%"},"水球·陆",null,500,5,100,{"$nulls":4},15]
[{"$nulls":8},"icon_s",{"$nulls":4},1,{"$nulls":17},"",null,""]
[{"$f":"K69*10+P69-1","v":12050},{"$f":"B62+1","v":13010},100,364,787,"冰刀","发射{0}枚冰刀，对敌人造成{1}%伤害。",2,"icon_s1205",{"$f":"CONCATENATE(\"S\",K69)","v":"S1205"},1205,"1205_timeline_TD",1,1,1,1,{"$f":"_xlfn.TEXTJOIN(\";\",1,X69:AD69)","v":"6;50"},2,{"$f":"_xlfn.TEXTJOIN(\";\",1,IF(AN69=\"\",\"\",101),IF(AO69=\"\",\"\",102),IF(AP69=\"\",\"\",103),IF(AQ69=\"\",\"\",106),IF(AR69=\"\",\"\",107),IF(AS69=\"\",\"\",108),IF(AT69=\"\",\"\",109),IF(AU69=\"\",\"\",110))","v":""},{"$f":"_xlfn.TEXTJOIN(\";\",1,AN69:AU69)","v":""},-1,null,null,6,50,{"$nulls":6},"冰刀·壹",null,{"$f":"IF(A69=\"\",\"\",AI69*AJ69/(1-AK69-AL69))","v":300},{"$f":"X69","v":6},{"$f":"Y69","v":50}]
[{"$f":"K70*10+P70-1","v":12051},{"$f":"B63+1","v":13010},150,365,788,"冰刀","发射{0}枚冰刀，对敌人造成{1}%伤害。",2,"icon_s1205",{"$f":"CONCATENATE(\"S\",K70)","v":"S1205"},1205,"1205_timeline_TD",1,1,1,2,{"$f":"_xlfn.TEXTJOIN(\";\",1,X70:AD70)","v":"6;50"},2,{"$f":"_xlfn.TEXTJOIN(\";\",1,IF(AN70=\"\",\"\",101),IF(AO70=\"\",\"\",102),IF(AP70=\"\",\"\",103),IF(AQ70=\"\",\"\",106),IF(AR70=\"\",\"\",107),IF(AS70=\"\",\"\",108),IF(AT70=\"\",\"\",109),IF(AU70=\"\",\"\",110))","v":"103"},{"$f":"_xlfn.TEXTJOIN(\";\",1,AN70:AU70)","v":"5"},1145,5,null,6,50,{"$nulls":5},{"$f":"CONCATENATE(CHOOSE(S70-100,\"生命\",\"攻击\",\"防御\"),\"+\",V70,\"%\")","v":"防御+5%"},"冰刀·贰",null,300,6,50,{"$nulls":5},5]
[12052,13010,225,366,789,"冰刀","发射{0}枚冰刀，对敌人造成{1}%伤害。",2,"icon_s1205","S1205",1205,"1205_timeline_TD",1,1,1,3,"8;50",2,"103","5",1146,2,null,8,50,{"$nulls":5},{"$f":"CONCATENATE(\"冰刀数量+\",V71)","v":"冰刀数量+2"},"冰刀·叁",null,400,8,50,{"$nulls":5},5]
[12053,13010,337.5,367,790,"冰刀","发射{0}枚冰刀，对敌人造成{1}%伤害。",2,"icon_s1205","S1205",1205,"1205_timeline_TD",1,1,1,4,"8;50",2,"103","10",1147,5,null,8,50,{"$nulls":5},{"$f":"CONCATENATE(CHOOSE(S72-100,\"生命\",\"攻击\",\"防御\"),\"+\",V72,\"%\")","v":"防御+5%"},"冰刀·肆",null,400,8,50,{"$nulls":5},10]
[12054,13010,506.25,368,791,"冰刀","发射{0}枚冰刀，对敌人造成{1}%伤害。",2,"icon_s1205","S1205",1205,"1205_timeline_TD",1,1,1,5,"10;50",2,"103","10",1148,2,null,10,50,{"$nulls":5},{"$f":"CONCATENATE(\"冰刀数量+\",V73)","v":"冰刀数量+2"},"冰刀·伍",null,500,10,50,{"$nulls":5},10]
[12055,13010,759.375,369,792,"冰刀","发射{0}枚冰刀，对敌人造成{1}%伤害。",2,"icon_s1205","S1205",1205,"1205_timeline_TD",1,1,1,6,"10;50",2,"103","15",1149,5,null,10,50,{"$nulls":5},{"$f":"CONCATENATE(CHOOSE(S74-100,\"生命\",\"攻击\",\"防御\"),\"+\",V74,\"%\")","v":"防御+5%"},"冰刀·陆",null,500,10,50,{"$nulls":5},15]
[{"$nulls":8},"icon_s",{"$nulls":4},1,{"$nulls":17},"",null,{"$f":"IF(A75=\"\",\"\",AI75*AJ75/(1-AK75-AL75))","v":""}]
[{"$f":"K76*10+P76-1","v":13010},{"$f":"B69+1","v":13011},100,370,793,"瘴影千丝术","发出{0}条细细的毒针，每颗针对敌人照成{1}%金系伤害，每颗针有{2}%概率施加1层毒",4,"icon_s1301",{"$f":"CONCATENATE(\"S\",K76)","v":"S1301"},1301,"1301_timeline_TD",1,1,1,1,{"$f":"_xlfn.TEXTJOIN(\";\",1,X76:AD76)","v":"3;80;40"},2,{"$f":"_xlfn.TEXTJOIN(\";\",1,IF(AN76=\"\",\"\",101),IF(AO76=\"\",\"\",102),IF(AP76=\"\",\"\",103),IF(AQ76=\"\",\"\",106),IF(AR76=\"\",\"\",107),IF(AS76=\"\",\"\",108),IF(AT76=\"\",\"\",109),IF(AU76=\"\",\"\",110))","v":""},{"$f":"_xlfn.TEXTJOIN(\";\",1,AN76:AU76)","v":""},-1,null,null,3,80,40,{"$nulls":5},"瘴影千丝术·壹",null,300,{"$f":"X76","v":3},{"$f":"Y76","v":80},0.2]
[{"$f":"K77*10+P77-1","v":13011},{"$f":"B70+1","v":13011},150,371,794,"瘴影千丝术","发出{0}条细细的毒针，每颗针对敌人照成{1}%金系伤害，每颗针有{2}%概率施加1层毒",4,"icon_s1301",{"$f":"CONCATENATE(\"S\",K77)","v":"S1301"},1301,"1301_timeline_TD",1,1,1,2,{"$f":"_xlfn.TEXTJOIN(\";\",1,X77:AD77)","v":"4;80;40"},2,{"$f":"_xlfn.TEXTJOIN(\";\",1,IF(AN77=\"\",\"\",101),IF(AO77=\"\",\"\",102),IF(AP77=\"\",\"\",103),IF(AQ77=\"\",\"\",106),IF(AR77=\"\",\"\",107),IF(AS77=\"\",\"\",108),IF(AT77=\"\",\"\",109),IF(AU77=\"\",\"\",110))","v":""},{"$f":"_xlfn.TEXTJOIN(\";\",1,AN77:AU77)","v":""},1150,1,null,4,80,40,{"$nulls":4},{"$f":"CONCATENATE(\"毒针数量+\",V77)","v":"毒针数量+1"},"瘴影千丝术·贰",null,400,4,80,0.2]
[13012,13011,225,372,795,"瘴影千丝术","发出{0}条细细的毒针，每颗针对敌人照成{1}%金系伤害，每颗针有{2}%概率施加1层毒",4,"icon_s1301","S1301",1301,"1301_timeline_TD",1,1,1,3,"4;80;40",2,"101","10",1151,10,null,4,80,40,{"$nulls":4},{"$f":"CONCATENATE(CHOOSE(S78-100,\"生命\",\"攻击\",\"防御\"),\"+\",V78,\"%\")","v":"生命+10%"},{"$f":"IF(F78=\"\",\"\",CONCATENATE(F78,\"·\",CHOOSE(P78,\"壹\",\"贰\",\"叁\",\"肆\",\"伍\",\"陆\")))","v":"瘴影千丝术·叁"},null,400,4,80,0.2,null,null,10]
[13013,13011,337.5,373,796,"瘴影千丝术","发出{0}条细细的毒针，每颗针对敌人照成{1}%金系伤害，每颗针有{2}%概率施加1层毒",4,"icon_s1301","S1301",1301,"1301_timeline_TD",1,1,1,4,"5;80;40",2,"101","10",1152,1,null,5,80,40,{"$nulls":4},{"$f":"CONCATENATE(\"毒针数量+\",V79)","v":"毒针数量+1"},"瘴影千丝术·肆",null,500,5,80,0.2,null,null,10]
[13014,13011,506.25,374,797,"瘴影千丝术","发出{0}条细细的毒针，每颗针对敌人照成{1}%金系伤害，每颗针有{2}%概率施加1层毒",4,"icon_s1301","S1301",1301,"1301_timeline_TD",1,1,1,5,"5;80;40",2,"101","20",1153,10,null,5,80,40,{"$nulls":4},{"$f":"CONCATENATE(CHOOSE(S80-100,\"生命\",\"攻击\",\"防御\"),\"+\",V80,\"%\")","v":"生命+10%"},"瘴影千丝术·伍",null,500,5,80,0.2,null,null,20]
[13015,13011,759.375,375,798,"瘴影千丝术","发出{0}条细细的毒针，每颗针对敌人照成{1}%金系伤害，每颗针有{2}%概率施加1层毒",4,"icon_s1301","S1301",1301,"1301_timeline_TD",1,1,1,6,"6;80;40",2,"101","20",1154,1,null,6,80,40,{"$nulls":4},{"$f":"CONCATENATE(\"毒针数量+\",V81)","v":"毒针数量+1"},"瘴影千丝术·陆",null,600,6,80,0.2,null,null,20]
[{"$nulls":8},"icon_s",{"$nulls":4},1,{"$nulls":17},"",null,""]
[{"$f":"K83*10+P83-1","v":13020},{"$f":"B76+1","v":13012},100,376,799,"蚀骨腐血掌","快手释放{0}掌，对敌人造成{1}%伤害，并有{2}%几率对敌人施加1层毒，如果敌人毒超过{3}层，则每层毒对敌人的伤害提升{4}%，并有{5}%几率施加一层噬魂。",4,"icon_s1302",{"$f":"CONCATENATE(\"S\",K83)","v":"S1302"},1302,"1302_timeline_TD",1,1,1,1,{"$f":"_xlfn.TEXTJOIN(\";\",1,X83:AD83)","v":"3;80;30;5;6;100"},2,{"$f":"_xlfn.TEXTJOIN(\";\",1,IF(AN83=\"\",\"\",101),IF(AO83=\"\",\"\",102),IF(AP83=\"\",\"\",103),IF(AQ83=\"\",\"\",106),IF(AR83=\"\",\"\",107),IF(AS83=\"\",\"\",108),IF(AT83=\"\",\"\",109),IF(AU83=\"\",\"\",110))","v":""},{"$f":"_xlfn.TEXTJOIN(\";\",1,AN83:AU83)","v":""},-1,null,null,3,80,30,5,6,100,null,null,"蚀骨腐血掌·壹",null,{"$f":"IF(A83=\"\",\"\",AI83*AJ83/(1-AK83-AL83))","v":300},{"$f":"X83","v":3},{"$f":"Y83","v":80},0.2]
[{"$f":"K84*10+P84-1","v":13021},{"$f":"B77+1","v":13012},150,377,800,"蚀骨腐血掌","快手释放{0}掌，对敌人造成{1}%伤害，并有{2}%几率对敌人施加1层毒，如果敌人毒超过{3}层，则每层毒对敌人的伤害提升{4}%，并有{5}%几率施加一层噬魂。",4,"icon_s1302",{"$f":"CONCATENATE(\"S\",K84)","v":"S1302"},1302,"1302_timeline_TD",1,1,1,2,{"$f":"_xlfn.TEXTJOIN(\";\",1,X84:AD84)","v":"4;80;30;5;6;100"},2,{"$f":"_xlfn.TEXTJOIN(\";\",1,IF(AN84=\"\",\"\",101),IF(AO84=\"\",\"\",102),IF(AP84=\"\",\"\",103),IF(AQ84=\"\",\"\",106),IF(AR84=\"\",\"\",107),IF(AS84=\"\",\"\",108),IF(AT84=\"\",\"\",109),IF(AU84=\"\",\"\",110))","v":""},{"$f":"_xlfn.TEXTJOIN(\";\",1,AN84:AU84)","v":""},1155,1,null,4,80,30,5,6,100,null,{"$f":"CONCATENATE(\"手掌数量+\",V84)","v":"手掌数量+1"},"蚀骨腐血掌·贰",null,400,4,80,0.2]
[13022,13012,225,378,801,"蚀骨腐血掌","快手释放{0}掌，对敌人造成{1}%伤害，并有{2}%几率对敌人施加1层毒，如果敌人毒超过{3}层，则每层毒对敌人的伤害提升{4}%，并有{5}%几率施加一层噬魂。",4,"icon_s1302","S1302",1302,"1302_timeline_TD",1,1,1,3,"4;80;30;5;6;100",2,"103","10",1156,10,null,4,80,30,5,6,100,null,{"$f":"CONCATENATE(CHOOSE(S85-100,\"生命\",\"攻击\",\"防御\"),\"+\",V85,\"%\")","v":"防御+10%"},"蚀骨腐血掌·叁",null,400,4,80,0.2,{"$nulls":4},10]
[13023,13012,337.5,379,802,"蚀骨腐血掌","快手释放{0}掌，对敌人造成{1}%伤害，并有{2}%几率对敌人施加1层毒，如果敌人毒超过{3}层，则每层毒对敌人的伤害提升{4}%，并有{5}%几率施加一层噬魂。",4,"icon_s1302","S1302",1302,"1302_timeline_TD",1,1,1,4,"5;80;30;5;6;100",2,"103","10",1157,1,null,5,80,30,5,6,100,null,{"$f":"CONCATENATE(\"手掌数量+\",V86)","v":"手掌数量+1"},"蚀骨腐血掌·肆",null,500,5,80,0.2,{"$nulls":4},10]
[13024,13012,506.25,380,803,"蚀骨腐血掌","快手释放{0}掌，对敌人造成{1}%伤害，并有{2}%几率对敌人施加1层毒，如果敌人毒超过{3}层，则每层毒对敌人的伤害提升{4}%，并有{5}%几率施加一层噬魂。",4,"icon_s1302","S1302",1302,"1302_timeline_TD",1,1,1,5,"5;80;30;5;6;100",2,"103","20",1158,10,null,5,80,30,5,6,100,null,{"$f":"CONCATENATE(CHOOSE(S87-100,\"生命\",\"攻击\",\"防御\"),\"+\",V87,\"%\")","v":"防御+10%"},"蚀骨腐血掌·伍",null,500,5,80,0.2,{"$nulls":4},20]
[13025,13012,759.375,381,804,"蚀骨腐血掌","快手释放{0}掌，对敌人造成{1}%伤害，并有{2}%几率对敌人施加1层毒，如果敌人毒超过{3}层，则每层毒对敌人的伤害提升{4}%，并有{5}%几率施加一层噬魂。",4,"icon_s1302","S1302",1302,"1302_timeline_TD",1,1,1,6,"6;80;30;5;6;100",2,"103","20",1159,1,null,6,80,30,5,6,100,null,{"$f":"CONCATENATE(\"手掌数量+\",V88)","v":"手掌数量+1"},"蚀骨腐血掌·陆",null,600,6,80,0.2,{"$nulls":4},20]
[{"$nulls":8},"icon_s",{"$nulls":4},1,{"$nulls":17},"",null,""]
[null,{"$f":"B83+1","v":13013},100,382,805,null,"占位",4,"icon_s1303",{"$f":"CONCATENATE(\"S\",K90)","v":"S1303"},1303,"duzhen_timeline_TD",1,1,1,1,{"$f":"_xlfn.TEXTJOIN(\";\",1,X90:AD90)","v":"3;90;45;5;6;100"},2,{"$f":"_xlfn.TEXTJOIN(\";\",1,IF(AN90=\"\",\"\",101),IF(AO90=\"\",\"\",102),IF(AP90=\"\",\"\",103),IF(AQ90=\"\",\"\",106),IF(AR90=\"\",\"\",107),IF(AS90=\"\",\"\",108),IF(AT90=\"\",\"\",109),IF(AU90=\"\",\"\",110))","v":""},{"$f":"_xlfn.TEXTJOIN(\";\",1,AN90:AU90)","v":""},-1,null,null,3,90,45,5,6,100,null,null,{"$f":"IF(F90=\"\",\"\",CONCATENATE(F90,\"·\",CHOOSE(P90,\"壹\",\"贰\",\"叁\",\"肆\",\"伍\",\"陆\")))","v":""},null,"",{"$f":"X90","v":3},{"$f":"Y90","v":90}]
[null,{"$f":"B84+1","v":13013},150,383,806,null,"占位",4,"icon_s1303",{"$f":"CONCATENATE(\"S\",K91)","v":"S1303"},1303,"duzhen_timeline_TD",1,1,1,2,{"$f":"_xlfn.TEXTJOIN(\";\",1,X91:AD91)","v":"4;90;45;5;6;100"},2,{"$f":"_xlfn.TEXTJOIN(\";\",1,IF(AN91=\"\",\"\",101),IF(AO91=\"\",\"\",102),IF(AP91=\"\",\"\",103),IF(AQ91=\"\",\"\",106),IF(AR91=\"\",\"\",107),IF(AS91=\"\",\"\",108),IF(AT91=\"\",\"\",109),IF(AU91=\"\",\"\",110))","v":""},{"$f":"_xlfn.TEXTJOIN(\";\",1,AN91:AU91)","v":""},1160,1,null,4,90,45,5,6,100,null,{"$f":"CONCATENATE(\"手掌数量+\",V91)","v":"手掌数量+1"},"",null,"",4,90]
[null,13013,225,384,807,null,"占位",4,"icon_s1303","S1303",1303,"duzhen_timeline_TD",1,1,1,3,"4;90;45;5;6;100",2,"102","10",1161,10,null,4,90,45,5,6,100,null,{"$f":"CONCATENATE(CHOOSE(S92-100,\"生命\",\"攻击\",\"防御\"),\"+\",V92,\"%\")","v":"攻击+10%"},"",null,"",4,90,{"$nulls":4},10]
[null,13013,337.5,385,808,null,"占位",4,"icon_s1303","S1303",1303,"duzhen_timeline_TD",1,1,1,4,"5;90;45;5;6;100",2,"102","10",1162,2,null,5,90,45,5,6,100,null,{"$f":"CONCATENATE(\"手掌数量+\",V93)","v":"手掌数量+2"},"",null,"",5,90,{"$nulls":4},10]
[null,13013,506.25,386,809,null,"占位",4,"icon_s1303","S1303",1303,"duzhen_timeline_TD",1,1,1,5,"5;90;45;5;6;100",2,"102","20",1163,10,null,5,90,45,5,6,100,null,{"$f":"CONCATENATE(CHOOSE(S94-100,\"生命\",\"攻击\",\"防御\"),\"+\",V94,\"%\")","v":"攻击+10%"},"",null,"",5,90,{"$nulls":4},20]
[null,13013,759.375,387,810,null,"占位",4,"icon_s1303","S1303",1303,"duzhen_timeline_TD",1,1,1,6,"6;90;45;5;6;100",2,"102","20",1164,3,null,6,90,45,5,6,100,null,{"$f":"CONCATENATE(\"手掌数量+\",V95)","v":"手掌数量+3"},"",null,"",6,90,{"$nulls":4},20]
[{"$nulls":8},"icon_s",{"$nulls":4},1,{"$nulls":17},"",null,""]
[{"$f":"K97*10+P97-1","v":13040},{"$f":"B90+1","v":13014},100,382,805,"竹刺","发射{0}枚竹刺，对敌人造成{1}%伤害。",4,"icon_s1304",{"$f":"CONCATENATE(\"S\",K97)","v":"S1304"},1304,"1304_timeline_TD",1,1,1,1,{"$f":"_xlfn.TEXTJOIN(\";\",1,X97:AD97)","v":"6;50"},2,{"$f":"_xlfn.TEXTJOIN(\";\",1,IF(AN97=\"\",\"\",101),IF(AO97=\"\",\"\",102),IF(AP97=\"\",\"\",103),IF(AQ97=\"\",\"\",106),IF(AR97=\"\",\"\",107),IF(AS97=\"\",\"\",108),IF(AT97=\"\",\"\",109),IF(AU97=\"\",\"\",110))","v":""},{"$f":"_xlfn.TEXTJOIN(\";\",1,AN97:AU97)","v":""},-1,null,null,6,50,{"$nulls":6},"竹刺·壹",null,300,{"$f":"X97","v":6},{"$f":"Y97","v":50}]
[{"$f":"K98*10+P98-1","v":13041},{"$f":"B91+1","v":13014},150,383,806,"竹刺","发射{0}枚竹刺，对敌人造成{1}%伤害。",4,"icon_s1304",{"$f":"CONCATENATE(\"S\",K98)","v":"S1304"},1304,"1304_timeline_TD",1,1,1,2,{"$f":"_xlfn.TEXTJOIN(\";\",1,X98:AD98)","v":"6;50"},2,{"$f":"_xlfn.TEXTJOIN(\";\",1,IF(AN98=\"\",\"\",101),IF(AO98=\"\",\"\",102),IF(AP98=\"\",\"\",103),IF(AQ98=\"\",\"\",106),IF(AR98=\"\",\"\",107),IF(AS98=\"\",\"\",108),IF(AT98=\"\",\"\",109),IF(AU98=\"\",\"\",110))","v":"101"},{"$f":"_xlfn.TEXTJOIN(\";\",1,AN98:AU98)","v":"5"},1165,5,null,6,50,{"$nulls":5},{"$f":"CONCATENATE(CHOOSE(S98-100,\"生命\",\"攻击\",\"防御\"),\"+\",V98,\"%\")","v":"生命+5%"},"竹刺·贰",null,300,6,50,null,null,null,5]
[13042,13014,225,384,807,"竹刺","发射{0}枚竹刺，对敌人造成{1}%伤害。",4,"icon_s1304","S1304",1304,"1304_timeline_TD",1,1,1,3,"8;50",2,"101","5",1166,2,null,8,50,{"$nulls":5},{"$f":"CONCATENATE(\"竹刺数量+\",V99)","v":"竹刺数量+2"},"竹刺·叁",null,400,8,50,null,null,null,5]
[13043,13014,337.5,385,808,"竹刺","发射{0}枚竹刺，对敌人造成{1}%伤害。",4,"icon_s1304","S1304",1304,"1304_timeline_TD",1,1,1,4,"8;50",2,"101","10",1167,5,null,8,50,{"$nulls":5},{"$f":"CONCATENATE(CHOOSE(S100-100,\"生命\",\"攻击\",\"防御\"),\"+\",V100,\"%\")","v":"生命+5%"},"竹刺·肆",null,400,8,50,null,null,null,10]
[13044,13014,506.25,386,809,"竹刺","发射{0}枚竹刺，对敌人造成{1}%伤害。",4,"icon_s1304","S1304",1304,"1304_timeline_TD",1,1,1,5,"10;50",2,"101","10",1168,2,null,10,50,{"$nulls":5},{"$f":"CONCATENATE(\"竹刺数量+\",V101)","v":"竹刺数量+2"},"竹刺·伍",null,500,10,50,null,null,null,10]
[13045,13014,759.375,387,810,"竹刺","发射{0}枚竹刺，对敌人造成{1}%伤害。",4,"icon_s1304","S1304",1304,"1304_timeline_TD",1,1,1,6,"10;50",2,"101","15",1169,5,null,10,50,{"$nulls":5},{"$f":"CONCATENATE(CHOOSE(S102-100,\"生命\",\"攻击\",\"防御\"),\"+\",V102,\"%\")","v":"生命+5%"},"竹刺·陆",null,500,10,50,null,null,null,15]
[{"$nulls":8},"icon_s",{"$nulls":4},1,{"$nulls":17},"",null,""]
[{"$f":"K104*10+P104-1","v":13050},{"$f":"B97+1","v":13015},100,388,811,"飞叶","发射{0}枚飞叶，对敌人造成{1}%伤害。",4,"icon_s1305",{"$f":"CONCATENATE(\"S\",K104)","v":"S1305"},1305,"1305_timeline_TD",1,1,1,1,{"$f":"_xlfn.TEXTJOIN(\";\",1,X104:AD104)","v":"9;35"},2,{"$f":"_xlfn.TEXTJOIN(\";\",1,IF(AN104=\"\",\"\",101),IF(AO104=\"\",\"\",102),IF(AP104=\"\",\"\",103),IF(AQ104=\"\",\"\",106),IF(AR104=\"\",\"\",107),IF(AS104=\"\",\"\",108),IF(AT104=\"\",\"\",109),IF(AU104=\"\",\"\",110))","v":""},{"$f":"_xlfn.TEXTJOIN(\";\",1,AN104:AU104)","v":""},-1,null,null,9,35,{"$nulls":6},"飞叶·壹",null,{"$f":"IF(A104=\"\",\"\",AI104*AJ104/(1-AK104-AL104))","v":315},{"$f":"X104","v":9},{"$f":"Y104","v":35}]
[{"$f":"K105*10+P105-1","v":13051},{"$f":"B98+1","v":13015},150,389,812,"飞叶","发射{0}枚飞叶，对敌人造成{1}%伤害。",4,"icon_s1305",{"$f":"CONCATENATE(\"S\",K105)","v":"S1305"},1305,"1305_timeline_TD",1,1,1,2,{"$f":"_xlfn.TEXTJOIN(\";\",1,X105:AD105)","v":"9;35"},2,{"$f":"_xlfn.TEXTJOIN(\";\",1,IF(AN105=\"\",\"\",101),IF(AO105=\"\",\"\",102),IF(AP105=\"\",\"\",103),IF(AQ105=\"\",\"\",106),IF(AR105=\"\",\"\",107),IF(AS105=\"\",\"\",108),IF(AT105=\"\",\"\",109),IF(AU105=\"\",\"\",110))","v":"102"},{"$f":"_xlfn.TEXTJOIN(\";\",1,AN105:AU105)","v":"5"},1170,5,null,9,35,{"$nulls":5},{"$f":"CONCATENATE(CHOOSE(S105-100,\"生命\",\"攻击\",\"防御\"),\"+\",V105,\"%\")","v":"攻击+5%"},"飞叶·贰",null,315,9,35,{"$nulls":4},5]
[13052,13015,225,390,813,"飞叶","发射{0}枚飞叶，对敌人造成{1}%伤害。",4,"icon_s1305","S1305",1305,"1305_timeline_TD",1,1,1,3,"12;35",2,"102","5",1171,3,null,12,35,{"$nulls":5},{"$f":"CONCATENATE(\"飞叶数量+\",V106)","v":"飞叶数量+3"},"飞叶·叁",null,420,12,35,{"$nulls":4},5]
[13053,13015,337.5,391,814,"飞叶","发射{0}枚飞叶，对敌人造成{1}%伤害。",4,"icon_s1305","S1305",1305,"1305_timeline_TD",1,1,1,4,"12;35",2,"102","10",1172,5,null,12,35,{"$nulls":5},{"$f":"CONCATENATE(CHOOSE(S107-100,\"生命\",\"攻击\",\"防御\"),\"+\",V107,\"%\")","v":"攻击+5%"},"飞叶·肆",null,420,12,35,{"$nulls":4},10]
[13054,13015,506.25,392,815,"飞叶","发射{0}枚飞叶，对敌人造成{1}%伤害。",4,"icon_s1305","S1305",1305,"1305_timeline_TD",1,1,1,5,"15;35",2,"102","10",1173,3,null,15,35,{"$nulls":5},{"$f":"CONCATENATE(\"飞叶数量+\",V108)","v":"飞叶数量+3"},"飞叶·伍",null,525,15,35,{"$nulls":4},10]
[13055,13015,759.375,393,816,"飞叶","发射{0}枚飞叶，对敌人造成{1}%伤害。",4,"icon_s1305","S1305",1305,"1305_timeline_TD",1,1,1,6,"15;35",2,"102","15",1174,5,null,15,35,{"$nulls":5},{"$f":"CONCATENATE(CHOOSE(S109-100,\"生命\",\"攻击\",\"防御\"),\"+\",V109,\"%\")","v":"攻击+5%"},"飞叶·陆",null,525,15,35,{"$nulls":4},15]
[{"$nulls":8},"icon_s",{"$nulls":4},1,{"$nulls":17},"",null,""]
[{"$f":"K111*10+P111-1","v":14010},{"$f":"B104+1","v":13016},100,394,817,"烈焰剑","向前方发出{0}柄剑，对敌人造成{1}%火系伤害，并有{2}%的概率施加1层灼烧。",8,"icon_s1401",{"$f":"CONCATENATE(\"S\",K111)","v":"S1401"},1401,"1401_timeline_TD",1,1,1,1,{"$f":"_xlfn.TEXTJOIN(\";\",1,X111:AD111)","v":"6;40;20"},2,{"$f":"_xlfn.TEXTJOIN(\";\",1,IF(AN111=\"\",\"\",101),IF(AO111=\"\",\"\",102),IF(AP111=\"\",\"\",103),IF(AQ111=\"\",\"\",106),IF(AR111=\"\",\"\",107),IF(AS111=\"\",\"\",108),IF(AT111=\"\",\"\",109),IF(AU111=\"\",\"\",110))","v":""},{"$f":"_xlfn.TEXTJOIN(\";\",1,AN111:AU111)","v":""},-1,null,null,6,40,20,{"$nulls":5},"烈焰剑·壹",null,300,{"$f":"X111","v":6},{"$f":"Y111","v":40},0.2]
[{"$f":"K112*10+P112-1","v":14011},{"$f":"B105+1","v":13016},150,395,818,"烈焰剑","向前方发出{0}柄剑，对敌人造成{1}%火系伤害，并有{2}%的概率施加1层灼烧。",8,"icon_s1401",{"$f":"CONCATENATE(\"S\",K112)","v":"S1401"},1401,"1401_timeline_TD",1,1,1,2,{"$f":"_xlfn.TEXTJOIN(\";\",1,X112:AD112)","v":"8;40;20"},2,{"$f":"_xlfn.TEXTJOIN(\";\",1,IF(AN112=\"\",\"\",101),IF(AO112=\"\",\"\",102),IF(AP112=\"\",\"\",103),IF(AQ112=\"\",\"\",106),IF(AR112=\"\",\"\",107),IF(AS112=\"\",\"\",108),IF(AT112=\"\",\"\",109),IF(AU112=\"\",\"\",110))","v":""},{"$f":"_xlfn.TEXTJOIN(\";\",1,AN112:AU112)","v":""},1175,2,null,8,40,20,{"$nulls":4},{"$f":"CONCATENATE(\"剑柄数量+\",V112)","v":"剑柄数量+2"},"烈焰剑·贰",null,400,8,40,0.2]
[14012,13016,225,396,819,"烈焰剑","向前方发出{0}柄剑，对敌人造成{1}%火系伤害，并有{2}%的概率施加1层灼烧。",8,"icon_s1401","S1401",1401,"1401_timeline_TD",1,1,1,3,"8;40;20",2,"101","10",1176,10,null,8,40,20,{"$nulls":4},{"$f":"CONCATENATE(CHOOSE(S113-100,\"生命\",\"攻击\",\"防御\"),\"+\",V113,\"%\")","v":"生命+10%"},"烈焰剑·叁",null,400,8,40,0.2,null,null,10]
[14013,13016,337.5,397,820,"烈焰剑","向前方发出{0}柄剑，对敌人造成{1}%火系伤害，并有{2}%的概率施加1层灼烧。",8,"icon_s1401","S1401",1401,"1401_timeline_TD",1,1,1,4,"10;40;20",2,"101","10",1177,4,null,10,40,20,{"$nulls":4},{"$f":"CONCATENATE(\"剑柄数量+\",V114)","v":"剑柄数量+4"},"烈焰剑·肆",null,500,10,40,0.2,null,null,10]
[14014,13016,506.25,398,821,"烈焰剑","向前方发出{0}柄剑，对敌人造成{1}%火系伤害，并有{2}%的概率施加1层灼烧。",8,"icon_s1401","S1401",1401,"1401_timeline_TD",1,1,1,5,"10;40;20",2,"101","20",1178,10,null,10,40,20,{"$nulls":4},{"$f":"CONCATENATE(CHOOSE(S115-100,\"生命\",\"攻击\",\"防御\"),\"+\",V115,\"%\")","v":"生命+10%"},"烈焰剑·伍",null,500,10,40,0.2,null,null,20]
[14015,13016,759.375,399,822,"烈焰剑","向前方发出{0}柄剑，对敌人造成{1}%火系伤害，并有{2}%的概率施加1层灼烧。\n每柄烈焰剑将会对敌人照成爆燃，爆燃额外受到{3}%伤害",8,"icon_s1401","S1401",1401,"1401_timeline_TD",1,1,1,6,"10;40;20;20",2,"101","20",1179,null,null,10,40,20,20,null,null,null,"额外造成爆燃伤害","烈焰剑·陆",null,599.700149925037,10,40,0.333,null,null,20]
[{"$nulls":8},"icon_s",{"$nulls":4},1,{"$nulls":17},"",null,""]
[{"$f":"K118*10+P118-1","v":14020},{"$f":"B111+1","v":13017},100,400,823,"赤焰龙吟功","飞出{0}道巨龙，对敌人造成{1}火系伤害。",8,"icon_s1402",{"$f":"CONCATENATE(\"S\",K118)","v":"S1402"},1402,"1402_timeline_TD",1,1,1,1,{"$f":"_xlfn.TEXTJOIN(\";\",1,X118:AD118)","v":"3;100"},2,{"$f":"_xlfn.TEXTJOIN(\";\",1,IF(AN118=\"\",\"\",101),IF(AO118=\"\",\"\",102),IF(AP118=\"\",\"\",103),IF(AQ118=\"\",\"\",106),IF(AR118=\"\",\"\",107),IF(AS118=\"\",\"\",108),IF(AT118=\"\",\"\",109),IF(AU118=\"\",\"\",110))","v":""},{"$f":"_xlfn.TEXTJOIN(\";\",1,AN118:AU118)","v":""},-1,null,null,3,100,{"$nulls":6},"赤焰龙吟功·壹",null,{"$f":"IF(A118=\"\",\"\",AI118*AJ118/(1-AK118-AL118))","v":300},{"$f":"X118","v":3},{"$f":"Y118","v":100}]
[{"$f":"K119*10+P119-1","v":14021},{"$f":"B112+1","v":13017},150,401,824,"赤焰龙吟功","飞出{0}道巨龙，对敌人造成{1}火系伤害。\n如果敌人处于灼烧中对其造成胆摄，眩晕敌人{2}秒。",8,"icon_s1402",{"$f":"CONCATENATE(\"S\",K119)","v":"S1402"},1402,"1402_timeline_TD",1,1,1,2,{"$f":"_xlfn.TEXTJOIN(\";\",1,X119:AD119)","v":"3;100;3"},2,{"$f":"_xlfn.TEXTJOIN(\";\",1,IF(AN119=\"\",\"\",101),IF(AO119=\"\",\"\",102),IF(AP119=\"\",\"\",103),IF(AQ119=\"\",\"\",106),IF(AR119=\"\",\"\",107),IF(AS119=\"\",\"\",108),IF(AT119=\"\",\"\",109),IF(AU119=\"\",\"\",110))","v":""},{"$f":"_xlfn.TEXTJOIN(\";\",1,AN119:AU119)","v":""},1180,null,null,3,100,3,{"$nulls":4},"眩晕处于灼烧中的敌人","赤焰龙吟功·贰",null,400,3,100,0.25]
[14022,13017,225,402,825,"赤焰龙吟功","飞出{0}道巨龙，对敌人造成{1}火系伤害。\n如果敌人处于灼烧中对其造成胆摄，眩晕敌人{2}秒。",8,"icon_s1402","S1402",1402,"1402_timeline_TD",1,1,1,3,"3;100;3",2,"102","10",1181,10,null,3,100,3,{"$nulls":4},{"$f":"CONCATENATE(CHOOSE(S120-100,\"生命\",\"攻击\",\"防御\"),\"+\",V120,\"%\")","v":"攻击+10%"},"赤焰龙吟功·叁",null,400,3,100,0.25,null,null,null,10]
[14023,13017,337.5,403,826,"赤焰龙吟功","飞出{0}道巨龙，对敌人造成{1}火系伤害并{3}%施加1层灼烧。\n如果敌人处于灼烧中对其造成胆摄，眩晕敌人{2}秒。",8,"icon_s1402","S1402",1402,"1402_timeline_TD",1,1,1,4,"4;100;3;100",2,"102","10",1182,1,null,4,100,3,100,null,null,null,{"$f":"CONCATENATE(\"飞龙数量+\",V121,\"，额外造成灼烧\")","v":"飞龙数量+1，额外造成灼烧"},"赤焰龙吟功·肆",null,500,4,100,0.2,null,null,null,10]
[14024,13017,506.25,404,827,"赤焰龙吟功","飞出{0}道巨龙，对敌人造成{1}火系伤害并{3}%施加1层灼烧。\n如果敌人处于灼烧中对其造成胆摄，眩晕敌人{2}秒。",8,"icon_s1402","S1402",1402,"1402_timeline_TD",1,1,1,5,"4;100;3;100",2,"102","20",1183,10,null,4,100,3,100,null,null,null,{"$f":"CONCATENATE(CHOOSE(S122-100,\"生命\",\"攻击\",\"防御\"),\"+\",V122,\"%\")","v":"攻击+10%"},"赤焰龙吟功·伍",null,500,4,100,0.2,null,null,null,20]
[14025,13017,759.375,405,828,"赤焰龙吟功","飞出{0}道巨龙，对敌人造成{1}火系伤害并{3}%施加1层灼烧。\n如果敌人处于灼烧中对其造成胆摄，眩晕敌人{2}秒。\n飞龙命中目标后引发天雷，对敌人额外造成{4}%伤害。",8,"icon_s1402","S1402",1402,"1402_timeline_TD",1,1,1,6,"4;100;3;100;25",2,"102","20",1184,null,null,4,100,3,100,25,null,null,"额外引发天雷伤害","赤焰龙吟功·陆",null,599.700149925037,4,100,0.333,null,null,null,20]
[{"$nulls":8},"icon_s",{"$nulls":4},1,{"$nulls":17},"",null,""]
[{"$f":"K125*10+P125-1","v":14030},{"$f":"B118+1","v":13018},100,406,829,"朱雀燎原指","身后出现一只大手，每个手指发射{0}道烈焰，对敌人照成{1}伤害同时{2}%概率施加1层灼烧。",8,"icon_s1403",{"$f":"CONCATENATE(\"S\",K125)","v":"S1403"},1403,"1403_timeline_TD",1,1,1,1,{"$f":"_xlfn.TEXTJOIN(\";\",1,X125:AD125)","v":"1;48;25"},2,{"$f":"_xlfn.TEXTJOIN(\";\",1,IF(AN125=\"\",\"\",101),IF(AO125=\"\",\"\",102),IF(AP125=\"\",\"\",103),IF(AQ125=\"\",\"\",106),IF(AR125=\"\",\"\",107),IF(AS125=\"\",\"\",108),IF(AT125=\"\",\"\",109),IF(AU125=\"\",\"\",110))","v":""},{"$f":"_xlfn.TEXTJOIN(\";\",1,AN125:AU125)","v":""},-1,null,null,1,48,25,{"$nulls":5},"朱雀燎原指·壹",null,300,5,{"$f":"Y125","v":48},0.2]
[{"$f":"K126*10+P126-1","v":14031},{"$f":"B119+1","v":13018},150,407,830,"朱雀燎原指","身后出现一只大手，每个手指发射{0}道烈焰，对敌人照成{1}伤害同时{2}%概率施加1层灼烧。\n对有灼烧的敌人额外造成{3}%最终伤害。",8,"icon_s1403",{"$f":"CONCATENATE(\"S\",K126)","v":"S1403"},1403,"1403_timeline_TD",1,1,1,2,{"$f":"_xlfn.TEXTJOIN(\";\",1,X126:AD126)","v":"1;48;25;30"},2,{"$f":"_xlfn.TEXTJOIN(\";\",1,IF(AN126=\"\",\"\",101),IF(AO126=\"\",\"\",102),IF(AP126=\"\",\"\",103),IF(AQ126=\"\",\"\",106),IF(AR126=\"\",\"\",107),IF(AS126=\"\",\"\",108),IF(AT126=\"\",\"\",109),IF(AU126=\"\",\"\",110))","v":""},{"$f":"_xlfn.TEXTJOIN(\";\",1,AN126:AU126)","v":""},1185,null,null,1,48,25,30,null,null,null,"对灼烧的敌人额外增伤","朱雀燎原指·贰",null,400,5,48,0.4]
[14032,13018,225,408,831,"朱雀燎原指","身后出现一只大手，每个手指发射{0}道烈焰，对敌人照成{1}伤害同时{2}%概率施加1层灼烧。\n对有灼烧的敌人额外造成{3}%最终伤害。",8,"icon_s1403","S1403",1403,"1403_timeline_TD",1,1,1,3,"1;48;25;30",2,"103","10",1186,10,null,1,48,25,30,null,null,null,{"$f":"CONCATENATE(CHOOSE(S127-100,\"生命\",\"攻击\",\"防御\"),\"+\",V127,\"%\")","v":"防御+10%"},"朱雀燎原指·叁",null,400,5,48,0.4,{"$nulls":4},10]
[14033,13018,337.5,409,832,"朱雀燎原指","身后出现一只大手，每个手指发射{0}道烈焰，对敌人照成{1}伤害同时{2}%概率施加1层灼烧。\n对有灼烧的敌人额外造成{3}%最终伤害。",8,"icon_s1403","S1403",1403,"1403_timeline_TD",1,1,1,4,"1;60;25;30",2,"103","10",1187,null,null,1,60,25,30,null,null,null,"烈焰伤害提升","朱雀燎原指·肆",null,500,5,60,0.4,{"$nulls":4},10]
[14034,13018,506.25,410,833,"朱雀燎原指","身后出现一只大手，每个手指发射{0}道烈焰，对敌人照成{1}伤害同时{2}%概率施加1层灼烧。\n对有灼烧的敌人额外造成{3}%最终伤害。",8,"icon_s1403","S1403",1403,"1403_timeline_TD",1,1,1,5,"1;60;25;30",2,"103","20",1188,10,null,1,60,25,30,null,null,null,{"$f":"CONCATENATE(CHOOSE(S129-100,\"生命\",\"攻击\",\"防御\"),\"+\",V129,\"%\")","v":"防御+10%"},"朱雀燎原指·伍",null,500,5,60,0.4,{"$nulls":4},20]
[14035,13018,759.375,411,834,"朱雀燎原指","身后出现一只大手，每个手指发射{0}道烈焰，对敌人照成{1}伤害同时{2}%概率施加1层灼烧。\n对有灼烧的敌人额外造成{3}%最终伤害。\n在左右各出现一只大手发射烈焰，但每道烈焰伤害降低{4}%。",8,"icon_s1403","S1403",1403,"1403_timeline_TD",1,1,1,6,"1;60;25;30;40",2,"103","20",1189,null,null,1,60,25,30,40,null,null,"出现2只大手但单发伤害降低","朱雀燎原指·陆",null,600,10,36,0.4,{"$nulls":4},20]
[{"$nulls":8},{"$f":"CONCATENATE(\"icon_s\",K131)","v":"icon_s"},{"$nulls":4},1,{"$nulls":17},"",null,""]
[{"$f":"K132*10+P132-1","v":14040},{"$f":"B125+1","v":13019},100,412,835,"火球","发射{0}枚火球，对敌人造成{1}%伤害。又{2}概率对敌人施加1成灼烧",8,"icon_s1404",{"$f":"CONCATENATE(\"S\",K132)","v":"S1404"},1404,"1404_timeline_TD",1,1,1,1,{"$f":"_xlfn.TEXTJOIN(\";\",1,X132:AD132)","v":"3;80;40"},2,{"$f":"_xlfn.TEXTJOIN(\";\",1,IF(AN132=\"\",\"\",101),IF(AO132=\"\",\"\",102),IF(AP132=\"\",\"\",103),IF(AQ132=\"\",\"\",106),IF(AR132=\"\",\"\",107),IF(AS132=\"\",\"\",108),IF(AT132=\"\",\"\",109),IF(AU132=\"\",\"\",110))","v":""},{"$f":"_xlfn.TEXTJOIN(\";\",1,AN132:AU132)","v":""},-1,null,null,3,80,40,{"$nulls":5},"火球·壹",null,300,{"$f":"X132","v":3},{"$f":"Y132","v":80},0.2]
[{"$f":"K133*10+P133-1","v":14041},{"$f":"B126+1","v":13019},150,413,836,"火球","发射{0}枚火球，对敌人造成{1}%伤害。又{2}概率对敌人施加1成灼烧",8,"icon_s1404",{"$f":"CONCATENATE(\"S\",K133)","v":"S1404"},1404,"1404_timeline_TD",1,1,1,2,{"$f":"_xlfn.TEXTJOIN(\";\",1,X133:AD133)","v":"3;80;40"},2,{"$f":"_xlfn.TEXTJOIN(\";\",1,IF(AN133=\"\",\"\",101),IF(AO133=\"\",\"\",102),IF(AP133=\"\",\"\",103),IF(AQ133=\"\",\"\",106),IF(AR133=\"\",\"\",107),IF(AS133=\"\",\"\",108),IF(AT133=\"\",\"\",109),IF(AU133=\"\",\"\",110))","v":"103"},{"$f":"_xlfn.TEXTJOIN(\";\",1,AN133:AU133)","v":"5"},1190,5,null,3,80,40,{"$nulls":4},{"$f":"CONCATENATE(CHOOSE(S133-100,\"生命\",\"攻击\",\"防御\"),\"+\",V133,\"%\")","v":"防御+5%"},"火球·贰",null,300,3,80,0.2,{"$nulls":4},5]
[14042,13019,225,414,837,"火球","发射{0}枚火球，对敌人造成{1}%伤害。又{2}概率对敌人施加1成灼烧",8,"icon_s1404","S1404",1404,"1404_timeline_TD",1,1,1,3,"4;80;40",2,"103","5",1191,1,null,4,80,40,{"$nulls":4},{"$f":"CONCATENATE(\"火球数量+\",V134)","v":"火球数量+1"},"火球·叁",null,400,4,80,0.2,{"$nulls":4},5]
[14043,13019,337.5,415,838,"火球","发射{0}枚火球，对敌人造成{1}%伤害。又{2}概率对敌人施加1成灼烧",8,"icon_s1404","S1404",1404,"1404_timeline_TD",1,1,1,4,"4;80;40",2,"103","10",1192,5,null,4,80,40,{"$nulls":4},{"$f":"CONCATENATE(CHOOSE(S135-100,\"生命\",\"攻击\",\"防御\"),\"+\",V135,\"%\")","v":"防御+5%"},"火球·肆",null,{"$f":"IF(A135=\"\",\"\",AI135*AJ135/(1-AK135-AL135))","v":400},4,80,0.2,{"$nulls":4},10]
[14044,13019,506.25,416,839,"火球","发射{0}枚火球，对敌人造成{1}%伤害。又{2}概率对敌人施加1成灼烧",8,"icon_s1404","S1404",1404,"1404_timeline_TD",1,1,1,5,"5;80;40",2,"103","10",1193,2,null,5,80,40,{"$nulls":4},{"$f":"CONCATENATE(\"火球数量+\",V136)","v":"火球数量+2"},"火球·伍",null,500,5,80,0.2,{"$nulls":4},10]
[14045,13019,759.375,417,840,"火球","发射{0}枚火球，对敌人造成{1}%伤害。又{2}概率对敌人施加1成灼烧",8,"icon_s1404","S1404",1404,"1404_timeline_TD",1,1,1,6,"5;80;40",2,"103","15",1194,5,null,5,80,40,{"$nulls":4},{"$f":"CONCATENATE(CHOOSE(S137-100,\"生命\",\"攻击\",\"防御\"),\"+\",V137,\"%\")","v":"防御+5%"},"火球·陆",null,500,5,80,0.2,{"$nulls":4},15]
[{"$nulls":8},"icon_s",{"$nulls":4},1,{"$nulls":17},"",null,{"$f":"IF(A138=\"\",\"\",AI138*AJ138/(1-AK138-AL138))","v":""}]
[{"$f":"K139*10+P139-1","v":14050},{"$f":"B132+1","v":13020},100,418,841,"火刀","发射{0}枚火刃，对敌人造成{1}%伤害。",8,"icon_s1405",{"$f":"CONCATENATE(\"S\",K139)","v":"S1405"},1405,"1405_timeline_TD",1,1,1,1,{"$f":"_xlfn.TEXTJOIN(\";\",1,X139:AD139)","v":"6;50"},2,{"$f":"_xlfn.TEXTJOIN(\";\",1,IF(AN139=\"\",\"\",101),IF(AO139=\"\",\"\",102),IF(AP139=\"\",\"\",103),IF(AQ139=\"\",\"\",106),IF(AR139=\"\",\"\",107),IF(AS139=\"\",\"\",108),IF(AT139=\"\",\"\",109),IF(AU139=\"\",\"\",110))","v":""},{"$f":"_xlfn.TEXTJOIN(\";\",1,AN139:AU139)","v":""},-1,null,null,6,50,{"$nulls":6},"火刀·壹",null,300,{"$f":"X139","v":6},{"$f":"Y139","v":50}]
[{"$f":"K140*10+P140-1","v":14051},{"$f":"B133+1","v":13020},150,419,842,"火刀","发射{0}枚火刃，对敌人造成{1}%伤害。",8,"icon_s1405",{"$f":"CONCATENATE(\"S\",K140)","v":"S1405"},1405,"1405_timeline_TD",1,1,1,2,{"$f":"_xlfn.TEXTJOIN(\";\",1,X140:AD140)","v":"6;50"},2,{"$f":"_xlfn.TEXTJOIN(\";\",1,IF(AN140=\"\",\"\",101),IF(AO140=\"\",\"\",102),IF(AP140=\"\",\"\",103),IF(AQ140=\"\",\"\",106),IF(AR140=\"\",\"\",107),IF(AS140=\"\",\"\",108),IF(AT140=\"\",\"\",109),IF(AU140=\"\",\"\",110))","v":"101"},{"$f":"_xlfn.TEXTJOIN(\";\",1,AN140:AU140)","v":"5"},1195,5,null,6,50,{"$nulls":5},{"$f":"CONCATENATE(CHOOSE(S140-100,\"生命\",\"攻击\",\"防御\"),\"+\",V140,\"%\")","v":"生命+5%"},"火刀·贰",null,300,6,50,null,null,null,5]
[14052,13020,225,420,843,"火刀","发射{0}枚火刃，对敌人造成{1}%伤害。",8,"icon_s1405","S1405",1405,"1405_timeline_TD",1,1,1,3,"8;50",2,"101","5",1196,2,null,8,50,{"$nulls":5},{"$f":"CONCATENATE(\"火刃数量+\",V141)","v":"火刃数量+2"},"火刀·叁",null,400,8,50,null,null,null,5]
[14053,13020,337.5,421,844,"火刀","发射{0}枚火刃，对敌人造成{1}%伤害。",8,"icon_s1405","S1405",1405,"1405_timeline_TD",1,1,1,4,"8;50",2,"101","10",1197,5,null,8,50,{"$nulls":5},{"$f":"CONCATENATE(CHOOSE(S142-100,\"生命\",\"攻击\",\"防御\"),\"+\",V142,\"%\")","v":"生命+5%"},"火刀·肆",null,400,8,50,null,null,null,10]
[14054,13020,506.25,422,845,"火刀","发射{0}枚火刃，对敌人造成{1}%伤害。",8,"icon_s1405","S1405",1405,"1405_timeline_TD",1,1,1,5,"10;50",2,"101","10",1198,2,null,10,50,{"$nulls":5},{"$f":"CONCATENATE(\"火刃数量+\",V143)","v":"火刃数量+2"},"火刀·伍",null,500,10,50,null,null,null,10]
[14055,13020,759.375,423,846,"火刀","发射{0}枚火刃，对敌人造成{1}%伤害。",8,"icon_s1405","S1405",1405,"1405_timeline_TD",1,1,1,6,"10;50",2,"101","15",1199,5,null,10,50,{"$nulls":5},{"$f":"CONCATENATE(CHOOSE(S144-100,\"生命\",\"攻击\",\"防御\"),\"+\",V144,\"%\")","v":"生命+5%"},"火刀·陆",null,500,10,50,null,null,null,15]
[{"$nulls":8},"icon_s",{"$nulls":4},1,{"$nulls":17},"",null,""]
[{"$f":"K146*10+P146-1","v":15010},{"$f":"B139+1","v":13021},100,424,847,"黄尘灭魂刺","沙尘汇聚成{0}枚土刺，对敌人造成{1}%伤害，并有{2}%概率施加1层细尘。",16,"icon_s1501",{"$f":"CONCATENATE(\"S\",K146)","v":"S1501"},1501,"1501_timeline_TD",1,1,1,1,{"$f":"_xlfn.TEXTJOIN(\";\",1,X146:AD146)","v":"6;40;20"},2,{"$f":"_xlfn.TEXTJOIN(\";\",1,IF(AN146=\"\",\"\",101),IF(AO146=\"\",\"\",102),IF(AP146=\"\",\"\",103),IF(AQ146=\"\",\"\",106),IF(AR146=\"\",\"\",107),IF(AS146=\"\",\"\",108),IF(AT146=\"\",\"\",109),IF(AU146=\"\",\"\",110))","v":""},{"$f":"_xlfn.TEXTJOIN(\";\",1,AN146:AU146)","v":""},-1,null,null,6,40,20,{"$nulls":5},"黄尘灭魂刺·壹",null,300,{"$f":"X146","v":6},{"$f":"Y146","v":40},0.2]
[{"$f":"K147*10+P147-1","v":15011},{"$f":"B140+1","v":13021},150,425,848,"黄尘灭魂刺","沙尘汇聚成{0}枚土刺，对敌人造成{1}%伤害，并有{2}%概率施加1层细尘。",16,"icon_s1501",{"$f":"CONCATENATE(\"S\",K147)","v":"S1501"},1501,"1501_timeline_TD",1,1,1,2,{"$f":"_xlfn.TEXTJOIN(\";\",1,X147:AD147)","v":"6;40;20"},2,{"$f":"_xlfn.TEXTJOIN(\";\",1,IF(AN147=\"\",\"\",101),IF(AO147=\"\",\"\",102),IF(AP147=\"\",\"\",103),IF(AQ147=\"\",\"\",106),IF(AR147=\"\",\"\",107),IF(AS147=\"\",\"\",108),IF(AT147=\"\",\"\",109),IF(AU147=\"\",\"\",110))","v":""},{"$f":"_xlfn.TEXTJOIN(\";\",1,AN147:AU147)","v":""},1200,2,null,6,40,20,{"$nulls":4},{"$f":"CONCATENATE(\"土刺数量+\",V147)","v":"土刺数量+2"},"黄尘灭魂刺·贰",null,300,6,40,0.2]
[15012,13021,225,426,849,"黄尘灭魂刺","沙尘汇聚成{0}枚土刺，对敌人造成{1}%伤害，并有{2}%概率施加1层细尘。",16,"icon_s1501","S1501",1501,"1501_timeline_TD",1,1,1,3,"8;40;20",2,"101","10",1201,10,null,8,40,20,{"$nulls":4},{"$f":"CONCATENATE(CHOOSE(S148-100,\"生命\",\"攻击\",\"防御\"),\"+\",V148,\"%\")","v":"生命+10%"},{"$f":"IF(F148=\"\",\"\",CONCATENATE(F148,\"·\",CHOOSE(P148,\"壹\",\"贰\",\"叁\",\"肆\",\"伍\",\"陆\")))","v":"黄尘灭魂刺·叁"},null,400,8,40,0.2,null,null,10]
[15013,13021,337.5,427,850,"黄尘灭魂刺","沙尘汇聚成{0}枚土刺，对敌人造成{1}%伤害，并有{2}%概率施加1层细尘。",16,"icon_s1501","S1501",1501,"1501_timeline_TD",1,1,1,4,"8;40;20",2,"101","10",1202,2,null,8,40,20,{"$nulls":4},{"$f":"CONCATENATE(\"土刺数量+\",V149)","v":"土刺数量+2"},"黄尘灭魂刺·肆",null,400,8,40,0.2,null,null,10]
[15014,13021,506.25,428,851,"黄尘灭魂刺","沙尘汇聚成{0}枚土刺，对敌人造成{1}%伤害，并有{2}%概率施加1层细尘。",16,"icon_s1501","S1501",1501,"1501_timeline_TD",1,1,1,5,"10;40;20",2,"101","20",1203,10,null,10,40,20,{"$nulls":4},{"$f":"CONCATENATE(CHOOSE(S150-100,\"生命\",\"攻击\",\"防御\"),\"+\",V150,\"%\")","v":"生命+10%"},"黄尘灭魂刺·伍",null,500,10,40,0.2,null,null,20]
[15015,13021,759.375,429,852,"黄尘灭魂刺","沙尘汇聚成{0}枚土刺，对敌人造成{1}%伤害，并有{2}%概率施加1层细尘。",16,"icon_s1501","S1501",1501,"1501_timeline_TD",1,1,1,6,"10;40;20",2,"101","20",1204,2,null,10,40,20,{"$nulls":4},{"$f":"CONCATENATE(\"土刺数量+\",V151)","v":"土刺数量+2"},"黄尘灭魂刺·陆",null,500,10,40,0.2,null,null,20]
[{"$nulls":8},"icon_s",{"$nulls":4},1,{"$nulls":17},"",null,""]
[{"$f":"K153*10+P153-1","v":15020},{"$f":"B146+1","v":13022},100,430,853,"地裂屠龙斩","一柄虚空形成的大刀，横空挥砍形成{0}个刀气，对敌人造成{1}%伤害，并有{2}%概率叠加1层破甲",16,"icon_s1502",{"$f":"CONCATENATE(\"S\",K153)","v":"S1502"},1502,"1502_timeline_TD",1,1,1,1,{"$f":"_xlfn.TEXTJOIN(\";\",1,X153:AD153)","v":"3;80;30"},2,{"$f":"_xlfn.TEXTJOIN(\";\",1,IF(AN153=\"\",\"\",101),IF(AO153=\"\",\"\",102),IF(AP153=\"\",\"\",103),IF(AQ153=\"\",\"\",106),IF(AR153=\"\",\"\",107),IF(AS153=\"\",\"\",108),IF(AT153=\"\",\"\",109),IF(AU153=\"\",\"\",110))","v":""},{"$f":"_xlfn.TEXTJOIN(\";\",1,AN153:AU153)","v":""},-1,null,null,3,80,30,{"$nulls":5},"地裂屠龙斩·壹",null,{"$f":"IF(A153=\"\",\"\",AI153*AJ153/(1-AK153-AL153))","v":300},{"$f":"X153","v":3},{"$f":"Y153","v":80},0.2]
[{"$f":"K154*10+P154-1","v":15021},{"$f":"B147+1","v":13022},150,431,854,"地裂屠龙斩","一柄虚空形成的大刀，横空挥砍形成{0}个刀气，对敌人造成{1}%伤害，并有{2}%概率叠加1层破甲",16,"icon_s1502",{"$f":"CONCATENATE(\"S\",K154)","v":"S1502"},1502,"1502_timeline_TD",1,1,1,2,{"$f":"_xlfn.TEXTJOIN(\";\",1,X154:AD154)","v":"4;80;30"},2,{"$f":"_xlfn.TEXTJOIN(\";\",1,IF(AN154=\"\",\"\",101),IF(AO154=\"\",\"\",102),IF(AP154=\"\",\"\",103),IF(AQ154=\"\",\"\",106),IF(AR154=\"\",\"\",107),IF(AS154=\"\",\"\",108),IF(AT154=\"\",\"\",109),IF(AU154=\"\",\"\",110))","v":""},{"$f":"_xlfn.TEXTJOIN(\";\",1,AN154:AU154)","v":""},1205,1,null,4,80,30,{"$nulls":4},{"$f":"CONCATENATE(\"刀气数量+\",V154)","v":"刀气数量+1"},"地裂屠龙斩·贰",null,400,4,80,0.2]
[15022,13022,225,432,855,"地裂屠龙斩","一柄虚空形成的大刀，横空挥砍形成{0}个刀气，对敌人造成{1}%伤害，并有{2}%概率叠加1层破甲",16,"icon_s1502","S1502",1502,"1502_timeline_TD",1,1,1,3,"4;80;30",2,"102","10",1206,10,null,4,80,30,{"$nulls":4},{"$f":"CONCATENATE(CHOOSE(S155-100,\"生命\",\"攻击\",\"防御\"),\"+\",V155,\"%\")","v":"攻击+10%"},"地裂屠龙斩·叁",null,400,4,80,0.2,null,null,null,10]
[15023,13022,337.5,433,856,"地裂屠龙斩","一柄虚空形成的大刀，横空挥砍形成{0}个刀气，对敌人造成{1}%伤害，并有{2}%概率叠加1层破甲",16,"icon_s1502","S1502",1502,"1502_timeline_TD",1,1,1,4,"5;80;30",2,"102","10",1207,1,null,5,80,30,{"$nulls":4},{"$f":"CONCATENATE(\"刀气数量+\",V156)","v":"刀气数量+1"},"地裂屠龙斩·肆",null,500,5,80,0.2,null,null,null,10]
[15024,13022,506.25,434,857,"地裂屠龙斩","一柄虚空形成的大刀，横空挥砍形成{0}个刀气，对敌人造成{1}%伤害，并有{2}%概率叠加1层破甲",16,"icon_s1502","S1502",1502,"1502_timeline_TD",1,1,1,5,"5;80;30",2,"102","20",1208,10,null,5,80,30,{"$nulls":4},{"$f":"CONCATENATE(CHOOSE(S157-100,\"生命\",\"攻击\",\"防御\"),\"+\",V157,\"%\")","v":"攻击+10%"},"地裂屠龙斩·伍",null,500,5,80,0.2,null,null,null,20]
[15025,13022,759.375,435,858,"地裂屠龙斩","一柄虚空形成的大刀，横空挥砍形成{0}个刀气，对敌人造成{1}%伤害，并有{2}%概率叠加1层破甲",16,"icon_s1502","S1502",1502,"1502_timeline_TD",1,1,1,6,"6;80;30",2,"102","20",1209,1,null,6,80,30,{"$nulls":4},{"$f":"CONCATENATE(\"刀气数量+\",V158)","v":"刀气数量+1"},"地裂屠龙斩·陆",null,600,6,80,0.2,null,null,null,20]
[{"$nulls":8},"icon_s",{"$nulls":4},1,{"$nulls":17},"",null,""]
[null,{"$f":"B153+1","v":13023},100,436,859,null,"占位",16,"icon_s1503",{"$f":"CONCATENATE(\"S\",K160)","v":"S1503"},1503,"bingzhui_timeline_TD",1,1,1,1,{"$f":"_xlfn.TEXTJOIN(\";\",1,X160:AD160)","v":"3;120;30"},2,{"$f":"_xlfn.TEXTJOIN(\";\",1,IF(AN160=\"\",\"\",101),IF(AO160=\"\",\"\",102),IF(AP160=\"\",\"\",103),IF(AQ160=\"\",\"\",106),IF(AR160=\"\",\"\",107),IF(AS160=\"\",\"\",108),IF(AT160=\"\",\"\",109),IF(AU160=\"\",\"\",110))","v":""},{"$f":"_xlfn.TEXTJOIN(\";\",1,AN160:AU160)","v":""},-1,null,null,3,120,30,{"$nulls":5},{"$f":"IF(F160=\"\",\"\",CONCATENATE(F160,\"·\",CHOOSE(P160,\"壹\",\"贰\",\"叁\",\"肆\",\"伍\",\"陆\")))","v":""},null,"",{"$f":"X160","v":3},{"$f":"Y160","v":120}]
[null,{"$f":"B154+1","v":13023},150,437,860,null,"占位",16,"icon_s1503",{"$f":"CONCATENATE(\"S\",K161)","v":"S1503"},1503,"bingzhui_timeline_TD",1,1,1,2,{"$f":"_xlfn.TEXTJOIN(\";\",1,X161:AD161)","v":"4;120;30"},2,{"$f":"_xlfn.TEXTJOIN(\";\",1,IF(AN161=\"\",\"\",101),IF(AO161=\"\",\"\",102),IF(AP161=\"\",\"\",103),IF(AQ161=\"\",\"\",106),IF(AR161=\"\",\"\",107),IF(AS161=\"\",\"\",108),IF(AT161=\"\",\"\",109),IF(AU161=\"\",\"\",110))","v":""},{"$f":"_xlfn.TEXTJOIN(\";\",1,AN161:AU161)","v":""},1210,1,null,4,120,30,{"$nulls":4},{"$f":"CONCATENATE(\"刀气数量+\",V161)","v":"刀气数量+1"},"",null,"",4,120]
[null,13023,225,438,861,null,"占位",16,"icon_s1503","S1503",1503,"bingzhui_timeline_TD",1,1,1,3,"4;120;30",2,"103","10",1211,10,null,4,120,30,{"$nulls":4},{"$f":"CONCATENATE(CHOOSE(S162-100,\"生命\",\"攻击\",\"防御\"),\"+\",V162,\"%\")","v":"防御+10%"},"",null,"",4,120,{"$nulls":5},10]
[null,13023,337.5,439,862,null,"占位",16,"icon_s1503","S1503",1503,"bingzhui_timeline_TD",1,1,1,4,"5;120;30",2,"103","10",1212,2,null,5,120,30,{"$nulls":4},{"$f":"CONCATENATE(\"刀气数量+\",V163)","v":"刀气数量+2"},"",null,"",5,120,{"$nulls":5},10]
[null,13023,506.25,440,863,null,"占位",16,"icon_s1503","S1503",1503,"bingzhui_timeline_TD",1,1,1,5,"5;120;30",2,"103","20",1213,10,null,5,120,30,{"$nulls":4},{"$f":"CONCATENATE(CHOOSE(S164-100,\"生命\",\"攻击\",\"防御\"),\"+\",V164,\"%\")","v":"防御+10%"},"",null,"",5,120,{"$nulls":5},20]
[null,13023,759.375,441,864,null,"占位",16,"icon_s1503","S1503",1503,"bingzhui_timeline_TD",1,1,1,6,"6;120;30",2,"103","20",1214,3,null,6,120,30,{"$nulls":4},{"$f":"CONCATENATE(\"刀气数量+\",V165)","v":"刀气数量+3"},"",null,"",6,120,{"$nulls":5},20]
[{"$nulls":8},"icon_s",{"$nulls":4},1,{"$nulls":17},"",null,""]
[{"$f":"K167*10+P167-1","v":15040},{"$f":"B160+1","v":13024},100,436,859,"落石","从天而降{0}枚落石，对敌人造成{1}%伤害。",16,"icon_s1504",{"$f":"CONCATENATE(\"S\",K167)","v":"S1504"},1504,"1504_timeline_TD",1,1,1,1,{"$f":"_xlfn.TEXTJOIN(\";\",1,X167:AD167)","v":"3;100"},2,{"$f":"_xlfn.TEXTJOIN(\";\",1,IF(AN167=\"\",\"\",101),IF(AO167=\"\",\"\",102),IF(AP167=\"\",\"\",103),IF(AQ167=\"\",\"\",106),IF(AR167=\"\",\"\",107),IF(AS167=\"\",\"\",108),IF(AT167=\"\",\"\",109),IF(AU167=\"\",\"\",110))","v":""},{"$f":"_xlfn.TEXTJOIN(\";\",1,AN167:AU167)","v":""},-1,null,null,3,100,{"$nulls":6},"落石·壹",null,300,{"$f":"X167","v":3},{"$f":"Y167","v":100}]
[{"$f":"K168*10+P168-1","v":15041},{"$f":"B161+1","v":13024},150,437,860,"落石","从天而降{0}枚落石，对敌人造成{1}%伤害。",16,"icon_s1504",{"$f":"CONCATENATE(\"S\",K168)","v":"S1504"},1504,"1504_timeline_TD",1,1,1,2,{"$f":"_xlfn.TEXTJOIN(\";\",1,X168:AD168)","v":"3;100"},2,{"$f":"_xlfn.TEXTJOIN(\";\",1,IF(AN168=\"\",\"\",101),IF(AO168=\"\",\"\",102),IF(AP168=\"\",\"\",103),IF(AQ168=\"\",\"\",106),IF(AR168=\"\",\"\",107),IF(AS168=\"\",\"\",108),IF(AT168=\"\",\"\",109),IF(AU168=\"\",\"\",110))","v":"102"},{"$f":"_xlfn.TEXTJOIN(\";\",1,AN168:AU168)","v":"5"},1215,5,null,3,100,{"$nulls":5},{"$f":"CONCATENATE(CHOOSE(S168-100,\"生命\",\"攻击\",\"防御\"),\"+\",V168,\"%\")","v":"攻击+5%"},"落石·贰",null,300,3,100,{"$nulls":4},5]
[15042,13024,225,438,861,"落石","从天而降{0}枚落石，对敌人造成{1}%伤害。",16,"icon_s1504","S1504",1504,"1504_timeline_TD",1,1,1,3,"4;100",2,"102","5",1216,1,null,4,100,{"$nulls":5},{"$f":"CONCATENATE(\"落石数量+\",V169)","v":"落石数量+1"},"落石·叁",null,400,4,100,{"$nulls":4},5]
[15043,13024,337.5,439,862,"落石","从天而降{0}枚落石，对敌人造成{1}%伤害。",16,"icon_s1504","S1504",1504,"1504_timeline_TD",1,1,1,4,"4;100",2,"102","10",1217,5,null,4,100,{"$nulls":5},{"$f":"CONCATENATE(CHOOSE(S170-100,\"生命\",\"攻击\",\"防御\"),\"+\",V170,\"%\")","v":"攻击+5%"},"落石·肆",null,400,4,100,{"$nulls":4},10]
[15044,13024,506.25,440,863,"落石","从天而降{0}枚落石，对敌人造成{1}%伤害。",16,"icon_s1504","S1504",1504,"1504_timeline_TD",1,1,1,5,"5;100",2,"102","10",1218,1,null,5,100,{"$nulls":5},{"$f":"CONCATENATE(\"落石数量+\",V171)","v":"落石数量+1"},"落石·伍",null,500,5,100,{"$nulls":4},10]
[15045,13024,759.375,441,864,"落石","从天而降{0}枚落石，对敌人造成{1}%伤害。",16,"icon_s1504","S1504",1504,"1504_timeline_TD",1,1,1,6,"5;100",2,"102","15",1219,5,null,5,100,{"$nulls":5},{"$f":"CONCATENATE(CHOOSE(S172-100,\"生命\",\"攻击\",\"防御\"),\"+\",V172,\"%\")","v":"攻击+5%"},"落石·陆",null,500,5,100,{"$nulls":4},15]
[{"$nulls":8},"icon_s",{"$nulls":4},1,{"$nulls":17},"",null,""]
[{"$f":"K174*10+P174-1","v":15050},{"$f":"B167+1","v":13025},100,442,865,"小石头","发射{0}枚小石头，对敌人造成{1}%伤害。",16,"icon_s1505",{"$f":"CONCATENATE(\"S\",K174)","v":"S1505"},1505,"1505_timeline_TD",1,1,1,1,{"$f":"_xlfn.TEXTJOIN(\";\",1,X174:AD174)","v":"9;35"},2,{"$f":"_xlfn.TEXTJOIN(\";\",1,IF(AN174=\"\",\"\",101),IF(AO174=\"\",\"\",102),IF(AP174=\"\",\"\",103),IF(AQ174=\"\",\"\",106),IF(AR174=\"\",\"\",107),IF(AS174=\"\",\"\",108),IF(AT174=\"\",\"\",109),IF(AU174=\"\",\"\",110))","v":""},{"$f":"_xlfn.TEXTJOIN(\";\",1,AN174:AU174)","v":""},-1,null,null,9,35,{"$nulls":6},"小石头·壹",null,{"$f":"IF(A174=\"\",\"\",AI174*AJ174/(1-AK174-AL174))","v":315},{"$f":"X174","v":9},{"$f":"Y174","v":35}]
[{"$f":"K175*10+P175-1","v":15051},{"$f":"B168+1","v":13025},150,443,866,"小石头","发射{0}枚小石头，对敌人造成{1}%伤害。",16,"icon_s1505",{"$f":"CONCATENATE(\"S\",K175)","v":"S1505"},1505,"1505_timeline_TD",1,1,1,2,{"$f":"_xlfn.TEXTJOIN(\";\",1,X175:AD175)","v":"9;35"},2,{"$f":"_xlfn.TEXTJOIN(\";\",1,IF(AN175=\"\",\"\",101),IF(AO175=\"\",\"\",102),IF(AP175=\"\",\"\",103),IF(AQ175=\"\",\"\",106),IF(AR175=\"\",\"\",107),IF(AS175=\"\",\"\",108),IF(AT175=\"\",\"\",109),IF(AU175=\"\",\"\",110))","v":"101"},{"$f":"_xlfn.TEXTJOIN(\";\",1,AN175:AU175)","v":"5"},1220,5,null,9,35,{"$nulls":5},{"$f":"CONCATENATE(CHOOSE(S175-100,\"生命\",\"攻击\",\"防御\"),\"+\",V175,\"%\")","v":"生命+5%"},"小石头·贰",null,315,9,35,null,null,null,5]
[15052,13025,225,444,867,"小石头","发射{0}枚小石头，对敌人造成{1}%伤害。",16,"icon_s1505","S1505",1505,"1505_timeline_TD",1,1,1,3,"12;35",2,"101","5",1221,3,null,12,35,{"$nulls":5},{"$f":"CONCATENATE(\"小石头数量+\",V176)","v":"小石头数量+3"},"小石头·叁",null,420,12,35,null,null,null,5]
[15053,13025,337.5,445,868,"小石头","发射{0}枚小石头，对敌人造成{1}%伤害。",16,"icon_s1505","S1505",1505,"1505_timeline_TD",1,1,1,4,"12;35",2,"101","10",1222,5,null,12,35,{"$nulls":5},{"$f":"CONCATENATE(CHOOSE(S177-100,\"生命\",\"攻击\",\"防御\"),\"+\",V177,\"%\")","v":"生命+5%"},"小石头·肆",null,420,12,35,null,null,null,10]
[15054,13025,506.25,446,869,"小石头","发射{0}枚小石头，对敌人造成{1}%伤害。",16,"icon_s1505","S1505",1505,"1505_timeline_TD",1,1,1,5,"15;35",2,"101","10",1223,3,null,15,35,{"$nulls":5},{"$f":"CONCATENATE(\"小石头数量+\",V178)","v":"小石头数量+3"},"小石头·伍",null,525,15,35,null,null,null,10]
[15055,13025,759.375,447,870,"小石头","发射{0}枚小石头，对敌人造成{1}%伤害。",16,"icon_s1505","S1505",1505,"1505_timeline_TD",1,1,1,6,"15;35",2,"101","15",1224,5,null,15,35,{"$nulls":5},{"$f":"CONCATENATE(CHOOSE(S179-100,\"生命\",\"攻击\",\"防御\"),\"+\",V179,\"%\")","v":"生命+5%"},"小石头·陆",null,525,15,35,null,null,null,15]
[{"$nulls":8},"icon_s",{"$nulls":4},1,{"$nulls":17},"",null,""]
[null,"英雄-被动功法区域",{"$nulls":6},"icon_s",{"$nulls":4},1,{"$nulls":17},"",null,""]
[{"$f":"K182*10+P182-1","v":20010},13006,100,448,871,"天衍星辰诀","引星辰之力入体，增强玩家体魄，\n让后方槽位的功法无视防御性护盾（功法法宝带来的防护罩、自身护盾）",0,"icon_s2001",{"$f":"CONCATENATE(\"S\",K182)","v":"S2001"},2001,null,1,1,2,1,{"$f":"_xlfn.TEXTJOIN(\";\",1,X182:AD182)","v":""},0,{"$f":"_xlfn.TEXTJOIN(\";\",1,IF(AN182=\"\",\"\",101),IF(AO182=\"\",\"\",102),IF(AP182=\"\",\"\",103),IF(AQ182=\"\",\"\",106),IF(AR182=\"\",\"\",107),IF(AS182=\"\",\"\",108),IF(AT182=\"\",\"\",109),IF(AU182=\"\",\"\",110))","v":""},{"$f":"_xlfn.TEXTJOIN(\";\",1,AN182:AU182)","v":""},-1,null,-1,{"$nulls":8},"天衍星辰诀·壹",null,0]
[{"$f":"K183*10+P183-1","v":20011},13006,150,449,872,"天衍星辰诀","引星辰之力入体，增强玩家体魄，\n让后方槽位的功法无视防御性护盾（功法法宝带来的防护罩、自身护盾）",0,"icon_s2001",{"$f":"CONCATENATE(\"S\",K183)","v":"S2001"},2001,null,1,1,2,2,{"$f":"_xlfn.TEXTJOIN(\";\",1,X183:AD183)","v":""},0,{"$f":"_xlfn.TEXTJOIN(\";\",1,IF(AN183=\"\",\"\",101),IF(AO183=\"\",\"\",102),IF(AP183=\"\",\"\",103),IF(AQ183=\"\",\"\",106),IF(AR183=\"\",\"\",107),IF(AS183=\"\",\"\",108),IF(AT183=\"\",\"\",109),IF(AU183=\"\",\"\",110))","v":"103"},{"$f":"_xlfn.TEXTJOIN(\";\",1,AN183:AU183)","v":"3"},1225,3,-1,{"$nulls":7},{"$f":"CONCATENATE(CHOOSE(S183-100,\"生命\",\"攻击\",\"防御\"),\"+\",V183,\"%\")","v":"防御+3%"},"天衍星辰诀·贰",null,0,{"$nulls":7},3]
[20012,13006,225,450,873,"天衍星辰诀","引星辰之力入体，增强玩家体魄，\n让后方槽位的功法无视防御性护盾（功法法宝带来的防护罩、自身护盾）",0,"icon_s2001","S2001",2001,null,1,1,2,3,"",0,"103","6",1226,3,-1,{"$nulls":7},{"$f":"CONCATENATE(CHOOSE(S184-100,\"生命\",\"攻击\",\"防御\"),\"+\",V184,\"%\")","v":"防御+3%"},"天衍星辰诀·叁",null,0,{"$nulls":7},6]
[20013,13006,337.5,451,874,"天衍星辰诀","引星辰之力入体，增强玩家体魄，\n让后方槽位的功法无视防御性护盾（功法法宝带来的防护罩、自身护盾）",0,"icon_s2001","S2001",2001,null,1,1,2,4,"",0,"103","9",1227,3,-1,{"$nulls":7},{"$f":"CONCATENATE(CHOOSE(S185-100,\"生命\",\"攻击\",\"防御\"),\"+\",V185,\"%\")","v":"防御+3%"},"天衍星辰诀·肆",null,0,{"$nulls":7},9]
[20014,13006,506.25,452,875,"天衍星辰诀","引星辰之力入体，增强玩家体魄，\n让后方槽位的功法无视防御性护盾（功法法宝带来的防护罩、自身护盾）",0,"icon_s2001","S2001",2001,null,1,1,2,5,"",0,"103","12",1228,3,-1,{"$nulls":7},{"$f":"CONCATENATE(CHOOSE(S186-100,\"生命\",\"攻击\",\"防御\"),\"+\",V186,\"%\")","v":"防御+3%"},"天衍星辰诀·伍",null,0,{"$nulls":7},12]
[20015,13006,759.375,453,876,"天衍星辰诀","引星辰之力入体，增强玩家体魄，\n让后方槽位的功法无视防御性护盾（功法法宝带来的防护罩、自身护盾）",0,"icon_s2001","S2001",2001,null,1,1,2,6,"",0,"103","12",1229,null,-1,{"$nulls":7},"穿过护盾时额外对护盾照成等额伤害","天衍星辰诀·陆",null,0,{"$nulls":7},12]
[{"$nulls":8},"icon_s",{"$nulls":4},1,{"$nulls":17},"",null,""]
[{"$f":"K189*10+P189-1","v":20020},13006,100,454,877,"法宝秘籍","后方槽位技能在击中目标时，为法宝提供{0}%充能",0,"icon_s2002",{"$f":"CONCATENATE(\"S\",K189)","v":"S2002"},{"$f":"K182+1","v":2002},null,1,1,2,1,{"$f":"_xlfn.TEXTJOIN(\";\",1,X189:AD189)","v":"1"},0,{"$f":"_xlfn.TEXTJOIN(\";\",1,IF(AN189=\"\",\"\",101),IF(AO189=\"\",\"\",102),IF(AP189=\"\",\"\",103),IF(AQ189=\"\",\"\",106),IF(AR189=\"\",\"\",107),IF(AS189=\"\",\"\",108),IF(AT189=\"\",\"\",109),IF(AU189=\"\",\"\",110))","v":""},{"$f":"_xlfn.TEXTJOIN(\";\",1,AN189:AU189)","v":""},-1,null,-1,1,{"$nulls":7},"法宝秘籍·壹",null,0]
[{"$f":"K190*10+P190-1","v":20021},13006,150,455,878,"法宝秘籍","后方槽位技能在击中目标时，为法宝提供{0}%充能",0,"icon_s2002",{"$f":"CONCATENATE(\"S\",K190)","v":"S2002"},{"$f":"K183+1","v":2002},null,1,1,2,2,{"$f":"_xlfn.TEXTJOIN(\";\",1,X190:AD190)","v":"1"},0,{"$f":"_xlfn.TEXTJOIN(\";\",1,IF(AN190=\"\",\"\",101),IF(AO190=\"\",\"\",102),IF(AP190=\"\",\"\",103),IF(AQ190=\"\",\"\",106),IF(AR190=\"\",\"\",107),IF(AS190=\"\",\"\",108),IF(AT190=\"\",\"\",109),IF(AU190=\"\",\"\",110))","v":"102"},{"$f":"_xlfn.TEXTJOIN(\";\",1,AN190:AU190)","v":"3"},1230,3,-1,1,{"$nulls":6},{"$f":"CONCATENATE(CHOOSE(S190-100,\"生命\",\"攻击\",\"防御\"),\"+\",V190,\"%\")","v":"攻击+3%"},"法宝秘籍·贰",null,0,{"$nulls":6},3]
[20022,13006,225,456,879,"法宝秘籍","后方槽位技能在击中目标时，为法宝提供{0}%充能",0,"icon_s2002","S2002",2002,null,1,1,2,3,"1",0,"102","6",1231,3,-1,1,{"$nulls":6},{"$f":"CONCATENATE(CHOOSE(S191-100,\"生命\",\"攻击\",\"防御\"),\"+\",V191,\"%\")","v":"攻击+3%"},"法宝秘籍·叁",null,0,{"$nulls":6},6]
[20023,13006,337.5,457,880,"法宝秘籍","后方槽位技能在击中目标时，为法宝提供{0}%充能",0,"icon_s2002","S2002",2002,null,1,1,2,4,"1",0,"102","9",1232,3,-1,1,{"$nulls":6},{"$f":"CONCATENATE(CHOOSE(S192-100,\"生命\",\"攻击\",\"防御\"),\"+\",V192,\"%\")","v":"攻击+3%"},"法宝秘籍·肆",null,0,{"$nulls":6},9]
[20024,13006,506.25,458,881,"法宝秘籍","后方槽位技能在击中目标时，为法宝提供{0}%充能",0,"icon_s2002","S2002",2002,null,1,1,2,5,"1",0,"102","12",1233,3,-1,1,{"$nulls":6},{"$f":"CONCATENATE(CHOOSE(S193-100,\"生命\",\"攻击\",\"防御\"),\"+\",V193,\"%\")","v":"攻击+3%"},"法宝秘籍·伍",null,0,{"$nulls":6},12]
[20025,13006,759.375,459,882,"法宝秘籍","后方槽位技能在击中目标时，为法宝提供{0}%充能。\n法宝可以瞬间施放，且规避法宝对拼。",0,"icon_s2002","S2002",2002,null,1,1,2,6,"3",0,"102","12",1234,null,-1,3,{"$nulls":6},"充能增效，法宝瞬发且不对拼","法宝秘籍·陆",null,0,{"$nulls":6},12]
[{"$nulls":8},{"$f":"CONCATENATE(\"icon_s\",K195)","v":"icon_s"},{"$nulls":4},1,{"$nulls":17},"",null,""]
[{"$f":"K196*10+P196-1","v":20030},13011,100,460,883,"崩脉决","前方功法造成伤害时有{0}%概率施加一层对应属性的伤势",0,"icon_s2003",{"$f":"CONCATENATE(\"S\",K196)","v":"S2003"},{"$f":"K189+1","v":2003},null,1,1,2,1,{"$f":"_xlfn.TEXTJOIN(\";\",1,X196:AD196)","v":"50"},0,{"$f":"_xlfn.TEXTJOIN(\";\",1,IF(AN196=\"\",\"\",101),IF(AO196=\"\",\"\",102),IF(AP196=\"\",\"\",103),IF(AQ196=\"\",\"\",106),IF(AR196=\"\",\"\",107),IF(AS196=\"\",\"\",108),IF(AT196=\"\",\"\",109),IF(AU196=\"\",\"\",110))","v":""},{"$f":"_xlfn.TEXTJOIN(\";\",1,AN196:AU196)","v":""},-1,null,1,50,{"$nulls":7},"崩脉决·壹",null,0]
[{"$f":"K197*10+P197-1","v":20031},13011,150,461,884,"崩脉决","前方功法造成伤害时有{0}%概率施加一层对应属性的伤势",0,"icon_s2003",{"$f":"CONCATENATE(\"S\",K197)","v":"S2003"},{"$f":"K190+1","v":2003},null,1,1,2,2,{"$f":"_xlfn.TEXTJOIN(\";\",1,X197:AD197)","v":"50"},0,{"$f":"_xlfn.TEXTJOIN(\";\",1,IF(AN197=\"\",\"\",101),IF(AO197=\"\",\"\",102),IF(AP197=\"\",\"\",103),IF(AQ197=\"\",\"\",106),IF(AR197=\"\",\"\",107),IF(AS197=\"\",\"\",108),IF(AT197=\"\",\"\",109),IF(AU197=\"\",\"\",110))","v":"103"},{"$f":"_xlfn.TEXTJOIN(\";\",1,AN197:AU197)","v":"3"},1235,3,1,50,{"$nulls":6},{"$f":"CONCATENATE(CHOOSE(S197-100,\"生命\",\"攻击\",\"防御\"),\"+\",V197,\"%\")","v":"防御+3%"},"崩脉决·贰",null,0,{"$nulls":7},3]
[20032,13011,225,462,885,"崩脉决","前方功法造成伤害时有{0}%概率施加一层对应属性的伤势",0,"icon_s2003","S2003",2003,null,1,1,2,3,"50",0,"103","6",1236,3,1,50,{"$nulls":6},{"$f":"CONCATENATE(CHOOSE(S198-100,\"生命\",\"攻击\",\"防御\"),\"+\",V198,\"%\")","v":"防御+3%"},"崩脉决·叁",null,0,{"$nulls":7},6]
[20033,13011,337.5,463,886,"崩脉决","前方功法造成伤害时有{0}%概率施加一层对应属性的伤势",0,"icon_s2003","S2003",2003,null,1,1,2,4,"50",0,"103","9",1237,3,1,50,{"$nulls":6},{"$f":"CONCATENATE(CHOOSE(S199-100,\"生命\",\"攻击\",\"防御\"),\"+\",V199,\"%\")","v":"防御+3%"},"崩脉决·肆",null,{"$f":"IF(A199=\"\",\"\",AI199*AJ199/(1-AK199-AL199))","v":0},{"$nulls":7},9]
[20034,13011,506.25,464,887,"崩脉决","前方功法造成伤害时有{0}%概率施加一层对应属性的伤势",0,"icon_s2003","S2003",2003,null,1,1,2,5,"50",0,"103","12",1238,3,1,50,{"$nulls":6},{"$f":"CONCATENATE(CHOOSE(S200-100,\"生命\",\"攻击\",\"防御\"),\"+\",V200,\"%\")","v":"防御+3%"},"崩脉决·伍",null,0,{"$nulls":7},12]
[20035,13011,759.375,465,888,"崩脉决","前方功法造成伤害时有{0}%概率施加一层对应属性的伤势",0,"icon_s2003","S2003",2003,null,1,1,2,6,"100",0,"103","12",1239,null,1,100,{"$nulls":6},"触发概率提升","崩脉决·陆",null,0,{"$nulls":7},12]
[{"$nulls":8},"icon_s",{"$nulls":4},1,{"$nulls":17},"",null,""]
[{"$f":"K203*10+P203-1","v":20040},13007,100,466,889,"两仪决","前后方法宝如果相生则双生效果增强{0}%",0,"icon_s2004",{"$f":"CONCATENATE(\"S\",K203)","v":"S2004"},{"$f":"K196+1","v":2004},null,1,1,2,1,{"$f":"_xlfn.TEXTJOIN(\";\",1,X203:AD203)","v":"30"},0,{"$f":"_xlfn.TEXTJOIN(\";\",1,IF(AN203=\"\",\"\",101),IF(AO203=\"\",\"\",102),IF(AP203=\"\",\"\",103),IF(AQ203=\"\",\"\",106),IF(AR203=\"\",\"\",107),IF(AS203=\"\",\"\",108),IF(AT203=\"\",\"\",109),IF(AU203=\"\",\"\",110))","v":""},{"$f":"_xlfn.TEXTJOIN(\";\",1,AN203:AU203)","v":""},-1,null,"1;-1",30,{"$nulls":7},"两仪决·壹",null,0]
[{"$f":"K204*10+P204-1","v":20041},13007,150,467,890,"两仪决","前后方法宝如果相生则双生效果增强{0}%",0,"icon_s2004",{"$f":"CONCATENATE(\"S\",K204)","v":"S2004"},{"$f":"K197+1","v":2004},null,1,1,2,2,{"$f":"_xlfn.TEXTJOIN(\";\",1,X204:AD204)","v":"30"},0,{"$f":"_xlfn.TEXTJOIN(\";\",1,IF(AN204=\"\",\"\",101),IF(AO204=\"\",\"\",102),IF(AP204=\"\",\"\",103),IF(AQ204=\"\",\"\",106),IF(AR204=\"\",\"\",107),IF(AS204=\"\",\"\",108),IF(AT204=\"\",\"\",109),IF(AU204=\"\",\"\",110))","v":"101"},{"$f":"_xlfn.TEXTJOIN(\";\",1,AN204:AU204)","v":"3"},1240,3,"1;-1",30,{"$nulls":6},{"$f":"CONCATENATE(CHOOSE(S204-100,\"生命\",\"攻击\",\"防御\"),\"+\",V204,\"%\")","v":"生命+3%"},"两仪决·贰",null,0,{"$nulls":5},3]
[20042,13007,225,468,891,"两仪决","前后方法宝如果相生则双生效果增强{0}%",0,"icon_s2004","S2004",2004,null,1,1,2,3,"30",0,"101","6",1241,3,"1;-1",30,{"$nulls":6},{"$f":"CONCATENATE(CHOOSE(S205-100,\"生命\",\"攻击\",\"防御\"),\"+\",V205,\"%\")","v":"生命+3%"},"两仪决·叁",null,0,{"$nulls":5},6]
[20043,13007,337.5,469,892,"两仪决","前后方法宝如果相生则双生效果增强{0}%",0,"icon_s2004","S2004",2004,null,1,1,2,4,"30",0,"101","9",1242,3,"1;-1",30,{"$nulls":6},{"$f":"CONCATENATE(CHOOSE(S206-100,\"生命\",\"攻击\",\"防御\"),\"+\",V206,\"%\")","v":"生命+3%"},"两仪决·肆",null,0,{"$nulls":5},9]
[20044,13007,506.25,470,893,"两仪决","前后方法宝如果相生则双生效果增强{0}%",0,"icon_s2004","S2004",2004,null,1,1,2,5,"30",0,"101","12",1243,3,"1;-1",30,{"$nulls":6},{"$f":"CONCATENATE(CHOOSE(S207-100,\"生命\",\"攻击\",\"防御\"),\"+\",V207,\"%\")","v":"生命+3%"},"两仪决·伍",null,0,{"$nulls":5},12]
[20045,13007,759.375,471,894,"两仪决","前后方法宝如果相生则双生效果增强{0}%。\n前后方法宝如果不相生则双生效果增加{1}%。\n前方后法宝如果相克则双生效果增强{2}%。",0,"icon_s2004","S2004",2004,null,1,1,2,6,"30;15;10",0,"101","12",1244,null,"1;-1",30,15,10,{"$nulls":4},"不相生甚至相克功法也生效","两仪决·陆",null,0,{"$nulls":5},12]
[{"$nulls":8},"icon_s",{"$nulls":4},1,{"$nulls":17},"",null,""]
[{"$f":"K210*10+P210-1","v":20050},13008,100,472,895,"火焰决","每层经过火经脉时使火系功法伤害提升{0}%，最多叠加{1}层",0,"icon_s2005",{"$f":"CONCATENATE(\"S\",K210)","v":"S2005"},{"$f":"K203+1","v":2005},null,1,1,2,1,{"$f":"_xlfn.TEXTJOIN(\";\",1,X210:AD210)","v":"1;20"},0,{"$f":"_xlfn.TEXTJOIN(\";\",1,IF(AN210=\"\",\"\",101),IF(AO210=\"\",\"\",102),IF(AP210=\"\",\"\",103),IF(AQ210=\"\",\"\",106),IF(AR210=\"\",\"\",107),IF(AS210=\"\",\"\",108),IF(AT210=\"\",\"\",109),IF(AU210=\"\",\"\",110))","v":""},{"$f":"_xlfn.TEXTJOIN(\";\",1,AN210:AU210)","v":""},-1,null,null,1,20,{"$nulls":6},"火焰决·壹",null,0]
[{"$f":"K211*10+P211-1","v":20051},13008,150,473,896,"火焰决","每层经过火经脉时使火系功法伤害提升{0}%，最多叠加{1}层",0,"icon_s2005",{"$f":"CONCATENATE(\"S\",K211)","v":"S2005"},{"$f":"K204+1","v":2005},null,1,1,2,2,{"$f":"_xlfn.TEXTJOIN(\";\",1,X211:AD211)","v":"1;20"},0,{"$f":"_xlfn.TEXTJOIN(\";\",1,IF(AN211=\"\",\"\",101),IF(AO211=\"\",\"\",102),IF(AP211=\"\",\"\",103),IF(AQ211=\"\",\"\",106),IF(AR211=\"\",\"\",107),IF(AS211=\"\",\"\",108),IF(AT211=\"\",\"\",109),IF(AU211=\"\",\"\",110))","v":"102"},{"$f":"_xlfn.TEXTJOIN(\";\",1,AN211:AU211)","v":"3"},1245,3,null,1,20,{"$nulls":5},{"$f":"CONCATENATE(CHOOSE(S211-100,\"生命\",\"攻击\",\"防御\"),\"+\",V211,\"%\")","v":"攻击+3%"},"火焰决·贰",null,0,{"$nulls":6},3]
[20052,13008,225,474,897,"火焰决","每层经过火经脉时使火系功法伤害提升{0}%，最多叠加{1}层",0,"icon_s2005","S2005",2005,null,1,1,2,3,"1;20",0,"102","6",1246,3,null,1,20,{"$nulls":5},{"$f":"CONCATENATE(CHOOSE(S212-100,\"生命\",\"攻击\",\"防御\"),\"+\",V212,\"%\")","v":"攻击+3%"},"火焰决·叁",null,0,{"$nulls":6},6]
[20053,13008,337.5,475,898,"火焰决","每层经过火经脉时使火系功法伤害提升{0}%，最多叠加{1}层",0,"icon_s2005","S2005",2005,null,1,1,2,4,"1;20",0,"102","9",1247,3,null,1,20,{"$nulls":5},{"$f":"CONCATENATE(CHOOSE(S213-100,\"生命\",\"攻击\",\"防御\"),\"+\",V213,\"%\")","v":"攻击+3%"},"火焰决·肆",null,0,{"$nulls":6},9]
[20054,13008,506.25,476,899,"火焰决","每层经过火经脉时使火系功法伤害提升{0}%，最多叠加{1}层",0,"icon_s2005","S2005",2005,null,1,1,2,5,"1;20",0,"102","12",1248,3,null,1,20,{"$nulls":5},{"$f":"CONCATENATE(CHOOSE(S214-100,\"生命\",\"攻击\",\"防御\"),\"+\",V214,\"%\")","v":"攻击+3%"},"火焰决·伍",null,0,{"$nulls":6},12]
[20055,13008,759.375,477,900,"火焰决","每层经过火经脉时使火系功法伤害提升{0}%，最多叠加{1}层。\n当达到满层后，任何火系功法命中时都会施加{1}层灼烧。",0,"icon_s2005","S2005",2005,null,1,1,2,6,"2;20;1",0,"102","12",1249,null,null,2,20,1,{"$nulls":4},"满层时施加灼烧","火焰决·陆",null,0,{"$nulls":6},12]
[{"$nulls":8},"icon_s",{"$nulls":4},1,{"$nulls":17},"",null,""]
[{"$f":"K217*10+P217-1","v":20060},13009,100,478,901,"乾坤巨灵诀","后方槽位第一个技能体型巨大化，且在对碰中强度增加{0}%",0,"icon_s2006",{"$f":"CONCATENATE(\"S\",K217)","v":"S2006"},{"$f":"K210+1","v":2006},null,1,1,2,1,{"$f":"_xlfn.TEXTJOIN(\";\",1,X217:AD217)","v":"30;30"},0,{"$f":"_xlfn.TEXTJOIN(\";\",1,IF(AN217=\"\",\"\",101),IF(AO217=\"\",\"\",102),IF(AP217=\"\",\"\",103),IF(AQ217=\"\",\"\",106),IF(AR217=\"\",\"\",107),IF(AS217=\"\",\"\",108),IF(AT217=\"\",\"\",109),IF(AU217=\"\",\"\",110))","v":""},{"$f":"_xlfn.TEXTJOIN(\";\",1,AN217:AU217)","v":""},-1,null,-1,30,30,{"$nulls":6},"乾坤巨灵诀·壹",null,0]
[{"$f":"K218*10+P218-1","v":20061},13009,150,479,902,"乾坤巨灵诀","后方槽位第一个技能体型巨大化，且在对碰中强度增加{0}%",0,"icon_s2006",{"$f":"CONCATENATE(\"S\",K218)","v":"S2006"},{"$f":"K211+1","v":2006},null,1,1,2,2,{"$f":"_xlfn.TEXTJOIN(\";\",1,X218:AD218)","v":"30;30"},0,{"$f":"_xlfn.TEXTJOIN(\";\",1,IF(AN218=\"\",\"\",101),IF(AO218=\"\",\"\",102),IF(AP218=\"\",\"\",103),IF(AQ218=\"\",\"\",106),IF(AR218=\"\",\"\",107),IF(AS218=\"\",\"\",108),IF(AT218=\"\",\"\",109),IF(AU218=\"\",\"\",110))","v":"103"},{"$f":"_xlfn.TEXTJOIN(\";\",1,AN218:AU218)","v":"3"},1250,3,-1,30,30,{"$nulls":5},{"$f":"CONCATENATE(CHOOSE(S218-100,\"生命\",\"攻击\",\"防御\"),\"+\",V218,\"%\")","v":"防御+3%"},"乾坤巨灵诀·贰",null,0,{"$nulls":7},3]
[20062,13009,225,480,903,"乾坤巨灵诀","后方槽位第一个技能体型巨大化，且在对碰中强度增加{0}%",0,"icon_s2006","S2006",2006,null,1,1,2,3,"30;30",0,"103","6",1251,3,-1,30,30,{"$nulls":5},{"$f":"CONCATENATE(CHOOSE(S219-100,\"生命\",\"攻击\",\"防御\"),\"+\",V219,\"%\")","v":"防御+3%"},{"$f":"IF(F219=\"\",\"\",CONCATENATE(F219,\"·\",CHOOSE(P219,\"壹\",\"贰\",\"叁\",\"肆\",\"伍\",\"陆\")))","v":"乾坤巨灵诀·叁"},null,0,{"$nulls":7},6]
[20063,13009,337.5,481,904,"乾坤巨灵诀","后方槽位第一个技能体型巨大化，且在对碰中强度增加{0}%",0,"icon_s2006","S2006",2006,null,1,1,2,4,"30;30",0,"103","9",1252,3,-1,30,30,{"$nulls":5},{"$f":"CONCATENATE(CHOOSE(S220-100,\"生命\",\"攻击\",\"防御\"),\"+\",V220,\"%\")","v":"防御+3%"},"乾坤巨灵诀·肆",null,0,{"$nulls":7},9]
[20064,13009,506.25,482,905,"乾坤巨灵诀","后方槽位第一个技能体型巨大化，且在对碰中强度增加{0}%",0,"icon_s2006","S2006",2006,null,1,1,2,5,"30;30",0,"103","12",1253,3,-1,30,30,{"$nulls":5},{"$f":"CONCATENATE(CHOOSE(S221-100,\"生命\",\"攻击\",\"防御\"),\"+\",V221,\"%\")","v":"防御+3%"},"乾坤巨灵诀·伍",null,0,{"$nulls":7},12]
[20065,13009,759.375,483,906,"乾坤巨灵诀","后方槽位第一个技能体型巨大化，且在对碰中强度增加{0}%\n巨大化的功法对拼耗尽不再消失，而是恢复{1}%强度",0,"icon_s2006","S2006",2006,null,1,1,2,6,"30;30;30",0,"103","12",1254,null,-1,30,30,30,{"$nulls":4},"对拼时重生","乾坤巨灵诀·陆",null,0,{"$nulls":7},12]
[{"$nulls":8},"icon_s",{"$nulls":4},1,{"$nulls":17},"",null,""]
[{"$f":"K224*10+P224-1","v":20070},13010,100,484,907,"极速齿轮","后槽位技能在催动时获得转盘加速{0}%,持续{1}秒",0,"icon_s2007",{"$f":"CONCATENATE(\"S\",K224)","v":"S2007"},{"$f":"K217+1","v":2007},null,1,1,2,1,{"$f":"_xlfn.TEXTJOIN(\";\",1,X224:AD224)","v":"20;9"},0,{"$f":"_xlfn.TEXTJOIN(\";\",1,IF(AN224=\"\",\"\",101),IF(AO224=\"\",\"\",102),IF(AP224=\"\",\"\",103),IF(AQ224=\"\",\"\",106),IF(AR224=\"\",\"\",107),IF(AS224=\"\",\"\",108),IF(AT224=\"\",\"\",109),IF(AU224=\"\",\"\",110))","v":""},{"$f":"_xlfn.TEXTJOIN(\";\",1,AN224:AU224)","v":""},-1,null,-1,20,9,{"$nulls":6},"极速齿轮·壹",null,0]
[{"$f":"K225*10+P225-1","v":20071},13010,150,485,908,"极速齿轮","后槽位技能在催动时获得转盘加速{0}%,持续{1}秒",0,"icon_s2007",{"$f":"CONCATENATE(\"S\",K225)","v":"S2007"},{"$f":"K218+1","v":2007},null,1,1,2,2,{"$f":"_xlfn.TEXTJOIN(\";\",1,X225:AD225)","v":"20;9"},0,{"$f":"_xlfn.TEXTJOIN(\";\",1,IF(AN225=\"\",\"\",101),IF(AO225=\"\",\"\",102),IF(AP225=\"\",\"\",103),IF(AQ225=\"\",\"\",106),IF(AR225=\"\",\"\",107),IF(AS225=\"\",\"\",108),IF(AT225=\"\",\"\",109),IF(AU225=\"\",\"\",110))","v":"101"},{"$f":"_xlfn.TEXTJOIN(\";\",1,AN225:AU225)","v":"3"},1255,3,-1,20,9,{"$nulls":5},{"$f":"CONCATENATE(CHOOSE(S225-100,\"生命\",\"攻击\",\"防御\"),\"+\",V225,\"%\")","v":"生命+3%"},"极速齿轮·贰",null,0,{"$nulls":5},3]
[20072,13010,225,486,909,"极速齿轮","后槽位技能在催动时获得转盘加速{0}%,持续{1}秒",0,"icon_s2007","S2007",2007,null,1,1,2,3,"20;9",0,"101","6",1256,3,-1,20,9,{"$nulls":5},{"$f":"CONCATENATE(CHOOSE(S226-100,\"生命\",\"攻击\",\"防御\"),\"+\",V226,\"%\")","v":"生命+3%"},"极速齿轮·叁",null,0,{"$nulls":5},6]
[20073,13010,337.5,487,910,"极速齿轮","后槽位技能在催动时获得转盘加速{0}%,持续{1}秒",0,"icon_s2007","S2007",2007,null,1,1,2,4,"20;9",0,"101","9",1257,3,-1,20,9,{"$nulls":5},{"$f":"CONCATENATE(CHOOSE(S227-100,\"生命\",\"攻击\",\"防御\"),\"+\",V227,\"%\")","v":"生命+3%"},"极速齿轮·肆",null,0,{"$nulls":5},9]
[20074,13010,506.25,488,911,"极速齿轮","后槽位技能在催动时获得转盘加速{0}%,持续{1}秒",0,"icon_s2007","S2007",2007,null,1,1,2,5,"20;9",0,"101","12",1258,3,-1,20,9,{"$nulls":5},{"$f":"CONCATENATE(CHOOSE(S228-100,\"生命\",\"攻击\",\"防御\"),\"+\",V228,\"%\")","v":"生命+3%"},"极速齿轮·伍",null,0,{"$nulls":5},12]
[20075,13010,759.375,489,912,"极速齿轮","后槽位技能在催动时获得转盘加速{0}%,持续{1}秒\n加速期间，伤害提升{1}%",0,"icon_s2007","S2007",2007,null,1,1,2,6,"20;9;15",0,"101","12",1259,null,-1,20,9,15,{"$nulls":4},"加速时伤害提升","极速齿轮·陆",null,0,{"$nulls":5},12]
[{"$nulls":8},"icon_s",{"$nulls":4},1,{"$nulls":17},"",null,""]
[{"$f":"K231*10+P231-1","v":20080},13010,100,490,913,"太虚剑意","后方槽位如果是剑功法，在释放功法时额外释放{0}道剑气，对敌人造成{1}%伤害，并无视护盾类效果",0,"icon_s2008",{"$f":"CONCATENATE(\"S\",K231)","v":"S2008"},{"$f":"K224+1","v":2008},null,1,1,2,1,{"$f":"_xlfn.TEXTJOIN(\";\",1,X231:AD231)","v":"1;100"},0,{"$f":"_xlfn.TEXTJOIN(\";\",1,IF(AN231=\"\",\"\",101),IF(AO231=\"\",\"\",102),IF(AP231=\"\",\"\",103),IF(AQ231=\"\",\"\",106),IF(AR231=\"\",\"\",107),IF(AS231=\"\",\"\",108),IF(AT231=\"\",\"\",109),IF(AU231=\"\",\"\",110))","v":""},{"$f":"_xlfn.TEXTJOIN(\";\",1,AN231:AU231)","v":""},-1,null,-1,1,100,{"$nulls":6},"太虚剑意·壹",null,0]
[{"$f":"K232*10+P232-1","v":20081},13010,150,491,914,"太虚剑意","后方槽位如果是剑功法，在释放功法时额外释放{0}道剑气，对敌人造成{1}%伤害，并无视护盾类效果",0,"icon_s2008",{"$f":"CONCATENATE(\"S\",K232)","v":"S2008"},{"$f":"K225+1","v":2008},null,1,1,2,2,{"$f":"_xlfn.TEXTJOIN(\";\",1,X232:AD232)","v":"1;100"},0,{"$f":"_xlfn.TEXTJOIN(\";\",1,IF(AN232=\"\",\"\",101),IF(AO232=\"\",\"\",102),IF(AP232=\"\",\"\",103),IF(AQ232=\"\",\"\",106),IF(AR232=\"\",\"\",107),IF(AS232=\"\",\"\",108),IF(AT232=\"\",\"\",109),IF(AU232=\"\",\"\",110))","v":"102"},{"$f":"_xlfn.TEXTJOIN(\";\",1,AN232:AU232)","v":"3"},1260,3,-1,1,100,{"$nulls":5},{"$f":"CONCATENATE(CHOOSE(S232-100,\"生命\",\"攻击\",\"防御\"),\"+\",V232,\"%\")","v":"攻击+3%"},"太虚剑意·贰",null,0,{"$nulls":6},3]
[20082,13010,225,492,915,"太虚剑意","后方槽位如果是剑功法，在释放功法时额外释放{0}道剑气，对敌人造成{1}%伤害，并无视护盾类效果",0,"icon_s2008","S2008",2008,null,1,1,2,3,"1;100",0,"102","6",1261,3,-1,1,100,{"$nulls":5},{"$f":"CONCATENATE(CHOOSE(S233-100,\"生命\",\"攻击\",\"防御\"),\"+\",V233,\"%\")","v":"攻击+3%"},"太虚剑意·叁",null,0,{"$nulls":6},6]
[20083,13010,337.5,493,916,"太虚剑意","后方槽位如果是剑功法，在释放功法时额外释放{0}道剑气，对敌人造成{1}%伤害，并无视护盾类效果",0,"icon_s2008","S2008",2008,null,1,1,2,4,"1;100",0,"102","9",1262,3,-1,1,100,{"$nulls":5},{"$f":"CONCATENATE(CHOOSE(S234-100,\"生命\",\"攻击\",\"防御\"),\"+\",V234,\"%\")","v":"攻击+3%"},"太虚剑意·肆",null,0,{"$nulls":6},9]
[20084,13010,506.25,494,917,"太虚剑意","后方槽位如果是剑功法，在释放功法时额外释放{0}道剑气，对敌人造成{1}%伤害，并无视护盾类效果",0,"icon_s2008","S2008",2008,null,1,1,2,5,"1;100",0,"102","12",1263,3,-1,1,100,{"$nulls":5},{"$f":"CONCATENATE(CHOOSE(S235-100,\"生命\",\"攻击\",\"防御\"),\"+\",V235,\"%\")","v":"攻击+3%"},"太虚剑意·伍",null,0,{"$nulls":6},12]
[20085,13010,759.375,495,918,"太虚剑意","前方和后方槽位如果是剑功法，在释放功法时额外释放{0}道剑气，对敌人造成{0}%伤害，并无视护盾类效果\n该剑气会对敌人施加{2}层流血",0,"icon_s2008","S2008",2008,null,1,1,2,6,"2;100;1",0,"102","12",1264,null,"1;-1",2,100,1,{"$nulls":4},"前槽位也生效，剑气增强","太虚剑意·陆",null,0,{"$nulls":6},12]
[{"$nulls":8},"icon_s",{"$nulls":4},1,{"$nulls":19},""]
[null,"英雄-法宝区域",{"$nulls":6},"icon_s",{"$nulls":4},1,{"$nulls":17},"",null,""]
[{"$f":"K239*10+P239-1","v":31010},11005,100,496,919,"神龙鼎","对敌人照成伤害，使敌人五行混乱。敌人的功法每次使用功法都将使用最低灵根属性作为伤害计算，持续{0}秒",1,{"$f":"CONCATENATE(\"icon_fb\",K239)","v":"icon_fb3101"},{"$f":"CONCATENATE(\"S\",K239)","v":"S3101"},3101,null,80,1,3,1,{"$f":"_xlfn.TEXTJOIN(\";\",1,X239:AD239)","v":"9"},1,{"$f":"_xlfn.TEXTJOIN(\";\",1,IF(AN239=\"\",\"\",101),IF(AO239=\"\",\"\",102),IF(AP239=\"\",\"\",103),IF(AQ239=\"\",\"\",106),IF(AR239=\"\",\"\",107),IF(AS239=\"\",\"\",108),IF(AT239=\"\",\"\",109),IF(AU239=\"\",\"\",110))","v":""},{"$f":"_xlfn.TEXTJOIN(\";\",1,AN239:AU239)","v":""},-1,null,null,9,{"$nulls":7},{"$f":"IF(F239=\"\",\"\",CONCATENATE(F239,\"·\",CHOOSE(P239,\"壹\",\"贰\",\"叁\",\"肆\",\"伍\",\"陆\")))","v":"神龙鼎·壹"},null,0]
[{"$f":"K240*10+P240-1","v":31011},11005,120,497,920,"神龙鼎","对敌人照成伤害，使敌人五行混乱。敌人的功法每次使用功法都将使用最低灵根属性作为伤害计算，持续{0}秒",1,"icon_fb3101",{"$f":"CONCATENATE(\"S\",K240)","v":"S3101"},3101,null,80,1,3,2,"9",1,{"$f":"_xlfn.TEXTJOIN(\";\",1,IF(AN240=\"\",\"\",101),IF(AO240=\"\",\"\",102),IF(AP240=\"\",\"\",103),IF(AQ240=\"\",\"\",106),IF(AR240=\"\",\"\",107),IF(AS240=\"\",\"\",108),IF(AT240=\"\",\"\",109),IF(AU240=\"\",\"\",110))","v":"106"},{"$f":"_xlfn.TEXTJOIN(\";\",1,AN240:AU240)","v":"5"},1265,5,null,9,{"$nulls":6},{"$f":"CONCATENATE(\"金灵根+\",V240)","v":"金灵根+5"},"神龙鼎·贰",null,0,{"$nulls":8},5]
[31012,11005,225,498,921,"神龙鼎","对敌人照成伤害，使敌人五行混乱。敌人的功法每次使用功法都将使用最低灵根属性作为伤害计算，持续{0}秒",1,"icon_fb3101","S3101",3101,null,80,1,3,3,"9",1,"102;106","5;5",1266,5,null,9,{"$nulls":6},{"$f":"CONCATENATE(\"攻击+\",V241,\"%\")","v":"攻击+5%"},"神龙鼎·叁",null,0,{"$nulls":6},5,null,5]
[31013,11005,337.5,499,922,"神龙鼎","对敌人照成伤害，使敌人五行混乱。敌人的功法每次使用功法都将使用最低灵根属性作为伤害计算，持续{0}秒",1,"icon_fb3101","S3101",3101,null,80,1,3,4,"9",1,"102;106","5;10",1267,5,null,9,{"$nulls":6},{"$f":"CONCATENATE(\"金灵根+\",V242)","v":"金灵根+5"},"神龙鼎·肆",null,0,{"$nulls":6},5,null,10]
[31014,11005,506.25,500,923,"神龙鼎","对敌人照成伤害，使敌人五行混乱。敌人的功法每次使用功法都将使用最低灵根属性作为伤害计算，持续{0}秒",1,"icon_fb3101","S3101",3101,null,80,1,3,5,"9",1,"102;106","10;10",1268,5,null,9,{"$nulls":6},{"$f":"CONCATENATE(\"攻击+\",V243,\"%\")","v":"攻击+5%"},"神龙鼎·伍",null,0,{"$nulls":6},10,null,10]
[31015,11005,759.375,501,924,"神龙鼎","对敌人照成伤害，使敌人五行混乱。敌人的功法每次使用功法都将使用最低灵根属性作为伤害计算，持续{0}秒\n神农鼎生效期间，使敌人的所有灵根降低{1}%。",1,"icon_fb3101","S3101",3101,null,80,1,3,6,"9;15",1,"102;106","10;10",1269,null,null,9,15,{"$nulls":5},"降低敌人灵根","神龙鼎·陆",null,0,{"$nulls":6},10,null,10]
[{"$nulls":8},"icon_s",{"$nulls":4},1,{"$nulls":17},"",null,""]
[null,11005,100,502,925,"破天斧","无视敌人灵根，对敌人造成大量伤害，同时让五行伤势+1",1,"icon_s3102",{"$f":"CONCATENATE(\"S\",K246)","v":"S3102"},3102,null,80,1,3,1,"",1,{"$f":"_xlfn.TEXTJOIN(\";\",1,IF(AN246=\"\",\"\",101),IF(AO246=\"\",\"\",102),IF(AP246=\"\",\"\",103),IF(AQ246=\"\",\"\",106),IF(AR246=\"\",\"\",107),IF(AS246=\"\",\"\",108),IF(AT246=\"\",\"\",109),IF(AU246=\"\",\"\",110))","v":""},{"$f":"_xlfn.TEXTJOIN(\";\",1,AN246:AU246)","v":""},-1,{"$nulls":10},"破天斧·壹",null,""]
[null,11005,150,503,926,"破天斧","无视敌人灵根，对敌人造成大量伤害，同时让五行伤势+1",1,"icon_s3102",{"$f":"CONCATENATE(\"S\",K247)","v":"S3102"},3102,null,80,1,3,2,"",1,{"$f":"_xlfn.TEXTJOIN(\";\",1,IF(AN247=\"\",\"\",101),IF(AO247=\"\",\"\",102),IF(AP247=\"\",\"\",103),IF(AQ247=\"\",\"\",106),IF(AR247=\"\",\"\",107),IF(AS247=\"\",\"\",108),IF(AT247=\"\",\"\",109),IF(AU247=\"\",\"\",110))","v":""},{"$f":"_xlfn.TEXTJOIN(\";\",1,AN247:AU247)","v":""},1270,{"$nulls":10},"破天斧·贰",null,""]
[null,11005,225,504,927,"破天斧","无视敌人灵根，对敌人造成大量伤害，同时让五行伤势+1",1,"icon_s3102","S3102",3102,null,80,1,3,3,"",1,"","",1271,{"$nulls":10},"破天斧·叁",null,""]
[null,11005,337.5,505,928,"破天斧","无视敌人灵根，对敌人造成大量伤害，同时让五行伤势+1",1,"icon_s3102","S3102",3102,null,80,1,3,4,"",1,"","",1272,{"$nulls":10},"破天斧·肆",null,""]
[null,11005,506.25,506,929,"破天斧","无视敌人灵根，对敌人造成大量伤害，同时让五行伤势+1",1,"icon_s3102","S3102",3102,null,80,1,3,5,"",1,"","",1273,{"$nulls":10},"破天斧·伍",null,""]
[null,11005,759.375,507,930,"破天斧","无视敌人灵根，对敌人造成大量伤害，同时让五行伤势+1",1,"icon_s3102","S3102",3102,null,80,1,3,6,"",1,"","",1274,{"$nulls":10},"破天斧·陆",null,""]
[{"$nulls":8},"icon_s",{"$nulls":4},1,{"$nulls":17},"",null,""]
[{"$f":"K253*10+P253-1","v":32010},11002,100,508,931,"翡翠葫芦","战场区域形成一个域。敌人的功法弹道进入域后将降低敌人{0}%的功法弹道速度，持续{1}秒",2,{"$f":"CONCATENATE(\"icon_fb\",K253)","v":"icon_fb3201"},{"$f":"CONCATENATE(\"S\",K253)","v":"S3201"},3201,null,80,1,3,1,"50;12",1,{"$f":"_xlfn.TEXTJOIN(\";\",1,IF(AN253=\"\",\"\",101),IF(AO253=\"\",\"\",102),IF(AP253=\"\",\"\",103),IF(AQ253=\"\",\"\",106),IF(AR253=\"\",\"\",107),IF(AS253=\"\",\"\",108),IF(AT253=\"\",\"\",109),IF(AU253=\"\",\"\",110))","v":""},{"$f":"_xlfn.TEXTJOIN(\";\",1,AN253:AU253)","v":""},-1,null,null,50,12,{"$nulls":6},"翡翠葫芦·壹",null,0]
[{"$f":"K254*10+P254-1","v":32011},11002,150,509,932,"翡翠葫芦","战场区域形成一个域。敌人的功法弹道进入域后将降低敌人{0}%的功法弹道速度，持续{1}秒",2,{"$f":"CONCATENATE(\"icon_fb\",K254)","v":"icon_fb3201"},{"$f":"CONCATENATE(\"S\",K254)","v":"S3201"},3201,null,80,1,3,2,"75;12",1,{"$f":"_xlfn.TEXTJOIN(\";\",1,IF(AN254=\"\",\"\",101),IF(AO254=\"\",\"\",102),IF(AP254=\"\",\"\",103),IF(AQ254=\"\",\"\",106),IF(AR254=\"\",\"\",107),IF(AS254=\"\",\"\",108),IF(AT254=\"\",\"\",109),IF(AU254=\"\",\"\",110))","v":""},{"$f":"_xlfn.TEXTJOIN(\";\",1,AN254:AU254)","v":""},1275,null,null,75,12,{"$nulls":5},"降速效果提升","翡翠葫芦·贰",null,0]
[32012,11002,225,510,933,"翡翠葫芦","战场区域形成一个域。敌人的功法弹道进入域后将降低敌人{0}%的功法弹道速度，持续{1}秒",2,{"$f":"CONCATENATE(\"icon_fb\",K255)","v":"icon_fb3201"},"S3201",3201,null,80,1,3,3,"75;12",1,"108","5",1276,5,null,75,12,{"$nulls":5},{"$f":"CONCATENATE(\"水灵根+\",V255)","v":"水灵根+5"},"翡翠葫芦·叁",null,0,{"$nulls":10},5]
[32013,11002,337.5,511,934,"翡翠葫芦","战场区域形成一个域。敌人的功法弹道进入域后将降低敌人{0}%的功法弹道速度，持续{1}秒",2,"icon_fb3201","S3201",3201,null,80,1,3,4,"75;12",1,"101;108","5;5",1277,5,null,75,12,{"$nulls":5},{"$f":"CONCATENATE(\"生命+\",V256,\"%\")","v":"生命+5%"},"翡翠葫芦·肆",null,0,{"$nulls":5},5,{"$nulls":4},5]
[32014,11002,506.25,512,935,"翡翠葫芦","战场区域形成一个域。敌人的功法弹道进入域后将降低敌人{0}%的功法弹道速度，持续{1}秒",2,"icon_fb3201","S3201",3201,null,80,1,3,5,"75;12",1,"101;108","5;10",1278,5,null,75,12,{"$nulls":5},{"$f":"CONCATENATE(\"水灵根+\",V257)","v":"水灵根+5"},"翡翠葫芦·伍",null,0,{"$nulls":5},5,{"$nulls":4},10]
[32015,11002,759.375,513,936,"翡翠葫芦","战场区域形成一个域。敌人的功法弹道进入域后将降低敌人{0}%的功法弹道速度，持续{1}秒\n受影响的敌方功法强度降低{2}%",2,"icon_fb3201","S3201",3201,null,80,1,3,6,"75;12;50",1,"101;108","5;10",1279,null,null,75,12,50,{"$nulls":4},"降低被影响功法的强度","翡翠葫芦·陆",null,0,{"$nulls":5},5,{"$nulls":4},10]
[{"$nulls":8},{"$f":"CONCATENATE(\"icon_s\",K259)","v":"icon_s"},{"$nulls":4},1,{"$nulls":17},"",null,""]
[{"$f":"K260*10+P260-1","v":32020},11002,100,514,937,"混沌珠","用后{2}秒内大幅提升所有灵根{0}%，一场战斗可使用{1}次",2,"icon_fb3202",{"$f":"CONCATENATE(\"S\",K260)","v":"S3202"},3202,null,80,1,3,1,"20;2;18",1,{"$f":"_xlfn.TEXTJOIN(\";\",1,IF(AN260=\"\",\"\",101),IF(AO260=\"\",\"\",102),IF(AP260=\"\",\"\",103),IF(AQ260=\"\",\"\",106),IF(AR260=\"\",\"\",107),IF(AS260=\"\",\"\",108),IF(AT260=\"\",\"\",109),IF(AU260=\"\",\"\",110))","v":""},{"$f":"_xlfn.TEXTJOIN(\";\",1,AN260:AU260)","v":""},-1,null,null,20,2,18,{"$nulls":5},{"$f":"IF(F260=\"\",\"\",CONCATENATE(F260,\"·\",CHOOSE(P260,\"壹\",\"贰\",\"叁\",\"肆\",\"伍\",\"陆\")))","v":"混沌珠·壹"},null,0]
[{"$f":"K261*10+P261-1","v":32021},11002,150,515,938,"混沌珠","用后{2}秒内大幅提升所有灵根{0}%，一场战斗可使用{1}次",2,"icon_fb3202",{"$f":"CONCATENATE(\"S\",K261)","v":"S3202"},3202,null,80,1,3,2,"20;2;18",1,{"$f":"_xlfn.TEXTJOIN(\";\",1,IF(AN261=\"\",\"\",101),IF(AO261=\"\",\"\",102),IF(AP261=\"\",\"\",103),IF(AQ261=\"\",\"\",106),IF(AR261=\"\",\"\",107),IF(AS261=\"\",\"\",108),IF(AT261=\"\",\"\",109),IF(AU261=\"\",\"\",110))","v":"108"},{"$f":"_xlfn.TEXTJOIN(\";\",1,AN261:AU261)","v":"5"},1280,5,null,20,2,18,{"$nulls":4},{"$f":"CONCATENATE(\"水灵根+\",V261)","v":"水灵根+5"},"混沌珠·贰",null,0,{"$nulls":10},5]
[32022,11002,225,516,939,"混沌珠","用后{2}秒内大幅提升所有灵根{0}%，一场战斗可使用{1}次",2,"icon_fb3202","S3202",3202,null,80,1,3,3,"20;2;18",1,"103;108","5;5",1281,5,null,20,2,18,{"$nulls":4},{"$f":"CONCATENATE(\"防御+\",V262,\"%\")","v":"防御+5%"},"混沌珠·叁",null,0,{"$nulls":7},5,null,null,5]
[32023,11002,337.5,517,940,"混沌珠","用后{2}秒内大幅提升所有灵根{0}%，一场战斗可使用{1}次",2,"icon_fb3202","S3202",3202,null,80,1,3,4,"20;3;18",1,"103;108","5;5",1282,null,null,20,3,18,{"$nulls":4},"可使用次数增加","混沌珠·肆",null,{"$f":"IF(A263=\"\",\"\",AI263*AJ263/(1-AK263-AL263))","v":0},{"$nulls":7},5,null,null,5]
[32024,11002,506.25,518,941,"混沌珠","用后{2}秒内大幅提升所有灵根{0}%，一场战斗可使用{1}次",2,"icon_fb3202","S3202",3202,null,80,1,3,5,"20;3;18",1,"103;108","5;10",1283,5,null,20,3,18,{"$nulls":4},{"$f":"CONCATENATE(\"水灵根+\",V264)","v":"水灵根+5"},"混沌珠·伍",null,0,{"$nulls":7},5,null,null,10]
[32025,11002,759.375,519,942,"混沌珠","用后{2}秒内大幅提升所有灵根{0}%，一场战斗可使用{1}次\n混沌珠生效期间，己方所有功法额外增伤{3}%",2,"icon_fb3202","S3202",3202,null,80,1,3,6,"20;3;18;20",1,"103;108","5;10",1284,null,null,20,3,18,20,null,null,null,"功法额外增伤","混沌珠·陆",null,0,{"$nulls":7},5,null,null,10]
[{"$nulls":8},"icon_s",{"$nulls":4},1,{"$nulls":17},"",null,""]
[null,11002,100,520,943,"琉璃宝塔","对敌人照成水系伤害，封锁敌人筋脉随机{0}个格子流动{1}秒",2,"icon_s3203",{"$f":"CONCATENATE(\"S\",K267)","v":"S3203"},3203,null,80,1,3,1,"",1,{"$f":"_xlfn.TEXTJOIN(\";\",1,IF(AN267=\"\",\"\",101),IF(AO267=\"\",\"\",102),IF(AP267=\"\",\"\",103),IF(AQ267=\"\",\"\",106),IF(AR267=\"\",\"\",107),IF(AS267=\"\",\"\",108),IF(AT267=\"\",\"\",109),IF(AU267=\"\",\"\",110))","v":""},{"$f":"_xlfn.TEXTJOIN(\";\",1,AN267:AU267)","v":""},-1,{"$nulls":10},{"$f":"IF(F267=\"\",\"\",CONCATENATE(F267,\"·\",CHOOSE(P267,\"壹\",\"贰\",\"叁\",\"肆\",\"伍\",\"陆\")))","v":"琉璃宝塔·壹"},null,""]
[null,11002,150,521,944,"琉璃宝塔","对敌人照成水系伤害，封锁敌人筋脉随机{0}个格子流动{1}秒",2,"icon_s3203",{"$f":"CONCATENATE(\"S\",K268)","v":"S3203"},3203,null,80,1,3,2,"",1,{"$f":"_xlfn.TEXTJOIN(\";\",1,IF(AN268=\"\",\"\",101),IF(AO268=\"\",\"\",102),IF(AP268=\"\",\"\",103),IF(AQ268=\"\",\"\",106),IF(AR268=\"\",\"\",107),IF(AS268=\"\",\"\",108),IF(AT268=\"\",\"\",109),IF(AU268=\"\",\"\",110))","v":""},{"$f":"_xlfn.TEXTJOIN(\";\",1,AN268:AU268)","v":""},1285,{"$nulls":10},"琉璃宝塔·贰",null,""]
[null,11002,225,522,945,"琉璃宝塔","对敌人照成水系伤害，封锁敌人筋脉随机{0}个格子流动{1}秒",2,"icon_s3203","S3203",3203,null,80,1,3,3,"",1,"","",1286,{"$nulls":10},"琉璃宝塔·叁",null,""]
[null,11002,337.5,523,946,"琉璃宝塔","对敌人照成水系伤害，封锁敌人筋脉随机{0}个格子流动{1}秒",2,"icon_s3203","S3203",3203,null,80,1,3,4,"",1,"","",1287,{"$nulls":10},"琉璃宝塔·肆",null,""]
[null,11002,506.25,524,947,"琉璃宝塔","对敌人照成水系伤害，封锁敌人筋脉随机{0}个格子流动{1}秒",2,"icon_s3203","S3203",3203,null,80,1,3,5,"",1,"","",1288,{"$nulls":10},"琉璃宝塔·伍",null,""]
[null,11002,759.375,525,948,"琉璃宝塔","对敌人照成水系伤害，封锁敌人筋脉随机{0}个格子流动{1}秒",2,"icon_s3203","S3203",3203,null,80,1,3,6,"",1,"","",1289,{"$nulls":10},"琉璃宝塔·陆",null,""]
[{"$nulls":8},"icon_s",{"$nulls":4},1,{"$nulls":17},"",null,""]
[{"$f":"K274*10+P274-1","v":33010},11004,100,526,949,"九幽镇魂瓶","对敌人造成{2}%伤害，并随机封锁敌人{0}个法宝，让其{1}秒内不能使用",4,{"$f":"CONCATENATE(\"icon_fb\",K274)","v":"icon_fb3301"},{"$f":"CONCATENATE(\"S\",K274)","v":"S3301"},3301,null,80,1,3,1,"1;12;1000",2,{"$f":"_xlfn.TEXTJOIN(\";\",1,IF(AN274=\"\",\"\",101),IF(AO274=\"\",\"\",102),IF(AP274=\"\",\"\",103),IF(AQ274=\"\",\"\",106),IF(AR274=\"\",\"\",107),IF(AS274=\"\",\"\",108),IF(AT274=\"\",\"\",109),IF(AU274=\"\",\"\",110))","v":""},{"$f":"_xlfn.TEXTJOIN(\";\",1,AN274:AU274)","v":""},-1,null,null,1,12,1000,{"$nulls":5},{"$f":"IF(F274=\"\",\"\",CONCATENATE(F274,\"·\",CHOOSE(P274,\"壹\",\"贰\",\"叁\",\"肆\",\"伍\",\"陆\")))","v":"九幽镇魂瓶·壹"},null,0]
[{"$f":"K275*10+P275-1","v":33011},11004,150,527,950,"九幽镇魂瓶","对敌人造成{2}%伤害，并随机封锁敌人{0}个法宝，让其{1}秒内不能使用",4,"icon_fb3301",{"$f":"CONCATENATE(\"S\",K275)","v":"S3301"},3301,null,80,1,3,2,"2;12;1000",2,{"$f":"_xlfn.TEXTJOIN(\";\",1,IF(AN275=\"\",\"\",101),IF(AO275=\"\",\"\",102),IF(AP275=\"\",\"\",103),IF(AQ275=\"\",\"\",106),IF(AR275=\"\",\"\",107),IF(AS275=\"\",\"\",108),IF(AT275=\"\",\"\",109),IF(AU275=\"\",\"\",110))","v":""},{"$f":"_xlfn.TEXTJOIN(\";\",1,AN275:AU275)","v":""},1290,null,null,2,12,1000,{"$nulls":4},"封印法宝数量增加","九幽镇魂瓶·贰",null,0]
[33012,11004,225,528,951,"九幽镇魂瓶","对敌人造成{2}%伤害，并随机封锁敌人{0}个法宝，让其{1}秒内不能使用",4,"icon_fb3301","S3301",3301,null,80,1,3,3,"2;12;1000",2,"107","5",1291,5,null,2,12,1000,{"$nulls":4},{"$f":"CONCATENATE(\"木灵根+\",V276)","v":"木灵根+5"},"九幽镇魂瓶·叁",null,0,{"$nulls":9},5]
[33013,11004,337.5,529,952,"九幽镇魂瓶","对敌人造成{2}%伤害，并随机封锁敌人{0}个法宝，让其{1}秒内不能使用\n如果影响的法宝是相生法宝，则使其充能时间延长{3}%直至战斗结束",4,"icon_fb3301","S3301",3301,null,80,1,3,4,"2;12;1000;30",2,"107","5",1292,null,null,2,12,1000,30,null,null,null,"减缓相生法宝充能","九幽镇魂瓶·肆",null,0,{"$nulls":9},5]
[33014,11004,506.25,530,953,"九幽镇魂瓶","对敌人造成{2}%伤害，并随机封锁敌人{0}个法宝，让其{1}秒内不能使用\n如果影响的法宝是相生法宝，则使其充能时间延长{3}%直至战斗结束",4,"icon_fb3301","S3301",3301,null,80,1,3,5,"2;12;1000;30",2,"107","10",1293,5,null,2,12,1000,30,null,null,null,{"$f":"CONCATENATE(\"木灵根+\",V278)","v":"木灵根+5"},"九幽镇魂瓶·伍",null,0,{"$nulls":9},10]
[33015,11004,759.375,531,954,"九幽镇魂瓶","对敌人造成{2}%伤害，并随机封锁敌人{0}个法宝，让其{1}秒内不能使用\n如果影响的法宝是相生法宝，则使其充能时间延长{3}%直至战斗结束",4,"icon_fb3301","S3301",3301,null,80,1,3,6,"2;12;1000;300",2,"107","10",1294,null,null,2,12,1000,300,null,null,null,"大幅减缓相生法宝充能","九幽镇魂瓶·陆",null,0,{"$nulls":9},10]
[{"$nulls":8},"icon_s",{"$nulls":4},1,{"$nulls":17},"",null,""]
[{"$f":"K281*10+P281-1","v":33020},11008,100,532,955,"玉莲守心灯","一盏明灯围绕玩家，{0}秒内抵消所有负面效果，每{1}秒触发1次。",4,"icon_s3302",{"$f":"CONCATENATE(\"S\",K281)","v":"S3302"},3302,null,80,1,3,1,"",1,{"$f":"_xlfn.TEXTJOIN(\";\",1,IF(AN281=\"\",\"\",101),IF(AO281=\"\",\"\",102),IF(AP281=\"\",\"\",103),IF(AQ281=\"\",\"\",106),IF(AR281=\"\",\"\",107),IF(AS281=\"\",\"\",108),IF(AT281=\"\",\"\",109),IF(AU281=\"\",\"\",110))","v":""},{"$f":"_xlfn.TEXTJOIN(\";\",1,AN281:AU281)","v":""},-1,{"$nulls":10},{"$f":"IF(F281=\"\",\"\",CONCATENATE(F281,\"·\",CHOOSE(P281,\"壹\",\"贰\",\"叁\",\"肆\",\"伍\",\"陆\")))","v":"玉莲守心灯·壹"},null,0]
[33021,11008,150,533,956,"玉莲守心灯","一盏明灯围绕玩家，{0}秒内抵消所有负面效果，每{1}秒触发1次。",4,"icon_s3302",{"$f":"CONCATENATE(\"S\",K282)","v":"S3302"},3302,null,80,1,3,2,"",1,{"$f":"_xlfn.TEXTJOIN(\";\",1,IF(AN282=\"\",\"\",101),IF(AO282=\"\",\"\",102),IF(AP282=\"\",\"\",103),IF(AQ282=\"\",\"\",106),IF(AR282=\"\",\"\",107),IF(AS282=\"\",\"\",108),IF(AT282=\"\",\"\",109),IF(AU282=\"\",\"\",110))","v":""},{"$f":"_xlfn.TEXTJOIN(\";\",1,AN282:AU282)","v":""},1295,{"$nulls":10},"玉莲守心灯·贰",null,0]
[33022,11008,225,534,957,"玉莲守心灯","一盏明灯围绕玩家，{0}秒内抵消所有负面效果，每{1}秒触发1次。",4,"icon_s3302","S3302",3302,null,80,1,3,3,"",1,"","",1296,{"$nulls":10},"玉莲守心灯·叁",null,0]
[33023,11008,337.5,535,958,"玉莲守心灯","一盏明灯围绕玩家，{0}秒内抵消所有负面效果，每{1}秒触发1次。",4,"icon_s3302","S3302",3302,null,80,1,3,4,"",1,"","",1297,{"$nulls":10},"玉莲守心灯·肆",null,0]
[33024,11008,506.25,536,959,"玉莲守心灯","一盏明灯围绕玩家，{0}秒内抵消所有负面效果，每{1}秒触发1次。",4,"icon_s3302","S3302",3302,null,80,1,3,5,"",1,"","",1298,{"$nulls":10},"玉莲守心灯·伍",null,0]
[33025,11008,759.375,537,960,"玉莲守心灯","一盏明灯围绕玩家，{0}秒内抵消所有负面效果，每{1}秒触发1次。",4,"icon_s3302","S3302",3302,null,80,1,3,6,"",1,"","",1299,{"$nulls":10},"玉莲守心灯·陆",null,0]
[{"$nulls":8},"icon_s",{"$nulls":4},1,{"$nulls":19},""]
[{"$f":"K288*10+P288-1","v":34010},11004,100,538,961,"融灵塔","宝塔在英雄的头顶前往位置旋转，形成一个扇形区域，敌人的功法如果进入这个扇形区域有{0}%概率被法宝吸收，持续{1}秒",8,{"$f":"CONCATENATE(\"icon_fb\",K288)","v":"icon_fb3401"},{"$f":"CONCATENATE(\"S\",K288)","v":"S3401"},3401,null,80,1,3,1,"40;12",2,{"$f":"_xlfn.TEXTJOIN(\";\",1,IF(AN288=\"\",\"\",101),IF(AO288=\"\",\"\",102),IF(AP288=\"\",\"\",103),IF(AQ288=\"\",\"\",106),IF(AR288=\"\",\"\",107),IF(AS288=\"\",\"\",108),IF(AT288=\"\",\"\",109),IF(AU288=\"\",\"\",110))","v":""},{"$f":"_xlfn.TEXTJOIN(\";\",1,AN288:AU288)","v":""},-1,null,null,40,12,{"$nulls":6},{"$f":"IF(F288=\"\",\"\",CONCATENATE(F288,\"·\",CHOOSE(P288,\"壹\",\"贰\",\"叁\",\"肆\",\"伍\",\"陆\")))","v":"融灵塔·壹"},null,0]
[{"$f":"K289*10+P289-1","v":34011},11004,150,539,962,"融灵塔","宝塔在英雄的头顶前往位置旋转，形成一个扇形区域，敌人的功法如果进入这个扇形区域有{0}%概率被法宝吸收，持续{1}秒",8,"icon_fb3401",{"$f":"CONCATENATE(\"S\",K289)","v":"S3401"},3401,null,80,1,3,2,"40;12",2,{"$f":"_xlfn.TEXTJOIN(\";\",1,IF(AN289=\"\",\"\",101),IF(AO289=\"\",\"\",102),IF(AP289=\"\",\"\",103),IF(AQ289=\"\",\"\",106),IF(AR289=\"\",\"\",107),IF(AS289=\"\",\"\",108),IF(AT289=\"\",\"\",109),IF(AU289=\"\",\"\",110))","v":"109"},{"$f":"_xlfn.TEXTJOIN(\";\",1,AN289:AU289)","v":"5"},1300,5,null,40,12,{"$nulls":5},{"$f":"CONCATENATE(\"火灵根+\",V289)","v":"火灵根+5"},"融灵塔·贰",null,0,{"$nulls":11},5]
[34012,11004,225,540,963,"融灵塔","宝塔在英雄的头顶前往位置旋转，形成一个扇形区域，敌人的功法如果进入这个扇形区域有{0}%概率被法宝吸收，持续{1}秒",8,"icon_fb3401","S3401",3401,null,80,1,3,3,"60;12",2,"109","5",1301,null,null,60,12,{"$nulls":5},"增加吸收几率","融灵塔·叁",null,0,{"$nulls":11},5]
[34013,11004,337.5,541,964,"融灵塔","宝塔在英雄的头顶前往位置旋转，形成一个扇形区域，敌人的功法如果进入这个扇形区域有{0}%概率被法宝吸收，持续{1}秒",8,"icon_fb3401","S3401",3401,null,80,1,3,4,"60;12",2,"102;109","5;5",1302,5,null,60,12,{"$nulls":5},{"$f":"CONCATENATE(\"攻击+\",V291,\"%\")","v":"攻击+5%"},"融灵塔·肆",null,0,{"$nulls":6},5,{"$nulls":4},5]
[34014,11004,506.25,542,965,"融灵塔","宝塔在英雄的头顶前往位置旋转，形成一个扇形区域，敌人的功法如果进入这个扇形区域有{0}%概率被法宝吸收，持续{1}秒",8,"icon_fb3401","S3401",3401,null,80,1,3,5,"60;12",2,"102;109","5;10",1303,5,null,60,12,{"$nulls":5},{"$f":"CONCATENATE(\"火灵根+\",V292)","v":"火灵根+5"},"融灵塔·伍",null,0,{"$nulls":6},5,{"$nulls":4},10]
[34015,11004,759.375,543,966,"融灵塔","宝塔在英雄的头顶前往位置旋转，形成一个扇形区域，敌人的功法如果进入这个扇形区域有{0}%概率被法宝吸收，持续{1}秒\n敌方功法被吸收后，己方英雄临时增加{2}点对应五行灵根，持续{3}秒",8,"icon_fb3401","S3401",3401,null,80,1,3,6,"100;12;20;9",2,"102;109","5;10",1304,null,null,100,12,20,9,null,null,null,"完全吸收，临时加灵根","融灵塔·陆",null,0,{"$nulls":6},5,{"$nulls":4},10]
[{"$nulls":8},"icon_s",{"$nulls":4},1,{"$nulls":17},"",null,""]
[{"$f":"K295*10+P295-1","v":34020},11004,100,544,967,"禁元珠","打断对手当前正在生效中的法宝",8,"icon_s3402",{"$f":"CONCATENATE(\"S\",K295)","v":"S3402"},3402,null,80,1,3,1,"",2,{"$f":"_xlfn.TEXTJOIN(\";\",1,IF(AN295=\"\",\"\",101),IF(AO295=\"\",\"\",102),IF(AP295=\"\",\"\",103),IF(AQ295=\"\",\"\",106),IF(AR295=\"\",\"\",107),IF(AS295=\"\",\"\",108),IF(AT295=\"\",\"\",109),IF(AU295=\"\",\"\",110))","v":""},{"$f":"_xlfn.TEXTJOIN(\";\",1,AN295:AU295)","v":""},-1,{"$nulls":10},{"$f":"IF(F295=\"\",\"\",CONCATENATE(F295,\"·\",CHOOSE(P295,\"壹\",\"贰\",\"叁\",\"肆\",\"伍\",\"陆\")))","v":"禁元珠·壹"},null,0]
[{"$f":"K296*10+P296-1","v":34021},11004,150,545,968,"禁元珠","打断对手当前正在生效中的法宝\n可以打断准备生效中的法宝，且避免己方法宝进入对拼状态，持续{0}秒",8,"icon_s3402",{"$f":"CONCATENATE(\"S\",K296)","v":"S3402"},3402,null,80,1,3,2,"12",2,{"$f":"_xlfn.TEXTJOIN(\";\",1,IF(AN296=\"\",\"\",101),IF(AO296=\"\",\"\",102),IF(AP296=\"\",\"\",103),IF(AQ296=\"\",\"\",106),IF(AR296=\"\",\"\",107),IF(AS296=\"\",\"\",108),IF(AT296=\"\",\"\",109),IF(AU296=\"\",\"\",110))","v":""},{"$f":"_xlfn.TEXTJOIN(\";\",1,AN296:AU296)","v":""},1305,null,null,12,{"$nulls":6},"打断增强，避免对拼","禁元珠·贰",null,0]
[34022,11004,225,546,969,"禁元珠","打断对手当前正在生效中的法宝\n可以打断准备生效中的法宝，且避免己方法宝进入对拼状态，持续{0}秒",8,"icon_s3402","S3402",3402,null,80,1,3,3,"12",2,"109","5",1306,5,null,12,{"$nulls":6},{"$f":"CONCATENATE(\"火灵根+\",V297)","v":"火灵根+5"},"禁元珠·叁",null,0,{"$nulls":11},5]
[34023,11004,337.5,547,970,"禁元珠","打断对手当前正在生效中的法宝\n可以打断准备生效中的法宝，且避免己方法宝进入对拼状态，持续{0}秒",8,"icon_s3402","S3402",3402,null,80,1,3,4,"12",2,"102;109","5;5",1307,null,null,12,{"$nulls":6},{"$f":"CONCATENATE(\"攻击+\",V298,\"%\")","v":"攻击+%"},"禁元珠·肆",null,0,{"$nulls":6},5,{"$nulls":4},5]
[34024,11004,506.25,548,971,"禁元珠","打断对手当前正在生效中的法宝\n可以打断准备生效中的法宝，且避免己方法宝进入对拼状态，持续{0}秒",8,"icon_s3402","S3402",3402,null,80,1,3,5,"12",2,"102;109","5;10",1308,5,null,12,{"$nulls":6},{"$f":"CONCATENATE(\"火灵根+\",V299)","v":"火灵根+5"},"禁元珠·伍",null,0,{"$nulls":6},5,{"$nulls":4},10]
[34025,11004,759.375,549,972,"禁元珠","打断对手当前正在生效中的法宝\n可以打断准备生效中的法宝，且避免己方法宝进入对拼状态，持续{0}秒\n每打断一次法宝，使禁元珠的冷却时间缩减{1}%，最多{2}次",8,"icon_s3402","S3402",3402,null,80,1,3,6,"12;15;3",2,"102;109","5;10",1309,null,null,12,15,3,{"$nulls":4},"成功打断后加速冷却","禁元珠·陆",null,0,{"$nulls":6},5,{"$nulls":4},10]
[{"$nulls":8},"icon_s",{"$nulls":4},1,{"$nulls":17},"",null,""]
[{"$f":"K302*10+P302-1","v":35010},11003,100,550,973,"玄龟盾","前方形成土系防御盾，抵挡相当于自身生命上限{0}%的伤害，持续{1}秒",16,{"$f":"CONCATENATE(\"icon_fb\",K302)","v":"icon_fb3501"},{"$f":"CONCATENATE(\"S\",K302)","v":"S3501"},3501,null,80,1,3,1,"10;12",1,{"$f":"_xlfn.TEXTJOIN(\";\",1,IF(AN302=\"\",\"\",101),IF(AO302=\"\",\"\",102),IF(AP302=\"\",\"\",103),IF(AQ302=\"\",\"\",106),IF(AR302=\"\",\"\",107),IF(AS302=\"\",\"\",108),IF(AT302=\"\",\"\",109),IF(AU302=\"\",\"\",110))","v":""},{"$f":"_xlfn.TEXTJOIN(\";\",1,AN302:AU302)","v":""},-1,null,null,10,12,{"$nulls":6},{"$f":"IF(F302=\"\",\"\",CONCATENATE(F302,\"·\",CHOOSE(P302,\"壹\",\"贰\",\"叁\",\"肆\",\"伍\",\"陆\")))","v":"玄龟盾·壹"},null,0]
[{"$f":"K303*10+P303-1","v":35011},11003,150,551,974,"玄龟盾","前方形成土系防御盾，抵挡相当于自身生命上限{0}%的伤害，持续{1}秒",16,"icon_fb3501",{"$f":"CONCATENATE(\"S\",K303)","v":"S3501"},3501,null,80,1,3,2,{"$f":"_xlfn.TEXTJOIN(\";\",1,X303:AD303)","v":"13;12"},1,{"$f":"_xlfn.TEXTJOIN(\";\",1,IF(AN303=\"\",\"\",101),IF(AO303=\"\",\"\",102),IF(AP303=\"\",\"\",103),IF(AQ303=\"\",\"\",106),IF(AR303=\"\",\"\",107),IF(AS303=\"\",\"\",108),IF(AT303=\"\",\"\",109),IF(AU303=\"\",\"\",110))","v":""},{"$f":"_xlfn.TEXTJOIN(\";\",1,AN303:AU303)","v":""},1310,null,null,13,12,{"$nulls":5},"盾强度提升","玄龟盾·贰",null,0]
[35012,11003,225,552,975,"玄龟盾","前方形成土系防御盾，抵挡相当于自身生命上限{0}%的伤害，持续{1}秒",16,"icon_fb3501","S3501",3501,null,80,1,3,3,"13;12",1,"110","5",1311,5,null,13,12,{"$nulls":5},{"$f":"CONCATENATE(\"土灵根+\",V304)","v":"土灵根+5"},"玄龟盾·叁",null,0,{"$nulls":12},5]
[35013,11003,337.5,553,976,"玄龟盾","前方形成土系防御盾，抵挡相当于自身生命上限{0}%的伤害，持续{1}秒",16,"icon_fb3501","S3501",3501,null,80,1,3,4,"16;12",1,"110","5",1312,null,null,16,12,{"$nulls":5},"盾强度提升","玄龟盾·肆",null,0,{"$nulls":12},5]
[35014,11003,506.25,554,977,"玄龟盾","前方形成土系防御盾，抵挡相当于自身生命上限{0}%的伤害，持续{1}秒",16,"icon_fb3501","S3501",3501,null,80,1,3,5,"16;12",1,"110","10",1313,5,null,16,12,{"$nulls":5},{"$f":"CONCATENATE(\"土灵根+\",V306)","v":"土灵根+5"},"玄龟盾·伍",null,0,{"$nulls":12},10]
[35015,11003,759.375,555,978,"玄龟盾","前方形成土系防御盾，抵挡相当于自身生命上限{0}%的伤害，持续{1}秒",16,"icon_fb3501","S3501",3501,null,80,1,3,6,"20;12",1,"110","10",1314,null,null,20,12,{"$nulls":5},"盾强度提升","玄龟盾·陆",null,0,{"$nulls":12},10]
[{"$nulls":8},"icon_s",{"$nulls":4},1,{"$nulls":17},"",null,""]
[null,11006,100,556,979,"天殇血刃剑","对敌人照成土属性伤害，并封锁敌人土系经络6秒",16,"icon_s3502",{"$f":"CONCATENATE(\"S\",K309)","v":"S3502"},3502,null,80,1,3,1,{"$f":"_xlfn.TEXTJOIN(\";\",1,X309:AD309)","v":""},1,{"$f":"_xlfn.TEXTJOIN(\";\",1,IF(AN309=\"\",\"\",101),IF(AO309=\"\",\"\",102),IF(AP309=\"\",\"\",103),IF(AQ309=\"\",\"\",106),IF(AR309=\"\",\"\",107),IF(AS309=\"\",\"\",108),IF(AT309=\"\",\"\",109),IF(AU309=\"\",\"\",110))","v":""},{"$f":"_xlfn.TEXTJOIN(\";\",1,AN309:AU309)","v":""},-1,{"$nulls":10},"天殇血刃剑·壹",null,""]
[null,11006,150,557,980,"天殇血刃剑","对敌人照成土属性伤害，并封锁敌人土系经络6秒",16,"icon_s3502",{"$f":"CONCATENATE(\"S\",K310)","v":"S3502"},3502,null,80,1,3,2,"",1,{"$f":"_xlfn.TEXTJOIN(\";\",1,IF(AN310=\"\",\"\",101),IF(AO310=\"\",\"\",102),IF(AP310=\"\",\"\",103),IF(AQ310=\"\",\"\",106),IF(AR310=\"\",\"\",107),IF(AS310=\"\",\"\",108),IF(AT310=\"\",\"\",109),IF(AU310=\"\",\"\",110))","v":""},{"$f":"_xlfn.TEXTJOIN(\";\",1,AN310:AU310)","v":""},1315,{"$nulls":10},"天殇血刃剑·贰",null,""]
[null,11006,225,558,981,"天殇血刃剑","对敌人照成土属性伤害，并封锁敌人土系经络6秒",16,"icon_s3502","S3502",3502,null,80,1,3,3,"",1,"","",1316,{"$nulls":10},"天殇血刃剑·叁",null,""]
[null,11006,337.5,559,982,"天殇血刃剑","对敌人照成土属性伤害，并封锁敌人土系经络6秒",16,"icon_s3502","S3502",3502,null,80,1,3,4,"",1,"","",1317,{"$nulls":10},"天殇血刃剑·肆",null,""]
[null,11006,506.25,560,983,"天殇血刃剑","对敌人照成土属性伤害，并封锁敌人土系经络6秒",16,"icon_s3502","S3502",3502,null,80,1,3,5,"",1,"","",1318,{"$nulls":10},"天殇血刃剑·伍",null,""]
[null,11006,759.375,561,984,"天殇血刃剑","对敌人照成土属性伤害，并封锁敌人土系经络6秒",16,"icon_s3502","S3502",3502,null,80,1,3,6,"",1,"","",1319,{"$nulls":10},"天殇血刃剑·陆",null,""]
[{"$nulls":8},"icon_s",{"$nulls":4},1,{"$nulls":17},"",null,""]
[null,"英雄-大道区域",{"$nulls":6},"icon_s",{"$nulls":4},1,{"$nulls":19},""]
[601011,null,100,696,699,"星辰道","每次释放功法时获得{0}点能量，{1}点能量后提升{2}%转盘速度和{3}%攻击速度，持续{4}秒。",1,"icon_s1001","DS60101",1001,null,1,1,4,"1","10;100;50;50;9",0,{"$nulls":15},0]
[601021,null,100,697,700,"生衍道","功法拥有生息之能，每次使用功法能获得1对应属性的充能，充能满后获得对应属性的加成 \n{0}金：提升{1}%攻击力 ,最大{2}%\n{0}木：恢复{3}%生命 \n{0}水：治疗最严重的伤势，使其伤势-{4} \n{0}火：功法强度提升{5}%，最大{6}%\n{0}土：玩家防御提升{7}%，最大{8}%",1,"icon_s1002","DS60102",1002,null,1,1,4,"1","3;3;30;5;1;3;30;3;30",0,{"$nulls":15},0]
[601031,null,100,698,701,"玄黄道 ","每次使用功法时在当前位置留下一道属性印记，下一个放上来的功法如果和以前功法相生则功法效果提升{0}%，每次使用功法时都会治疗对应相生属性的{1}伤势。（均衡性功法搭配，转盘改变，变为金、水、木、火、土）\n",1,"icon_s1003","DS60103",1003,null,1,1,4,"1","30;1",0,{"$nulls":15},0]
[{"$nulls":8},"icon_s",{"$nulls":4},1,{"$nulls":19},""]
[null,"怪物-主动功法区域",{"$nulls":6},"icon_s",{"$nulls":4},1,{"$nulls":17},{"$f":"IF(F321=\"\",\"\",CONCATENATE(F321,\"·\",CHOOSE(P321,\"壹\",\"贰\",\"叁\",\"肆\",\"伍\",\"陆\")))","v":""},null,""]
[{"$f":"K322*10+P322-1","v":90010},null,300,707,717,"万箭穿心","(前摇时间长)：最多10柄剑从远处汇聚到boss周围，然后以一字行快速贯穿目标对目标照成{0}伤害，每命中目标肉体{1}次防御削减{2}%，目标肉体{3}次所有伤势+{4}  ,如果目标上有剑毅，每丙剑消耗{5}层剑毅让敌人受到额外{6}%的伤害\n,如果目标上有剑毅，每丙剑消耗{5}层剑毅让敌人受到{6}额外的伤害",1,"icon_s9001",{"$f":"CONCATENATE(\"S\",K322)","v":"S9001"},9001,"BossSk1_timeline_TD",3,1,1,1,{"$f":"_xlfn.TEXTJOIN(\";\",1,X322:AD322)","v":"63;5;1;10;1;1;20"},1,{"$nulls":5},63,5,1,10,1,1,20,null,"万箭穿心·壹",null,900,10,{"$f":"X322","v":63},0.3]
[90011,null,{"$f":"C322*1.5","v":450},707,717,"万箭穿心","(前摇时间长)：最多10柄剑从远处汇聚到boss周围，然后以一字行快速贯穿目标对目标照成{0}伤害，每命中目标肉体{1}次防御削减{2}%，目标肉体{3}次所有伤势+{4}  ,如果目标上有剑毅，每丙剑消耗{5}层剑毅让敌人受到额外{6}%的伤害\n,如果目标上有剑毅，每丙剑消耗{5}层剑毅让敌人受到{6}额外的伤害",1,{"$f":"CONCATENATE(\"icon_s\",K323)","v":"icon_s9001"},{"$f":"CONCATENATE(\"S\",K323)","v":"S9001"},9001,"BossSk1_timeline_TD",3,1,1,2,"76;5;1;10;1;1;20",1,{"$nulls":5},76,5,1,10,1,1,20,null,{"$f":"IF(F323=\"\",\"\",CONCATENATE(F323,\"·\",CHOOSE(P323,\"壹\",\"贰\",\"叁\",\"肆\",\"伍\",\"陆\")))","v":"万箭穿心·贰"},null,1085.71428571429,10,{"$f":"X323","v":76},0.3]
[90012,null,{"$f":"C323*1.5","v":675},707,717,"万箭穿心","(前摇时间长)：最多10柄剑从远处汇聚到boss周围，然后以一字行快速贯穿目标对目标照成{0}伤害，每命中目标肉体{1}次防御削减{2}%，目标肉体{3}次所有伤势+{4}  ,如果目标上有剑毅，每丙剑消耗{5}层剑毅让敌人受到额外{6}%的伤害\n,如果目标上有剑毅，每丙剑消耗{5}层剑毅让敌人受到{6}额外的伤害",1,"icon_s9001","S9001",9001,"BossSk1_timeline_TD",3,1,1,3,"89;5;1;10;1;1;20",1,{"$nulls":5},89,5,1,10,1,1,20,null,"万箭穿心·叁",null,1271.42857142857,10,89,0.3]
[90013,null,1012.5,707,717,"万箭穿心","(前摇时间长)：最多10柄剑从远处汇聚到boss周围，然后以一字行快速贯穿目标对目标照成{0}伤害，每命中目标肉体{1}次防御削减{2}%，目标肉体{3}次所有伤势+{4}  ,如果目标上有剑毅，每丙剑消耗{5}层剑毅让敌人受到额外{6}%的伤害\n,如果目标上有剑毅，每丙剑消耗{5}层剑毅让敌人受到{6}额外的伤害",1,"icon_s9001","S9001",9001,"BossSk1_timeline_TD",3,1,1,4,"102;5;1;10;1;1;20",1,{"$nulls":5},102,5,1,10,1,1,20,null,"万箭穿心·肆",null,1457.14285714286,10,102,0.3]
[90014,null,1518.75,707,717,"万箭穿心","(前摇时间长)：最多10柄剑从远处汇聚到boss周围，然后以一字行快速贯穿目标对目标照成{0}伤害，每命中目标肉体{1}次防御削减{2}%，目标肉体{3}次所有伤势+{4}  ,如果目标上有剑毅，每丙剑消耗{5}层剑毅让敌人受到额外{6}%的伤害\n,如果目标上有剑毅，每丙剑消耗{5}层剑毅让敌人受到{6}额外的伤害",1,"icon_s9001","S9001",9001,"BossSk1_timeline_TD",3,1,1,5,"115;5;1;10;1;1;20",1,{"$nulls":5},115,5,1,10,1,1,20,null,"万箭穿心·伍",null,1642.85714285714,10,115,0.3]
[90015,null,2278.125,707,717,"万箭穿心","(前摇时间长)：最多10柄剑从远处汇聚到boss周围，然后以一字行快速贯穿目标对目标照成{0}伤害，每命中目标肉体{1}次防御削减{2}%，目标肉体{3}次所有伤势+{4}  ,如果目标上有剑毅，每丙剑消耗{5}层剑毅让敌人受到额外{6}%的伤害\n,如果目标上有剑毅，每丙剑消耗{5}层剑毅让敌人受到{6}额外的伤害",1,"icon_s9001","S9001",9001,"BossSk1_timeline_TD",3,1,1,6,"126;5;1;10;1;1;20",1,{"$nulls":5},126,5,1,10,1,1,20,null,"万箭穿心·陆",null,{"$f":"IF(A327=\"\",\"\",AI327*AJ327/(1-AK327-AL327))","v":1800},10,126,0.3]
[{"$nulls":13},1,{"$nulls":19},{"$f":"IF(A328=\"\",\"\",AI328*AJ328/(1-AK328-AL328))","v":""}]
[{"$f":"K329*10+P329-1","v":90020},null,300,708,718,"御剑术","身体周围围绕多丙金属剑飞行，可以阻挡敌人相当于自身最大生命{0}%的伤害。该剑阵受到火系伤害时会升温，升温后会融化。另外该剑阵受到额外{0}%的火系伤害。",1,{"$f":"CONCATENATE(\"icon_s\",K329)","v":"icon_s9002"},"S9002",9002,"BossSk2_timeline_TD",3,1,1,1,"30;100",1,{"$nulls":5},30,100,{"$nulls":6},"御剑术·壹",null,300,10,{"$f":"X329","v":30}]
[90021,null,{"$f":"C329*1.5","v":450},708,718,"御剑术","身体周围围绕多丙金属剑飞行，可以阻挡敌人相当于自身最大生命{0}%的伤害。该剑阵受到火系伤害时会升温，升温后会融化。另外该剑阵受到额外{0}%的火系伤害。",1,"icon_s9002",{"$f":"CONCATENATE(\"S\",K330)","v":"S9002"},9002,"BossSk2_timeline_TD",3,1,1,2,{"$f":"_xlfn.TEXTJOIN(\";\",1,X330:AD330)","v":"33;110"},1,{"$nulls":5},33,110,{"$nulls":6},{"$f":"IF(F330=\"\",\"\",CONCATENATE(F330,\"·\",CHOOSE(P330,\"壹\",\"贰\",\"叁\",\"肆\",\"伍\",\"陆\")))","v":"御剑术·贰"},null,330,10,{"$f":"X330","v":33}]
[90022,null,{"$f":"C330*1.5","v":675},708,718,"御剑术","身体周围围绕多丙金属剑飞行，可以阻挡敌人相当于自身最大生命{0}%的伤害。该剑阵受到火系伤害时会升温，升温后会融化。另外该剑阵受到额外{0}%的火系伤害。",1,"icon_s9002","S9002",9002,"BossSk2_timeline_TD",3,1,1,3,"36;120",1,{"$nulls":5},36,120,{"$nulls":6},"御剑术·叁",null,360,10,36]
[90023,null,1012.5,708,718,"御剑术","身体周围围绕多丙金属剑飞行，可以阻挡敌人相当于自身最大生命{0}%的伤害。该剑阵受到火系伤害时会升温，升温后会融化。另外该剑阵受到额外{0}%的火系伤害。",1,"icon_s9002","S9002",9002,"BossSk2_timeline_TD",3,1,1,4,"39;130",1,{"$nulls":5},39,130,{"$nulls":6},"御剑术·肆",null,390,10,39]
[90024,null,1518.75,708,718,"御剑术","身体周围围绕多丙金属剑飞行，可以阻挡敌人相当于自身最大生命{0}%的伤害。该剑阵受到火系伤害时会升温，升温后会融化。另外该剑阵受到额外{0}%的火系伤害。",1,"icon_s9002","S9002",9002,"BossSk2_timeline_TD",3,1,1,5,"42;140",1,{"$nulls":5},42,140,{"$nulls":6},"御剑术·伍",null,420,10,42]
[90025,null,2278.125,708,718,"御剑术","身体周围围绕多丙金属剑飞行，可以阻挡敌人相当于自身最大生命{0}%的伤害。该剑阵受到火系伤害时会升温，升温后会融化。另外该剑阵受到额外{0}%的火系伤害。",1,"icon_s9002","S9002",9002,"BossSk2_timeline_TD",3,1,1,6,"45;150",1,{"$nulls":5},45,150,{"$nulls":6},"御剑术·陆",null,450,10,45]
[{"$nulls":13},1]
[{"$f":"K336*10+P336-1","v":90030},null,100,709,719,"剑意","剑祖的攻击会让目标受到一层剑毅",1,{"$f":"CONCATENATE(\"icon_s\",K336)","v":"icon_s9003"},"S9003",9003,null,1,1,2,1,"1",1,{"$nulls":5},1,{"$nulls":7},"剑意·壹",null,0]
[{"$nulls":13},1]
[{"$f":"K338*10+P338-1","v":90040},null,100,710,720,"boss技能4","发射3柄剑，对敌人照成{0}伤害",1,{"$f":"CONCATENATE(\"icon_s\",K338)","v":"icon_s9004"},"S9004",9004,"BossSk4_timeline_TD",1,1,1,1,{"$f":"_xlfn.TEXTJOIN(\";\",1,X338:AD338)","v":"100"},1,{"$nulls":5},100,{"$nulls":7},"boss技能4·壹",null,{"$f":"IF(A338=\"\",\"\",AI338*AJ338/(1-AK338-AL338))","v":300},3,{"$f":"X338","v":100}]
[90041,null,{"$f":"C338*1.5","v":150},710,720,"boss技能4","发射3柄剑，对敌人照成{0}伤害",1,"icon_s9004",{"$f":"CONCATENATE(\"S\",K339)","v":"S9004"},9004,"BossSk4_timeline_TD",1,1,1,2,"120",1,{"$nulls":5},120,{"$nulls":7},{"$f":"IF(F339=\"\",\"\",CONCATENATE(F339,\"·\",CHOOSE(P339,\"壹\",\"贰\",\"叁\",\"肆\",\"伍\",\"陆\")))","v":"boss技能4·贰"},null,360,3,{"$f":"X339","v":120}]
[90042,null,{"$f":"C339*1.5","v":225},710,720,"boss技能4","发射3柄剑，对敌人照成{0}伤害",1,"icon_s9004","S9004",9004,"BossSk4_timeline_TD",1,1,1,3,"140",1,{"$nulls":5},140,{"$nulls":7},"boss技能4·叁",null,420,3,140]
[90043,null,337.5,710,720,"boss技能4","发射3柄剑，对敌人照成{0}伤害",1,"icon_s9004","S9004",9004,"BossSk4_timeline_TD",1,1,1,4,"160",1,{"$nulls":5},160,{"$nulls":7},"boss技能4·肆",null,480,3,160]
[90044,null,506.25,710,720,"boss技能4","发射3柄剑，对敌人照成{0}伤害",1,"icon_s9004","S9004",9004,"BossSk4_timeline_TD",1,1,1,5,"180",1,{"$nulls":5},180,{"$nulls":7},"boss技能4·伍",null,540,3,180]
[90045,null,759.375,710,720,"boss技能4","发射3柄剑，对敌人照成{0}伤害",1,"icon_s9004",{"$f":"CONCATENATE(\"S\",K343)","v":"S9004"},9004,"BossSk4_timeline_TD",1,1,1,6,"200",1,{"$nulls":5},200,{"$nulls":7},{"$f":"IF(F343=\"\",\"\",CONCATENATE(F343,\"·\",CHOOSE(P343,\"壹\",\"贰\",\"叁\",\"肆\",\"伍\",\"陆\")))","v":"boss技能4·陆"},null,600,3,200]
[{"$nulls":13},1]
[{"$f":"K345*10+P345-1","v":90050},null,100,711,721,"boss技能5","发射3柄剑，对敌人照成{0}伤害",1,{"$f":"CONCATENATE(\"icon_s\",K345)","v":"icon_s9005"},"S9005",9005,"BossSk4_timeline_TD",1,1,1,1,"100",1,{"$nulls":5},100,{"$nulls":7},"boss技能5·壹",null,{"$f":"IF(A345=\"\",\"\",AI345*AJ345/(1-AK345-AL345))","v":300},3,{"$f":"X345","v":100}]
[90051,null,{"$f":"C345*1.5","v":150},711,721,"boss技能5","发射3柄剑，对敌人照成{0}伤害",1,"icon_s9005",{"$f":"CONCATENATE(\"S\",K346)","v":"S9005"},9005,"BossSk4_timeline_TD",1,1,1,2,"120",1,{"$nulls":5},120,{"$nulls":7},{"$f":"IF(F346=\"\",\"\",CONCATENATE(F346,\"·\",CHOOSE(P346,\"壹\",\"贰\",\"叁\",\"肆\",\"伍\",\"陆\")))","v":"boss技能5·贰"},null,360,3,{"$f":"X346","v":120}]
[90052,null,{"$f":"C346*1.5","v":225},711,721,"boss技能5","发射3柄剑，对敌人照成{0}伤害",1,"icon_s9005","S9005",9005,"BossSk4_timeline_TD",1,1,1,3,"140",1,{"$nulls":5},140,{"$nulls":7},"boss技能5·叁",null,420,3,140]
[90053,null,337.5,711,721,"boss技能5","发射3柄剑，对敌人照成{0}伤害",1,"icon_s9005","S9005",9005,"BossSk4_timeline_TD",1,1,1,4,"160",1,{"$nulls":5},160,{"$nulls":7},"boss技能5·肆",null,480,3,160]
[90054,null,506.25,711,721,"boss技能5","发射3柄剑，对敌人照成{0}伤害",1,"icon_s9005","S9005",9005,"BossSk4_timeline_TD",1,1,1,5,"180",1,{"$nulls":5},180,{"$nulls":7},"boss技能5·伍",null,540,3,180]
[90055,null,759.375,711,721,"boss技能5","发射3柄剑，对敌人照成{0}伤害",1,"icon_s9005","S9005",9005,"BossSk4_timeline_TD",1,1,1,6,"200",1,{"$nulls":5},200,{"$nulls":7},"boss技能5·陆",null,600,3,200]
[]
[{"$nulls":18},300]
[{"$nulls":18},360]
[{"$nulls":18},420]
[{"$nulls":18},480]
[{"$nulls":18},540]
[{"$nulls":18},600]

{"sheet":"SkillPowerupConfig","index":1,"n_rows":65,"n_cols":9,"rows_kept":65,"cut":false,"hidden":false,"merged":[]}
["ID","MainPower","SkillPower1","LevelupItem","LevelupItemNum","PlayerLevelLimit"]
["int","float","float","int[]","int[]","int"]
[]
["等级","功法对拼标准强度","标准强度百分比","功法升级所需道具","攻击升级所需道具数量","升级所需境界",1.1225,100,100]
[1,100,100,"1001;1005","100;100",6]
[2,{"$f":"ROUND(B5*G$4,2)","v":112.25},{"$f":"ROUND(C$5+(I$4*A5/60),2)","v":101.67},"1001;1005","100;100",11]
[3,{"$f":"ROUND(B6*G$4,2)","v":126},{"$f":"ROUND(C$5+(I$4*A6/60),2)","v":103.33},"1001;1005","100;100",16]
[4,141.44,105,"1001;1005","100;100",21]
[5,158.77,106.67,"1001;1005","100;100",26]
[6,178.22,108.33,"1001;1005","100;100",31]
[7,200.05,110,"1001;1005","100;100",36]
[8,224.56,111.67,"1001;1005","100;100",41]
[9,252.07,113.33,"1001;1005","100;100",46]
[10,282.95,115,"1001;1005","100;100",51]
[11,317.61,116.67,"1001;1005","100;100",56]
[12,356.52,118.33,"1001;1005","100;100",61]
[13,400.19,120,"1001;1005","100;100",66]
[14,449.21,121.67,"1001;1005","100;100",71]
[15,504.24,123.33,"1001;1005","100;100",76]
[16,566.01,125,"1001;1005","100;100",81]
[17,635.35,126.67,"1001;1005","100;100",86]
[18,713.18,128.33,"1001;1005","100;100",91]
[19,800.54,130,"1001;1005","100;100",96]
[20,898.61,131.67,"1001;1005","100;100",101]
[21,1008.69,133.33,"1001;1005","100;100",106]
[22,1132.25,135,"1001;1005","100;100",111]
[23,1270.95,136.67,"1001;1005","100;100",116]
[24,1426.64,138.33,"1001;1005","100;100",121]
[25,1601.4,140,"1001;1005","100;100",126]
[26,1797.57,141.67,"1001;1005","100;100",131]
[27,2017.77,143.33,"1001;1005","100;100",136]
[28,2264.95,145,"1001;1005","100;100",141]
[29,2542.41,146.67,"1001;1005","100;100",146]
[30,2853.86,148.33,"1001;1005","100;100",151]
[31,3203.46,150,"1001;1005","100;100",156]
[32,3595.88,151.67,"1001;1005","100;100",161]
[33,4036.38,153.33,"1001;1005","100;100",166]
[34,4530.84,155,"1001;1005","100;100",171]
[35,5085.87,156.67,"1001;1005","100;100",176]
[36,5708.89,158.33,"1001;1005","100;100",181]
[37,6408.23,160,"1001;1005","100;100",186]
[38,7193.24,161.67,"1001;1005","100;100",191]
[39,8074.41,163.33,"1001;1005","100;100",196]
[40,9063.53,165,"1001;1005","100;100",201]
[41,10173.81,166.67,"1001;1005","100;100",206]
[42,11420.1,168.33,"1001;1005","100;100",211]
[43,12819.06,170,"1001;1005","100;100",216]
[44,14389.39,171.67,"1001;1005","100;100",221]
[45,16152.09,173.33,"1001;1005","100;100",226]
[46,18130.72,175,"1001;1005","100;100",231]
[47,20351.73,176.67,"1001;1005","100;100",236]
[48,22844.82,178.33,"1001;1005","100;100",241]
[49,25643.31,180,"1001;1005","100;100",246]
[50,28784.62,181.67,"1001;1005","100;100",251]
[51,32310.74,183.33,"1001;1005","100;100",256]
[52,36268.81,185,"1001;1005","100;100",261]
[53,40711.74,186.67,"1001;1005","100;100",266]
[54,45698.93,188.33,"1001;1005","100;100",271]
[55,51297.05,190,"1001;1005","100;100",276]
[56,57580.94,191.67,"1001;1005","100;100",281]
[57,64634.61,193.33,"1001;1005","100;100",286]
[58,72552.35,195,"1001;1005","100;100",291]
[59,81440.01,196.67,"1001;1005","100;100",296]
[60,91416.41,198.33,"1001;1005","100;100",300]
[61,{"$f":"ROUND(B64*G$4,2)","v":102614.92},200,"1001;1005","100;100",-1]

{"sheet":"SkillConstant","index":2,"n_rows":18,"n_cols":12,"rows_kept":18,"cut":false,"hidden":false,"merged":[]}
["ID",null,"SkilltoPieceNum","SkillPromoteNeedPieceNum"]
["int",null,"int[]","int[]"]
[]
[null,null,"重复功法自动转碎片的数量","功法升到对应星级所需碎片数量"]
[1,null,{"$f":"_xlfn.TEXTJOIN(\";\",1,C8:C17)","v":"1;5;20;100;200;300;500;700;1000;1300"},{"$f":"_xlfn.TEXTJOIN(\";\",1,1,D8:D16)","v":"1;4;15;80;100;100;200;200;300;300"}]
[{"$nulls":4},"升星所需数量"]
[null,null,"碎片数量","升星所需碎片","1星","2星","3星","4星","权重","标准概率","预设概率"]
[null,1,1,{"$f":"C9-C8","v":4},{"$f":"D8/C$8","v":4},null,null,null,{"$f":"C$8*C$9*C$10*C$11/C8","v":10000},{"$f":"I8/SUM(I$8:I$11)","v":0.793650793650794},{"$f":"1-SUM(K9:K11)","v":0.825}]
[null,2,5,{"$f":"C10-C9","v":15},{"$f":"D9/C$8","v":15},{"$f":"D9/C$9","v":3},null,null,{"$f":"C$8*C$9*C$10*C$11/C9","v":2000},{"$f":"I9/SUM(I$8:I$11)","v":0.158730158730159},0.14,{"$f":"K9/J9","v":0.882}]
[null,3,20,80,80,{"$f":"D10/C$9","v":16},{"$f":"D10/C$10","v":4},null,500,0.0396825396825397,0.03,0.756]
[null,4,100,100,100,20,{"$f":"D11/C$10","v":5},{"$f":"D11/C$11","v":1},100,0.00793650793650794,0.005,0.63]
[null,5,200,100,100,20,5,{"$f":"D12/C$11","v":1}]
[null,6,{"$f":"C12+D12","v":300},200,200,40,10,2]
[null,7,{"$f":"C13+D13","v":500},200,200,40,10,2]
[null,8,700,300,300,60,15,3]
[null,9,1000,300,300,60,15,3]
[null,10,1300]
[{"$nulls":4},{"$f":"SUM(E8:E16)+1","v":1300},{"$f":"SUM(F8:F16)+1","v":260},{"$f":"SUM(G8:G16)+1","v":65},{"$f":"SUM(H8:H16)+1","v":13}]

{"sheet":"技能设计","index":3,"n_rows":8,"n_cols":11,"rows_kept":8,"cut":false,"hidden":false,"merged":[]}
[null,null,"生命","攻击","防御",null,"金","水","木","火","土"]
[null,"星级",101,102,103,null,106,107,108,109,110]
["0星",1,{"$f":"SUMIFS(SkillConfig!AN5:AN10018,SkillConfig!$A5:$A10018,\"<>\"&\"\",SkillConfig!$P5:$P10018,$B3)","v":0},{"$f":"SUMIFS(SkillConfig!AO5:AO10018,SkillConfig!$A5:$A10018,\"<>\"&\"\",SkillConfig!$P5:$P10018,$B3)","v":0},{"$f":"SUMIFS(SkillConfig!AP5:AP10018,SkillConfig!$A5:$A10018,\"<>\"&\"\",SkillConfig!$P5:$P10018,$B3)","v":0},null,{"$f":"SUMIFS(SkillConfig!AQ5:AQ10018,SkillConfig!$A5:$A10018,\"<>\"&\"\",SkillConfig!$P5:$P10018,$B3)","v":0},{"$f":"SUMIFS(SkillConfig!AR5:AR10018,SkillConfig!$A5:$A10018,\"<>\"&\"\",SkillConfig!$P5:$P10018,$B3)","v":0},{"$f":"SUMIFS(SkillConfig!AS5:AS10018,SkillConfig!$A5:$A10018,\"<>\"&\"\",SkillConfig!$P5:$P10018,$B3)","v":0},{"$f":"SUMIFS(SkillConfig!AT5:AT10018,SkillConfig!$A5:$A10018,\"<>\"&\"\",SkillConfig!$P5:$P10018,$B3)","v":0},{"$f":"SUMIFS(SkillConfig!AU5:AU10018,SkillConfig!$A5:$A10018,\"<>\"&\"\",SkillConfig!$P5:$P10018,$B3)","v":0}]
["1星",2,{"$f":"SUMIFS(SkillConfig!AN6:AN10019,SkillConfig!$A6:$A10019,\"<>\"&\"\",SkillConfig!$P6:$P10019,$B4)","v":21},{"$f":"SUMIFS(SkillConfig!AO6:AO10019,SkillConfig!$A6:$A10019,\"<>\"&\"\",SkillConfig!$P6:$P10019,$B4)","v":29},{"$f":"SUMIFS(SkillConfig!AP6:AP10019,SkillConfig!$A6:$A10019,\"<>\"&\"\",SkillConfig!$P6:$P10019,$B4)","v":24},null,{"$f":"SUMIFS(SkillConfig!AQ6:AQ10019,SkillConfig!$A6:$A10019,\"<>\"&\"\",SkillConfig!$P6:$P10019,$B4)","v":5},{"$f":"SUMIFS(SkillConfig!AR6:AR10019,SkillConfig!$A6:$A10019,\"<>\"&\"\",SkillConfig!$P6:$P10019,$B4)","v":0},{"$f":"SUMIFS(SkillConfig!AS6:AS10019,SkillConfig!$A6:$A10019,\"<>\"&\"\",SkillConfig!$P6:$P10019,$B4)","v":5},{"$f":"SUMIFS(SkillConfig!AT6:AT10019,SkillConfig!$A6:$A10019,\"<>\"&\"\",SkillConfig!$P6:$P10019,$B4)","v":5},{"$f":"SUMIFS(SkillConfig!AU6:AU10019,SkillConfig!$A6:$A10019,\"<>\"&\"\",SkillConfig!$P6:$P10019,$B4)","v":0}]
["2星",3,{"$f":"SUMIFS(SkillConfig!AN7:AN10020,SkillConfig!$A7:$A10020,\"<>\"&\"\",SkillConfig!$P7:$P10020,$B5)","v":77},{"$f":"SUMIFS(SkillConfig!AO7:AO10020,SkillConfig!$A7:$A10020,\"<>\"&\"\",SkillConfig!$P7:$P10020,$B5)","v":73},{"$f":"SUMIFS(SkillConfig!AP7:AP10020,SkillConfig!$A7:$A10020,\"<>\"&\"\",SkillConfig!$P7:$P10020,$B5)","v":78},null,{"$f":"SUMIFS(SkillConfig!AQ7:AQ10020,SkillConfig!$A7:$A10020,\"<>\"&\"\",SkillConfig!$P7:$P10020,$B5)","v":5},{"$f":"SUMIFS(SkillConfig!AR7:AR10020,SkillConfig!$A7:$A10020,\"<>\"&\"\",SkillConfig!$P7:$P10020,$B5)","v":5},{"$f":"SUMIFS(SkillConfig!AS7:AS10020,SkillConfig!$A7:$A10020,\"<>\"&\"\",SkillConfig!$P7:$P10020,$B5)","v":10},{"$f":"SUMIFS(SkillConfig!AT7:AT10020,SkillConfig!$A7:$A10020,\"<>\"&\"\",SkillConfig!$P7:$P10020,$B5)","v":10},{"$f":"SUMIFS(SkillConfig!AU7:AU10020,SkillConfig!$A7:$A10020,\"<>\"&\"\",SkillConfig!$P7:$P10020,$B5)","v":5}]
["3星",4,{"$f":"SUMIFS(SkillConfig!AN8:AN10021,SkillConfig!$A8:$A10021,\"<>\"&\"\",SkillConfig!$P8:$P10021,$B6)","v":103},{"$f":"SUMIFS(SkillConfig!AO8:AO10021,SkillConfig!$A8:$A10021,\"<>\"&\"\",SkillConfig!$P8:$P10021,$B6)","v":112},{"$f":"SUMIFS(SkillConfig!AP8:AP10021,SkillConfig!$A8:$A10021,\"<>\"&\"\",SkillConfig!$P8:$P10021,$B6)","v":102},null,{"$f":"SUMIFS(SkillConfig!AQ8:AQ10021,SkillConfig!$A8:$A10021,\"<>\"&\"\",SkillConfig!$P8:$P10021,$B6)","v":10},{"$f":"SUMIFS(SkillConfig!AR8:AR10021,SkillConfig!$A8:$A10021,\"<>\"&\"\",SkillConfig!$P8:$P10021,$B6)","v":5},{"$f":"SUMIFS(SkillConfig!AS8:AS10021,SkillConfig!$A8:$A10021,\"<>\"&\"\",SkillConfig!$P8:$P10021,$B6)","v":10},{"$f":"SUMIFS(SkillConfig!AT8:AT10021,SkillConfig!$A8:$A10021,\"<>\"&\"\",SkillConfig!$P8:$P10021,$B6)","v":10},{"$f":"SUMIFS(SkillConfig!AU8:AU10021,SkillConfig!$A8:$A10021,\"<>\"&\"\",SkillConfig!$P8:$P10021,$B6)","v":5}]
["4星",5,{"$f":"SUMIFS(SkillConfig!AN9:AN10022,SkillConfig!$A9:$A10022,\"<>\"&\"\",SkillConfig!$P9:$P10022,$B7)","v":159},{"$f":"SUMIFS(SkillConfig!AO9:AO10022,SkillConfig!$A9:$A10022,\"<>\"&\"\",SkillConfig!$P9:$P10022,$B7)","v":156},{"$f":"SUMIFS(SkillConfig!AP9:AP10022,SkillConfig!$A9:$A10022,\"<>\"&\"\",SkillConfig!$P9:$P10022,$B7)","v":151},null,{"$f":"SUMIFS(SkillConfig!AQ9:AQ10022,SkillConfig!$A9:$A10022,\"<>\"&\"\",SkillConfig!$P9:$P10022,$B7)","v":10},{"$f":"SUMIFS(SkillConfig!AR9:AR10022,SkillConfig!$A9:$A10022,\"<>\"&\"\",SkillConfig!$P9:$P10022,$B7)","v":10},{"$f":"SUMIFS(SkillConfig!AS9:AS10022,SkillConfig!$A9:$A10022,\"<>\"&\"\",SkillConfig!$P9:$P10022,$B7)","v":20},{"$f":"SUMIFS(SkillConfig!AT9:AT10022,SkillConfig!$A9:$A10022,\"<>\"&\"\",SkillConfig!$P9:$P10022,$B7)","v":20},{"$f":"SUMIFS(SkillConfig!AU9:AU10022,SkillConfig!$A9:$A10022,\"<>\"&\"\",SkillConfig!$P9:$P10022,$B7)","v":10}]
["5星",6,{"$f":"SUMIFS(SkillConfig!AN10:AN10023,SkillConfig!$A10:$A10023,\"<>\"&\"\",SkillConfig!$P10:$P10023,$B8)","v":174},{"$f":"SUMIFS(SkillConfig!AO10:AO10023,SkillConfig!$A10:$A10023,\"<>\"&\"\",SkillConfig!$P10:$P10023,$B8)","v":176},{"$f":"SUMIFS(SkillConfig!AP10:AP10023,SkillConfig!$A10:$A10023,\"<>\"&\"\",SkillConfig!$P10:$P10023,$B8)","v":166},null,{"$f":"SUMIFS(SkillConfig!AQ10:AQ10023,SkillConfig!$A10:$A10023,\"<>\"&\"\",SkillConfig!$P10:$P10023,$B8)","v":10},{"$f":"SUMIFS(SkillConfig!AR10:AR10023,SkillConfig!$A10:$A10023,\"<>\"&\"\",SkillConfig!$P10:$P10023,$B8)","v":10},{"$f":"SUMIFS(SkillConfig!AS10:AS10023,SkillConfig!$A10:$A10023,\"<>\"&\"\",SkillConfig!$P10:$P10023,$B8)","v":20},{"$f":"SUMIFS(SkillConfig!AT10:AT10023,SkillConfig!$A10:$A10023,\"<>\"&\"\",SkillConfig!$P10:$P10023,$B8)","v":20},{"$f":"SUMIFS(SkillConfig!AU10:AU10023,SkillConfig!$A10:$A10023,\"<>\"&\"\",SkillConfig!$P10:$P10023,$B8)","v":10}]