{"text_format":"2","workbook":"xlsx","n_sheets":1,"sheets":["MonsterPowerUpConfig"],"not_rendered":{"charts":0,"images":0,"macros":0,"external_links":2,"defined_names":1,"comments":0,"pivot_tables":0},"unopened":[],"bounds":{"document_bytes":16777216,"sheet_cells":100000,"run_cost":"one","rows_first":2000,"rows_last":500,"rows_between":2000,"halvings":0,"cell_chars":16384,"cell_head_chars":4096},"cells_cut":0,"cells_raw":0,"read":"whole","date_system":"1900"}

{"sheet":"MonsterPowerUpConfig","index":0,"n_rows":304,"n_cols":19,"rows_kept":304,"cut":false,"hidden":false,"merged":[]}
["ID","HeroLevel","jingjie1","jingjie2","jingjie3",null,null,null,"HPFactor","ATKFactor","DEFFactor","HudunFactor","defK","GongfaLv","GongfaStar","FabaoLv","FabaoStar","LinggenUp","MPFactor"]
["int","int","int","int","int",null,null,null,"float","float","float","float","int","int","int","int","int","float","float"]
[]
["ID","玩家修为境界（等级）","大境界ID","中境界ID","小境界ID","境界名称1","境界名称2","境界名称3","生命倍率","攻击倍率","防御倍率","护盾倍率","防御系数K","功法等级","功法星级","法宝等级","法宝星级","灵根成长率\n100=100%","法力倍率"]
[1,1,{"$f":"[2]HeroPowerUpConfig!J5","v":225},{"$f":"[2]HeroPowerUpConfig!K5","v":235},{"$f":"[2]HeroPowerUpConfig!L5","v":238},"筑基期","前",1,{"$f":"[1]主表!O3","v":21.122499999999999},{"$f":"[1]主表!P3","v":1.05},{"$f":"[1]主表!Q3","v":1.05},{"$f":"[1]主表!R3","v":0},{"$f":"[1]主表!$G3","v":105},1,1,1,1,100,1]
[2,2,{"$f":"[2]HeroPowerUpConfig!J6","v":225},{"$f":"[2]HeroPowerUpConfig!K6","v":235},{"$f":"[2]HeroPowerUpConfig!L6","v":239},"筑基期","前",2,{"$f":"[1]主表!O4","v":21.649666666666668},{"$f":"[1]主表!P4","v":1.07},{"$f":"[1]主表!Q4","v":1.07},{"$f":"[1]主表!R4","v":0},{"$f":"[1]主表!$G4","v":107},1,1,1,1,100,1]
[3,3,{"$f":"[2]HeroPowerUpConfig!J7","v":225},{"$f":"[2]HeroPowerUpConfig!K7","v":235},{"$f":"[2]HeroPowerUpConfig!L7","v":240},"筑基期","前",3,{"$f":"[1]主表!O5","v":22.181500000000007},{"$f":"[1]主表!P5","v":1.0900000000000001},{"$f":"[1]主表!Q5","v":1.0900000000000001},{"$f":"[1]主表!R5","v":0},{"$f":"[1]主表!$G5","v":109},1,1,1,1,100,1]
[4,4,{"$f":"[2]HeroPowerUpConfig!J8","v":225},{"$f":"[2]HeroPowerUpConfig!K8","v":235},{"$f":"[2]HeroPowerUpConfig!L8","v":241},"筑基期","前",4,{"$f":"[1]主表!O6","v":22.718000000000004},{"$f":"[1]主表!P6","v":1.1100000000000001},{"$f":"[1]主表!Q6","v":1.1100000000000001},{"$f":"[1]主表!R6","v":0},{"$f":"[1]主表!$G6","v":111},1,1,1,1,100,1]
[5,5,{"$f":"[2]HeroPowerUpConfig!J9","v":225},{"$f":"[2]HeroPowerUpConfig!K9","v":235},{"$f":"[2]HeroPowerUpConfig!L9","v":242},"筑基期","前",5,{"$f":"[1]主表!O7","v":23.259166666666662},{"$f":"[1]主表!P7","v":1.1299999999999999},{"$f":"[1]主表!Q7","v":1.1299999999999999},{"$f":"[1]主表!R7","v":0},{"$f":"[1]主表!$G7","v":113},1,1,1,1,100,1]
[6,6,{"$f":"[2]HeroPowerUpConfig!J10","v":225},{"$f":"[2]HeroPowerUpConfig!K10","v":235},{"$f":"[2]HeroPowerUpConfig!L10","v":243},"筑基期","前",6,{"$f":"[1]主表!O8","v":23.804999999999996},{"$f":"[1]主表!P8","v":1.1499999999999999},{"$f":"[1]主表!Q8","v":1.1499999999999999},{"$f":"[1]主表!R8","v":0},{"$f":"[1]主表!$G8","v":115},2,1,1,1,100,1]
[7,7,{"$f":"[2]HeroPowerUpConfig!J11","v":225},{"$f":"[2]HeroPowerUpConfig!K11","v":235},{"$f":"[2]HeroPowerUpConfig!L11","v":244},"筑基期","前",7,{"$f":"[1]主表!O9","v":24.355499999999996},{"$f":"[1]主表!P9","v":1.17},{"$f":"[1]主表!Q9","v":1.17},{"$f":"[1]主表!R9","v":0},{"$f":"[1]主表!$G9","v":117},2,1,1,1,100,1]
[8,8,{"$f":"[2]HeroPowerUpConfig!J12","v":225},{"$f":"[2]HeroPowerUpConfig!K12","v":235},{"$f":"[2]HeroPowerUpConfig!L12","v":245},"筑基期","前",8,{"$f":"[1]主表!O10","v":24.910666666666664},{"$f":"[1]主表!P10","v":1.19},{"$f":"[1]主表!Q10","v":1.19},{"$f":"[1]主表!R10","v":0},{"$f":"[1]主表!$G10","v":119},2,1,1,1,100,1]
[9,9,{"$f":"[2]HeroPowerUpConfig!J13","v":225},{"$f":"[2]HeroPowerUpConfig!K13","v":235},{"$f":"[2]HeroPowerUpConfig!L13","v":246},"筑基期","前",9,{"$f":"[1]主表!O11","v":25.470500000000001},{"$f":"[1]主表!P11","v":1.21},{"$f":"[1]主表!Q11","v":1.21},{"$f":"[1]主表!R11","v":0},{"$f":"[1]主表!$G11","v":121},2,1,1,1,100,1]
[10,10,{"$f":"[2]HeroPowerUpConfig!J14","v":225},{"$f":"[2]HeroPowerUpConfig!K14","v":235},{"$f":"[2]HeroPowerUpConfig!L14","v":247},"筑基期","前",10,{"$f":"[1]主表!O12","v":26.881666666666668},{"$f":"[1]主表!P12","v":1.27},{"$f":"[1]主表!Q12","v":1.27},{"$f":"[1]主表!R12","v":0},{"$f":"[1]主表!$G12","v":127},2,1,1,1,100,1]
[11,11,{"$f":"[2]HeroPowerUpConfig!J15","v":225},{"$f":"[2]HeroPowerUpConfig!K15","v":236},{"$f":"[2]HeroPowerUpConfig!L15","v":238},"筑基期","中",1,{"$f":"[1]主表!O13","v":27.881166666666669},{"$f":"[1]主表!P13","v":1.31},{"$f":"[1]主表!Q13","v":1.31},{"$f":"[1]主表!R13","v":0},{"$f":"[1]主表!$G13","v":131},3,1,{"$f":"P5+1","v":2},1,100,1]
[12,12,{"$f":"[2]HeroPowerUpConfig!J16","v":225},{"$f":"[2]HeroPowerUpConfig!K16","v":236},{"$f":"[2]HeroPowerUpConfig!L16","v":239},"筑基期","中",2,{"$f":"[1]主表!O14","v":28.462000000000003},{"$f":"[1]主表!P14","v":1.33},{"$f":"[1]主表!Q14","v":1.33},{"$f":"[1]主表!R14","v":0},{"$f":"[1]主表!$G14","v":133},3,1,{"$f":"P6+1","v":2},1,100,1]
[13,13,{"$f":"[2]HeroPowerUpConfig!J17","v":225},{"$f":"[2]HeroPowerUpConfig!K17","v":236},{"$f":"[2]HeroPowerUpConfig!L17","v":240},"筑基期","中",3,{"$f":"[1]主表!O15","v":29.047500000000003},{"$f":"[1]主表!P15","v":1.35},{"$f":"[1]主表!Q15","v":1.35},{"$f":"[1]主表!R15","v":0},{"$f":"[1]主表!$G15","v":135},3,1,2,1,100,1]
[14,14,{"$f":"[2]HeroPowerUpConfig!J18","v":225},{"$f":"[2]HeroPowerUpConfig!K18","v":236},{"$f":"[2]HeroPowerUpConfig!L18","v":241},"筑基期","中",4,{"$f":"[1]主表!O16","v":29.637666666666664},{"$f":"[1]主表!P16","v":1.37},{"$f":"[1]主表!Q16","v":1.37},{"$f":"[1]主表!R16","v":0},{"$f":"[1]主表!$G16","v":137},3,1,2,1,100,1]
[15,15,{"$f":"[2]HeroPowerUpConfig!J19","v":225},{"$f":"[2]HeroPowerUpConfig!K19","v":236},{"$f":"[2]HeroPowerUpConfig!L19","v":242},"筑基期","中",5,{"$f":"[1]主表!O17","v":30.232499999999995},{"$f":"[1]主表!P17","v":1.39},{"$f":"[1]主表!Q17","v":1.39},{"$f":"[1]主表!R17","v":0},{"$f":"[1]主表!$G17","v":139},3,1,2,1,100,1]
[16,16,{"$f":"[2]HeroPowerUpConfig!J20","v":225},{"$f":"[2]HeroPowerUpConfig!K20","v":236},{"$f":"[2]HeroPowerUpConfig!L20","v":243},"筑基期","中",6,{"$f":"[1]主表!O18","v":30.831999999999997},{"$f":"[1]主表!P18","v":1.41},{"$f":"[1]主表!Q18","v":1.41},{"$f":"[1]主表!R18","v":0},{"$f":"[1]主表!$G18","v":141},4,1,2,1,100,1]
[17,17,{"$f":"[2]HeroPowerUpConfig!J21","v":225},{"$f":"[2]HeroPowerUpConfig!K21","v":236},{"$f":"[2]HeroPowerUpConfig!L21","v":244},"筑基期","中",7,{"$f":"[1]主表!O19","v":31.436166666666665},{"$f":"[1]主表!P19","v":1.43},{"$f":"[1]主表!Q19","v":1.43},{"$f":"[1]主表!R19","v":0},{"$f":"[1]主表!$G19","v":143},4,1,2,1,100,1]
[18,18,{"$f":"[2]HeroPowerUpConfig!J22","v":225},{"$f":"[2]HeroPowerUpConfig!K22","v":236},{"$f":"[2]HeroPowerUpConfig!L22","v":245},"筑基期","中",8,{"$f":"[1]主表!O20","v":32.265999999999998},{"$f":"[1]主表!P20","v":1.46},{"$f":"[1]主表!Q20","v":1.46},{"$f":"[1]主表!R20","v":0},{"$f":"[1]主表!$G20","v":146},4,1,2,1,100,1]
[19,19,{"$f":"[2]HeroPowerUpConfig!J23","v":225},{"$f":"[2]HeroPowerUpConfig!K23","v":236},{"$f":"[2]HeroPowerUpConfig!L23","v":246},"筑基期","中",9,{"$f":"[1]主表!O21","v":32.880666666666663},{"$f":"[1]主表!P21","v":1.48},{"$f":"[1]主表!Q21","v":1.48},{"$f":"[1]主表!R21","v":0},{"$f":"[1]主表!$G21","v":148},4,1,2,1,100,1]
[20,20,{"$f":"[2]HeroPowerUpConfig!J24","v":225},{"$f":"[2]HeroPowerUpConfig!K24","v":236},{"$f":"[2]HeroPowerUpConfig!L24","v":247},"筑基期","中",10,{"$f":"[1]主表!O22","v":35.286666666666669},{"$f":"[1]主表!P22","v":1.58},{"$f":"[1]主表!Q22","v":1.58},{"$f":"[1]主表!R22","v":0},{"$f":"[1]主表!$G22","v":158},4,1,2,1,100,1]
[21,21,{"$f":"[2]HeroPowerUpConfig!J25","v":225},{"$f":"[2]HeroPowerUpConfig!K25","v":237},{"$f":"[2]HeroPowerUpConfig!L25","v":238},"筑基期","后",1,{"$f":"[1]主表!O23","v":38.164999999999999},{"$f":"[1]主表!P23","v":1.7},{"$f":"[1]主表!Q23","v":1.7},{"$f":"[1]主表!R23","v":0},{"$f":"[1]主表!$G23","v":170},5,1,3,1,100,1]
[22,22,{"$f":"[2]HeroPowerUpConfig!J26","v":225},{"$f":"[2]HeroPowerUpConfig!K26","v":237},{"$f":"[2]HeroPowerUpConfig!L26","v":239},"筑基期","后",2,{"$f":"[1]主表!O24","v":38.814666666666668},{"$f":"[1]主表!P24","v":1.72},{"$f":"[1]主表!Q24","v":1.72},{"$f":"[1]主表!R24","v":0},{"$f":"[1]主表!$G24","v":172},5,1,3,1,100,1]
[23,23,{"$f":"[2]HeroPowerUpConfig!J27","v":225},{"$f":"[2]HeroPowerUpConfig!K27","v":237},{"$f":"[2]HeroPowerUpConfig!L27","v":240},"筑基期","后",3,{"$f":"[1]主表!O25","v":39.922666666666672},{"$f":"[1]主表!P25","v":1.76},{"$f":"[1]主表!Q25","v":1.76},{"$f":"[1]主表!R25","v":0},{"$f":"[1]主表!$G25","v":176},5,1,3,1,100,1]
[24,24,{"$f":"[2]HeroPowerUpConfig!J28","v":225},{"$f":"[2]HeroPowerUpConfig!K28","v":237},{"$f":"[2]HeroPowerUpConfig!L28","v":241},"筑基期","后",4,{"$f":"[1]主表!O26","v":40.812000000000012},{"$f":"[1]主表!P26","v":1.79},{"$f":"[1]主表!Q26","v":1.79},{"$f":"[1]主表!R26","v":0},{"$f":"[1]主表!$G26","v":179},5,1,3,1,100,1]
[25,25,{"$f":"[2]HeroPowerUpConfig!J29","v":225},{"$f":"[2]HeroPowerUpConfig!K29","v":237},{"$f":"[2]HeroPowerUpConfig!L29","v":242},"筑基期","后",5,{"$f":"[1]主表!O27","v":41.479166666666664},{"$f":"[1]主表!P27","v":1.81},{"$f":"[1]主表!Q27","v":1.81},{"$f":"[1]主表!R27","v":0},{"$f":"[1]主表!$G27","v":181},5,1,3,1,100,1]
[26,26,{"$f":"[2]HeroPowerUpConfig!J30","v":225},{"$f":"[2]HeroPowerUpConfig!K30","v":237},{"$f":"[2]HeroPowerUpConfig!L30","v":243},"筑基期","后",6,{"$f":"[1]主表!O28","v":42.611666666666672},{"$f":"[1]主表!P28","v":1.85},{"$f":"[1]主表!Q28","v":1.85},{"$f":"[1]主表!R28","v":0},{"$f":"[1]主表!$G28","v":185},6,1,3,1,100,1]
[27,27,{"$f":"[2]HeroPowerUpConfig!J31","v":225},{"$f":"[2]HeroPowerUpConfig!K31","v":237},{"$f":"[2]HeroPowerUpConfig!L31","v":244},"筑基期","后",7,{"$f":"[1]主表!O29","v":43.521999999999998},{"$f":"[1]主表!P29","v":1.88},{"$f":"[1]主表!Q29","v":1.88},{"$f":"[1]主表!R29","v":0},{"$f":"[1]主表!$G29","v":188},6,1,3,1,100,1]
[28,28,{"$f":"[2]HeroPowerUpConfig!J32","v":225},{"$f":"[2]HeroPowerUpConfig!K32","v":237},{"$f":"[2]HeroPowerUpConfig!L32","v":245},"筑基期","后",8,{"$f":"[1]主表!O30","v":44.206666666666663},{"$f":"[1]主表!P30","v":1.9},{"$f":"[1]主表!Q30","v":1.9},{"$f":"[1]主表!R30","v":0},{"$f":"[1]主表!$G30","v":190},6,1,3,1,100,1]
[29,29,{"$f":"[2]HeroPowerUpConfig!J33","v":225},{"$f":"[2]HeroPowerUpConfig!K33","v":237},{"$f":"[2]HeroPowerUpConfig!L33","v":246},"筑基期","后",9,{"$f":"[1]主表!O31","v":45.597500000000004},{"$f":"[1]主表!P31","v":1.95},{"$f":"[1]主表!Q31","v":1.95},{"$f":"[1]主表!R31","v":0},{"$f":"[1]主表!$G31","v":195},6,1,3,1,100,1]
[30,30,{"$f":"[2]HeroPowerUpConfig!J34","v":225},{"$f":"[2]HeroPowerUpConfig!K34","v":237},{"$f":"[2]HeroPowerUpConfig!L34","v":247},"筑基期","后",10,{"$f":"[1]主表!O32","v":51.230000000000004},{"$f":"[1]主表!P32","v":2.1800000000000002},{"$f":"[1]主表!Q32","v":2.1800000000000002},{"$f":"[1]主表!R32","v":0},{"$f":"[1]主表!$G32","v":218},6,1,3,1,100,1]
[31,31,{"$f":"[2]HeroPowerUpConfig!J35","v":226},{"$f":"[2]HeroPowerUpConfig!K35","v":235},{"$f":"[2]HeroPowerUpConfig!L35","v":238},"金丹期","前",1,{"$f":"[1]主表!O33","v":53.609833333333334},{"$f":"[1]主表!P33","v":2.27},{"$f":"[1]主表!Q33","v":2.27},{"$f":"[1]主表!R33","v":0},{"$f":"[1]主表!$G33","v":227},7,1,4,1,100,1]
[32,32,{"$f":"[2]HeroPowerUpConfig!J36","v":226},{"$f":"[2]HeroPowerUpConfig!K36","v":235},{"$f":"[2]HeroPowerUpConfig!L36","v":239},"金丹期","前",2,{"$f":"[1]主表!O34","v":55.061333333333337},{"$f":"[1]主表!P34","v":2.3199999999999998},{"$f":"[1]主表!Q34","v":2.3199999999999998},{"$f":"[1]主表!R34","v":0},{"$f":"[1]主表!$G34","v":232},7,1,4,1,100,1]
[33,33,{"$f":"[2]HeroPowerUpConfig!J37","v":226},{"$f":"[2]HeroPowerUpConfig!K37","v":235},{"$f":"[2]HeroPowerUpConfig!L37","v":240},"金丹期","前",3,{"$f":"[1]主表!O35","v":56.047499999999999},{"$f":"[1]主表!P35","v":2.35},{"$f":"[1]主表!Q35","v":2.35},{"$f":"[1]主表!R35","v":0},{"$f":"[1]主表!$G35","v":235},7,1,4,1,100,1]
[34,34,{"$f":"[2]HeroPowerUpConfig!J38","v":226},{"$f":"[2]HeroPowerUpConfig!K38","v":235},{"$f":"[2]HeroPowerUpConfig!L38","v":241},"金丹期","前",4,{"$f":"[1]主表!O36","v":57.519999999999996},{"$f":"[1]主表!P36","v":2.4},{"$f":"[1]主表!Q36","v":2.4},{"$f":"[1]主表!R36","v":0},{"$f":"[1]主表!$G36","v":240},7,1,4,1,100,1]
[35,35,{"$f":"[2]HeroPowerUpConfig!J39","v":226},{"$f":"[2]HeroPowerUpConfig!K39","v":235},{"$f":"[2]HeroPowerUpConfig!L39","v":242},"金丹期","前",5,{"$f":"[1]主表!O37","v":58.763333333333335},{"$f":"[1]主表!P37","v":2.44},{"$f":"[1]主表!Q37","v":2.44},{"$f":"[1]主表!R37","v":0},{"$f":"[1]主表!$G37","v":244},7,1,4,1,100,1]
[36,36,{"$f":"[2]HeroPowerUpConfig!J40","v":226},{"$f":"[2]HeroPowerUpConfig!K40","v":235},{"$f":"[2]HeroPowerUpConfig!L40","v":243},"金丹期","前",6,{"$f":"[1]主表!O38","v":59.774000000000001},{"$f":"[1]主表!P38","v":2.4700000000000002},{"$f":"[1]主表!Q38","v":2.4700000000000002},{"$f":"[1]主表!R38","v":0},{"$f":"[1]主表!$G38","v":247},8,1,4,1,100,1]
[37,37,{"$f":"[2]HeroPowerUpConfig!J41","v":226},{"$f":"[2]HeroPowerUpConfig!K41","v":235},{"$f":"[2]HeroPowerUpConfig!L41","v":244},"金丹期","前",7,{"$f":"[1]主表!O39","v":61.277999999999999},{"$f":"[1]主表!P39","v":2.52},{"$f":"[1]主表!Q39","v":2.52},{"$f":"[1]主表!R39","v":0},{"$f":"[1]主表!$G39","v":252},8,1,4,1,100,1]
[38,38,{"$f":"[2]HeroPowerUpConfig!J42","v":226},{"$f":"[2]HeroPowerUpConfig!K42","v":235},{"$f":"[2]HeroPowerUpConfig!L42","v":245},"金丹期","前",8,{"$f":"[1]主表!O40","v":62.793666666666667},{"$f":"[1]主表!P40","v":2.57},{"$f":"[1]主表!Q40","v":2.57},{"$f":"[1]主表!R40","v":0},{"$f":"[1]主表!$G40","v":257},8,1,4,1,100,1]
[39,39,{"$f":"[2]HeroPowerUpConfig!J43","v":226},{"$f":"[2]HeroPowerUpConfig!K43","v":235},{"$f":"[2]HeroPowerUpConfig!L43","v":246},"金丹期","前",9,{"$f":"[1]主表!O41","v":64.320999999999998},{"$f":"[1]主表!P41","v":2.62},{"$f":"[1]主表!Q41","v":2.62},{"$f":"[1]主表!R41","v":0},{"$f":"[1]主表!$G41","v":262},8,1,4,1,100,1]
[40,40,{"$f":"[2]HeroPowerUpConfig!J44","v":226},{"$f":"[2]HeroPowerUpConfig!K44","v":235},{"$f":"[2]HeroPowerUpConfig!L44","v":247},"金丹期","前",10,{"$f":"[1]主表!O42","v":68.326666666666668},{"$f":"[1]主表!P42","v":2.77},{"$f":"[1]主表!Q42","v":2.77},{"$f":"[1]主表!R42","v":0},{"$f":"[1]主表!$G42","v":277},8,1,4,1,100,1]
[41,41,{"$f":"[2]HeroPowerUpConfig!J45","v":226},{"$f":"[2]HeroPowerUpConfig!K45","v":236},{"$f":"[2]HeroPowerUpConfig!L45","v":238},"金丹期","中",1,{"$f":"[1]主表!O43","v":71.128166666666672},{"$f":"[1]主表!P43","v":2.87},{"$f":"[1]主表!Q43","v":2.87},{"$f":"[1]主表!R43","v":0},{"$f":"[1]主表!$G43","v":287},9,1,5,1,100,1]
[42,42,{"$f":"[2]HeroPowerUpConfig!J46","v":226},{"$f":"[2]HeroPowerUpConfig!K46","v":236},{"$f":"[2]HeroPowerUpConfig!L46","v":239},"金丹期","中",2,{"$f":"[1]主表!O44","v":72.707999999999998},{"$f":"[1]主表!P44","v":2.92},{"$f":"[1]主表!Q44","v":2.92},{"$f":"[1]主表!R44","v":0},{"$f":"[1]主表!$G44","v":292},9,1,5,1,100,1]
[43,43,{"$f":"[2]HeroPowerUpConfig!J47","v":226},{"$f":"[2]HeroPowerUpConfig!K47","v":236},{"$f":"[2]HeroPowerUpConfig!L47","v":240},"金丹期","中",3,{"$f":"[1]主表!O45","v":74.549666666666667},{"$f":"[1]主表!P45","v":2.98},{"$f":"[1]主表!Q45","v":2.98},{"$f":"[1]主表!R45","v":0},{"$f":"[1]主表!$G45","v":298},9,1,5,1,100,1]
[44,44,{"$f":"[2]HeroPowerUpConfig!J48","v":226},{"$f":"[2]HeroPowerUpConfig!K48","v":236},{"$f":"[2]HeroPowerUpConfig!L48","v":241},"金丹期","中",4,{"$f":"[1]主表!O46","v":76.656666666666652},{"$f":"[1]主表!P46","v":3.05},{"$f":"[1]主表!Q46","v":3.05},{"$f":"[1]主表!R46","v":0},{"$f":"[1]主表!$G46","v":305},9,1,5,1,100,1]
[45,45,{"$f":"[2]HeroPowerUpConfig!J49","v":226},{"$f":"[2]HeroPowerUpConfig!K49","v":236},{"$f":"[2]HeroPowerUpConfig!L49","v":242},"金丹期","中",5,{"$f":"[1]主表!O47","v":78.274999999999991},{"$f":"[1]主表!P47","v":3.1},{"$f":"[1]主表!Q47","v":3.1},{"$f":"[1]主表!R47","v":0},{"$f":"[1]主表!$G47","v":310},9,1,5,1,100,1]
[46,46,{"$f":"[2]HeroPowerUpConfig!J50","v":226},{"$f":"[2]HeroPowerUpConfig!K50","v":236},{"$f":"[2]HeroPowerUpConfig!L50","v":243},"金丹期","中",6,{"$f":"[1]主表!O48","v":80.158666666666676},{"$f":"[1]主表!P48","v":3.16},{"$f":"[1]主表!Q48","v":3.16},{"$f":"[1]主表!R48","v":0},{"$f":"[1]主表!$G48","v":316},10,1,5,1,100,1]
[47,47,{"$f":"[2]HeroPowerUpConfig!J51","v":226},{"$f":"[2]HeroPowerUpConfig!K51","v":236},{"$f":"[2]HeroPowerUpConfig!L51","v":244},"金丹期","中",7,{"$f":"[1]主表!O49","v":81.80149999999999},{"$f":"[1]主表!P49","v":3.21},{"$f":"[1]主表!Q49","v":3.21},{"$f":"[1]主表!R49","v":0},{"$f":"[1]主表!$G49","v":321},10,1,5,1,100,1]
[48,48,{"$f":"[2]HeroPowerUpConfig!J52","v":226},{"$f":"[2]HeroPowerUpConfig!K52","v":236},{"$f":"[2]HeroPowerUpConfig!L52","v":245},"金丹期","中",8,{"$f":"[1]主表!O50","v":83.712000000000003},{"$f":"[1]主表!P50","v":3.27},{"$f":"[1]主表!Q50","v":3.27},{"$f":"[1]主表!R50","v":0},{"$f":"[1]主表!$G50","v":327},10,1,5,1,100,1]
[49,49,{"$f":"[2]HeroPowerUpConfig!J53","v":226},{"$f":"[2]HeroPowerUpConfig!K53","v":236},{"$f":"[2]HeroPowerUpConfig!L53","v":246},"金丹期","中",9,{"$f":"[1]主表!O51","v":85.893666666666661},{"$f":"[1]主表!P51","v":3.34},{"$f":"[1]主表!Q51","v":3.34},{"$f":"[1]主表!R51","v":0},{"$f":"[1]主表!$G51","v":334},10,1,5,1,100,1]
[50,50,{"$f":"[2]HeroPowerUpConfig!J54","v":226},{"$f":"[2]HeroPowerUpConfig!K54","v":236},{"$f":"[2]HeroPowerUpConfig!L54","v":247},"金丹期","中",10,{"$f":"[1]主表!O52","v":91.708333333333343},{"$f":"[1]主表!P52","v":3.55},{"$f":"[1]主表!Q52","v":3.55},{"$f":"[1]主表!R52","v":0},{"$f":"[1]主表!$G52","v":355},10,1,5,1,100,1]
[51,51,{"$f":"[2]HeroPowerUpConfig!J55","v":226},{"$f":"[2]HeroPowerUpConfig!K55","v":237},{"$f":"[2]HeroPowerUpConfig!L55","v":238},"金丹期","后",1,{"$f":"[1]主表!O53","v":99.647999999999982},{"$f":"[1]主表!P53","v":3.84},{"$f":"[1]主表!Q53","v":3.84},{"$f":"[1]主表!R53","v":0},{"$f":"[1]主表!$G53","v":384},11,2,6,2,100,1]
[52,52,{"$f":"[2]HeroPowerUpConfig!J56","v":226},{"$f":"[2]HeroPowerUpConfig!K56","v":237},{"$f":"[2]HeroPowerUpConfig!L56","v":239},"金丹期","后",2,{"$f":"[1]主表!O54","v":102.18133333333333},{"$f":"[1]主表!P54","v":3.92},{"$f":"[1]主表!Q54","v":3.92},{"$f":"[1]主表!R54","v":0},{"$f":"[1]主表!$G54","v":392},11,2,6,2,100,1]
[53,53,{"$f":"[2]HeroPowerUpConfig!J57","v":226},{"$f":"[2]HeroPowerUpConfig!K57","v":237},{"$f":"[2]HeroPowerUpConfig!L57","v":240},"金丹期","后",3,{"$f":"[1]主表!O55","v":104.20966666666666},{"$f":"[1]主表!P55","v":3.98},{"$f":"[1]主表!Q55","v":3.98},{"$f":"[1]主表!R55","v":0},{"$f":"[1]主表!$G55","v":398},11,2,6,2,100,1]
[54,54,{"$f":"[2]HeroPowerUpConfig!J58","v":226},{"$f":"[2]HeroPowerUpConfig!K58","v":237},{"$f":"[2]HeroPowerUpConfig!L58","v":241},"金丹期","后",4,{"$f":"[1]主表!O56","v":106.77799999999998},{"$f":"[1]主表!P56","v":4.0599999999999996},{"$f":"[1]主表!Q56","v":4.0599999999999996},{"$f":"[1]主表!R56","v":0},{"$f":"[1]主表!$G56","v":406},11,2,6,2,100,1]
[55,55,{"$f":"[2]HeroPowerUpConfig!J59","v":226},{"$f":"[2]HeroPowerUpConfig!K59","v":237},{"$f":"[2]HeroPowerUpConfig!L59","v":242},"金丹期","后",5,{"$f":"[1]主表!O57","v":109.36499999999998},{"$f":"[1]主表!P57","v":4.1399999999999997},{"$f":"[1]主表!Q57","v":4.1399999999999997},{"$f":"[1]主表!R57","v":0},{"$f":"[1]主表!$G57","v":414},11,2,6,2,100,1]
[56,56,{"$f":"[2]HeroPowerUpConfig!J60","v":226},{"$f":"[2]HeroPowerUpConfig!K60","v":237},{"$f":"[2]HeroPowerUpConfig!L60","v":243},"金丹期","后",6,{"$f":"[1]主表!O58","v":111.70533333333333},{"$f":"[1]主表!P58","v":4.21},{"$f":"[1]主表!Q58","v":4.21},{"$f":"[1]主表!R58","v":0},{"$f":"[1]主表!$G58","v":421},12,2,6,2,100,1]
[57,57,{"$f":"[2]HeroPowerUpConfig!J61","v":226},{"$f":"[2]HeroPowerUpConfig!K61","v":237},{"$f":"[2]HeroPowerUpConfig!L61","v":244},"金丹期","后",7,{"$f":"[1]主表!O59","v":114.32850000000001},{"$f":"[1]主表!P59","v":4.29},{"$f":"[1]主表!Q59","v":4.29},{"$f":"[1]主表!R59","v":0},{"$f":"[1]主表!$G59","v":429},12,2,6,2,100,1]
[58,58,{"$f":"[2]HeroPowerUpConfig!J62","v":226},{"$f":"[2]HeroPowerUpConfig!K62","v":237},{"$f":"[2]HeroPowerUpConfig!L62","v":245},"金丹期","后",8,{"$f":"[1]主表!O60","v":117.238},{"$f":"[1]主表!P60","v":4.38},{"$f":"[1]主表!Q60","v":4.38},{"$f":"[1]主表!R60","v":0},{"$f":"[1]主表!$G60","v":438},12,2,6,2,100,1]
[59,59,{"$f":"[2]HeroPowerUpConfig!J63","v":226},{"$f":"[2]HeroPowerUpConfig!K63","v":237},{"$f":"[2]HeroPowerUpConfig!L63","v":246},"金丹期","后",9,{"$f":"[1]主表!O61","v":119.89966666666668},{"$f":"[1]主表!P61","v":4.46},{"$f":"[1]主表!Q61","v":4.46},{"$f":"[1]主表!R61","v":0},{"$f":"[1]主表!$G61","v":446},12,2,6,2,100,1]
[60,60,{"$f":"[2]HeroPowerUpConfig!J64","v":226},{"$f":"[2]HeroPowerUpConfig!K64","v":237},{"$f":"[2]HeroPowerUpConfig!L64","v":247},"金丹期","后",10,{"$f":"[1]主表!O62","v":134.46},{"$f":"[1]主表!P62","v":4.9800000000000004},{"$f":"[1]主表!Q62","v":4.9800000000000004},{"$f":"[1]主表!R62","v":0},{"$f":"[1]主表!$G62","v":498},12,2,6,2,100,1]
[61,61,{"$f":"[2]HeroPowerUpConfig!J65","v":227},{"$f":"[2]HeroPowerUpConfig!K65","v":235},{"$f":"[2]HeroPowerUpConfig!L65","v":238},"元婴期","前",1,{"$f":"[1]主表!O63","v":142.63366666666667},{"$f":"[1]主表!P63","v":5.26},{"$f":"[1]主表!Q63","v":5.26},{"$f":"[1]主表!R63","v":0},{"$f":"[1]主表!$G63","v":526},13,2,7,2,100,1]
[62,62,{"$f":"[2]HeroPowerUpConfig!J66","v":227},{"$f":"[2]HeroPowerUpConfig!K66","v":235},{"$f":"[2]HeroPowerUpConfig!L66","v":239},"元婴期","前",2,{"$f":"[1]主表!O64","v":145.97066666666669},{"$f":"[1]主表!P64","v":5.36},{"$f":"[1]主表!Q64","v":5.36},{"$f":"[1]主表!R64","v":0},{"$f":"[1]主表!$G64","v":536},13,2,7,2,100,1]
[63,63,{"$f":"[2]HeroPowerUpConfig!J67","v":227},{"$f":"[2]HeroPowerUpConfig!K67","v":235},{"$f":"[2]HeroPowerUpConfig!L67","v":240},"元婴期","前",3,{"$f":"[1]主表!O65","v":149.0575},{"$f":"[1]主表!P65","v":5.45},{"$f":"[1]主表!Q65","v":5.45},{"$f":"[1]主表!R65","v":0},{"$f":"[1]主表!$G65","v":545},13,2,7,2,100,1]
[64,64,{"$f":"[2]HeroPowerUpConfig!J68","v":227},{"$f":"[2]HeroPowerUpConfig!K68","v":235},{"$f":"[2]HeroPowerUpConfig!L68","v":241},"元婴期","前",4,{"$f":"[1]主表!O66","v":152.98933333333335},{"$f":"[1]主表!P66","v":5.57},{"$f":"[1]主表!Q66","v":5.57},{"$f":"[1]主表!R66","v":0},{"$f":"[1]主表!$G66","v":557},13,2,7,2,100,1]
[65,65,{"$f":"[2]HeroPowerUpConfig!J69","v":227},{"$f":"[2]HeroPowerUpConfig!K69","v":235},{"$f":"[2]HeroPowerUpConfig!L69","v":242},"元婴期","前",5,{"$f":"[1]主表!O67","v":156.39749999999998},{"$f":"[1]主表!P67","v":5.67},{"$f":"[1]主表!Q67","v":5.67},{"$f":"[1]主表!R67","v":0},{"$f":"[1]主表!$G67","v":567},13,2,7,2,100,1]
[66,66,{"$f":"[2]HeroPowerUpConfig!J70","v":227},{"$f":"[2]HeroPowerUpConfig!K70","v":235},{"$f":"[2]HeroPowerUpConfig!L70","v":243},"元婴期","前",6,{"$f":"[1]主表!O68","v":160.93699999999998},{"$f":"[1]主表!P68","v":5.81},{"$f":"[1]主表!Q68","v":5.81},{"$f":"[1]主表!R68","v":0},{"$f":"[1]主表!$G68","v":581},14,2,7,2,100,1]
[67,67,{"$f":"[2]HeroPowerUpConfig!J71","v":227},{"$f":"[2]HeroPowerUpConfig!K71","v":235},{"$f":"[2]HeroPowerUpConfig!L71","v":244},"元婴期","前",7,{"$f":"[1]主表!O69","v":164.67466666666667},{"$f":"[1]主表!P69","v":5.92},{"$f":"[1]主表!Q69","v":5.92},{"$f":"[1]主表!R69","v":0},{"$f":"[1]主表!$G69","v":592},14,2,7,2,100,1]
[68,68,{"$f":"[2]HeroPowerUpConfig!J72","v":227},{"$f":"[2]HeroPowerUpConfig!K72","v":235},{"$f":"[2]HeroPowerUpConfig!L72","v":245},"元婴期","前",8,{"$f":"[1]主表!O70","v":169.27599999999998},{"$f":"[1]主表!P70","v":6.06},{"$f":"[1]主表!Q70","v":6.06},{"$f":"[1]主表!R70","v":0},{"$f":"[1]主表!$G70","v":606},14,2,7,2,100,1]
[69,69,{"$f":"[2]HeroPowerUpConfig!J73","v":227},{"$f":"[2]HeroPowerUpConfig!K73","v":235},{"$f":"[2]HeroPowerUpConfig!L73","v":246},"元婴期","前",9,{"$f":"[1]主表!O71","v":173.91000000000003},{"$f":"[1]主表!P71","v":6.2},{"$f":"[1]主表!Q71","v":6.2},{"$f":"[1]主表!R71","v":0},{"$f":"[1]主表!$G71","v":620},14,2,7,2,100,1]
[70,70,{"$f":"[2]HeroPowerUpConfig!J74","v":227},{"$f":"[2]HeroPowerUpConfig!K74","v":235},{"$f":"[2]HeroPowerUpConfig!L74","v":247},"元婴期","前",10,{"$f":"[1]主表!O72","v":186.18166666666667},{"$f":"[1]主表!P72","v":6.61},{"$f":"[1]主表!Q72","v":6.61},{"$f":"[1]主表!R72","v":0},{"$f":"[1]主表!$G72","v":661},14,2,7,2,100,1]
[71,71,{"$f":"[2]HeroPowerUpConfig!J75","v":227},{"$f":"[2]HeroPowerUpConfig!K75","v":236},{"$f":"[2]HeroPowerUpConfig!L75","v":238},"元婴期","中",1,{"$f":"[1]主表!O73","v":196.00349999999997},{"$f":"[1]主表!P73","v":6.93},{"$f":"[1]主表!Q73","v":6.93},{"$f":"[1]主表!R73","v":0},{"$f":"[1]主表!$G73","v":693},15,2,8,2,100,1]
[72,72,{"$f":"[2]HeroPowerUpConfig!J76","v":227},{"$f":"[2]HeroPowerUpConfig!K76","v":236},{"$f":"[2]HeroPowerUpConfig!L76","v":239},"元婴期","中",2,{"$f":"[1]主表!O74","v":201.072},{"$f":"[1]主表!P74","v":7.08},{"$f":"[1]主表!Q74","v":7.08},{"$f":"[1]主表!R74","v":0},{"$f":"[1]主表!$G74","v":708},15,2,8,2,100,1]
[73,73,{"$f":"[2]HeroPowerUpConfig!J77","v":227},{"$f":"[2]HeroPowerUpConfig!K77","v":236},{"$f":"[2]HeroPowerUpConfig!L77","v":240},"元婴期","中",3,{"$f":"[1]主表!O75","v":206.1755},{"$f":"[1]主表!P75","v":7.23},{"$f":"[1]主表!Q75","v":7.23},{"$f":"[1]主表!R75","v":0},{"$f":"[1]主表!$G75","v":723},15,2,8,2,100,1]
[74,74,{"$f":"[2]HeroPowerUpConfig!J78","v":227},{"$f":"[2]HeroPowerUpConfig!K78","v":236},{"$f":"[2]HeroPowerUpConfig!L78","v":241},"元婴期","中",4,{"$f":"[1]主表!O76","v":211.60033333333331},{"$f":"[1]主表!P76","v":7.39},{"$f":"[1]主表!Q76","v":7.39},{"$f":"[1]主表!R76","v":0},{"$f":"[1]主表!$G76","v":739},15,2,8,2,100,1]
[75,75,{"$f":"[2]HeroPowerUpConfig!J79","v":227},{"$f":"[2]HeroPowerUpConfig!K79","v":236},{"$f":"[2]HeroPowerUpConfig!L79","v":242},"元婴期","中",5,{"$f":"[1]主表!O77","v":217.0625},{"$f":"[1]主表!P77","v":7.55},{"$f":"[1]主表!Q77","v":7.55},{"$f":"[1]主表!R77","v":0},{"$f":"[1]主表!$G77","v":755},15,2,8,2,100,1]
[76,76,{"$f":"[2]HeroPowerUpConfig!J80","v":227},{"$f":"[2]HeroPowerUpConfig!K80","v":236},{"$f":"[2]HeroPowerUpConfig!L80","v":243},"元婴期","中",6,{"$f":"[1]主表!O78","v":223.428},{"$f":"[1]主表!P78","v":7.74},{"$f":"[1]主表!Q78","v":7.74},{"$f":"[1]主表!R78","v":0},{"$f":"[1]主表!$G78","v":774},16,2,{"$f":"P70+1","v":8},2,100,1]
[77,77,{"$f":"[2]HeroPowerUpConfig!J81","v":227},{"$f":"[2]HeroPowerUpConfig!K81","v":236},{"$f":"[2]HeroPowerUpConfig!L81","v":244},"元婴期","中",7,{"$f":"[1]主表!O79","v":228.96833333333333},{"$f":"[1]主表!P79","v":7.9},{"$f":"[1]主表!Q79","v":7.9},{"$f":"[1]主表!R79","v":0},{"$f":"[1]主表!$G79","v":790},16,2,8,2,100,1]
[78,78,{"$f":"[2]HeroPowerUpConfig!J82","v":227},{"$f":"[2]HeroPowerUpConfig!K82","v":236},{"$f":"[2]HeroPowerUpConfig!L82","v":245},"元婴期","中",8,{"$f":"[1]主表!O80","v":234.83700000000002},{"$f":"[1]主表!P80","v":8.07},{"$f":"[1]主表!Q80","v":8.07},{"$f":"[1]主表!R80","v":0},{"$f":"[1]主表!$G80","v":807},16,2,8,2,100,1]
[79,79,{"$f":"[2]HeroPowerUpConfig!J83","v":227},{"$f":"[2]HeroPowerUpConfig!K83","v":236},{"$f":"[2]HeroPowerUpConfig!L83","v":246},"元婴期","中",9,{"$f":"[1]主表!O81","v":241.62183333333334},{"$f":"[1]主表!P81","v":8.27},{"$f":"[1]主表!Q81","v":8.27},{"$f":"[1]主表!R81","v":0},{"$f":"[1]主表!$G81","v":827},16,2,8,2,100,1]
[80,80,{"$f":"[2]HeroPowerUpConfig!J84","v":227},{"$f":"[2]HeroPowerUpConfig!K84","v":236},{"$f":"[2]HeroPowerUpConfig!L84","v":247},"元婴期","中",10,{"$f":"[1]主表!O82","v":259.01333333333338},{"$f":"[1]主表!P82","v":8.83},{"$f":"[1]主表!Q82","v":8.83},{"$f":"[1]主表!R82","v":0},{"$f":"[1]主表!$G82","v":883},16,2,8,2,100,1]
[81,81,{"$f":"[2]HeroPowerUpConfig!J85","v":227},{"$f":"[2]HeroPowerUpConfig!K85","v":237},{"$f":"[2]HeroPowerUpConfig!L85","v":238},"元婴期","后",1,{"$f":"[1]主表!O83","v":283.89800000000002},{"$f":"[1]主表!P83","v":9.64},{"$f":"[1]主表!Q83","v":9.64},{"$f":"[1]主表!R83","v":0},{"$f":"[1]主表!$G83","v":964},17,2,9,2,100,1]
[82,82,{"$f":"[2]HeroPowerUpConfig!J86","v":227},{"$f":"[2]HeroPowerUpConfig!K86","v":237},{"$f":"[2]HeroPowerUpConfig!L86","v":239},"元婴期","后",2,{"$f":"[1]主表!O84","v":291.23166666666668},{"$f":"[1]主表!P84","v":9.85},{"$f":"[1]主表!Q84","v":9.85},{"$f":"[1]主表!R84","v":0},{"$f":"[1]主表!$G84","v":985},17,2,9,2,100,1]
[83,83,{"$f":"[2]HeroPowerUpConfig!J87","v":227},{"$f":"[2]HeroPowerUpConfig!K87","v":237},{"$f":"[2]HeroPowerUpConfig!L87","v":240},"元婴期","后",3,{"$f":"[1]主表!O85","v":299.80166666666668},{"$f":"[1]主表!P85","v":10.1},{"$f":"[1]主表!Q85","v":10.1},{"$f":"[1]主表!R85","v":0},{"$f":"[1]主表!$G85","v":1010},17,2,9,2,100,1]
[84,84,{"$f":"[2]HeroPowerUpConfig!J88","v":227},{"$f":"[2]HeroPowerUpConfig!K88","v":237},{"$f":"[2]HeroPowerUpConfig!L88","v":241},"元婴期","后",4,{"$f":"[1]主表!O86","v":307.536},{"$f":"[1]主表!P86","v":10.32},{"$f":"[1]主表!Q86","v":10.32},{"$f":"[1]主表!R86","v":0},{"$f":"[1]主表!$G86","v":1032},17,2,9,2,100,1]
[85,85,{"$f":"[2]HeroPowerUpConfig!J89","v":227},{"$f":"[2]HeroPowerUpConfig!K89","v":237},{"$f":"[2]HeroPowerUpConfig!L89","v":242},"元婴期","后",5,{"$f":"[1]主表!O87","v":315.62083333333339},{"$f":"[1]主表!P87","v":10.55},{"$f":"[1]主表!Q87","v":10.55},{"$f":"[1]主表!R87","v":0},{"$f":"[1]主表!$G87","v":1055},17,2,9,2,100,1]
[86,86,{"$f":"[2]HeroPowerUpConfig!J90","v":227},{"$f":"[2]HeroPowerUpConfig!K90","v":237},{"$f":"[2]HeroPowerUpConfig!L90","v":243},"元婴期","后",6,{"$f":"[1]主表!O88","v":323.459},{"$f":"[1]主表!P88","v":10.77},{"$f":"[1]主表!Q88","v":10.77},{"$f":"[1]主表!R88","v":0},{"$f":"[1]主表!$G88","v":1077},18,2,9,2,100,1]
[87,87,{"$f":"[2]HeroPowerUpConfig!J91","v":227},{"$f":"[2]HeroPowerUpConfig!K91","v":237},{"$f":"[2]HeroPowerUpConfig!L91","v":244},"元婴期","后",7,{"$f":"[1]主表!O89","v":332.85599999999994},{"$f":"[1]主表!P89","v":11.04},{"$f":"[1]主表!Q89","v":11.04},{"$f":"[1]主表!R89","v":0},{"$f":"[1]主表!$G89","v":1104},18,2,9,2,100,1]
[88,88,{"$f":"[2]HeroPowerUpConfig!J92","v":227},{"$f":"[2]HeroPowerUpConfig!K92","v":237},{"$f":"[2]HeroPowerUpConfig!L92","v":245},"元婴期","后",8,{"$f":"[1]主表!O90","v":341.10533333333331},{"$f":"[1]主表!P90","v":11.27},{"$f":"[1]主表!Q90","v":11.27},{"$f":"[1]主表!R90","v":0},{"$f":"[1]主表!$G90","v":1127},18,2,9,2,100,1]
[89,89,{"$f":"[2]HeroPowerUpConfig!J93","v":227},{"$f":"[2]HeroPowerUpConfig!K93","v":237},{"$f":"[2]HeroPowerUpConfig!L93","v":246},"元婴期","后",9,{"$f":"[1]主表!O91","v":350.62366666666662},{"$f":"[1]主表!P91","v":11.54},{"$f":"[1]主表!Q91","v":11.54},{"$f":"[1]主表!R91","v":0},{"$f":"[1]主表!$G91","v":1154},18,2,9,2,100,1]
[90,90,{"$f":"[2]HeroPowerUpConfig!J94","v":227},{"$f":"[2]HeroPowerUpConfig!K94","v":237},{"$f":"[2]HeroPowerUpConfig!L94","v":247},"元婴期","后",10,{"$f":"[1]主表!O92","v":395.28},{"$f":"[1]主表!P92","v":12.96},{"$f":"[1]主表!Q92","v":12.96},{"$f":"[1]主表!R92","v":0},{"$f":"[1]主表!$G92","v":1296},18,2,9,2,100,1]
[91,91,{"$f":"[2]HeroPowerUpConfig!J95","v":228},{"$f":"[2]HeroPowerUpConfig!K95","v":235},{"$f":"[2]HeroPowerUpConfig!L95","v":238},"化神期","前",1,{"$f":"[1]主表!O93","v":422.20383333333331},{"$f":"[1]主表!P93","v":13.79},{"$f":"[1]主表!Q93","v":13.79},{"$f":"[1]主表!R93","v":0},{"$f":"[1]主表!$G93","v":1379},19,2,10,2,100,1]
[92,92,{"$f":"[2]HeroPowerUpConfig!J96","v":228},{"$f":"[2]HeroPowerUpConfig!K96","v":235},{"$f":"[2]HeroPowerUpConfig!L96","v":239},"化神期","前",2,{"$f":"[1]主表!O94","v":433.95466666666664},{"$f":"[1]主表!P94","v":14.12},{"$f":"[1]主表!Q94","v":14.12},{"$f":"[1]主表!R94","v":0},{"$f":"[1]主表!$G94","v":1412},19,2,10,2,100,1]
[93,93,{"$f":"[2]HeroPowerUpConfig!J97","v":228},{"$f":"[2]HeroPowerUpConfig!K97","v":235},{"$f":"[2]HeroPowerUpConfig!L97","v":240},"化神期","前",3,{"$f":"[1]主表!O95","v":444.85700000000003},{"$f":"[1]主表!P95","v":14.42},{"$f":"[1]主表!Q95","v":14.42},{"$f":"[1]主表!R95","v":0},{"$f":"[1]主表!$G95","v":1442},19,2,10,2,100,1]
[94,94,{"$f":"[2]HeroPowerUpConfig!J98","v":228},{"$f":"[2]HeroPowerUpConfig!K98","v":235},{"$f":"[2]HeroPowerUpConfig!L98","v":241},"化神期","前",4,{"$f":"[1]主表!O96","v":457.06799999999998},{"$f":"[1]主表!P96","v":14.76},{"$f":"[1]主表!Q96","v":14.76},{"$f":"[1]主表!R96","v":0},{"$f":"[1]主表!$G96","v":1476},19,2,10,2,100,1]
[95,95,{"$f":"[2]HeroPowerUpConfig!J99","v":228},{"$f":"[2]HeroPowerUpConfig!K99","v":235},{"$f":"[2]HeroPowerUpConfig!L99","v":242},"化神期","前",5,{"$f":"[1]主表!O97","v":469.35833333333335},{"$f":"[1]主表!P97","v":15.1},{"$f":"[1]主表!Q97","v":15.1},{"$f":"[1]主表!R97","v":0},{"$f":"[1]主表!$G97","v":1510},19,2,10,2,100,1]
[96,96,{"$f":"[2]HeroPowerUpConfig!J100","v":228},{"$f":"[2]HeroPowerUpConfig!K100","v":235},{"$f":"[2]HeroPowerUpConfig!L100","v":243},"化神期","前",6,{"$f":"[1]主表!O98","v":482.04},{"$f":"[1]主表!P98","v":15.45},{"$f":"[1]主表!Q98","v":15.45},{"$f":"[1]主表!R98","v":0},{"$f":"[1]主表!$G98","v":1545},20,2,10,2,100,1]
[97,97,{"$f":"[2]HeroPowerUpConfig!J101","v":228},{"$f":"[2]HeroPowerUpConfig!K101","v":235},{"$f":"[2]HeroPowerUpConfig!L101","v":244},"化神期","前",7,{"$f":"[1]主表!O99","v":494.8033333333334},{"$f":"[1]主表!P99","v":15.8},{"$f":"[1]主表!Q99","v":15.8},{"$f":"[1]主表!R99","v":0},{"$f":"[1]主表!$G99","v":1580},20,2,10,2,100,1]
[98,98,{"$f":"[2]HeroPowerUpConfig!J102","v":228},{"$f":"[2]HeroPowerUpConfig!K102","v":235},{"$f":"[2]HeroPowerUpConfig!L102","v":245},"化神期","前",8,{"$f":"[1]主表!O100","v":507.96266666666668},{"$f":"[1]主表!P100","v":16.16},{"$f":"[1]主表!Q100","v":16.16},{"$f":"[1]主表!R100","v":0},{"$f":"[1]主表!$G100","v":1616},20,2,10,2,100,1]
[99,99,{"$f":"[2]HeroPowerUpConfig!J103","v":228},{"$f":"[2]HeroPowerUpConfig!K103","v":235},{"$f":"[2]HeroPowerUpConfig!L103","v":246},"化神期","前",9,{"$f":"[1]主表!O101","v":522.46799999999996},{"$f":"[1]主表!P101","v":16.559999999999999},{"$f":"[1]主表!Q101","v":16.559999999999999},{"$f":"[1]主表!R101","v":0},{"$f":"[1]主表!$G101","v":1656},20,2,10,2,100,1]
[100,100,{"$f":"[2]HeroPowerUpConfig!J104","v":228},{"$f":"[2]HeroPowerUpConfig!K104","v":235},{"$f":"[2]HeroPowerUpConfig!L104","v":247},"化神期","前",10,{"$f":"[1]主表!O102","v":558.91666666666663},{"$f":"[1]主表!P102","v":17.649999999999999},{"$f":"[1]主表!Q102","v":17.649999999999999},{"$f":"[1]主表!R102","v":0},{"$f":"[1]主表!$G102","v":1765},20,2,10,2,100,1]
[101,101,{"$f":"[2]HeroPowerUpConfig!J105","v":228},{"$f":"[2]HeroPowerUpConfig!K105","v":236},{"$f":"[2]HeroPowerUpConfig!L105","v":238},"化神期","中",1,{"$f":"[1]主表!O103","v":590.85216666666668},{"$f":"[1]主表!P103","v":18.59},{"$f":"[1]主表!Q103","v":18.59},{"$f":"[1]主表!R103","v":0},{"$f":"[1]主表!$G103","v":1859},21,3,11,3,100.1,1]
[102,102,{"$f":"[2]HeroPowerUpConfig!J106","v":228},{"$f":"[2]HeroPowerUpConfig!K106","v":236},{"$f":"[2]HeroPowerUpConfig!L106","v":239},"化神期","中",2,{"$f":"[1]主表!O104","v":604.505},{"$f":"[1]主表!P104","v":18.95},{"$f":"[1]主表!Q104","v":18.95},{"$f":"[1]主表!R104","v":0},{"$f":"[1]主表!$G104","v":1895},21,3,11,3,100.2,1]
[103,103,{"$f":"[2]HeroPowerUpConfig!J107","v":228},{"$f":"[2]HeroPowerUpConfig!K107","v":236},{"$f":"[2]HeroPowerUpConfig!L107","v":240},"化神期","中",3,{"$f":"[1]主表!O105","v":617.92166666666662},{"$f":"[1]主表!P105","v":19.3},{"$f":"[1]主表!Q105","v":19.3},{"$f":"[1]主表!R105","v":0},{"$f":"[1]主表!$G105","v":1930},21,3,11,3,100.3,1]
[104,104,{"$f":"[2]HeroPowerUpConfig!J108","v":228},{"$f":"[2]HeroPowerUpConfig!K108","v":236},{"$f":"[2]HeroPowerUpConfig!L108","v":241},"化神期","中",4,{"$f":"[1]主表!O106","v":633.02666666666664},{"$f":"[1]主表!P106","v":19.7},{"$f":"[1]主表!Q106","v":19.7},{"$f":"[1]主表!R106","v":0},{"$f":"[1]主表!$G106","v":1970},21,3,11,3,100.4,1]
[105,105,{"$f":"[2]HeroPowerUpConfig!J109","v":228},{"$f":"[2]HeroPowerUpConfig!K109","v":236},{"$f":"[2]HeroPowerUpConfig!L109","v":242},"化神期","中",5,{"$f":"[1]主表!O107","v":646.93499999999995},{"$f":"[1]主表!P107","v":20.059999999999999},{"$f":"[1]主表!Q107","v":20.059999999999999},{"$f":"[1]主表!R107","v":0},{"$f":"[1]主表!$G107","v":2006},21,3,11,3,100.5,1]
[106,106,{"$f":"[2]HeroPowerUpConfig!J110","v":228},{"$f":"[2]HeroPowerUpConfig!K110","v":236},{"$f":"[2]HeroPowerUpConfig!L110","v":243},"化神期","中",6,{"$f":"[1]主表!O108","v":662.22199999999998},{"$f":"[1]主表!P108","v":20.46},{"$f":"[1]主表!Q108","v":20.46},{"$f":"[1]主表!R108","v":0},{"$f":"[1]主表!$G108","v":2046},22,3,11,3,100.6,1]
[107,107,{"$f":"[2]HeroPowerUpConfig!J111","v":228},{"$f":"[2]HeroPowerUpConfig!K111","v":236},{"$f":"[2]HeroPowerUpConfig!L111","v":244},"化神期","中",7,{"$f":"[1]主表!O109","v":677.60233333333326},{"$f":"[1]主表!P109","v":20.86},{"$f":"[1]主表!Q109","v":20.86},{"$f":"[1]主表!R109","v":0},{"$f":"[1]主表!$G109","v":2086},22,3,11,3,100.7,1]
[108,108,{"$f":"[2]HeroPowerUpConfig!J112","v":228},{"$f":"[2]HeroPowerUpConfig!K112","v":236},{"$f":"[2]HeroPowerUpConfig!L112","v":245},"化神期","中",8,{"$f":"[1]主表!O110","v":692.42399999999986},{"$f":"[1]主表!P110","v":21.24},{"$f":"[1]主表!Q110","v":21.24},{"$f":"[1]主表!R110","v":0},{"$f":"[1]主表!$G110","v":2124},22,3,11,3,100.8,1]
[109,109,{"$f":"[2]HeroPowerUpConfig!J113","v":228},{"$f":"[2]HeroPowerUpConfig!K113","v":236},{"$f":"[2]HeroPowerUpConfig!L113","v":246},"化神期","中",9,{"$f":"[1]主表!O111","v":709.29733333333331},{"$f":"[1]主表!P111","v":21.68},{"$f":"[1]主表!Q111","v":21.68},{"$f":"[1]主表!R111","v":0},{"$f":"[1]主表!$G111","v":2168},22,3,11,3,100.9,1]
[110,110,{"$f":"[2]HeroPowerUpConfig!J114","v":228},{"$f":"[2]HeroPowerUpConfig!K114","v":236},{"$f":"[2]HeroPowerUpConfig!L114","v":247},"化神期","中",10,{"$f":"[1]主表!O112","v":755.82333333333327},{"$f":"[1]主表!P112","v":23.02},{"$f":"[1]主表!Q112","v":23.02},{"$f":"[1]主表!R112","v":0},{"$f":"[1]主表!$G112","v":2302},22,3,11,3,101,1]
[111,111,{"$f":"[2]HeroPowerUpConfig!J115","v":228},{"$f":"[2]HeroPowerUpConfig!K115","v":237},{"$f":"[2]HeroPowerUpConfig!L115","v":238},"化神期","后",1,{"$f":"[1]主表!O113","v":797.38999999999987},{"$f":"[1]主表!P113","v":24.2},{"$f":"[1]主表!Q113","v":24.2},{"$f":"[1]主表!R113","v":0},{"$f":"[1]主表!$G113","v":2420},23,3,12,3,101.1,1]
[112,112,{"$f":"[2]HeroPowerUpConfig!J116","v":228},{"$f":"[2]HeroPowerUpConfig!K116","v":237},{"$f":"[2]HeroPowerUpConfig!L116","v":239},"化神期","后",2,{"$f":"[1]主表!O114","v":815.42399999999998},{"$f":"[1]主表!P114","v":24.66},{"$f":"[1]主表!Q114","v":24.66},{"$f":"[1]主表!R114","v":0},{"$f":"[1]主表!$G114","v":2466},23,3,12,3,101.2,1]
[113,113,{"$f":"[2]HeroPowerUpConfig!J117","v":228},{"$f":"[2]HeroPowerUpConfig!K117","v":237},{"$f":"[2]HeroPowerUpConfig!L117","v":240},"化神期","后",3,{"$f":"[1]主表!O115","v":834.89266666666663},{"$f":"[1]主表!P115","v":25.16},{"$f":"[1]主表!Q115","v":25.16},{"$f":"[1]主表!R115","v":0},{"$f":"[1]主表!$G115","v":2516},23,3,12,3,101.3,1]
[114,114,{"$f":"[2]HeroPowerUpConfig!J118","v":228},{"$f":"[2]HeroPowerUpConfig!K118","v":237},{"$f":"[2]HeroPowerUpConfig!L118","v":241},"化神期","后",4,{"$f":"[1]主表!O116","v":853.47899999999993},{"$f":"[1]主表!P116","v":25.63},{"$f":"[1]主表!Q116","v":25.63},{"$f":"[1]主表!R116","v":0},{"$f":"[1]主表!$G116","v":2563},23,3,12,3,101.4,1]
[115,115,{"$f":"[2]HeroPowerUpConfig!J119","v":228},{"$f":"[2]HeroPowerUpConfig!K119","v":237},{"$f":"[2]HeroPowerUpConfig!L119","v":242},"化神期","后",5,{"$f":"[1]主表!O117","v":873.17750000000001},{"$f":"[1]主表!P117","v":26.13},{"$f":"[1]主表!Q117","v":26.13},{"$f":"[1]主表!R117","v":0},{"$f":"[1]主表!$G117","v":2613},23,3,12,3,101.5,1]
[116,116,{"$f":"[2]HeroPowerUpConfig!J120","v":228},{"$f":"[2]HeroPowerUpConfig!K120","v":237},{"$f":"[2]HeroPowerUpConfig!L120","v":243},"化神期","后",6,{"$f":"[1]主表!O118","v":892.32200000000012},{"$f":"[1]主表!P118","v":26.61},{"$f":"[1]主表!Q118","v":26.61},{"$f":"[1]主表!R118","v":0},{"$f":"[1]主表!$G118","v":2661},24,3,12,3,101.6,1]
[117,117,{"$f":"[2]HeroPowerUpConfig!J121","v":228},{"$f":"[2]HeroPowerUpConfig!K121","v":237},{"$f":"[2]HeroPowerUpConfig!L121","v":244},"化神期","后",7,{"$f":"[1]主表!O119","v":912.58800000000008},{"$f":"[1]主表!P119","v":27.12},{"$f":"[1]主表!Q119","v":27.12},{"$f":"[1]主表!R119","v":0},{"$f":"[1]主表!$G119","v":2712},24,3,12,3,101.7,1]
[118,118,{"$f":"[2]HeroPowerUpConfig!J122","v":228},{"$f":"[2]HeroPowerUpConfig!K122","v":237},{"$f":"[2]HeroPowerUpConfig!L122","v":245},"化神期","后",8,{"$f":"[1]主表!O120","v":932.97300000000007},{"$f":"[1]主表!P120","v":27.63},{"$f":"[1]主表!Q120","v":27.63},{"$f":"[1]主表!R120","v":0},{"$f":"[1]主表!$G120","v":2763},24,3,12,3,101.8,1]
[119,119,{"$f":"[2]HeroPowerUpConfig!J123","v":228},{"$f":"[2]HeroPowerUpConfig!K123","v":237},{"$f":"[2]HeroPowerUpConfig!L123","v":246},"化神期","后",9,{"$f":"[1]主表!O121","v":954.1546666666668},{"$f":"[1]主表!P121","v":28.16},{"$f":"[1]主表!Q121","v":28.16},{"$f":"[1]主表!R121","v":0},{"$f":"[1]主表!$G121","v":2816},24,3,12,3,101.9,1]
[120,120,{"$f":"[2]HeroPowerUpConfig!J124","v":228},{"$f":"[2]HeroPowerUpConfig!K124","v":237},{"$f":"[2]HeroPowerUpConfig!L124","v":247},"化神期","后",10,{"$f":"[1]主表!O122","v":1070.6599999999999},{"$f":"[1]主表!P122","v":31.49},{"$f":"[1]主表!Q122","v":31.49},{"$f":"[1]主表!R122","v":0},{"$f":"[1]主表!$G122","v":3149},24,3,12,3,102,1]
[121,121,{"$f":"[2]HeroPowerUpConfig!J125","v":229},{"$f":"[2]HeroPowerUpConfig!K125","v":235},{"$f":"[2]HeroPowerUpConfig!L125","v":238},"炼虚期","前",1,{"$f":"[1]主表!O123","v":1139.4966666666667},{"$f":"[1]主表!P123","v":33.4},{"$f":"[1]主表!Q123","v":33.4},{"$f":"[1]主表!R123","v":0},{"$f":"[1]主表!$G123","v":3340},25,3,13,3,102.1,1]
[122,122,{"$f":"[2]HeroPowerUpConfig!J126","v":229},{"$f":"[2]HeroPowerUpConfig!K126","v":235},{"$f":"[2]HeroPowerUpConfig!L126","v":239},"炼虚期","前",2,{"$f":"[1]主表!O124","v":1163.5910000000001},{"$f":"[1]主表!P124","v":33.99},{"$f":"[1]主表!Q124","v":33.99},{"$f":"[1]主表!R124","v":0},{"$f":"[1]主表!$G124","v":3399},25,3,13,3,102.2,1]
[123,123,{"$f":"[2]HeroPowerUpConfig!J127","v":229},{"$f":"[2]HeroPowerUpConfig!K127","v":235},{"$f":"[2]HeroPowerUpConfig!L127","v":240},"炼虚期","前",3,{"$f":"[1]主表!O125","v":1187.8229999999999},{"$f":"[1]主表!P125","v":34.58},{"$f":"[1]主表!Q125","v":34.58},{"$f":"[1]主表!R125","v":0},{"$f":"[1]主表!$G125","v":3458},25,3,13,3,102.3,1]
[124,124,{"$f":"[2]HeroPowerUpConfig!J128","v":229},{"$f":"[2]HeroPowerUpConfig!K128","v":235},{"$f":"[2]HeroPowerUpConfig!L128","v":241},"炼虚期","前",4,{"$f":"[1]主表!O126","v":1213.5713333333333},{"$f":"[1]主表!P126","v":35.21},{"$f":"[1]主表!Q126","v":35.21},{"$f":"[1]主表!R126","v":0},{"$f":"[1]主表!$G126","v":3521},25,3,13,3,102.4,1]
[125,125,{"$f":"[2]HeroPowerUpConfig!J129","v":229},{"$f":"[2]HeroPowerUpConfig!K129","v":235},{"$f":"[2]HeroPowerUpConfig!L129","v":242},"炼虚期","前",5,{"$f":"[1]主表!O127","v":1238.4291666666668},{"$f":"[1]主表!P127","v":35.81},{"$f":"[1]主表!Q127","v":35.81},{"$f":"[1]主表!R127","v":0},{"$f":"[1]主表!$G127","v":3581},25,3,13,3,102.5,1]
[126,126,{"$f":"[2]HeroPowerUpConfig!J130","v":229},{"$f":"[2]HeroPowerUpConfig!K130","v":235},{"$f":"[2]HeroPowerUpConfig!L130","v":243},"炼虚期","前",6,{"$f":"[1]主表!O128","v":1264.8150000000001},{"$f":"[1]主表!P128","v":36.450000000000003},{"$f":"[1]主表!Q128","v":36.450000000000003},{"$f":"[1]主表!R128","v":0},{"$f":"[1]主表!$G128","v":3645},26,3,13,3,102.6,1]
[127,127,{"$f":"[2]HeroPowerUpConfig!J131","v":229},{"$f":"[2]HeroPowerUpConfig!K131","v":235},{"$f":"[2]HeroPowerUpConfig!L131","v":244},"炼虚期","前",7,{"$f":"[1]主表!O129","v":1289.9575},{"$f":"[1]主表!P129","v":37.049999999999997},{"$f":"[1]主表!Q129","v":37.049999999999997},{"$f":"[1]主表!R129","v":0},{"$f":"[1]主表!$G129","v":3705},26,3,13,3,102.7,1]
[128,128,{"$f":"[2]HeroPowerUpConfig!J132","v":229},{"$f":"[2]HeroPowerUpConfig!K132","v":235},{"$f":"[2]HeroPowerUpConfig!L132","v":245},"炼虚期","前",8,{"$f":"[1]主表!O130","v":1315.5893333333333},{"$f":"[1]主表!P130","v":37.659999999999997},{"$f":"[1]主表!Q130","v":37.659999999999997},{"$f":"[1]主表!R130","v":0},{"$f":"[1]主表!$G130","v":3766},26,3,13,3,102.8,1]
[129,129,{"$f":"[2]HeroPowerUpConfig!J133","v":229},{"$f":"[2]HeroPowerUpConfig!K133","v":235},{"$f":"[2]HeroPowerUpConfig!L133","v":246},"炼虚期","前",9,{"$f":"[1]主表!O131","v":1342.4149999999997},{"$f":"[1]主表!P131","v":38.299999999999997},{"$f":"[1]主表!Q131","v":38.299999999999997},{"$f":"[1]主表!R131","v":0},{"$f":"[1]主表!$G131","v":3830},26,3,13,3,102.9,1]
[130,130,{"$f":"[2]HeroPowerUpConfig!J134","v":229},{"$f":"[2]HeroPowerUpConfig!K134","v":235},{"$f":"[2]HeroPowerUpConfig!L134","v":247},"炼虚期","前",10,{"$f":"[1]主表!O132","v":1426.36},{"$f":"[1]主表!P132","v":40.56},{"$f":"[1]主表!Q132","v":40.56},{"$f":"[1]主表!R132","v":0},{"$f":"[1]主表!$G132","v":4056},26,3,13,3,103,1]
[131,131,{"$f":"[2]HeroPowerUpConfig!J135","v":229},{"$f":"[2]HeroPowerUpConfig!K135","v":236},{"$f":"[2]HeroPowerUpConfig!L135","v":238},"炼虚期","中",1,{"$f":"[1]主表!O133","v":1503.0700000000002},{"$f":"[1]主表!P133","v":42.6},{"$f":"[1]主表!Q133","v":42.6},{"$f":"[1]主表!R133","v":0},{"$f":"[1]主表!$G133","v":4260},27,3,14,3,103.1,1]
[132,132,{"$f":"[2]HeroPowerUpConfig!J136","v":229},{"$f":"[2]HeroPowerUpConfig!K136","v":236},{"$f":"[2]HeroPowerUpConfig!L136","v":239},"炼虚期","中",2,{"$f":"[1]主表!O134","v":1532.8199999999997},{"$f":"[1]主表!P134","v":43.3},{"$f":"[1]主表!Q134","v":43.3},{"$f":"[1]主表!R134","v":0},{"$f":"[1]主表!$G134","v":4330},27,3,14,3,103.2,1]
[133,133,{"$f":"[2]HeroPowerUpConfig!J137","v":229},{"$f":"[2]HeroPowerUpConfig!K137","v":236},{"$f":"[2]HeroPowerUpConfig!L137","v":240},"炼虚期","中",3,{"$f":"[1]主表!O135","v":1564.154},{"$f":"[1]主表!P135","v":44.04},{"$f":"[1]主表!Q135","v":44.04},{"$f":"[1]主表!R135","v":0},{"$f":"[1]主表!$G135","v":4404},27,3,14,3,103.3,1]
[134,134,{"$f":"[2]HeroPowerUpConfig!J138","v":229},{"$f":"[2]HeroPowerUpConfig!K138","v":236},{"$f":"[2]HeroPowerUpConfig!L138","v":241},"炼虚期","中",4,{"$f":"[1]主表!O136","v":1594.2353333333335},{"$f":"[1]主表!P136","v":44.74},{"$f":"[1]主表!Q136","v":44.74},{"$f":"[1]主表!R136","v":0},{"$f":"[1]主表!$G136","v":4474},27,3,14,3,103.4,1]
[135,135,{"$f":"[2]HeroPowerUpConfig!J139","v":229},{"$f":"[2]HeroPowerUpConfig!K139","v":236},{"$f":"[2]HeroPowerUpConfig!L139","v":242},"炼虚期","中",5,{"$f":"[1]主表!O137","v":1625.91},{"$f":"[1]主表!P137","v":45.48},{"$f":"[1]主表!Q137","v":45.48},{"$f":"[1]主表!R137","v":0},{"$f":"[1]主表!$G137","v":4548},27,3,14,3,103.5,1]
[136,136,{"$f":"[2]HeroPowerUpConfig!J140","v":229},{"$f":"[2]HeroPowerUpConfig!K140","v":236},{"$f":"[2]HeroPowerUpConfig!L140","v":243},"炼虚期","中",6,{"$f":"[1]主表!O138","v":1659.5506666666668},{"$f":"[1]主表!P138","v":46.27},{"$f":"[1]主表!Q138","v":46.27},{"$f":"[1]主表!R138","v":0},{"$f":"[1]主表!$G138","v":4627},28,3,14,3,103.6,1]
[137,137,{"$f":"[2]HeroPowerUpConfig!J141","v":229},{"$f":"[2]HeroPowerUpConfig!K141","v":236},{"$f":"[2]HeroPowerUpConfig!L141","v":244},"炼虚期","中",7,{"$f":"[1]主表!O139","v":1691.9363333333336},{"$f":"[1]主表!P139","v":47.02},{"$f":"[1]主表!Q139","v":47.02},{"$f":"[1]主表!R139","v":0},{"$f":"[1]主表!$G139","v":4702},28,3,14,3,103.7,1]
[138,138,{"$f":"[2]HeroPowerUpConfig!J142","v":229},{"$f":"[2]HeroPowerUpConfig!K142","v":236},{"$f":"[2]HeroPowerUpConfig!L142","v":245},"炼虚期","中",8,{"$f":"[1]主表!O140","v":1725.9410000000003},{"$f":"[1]主表!P140","v":47.81},{"$f":"[1]主表!Q140","v":47.81},{"$f":"[1]主表!R140","v":0},{"$f":"[1]主表!$G140","v":4781},28,3,14,3,103.8,1]
[139,139,{"$f":"[2]HeroPowerUpConfig!J143","v":229},{"$f":"[2]HeroPowerUpConfig!K143","v":236},{"$f":"[2]HeroPowerUpConfig!L143","v":246},"炼虚期","中",9,{"$f":"[1]主表!O141","v":1760.13},{"$f":"[1]主表!P141","v":48.6},{"$f":"[1]主表!Q141","v":48.6},{"$f":"[1]主表!R141","v":0},{"$f":"[1]主表!$G141","v":4860},28,3,14,3,103.9,1]
[140,140,{"$f":"[2]HeroPowerUpConfig!J144","v":229},{"$f":"[2]HeroPowerUpConfig!K144","v":236},{"$f":"[2]HeroPowerUpConfig!L144","v":247},"炼虚期","中",10,{"$f":"[1]主表!O142","v":1870.0766666666666},{"$f":"[1]主表!P142","v":51.47},{"$f":"[1]主表!Q142","v":51.47},{"$f":"[1]主表!R142","v":0},{"$f":"[1]主表!$G142","v":5147},28,3,{"$f":"P134+1","v":14},3,104,1]
[141,141,{"$f":"[2]HeroPowerUpConfig!J145","v":229},{"$f":"[2]HeroPowerUpConfig!K145","v":237},{"$f":"[2]HeroPowerUpConfig!L145","v":238},"炼虚期","后",1,{"$f":"[1]主表!O143","v":1970.8515},{"$f":"[1]主表!P143","v":54.07},{"$f":"[1]主表!Q143","v":54.07},{"$f":"[1]主表!R143","v":0},{"$f":"[1]主表!$G143","v":5407},29,3,15,3,104.1,1]
[142,142,{"$f":"[2]HeroPowerUpConfig!J146","v":229},{"$f":"[2]HeroPowerUpConfig!K146","v":237},{"$f":"[2]HeroPowerUpConfig!L146","v":239},"炼虚期","后",2,{"$f":"[1]主表!O144","v":2009.7040000000002},{"$f":"[1]主表!P144","v":54.96},{"$f":"[1]主表!Q144","v":54.96},{"$f":"[1]主表!R144","v":0},{"$f":"[1]主表!$G144","v":5496},29,3,15,3,104.2,1]
[143,143,{"$f":"[2]HeroPowerUpConfig!J147","v":229},{"$f":"[2]HeroPowerUpConfig!K147","v":237},{"$f":"[2]HeroPowerUpConfig!L147","v":240},"炼虚期","后",3,{"$f":"[1]主表!O145","v":2048.7641666666664},{"$f":"[1]主表!P145","v":55.85},{"$f":"[1]主表!Q145","v":55.85},{"$f":"[1]主表!R145","v":0},{"$f":"[1]主表!$G145","v":5585},29,3,15,3,104.3,1]
[144,144,{"$f":"[2]HeroPowerUpConfig!J148","v":229},{"$f":"[2]HeroPowerUpConfig!K148","v":237},{"$f":"[2]HeroPowerUpConfig!L148","v":241},"炼虚期","后",4,{"$f":"[1]主表!O146","v":2089.8719999999998},{"$f":"[1]主表!P146","v":56.79},{"$f":"[1]主表!Q146","v":56.79},{"$f":"[1]主表!R146","v":0},{"$f":"[1]主表!$G146","v":5679},29,3,15,3,104.4,1]
[145,145,{"$f":"[2]HeroPowerUpConfig!J149","v":229},{"$f":"[2]HeroPowerUpConfig!K149","v":237},{"$f":"[2]HeroPowerUpConfig!L149","v":242},"炼虚期","后",5,{"$f":"[1]主表!O147","v":2131.1991666666663},{"$f":"[1]主表!P147","v":57.73},{"$f":"[1]主表!Q147","v":57.73},{"$f":"[1]主表!R147","v":0},{"$f":"[1]主表!$G147","v":5773},29,3,15,3,104.5,1]
[146,146,{"$f":"[2]HeroPowerUpConfig!J150","v":229},{"$f":"[2]HeroPowerUpConfig!K150","v":237},{"$f":"[2]HeroPowerUpConfig!L150","v":243},"炼虚期","后",6,{"$f":"[1]主表!O148","v":2172.7456666666667},{"$f":"[1]主表!P148","v":58.67},{"$f":"[1]主表!Q148","v":58.67},{"$f":"[1]主表!R148","v":0},{"$f":"[1]主表!$G148","v":5867},30,3,15,3,104.6,1]
[147,147,{"$f":"[2]HeroPowerUpConfig!J151","v":229},{"$f":"[2]HeroPowerUpConfig!K151","v":237},{"$f":"[2]HeroPowerUpConfig!L151","v":244},"炼虚期","后",7,{"$f":"[1]主表!O149","v":2216.3689999999997},{"$f":"[1]主表!P149","v":59.66},{"$f":"[1]主表!Q149","v":59.66},{"$f":"[1]主表!R149","v":0},{"$f":"[1]主表!$G149","v":5966},30,3,15,3,104.7,1]
[148,148,{"$f":"[2]HeroPowerUpConfig!J152","v":229},{"$f":"[2]HeroPowerUpConfig!K152","v":237},{"$f":"[2]HeroPowerUpConfig!L152","v":245},"炼虚期","后",8,{"$f":"[1]主表!O150","v":2260.2233333333334},{"$f":"[1]主表!P150","v":60.65},{"$f":"[1]主表!Q150","v":60.65},{"$f":"[1]主表!R150","v":0},{"$f":"[1]主表!$G150","v":6065},30,3,15,3,104.8,1]
[149,149,{"$f":"[2]HeroPowerUpConfig!J153","v":229},{"$f":"[2]HeroPowerUpConfig!K153","v":237},{"$f":"[2]HeroPowerUpConfig!L153","v":246},"炼虚期","后",9,{"$f":"[1]主表!O151","v":2305.8040000000001},{"$f":"[1]主表!P151","v":61.68},{"$f":"[1]主表!Q151","v":61.68},{"$f":"[1]主表!R151","v":0},{"$f":"[1]主表!$G151","v":6168},30,3,15,3,104.9,1]
[150,150,{"$f":"[2]HeroPowerUpConfig!J154","v":229},{"$f":"[2]HeroPowerUpConfig!K154","v":237},{"$f":"[2]HeroPowerUpConfig!L154","v":247},"炼虚期","后",10,{"$f":"[1]主表!O152","v":2578.125},{"$f":"[1]主表!P152","v":68.75},{"$f":"[1]主表!Q152","v":68.75},{"$f":"[1]主表!R152","v":0},{"$f":"[1]主表!$G152","v":6875},30,3,15,3,105,1]
[151,151,{"$f":"[2]HeroPowerUpConfig!J155","v":230},{"$f":"[2]HeroPowerUpConfig!K155","v":235},{"$f":"[2]HeroPowerUpConfig!L155","v":238},"合体期","前",1,{"$f":"[1]主表!O153","v":2738.4933333333333},{"$f":"[1]主表!P153","v":72.8},{"$f":"[1]主表!Q153","v":72.8},{"$f":"[1]主表!R153","v":0},{"$f":"[1]主表!$G153","v":7280},31,4,16,4,105.1,1]
[152,152,{"$f":"[2]HeroPowerUpConfig!J156","v":230},{"$f":"[2]HeroPowerUpConfig!K156","v":235},{"$f":"[2]HeroPowerUpConfig!L156","v":239},"合体期","前",2,{"$f":"[1]主表!O154","v":2791.8893333333331},{"$f":"[1]主表!P154","v":73.989999999999995},{"$f":"[1]主表!Q154","v":73.989999999999995},{"$f":"[1]主表!R154","v":0},{"$f":"[1]主表!$G154","v":7399},31,4,16,4,105.2,1]
[153,153,{"$f":"[2]HeroPowerUpConfig!J157","v":230},{"$f":"[2]HeroPowerUpConfig!K157","v":235},{"$f":"[2]HeroPowerUpConfig!L157","v":240},"合体期","前",3,{"$f":"[1]主表!O155","v":2846.6985},{"$f":"[1]主表!P155","v":75.209999999999994},{"$f":"[1]主表!Q155","v":75.209999999999994},{"$f":"[1]主表!R155","v":0},{"$f":"[1]主表!$G155","v":7521},31,4,16,4,105.3,1]
[154,154,{"$f":"[2]HeroPowerUpConfig!J158","v":230},{"$f":"[2]HeroPowerUpConfig!K158","v":235},{"$f":"[2]HeroPowerUpConfig!L158","v":241},"合体期","前",4,{"$f":"[1]主表!O156","v":2902.5516666666672},{"$f":"[1]主表!P156","v":76.45},{"$f":"[1]主表!Q156","v":76.45},{"$f":"[1]主表!R156","v":0},{"$f":"[1]主表!$G156","v":7645},31,4,16,4,105.4,1]
[155,155,{"$f":"[2]HeroPowerUpConfig!J159","v":230},{"$f":"[2]HeroPowerUpConfig!K159","v":235},{"$f":"[2]HeroPowerUpConfig!L159","v":242},"合体期","前",5,{"$f":"[1]主表!O157","v":2960.2175000000007},{"$f":"[1]主表!P157","v":77.73},{"$f":"[1]主表!Q157","v":77.73},{"$f":"[1]主表!R157","v":0},{"$f":"[1]主表!$G157","v":7773},31,4,16,4,105.5,1]
[156,156,{"$f":"[2]HeroPowerUpConfig!J160","v":230},{"$f":"[2]HeroPowerUpConfig!K160","v":235},{"$f":"[2]HeroPowerUpConfig!L160","v":243},"合体期","前",6,{"$f":"[1]主表!O158","v":3018.1820000000007},{"$f":"[1]主表!P158","v":79.010000000000005},{"$f":"[1]主表!Q158","v":79.010000000000005},{"$f":"[1]主表!R158","v":0},{"$f":"[1]主表!$G158","v":7901},32,4,16,4,105.6,1]
[157,157,{"$f":"[2]HeroPowerUpConfig!J161","v":230},{"$f":"[2]HeroPowerUpConfig!K161","v":235},{"$f":"[2]HeroPowerUpConfig!L161","v":244},"合体期","前",7,{"$f":"[1]主表!O159","v":3076.8283333333334},{"$f":"[1]主表!P159","v":80.3},{"$f":"[1]主表!Q159","v":80.3},{"$f":"[1]主表!R159","v":0},{"$f":"[1]主表!$G159","v":8030},32,4,16,4,105.7,1]
[158,158,{"$f":"[2]HeroPowerUpConfig!J162","v":230},{"$f":"[2]HeroPowerUpConfig!K162","v":235},{"$f":"[2]HeroPowerUpConfig!L162","v":245},"合体期","前",8,{"$f":"[1]主表!O160","v":3137.3129999999996},{"$f":"[1]主表!P160","v":81.63},{"$f":"[1]主表!Q160","v":81.63},{"$f":"[1]主表!R160","v":0},{"$f":"[1]主表!$G160","v":8163},32,4,16,4,105.8,1]
[159,159,{"$f":"[2]HeroPowerUpConfig!J163","v":230},{"$f":"[2]HeroPowerUpConfig!K163","v":235},{"$f":"[2]HeroPowerUpConfig!L163","v":246},"合体期","前",9,{"$f":"[1]主表!O161","v":3200.0355},{"$f":"[1]主表!P161","v":83.01},{"$f":"[1]主表!Q161","v":83.01},{"$f":"[1]主表!R161","v":0},{"$f":"[1]主表!$G161","v":8301},32,4,16,4,105.9,1]
[160,160,{"$f":"[2]HeroPowerUpConfig!J164","v":230},{"$f":"[2]HeroPowerUpConfig!K164","v":235},{"$f":"[2]HeroPowerUpConfig!L164","v":247},"合体期","前",10,{"$f":"[1]主表!O162","v":3397.2533333333331},{"$f":"[1]主表!P162","v":87.86},{"$f":"[1]主表!Q162","v":87.86},{"$f":"[1]主表!R162","v":175.72},{"$f":"[1]主表!$G162","v":8786},32,4,16,4,106,1]
[161,161,{"$f":"[2]HeroPowerUpConfig!J165","v":230},{"$f":"[2]HeroPowerUpConfig!K165","v":236},{"$f":"[2]HeroPowerUpConfig!L165","v":238},"合体期","中",1,{"$f":"[1]主表!O163","v":3578.1503333333335},{"$f":"[1]主表!P163","v":92.26},{"$f":"[1]主表!Q163","v":92.26},{"$f":"[1]主表!R163","v":184.52},{"$f":"[1]主表!$G163","v":9226},33,4,17,4,106.1,1]
[162,162,{"$f":"[2]HeroPowerUpConfig!J166","v":230},{"$f":"[2]HeroPowerUpConfig!K166","v":236},{"$f":"[2]HeroPowerUpConfig!L166","v":239},"合体期","中",2,{"$f":"[1]主表!O164","v":3648.8199999999997},{"$f":"[1]主表!P164","v":93.8},{"$f":"[1]主表!Q164","v":93.8},{"$f":"[1]主表!R164","v":187.6},{"$f":"[1]主表!$G164","v":9380},33,4,17,4,106.2,1]
[163,163,{"$f":"[2]HeroPowerUpConfig!J167","v":230},{"$f":"[2]HeroPowerUpConfig!K167","v":236},{"$f":"[2]HeroPowerUpConfig!L167","v":240},"合体期","中",3,{"$f":"[1]主表!O165","v":3719.4588333333331},{"$f":"[1]主表!P165","v":95.33},{"$f":"[1]主表!Q165","v":95.33},{"$f":"[1]主表!R165","v":190.66},{"$f":"[1]主表!$G165","v":9533},33,4,17,4,106.3,1]
[164,164,{"$f":"[2]HeroPowerUpConfig!J168","v":230},{"$f":"[2]HeroPowerUpConfig!K168","v":236},{"$f":"[2]HeroPowerUpConfig!L168","v":241},"合体期","中",4,{"$f":"[1]主表!O166","v":3791.237333333333},{"$f":"[1]主表!P166","v":96.88},{"$f":"[1]主表!Q166","v":96.88},{"$f":"[1]主表!R166","v":193.76},{"$f":"[1]主表!$G166","v":9688},33,4,17,4,106.4,1]
[165,165,{"$f":"[2]HeroPowerUpConfig!J169","v":230},{"$f":"[2]HeroPowerUpConfig!K169","v":236},{"$f":"[2]HeroPowerUpConfig!L169","v":242},"合体期","中",5,{"$f":"[1]主表!O167","v":3864.9474999999993},{"$f":"[1]主表!P167","v":98.47},{"$f":"[1]主表!Q167","v":98.47},{"$f":"[1]主表!R167","v":196.94},{"$f":"[1]主表!$G167","v":9847},33,4,17,4,106.5,1]
[166,166,{"$f":"[2]HeroPowerUpConfig!J170","v":230},{"$f":"[2]HeroPowerUpConfig!K170","v":236},{"$f":"[2]HeroPowerUpConfig!L170","v":243},"合体期","中",6,{"$f":"[1]主表!O168","v":3940.603333333333},{"$f":"[1]主表!P168","v":100.1},{"$f":"[1]主表!Q168","v":100.1},{"$f":"[1]主表!R168","v":200.2},{"$f":"[1]主表!$G168","v":10010},34,4,17,4,106.6,1]
[167,167,{"$f":"[2]HeroPowerUpConfig!J171","v":230},{"$f":"[2]HeroPowerUpConfig!K171","v":236},{"$f":"[2]HeroPowerUpConfig!L171","v":244},"合体期","中",7,{"$f":"[1]主表!O169","v":4017.4291666666663},{"$f":"[1]主表!P169","v":101.75},{"$f":"[1]主表!Q169","v":101.75},{"$f":"[1]主表!R169","v":203.5},{"$f":"[1]主表!$G169","v":10175},34,4,17,4,106.7,1]
[168,168,{"$f":"[2]HeroPowerUpConfig!J172","v":230},{"$f":"[2]HeroPowerUpConfig!K172","v":236},{"$f":"[2]HeroPowerUpConfig!L172","v":245},"合体期","中",8,{"$f":"[1]主表!O170","v":4096.2240000000002},{"$f":"[1]主表!P170","v":103.44},{"$f":"[1]主表!Q170","v":103.44},{"$f":"[1]主表!R170","v":206.88},{"$f":"[1]主表!$G170","v":10344},34,4,17,4,106.8,1]
[169,169,{"$f":"[2]HeroPowerUpConfig!J173","v":230},{"$f":"[2]HeroPowerUpConfig!K173","v":236},{"$f":"[2]HeroPowerUpConfig!L173","v":246},"合体期","中",9,{"$f":"[1]主表!O171","v":4175.8103333333329},{"$f":"[1]主表!P171","v":105.14},{"$f":"[1]主表!Q171","v":105.14},{"$f":"[1]主表!R171","v":210.28},{"$f":"[1]主表!$G171","v":10514},34,4,17,4,106.9,1]
[170,170,{"$f":"[2]HeroPowerUpConfig!J174","v":230},{"$f":"[2]HeroPowerUpConfig!K174","v":236},{"$f":"[2]HeroPowerUpConfig!L174","v":247},"合体期","中",10,{"$f":"[1]主表!O172","v":4434.2466666666669},{"$f":"[1]主表!P172","v":111.32},{"$f":"[1]主表!Q172","v":111.32},{"$f":"[1]主表!R172","v":244.9},{"$f":"[1]主表!$G172","v":11132},34,4,17,4,107,1]
[171,171,{"$f":"[2]HeroPowerUpConfig!J175","v":230},{"$f":"[2]HeroPowerUpConfig!K175","v":237},{"$f":"[2]HeroPowerUpConfig!L175","v":238},"合体期","后",1,{"$f":"[1]主表!O173","v":4668.9565000000002},{"$f":"[1]主表!P173","v":116.87},{"$f":"[1]主表!Q173","v":116.87},{"$f":"[1]主表!R173","v":257.11},{"$f":"[1]主表!$G173","v":11687},35,4,18,4,107.1,1]
[172,172,{"$f":"[2]HeroPowerUpConfig!J176","v":230},{"$f":"[2]HeroPowerUpConfig!K176","v":237},{"$f":"[2]HeroPowerUpConfig!L176","v":239},"合体期","后",2,{"$f":"[1]主表!O174","v":4758.7179999999998},{"$f":"[1]主表!P174","v":118.77},{"$f":"[1]主表!Q174","v":118.77},{"$f":"[1]主表!R174","v":261.29000000000002},{"$f":"[1]主表!$G174","v":11877},35,4,18,4,107.2,1]
[173,173,{"$f":"[2]HeroPowerUpConfig!J177","v":230},{"$f":"[2]HeroPowerUpConfig!K177","v":237},{"$f":"[2]HeroPowerUpConfig!L177","v":240},"合体期","后",3,{"$f":"[1]主表!O175","v":4850.9320000000007},{"$f":"[1]主表!P175","v":120.72},{"$f":"[1]主表!Q175","v":120.72},{"$f":"[1]主表!R175","v":265.58},{"$f":"[1]主表!$G175","v":12072},35,4,18,4,107.3,1]
[174,174,{"$f":"[2]HeroPowerUpConfig!J178","v":230},{"$f":"[2]HeroPowerUpConfig!K178","v":237},{"$f":"[2]HeroPowerUpConfig!L178","v":241},"合体期","后",4,{"$f":"[1]主表!O176","v":4943.6009999999997},{"$f":"[1]主表!P176","v":122.67},{"$f":"[1]主表!Q176","v":122.67},{"$f":"[1]主表!R176","v":269.87},{"$f":"[1]主表!$G176","v":12267},35,4,18,4,107.4,1]
[175,175,{"$f":"[2]HeroPowerUpConfig!J179","v":230},{"$f":"[2]HeroPowerUpConfig!K179","v":237},{"$f":"[2]HeroPowerUpConfig!L179","v":242},"合体期","后",5,{"$f":"[1]主表!O177","v":5039.1499999999996},{"$f":"[1]主表!P177","v":124.68},{"$f":"[1]主表!Q177","v":124.68},{"$f":"[1]主表!R177","v":274.3},{"$f":"[1]主表!$G177","v":12468},35,4,18,4,107.5,1]
[176,176,{"$f":"[2]HeroPowerUpConfig!J180","v":230},{"$f":"[2]HeroPowerUpConfig!K180","v":237},{"$f":"[2]HeroPowerUpConfig!L180","v":243},"合体期","后",6,{"$f":"[1]主表!O178","v":5137.1946666666654},{"$f":"[1]主表!P178","v":126.74},{"$f":"[1]主表!Q178","v":126.74},{"$f":"[1]主表!R178","v":278.83},{"$f":"[1]主表!$G178","v":12674},36,4,18,4,107.6,1]
[177,177,{"$f":"[2]HeroPowerUpConfig!J181","v":230},{"$f":"[2]HeroPowerUpConfig!K181","v":237},{"$f":"[2]HeroPowerUpConfig!L181","v":244},"合体期","后",7,{"$f":"[1]主表!O179","v":5235.72},{"$f":"[1]主表!P179","v":128.80000000000001},{"$f":"[1]主表!Q179","v":128.80000000000001},{"$f":"[1]主表!R179","v":283.36},{"$f":"[1]主表!$G179","v":12880},36,4,18,4,107.7,1]
[178,178,{"$f":"[2]HeroPowerUpConfig!J182","v":230},{"$f":"[2]HeroPowerUpConfig!K182","v":237},{"$f":"[2]HeroPowerUpConfig!L182","v":245},"合体期","后",8,{"$f":"[1]主表!O180","v":5336.7643333333326},{"$f":"[1]主表!P180","v":130.91},{"$f":"[1]主表!Q180","v":130.91},{"$f":"[1]主表!R180","v":288},{"$f":"[1]主表!$G180","v":13091},36,4,18,4,107.8,1]
[179,179,{"$f":"[2]HeroPowerUpConfig!J183","v":230},{"$f":"[2]HeroPowerUpConfig!K183","v":237},{"$f":"[2]HeroPowerUpConfig!L183","v":246},"合体期","后",9,{"$f":"[1]主表!O181","v":5440.753999999999},{"$f":"[1]主表!P181","v":133.08000000000001},{"$f":"[1]主表!Q181","v":133.08000000000001},{"$f":"[1]主表!R181","v":292.77999999999997},{"$f":"[1]主表!$G181","v":13308},36,4,18,4,107.9,1]
[180,180,{"$f":"[2]HeroPowerUpConfig!J184","v":230},{"$f":"[2]HeroPowerUpConfig!K184","v":237},{"$f":"[2]HeroPowerUpConfig!L184","v":247},"合体期","后",10,{"$f":"[1]主表!O182","v":6083.17},{"$f":"[1]主表!P182","v":148.37},{"$f":"[1]主表!Q182","v":148.37},{"$f":"[1]主表!R182","v":356.09},{"$f":"[1]主表!$G182","v":14837},36,4,18,4,108,1]
[181,181,{"$f":"[2]HeroPowerUpConfig!J185","v":231},{"$f":"[2]HeroPowerUpConfig!K185","v":235},{"$f":"[2]HeroPowerUpConfig!L185","v":238},"大乘期","前",1,{"$f":"[1]主表!O183","v":6466.0069999999996},{"$f":"[1]主表!P183","v":157.26},{"$f":"[1]主表!Q183","v":157.26},{"$f":"[1]主表!R183","v":377.42},{"$f":"[1]主表!$G183","v":15726},37,4,19,4,108.1,1]
[182,182,{"$f":"[2]HeroPowerUpConfig!J186","v":231},{"$f":"[2]HeroPowerUpConfig!K186","v":235},{"$f":"[2]HeroPowerUpConfig!L186","v":239},"大乘期","前",2,{"$f":"[1]主表!O184","v":6596.5086666666666},{"$f":"[1]主表!P184","v":159.97999999999999},{"$f":"[1]主表!Q184","v":159.97999999999999},{"$f":"[1]主表!R184","v":383.95},{"$f":"[1]主表!$G184","v":15998},37,4,19,4,108.2,1]
[183,183,{"$f":"[2]HeroPowerUpConfig!J187","v":231},{"$f":"[2]HeroPowerUpConfig!K187","v":235},{"$f":"[2]HeroPowerUpConfig!L187","v":240},"大乘期","前",3,{"$f":"[1]主表!O185","v":6731.3664999999992},{"$f":"[1]主表!P185","v":162.79},{"$f":"[1]主表!Q185","v":162.79},{"$f":"[1]主表!R185","v":390.7},{"$f":"[1]主表!$G185","v":16279},37,4,19,4,108.3,1]
[184,184,{"$f":"[2]HeroPowerUpConfig!J188","v":231},{"$f":"[2]HeroPowerUpConfig!K188","v":235},{"$f":"[2]HeroPowerUpConfig!L188","v":241},"大乘期","前",4,{"$f":"[1]主表!O186","v":6867.7093333333332},{"$f":"[1]主表!P186","v":165.62},{"$f":"[1]主表!Q186","v":165.62},{"$f":"[1]主表!R186","v":397.49},{"$f":"[1]主表!$G186","v":16562},37,4,19,4,108.4,1]
[185,185,{"$f":"[2]HeroPowerUpConfig!J189","v":231},{"$f":"[2]HeroPowerUpConfig!K189","v":235},{"$f":"[2]HeroPowerUpConfig!L189","v":242},"大乘期","前",5,{"$f":"[1]主表!O187","v":7007.2074999999995},{"$f":"[1]主表!P187","v":168.51},{"$f":"[1]主表!Q187","v":168.51},{"$f":"[1]主表!R187","v":404.42},{"$f":"[1]主表!$G187","v":16851},37,4,19,4,108.5,1]
[186,186,{"$f":"[2]HeroPowerUpConfig!J190","v":231},{"$f":"[2]HeroPowerUpConfig!K190","v":235},{"$f":"[2]HeroPowerUpConfig!L190","v":243},"大乘期","前",6,{"$f":"[1]主表!O188","v":7153.2179999999989},{"$f":"[1]主表!P188","v":171.54},{"$f":"[1]主表!Q188","v":171.54},{"$f":"[1]主表!R188","v":411.7},{"$f":"[1]主表!$G188","v":17154},38,4,19,4,108.6,1]
[187,187,{"$f":"[2]HeroPowerUpConfig!J191","v":231},{"$f":"[2]HeroPowerUpConfig!K191","v":235},{"$f":"[2]HeroPowerUpConfig!L191","v":244},"大乘期","前",7,{"$f":"[1]主表!O189","v":7302.4445000000005},{"$f":"[1]主表!P189","v":174.63},{"$f":"[1]主表!Q189","v":174.63},{"$f":"[1]主表!R189","v":419.11},{"$f":"[1]主表!$G189","v":17463},38,4,19,4,108.7,1]
[188,188,{"$f":"[2]HeroPowerUpConfig!J192","v":231},{"$f":"[2]HeroPowerUpConfig!K192","v":235},{"$f":"[2]HeroPowerUpConfig!L192","v":245},"大乘期","前",8,{"$f":"[1]主表!O190","v":7454.9080000000004},{"$f":"[1]主表!P190","v":177.78},{"$f":"[1]主表!Q190","v":177.78},{"$f":"[1]主表!R190","v":426.67},{"$f":"[1]主表!$G190","v":17778},38,4,19,4,108.799999999999,1]
[189,189,{"$f":"[2]HeroPowerUpConfig!J193","v":231},{"$f":"[2]HeroPowerUpConfig!K193","v":235},{"$f":"[2]HeroPowerUpConfig!L193","v":246},"大乘期","前",9,{"$f":"[1]主表!O191","v":7610.6295},{"$f":"[1]主表!P191","v":180.99},{"$f":"[1]主表!Q191","v":180.99},{"$f":"[1]主表!R191","v":434.38},{"$f":"[1]主表!$G191","v":18099},38,4,19,4,108.899999999999,1]
[190,190,{"$f":"[2]HeroPowerUpConfig!J194","v":231},{"$f":"[2]HeroPowerUpConfig!K194","v":235},{"$f":"[2]HeroPowerUpConfig!L194","v":247},"大乘期","前",10,{"$f":"[1]主表!O192","v":8091.3616666666667},{"$f":"[1]主表!P192","v":191.89},{"$f":"[1]主表!Q192","v":191.89},{"$f":"[1]主表!R192","v":498.91},{"$f":"[1]主表!$G192","v":19189},38,4,19,4,108.99999999999901,1]
[191,191,{"$f":"[2]HeroPowerUpConfig!J195","v":231},{"$f":"[2]HeroPowerUpConfig!K195","v":236},{"$f":"[2]HeroPowerUpConfig!L195","v":238},"大乘期","中",1,{"$f":"[1]主表!O193","v":8531.9310000000005},{"$f":"[1]主表!P193","v":201.78},{"$f":"[1]主表!Q193","v":201.78},{"$f":"[1]主表!R193","v":524.63},{"$f":"[1]主表!$G193","v":20178},39,4,20,4,109.099999999999,1]
[192,192,{"$f":"[2]HeroPowerUpConfig!J196","v":231},{"$f":"[2]HeroPowerUpConfig!K196","v":236},{"$f":"[2]HeroPowerUpConfig!L196","v":239},"大乘期","中",2,{"$f":"[1]主表!O194","v":8705.5680000000011},{"$f":"[1]主表!P194","v":205.32},{"$f":"[1]主表!Q194","v":205.32},{"$f":"[1]主表!R194","v":533.83000000000004},{"$f":"[1]主表!$G194","v":20532},39,4,20,4,109.19999999999899,1]
[193,193,{"$f":"[2]HeroPowerUpConfig!J197","v":231},{"$f":"[2]HeroPowerUpConfig!K197","v":236},{"$f":"[2]HeroPowerUpConfig!L197","v":240},"大乘期","中",3,{"$f":"[1]主表!O195","v":8884.7078333333338},{"$f":"[1]主表!P195","v":208.97},{"$f":"[1]主表!Q195","v":208.97},{"$f":"[1]主表!R195","v":543.32000000000005},{"$f":"[1]主表!$G195","v":20897},39,4,20,4,109.299999999999,1]
[194,194,{"$f":"[2]HeroPowerUpConfig!J198","v":231},{"$f":"[2]HeroPowerUpConfig!K198","v":236},{"$f":"[2]HeroPowerUpConfig!L198","v":241},"大乘期","中",4,{"$f":"[1]主表!O196","v":9067.6836666666677},{"$f":"[1]主表!P196","v":212.69},{"$f":"[1]主表!Q196","v":212.69},{"$f":"[1]主表!R196","v":552.99},{"$f":"[1]主表!$G196","v":21269},39,4,20,4,109.399999999999,1]
[195,195,{"$f":"[2]HeroPowerUpConfig!J199","v":231},{"$f":"[2]HeroPowerUpConfig!K199","v":236},{"$f":"[2]HeroPowerUpConfig!L199","v":242},"大乘期","中",5,{"$f":"[1]主表!O197","v":9254.0925000000007},{"$f":"[1]主表!P197","v":216.47},{"$f":"[1]主表!Q197","v":216.47},{"$f":"[1]主表!R197","v":562.82000000000005},{"$f":"[1]主表!$G197","v":21647},39,4,20,4,109.49999999999901,1]
[196,196,{"$f":"[2]HeroPowerUpConfig!J200","v":231},{"$f":"[2]HeroPowerUpConfig!K200","v":236},{"$f":"[2]HeroPowerUpConfig!L200","v":243},"大乘期","中",6,{"$f":"[1]主表!O198","v":9444.3840000000018},{"$f":"[1]主表!P198","v":220.32},{"$f":"[1]主表!Q198","v":220.32},{"$f":"[1]主表!R198","v":572.83000000000004},{"$f":"[1]主表!$G198","v":22032},40,4,20,4,109.599999999999,1]
[197,197,{"$f":"[2]HeroPowerUpConfig!J201","v":231},{"$f":"[2]HeroPowerUpConfig!K201","v":236},{"$f":"[2]HeroPowerUpConfig!L201","v":244},"大乘期","中",7,{"$f":"[1]主表!O199","v":9640.3020000000015},{"$f":"[1]主表!P199","v":224.28},{"$f":"[1]主表!Q199","v":224.28},{"$f":"[1]主表!R199","v":583.13},{"$f":"[1]主表!$G199","v":22428},40,4,20,4,109.69999999999899,1]
[198,198,{"$f":"[2]HeroPowerUpConfig!J202","v":231},{"$f":"[2]HeroPowerUpConfig!K202","v":236},{"$f":"[2]HeroPowerUpConfig!L202","v":245},"大乘期","中",8,{"$f":"[1]主表!O200","v":9838.4370000000017},{"$f":"[1]主表!P200","v":228.27},{"$f":"[1]主表!Q200","v":228.27},{"$f":"[1]主表!R200","v":593.5},{"$f":"[1]主表!$G200","v":22827},40,4,20,4,109.799999999999,1]
[199,199,{"$f":"[2]HeroPowerUpConfig!J203","v":231},{"$f":"[2]HeroPowerUpConfig!K203","v":236},{"$f":"[2]HeroPowerUpConfig!L203","v":246},"大乘期","中",9,{"$f":"[1]主表!O201","v":10041.824666666669},{"$f":"[1]主表!P201","v":232.36},{"$f":"[1]主表!Q201","v":232.36},{"$f":"[1]主表!R201","v":604.14},{"$f":"[1]主表!$G201","v":23236},40,4,20,4,109.899999999999,1]
[200,200,{"$f":"[2]HeroPowerUpConfig!J204","v":231},{"$f":"[2]HeroPowerUpConfig!K204","v":236},{"$f":"[2]HeroPowerUpConfig!L204","v":247},"大乘期","中",10,{"$f":"[1]主表!O202","v":10673.433333333334},{"$f":"[1]主表!P202","v":246.31},{"$f":"[1]主表!Q202","v":246.31},{"$f":"[1]主表!R202","v":689.67},{"$f":"[1]主表!$G202","v":24631},40,4,20,4,109.99999999999901,1]
[201,201,{"$f":"[2]HeroPowerUpConfig!J205","v":231},{"$f":"[2]HeroPowerUpConfig!K205","v":237},{"$f":"[2]HeroPowerUpConfig!L205","v":238},"大乘期","后",1,{"$f":"[1]主表!O203","v":11251.812},{"$f":"[1]主表!P203","v":258.95999999999998},{"$f":"[1]主表!Q203","v":258.95999999999998},{"$f":"[1]主表!R203","v":725.09},{"$f":"[1]主表!$G203","v":25896},41,5,21,5,110.099999999999,1]
[202,202,{"$f":"[2]HeroPowerUpConfig!J206","v":231},{"$f":"[2]HeroPowerUpConfig!K206","v":237},{"$f":"[2]HeroPowerUpConfig!L206","v":239},"大乘期","后",2,{"$f":"[1]主表!O204","v":11480.687999999998},{"$f":"[1]主表!P204","v":263.52},{"$f":"[1]主表!Q204","v":263.52},{"$f":"[1]主表!R204","v":737.86},{"$f":"[1]主表!$G204","v":26352},41,5,21,5,110.19999999999899,1]
[203,203,{"$f":"[2]HeroPowerUpConfig!J207","v":231},{"$f":"[2]HeroPowerUpConfig!K207","v":237},{"$f":"[2]HeroPowerUpConfig!L207","v":240},"大乘期","后",3,{"$f":"[1]主表!O205","v":11713.248999999998},{"$f":"[1]主表!P205","v":268.14},{"$f":"[1]主表!Q205","v":268.14},{"$f":"[1]主表!R205","v":750.79},{"$f":"[1]主表!$G205","v":26814},41,5,21,5,110.299999999999,1]
[204,204,{"$f":"[2]HeroPowerUpConfig!J208","v":231},{"$f":"[2]HeroPowerUpConfig!K208","v":237},{"$f":"[2]HeroPowerUpConfig!L208","v":241},"大乘期","后",4,{"$f":"[1]主表!O206","v":11952.143999999998},{"$f":"[1]主表!P206","v":272.88},{"$f":"[1]主表!Q206","v":272.88},{"$f":"[1]主表!R206","v":764.06},{"$f":"[1]主表!$G206","v":27288},41,5,{"$f":"P198+1","v":21},5,110.399999999999,1]
[205,205,{"$f":"[2]HeroPowerUpConfig!J209","v":231},{"$f":"[2]HeroPowerUpConfig!K209","v":237},{"$f":"[2]HeroPowerUpConfig!L209","v":242},"大乘期","后",5,{"$f":"[1]主表!O207","v":12195.219166666666},{"$f":"[1]主表!P207","v":277.69},{"$f":"[1]主表!Q207","v":277.69},{"$f":"[1]主表!R207","v":777.53},{"$f":"[1]主表!$G207","v":27769},41,5,21,5,110.49999999999901,1]
[206,206,{"$f":"[2]HeroPowerUpConfig!J210","v":231},{"$f":"[2]HeroPowerUpConfig!K210","v":237},{"$f":"[2]HeroPowerUpConfig!L210","v":243},"大乘期","后",6,{"$f":"[1]主表!O208","v":12442.939333333334},{"$f":"[1]主表!P208","v":282.58},{"$f":"[1]主表!Q208","v":282.58},{"$f":"[1]主表!R208","v":791.22},{"$f":"[1]主表!$G208","v":28258},42,5,21,5,110.599999999999,1]
[207,207,{"$f":"[2]HeroPowerUpConfig!J211","v":231},{"$f":"[2]HeroPowerUpConfig!K211","v":237},{"$f":"[2]HeroPowerUpConfig!L211","v":244},"大乘期","后",7,{"$f":"[1]主表!O209","v":12697.0985},{"$f":"[1]主表!P209","v":287.58999999999997},{"$f":"[1]主表!Q209","v":287.58999999999997},{"$f":"[1]主表!R209","v":805.25},{"$f":"[1]主表!$G209","v":28759},42,5,21,5,110.69999999999899,1]
[208,208,{"$f":"[2]HeroPowerUpConfig!J212","v":231},{"$f":"[2]HeroPowerUpConfig!K212","v":237},{"$f":"[2]HeroPowerUpConfig!L212","v":245},"大乘期","后",8,{"$f":"[1]主表!O210","v":12955.525333333335},{"$f":"[1]主表!P210","v":292.67},{"$f":"[1]主表!Q210","v":292.67},{"$f":"[1]主表!R210","v":819.48},{"$f":"[1]主表!$G210","v":29267},42,5,21,5,110.799999999999,1]
[209,209,{"$f":"[2]HeroPowerUpConfig!J213","v":231},{"$f":"[2]HeroPowerUpConfig!K213","v":237},{"$f":"[2]HeroPowerUpConfig!L213","v":246},"大乘期","后",9,{"$f":"[1]主表!O211","v":13220.907333333334},{"$f":"[1]主表!P211","v":297.88},{"$f":"[1]主表!Q211","v":297.88},{"$f":"[1]主表!R211","v":834.06},{"$f":"[1]主表!$G211","v":29788},42,5,21,5,110.899999999999,1]
[210,210,{"$f":"[2]HeroPowerUpConfig!J214","v":231},{"$f":"[2]HeroPowerUpConfig!K214","v":237},{"$f":"[2]HeroPowerUpConfig!L214","v":247},"大乘期","后",10,{"$f":"[1]主表!O212","v":14794.915000000001},{"$f":"[1]主表!P212","v":332.47},{"$f":"[1]主表!Q212","v":332.47},{"$f":"[1]主表!R212","v":997.41},{"$f":"[1]主表!$G212","v":33247},42,5,21,5,110.99999999999901,1]
[211,211,{"$f":"[2]HeroPowerUpConfig!J215","v":232},{"$f":"[2]HeroPowerUpConfig!K215","v":235},{"$f":"[2]HeroPowerUpConfig!L215","v":238},"飞升期","前",1,{"$f":"[1]主表!O213","v":15721.574833333332},{"$f":"[1]主表!P213","v":352.37},{"$f":"[1]主表!Q213","v":352.37},{"$f":"[1]主表!R213","v":1057.1099999999999},{"$f":"[1]主表!$G213","v":35237},43,5,22,5,111.099999999999,1]
[212,212,{"$f":"[2]HeroPowerUpConfig!J216","v":232},{"$f":"[2]HeroPowerUpConfig!K216","v":235},{"$f":"[2]HeroPowerUpConfig!L216","v":239},"飞升期","前",2,{"$f":"[1]主表!O214","v":16037.794666666665},{"$f":"[1]主表!P214","v":358.52},{"$f":"[1]主表!Q214","v":358.52},{"$f":"[1]主表!R214","v":1075.56},{"$f":"[1]主表!$G214","v":35852},43,5,22,5,111.19999999999899,1]
[213,213,{"$f":"[2]HeroPowerUpConfig!J217","v":232},{"$f":"[2]HeroPowerUpConfig!K217","v":235},{"$f":"[2]HeroPowerUpConfig!L217","v":240},"飞升期","前",3,{"$f":"[1]主表!O215","v":16359.485999999997},{"$f":"[1]主表!P215","v":364.76},{"$f":"[1]主表!Q215","v":364.76},{"$f":"[1]主表!R215","v":1094.28},{"$f":"[1]主表!$G215","v":36476},43,5,22,5,111.299999999999,1]
[214,214,{"$f":"[2]HeroPowerUpConfig!J218","v":232},{"$f":"[2]HeroPowerUpConfig!K218","v":235},{"$f":"[2]HeroPowerUpConfig!L218","v":241},"飞升期","前",4,{"$f":"[1]主表!O216","v":16690.277666666665},{"$f":"[1]主表!P216","v":371.17},{"$f":"[1]主表!Q216","v":371.17},{"$f":"[1]主表!R216","v":1113.51},{"$f":"[1]主表!$G216","v":37117},43,5,22,5,111.399999999999,1]
[215,215,{"$f":"[2]HeroPowerUpConfig!J219","v":232},{"$f":"[2]HeroPowerUpConfig!K219","v":235},{"$f":"[2]HeroPowerUpConfig!L219","v":242},"飞升期","前",5,{"$f":"[1]主表!O217","v":17026.171666666665},{"$f":"[1]主表!P217","v":377.66},{"$f":"[1]主表!Q217","v":377.66},{"$f":"[1]主表!R217","v":1132.98},{"$f":"[1]主表!$G217","v":37766},43,5,22,5,111.49999999999901,1]
[216,216,{"$f":"[2]HeroPowerUpConfig!J220","v":232},{"$f":"[2]HeroPowerUpConfig!K220","v":235},{"$f":"[2]HeroPowerUpConfig!L220","v":243},"飞升期","前",6,{"$f":"[1]主表!O218","v":17369.455999999998},{"$f":"[1]主表!P218","v":384.28},{"$f":"[1]主表!Q218","v":384.28},{"$f":"[1]主表!R218","v":1152.8399999999999},{"$f":"[1]主表!$G218","v":38428},44,5,22,5,111.599999999999,1]
[217,217,{"$f":"[2]HeroPowerUpConfig!J221","v":232},{"$f":"[2]HeroPowerUpConfig!K221","v":235},{"$f":"[2]HeroPowerUpConfig!L221","v":244},"飞升期","前",7,{"$f":"[1]主表!O219","v":17720.176166666664},{"$f":"[1]主表!P219","v":391.03},{"$f":"[1]主表!Q219","v":391.03},{"$f":"[1]主表!R219","v":1173.0899999999999},{"$f":"[1]主表!$G219","v":39103},44,5,22,5,111.69999999999899,1]
[218,218,{"$f":"[2]HeroPowerUpConfig!J222","v":232},{"$f":"[2]HeroPowerUpConfig!K222","v":235},{"$f":"[2]HeroPowerUpConfig!L222","v":245},"飞升期","前",8,{"$f":"[1]主表!O220","v":18077.014666666662},{"$f":"[1]主表!P220","v":397.88},{"$f":"[1]主表!Q220","v":397.88},{"$f":"[1]主表!R220","v":1193.6400000000001},{"$f":"[1]主表!$G220","v":39788},44,5,22,5,111.799999999999,1]
[219,219,{"$f":"[2]HeroPowerUpConfig!J223","v":232},{"$f":"[2]HeroPowerUpConfig!K223","v":235},{"$f":"[2]HeroPowerUpConfig!L223","v":246},"飞升期","前",9,{"$f":"[1]主表!O221","v":18443.195},{"$f":"[1]主表!P221","v":404.9},{"$f":"[1]主表!Q221","v":404.9},{"$f":"[1]主表!R221","v":1214.7},{"$f":"[1]主表!$G221","v":40490},44,5,22,5,111.899999999999,1]
[220,220,{"$f":"[2]HeroPowerUpConfig!J224","v":232},{"$f":"[2]HeroPowerUpConfig!K224","v":235},{"$f":"[2]HeroPowerUpConfig!L224","v":247},"飞升期","前",10,{"$f":"[1]主表!O222","v":19596.023333333331},{"$f":"[1]主表!P222","v":429.11},{"$f":"[1]主表!Q222","v":429.11},{"$f":"[1]主表!R222","v":1373.15},{"$f":"[1]主表!$G222","v":42911},44,5,22,5,111.99999999999901,1]
[221,221,{"$f":"[2]HeroPowerUpConfig!J225","v":232},{"$f":"[2]HeroPowerUpConfig!K225","v":236},{"$f":"[2]HeroPowerUpConfig!L225","v":238},"飞升期","中",1,{"$f":"[1]主表!O223","v":20647.825499999999},{"$f":"[1]主表!P223","v":450.99},{"$f":"[1]主表!Q223","v":450.99},{"$f":"[1]主表!R223","v":1443.17},{"$f":"[1]主表!$G223","v":45099},45,5,23,5,112.099999999999,1]
[222,222,{"$f":"[2]HeroPowerUpConfig!J226","v":232},{"$f":"[2]HeroPowerUpConfig!K226","v":236},{"$f":"[2]HeroPowerUpConfig!L226","v":239},"飞升期","中",2,{"$f":"[1]主表!O224","v":21059.838},{"$f":"[1]主表!P224","v":458.82},{"$f":"[1]主表!Q224","v":458.82},{"$f":"[1]主表!R224","v":1468.22},{"$f":"[1]主表!$G224","v":45882},45,5,23,5,112.19999999999899,1]
[223,223,{"$f":"[2]HeroPowerUpConfig!J227","v":232},{"$f":"[2]HeroPowerUpConfig!K227","v":236},{"$f":"[2]HeroPowerUpConfig!L227","v":240},"飞升期","中",3,{"$f":"[1]主表!O225","v":21477.819},{"$f":"[1]主表!P225","v":466.74},{"$f":"[1]主表!Q225","v":466.74},{"$f":"[1]主表!R225","v":1493.57},{"$f":"[1]主表!$G225","v":46674},45,5,23,5,112.299999999999,1]
[224,224,{"$f":"[2]HeroPowerUpConfig!J228","v":232},{"$f":"[2]HeroPowerUpConfig!K228","v":236},{"$f":"[2]HeroPowerUpConfig!L228","v":241},"飞升期","中",4,{"$f":"[1]主表!O226","v":21906.413333333334},{"$f":"[1]主表!P226","v":474.85},{"$f":"[1]主表!Q226","v":474.85},{"$f":"[1]主表!R226","v":1519.52},{"$f":"[1]主表!$G226","v":47485},45,5,23,5,112.399999999999,1]
[225,225,{"$f":"[2]HeroPowerUpConfig!J229","v":232},{"$f":"[2]HeroPowerUpConfig!K229","v":236},{"$f":"[2]HeroPowerUpConfig!L229","v":242},"飞升期","中",5,{"$f":"[1]主表!O227","v":22343.375},{"$f":"[1]主表!P227","v":483.1},{"$f":"[1]主表!Q227","v":483.1},{"$f":"[1]主表!R227","v":1545.92},{"$f":"[1]主表!$G227","v":48310},45,5,23,5,112.49999999999901,1]
[226,226,{"$f":"[2]HeroPowerUpConfig!J230","v":232},{"$f":"[2]HeroPowerUpConfig!K230","v":236},{"$f":"[2]HeroPowerUpConfig!L230","v":243},"飞升期","中",6,{"$f":"[1]主表!O228","v":22789.216666666667},{"$f":"[1]主表!P228","v":491.5},{"$f":"[1]主表!Q228","v":491.5},{"$f":"[1]主表!R228","v":1572.8},{"$f":"[1]主表!$G228","v":49150},46,5,23,5,112.599999999999,1]
[227,227,{"$f":"[2]HeroPowerUpConfig!J231","v":232},{"$f":"[2]HeroPowerUpConfig!K231","v":236},{"$f":"[2]HeroPowerUpConfig!L231","v":244},"飞升期","中",7,{"$f":"[1]主表!O229","v":23245.850166666663},{"$f":"[1]主表!P229","v":500.09},{"$f":"[1]主表!Q229","v":500.09},{"$f":"[1]主表!R229","v":1600.29},{"$f":"[1]主表!$G229","v":50009},46,5,23,5,112.69999999999899,1]
[228,228,{"$f":"[2]HeroPowerUpConfig!J232","v":232},{"$f":"[2]HeroPowerUpConfig!K232","v":236},{"$f":"[2]HeroPowerUpConfig!L232","v":245},"飞升期","中",8,{"$f":"[1]主表!O230","v":23711.478000000003},{"$f":"[1]主表!P230","v":508.83},{"$f":"[1]主表!Q230","v":508.83},{"$f":"[1]主表!R230","v":1628.26},{"$f":"[1]主表!$G230","v":50883},46,5,23,5,112.799999999999,1]
[229,229,{"$f":"[2]HeroPowerUpConfig!J233","v":232},{"$f":"[2]HeroPowerUpConfig!K233","v":236},{"$f":"[2]HeroPowerUpConfig!L233","v":246},"飞升期","中",9,{"$f":"[1]主表!O231","v":24185.685500000003},{"$f":"[1]主表!P231","v":517.71},{"$f":"[1]主表!Q231","v":517.71},{"$f":"[1]主表!R231","v":1656.67},{"$f":"[1]主表!$G231","v":51771},46,5,23,5,112.899999999999,1]
[230,230,{"$f":"[2]HeroPowerUpConfig!J234","v":232},{"$f":"[2]HeroPowerUpConfig!K234","v":236},{"$f":"[2]HeroPowerUpConfig!L234","v":247},"飞升期","中",10,{"$f":"[1]主表!O232","v":25692.29833333334},{"$f":"[1]主表!P232","v":548.59},{"$f":"[1]主表!Q232","v":548.59},{"$f":"[1]主表!R232","v":1865.21},{"$f":"[1]主表!$G232","v":54859},46,5,23,5,112.99999999999901,1]
[231,231,{"$f":"[2]HeroPowerUpConfig!J235","v":232},{"$f":"[2]HeroPowerUpConfig!K235","v":237},{"$f":"[2]HeroPowerUpConfig!L235","v":238},"飞升期","后",1,{"$f":"[1]主表!O233","v":27066.674999999999},{"$f":"[1]主表!P233","v":576.5},{"$f":"[1]主表!Q233","v":576.5},{"$f":"[1]主表!R233","v":1960.1},{"$f":"[1]主表!$G233","v":57650},47,5,24,5,113.099999999999,1]
[232,232,{"$f":"[2]HeroPowerUpConfig!J236","v":232},{"$f":"[2]HeroPowerUpConfig!K236","v":237},{"$f":"[2]HeroPowerUpConfig!L236","v":239},"飞升期","后",2,{"$f":"[1]主表!O234","v":27600.834666666666},{"$f":"[1]主表!P234","v":586.41999999999996},{"$f":"[1]主表!Q234","v":586.41999999999996},{"$f":"[1]主表!R234","v":1993.83},{"$f":"[1]主表!$G234","v":58642},47,5,24,5,113.19999999999899,1]
[233,233,{"$f":"[2]HeroPowerUpConfig!J237","v":232},{"$f":"[2]HeroPowerUpConfig!K237","v":237},{"$f":"[2]HeroPowerUpConfig!L237","v":240},"飞升期","后",3,{"$f":"[1]主表!O235","v":28143.914666666671},{"$f":"[1]主表!P235","v":596.48},{"$f":"[1]主表!Q235","v":596.48},{"$f":"[1]主表!R235","v":2028.03},{"$f":"[1]主表!$G235","v":59648},47,5,24,5,113.299999999999,1]
[234,234,{"$f":"[2]HeroPowerUpConfig!J238","v":232},{"$f":"[2]HeroPowerUpConfig!K238","v":237},{"$f":"[2]HeroPowerUpConfig!L238","v":241},"飞升期","后",4,{"$f":"[1]主表!O236","v":28702.112999999998},{"$f":"[1]主表!P236","v":606.80999999999995},{"$f":"[1]主表!Q236","v":606.80999999999995},{"$f":"[1]主表!R236","v":2063.15},{"$f":"[1]主表!$G236","v":60681},47,5,24,5,113.399999999999,1]
[235,235,{"$f":"[2]HeroPowerUpConfig!J239","v":232},{"$f":"[2]HeroPowerUpConfig!K239","v":237},{"$f":"[2]HeroPowerUpConfig!L239","v":242},"飞升期","后",5,{"$f":"[1]主表!O237","v":29266.989166666674},{"$f":"[1]主表!P237","v":617.23},{"$f":"[1]主表!Q237","v":617.23},{"$f":"[1]主表!R237","v":2098.58},{"$f":"[1]主表!$G237","v":61723},47,5,24,5,113.49999999999901,1]
[236,236,{"$f":"[2]HeroPowerUpConfig!J240","v":232},{"$f":"[2]HeroPowerUpConfig!K240","v":237},{"$f":"[2]HeroPowerUpConfig!L240","v":243},"飞升期","后",6,{"$f":"[1]主表!O238","v":29847.130666666668},{"$f":"[1]主表!P238","v":627.91999999999996},{"$f":"[1]主表!Q238","v":627.91999999999996},{"$f":"[1]主表!R238","v":2134.9299999999998},{"$f":"[1]主表!$G238","v":62792},48,5,24,5,113.599999999999,1]
[237,237,{"$f":"[2]HeroPowerUpConfig!J241","v":232},{"$f":"[2]HeroPowerUpConfig!K241","v":237},{"$f":"[2]HeroPowerUpConfig!L241","v":244},"飞升期","后",7,{"$f":"[1]主表!O239","v":30439.773000000005},{"$f":"[1]主表!P239","v":638.82000000000005},{"$f":"[1]主表!Q239","v":638.82000000000005},{"$f":"[1]主表!R239","v":2171.9899999999998},{"$f":"[1]主表!$G239","v":63882},48,5,24,5,113.69999999999899,1]
[238,238,{"$f":"[2]HeroPowerUpConfig!J242","v":232},{"$f":"[2]HeroPowerUpConfig!K242","v":237},{"$f":"[2]HeroPowerUpConfig!L242","v":245},"飞升期","后",8,{"$f":"[1]主表!O240","v":31042.12366666667},{"$f":"[1]主表!P240","v":649.87},{"$f":"[1]主表!Q240","v":649.87},{"$f":"[1]主表!R240","v":2209.56},{"$f":"[1]主表!$G240","v":64987},48,5,24,5,113.799999999999,1]
[239,239,{"$f":"[2]HeroPowerUpConfig!J243","v":232},{"$f":"[2]HeroPowerUpConfig!K243","v":237},{"$f":"[2]HeroPowerUpConfig!L243","v":246},"飞升期","后",9,{"$f":"[1]主表!O241","v":31657.587000000003},{"$f":"[1]主表!P241","v":661.14},{"$f":"[1]主表!Q241","v":661.14},{"$f":"[1]主表!R241","v":2247.88},{"$f":"[1]主表!$G241","v":66114},48,5,24,5,113.899999999999,1]
[240,240,{"$f":"[2]HeroPowerUpConfig!J244","v":232},{"$f":"[2]HeroPowerUpConfig!K244","v":237},{"$f":"[2]HeroPowerUpConfig!L244","v":247},"飞升期","后",10,{"$f":"[1]主表!O242","v":35408.159999999996},{"$f":"[1]主表!P242","v":737.67},{"$f":"[1]主表!Q242","v":737.67},{"$f":"[1]主表!R242","v":2655.61},{"$f":"[1]主表!$G242","v":73767},48,5,24,5,113.99999999999901,1]
[241,241,{"$f":"[2]HeroPowerUpConfig!J245","v":233},{"$f":"[2]HeroPowerUpConfig!K245","v":235},{"$f":"[2]HeroPowerUpConfig!L245","v":238},"逍遥期","前",1,{"$f":"[1]主表!O243","v":37531},{"$f":"[1]主表!P243","v":780},{"$f":"[1]主表!Q243","v":780},{"$f":"[1]主表!R243","v":2808},{"$f":"[1]主表!$G243","v":78000},49,5,25,5,114.099999999999,1]
[242,242,{"$f":"[2]HeroPowerUpConfig!J246","v":233},{"$f":"[2]HeroPowerUpConfig!K246","v":235},{"$f":"[2]HeroPowerUpConfig!L246","v":239},"逍遥期","前",2,{"$f":"[1]主表!O244","v":38183.918333333335},{"$f":"[1]主表!P244","v":791.65},{"$f":"[1]主表!Q244","v":791.65},{"$f":"[1]主表!R244","v":2849.94},{"$f":"[1]主表!$G244","v":79165},49,5,25,5,114.19999999999899,1]
[243,243,{"$f":"[2]HeroPowerUpConfig!J247","v":233},{"$f":"[2]HeroPowerUpConfig!K247","v":235},{"$f":"[2]HeroPowerUpConfig!L247","v":240},"逍遥期","前",3,{"$f":"[1]主表!O245","v":38851.159},{"$f":"[1]主表!P245","v":803.54},{"$f":"[1]主表!Q245","v":803.54},{"$f":"[1]主表!R245","v":2892.74},{"$f":"[1]主表!$G245","v":80354},49,5,25,5,114.299999999999,1]
[244,244,{"$f":"[2]HeroPowerUpConfig!J248","v":233},{"$f":"[2]HeroPowerUpConfig!K248","v":235},{"$f":"[2]HeroPowerUpConfig!L248","v":241},"逍遥期","前",4,{"$f":"[1]主表!O246","v":39532.321333333326},{"$f":"[1]主表!P246","v":815.66},{"$f":"[1]主表!Q246","v":815.66},{"$f":"[1]主表!R246","v":2936.38},{"$f":"[1]主表!$G246","v":81566},49,5,25,5,114.399999999999,1]
[245,245,{"$f":"[2]HeroPowerUpConfig!J249","v":233},{"$f":"[2]HeroPowerUpConfig!K249","v":235},{"$f":"[2]HeroPowerUpConfig!L249","v":242},"逍遥期","前",5,{"$f":"[1]主表!O247","v":40225.056666666671},{"$f":"[1]主表!P247","v":827.96},{"$f":"[1]主表!Q247","v":827.96},{"$f":"[1]主表!R247","v":2980.66},{"$f":"[1]主表!$G247","v":82796},49,5,25,5,114.49999999999901,1]
[246,246,{"$f":"[2]HeroPowerUpConfig!J250","v":233},{"$f":"[2]HeroPowerUpConfig!K250","v":235},{"$f":"[2]HeroPowerUpConfig!L250","v":243},"逍遥期","前",6,{"$f":"[1]主表!O248","v":40926.506000000001},{"$f":"[1]主表!P248","v":840.38},{"$f":"[1]主表!Q248","v":840.38},{"$f":"[1]主表!R248","v":3025.37},{"$f":"[1]主表!$G248","v":84038},50,5,25,5,114.599999999999,1]
[247,247,{"$f":"[2]HeroPowerUpConfig!J251","v":233},{"$f":"[2]HeroPowerUpConfig!K251","v":235},{"$f":"[2]HeroPowerUpConfig!L251","v":244},"逍遥期","前",7,{"$f":"[1]主表!O249","v":41640.128499999999},{"$f":"[1]主表!P249","v":852.99},{"$f":"[1]主表!Q249","v":852.99},{"$f":"[1]主表!R249","v":3070.76},{"$f":"[1]主表!$G249","v":85299},50,5,25,5,114.69999999999899,1]
[248,248,{"$f":"[2]HeroPowerUpConfig!J252","v":233},{"$f":"[2]HeroPowerUpConfig!K252","v":235},{"$f":"[2]HeroPowerUpConfig!L252","v":245},"逍遥期","前",8,{"$f":"[1]主表!O250","v":42367.458666666673},{"$f":"[1]主表!P250","v":865.82},{"$f":"[1]主表!Q250","v":865.82},{"$f":"[1]主表!R250","v":3116.95},{"$f":"[1]主表!$G250","v":86582},50,5,25,5,114.799999999999,1]
[249,249,{"$f":"[2]HeroPowerUpConfig!J253","v":233},{"$f":"[2]HeroPowerUpConfig!K253","v":235},{"$f":"[2]HeroPowerUpConfig!L253","v":246},"逍遥期","前",9,{"$f":"[1]主表!O251","v":43109.554499999998},{"$f":"[1]主表!P251","v":878.89},{"$f":"[1]主表!Q251","v":878.89},{"$f":"[1]主表!R251","v":3164},{"$f":"[1]主表!$G251","v":87889},50,5,25,5,114.899999999999,1]
[250,250,{"$f":"[2]HeroPowerUpConfig!J254","v":233},{"$f":"[2]HeroPowerUpConfig!K254","v":235},{"$f":"[2]HeroPowerUpConfig!L254","v":247},"逍遥期","前",10,{"$f":"[1]主表!O252","v":45683.208333333321},{"$f":"[1]主表!P252","v":929.15},{"$f":"[1]主表!Q252","v":929.15},{"$f":"[1]主表!R252","v":3530.77},{"$f":"[1]主表!$G252","v":92915},50,5,25,5,114.99999999999901,1]
[251,251,{"$f":"[2]HeroPowerUpConfig!J255","v":233},{"$f":"[2]HeroPowerUpConfig!K255","v":236},{"$f":"[2]HeroPowerUpConfig!L255","v":238},"逍遥期","中",1,{"$f":"[1]主表!O253","v":48012.316166666656},{"$f":"[1]主表!P253","v":974.21},{"$f":"[1]主表!Q253","v":974.21},{"$f":"[1]主表!R253","v":3702},{"$f":"[1]主表!$G253","v":97421},51,6,26,6,115.099999999999,1]
[252,252,{"$f":"[2]HeroPowerUpConfig!J256","v":233},{"$f":"[2]HeroPowerUpConfig!K256","v":236},{"$f":"[2]HeroPowerUpConfig!L256","v":239},"逍遥期","中",2,{"$f":"[1]主表!O254","v":48840.297999999995},{"$f":"[1]主表!P254","v":988.67},{"$f":"[1]主表!Q254","v":988.67},{"$f":"[1]主表!R254","v":3756.95},{"$f":"[1]主表!$G254","v":98867},51,6,26,6,115.19999999999899,1]
[253,253,{"$f":"[2]HeroPowerUpConfig!J257","v":233},{"$f":"[2]HeroPowerUpConfig!K257","v":236},{"$f":"[2]HeroPowerUpConfig!L257","v":240},"逍遥期","中",3,{"$f":"[1]主表!O255","v":49684.032999999996},{"$f":"[1]主表!P255","v":1003.38},{"$f":"[1]主表!Q255","v":1003.38},{"$f":"[1]主表!R255","v":3812.84},{"$f":"[1]主表!$G255","v":100338},51,6,26,6,115.299999999999,1]
[254,254,{"$f":"[2]HeroPowerUpConfig!J258","v":233},{"$f":"[2]HeroPowerUpConfig!K258","v":236},{"$f":"[2]HeroPowerUpConfig!L258","v":241},"逍遥期","中",4,{"$f":"[1]主表!O256","v":50542.615999999995},{"$f":"[1]主表!P256","v":1018.32},{"$f":"[1]主表!Q256","v":1018.32},{"$f":"[1]主表!R256","v":3869.62},{"$f":"[1]主表!$G256","v":101832},51,6,26,6,115.399999999999,1]
[255,255,{"$f":"[2]HeroPowerUpConfig!J259","v":233},{"$f":"[2]HeroPowerUpConfig!K259","v":236},{"$f":"[2]HeroPowerUpConfig!L259","v":242},"逍遥期","中",5,{"$f":"[1]主表!O257","v":51419.112499999988},{"$f":"[1]主表!P257","v":1033.55},{"$f":"[1]主表!Q257","v":1033.55},{"$f":"[1]主表!R257","v":3927.49},{"$f":"[1]主表!$G257","v":103355},51,6,26,6,115.49999999999901,1]
[256,256,{"$f":"[2]HeroPowerUpConfig!J260","v":233},{"$f":"[2]HeroPowerUpConfig!K260","v":236},{"$f":"[2]HeroPowerUpConfig!L260","v":243},"逍遥期","中",6,{"$f":"[1]主表!O258","v":52311.130666666657},{"$f":"[1]主表!P258","v":1049.02},{"$f":"[1]主表!Q258","v":1049.02},{"$f":"[1]主表!R258","v":3986.28},{"$f":"[1]主表!$G258","v":104902},52,6,26,6,115.599999999999,1]
[257,257,{"$f":"[2]HeroPowerUpConfig!J261","v":233},{"$f":"[2]HeroPowerUpConfig!K261","v":236},{"$f":"[2]HeroPowerUpConfig!L261","v":244},"逍遥期","中",7,{"$f":"[1]主表!O259","v":53221.253666666664},{"$f":"[1]主表!P259","v":1064.78},{"$f":"[1]主表!Q259","v":1064.78},{"$f":"[1]主表!R259","v":4046.16},{"$f":"[1]主表!$G259","v":106478},52,6,26,6,115.69999999999899,1]
[258,258,{"$f":"[2]HeroPowerUpConfig!J262","v":233},{"$f":"[2]HeroPowerUpConfig!K262","v":236},{"$f":"[2]HeroPowerUpConfig!L262","v":245},"逍遥期","中",8,{"$f":"[1]主表!O260","v":54147.077999999994},{"$f":"[1]主表!P260","v":1080.78},{"$f":"[1]主表!Q260","v":1080.78},{"$f":"[1]主表!R260","v":4106.96},{"$f":"[1]主表!$G260","v":108078},52,6,26,6,115.799999999999,1]
[259,259,{"$f":"[2]HeroPowerUpConfig!J263","v":233},{"$f":"[2]HeroPowerUpConfig!K263","v":236},{"$f":"[2]HeroPowerUpConfig!L263","v":246},"逍遥期","中",9,{"$f":"[1]主表!O261","v":55091.198499999991},{"$f":"[1]主表!P261","v":1097.07},{"$f":"[1]主表!Q261","v":1097.07},{"$f":"[1]主表!R261","v":4168.87},{"$f":"[1]主表!$G261","v":109707},52,6,26,6,115.899999999999,1]
[260,260,{"$f":"[2]HeroPowerUpConfig!J264","v":233},{"$f":"[2]HeroPowerUpConfig!K264","v":236},{"$f":"[2]HeroPowerUpConfig!L264","v":247},"逍遥期","中",10,{"$f":"[1]主表!O262","v":58378.613333333327},{"$f":"[1]主表!P262","v":1159.8399999999999},{"$f":"[1]主表!Q262","v":1159.8399999999999},{"$f":"[1]主表!R262","v":4639.3599999999997},{"$f":"[1]主表!$G262","v":115984},52,6,26,6,115.99999999999901,1]
[261,261,{"$f":"[2]HeroPowerUpConfig!J265","v":233},{"$f":"[2]HeroPowerUpConfig!K265","v":237},{"$f":"[2]HeroPowerUpConfig!L265","v":238},"逍遥期","后",1,{"$f":"[1]主表!O263","v":61348.208999999995},{"$f":"[1]主表!P263","v":1216.02},{"$f":"[1]主表!Q263","v":1216.02},{"$f":"[1]主表!R263","v":4864.08},{"$f":"[1]主表!$G263","v":121602},53,6,27,6,116.099999999999,1]
[262,262,{"$f":"[2]HeroPowerUpConfig!J266","v":233},{"$f":"[2]HeroPowerUpConfig!K266","v":237},{"$f":"[2]HeroPowerUpConfig!L266","v":239},"逍遥期","后",2,{"$f":"[1]主表!O264","v":62400.277999999998},{"$f":"[1]主表!P264","v":1234.02},{"$f":"[1]主表!Q264","v":1234.02},{"$f":"[1]主表!R264","v":4936.08},{"$f":"[1]主表!$G264","v":123402},53,6,27,6,116.19999999999899,1]
[263,263,{"$f":"[2]HeroPowerUpConfig!J267","v":233},{"$f":"[2]HeroPowerUpConfig!K267","v":237},{"$f":"[2]HeroPowerUpConfig!L267","v":240},"逍遥期","后",3,{"$f":"[1]主表!O265","v":63474.793000000005},{"$f":"[1]主表!P265","v":1252.3800000000001},{"$f":"[1]主表!Q265","v":1252.3800000000001},{"$f":"[1]主表!R265","v":5009.5200000000004},{"$f":"[1]主表!$G265","v":125238},53,6,27,6,116.299999999999,1]
[264,264,{"$f":"[2]HeroPowerUpConfig!J268","v":233},{"$f":"[2]HeroPowerUpConfig!K268","v":237},{"$f":"[2]HeroPowerUpConfig!L268","v":241},"逍遥期","后",4,{"$f":"[1]主表!O266","v":64568.324000000001},{"$f":"[1]主表!P266","v":1271.03},{"$f":"[1]主表!Q266","v":1271.03},{"$f":"[1]主表!R266","v":5084.12},{"$f":"[1]主表!$G266","v":127103},53,6,27,6,116.399999999999,1]
[265,265,{"$f":"[2]HeroPowerUpConfig!J269","v":233},{"$f":"[2]HeroPowerUpConfig!K269","v":237},{"$f":"[2]HeroPowerUpConfig!L269","v":242},"逍遥期","后",5,{"$f":"[1]主表!O267","v":65684.027499999997},{"$f":"[1]主表!P267","v":1290.03},{"$f":"[1]主表!Q267","v":1290.03},{"$f":"[1]主表!R267","v":5160.12},{"$f":"[1]主表!$G267","v":129003},53,6,27,6,116.49999999999901,1]
[266,266,{"$f":"[2]HeroPowerUpConfig!J270","v":233},{"$f":"[2]HeroPowerUpConfig!K270","v":237},{"$f":"[2]HeroPowerUpConfig!L270","v":243},"逍遥期","后",6,{"$f":"[1]主表!O268","v":66819.474333333332},{"$f":"[1]主表!P268","v":1309.33},{"$f":"[1]主表!Q268","v":1309.33},{"$f":"[1]主表!R268","v":5237.32},{"$f":"[1]主表!$G268","v":130933},54,6,27,6,116.599999999999,1]
[267,267,{"$f":"[2]HeroPowerUpConfig!J271","v":233},{"$f":"[2]HeroPowerUpConfig!K271","v":237},{"$f":"[2]HeroPowerUpConfig!L271","v":244},"逍遥期","后",7,{"$f":"[1]主表!O269","v":67975.281000000003},{"$f":"[1]主表!P269","v":1328.94},{"$f":"[1]主表!Q269","v":1328.94},{"$f":"[1]主表!R269","v":5315.76},{"$f":"[1]主表!$G269","v":132894},54,6,27,6,116.69999999999899,1]
[268,268,{"$f":"[2]HeroPowerUpConfig!J272","v":233},{"$f":"[2]HeroPowerUpConfig!K272","v":237},{"$f":"[2]HeroPowerUpConfig!L272","v":245},"逍遥期","后",8,{"$f":"[1]主表!O270","v":69156.17},{"$f":"[1]主表!P270","v":1348.95},{"$f":"[1]主表!Q270","v":1348.95},{"$f":"[1]主表!R270","v":5395.8},{"$f":"[1]主表!$G270","v":134895},54,6,{"$f":"P262+1","v":27},6,116.799999999999,1]
[269,269,{"$f":"[2]HeroPowerUpConfig!J273","v":233},{"$f":"[2]HeroPowerUpConfig!K273","v":237},{"$f":"[2]HeroPowerUpConfig!L273","v":246},"逍遥期","后",9,{"$f":"[1]主表!O271","v":70357.656833333342},{"$f":"[1]主表!P271","v":1369.27},{"$f":"[1]主表!Q271","v":1369.27},{"$f":"[1]主表!R271","v":5477.08},{"$f":"[1]主表!$G271","v":136927},54,6,27,6,116.899999999999,1]
[270,270,{"$f":"[2]HeroPowerUpConfig!J274","v":233},{"$f":"[2]HeroPowerUpConfig!K274","v":237},{"$f":"[2]HeroPowerUpConfig!L274","v":247},"逍遥期","后",10,{"$f":"[1]主表!O272","v":78504.024999999994},{"$f":"[1]主表!P272","v":1524.35},{"$f":"[1]主表!Q272","v":1524.35},{"$f":"[1]主表!R272","v":6402.27},{"$f":"[1]主表!$G272","v":152435},54,6,27,6,116.99999999999901,1]
[271,271,{"$f":"[2]HeroPowerUpConfig!J275","v":234},{"$f":"[2]HeroPowerUpConfig!K275","v":235},{"$f":"[2]HeroPowerUpConfig!L275","v":238},"真神期","前",1,{"$f":"[1]主表!O273","v":83177.677500000005},{"$f":"[1]主表!P273","v":1611.45},{"$f":"[1]主表!Q273","v":1611.45},{"$f":"[1]主表!R273","v":6768.09},{"$f":"[1]主表!$G273","v":161145},55,6,28,6,117.099999999999,1]
[272,272,{"$f":"[2]HeroPowerUpConfig!J276","v":234},{"$f":"[2]HeroPowerUpConfig!K276","v":235},{"$f":"[2]HeroPowerUpConfig!L276","v":239},"真神期","前",2,{"$f":"[1]主表!O274","v":84601.072},{"$f":"[1]主表!P274","v":1635.33},{"$f":"[1]主表!Q274","v":1635.33},{"$f":"[1]主表!R274","v":6868.39},{"$f":"[1]主表!$G274","v":163533},55,6,28,6,117.19999999999899,1]
[273,273,{"$f":"[2]HeroPowerUpConfig!J277","v":234},{"$f":"[2]HeroPowerUpConfig!K277","v":235},{"$f":"[2]HeroPowerUpConfig!L277","v":240},"真神期","前",3,{"$f":"[1]主表!O275","v":86051.296999999991},{"$f":"[1]主表!P275","v":1659.62},{"$f":"[1]主表!Q275","v":1659.62},{"$f":"[1]主表!R275","v":6970.4},{"$f":"[1]主表!$G275","v":165962},55,6,28,6,117.299999999999,1]
[274,274,{"$f":"[2]HeroPowerUpConfig!J278","v":234},{"$f":"[2]HeroPowerUpConfig!K278","v":235},{"$f":"[2]HeroPowerUpConfig!L278","v":241},"真神期","前",4,{"$f":"[1]主表!O276","v":87529.535333333333},{"$f":"[1]主表!P276","v":1684.34},{"$f":"[1]主表!Q276","v":1684.34},{"$f":"[1]主表!R276","v":7074.23},{"$f":"[1]主表!$G276","v":168434},55,6,28,6,117.399999999999,1]
[275,275,{"$f":"[2]HeroPowerUpConfig!J279","v":234},{"$f":"[2]HeroPowerUpConfig!K279","v":235},{"$f":"[2]HeroPowerUpConfig!L279","v":242},"真神期","前",5,{"$f":"[1]主表!O277","v":89035.416666666686},{"$f":"[1]主表!P277","v":1709.48},{"$f":"[1]主表!Q277","v":1709.48},{"$f":"[1]主表!R277","v":7179.82},{"$f":"[1]主表!$G277","v":170948},55,6,28,6,117.49999999999901,1]
[276,276,{"$f":"[2]HeroPowerUpConfig!J280","v":234},{"$f":"[2]HeroPowerUpConfig!K280","v":235},{"$f":"[2]HeroPowerUpConfig!L280","v":243},"真神期","前",6,{"$f":"[1]主表!O278","v":90568.566000000006},{"$f":"[1]主表!P278","v":1735.03},{"$f":"[1]主表!Q278","v":1735.03},{"$f":"[1]主表!R278","v":7287.13},{"$f":"[1]主表!$G278","v":173503},56,6,28,6,117.599999999999,1]
[277,277,{"$f":"[2]HeroPowerUpConfig!J281","v":234},{"$f":"[2]HeroPowerUpConfig!K281","v":235},{"$f":"[2]HeroPowerUpConfig!L281","v":244},"真神期","前",7,{"$f":"[1]主表!O279","v":92130.17316666666},{"$f":"[1]主表!P279","v":1761.01},{"$f":"[1]主表!Q279","v":1761.01},{"$f":"[1]主表!R279","v":7396.24},{"$f":"[1]主表!$G279","v":176101},56,6,28,6,117.69999999999899,1]
[278,278,{"$f":"[2]HeroPowerUpConfig!J282","v":234},{"$f":"[2]HeroPowerUpConfig!K282","v":235},{"$f":"[2]HeroPowerUpConfig!L282","v":245},"真神期","前",8,{"$f":"[1]主表!O280","v":93723.010333333339},{"$f":"[1]主表!P280","v":1787.47},{"$f":"[1]主表!Q280","v":1787.47},{"$f":"[1]主表!R280","v":7507.37},{"$f":"[1]主表!$G280","v":178747},56,6,28,6,117.799999999999,1]
[279,279,{"$f":"[2]HeroPowerUpConfig!J283","v":234},{"$f":"[2]HeroPowerUpConfig!K283","v":235},{"$f":"[2]HeroPowerUpConfig!L283","v":246},"真神期","前",9,{"$f":"[1]主表!O281","v":95347.245500000005},{"$f":"[1]主表!P281","v":1814.41},{"$f":"[1]主表!Q281","v":1814.41},{"$f":"[1]主表!R281","v":7620.52},{"$f":"[1]主表!$G281","v":181441},56,6,28,6,117.899999999999,1]
[280,280,{"$f":"[2]HeroPowerUpConfig!J284","v":234},{"$f":"[2]HeroPowerUpConfig!K284","v":235},{"$f":"[2]HeroPowerUpConfig!L284","v":247},"真神期","前",10,{"$f":"[1]主表!O282","v":101020.98666666666},{"$f":"[1]主表!P282","v":1918.12},{"$f":"[1]主表!Q282","v":1918.12},{"$f":"[1]主表!R282","v":8439.73},{"$f":"[1]主表!$G282","v":191812},56,6,28,6,117.99999999999901,1]
[281,281,{"$f":"[2]HeroPowerUpConfig!J285","v":234},{"$f":"[2]HeroPowerUpConfig!K285","v":236},{"$f":"[2]HeroPowerUpConfig!L285","v":238},"真神期","中",1,{"$f":"[1]主表!O283","v":106149.39466666666},{"$f":"[1]主表!P283","v":2011.04},{"$f":"[1]主表!Q283","v":2011.04},{"$f":"[1]主表!R283","v":8848.58},{"$f":"[1]主表!$G283","v":201104},57,6,29,6,118.099999999999,1]
[282,282,{"$f":"[2]HeroPowerUpConfig!J286","v":234},{"$f":"[2]HeroPowerUpConfig!K286","v":236},{"$f":"[2]HeroPowerUpConfig!L286","v":239},"真神期","中",2,{"$f":"[1]主表!O284","v":107958.32},{"$f":"[1]主表!P284","v":2040.8},{"$f":"[1]主表!Q284","v":2040.8},{"$f":"[1]主表!R284","v":8979.52},{"$f":"[1]主表!$G284","v":204080},57,6,29,6,118.19999999999899,1]
[283,283,{"$f":"[2]HeroPowerUpConfig!J287","v":234},{"$f":"[2]HeroPowerUpConfig!K287","v":236},{"$f":"[2]HeroPowerUpConfig!L287","v":240},"真神期","中",3,{"$f":"[1]主表!O285","v":109800.16750000001},{"$f":"[1]主表!P285","v":2071.0500000000002},{"$f":"[1]主表!Q285","v":2071.0500000000002},{"$f":"[1]主表!R285","v":9112.6200000000008},{"$f":"[1]主表!$G285","v":207105},57,6,29,6,118.299999999999,1]
[284,284,{"$f":"[2]HeroPowerUpConfig!J288","v":234},{"$f":"[2]HeroPowerUpConfig!K288","v":236},{"$f":"[2]HeroPowerUpConfig!L288","v":241},"真神期","中",4,{"$f":"[1]主表!O286","v":111680.42199999999},{"$f":"[1]主表!P286","v":2101.89},{"$f":"[1]主表!Q286","v":2101.89},{"$f":"[1]主表!R286","v":9248.32},{"$f":"[1]主表!$G286","v":210189},57,6,29,6,118.399999999999,1]
[285,285,{"$f":"[2]HeroPowerUpConfig!J289","v":234},{"$f":"[2]HeroPowerUpConfig!K289","v":236},{"$f":"[2]HeroPowerUpConfig!L289","v":242},"真神期","中",5,{"$f":"[1]主表!O287","v":113593.965},{"$f":"[1]主表!P287","v":2133.2199999999998},{"$f":"[1]主表!Q287","v":2133.2199999999998},{"$f":"[1]主表!R287","v":9386.17},{"$f":"[1]主表!$G287","v":213322},57,6,29,6,118.49999999999901,1]
[286,286,{"$f":"[2]HeroPowerUpConfig!J290","v":234},{"$f":"[2]HeroPowerUpConfig!K290","v":236},{"$f":"[2]HeroPowerUpConfig!L290","v":243},"真神期","中",6,{"$f":"[1]主表!O288","v":115543.63633333333},{"$f":"[1]主表!P288","v":2165.09},{"$f":"[1]主表!Q288","v":2165.09},{"$f":"[1]主表!R288","v":9526.4},{"$f":"[1]主表!$G288","v":216509},58,6,29,6,118.599999999999,1]
[287,287,{"$f":"[2]HeroPowerUpConfig!J291","v":234},{"$f":"[2]HeroPowerUpConfig!K291","v":236},{"$f":"[2]HeroPowerUpConfig!L291","v":244},"真神期","中",7,{"$f":"[1]主表!O289","v":117530.15983333332},{"$f":"[1]主表!P289","v":2197.5100000000002},{"$f":"[1]主表!Q289","v":2197.5100000000002},{"$f":"[1]主表!R289","v":9669.0400000000009},{"$f":"[1]主表!$G289","v":219751},58,6,29,6,118.69999999999899,1]
[288,288,{"$f":"[2]HeroPowerUpConfig!J292","v":234},{"$f":"[2]HeroPowerUpConfig!K292","v":236},{"$f":"[2]HeroPowerUpConfig!L292","v":245},"真神期","中",8,{"$f":"[1]主表!O290","v":119553.72799999999},{"$f":"[1]主表!P290","v":2230.48},{"$f":"[1]主表!Q290","v":2230.48},{"$f":"[1]主表!R290","v":9814.11},{"$f":"[1]主表!$G290","v":223048},58,6,29,6,118.799999999999,1]
[289,289,{"$f":"[2]HeroPowerUpConfig!J293","v":234},{"$f":"[2]HeroPowerUpConfig!K293","v":236},{"$f":"[2]HeroPowerUpConfig!L293","v":246},"真神期","中",9,{"$f":"[1]主表!O291","v":121617.21916666668},{"$f":"[1]主表!P291","v":2264.0500000000002},{"$f":"[1]主表!Q291","v":2264.0500000000002},{"$f":"[1]主表!R291","v":9961.82},{"$f":"[1]主表!$G291","v":226405},58,6,29,6,118.899999999999,1]
[290,290,{"$f":"[2]HeroPowerUpConfig!J294","v":234},{"$f":"[2]HeroPowerUpConfig!K294","v":236},{"$f":"[2]HeroPowerUpConfig!L294","v":247},"真神期","中",10,{"$f":"[1]主表!O292","v":128846.31499999997},{"$f":"[1]主表!P292","v":2393.4299999999998},{"$f":"[1]主表!Q292","v":2393.4299999999998},{"$f":"[1]主表!R292","v":11009.78},{"$f":"[1]主表!$G292","v":239343},58,6,29,6,118.99999999999901,1]
[291,291,{"$f":"[2]HeroPowerUpConfig!J295","v":234},{"$f":"[2]HeroPowerUpConfig!K295","v":237},{"$f":"[2]HeroPowerUpConfig!L295","v":238},"真神期","后",1,{"$f":"[1]主表!O293","v":135377.2745},{"$f":"[1]主表!P293","v":2509.31},{"$f":"[1]主表!Q293","v":2509.31},{"$f":"[1]主表!R293","v":11542.83},{"$f":"[1]主表!$G293","v":250931},59,6,30,6,119.099999999999,1]
[292,292,{"$f":"[2]HeroPowerUpConfig!J296","v":234},{"$f":"[2]HeroPowerUpConfig!K296","v":237},{"$f":"[2]HeroPowerUpConfig!L296","v":239},"真神期","后",2,{"$f":"[1]主表!O294","v":137678.06333333332},{"$f":"[1]主表!P294","v":2546.4499999999998},{"$f":"[1]主表!Q294","v":2546.4499999999998},{"$f":"[1]主表!R294","v":11713.67},{"$f":"[1]主表!$G294","v":254645},59,6,30,6,119.19999999999899,1]
[293,293,{"$f":"[2]HeroPowerUpConfig!J297","v":234},{"$f":"[2]HeroPowerUpConfig!K297","v":237},{"$f":"[2]HeroPowerUpConfig!L297","v":240},"真神期","后",3,{"$f":"[1]主表!O295","v":140020.56999999998},{"$f":"[1]主表!P295","v":2584.1999999999998},{"$f":"[1]主表!Q295","v":2584.1999999999998},{"$f":"[1]主表!R295","v":11887.32},{"$f":"[1]主表!$G295","v":258420},59,6,30,6,119.299999999999,1]
[294,294,{"$f":"[2]HeroPowerUpConfig!J298","v":234},{"$f":"[2]HeroPowerUpConfig!K298","v":237},{"$f":"[2]HeroPowerUpConfig!L298","v":241},"真神期","后",4,{"$f":"[1]主表!O296","v":142405.55100000001},{"$f":"[1]主表!P296","v":2622.57},{"$f":"[1]主表!Q296","v":2622.57},{"$f":"[1]主表!R296","v":12063.82},{"$f":"[1]主表!$G296","v":262257},59,6,30,6,119.399999999999,1]
[295,295,{"$f":"[2]HeroPowerUpConfig!J299","v":234},{"$f":"[2]HeroPowerUpConfig!K299","v":237},{"$f":"[2]HeroPowerUpConfig!L299","v":242},"真神期","后",5,{"$f":"[1]主表!O297","v":144838.66499999998},{"$f":"[1]主表!P297","v":2661.66},{"$f":"[1]主表!Q297","v":2661.66},{"$f":"[1]主表!R297","v":12243.64},{"$f":"[1]主表!$G297","v":266166},59,6,30,6,119.49999999999901,1]
[296,296,{"$f":"[2]HeroPowerUpConfig!J300","v":234},{"$f":"[2]HeroPowerUpConfig!K300","v":237},{"$f":"[2]HeroPowerUpConfig!L300","v":243},"真神期","后",6,{"$f":"[1]主表!O298","v":147287.98933333333},{"$f":"[1]主表!P298","v":2700.88},{"$f":"[1]主表!Q298","v":2700.88},{"$f":"[1]主表!R298","v":12424.05},{"$f":"[1]主表!$G298","v":270088},60,6,30,6,119.599999999999,1]
[297,297,{"$f":"[2]HeroPowerUpConfig!J301","v":234},{"$f":"[2]HeroPowerUpConfig!K301","v":237},{"$f":"[2]HeroPowerUpConfig!L301","v":244},"真神期","后",7,{"$f":"[1]主表!O299","v":149784.72},{"$f":"[1]主表!P299","v":2740.8},{"$f":"[1]主表!Q299","v":2740.8},{"$f":"[1]主表!R299","v":12607.68},{"$f":"[1]主表!$G299","v":274080},60,6,30,6,119.69999999999899,1]
[298,298,{"$f":"[2]HeroPowerUpConfig!J302","v":234},{"$f":"[2]HeroPowerUpConfig!K302","v":237},{"$f":"[2]HeroPowerUpConfig!L302","v":245},"真神期","后",8,{"$f":"[1]主表!O300","v":152327.459},{"$f":"[1]主表!P300","v":2781.39},{"$f":"[1]主表!Q300","v":2781.39},{"$f":"[1]主表!R300","v":12794.39},{"$f":"[1]主表!$G300","v":278139},60,6,30,6,119.799999999999,1]
[299,299,{"$f":"[2]HeroPowerUpConfig!J303","v":234},{"$f":"[2]HeroPowerUpConfig!K303","v":237},{"$f":"[2]HeroPowerUpConfig!L303","v":246},"真神期","后",9,{"$f":"[1]主表!O301","v":154919.185},{"$f":"[1]主表!P301","v":2822.7},{"$f":"[1]主表!Q301","v":2822.7},{"$f":"[1]主表!R301","v":12984.42},{"$f":"[1]主表!$G301","v":282270},60,6,30,6,119.899999999999,1]
[300,300,{"$f":"[2]HeroPowerUpConfig!J304","v":234},{"$f":"[2]HeroPowerUpConfig!K304","v":237},{"$f":"[2]HeroPowerUpConfig!L304","v":247},"真神期","后",10,{"$f":"[1]主表!O302","v":179520},{"$f":"[1]主表!P302","v":3264},{"$f":"[1]主表!Q302","v":3264},{"$f":"[1]主表!R302","v":15667.2},{"$f":"[1]主表!$G302","v":326400},60,6,30,6,119.99999999999901,1]