{"text_format":"2","workbook":"xlsx","n_sheets":2,"sheets":["語言配置表","LanguageChineseConfig"],"not_rendered":{"charts":0,"images":0,"macros":0,"external_links":3,"defined_names":1,"comments":0,"pivot_tables":0},"unopened":[],"bounds":{"document_bytes":16777216,"sheet_cells":100000,"run_cost":"one","rows_first":2000,"rows_last":500,"rows_between":2000,"halvings":0,"cell_chars":16384,"cell_head_chars":4096},"cells_cut":0,"cells_raw":0,"read":"whole","date_system":"1900"}

{"sheet":"語言配置表","index":0,"n_rows":2091,"n_cols":7,"rows_kept":2091,"cut":false,"hidden":false,"merged":[]}
["序列","內容","注釋","類別/模組","版本"]
[]
[{"$nulls":5},"辅助1","辅助2"]
[1,"-李逍遥",null,"英雄名"]
[2,"-小怪1",null,"英雄名"]
[3,"-小怪2",null,"英雄名"]
[4,"-小怪3",null,"英雄名"]
[5,"-BOSS1",null,"英雄名"]
[6,"伊莉莎白·月影",null,"英雄名"]
[7,"馬修·星辰",null,"英雄名"]
[8,"卡特琳娜·霜語",null,"英雄名"]
[9,"西蒙·玄光",null,"英雄名"]
[10,"艾琳娜·靈風",null,"英雄名"]
[11,"加百利·聖心",null,"英雄名"]
[12,"索菲亞·慈恩",null,"英雄名"]
[13,"盧克·淨魂",null,"英雄名"]
[14,"安娜貝爾·光耀",null,"英雄名"]
[15,"伊莎貝拉·恩典",null,"英雄名"]
[16,"萊恩·影蹤",null,"英雄名"]
[17,"艾米麗·翠羽",null,"英雄名"]
[18,"德裏克·疾風",null,"英雄名"]
[19,"維多利亞·夜刃",null,"英雄名"]
[20,"諾亞·林蹤",null,"英雄名"]
[21,"生命值",null,"英雄名"]
[22,"攻擊力",null,"英雄名"]
[23,"防禦力",null,"英雄名"]
[24,"攻擊速度",null,"英雄名"]
[25,"暴擊幾率",null,"英雄名"]
[26,"暴擊傷害",null,"英雄名"]
[27,"閃避幾率",null,"英雄名"]
[28,"命中",null,"英雄名"]
[29,"吸血",null,"英雄名"]
[30,"傳說"]
[31,"史詩"]
[32,"精英"]
[33,"向前方釋放1道劍氣，造成<color=#7AC180>{0}%</color>攻擊力的傷害。"]
[34,"造成的傷害提升至<color=#7AC180>{0}%</color>。"]
[35,"造成的傷害提升至<color=#7AC180>{0}%</color>。"]
[36,"造成的傷害提升至<color=#7AC180>{0}%</color>。"]
[37,"英雄提升至{0}級強化該技能"]
[38,"英雄提升至{0}級解鎖該技能"]
[39,"英雄提升至{0}星強化該技能"]
[40,"英雄提升至{0}星解鎖該技能"]
[41,"{0}級："]
[42,"({0}級解鎖)"]
[43,"({0}星解鎖)"]
[44,"技能已達最高等級"]
[45,"旋風斬"]
[46,"對前方範圍釋放火焰，對範圍內的敵人進行多次灼燒，每次造成<color=#7AC180>{0}%</color>攻擊力的傷害，持續<color=#7AC180>{1}秒</color>"]
[47,"每次造成的傷害提升至<color=#7AC180>{0}%</color>。"]
[48,"每次造成的傷害提升至<color=#7AC180>{0}%</color>。"]
[49,"持續時間提升至<color=#7AC180>{1}秒</color>。"]
[50,"烈焰噴湧"]
[51,"對生命值最低的英雄，恢復<color=#7AC180>{0}%</color>攻擊力的血量。"]
[52,"恢復的血量提升至<color=#7AC180>{0}%</color>。"]
[53,"恢復的血量提升至<color=#7AC180>{0}%</color>。"]
[54,"恢復的血量提升至<color=#7AC180>{0}%</color>。"]
[55,"光輝治癒"]
[56,"向前方連續射出多支魔法箭，造成<color=#7AC180>{0}%</color>攻擊力的傷害。"]
[57,"造成的傷害提升至<color=#7AC180>{0}%</color>。"]
[58,"造成的傷害提升至<color=#7AC180>{0}%</color>。"]
[59,"造成的傷害提升至<color=#7AC180>{0}%</color>。"]
[60,"箭羽風暴"]
[61,"解鎖"]
[62,"等級{0}>>{1}"]
[63,"主力英雄等級差不得超過10級"]
[64,"主力英雄等級：{0}"]
[65,"生命之力"]
[66,"鋼鐵意志"]
[67,"斬風之力"]
[68,"抗暴之力"]
[69,"提高<color=#7AC180>{0}%</color>%的生命值"]
[70,"提高<color=#7AC180>{0}%</color>%的防禦值"]
[71,"額外釋放<color=#7AC180>{0}</color>道[旋風斬]的劍氣"]
[72,"降低<color=#7AC180>{0}%</color>的暴擊傷害"]
[73,"提升<color=#7AC180>{0}%</color>%的攻擊力"]
[74,"提高<color=#7AC180>{0}%</color>%的生命值"]
[75,"延長<color=#7AC180>{0}</color>秒[烈焰噴湧]的持續時間"]
[76,"提升<color=#7AC180>{0}%</color>%的技能暴擊率"]
[77,"神聖力量"]
[78,"生命之力"]
[79,"急救之光"]
[80,"光輝復蘇"]
[81,"提升<color=#7AC180>{0}%</color>%的攻擊力"]
[82,"提高<color=#7AC180>{0}%</color>%的生命值"]
[83,"對生命值低於<color=#7AC180>{0}%</color>%的英雄，額外提高<color=#7AC180>{0}%</color>%的治療量"]
[84,"同時治療<color=#7AC180>{0}</color>名英雄"]
[85,"弓箭精通"]
[86,"生命之力"]
[87,"無盡射擊"]
[88,"終結射擊"]
[89,"提升<color=#7AC180>{0}%</color>%的攻擊力"]
[90,"提高<color=#7AC180>{0}%</color>%的生命值"]
[91,"增加<color=#7AC180>{0}</color>支[連續射擊]的魔法箭"]
[92,"對生命值低於<color=#7AC180>{0}%</color>的敵人，額外造成<color=#7AC180>{0}%</color>傷害"]
[93,"智者之力"]
[94,"生命之力"]
[95,"烈焰持續"]
[96,"超凡暴擊"]
[97,"戰士裝備"]
[98,"法師裝備"]
[99,"牧師裝備"]
[100,"遊俠裝備"]
[101,"專屬裝備（敬請期待）"]
[102,"金幣不足"]
[103,"資源不足"]
[104,"英雄經驗，可用於升級英雄等級<color=#ff0000>（每殺死一個小怪能獲得經驗，擊殺boss能獲得大量經驗）</color>"]
[105,"金幣，用於抽取英雄寶箱<color=#ff0000>（每殺死一個小怪有幾率獲得金幣，擊殺boss能獲得大量金幣）</color>"]
[106,"紫鑽（敬請期待）"]
[107,"點擊螢幕空白處從天空中召喚一個隕石，對怪物造成1點傷害，並有<color=#ff0000>30%</color>概率獲得1枚金幣（boss怪<color=#ff0000>40%</color>掉落，金幣數量<color=#ff0000>+2</color>）"]
[108,"裝備"]
[109,"替補英雄"]
[110,"主力英雄"]
[111,"英雄背包"]
[112,"大自然的恩惠.寶箱"]
[113,"消耗對應的金幣開啟寶箱，獲得大自然的恩惠，有概率能獲得以下物品（英雄進階材料、 各種品質的武器）"]
[114,"友情提示10連抽更划算"]
[115,"失 敗"]
[116,"你太弱了，請提升實力再來挑戰"]
[117,"重新開始"]
[118,"....."]
[119,"發生了什麼事...."]
[120,"前方好像出現了超強怪物，大家做好準備。"]
[121,"越往深林深處走怪物越強大了，這裏的怪我有點招架不足了，我能不能加入你們一起探險？"]
[122,"沒問題，我們正缺你這樣的勇士。"]
[123,"歡迎加入我們的隊伍，讓我們一起看看深林深處是什麼在作怪。"]
[124,"（喘息著）這該死的怪物怎麼殺也殺不完！"]
[125,"怎麼辦要先回村莊嗎？"]
[126,"救命呀~"]
[127,"救命~~~"]
[128,"我名艾爾溫。這裏充滿了黑暗的氣息，我無法袖手旁觀."]
[129,"讓它們試試我的火焰~"]
[130,"太好了艾爾溫，感謝你的加入！"]
[131,"兄弟們，我堅持不住了，這一波怪物太猛了！"]
[132,"天空中突然閃出一個人影。"]
[133,"我是來自教堂的牧師，我來為你治療！"]
[134,"裝備回收"]
[135,"僅分解低級裝備，放心使用"]
[136,"回收獎勵"]
[137,"確認回收"]
[138,"升級"]
[139,"升星"]
[140,"生命"]
[141,"攻擊"]
[142,"防禦"]
[143,"等級"]
[144,"本次升級將大幅提升屬性"]
[145,"解鎖"]
[146,"冷卻{0}秒"]
[147,"職業裝備"]
[148,"戰士"]
[149,"法師"]
[150,"牧師"]
[151,"遊俠"]
[152,"獲得獎勵"]
[153,"一鍵裝備"]
[154,"點這裏, 提升英雄"]
[155,"技能"]
[156,"鞋子"]
[157,"衣服"]
[158,"手套"]
[159,"帽子"]
[160,"項鏈"]
[161,"{0}級"]
[162,"金幣，可用於開寶箱"]
[163,"鑽石，後續開放（敬請期待）"]
[164,"經驗，用於英雄升級"]
[165,"英雄碎片，用於提升星級"]
[166,"英雄碎片，用於提升星級"]
[167,"英雄碎片，用於提升星級"]
[168,"英雄碎片，用於提升星級"]
[169,"金幣"]
[170,"鑽石"]
[171,"英雄經驗"]
[172,"领取挂机收益"]
[173,"离线收益"]
[174,"受伤的狼"]
[175,"鹬蚌相争"]
[176,"鹬蚌相争2"]
[177,"你遇到一只奄奄一息的野狼，从周围四散的血迹来看，想必它刚才经历了一场恶战。"]
[178,"野狼用它最后一口气，朝你扑了过来！"]
[179,"你抽出匕首准备了结它的生命，却发现怀中还躺着一只刚出生的狼崽。"]
[180,"随着你的最后一击，野狼应声倒下，你罔顾它幽怨的眼神，从它怀中拿走了一些财物。"]
[181,"母狼似乎懂你要做什么，眼神归于平静。你终结了她，决定收养这只小狼仔。"]
[182,"从不远处传来刀剑声，听起来双方已经精疲力尽了。"]
[183,"你走进一看，原来是一伙山贼分赃不均内讧了起来。你看着旁边被砍的七零八落的轿子和这群山贼，选择怎么做呢："]
[184,"法宝现身，效果立竿见影，刀剑声逐渐消失，这个世界安静了。"]
[185,"你怒斥贼寇的恶行，贼寇们被你激怒了，准备迎战！"]
[186,"你趁人不备顺走了轿内主人的包裹，任留轿内人痛苦的挣扎。"]
[187,"法宝也得到些许历练。"]
[188,"杀退贼寇，你上演了一出英雄救美的桥段。姑娘为了答谢你的救命之恩，将藏在贴身处的珍贵首饰赠与你作为定情信物。"]
[189,"你打开包裹，赫然出现一大堆财宝，这次你发了哈哈！"]
[190,"从不远处传来刀剑声，听起来双方已经精疲力尽了。"]
[191,"你走进一看，原来是一伙山贼抢了一名坐在官轿内的女子，因分赃不均内讧了起来。山贼二话不说就朝你冲了过来！"]
[192,"法宝现身，效果立竿见影，刀剑声逐渐消失，这个世界安静了。"]
[193,"你大声怒斥贼寇的恶行，贼首发现你了，准备迎战！"]
[194,"你趁人不备顺走了轿内主人的包裹，任留轿内人痛苦的挣扎。"]
[195,"法宝也得到些许历练。"]
[196,"杀退贼寇，你上演了一出英雄救美的桥段。姑娘为了答谢你的救命之恩，将藏在贴身处的珍贵首饰赠与你作为定情信物。"]
[197,"你打开包裹，赫然出现一大堆财宝，这次你发了哈哈！"]
[198,"趁它虚弱赶紧除掉它！"]
[199,"你不忍见它受苦，选择帮它减轻痛苦。"]
[200,"终结它"]
[201,"去看看"]
[202,"(需拥有法宝凝神珠）听起来都是鸡毛蒜皮的小摩擦，你选择祭出凝神珠化解他们的怨气。"]
[203,"你顿时杀心四起，决定杀了贼寇，救出轿中之人"]
[204,"盗贼们个个双眼杀的通红，你决定来个渔翁得利。"]
[205,"选择正面迎战山贼头领（困难）"]
[206,"你决定避开山贼头领的视线，来个渔翁得利。"]
[207,"你将山贼们打的落花流水，成功吸引了山贼头子的注意。"]
[208,"事件10001：一只[怪物1]袭击了你，准备迎战","神识事件文本"]
[209,"你击败了怪物，并从它身上吸取了一些修为","神识事件文本"]
[210,"你偶遇一处仙气四溢无人生活的洞穴"]
[211,"不知哪位高人在洞穴内壁留下绝世秘籍"]
[212,"你在飞行途中不慎滑倒"]
[213,"原来是脚下有一块圆润的微微发光的石头"]
[214,"你拾起来一看，原来它蕴含了丰富的法宝灵韵"]
[215,"原本郁闷的心情，突然变的好了起来，哈哈~",1]
[216,"你被怪物击败了，事件结束。"]
[217,"溅血背包"]
[218,"废弃矿山"]
[219,"吵架声"]
[220,"一座道观"]
[221,"发现一个血迹斑斑的背包，好像刚刚发生了战斗，我翻翻背包..."]
[222,"啥也没有....除了钱"]
[223,"两夫妻在吵架，似乎为了一件大事.."]
[224,"没有任何发现，但感觉空气很好....下次有空再来看看"]
[225,"筑基期"]
[226,"金丹期"]
[227,"元婴期"]
[228,"化神期"]
[229,"炼虚期"]
[230,"合体期"]
[231,"大乘期"]
[232,"飞升期"]
[233,"逍遥期"]
[234,"真神期"]
[235,"前"]
[236,"中"]
[237,"后"]
[238,1]
[239,2]
[240,3]
[241,4]
[242,5]
[243,6]
[244,7]
[245,8]
[246,9]
[247,10]
[248,"金锭"]
[249,"最稀有的货币"]
[250,"渡劫丹-A1"]
[251,"渡劫丹-A2"]
[252,"渡劫丹-A3"]
[253,"渡劫丹-B1"]
[254,"渡劫丹-B2"]
[255,"渡劫丹-B3"]
[256,"渡劫丹-C1"]
[257,"渡劫丹-C2"]
[258,"渡劫丹-C3"]
[259,{"$f":"C262&\"描述\"","v":"渡劫丹-A1描述"},"渡劫丹-A1"]
[260,{"$f":"C263&\"描述\"","v":"渡劫丹-A2描述"},"渡劫丹-A2"]
[261,"渡劫丹-A3描述","渡劫丹-A3"]
[262,"渡劫丹-B1描述","渡劫丹-B1"]
[263,"渡劫丹-B2描述","渡劫丹-B2"]
[264,"渡劫丹-B3描述","渡劫丹-B3"]
[265,"渡劫丹-C1描述","渡劫丹-C1"]
[266,"渡劫丹-C2描述","渡劫丹-C2"]
[267,"渡劫丹-C3描述","渡劫丹-C3"]
[268,"天材地宝1"]
[269,"天材地宝2"]
[270,"天材地宝3"]
[271,"天材地宝4"]
[272,{"$f":"C275&\"描述\"","v":"天材地宝1描述"},"天材地宝1"]
[273,"天材地宝2描述","天材地宝2"]
[274,"天材地宝3描述","天材地宝3"]
[275,"天材地宝4描述","天材地宝4"]
[276,"修为丹1"]
[277,"修为丹2"]
[278,"修为丹3"]
[279,"修为丹4"]
[280,{"$f":"C283&\"描述\"","v":"修为丹1描述"},"修为丹1"]
[281,"修为丹2描述","修为丹2"]
[282,"修为丹3描述","修为丹3"]
[283,"修为丹4描述","修为丹4"]
[284,"神龙鼎"]
[285,"破天斧"]
[286,"翡翠葫芦"]
[287,"混沌珠"]
[288,"琉璃宝塔"]
[289,"九幽镇魂瓶"]
[290,"玉莲守心灯"]
[291,"融灵塔"]
[292,{"$f":"C295&\"描述\"","v":"法宝1描述"},"法宝1"]
[293,"法宝2描述","法宝2"]
[294,"法宝3描述","法宝3"]
[295,"法宝4描述","法宝4"]
[296,"法宝5描述","法宝5"]
[297,"法宝6描述","法宝6"]
[298,"法宝7描述","法宝7"]
[299,"法宝8描述","法宝8"]
[300,"神龙鼎碎片"]
[301,"破天斧碎片"]
[302,"翡翠葫芦碎片"]
[303,"混沌珠碎片"]
[304,"琉璃宝塔碎片"]
[305,"九幽镇魂瓶碎片"]
[306,"玉莲守心灯碎片"]
[307,"融灵塔碎片"]
[308,{"$f":"C311&\"描述\"","v":"法宝1碎片描述"},"法宝1碎片"]
[309,"法宝2碎片描述","法宝2碎片"]
[310,"法宝3碎片描述","法宝3碎片"]
[311,"法宝4碎片描述","法宝4碎片"]
[312,"法宝5碎片描述","法宝5碎片"]
[313,"法宝6碎片描述","法宝6碎片"]
[314,"法宝7碎片描述","法宝7碎片"]
[315,"法宝8碎片描述","法宝8碎片"]
[316,{"$f":"VLOOKUP(A319,[1]SkillConfig!$D:$AE,3,FALSE)","v":"太虚幻剑经"},"技能名称"]
[317,{"$f":"VLOOKUP(A320,[1]SkillConfig!$D:$AE,3,FALSE)","v":"太虚幻剑经"},"技能名称"]
[318,{"$f":"VLOOKUP(A321,[1]SkillConfig!$D:$AE,3,FALSE)","v":"太虚幻剑经"},"技能名称"]
[319,{"$f":"VLOOKUP(A322,[1]SkillConfig!$D:$AE,3,FALSE)","v":"太虚幻剑经"},"技能名称"]
[320,{"$f":"VLOOKUP(A323,[1]SkillConfig!$D:$AE,3,FALSE)","v":"太虚幻剑经"},"技能名称"]
[321,{"$f":"VLOOKUP(A324,[1]SkillConfig!$D:$AE,3,FALSE)","v":"太虚幻剑经"},"技能名称"]
[322,{"$f":"VLOOKUP(A325,[1]SkillConfig!$D:$AE,3,FALSE)","v":"天罡剑气诀"},"技能名称"]
[323,{"$f":"VLOOKUP(A326,[1]SkillConfig!$D:$AE,3,FALSE)","v":"天罡剑气诀"},"技能名称"]
[324,{"$f":"VLOOKUP(A327,[1]SkillConfig!$D:$AE,3,FALSE)","v":"天罡剑气诀"},"技能名称"]
[325,{"$f":"VLOOKUP(A328,[1]SkillConfig!$D:$AE,3,FALSE)","v":"天罡剑气诀"},"技能名称"]
[326,{"$f":"VLOOKUP(A329,[1]SkillConfig!$D:$AE,3,FALSE)","v":"天罡剑气诀"},"技能名称"]
[327,{"$f":"VLOOKUP(A330,[1]SkillConfig!$D:$AE,3,FALSE)","v":"天罡剑气诀"},"技能名称"]
[328,{"$f":"VLOOKUP(A331,[1]SkillConfig!$D:$AE,3,FALSE)","v":"血刃金煌功"},"技能名称"]
[329,{"$f":"VLOOKUP(A332,[1]SkillConfig!$D:$AE,3,FALSE)","v":"血刃金煌功"},"技能名称"]
[330,{"$f":"VLOOKUP(A333,[1]SkillConfig!$D:$AE,3,FALSE)","v":"血刃金煌功"},"技能名称"]
[331,{"$f":"VLOOKUP(A334,[1]SkillConfig!$D:$AE,3,FALSE)","v":"血刃金煌功"},"技能名称"]
[332,{"$f":"VLOOKUP(A335,[1]SkillConfig!$D:$AE,3,FALSE)","v":"血刃金煌功"},"技能名称"]
[333,{"$f":"VLOOKUP(A336,[1]SkillConfig!$D:$AE,3,FALSE)","v":"血刃金煌功"},"技能名称"]
[334,{"$f":"VLOOKUP(A337,[1]SkillConfig!$D:$AE,3,FALSE)","v":"飞刃"},"技能名称"]
[335,{"$f":"VLOOKUP(A338,[1]SkillConfig!$D:$AE,3,FALSE)","v":"飞刃"},"技能名称"]
[336,{"$f":"VLOOKUP(A339,[1]SkillConfig!$D:$AE,3,FALSE)","v":"飞刃"},"技能名称"]
[337,{"$f":"VLOOKUP(A340,[1]SkillConfig!$D:$AE,3,FALSE)","v":"飞刃"},"技能名称"]
[338,{"$f":"VLOOKUP(A341,[1]SkillConfig!$D:$AE,3,FALSE)","v":"飞刃"},"技能名称"]
[339,{"$f":"VLOOKUP(A342,[1]SkillConfig!$D:$AE,3,FALSE)","v":"飞刃"},"技能名称"]
[340,{"$f":"VLOOKUP(A343,[1]SkillConfig!$D:$AE,3,FALSE)","v":"金针"},"技能名称"]
[341,{"$f":"VLOOKUP(A344,[1]SkillConfig!$D:$AE,3,FALSE)","v":"金针"},"技能名称"]
[342,{"$f":"VLOOKUP(A345,[1]SkillConfig!$D:$AE,3,FALSE)","v":"金针"},"技能名称"]
[343,{"$f":"VLOOKUP(A346,[1]SkillConfig!$D:$AE,3,FALSE)","v":"金针"},"技能名称"]
[344,{"$f":"VLOOKUP(A347,[1]SkillConfig!$D:$AE,3,FALSE)","v":"金针"},"技能名称"]
[345,{"$f":"VLOOKUP(A348,[1]SkillConfig!$D:$AE,3,FALSE)","v":"金针"},"技能名称"]
[346,{"$f":"VLOOKUP(A349,[1]SkillConfig!$D:$AE,3,FALSE)","v":"碧落幽冥劲"},"技能名称"]
[347,{"$f":"VLOOKUP(A350,[1]SkillConfig!$D:$AE,3,FALSE)","v":"碧落幽冥劲"},"技能名称"]
[348,{"$f":"VLOOKUP(A351,[1]SkillConfig!$D:$AE,3,FALSE)","v":"碧落幽冥劲"},"技能名称"]
[349,{"$f":"VLOOKUP(A352,[1]SkillConfig!$D:$AE,3,FALSE)","v":"碧落幽冥劲"},"技能名称"]
[350,{"$f":"VLOOKUP(A353,[1]SkillConfig!$D:$AE,3,FALSE)","v":"碧落幽冥劲"},"技能名称"]
[351,{"$f":"VLOOKUP(A354,[1]SkillConfig!$D:$AE,3,FALSE)","v":"碧落幽冥劲"},"技能名称"]
[352,{"$f":"VLOOKUP(A355,[1]SkillConfig!$D:$AE,3,FALSE)","v":"雾隐千流法"},"技能名称"]
[353,{"$f":"VLOOKUP(A356,[1]SkillConfig!$D:$AE,3,FALSE)","v":"雾隐千流法"},"技能名称"]
[354,{"$f":"VLOOKUP(A357,[1]SkillConfig!$D:$AE,3,FALSE)","v":"雾隐千流法"},"技能名称"]
[355,{"$f":"VLOOKUP(A358,[1]SkillConfig!$D:$AE,3,FALSE)","v":"雾隐千流法"},"技能名称"]
[356,{"$f":"VLOOKUP(A359,[1]SkillConfig!$D:$AE,3,FALSE)","v":"雾隐千流法"},"技能名称"]
[357,{"$f":"VLOOKUP(A360,[1]SkillConfig!$D:$AE,3,FALSE)","v":"雾隐千流法"},"技能名称"]
[358,{"$f":"VLOOKUP(A361,[1]SkillConfig!$D:$AE,3,FALSE)","v":0},"技能名称"]
[359,{"$f":"VLOOKUP(A362,[1]SkillConfig!$D:$AE,3,FALSE)","v":0},"技能名称"]
[360,{"$f":"VLOOKUP(A363,[1]SkillConfig!$D:$AE,3,FALSE)","v":0},"技能名称"]
[361,{"$f":"VLOOKUP(A364,[1]SkillConfig!$D:$AE,3,FALSE)","v":0},"技能名称"]
[362,{"$f":"VLOOKUP(A365,[1]SkillConfig!$D:$AE,3,FALSE)","v":0},"技能名称"]
[363,{"$f":"VLOOKUP(A366,[1]SkillConfig!$D:$AE,3,FALSE)","v":0},"技能名称"]
[364,{"$f":"VLOOKUP(A367,[1]SkillConfig!$D:$AE,3,FALSE)","v":"冰刀"},"技能名称"]
[365,{"$f":"VLOOKUP(A368,[1]SkillConfig!$D:$AE,3,FALSE)","v":"冰刀"},"技能名称"]
[366,{"$f":"VLOOKUP(A369,[1]SkillConfig!$D:$AE,3,FALSE)","v":"冰刀"},"技能名称"]
[367,{"$f":"VLOOKUP(A370,[1]SkillConfig!$D:$AE,3,FALSE)","v":"冰刀"},"技能名称"]
[368,{"$f":"VLOOKUP(A371,[1]SkillConfig!$D:$AE,3,FALSE)","v":"冰刀"},"技能名称"]
[369,{"$f":"VLOOKUP(A372,[1]SkillConfig!$D:$AE,3,FALSE)","v":"冰刀"},"技能名称"]
[370,{"$f":"VLOOKUP(A373,[1]SkillConfig!$D:$AE,3,FALSE)","v":"瘴影千丝术"},"技能名称"]
[371,{"$f":"VLOOKUP(A374,[1]SkillConfig!$D:$AE,3,FALSE)","v":"瘴影千丝术"},"技能名称"]
[372,{"$f":"VLOOKUP(A375,[1]SkillConfig!$D:$AE,3,FALSE)","v":"瘴影千丝术"},"技能名称"]
[373,{"$f":"VLOOKUP(A376,[1]SkillConfig!$D:$AE,3,FALSE)","v":"瘴影千丝术"},"技能名称"]
[374,{"$f":"VLOOKUP(A377,[1]SkillConfig!$D:$AE,3,FALSE)","v":"瘴影千丝术"},"技能名称"]
[375,{"$f":"VLOOKUP(A378,[1]SkillConfig!$D:$AE,3,FALSE)","v":"瘴影千丝术"},"技能名称"]
[376,{"$f":"VLOOKUP(A379,[1]SkillConfig!$D:$AE,3,FALSE)","v":"蚀骨腐血掌"},"技能名称"]
[377,{"$f":"VLOOKUP(A380,[1]SkillConfig!$D:$AE,3,FALSE)","v":"蚀骨腐血掌"},"技能名称"]
[378,{"$f":"VLOOKUP(A381,[1]SkillConfig!$D:$AE,3,FALSE)","v":"蚀骨腐血掌"},"技能名称"]
[379,{"$f":"VLOOKUP(A382,[1]SkillConfig!$D:$AE,3,FALSE)","v":"蚀骨腐血掌"},"技能名称"]
[380,{"$f":"VLOOKUP(A383,[1]SkillConfig!$D:$AE,3,FALSE)","v":"蚀骨腐血掌"},"技能名称"]
[381,{"$f":"VLOOKUP(A384,[1]SkillConfig!$D:$AE,3,FALSE)","v":"蚀骨腐血掌"},"技能名称"]
[382,{"$f":"VLOOKUP(A385,[1]SkillConfig!$D:$AE,3,FALSE)","v":0},"技能名称"]
[383,{"$f":"VLOOKUP(A386,[1]SkillConfig!$D:$AE,3,FALSE)","v":0},"技能名称"]
[384,{"$f":"VLOOKUP(A387,[1]SkillConfig!$D:$AE,3,FALSE)","v":0},"技能名称"]
[385,{"$f":"VLOOKUP(A388,[1]SkillConfig!$D:$AE,3,FALSE)","v":0},"技能名称"]
[386,{"$f":"VLOOKUP(A389,[1]SkillConfig!$D:$AE,3,FALSE)","v":0},"技能名称"]
[387,{"$f":"VLOOKUP(A390,[1]SkillConfig!$D:$AE,3,FALSE)","v":0},"技能名称"]
[388,{"$f":"VLOOKUP(A391,[1]SkillConfig!$D:$AE,3,FALSE)","v":"飞叶"},"技能名称"]
[389,{"$f":"VLOOKUP(A392,[1]SkillConfig!$D:$AE,3,FALSE)","v":"飞叶"},"技能名称"]
[390,{"$f":"VLOOKUP(A393,[1]SkillConfig!$D:$AE,3,FALSE)","v":"飞叶"},"技能名称"]
[391,{"$f":"VLOOKUP(A394,[1]SkillConfig!$D:$AE,3,FALSE)","v":"飞叶"},"技能名称"]
[392,{"$f":"VLOOKUP(A395,[1]SkillConfig!$D:$AE,3,FALSE)","v":"飞叶"},"技能名称"]
[393,{"$f":"VLOOKUP(A396,[1]SkillConfig!$D:$AE,3,FALSE)","v":"飞叶"},"技能名称"]
[394,{"$f":"VLOOKUP(A397,[1]SkillConfig!$D:$AE,3,FALSE)","v":"烈焰剑"},"技能名称"]
[395,{"$f":"VLOOKUP(A398,[1]SkillConfig!$D:$AE,3,FALSE)","v":"烈焰剑"},"技能名称"]
[396,{"$f":"VLOOKUP(A399,[1]SkillConfig!$D:$AE,3,FALSE)","v":"烈焰剑"},"技能名称"]
[397,{"$f":"VLOOKUP(A400,[1]SkillConfig!$D:$AE,3,FALSE)","v":"烈焰剑"},"技能名称"]
[398,{"$f":"VLOOKUP(A401,[1]SkillConfig!$D:$AE,3,FALSE)","v":"烈焰剑"},"技能名称"]
[399,{"$f":"VLOOKUP(A402,[1]SkillConfig!$D:$AE,3,FALSE)","v":"烈焰剑"},"技能名称"]
[400,{"$f":"VLOOKUP(A403,[1]SkillConfig!$D:$AE,3,FALSE)","v":"赤焰龙吟功"},"技能名称"]
[401,{"$f":"VLOOKUP(A404,[1]SkillConfig!$D:$AE,3,FALSE)","v":"赤焰龙吟功"},"技能名称"]
[402,{"$f":"VLOOKUP(A405,[1]SkillConfig!$D:$AE,3,FALSE)","v":"赤焰龙吟功"},"技能名称"]
[403,{"$f":"VLOOKUP(A406,[1]SkillConfig!$D:$AE,3,FALSE)","v":"赤焰龙吟功"},"技能名称"]
[404,{"$f":"VLOOKUP(A407,[1]SkillConfig!$D:$AE,3,FALSE)","v":"赤焰龙吟功"},"技能名称"]
[405,{"$f":"VLOOKUP(A408,[1]SkillConfig!$D:$AE,3,FALSE)","v":"赤焰龙吟功"},"技能名称"]
[406,{"$f":"VLOOKUP(A409,[1]SkillConfig!$D:$AE,3,FALSE)","v":"朱雀燎原指"},"技能名称"]
[407,{"$f":"VLOOKUP(A410,[1]SkillConfig!$D:$AE,3,FALSE)","v":"朱雀燎原指"},"技能名称"]
[408,{"$f":"VLOOKUP(A411,[1]SkillConfig!$D:$AE,3,FALSE)","v":"朱雀燎原指"},"技能名称"]
[409,{"$f":"VLOOKUP(A412,[1]SkillConfig!$D:$AE,3,FALSE)","v":"朱雀燎原指"},"技能名称"]
[410,{"$f":"VLOOKUP(A413,[1]SkillConfig!$D:$AE,3,FALSE)","v":"朱雀燎原指"},"技能名称"]
[411,{"$f":"VLOOKUP(A414,[1]SkillConfig!$D:$AE,3,FALSE)","v":"朱雀燎原指"},"技能名称"]
[412,{"$f":"VLOOKUP(A415,[1]SkillConfig!$D:$AE,3,FALSE)","v":"火球"},"技能名称"]
[413,{"$f":"VLOOKUP(A416,[1]SkillConfig!$D:$AE,3,FALSE)","v":"火球"},"技能名称"]
[414,{"$f":"VLOOKUP(A417,[1]SkillConfig!$D:$AE,3,FALSE)","v":"火球"},"技能名称"]
[415,{"$f":"VLOOKUP(A418,[1]SkillConfig!$D:$AE,3,FALSE)","v":"火球"},"技能名称"]
[416,{"$f":"VLOOKUP(A419,[1]SkillConfig!$D:$AE,3,FALSE)","v":"火球"},"技能名称"]
[417,{"$f":"VLOOKUP(A420,[1]SkillConfig!$D:$AE,3,FALSE)","v":"火球"},"技能名称"]
[418,{"$f":"VLOOKUP(A421,[1]SkillConfig!$D:$AE,3,FALSE)","v":"火刀"},"技能名称"]
[419,{"$f":"VLOOKUP(A422,[1]SkillConfig!$D:$AE,3,FALSE)","v":"火刀"},"技能名称"]
[420,{"$f":"VLOOKUP(A423,[1]SkillConfig!$D:$AE,3,FALSE)","v":"火刀"},"技能名称"]
[421,{"$f":"VLOOKUP(A424,[1]SkillConfig!$D:$AE,3,FALSE)","v":"火刀"},"技能名称"]
[422,{"$f":"VLOOKUP(A425,[1]SkillConfig!$D:$AE,3,FALSE)","v":"火刀"},"技能名称"]
[423,{"$f":"VLOOKUP(A426,[1]SkillConfig!$D:$AE,3,FALSE)","v":"火刀"},"技能名称"]
[424,{"$f":"VLOOKUP(A427,[1]SkillConfig!$D:$AE,3,FALSE)","v":"黄尘灭魂刺"},"技能名称"]
[425,{"$f":"VLOOKUP(A428,[1]SkillConfig!$D:$AE,3,FALSE)","v":"黄尘灭魂刺"},"技能名称"]
[426,{"$f":"VLOOKUP(A429,[1]SkillConfig!$D:$AE,3,FALSE)","v":"黄尘灭魂刺"},"技能名称"]
[427,{"$f":"VLOOKUP(A430,[1]SkillConfig!$D:$AE,3,FALSE)","v":"黄尘灭魂刺"},"技能名称"]
[428,{"$f":"VLOOKUP(A431,[1]SkillConfig!$D:$AE,3,FALSE)","v":"黄尘灭魂刺"},"技能名称"]
[429,{"$f":"VLOOKUP(A432,[1]SkillConfig!$D:$AE,3,FALSE)","v":"黄尘灭魂刺"},"技能名称"]
[430,{"$f":"VLOOKUP(A433,[1]SkillConfig!$D:$AE,3,FALSE)","v":"地裂屠龙斩"},"技能名称"]
[431,{"$f":"VLOOKUP(A434,[1]SkillConfig!$D:$AE,3,FALSE)","v":"地裂屠龙斩"},"技能名称"]
[432,{"$f":"VLOOKUP(A435,[1]SkillConfig!$D:$AE,3,FALSE)","v":"地裂屠龙斩"},"技能名称"]
[433,{"$f":"VLOOKUP(A436,[1]SkillConfig!$D:$AE,3,FALSE)","v":"地裂屠龙斩"},"技能名称"]
[434,{"$f":"VLOOKUP(A437,[1]SkillConfig!$D:$AE,3,FALSE)","v":"地裂屠龙斩"},"技能名称"]
[435,{"$f":"VLOOKUP(A438,[1]SkillConfig!$D:$AE,3,FALSE)","v":"地裂屠龙斩"},"技能名称"]
[436,{"$f":"VLOOKUP(A439,[1]SkillConfig!$D:$AE,3,FALSE)","v":0},"技能名称"]
[437,{"$f":"VLOOKUP(A440,[1]SkillConfig!$D:$AE,3,FALSE)","v":0},"技能名称"]
[438,{"$f":"VLOOKUP(A441,[1]SkillConfig!$D:$AE,3,FALSE)","v":0},"技能名称"]
[439,{"$f":"VLOOKUP(A442,[1]SkillConfig!$D:$AE,3,FALSE)","v":0},"技能名称"]
[440,{"$f":"VLOOKUP(A443,[1]SkillConfig!$D:$AE,3,FALSE)","v":0},"技能名称"]
[441,{"$f":"VLOOKUP(A444,[1]SkillConfig!$D:$AE,3,FALSE)","v":0},"技能名称"]
[442,{"$f":"VLOOKUP(A445,[1]SkillConfig!$D:$AE,3,FALSE)","v":"小石头"},"技能名称"]
[443,{"$f":"VLOOKUP(A446,[1]SkillConfig!$D:$AE,3,FALSE)","v":"小石头"},"技能名称"]
[444,{"$f":"VLOOKUP(A447,[1]SkillConfig!$D:$AE,3,FALSE)","v":"小石头"},"技能名称"]
[445,{"$f":"VLOOKUP(A448,[1]SkillConfig!$D:$AE,3,FALSE)","v":"小石头"},"技能名称"]
[446,{"$f":"VLOOKUP(A449,[1]SkillConfig!$D:$AE,3,FALSE)","v":"小石头"},"技能名称"]
[447,{"$f":"VLOOKUP(A450,[1]SkillConfig!$D:$AE,3,FALSE)","v":"小石头"},"技能名称"]
[448,{"$f":"VLOOKUP(A451,[1]SkillConfig!$D:$AE,3,FALSE)","v":"天衍星辰诀"},"技能名称"]
[449,{"$f":"VLOOKUP(A452,[1]SkillConfig!$D:$AE,3,FALSE)","v":"天衍星辰诀"},"技能名称"]
[450,{"$f":"VLOOKUP(A453,[1]SkillConfig!$D:$AE,3,FALSE)","v":"天衍星辰诀"},"技能名称"]
[451,{"$f":"VLOOKUP(A454,[1]SkillConfig!$D:$AE,3,FALSE)","v":"天衍星辰诀"},"技能名称"]
[452,{"$f":"VLOOKUP(A455,[1]SkillConfig!$D:$AE,3,FALSE)","v":"天衍星辰诀"},"技能名称"]
[453,{"$f":"VLOOKUP(A456,[1]SkillConfig!$D:$AE,3,FALSE)","v":"天衍星辰诀"},"技能名称"]
[454,{"$f":"VLOOKUP(A457,[1]SkillConfig!$D:$AE,3,FALSE)","v":"法宝秘籍"},"技能名称"]
[455,{"$f":"VLOOKUP(A458,[1]SkillConfig!$D:$AE,3,FALSE)","v":"法宝秘籍"},"技能名称"]
[456,{"$f":"VLOOKUP(A459,[1]SkillConfig!$D:$AE,3,FALSE)","v":"法宝秘籍"},"技能名称"]
[457,{"$f":"VLOOKUP(A460,[1]SkillConfig!$D:$AE,3,FALSE)","v":"法宝秘籍"},"技能名称"]
[458,{"$f":"VLOOKUP(A461,[1]SkillConfig!$D:$AE,3,FALSE)","v":"法宝秘籍"},"技能名称"]
[459,{"$f":"VLOOKUP(A462,[1]SkillConfig!$D:$AE,3,FALSE)","v":"法宝秘籍"},"技能名称"]
[460,{"$f":"VLOOKUP(A463,[1]SkillConfig!$D:$AE,3,FALSE)","v":"崩脉决"},"技能名称"]
[461,{"$f":"VLOOKUP(A464,[1]SkillConfig!$D:$AE,3,FALSE)","v":"崩脉决"},"技能名称"]
[462,{"$f":"VLOOKUP(A465,[1]SkillConfig!$D:$AE,3,FALSE)","v":"崩脉决"},"技能名称"]
[463,{"$f":"VLOOKUP(A466,[1]SkillConfig!$D:$AE,3,FALSE)","v":"崩脉决"},"技能名称"]
[464,{"$f":"VLOOKUP(A467,[1]SkillConfig!$D:$AE,3,FALSE)","v":"崩脉决"},"技能名称"]
[465,{"$f":"VLOOKUP(A468,[1]SkillConfig!$D:$AE,3,FALSE)","v":"崩脉决"},"技能名称"]
[466,{"$f":"VLOOKUP(A469,[1]SkillConfig!$D:$AE,3,FALSE)","v":"两仪决"},"技能名称"]
[467,{"$f":"VLOOKUP(A470,[1]SkillConfig!$D:$AE,3,FALSE)","v":"两仪决"},"技能名称"]
[468,{"$f":"VLOOKUP(A471,[1]SkillConfig!$D:$AE,3,FALSE)","v":"两仪决"},"技能名称"]
[469,{"$f":"VLOOKUP(A472,[1]SkillConfig!$D:$AE,3,FALSE)","v":"两仪决"},"技能名称"]
[470,{"$f":"VLOOKUP(A473,[1]SkillConfig!$D:$AE,3,FALSE)","v":"两仪决"},"技能名称"]
[471,{"$f":"VLOOKUP(A474,[1]SkillConfig!$D:$AE,3,FALSE)","v":"两仪决"},"技能名称"]
[472,{"$f":"VLOOKUP(A475,[1]SkillConfig!$D:$AE,3,FALSE)","v":"火焰决"},"技能名称"]
[473,{"$f":"VLOOKUP(A476,[1]SkillConfig!$D:$AE,3,FALSE)","v":"火焰决"},"技能名称"]
[474,{"$f":"VLOOKUP(A477,[1]SkillConfig!$D:$AE,3,FALSE)","v":"火焰决"},"技能名称"]
[475,{"$f":"VLOOKUP(A478,[1]SkillConfig!$D:$AE,3,FALSE)","v":"火焰决"},"技能名称"]
[476,{"$f":"VLOOKUP(A479,[1]SkillConfig!$D:$AE,3,FALSE)","v":"火焰决"},"技能名称"]
[477,{"$f":"VLOOKUP(A480,[1]SkillConfig!$D:$AE,3,FALSE)","v":"火焰决"},"技能名称"]
[478,{"$f":"VLOOKUP(A481,[1]SkillConfig!$D:$AE,3,FALSE)","v":"乾坤巨灵诀"},"技能名称"]
[479,{"$f":"VLOOKUP(A482,[1]SkillConfig!$D:$AE,3,FALSE)","v":"乾坤巨灵诀"},"技能名称"]
[480,{"$f":"VLOOKUP(A483,[1]SkillConfig!$D:$AE,3,FALSE)","v":"乾坤巨灵诀"},"技能名称"]
[481,{"$f":"VLOOKUP(A484,[1]SkillConfig!$D:$AE,3,FALSE)","v":"乾坤巨灵诀"},"技能名称"]
[482,{"$f":"VLOOKUP(A485,[1]SkillConfig!$D:$AE,3,FALSE)","v":"乾坤巨灵诀"},"技能名称"]
[483,{"$f":"VLOOKUP(A486,[1]SkillConfig!$D:$AE,3,FALSE)","v":"乾坤巨灵诀"},"技能名称"]
[484,{"$f":"VLOOKUP(A487,[1]SkillConfig!$D:$AE,3,FALSE)","v":"极速齿轮"},"技能名称"]
[485,{"$f":"VLOOKUP(A488,[1]SkillConfig!$D:$AE,3,FALSE)","v":"极速齿轮"},"技能名称"]
[486,{"$f":"VLOOKUP(A489,[1]SkillConfig!$D:$AE,3,FALSE)","v":"极速齿轮"},"技能名称"]
[487,{"$f":"VLOOKUP(A490,[1]SkillConfig!$D:$AE,3,FALSE)","v":"极速齿轮"},"技能名称"]
[488,{"$f":"VLOOKUP(A491,[1]SkillConfig!$D:$AE,3,FALSE)","v":"极速齿轮"},"技能名称"]
[489,{"$f":"VLOOKUP(A492,[1]SkillConfig!$D:$AE,3,FALSE)","v":"极速齿轮"},"技能名称"]
[490,{"$f":"VLOOKUP(A493,[1]SkillConfig!$D:$AE,3,FALSE)","v":"太虚剑意"},"技能名称"]
[491,{"$f":"VLOOKUP(A494,[1]SkillConfig!$D:$AE,3,FALSE)","v":"太虚剑意"},"技能名称"]
[492,{"$f":"VLOOKUP(A495,[1]SkillConfig!$D:$AE,3,FALSE)","v":"太虚剑意"},"技能名称"]
[493,{"$f":"VLOOKUP(A496,[1]SkillConfig!$D:$AE,3,FALSE)","v":"太虚剑意"},"技能名称"]
[494,{"$f":"VLOOKUP(A497,[1]SkillConfig!$D:$AE,3,FALSE)","v":"太虚剑意"},"技能名称"]
[495,{"$f":"VLOOKUP(A498,[1]SkillConfig!$D:$AE,3,FALSE)","v":"太虚剑意"},"技能名称"]
[496,{"$f":"VLOOKUP(A499,[1]SkillConfig!$D:$AE,3,FALSE)","v":"神龙鼎"},"技能名称"]
[497,{"$f":"VLOOKUP(A500,[1]SkillConfig!$D:$AE,3,FALSE)","v":"神龙鼎"},"技能名称"]
[498,{"$f":"VLOOKUP(A501,[1]SkillConfig!$D:$AE,3,FALSE)","v":"神龙鼎"},"技能名称"]
[499,{"$f":"VLOOKUP(A502,[1]SkillConfig!$D:$AE,3,FALSE)","v":"神龙鼎"},"技能名称"]
[500,{"$f":"VLOOKUP(A503,[1]SkillConfig!$D:$AE,3,FALSE)","v":"神龙鼎"},"技能名称"]
[501,{"$f":"VLOOKUP(A504,[1]SkillConfig!$D:$AE,3,FALSE)","v":"神龙鼎"},"技能名称"]
[502,{"$f":"VLOOKUP(A505,[1]SkillConfig!$D:$AE,3,FALSE)","v":"破天斧"},"技能名称"]
[503,{"$f":"VLOOKUP(A506,[1]SkillConfig!$D:$AE,3,FALSE)","v":"破天斧"},"技能名称"]
[504,{"$f":"VLOOKUP(A507,[1]SkillConfig!$D:$AE,3,FALSE)","v":"破天斧"},"技能名称"]
[505,{"$f":"VLOOKUP(A508,[1]SkillConfig!$D:$AE,3,FALSE)","v":"破天斧"},"技能名称"]
[506,{"$f":"VLOOKUP(A509,[1]SkillConfig!$D:$AE,3,FALSE)","v":"破天斧"},"技能名称"]
[507,{"$f":"VLOOKUP(A510,[1]SkillConfig!$D:$AE,3,FALSE)","v":"破天斧"},"技能名称"]
[508,{"$f":"VLOOKUP(A511,[1]SkillConfig!$D:$AE,3,FALSE)","v":"翡翠葫芦"},"技能名称"]
[509,{"$f":"VLOOKUP(A512,[1]SkillConfig!$D:$AE,3,FALSE)","v":"翡翠葫芦"},"技能名称"]
[510,{"$f":"VLOOKUP(A513,[1]SkillConfig!$D:$AE,3,FALSE)","v":"翡翠葫芦"},"技能名称"]
[511,{"$f":"VLOOKUP(A514,[1]SkillConfig!$D:$AE,3,FALSE)","v":"翡翠葫芦"},"技能名称"]
[512,{"$f":"VLOOKUP(A515,[1]SkillConfig!$D:$AE,3,FALSE)","v":"翡翠葫芦"},"技能名称"]
[513,{"$f":"VLOOKUP(A516,[1]SkillConfig!$D:$AE,3,FALSE)","v":"翡翠葫芦"},"技能名称"]
[514,{"$f":"VLOOKUP(A517,[1]SkillConfig!$D:$AE,3,FALSE)","v":"混沌珠"},"技能名称"]
[515,{"$f":"VLOOKUP(A518,[1]SkillConfig!$D:$AE,3,FALSE)","v":"混沌珠"},"技能名称"]
[516,{"$f":"VLOOKUP(A519,[1]SkillConfig!$D:$AE,3,FALSE)","v":"混沌珠"},"技能名称"]
[517,{"$f":"VLOOKUP(A520,[1]SkillConfig!$D:$AE,3,FALSE)","v":"混沌珠"},"技能名称"]
[518,{"$f":"VLOOKUP(A521,[1]SkillConfig!$D:$AE,3,FALSE)","v":"混沌珠"},"技能名称"]
[519,{"$f":"VLOOKUP(A522,[1]SkillConfig!$D:$AE,3,FALSE)","v":"混沌珠"},"技能名称"]
[520,{"$f":"VLOOKUP(A523,[1]SkillConfig!$D:$AE,3,FALSE)","v":"琉璃宝塔"},"技能名称"]
[521,{"$f":"VLOOKUP(A524,[1]SkillConfig!$D:$AE,3,FALSE)","v":"琉璃宝塔"},"技能名称"]
[522,{"$f":"VLOOKUP(A525,[1]SkillConfig!$D:$AE,3,FALSE)","v":"琉璃宝塔"},"技能名称"]
[523,{"$f":"VLOOKUP(A526,[1]SkillConfig!$D:$AE,3,FALSE)","v":"琉璃宝塔"},"技能名称"]
[524,{"$f":"VLOOKUP(A527,[1]SkillConfig!$D:$AE,3,FALSE)","v":"琉璃宝塔"},"技能名称"]
[525,{"$f":"VLOOKUP(A528,[1]SkillConfig!$D:$AE,3,FALSE)","v":"琉璃宝塔"},"技能名称"]
[526,{"$f":"VLOOKUP(A529,[1]SkillConfig!$D:$AE,3,FALSE)","v":"九幽镇魂瓶"},"技能名称"]
[527,{"$f":"VLOOKUP(A530,[1]SkillConfig!$D:$AE,3,FALSE)","v":"九幽镇魂瓶"},"技能名称"]
[528,{"$f":"VLOOKUP(A531,[1]SkillConfig!$D:$AE,3,FALSE)","v":"九幽镇魂瓶"},"技能名称"]
[529,{"$f":"VLOOKUP(A532,[1]SkillConfig!$D:$AE,3,FALSE)","v":"九幽镇魂瓶"},"技能名称"]
[530,{"$f":"VLOOKUP(A533,[1]SkillConfig!$D:$AE,3,FALSE)","v":"九幽镇魂瓶"},"技能名称"]
[531,{"$f":"VLOOKUP(A534,[1]SkillConfig!$D:$AE,3,FALSE)","v":"九幽镇魂瓶"},"技能名称"]
[532,{"$f":"VLOOKUP(A535,[1]SkillConfig!$D:$AE,3,FALSE)","v":"玉莲守心灯"},"技能名称"]
[533,{"$f":"VLOOKUP(A536,[1]SkillConfig!$D:$AE,3,FALSE)","v":"玉莲守心灯"},"技能名称"]
[534,{"$f":"VLOOKUP(A537,[1]SkillConfig!$D:$AE,3,FALSE)","v":"玉莲守心灯"},"技能名称"]
[535,{"$f":"VLOOKUP(A538,[1]SkillConfig!$D:$AE,3,FALSE)","v":"玉莲守心灯"},"技能名称"]
[536,{"$f":"VLOOKUP(A539,[1]SkillConfig!$D:$AE,3,FALSE)","v":"玉莲守心灯"},"技能名称"]
[537,{"$f":"VLOOKUP(A540,[1]SkillConfig!$D:$AE,3,FALSE)","v":"玉莲守心灯"},"技能名称"]
[538,{"$f":"VLOOKUP(A541,[1]SkillConfig!$D:$AE,3,FALSE)","v":"融灵塔"},"技能名称"]
[539,{"$f":"VLOOKUP(A542,[1]SkillConfig!$D:$AE,3,FALSE)","v":"融灵塔"},"技能名称"]
[540,{"$f":"VLOOKUP(A543,[1]SkillConfig!$D:$AE,3,FALSE)","v":"融灵塔"},"技能名称"]
[541,{"$f":"VLOOKUP(A544,[1]SkillConfig!$D:$AE,3,FALSE)","v":"融灵塔"},"技能名称"]
[542,{"$f":"VLOOKUP(A545,[1]SkillConfig!$D:$AE,3,FALSE)","v":"融灵塔"},"技能名称"]
[543,{"$f":"VLOOKUP(A546,[1]SkillConfig!$D:$AE,3,FALSE)","v":"融灵塔"},"技能名称"]
[544,{"$f":"VLOOKUP(A547,[1]SkillConfig!$D:$AE,3,FALSE)","v":"禁元珠"},"技能名称"]
[545,{"$f":"VLOOKUP(A548,[1]SkillConfig!$D:$AE,3,FALSE)","v":"禁元珠"},"技能名称"]
[546,{"$f":"VLOOKUP(A549,[1]SkillConfig!$D:$AE,3,FALSE)","v":"禁元珠"},"技能名称"]
[547,{"$f":"VLOOKUP(A550,[1]SkillConfig!$D:$AE,3,FALSE)","v":"禁元珠"},"技能名称"]
[548,{"$f":"VLOOKUP(A551,[1]SkillConfig!$D:$AE,3,FALSE)","v":"禁元珠"},"技能名称"]
[549,{"$f":"VLOOKUP(A552,[1]SkillConfig!$D:$AE,3,FALSE)","v":"禁元珠"},"技能名称"]
[550,{"$f":"VLOOKUP(A553,[1]SkillConfig!$D:$AE,3,FALSE)","v":"玄龟盾"},"技能名称"]
[551,{"$f":"VLOOKUP(A554,[1]SkillConfig!$D:$AE,3,FALSE)","v":"玄龟盾"},"技能名称"]
[552,{"$f":"VLOOKUP(A555,[1]SkillConfig!$D:$AE,3,FALSE)","v":"玄龟盾"},"技能名称"]
[553,{"$f":"VLOOKUP(A556,[1]SkillConfig!$D:$AE,3,FALSE)","v":"玄龟盾"},"技能名称"]
[554,{"$f":"VLOOKUP(A557,[1]SkillConfig!$D:$AE,3,FALSE)","v":"玄龟盾"},"技能名称"]
[555,{"$f":"VLOOKUP(A558,[1]SkillConfig!$D:$AE,3,FALSE)","v":"玄龟盾"},"技能名称"]
[556,{"$f":"VLOOKUP(A559,[1]SkillConfig!$D:$AE,3,FALSE)","v":"天殇血刃剑"},"技能名称"]
[557,{"$f":"VLOOKUP(A560,[1]SkillConfig!$D:$AE,3,FALSE)","v":"天殇血刃剑"},"技能名称"]
[558,{"$f":"VLOOKUP(A561,[1]SkillConfig!$D:$AE,3,FALSE)","v":"天殇血刃剑"},"技能名称"]
[559,{"$f":"VLOOKUP(A562,[1]SkillConfig!$D:$AE,3,FALSE)","v":"天殇血刃剑"},"技能名称"]
[560,{"$f":"VLOOKUP(A563,[1]SkillConfig!$D:$AE,3,FALSE)","v":"天殇血刃剑"},"技能名称"]
[561,{"$f":"VLOOKUP(A564,[1]SkillConfig!$D:$AE,3,FALSE)","v":"天殇血刃剑"},"技能名称"]
[562,"技能名称预留，勿占","技能名称"]
[563,"技能名称预留，勿占","技能名称"]
[564,"技能名称预留，勿占","技能名称"]
[565,"技能名称预留，勿占","技能名称"]
[566,"技能名称预留，勿占","技能名称"]
[567,"技能名称预留，勿占","技能名称"]
[568,"技能名称预留，勿占","技能名称"]
[569,"技能名称预留，勿占","技能名称"]
[570,"技能名称预留，勿占","技能名称"]
[571,"技能名称预留，勿占","技能名称"]
[572,"技能名称预留，勿占","技能名称"]
[573,"技能名称预留，勿占","技能名称"]
[574,"技能名称预留，勿占","技能名称"]
[575,"技能名称预留，勿占","技能名称"]
[576,"技能名称预留，勿占","技能名称"]
[577,"技能名称预留，勿占","技能名称"]
[578,"技能名称预留，勿占","技能名称"]
[579,"技能名称预留，勿占","技能名称"]
[580,"技能名称预留，勿占","技能名称"]
[581,"技能名称预留，勿占","技能名称"]
[582,"技能名称预留，勿占","技能名称"]
[583,"技能名称预留，勿占","技能名称"]
[584,"技能名称预留，勿占","技能名称"]
[585,"技能名称预留，勿占","技能名称"]
[586,"技能名称预留，勿占","技能名称"]
[587,"技能名称预留，勿占","技能名称"]
[588,"技能名称预留，勿占","技能名称"]
[589,"技能名称预留，勿占","技能名称"]
[590,"技能名称预留，勿占","技能名称"]
[591,"技能名称预留，勿占","技能名称"]
[592,"技能名称预留，勿占","技能名称"]
[593,"技能名称预留，勿占","技能名称"]
[594,"技能名称预留，勿占","技能名称"]
[595,"技能名称预留，勿占","技能名称"]
[596,"技能名称预留，勿占","技能名称"]
[597,"技能名称预留，勿占","技能名称"]
[598,"技能名称预留，勿占","技能名称"]
[599,"技能名称预留，勿占","技能名称"]
[600,"技能名称预留，勿占","技能名称"]
[601,"技能名称预留，勿占","技能名称"]
[602,"技能名称预留，勿占","技能名称"]
[603,"技能名称预留，勿占","技能名称"]
[604,"技能名称预留，勿占","技能名称"]
[605,"技能名称预留，勿占","技能名称"]
[606,"技能名称预留，勿占","技能名称"]
[607,"技能名称预留，勿占","技能名称"]
[608,"技能名称预留，勿占","技能名称"]
[609,"技能名称预留，勿占","技能名称"]
[610,"技能名称预留，勿占","技能名称"]
[611,"技能名称预留，勿占","技能名称"]
[612,"技能名称预留，勿占","技能名称"]
[613,"技能名称预留，勿占","技能名称"]
[614,"技能名称预留，勿占","技能名称"]
[615,"技能名称预留，勿占","技能名称"]
[616,"技能名称预留，勿占","技能名称"]
[617,"技能名称预留，勿占","技能名称"]
[618,"技能名称预留，勿占","技能名称"]
[619,"技能名称预留，勿占","技能名称"]
[620,"技能名称预留，勿占","技能名称"]
[621,"技能名称预留，勿占","技能名称"]
[622,"技能名称预留，勿占","技能名称"]
[623,"技能名称预留，勿占","技能名称"]
[624,"技能名称预留，勿占","技能名称"]
[625,"技能名称预留，勿占","技能名称"]
[626,"技能名称预留，勿占","技能名称"]
[627,"技能名称预留，勿占","技能名称"]
[628,"技能名称预留，勿占","技能名称"]
[629,"技能名称预留，勿占","技能名称"]
[630,"技能名称预留，勿占","技能名称"]
[631,"技能名称预留，勿占","技能名称"]
[632,"技能名称预留，勿占","技能名称"]
[633,"技能名称预留，勿占","技能名称"]
[634,"技能名称预留，勿占","技能名称"]
[635,"技能名称预留，勿占","技能名称"]
[636,"技能名称预留，勿占","技能名称"]
[637,"技能名称预留，勿占","技能名称"]
[638,"技能名称预留，勿占","技能名称"]
[639,"技能名称预留，勿占","技能名称"]
[640,"技能名称预留，勿占","技能名称"]
[641,"技能名称预留，勿占","技能名称"]
[642,"技能名称预留，勿占","技能名称"]
[643,"技能名称预留，勿占","技能名称"]
[644,"技能名称预留，勿占","技能名称"]
[645,"技能名称预留，勿占","技能名称"]
[646,"技能名称预留，勿占","技能名称"]
[647,"技能名称预留，勿占","技能名称"]
[648,"技能名称预留，勿占","技能名称"]
[649,"技能名称预留，勿占","技能名称"]
[650,"技能名称预留，勿占","技能名称"]
[651,"技能名称预留，勿占","技能名称"]
[652,"技能名称预留，勿占","技能名称"]
[653,"技能名称预留，勿占","技能名称"]
[654,"技能名称预留，勿占","技能名称"]
[655,"技能名称预留，勿占","技能名称"]
[656,"技能名称预留，勿占","技能名称"]
[657,"技能名称预留，勿占","技能名称"]
[658,"技能名称预留，勿占","技能名称"]
[659,"技能名称预留，勿占","技能名称"]
[660,"技能名称预留，勿占","技能名称"]
[661,"技能名称预留，勿占","技能名称"]
[662,"技能名称预留，勿占","技能名称"]
[663,"技能名称预留，勿占","技能名称"]
[664,"技能名称预留，勿占","技能名称"]
[665,"技能名称预留，勿占","技能名称"]
[666,"技能名称预留，勿占","技能名称"]
[667,"技能名称预留，勿占","技能名称"]
[668,"技能名称预留，勿占","技能名称"]
[669,"技能名称预留，勿占","技能名称"]
[670,"技能名称预留，勿占","技能名称"]
[671,"技能名称预留，勿占","技能名称"]
[672,"技能名称预留，勿占","技能名称"]
[673,"技能名称预留，勿占","技能名称"]
[674,"技能名称预留，勿占","技能名称"]
[675,"技能名称预留，勿占","技能名称"]
[676,"技能名称预留，勿占","技能名称"]
[677,"技能名称预留，勿占","技能名称"]
[678,"技能名称预留，勿占","技能名称"]
[679,"技能名称预留，勿占","技能名称"]
[680,"技能名称预留，勿占","技能名称"]
[681,"技能名称预留，勿占","技能名称"]
[682,"技能名称预留，勿占","技能名称"]
[683,"技能名称预留，勿占","技能名称"]
[684,"技能名称预留，勿占","技能名称"]
[685,"技能名称预留，勿占","技能名称"]
[686,"技能名称预留，勿占","技能名称"]
[687,"技能名称预留，勿占","技能名称"]
[688,"技能名称预留，勿占","技能名称"]
[689,"技能名称预留，勿占","技能名称"]
[690,"技能名称预留，勿占","技能名称"]
[691,"技能名称预留，勿占","技能名称"]
[692,"技能名称预留，勿占","技能名称"]
[693,"技能名称预留，勿占","技能名称"]
[694,"技能名称预留，勿占","技能名称"]
[695,"技能名称预留，勿占","技能名称"]
[696,"星辰道"]
[697,"生衍道"]
[698,"玄黄道 "]
[699,"每次释放功法时获得{0}点能量，{1}点能量后提升{2}%转盘速度和{3}%攻击速度，持续{4}秒。"]
[700,"功法拥有生息之能，每次使用功法能获得1对应属性的充能，充能满后获得对应属性的加成 \n{0}金：提升{1}%攻击力 ,最大{2}%\n{0}木：恢复{3}%生命 \n{0}水：治疗最严重的伤势，使其伤势-{4} \n{0}火：功法强度提升{5}%，最大{6}%\n{0}土：玩家防御提升{7}%，最大{8}%"]
[701,"每次使用功法时在当前位置留下一道属性印记，下一个放上来的功法如果和以前功法相生则功法效果提升{0}%，每次使用功法时都会治疗对应相生属性的{1}伤势。（均衡性功法搭配，转盘改变，变为金、水、木、火、土）\n"]
[702,"怪物技能1"]
[703,"怪物技能1"]
[704,"怪物技能1"]
[705,"怪物技能1"]
[706,"怪物技能1"]
[707,"boss第一个技能"]
[708,"boss第一个技能"]
[709,"boss第一个技能"]
[710,"boss第一个技能"]
[711,"boss第一个技能"]
[712]
[713]
[714]
[715]
[716]
[717,"伤害很高）(前摇时间长)：很多剑从远处汇聚到boss周围，然后以一字行快速贯穿目标对目标照成{0}伤害，每命中目标肉体{1}次防御削减{2}%，目标肉体{3}次所有伤势+{4}  \n,如果目标上有剑毅，每丙剑消耗{5}层剑毅让敌人受到{6}额外的伤害"]
[718,"（2转，防御型技能）：身体周围围绕多丙剑飞行，可以阻挡敌人的功法.抵挡{0}最大生命值的伤害"]
[719,"剑祖的攻击会让目标受到一层剑毅"]
[720,"发射2丙剑，对敌人照成{0}伤害"]
[721,"发射2丙剑，对敌人照成{0}伤害"]
[722,"最终生命+{0}%"]
[723,"最终攻击+{0}%"]
[724,"最终防御+{0}%"]
[725,"功法灵气"]
[726,"[临]灵气的描述"]
[727,"剑诀碎片"]
[728,"烈焰斩碎片"]
[729,"瘴影千丝术碎片"]
[730,"雾隐千流法碎片"]
[731,"碧落幽冥劲碎片"]
[732,"法宝秘籍碎片"]
[733,"双生面具碎片"]
[734,"火灵丹碎片"]
[735,"巨大化碎片"]
[736,"极速齿轮碎片"]
[737,"崩脉决碎片"]
[738,"用于对应功法的升星"]
[739,{"$f":"VLOOKUP(A742,[1]SkillConfig!$E:$G,3,FALSE)","v":"身体周围幻化出{0}柄细剑，每柄细剑对敌人造成{1}%伤害，并有{2}几率对敌人造成1层流血。"},"技能描述"]
[740,{"$f":"VLOOKUP(A743,[1]SkillConfig!$E:$G,3,FALSE)","v":"身体周围幻化出{0}柄细剑，每柄细剑对敌人造成{1}%伤害，并有{2}几率对敌人造成1层流血。"},"技能描述"]
[741,{"$f":"VLOOKUP(A744,[1]SkillConfig!$E:$G,3,FALSE)","v":"身体周围幻化出{0}柄细剑，每柄细剑对敌人造成{1}%伤害，并有{2}几率对敌人造成1层流血。"},"技能描述"]
[742,{"$f":"VLOOKUP(A745,[1]SkillConfig!$E:$G,3,FALSE)","v":"身体周围幻化出{0}柄细剑，每柄细剑对敌人造成{1}%伤害，并有{2}几率对敌人造成1层流血。\n如果敌人有减益状态，则虚剑伤害提升{3}%。"},"技能描述"]
[743,{"$f":"VLOOKUP(A746,[1]SkillConfig!$E:$G,3,FALSE)","v":"身体周围幻化出{0}柄细剑，每柄细剑对敌人造成{1}%伤害，并有{2}几率对敌人造成1层流血。\n如果敌人有减益状态，则虚剑伤害提升{3}%。"},"技能描述"]
[744,{"$f":"VLOOKUP(A747,[1]SkillConfig!$E:$G,3,FALSE)","v":"身体周围幻化出{0}柄更大体型的虚剑，每柄虚剑对敌人造成{1}%伤害，并有{2}几率对敌人造成1层流血。\n如果敌人有减益状态，则虚剑伤害提升{3}%。"},"技能描述"]
[745,{"$f":"VLOOKUP(A748,[1]SkillConfig!$E:$G,3,FALSE)","v":"吸收自身灵气凝聚{0}柄大剑，大剑旋转快速穿透敌人对敌人照成{1}%伤害"},"技能描述"]
[746,{"$f":"VLOOKUP(A749,[1]SkillConfig!$E:$G,3,FALSE)","v":"吸收自身灵气凝聚{0}柄大剑，大剑旋转快速穿透敌人对敌人照成{1}%伤害\n敌人如果在流血或放血状态，对敌人造成的伤害+{2}%"},"技能描述"]
[747,{"$f":"VLOOKUP(A750,[1]SkillConfig!$E:$G,3,FALSE)","v":"吸收自身灵气凝聚{0}柄大剑，大剑旋转快速穿透敌人对敌人照成{1}%伤害\n敌人如果在流血或放血状态，对敌人造成的伤害+{2}%"},"技能描述"]
[748,{"$f":"VLOOKUP(A751,[1]SkillConfig!$E:$G,3,FALSE)","v":"吸收自身灵气凝聚{0}柄大剑，大剑旋转快速穿透敌人对敌人照成{1}%伤害\n敌人如果在流血或放血状态，对敌人造成的伤害+{2}%\n重伤敌人后，如果目标没在放血状态，直接放血且不消耗流血层数"},"技能描述"]
[749,{"$f":"VLOOKUP(A752,[1]SkillConfig!$E:$G,3,FALSE)","v":"吸收自身灵气凝聚{0}柄大剑，大剑旋转快速穿透敌人对敌人照成{1}%伤害\n敌人如果在流血或放血状态，对敌人造成的伤害+{2}%\n重伤敌人后，如果目标没在放血状态，直接放血且不消耗流血层数"},"技能描述"]
[750,{"$f":"VLOOKUP(A753,[1]SkillConfig!$E:$G,3,FALSE)","v":"吸收自身灵气凝聚{0}柄大剑，大剑旋转快速穿透敌人对敌人照成{1}%伤害\n敌人如果在流血或放血状态，对敌人造成的伤害+{2}%\n重伤敌人后，如果目标没在放血状态，直接放血且不消耗流血层数\n全盛状态，剑的体型变大，对拼强度+{3}%，伤害提升{4}%"},"技能描述"]
[751,{"$f":"VLOOKUP(A754,[1]SkillConfig!$E:$G,3,FALSE)","v":"向前方挥动{0}次，每次挥动形成一道血刃刀气，对敌人{1}造成伤害，并有{2}%概率对敌人造成流血。"},"技能描述"]
[752,{"$f":"VLOOKUP(A755,[1]SkillConfig!$E:$G,3,FALSE)","v":"向前方挥动{0}次，每次挥动形成一道血刃刀气，对敌人{1}造成伤害，并有{2}%概率对敌人造成流血。\n刀气命中目标后，恢复本次伤害{3}%的生命。"},"技能描述"]
[753,{"$f":"VLOOKUP(A756,[1]SkillConfig!$E:$G,3,FALSE)","v":"向前方挥动{0}次，每次挥动形成一道血刃刀气，对敌人{1}造成伤害，并有{2}%概率对敌人造成流血。\n刀气命中目标后，恢复本次伤害{3}%的生命。"},"技能描述"]
[754,{"$f":"VLOOKUP(A757,[1]SkillConfig!$E:$G,3,FALSE)","v":"向前方挥动{0}次，每次挥动形成一道血刃刀气，对敌人{1}造成伤害，并有{2}%概率对敌人造成流血。\n刀气命中目标后，恢复本次伤害{3}%的生命。"},"技能描述"]
[755,{"$f":"VLOOKUP(A758,[1]SkillConfig!$E:$G,3,FALSE)","v":"向前方挥动{0}次，每次挥动形成一道血刃刀气，对敌人{1}造成伤害，并有{2}%概率对敌人造成流血。\n刀气命中目标后，恢复本次伤害{3}%的生命。"},"技能描述"]
[756,{"$f":"VLOOKUP(A759,[1]SkillConfig!$E:$G,3,FALSE)","v":"向前方挥动{0}次，每次挥动形成一道血刃刀气，对敌人{1}造成伤害，并有{2}%概率对敌人造成流血。\n刀气命中目标后，恢复本次伤害{3}%的生命。\n刀气对流血的敌人额外造成{4}%伤害，且再施加1层流血。"},"技能描述"]
[757,{"$f":"VLOOKUP(A760,[1]SkillConfig!$E:$G,3,FALSE)","v":"发射{0}枚飞刀，对敌人造成{1}%伤害。"},"技能描述"]
[758,{"$f":"VLOOKUP(A761,[1]SkillConfig!$E:$G,3,FALSE)","v":"发射{0}枚飞刀，对敌人造成{1}%伤害。"},"技能描述"]
[759,{"$f":"VLOOKUP(A762,[1]SkillConfig!$E:$G,3,FALSE)","v":"发射{0}枚飞刀，对敌人造成{1}%伤害。"},"技能描述"]
[760,{"$f":"VLOOKUP(A763,[1]SkillConfig!$E:$G,3,FALSE)","v":"发射{0}枚飞刀，对敌人造成{1}%伤害。"},"技能描述"]
[761,{"$f":"VLOOKUP(A764,[1]SkillConfig!$E:$G,3,FALSE)","v":"发射{0}枚飞刀，对敌人造成{1}%伤害。"},"技能描述"]
[762,{"$f":"VLOOKUP(A765,[1]SkillConfig!$E:$G,3,FALSE)","v":"发射{0}枚飞刀，对敌人造成{1}%伤害。"},"技能描述"]
[763,{"$f":"VLOOKUP(A766,[1]SkillConfig!$E:$G,3,FALSE)","v":"手中快速发射{0}%枚金针，对敌人造成{1}%伤害，并有{2}%概率施加1层流血。"},"技能描述"]
[764,{"$f":"VLOOKUP(A767,[1]SkillConfig!$E:$G,3,FALSE)","v":"手中快速发射{0}%枚金针，对敌人造成{1}%伤害，并有{2}%概率施加1层流血。"},"技能描述"]
[765,{"$f":"VLOOKUP(A768,[1]SkillConfig!$E:$G,3,FALSE)","v":"手中快速发射{0}%枚金针，对敌人造成{1}%伤害，并有{2}%概率施加1层流血。"},"技能描述"]
[766,{"$f":"VLOOKUP(A769,[1]SkillConfig!$E:$G,3,FALSE)","v":"手中快速发射{0}%枚金针，对敌人造成{1}%伤害，并有{2}%概率施加1层流血。"},"技能描述"]
[767,{"$f":"VLOOKUP(A770,[1]SkillConfig!$E:$G,3,FALSE)","v":"手中快速发射{0}%枚金针，对敌人造成{1}%伤害，并有{2}%概率施加1层流血。"},"技能描述"]
[768,{"$f":"VLOOKUP(A771,[1]SkillConfig!$E:$G,3,FALSE)","v":"手中快速发射{0}%枚金针，对敌人造成{1}%伤害，并有{2}%概率施加1层流血。"},"技能描述"]
[769,{"$f":"VLOOKUP(A772,[1]SkillConfig!$E:$G,3,FALSE)","v":"发出{0}道寒气冰锥，对敌人照成{1}%伤害，每到冰锥有{2}%概率对敌人施加1层寒气"},"技能描述"]
[770,{"$f":"VLOOKUP(A773,[1]SkillConfig!$E:$G,3,FALSE)","v":"发出{0}道寒气冰锥，对敌人照成{1}%伤害，每到冰锥有{2}%概率对敌人施加1层寒气"},"技能描述"]
[771,{"$f":"VLOOKUP(A774,[1]SkillConfig!$E:$G,3,FALSE)","v":"发出{0}道寒气冰锥，对敌人照成{1}%伤害，每到冰锥有{2}%概率对敌人施加1层寒气"},"技能描述"]
[772,{"$f":"VLOOKUP(A775,[1]SkillConfig!$E:$G,3,FALSE)","v":"发出{0}道寒气冰锥，对敌人照成{1}%伤害，每到冰锥有{2}%概率对敌人施加1层寒气"},"技能描述"]
[773,{"$f":"VLOOKUP(A776,[1]SkillConfig!$E:$G,3,FALSE)","v":"发出{0}道寒气冰锥，对敌人照成{1}%伤害，每到冰锥有{2}%概率对敌人施加1层寒气"},"技能描述"]
[774,{"$f":"VLOOKUP(A777,[1]SkillConfig!$E:$G,3,FALSE)","v":"发出{0}道寒气冰锥，对敌人照成{1}%伤害，每到冰锥有{2}%概率对敌人施加1层寒气"},"技能描述"]
[775,{"$f":"VLOOKUP(A778,[1]SkillConfig!$E:$G,3,FALSE)","v":"身体散发出一团迷雾。从迷雾中飞出{0}个冰球，每个冰球对敌人照成{1}%伤害，并有{2}%概率施加1层寒气"},"技能描述"]
[776,{"$f":"VLOOKUP(A779,[1]SkillConfig!$E:$G,3,FALSE)","v":"身体散发出一团迷雾。从迷雾中飞出{0}个冰球，每个冰球对敌人照成{1}%伤害，并有{2}%概率施加1层寒气"},"技能描述"]
[777,{"$f":"VLOOKUP(A780,[1]SkillConfig!$E:$G,3,FALSE)","v":"身体散发出一团迷雾。从迷雾中飞出{0}个冰球，每个冰球对敌人照成{1}%伤害，并有{2}%概率施加1层寒气"},"技能描述"]
[778,{"$f":"VLOOKUP(A781,[1]SkillConfig!$E:$G,3,FALSE)","v":"身体散发出一团迷雾。从迷雾中飞出{0}个冰球，每个冰球对敌人照成{1}%伤害，并有{2}%概率施加1层寒气"},"技能描述"]
[779,{"$f":"VLOOKUP(A782,[1]SkillConfig!$E:$G,3,FALSE)","v":"身体散发出一团迷雾。从迷雾中飞出{0}个冰球，每个冰球对敌人照成{1}%伤害，并有{2}%概率施加1层寒气"},"技能描述"]
[780,{"$f":"VLOOKUP(A783,[1]SkillConfig!$E:$G,3,FALSE)","v":"身体散发出一团迷雾。从迷雾中飞出{0}个冰球，每个冰球对敌人照成{1}%伤害，并有{2}%概率施加1层寒气"},"技能描述"]
[781,{"$f":"VLOOKUP(A784,[1]SkillConfig!$E:$G,3,FALSE)","v":"占位"},"技能描述"]
[782,{"$f":"VLOOKUP(A785,[1]SkillConfig!$E:$G,3,FALSE)","v":"占位"},"技能描述"]
[783,{"$f":"VLOOKUP(A786,[1]SkillConfig!$E:$G,3,FALSE)","v":"占位"},"技能描述"]
[784,{"$f":"VLOOKUP(A787,[1]SkillConfig!$E:$G,3,FALSE)","v":"占位"},"技能描述"]
[785,{"$f":"VLOOKUP(A788,[1]SkillConfig!$E:$G,3,FALSE)","v":"占位"},"技能描述"]
[786,{"$f":"VLOOKUP(A789,[1]SkillConfig!$E:$G,3,FALSE)","v":"占位"},"技能描述"]
[787,{"$f":"VLOOKUP(A790,[1]SkillConfig!$E:$G,3,FALSE)","v":"发射{0}枚冰刀，对敌人造成{1}%伤害。"},"技能描述"]
[788,{"$f":"VLOOKUP(A791,[1]SkillConfig!$E:$G,3,FALSE)","v":"发射{0}枚冰刀，对敌人造成{1}%伤害。"},"技能描述"]
[789,{"$f":"VLOOKUP(A792,[1]SkillConfig!$E:$G,3,FALSE)","v":"发射{0}枚冰刀，对敌人造成{1}%伤害。"},"技能描述"]
[790,{"$f":"VLOOKUP(A793,[1]SkillConfig!$E:$G,3,FALSE)","v":"发射{0}枚冰刀，对敌人造成{1}%伤害。"},"技能描述"]
[791,{"$f":"VLOOKUP(A794,[1]SkillConfig!$E:$G,3,FALSE)","v":"发射{0}枚冰刀，对敌人造成{1}%伤害。"},"技能描述"]
[792,{"$f":"VLOOKUP(A795,[1]SkillConfig!$E:$G,3,FALSE)","v":"发射{0}枚冰刀，对敌人造成{1}%伤害。"},"技能描述"]
[793,{"$f":"VLOOKUP(A796,[1]SkillConfig!$E:$G,3,FALSE)","v":"发出{0}条细细的毒针，每颗针对敌人照成{1}%金系伤害，每颗针有{2}%概率施加1层毒"},"技能描述"]
[794,{"$f":"VLOOKUP(A797,[1]SkillConfig!$E:$G,3,FALSE)","v":"发出{0}条细细的毒针，每颗针对敌人照成{1}%金系伤害，每颗针有{2}%概率施加1层毒"},"技能描述"]
[795,{"$f":"VLOOKUP(A798,[1]SkillConfig!$E:$G,3,FALSE)","v":"发出{0}条细细的毒针，每颗针对敌人照成{1}%金系伤害，每颗针有{2}%概率施加1层毒"},"技能描述"]
[796,{"$f":"VLOOKUP(A799,[1]SkillConfig!$E:$G,3,FALSE)","v":"发出{0}条细细的毒针，每颗针对敌人照成{1}%金系伤害，每颗针有{2}%概率施加1层毒"},"技能描述"]
[797,{"$f":"VLOOKUP(A800,[1]SkillConfig!$E:$G,3,FALSE)","v":"发出{0}条细细的毒针，每颗针对敌人照成{1}%金系伤害，每颗针有{2}%概率施加1层毒"},"技能描述"]
[798,{"$f":"VLOOKUP(A801,[1]SkillConfig!$E:$G,3,FALSE)","v":"发出{0}条细细的毒针，每颗针对敌人照成{1}%金系伤害，每颗针有{2}%概率施加1层毒"},"技能描述"]
[799,{"$f":"VLOOKUP(A802,[1]SkillConfig!$E:$G,3,FALSE)","v":"快手释放{0}掌，对敌人造成{1}%伤害，并有{2}%几率对敌人施加1层毒，如果敌人毒超过{3}层，则每层毒对敌人的伤害提升{4}%，并有{5}%几率施加一层噬魂。"},"技能描述"]
[800,{"$f":"VLOOKUP(A803,[1]SkillConfig!$E:$G,3,FALSE)","v":"快手释放{0}掌，对敌人造成{1}%伤害，并有{2}%几率对敌人施加1层毒，如果敌人毒超过{3}层，则每层毒对敌人的伤害提升{4}%，并有{5}%几率施加一层噬魂。"},"技能描述"]
[801,{"$f":"VLOOKUP(A804,[1]SkillConfig!$E:$G,3,FALSE)","v":"快手释放{0}掌，对敌人造成{1}%伤害，并有{2}%几率对敌人施加1层毒，如果敌人毒超过{3}层，则每层毒对敌人的伤害提升{4}%，并有{5}%几率施加一层噬魂。"},"技能描述"]
[802,{"$f":"VLOOKUP(A805,[1]SkillConfig!$E:$G,3,FALSE)","v":"快手释放{0}掌，对敌人造成{1}%伤害，并有{2}%几率对敌人施加1层毒，如果敌人毒超过{3}层，则每层毒对敌人的伤害提升{4}%，并有{5}%几率施加一层噬魂。"},"技能描述"]
[803,{"$f":"VLOOKUP(A806,[1]SkillConfig!$E:$G,3,FALSE)","v":"快手释放{0}掌，对敌人造成{1}%伤害，并有{2}%几率对敌人施加1层毒，如果敌人毒超过{3}层，则每层毒对敌人的伤害提升{4}%，并有{5}%几率施加一层噬魂。"},"技能描述"]
[804,{"$f":"VLOOKUP(A807,[1]SkillConfig!$E:$G,3,FALSE)","v":"快手释放{0}掌，对敌人造成{1}%伤害，并有{2}%几率对敌人施加1层毒，如果敌人毒超过{3}层，则每层毒对敌人的伤害提升{4}%，并有{5}%几率施加一层噬魂。"},"技能描述"]
[805,{"$f":"VLOOKUP(A808,[1]SkillConfig!$E:$G,3,FALSE)","v":"占位"},"技能描述"]
[806,{"$f":"VLOOKUP(A809,[1]SkillConfig!$E:$G,3,FALSE)","v":"占位"},"技能描述"]
[807,{"$f":"VLOOKUP(A810,[1]SkillConfig!$E:$G,3,FALSE)","v":"占位"},"技能描述"]
[808,{"$f":"VLOOKUP(A811,[1]SkillConfig!$E:$G,3,FALSE)","v":"占位"},"技能描述"]
[809,{"$f":"VLOOKUP(A812,[1]SkillConfig!$E:$G,3,FALSE)","v":"占位"},"技能描述"]
[810,{"$f":"VLOOKUP(A813,[1]SkillConfig!$E:$G,3,FALSE)","v":"占位"},"技能描述"]
[811,{"$f":"VLOOKUP(A814,[1]SkillConfig!$E:$G,3,FALSE)","v":"发射{0}枚飞叶，对敌人造成{1}%伤害。"},"技能描述"]
[812,{"$f":"VLOOKUP(A815,[1]SkillConfig!$E:$G,3,FALSE)","v":"发射{0}枚飞叶，对敌人造成{1}%伤害。"},"技能描述"]
[813,{"$f":"VLOOKUP(A816,[1]SkillConfig!$E:$G,3,FALSE)","v":"发射{0}枚飞叶，对敌人造成{1}%伤害。"},"技能描述"]
[814,{"$f":"VLOOKUP(A817,[1]SkillConfig!$E:$G,3,FALSE)","v":"发射{0}枚飞叶，对敌人造成{1}%伤害。"},"技能描述"]
[815,{"$f":"VLOOKUP(A818,[1]SkillConfig!$E:$G,3,FALSE)","v":"发射{0}枚飞叶，对敌人造成{1}%伤害。"},"技能描述"]
[816,{"$f":"VLOOKUP(A819,[1]SkillConfig!$E:$G,3,FALSE)","v":"发射{0}枚飞叶，对敌人造成{1}%伤害。"},"技能描述"]
[817,{"$f":"VLOOKUP(A820,[1]SkillConfig!$E:$G,3,FALSE)","v":"向前方发出{0}柄剑，对敌人造成{1}%火系伤害，并有{2}%的概率施加1层灼烧。"},"技能描述"]
[818,{"$f":"VLOOKUP(A821,[1]SkillConfig!$E:$G,3,FALSE)","v":"向前方发出{0}柄剑，对敌人造成{1}%火系伤害，并有{2}%的概率施加1层灼烧。"},"技能描述"]
[819,{"$f":"VLOOKUP(A822,[1]SkillConfig!$E:$G,3,FALSE)","v":"向前方发出{0}柄剑，对敌人造成{1}%火系伤害，并有{2}%的概率施加1层灼烧。"},"技能描述"]
[820,{"$f":"VLOOKUP(A823,[1]SkillConfig!$E:$G,3,FALSE)","v":"向前方发出{0}柄剑，对敌人造成{1}%火系伤害，并有{2}%的概率施加1层灼烧。"},"技能描述"]
[821,{"$f":"VLOOKUP(A824,[1]SkillConfig!$E:$G,3,FALSE)","v":"向前方发出{0}柄剑，对敌人造成{1}%火系伤害，并有{2}%的概率施加1层灼烧。"},"技能描述"]
[822,{"$f":"VLOOKUP(A825,[1]SkillConfig!$E:$G,3,FALSE)","v":"向前方发出{0}柄剑，对敌人造成{1}%火系伤害，并有{2}%的概率施加1层灼烧。\n每柄烈焰剑将会对敌人照成爆燃，爆燃额外受到{3}%伤害"},"技能描述"]
[823,{"$f":"VLOOKUP(A826,[1]SkillConfig!$E:$G,3,FALSE)","v":"飞出{0}道巨龙，对敌人造成{1}火系伤害。"},"技能描述"]
[824,{"$f":"VLOOKUP(A827,[1]SkillConfig!$E:$G,3,FALSE)","v":"飞出{0}道巨龙，对敌人造成{1}火系伤害。\n如果敌人处于灼烧中对其造成胆摄，眩晕敌人{2}秒。"},"技能描述"]
[825,{"$f":"VLOOKUP(A828,[1]SkillConfig!$E:$G,3,FALSE)","v":"飞出{0}道巨龙，对敌人造成{1}火系伤害。\n如果敌人处于灼烧中对其造成胆摄，眩晕敌人{2}秒。"},"技能描述"]
[826,{"$f":"VLOOKUP(A829,[1]SkillConfig!$E:$G,3,FALSE)","v":"飞出{0}道巨龙，对敌人造成{1}火系伤害并{3}%施加1层灼烧。\n如果敌人处于灼烧中对其造成胆摄，眩晕敌人{2}秒。"},"技能描述"]
[827,{"$f":"VLOOKUP(A830,[1]SkillConfig!$E:$G,3,FALSE)","v":"飞出{0}道巨龙，对敌人造成{1}火系伤害并{3}%施加1层灼烧。\n如果敌人处于灼烧中对其造成胆摄，眩晕敌人{2}秒。"},"技能描述"]
[828,{"$f":"VLOOKUP(A831,[1]SkillConfig!$E:$G,3,FALSE)","v":"飞出{0}道巨龙，对敌人造成{1}火系伤害并{3}%施加1层灼烧。\n如果敌人处于灼烧中对其造成胆摄，眩晕敌人{2}秒。\n飞龙命中目标后引发天雷，对敌人额外造成{4}%伤害。"},"技能描述"]
[829,{"$f":"VLOOKUP(A832,[1]SkillConfig!$E:$G,3,FALSE)","v":"身后出现一只大手，每个手指发射{0}道烈焰，对敌人照成{1}伤害同时{2}%概率施加1层灼烧。"},"技能描述"]
[830,{"$f":"VLOOKUP(A833,[1]SkillConfig!$E:$G,3,FALSE)","v":"身后出现一只大手，每个手指发射{0}道烈焰，对敌人照成{1}伤害同时{2}%概率施加1层灼烧。\n对有灼烧的敌人额外造成{3}%最终伤害。"},"技能描述"]
[831,{"$f":"VLOOKUP(A834,[1]SkillConfig!$E:$G,3,FALSE)","v":"身后出现一只大手，每个手指发射{0}道烈焰，对敌人照成{1}伤害同时{2}%概率施加1层灼烧。\n对有灼烧的敌人额外造成{3}%最终伤害。"},"技能描述"]
[832,{"$f":"VLOOKUP(A835,[1]SkillConfig!$E:$G,3,FALSE)","v":"身后出现一只大手，每个手指发射{0}道烈焰，对敌人照成{1}伤害同时{2}%概率施加1层灼烧。\n对有灼烧的敌人额外造成{3}%最终伤害。"},"技能描述"]
[833,{"$f":"VLOOKUP(A836,[1]SkillConfig!$E:$G,3,FALSE)","v":"身后出现一只大手，每个手指发射{0}道烈焰，对敌人照成{1}伤害同时{2}%概率施加1层灼烧。\n对有灼烧的敌人额外造成{3}%最终伤害。"},"技能描述"]
[834,{"$f":"VLOOKUP(A837,[1]SkillConfig!$E:$G,3,FALSE)","v":"身后出现一只大手，每个手指发射{0}道烈焰，对敌人照成{1}伤害同时{2}%概率施加1层灼烧。\n对有灼烧的敌人额外造成{3}%最终伤害。\n在左右各出现一只大手发射烈焰，但每道烈焰伤害降低{4}%。"},"技能描述"]
[835,{"$f":"VLOOKUP(A838,[1]SkillConfig!$E:$G,3,FALSE)","v":"发射{0}枚火球，对敌人造成{1}%伤害。又{2}概率对敌人施加1成灼烧"},"技能描述"]
[836,{"$f":"VLOOKUP(A839,[1]SkillConfig!$E:$G,3,FALSE)","v":"发射{0}枚火球，对敌人造成{1}%伤害。又{2}概率对敌人施加1成灼烧"},"技能描述"]
[837,{"$f":"VLOOKUP(A840,[1]SkillConfig!$E:$G,3,FALSE)","v":"发射{0}枚火球，对敌人造成{1}%伤害。又{2}概率对敌人施加1成灼烧"},"技能描述"]
[838,{"$f":"VLOOKUP(A841,[1]SkillConfig!$E:$G,3,FALSE)","v":"发射{0}枚火球，对敌人造成{1}%伤害。又{2}概率对敌人施加1成灼烧"},"技能描述"]
[839,{"$f":"VLOOKUP(A842,[1]SkillConfig!$E:$G,3,FALSE)","v":"发射{0}枚火球，对敌人造成{1}%伤害。又{2}概率对敌人施加1成灼烧"},"技能描述"]
[840,{"$f":"VLOOKUP(A843,[1]SkillConfig!$E:$G,3,FALSE)","v":"发射{0}枚火球，对敌人造成{1}%伤害。又{2}概率对敌人施加1成灼烧"},"技能描述"]
[841,{"$f":"VLOOKUP(A844,[1]SkillConfig!$E:$G,3,FALSE)","v":"发射{0}枚火刃，对敌人造成{1}%伤害。"},"技能描述"]
[842,{"$f":"VLOOKUP(A845,[1]SkillConfig!$E:$G,3,FALSE)","v":"发射{0}枚火刃，对敌人造成{1}%伤害。"},"技能描述"]
[843,{"$f":"VLOOKUP(A846,[1]SkillConfig!$E:$G,3,FALSE)","v":"发射{0}枚火刃，对敌人造成{1}%伤害。"},"技能描述"]
[844,{"$f":"VLOOKUP(A847,[1]SkillConfig!$E:$G,3,FALSE)","v":"发射{0}枚火刃，对敌人造成{1}%伤害。"},"技能描述"]
[845,{"$f":"VLOOKUP(A848,[1]SkillConfig!$E:$G,3,FALSE)","v":"发射{0}枚火刃，对敌人造成{1}%伤害。"},"技能描述"]
[846,{"$f":"VLOOKUP(A849,[1]SkillConfig!$E:$G,3,FALSE)","v":"发射{0}枚火刃，对敌人造成{1}%伤害。"},"技能描述"]
[847,{"$f":"VLOOKUP(A850,[1]SkillConfig!$E:$G,3,FALSE)","v":"沙尘汇聚成{0}枚土刺，对敌人造成{1}%伤害，并有{2}%概率施加1层细尘。"},"技能描述"]
[848,{"$f":"VLOOKUP(A851,[1]SkillConfig!$E:$G,3,FALSE)","v":"沙尘汇聚成{0}枚土刺，对敌人造成{1}%伤害，并有{2}%概率施加1层细尘。"},"技能描述"]
[849,{"$f":"VLOOKUP(A852,[1]SkillConfig!$E:$G,3,FALSE)","v":"沙尘汇聚成{0}枚土刺，对敌人造成{1}%伤害，并有{2}%概率施加1层细尘。"},"技能描述"]
[850,{"$f":"VLOOKUP(A853,[1]SkillConfig!$E:$G,3,FALSE)","v":"沙尘汇聚成{0}枚土刺，对敌人造成{1}%伤害，并有{2}%概率施加1层细尘。"},"技能描述"]
[851,{"$f":"VLOOKUP(A854,[1]SkillConfig!$E:$G,3,FALSE)","v":"沙尘汇聚成{0}枚土刺，对敌人造成{1}%伤害，并有{2}%概率施加1层细尘。"},"技能描述"]
[852,{"$f":"VLOOKUP(A855,[1]SkillConfig!$E:$G,3,FALSE)","v":"沙尘汇聚成{0}枚土刺，对敌人造成{1}%伤害，并有{2}%概率施加1层细尘。"},"技能描述"]
[853,{"$f":"VLOOKUP(A856,[1]SkillConfig!$E:$G,3,FALSE)","v":"一柄虚空形成的大刀，横空挥砍形成{0}个刀气，对敌人造成{1}%伤害，并有{2}%概率叠加1层破甲"},"技能描述"]
[854,{"$f":"VLOOKUP(A857,[1]SkillConfig!$E:$G,3,FALSE)","v":"一柄虚空形成的大刀，横空挥砍形成{0}个刀气，对敌人造成{1}%伤害，并有{2}%概率叠加1层破甲"},"技能描述"]
[855,{"$f":"VLOOKUP(A858,[1]SkillConfig!$E:$G,3,FALSE)","v":"一柄虚空形成的大刀，横空挥砍形成{0}个刀气，对敌人造成{1}%伤害，并有{2}%概率叠加1层破甲"},"技能描述"]
[856,{"$f":"VLOOKUP(A859,[1]SkillConfig!$E:$G,3,FALSE)","v":"一柄虚空形成的大刀，横空挥砍形成{0}个刀气，对敌人造成{1}%伤害，并有{2}%概率叠加1层破甲"},"技能描述"]
[857,{"$f":"VLOOKUP(A860,[1]SkillConfig!$E:$G,3,FALSE)","v":"一柄虚空形成的大刀，横空挥砍形成{0}个刀气，对敌人造成{1}%伤害，并有{2}%概率叠加1层破甲"},"技能描述"]
[858,{"$f":"VLOOKUP(A861,[1]SkillConfig!$E:$G,3,FALSE)","v":"一柄虚空形成的大刀，横空挥砍形成{0}个刀气，对敌人造成{1}%伤害，并有{2}%概率叠加1层破甲"},"技能描述"]
[859,{"$f":"VLOOKUP(A862,[1]SkillConfig!$E:$G,3,FALSE)","v":"占位"},"技能描述"]
[860,{"$f":"VLOOKUP(A863,[1]SkillConfig!$E:$G,3,FALSE)","v":"占位"},"技能描述"]
[861,{"$f":"VLOOKUP(A864,[1]SkillConfig!$E:$G,3,FALSE)","v":"占位"},"技能描述"]
[862,{"$f":"VLOOKUP(A865,[1]SkillConfig!$E:$G,3,FALSE)","v":"占位"},"技能描述"]
[863,{"$f":"VLOOKUP(A866,[1]SkillConfig!$E:$G,3,FALSE)","v":"占位"},"技能描述"]
[864,{"$f":"VLOOKUP(A867,[1]SkillConfig!$E:$G,3,FALSE)","v":"占位"},"技能描述"]
[865,{"$f":"VLOOKUP(A868,[1]SkillConfig!$E:$G,3,FALSE)","v":"发射{0}枚小石头，对敌人造成{1}%伤害。"},"技能描述"]
[866,{"$f":"VLOOKUP(A869,[1]SkillConfig!$E:$G,3,FALSE)","v":"发射{0}枚小石头，对敌人造成{1}%伤害。"},"技能描述"]
[867,{"$f":"VLOOKUP(A870,[1]SkillConfig!$E:$G,3,FALSE)","v":"发射{0}枚小石头，对敌人造成{1}%伤害。"},"技能描述"]
[868,{"$f":"VLOOKUP(A871,[1]SkillConfig!$E:$G,3,FALSE)","v":"发射{0}枚小石头，对敌人造成{1}%伤害。"},"技能描述"]
[869,{"$f":"VLOOKUP(A872,[1]SkillConfig!$E:$G,3,FALSE)","v":"发射{0}枚小石头，对敌人造成{1}%伤害。"},"技能描述"]
[870,{"$f":"VLOOKUP(A873,[1]SkillConfig!$E:$G,3,FALSE)","v":"发射{0}枚小石头，对敌人造成{1}%伤害。"},"技能描述"]
[871,{"$f":"VLOOKUP(A874,[1]SkillConfig!$E:$G,3,FALSE)","v":"引星辰之力入体，增强玩家体魄，\n让后方槽位的功法无视防御性护盾（功法法宝带来的防护罩、自身护盾）"},"技能描述"]
[872,{"$f":"VLOOKUP(A875,[1]SkillConfig!$E:$G,3,FALSE)","v":"引星辰之力入体，增强玩家体魄，\n让后方槽位的功法无视防御性护盾（功法法宝带来的防护罩、自身护盾）"},"技能描述"]
[873,{"$f":"VLOOKUP(A876,[1]SkillConfig!$E:$G,3,FALSE)","v":"引星辰之力入体，增强玩家体魄，\n让后方槽位的功法无视防御性护盾（功法法宝带来的防护罩、自身护盾）"},"技能描述"]
[874,{"$f":"VLOOKUP(A877,[1]SkillConfig!$E:$G,3,FALSE)","v":"引星辰之力入体，增强玩家体魄，\n让后方槽位的功法无视防御性护盾（功法法宝带来的防护罩、自身护盾）"},"技能描述"]
[875,{"$f":"VLOOKUP(A878,[1]SkillConfig!$E:$G,3,FALSE)","v":"引星辰之力入体，增强玩家体魄，\n让后方槽位的功法无视防御性护盾（功法法宝带来的防护罩、自身护盾）"},"技能描述"]
[876,{"$f":"VLOOKUP(A879,[1]SkillConfig!$E:$G,3,FALSE)","v":"引星辰之力入体，增强玩家体魄，\n让后方槽位的功法无视防御性护盾（功法法宝带来的防护罩、自身护盾）"},"技能描述"]
[877,{"$f":"VLOOKUP(A880,[1]SkillConfig!$E:$G,3,FALSE)","v":"后方槽位技能在击中目标时，为法宝提供{0}%充能"},"技能描述"]
[878,{"$f":"VLOOKUP(A881,[1]SkillConfig!$E:$G,3,FALSE)","v":"后方槽位技能在击中目标时，为法宝提供{0}%充能"},"技能描述"]
[879,{"$f":"VLOOKUP(A882,[1]SkillConfig!$E:$G,3,FALSE)","v":"后方槽位技能在击中目标时，为法宝提供{0}%充能"},"技能描述"]
[880,{"$f":"VLOOKUP(A883,[1]SkillConfig!$E:$G,3,FALSE)","v":"后方槽位技能在击中目标时，为法宝提供{0}%充能"},"技能描述"]
[881,{"$f":"VLOOKUP(A884,[1]SkillConfig!$E:$G,3,FALSE)","v":"后方槽位技能在击中目标时，为法宝提供{0}%充能"},"技能描述"]
[882,{"$f":"VLOOKUP(A885,[1]SkillConfig!$E:$G,3,FALSE)","v":"后方槽位技能在击中目标时，为法宝提供{0}%充能。\n法宝可以瞬间施放，且规避法宝对拼。"},"技能描述"]
[883,{"$f":"VLOOKUP(A886,[1]SkillConfig!$E:$G,3,FALSE)","v":"前方功法造成伤害时有{0}%概率施加一层对应属性的伤势"},"技能描述"]
[884,{"$f":"VLOOKUP(A887,[1]SkillConfig!$E:$G,3,FALSE)","v":"前方功法造成伤害时有{0}%概率施加一层对应属性的伤势"},"技能描述"]
[885,{"$f":"VLOOKUP(A888,[1]SkillConfig!$E:$G,3,FALSE)","v":"前方功法造成伤害时有{0}%概率施加一层对应属性的伤势"},"技能描述"]
[886,{"$f":"VLOOKUP(A889,[1]SkillConfig!$E:$G,3,FALSE)","v":"前方功法造成伤害时有{0}%概率施加一层对应属性的伤势"},"技能描述"]
[887,{"$f":"VLOOKUP(A890,[1]SkillConfig!$E:$G,3,FALSE)","v":"前方功法造成伤害时有{0}%概率施加一层对应属性的伤势"},"技能描述"]
[888,{"$f":"VLOOKUP(A891,[1]SkillConfig!$E:$G,3,FALSE)","v":"前方功法造成伤害时有{0}%概率施加一层对应属性的伤势"},"技能描述"]
[889,{"$f":"VLOOKUP(A892,[1]SkillConfig!$E:$G,3,FALSE)","v":"前后方法宝如果相生则双生效果增强{0}%"},"技能描述"]
[890,{"$f":"VLOOKUP(A893,[1]SkillConfig!$E:$G,3,FALSE)","v":"前后方法宝如果相生则双生效果增强{0}%"},"技能描述"]
[891,{"$f":"VLOOKUP(A894,[1]SkillConfig!$E:$G,3,FALSE)","v":"前后方法宝如果相生则双生效果增强{0}%"},"技能描述"]
[892,{"$f":"VLOOKUP(A895,[1]SkillConfig!$E:$G,3,FALSE)","v":"前后方法宝如果相生则双生效果增强{0}%"},"技能描述"]
[893,{"$f":"VLOOKUP(A896,[1]SkillConfig!$E:$G,3,FALSE)","v":"前后方法宝如果相生则双生效果增强{0}%"},"技能描述"]
[894,{"$f":"VLOOKUP(A897,[1]SkillConfig!$E:$G,3,FALSE)","v":"前后方法宝如果相生则双生效果增强{0}%。\n前后方法宝如果不相生则双生效果增加{1}%。\n前方后法宝如果相克则双生效果增强{2}%。"},"技能描述"]
[895,{"$f":"VLOOKUP(A898,[1]SkillConfig!$E:$G,3,FALSE)","v":"每层经过火经脉时使火系功法伤害提升{0}%，最多叠加{1}层"},"技能描述"]
[896,{"$f":"VLOOKUP(A899,[1]SkillConfig!$E:$G,3,FALSE)","v":"每层经过火经脉时使火系功法伤害提升{0}%，最多叠加{1}层"},"技能描述"]
[897,{"$f":"VLOOKUP(A900,[1]SkillConfig!$E:$G,3,FALSE)","v":"每层经过火经脉时使火系功法伤害提升{0}%，最多叠加{1}层"},"技能描述"]
[898,{"$f":"VLOOKUP(A901,[1]SkillConfig!$E:$G,3,FALSE)","v":"每层经过火经脉时使火系功法伤害提升{0}%，最多叠加{1}层"},"技能描述"]
[899,{"$f":"VLOOKUP(A902,[1]SkillConfig!$E:$G,3,FALSE)","v":"每层经过火经脉时使火系功法伤害提升{0}%，最多叠加{1}层"},"技能描述"]
[900,{"$f":"VLOOKUP(A903,[1]SkillConfig!$E:$G,3,FALSE)","v":"每层经过火经脉时使火系功法伤害提升{0}%，最多叠加{1}层。\n当达到满层后，任何火系功法命中时都会施加{1}层灼烧。"},"技能描述"]
[901,{"$f":"VLOOKUP(A904,[1]SkillConfig!$E:$G,3,FALSE)","v":"后方槽位第一个技能体型巨大化，且在对碰中强度增加{0}%"},"技能描述"]
[902,{"$f":"VLOOKUP(A905,[1]SkillConfig!$E:$G,3,FALSE)","v":"后方槽位第一个技能体型巨大化，且在对碰中强度增加{0}%"},"技能描述"]
[903,{"$f":"VLOOKUP(A906,[1]SkillConfig!$E:$G,3,FALSE)","v":"后方槽位第一个技能体型巨大化，且在对碰中强度增加{0}%"},"技能描述"]
[904,{"$f":"VLOOKUP(A907,[1]SkillConfig!$E:$G,3,FALSE)","v":"后方槽位第一个技能体型巨大化，且在对碰中强度增加{0}%"},"技能描述"]
[905,{"$f":"VLOOKUP(A908,[1]SkillConfig!$E:$G,3,FALSE)","v":"后方槽位第一个技能体型巨大化，且在对碰中强度增加{0}%"},"技能描述"]
[906,{"$f":"VLOOKUP(A909,[1]SkillConfig!$E:$G,3,FALSE)","v":"后方槽位第一个技能体型巨大化，且在对碰中强度增加{0}%\n巨大化的功法对拼耗尽不再消失，而是恢复{1}%强度"},"技能描述"]
[907,{"$f":"VLOOKUP(A910,[1]SkillConfig!$E:$G,3,FALSE)","v":"后槽位技能在催动时获得转盘加速{0}%,持续{1}秒"},"技能描述"]
[908,{"$f":"VLOOKUP(A911,[1]SkillConfig!$E:$G,3,FALSE)","v":"后槽位技能在催动时获得转盘加速{0}%,持续{1}秒"},"技能描述"]
[909,{"$f":"VLOOKUP(A912,[1]SkillConfig!$E:$G,3,FALSE)","v":"后槽位技能在催动时获得转盘加速{0}%,持续{1}秒"},"技能描述"]
[910,{"$f":"VLOOKUP(A913,[1]SkillConfig!$E:$G,3,FALSE)","v":"后槽位技能在催动时获得转盘加速{0}%,持续{1}秒"},"技能描述"]
[911,{"$f":"VLOOKUP(A914,[1]SkillConfig!$E:$G,3,FALSE)","v":"后槽位技能在催动时获得转盘加速{0}%,持续{1}秒"},"技能描述"]
[912,{"$f":"VLOOKUP(A915,[1]SkillConfig!$E:$G,3,FALSE)","v":"后槽位技能在催动时获得转盘加速{0}%,持续{1}秒\n加速期间，伤害提升{1}%"},"技能描述"]
[913,{"$f":"VLOOKUP(A916,[1]SkillConfig!$E:$G,3,FALSE)","v":"后方槽位如果是剑功法，在释放功法时额外释放{0}道剑气，对敌人造成{1}%伤害，并无视护盾类效果"},"技能描述"]
[914,{"$f":"VLOOKUP(A917,[1]SkillConfig!$E:$G,3,FALSE)","v":"后方槽位如果是剑功法，在释放功法时额外释放{0}道剑气，对敌人造成{1}%伤害，并无视护盾类效果"},"技能描述"]
[915,{"$f":"VLOOKUP(A918,[1]SkillConfig!$E:$G,3,FALSE)","v":"后方槽位如果是剑功法，在释放功法时额外释放{0}道剑气，对敌人造成{1}%伤害，并无视护盾类效果"},"技能描述"]
[916,{"$f":"VLOOKUP(A919,[1]SkillConfig!$E:$G,3,FALSE)","v":"后方槽位如果是剑功法，在释放功法时额外释放{0}道剑气，对敌人造成{1}%伤害，并无视护盾类效果"},"技能描述"]
[917,{"$f":"VLOOKUP(A920,[1]SkillConfig!$E:$G,3,FALSE)","v":"后方槽位如果是剑功法，在释放功法时额外释放{0}道剑气，对敌人造成{1}%伤害，并无视护盾类效果"},"技能描述"]
[918,{"$f":"VLOOKUP(A921,[1]SkillConfig!$E:$G,3,FALSE)","v":"前方和后方槽位如果是剑功法，在释放功法时额外释放{0}道剑气，对敌人造成{0}%伤害，并无视护盾类效果\n该剑气会对敌人施加{2}层流血"},"技能描述"]
[919,{"$f":"VLOOKUP(A922,[1]SkillConfig!$E:$G,3,FALSE)","v":"对敌人照成伤害，使敌人五行混乱。敌人的功法每次使用功法都将使用最低灵根属性作为伤害计算，持续{0}秒"},"技能描述"]
[920,{"$f":"VLOOKUP(A923,[1]SkillConfig!$E:$G,3,FALSE)","v":"对敌人照成伤害，使敌人五行混乱。敌人的功法每次使用功法都将使用最低灵根属性作为伤害计算，持续{0}秒"},"技能描述"]
[921,{"$f":"VLOOKUP(A924,[1]SkillConfig!$E:$G,3,FALSE)","v":"对敌人照成伤害，使敌人五行混乱。敌人的功法每次使用功法都将使用最低灵根属性作为伤害计算，持续{0}秒"},"技能描述"]
[922,{"$f":"VLOOKUP(A925,[1]SkillConfig!$E:$G,3,FALSE)","v":"对敌人照成伤害，使敌人五行混乱。敌人的功法每次使用功法都将使用最低灵根属性作为伤害计算，持续{0}秒"},"技能描述"]
[923,{"$f":"VLOOKUP(A926,[1]SkillConfig!$E:$G,3,FALSE)","v":"对敌人照成伤害，使敌人五行混乱。敌人的功法每次使用功法都将使用最低灵根属性作为伤害计算，持续{0}秒"},"技能描述"]
[924,{"$f":"VLOOKUP(A927,[1]SkillConfig!$E:$G,3,FALSE)","v":"对敌人照成伤害，使敌人五行混乱。敌人的功法每次使用功法都将使用最低灵根属性作为伤害计算，持续{0}秒\n神农鼎生效期间，使敌人的所有灵根降低{1}%。"},"技能描述"]
[925,{"$f":"VLOOKUP(A928,[1]SkillConfig!$E:$G,3,FALSE)","v":"无视敌人灵根，对敌人造成大量伤害，同时让五行伤势+1"},"技能描述"]
[926,{"$f":"VLOOKUP(A929,[1]SkillConfig!$E:$G,3,FALSE)","v":"无视敌人灵根，对敌人造成大量伤害，同时让五行伤势+1"},"技能描述"]
[927,{"$f":"VLOOKUP(A930,[1]SkillConfig!$E:$G,3,FALSE)","v":"无视敌人灵根，对敌人造成大量伤害，同时让五行伤势+1"},"技能描述"]
[928,{"$f":"VLOOKUP(A931,[1]SkillConfig!$E:$G,3,FALSE)","v":"无视敌人灵根，对敌人造成大量伤害，同时让五行伤势+1"},"技能描述"]
[929,{"$f":"VLOOKUP(A932,[1]SkillConfig!$E:$G,3,FALSE)","v":"无视敌人灵根，对敌人造成大量伤害，同时让五行伤势+1"},"技能描述"]
[930,{"$f":"VLOOKUP(A933,[1]SkillConfig!$E:$G,3,FALSE)","v":"无视敌人灵根，对敌人造成大量伤害，同时让五行伤势+1"},"技能描述"]
[931,{"$f":"VLOOKUP(A934,[1]SkillConfig!$E:$G,3,FALSE)","v":"战场区域形成一个域。敌人的功法弹道进入域后将降低敌人{0}%的功法弹道速度，持续{1}秒"},"技能描述"]
[932,{"$f":"VLOOKUP(A935,[1]SkillConfig!$E:$G,3,FALSE)","v":"战场区域形成一个域。敌人的功法弹道进入域后将降低敌人{0}%的功法弹道速度，持续{1}秒"},"技能描述"]
[933,{"$f":"VLOOKUP(A936,[1]SkillConfig!$E:$G,3,FALSE)","v":"战场区域形成一个域。敌人的功法弹道进入域后将降低敌人{0}%的功法弹道速度，持续{1}秒"},"技能描述"]
[934,{"$f":"VLOOKUP(A937,[1]SkillConfig!$E:$G,3,FALSE)","v":"战场区域形成一个域。敌人的功法弹道进入域后将降低敌人{0}%的功法弹道速度，持续{1}秒"},"技能描述"]
[935,{"$f":"VLOOKUP(A938,[1]SkillConfig!$E:$G,3,FALSE)","v":"战场区域形成一个域。敌人的功法弹道进入域后将降低敌人{0}%的功法弹道速度，持续{1}秒"},"技能描述"]
[936,{"$f":"VLOOKUP(A939,[1]SkillConfig!$E:$G,3,FALSE)","v":"战场区域形成一个域。敌人的功法弹道进入域后将降低敌人{0}%的功法弹道速度，持续{1}秒\n受影响的敌方功法强度降低{2}%"},"技能描述"]
[937,{"$f":"VLOOKUP(A940,[1]SkillConfig!$E:$G,3,FALSE)","v":"用后{2}秒内大幅提升所有灵根{0}%，一场战斗可使用{1}次"},"技能描述"]
[938,{"$f":"VLOOKUP(A941,[1]SkillConfig!$E:$G,3,FALSE)","v":"用后{2}秒内大幅提升所有灵根{0}%，一场战斗可使用{1}次"},"技能描述"]
[939,{"$f":"VLOOKUP(A942,[1]SkillConfig!$E:$G,3,FALSE)","v":"用后{2}秒内大幅提升所有灵根{0}%，一场战斗可使用{1}次"},"技能描述"]
[940,{"$f":"VLOOKUP(A943,[1]SkillConfig!$E:$G,3,FALSE)","v":"用后{2}秒内大幅提升所有灵根{0}%，一场战斗可使用{1}次"},"技能描述"]
[941,{"$f":"VLOOKUP(A944,[1]SkillConfig!$E:$G,3,FALSE)","v":"用后{2}秒内大幅提升所有灵根{0}%，一场战斗可使用{1}次"},"技能描述"]
[942,{"$f":"VLOOKUP(A945,[1]SkillConfig!$E:$G,3,FALSE)","v":"用后{2}秒内大幅提升所有灵根{0}%，一场战斗可使用{1}次\n混沌珠生效期间，己方所有功法额外增伤{3}%"},"技能描述"]
[943,{"$f":"VLOOKUP(A946,[1]SkillConfig!$E:$G,3,FALSE)","v":"对敌人照成水系伤害，封锁敌人筋脉随机{0}个格子流动{1}秒"},"技能描述"]
[944,{"$f":"VLOOKUP(A947,[1]SkillConfig!$E:$G,3,FALSE)","v":"对敌人照成水系伤害，封锁敌人筋脉随机{0}个格子流动{1}秒"},"技能描述"]
[945,{"$f":"VLOOKUP(A948,[1]SkillConfig!$E:$G,3,FALSE)","v":"对敌人照成水系伤害，封锁敌人筋脉随机{0}个格子流动{1}秒"},"技能描述"]
[946,{"$f":"VLOOKUP(A949,[1]SkillConfig!$E:$G,3,FALSE)","v":"对敌人照成水系伤害，封锁敌人筋脉随机{0}个格子流动{1}秒"},"技能描述"]
[947,{"$f":"VLOOKUP(A950,[1]SkillConfig!$E:$G,3,FALSE)","v":"对敌人照成水系伤害，封锁敌人筋脉随机{0}个格子流动{1}秒"},"技能描述"]
[948,{"$f":"VLOOKUP(A951,[1]SkillConfig!$E:$G,3,FALSE)","v":"对敌人照成水系伤害，封锁敌人筋脉随机{0}个格子流动{1}秒"},"技能描述"]
[949,{"$f":"VLOOKUP(A952,[1]SkillConfig!$E:$G,3,FALSE)","v":"对敌人造成{2}%伤害，并随机封锁敌人{0}个法宝，让其{1}秒内不能使用"},"技能描述"]
[950,{"$f":"VLOOKUP(A953,[1]SkillConfig!$E:$G,3,FALSE)","v":"对敌人造成{2}%伤害，并随机封锁敌人{0}个法宝，让其{1}秒内不能使用"},"技能描述"]
[951,{"$f":"VLOOKUP(A954,[1]SkillConfig!$E:$G,3,FALSE)","v":"对敌人造成{2}%伤害，并随机封锁敌人{0}个法宝，让其{1}秒内不能使用"},"技能描述"]
[952,{"$f":"VLOOKUP(A955,[1]SkillConfig!$E:$G,3,FALSE)","v":"对敌人造成{2}%伤害，并随机封锁敌人{0}个法宝，让其{1}秒内不能使用\n如果影响的法宝是相生法宝，则使其充能时间延长{3}%直至战斗结束"},"技能描述"]
[953,{"$f":"VLOOKUP(A956,[1]SkillConfig!$E:$G,3,FALSE)","v":"对敌人造成{2}%伤害，并随机封锁敌人{0}个法宝，让其{1}秒内不能使用\n如果影响的法宝是相生法宝，则使其充能时间延长{3}%直至战斗结束"},"技能描述"]
[954,{"$f":"VLOOKUP(A957,[1]SkillConfig!$E:$G,3,FALSE)","v":"对敌人造成{2}%伤害，并随机封锁敌人{0}个法宝，让其{1}秒内不能使用\n如果影响的法宝是相生法宝，则使其充能时间延长{3}%直至战斗结束"},"技能描述"]
[955,{"$f":"VLOOKUP(A958,[1]SkillConfig!$E:$G,3,FALSE)","v":"一盏明灯围绕玩家，{0}秒内抵消所有负面效果，每{1}秒触发1次。"},"技能描述"]
[956,{"$f":"VLOOKUP(A959,[1]SkillConfig!$E:$G,3,FALSE)","v":"一盏明灯围绕玩家，{0}秒内抵消所有负面效果，每{1}秒触发1次。"},"技能描述"]
[957,{"$f":"VLOOKUP(A960,[1]SkillConfig!$E:$G,3,FALSE)","v":"一盏明灯围绕玩家，{0}秒内抵消所有负面效果，每{1}秒触发1次。"},"技能描述"]
[958,{"$f":"VLOOKUP(A961,[1]SkillConfig!$E:$G,3,FALSE)","v":"一盏明灯围绕玩家，{0}秒内抵消所有负面效果，每{1}秒触发1次。"},"技能描述"]
[959,{"$f":"VLOOKUP(A962,[1]SkillConfig!$E:$G,3,FALSE)","v":"一盏明灯围绕玩家，{0}秒内抵消所有负面效果，每{1}秒触发1次。"},"技能描述"]
[960,{"$f":"VLOOKUP(A963,[1]SkillConfig!$E:$G,3,FALSE)","v":"一盏明灯围绕玩家，{0}秒内抵消所有负面效果，每{1}秒触发1次。"},"技能描述"]
[961,{"$f":"VLOOKUP(A964,[1]SkillConfig!$E:$G,3,FALSE)","v":"宝塔在英雄的头顶前往位置旋转，形成一个扇形区域，敌人的功法如果进入这个扇形区域有{0}%概率被法宝吸收，持续{1}秒"},"技能描述"]
[962,{"$f":"VLOOKUP(A965,[1]SkillConfig!$E:$G,3,FALSE)","v":"宝塔在英雄的头顶前往位置旋转，形成一个扇形区域，敌人的功法如果进入这个扇形区域有{0}%概率被法宝吸收，持续{1}秒"},"技能描述"]
[963,{"$f":"VLOOKUP(A966,[1]SkillConfig!$E:$G,3,FALSE)","v":"宝塔在英雄的头顶前往位置旋转，形成一个扇形区域，敌人的功法如果进入这个扇形区域有{0}%概率被法宝吸收，持续{1}秒"},"技能描述"]
[964,{"$f":"VLOOKUP(A967,[1]SkillConfig!$E:$G,3,FALSE)","v":"宝塔在英雄的头顶前往位置旋转，形成一个扇形区域，敌人的功法如果进入这个扇形区域有{0}%概率被法宝吸收，持续{1}秒"},"技能描述"]
[965,{"$f":"VLOOKUP(A968,[1]SkillConfig!$E:$G,3,FALSE)","v":"宝塔在英雄的头顶前往位置旋转，形成一个扇形区域，敌人的功法如果进入这个扇形区域有{0}%概率被法宝吸收，持续{1}秒"},"技能描述"]
[966,{"$f":"VLOOKUP(A969,[1]SkillConfig!$E:$G,3,FALSE)","v":"宝塔在英雄的头顶前往位置旋转，形成一个扇形区域，敌人的功法如果进入这个扇形区域有{0}%概率被法宝吸收，持续{1}秒\n敌方功法被吸收后，己方英雄临时增加{2}点对应五行灵根，持续{3}秒"},"技能描述"]
[967,{"$f":"VLOOKUP(A970,[1]SkillConfig!$E:$G,3,FALSE)","v":"打断对手当前正在生效中的法宝"},"技能描述"]
[968,{"$f":"VLOOKUP(A971,[1]SkillConfig!$E:$G,3,FALSE)","v":"打断对手当前正在生效中的法宝\n可以打断准备生效中的法宝，且避免己方法宝进入对拼状态，持续{0}秒"},"技能描述"]
[969,{"$f":"VLOOKUP(A972,[1]SkillConfig!$E:$G,3,FALSE)","v":"打断对手当前正在生效中的法宝\n可以打断准备生效中的法宝，且避免己方法宝进入对拼状态，持续{0}秒"},"技能描述"]
[970,{"$f":"VLOOKUP(A973,[1]SkillConfig!$E:$G,3,FALSE)","v":"打断对手当前正在生效中的法宝\n可以打断准备生效中的法宝，且避免己方法宝进入对拼状态，持续{0}秒"},"技能描述"]
[971,{"$f":"VLOOKUP(A974,[1]SkillConfig!$E:$G,3,FALSE)","v":"打断对手当前正在生效中的法宝\n可以打断准备生效中的法宝，且避免己方法宝进入对拼状态，持续{0}秒"},"技能描述"]
[972,{"$f":"VLOOKUP(A975,[1]SkillConfig!$E:$G,3,FALSE)","v":"打断对手当前正在生效中的法宝\n可以打断准备生效中的法宝，且避免己方法宝进入对拼状态，持续{0}秒\n每打断一次法宝，使禁元珠的冷却时间缩减{1}%，最多{2}次"},"技能描述"]
[973,{"$f":"VLOOKUP(A976,[1]SkillConfig!$E:$G,3,FALSE)","v":"前方形成土系防御盾，抵挡相当于自身生命上限{0}%的伤害，持续{1}秒"},"技能描述"]
[974,{"$f":"VLOOKUP(A977,[1]SkillConfig!$E:$G,3,FALSE)","v":"前方形成土系防御盾，抵挡相当于自身生命上限{0}%的伤害，持续{1}秒"},"技能描述"]
[975,{"$f":"VLOOKUP(A978,[1]SkillConfig!$E:$G,3,FALSE)","v":"前方形成土系防御盾，抵挡相当于自身生命上限{0}%的伤害，持续{1}秒"},"技能描述"]
[976,{"$f":"VLOOKUP(A979,[1]SkillConfig!$E:$G,3,FALSE)","v":"前方形成土系防御盾，抵挡相当于自身生命上限{0}%的伤害，持续{1}秒"},"技能描述"]
[977,{"$f":"VLOOKUP(A980,[1]SkillConfig!$E:$G,3,FALSE)","v":"前方形成土系防御盾，抵挡相当于自身生命上限{0}%的伤害，持续{1}秒"},"技能描述"]
[978,{"$f":"VLOOKUP(A981,[1]SkillConfig!$E:$G,3,FALSE)","v":"前方形成土系防御盾，抵挡相当于自身生命上限{0}%的伤害，持续{1}秒"},"技能描述"]
[979,{"$f":"VLOOKUP(A982,[1]SkillConfig!$E:$G,3,FALSE)","v":"对敌人照成土属性伤害，并封锁敌人土系经络6秒"},"技能描述"]
[980,{"$f":"VLOOKUP(A983,[1]SkillConfig!$E:$G,3,FALSE)","v":"对敌人照成土属性伤害，并封锁敌人土系经络6秒"},"技能描述"]
[981,{"$f":"VLOOKUP(A984,[1]SkillConfig!$E:$G,3,FALSE)","v":"对敌人照成土属性伤害，并封锁敌人土系经络6秒"},"技能描述"]
[982,{"$f":"VLOOKUP(A985,[1]SkillConfig!$E:$G,3,FALSE)","v":"对敌人照成土属性伤害，并封锁敌人土系经络6秒"},"技能描述"]
[983,{"$f":"VLOOKUP(A986,[1]SkillConfig!$E:$G,3,FALSE)","v":"对敌人照成土属性伤害，并封锁敌人土系经络6秒"},"技能描述"]
[984,{"$f":"VLOOKUP(A987,[1]SkillConfig!$E:$G,3,FALSE)","v":"对敌人照成土属性伤害，并封锁敌人土系经络6秒"},"技能描述"]
[985,"技能描述占位，勿占","技能描述"]
[986,"技能描述占位，勿占","技能描述"]
[987,"技能描述占位，勿占","技能描述"]
[988,"技能描述占位，勿占","技能描述"]
[989,"技能描述占位，勿占","技能描述"]
[990,"技能描述占位，勿占","技能描述"]
[991,"技能描述占位，勿占","技能描述"]
[992,"技能描述占位，勿占","技能描述"]
[993,"技能描述占位，勿占","技能描述"]
[994,"技能描述占位，勿占","技能描述"]
[995,"技能描述占位，勿占","技能描述"]
[996,"技能描述占位，勿占","技能描述"]
[997,"技能描述占位，勿占","技能描述"]
[998,"技能描述占位，勿占","技能描述"]
[999,"技能描述占位，勿占","技能描述"]
[1000,"技能描述占位，勿占","技能描述"]
[1001,"技能描述占位，勿占","技能描述"]
[1002,"技能描述占位，勿占","技能描述"]
[1003,"技能描述占位，勿占","技能描述"]
[1004,"技能描述占位，勿占","技能描述"]
[1005,"技能描述占位，勿占","技能描述"]
[1006,"技能描述占位，勿占","技能描述"]
[1007,"技能描述占位，勿占","技能描述"]
[1008,"技能描述占位，勿占","技能描述"]
[1009,"技能描述占位，勿占","技能描述"]
[1010,"技能描述占位，勿占","技能描述"]
[1011,"技能描述占位，勿占","技能描述"]
[1012,"技能描述占位，勿占","技能描述"]
[1013,"技能描述占位，勿占","技能描述"]
[1014,"技能描述占位，勿占","技能描述"]
[1015,"技能描述占位，勿占","技能描述"]
[1016,"技能描述占位，勿占","技能描述"]
[1017,"技能描述占位，勿占","技能描述"]
[1018,"技能描述占位，勿占","技能描述"]
[1019,"技能描述占位，勿占","技能描述"]
[1020,"技能描述占位，勿占","技能描述"]
[1021,"技能描述占位，勿占","技能描述"]
[1022,"技能描述占位，勿占","技能描述"]
[1023,"技能描述占位，勿占","技能描述"]
[1024,"技能描述占位，勿占","技能描述"]
[1025,"技能描述占位，勿占","技能描述"]
[1026,"技能描述占位，勿占","技能描述"]
[1027,"技能描述占位，勿占","技能描述"]
[1028,"技能描述占位，勿占","技能描述"]
[1029,"技能描述占位，勿占","技能描述"]
[1030,"技能描述占位，勿占","技能描述"]
[1031,"技能描述占位，勿占","技能描述"]
[1032,"技能描述占位，勿占","技能描述"]
[1033,"技能描述占位，勿占","技能描述"]
[1034,"技能描述占位，勿占","技能描述"]
[1035,"技能描述占位，勿占","技能描述"]
[1036,"技能描述占位，勿占","技能描述"]
[1037,"技能描述占位，勿占","技能描述"]
[1038,"技能描述占位，勿占","技能描述"]
[1039,"技能描述占位，勿占","技能描述"]
[1040,"技能描述占位，勿占","技能描述"]
[1041,"技能描述占位，勿占","技能描述"]
[1042,"技能描述占位，勿占","技能描述"]
[1043,"技能描述占位，勿占","技能描述"]
[1044,"技能描述占位，勿占","技能描述"]
[1045,"技能描述占位，勿占","技能描述"]
[1046,"技能描述占位，勿占","技能描述"]
[1047,"技能描述占位，勿占","技能描述"]
[1048,"技能描述占位，勿占","技能描述"]
[1049,"技能描述占位，勿占","技能描述"]
[1050,"技能描述占位，勿占","技能描述"]
[1051,"技能描述占位，勿占","技能描述"]
[1052,"技能描述占位，勿占","技能描述"]
[1053,"技能描述占位，勿占","技能描述"]
[1054,"技能描述占位，勿占","技能描述"]
[1055,"技能描述占位，勿占","技能描述"]
[1056,"技能描述占位，勿占","技能描述"]
[1057,"技能描述占位，勿占","技能描述"]
[1058,"技能描述占位，勿占","技能描述"]
[1059,"技能描述占位，勿占","技能描述"]
[1060,"技能描述占位，勿占","技能描述"]
[1061,"技能描述占位，勿占","技能描述"]
[1062,"技能描述占位，勿占","技能描述"]
[1063,"技能描述占位，勿占","技能描述"]
[1064,"技能描述占位，勿占","技能描述"]
[1065,"技能描述占位，勿占","技能描述"]
[1066,"技能描述占位，勿占","技能描述"]
[1067,"技能描述占位，勿占","技能描述"]
[1068,"技能描述占位，勿占","技能描述"]
[1069,"技能描述占位，勿占","技能描述"]
[1070,"技能描述占位，勿占","技能描述"]
[1071,"技能描述占位，勿占","技能描述"]
[1072,"技能描述占位，勿占","技能描述"]
[1073,"技能描述占位，勿占","技能描述"]
[1074,"技能描述占位，勿占","技能描述"]
[1075,"技能描述占位，勿占","技能描述"]
[1076,"技能描述占位，勿占","技能描述"]
[1077,"技能描述占位，勿占","技能描述"]
[1078,"技能描述占位，勿占","技能描述"]
[1079,"技能描述占位，勿占","技能描述"]
[1080,"技能描述占位，勿占","技能描述"]
[1081,"技能描述占位，勿占","技能描述"]
[1082,"技能描述占位，勿占","技能描述"]
[1083,"技能描述占位，勿占","技能描述"]
[1084,"技能描述占位，勿占","技能描述"]
[1085,"技能描述占位，勿占","技能描述"]
[1086,"技能描述占位，勿占","技能描述"]
[1087,"技能描述占位，勿占","技能描述"]
[1088,"技能描述占位，勿占","技能描述"]
[1089,"技能描述占位，勿占","技能描述"]
[1090,"技能描述占位，勿占","技能描述"]
[1091,"技能描述占位，勿占","技能描述"]
[1092,"技能描述占位，勿占","技能描述"]
[1093,"技能描述占位，勿占","技能描述"]
[1094,"技能描述占位，勿占","技能描述"]
[1095,"技能描述占位，勿占","技能描述"]
[1096,"技能描述占位，勿占","技能描述"]
[1097,"技能描述占位，勿占","技能描述"]
[1098,"技能描述占位，勿占","技能描述"]
[1099,"技能描述占位，勿占","技能描述"]
[1100,{"$f":"VLOOKUP(A1103,[1]SkillConfig!$U:$AE,11,FALSE)","v":"飞剑数量+2"},"技能升星描述"]
[1101,{"$f":"VLOOKUP(A1104,[1]SkillConfig!$U:$AE,11,FALSE)","v":"生命+10%"},"技能升星描述"]
[1102,{"$f":"VLOOKUP(A1105,[1]SkillConfig!$U:$AE,11,FALSE)","v":"飞剑数量+1，对带减益的敌人增伤"},"技能升星描述"]
[1103,{"$f":"VLOOKUP(A1106,[1]SkillConfig!$U:$AE,11,FALSE)","v":"生命+10%"},"技能升星描述"]
[1104,{"$f":"VLOOKUP(A1107,[1]SkillConfig!$U:$AE,11,FALSE)","v":"发射伤害更高的幻剑"},"技能升星描述"]
[1105,{"$f":"VLOOKUP(A1108,[1]SkillConfig!$U:$AE,11,FALSE)","v":"对流血或放血敌人增伤"},"技能升星描述"]
[1106,{"$f":"VLOOKUP(A1109,[1]SkillConfig!$U:$AE,11,FALSE)","v":"攻击+10%"},"技能升星描述"]
[1107,{"$f":"VLOOKUP(A1110,[1]SkillConfig!$U:$AE,11,FALSE)","v":"无条件放血"},"技能升星描述"]
[1108,{"$f":"VLOOKUP(A1111,[1]SkillConfig!$U:$AE,11,FALSE)","v":"攻击+10%"},"技能升星描述"]
[1109,{"$f":"VLOOKUP(A1112,[1]SkillConfig!$U:$AE,11,FALSE)","v":"对拼强度和伤害提升"},"技能升星描述"]
[1110,{"$f":"VLOOKUP(A1113,[1]SkillConfig!$U:$AE,11,FALSE)","v":"刀气命中回血"},"技能升星描述"]
[1111,{"$f":"VLOOKUP(A1114,[1]SkillConfig!$U:$AE,11,FALSE)","v":"防御+10%"},"技能升星描述"]
[1112,{"$f":"VLOOKUP(A1115,[1]SkillConfig!$U:$AE,11,FALSE)","v":"刀气+2"},"技能升星描述"]
[1113,{"$f":"VLOOKUP(A1116,[1]SkillConfig!$U:$AE,11,FALSE)","v":"防御+10%"},"技能升星描述"]
[1114,{"$f":"VLOOKUP(A1117,[1]SkillConfig!$U:$AE,11,FALSE)","v":"对流血目标增伤，再次放血"},"技能升星描述"]
[1115,{"$f":"VLOOKUP(A1118,[1]SkillConfig!$U:$AE,11,FALSE)","v":"攻击+5%"},"技能升星描述"]
[1116,{"$f":"VLOOKUP(A1119,[1]SkillConfig!$U:$AE,11,FALSE)","v":"飞刀数量+2"},"技能升星描述"]
[1117,{"$f":"VLOOKUP(A1120,[1]SkillConfig!$U:$AE,11,FALSE)","v":"攻击+5%"},"技能升星描述"]
[1118,{"$f":"VLOOKUP(A1121,[1]SkillConfig!$U:$AE,11,FALSE)","v":"飞刀数量+2"},"技能升星描述"]
[1119,{"$f":"VLOOKUP(A1122,[1]SkillConfig!$U:$AE,11,FALSE)","v":"攻击+5%"},"技能升星描述"]
[1120,{"$f":"VLOOKUP(A1123,[1]SkillConfig!$U:$AE,11,FALSE)","v":"防御+5%"},"技能升星描述"]
[1121,{"$f":"VLOOKUP(A1124,[1]SkillConfig!$U:$AE,11,FALSE)","v":"金针数量+1"},"技能升星描述"]
[1122,{"$f":"VLOOKUP(A1125,[1]SkillConfig!$U:$AE,11,FALSE)","v":"防御+5%"},"技能升星描述"]
[1123,{"$f":"VLOOKUP(A1126,[1]SkillConfig!$U:$AE,11,FALSE)","v":"金针数量+1"},"技能升星描述"]
[1124,{"$f":"VLOOKUP(A1127,[1]SkillConfig!$U:$AE,11,FALSE)","v":"防御+5%"},"技能升星描述"]
[1125,{"$f":"VLOOKUP(A1128,[1]SkillConfig!$U:$AE,11,FALSE)","v":"冰锥数量+1"},"技能升星描述"]
[1126,{"$f":"VLOOKUP(A1129,[1]SkillConfig!$U:$AE,11,FALSE)","v":"生命+10%"},"技能升星描述"]
[1127,{"$f":"VLOOKUP(A1130,[1]SkillConfig!$U:$AE,11,FALSE)","v":"冰锥数量+1"},"技能升星描述"]
[1128,{"$f":"VLOOKUP(A1131,[1]SkillConfig!$U:$AE,11,FALSE)","v":"生命+10%"},"技能升星描述"]
[1129,{"$f":"VLOOKUP(A1132,[1]SkillConfig!$U:$AE,11,FALSE)","v":"冰锥数量+1"},"技能升星描述"]
[1130,{"$f":"VLOOKUP(A1133,[1]SkillConfig!$U:$AE,11,FALSE)","v":"冰球数量+1"},"技能升星描述"]
[1131,{"$f":"VLOOKUP(A1134,[1]SkillConfig!$U:$AE,11,FALSE)","v":"防御+10%"},"技能升星描述"]
[1132,{"$f":"VLOOKUP(A1135,[1]SkillConfig!$U:$AE,11,FALSE)","v":"冰球数量+1"},"技能升星描述"]
[1133,{"$f":"VLOOKUP(A1136,[1]SkillConfig!$U:$AE,11,FALSE)","v":"防御+10%"},"技能升星描述"]
[1134,{"$f":"VLOOKUP(A1137,[1]SkillConfig!$U:$AE,11,FALSE)","v":"冰球数量+1"},"技能升星描述"]
[1135,{"$f":"VLOOKUP(A1138,[1]SkillConfig!$U:$AE,11,FALSE)","v":"冰球数量+1"},"技能升星描述"]
[1136,{"$f":"VLOOKUP(A1139,[1]SkillConfig!$U:$AE,11,FALSE)","v":"攻击+10%"},"技能升星描述"]
[1137,{"$f":"VLOOKUP(A1140,[1]SkillConfig!$U:$AE,11,FALSE)","v":"冰球数量+1"},"技能升星描述"]
[1138,{"$f":"VLOOKUP(A1141,[1]SkillConfig!$U:$AE,11,FALSE)","v":"攻击+10%"},"技能升星描述"]
[1139,{"$f":"VLOOKUP(A1142,[1]SkillConfig!$U:$AE,11,FALSE)","v":"冰球数量+1"},"技能升星描述"]
[1140,{"$f":"VLOOKUP(A1143,[1]SkillConfig!$U:$AE,11,FALSE)","v":"攻击+5%"},"技能升星描述"]
[1141,{"$f":"VLOOKUP(A1144,[1]SkillConfig!$U:$AE,11,FALSE)","v":"水波数量+1"},"技能升星描述"]
[1142,{"$f":"VLOOKUP(A1145,[1]SkillConfig!$U:$AE,11,FALSE)","v":"攻击+10%"},"技能升星描述"]
[1143,{"$f":"VLOOKUP(A1146,[1]SkillConfig!$U:$AE,11,FALSE)","v":"水波数量+1"},"技能升星描述"]
[1144,{"$f":"VLOOKUP(A1147,[1]SkillConfig!$U:$AE,11,FALSE)","v":"攻击+15%"},"技能升星描述"]
[1145,{"$f":"VLOOKUP(A1148,[1]SkillConfig!$U:$AE,11,FALSE)","v":"防御+5%"},"技能升星描述"]
[1146,{"$f":"VLOOKUP(A1149,[1]SkillConfig!$U:$AE,11,FALSE)","v":"冰刀数量+2"},"技能升星描述"]
[1147,{"$f":"VLOOKUP(A1150,[1]SkillConfig!$U:$AE,11,FALSE)","v":"防御+5%"},"技能升星描述"]
[1148,{"$f":"VLOOKUP(A1151,[1]SkillConfig!$U:$AE,11,FALSE)","v":"冰刀数量+2"},"技能升星描述"]
[1149,{"$f":"VLOOKUP(A1152,[1]SkillConfig!$U:$AE,11,FALSE)","v":"防御+5%"},"技能升星描述"]
[1150,{"$f":"VLOOKUP(A1153,[1]SkillConfig!$U:$AE,11,FALSE)","v":"毒针数量+1"},"技能升星描述"]
[1151,{"$f":"VLOOKUP(A1154,[1]SkillConfig!$U:$AE,11,FALSE)","v":"生命+10%"},"技能升星描述"]
[1152,{"$f":"VLOOKUP(A1155,[1]SkillConfig!$U:$AE,11,FALSE)","v":"毒针数量+1"},"技能升星描述"]
[1153,{"$f":"VLOOKUP(A1156,[1]SkillConfig!$U:$AE,11,FALSE)","v":"生命+10%"},"技能升星描述"]
[1154,{"$f":"VLOOKUP(A1157,[1]SkillConfig!$U:$AE,11,FALSE)","v":"毒针数量+1"},"技能升星描述"]
[1155,{"$f":"VLOOKUP(A1158,[1]SkillConfig!$U:$AE,11,FALSE)","v":"手掌数量+1"},"技能升星描述"]
[1156,{"$f":"VLOOKUP(A1159,[1]SkillConfig!$U:$AE,11,FALSE)","v":"防御+10%"},"技能升星描述"]
[1157,{"$f":"VLOOKUP(A1160,[1]SkillConfig!$U:$AE,11,FALSE)","v":"手掌数量+1"},"技能升星描述"]
[1158,{"$f":"VLOOKUP(A1161,[1]SkillConfig!$U:$AE,11,FALSE)","v":"防御+10%"},"技能升星描述"]
[1159,{"$f":"VLOOKUP(A1162,[1]SkillConfig!$U:$AE,11,FALSE)","v":"手掌数量+1"},"技能升星描述"]
[1160,{"$f":"VLOOKUP(A1163,[1]SkillConfig!$U:$AE,11,FALSE)","v":"手掌数量+1"},"技能升星描述"]
[1161,{"$f":"VLOOKUP(A1164,[1]SkillConfig!$U:$AE,11,FALSE)","v":"攻击+10%"},"技能升星描述"]
[1162,{"$f":"VLOOKUP(A1165,[1]SkillConfig!$U:$AE,11,FALSE)","v":"手掌数量+2"},"技能升星描述"]
[1163,{"$f":"VLOOKUP(A1166,[1]SkillConfig!$U:$AE,11,FALSE)","v":"攻击+10%"},"技能升星描述"]
[1164,{"$f":"VLOOKUP(A1167,[1]SkillConfig!$U:$AE,11,FALSE)","v":"手掌数量+3"},"技能升星描述"]
[1165,{"$f":"VLOOKUP(A1168,[1]SkillConfig!$U:$AE,11,FALSE)","v":"生命+5%"},"技能升星描述"]
[1166,{"$f":"VLOOKUP(A1169,[1]SkillConfig!$U:$AE,11,FALSE)","v":"竹刺数量+2"},"技能升星描述"]
[1167,{"$f":"VLOOKUP(A1170,[1]SkillConfig!$U:$AE,11,FALSE)","v":"生命+5%"},"技能升星描述"]
[1168,{"$f":"VLOOKUP(A1171,[1]SkillConfig!$U:$AE,11,FALSE)","v":"竹刺数量+2"},"技能升星描述"]
[1169,{"$f":"VLOOKUP(A1172,[1]SkillConfig!$U:$AE,11,FALSE)","v":"生命+5%"},"技能升星描述"]
[1170,{"$f":"VLOOKUP(A1173,[1]SkillConfig!$U:$AE,11,FALSE)","v":"攻击+5%"},"技能升星描述"]
[1171,{"$f":"VLOOKUP(A1174,[1]SkillConfig!$U:$AE,11,FALSE)","v":"飞叶数量+3"},"技能升星描述"]
[1172,{"$f":"VLOOKUP(A1175,[1]SkillConfig!$U:$AE,11,FALSE)","v":"攻击+5%"},"技能升星描述"]
[1173,{"$f":"VLOOKUP(A1176,[1]SkillConfig!$U:$AE,11,FALSE)","v":"飞叶数量+3"},"技能升星描述"]
[1174,{"$f":"VLOOKUP(A1177,[1]SkillConfig!$U:$AE,11,FALSE)","v":"攻击+5%"},"技能升星描述"]
[1175,{"$f":"VLOOKUP(A1178,[1]SkillConfig!$U:$AE,11,FALSE)","v":"剑柄数量+2"},"技能升星描述"]
[1176,{"$f":"VLOOKUP(A1179,[1]SkillConfig!$U:$AE,11,FALSE)","v":"生命+10%"},"技能升星描述"]
[1177,{"$f":"VLOOKUP(A1180,[1]SkillConfig!$U:$AE,11,FALSE)","v":"剑柄数量+4"},"技能升星描述"]
[1178,{"$f":"VLOOKUP(A1181,[1]SkillConfig!$U:$AE,11,FALSE)","v":"生命+10%"},"技能升星描述"]
[1179,{"$f":"VLOOKUP(A1182,[1]SkillConfig!$U:$AE,11,FALSE)","v":"额外造成爆燃伤害"},"技能升星描述"]
[1180,{"$f":"VLOOKUP(A1183,[1]SkillConfig!$U:$AE,11,FALSE)","v":"眩晕处于灼烧中的敌人"},"技能升星描述"]
[1181,{"$f":"VLOOKUP(A1184,[1]SkillConfig!$U:$AE,11,FALSE)","v":"攻击+10%"},"技能升星描述"]
[1182,{"$f":"VLOOKUP(A1185,[1]SkillConfig!$U:$AE,11,FALSE)","v":"飞龙数量+1，额外造成灼烧"},"技能升星描述"]
[1183,{"$f":"VLOOKUP(A1186,[1]SkillConfig!$U:$AE,11,FALSE)","v":"攻击+10%"},"技能升星描述"]
[1184,{"$f":"VLOOKUP(A1187,[1]SkillConfig!$U:$AE,11,FALSE)","v":"额外引发天雷伤害"},"技能升星描述"]
[1185,{"$f":"VLOOKUP(A1188,[1]SkillConfig!$U:$AE,11,FALSE)","v":"对灼烧的敌人额外增伤"},"技能升星描述"]
[1186,{"$f":"VLOOKUP(A1189,[1]SkillConfig!$U:$AE,11,FALSE)","v":"防御+10%"},"技能升星描述"]
[1187,{"$f":"VLOOKUP(A1190,[1]SkillConfig!$U:$AE,11,FALSE)","v":"烈焰伤害提升"},"技能升星描述"]
[1188,{"$f":"VLOOKUP(A1191,[1]SkillConfig!$U:$AE,11,FALSE)","v":"防御+10%"},"技能升星描述"]
[1189,{"$f":"VLOOKUP(A1192,[1]SkillConfig!$U:$AE,11,FALSE)","v":"出现2只大手但单发伤害降低"},"技能升星描述"]
[1190,{"$f":"VLOOKUP(A1193,[1]SkillConfig!$U:$AE,11,FALSE)","v":"防御+5%"},"技能升星描述"]
[1191,{"$f":"VLOOKUP(A1194,[1]SkillConfig!$U:$AE,11,FALSE)","v":"火球数量+1"},"技能升星描述"]
[1192,{"$f":"VLOOKUP(A1195,[1]SkillConfig!$U:$AE,11,FALSE)","v":"防御+5%"},"技能升星描述"]
[1193,{"$f":"VLOOKUP(A1196,[1]SkillConfig!$U:$AE,11,FALSE)","v":"火球数量+2"},"技能升星描述"]
[1194,{"$f":"VLOOKUP(A1197,[1]SkillConfig!$U:$AE,11,FALSE)","v":"防御+5%"},"技能升星描述"]
[1195,{"$f":"VLOOKUP(A1198,[1]SkillConfig!$U:$AE,11,FALSE)","v":"生命+5%"},"技能升星描述"]
[1196,{"$f":"VLOOKUP(A1199,[1]SkillConfig!$U:$AE,11,FALSE)","v":"火刃数量+2"},"技能升星描述"]
[1197,{"$f":"VLOOKUP(A1200,[1]SkillConfig!$U:$AE,11,FALSE)","v":"生命+5%"},"技能升星描述"]
[1198,{"$f":"VLOOKUP(A1201,[1]SkillConfig!$U:$AE,11,FALSE)","v":"火刃数量+2"},"技能升星描述"]
[1199,{"$f":"VLOOKUP(A1202,[1]SkillConfig!$U:$AE,11,FALSE)","v":"生命+5%"},"技能升星描述"]
[1200,{"$f":"VLOOKUP(A1203,[1]SkillConfig!$U:$AE,11,FALSE)","v":"土刺数量+2"},"技能升星描述"]
[1201,{"$f":"VLOOKUP(A1204,[1]SkillConfig!$U:$AE,11,FALSE)","v":"生命+10%"},"技能升星描述"]
[1202,{"$f":"VLOOKUP(A1205,[1]SkillConfig!$U:$AE,11,FALSE)","v":"土刺数量+2"},"技能升星描述"]
[1203,{"$f":"VLOOKUP(A1206,[1]SkillConfig!$U:$AE,11,FALSE)","v":"生命+10%"},"技能升星描述"]
[1204,{"$f":"VLOOKUP(A1207,[1]SkillConfig!$U:$AE,11,FALSE)","v":"土刺数量+2"},"技能升星描述"]
[1205,{"$f":"VLOOKUP(A1208,[1]SkillConfig!$U:$AE,11,FALSE)","v":"刀气数量+1"},"技能升星描述"]
[1206,{"$f":"VLOOKUP(A1209,[1]SkillConfig!$U:$AE,11,FALSE)","v":"攻击+10%"},"技能升星描述"]
[1207,{"$f":"VLOOKUP(A1210,[1]SkillConfig!$U:$AE,11,FALSE)","v":"刀气数量+1"},"技能升星描述"]
[1208,{"$f":"VLOOKUP(A1211,[1]SkillConfig!$U:$AE,11,FALSE)","v":"攻击+10%"},"技能升星描述"]
[1209,{"$f":"VLOOKUP(A1212,[1]SkillConfig!$U:$AE,11,FALSE)","v":"刀气数量+1"},"技能升星描述"]
[1210,{"$f":"VLOOKUP(A1213,[1]SkillConfig!$U:$AE,11,FALSE)","v":"刀气数量+1"},"技能升星描述"]
[1211,{"$f":"VLOOKUP(A1214,[1]SkillConfig!$U:$AE,11,FALSE)","v":"防御+10%"},"技能升星描述"]
[1212,{"$f":"VLOOKUP(A1215,[1]SkillConfig!$U:$AE,11,FALSE)","v":"刀气数量+2"},"技能升星描述"]
[1213,{"$f":"VLOOKUP(A1216,[1]SkillConfig!$U:$AE,11,FALSE)","v":"防御+10%"},"技能升星描述"]
[1214,{"$f":"VLOOKUP(A1217,[1]SkillConfig!$U:$AE,11,FALSE)","v":"刀气数量+3"},"技能升星描述"]
[1215,{"$f":"VLOOKUP(A1218,[1]SkillConfig!$U:$AE,11,FALSE)","v":"攻击+5%"},"技能升星描述"]
[1216,{"$f":"VLOOKUP(A1219,[1]SkillConfig!$U:$AE,11,FALSE)","v":"落石数量+1"},"技能升星描述"]
[1217,{"$f":"VLOOKUP(A1220,[1]SkillConfig!$U:$AE,11,FALSE)","v":"攻击+5%"},"技能升星描述"]
[1218,{"$f":"VLOOKUP(A1221,[1]SkillConfig!$U:$AE,11,FALSE)","v":"落石数量+1"},"技能升星描述"]
[1219,{"$f":"VLOOKUP(A1222,[1]SkillConfig!$U:$AE,11,FALSE)","v":"攻击+5%"},"技能升星描述"]
[1220,{"$f":"VLOOKUP(A1223,[1]SkillConfig!$U:$AE,11,FALSE)","v":"生命+5%"},"技能升星描述"]
[1221,{"$f":"VLOOKUP(A1224,[1]SkillConfig!$U:$AE,11,FALSE)","v":"小石头数量+3"},"技能升星描述"]
[1222,{"$f":"VLOOKUP(A1225,[1]SkillConfig!$U:$AE,11,FALSE)","v":"生命+5%"},"技能升星描述"]
[1223,{"$f":"VLOOKUP(A1226,[1]SkillConfig!$U:$AE,11,FALSE)","v":"小石头数量+3"},"技能升星描述"]
[1224,{"$f":"VLOOKUP(A1227,[1]SkillConfig!$U:$AE,11,FALSE)","v":"生命+5%"},"技能升星描述"]
[1225,{"$f":"VLOOKUP(A1228,[1]SkillConfig!$U:$AE,11,FALSE)","v":"防御+3%"},"技能升星描述"]
[1226,{"$f":"VLOOKUP(A1229,[1]SkillConfig!$U:$AE,11,FALSE)","v":"防御+3%"},"技能升星描述"]
[1227,{"$f":"VLOOKUP(A1230,[1]SkillConfig!$U:$AE,11,FALSE)","v":"防御+3%"},"技能升星描述"]
[1228,{"$f":"VLOOKUP(A1231,[1]SkillConfig!$U:$AE,11,FALSE)","v":"防御+3%"},"技能升星描述"]
[1229,{"$f":"VLOOKUP(A1232,[1]SkillConfig!$U:$AE,11,FALSE)","v":"穿过护盾时额外对护盾照成等额伤害"},"技能升星描述"]
[1230,{"$f":"VLOOKUP(A1233,[1]SkillConfig!$U:$AE,11,FALSE)","v":"攻击+3%"},"技能升星描述"]
[1231,{"$f":"VLOOKUP(A1234,[1]SkillConfig!$U:$AE,11,FALSE)","v":"攻击+3%"},"技能升星描述"]
[1232,{"$f":"VLOOKUP(A1235,[1]SkillConfig!$U:$AE,11,FALSE)","v":"攻击+3%"},"技能升星描述"]
[1233,{"$f":"VLOOKUP(A1236,[1]SkillConfig!$U:$AE,11,FALSE)","v":"攻击+3%"},"技能升星描述"]
[1234,{"$f":"VLOOKUP(A1237,[1]SkillConfig!$U:$AE,11,FALSE)","v":"充能增效，法宝瞬发且不对拼"},"技能升星描述"]
[1235,{"$f":"VLOOKUP(A1238,[1]SkillConfig!$U:$AE,11,FALSE)","v":"防御+3%"},"技能升星描述"]
[1236,{"$f":"VLOOKUP(A1239,[1]SkillConfig!$U:$AE,11,FALSE)","v":"防御+3%"},"技能升星描述"]
[1237,{"$f":"VLOOKUP(A1240,[1]SkillConfig!$U:$AE,11,FALSE)","v":"防御+3%"},"技能升星描述"]
[1238,{"$f":"VLOOKUP(A1241,[1]SkillConfig!$U:$AE,11,FALSE)","v":"防御+3%"},"技能升星描述"]
[1239,{"$f":"VLOOKUP(A1242,[1]SkillConfig!$U:$AE,11,FALSE)","v":"触发概率提升"},"技能升星描述"]
[1240,{"$f":"VLOOKUP(A1243,[1]SkillConfig!$U:$AE,11,FALSE)","v":"生命+3%"},"技能升星描述"]
[1241,{"$f":"VLOOKUP(A1244,[1]SkillConfig!$U:$AE,11,FALSE)","v":"生命+3%"},"技能升星描述"]
[1242,{"$f":"VLOOKUP(A1245,[1]SkillConfig!$U:$AE,11,FALSE)","v":"生命+3%"},"技能升星描述"]
[1243,{"$f":"VLOOKUP(A1246,[1]SkillConfig!$U:$AE,11,FALSE)","v":"生命+3%"},"技能升星描述"]
[1244,{"$f":"VLOOKUP(A1247,[1]SkillConfig!$U:$AE,11,FALSE)","v":"不相生甚至相克功法也生效"},"技能升星描述"]
[1245,{"$f":"VLOOKUP(A1248,[1]SkillConfig!$U:$AE,11,FALSE)","v":"攻击+3%"},"技能升星描述"]
[1246,{"$f":"VLOOKUP(A1249,[1]SkillConfig!$U:$AE,11,FALSE)","v":"攻击+3%"},"技能升星描述"]
[1247,{"$f":"VLOOKUP(A1250,[1]SkillConfig!$U:$AE,11,FALSE)","v":"攻击+3%"},"技能升星描述"]
[1248,{"$f":"VLOOKUP(A1251,[1]SkillConfig!$U:$AE,11,FALSE)","v":"攻击+3%"},"技能升星描述"]
[1249,{"$f":"VLOOKUP(A1252,[1]SkillConfig!$U:$AE,11,FALSE)","v":"满层时施加灼烧"},"技能升星描述"]
[1250,{"$f":"VLOOKUP(A1253,[1]SkillConfig!$U:$AE,11,FALSE)","v":"防御+3%"},"技能升星描述"]
[1251,{"$f":"VLOOKUP(A1254,[1]SkillConfig!$U:$AE,11,FALSE)","v":"防御+3%"},"技能升星描述"]
[1252,{"$f":"VLOOKUP(A1255,[1]SkillConfig!$U:$AE,11,FALSE)","v":"防御+3%"},"技能升星描述"]
[1253,{"$f":"VLOOKUP(A1256,[1]SkillConfig!$U:$AE,11,FALSE)","v":"防御+3%"},"技能升星描述"]
[1254,{"$f":"VLOOKUP(A1257,[1]SkillConfig!$U:$AE,11,FALSE)","v":"对拼时重生"},"技能升星描述"]
[1255,{"$f":"VLOOKUP(A1258,[1]SkillConfig!$U:$AE,11,FALSE)","v":"生命+3%"},"技能升星描述"]
[1256,{"$f":"VLOOKUP(A1259,[1]SkillConfig!$U:$AE,11,FALSE)","v":"生命+3%"},"技能升星描述"]
[1257,{"$f":"VLOOKUP(A1260,[1]SkillConfig!$U:$AE,11,FALSE)","v":"生命+3%"},"技能升星描述"]
[1258,{"$f":"VLOOKUP(A1261,[1]SkillConfig!$U:$AE,11,FALSE)","v":"生命+3%"},"技能升星描述"]
[1259,{"$f":"VLOOKUP(A1262,[1]SkillConfig!$U:$AE,11,FALSE)","v":"加速时伤害提升"},"技能升星描述"]
[1260,{"$f":"VLOOKUP(A1263,[1]SkillConfig!$U:$AE,11,FALSE)","v":"攻击+3%"},"技能升星描述"]
[1261,{"$f":"VLOOKUP(A1264,[1]SkillConfig!$U:$AE,11,FALSE)","v":"攻击+3%"},"技能升星描述"]
[1262,{"$f":"VLOOKUP(A1265,[1]SkillConfig!$U:$AE,11,FALSE)","v":"攻击+3%"},"技能升星描述"]
[1263,{"$f":"VLOOKUP(A1266,[1]SkillConfig!$U:$AE,11,FALSE)","v":"攻击+3%"},"技能升星描述"]
[1264,{"$f":"VLOOKUP(A1267,[1]SkillConfig!$U:$AE,11,FALSE)","v":"前槽位也生效，剑气增强"},"技能升星描述"]
[1265,{"$f":"VLOOKUP(A1268,[1]SkillConfig!$U:$AE,11,FALSE)","v":"金灵根+5"},"技能升星描述"]
[1266,{"$f":"VLOOKUP(A1269,[1]SkillConfig!$U:$AE,11,FALSE)","v":"攻击+5%"},"技能升星描述"]
[1267,{"$f":"VLOOKUP(A1270,[1]SkillConfig!$U:$AE,11,FALSE)","v":"金灵根+5"},"技能升星描述"]
[1268,{"$f":"VLOOKUP(A1271,[1]SkillConfig!$U:$AE,11,FALSE)","v":"攻击+5%"},"技能升星描述"]
[1269,{"$f":"VLOOKUP(A1272,[1]SkillConfig!$U:$AE,11,FALSE)","v":"降低敌人灵根"},"技能升星描述"]
[1270,{"$f":"VLOOKUP(A1273,[1]SkillConfig!$U:$AE,11,FALSE)","v":0},"技能升星描述"]
[1271,{"$f":"VLOOKUP(A1274,[1]SkillConfig!$U:$AE,11,FALSE)","v":0},"技能升星描述"]
[1272,{"$f":"VLOOKUP(A1275,[1]SkillConfig!$U:$AE,11,FALSE)","v":0},"技能升星描述"]
[1273,{"$f":"VLOOKUP(A1276,[1]SkillConfig!$U:$AE,11,FALSE)","v":0},"技能升星描述"]
[1274,{"$f":"VLOOKUP(A1277,[1]SkillConfig!$U:$AE,11,FALSE)","v":0},"技能升星描述"]
[1275,{"$f":"VLOOKUP(A1278,[1]SkillConfig!$U:$AE,11,FALSE)","v":"降速效果提升"},"技能升星描述"]
[1276,{"$f":"VLOOKUP(A1279,[1]SkillConfig!$U:$AE,11,FALSE)","v":"水灵根+5"},"技能升星描述"]
[1277,{"$f":"VLOOKUP(A1280,[1]SkillConfig!$U:$AE,11,FALSE)","v":"生命+5%"},"技能升星描述"]
[1278,{"$f":"VLOOKUP(A1281,[1]SkillConfig!$U:$AE,11,FALSE)","v":"水灵根+5"},"技能升星描述"]
[1279,{"$f":"VLOOKUP(A1282,[1]SkillConfig!$U:$AE,11,FALSE)","v":"降低被影响功法的强度"},"技能升星描述"]
[1280,{"$f":"VLOOKUP(A1283,[1]SkillConfig!$U:$AE,11,FALSE)","v":"水灵根+5"},"技能升星描述"]
[1281,{"$f":"VLOOKUP(A1284,[1]SkillConfig!$U:$AE,11,FALSE)","v":"防御+5%"},"技能升星描述"]
[1282,{"$f":"VLOOKUP(A1285,[1]SkillConfig!$U:$AE,11,FALSE)","v":"可使用次数增加"},"技能升星描述"]
[1283,{"$f":"VLOOKUP(A1286,[1]SkillConfig!$U:$AE,11,FALSE)","v":"水灵根+5"},"技能升星描述"]
[1284,{"$f":"VLOOKUP(A1287,[1]SkillConfig!$U:$AE,11,FALSE)","v":"功法额外增伤"},"技能升星描述"]
[1285,{"$f":"VLOOKUP(A1288,[1]SkillConfig!$U:$AE,11,FALSE)","v":0},"技能升星描述"]
[1286,{"$f":"VLOOKUP(A1289,[1]SkillConfig!$U:$AE,11,FALSE)","v":0},"技能升星描述"]
[1287,{"$f":"VLOOKUP(A1290,[1]SkillConfig!$U:$AE,11,FALSE)","v":0},"技能升星描述"]
[1288,{"$f":"VLOOKUP(A1291,[1]SkillConfig!$U:$AE,11,FALSE)","v":0},"技能升星描述"]
[1289,{"$f":"VLOOKUP(A1292,[1]SkillConfig!$U:$AE,11,FALSE)","v":0},"技能升星描述"]
[1290,{"$f":"VLOOKUP(A1293,[1]SkillConfig!$U:$AE,11,FALSE)","v":"封印法宝数量增加"},"技能升星描述"]
[1291,{"$f":"VLOOKUP(A1294,[1]SkillConfig!$U:$AE,11,FALSE)","v":"木灵根+5"},"技能升星描述"]
[1292,{"$f":"VLOOKUP(A1295,[1]SkillConfig!$U:$AE,11,FALSE)","v":"减缓相生法宝充能"},"技能升星描述"]
[1293,{"$f":"VLOOKUP(A1296,[1]SkillConfig!$U:$AE,11,FALSE)","v":"木灵根+5"},"技能升星描述"]
[1294,{"$f":"VLOOKUP(A1297,[1]SkillConfig!$U:$AE,11,FALSE)","v":"大幅减缓相生法宝充能"},"技能升星描述"]
[1295,{"$f":"VLOOKUP(A1298,[1]SkillConfig!$U:$AE,11,FALSE)","v":0},"技能升星描述"]
[1296,{"$f":"VLOOKUP(A1299,[1]SkillConfig!$U:$AE,11,FALSE)","v":0},"技能升星描述"]
[1297,{"$f":"VLOOKUP(A1300,[1]SkillConfig!$U:$AE,11,FALSE)","v":0},"技能升星描述"]
[1298,{"$f":"VLOOKUP(A1301,[1]SkillConfig!$U:$AE,11,FALSE)","v":0},"技能升星描述"]
[1299,{"$f":"VLOOKUP(A1302,[1]SkillConfig!$U:$AE,11,FALSE)","v":0},"技能升星描述"]
[1300,{"$f":"VLOOKUP(A1303,[1]SkillConfig!$U:$AE,11,FALSE)","v":"火灵根+5"},"技能升星描述"]
[1301,{"$f":"VLOOKUP(A1304,[1]SkillConfig!$U:$AE,11,FALSE)","v":"增加吸收几率"},"技能升星描述"]
[1302,{"$f":"VLOOKUP(A1305,[1]SkillConfig!$U:$AE,11,FALSE)","v":"攻击+5%"},"技能升星描述"]
[1303,{"$f":"VLOOKUP(A1306,[1]SkillConfig!$U:$AE,11,FALSE)","v":"火灵根+5"},"技能升星描述"]
[1304,{"$f":"VLOOKUP(A1307,[1]SkillConfig!$U:$AE,11,FALSE)","v":"完全吸收，临时加灵根"},"技能升星描述"]
[1305,{"$f":"VLOOKUP(A1308,[1]SkillConfig!$U:$AE,11,FALSE)","v":"打断增强，避免对拼"},"技能升星描述"]
[1306,{"$f":"VLOOKUP(A1309,[1]SkillConfig!$U:$AE,11,FALSE)","v":"火灵根+5"},"技能升星描述"]
[1307,{"$f":"VLOOKUP(A1310,[1]SkillConfig!$U:$AE,11,FALSE)","v":"攻击+%"},"技能升星描述"]
[1308,{"$f":"VLOOKUP(A1311,[1]SkillConfig!$U:$AE,11,FALSE)","v":"火灵根+5"},"技能升星描述"]
[1309,{"$f":"VLOOKUP(A1312,[1]SkillConfig!$U:$AE,11,FALSE)","v":"成功打断后加速冷却"},"技能升星描述"]
[1310,{"$f":"VLOOKUP(A1313,[1]SkillConfig!$U:$AE,11,FALSE)","v":"盾强度提升"},"技能升星描述"]
[1311,{"$f":"VLOOKUP(A1314,[1]SkillConfig!$U:$AE,11,FALSE)","v":"土灵根+5"},"技能升星描述"]
[1312,{"$f":"VLOOKUP(A1315,[1]SkillConfig!$U:$AE,11,FALSE)","v":"盾强度提升"},"技能升星描述"]
[1313,{"$f":"VLOOKUP(A1316,[1]SkillConfig!$U:$AE,11,FALSE)","v":"土灵根+5"},"技能升星描述"]
[1314,{"$f":"VLOOKUP(A1317,[1]SkillConfig!$U:$AE,11,FALSE)","v":"盾强度提升"},"技能升星描述"]
[1315,{"$f":"VLOOKUP(A1318,[1]SkillConfig!$U:$AE,11,FALSE)","v":0},"技能升星描述"]
[1316,{"$f":"VLOOKUP(A1319,[1]SkillConfig!$U:$AE,11,FALSE)","v":0},"技能升星描述"]
[1317,{"$f":"VLOOKUP(A1320,[1]SkillConfig!$U:$AE,11,FALSE)","v":0},"技能升星描述"]
[1318,{"$f":"VLOOKUP(A1321,[1]SkillConfig!$U:$AE,11,FALSE)","v":0},"技能升星描述"]
[1319,{"$f":"VLOOKUP(A1322,[1]SkillConfig!$U:$AE,11,FALSE)","v":0},"技能升星描述"]
[1320,"技能升星描述占位，勿占","技能升星描述"]
[1321,"技能升星描述占位，勿占","技能升星描述"]
[1322,"技能升星描述占位，勿占","技能升星描述"]
[1323,"技能升星描述占位，勿占","技能升星描述"]
[1324,"技能升星描述占位，勿占","技能升星描述"]
[1325,"技能升星描述占位，勿占","技能升星描述"]
[1326,"技能升星描述占位，勿占","技能升星描述"]
[1327,"技能升星描述占位，勿占","技能升星描述"]
[1328,"技能升星描述占位，勿占","技能升星描述"]
[1329,"技能升星描述占位，勿占","技能升星描述"]
[1330,"技能升星描述占位，勿占","技能升星描述"]
[1331,"技能升星描述占位，勿占","技能升星描述"]
[1332,"技能升星描述占位，勿占","技能升星描述"]
[1333,"技能升星描述占位，勿占","技能升星描述"]
[1334,"技能升星描述占位，勿占","技能升星描述"]
[1335,"技能升星描述占位，勿占","技能升星描述"]
[1336,"技能升星描述占位，勿占","技能升星描述"]
[1337,"技能升星描述占位，勿占","技能升星描述"]
[1338,"技能升星描述占位，勿占","技能升星描述"]
[1339,"技能升星描述占位，勿占","技能升星描述"]
[1340,"技能升星描述占位，勿占","技能升星描述"]
[1341,"技能升星描述占位，勿占","技能升星描述"]
[1342,"技能升星描述占位，勿占","技能升星描述"]
[1343,"技能升星描述占位，勿占","技能升星描述"]
[1344,"技能升星描述占位，勿占","技能升星描述"]
[1345,"技能升星描述占位，勿占","技能升星描述"]
[1346,"技能升星描述占位，勿占","技能升星描述"]
[1347,"技能升星描述占位，勿占","技能升星描述"]
[1348,"技能升星描述占位，勿占","技能升星描述"]
[1349,"技能升星描述占位，勿占","技能升星描述"]
[1350,"技能升星描述占位，勿占","技能升星描述"]
[1351,"技能升星描述占位，勿占","技能升星描述"]
[1352,"技能升星描述占位，勿占","技能升星描述"]
[1353,"技能升星描述占位，勿占","技能升星描述"]
[1354,"技能升星描述占位，勿占","技能升星描述"]
[1355,"技能升星描述占位，勿占","技能升星描述"]
[1356,"技能升星描述占位，勿占","技能升星描述"]
[1357,"技能升星描述占位，勿占","技能升星描述"]
[1358,"技能升星描述占位，勿占","技能升星描述"]
[1359,"技能升星描述占位，勿占","技能升星描述"]
[1360,"技能升星描述占位，勿占","技能升星描述"]
[1361,"技能升星描述占位，勿占","技能升星描述"]
[1362,"技能升星描述占位，勿占","技能升星描述"]
[1363,"技能升星描述占位，勿占","技能升星描述"]
[1364,"技能升星描述占位，勿占","技能升星描述"]
[1365,"技能升星描述占位，勿占","技能升星描述"]
[1366,"技能升星描述占位，勿占","技能升星描述"]
[1367,"技能升星描述占位，勿占","技能升星描述"]
[1368,"技能升星描述占位，勿占","技能升星描述"]
[1369,"技能升星描述占位，勿占","技能升星描述"]
[1370,"技能升星描述占位，勿占","技能升星描述"]
[1371,"技能升星描述占位，勿占","技能升星描述"]
[1372,"技能升星描述占位，勿占","技能升星描述"]
[1373,"技能升星描述占位，勿占","技能升星描述"]
[1374,"技能升星描述占位，勿占","技能升星描述"]
[1375,"技能升星描述占位，勿占","技能升星描述"]
[1376,"技能升星描述占位，勿占","技能升星描述"]
[1377,"技能升星描述占位，勿占","技能升星描述"]
[1378,"技能升星描述占位，勿占","技能升星描述"]
[1379,"技能升星描述占位，勿占","技能升星描述"]
[1380,"技能升星描述占位，勿占","技能升星描述"]
[1381,"技能升星描述占位，勿占","技能升星描述"]
[1382,"技能升星描述占位，勿占","技能升星描述"]
[1383,"技能升星描述占位，勿占","技能升星描述"]
[1384,"技能升星描述占位，勿占","技能升星描述"]
[1385,"技能升星描述占位，勿占","技能升星描述"]
[1386,"技能升星描述占位，勿占","技能升星描述"]
[1387,"技能升星描述占位，勿占","技能升星描述"]
[1388,"技能升星描述占位，勿占","技能升星描述"]
[1389,"技能升星描述占位，勿占","技能升星描述"]
[1390,"技能升星描述占位，勿占","技能升星描述"]
[1391,"技能升星描述占位，勿占","技能升星描述"]
[1392,"技能升星描述占位，勿占","技能升星描述"]
[1393,"技能升星描述占位，勿占","技能升星描述"]
[1394,"技能升星描述占位，勿占","技能升星描述"]
[1395,"技能升星描述占位，勿占","技能升星描述"]
[1396,"技能升星描述占位，勿占","技能升星描述"]
[1397,"技能升星描述占位，勿占","技能升星描述"]
[1398,"技能升星描述占位，勿占","技能升星描述"]
[1399,"技能升星描述占位，勿占","技能升星描述"]
[1400,"法宝灵韵"]
[1401,"用于提升法宝的等级"]
[1402,"禁元珠"]
[1403,"玄龟盾"]
[1404,"天殇血刃剑"]
[1405,"禁元珠描述"]
[1406,"玄龟盾描述"]
[1407,"天殇血刃剑描述"]
[1408,"禁元珠碎片"]
[1409,"玄龟盾碎片"]
[1410,"天殇血刃剑碎片"]
[1411,"禁元珠碎片描述"]
[1412,"玄龟盾碎片描述"]
[1413,"天殇血刃剑碎片描述"]
[1414,{"$f":"VLOOKUP(A1417,[2]ItemConfig!$B:$C,2,FALSE)","v":"太虚幻剑经"},"道具-功法名称"]
[1415,{"$f":"VLOOKUP(A1418,[2]ItemConfig!$B:$C,2,FALSE)","v":"天罡剑气诀"},"道具-功法名称"]
[1416,{"$f":"VLOOKUP(A1419,[2]ItemConfig!$B:$C,2,FALSE)","v":"血刃金煌功"},"道具-功法名称"]
[1417,{"$f":"VLOOKUP(A1420,[2]ItemConfig!$B:$C,2,FALSE)","v":"飞刃"},"道具-功法名称"]
[1418,{"$f":"VLOOKUP(A1421,[2]ItemConfig!$B:$C,2,FALSE)","v":"金针"},"道具-功法名称"]
[1419,{"$f":"VLOOKUP(A1422,[2]ItemConfig!$B:$C,2,FALSE)","v":"碧落幽冥劲"},"道具-功法名称"]
[1420,{"$f":"VLOOKUP(A1423,[2]ItemConfig!$B:$C,2,FALSE)","v":"雾隐千流法"},"道具-功法名称"]
[1421,{"$f":"VLOOKUP(A1424,[2]ItemConfig!$B:$C,2,FALSE)","v":"功法-水3"},"道具-功法名称"]
[1422,{"$f":"VLOOKUP(A1425,[2]ItemConfig!$B:$C,2,FALSE)","v":"水球"},"道具-功法名称"]
[1423,{"$f":"VLOOKUP(A1426,[2]ItemConfig!$B:$C,2,FALSE)","v":"冰刀"},"道具-功法名称"]
[1424,{"$f":"VLOOKUP(A1427,[2]ItemConfig!$B:$C,2,FALSE)","v":"瘴影千丝术"},"道具-功法名称"]
[1425,{"$f":"VLOOKUP(A1428,[2]ItemConfig!$B:$C,2,FALSE)","v":"蚀骨腐血掌"},"道具-功法名称"]
[1426,{"$f":"VLOOKUP(A1429,[2]ItemConfig!$B:$C,2,FALSE)","v":"功法-木3"},"道具-功法名称"]
[1427,{"$f":"VLOOKUP(A1430,[2]ItemConfig!$B:$C,2,FALSE)","v":"竹刺"},"道具-功法名称"]
[1428,{"$f":"VLOOKUP(A1431,[2]ItemConfig!$B:$C,2,FALSE)","v":"飞叶"},"道具-功法名称"]
[1429,{"$f":"VLOOKUP(A1432,[2]ItemConfig!$B:$C,2,FALSE)","v":"烈焰剑"},"道具-功法名称"]
[1430,{"$f":"VLOOKUP(A1433,[2]ItemConfig!$B:$C,2,FALSE)","v":"赤焰龙吟功"},"道具-功法名称"]
[1431,{"$f":"VLOOKUP(A1434,[2]ItemConfig!$B:$C,2,FALSE)","v":"朱雀燎原指"},"道具-功法名称"]
[1432,{"$f":"VLOOKUP(A1435,[2]ItemConfig!$B:$C,2,FALSE)","v":"火球"},"道具-功法名称"]
[1433,{"$f":"VLOOKUP(A1436,[2]ItemConfig!$B:$C,2,FALSE)","v":"火刀"},"道具-功法名称"]
[1434,{"$f":"VLOOKUP(A1437,[2]ItemConfig!$B:$C,2,FALSE)","v":"黄尘灭魂刺"},"道具-功法名称"]
[1435,{"$f":"VLOOKUP(A1438,[2]ItemConfig!$B:$C,2,FALSE)","v":"地裂屠龙斩"},"道具-功法名称"]
[1436,{"$f":"VLOOKUP(A1439,[2]ItemConfig!$B:$C,2,FALSE)","v":"功法-土3"},"道具-功法名称"]
[1437,{"$f":"VLOOKUP(A1440,[2]ItemConfig!$B:$C,2,FALSE)","v":"落石"},"道具-功法名称"]
[1438,{"$f":"VLOOKUP(A1441,[2]ItemConfig!$B:$C,2,FALSE)","v":"小石头"},"道具-功法名称"]
[1439,"道具-功法名称-占位","道具-功法名称"]
[1440,"道具-功法名称-占位","道具-功法名称"]
[1441,"道具-功法名称-占位","道具-功法名称"]
[1442,"道具-功法名称-占位","道具-功法名称"]
[1443,"道具-功法名称-占位","道具-功法名称"]
[1444,"道具-功法名称-占位","道具-功法名称"]
[1445,"道具-功法名称-占位","道具-功法名称"]
[1446,"道具-功法名称-占位","道具-功法名称"]
[1447,"道具-功法名称-占位","道具-功法名称"]
[1448,"道具-功法名称-占位","道具-功法名称"]
[1449,"道具-功法名称-占位","道具-功法名称"]
[1450,"道具-功法名称-占位","道具-功法名称"]
[1451,"道具-功法名称-占位","道具-功法名称"]
[1452,"道具-功法名称-占位","道具-功法名称"]
[1453,"道具-功法名称-占位","道具-功法名称"]
[1454,"道具-功法名称-占位","道具-功法名称"]
[1455,"道具-功法名称-占位","道具-功法名称"]
[1456,"道具-功法名称-占位","道具-功法名称"]
[1457,"道具-功法名称-占位","道具-功法名称"]
[1458,"道具-功法名称-占位","道具-功法名称"]
[1459,"道具-功法名称-占位","道具-功法名称"]
[1460,"道具-功法名称-占位","道具-功法名称"]
[1461,"道具-功法名称-占位","道具-功法名称"]
[1462,"道具-功法名称-占位","道具-功法名称"]
[1463,"道具-功法名称-占位","道具-功法名称"]
[1464,"道具-功法名称-占位","道具-功法名称"]
[1465,"道具-功法名称-占位","道具-功法名称"]
[1466,"道具-功法名称-占位","道具-功法名称"]
[1467,"道具-功法名称-占位","道具-功法名称"]
[1468,"道具-功法名称-占位","道具-功法名称"]
[1469,"道具-功法名称-占位","道具-功法名称"]
[1470,"道具-功法名称-占位","道具-功法名称"]
[1471,"道具-功法名称-占位","道具-功法名称"]
[1472,"道具-功法名称-占位","道具-功法名称"]
[1473,"道具-功法名称-占位","道具-功法名称"]
[1474,"道具-功法名称-占位","道具-功法名称"]
[1475,"道具-功法名称-占位","道具-功法名称"]
[1476,"道具-功法名称-占位","道具-功法名称"]
[1477,"道具-功法名称-占位","道具-功法名称"]
[1478,"道具-功法名称-占位","道具-功法名称"]
[1479,"道具-功法名称-占位","道具-功法名称"]
[1480,"道具-功法名称-占位","道具-功法名称"]
[1481,"道具-功法名称-占位","道具-功法名称"]
[1482,"道具-功法名称-占位","道具-功法名称"]
[1483,"道具-功法名称-占位","道具-功法名称"]
[1484,"道具-功法名称-占位","道具-功法名称"]
[1485,"道具-功法名称-占位","道具-功法名称"]
[1486,"道具-功法名称-占位","道具-功法名称"]
[1487,"道具-功法名称-占位","道具-功法名称"]
[1488,"道具-功法名称-占位","道具-功法名称"]
[1489,"道具-功法名称-占位","道具-功法名称"]
[1490,"道具-功法名称-占位","道具-功法名称"]
[1491,"道具-功法名称-占位","道具-功法名称"]
[1492,"道具-功法名称-占位","道具-功法名称"]
[1493,"道具-功法名称-占位","道具-功法名称"]
[1494,"道具-功法名称-占位","道具-功法名称"]
[1495,"道具-功法名称-占位","道具-功法名称"]
[1496,"道具-功法名称-占位","道具-功法名称"]
[1497,"道具-功法名称-占位","道具-功法名称"]
[1498,"道具-功法名称-占位","道具-功法名称"]
[1499,"道具-功法名称-占位","道具-功法名称"]
[1500,{"$f":"CONCATENATE(D1503,\"---功法道具描述占位\")","v":"太虚幻剑经---功法道具描述占位"},"道具-功法描述","太虚幻剑经"]
[1501,{"$f":"CONCATENATE(D1504,\"---功法道具描述占位\")","v":"天罡剑气诀---功法道具描述占位"},"道具-功法描述","天罡剑气诀"]
[1502,"血刃金煌功---功法道具描述占位","道具-功法描述","血刃金煌功"]
[1503,"飞刃---功法道具描述占位","道具-功法描述","飞刃"]
[1504,"金针---功法道具描述占位","道具-功法描述","金针"]
[1505,"碧落幽冥劲---功法道具描述占位","道具-功法描述","碧落幽冥劲"]
[1506,"雾隐千流法---功法道具描述占位","道具-功法描述","雾隐千流法"]
[1507,"功法-水3---功法道具描述占位","道具-功法描述","功法-水3"]
[1508,"水球---功法道具描述占位","道具-功法描述","水球"]
[1509,"冰刀---功法道具描述占位","道具-功法描述","冰刀"]
[1510,"瘴影千丝术---功法道具描述占位","道具-功法描述","瘴影千丝术"]
[1511,"蚀骨腐血掌---功法道具描述占位","道具-功法描述","蚀骨腐血掌"]
[1512,"功法-木3---功法道具描述占位","道具-功法描述","功法-木3"]
[1513,"竹刺---功法道具描述占位","道具-功法描述","竹刺"]
[1514,"飞叶---功法道具描述占位","道具-功法描述","飞叶"]
[1515,"烈焰剑---功法道具描述占位","道具-功法描述","烈焰剑"]
[1516,"赤焰龙吟功---功法道具描述占位","道具-功法描述","赤焰龙吟功"]
[1517,"朱雀燎原指---功法道具描述占位","道具-功法描述","朱雀燎原指"]
[1518,"火球---功法道具描述占位","道具-功法描述","火球"]
[1519,"火刀---功法道具描述占位","道具-功法描述","火刀"]
[1520,"黄尘灭魂刺---功法道具描述占位","道具-功法描述","黄尘灭魂刺"]
[1521,"地裂屠龙斩---功法道具描述占位","道具-功法描述","地裂屠龙斩"]
[1522,"功法-土3---功法道具描述占位","道具-功法描述","功法-土3"]
[1523,"落石---功法道具描述占位","道具-功法描述","落石"]
[1524,"小石头---功法道具描述占位","道具-功法描述","小石头"]
[1525,{"$f":"CONCATENATE(D1528,\"---功法道具描述占位\")","v":"---功法道具描述占位"},"道具-功法描述"]
[1526,"---功法道具描述占位","道具-功法描述"]
[1527,"---功法道具描述占位","道具-功法描述"]
[1528,"---功法道具描述占位","道具-功法描述"]
[1529,"---功法道具描述占位","道具-功法描述"]
[1530,"---功法道具描述占位","道具-功法描述"]
[1531,"---功法道具描述占位","道具-功法描述"]
[1532,"---功法道具描述占位","道具-功法描述"]
[1533,"---功法道具描述占位","道具-功法描述"]
[1534,"---功法道具描述占位","道具-功法描述"]
[1535,"---功法道具描述占位","道具-功法描述"]
[1536,"---功法道具描述占位","道具-功法描述"]
[1537,"---功法道具描述占位","道具-功法描述"]
[1538,"---功法道具描述占位","道具-功法描述"]
[1539,"---功法道具描述占位","道具-功法描述"]
[1540,"---功法道具描述占位","道具-功法描述"]
[1541,"---功法道具描述占位","道具-功法描述"]
[1542,"---功法道具描述占位","道具-功法描述"]
[1543,"---功法道具描述占位","道具-功法描述"]
[1544,"---功法道具描述占位","道具-功法描述"]
[1545,"---功法道具描述占位","道具-功法描述"]
[1546,"---功法道具描述占位","道具-功法描述"]
[1547,"---功法道具描述占位","道具-功法描述"]
[1548,"---功法道具描述占位","道具-功法描述"]
[1549,"---功法道具描述占位","道具-功法描述"]
[1550,"---功法道具描述占位","道具-功法描述"]
[1551,"---功法道具描述占位","道具-功法描述"]
[1552,"---功法道具描述占位","道具-功法描述"]
[1553,"---功法道具描述占位","道具-功法描述"]
[1554,"---功法道具描述占位","道具-功法描述"]
[1555,"---功法道具描述占位","道具-功法描述"]
[1556,"---功法道具描述占位","道具-功法描述"]
[1557,"---功法道具描述占位","道具-功法描述"]
[1558,"---功法道具描述占位","道具-功法描述"]
[1559,"---功法道具描述占位","道具-功法描述"]
[1560,"---功法道具描述占位","道具-功法描述"]
[1561,"---功法道具描述占位","道具-功法描述"]
[1562,"---功法道具描述占位","道具-功法描述"]
[1563,"---功法道具描述占位","道具-功法描述"]
[1564,"---功法道具描述占位","道具-功法描述"]
[1565,"---功法道具描述占位","道具-功法描述"]
[1566,"---功法道具描述占位","道具-功法描述"]
[1567,"---功法道具描述占位","道具-功法描述"]
[1568,"---功法道具描述占位","道具-功法描述"]
[1569,"---功法道具描述占位","道具-功法描述"]
[1570,"---功法道具描述占位","道具-功法描述"]
[1571,"---功法道具描述占位","道具-功法描述"]
[1572,"---功法道具描述占位","道具-功法描述"]
[1573,"---功法道具描述占位","道具-功法描述"]
[1574,"---功法道具描述占位","道具-功法描述"]
[1575,"---功法道具描述占位","道具-功法描述"]
[1576,"---功法道具描述占位","道具-功法描述"]
[1577,"---功法道具描述占位","道具-功法描述"]
[1578,"---功法道具描述占位","道具-功法描述"]
[1579,"---功法道具描述占位","道具-功法描述"]
[1580,"---功法道具描述占位","道具-功法描述"]
[1581,"---功法道具描述占位","道具-功法描述"]
[1582,"---功法道具描述占位","道具-功法描述"]
[1583,"---功法道具描述占位","道具-功法描述"]
[1584,"---功法道具描述占位","道具-功法描述"]
[1585,"---功法道具描述占位","道具-功法描述"]
[1586,"---功法道具描述占位","道具-功法描述"]
[1587,"---功法道具描述占位","道具-功法描述"]
[1588,"---功法道具描述占位","道具-功法描述"]
[1589,{"$f":"CONCATENATE(D1592,\"---功法道具描述占位\")","v":"---功法道具描述占位"},"道具-功法描述"]
[1590,"---功法道具描述占位","道具-功法描述"]
[1591,"---功法道具描述占位","道具-功法描述"]
[1592,"---功法道具描述占位","道具-功法描述"]
[1593,"---功法道具描述占位","道具-功法描述"]
[1594,"---功法道具描述占位","道具-功法描述"]
[1595,"---功法道具描述占位","道具-功法描述"]
[1596,"---功法道具描述占位","道具-功法描述"]
[1597,"---功法道具描述占位","道具-功法描述"]
[1598,"---功法道具描述占位","道具-功法描述"]
[1599,"---功法道具描述占位","道具-功法描述"]
[1600,{"$f":"VLOOKUP(A1603,[2]ItemConfig!$B:$C,2,FALSE)","v":"太虚幻剑经碎片"},"道具-功法碎片名称"]
[1601,{"$f":"VLOOKUP(A1604,[2]ItemConfig!$B:$C,2,FALSE)","v":"天罡剑气诀碎片"},"道具-功法碎片名称"]
[1602,{"$f":"VLOOKUP(A1605,[2]ItemConfig!$B:$C,2,FALSE)","v":"血刃金煌功碎片"},"道具-功法碎片名称"]
[1603,{"$f":"VLOOKUP(A1606,[2]ItemConfig!$B:$C,2,FALSE)","v":"飞刃碎片"},"道具-功法碎片名称"]
[1604,{"$f":"VLOOKUP(A1607,[2]ItemConfig!$B:$C,2,FALSE)","v":"金针碎片"},"道具-功法碎片名称"]
[1605,{"$f":"VLOOKUP(A1608,[2]ItemConfig!$B:$C,2,FALSE)","v":"碧落幽冥劲碎片"},"道具-功法碎片名称"]
[1606,{"$f":"VLOOKUP(A1609,[2]ItemConfig!$B:$C,2,FALSE)","v":"雾隐千流法碎片"},"道具-功法碎片名称"]
[1607,{"$f":"VLOOKUP(A1610,[2]ItemConfig!$B:$C,2,FALSE)","v":"功法-水3碎片"},"道具-功法碎片名称"]
[1608,{"$f":"VLOOKUP(A1611,[2]ItemConfig!$B:$C,2,FALSE)","v":"水球碎片"},"道具-功法碎片名称"]
[1609,{"$f":"VLOOKUP(A1612,[2]ItemConfig!$B:$C,2,FALSE)","v":"冰刀碎片"},"道具-功法碎片名称"]
[1610,{"$f":"VLOOKUP(A1613,[2]ItemConfig!$B:$C,2,FALSE)","v":"瘴影千丝术碎片"},"道具-功法碎片名称"]
[1611,{"$f":"VLOOKUP(A1614,[2]ItemConfig!$B:$C,2,FALSE)","v":"蚀骨腐血掌碎片"},"道具-功法碎片名称"]
[1612,{"$f":"VLOOKUP(A1615,[2]ItemConfig!$B:$C,2,FALSE)","v":"功法-木3碎片"},"道具-功法碎片名称"]
[1613,{"$f":"VLOOKUP(A1616,[2]ItemConfig!$B:$C,2,FALSE)","v":"竹刺碎片"},"道具-功法碎片名称"]
[1614,{"$f":"VLOOKUP(A1617,[2]ItemConfig!$B:$C,2,FALSE)","v":"飞叶碎片"},"道具-功法碎片名称"]
[1615,{"$f":"VLOOKUP(A1618,[2]ItemConfig!$B:$C,2,FALSE)","v":"烈焰剑碎片"},"道具-功法碎片名称"]
[1616,{"$f":"VLOOKUP(A1619,[2]ItemConfig!$B:$C,2,FALSE)","v":"赤焰龙吟功碎片"},"道具-功法碎片名称"]
[1617,{"$f":"VLOOKUP(A1620,[2]ItemConfig!$B:$C,2,FALSE)","v":"朱雀燎原指碎片"},"道具-功法碎片名称"]
[1618,{"$f":"VLOOKUP(A1621,[2]ItemConfig!$B:$C,2,FALSE)","v":"火球碎片"},"道具-功法碎片名称"]
[1619,{"$f":"VLOOKUP(A1622,[2]ItemConfig!$B:$C,2,FALSE)","v":"火刀碎片"},"道具-功法碎片名称"]
[1620,{"$f":"VLOOKUP(A1623,[2]ItemConfig!$B:$C,2,FALSE)","v":"黄尘灭魂刺碎片"},"道具-功法碎片名称"]
[1621,{"$f":"VLOOKUP(A1624,[2]ItemConfig!$B:$C,2,FALSE)","v":"地裂屠龙斩碎片"},"道具-功法碎片名称"]
[1622,{"$f":"VLOOKUP(A1625,[2]ItemConfig!$B:$C,2,FALSE)","v":"功法-土3碎片"},"道具-功法碎片名称"]
[1623,{"$f":"VLOOKUP(A1626,[2]ItemConfig!$B:$C,2,FALSE)","v":"落石碎片"},"道具-功法碎片名称"]
[1624,{"$f":"VLOOKUP(A1627,[2]ItemConfig!$B:$C,2,FALSE)","v":"小石头碎片"},"道具-功法碎片名称"]
[1625,{"$f":"VLOOKUP(A1628,[2]ItemConfig!$B:$C,2,FALSE)","v":"天衍星辰诀碎片"},"道具-功法碎片名称"]
[1626,{"$f":"VLOOKUP(A1629,[2]ItemConfig!$B:$C,2,FALSE)","v":"法宝秘籍碎片"},"道具-功法碎片名称"]
[1627,{"$f":"VLOOKUP(A1630,[2]ItemConfig!$B:$C,2,FALSE)","v":"崩脉决碎片"},"道具-功法碎片名称"]
[1628,{"$f":"VLOOKUP(A1631,[2]ItemConfig!$B:$C,2,FALSE)","v":"两仪决碎片"},"道具-功法碎片名称"]
[1629,{"$f":"VLOOKUP(A1632,[2]ItemConfig!$B:$C,2,FALSE)","v":"火焰决碎片"},"道具-功法碎片名称"]
[1630,{"$f":"VLOOKUP(A1633,[2]ItemConfig!$B:$C,2,FALSE)","v":"乾坤巨灵诀碎片"},"道具-功法碎片名称"]
[1631,{"$f":"VLOOKUP(A1634,[2]ItemConfig!$B:$C,2,FALSE)","v":"极速齿轮碎片"},"道具-功法碎片名称"]
[1632,{"$f":"VLOOKUP(A1635,[2]ItemConfig!$B:$C,2,FALSE)","v":"太虚剑意碎片"},"道具-功法碎片名称"]
[1633,{"$f":"VLOOKUP(A1636,[2]ItemConfig!$B:$C,2,FALSE)","v":"青莲净体诀碎片"},"道具-功法碎片名称"]
[1634,{"$f":"VLOOKUP(A1637,[2]ItemConfig!$B:$C,2,FALSE)","v":"碧霄回春术碎片"},"道具-功法碎片名称"]
[1635,"功法碎片名称占位----------------","道具-功法碎片名称"]
[1636,"功法碎片名称占位----------------","道具-功法碎片名称"]
[1637,"功法碎片名称占位----------------","道具-功法碎片名称"]
[1638,"功法碎片名称占位----------------","道具-功法碎片名称"]
[1639,"功法碎片名称占位----------------","道具-功法碎片名称"]
[1640,"功法碎片名称占位----------------","道具-功法碎片名称"]
[1641,"功法碎片名称占位----------------","道具-功法碎片名称"]
[1642,"功法碎片名称占位----------------","道具-功法碎片名称"]
[1643,"功法碎片名称占位----------------","道具-功法碎片名称"]
[1644,"功法碎片名称占位----------------","道具-功法碎片名称"]
[1645,"功法碎片名称占位----------------","道具-功法碎片名称"]
[1646,"功法碎片名称占位----------------","道具-功法碎片名称"]
[1647,"功法碎片名称占位----------------","道具-功法碎片名称"]
[1648,"功法碎片名称占位----------------","道具-功法碎片名称"]
[1649,"功法碎片名称占位----------------","道具-功法碎片名称"]
[1650,"功法碎片名称占位----------------","道具-功法碎片名称"]
[1651,"功法碎片名称占位----------------","道具-功法碎片名称"]
[1652,"功法碎片名称占位----------------","道具-功法碎片名称"]
[1653,"功法碎片名称占位----------------","道具-功法碎片名称"]
[1654,"功法碎片名称占位----------------","道具-功法碎片名称"]
[1655,"功法碎片名称占位----------------","道具-功法碎片名称"]
[1656,"功法碎片名称占位----------------","道具-功法碎片名称"]
[1657,"功法碎片名称占位----------------","道具-功法碎片名称"]
[1658,"功法碎片名称占位----------------","道具-功法碎片名称"]
[1659,"功法碎片名称占位----------------","道具-功法碎片名称"]
[1660,"功法碎片名称占位----------------","道具-功法碎片名称"]
[1661,"功法碎片名称占位----------------","道具-功法碎片名称"]
[1662,"功法碎片名称占位----------------","道具-功法碎片名称"]
[1663,"功法碎片名称占位----------------","道具-功法碎片名称"]
[1664,"功法碎片名称占位----------------","道具-功法碎片名称"]
[1665,"功法碎片名称占位----------------","道具-功法碎片名称"]
[1666,"功法碎片名称占位----------------","道具-功法碎片名称"]
[1667,"功法碎片名称占位----------------","道具-功法碎片名称"]
[1668,"功法碎片名称占位----------------","道具-功法碎片名称"]
[1669,"功法碎片名称占位----------------","道具-功法碎片名称"]
[1670,"功法碎片名称占位----------------","道具-功法碎片名称"]
[1671,"功法碎片名称占位----------------","道具-功法碎片名称"]
[1672,"功法碎片名称占位----------------","道具-功法碎片名称"]
[1673,"功法碎片名称占位----------------","道具-功法碎片名称"]
[1674,"功法碎片名称占位----------------","道具-功法碎片名称"]
[1675,"功法碎片名称占位----------------","道具-功法碎片名称"]
[1676,"功法碎片名称占位----------------","道具-功法碎片名称"]
[1677,"功法碎片名称占位----------------","道具-功法碎片名称"]
[1678,"功法碎片名称占位----------------","道具-功法碎片名称"]
[1679,"功法碎片名称占位----------------","道具-功法碎片名称"]
[1680,"功法碎片名称占位----------------","道具-功法碎片名称"]
[1681,"功法碎片名称占位----------------","道具-功法碎片名称"]
[1682,"功法碎片名称占位----------------","道具-功法碎片名称"]
[1683,"功法碎片名称占位----------------","道具-功法碎片名称"]
[1684,"功法碎片名称占位----------------","道具-功法碎片名称"]
[1685,"功法碎片名称占位----------------","道具-功法碎片名称"]
[1686,"功法碎片名称占位----------------","道具-功法碎片名称"]
[1687,"功法碎片名称占位----------------","道具-功法碎片名称"]
[1688,"功法碎片名称占位----------------","道具-功法碎片名称"]
[1689,"功法碎片名称占位----------------","道具-功法碎片名称"]
[1690,"功法碎片名称占位----------------","道具-功法碎片名称"]
[1691,"功法碎片名称占位----------------","道具-功法碎片名称"]
[1692,"功法碎片名称占位----------------","道具-功法碎片名称"]
[1693,"功法碎片名称占位----------------","道具-功法碎片名称"]
[1694,"功法碎片名称占位----------------","道具-功法碎片名称"]
[1695,"功法碎片名称占位----------------","道具-功法碎片名称"]
[1696,"功法碎片名称占位----------------","道具-功法碎片名称"]
[1697,"功法碎片名称占位----------------","道具-功法碎片名称"]
[1698,"功法碎片名称占位----------------","道具-功法碎片名称"]
[1699,"功法碎片名称占位----------------","道具-功法碎片名称"]
[1700,{"$f":"CONCATENATE(\"用于功法-\",D1703,\"-的升星\")","v":"用于功法-太虚幻剑经-的升星"},"道具-功法碎片描述","太虚幻剑经"]
[1701,{"$f":"CONCATENATE(\"用于功法-\",D1704,\"-的升星\")","v":"用于功法-天罡剑气诀-的升星"},"道具-功法碎片描述","天罡剑气诀"]
[1702,"用于功法-血刃金煌功-的升星","道具-功法碎片描述","血刃金煌功"]
[1703,"用于功法-飞刃-的升星","道具-功法碎片描述","飞刃"]
[1704,"用于功法-金针-的升星","道具-功法碎片描述","金针"]
[1705,"用于功法-碧落幽冥劲-的升星","道具-功法碎片描述","碧落幽冥劲"]
[1706,"用于功法-雾隐千流法-的升星","道具-功法碎片描述","雾隐千流法"]
[1707,"用于功法-功法-水3-的升星","道具-功法碎片描述","功法-水3"]
[1708,"用于功法-水球-的升星","道具-功法碎片描述","水球"]
[1709,"用于功法-冰刀-的升星","道具-功法碎片描述","冰刀"]
[1710,"用于功法-瘴影千丝术-的升星","道具-功法碎片描述","瘴影千丝术"]
[1711,"用于功法-蚀骨腐血掌-的升星","道具-功法碎片描述","蚀骨腐血掌"]
[1712,"用于功法-功法-木3-的升星","道具-功法碎片描述","功法-木3"]
[1713,"用于功法-竹刺-的升星","道具-功法碎片描述","竹刺"]
[1714,"用于功法-飞叶-的升星","道具-功法碎片描述","飞叶"]
[1715,"用于功法-烈焰剑-的升星","道具-功法碎片描述","烈焰剑"]
[1716,"用于功法-赤焰龙吟功-的升星","道具-功法碎片描述","赤焰龙吟功"]
[1717,"用于功法-朱雀燎原指-的升星","道具-功法碎片描述","朱雀燎原指"]
[1718,"用于功法-火球-的升星","道具-功法碎片描述","火球"]
[1719,"用于功法-火刀-的升星","道具-功法碎片描述","火刀"]
[1720,"用于功法-黄尘灭魂刺-的升星","道具-功法碎片描述","黄尘灭魂刺"]
[1721,"用于功法-地裂屠龙斩-的升星","道具-功法碎片描述","地裂屠龙斩"]
[1722,"用于功法-功法-土3-的升星","道具-功法碎片描述","功法-土3"]
[1723,"用于功法-落石-的升星","道具-功法碎片描述","落石"]
[1724,"用于功法-小石头-的升星","道具-功法碎片描述","小石头"]
[1725,{"$f":"CONCATENATE(\"用于功法-\",D1728,\"-的升星\")","v":"用于功法-天衍星辰诀-的升星"},"道具-功法碎片描述","天衍星辰诀"]
[1726,"用于功法-法宝秘籍-的升星","道具-功法碎片描述","法宝秘籍"]
[1727,"用于功法-崩脉决-的升星","道具-功法碎片描述","崩脉决"]
[1728,"用于功法-两仪决-的升星","道具-功法碎片描述","两仪决"]
[1729,"用于功法-火焰决-的升星","道具-功法碎片描述","火焰决"]
[1730,"用于功法-乾坤巨灵诀-的升星","道具-功法碎片描述","乾坤巨灵诀"]
[1731,"用于功法-极速齿轮-的升星","道具-功法碎片描述","极速齿轮"]
[1732,"用于功法-太虚剑意-的升星","道具-功法碎片描述","太虚剑意"]
[1733,"用于功法-青莲净体诀-的升星","道具-功法碎片描述","青莲净体诀"]
[1734,"用于功法-碧霄回春术-的升星","道具-功法碎片描述","碧霄回春术"]
[1735,"用于功法--的升星","道具-功法碎片描述"]
[1736,"用于功法--的升星","道具-功法碎片描述"]
[1737,"用于功法--的升星","道具-功法碎片描述"]
[1738,"用于功法--的升星","道具-功法碎片描述"]
[1739,"用于功法--的升星","道具-功法碎片描述"]
[1740,"用于功法--的升星","道具-功法碎片描述"]
[1741,"用于功法--的升星","道具-功法碎片描述"]
[1742,"用于功法--的升星","道具-功法碎片描述"]
[1743,"用于功法--的升星","道具-功法碎片描述"]
[1744,"用于功法--的升星","道具-功法碎片描述"]
[1745,"用于功法--的升星","道具-功法碎片描述"]
[1746,"用于功法--的升星","道具-功法碎片描述"]
[1747,{"$f":"CONCATENATE(\"用于功法-\",D1750,\"-的升星\")","v":"用于功法--的升星"},"道具-功法碎片描述"]
[1748,"用于功法--的升星","道具-功法碎片描述"]
[1749,"用于功法--的升星","道具-功法碎片描述"]
[1750,"用于功法--的升星","道具-功法碎片描述"]
[1751,"用于功法--的升星","道具-功法碎片描述"]
[1752,"用于功法--的升星","道具-功法碎片描述"]
[1753,"用于功法--的升星","道具-功法碎片描述"]
[1754,"用于功法--的升星","道具-功法碎片描述"]
[1755,"用于功法--的升星","道具-功法碎片描述"]
[1756,"用于功法--的升星","道具-功法碎片描述"]
[1757,"用于功法--的升星","道具-功法碎片描述"]
[1758,"用于功法--的升星","道具-功法碎片描述"]
[1759,"用于功法--的升星","道具-功法碎片描述"]
[1760,"用于功法--的升星","道具-功法碎片描述"]
[1761,"用于功法--的升星","道具-功法碎片描述"]
[1762,"用于功法--的升星","道具-功法碎片描述"]
[1763,"用于功法--的升星","道具-功法碎片描述"]
[1764,"用于功法--的升星","道具-功法碎片描述"]
[1765,"用于功法--的升星","道具-功法碎片描述"]
[1766,"用于功法--的升星","道具-功法碎片描述"]
[1767,"用于功法--的升星","道具-功法碎片描述"]
[1768,"用于功法--的升星","道具-功法碎片描述"]
[1769,"用于功法--的升星","道具-功法碎片描述"]
[1770,"用于功法--的升星","道具-功法碎片描述"]
[1771,"用于功法--的升星","道具-功法碎片描述"]
[1772,"用于功法--的升星","道具-功法碎片描述"]
[1773,"用于功法--的升星","道具-功法碎片描述"]
[1774,"用于功法--的升星","道具-功法碎片描述"]
[1775,"用于功法--的升星","道具-功法碎片描述"]
[1776,"用于功法--的升星","道具-功法碎片描述"]
[1777,"用于功法--的升星","道具-功法碎片描述"]
[1778,"用于功法--的升星","道具-功法碎片描述"]
[1779,"用于功法--的升星","道具-功法碎片描述"]
[1780,"用于功法--的升星","道具-功法碎片描述"]
[1781,"用于功法--的升星","道具-功法碎片描述"]
[1782,"用于功法--的升星","道具-功法碎片描述"]
[1783,"用于功法--的升星","道具-功法碎片描述"]
[1784,"用于功法--的升星","道具-功法碎片描述"]
[1785,"用于功法--的升星","道具-功法碎片描述"]
[1786,"用于功法--的升星","道具-功法碎片描述"]
[1787,"用于功法--的升星","道具-功法碎片描述"]
[1788,"用于功法--的升星","道具-功法碎片描述"]
[1789,"用于功法--的升星","道具-功法碎片描述"]
[1790,"用于功法--的升星","道具-功法碎片描述"]
[1791,"用于功法--的升星","道具-功法碎片描述"]
[1792,"用于功法--的升星","道具-功法碎片描述"]
[1793,"用于功法--的升星","道具-功法碎片描述"]
[1794,"用于功法--的升星","道具-功法碎片描述"]
[1795,"用于功法--的升星","道具-功法碎片描述"]
[1796,"用于功法--的升星","道具-功法碎片描述"]
[1797,"用于功法--的升星","道具-功法碎片描述"]
[1798,"用于功法--的升星","道具-功法碎片描述"]
[1799,"用于功法--的升星","道具-功法碎片描述"]
[1800,{"$f":"VLOOKUP(A1803,[2]ItemConfig!$B:$C,2,FALSE)","v":"天衍星辰诀"},"道具-被动功法名称"]
[1801,{"$f":"VLOOKUP(A1804,[2]ItemConfig!$B:$C,2,FALSE)","v":"法宝秘籍"},"道具-被动功法名称"]
[1802,{"$f":"VLOOKUP(A1805,[2]ItemConfig!$B:$C,2,FALSE)","v":"崩脉决"},"道具-被动功法名称"]
[1803,{"$f":"VLOOKUP(A1806,[2]ItemConfig!$B:$C,2,FALSE)","v":"两仪决"},"道具-被动功法名称"]
[1804,{"$f":"VLOOKUP(A1807,[2]ItemConfig!$B:$C,2,FALSE)","v":"火焰决"},"道具-被动功法名称"]
[1805,{"$f":"VLOOKUP(A1808,[2]ItemConfig!$B:$C,2,FALSE)","v":"乾坤巨灵诀"},"道具-被动功法名称"]
[1806,{"$f":"VLOOKUP(A1809,[2]ItemConfig!$B:$C,2,FALSE)","v":"极速齿轮"},"道具-被动功法名称"]
[1807,{"$f":"VLOOKUP(A1810,[2]ItemConfig!$B:$C,2,FALSE)","v":"太虚剑意"},"道具-被动功法名称"]
[1808,{"$f":"VLOOKUP(A1811,[2]ItemConfig!$B:$C,2,FALSE)","v":"青莲净体诀"},"道具-被动功法名称"]
[1809,{"$f":"VLOOKUP(A1812,[2]ItemConfig!$B:$C,2,FALSE)","v":"碧霄回春术"},"道具-被动功法名称"]
[1810,"被动功法名称------占位","道具-被动功法名称"]
[1811,"被动功法名称------占位","道具-被动功法名称"]
[1812,"被动功法名称------占位","道具-被动功法名称"]
[1813,"被动功法名称------占位","道具-被动功法名称"]
[1814,"被动功法名称------占位","道具-被动功法名称"]
[1815,"被动功法名称------占位","道具-被动功法名称"]
[1816,"被动功法名称------占位","道具-被动功法名称"]
[1817,"被动功法名称------占位","道具-被动功法名称"]
[1818,"被动功法名称------占位","道具-被动功法名称"]
[1819,"被动功法名称------占位","道具-被动功法名称"]
[1820,"被动功法名称------占位","道具-被动功法名称"]
[1821,"被动功法名称------占位","道具-被动功法名称"]
[1822,"被动功法名称------占位","道具-被动功法名称"]
[1823,"被动功法名称------占位","道具-被动功法名称"]
[1824,"被动功法名称------占位","道具-被动功法名称"]
[1825,"被动功法名称------占位","道具-被动功法名称"]
[1826,"被动功法名称------占位","道具-被动功法名称"]
[1827,"被动功法名称------占位","道具-被动功法名称"]
[1828,"被动功法名称------占位","道具-被动功法名称"]
[1829,"被动功法名称------占位","道具-被动功法名称"]
[1830,"被动功法名称------占位","道具-被动功法名称"]
[1831,"被动功法名称------占位","道具-被动功法名称"]
[1832,"被动功法名称------占位","道具-被动功法名称"]
[1833,"被动功法名称------占位","道具-被动功法名称"]
[1834,"被动功法名称------占位","道具-被动功法名称"]
[1835,"被动功法名称------占位","道具-被动功法名称"]
[1836,"被动功法名称------占位","道具-被动功法名称"]
[1837,"被动功法名称------占位","道具-被动功法名称"]
[1838,"被动功法名称------占位","道具-被动功法名称"]
[1839,"被动功法名称------占位","道具-被动功法名称"]
[1840,"被动功法名称------占位","道具-被动功法名称"]
[1841,"被动功法名称------占位","道具-被动功法名称"]
[1842,"被动功法名称------占位","道具-被动功法名称"]
[1843,"被动功法名称------占位","道具-被动功法名称"]
[1844,"被动功法名称------占位","道具-被动功法名称"]
[1845,"被动功法名称------占位","道具-被动功法名称"]
[1846,"被动功法名称------占位","道具-被动功法名称"]
[1847,"被动功法名称------占位","道具-被动功法名称"]
[1848,"被动功法名称------占位","道具-被动功法名称"]
[1849,"被动功法名称------占位","道具-被动功法名称"]
[1850,{"$f":"CONCATENATE(\"使用后获得被动功法-\",D1853)","v":"使用后获得被动功法-天衍星辰诀"},"道具-被动功法描述","天衍星辰诀"]
[1851,{"$f":"CONCATENATE(\"使用后获得被动功法-\",D1854)","v":"使用后获得被动功法-法宝秘籍"},"道具-被动功法描述","法宝秘籍"]
[1852,"使用后获得被动功法-崩脉决","道具-被动功法描述","崩脉决"]
[1853,"使用后获得被动功法-两仪决","道具-被动功法描述","两仪决"]
[1854,"使用后获得被动功法-火焰决","道具-被动功法描述","火焰决"]
[1855,"使用后获得被动功法-乾坤巨灵诀","道具-被动功法描述","乾坤巨灵诀"]
[1856,"使用后获得被动功法-极速齿轮","道具-被动功法描述","极速齿轮"]
[1857,"使用后获得被动功法-太虚剑意","道具-被动功法描述","太虚剑意"]
[1858,"使用后获得被动功法-青莲净体诀","道具-被动功法描述","青莲净体诀"]
[1859,"使用后获得被动功法-碧霄回春术","道具-被动功法描述","碧霄回春术"]
[1860,{"$f":"CONCATENATE(\"使用后获得被动功法-\",D1863)","v":"使用后获得被动功法-"},"道具-被动功法描述"]
[1861,"使用后获得被动功法-","道具-被动功法描述"]
[1862,"使用后获得被动功法-","道具-被动功法描述"]
[1863,"使用后获得被动功法-","道具-被动功法描述"]
[1864,"使用后获得被动功法-","道具-被动功法描述"]
[1865,"使用后获得被动功法-","道具-被动功法描述"]
[1866,"使用后获得被动功法-","道具-被动功法描述"]
[1867,"使用后获得被动功法-","道具-被动功法描述"]
[1868,"使用后获得被动功法-","道具-被动功法描述"]
[1869,"使用后获得被动功法-","道具-被动功法描述"]
[1870,"使用后获得被动功法-","道具-被动功法描述"]
[1871,"使用后获得被动功法-","道具-被动功法描述"]
[1872,"使用后获得被动功法-","道具-被动功法描述"]
[1873,"使用后获得被动功法-","道具-被动功法描述"]
[1874,"使用后获得被动功法-","道具-被动功法描述"]
[1875,"使用后获得被动功法-","道具-被动功法描述"]
[1876,"使用后获得被动功法-","道具-被动功法描述"]
[1877,"使用后获得被动功法-","道具-被动功法描述"]
[1878,"使用后获得被动功法-","道具-被动功法描述"]
[1879,"使用后获得被动功法-","道具-被动功法描述"]
[1880,"使用后获得被动功法-","道具-被动功法描述"]
[1881,"使用后获得被动功法-","道具-被动功法描述"]
[1882,"使用后获得被动功法-","道具-被动功法描述"]
[1883,"使用后获得被动功法-","道具-被动功法描述"]
[1884,"使用后获得被动功法-","道具-被动功法描述"]
[1885,"使用后获得被动功法-","道具-被动功法描述"]
[1886,"使用后获得被动功法-","道具-被动功法描述"]
[1887,"使用后获得被动功法-","道具-被动功法描述"]
[1888,"使用后获得被动功法-","道具-被动功法描述"]
[1889,"使用后获得被动功法-","道具-被动功法描述"]
[1890,"使用后获得被动功法-","道具-被动功法描述"]
[1891,"使用后获得被动功法-","道具-被动功法描述"]
[1892,"使用后获得被动功法-","道具-被动功法描述"]
[1893,"使用后获得被动功法-","道具-被动功法描述"]
[1894,"使用后获得被动功法-","道具-被动功法描述"]
[1895,"使用后获得被动功法-","道具-被动功法描述"]
[1896,"使用后获得被动功法-","道具-被动功法描述"]
[1897,"使用后获得被动功法-","道具-被动功法描述"]
[1898,"使用后获得被动功法-","道具-被动功法描述"]
[1899,"使用后获得被动功法-","道具-被动功法描述"]
[1900,"GM商店"]
[1901,{"$f":"VLOOKUP(A1904,[3]EventLinkConfig!$C:$F,4,FALSE)","v":{"$error":"#N/A"}},"神识事件文本"]
[1902,{"$f":"VLOOKUP(A1905,[3]EventLinkConfig!$C:$F,4,FALSE)","v":{"$error":"#N/A"}},"神识事件文本"]
[1903,"你仔细研读后，功法得到精进"]
[1904,"法宝商店"]
[1905,"功法商店"]
[1906,"鲲鹏何在"]
[1907,"北海古径"]
[1908,"找到风灵珠"]
[1909,"达到境界"]
[1910,"找寻去北海的线索"]
[1911,"击杀妖兽{0}/{1}"]
[1912,"找到风灵珠{0}/{1}"]
[1913,"达到境界{0}"]
[1914,"北海遥远，山高路险，我如今只有练气修为，何时能到？得一边修炼一边找路。"]
[1915,"    神识探得北海方向，有一条古径，隐于云山之间。\n    不过，古径深处妖气弥漫，有妖兽盘踞，需要破除后才能通过。\n    鲲鹏的秘密，可能和这些妖兽有关。"]
[1916,"鲲鹏需要去南海最深处的天池，可缺少龙卷风，没有大风，大鹏无法飞起来"]
[1917,"需要达到境界"]
[1918,"人界"]
[1919,"仙界"]
[1920,"魔界"]
[1921,"蓬莱岛"]
[1922,"东海"]
[1923,"无量界"]
[1924,"碧霞仙屿"]
[1925,"云渺港"]
[1926,"青莲峰"]
[1927,"月隐谷"]
[1928,"龙吟渊"]
[1929,"珊瑚灵礁"]
[1930,"玄波岛"]
[1931,"天心湖"]
[1932,"翠微山"]
[1933,"星落平原"]
[1934,"无垢城"]
[1935,"寂光林"]
[1936,{"$f":"VLOOKUP(A1939,[3]EventConfig!$M:$O,3,FALSE)","v":{"$error":"#N/A"}},"事件主体描述"]
[1937,{"$f":"VLOOKUP(A1940,[3]EventConfig!$M:$O,3,FALSE)","v":{"$error":"#N/A"}},"事件主体描述"]
[1938,{"$f":"VLOOKUP(A1941,[3]EventConfig!$M:$O,3,FALSE)","v":{"$error":"#N/A"}},"事件主体描述"]
[1939,{"$f":"VLOOKUP(A1942,[3]EventConfig!$M:$O,3,FALSE)","v":{"$error":"#N/A"}},"事件主体描述"]
[1940,{"$f":"VLOOKUP(A1943,[3]EventConfig!$M:$O,3,FALSE)","v":{"$error":"#N/A"}},"事件主体描述"]
[1941,{"$f":"VLOOKUP(A1944,[3]EventConfig!$M:$O,3,FALSE)","v":{"$error":"#N/A"}},"事件主体描述"]
[1942,{"$f":"VLOOKUP(A1945,[3]EventConfig!$M:$O,3,FALSE)","v":{"$error":"#N/A"}},"事件主体描述"]
[1943,{"$f":"VLOOKUP(A1946,[3]EventConfig!$L:$N,3,FALSE)","v":{"$error":"#N/A"}},"事件名称"]
[1944,{"$f":"VLOOKUP(A1947,[3]EventConfig!$M:$O,3,FALSE)","v":{"$error":"#N/A"}},"事件主体描述"]
[1945,"论道大会"]
[1946,"仙山探险"]
[1947,"好感度礼物1"]
[1948,"好感度礼物2"]
[1949,"道具描述_好感度礼物1"]
[1950,"道具描述_好感度礼物2"]
[1951,"心情礼物"]
[1952,"道具描述_心情礼物"]
[1953,"道友1"]
[1954,"道友2"]
[1955,"道友3"]
[1956,"道友4"]
[1957,"道友5"]
[1958,"道友6"]
[1959,"道友7"]
[1960,"道友8"]
[1961,"道友9"]
[1962,"道友10"]
[1963,{"$f":"_xlfn.TEXTJOIN(\"_\",1,\"道友\",F1966:G1966)","v":"道友_1_介绍文本1"},null,null,null,1,"介绍文本1"]
[1964,{"$f":"_xlfn.TEXTJOIN(\"_\",1,\"道友\",F1967:G1967)","v":"道友_1_介绍文本2"},null,null,null,1,"介绍文本2"]
[1965,"道友_1_介绍文本3",null,null,null,1,"介绍文本3"]
[1966,"道友_2_介绍文本1",null,null,null,{"$f":"F1966+1","v":2},"介绍文本1"]
[1967,"道友_2_介绍文本2",null,null,null,{"$f":"F1967+1","v":2},"介绍文本2"]
[1968,"道友_2_介绍文本3",null,null,null,2,"介绍文本3"]
[1969,"道友_3_介绍文本1",null,null,null,3,"介绍文本1"]
[1970,"道友_3_介绍文本2",null,null,null,3,"介绍文本2"]
[1971,"道友_3_介绍文本3",null,null,null,3,"介绍文本3"]
[1972,"道友_4_介绍文本1",null,null,null,4,"介绍文本1"]
[1973,"道友_4_介绍文本2",null,null,null,4,"介绍文本2"]
[1974,"道友_4_介绍文本3",null,null,null,4,"介绍文本3"]
[1975,"道友_5_介绍文本1",null,null,null,5,"介绍文本1"]
[1976,"道友_5_介绍文本2",null,null,null,5,"介绍文本2"]
[1977,"道友_5_介绍文本3",null,null,null,5,"介绍文本3"]
[1978,"道友_6_介绍文本1",null,null,null,6,"介绍文本1"]
[1979,"道友_6_介绍文本2",null,null,null,6,"介绍文本2"]
[1980,"道友_6_介绍文本3",null,null,null,6,"介绍文本3"]
[1981,"道友_7_介绍文本1",null,null,null,7,"介绍文本1"]
[1982,"道友_7_介绍文本2",null,null,null,7,"介绍文本2"]
[1983,"道友_7_介绍文本3",null,null,null,7,"介绍文本3"]
[1984,"道友_8_介绍文本1",null,null,null,8,"介绍文本1"]
[1985,"道友_8_介绍文本2",null,null,null,8,"介绍文本2"]
[1986,"道友_8_介绍文本3",null,null,null,8,"介绍文本3"]
[1987,"道友_9_介绍文本1",null,null,null,9,"介绍文本1"]
[1988,"道友_9_介绍文本2",null,null,null,9,"介绍文本2"]
[1989,"道友_9_介绍文本3",null,null,null,9,"介绍文本3"]
[1990,"道友_10_介绍文本1",null,null,null,10,"介绍文本1"]
[1991,"道友_10_介绍文本2",null,null,null,10,"介绍文本2"]
[1992,"道友_10_介绍文本3",null,null,null,10,"介绍文本3"]
[1993,"赠送修为",null,"道友-加成-名称"]
[1994,"赠送修为",null,"道友-加成-名称"]
[1995,"赠送修为",null,"道友-加成-名称"]
[1996,"赠送修为",null,"道友-加成-名称"]
[1997,"赠送铜钱",null,"道友-加成-名称"]
[1998,"赠送铜钱",null,"道友-加成-名称"]
[1999,"赠送铜钱",null,"道友-加成-名称"]
[2000,"赠送铜钱",null,"道友-加成-名称"]
[2001,"赠送灵气",null,"道友-加成-名称"]
[2002,"赠送灵气",null,"道友-加成-名称"]
[2003,"赠送灵气",null,"道友-加成-名称"]
[2004,"赠送灵气",null,"道友-加成-名称"]
[2005,"赠送灵韵",null,"道友-加成-名称"]
[2006,"赠送灵韵",null,"道友-加成-名称"]
[2007,"赠送灵韵",null,"道友-加成-名称"]
[2008,"赠送灵韵",null,"道友-加成-名称"]
[2009,"这位道友离开时会给与玩家少量修为奖励"]
[2010,"这位道友离开时会给与玩家一些修为奖励"]
[2011,"这位道友离开时会给与玩家很多修为奖励"]
[2012,"这位道友离开时会给与玩家丰厚修为奖励"]
[2013,"这位道友离开时会给与玩家少量铜钱奖励"]
[2014,"这位道友离开时会给与玩家一些铜钱奖励"]
[2015,"这位道友离开时会给与玩家很多铜钱奖励"]
[2016,"这位道友离开时会给与玩家丰厚铜钱奖励"]
[2017,"这位道友离开时会给与玩家少量功法灵气奖励"]
[2018,"这位道友离开时会给与玩家一些功法灵气奖励"]
[2019,"这位道友离开时会给与玩家很多功法灵气奖励"]
[2020,"这位道友离开时会给与玩家丰厚功法灵气奖励"]
[2021,"这位道友离开时会给与玩家少量法宝灵韵奖励"]
[2022,"这位道友离开时会给与玩家一些法宝灵韵奖励"]
[2023,"这位道友离开时会给与玩家很多法宝灵韵奖励"]
[2024,"这位道友离开时会给与玩家丰厚法宝灵韵奖励"]
[2025,"好感度1"]
[2026,"好感度2"]
[2027,"好感度3"]
[2028,"好感度4"]
[2029,"好感度5"]
[2030,"好感度6"]
[2031,"好感度7"]
[2032,"好感度8"]
[2033,"好感度9"]
[2034,"好感度10"]
[2035,"幽谷剑鸣"]
[2036,"你在闭关修炼时，感受到一股凌厉的剑意波动。深入探查，发现一名白衣剑修“清霜”盘坐于谷中，周围剑气环绕，正与一柄散发不祥气息的灵剑对峙。她似在参悟剑诀，却灵气不足，剑灵桀骜。"]
[2037,"你上前以剑意对抗剑灵"]
[2038,"成功压制剑灵，清霜赠你“霜华剑符”并结下道友之谊"]
[2039,"你察觉谷中灵气匮乏，清霜剑意凝滞。神识探查得知，附近秘境可采集“玄冰花”"]
[2040,"献上玄冰花，清霜炼化灵气突破瓶颈，赠你“玄霜剑意”"]
[2041,"挑战剑灵"]
[2042,"收集灵材"]
[2043,"开心"]
[2044,"一般"]
[2045,"失落"]
[2046,"生命增幅"]
[2047,"攻击增幅"]
[2048,"防御增幅"]
[2049,"金之灵根"]
[2050,"水之灵根"]
[2051,"木之灵根"]
[2052,"火之灵根"]
[2053,"土之灵根"]
[2054,"玩家生命+{0}%"]
[2055,"玩家攻击+{0}%"]
[2056,"玩家防御+{0}%"]
[2057,"玩家金灵根+{0}"]
[2058,"玩家水灵根+{0}"]
[2059,"玩家木灵根+{0}"]
[2060,"玩家火灵根+{0}"]
[2061,"玩家土灵根+{0}"]
[2062,"这位道友离开时有{0}%概率赠与玩家奖励"]
[2063,"赠送概率"]
[2064,"赠送概率"]
[2065,"赠送概率"]
[2066,"赠送概率"]
[2067,"惠子.没用的大葫芦"]
[2068,"惠子种的葫芦没用，他非常生气"]
[2069,"发现魔修"]
[2070,"发现一群魔修，正在夺人钱财"]
[2071,"魔修"]
[2072,"打败魔休"]
[2073,"和惠子交谈"]
[2074,"惠子种的葫芦没用，他非常生气，需要打败魔休"]
[2075,"接受任务"]
[2076,"出现Boss魔修"]
[2077,"打败魔修"]
[2078,"拥有金币{0}/{1}"]
[2079,"达到境界{0}/{1}"]
[2080,"击杀魔休{0}/{1}"]
[2081,"获得钻石{0}/{1}"]
[2082,"第一章.逍遥游"]
[2083,"多次渡劫失败的你，误入“无何有之乡”，在这里受到了列子的指引，踏上了寻找七道心境的修仙之路。"]
[2084,"无用的大葫芦"]
[2085,"惠子种出了巨大葫芦，他觉得毫无用处，非常生气！"]
[2086]
[2087]
[2088]

{"sheet":"LanguageChineseConfig","index":1,"n_rows":2573,"n_cols":2,"rows_kept":2573,"cut":false,"hidden":false,"merged":[]}
["ID","txt"]
["int","string"]
[]
["ID","文本内容"]
[{"$f":"IF(語言配置表!A4=\"\",\"\",語言配置表!A4)","v":1},{"$f":"IF(語言配置表!A4=\"\",\"CN_待填充内容\",語言配置表!B4)","v":"-李逍遥"}]
[{"$f":"IF(語言配置表!A5=\"\",\"\",語言配置表!A5)","v":2},{"$f":"IF(語言配置表!A5=\"\",\"CN_待填充内容\",語言配置表!B5)","v":"-小怪1"}]
[{"$f":"IF(語言配置表!A6=\"\",\"\",語言配置表!A6)","v":3},{"$f":"IF(語言配置表!A6=\"\",\"CN_待填充内容\",語言配置表!B6)","v":"-小怪2"}]
[{"$f":"IF(語言配置表!A7=\"\",\"\",語言配置表!A7)","v":4},{"$f":"IF(語言配置表!A7=\"\",\"CN_待填充内容\",語言配置表!B7)","v":"-小怪3"}]
[{"$f":"IF(語言配置表!A8=\"\",\"\",語言配置表!A8)","v":5},{"$f":"IF(語言配置表!A8=\"\",\"CN_待填充内容\",語言配置表!B8)","v":"-BOSS1"}]
[{"$f":"IF(語言配置表!A9=\"\",\"\",語言配置表!A9)","v":6},{"$f":"IF(語言配置表!A9=\"\",\"CN_待填充内容\",語言配置表!B9)","v":"伊莉莎白·月影"}]
[{"$f":"IF(語言配置表!A10=\"\",\"\",語言配置表!A10)","v":7},{"$f":"IF(語言配置表!A10=\"\",\"CN_待填充内容\",語言配置表!B10)","v":"馬修·星辰"}]
[{"$f":"IF(語言配置表!A11=\"\",\"\",語言配置表!A11)","v":8},{"$f":"IF(語言配置表!A11=\"\",\"CN_待填充内容\",語言配置表!B11)","v":"卡特琳娜·霜語"}]
[{"$f":"IF(語言配置表!A12=\"\",\"\",語言配置表!A12)","v":9},{"$f":"IF(語言配置表!A12=\"\",\"CN_待填充内容\",語言配置表!B12)","v":"西蒙·玄光"}]
[{"$f":"IF(語言配置表!A13=\"\",\"\",語言配置表!A13)","v":10},{"$f":"IF(語言配置表!A13=\"\",\"CN_待填充内容\",語言配置表!B13)","v":"艾琳娜·靈風"}]
[{"$f":"IF(語言配置表!A14=\"\",\"\",語言配置表!A14)","v":11},{"$f":"IF(語言配置表!A14=\"\",\"CN_待填充内容\",語言配置表!B14)","v":"加百利·聖心"}]
[{"$f":"IF(語言配置表!A15=\"\",\"\",語言配置表!A15)","v":12},{"$f":"IF(語言配置表!A15=\"\",\"CN_待填充内容\",語言配置表!B15)","v":"索菲亞·慈恩"}]
[{"$f":"IF(語言配置表!A16=\"\",\"\",語言配置表!A16)","v":13},{"$f":"IF(語言配置表!A16=\"\",\"CN_待填充内容\",語言配置表!B16)","v":"盧克·淨魂"}]
[{"$f":"IF(語言配置表!A17=\"\",\"\",語言配置表!A17)","v":14},{"$f":"IF(語言配置表!A17=\"\",\"CN_待填充内容\",語言配置表!B17)","v":"安娜貝爾·光耀"}]
[{"$f":"IF(語言配置表!A18=\"\",\"\",語言配置表!A18)","v":15},{"$f":"IF(語言配置表!A18=\"\",\"CN_待填充内容\",語言配置表!B18)","v":"伊莎貝拉·恩典"}]
[{"$f":"IF(語言配置表!A19=\"\",\"\",語言配置表!A19)","v":16},{"$f":"IF(語言配置表!A19=\"\",\"CN_待填充内容\",語言配置表!B19)","v":"萊恩·影蹤"}]
[{"$f":"IF(語言配置表!A20=\"\",\"\",語言配置表!A20)","v":17},{"$f":"IF(語言配置表!A20=\"\",\"CN_待填充内容\",語言配置表!B20)","v":"艾米麗·翠羽"}]
[{"$f":"IF(語言配置表!A21=\"\",\"\",語言配置表!A21)","v":18},{"$f":"IF(語言配置表!A21=\"\",\"CN_待填充内容\",語言配置表!B21)","v":"德裏克·疾風"}]
[{"$f":"IF(語言配置表!A22=\"\",\"\",語言配置表!A22)","v":19},{"$f":"IF(語言配置表!A22=\"\",\"CN_待填充内容\",語言配置表!B22)","v":"維多利亞·夜刃"}]
[{"$f":"IF(語言配置表!A23=\"\",\"\",語言配置表!A23)","v":20},{"$f":"IF(語言配置表!A23=\"\",\"CN_待填充内容\",語言配置表!B23)","v":"諾亞·林蹤"}]
[{"$f":"IF(語言配置表!A24=\"\",\"\",語言配置表!A24)","v":21},{"$f":"IF(語言配置表!A24=\"\",\"CN_待填充内容\",語言配置表!B24)","v":"生命值"}]
[{"$f":"IF(語言配置表!A25=\"\",\"\",語言配置表!A25)","v":22},{"$f":"IF(語言配置表!A25=\"\",\"CN_待填充内容\",語言配置表!B25)","v":"攻擊力"}]
[{"$f":"IF(語言配置表!A26=\"\",\"\",語言配置表!A26)","v":23},{"$f":"IF(語言配置表!A26=\"\",\"CN_待填充内容\",語言配置表!B26)","v":"防禦力"}]
[{"$f":"IF(語言配置表!A27=\"\",\"\",語言配置表!A27)","v":24},{"$f":"IF(語言配置表!A27=\"\",\"CN_待填充内容\",語言配置表!B27)","v":"攻擊速度"}]
[{"$f":"IF(語言配置表!A28=\"\",\"\",語言配置表!A28)","v":25},{"$f":"IF(語言配置表!A28=\"\",\"CN_待填充内容\",語言配置表!B28)","v":"暴擊幾率"}]
[{"$f":"IF(語言配置表!A29=\"\",\"\",語言配置表!A29)","v":26},{"$f":"IF(語言配置表!A29=\"\",\"CN_待填充内容\",語言配置表!B29)","v":"暴擊傷害"}]
[{"$f":"IF(語言配置表!A30=\"\",\"\",語言配置表!A30)","v":27},{"$f":"IF(語言配置表!A30=\"\",\"CN_待填充内容\",語言配置表!B30)","v":"閃避幾率"}]
[{"$f":"IF(語言配置表!A31=\"\",\"\",語言配置表!A31)","v":28},{"$f":"IF(語言配置表!A31=\"\",\"CN_待填充内容\",語言配置表!B31)","v":"命中"}]
[{"$f":"IF(語言配置表!A32=\"\",\"\",語言配置表!A32)","v":29},{"$f":"IF(語言配置表!A32=\"\",\"CN_待填充内容\",語言配置表!B32)","v":"吸血"}]
[{"$f":"IF(語言配置表!A33=\"\",\"\",語言配置表!A33)","v":30},{"$f":"IF(語言配置表!A33=\"\",\"CN_待填充内容\",語言配置表!B33)","v":"傳說"}]
[{"$f":"IF(語言配置表!A34=\"\",\"\",語言配置表!A34)","v":31},{"$f":"IF(語言配置表!A34=\"\",\"CN_待填充内容\",語言配置表!B34)","v":"史詩"}]
[{"$f":"IF(語言配置表!A35=\"\",\"\",語言配置表!A35)","v":32},{"$f":"IF(語言配置表!A35=\"\",\"CN_待填充内容\",語言配置表!B35)","v":"精英"}]
[{"$f":"IF(語言配置表!A36=\"\",\"\",語言配置表!A36)","v":33},{"$f":"IF(語言配置表!A36=\"\",\"CN_待填充内容\",語言配置表!B36)","v":"向前方釋放1道劍氣，造成<color=#7AC180>{0}%</color>攻擊力的傷害。"}]
[{"$f":"IF(語言配置表!A37=\"\",\"\",語言配置表!A37)","v":34},{"$f":"IF(語言配置表!A37=\"\",\"CN_待填充内容\",語言配置表!B37)","v":"造成的傷害提升至<color=#7AC180>{0}%</color>。"}]
[{"$f":"IF(語言配置表!A38=\"\",\"\",語言配置表!A38)","v":35},{"$f":"IF(語言配置表!A38=\"\",\"CN_待填充内容\",語言配置表!B38)","v":"造成的傷害提升至<color=#7AC180>{0}%</color>。"}]
[{"$f":"IF(語言配置表!A39=\"\",\"\",語言配置表!A39)","v":36},{"$f":"IF(語言配置表!A39=\"\",\"CN_待填充内容\",語言配置表!B39)","v":"造成的傷害提升至<color=#7AC180>{0}%</color>。"}]
[{"$f":"IF(語言配置表!A40=\"\",\"\",語言配置表!A40)","v":37},{"$f":"IF(語言配置表!A40=\"\",\"CN_待填充内容\",語言配置表!B40)","v":"英雄提升至{0}級強化該技能"}]
[{"$f":"IF(語言配置表!A41=\"\",\"\",語言配置表!A41)","v":38},{"$f":"IF(語言配置表!A41=\"\",\"CN_待填充内容\",語言配置表!B41)","v":"英雄提升至{0}級解鎖該技能"}]
[{"$f":"IF(語言配置表!A42=\"\",\"\",語言配置表!A42)","v":39},{"$f":"IF(語言配置表!A42=\"\",\"CN_待填充内容\",語言配置表!B42)","v":"英雄提升至{0}星強化該技能"}]
[{"$f":"IF(語言配置表!A43=\"\",\"\",語言配置表!A43)","v":40},{"$f":"IF(語言配置表!A43=\"\",\"CN_待填充内容\",語言配置表!B43)","v":"英雄提升至{0}星解鎖該技能"}]
[{"$f":"IF(語言配置表!A44=\"\",\"\",語言配置表!A44)","v":41},{"$f":"IF(語言配置表!A44=\"\",\"CN_待填充内容\",語言配置表!B44)","v":"{0}級："}]
[{"$f":"IF(語言配置表!A45=\"\",\"\",語言配置表!A45)","v":42},{"$f":"IF(語言配置表!A45=\"\",\"CN_待填充内容\",語言配置表!B45)","v":"({0}級解鎖)"}]
[{"$f":"IF(語言配置表!A46=\"\",\"\",語言配置表!A46)","v":43},{"$f":"IF(語言配置表!A46=\"\",\"CN_待填充内容\",語言配置表!B46)","v":"({0}星解鎖)"}]
[{"$f":"IF(語言配置表!A47=\"\",\"\",語言配置表!A47)","v":44},{"$f":"IF(語言配置表!A47=\"\",\"CN_待填充内容\",語言配置表!B47)","v":"技能已達最高等級"}]
[{"$f":"IF(語言配置表!A48=\"\",\"\",語言配置表!A48)","v":45},{"$f":"IF(語言配置表!A48=\"\",\"CN_待填充内容\",語言配置表!B48)","v":"旋風斬"}]
[{"$f":"IF(語言配置表!A49=\"\",\"\",語言配置表!A49)","v":46},{"$f":"IF(語言配置表!A49=\"\",\"CN_待填充内容\",語言配置表!B49)","v":"對前方範圍釋放火焰，對範圍內的敵人進行多次灼燒，每次造成<color=#7AC180>{0}%</color>攻擊力的傷害，持續<color=#7AC180>{1}秒</color>"}]
[{"$f":"IF(語言配置表!A50=\"\",\"\",語言配置表!A50)","v":47},{"$f":"IF(語言配置表!A50=\"\",\"CN_待填充内容\",語言配置表!B50)","v":"每次造成的傷害提升至<color=#7AC180>{0}%</color>。"}]
[{"$f":"IF(語言配置表!A51=\"\",\"\",語言配置表!A51)","v":48},{"$f":"IF(語言配置表!A51=\"\",\"CN_待填充内容\",語言配置表!B51)","v":"每次造成的傷害提升至<color=#7AC180>{0}%</color>。"}]
[{"$f":"IF(語言配置表!A52=\"\",\"\",語言配置表!A52)","v":49},{"$f":"IF(語言配置表!A52=\"\",\"CN_待填充内容\",語言配置表!B52)","v":"持續時間提升至<color=#7AC180>{1}秒</color>。"}]
[{"$f":"IF(語言配置表!A53=\"\",\"\",語言配置表!A53)","v":50},{"$f":"IF(語言配置表!A53=\"\",\"CN_待填充内容\",語言配置表!B53)","v":"烈焰噴湧"}]
[{"$f":"IF(語言配置表!A54=\"\",\"\",語言配置表!A54)","v":51},{"$f":"IF(語言配置表!A54=\"\",\"CN_待填充内容\",語言配置表!B54)","v":"對生命值最低的英雄，恢復<color=#7AC180>{0}%</color>攻擊力的血量。"}]
[{"$f":"IF(語言配置表!A55=\"\",\"\",語言配置表!A55)","v":52},{"$f":"IF(語言配置表!A55=\"\",\"CN_待填充内容\",語言配置表!B55)","v":"恢復的血量提升至<color=#7AC180>{0}%</color>。"}]
[{"$f":"IF(語言配置表!A56=\"\",\"\",語言配置表!A56)","v":53},{"$f":"IF(語言配置表!A56=\"\",\"CN_待填充内容\",語言配置表!B56)","v":"恢復的血量提升至<color=#7AC180>{0}%</color>。"}]
[{"$f":"IF(語言配置表!A57=\"\",\"\",語言配置表!A57)","v":54},{"$f":"IF(語言配置表!A57=\"\",\"CN_待填充内容\",語言配置表!B57)","v":"恢復的血量提升至<color=#7AC180>{0}%</color>。"}]
[{"$f":"IF(語言配置表!A58=\"\",\"\",語言配置表!A58)","v":55},{"$f":"IF(語言配置表!A58=\"\",\"CN_待填充内容\",語言配置表!B58)","v":"光輝治癒"}]
[{"$f":"IF(語言配置表!A59=\"\",\"\",語言配置表!A59)","v":56},{"$f":"IF(語言配置表!A59=\"\",\"CN_待填充内容\",語言配置表!B59)","v":"向前方連續射出多支魔法箭，造成<color=#7AC180>{0}%</color>攻擊力的傷害。"}]
[{"$f":"IF(語言配置表!A60=\"\",\"\",語言配置表!A60)","v":57},{"$f":"IF(語言配置表!A60=\"\",\"CN_待填充内容\",語言配置表!B60)","v":"造成的傷害提升至<color=#7AC180>{0}%</color>。"}]
[{"$f":"IF(語言配置表!A61=\"\",\"\",語言配置表!A61)","v":58},{"$f":"IF(語言配置表!A61=\"\",\"CN_待填充内容\",語言配置表!B61)","v":"造成的傷害提升至<color=#7AC180>{0}%</color>。"}]
[{"$f":"IF(語言配置表!A62=\"\",\"\",語言配置表!A62)","v":59},{"$f":"IF(語言配置表!A62=\"\",\"CN_待填充内容\",語言配置表!B62)","v":"造成的傷害提升至<color=#7AC180>{0}%</color>。"}]
[{"$f":"IF(語言配置表!A63=\"\",\"\",語言配置表!A63)","v":60},{"$f":"IF(語言配置表!A63=\"\",\"CN_待填充内容\",語言配置表!B63)","v":"箭羽風暴"}]
[{"$f":"IF(語言配置表!A64=\"\",\"\",語言配置表!A64)","v":61},{"$f":"IF(語言配置表!A64=\"\",\"CN_待填充内容\",語言配置表!B64)","v":"解鎖"}]
[{"$f":"IF(語言配置表!A65=\"\",\"\",語言配置表!A65)","v":62},{"$f":"IF(語言配置表!A65=\"\",\"CN_待填充内容\",語言配置表!B65)","v":"等級{0}>>{1}"}]
[{"$f":"IF(語言配置表!A66=\"\",\"\",語言配置表!A66)","v":63},{"$f":"IF(語言配置表!A66=\"\",\"CN_待填充内容\",語言配置表!B66)","v":"主力英雄等級差不得超過10級"}]
[{"$f":"IF(語言配置表!A67=\"\",\"\",語言配置表!A67)","v":64},{"$f":"IF(語言配置表!A67=\"\",\"CN_待填充内容\",語言配置表!B67)","v":"主力英雄等級：{0}"}]
[{"$f":"IF(語言配置表!A68=\"\",\"\",語言配置表!A68)","v":65},{"$f":"IF(語言配置表!A68=\"\",\"CN_待填充内容\",語言配置表!B68)","v":"生命之力"}]
[{"$f":"IF(語言配置表!A69=\"\",\"\",語言配置表!A69)","v":66},{"$f":"IF(語言配置表!A69=\"\",\"CN_待填充内容\",語言配置表!B69)","v":"鋼鐵意志"}]
[{"$f":"IF(語言配置表!A70=\"\",\"\",語言配置表!A70)","v":67},{"$f":"IF(語言配置表!A70=\"\",\"CN_待填充内容\",語言配置表!B70)","v":"斬風之力"}]
[{"$f":"IF(語言配置表!A71=\"\",\"\",語言配置表!A71)","v":68},{"$f":"IF(語言配置表!A71=\"\",\"CN_待填充内容\",語言配置表!B71)","v":"抗暴之力"}]
[{"$f":"IF(語言配置表!A72=\"\",\"\",語言配置表!A72)","v":69},{"$f":"IF(語言配置表!A72=\"\",\"CN_待填充内容\",語言配置表!B72)","v":"提高<color=#7AC180>{0}%</color>%的生命值"}]
[{"$f":"IF(語言配置表!A73=\"\",\"\",語言配置表!A73)","v":70},{"$f":"IF(語言配置表!A73=\"\",\"CN_待填充内容\",語言配置表!B73)","v":"提高<color=#7AC180>{0}%</color>%的防禦值"}]
[{"$f":"IF(語言配置表!A74=\"\",\"\",語言配置表!A74)","v":71},{"$f":"IF(語言配置表!A74=\"\",\"CN_待填充内容\",語言配置表!B74)","v":"額外釋放<color=#7AC180>{0}</color>道[旋風斬]的劍氣"}]
[{"$f":"IF(語言配置表!A75=\"\",\"\",語言配置表!A75)","v":72},{"$f":"IF(語言配置表!A75=\"\",\"CN_待填充内容\",語言配置表!B75)","v":"降低<color=#7AC180>{0}%</color>的暴擊傷害"}]
[{"$f":"IF(語言配置表!A76=\"\",\"\",語言配置表!A76)","v":73},{"$f":"IF(語言配置表!A76=\"\",\"CN_待填充内容\",語言配置表!B76)","v":"提升<color=#7AC180>{0}%</color>%的攻擊力"}]
[{"$f":"IF(語言配置表!A77=\"\",\"\",語言配置表!A77)","v":74},{"$f":"IF(語言配置表!A77=\"\",\"CN_待填充内容\",語言配置表!B77)","v":"提高<color=#7AC180>{0}%</color>%的生命值"}]
[{"$f":"IF(語言配置表!A78=\"\",\"\",語言配置表!A78)","v":75},{"$f":"IF(語言配置表!A78=\"\",\"CN_待填充内容\",語言配置表!B78)","v":"延長<color=#7AC180>{0}</color>秒[烈焰噴湧]的持續時間"}]
[{"$f":"IF(語言配置表!A79=\"\",\"\",語言配置表!A79)","v":76},{"$f":"IF(語言配置表!A79=\"\",\"CN_待填充内容\",語言配置表!B79)","v":"提升<color=#7AC180>{0}%</color>%的技能暴擊率"}]
[{"$f":"IF(語言配置表!A80=\"\",\"\",語言配置表!A80)","v":77},{"$f":"IF(語言配置表!A80=\"\",\"CN_待填充内容\",語言配置表!B80)","v":"神聖力量"}]
[{"$f":"IF(語言配置表!A81=\"\",\"\",語言配置表!A81)","v":78},{"$f":"IF(語言配置表!A81=\"\",\"CN_待填充内容\",語言配置表!B81)","v":"生命之力"}]
[{"$f":"IF(語言配置表!A82=\"\",\"\",語言配置表!A82)","v":79},{"$f":"IF(語言配置表!A82=\"\",\"CN_待填充内容\",語言配置表!B82)","v":"急救之光"}]
[{"$f":"IF(語言配置表!A83=\"\",\"\",語言配置表!A83)","v":80},{"$f":"IF(語言配置表!A83=\"\",\"CN_待填充内容\",語言配置表!B83)","v":"光輝復蘇"}]
[{"$f":"IF(語言配置表!A84=\"\",\"\",語言配置表!A84)","v":81},{"$f":"IF(語言配置表!A84=\"\",\"CN_待填充内容\",語言配置表!B84)","v":"提升<color=#7AC180>{0}%</color>%的攻擊力"}]
[{"$f":"IF(語言配置表!A85=\"\",\"\",語言配置表!A85)","v":82},{"$f":"IF(語言配置表!A85=\"\",\"CN_待填充内容\",語言配置表!B85)","v":"提高<color=#7AC180>{0}%</color>%的生命值"}]
[{"$f":"IF(語言配置表!A86=\"\",\"\",語言配置表!A86)","v":83},{"$f":"IF(語言配置表!A86=\"\",\"CN_待填充内容\",語言配置表!B86)","v":"對生命值低於<color=#7AC180>{0}%</color>%的英雄，額外提高<color=#7AC180>{0}%</color>%的治療量"}]
[{"$f":"IF(語言配置表!A87=\"\",\"\",語言配置表!A87)","v":84},{"$f":"IF(語言配置表!A87=\"\",\"CN_待填充内容\",語言配置表!B87)","v":"同時治療<color=#7AC180>{0}</color>名英雄"}]
[{"$f":"IF(語言配置表!A88=\"\",\"\",語言配置表!A88)","v":85},{"$f":"IF(語言配置表!A88=\"\",\"CN_待填充内容\",語言配置表!B88)","v":"弓箭精通"}]
[{"$f":"IF(語言配置表!A89=\"\",\"\",語言配置表!A89)","v":86},{"$f":"IF(語言配置表!A89=\"\",\"CN_待填充内容\",語言配置表!B89)","v":"生命之力"}]
[{"$f":"IF(語言配置表!A90=\"\",\"\",語言配置表!A90)","v":87},{"$f":"IF(語言配置表!A90=\"\",\"CN_待填充内容\",語言配置表!B90)","v":"無盡射擊"}]
[{"$f":"IF(語言配置表!A91=\"\",\"\",語言配置表!A91)","v":88},{"$f":"IF(語言配置表!A91=\"\",\"CN_待填充内容\",語言配置表!B91)","v":"終結射擊"}]
[{"$f":"IF(語言配置表!A92=\"\",\"\",語言配置表!A92)","v":89},{"$f":"IF(語言配置表!A92=\"\",\"CN_待填充内容\",語言配置表!B92)","v":"提升<color=#7AC180>{0}%</color>%的攻擊力"}]
[{"$f":"IF(語言配置表!A93=\"\",\"\",語言配置表!A93)","v":90},{"$f":"IF(語言配置表!A93=\"\",\"CN_待填充内容\",語言配置表!B93)","v":"提高<color=#7AC180>{0}%</color>%的生命值"}]
[{"$f":"IF(語言配置表!A94=\"\",\"\",語言配置表!A94)","v":91},{"$f":"IF(語言配置表!A94=\"\",\"CN_待填充内容\",語言配置表!B94)","v":"增加<color=#7AC180>{0}</color>支[連續射擊]的魔法箭"}]
[{"$f":"IF(語言配置表!A95=\"\",\"\",語言配置表!A95)","v":92},{"$f":"IF(語言配置表!A95=\"\",\"CN_待填充内容\",語言配置表!B95)","v":"對生命值低於<color=#7AC180>{0}%</color>的敵人，額外造成<color=#7AC180>{0}%</color>傷害"}]
[{"$f":"IF(語言配置表!A96=\"\",\"\",語言配置表!A96)","v":93},{"$f":"IF(語言配置表!A96=\"\",\"CN_待填充内容\",語言配置表!B96)","v":"智者之力"}]
[{"$f":"IF(語言配置表!A97=\"\",\"\",語言配置表!A97)","v":94},{"$f":"IF(語言配置表!A97=\"\",\"CN_待填充内容\",語言配置表!B97)","v":"生命之力"}]
[{"$f":"IF(語言配置表!A98=\"\",\"\",語言配置表!A98)","v":95},{"$f":"IF(語言配置表!A98=\"\",\"CN_待填充内容\",語言配置表!B98)","v":"烈焰持續"}]
[{"$f":"IF(語言配置表!A99=\"\",\"\",語言配置表!A99)","v":96},{"$f":"IF(語言配置表!A99=\"\",\"CN_待填充内容\",語言配置表!B99)","v":"超凡暴擊"}]
[{"$f":"IF(語言配置表!A100=\"\",\"\",語言配置表!A100)","v":97},{"$f":"IF(語言配置表!A100=\"\",\"CN_待填充内容\",語言配置表!B100)","v":"戰士裝備"}]
[{"$f":"IF(語言配置表!A101=\"\",\"\",語言配置表!A101)","v":98},{"$f":"IF(語言配置表!A101=\"\",\"CN_待填充内容\",語言配置表!B101)","v":"法師裝備"}]
[{"$f":"IF(語言配置表!A102=\"\",\"\",語言配置表!A102)","v":99},{"$f":"IF(語言配置表!A102=\"\",\"CN_待填充内容\",語言配置表!B102)","v":"牧師裝備"}]
[{"$f":"IF(語言配置表!A103=\"\",\"\",語言配置表!A103)","v":100},{"$f":"IF(語言配置表!A103=\"\",\"CN_待填充内容\",語言配置表!B103)","v":"遊俠裝備"}]
[{"$f":"IF(語言配置表!A104=\"\",\"\",語言配置表!A104)","v":101},{"$f":"IF(語言配置表!A104=\"\",\"CN_待填充内容\",語言配置表!B104)","v":"專屬裝備（敬請期待）"}]
[{"$f":"IF(語言配置表!A105=\"\",\"\",語言配置表!A105)","v":102},{"$f":"IF(語言配置表!A105=\"\",\"CN_待填充内容\",語言配置表!B105)","v":"金幣不足"}]
[{"$f":"IF(語言配置表!A106=\"\",\"\",語言配置表!A106)","v":103},{"$f":"IF(語言配置表!A106=\"\",\"CN_待填充内容\",語言配置表!B106)","v":"資源不足"}]
[{"$f":"IF(語言配置表!A107=\"\",\"\",語言配置表!A107)","v":104},{"$f":"IF(語言配置表!A107=\"\",\"CN_待填充内容\",語言配置表!B107)","v":"英雄經驗，可用於升級英雄等級<color=#ff0000>（每殺死一個小怪能獲得經驗，擊殺boss能獲得大量經驗）</color>"}]
[{"$f":"IF(語言配置表!A108=\"\",\"\",語言配置表!A108)","v":105},{"$f":"IF(語言配置表!A108=\"\",\"CN_待填充内容\",語言配置表!B108)","v":"金幣，用於抽取英雄寶箱<color=#ff0000>（每殺死一個小怪有幾率獲得金幣，擊殺boss能獲得大量金幣）</color>"}]
[{"$f":"IF(語言配置表!A109=\"\",\"\",語言配置表!A109)","v":106},{"$f":"IF(語言配置表!A109=\"\",\"CN_待填充内容\",語言配置表!B109)","v":"紫鑽（敬請期待）"}]
[{"$f":"IF(語言配置表!A110=\"\",\"\",語言配置表!A110)","v":107},{"$f":"IF(語言配置表!A110=\"\",\"CN_待填充内容\",語言配置表!B110)","v":"點擊螢幕空白處從天空中召喚一個隕石，對怪物造成1點傷害，並有<color=#ff0000>30%</color>概率獲得1枚金幣（boss怪<color=#ff0000>40%</color>掉落，金幣數量<color=#ff0000>+2</color>）"}]
[{"$f":"IF(語言配置表!A111=\"\",\"\",語言配置表!A111)","v":108},{"$f":"IF(語言配置表!A111=\"\",\"CN_待填充内容\",語言配置表!B111)","v":"裝備"}]
[{"$f":"IF(語言配置表!A112=\"\",\"\",語言配置表!A112)","v":109},{"$f":"IF(語言配置表!A112=\"\",\"CN_待填充内容\",語言配置表!B112)","v":"替補英雄"}]
[{"$f":"IF(語言配置表!A113=\"\",\"\",語言配置表!A113)","v":110},{"$f":"IF(語言配置表!A113=\"\",\"CN_待填充内容\",語言配置表!B113)","v":"主力英雄"}]
[{"$f":"IF(語言配置表!A114=\"\",\"\",語言配置表!A114)","v":111},{"$f":"IF(語言配置表!A114=\"\",\"CN_待填充内容\",語言配置表!B114)","v":"英雄背包"}]
[{"$f":"IF(語言配置表!A115=\"\",\"\",語言配置表!A115)","v":112},{"$f":"IF(語言配置表!A115=\"\",\"CN_待填充内容\",語言配置表!B115)","v":"大自然的恩惠.寶箱"}]
[{"$f":"IF(語言配置表!A116=\"\",\"\",語言配置表!A116)","v":113},{"$f":"IF(語言配置表!A116=\"\",\"CN_待填充内容\",語言配置表!B116)","v":"消耗對應的金幣開啟寶箱，獲得大自然的恩惠，有概率能獲得以下物品（英雄進階材料、 各種品質的武器）"}]
[{"$f":"IF(語言配置表!A117=\"\",\"\",語言配置表!A117)","v":114},{"$f":"IF(語言配置表!A117=\"\",\"CN_待填充内容\",語言配置表!B117)","v":"友情提示10連抽更划算"}]
[{"$f":"IF(語言配置表!A118=\"\",\"\",語言配置表!A118)","v":115},{"$f":"IF(語言配置表!A118=\"\",\"CN_待填充内容\",語言配置表!B118)","v":"失 敗"}]
[{"$f":"IF(語言配置表!A119=\"\",\"\",語言配置表!A119)","v":116},{"$f":"IF(語言配置表!A119=\"\",\"CN_待填充内容\",語言配置表!B119)","v":"你太弱了，請提升實力再來挑戰"}]
[{"$f":"IF(語言配置表!A120=\"\",\"\",語言配置表!A120)","v":117},{"$f":"IF(語言配置表!A120=\"\",\"CN_待填充内容\",語言配置表!B120)","v":"重新開始"}]
[{"$f":"IF(語言配置表!A121=\"\",\"\",語言配置表!A121)","v":118},{"$f":"IF(語言配置表!A121=\"\",\"CN_待填充内容\",語言配置表!B121)","v":"....."}]
[{"$f":"IF(語言配置表!A122=\"\",\"\",語言配置表!A122)","v":119},{"$f":"IF(語言配置表!A122=\"\",\"CN_待填充内容\",語言配置表!B122)","v":"發生了什麼事...."}]
[{"$f":"IF(語言配置表!A123=\"\",\"\",語言配置表!A123)","v":120},{"$f":"IF(語言配置表!A123=\"\",\"CN_待填充内容\",語言配置表!B123)","v":"前方好像出現了超強怪物，大家做好準備。"}]
[{"$f":"IF(語言配置表!A124=\"\",\"\",語言配置表!A124)","v":121},{"$f":"IF(語言配置表!A124=\"\",\"CN_待填充内容\",語言配置表!B124)","v":"越往深林深處走怪物越強大了，這裏的怪我有點招架不足了，我能不能加入你們一起探險？"}]
[{"$f":"IF(語言配置表!A125=\"\",\"\",語言配置表!A125)","v":122},{"$f":"IF(語言配置表!A125=\"\",\"CN_待填充内容\",語言配置表!B125)","v":"沒問題，我們正缺你這樣的勇士。"}]
[{"$f":"IF(語言配置表!A126=\"\",\"\",語言配置表!A126)","v":123},{"$f":"IF(語言配置表!A126=\"\",\"CN_待填充内容\",語言配置表!B126)","v":"歡迎加入我們的隊伍，讓我們一起看看深林深處是什麼在作怪。"}]
[{"$f":"IF(語言配置表!A127=\"\",\"\",語言配置表!A127)","v":124},{"$f":"IF(語言配置表!A127=\"\",\"CN_待填充内容\",語言配置表!B127)","v":"（喘息著）這該死的怪物怎麼殺也殺不完！"}]
[{"$f":"IF(語言配置表!A128=\"\",\"\",語言配置表!A128)","v":125},{"$f":"IF(語言配置表!A128=\"\",\"CN_待填充内容\",語言配置表!B128)","v":"怎麼辦要先回村莊嗎？"}]
[{"$f":"IF(語言配置表!A129=\"\",\"\",語言配置表!A129)","v":126},{"$f":"IF(語言配置表!A129=\"\",\"CN_待填充内容\",語言配置表!B129)","v":"救命呀~"}]
[{"$f":"IF(語言配置表!A130=\"\",\"\",語言配置表!A130)","v":127},{"$f":"IF(語言配置表!A130=\"\",\"CN_待填充内容\",語言配置表!B130)","v":"救命~~~"}]
[{"$f":"IF(語言配置表!A131=\"\",\"\",語言配置表!A131)","v":128},{"$f":"IF(語言配置表!A131=\"\",\"CN_待填充内容\",語言配置表!B131)","v":"我名艾爾溫。這裏充滿了黑暗的氣息，我無法袖手旁觀."}]
[{"$f":"IF(語言配置表!A132=\"\",\"\",語言配置表!A132)","v":129},{"$f":"IF(語言配置表!A132=\"\",\"CN_待填充内容\",語言配置表!B132)","v":"讓它們試試我的火焰~"}]
[{"$f":"IF(語言配置表!A133=\"\",\"\",語言配置表!A133)","v":130},{"$f":"IF(語言配置表!A133=\"\",\"CN_待填充内容\",語言配置表!B133)","v":"太好了艾爾溫，感謝你的加入！"}]
[{"$f":"IF(語言配置表!A134=\"\",\"\",語言配置表!A134)","v":131},{"$f":"IF(語言配置表!A134=\"\",\"CN_待填充内容\",語言配置表!B134)","v":"兄弟們，我堅持不住了，這一波怪物太猛了！"}]
[{"$f":"IF(語言配置表!A135=\"\",\"\",語言配置表!A135)","v":132},{"$f":"IF(語言配置表!A135=\"\",\"CN_待填充内容\",語言配置表!B135)","v":"天空中突然閃出一個人影。"}]
[{"$f":"IF(語言配置表!A136=\"\",\"\",語言配置表!A136)","v":133},{"$f":"IF(語言配置表!A136=\"\",\"CN_待填充内容\",語言配置表!B136)","v":"我是來自教堂的牧師，我來為你治療！"}]
[{"$f":"IF(語言配置表!A137=\"\",\"\",語言配置表!A137)","v":134},{"$f":"IF(語言配置表!A137=\"\",\"CN_待填充内容\",語言配置表!B137)","v":"裝備回收"}]
[{"$f":"IF(語言配置表!A138=\"\",\"\",語言配置表!A138)","v":135},{"$f":"IF(語言配置表!A138=\"\",\"CN_待填充内容\",語言配置表!B138)","v":"僅分解低級裝備，放心使用"}]
[{"$f":"IF(語言配置表!A139=\"\",\"\",語言配置表!A139)","v":136},{"$f":"IF(語言配置表!A139=\"\",\"CN_待填充内容\",語言配置表!B139)","v":"回收獎勵"}]
[{"$f":"IF(語言配置表!A140=\"\",\"\",語言配置表!A140)","v":137},{"$f":"IF(語言配置表!A140=\"\",\"CN_待填充内容\",語言配置表!B140)","v":"確認回收"}]
[{"$f":"IF(語言配置表!A141=\"\",\"\",語言配置表!A141)","v":138},{"$f":"IF(語言配置表!A141=\"\",\"CN_待填充内容\",語言配置表!B141)","v":"升級"}]
[{"$f":"IF(語言配置表!A142=\"\",\"\",語言配置表!A142)","v":139},{"$f":"IF(語言配置表!A142=\"\",\"CN_待填充内容\",語言配置表!B142)","v":"升星"}]
[{"$f":"IF(語言配置表!A143=\"\",\"\",語言配置表!A143)","v":140},{"$f":"IF(語言配置表!A143=\"\",\"CN_待填充内容\",語言配置表!B143)","v":"生命"}]
[{"$f":"IF(語言配置表!A144=\"\",\"\",語言配置表!A144)","v":141},{"$f":"IF(語言配置表!A144=\"\",\"CN_待填充内容\",語言配置表!B144)","v":"攻擊"}]
[{"$f":"IF(語言配置表!A145=\"\",\"\",語言配置表!A145)","v":142},{"$f":"IF(語言配置表!A145=\"\",\"CN_待填充内容\",語言配置表!B145)","v":"防禦"}]
[{"$f":"IF(語言配置表!A146=\"\",\"\",語言配置表!A146)","v":143},{"$f":"IF(語言配置表!A146=\"\",\"CN_待填充内容\",語言配置表!B146)","v":"等級"}]
[{"$f":"IF(語言配置表!A147=\"\",\"\",語言配置表!A147)","v":144},{"$f":"IF(語言配置表!A147=\"\",\"CN_待填充内容\",語言配置表!B147)","v":"本次升級將大幅提升屬性"}]
[{"$f":"IF(語言配置表!A148=\"\",\"\",語言配置表!A148)","v":145},{"$f":"IF(語言配置表!A148=\"\",\"CN_待填充内容\",語言配置表!B148)","v":"解鎖"}]
[{"$f":"IF(語言配置表!A149=\"\",\"\",語言配置表!A149)","v":146},{"$f":"IF(語言配置表!A149=\"\",\"CN_待填充内容\",語言配置表!B149)","v":"冷卻{0}秒"}]
[{"$f":"IF(語言配置表!A150=\"\",\"\",語言配置表!A150)","v":147},{"$f":"IF(語言配置表!A150=\"\",\"CN_待填充内容\",語言配置表!B150)","v":"職業裝備"}]
[{"$f":"IF(語言配置表!A151=\"\",\"\",語言配置表!A151)","v":148},{"$f":"IF(語言配置表!A151=\"\",\"CN_待填充内容\",語言配置表!B151)","v":"戰士"}]
[{"$f":"IF(語言配置表!A152=\"\",\"\",語言配置表!A152)","v":149},{"$f":"IF(語言配置表!A152=\"\",\"CN_待填充内容\",語言配置表!B152)","v":"法師"}]
[{"$f":"IF(語言配置表!A153=\"\",\"\",語言配置表!A153)","v":150},{"$f":"IF(語言配置表!A153=\"\",\"CN_待填充内容\",語言配置表!B153)","v":"牧師"}]
[{"$f":"IF(語言配置表!A154=\"\",\"\",語言配置表!A154)","v":151},{"$f":"IF(語言配置表!A154=\"\",\"CN_待填充内容\",語言配置表!B154)","v":"遊俠"}]
[{"$f":"IF(語言配置表!A155=\"\",\"\",語言配置表!A155)","v":152},{"$f":"IF(語言配置表!A155=\"\",\"CN_待填充内容\",語言配置表!B155)","v":"獲得獎勵"}]
[{"$f":"IF(語言配置表!A156=\"\",\"\",語言配置表!A156)","v":153},{"$f":"IF(語言配置表!A156=\"\",\"CN_待填充内容\",語言配置表!B156)","v":"一鍵裝備"}]
[{"$f":"IF(語言配置表!A157=\"\",\"\",語言配置表!A157)","v":154},{"$f":"IF(語言配置表!A157=\"\",\"CN_待填充内容\",語言配置表!B157)","v":"點這裏, 提升英雄"}]
[{"$f":"IF(語言配置表!A158=\"\",\"\",語言配置表!A158)","v":155},{"$f":"IF(語言配置表!A158=\"\",\"CN_待填充内容\",語言配置表!B158)","v":"技能"}]
[{"$f":"IF(語言配置表!A159=\"\",\"\",語言配置表!A159)","v":156},{"$f":"IF(語言配置表!A159=\"\",\"CN_待填充内容\",語言配置表!B159)","v":"鞋子"}]
[{"$f":"IF(語言配置表!A160=\"\",\"\",語言配置表!A160)","v":157},{"$f":"IF(語言配置表!A160=\"\",\"CN_待填充内容\",語言配置表!B160)","v":"衣服"}]
[{"$f":"IF(語言配置表!A161=\"\",\"\",語言配置表!A161)","v":158},{"$f":"IF(語言配置表!A161=\"\",\"CN_待填充内容\",語言配置表!B161)","v":"手套"}]
[{"$f":"IF(語言配置表!A162=\"\",\"\",語言配置表!A162)","v":159},{"$f":"IF(語言配置表!A162=\"\",\"CN_待填充内容\",語言配置表!B162)","v":"帽子"}]
[{"$f":"IF(語言配置表!A163=\"\",\"\",語言配置表!A163)","v":160},{"$f":"IF(語言配置表!A163=\"\",\"CN_待填充内容\",語言配置表!B163)","v":"項鏈"}]
[{"$f":"IF(語言配置表!A164=\"\",\"\",語言配置表!A164)","v":161},{"$f":"IF(語言配置表!A164=\"\",\"CN_待填充内容\",語言配置表!B164)","v":"{0}級"}]
[{"$f":"IF(語言配置表!A165=\"\",\"\",語言配置表!A165)","v":162},{"$f":"IF(語言配置表!A165=\"\",\"CN_待填充内容\",語言配置表!B165)","v":"金幣，可用於開寶箱"}]
[{"$f":"IF(語言配置表!A166=\"\",\"\",語言配置表!A166)","v":163},{"$f":"IF(語言配置表!A166=\"\",\"CN_待填充内容\",語言配置表!B166)","v":"鑽石，後續開放（敬請期待）"}]
[{"$f":"IF(語言配置表!A167=\"\",\"\",語言配置表!A167)","v":164},{"$f":"IF(語言配置表!A167=\"\",\"CN_待填充内容\",語言配置表!B167)","v":"經驗，用於英雄升級"}]
[{"$f":"IF(語言配置表!A168=\"\",\"\",語言配置表!A168)","v":165},{"$f":"IF(語言配置表!A168=\"\",\"CN_待填充内容\",語言配置表!B168)","v":"英雄碎片，用於提升星級"}]
[{"$f":"IF(語言配置表!A169=\"\",\"\",語言配置表!A169)","v":166},{"$f":"IF(語言配置表!A169=\"\",\"CN_待填充内容\",語言配置表!B169)","v":"英雄碎片，用於提升星級"}]
[{"$f":"IF(語言配置表!A170=\"\",\"\",語言配置表!A170)","v":167},{"$f":"IF(語言配置表!A170=\"\",\"CN_待填充内容\",語言配置表!B170)","v":"英雄碎片，用於提升星級"}]
[{"$f":"IF(語言配置表!A171=\"\",\"\",語言配置表!A171)","v":168},{"$f":"IF(語言配置表!A171=\"\",\"CN_待填充内容\",語言配置表!B171)","v":"英雄碎片，用於提升星級"}]
[{"$f":"IF(語言配置表!A172=\"\",\"\",語言配置表!A172)","v":169},{"$f":"IF(語言配置表!A172=\"\",\"CN_待填充内容\",語言配置表!B172)","v":"金幣"}]
[{"$f":"IF(語言配置表!A173=\"\",\"\",語言配置表!A173)","v":170},{"$f":"IF(語言配置表!A173=\"\",\"CN_待填充内容\",語言配置表!B173)","v":"鑽石"}]
[{"$f":"IF(語言配置表!A174=\"\",\"\",語言配置表!A174)","v":171},{"$f":"IF(語言配置表!A174=\"\",\"CN_待填充内容\",語言配置表!B174)","v":"英雄經驗"}]
[{"$f":"IF(語言配置表!A175=\"\",\"\",語言配置表!A175)","v":172},{"$f":"IF(語言配置表!A175=\"\",\"CN_待填充内容\",語言配置表!B175)","v":"领取挂机收益"}]
[{"$f":"IF(語言配置表!A176=\"\",\"\",語言配置表!A176)","v":173},{"$f":"IF(語言配置表!A176=\"\",\"CN_待填充内容\",語言配置表!B176)","v":"离线收益"}]
[{"$f":"IF(語言配置表!A177=\"\",\"\",語言配置表!A177)","v":174},{"$f":"IF(語言配置表!A177=\"\",\"CN_待填充内容\",語言配置表!B177)","v":"受伤的狼"}]
[{"$f":"IF(語言配置表!A178=\"\",\"\",語言配置表!A178)","v":175},{"$f":"IF(語言配置表!A178=\"\",\"CN_待填充内容\",語言配置表!B178)","v":"鹬蚌相争"}]
[{"$f":"IF(語言配置表!A179=\"\",\"\",語言配置表!A179)","v":176},{"$f":"IF(語言配置表!A179=\"\",\"CN_待填充内容\",語言配置表!B179)","v":"鹬蚌相争2"}]
[{"$f":"IF(語言配置表!A180=\"\",\"\",語言配置表!A180)","v":177},{"$f":"IF(語言配置表!A180=\"\",\"CN_待填充内容\",語言配置表!B180)","v":"你遇到一只奄奄一息的野狼，从周围四散的血迹来看，想必它刚才经历了一场恶战。"}]
[{"$f":"IF(語言配置表!A181=\"\",\"\",語言配置表!A181)","v":178},{"$f":"IF(語言配置表!A181=\"\",\"CN_待填充内容\",語言配置表!B181)","v":"野狼用它最后一口气，朝你扑了过来！"}]
[{"$f":"IF(語言配置表!A182=\"\",\"\",語言配置表!A182)","v":179},{"$f":"IF(語言配置表!A182=\"\",\"CN_待填充内容\",語言配置表!B182)","v":"你抽出匕首准备了结它的生命，却发现怀中还躺着一只刚出生的狼崽。"}]
[{"$f":"IF(語言配置表!A183=\"\",\"\",語言配置表!A183)","v":180},{"$f":"IF(語言配置表!A183=\"\",\"CN_待填充内容\",語言配置表!B183)","v":"随着你的最后一击，野狼应声倒下，你罔顾它幽怨的眼神，从它怀中拿走了一些财物。"}]
[{"$f":"IF(語言配置表!A184=\"\",\"\",語言配置表!A184)","v":181},{"$f":"IF(語言配置表!A184=\"\",\"CN_待填充内容\",語言配置表!B184)","v":"母狼似乎懂你要做什么，眼神归于平静。你终结了她，决定收养这只小狼仔。"}]
[{"$f":"IF(語言配置表!A185=\"\",\"\",語言配置表!A185)","v":182},{"$f":"IF(語言配置表!A185=\"\",\"CN_待填充内容\",語言配置表!B185)","v":"从不远处传来刀剑声，听起来双方已经精疲力尽了。"}]
[{"$f":"IF(語言配置表!A186=\"\",\"\",語言配置表!A186)","v":183},{"$f":"IF(語言配置表!A186=\"\",\"CN_待填充内容\",語言配置表!B186)","v":"你走进一看，原来是一伙山贼分赃不均内讧了起来。你看着旁边被砍的七零八落的轿子和这群山贼，选择怎么做呢："}]
[{"$f":"IF(語言配置表!A187=\"\",\"\",語言配置表!A187)","v":184},{"$f":"IF(語言配置表!A187=\"\",\"CN_待填充内容\",語言配置表!B187)","v":"法宝现身，效果立竿见影，刀剑声逐渐消失，这个世界安静了。"}]
[{"$f":"IF(語言配置表!A188=\"\",\"\",語言配置表!A188)","v":185},{"$f":"IF(語言配置表!A188=\"\",\"CN_待填充内容\",語言配置表!B188)","v":"你怒斥贼寇的恶行，贼寇们被你激怒了，准备迎战！"}]
[{"$f":"IF(語言配置表!A189=\"\",\"\",語言配置表!A189)","v":186},{"$f":"IF(語言配置表!A189=\"\",\"CN_待填充内容\",語言配置表!B189)","v":"你趁人不备顺走了轿内主人的包裹，任留轿内人痛苦的挣扎。"}]
[{"$f":"IF(語言配置表!A190=\"\",\"\",語言配置表!A190)","v":187},{"$f":"IF(語言配置表!A190=\"\",\"CN_待填充内容\",語言配置表!B190)","v":"法宝也得到些许历练。"}]
[{"$f":"IF(語言配置表!A191=\"\",\"\",語言配置表!A191)","v":188},{"$f":"IF(語言配置表!A191=\"\",\"CN_待填充内容\",語言配置表!B191)","v":"杀退贼寇，你上演了一出英雄救美的桥段。姑娘为了答谢你的救命之恩，将藏在贴身处的珍贵首饰赠与你作为定情信物。"}]
[{"$f":"IF(語言配置表!A192=\"\",\"\",語言配置表!A192)","v":189},{"$f":"IF(語言配置表!A192=\"\",\"CN_待填充内容\",語言配置表!B192)","v":"你打开包裹，赫然出现一大堆财宝，这次你发了哈哈！"}]
[{"$f":"IF(語言配置表!A193=\"\",\"\",語言配置表!A193)","v":190},{"$f":"IF(語言配置表!A193=\"\",\"CN_待填充内容\",語言配置表!B193)","v":"从不远处传来刀剑声，听起来双方已经精疲力尽了。"}]
[{"$f":"IF(語言配置表!A194=\"\",\"\",語言配置表!A194)","v":191},{"$f":"IF(語言配置表!A194=\"\",\"CN_待填充内容\",語言配置表!B194)","v":"你走进一看，原来是一伙山贼抢了一名坐在官轿内的女子，因分赃不均内讧了起来。山贼二话不说就朝你冲了过来！"}]
[{"$f":"IF(語言配置表!A195=\"\",\"\",語言配置表!A195)","v":192},{"$f":"IF(語言配置表!A195=\"\",\"CN_待填充内容\",語言配置表!B195)","v":"法宝现身，效果立竿见影，刀剑声逐渐消失，这个世界安静了。"}]
[{"$f":"IF(語言配置表!A196=\"\",\"\",語言配置表!A196)","v":193},{"$f":"IF(語言配置表!A196=\"\",\"CN_待填充内容\",語言配置表!B196)","v":"你大声怒斥贼寇的恶行，贼首发现你了，准备迎战！"}]
[{"$f":"IF(語言配置表!A197=\"\",\"\",語言配置表!A197)","v":194},{"$f":"IF(語言配置表!A197=\"\",\"CN_待填充内容\",語言配置表!B197)","v":"你趁人不备顺走了轿内主人的包裹，任留轿内人痛苦的挣扎。"}]
[{"$f":"IF(語言配置表!A198=\"\",\"\",語言配置表!A198)","v":195},{"$f":"IF(語言配置表!A198=\"\",\"CN_待填充内容\",語言配置表!B198)","v":"法宝也得到些许历练。"}]
[{"$f":"IF(語言配置表!A199=\"\",\"\",語言配置表!A199)","v":196},{"$f":"IF(語言配置表!A199=\"\",\"CN_待填充内容\",語言配置表!B199)","v":"杀退贼寇，你上演了一出英雄救美的桥段。姑娘为了答谢你的救命之恩，将藏在贴身处的珍贵首饰赠与你作为定情信物。"}]
[{"$f":"IF(語言配置表!A200=\"\",\"\",語言配置表!A200)","v":197},{"$f":"IF(語言配置表!A200=\"\",\"CN_待填充内容\",語言配置表!B200)","v":"你打开包裹，赫然出现一大堆财宝，这次你发了哈哈！"}]
[{"$f":"IF(語言配置表!A201=\"\",\"\",語言配置表!A201)","v":198},{"$f":"IF(語言配置表!A201=\"\",\"CN_待填充内容\",語言配置表!B201)","v":"趁它虚弱赶紧除掉它！"}]
[{"$f":"IF(語言配置表!A202=\"\",\"\",語言配置表!A202)","v":199},{"$f":"IF(語言配置表!A202=\"\",\"CN_待填充内容\",語言配置表!B202)","v":"你不忍见它受苦，选择帮它减轻痛苦。"}]
[{"$f":"IF(語言配置表!A203=\"\",\"\",語言配置表!A203)","v":200},{"$f":"IF(語言配置表!A203=\"\",\"CN_待填充内容\",語言配置表!B203)","v":"终结它"}]
[{"$f":"IF(語言配置表!A204=\"\",\"\",語言配置表!A204)","v":201},{"$f":"IF(語言配置表!A204=\"\",\"CN_待填充内容\",語言配置表!B204)","v":"去看看"}]
[{"$f":"IF(語言配置表!A205=\"\",\"\",語言配置表!A205)","v":202},{"$f":"IF(語言配置表!A205=\"\",\"CN_待填充内容\",語言配置表!B205)","v":"(需拥有法宝凝神珠）听起来都是鸡毛蒜皮的小摩擦，你选择祭出凝神珠化解他们的怨气。"}]
[{"$f":"IF(語言配置表!A206=\"\",\"\",語言配置表!A206)","v":203},{"$f":"IF(語言配置表!A206=\"\",\"CN_待填充内容\",語言配置表!B206)","v":"你顿时杀心四起，决定杀了贼寇，救出轿中之人"}]
[{"$f":"IF(語言配置表!A207=\"\",\"\",語言配置表!A207)","v":204},{"$f":"IF(語言配置表!A207=\"\",\"CN_待填充内容\",語言配置表!B207)","v":"盗贼们个个双眼杀的通红，你决定来个渔翁得利。"}]
[{"$f":"IF(語言配置表!A208=\"\",\"\",語言配置表!A208)","v":205},{"$f":"IF(語言配置表!A208=\"\",\"CN_待填充内容\",語言配置表!B208)","v":"选择正面迎战山贼头领（困难）"}]
[{"$f":"IF(語言配置表!A209=\"\",\"\",語言配置表!A209)","v":206},{"$f":"IF(語言配置表!A209=\"\",\"CN_待填充内容\",語言配置表!B209)","v":"你决定避开山贼头领的视线，来个渔翁得利。"}]
[{"$f":"IF(語言配置表!A210=\"\",\"\",語言配置表!A210)","v":207},{"$f":"IF(語言配置表!A210=\"\",\"CN_待填充内容\",語言配置表!B210)","v":"你将山贼们打的落花流水，成功吸引了山贼头子的注意。"}]
[{"$f":"IF(語言配置表!A211=\"\",\"\",語言配置表!A211)","v":208},{"$f":"IF(語言配置表!A211=\"\",\"CN_待填充内容\",語言配置表!B211)","v":"事件10001：一只[怪物1]袭击了你，准备迎战"}]
[{"$f":"IF(語言配置表!A212=\"\",\"\",語言配置表!A212)","v":209},{"$f":"IF(語言配置表!A212=\"\",\"CN_待填充内容\",語言配置表!B212)","v":"你击败了怪物，并从它身上吸取了一些修为"}]
[{"$f":"IF(語言配置表!A213=\"\",\"\",語言配置表!A213)","v":210},{"$f":"IF(語言配置表!A213=\"\",\"CN_待填充内容\",語言配置表!B213)","v":"你偶遇一处仙气四溢无人生活的洞穴"}]
[{"$f":"IF(語言配置表!A214=\"\",\"\",語言配置表!A214)","v":211},{"$f":"IF(語言配置表!A214=\"\",\"CN_待填充内容\",語言配置表!B214)","v":"不知哪位高人在洞穴内壁留下绝世秘籍"}]
[{"$f":"IF(語言配置表!A215=\"\",\"\",語言配置表!A215)","v":212},{"$f":"IF(語言配置表!A215=\"\",\"CN_待填充内容\",語言配置表!B215)","v":"你在飞行途中不慎滑倒"}]
[{"$f":"IF(語言配置表!A216=\"\",\"\",語言配置表!A216)","v":213},{"$f":"IF(語言配置表!A216=\"\",\"CN_待填充内容\",語言配置表!B216)","v":"原来是脚下有一块圆润的微微发光的石头"}]
[{"$f":"IF(語言配置表!A217=\"\",\"\",語言配置表!A217)","v":214},{"$f":"IF(語言配置表!A217=\"\",\"CN_待填充内容\",語言配置表!B217)","v":"你拾起来一看，原来它蕴含了丰富的法宝灵韵"}]
[{"$f":"IF(語言配置表!A218=\"\",\"\",語言配置表!A218)","v":215},{"$f":"IF(語言配置表!A218=\"\",\"CN_待填充内容\",語言配置表!B218)","v":"原本郁闷的心情，突然变的好了起来，哈哈~"}]
[{"$f":"IF(語言配置表!A219=\"\",\"\",語言配置表!A219)","v":216},{"$f":"IF(語言配置表!A219=\"\",\"CN_待填充内容\",語言配置表!B219)","v":"你被怪物击败了，事件结束。"}]
[{"$f":"IF(語言配置表!A220=\"\",\"\",語言配置表!A220)","v":217},{"$f":"IF(語言配置表!A220=\"\",\"CN_待填充内容\",語言配置表!B220)","v":"溅血背包"}]
[{"$f":"IF(語言配置表!A221=\"\",\"\",語言配置表!A221)","v":218},{"$f":"IF(語言配置表!A221=\"\",\"CN_待填充内容\",語言配置表!B221)","v":"废弃矿山"}]
[{"$f":"IF(語言配置表!A222=\"\",\"\",語言配置表!A222)","v":219},{"$f":"IF(語言配置表!A222=\"\",\"CN_待填充内容\",語言配置表!B222)","v":"吵架声"}]
[{"$f":"IF(語言配置表!A223=\"\",\"\",語言配置表!A223)","v":220},{"$f":"IF(語言配置表!A223=\"\",\"CN_待填充内容\",語言配置表!B223)","v":"一座道观"}]
[{"$f":"IF(語言配置表!A224=\"\",\"\",語言配置表!A224)","v":221},{"$f":"IF(語言配置表!A224=\"\",\"CN_待填充内容\",語言配置表!B224)","v":"发现一个血迹斑斑的背包，好像刚刚发生了战斗，我翻翻背包..."}]
[{"$f":"IF(語言配置表!A225=\"\",\"\",語言配置表!A225)","v":222},{"$f":"IF(語言配置表!A225=\"\",\"CN_待填充内容\",語言配置表!B225)","v":"啥也没有....除了钱"}]
[{"$f":"IF(語言配置表!A226=\"\",\"\",語言配置表!A226)","v":223},{"$f":"IF(語言配置表!A226=\"\",\"CN_待填充内容\",語言配置表!B226)","v":"两夫妻在吵架，似乎为了一件大事.."}]
[{"$f":"IF(語言配置表!A227=\"\",\"\",語言配置表!A227)","v":224},{"$f":"IF(語言配置表!A227=\"\",\"CN_待填充内容\",語言配置表!B227)","v":"没有任何发现，但感觉空气很好....下次有空再来看看"}]
[{"$f":"IF(語言配置表!A228=\"\",\"\",語言配置表!A228)","v":225},{"$f":"IF(語言配置表!A228=\"\",\"CN_待填充内容\",語言配置表!B228)","v":"筑基期"}]
[{"$f":"IF(語言配置表!A229=\"\",\"\",語言配置表!A229)","v":226},{"$f":"IF(語言配置表!A229=\"\",\"CN_待填充内容\",語言配置表!B229)","v":"金丹期"}]
[{"$f":"IF(語言配置表!A230=\"\",\"\",語言配置表!A230)","v":227},{"$f":"IF(語言配置表!A230=\"\",\"CN_待填充内容\",語言配置表!B230)","v":"元婴期"}]
[{"$f":"IF(語言配置表!A231=\"\",\"\",語言配置表!A231)","v":228},{"$f":"IF(語言配置表!A231=\"\",\"CN_待填充内容\",語言配置表!B231)","v":"化神期"}]
[{"$f":"IF(語言配置表!A232=\"\",\"\",語言配置表!A232)","v":229},{"$f":"IF(語言配置表!A232=\"\",\"CN_待填充内容\",語言配置表!B232)","v":"炼虚期"}]
[{"$f":"IF(語言配置表!A233=\"\",\"\",語言配置表!A233)","v":230},{"$f":"IF(語言配置表!A233=\"\",\"CN_待填充内容\",語言配置表!B233)","v":"合体期"}]
[{"$f":"IF(語言配置表!A234=\"\",\"\",語言配置表!A234)","v":231},{"$f":"IF(語言配置表!A234=\"\",\"CN_待填充内容\",語言配置表!B234)","v":"大乘期"}]
[{"$f":"IF(語言配置表!A235=\"\",\"\",語言配置表!A235)","v":232},{"$f":"IF(語言配置表!A235=\"\",\"CN_待填充内容\",語言配置表!B235)","v":"飞升期"}]
[{"$f":"IF(語言配置表!A236=\"\",\"\",語言配置表!A236)","v":233},{"$f":"IF(語言配置表!A236=\"\",\"CN_待填充内容\",語言配置表!B236)","v":"逍遥期"}]
[{"$f":"IF(語言配置表!A237=\"\",\"\",語言配置表!A237)","v":234},{"$f":"IF(語言配置表!A237=\"\",\"CN_待填充内容\",語言配置表!B237)","v":"真神期"}]
[{"$f":"IF(語言配置表!A238=\"\",\"\",語言配置表!A238)","v":235},{"$f":"IF(語言配置表!A238=\"\",\"CN_待填充内容\",語言配置表!B238)","v":"前"}]
[{"$f":"IF(語言配置表!A239=\"\",\"\",語言配置表!A239)","v":236},{"$f":"IF(語言配置表!A239=\"\",\"CN_待填充内容\",語言配置表!B239)","v":"中"}]
[{"$f":"IF(語言配置表!A240=\"\",\"\",語言配置表!A240)","v":237},{"$f":"IF(語言配置表!A240=\"\",\"CN_待填充内容\",語言配置表!B240)","v":"后"}]
[{"$f":"IF(語言配置表!A241=\"\",\"\",語言配置表!A241)","v":238},{"$f":"IF(語言配置表!A241=\"\",\"CN_待填充内容\",語言配置表!B241)","v":1}]
[{"$f":"IF(語言配置表!A242=\"\",\"\",語言配置表!A242)","v":239},{"$f":"IF(語言配置表!A242=\"\",\"CN_待填充内容\",語言配置表!B242)","v":2}]
[{"$f":"IF(語言配置表!A243=\"\",\"\",語言配置表!A243)","v":240},{"$f":"IF(語言配置表!A243=\"\",\"CN_待填充内容\",語言配置表!B243)","v":3}]
[{"$f":"IF(語言配置表!A244=\"\",\"\",語言配置表!A244)","v":241},{"$f":"IF(語言配置表!A244=\"\",\"CN_待填充内容\",語言配置表!B244)","v":4}]
[{"$f":"IF(語言配置表!A245=\"\",\"\",語言配置表!A245)","v":242},{"$f":"IF(語言配置表!A245=\"\",\"CN_待填充内容\",語言配置表!B245)","v":5}]
[{"$f":"IF(語言配置表!A246=\"\",\"\",語言配置表!A246)","v":243},{"$f":"IF(語言配置表!A246=\"\",\"CN_待填充内容\",語言配置表!B246)","v":6}]
[{"$f":"IF(語言配置表!A247=\"\",\"\",語言配置表!A247)","v":244},{"$f":"IF(語言配置表!A247=\"\",\"CN_待填充内容\",語言配置表!B247)","v":7}]
[{"$f":"IF(語言配置表!A248=\"\",\"\",語言配置表!A248)","v":245},{"$f":"IF(語言配置表!A248=\"\",\"CN_待填充内容\",語言配置表!B248)","v":8}]
[{"$f":"IF(語言配置表!A249=\"\",\"\",語言配置表!A249)","v":246},{"$f":"IF(語言配置表!A249=\"\",\"CN_待填充内容\",語言配置表!B249)","v":9}]
[{"$f":"IF(語言配置表!A250=\"\",\"\",語言配置表!A250)","v":247},{"$f":"IF(語言配置表!A250=\"\",\"CN_待填充内容\",語言配置表!B250)","v":10}]
[{"$f":"IF(語言配置表!A251=\"\",\"\",語言配置表!A251)","v":248},{"$f":"IF(語言配置表!A251=\"\",\"CN_待填充内容\",語言配置表!B251)","v":"金锭"}]
[{"$f":"IF(語言配置表!A252=\"\",\"\",語言配置表!A252)","v":249},{"$f":"IF(語言配置表!A252=\"\",\"CN_待填充内容\",語言配置表!B252)","v":"最稀有的货币"}]
[{"$f":"IF(語言配置表!A253=\"\",\"\",語言配置表!A253)","v":250},{"$f":"IF(語言配置表!A253=\"\",\"CN_待填充内容\",語言配置表!B253)","v":"渡劫丹-A1"}]
[{"$f":"IF(語言配置表!A254=\"\",\"\",語言配置表!A254)","v":251},{"$f":"IF(語言配置表!A254=\"\",\"CN_待填充内容\",語言配置表!B254)","v":"渡劫丹-A2"}]
[{"$f":"IF(語言配置表!A255=\"\",\"\",語言配置表!A255)","v":252},{"$f":"IF(語言配置表!A255=\"\",\"CN_待填充内容\",語言配置表!B255)","v":"渡劫丹-A3"}]
[{"$f":"IF(語言配置表!A256=\"\",\"\",語言配置表!A256)","v":253},{"$f":"IF(語言配置表!A256=\"\",\"CN_待填充内容\",語言配置表!B256)","v":"渡劫丹-B1"}]
[{"$f":"IF(語言配置表!A257=\"\",\"\",語言配置表!A257)","v":254},{"$f":"IF(語言配置表!A257=\"\",\"CN_待填充内容\",語言配置表!B257)","v":"渡劫丹-B2"}]
[{"$f":"IF(語言配置表!A258=\"\",\"\",語言配置表!A258)","v":255},{"$f":"IF(語言配置表!A258=\"\",\"CN_待填充内容\",語言配置表!B258)","v":"渡劫丹-B3"}]
[{"$f":"IF(語言配置表!A259=\"\",\"\",語言配置表!A259)","v":256},{"$f":"IF(語言配置表!A259=\"\",\"CN_待填充内容\",語言配置表!B259)","v":"渡劫丹-C1"}]
[{"$f":"IF(語言配置表!A260=\"\",\"\",語言配置表!A260)","v":257},{"$f":"IF(語言配置表!A260=\"\",\"CN_待填充内容\",語言配置表!B260)","v":"渡劫丹-C2"}]
[{"$f":"IF(語言配置表!A261=\"\",\"\",語言配置表!A261)","v":258},{"$f":"IF(語言配置表!A261=\"\",\"CN_待填充内容\",語言配置表!B261)","v":"渡劫丹-C3"}]
[{"$f":"IF(語言配置表!A262=\"\",\"\",語言配置表!A262)","v":259},{"$f":"IF(語言配置表!A262=\"\",\"CN_待填充内容\",語言配置表!B262)","v":"渡劫丹-A1描述"}]
[{"$f":"IF(語言配置表!A263=\"\",\"\",語言配置表!A263)","v":260},{"$f":"IF(語言配置表!A263=\"\",\"CN_待填充内容\",語言配置表!B263)","v":"渡劫丹-A2描述"}]
[{"$f":"IF(語言配置表!A264=\"\",\"\",語言配置表!A264)","v":261},{"$f":"IF(語言配置表!A264=\"\",\"CN_待填充内容\",語言配置表!B264)","v":"渡劫丹-A3描述"}]
[{"$f":"IF(語言配置表!A265=\"\",\"\",語言配置表!A265)","v":262},{"$f":"IF(語言配置表!A265=\"\",\"CN_待填充内容\",語言配置表!B265)","v":"渡劫丹-B1描述"}]
[{"$f":"IF(語言配置表!A266=\"\",\"\",語言配置表!A266)","v":263},{"$f":"IF(語言配置表!A266=\"\",\"CN_待填充内容\",語言配置表!B266)","v":"渡劫丹-B2描述"}]
[{"$f":"IF(語言配置表!A267=\"\",\"\",語言配置表!A267)","v":264},{"$f":"IF(語言配置表!A267=\"\",\"CN_待填充内容\",語言配置表!B267)","v":"渡劫丹-B3描述"}]
[{"$f":"IF(語言配置表!A268=\"\",\"\",語言配置表!A268)","v":265},{"$f":"IF(語言配置表!A268=\"\",\"CN_待填充内容\",語言配置表!B268)","v":"渡劫丹-C1描述"}]
[{"$f":"IF(語言配置表!A269=\"\",\"\",語言配置表!A269)","v":266},{"$f":"IF(語言配置表!A269=\"\",\"CN_待填充内容\",語言配置表!B269)","v":"渡劫丹-C2描述"}]
[{"$f":"IF(語言配置表!A270=\"\",\"\",語言配置表!A270)","v":267},{"$f":"IF(語言配置表!A270=\"\",\"CN_待填充内容\",語言配置表!B270)","v":"渡劫丹-C3描述"}]
[{"$f":"IF(語言配置表!A271=\"\",\"\",語言配置表!A271)","v":268},{"$f":"IF(語言配置表!A271=\"\",\"CN_待填充内容\",語言配置表!B271)","v":"天材地宝1"}]
[{"$f":"IF(語言配置表!A272=\"\",\"\",語言配置表!A272)","v":269},{"$f":"IF(語言配置表!A272=\"\",\"CN_待填充内容\",語言配置表!B272)","v":"天材地宝2"}]
[{"$f":"IF(語言配置表!A273=\"\",\"\",語言配置表!A273)","v":270},{"$f":"IF(語言配置表!A273=\"\",\"CN_待填充内容\",語言配置表!B273)","v":"天材地宝3"}]
[{"$f":"IF(語言配置表!A274=\"\",\"\",語言配置表!A274)","v":271},{"$f":"IF(語言配置表!A274=\"\",\"CN_待填充内容\",語言配置表!B274)","v":"天材地宝4"}]
[{"$f":"IF(語言配置表!A275=\"\",\"\",語言配置表!A275)","v":272},{"$f":"IF(語言配置表!A275=\"\",\"CN_待填充内容\",語言配置表!B275)","v":"天材地宝1描述"}]
[{"$f":"IF(語言配置表!A276=\"\",\"\",語言配置表!A276)","v":273},{"$f":"IF(語言配置表!A276=\"\",\"CN_待填充内容\",語言配置表!B276)","v":"天材地宝2描述"}]
[{"$f":"IF(語言配置表!A277=\"\",\"\",語言配置表!A277)","v":274},{"$f":"IF(語言配置表!A277=\"\",\"CN_待填充内容\",語言配置表!B277)","v":"天材地宝3描述"}]
[{"$f":"IF(語言配置表!A278=\"\",\"\",語言配置表!A278)","v":275},{"$f":"IF(語言配置表!A278=\"\",\"CN_待填充内容\",語言配置表!B278)","v":"天材地宝4描述"}]
[{"$f":"IF(語言配置表!A279=\"\",\"\",語言配置表!A279)","v":276},{"$f":"IF(語言配置表!A279=\"\",\"CN_待填充内容\",語言配置表!B279)","v":"修为丹1"}]
[{"$f":"IF(語言配置表!A280=\"\",\"\",語言配置表!A280)","v":277},{"$f":"IF(語言配置表!A280=\"\",\"CN_待填充内容\",語言配置表!B280)","v":"修为丹2"}]
[{"$f":"IF(語言配置表!A281=\"\",\"\",語言配置表!A281)","v":278},{"$f":"IF(語言配置表!A281=\"\",\"CN_待填充内容\",語言配置表!B281)","v":"修为丹3"}]
[{"$f":"IF(語言配置表!A282=\"\",\"\",語言配置表!A282)","v":279},{"$f":"IF(語言配置表!A282=\"\",\"CN_待填充内容\",語言配置表!B282)","v":"修为丹4"}]
[{"$f":"IF(語言配置表!A283=\"\",\"\",語言配置表!A283)","v":280},{"$f":"IF(語言配置表!A283=\"\",\"CN_待填充内容\",語言配置表!B283)","v":"修为丹1描述"}]
[{"$f":"IF(語言配置表!A284=\"\",\"\",語言配置表!A284)","v":281},{"$f":"IF(語言配置表!A284=\"\",\"CN_待填充内容\",語言配置表!B284)","v":"修为丹2描述"}]
[{"$f":"IF(語言配置表!A285=\"\",\"\",語言配置表!A285)","v":282},{"$f":"IF(語言配置表!A285=\"\",\"CN_待填充内容\",語言配置表!B285)","v":"修为丹3描述"}]
[{"$f":"IF(語言配置表!A286=\"\",\"\",語言配置表!A286)","v":283},{"$f":"IF(語言配置表!A286=\"\",\"CN_待填充内容\",語言配置表!B286)","v":"修为丹4描述"}]
[{"$f":"IF(語言配置表!A287=\"\",\"\",語言配置表!A287)","v":284},{"$f":"IF(語言配置表!A287=\"\",\"CN_待填充内容\",語言配置表!B287)","v":"神龙鼎"}]
[{"$f":"IF(語言配置表!A288=\"\",\"\",語言配置表!A288)","v":285},{"$f":"IF(語言配置表!A288=\"\",\"CN_待填充内容\",語言配置表!B288)","v":"破天斧"}]
[{"$f":"IF(語言配置表!A289=\"\",\"\",語言配置表!A289)","v":286},{"$f":"IF(語言配置表!A289=\"\",\"CN_待填充内容\",語言配置表!B289)","v":"翡翠葫芦"}]
[{"$f":"IF(語言配置表!A290=\"\",\"\",語言配置表!A290)","v":287},{"$f":"IF(語言配置表!A290=\"\",\"CN_待填充内容\",語言配置表!B290)","v":"混沌珠"}]
[{"$f":"IF(語言配置表!A291=\"\",\"\",語言配置表!A291)","v":288},{"$f":"IF(語言配置表!A291=\"\",\"CN_待填充内容\",語言配置表!B291)","v":"琉璃宝塔"}]
[{"$f":"IF(語言配置表!A292=\"\",\"\",語言配置表!A292)","v":289},{"$f":"IF(語言配置表!A292=\"\",\"CN_待填充内容\",語言配置表!B292)","v":"九幽镇魂瓶"}]
[{"$f":"IF(語言配置表!A293=\"\",\"\",語言配置表!A293)","v":290},{"$f":"IF(語言配置表!A293=\"\",\"CN_待填充内容\",語言配置表!B293)","v":"玉莲守心灯"}]
[{"$f":"IF(語言配置表!A294=\"\",\"\",語言配置表!A294)","v":291},{"$f":"IF(語言配置表!A294=\"\",\"CN_待填充内容\",語言配置表!B294)","v":"融灵塔"}]
[{"$f":"IF(語言配置表!A295=\"\",\"\",語言配置表!A295)","v":292},{"$f":"IF(語言配置表!A295=\"\",\"CN_待填充内容\",語言配置表!B295)","v":"法宝1描述"}]
[{"$f":"IF(語言配置表!A296=\"\",\"\",語言配置表!A296)","v":293},{"$f":"IF(語言配置表!A296=\"\",\"CN_待填充内容\",語言配置表!B296)","v":"法宝2描述"}]
[{"$f":"IF(語言配置表!A297=\"\",\"\",語言配置表!A297)","v":294},{"$f":"IF(語言配置表!A297=\"\",\"CN_待填充内容\",語言配置表!B297)","v":"法宝3描述"}]
[{"$f":"IF(語言配置表!A298=\"\",\"\",語言配置表!A298)","v":295},{"$f":"IF(語言配置表!A298=\"\",\"CN_待填充内容\",語言配置表!B298)","v":"法宝4描述"}]
[{"$f":"IF(語言配置表!A299=\"\",\"\",語言配置表!A299)","v":296},{"$f":"IF(語言配置表!A299=\"\",\"CN_待填充内容\",語言配置表!B299)","v":"法宝5描述"}]
[{"$f":"IF(語言配置表!A300=\"\",\"\",語言配置表!A300)","v":297},{"$f":"IF(語言配置表!A300=\"\",\"CN_待填充内容\",語言配置表!B300)","v":"法宝6描述"}]
[{"$f":"IF(語言配置表!A301=\"\",\"\",語言配置表!A301)","v":298},{"$f":"IF(語言配置表!A301=\"\",\"CN_待填充内容\",語言配置表!B301)","v":"法宝7描述"}]
[{"$f":"IF(語言配置表!A302=\"\",\"\",語言配置表!A302)","v":299},{"$f":"IF(語言配置表!A302=\"\",\"CN_待填充内容\",語言配置表!B302)","v":"法宝8描述"}]
[{"$f":"IF(語言配置表!A303=\"\",\"\",語言配置表!A303)","v":300},{"$f":"IF(語言配置表!A303=\"\",\"CN_待填充内容\",語言配置表!B303)","v":"神龙鼎碎片"}]
[{"$f":"IF(語言配置表!A304=\"\",\"\",語言配置表!A304)","v":301},{"$f":"IF(語言配置表!A304=\"\",\"CN_待填充内容\",語言配置表!B304)","v":"破天斧碎片"}]
[{"$f":"IF(語言配置表!A305=\"\",\"\",語言配置表!A305)","v":302},{"$f":"IF(語言配置表!A305=\"\",\"CN_待填充内容\",語言配置表!B305)","v":"翡翠葫芦碎片"}]
[{"$f":"IF(語言配置表!A306=\"\",\"\",語言配置表!A306)","v":303},{"$f":"IF(語言配置表!A306=\"\",\"CN_待填充内容\",語言配置表!B306)","v":"混沌珠碎片"}]
[{"$f":"IF(語言配置表!A307=\"\",\"\",語言配置表!A307)","v":304},{"$f":"IF(語言配置表!A307=\"\",\"CN_待填充内容\",語言配置表!B307)","v":"琉璃宝塔碎片"}]
[{"$f":"IF(語言配置表!A308=\"\",\"\",語言配置表!A308)","v":305},{"$f":"IF(語言配置表!A308=\"\",\"CN_待填充内容\",語言配置表!B308)","v":"九幽镇魂瓶碎片"}]
[{"$f":"IF(語言配置表!A309=\"\",\"\",語言配置表!A309)","v":306},{"$f":"IF(語言配置表!A309=\"\",\"CN_待填充内容\",語言配置表!B309)","v":"玉莲守心灯碎片"}]
[{"$f":"IF(語言配置表!A310=\"\",\"\",語言配置表!A310)","v":307},{"$f":"IF(語言配置表!A310=\"\",\"CN_待填充内容\",語言配置表!B310)","v":"融灵塔碎片"}]
[{"$f":"IF(語言配置表!A311=\"\",\"\",語言配置表!A311)","v":308},{"$f":"IF(語言配置表!A311=\"\",\"CN_待填充内容\",語言配置表!B311)","v":"法宝1碎片描述"}]
[{"$f":"IF(語言配置表!A312=\"\",\"\",語言配置表!A312)","v":309},{"$f":"IF(語言配置表!A312=\"\",\"CN_待填充内容\",語言配置表!B312)","v":"法宝2碎片描述"}]
[{"$f":"IF(語言配置表!A313=\"\",\"\",語言配置表!A313)","v":310},{"$f":"IF(語言配置表!A313=\"\",\"CN_待填充内容\",語言配置表!B313)","v":"法宝3碎片描述"}]
[{"$f":"IF(語言配置表!A314=\"\",\"\",語言配置表!A314)","v":311},{"$f":"IF(語言配置表!A314=\"\",\"CN_待填充内容\",語言配置表!B314)","v":"法宝4碎片描述"}]
[{"$f":"IF(語言配置表!A315=\"\",\"\",語言配置表!A315)","v":312},{"$f":"IF(語言配置表!A315=\"\",\"CN_待填充内容\",語言配置表!B315)","v":"法宝5碎片描述"}]
[{"$f":"IF(語言配置表!A316=\"\",\"\",語言配置表!A316)","v":313},{"$f":"IF(語言配置表!A316=\"\",\"CN_待填充内容\",語言配置表!B316)","v":"法宝6碎片描述"}]
[{"$f":"IF(語言配置表!A317=\"\",\"\",語言配置表!A317)","v":314},{"$f":"IF(語言配置表!A317=\"\",\"CN_待填充内容\",語言配置表!B317)","v":"法宝7碎片描述"}]
[{"$f":"IF(語言配置表!A318=\"\",\"\",語言配置表!A318)","v":315},{"$f":"IF(語言配置表!A318=\"\",\"CN_待填充内容\",語言配置表!B318)","v":"法宝8碎片描述"}]
[{"$f":"IF(語言配置表!A319=\"\",\"\",語言配置表!A319)","v":316},{"$f":"IF(語言配置表!A319=\"\",\"CN_待填充内容\",語言配置表!B319)","v":"太虚幻剑经"}]
[{"$f":"IF(語言配置表!A320=\"\",\"\",語言配置表!A320)","v":317},{"$f":"IF(語言配置表!A320=\"\",\"CN_待填充内容\",語言配置表!B320)","v":"太虚幻剑经"}]
[{"$f":"IF(語言配置表!A321=\"\",\"\",語言配置表!A321)","v":318},{"$f":"IF(語言配置表!A321=\"\",\"CN_待填充内容\",語言配置表!B321)","v":"太虚幻剑经"}]
[{"$f":"IF(語言配置表!A322=\"\",\"\",語言配置表!A322)","v":319},{"$f":"IF(語言配置表!A322=\"\",\"CN_待填充内容\",語言配置表!B322)","v":"太虚幻剑经"}]
[{"$f":"IF(語言配置表!A323=\"\",\"\",語言配置表!A323)","v":320},{"$f":"IF(語言配置表!A323=\"\",\"CN_待填充内容\",語言配置表!B323)","v":"太虚幻剑经"}]
[{"$f":"IF(語言配置表!A324=\"\",\"\",語言配置表!A324)","v":321},{"$f":"IF(語言配置表!A324=\"\",\"CN_待填充内容\",語言配置表!B324)","v":"太虚幻剑经"}]
[{"$f":"IF(語言配置表!A325=\"\",\"\",語言配置表!A325)","v":322},{"$f":"IF(語言配置表!A325=\"\",\"CN_待填充内容\",語言配置表!B325)","v":"天罡剑气诀"}]
[{"$f":"IF(語言配置表!A326=\"\",\"\",語言配置表!A326)","v":323},{"$f":"IF(語言配置表!A326=\"\",\"CN_待填充内容\",語言配置表!B326)","v":"天罡剑气诀"}]
[{"$f":"IF(語言配置表!A327=\"\",\"\",語言配置表!A327)","v":324},{"$f":"IF(語言配置表!A327=\"\",\"CN_待填充内容\",語言配置表!B327)","v":"天罡剑气诀"}]
[{"$f":"IF(語言配置表!A328=\"\",\"\",語言配置表!A328)","v":325},{"$f":"IF(語言配置表!A328=\"\",\"CN_待填充内容\",語言配置表!B328)","v":"天罡剑气诀"}]
[{"$f":"IF(語言配置表!A329=\"\",\"\",語言配置表!A329)","v":326},{"$f":"IF(語言配置表!A329=\"\",\"CN_待填充内容\",語言配置表!B329)","v":"天罡剑气诀"}]
[{"$f":"IF(語言配置表!A330=\"\",\"\",語言配置表!A330)","v":327},{"$f":"IF(語言配置表!A330=\"\",\"CN_待填充内容\",語言配置表!B330)","v":"天罡剑气诀"}]
[{"$f":"IF(語言配置表!A331=\"\",\"\",語言配置表!A331)","v":328},{"$f":"IF(語言配置表!A331=\"\",\"CN_待填充内容\",語言配置表!B331)","v":"血刃金煌功"}]
[{"$f":"IF(語言配置表!A332=\"\",\"\",語言配置表!A332)","v":329},{"$f":"IF(語言配置表!A332=\"\",\"CN_待填充内容\",語言配置表!B332)","v":"血刃金煌功"}]
[{"$f":"IF(語言配置表!A333=\"\",\"\",語言配置表!A333)","v":330},{"$f":"IF(語言配置表!A333=\"\",\"CN_待填充内容\",語言配置表!B333)","v":"血刃金煌功"}]
[{"$f":"IF(語言配置表!A334=\"\",\"\",語言配置表!A334)","v":331},{"$f":"IF(語言配置表!A334=\"\",\"CN_待填充内容\",語言配置表!B334)","v":"血刃金煌功"}]
[{"$f":"IF(語言配置表!A335=\"\",\"\",語言配置表!A335)","v":332},{"$f":"IF(語言配置表!A335=\"\",\"CN_待填充内容\",語言配置表!B335)","v":"血刃金煌功"}]
[{"$f":"IF(語言配置表!A336=\"\",\"\",語言配置表!A336)","v":333},{"$f":"IF(語言配置表!A336=\"\",\"CN_待填充内容\",語言配置表!B336)","v":"血刃金煌功"}]
[{"$f":"IF(語言配置表!A337=\"\",\"\",語言配置表!A337)","v":334},{"$f":"IF(語言配置表!A337=\"\",\"CN_待填充内容\",語言配置表!B337)","v":"飞刃"}]
[{"$f":"IF(語言配置表!A338=\"\",\"\",語言配置表!A338)","v":335},{"$f":"IF(語言配置表!A338=\"\",\"CN_待填充内容\",語言配置表!B338)","v":"飞刃"}]
[{"$f":"IF(語言配置表!A339=\"\",\"\",語言配置表!A339)","v":336},{"$f":"IF(語言配置表!A339=\"\",\"CN_待填充内容\",語言配置表!B339)","v":"飞刃"}]
[{"$f":"IF(語言配置表!A340=\"\",\"\",語言配置表!A340)","v":337},{"$f":"IF(語言配置表!A340=\"\",\"CN_待填充内容\",語言配置表!B340)","v":"飞刃"}]
[{"$f":"IF(語言配置表!A341=\"\",\"\",語言配置表!A341)","v":338},{"$f":"IF(語言配置表!A341=\"\",\"CN_待填充内容\",語言配置表!B341)","v":"飞刃"}]
[{"$f":"IF(語言配置表!A342=\"\",\"\",語言配置表!A342)","v":339},{"$f":"IF(語言配置表!A342=\"\",\"CN_待填充内容\",語言配置表!B342)","v":"飞刃"}]
[{"$f":"IF(語言配置表!A343=\"\",\"\",語言配置表!A343)","v":340},{"$f":"IF(語言配置表!A343=\"\",\"CN_待填充内容\",語言配置表!B343)","v":"金针"}]
[{"$f":"IF(語言配置表!A344=\"\",\"\",語言配置表!A344)","v":341},{"$f":"IF(語言配置表!A344=\"\",\"CN_待填充内容\",語言配置表!B344)","v":"金针"}]
[{"$f":"IF(語言配置表!A345=\"\",\"\",語言配置表!A345)","v":342},{"$f":"IF(語言配置表!A345=\"\",\"CN_待填充内容\",語言配置表!B345)","v":"金针"}]
[{"$f":"IF(語言配置表!A346=\"\",\"\",語言配置表!A346)","v":343},{"$f":"IF(語言配置表!A346=\"\",\"CN_待填充内容\",語言配置表!B346)","v":"金针"}]
[{"$f":"IF(語言配置表!A347=\"\",\"\",語言配置表!A347)","v":344},{"$f":"IF(語言配置表!A347=\"\",\"CN_待填充内容\",語言配置表!B347)","v":"金针"}]
[{"$f":"IF(語言配置表!A348=\"\",\"\",語言配置表!A348)","v":345},{"$f":"IF(語言配置表!A348=\"\",\"CN_待填充内容\",語言配置表!B348)","v":"金针"}]
[{"$f":"IF(語言配置表!A349=\"\",\"\",語言配置表!A349)","v":346},{"$f":"IF(語言配置表!A349=\"\",\"CN_待填充内容\",語言配置表!B349)","v":"碧落幽冥劲"}]
[{"$f":"IF(語言配置表!A350=\"\",\"\",語言配置表!A350)","v":347},{"$f":"IF(語言配置表!A350=\"\",\"CN_待填充内容\",語言配置表!B350)","v":"碧落幽冥劲"}]
[{"$f":"IF(語言配置表!A351=\"\",\"\",語言配置表!A351)","v":348},{"$f":"IF(語言配置表!A351=\"\",\"CN_待填充内容\",語言配置表!B351)","v":"碧落幽冥劲"}]
[{"$f":"IF(語言配置表!A352=\"\",\"\",語言配置表!A352)","v":349},{"$f":"IF(語言配置表!A352=\"\",\"CN_待填充内容\",語言配置表!B352)","v":"碧落幽冥劲"}]
[{"$f":"IF(語言配置表!A353=\"\",\"\",語言配置表!A353)","v":350},{"$f":"IF(語言配置表!A353=\"\",\"CN_待填充内容\",語言配置表!B353)","v":"碧落幽冥劲"}]
[{"$f":"IF(語言配置表!A354=\"\",\"\",語言配置表!A354)","v":351},{"$f":"IF(語言配置表!A354=\"\",\"CN_待填充内容\",語言配置表!B354)","v":"碧落幽冥劲"}]
[{"$f":"IF(語言配置表!A355=\"\",\"\",語言配置表!A355)","v":352},{"$f":"IF(語言配置表!A355=\"\",\"CN_待填充内容\",語言配置表!B355)","v":"雾隐千流法"}]
[{"$f":"IF(語言配置表!A356=\"\",\"\",語言配置表!A356)","v":353},{"$f":"IF(語言配置表!A356=\"\",\"CN_待填充内容\",語言配置表!B356)","v":"雾隐千流法"}]
[{"$f":"IF(語言配置表!A357=\"\",\"\",語言配置表!A357)","v":354},{"$f":"IF(語言配置表!A357=\"\",\"CN_待填充内容\",語言配置表!B357)","v":"雾隐千流法"}]
[{"$f":"IF(語言配置表!A358=\"\",\"\",語言配置表!A358)","v":355},{"$f":"IF(語言配置表!A358=\"\",\"CN_待填充内容\",語言配置表!B358)","v":"雾隐千流法"}]
[{"$f":"IF(語言配置表!A359=\"\",\"\",語言配置表!A359)","v":356},{"$f":"IF(語言配置表!A359=\"\",\"CN_待填充内容\",語言配置表!B359)","v":"雾隐千流法"}]
[{"$f":"IF(語言配置表!A360=\"\",\"\",語言配置表!A360)","v":357},{"$f":"IF(語言配置表!A360=\"\",\"CN_待填充内容\",語言配置表!B360)","v":"雾隐千流法"}]
[{"$f":"IF(語言配置表!A361=\"\",\"\",語言配置表!A361)","v":358},{"$f":"IF(語言配置表!A361=\"\",\"CN_待填充内容\",語言配置表!B361)","v":0}]
[{"$f":"IF(語言配置表!A362=\"\",\"\",語言配置表!A362)","v":359},{"$f":"IF(語言配置表!A362=\"\",\"CN_待填充内容\",語言配置表!B362)","v":0}]
[{"$f":"IF(語言配置表!A363=\"\",\"\",語言配置表!A363)","v":360},{"$f":"IF(語言配置表!A363=\"\",\"CN_待填充内容\",語言配置表!B363)","v":0}]
[{"$f":"IF(語言配置表!A364=\"\",\"\",語言配置表!A364)","v":361},{"$f":"IF(語言配置表!A364=\"\",\"CN_待填充内容\",語言配置表!B364)","v":0}]
[{"$f":"IF(語言配置表!A365=\"\",\"\",語言配置表!A365)","v":362},{"$f":"IF(語言配置表!A365=\"\",\"CN_待填充内容\",語言配置表!B365)","v":0}]
[{"$f":"IF(語言配置表!A366=\"\",\"\",語言配置表!A366)","v":363},{"$f":"IF(語言配置表!A366=\"\",\"CN_待填充内容\",語言配置表!B366)","v":0}]
[{"$f":"IF(語言配置表!A367=\"\",\"\",語言配置表!A367)","v":364},{"$f":"IF(語言配置表!A367=\"\",\"CN_待填充内容\",語言配置表!B367)","v":"冰刀"}]
[{"$f":"IF(語言配置表!A368=\"\",\"\",語言配置表!A368)","v":365},{"$f":"IF(語言配置表!A368=\"\",\"CN_待填充内容\",語言配置表!B368)","v":"冰刀"}]
[{"$f":"IF(語言配置表!A369=\"\",\"\",語言配置表!A369)","v":366},{"$f":"IF(語言配置表!A369=\"\",\"CN_待填充内容\",語言配置表!B369)","v":"冰刀"}]
[{"$f":"IF(語言配置表!A370=\"\",\"\",語言配置表!A370)","v":367},{"$f":"IF(語言配置表!A370=\"\",\"CN_待填充内容\",語言配置表!B370)","v":"冰刀"}]
[{"$f":"IF(語言配置表!A371=\"\",\"\",語言配置表!A371)","v":368},{"$f":"IF(語言配置表!A371=\"\",\"CN_待填充内容\",語言配置表!B371)","v":"冰刀"}]
[{"$f":"IF(語言配置表!A372=\"\",\"\",語言配置表!A372)","v":369},{"$f":"IF(語言配置表!A372=\"\",\"CN_待填充内容\",語言配置表!B372)","v":"冰刀"}]
[{"$f":"IF(語言配置表!A373=\"\",\"\",語言配置表!A373)","v":370},{"$f":"IF(語言配置表!A373=\"\",\"CN_待填充内容\",語言配置表!B373)","v":"瘴影千丝术"}]
[{"$f":"IF(語言配置表!A374=\"\",\"\",語言配置表!A374)","v":371},{"$f":"IF(語言配置表!A374=\"\",\"CN_待填充内容\",語言配置表!B374)","v":"瘴影千丝术"}]
[{"$f":"IF(語言配置表!A375=\"\",\"\",語言配置表!A375)","v":372},{"$f":"IF(語言配置表!A375=\"\",\"CN_待填充内容\",語言配置表!B375)","v":"瘴影千丝术"}]
[{"$f":"IF(語言配置表!A376=\"\",\"\",語言配置表!A376)","v":373},{"$f":"IF(語言配置表!A376=\"\",\"CN_待填充内容\",語言配置表!B376)","v":"瘴影千丝术"}]
[{"$f":"IF(語言配置表!A377=\"\",\"\",語言配置表!A377)","v":374},{"$f":"IF(語言配置表!A377=\"\",\"CN_待填充内容\",語言配置表!B377)","v":"瘴影千丝术"}]
[{"$f":"IF(語言配置表!A378=\"\",\"\",語言配置表!A378)","v":375},{"$f":"IF(語言配置表!A378=\"\",\"CN_待填充内容\",語言配置表!B378)","v":"瘴影千丝术"}]
[{"$f":"IF(語言配置表!A379=\"\",\"\",語言配置表!A379)","v":376},{"$f":"IF(語言配置表!A379=\"\",\"CN_待填充内容\",語言配置表!B379)","v":"蚀骨腐血掌"}]
[{"$f":"IF(語言配置表!A380=\"\",\"\",語言配置表!A380)","v":377},{"$f":"IF(語言配置表!A380=\"\",\"CN_待填充内容\",語言配置表!B380)","v":"蚀骨腐血掌"}]
[{"$f":"IF(語言配置表!A381=\"\",\"\",語言配置表!A381)","v":378},{"$f":"IF(語言配置表!A381=\"\",\"CN_待填充内容\",語言配置表!B381)","v":"蚀骨腐血掌"}]
[{"$f":"IF(語言配置表!A382=\"\",\"\",語言配置表!A382)","v":379},{"$f":"IF(語言配置表!A382=\"\",\"CN_待填充内容\",語言配置表!B382)","v":"蚀骨腐血掌"}]
[{"$f":"IF(語言配置表!A383=\"\",\"\",語言配置表!A383)","v":380},{"$f":"IF(語言配置表!A383=\"\",\"CN_待填充内容\",語言配置表!B383)","v":"蚀骨腐血掌"}]
[{"$f":"IF(語言配置表!A384=\"\",\"\",語言配置表!A384)","v":381},{"$f":"IF(語言配置表!A384=\"\",\"CN_待填充内容\",語言配置表!B384)","v":"蚀骨腐血掌"}]
[{"$f":"IF(語言配置表!A385=\"\",\"\",語言配置表!A385)","v":382},{"$f":"IF(語言配置表!A385=\"\",\"CN_待填充内容\",語言配置表!B385)","v":0}]
[{"$f":"IF(語言配置表!A386=\"\",\"\",語言配置表!A386)","v":383},{"$f":"IF(語言配置表!A386=\"\",\"CN_待填充内容\",語言配置表!B386)","v":0}]
[{"$f":"IF(語言配置表!A387=\"\",\"\",語言配置表!A387)","v":384},{"$f":"IF(語言配置表!A387=\"\",\"CN_待填充内容\",語言配置表!B387)","v":0}]
[{"$f":"IF(語言配置表!A388=\"\",\"\",語言配置表!A388)","v":385},{"$f":"IF(語言配置表!A388=\"\",\"CN_待填充内容\",語言配置表!B388)","v":0}]
[{"$f":"IF(語言配置表!A389=\"\",\"\",語言配置表!A389)","v":386},{"$f":"IF(語言配置表!A389=\"\",\"CN_待填充内容\",語言配置表!B389)","v":0}]
[{"$f":"IF(語言配置表!A390=\"\",\"\",語言配置表!A390)","v":387},{"$f":"IF(語言配置表!A390=\"\",\"CN_待填充内容\",語言配置表!B390)","v":0}]
[{"$f":"IF(語言配置表!A391=\"\",\"\",語言配置表!A391)","v":388},{"$f":"IF(語言配置表!A391=\"\",\"CN_待填充内容\",語言配置表!B391)","v":"飞叶"}]
[{"$f":"IF(語言配置表!A392=\"\",\"\",語言配置表!A392)","v":389},{"$f":"IF(語言配置表!A392=\"\",\"CN_待填充内容\",語言配置表!B392)","v":"飞叶"}]
[{"$f":"IF(語言配置表!A393=\"\",\"\",語言配置表!A393)","v":390},{"$f":"IF(語言配置表!A393=\"\",\"CN_待填充内容\",語言配置表!B393)","v":"飞叶"}]
[{"$f":"IF(語言配置表!A394=\"\",\"\",語言配置表!A394)","v":391},{"$f":"IF(語言配置表!A394=\"\",\"CN_待填充内容\",語言配置表!B394)","v":"飞叶"}]
[{"$f":"IF(語言配置表!A395=\"\",\"\",語言配置表!A395)","v":392},{"$f":"IF(語言配置表!A395=\"\",\"CN_待填充内容\",語言配置表!B395)","v":"飞叶"}]
[{"$f":"IF(語言配置表!A396=\"\",\"\",語言配置表!A396)","v":393},{"$f":"IF(語言配置表!A396=\"\",\"CN_待填充内容\",語言配置表!B396)","v":"飞叶"}]
[{"$f":"IF(語言配置表!A397=\"\",\"\",語言配置表!A397)","v":394},{"$f":"IF(語言配置表!A397=\"\",\"CN_待填充内容\",語言配置表!B397)","v":"烈焰剑"}]
[{"$f":"IF(語言配置表!A398=\"\",\"\",語言配置表!A398)","v":395},{"$f":"IF(語言配置表!A398=\"\",\"CN_待填充内容\",語言配置表!B398)","v":"烈焰剑"}]
[{"$f":"IF(語言配置表!A399=\"\",\"\",語言配置表!A399)","v":396},{"$f":"IF(語言配置表!A399=\"\",\"CN_待填充内容\",語言配置表!B399)","v":"烈焰剑"}]
[{"$f":"IF(語言配置表!A400=\"\",\"\",語言配置表!A400)","v":397},{"$f":"IF(語言配置表!A400=\"\",\"CN_待填充内容\",語言配置表!B400)","v":"烈焰剑"}]
[{"$f":"IF(語言配置表!A401=\"\",\"\",語言配置表!A401)","v":398},{"$f":"IF(語言配置表!A401=\"\",\"CN_待填充内容\",語言配置表!B401)","v":"烈焰剑"}]
[{"$f":"IF(語言配置表!A402=\"\",\"\",語言配置表!A402)","v":399},{"$f":"IF(語言配置表!A402=\"\",\"CN_待填充内容\",語言配置表!B402)","v":"烈焰剑"}]
[{"$f":"IF(語言配置表!A403=\"\",\"\",語言配置表!A403)","v":400},{"$f":"IF(語言配置表!A403=\"\",\"CN_待填充内容\",語言配置表!B403)","v":"赤焰龙吟功"}]
[{"$f":"IF(語言配置表!A404=\"\",\"\",語言配置表!A404)","v":401},{"$f":"IF(語言配置表!A404=\"\",\"CN_待填充内容\",語言配置表!B404)","v":"赤焰龙吟功"}]
[{"$f":"IF(語言配置表!A405=\"\",\"\",語言配置表!A405)","v":402},{"$f":"IF(語言配置表!A405=\"\",\"CN_待填充内容\",語言配置表!B405)","v":"赤焰龙吟功"}]
[{"$f":"IF(語言配置表!A406=\"\",\"\",語言配置表!A406)","v":403},{"$f":"IF(語言配置表!A406=\"\",\"CN_待填充内容\",語言配置表!B406)","v":"赤焰龙吟功"}]
[{"$f":"IF(語言配置表!A407=\"\",\"\",語言配置表!A407)","v":404},{"$f":"IF(語言配置表!A407=\"\",\"CN_待填充内容\",語言配置表!B407)","v":"赤焰龙吟功"}]
[{"$f":"IF(語言配置表!A408=\"\",\"\",語言配置表!A408)","v":405},{"$f":"IF(語言配置表!A408=\"\",\"CN_待填充内容\",語言配置表!B408)","v":"赤焰龙吟功"}]
[{"$f":"IF(語言配置表!A409=\"\",\"\",語言配置表!A409)","v":406},{"$f":"IF(語言配置表!A409=\"\",\"CN_待填充内容\",語言配置表!B409)","v":"朱雀燎原指"}]
[{"$f":"IF(語言配置表!A410=\"\",\"\",語言配置表!A410)","v":407},{"$f":"IF(語言配置表!A410=\"\",\"CN_待填充内容\",語言配置表!B410)","v":"朱雀燎原指"}]
[{"$f":"IF(語言配置表!A411=\"\",\"\",語言配置表!A411)","v":408},{"$f":"IF(語言配置表!A411=\"\",\"CN_待填充内容\",語言配置表!B411)","v":"朱雀燎原指"}]
[{"$f":"IF(語言配置表!A412=\"\",\"\",語言配置表!A412)","v":409},{"$f":"IF(語言配置表!A412=\"\",\"CN_待填充内容\",語言配置表!B412)","v":"朱雀燎原指"}]
[{"$f":"IF(語言配置表!A413=\"\",\"\",語言配置表!A413)","v":410},{"$f":"IF(語言配置表!A413=\"\",\"CN_待填充内容\",語言配置表!B413)","v":"朱雀燎原指"}]
[{"$f":"IF(語言配置表!A414=\"\",\"\",語言配置表!A414)","v":411},{"$f":"IF(語言配置表!A414=\"\",\"CN_待填充内容\",語言配置表!B414)","v":"朱雀燎原指"}]
[{"$f":"IF(語言配置表!A415=\"\",\"\",語言配置表!A415)","v":412},{"$f":"IF(語言配置表!A415=\"\",\"CN_待填充内容\",語言配置表!B415)","v":"火球"}]
[{"$f":"IF(語言配置表!A416=\"\",\"\",語言配置表!A416)","v":413},{"$f":"IF(語言配置表!A416=\"\",\"CN_待填充内容\",語言配置表!B416)","v":"火球"}]
[{"$f":"IF(語言配置表!A417=\"\",\"\",語言配置表!A417)","v":414},{"$f":"IF(語言配置表!A417=\"\",\"CN_待填充内容\",語言配置表!B417)","v":"火球"}]
[{"$f":"IF(語言配置表!A418=\"\",\"\",語言配置表!A418)","v":415},{"$f":"IF(語言配置表!A418=\"\",\"CN_待填充内容\",語言配置表!B418)","v":"火球"}]
[{"$f":"IF(語言配置表!A419=\"\",\"\",語言配置表!A419)","v":416},{"$f":"IF(語言配置表!A419=\"\",\"CN_待填充内容\",語言配置表!B419)","v":"火球"}]
[{"$f":"IF(語言配置表!A420=\"\",\"\",語言配置表!A420)","v":417},{"$f":"IF(語言配置表!A420=\"\",\"CN_待填充内容\",語言配置表!B420)","v":"火球"}]
[{"$f":"IF(語言配置表!A421=\"\",\"\",語言配置表!A421)","v":418},{"$f":"IF(語言配置表!A421=\"\",\"CN_待填充内容\",語言配置表!B421)","v":"火刀"}]
[{"$f":"IF(語言配置表!A422=\"\",\"\",語言配置表!A422)","v":419},{"$f":"IF(語言配置表!A422=\"\",\"CN_待填充内容\",語言配置表!B422)","v":"火刀"}]
[{"$f":"IF(語言配置表!A423=\"\",\"\",語言配置表!A423)","v":420},{"$f":"IF(語言配置表!A423=\"\",\"CN_待填充内容\",語言配置表!B423)","v":"火刀"}]
[{"$f":"IF(語言配置表!A424=\"\",\"\",語言配置表!A424)","v":421},{"$f":"IF(語言配置表!A424=\"\",\"CN_待填充内容\",語言配置表!B424)","v":"火刀"}]
[{"$f":"IF(語言配置表!A425=\"\",\"\",語言配置表!A425)","v":422},{"$f":"IF(語言配置表!A425=\"\",\"CN_待填充内容\",語言配置表!B425)","v":"火刀"}]
[{"$f":"IF(語言配置表!A426=\"\",\"\",語言配置表!A426)","v":423},{"$f":"IF(語言配置表!A426=\"\",\"CN_待填充内容\",語言配置表!B426)","v":"火刀"}]
[{"$f":"IF(語言配置表!A427=\"\",\"\",語言配置表!A427)","v":424},{"$f":"IF(語言配置表!A427=\"\",\"CN_待填充内容\",語言配置表!B427)","v":"黄尘灭魂刺"}]
[{"$f":"IF(語言配置表!A428=\"\",\"\",語言配置表!A428)","v":425},{"$f":"IF(語言配置表!A428=\"\",\"CN_待填充内容\",語言配置表!B428)","v":"黄尘灭魂刺"}]
[{"$f":"IF(語言配置表!A429=\"\",\"\",語言配置表!A429)","v":426},{"$f":"IF(語言配置表!A429=\"\",\"CN_待填充内容\",語言配置表!B429)","v":"黄尘灭魂刺"}]
[{"$f":"IF(語言配置表!A430=\"\",\"\",語言配置表!A430)","v":427},{"$f":"IF(語言配置表!A430=\"\",\"CN_待填充内容\",語言配置表!B430)","v":"黄尘灭魂刺"}]
[{"$f":"IF(語言配置表!A431=\"\",\"\",語言配置表!A431)","v":428},{"$f":"IF(語言配置表!A431=\"\",\"CN_待填充内容\",語言配置表!B431)","v":"黄尘灭魂刺"}]
[{"$f":"IF(語言配置表!A432=\"\",\"\",語言配置表!A432)","v":429},{"$f":"IF(語言配置表!A432=\"\",\"CN_待填充内容\",語言配置表!B432)","v":"黄尘灭魂刺"}]
[{"$f":"IF(語言配置表!A433=\"\",\"\",語言配置表!A433)","v":430},{"$f":"IF(語言配置表!A433=\"\",\"CN_待填充内容\",語言配置表!B433)","v":"地裂屠龙斩"}]
[{"$f":"IF(語言配置表!A434=\"\",\"\",語言配置表!A434)","v":431},{"$f":"IF(語言配置表!A434=\"\",\"CN_待填充内容\",語言配置表!B434)","v":"地裂屠龙斩"}]
[{"$f":"IF(語言配置表!A435=\"\",\"\",語言配置表!A435)","v":432},{"$f":"IF(語言配置表!A435=\"\",\"CN_待填充内容\",語言配置表!B435)","v":"地裂屠龙斩"}]
[{"$f":"IF(語言配置表!A436=\"\",\"\",語言配置表!A436)","v":433},{"$f":"IF(語言配置表!A436=\"\",\"CN_待填充内容\",語言配置表!B436)","v":"地裂屠龙斩"}]
[{"$f":"IF(語言配置表!A437=\"\",\"\",語言配置表!A437)","v":434},{"$f":"IF(語言配置表!A437=\"\",\"CN_待填充内容\",語言配置表!B437)","v":"地裂屠龙斩"}]
[{"$f":"IF(語言配置表!A438=\"\",\"\",語言配置表!A438)","v":435},{"$f":"IF(語言配置表!A438=\"\",\"CN_待填充内容\",語言配置表!B438)","v":"地裂屠龙斩"}]
[{"$f":"IF(語言配置表!A439=\"\",\"\",語言配置表!A439)","v":436},{"$f":"IF(語言配置表!A439=\"\",\"CN_待填充内容\",語言配置表!B439)","v":0}]
[{"$f":"IF(語言配置表!A440=\"\",\"\",語言配置表!A440)","v":437},{"$f":"IF(語言配置表!A440=\"\",\"CN_待填充内容\",語言配置表!B440)","v":0}]
[{"$f":"IF(語言配置表!A441=\"\",\"\",語言配置表!A441)","v":438},{"$f":"IF(語言配置表!A441=\"\",\"CN_待填充内容\",語言配置表!B441)","v":0}]
[{"$f":"IF(語言配置表!A442=\"\",\"\",語言配置表!A442)","v":439},{"$f":"IF(語言配置表!A442=\"\",\"CN_待填充内容\",語言配置表!B442)","v":0}]
[{"$f":"IF(語言配置表!A443=\"\",\"\",語言配置表!A443)","v":440},{"$f":"IF(語言配置表!A443=\"\",\"CN_待填充内容\",語言配置表!B443)","v":0}]
[{"$f":"IF(語言配置表!A444=\"\",\"\",語言配置表!A444)","v":441},{"$f":"IF(語言配置表!A444=\"\",\"CN_待填充内容\",語言配置表!B444)","v":0}]
[{"$f":"IF(語言配置表!A445=\"\",\"\",語言配置表!A445)","v":442},{"$f":"IF(語言配置表!A445=\"\",\"CN_待填充内容\",語言配置表!B445)","v":"小石头"}]
[{"$f":"IF(語言配置表!A446=\"\",\"\",語言配置表!A446)","v":443},{"$f":"IF(語言配置表!A446=\"\",\"CN_待填充内容\",語言配置表!B446)","v":"小石头"}]
[{"$f":"IF(語言配置表!A447=\"\",\"\",語言配置表!A447)","v":444},{"$f":"IF(語言配置表!A447=\"\",\"CN_待填充内容\",語言配置表!B447)","v":"小石头"}]
[{"$f":"IF(語言配置表!A448=\"\",\"\",語言配置表!A448)","v":445},{"$f":"IF(語言配置表!A448=\"\",\"CN_待填充内容\",語言配置表!B448)","v":"小石头"}]
[{"$f":"IF(語言配置表!A449=\"\",\"\",語言配置表!A449)","v":446},{"$f":"IF(語言配置表!A449=\"\",\"CN_待填充内容\",語言配置表!B449)","v":"小石头"}]
[{"$f":"IF(語言配置表!A450=\"\",\"\",語言配置表!A450)","v":447},{"$f":"IF(語言配置表!A450=\"\",\"CN_待填充内容\",語言配置表!B450)","v":"小石头"}]
[{"$f":"IF(語言配置表!A451=\"\",\"\",語言配置表!A451)","v":448},{"$f":"IF(語言配置表!A451=\"\",\"CN_待填充内容\",語言配置表!B451)","v":"天衍星辰诀"}]
[{"$f":"IF(語言配置表!A452=\"\",\"\",語言配置表!A452)","v":449},{"$f":"IF(語言配置表!A452=\"\",\"CN_待填充内容\",語言配置表!B452)","v":"天衍星辰诀"}]
[{"$f":"IF(語言配置表!A453=\"\",\"\",語言配置表!A453)","v":450},{"$f":"IF(語言配置表!A453=\"\",\"CN_待填充内容\",語言配置表!B453)","v":"天衍星辰诀"}]
[{"$f":"IF(語言配置表!A454=\"\",\"\",語言配置表!A454)","v":451},{"$f":"IF(語言配置表!A454=\"\",\"CN_待填充内容\",語言配置表!B454)","v":"天衍星辰诀"}]
[{"$f":"IF(語言配置表!A455=\"\",\"\",語言配置表!A455)","v":452},{"$f":"IF(語言配置表!A455=\"\",\"CN_待填充内容\",語言配置表!B455)","v":"天衍星辰诀"}]
[{"$f":"IF(語言配置表!A456=\"\",\"\",語言配置表!A456)","v":453},{"$f":"IF(語言配置表!A456=\"\",\"CN_待填充内容\",語言配置表!B456)","v":"天衍星辰诀"}]
[{"$f":"IF(語言配置表!A457=\"\",\"\",語言配置表!A457)","v":454},{"$f":"IF(語言配置表!A457=\"\",\"CN_待填充内容\",語言配置表!B457)","v":"法宝秘籍"}]
[{"$f":"IF(語言配置表!A458=\"\",\"\",語言配置表!A458)","v":455},{"$f":"IF(語言配置表!A458=\"\",\"CN_待填充内容\",語言配置表!B458)","v":"法宝秘籍"}]
[{"$f":"IF(語言配置表!A459=\"\",\"\",語言配置表!A459)","v":456},{"$f":"IF(語言配置表!A459=\"\",\"CN_待填充内容\",語言配置表!B459)","v":"法宝秘籍"}]
[{"$f":"IF(語言配置表!A460=\"\",\"\",語言配置表!A460)","v":457},{"$f":"IF(語言配置表!A460=\"\",\"CN_待填充内容\",語言配置表!B460)","v":"法宝秘籍"}]
[{"$f":"IF(語言配置表!A461=\"\",\"\",語言配置表!A461)","v":458},{"$f":"IF(語言配置表!A461=\"\",\"CN_待填充内容\",語言配置表!B461)","v":"法宝秘籍"}]
[{"$f":"IF(語言配置表!A462=\"\",\"\",語言配置表!A462)","v":459},{"$f":"IF(語言配置表!A462=\"\",\"CN_待填充内容\",語言配置表!B462)","v":"法宝秘籍"}]
[{"$f":"IF(語言配置表!A463=\"\",\"\",語言配置表!A463)","v":460},{"$f":"IF(語言配置表!A463=\"\",\"CN_待填充内容\",語言配置表!B463)","v":"崩脉决"}]
[{"$f":"IF(語言配置表!A464=\"\",\"\",語言配置表!A464)","v":461},{"$f":"IF(語言配置表!A464=\"\",\"CN_待填充内容\",語言配置表!B464)","v":"崩脉决"}]
[{"$f":"IF(語言配置表!A465=\"\",\"\",語言配置表!A465)","v":462},{"$f":"IF(語言配置表!A465=\"\",\"CN_待填充内容\",語言配置表!B465)","v":"崩脉决"}]
[{"$f":"IF(語言配置表!A466=\"\",\"\",語言配置表!A466)","v":463},{"$f":"IF(語言配置表!A466=\"\",\"CN_待填充内容\",語言配置表!B466)","v":"崩脉决"}]
[{"$f":"IF(語言配置表!A467=\"\",\"\",語言配置表!A467)","v":464},{"$f":"IF(語言配置表!A467=\"\",\"CN_待填充内容\",語言配置表!B467)","v":"崩脉决"}]
[{"$f":"IF(語言配置表!A468=\"\",\"\",語言配置表!A468)","v":465},{"$f":"IF(語言配置表!A468=\"\",\"CN_待填充内容\",語言配置表!B468)","v":"崩脉决"}]
[{"$f":"IF(語言配置表!A469=\"\",\"\",語言配置表!A469)","v":466},{"$f":"IF(語言配置表!A469=\"\",\"CN_待填充内容\",語言配置表!B469)","v":"两仪决"}]
[{"$f":"IF(語言配置表!A470=\"\",\"\",語言配置表!A470)","v":467},{"$f":"IF(語言配置表!A470=\"\",\"CN_待填充内容\",語言配置表!B470)","v":"两仪决"}]
[{"$f":"IF(語言配置表!A471=\"\",\"\",語言配置表!A471)","v":468},{"$f":"IF(語言配置表!A471=\"\",\"CN_待填充内容\",語言配置表!B471)","v":"两仪决"}]
[{"$f":"IF(語言配置表!A472=\"\",\"\",語言配置表!A472)","v":469},{"$f":"IF(語言配置表!A472=\"\",\"CN_待填充内容\",語言配置表!B472)","v":"两仪决"}]
[{"$f":"IF(語言配置表!A473=\"\",\"\",語言配置表!A473)","v":470},{"$f":"IF(語言配置表!A473=\"\",\"CN_待填充内容\",語言配置表!B473)","v":"两仪决"}]
[{"$f":"IF(語言配置表!A474=\"\",\"\",語言配置表!A474)","v":471},{"$f":"IF(語言配置表!A474=\"\",\"CN_待填充内容\",語言配置表!B474)","v":"两仪决"}]
[{"$f":"IF(語言配置表!A475=\"\",\"\",語言配置表!A475)","v":472},{"$f":"IF(語言配置表!A475=\"\",\"CN_待填充内容\",語言配置表!B475)","v":"火焰决"}]
[{"$f":"IF(語言配置表!A476=\"\",\"\",語言配置表!A476)","v":473},{"$f":"IF(語言配置表!A476=\"\",\"CN_待填充内容\",語言配置表!B476)","v":"火焰决"}]
[{"$f":"IF(語言配置表!A477=\"\",\"\",語言配置表!A477)","v":474},{"$f":"IF(語言配置表!A477=\"\",\"CN_待填充内容\",語言配置表!B477)","v":"火焰决"}]
[{"$f":"IF(語言配置表!A478=\"\",\"\",語言配置表!A478)","v":475},{"$f":"IF(語言配置表!A478=\"\",\"CN_待填充内容\",語言配置表!B478)","v":"火焰决"}]
[{"$f":"IF(語言配置表!A479=\"\",\"\",語言配置表!A479)","v":476},{"$f":"IF(語言配置表!A479=\"\",\"CN_待填充内容\",語言配置表!B479)","v":"火焰决"}]
[{"$f":"IF(語言配置表!A480=\"\",\"\",語言配置表!A480)","v":477},{"$f":"IF(語言配置表!A480=\"\",\"CN_待填充内容\",語言配置表!B480)","v":"火焰决"}]
[{"$f":"IF(語言配置表!A481=\"\",\"\",語言配置表!A481)","v":478},{"$f":"IF(語言配置表!A481=\"\",\"CN_待填充内容\",語言配置表!B481)","v":"乾坤巨灵诀"}]
[{"$f":"IF(語言配置表!A482=\"\",\"\",語言配置表!A482)","v":479},{"$f":"IF(語言配置表!A482=\"\",\"CN_待填充内容\",語言配置表!B482)","v":"乾坤巨灵诀"}]
[{"$f":"IF(語言配置表!A483=\"\",\"\",語言配置表!A483)","v":480},{"$f":"IF(語言配置表!A483=\"\",\"CN_待填充内容\",語言配置表!B483)","v":"乾坤巨灵诀"}]
[{"$f":"IF(語言配置表!A484=\"\",\"\",語言配置表!A484)","v":481},{"$f":"IF(語言配置表!A484=\"\",\"CN_待填充内容\",語言配置表!B484)","v":"乾坤巨灵诀"}]
[{"$f":"IF(語言配置表!A485=\"\",\"\",語言配置表!A485)","v":482},{"$f":"IF(語言配置表!A485=\"\",\"CN_待填充内容\",語言配置表!B485)","v":"乾坤巨灵诀"}]
[{"$f":"IF(語言配置表!A486=\"\",\"\",語言配置表!A486)","v":483},{"$f":"IF(語言配置表!A486=\"\",\"CN_待填充内容\",語言配置表!B486)","v":"乾坤巨灵诀"}]
[{"$f":"IF(語言配置表!A487=\"\",\"\",語言配置表!A487)","v":484},{"$f":"IF(語言配置表!A487=\"\",\"CN_待填充内容\",語言配置表!B487)","v":"极速齿轮"}]
[{"$f":"IF(語言配置表!A488=\"\",\"\",語言配置表!A488)","v":485},{"$f":"IF(語言配置表!A488=\"\",\"CN_待填充内容\",語言配置表!B488)","v":"极速齿轮"}]
[{"$f":"IF(語言配置表!A489=\"\",\"\",語言配置表!A489)","v":486},{"$f":"IF(語言配置表!A489=\"\",\"CN_待填充内容\",語言配置表!B489)","v":"极速齿轮"}]
[{"$f":"IF(語言配置表!A490=\"\",\"\",語言配置表!A490)","v":487},{"$f":"IF(語言配置表!A490=\"\",\"CN_待填充内容\",語言配置表!B490)","v":"极速齿轮"}]
[{"$f":"IF(語言配置表!A491=\"\",\"\",語言配置表!A491)","v":488},{"$f":"IF(語言配置表!A491=\"\",\"CN_待填充内容\",語言配置表!B491)","v":"极速齿轮"}]
[{"$f":"IF(語言配置表!A492=\"\",\"\",語言配置表!A492)","v":489},{"$f":"IF(語言配置表!A492=\"\",\"CN_待填充内容\",語言配置表!B492)","v":"极速齿轮"}]
[{"$f":"IF(語言配置表!A493=\"\",\"\",語言配置表!A493)","v":490},{"$f":"IF(語言配置表!A493=\"\",\"CN_待填充内容\",語言配置表!B493)","v":"太虚剑意"}]
[{"$f":"IF(語言配置表!A494=\"\",\"\",語言配置表!A494)","v":491},{"$f":"IF(語言配置表!A494=\"\",\"CN_待填充内容\",語言配置表!B494)","v":"太虚剑意"}]
[{"$f":"IF(語言配置表!A495=\"\",\"\",語言配置表!A495)","v":492},{"$f":"IF(語言配置表!A495=\"\",\"CN_待填充内容\",語言配置表!B495)","v":"太虚剑意"}]
[{"$f":"IF(語言配置表!A496=\"\",\"\",語言配置表!A496)","v":493},{"$f":"IF(語言配置表!A496=\"\",\"CN_待填充内容\",語言配置表!B496)","v":"太虚剑意"}]
[{"$f":"IF(語言配置表!A497=\"\",\"\",語言配置表!A497)","v":494},{"$f":"IF(語言配置表!A497=\"\",\"CN_待填充内容\",語言配置表!B497)","v":"太虚剑意"}]
[{"$f":"IF(語言配置表!A498=\"\",\"\",語言配置表!A498)","v":495},{"$f":"IF(語言配置表!A498=\"\",\"CN_待填充内容\",語言配置表!B498)","v":"太虚剑意"}]
[{"$f":"IF(語言配置表!A499=\"\",\"\",語言配置表!A499)","v":496},{"$f":"IF(語言配置表!A499=\"\",\"CN_待填充内容\",語言配置表!B499)","v":"神龙鼎"}]
[{"$f":"IF(語言配置表!A500=\"\",\"\",語言配置表!A500)","v":497},{"$f":"IF(語言配置表!A500=\"\",\"CN_待填充内容\",語言配置表!B500)","v":"神龙鼎"}]
[{"$f":"IF(語言配置表!A501=\"\",\"\",語言配置表!A501)","v":498},{"$f":"IF(語言配置表!A501=\"\",\"CN_待填充内容\",語言配置表!B501)","v":"神龙鼎"}]
[{"$f":"IF(語言配置表!A502=\"\",\"\",語言配置表!A502)","v":499},{"$f":"IF(語言配置表!A502=\"\",\"CN_待填充内容\",語言配置表!B502)","v":"神龙鼎"}]
[{"$f":"IF(語言配置表!A503=\"\",\"\",語言配置表!A503)","v":500},{"$f":"IF(語言配置表!A503=\"\",\"CN_待填充内容\",語言配置表!B503)","v":"神龙鼎"}]
[{"$f":"IF(語言配置表!A504=\"\",\"\",語言配置表!A504)","v":501},{"$f":"IF(語言配置表!A504=\"\",\"CN_待填充内容\",語言配置表!B504)","v":"神龙鼎"}]
[{"$f":"IF(語言配置表!A505=\"\",\"\",語言配置表!A505)","v":502},{"$f":"IF(語言配置表!A505=\"\",\"CN_待填充内容\",語言配置表!B505)","v":"破天斧"}]
[{"$f":"IF(語言配置表!A506=\"\",\"\",語言配置表!A506)","v":503},{"$f":"IF(語言配置表!A506=\"\",\"CN_待填充内容\",語言配置表!B506)","v":"破天斧"}]
[{"$f":"IF(語言配置表!A507=\"\",\"\",語言配置表!A507)","v":504},{"$f":"IF(語言配置表!A507=\"\",\"CN_待填充内容\",語言配置表!B507)","v":"破天斧"}]
[{"$f":"IF(語言配置表!A508=\"\",\"\",語言配置表!A508)","v":505},{"$f":"IF(語言配置表!A508=\"\",\"CN_待填充内容\",語言配置表!B508)","v":"破天斧"}]
[{"$f":"IF(語言配置表!A509=\"\",\"\",語言配置表!A509)","v":506},{"$f":"IF(語言配置表!A509=\"\",\"CN_待填充内容\",語言配置表!B509)","v":"破天斧"}]
[{"$f":"IF(語言配置表!A510=\"\",\"\",語言配置表!A510)","v":507},{"$f":"IF(語言配置表!A510=\"\",\"CN_待填充内容\",語言配置表!B510)","v":"破天斧"}]
[{"$f":"IF(語言配置表!A511=\"\",\"\",語言配置表!A511)","v":508},{"$f":"IF(語言配置表!A511=\"\",\"CN_待填充内容\",語言配置表!B511)","v":"翡翠葫芦"}]
[{"$f":"IF(語言配置表!A512=\"\",\"\",語言配置表!A512)","v":509},{"$f":"IF(語言配置表!A512=\"\",\"CN_待填充内容\",語言配置表!B512)","v":"翡翠葫芦"}]
[{"$f":"IF(語言配置表!A513=\"\",\"\",語言配置表!A513)","v":510},{"$f":"IF(語言配置表!A513=\"\",\"CN_待填充内容\",語言配置表!B513)","v":"翡翠葫芦"}]
[{"$f":"IF(語言配置表!A514=\"\",\"\",語言配置表!A514)","v":511},{"$f":"IF(語言配置表!A514=\"\",\"CN_待填充内容\",語言配置表!B514)","v":"翡翠葫芦"}]
[{"$f":"IF(語言配置表!A515=\"\",\"\",語言配置表!A515)","v":512},{"$f":"IF(語言配置表!A515=\"\",\"CN_待填充内容\",語言配置表!B515)","v":"翡翠葫芦"}]
[{"$f":"IF(語言配置表!A516=\"\",\"\",語言配置表!A516)","v":513},{"$f":"IF(語言配置表!A516=\"\",\"CN_待填充内容\",語言配置表!B516)","v":"翡翠葫芦"}]
[{"$f":"IF(語言配置表!A517=\"\",\"\",語言配置表!A517)","v":514},{"$f":"IF(語言配置表!A517=\"\",\"CN_待填充内容\",語言配置表!B517)","v":"混沌珠"}]
[{"$f":"IF(語言配置表!A518=\"\",\"\",語言配置表!A518)","v":515},{"$f":"IF(語言配置表!A518=\"\",\"CN_待填充内容\",語言配置表!B518)","v":"混沌珠"}]
[{"$f":"IF(語言配置表!A519=\"\",\"\",語言配置表!A519)","v":516},{"$f":"IF(語言配置表!A519=\"\",\"CN_待填充内容\",語言配置表!B519)","v":"混沌珠"}]
[{"$f":"IF(語言配置表!A520=\"\",\"\",語言配置表!A520)","v":517},{"$f":"IF(語言配置表!A520=\"\",\"CN_待填充内容\",語言配置表!B520)","v":"混沌珠"}]
[{"$f":"IF(語言配置表!A521=\"\",\"\",語言配置表!A521)","v":518},{"$f":"IF(語言配置表!A521=\"\",\"CN_待填充内容\",語言配置表!B521)","v":"混沌珠"}]
[{"$f":"IF(語言配置表!A522=\"\",\"\",語言配置表!A522)","v":519},{"$f":"IF(語言配置表!A522=\"\",\"CN_待填充内容\",語言配置表!B522)","v":"混沌珠"}]
[{"$f":"IF(語言配置表!A523=\"\",\"\",語言配置表!A523)","v":520},{"$f":"IF(語言配置表!A523=\"\",\"CN_待填充内容\",語言配置表!B523)","v":"琉璃宝塔"}]
[{"$f":"IF(語言配置表!A524=\"\",\"\",語言配置表!A524)","v":521},{"$f":"IF(語言配置表!A524=\"\",\"CN_待填充内容\",語言配置表!B524)","v":"琉璃宝塔"}]
[{"$f":"IF(語言配置表!A525=\"\",\"\",語言配置表!A525)","v":522},{"$f":"IF(語言配置表!A525=\"\",\"CN_待填充内容\",語言配置表!B525)","v":"琉璃宝塔"}]
[{"$f":"IF(語言配置表!A526=\"\",\"\",語言配置表!A526)","v":523},{"$f":"IF(語言配置表!A526=\"\",\"CN_待填充内容\",語言配置表!B526)","v":"琉璃宝塔"}]
[{"$f":"IF(語言配置表!A527=\"\",\"\",語言配置表!A527)","v":524},{"$f":"IF(語言配置表!A527=\"\",\"CN_待填充内容\",語言配置表!B527)","v":"琉璃宝塔"}]
[{"$f":"IF(語言配置表!A528=\"\",\"\",語言配置表!A528)","v":525},{"$f":"IF(語言配置表!A528=\"\",\"CN_待填充内容\",語言配置表!B528)","v":"琉璃宝塔"}]
[{"$f":"IF(語言配置表!A529=\"\",\"\",語言配置表!A529)","v":526},{"$f":"IF(語言配置表!A529=\"\",\"CN_待填充内容\",語言配置表!B529)","v":"九幽镇魂瓶"}]
[{"$f":"IF(語言配置表!A530=\"\",\"\",語言配置表!A530)","v":527},{"$f":"IF(語言配置表!A530=\"\",\"CN_待填充内容\",語言配置表!B530)","v":"九幽镇魂瓶"}]
[{"$f":"IF(語言配置表!A531=\"\",\"\",語言配置表!A531)","v":528},{"$f":"IF(語言配置表!A531=\"\",\"CN_待填充内容\",語言配置表!B531)","v":"九幽镇魂瓶"}]
[{"$f":"IF(語言配置表!A532=\"\",\"\",語言配置表!A532)","v":529},{"$f":"IF(語言配置表!A532=\"\",\"CN_待填充内容\",語言配置表!B532)","v":"九幽镇魂瓶"}]
[{"$f":"IF(語言配置表!A533=\"\",\"\",語言配置表!A533)","v":530},{"$f":"IF(語言配置表!A533=\"\",\"CN_待填充内容\",語言配置表!B533)","v":"九幽镇魂瓶"}]
[{"$f":"IF(語言配置表!A534=\"\",\"\",語言配置表!A534)","v":531},{"$f":"IF(語言配置表!A534=\"\",\"CN_待填充内容\",語言配置表!B534)","v":"九幽镇魂瓶"}]
[{"$f":"IF(語言配置表!A535=\"\",\"\",語言配置表!A535)","v":532},{"$f":"IF(語言配置表!A535=\"\",\"CN_待填充内容\",語言配置表!B535)","v":"玉莲守心灯"}]
[{"$f":"IF(語言配置表!A536=\"\",\"\",語言配置表!A536)","v":533},{"$f":"IF(語言配置表!A536=\"\",\"CN_待填充内容\",語言配置表!B536)","v":"玉莲守心灯"}]
[{"$f":"IF(語言配置表!A537=\"\",\"\",語言配置表!A537)","v":534},{"$f":"IF(語言配置表!A537=\"\",\"CN_待填充内容\",語言配置表!B537)","v":"玉莲守心灯"}]
[{"$f":"IF(語言配置表!A538=\"\",\"\",語言配置表!A538)","v":535},{"$f":"IF(語言配置表!A538=\"\",\"CN_待填充内容\",語言配置表!B538)","v":"玉莲守心灯"}]
[{"$f":"IF(語言配置表!A539=\"\",\"\",語言配置表!A539)","v":536},{"$f":"IF(語言配置表!A539=\"\",\"CN_待填充内容\",語言配置表!B539)","v":"玉莲守心灯"}]
[{"$f":"IF(語言配置表!A540=\"\",\"\",語言配置表!A540)","v":537},{"$f":"IF(語言配置表!A540=\"\",\"CN_待填充内容\",語言配置表!B540)","v":"玉莲守心灯"}]
[{"$f":"IF(語言配置表!A541=\"\",\"\",語言配置表!A541)","v":538},{"$f":"IF(語言配置表!A541=\"\",\"CN_待填充内容\",語言配置表!B541)","v":"融灵塔"}]
[{"$f":"IF(語言配置表!A542=\"\",\"\",語言配置表!A542)","v":539},{"$f":"IF(語言配置表!A542=\"\",\"CN_待填充内容\",語言配置表!B542)","v":"融灵塔"}]
[{"$f":"IF(語言配置表!A543=\"\",\"\",語言配置表!A543)","v":540},{"$f":"IF(語言配置表!A543=\"\",\"CN_待填充内容\",語言配置表!B543)","v":"融灵塔"}]
[{"$f":"IF(語言配置表!A544=\"\",\"\",語言配置表!A544)","v":541},{"$f":"IF(語言配置表!A544=\"\",\"CN_待填充内容\",語言配置表!B544)","v":"融灵塔"}]
[{"$f":"IF(語言配置表!A545=\"\",\"\",語言配置表!A545)","v":542},{"$f":"IF(語言配置表!A545=\"\",\"CN_待填充内容\",語言配置表!B545)","v":"融灵塔"}]
[{"$f":"IF(語言配置表!A546=\"\",\"\",語言配置表!A546)","v":543},{"$f":"IF(語言配置表!A546=\"\",\"CN_待填充内容\",語言配置表!B546)","v":"融灵塔"}]
[{"$f":"IF(語言配置表!A547=\"\",\"\",語言配置表!A547)","v":544},{"$f":"IF(語言配置表!A547=\"\",\"CN_待填充内容\",語言配置表!B547)","v":"禁元珠"}]
[{"$f":"IF(語言配置表!A548=\"\",\"\",語言配置表!A548)","v":545},{"$f":"IF(語言配置表!A548=\"\",\"CN_待填充内容\",語言配置表!B548)","v":"禁元珠"}]
[{"$f":"IF(語言配置表!A549=\"\",\"\",語言配置表!A549)","v":546},{"$f":"IF(語言配置表!A549=\"\",\"CN_待填充内容\",語言配置表!B549)","v":"禁元珠"}]
[{"$f":"IF(語言配置表!A550=\"\",\"\",語言配置表!A550)","v":547},{"$f":"IF(語言配置表!A550=\"\",\"CN_待填充内容\",語言配置表!B550)","v":"禁元珠"}]
[{"$f":"IF(語言配置表!A551=\"\",\"\",語言配置表!A551)","v":548},{"$f":"IF(語言配置表!A551=\"\",\"CN_待填充内容\",語言配置表!B551)","v":"禁元珠"}]
[{"$f":"IF(語言配置表!A552=\"\",\"\",語言配置表!A552)","v":549},{"$f":"IF(語言配置表!A552=\"\",\"CN_待填充内容\",語言配置表!B552)","v":"禁元珠"}]
[{"$f":"IF(語言配置表!A553=\"\",\"\",語言配置表!A553)","v":550},{"$f":"IF(語言配置表!A553=\"\",\"CN_待填充内容\",語言配置表!B553)","v":"玄龟盾"}]
[{"$f":"IF(語言配置表!A554=\"\",\"\",語言配置表!A554)","v":551},{"$f":"IF(語言配置表!A554=\"\",\"CN_待填充内容\",語言配置表!B554)","v":"玄龟盾"}]
[{"$f":"IF(語言配置表!A555=\"\",\"\",語言配置表!A555)","v":552},{"$f":"IF(語言配置表!A555=\"\",\"CN_待填充内容\",語言配置表!B555)","v":"玄龟盾"}]
[{"$f":"IF(語言配置表!A556=\"\",\"\",語言配置表!A556)","v":553},{"$f":"IF(語言配置表!A556=\"\",\"CN_待填充内容\",語言配置表!B556)","v":"玄龟盾"}]
[{"$f":"IF(語言配置表!A557=\"\",\"\",語言配置表!A557)","v":554},{"$f":"IF(語言配置表!A557=\"\",\"CN_待填充内容\",語言配置表!B557)","v":"玄龟盾"}]
[{"$f":"IF(語言配置表!A558=\"\",\"\",語言配置表!A558)","v":555},{"$f":"IF(語言配置表!A558=\"\",\"CN_待填充内容\",語言配置表!B558)","v":"玄龟盾"}]
[{"$f":"IF(語言配置表!A559=\"\",\"\",語言配置表!A559)","v":556},{"$f":"IF(語言配置表!A559=\"\",\"CN_待填充内容\",語言配置表!B559)","v":"天殇血刃剑"}]
[{"$f":"IF(語言配置表!A560=\"\",\"\",語言配置表!A560)","v":557},{"$f":"IF(語言配置表!A560=\"\",\"CN_待填充内容\",語言配置表!B560)","v":"天殇血刃剑"}]
[{"$f":"IF(語言配置表!A561=\"\",\"\",語言配置表!A561)","v":558},{"$f":"IF(語言配置表!A561=\"\",\"CN_待填充内容\",語言配置表!B561)","v":"天殇血刃剑"}]
[{"$f":"IF(語言配置表!A562=\"\",\"\",語言配置表!A562)","v":559},{"$f":"IF(語言配置表!A562=\"\",\"CN_待填充内容\",語言配置表!B562)","v":"天殇血刃剑"}]
[{"$f":"IF(語言配置表!A563=\"\",\"\",語言配置表!A563)","v":560},{"$f":"IF(語言配置表!A563=\"\",\"CN_待填充内容\",語言配置表!B563)","v":"天殇血刃剑"}]
[{"$f":"IF(語言配置表!A564=\"\",\"\",語言配置表!A564)","v":561},{"$f":"IF(語言配置表!A564=\"\",\"CN_待填充内容\",語言配置表!B564)","v":"天殇血刃剑"}]
[{"$f":"IF(語言配置表!A565=\"\",\"\",語言配置表!A565)","v":562},{"$f":"IF(語言配置表!A565=\"\",\"CN_待填充内容\",語言配置表!B565)","v":"技能名称预留，勿占"}]
[{"$f":"IF(語言配置表!A566=\"\",\"\",語言配置表!A566)","v":563},{"$f":"IF(語言配置表!A566=\"\",\"CN_待填充内容\",語言配置表!B566)","v":"技能名称预留，勿占"}]
[{"$f":"IF(語言配置表!A567=\"\",\"\",語言配置表!A567)","v":564},{"$f":"IF(語言配置表!A567=\"\",\"CN_待填充内容\",語言配置表!B567)","v":"技能名称预留，勿占"}]
[{"$f":"IF(語言配置表!A568=\"\",\"\",語言配置表!A568)","v":565},{"$f":"IF(語言配置表!A568=\"\",\"CN_待填充内容\",語言配置表!B568)","v":"技能名称预留，勿占"}]
[{"$f":"IF(語言配置表!A569=\"\",\"\",語言配置表!A569)","v":566},{"$f":"IF(語言配置表!A569=\"\",\"CN_待填充内容\",語言配置表!B569)","v":"技能名称预留，勿占"}]
[{"$f":"IF(語言配置表!A570=\"\",\"\",語言配置表!A570)","v":567},{"$f":"IF(語言配置表!A570=\"\",\"CN_待填充内容\",語言配置表!B570)","v":"技能名称预留，勿占"}]
[{"$f":"IF(語言配置表!A571=\"\",\"\",語言配置表!A571)","v":568},{"$f":"IF(語言配置表!A571=\"\",\"CN_待填充内容\",語言配置表!B571)","v":"技能名称预留，勿占"}]
[{"$f":"IF(語言配置表!A572=\"\",\"\",語言配置表!A572)","v":569},{"$f":"IF(語言配置表!A572=\"\",\"CN_待填充内容\",語言配置表!B572)","v":"技能名称预留，勿占"}]
[{"$f":"IF(語言配置表!A573=\"\",\"\",語言配置表!A573)","v":570},{"$f":"IF(語言配置表!A573=\"\",\"CN_待填充内容\",語言配置表!B573)","v":"技能名称预留，勿占"}]
[{"$f":"IF(語言配置表!A574=\"\",\"\",語言配置表!A574)","v":571},{"$f":"IF(語言配置表!A574=\"\",\"CN_待填充内容\",語言配置表!B574)","v":"技能名称预留，勿占"}]
[{"$f":"IF(語言配置表!A575=\"\",\"\",語言配置表!A575)","v":572},{"$f":"IF(語言配置表!A575=\"\",\"CN_待填充内容\",語言配置表!B575)","v":"技能名称预留，勿占"}]
[{"$f":"IF(語言配置表!A576=\"\",\"\",語言配置表!A576)","v":573},{"$f":"IF(語言配置表!A576=\"\",\"CN_待填充内容\",語言配置表!B576)","v":"技能名称预留，勿占"}]
[{"$f":"IF(語言配置表!A577=\"\",\"\",語言配置表!A577)","v":574},{"$f":"IF(語言配置表!A577=\"\",\"CN_待填充内容\",語言配置表!B577)","v":"技能名称预留，勿占"}]
[{"$f":"IF(語言配置表!A578=\"\",\"\",語言配置表!A578)","v":575},{"$f":"IF(語言配置表!A578=\"\",\"CN_待填充内容\",語言配置表!B578)","v":"技能名称预留，勿占"}]
[{"$f":"IF(語言配置表!A579=\"\",\"\",語言配置表!A579)","v":576},{"$f":"IF(語言配置表!A579=\"\",\"CN_待填充内容\",語言配置表!B579)","v":"技能名称预留，勿占"}]
[{"$f":"IF(語言配置表!A580=\"\",\"\",語言配置表!A580)","v":577},{"$f":"IF(語言配置表!A580=\"\",\"CN_待填充内容\",語言配置表!B580)","v":"技能名称预留，勿占"}]
[{"$f":"IF(語言配置表!A581=\"\",\"\",語言配置表!A581)","v":578},{"$f":"IF(語言配置表!A581=\"\",\"CN_待填充内容\",語言配置表!B581)","v":"技能名称预留，勿占"}]
[{"$f":"IF(語言配置表!A582=\"\",\"\",語言配置表!A582)","v":579},{"$f":"IF(語言配置表!A582=\"\",\"CN_待填充内容\",語言配置表!B582)","v":"技能名称预留，勿占"}]
[{"$f":"IF(語言配置表!A583=\"\",\"\",語言配置表!A583)","v":580},{"$f":"IF(語言配置表!A583=\"\",\"CN_待填充内容\",語言配置表!B583)","v":"技能名称预留，勿占"}]
[{"$f":"IF(語言配置表!A584=\"\",\"\",語言配置表!A584)","v":581},{"$f":"IF(語言配置表!A584=\"\",\"CN_待填充内容\",語言配置表!B584)","v":"技能名称预留，勿占"}]
[{"$f":"IF(語言配置表!A585=\"\",\"\",語言配置表!A585)","v":582},{"$f":"IF(語言配置表!A585=\"\",\"CN_待填充内容\",語言配置表!B585)","v":"技能名称预留，勿占"}]
[{"$f":"IF(語言配置表!A586=\"\",\"\",語言配置表!A586)","v":583},{"$f":"IF(語言配置表!A586=\"\",\"CN_待填充内容\",語言配置表!B586)","v":"技能名称预留，勿占"}]
[{"$f":"IF(語言配置表!A587=\"\",\"\",語言配置表!A587)","v":584},{"$f":"IF(語言配置表!A587=\"\",\"CN_待填充内容\",語言配置表!B587)","v":"技能名称预留，勿占"}]
[{"$f":"IF(語言配置表!A588=\"\",\"\",語言配置表!A588)","v":585},{"$f":"IF(語言配置表!A588=\"\",\"CN_待填充内容\",語言配置表!B588)","v":"技能名称预留，勿占"}]
[{"$f":"IF(語言配置表!A589=\"\",\"\",語言配置表!A589)","v":586},{"$f":"IF(語言配置表!A589=\"\",\"CN_待填充内容\",語言配置表!B589)","v":"技能名称预留，勿占"}]
[{"$f":"IF(語言配置表!A590=\"\",\"\",語言配置表!A590)","v":587},{"$f":"IF(語言配置表!A590=\"\",\"CN_待填充内容\",語言配置表!B590)","v":"技能名称预留，勿占"}]
[{"$f":"IF(語言配置表!A591=\"\",\"\",語言配置表!A591)","v":588},{"$f":"IF(語言配置表!A591=\"\",\"CN_待填充内容\",語言配置表!B591)","v":"技能名称预留，勿占"}]
[{"$f":"IF(語言配置表!A592=\"\",\"\",語言配置表!A592)","v":589},{"$f":"IF(語言配置表!A592=\"\",\"CN_待填充内容\",語言配置表!B592)","v":"技能名称预留，勿占"}]
[{"$f":"IF(語言配置表!A593=\"\",\"\",語言配置表!A593)","v":590},{"$f":"IF(語言配置表!A593=\"\",\"CN_待填充内容\",語言配置表!B593)","v":"技能名称预留，勿占"}]
[{"$f":"IF(語言配置表!A594=\"\",\"\",語言配置表!A594)","v":591},{"$f":"IF(語言配置表!A594=\"\",\"CN_待填充内容\",語言配置表!B594)","v":"技能名称预留，勿占"}]
[{"$f":"IF(語言配置表!A595=\"\",\"\",語言配置表!A595)","v":592},{"$f":"IF(語言配置表!A595=\"\",\"CN_待填充内容\",語言配置表!B595)","v":"技能名称预留，勿占"}]
[{"$f":"IF(語言配置表!A596=\"\",\"\",語言配置表!A596)","v":593},{"$f":"IF(語言配置表!A596=\"\",\"CN_待填充内容\",語言配置表!B596)","v":"技能名称预留，勿占"}]
[{"$f":"IF(語言配置表!A597=\"\",\"\",語言配置表!A597)","v":594},{"$f":"IF(語言配置表!A597=\"\",\"CN_待填充内容\",語言配置表!B597)","v":"技能名称预留，勿占"}]
[{"$f":"IF(語言配置表!A598=\"\",\"\",語言配置表!A598)","v":595},{"$f":"IF(語言配置表!A598=\"\",\"CN_待填充内容\",語言配置表!B598)","v":"技能名称预留，勿占"}]
[{"$f":"IF(語言配置表!A599=\"\",\"\",語言配置表!A599)","v":596},{"$f":"IF(語言配置表!A599=\"\",\"CN_待填充内容\",語言配置表!B599)","v":"技能名称预留，勿占"}]
[{"$f":"IF(語言配置表!A600=\"\",\"\",語言配置表!A600)","v":597},{"$f":"IF(語言配置表!A600=\"\",\"CN_待填充内容\",語言配置表!B600)","v":"技能名称预留，勿占"}]
[{"$f":"IF(語言配置表!A601=\"\",\"\",語言配置表!A601)","v":598},{"$f":"IF(語言配置表!A601=\"\",\"CN_待填充内容\",語言配置表!B601)","v":"技能名称预留，勿占"}]
[{"$f":"IF(語言配置表!A602=\"\",\"\",語言配置表!A602)","v":599},{"$f":"IF(語言配置表!A602=\"\",\"CN_待填充内容\",語言配置表!B602)","v":"技能名称预留，勿占"}]
[{"$f":"IF(語言配置表!A603=\"\",\"\",語言配置表!A603)","v":600},{"$f":"IF(語言配置表!A603=\"\",\"CN_待填充内容\",語言配置表!B603)","v":"技能名称预留，勿占"}]
[{"$f":"IF(語言配置表!A604=\"\",\"\",語言配置表!A604)","v":601},{"$f":"IF(語言配置表!A604=\"\",\"CN_待填充内容\",語言配置表!B604)","v":"技能名称预留，勿占"}]
[{"$f":"IF(語言配置表!A605=\"\",\"\",語言配置表!A605)","v":602},{"$f":"IF(語言配置表!A605=\"\",\"CN_待填充内容\",語言配置表!B605)","v":"技能名称预留，勿占"}]
[{"$f":"IF(語言配置表!A606=\"\",\"\",語言配置表!A606)","v":603},{"$f":"IF(語言配置表!A606=\"\",\"CN_待填充内容\",語言配置表!B606)","v":"技能名称预留，勿占"}]
[{"$f":"IF(語言配置表!A607=\"\",\"\",語言配置表!A607)","v":604},{"$f":"IF(語言配置表!A607=\"\",\"CN_待填充内容\",語言配置表!B607)","v":"技能名称预留，勿占"}]
[{"$f":"IF(語言配置表!A608=\"\",\"\",語言配置表!A608)","v":605},{"$f":"IF(語言配置表!A608=\"\",\"CN_待填充内容\",語言配置表!B608)","v":"技能名称预留，勿占"}]
[{"$f":"IF(語言配置表!A609=\"\",\"\",語言配置表!A609)","v":606},{"$f":"IF(語言配置表!A609=\"\",\"CN_待填充内容\",語言配置表!B609)","v":"技能名称预留，勿占"}]
[{"$f":"IF(語言配置表!A610=\"\",\"\",語言配置表!A610)","v":607},{"$f":"IF(語言配置表!A610=\"\",\"CN_待填充内容\",語言配置表!B610)","v":"技能名称预留，勿占"}]
[{"$f":"IF(語言配置表!A611=\"\",\"\",語言配置表!A611)","v":608},{"$f":"IF(語言配置表!A611=\"\",\"CN_待填充内容\",語言配置表!B611)","v":"技能名称预留，勿占"}]
[{"$f":"IF(語言配置表!A612=\"\",\"\",語言配置表!A612)","v":609},{"$f":"IF(語言配置表!A612=\"\",\"CN_待填充内容\",語言配置表!B612)","v":"技能名称预留，勿占"}]
[{"$f":"IF(語言配置表!A613=\"\",\"\",語言配置表!A613)","v":610},{"$f":"IF(語言配置表!A613=\"\",\"CN_待填充内容\",語言配置表!B613)","v":"技能名称预留，勿占"}]
[{"$f":"IF(語言配置表!A614=\"\",\"\",語言配置表!A614)","v":611},{"$f":"IF(語言配置表!A614=\"\",\"CN_待填充内容\",語言配置表!B614)","v":"技能名称预留，勿占"}]
[{"$f":"IF(語言配置表!A615=\"\",\"\",語言配置表!A615)","v":612},{"$f":"IF(語言配置表!A615=\"\",\"CN_待填充内容\",語言配置表!B615)","v":"技能名称预留，勿占"}]
[{"$f":"IF(語言配置表!A616=\"\",\"\",語言配置表!A616)","v":613},{"$f":"IF(語言配置表!A616=\"\",\"CN_待填充内容\",語言配置表!B616)","v":"技能名称预留，勿占"}]
[{"$f":"IF(語言配置表!A617=\"\",\"\",語言配置表!A617)","v":614},{"$f":"IF(語言配置表!A617=\"\",\"CN_待填充内容\",語言配置表!B617)","v":"技能名称预留，勿占"}]
[{"$f":"IF(語言配置表!A618=\"\",\"\",語言配置表!A618)","v":615},{"$f":"IF(語言配置表!A618=\"\",\"CN_待填充内容\",語言配置表!B618)","v":"技能名称预留，勿占"}]
[{"$f":"IF(語言配置表!A619=\"\",\"\",語言配置表!A619)","v":616},{"$f":"IF(語言配置表!A619=\"\",\"CN_待填充内容\",語言配置表!B619)","v":"技能名称预留，勿占"}]
[{"$f":"IF(語言配置表!A620=\"\",\"\",語言配置表!A620)","v":617},{"$f":"IF(語言配置表!A620=\"\",\"CN_待填充内容\",語言配置表!B620)","v":"技能名称预留，勿占"}]
[{"$f":"IF(語言配置表!A621=\"\",\"\",語言配置表!A621)","v":618},{"$f":"IF(語言配置表!A621=\"\",\"CN_待填充内容\",語言配置表!B621)","v":"技能名称预留，勿占"}]
[{"$f":"IF(語言配置表!A622=\"\",\"\",語言配置表!A622)","v":619},{"$f":"IF(語言配置表!A622=\"\",\"CN_待填充内容\",語言配置表!B622)","v":"技能名称预留，勿占"}]
[{"$f":"IF(語言配置表!A623=\"\",\"\",語言配置表!A623)","v":620},{"$f":"IF(語言配置表!A623=\"\",\"CN_待填充内容\",語言配置表!B623)","v":"技能名称预留，勿占"}]
[{"$f":"IF(語言配置表!A624=\"\",\"\",語言配置表!A624)","v":621},{"$f":"IF(語言配置表!A624=\"\",\"CN_待填充内容\",語言配置表!B624)","v":"技能名称预留，勿占"}]
[{"$f":"IF(語言配置表!A625=\"\",\"\",語言配置表!A625)","v":622},{"$f":"IF(語言配置表!A625=\"\",\"CN_待填充内容\",語言配置表!B625)","v":"技能名称预留，勿占"}]
[{"$f":"IF(語言配置表!A626=\"\",\"\",語言配置表!A626)","v":623},{"$f":"IF(語言配置表!A626=\"\",\"CN_待填充内容\",語言配置表!B626)","v":"技能名称预留，勿占"}]
[{"$f":"IF(語言配置表!A627=\"\",\"\",語言配置表!A627)","v":624},{"$f":"IF(語言配置表!A627=\"\",\"CN_待填充内容\",語言配置表!B627)","v":"技能名称预留，勿占"}]
[{"$f":"IF(語言配置表!A628=\"\",\"\",語言配置表!A628)","v":625},{"$f":"IF(語言配置表!A628=\"\",\"CN_待填充内容\",語言配置表!B628)","v":"技能名称预留，勿占"}]
[{"$f":"IF(語言配置表!A629=\"\",\"\",語言配置表!A629)","v":626},{"$f":"IF(語言配置表!A629=\"\",\"CN_待填充内容\",語言配置表!B629)","v":"技能名称预留，勿占"}]
[{"$f":"IF(語言配置表!A630=\"\",\"\",語言配置表!A630)","v":627},{"$f":"IF(語言配置表!A630=\"\",\"CN_待填充内容\",語言配置表!B630)","v":"技能名称预留，勿占"}]
[{"$f":"IF(語言配置表!A631=\"\",\"\",語言配置表!A631)","v":628},{"$f":"IF(語言配置表!A631=\"\",\"CN_待填充内容\",語言配置表!B631)","v":"技能名称预留，勿占"}]
[{"$f":"IF(語言配置表!A632=\"\",\"\",語言配置表!A632)","v":629},{"$f":"IF(語言配置表!A632=\"\",\"CN_待填充内容\",語言配置表!B632)","v":"技能名称预留，勿占"}]
[{"$f":"IF(語言配置表!A633=\"\",\"\",語言配置表!A633)","v":630},{"$f":"IF(語言配置表!A633=\"\",\"CN_待填充内容\",語言配置表!B633)","v":"技能名称预留，勿占"}]
[{"$f":"IF(語言配置表!A634=\"\",\"\",語言配置表!A634)","v":631},{"$f":"IF(語言配置表!A634=\"\",\"CN_待填充内容\",語言配置表!B634)","v":"技能名称预留，勿占"}]
[{"$f":"IF(語言配置表!A635=\"\",\"\",語言配置表!A635)","v":632},{"$f":"IF(語言配置表!A635=\"\",\"CN_待填充内容\",語言配置表!B635)","v":"技能名称预留，勿占"}]
[{"$f":"IF(語言配置表!A636=\"\",\"\",語言配置表!A636)","v":633},{"$f":"IF(語言配置表!A636=\"\",\"CN_待填充内容\",語言配置表!B636)","v":"技能名称预留，勿占"}]
[{"$f":"IF(語言配置表!A637=\"\",\"\",語言配置表!A637)","v":634},{"$f":"IF(語言配置表!A637=\"\",\"CN_待填充内容\",語言配置表!B637)","v":"技能名称预留，勿占"}]
[{"$f":"IF(語言配置表!A638=\"\",\"\",語言配置表!A638)","v":635},{"$f":"IF(語言配置表!A638=\"\",\"CN_待填充内容\",語言配置表!B638)","v":"技能名称预留，勿占"}]
[{"$f":"IF(語言配置表!A639=\"\",\"\",語言配置表!A639)","v":636},{"$f":"IF(語言配置表!A639=\"\",\"CN_待填充内容\",語言配置表!B639)","v":"技能名称预留，勿占"}]
[{"$f":"IF(語言配置表!A640=\"\",\"\",語言配置表!A640)","v":637},{"$f":"IF(語言配置表!A640=\"\",\"CN_待填充内容\",語言配置表!B640)","v":"技能名称预留，勿占"}]
[{"$f":"IF(語言配置表!A641=\"\",\"\",語言配置表!A641)","v":638},{"$f":"IF(語言配置表!A641=\"\",\"CN_待填充内容\",語言配置表!B641)","v":"技能名称预留，勿占"}]
[{"$f":"IF(語言配置表!A642=\"\",\"\",語言配置表!A642)","v":639},{"$f":"IF(語言配置表!A642=\"\",\"CN_待填充内容\",語言配置表!B642)","v":"技能名称预留，勿占"}]
[{"$f":"IF(語言配置表!A643=\"\",\"\",語言配置表!A643)","v":640},{"$f":"IF(語言配置表!A643=\"\",\"CN_待填充内容\",語言配置表!B643)","v":"技能名称预留，勿占"}]
[{"$f":"IF(語言配置表!A644=\"\",\"\",語言配置表!A644)","v":641},{"$f":"IF(語言配置表!A644=\"\",\"CN_待填充内容\",語言配置表!B644)","v":"技能名称预留，勿占"}]
[{"$f":"IF(語言配置表!A645=\"\",\"\",語言配置表!A645)","v":642},{"$f":"IF(語言配置表!A645=\"\",\"CN_待填充内容\",語言配置表!B645)","v":"技能名称预留，勿占"}]
[{"$f":"IF(語言配置表!A646=\"\",\"\",語言配置表!A646)","v":643},{"$f":"IF(語言配置表!A646=\"\",\"CN_待填充内容\",語言配置表!B646)","v":"技能名称预留，勿占"}]
[{"$f":"IF(語言配置表!A647=\"\",\"\",語言配置表!A647)","v":644},{"$f":"IF(語言配置表!A647=\"\",\"CN_待填充内容\",語言配置表!B647)","v":"技能名称预留，勿占"}]
[{"$f":"IF(語言配置表!A648=\"\",\"\",語言配置表!A648)","v":645},{"$f":"IF(語言配置表!A648=\"\",\"CN_待填充内容\",語言配置表!B648)","v":"技能名称预留，勿占"}]
[{"$f":"IF(語言配置表!A649=\"\",\"\",語言配置表!A649)","v":646},{"$f":"IF(語言配置表!A649=\"\",\"CN_待填充内容\",語言配置表!B649)","v":"技能名称预留，勿占"}]
[{"$f":"IF(語言配置表!A650=\"\",\"\",語言配置表!A650)","v":647},{"$f":"IF(語言配置表!A650=\"\",\"CN_待填充内容\",語言配置表!B650)","v":"技能名称预留，勿占"}]
[{"$f":"IF(語言配置表!A651=\"\",\"\",語言配置表!A651)","v":648},{"$f":"IF(語言配置表!A651=\"\",\"CN_待填充内容\",語言配置表!B651)","v":"技能名称预留，勿占"}]
[{"$f":"IF(語言配置表!A652=\"\",\"\",語言配置表!A652)","v":649},{"$f":"IF(語言配置表!A652=\"\",\"CN_待填充内容\",語言配置表!B652)","v":"技能名称预留，勿占"}]
[{"$f":"IF(語言配置表!A653=\"\",\"\",語言配置表!A653)","v":650},{"$f":"IF(語言配置表!A653=\"\",\"CN_待填充内容\",語言配置表!B653)","v":"技能名称预留，勿占"}]
[{"$f":"IF(語言配置表!A654=\"\",\"\",語言配置表!A654)","v":651},{"$f":"IF(語言配置表!A654=\"\",\"CN_待填充内容\",語言配置表!B654)","v":"技能名称预留，勿占"}]
[{"$f":"IF(語言配置表!A655=\"\",\"\",語言配置表!A655)","v":652},{"$f":"IF(語言配置表!A655=\"\",\"CN_待填充内容\",語言配置表!B655)","v":"技能名称预留，勿占"}]
[{"$f":"IF(語言配置表!A656=\"\",\"\",語言配置表!A656)","v":653},{"$f":"IF(語言配置表!A656=\"\",\"CN_待填充内容\",語言配置表!B656)","v":"技能名称预留，勿占"}]
[{"$f":"IF(語言配置表!A657=\"\",\"\",語言配置表!A657)","v":654},{"$f":"IF(語言配置表!A657=\"\",\"CN_待填充内容\",語言配置表!B657)","v":"技能名称预留，勿占"}]
[{"$f":"IF(語言配置表!A658=\"\",\"\",語言配置表!A658)","v":655},{"$f":"IF(語言配置表!A658=\"\",\"CN_待填充内容\",語言配置表!B658)","v":"技能名称预留，勿占"}]
[{"$f":"IF(語言配置表!A659=\"\",\"\",語言配置表!A659)","v":656},{"$f":"IF(語言配置表!A659=\"\",\"CN_待填充内容\",語言配置表!B659)","v":"技能名称预留，勿占"}]
[{"$f":"IF(語言配置表!A660=\"\",\"\",語言配置表!A660)","v":657},{"$f":"IF(語言配置表!A660=\"\",\"CN_待填充内容\",語言配置表!B660)","v":"技能名称预留，勿占"}]
[{"$f":"IF(語言配置表!A661=\"\",\"\",語言配置表!A661)","v":658},{"$f":"IF(語言配置表!A661=\"\",\"CN_待填充内容\",語言配置表!B661)","v":"技能名称预留，勿占"}]
[{"$f":"IF(語言配置表!A662=\"\",\"\",語言配置表!A662)","v":659},{"$f":"IF(語言配置表!A662=\"\",\"CN_待填充内容\",語言配置表!B662)","v":"技能名称预留，勿占"}]
[{"$f":"IF(語言配置表!A663=\"\",\"\",語言配置表!A663)","v":660},{"$f":"IF(語言配置表!A663=\"\",\"CN_待填充内容\",語言配置表!B663)","v":"技能名称预留，勿占"}]
[{"$f":"IF(語言配置表!A664=\"\",\"\",語言配置表!A664)","v":661},{"$f":"IF(語言配置表!A664=\"\",\"CN_待填充内容\",語言配置表!B664)","v":"技能名称预留，勿占"}]
[{"$f":"IF(語言配置表!A665=\"\",\"\",語言配置表!A665)","v":662},{"$f":"IF(語言配置表!A665=\"\",\"CN_待填充内容\",語言配置表!B665)","v":"技能名称预留，勿占"}]
[{"$f":"IF(語言配置表!A666=\"\",\"\",語言配置表!A666)","v":663},{"$f":"IF(語言配置表!A666=\"\",\"CN_待填充内容\",語言配置表!B666)","v":"技能名称预留，勿占"}]
[{"$f":"IF(語言配置表!A667=\"\",\"\",語言配置表!A667)","v":664},{"$f":"IF(語言配置表!A667=\"\",\"CN_待填充内容\",語言配置表!B667)","v":"技能名称预留，勿占"}]
[{"$f":"IF(語言配置表!A668=\"\",\"\",語言配置表!A668)","v":665},{"$f":"IF(語言配置表!A668=\"\",\"CN_待填充内容\",語言配置表!B668)","v":"技能名称预留，勿占"}]
[{"$f":"IF(語言配置表!A669=\"\",\"\",語言配置表!A669)","v":666},{"$f":"IF(語言配置表!A669=\"\",\"CN_待填充内容\",語言配置表!B669)","v":"技能名称预留，勿占"}]
[{"$f":"IF(語言配置表!A670=\"\",\"\",語言配置表!A670)","v":667},{"$f":"IF(語言配置表!A670=\"\",\"CN_待填充内容\",語言配置表!B670)","v":"技能名称预留，勿占"}]
[{"$f":"IF(語言配置表!A671=\"\",\"\",語言配置表!A671)","v":668},{"$f":"IF(語言配置表!A671=\"\",\"CN_待填充内容\",語言配置表!B671)","v":"技能名称预留，勿占"}]
[{"$f":"IF(語言配置表!A672=\"\",\"\",語言配置表!A672)","v":669},{"$f":"IF(語言配置表!A672=\"\",\"CN_待填充内容\",語言配置表!B672)","v":"技能名称预留，勿占"}]
[{"$f":"IF(語言配置表!A673=\"\",\"\",語言配置表!A673)","v":670},{"$f":"IF(語言配置表!A673=\"\",\"CN_待填充内容\",語言配置表!B673)","v":"技能名称预留，勿占"}]
[{"$f":"IF(語言配置表!A674=\"\",\"\",語言配置表!A674)","v":671},{"$f":"IF(語言配置表!A674=\"\",\"CN_待填充内容\",語言配置表!B674)","v":"技能名称预留，勿占"}]
[{"$f":"IF(語言配置表!A675=\"\",\"\",語言配置表!A675)","v":672},{"$f":"IF(語言配置表!A675=\"\",\"CN_待填充内容\",語言配置表!B675)","v":"技能名称预留，勿占"}]
[{"$f":"IF(語言配置表!A676=\"\",\"\",語言配置表!A676)","v":673},{"$f":"IF(語言配置表!A676=\"\",\"CN_待填充内容\",語言配置表!B676)","v":"技能名称预留，勿占"}]
[{"$f":"IF(語言配置表!A677=\"\",\"\",語言配置表!A677)","v":674},{"$f":"IF(語言配置表!A677=\"\",\"CN_待填充内容\",語言配置表!B677)","v":"技能名称预留，勿占"}]
[{"$f":"IF(語言配置表!A678=\"\",\"\",語言配置表!A678)","v":675},{"$f":"IF(語言配置表!A678=\"\",\"CN_待填充内容\",語言配置表!B678)","v":"技能名称预留，勿占"}]
[{"$f":"IF(語言配置表!A679=\"\",\"\",語言配置表!A679)","v":676},{"$f":"IF(語言配置表!A679=\"\",\"CN_待填充内容\",語言配置表!B679)","v":"技能名称预留，勿占"}]
[{"$f":"IF(語言配置表!A680=\"\",\"\",語言配置表!A680)","v":677},{"$f":"IF(語言配置表!A680=\"\",\"CN_待填充内容\",語言配置表!B680)","v":"技能名称预留，勿占"}]
[{"$f":"IF(語言配置表!A681=\"\",\"\",語言配置表!A681)","v":678},{"$f":"IF(語言配置表!A681=\"\",\"CN_待填充内容\",語言配置表!B681)","v":"技能名称预留，勿占"}]
[{"$f":"IF(語言配置表!A682=\"\",\"\",語言配置表!A682)","v":679},{"$f":"IF(語言配置表!A682=\"\",\"CN_待填充内容\",語言配置表!B682)","v":"技能名称预留，勿占"}]
[{"$f":"IF(語言配置表!A683=\"\",\"\",語言配置表!A683)","v":680},{"$f":"IF(語言配置表!A683=\"\",\"CN_待填充内容\",語言配置表!B683)","v":"技能名称预留，勿占"}]
[{"$f":"IF(語言配置表!A684=\"\",\"\",語言配置表!A684)","v":681},{"$f":"IF(語言配置表!A684=\"\",\"CN_待填充内容\",語言配置表!B684)","v":"技能名称预留，勿占"}]
[{"$f":"IF(語言配置表!A685=\"\",\"\",語言配置表!A685)","v":682},{"$f":"IF(語言配置表!A685=\"\",\"CN_待填充内容\",語言配置表!B685)","v":"技能名称预留，勿占"}]
[{"$f":"IF(語言配置表!A686=\"\",\"\",語言配置表!A686)","v":683},{"$f":"IF(語言配置表!A686=\"\",\"CN_待填充内容\",語言配置表!B686)","v":"技能名称预留，勿占"}]
[{"$f":"IF(語言配置表!A687=\"\",\"\",語言配置表!A687)","v":684},{"$f":"IF(語言配置表!A687=\"\",\"CN_待填充内容\",語言配置表!B687)","v":"技能名称预留，勿占"}]
[{"$f":"IF(語言配置表!A688=\"\",\"\",語言配置表!A688)","v":685},{"$f":"IF(語言配置表!A688=\"\",\"CN_待填充内容\",語言配置表!B688)","v":"技能名称预留，勿占"}]
[{"$f":"IF(語言配置表!A689=\"\",\"\",語言配置表!A689)","v":686},{"$f":"IF(語言配置表!A689=\"\",\"CN_待填充内容\",語言配置表!B689)","v":"技能名称预留，勿占"}]
[{"$f":"IF(語言配置表!A690=\"\",\"\",語言配置表!A690)","v":687},{"$f":"IF(語言配置表!A690=\"\",\"CN_待填充内容\",語言配置表!B690)","v":"技能名称预留，勿占"}]
[{"$f":"IF(語言配置表!A691=\"\",\"\",語言配置表!A691)","v":688},{"$f":"IF(語言配置表!A691=\"\",\"CN_待填充内容\",語言配置表!B691)","v":"技能名称预留，勿占"}]
[{"$f":"IF(語言配置表!A692=\"\",\"\",語言配置表!A692)","v":689},{"$f":"IF(語言配置表!A692=\"\",\"CN_待填充内容\",語言配置表!B692)","v":"技能名称预留，勿占"}]
[{"$f":"IF(語言配置表!A693=\"\",\"\",語言配置表!A693)","v":690},{"$f":"IF(語言配置表!A693=\"\",\"CN_待填充内容\",語言配置表!B693)","v":"技能名称预留，勿占"}]
[{"$f":"IF(語言配置表!A694=\"\",\"\",語言配置表!A694)","v":691},{"$f":"IF(語言配置表!A694=\"\",\"CN_待填充内容\",語言配置表!B694)","v":"技能名称预留，勿占"}]
[{"$f":"IF(語言配置表!A695=\"\",\"\",語言配置表!A695)","v":692},{"$f":"IF(語言配置表!A695=\"\",\"CN_待填充内容\",語言配置表!B695)","v":"技能名称预留，勿占"}]
[{"$f":"IF(語言配置表!A696=\"\",\"\",語言配置表!A696)","v":693},{"$f":"IF(語言配置表!A696=\"\",\"CN_待填充内容\",語言配置表!B696)","v":"技能名称预留，勿占"}]
[{"$f":"IF(語言配置表!A697=\"\",\"\",語言配置表!A697)","v":694},{"$f":"IF(語言配置表!A697=\"\",\"CN_待填充内容\",語言配置表!B697)","v":"技能名称预留，勿占"}]
[{"$f":"IF(語言配置表!A698=\"\",\"\",語言配置表!A698)","v":695},{"$f":"IF(語言配置表!A698=\"\",\"CN_待填充内容\",語言配置表!B698)","v":"技能名称预留，勿占"}]
[{"$f":"IF(語言配置表!A699=\"\",\"\",語言配置表!A699)","v":696},{"$f":"IF(語言配置表!A699=\"\",\"CN_待填充内容\",語言配置表!B699)","v":"星辰道"}]
[{"$f":"IF(語言配置表!A700=\"\",\"\",語言配置表!A700)","v":697},{"$f":"IF(語言配置表!A700=\"\",\"CN_待填充内容\",語言配置表!B700)","v":"生衍道"}]
[{"$f":"IF(語言配置表!A701=\"\",\"\",語言配置表!A701)","v":698},{"$f":"IF(語言配置表!A701=\"\",\"CN_待填充内容\",語言配置表!B701)","v":"玄黄道"}]
[{"$f":"IF(語言配置表!A702=\"\",\"\",語言配置表!A702)","v":699},{"$f":"IF(語言配置表!A702=\"\",\"CN_待填充内容\",語言配置表!B702)","v":"每次释放功法时获得{0}点能量，{1}点能量后提升{2}%转盘速度和{3}%攻击速度，持续{4}秒。"}]
[{"$f":"IF(語言配置表!A703=\"\",\"\",語言配置表!A703)","v":700},{"$f":"IF(語言配置表!A703=\"\",\"CN_待填充内容\",語言配置表!B703)","v":"功法拥有生息之能，每次使用功法能获得1对应属性的充能，充能满后获得对应属性的加成 \n{0}金：提升{1}%攻击力 ,最大{2}%\n{0}木：恢复{3}%生命 \n{0}水：治疗最严重的伤势，使其伤势-{4} \n{0}火：功法强度提升{5}%，最大{6}%\n{0}土：玩家防御提升{7}%，最大{8}%"}]
[{"$f":"IF(語言配置表!A704=\"\",\"\",語言配置表!A704)","v":701},{"$f":"IF(語言配置表!A704=\"\",\"CN_待填充内容\",語言配置表!B704)","v":"每次使用功法时在当前位置留下一道属性印记，下一个放上来的功法如果和以前功法相生则功法效果提升{0}%，每次使用功法时都会治疗对应相生属性的{1}伤势。（均衡性功法搭配，转盘改变，变为金、水、木、火、土）"}]
[{"$f":"IF(語言配置表!A705=\"\",\"\",語言配置表!A705)","v":702},{"$f":"IF(語言配置表!A705=\"\",\"CN_待填充内容\",語言配置表!B705)","v":"怪物技能1"}]
[{"$f":"IF(語言配置表!A706=\"\",\"\",語言配置表!A706)","v":703},{"$f":"IF(語言配置表!A706=\"\",\"CN_待填充内容\",語言配置表!B706)","v":"怪物技能1"}]
[{"$f":"IF(語言配置表!A707=\"\",\"\",語言配置表!A707)","v":704},{"$f":"IF(語言配置表!A707=\"\",\"CN_待填充内容\",語言配置表!B707)","v":"怪物技能1"}]
[{"$f":"IF(語言配置表!A708=\"\",\"\",語言配置表!A708)","v":705},{"$f":"IF(語言配置表!A708=\"\",\"CN_待填充内容\",語言配置表!B708)","v":"怪物技能1"}]
[{"$f":"IF(語言配置表!A709=\"\",\"\",語言配置表!A709)","v":706},{"$f":"IF(語言配置表!A709=\"\",\"CN_待填充内容\",語言配置表!B709)","v":"怪物技能1"}]
[{"$f":"IF(語言配置表!A710=\"\",\"\",語言配置表!A710)","v":707},{"$f":"IF(語言配置表!A710=\"\",\"CN_待填充内容\",語言配置表!B710)","v":"boss第一个技能"}]
[{"$f":"IF(語言配置表!A711=\"\",\"\",語言配置表!A711)","v":708},{"$f":"IF(語言配置表!A711=\"\",\"CN_待填充内容\",語言配置表!B711)","v":"boss第一个技能"}]
[{"$f":"IF(語言配置表!A712=\"\",\"\",語言配置表!A712)","v":709},{"$f":"IF(語言配置表!A712=\"\",\"CN_待填充内容\",語言配置表!B712)","v":"boss第一个技能"}]
[{"$f":"IF(語言配置表!A713=\"\",\"\",語言配置表!A713)","v":710},{"$f":"IF(語言配置表!A713=\"\",\"CN_待填充内容\",語言配置表!B713)","v":"boss第一个技能"}]
[{"$f":"IF(語言配置表!A714=\"\",\"\",語言配置表!A714)","v":711},{"$f":"IF(語言配置表!A714=\"\",\"CN_待填充内容\",語言配置表!B714)","v":"boss第一个技能"}]
[{"$f":"IF(語言配置表!A715=\"\",\"\",語言配置表!A715)","v":712},{"$f":"IF(語言配置表!A715=\"\",\"CN_待填充内容\",語言配置表!B715)","v":0}]
[{"$f":"IF(語言配置表!A716=\"\",\"\",語言配置表!A716)","v":713},{"$f":"IF(語言配置表!A716=\"\",\"CN_待填充内容\",語言配置表!B716)","v":0}]
[{"$f":"IF(語言配置表!A717=\"\",\"\",語言配置表!A717)","v":714},{"$f":"IF(語言配置表!A717=\"\",\"CN_待填充内容\",語言配置表!B717)","v":0}]
[{"$f":"IF(語言配置表!A718=\"\",\"\",語言配置表!A718)","v":715},{"$f":"IF(語言配置表!A718=\"\",\"CN_待填充内容\",語言配置表!B718)","v":0}]
[{"$f":"IF(語言配置表!A719=\"\",\"\",語言配置表!A719)","v":716},{"$f":"IF(語言配置表!A719=\"\",\"CN_待填充内容\",語言配置表!B719)","v":0}]
[{"$f":"IF(語言配置表!A720=\"\",\"\",語言配置表!A720)","v":717},{"$f":"IF(語言配置表!A720=\"\",\"CN_待填充内容\",語言配置表!B720)","v":"伤害很高）(前摇时间长)：很多剑从远处汇聚到boss周围，然后以一字行快速贯穿目标对目标照成{0}伤害，每命中目标肉体{1}次防御削减{2}%，目标肉体{3}次所有伤势+{4}  \n,如果目标上有剑毅，每丙剑消耗{5}层剑毅让敌人受到{6}额外的伤害"}]
[{"$f":"IF(語言配置表!A721=\"\",\"\",語言配置表!A721)","v":718},{"$f":"IF(語言配置表!A721=\"\",\"CN_待填充内容\",語言配置表!B721)","v":"（2转，防御型技能）：身体周围围绕多丙剑飞行，可以阻挡敌人的功法.抵挡{0}最大生命值的伤害"}]
[{"$f":"IF(語言配置表!A722=\"\",\"\",語言配置表!A722)","v":719},{"$f":"IF(語言配置表!A722=\"\",\"CN_待填充内容\",語言配置表!B722)","v":"剑祖的攻击会让目标受到一层剑毅"}]
[{"$f":"IF(語言配置表!A723=\"\",\"\",語言配置表!A723)","v":720},{"$f":"IF(語言配置表!A723=\"\",\"CN_待填充内容\",語言配置表!B723)","v":"发射2丙剑，对敌人照成{0}伤害"}]
[{"$f":"IF(語言配置表!A724=\"\",\"\",語言配置表!A724)","v":721},{"$f":"IF(語言配置表!A724=\"\",\"CN_待填充内容\",語言配置表!B724)","v":"发射2丙剑，对敌人照成{0}伤害"}]
[{"$f":"IF(語言配置表!A725=\"\",\"\",語言配置表!A725)","v":722},{"$f":"IF(語言配置表!A725=\"\",\"CN_待填充内容\",語言配置表!B725)","v":"最终生命+{0}%"}]
[{"$f":"IF(語言配置表!A726=\"\",\"\",語言配置表!A726)","v":723},{"$f":"IF(語言配置表!A726=\"\",\"CN_待填充内容\",語言配置表!B726)","v":"最终攻击+{0}%"}]
[{"$f":"IF(語言配置表!A727=\"\",\"\",語言配置表!A727)","v":724},{"$f":"IF(語言配置表!A727=\"\",\"CN_待填充内容\",語言配置表!B727)","v":"最终防御+{0}%"}]
[{"$f":"IF(語言配置表!A728=\"\",\"\",語言配置表!A728)","v":725},{"$f":"IF(語言配置表!A728=\"\",\"CN_待填充内容\",語言配置表!B728)","v":"功法灵气"}]
[{"$f":"IF(語言配置表!A729=\"\",\"\",語言配置表!A729)","v":726},{"$f":"IF(語言配置表!A729=\"\",\"CN_待填充内容\",語言配置表!B729)","v":"[临]灵气的描述"}]
[{"$f":"IF(語言配置表!A730=\"\",\"\",語言配置表!A730)","v":727},{"$f":"IF(語言配置表!A730=\"\",\"CN_待填充内容\",語言配置表!B730)","v":"剑诀碎片"}]
[{"$f":"IF(語言配置表!A731=\"\",\"\",語言配置表!A731)","v":728},{"$f":"IF(語言配置表!A731=\"\",\"CN_待填充内容\",語言配置表!B731)","v":"烈焰斩碎片"}]
[{"$f":"IF(語言配置表!A732=\"\",\"\",語言配置表!A732)","v":729},{"$f":"IF(語言配置表!A732=\"\",\"CN_待填充内容\",語言配置表!B732)","v":"瘴影千丝术碎片"}]
[{"$f":"IF(語言配置表!A733=\"\",\"\",語言配置表!A733)","v":730},{"$f":"IF(語言配置表!A733=\"\",\"CN_待填充内容\",語言配置表!B733)","v":"雾隐千流法碎片"}]
[{"$f":"IF(語言配置表!A734=\"\",\"\",語言配置表!A734)","v":731},{"$f":"IF(語言配置表!A734=\"\",\"CN_待填充内容\",語言配置表!B734)","v":"碧落幽冥劲碎片"}]
[{"$f":"IF(語言配置表!A735=\"\",\"\",語言配置表!A735)","v":732},{"$f":"IF(語言配置表!A735=\"\",\"CN_待填充内容\",語言配置表!B735)","v":"法宝秘籍碎片"}]
[{"$f":"IF(語言配置表!A736=\"\",\"\",語言配置表!A736)","v":733},{"$f":"IF(語言配置表!A736=\"\",\"CN_待填充内容\",語言配置表!B736)","v":"双生面具碎片"}]
[{"$f":"IF(語言配置表!A737=\"\",\"\",語言配置表!A737)","v":734},{"$f":"IF(語言配置表!A737=\"\",\"CN_待填充内容\",語言配置表!B737)","v":"火灵丹碎片"}]
[{"$f":"IF(語言配置表!A738=\"\",\"\",語言配置表!A738)","v":735},{"$f":"IF(語言配置表!A738=\"\",\"CN_待填充内容\",語言配置表!B738)","v":"巨大化碎片"}]
[{"$f":"IF(語言配置表!A739=\"\",\"\",語言配置表!A739)","v":736},{"$f":"IF(語言配置表!A739=\"\",\"CN_待填充内容\",語言配置表!B739)","v":"极速齿轮碎片"}]
[{"$f":"IF(語言配置表!A740=\"\",\"\",語言配置表!A740)","v":737},{"$f":"IF(語言配置表!A740=\"\",\"CN_待填充内容\",語言配置表!B740)","v":"崩脉决碎片"}]
[{"$f":"IF(語言配置表!A741=\"\",\"\",語言配置表!A741)","v":738},{"$f":"IF(語言配置表!A741=\"\",\"CN_待填充内容\",語言配置表!B741)","v":"用于对应功法的升星"}]
[{"$f":"IF(語言配置表!A742=\"\",\"\",語言配置表!A742)","v":739},{"$f":"IF(語言配置表!A742=\"\",\"CN_待填充内容\",語言配置表!B742)","v":"身体周围幻化出{0}柄细剑，每柄细剑对敌人造成{1}%伤害，并有{2}几率对敌人造成1层流血。"}]
[{"$f":"IF(語言配置表!A743=\"\",\"\",語言配置表!A743)","v":740},{"$f":"IF(語言配置表!A743=\"\",\"CN_待填充内容\",語言配置表!B743)","v":"身体周围幻化出{0}柄细剑，每柄细剑对敌人造成{1}%伤害，并有{2}几率对敌人造成1层流血。"}]
[{"$f":"IF(語言配置表!A744=\"\",\"\",語言配置表!A744)","v":741},{"$f":"IF(語言配置表!A744=\"\",\"CN_待填充内容\",語言配置表!B744)","v":"身体周围幻化出{0}柄细剑，每柄细剑对敌人造成{1}%伤害，并有{2}几率对敌人造成1层流血。"}]
[{"$f":"IF(語言配置表!A745=\"\",\"\",語言配置表!A745)","v":742},{"$f":"IF(語言配置表!A745=\"\",\"CN_待填充内容\",語言配置表!B745)","v":"身体周围幻化出{0}柄细剑，每柄细剑对敌人造成{1}%伤害，并有{2}几率对敌人造成1层流血。\n如果敌人有减益状态，则虚剑伤害提升{3}%。"}]
[{"$f":"IF(語言配置表!A746=\"\",\"\",語言配置表!A746)","v":743},{"$f":"IF(語言配置表!A746=\"\",\"CN_待填充内容\",語言配置表!B746)","v":"身体周围幻化出{0}柄细剑，每柄细剑对敌人造成{1}%伤害，并有{2}几率对敌人造成1层流血。\n如果敌人有减益状态，则虚剑伤害提升{3}%。"}]
[{"$f":"IF(語言配置表!A747=\"\",\"\",語言配置表!A747)","v":744},{"$f":"IF(語言配置表!A747=\"\",\"CN_待填充内容\",語言配置表!B747)","v":"身体周围幻化出{0}柄更大体型的虚剑，每柄虚剑对敌人造成{1}%伤害，并有{2}几率对敌人造成1层流血。\n如果敌人有减益状态，则虚剑伤害提升{3}%。"}]
[{"$f":"IF(語言配置表!A748=\"\",\"\",語言配置表!A748)","v":745},{"$f":"IF(語言配置表!A748=\"\",\"CN_待填充内容\",語言配置表!B748)","v":"吸收自身灵气凝聚{0}柄大剑，大剑旋转快速穿透敌人对敌人照成{1}%伤害"}]
[{"$f":"IF(語言配置表!A749=\"\",\"\",語言配置表!A749)","v":746},{"$f":"IF(語言配置表!A749=\"\",\"CN_待填充内容\",語言配置表!B749)","v":"吸收自身灵气凝聚{0}柄大剑，大剑旋转快速穿透敌人对敌人照成{1}%伤害\n敌人如果在流血或放血状态，对敌人造成的伤害+{2}%"}]
[{"$f":"IF(語言配置表!A750=\"\",\"\",語言配置表!A750)","v":747},{"$f":"IF(語言配置表!A750=\"\",\"CN_待填充内容\",語言配置表!B750)","v":"吸收自身灵气凝聚{0}柄大剑，大剑旋转快速穿透敌人对敌人照成{1}%伤害\n敌人如果在流血或放血状态，对敌人造成的伤害+{2}%"}]
[{"$f":"IF(語言配置表!A751=\"\",\"\",語言配置表!A751)","v":748},{"$f":"IF(語言配置表!A751=\"\",\"CN_待填充内容\",語言配置表!B751)","v":"吸收自身灵气凝聚{0}柄大剑，大剑旋转快速穿透敌人对敌人照成{1}%伤害\n敌人如果在流血或放血状态，对敌人造成的伤害+{2}%\n重伤敌人后，如果目标没在放血状态，直接放血且不消耗流血层数"}]
[{"$f":"IF(語言配置表!A752=\"\",\"\",語言配置表!A752)","v":749},{"$f":"IF(語言配置表!A752=\"\",\"CN_待填充内容\",語言配置表!B752)","v":"吸收自身灵气凝聚{0}柄大剑，大剑旋转快速穿透敌人对敌人照成{1}%伤害\n敌人如果在流血或放血状态，对敌人造成的伤害+{2}%\n重伤敌人后，如果目标没在放血状态，直接放血且不消耗流血层数"}]
[{"$f":"IF(語言配置表!A753=\"\",\"\",語言配置表!A753)","v":750},{"$f":"IF(語言配置表!A753=\"\",\"CN_待填充内容\",語言配置表!B753)","v":"吸收自身灵气凝聚{0}柄大剑，大剑旋转快速穿透敌人对敌人照成{1}%伤害\n敌人如果在流血或放血状态，对敌人造成的伤害+{2}%\n重伤敌人后，如果目标没在放血状态，直接放血且不消耗流血层数\n全盛状态，剑的体型变大，对拼强度+{3}%，伤害提升{4}%"}]
[{"$f":"IF(語言配置表!A754=\"\",\"\",語言配置表!A754)","v":751},{"$f":"IF(語言配置表!A754=\"\",\"CN_待填充内容\",語言配置表!B754)","v":"向前方挥动{0}次，每次挥动形成一道血刃刀气，对敌人{1}造成伤害，并有{2}%概率对敌人造成流血。"}]
[{"$f":"IF(語言配置表!A755=\"\",\"\",語言配置表!A755)","v":752},{"$f":"IF(語言配置表!A755=\"\",\"CN_待填充内容\",語言配置表!B755)","v":"向前方挥动{0}次，每次挥动形成一道血刃刀气，对敌人{1}造成伤害，并有{2}%概率对敌人造成流血。\n刀气命中目标后，恢复本次伤害{3}%的生命。"}]
[{"$f":"IF(語言配置表!A756=\"\",\"\",語言配置表!A756)","v":753},{"$f":"IF(語言配置表!A756=\"\",\"CN_待填充内容\",語言配置表!B756)","v":"向前方挥动{0}次，每次挥动形成一道血刃刀气，对敌人{1}造成伤害，并有{2}%概率对敌人造成流血。\n刀气命中目标后，恢复本次伤害{3}%的生命。"}]
[{"$f":"IF(語言配置表!A757=\"\",\"\",語言配置表!A757)","v":754},{"$f":"IF(語言配置表!A757=\"\",\"CN_待填充内容\",語言配置表!B757)","v":"向前方挥动{0}次，每次挥动形成一道血刃刀气，对敌人{1}造成伤害，并有{2}%概率对敌人造成流血。\n刀气命中目标后，恢复本次伤害{3}%的生命。"}]
[{"$f":"IF(語言配置表!A758=\"\",\"\",語言配置表!A758)","v":755},{"$f":"IF(語言配置表!A758=\"\",\"CN_待填充内容\",語言配置表!B758)","v":"向前方挥动{0}次，每次挥动形成一道血刃刀气，对敌人{1}造成伤害，并有{2}%概率对敌人造成流血。\n刀气命中目标后，恢复本次伤害{3}%的生命。"}]
[{"$f":"IF(語言配置表!A759=\"\",\"\",語言配置表!A759)","v":756},{"$f":"IF(語言配置表!A759=\"\",\"CN_待填充内容\",語言配置表!B759)","v":"向前方挥动{0}次，每次挥动形成一道血刃刀气，对敌人{1}造成伤害，并有{2}%概率对敌人造成流血。\n刀气命中目标后，恢复本次伤害{3}%的生命。\n刀气对流血的敌人额外造成{4}%伤害，且再施加1层流血。"}]
[{"$f":"IF(語言配置表!A760=\"\",\"\",語言配置表!A760)","v":757},{"$f":"IF(語言配置表!A760=\"\",\"CN_待填充内容\",語言配置表!B760)","v":"发射{0}枚飞刀，对敌人造成{1}%伤害。"}]
[{"$f":"IF(語言配置表!A761=\"\",\"\",語言配置表!A761)","v":758},{"$f":"IF(語言配置表!A761=\"\",\"CN_待填充内容\",語言配置表!B761)","v":"发射{0}枚飞刀，对敌人造成{1}%伤害。"}]
[{"$f":"IF(語言配置表!A762=\"\",\"\",語言配置表!A762)","v":759},{"$f":"IF(語言配置表!A762=\"\",\"CN_待填充内容\",語言配置表!B762)","v":"发射{0}枚飞刀，对敌人造成{1}%伤害。"}]
[{"$f":"IF(語言配置表!A763=\"\",\"\",語言配置表!A763)","v":760},{"$f":"IF(語言配置表!A763=\"\",\"CN_待填充内容\",語言配置表!B763)","v":"发射{0}枚飞刀，对敌人造成{1}%伤害。"}]
[{"$f":"IF(語言配置表!A764=\"\",\"\",語言配置表!A764)","v":761},{"$f":"IF(語言配置表!A764=\"\",\"CN_待填充内容\",語言配置表!B764)","v":"发射{0}枚飞刀，对敌人造成{1}%伤害。"}]
[{"$f":"IF(語言配置表!A765=\"\",\"\",語言配置表!A765)","v":762},{"$f":"IF(語言配置表!A765=\"\",\"CN_待填充内容\",語言配置表!B765)","v":"发射{0}枚飞刀，对敌人造成{1}%伤害。"}]
[{"$f":"IF(語言配置表!A766=\"\",\"\",語言配置表!A766)","v":763},{"$f":"IF(語言配置表!A766=\"\",\"CN_待填充内容\",語言配置表!B766)","v":"手中快速发射{0}%枚金针，对敌人造成{1}%伤害，并有{2}%概率施加1层流血。"}]
[{"$f":"IF(語言配置表!A767=\"\",\"\",語言配置表!A767)","v":764},{"$f":"IF(語言配置表!A767=\"\",\"CN_待填充内容\",語言配置表!B767)","v":"手中快速发射{0}%枚金针，对敌人造成{1}%伤害，并有{2}%概率施加1层流血。"}]
[{"$f":"IF(語言配置表!A768=\"\",\"\",語言配置表!A768)","v":765},{"$f":"IF(語言配置表!A768=\"\",\"CN_待填充内容\",語言配置表!B768)","v":"手中快速发射{0}%枚金针，对敌人造成{1}%伤害，并有{2}%概率施加1层流血。"}]
[{"$f":"IF(語言配置表!A769=\"\",\"\",語言配置表!A769)","v":766},{"$f":"IF(語言配置表!A769=\"\",\"CN_待填充内容\",語言配置表!B769)","v":"手中快速发射{0}%枚金针，对敌人造成{1}%伤害，并有{2}%概率施加1层流血。"}]
[{"$f":"IF(語言配置表!A770=\"\",\"\",語言配置表!A770)","v":767},{"$f":"IF(語言配置表!A770=\"\",\"CN_待填充内容\",語言配置表!B770)","v":"手中快速发射{0}%枚金针，对敌人造成{1}%伤害，并有{2}%概率施加1层流血。"}]
[{"$f":"IF(語言配置表!A771=\"\",\"\",語言配置表!A771)","v":768},{"$f":"IF(語言配置表!A771=\"\",\"CN_待填充内容\",語言配置表!B771)","v":"手中快速发射{0}%枚金针，对敌人造成{1}%伤害，并有{2}%概率施加1层流血。"}]
[{"$f":"IF(語言配置表!A772=\"\",\"\",語言配置表!A772)","v":769},{"$f":"IF(語言配置表!A772=\"\",\"CN_待填充内容\",語言配置表!B772)","v":"发出{0}道寒气冰锥，对敌人照成{1}%伤害，每到冰锥有{2}%概率对敌人施加1层寒气"}]
[{"$f":"IF(語言配置表!A773=\"\",\"\",語言配置表!A773)","v":770},{"$f":"IF(語言配置表!A773=\"\",\"CN_待填充内容\",語言配置表!B773)","v":"发出{0}道寒气冰锥，对敌人照成{1}%伤害，每到冰锥有{2}%概率对敌人施加1层寒气"}]
[{"$f":"IF(語言配置表!A774=\"\",\"\",語言配置表!A774)","v":771},{"$f":"IF(語言配置表!A774=\"\",\"CN_待填充内容\",語言配置表!B774)","v":"发出{0}道寒气冰锥，对敌人照成{1}%伤害，每到冰锥有{2}%概率对敌人施加1层寒气"}]
[{"$f":"IF(語言配置表!A775=\"\",\"\",語言配置表!A775)","v":772},{"$f":"IF(語言配置表!A775=\"\",\"CN_待填充内容\",語言配置表!B775)","v":"发出{0}道寒气冰锥，对敌人照成{1}%伤害，每到冰锥有{2}%概率对敌人施加1层寒气"}]
[{"$f":"IF(語言配置表!A776=\"\",\"\",語言配置表!A776)","v":773},{"$f":"IF(語言配置表!A776=\"\",\"CN_待填充内容\",語言配置表!B776)","v":"发出{0}道寒气冰锥，对敌人照成{1}%伤害，每到冰锥有{2}%概率对敌人施加1层寒气"}]
[{"$f":"IF(語言配置表!A777=\"\",\"\",語言配置表!A777)","v":774},{"$f":"IF(語言配置表!A777=\"\",\"CN_待填充内容\",語言配置表!B777)","v":"发出{0}道寒气冰锥，对敌人照成{1}%伤害，每到冰锥有{2}%概率对敌人施加1层寒气"}]
[{"$f":"IF(語言配置表!A778=\"\",\"\",語言配置表!A778)","v":775},{"$f":"IF(語言配置表!A778=\"\",\"CN_待填充内容\",語言配置表!B778)","v":"身体散发出一团迷雾。从迷雾中飞出{0}个冰球，每个冰球对敌人照成{1}%伤害，并有{2}%概率施加1层寒气"}]
[{"$f":"IF(語言配置表!A779=\"\",\"\",語言配置表!A779)","v":776},{"$f":"IF(語言配置表!A779=\"\",\"CN_待填充内容\",語言配置表!B779)","v":"身体散发出一团迷雾。从迷雾中飞出{0}个冰球，每个冰球对敌人照成{1}%伤害，并有{2}%概率施加1层寒气"}]
[{"$f":"IF(語言配置表!A780=\"\",\"\",語言配置表!A780)","v":777},{"$f":"IF(語言配置表!A780=\"\",\"CN_待填充内容\",語言配置表!B780)","v":"身体散发出一团迷雾。从迷雾中飞出{0}个冰球，每个冰球对敌人照成{1}%伤害，并有{2}%概率施加1层寒气"}]
[{"$f":"IF(語言配置表!A781=\"\",\"\",語言配置表!A781)","v":778},{"$f":"IF(語言配置表!A781=\"\",\"CN_待填充内容\",語言配置表!B781)","v":"身体散发出一团迷雾。从迷雾中飞出{0}个冰球，每个冰球对敌人照成{1}%伤害，并有{2}%概率施加1层寒气"}]
[{"$f":"IF(語言配置表!A782=\"\",\"\",語言配置表!A782)","v":779},{"$f":"IF(語言配置表!A782=\"\",\"CN_待填充内容\",語言配置表!B782)","v":"身体散发出一团迷雾。从迷雾中飞出{0}个冰球，每个冰球对敌人照成{1}%伤害，并有{2}%概率施加1层寒气"}]
[{"$f":"IF(語言配置表!A783=\"\",\"\",語言配置表!A783)","v":780},{"$f":"IF(語言配置表!A783=\"\",\"CN_待填充内容\",語言配置表!B783)","v":"身体散发出一团迷雾。从迷雾中飞出{0}个冰球，每个冰球对敌人照成{1}%伤害，并有{2}%概率施加1层寒气"}]
[{"$f":"IF(語言配置表!A784=\"\",\"\",語言配置表!A784)","v":781},{"$f":"IF(語言配置表!A784=\"\",\"CN_待填充内容\",語言配置表!B784)","v":"占位"}]
[{"$f":"IF(語言配置表!A785=\"\",\"\",語言配置表!A785)","v":782},{"$f":"IF(語言配置表!A785=\"\",\"CN_待填充内容\",語言配置表!B785)","v":"占位"}]
[{"$f":"IF(語言配置表!A786=\"\",\"\",語言配置表!A786)","v":783},{"$f":"IF(語言配置表!A786=\"\",\"CN_待填充内容\",語言配置表!B786)","v":"占位"}]
[{"$f":"IF(語言配置表!A787=\"\",\"\",語言配置表!A787)","v":784},{"$f":"IF(語言配置表!A787=\"\",\"CN_待填充内容\",語言配置表!B787)","v":"占位"}]
[{"$f":"IF(語言配置表!A788=\"\",\"\",語言配置表!A788)","v":785},{"$f":"IF(語言配置表!A788=\"\",\"CN_待填充内容\",語言配置表!B788)","v":"占位"}]
[{"$f":"IF(語言配置表!A789=\"\",\"\",語言配置表!A789)","v":786},{"$f":"IF(語言配置表!A789=\"\",\"CN_待填充内容\",語言配置表!B789)","v":"占位"}]
[{"$f":"IF(語言配置表!A790=\"\",\"\",語言配置表!A790)","v":787},{"$f":"IF(語言配置表!A790=\"\",\"CN_待填充内容\",語言配置表!B790)","v":"发射{0}枚冰刀，对敌人造成{1}%伤害。"}]
[{"$f":"IF(語言配置表!A791=\"\",\"\",語言配置表!A791)","v":788},{"$f":"IF(語言配置表!A791=\"\",\"CN_待填充内容\",語言配置表!B791)","v":"发射{0}枚冰刀，对敌人造成{1}%伤害。"}]
[{"$f":"IF(語言配置表!A792=\"\",\"\",語言配置表!A792)","v":789},{"$f":"IF(語言配置表!A792=\"\",\"CN_待填充内容\",語言配置表!B792)","v":"发射{0}枚冰刀，对敌人造成{1}%伤害。"}]
[{"$f":"IF(語言配置表!A793=\"\",\"\",語言配置表!A793)","v":790},{"$f":"IF(語言配置表!A793=\"\",\"CN_待填充内容\",語言配置表!B793)","v":"发射{0}枚冰刀，对敌人造成{1}%伤害。"}]
[{"$f":"IF(語言配置表!A794=\"\",\"\",語言配置表!A794)","v":791},{"$f":"IF(語言配置表!A794=\"\",\"CN_待填充内容\",語言配置表!B794)","v":"发射{0}枚冰刀，对敌人造成{1}%伤害。"}]
[{"$f":"IF(語言配置表!A795=\"\",\"\",語言配置表!A795)","v":792},{"$f":"IF(語言配置表!A795=\"\",\"CN_待填充内容\",語言配置表!B795)","v":"发射{0}枚冰刀，对敌人造成{1}%伤害。"}]
[{"$f":"IF(語言配置表!A796=\"\",\"\",語言配置表!A796)","v":793},{"$f":"IF(語言配置表!A796=\"\",\"CN_待填充内容\",語言配置表!B796)","v":"发出{0}条细细的毒针，每颗针对敌人照成{1}%金系伤害，每颗针有{2}%概率施加1层毒"}]
[{"$f":"IF(語言配置表!A797=\"\",\"\",語言配置表!A797)","v":794},{"$f":"IF(語言配置表!A797=\"\",\"CN_待填充内容\",語言配置表!B797)","v":"发出{0}条细细的毒针，每颗针对敌人照成{1}%金系伤害，每颗针有{2}%概率施加1层毒"}]
[{"$f":"IF(語言配置表!A798=\"\",\"\",語言配置表!A798)","v":795},{"$f":"IF(語言配置表!A798=\"\",\"CN_待填充内容\",語言配置表!B798)","v":"发出{0}条细细的毒针，每颗针对敌人照成{1}%金系伤害，每颗针有{2}%概率施加1层毒"}]
[{"$f":"IF(語言配置表!A799=\"\",\"\",語言配置表!A799)","v":796},{"$f":"IF(語言配置表!A799=\"\",\"CN_待填充内容\",語言配置表!B799)","v":"发出{0}条细细的毒针，每颗针对敌人照成{1}%金系伤害，每颗针有{2}%概率施加1层毒"}]
[{"$f":"IF(語言配置表!A800=\"\",\"\",語言配置表!A800)","v":797},{"$f":"IF(語言配置表!A800=\"\",\"CN_待填充内容\",語言配置表!B800)","v":"发出{0}条细细的毒针，每颗针对敌人照成{1}%金系伤害，每颗针有{2}%概率施加1层毒"}]
[{"$f":"IF(語言配置表!A801=\"\",\"\",語言配置表!A801)","v":798},{"$f":"IF(語言配置表!A801=\"\",\"CN_待填充内容\",語言配置表!B801)","v":"发出{0}条细细的毒针，每颗针对敌人照成{1}%金系伤害，每颗针有{2}%概率施加1层毒"}]
[{"$f":"IF(語言配置表!A802=\"\",\"\",語言配置表!A802)","v":799},{"$f":"IF(語言配置表!A802=\"\",\"CN_待填充内容\",語言配置表!B802)","v":"快手释放{0}掌，对敌人造成{1}%伤害，并有{2}%几率对敌人施加1层毒，如果敌人毒超过{3}层，则每层毒对敌人的伤害提升{4}%，并有{5}%几率施加一层噬魂。"}]
[{"$f":"IF(語言配置表!A803=\"\",\"\",語言配置表!A803)","v":800},{"$f":"IF(語言配置表!A803=\"\",\"CN_待填充内容\",語言配置表!B803)","v":"快手释放{0}掌，对敌人造成{1}%伤害，并有{2}%几率对敌人施加1层毒，如果敌人毒超过{3}层，则每层毒对敌人的伤害提升{4}%，并有{5}%几率施加一层噬魂。"}]
[{"$f":"IF(語言配置表!A804=\"\",\"\",語言配置表!A804)","v":801},{"$f":"IF(語言配置表!A804=\"\",\"CN_待填充内容\",語言配置表!B804)","v":"快手释放{0}掌，对敌人造成{1}%伤害，并有{2}%几率对敌人施加1层毒，如果敌人毒超过{3}层，则每层毒对敌人的伤害提升{4}%，并有{5}%几率施加一层噬魂。"}]
[{"$f":"IF(語言配置表!A805=\"\",\"\",語言配置表!A805)","v":802},{"$f":"IF(語言配置表!A805=\"\",\"CN_待填充内容\",語言配置表!B805)","v":"快手释放{0}掌，对敌人造成{1}%伤害，并有{2}%几率对敌人施加1层毒，如果敌人毒超过{3}层，则每层毒对敌人的伤害提升{4}%，并有{5}%几率施加一层噬魂。"}]
[{"$f":"IF(語言配置表!A806=\"\",\"\",語言配置表!A806)","v":803},{"$f":"IF(語言配置表!A806=\"\",\"CN_待填充内容\",語言配置表!B806)","v":"快手释放{0}掌，对敌人造成{1}%伤害，并有{2}%几率对敌人施加1层毒，如果敌人毒超过{3}层，则每层毒对敌人的伤害提升{4}%，并有{5}%几率施加一层噬魂。"}]
[{"$f":"IF(語言配置表!A807=\"\",\"\",語言配置表!A807)","v":804},{"$f":"IF(語言配置表!A807=\"\",\"CN_待填充内容\",語言配置表!B807)","v":"快手释放{0}掌，对敌人造成{1}%伤害，并有{2}%几率对敌人施加1层毒，如果敌人毒超过{3}层，则每层毒对敌人的伤害提升{4}%，并有{5}%几率施加一层噬魂。"}]
[{"$f":"IF(語言配置表!A808=\"\",\"\",語言配置表!A808)","v":805},{"$f":"IF(語言配置表!A808=\"\",\"CN_待填充内容\",語言配置表!B808)","v":"占位"}]
[{"$f":"IF(語言配置表!A809=\"\",\"\",語言配置表!A809)","v":806},{"$f":"IF(語言配置表!A809=\"\",\"CN_待填充内容\",語言配置表!B809)","v":"占位"}]
[{"$f":"IF(語言配置表!A810=\"\",\"\",語言配置表!A810)","v":807},{"$f":"IF(語言配置表!A810=\"\",\"CN_待填充内容\",語言配置表!B810)","v":"占位"}]
[{"$f":"IF(語言配置表!A811=\"\",\"\",語言配置表!A811)","v":808},{"$f":"IF(語言配置表!A811=\"\",\"CN_待填充内容\",語言配置表!B811)","v":"占位"}]
[{"$f":"IF(語言配置表!A812=\"\",\"\",語言配置表!A812)","v":809},{"$f":"IF(語言配置表!A812=\"\",\"CN_待填充内容\",語言配置表!B812)","v":"占位"}]
[{"$f":"IF(語言配置表!A813=\"\",\"\",語言配置表!A813)","v":810},{"$f":"IF(語言配置表!A813=\"\",\"CN_待填充内容\",語言配置表!B813)","v":"占位"}]
[{"$f":"IF(語言配置表!A814=\"\",\"\",語言配置表!A814)","v":811},{"$f":"IF(語言配置表!A814=\"\",\"CN_待填充内容\",語言配置表!B814)","v":"发射{0}枚飞叶，对敌人造成{1}%伤害。"}]
[{"$f":"IF(語言配置表!A815=\"\",\"\",語言配置表!A815)","v":812},{"$f":"IF(語言配置表!A815=\"\",\"CN_待填充内容\",語言配置表!B815)","v":"发射{0}枚飞叶，对敌人造成{1}%伤害。"}]
[{"$f":"IF(語言配置表!A816=\"\",\"\",語言配置表!A816)","v":813},{"$f":"IF(語言配置表!A816=\"\",\"CN_待填充内容\",語言配置表!B816)","v":"发射{0}枚飞叶，对敌人造成{1}%伤害。"}]
[{"$f":"IF(語言配置表!A817=\"\",\"\",語言配置表!A817)","v":814},{"$f":"IF(語言配置表!A817=\"\",\"CN_待填充内容\",語言配置表!B817)","v":"发射{0}枚飞叶，对敌人造成{1}%伤害。"}]
[{"$f":"IF(語言配置表!A818=\"\",\"\",語言配置表!A818)","v":815},{"$f":"IF(語言配置表!A818=\"\",\"CN_待填充内容\",語言配置表!B818)","v":"发射{0}枚飞叶，对敌人造成{1}%伤害。"}]
[{"$f":"IF(語言配置表!A819=\"\",\"\",語言配置表!A819)","v":816},{"$f":"IF(語言配置表!A819=\"\",\"CN_待填充内容\",語言配置表!B819)","v":"发射{0}枚飞叶，对敌人造成{1}%伤害。"}]
[{"$f":"IF(語言配置表!A820=\"\",\"\",語言配置表!A820)","v":817},{"$f":"IF(語言配置表!A820=\"\",\"CN_待填充内容\",語言配置表!B820)","v":"向前方发出{0}柄剑，对敌人造成{1}%火系伤害，并有{2}%的概率施加1层灼烧。"}]
[{"$f":"IF(語言配置表!A821=\"\",\"\",語言配置表!A821)","v":818},{"$f":"IF(語言配置表!A821=\"\",\"CN_待填充内容\",語言配置表!B821)","v":"向前方发出{0}柄剑，对敌人造成{1}%火系伤害，并有{2}%的概率施加1层灼烧。"}]
[{"$f":"IF(語言配置表!A822=\"\",\"\",語言配置表!A822)","v":819},{"$f":"IF(語言配置表!A822=\"\",\"CN_待填充内容\",語言配置表!B822)","v":"向前方发出{0}柄剑，对敌人造成{1}%火系伤害，并有{2}%的概率施加1层灼烧。"}]
[{"$f":"IF(語言配置表!A823=\"\",\"\",語言配置表!A823)","v":820},{"$f":"IF(語言配置表!A823=\"\",\"CN_待填充内容\",語言配置表!B823)","v":"向前方发出{0}柄剑，对敌人造成{1}%火系伤害，并有{2}%的概率施加1层灼烧。"}]
[{"$f":"IF(語言配置表!A824=\"\",\"\",語言配置表!A824)","v":821},{"$f":"IF(語言配置表!A824=\"\",\"CN_待填充内容\",語言配置表!B824)","v":"向前方发出{0}柄剑，对敌人造成{1}%火系伤害，并有{2}%的概率施加1层灼烧。"}]
[{"$f":"IF(語言配置表!A825=\"\",\"\",語言配置表!A825)","v":822},{"$f":"IF(語言配置表!A825=\"\",\"CN_待填充内容\",語言配置表!B825)","v":"向前方发出{0}柄剑，对敌人造成{1}%火系伤害，并有{2}%的概率施加1层灼烧。\n每柄烈焰剑将会对敌人照成爆燃，爆燃额外受到{3}%伤害"}]
[{"$f":"IF(語言配置表!A826=\"\",\"\",語言配置表!A826)","v":823},{"$f":"IF(語言配置表!A826=\"\",\"CN_待填充内容\",語言配置表!B826)","v":"飞出{0}道巨龙，对敌人造成{1}火系伤害。"}]
[{"$f":"IF(語言配置表!A827=\"\",\"\",語言配置表!A827)","v":824},{"$f":"IF(語言配置表!A827=\"\",\"CN_待填充内容\",語言配置表!B827)","v":"飞出{0}道巨龙，对敌人造成{1}火系伤害。\n如果敌人处于灼烧中对其造成胆摄，眩晕敌人{2}秒。"}]
[{"$f":"IF(語言配置表!A828=\"\",\"\",語言配置表!A828)","v":825},{"$f":"IF(語言配置表!A828=\"\",\"CN_待填充内容\",語言配置表!B828)","v":"飞出{0}道巨龙，对敌人造成{1}火系伤害。\n如果敌人处于灼烧中对其造成胆摄，眩晕敌人{2}秒。"}]
[{"$f":"IF(語言配置表!A829=\"\",\"\",語言配置表!A829)","v":826},{"$f":"IF(語言配置表!A829=\"\",\"CN_待填充内容\",語言配置表!B829)","v":"飞出{0}道巨龙，对敌人造成{1}火系伤害并{3}%施加1层灼烧。\n如果敌人处于灼烧中对其造成胆摄，眩晕敌人{2}秒。"}]
[{"$f":"IF(語言配置表!A830=\"\",\"\",語言配置表!A830)","v":827},{"$f":"IF(語言配置表!A830=\"\",\"CN_待填充内容\",語言配置表!B830)","v":"飞出{0}道巨龙，对敌人造成{1}火系伤害并{3}%施加1层灼烧。\n如果敌人处于灼烧中对其造成胆摄，眩晕敌人{2}秒。"}]
[{"$f":"IF(語言配置表!A831=\"\",\"\",語言配置表!A831)","v":828},{"$f":"IF(語言配置表!A831=\"\",\"CN_待填充内容\",語言配置表!B831)","v":"飞出{0}道巨龙，对敌人造成{1}火系伤害并{3}%施加1层灼烧。\n如果敌人处于灼烧中对其造成胆摄，眩晕敌人{2}秒。\n飞龙命中目标后引发天雷，对敌人额外造成{4}%伤害。"}]
[{"$f":"IF(語言配置表!A832=\"\",\"\",語言配置表!A832)","v":829},{"$f":"IF(語言配置表!A832=\"\",\"CN_待填充内容\",語言配置表!B832)","v":"身后出现一只大手，每个手指发射{0}道烈焰，对敌人照成{1}伤害同时{2}%概率施加1层灼烧。"}]
[{"$f":"IF(語言配置表!A833=\"\",\"\",語言配置表!A833)","v":830},{"$f":"IF(語言配置表!A833=\"\",\"CN_待填充内容\",語言配置表!B833)","v":"身后出现一只大手，每个手指发射{0}道烈焰，对敌人照成{1}伤害同时{2}%概率施加1层灼烧。\n对有灼烧的敌人额外造成{3}%最终伤害。"}]
[{"$f":"IF(語言配置表!A834=\"\",\"\",語言配置表!A834)","v":831},{"$f":"IF(語言配置表!A834=\"\",\"CN_待填充内容\",語言配置表!B834)","v":"身后出现一只大手，每个手指发射{0}道烈焰，对敌人照成{1}伤害同时{2}%概率施加1层灼烧。\n对有灼烧的敌人额外造成{3}%最终伤害。"}]
[{"$f":"IF(語言配置表!A835=\"\",\"\",語言配置表!A835)","v":832},{"$f":"IF(語言配置表!A835=\"\",\"CN_待填充内容\",語言配置表!B835)","v":"身后出现一只大手，每个手指发射{0}道烈焰，对敌人照成{1}伤害同时{2}%概率施加1层灼烧。\n对有灼烧的敌人额外造成{3}%最终伤害。"}]
[{"$f":"IF(語言配置表!A836=\"\",\"\",語言配置表!A836)","v":833},{"$f":"IF(語言配置表!A836=\"\",\"CN_待填充内容\",語言配置表!B836)","v":"身后出现一只大手，每个手指发射{0}道烈焰，对敌人照成{1}伤害同时{2}%概率施加1层灼烧。\n对有灼烧的敌人额外造成{3}%最终伤害。"}]
[{"$f":"IF(語言配置表!A837=\"\",\"\",語言配置表!A837)","v":834},{"$f":"IF(語言配置表!A837=\"\",\"CN_待填充内容\",語言配置表!B837)","v":"身后出现一只大手，每个手指发射{0}道烈焰，对敌人照成{1}伤害同时{2}%概率施加1层灼烧。\n对有灼烧的敌人额外造成{3}%最终伤害。\n在左右各出现一只大手发射烈焰，但每道烈焰伤害降低{4}%。"}]
[{"$f":"IF(語言配置表!A838=\"\",\"\",語言配置表!A838)","v":835},{"$f":"IF(語言配置表!A838=\"\",\"CN_待填充内容\",語言配置表!B838)","v":"发射{0}枚火球，对敌人造成{1}%伤害。又{2}概率对敌人施加1成灼烧"}]
[{"$f":"IF(語言配置表!A839=\"\",\"\",語言配置表!A839)","v":836},{"$f":"IF(語言配置表!A839=\"\",\"CN_待填充内容\",語言配置表!B839)","v":"发射{0}枚火球，对敌人造成{1}%伤害。又{2}概率对敌人施加1成灼烧"}]
[{"$f":"IF(語言配置表!A840=\"\",\"\",語言配置表!A840)","v":837},{"$f":"IF(語言配置表!A840=\"\",\"CN_待填充内容\",語言配置表!B840)","v":"发射{0}枚火球，对敌人造成{1}%伤害。又{2}概率对敌人施加1成灼烧"}]
[{"$f":"IF(語言配置表!A841=\"\",\"\",語言配置表!A841)","v":838},{"$f":"IF(語言配置表!A841=\"\",\"CN_待填充内容\",語言配置表!B841)","v":"发射{0}枚火球，对敌人造成{1}%伤害。又{2}概率对敌人施加1成灼烧"}]
[{"$f":"IF(語言配置表!A842=\"\",\"\",語言配置表!A842)","v":839},{"$f":"IF(語言配置表!A842=\"\",\"CN_待填充内容\",語言配置表!B842)","v":"发射{0}枚火球，对敌人造成{1}%伤害。又{2}概率对敌人施加1成灼烧"}]
[{"$f":"IF(語言配置表!A843=\"\",\"\",語言配置表!A843)","v":840},{"$f":"IF(語言配置表!A843=\"\",\"CN_待填充内容\",語言配置表!B843)","v":"发射{0}枚火球，对敌人造成{1}%伤害。又{2}概率对敌人施加1成灼烧"}]
[{"$f":"IF(語言配置表!A844=\"\",\"\",語言配置表!A844)","v":841},{"$f":"IF(語言配置表!A844=\"\",\"CN_待填充内容\",語言配置表!B844)","v":"发射{0}枚火刃，对敌人造成{1}%伤害。"}]
[{"$f":"IF(語言配置表!A845=\"\",\"\",語言配置表!A845)","v":842},{"$f":"IF(語言配置表!A845=\"\",\"CN_待填充内容\",語言配置表!B845)","v":"发射{0}枚火刃，对敌人造成{1}%伤害。"}]
[{"$f":"IF(語言配置表!A846=\"\",\"\",語言配置表!A846)","v":843},{"$f":"IF(語言配置表!A846=\"\",\"CN_待填充内容\",語言配置表!B846)","v":"发射{0}枚火刃，对敌人造成{1}%伤害。"}]
[{"$f":"IF(語言配置表!A847=\"\",\"\",語言配置表!A847)","v":844},{"$f":"IF(語言配置表!A847=\"\",\"CN_待填充内容\",語言配置表!B847)","v":"发射{0}枚火刃，对敌人造成{1}%伤害。"}]
[{"$f":"IF(語言配置表!A848=\"\",\"\",語言配置表!A848)","v":845},{"$f":"IF(語言配置表!A848=\"\",\"CN_待填充内容\",語言配置表!B848)","v":"发射{0}枚火刃，对敌人造成{1}%伤害。"}]
[{"$f":"IF(語言配置表!A849=\"\",\"\",語言配置表!A849)","v":846},{"$f":"IF(語言配置表!A849=\"\",\"CN_待填充内容\",語言配置表!B849)","v":"发射{0}枚火刃，对敌人造成{1}%伤害。"}]
[{"$f":"IF(語言配置表!A850=\"\",\"\",語言配置表!A850)","v":847},{"$f":"IF(語言配置表!A850=\"\",\"CN_待填充内容\",語言配置表!B850)","v":"沙尘汇聚成{0}枚土刺，对敌人造成{1}%伤害，并有{2}%概率施加1层细尘。"}]
[{"$f":"IF(語言配置表!A851=\"\",\"\",語言配置表!A851)","v":848},{"$f":"IF(語言配置表!A851=\"\",\"CN_待填充内容\",語言配置表!B851)","v":"沙尘汇聚成{0}枚土刺，对敌人造成{1}%伤害，并有{2}%概率施加1层细尘。"}]
[{"$f":"IF(語言配置表!A852=\"\",\"\",語言配置表!A852)","v":849},{"$f":"IF(語言配置表!A852=\"\",\"CN_待填充内容\",語言配置表!B852)","v":"沙尘汇聚成{0}枚土刺，对敌人造成{1}%伤害，并有{2}%概率施加1层细尘。"}]
[{"$f":"IF(語言配置表!A853=\"\",\"\",語言配置表!A853)","v":850},{"$f":"IF(語言配置表!A853=\"\",\"CN_待填充内容\",語言配置表!B853)","v":"沙尘汇聚成{0}枚土刺，对敌人造成{1}%伤害，并有{2}%概率施加1层细尘。"}]
[{"$f":"IF(語言配置表!A854=\"\",\"\",語言配置表!A854)","v":851},{"$f":"IF(語言配置表!A854=\"\",\"CN_待填充内容\",語言配置表!B854)","v":"沙尘汇聚成{0}枚土刺，对敌人造成{1}%伤害，并有{2}%概率施加1层细尘。"}]
[{"$f":"IF(語言配置表!A855=\"\",\"\",語言配置表!A855)","v":852},{"$f":"IF(語言配置表!A855=\"\",\"CN_待填充内容\",語言配置表!B855)","v":"沙尘汇聚成{0}枚土刺，对敌人造成{1}%伤害，并有{2}%概率施加1层细尘。"}]
[{"$f":"IF(語言配置表!A856=\"\",\"\",語言配置表!A856)","v":853},{"$f":"IF(語言配置表!A856=\"\",\"CN_待填充内容\",語言配置表!B856)","v":"一柄虚空形成的大刀，横空挥砍形成{0}个刀气，对敌人造成{1}%伤害，并有{2}%概率叠加1层破甲"}]
[{"$f":"IF(語言配置表!A857=\"\",\"\",語言配置表!A857)","v":854},{"$f":"IF(語言配置表!A857=\"\",\"CN_待填充内容\",語言配置表!B857)","v":"一柄虚空形成的大刀，横空挥砍形成{0}个刀气，对敌人造成{1}%伤害，并有{2}%概率叠加1层破甲"}]
[{"$f":"IF(語言配置表!A858=\"\",\"\",語言配置表!A858)","v":855},{"$f":"IF(語言配置表!A858=\"\",\"CN_待填充内容\",語言配置表!B858)","v":"一柄虚空形成的大刀，横空挥砍形成{0}个刀气，对敌人造成{1}%伤害，并有{2}%概率叠加1层破甲"}]
[{"$f":"IF(語言配置表!A859=\"\",\"\",語言配置表!A859)","v":856},{"$f":"IF(語言配置表!A859=\"\",\"CN_待填充内容\",語言配置表!B859)","v":"一柄虚空形成的大刀，横空挥砍形成{0}个刀气，对敌人造成{1}%伤害，并有{2}%概率叠加1层破甲"}]
[{"$f":"IF(語言配置表!A860=\"\",\"\",語言配置表!A860)","v":857},{"$f":"IF(語言配置表!A860=\"\",\"CN_待填充内容\",語言配置表!B860)","v":"一柄虚空形成的大刀，横空挥砍形成{0}个刀气，对敌人造成{1}%伤害，并有{2}%概率叠加1层破甲"}]
[{"$f":"IF(語言配置表!A861=\"\",\"\",語言配置表!A861)","v":858},{"$f":"IF(語言配置表!A861=\"\",\"CN_待填充内容\",語言配置表!B861)","v":"一柄虚空形成的大刀，横空挥砍形成{0}个刀气，对敌人造成{1}%伤害，并有{2}%概率叠加1层破甲"}]
[{"$f":"IF(語言配置表!A862=\"\",\"\",語言配置表!A862)","v":859},{"$f":"IF(語言配置表!A862=\"\",\"CN_待填充内容\",語言配置表!B862)","v":"占位"}]
[{"$f":"IF(語言配置表!A863=\"\",\"\",語言配置表!A863)","v":860},{"$f":"IF(語言配置表!A863=\"\",\"CN_待填充内容\",語言配置表!B863)","v":"占位"}]
[{"$f":"IF(語言配置表!A864=\"\",\"\",語言配置表!A864)","v":861},{"$f":"IF(語言配置表!A864=\"\",\"CN_待填充内容\",語言配置表!B864)","v":"占位"}]
[{"$f":"IF(語言配置表!A865=\"\",\"\",語言配置表!A865)","v":862},{"$f":"IF(語言配置表!A865=\"\",\"CN_待填充内容\",語言配置表!B865)","v":"占位"}]
[{"$f":"IF(語言配置表!A866=\"\",\"\",語言配置表!A866)","v":863},{"$f":"IF(語言配置表!A866=\"\",\"CN_待填充内容\",語言配置表!B866)","v":"占位"}]
[{"$f":"IF(語言配置表!A867=\"\",\"\",語言配置表!A867)","v":864},{"$f":"IF(語言配置表!A867=\"\",\"CN_待填充内容\",語言配置表!B867)","v":"占位"}]
[{"$f":"IF(語言配置表!A868=\"\",\"\",語言配置表!A868)","v":865},{"$f":"IF(語言配置表!A868=\"\",\"CN_待填充内容\",語言配置表!B868)","v":"发射{0}枚小石头，对敌人造成{1}%伤害。"}]
[{"$f":"IF(語言配置表!A869=\"\",\"\",語言配置表!A869)","v":866},{"$f":"IF(語言配置表!A869=\"\",\"CN_待填充内容\",語言配置表!B869)","v":"发射{0}枚小石头，对敌人造成{1}%伤害。"}]
[{"$f":"IF(語言配置表!A870=\"\",\"\",語言配置表!A870)","v":867},{"$f":"IF(語言配置表!A870=\"\",\"CN_待填充内容\",語言配置表!B870)","v":"发射{0}枚小石头，对敌人造成{1}%伤害。"}]
[{"$f":"IF(語言配置表!A871=\"\",\"\",語言配置表!A871)","v":868},{"$f":"IF(語言配置表!A871=\"\",\"CN_待填充内容\",語言配置表!B871)","v":"发射{0}枚小石头，对敌人造成{1}%伤害。"}]
[{"$f":"IF(語言配置表!A872=\"\",\"\",語言配置表!A872)","v":869},{"$f":"IF(語言配置表!A872=\"\",\"CN_待填充内容\",語言配置表!B872)","v":"发射{0}枚小石头，对敌人造成{1}%伤害。"}]
[{"$f":"IF(語言配置表!A873=\"\",\"\",語言配置表!A873)","v":870},{"$f":"IF(語言配置表!A873=\"\",\"CN_待填充内容\",語言配置表!B873)","v":"发射{0}枚小石头，对敌人造成{1}%伤害。"}]
[{"$f":"IF(語言配置表!A874=\"\",\"\",語言配置表!A874)","v":871},{"$f":"IF(語言配置表!A874=\"\",\"CN_待填充内容\",語言配置表!B874)","v":"引星辰之力入体，增强玩家体魄，\n让后方槽位的功法无视防御性护盾（功法法宝带来的防护罩、自身护盾）"}]
[{"$f":"IF(語言配置表!A875=\"\",\"\",語言配置表!A875)","v":872},{"$f":"IF(語言配置表!A875=\"\",\"CN_待填充内容\",語言配置表!B875)","v":"引星辰之力入体，增强玩家体魄，\n让后方槽位的功法无视防御性护盾（功法法宝带来的防护罩、自身护盾）"}]
[{"$f":"IF(語言配置表!A876=\"\",\"\",語言配置表!A876)","v":873},{"$f":"IF(語言配置表!A876=\"\",\"CN_待填充内容\",語言配置表!B876)","v":"引星辰之力入体，增强玩家体魄，\n让后方槽位的功法无视防御性护盾（功法法宝带来的防护罩、自身护盾）"}]
[{"$f":"IF(語言配置表!A877=\"\",\"\",語言配置表!A877)","v":874},{"$f":"IF(語言配置表!A877=\"\",\"CN_待填充内容\",語言配置表!B877)","v":"引星辰之力入体，增强玩家体魄，\n让后方槽位的功法无视防御性护盾（功法法宝带来的防护罩、自身护盾）"}]
[{"$f":"IF(語言配置表!A878=\"\",\"\",語言配置表!A878)","v":875},{"$f":"IF(語言配置表!A878=\"\",\"CN_待填充内容\",語言配置表!B878)","v":"引星辰之力入体，增强玩家体魄，\n让后方槽位的功法无视防御性护盾（功法法宝带来的防护罩、自身护盾）"}]
[{"$f":"IF(語言配置表!A879=\"\",\"\",語言配置表!A879)","v":876},{"$f":"IF(語言配置表!A879=\"\",\"CN_待填充内容\",語言配置表!B879)","v":"引星辰之力入体，增强玩家体魄，\n让后方槽位的功法无视防御性护盾（功法法宝带来的防护罩、自身护盾）"}]
[{"$f":"IF(語言配置表!A880=\"\",\"\",語言配置表!A880)","v":877},{"$f":"IF(語言配置表!A880=\"\",\"CN_待填充内容\",語言配置表!B880)","v":"后方槽位技能在击中目标时，为法宝提供{0}%充能"}]
[{"$f":"IF(語言配置表!A881=\"\",\"\",語言配置表!A881)","v":878},{"$f":"IF(語言配置表!A881=\"\",\"CN_待填充内容\",語言配置表!B881)","v":"后方槽位技能在击中目标时，为法宝提供{0}%充能"}]
[{"$f":"IF(語言配置表!A882=\"\",\"\",語言配置表!A882)","v":879},{"$f":"IF(語言配置表!A882=\"\",\"CN_待填充内容\",語言配置表!B882)","v":"后方槽位技能在击中目标时，为法宝提供{0}%充能"}]
[{"$f":"IF(語言配置表!A883=\"\",\"\",語言配置表!A883)","v":880},{"$f":"IF(語言配置表!A883=\"\",\"CN_待填充内容\",語言配置表!B883)","v":"后方槽位技能在击中目标时，为法宝提供{0}%充能"}]
[{"$f":"IF(語言配置表!A884=\"\",\"\",語言配置表!A884)","v":881},{"$f":"IF(語言配置表!A884=\"\",\"CN_待填充内容\",語言配置表!B884)","v":"后方槽位技能在击中目标时，为法宝提供{0}%充能"}]
[{"$f":"IF(語言配置表!A885=\"\",\"\",語言配置表!A885)","v":882},{"$f":"IF(語言配置表!A885=\"\",\"CN_待填充内容\",語言配置表!B885)","v":"后方槽位技能在击中目标时，为法宝提供{0}%充能。\n法宝可以瞬间施放，且规避法宝对拼。"}]
[{"$f":"IF(語言配置表!A886=\"\",\"\",語言配置表!A886)","v":883},{"$f":"IF(語言配置表!A886=\"\",\"CN_待填充内容\",語言配置表!B886)","v":"前方功法造成伤害时有{0}%概率施加一层对应属性的伤势"}]
[{"$f":"IF(語言配置表!A887=\"\",\"\",語言配置表!A887)","v":884},{"$f":"IF(語言配置表!A887=\"\",\"CN_待填充内容\",語言配置表!B887)","v":"前方功法造成伤害时有{0}%概率施加一层对应属性的伤势"}]
[{"$f":"IF(語言配置表!A888=\"\",\"\",語言配置表!A888)","v":885},{"$f":"IF(語言配置表!A888=\"\",\"CN_待填充内容\",語言配置表!B888)","v":"前方功法造成伤害时有{0}%概率施加一层对应属性的伤势"}]
[{"$f":"IF(語言配置表!A889=\"\",\"\",語言配置表!A889)","v":886},{"$f":"IF(語言配置表!A889=\"\",\"CN_待填充内容\",語言配置表!B889)","v":"前方功法造成伤害时有{0}%概率施加一层对应属性的伤势"}]
[{"$f":"IF(語言配置表!A890=\"\",\"\",語言配置表!A890)","v":887},{"$f":"IF(語言配置表!A890=\"\",\"CN_待填充内容\",語言配置表!B890)","v":"前方功法造成伤害时有{0}%概率施加一层对应属性的伤势"}]
[{"$f":"IF(語言配置表!A891=\"\",\"\",語言配置表!A891)","v":888},{"$f":"IF(語言配置表!A891=\"\",\"CN_待填充内容\",語言配置表!B891)","v":"前方功法造成伤害时有{0}%概率施加一层对应属性的伤势"}]
[{"$f":"IF(語言配置表!A892=\"\",\"\",語言配置表!A892)","v":889},{"$f":"IF(語言配置表!A892=\"\",\"CN_待填充内容\",語言配置表!B892)","v":"前后方法宝如果相生则双生效果增强{0}%"}]
[{"$f":"IF(語言配置表!A893=\"\",\"\",語言配置表!A893)","v":890},{"$f":"IF(語言配置表!A893=\"\",\"CN_待填充内容\",語言配置表!B893)","v":"前后方法宝如果相生则双生效果增强{0}%"}]
[{"$f":"IF(語言配置表!A894=\"\",\"\",語言配置表!A894)","v":891},{"$f":"IF(語言配置表!A894=\"\",\"CN_待填充内容\",語言配置表!B894)","v":"前后方法宝如果相生则双生效果增强{0}%"}]
[{"$f":"IF(語言配置表!A895=\"\",\"\",語言配置表!A895)","v":892},{"$f":"IF(語言配置表!A895=\"\",\"CN_待填充内容\",語言配置表!B895)","v":"前后方法宝如果相生则双生效果增强{0}%"}]
[{"$f":"IF(語言配置表!A896=\"\",\"\",語言配置表!A896)","v":893},{"$f":"IF(語言配置表!A896=\"\",\"CN_待填充内容\",語言配置表!B896)","v":"前后方法宝如果相生则双生效果增强{0}%"}]
[{"$f":"IF(語言配置表!A897=\"\",\"\",語言配置表!A897)","v":894},{"$f":"IF(語言配置表!A897=\"\",\"CN_待填充内容\",語言配置表!B897)","v":"前后方法宝如果相生则双生效果增强{0}%。\n前后方法宝如果不相生则双生效果增加{1}%。\n前方后法宝如果相克则双生效果增强{2}%。"}]
[{"$f":"IF(語言配置表!A898=\"\",\"\",語言配置表!A898)","v":895},{"$f":"IF(語言配置表!A898=\"\",\"CN_待填充内容\",語言配置表!B898)","v":"每层经过火经脉时使火系功法伤害提升{0}%，最多叠加{1}层"}]
[{"$f":"IF(語言配置表!A899=\"\",\"\",語言配置表!A899)","v":896},{"$f":"IF(語言配置表!A899=\"\",\"CN_待填充内容\",語言配置表!B899)","v":"每层经过火经脉时使火系功法伤害提升{0}%，最多叠加{1}层"}]
[{"$f":"IF(語言配置表!A900=\"\",\"\",語言配置表!A900)","v":897},{"$f":"IF(語言配置表!A900=\"\",\"CN_待填充内容\",語言配置表!B900)","v":"每层经过火经脉时使火系功法伤害提升{0}%，最多叠加{1}层"}]
[{"$f":"IF(語言配置表!A901=\"\",\"\",語言配置表!A901)","v":898},{"$f":"IF(語言配置表!A901=\"\",\"CN_待填充内容\",語言配置表!B901)","v":"每层经过火经脉时使火系功法伤害提升{0}%，最多叠加{1}层"}]
[{"$f":"IF(語言配置表!A902=\"\",\"\",語言配置表!A902)","v":899},{"$f":"IF(語言配置表!A902=\"\",\"CN_待填充内容\",語言配置表!B902)","v":"每层经过火经脉时使火系功法伤害提升{0}%，最多叠加{1}层"}]
[{"$f":"IF(語言配置表!A903=\"\",\"\",語言配置表!A903)","v":900},{"$f":"IF(語言配置表!A903=\"\",\"CN_待填充内容\",語言配置表!B903)","v":"每层经过火经脉时使火系功法伤害提升{0}%，最多叠加{1}层。\n当达到满层后，任何火系功法命中时都会施加{1}层灼烧。"}]
[{"$f":"IF(語言配置表!A904=\"\",\"\",語言配置表!A904)","v":901},{"$f":"IF(語言配置表!A904=\"\",\"CN_待填充内容\",語言配置表!B904)","v":"后方槽位第一个技能体型巨大化，且在对碰中强度增加{0}%"}]
[{"$f":"IF(語言配置表!A905=\"\",\"\",語言配置表!A905)","v":902},{"$f":"IF(語言配置表!A905=\"\",\"CN_待填充内容\",語言配置表!B905)","v":"后方槽位第一个技能体型巨大化，且在对碰中强度增加{0}%"}]
[{"$f":"IF(語言配置表!A906=\"\",\"\",語言配置表!A906)","v":903},{"$f":"IF(語言配置表!A906=\"\",\"CN_待填充内容\",語言配置表!B906)","v":"后方槽位第一个技能体型巨大化，且在对碰中强度增加{0}%"}]
[{"$f":"IF(語言配置表!A907=\"\",\"\",語言配置表!A907)","v":904},{"$f":"IF(語言配置表!A907=\"\",\"CN_待填充内容\",語言配置表!B907)","v":"后方槽位第一个技能体型巨大化，且在对碰中强度增加{0}%"}]
[{"$f":"IF(語言配置表!A908=\"\",\"\",語言配置表!A908)","v":905},{"$f":"IF(語言配置表!A908=\"\",\"CN_待填充内容\",語言配置表!B908)","v":"后方槽位第一个技能体型巨大化，且在对碰中强度增加{0}%"}]
[{"$f":"IF(語言配置表!A909=\"\",\"\",語言配置表!A909)","v":906},{"$f":"IF(語言配置表!A909=\"\",\"CN_待填充内容\",語言配置表!B909)","v":"后方槽位第一个技能体型巨大化，且在对碰中强度增加{0}%\n巨大化的功法对拼耗尽不再消失，而是恢复{1}%强度"}]
[{"$f":"IF(語言配置表!A910=\"\",\"\",語言配置表!A910)","v":907},{"$f":"IF(語言配置表!A910=\"\",\"CN_待填充内容\",語言配置表!B910)","v":"后槽位技能在催动时获得转盘加速{0}%,持续{1}秒"}]
[{"$f":"IF(語言配置表!A911=\"\",\"\",語言配置表!A911)","v":908},{"$f":"IF(語言配置表!A911=\"\",\"CN_待填充内容\",語言配置表!B911)","v":"后槽位技能在催动时获得转盘加速{0}%,持续{1}秒"}]
[{"$f":"IF(語言配置表!A912=\"\",\"\",語言配置表!A912)","v":909},{"$f":"IF(語言配置表!A912=\"\",\"CN_待填充内容\",語言配置表!B912)","v":"后槽位技能在催动时获得转盘加速{0}%,持续{1}秒"}]
[{"$f":"IF(語言配置表!A913=\"\",\"\",語言配置表!A913)","v":910},{"$f":"IF(語言配置表!A913=\"\",\"CN_待填充内容\",語言配置表!B913)","v":"后槽位技能在催动时获得转盘加速{0}%,持续{1}秒"}]
[{"$f":"IF(語言配置表!A914=\"\",\"\",語言配置表!A914)","v":911},{"$f":"IF(語言配置表!A914=\"\",\"CN_待填充内容\",語言配置表!B914)","v":"后槽位技能在催动时获得转盘加速{0}%,持续{1}秒"}]
[{"$f":"IF(語言配置表!A915=\"\",\"\",語言配置表!A915)","v":912},{"$f":"IF(語言配置表!A915=\"\",\"CN_待填充内容\",語言配置表!B915)","v":"后槽位技能在催动时获得转盘加速{0}%,持续{1}秒\n加速期间，伤害提升{1}%"}]
[{"$f":"IF(語言配置表!A916=\"\",\"\",語言配置表!A916)","v":913},{"$f":"IF(語言配置表!A916=\"\",\"CN_待填充内容\",語言配置表!B916)","v":"后方槽位如果是剑功法，在释放功法时额外释放{0}道剑气，对敌人造成{1}%伤害，并无视护盾类效果"}]
[{"$f":"IF(語言配置表!A917=\"\",\"\",語言配置表!A917)","v":914},{"$f":"IF(語言配置表!A917=\"\",\"CN_待填充内容\",語言配置表!B917)","v":"后方槽位如果是剑功法，在释放功法时额外释放{0}道剑气，对敌人造成{1}%伤害，并无视护盾类效果"}]
[{"$f":"IF(語言配置表!A918=\"\",\"\",語言配置表!A918)","v":915},{"$f":"IF(語言配置表!A918=\"\",\"CN_待填充内容\",語言配置表!B918)","v":"后方槽位如果是剑功法，在释放功法时额外释放{0}道剑气，对敌人造成{1}%伤害，并无视护盾类效果"}]
[{"$f":"IF(語言配置表!A919=\"\",\"\",語言配置表!A919)","v":916},{"$f":"IF(語言配置表!A919=\"\",\"CN_待填充内容\",語言配置表!B919)","v":"后方槽位如果是剑功法，在释放功法时额外释放{0}道剑气，对敌人造成{1}%伤害，并无视护盾类效果"}]
[{"$f":"IF(語言配置表!A920=\"\",\"\",語言配置表!A920)","v":917},{"$f":"IF(語言配置表!A920=\"\",\"CN_待填充内容\",語言配置表!B920)","v":"后方槽位如果是剑功法，在释放功法时额外释放{0}道剑气，对敌人造成{1}%伤害，并无视护盾类效果"}]
[{"$f":"IF(語言配置表!A921=\"\",\"\",語言配置表!A921)","v":918},{"$f":"IF(語言配置表!A921=\"\",\"CN_待填充内容\",語言配置表!B921)","v":"前方和后方槽位如果是剑功法，在释放功法时额外释放{0}道剑气，对敌人造成{0}%伤害，并无视护盾类效果\n该剑气会对敌人施加{2}层流血"}]
[{"$f":"IF(語言配置表!A922=\"\",\"\",語言配置表!A922)","v":919},{"$f":"IF(語言配置表!A922=\"\",\"CN_待填充内容\",語言配置表!B922)","v":"对敌人照成伤害，使敌人五行混乱。敌人的功法每次使用功法都将使用最低灵根属性作为伤害计算，持续{0}秒"}]
[{"$f":"IF(語言配置表!A923=\"\",\"\",語言配置表!A923)","v":920},{"$f":"IF(語言配置表!A923=\"\",\"CN_待填充内容\",語言配置表!B923)","v":"对敌人照成伤害，使敌人五行混乱。敌人的功法每次使用功法都将使用最低灵根属性作为伤害计算，持续{0}秒"}]
[{"$f":"IF(語言配置表!A924=\"\",\"\",語言配置表!A924)","v":921},{"$f":"IF(語言配置表!A924=\"\",\"CN_待填充内容\",語言配置表!B924)","v":"对敌人照成伤害，使敌人五行混乱。敌人的功法每次使用功法都将使用最低灵根属性作为伤害计算，持续{0}秒"}]
[{"$f":"IF(語言配置表!A925=\"\",\"\",語言配置表!A925)","v":922},{"$f":"IF(語言配置表!A925=\"\",\"CN_待填充内容\",語言配置表!B925)","v":"对敌人照成伤害，使敌人五行混乱。敌人的功法每次使用功法都将使用最低灵根属性作为伤害计算，持续{0}秒"}]
[{"$f":"IF(語言配置表!A926=\"\",\"\",語言配置表!A926)","v":923},{"$f":"IF(語言配置表!A926=\"\",\"CN_待填充内容\",語言配置表!B926)","v":"对敌人照成伤害，使敌人五行混乱。敌人的功法每次使用功法都将使用最低灵根属性作为伤害计算，持续{0}秒"}]
[{"$f":"IF(語言配置表!A927=\"\",\"\",語言配置表!A927)","v":924},{"$f":"IF(語言配置表!A927=\"\",\"CN_待填充内容\",語言配置表!B927)","v":"对敌人照成伤害，使敌人五行混乱。敌人的功法每次使用功法都将使用最低灵根属性作为伤害计算，持续{0}秒\n神农鼎生效期间，使敌人的所有灵根降低{1}%。"}]
[{"$f":"IF(語言配置表!A928=\"\",\"\",語言配置表!A928)","v":925},{"$f":"IF(語言配置表!A928=\"\",\"CN_待填充内容\",語言配置表!B928)","v":"无视敌人灵根，对敌人造成大量伤害，同时让五行伤势+1"}]
[{"$f":"IF(語言配置表!A929=\"\",\"\",語言配置表!A929)","v":926},{"$f":"IF(語言配置表!A929=\"\",\"CN_待填充内容\",語言配置表!B929)","v":"无视敌人灵根，对敌人造成大量伤害，同时让五行伤势+1"}]
[{"$f":"IF(語言配置表!A930=\"\",\"\",語言配置表!A930)","v":927},{"$f":"IF(語言配置表!A930=\"\",\"CN_待填充内容\",語言配置表!B930)","v":"无视敌人灵根，对敌人造成大量伤害，同时让五行伤势+1"}]
[{"$f":"IF(語言配置表!A931=\"\",\"\",語言配置表!A931)","v":928},{"$f":"IF(語言配置表!A931=\"\",\"CN_待填充内容\",語言配置表!B931)","v":"无视敌人灵根，对敌人造成大量伤害，同时让五行伤势+1"}]
[{"$f":"IF(語言配置表!A932=\"\",\"\",語言配置表!A932)","v":929},{"$f":"IF(語言配置表!A932=\"\",\"CN_待填充内容\",語言配置表!B932)","v":"无视敌人灵根，对敌人造成大量伤害，同时让五行伤势+1"}]
[{"$f":"IF(語言配置表!A933=\"\",\"\",語言配置表!A933)","v":930},{"$f":"IF(語言配置表!A933=\"\",\"CN_待填充内容\",語言配置表!B933)","v":"无视敌人灵根，对敌人造成大量伤害，同时让五行伤势+1"}]
[{"$f":"IF(語言配置表!A934=\"\",\"\",語言配置表!A934)","v":931},{"$f":"IF(語言配置表!A934=\"\",\"CN_待填充内容\",語言配置表!B934)","v":"战场区域形成一个域。敌人的功法弹道进入域后将降低敌人{0}%的功法弹道速度，持续{1}秒"}]
[{"$f":"IF(語言配置表!A935=\"\",\"\",語言配置表!A935)","v":932},{"$f":"IF(語言配置表!A935=\"\",\"CN_待填充内容\",語言配置表!B935)","v":"战场区域形成一个域。敌人的功法弹道进入域后将降低敌人{0}%的功法弹道速度，持续{1}秒"}]
[{"$f":"IF(語言配置表!A936=\"\",\"\",語言配置表!A936)","v":933},{"$f":"IF(語言配置表!A936=\"\",\"CN_待填充内容\",語言配置表!B936)","v":"战场区域形成一个域。敌人的功法弹道进入域后将降低敌人{0}%的功法弹道速度，持续{1}秒"}]
[{"$f":"IF(語言配置表!A937=\"\",\"\",語言配置表!A937)","v":934},{"$f":"IF(語言配置表!A937=\"\",\"CN_待填充内容\",語言配置表!B937)","v":"战场区域形成一个域。敌人的功法弹道进入域后将降低敌人{0}%的功法弹道速度，持续{1}秒"}]
[{"$f":"IF(語言配置表!A938=\"\",\"\",語言配置表!A938)","v":935},{"$f":"IF(語言配置表!A938=\"\",\"CN_待填充内容\",語言配置表!B938)","v":"战场区域形成一个域。敌人的功法弹道进入域后将降低敌人{0}%的功法弹道速度，持续{1}秒"}]
[{"$f":"IF(語言配置表!A939=\"\",\"\",語言配置表!A939)","v":936},{"$f":"IF(語言配置表!A939=\"\",\"CN_待填充内容\",語言配置表!B939)","v":"战场区域形成一个域。敌人的功法弹道进入域后将降低敌人{0}%的功法弹道速度，持续{1}秒\n受影响的敌方功法强度降低{2}%"}]
[{"$f":"IF(語言配置表!A940=\"\",\"\",語言配置表!A940)","v":937},{"$f":"IF(語言配置表!A940=\"\",\"CN_待填充内容\",語言配置表!B940)","v":"用后{2}秒内大幅提升所有灵根{0}%，一场战斗可使用{1}次"}]
[{"$f":"IF(語言配置表!A941=\"\",\"\",語言配置表!A941)","v":938},{"$f":"IF(語言配置表!A941=\"\",\"CN_待填充内容\",語言配置表!B941)","v":"用后{2}秒内大幅提升所有灵根{0}%，一场战斗可使用{1}次"}]
[{"$f":"IF(語言配置表!A942=\"\",\"\",語言配置表!A942)","v":939},{"$f":"IF(語言配置表!A942=\"\",\"CN_待填充内容\",語言配置表!B942)","v":"用后{2}秒内大幅提升所有灵根{0}%，一场战斗可使用{1}次"}]
[{"$f":"IF(語言配置表!A943=\"\",\"\",語言配置表!A943)","v":940},{"$f":"IF(語言配置表!A943=\"\",\"CN_待填充内容\",語言配置表!B943)","v":"用后{2}秒内大幅提升所有灵根{0}%，一场战斗可使用{1}次"}]
[{"$f":"IF(語言配置表!A944=\"\",\"\",語言配置表!A944)","v":941},{"$f":"IF(語言配置表!A944=\"\",\"CN_待填充内容\",語言配置表!B944)","v":"用后{2}秒内大幅提升所有灵根{0}%，一场战斗可使用{1}次"}]
[{"$f":"IF(語言配置表!A945=\"\",\"\",語言配置表!A945)","v":942},{"$f":"IF(語言配置表!A945=\"\",\"CN_待填充内容\",語言配置表!B945)","v":"用后{2}秒内大幅提升所有灵根{0}%，一场战斗可使用{1}次\n混沌珠生效期间，己方所有功法额外增伤{3}%"}]
[{"$f":"IF(語言配置表!A946=\"\",\"\",語言配置表!A946)","v":943},{"$f":"IF(語言配置表!A946=\"\",\"CN_待填充内容\",語言配置表!B946)","v":"对敌人照成水系伤害，封锁敌人筋脉随机{0}个格子流动{1}秒"}]
[{"$f":"IF(語言配置表!A947=\"\",\"\",語言配置表!A947)","v":944},{"$f":"IF(語言配置表!A947=\"\",\"CN_待填充内容\",語言配置表!B947)","v":"对敌人照成水系伤害，封锁敌人筋脉随机{0}个格子流动{1}秒"}]
[{"$f":"IF(語言配置表!A948=\"\",\"\",語言配置表!A948)","v":945},{"$f":"IF(語言配置表!A948=\"\",\"CN_待填充内容\",語言配置表!B948)","v":"对敌人照成水系伤害，封锁敌人筋脉随机{0}个格子流动{1}秒"}]
[{"$f":"IF(語言配置表!A949=\"\",\"\",語言配置表!A949)","v":946},{"$f":"IF(語言配置表!A949=\"\",\"CN_待填充内容\",語言配置表!B949)","v":"对敌人照成水系伤害，封锁敌人筋脉随机{0}个格子流动{1}秒"}]
[{"$f":"IF(語言配置表!A950=\"\",\"\",語言配置表!A950)","v":947},{"$f":"IF(語言配置表!A950=\"\",\"CN_待填充内容\",語言配置表!B950)","v":"对敌人照成水系伤害，封锁敌人筋脉随机{0}个格子流动{1}秒"}]
[{"$f":"IF(語言配置表!A951=\"\",\"\",語言配置表!A951)","v":948},{"$f":"IF(語言配置表!A951=\"\",\"CN_待填充内容\",語言配置表!B951)","v":"对敌人照成水系伤害，封锁敌人筋脉随机{0}个格子流动{1}秒"}]
[{"$f":"IF(語言配置表!A952=\"\",\"\",語言配置表!A952)","v":949},{"$f":"IF(語言配置表!A952=\"\",\"CN_待填充内容\",語言配置表!B952)","v":"对敌人造成{2}%伤害，并随机封锁敌人{0}个法宝，让其{1}秒内不能使用"}]
[{"$f":"IF(語言配置表!A953=\"\",\"\",語言配置表!A953)","v":950},{"$f":"IF(語言配置表!A953=\"\",\"CN_待填充内容\",語言配置表!B953)","v":"对敌人造成{2}%伤害，并随机封锁敌人{0}个法宝，让其{1}秒内不能使用"}]
[{"$f":"IF(語言配置表!A954=\"\",\"\",語言配置表!A954)","v":951},{"$f":"IF(語言配置表!A954=\"\",\"CN_待填充内容\",語言配置表!B954)","v":"对敌人造成{2}%伤害，并随机封锁敌人{0}个法宝，让其{1}秒内不能使用"}]
[{"$f":"IF(語言配置表!A955=\"\",\"\",語言配置表!A955)","v":952},{"$f":"IF(語言配置表!A955=\"\",\"CN_待填充内容\",語言配置表!B955)","v":"对敌人造成{2}%伤害，并随机封锁敌人{0}个法宝，让其{1}秒内不能使用\n如果影响的法宝是相生法宝，则使其充能时间延长{3}%直至战斗结束"}]
[{"$f":"IF(語言配置表!A956=\"\",\"\",語言配置表!A956)","v":953},{"$f":"IF(語言配置表!A956=\"\",\"CN_待填充内容\",語言配置表!B956)","v":"对敌人造成{2}%伤害，并随机封锁敌人{0}个法宝，让其{1}秒内不能使用\n如果影响的法宝是相生法宝，则使其充能时间延长{3}%直至战斗结束"}]
[{"$f":"IF(語言配置表!A957=\"\",\"\",語言配置表!A957)","v":954},{"$f":"IF(語言配置表!A957=\"\",\"CN_待填充内容\",語言配置表!B957)","v":"对敌人造成{2}%伤害，并随机封锁敌人{0}个法宝，让其{1}秒内不能使用\n如果影响的法宝是相生法宝，则使其充能时间延长{3}%直至战斗结束"}]
[{"$f":"IF(語言配置表!A958=\"\",\"\",語言配置表!A958)","v":955},{"$f":"IF(語言配置表!A958=\"\",\"CN_待填充内容\",語言配置表!B958)","v":"一盏明灯围绕玩家，{0}秒内抵消所有负面效果，每{1}秒触发1次。"}]
[{"$f":"IF(語言配置表!A959=\"\",\"\",語言配置表!A959)","v":956},{"$f":"IF(語言配置表!A959=\"\",\"CN_待填充内容\",語言配置表!B959)","v":"一盏明灯围绕玩家，{0}秒内抵消所有负面效果，每{1}秒触发1次。"}]
[{"$f":"IF(語言配置表!A960=\"\",\"\",語言配置表!A960)","v":957},{"$f":"IF(語言配置表!A960=\"\",\"CN_待填充内容\",語言配置表!B960)","v":"一盏明灯围绕玩家，{0}秒内抵消所有负面效果，每{1}秒触发1次。"}]
[{"$f":"IF(語言配置表!A961=\"\",\"\",語言配置表!A961)","v":958},{"$f":"IF(語言配置表!A961=\"\",\"CN_待填充内容\",語言配置表!B961)","v":"一盏明灯围绕玩家，{0}秒内抵消所有负面效果，每{1}秒触发1次。"}]
[{"$f":"IF(語言配置表!A962=\"\",\"\",語言配置表!A962)","v":959},{"$f":"IF(語言配置表!A962=\"\",\"CN_待填充内容\",語言配置表!B962)","v":"一盏明灯围绕玩家，{0}秒内抵消所有负面效果，每{1}秒触发1次。"}]
[{"$f":"IF(語言配置表!A963=\"\",\"\",語言配置表!A963)","v":960},{"$f":"IF(語言配置表!A963=\"\",\"CN_待填充内容\",語言配置表!B963)","v":"一盏明灯围绕玩家，{0}秒内抵消所有负面效果，每{1}秒触发1次。"}]
[{"$f":"IF(語言配置表!A964=\"\",\"\",語言配置表!A964)","v":961},{"$f":"IF(語言配置表!A964=\"\",\"CN_待填充内容\",語言配置表!B964)","v":"宝塔在英雄的头顶前往位置旋转，形成一个扇形区域，敌人的功法如果进入这个扇形区域有{0}%概率被法宝吸收，持续{1}秒"}]
[{"$f":"IF(語言配置表!A965=\"\",\"\",語言配置表!A965)","v":962},{"$f":"IF(語言配置表!A965=\"\",\"CN_待填充内容\",語言配置表!B965)","v":"宝塔在英雄的头顶前往位置旋转，形成一个扇形区域，敌人的功法如果进入这个扇形区域有{0}%概率被法宝吸收，持续{1}秒"}]
[{"$f":"IF(語言配置表!A966=\"\",\"\",語言配置表!A966)","v":963},{"$f":"IF(語言配置表!A966=\"\",\"CN_待填充内容\",語言配置表!B966)","v":"宝塔在英雄的头顶前往位置旋转，形成一个扇形区域，敌人的功法如果进入这个扇形区域有{0}%概率被法宝吸收，持续{1}秒"}]
[{"$f":"IF(語言配置表!A967=\"\",\"\",語言配置表!A967)","v":964},{"$f":"IF(語言配置表!A967=\"\",\"CN_待填充内容\",語言配置表!B967)","v":"宝塔在英雄的头顶前往位置旋转，形成一个扇形区域，敌人的功法如果进入这个扇形区域有{0}%概率被法宝吸收，持续{1}秒"}]
[{"$f":"IF(語言配置表!A968=\"\",\"\",語言配置表!A968)","v":965},{"$f":"IF(語言配置表!A968=\"\",\"CN_待填充内容\",語言配置表!B968)","v":"宝塔在英雄的头顶前往位置旋转，形成一个扇形区域，敌人的功法如果进入这个扇形区域有{0}%概率被法宝吸收，持续{1}秒"}]
[{"$f":"IF(語言配置表!A969=\"\",\"\",語言配置表!A969)","v":966},{"$f":"IF(語言配置表!A969=\"\",\"CN_待填充内容\",語言配置表!B969)","v":"宝塔在英雄的头顶前往位置旋转，形成一个扇形区域，敌人的功法如果进入这个扇形区域有{0}%概率被法宝吸收，持续{1}秒\n敌方功法被吸收后，己方英雄临时增加{2}点对应五行灵根，持续{3}秒"}]
[{"$f":"IF(語言配置表!A970=\"\",\"\",語言配置表!A970)","v":967},{"$f":"IF(語言配置表!A970=\"\",\"CN_待填充内容\",語言配置表!B970)","v":"打断对手当前正在生效中的法宝"}]
[{"$f":"IF(語言配置表!A971=\"\",\"\",語言配置表!A971)","v":968},{"$f":"IF(語言配置表!A971=\"\",\"CN_待填充内容\",語言配置表!B971)","v":"打断对手当前正在生效中的法宝\n可以打断准备生效中的法宝，且避免己方法宝进入对拼状态，持续{0}秒"}]
[{"$f":"IF(語言配置表!A972=\"\",\"\",語言配置表!A972)","v":969},{"$f":"IF(語言配置表!A972=\"\",\"CN_待填充内容\",語言配置表!B972)","v":"打断对手当前正在生效中的法宝\n可以打断准备生效中的法宝，且避免己方法宝进入对拼状态，持续{0}秒"}]
[{"$f":"IF(語言配置表!A973=\"\",\"\",語言配置表!A973)","v":970},{"$f":"IF(語言配置表!A973=\"\",\"CN_待填充内容\",語言配置表!B973)","v":"打断对手当前正在生效中的法宝\n可以打断准备生效中的法宝，且避免己方法宝进入对拼状态，持续{0}秒"}]
[{"$f":"IF(語言配置表!A974=\"\",\"\",語言配置表!A974)","v":971},{"$f":"IF(語言配置表!A974=\"\",\"CN_待填充内容\",語言配置表!B974)","v":"打断对手当前正在生效中的法宝\n可以打断准备生效中的法宝，且避免己方法宝进入对拼状态，持续{0}秒"}]
[{"$f":"IF(語言配置表!A975=\"\",\"\",語言配置表!A975)","v":972},{"$f":"IF(語言配置表!A975=\"\",\"CN_待填充内容\",語言配置表!B975)","v":"打断对手当前正在生效中的法宝\n可以打断准备生效中的法宝，且避免己方法宝进入对拼状态，持续{0}秒\n每打断一次法宝，使禁元珠的冷却时间缩减{1}%，最多{2}次"}]
[{"$f":"IF(語言配置表!A976=\"\",\"\",語言配置表!A976)","v":973},{"$f":"IF(語言配置表!A976=\"\",\"CN_待填充内容\",語言配置表!B976)","v":"前方形成土系防御盾，抵挡相当于自身生命上限{0}%的伤害，持续{1}秒"}]
[{"$f":"IF(語言配置表!A977=\"\",\"\",語言配置表!A977)","v":974},{"$f":"IF(語言配置表!A977=\"\",\"CN_待填充内容\",語言配置表!B977)","v":"前方形成土系防御盾，抵挡相当于自身生命上限{0}%的伤害，持续{1}秒"}]
[{"$f":"IF(語言配置表!A978=\"\",\"\",語言配置表!A978)","v":975},{"$f":"IF(語言配置表!A978=\"\",\"CN_待填充内容\",語言配置表!B978)","v":"前方形成土系防御盾，抵挡相当于自身生命上限{0}%的伤害，持续{1}秒"}]
[{"$f":"IF(語言配置表!A979=\"\",\"\",語言配置表!A979)","v":976},{"$f":"IF(語言配置表!A979=\"\",\"CN_待填充内容\",語言配置表!B979)","v":"前方形成土系防御盾，抵挡相当于自身生命上限{0}%的伤害，持续{1}秒"}]
[{"$f":"IF(語言配置表!A980=\"\",\"\",語言配置表!A980)","v":977},{"$f":"IF(語言配置表!A980=\"\",\"CN_待填充内容\",語言配置表!B980)","v":"前方形成土系防御盾，抵挡相当于自身生命上限{0}%的伤害，持续{1}秒"}]
[{"$f":"IF(語言配置表!A981=\"\",\"\",語言配置表!A981)","v":978},{"$f":"IF(語言配置表!A981=\"\",\"CN_待填充内容\",語言配置表!B981)","v":"前方形成土系防御盾，抵挡相当于自身生命上限{0}%的伤害，持续{1}秒"}]
[{"$f":"IF(語言配置表!A982=\"\",\"\",語言配置表!A982)","v":979},{"$f":"IF(語言配置表!A982=\"\",\"CN_待填充内容\",語言配置表!B982)","v":"对敌人照成土属性伤害，并封锁敌人土系经络6秒"}]
[{"$f":"IF(語言配置表!A983=\"\",\"\",語言配置表!A983)","v":980},{"$f":"IF(語言配置表!A983=\"\",\"CN_待填充内容\",語言配置表!B983)","v":"对敌人照成土属性伤害，并封锁敌人土系经络6秒"}]
[{"$f":"IF(語言配置表!A984=\"\",\"\",語言配置表!A984)","v":981},{"$f":"IF(語言配置表!A984=\"\",\"CN_待填充内容\",語言配置表!B984)","v":"对敌人照成土属性伤害，并封锁敌人土系经络6秒"}]
[{"$f":"IF(語言配置表!A985=\"\",\"\",語言配置表!A985)","v":982},{"$f":"IF(語言配置表!A985=\"\",\"CN_待填充内容\",語言配置表!B985)","v":"对敌人照成土属性伤害，并封锁敌人土系经络6秒"}]
[{"$f":"IF(語言配置表!A986=\"\",\"\",語言配置表!A986)","v":983},{"$f":"IF(語言配置表!A986=\"\",\"CN_待填充内容\",語言配置表!B986)","v":"对敌人照成土属性伤害，并封锁敌人土系经络6秒"}]
[{"$f":"IF(語言配置表!A987=\"\",\"\",語言配置表!A987)","v":984},{"$f":"IF(語言配置表!A987=\"\",\"CN_待填充内容\",語言配置表!B987)","v":"对敌人照成土属性伤害，并封锁敌人土系经络6秒"}]
[{"$f":"IF(語言配置表!A988=\"\",\"\",語言配置表!A988)","v":985},{"$f":"IF(語言配置表!A988=\"\",\"CN_待填充内容\",語言配置表!B988)","v":"技能描述占位，勿占"}]
[{"$f":"IF(語言配置表!A989=\"\",\"\",語言配置表!A989)","v":986},{"$f":"IF(語言配置表!A989=\"\",\"CN_待填充内容\",語言配置表!B989)","v":"技能描述占位，勿占"}]
[{"$f":"IF(語言配置表!A990=\"\",\"\",語言配置表!A990)","v":987},{"$f":"IF(語言配置表!A990=\"\",\"CN_待填充内容\",語言配置表!B990)","v":"技能描述占位，勿占"}]
[{"$f":"IF(語言配置表!A991=\"\",\"\",語言配置表!A991)","v":988},{"$f":"IF(語言配置表!A991=\"\",\"CN_待填充内容\",語言配置表!B991)","v":"技能描述占位，勿占"}]
[{"$f":"IF(語言配置表!A992=\"\",\"\",語言配置表!A992)","v":989},{"$f":"IF(語言配置表!A992=\"\",\"CN_待填充内容\",語言配置表!B992)","v":"技能描述占位，勿占"}]
[{"$f":"IF(語言配置表!A993=\"\",\"\",語言配置表!A993)","v":990},{"$f":"IF(語言配置表!A993=\"\",\"CN_待填充内容\",語言配置表!B993)","v":"技能描述占位，勿占"}]
[{"$f":"IF(語言配置表!A994=\"\",\"\",語言配置表!A994)","v":991},{"$f":"IF(語言配置表!A994=\"\",\"CN_待填充内容\",語言配置表!B994)","v":"技能描述占位，勿占"}]
[{"$f":"IF(語言配置表!A995=\"\",\"\",語言配置表!A995)","v":992},{"$f":"IF(語言配置表!A995=\"\",\"CN_待填充内容\",語言配置表!B995)","v":"技能描述占位，勿占"}]
[{"$f":"IF(語言配置表!A996=\"\",\"\",語言配置表!A996)","v":993},{"$f":"IF(語言配置表!A996=\"\",\"CN_待填充内容\",語言配置表!B996)","v":"技能描述占位，勿占"}]
[{"$f":"IF(語言配置表!A997=\"\",\"\",語言配置表!A997)","v":994},{"$f":"IF(語言配置表!A997=\"\",\"CN_待填充内容\",語言配置表!B997)","v":"技能描述占位，勿占"}]
[{"$f":"IF(語言配置表!A998=\"\",\"\",語言配置表!A998)","v":995},{"$f":"IF(語言配置表!A998=\"\",\"CN_待填充内容\",語言配置表!B998)","v":"技能描述占位，勿占"}]
[{"$f":"IF(語言配置表!A999=\"\",\"\",語言配置表!A999)","v":996},{"$f":"IF(語言配置表!A999=\"\",\"CN_待填充内容\",語言配置表!B999)","v":"技能描述占位，勿占"}]
[{"$f":"IF(語言配置表!A1000=\"\",\"\",語言配置表!A1000)","v":997},{"$f":"IF(語言配置表!A1000=\"\",\"CN_待填充内容\",語言配置表!B1000)","v":"技能描述占位，勿占"}]
[{"$f":"IF(語言配置表!A1001=\"\",\"\",語言配置表!A1001)","v":998},{"$f":"IF(語言配置表!A1001=\"\",\"CN_待填充内容\",語言配置表!B1001)","v":"技能描述占位，勿占"}]
[{"$f":"IF(語言配置表!A1002=\"\",\"\",語言配置表!A1002)","v":999},{"$f":"IF(語言配置表!A1002=\"\",\"CN_待填充内容\",語言配置表!B1002)","v":"技能描述占位，勿占"}]
[{"$f":"IF(語言配置表!A1003=\"\",\"\",語言配置表!A1003)","v":1000},{"$f":"IF(語言配置表!A1003=\"\",\"CN_待填充内容\",語言配置表!B1003)","v":"技能描述占位，勿占"}]
[{"$f":"IF(語言配置表!A1004=\"\",\"\",語言配置表!A1004)","v":1001},{"$f":"IF(語言配置表!A1004=\"\",\"CN_待填充内容\",語言配置表!B1004)","v":"技能描述占位，勿占"}]
[{"$f":"IF(語言配置表!A1005=\"\",\"\",語言配置表!A1005)","v":1002},{"$f":"IF(語言配置表!A1005=\"\",\"CN_待填充内容\",語言配置表!B1005)","v":"技能描述占位，勿占"}]
[{"$f":"IF(語言配置表!A1006=\"\",\"\",語言配置表!A1006)","v":1003},{"$f":"IF(語言配置表!A1006=\"\",\"CN_待填充内容\",語言配置表!B1006)","v":"技能描述占位，勿占"}]
[{"$f":"IF(語言配置表!A1007=\"\",\"\",語言配置表!A1007)","v":1004},{"$f":"IF(語言配置表!A1007=\"\",\"CN_待填充内容\",語言配置表!B1007)","v":"技能描述占位，勿占"}]
[{"$f":"IF(語言配置表!A1008=\"\",\"\",語言配置表!A1008)","v":1005},{"$f":"IF(語言配置表!A1008=\"\",\"CN_待填充内容\",語言配置表!B1008)","v":"技能描述占位，勿占"}]
[{"$f":"IF(語言配置表!A1009=\"\",\"\",語言配置表!A1009)","v":1006},{"$f":"IF(語言配置表!A1009=\"\",\"CN_待填充内容\",語言配置表!B1009)","v":"技能描述占位，勿占"}]
[{"$f":"IF(語言配置表!A1010=\"\",\"\",語言配置表!A1010)","v":1007},{"$f":"IF(語言配置表!A1010=\"\",\"CN_待填充内容\",語言配置表!B1010)","v":"技能描述占位，勿占"}]
[{"$f":"IF(語言配置表!A1011=\"\",\"\",語言配置表!A1011)","v":1008},{"$f":"IF(語言配置表!A1011=\"\",\"CN_待填充内容\",語言配置表!B1011)","v":"技能描述占位，勿占"}]
[{"$f":"IF(語言配置表!A1012=\"\",\"\",語言配置表!A1012)","v":1009},{"$f":"IF(語言配置表!A1012=\"\",\"CN_待填充内容\",語言配置表!B1012)","v":"技能描述占位，勿占"}]
[{"$f":"IF(語言配置表!A1013=\"\",\"\",語言配置表!A1013)","v":1010},{"$f":"IF(語言配置表!A1013=\"\",\"CN_待填充内容\",語言配置表!B1013)","v":"技能描述占位，勿占"}]
[{"$f":"IF(語言配置表!A1014=\"\",\"\",語言配置表!A1014)","v":1011},{"$f":"IF(語言配置表!A1014=\"\",\"CN_待填充内容\",語言配置表!B1014)","v":"技能描述占位，勿占"}]
[{"$f":"IF(語言配置表!A1015=\"\",\"\",語言配置表!A1015)","v":1012},{"$f":"IF(語言配置表!A1015=\"\",\"CN_待填充内容\",語言配置表!B1015)","v":"技能描述占位，勿占"}]
[{"$f":"IF(語言配置表!A1016=\"\",\"\",語言配置表!A1016)","v":1013},{"$f":"IF(語言配置表!A1016=\"\",\"CN_待填充内容\",語言配置表!B1016)","v":"技能描述占位，勿占"}]
[{"$f":"IF(語言配置表!A1017=\"\",\"\",語言配置表!A1017)","v":1014},{"$f":"IF(語言配置表!A1017=\"\",\"CN_待填充内容\",語言配置表!B1017)","v":"技能描述占位，勿占"}]
[{"$f":"IF(語言配置表!A1018=\"\",\"\",語言配置表!A1018)","v":1015},{"$f":"IF(語言配置表!A1018=\"\",\"CN_待填充内容\",語言配置表!B1018)","v":"技能描述占位，勿占"}]
[{"$f":"IF(語言配置表!A1019=\"\",\"\",語言配置表!A1019)","v":1016},{"$f":"IF(語言配置表!A1019=\"\",\"CN_待填充内容\",語言配置表!B1019)","v":"技能描述占位，勿占"}]
[{"$f":"IF(語言配置表!A1020=\"\",\"\",語言配置表!A1020)","v":1017},{"$f":"IF(語言配置表!A1020=\"\",\"CN_待填充内容\",語言配置表!B1020)","v":"技能描述占位，勿占"}]
[{"$f":"IF(語言配置表!A1021=\"\",\"\",語言配置表!A1021)","v":1018},{"$f":"IF(語言配置表!A1021=\"\",\"CN_待填充内容\",語言配置表!B1021)","v":"技能描述占位，勿占"}]
[{"$f":"IF(語言配置表!A1022=\"\",\"\",語言配置表!A1022)","v":1019},{"$f":"IF(語言配置表!A1022=\"\",\"CN_待填充内容\",語言配置表!B1022)","v":"技能描述占位，勿占"}]
[{"$f":"IF(語言配置表!A1023=\"\",\"\",語言配置表!A1023)","v":1020},{"$f":"IF(語言配置表!A1023=\"\",\"CN_待填充内容\",語言配置表!B1023)","v":"技能描述占位，勿占"}]
[{"$f":"IF(語言配置表!A1024=\"\",\"\",語言配置表!A1024)","v":1021},{"$f":"IF(語言配置表!A1024=\"\",\"CN_待填充内容\",語言配置表!B1024)","v":"技能描述占位，勿占"}]
[{"$f":"IF(語言配置表!A1025=\"\",\"\",語言配置表!A1025)","v":1022},{"$f":"IF(語言配置表!A1025=\"\",\"CN_待填充内容\",語言配置表!B1025)","v":"技能描述占位，勿占"}]
[{"$f":"IF(語言配置表!A1026=\"\",\"\",語言配置表!A1026)","v":1023},{"$f":"IF(語言配置表!A1026=\"\",\"CN_待填充内容\",語言配置表!B1026)","v":"技能描述占位，勿占"}]
[{"$f":"IF(語言配置表!A1027=\"\",\"\",語言配置表!A1027)","v":1024},{"$f":"IF(語言配置表!A1027=\"\",\"CN_待填充内容\",語言配置表!B1027)","v":"技能描述占位，勿占"}]
[{"$f":"IF(語言配置表!A1028=\"\",\"\",語言配置表!A1028)","v":1025},{"$f":"IF(語言配置表!A1028=\"\",\"CN_待填充内容\",語言配置表!B1028)","v":"技能描述占位，勿占"}]
[{"$f":"IF(語言配置表!A1029=\"\",\"\",語言配置表!A1029)","v":1026},{"$f":"IF(語言配置表!A1029=\"\",\"CN_待填充内容\",語言配置表!B1029)","v":"技能描述占位，勿占"}]
[{"$f":"IF(語言配置表!A1030=\"\",\"\",語言配置表!A1030)","v":1027},{"$f":"IF(語言配置表!A1030=\"\",\"CN_待填充内容\",語言配置表!B1030)","v":"技能描述占位，勿占"}]
[{"$f":"IF(語言配置表!A1031=\"\",\"\",語言配置表!A1031)","v":1028},{"$f":"IF(語言配置表!A1031=\"\",\"CN_待填充内容\",語言配置表!B1031)","v":"技能描述占位，勿占"}]
[{"$f":"IF(語言配置表!A1032=\"\",\"\",語言配置表!A1032)","v":1029},{"$f":"IF(語言配置表!A1032=\"\",\"CN_待填充内容\",語言配置表!B1032)","v":"技能描述占位，勿占"}]
[{"$f":"IF(語言配置表!A1033=\"\",\"\",語言配置表!A1033)","v":1030},{"$f":"IF(語言配置表!A1033=\"\",\"CN_待填充内容\",語言配置表!B1033)","v":"技能描述占位，勿占"}]
[{"$f":"IF(語言配置表!A1034=\"\",\"\",語言配置表!A1034)","v":1031},{"$f":"IF(語言配置表!A1034=\"\",\"CN_待填充内容\",語言配置表!B1034)","v":"技能描述占位，勿占"}]
[{"$f":"IF(語言配置表!A1035=\"\",\"\",語言配置表!A1035)","v":1032},{"$f":"IF(語言配置表!A1035=\"\",\"CN_待填充内容\",語言配置表!B1035)","v":"技能描述占位，勿占"}]
[{"$f":"IF(語言配置表!A1036=\"\",\"\",語言配置表!A1036)","v":1033},{"$f":"IF(語言配置表!A1036=\"\",\"CN_待填充内容\",語言配置表!B1036)","v":"技能描述占位，勿占"}]
[{"$f":"IF(語言配置表!A1037=\"\",\"\",語言配置表!A1037)","v":1034},{"$f":"IF(語言配置表!A1037=\"\",\"CN_待填充内容\",語言配置表!B1037)","v":"技能描述占位，勿占"}]
[{"$f":"IF(語言配置表!A1038=\"\",\"\",語言配置表!A1038)","v":1035},{"$f":"IF(語言配置表!A1038=\"\",\"CN_待填充内容\",語言配置表!B1038)","v":"技能描述占位，勿占"}]
[{"$f":"IF(語言配置表!A1039=\"\",\"\",語言配置表!A1039)","v":1036},{"$f":"IF(語言配置表!A1039=\"\",\"CN_待填充内容\",語言配置表!B1039)","v":"技能描述占位，勿占"}]
[{"$f":"IF(語言配置表!A1040=\"\",\"\",語言配置表!A1040)","v":1037},{"$f":"IF(語言配置表!A1040=\"\",\"CN_待填充内容\",語言配置表!B1040)","v":"技能描述占位，勿占"}]
[{"$f":"IF(語言配置表!A1041=\"\",\"\",語言配置表!A1041)","v":1038},{"$f":"IF(語言配置表!A1041=\"\",\"CN_待填充内容\",語言配置表!B1041)","v":"技能描述占位，勿占"}]
[{"$f":"IF(語言配置表!A1042=\"\",\"\",語言配置表!A1042)","v":1039},{"$f":"IF(語言配置表!A1042=\"\",\"CN_待填充内容\",語言配置表!B1042)","v":"技能描述占位，勿占"}]
[{"$f":"IF(語言配置表!A1043=\"\",\"\",語言配置表!A1043)","v":1040},{"$f":"IF(語言配置表!A1043=\"\",\"CN_待填充内容\",語言配置表!B1043)","v":"技能描述占位，勿占"}]
[{"$f":"IF(語言配置表!A1044=\"\",\"\",語言配置表!A1044)","v":1041},{"$f":"IF(語言配置表!A1044=\"\",\"CN_待填充内容\",語言配置表!B1044)","v":"技能描述占位，勿占"}]
[{"$f":"IF(語言配置表!A1045=\"\",\"\",語言配置表!A1045)","v":1042},{"$f":"IF(語言配置表!A1045=\"\",\"CN_待填充内容\",語言配置表!B1045)","v":"技能描述占位，勿占"}]
[{"$f":"IF(語言配置表!A1046=\"\",\"\",語言配置表!A1046)","v":1043},{"$f":"IF(語言配置表!A1046=\"\",\"CN_待填充内容\",語言配置表!B1046)","v":"技能描述占位，勿占"}]
[{"$f":"IF(語言配置表!A1047=\"\",\"\",語言配置表!A1047)","v":1044},{"$f":"IF(語言配置表!A1047=\"\",\"CN_待填充内容\",語言配置表!B1047)","v":"技能描述占位，勿占"}]
[{"$f":"IF(語言配置表!A1048=\"\",\"\",語言配置表!A1048)","v":1045},{"$f":"IF(語言配置表!A1048=\"\",\"CN_待填充内容\",語言配置表!B1048)","v":"技能描述占位，勿占"}]
[{"$f":"IF(語言配置表!A1049=\"\",\"\",語言配置表!A1049)","v":1046},{"$f":"IF(語言配置表!A1049=\"\",\"CN_待填充内容\",語言配置表!B1049)","v":"技能描述占位，勿占"}]
[{"$f":"IF(語言配置表!A1050=\"\",\"\",語言配置表!A1050)","v":1047},{"$f":"IF(語言配置表!A1050=\"\",\"CN_待填充内容\",語言配置表!B1050)","v":"技能描述占位，勿占"}]
[{"$f":"IF(語言配置表!A1051=\"\",\"\",語言配置表!A1051)","v":1048},{"$f":"IF(語言配置表!A1051=\"\",\"CN_待填充内容\",語言配置表!B1051)","v":"技能描述占位，勿占"}]
[{"$f":"IF(語言配置表!A1052=\"\",\"\",語言配置表!A1052)","v":1049},{"$f":"IF(語言配置表!A1052=\"\",\"CN_待填充内容\",語言配置表!B1052)","v":"技能描述占位，勿占"}]
[{"$f":"IF(語言配置表!A1053=\"\",\"\",語言配置表!A1053)","v":1050},{"$f":"IF(語言配置表!A1053=\"\",\"CN_待填充内容\",語言配置表!B1053)","v":"技能描述占位，勿占"}]
[{"$f":"IF(語言配置表!A1054=\"\",\"\",語言配置表!A1054)","v":1051},{"$f":"IF(語言配置表!A1054=\"\",\"CN_待填充内容\",語言配置表!B1054)","v":"技能描述占位，勿占"}]
[{"$f":"IF(語言配置表!A1055=\"\",\"\",語言配置表!A1055)","v":1052},{"$f":"IF(語言配置表!A1055=\"\",\"CN_待填充内容\",語言配置表!B1055)","v":"技能描述占位，勿占"}]
[{"$f":"IF(語言配置表!A1056=\"\",\"\",語言配置表!A1056)","v":1053},{"$f":"IF(語言配置表!A1056=\"\",\"CN_待填充内容\",語言配置表!B1056)","v":"技能描述占位，勿占"}]
[{"$f":"IF(語言配置表!A1057=\"\",\"\",語言配置表!A1057)","v":1054},{"$f":"IF(語言配置表!A1057=\"\",\"CN_待填充内容\",語言配置表!B1057)","v":"技能描述占位，勿占"}]
[{"$f":"IF(語言配置表!A1058=\"\",\"\",語言配置表!A1058)","v":1055},{"$f":"IF(語言配置表!A1058=\"\",\"CN_待填充内容\",語言配置表!B1058)","v":"技能描述占位，勿占"}]
[{"$f":"IF(語言配置表!A1059=\"\",\"\",語言配置表!A1059)","v":1056},{"$f":"IF(語言配置表!A1059=\"\",\"CN_待填充内容\",語言配置表!B1059)","v":"技能描述占位，勿占"}]
[{"$f":"IF(語言配置表!A1060=\"\",\"\",語言配置表!A1060)","v":1057},{"$f":"IF(語言配置表!A1060=\"\",\"CN_待填充内容\",語言配置表!B1060)","v":"技能描述占位，勿占"}]
[{"$f":"IF(語言配置表!A1061=\"\",\"\",語言配置表!A1061)","v":1058},{"$f":"IF(語言配置表!A1061=\"\",\"CN_待填充内容\",語言配置表!B1061)","v":"技能描述占位，勿占"}]
[{"$f":"IF(語言配置表!A1062=\"\",\"\",語言配置表!A1062)","v":1059},{"$f":"IF(語言配置表!A1062=\"\",\"CN_待填充内容\",語言配置表!B1062)","v":"技能描述占位，勿占"}]
[{"$f":"IF(語言配置表!A1063=\"\",\"\",語言配置表!A1063)","v":1060},{"$f":"IF(語言配置表!A1063=\"\",\"CN_待填充内容\",語言配置表!B1063)","v":"技能描述占位，勿占"}]
[{"$f":"IF(語言配置表!A1064=\"\",\"\",語言配置表!A1064)","v":1061},{"$f":"IF(語言配置表!A1064=\"\",\"CN_待填充内容\",語言配置表!B1064)","v":"技能描述占位，勿占"}]
[{"$f":"IF(語言配置表!A1065=\"\",\"\",語言配置表!A1065)","v":1062},{"$f":"IF(語言配置表!A1065=\"\",\"CN_待填充内容\",語言配置表!B1065)","v":"技能描述占位，勿占"}]
[{"$f":"IF(語言配置表!A1066=\"\",\"\",語言配置表!A1066)","v":1063},{"$f":"IF(語言配置表!A1066=\"\",\"CN_待填充内容\",語言配置表!B1066)","v":"技能描述占位，勿占"}]
[{"$f":"IF(語言配置表!A1067=\"\",\"\",語言配置表!A1067)","v":1064},{"$f":"IF(語言配置表!A1067=\"\",\"CN_待填充内容\",語言配置表!B1067)","v":"技能描述占位，勿占"}]
[{"$f":"IF(語言配置表!A1068=\"\",\"\",語言配置表!A1068)","v":1065},{"$f":"IF(語言配置表!A1068=\"\",\"CN_待填充内容\",語言配置表!B1068)","v":"技能描述占位，勿占"}]
[{"$f":"IF(語言配置表!A1069=\"\",\"\",語言配置表!A1069)","v":1066},{"$f":"IF(語言配置表!A1069=\"\",\"CN_待填充内容\",語言配置表!B1069)","v":"技能描述占位，勿占"}]
[{"$f":"IF(語言配置表!A1070=\"\",\"\",語言配置表!A1070)","v":1067},{"$f":"IF(語言配置表!A1070=\"\",\"CN_待填充内容\",語言配置表!B1070)","v":"技能描述占位，勿占"}]
[{"$f":"IF(語言配置表!A1071=\"\",\"\",語言配置表!A1071)","v":1068},{"$f":"IF(語言配置表!A1071=\"\",\"CN_待填充内容\",語言配置表!B1071)","v":"技能描述占位，勿占"}]
[{"$f":"IF(語言配置表!A1072=\"\",\"\",語言配置表!A1072)","v":1069},{"$f":"IF(語言配置表!A1072=\"\",\"CN_待填充内容\",語言配置表!B1072)","v":"技能描述占位，勿占"}]
[{"$f":"IF(語言配置表!A1073=\"\",\"\",語言配置表!A1073)","v":1070},{"$f":"IF(語言配置表!A1073=\"\",\"CN_待填充内容\",語言配置表!B1073)","v":"技能描述占位，勿占"}]
[{"$f":"IF(語言配置表!A1074=\"\",\"\",語言配置表!A1074)","v":1071},{"$f":"IF(語言配置表!A1074=\"\",\"CN_待填充内容\",語言配置表!B1074)","v":"技能描述占位，勿占"}]
[{"$f":"IF(語言配置表!A1075=\"\",\"\",語言配置表!A1075)","v":1072},{"$f":"IF(語言配置表!A1075=\"\",\"CN_待填充内容\",語言配置表!B1075)","v":"技能描述占位，勿占"}]
[{"$f":"IF(語言配置表!A1076=\"\",\"\",語言配置表!A1076)","v":1073},{"$f":"IF(語言配置表!A1076=\"\",\"CN_待填充内容\",語言配置表!B1076)","v":"技能描述占位，勿占"}]
[{"$f":"IF(語言配置表!A1077=\"\",\"\",語言配置表!A1077)","v":1074},{"$f":"IF(語言配置表!A1077=\"\",\"CN_待填充内容\",語言配置表!B1077)","v":"技能描述占位，勿占"}]
[{"$f":"IF(語言配置表!A1078=\"\",\"\",語言配置表!A1078)","v":1075},{"$f":"IF(語言配置表!A1078=\"\",\"CN_待填充内容\",語言配置表!B1078)","v":"技能描述占位，勿占"}]
[{"$f":"IF(語言配置表!A1079=\"\",\"\",語言配置表!A1079)","v":1076},{"$f":"IF(語言配置表!A1079=\"\",\"CN_待填充内容\",語言配置表!B1079)","v":"技能描述占位，勿占"}]
[{"$f":"IF(語言配置表!A1080=\"\",\"\",語言配置表!A1080)","v":1077},{"$f":"IF(語言配置表!A1080=\"\",\"CN_待填充内容\",語言配置表!B1080)","v":"技能描述占位，勿占"}]
[{"$f":"IF(語言配置表!A1081=\"\",\"\",語言配置表!A1081)","v":1078},{"$f":"IF(語言配置表!A1081=\"\",\"CN_待填充内容\",語言配置表!B1081)","v":"技能描述占位，勿占"}]
[{"$f":"IF(語言配置表!A1082=\"\",\"\",語言配置表!A1082)","v":1079},{"$f":"IF(語言配置表!A1082=\"\",\"CN_待填充内容\",語言配置表!B1082)","v":"技能描述占位，勿占"}]
[{"$f":"IF(語言配置表!A1083=\"\",\"\",語言配置表!A1083)","v":1080},{"$f":"IF(語言配置表!A1083=\"\",\"CN_待填充内容\",語言配置表!B1083)","v":"技能描述占位，勿占"}]
[{"$f":"IF(語言配置表!A1084=\"\",\"\",語言配置表!A1084)","v":1081},{"$f":"IF(語言配置表!A1084=\"\",\"CN_待填充内容\",語言配置表!B1084)","v":"技能描述占位，勿占"}]
[{"$f":"IF(語言配置表!A1085=\"\",\"\",語言配置表!A1085)","v":1082},{"$f":"IF(語言配置表!A1085=\"\",\"CN_待填充内容\",語言配置表!B1085)","v":"技能描述占位，勿占"}]
[{"$f":"IF(語言配置表!A1086=\"\",\"\",語言配置表!A1086)","v":1083},{"$f":"IF(語言配置表!A1086=\"\",\"CN_待填充内容\",語言配置表!B1086)","v":"技能描述占位，勿占"}]
[{"$f":"IF(語言配置表!A1087=\"\",\"\",語言配置表!A1087)","v":1084},{"$f":"IF(語言配置表!A1087=\"\",\"CN_待填充内容\",語言配置表!B1087)","v":"技能描述占位，勿占"}]
[{"$f":"IF(語言配置表!A1088=\"\",\"\",語言配置表!A1088)","v":1085},{"$f":"IF(語言配置表!A1088=\"\",\"CN_待填充内容\",語言配置表!B1088)","v":"技能描述占位，勿占"}]
[{"$f":"IF(語言配置表!A1089=\"\",\"\",語言配置表!A1089)","v":1086},{"$f":"IF(語言配置表!A1089=\"\",\"CN_待填充内容\",語言配置表!B1089)","v":"技能描述占位，勿占"}]
[{"$f":"IF(語言配置表!A1090=\"\",\"\",語言配置表!A1090)","v":1087},{"$f":"IF(語言配置表!A1090=\"\",\"CN_待填充内容\",語言配置表!B1090)","v":"技能描述占位，勿占"}]
[{"$f":"IF(語言配置表!A1091=\"\",\"\",語言配置表!A1091)","v":1088},{"$f":"IF(語言配置表!A1091=\"\",\"CN_待填充内容\",語言配置表!B1091)","v":"技能描述占位，勿占"}]
[{"$f":"IF(語言配置表!A1092=\"\",\"\",語言配置表!A1092)","v":1089},{"$f":"IF(語言配置表!A1092=\"\",\"CN_待填充内容\",語言配置表!B1092)","v":"技能描述占位，勿占"}]
[{"$f":"IF(語言配置表!A1093=\"\",\"\",語言配置表!A1093)","v":1090},{"$f":"IF(語言配置表!A1093=\"\",\"CN_待填充内容\",語言配置表!B1093)","v":"技能描述占位，勿占"}]
[{"$f":"IF(語言配置表!A1094=\"\",\"\",語言配置表!A1094)","v":1091},{"$f":"IF(語言配置表!A1094=\"\",\"CN_待填充内容\",語言配置表!B1094)","v":"技能描述占位，勿占"}]
[{"$f":"IF(語言配置表!A1095=\"\",\"\",語言配置表!A1095)","v":1092},{"$f":"IF(語言配置表!A1095=\"\",\"CN_待填充内容\",語言配置表!B1095)","v":"技能描述占位，勿占"}]
[{"$f":"IF(語言配置表!A1096=\"\",\"\",語言配置表!A1096)","v":1093},{"$f":"IF(語言配置表!A1096=\"\",\"CN_待填充内容\",語言配置表!B1096)","v":"技能描述占位，勿占"}]
[{"$f":"IF(語言配置表!A1097=\"\",\"\",語言配置表!A1097)","v":1094},{"$f":"IF(語言配置表!A1097=\"\",\"CN_待填充内容\",語言配置表!B1097)","v":"技能描述占位，勿占"}]
[{"$f":"IF(語言配置表!A1098=\"\",\"\",語言配置表!A1098)","v":1095},{"$f":"IF(語言配置表!A1098=\"\",\"CN_待填充内容\",語言配置表!B1098)","v":"技能描述占位，勿占"}]
[{"$f":"IF(語言配置表!A1099=\"\",\"\",語言配置表!A1099)","v":1096},{"$f":"IF(語言配置表!A1099=\"\",\"CN_待填充内容\",語言配置表!B1099)","v":"技能描述占位，勿占"}]
[{"$f":"IF(語言配置表!A1100=\"\",\"\",語言配置表!A1100)","v":1097},{"$f":"IF(語言配置表!A1100=\"\",\"CN_待填充内容\",語言配置表!B1100)","v":"技能描述占位，勿占"}]
[{"$f":"IF(語言配置表!A1101=\"\",\"\",語言配置表!A1101)","v":1098},{"$f":"IF(語言配置表!A1101=\"\",\"CN_待填充内容\",語言配置表!B1101)","v":"技能描述占位，勿占"}]
[{"$f":"IF(語言配置表!A1102=\"\",\"\",語言配置表!A1102)","v":1099},{"$f":"IF(語言配置表!A1102=\"\",\"CN_待填充内容\",語言配置表!B1102)","v":"技能描述占位，勿占"}]
[{"$f":"IF(語言配置表!A1103=\"\",\"\",語言配置表!A1103)","v":1100},{"$f":"IF(語言配置表!A1103=\"\",\"CN_待填充内容\",語言配置表!B1103)","v":"飞剑数量+2"}]
[{"$f":"IF(語言配置表!A1104=\"\",\"\",語言配置表!A1104)","v":1101},{"$f":"IF(語言配置表!A1104=\"\",\"CN_待填充内容\",語言配置表!B1104)","v":"生命+10%"}]
[{"$f":"IF(語言配置表!A1105=\"\",\"\",語言配置表!A1105)","v":1102},{"$f":"IF(語言配置表!A1105=\"\",\"CN_待填充内容\",語言配置表!B1105)","v":"飞剑数量+1，对带减益的敌人增伤"}]
[{"$f":"IF(語言配置表!A1106=\"\",\"\",語言配置表!A1106)","v":1103},{"$f":"IF(語言配置表!A1106=\"\",\"CN_待填充内容\",語言配置表!B1106)","v":"生命+10%"}]
[{"$f":"IF(語言配置表!A1107=\"\",\"\",語言配置表!A1107)","v":1104},{"$f":"IF(語言配置表!A1107=\"\",\"CN_待填充内容\",語言配置表!B1107)","v":"发射伤害更高的幻剑"}]
[{"$f":"IF(語言配置表!A1108=\"\",\"\",語言配置表!A1108)","v":1105},{"$f":"IF(語言配置表!A1108=\"\",\"CN_待填充内容\",語言配置表!B1108)","v":"对流血或放血敌人增伤"}]
[{"$f":"IF(語言配置表!A1109=\"\",\"\",語言配置表!A1109)","v":1106},{"$f":"IF(語言配置表!A1109=\"\",\"CN_待填充内容\",語言配置表!B1109)","v":"攻击+10%"}]
[{"$f":"IF(語言配置表!A1110=\"\",\"\",語言配置表!A1110)","v":1107},{"$f":"IF(語言配置表!A1110=\"\",\"CN_待填充内容\",語言配置表!B1110)","v":"无条件放血"}]
[{"$f":"IF(語言配置表!A1111=\"\",\"\",語言配置表!A1111)","v":1108},{"$f":"IF(語言配置表!A1111=\"\",\"CN_待填充内容\",語言配置表!B1111)","v":"攻击+10%"}]
[{"$f":"IF(語言配置表!A1112=\"\",\"\",語言配置表!A1112)","v":1109},{"$f":"IF(語言配置表!A1112=\"\",\"CN_待填充内容\",語言配置表!B1112)","v":"对拼强度和伤害提升"}]
[{"$f":"IF(語言配置表!A1113=\"\",\"\",語言配置表!A1113)","v":1110},{"$f":"IF(語言配置表!A1113=\"\",\"CN_待填充内容\",語言配置表!B1113)","v":"刀气命中回血"}]
[{"$f":"IF(語言配置表!A1114=\"\",\"\",語言配置表!A1114)","v":1111},{"$f":"IF(語言配置表!A1114=\"\",\"CN_待填充内容\",語言配置表!B1114)","v":"防御+10%"}]
[{"$f":"IF(語言配置表!A1115=\"\",\"\",語言配置表!A1115)","v":1112},{"$f":"IF(語言配置表!A1115=\"\",\"CN_待填充内容\",語言配置表!B1115)","v":"刀气+2"}]
[{"$f":"IF(語言配置表!A1116=\"\",\"\",語言配置表!A1116)","v":1113},{"$f":"IF(語言配置表!A1116=\"\",\"CN_待填充内容\",語言配置表!B1116)","v":"防御+10%"}]
[{"$f":"IF(語言配置表!A1117=\"\",\"\",語言配置表!A1117)","v":1114},{"$f":"IF(語言配置表!A1117=\"\",\"CN_待填充内容\",語言配置表!B1117)","v":"对流血目标增伤，再次放血"}]
[{"$f":"IF(語言配置表!A1118=\"\",\"\",語言配置表!A1118)","v":1115},{"$f":"IF(語言配置表!A1118=\"\",\"CN_待填充内容\",語言配置表!B1118)","v":"攻击+5%"}]
[{"$f":"IF(語言配置表!A1119=\"\",\"\",語言配置表!A1119)","v":1116},{"$f":"IF(語言配置表!A1119=\"\",\"CN_待填充内容\",語言配置表!B1119)","v":"飞刀数量+2"}]
[{"$f":"IF(語言配置表!A1120=\"\",\"\",語言配置表!A1120)","v":1117},{"$f":"IF(語言配置表!A1120=\"\",\"CN_待填充内容\",語言配置表!B1120)","v":"攻击+5%"}]
[{"$f":"IF(語言配置表!A1121=\"\",\"\",語言配置表!A1121)","v":1118},{"$f":"IF(語言配置表!A1121=\"\",\"CN_待填充内容\",語言配置表!B1121)","v":"飞刀数量+2"}]
[{"$f":"IF(語言配置表!A1122=\"\",\"\",語言配置表!A1122)","v":1119},{"$f":"IF(語言配置表!A1122=\"\",\"CN_待填充内容\",語言配置表!B1122)","v":"攻击+5%"}]
[{"$f":"IF(語言配置表!A1123=\"\",\"\",語言配置表!A1123)","v":1120},{"$f":"IF(語言配置表!A1123=\"\",\"CN_待填充内容\",語言配置表!B1123)","v":"防御+5%"}]
[{"$f":"IF(語言配置表!A1124=\"\",\"\",語言配置表!A1124)","v":1121},{"$f":"IF(語言配置表!A1124=\"\",\"CN_待填充内容\",語言配置表!B1124)","v":"金针数量+1"}]
[{"$f":"IF(語言配置表!A1125=\"\",\"\",語言配置表!A1125)","v":1122},{"$f":"IF(語言配置表!A1125=\"\",\"CN_待填充内容\",語言配置表!B1125)","v":"防御+5%"}]
[{"$f":"IF(語言配置表!A1126=\"\",\"\",語言配置表!A1126)","v":1123},{"$f":"IF(語言配置表!A1126=\"\",\"CN_待填充内容\",語言配置表!B1126)","v":"金针数量+1"}]
[{"$f":"IF(語言配置表!A1127=\"\",\"\",語言配置表!A1127)","v":1124},{"$f":"IF(語言配置表!A1127=\"\",\"CN_待填充内容\",語言配置表!B1127)","v":"防御+5%"}]
[{"$f":"IF(語言配置表!A1128=\"\",\"\",語言配置表!A1128)","v":1125},{"$f":"IF(語言配置表!A1128=\"\",\"CN_待填充内容\",語言配置表!B1128)","v":"冰锥数量+1"}]
[{"$f":"IF(語言配置表!A1129=\"\",\"\",語言配置表!A1129)","v":1126},{"$f":"IF(語言配置表!A1129=\"\",\"CN_待填充内容\",語言配置表!B1129)","v":"生命+10%"}]
[{"$f":"IF(語言配置表!A1130=\"\",\"\",語言配置表!A1130)","v":1127},{"$f":"IF(語言配置表!A1130=\"\",\"CN_待填充内容\",語言配置表!B1130)","v":"冰锥数量+1"}]
[{"$f":"IF(語言配置表!A1131=\"\",\"\",語言配置表!A1131)","v":1128},{"$f":"IF(語言配置表!A1131=\"\",\"CN_待填充内容\",語言配置表!B1131)","v":"生命+10%"}]
[{"$f":"IF(語言配置表!A1132=\"\",\"\",語言配置表!A1132)","v":1129},{"$f":"IF(語言配置表!A1132=\"\",\"CN_待填充内容\",語言配置表!B1132)","v":"冰锥数量+1"}]
[{"$f":"IF(語言配置表!A1133=\"\",\"\",語言配置表!A1133)","v":1130},{"$f":"IF(語言配置表!A1133=\"\",\"CN_待填充内容\",語言配置表!B1133)","v":"冰球数量+1"}]
[{"$f":"IF(語言配置表!A1134=\"\",\"\",語言配置表!A1134)","v":1131},{"$f":"IF(語言配置表!A1134=\"\",\"CN_待填充内容\",語言配置表!B1134)","v":"防御+10%"}]
[{"$f":"IF(語言配置表!A1135=\"\",\"\",語言配置表!A1135)","v":1132},{"$f":"IF(語言配置表!A1135=\"\",\"CN_待填充内容\",語言配置表!B1135)","v":"冰球数量+1"}]
[{"$f":"IF(語言配置表!A1136=\"\",\"\",語言配置表!A1136)","v":1133},{"$f":"IF(語言配置表!A1136=\"\",\"CN_待填充内容\",語言配置表!B1136)","v":"防御+10%"}]
[{"$f":"IF(語言配置表!A1137=\"\",\"\",語言配置表!A1137)","v":1134},{"$f":"IF(語言配置表!A1137=\"\",\"CN_待填充内容\",語言配置表!B1137)","v":"冰球数量+1"}]
[{"$f":"IF(語言配置表!A1138=\"\",\"\",語言配置表!A1138)","v":1135},{"$f":"IF(語言配置表!A1138=\"\",\"CN_待填充内容\",語言配置表!B1138)","v":"冰球数量+1"}]
[{"$f":"IF(語言配置表!A1139=\"\",\"\",語言配置表!A1139)","v":1136},{"$f":"IF(語言配置表!A1139=\"\",\"CN_待填充内容\",語言配置表!B1139)","v":"攻击+10%"}]
[{"$f":"IF(語言配置表!A1140=\"\",\"\",語言配置表!A1140)","v":1137},{"$f":"IF(語言配置表!A1140=\"\",\"CN_待填充内容\",語言配置表!B1140)","v":"冰球数量+1"}]
[{"$f":"IF(語言配置表!A1141=\"\",\"\",語言配置表!A1141)","v":1138},{"$f":"IF(語言配置表!A1141=\"\",\"CN_待填充内容\",語言配置表!B1141)","v":"攻击+10%"}]
[{"$f":"IF(語言配置表!A1142=\"\",\"\",語言配置表!A1142)","v":1139},{"$f":"IF(語言配置表!A1142=\"\",\"CN_待填充内容\",語言配置表!B1142)","v":"冰球数量+1"}]
[{"$f":"IF(語言配置表!A1143=\"\",\"\",語言配置表!A1143)","v":1140},{"$f":"IF(語言配置表!A1143=\"\",\"CN_待填充内容\",語言配置表!B1143)","v":"攻击+5%"}]
[{"$f":"IF(語言配置表!A1144=\"\",\"\",語言配置表!A1144)","v":1141},{"$f":"IF(語言配置表!A1144=\"\",\"CN_待填充内容\",語言配置表!B1144)","v":"水波数量+1"}]
[{"$f":"IF(語言配置表!A1145=\"\",\"\",語言配置表!A1145)","v":1142},{"$f":"IF(語言配置表!A1145=\"\",\"CN_待填充内容\",語言配置表!B1145)","v":"攻击+10%"}]
[{"$f":"IF(語言配置表!A1146=\"\",\"\",語言配置表!A1146)","v":1143},{"$f":"IF(語言配置表!A1146=\"\",\"CN_待填充内容\",語言配置表!B1146)","v":"水波数量+1"}]
[{"$f":"IF(語言配置表!A1147=\"\",\"\",語言配置表!A1147)","v":1144},{"$f":"IF(語言配置表!A1147=\"\",\"CN_待填充内容\",語言配置表!B1147)","v":"攻击+15%"}]
[{"$f":"IF(語言配置表!A1148=\"\",\"\",語言配置表!A1148)","v":1145},{"$f":"IF(語言配置表!A1148=\"\",\"CN_待填充内容\",語言配置表!B1148)","v":"防御+5%"}]
[{"$f":"IF(語言配置表!A1149=\"\",\"\",語言配置表!A1149)","v":1146},{"$f":"IF(語言配置表!A1149=\"\",\"CN_待填充内容\",語言配置表!B1149)","v":"冰刀数量+2"}]
[{"$f":"IF(語言配置表!A1150=\"\",\"\",語言配置表!A1150)","v":1147},{"$f":"IF(語言配置表!A1150=\"\",\"CN_待填充内容\",語言配置表!B1150)","v":"防御+5%"}]
[{"$f":"IF(語言配置表!A1151=\"\",\"\",語言配置表!A1151)","v":1148},{"$f":"IF(語言配置表!A1151=\"\",\"CN_待填充内容\",語言配置表!B1151)","v":"冰刀数量+2"}]
[{"$f":"IF(語言配置表!A1152=\"\",\"\",語言配置表!A1152)","v":1149},{"$f":"IF(語言配置表!A1152=\"\",\"CN_待填充内容\",語言配置表!B1152)","v":"防御+5%"}]
[{"$f":"IF(語言配置表!A1153=\"\",\"\",語言配置表!A1153)","v":1150},{"$f":"IF(語言配置表!A1153=\"\",\"CN_待填充内容\",語言配置表!B1153)","v":"毒针数量+1"}]
[{"$f":"IF(語言配置表!A1154=\"\",\"\",語言配置表!A1154)","v":1151},{"$f":"IF(語言配置表!A1154=\"\",\"CN_待填充内容\",語言配置表!B1154)","v":"生命+10%"}]
[{"$f":"IF(語言配置表!A1155=\"\",\"\",語言配置表!A1155)","v":1152},{"$f":"IF(語言配置表!A1155=\"\",\"CN_待填充内容\",語言配置表!B1155)","v":"毒针数量+1"}]
[{"$f":"IF(語言配置表!A1156=\"\",\"\",語言配置表!A1156)","v":1153},{"$f":"IF(語言配置表!A1156=\"\",\"CN_待填充内容\",語言配置表!B1156)","v":"生命+10%"}]
[{"$f":"IF(語言配置表!A1157=\"\",\"\",語言配置表!A1157)","v":1154},{"$f":"IF(語言配置表!A1157=\"\",\"CN_待填充内容\",語言配置表!B1157)","v":"毒针数量+1"}]
[{"$f":"IF(語言配置表!A1158=\"\",\"\",語言配置表!A1158)","v":1155},{"$f":"IF(語言配置表!A1158=\"\",\"CN_待填充内容\",語言配置表!B1158)","v":"手掌数量+1"}]
[{"$f":"IF(語言配置表!A1159=\"\",\"\",語言配置表!A1159)","v":1156},{"$f":"IF(語言配置表!A1159=\"\",\"CN_待填充内容\",語言配置表!B1159)","v":"防御+10%"}]
[{"$f":"IF(語言配置表!A1160=\"\",\"\",語言配置表!A1160)","v":1157},{"$f":"IF(語言配置表!A1160=\"\",\"CN_待填充内容\",語言配置表!B1160)","v":"手掌数量+1"}]
[{"$f":"IF(語言配置表!A1161=\"\",\"\",語言配置表!A1161)","v":1158},{"$f":"IF(語言配置表!A1161=\"\",\"CN_待填充内容\",語言配置表!B1161)","v":"防御+10%"}]
[{"$f":"IF(語言配置表!A1162=\"\",\"\",語言配置表!A1162)","v":1159},{"$f":"IF(語言配置表!A1162=\"\",\"CN_待填充内容\",語言配置表!B1162)","v":"手掌数量+1"}]
[{"$f":"IF(語言配置表!A1163=\"\",\"\",語言配置表!A1163)","v":1160},{"$f":"IF(語言配置表!A1163=\"\",\"CN_待填充内容\",語言配置表!B1163)","v":"手掌数量+1"}]
[{"$f":"IF(語言配置表!A1164=\"\",\"\",語言配置表!A1164)","v":1161},{"$f":"IF(語言配置表!A1164=\"\",\"CN_待填充内容\",語言配置表!B1164)","v":"攻击+10%"}]
[{"$f":"IF(語言配置表!A1165=\"\",\"\",語言配置表!A1165)","v":1162},{"$f":"IF(語言配置表!A1165=\"\",\"CN_待填充内容\",語言配置表!B1165)","v":"手掌数量+2"}]
[{"$f":"IF(語言配置表!A1166=\"\",\"\",語言配置表!A1166)","v":1163},{"$f":"IF(語言配置表!A1166=\"\",\"CN_待填充内容\",語言配置表!B1166)","v":"攻击+10%"}]
[{"$f":"IF(語言配置表!A1167=\"\",\"\",語言配置表!A1167)","v":1164},{"$f":"IF(語言配置表!A1167=\"\",\"CN_待填充内容\",語言配置表!B1167)","v":"手掌数量+3"}]
[{"$f":"IF(語言配置表!A1168=\"\",\"\",語言配置表!A1168)","v":1165},{"$f":"IF(語言配置表!A1168=\"\",\"CN_待填充内容\",語言配置表!B1168)","v":"生命+5%"}]
[{"$f":"IF(語言配置表!A1169=\"\",\"\",語言配置表!A1169)","v":1166},{"$f":"IF(語言配置表!A1169=\"\",\"CN_待填充内容\",語言配置表!B1169)","v":"竹刺数量+2"}]
[{"$f":"IF(語言配置表!A1170=\"\",\"\",語言配置表!A1170)","v":1167},{"$f":"IF(語言配置表!A1170=\"\",\"CN_待填充内容\",語言配置表!B1170)","v":"生命+5%"}]
[{"$f":"IF(語言配置表!A1171=\"\",\"\",語言配置表!A1171)","v":1168},{"$f":"IF(語言配置表!A1171=\"\",\"CN_待填充内容\",語言配置表!B1171)","v":"竹刺数量+2"}]
[{"$f":"IF(語言配置表!A1172=\"\",\"\",語言配置表!A1172)","v":1169},{"$f":"IF(語言配置表!A1172=\"\",\"CN_待填充内容\",語言配置表!B1172)","v":"生命+5%"}]
[{"$f":"IF(語言配置表!A1173=\"\",\"\",語言配置表!A1173)","v":1170},{"$f":"IF(語言配置表!A1173=\"\",\"CN_待填充内容\",語言配置表!B1173)","v":"攻击+5%"}]
[{"$f":"IF(語言配置表!A1174=\"\",\"\",語言配置表!A1174)","v":1171},{"$f":"IF(語言配置表!A1174=\"\",\"CN_待填充内容\",語言配置表!B1174)","v":"飞叶数量+3"}]
[{"$f":"IF(語言配置表!A1175=\"\",\"\",語言配置表!A1175)","v":1172},{"$f":"IF(語言配置表!A1175=\"\",\"CN_待填充内容\",語言配置表!B1175)","v":"攻击+5%"}]
[{"$f":"IF(語言配置表!A1176=\"\",\"\",語言配置表!A1176)","v":1173},{"$f":"IF(語言配置表!A1176=\"\",\"CN_待填充内容\",語言配置表!B1176)","v":"飞叶数量+3"}]
[{"$f":"IF(語言配置表!A1177=\"\",\"\",語言配置表!A1177)","v":1174},{"$f":"IF(語言配置表!A1177=\"\",\"CN_待填充内容\",語言配置表!B1177)","v":"攻击+5%"}]
[{"$f":"IF(語言配置表!A1178=\"\",\"\",語言配置表!A1178)","v":1175},{"$f":"IF(語言配置表!A1178=\"\",\"CN_待填充内容\",語言配置表!B1178)","v":"剑柄数量+2"}]
[{"$f":"IF(語言配置表!A1179=\"\",\"\",語言配置表!A1179)","v":1176},{"$f":"IF(語言配置表!A1179=\"\",\"CN_待填充内容\",語言配置表!B1179)","v":"生命+10%"}]
[{"$f":"IF(語言配置表!A1180=\"\",\"\",語言配置表!A1180)","v":1177},{"$f":"IF(語言配置表!A1180=\"\",\"CN_待填充内容\",語言配置表!B1180)","v":"剑柄数量+4"}]
[{"$f":"IF(語言配置表!A1181=\"\",\"\",語言配置表!A1181)","v":1178},{"$f":"IF(語言配置表!A1181=\"\",\"CN_待填充内容\",語言配置表!B1181)","v":"生命+10%"}]
[{"$f":"IF(語言配置表!A1182=\"\",\"\",語言配置表!A1182)","v":1179},{"$f":"IF(語言配置表!A1182=\"\",\"CN_待填充内容\",語言配置表!B1182)","v":"额外造成爆燃伤害"}]
[{"$f":"IF(語言配置表!A1183=\"\",\"\",語言配置表!A1183)","v":1180},{"$f":"IF(語言配置表!A1183=\"\",\"CN_待填充内容\",語言配置表!B1183)","v":"眩晕处于灼烧中的敌人"}]
[{"$f":"IF(語言配置表!A1184=\"\",\"\",語言配置表!A1184)","v":1181},{"$f":"IF(語言配置表!A1184=\"\",\"CN_待填充内容\",語言配置表!B1184)","v":"攻击+10%"}]
[{"$f":"IF(語言配置表!A1185=\"\",\"\",語言配置表!A1185)","v":1182},{"$f":"IF(語言配置表!A1185=\"\",\"CN_待填充内容\",語言配置表!B1185)","v":"飞龙数量+1，额外造成灼烧"}]
[{"$f":"IF(語言配置表!A1186=\"\",\"\",語言配置表!A1186)","v":1183},{"$f":"IF(語言配置表!A1186=\"\",\"CN_待填充内容\",語言配置表!B1186)","v":"攻击+10%"}]
[{"$f":"IF(語言配置表!A1187=\"\",\"\",語言配置表!A1187)","v":1184},{"$f":"IF(語言配置表!A1187=\"\",\"CN_待填充内容\",語言配置表!B1187)","v":"额外引发天雷伤害"}]
[{"$f":"IF(語言配置表!A1188=\"\",\"\",語言配置表!A1188)","v":1185},{"$f":"IF(語言配置表!A1188=\"\",\"CN_待填充内容\",語言配置表!B1188)","v":"对灼烧的敌人额外增伤"}]
[{"$f":"IF(語言配置表!A1189=\"\",\"\",語言配置表!A1189)","v":1186},{"$f":"IF(語言配置表!A1189=\"\",\"CN_待填充内容\",語言配置表!B1189)","v":"防御+10%"}]
[{"$f":"IF(語言配置表!A1190=\"\",\"\",語言配置表!A1190)","v":1187},{"$f":"IF(語言配置表!A1190=\"\",\"CN_待填充内容\",語言配置表!B1190)","v":"烈焰伤害提升"}]
[{"$f":"IF(語言配置表!A1191=\"\",\"\",語言配置表!A1191)","v":1188},{"$f":"IF(語言配置表!A1191=\"\",\"CN_待填充内容\",語言配置表!B1191)","v":"防御+10%"}]
[{"$f":"IF(語言配置表!A1192=\"\",\"\",語言配置表!A1192)","v":1189},{"$f":"IF(語言配置表!A1192=\"\",\"CN_待填充内容\",語言配置表!B1192)","v":"出现2只大手但单发伤害降低"}]
[{"$f":"IF(語言配置表!A1193=\"\",\"\",語言配置表!A1193)","v":1190},{"$f":"IF(語言配置表!A1193=\"\",\"CN_待填充内容\",語言配置表!B1193)","v":"防御+5%"}]
[{"$f":"IF(語言配置表!A1194=\"\",\"\",語言配置表!A1194)","v":1191},{"$f":"IF(語言配置表!A1194=\"\",\"CN_待填充内容\",語言配置表!B1194)","v":"火球数量+1"}]
[{"$f":"IF(語言配置表!A1195=\"\",\"\",語言配置表!A1195)","v":1192},{"$f":"IF(語言配置表!A1195=\"\",\"CN_待填充内容\",語言配置表!B1195)","v":"防御+5%"}]
[{"$f":"IF(語言配置表!A1196=\"\",\"\",語言配置表!A1196)","v":1193},{"$f":"IF(語言配置表!A1196=\"\",\"CN_待填充内容\",語言配置表!B1196)","v":"火球数量+2"}]
[{"$f":"IF(語言配置表!A1197=\"\",\"\",語言配置表!A1197)","v":1194},{"$f":"IF(語言配置表!A1197=\"\",\"CN_待填充内容\",語言配置表!B1197)","v":"防御+5%"}]
[{"$f":"IF(語言配置表!A1198=\"\",\"\",語言配置表!A1198)","v":1195},{"$f":"IF(語言配置表!A1198=\"\",\"CN_待填充内容\",語言配置表!B1198)","v":"生命+5%"}]
[{"$f":"IF(語言配置表!A1199=\"\",\"\",語言配置表!A1199)","v":1196},{"$f":"IF(語言配置表!A1199=\"\",\"CN_待填充内容\",語言配置表!B1199)","v":"火刃数量+2"}]
[{"$f":"IF(語言配置表!A1200=\"\",\"\",語言配置表!A1200)","v":1197},{"$f":"IF(語言配置表!A1200=\"\",\"CN_待填充内容\",語言配置表!B1200)","v":"生命+5%"}]
[{"$f":"IF(語言配置表!A1201=\"\",\"\",語言配置表!A1201)","v":1198},{"$f":"IF(語言配置表!A1201=\"\",\"CN_待填充内容\",語言配置表!B1201)","v":"火刃数量+2"}]
[{"$f":"IF(語言配置表!A1202=\"\",\"\",語言配置表!A1202)","v":1199},{"$f":"IF(語言配置表!A1202=\"\",\"CN_待填充内容\",語言配置表!B1202)","v":"生命+5%"}]
[{"$f":"IF(語言配置表!A1203=\"\",\"\",語言配置表!A1203)","v":1200},{"$f":"IF(語言配置表!A1203=\"\",\"CN_待填充内容\",語言配置表!B1203)","v":"土刺数量+2"}]
[{"$f":"IF(語言配置表!A1204=\"\",\"\",語言配置表!A1204)","v":1201},{"$f":"IF(語言配置表!A1204=\"\",\"CN_待填充内容\",語言配置表!B1204)","v":"生命+10%"}]
[{"$f":"IF(語言配置表!A1205=\"\",\"\",語言配置表!A1205)","v":1202},{"$f":"IF(語言配置表!A1205=\"\",\"CN_待填充内容\",語言配置表!B1205)","v":"土刺数量+2"}]
[{"$f":"IF(語言配置表!A1206=\"\",\"\",語言配置表!A1206)","v":1203},{"$f":"IF(語言配置表!A1206=\"\",\"CN_待填充内容\",語言配置表!B1206)","v":"生命+10%"}]
[{"$f":"IF(語言配置表!A1207=\"\",\"\",語言配置表!A1207)","v":1204},{"$f":"IF(語言配置表!A1207=\"\",\"CN_待填充内容\",語言配置表!B1207)","v":"土刺数量+2"}]
[{"$f":"IF(語言配置表!A1208=\"\",\"\",語言配置表!A1208)","v":1205},{"$f":"IF(語言配置表!A1208=\"\",\"CN_待填充内容\",語言配置表!B1208)","v":"刀气数量+1"}]
[{"$f":"IF(語言配置表!A1209=\"\",\"\",語言配置表!A1209)","v":1206},{"$f":"IF(語言配置表!A1209=\"\",\"CN_待填充内容\",語言配置表!B1209)","v":"攻击+10%"}]
[{"$f":"IF(語言配置表!A1210=\"\",\"\",語言配置表!A1210)","v":1207},{"$f":"IF(語言配置表!A1210=\"\",\"CN_待填充内容\",語言配置表!B1210)","v":"刀气数量+1"}]
[{"$f":"IF(語言配置表!A1211=\"\",\"\",語言配置表!A1211)","v":1208},{"$f":"IF(語言配置表!A1211=\"\",\"CN_待填充内容\",語言配置表!B1211)","v":"攻击+10%"}]
[{"$f":"IF(語言配置表!A1212=\"\",\"\",語言配置表!A1212)","v":1209},{"$f":"IF(語言配置表!A1212=\"\",\"CN_待填充内容\",語言配置表!B1212)","v":"刀气数量+1"}]
[{"$f":"IF(語言配置表!A1213=\"\",\"\",語言配置表!A1213)","v":1210},{"$f":"IF(語言配置表!A1213=\"\",\"CN_待填充内容\",語言配置表!B1213)","v":"刀气数量+1"}]
[{"$f":"IF(語言配置表!A1214=\"\",\"\",語言配置表!A1214)","v":1211},{"$f":"IF(語言配置表!A1214=\"\",\"CN_待填充内容\",語言配置表!B1214)","v":"防御+10%"}]
[{"$f":"IF(語言配置表!A1215=\"\",\"\",語言配置表!A1215)","v":1212},{"$f":"IF(語言配置表!A1215=\"\",\"CN_待填充内容\",語言配置表!B1215)","v":"刀气数量+2"}]
[{"$f":"IF(語言配置表!A1216=\"\",\"\",語言配置表!A1216)","v":1213},{"$f":"IF(語言配置表!A1216=\"\",\"CN_待填充内容\",語言配置表!B1216)","v":"防御+10%"}]
[{"$f":"IF(語言配置表!A1217=\"\",\"\",語言配置表!A1217)","v":1214},{"$f":"IF(語言配置表!A1217=\"\",\"CN_待填充内容\",語言配置表!B1217)","v":"刀气数量+3"}]
[{"$f":"IF(語言配置表!A1218=\"\",\"\",語言配置表!A1218)","v":1215},{"$f":"IF(語言配置表!A1218=\"\",\"CN_待填充内容\",語言配置表!B1218)","v":"攻击+5%"}]
[{"$f":"IF(語言配置表!A1219=\"\",\"\",語言配置表!A1219)","v":1216},{"$f":"IF(語言配置表!A1219=\"\",\"CN_待填充内容\",語言配置表!B1219)","v":"落石数量+1"}]
[{"$f":"IF(語言配置表!A1220=\"\",\"\",語言配置表!A1220)","v":1217},{"$f":"IF(語言配置表!A1220=\"\",\"CN_待填充内容\",語言配置表!B1220)","v":"攻击+5%"}]
[{"$f":"IF(語言配置表!A1221=\"\",\"\",語言配置表!A1221)","v":1218},{"$f":"IF(語言配置表!A1221=\"\",\"CN_待填充内容\",語言配置表!B1221)","v":"落石数量+1"}]
[{"$f":"IF(語言配置表!A1222=\"\",\"\",語言配置表!A1222)","v":1219},{"$f":"IF(語言配置表!A1222=\"\",\"CN_待填充内容\",語言配置表!B1222)","v":"攻击+5%"}]
[{"$f":"IF(語言配置表!A1223=\"\",\"\",語言配置表!A1223)","v":1220},{"$f":"IF(語言配置表!A1223=\"\",\"CN_待填充内容\",語言配置表!B1223)","v":"生命+5%"}]
[{"$f":"IF(語言配置表!A1224=\"\",\"\",語言配置表!A1224)","v":1221},{"$f":"IF(語言配置表!A1224=\"\",\"CN_待填充内容\",語言配置表!B1224)","v":"小石头数量+3"}]
[{"$f":"IF(語言配置表!A1225=\"\",\"\",語言配置表!A1225)","v":1222},{"$f":"IF(語言配置表!A1225=\"\",\"CN_待填充内容\",語言配置表!B1225)","v":"生命+5%"}]
[{"$f":"IF(語言配置表!A1226=\"\",\"\",語言配置表!A1226)","v":1223},{"$f":"IF(語言配置表!A1226=\"\",\"CN_待填充内容\",語言配置表!B1226)","v":"小石头数量+3"}]
[{"$f":"IF(語言配置表!A1227=\"\",\"\",語言配置表!A1227)","v":1224},{"$f":"IF(語言配置表!A1227=\"\",\"CN_待填充内容\",語言配置表!B1227)","v":"生命+5%"}]
[{"$f":"IF(語言配置表!A1228=\"\",\"\",語言配置表!A1228)","v":1225},{"$f":"IF(語言配置表!A1228=\"\",\"CN_待填充内容\",語言配置表!B1228)","v":"防御+3%"}]
[{"$f":"IF(語言配置表!A1229=\"\",\"\",語言配置表!A1229)","v":1226},{"$f":"IF(語言配置表!A1229=\"\",\"CN_待填充内容\",語言配置表!B1229)","v":"防御+3%"}]
[{"$f":"IF(語言配置表!A1230=\"\",\"\",語言配置表!A1230)","v":1227},{"$f":"IF(語言配置表!A1230=\"\",\"CN_待填充内容\",語言配置表!B1230)","v":"防御+3%"}]
[{"$f":"IF(語言配置表!A1231=\"\",\"\",語言配置表!A1231)","v":1228},{"$f":"IF(語言配置表!A1231=\"\",\"CN_待填充内容\",語言配置表!B1231)","v":"防御+3%"}]
[{"$f":"IF(語言配置表!A1232=\"\",\"\",語言配置表!A1232)","v":1229},{"$f":"IF(語言配置表!A1232=\"\",\"CN_待填充内容\",語言配置表!B1232)","v":"穿过护盾时额外对护盾照成等额伤害"}]
[{"$f":"IF(語言配置表!A1233=\"\",\"\",語言配置表!A1233)","v":1230},{"$f":"IF(語言配置表!A1233=\"\",\"CN_待填充内容\",語言配置表!B1233)","v":"攻击+3%"}]
[{"$f":"IF(語言配置表!A1234=\"\",\"\",語言配置表!A1234)","v":1231},{"$f":"IF(語言配置表!A1234=\"\",\"CN_待填充内容\",語言配置表!B1234)","v":"攻击+3%"}]
[{"$f":"IF(語言配置表!A1235=\"\",\"\",語言配置表!A1235)","v":1232},{"$f":"IF(語言配置表!A1235=\"\",\"CN_待填充内容\",語言配置表!B1235)","v":"攻击+3%"}]
[{"$f":"IF(語言配置表!A1236=\"\",\"\",語言配置表!A1236)","v":1233},{"$f":"IF(語言配置表!A1236=\"\",\"CN_待填充内容\",語言配置表!B1236)","v":"攻击+3%"}]
[{"$f":"IF(語言配置表!A1237=\"\",\"\",語言配置表!A1237)","v":1234},{"$f":"IF(語言配置表!A1237=\"\",\"CN_待填充内容\",語言配置表!B1237)","v":"充能增效，法宝瞬发且不对拼"}]
[{"$f":"IF(語言配置表!A1238=\"\",\"\",語言配置表!A1238)","v":1235},{"$f":"IF(語言配置表!A1238=\"\",\"CN_待填充内容\",語言配置表!B1238)","v":"防御+3%"}]
[{"$f":"IF(語言配置表!A1239=\"\",\"\",語言配置表!A1239)","v":1236},{"$f":"IF(語言配置表!A1239=\"\",\"CN_待填充内容\",語言配置表!B1239)","v":"防御+3%"}]
[{"$f":"IF(語言配置表!A1240=\"\",\"\",語言配置表!A1240)","v":1237},{"$f":"IF(語言配置表!A1240=\"\",\"CN_待填充内容\",語言配置表!B1240)","v":"防御+3%"}]
[{"$f":"IF(語言配置表!A1241=\"\",\"\",語言配置表!A1241)","v":1238},{"$f":"IF(語言配置表!A1241=\"\",\"CN_待填充内容\",語言配置表!B1241)","v":"防御+3%"}]
[{"$f":"IF(語言配置表!A1242=\"\",\"\",語言配置表!A1242)","v":1239},{"$f":"IF(語言配置表!A1242=\"\",\"CN_待填充内容\",語言配置表!B1242)","v":"触发概率提升"}]
[{"$f":"IF(語言配置表!A1243=\"\",\"\",語言配置表!A1243)","v":1240},{"$f":"IF(語言配置表!A1243=\"\",\"CN_待填充内容\",語言配置表!B1243)","v":"生命+3%"}]
[{"$f":"IF(語言配置表!A1244=\"\",\"\",語言配置表!A1244)","v":1241},{"$f":"IF(語言配置表!A1244=\"\",\"CN_待填充内容\",語言配置表!B1244)","v":"生命+3%"}]
[{"$f":"IF(語言配置表!A1245=\"\",\"\",語言配置表!A1245)","v":1242},{"$f":"IF(語言配置表!A1245=\"\",\"CN_待填充内容\",語言配置表!B1245)","v":"生命+3%"}]
[{"$f":"IF(語言配置表!A1246=\"\",\"\",語言配置表!A1246)","v":1243},{"$f":"IF(語言配置表!A1246=\"\",\"CN_待填充内容\",語言配置表!B1246)","v":"生命+3%"}]
[{"$f":"IF(語言配置表!A1247=\"\",\"\",語言配置表!A1247)","v":1244},{"$f":"IF(語言配置表!A1247=\"\",\"CN_待填充内容\",語言配置表!B1247)","v":"不相生甚至相克功法也生效"}]
[{"$f":"IF(語言配置表!A1248=\"\",\"\",語言配置表!A1248)","v":1245},{"$f":"IF(語言配置表!A1248=\"\",\"CN_待填充内容\",語言配置表!B1248)","v":"攻击+3%"}]
[{"$f":"IF(語言配置表!A1249=\"\",\"\",語言配置表!A1249)","v":1246},{"$f":"IF(語言配置表!A1249=\"\",\"CN_待填充内容\",語言配置表!B1249)","v":"攻击+3%"}]
[{"$f":"IF(語言配置表!A1250=\"\",\"\",語言配置表!A1250)","v":1247},{"$f":"IF(語言配置表!A1250=\"\",\"CN_待填充内容\",語言配置表!B1250)","v":"攻击+3%"}]
[{"$f":"IF(語言配置表!A1251=\"\",\"\",語言配置表!A1251)","v":1248},{"$f":"IF(語言配置表!A1251=\"\",\"CN_待填充内容\",語言配置表!B1251)","v":"攻击+3%"}]
[{"$f":"IF(語言配置表!A1252=\"\",\"\",語言配置表!A1252)","v":1249},{"$f":"IF(語言配置表!A1252=\"\",\"CN_待填充内容\",語言配置表!B1252)","v":"满层时施加灼烧"}]
[{"$f":"IF(語言配置表!A1253=\"\",\"\",語言配置表!A1253)","v":1250},{"$f":"IF(語言配置表!A1253=\"\",\"CN_待填充内容\",語言配置表!B1253)","v":"防御+3%"}]
[{"$f":"IF(語言配置表!A1254=\"\",\"\",語言配置表!A1254)","v":1251},{"$f":"IF(語言配置表!A1254=\"\",\"CN_待填充内容\",語言配置表!B1254)","v":"防御+3%"}]
[{"$f":"IF(語言配置表!A1255=\"\",\"\",語言配置表!A1255)","v":1252},{"$f":"IF(語言配置表!A1255=\"\",\"CN_待填充内容\",語言配置表!B1255)","v":"防御+3%"}]
[{"$f":"IF(語言配置表!A1256=\"\",\"\",語言配置表!A1256)","v":1253},{"$f":"IF(語言配置表!A1256=\"\",\"CN_待填充内容\",語言配置表!B1256)","v":"防御+3%"}]
[{"$f":"IF(語言配置表!A1257=\"\",\"\",語言配置表!A1257)","v":1254},{"$f":"IF(語言配置表!A1257=\"\",\"CN_待填充内容\",語言配置表!B1257)","v":"对拼时重生"}]
[{"$f":"IF(語言配置表!A1258=\"\",\"\",語言配置表!A1258)","v":1255},{"$f":"IF(語言配置表!A1258=\"\",\"CN_待填充内容\",語言配置表!B1258)","v":"生命+3%"}]
[{"$f":"IF(語言配置表!A1259=\"\",\"\",語言配置表!A1259)","v":1256},{"$f":"IF(語言配置表!A1259=\"\",\"CN_待填充内容\",語言配置表!B1259)","v":"生命+3%"}]
[{"$f":"IF(語言配置表!A1260=\"\",\"\",語言配置表!A1260)","v":1257},{"$f":"IF(語言配置表!A1260=\"\",\"CN_待填充内容\",語言配置表!B1260)","v":"生命+3%"}]
[{"$f":"IF(語言配置表!A1261=\"\",\"\",語言配置表!A1261)","v":1258},{"$f":"IF(語言配置表!A1261=\"\",\"CN_待填充内容\",語言配置表!B1261)","v":"生命+3%"}]
[{"$f":"IF(語言配置表!A1262=\"\",\"\",語言配置表!A1262)","v":1259},{"$f":"IF(語言配置表!A1262=\"\",\"CN_待填充内容\",語言配置表!B1262)","v":"加速时伤害提升"}]
[{"$f":"IF(語言配置表!A1263=\"\",\"\",語言配置表!A1263)","v":1260},{"$f":"IF(語言配置表!A1263=\"\",\"CN_待填充内容\",語言配置表!B1263)","v":"攻击+3%"}]
[{"$f":"IF(語言配置表!A1264=\"\",\"\",語言配置表!A1264)","v":1261},{"$f":"IF(語言配置表!A1264=\"\",\"CN_待填充内容\",語言配置表!B1264)","v":"攻击+3%"}]
[{"$f":"IF(語言配置表!A1265=\"\",\"\",語言配置表!A1265)","v":1262},{"$f":"IF(語言配置表!A1265=\"\",\"CN_待填充内容\",語言配置表!B1265)","v":"攻击+3%"}]
[{"$f":"IF(語言配置表!A1266=\"\",\"\",語言配置表!A1266)","v":1263},{"$f":"IF(語言配置表!A1266=\"\",\"CN_待填充内容\",語言配置表!B1266)","v":"攻击+3%"}]
[{"$f":"IF(語言配置表!A1267=\"\",\"\",語言配置表!A1267)","v":1264},{"$f":"IF(語言配置表!A1267=\"\",\"CN_待填充内容\",語言配置表!B1267)","v":"前槽位也生效，剑气增强"}]
[{"$f":"IF(語言配置表!A1268=\"\",\"\",語言配置表!A1268)","v":1265},{"$f":"IF(語言配置表!A1268=\"\",\"CN_待填充内容\",語言配置表!B1268)","v":"金灵根+5"}]
[{"$f":"IF(語言配置表!A1269=\"\",\"\",語言配置表!A1269)","v":1266},{"$f":"IF(語言配置表!A1269=\"\",\"CN_待填充内容\",語言配置表!B1269)","v":"攻击+5%"}]
[{"$f":"IF(語言配置表!A1270=\"\",\"\",語言配置表!A1270)","v":1267},{"$f":"IF(語言配置表!A1270=\"\",\"CN_待填充内容\",語言配置表!B1270)","v":"金灵根+5"}]
[{"$f":"IF(語言配置表!A1271=\"\",\"\",語言配置表!A1271)","v":1268},{"$f":"IF(語言配置表!A1271=\"\",\"CN_待填充内容\",語言配置表!B1271)","v":"攻击+5%"}]
[{"$f":"IF(語言配置表!A1272=\"\",\"\",語言配置表!A1272)","v":1269},{"$f":"IF(語言配置表!A1272=\"\",\"CN_待填充内容\",語言配置表!B1272)","v":"降低敌人灵根"}]
[{"$f":"IF(語言配置表!A1273=\"\",\"\",語言配置表!A1273)","v":1270},{"$f":"IF(語言配置表!A1273=\"\",\"CN_待填充内容\",語言配置表!B1273)","v":0}]
[{"$f":"IF(語言配置表!A1274=\"\",\"\",語言配置表!A1274)","v":1271},{"$f":"IF(語言配置表!A1274=\"\",\"CN_待填充内容\",語言配置表!B1274)","v":0}]
[{"$f":"IF(語言配置表!A1275=\"\",\"\",語言配置表!A1275)","v":1272},{"$f":"IF(語言配置表!A1275=\"\",\"CN_待填充内容\",語言配置表!B1275)","v":0}]
[{"$f":"IF(語言配置表!A1276=\"\",\"\",語言配置表!A1276)","v":1273},{"$f":"IF(語言配置表!A1276=\"\",\"CN_待填充内容\",語言配置表!B1276)","v":0}]
[{"$f":"IF(語言配置表!A1277=\"\",\"\",語言配置表!A1277)","v":1274},{"$f":"IF(語言配置表!A1277=\"\",\"CN_待填充内容\",語言配置表!B1277)","v":0}]
[{"$f":"IF(語言配置表!A1278=\"\",\"\",語言配置表!A1278)","v":1275},{"$f":"IF(語言配置表!A1278=\"\",\"CN_待填充内容\",語言配置表!B1278)","v":"降速效果提升"}]
[{"$f":"IF(語言配置表!A1279=\"\",\"\",語言配置表!A1279)","v":1276},{"$f":"IF(語言配置表!A1279=\"\",\"CN_待填充内容\",語言配置表!B1279)","v":"水灵根+5"}]
[{"$f":"IF(語言配置表!A1280=\"\",\"\",語言配置表!A1280)","v":1277},{"$f":"IF(語言配置表!A1280=\"\",\"CN_待填充内容\",語言配置表!B1280)","v":"生命+5%"}]
[{"$f":"IF(語言配置表!A1281=\"\",\"\",語言配置表!A1281)","v":1278},{"$f":"IF(語言配置表!A1281=\"\",\"CN_待填充内容\",語言配置表!B1281)","v":"水灵根+5"}]
[{"$f":"IF(語言配置表!A1282=\"\",\"\",語言配置表!A1282)","v":1279},{"$f":"IF(語言配置表!A1282=\"\",\"CN_待填充内容\",語言配置表!B1282)","v":"降低被影响功法的强度"}]
[{"$f":"IF(語言配置表!A1283=\"\",\"\",語言配置表!A1283)","v":1280},{"$f":"IF(語言配置表!A1283=\"\",\"CN_待填充内容\",語言配置表!B1283)","v":"水灵根+5"}]
[{"$f":"IF(語言配置表!A1284=\"\",\"\",語言配置表!A1284)","v":1281},{"$f":"IF(語言配置表!A1284=\"\",\"CN_待填充内容\",語言配置表!B1284)","v":"防御+5%"}]
[{"$f":"IF(語言配置表!A1285=\"\",\"\",語言配置表!A1285)","v":1282},{"$f":"IF(語言配置表!A1285=\"\",\"CN_待填充内容\",語言配置表!B1285)","v":"可使用次数增加"}]
[{"$f":"IF(語言配置表!A1286=\"\",\"\",語言配置表!A1286)","v":1283},{"$f":"IF(語言配置表!A1286=\"\",\"CN_待填充内容\",語言配置表!B1286)","v":"水灵根+5"}]
[{"$f":"IF(語言配置表!A1287=\"\",\"\",語言配置表!A1287)","v":1284},{"$f":"IF(語言配置表!A1287=\"\",\"CN_待填充内容\",語言配置表!B1287)","v":"功法额外增伤"}]
[{"$f":"IF(語言配置表!A1288=\"\",\"\",語言配置表!A1288)","v":1285},{"$f":"IF(語言配置表!A1288=\"\",\"CN_待填充内容\",語言配置表!B1288)","v":0}]
[{"$f":"IF(語言配置表!A1289=\"\",\"\",語言配置表!A1289)","v":1286},{"$f":"IF(語言配置表!A1289=\"\",\"CN_待填充内容\",語言配置表!B1289)","v":0}]
[{"$f":"IF(語言配置表!A1290=\"\",\"\",語言配置表!A1290)","v":1287},{"$f":"IF(語言配置表!A1290=\"\",\"CN_待填充内容\",語言配置表!B1290)","v":0}]
[{"$f":"IF(語言配置表!A1291=\"\",\"\",語言配置表!A1291)","v":1288},{"$f":"IF(語言配置表!A1291=\"\",\"CN_待填充内容\",語言配置表!B1291)","v":0}]
[{"$f":"IF(語言配置表!A1292=\"\",\"\",語言配置表!A1292)","v":1289},{"$f":"IF(語言配置表!A1292=\"\",\"CN_待填充内容\",語言配置表!B1292)","v":0}]
[{"$f":"IF(語言配置表!A1293=\"\",\"\",語言配置表!A1293)","v":1290},{"$f":"IF(語言配置表!A1293=\"\",\"CN_待填充内容\",語言配置表!B1293)","v":"封印法宝数量增加"}]
[{"$f":"IF(語言配置表!A1294=\"\",\"\",語言配置表!A1294)","v":1291},{"$f":"IF(語言配置表!A1294=\"\",\"CN_待填充内容\",語言配置表!B1294)","v":"木灵根+5"}]
[{"$f":"IF(語言配置表!A1295=\"\",\"\",語言配置表!A1295)","v":1292},{"$f":"IF(語言配置表!A1295=\"\",\"CN_待填充内容\",語言配置表!B1295)","v":"减缓相生法宝充能"}]
[{"$f":"IF(語言配置表!A1296=\"\",\"\",語言配置表!A1296)","v":1293},{"$f":"IF(語言配置表!A1296=\"\",\"CN_待填充内容\",語言配置表!B1296)","v":"木灵根+5"}]
[{"$f":"IF(語言配置表!A1297=\"\",\"\",語言配置表!A1297)","v":1294},{"$f":"IF(語言配置表!A1297=\"\",\"CN_待填充内容\",語言配置表!B1297)","v":"大幅减缓相生法宝充能"}]
[{"$f":"IF(語言配置表!A1298=\"\",\"\",語言配置表!A1298)","v":1295},{"$f":"IF(語言配置表!A1298=\"\",\"CN_待填充内容\",語言配置表!B1298)","v":0}]
[{"$f":"IF(語言配置表!A1299=\"\",\"\",語言配置表!A1299)","v":1296},{"$f":"IF(語言配置表!A1299=\"\",\"CN_待填充内容\",語言配置表!B1299)","v":0}]
[{"$f":"IF(語言配置表!A1300=\"\",\"\",語言配置表!A1300)","v":1297},{"$f":"IF(語言配置表!A1300=\"\",\"CN_待填充内容\",語言配置表!B1300)","v":0}]
[{"$f":"IF(語言配置表!A1301=\"\",\"\",語言配置表!A1301)","v":1298},{"$f":"IF(語言配置表!A1301=\"\",\"CN_待填充内容\",語言配置表!B1301)","v":0}]
[{"$f":"IF(語言配置表!A1302=\"\",\"\",語言配置表!A1302)","v":1299},{"$f":"IF(語言配置表!A1302=\"\",\"CN_待填充内容\",語言配置表!B1302)","v":0}]
[{"$f":"IF(語言配置表!A1303=\"\",\"\",語言配置表!A1303)","v":1300},{"$f":"IF(語言配置表!A1303=\"\",\"CN_待填充内容\",語言配置表!B1303)","v":"火灵根+5"}]
[{"$f":"IF(語言配置表!A1304=\"\",\"\",語言配置表!A1304)","v":1301},{"$f":"IF(語言配置表!A1304=\"\",\"CN_待填充内容\",語言配置表!B1304)","v":"增加吸收几率"}]
[{"$f":"IF(語言配置表!A1305=\"\",\"\",語言配置表!A1305)","v":1302},{"$f":"IF(語言配置表!A1305=\"\",\"CN_待填充内容\",語言配置表!B1305)","v":"攻击+5%"}]
[{"$f":"IF(語言配置表!A1306=\"\",\"\",語言配置表!A1306)","v":1303},{"$f":"IF(語言配置表!A1306=\"\",\"CN_待填充内容\",語言配置表!B1306)","v":"火灵根+5"}]
[{"$f":"IF(語言配置表!A1307=\"\",\"\",語言配置表!A1307)","v":1304},{"$f":"IF(語言配置表!A1307=\"\",\"CN_待填充内容\",語言配置表!B1307)","v":"完全吸收，临时加灵根"}]
[{"$f":"IF(語言配置表!A1308=\"\",\"\",語言配置表!A1308)","v":1305},{"$f":"IF(語言配置表!A1308=\"\",\"CN_待填充内容\",語言配置表!B1308)","v":"打断增强，避免对拼"}]
[{"$f":"IF(語言配置表!A1309=\"\",\"\",語言配置表!A1309)","v":1306},{"$f":"IF(語言配置表!A1309=\"\",\"CN_待填充内容\",語言配置表!B1309)","v":"火灵根+5"}]
[{"$f":"IF(語言配置表!A1310=\"\",\"\",語言配置表!A1310)","v":1307},{"$f":"IF(語言配置表!A1310=\"\",\"CN_待填充内容\",語言配置表!B1310)","v":"攻击+%"}]
[{"$f":"IF(語言配置表!A1311=\"\",\"\",語言配置表!A1311)","v":1308},{"$f":"IF(語言配置表!A1311=\"\",\"CN_待填充内容\",語言配置表!B1311)","v":"火灵根+5"}]
[{"$f":"IF(語言配置表!A1312=\"\",\"\",語言配置表!A1312)","v":1309},{"$f":"IF(語言配置表!A1312=\"\",\"CN_待填充内容\",語言配置表!B1312)","v":"成功打断后加速冷却"}]
[{"$f":"IF(語言配置表!A1313=\"\",\"\",語言配置表!A1313)","v":1310},{"$f":"IF(語言配置表!A1313=\"\",\"CN_待填充内容\",語言配置表!B1313)","v":"盾强度提升"}]
[{"$f":"IF(語言配置表!A1314=\"\",\"\",語言配置表!A1314)","v":1311},{"$f":"IF(語言配置表!A1314=\"\",\"CN_待填充内容\",語言配置表!B1314)","v":"土灵根+5"}]
[{"$f":"IF(語言配置表!A1315=\"\",\"\",語言配置表!A1315)","v":1312},{"$f":"IF(語言配置表!A1315=\"\",\"CN_待填充内容\",語言配置表!B1315)","v":"盾强度提升"}]
[{"$f":"IF(語言配置表!A1316=\"\",\"\",語言配置表!A1316)","v":1313},{"$f":"IF(語言配置表!A1316=\"\",\"CN_待填充内容\",語言配置表!B1316)","v":"土灵根+5"}]
[{"$f":"IF(語言配置表!A1317=\"\",\"\",語言配置表!A1317)","v":1314},{"$f":"IF(語言配置表!A1317=\"\",\"CN_待填充内容\",語言配置表!B1317)","v":"盾强度提升"}]
[{"$f":"IF(語言配置表!A1318=\"\",\"\",語言配置表!A1318)","v":1315},{"$f":"IF(語言配置表!A1318=\"\",\"CN_待填充内容\",語言配置表!B1318)","v":0}]
[{"$f":"IF(語言配置表!A1319=\"\",\"\",語言配置表!A1319)","v":1316},{"$f":"IF(語言配置表!A1319=\"\",\"CN_待填充内容\",語言配置表!B1319)","v":0}]
[{"$f":"IF(語言配置表!A1320=\"\",\"\",語言配置表!A1320)","v":1317},{"$f":"IF(語言配置表!A1320=\"\",\"CN_待填充内容\",語言配置表!B1320)","v":0}]
[{"$f":"IF(語言配置表!A1321=\"\",\"\",語言配置表!A1321)","v":1318},{"$f":"IF(語言配置表!A1321=\"\",\"CN_待填充内容\",語言配置表!B1321)","v":0}]
[{"$f":"IF(語言配置表!A1322=\"\",\"\",語言配置表!A1322)","v":1319},{"$f":"IF(語言配置表!A1322=\"\",\"CN_待填充内容\",語言配置表!B1322)","v":0}]
[{"$f":"IF(語言配置表!A1323=\"\",\"\",語言配置表!A1323)","v":1320},{"$f":"IF(語言配置表!A1323=\"\",\"CN_待填充内容\",語言配置表!B1323)","v":"技能升星描述占位，勿占"}]
[{"$f":"IF(語言配置表!A1324=\"\",\"\",語言配置表!A1324)","v":1321},{"$f":"IF(語言配置表!A1324=\"\",\"CN_待填充内容\",語言配置表!B1324)","v":"技能升星描述占位，勿占"}]
[{"$f":"IF(語言配置表!A1325=\"\",\"\",語言配置表!A1325)","v":1322},{"$f":"IF(語言配置表!A1325=\"\",\"CN_待填充内容\",語言配置表!B1325)","v":"技能升星描述占位，勿占"}]
[{"$f":"IF(語言配置表!A1326=\"\",\"\",語言配置表!A1326)","v":1323},{"$f":"IF(語言配置表!A1326=\"\",\"CN_待填充内容\",語言配置表!B1326)","v":"技能升星描述占位，勿占"}]
[{"$f":"IF(語言配置表!A1327=\"\",\"\",語言配置表!A1327)","v":1324},{"$f":"IF(語言配置表!A1327=\"\",\"CN_待填充内容\",語言配置表!B1327)","v":"技能升星描述占位，勿占"}]
[{"$f":"IF(語言配置表!A1328=\"\",\"\",語言配置表!A1328)","v":1325},{"$f":"IF(語言配置表!A1328=\"\",\"CN_待填充内容\",語言配置表!B1328)","v":"技能升星描述占位，勿占"}]
[{"$f":"IF(語言配置表!A1329=\"\",\"\",語言配置表!A1329)","v":1326},{"$f":"IF(語言配置表!A1329=\"\",\"CN_待填充内容\",語言配置表!B1329)","v":"技能升星描述占位，勿占"}]
[{"$f":"IF(語言配置表!A1330=\"\",\"\",語言配置表!A1330)","v":1327},{"$f":"IF(語言配置表!A1330=\"\",\"CN_待填充内容\",語言配置表!B1330)","v":"技能升星描述占位，勿占"}]
[{"$f":"IF(語言配置表!A1331=\"\",\"\",語言配置表!A1331)","v":1328},{"$f":"IF(語言配置表!A1331=\"\",\"CN_待填充内容\",語言配置表!B1331)","v":"技能升星描述占位，勿占"}]
[{"$f":"IF(語言配置表!A1332=\"\",\"\",語言配置表!A1332)","v":1329},{"$f":"IF(語言配置表!A1332=\"\",\"CN_待填充内容\",語言配置表!B1332)","v":"技能升星描述占位，勿占"}]
[{"$f":"IF(語言配置表!A1333=\"\",\"\",語言配置表!A1333)","v":1330},{"$f":"IF(語言配置表!A1333=\"\",\"CN_待填充内容\",語言配置表!B1333)","v":"技能升星描述占位，勿占"}]
[{"$f":"IF(語言配置表!A1334=\"\",\"\",語言配置表!A1334)","v":1331},{"$f":"IF(語言配置表!A1334=\"\",\"CN_待填充内容\",語言配置表!B1334)","v":"技能升星描述占位，勿占"}]
[{"$f":"IF(語言配置表!A1335=\"\",\"\",語言配置表!A1335)","v":1332},{"$f":"IF(語言配置表!A1335=\"\",\"CN_待填充内容\",語言配置表!B1335)","v":"技能升星描述占位，勿占"}]
[{"$f":"IF(語言配置表!A1336=\"\",\"\",語言配置表!A1336)","v":1333},{"$f":"IF(語言配置表!A1336=\"\",\"CN_待填充内容\",語言配置表!B1336)","v":"技能升星描述占位，勿占"}]
[{"$f":"IF(語言配置表!A1337=\"\",\"\",語言配置表!A1337)","v":1334},{"$f":"IF(語言配置表!A1337=\"\",\"CN_待填充内容\",語言配置表!B1337)","v":"技能升星描述占位，勿占"}]
[{"$f":"IF(語言配置表!A1338=\"\",\"\",語言配置表!A1338)","v":1335},{"$f":"IF(語言配置表!A1338=\"\",\"CN_待填充内容\",語言配置表!B1338)","v":"技能升星描述占位，勿占"}]
[{"$f":"IF(語言配置表!A1339=\"\",\"\",語言配置表!A1339)","v":1336},{"$f":"IF(語言配置表!A1339=\"\",\"CN_待填充内容\",語言配置表!B1339)","v":"技能升星描述占位，勿占"}]
[{"$f":"IF(語言配置表!A1340=\"\",\"\",語言配置表!A1340)","v":1337},{"$f":"IF(語言配置表!A1340=\"\",\"CN_待填充内容\",語言配置表!B1340)","v":"技能升星描述占位，勿占"}]
[{"$f":"IF(語言配置表!A1341=\"\",\"\",語言配置表!A1341)","v":1338},{"$f":"IF(語言配置表!A1341=\"\",\"CN_待填充内容\",語言配置表!B1341)","v":"技能升星描述占位，勿占"}]
[{"$f":"IF(語言配置表!A1342=\"\",\"\",語言配置表!A1342)","v":1339},{"$f":"IF(語言配置表!A1342=\"\",\"CN_待填充内容\",語言配置表!B1342)","v":"技能升星描述占位，勿占"}]
[{"$f":"IF(語言配置表!A1343=\"\",\"\",語言配置表!A1343)","v":1340},{"$f":"IF(語言配置表!A1343=\"\",\"CN_待填充内容\",語言配置表!B1343)","v":"技能升星描述占位，勿占"}]
[{"$f":"IF(語言配置表!A1344=\"\",\"\",語言配置表!A1344)","v":1341},{"$f":"IF(語言配置表!A1344=\"\",\"CN_待填充内容\",語言配置表!B1344)","v":"技能升星描述占位，勿占"}]
[{"$f":"IF(語言配置表!A1345=\"\",\"\",語言配置表!A1345)","v":1342},{"$f":"IF(語言配置表!A1345=\"\",\"CN_待填充内容\",語言配置表!B1345)","v":"技能升星描述占位，勿占"}]
[{"$f":"IF(語言配置表!A1346=\"\",\"\",語言配置表!A1346)","v":1343},{"$f":"IF(語言配置表!A1346=\"\",\"CN_待填充内容\",語言配置表!B1346)","v":"技能升星描述占位，勿占"}]
[{"$f":"IF(語言配置表!A1347=\"\",\"\",語言配置表!A1347)","v":1344},{"$f":"IF(語言配置表!A1347=\"\",\"CN_待填充内容\",語言配置表!B1347)","v":"技能升星描述占位，勿占"}]
[{"$f":"IF(語言配置表!A1348=\"\",\"\",語言配置表!A1348)","v":1345},{"$f":"IF(語言配置表!A1348=\"\",\"CN_待填充内容\",語言配置表!B1348)","v":"技能升星描述占位，勿占"}]
[{"$f":"IF(語言配置表!A1349=\"\",\"\",語言配置表!A1349)","v":1346},{"$f":"IF(語言配置表!A1349=\"\",\"CN_待填充内容\",語言配置表!B1349)","v":"技能升星描述占位，勿占"}]
[{"$f":"IF(語言配置表!A1350=\"\",\"\",語言配置表!A1350)","v":1347},{"$f":"IF(語言配置表!A1350=\"\",\"CN_待填充内容\",語言配置表!B1350)","v":"技能升星描述占位，勿占"}]
[{"$f":"IF(語言配置表!A1351=\"\",\"\",語言配置表!A1351)","v":1348},{"$f":"IF(語言配置表!A1351=\"\",\"CN_待填充内容\",語言配置表!B1351)","v":"技能升星描述占位，勿占"}]
[{"$f":"IF(語言配置表!A1352=\"\",\"\",語言配置表!A1352)","v":1349},{"$f":"IF(語言配置表!A1352=\"\",\"CN_待填充内容\",語言配置表!B1352)","v":"技能升星描述占位，勿占"}]
[{"$f":"IF(語言配置表!A1353=\"\",\"\",語言配置表!A1353)","v":1350},{"$f":"IF(語言配置表!A1353=\"\",\"CN_待填充内容\",語言配置表!B1353)","v":"技能升星描述占位，勿占"}]
[{"$f":"IF(語言配置表!A1354=\"\",\"\",語言配置表!A1354)","v":1351},{"$f":"IF(語言配置表!A1354=\"\",\"CN_待填充内容\",語言配置表!B1354)","v":"技能升星描述占位，勿占"}]
[{"$f":"IF(語言配置表!A1355=\"\",\"\",語言配置表!A1355)","v":1352},{"$f":"IF(語言配置表!A1355=\"\",\"CN_待填充内容\",語言配置表!B1355)","v":"技能升星描述占位，勿占"}]
[{"$f":"IF(語言配置表!A1356=\"\",\"\",語言配置表!A1356)","v":1353},{"$f":"IF(語言配置表!A1356=\"\",\"CN_待填充内容\",語言配置表!B1356)","v":"技能升星描述占位，勿占"}]
[{"$f":"IF(語言配置表!A1357=\"\",\"\",語言配置表!A1357)","v":1354},{"$f":"IF(語言配置表!A1357=\"\",\"CN_待填充内容\",語言配置表!B1357)","v":"技能升星描述占位，勿占"}]
[{"$f":"IF(語言配置表!A1358=\"\",\"\",語言配置表!A1358)","v":1355},{"$f":"IF(語言配置表!A1358=\"\",\"CN_待填充内容\",語言配置表!B1358)","v":"技能升星描述占位，勿占"}]
[{"$f":"IF(語言配置表!A1359=\"\",\"\",語言配置表!A1359)","v":1356},{"$f":"IF(語言配置表!A1359=\"\",\"CN_待填充内容\",語言配置表!B1359)","v":"技能升星描述占位，勿占"}]
[{"$f":"IF(語言配置表!A1360=\"\",\"\",語言配置表!A1360)","v":1357},{"$f":"IF(語言配置表!A1360=\"\",\"CN_待填充内容\",語言配置表!B1360)","v":"技能升星描述占位，勿占"}]
[{"$f":"IF(語言配置表!A1361=\"\",\"\",語言配置表!A1361)","v":1358},{"$f":"IF(語言配置表!A1361=\"\",\"CN_待填充内容\",語言配置表!B1361)","v":"技能升星描述占位，勿占"}]
[{"$f":"IF(語言配置表!A1362=\"\",\"\",語言配置表!A1362)","v":1359},{"$f":"IF(語言配置表!A1362=\"\",\"CN_待填充内容\",語言配置表!B1362)","v":"技能升星描述占位，勿占"}]
[{"$f":"IF(語言配置表!A1363=\"\",\"\",語言配置表!A1363)","v":1360},{"$f":"IF(語言配置表!A1363=\"\",\"CN_待填充内容\",語言配置表!B1363)","v":"技能升星描述占位，勿占"}]
[{"$f":"IF(語言配置表!A1364=\"\",\"\",語言配置表!A1364)","v":1361},{"$f":"IF(語言配置表!A1364=\"\",\"CN_待填充内容\",語言配置表!B1364)","v":"技能升星描述占位，勿占"}]
[{"$f":"IF(語言配置表!A1365=\"\",\"\",語言配置表!A1365)","v":1362},{"$f":"IF(語言配置表!A1365=\"\",\"CN_待填充内容\",語言配置表!B1365)","v":"技能升星描述占位，勿占"}]
[{"$f":"IF(語言配置表!A1366=\"\",\"\",語言配置表!A1366)","v":1363},{"$f":"IF(語言配置表!A1366=\"\",\"CN_待填充内容\",語言配置表!B1366)","v":"技能升星描述占位，勿占"}]
[{"$f":"IF(語言配置表!A1367=\"\",\"\",語言配置表!A1367)","v":1364},{"$f":"IF(語言配置表!A1367=\"\",\"CN_待填充内容\",語言配置表!B1367)","v":"技能升星描述占位，勿占"}]
[{"$f":"IF(語言配置表!A1368=\"\",\"\",語言配置表!A1368)","v":1365},{"$f":"IF(語言配置表!A1368=\"\",\"CN_待填充内容\",語言配置表!B1368)","v":"技能升星描述占位，勿占"}]
[{"$f":"IF(語言配置表!A1369=\"\",\"\",語言配置表!A1369)","v":1366},{"$f":"IF(語言配置表!A1369=\"\",\"CN_待填充内容\",語言配置表!B1369)","v":"技能升星描述占位，勿占"}]
[{"$f":"IF(語言配置表!A1370=\"\",\"\",語言配置表!A1370)","v":1367},{"$f":"IF(語言配置表!A1370=\"\",\"CN_待填充内容\",語言配置表!B1370)","v":"技能升星描述占位，勿占"}]
[{"$f":"IF(語言配置表!A1371=\"\",\"\",語言配置表!A1371)","v":1368},{"$f":"IF(語言配置表!A1371=\"\",\"CN_待填充内容\",語言配置表!B1371)","v":"技能升星描述占位，勿占"}]
[{"$f":"IF(語言配置表!A1372=\"\",\"\",語言配置表!A1372)","v":1369},{"$f":"IF(語言配置表!A1372=\"\",\"CN_待填充内容\",語言配置表!B1372)","v":"技能升星描述占位，勿占"}]
[{"$f":"IF(語言配置表!A1373=\"\",\"\",語言配置表!A1373)","v":1370},{"$f":"IF(語言配置表!A1373=\"\",\"CN_待填充内容\",語言配置表!B1373)","v":"技能升星描述占位，勿占"}]
[{"$f":"IF(語言配置表!A1374=\"\",\"\",語言配置表!A1374)","v":1371},{"$f":"IF(語言配置表!A1374=\"\",\"CN_待填充内容\",語言配置表!B1374)","v":"技能升星描述占位，勿占"}]
[{"$f":"IF(語言配置表!A1375=\"\",\"\",語言配置表!A1375)","v":1372},{"$f":"IF(語言配置表!A1375=\"\",\"CN_待填充内容\",語言配置表!B1375)","v":"技能升星描述占位，勿占"}]
[{"$f":"IF(語言配置表!A1376=\"\",\"\",語言配置表!A1376)","v":1373},{"$f":"IF(語言配置表!A1376=\"\",\"CN_待填充内容\",語言配置表!B1376)","v":"技能升星描述占位，勿占"}]
[{"$f":"IF(語言配置表!A1377=\"\",\"\",語言配置表!A1377)","v":1374},{"$f":"IF(語言配置表!A1377=\"\",\"CN_待填充内容\",語言配置表!B1377)","v":"技能升星描述占位，勿占"}]
[{"$f":"IF(語言配置表!A1378=\"\",\"\",語言配置表!A1378)","v":1375},{"$f":"IF(語言配置表!A1378=\"\",\"CN_待填充内容\",語言配置表!B1378)","v":"技能升星描述占位，勿占"}]
[{"$f":"IF(語言配置表!A1379=\"\",\"\",語言配置表!A1379)","v":1376},{"$f":"IF(語言配置表!A1379=\"\",\"CN_待填充内容\",語言配置表!B1379)","v":"技能升星描述占位，勿占"}]
[{"$f":"IF(語言配置表!A1380=\"\",\"\",語言配置表!A1380)","v":1377},{"$f":"IF(語言配置表!A1380=\"\",\"CN_待填充内容\",語言配置表!B1380)","v":"技能升星描述占位，勿占"}]
[{"$f":"IF(語言配置表!A1381=\"\",\"\",語言配置表!A1381)","v":1378},{"$f":"IF(語言配置表!A1381=\"\",\"CN_待填充内容\",語言配置表!B1381)","v":"技能升星描述占位，勿占"}]
[{"$f":"IF(語言配置表!A1382=\"\",\"\",語言配置表!A1382)","v":1379},{"$f":"IF(語言配置表!A1382=\"\",\"CN_待填充内容\",語言配置表!B1382)","v":"技能升星描述占位，勿占"}]
[{"$f":"IF(語言配置表!A1383=\"\",\"\",語言配置表!A1383)","v":1380},{"$f":"IF(語言配置表!A1383=\"\",\"CN_待填充内容\",語言配置表!B1383)","v":"技能升星描述占位，勿占"}]
[{"$f":"IF(語言配置表!A1384=\"\",\"\",語言配置表!A1384)","v":1381},{"$f":"IF(語言配置表!A1384=\"\",\"CN_待填充内容\",語言配置表!B1384)","v":"技能升星描述占位，勿占"}]
[{"$f":"IF(語言配置表!A1385=\"\",\"\",語言配置表!A1385)","v":1382},{"$f":"IF(語言配置表!A1385=\"\",\"CN_待填充内容\",語言配置表!B1385)","v":"技能升星描述占位，勿占"}]
[{"$f":"IF(語言配置表!A1386=\"\",\"\",語言配置表!A1386)","v":1383},{"$f":"IF(語言配置表!A1386=\"\",\"CN_待填充内容\",語言配置表!B1386)","v":"技能升星描述占位，勿占"}]
[{"$f":"IF(語言配置表!A1387=\"\",\"\",語言配置表!A1387)","v":1384},{"$f":"IF(語言配置表!A1387=\"\",\"CN_待填充内容\",語言配置表!B1387)","v":"技能升星描述占位，勿占"}]
[{"$f":"IF(語言配置表!A1388=\"\",\"\",語言配置表!A1388)","v":1385},{"$f":"IF(語言配置表!A1388=\"\",\"CN_待填充内容\",語言配置表!B1388)","v":"技能升星描述占位，勿占"}]
[{"$f":"IF(語言配置表!A1389=\"\",\"\",語言配置表!A1389)","v":1386},{"$f":"IF(語言配置表!A1389=\"\",\"CN_待填充内容\",語言配置表!B1389)","v":"技能升星描述占位，勿占"}]
[{"$f":"IF(語言配置表!A1390=\"\",\"\",語言配置表!A1390)","v":1387},{"$f":"IF(語言配置表!A1390=\"\",\"CN_待填充内容\",語言配置表!B1390)","v":"技能升星描述占位，勿占"}]
[{"$f":"IF(語言配置表!A1391=\"\",\"\",語言配置表!A1391)","v":1388},{"$f":"IF(語言配置表!A1391=\"\",\"CN_待填充内容\",語言配置表!B1391)","v":"技能升星描述占位，勿占"}]
[{"$f":"IF(語言配置表!A1392=\"\",\"\",語言配置表!A1392)","v":1389},{"$f":"IF(語言配置表!A1392=\"\",\"CN_待填充内容\",語言配置表!B1392)","v":"技能升星描述占位，勿占"}]
[{"$f":"IF(語言配置表!A1393=\"\",\"\",語言配置表!A1393)","v":1390},{"$f":"IF(語言配置表!A1393=\"\",\"CN_待填充内容\",語言配置表!B1393)","v":"技能升星描述占位，勿占"}]
[{"$f":"IF(語言配置表!A1394=\"\",\"\",語言配置表!A1394)","v":1391},{"$f":"IF(語言配置表!A1394=\"\",\"CN_待填充内容\",語言配置表!B1394)","v":"技能升星描述占位，勿占"}]
[{"$f":"IF(語言配置表!A1395=\"\",\"\",語言配置表!A1395)","v":1392},{"$f":"IF(語言配置表!A1395=\"\",\"CN_待填充内容\",語言配置表!B1395)","v":"技能升星描述占位，勿占"}]
[{"$f":"IF(語言配置表!A1396=\"\",\"\",語言配置表!A1396)","v":1393},{"$f":"IF(語言配置表!A1396=\"\",\"CN_待填充内容\",語言配置表!B1396)","v":"技能升星描述占位，勿占"}]
[{"$f":"IF(語言配置表!A1397=\"\",\"\",語言配置表!A1397)","v":1394},{"$f":"IF(語言配置表!A1397=\"\",\"CN_待填充内容\",語言配置表!B1397)","v":"技能升星描述占位，勿占"}]
[{"$f":"IF(語言配置表!A1398=\"\",\"\",語言配置表!A1398)","v":1395},{"$f":"IF(語言配置表!A1398=\"\",\"CN_待填充内容\",語言配置表!B1398)","v":"技能升星描述占位，勿占"}]
[{"$f":"IF(語言配置表!A1399=\"\",\"\",語言配置表!A1399)","v":1396},{"$f":"IF(語言配置表!A1399=\"\",\"CN_待填充内容\",語言配置表!B1399)","v":"技能升星描述占位，勿占"}]
[{"$f":"IF(語言配置表!A1400=\"\",\"\",語言配置表!A1400)","v":1397},{"$f":"IF(語言配置表!A1400=\"\",\"CN_待填充内容\",語言配置表!B1400)","v":"技能升星描述占位，勿占"}]
[{"$f":"IF(語言配置表!A1401=\"\",\"\",語言配置表!A1401)","v":1398},{"$f":"IF(語言配置表!A1401=\"\",\"CN_待填充内容\",語言配置表!B1401)","v":"技能升星描述占位，勿占"}]
[{"$f":"IF(語言配置表!A1402=\"\",\"\",語言配置表!A1402)","v":1399},{"$f":"IF(語言配置表!A1402=\"\",\"CN_待填充内容\",語言配置表!B1402)","v":"技能升星描述占位，勿占"}]
[{"$f":"IF(語言配置表!A1403=\"\",\"\",語言配置表!A1403)","v":1400},{"$f":"IF(語言配置表!A1403=\"\",\"CN_待填充内容\",語言配置表!B1403)","v":"法宝灵韵"}]
[{"$f":"IF(語言配置表!A1404=\"\",\"\",語言配置表!A1404)","v":1401},{"$f":"IF(語言配置表!A1404=\"\",\"CN_待填充内容\",語言配置表!B1404)","v":"用于提升法宝的等级"}]
[{"$f":"IF(語言配置表!A1405=\"\",\"\",語言配置表!A1405)","v":1402},{"$f":"IF(語言配置表!A1405=\"\",\"CN_待填充内容\",語言配置表!B1405)","v":"禁元珠"}]
[{"$f":"IF(語言配置表!A1406=\"\",\"\",語言配置表!A1406)","v":1403},{"$f":"IF(語言配置表!A1406=\"\",\"CN_待填充内容\",語言配置表!B1406)","v":"玄龟盾"}]
[{"$f":"IF(語言配置表!A1407=\"\",\"\",語言配置表!A1407)","v":1404},{"$f":"IF(語言配置表!A1407=\"\",\"CN_待填充内容\",語言配置表!B1407)","v":"天殇血刃剑"}]
[{"$f":"IF(語言配置表!A1408=\"\",\"\",語言配置表!A1408)","v":1405},{"$f":"IF(語言配置表!A1408=\"\",\"CN_待填充内容\",語言配置表!B1408)","v":"禁元珠描述"}]
[{"$f":"IF(語言配置表!A1409=\"\",\"\",語言配置表!A1409)","v":1406},{"$f":"IF(語言配置表!A1409=\"\",\"CN_待填充内容\",語言配置表!B1409)","v":"玄龟盾描述"}]
[{"$f":"IF(語言配置表!A1410=\"\",\"\",語言配置表!A1410)","v":1407},{"$f":"IF(語言配置表!A1410=\"\",\"CN_待填充内容\",語言配置表!B1410)","v":"天殇血刃剑描述"}]
[{"$f":"IF(語言配置表!A1411=\"\",\"\",語言配置表!A1411)","v":1408},{"$f":"IF(語言配置表!A1411=\"\",\"CN_待填充内容\",語言配置表!B1411)","v":"禁元珠碎片"}]
[{"$f":"IF(語言配置表!A1412=\"\",\"\",語言配置表!A1412)","v":1409},{"$f":"IF(語言配置表!A1412=\"\",\"CN_待填充内容\",語言配置表!B1412)","v":"玄龟盾碎片"}]
[{"$f":"IF(語言配置表!A1413=\"\",\"\",語言配置表!A1413)","v":1410},{"$f":"IF(語言配置表!A1413=\"\",\"CN_待填充内容\",語言配置表!B1413)","v":"天殇血刃剑碎片"}]
[{"$f":"IF(語言配置表!A1414=\"\",\"\",語言配置表!A1414)","v":1411},{"$f":"IF(語言配置表!A1414=\"\",\"CN_待填充内容\",語言配置表!B1414)","v":"禁元珠碎片描述"}]
[{"$f":"IF(語言配置表!A1415=\"\",\"\",語言配置表!A1415)","v":1412},{"$f":"IF(語言配置表!A1415=\"\",\"CN_待填充内容\",語言配置表!B1415)","v":"玄龟盾碎片描述"}]
[{"$f":"IF(語言配置表!A1416=\"\",\"\",語言配置表!A1416)","v":1413},{"$f":"IF(語言配置表!A1416=\"\",\"CN_待填充内容\",語言配置表!B1416)","v":"天殇血刃剑碎片描述"}]
[{"$f":"IF(語言配置表!A1417=\"\",\"\",語言配置表!A1417)","v":1414},{"$f":"IF(語言配置表!A1417=\"\",\"CN_待填充内容\",語言配置表!B1417)","v":"太虚幻剑经"}]
[{"$f":"IF(語言配置表!A1418=\"\",\"\",語言配置表!A1418)","v":1415},{"$f":"IF(語言配置表!A1418=\"\",\"CN_待填充内容\",語言配置表!B1418)","v":"天罡剑气诀"}]
[{"$f":"IF(語言配置表!A1419=\"\",\"\",語言配置表!A1419)","v":1416},{"$f":"IF(語言配置表!A1419=\"\",\"CN_待填充内容\",語言配置表!B1419)","v":"血刃金煌功"}]
[{"$f":"IF(語言配置表!A1420=\"\",\"\",語言配置表!A1420)","v":1417},{"$f":"IF(語言配置表!A1420=\"\",\"CN_待填充内容\",語言配置表!B1420)","v":"飞刃"}]
[{"$f":"IF(語言配置表!A1421=\"\",\"\",語言配置表!A1421)","v":1418},{"$f":"IF(語言配置表!A1421=\"\",\"CN_待填充内容\",語言配置表!B1421)","v":"金针"}]
[{"$f":"IF(語言配置表!A1422=\"\",\"\",語言配置表!A1422)","v":1419},{"$f":"IF(語言配置表!A1422=\"\",\"CN_待填充内容\",語言配置表!B1422)","v":"碧落幽冥劲"}]
[{"$f":"IF(語言配置表!A1423=\"\",\"\",語言配置表!A1423)","v":1420},{"$f":"IF(語言配置表!A1423=\"\",\"CN_待填充内容\",語言配置表!B1423)","v":"雾隐千流法"}]
[{"$f":"IF(語言配置表!A1424=\"\",\"\",語言配置表!A1424)","v":1421},{"$f":"IF(語言配置表!A1424=\"\",\"CN_待填充内容\",語言配置表!B1424)","v":"功法-水3"}]
[{"$f":"IF(語言配置表!A1425=\"\",\"\",語言配置表!A1425)","v":1422},{"$f":"IF(語言配置表!A1425=\"\",\"CN_待填充内容\",語言配置表!B1425)","v":"水球"}]
[{"$f":"IF(語言配置表!A1426=\"\",\"\",語言配置表!A1426)","v":1423},{"$f":"IF(語言配置表!A1426=\"\",\"CN_待填充内容\",語言配置表!B1426)","v":"冰刀"}]
[{"$f":"IF(語言配置表!A1427=\"\",\"\",語言配置表!A1427)","v":1424},{"$f":"IF(語言配置表!A1427=\"\",\"CN_待填充内容\",語言配置表!B1427)","v":"瘴影千丝术"}]
[{"$f":"IF(語言配置表!A1428=\"\",\"\",語言配置表!A1428)","v":1425},{"$f":"IF(語言配置表!A1428=\"\",\"CN_待填充内容\",語言配置表!B1428)","v":"蚀骨腐血掌"}]
[{"$f":"IF(語言配置表!A1429=\"\",\"\",語言配置表!A1429)","v":1426},{"$f":"IF(語言配置表!A1429=\"\",\"CN_待填充内容\",語言配置表!B1429)","v":"功法-木3"}]
[{"$f":"IF(語言配置表!A1430=\"\",\"\",語言配置表!A1430)","v":1427},{"$f":"IF(語言配置表!A1430=\"\",\"CN_待填充内容\",語言配置表!B1430)","v":"竹刺"}]
[{"$f":"IF(語言配置表!A1431=\"\",\"\",語言配置表!A1431)","v":1428},{"$f":"IF(語言配置表!A1431=\"\",\"CN_待填充内容\",語言配置表!B1431)","v":"飞叶"}]
[{"$f":"IF(語言配置表!A1432=\"\",\"\",語言配置表!A1432)","v":1429},{"$f":"IF(語言配置表!A1432=\"\",\"CN_待填充内容\",語言配置表!B1432)","v":"烈焰剑"}]
[{"$f":"IF(語言配置表!A1433=\"\",\"\",語言配置表!A1433)","v":1430},{"$f":"IF(語言配置表!A1433=\"\",\"CN_待填充内容\",語言配置表!B1433)","v":"赤焰龙吟功"}]
[{"$f":"IF(語言配置表!A1434=\"\",\"\",語言配置表!A1434)","v":1431},{"$f":"IF(語言配置表!A1434=\"\",\"CN_待填充内容\",語言配置表!B1434)","v":"朱雀燎原指"}]
[{"$f":"IF(語言配置表!A1435=\"\",\"\",語言配置表!A1435)","v":1432},{"$f":"IF(語言配置表!A1435=\"\",\"CN_待填充内容\",語言配置表!B1435)","v":"火球"}]
[{"$f":"IF(語言配置表!A1436=\"\",\"\",語言配置表!A1436)","v":1433},{"$f":"IF(語言配置表!A1436=\"\",\"CN_待填充内容\",語言配置表!B1436)","v":"火刀"}]
[{"$f":"IF(語言配置表!A1437=\"\",\"\",語言配置表!A1437)","v":1434},{"$f":"IF(語言配置表!A1437=\"\",\"CN_待填充内容\",語言配置表!B1437)","v":"黄尘灭魂刺"}]
[{"$f":"IF(語言配置表!A1438=\"\",\"\",語言配置表!A1438)","v":1435},{"$f":"IF(語言配置表!A1438=\"\",\"CN_待填充内容\",語言配置表!B1438)","v":"地裂屠龙斩"}]
[{"$f":"IF(語言配置表!A1439=\"\",\"\",語言配置表!A1439)","v":1436},{"$f":"IF(語言配置表!A1439=\"\",\"CN_待填充内容\",語言配置表!B1439)","v":"功法-土3"}]
[{"$f":"IF(語言配置表!A1440=\"\",\"\",語言配置表!A1440)","v":1437},{"$f":"IF(語言配置表!A1440=\"\",\"CN_待填充内容\",語言配置表!B1440)","v":"落石"}]
[{"$f":"IF(語言配置表!A1441=\"\",\"\",語言配置表!A1441)","v":1438},{"$f":"IF(語言配置表!A1441=\"\",\"CN_待填充内容\",語言配置表!B1441)","v":"小石头"}]
[{"$f":"IF(語言配置表!A1442=\"\",\"\",語言配置表!A1442)","v":1439},{"$f":"IF(語言配置表!A1442=\"\",\"CN_待填充内容\",語言配置表!B1442)","v":"道具-功法名称-占位"}]
[{"$f":"IF(語言配置表!A1443=\"\",\"\",語言配置表!A1443)","v":1440},{"$f":"IF(語言配置表!A1443=\"\",\"CN_待填充内容\",語言配置表!B1443)","v":"道具-功法名称-占位"}]
[{"$f":"IF(語言配置表!A1444=\"\",\"\",語言配置表!A1444)","v":1441},{"$f":"IF(語言配置表!A1444=\"\",\"CN_待填充内容\",語言配置表!B1444)","v":"道具-功法名称-占位"}]
[{"$f":"IF(語言配置表!A1445=\"\",\"\",語言配置表!A1445)","v":1442},{"$f":"IF(語言配置表!A1445=\"\",\"CN_待填充内容\",語言配置表!B1445)","v":"道具-功法名称-占位"}]
[{"$f":"IF(語言配置表!A1446=\"\",\"\",語言配置表!A1446)","v":1443},{"$f":"IF(語言配置表!A1446=\"\",\"CN_待填充内容\",語言配置表!B1446)","v":"道具-功法名称-占位"}]
[{"$f":"IF(語言配置表!A1447=\"\",\"\",語言配置表!A1447)","v":1444},{"$f":"IF(語言配置表!A1447=\"\",\"CN_待填充内容\",語言配置表!B1447)","v":"道具-功法名称-占位"}]
[{"$f":"IF(語言配置表!A1448=\"\",\"\",語言配置表!A1448)","v":1445},{"$f":"IF(語言配置表!A1448=\"\",\"CN_待填充内容\",語言配置表!B1448)","v":"道具-功法名称-占位"}]
[{"$f":"IF(語言配置表!A1449=\"\",\"\",語言配置表!A1449)","v":1446},{"$f":"IF(語言配置表!A1449=\"\",\"CN_待填充内容\",語言配置表!B1449)","v":"道具-功法名称-占位"}]
[{"$f":"IF(語言配置表!A1450=\"\",\"\",語言配置表!A1450)","v":1447},{"$f":"IF(語言配置表!A1450=\"\",\"CN_待填充内容\",語言配置表!B1450)","v":"道具-功法名称-占位"}]
[{"$f":"IF(語言配置表!A1451=\"\",\"\",語言配置表!A1451)","v":1448},{"$f":"IF(語言配置表!A1451=\"\",\"CN_待填充内容\",語言配置表!B1451)","v":"道具-功法名称-占位"}]
[{"$f":"IF(語言配置表!A1452=\"\",\"\",語言配置表!A1452)","v":1449},{"$f":"IF(語言配置表!A1452=\"\",\"CN_待填充内容\",語言配置表!B1452)","v":"道具-功法名称-占位"}]
[{"$f":"IF(語言配置表!A1453=\"\",\"\",語言配置表!A1453)","v":1450},{"$f":"IF(語言配置表!A1453=\"\",\"CN_待填充内容\",語言配置表!B1453)","v":"道具-功法名称-占位"}]
[{"$f":"IF(語言配置表!A1454=\"\",\"\",語言配置表!A1454)","v":1451},{"$f":"IF(語言配置表!A1454=\"\",\"CN_待填充内容\",語言配置表!B1454)","v":"道具-功法名称-占位"}]
[{"$f":"IF(語言配置表!A1455=\"\",\"\",語言配置表!A1455)","v":1452},{"$f":"IF(語言配置表!A1455=\"\",\"CN_待填充内容\",語言配置表!B1455)","v":"道具-功法名称-占位"}]
[{"$f":"IF(語言配置表!A1456=\"\",\"\",語言配置表!A1456)","v":1453},{"$f":"IF(語言配置表!A1456=\"\",\"CN_待填充内容\",語言配置表!B1456)","v":"道具-功法名称-占位"}]
[{"$f":"IF(語言配置表!A1457=\"\",\"\",語言配置表!A1457)","v":1454},{"$f":"IF(語言配置表!A1457=\"\",\"CN_待填充内容\",語言配置表!B1457)","v":"道具-功法名称-占位"}]
[{"$f":"IF(語言配置表!A1458=\"\",\"\",語言配置表!A1458)","v":1455},{"$f":"IF(語言配置表!A1458=\"\",\"CN_待填充内容\",語言配置表!B1458)","v":"道具-功法名称-占位"}]
[{"$f":"IF(語言配置表!A1459=\"\",\"\",語言配置表!A1459)","v":1456},{"$f":"IF(語言配置表!A1459=\"\",\"CN_待填充内容\",語言配置表!B1459)","v":"道具-功法名称-占位"}]
[{"$f":"IF(語言配置表!A1460=\"\",\"\",語言配置表!A1460)","v":1457},{"$f":"IF(語言配置表!A1460=\"\",\"CN_待填充内容\",語言配置表!B1460)","v":"道具-功法名称-占位"}]
[{"$f":"IF(語言配置表!A1461=\"\",\"\",語言配置表!A1461)","v":1458},{"$f":"IF(語言配置表!A1461=\"\",\"CN_待填充内容\",語言配置表!B1461)","v":"道具-功法名称-占位"}]
[{"$f":"IF(語言配置表!A1462=\"\",\"\",語言配置表!A1462)","v":1459},{"$f":"IF(語言配置表!A1462=\"\",\"CN_待填充内容\",語言配置表!B1462)","v":"道具-功法名称-占位"}]
[{"$f":"IF(語言配置表!A1463=\"\",\"\",語言配置表!A1463)","v":1460},{"$f":"IF(語言配置表!A1463=\"\",\"CN_待填充内容\",語言配置表!B1463)","v":"道具-功法名称-占位"}]
[{"$f":"IF(語言配置表!A1464=\"\",\"\",語言配置表!A1464)","v":1461},{"$f":"IF(語言配置表!A1464=\"\",\"CN_待填充内容\",語言配置表!B1464)","v":"道具-功法名称-占位"}]
[{"$f":"IF(語言配置表!A1465=\"\",\"\",語言配置表!A1465)","v":1462},{"$f":"IF(語言配置表!A1465=\"\",\"CN_待填充内容\",語言配置表!B1465)","v":"道具-功法名称-占位"}]
[{"$f":"IF(語言配置表!A1466=\"\",\"\",語言配置表!A1466)","v":1463},{"$f":"IF(語言配置表!A1466=\"\",\"CN_待填充内容\",語言配置表!B1466)","v":"道具-功法名称-占位"}]
[{"$f":"IF(語言配置表!A1467=\"\",\"\",語言配置表!A1467)","v":1464},{"$f":"IF(語言配置表!A1467=\"\",\"CN_待填充内容\",語言配置表!B1467)","v":"道具-功法名称-占位"}]
[{"$f":"IF(語言配置表!A1468=\"\",\"\",語言配置表!A1468)","v":1465},{"$f":"IF(語言配置表!A1468=\"\",\"CN_待填充内容\",語言配置表!B1468)","v":"道具-功法名称-占位"}]
[{"$f":"IF(語言配置表!A1469=\"\",\"\",語言配置表!A1469)","v":1466},{"$f":"IF(語言配置表!A1469=\"\",\"CN_待填充内容\",語言配置表!B1469)","v":"道具-功法名称-占位"}]
[{"$f":"IF(語言配置表!A1470=\"\",\"\",語言配置表!A1470)","v":1467},{"$f":"IF(語言配置表!A1470=\"\",\"CN_待填充内容\",語言配置表!B1470)","v":"道具-功法名称-占位"}]
[{"$f":"IF(語言配置表!A1471=\"\",\"\",語言配置表!A1471)","v":1468},{"$f":"IF(語言配置表!A1471=\"\",\"CN_待填充内容\",語言配置表!B1471)","v":"道具-功法名称-占位"}]
[{"$f":"IF(語言配置表!A1472=\"\",\"\",語言配置表!A1472)","v":1469},{"$f":"IF(語言配置表!A1472=\"\",\"CN_待填充内容\",語言配置表!B1472)","v":"道具-功法名称-占位"}]
[{"$f":"IF(語言配置表!A1473=\"\",\"\",語言配置表!A1473)","v":1470},{"$f":"IF(語言配置表!A1473=\"\",\"CN_待填充内容\",語言配置表!B1473)","v":"道具-功法名称-占位"}]
[{"$f":"IF(語言配置表!A1474=\"\",\"\",語言配置表!A1474)","v":1471},{"$f":"IF(語言配置表!A1474=\"\",\"CN_待填充内容\",語言配置表!B1474)","v":"道具-功法名称-占位"}]
[{"$f":"IF(語言配置表!A1475=\"\",\"\",語言配置表!A1475)","v":1472},{"$f":"IF(語言配置表!A1475=\"\",\"CN_待填充内容\",語言配置表!B1475)","v":"道具-功法名称-占位"}]
[{"$f":"IF(語言配置表!A1476=\"\",\"\",語言配置表!A1476)","v":1473},{"$f":"IF(語言配置表!A1476=\"\",\"CN_待填充内容\",語言配置表!B1476)","v":"道具-功法名称-占位"}]
[{"$f":"IF(語言配置表!A1477=\"\",\"\",語言配置表!A1477)","v":1474},{"$f":"IF(語言配置表!A1477=\"\",\"CN_待填充内容\",語言配置表!B1477)","v":"道具-功法名称-占位"}]
[{"$f":"IF(語言配置表!A1478=\"\",\"\",語言配置表!A1478)","v":1475},{"$f":"IF(語言配置表!A1478=\"\",\"CN_待填充内容\",語言配置表!B1478)","v":"道具-功法名称-占位"}]
[{"$f":"IF(語言配置表!A1479=\"\",\"\",語言配置表!A1479)","v":1476},{"$f":"IF(語言配置表!A1479=\"\",\"CN_待填充内容\",語言配置表!B1479)","v":"道具-功法名称-占位"}]
[{"$f":"IF(語言配置表!A1480=\"\",\"\",語言配置表!A1480)","v":1477},{"$f":"IF(語言配置表!A1480=\"\",\"CN_待填充内容\",語言配置表!B1480)","v":"道具-功法名称-占位"}]
[{"$f":"IF(語言配置表!A1481=\"\",\"\",語言配置表!A1481)","v":1478},{"$f":"IF(語言配置表!A1481=\"\",\"CN_待填充内容\",語言配置表!B1481)","v":"道具-功法名称-占位"}]
[{"$f":"IF(語言配置表!A1482=\"\",\"\",語言配置表!A1482)","v":1479},{"$f":"IF(語言配置表!A1482=\"\",\"CN_待填充内容\",語言配置表!B1482)","v":"道具-功法名称-占位"}]
[{"$f":"IF(語言配置表!A1483=\"\",\"\",語言配置表!A1483)","v":1480},{"$f":"IF(語言配置表!A1483=\"\",\"CN_待填充内容\",語言配置表!B1483)","v":"道具-功法名称-占位"}]
[{"$f":"IF(語言配置表!A1484=\"\",\"\",語言配置表!A1484)","v":1481},{"$f":"IF(語言配置表!A1484=\"\",\"CN_待填充内容\",語言配置表!B1484)","v":"道具-功法名称-占位"}]
[{"$f":"IF(語言配置表!A1485=\"\",\"\",語言配置表!A1485)","v":1482},{"$f":"IF(語言配置表!A1485=\"\",\"CN_待填充内容\",語言配置表!B1485)","v":"道具-功法名称-占位"}]
[{"$f":"IF(語言配置表!A1486=\"\",\"\",語言配置表!A1486)","v":1483},{"$f":"IF(語言配置表!A1486=\"\",\"CN_待填充内容\",語言配置表!B1486)","v":"道具-功法名称-占位"}]
[{"$f":"IF(語言配置表!A1487=\"\",\"\",語言配置表!A1487)","v":1484},{"$f":"IF(語言配置表!A1487=\"\",\"CN_待填充内容\",語言配置表!B1487)","v":"道具-功法名称-占位"}]
[{"$f":"IF(語言配置表!A1488=\"\",\"\",語言配置表!A1488)","v":1485},{"$f":"IF(語言配置表!A1488=\"\",\"CN_待填充内容\",語言配置表!B1488)","v":"道具-功法名称-占位"}]
[{"$f":"IF(語言配置表!A1489=\"\",\"\",語言配置表!A1489)","v":1486},{"$f":"IF(語言配置表!A1489=\"\",\"CN_待填充内容\",語言配置表!B1489)","v":"道具-功法名称-占位"}]
[{"$f":"IF(語言配置表!A1490=\"\",\"\",語言配置表!A1490)","v":1487},{"$f":"IF(語言配置表!A1490=\"\",\"CN_待填充内容\",語言配置表!B1490)","v":"道具-功法名称-占位"}]
[{"$f":"IF(語言配置表!A1491=\"\",\"\",語言配置表!A1491)","v":1488},{"$f":"IF(語言配置表!A1491=\"\",\"CN_待填充内容\",語言配置表!B1491)","v":"道具-功法名称-占位"}]
[{"$f":"IF(語言配置表!A1492=\"\",\"\",語言配置表!A1492)","v":1489},{"$f":"IF(語言配置表!A1492=\"\",\"CN_待填充内容\",語言配置表!B1492)","v":"道具-功法名称-占位"}]
[{"$f":"IF(語言配置表!A1493=\"\",\"\",語言配置表!A1493)","v":1490},{"$f":"IF(語言配置表!A1493=\"\",\"CN_待填充内容\",語言配置表!B1493)","v":"道具-功法名称-占位"}]
[{"$f":"IF(語言配置表!A1494=\"\",\"\",語言配置表!A1494)","v":1491},{"$f":"IF(語言配置表!A1494=\"\",\"CN_待填充内容\",語言配置表!B1494)","v":"道具-功法名称-占位"}]
[{"$f":"IF(語言配置表!A1495=\"\",\"\",語言配置表!A1495)","v":1492},{"$f":"IF(語言配置表!A1495=\"\",\"CN_待填充内容\",語言配置表!B1495)","v":"道具-功法名称-占位"}]
[{"$f":"IF(語言配置表!A1496=\"\",\"\",語言配置表!A1496)","v":1493},{"$f":"IF(語言配置表!A1496=\"\",\"CN_待填充内容\",語言配置表!B1496)","v":"道具-功法名称-占位"}]
[{"$f":"IF(語言配置表!A1497=\"\",\"\",語言配置表!A1497)","v":1494},{"$f":"IF(語言配置表!A1497=\"\",\"CN_待填充内容\",語言配置表!B1497)","v":"道具-功法名称-占位"}]
[{"$f":"IF(語言配置表!A1498=\"\",\"\",語言配置表!A1498)","v":1495},{"$f":"IF(語言配置表!A1498=\"\",\"CN_待填充内容\",語言配置表!B1498)","v":"道具-功法名称-占位"}]
[{"$f":"IF(語言配置表!A1499=\"\",\"\",語言配置表!A1499)","v":1496},{"$f":"IF(語言配置表!A1499=\"\",\"CN_待填充内容\",語言配置表!B1499)","v":"道具-功法名称-占位"}]
[{"$f":"IF(語言配置表!A1500=\"\",\"\",語言配置表!A1500)","v":1497},{"$f":"IF(語言配置表!A1500=\"\",\"CN_待填充内容\",語言配置表!B1500)","v":"道具-功法名称-占位"}]
[{"$f":"IF(語言配置表!A1501=\"\",\"\",語言配置表!A1501)","v":1498},{"$f":"IF(語言配置表!A1501=\"\",\"CN_待填充内容\",語言配置表!B1501)","v":"道具-功法名称-占位"}]
[{"$f":"IF(語言配置表!A1502=\"\",\"\",語言配置表!A1502)","v":1499},{"$f":"IF(語言配置表!A1502=\"\",\"CN_待填充内容\",語言配置表!B1502)","v":"道具-功法名称-占位"}]
[{"$f":"IF(語言配置表!A1503=\"\",\"\",語言配置表!A1503)","v":1500},{"$f":"IF(語言配置表!A1503=\"\",\"CN_待填充内容\",語言配置表!B1503)","v":"太虚幻剑经---功法道具描述占位"}]
[{"$f":"IF(語言配置表!A1504=\"\",\"\",語言配置表!A1504)","v":1501},{"$f":"IF(語言配置表!A1504=\"\",\"CN_待填充内容\",語言配置表!B1504)","v":"天罡剑气诀---功法道具描述占位"}]
[{"$f":"IF(語言配置表!A1505=\"\",\"\",語言配置表!A1505)","v":1502},{"$f":"IF(語言配置表!A1505=\"\",\"CN_待填充内容\",語言配置表!B1505)","v":"血刃金煌功---功法道具描述占位"}]
[{"$f":"IF(語言配置表!A1506=\"\",\"\",語言配置表!A1506)","v":1503},{"$f":"IF(語言配置表!A1506=\"\",\"CN_待填充内容\",語言配置表!B1506)","v":"飞刃---功法道具描述占位"}]
[{"$f":"IF(語言配置表!A1507=\"\",\"\",語言配置表!A1507)","v":1504},{"$f":"IF(語言配置表!A1507=\"\",\"CN_待填充内容\",語言配置表!B1507)","v":"金针---功法道具描述占位"}]
[{"$f":"IF(語言配置表!A1508=\"\",\"\",語言配置表!A1508)","v":1505},{"$f":"IF(語言配置表!A1508=\"\",\"CN_待填充内容\",語言配置表!B1508)","v":"碧落幽冥劲---功法道具描述占位"}]
[{"$f":"IF(語言配置表!A1509=\"\",\"\",語言配置表!A1509)","v":1506},{"$f":"IF(語言配置表!A1509=\"\",\"CN_待填充内容\",語言配置表!B1509)","v":"雾隐千流法---功法道具描述占位"}]
[{"$f":"IF(語言配置表!A1510=\"\",\"\",語言配置表!A1510)","v":1507},{"$f":"IF(語言配置表!A1510=\"\",\"CN_待填充内容\",語言配置表!B1510)","v":"功法-水3---功法道具描述占位"}]
[{"$f":"IF(語言配置表!A1511=\"\",\"\",語言配置表!A1511)","v":1508},{"$f":"IF(語言配置表!A1511=\"\",\"CN_待填充内容\",語言配置表!B1511)","v":"水球---功法道具描述占位"}]
[{"$f":"IF(語言配置表!A1512=\"\",\"\",語言配置表!A1512)","v":1509},{"$f":"IF(語言配置表!A1512=\"\",\"CN_待填充内容\",語言配置表!B1512)","v":"冰刀---功法道具描述占位"}]
[{"$f":"IF(語言配置表!A1513=\"\",\"\",語言配置表!A1513)","v":1510},{"$f":"IF(語言配置表!A1513=\"\",\"CN_待填充内容\",語言配置表!B1513)","v":"瘴影千丝术---功法道具描述占位"}]
[{"$f":"IF(語言配置表!A1514=\"\",\"\",語言配置表!A1514)","v":1511},{"$f":"IF(語言配置表!A1514=\"\",\"CN_待填充内容\",語言配置表!B1514)","v":"蚀骨腐血掌---功法道具描述占位"}]
[{"$f":"IF(語言配置表!A1515=\"\",\"\",語言配置表!A1515)","v":1512},{"$f":"IF(語言配置表!A1515=\"\",\"CN_待填充内容\",語言配置表!B1515)","v":"功法-木3---功法道具描述占位"}]
[{"$f":"IF(語言配置表!A1516=\"\",\"\",語言配置表!A1516)","v":1513},{"$f":"IF(語言配置表!A1516=\"\",\"CN_待填充内容\",語言配置表!B1516)","v":"竹刺---功法道具描述占位"}]
[{"$f":"IF(語言配置表!A1517=\"\",\"\",語言配置表!A1517)","v":1514},{"$f":"IF(語言配置表!A1517=\"\",\"CN_待填充内容\",語言配置表!B1517)","v":"飞叶---功法道具描述占位"}]
[{"$f":"IF(語言配置表!A1518=\"\",\"\",語言配置表!A1518)","v":1515},{"$f":"IF(語言配置表!A1518=\"\",\"CN_待填充内容\",語言配置表!B1518)","v":"烈焰剑---功法道具描述占位"}]
[{"$f":"IF(語言配置表!A1519=\"\",\"\",語言配置表!A1519)","v":1516},{"$f":"IF(語言配置表!A1519=\"\",\"CN_待填充内容\",語言配置表!B1519)","v":"赤焰龙吟功---功法道具描述占位"}]
[{"$f":"IF(語言配置表!A1520=\"\",\"\",語言配置表!A1520)","v":1517},{"$f":"IF(語言配置表!A1520=\"\",\"CN_待填充内容\",語言配置表!B1520)","v":"朱雀燎原指---功法道具描述占位"}]
[{"$f":"IF(語言配置表!A1521=\"\",\"\",語言配置表!A1521)","v":1518},{"$f":"IF(語言配置表!A1521=\"\",\"CN_待填充内容\",語言配置表!B1521)","v":"火球---功法道具描述占位"}]
[{"$f":"IF(語言配置表!A1522=\"\",\"\",語言配置表!A1522)","v":1519},{"$f":"IF(語言配置表!A1522=\"\",\"CN_待填充内容\",語言配置表!B1522)","v":"火刀---功法道具描述占位"}]
[{"$f":"IF(語言配置表!A1523=\"\",\"\",語言配置表!A1523)","v":1520},{"$f":"IF(語言配置表!A1523=\"\",\"CN_待填充内容\",語言配置表!B1523)","v":"黄尘灭魂刺---功法道具描述占位"}]
[{"$f":"IF(語言配置表!A1524=\"\",\"\",語言配置表!A1524)","v":1521},{"$f":"IF(語言配置表!A1524=\"\",\"CN_待填充内容\",語言配置表!B1524)","v":"地裂屠龙斩---功法道具描述占位"}]
[{"$f":"IF(語言配置表!A1525=\"\",\"\",語言配置表!A1525)","v":1522},{"$f":"IF(語言配置表!A1525=\"\",\"CN_待填充内容\",語言配置表!B1525)","v":"功法-土3---功法道具描述占位"}]
[{"$f":"IF(語言配置表!A1526=\"\",\"\",語言配置表!A1526)","v":1523},{"$f":"IF(語言配置表!A1526=\"\",\"CN_待填充内容\",語言配置表!B1526)","v":"落石---功法道具描述占位"}]
[{"$f":"IF(語言配置表!A1527=\"\",\"\",語言配置表!A1527)","v":1524},{"$f":"IF(語言配置表!A1527=\"\",\"CN_待填充内容\",語言配置表!B1527)","v":"小石头---功法道具描述占位"}]
[{"$f":"IF(語言配置表!A1528=\"\",\"\",語言配置表!A1528)","v":1525},{"$f":"IF(語言配置表!A1528=\"\",\"CN_待填充内容\",語言配置表!B1528)","v":"---功法道具描述占位"}]
[{"$f":"IF(語言配置表!A1529=\"\",\"\",語言配置表!A1529)","v":1526},{"$f":"IF(語言配置表!A1529=\"\",\"CN_待填充内容\",語言配置表!B1529)","v":"---功法道具描述占位"}]
[{"$f":"IF(語言配置表!A1530=\"\",\"\",語言配置表!A1530)","v":1527},{"$f":"IF(語言配置表!A1530=\"\",\"CN_待填充内容\",語言配置表!B1530)","v":"---功法道具描述占位"}]
[{"$f":"IF(語言配置表!A1531=\"\",\"\",語言配置表!A1531)","v":1528},{"$f":"IF(語言配置表!A1531=\"\",\"CN_待填充内容\",語言配置表!B1531)","v":"---功法道具描述占位"}]
[{"$f":"IF(語言配置表!A1532=\"\",\"\",語言配置表!A1532)","v":1529},{"$f":"IF(語言配置表!A1532=\"\",\"CN_待填充内容\",語言配置表!B1532)","v":"---功法道具描述占位"}]
[{"$f":"IF(語言配置表!A1533=\"\",\"\",語言配置表!A1533)","v":1530},{"$f":"IF(語言配置表!A1533=\"\",\"CN_待填充内容\",語言配置表!B1533)","v":"---功法道具描述占位"}]
[{"$f":"IF(語言配置表!A1534=\"\",\"\",語言配置表!A1534)","v":1531},{"$f":"IF(語言配置表!A1534=\"\",\"CN_待填充内容\",語言配置表!B1534)","v":"---功法道具描述占位"}]
[{"$f":"IF(語言配置表!A1535=\"\",\"\",語言配置表!A1535)","v":1532},{"$f":"IF(語言配置表!A1535=\"\",\"CN_待填充内容\",語言配置表!B1535)","v":"---功法道具描述占位"}]
[{"$f":"IF(語言配置表!A1536=\"\",\"\",語言配置表!A1536)","v":1533},{"$f":"IF(語言配置表!A1536=\"\",\"CN_待填充内容\",語言配置表!B1536)","v":"---功法道具描述占位"}]
[{"$f":"IF(語言配置表!A1537=\"\",\"\",語言配置表!A1537)","v":1534},{"$f":"IF(語言配置表!A1537=\"\",\"CN_待填充内容\",語言配置表!B1537)","v":"---功法道具描述占位"}]
[{"$f":"IF(語言配置表!A1538=\"\",\"\",語言配置表!A1538)","v":1535},{"$f":"IF(語言配置表!A1538=\"\",\"CN_待填充内容\",語言配置表!B1538)","v":"---功法道具描述占位"}]
[{"$f":"IF(語言配置表!A1539=\"\",\"\",語言配置表!A1539)","v":1536},{"$f":"IF(語言配置表!A1539=\"\",\"CN_待填充内容\",語言配置表!B1539)","v":"---功法道具描述占位"}]
[{"$f":"IF(語言配置表!A1540=\"\",\"\",語言配置表!A1540)","v":1537},{"$f":"IF(語言配置表!A1540=\"\",\"CN_待填充内容\",語言配置表!B1540)","v":"---功法道具描述占位"}]
[{"$f":"IF(語言配置表!A1541=\"\",\"\",語言配置表!A1541)","v":1538},{"$f":"IF(語言配置表!A1541=\"\",\"CN_待填充内容\",語言配置表!B1541)","v":"---功法道具描述占位"}]
[{"$f":"IF(語言配置表!A1542=\"\",\"\",語言配置表!A1542)","v":1539},{"$f":"IF(語言配置表!A1542=\"\",\"CN_待填充内容\",語言配置表!B1542)","v":"---功法道具描述占位"}]
[{"$f":"IF(語言配置表!A1543=\"\",\"\",語言配置表!A1543)","v":1540},{"$f":"IF(語言配置表!A1543=\"\",\"CN_待填充内容\",語言配置表!B1543)","v":"---功法道具描述占位"}]
[{"$f":"IF(語言配置表!A1544=\"\",\"\",語言配置表!A1544)","v":1541},{"$f":"IF(語言配置表!A1544=\"\",\"CN_待填充内容\",語言配置表!B1544)","v":"---功法道具描述占位"}]
[{"$f":"IF(語言配置表!A1545=\"\",\"\",語言配置表!A1545)","v":1542},{"$f":"IF(語言配置表!A1545=\"\",\"CN_待填充内容\",語言配置表!B1545)","v":"---功法道具描述占位"}]
[{"$f":"IF(語言配置表!A1546=\"\",\"\",語言配置表!A1546)","v":1543},{"$f":"IF(語言配置表!A1546=\"\",\"CN_待填充内容\",語言配置表!B1546)","v":"---功法道具描述占位"}]
[{"$f":"IF(語言配置表!A1547=\"\",\"\",語言配置表!A1547)","v":1544},{"$f":"IF(語言配置表!A1547=\"\",\"CN_待填充内容\",語言配置表!B1547)","v":"---功法道具描述占位"}]
[{"$f":"IF(語言配置表!A1548=\"\",\"\",語言配置表!A1548)","v":1545},{"$f":"IF(語言配置表!A1548=\"\",\"CN_待填充内容\",語言配置表!B1548)","v":"---功法道具描述占位"}]
[{"$f":"IF(語言配置表!A1549=\"\",\"\",語言配置表!A1549)","v":1546},{"$f":"IF(語言配置表!A1549=\"\",\"CN_待填充内容\",語言配置表!B1549)","v":"---功法道具描述占位"}]
[{"$f":"IF(語言配置表!A1550=\"\",\"\",語言配置表!A1550)","v":1547},{"$f":"IF(語言配置表!A1550=\"\",\"CN_待填充内容\",語言配置表!B1550)","v":"---功法道具描述占位"}]
[{"$f":"IF(語言配置表!A1551=\"\",\"\",語言配置表!A1551)","v":1548},{"$f":"IF(語言配置表!A1551=\"\",\"CN_待填充内容\",語言配置表!B1551)","v":"---功法道具描述占位"}]
[{"$f":"IF(語言配置表!A1552=\"\",\"\",語言配置表!A1552)","v":1549},{"$f":"IF(語言配置表!A1552=\"\",\"CN_待填充内容\",語言配置表!B1552)","v":"---功法道具描述占位"}]
[{"$f":"IF(語言配置表!A1553=\"\",\"\",語言配置表!A1553)","v":1550},{"$f":"IF(語言配置表!A1553=\"\",\"CN_待填充内容\",語言配置表!B1553)","v":"---功法道具描述占位"}]
[{"$f":"IF(語言配置表!A1554=\"\",\"\",語言配置表!A1554)","v":1551},{"$f":"IF(語言配置表!A1554=\"\",\"CN_待填充内容\",語言配置表!B1554)","v":"---功法道具描述占位"}]
[{"$f":"IF(語言配置表!A1555=\"\",\"\",語言配置表!A1555)","v":1552},{"$f":"IF(語言配置表!A1555=\"\",\"CN_待填充内容\",語言配置表!B1555)","v":"---功法道具描述占位"}]
[{"$f":"IF(語言配置表!A1556=\"\",\"\",語言配置表!A1556)","v":1553},{"$f":"IF(語言配置表!A1556=\"\",\"CN_待填充内容\",語言配置表!B1556)","v":"---功法道具描述占位"}]
[{"$f":"IF(語言配置表!A1557=\"\",\"\",語言配置表!A1557)","v":1554},{"$f":"IF(語言配置表!A1557=\"\",\"CN_待填充内容\",語言配置表!B1557)","v":"---功法道具描述占位"}]
[{"$f":"IF(語言配置表!A1558=\"\",\"\",語言配置表!A1558)","v":1555},{"$f":"IF(語言配置表!A1558=\"\",\"CN_待填充内容\",語言配置表!B1558)","v":"---功法道具描述占位"}]
[{"$f":"IF(語言配置表!A1559=\"\",\"\",語言配置表!A1559)","v":1556},{"$f":"IF(語言配置表!A1559=\"\",\"CN_待填充内容\",語言配置表!B1559)","v":"---功法道具描述占位"}]
[{"$f":"IF(語言配置表!A1560=\"\",\"\",語言配置表!A1560)","v":1557},{"$f":"IF(語言配置表!A1560=\"\",\"CN_待填充内容\",語言配置表!B1560)","v":"---功法道具描述占位"}]
[{"$f":"IF(語言配置表!A1561=\"\",\"\",語言配置表!A1561)","v":1558},{"$f":"IF(語言配置表!A1561=\"\",\"CN_待填充内容\",語言配置表!B1561)","v":"---功法道具描述占位"}]
[{"$f":"IF(語言配置表!A1562=\"\",\"\",語言配置表!A1562)","v":1559},{"$f":"IF(語言配置表!A1562=\"\",\"CN_待填充内容\",語言配置表!B1562)","v":"---功法道具描述占位"}]
[{"$f":"IF(語言配置表!A1563=\"\",\"\",語言配置表!A1563)","v":1560},{"$f":"IF(語言配置表!A1563=\"\",\"CN_待填充内容\",語言配置表!B1563)","v":"---功法道具描述占位"}]
[{"$f":"IF(語言配置表!A1564=\"\",\"\",語言配置表!A1564)","v":1561},{"$f":"IF(語言配置表!A1564=\"\",\"CN_待填充内容\",語言配置表!B1564)","v":"---功法道具描述占位"}]
[{"$f":"IF(語言配置表!A1565=\"\",\"\",語言配置表!A1565)","v":1562},{"$f":"IF(語言配置表!A1565=\"\",\"CN_待填充内容\",語言配置表!B1565)","v":"---功法道具描述占位"}]
[{"$f":"IF(語言配置表!A1566=\"\",\"\",語言配置表!A1566)","v":1563},{"$f":"IF(語言配置表!A1566=\"\",\"CN_待填充内容\",語言配置表!B1566)","v":"---功法道具描述占位"}]
[{"$f":"IF(語言配置表!A1567=\"\",\"\",語言配置表!A1567)","v":1564},{"$f":"IF(語言配置表!A1567=\"\",\"CN_待填充内容\",語言配置表!B1567)","v":"---功法道具描述占位"}]
[{"$f":"IF(語言配置表!A1568=\"\",\"\",語言配置表!A1568)","v":1565},{"$f":"IF(語言配置表!A1568=\"\",\"CN_待填充内容\",語言配置表!B1568)","v":"---功法道具描述占位"}]
[{"$f":"IF(語言配置表!A1569=\"\",\"\",語言配置表!A1569)","v":1566},{"$f":"IF(語言配置表!A1569=\"\",\"CN_待填充内容\",語言配置表!B1569)","v":"---功法道具描述占位"}]
[{"$f":"IF(語言配置表!A1570=\"\",\"\",語言配置表!A1570)","v":1567},{"$f":"IF(語言配置表!A1570=\"\",\"CN_待填充内容\",語言配置表!B1570)","v":"---功法道具描述占位"}]
[{"$f":"IF(語言配置表!A1571=\"\",\"\",語言配置表!A1571)","v":1568},{"$f":"IF(語言配置表!A1571=\"\",\"CN_待填充内容\",語言配置表!B1571)","v":"---功法道具描述占位"}]
[{"$f":"IF(語言配置表!A1572=\"\",\"\",語言配置表!A1572)","v":1569},{"$f":"IF(語言配置表!A1572=\"\",\"CN_待填充内容\",語言配置表!B1572)","v":"---功法道具描述占位"}]
[{"$f":"IF(語言配置表!A1573=\"\",\"\",語言配置表!A1573)","v":1570},{"$f":"IF(語言配置表!A1573=\"\",\"CN_待填充内容\",語言配置表!B1573)","v":"---功法道具描述占位"}]
[{"$f":"IF(語言配置表!A1574=\"\",\"\",語言配置表!A1574)","v":1571},{"$f":"IF(語言配置表!A1574=\"\",\"CN_待填充内容\",語言配置表!B1574)","v":"---功法道具描述占位"}]
[{"$f":"IF(語言配置表!A1575=\"\",\"\",語言配置表!A1575)","v":1572},{"$f":"IF(語言配置表!A1575=\"\",\"CN_待填充内容\",語言配置表!B1575)","v":"---功法道具描述占位"}]
[{"$f":"IF(語言配置表!A1576=\"\",\"\",語言配置表!A1576)","v":1573},{"$f":"IF(語言配置表!A1576=\"\",\"CN_待填充内容\",語言配置表!B1576)","v":"---功法道具描述占位"}]
[{"$f":"IF(語言配置表!A1577=\"\",\"\",語言配置表!A1577)","v":1574},{"$f":"IF(語言配置表!A1577=\"\",\"CN_待填充内容\",語言配置表!B1577)","v":"---功法道具描述占位"}]
[{"$f":"IF(語言配置表!A1578=\"\",\"\",語言配置表!A1578)","v":1575},{"$f":"IF(語言配置表!A1578=\"\",\"CN_待填充内容\",語言配置表!B1578)","v":"---功法道具描述占位"}]
[{"$f":"IF(語言配置表!A1579=\"\",\"\",語言配置表!A1579)","v":1576},{"$f":"IF(語言配置表!A1579=\"\",\"CN_待填充内容\",語言配置表!B1579)","v":"---功法道具描述占位"}]
[{"$f":"IF(語言配置表!A1580=\"\",\"\",語言配置表!A1580)","v":1577},{"$f":"IF(語言配置表!A1580=\"\",\"CN_待填充内容\",語言配置表!B1580)","v":"---功法道具描述占位"}]
[{"$f":"IF(語言配置表!A1581=\"\",\"\",語言配置表!A1581)","v":1578},{"$f":"IF(語言配置表!A1581=\"\",\"CN_待填充内容\",語言配置表!B1581)","v":"---功法道具描述占位"}]
[{"$f":"IF(語言配置表!A1582=\"\",\"\",語言配置表!A1582)","v":1579},{"$f":"IF(語言配置表!A1582=\"\",\"CN_待填充内容\",語言配置表!B1582)","v":"---功法道具描述占位"}]
[{"$f":"IF(語言配置表!A1583=\"\",\"\",語言配置表!A1583)","v":1580},{"$f":"IF(語言配置表!A1583=\"\",\"CN_待填充内容\",語言配置表!B1583)","v":"---功法道具描述占位"}]
[{"$f":"IF(語言配置表!A1584=\"\",\"\",語言配置表!A1584)","v":1581},{"$f":"IF(語言配置表!A1584=\"\",\"CN_待填充内容\",語言配置表!B1584)","v":"---功法道具描述占位"}]
[{"$f":"IF(語言配置表!A1585=\"\",\"\",語言配置表!A1585)","v":1582},{"$f":"IF(語言配置表!A1585=\"\",\"CN_待填充内容\",語言配置表!B1585)","v":"---功法道具描述占位"}]
[{"$f":"IF(語言配置表!A1586=\"\",\"\",語言配置表!A1586)","v":1583},{"$f":"IF(語言配置表!A1586=\"\",\"CN_待填充内容\",語言配置表!B1586)","v":"---功法道具描述占位"}]
[{"$f":"IF(語言配置表!A1587=\"\",\"\",語言配置表!A1587)","v":1584},{"$f":"IF(語言配置表!A1587=\"\",\"CN_待填充内容\",語言配置表!B1587)","v":"---功法道具描述占位"}]
[{"$f":"IF(語言配置表!A1588=\"\",\"\",語言配置表!A1588)","v":1585},{"$f":"IF(語言配置表!A1588=\"\",\"CN_待填充内容\",語言配置表!B1588)","v":"---功法道具描述占位"}]
[{"$f":"IF(語言配置表!A1589=\"\",\"\",語言配置表!A1589)","v":1586},{"$f":"IF(語言配置表!A1589=\"\",\"CN_待填充内容\",語言配置表!B1589)","v":"---功法道具描述占位"}]
[{"$f":"IF(語言配置表!A1590=\"\",\"\",語言配置表!A1590)","v":1587},{"$f":"IF(語言配置表!A1590=\"\",\"CN_待填充内容\",語言配置表!B1590)","v":"---功法道具描述占位"}]
[{"$f":"IF(語言配置表!A1591=\"\",\"\",語言配置表!A1591)","v":1588},{"$f":"IF(語言配置表!A1591=\"\",\"CN_待填充内容\",語言配置表!B1591)","v":"---功法道具描述占位"}]
[{"$f":"IF(語言配置表!A1592=\"\",\"\",語言配置表!A1592)","v":1589},{"$f":"IF(語言配置表!A1592=\"\",\"CN_待填充内容\",語言配置表!B1592)","v":"---功法道具描述占位"}]
[{"$f":"IF(語言配置表!A1593=\"\",\"\",語言配置表!A1593)","v":1590},{"$f":"IF(語言配置表!A1593=\"\",\"CN_待填充内容\",語言配置表!B1593)","v":"---功法道具描述占位"}]
[{"$f":"IF(語言配置表!A1594=\"\",\"\",語言配置表!A1594)","v":1591},{"$f":"IF(語言配置表!A1594=\"\",\"CN_待填充内容\",語言配置表!B1594)","v":"---功法道具描述占位"}]
[{"$f":"IF(語言配置表!A1595=\"\",\"\",語言配置表!A1595)","v":1592},{"$f":"IF(語言配置表!A1595=\"\",\"CN_待填充内容\",語言配置表!B1595)","v":"---功法道具描述占位"}]
[{"$f":"IF(語言配置表!A1596=\"\",\"\",語言配置表!A1596)","v":1593},{"$f":"IF(語言配置表!A1596=\"\",\"CN_待填充内容\",語言配置表!B1596)","v":"---功法道具描述占位"}]
[{"$f":"IF(語言配置表!A1597=\"\",\"\",語言配置表!A1597)","v":1594},{"$f":"IF(語言配置表!A1597=\"\",\"CN_待填充内容\",語言配置表!B1597)","v":"---功法道具描述占位"}]
[{"$f":"IF(語言配置表!A1598=\"\",\"\",語言配置表!A1598)","v":1595},{"$f":"IF(語言配置表!A1598=\"\",\"CN_待填充内容\",語言配置表!B1598)","v":"---功法道具描述占位"}]
[{"$f":"IF(語言配置表!A1599=\"\",\"\",語言配置表!A1599)","v":1596},{"$f":"IF(語言配置表!A1599=\"\",\"CN_待填充内容\",語言配置表!B1599)","v":"---功法道具描述占位"}]
[{"$f":"IF(語言配置表!A1600=\"\",\"\",語言配置表!A1600)","v":1597},{"$f":"IF(語言配置表!A1600=\"\",\"CN_待填充内容\",語言配置表!B1600)","v":"---功法道具描述占位"}]
[{"$f":"IF(語言配置表!A1601=\"\",\"\",語言配置表!A1601)","v":1598},{"$f":"IF(語言配置表!A1601=\"\",\"CN_待填充内容\",語言配置表!B1601)","v":"---功法道具描述占位"}]
[{"$f":"IF(語言配置表!A1602=\"\",\"\",語言配置表!A1602)","v":1599},{"$f":"IF(語言配置表!A1602=\"\",\"CN_待填充内容\",語言配置表!B1602)","v":"---功法道具描述占位"}]
[{"$f":"IF(語言配置表!A1603=\"\",\"\",語言配置表!A1603)","v":1600},{"$f":"IF(語言配置表!A1603=\"\",\"CN_待填充内容\",語言配置表!B1603)","v":"太虚幻剑经碎片"}]
[{"$f":"IF(語言配置表!A1604=\"\",\"\",語言配置表!A1604)","v":1601},{"$f":"IF(語言配置表!A1604=\"\",\"CN_待填充内容\",語言配置表!B1604)","v":"天罡剑气诀碎片"}]
[{"$f":"IF(語言配置表!A1605=\"\",\"\",語言配置表!A1605)","v":1602},{"$f":"IF(語言配置表!A1605=\"\",\"CN_待填充内容\",語言配置表!B1605)","v":"血刃金煌功碎片"}]
[{"$f":"IF(語言配置表!A1606=\"\",\"\",語言配置表!A1606)","v":1603},{"$f":"IF(語言配置表!A1606=\"\",\"CN_待填充内容\",語言配置表!B1606)","v":"飞刃碎片"}]
[{"$f":"IF(語言配置表!A1607=\"\",\"\",語言配置表!A1607)","v":1604},{"$f":"IF(語言配置表!A1607=\"\",\"CN_待填充内容\",語言配置表!B1607)","v":"金针碎片"}]
[{"$f":"IF(語言配置表!A1608=\"\",\"\",語言配置表!A1608)","v":1605},{"$f":"IF(語言配置表!A1608=\"\",\"CN_待填充内容\",語言配置表!B1608)","v":"碧落幽冥劲碎片"}]
[{"$f":"IF(語言配置表!A1609=\"\",\"\",語言配置表!A1609)","v":1606},{"$f":"IF(語言配置表!A1609=\"\",\"CN_待填充内容\",語言配置表!B1609)","v":"雾隐千流法碎片"}]
[{"$f":"IF(語言配置表!A1610=\"\",\"\",語言配置表!A1610)","v":1607},{"$f":"IF(語言配置表!A1610=\"\",\"CN_待填充内容\",語言配置表!B1610)","v":"功法-水3碎片"}]
[{"$f":"IF(語言配置表!A1611=\"\",\"\",語言配置表!A1611)","v":1608},{"$f":"IF(語言配置表!A1611=\"\",\"CN_待填充内容\",語言配置表!B1611)","v":"水球碎片"}]
[{"$f":"IF(語言配置表!A1612=\"\",\"\",語言配置表!A1612)","v":1609},{"$f":"IF(語言配置表!A1612=\"\",\"CN_待填充内容\",語言配置表!B1612)","v":"冰刀碎片"}]
[{"$f":"IF(語言配置表!A1613=\"\",\"\",語言配置表!A1613)","v":1610},{"$f":"IF(語言配置表!A1613=\"\",\"CN_待填充内容\",語言配置表!B1613)","v":"瘴影千丝术碎片"}]
[{"$f":"IF(語言配置表!A1614=\"\",\"\",語言配置表!A1614)","v":1611},{"$f":"IF(語言配置表!A1614=\"\",\"CN_待填充内容\",語言配置表!B1614)","v":"蚀骨腐血掌碎片"}]
[{"$f":"IF(語言配置表!A1615=\"\",\"\",語言配置表!A1615)","v":1612},{"$f":"IF(語言配置表!A1615=\"\",\"CN_待填充内容\",語言配置表!B1615)","v":"功法-木3碎片"}]
[{"$f":"IF(語言配置表!A1616=\"\",\"\",語言配置表!A1616)","v":1613},{"$f":"IF(語言配置表!A1616=\"\",\"CN_待填充内容\",語言配置表!B1616)","v":"竹刺碎片"}]
[{"$f":"IF(語言配置表!A1617=\"\",\"\",語言配置表!A1617)","v":1614},{"$f":"IF(語言配置表!A1617=\"\",\"CN_待填充内容\",語言配置表!B1617)","v":"飞叶碎片"}]
[{"$f":"IF(語言配置表!A1618=\"\",\"\",語言配置表!A1618)","v":1615},{"$f":"IF(語言配置表!A1618=\"\",\"CN_待填充内容\",語言配置表!B1618)","v":"烈焰剑碎片"}]
[{"$f":"IF(語言配置表!A1619=\"\",\"\",語言配置表!A1619)","v":1616},{"$f":"IF(語言配置表!A1619=\"\",\"CN_待填充内容\",語言配置表!B1619)","v":"赤焰龙吟功碎片"}]
[{"$f":"IF(語言配置表!A1620=\"\",\"\",語言配置表!A1620)","v":1617},{"$f":"IF(語言配置表!A1620=\"\",\"CN_待填充内容\",語言配置表!B1620)","v":"朱雀燎原指碎片"}]
[{"$f":"IF(語言配置表!A1621=\"\",\"\",語言配置表!A1621)","v":1618},{"$f":"IF(語言配置表!A1621=\"\",\"CN_待填充内容\",語言配置表!B1621)","v":"火球碎片"}]
[{"$f":"IF(語言配置表!A1622=\"\",\"\",語言配置表!A1622)","v":1619},{"$f":"IF(語言配置表!A1622=\"\",\"CN_待填充内容\",語言配置表!B1622)","v":"火刀碎片"}]
[{"$f":"IF(語言配置表!A1623=\"\",\"\",語言配置表!A1623)","v":1620},{"$f":"IF(語言配置表!A1623=\"\",\"CN_待填充内容\",語言配置表!B1623)","v":"黄尘灭魂刺碎片"}]
[{"$f":"IF(語言配置表!A1624=\"\",\"\",語言配置表!A1624)","v":1621},{"$f":"IF(語言配置表!A1624=\"\",\"CN_待填充内容\",語言配置表!B1624)","v":"地裂屠龙斩碎片"}]
[{"$f":"IF(語言配置表!A1625=\"\",\"\",語言配置表!A1625)","v":1622},{"$f":"IF(語言配置表!A1625=\"\",\"CN_待填充内容\",語言配置表!B1625)","v":"功法-土3碎片"}]
[{"$f":"IF(語言配置表!A1626=\"\",\"\",語言配置表!A1626)","v":1623},{"$f":"IF(語言配置表!A1626=\"\",\"CN_待填充内容\",語言配置表!B1626)","v":"落石碎片"}]
[{"$f":"IF(語言配置表!A1627=\"\",\"\",語言配置表!A1627)","v":1624},{"$f":"IF(語言配置表!A1627=\"\",\"CN_待填充内容\",語言配置表!B1627)","v":"小石头碎片"}]
[{"$f":"IF(語言配置表!A1628=\"\",\"\",語言配置表!A1628)","v":1625},{"$f":"IF(語言配置表!A1628=\"\",\"CN_待填充内容\",語言配置表!B1628)","v":"天衍星辰诀碎片"}]
[{"$f":"IF(語言配置表!A1629=\"\",\"\",語言配置表!A1629)","v":1626},{"$f":"IF(語言配置表!A1629=\"\",\"CN_待填充内容\",語言配置表!B1629)","v":"法宝秘籍碎片"}]
[{"$f":"IF(語言配置表!A1630=\"\",\"\",語言配置表!A1630)","v":1627},{"$f":"IF(語言配置表!A1630=\"\",\"CN_待填充内容\",語言配置表!B1630)","v":"崩脉决碎片"}]
[{"$f":"IF(語言配置表!A1631=\"\",\"\",語言配置表!A1631)","v":1628},{"$f":"IF(語言配置表!A1631=\"\",\"CN_待填充内容\",語言配置表!B1631)","v":"两仪决碎片"}]
[{"$f":"IF(語言配置表!A1632=\"\",\"\",語言配置表!A1632)","v":1629},{"$f":"IF(語言配置表!A1632=\"\",\"CN_待填充内容\",語言配置表!B1632)","v":"火焰决碎片"}]
[{"$f":"IF(語言配置表!A1633=\"\",\"\",語言配置表!A1633)","v":1630},{"$f":"IF(語言配置表!A1633=\"\",\"CN_待填充内容\",語言配置表!B1633)","v":"乾坤巨灵诀碎片"}]
[{"$f":"IF(語言配置表!A1634=\"\",\"\",語言配置表!A1634)","v":1631},{"$f":"IF(語言配置表!A1634=\"\",\"CN_待填充内容\",語言配置表!B1634)","v":"极速齿轮碎片"}]
[{"$f":"IF(語言配置表!A1635=\"\",\"\",語言配置表!A1635)","v":1632},{"$f":"IF(語言配置表!A1635=\"\",\"CN_待填充内容\",語言配置表!B1635)","v":"太虚剑意碎片"}]
[{"$f":"IF(語言配置表!A1636=\"\",\"\",語言配置表!A1636)","v":1633},{"$f":"IF(語言配置表!A1636=\"\",\"CN_待填充内容\",語言配置表!B1636)","v":"青莲净体诀碎片"}]
[{"$f":"IF(語言配置表!A1637=\"\",\"\",語言配置表!A1637)","v":1634},{"$f":"IF(語言配置表!A1637=\"\",\"CN_待填充内容\",語言配置表!B1637)","v":"碧霄回春术碎片"}]
[{"$f":"IF(語言配置表!A1638=\"\",\"\",語言配置表!A1638)","v":1635},{"$f":"IF(語言配置表!A1638=\"\",\"CN_待填充内容\",語言配置表!B1638)","v":"功法碎片名称占位----------------"}]
[{"$f":"IF(語言配置表!A1639=\"\",\"\",語言配置表!A1639)","v":1636},{"$f":"IF(語言配置表!A1639=\"\",\"CN_待填充内容\",語言配置表!B1639)","v":"功法碎片名称占位----------------"}]
[{"$f":"IF(語言配置表!A1640=\"\",\"\",語言配置表!A1640)","v":1637},{"$f":"IF(語言配置表!A1640=\"\",\"CN_待填充内容\",語言配置表!B1640)","v":"功法碎片名称占位----------------"}]
[{"$f":"IF(語言配置表!A1641=\"\",\"\",語言配置表!A1641)","v":1638},{"$f":"IF(語言配置表!A1641=\"\",\"CN_待填充内容\",語言配置表!B1641)","v":"功法碎片名称占位----------------"}]
[{"$f":"IF(語言配置表!A1642=\"\",\"\",語言配置表!A1642)","v":1639},{"$f":"IF(語言配置表!A1642=\"\",\"CN_待填充内容\",語言配置表!B1642)","v":"功法碎片名称占位----------------"}]
[{"$f":"IF(語言配置表!A1643=\"\",\"\",語言配置表!A1643)","v":1640},{"$f":"IF(語言配置表!A1643=\"\",\"CN_待填充内容\",語言配置表!B1643)","v":"功法碎片名称占位----------------"}]
[{"$f":"IF(語言配置表!A1644=\"\",\"\",語言配置表!A1644)","v":1641},{"$f":"IF(語言配置表!A1644=\"\",\"CN_待填充内容\",語言配置表!B1644)","v":"功法碎片名称占位----------------"}]
[{"$f":"IF(語言配置表!A1645=\"\",\"\",語言配置表!A1645)","v":1642},{"$f":"IF(語言配置表!A1645=\"\",\"CN_待填充内容\",語言配置表!B1645)","v":"功法碎片名称占位----------------"}]
[{"$f":"IF(語言配置表!A1646=\"\",\"\",語言配置表!A1646)","v":1643},{"$f":"IF(語言配置表!A1646=\"\",\"CN_待填充内容\",語言配置表!B1646)","v":"功法碎片名称占位----------------"}]
[{"$f":"IF(語言配置表!A1647=\"\",\"\",語言配置表!A1647)","v":1644},{"$f":"IF(語言配置表!A1647=\"\",\"CN_待填充内容\",語言配置表!B1647)","v":"功法碎片名称占位----------------"}]
[{"$f":"IF(語言配置表!A1648=\"\",\"\",語言配置表!A1648)","v":1645},{"$f":"IF(語言配置表!A1648=\"\",\"CN_待填充内容\",語言配置表!B1648)","v":"功法碎片名称占位----------------"}]
[{"$f":"IF(語言配置表!A1649=\"\",\"\",語言配置表!A1649)","v":1646},{"$f":"IF(語言配置表!A1649=\"\",\"CN_待填充内容\",語言配置表!B1649)","v":"功法碎片名称占位----------------"}]
[{"$f":"IF(語言配置表!A1650=\"\",\"\",語言配置表!A1650)","v":1647},{"$f":"IF(語言配置表!A1650=\"\",\"CN_待填充内容\",語言配置表!B1650)","v":"功法碎片名称占位----------------"}]
[{"$f":"IF(語言配置表!A1651=\"\",\"\",語言配置表!A1651)","v":1648},{"$f":"IF(語言配置表!A1651=\"\",\"CN_待填充内容\",語言配置表!B1651)","v":"功法碎片名称占位----------------"}]
[{"$f":"IF(語言配置表!A1652=\"\",\"\",語言配置表!A1652)","v":1649},{"$f":"IF(語言配置表!A1652=\"\",\"CN_待填充内容\",語言配置表!B1652)","v":"功法碎片名称占位----------------"}]
[{"$f":"IF(語言配置表!A1653=\"\",\"\",語言配置表!A1653)","v":1650},{"$f":"IF(語言配置表!A1653=\"\",\"CN_待填充内容\",語言配置表!B1653)","v":"功法碎片名称占位----------------"}]
[{"$f":"IF(語言配置表!A1654=\"\",\"\",語言配置表!A1654)","v":1651},{"$f":"IF(語言配置表!A1654=\"\",\"CN_待填充内容\",語言配置表!B1654)","v":"功法碎片名称占位----------------"}]
[{"$f":"IF(語言配置表!A1655=\"\",\"\",語言配置表!A1655)","v":1652},{"$f":"IF(語言配置表!A1655=\"\",\"CN_待填充内容\",語言配置表!B1655)","v":"功法碎片名称占位----------------"}]
[{"$f":"IF(語言配置表!A1656=\"\",\"\",語言配置表!A1656)","v":1653},{"$f":"IF(語言配置表!A1656=\"\",\"CN_待填充内容\",語言配置表!B1656)","v":"功法碎片名称占位----------------"}]
[{"$f":"IF(語言配置表!A1657=\"\",\"\",語言配置表!A1657)","v":1654},{"$f":"IF(語言配置表!A1657=\"\",\"CN_待填充内容\",語言配置表!B1657)","v":"功法碎片名称占位----------------"}]
[{"$f":"IF(語言配置表!A1658=\"\",\"\",語言配置表!A1658)","v":1655},{"$f":"IF(語言配置表!A1658=\"\",\"CN_待填充内容\",語言配置表!B1658)","v":"功法碎片名称占位----------------"}]
[{"$f":"IF(語言配置表!A1659=\"\",\"\",語言配置表!A1659)","v":1656},{"$f":"IF(語言配置表!A1659=\"\",\"CN_待填充内容\",語言配置表!B1659)","v":"功法碎片名称占位----------------"}]
[{"$f":"IF(語言配置表!A1660=\"\",\"\",語言配置表!A1660)","v":1657},{"$f":"IF(語言配置表!A1660=\"\",\"CN_待填充内容\",語言配置表!B1660)","v":"功法碎片名称占位----------------"}]
[{"$f":"IF(語言配置表!A1661=\"\",\"\",語言配置表!A1661)","v":1658},{"$f":"IF(語言配置表!A1661=\"\",\"CN_待填充内容\",語言配置表!B1661)","v":"功法碎片名称占位----------------"}]
[{"$f":"IF(語言配置表!A1662=\"\",\"\",語言配置表!A1662)","v":1659},{"$f":"IF(語言配置表!A1662=\"\",\"CN_待填充内容\",語言配置表!B1662)","v":"功法碎片名称占位----------------"}]
[{"$f":"IF(語言配置表!A1663=\"\",\"\",語言配置表!A1663)","v":1660},{"$f":"IF(語言配置表!A1663=\"\",\"CN_待填充内容\",語言配置表!B1663)","v":"功法碎片名称占位----------------"}]
[{"$f":"IF(語言配置表!A1664=\"\",\"\",語言配置表!A1664)","v":1661},{"$f":"IF(語言配置表!A1664=\"\",\"CN_待填充内容\",語言配置表!B1664)","v":"功法碎片名称占位----------------"}]
[{"$f":"IF(語言配置表!A1665=\"\",\"\",語言配置表!A1665)","v":1662},{"$f":"IF(語言配置表!A1665=\"\",\"CN_待填充内容\",語言配置表!B1665)","v":"功法碎片名称占位----------------"}]
[{"$f":"IF(語言配置表!A1666=\"\",\"\",語言配置表!A1666)","v":1663},{"$f":"IF(語言配置表!A1666=\"\",\"CN_待填充内容\",語言配置表!B1666)","v":"功法碎片名称占位----------------"}]
[{"$f":"IF(語言配置表!A1667=\"\",\"\",語言配置表!A1667)","v":1664},{"$f":"IF(語言配置表!A1667=\"\",\"CN_待填充内容\",語言配置表!B1667)","v":"功法碎片名称占位----------------"}]
[{"$f":"IF(語言配置表!A1668=\"\",\"\",語言配置表!A1668)","v":1665},{"$f":"IF(語言配置表!A1668=\"\",\"CN_待填充内容\",語言配置表!B1668)","v":"功法碎片名称占位----------------"}]
[{"$f":"IF(語言配置表!A1669=\"\",\"\",語言配置表!A1669)","v":1666},{"$f":"IF(語言配置表!A1669=\"\",\"CN_待填充内容\",語言配置表!B1669)","v":"功法碎片名称占位----------------"}]
[{"$f":"IF(語言配置表!A1670=\"\",\"\",語言配置表!A1670)","v":1667},{"$f":"IF(語言配置表!A1670=\"\",\"CN_待填充内容\",語言配置表!B1670)","v":"功法碎片名称占位----------------"}]
[{"$f":"IF(語言配置表!A1671=\"\",\"\",語言配置表!A1671)","v":1668},{"$f":"IF(語言配置表!A1671=\"\",\"CN_待填充内容\",語言配置表!B1671)","v":"功法碎片名称占位----------------"}]
[{"$f":"IF(語言配置表!A1672=\"\",\"\",語言配置表!A1672)","v":1669},{"$f":"IF(語言配置表!A1672=\"\",\"CN_待填充内容\",語言配置表!B1672)","v":"功法碎片名称占位----------------"}]
[{"$f":"IF(語言配置表!A1673=\"\",\"\",語言配置表!A1673)","v":1670},{"$f":"IF(語言配置表!A1673=\"\",\"CN_待填充内容\",語言配置表!B1673)","v":"功法碎片名称占位----------------"}]
[{"$f":"IF(語言配置表!A1674=\"\",\"\",語言配置表!A1674)","v":1671},{"$f":"IF(語言配置表!A1674=\"\",\"CN_待填充内容\",語言配置表!B1674)","v":"功法碎片名称占位----------------"}]
[{"$f":"IF(語言配置表!A1675=\"\",\"\",語言配置表!A1675)","v":1672},{"$f":"IF(語言配置表!A1675=\"\",\"CN_待填充内容\",語言配置表!B1675)","v":"功法碎片名称占位----------------"}]
[{"$f":"IF(語言配置表!A1676=\"\",\"\",語言配置表!A1676)","v":1673},{"$f":"IF(語言配置表!A1676=\"\",\"CN_待填充内容\",語言配置表!B1676)","v":"功法碎片名称占位----------------"}]
[{"$f":"IF(語言配置表!A1677=\"\",\"\",語言配置表!A1677)","v":1674},{"$f":"IF(語言配置表!A1677=\"\",\"CN_待填充内容\",語言配置表!B1677)","v":"功法碎片名称占位----------------"}]
[{"$f":"IF(語言配置表!A1678=\"\",\"\",語言配置表!A1678)","v":1675},{"$f":"IF(語言配置表!A1678=\"\",\"CN_待填充内容\",語言配置表!B1678)","v":"功法碎片名称占位----------------"}]
[{"$f":"IF(語言配置表!A1679=\"\",\"\",語言配置表!A1679)","v":1676},{"$f":"IF(語言配置表!A1679=\"\",\"CN_待填充内容\",語言配置表!B1679)","v":"功法碎片名称占位----------------"}]
[{"$f":"IF(語言配置表!A1680=\"\",\"\",語言配置表!A1680)","v":1677},{"$f":"IF(語言配置表!A1680=\"\",\"CN_待填充内容\",語言配置表!B1680)","v":"功法碎片名称占位----------------"}]
[{"$f":"IF(語言配置表!A1681=\"\",\"\",語言配置表!A1681)","v":1678},{"$f":"IF(語言配置表!A1681=\"\",\"CN_待填充内容\",語言配置表!B1681)","v":"功法碎片名称占位----------------"}]
[{"$f":"IF(語言配置表!A1682=\"\",\"\",語言配置表!A1682)","v":1679},{"$f":"IF(語言配置表!A1682=\"\",\"CN_待填充内容\",語言配置表!B1682)","v":"功法碎片名称占位----------------"}]
[{"$f":"IF(語言配置表!A1683=\"\",\"\",語言配置表!A1683)","v":1680},{"$f":"IF(語言配置表!A1683=\"\",\"CN_待填充内容\",語言配置表!B1683)","v":"功法碎片名称占位----------------"}]
[{"$f":"IF(語言配置表!A1684=\"\",\"\",語言配置表!A1684)","v":1681},{"$f":"IF(語言配置表!A1684=\"\",\"CN_待填充内容\",語言配置表!B1684)","v":"功法碎片名称占位----------------"}]
[{"$f":"IF(語言配置表!A1685=\"\",\"\",語言配置表!A1685)","v":1682},{"$f":"IF(語言配置表!A1685=\"\",\"CN_待填充内容\",語言配置表!B1685)","v":"功法碎片名称占位----------------"}]
[{"$f":"IF(語言配置表!A1686=\"\",\"\",語言配置表!A1686)","v":1683},{"$f":"IF(語言配置表!A1686=\"\",\"CN_待填充内容\",語言配置表!B1686)","v":"功法碎片名称占位----------------"}]
[{"$f":"IF(語言配置表!A1687=\"\",\"\",語言配置表!A1687)","v":1684},{"$f":"IF(語言配置表!A1687=\"\",\"CN_待填充内容\",語言配置表!B1687)","v":"功法碎片名称占位----------------"}]
[{"$f":"IF(語言配置表!A1688=\"\",\"\",語言配置表!A1688)","v":1685},{"$f":"IF(語言配置表!A1688=\"\",\"CN_待填充内容\",語言配置表!B1688)","v":"功法碎片名称占位----------------"}]
[{"$f":"IF(語言配置表!A1689=\"\",\"\",語言配置表!A1689)","v":1686},{"$f":"IF(語言配置表!A1689=\"\",\"CN_待填充内容\",語言配置表!B1689)","v":"功法碎片名称占位----------------"}]
[{"$f":"IF(語言配置表!A1690=\"\",\"\",語言配置表!A1690)","v":1687},{"$f":"IF(語言配置表!A1690=\"\",\"CN_待填充内容\",語言配置表!B1690)","v":"功法碎片名称占位----------------"}]
[{"$f":"IF(語言配置表!A1691=\"\",\"\",語言配置表!A1691)","v":1688},{"$f":"IF(語言配置表!A1691=\"\",\"CN_待填充内容\",語言配置表!B1691)","v":"功法碎片名称占位----------------"}]
[{"$f":"IF(語言配置表!A1692=\"\",\"\",語言配置表!A1692)","v":1689},{"$f":"IF(語言配置表!A1692=\"\",\"CN_待填充内容\",語言配置表!B1692)","v":"功法碎片名称占位----------------"}]
[{"$f":"IF(語言配置表!A1693=\"\",\"\",語言配置表!A1693)","v":1690},{"$f":"IF(語言配置表!A1693=\"\",\"CN_待填充内容\",語言配置表!B1693)","v":"功法碎片名称占位----------------"}]
[{"$f":"IF(語言配置表!A1694=\"\",\"\",語言配置表!A1694)","v":1691},{"$f":"IF(語言配置表!A1694=\"\",\"CN_待填充内容\",語言配置表!B1694)","v":"功法碎片名称占位----------------"}]
[{"$f":"IF(語言配置表!A1695=\"\",\"\",語言配置表!A1695)","v":1692},{"$f":"IF(語言配置表!A1695=\"\",\"CN_待填充内容\",語言配置表!B1695)","v":"功法碎片名称占位----------------"}]
[{"$f":"IF(語言配置表!A1696=\"\",\"\",語言配置表!A1696)","v":1693},{"$f":"IF(語言配置表!A1696=\"\",\"CN_待填充内容\",語言配置表!B1696)","v":"功法碎片名称占位----------------"}]
[{"$f":"IF(語言配置表!A1697=\"\",\"\",語言配置表!A1697)","v":1694},{"$f":"IF(語言配置表!A1697=\"\",\"CN_待填充内容\",語言配置表!B1697)","v":"功法碎片名称占位----------------"}]
[{"$f":"IF(語言配置表!A1698=\"\",\"\",語言配置表!A1698)","v":1695},{"$f":"IF(語言配置表!A1698=\"\",\"CN_待填充内容\",語言配置表!B1698)","v":"功法碎片名称占位----------------"}]
[{"$f":"IF(語言配置表!A1699=\"\",\"\",語言配置表!A1699)","v":1696},{"$f":"IF(語言配置表!A1699=\"\",\"CN_待填充内容\",語言配置表!B1699)","v":"功法碎片名称占位----------------"}]
[{"$f":"IF(語言配置表!A1700=\"\",\"\",語言配置表!A1700)","v":1697},{"$f":"IF(語言配置表!A1700=\"\",\"CN_待填充内容\",語言配置表!B1700)","v":"功法碎片名称占位----------------"}]
[{"$f":"IF(語言配置表!A1701=\"\",\"\",語言配置表!A1701)","v":1698},{"$f":"IF(語言配置表!A1701=\"\",\"CN_待填充内容\",語言配置表!B1701)","v":"功法碎片名称占位----------------"}]
[{"$f":"IF(語言配置表!A1702=\"\",\"\",語言配置表!A1702)","v":1699},{"$f":"IF(語言配置表!A1702=\"\",\"CN_待填充内容\",語言配置表!B1702)","v":"功法碎片名称占位----------------"}]
[{"$f":"IF(語言配置表!A1703=\"\",\"\",語言配置表!A1703)","v":1700},{"$f":"IF(語言配置表!A1703=\"\",\"CN_待填充内容\",語言配置表!B1703)","v":"用于功法-太虚幻剑经-的升星"}]
[{"$f":"IF(語言配置表!A1704=\"\",\"\",語言配置表!A1704)","v":1701},{"$f":"IF(語言配置表!A1704=\"\",\"CN_待填充内容\",語言配置表!B1704)","v":"用于功法-天罡剑气诀-的升星"}]
[{"$f":"IF(語言配置表!A1705=\"\",\"\",語言配置表!A1705)","v":1702},{"$f":"IF(語言配置表!A1705=\"\",\"CN_待填充内容\",語言配置表!B1705)","v":"用于功法-血刃金煌功-的升星"}]
[{"$f":"IF(語言配置表!A1706=\"\",\"\",語言配置表!A1706)","v":1703},{"$f":"IF(語言配置表!A1706=\"\",\"CN_待填充内容\",語言配置表!B1706)","v":"用于功法-飞刃-的升星"}]
[{"$f":"IF(語言配置表!A1707=\"\",\"\",語言配置表!A1707)","v":1704},{"$f":"IF(語言配置表!A1707=\"\",\"CN_待填充内容\",語言配置表!B1707)","v":"用于功法-金针-的升星"}]
[{"$f":"IF(語言配置表!A1708=\"\",\"\",語言配置表!A1708)","v":1705},{"$f":"IF(語言配置表!A1708=\"\",\"CN_待填充内容\",語言配置表!B1708)","v":"用于功法-碧落幽冥劲-的升星"}]
[{"$f":"IF(語言配置表!A1709=\"\",\"\",語言配置表!A1709)","v":1706},{"$f":"IF(語言配置表!A1709=\"\",\"CN_待填充内容\",語言配置表!B1709)","v":"用于功法-雾隐千流法-的升星"}]
[{"$f":"IF(語言配置表!A1710=\"\",\"\",語言配置表!A1710)","v":1707},{"$f":"IF(語言配置表!A1710=\"\",\"CN_待填充内容\",語言配置表!B1710)","v":"用于功法-功法-水3-的升星"}]
[{"$f":"IF(語言配置表!A1711=\"\",\"\",語言配置表!A1711)","v":1708},{"$f":"IF(語言配置表!A1711=\"\",\"CN_待填充内容\",語言配置表!B1711)","v":"用于功法-水球-的升星"}]
[{"$f":"IF(語言配置表!A1712=\"\",\"\",語言配置表!A1712)","v":1709},{"$f":"IF(語言配置表!A1712=\"\",\"CN_待填充内容\",語言配置表!B1712)","v":"用于功法-冰刀-的升星"}]
[{"$f":"IF(語言配置表!A1713=\"\",\"\",語言配置表!A1713)","v":1710},{"$f":"IF(語言配置表!A1713=\"\",\"CN_待填充内容\",語言配置表!B1713)","v":"用于功法-瘴影千丝术-的升星"}]
[{"$f":"IF(語言配置表!A1714=\"\",\"\",語言配置表!A1714)","v":1711},{"$f":"IF(語言配置表!A1714=\"\",\"CN_待填充内容\",語言配置表!B1714)","v":"用于功法-蚀骨腐血掌-的升星"}]
[{"$f":"IF(語言配置表!A1715=\"\",\"\",語言配置表!A1715)","v":1712},{"$f":"IF(語言配置表!A1715=\"\",\"CN_待填充内容\",語言配置表!B1715)","v":"用于功法-功法-木3-的升星"}]
[{"$f":"IF(語言配置表!A1716=\"\",\"\",語言配置表!A1716)","v":1713},{"$f":"IF(語言配置表!A1716=\"\",\"CN_待填充内容\",語言配置表!B1716)","v":"用于功法-竹刺-的升星"}]
[{"$f":"IF(語言配置表!A1717=\"\",\"\",語言配置表!A1717)","v":1714},{"$f":"IF(語言配置表!A1717=\"\",\"CN_待填充内容\",語言配置表!B1717)","v":"用于功法-飞叶-的升星"}]
[{"$f":"IF(語言配置表!A1718=\"\",\"\",語言配置表!A1718)","v":1715},{"$f":"IF(語言配置表!A1718=\"\",\"CN_待填充内容\",語言配置表!B1718)","v":"用于功法-烈焰剑-的升星"}]
[{"$f":"IF(語言配置表!A1719=\"\",\"\",語言配置表!A1719)","v":1716},{"$f":"IF(語言配置表!A1719=\"\",\"CN_待填充内容\",語言配置表!B1719)","v":"用于功法-赤焰龙吟功-的升星"}]
[{"$f":"IF(語言配置表!A1720=\"\",\"\",語言配置表!A1720)","v":1717},{"$f":"IF(語言配置表!A1720=\"\",\"CN_待填充内容\",語言配置表!B1720)","v":"用于功法-朱雀燎原指-的升星"}]
[{"$f":"IF(語言配置表!A1721=\"\",\"\",語言配置表!A1721)","v":1718},{"$f":"IF(語言配置表!A1721=\"\",\"CN_待填充内容\",語言配置表!B1721)","v":"用于功法-火球-的升星"}]
[{"$f":"IF(語言配置表!A1722=\"\",\"\",語言配置表!A1722)","v":1719},{"$f":"IF(語言配置表!A1722=\"\",\"CN_待填充内容\",語言配置表!B1722)","v":"用于功法-火刀-的升星"}]
[{"$f":"IF(語言配置表!A1723=\"\",\"\",語言配置表!A1723)","v":1720},{"$f":"IF(語言配置表!A1723=\"\",\"CN_待填充内容\",語言配置表!B1723)","v":"用于功法-黄尘灭魂刺-的升星"}]
[{"$f":"IF(語言配置表!A1724=\"\",\"\",語言配置表!A1724)","v":1721},{"$f":"IF(語言配置表!A1724=\"\",\"CN_待填充内容\",語言配置表!B1724)","v":"用于功法-地裂屠龙斩-的升星"}]
[{"$f":"IF(語言配置表!A1725=\"\",\"\",語言配置表!A1725)","v":1722},{"$f":"IF(語言配置表!A1725=\"\",\"CN_待填充内容\",語言配置表!B1725)","v":"用于功法-功法-土3-的升星"}]
[{"$f":"IF(語言配置表!A1726=\"\",\"\",語言配置表!A1726)","v":1723},{"$f":"IF(語言配置表!A1726=\"\",\"CN_待填充内容\",語言配置表!B1726)","v":"用于功法-落石-的升星"}]
[{"$f":"IF(語言配置表!A1727=\"\",\"\",語言配置表!A1727)","v":1724},{"$f":"IF(語言配置表!A1727=\"\",\"CN_待填充内容\",語言配置表!B1727)","v":"用于功法-小石头-的升星"}]
[{"$f":"IF(語言配置表!A1728=\"\",\"\",語言配置表!A1728)","v":1725},{"$f":"IF(語言配置表!A1728=\"\",\"CN_待填充内容\",語言配置表!B1728)","v":"用于功法-天衍星辰诀-的升星"}]
[{"$f":"IF(語言配置表!A1729=\"\",\"\",語言配置表!A1729)","v":1726},{"$f":"IF(語言配置表!A1729=\"\",\"CN_待填充内容\",語言配置表!B1729)","v":"用于功法-法宝秘籍-的升星"}]
[{"$f":"IF(語言配置表!A1730=\"\",\"\",語言配置表!A1730)","v":1727},{"$f":"IF(語言配置表!A1730=\"\",\"CN_待填充内容\",語言配置表!B1730)","v":"用于功法-崩脉决-的升星"}]
[{"$f":"IF(語言配置表!A1731=\"\",\"\",語言配置表!A1731)","v":1728},{"$f":"IF(語言配置表!A1731=\"\",\"CN_待填充内容\",語言配置表!B1731)","v":"用于功法-两仪决-的升星"}]
[{"$f":"IF(語言配置表!A1732=\"\",\"\",語言配置表!A1732)","v":1729},{"$f":"IF(語言配置表!A1732=\"\",\"CN_待填充内容\",語言配置表!B1732)","v":"用于功法-火焰决-的升星"}]
[{"$f":"IF(語言配置表!A1733=\"\",\"\",語言配置表!A1733)","v":1730},{"$f":"IF(語言配置表!A1733=\"\",\"CN_待填充内容\",語言配置表!B1733)","v":"用于功法-乾坤巨灵诀-的升星"}]
[{"$f":"IF(語言配置表!A1734=\"\",\"\",語言配置表!A1734)","v":1731},{"$f":"IF(語言配置表!A1734=\"\",\"CN_待填充内容\",語言配置表!B1734)","v":"用于功法-极速齿轮-的升星"}]
[{"$f":"IF(語言配置表!A1735=\"\",\"\",語言配置表!A1735)","v":1732},{"$f":"IF(語言配置表!A1735=\"\",\"CN_待填充内容\",語言配置表!B1735)","v":"用于功法-太虚剑意-的升星"}]
[{"$f":"IF(語言配置表!A1736=\"\",\"\",語言配置表!A1736)","v":1733},{"$f":"IF(語言配置表!A1736=\"\",\"CN_待填充内容\",語言配置表!B1736)","v":"用于功法-青莲净体诀-的升星"}]
[{"$f":"IF(語言配置表!A1737=\"\",\"\",語言配置表!A1737)","v":1734},{"$f":"IF(語言配置表!A1737=\"\",\"CN_待填充内容\",語言配置表!B1737)","v":"用于功法-碧霄回春术-的升星"}]
[{"$f":"IF(語言配置表!A1738=\"\",\"\",語言配置表!A1738)","v":1735},{"$f":"IF(語言配置表!A1738=\"\",\"CN_待填充内容\",語言配置表!B1738)","v":"用于功法--的升星"}]
[{"$f":"IF(語言配置表!A1739=\"\",\"\",語言配置表!A1739)","v":1736},{"$f":"IF(語言配置表!A1739=\"\",\"CN_待填充内容\",語言配置表!B1739)","v":"用于功法--的升星"}]
[{"$f":"IF(語言配置表!A1740=\"\",\"\",語言配置表!A1740)","v":1737},{"$f":"IF(語言配置表!A1740=\"\",\"CN_待填充内容\",語言配置表!B1740)","v":"用于功法--的升星"}]
[{"$f":"IF(語言配置表!A1741=\"\",\"\",語言配置表!A1741)","v":1738},{"$f":"IF(語言配置表!A1741=\"\",\"CN_待填充内容\",語言配置表!B1741)","v":"用于功法--的升星"}]
[{"$f":"IF(語言配置表!A1742=\"\",\"\",語言配置表!A1742)","v":1739},{"$f":"IF(語言配置表!A1742=\"\",\"CN_待填充内容\",語言配置表!B1742)","v":"用于功法--的升星"}]
[{"$f":"IF(語言配置表!A1743=\"\",\"\",語言配置表!A1743)","v":1740},{"$f":"IF(語言配置表!A1743=\"\",\"CN_待填充内容\",語言配置表!B1743)","v":"用于功法--的升星"}]
[{"$f":"IF(語言配置表!A1744=\"\",\"\",語言配置表!A1744)","v":1741},{"$f":"IF(語言配置表!A1744=\"\",\"CN_待填充内容\",語言配置表!B1744)","v":"用于功法--的升星"}]
[{"$f":"IF(語言配置表!A1745=\"\",\"\",語言配置表!A1745)","v":1742},{"$f":"IF(語言配置表!A1745=\"\",\"CN_待填充内容\",語言配置表!B1745)","v":"用于功法--的升星"}]
[{"$f":"IF(語言配置表!A1746=\"\",\"\",語言配置表!A1746)","v":1743},{"$f":"IF(語言配置表!A1746=\"\",\"CN_待填充内容\",語言配置表!B1746)","v":"用于功法--的升星"}]
[{"$f":"IF(語言配置表!A1747=\"\",\"\",語言配置表!A1747)","v":1744},{"$f":"IF(語言配置表!A1747=\"\",\"CN_待填充内容\",語言配置表!B1747)","v":"用于功法--的升星"}]
[{"$f":"IF(語言配置表!A1748=\"\",\"\",語言配置表!A1748)","v":1745},{"$f":"IF(語言配置表!A1748=\"\",\"CN_待填充内容\",語言配置表!B1748)","v":"用于功法--的升星"}]
[{"$f":"IF(語言配置表!A1749=\"\",\"\",語言配置表!A1749)","v":1746},{"$f":"IF(語言配置表!A1749=\"\",\"CN_待填充内容\",語言配置表!B1749)","v":"用于功法--的升星"}]
[{"$f":"IF(語言配置表!A1750=\"\",\"\",語言配置表!A1750)","v":1747},{"$f":"IF(語言配置表!A1750=\"\",\"CN_待填充内容\",語言配置表!B1750)","v":"用于功法--的升星"}]
[{"$f":"IF(語言配置表!A1751=\"\",\"\",語言配置表!A1751)","v":1748},{"$f":"IF(語言配置表!A1751=\"\",\"CN_待填充内容\",語言配置表!B1751)","v":"用于功法--的升星"}]
[{"$f":"IF(語言配置表!A1752=\"\",\"\",語言配置表!A1752)","v":1749},{"$f":"IF(語言配置表!A1752=\"\",\"CN_待填充内容\",語言配置表!B1752)","v":"用于功法--的升星"}]
[{"$f":"IF(語言配置表!A1753=\"\",\"\",語言配置表!A1753)","v":1750},{"$f":"IF(語言配置表!A1753=\"\",\"CN_待填充内容\",語言配置表!B1753)","v":"用于功法--的升星"}]
[{"$f":"IF(語言配置表!A1754=\"\",\"\",語言配置表!A1754)","v":1751},{"$f":"IF(語言配置表!A1754=\"\",\"CN_待填充内容\",語言配置表!B1754)","v":"用于功法--的升星"}]
[{"$f":"IF(語言配置表!A1755=\"\",\"\",語言配置表!A1755)","v":1752},{"$f":"IF(語言配置表!A1755=\"\",\"CN_待填充内容\",語言配置表!B1755)","v":"用于功法--的升星"}]
[{"$f":"IF(語言配置表!A1756=\"\",\"\",語言配置表!A1756)","v":1753},{"$f":"IF(語言配置表!A1756=\"\",\"CN_待填充内容\",語言配置表!B1756)","v":"用于功法--的升星"}]
[{"$f":"IF(語言配置表!A1757=\"\",\"\",語言配置表!A1757)","v":1754},{"$f":"IF(語言配置表!A1757=\"\",\"CN_待填充内容\",語言配置表!B1757)","v":"用于功法--的升星"}]
[{"$f":"IF(語言配置表!A1758=\"\",\"\",語言配置表!A1758)","v":1755},{"$f":"IF(語言配置表!A1758=\"\",\"CN_待填充内容\",語言配置表!B1758)","v":"用于功法--的升星"}]
[{"$f":"IF(語言配置表!A1759=\"\",\"\",語言配置表!A1759)","v":1756},{"$f":"IF(語言配置表!A1759=\"\",\"CN_待填充内容\",語言配置表!B1759)","v":"用于功法--的升星"}]
[{"$f":"IF(語言配置表!A1760=\"\",\"\",語言配置表!A1760)","v":1757},{"$f":"IF(語言配置表!A1760=\"\",\"CN_待填充内容\",語言配置表!B1760)","v":"用于功法--的升星"}]
[{"$f":"IF(語言配置表!A1761=\"\",\"\",語言配置表!A1761)","v":1758},{"$f":"IF(語言配置表!A1761=\"\",\"CN_待填充内容\",語言配置表!B1761)","v":"用于功法--的升星"}]
[{"$f":"IF(語言配置表!A1762=\"\",\"\",語言配置表!A1762)","v":1759},{"$f":"IF(語言配置表!A1762=\"\",\"CN_待填充内容\",語言配置表!B1762)","v":"用于功法--的升星"}]
[{"$f":"IF(語言配置表!A1763=\"\",\"\",語言配置表!A1763)","v":1760},{"$f":"IF(語言配置表!A1763=\"\",\"CN_待填充内容\",語言配置表!B1763)","v":"用于功法--的升星"}]
[{"$f":"IF(語言配置表!A1764=\"\",\"\",語言配置表!A1764)","v":1761},{"$f":"IF(語言配置表!A1764=\"\",\"CN_待填充内容\",語言配置表!B1764)","v":"用于功法--的升星"}]
[{"$f":"IF(語言配置表!A1765=\"\",\"\",語言配置表!A1765)","v":1762},{"$f":"IF(語言配置表!A1765=\"\",\"CN_待填充内容\",語言配置表!B1765)","v":"用于功法--的升星"}]
[{"$f":"IF(語言配置表!A1766=\"\",\"\",語言配置表!A1766)","v":1763},{"$f":"IF(語言配置表!A1766=\"\",\"CN_待填充内容\",語言配置表!B1766)","v":"用于功法--的升星"}]
[{"$f":"IF(語言配置表!A1767=\"\",\"\",語言配置表!A1767)","v":1764},{"$f":"IF(語言配置表!A1767=\"\",\"CN_待填充内容\",語言配置表!B1767)","v":"用于功法--的升星"}]
[{"$f":"IF(語言配置表!A1768=\"\",\"\",語言配置表!A1768)","v":1765},{"$f":"IF(語言配置表!A1768=\"\",\"CN_待填充内容\",語言配置表!B1768)","v":"用于功法--的升星"}]
[{"$f":"IF(語言配置表!A1769=\"\",\"\",語言配置表!A1769)","v":1766},{"$f":"IF(語言配置表!A1769=\"\",\"CN_待填充内容\",語言配置表!B1769)","v":"用于功法--的升星"}]
[{"$f":"IF(語言配置表!A1770=\"\",\"\",語言配置表!A1770)","v":1767},{"$f":"IF(語言配置表!A1770=\"\",\"CN_待填充内容\",語言配置表!B1770)","v":"用于功法--的升星"}]
[{"$f":"IF(語言配置表!A1771=\"\",\"\",語言配置表!A1771)","v":1768},{"$f":"IF(語言配置表!A1771=\"\",\"CN_待填充内容\",語言配置表!B1771)","v":"用于功法--的升星"}]
[{"$f":"IF(語言配置表!A1772=\"\",\"\",語言配置表!A1772)","v":1769},{"$f":"IF(語言配置表!A1772=\"\",\"CN_待填充内容\",語言配置表!B1772)","v":"用于功法--的升星"}]
[{"$f":"IF(語言配置表!A1773=\"\",\"\",語言配置表!A1773)","v":1770},{"$f":"IF(語言配置表!A1773=\"\",\"CN_待填充内容\",語言配置表!B1773)","v":"用于功法--的升星"}]
[{"$f":"IF(語言配置表!A1774=\"\",\"\",語言配置表!A1774)","v":1771},{"$f":"IF(語言配置表!A1774=\"\",\"CN_待填充内容\",語言配置表!B1774)","v":"用于功法--的升星"}]
[{"$f":"IF(語言配置表!A1775=\"\",\"\",語言配置表!A1775)","v":1772},{"$f":"IF(語言配置表!A1775=\"\",\"CN_待填充内容\",語言配置表!B1775)","v":"用于功法--的升星"}]
[{"$f":"IF(語言配置表!A1776=\"\",\"\",語言配置表!A1776)","v":1773},{"$f":"IF(語言配置表!A1776=\"\",\"CN_待填充内容\",語言配置表!B1776)","v":"用于功法--的升星"}]
[{"$f":"IF(語言配置表!A1777=\"\",\"\",語言配置表!A1777)","v":1774},{"$f":"IF(語言配置表!A1777=\"\",\"CN_待填充内容\",語言配置表!B1777)","v":"用于功法--的升星"}]
[{"$f":"IF(語言配置表!A1778=\"\",\"\",語言配置表!A1778)","v":1775},{"$f":"IF(語言配置表!A1778=\"\",\"CN_待填充内容\",語言配置表!B1778)","v":"用于功法--的升星"}]
[{"$f":"IF(語言配置表!A1779=\"\",\"\",語言配置表!A1779)","v":1776},{"$f":"IF(語言配置表!A1779=\"\",\"CN_待填充内容\",語言配置表!B1779)","v":"用于功法--的升星"}]
[{"$f":"IF(語言配置表!A1780=\"\",\"\",語言配置表!A1780)","v":1777},{"$f":"IF(語言配置表!A1780=\"\",\"CN_待填充内容\",語言配置表!B1780)","v":"用于功法--的升星"}]
[{"$f":"IF(語言配置表!A1781=\"\",\"\",語言配置表!A1781)","v":1778},{"$f":"IF(語言配置表!A1781=\"\",\"CN_待填充内容\",語言配置表!B1781)","v":"用于功法--的升星"}]
[{"$f":"IF(語言配置表!A1782=\"\",\"\",語言配置表!A1782)","v":1779},{"$f":"IF(語言配置表!A1782=\"\",\"CN_待填充内容\",語言配置表!B1782)","v":"用于功法--的升星"}]
[{"$f":"IF(語言配置表!A1783=\"\",\"\",語言配置表!A1783)","v":1780},{"$f":"IF(語言配置表!A1783=\"\",\"CN_待填充内容\",語言配置表!B1783)","v":"用于功法--的升星"}]
[{"$f":"IF(語言配置表!A1784=\"\",\"\",語言配置表!A1784)","v":1781},{"$f":"IF(語言配置表!A1784=\"\",\"CN_待填充内容\",語言配置表!B1784)","v":"用于功法--的升星"}]
[{"$f":"IF(語言配置表!A1785=\"\",\"\",語言配置表!A1785)","v":1782},{"$f":"IF(語言配置表!A1785=\"\",\"CN_待填充内容\",語言配置表!B1785)","v":"用于功法--的升星"}]
[{"$f":"IF(語言配置表!A1786=\"\",\"\",語言配置表!A1786)","v":1783},{"$f":"IF(語言配置表!A1786=\"\",\"CN_待填充内容\",語言配置表!B1786)","v":"用于功法--的升星"}]
[{"$f":"IF(語言配置表!A1787=\"\",\"\",語言配置表!A1787)","v":1784},{"$f":"IF(語言配置表!A1787=\"\",\"CN_待填充内容\",語言配置表!B1787)","v":"用于功法--的升星"}]
[{"$f":"IF(語言配置表!A1788=\"\",\"\",語言配置表!A1788)","v":1785},{"$f":"IF(語言配置表!A1788=\"\",\"CN_待填充内容\",語言配置表!B1788)","v":"用于功法--的升星"}]
[{"$f":"IF(語言配置表!A1789=\"\",\"\",語言配置表!A1789)","v":1786},{"$f":"IF(語言配置表!A1789=\"\",\"CN_待填充内容\",語言配置表!B1789)","v":"用于功法--的升星"}]
[{"$f":"IF(語言配置表!A1790=\"\",\"\",語言配置表!A1790)","v":1787},{"$f":"IF(語言配置表!A1790=\"\",\"CN_待填充内容\",語言配置表!B1790)","v":"用于功法--的升星"}]
[{"$f":"IF(語言配置表!A1791=\"\",\"\",語言配置表!A1791)","v":1788},{"$f":"IF(語言配置表!A1791=\"\",\"CN_待填充内容\",語言配置表!B1791)","v":"用于功法--的升星"}]
[{"$f":"IF(語言配置表!A1792=\"\",\"\",語言配置表!A1792)","v":1789},{"$f":"IF(語言配置表!A1792=\"\",\"CN_待填充内容\",語言配置表!B1792)","v":"用于功法--的升星"}]
[{"$f":"IF(語言配置表!A1793=\"\",\"\",語言配置表!A1793)","v":1790},{"$f":"IF(語言配置表!A1793=\"\",\"CN_待填充内容\",語言配置表!B1793)","v":"用于功法--的升星"}]
[{"$f":"IF(語言配置表!A1794=\"\",\"\",語言配置表!A1794)","v":1791},{"$f":"IF(語言配置表!A1794=\"\",\"CN_待填充内容\",語言配置表!B1794)","v":"用于功法--的升星"}]
[{"$f":"IF(語言配置表!A1795=\"\",\"\",語言配置表!A1795)","v":1792},{"$f":"IF(語言配置表!A1795=\"\",\"CN_待填充内容\",語言配置表!B1795)","v":"用于功法--的升星"}]
[{"$f":"IF(語言配置表!A1796=\"\",\"\",語言配置表!A1796)","v":1793},{"$f":"IF(語言配置表!A1796=\"\",\"CN_待填充内容\",語言配置表!B1796)","v":"用于功法--的升星"}]
[{"$f":"IF(語言配置表!A1797=\"\",\"\",語言配置表!A1797)","v":1794},{"$f":"IF(語言配置表!A1797=\"\",\"CN_待填充内容\",語言配置表!B1797)","v":"用于功法--的升星"}]
[{"$f":"IF(語言配置表!A1798=\"\",\"\",語言配置表!A1798)","v":1795},{"$f":"IF(語言配置表!A1798=\"\",\"CN_待填充内容\",語言配置表!B1798)","v":"用于功法--的升星"}]
[{"$f":"IF(語言配置表!A1799=\"\",\"\",語言配置表!A1799)","v":1796},{"$f":"IF(語言配置表!A1799=\"\",\"CN_待填充内容\",語言配置表!B1799)","v":"用于功法--的升星"}]
[{"$f":"IF(語言配置表!A1800=\"\",\"\",語言配置表!A1800)","v":1797},{"$f":"IF(語言配置表!A1800=\"\",\"CN_待填充内容\",語言配置表!B1800)","v":"用于功法--的升星"}]
[{"$f":"IF(語言配置表!A1801=\"\",\"\",語言配置表!A1801)","v":1798},{"$f":"IF(語言配置表!A1801=\"\",\"CN_待填充内容\",語言配置表!B1801)","v":"用于功法--的升星"}]
[{"$f":"IF(語言配置表!A1802=\"\",\"\",語言配置表!A1802)","v":1799},{"$f":"IF(語言配置表!A1802=\"\",\"CN_待填充内容\",語言配置表!B1802)","v":"用于功法--的升星"}]
[{"$f":"IF(語言配置表!A1803=\"\",\"\",語言配置表!A1803)","v":1800},{"$f":"IF(語言配置表!A1803=\"\",\"CN_待填充内容\",語言配置表!B1803)","v":"天衍星辰诀"}]
[{"$f":"IF(語言配置表!A1804=\"\",\"\",語言配置表!A1804)","v":1801},{"$f":"IF(語言配置表!A1804=\"\",\"CN_待填充内容\",語言配置表!B1804)","v":"法宝秘籍"}]
[{"$f":"IF(語言配置表!A1805=\"\",\"\",語言配置表!A1805)","v":1802},{"$f":"IF(語言配置表!A1805=\"\",\"CN_待填充内容\",語言配置表!B1805)","v":"崩脉决"}]
[{"$f":"IF(語言配置表!A1806=\"\",\"\",語言配置表!A1806)","v":1803},{"$f":"IF(語言配置表!A1806=\"\",\"CN_待填充内容\",語言配置表!B1806)","v":"两仪决"}]
[{"$f":"IF(語言配置表!A1807=\"\",\"\",語言配置表!A1807)","v":1804},{"$f":"IF(語言配置表!A1807=\"\",\"CN_待填充内容\",語言配置表!B1807)","v":"火焰决"}]
[{"$f":"IF(語言配置表!A1808=\"\",\"\",語言配置表!A1808)","v":1805},{"$f":"IF(語言配置表!A1808=\"\",\"CN_待填充内容\",語言配置表!B1808)","v":"乾坤巨灵诀"}]
[{"$f":"IF(語言配置表!A1809=\"\",\"\",語言配置表!A1809)","v":1806},{"$f":"IF(語言配置表!A1809=\"\",\"CN_待填充内容\",語言配置表!B1809)","v":"极速齿轮"}]
[{"$f":"IF(語言配置表!A1810=\"\",\"\",語言配置表!A1810)","v":1807},{"$f":"IF(語言配置表!A1810=\"\",\"CN_待填充内容\",語言配置表!B1810)","v":"太虚剑意"}]
[{"$f":"IF(語言配置表!A1811=\"\",\"\",語言配置表!A1811)","v":1808},{"$f":"IF(語言配置表!A1811=\"\",\"CN_待填充内容\",語言配置表!B1811)","v":"青莲净体诀"}]
[{"$f":"IF(語言配置表!A1812=\"\",\"\",語言配置表!A1812)","v":1809},{"$f":"IF(語言配置表!A1812=\"\",\"CN_待填充内容\",語言配置表!B1812)","v":"碧霄回春术"}]
[{"$f":"IF(語言配置表!A1813=\"\",\"\",語言配置表!A1813)","v":1810},{"$f":"IF(語言配置表!A1813=\"\",\"CN_待填充内容\",語言配置表!B1813)","v":"被动功法名称------占位"}]
[{"$f":"IF(語言配置表!A1814=\"\",\"\",語言配置表!A1814)","v":1811},{"$f":"IF(語言配置表!A1814=\"\",\"CN_待填充内容\",語言配置表!B1814)","v":"被动功法名称------占位"}]
[{"$f":"IF(語言配置表!A1815=\"\",\"\",語言配置表!A1815)","v":1812},{"$f":"IF(語言配置表!A1815=\"\",\"CN_待填充内容\",語言配置表!B1815)","v":"被动功法名称------占位"}]
[{"$f":"IF(語言配置表!A1816=\"\",\"\",語言配置表!A1816)","v":1813},{"$f":"IF(語言配置表!A1816=\"\",\"CN_待填充内容\",語言配置表!B1816)","v":"被动功法名称------占位"}]
[{"$f":"IF(語言配置表!A1817=\"\",\"\",語言配置表!A1817)","v":1814},{"$f":"IF(語言配置表!A1817=\"\",\"CN_待填充内容\",語言配置表!B1817)","v":"被动功法名称------占位"}]
[{"$f":"IF(語言配置表!A1818=\"\",\"\",語言配置表!A1818)","v":1815},{"$f":"IF(語言配置表!A1818=\"\",\"CN_待填充内容\",語言配置表!B1818)","v":"被动功法名称------占位"}]
[{"$f":"IF(語言配置表!A1819=\"\",\"\",語言配置表!A1819)","v":1816},{"$f":"IF(語言配置表!A1819=\"\",\"CN_待填充内容\",語言配置表!B1819)","v":"被动功法名称------占位"}]
[{"$f":"IF(語言配置表!A1820=\"\",\"\",語言配置表!A1820)","v":1817},{"$f":"IF(語言配置表!A1820=\"\",\"CN_待填充内容\",語言配置表!B1820)","v":"被动功法名称------占位"}]
[{"$f":"IF(語言配置表!A1821=\"\",\"\",語言配置表!A1821)","v":1818},{"$f":"IF(語言配置表!A1821=\"\",\"CN_待填充内容\",語言配置表!B1821)","v":"被动功法名称------占位"}]
[{"$f":"IF(語言配置表!A1822=\"\",\"\",語言配置表!A1822)","v":1819},{"$f":"IF(語言配置表!A1822=\"\",\"CN_待填充内容\",語言配置表!B1822)","v":"被动功法名称------占位"}]
[{"$f":"IF(語言配置表!A1823=\"\",\"\",語言配置表!A1823)","v":1820},{"$f":"IF(語言配置表!A1823=\"\",\"CN_待填充内容\",語言配置表!B1823)","v":"被动功法名称------占位"}]
[{"$f":"IF(語言配置表!A1824=\"\",\"\",語言配置表!A1824)","v":1821},{"$f":"IF(語言配置表!A1824=\"\",\"CN_待填充内容\",語言配置表!B1824)","v":"被动功法名称------占位"}]
[{"$f":"IF(語言配置表!A1825=\"\",\"\",語言配置表!A1825)","v":1822},{"$f":"IF(語言配置表!A1825=\"\",\"CN_待填充内容\",語言配置表!B1825)","v":"被动功法名称------占位"}]
[{"$f":"IF(語言配置表!A1826=\"\",\"\",語言配置表!A1826)","v":1823},{"$f":"IF(語言配置表!A1826=\"\",\"CN_待填充内容\",語言配置表!B1826)","v":"被动功法名称------占位"}]
[{"$f":"IF(語言配置表!A1827=\"\",\"\",語言配置表!A1827)","v":1824},{"$f":"IF(語言配置表!A1827=\"\",\"CN_待填充内容\",語言配置表!B1827)","v":"被动功法名称------占位"}]
[{"$f":"IF(語言配置表!A1828=\"\",\"\",語言配置表!A1828)","v":1825},{"$f":"IF(語言配置表!A1828=\"\",\"CN_待填充内容\",語言配置表!B1828)","v":"被动功法名称------占位"}]
[{"$f":"IF(語言配置表!A1829=\"\",\"\",語言配置表!A1829)","v":1826},{"$f":"IF(語言配置表!A1829=\"\",\"CN_待填充内容\",語言配置表!B1829)","v":"被动功法名称------占位"}]
[{"$f":"IF(語言配置表!A1830=\"\",\"\",語言配置表!A1830)","v":1827},{"$f":"IF(語言配置表!A1830=\"\",\"CN_待填充内容\",語言配置表!B1830)","v":"被动功法名称------占位"}]
[{"$f":"IF(語言配置表!A1831=\"\",\"\",語言配置表!A1831)","v":1828},{"$f":"IF(語言配置表!A1831=\"\",\"CN_待填充内容\",語言配置表!B1831)","v":"被动功法名称------占位"}]
[{"$f":"IF(語言配置表!A1832=\"\",\"\",語言配置表!A1832)","v":1829},{"$f":"IF(語言配置表!A1832=\"\",\"CN_待填充内容\",語言配置表!B1832)","v":"被动功法名称------占位"}]
[{"$f":"IF(語言配置表!A1833=\"\",\"\",語言配置表!A1833)","v":1830},{"$f":"IF(語言配置表!A1833=\"\",\"CN_待填充内容\",語言配置表!B1833)","v":"被动功法名称------占位"}]
[{"$f":"IF(語言配置表!A1834=\"\",\"\",語言配置表!A1834)","v":1831},{"$f":"IF(語言配置表!A1834=\"\",\"CN_待填充内容\",語言配置表!B1834)","v":"被动功法名称------占位"}]
[{"$f":"IF(語言配置表!A1835=\"\",\"\",語言配置表!A1835)","v":1832},{"$f":"IF(語言配置表!A1835=\"\",\"CN_待填充内容\",語言配置表!B1835)","v":"被动功法名称------占位"}]
[{"$f":"IF(語言配置表!A1836=\"\",\"\",語言配置表!A1836)","v":1833},{"$f":"IF(語言配置表!A1836=\"\",\"CN_待填充内容\",語言配置表!B1836)","v":"被动功法名称------占位"}]
[{"$f":"IF(語言配置表!A1837=\"\",\"\",語言配置表!A1837)","v":1834},{"$f":"IF(語言配置表!A1837=\"\",\"CN_待填充内容\",語言配置表!B1837)","v":"被动功法名称------占位"}]
[{"$f":"IF(語言配置表!A1838=\"\",\"\",語言配置表!A1838)","v":1835},{"$f":"IF(語言配置表!A1838=\"\",\"CN_待填充内容\",語言配置表!B1838)","v":"被动功法名称------占位"}]
[{"$f":"IF(語言配置表!A1839=\"\",\"\",語言配置表!A1839)","v":1836},{"$f":"IF(語言配置表!A1839=\"\",\"CN_待填充内容\",語言配置表!B1839)","v":"被动功法名称------占位"}]
[{"$f":"IF(語言配置表!A1840=\"\",\"\",語言配置表!A1840)","v":1837},{"$f":"IF(語言配置表!A1840=\"\",\"CN_待填充内容\",語言配置表!B1840)","v":"被动功法名称------占位"}]
[{"$f":"IF(語言配置表!A1841=\"\",\"\",語言配置表!A1841)","v":1838},{"$f":"IF(語言配置表!A1841=\"\",\"CN_待填充内容\",語言配置表!B1841)","v":"被动功法名称------占位"}]
[{"$f":"IF(語言配置表!A1842=\"\",\"\",語言配置表!A1842)","v":1839},{"$f":"IF(語言配置表!A1842=\"\",\"CN_待填充内容\",語言配置表!B1842)","v":"被动功法名称------占位"}]
[{"$f":"IF(語言配置表!A1843=\"\",\"\",語言配置表!A1843)","v":1840},{"$f":"IF(語言配置表!A1843=\"\",\"CN_待填充内容\",語言配置表!B1843)","v":"被动功法名称------占位"}]
[{"$f":"IF(語言配置表!A1844=\"\",\"\",語言配置表!A1844)","v":1841},{"$f":"IF(語言配置表!A1844=\"\",\"CN_待填充内容\",語言配置表!B1844)","v":"被动功法名称------占位"}]
[{"$f":"IF(語言配置表!A1845=\"\",\"\",語言配置表!A1845)","v":1842},{"$f":"IF(語言配置表!A1845=\"\",\"CN_待填充内容\",語言配置表!B1845)","v":"被动功法名称------占位"}]
[{"$f":"IF(語言配置表!A1846=\"\",\"\",語言配置表!A1846)","v":1843},{"$f":"IF(語言配置表!A1846=\"\",\"CN_待填充内容\",語言配置表!B1846)","v":"被动功法名称------占位"}]
[{"$f":"IF(語言配置表!A1847=\"\",\"\",語言配置表!A1847)","v":1844},{"$f":"IF(語言配置表!A1847=\"\",\"CN_待填充内容\",語言配置表!B1847)","v":"被动功法名称------占位"}]
[{"$f":"IF(語言配置表!A1848=\"\",\"\",語言配置表!A1848)","v":1845},{"$f":"IF(語言配置表!A1848=\"\",\"CN_待填充内容\",語言配置表!B1848)","v":"被动功法名称------占位"}]
[{"$f":"IF(語言配置表!A1849=\"\",\"\",語言配置表!A1849)","v":1846},{"$f":"IF(語言配置表!A1849=\"\",\"CN_待填充内容\",語言配置表!B1849)","v":"被动功法名称------占位"}]
[{"$f":"IF(語言配置表!A1850=\"\",\"\",語言配置表!A1850)","v":1847},{"$f":"IF(語言配置表!A1850=\"\",\"CN_待填充内容\",語言配置表!B1850)","v":"被动功法名称------占位"}]
[{"$f":"IF(語言配置表!A1851=\"\",\"\",語言配置表!A1851)","v":1848},{"$f":"IF(語言配置表!A1851=\"\",\"CN_待填充内容\",語言配置表!B1851)","v":"被动功法名称------占位"}]
[{"$f":"IF(語言配置表!A1852=\"\",\"\",語言配置表!A1852)","v":1849},{"$f":"IF(語言配置表!A1852=\"\",\"CN_待填充内容\",語言配置表!B1852)","v":"被动功法名称------占位"}]
[{"$f":"IF(語言配置表!A1853=\"\",\"\",語言配置表!A1853)","v":1850},{"$f":"IF(語言配置表!A1853=\"\",\"CN_待填充内容\",語言配置表!B1853)","v":"使用后获得被动功法-天衍星辰诀"}]
[{"$f":"IF(語言配置表!A1854=\"\",\"\",語言配置表!A1854)","v":1851},{"$f":"IF(語言配置表!A1854=\"\",\"CN_待填充内容\",語言配置表!B1854)","v":"使用后获得被动功法-法宝秘籍"}]
[{"$f":"IF(語言配置表!A1855=\"\",\"\",語言配置表!A1855)","v":1852},{"$f":"IF(語言配置表!A1855=\"\",\"CN_待填充内容\",語言配置表!B1855)","v":"使用后获得被动功法-崩脉决"}]
[{"$f":"IF(語言配置表!A1856=\"\",\"\",語言配置表!A1856)","v":1853},{"$f":"IF(語言配置表!A1856=\"\",\"CN_待填充内容\",語言配置表!B1856)","v":"使用后获得被动功法-两仪决"}]
[{"$f":"IF(語言配置表!A1857=\"\",\"\",語言配置表!A1857)","v":1854},{"$f":"IF(語言配置表!A1857=\"\",\"CN_待填充内容\",語言配置表!B1857)","v":"使用后获得被动功法-火焰决"}]
[{"$f":"IF(語言配置表!A1858=\"\",\"\",語言配置表!A1858)","v":1855},{"$f":"IF(語言配置表!A1858=\"\",\"CN_待填充内容\",語言配置表!B1858)","v":"使用后获得被动功法-乾坤巨灵诀"}]
[{"$f":"IF(語言配置表!A1859=\"\",\"\",語言配置表!A1859)","v":1856},{"$f":"IF(語言配置表!A1859=\"\",\"CN_待填充内容\",語言配置表!B1859)","v":"使用后获得被动功法-极速齿轮"}]
[{"$f":"IF(語言配置表!A1860=\"\",\"\",語言配置表!A1860)","v":1857},{"$f":"IF(語言配置表!A1860=\"\",\"CN_待填充内容\",語言配置表!B1860)","v":"使用后获得被动功法-太虚剑意"}]
[{"$f":"IF(語言配置表!A1861=\"\",\"\",語言配置表!A1861)","v":1858},{"$f":"IF(語言配置表!A1861=\"\",\"CN_待填充内容\",語言配置表!B1861)","v":"使用后获得被动功法-青莲净体诀"}]
[{"$f":"IF(語言配置表!A1862=\"\",\"\",語言配置表!A1862)","v":1859},{"$f":"IF(語言配置表!A1862=\"\",\"CN_待填充内容\",語言配置表!B1862)","v":"使用后获得被动功法-碧霄回春术"}]
[{"$f":"IF(語言配置表!A1863=\"\",\"\",語言配置表!A1863)","v":1860},{"$f":"IF(語言配置表!A1863=\"\",\"CN_待填充内容\",語言配置表!B1863)","v":"使用后获得被动功法-"}]
[{"$f":"IF(語言配置表!A1864=\"\",\"\",語言配置表!A1864)","v":1861},{"$f":"IF(語言配置表!A1864=\"\",\"CN_待填充内容\",語言配置表!B1864)","v":"使用后获得被动功法-"}]
[{"$f":"IF(語言配置表!A1865=\"\",\"\",語言配置表!A1865)","v":1862},{"$f":"IF(語言配置表!A1865=\"\",\"CN_待填充内容\",語言配置表!B1865)","v":"使用后获得被动功法-"}]
[{"$f":"IF(語言配置表!A1866=\"\",\"\",語言配置表!A1866)","v":1863},{"$f":"IF(語言配置表!A1866=\"\",\"CN_待填充内容\",語言配置表!B1866)","v":"使用后获得被动功法-"}]
[{"$f":"IF(語言配置表!A1867=\"\",\"\",語言配置表!A1867)","v":1864},{"$f":"IF(語言配置表!A1867=\"\",\"CN_待填充内容\",語言配置表!B1867)","v":"使用后获得被动功法-"}]
[{"$f":"IF(語言配置表!A1868=\"\",\"\",語言配置表!A1868)","v":1865},{"$f":"IF(語言配置表!A1868=\"\",\"CN_待填充内容\",語言配置表!B1868)","v":"使用后获得被动功法-"}]
[{"$f":"IF(語言配置表!A1869=\"\",\"\",語言配置表!A1869)","v":1866},{"$f":"IF(語言配置表!A1869=\"\",\"CN_待填充内容\",語言配置表!B1869)","v":"使用后获得被动功法-"}]
[{"$f":"IF(語言配置表!A1870=\"\",\"\",語言配置表!A1870)","v":1867},{"$f":"IF(語言配置表!A1870=\"\",\"CN_待填充内容\",語言配置表!B1870)","v":"使用后获得被动功法-"}]
[{"$f":"IF(語言配置表!A1871=\"\",\"\",語言配置表!A1871)","v":1868},{"$f":"IF(語言配置表!A1871=\"\",\"CN_待填充内容\",語言配置表!B1871)","v":"使用后获得被动功法-"}]
[{"$f":"IF(語言配置表!A1872=\"\",\"\",語言配置表!A1872)","v":1869},{"$f":"IF(語言配置表!A1872=\"\",\"CN_待填充内容\",語言配置表!B1872)","v":"使用后获得被动功法-"}]
[{"$f":"IF(語言配置表!A1873=\"\",\"\",語言配置表!A1873)","v":1870},{"$f":"IF(語言配置表!A1873=\"\",\"CN_待填充内容\",語言配置表!B1873)","v":"使用后获得被动功法-"}]
[{"$f":"IF(語言配置表!A1874=\"\",\"\",語言配置表!A1874)","v":1871},{"$f":"IF(語言配置表!A1874=\"\",\"CN_待填充内容\",語言配置表!B1874)","v":"使用后获得被动功法-"}]
[{"$f":"IF(語言配置表!A1875=\"\",\"\",語言配置表!A1875)","v":1872},{"$f":"IF(語言配置表!A1875=\"\",\"CN_待填充内容\",語言配置表!B1875)","v":"使用后获得被动功法-"}]
[{"$f":"IF(語言配置表!A1876=\"\",\"\",語言配置表!A1876)","v":1873},{"$f":"IF(語言配置表!A1876=\"\",\"CN_待填充内容\",語言配置表!B1876)","v":"使用后获得被动功法-"}]
[{"$f":"IF(語言配置表!A1877=\"\",\"\",語言配置表!A1877)","v":1874},{"$f":"IF(語言配置表!A1877=\"\",\"CN_待填充内容\",語言配置表!B1877)","v":"使用后获得被动功法-"}]
[{"$f":"IF(語言配置表!A1878=\"\",\"\",語言配置表!A1878)","v":1875},{"$f":"IF(語言配置表!A1878=\"\",\"CN_待填充内容\",語言配置表!B1878)","v":"使用后获得被动功法-"}]
[{"$f":"IF(語言配置表!A1879=\"\",\"\",語言配置表!A1879)","v":1876},{"$f":"IF(語言配置表!A1879=\"\",\"CN_待填充内容\",語言配置表!B1879)","v":"使用后获得被动功法-"}]
[{"$f":"IF(語言配置表!A1880=\"\",\"\",語言配置表!A1880)","v":1877},{"$f":"IF(語言配置表!A1880=\"\",\"CN_待填充内容\",語言配置表!B1880)","v":"使用后获得被动功法-"}]
[{"$f":"IF(語言配置表!A1881=\"\",\"\",語言配置表!A1881)","v":1878},{"$f":"IF(語言配置表!A1881=\"\",\"CN_待填充内容\",語言配置表!B1881)","v":"使用后获得被动功法-"}]
[{"$f":"IF(語言配置表!A1882=\"\",\"\",語言配置表!A1882)","v":1879},{"$f":"IF(語言配置表!A1882=\"\",\"CN_待填充内容\",語言配置表!B1882)","v":"使用后获得被动功法-"}]
[{"$f":"IF(語言配置表!A1883=\"\",\"\",語言配置表!A1883)","v":1880},{"$f":"IF(語言配置表!A1883=\"\",\"CN_待填充内容\",語言配置表!B1883)","v":"使用后获得被动功法-"}]
[{"$f":"IF(語言配置表!A1884=\"\",\"\",語言配置表!A1884)","v":1881},{"$f":"IF(語言配置表!A1884=\"\",\"CN_待填充内容\",語言配置表!B1884)","v":"使用后获得被动功法-"}]
[{"$f":"IF(語言配置表!A1885=\"\",\"\",語言配置表!A1885)","v":1882},{"$f":"IF(語言配置表!A1885=\"\",\"CN_待填充内容\",語言配置表!B1885)","v":"使用后获得被动功法-"}]
[{"$f":"IF(語言配置表!A1886=\"\",\"\",語言配置表!A1886)","v":1883},{"$f":"IF(語言配置表!A1886=\"\",\"CN_待填充内容\",語言配置表!B1886)","v":"使用后获得被动功法-"}]
[{"$f":"IF(語言配置表!A1887=\"\",\"\",語言配置表!A1887)","v":1884},{"$f":"IF(語言配置表!A1887=\"\",\"CN_待填充内容\",語言配置表!B1887)","v":"使用后获得被动功法-"}]
[{"$f":"IF(語言配置表!A1888=\"\",\"\",語言配置表!A1888)","v":1885},{"$f":"IF(語言配置表!A1888=\"\",\"CN_待填充内容\",語言配置表!B1888)","v":"使用后获得被动功法-"}]
[{"$f":"IF(語言配置表!A1889=\"\",\"\",語言配置表!A1889)","v":1886},{"$f":"IF(語言配置表!A1889=\"\",\"CN_待填充内容\",語言配置表!B1889)","v":"使用后获得被动功法-"}]
[{"$f":"IF(語言配置表!A1890=\"\",\"\",語言配置表!A1890)","v":1887},{"$f":"IF(語言配置表!A1890=\"\",\"CN_待填充内容\",語言配置表!B1890)","v":"使用后获得被动功法-"}]
[{"$f":"IF(語言配置表!A1891=\"\",\"\",語言配置表!A1891)","v":1888},{"$f":"IF(語言配置表!A1891=\"\",\"CN_待填充内容\",語言配置表!B1891)","v":"使用后获得被动功法-"}]
[{"$f":"IF(語言配置表!A1892=\"\",\"\",語言配置表!A1892)","v":1889},{"$f":"IF(語言配置表!A1892=\"\",\"CN_待填充内容\",語言配置表!B1892)","v":"使用后获得被动功法-"}]
[{"$f":"IF(語言配置表!A1893=\"\",\"\",語言配置表!A1893)","v":1890},{"$f":"IF(語言配置表!A1893=\"\",\"CN_待填充内容\",語言配置表!B1893)","v":"使用后获得被动功法-"}]
[{"$f":"IF(語言配置表!A1894=\"\",\"\",語言配置表!A1894)","v":1891},{"$f":"IF(語言配置表!A1894=\"\",\"CN_待填充内容\",語言配置表!B1894)","v":"使用后获得被动功法-"}]
[{"$f":"IF(語言配置表!A1895=\"\",\"\",語言配置表!A1895)","v":1892},{"$f":"IF(語言配置表!A1895=\"\",\"CN_待填充内容\",語言配置表!B1895)","v":"使用后获得被动功法-"}]
[{"$f":"IF(語言配置表!A1896=\"\",\"\",語言配置表!A1896)","v":1893},{"$f":"IF(語言配置表!A1896=\"\",\"CN_待填充内容\",語言配置表!B1896)","v":"使用后获得被动功法-"}]
[{"$f":"IF(語言配置表!A1897=\"\",\"\",語言配置表!A1897)","v":1894},{"$f":"IF(語言配置表!A1897=\"\",\"CN_待填充内容\",語言配置表!B1897)","v":"使用后获得被动功法-"}]
[{"$f":"IF(語言配置表!A1898=\"\",\"\",語言配置表!A1898)","v":1895},{"$f":"IF(語言配置表!A1898=\"\",\"CN_待填充内容\",語言配置表!B1898)","v":"使用后获得被动功法-"}]
[{"$f":"IF(語言配置表!A1899=\"\",\"\",語言配置表!A1899)","v":1896},{"$f":"IF(語言配置表!A1899=\"\",\"CN_待填充内容\",語言配置表!B1899)","v":"使用后获得被动功法-"}]
[{"$f":"IF(語言配置表!A1900=\"\",\"\",語言配置表!A1900)","v":1897},{"$f":"IF(語言配置表!A1900=\"\",\"CN_待填充内容\",語言配置表!B1900)","v":"使用后获得被动功法-"}]
[{"$f":"IF(語言配置表!A1901=\"\",\"\",語言配置表!A1901)","v":1898},{"$f":"IF(語言配置表!A1901=\"\",\"CN_待填充内容\",語言配置表!B1901)","v":"使用后获得被动功法-"}]
[{"$f":"IF(語言配置表!A1902=\"\",\"\",語言配置表!A1902)","v":1899},{"$f":"IF(語言配置表!A1902=\"\",\"CN_待填充内容\",語言配置表!B1902)","v":"使用后获得被动功法-"}]
[{"$f":"IF(語言配置表!A1903=\"\",\"\",語言配置表!A1903)","v":1900},{"$f":"IF(語言配置表!A1903=\"\",\"CN_待填充内容\",語言配置表!B1903)","v":"GM商店"}]
[{"$f":"IF(語言配置表!A1904=\"\",\"\",語言配置表!A1904)","v":1901},{"$f":"IF(語言配置表!A1904=\"\",\"CN_待填充内容\",語言配置表!B1904)","v":{"$error":"#N/A"}}]
[{"$f":"IF(語言配置表!A1905=\"\",\"\",語言配置表!A1905)","v":1902},{"$f":"IF(語言配置表!A1905=\"\",\"CN_待填充内容\",語言配置表!B1905)","v":{"$error":"#N/A"}}]
[{"$f":"IF(語言配置表!A1906=\"\",\"\",語言配置表!A1906)","v":1903},{"$f":"IF(語言配置表!A1906=\"\",\"CN_待填充内容\",語言配置表!B1906)","v":"你仔细研读后，功法得到精进"}]
[{"$f":"IF(語言配置表!A1907=\"\",\"\",語言配置表!A1907)","v":1904},{"$f":"IF(語言配置表!A1907=\"\",\"CN_待填充内容\",語言配置表!B1907)","v":"法宝商店"}]
[{"$f":"IF(語言配置表!A1908=\"\",\"\",語言配置表!A1908)","v":1905},{"$f":"IF(語言配置表!A1908=\"\",\"CN_待填充内容\",語言配置表!B1908)","v":"功法商店"}]
[{"$f":"IF(語言配置表!A1909=\"\",\"\",語言配置表!A1909)","v":1906},{"$f":"IF(語言配置表!A1909=\"\",\"CN_待填充内容\",語言配置表!B1909)","v":"鲲鹏何在"}]
[{"$f":"IF(語言配置表!A1910=\"\",\"\",語言配置表!A1910)","v":1907},{"$f":"IF(語言配置表!A1910=\"\",\"CN_待填充内容\",語言配置表!B1910)","v":"北海古径"}]
[{"$f":"IF(語言配置表!A1911=\"\",\"\",語言配置表!A1911)","v":1908},{"$f":"IF(語言配置表!A1911=\"\",\"CN_待填充内容\",語言配置表!B1911)","v":"找到风灵珠"}]
[{"$f":"IF(語言配置表!A1912=\"\",\"\",語言配置表!A1912)","v":1909},{"$f":"IF(語言配置表!A1912=\"\",\"CN_待填充内容\",語言配置表!B1912)","v":"达到境界"}]
[{"$f":"IF(語言配置表!A1913=\"\",\"\",語言配置表!A1913)","v":1910},{"$f":"IF(語言配置表!A1913=\"\",\"CN_待填充内容\",語言配置表!B1913)","v":"找寻去北海的线索"}]
[{"$f":"IF(語言配置表!A1914=\"\",\"\",語言配置表!A1914)","v":1911},{"$f":"IF(語言配置表!A1914=\"\",\"CN_待填充内容\",語言配置表!B1914)","v":"击杀妖兽{0}/{1}"}]
[{"$f":"IF(語言配置表!A1915=\"\",\"\",語言配置表!A1915)","v":1912},{"$f":"IF(語言配置表!A1915=\"\",\"CN_待填充内容\",語言配置表!B1915)","v":"找到风灵珠{0}/{1}"}]
[{"$f":"IF(語言配置表!A1916=\"\",\"\",語言配置表!A1916)","v":1913},{"$f":"IF(語言配置表!A1916=\"\",\"CN_待填充内容\",語言配置表!B1916)","v":"达到境界{0}"}]
[{"$f":"IF(語言配置表!A1917=\"\",\"\",語言配置表!A1917)","v":1914},{"$f":"IF(語言配置表!A1917=\"\",\"CN_待填充内容\",語言配置表!B1917)","v":"北海遥远，山高路险，我如今只有练气修为，何时能到？得一边修炼一边找路。"}]
[{"$f":"IF(語言配置表!A1918=\"\",\"\",語言配置表!A1918)","v":1915},{"$f":"IF(語言配置表!A1918=\"\",\"CN_待填充内容\",語言配置表!B1918)","v":"神识探得北海方向，有一条古径，隐于云山之间。\n    不过，古径深处妖气弥漫，有妖兽盘踞，需要破除后才能通过。\n    鲲鹏的秘密，可能和这些妖兽有关。"}]
[{"$f":"IF(語言配置表!A1919=\"\",\"\",語言配置表!A1919)","v":1916},{"$f":"IF(語言配置表!A1919=\"\",\"CN_待填充内容\",語言配置表!B1919)","v":"鲲鹏需要去南海最深处的天池，可缺少龙卷风，没有大风，大鹏无法飞起来"}]
[{"$f":"IF(語言配置表!A1920=\"\",\"\",語言配置表!A1920)","v":1917},{"$f":"IF(語言配置表!A1920=\"\",\"CN_待填充内容\",語言配置表!B1920)","v":"需要达到境界"}]
[{"$f":"IF(語言配置表!A1921=\"\",\"\",語言配置表!A1921)","v":1918},{"$f":"IF(語言配置表!A1921=\"\",\"CN_待填充内容\",語言配置表!B1921)","v":"人界"}]
[{"$f":"IF(語言配置表!A1922=\"\",\"\",語言配置表!A1922)","v":1919},{"$f":"IF(語言配置表!A1922=\"\",\"CN_待填充内容\",語言配置表!B1922)","v":"仙界"}]
[{"$f":"IF(語言配置表!A1923=\"\",\"\",語言配置表!A1923)","v":1920},{"$f":"IF(語言配置表!A1923=\"\",\"CN_待填充内容\",語言配置表!B1923)","v":"魔界"}]
[{"$f":"IF(語言配置表!A1924=\"\",\"\",語言配置表!A1924)","v":1921},{"$f":"IF(語言配置表!A1924=\"\",\"CN_待填充内容\",語言配置表!B1924)","v":"蓬莱岛"}]
[{"$f":"IF(語言配置表!A1925=\"\",\"\",語言配置表!A1925)","v":1922},{"$f":"IF(語言配置表!A1925=\"\",\"CN_待填充内容\",語言配置表!B1925)","v":"东海"}]
[{"$f":"IF(語言配置表!A1926=\"\",\"\",語言配置表!A1926)","v":1923},{"$f":"IF(語言配置表!A1926=\"\",\"CN_待填充内容\",語言配置表!B1926)","v":"无量界"}]
[{"$f":"IF(語言配置表!A1927=\"\",\"\",語言配置表!A1927)","v":1924},{"$f":"IF(語言配置表!A1927=\"\",\"CN_待填充内容\",語言配置表!B1927)","v":"碧霞仙屿"}]
[{"$f":"IF(語言配置表!A1928=\"\",\"\",語言配置表!A1928)","v":1925},{"$f":"IF(語言配置表!A1928=\"\",\"CN_待填充内容\",語言配置表!B1928)","v":"云渺港"}]
[{"$f":"IF(語言配置表!A1929=\"\",\"\",語言配置表!A1929)","v":1926},{"$f":"IF(語言配置表!A1929=\"\",\"CN_待填充内容\",語言配置表!B1929)","v":"青莲峰"}]
[{"$f":"IF(語言配置表!A1930=\"\",\"\",語言配置表!A1930)","v":1927},{"$f":"IF(語言配置表!A1930=\"\",\"CN_待填充内容\",語言配置表!B1930)","v":"月隐谷"}]
[{"$f":"IF(語言配置表!A1931=\"\",\"\",語言配置表!A1931)","v":1928},{"$f":"IF(語言配置表!A1931=\"\",\"CN_待填充内容\",語言配置表!B1931)","v":"龙吟渊"}]
[{"$f":"IF(語言配置表!A1932=\"\",\"\",語言配置表!A1932)","v":1929},{"$f":"IF(語言配置表!A1932=\"\",\"CN_待填充内容\",語言配置表!B1932)","v":"珊瑚灵礁"}]
[{"$f":"IF(語言配置表!A1933=\"\",\"\",語言配置表!A1933)","v":1930},{"$f":"IF(語言配置表!A1933=\"\",\"CN_待填充内容\",語言配置表!B1933)","v":"玄波岛"}]
[{"$f":"IF(語言配置表!A1934=\"\",\"\",語言配置表!A1934)","v":1931},{"$f":"IF(語言配置表!A1934=\"\",\"CN_待填充内容\",語言配置表!B1934)","v":"天心湖"}]
[{"$f":"IF(語言配置表!A1935=\"\",\"\",語言配置表!A1935)","v":1932},{"$f":"IF(語言配置表!A1935=\"\",\"CN_待填充内容\",語言配置表!B1935)","v":"翠微山"}]
[{"$f":"IF(語言配置表!A1936=\"\",\"\",語言配置表!A1936)","v":1933},{"$f":"IF(語言配置表!A1936=\"\",\"CN_待填充内容\",語言配置表!B1936)","v":"星落平原"}]
[{"$f":"IF(語言配置表!A1937=\"\",\"\",語言配置表!A1937)","v":1934},{"$f":"IF(語言配置表!A1937=\"\",\"CN_待填充内容\",語言配置表!B1937)","v":"无垢城"}]
[{"$f":"IF(語言配置表!A1938=\"\",\"\",語言配置表!A1938)","v":1935},{"$f":"IF(語言配置表!A1938=\"\",\"CN_待填充内容\",語言配置表!B1938)","v":"寂光林"}]
[{"$f":"IF(語言配置表!A1939=\"\",\"\",語言配置表!A1939)","v":1936},{"$f":"IF(語言配置表!A1939=\"\",\"CN_待填充内容\",語言配置表!B1939)","v":{"$error":"#N/A"}}]
[{"$f":"IF(語言配置表!A1940=\"\",\"\",語言配置表!A1940)","v":1937},{"$f":"IF(語言配置表!A1940=\"\",\"CN_待填充内容\",語言配置表!B1940)","v":{"$error":"#N/A"}}]
[{"$f":"IF(語言配置表!A1941=\"\",\"\",語言配置表!A1941)","v":1938},{"$f":"IF(語言配置表!A1941=\"\",\"CN_待填充内容\",語言配置表!B1941)","v":{"$error":"#N/A"}}]
[{"$f":"IF(語言配置表!A1942=\"\",\"\",語言配置表!A1942)","v":1939},{"$f":"IF(語言配置表!A1942=\"\",\"CN_待填充内容\",語言配置表!B1942)","v":{"$error":"#N/A"}}]
[{"$f":"IF(語言配置表!A1943=\"\",\"\",語言配置表!A1943)","v":1940},{"$f":"IF(語言配置表!A1943=\"\",\"CN_待填充内容\",語言配置表!B1943)","v":{"$error":"#N/A"}}]
[{"$f":"IF(語言配置表!A1944=\"\",\"\",語言配置表!A1944)","v":1941},{"$f":"IF(語言配置表!A1944=\"\",\"CN_待填充内容\",語言配置表!B1944)","v":{"$error":"#N/A"}}]
[{"$f":"IF(語言配置表!A1945=\"\",\"\",語言配置表!A1945)","v":1942},{"$f":"IF(語言配置表!A1945=\"\",\"CN_待填充内容\",語言配置表!B1945)","v":{"$error":"#N/A"}}]
[{"$f":"IF(語言配置表!A1946=\"\",\"\",語言配置表!A1946)","v":1943},{"$f":"IF(語言配置表!A1946=\"\",\"CN_待填充内容\",語言配置表!B1946)","v":{"$error":"#N/A"}}]
[{"$f":"IF(語言配置表!A1947=\"\",\"\",語言配置表!A1947)","v":1944},{"$f":"IF(語言配置表!A1947=\"\",\"CN_待填充内容\",語言配置表!B1947)","v":{"$error":"#N/A"}}]
[{"$f":"IF(語言配置表!A1948=\"\",\"\",語言配置表!A1948)","v":1945},{"$f":"IF(語言配置表!A1948=\"\",\"CN_待填充内容\",語言配置表!B1948)","v":"论道大会"}]
[{"$f":"IF(語言配置表!A1949=\"\",\"\",語言配置表!A1949)","v":1946},{"$f":"IF(語言配置表!A1949=\"\",\"CN_待填充内容\",語言配置表!B1949)","v":"仙山探险"}]
[{"$f":"IF(語言配置表!A1950=\"\",\"\",語言配置表!A1950)","v":1947},{"$f":"IF(語言配置表!A1950=\"\",\"CN_待填充内容\",語言配置表!B1950)","v":"好感度礼物1"}]
[{"$f":"IF(語言配置表!A1951=\"\",\"\",語言配置表!A1951)","v":1948},{"$f":"IF(語言配置表!A1951=\"\",\"CN_待填充内容\",語言配置表!B1951)","v":"好感度礼物2"}]
[{"$f":"IF(語言配置表!A1952=\"\",\"\",語言配置表!A1952)","v":1949},{"$f":"IF(語言配置表!A1952=\"\",\"CN_待填充内容\",語言配置表!B1952)","v":"道具描述_好感度礼物1"}]
[{"$f":"IF(語言配置表!A1953=\"\",\"\",語言配置表!A1953)","v":1950},{"$f":"IF(語言配置表!A1953=\"\",\"CN_待填充内容\",語言配置表!B1953)","v":"道具描述_好感度礼物2"}]
[{"$f":"IF(語言配置表!A1954=\"\",\"\",語言配置表!A1954)","v":1951},{"$f":"IF(語言配置表!A1954=\"\",\"CN_待填充内容\",語言配置表!B1954)","v":"心情礼物"}]
[{"$f":"IF(語言配置表!A1955=\"\",\"\",語言配置表!A1955)","v":1952},{"$f":"IF(語言配置表!A1955=\"\",\"CN_待填充内容\",語言配置表!B1955)","v":"道具描述_心情礼物"}]
[{"$f":"IF(語言配置表!A1956=\"\",\"\",語言配置表!A1956)","v":1953},{"$f":"IF(語言配置表!A1956=\"\",\"CN_待填充内容\",語言配置表!B1956)","v":"道友1"}]
[{"$f":"IF(語言配置表!A1957=\"\",\"\",語言配置表!A1957)","v":1954},{"$f":"IF(語言配置表!A1957=\"\",\"CN_待填充内容\",語言配置表!B1957)","v":"道友2"}]
[{"$f":"IF(語言配置表!A1958=\"\",\"\",語言配置表!A1958)","v":1955},{"$f":"IF(語言配置表!A1958=\"\",\"CN_待填充内容\",語言配置表!B1958)","v":"道友3"}]
[{"$f":"IF(語言配置表!A1959=\"\",\"\",語言配置表!A1959)","v":1956},{"$f":"IF(語言配置表!A1959=\"\",\"CN_待填充内容\",語言配置表!B1959)","v":"道友4"}]
[{"$f":"IF(語言配置表!A1960=\"\",\"\",語言配置表!A1960)","v":1957},{"$f":"IF(語言配置表!A1960=\"\",\"CN_待填充内容\",語言配置表!B1960)","v":"道友5"}]
[{"$f":"IF(語言配置表!A1961=\"\",\"\",語言配置表!A1961)","v":1958},{"$f":"IF(語言配置表!A1961=\"\",\"CN_待填充内容\",語言配置表!B1961)","v":"道友6"}]
[{"$f":"IF(語言配置表!A1962=\"\",\"\",語言配置表!A1962)","v":1959},{"$f":"IF(語言配置表!A1962=\"\",\"CN_待填充内容\",語言配置表!B1962)","v":"道友7"}]
[{"$f":"IF(語言配置表!A1963=\"\",\"\",語言配置表!A1963)","v":1960},{"$f":"IF(語言配置表!A1963=\"\",\"CN_待填充内容\",語言配置表!B1963)","v":"道友8"}]
[{"$f":"IF(語言配置表!A1964=\"\",\"\",語言配置表!A1964)","v":1961},{"$f":"IF(語言配置表!A1964=\"\",\"CN_待填充内容\",語言配置表!B1964)","v":"道友9"}]
[{"$f":"IF(語言配置表!A1965=\"\",\"\",語言配置表!A1965)","v":1962},{"$f":"IF(語言配置表!A1965=\"\",\"CN_待填充内容\",語言配置表!B1965)","v":"道友10"}]
[{"$f":"IF(語言配置表!A1966=\"\",\"\",語言配置表!A1966)","v":1963},{"$f":"IF(語言配置表!A1966=\"\",\"CN_待填充内容\",語言配置表!B1966)","v":"道友_1_介绍文本1"}]
[{"$f":"IF(語言配置表!A1967=\"\",\"\",語言配置表!A1967)","v":1964},{"$f":"IF(語言配置表!A1967=\"\",\"CN_待填充内容\",語言配置表!B1967)","v":"道友_1_介绍文本2"}]
[{"$f":"IF(語言配置表!A1968=\"\",\"\",語言配置表!A1968)","v":1965},{"$f":"IF(語言配置表!A1968=\"\",\"CN_待填充内容\",語言配置表!B1968)","v":"道友_1_介绍文本3"}]
[{"$f":"IF(語言配置表!A1969=\"\",\"\",語言配置表!A1969)","v":1966},{"$f":"IF(語言配置表!A1969=\"\",\"CN_待填充内容\",語言配置表!B1969)","v":"道友_2_介绍文本1"}]
[{"$f":"IF(語言配置表!A1970=\"\",\"\",語言配置表!A1970)","v":1967},{"$f":"IF(語言配置表!A1970=\"\",\"CN_待填充内容\",語言配置表!B1970)","v":"道友_2_介绍文本2"}]
[{"$f":"IF(語言配置表!A1971=\"\",\"\",語言配置表!A1971)","v":1968},{"$f":"IF(語言配置表!A1971=\"\",\"CN_待填充内容\",語言配置表!B1971)","v":"道友_2_介绍文本3"}]
[{"$f":"IF(語言配置表!A1972=\"\",\"\",語言配置表!A1972)","v":1969},{"$f":"IF(語言配置表!A1972=\"\",\"CN_待填充内容\",語言配置表!B1972)","v":"道友_3_介绍文本1"}]
[{"$f":"IF(語言配置表!A1973=\"\",\"\",語言配置表!A1973)","v":1970},{"$f":"IF(語言配置表!A1973=\"\",\"CN_待填充内容\",語言配置表!B1973)","v":"道友_3_介绍文本2"}]
[{"$f":"IF(語言配置表!A1974=\"\",\"\",語言配置表!A1974)","v":1971},{"$f":"IF(語言配置表!A1974=\"\",\"CN_待填充内容\",語言配置表!B1974)","v":"道友_3_介绍文本3"}]
[{"$f":"IF(語言配置表!A1975=\"\",\"\",語言配置表!A1975)","v":1972},{"$f":"IF(語言配置表!A1975=\"\",\"CN_待填充内容\",語言配置表!B1975)","v":"道友_4_介绍文本1"}]
[{"$f":"IF(語言配置表!A1976=\"\",\"\",語言配置表!A1976)","v":1973},{"$f":"IF(語言配置表!A1976=\"\",\"CN_待填充内容\",語言配置表!B1976)","v":"道友_4_介绍文本2"}]
[{"$f":"IF(語言配置表!A1977=\"\",\"\",語言配置表!A1977)","v":1974},{"$f":"IF(語言配置表!A1977=\"\",\"CN_待填充内容\",語言配置表!B1977)","v":"道友_4_介绍文本3"}]
[{"$f":"IF(語言配置表!A1978=\"\",\"\",語言配置表!A1978)","v":1975},{"$f":"IF(語言配置表!A1978=\"\",\"CN_待填充内容\",語言配置表!B1978)","v":"道友_5_介绍文本1"}]
[{"$f":"IF(語言配置表!A1979=\"\",\"\",語言配置表!A1979)","v":1976},{"$f":"IF(語言配置表!A1979=\"\",\"CN_待填充内容\",語言配置表!B1979)","v":"道友_5_介绍文本2"}]
[{"$f":"IF(語言配置表!A1980=\"\",\"\",語言配置表!A1980)","v":1977},{"$f":"IF(語言配置表!A1980=\"\",\"CN_待填充内容\",語言配置表!B1980)","v":"道友_5_介绍文本3"}]
[{"$f":"IF(語言配置表!A1981=\"\",\"\",語言配置表!A1981)","v":1978},{"$f":"IF(語言配置表!A1981=\"\",\"CN_待填充内容\",語言配置表!B1981)","v":"道友_6_介绍文本1"}]
[{"$f":"IF(語言配置表!A1982=\"\",\"\",語言配置表!A1982)","v":1979},{"$f":"IF(語言配置表!A1982=\"\",\"CN_待填充内容\",語言配置表!B1982)","v":"道友_6_介绍文本2"}]
[{"$f":"IF(語言配置表!A1983=\"\",\"\",語言配置表!A1983)","v":1980},{"$f":"IF(語言配置表!A1983=\"\",\"CN_待填充内容\",語言配置表!B1983)","v":"道友_6_介绍文本3"}]
[{"$f":"IF(語言配置表!A1984=\"\",\"\",語言配置表!A1984)","v":1981},{"$f":"IF(語言配置表!A1984=\"\",\"CN_待填充内容\",語言配置表!B1984)","v":"道友_7_介绍文本1"}]
[{"$f":"IF(語言配置表!A1985=\"\",\"\",語言配置表!A1985)","v":1982},{"$f":"IF(語言配置表!A1985=\"\",\"CN_待填充内容\",語言配置表!B1985)","v":"道友_7_介绍文本2"}]
[{"$f":"IF(語言配置表!A1986=\"\",\"\",語言配置表!A1986)","v":1983},{"$f":"IF(語言配置表!A1986=\"\",\"CN_待填充内容\",語言配置表!B1986)","v":"道友_7_介绍文本3"}]
[{"$f":"IF(語言配置表!A1987=\"\",\"\",語言配置表!A1987)","v":1984},{"$f":"IF(語言配置表!A1987=\"\",\"CN_待填充内容\",語言配置表!B1987)","v":"道友_8_介绍文本1"}]
[{"$f":"IF(語言配置表!A1988=\"\",\"\",語言配置表!A1988)","v":1985},{"$f":"IF(語言配置表!A1988=\"\",\"CN_待填充内容\",語言配置表!B1988)","v":"道友_8_介绍文本2"}]
[{"$f":"IF(語言配置表!A1989=\"\",\"\",語言配置表!A1989)","v":1986},{"$f":"IF(語言配置表!A1989=\"\",\"CN_待填充内容\",語言配置表!B1989)","v":"道友_8_介绍文本3"}]
[{"$f":"IF(語言配置表!A1990=\"\",\"\",語言配置表!A1990)","v":1987},{"$f":"IF(語言配置表!A1990=\"\",\"CN_待填充内容\",語言配置表!B1990)","v":"道友_9_介绍文本1"}]
[{"$f":"IF(語言配置表!A1991=\"\",\"\",語言配置表!A1991)","v":1988},{"$f":"IF(語言配置表!A1991=\"\",\"CN_待填充内容\",語言配置表!B1991)","v":"道友_9_介绍文本2"}]
[{"$f":"IF(語言配置表!A1992=\"\",\"\",語言配置表!A1992)","v":1989},{"$f":"IF(語言配置表!A1992=\"\",\"CN_待填充内容\",語言配置表!B1992)","v":"道友_9_介绍文本3"}]
[{"$f":"IF(語言配置表!A1993=\"\",\"\",語言配置表!A1993)","v":1990},{"$f":"IF(語言配置表!A1993=\"\",\"CN_待填充内容\",語言配置表!B1993)","v":"道友_10_介绍文本1"}]
[{"$f":"IF(語言配置表!A1994=\"\",\"\",語言配置表!A1994)","v":1991},{"$f":"IF(語言配置表!A1994=\"\",\"CN_待填充内容\",語言配置表!B1994)","v":"道友_10_介绍文本2"}]
[{"$f":"IF(語言配置表!A1995=\"\",\"\",語言配置表!A1995)","v":1992},{"$f":"IF(語言配置表!A1995=\"\",\"CN_待填充内容\",語言配置表!B1995)","v":"道友_10_介绍文本3"}]
[{"$f":"IF(語言配置表!A1996=\"\",\"\",語言配置表!A1996)","v":1993},{"$f":"IF(語言配置表!A1996=\"\",\"CN_待填充内容\",語言配置表!B1996)","v":"赠送修为"}]
[{"$f":"IF(語言配置表!A1997=\"\",\"\",語言配置表!A1997)","v":1994},{"$f":"IF(語言配置表!A1997=\"\",\"CN_待填充内容\",語言配置表!B1997)","v":"赠送修为"}]
[{"$f":"IF(語言配置表!A1998=\"\",\"\",語言配置表!A1998)","v":1995},{"$f":"IF(語言配置表!A1998=\"\",\"CN_待填充内容\",語言配置表!B1998)","v":"赠送修为"}]
[{"$f":"IF(語言配置表!A1999=\"\",\"\",語言配置表!A1999)","v":1996},{"$f":"IF(語言配置表!A1999=\"\",\"CN_待填充内容\",語言配置表!B1999)","v":"赠送修为"}]
[{"$f":"IF(語言配置表!A2000=\"\",\"\",語言配置表!A2000)","v":1997},{"$f":"IF(語言配置表!A2000=\"\",\"CN_待填充内容\",語言配置表!B2000)","v":"赠送铜钱"}]
[{"$f":"IF(語言配置表!A2001=\"\",\"\",語言配置表!A2001)","v":1998},{"$f":"IF(語言配置表!A2001=\"\",\"CN_待填充内容\",語言配置表!B2001)","v":"赠送铜钱"}]
[{"$f":"IF(語言配置表!A2002=\"\",\"\",語言配置表!A2002)","v":1999},{"$f":"IF(語言配置表!A2002=\"\",\"CN_待填充内容\",語言配置表!B2002)","v":"赠送铜钱"}]
[{"$f":"IF(語言配置表!A2003=\"\",\"\",語言配置表!A2003)","v":2000},{"$f":"IF(語言配置表!A2003=\"\",\"CN_待填充内容\",語言配置表!B2003)","v":"赠送铜钱"}]
[{"$f":"IF(語言配置表!A2004=\"\",\"\",語言配置表!A2004)","v":2001},{"$f":"IF(語言配置表!A2004=\"\",\"CN_待填充内容\",語言配置表!B2004)","v":"赠送灵气"}]
[{"$f":"IF(語言配置表!A2005=\"\",\"\",語言配置表!A2005)","v":2002},{"$f":"IF(語言配置表!A2005=\"\",\"CN_待填充内容\",語言配置表!B2005)","v":"赠送灵气"}]
[{"$f":"IF(語言配置表!A2006=\"\",\"\",語言配置表!A2006)","v":2003},{"$f":"IF(語言配置表!A2006=\"\",\"CN_待填充内容\",語言配置表!B2006)","v":"赠送灵气"}]
[{"$f":"IF(語言配置表!A2007=\"\",\"\",語言配置表!A2007)","v":2004},{"$f":"IF(語言配置表!A2007=\"\",\"CN_待填充内容\",語言配置表!B2007)","v":"赠送灵气"}]
[{"$f":"IF(語言配置表!A2008=\"\",\"\",語言配置表!A2008)","v":2005},{"$f":"IF(語言配置表!A2008=\"\",\"CN_待填充内容\",語言配置表!B2008)","v":"赠送灵韵"}]
[{"$f":"IF(語言配置表!A2009=\"\",\"\",語言配置表!A2009)","v":2006},{"$f":"IF(語言配置表!A2009=\"\",\"CN_待填充内容\",語言配置表!B2009)","v":"赠送灵韵"}]
[{"$f":"IF(語言配置表!A2010=\"\",\"\",語言配置表!A2010)","v":2007},{"$f":"IF(語言配置表!A2010=\"\",\"CN_待填充内容\",語言配置表!B2010)","v":"赠送灵韵"}]
[{"$f":"IF(語言配置表!A2011=\"\",\"\",語言配置表!A2011)","v":2008},{"$f":"IF(語言配置表!A2011=\"\",\"CN_待填充内容\",語言配置表!B2011)","v":"赠送灵韵"}]
[{"$f":"IF(語言配置表!A2012=\"\",\"\",語言配置表!A2012)","v":2009},{"$f":"IF(語言配置表!A2012=\"\",\"CN_待填充内容\",語言配置表!B2012)","v":"这位道友离开时会给与玩家少量修为奖励"}]
[{"$f":"IF(語言配置表!A2013=\"\",\"\",語言配置表!A2013)","v":2010},{"$f":"IF(語言配置表!A2013=\"\",\"CN_待填充内容\",語言配置表!B2013)","v":"这位道友离开时会给与玩家一些修为奖励"}]
[{"$f":"IF(語言配置表!A2014=\"\",\"\",語言配置表!A2014)","v":2011},{"$f":"IF(語言配置表!A2014=\"\",\"CN_待填充内容\",語言配置表!B2014)","v":"这位道友离开时会给与玩家很多修为奖励"}]
[{"$f":"IF(語言配置表!A2015=\"\",\"\",語言配置表!A2015)","v":2012},{"$f":"IF(語言配置表!A2015=\"\",\"CN_待填充内容\",語言配置表!B2015)","v":"这位道友离开时会给与玩家丰厚修为奖励"}]
[{"$f":"IF(語言配置表!A2016=\"\",\"\",語言配置表!A2016)","v":2013},{"$f":"IF(語言配置表!A2016=\"\",\"CN_待填充内容\",語言配置表!B2016)","v":"这位道友离开时会给与玩家少量铜钱奖励"}]
[{"$f":"IF(語言配置表!A2017=\"\",\"\",語言配置表!A2017)","v":2014},{"$f":"IF(語言配置表!A2017=\"\",\"CN_待填充内容\",語言配置表!B2017)","v":"这位道友离开时会给与玩家一些铜钱奖励"}]
[{"$f":"IF(語言配置表!A2018=\"\",\"\",語言配置表!A2018)","v":2015},{"$f":"IF(語言配置表!A2018=\"\",\"CN_待填充内容\",語言配置表!B2018)","v":"这位道友离开时会给与玩家很多铜钱奖励"}]
[{"$f":"IF(語言配置表!A2019=\"\",\"\",語言配置表!A2019)","v":2016},{"$f":"IF(語言配置表!A2019=\"\",\"CN_待填充内容\",語言配置表!B2019)","v":"这位道友离开时会给与玩家丰厚铜钱奖励"}]
[{"$f":"IF(語言配置表!A2020=\"\",\"\",語言配置表!A2020)","v":2017},{"$f":"IF(語言配置表!A2020=\"\",\"CN_待填充内容\",語言配置表!B2020)","v":"这位道友离开时会给与玩家少量功法灵气奖励"}]
[{"$f":"IF(語言配置表!A2021=\"\",\"\",語言配置表!A2021)","v":2018},{"$f":"IF(語言配置表!A2021=\"\",\"CN_待填充内容\",語言配置表!B2021)","v":"这位道友离开时会给与玩家一些功法灵气奖励"}]
[{"$f":"IF(語言配置表!A2022=\"\",\"\",語言配置表!A2022)","v":2019},{"$f":"IF(語言配置表!A2022=\"\",\"CN_待填充内容\",語言配置表!B2022)","v":"这位道友离开时会给与玩家很多功法灵气奖励"}]
[{"$f":"IF(語言配置表!A2023=\"\",\"\",語言配置表!A2023)","v":2020},{"$f":"IF(語言配置表!A2023=\"\",\"CN_待填充内容\",語言配置表!B2023)","v":"这位道友离开时会给与玩家丰厚功法灵气奖励"}]
[{"$f":"IF(語言配置表!A2024=\"\",\"\",語言配置表!A2024)","v":2021},{"$f":"IF(語言配置表!A2024=\"\",\"CN_待填充内容\",語言配置表!B2024)","v":"这位道友离开时会给与玩家少量法宝灵韵奖励"}]
[{"$f":"IF(語言配置表!A2025=\"\",\"\",語言配置表!A2025)","v":2022},{"$f":"IF(語言配置表!A2025=\"\",\"CN_待填充内容\",語言配置表!B2025)","v":"这位道友离开时会给与玩家一些法宝灵韵奖励"}]
[{"$f":"IF(語言配置表!A2026=\"\",\"\",語言配置表!A2026)","v":2023},{"$f":"IF(語言配置表!A2026=\"\",\"CN_待填充内容\",語言配置表!B2026)","v":"这位道友离开时会给与玩家很多法宝灵韵奖励"}]
[{"$f":"IF(語言配置表!A2027=\"\",\"\",語言配置表!A2027)","v":2024},{"$f":"IF(語言配置表!A2027=\"\",\"CN_待填充内容\",語言配置表!B2027)","v":"这位道友离开时会给与玩家丰厚法宝灵韵奖励"}]
[{"$f":"IF(語言配置表!A2028=\"\",\"\",語言配置表!A2028)","v":2025},{"$f":"IF(語言配置表!A2028=\"\",\"CN_待填充内容\",語言配置表!B2028)","v":"好感度1"}]
[{"$f":"IF(語言配置表!A2029=\"\",\"\",語言配置表!A2029)","v":2026},{"$f":"IF(語言配置表!A2029=\"\",\"CN_待填充内容\",語言配置表!B2029)","v":"好感度2"}]
[{"$f":"IF(語言配置表!A2030=\"\",\"\",語言配置表!A2030)","v":2027},{"$f":"IF(語言配置表!A2030=\"\",\"CN_待填充内容\",語言配置表!B2030)","v":"好感度3"}]
[{"$f":"IF(語言配置表!A2031=\"\",\"\",語言配置表!A2031)","v":2028},{"$f":"IF(語言配置表!A2031=\"\",\"CN_待填充内容\",語言配置表!B2031)","v":"好感度4"}]
[{"$f":"IF(語言配置表!A2032=\"\",\"\",語言配置表!A2032)","v":2029},{"$f":"IF(語言配置表!A2032=\"\",\"CN_待填充内容\",語言配置表!B2032)","v":"好感度5"}]
[{"$f":"IF(語言配置表!A2033=\"\",\"\",語言配置表!A2033)","v":2030},{"$f":"IF(語言配置表!A2033=\"\",\"CN_待填充内容\",語言配置表!B2033)","v":"好感度6"}]
[{"$f":"IF(語言配置表!A2034=\"\",\"\",語言配置表!A2034)","v":2031},{"$f":"IF(語言配置表!A2034=\"\",\"CN_待填充内容\",語言配置表!B2034)","v":"好感度7"}]
[{"$f":"IF(語言配置表!A2035=\"\",\"\",語言配置表!A2035)","v":2032},{"$f":"IF(語言配置表!A2035=\"\",\"CN_待填充内容\",語言配置表!B2035)","v":"好感度8"}]
[{"$f":"IF(語言配置表!A2036=\"\",\"\",語言配置表!A2036)","v":2033},{"$f":"IF(語言配置表!A2036=\"\",\"CN_待填充内容\",語言配置表!B2036)","v":"好感度9"}]
[{"$f":"IF(語言配置表!A2037=\"\",\"\",語言配置表!A2037)","v":2034},{"$f":"IF(語言配置表!A2037=\"\",\"CN_待填充内容\",語言配置表!B2037)","v":"好感度10"}]
[{"$f":"IF(語言配置表!A2038=\"\",\"\",語言配置表!A2038)","v":2035},{"$f":"IF(語言配置表!A2038=\"\",\"CN_待填充内容\",語言配置表!B2038)","v":"幽谷剑鸣"}]
[{"$f":"IF(語言配置表!A2039=\"\",\"\",語言配置表!A2039)","v":2036},{"$f":"IF(語言配置表!A2039=\"\",\"CN_待填充内容\",語言配置表!B2039)","v":"你在闭关修炼时，感受到一股凌厉的剑意波动。深入探查，发现一名白衣剑修“清霜”盘坐于谷中，周围剑气环绕，正与一柄散发不祥气息的灵剑对峙。她似在参悟剑诀，却灵气不足，剑灵桀骜。"}]
[{"$f":"IF(語言配置表!A2040=\"\",\"\",語言配置表!A2040)","v":2037},{"$f":"IF(語言配置表!A2040=\"\",\"CN_待填充内容\",語言配置表!B2040)","v":"你上前以剑意对抗剑灵"}]
[{"$f":"IF(語言配置表!A2041=\"\",\"\",語言配置表!A2041)","v":2038},{"$f":"IF(語言配置表!A2041=\"\",\"CN_待填充内容\",語言配置表!B2041)","v":"成功压制剑灵，清霜赠你“霜华剑符”并结下道友之谊"}]
[{"$f":"IF(語言配置表!A2042=\"\",\"\",語言配置表!A2042)","v":2039},{"$f":"IF(語言配置表!A2042=\"\",\"CN_待填充内容\",語言配置表!B2042)","v":"你察觉谷中灵气匮乏，清霜剑意凝滞。神识探查得知，附近秘境可采集“玄冰花”"}]
[{"$f":"IF(語言配置表!A2043=\"\",\"\",語言配置表!A2043)","v":2040},{"$f":"IF(語言配置表!A2043=\"\",\"CN_待填充内容\",語言配置表!B2043)","v":"献上玄冰花，清霜炼化灵气突破瓶颈，赠你“玄霜剑意”"}]
[{"$f":"IF(語言配置表!A2044=\"\",\"\",語言配置表!A2044)","v":2041},{"$f":"IF(語言配置表!A2044=\"\",\"CN_待填充内容\",語言配置表!B2044)","v":"挑战剑灵"}]
[{"$f":"IF(語言配置表!A2045=\"\",\"\",語言配置表!A2045)","v":2042},{"$f":"IF(語言配置表!A2045=\"\",\"CN_待填充内容\",語言配置表!B2045)","v":"收集灵材"}]
[{"$f":"IF(語言配置表!A2046=\"\",\"\",語言配置表!A2046)","v":2043},{"$f":"IF(語言配置表!A2046=\"\",\"CN_待填充内容\",語言配置表!B2046)","v":"开心"}]
[{"$f":"IF(語言配置表!A2047=\"\",\"\",語言配置表!A2047)","v":2044},{"$f":"IF(語言配置表!A2047=\"\",\"CN_待填充内容\",語言配置表!B2047)","v":"一般"}]
[{"$f":"IF(語言配置表!A2048=\"\",\"\",語言配置表!A2048)","v":2045},{"$f":"IF(語言配置表!A2048=\"\",\"CN_待填充内容\",語言配置表!B2048)","v":"失落"}]
[{"$f":"IF(語言配置表!A2049=\"\",\"\",語言配置表!A2049)","v":2046},{"$f":"IF(語言配置表!A2049=\"\",\"CN_待填充内容\",語言配置表!B2049)","v":"生命增幅"}]
[{"$f":"IF(語言配置表!A2050=\"\",\"\",語言配置表!A2050)","v":2047},{"$f":"IF(語言配置表!A2050=\"\",\"CN_待填充内容\",語言配置表!B2050)","v":"攻击增幅"}]
[{"$f":"IF(語言配置表!A2051=\"\",\"\",語言配置表!A2051)","v":2048},{"$f":"IF(語言配置表!A2051=\"\",\"CN_待填充内容\",語言配置表!B2051)","v":"防御增幅"}]
[{"$f":"IF(語言配置表!A2052=\"\",\"\",語言配置表!A2052)","v":2049},{"$f":"IF(語言配置表!A2052=\"\",\"CN_待填充内容\",語言配置表!B2052)","v":"金之灵根"}]
[{"$f":"IF(語言配置表!A2053=\"\",\"\",語言配置表!A2053)","v":2050},{"$f":"IF(語言配置表!A2053=\"\",\"CN_待填充内容\",語言配置表!B2053)","v":"水之灵根"}]
[{"$f":"IF(語言配置表!A2054=\"\",\"\",語言配置表!A2054)","v":2051},{"$f":"IF(語言配置表!A2054=\"\",\"CN_待填充内容\",語言配置表!B2054)","v":"木之灵根"}]
[{"$f":"IF(語言配置表!A2055=\"\",\"\",語言配置表!A2055)","v":2052},{"$f":"IF(語言配置表!A2055=\"\",\"CN_待填充内容\",語言配置表!B2055)","v":"火之灵根"}]
[{"$f":"IF(語言配置表!A2056=\"\",\"\",語言配置表!A2056)","v":2053},{"$f":"IF(語言配置表!A2056=\"\",\"CN_待填充内容\",語言配置表!B2056)","v":"土之灵根"}]
[{"$f":"IF(語言配置表!A2057=\"\",\"\",語言配置表!A2057)","v":2054},{"$f":"IF(語言配置表!A2057=\"\",\"CN_待填充内容\",語言配置表!B2057)","v":"玩家生命+{0}%"}]
[{"$f":"IF(語言配置表!A2058=\"\",\"\",語言配置表!A2058)","v":2055},{"$f":"IF(語言配置表!A2058=\"\",\"CN_待填充内容\",語言配置表!B2058)","v":"玩家攻击+{0}%"}]
[{"$f":"IF(語言配置表!A2059=\"\",\"\",語言配置表!A2059)","v":2056},{"$f":"IF(語言配置表!A2059=\"\",\"CN_待填充内容\",語言配置表!B2059)","v":"玩家防御+{0}%"}]
[{"$f":"IF(語言配置表!A2060=\"\",\"\",語言配置表!A2060)","v":2057},{"$f":"IF(語言配置表!A2060=\"\",\"CN_待填充内容\",語言配置表!B2060)","v":"玩家金灵根+{0}"}]
[{"$f":"IF(語言配置表!A2061=\"\",\"\",語言配置表!A2061)","v":2058},{"$f":"IF(語言配置表!A2061=\"\",\"CN_待填充内容\",語言配置表!B2061)","v":"玩家水灵根+{0}"}]
[{"$f":"IF(語言配置表!A2062=\"\",\"\",語言配置表!A2062)","v":2059},{"$f":"IF(語言配置表!A2062=\"\",\"CN_待填充内容\",語言配置表!B2062)","v":"玩家木灵根+{0}"}]
[{"$f":"IF(語言配置表!A2063=\"\",\"\",語言配置表!A2063)","v":2060},{"$f":"IF(語言配置表!A2063=\"\",\"CN_待填充内容\",語言配置表!B2063)","v":"玩家火灵根+{0}"}]
[{"$f":"IF(語言配置表!A2064=\"\",\"\",語言配置表!A2064)","v":2061},{"$f":"IF(語言配置表!A2064=\"\",\"CN_待填充内容\",語言配置表!B2064)","v":"玩家土灵根+{0}"}]
[{"$f":"IF(語言配置表!A2065=\"\",\"\",語言配置表!A2065)","v":2062},{"$f":"IF(語言配置表!A2065=\"\",\"CN_待填充内容\",語言配置表!B2065)","v":"这位道友离开时有{0}%概率赠与玩家奖励"}]
[{"$f":"IF(語言配置表!A2066=\"\",\"\",語言配置表!A2066)","v":2063},{"$f":"IF(語言配置表!A2066=\"\",\"CN_待填充内容\",語言配置表!B2066)","v":"赠送概率"}]
[{"$f":"IF(語言配置表!A2067=\"\",\"\",語言配置表!A2067)","v":2064},{"$f":"IF(語言配置表!A2067=\"\",\"CN_待填充内容\",語言配置表!B2067)","v":"赠送概率"}]
[{"$f":"IF(語言配置表!A2068=\"\",\"\",語言配置表!A2068)","v":2065},{"$f":"IF(語言配置表!A2068=\"\",\"CN_待填充内容\",語言配置表!B2068)","v":"赠送概率"}]
[{"$f":"IF(語言配置表!A2069=\"\",\"\",語言配置表!A2069)","v":2066},{"$f":"IF(語言配置表!A2069=\"\",\"CN_待填充内容\",語言配置表!B2069)","v":"赠送概率"}]
[{"$f":"IF(語言配置表!A2070=\"\",\"\",語言配置表!A2070)","v":2067},{"$f":"IF(語言配置表!A2070=\"\",\"CN_待填充内容\",語言配置表!B2070)","v":"惠子.没用的大葫芦"}]
[{"$f":"IF(語言配置表!A2071=\"\",\"\",語言配置表!A2071)","v":2068},{"$f":"IF(語言配置表!A2071=\"\",\"CN_待填充内容\",語言配置表!B2071)","v":"惠子种的葫芦没用，他非常生气"}]
[{"$f":"IF(語言配置表!A2072=\"\",\"\",語言配置表!A2072)","v":2069},{"$f":"IF(語言配置表!A2072=\"\",\"CN_待填充内容\",語言配置表!B2072)","v":"发现魔修"}]
[{"$f":"IF(語言配置表!A2073=\"\",\"\",語言配置表!A2073)","v":2070},{"$f":"IF(語言配置表!A2073=\"\",\"CN_待填充内容\",語言配置表!B2073)","v":"发现一群魔修，正在夺人钱财"}]
[{"$f":"IF(語言配置表!A2074=\"\",\"\",語言配置表!A2074)","v":2071},{"$f":"IF(語言配置表!A2074=\"\",\"CN_待填充内容\",語言配置表!B2074)","v":"魔修"}]
[{"$f":"IF(語言配置表!A2075=\"\",\"\",語言配置表!A2075)","v":2072},{"$f":"IF(語言配置表!A2075=\"\",\"CN_待填充内容\",語言配置表!B2075)","v":"打败魔休"}]
[{"$f":"IF(語言配置表!A2076=\"\",\"\",語言配置表!A2076)","v":2073},{"$f":"IF(語言配置表!A2076=\"\",\"CN_待填充内容\",語言配置表!B2076)","v":"和惠子交谈"}]
[{"$f":"IF(語言配置表!A2077=\"\",\"\",語言配置表!A2077)","v":2074},{"$f":"IF(語言配置表!A2077=\"\",\"CN_待填充内容\",語言配置表!B2077)","v":"惠子种的葫芦没用，他非常生气，需要打败魔休"}]
[{"$f":"IF(語言配置表!A2078=\"\",\"\",語言配置表!A2078)","v":2075},{"$f":"IF(語言配置表!A2078=\"\",\"CN_待填充内容\",語言配置表!B2078)","v":"接受任务"}]
[{"$f":"IF(語言配置表!A2079=\"\",\"\",語言配置表!A2079)","v":2076},{"$f":"IF(語言配置表!A2079=\"\",\"CN_待填充内容\",語言配置表!B2079)","v":"出现Boss魔修"}]
[{"$f":"IF(語言配置表!A2080=\"\",\"\",語言配置表!A2080)","v":2077},{"$f":"IF(語言配置表!A2080=\"\",\"CN_待填充内容\",語言配置表!B2080)","v":"打败魔修"}]
[{"$f":"IF(語言配置表!A2081=\"\",\"\",語言配置表!A2081)","v":2078},{"$f":"IF(語言配置表!A2081=\"\",\"CN_待填充内容\",語言配置表!B2081)","v":"拥有金币{0}/{1}"}]
[{"$f":"IF(語言配置表!A2082=\"\",\"\",語言配置表!A2082)","v":2079},{"$f":"IF(語言配置表!A2082=\"\",\"CN_待填充内容\",語言配置表!B2082)","v":"达到境界{0}/{1}"}]
[{"$f":"IF(語言配置表!A2083=\"\",\"\",語言配置表!A2083)","v":2080},{"$f":"IF(語言配置表!A2083=\"\",\"CN_待填充内容\",語言配置表!B2083)","v":"击杀魔休{0}/{1}"}]
[{"$f":"IF(語言配置表!A2084=\"\",\"\",語言配置表!A2084)","v":2081},{"$f":"IF(語言配置表!A2084=\"\",\"CN_待填充内容\",語言配置表!B2084)","v":"获得钻石{0}/{1}"}]
[{"$f":"IF(語言配置表!A2085=\"\",\"\",語言配置表!A2085)","v":2082},{"$f":"IF(語言配置表!A2085=\"\",\"CN_待填充内容\",語言配置表!B2085)","v":"第一章.逍遥游"}]
[{"$f":"IF(語言配置表!A2086=\"\",\"\",語言配置表!A2086)","v":2083},{"$f":"IF(語言配置表!A2086=\"\",\"CN_待填充内容\",語言配置表!B2086)","v":"多次渡劫失败的你，误入“无何有之乡”，在这里受到了列子的指引，踏上了寻找七道心境的修仙之路。"}]
[{"$f":"IF(語言配置表!A2087=\"\",\"\",語言配置表!A2087)","v":2084},{"$f":"IF(語言配置表!A2087=\"\",\"CN_待填充内容\",語言配置表!B2087)","v":"无用的大葫芦"}]
[{"$f":"IF(語言配置表!A2088=\"\",\"\",語言配置表!A2088)","v":2085},{"$f":"IF(語言配置表!A2088=\"\",\"CN_待填充内容\",語言配置表!B2088)","v":"惠子种出了巨大葫芦，他觉得毫无用处，非常生气！"}]
[{"$f":"IF(語言配置表!A2089=\"\",\"\",語言配置表!A2089)","v":2086},{"$f":"IF(語言配置表!A2089=\"\",\"CN_待填充内容\",語言配置表!B2089)","v":0}]
[{"$f":"IF(語言配置表!A2090=\"\",\"\",語言配置表!A2090)","v":2087},{"$f":"IF(語言配置表!A2090=\"\",\"CN_待填充内容\",語言配置表!B2090)","v":0}]
[{"$f":"IF(語言配置表!A2091=\"\",\"\",語言配置表!A2091)","v":2088},{"$f":"IF(語言配置表!A2091=\"\",\"CN_待填充内容\",語言配置表!B2091)","v":0}]
[{"$f":"IF(語言配置表!A2092=\"\",\"\",語言配置表!A2092)","v":""},{"$f":"IF(語言配置表!A2092=\"\",\"CN_待填充内容\",語言配置表!B2092)","v":"CN_待填充内容"}]
[{"$f":"IF(語言配置表!A2093=\"\",\"\",語言配置表!A2093)","v":""},{"$f":"IF(語言配置表!A2093=\"\",\"CN_待填充内容\",語言配置表!B2093)","v":"CN_待填充内容"}]
[{"$f":"IF(語言配置表!A2094=\"\",\"\",語言配置表!A2094)","v":""},{"$f":"IF(語言配置表!A2094=\"\",\"CN_待填充内容\",語言配置表!B2094)","v":"CN_待填充内容"}]
[{"$f":"IF(語言配置表!A2095=\"\",\"\",語言配置表!A2095)","v":""},{"$f":"IF(語言配置表!A2095=\"\",\"CN_待填充内容\",語言配置表!B2095)","v":"CN_待填充内容"}]
[{"$f":"IF(語言配置表!A2096=\"\",\"\",語言配置表!A2096)","v":""},{"$f":"IF(語言配置表!A2096=\"\",\"CN_待填充内容\",語言配置表!B2096)","v":"CN_待填充内容"}]
[{"$f":"IF(語言配置表!A2097=\"\",\"\",語言配置表!A2097)","v":""},{"$f":"IF(語言配置表!A2097=\"\",\"CN_待填充内容\",語言配置表!B2097)","v":"CN_待填充内容"}]
[{"$f":"IF(語言配置表!A2098=\"\",\"\",語言配置表!A2098)","v":""},{"$f":"IF(語言配置表!A2098=\"\",\"CN_待填充内容\",語言配置表!B2098)","v":"CN_待填充内容"}]
[{"$f":"IF(語言配置表!A2099=\"\",\"\",語言配置表!A2099)","v":""},{"$f":"IF(語言配置表!A2099=\"\",\"CN_待填充内容\",語言配置表!B2099)","v":"CN_待填充内容"}]
[{"$f":"IF(語言配置表!A2100=\"\",\"\",語言配置表!A2100)","v":""},{"$f":"IF(語言配置表!A2100=\"\",\"CN_待填充内容\",語言配置表!B2100)","v":"CN_待填充内容"}]
[{"$f":"IF(語言配置表!A2101=\"\",\"\",語言配置表!A2101)","v":""},{"$f":"IF(語言配置表!A2101=\"\",\"CN_待填充内容\",語言配置表!B2101)","v":"CN_待填充内容"}]
[{"$f":"IF(語言配置表!A2102=\"\",\"\",語言配置表!A2102)","v":""},{"$f":"IF(語言配置表!A2102=\"\",\"CN_待填充内容\",語言配置表!B2102)","v":"CN_待填充内容"}]
[{"$f":"IF(語言配置表!A2103=\"\",\"\",語言配置表!A2103)","v":""},{"$f":"IF(語言配置表!A2103=\"\",\"CN_待填充内容\",語言配置表!B2103)","v":"CN_待填充内容"}]
[{"$f":"IF(語言配置表!A2104=\"\",\"\",語言配置表!A2104)","v":""},{"$f":"IF(語言配置表!A2104=\"\",\"CN_待填充内容\",語言配置表!B2104)","v":"CN_待填充内容"}]
[{"$f":"IF(語言配置表!A2105=\"\",\"\",語言配置表!A2105)","v":""},{"$f":"IF(語言配置表!A2105=\"\",\"CN_待填充内容\",語言配置表!B2105)","v":"CN_待填充内容"}]
[{"$f":"IF(語言配置表!A2106=\"\",\"\",語言配置表!A2106)","v":""},{"$f":"IF(語言配置表!A2106=\"\",\"CN_待填充内容\",語言配置表!B2106)","v":"CN_待填充内容"}]
[{"$f":"IF(語言配置表!A2107=\"\",\"\",語言配置表!A2107)","v":""},{"$f":"IF(語言配置表!A2107=\"\",\"CN_待填充内容\",語言配置表!B2107)","v":"CN_待填充内容"}]
[{"$f":"IF(語言配置表!A2108=\"\",\"\",語言配置表!A2108)","v":""},{"$f":"IF(語言配置表!A2108=\"\",\"CN_待填充内容\",語言配置表!B2108)","v":"CN_待填充内容"}]
[{"$f":"IF(語言配置表!A2109=\"\",\"\",語言配置表!A2109)","v":""},{"$f":"IF(語言配置表!A2109=\"\",\"CN_待填充内容\",語言配置表!B2109)","v":"CN_待填充内容"}]
[{"$f":"IF(語言配置表!A2110=\"\",\"\",語言配置表!A2110)","v":""},{"$f":"IF(語言配置表!A2110=\"\",\"CN_待填充内容\",語言配置表!B2110)","v":"CN_待填充内容"}]
[{"$f":"IF(語言配置表!A2111=\"\",\"\",語言配置表!A2111)","v":""},{"$f":"IF(語言配置表!A2111=\"\",\"CN_待填充内容\",語言配置表!B2111)","v":"CN_待填充内容"}]
[{"$f":"IF(語言配置表!A2112=\"\",\"\",語言配置表!A2112)","v":""},{"$f":"IF(語言配置表!A2112=\"\",\"CN_待填充内容\",語言配置表!B2112)","v":"CN_待填充内容"}]
[{"$f":"IF(語言配置表!A2113=\"\",\"\",語言配置表!A2113)","v":""},{"$f":"IF(語言配置表!A2113=\"\",\"CN_待填充内容\",語言配置表!B2113)","v":"CN_待填充内容"}]
[{"$f":"IF(語言配置表!A2114=\"\",\"\",語言配置表!A2114)","v":""},{"$f":"IF(語言配置表!A2114=\"\",\"CN_待填充内容\",語言配置表!B2114)","v":"CN_待填充内容"}]
[{"$f":"IF(語言配置表!A2115=\"\",\"\",語言配置表!A2115)","v":""},{"$f":"IF(語言配置表!A2115=\"\",\"CN_待填充内容\",語言配置表!B2115)","v":"CN_待填充内容"}]
[{"$f":"IF(語言配置表!A2116=\"\",\"\",語言配置表!A2116)","v":""},{"$f":"IF(語言配置表!A2116=\"\",\"CN_待填充内容\",語言配置表!B2116)","v":"CN_待填充内容"}]
[{"$f":"IF(語言配置表!A2117=\"\",\"\",語言配置表!A2117)","v":""},{"$f":"IF(語言配置表!A2117=\"\",\"CN_待填充内容\",語言配置表!B2117)","v":"CN_待填充内容"}]
[{"$f":"IF(語言配置表!A2118=\"\",\"\",語言配置表!A2118)","v":""},{"$f":"IF(語言配置表!A2118=\"\",\"CN_待填充内容\",語言配置表!B2118)","v":"CN_待填充内容"}]
[{"$f":"IF(語言配置表!A2119=\"\",\"\",語言配置表!A2119)","v":""},{"$f":"IF(語言配置表!A2119=\"\",\"CN_待填充内容\",語言配置表!B2119)","v":"CN_待填充内容"}]
[{"$f":"IF(語言配置表!A2120=\"\",\"\",語言配置表!A2120)","v":""},{"$f":"IF(語言配置表!A2120=\"\",\"CN_待填充内容\",語言配置表!B2120)","v":"CN_待填充内容"}]
[{"$f":"IF(語言配置表!A2121=\"\",\"\",語言配置表!A2121)","v":""},{"$f":"IF(語言配置表!A2121=\"\",\"CN_待填充内容\",語言配置表!B2121)","v":"CN_待填充内容"}]
[{"$f":"IF(語言配置表!A2122=\"\",\"\",語言配置表!A2122)","v":""},{"$f":"IF(語言配置表!A2122=\"\",\"CN_待填充内容\",語言配置表!B2122)","v":"CN_待填充内容"}]
[{"$f":"IF(語言配置表!A2123=\"\",\"\",語言配置表!A2123)","v":""},{"$f":"IF(語言配置表!A2123=\"\",\"CN_待填充内容\",語言配置表!B2123)","v":"CN_待填充内容"}]
[{"$f":"IF(語言配置表!A2124=\"\",\"\",語言配置表!A2124)","v":""},{"$f":"IF(語言配置表!A2124=\"\",\"CN_待填充内容\",語言配置表!B2124)","v":"CN_待填充内容"}]
[{"$f":"IF(語言配置表!A2125=\"\",\"\",語言配置表!A2125)","v":""},{"$f":"IF(語言配置表!A2125=\"\",\"CN_待填充内容\",語言配置表!B2125)","v":"CN_待填充内容"}]
[{"$f":"IF(語言配置表!A2126=\"\",\"\",語言配置表!A2126)","v":""},{"$f":"IF(語言配置表!A2126=\"\",\"CN_待填充内容\",語言配置表!B2126)","v":"CN_待填充内容"}]
[{"$f":"IF(語言配置表!A2127=\"\",\"\",語言配置表!A2127)","v":""},{"$f":"IF(語言配置表!A2127=\"\",\"CN_待填充内容\",語言配置表!B2127)","v":"CN_待填充内容"}]
[{"$f":"IF(語言配置表!A2128=\"\",\"\",語言配置表!A2128)","v":""},{"$f":"IF(語言配置表!A2128=\"\",\"CN_待填充内容\",語言配置表!B2128)","v":"CN_待填充内容"}]
[{"$f":"IF(語言配置表!A2129=\"\",\"\",語言配置表!A2129)","v":""},{"$f":"IF(語言配置表!A2129=\"\",\"CN_待填充内容\",語言配置表!B2129)","v":"CN_待填充内容"}]
[{"$f":"IF(語言配置表!A2130=\"\",\"\",語言配置表!A2130)","v":""},{"$f":"IF(語言配置表!A2130=\"\",\"CN_待填充内容\",語言配置表!B2130)","v":"CN_待填充内容"}]
[{"$f":"IF(語言配置表!A2131=\"\",\"\",語言配置表!A2131)","v":""},{"$f":"IF(語言配置表!A2131=\"\",\"CN_待填充内容\",語言配置表!B2131)","v":"CN_待填充内容"}]
[{"$f":"IF(語言配置表!A2132=\"\",\"\",語言配置表!A2132)","v":""},{"$f":"IF(語言配置表!A2132=\"\",\"CN_待填充内容\",語言配置表!B2132)","v":"CN_待填充内容"}]
[{"$f":"IF(語言配置表!A2133=\"\",\"\",語言配置表!A2133)","v":""},{"$f":"IF(語言配置表!A2133=\"\",\"CN_待填充内容\",語言配置表!B2133)","v":"CN_待填充内容"}]
[{"$f":"IF(語言配置表!A2134=\"\",\"\",語言配置表!A2134)","v":""},{"$f":"IF(語言配置表!A2134=\"\",\"CN_待填充内容\",語言配置表!B2134)","v":"CN_待填充内容"}]
[{"$f":"IF(語言配置表!A2135=\"\",\"\",語言配置表!A2135)","v":""},{"$f":"IF(語言配置表!A2135=\"\",\"CN_待填充内容\",語言配置表!B2135)","v":"CN_待填充内容"}]
[{"$f":"IF(語言配置表!A2136=\"\",\"\",語言配置表!A2136)","v":""},{"$f":"IF(語言配置表!A2136=\"\",\"CN_待填充内容\",語言配置表!B2136)","v":"CN_待填充内容"}]
[{"$f":"IF(語言配置表!A2137=\"\",\"\",語言配置表!A2137)","v":""},{"$f":"IF(語言配置表!A2137=\"\",\"CN_待填充内容\",語言配置表!B2137)","v":"CN_待填充内容"}]
[{"$f":"IF(語言配置表!A2138=\"\",\"\",語言配置表!A2138)","v":""},{"$f":"IF(語言配置表!A2138=\"\",\"CN_待填充内容\",語言配置表!B2138)","v":"CN_待填充内容"}]
[{"$f":"IF(語言配置表!A2139=\"\",\"\",語言配置表!A2139)","v":""},{"$f":"IF(語言配置表!A2139=\"\",\"CN_待填充内容\",語言配置表!B2139)","v":"CN_待填充内容"}]
[{"$f":"IF(語言配置表!A2140=\"\",\"\",語言配置表!A2140)","v":""},{"$f":"IF(語言配置表!A2140=\"\",\"CN_待填充内容\",語言配置表!B2140)","v":"CN_待填充内容"}]
[{"$f":"IF(語言配置表!A2141=\"\",\"\",語言配置表!A2141)","v":""},{"$f":"IF(語言配置表!A2141=\"\",\"CN_待填充内容\",語言配置表!B2141)","v":"CN_待填充内容"}]
[{"$f":"IF(語言配置表!A2142=\"\",\"\",語言配置表!A2142)","v":""},{"$f":"IF(語言配置表!A2142=\"\",\"CN_待填充内容\",語言配置表!B2142)","v":"CN_待填充内容"}]
[{"$f":"IF(語言配置表!A2143=\"\",\"\",語言配置表!A2143)","v":""},{"$f":"IF(語言配置表!A2143=\"\",\"CN_待填充内容\",語言配置表!B2143)","v":"CN_待填充内容"}]
[{"$f":"IF(語言配置表!A2144=\"\",\"\",語言配置表!A2144)","v":""},{"$f":"IF(語言配置表!A2144=\"\",\"CN_待填充内容\",語言配置表!B2144)","v":"CN_待填充内容"}]
[{"$f":"IF(語言配置表!A2145=\"\",\"\",語言配置表!A2145)","v":""},{"$f":"IF(語言配置表!A2145=\"\",\"CN_待填充内容\",語言配置表!B2145)","v":"CN_待填充内容"}]
[{"$f":"IF(語言配置表!A2146=\"\",\"\",語言配置表!A2146)","v":""},{"$f":"IF(語言配置表!A2146=\"\",\"CN_待填充内容\",語言配置表!B2146)","v":"CN_待填充内容"}]
[{"$f":"IF(語言配置表!A2147=\"\",\"\",語言配置表!A2147)","v":""},{"$f":"IF(語言配置表!A2147=\"\",\"CN_待填充内容\",語言配置表!B2147)","v":"CN_待填充内容"}]
[{"$f":"IF(語言配置表!A2148=\"\",\"\",語言配置表!A2148)","v":""},{"$f":"IF(語言配置表!A2148=\"\",\"CN_待填充内容\",語言配置表!B2148)","v":"CN_待填充内容"}]
[{"$f":"IF(語言配置表!A2149=\"\",\"\",語言配置表!A2149)","v":""},{"$f":"IF(語言配置表!A2149=\"\",\"CN_待填充内容\",語言配置表!B2149)","v":"CN_待填充内容"}]
[{"$f":"IF(語言配置表!A2150=\"\",\"\",語言配置表!A2150)","v":""},{"$f":"IF(語言配置表!A2150=\"\",\"CN_待填充内容\",語言配置表!B2150)","v":"CN_待填充内容"}]
[{"$f":"IF(語言配置表!A2151=\"\",\"\",語言配置表!A2151)","v":""},{"$f":"IF(語言配置表!A2151=\"\",\"CN_待填充内容\",語言配置表!B2151)","v":"CN_待填充内容"}]
[{"$f":"IF(語言配置表!A2152=\"\",\"\",語言配置表!A2152)","v":""},{"$f":"IF(語言配置表!A2152=\"\",\"CN_待填充内容\",語言配置表!B2152)","v":"CN_待填充内容"}]
[{"$f":"IF(語言配置表!A2153=\"\",\"\",語言配置表!A2153)","v":""},{"$f":"IF(語言配置表!A2153=\"\",\"CN_待填充内容\",語言配置表!B2153)","v":"CN_待填充内容"}]
[{"$f":"IF(語言配置表!A2154=\"\",\"\",語言配置表!A2154)","v":""},{"$f":"IF(語言配置表!A2154=\"\",\"CN_待填充内容\",語言配置表!B2154)","v":"CN_待填充内容"}]
[{"$f":"IF(語言配置表!A2155=\"\",\"\",語言配置表!A2155)","v":""},{"$f":"IF(語言配置表!A2155=\"\",\"CN_待填充内容\",語言配置表!B2155)","v":"CN_待填充内容"}]
[{"$f":"IF(語言配置表!A2156=\"\",\"\",語言配置表!A2156)","v":""},{"$f":"IF(語言配置表!A2156=\"\",\"CN_待填充内容\",語言配置表!B2156)","v":"CN_待填充内容"}]
[{"$f":"IF(語言配置表!A2157=\"\",\"\",語言配置表!A2157)","v":""},{"$f":"IF(語言配置表!A2157=\"\",\"CN_待填充内容\",語言配置表!B2157)","v":"CN_待填充内容"}]
[{"$f":"IF(語言配置表!A2158=\"\",\"\",語言配置表!A2158)","v":""},{"$f":"IF(語言配置表!A2158=\"\",\"CN_待填充内容\",語言配置表!B2158)","v":"CN_待填充内容"}]
[{"$f":"IF(語言配置表!A2159=\"\",\"\",語言配置表!A2159)","v":""},{"$f":"IF(語言配置表!A2159=\"\",\"CN_待填充内容\",語言配置表!B2159)","v":"CN_待填充内容"}]
[{"$f":"IF(語言配置表!A2160=\"\",\"\",語言配置表!A2160)","v":""},{"$f":"IF(語言配置表!A2160=\"\",\"CN_待填充内容\",語言配置表!B2160)","v":"CN_待填充内容"}]
[{"$f":"IF(語言配置表!A2161=\"\",\"\",語言配置表!A2161)","v":""},{"$f":"IF(語言配置表!A2161=\"\",\"CN_待填充内容\",語言配置表!B2161)","v":"CN_待填充内容"}]
[{"$f":"IF(語言配置表!A2162=\"\",\"\",語言配置表!A2162)","v":""},{"$f":"IF(語言配置表!A2162=\"\",\"CN_待填充内容\",語言配置表!B2162)","v":"CN_待填充内容"}]
[{"$f":"IF(語言配置表!A2163=\"\",\"\",語言配置表!A2163)","v":""},{"$f":"IF(語言配置表!A2163=\"\",\"CN_待填充内容\",語言配置表!B2163)","v":"CN_待填充内容"}]
[{"$f":"IF(語言配置表!A2164=\"\",\"\",語言配置表!A2164)","v":""},{"$f":"IF(語言配置表!A2164=\"\",\"CN_待填充内容\",語言配置表!B2164)","v":"CN_待填充内容"}]
[{"$f":"IF(語言配置表!A2165=\"\",\"\",語言配置表!A2165)","v":""},{"$f":"IF(語言配置表!A2165=\"\",\"CN_待填充内容\",語言配置表!B2165)","v":"CN_待填充内容"}]
[{"$f":"IF(語言配置表!A2166=\"\",\"\",語言配置表!A2166)","v":""},{"$f":"IF(語言配置表!A2166=\"\",\"CN_待填充内容\",語言配置表!B2166)","v":"CN_待填充内容"}]
[{"$f":"IF(語言配置表!A2167=\"\",\"\",語言配置表!A2167)","v":""},{"$f":"IF(語言配置表!A2167=\"\",\"CN_待填充内容\",語言配置表!B2167)","v":"CN_待填充内容"}]
[{"$f":"IF(語言配置表!A2168=\"\",\"\",語言配置表!A2168)","v":""},{"$f":"IF(語言配置表!A2168=\"\",\"CN_待填充内容\",語言配置表!B2168)","v":"CN_待填充内容"}]
[{"$f":"IF(語言配置表!A2169=\"\",\"\",語言配置表!A2169)","v":""},{"$f":"IF(語言配置表!A2169=\"\",\"CN_待填充内容\",語言配置表!B2169)","v":"CN_待填充内容"}]
[{"$f":"IF(語言配置表!A2170=\"\",\"\",語言配置表!A2170)","v":""},{"$f":"IF(語言配置表!A2170=\"\",\"CN_待填充内容\",語言配置表!B2170)","v":"CN_待填充内容"}]
[{"$f":"IF(語言配置表!A2171=\"\",\"\",語言配置表!A2171)","v":""},{"$f":"IF(語言配置表!A2171=\"\",\"CN_待填充内容\",語言配置表!B2171)","v":"CN_待填充内容"}]
[{"$f":"IF(語言配置表!A2172=\"\",\"\",語言配置表!A2172)","v":""},{"$f":"IF(語言配置表!A2172=\"\",\"CN_待填充内容\",語言配置表!B2172)","v":"CN_待填充内容"}]
[{"$f":"IF(語言配置表!A2173=\"\",\"\",語言配置表!A2173)","v":""},{"$f":"IF(語言配置表!A2173=\"\",\"CN_待填充内容\",語言配置表!B2173)","v":"CN_待填充内容"}]
[{"$f":"IF(語言配置表!A2174=\"\",\"\",語言配置表!A2174)","v":""},{"$f":"IF(語言配置表!A2174=\"\",\"CN_待填充内容\",語言配置表!B2174)","v":"CN_待填充内容"}]
[{"$f":"IF(語言配置表!A2175=\"\",\"\",語言配置表!A2175)","v":""},{"$f":"IF(語言配置表!A2175=\"\",\"CN_待填充内容\",語言配置表!B2175)","v":"CN_待填充内容"}]
[{"$f":"IF(語言配置表!A2176=\"\",\"\",語言配置表!A2176)","v":""},{"$f":"IF(語言配置表!A2176=\"\",\"CN_待填充内容\",語言配置表!B2176)","v":"CN_待填充内容"}]
[{"$f":"IF(語言配置表!A2177=\"\",\"\",語言配置表!A2177)","v":""},{"$f":"IF(語言配置表!A2177=\"\",\"CN_待填充内容\",語言配置表!B2177)","v":"CN_待填充内容"}]
[{"$f":"IF(語言配置表!A2178=\"\",\"\",語言配置表!A2178)","v":""},{"$f":"IF(語言配置表!A2178=\"\",\"CN_待填充内容\",語言配置表!B2178)","v":"CN_待填充内容"}]
[{"$f":"IF(語言配置表!A2179=\"\",\"\",語言配置表!A2179)","v":""},{"$f":"IF(語言配置表!A2179=\"\",\"CN_待填充内容\",語言配置表!B2179)","v":"CN_待填充内容"}]
[{"$f":"IF(語言配置表!A2180=\"\",\"\",語言配置表!A2180)","v":""},{"$f":"IF(語言配置表!A2180=\"\",\"CN_待填充内容\",語言配置表!B2180)","v":"CN_待填充内容"}]
[{"$f":"IF(語言配置表!A2181=\"\",\"\",語言配置表!A2181)","v":""},{"$f":"IF(語言配置表!A2181=\"\",\"CN_待填充内容\",語言配置表!B2181)","v":"CN_待填充内容"}]
[{"$f":"IF(語言配置表!A2182=\"\",\"\",語言配置表!A2182)","v":""},{"$f":"IF(語言配置表!A2182=\"\",\"CN_待填充内容\",語言配置表!B2182)","v":"CN_待填充内容"}]
[{"$f":"IF(語言配置表!A2183=\"\",\"\",語言配置表!A2183)","v":""},{"$f":"IF(語言配置表!A2183=\"\",\"CN_待填充内容\",語言配置表!B2183)","v":"CN_待填充内容"}]
[{"$f":"IF(語言配置表!A2184=\"\",\"\",語言配置表!A2184)","v":""},{"$f":"IF(語言配置表!A2184=\"\",\"CN_待填充内容\",語言配置表!B2184)","v":"CN_待填充内容"}]
[{"$f":"IF(語言配置表!A2185=\"\",\"\",語言配置表!A2185)","v":""},{"$f":"IF(語言配置表!A2185=\"\",\"CN_待填充内容\",語言配置表!B2185)","v":"CN_待填充内容"}]
[{"$f":"IF(語言配置表!A2186=\"\",\"\",語言配置表!A2186)","v":""},{"$f":"IF(語言配置表!A2186=\"\",\"CN_待填充内容\",語言配置表!B2186)","v":"CN_待填充内容"}]
[{"$f":"IF(語言配置表!A2187=\"\",\"\",語言配置表!A2187)","v":""},{"$f":"IF(語言配置表!A2187=\"\",\"CN_待填充内容\",語言配置表!B2187)","v":"CN_待填充内容"}]
[{"$f":"IF(語言配置表!A2188=\"\",\"\",語言配置表!A2188)","v":""},{"$f":"IF(語言配置表!A2188=\"\",\"CN_待填充内容\",語言配置表!B2188)","v":"CN_待填充内容"}]
[{"$f":"IF(語言配置表!A2189=\"\",\"\",語言配置表!A2189)","v":""},{"$f":"IF(語言配置表!A2189=\"\",\"CN_待填充内容\",語言配置表!B2189)","v":"CN_待填充内容"}]
[{"$f":"IF(語言配置表!A2190=\"\",\"\",語言配置表!A2190)","v":""},{"$f":"IF(語言配置表!A2190=\"\",\"CN_待填充内容\",語言配置表!B2190)","v":"CN_待填充内容"}]
[{"$f":"IF(語言配置表!A2191=\"\",\"\",語言配置表!A2191)","v":""},{"$f":"IF(語言配置表!A2191=\"\",\"CN_待填充内容\",語言配置表!B2191)","v":"CN_待填充内容"}]
[{"$f":"IF(語言配置表!A2192=\"\",\"\",語言配置表!A2192)","v":""},{"$f":"IF(語言配置表!A2192=\"\",\"CN_待填充内容\",語言配置表!B2192)","v":"CN_待填充内容"}]
[{"$f":"IF(語言配置表!A2193=\"\",\"\",語言配置表!A2193)","v":""},{"$f":"IF(語言配置表!A2193=\"\",\"CN_待填充内容\",語言配置表!B2193)","v":"CN_待填充内容"}]
[{"$f":"IF(語言配置表!A2194=\"\",\"\",語言配置表!A2194)","v":""},{"$f":"IF(語言配置表!A2194=\"\",\"CN_待填充内容\",語言配置表!B2194)","v":"CN_待填充内容"}]
[{"$f":"IF(語言配置表!A2195=\"\",\"\",語言配置表!A2195)","v":""},{"$f":"IF(語言配置表!A2195=\"\",\"CN_待填充内容\",語言配置表!B2195)","v":"CN_待填充内容"}]
[{"$f":"IF(語言配置表!A2196=\"\",\"\",語言配置表!A2196)","v":""},{"$f":"IF(語言配置表!A2196=\"\",\"CN_待填充内容\",語言配置表!B2196)","v":"CN_待填充内容"}]
[{"$f":"IF(語言配置表!A2197=\"\",\"\",語言配置表!A2197)","v":""},{"$f":"IF(語言配置表!A2197=\"\",\"CN_待填充内容\",語言配置表!B2197)","v":"CN_待填充内容"}]
[{"$f":"IF(語言配置表!A2198=\"\",\"\",語言配置表!A2198)","v":""},{"$f":"IF(語言配置表!A2198=\"\",\"CN_待填充内容\",語言配置表!B2198)","v":"CN_待填充内容"}]
[{"$f":"IF(語言配置表!A2199=\"\",\"\",語言配置表!A2199)","v":""},{"$f":"IF(語言配置表!A2199=\"\",\"CN_待填充内容\",語言配置表!B2199)","v":"CN_待填充内容"}]
[{"$f":"IF(語言配置表!A2200=\"\",\"\",語言配置表!A2200)","v":""},{"$f":"IF(語言配置表!A2200=\"\",\"CN_待填充内容\",語言配置表!B2200)","v":"CN_待填充内容"}]
[{"$f":"IF(語言配置表!A2201=\"\",\"\",語言配置表!A2201)","v":""},{"$f":"IF(語言配置表!A2201=\"\",\"CN_待填充内容\",語言配置表!B2201)","v":"CN_待填充内容"}]
[{"$f":"IF(語言配置表!A2202=\"\",\"\",語言配置表!A2202)","v":""},{"$f":"IF(語言配置表!A2202=\"\",\"CN_待填充内容\",語言配置表!B2202)","v":"CN_待填充内容"}]
[{"$f":"IF(語言配置表!A2203=\"\",\"\",語言配置表!A2203)","v":""},{"$f":"IF(語言配置表!A2203=\"\",\"CN_待填充内容\",語言配置表!B2203)","v":"CN_待填充内容"}]
[{"$f":"IF(語言配置表!A2204=\"\",\"\",語言配置表!A2204)","v":""},{"$f":"IF(語言配置表!A2204=\"\",\"CN_待填充内容\",語言配置表!B2204)","v":"CN_待填充内容"}]
[{"$f":"IF(語言配置表!A2205=\"\",\"\",語言配置表!A2205)","v":""},{"$f":"IF(語言配置表!A2205=\"\",\"CN_待填充内容\",語言配置表!B2205)","v":"CN_待填充内容"}]
[{"$f":"IF(語言配置表!A2206=\"\",\"\",語言配置表!A2206)","v":""},{"$f":"IF(語言配置表!A2206=\"\",\"CN_待填充内容\",語言配置表!B2206)","v":"CN_待填充内容"}]
[{"$f":"IF(語言配置表!A2207=\"\",\"\",語言配置表!A2207)","v":""},{"$f":"IF(語言配置表!A2207=\"\",\"CN_待填充内容\",語言配置表!B2207)","v":"CN_待填充内容"}]
[{"$f":"IF(語言配置表!A2208=\"\",\"\",語言配置表!A2208)","v":""},{"$f":"IF(語言配置表!A2208=\"\",\"CN_待填充内容\",語言配置表!B2208)","v":"CN_待填充内容"}]
[{"$f":"IF(語言配置表!A2209=\"\",\"\",語言配置表!A2209)","v":""},{"$f":"IF(語言配置表!A2209=\"\",\"CN_待填充内容\",語言配置表!B2209)","v":"CN_待填充内容"}]
[{"$f":"IF(語言配置表!A2210=\"\",\"\",語言配置表!A2210)","v":""},{"$f":"IF(語言配置表!A2210=\"\",\"CN_待填充内容\",語言配置表!B2210)","v":"CN_待填充内容"}]
[{"$f":"IF(語言配置表!A2211=\"\",\"\",語言配置表!A2211)","v":""},{"$f":"IF(語言配置表!A2211=\"\",\"CN_待填充内容\",語言配置表!B2211)","v":"CN_待填充内容"}]
[{"$f":"IF(語言配置表!A2212=\"\",\"\",語言配置表!A2212)","v":""},{"$f":"IF(語言配置表!A2212=\"\",\"CN_待填充内容\",語言配置表!B2212)","v":"CN_待填充内容"}]
[{"$f":"IF(語言配置表!A2213=\"\",\"\",語言配置表!A2213)","v":""},{"$f":"IF(語言配置表!A2213=\"\",\"CN_待填充内容\",語言配置表!B2213)","v":"CN_待填充内容"}]
[{"$f":"IF(語言配置表!A2214=\"\",\"\",語言配置表!A2214)","v":""},{"$f":"IF(語言配置表!A2214=\"\",\"CN_待填充内容\",語言配置表!B2214)","v":"CN_待填充内容"}]
[{"$f":"IF(語言配置表!A2215=\"\",\"\",語言配置表!A2215)","v":""},{"$f":"IF(語言配置表!A2215=\"\",\"CN_待填充内容\",語言配置表!B2215)","v":"CN_待填充内容"}]
[{"$f":"IF(語言配置表!A2216=\"\",\"\",語言配置表!A2216)","v":""},{"$f":"IF(語言配置表!A2216=\"\",\"CN_待填充内容\",語言配置表!B2216)","v":"CN_待填充内容"}]
[{"$f":"IF(語言配置表!A2217=\"\",\"\",語言配置表!A2217)","v":""},{"$f":"IF(語言配置表!A2217=\"\",\"CN_待填充内容\",語言配置表!B2217)","v":"CN_待填充内容"}]
[{"$f":"IF(語言配置表!A2218=\"\",\"\",語言配置表!A2218)","v":""},{"$f":"IF(語言配置表!A2218=\"\",\"CN_待填充内容\",語言配置表!B2218)","v":"CN_待填充内容"}]
[{"$f":"IF(語言配置表!A2219=\"\",\"\",語言配置表!A2219)","v":""},{"$f":"IF(語言配置表!A2219=\"\",\"CN_待填充内容\",語言配置表!B2219)","v":"CN_待填充内容"}]
[{"$f":"IF(語言配置表!A2220=\"\",\"\",語言配置表!A2220)","v":""},{"$f":"IF(語言配置表!A2220=\"\",\"CN_待填充内容\",語言配置表!B2220)","v":"CN_待填充内容"}]
[{"$f":"IF(語言配置表!A2221=\"\",\"\",語言配置表!A2221)","v":""},{"$f":"IF(語言配置表!A2221=\"\",\"CN_待填充内容\",語言配置表!B2221)","v":"CN_待填充内容"}]
[{"$f":"IF(語言配置表!A2222=\"\",\"\",語言配置表!A2222)","v":""},{"$f":"IF(語言配置表!A2222=\"\",\"CN_待填充内容\",語言配置表!B2222)","v":"CN_待填充内容"}]
[{"$f":"IF(語言配置表!A2223=\"\",\"\",語言配置表!A2223)","v":""},{"$f":"IF(語言配置表!A2223=\"\",\"CN_待填充内容\",語言配置表!B2223)","v":"CN_待填充内容"}]
[{"$f":"IF(語言配置表!A2224=\"\",\"\",語言配置表!A2224)","v":""},{"$f":"IF(語言配置表!A2224=\"\",\"CN_待填充内容\",語言配置表!B2224)","v":"CN_待填充内容"}]
[{"$f":"IF(語言配置表!A2225=\"\",\"\",語言配置表!A2225)","v":""},{"$f":"IF(語言配置表!A2225=\"\",\"CN_待填充内容\",語言配置表!B2225)","v":"CN_待填充内容"}]
[{"$f":"IF(語言配置表!A2226=\"\",\"\",語言配置表!A2226)","v":""},{"$f":"IF(語言配置表!A2226=\"\",\"CN_待填充内容\",語言配置表!B2226)","v":"CN_待填充内容"}]
[{"$f":"IF(語言配置表!A2227=\"\",\"\",語言配置表!A2227)","v":""},{"$f":"IF(語言配置表!A2227=\"\",\"CN_待填充内容\",語言配置表!B2227)","v":"CN_待填充内容"}]
[{"$f":"IF(語言配置表!A2228=\"\",\"\",語言配置表!A2228)","v":""},{"$f":"IF(語言配置表!A2228=\"\",\"CN_待填充内容\",語言配置表!B2228)","v":"CN_待填充内容"}]
[{"$f":"IF(語言配置表!A2229=\"\",\"\",語言配置表!A2229)","v":""},{"$f":"IF(語言配置表!A2229=\"\",\"CN_待填充内容\",語言配置表!B2229)","v":"CN_待填充内容"}]
[{"$f":"IF(語言配置表!A2230=\"\",\"\",語言配置表!A2230)","v":""},{"$f":"IF(語言配置表!A2230=\"\",\"CN_待填充内容\",語言配置表!B2230)","v":"CN_待填充内容"}]
[{"$f":"IF(語言配置表!A2231=\"\",\"\",語言配置表!A2231)","v":""},{"$f":"IF(語言配置表!A2231=\"\",\"CN_待填充内容\",語言配置表!B2231)","v":"CN_待填充内容"}]
[{"$f":"IF(語言配置表!A2232=\"\",\"\",語言配置表!A2232)","v":""},{"$f":"IF(語言配置表!A2232=\"\",\"CN_待填充内容\",語言配置表!B2232)","v":"CN_待填充内容"}]
[{"$f":"IF(語言配置表!A2233=\"\",\"\",語言配置表!A2233)","v":""},{"$f":"IF(語言配置表!A2233=\"\",\"CN_待填充内容\",語言配置表!B2233)","v":"CN_待填充内容"}]
[{"$f":"IF(語言配置表!A2234=\"\",\"\",語言配置表!A2234)","v":""},{"$f":"IF(語言配置表!A2234=\"\",\"CN_待填充内容\",語言配置表!B2234)","v":"CN_待填充内容"}]
[{"$f":"IF(語言配置表!A2235=\"\",\"\",語言配置表!A2235)","v":""},{"$f":"IF(語言配置表!A2235=\"\",\"CN_待填充内容\",語言配置表!B2235)","v":"CN_待填充内容"}]
[{"$f":"IF(語言配置表!A2236=\"\",\"\",語言配置表!A2236)","v":""},{"$f":"IF(語言配置表!A2236=\"\",\"CN_待填充内容\",語言配置表!B2236)","v":"CN_待填充内容"}]
[{"$f":"IF(語言配置表!A2237=\"\",\"\",語言配置表!A2237)","v":""},{"$f":"IF(語言配置表!A2237=\"\",\"CN_待填充内容\",語言配置表!B2237)","v":"CN_待填充内容"}]
[{"$f":"IF(語言配置表!A2238=\"\",\"\",語言配置表!A2238)","v":""},{"$f":"IF(語言配置表!A2238=\"\",\"CN_待填充内容\",語言配置表!B2238)","v":"CN_待填充内容"}]
[{"$f":"IF(語言配置表!A2239=\"\",\"\",語言配置表!A2239)","v":""},{"$f":"IF(語言配置表!A2239=\"\",\"CN_待填充内容\",語言配置表!B2239)","v":"CN_待填充内容"}]
[{"$f":"IF(語言配置表!A2240=\"\",\"\",語言配置表!A2240)","v":""},{"$f":"IF(語言配置表!A2240=\"\",\"CN_待填充内容\",語言配置表!B2240)","v":"CN_待填充内容"}]
[{"$f":"IF(語言配置表!A2241=\"\",\"\",語言配置表!A2241)","v":""},{"$f":"IF(語言配置表!A2241=\"\",\"CN_待填充内容\",語言配置表!B2241)","v":"CN_待填充内容"}]
[{"$f":"IF(語言配置表!A2242=\"\",\"\",語言配置表!A2242)","v":""},{"$f":"IF(語言配置表!A2242=\"\",\"CN_待填充内容\",語言配置表!B2242)","v":"CN_待填充内容"}]
[{"$f":"IF(語言配置表!A2243=\"\",\"\",語言配置表!A2243)","v":""},{"$f":"IF(語言配置表!A2243=\"\",\"CN_待填充内容\",語言配置表!B2243)","v":"CN_待填充内容"}]
[{"$f":"IF(語言配置表!A2244=\"\",\"\",語言配置表!A2244)","v":""},{"$f":"IF(語言配置表!A2244=\"\",\"CN_待填充内容\",語言配置表!B2244)","v":"CN_待填充内容"}]
[{"$f":"IF(語言配置表!A2245=\"\",\"\",語言配置表!A2245)","v":""},{"$f":"IF(語言配置表!A2245=\"\",\"CN_待填充内容\",語言配置表!B2245)","v":"CN_待填充内容"}]
[{"$f":"IF(語言配置表!A2246=\"\",\"\",語言配置表!A2246)","v":""},{"$f":"IF(語言配置表!A2246=\"\",\"CN_待填充内容\",語言配置表!B2246)","v":"CN_待填充内容"}]
[{"$f":"IF(語言配置表!A2247=\"\",\"\",語言配置表!A2247)","v":""},{"$f":"IF(語言配置表!A2247=\"\",\"CN_待填充内容\",語言配置表!B2247)","v":"CN_待填充内容"}]
[{"$f":"IF(語言配置表!A2248=\"\",\"\",語言配置表!A2248)","v":""},{"$f":"IF(語言配置表!A2248=\"\",\"CN_待填充内容\",語言配置表!B2248)","v":"CN_待填充内容"}]
[{"$f":"IF(語言配置表!A2249=\"\",\"\",語言配置表!A2249)","v":""},{"$f":"IF(語言配置表!A2249=\"\",\"CN_待填充内容\",語言配置表!B2249)","v":"CN_待填充内容"}]
[{"$f":"IF(語言配置表!A2250=\"\",\"\",語言配置表!A2250)","v":""},{"$f":"IF(語言配置表!A2250=\"\",\"CN_待填充内容\",語言配置表!B2250)","v":"CN_待填充内容"}]
[{"$f":"IF(語言配置表!A2251=\"\",\"\",語言配置表!A2251)","v":""},{"$f":"IF(語言配置表!A2251=\"\",\"CN_待填充内容\",語言配置表!B2251)","v":"CN_待填充内容"}]
[{"$f":"IF(語言配置表!A2252=\"\",\"\",語言配置表!A2252)","v":""},{"$f":"IF(語言配置表!A2252=\"\",\"CN_待填充内容\",語言配置表!B2252)","v":"CN_待填充内容"}]
[{"$f":"IF(語言配置表!A2253=\"\",\"\",語言配置表!A2253)","v":""},{"$f":"IF(語言配置表!A2253=\"\",\"CN_待填充内容\",語言配置表!B2253)","v":"CN_待填充内容"}]
[{"$f":"IF(語言配置表!A2254=\"\",\"\",語言配置表!A2254)","v":""},{"$f":"IF(語言配置表!A2254=\"\",\"CN_待填充内容\",語言配置表!B2254)","v":"CN_待填充内容"}]
[{"$f":"IF(語言配置表!A2255=\"\",\"\",語言配置表!A2255)","v":""},{"$f":"IF(語言配置表!A2255=\"\",\"CN_待填充内容\",語言配置表!B2255)","v":"CN_待填充内容"}]
[{"$f":"IF(語言配置表!A2256=\"\",\"\",語言配置表!A2256)","v":""},{"$f":"IF(語言配置表!A2256=\"\",\"CN_待填充内容\",語言配置表!B2256)","v":"CN_待填充内容"}]
[{"$f":"IF(語言配置表!A2257=\"\",\"\",語言配置表!A2257)","v":""},{"$f":"IF(語言配置表!A2257=\"\",\"CN_待填充内容\",語言配置表!B2257)","v":"CN_待填充内容"}]
[{"$f":"IF(語言配置表!A2258=\"\",\"\",語言配置表!A2258)","v":""},{"$f":"IF(語言配置表!A2258=\"\",\"CN_待填充内容\",語言配置表!B2258)","v":"CN_待填充内容"}]
[{"$f":"IF(語言配置表!A2259=\"\",\"\",語言配置表!A2259)","v":""},{"$f":"IF(語言配置表!A2259=\"\",\"CN_待填充内容\",語言配置表!B2259)","v":"CN_待填充内容"}]
[{"$f":"IF(語言配置表!A2260=\"\",\"\",語言配置表!A2260)","v":""},{"$f":"IF(語言配置表!A2260=\"\",\"CN_待填充内容\",語言配置表!B2260)","v":"CN_待填充内容"}]
[{"$f":"IF(語言配置表!A2261=\"\",\"\",語言配置表!A2261)","v":""},{"$f":"IF(語言配置表!A2261=\"\",\"CN_待填充内容\",語言配置表!B2261)","v":"CN_待填充内容"}]
[{"$f":"IF(語言配置表!A2262=\"\",\"\",語言配置表!A2262)","v":""},{"$f":"IF(語言配置表!A2262=\"\",\"CN_待填充内容\",語言配置表!B2262)","v":"CN_待填充内容"}]
[{"$f":"IF(語言配置表!A2263=\"\",\"\",語言配置表!A2263)","v":""},{"$f":"IF(語言配置表!A2263=\"\",\"CN_待填充内容\",語言配置表!B2263)","v":"CN_待填充内容"}]
[{"$f":"IF(語言配置表!A2264=\"\",\"\",語言配置表!A2264)","v":""},{"$f":"IF(語言配置表!A2264=\"\",\"CN_待填充内容\",語言配置表!B2264)","v":"CN_待填充内容"}]
[{"$f":"IF(語言配置表!A2265=\"\",\"\",語言配置表!A2265)","v":""},{"$f":"IF(語言配置表!A2265=\"\",\"CN_待填充内容\",語言配置表!B2265)","v":"CN_待填充内容"}]
[{"$f":"IF(語言配置表!A2266=\"\",\"\",語言配置表!A2266)","v":""},{"$f":"IF(語言配置表!A2266=\"\",\"CN_待填充内容\",語言配置表!B2266)","v":"CN_待填充内容"}]
[{"$f":"IF(語言配置表!A2267=\"\",\"\",語言配置表!A2267)","v":""},{"$f":"IF(語言配置表!A2267=\"\",\"CN_待填充内容\",語言配置表!B2267)","v":"CN_待填充内容"}]
[{"$f":"IF(語言配置表!A2268=\"\",\"\",語言配置表!A2268)","v":""},{"$f":"IF(語言配置表!A2268=\"\",\"CN_待填充内容\",語言配置表!B2268)","v":"CN_待填充内容"}]
[{"$f":"IF(語言配置表!A2269=\"\",\"\",語言配置表!A2269)","v":""},{"$f":"IF(語言配置表!A2269=\"\",\"CN_待填充内容\",語言配置表!B2269)","v":"CN_待填充内容"}]
[{"$f":"IF(語言配置表!A2270=\"\",\"\",語言配置表!A2270)","v":""},{"$f":"IF(語言配置表!A2270=\"\",\"CN_待填充内容\",語言配置表!B2270)","v":"CN_待填充内容"}]
[{"$f":"IF(語言配置表!A2271=\"\",\"\",語言配置表!A2271)","v":""},{"$f":"IF(語言配置表!A2271=\"\",\"CN_待填充内容\",語言配置表!B2271)","v":"CN_待填充内容"}]
[{"$f":"IF(語言配置表!A2272=\"\",\"\",語言配置表!A2272)","v":""},{"$f":"IF(語言配置表!A2272=\"\",\"CN_待填充内容\",語言配置表!B2272)","v":"CN_待填充内容"}]
[{"$f":"IF(語言配置表!A2273=\"\",\"\",語言配置表!A2273)","v":""},{"$f":"IF(語言配置表!A2273=\"\",\"CN_待填充内容\",語言配置表!B2273)","v":"CN_待填充内容"}]
[{"$f":"IF(語言配置表!A2274=\"\",\"\",語言配置表!A2274)","v":""},{"$f":"IF(語言配置表!A2274=\"\",\"CN_待填充内容\",語言配置表!B2274)","v":"CN_待填充内容"}]
[{"$f":"IF(語言配置表!A2275=\"\",\"\",語言配置表!A2275)","v":""},{"$f":"IF(語言配置表!A2275=\"\",\"CN_待填充内容\",語言配置表!B2275)","v":"CN_待填充内容"}]
[{"$f":"IF(語言配置表!A2276=\"\",\"\",語言配置表!A2276)","v":""},{"$f":"IF(語言配置表!A2276=\"\",\"CN_待填充内容\",語言配置表!B2276)","v":"CN_待填充内容"}]
[{"$f":"IF(語言配置表!A2277=\"\",\"\",語言配置表!A2277)","v":""},{"$f":"IF(語言配置表!A2277=\"\",\"CN_待填充内容\",語言配置表!B2277)","v":"CN_待填充内容"}]
[{"$f":"IF(語言配置表!A2278=\"\",\"\",語言配置表!A2278)","v":""},{"$f":"IF(語言配置表!A2278=\"\",\"CN_待填充内容\",語言配置表!B2278)","v":"CN_待填充内容"}]
[{"$f":"IF(語言配置表!A2279=\"\",\"\",語言配置表!A2279)","v":""},{"$f":"IF(語言配置表!A2279=\"\",\"CN_待填充内容\",語言配置表!B2279)","v":"CN_待填充内容"}]
[{"$f":"IF(語言配置表!A2280=\"\",\"\",語言配置表!A2280)","v":""},{"$f":"IF(語言配置表!A2280=\"\",\"CN_待填充内容\",語言配置表!B2280)","v":"CN_待填充内容"}]
[{"$f":"IF(語言配置表!A2281=\"\",\"\",語言配置表!A2281)","v":""},{"$f":"IF(語言配置表!A2281=\"\",\"CN_待填充内容\",語言配置表!B2281)","v":"CN_待填充内容"}]
[{"$f":"IF(語言配置表!A2282=\"\",\"\",語言配置表!A2282)","v":""},{"$f":"IF(語言配置表!A2282=\"\",\"CN_待填充内容\",語言配置表!B2282)","v":"CN_待填充内容"}]
[{"$f":"IF(語言配置表!A2283=\"\",\"\",語言配置表!A2283)","v":""},{"$f":"IF(語言配置表!A2283=\"\",\"CN_待填充内容\",語言配置表!B2283)","v":"CN_待填充内容"}]
[{"$f":"IF(語言配置表!A2284=\"\",\"\",語言配置表!A2284)","v":""},{"$f":"IF(語言配置表!A2284=\"\",\"CN_待填充内容\",語言配置表!B2284)","v":"CN_待填充内容"}]
[{"$f":"IF(語言配置表!A2285=\"\",\"\",語言配置表!A2285)","v":""},{"$f":"IF(語言配置表!A2285=\"\",\"CN_待填充内容\",語言配置表!B2285)","v":"CN_待填充内容"}]
[{"$f":"IF(語言配置表!A2286=\"\",\"\",語言配置表!A2286)","v":""},{"$f":"IF(語言配置表!A2286=\"\",\"CN_待填充内容\",語言配置表!B2286)","v":"CN_待填充内容"}]
[{"$f":"IF(語言配置表!A2287=\"\",\"\",語言配置表!A2287)","v":""},{"$f":"IF(語言配置表!A2287=\"\",\"CN_待填充内容\",語言配置表!B2287)","v":"CN_待填充内容"}]
[{"$f":"IF(語言配置表!A2288=\"\",\"\",語言配置表!A2288)","v":""},{"$f":"IF(語言配置表!A2288=\"\",\"CN_待填充内容\",語言配置表!B2288)","v":"CN_待填充内容"}]
[{"$f":"IF(語言配置表!A2289=\"\",\"\",語言配置表!A2289)","v":""},{"$f":"IF(語言配置表!A2289=\"\",\"CN_待填充内容\",語言配置表!B2289)","v":"CN_待填充内容"}]
[{"$f":"IF(語言配置表!A2290=\"\",\"\",語言配置表!A2290)","v":""},{"$f":"IF(語言配置表!A2290=\"\",\"CN_待填充内容\",語言配置表!B2290)","v":"CN_待填充内容"}]
[{"$f":"IF(語言配置表!A2291=\"\",\"\",語言配置表!A2291)","v":""},{"$f":"IF(語言配置表!A2291=\"\",\"CN_待填充内容\",語言配置表!B2291)","v":"CN_待填充内容"}]
[{"$f":"IF(語言配置表!A2292=\"\",\"\",語言配置表!A2292)","v":""},{"$f":"IF(語言配置表!A2292=\"\",\"CN_待填充内容\",語言配置表!B2292)","v":"CN_待填充内容"}]
[{"$f":"IF(語言配置表!A2293=\"\",\"\",語言配置表!A2293)","v":""},{"$f":"IF(語言配置表!A2293=\"\",\"CN_待填充内容\",語言配置表!B2293)","v":"CN_待填充内容"}]
[{"$f":"IF(語言配置表!A2294=\"\",\"\",語言配置表!A2294)","v":""},{"$f":"IF(語言配置表!A2294=\"\",\"CN_待填充内容\",語言配置表!B2294)","v":"CN_待填充内容"}]
[{"$f":"IF(語言配置表!A2295=\"\",\"\",語言配置表!A2295)","v":""},{"$f":"IF(語言配置表!A2295=\"\",\"CN_待填充内容\",語言配置表!B2295)","v":"CN_待填充内容"}]
[{"$f":"IF(語言配置表!A2296=\"\",\"\",語言配置表!A2296)","v":""},{"$f":"IF(語言配置表!A2296=\"\",\"CN_待填充内容\",語言配置表!B2296)","v":"CN_待填充内容"}]
[{"$f":"IF(語言配置表!A2297=\"\",\"\",語言配置表!A2297)","v":""},{"$f":"IF(語言配置表!A2297=\"\",\"CN_待填充内容\",語言配置表!B2297)","v":"CN_待填充内容"}]
[{"$f":"IF(語言配置表!A2298=\"\",\"\",語言配置表!A2298)","v":""},{"$f":"IF(語言配置表!A2298=\"\",\"CN_待填充内容\",語言配置表!B2298)","v":"CN_待填充内容"}]
[{"$f":"IF(語言配置表!A2299=\"\",\"\",語言配置表!A2299)","v":""},{"$f":"IF(語言配置表!A2299=\"\",\"CN_待填充内容\",語言配置表!B2299)","v":"CN_待填充内容"}]
[{"$f":"IF(語言配置表!A2300=\"\",\"\",語言配置表!A2300)","v":""},{"$f":"IF(語言配置表!A2300=\"\",\"CN_待填充内容\",語言配置表!B2300)","v":"CN_待填充内容"}]
[{"$f":"IF(語言配置表!A2301=\"\",\"\",語言配置表!A2301)","v":""},{"$f":"IF(語言配置表!A2301=\"\",\"CN_待填充内容\",語言配置表!B2301)","v":"CN_待填充内容"}]
[{"$f":"IF(語言配置表!A2302=\"\",\"\",語言配置表!A2302)","v":""},{"$f":"IF(語言配置表!A2302=\"\",\"CN_待填充内容\",語言配置表!B2302)","v":"CN_待填充内容"}]
[{"$f":"IF(語言配置表!A2303=\"\",\"\",語言配置表!A2303)","v":""},{"$f":"IF(語言配置表!A2303=\"\",\"CN_待填充内容\",語言配置表!B2303)","v":"CN_待填充内容"}]
[{"$f":"IF(語言配置表!A2304=\"\",\"\",語言配置表!A2304)","v":""},{"$f":"IF(語言配置表!A2304=\"\",\"CN_待填充内容\",語言配置表!B2304)","v":"CN_待填充内容"}]
[{"$f":"IF(語言配置表!A2305=\"\",\"\",語言配置表!A2305)","v":""},{"$f":"IF(語言配置表!A2305=\"\",\"CN_待填充内容\",語言配置表!B2305)","v":"CN_待填充内容"}]
[{"$f":"IF(語言配置表!A2306=\"\",\"\",語言配置表!A2306)","v":""},{"$f":"IF(語言配置表!A2306=\"\",\"CN_待填充内容\",語言配置表!B2306)","v":"CN_待填充内容"}]
[{"$f":"IF(語言配置表!A2307=\"\",\"\",語言配置表!A2307)","v":""},{"$f":"IF(語言配置表!A2307=\"\",\"CN_待填充内容\",語言配置表!B2307)","v":"CN_待填充内容"}]
[{"$f":"IF(語言配置表!A2308=\"\",\"\",語言配置表!A2308)","v":""},{"$f":"IF(語言配置表!A2308=\"\",\"CN_待填充内容\",語言配置表!B2308)","v":"CN_待填充内容"}]
[{"$f":"IF(語言配置表!A2309=\"\",\"\",語言配置表!A2309)","v":""},{"$f":"IF(語言配置表!A2309=\"\",\"CN_待填充内容\",語言配置表!B2309)","v":"CN_待填充内容"}]
[{"$f":"IF(語言配置表!A2310=\"\",\"\",語言配置表!A2310)","v":""},{"$f":"IF(語言配置表!A2310=\"\",\"CN_待填充内容\",語言配置表!B2310)","v":"CN_待填充内容"}]
[{"$f":"IF(語言配置表!A2311=\"\",\"\",語言配置表!A2311)","v":""},{"$f":"IF(語言配置表!A2311=\"\",\"CN_待填充内容\",語言配置表!B2311)","v":"CN_待填充内容"}]
[{"$f":"IF(語言配置表!A2312=\"\",\"\",語言配置表!A2312)","v":""},{"$f":"IF(語言配置表!A2312=\"\",\"CN_待填充内容\",語言配置表!B2312)","v":"CN_待填充内容"}]
[{"$f":"IF(語言配置表!A2313=\"\",\"\",語言配置表!A2313)","v":""},{"$f":"IF(語言配置表!A2313=\"\",\"CN_待填充内容\",語言配置表!B2313)","v":"CN_待填充内容"}]
[{"$f":"IF(語言配置表!A2314=\"\",\"\",語言配置表!A2314)","v":""},{"$f":"IF(語言配置表!A2314=\"\",\"CN_待填充内容\",語言配置表!B2314)","v":"CN_待填充内容"}]
[{"$f":"IF(語言配置表!A2315=\"\",\"\",語言配置表!A2315)","v":""},{"$f":"IF(語言配置表!A2315=\"\",\"CN_待填充内容\",語言配置表!B2315)","v":"CN_待填充内容"}]
[{"$f":"IF(語言配置表!A2316=\"\",\"\",語言配置表!A2316)","v":""},{"$f":"IF(語言配置表!A2316=\"\",\"CN_待填充内容\",語言配置表!B2316)","v":"CN_待填充内容"}]
[{"$f":"IF(語言配置表!A2317=\"\",\"\",語言配置表!A2317)","v":""},{"$f":"IF(語言配置表!A2317=\"\",\"CN_待填充内容\",語言配置表!B2317)","v":"CN_待填充内容"}]
[{"$f":"IF(語言配置表!A2318=\"\",\"\",語言配置表!A2318)","v":""},{"$f":"IF(語言配置表!A2318=\"\",\"CN_待填充内容\",語言配置表!B2318)","v":"CN_待填充内容"}]
[{"$f":"IF(語言配置表!A2319=\"\",\"\",語言配置表!A2319)","v":""},{"$f":"IF(語言配置表!A2319=\"\",\"CN_待填充内容\",語言配置表!B2319)","v":"CN_待填充内容"}]
[{"$f":"IF(語言配置表!A2320=\"\",\"\",語言配置表!A2320)","v":""},{"$f":"IF(語言配置表!A2320=\"\",\"CN_待填充内容\",語言配置表!B2320)","v":"CN_待填充内容"}]
[{"$f":"IF(語言配置表!A2321=\"\",\"\",語言配置表!A2321)","v":""},{"$f":"IF(語言配置表!A2321=\"\",\"CN_待填充内容\",語言配置表!B2321)","v":"CN_待填充内容"}]
[{"$f":"IF(語言配置表!A2322=\"\",\"\",語言配置表!A2322)","v":""},{"$f":"IF(語言配置表!A2322=\"\",\"CN_待填充内容\",語言配置表!B2322)","v":"CN_待填充内容"}]
[{"$f":"IF(語言配置表!A2323=\"\",\"\",語言配置表!A2323)","v":""},{"$f":"IF(語言配置表!A2323=\"\",\"CN_待填充内容\",語言配置表!B2323)","v":"CN_待填充内容"}]
[{"$f":"IF(語言配置表!A2324=\"\",\"\",語言配置表!A2324)","v":""},{"$f":"IF(語言配置表!A2324=\"\",\"CN_待填充内容\",語言配置表!B2324)","v":"CN_待填充内容"}]
[{"$f":"IF(語言配置表!A2325=\"\",\"\",語言配置表!A2325)","v":""},{"$f":"IF(語言配置表!A2325=\"\",\"CN_待填充内容\",語言配置表!B2325)","v":"CN_待填充内容"}]
[{"$f":"IF(語言配置表!A2326=\"\",\"\",語言配置表!A2326)","v":""},{"$f":"IF(語言配置表!A2326=\"\",\"CN_待填充内容\",語言配置表!B2326)","v":"CN_待填充内容"}]
[{"$f":"IF(語言配置表!A2327=\"\",\"\",語言配置表!A2327)","v":""},{"$f":"IF(語言配置表!A2327=\"\",\"CN_待填充内容\",語言配置表!B2327)","v":"CN_待填充内容"}]
[{"$f":"IF(語言配置表!A2328=\"\",\"\",語言配置表!A2328)","v":""},{"$f":"IF(語言配置表!A2328=\"\",\"CN_待填充内容\",語言配置表!B2328)","v":"CN_待填充内容"}]
[{"$f":"IF(語言配置表!A2329=\"\",\"\",語言配置表!A2329)","v":""},{"$f":"IF(語言配置表!A2329=\"\",\"CN_待填充内容\",語言配置表!B2329)","v":"CN_待填充内容"}]
[{"$f":"IF(語言配置表!A2330=\"\",\"\",語言配置表!A2330)","v":""},{"$f":"IF(語言配置表!A2330=\"\",\"CN_待填充内容\",語言配置表!B2330)","v":"CN_待填充内容"}]
[{"$f":"IF(語言配置表!A2331=\"\",\"\",語言配置表!A2331)","v":""},{"$f":"IF(語言配置表!A2331=\"\",\"CN_待填充内容\",語言配置表!B2331)","v":"CN_待填充内容"}]
[{"$f":"IF(語言配置表!A2332=\"\",\"\",語言配置表!A2332)","v":""},{"$f":"IF(語言配置表!A2332=\"\",\"CN_待填充内容\",語言配置表!B2332)","v":"CN_待填充内容"}]
[{"$f":"IF(語言配置表!A2333=\"\",\"\",語言配置表!A2333)","v":""},{"$f":"IF(語言配置表!A2333=\"\",\"CN_待填充内容\",語言配置表!B2333)","v":"CN_待填充内容"}]
[{"$f":"IF(語言配置表!A2334=\"\",\"\",語言配置表!A2334)","v":""},{"$f":"IF(語言配置表!A2334=\"\",\"CN_待填充内容\",語言配置表!B2334)","v":"CN_待填充内容"}]
[{"$f":"IF(語言配置表!A2335=\"\",\"\",語言配置表!A2335)","v":""},{"$f":"IF(語言配置表!A2335=\"\",\"CN_待填充内容\",語言配置表!B2335)","v":"CN_待填充内容"}]
[{"$f":"IF(語言配置表!A2336=\"\",\"\",語言配置表!A2336)","v":""},{"$f":"IF(語言配置表!A2336=\"\",\"CN_待填充内容\",語言配置表!B2336)","v":"CN_待填充内容"}]
[{"$f":"IF(語言配置表!A2337=\"\",\"\",語言配置表!A2337)","v":""},{"$f":"IF(語言配置表!A2337=\"\",\"CN_待填充内容\",語言配置表!B2337)","v":"CN_待填充内容"}]
[{"$f":"IF(語言配置表!A2338=\"\",\"\",語言配置表!A2338)","v":""},{"$f":"IF(語言配置表!A2338=\"\",\"CN_待填充内容\",語言配置表!B2338)","v":"CN_待填充内容"}]
[{"$f":"IF(語言配置表!A2339=\"\",\"\",語言配置表!A2339)","v":""},{"$f":"IF(語言配置表!A2339=\"\",\"CN_待填充内容\",語言配置表!B2339)","v":"CN_待填充内容"}]
[{"$f":"IF(語言配置表!A2340=\"\",\"\",語言配置表!A2340)","v":""},{"$f":"IF(語言配置表!A2340=\"\",\"CN_待填充内容\",語言配置表!B2340)","v":"CN_待填充内容"}]
[{"$f":"IF(語言配置表!A2341=\"\",\"\",語言配置表!A2341)","v":""},{"$f":"IF(語言配置表!A2341=\"\",\"CN_待填充内容\",語言配置表!B2341)","v":"CN_待填充内容"}]
[{"$f":"IF(語言配置表!A2342=\"\",\"\",語言配置表!A2342)","v":""},{"$f":"IF(語言配置表!A2342=\"\",\"CN_待填充内容\",語言配置表!B2342)","v":"CN_待填充内容"}]
[{"$f":"IF(語言配置表!A2343=\"\",\"\",語言配置表!A2343)","v":""},{"$f":"IF(語言配置表!A2343=\"\",\"CN_待填充内容\",語言配置表!B2343)","v":"CN_待填充内容"}]
[{"$f":"IF(語言配置表!A2344=\"\",\"\",語言配置表!A2344)","v":""},{"$f":"IF(語言配置表!A2344=\"\",\"CN_待填充内容\",語言配置表!B2344)","v":"CN_待填充内容"}]
[{"$f":"IF(語言配置表!A2345=\"\",\"\",語言配置表!A2345)","v":""},{"$f":"IF(語言配置表!A2345=\"\",\"CN_待填充内容\",語言配置表!B2345)","v":"CN_待填充内容"}]
[{"$f":"IF(語言配置表!A2346=\"\",\"\",語言配置表!A2346)","v":""},{"$f":"IF(語言配置表!A2346=\"\",\"CN_待填充内容\",語言配置表!B2346)","v":"CN_待填充内容"}]
[{"$f":"IF(語言配置表!A2347=\"\",\"\",語言配置表!A2347)","v":""},{"$f":"IF(語言配置表!A2347=\"\",\"CN_待填充内容\",語言配置表!B2347)","v":"CN_待填充内容"}]
[{"$f":"IF(語言配置表!A2348=\"\",\"\",語言配置表!A2348)","v":""},{"$f":"IF(語言配置表!A2348=\"\",\"CN_待填充内容\",語言配置表!B2348)","v":"CN_待填充内容"}]
[{"$f":"IF(語言配置表!A2349=\"\",\"\",語言配置表!A2349)","v":""},{"$f":"IF(語言配置表!A2349=\"\",\"CN_待填充内容\",語言配置表!B2349)","v":"CN_待填充内容"}]
[{"$f":"IF(語言配置表!A2350=\"\",\"\",語言配置表!A2350)","v":""},{"$f":"IF(語言配置表!A2350=\"\",\"CN_待填充内容\",語言配置表!B2350)","v":"CN_待填充内容"}]
[{"$f":"IF(語言配置表!A2351=\"\",\"\",語言配置表!A2351)","v":""},{"$f":"IF(語言配置表!A2351=\"\",\"CN_待填充内容\",語言配置表!B2351)","v":"CN_待填充内容"}]
[{"$f":"IF(語言配置表!A2352=\"\",\"\",語言配置表!A2352)","v":""},{"$f":"IF(語言配置表!A2352=\"\",\"CN_待填充内容\",語言配置表!B2352)","v":"CN_待填充内容"}]
[{"$f":"IF(語言配置表!A2353=\"\",\"\",語言配置表!A2353)","v":""},{"$f":"IF(語言配置表!A2353=\"\",\"CN_待填充内容\",語言配置表!B2353)","v":"CN_待填充内容"}]
[{"$f":"IF(語言配置表!A2354=\"\",\"\",語言配置表!A2354)","v":""},{"$f":"IF(語言配置表!A2354=\"\",\"CN_待填充内容\",語言配置表!B2354)","v":"CN_待填充内容"}]
[{"$f":"IF(語言配置表!A2355=\"\",\"\",語言配置表!A2355)","v":""},{"$f":"IF(語言配置表!A2355=\"\",\"CN_待填充内容\",語言配置表!B2355)","v":"CN_待填充内容"}]
[{"$f":"IF(語言配置表!A2356=\"\",\"\",語言配置表!A2356)","v":""},{"$f":"IF(語言配置表!A2356=\"\",\"CN_待填充内容\",語言配置表!B2356)","v":"CN_待填充内容"}]
[{"$f":"IF(語言配置表!A2357=\"\",\"\",語言配置表!A2357)","v":""},{"$f":"IF(語言配置表!A2357=\"\",\"CN_待填充内容\",語言配置表!B2357)","v":"CN_待填充内容"}]
[{"$f":"IF(語言配置表!A2358=\"\",\"\",語言配置表!A2358)","v":""},{"$f":"IF(語言配置表!A2358=\"\",\"CN_待填充内容\",語言配置表!B2358)","v":"CN_待填充内容"}]
[{"$f":"IF(語言配置表!A2359=\"\",\"\",語言配置表!A2359)","v":""},{"$f":"IF(語言配置表!A2359=\"\",\"CN_待填充内容\",語言配置表!B2359)","v":"CN_待填充内容"}]
[{"$f":"IF(語言配置表!A2360=\"\",\"\",語言配置表!A2360)","v":""},{"$f":"IF(語言配置表!A2360=\"\",\"CN_待填充内容\",語言配置表!B2360)","v":"CN_待填充内容"}]
[{"$f":"IF(語言配置表!A2361=\"\",\"\",語言配置表!A2361)","v":""},{"$f":"IF(語言配置表!A2361=\"\",\"CN_待填充内容\",語言配置表!B2361)","v":"CN_待填充内容"}]
[{"$f":"IF(語言配置表!A2362=\"\",\"\",語言配置表!A2362)","v":""},{"$f":"IF(語言配置表!A2362=\"\",\"CN_待填充内容\",語言配置表!B2362)","v":"CN_待填充内容"}]
[{"$f":"IF(語言配置表!A2363=\"\",\"\",語言配置表!A2363)","v":""},{"$f":"IF(語言配置表!A2363=\"\",\"CN_待填充内容\",語言配置表!B2363)","v":"CN_待填充内容"}]
[{"$f":"IF(語言配置表!A2364=\"\",\"\",語言配置表!A2364)","v":""},{"$f":"IF(語言配置表!A2364=\"\",\"CN_待填充内容\",語言配置表!B2364)","v":"CN_待填充内容"}]
[{"$f":"IF(語言配置表!A2365=\"\",\"\",語言配置表!A2365)","v":""},{"$f":"IF(語言配置表!A2365=\"\",\"CN_待填充内容\",語言配置表!B2365)","v":"CN_待填充内容"}]
[{"$f":"IF(語言配置表!A2366=\"\",\"\",語言配置表!A2366)","v":""},{"$f":"IF(語言配置表!A2366=\"\",\"CN_待填充内容\",語言配置表!B2366)","v":"CN_待填充内容"}]
[{"$f":"IF(語言配置表!A2367=\"\",\"\",語言配置表!A2367)","v":""},{"$f":"IF(語言配置表!A2367=\"\",\"CN_待填充内容\",語言配置表!B2367)","v":"CN_待填充内容"}]
[{"$f":"IF(語言配置表!A2368=\"\",\"\",語言配置表!A2368)","v":""},{"$f":"IF(語言配置表!A2368=\"\",\"CN_待填充内容\",語言配置表!B2368)","v":"CN_待填充内容"}]
[{"$f":"IF(語言配置表!A2369=\"\",\"\",語言配置表!A2369)","v":""},{"$f":"IF(語言配置表!A2369=\"\",\"CN_待填充内容\",語言配置表!B2369)","v":"CN_待填充内容"}]
[{"$f":"IF(語言配置表!A2370=\"\",\"\",語言配置表!A2370)","v":""},{"$f":"IF(語言配置表!A2370=\"\",\"CN_待填充内容\",語言配置表!B2370)","v":"CN_待填充内容"}]
[{"$f":"IF(語言配置表!A2371=\"\",\"\",語言配置表!A2371)","v":""},{"$f":"IF(語言配置表!A2371=\"\",\"CN_待填充内容\",語言配置表!B2371)","v":"CN_待填充内容"}]
[{"$f":"IF(語言配置表!A2372=\"\",\"\",語言配置表!A2372)","v":""},{"$f":"IF(語言配置表!A2372=\"\",\"CN_待填充内容\",語言配置表!B2372)","v":"CN_待填充内容"}]
[{"$f":"IF(語言配置表!A2373=\"\",\"\",語言配置表!A2373)","v":""},{"$f":"IF(語言配置表!A2373=\"\",\"CN_待填充内容\",語言配置表!B2373)","v":"CN_待填充内容"}]
[{"$f":"IF(語言配置表!A2374=\"\",\"\",語言配置表!A2374)","v":""},{"$f":"IF(語言配置表!A2374=\"\",\"CN_待填充内容\",語言配置表!B2374)","v":"CN_待填充内容"}]
[{"$f":"IF(語言配置表!A2375=\"\",\"\",語言配置表!A2375)","v":""},{"$f":"IF(語言配置表!A2375=\"\",\"CN_待填充内容\",語言配置表!B2375)","v":"CN_待填充内容"}]
[{"$f":"IF(語言配置表!A2376=\"\",\"\",語言配置表!A2376)","v":""},{"$f":"IF(語言配置表!A2376=\"\",\"CN_待填充内容\",語言配置表!B2376)","v":"CN_待填充内容"}]
[{"$f":"IF(語言配置表!A2377=\"\",\"\",語言配置表!A2377)","v":""},{"$f":"IF(語言配置表!A2377=\"\",\"CN_待填充内容\",語言配置表!B2377)","v":"CN_待填充内容"}]
[{"$f":"IF(語言配置表!A2378=\"\",\"\",語言配置表!A2378)","v":""},{"$f":"IF(語言配置表!A2378=\"\",\"CN_待填充内容\",語言配置表!B2378)","v":"CN_待填充内容"}]
[{"$f":"IF(語言配置表!A2379=\"\",\"\",語言配置表!A2379)","v":""},{"$f":"IF(語言配置表!A2379=\"\",\"CN_待填充内容\",語言配置表!B2379)","v":"CN_待填充内容"}]
[{"$f":"IF(語言配置表!A2380=\"\",\"\",語言配置表!A2380)","v":""},{"$f":"IF(語言配置表!A2380=\"\",\"CN_待填充内容\",語言配置表!B2380)","v":"CN_待填充内容"}]
[{"$f":"IF(語言配置表!A2381=\"\",\"\",語言配置表!A2381)","v":""},{"$f":"IF(語言配置表!A2381=\"\",\"CN_待填充内容\",語言配置表!B2381)","v":"CN_待填充内容"}]
[{"$f":"IF(語言配置表!A2382=\"\",\"\",語言配置表!A2382)","v":""},{"$f":"IF(語言配置表!A2382=\"\",\"CN_待填充内容\",語言配置表!B2382)","v":"CN_待填充内容"}]
[{"$f":"IF(語言配置表!A2383=\"\",\"\",語言配置表!A2383)","v":""},{"$f":"IF(語言配置表!A2383=\"\",\"CN_待填充内容\",語言配置表!B2383)","v":"CN_待填充内容"}]
[{"$f":"IF(語言配置表!A2384=\"\",\"\",語言配置表!A2384)","v":""},{"$f":"IF(語言配置表!A2384=\"\",\"CN_待填充内容\",語言配置表!B2384)","v":"CN_待填充内容"}]
[{"$f":"IF(語言配置表!A2385=\"\",\"\",語言配置表!A2385)","v":""},{"$f":"IF(語言配置表!A2385=\"\",\"CN_待填充内容\",語言配置表!B2385)","v":"CN_待填充内容"}]
[{"$f":"IF(語言配置表!A2386=\"\",\"\",語言配置表!A2386)","v":""},{"$f":"IF(語言配置表!A2386=\"\",\"CN_待填充内容\",語言配置表!B2386)","v":"CN_待填充内容"}]
[{"$f":"IF(語言配置表!A2387=\"\",\"\",語言配置表!A2387)","v":""},{"$f":"IF(語言配置表!A2387=\"\",\"CN_待填充内容\",語言配置表!B2387)","v":"CN_待填充内容"}]
[{"$f":"IF(語言配置表!A2388=\"\",\"\",語言配置表!A2388)","v":""},{"$f":"IF(語言配置表!A2388=\"\",\"CN_待填充内容\",語言配置表!B2388)","v":"CN_待填充内容"}]
[{"$f":"IF(語言配置表!A2389=\"\",\"\",語言配置表!A2389)","v":""},{"$f":"IF(語言配置表!A2389=\"\",\"CN_待填充内容\",語言配置表!B2389)","v":"CN_待填充内容"}]
[{"$f":"IF(語言配置表!A2390=\"\",\"\",語言配置表!A2390)","v":""},{"$f":"IF(語言配置表!A2390=\"\",\"CN_待填充内容\",語言配置表!B2390)","v":"CN_待填充内容"}]
[{"$f":"IF(語言配置表!A2391=\"\",\"\",語言配置表!A2391)","v":""},{"$f":"IF(語言配置表!A2391=\"\",\"CN_待填充内容\",語言配置表!B2391)","v":"CN_待填充内容"}]
[{"$f":"IF(語言配置表!A2392=\"\",\"\",語言配置表!A2392)","v":""},{"$f":"IF(語言配置表!A2392=\"\",\"CN_待填充内容\",語言配置表!B2392)","v":"CN_待填充内容"}]
[{"$f":"IF(語言配置表!A2393=\"\",\"\",語言配置表!A2393)","v":""},{"$f":"IF(語言配置表!A2393=\"\",\"CN_待填充内容\",語言配置表!B2393)","v":"CN_待填充内容"}]
[{"$f":"IF(語言配置表!A2394=\"\",\"\",語言配置表!A2394)","v":""},{"$f":"IF(語言配置表!A2394=\"\",\"CN_待填充内容\",語言配置表!B2394)","v":"CN_待填充内容"}]
[{"$f":"IF(語言配置表!A2395=\"\",\"\",語言配置表!A2395)","v":""},{"$f":"IF(語言配置表!A2395=\"\",\"CN_待填充内容\",語言配置表!B2395)","v":"CN_待填充内容"}]
[{"$f":"IF(語言配置表!A2396=\"\",\"\",語言配置表!A2396)","v":""},{"$f":"IF(語言配置表!A2396=\"\",\"CN_待填充内容\",語言配置表!B2396)","v":"CN_待填充内容"}]
[{"$f":"IF(語言配置表!A2397=\"\",\"\",語言配置表!A2397)","v":""},{"$f":"IF(語言配置表!A2397=\"\",\"CN_待填充内容\",語言配置表!B2397)","v":"CN_待填充内容"}]
[{"$f":"IF(語言配置表!A2398=\"\",\"\",語言配置表!A2398)","v":""},{"$f":"IF(語言配置表!A2398=\"\",\"CN_待填充内容\",語言配置表!B2398)","v":"CN_待填充内容"}]
[{"$f":"IF(語言配置表!A2399=\"\",\"\",語言配置表!A2399)","v":""},{"$f":"IF(語言配置表!A2399=\"\",\"CN_待填充内容\",語言配置表!B2399)","v":"CN_待填充内容"}]
[{"$f":"IF(語言配置表!A2400=\"\",\"\",語言配置表!A2400)","v":""},{"$f":"IF(語言配置表!A2400=\"\",\"CN_待填充内容\",語言配置表!B2400)","v":"CN_待填充内容"}]
[{"$f":"IF(語言配置表!A2401=\"\",\"\",語言配置表!A2401)","v":""},{"$f":"IF(語言配置表!A2401=\"\",\"CN_待填充内容\",語言配置表!B2401)","v":"CN_待填充内容"}]
[{"$f":"IF(語言配置表!A2402=\"\",\"\",語言配置表!A2402)","v":""},{"$f":"IF(語言配置表!A2402=\"\",\"CN_待填充内容\",語言配置表!B2402)","v":"CN_待填充内容"}]
[{"$f":"IF(語言配置表!A2403=\"\",\"\",語言配置表!A2403)","v":""},{"$f":"IF(語言配置表!A2403=\"\",\"CN_待填充内容\",語言配置表!B2403)","v":"CN_待填充内容"}]
[{"$f":"IF(語言配置表!A2404=\"\",\"\",語言配置表!A2404)","v":""},{"$f":"IF(語言配置表!A2404=\"\",\"CN_待填充内容\",語言配置表!B2404)","v":"CN_待填充内容"}]
[{"$f":"IF(語言配置表!A2405=\"\",\"\",語言配置表!A2405)","v":""},{"$f":"IF(語言配置表!A2405=\"\",\"CN_待填充内容\",語言配置表!B2405)","v":"CN_待填充内容"}]
[{"$f":"IF(語言配置表!A2406=\"\",\"\",語言配置表!A2406)","v":""},{"$f":"IF(語言配置表!A2406=\"\",\"CN_待填充内容\",語言配置表!B2406)","v":"CN_待填充内容"}]
[{"$f":"IF(語言配置表!A2407=\"\",\"\",語言配置表!A2407)","v":""},{"$f":"IF(語言配置表!A2407=\"\",\"CN_待填充内容\",語言配置表!B2407)","v":"CN_待填充内容"}]
[{"$f":"IF(語言配置表!A2408=\"\",\"\",語言配置表!A2408)","v":""},{"$f":"IF(語言配置表!A2408=\"\",\"CN_待填充内容\",語言配置表!B2408)","v":"CN_待填充内容"}]
[{"$f":"IF(語言配置表!A2409=\"\",\"\",語言配置表!A2409)","v":""},{"$f":"IF(語言配置表!A2409=\"\",\"CN_待填充内容\",語言配置表!B2409)","v":"CN_待填充内容"}]
[{"$f":"IF(語言配置表!A2410=\"\",\"\",語言配置表!A2410)","v":""},{"$f":"IF(語言配置表!A2410=\"\",\"CN_待填充内容\",語言配置表!B2410)","v":"CN_待填充内容"}]
[{"$f":"IF(語言配置表!A2411=\"\",\"\",語言配置表!A2411)","v":""},{"$f":"IF(語言配置表!A2411=\"\",\"CN_待填充内容\",語言配置表!B2411)","v":"CN_待填充内容"}]
[{"$f":"IF(語言配置表!A2412=\"\",\"\",語言配置表!A2412)","v":""},{"$f":"IF(語言配置表!A2412=\"\",\"CN_待填充内容\",語言配置表!B2412)","v":"CN_待填充内容"}]
[{"$f":"IF(語言配置表!A2413=\"\",\"\",語言配置表!A2413)","v":""},{"$f":"IF(語言配置表!A2413=\"\",\"CN_待填充内容\",語言配置表!B2413)","v":"CN_待填充内容"}]
[{"$f":"IF(語言配置表!A2414=\"\",\"\",語言配置表!A2414)","v":""},{"$f":"IF(語言配置表!A2414=\"\",\"CN_待填充内容\",語言配置表!B2414)","v":"CN_待填充内容"}]
[{"$f":"IF(語言配置表!A2415=\"\",\"\",語言配置表!A2415)","v":""},{"$f":"IF(語言配置表!A2415=\"\",\"CN_待填充内容\",語言配置表!B2415)","v":"CN_待填充内容"}]
[{"$f":"IF(語言配置表!A2416=\"\",\"\",語言配置表!A2416)","v":""},{"$f":"IF(語言配置表!A2416=\"\",\"CN_待填充内容\",語言配置表!B2416)","v":"CN_待填充内容"}]
[{"$f":"IF(語言配置表!A2417=\"\",\"\",語言配置表!A2417)","v":""},{"$f":"IF(語言配置表!A2417=\"\",\"CN_待填充内容\",語言配置表!B2417)","v":"CN_待填充内容"}]
[{"$f":"IF(語言配置表!A2418=\"\",\"\",語言配置表!A2418)","v":""},{"$f":"IF(語言配置表!A2418=\"\",\"CN_待填充内容\",語言配置表!B2418)","v":"CN_待填充内容"}]
[{"$f":"IF(語言配置表!A2419=\"\",\"\",語言配置表!A2419)","v":""},{"$f":"IF(語言配置表!A2419=\"\",\"CN_待填充内容\",語言配置表!B2419)","v":"CN_待填充内容"}]
[{"$f":"IF(語言配置表!A2420=\"\",\"\",語言配置表!A2420)","v":""},{"$f":"IF(語言配置表!A2420=\"\",\"CN_待填充内容\",語言配置表!B2420)","v":"CN_待填充内容"}]
[{"$f":"IF(語言配置表!A2421=\"\",\"\",語言配置表!A2421)","v":""},{"$f":"IF(語言配置表!A2421=\"\",\"CN_待填充内容\",語言配置表!B2421)","v":"CN_待填充内容"}]
[{"$f":"IF(語言配置表!A2422=\"\",\"\",語言配置表!A2422)","v":""},{"$f":"IF(語言配置表!A2422=\"\",\"CN_待填充内容\",語言配置表!B2422)","v":"CN_待填充内容"}]
[{"$f":"IF(語言配置表!A2423=\"\",\"\",語言配置表!A2423)","v":""},{"$f":"IF(語言配置表!A2423=\"\",\"CN_待填充内容\",語言配置表!B2423)","v":"CN_待填充内容"}]
[{"$f":"IF(語言配置表!A2424=\"\",\"\",語言配置表!A2424)","v":""},{"$f":"IF(語言配置表!A2424=\"\",\"CN_待填充内容\",語言配置表!B2424)","v":"CN_待填充内容"}]
[{"$f":"IF(語言配置表!A2425=\"\",\"\",語言配置表!A2425)","v":""},{"$f":"IF(語言配置表!A2425=\"\",\"CN_待填充内容\",語言配置表!B2425)","v":"CN_待填充内容"}]
[{"$f":"IF(語言配置表!A2426=\"\",\"\",語言配置表!A2426)","v":""},{"$f":"IF(語言配置表!A2426=\"\",\"CN_待填充内容\",語言配置表!B2426)","v":"CN_待填充内容"}]
[{"$f":"IF(語言配置表!A2427=\"\",\"\",語言配置表!A2427)","v":""},{"$f":"IF(語言配置表!A2427=\"\",\"CN_待填充内容\",語言配置表!B2427)","v":"CN_待填充内容"}]
[{"$f":"IF(語言配置表!A2428=\"\",\"\",語言配置表!A2428)","v":""},{"$f":"IF(語言配置表!A2428=\"\",\"CN_待填充内容\",語言配置表!B2428)","v":"CN_待填充内容"}]
[{"$f":"IF(語言配置表!A2429=\"\",\"\",語言配置表!A2429)","v":""},{"$f":"IF(語言配置表!A2429=\"\",\"CN_待填充内容\",語言配置表!B2429)","v":"CN_待填充内容"}]
[{"$f":"IF(語言配置表!A2430=\"\",\"\",語言配置表!A2430)","v":""},{"$f":"IF(語言配置表!A2430=\"\",\"CN_待填充内容\",語言配置表!B2430)","v":"CN_待填充内容"}]
[{"$f":"IF(語言配置表!A2431=\"\",\"\",語言配置表!A2431)","v":""},{"$f":"IF(語言配置表!A2431=\"\",\"CN_待填充内容\",語言配置表!B2431)","v":"CN_待填充内容"}]
[{"$f":"IF(語言配置表!A2432=\"\",\"\",語言配置表!A2432)","v":""},{"$f":"IF(語言配置表!A2432=\"\",\"CN_待填充内容\",語言配置表!B2432)","v":"CN_待填充内容"}]
[{"$f":"IF(語言配置表!A2433=\"\",\"\",語言配置表!A2433)","v":""},{"$f":"IF(語言配置表!A2433=\"\",\"CN_待填充内容\",語言配置表!B2433)","v":"CN_待填充内容"}]
[{"$f":"IF(語言配置表!A2434=\"\",\"\",語言配置表!A2434)","v":""},{"$f":"IF(語言配置表!A2434=\"\",\"CN_待填充内容\",語言配置表!B2434)","v":"CN_待填充内容"}]
[{"$f":"IF(語言配置表!A2435=\"\",\"\",語言配置表!A2435)","v":""},{"$f":"IF(語言配置表!A2435=\"\",\"CN_待填充内容\",語言配置表!B2435)","v":"CN_待填充内容"}]
[{"$f":"IF(語言配置表!A2436=\"\",\"\",語言配置表!A2436)","v":""},{"$f":"IF(語言配置表!A2436=\"\",\"CN_待填充内容\",語言配置表!B2436)","v":"CN_待填充内容"}]
[{"$f":"IF(語言配置表!A2437=\"\",\"\",語言配置表!A2437)","v":""},{"$f":"IF(語言配置表!A2437=\"\",\"CN_待填充内容\",語言配置表!B2437)","v":"CN_待填充内容"}]
[{"$f":"IF(語言配置表!A2438=\"\",\"\",語言配置表!A2438)","v":""},{"$f":"IF(語言配置表!A2438=\"\",\"CN_待填充内容\",語言配置表!B2438)","v":"CN_待填充内容"}]
[{"$f":"IF(語言配置表!A2439=\"\",\"\",語言配置表!A2439)","v":""},{"$f":"IF(語言配置表!A2439=\"\",\"CN_待填充内容\",語言配置表!B2439)","v":"CN_待填充内容"}]
[{"$f":"IF(語言配置表!A2440=\"\",\"\",語言配置表!A2440)","v":""},{"$f":"IF(語言配置表!A2440=\"\",\"CN_待填充内容\",語言配置表!B2440)","v":"CN_待填充内容"}]
[{"$f":"IF(語言配置表!A2441=\"\",\"\",語言配置表!A2441)","v":""},{"$f":"IF(語言配置表!A2441=\"\",\"CN_待填充内容\",語言配置表!B2441)","v":"CN_待填充内容"}]
[{"$f":"IF(語言配置表!A2442=\"\",\"\",語言配置表!A2442)","v":""},{"$f":"IF(語言配置表!A2442=\"\",\"CN_待填充内容\",語言配置表!B2442)","v":"CN_待填充内容"}]
[{"$f":"IF(語言配置表!A2443=\"\",\"\",語言配置表!A2443)","v":""},{"$f":"IF(語言配置表!A2443=\"\",\"CN_待填充内容\",語言配置表!B2443)","v":"CN_待填充内容"}]
[{"$f":"IF(語言配置表!A2444=\"\",\"\",語言配置表!A2444)","v":""},{"$f":"IF(語言配置表!A2444=\"\",\"CN_待填充内容\",語言配置表!B2444)","v":"CN_待填充内容"}]
[{"$f":"IF(語言配置表!A2445=\"\",\"\",語言配置表!A2445)","v":""},{"$f":"IF(語言配置表!A2445=\"\",\"CN_待填充内容\",語言配置表!B2445)","v":"CN_待填充内容"}]
[{"$f":"IF(語言配置表!A2446=\"\",\"\",語言配置表!A2446)","v":""},{"$f":"IF(語言配置表!A2446=\"\",\"CN_待填充内容\",語言配置表!B2446)","v":"CN_待填充内容"}]
[{"$f":"IF(語言配置表!A2447=\"\",\"\",語言配置表!A2447)","v":""},{"$f":"IF(語言配置表!A2447=\"\",\"CN_待填充内容\",語言配置表!B2447)","v":"CN_待填充内容"}]
[{"$f":"IF(語言配置表!A2448=\"\",\"\",語言配置表!A2448)","v":""},{"$f":"IF(語言配置表!A2448=\"\",\"CN_待填充内容\",語言配置表!B2448)","v":"CN_待填充内容"}]
[{"$f":"IF(語言配置表!A2449=\"\",\"\",語言配置表!A2449)","v":""},{"$f":"IF(語言配置表!A2449=\"\",\"CN_待填充内容\",語言配置表!B2449)","v":"CN_待填充内容"}]
[{"$f":"IF(語言配置表!A2450=\"\",\"\",語言配置表!A2450)","v":""},{"$f":"IF(語言配置表!A2450=\"\",\"CN_待填充内容\",語言配置表!B2450)","v":"CN_待填充内容"}]
[{"$f":"IF(語言配置表!A2451=\"\",\"\",語言配置表!A2451)","v":""},{"$f":"IF(語言配置表!A2451=\"\",\"CN_待填充内容\",語言配置表!B2451)","v":"CN_待填充内容"}]
[{"$f":"IF(語言配置表!A2452=\"\",\"\",語言配置表!A2452)","v":""},{"$f":"IF(語言配置表!A2452=\"\",\"CN_待填充内容\",語言配置表!B2452)","v":"CN_待填充内容"}]
[{"$f":"IF(語言配置表!A2453=\"\",\"\",語言配置表!A2453)","v":""},{"$f":"IF(語言配置表!A2453=\"\",\"CN_待填充内容\",語言配置表!B2453)","v":"CN_待填充内容"}]
[{"$f":"IF(語言配置表!A2454=\"\",\"\",語言配置表!A2454)","v":""},{"$f":"IF(語言配置表!A2454=\"\",\"CN_待填充内容\",語言配置表!B2454)","v":"CN_待填充内容"}]
[{"$f":"IF(語言配置表!A2455=\"\",\"\",語言配置表!A2455)","v":""},{"$f":"IF(語言配置表!A2455=\"\",\"CN_待填充内容\",語言配置表!B2455)","v":"CN_待填充内容"}]
[{"$f":"IF(語言配置表!A2456=\"\",\"\",語言配置表!A2456)","v":""},{"$f":"IF(語言配置表!A2456=\"\",\"CN_待填充内容\",語言配置表!B2456)","v":"CN_待填充内容"}]
[{"$f":"IF(語言配置表!A2457=\"\",\"\",語言配置表!A2457)","v":""},{"$f":"IF(語言配置表!A2457=\"\",\"CN_待填充内容\",語言配置表!B2457)","v":"CN_待填充内容"}]
[{"$f":"IF(語言配置表!A2458=\"\",\"\",語言配置表!A2458)","v":""},{"$f":"IF(語言配置表!A2458=\"\",\"CN_待填充内容\",語言配置表!B2458)","v":"CN_待填充内容"}]
[{"$f":"IF(語言配置表!A2459=\"\",\"\",語言配置表!A2459)","v":""},{"$f":"IF(語言配置表!A2459=\"\",\"CN_待填充内容\",語言配置表!B2459)","v":"CN_待填充内容"}]
[{"$f":"IF(語言配置表!A2460=\"\",\"\",語言配置表!A2460)","v":""},{"$f":"IF(語言配置表!A2460=\"\",\"CN_待填充内容\",語言配置表!B2460)","v":"CN_待填充内容"}]
[{"$f":"IF(語言配置表!A2461=\"\",\"\",語言配置表!A2461)","v":""},{"$f":"IF(語言配置表!A2461=\"\",\"CN_待填充内容\",語言配置表!B2461)","v":"CN_待填充内容"}]
[{"$f":"IF(語言配置表!A2462=\"\",\"\",語言配置表!A2462)","v":""},{"$f":"IF(語言配置表!A2462=\"\",\"CN_待填充内容\",語言配置表!B2462)","v":"CN_待填充内容"}]
[{"$f":"IF(語言配置表!A2463=\"\",\"\",語言配置表!A2463)","v":""},{"$f":"IF(語言配置表!A2463=\"\",\"CN_待填充内容\",語言配置表!B2463)","v":"CN_待填充内容"}]
[{"$f":"IF(語言配置表!A2464=\"\",\"\",語言配置表!A2464)","v":""},{"$f":"IF(語言配置表!A2464=\"\",\"CN_待填充内容\",語言配置表!B2464)","v":"CN_待填充内容"}]
[{"$f":"IF(語言配置表!A2465=\"\",\"\",語言配置表!A2465)","v":""},{"$f":"IF(語言配置表!A2465=\"\",\"CN_待填充内容\",語言配置表!B2465)","v":"CN_待填充内容"}]
[{"$f":"IF(語言配置表!A2466=\"\",\"\",語言配置表!A2466)","v":""},{"$f":"IF(語言配置表!A2466=\"\",\"CN_待填充内容\",語言配置表!B2466)","v":"CN_待填充内容"}]
[{"$f":"IF(語言配置表!A2467=\"\",\"\",語言配置表!A2467)","v":""},{"$f":"IF(語言配置表!A2467=\"\",\"CN_待填充内容\",語言配置表!B2467)","v":"CN_待填充内容"}]
[{"$f":"IF(語言配置表!A2468=\"\",\"\",語言配置表!A2468)","v":""},{"$f":"IF(語言配置表!A2468=\"\",\"CN_待填充内容\",語言配置表!B2468)","v":"CN_待填充内容"}]
[{"$f":"IF(語言配置表!A2469=\"\",\"\",語言配置表!A2469)","v":""},{"$f":"IF(語言配置表!A2469=\"\",\"CN_待填充内容\",語言配置表!B2469)","v":"CN_待填充内容"}]
[{"$f":"IF(語言配置表!A2470=\"\",\"\",語言配置表!A2470)","v":""},{"$f":"IF(語言配置表!A2470=\"\",\"CN_待填充内容\",語言配置表!B2470)","v":"CN_待填充内容"}]
[{"$f":"IF(語言配置表!A2471=\"\",\"\",語言配置表!A2471)","v":""},{"$f":"IF(語言配置表!A2471=\"\",\"CN_待填充内容\",語言配置表!B2471)","v":"CN_待填充内容"}]
[{"$f":"IF(語言配置表!A2472=\"\",\"\",語言配置表!A2472)","v":""},{"$f":"IF(語言配置表!A2472=\"\",\"CN_待填充内容\",語言配置表!B2472)","v":"CN_待填充内容"}]
[{"$f":"IF(語言配置表!A2473=\"\",\"\",語言配置表!A2473)","v":""},{"$f":"IF(語言配置表!A2473=\"\",\"CN_待填充内容\",語言配置表!B2473)","v":"CN_待填充内容"}]
[{"$f":"IF(語言配置表!A2474=\"\",\"\",語言配置表!A2474)","v":""},{"$f":"IF(語言配置表!A2474=\"\",\"CN_待填充内容\",語言配置表!B2474)","v":"CN_待填充内容"}]
[{"$f":"IF(語言配置表!A2475=\"\",\"\",語言配置表!A2475)","v":""},{"$f":"IF(語言配置表!A2475=\"\",\"CN_待填充内容\",語言配置表!B2475)","v":"CN_待填充内容"}]
[{"$f":"IF(語言配置表!A2476=\"\",\"\",語言配置表!A2476)","v":""},{"$f":"IF(語言配置表!A2476=\"\",\"CN_待填充内容\",語言配置表!B2476)","v":"CN_待填充内容"}]
[{"$f":"IF(語言配置表!A2477=\"\",\"\",語言配置表!A2477)","v":""},{"$f":"IF(語言配置表!A2477=\"\",\"CN_待填充内容\",語言配置表!B2477)","v":"CN_待填充内容"}]
[{"$f":"IF(語言配置表!A2478=\"\",\"\",語言配置表!A2478)","v":""},{"$f":"IF(語言配置表!A2478=\"\",\"CN_待填充内容\",語言配置表!B2478)","v":"CN_待填充内容"}]
[{"$f":"IF(語言配置表!A2479=\"\",\"\",語言配置表!A2479)","v":""},{"$f":"IF(語言配置表!A2479=\"\",\"CN_待填充内容\",語言配置表!B2479)","v":"CN_待填充内容"}]
[{"$f":"IF(語言配置表!A2480=\"\",\"\",語言配置表!A2480)","v":""},{"$f":"IF(語言配置表!A2480=\"\",\"CN_待填充内容\",語言配置表!B2480)","v":"CN_待填充内容"}]
[{"$f":"IF(語言配置表!A2481=\"\",\"\",語言配置表!A2481)","v":""},{"$f":"IF(語言配置表!A2481=\"\",\"CN_待填充内容\",語言配置表!B2481)","v":"CN_待填充内容"}]
[{"$f":"IF(語言配置表!A2482=\"\",\"\",語言配置表!A2482)","v":""},{"$f":"IF(語言配置表!A2482=\"\",\"CN_待填充内容\",語言配置表!B2482)","v":"CN_待填充内容"}]
[{"$f":"IF(語言配置表!A2483=\"\",\"\",語言配置表!A2483)","v":""},{"$f":"IF(語言配置表!A2483=\"\",\"CN_待填充内容\",語言配置表!B2483)","v":"CN_待填充内容"}]
[{"$f":"IF(語言配置表!A2484=\"\",\"\",語言配置表!A2484)","v":""},{"$f":"IF(語言配置表!A2484=\"\",\"CN_待填充内容\",語言配置表!B2484)","v":"CN_待填充内容"}]
[{"$f":"IF(語言配置表!A2485=\"\",\"\",語言配置表!A2485)","v":""},{"$f":"IF(語言配置表!A2485=\"\",\"CN_待填充内容\",語言配置表!B2485)","v":"CN_待填充内容"}]
[{"$f":"IF(語言配置表!A2486=\"\",\"\",語言配置表!A2486)","v":""},{"$f":"IF(語言配置表!A2486=\"\",\"CN_待填充内容\",語言配置表!B2486)","v":"CN_待填充内容"}]
[{"$f":"IF(語言配置表!A2487=\"\",\"\",語言配置表!A2487)","v":""},{"$f":"IF(語言配置表!A2487=\"\",\"CN_待填充内容\",語言配置表!B2487)","v":"CN_待填充内容"}]
[{"$f":"IF(語言配置表!A2488=\"\",\"\",語言配置表!A2488)","v":""},{"$f":"IF(語言配置表!A2488=\"\",\"CN_待填充内容\",語言配置表!B2488)","v":"CN_待填充内容"}]
[{"$f":"IF(語言配置表!A2489=\"\",\"\",語言配置表!A2489)","v":""},{"$f":"IF(語言配置表!A2489=\"\",\"CN_待填充内容\",語言配置表!B2489)","v":"CN_待填充内容"}]
[{"$f":"IF(語言配置表!A2490=\"\",\"\",語言配置表!A2490)","v":""},{"$f":"IF(語言配置表!A2490=\"\",\"CN_待填充内容\",語言配置表!B2490)","v":"CN_待填充内容"}]
[{"$f":"IF(語言配置表!A2491=\"\",\"\",語言配置表!A2491)","v":""},{"$f":"IF(語言配置表!A2491=\"\",\"CN_待填充内容\",語言配置表!B2491)","v":"CN_待填充内容"}]
[{"$f":"IF(語言配置表!A2492=\"\",\"\",語言配置表!A2492)","v":""},{"$f":"IF(語言配置表!A2492=\"\",\"CN_待填充内容\",語言配置表!B2492)","v":"CN_待填充内容"}]
[{"$f":"IF(語言配置表!A2493=\"\",\"\",語言配置表!A2493)","v":""},{"$f":"IF(語言配置表!A2493=\"\",\"CN_待填充内容\",語言配置表!B2493)","v":"CN_待填充内容"}]
[{"$f":"IF(語言配置表!A2494=\"\",\"\",語言配置表!A2494)","v":""},{"$f":"IF(語言配置表!A2494=\"\",\"CN_待填充内容\",語言配置表!B2494)","v":"CN_待填充内容"}]
[{"$f":"IF(語言配置表!A2495=\"\",\"\",語言配置表!A2495)","v":""},{"$f":"IF(語言配置表!A2495=\"\",\"CN_待填充内容\",語言配置表!B2495)","v":"CN_待填充内容"}]
[{"$f":"IF(語言配置表!A2496=\"\",\"\",語言配置表!A2496)","v":""},{"$f":"IF(語言配置表!A2496=\"\",\"CN_待填充内容\",語言配置表!B2496)","v":"CN_待填充内容"}]
[{"$f":"IF(語言配置表!A2497=\"\",\"\",語言配置表!A2497)","v":""},{"$f":"IF(語言配置表!A2497=\"\",\"CN_待填充内容\",語言配置表!B2497)","v":"CN_待填充内容"}]
[{"$f":"IF(語言配置表!A2498=\"\",\"\",語言配置表!A2498)","v":""},{"$f":"IF(語言配置表!A2498=\"\",\"CN_待填充内容\",語言配置表!B2498)","v":"CN_待填充内容"}]
[{"$f":"IF(語言配置表!A2499=\"\",\"\",語言配置表!A2499)","v":""},{"$f":"IF(語言配置表!A2499=\"\",\"CN_待填充内容\",語言配置表!B2499)","v":"CN_待填充内容"}]
[{"$f":"IF(語言配置表!A2500=\"\",\"\",語言配置表!A2500)","v":""},{"$f":"IF(語言配置表!A2500=\"\",\"CN_待填充内容\",語言配置表!B2500)","v":"CN_待填充内容"}]
[{"$f":"IF(語言配置表!A2501=\"\",\"\",語言配置表!A2501)","v":""},{"$f":"IF(語言配置表!A2501=\"\",\"CN_待填充内容\",語言配置表!B2501)","v":"CN_待填充内容"}]
[{"$f":"IF(語言配置表!A2502=\"\",\"\",語言配置表!A2502)","v":""},{"$f":"IF(語言配置表!A2502=\"\",\"CN_待填充内容\",語言配置表!B2502)","v":"CN_待填充内容"}]
[{"$f":"IF(語言配置表!A2503=\"\",\"\",語言配置表!A2503)","v":""},{"$f":"IF(語言配置表!A2503=\"\",\"CN_待填充内容\",語言配置表!B2503)","v":"CN_待填充内容"}]
[{"$f":"IF(語言配置表!A2504=\"\",\"\",語言配置表!A2504)","v":""},{"$f":"IF(語言配置表!A2504=\"\",\"CN_待填充内容\",語言配置表!B2504)","v":"CN_待填充内容"}]
[{"$f":"IF(語言配置表!A2505=\"\",\"\",語言配置表!A2505)","v":""},{"$f":"IF(語言配置表!A2505=\"\",\"CN_待填充内容\",語言配置表!B2505)","v":"CN_待填充内容"}]
[{"$f":"IF(語言配置表!A2506=\"\",\"\",語言配置表!A2506)","v":""},{"$f":"IF(語言配置表!A2506=\"\",\"CN_待填充内容\",語言配置表!B2506)","v":"CN_待填充内容"}]
[{"$f":"IF(語言配置表!A2507=\"\",\"\",語言配置表!A2507)","v":""},{"$f":"IF(語言配置表!A2507=\"\",\"CN_待填充内容\",語言配置表!B2507)","v":"CN_待填充内容"}]
[{"$f":"IF(語言配置表!A2508=\"\",\"\",語言配置表!A2508)","v":""},{"$f":"IF(語言配置表!A2508=\"\",\"CN_待填充内容\",語言配置表!B2508)","v":"CN_待填充内容"}]
[{"$f":"IF(語言配置表!A2509=\"\",\"\",語言配置表!A2509)","v":""},{"$f":"IF(語言配置表!A2509=\"\",\"CN_待填充内容\",語言配置表!B2509)","v":"CN_待填充内容"}]
[{"$f":"IF(語言配置表!A2510=\"\",\"\",語言配置表!A2510)","v":""},{"$f":"IF(語言配置表!A2510=\"\",\"CN_待填充内容\",語言配置表!B2510)","v":"CN_待填充内容"}]
[{"$f":"IF(語言配置表!A2511=\"\",\"\",語言配置表!A2511)","v":""},{"$f":"IF(語言配置表!A2511=\"\",\"CN_待填充内容\",語言配置表!B2511)","v":"CN_待填充内容"}]
[{"$f":"IF(語言配置表!A2512=\"\",\"\",語言配置表!A2512)","v":""},{"$f":"IF(語言配置表!A2512=\"\",\"CN_待填充内容\",語言配置表!B2512)","v":"CN_待填充内容"}]
[{"$f":"IF(語言配置表!A2513=\"\",\"\",語言配置表!A2513)","v":""},{"$f":"IF(語言配置表!A2513=\"\",\"CN_待填充内容\",語言配置表!B2513)","v":"CN_待填充内容"}]
[{"$f":"IF(語言配置表!A2514=\"\",\"\",語言配置表!A2514)","v":""},{"$f":"IF(語言配置表!A2514=\"\",\"CN_待填充内容\",語言配置表!B2514)","v":"CN_待填充内容"}]
[{"$f":"IF(語言配置表!A2515=\"\",\"\",語言配置表!A2515)","v":""},{"$f":"IF(語言配置表!A2515=\"\",\"CN_待填充内容\",語言配置表!B2515)","v":"CN_待填充内容"}]
[{"$f":"IF(語言配置表!A2516=\"\",\"\",語言配置表!A2516)","v":""},{"$f":"IF(語言配置表!A2516=\"\",\"CN_待填充内容\",語言配置表!B2516)","v":"CN_待填充内容"}]
[{"$f":"IF(語言配置表!A2517=\"\",\"\",語言配置表!A2517)","v":""},{"$f":"IF(語言配置表!A2517=\"\",\"CN_待填充内容\",語言配置表!B2517)","v":"CN_待填充内容"}]
[{"$f":"IF(語言配置表!A2518=\"\",\"\",語言配置表!A2518)","v":""},{"$f":"IF(語言配置表!A2518=\"\",\"CN_待填充内容\",語言配置表!B2518)","v":"CN_待填充内容"}]
[{"$f":"IF(語言配置表!A2519=\"\",\"\",語言配置表!A2519)","v":""},{"$f":"IF(語言配置表!A2519=\"\",\"CN_待填充内容\",語言配置表!B2519)","v":"CN_待填充内容"}]
[{"$f":"IF(語言配置表!A2520=\"\",\"\",語言配置表!A2520)","v":""},{"$f":"IF(語言配置表!A2520=\"\",\"CN_待填充内容\",語言配置表!B2520)","v":"CN_待填充内容"}]
[{"$f":"IF(語言配置表!A2521=\"\",\"\",語言配置表!A2521)","v":""},{"$f":"IF(語言配置表!A2521=\"\",\"CN_待填充内容\",語言配置表!B2521)","v":"CN_待填充内容"}]
[{"$f":"IF(語言配置表!A2522=\"\",\"\",語言配置表!A2522)","v":""},{"$f":"IF(語言配置表!A2522=\"\",\"CN_待填充内容\",語言配置表!B2522)","v":"CN_待填充内容"}]
[{"$f":"IF(語言配置表!A2523=\"\",\"\",語言配置表!A2523)","v":""},{"$f":"IF(語言配置表!A2523=\"\",\"CN_待填充内容\",語言配置表!B2523)","v":"CN_待填充内容"}]
[{"$f":"IF(語言配置表!A2524=\"\",\"\",語言配置表!A2524)","v":""},{"$f":"IF(語言配置表!A2524=\"\",\"CN_待填充内容\",語言配置表!B2524)","v":"CN_待填充内容"}]
[{"$f":"IF(語言配置表!A2525=\"\",\"\",語言配置表!A2525)","v":""},{"$f":"IF(語言配置表!A2525=\"\",\"CN_待填充内容\",語言配置表!B2525)","v":"CN_待填充内容"}]
[{"$f":"IF(語言配置表!A2526=\"\",\"\",語言配置表!A2526)","v":""},{"$f":"IF(語言配置表!A2526=\"\",\"CN_待填充内容\",語言配置表!B2526)","v":"CN_待填充内容"}]
[{"$f":"IF(語言配置表!A2527=\"\",\"\",語言配置表!A2527)","v":""},{"$f":"IF(語言配置表!A2527=\"\",\"CN_待填充内容\",語言配置表!B2527)","v":"CN_待填充内容"}]
[{"$f":"IF(語言配置表!A2528=\"\",\"\",語言配置表!A2528)","v":""},{"$f":"IF(語言配置表!A2528=\"\",\"CN_待填充内容\",語言配置表!B2528)","v":"CN_待填充内容"}]
[{"$f":"IF(語言配置表!A2529=\"\",\"\",語言配置表!A2529)","v":""},{"$f":"IF(語言配置表!A2529=\"\",\"CN_待填充内容\",語言配置表!B2529)","v":"CN_待填充内容"}]
[{"$f":"IF(語言配置表!A2530=\"\",\"\",語言配置表!A2530)","v":""},{"$f":"IF(語言配置表!A2530=\"\",\"CN_待填充内容\",語言配置表!B2530)","v":"CN_待填充内容"}]
[{"$f":"IF(語言配置表!A2531=\"\",\"\",語言配置表!A2531)","v":""},{"$f":"IF(語言配置表!A2531=\"\",\"CN_待填充内容\",語言配置表!B2531)","v":"CN_待填充内容"}]
[{"$f":"IF(語言配置表!A2532=\"\",\"\",語言配置表!A2532)","v":""},{"$f":"IF(語言配置表!A2532=\"\",\"CN_待填充内容\",語言配置表!B2532)","v":"CN_待填充内容"}]
[{"$f":"IF(語言配置表!A2533=\"\",\"\",語言配置表!A2533)","v":""},{"$f":"IF(語言配置表!A2533=\"\",\"CN_待填充内容\",語言配置表!B2533)","v":"CN_待填充内容"}]
[{"$f":"IF(語言配置表!A2534=\"\",\"\",語言配置表!A2534)","v":""},{"$f":"IF(語言配置表!A2534=\"\",\"CN_待填充内容\",語言配置表!B2534)","v":"CN_待填充内容"}]
[{"$f":"IF(語言配置表!A2535=\"\",\"\",語言配置表!A2535)","v":""},{"$f":"IF(語言配置表!A2535=\"\",\"CN_待填充内容\",語言配置表!B2535)","v":"CN_待填充内容"}]
[{"$f":"IF(語言配置表!A2536=\"\",\"\",語言配置表!A2536)","v":""},{"$f":"IF(語言配置表!A2536=\"\",\"CN_待填充内容\",語言配置表!B2536)","v":"CN_待填充内容"}]
[{"$f":"IF(語言配置表!A2537=\"\",\"\",語言配置表!A2537)","v":""},{"$f":"IF(語言配置表!A2537=\"\",\"CN_待填充内容\",語言配置表!B2537)","v":"CN_待填充内容"}]
[{"$f":"IF(語言配置表!A2538=\"\",\"\",語言配置表!A2538)","v":""},{"$f":"IF(語言配置表!A2538=\"\",\"CN_待填充内容\",語言配置表!B2538)","v":"CN_待填充内容"}]
[{"$f":"IF(語言配置表!A2539=\"\",\"\",語言配置表!A2539)","v":""},{"$f":"IF(語言配置表!A2539=\"\",\"CN_待填充内容\",語言配置表!B2539)","v":"CN_待填充内容"}]
[{"$f":"IF(語言配置表!A2540=\"\",\"\",語言配置表!A2540)","v":""},{"$f":"IF(語言配置表!A2540=\"\",\"CN_待填充内容\",語言配置表!B2540)","v":"CN_待填充内容"}]
[{"$f":"IF(語言配置表!A2541=\"\",\"\",語言配置表!A2541)","v":""},{"$f":"IF(語言配置表!A2541=\"\",\"CN_待填充内容\",語言配置表!B2541)","v":"CN_待填充内容"}]
[{"$f":"IF(語言配置表!A2542=\"\",\"\",語言配置表!A2542)","v":""},{"$f":"IF(語言配置表!A2542=\"\",\"CN_待填充内容\",語言配置表!B2542)","v":"CN_待填充内容"}]
[{"$f":"IF(語言配置表!A2543=\"\",\"\",語言配置表!A2543)","v":""},{"$f":"IF(語言配置表!A2543=\"\",\"CN_待填充内容\",語言配置表!B2543)","v":"CN_待填充内容"}]
[{"$f":"IF(語言配置表!A2544=\"\",\"\",語言配置表!A2544)","v":""},{"$f":"IF(語言配置表!A2544=\"\",\"CN_待填充内容\",語言配置表!B2544)","v":"CN_待填充内容"}]
[{"$f":"IF(語言配置表!A2545=\"\",\"\",語言配置表!A2545)","v":""},{"$f":"IF(語言配置表!A2545=\"\",\"CN_待填充内容\",語言配置表!B2545)","v":"CN_待填充内容"}]
[{"$f":"IF(語言配置表!A2546=\"\",\"\",語言配置表!A2546)","v":""},{"$f":"IF(語言配置表!A2546=\"\",\"CN_待填充内容\",語言配置表!B2546)","v":"CN_待填充内容"}]
[{"$f":"IF(語言配置表!A2547=\"\",\"\",語言配置表!A2547)","v":""},{"$f":"IF(語言配置表!A2547=\"\",\"CN_待填充内容\",語言配置表!B2547)","v":"CN_待填充内容"}]
[{"$f":"IF(語言配置表!A2548=\"\",\"\",語言配置表!A2548)","v":""},{"$f":"IF(語言配置表!A2548=\"\",\"CN_待填充内容\",語言配置表!B2548)","v":"CN_待填充内容"}]
[{"$f":"IF(語言配置表!A2549=\"\",\"\",語言配置表!A2549)","v":""},{"$f":"IF(語言配置表!A2549=\"\",\"CN_待填充内容\",語言配置表!B2549)","v":"CN_待填充内容"}]
[{"$f":"IF(語言配置表!A2550=\"\",\"\",語言配置表!A2550)","v":""},{"$f":"IF(語言配置表!A2550=\"\",\"CN_待填充内容\",語言配置表!B2550)","v":"CN_待填充内容"}]
[{"$f":"IF(語言配置表!A2551=\"\",\"\",語言配置表!A2551)","v":""},{"$f":"IF(語言配置表!A2551=\"\",\"CN_待填充内容\",語言配置表!B2551)","v":"CN_待填充内容"}]
[{"$f":"IF(語言配置表!A2552=\"\",\"\",語言配置表!A2552)","v":""},{"$f":"IF(語言配置表!A2552=\"\",\"CN_待填充内容\",語言配置表!B2552)","v":"CN_待填充内容"}]
[{"$f":"IF(語言配置表!A2553=\"\",\"\",語言配置表!A2553)","v":""},{"$f":"IF(語言配置表!A2553=\"\",\"CN_待填充内容\",語言配置表!B2553)","v":"CN_待填充内容"}]
[{"$f":"IF(語言配置表!A2554=\"\",\"\",語言配置表!A2554)","v":""},{"$f":"IF(語言配置表!A2554=\"\",\"CN_待填充内容\",語言配置表!B2554)","v":"CN_待填充内容"}]
[{"$f":"IF(語言配置表!A2555=\"\",\"\",語言配置表!A2555)","v":""},{"$f":"IF(語言配置表!A2555=\"\",\"CN_待填充内容\",語言配置表!B2555)","v":"CN_待填充内容"}]
[{"$f":"IF(語言配置表!A2556=\"\",\"\",語言配置表!A2556)","v":""},{"$f":"IF(語言配置表!A2556=\"\",\"CN_待填充内容\",語言配置表!B2556)","v":"CN_待填充内容"}]
[{"$f":"IF(語言配置表!A2557=\"\",\"\",語言配置表!A2557)","v":""},{"$f":"IF(語言配置表!A2557=\"\",\"CN_待填充内容\",語言配置表!B2557)","v":"CN_待填充内容"}]
[{"$f":"IF(語言配置表!A2558=\"\",\"\",語言配置表!A2558)","v":""},{"$f":"IF(語言配置表!A2558=\"\",\"CN_待填充内容\",語言配置表!B2558)","v":"CN_待填充内容"}]
[{"$f":"IF(語言配置表!A2559=\"\",\"\",語言配置表!A2559)","v":""},{"$f":"IF(語言配置表!A2559=\"\",\"CN_待填充内容\",語言配置表!B2559)","v":"CN_待填充内容"}]
[{"$f":"IF(語言配置表!A2560=\"\",\"\",語言配置表!A2560)","v":""},{"$f":"IF(語言配置表!A2560=\"\",\"CN_待填充内容\",語言配置表!B2560)","v":"CN_待填充内容"}]
[{"$f":"IF(語言配置表!A2561=\"\",\"\",語言配置表!A2561)","v":""},{"$f":"IF(語言配置表!A2561=\"\",\"CN_待填充内容\",語言配置表!B2561)","v":"CN_待填充内容"}]
[{"$f":"IF(語言配置表!A2562=\"\",\"\",語言配置表!A2562)","v":""},{"$f":"IF(語言配置表!A2562=\"\",\"CN_待填充内容\",語言配置表!B2562)","v":"CN_待填充内容"}]
[{"$f":"IF(語言配置表!A2563=\"\",\"\",語言配置表!A2563)","v":""},{"$f":"IF(語言配置表!A2563=\"\",\"CN_待填充内容\",語言配置表!B2563)","v":"CN_待填充内容"}]
[{"$f":"IF(語言配置表!A2564=\"\",\"\",語言配置表!A2564)","v":""},{"$f":"IF(語言配置表!A2564=\"\",\"CN_待填充内容\",語言配置表!B2564)","v":"CN_待填充内容"}]
[{"$f":"IF(語言配置表!A2565=\"\",\"\",語言配置表!A2565)","v":""},{"$f":"IF(語言配置表!A2565=\"\",\"CN_待填充内容\",語言配置表!B2565)","v":"CN_待填充内容"}]
[{"$f":"IF(語言配置表!A2566=\"\",\"\",語言配置表!A2566)","v":""},{"$f":"IF(語言配置表!A2566=\"\",\"CN_待填充内容\",語言配置表!B2566)","v":"CN_待填充内容"}]
[{"$f":"IF(語言配置表!A2567=\"\",\"\",語言配置表!A2567)","v":""},{"$f":"IF(語言配置表!A2567=\"\",\"CN_待填充内容\",語言配置表!B2567)","v":"CN_待填充内容"}]
[{"$f":"IF(語言配置表!A2568=\"\",\"\",語言配置表!A2568)","v":""},{"$f":"IF(語言配置表!A2568=\"\",\"CN_待填充内容\",語言配置表!B2568)","v":"CN_待填充内容"}]
[{"$f":"IF(語言配置表!A2569=\"\",\"\",語言配置表!A2569)","v":""},{"$f":"IF(語言配置表!A2569=\"\",\"CN_待填充内容\",語言配置表!B2569)","v":"CN_待填充内容"}]
[{"$f":"IF(語言配置表!A2570=\"\",\"\",語言配置表!A2570)","v":""},{"$f":"IF(語言配置表!A2570=\"\",\"CN_待填充内容\",語言配置表!B2570)","v":"CN_待填充内容"}]
[{"$f":"IF(語言配置表!A2571=\"\",\"\",語言配置表!A2571)","v":""},{"$f":"IF(語言配置表!A2571=\"\",\"CN_待填充内容\",語言配置表!B2571)","v":"CN_待填充内容"}]
[{"$f":"IF(語言配置表!A2572=\"\",\"\",語言配置表!A2572)","v":""},{"$f":"IF(語言配置表!A2572=\"\",\"CN_待填充内容\",語言配置表!B2572)","v":"CN_待填充内容"}]