{"text_format":"2","workbook":"xlsx","n_sheets":8,"sheets":["DaoyouModelConfig","emotionConfig","daolvSkill","guajibuff","道友加成辅助","DaoyouLevelupConfig","DaoyouGiftConfig","DaoyouguajiResourcLevel"],"not_rendered":{"charts":0,"images":0,"macros":0,"external_links":2,"defined_names":1,"comments":0,"pivot_tables":0},"unopened":[],"bounds":{"document_bytes":16777216,"sheet_cells":100000,"run_cost":"one","rows_first":2000,"rows_last":500,"rows_between":2000,"halvings":0,"cell_chars":16384,"cell_head_chars":4096},"cells_cut":0,"cells_raw":0,"read":"whole","date_system":"1900"}

{"sheet":"DaoyouModelConfig","index":0,"n_rows":14,"n_cols":32,"rows_kept":14,"cut":false,"hidden":false,"merged":[]}
["ID","name",null,"quality","bodyIcon","headIcon","growupRate","des","desUnlockLv",{"$nulls":4},"PreferGiftID","shownPreferGiftID",{"$nulls":4},"guajiBuffID",{"$nulls":4},"daolvSkillID",null,"EmotionLvforQuest","QuestID",null,"EmotionLvforspecialGift","specialGiftID","specialGiftNum"]
["int","int",null,"int","string","string","int","int[]","int[]",{"$nulls":4},"int[]","int[]",{"$nulls":4},"int[]",{"$nulls":4},"int[]",null,"int","int",null,"int[]","int[]","int[]"]
[]
["ID","名称","名称","道友品质","半身像","头像","潜力\n80=80%\n等级差","介绍","介绍解锁相熟等级",{"$nulls":4},"喜好的礼物ID","默认显示的礼物ID","喜好礼物1","喜好礼物2","喜好礼物3",null,"挂机增益类型","产出概率","产出类型1","产出类型2",null,"成为道侣后提供的技能ID",null,"触发道侣任务的好感度等级","道侣任务ID",null,"特殊奖励好感度等级","特殊奖励ID","特殊奖励数量"]
[1,1953,"道友1",2,null,null,60,{"$f":"_xlfn.TEXTJOIN(\";\",1,J5:L5)","v":"1963;1964;1965"},"1;3;6",1963,1964,1965,null,{"$f":"_xlfn.TEXTJOIN(\";\",1,P5:R5)","v":"1201;1202;1203"},{"$f":"P5","v":1201},1201,1202,1203,null,{"$f":"_xlfn.TEXTJOIN(\";\",1,U5:W5)","v":"1;11;22"},1,11,22,null,1,null,2,9003,null,3,10002,1]
[2,1954,"道友2",2,null,null,60,{"$f":"_xlfn.TEXTJOIN(\";\",1,J6:L6)","v":"1966;1967;1968"},"1;3;6",1966,1967,1968,null,{"$f":"_xlfn.TEXTJOIN(\";\",1,P6:R6)","v":"1204;1205;1206"},{"$f":"P6","v":1204},1204,1205,1206,null,{"$f":"_xlfn.TEXTJOIN(\";\",1,U6:W6)","v":"1;21;32"},1,21,32,null,2,null,2,9002,null,4,10003,1]
[3,1955,"道友3",2,null,null,60,"1969;1970;1971","1;3;6",1969,1970,1971,null,"1207;1208;1209",1207,1207,1208,1209,null,"1;31;42",1,31,42,null,3,null,2,9001,null,5,10004,1]
[4,1956,"道友4",3,null,null,80,"1972;1973;1974","1;3;6",1972,1973,1974,null,"1301;1302;1303",1301,1301,1302,1303,null,"2;41;12",2,41,12,null,4,null,3,9002,null,4,10005,1]
[5,1957,"道友5",3,null,null,80,"1975;1976;1977","1;3;6",1975,1976,1977,null,"1401;1402;1403",1401,1401,1402,1403,null,"2;12;33",2,12,33,null,5,null,3,9001,null,5,10006,1]
[6,1958,"道友6",3,null,null,80,"1978;1979;1980","1;3;6",1978,1979,1980,null,"1201;1202;1203",1201,1201,1202,1203,null,"2;22;43",2,22,43,null,6,null,3,9002,null,6,10007,1]
[7,1959,"道友7",4,null,null,100,"1981;1982;1983","1;3;6",1981,1982,1983,null,"1204;1205;1206",1204,1204,1205,1206,null,"3;32;13",3,32,13,null,7,null,4,9001,null,5,10008,1]
[8,1960,"道友8",4,null,null,100,"1984;1985;1986","1;3;6",1984,1985,1986,null,"1207;1208;1209",1207,1207,1208,1209,null,"3;42;23",3,42,23,null,8,null,4,9002,null,6,10009,1]
[9,1961,"道友9",5,null,null,110,"1987;1988;1989","1;3;6",1987,1988,1989,null,"1301;1302;1303",1301,1301,1302,1303,null,"4;13;34",4,13,34,null,1,null,5,9001,null,7,10010,1]
[10,1962,"道友10",6,null,null,120,"1990;1991;1992","1;3;6",1990,1991,1992,null,"1401;1402;1403",1401,1401,1402,1403,null,"4;23;44",4,23,44,null,2,null,6,9002,null,8,10011,1]

{"sheet":"emotionConfig","index":1,"n_rows":7,"n_cols":7,"rows_kept":7,"cut":false,"hidden":false,"merged":[]}
["ID","type","icon","des",null,"hanganUpRate"]
["int","int","string","int",null,"int[]"]
[]
["ID","类型\n1=好心情\n2=平衡心情\n3=坏心情","icon","描述ID","描述（策划）","心情影响好感度的范围\n100=10%"]
[1,1,null,2043,"心情很好，送他礼物可获得更多好感度","1100;1300","开心"]
[2,2,null,2044,"心情一般","900;1100","一般"]
[3,3,null,2045,"心情失落，送他礼物获得低于标准值的好感度","700;900","失落"]

{"sheet":"daolvSkill","index":2,"n_rows":44,"n_cols":11,"rows_kept":44,"cut":false,"hidden":false,"merged":[]}
["ID","AttrID","lv","name",null,"des",null,"para","type"]
["int","int","int","int",null,"int",null,"int[]","int"]
[]
["ID","对应AttributeConfig中的ID","等级","名称","名称","描述","描述","参数","类型\n1=唯一\n2=叠加","成长所需礼物ID","每单位增加的值"]
[1,101,1,2046,"生命增幅",2054,"玩家生命+{0}%",3,2]
[2,101,2,2046,"生命增幅",2054,"玩家生命+{0}%",6,2]
[3,101,3,2046,"生命增幅",2054,"玩家生命+{0}%",9,2]
[4,101,4,2046,"生命增幅",2054,"玩家生命+{0}%",12,2]
[5,101,5,2046,"生命增幅",2054,"玩家生命+{0}%",15,2]
[6,102,{"$f":"C5","v":1},2047,"攻击增幅",2055,"玩家攻击+{0}%",3,2]
[7,102,{"$f":"C6","v":2},2047,"攻击增幅",2055,"玩家攻击+{0}%",6,2]
[8,102,3,2047,"攻击增幅",2055,"玩家攻击+{0}%",9,2]
[9,102,4,2047,"攻击增幅",2055,"玩家攻击+{0}%",12,2]
[10,102,5,2047,"攻击增幅",2055,"玩家攻击+{0}%",15,2]
[11,103,1,2048,"防御增幅",2056,"玩家防御+{0}%",3,2]
[12,103,2,2048,"防御增幅",2056,"玩家防御+{0}%",6,2]
[13,103,3,2048,"防御增幅",2056,"玩家防御+{0}%",9,2]
[14,103,4,2048,"防御增幅",2056,"玩家防御+{0}%",12,2]
[15,103,5,2048,"防御增幅",2056,"玩家防御+{0}%",15,2]
[16,106,1,2049,"金之灵根",2057,"玩家金灵根+{0}",2,1]
[17,106,2,2049,"金之灵根",2057,"玩家金灵根+{0}",4,1]
[18,106,3,2049,"金之灵根",2057,"玩家金灵根+{0}",6,1]
[19,106,4,2049,"金之灵根",2057,"玩家金灵根+{0}",8,1]
[20,106,5,2049,"金之灵根",2057,"玩家金灵根+{0}",10,1]
[21,107,1,2050,"水之灵根",2058,"玩家水灵根+{0}",2,1]
[22,107,2,2050,"水之灵根",2058,"玩家水灵根+{0}",4,1]
[23,107,3,2050,"水之灵根",2058,"玩家水灵根+{0}",6,1]
[24,107,4,2050,"水之灵根",2058,"玩家水灵根+{0}",8,1]
[25,107,5,2050,"水之灵根",2058,"玩家水灵根+{0}",10,1]
[26,108,1,2051,"木之灵根",2059,"玩家木灵根+{0}",2,1]
[27,108,2,2051,"木之灵根",2059,"玩家木灵根+{0}",4,1]
[28,108,3,2051,"木之灵根",2059,"玩家木灵根+{0}",6,1]
[29,108,4,2051,"木之灵根",2059,"玩家木灵根+{0}",8,1]
[30,108,5,2051,"木之灵根",2059,"玩家木灵根+{0}",10,1]
[31,109,1,2052,"火之灵根",2060,"玩家火灵根+{0}",2,1]
[32,109,2,2052,"火之灵根",2060,"玩家火灵根+{0}",4,1]
[33,109,3,2052,"火之灵根",2060,"玩家火灵根+{0}",6,1]
[34,109,4,2052,"火之灵根",2060,"玩家火灵根+{0}",8,1]
[35,109,5,2052,"火之灵根",2060,"玩家火灵根+{0}",10,1]
[36,110,1,2053,"土之灵根",2061,"玩家土灵根+{0}",2,1]
[37,110,2,2053,"土之灵根",2061,"玩家土灵根+{0}",4,1]
[38,110,3,2053,"土之灵根",2061,"玩家土灵根+{0}",6,1]
[39,110,4,2053,"土之灵根",2061,"玩家土灵根+{0}",8,1]
[40,110,5,2053,"土之灵根",2061,"玩家土灵根+{0}",10,1]

{"sheet":"guajibuff","index":3,"n_rows":28,"n_cols":8,"rows_kept":28,"cut":false,"hidden":false,"merged":[]}
["ID","name",null,"Quality","GivingRate","paraValue","des"]
["int","int",null,"int","int","int","int"]
[]
["ID","名称","名称","品质","产出比例\n100=100%","对应的para值","描述","说明"]
[1,2063,"慷概之心·小",1,25,5,2062,"这位道友离开时有{0}%概率赠与玩家奖励"]
[2,2064,"慷概之心·中",1,50,5,2062,"这位道友离开时有{0}%概率赠与玩家奖励"]
[3,2065,"慷概之心·大",1,75,5,2062,"这位道友离开时有{0}%概率赠与玩家奖励"]
[4,2066,"慷概之心·极",1,100,5,2062,"这位道友离开时有{0}%概率赠与玩家奖励"]
[]
[11,1993,"双修之旅·小",2,25,1,{"$f":"B10+16","v":2009},"这位道友离开时会给与玩家少量修为奖励"]
[12,1994,"双修之旅·中",3,50,1,{"$f":"B11+16","v":2010},"这位道友离开时会给与玩家一些修为奖励"]
[13,1995,"双修之旅·大",4,75,1,2011,"这位道友离开时会给与玩家很多修为奖励"]
[14,1996,"双修之旅·极",5,100,1,2012,"这位道友离开时会给与玩家丰厚修为奖励"]
[]
[21,{"$f":"B10+4","v":1997},"商贾之道·小",2,25,2,{"$f":"B15+16","v":2013},"这位道友离开时会给与玩家少量铜钱奖励"]
[22,{"$f":"B11+4","v":1998},"商贾之道·中",3,50,2,{"$f":"B16+16","v":2014},"这位道友离开时会给与玩家一些铜钱奖励"]
[23,1999,"商贾之道·大",4,75,2,2015,"这位道友离开时会给与玩家很多铜钱奖励"]
[24,2000,"商贾之道·极",5,100,2,2016,"这位道友离开时会给与玩家丰厚铜钱奖励"]
[]
[31,{"$f":"B15+4","v":2001},"席地论法·小",2,25,3,{"$f":"B20+16","v":2017},"这位道友离开时会给与玩家少量功法灵气奖励"]
[32,{"$f":"B16+4","v":2002},"席地论法·中",3,50,3,{"$f":"B21+16","v":2018},"这位道友离开时会给与玩家一些功法灵气奖励"]
[33,2003,"席地论法·大",4,75,3,2019,"这位道友离开时会给与玩家很多功法灵气奖励"]
[34,2004,"席地论法·极",5,100,3,2020,"这位道友离开时会给与玩家丰厚功法灵气奖励"]
[]
[41,{"$f":"B20+4","v":2005},"坎山寻宝·小",2,25,4,{"$f":"B25+16","v":2021},"这位道友离开时会给与玩家少量法宝灵韵奖励"]
[42,{"$f":"B21+4","v":2006},"坎山寻宝·中",3,50,4,{"$f":"B26+16","v":2022},"这位道友离开时会给与玩家一些法宝灵韵奖励"]
[43,2007,"坎山寻宝·大",4,75,4,2023,"这位道友离开时会给与玩家很多法宝灵韵奖励"]
[44,2008,"坎山寻宝·极",5,100,4,2024,"这位道友离开时会给与玩家丰厚法宝灵韵奖励"]

{"sheet":"道友加成辅助","index":4,"n_rows":14,"n_cols":3,"rows_kept":14,"cut":false,"hidden":false,"merged":[]}
["BuffType",null,"BuffValue"]
[1,"属性加成","属性ID；加成数值"]
[2]
[3]
[4]
[5]
[6]
[7]
[8]
[9]
[10]
[11]
[12]
[13]

{"sheet":"DaoyouLevelupConfig","index":5,"n_rows":14,"n_cols":7,"rows_kept":14,"cut":false,"hidden":false,"merged":[]}
["ID","name",null,"exp","prizeID","prizeNum","guajiGrowup"]
["int","int",null,"int","int[]","int[]","int"]
[]
["LV","名称",null,"升级所需经验","道具奖励ID","道具奖励数量","挂机增益成长率\n100=100%"]
[1,2025,"好感度1",10,-1,-1,0]
[2,2026,"好感度2",20,1002,1,100]
[3,2027,"好感度3",30,1002,1,112]
[4,2028,"好感度4",40,1002,1,125]
[5,2029,"好感度5",50,1002,1,137]
[6,2030,"好感度6",60,1002,1,150]
[7,2031,"好感度7",70,1002,1,162]
[8,2032,"好感度8",80,1002,1,175]
[9,2033,"好感度9",90,1002,1,187]
[10,2034,"好感度10",-1,1002,1,200]

{"sheet":"DaoyouGiftConfig","index":6,"n_rows":67,"n_cols":4,"rows_kept":67,"cut":false,"hidden":false,"merged":[]}
["ID","ItemID",null,"emotionValue"]
["int","int",null,"int"]
[]
["ID","道具ID","道具名称","默认增加的好感度值"]
[1,1201,{"$f":"VLOOKUP(B5,[1]ItemConfig!$A:$C,3,FALSE)","v":"渡劫丹-A1"},10]
[2,1202,{"$f":"VLOOKUP(B6,[1]ItemConfig!$A:$C,3,FALSE)","v":"渡劫丹-A2"},20]
[3,1203,{"$f":"VLOOKUP(B7,[1]ItemConfig!$A:$C,3,FALSE)","v":"渡劫丹-A3"},30]
[4,1204,{"$f":"VLOOKUP(B8,[1]ItemConfig!$A:$C,3,FALSE)","v":"渡劫丹-B1"},10]
[5,1205,{"$f":"VLOOKUP(B9,[1]ItemConfig!$A:$C,3,FALSE)","v":"渡劫丹-B2"},20]
[6,1206,{"$f":"VLOOKUP(B10,[1]ItemConfig!$A:$C,3,FALSE)","v":"渡劫丹-B3"},30]
[7,1207,{"$f":"VLOOKUP(B11,[1]ItemConfig!$A:$C,3,FALSE)","v":"渡劫丹-C1"},10]
[8,1208,{"$f":"VLOOKUP(B12,[1]ItemConfig!$A:$C,3,FALSE)","v":"渡劫丹-C2"},20]
[9,1209,{"$f":"VLOOKUP(B13,[1]ItemConfig!$A:$C,3,FALSE)","v":"渡劫丹-C3"},30]
[10,1301,{"$f":"VLOOKUP(B14,[1]ItemConfig!$A:$C,3,FALSE)","v":"天材地宝1"},10]
[11,1302,{"$f":"VLOOKUP(B15,[1]ItemConfig!$A:$C,3,FALSE)","v":"天材地宝2"},15]
[12,1303,{"$f":"VLOOKUP(B16,[1]ItemConfig!$A:$C,3,FALSE)","v":"天材地宝3"},20]
[13,1304,{"$f":"VLOOKUP(B17,[1]ItemConfig!$A:$C,3,FALSE)","v":"天材地宝4"},25]
[14,1401,{"$f":"VLOOKUP(B18,[1]ItemConfig!$A:$C,3,FALSE)","v":"修为丹·下"},10]
[15,1402,{"$f":"VLOOKUP(B19,[1]ItemConfig!$A:$C,3,FALSE)","v":"修为丹·中"},15]
[16,1403,{"$f":"VLOOKUP(B20,[1]ItemConfig!$A:$C,3,FALSE)","v":"修为丹·上"},20]
[17,1404,{"$f":"VLOOKUP(B21,[1]ItemConfig!$A:$C,3,FALSE)","v":"修为丹·极"},30]
[18,1501,{"$f":"VLOOKUP(B22,[1]ItemConfig!$A:$C,3,FALSE)","v":"好感度礼物1"},50]
[19,1502,{"$f":"VLOOKUP(B23,[1]ItemConfig!$A:$C,3,FALSE)","v":"好感度礼物2"},100]
[20,11001,{"$f":"VLOOKUP(B24,[1]ItemConfig!$A:$C,3,FALSE)","v":"神龙鼎碎片"},20]
[21,11002,{"$f":"VLOOKUP(B25,[1]ItemConfig!$A:$C,3,FALSE)","v":"破天斧碎片"},20]
[22,11003,{"$f":"VLOOKUP(B26,[1]ItemConfig!$A:$C,3,FALSE)","v":"翡翠葫芦碎片"},20]
[23,11004,{"$f":"VLOOKUP(B27,[1]ItemConfig!$A:$C,3,FALSE)","v":"混沌珠碎片"},20]
[24,11005,{"$f":"VLOOKUP(B28,[1]ItemConfig!$A:$C,3,FALSE)","v":"琉璃宝塔碎片"},20]
[25,11006,{"$f":"VLOOKUP(B29,[1]ItemConfig!$A:$C,3,FALSE)","v":"九幽镇魂瓶碎片"},20]
[26,11007,{"$f":"VLOOKUP(B30,[1]ItemConfig!$A:$C,3,FALSE)","v":"玉莲守心灯碎片"},20]
[27,11008,{"$f":"VLOOKUP(B31,[1]ItemConfig!$A:$C,3,FALSE)","v":"融灵塔碎片"},20]
[28,11009,{"$f":"VLOOKUP(B32,[1]ItemConfig!$A:$C,3,FALSE)","v":"禁元珠碎片"},20]
[29,11010,{"$f":"VLOOKUP(B33,[1]ItemConfig!$A:$C,3,FALSE)","v":"玄龟盾碎片"},20]
[30,11011,{"$f":"VLOOKUP(B34,[1]ItemConfig!$A:$C,3,FALSE)","v":"天殇血刃剑碎片"},20]
[31,13001,{"$f":"VLOOKUP(B35,[1]ItemConfig!$A:$C,3,FALSE)","v":"太虚幻剑经碎片"},20]
[32,13002,{"$f":"VLOOKUP(B36,[1]ItemConfig!$A:$C,3,FALSE)","v":"天罡剑气诀碎片"},20]
[33,13003,{"$f":"VLOOKUP(B37,[1]ItemConfig!$A:$C,3,FALSE)","v":"血刃金煌功碎片"},20]
[34,13004,{"$f":"VLOOKUP(B38,[1]ItemConfig!$A:$C,3,FALSE)","v":"飞刃碎片"},20]
[35,13005,{"$f":"VLOOKUP(B39,[1]ItemConfig!$A:$C,3,FALSE)","v":"金针碎片"},20]
[36,13006,{"$f":"VLOOKUP(B40,[1]ItemConfig!$A:$C,3,FALSE)","v":"碧落幽冥劲碎片"},20]
[37,13007,{"$f":"VLOOKUP(B41,[1]ItemConfig!$A:$C,3,FALSE)","v":"雾隐千流法碎片"},20]
[38,13008,{"$f":"VLOOKUP(B42,[1]ItemConfig!$A:$C,3,FALSE)","v":"功法-水3碎片"},20]
[39,13009,{"$f":"VLOOKUP(B43,[1]ItemConfig!$A:$C,3,FALSE)","v":"水球碎片"},20]
[40,13010,{"$f":"VLOOKUP(B44,[1]ItemConfig!$A:$C,3,FALSE)","v":"冰刀碎片"},20]
[41,13011,{"$f":"VLOOKUP(B45,[1]ItemConfig!$A:$C,3,FALSE)","v":"瘴影千丝术碎片"},20]
[42,13012,{"$f":"VLOOKUP(B46,[1]ItemConfig!$A:$C,3,FALSE)","v":"蚀骨腐血掌碎片"},20]
[43,13013,{"$f":"VLOOKUP(B47,[1]ItemConfig!$A:$C,3,FALSE)","v":"功法-木3碎片"},20]
[44,13014,{"$f":"VLOOKUP(B48,[1]ItemConfig!$A:$C,3,FALSE)","v":"竹刺碎片"},20]
[45,13015,{"$f":"VLOOKUP(B49,[1]ItemConfig!$A:$C,3,FALSE)","v":"飞叶碎片"},20]
[46,13016,{"$f":"VLOOKUP(B50,[1]ItemConfig!$A:$C,3,FALSE)","v":"烈焰剑碎片"},20]
[47,13017,{"$f":"VLOOKUP(B51,[1]ItemConfig!$A:$C,3,FALSE)","v":"赤焰龙吟功碎片"},20]
[48,13018,{"$f":"VLOOKUP(B52,[1]ItemConfig!$A:$C,3,FALSE)","v":"朱雀燎原指碎片"},20]
[49,13019,{"$f":"VLOOKUP(B53,[1]ItemConfig!$A:$C,3,FALSE)","v":"火球碎片"},20]
[50,13020,{"$f":"VLOOKUP(B54,[1]ItemConfig!$A:$C,3,FALSE)","v":"火刀碎片"},20]
[51,13021,{"$f":"VLOOKUP(B55,[1]ItemConfig!$A:$C,3,FALSE)","v":"黄尘灭魂刺碎片"},20]
[52,13022,{"$f":"VLOOKUP(B56,[1]ItemConfig!$A:$C,3,FALSE)","v":"地裂屠龙斩碎片"},20]
[53,13023,{"$f":"VLOOKUP(B57,[1]ItemConfig!$A:$C,3,FALSE)","v":"功法-土3碎片"},20]
[54,13024,{"$f":"VLOOKUP(B58,[1]ItemConfig!$A:$C,3,FALSE)","v":"落石碎片"},20]
[55,13025,{"$f":"VLOOKUP(B59,[1]ItemConfig!$A:$C,3,FALSE)","v":"小石头碎片"},20]
[56,13501,{"$f":"VLOOKUP(B60,[1]ItemConfig!$A:$C,3,FALSE)","v":"天衍星辰诀碎片"},20]
[57,13502,{"$f":"VLOOKUP(B61,[1]ItemConfig!$A:$C,3,FALSE)","v":"法宝秘籍碎片"},20]
[58,13503,{"$f":"VLOOKUP(B62,[1]ItemConfig!$A:$C,3,FALSE)","v":"崩脉决碎片"},20]
[59,13504,{"$f":"VLOOKUP(B63,[1]ItemConfig!$A:$C,3,FALSE)","v":"两仪决碎片"},20]
[60,13505,{"$f":"VLOOKUP(B64,[1]ItemConfig!$A:$C,3,FALSE)","v":"火焰决碎片"},20]
[61,13506,{"$f":"VLOOKUP(B65,[1]ItemConfig!$A:$C,3,FALSE)","v":"乾坤巨灵诀碎片"},20]
[62,13507,{"$f":"VLOOKUP(B66,[1]ItemConfig!$A:$C,3,FALSE)","v":"极速齿轮碎片"},20]
[63,13508,{"$f":"VLOOKUP(B67,[1]ItemConfig!$A:$C,3,FALSE)","v":"太虚剑意碎片"},20]

{"sheet":"DaoyouguajiResourcLevel","index":7,"n_rows":304,"n_cols":6,"rows_kept":304,"cut":false,"hidden":false,"merged":[]}
["ID","para1","para2","para3","para4","para5"]
["int","int","int","int","int","int"]
[]
["ID","玩家修为产出","铜钱产出","功法灵气","法宝灵韵","赠与概率"]
[1,{"$f":"ROUND([2]ResourceLevelConfig!$E5*0.05,0)","v":50},{"$f":"ROUND([2]ResourceLevelConfig!$C5*0.05,0)","v":50},{"$f":"ROUND([2]ResourceLevelConfig!$G5*0.05,0)","v":50},{"$f":"ROUND([2]ResourceLevelConfig!$H5*0.05,0)","v":50},201]
[2,{"$f":"ROUND([2]ResourceLevelConfig!$E6*0.05,0)","v":51},{"$f":"ROUND([2]ResourceLevelConfig!$C6*0.05,0)","v":51},{"$f":"ROUND([2]ResourceLevelConfig!$G6*0.05,0)","v":51},{"$f":"ROUND([2]ResourceLevelConfig!$H6*0.05,0)","v":51},202]
[3,{"$f":"ROUND([2]ResourceLevelConfig!$E7*0.05,0)","v":51},{"$f":"ROUND([2]ResourceLevelConfig!$C7*0.05,0)","v":51},{"$f":"ROUND([2]ResourceLevelConfig!$G7*0.05,0)","v":51},{"$f":"ROUND([2]ResourceLevelConfig!$H7*0.05,0)","v":51},203]
[4,{"$f":"ROUND([2]ResourceLevelConfig!$E8*0.05,0)","v":52},{"$f":"ROUND([2]ResourceLevelConfig!$C8*0.05,0)","v":52},{"$f":"ROUND([2]ResourceLevelConfig!$G8*0.05,0)","v":52},{"$f":"ROUND([2]ResourceLevelConfig!$H8*0.05,0)","v":52},204]
[5,{"$f":"ROUND([2]ResourceLevelConfig!$E9*0.05,0)","v":52},{"$f":"ROUND([2]ResourceLevelConfig!$C9*0.05,0)","v":52},{"$f":"ROUND([2]ResourceLevelConfig!$G9*0.05,0)","v":52},{"$f":"ROUND([2]ResourceLevelConfig!$H9*0.05,0)","v":52},205]
[6,{"$f":"ROUND([2]ResourceLevelConfig!$E10*0.05,0)","v":53},{"$f":"ROUND([2]ResourceLevelConfig!$C10*0.05,0)","v":53},{"$f":"ROUND([2]ResourceLevelConfig!$G10*0.05,0)","v":53},{"$f":"ROUND([2]ResourceLevelConfig!$H10*0.05,0)","v":53},206]
[7,{"$f":"ROUND([2]ResourceLevelConfig!$E11*0.05,0)","v":53},{"$f":"ROUND([2]ResourceLevelConfig!$C11*0.05,0)","v":53},{"$f":"ROUND([2]ResourceLevelConfig!$G11*0.05,0)","v":53},{"$f":"ROUND([2]ResourceLevelConfig!$H11*0.05,0)","v":53},207]
[8,{"$f":"ROUND([2]ResourceLevelConfig!$E12*0.05,0)","v":54},{"$f":"ROUND([2]ResourceLevelConfig!$C12*0.05,0)","v":54},{"$f":"ROUND([2]ResourceLevelConfig!$G12*0.05,0)","v":54},{"$f":"ROUND([2]ResourceLevelConfig!$H12*0.05,0)","v":54},208]
[9,{"$f":"ROUND([2]ResourceLevelConfig!$E13*0.05,0)","v":54},{"$f":"ROUND([2]ResourceLevelConfig!$C13*0.05,0)","v":54},{"$f":"ROUND([2]ResourceLevelConfig!$G13*0.05,0)","v":54},{"$f":"ROUND([2]ResourceLevelConfig!$H13*0.05,0)","v":54},209]
[10,{"$f":"ROUND([2]ResourceLevelConfig!$E14*0.05,0)","v":55},{"$f":"ROUND([2]ResourceLevelConfig!$C14*0.05,0)","v":55},{"$f":"ROUND([2]ResourceLevelConfig!$G14*0.05,0)","v":55},{"$f":"ROUND([2]ResourceLevelConfig!$H14*0.05,0)","v":55},210]
[11,{"$f":"ROUND([2]ResourceLevelConfig!$E15*0.05,0)","v":55},{"$f":"ROUND([2]ResourceLevelConfig!$C15*0.05,0)","v":55},{"$f":"ROUND([2]ResourceLevelConfig!$G15*0.05,0)","v":55},{"$f":"ROUND([2]ResourceLevelConfig!$H15*0.05,0)","v":55},211]
[12,{"$f":"ROUND([2]ResourceLevelConfig!$E16*0.05,0)","v":56},{"$f":"ROUND([2]ResourceLevelConfig!$C16*0.05,0)","v":56},{"$f":"ROUND([2]ResourceLevelConfig!$G16*0.05,0)","v":56},{"$f":"ROUND([2]ResourceLevelConfig!$H16*0.05,0)","v":56},212]
[13,{"$f":"ROUND([2]ResourceLevelConfig!$E17*0.05,0)","v":56},{"$f":"ROUND([2]ResourceLevelConfig!$C17*0.05,0)","v":56},{"$f":"ROUND([2]ResourceLevelConfig!$G17*0.05,0)","v":56},{"$f":"ROUND([2]ResourceLevelConfig!$H17*0.05,0)","v":56},213]
[14,{"$f":"ROUND([2]ResourceLevelConfig!$E18*0.05,0)","v":57},{"$f":"ROUND([2]ResourceLevelConfig!$C18*0.05,0)","v":57},{"$f":"ROUND([2]ResourceLevelConfig!$G18*0.05,0)","v":57},{"$f":"ROUND([2]ResourceLevelConfig!$H18*0.05,0)","v":57},214]
[15,{"$f":"ROUND([2]ResourceLevelConfig!$E19*0.05,0)","v":57},{"$f":"ROUND([2]ResourceLevelConfig!$C19*0.05,0)","v":57},{"$f":"ROUND([2]ResourceLevelConfig!$G19*0.05,0)","v":57},{"$f":"ROUND([2]ResourceLevelConfig!$H19*0.05,0)","v":57},215]
[16,{"$f":"ROUND([2]ResourceLevelConfig!$E20*0.05,0)","v":58},{"$f":"ROUND([2]ResourceLevelConfig!$C20*0.05,0)","v":58},{"$f":"ROUND([2]ResourceLevelConfig!$G20*0.05,0)","v":58},{"$f":"ROUND([2]ResourceLevelConfig!$H20*0.05,0)","v":58},216]
[17,{"$f":"ROUND([2]ResourceLevelConfig!$E21*0.05,0)","v":58},{"$f":"ROUND([2]ResourceLevelConfig!$C21*0.05,0)","v":58},{"$f":"ROUND([2]ResourceLevelConfig!$G21*0.05,0)","v":58},{"$f":"ROUND([2]ResourceLevelConfig!$H21*0.05,0)","v":58},217]
[18,{"$f":"ROUND([2]ResourceLevelConfig!$E22*0.05,0)","v":59},{"$f":"ROUND([2]ResourceLevelConfig!$C22*0.05,0)","v":59},{"$f":"ROUND([2]ResourceLevelConfig!$G22*0.05,0)","v":59},{"$f":"ROUND([2]ResourceLevelConfig!$H22*0.05,0)","v":59},218]
[19,{"$f":"ROUND([2]ResourceLevelConfig!$E23*0.05,0)","v":59},{"$f":"ROUND([2]ResourceLevelConfig!$C23*0.05,0)","v":59},{"$f":"ROUND([2]ResourceLevelConfig!$G23*0.05,0)","v":59},{"$f":"ROUND([2]ResourceLevelConfig!$H23*0.05,0)","v":59},219]
[20,{"$f":"ROUND([2]ResourceLevelConfig!$E24*0.05,0)","v":60},{"$f":"ROUND([2]ResourceLevelConfig!$C24*0.05,0)","v":60},{"$f":"ROUND([2]ResourceLevelConfig!$G24*0.05,0)","v":60},{"$f":"ROUND([2]ResourceLevelConfig!$H24*0.05,0)","v":60},220]
[21,{"$f":"ROUND([2]ResourceLevelConfig!$E25*0.05,0)","v":60},{"$f":"ROUND([2]ResourceLevelConfig!$C25*0.05,0)","v":60},{"$f":"ROUND([2]ResourceLevelConfig!$G25*0.05,0)","v":60},{"$f":"ROUND([2]ResourceLevelConfig!$H25*0.05,0)","v":60},221]
[22,{"$f":"ROUND([2]ResourceLevelConfig!$E26*0.05,0)","v":61},{"$f":"ROUND([2]ResourceLevelConfig!$C26*0.05,0)","v":61},{"$f":"ROUND([2]ResourceLevelConfig!$G26*0.05,0)","v":61},{"$f":"ROUND([2]ResourceLevelConfig!$H26*0.05,0)","v":61},222]
[23,{"$f":"ROUND([2]ResourceLevelConfig!$E27*0.05,0)","v":61},{"$f":"ROUND([2]ResourceLevelConfig!$C27*0.05,0)","v":61},{"$f":"ROUND([2]ResourceLevelConfig!$G27*0.05,0)","v":61},{"$f":"ROUND([2]ResourceLevelConfig!$H27*0.05,0)","v":61},223]
[24,{"$f":"ROUND([2]ResourceLevelConfig!$E28*0.05,0)","v":62},{"$f":"ROUND([2]ResourceLevelConfig!$C28*0.05,0)","v":62},{"$f":"ROUND([2]ResourceLevelConfig!$G28*0.05,0)","v":62},{"$f":"ROUND([2]ResourceLevelConfig!$H28*0.05,0)","v":62},224]
[25,{"$f":"ROUND([2]ResourceLevelConfig!$E29*0.05,0)","v":62},{"$f":"ROUND([2]ResourceLevelConfig!$C29*0.05,0)","v":62},{"$f":"ROUND([2]ResourceLevelConfig!$G29*0.05,0)","v":62},{"$f":"ROUND([2]ResourceLevelConfig!$H29*0.05,0)","v":62},225]
[26,{"$f":"ROUND([2]ResourceLevelConfig!$E30*0.05,0)","v":63},{"$f":"ROUND([2]ResourceLevelConfig!$C30*0.05,0)","v":63},{"$f":"ROUND([2]ResourceLevelConfig!$G30*0.05,0)","v":63},{"$f":"ROUND([2]ResourceLevelConfig!$H30*0.05,0)","v":63},226]
[27,{"$f":"ROUND([2]ResourceLevelConfig!$E31*0.05,0)","v":63},{"$f":"ROUND([2]ResourceLevelConfig!$C31*0.05,0)","v":63},{"$f":"ROUND([2]ResourceLevelConfig!$G31*0.05,0)","v":63},{"$f":"ROUND([2]ResourceLevelConfig!$H31*0.05,0)","v":63},227]
[28,{"$f":"ROUND([2]ResourceLevelConfig!$E32*0.05,0)","v":64},{"$f":"ROUND([2]ResourceLevelConfig!$C32*0.05,0)","v":64},{"$f":"ROUND([2]ResourceLevelConfig!$G32*0.05,0)","v":64},{"$f":"ROUND([2]ResourceLevelConfig!$H32*0.05,0)","v":64},228]
[29,{"$f":"ROUND([2]ResourceLevelConfig!$E33*0.05,0)","v":64},{"$f":"ROUND([2]ResourceLevelConfig!$C33*0.05,0)","v":64},{"$f":"ROUND([2]ResourceLevelConfig!$G33*0.05,0)","v":64},{"$f":"ROUND([2]ResourceLevelConfig!$H33*0.05,0)","v":64},229]
[30,{"$f":"ROUND([2]ResourceLevelConfig!$E34*0.05,0)","v":65},{"$f":"ROUND([2]ResourceLevelConfig!$C34*0.05,0)","v":65},{"$f":"ROUND([2]ResourceLevelConfig!$G34*0.05,0)","v":65},{"$f":"ROUND([2]ResourceLevelConfig!$H34*0.05,0)","v":65},230]
[31,{"$f":"ROUND([2]ResourceLevelConfig!$E35*0.05,0)","v":65},{"$f":"ROUND([2]ResourceLevelConfig!$C35*0.05,0)","v":65},{"$f":"ROUND([2]ResourceLevelConfig!$G35*0.05,0)","v":65},{"$f":"ROUND([2]ResourceLevelConfig!$H35*0.05,0)","v":65},231]
[32,{"$f":"ROUND([2]ResourceLevelConfig!$E36*0.05,0)","v":66},{"$f":"ROUND([2]ResourceLevelConfig!$C36*0.05,0)","v":66},{"$f":"ROUND([2]ResourceLevelConfig!$G36*0.05,0)","v":66},{"$f":"ROUND([2]ResourceLevelConfig!$H36*0.05,0)","v":66},232]
[33,{"$f":"ROUND([2]ResourceLevelConfig!$E37*0.05,0)","v":66},{"$f":"ROUND([2]ResourceLevelConfig!$C37*0.05,0)","v":66},{"$f":"ROUND([2]ResourceLevelConfig!$G37*0.05,0)","v":66},{"$f":"ROUND([2]ResourceLevelConfig!$H37*0.05,0)","v":66},233]
[34,{"$f":"ROUND([2]ResourceLevelConfig!$E38*0.05,0)","v":67},{"$f":"ROUND([2]ResourceLevelConfig!$C38*0.05,0)","v":67},{"$f":"ROUND([2]ResourceLevelConfig!$G38*0.05,0)","v":67},{"$f":"ROUND([2]ResourceLevelConfig!$H38*0.05,0)","v":67},234]
[35,{"$f":"ROUND([2]ResourceLevelConfig!$E39*0.05,0)","v":67},{"$f":"ROUND([2]ResourceLevelConfig!$C39*0.05,0)","v":67},{"$f":"ROUND([2]ResourceLevelConfig!$G39*0.05,0)","v":67},{"$f":"ROUND([2]ResourceLevelConfig!$H39*0.05,0)","v":67},235]
[36,{"$f":"ROUND([2]ResourceLevelConfig!$E40*0.05,0)","v":68},{"$f":"ROUND([2]ResourceLevelConfig!$C40*0.05,0)","v":68},{"$f":"ROUND([2]ResourceLevelConfig!$G40*0.05,0)","v":68},{"$f":"ROUND([2]ResourceLevelConfig!$H40*0.05,0)","v":68},236]
[37,{"$f":"ROUND([2]ResourceLevelConfig!$E41*0.05,0)","v":68},{"$f":"ROUND([2]ResourceLevelConfig!$C41*0.05,0)","v":68},{"$f":"ROUND([2]ResourceLevelConfig!$G41*0.05,0)","v":68},{"$f":"ROUND([2]ResourceLevelConfig!$H41*0.05,0)","v":68},237]
[38,{"$f":"ROUND([2]ResourceLevelConfig!$E42*0.05,0)","v":69},{"$f":"ROUND([2]ResourceLevelConfig!$C42*0.05,0)","v":69},{"$f":"ROUND([2]ResourceLevelConfig!$G42*0.05,0)","v":69},{"$f":"ROUND([2]ResourceLevelConfig!$H42*0.05,0)","v":69},238]
[39,{"$f":"ROUND([2]ResourceLevelConfig!$E43*0.05,0)","v":69},{"$f":"ROUND([2]ResourceLevelConfig!$C43*0.05,0)","v":69},{"$f":"ROUND([2]ResourceLevelConfig!$G43*0.05,0)","v":69},{"$f":"ROUND([2]ResourceLevelConfig!$H43*0.05,0)","v":69},239]
[40,{"$f":"ROUND([2]ResourceLevelConfig!$E44*0.05,0)","v":70},{"$f":"ROUND([2]ResourceLevelConfig!$C44*0.05,0)","v":70},{"$f":"ROUND([2]ResourceLevelConfig!$G44*0.05,0)","v":70},{"$f":"ROUND([2]ResourceLevelConfig!$H44*0.05,0)","v":70},240]
[41,{"$f":"ROUND([2]ResourceLevelConfig!$E45*0.05,0)","v":70},{"$f":"ROUND([2]ResourceLevelConfig!$C45*0.05,0)","v":70},{"$f":"ROUND([2]ResourceLevelConfig!$G45*0.05,0)","v":70},{"$f":"ROUND([2]ResourceLevelConfig!$H45*0.05,0)","v":70},241]
[42,{"$f":"ROUND([2]ResourceLevelConfig!$E46*0.05,0)","v":71},{"$f":"ROUND([2]ResourceLevelConfig!$C46*0.05,0)","v":71},{"$f":"ROUND([2]ResourceLevelConfig!$G46*0.05,0)","v":71},{"$f":"ROUND([2]ResourceLevelConfig!$H46*0.05,0)","v":71},242]
[43,{"$f":"ROUND([2]ResourceLevelConfig!$E47*0.05,0)","v":71},{"$f":"ROUND([2]ResourceLevelConfig!$C47*0.05,0)","v":71},{"$f":"ROUND([2]ResourceLevelConfig!$G47*0.05,0)","v":71},{"$f":"ROUND([2]ResourceLevelConfig!$H47*0.05,0)","v":71},243]
[44,{"$f":"ROUND([2]ResourceLevelConfig!$E48*0.05,0)","v":72},{"$f":"ROUND([2]ResourceLevelConfig!$C48*0.05,0)","v":72},{"$f":"ROUND([2]ResourceLevelConfig!$G48*0.05,0)","v":72},{"$f":"ROUND([2]ResourceLevelConfig!$H48*0.05,0)","v":72},244]
[45,{"$f":"ROUND([2]ResourceLevelConfig!$E49*0.05,0)","v":72},{"$f":"ROUND([2]ResourceLevelConfig!$C49*0.05,0)","v":72},{"$f":"ROUND([2]ResourceLevelConfig!$G49*0.05,0)","v":72},{"$f":"ROUND([2]ResourceLevelConfig!$H49*0.05,0)","v":72},245]
[46,{"$f":"ROUND([2]ResourceLevelConfig!$E50*0.05,0)","v":73},{"$f":"ROUND([2]ResourceLevelConfig!$C50*0.05,0)","v":73},{"$f":"ROUND([2]ResourceLevelConfig!$G50*0.05,0)","v":73},{"$f":"ROUND([2]ResourceLevelConfig!$H50*0.05,0)","v":73},246]
[47,{"$f":"ROUND([2]ResourceLevelConfig!$E51*0.05,0)","v":73},{"$f":"ROUND([2]ResourceLevelConfig!$C51*0.05,0)","v":73},{"$f":"ROUND([2]ResourceLevelConfig!$G51*0.05,0)","v":73},{"$f":"ROUND([2]ResourceLevelConfig!$H51*0.05,0)","v":73},247]
[48,{"$f":"ROUND([2]ResourceLevelConfig!$E52*0.05,0)","v":74},{"$f":"ROUND([2]ResourceLevelConfig!$C52*0.05,0)","v":74},{"$f":"ROUND([2]ResourceLevelConfig!$G52*0.05,0)","v":74},{"$f":"ROUND([2]ResourceLevelConfig!$H52*0.05,0)","v":74},248]
[49,{"$f":"ROUND([2]ResourceLevelConfig!$E53*0.05,0)","v":74},{"$f":"ROUND([2]ResourceLevelConfig!$C53*0.05,0)","v":74},{"$f":"ROUND([2]ResourceLevelConfig!$G53*0.05,0)","v":74},{"$f":"ROUND([2]ResourceLevelConfig!$H53*0.05,0)","v":74},249]
[50,{"$f":"ROUND([2]ResourceLevelConfig!$E54*0.05,0)","v":75},{"$f":"ROUND([2]ResourceLevelConfig!$C54*0.05,0)","v":75},{"$f":"ROUND([2]ResourceLevelConfig!$G54*0.05,0)","v":75},{"$f":"ROUND([2]ResourceLevelConfig!$H54*0.05,0)","v":75},250]
[51,{"$f":"ROUND([2]ResourceLevelConfig!$E55*0.05,0)","v":75},{"$f":"ROUND([2]ResourceLevelConfig!$C55*0.05,0)","v":75},{"$f":"ROUND([2]ResourceLevelConfig!$G55*0.05,0)","v":75},{"$f":"ROUND([2]ResourceLevelConfig!$H55*0.05,0)","v":75},251]
[52,{"$f":"ROUND([2]ResourceLevelConfig!$E56*0.05,0)","v":76},{"$f":"ROUND([2]ResourceLevelConfig!$C56*0.05,0)","v":76},{"$f":"ROUND([2]ResourceLevelConfig!$G56*0.05,0)","v":76},{"$f":"ROUND([2]ResourceLevelConfig!$H56*0.05,0)","v":76},252]
[53,{"$f":"ROUND([2]ResourceLevelConfig!$E57*0.05,0)","v":76},{"$f":"ROUND([2]ResourceLevelConfig!$C57*0.05,0)","v":76},{"$f":"ROUND([2]ResourceLevelConfig!$G57*0.05,0)","v":76},{"$f":"ROUND([2]ResourceLevelConfig!$H57*0.05,0)","v":76},253]
[54,{"$f":"ROUND([2]ResourceLevelConfig!$E58*0.05,0)","v":77},{"$f":"ROUND([2]ResourceLevelConfig!$C58*0.05,0)","v":77},{"$f":"ROUND([2]ResourceLevelConfig!$G58*0.05,0)","v":77},{"$f":"ROUND([2]ResourceLevelConfig!$H58*0.05,0)","v":77},254]
[55,{"$f":"ROUND([2]ResourceLevelConfig!$E59*0.05,0)","v":77},{"$f":"ROUND([2]ResourceLevelConfig!$C59*0.05,0)","v":77},{"$f":"ROUND([2]ResourceLevelConfig!$G59*0.05,0)","v":77},{"$f":"ROUND([2]ResourceLevelConfig!$H59*0.05,0)","v":77},255]
[56,{"$f":"ROUND([2]ResourceLevelConfig!$E60*0.05,0)","v":78},{"$f":"ROUND([2]ResourceLevelConfig!$C60*0.05,0)","v":78},{"$f":"ROUND([2]ResourceLevelConfig!$G60*0.05,0)","v":78},{"$f":"ROUND([2]ResourceLevelConfig!$H60*0.05,0)","v":78},256]
[57,{"$f":"ROUND([2]ResourceLevelConfig!$E61*0.05,0)","v":78},{"$f":"ROUND([2]ResourceLevelConfig!$C61*0.05,0)","v":78},{"$f":"ROUND([2]ResourceLevelConfig!$G61*0.05,0)","v":78},{"$f":"ROUND([2]ResourceLevelConfig!$H61*0.05,0)","v":78},257]
[58,{"$f":"ROUND([2]ResourceLevelConfig!$E62*0.05,0)","v":79},{"$f":"ROUND([2]ResourceLevelConfig!$C62*0.05,0)","v":79},{"$f":"ROUND([2]ResourceLevelConfig!$G62*0.05,0)","v":79},{"$f":"ROUND([2]ResourceLevelConfig!$H62*0.05,0)","v":79},258]
[59,{"$f":"ROUND([2]ResourceLevelConfig!$E63*0.05,0)","v":79},{"$f":"ROUND([2]ResourceLevelConfig!$C63*0.05,0)","v":79},{"$f":"ROUND([2]ResourceLevelConfig!$G63*0.05,0)","v":79},{"$f":"ROUND([2]ResourceLevelConfig!$H63*0.05,0)","v":79},259]
[60,{"$f":"ROUND([2]ResourceLevelConfig!$E64*0.05,0)","v":80},{"$f":"ROUND([2]ResourceLevelConfig!$C64*0.05,0)","v":80},{"$f":"ROUND([2]ResourceLevelConfig!$G64*0.05,0)","v":80},{"$f":"ROUND([2]ResourceLevelConfig!$H64*0.05,0)","v":80},260]
[61,{"$f":"ROUND([2]ResourceLevelConfig!$E65*0.05,0)","v":80},{"$f":"ROUND([2]ResourceLevelConfig!$C65*0.05,0)","v":80},{"$f":"ROUND([2]ResourceLevelConfig!$G65*0.05,0)","v":80},{"$f":"ROUND([2]ResourceLevelConfig!$H65*0.05,0)","v":80},261]
[62,{"$f":"ROUND([2]ResourceLevelConfig!$E66*0.05,0)","v":81},{"$f":"ROUND([2]ResourceLevelConfig!$C66*0.05,0)","v":81},{"$f":"ROUND([2]ResourceLevelConfig!$G66*0.05,0)","v":81},{"$f":"ROUND([2]ResourceLevelConfig!$H66*0.05,0)","v":81},262]
[63,{"$f":"ROUND([2]ResourceLevelConfig!$E67*0.05,0)","v":81},{"$f":"ROUND([2]ResourceLevelConfig!$C67*0.05,0)","v":81},{"$f":"ROUND([2]ResourceLevelConfig!$G67*0.05,0)","v":81},{"$f":"ROUND([2]ResourceLevelConfig!$H67*0.05,0)","v":81},263]
[64,{"$f":"ROUND([2]ResourceLevelConfig!$E68*0.05,0)","v":82},{"$f":"ROUND([2]ResourceLevelConfig!$C68*0.05,0)","v":82},{"$f":"ROUND([2]ResourceLevelConfig!$G68*0.05,0)","v":82},{"$f":"ROUND([2]ResourceLevelConfig!$H68*0.05,0)","v":82},264]
[65,{"$f":"ROUND([2]ResourceLevelConfig!$E69*0.05,0)","v":82},{"$f":"ROUND([2]ResourceLevelConfig!$C69*0.05,0)","v":82},{"$f":"ROUND([2]ResourceLevelConfig!$G69*0.05,0)","v":82},{"$f":"ROUND([2]ResourceLevelConfig!$H69*0.05,0)","v":82},265]
[66,{"$f":"ROUND([2]ResourceLevelConfig!$E70*0.05,0)","v":83},{"$f":"ROUND([2]ResourceLevelConfig!$C70*0.05,0)","v":83},{"$f":"ROUND([2]ResourceLevelConfig!$G70*0.05,0)","v":83},{"$f":"ROUND([2]ResourceLevelConfig!$H70*0.05,0)","v":83},266]
[67,{"$f":"ROUND([2]ResourceLevelConfig!$E71*0.05,0)","v":83},{"$f":"ROUND([2]ResourceLevelConfig!$C71*0.05,0)","v":83},{"$f":"ROUND([2]ResourceLevelConfig!$G71*0.05,0)","v":83},{"$f":"ROUND([2]ResourceLevelConfig!$H71*0.05,0)","v":83},267]
[68,{"$f":"ROUND([2]ResourceLevelConfig!$E72*0.05,0)","v":84},{"$f":"ROUND([2]ResourceLevelConfig!$C72*0.05,0)","v":84},{"$f":"ROUND([2]ResourceLevelConfig!$G72*0.05,0)","v":84},{"$f":"ROUND([2]ResourceLevelConfig!$H72*0.05,0)","v":84},268]
[69,{"$f":"ROUND([2]ResourceLevelConfig!$E73*0.05,0)","v":84},{"$f":"ROUND([2]ResourceLevelConfig!$C73*0.05,0)","v":84},{"$f":"ROUND([2]ResourceLevelConfig!$G73*0.05,0)","v":84},{"$f":"ROUND([2]ResourceLevelConfig!$H73*0.05,0)","v":84},269]
[70,{"$f":"ROUND([2]ResourceLevelConfig!$E74*0.05,0)","v":85},{"$f":"ROUND([2]ResourceLevelConfig!$C74*0.05,0)","v":85},{"$f":"ROUND([2]ResourceLevelConfig!$G74*0.05,0)","v":85},{"$f":"ROUND([2]ResourceLevelConfig!$H74*0.05,0)","v":85},270]
[71,{"$f":"ROUND([2]ResourceLevelConfig!$E75*0.05,0)","v":85},{"$f":"ROUND([2]ResourceLevelConfig!$C75*0.05,0)","v":85},{"$f":"ROUND([2]ResourceLevelConfig!$G75*0.05,0)","v":85},{"$f":"ROUND([2]ResourceLevelConfig!$H75*0.05,0)","v":85},271]
[72,{"$f":"ROUND([2]ResourceLevelConfig!$E76*0.05,0)","v":86},{"$f":"ROUND([2]ResourceLevelConfig!$C76*0.05,0)","v":86},{"$f":"ROUND([2]ResourceLevelConfig!$G76*0.05,0)","v":86},{"$f":"ROUND([2]ResourceLevelConfig!$H76*0.05,0)","v":86},272]
[73,{"$f":"ROUND([2]ResourceLevelConfig!$E77*0.05,0)","v":86},{"$f":"ROUND([2]ResourceLevelConfig!$C77*0.05,0)","v":86},{"$f":"ROUND([2]ResourceLevelConfig!$G77*0.05,0)","v":86},{"$f":"ROUND([2]ResourceLevelConfig!$H77*0.05,0)","v":86},273]
[74,{"$f":"ROUND([2]ResourceLevelConfig!$E78*0.05,0)","v":87},{"$f":"ROUND([2]ResourceLevelConfig!$C78*0.05,0)","v":87},{"$f":"ROUND([2]ResourceLevelConfig!$G78*0.05,0)","v":87},{"$f":"ROUND([2]ResourceLevelConfig!$H78*0.05,0)","v":87},274]
[75,{"$f":"ROUND([2]ResourceLevelConfig!$E79*0.05,0)","v":87},{"$f":"ROUND([2]ResourceLevelConfig!$C79*0.05,0)","v":87},{"$f":"ROUND([2]ResourceLevelConfig!$G79*0.05,0)","v":87},{"$f":"ROUND([2]ResourceLevelConfig!$H79*0.05,0)","v":87},275]
[76,{"$f":"ROUND([2]ResourceLevelConfig!$E80*0.05,0)","v":88},{"$f":"ROUND([2]ResourceLevelConfig!$C80*0.05,0)","v":88},{"$f":"ROUND([2]ResourceLevelConfig!$G80*0.05,0)","v":88},{"$f":"ROUND([2]ResourceLevelConfig!$H80*0.05,0)","v":88},276]
[77,{"$f":"ROUND([2]ResourceLevelConfig!$E81*0.05,0)","v":88},{"$f":"ROUND([2]ResourceLevelConfig!$C81*0.05,0)","v":88},{"$f":"ROUND([2]ResourceLevelConfig!$G81*0.05,0)","v":88},{"$f":"ROUND([2]ResourceLevelConfig!$H81*0.05,0)","v":88},277]
[78,{"$f":"ROUND([2]ResourceLevelConfig!$E82*0.05,0)","v":89},{"$f":"ROUND([2]ResourceLevelConfig!$C82*0.05,0)","v":89},{"$f":"ROUND([2]ResourceLevelConfig!$G82*0.05,0)","v":89},{"$f":"ROUND([2]ResourceLevelConfig!$H82*0.05,0)","v":89},278]
[79,{"$f":"ROUND([2]ResourceLevelConfig!$E83*0.05,0)","v":89},{"$f":"ROUND([2]ResourceLevelConfig!$C83*0.05,0)","v":89},{"$f":"ROUND([2]ResourceLevelConfig!$G83*0.05,0)","v":89},{"$f":"ROUND([2]ResourceLevelConfig!$H83*0.05,0)","v":89},279]
[80,{"$f":"ROUND([2]ResourceLevelConfig!$E84*0.05,0)","v":90},{"$f":"ROUND([2]ResourceLevelConfig!$C84*0.05,0)","v":90},{"$f":"ROUND([2]ResourceLevelConfig!$G84*0.05,0)","v":90},{"$f":"ROUND([2]ResourceLevelConfig!$H84*0.05,0)","v":90},280]
[81,{"$f":"ROUND([2]ResourceLevelConfig!$E85*0.05,0)","v":90},{"$f":"ROUND([2]ResourceLevelConfig!$C85*0.05,0)","v":90},{"$f":"ROUND([2]ResourceLevelConfig!$G85*0.05,0)","v":90},{"$f":"ROUND([2]ResourceLevelConfig!$H85*0.05,0)","v":90},281]
[82,{"$f":"ROUND([2]ResourceLevelConfig!$E86*0.05,0)","v":91},{"$f":"ROUND([2]ResourceLevelConfig!$C86*0.05,0)","v":91},{"$f":"ROUND([2]ResourceLevelConfig!$G86*0.05,0)","v":91},{"$f":"ROUND([2]ResourceLevelConfig!$H86*0.05,0)","v":91},282]
[83,{"$f":"ROUND([2]ResourceLevelConfig!$E87*0.05,0)","v":91},{"$f":"ROUND([2]ResourceLevelConfig!$C87*0.05,0)","v":91},{"$f":"ROUND([2]ResourceLevelConfig!$G87*0.05,0)","v":91},{"$f":"ROUND([2]ResourceLevelConfig!$H87*0.05,0)","v":91},283]
[84,{"$f":"ROUND([2]ResourceLevelConfig!$E88*0.05,0)","v":92},{"$f":"ROUND([2]ResourceLevelConfig!$C88*0.05,0)","v":92},{"$f":"ROUND([2]ResourceLevelConfig!$G88*0.05,0)","v":92},{"$f":"ROUND([2]ResourceLevelConfig!$H88*0.05,0)","v":92},284]
[85,{"$f":"ROUND([2]ResourceLevelConfig!$E89*0.05,0)","v":92},{"$f":"ROUND([2]ResourceLevelConfig!$C89*0.05,0)","v":92},{"$f":"ROUND([2]ResourceLevelConfig!$G89*0.05,0)","v":92},{"$f":"ROUND([2]ResourceLevelConfig!$H89*0.05,0)","v":92},285]
[86,{"$f":"ROUND([2]ResourceLevelConfig!$E90*0.05,0)","v":93},{"$f":"ROUND([2]ResourceLevelConfig!$C90*0.05,0)","v":93},{"$f":"ROUND([2]ResourceLevelConfig!$G90*0.05,0)","v":93},{"$f":"ROUND([2]ResourceLevelConfig!$H90*0.05,0)","v":93},286]
[87,{"$f":"ROUND([2]ResourceLevelConfig!$E91*0.05,0)","v":93},{"$f":"ROUND([2]ResourceLevelConfig!$C91*0.05,0)","v":93},{"$f":"ROUND([2]ResourceLevelConfig!$G91*0.05,0)","v":93},{"$f":"ROUND([2]ResourceLevelConfig!$H91*0.05,0)","v":93},287]
[88,{"$f":"ROUND([2]ResourceLevelConfig!$E92*0.05,0)","v":94},{"$f":"ROUND([2]ResourceLevelConfig!$C92*0.05,0)","v":94},{"$f":"ROUND([2]ResourceLevelConfig!$G92*0.05,0)","v":94},{"$f":"ROUND([2]ResourceLevelConfig!$H92*0.05,0)","v":94},288]
[89,{"$f":"ROUND([2]ResourceLevelConfig!$E93*0.05,0)","v":94},{"$f":"ROUND([2]ResourceLevelConfig!$C93*0.05,0)","v":94},{"$f":"ROUND([2]ResourceLevelConfig!$G93*0.05,0)","v":94},{"$f":"ROUND([2]ResourceLevelConfig!$H93*0.05,0)","v":94},289]
[90,{"$f":"ROUND([2]ResourceLevelConfig!$E94*0.05,0)","v":95},{"$f":"ROUND([2]ResourceLevelConfig!$C94*0.05,0)","v":95},{"$f":"ROUND([2]ResourceLevelConfig!$G94*0.05,0)","v":95},{"$f":"ROUND([2]ResourceLevelConfig!$H94*0.05,0)","v":95},290]
[91,{"$f":"ROUND([2]ResourceLevelConfig!$E95*0.05,0)","v":95},{"$f":"ROUND([2]ResourceLevelConfig!$C95*0.05,0)","v":95},{"$f":"ROUND([2]ResourceLevelConfig!$G95*0.05,0)","v":95},{"$f":"ROUND([2]ResourceLevelConfig!$H95*0.05,0)","v":95},291]
[92,{"$f":"ROUND([2]ResourceLevelConfig!$E96*0.05,0)","v":96},{"$f":"ROUND([2]ResourceLevelConfig!$C96*0.05,0)","v":96},{"$f":"ROUND([2]ResourceLevelConfig!$G96*0.05,0)","v":96},{"$f":"ROUND([2]ResourceLevelConfig!$H96*0.05,0)","v":96},292]
[93,{"$f":"ROUND([2]ResourceLevelConfig!$E97*0.05,0)","v":96},{"$f":"ROUND([2]ResourceLevelConfig!$C97*0.05,0)","v":96},{"$f":"ROUND([2]ResourceLevelConfig!$G97*0.05,0)","v":96},{"$f":"ROUND([2]ResourceLevelConfig!$H97*0.05,0)","v":96},293]
[94,{"$f":"ROUND([2]ResourceLevelConfig!$E98*0.05,0)","v":97},{"$f":"ROUND([2]ResourceLevelConfig!$C98*0.05,0)","v":97},{"$f":"ROUND([2]ResourceLevelConfig!$G98*0.05,0)","v":97},{"$f":"ROUND([2]ResourceLevelConfig!$H98*0.05,0)","v":97},294]
[95,{"$f":"ROUND([2]ResourceLevelConfig!$E99*0.05,0)","v":97},{"$f":"ROUND([2]ResourceLevelConfig!$C99*0.05,0)","v":97},{"$f":"ROUND([2]ResourceLevelConfig!$G99*0.05,0)","v":97},{"$f":"ROUND([2]ResourceLevelConfig!$H99*0.05,0)","v":97},295]
[96,{"$f":"ROUND([2]ResourceLevelConfig!$E100*0.05,0)","v":98},{"$f":"ROUND([2]ResourceLevelConfig!$C100*0.05,0)","v":98},{"$f":"ROUND([2]ResourceLevelConfig!$G100*0.05,0)","v":98},{"$f":"ROUND([2]ResourceLevelConfig!$H100*0.05,0)","v":98},296]
[97,{"$f":"ROUND([2]ResourceLevelConfig!$E101*0.05,0)","v":98},{"$f":"ROUND([2]ResourceLevelConfig!$C101*0.05,0)","v":98},{"$f":"ROUND([2]ResourceLevelConfig!$G101*0.05,0)","v":98},{"$f":"ROUND([2]ResourceLevelConfig!$H101*0.05,0)","v":98},297]
[98,{"$f":"ROUND([2]ResourceLevelConfig!$E102*0.05,0)","v":99},{"$f":"ROUND([2]ResourceLevelConfig!$C102*0.05,0)","v":99},{"$f":"ROUND([2]ResourceLevelConfig!$G102*0.05,0)","v":99},{"$f":"ROUND([2]ResourceLevelConfig!$H102*0.05,0)","v":99},298]
[99,{"$f":"ROUND([2]ResourceLevelConfig!$E103*0.05,0)","v":99},{"$f":"ROUND([2]ResourceLevelConfig!$C103*0.05,0)","v":99},{"$f":"ROUND([2]ResourceLevelConfig!$G103*0.05,0)","v":99},{"$f":"ROUND([2]ResourceLevelConfig!$H103*0.05,0)","v":99},299]
[100,{"$f":"ROUND([2]ResourceLevelConfig!$E104*0.05,0)","v":100},{"$f":"ROUND([2]ResourceLevelConfig!$C104*0.05,0)","v":100},{"$f":"ROUND([2]ResourceLevelConfig!$G104*0.05,0)","v":100},{"$f":"ROUND([2]ResourceLevelConfig!$H104*0.05,0)","v":100},300]
[101,{"$f":"ROUND([2]ResourceLevelConfig!$E105*0.05,0)","v":100},{"$f":"ROUND([2]ResourceLevelConfig!$C105*0.05,0)","v":100},{"$f":"ROUND([2]ResourceLevelConfig!$G105*0.05,0)","v":100},{"$f":"ROUND([2]ResourceLevelConfig!$H105*0.05,0)","v":100},301]
[102,{"$f":"ROUND([2]ResourceLevelConfig!$E106*0.05,0)","v":101},{"$f":"ROUND([2]ResourceLevelConfig!$C106*0.05,0)","v":101},{"$f":"ROUND([2]ResourceLevelConfig!$G106*0.05,0)","v":101},{"$f":"ROUND([2]ResourceLevelConfig!$H106*0.05,0)","v":101},302]
[103,{"$f":"ROUND([2]ResourceLevelConfig!$E107*0.05,0)","v":101},{"$f":"ROUND([2]ResourceLevelConfig!$C107*0.05,0)","v":101},{"$f":"ROUND([2]ResourceLevelConfig!$G107*0.05,0)","v":101},{"$f":"ROUND([2]ResourceLevelConfig!$H107*0.05,0)","v":101},303]
[104,{"$f":"ROUND([2]ResourceLevelConfig!$E108*0.05,0)","v":102},{"$f":"ROUND([2]ResourceLevelConfig!$C108*0.05,0)","v":102},{"$f":"ROUND([2]ResourceLevelConfig!$G108*0.05,0)","v":102},{"$f":"ROUND([2]ResourceLevelConfig!$H108*0.05,0)","v":102},304]
[105,{"$f":"ROUND([2]ResourceLevelConfig!$E109*0.05,0)","v":102},{"$f":"ROUND([2]ResourceLevelConfig!$C109*0.05,0)","v":102},{"$f":"ROUND([2]ResourceLevelConfig!$G109*0.05,0)","v":102},{"$f":"ROUND([2]ResourceLevelConfig!$H109*0.05,0)","v":102},305]
[106,{"$f":"ROUND([2]ResourceLevelConfig!$E110*0.05,0)","v":103},{"$f":"ROUND([2]ResourceLevelConfig!$C110*0.05,0)","v":103},{"$f":"ROUND([2]ResourceLevelConfig!$G110*0.05,0)","v":103},{"$f":"ROUND([2]ResourceLevelConfig!$H110*0.05,0)","v":103},306]
[107,{"$f":"ROUND([2]ResourceLevelConfig!$E111*0.05,0)","v":103},{"$f":"ROUND([2]ResourceLevelConfig!$C111*0.05,0)","v":103},{"$f":"ROUND([2]ResourceLevelConfig!$G111*0.05,0)","v":103},{"$f":"ROUND([2]ResourceLevelConfig!$H111*0.05,0)","v":103},307]
[108,{"$f":"ROUND([2]ResourceLevelConfig!$E112*0.05,0)","v":104},{"$f":"ROUND([2]ResourceLevelConfig!$C112*0.05,0)","v":104},{"$f":"ROUND([2]ResourceLevelConfig!$G112*0.05,0)","v":104},{"$f":"ROUND([2]ResourceLevelConfig!$H112*0.05,0)","v":104},308]
[109,{"$f":"ROUND([2]ResourceLevelConfig!$E113*0.05,0)","v":104},{"$f":"ROUND([2]ResourceLevelConfig!$C113*0.05,0)","v":104},{"$f":"ROUND([2]ResourceLevelConfig!$G113*0.05,0)","v":104},{"$f":"ROUND([2]ResourceLevelConfig!$H113*0.05,0)","v":104},309]
[110,{"$f":"ROUND([2]ResourceLevelConfig!$E114*0.05,0)","v":105},{"$f":"ROUND([2]ResourceLevelConfig!$C114*0.05,0)","v":105},{"$f":"ROUND([2]ResourceLevelConfig!$G114*0.05,0)","v":105},{"$f":"ROUND([2]ResourceLevelConfig!$H114*0.05,0)","v":105},310]
[111,{"$f":"ROUND([2]ResourceLevelConfig!$E115*0.05,0)","v":105},{"$f":"ROUND([2]ResourceLevelConfig!$C115*0.05,0)","v":105},{"$f":"ROUND([2]ResourceLevelConfig!$G115*0.05,0)","v":105},{"$f":"ROUND([2]ResourceLevelConfig!$H115*0.05,0)","v":105},311]
[112,{"$f":"ROUND([2]ResourceLevelConfig!$E116*0.05,0)","v":106},{"$f":"ROUND([2]ResourceLevelConfig!$C116*0.05,0)","v":106},{"$f":"ROUND([2]ResourceLevelConfig!$G116*0.05,0)","v":106},{"$f":"ROUND([2]ResourceLevelConfig!$H116*0.05,0)","v":106},312]
[113,{"$f":"ROUND([2]ResourceLevelConfig!$E117*0.05,0)","v":106},{"$f":"ROUND([2]ResourceLevelConfig!$C117*0.05,0)","v":106},{"$f":"ROUND([2]ResourceLevelConfig!$G117*0.05,0)","v":106},{"$f":"ROUND([2]ResourceLevelConfig!$H117*0.05,0)","v":106},313]
[114,{"$f":"ROUND([2]ResourceLevelConfig!$E118*0.05,0)","v":107},{"$f":"ROUND([2]ResourceLevelConfig!$C118*0.05,0)","v":107},{"$f":"ROUND([2]ResourceLevelConfig!$G118*0.05,0)","v":107},{"$f":"ROUND([2]ResourceLevelConfig!$H118*0.05,0)","v":107},314]
[115,{"$f":"ROUND([2]ResourceLevelConfig!$E119*0.05,0)","v":107},{"$f":"ROUND([2]ResourceLevelConfig!$C119*0.05,0)","v":107},{"$f":"ROUND([2]ResourceLevelConfig!$G119*0.05,0)","v":107},{"$f":"ROUND([2]ResourceLevelConfig!$H119*0.05,0)","v":107},315]
[116,{"$f":"ROUND([2]ResourceLevelConfig!$E120*0.05,0)","v":108},{"$f":"ROUND([2]ResourceLevelConfig!$C120*0.05,0)","v":108},{"$f":"ROUND([2]ResourceLevelConfig!$G120*0.05,0)","v":108},{"$f":"ROUND([2]ResourceLevelConfig!$H120*0.05,0)","v":108},316]
[117,{"$f":"ROUND([2]ResourceLevelConfig!$E121*0.05,0)","v":108},{"$f":"ROUND([2]ResourceLevelConfig!$C121*0.05,0)","v":108},{"$f":"ROUND([2]ResourceLevelConfig!$G121*0.05,0)","v":108},{"$f":"ROUND([2]ResourceLevelConfig!$H121*0.05,0)","v":108},317]
[118,{"$f":"ROUND([2]ResourceLevelConfig!$E122*0.05,0)","v":109},{"$f":"ROUND([2]ResourceLevelConfig!$C122*0.05,0)","v":109},{"$f":"ROUND([2]ResourceLevelConfig!$G122*0.05,0)","v":109},{"$f":"ROUND([2]ResourceLevelConfig!$H122*0.05,0)","v":109},318]
[119,{"$f":"ROUND([2]ResourceLevelConfig!$E123*0.05,0)","v":109},{"$f":"ROUND([2]ResourceLevelConfig!$C123*0.05,0)","v":109},{"$f":"ROUND([2]ResourceLevelConfig!$G123*0.05,0)","v":109},{"$f":"ROUND([2]ResourceLevelConfig!$H123*0.05,0)","v":109},319]
[120,{"$f":"ROUND([2]ResourceLevelConfig!$E124*0.05,0)","v":110},{"$f":"ROUND([2]ResourceLevelConfig!$C124*0.05,0)","v":110},{"$f":"ROUND([2]ResourceLevelConfig!$G124*0.05,0)","v":110},{"$f":"ROUND([2]ResourceLevelConfig!$H124*0.05,0)","v":110},320]
[121,{"$f":"ROUND([2]ResourceLevelConfig!$E125*0.05,0)","v":110},{"$f":"ROUND([2]ResourceLevelConfig!$C125*0.05,0)","v":110},{"$f":"ROUND([2]ResourceLevelConfig!$G125*0.05,0)","v":110},{"$f":"ROUND([2]ResourceLevelConfig!$H125*0.05,0)","v":110},321]
[122,{"$f":"ROUND([2]ResourceLevelConfig!$E126*0.05,0)","v":111},{"$f":"ROUND([2]ResourceLevelConfig!$C126*0.05,0)","v":111},{"$f":"ROUND([2]ResourceLevelConfig!$G126*0.05,0)","v":111},{"$f":"ROUND([2]ResourceLevelConfig!$H126*0.05,0)","v":111},322]
[123,{"$f":"ROUND([2]ResourceLevelConfig!$E127*0.05,0)","v":111},{"$f":"ROUND([2]ResourceLevelConfig!$C127*0.05,0)","v":111},{"$f":"ROUND([2]ResourceLevelConfig!$G127*0.05,0)","v":111},{"$f":"ROUND([2]ResourceLevelConfig!$H127*0.05,0)","v":111},323]
[124,{"$f":"ROUND([2]ResourceLevelConfig!$E128*0.05,0)","v":112},{"$f":"ROUND([2]ResourceLevelConfig!$C128*0.05,0)","v":112},{"$f":"ROUND([2]ResourceLevelConfig!$G128*0.05,0)","v":112},{"$f":"ROUND([2]ResourceLevelConfig!$H128*0.05,0)","v":112},324]
[125,{"$f":"ROUND([2]ResourceLevelConfig!$E129*0.05,0)","v":112},{"$f":"ROUND([2]ResourceLevelConfig!$C129*0.05,0)","v":112},{"$f":"ROUND([2]ResourceLevelConfig!$G129*0.05,0)","v":112},{"$f":"ROUND([2]ResourceLevelConfig!$H129*0.05,0)","v":112},325]
[126,{"$f":"ROUND([2]ResourceLevelConfig!$E130*0.05,0)","v":113},{"$f":"ROUND([2]ResourceLevelConfig!$C130*0.05,0)","v":113},{"$f":"ROUND([2]ResourceLevelConfig!$G130*0.05,0)","v":113},{"$f":"ROUND([2]ResourceLevelConfig!$H130*0.05,0)","v":113},326]
[127,{"$f":"ROUND([2]ResourceLevelConfig!$E131*0.05,0)","v":113},{"$f":"ROUND([2]ResourceLevelConfig!$C131*0.05,0)","v":113},{"$f":"ROUND([2]ResourceLevelConfig!$G131*0.05,0)","v":113},{"$f":"ROUND([2]ResourceLevelConfig!$H131*0.05,0)","v":113},327]
[128,{"$f":"ROUND([2]ResourceLevelConfig!$E132*0.05,0)","v":114},{"$f":"ROUND([2]ResourceLevelConfig!$C132*0.05,0)","v":114},{"$f":"ROUND([2]ResourceLevelConfig!$G132*0.05,0)","v":114},{"$f":"ROUND([2]ResourceLevelConfig!$H132*0.05,0)","v":114},328]
[129,{"$f":"ROUND([2]ResourceLevelConfig!$E133*0.05,0)","v":114},{"$f":"ROUND([2]ResourceLevelConfig!$C133*0.05,0)","v":114},{"$f":"ROUND([2]ResourceLevelConfig!$G133*0.05,0)","v":114},{"$f":"ROUND([2]ResourceLevelConfig!$H133*0.05,0)","v":114},329]
[130,{"$f":"ROUND([2]ResourceLevelConfig!$E134*0.05,0)","v":115},{"$f":"ROUND([2]ResourceLevelConfig!$C134*0.05,0)","v":115},{"$f":"ROUND([2]ResourceLevelConfig!$G134*0.05,0)","v":115},{"$f":"ROUND([2]ResourceLevelConfig!$H134*0.05,0)","v":115},330]
[131,{"$f":"ROUND([2]ResourceLevelConfig!$E135*0.05,0)","v":115},{"$f":"ROUND([2]ResourceLevelConfig!$C135*0.05,0)","v":115},{"$f":"ROUND([2]ResourceLevelConfig!$G135*0.05,0)","v":115},{"$f":"ROUND([2]ResourceLevelConfig!$H135*0.05,0)","v":115},331]
[132,{"$f":"ROUND([2]ResourceLevelConfig!$E136*0.05,0)","v":116},{"$f":"ROUND([2]ResourceLevelConfig!$C136*0.05,0)","v":116},{"$f":"ROUND([2]ResourceLevelConfig!$G136*0.05,0)","v":116},{"$f":"ROUND([2]ResourceLevelConfig!$H136*0.05,0)","v":116},332]
[133,{"$f":"ROUND([2]ResourceLevelConfig!$E137*0.05,0)","v":116},{"$f":"ROUND([2]ResourceLevelConfig!$C137*0.05,0)","v":116},{"$f":"ROUND([2]ResourceLevelConfig!$G137*0.05,0)","v":116},{"$f":"ROUND([2]ResourceLevelConfig!$H137*0.05,0)","v":116},333]
[134,{"$f":"ROUND([2]ResourceLevelConfig!$E138*0.05,0)","v":117},{"$f":"ROUND([2]ResourceLevelConfig!$C138*0.05,0)","v":117},{"$f":"ROUND([2]ResourceLevelConfig!$G138*0.05,0)","v":117},{"$f":"ROUND([2]ResourceLevelConfig!$H138*0.05,0)","v":117},334]
[135,{"$f":"ROUND([2]ResourceLevelConfig!$E139*0.05,0)","v":117},{"$f":"ROUND([2]ResourceLevelConfig!$C139*0.05,0)","v":117},{"$f":"ROUND([2]ResourceLevelConfig!$G139*0.05,0)","v":117},{"$f":"ROUND([2]ResourceLevelConfig!$H139*0.05,0)","v":117},335]
[136,{"$f":"ROUND([2]ResourceLevelConfig!$E140*0.05,0)","v":118},{"$f":"ROUND([2]ResourceLevelConfig!$C140*0.05,0)","v":118},{"$f":"ROUND([2]ResourceLevelConfig!$G140*0.05,0)","v":118},{"$f":"ROUND([2]ResourceLevelConfig!$H140*0.05,0)","v":118},336]
[137,{"$f":"ROUND([2]ResourceLevelConfig!$E141*0.05,0)","v":118},{"$f":"ROUND([2]ResourceLevelConfig!$C141*0.05,0)","v":118},{"$f":"ROUND([2]ResourceLevelConfig!$G141*0.05,0)","v":118},{"$f":"ROUND([2]ResourceLevelConfig!$H141*0.05,0)","v":118},337]
[138,{"$f":"ROUND([2]ResourceLevelConfig!$E142*0.05,0)","v":119},{"$f":"ROUND([2]ResourceLevelConfig!$C142*0.05,0)","v":119},{"$f":"ROUND([2]ResourceLevelConfig!$G142*0.05,0)","v":119},{"$f":"ROUND([2]ResourceLevelConfig!$H142*0.05,0)","v":119},338]
[139,{"$f":"ROUND([2]ResourceLevelConfig!$E143*0.05,0)","v":119},{"$f":"ROUND([2]ResourceLevelConfig!$C143*0.05,0)","v":119},{"$f":"ROUND([2]ResourceLevelConfig!$G143*0.05,0)","v":119},{"$f":"ROUND([2]ResourceLevelConfig!$H143*0.05,0)","v":119},339]
[140,{"$f":"ROUND([2]ResourceLevelConfig!$E144*0.05,0)","v":120},{"$f":"ROUND([2]ResourceLevelConfig!$C144*0.05,0)","v":120},{"$f":"ROUND([2]ResourceLevelConfig!$G144*0.05,0)","v":120},{"$f":"ROUND([2]ResourceLevelConfig!$H144*0.05,0)","v":120},340]
[141,{"$f":"ROUND([2]ResourceLevelConfig!$E145*0.05,0)","v":120},{"$f":"ROUND([2]ResourceLevelConfig!$C145*0.05,0)","v":120},{"$f":"ROUND([2]ResourceLevelConfig!$G145*0.05,0)","v":120},{"$f":"ROUND([2]ResourceLevelConfig!$H145*0.05,0)","v":120},341]
[142,{"$f":"ROUND([2]ResourceLevelConfig!$E146*0.05,0)","v":121},{"$f":"ROUND([2]ResourceLevelConfig!$C146*0.05,0)","v":121},{"$f":"ROUND([2]ResourceLevelConfig!$G146*0.05,0)","v":121},{"$f":"ROUND([2]ResourceLevelConfig!$H146*0.05,0)","v":121},342]
[143,{"$f":"ROUND([2]ResourceLevelConfig!$E147*0.05,0)","v":121},{"$f":"ROUND([2]ResourceLevelConfig!$C147*0.05,0)","v":121},{"$f":"ROUND([2]ResourceLevelConfig!$G147*0.05,0)","v":121},{"$f":"ROUND([2]ResourceLevelConfig!$H147*0.05,0)","v":121},343]
[144,{"$f":"ROUND([2]ResourceLevelConfig!$E148*0.05,0)","v":122},{"$f":"ROUND([2]ResourceLevelConfig!$C148*0.05,0)","v":122},{"$f":"ROUND([2]ResourceLevelConfig!$G148*0.05,0)","v":122},{"$f":"ROUND([2]ResourceLevelConfig!$H148*0.05,0)","v":122},344]
[145,{"$f":"ROUND([2]ResourceLevelConfig!$E149*0.05,0)","v":122},{"$f":"ROUND([2]ResourceLevelConfig!$C149*0.05,0)","v":122},{"$f":"ROUND([2]ResourceLevelConfig!$G149*0.05,0)","v":122},{"$f":"ROUND([2]ResourceLevelConfig!$H149*0.05,0)","v":122},345]
[146,{"$f":"ROUND([2]ResourceLevelConfig!$E150*0.05,0)","v":123},{"$f":"ROUND([2]ResourceLevelConfig!$C150*0.05,0)","v":123},{"$f":"ROUND([2]ResourceLevelConfig!$G150*0.05,0)","v":123},{"$f":"ROUND([2]ResourceLevelConfig!$H150*0.05,0)","v":123},346]
[147,{"$f":"ROUND([2]ResourceLevelConfig!$E151*0.05,0)","v":123},{"$f":"ROUND([2]ResourceLevelConfig!$C151*0.05,0)","v":123},{"$f":"ROUND([2]ResourceLevelConfig!$G151*0.05,0)","v":123},{"$f":"ROUND([2]ResourceLevelConfig!$H151*0.05,0)","v":123},347]
[148,{"$f":"ROUND([2]ResourceLevelConfig!$E152*0.05,0)","v":124},{"$f":"ROUND([2]ResourceLevelConfig!$C152*0.05,0)","v":124},{"$f":"ROUND([2]ResourceLevelConfig!$G152*0.05,0)","v":124},{"$f":"ROUND([2]ResourceLevelConfig!$H152*0.05,0)","v":124},348]
[149,{"$f":"ROUND([2]ResourceLevelConfig!$E153*0.05,0)","v":124},{"$f":"ROUND([2]ResourceLevelConfig!$C153*0.05,0)","v":124},{"$f":"ROUND([2]ResourceLevelConfig!$G153*0.05,0)","v":124},{"$f":"ROUND([2]ResourceLevelConfig!$H153*0.05,0)","v":124},349]
[150,{"$f":"ROUND([2]ResourceLevelConfig!$E154*0.05,0)","v":125},{"$f":"ROUND([2]ResourceLevelConfig!$C154*0.05,0)","v":125},{"$f":"ROUND([2]ResourceLevelConfig!$G154*0.05,0)","v":125},{"$f":"ROUND([2]ResourceLevelConfig!$H154*0.05,0)","v":125},350]
[151,{"$f":"ROUND([2]ResourceLevelConfig!$E155*0.05,0)","v":125},{"$f":"ROUND([2]ResourceLevelConfig!$C155*0.05,0)","v":125},{"$f":"ROUND([2]ResourceLevelConfig!$G155*0.05,0)","v":125},{"$f":"ROUND([2]ResourceLevelConfig!$H155*0.05,0)","v":125},351]
[152,{"$f":"ROUND([2]ResourceLevelConfig!$E156*0.05,0)","v":126},{"$f":"ROUND([2]ResourceLevelConfig!$C156*0.05,0)","v":126},{"$f":"ROUND([2]ResourceLevelConfig!$G156*0.05,0)","v":126},{"$f":"ROUND([2]ResourceLevelConfig!$H156*0.05,0)","v":126},352]
[153,{"$f":"ROUND([2]ResourceLevelConfig!$E157*0.05,0)","v":126},{"$f":"ROUND([2]ResourceLevelConfig!$C157*0.05,0)","v":126},{"$f":"ROUND([2]ResourceLevelConfig!$G157*0.05,0)","v":126},{"$f":"ROUND([2]ResourceLevelConfig!$H157*0.05,0)","v":126},353]
[154,{"$f":"ROUND([2]ResourceLevelConfig!$E158*0.05,0)","v":127},{"$f":"ROUND([2]ResourceLevelConfig!$C158*0.05,0)","v":127},{"$f":"ROUND([2]ResourceLevelConfig!$G158*0.05,0)","v":127},{"$f":"ROUND([2]ResourceLevelConfig!$H158*0.05,0)","v":127},354]
[155,{"$f":"ROUND([2]ResourceLevelConfig!$E159*0.05,0)","v":127},{"$f":"ROUND([2]ResourceLevelConfig!$C159*0.05,0)","v":127},{"$f":"ROUND([2]ResourceLevelConfig!$G159*0.05,0)","v":127},{"$f":"ROUND([2]ResourceLevelConfig!$H159*0.05,0)","v":127},355]
[156,{"$f":"ROUND([2]ResourceLevelConfig!$E160*0.05,0)","v":128},{"$f":"ROUND([2]ResourceLevelConfig!$C160*0.05,0)","v":128},{"$f":"ROUND([2]ResourceLevelConfig!$G160*0.05,0)","v":128},{"$f":"ROUND([2]ResourceLevelConfig!$H160*0.05,0)","v":128},356]
[157,{"$f":"ROUND([2]ResourceLevelConfig!$E161*0.05,0)","v":128},{"$f":"ROUND([2]ResourceLevelConfig!$C161*0.05,0)","v":128},{"$f":"ROUND([2]ResourceLevelConfig!$G161*0.05,0)","v":128},{"$f":"ROUND([2]ResourceLevelConfig!$H161*0.05,0)","v":128},357]
[158,{"$f":"ROUND([2]ResourceLevelConfig!$E162*0.05,0)","v":129},{"$f":"ROUND([2]ResourceLevelConfig!$C162*0.05,0)","v":129},{"$f":"ROUND([2]ResourceLevelConfig!$G162*0.05,0)","v":129},{"$f":"ROUND([2]ResourceLevelConfig!$H162*0.05,0)","v":129},358]
[159,{"$f":"ROUND([2]ResourceLevelConfig!$E163*0.05,0)","v":129},{"$f":"ROUND([2]ResourceLevelConfig!$C163*0.05,0)","v":129},{"$f":"ROUND([2]ResourceLevelConfig!$G163*0.05,0)","v":129},{"$f":"ROUND([2]ResourceLevelConfig!$H163*0.05,0)","v":129},359]
[160,{"$f":"ROUND([2]ResourceLevelConfig!$E164*0.05,0)","v":130},{"$f":"ROUND([2]ResourceLevelConfig!$C164*0.05,0)","v":130},{"$f":"ROUND([2]ResourceLevelConfig!$G164*0.05,0)","v":130},{"$f":"ROUND([2]ResourceLevelConfig!$H164*0.05,0)","v":130},360]
[161,{"$f":"ROUND([2]ResourceLevelConfig!$E165*0.05,0)","v":130},{"$f":"ROUND([2]ResourceLevelConfig!$C165*0.05,0)","v":130},{"$f":"ROUND([2]ResourceLevelConfig!$G165*0.05,0)","v":130},{"$f":"ROUND([2]ResourceLevelConfig!$H165*0.05,0)","v":130},361]
[162,{"$f":"ROUND([2]ResourceLevelConfig!$E166*0.05,0)","v":131},{"$f":"ROUND([2]ResourceLevelConfig!$C166*0.05,0)","v":131},{"$f":"ROUND([2]ResourceLevelConfig!$G166*0.05,0)","v":131},{"$f":"ROUND([2]ResourceLevelConfig!$H166*0.05,0)","v":131},362]
[163,{"$f":"ROUND([2]ResourceLevelConfig!$E167*0.05,0)","v":131},{"$f":"ROUND([2]ResourceLevelConfig!$C167*0.05,0)","v":131},{"$f":"ROUND([2]ResourceLevelConfig!$G167*0.05,0)","v":131},{"$f":"ROUND([2]ResourceLevelConfig!$H167*0.05,0)","v":131},363]
[164,{"$f":"ROUND([2]ResourceLevelConfig!$E168*0.05,0)","v":132},{"$f":"ROUND([2]ResourceLevelConfig!$C168*0.05,0)","v":132},{"$f":"ROUND([2]ResourceLevelConfig!$G168*0.05,0)","v":132},{"$f":"ROUND([2]ResourceLevelConfig!$H168*0.05,0)","v":132},364]
[165,{"$f":"ROUND([2]ResourceLevelConfig!$E169*0.05,0)","v":132},{"$f":"ROUND([2]ResourceLevelConfig!$C169*0.05,0)","v":132},{"$f":"ROUND([2]ResourceLevelConfig!$G169*0.05,0)","v":132},{"$f":"ROUND([2]ResourceLevelConfig!$H169*0.05,0)","v":132},365]
[166,{"$f":"ROUND([2]ResourceLevelConfig!$E170*0.05,0)","v":133},{"$f":"ROUND([2]ResourceLevelConfig!$C170*0.05,0)","v":133},{"$f":"ROUND([2]ResourceLevelConfig!$G170*0.05,0)","v":133},{"$f":"ROUND([2]ResourceLevelConfig!$H170*0.05,0)","v":133},366]
[167,{"$f":"ROUND([2]ResourceLevelConfig!$E171*0.05,0)","v":133},{"$f":"ROUND([2]ResourceLevelConfig!$C171*0.05,0)","v":133},{"$f":"ROUND([2]ResourceLevelConfig!$G171*0.05,0)","v":133},{"$f":"ROUND([2]ResourceLevelConfig!$H171*0.05,0)","v":133},367]
[168,{"$f":"ROUND([2]ResourceLevelConfig!$E172*0.05,0)","v":134},{"$f":"ROUND([2]ResourceLevelConfig!$C172*0.05,0)","v":134},{"$f":"ROUND([2]ResourceLevelConfig!$G172*0.05,0)","v":134},{"$f":"ROUND([2]ResourceLevelConfig!$H172*0.05,0)","v":134},368]
[169,{"$f":"ROUND([2]ResourceLevelConfig!$E173*0.05,0)","v":134},{"$f":"ROUND([2]ResourceLevelConfig!$C173*0.05,0)","v":134},{"$f":"ROUND([2]ResourceLevelConfig!$G173*0.05,0)","v":134},{"$f":"ROUND([2]ResourceLevelConfig!$H173*0.05,0)","v":134},369]
[170,{"$f":"ROUND([2]ResourceLevelConfig!$E174*0.05,0)","v":135},{"$f":"ROUND([2]ResourceLevelConfig!$C174*0.05,0)","v":135},{"$f":"ROUND([2]ResourceLevelConfig!$G174*0.05,0)","v":135},{"$f":"ROUND([2]ResourceLevelConfig!$H174*0.05,0)","v":135},370]
[171,{"$f":"ROUND([2]ResourceLevelConfig!$E175*0.05,0)","v":135},{"$f":"ROUND([2]ResourceLevelConfig!$C175*0.05,0)","v":135},{"$f":"ROUND([2]ResourceLevelConfig!$G175*0.05,0)","v":135},{"$f":"ROUND([2]ResourceLevelConfig!$H175*0.05,0)","v":135},371]
[172,{"$f":"ROUND([2]ResourceLevelConfig!$E176*0.05,0)","v":136},{"$f":"ROUND([2]ResourceLevelConfig!$C176*0.05,0)","v":136},{"$f":"ROUND([2]ResourceLevelConfig!$G176*0.05,0)","v":136},{"$f":"ROUND([2]ResourceLevelConfig!$H176*0.05,0)","v":136},372]
[173,{"$f":"ROUND([2]ResourceLevelConfig!$E177*0.05,0)","v":136},{"$f":"ROUND([2]ResourceLevelConfig!$C177*0.05,0)","v":136},{"$f":"ROUND([2]ResourceLevelConfig!$G177*0.05,0)","v":136},{"$f":"ROUND([2]ResourceLevelConfig!$H177*0.05,0)","v":136},373]
[174,{"$f":"ROUND([2]ResourceLevelConfig!$E178*0.05,0)","v":137},{"$f":"ROUND([2]ResourceLevelConfig!$C178*0.05,0)","v":137},{"$f":"ROUND([2]ResourceLevelConfig!$G178*0.05,0)","v":137},{"$f":"ROUND([2]ResourceLevelConfig!$H178*0.05,0)","v":137},374]
[175,{"$f":"ROUND([2]ResourceLevelConfig!$E179*0.05,0)","v":137},{"$f":"ROUND([2]ResourceLevelConfig!$C179*0.05,0)","v":137},{"$f":"ROUND([2]ResourceLevelConfig!$G179*0.05,0)","v":137},{"$f":"ROUND([2]ResourceLevelConfig!$H179*0.05,0)","v":137},375]
[176,{"$f":"ROUND([2]ResourceLevelConfig!$E180*0.05,0)","v":138},{"$f":"ROUND([2]ResourceLevelConfig!$C180*0.05,0)","v":138},{"$f":"ROUND([2]ResourceLevelConfig!$G180*0.05,0)","v":138},{"$f":"ROUND([2]ResourceLevelConfig!$H180*0.05,0)","v":138},376]
[177,{"$f":"ROUND([2]ResourceLevelConfig!$E181*0.05,0)","v":138},{"$f":"ROUND([2]ResourceLevelConfig!$C181*0.05,0)","v":138},{"$f":"ROUND([2]ResourceLevelConfig!$G181*0.05,0)","v":138},{"$f":"ROUND([2]ResourceLevelConfig!$H181*0.05,0)","v":138},377]
[178,{"$f":"ROUND([2]ResourceLevelConfig!$E182*0.05,0)","v":139},{"$f":"ROUND([2]ResourceLevelConfig!$C182*0.05,0)","v":139},{"$f":"ROUND([2]ResourceLevelConfig!$G182*0.05,0)","v":139},{"$f":"ROUND([2]ResourceLevelConfig!$H182*0.05,0)","v":139},378]
[179,{"$f":"ROUND([2]ResourceLevelConfig!$E183*0.05,0)","v":139},{"$f":"ROUND([2]ResourceLevelConfig!$C183*0.05,0)","v":139},{"$f":"ROUND([2]ResourceLevelConfig!$G183*0.05,0)","v":139},{"$f":"ROUND([2]ResourceLevelConfig!$H183*0.05,0)","v":139},379]
[180,{"$f":"ROUND([2]ResourceLevelConfig!$E184*0.05,0)","v":140},{"$f":"ROUND([2]ResourceLevelConfig!$C184*0.05,0)","v":140},{"$f":"ROUND([2]ResourceLevelConfig!$G184*0.05,0)","v":140},{"$f":"ROUND([2]ResourceLevelConfig!$H184*0.05,0)","v":140},380]
[181,{"$f":"ROUND([2]ResourceLevelConfig!$E185*0.05,0)","v":140},{"$f":"ROUND([2]ResourceLevelConfig!$C185*0.05,0)","v":140},{"$f":"ROUND([2]ResourceLevelConfig!$G185*0.05,0)","v":140},{"$f":"ROUND([2]ResourceLevelConfig!$H185*0.05,0)","v":140},381]
[182,{"$f":"ROUND([2]ResourceLevelConfig!$E186*0.05,0)","v":141},{"$f":"ROUND([2]ResourceLevelConfig!$C186*0.05,0)","v":141},{"$f":"ROUND([2]ResourceLevelConfig!$G186*0.05,0)","v":141},{"$f":"ROUND([2]ResourceLevelConfig!$H186*0.05,0)","v":141},382]
[183,{"$f":"ROUND([2]ResourceLevelConfig!$E187*0.05,0)","v":141},{"$f":"ROUND([2]ResourceLevelConfig!$C187*0.05,0)","v":141},{"$f":"ROUND([2]ResourceLevelConfig!$G187*0.05,0)","v":141},{"$f":"ROUND([2]ResourceLevelConfig!$H187*0.05,0)","v":141},383]
[184,{"$f":"ROUND([2]ResourceLevelConfig!$E188*0.05,0)","v":142},{"$f":"ROUND([2]ResourceLevelConfig!$C188*0.05,0)","v":142},{"$f":"ROUND([2]ResourceLevelConfig!$G188*0.05,0)","v":142},{"$f":"ROUND([2]ResourceLevelConfig!$H188*0.05,0)","v":142},384]
[185,{"$f":"ROUND([2]ResourceLevelConfig!$E189*0.05,0)","v":142},{"$f":"ROUND([2]ResourceLevelConfig!$C189*0.05,0)","v":142},{"$f":"ROUND([2]ResourceLevelConfig!$G189*0.05,0)","v":142},{"$f":"ROUND([2]ResourceLevelConfig!$H189*0.05,0)","v":142},385]
[186,{"$f":"ROUND([2]ResourceLevelConfig!$E190*0.05,0)","v":143},{"$f":"ROUND([2]ResourceLevelConfig!$C190*0.05,0)","v":143},{"$f":"ROUND([2]ResourceLevelConfig!$G190*0.05,0)","v":143},{"$f":"ROUND([2]ResourceLevelConfig!$H190*0.05,0)","v":143},386]
[187,{"$f":"ROUND([2]ResourceLevelConfig!$E191*0.05,0)","v":143},{"$f":"ROUND([2]ResourceLevelConfig!$C191*0.05,0)","v":143},{"$f":"ROUND([2]ResourceLevelConfig!$G191*0.05,0)","v":143},{"$f":"ROUND([2]ResourceLevelConfig!$H191*0.05,0)","v":143},387]
[188,{"$f":"ROUND([2]ResourceLevelConfig!$E192*0.05,0)","v":144},{"$f":"ROUND([2]ResourceLevelConfig!$C192*0.05,0)","v":144},{"$f":"ROUND([2]ResourceLevelConfig!$G192*0.05,0)","v":144},{"$f":"ROUND([2]ResourceLevelConfig!$H192*0.05,0)","v":144},388]
[189,{"$f":"ROUND([2]ResourceLevelConfig!$E193*0.05,0)","v":144},{"$f":"ROUND([2]ResourceLevelConfig!$C193*0.05,0)","v":144},{"$f":"ROUND([2]ResourceLevelConfig!$G193*0.05,0)","v":144},{"$f":"ROUND([2]ResourceLevelConfig!$H193*0.05,0)","v":144},389]
[190,{"$f":"ROUND([2]ResourceLevelConfig!$E194*0.05,0)","v":145},{"$f":"ROUND([2]ResourceLevelConfig!$C194*0.05,0)","v":145},{"$f":"ROUND([2]ResourceLevelConfig!$G194*0.05,0)","v":145},{"$f":"ROUND([2]ResourceLevelConfig!$H194*0.05,0)","v":145},390]
[191,{"$f":"ROUND([2]ResourceLevelConfig!$E195*0.05,0)","v":145},{"$f":"ROUND([2]ResourceLevelConfig!$C195*0.05,0)","v":145},{"$f":"ROUND([2]ResourceLevelConfig!$G195*0.05,0)","v":145},{"$f":"ROUND([2]ResourceLevelConfig!$H195*0.05,0)","v":145},391]
[192,{"$f":"ROUND([2]ResourceLevelConfig!$E196*0.05,0)","v":146},{"$f":"ROUND([2]ResourceLevelConfig!$C196*0.05,0)","v":146},{"$f":"ROUND([2]ResourceLevelConfig!$G196*0.05,0)","v":146},{"$f":"ROUND([2]ResourceLevelConfig!$H196*0.05,0)","v":146},392]
[193,{"$f":"ROUND([2]ResourceLevelConfig!$E197*0.05,0)","v":146},{"$f":"ROUND([2]ResourceLevelConfig!$C197*0.05,0)","v":146},{"$f":"ROUND([2]ResourceLevelConfig!$G197*0.05,0)","v":146},{"$f":"ROUND([2]ResourceLevelConfig!$H197*0.05,0)","v":146},393]
[194,{"$f":"ROUND([2]ResourceLevelConfig!$E198*0.05,0)","v":147},{"$f":"ROUND([2]ResourceLevelConfig!$C198*0.05,0)","v":147},{"$f":"ROUND([2]ResourceLevelConfig!$G198*0.05,0)","v":147},{"$f":"ROUND([2]ResourceLevelConfig!$H198*0.05,0)","v":147},394]
[195,{"$f":"ROUND([2]ResourceLevelConfig!$E199*0.05,0)","v":147},{"$f":"ROUND([2]ResourceLevelConfig!$C199*0.05,0)","v":147},{"$f":"ROUND([2]ResourceLevelConfig!$G199*0.05,0)","v":147},{"$f":"ROUND([2]ResourceLevelConfig!$H199*0.05,0)","v":147},395]
[196,{"$f":"ROUND([2]ResourceLevelConfig!$E200*0.05,0)","v":148},{"$f":"ROUND([2]ResourceLevelConfig!$C200*0.05,0)","v":148},{"$f":"ROUND([2]ResourceLevelConfig!$G200*0.05,0)","v":148},{"$f":"ROUND([2]ResourceLevelConfig!$H200*0.05,0)","v":148},396]
[197,{"$f":"ROUND([2]ResourceLevelConfig!$E201*0.05,0)","v":148},{"$f":"ROUND([2]ResourceLevelConfig!$C201*0.05,0)","v":148},{"$f":"ROUND([2]ResourceLevelConfig!$G201*0.05,0)","v":148},{"$f":"ROUND([2]ResourceLevelConfig!$H201*0.05,0)","v":148},397]
[198,{"$f":"ROUND([2]ResourceLevelConfig!$E202*0.05,0)","v":149},{"$f":"ROUND([2]ResourceLevelConfig!$C202*0.05,0)","v":149},{"$f":"ROUND([2]ResourceLevelConfig!$G202*0.05,0)","v":149},{"$f":"ROUND([2]ResourceLevelConfig!$H202*0.05,0)","v":149},398]
[199,{"$f":"ROUND([2]ResourceLevelConfig!$E203*0.05,0)","v":149},{"$f":"ROUND([2]ResourceLevelConfig!$C203*0.05,0)","v":149},{"$f":"ROUND([2]ResourceLevelConfig!$G203*0.05,0)","v":149},{"$f":"ROUND([2]ResourceLevelConfig!$H203*0.05,0)","v":149},399]
[200,{"$f":"ROUND([2]ResourceLevelConfig!$E204*0.05,0)","v":150},{"$f":"ROUND([2]ResourceLevelConfig!$C204*0.05,0)","v":150},{"$f":"ROUND([2]ResourceLevelConfig!$G204*0.05,0)","v":150},{"$f":"ROUND([2]ResourceLevelConfig!$H204*0.05,0)","v":150},400]
[201,{"$f":"ROUND([2]ResourceLevelConfig!$E205*0.05,0)","v":150},{"$f":"ROUND([2]ResourceLevelConfig!$C205*0.05,0)","v":150},{"$f":"ROUND([2]ResourceLevelConfig!$G205*0.05,0)","v":150},{"$f":"ROUND([2]ResourceLevelConfig!$H205*0.05,0)","v":150},401]
[202,{"$f":"ROUND([2]ResourceLevelConfig!$E206*0.05,0)","v":151},{"$f":"ROUND([2]ResourceLevelConfig!$C206*0.05,0)","v":151},{"$f":"ROUND([2]ResourceLevelConfig!$G206*0.05,0)","v":151},{"$f":"ROUND([2]ResourceLevelConfig!$H206*0.05,0)","v":151},402]
[203,{"$f":"ROUND([2]ResourceLevelConfig!$E207*0.05,0)","v":151},{"$f":"ROUND([2]ResourceLevelConfig!$C207*0.05,0)","v":151},{"$f":"ROUND([2]ResourceLevelConfig!$G207*0.05,0)","v":151},{"$f":"ROUND([2]ResourceLevelConfig!$H207*0.05,0)","v":151},403]
[204,{"$f":"ROUND([2]ResourceLevelConfig!$E208*0.05,0)","v":152},{"$f":"ROUND([2]ResourceLevelConfig!$C208*0.05,0)","v":152},{"$f":"ROUND([2]ResourceLevelConfig!$G208*0.05,0)","v":152},{"$f":"ROUND([2]ResourceLevelConfig!$H208*0.05,0)","v":152},404]
[205,{"$f":"ROUND([2]ResourceLevelConfig!$E209*0.05,0)","v":152},{"$f":"ROUND([2]ResourceLevelConfig!$C209*0.05,0)","v":152},{"$f":"ROUND([2]ResourceLevelConfig!$G209*0.05,0)","v":152},{"$f":"ROUND([2]ResourceLevelConfig!$H209*0.05,0)","v":152},405]
[206,{"$f":"ROUND([2]ResourceLevelConfig!$E210*0.05,0)","v":153},{"$f":"ROUND([2]ResourceLevelConfig!$C210*0.05,0)","v":153},{"$f":"ROUND([2]ResourceLevelConfig!$G210*0.05,0)","v":153},{"$f":"ROUND([2]ResourceLevelConfig!$H210*0.05,0)","v":153},406]
[207,{"$f":"ROUND([2]ResourceLevelConfig!$E211*0.05,0)","v":153},{"$f":"ROUND([2]ResourceLevelConfig!$C211*0.05,0)","v":153},{"$f":"ROUND([2]ResourceLevelConfig!$G211*0.05,0)","v":153},{"$f":"ROUND([2]ResourceLevelConfig!$H211*0.05,0)","v":153},407]
[208,{"$f":"ROUND([2]ResourceLevelConfig!$E212*0.05,0)","v":154},{"$f":"ROUND([2]ResourceLevelConfig!$C212*0.05,0)","v":154},{"$f":"ROUND([2]ResourceLevelConfig!$G212*0.05,0)","v":154},{"$f":"ROUND([2]ResourceLevelConfig!$H212*0.05,0)","v":154},408]
[209,{"$f":"ROUND([2]ResourceLevelConfig!$E213*0.05,0)","v":154},{"$f":"ROUND([2]ResourceLevelConfig!$C213*0.05,0)","v":154},{"$f":"ROUND([2]ResourceLevelConfig!$G213*0.05,0)","v":154},{"$f":"ROUND([2]ResourceLevelConfig!$H213*0.05,0)","v":154},409]
[210,{"$f":"ROUND([2]ResourceLevelConfig!$E214*0.05,0)","v":155},{"$f":"ROUND([2]ResourceLevelConfig!$C214*0.05,0)","v":155},{"$f":"ROUND([2]ResourceLevelConfig!$G214*0.05,0)","v":155},{"$f":"ROUND([2]ResourceLevelConfig!$H214*0.05,0)","v":155},410]
[211,{"$f":"ROUND([2]ResourceLevelConfig!$E215*0.05,0)","v":155},{"$f":"ROUND([2]ResourceLevelConfig!$C215*0.05,0)","v":155},{"$f":"ROUND([2]ResourceLevelConfig!$G215*0.05,0)","v":155},{"$f":"ROUND([2]ResourceLevelConfig!$H215*0.05,0)","v":155},411]
[212,{"$f":"ROUND([2]ResourceLevelConfig!$E216*0.05,0)","v":156},{"$f":"ROUND([2]ResourceLevelConfig!$C216*0.05,0)","v":156},{"$f":"ROUND([2]ResourceLevelConfig!$G216*0.05,0)","v":156},{"$f":"ROUND([2]ResourceLevelConfig!$H216*0.05,0)","v":156},412]
[213,{"$f":"ROUND([2]ResourceLevelConfig!$E217*0.05,0)","v":156},{"$f":"ROUND([2]ResourceLevelConfig!$C217*0.05,0)","v":156},{"$f":"ROUND([2]ResourceLevelConfig!$G217*0.05,0)","v":156},{"$f":"ROUND([2]ResourceLevelConfig!$H217*0.05,0)","v":156},413]
[214,{"$f":"ROUND([2]ResourceLevelConfig!$E218*0.05,0)","v":157},{"$f":"ROUND([2]ResourceLevelConfig!$C218*0.05,0)","v":157},{"$f":"ROUND([2]ResourceLevelConfig!$G218*0.05,0)","v":157},{"$f":"ROUND([2]ResourceLevelConfig!$H218*0.05,0)","v":157},414]
[215,{"$f":"ROUND([2]ResourceLevelConfig!$E219*0.05,0)","v":157},{"$f":"ROUND([2]ResourceLevelConfig!$C219*0.05,0)","v":157},{"$f":"ROUND([2]ResourceLevelConfig!$G219*0.05,0)","v":157},{"$f":"ROUND([2]ResourceLevelConfig!$H219*0.05,0)","v":157},415]
[216,{"$f":"ROUND([2]ResourceLevelConfig!$E220*0.05,0)","v":158},{"$f":"ROUND([2]ResourceLevelConfig!$C220*0.05,0)","v":158},{"$f":"ROUND([2]ResourceLevelConfig!$G220*0.05,0)","v":158},{"$f":"ROUND([2]ResourceLevelConfig!$H220*0.05,0)","v":158},416]
[217,{"$f":"ROUND([2]ResourceLevelConfig!$E221*0.05,0)","v":158},{"$f":"ROUND([2]ResourceLevelConfig!$C221*0.05,0)","v":158},{"$f":"ROUND([2]ResourceLevelConfig!$G221*0.05,0)","v":158},{"$f":"ROUND([2]ResourceLevelConfig!$H221*0.05,0)","v":158},417]
[218,{"$f":"ROUND([2]ResourceLevelConfig!$E222*0.05,0)","v":159},{"$f":"ROUND([2]ResourceLevelConfig!$C222*0.05,0)","v":159},{"$f":"ROUND([2]ResourceLevelConfig!$G222*0.05,0)","v":159},{"$f":"ROUND([2]ResourceLevelConfig!$H222*0.05,0)","v":159},418]
[219,{"$f":"ROUND([2]ResourceLevelConfig!$E223*0.05,0)","v":159},{"$f":"ROUND([2]ResourceLevelConfig!$C223*0.05,0)","v":159},{"$f":"ROUND([2]ResourceLevelConfig!$G223*0.05,0)","v":159},{"$f":"ROUND([2]ResourceLevelConfig!$H223*0.05,0)","v":159},419]
[220,{"$f":"ROUND([2]ResourceLevelConfig!$E224*0.05,0)","v":160},{"$f":"ROUND([2]ResourceLevelConfig!$C224*0.05,0)","v":160},{"$f":"ROUND([2]ResourceLevelConfig!$G224*0.05,0)","v":160},{"$f":"ROUND([2]ResourceLevelConfig!$H224*0.05,0)","v":160},420]
[221,{"$f":"ROUND([2]ResourceLevelConfig!$E225*0.05,0)","v":160},{"$f":"ROUND([2]ResourceLevelConfig!$C225*0.05,0)","v":160},{"$f":"ROUND([2]ResourceLevelConfig!$G225*0.05,0)","v":160},{"$f":"ROUND([2]ResourceLevelConfig!$H225*0.05,0)","v":160},421]
[222,{"$f":"ROUND([2]ResourceLevelConfig!$E226*0.05,0)","v":161},{"$f":"ROUND([2]ResourceLevelConfig!$C226*0.05,0)","v":161},{"$f":"ROUND([2]ResourceLevelConfig!$G226*0.05,0)","v":161},{"$f":"ROUND([2]ResourceLevelConfig!$H226*0.05,0)","v":161},422]
[223,{"$f":"ROUND([2]ResourceLevelConfig!$E227*0.05,0)","v":161},{"$f":"ROUND([2]ResourceLevelConfig!$C227*0.05,0)","v":161},{"$f":"ROUND([2]ResourceLevelConfig!$G227*0.05,0)","v":161},{"$f":"ROUND([2]ResourceLevelConfig!$H227*0.05,0)","v":161},423]
[224,{"$f":"ROUND([2]ResourceLevelConfig!$E228*0.05,0)","v":162},{"$f":"ROUND([2]ResourceLevelConfig!$C228*0.05,0)","v":162},{"$f":"ROUND([2]ResourceLevelConfig!$G228*0.05,0)","v":162},{"$f":"ROUND([2]ResourceLevelConfig!$H228*0.05,0)","v":162},424]
[225,{"$f":"ROUND([2]ResourceLevelConfig!$E229*0.05,0)","v":162},{"$f":"ROUND([2]ResourceLevelConfig!$C229*0.05,0)","v":162},{"$f":"ROUND([2]ResourceLevelConfig!$G229*0.05,0)","v":162},{"$f":"ROUND([2]ResourceLevelConfig!$H229*0.05,0)","v":162},425]
[226,{"$f":"ROUND([2]ResourceLevelConfig!$E230*0.05,0)","v":163},{"$f":"ROUND([2]ResourceLevelConfig!$C230*0.05,0)","v":163},{"$f":"ROUND([2]ResourceLevelConfig!$G230*0.05,0)","v":163},{"$f":"ROUND([2]ResourceLevelConfig!$H230*0.05,0)","v":163},426]
[227,{"$f":"ROUND([2]ResourceLevelConfig!$E231*0.05,0)","v":163},{"$f":"ROUND([2]ResourceLevelConfig!$C231*0.05,0)","v":163},{"$f":"ROUND([2]ResourceLevelConfig!$G231*0.05,0)","v":163},{"$f":"ROUND([2]ResourceLevelConfig!$H231*0.05,0)","v":163},427]
[228,{"$f":"ROUND([2]ResourceLevelConfig!$E232*0.05,0)","v":164},{"$f":"ROUND([2]ResourceLevelConfig!$C232*0.05,0)","v":164},{"$f":"ROUND([2]ResourceLevelConfig!$G232*0.05,0)","v":164},{"$f":"ROUND([2]ResourceLevelConfig!$H232*0.05,0)","v":164},428]
[229,{"$f":"ROUND([2]ResourceLevelConfig!$E233*0.05,0)","v":164},{"$f":"ROUND([2]ResourceLevelConfig!$C233*0.05,0)","v":164},{"$f":"ROUND([2]ResourceLevelConfig!$G233*0.05,0)","v":164},{"$f":"ROUND([2]ResourceLevelConfig!$H233*0.05,0)","v":164},429]
[230,{"$f":"ROUND([2]ResourceLevelConfig!$E234*0.05,0)","v":165},{"$f":"ROUND([2]ResourceLevelConfig!$C234*0.05,0)","v":165},{"$f":"ROUND([2]ResourceLevelConfig!$G234*0.05,0)","v":165},{"$f":"ROUND([2]ResourceLevelConfig!$H234*0.05,0)","v":165},430]
[231,{"$f":"ROUND([2]ResourceLevelConfig!$E235*0.05,0)","v":165},{"$f":"ROUND([2]ResourceLevelConfig!$C235*0.05,0)","v":165},{"$f":"ROUND([2]ResourceLevelConfig!$G235*0.05,0)","v":165},{"$f":"ROUND([2]ResourceLevelConfig!$H235*0.05,0)","v":165},431]
[232,{"$f":"ROUND([2]ResourceLevelConfig!$E236*0.05,0)","v":166},{"$f":"ROUND([2]ResourceLevelConfig!$C236*0.05,0)","v":166},{"$f":"ROUND([2]ResourceLevelConfig!$G236*0.05,0)","v":166},{"$f":"ROUND([2]ResourceLevelConfig!$H236*0.05,0)","v":166},432]
[233,{"$f":"ROUND([2]ResourceLevelConfig!$E237*0.05,0)","v":166},{"$f":"ROUND([2]ResourceLevelConfig!$C237*0.05,0)","v":166},{"$f":"ROUND([2]ResourceLevelConfig!$G237*0.05,0)","v":166},{"$f":"ROUND([2]ResourceLevelConfig!$H237*0.05,0)","v":166},433]
[234,{"$f":"ROUND([2]ResourceLevelConfig!$E238*0.05,0)","v":167},{"$f":"ROUND([2]ResourceLevelConfig!$C238*0.05,0)","v":167},{"$f":"ROUND([2]ResourceLevelConfig!$G238*0.05,0)","v":167},{"$f":"ROUND([2]ResourceLevelConfig!$H238*0.05,0)","v":167},434]
[235,{"$f":"ROUND([2]ResourceLevelConfig!$E239*0.05,0)","v":167},{"$f":"ROUND([2]ResourceLevelConfig!$C239*0.05,0)","v":167},{"$f":"ROUND([2]ResourceLevelConfig!$G239*0.05,0)","v":167},{"$f":"ROUND([2]ResourceLevelConfig!$H239*0.05,0)","v":167},435]
[236,{"$f":"ROUND([2]ResourceLevelConfig!$E240*0.05,0)","v":168},{"$f":"ROUND([2]ResourceLevelConfig!$C240*0.05,0)","v":168},{"$f":"ROUND([2]ResourceLevelConfig!$G240*0.05,0)","v":168},{"$f":"ROUND([2]ResourceLevelConfig!$H240*0.05,0)","v":168},436]
[237,{"$f":"ROUND([2]ResourceLevelConfig!$E241*0.05,0)","v":168},{"$f":"ROUND([2]ResourceLevelConfig!$C241*0.05,0)","v":168},{"$f":"ROUND([2]ResourceLevelConfig!$G241*0.05,0)","v":168},{"$f":"ROUND([2]ResourceLevelConfig!$H241*0.05,0)","v":168},437]
[238,{"$f":"ROUND([2]ResourceLevelConfig!$E242*0.05,0)","v":169},{"$f":"ROUND([2]ResourceLevelConfig!$C242*0.05,0)","v":169},{"$f":"ROUND([2]ResourceLevelConfig!$G242*0.05,0)","v":169},{"$f":"ROUND([2]ResourceLevelConfig!$H242*0.05,0)","v":169},438]
[239,{"$f":"ROUND([2]ResourceLevelConfig!$E243*0.05,0)","v":169},{"$f":"ROUND([2]ResourceLevelConfig!$C243*0.05,0)","v":169},{"$f":"ROUND([2]ResourceLevelConfig!$G243*0.05,0)","v":169},{"$f":"ROUND([2]ResourceLevelConfig!$H243*0.05,0)","v":169},439]
[240,{"$f":"ROUND([2]ResourceLevelConfig!$E244*0.05,0)","v":170},{"$f":"ROUND([2]ResourceLevelConfig!$C244*0.05,0)","v":170},{"$f":"ROUND([2]ResourceLevelConfig!$G244*0.05,0)","v":170},{"$f":"ROUND([2]ResourceLevelConfig!$H244*0.05,0)","v":170},440]
[241,{"$f":"ROUND([2]ResourceLevelConfig!$E245*0.05,0)","v":170},{"$f":"ROUND([2]ResourceLevelConfig!$C245*0.05,0)","v":170},{"$f":"ROUND([2]ResourceLevelConfig!$G245*0.05,0)","v":170},{"$f":"ROUND([2]ResourceLevelConfig!$H245*0.05,0)","v":170},441]
[242,{"$f":"ROUND([2]ResourceLevelConfig!$E246*0.05,0)","v":171},{"$f":"ROUND([2]ResourceLevelConfig!$C246*0.05,0)","v":171},{"$f":"ROUND([2]ResourceLevelConfig!$G246*0.05,0)","v":171},{"$f":"ROUND([2]ResourceLevelConfig!$H246*0.05,0)","v":171},442]
[243,{"$f":"ROUND([2]ResourceLevelConfig!$E247*0.05,0)","v":171},{"$f":"ROUND([2]ResourceLevelConfig!$C247*0.05,0)","v":171},{"$f":"ROUND([2]ResourceLevelConfig!$G247*0.05,0)","v":171},{"$f":"ROUND([2]ResourceLevelConfig!$H247*0.05,0)","v":171},443]
[244,{"$f":"ROUND([2]ResourceLevelConfig!$E248*0.05,0)","v":172},{"$f":"ROUND([2]ResourceLevelConfig!$C248*0.05,0)","v":172},{"$f":"ROUND([2]ResourceLevelConfig!$G248*0.05,0)","v":172},{"$f":"ROUND([2]ResourceLevelConfig!$H248*0.05,0)","v":172},444]
[245,{"$f":"ROUND([2]ResourceLevelConfig!$E249*0.05,0)","v":172},{"$f":"ROUND([2]ResourceLevelConfig!$C249*0.05,0)","v":172},{"$f":"ROUND([2]ResourceLevelConfig!$G249*0.05,0)","v":172},{"$f":"ROUND([2]ResourceLevelConfig!$H249*0.05,0)","v":172},445]
[246,{"$f":"ROUND([2]ResourceLevelConfig!$E250*0.05,0)","v":173},{"$f":"ROUND([2]ResourceLevelConfig!$C250*0.05,0)","v":173},{"$f":"ROUND([2]ResourceLevelConfig!$G250*0.05,0)","v":173},{"$f":"ROUND([2]ResourceLevelConfig!$H250*0.05,0)","v":173},446]
[247,{"$f":"ROUND([2]ResourceLevelConfig!$E251*0.05,0)","v":173},{"$f":"ROUND([2]ResourceLevelConfig!$C251*0.05,0)","v":173},{"$f":"ROUND([2]ResourceLevelConfig!$G251*0.05,0)","v":173},{"$f":"ROUND([2]ResourceLevelConfig!$H251*0.05,0)","v":173},447]
[248,{"$f":"ROUND([2]ResourceLevelConfig!$E252*0.05,0)","v":174},{"$f":"ROUND([2]ResourceLevelConfig!$C252*0.05,0)","v":174},{"$f":"ROUND([2]ResourceLevelConfig!$G252*0.05,0)","v":174},{"$f":"ROUND([2]ResourceLevelConfig!$H252*0.05,0)","v":174},448]
[249,{"$f":"ROUND([2]ResourceLevelConfig!$E253*0.05,0)","v":174},{"$f":"ROUND([2]ResourceLevelConfig!$C253*0.05,0)","v":174},{"$f":"ROUND([2]ResourceLevelConfig!$G253*0.05,0)","v":174},{"$f":"ROUND([2]ResourceLevelConfig!$H253*0.05,0)","v":174},449]
[250,{"$f":"ROUND([2]ResourceLevelConfig!$E254*0.05,0)","v":175},{"$f":"ROUND([2]ResourceLevelConfig!$C254*0.05,0)","v":175},{"$f":"ROUND([2]ResourceLevelConfig!$G254*0.05,0)","v":175},{"$f":"ROUND([2]ResourceLevelConfig!$H254*0.05,0)","v":175},450]
[251,{"$f":"ROUND([2]ResourceLevelConfig!$E255*0.05,0)","v":175},{"$f":"ROUND([2]ResourceLevelConfig!$C255*0.05,0)","v":175},{"$f":"ROUND([2]ResourceLevelConfig!$G255*0.05,0)","v":175},{"$f":"ROUND([2]ResourceLevelConfig!$H255*0.05,0)","v":175},451]
[252,{"$f":"ROUND([2]ResourceLevelConfig!$E256*0.05,0)","v":176},{"$f":"ROUND([2]ResourceLevelConfig!$C256*0.05,0)","v":176},{"$f":"ROUND([2]ResourceLevelConfig!$G256*0.05,0)","v":176},{"$f":"ROUND([2]ResourceLevelConfig!$H256*0.05,0)","v":176},452]
[253,{"$f":"ROUND([2]ResourceLevelConfig!$E257*0.05,0)","v":176},{"$f":"ROUND([2]ResourceLevelConfig!$C257*0.05,0)","v":176},{"$f":"ROUND([2]ResourceLevelConfig!$G257*0.05,0)","v":176},{"$f":"ROUND([2]ResourceLevelConfig!$H257*0.05,0)","v":176},453]
[254,{"$f":"ROUND([2]ResourceLevelConfig!$E258*0.05,0)","v":177},{"$f":"ROUND([2]ResourceLevelConfig!$C258*0.05,0)","v":177},{"$f":"ROUND([2]ResourceLevelConfig!$G258*0.05,0)","v":177},{"$f":"ROUND([2]ResourceLevelConfig!$H258*0.05,0)","v":177},454]
[255,{"$f":"ROUND([2]ResourceLevelConfig!$E259*0.05,0)","v":177},{"$f":"ROUND([2]ResourceLevelConfig!$C259*0.05,0)","v":177},{"$f":"ROUND([2]ResourceLevelConfig!$G259*0.05,0)","v":177},{"$f":"ROUND([2]ResourceLevelConfig!$H259*0.05,0)","v":177},455]
[256,{"$f":"ROUND([2]ResourceLevelConfig!$E260*0.05,0)","v":178},{"$f":"ROUND([2]ResourceLevelConfig!$C260*0.05,0)","v":178},{"$f":"ROUND([2]ResourceLevelConfig!$G260*0.05,0)","v":178},{"$f":"ROUND([2]ResourceLevelConfig!$H260*0.05,0)","v":178},456]
[257,{"$f":"ROUND([2]ResourceLevelConfig!$E261*0.05,0)","v":178},{"$f":"ROUND([2]ResourceLevelConfig!$C261*0.05,0)","v":178},{"$f":"ROUND([2]ResourceLevelConfig!$G261*0.05,0)","v":178},{"$f":"ROUND([2]ResourceLevelConfig!$H261*0.05,0)","v":178},457]
[258,{"$f":"ROUND([2]ResourceLevelConfig!$E262*0.05,0)","v":179},{"$f":"ROUND([2]ResourceLevelConfig!$C262*0.05,0)","v":179},{"$f":"ROUND([2]ResourceLevelConfig!$G262*0.05,0)","v":179},{"$f":"ROUND([2]ResourceLevelConfig!$H262*0.05,0)","v":179},458]
[259,{"$f":"ROUND([2]ResourceLevelConfig!$E263*0.05,0)","v":179},{"$f":"ROUND([2]ResourceLevelConfig!$C263*0.05,0)","v":179},{"$f":"ROUND([2]ResourceLevelConfig!$G263*0.05,0)","v":179},{"$f":"ROUND([2]ResourceLevelConfig!$H263*0.05,0)","v":179},459]
[260,{"$f":"ROUND([2]ResourceLevelConfig!$E264*0.05,0)","v":180},{"$f":"ROUND([2]ResourceLevelConfig!$C264*0.05,0)","v":180},{"$f":"ROUND([2]ResourceLevelConfig!$G264*0.05,0)","v":180},{"$f":"ROUND([2]ResourceLevelConfig!$H264*0.05,0)","v":180},460]
[261,{"$f":"ROUND([2]ResourceLevelConfig!$E265*0.05,0)","v":180},{"$f":"ROUND([2]ResourceLevelConfig!$C265*0.05,0)","v":180},{"$f":"ROUND([2]ResourceLevelConfig!$G265*0.05,0)","v":180},{"$f":"ROUND([2]ResourceLevelConfig!$H265*0.05,0)","v":180},461]
[262,{"$f":"ROUND([2]ResourceLevelConfig!$E266*0.05,0)","v":181},{"$f":"ROUND([2]ResourceLevelConfig!$C266*0.05,0)","v":181},{"$f":"ROUND([2]ResourceLevelConfig!$G266*0.05,0)","v":181},{"$f":"ROUND([2]ResourceLevelConfig!$H266*0.05,0)","v":181},462]
[263,{"$f":"ROUND([2]ResourceLevelConfig!$E267*0.05,0)","v":181},{"$f":"ROUND([2]ResourceLevelConfig!$C267*0.05,0)","v":181},{"$f":"ROUND([2]ResourceLevelConfig!$G267*0.05,0)","v":181},{"$f":"ROUND([2]ResourceLevelConfig!$H267*0.05,0)","v":181},463]
[264,{"$f":"ROUND([2]ResourceLevelConfig!$E268*0.05,0)","v":182},{"$f":"ROUND([2]ResourceLevelConfig!$C268*0.05,0)","v":182},{"$f":"ROUND([2]ResourceLevelConfig!$G268*0.05,0)","v":182},{"$f":"ROUND([2]ResourceLevelConfig!$H268*0.05,0)","v":182},464]
[265,{"$f":"ROUND([2]ResourceLevelConfig!$E269*0.05,0)","v":182},{"$f":"ROUND([2]ResourceLevelConfig!$C269*0.05,0)","v":182},{"$f":"ROUND([2]ResourceLevelConfig!$G269*0.05,0)","v":182},{"$f":"ROUND([2]ResourceLevelConfig!$H269*0.05,0)","v":182},465]
[266,{"$f":"ROUND([2]ResourceLevelConfig!$E270*0.05,0)","v":183},{"$f":"ROUND([2]ResourceLevelConfig!$C270*0.05,0)","v":183},{"$f":"ROUND([2]ResourceLevelConfig!$G270*0.05,0)","v":183},{"$f":"ROUND([2]ResourceLevelConfig!$H270*0.05,0)","v":183},466]
[267,{"$f":"ROUND([2]ResourceLevelConfig!$E271*0.05,0)","v":183},{"$f":"ROUND([2]ResourceLevelConfig!$C271*0.05,0)","v":183},{"$f":"ROUND([2]ResourceLevelConfig!$G271*0.05,0)","v":183},{"$f":"ROUND([2]ResourceLevelConfig!$H271*0.05,0)","v":183},467]
[268,{"$f":"ROUND([2]ResourceLevelConfig!$E272*0.05,0)","v":184},{"$f":"ROUND([2]ResourceLevelConfig!$C272*0.05,0)","v":184},{"$f":"ROUND([2]ResourceLevelConfig!$G272*0.05,0)","v":184},{"$f":"ROUND([2]ResourceLevelConfig!$H272*0.05,0)","v":184},468]
[269,{"$f":"ROUND([2]ResourceLevelConfig!$E273*0.05,0)","v":184},{"$f":"ROUND([2]ResourceLevelConfig!$C273*0.05,0)","v":184},{"$f":"ROUND([2]ResourceLevelConfig!$G273*0.05,0)","v":184},{"$f":"ROUND([2]ResourceLevelConfig!$H273*0.05,0)","v":184},469]
[270,{"$f":"ROUND([2]ResourceLevelConfig!$E274*0.05,0)","v":185},{"$f":"ROUND([2]ResourceLevelConfig!$C274*0.05,0)","v":185},{"$f":"ROUND([2]ResourceLevelConfig!$G274*0.05,0)","v":185},{"$f":"ROUND([2]ResourceLevelConfig!$H274*0.05,0)","v":185},470]
[271,{"$f":"ROUND([2]ResourceLevelConfig!$E275*0.05,0)","v":185},{"$f":"ROUND([2]ResourceLevelConfig!$C275*0.05,0)","v":185},{"$f":"ROUND([2]ResourceLevelConfig!$G275*0.05,0)","v":185},{"$f":"ROUND([2]ResourceLevelConfig!$H275*0.05,0)","v":185},471]
[272,{"$f":"ROUND([2]ResourceLevelConfig!$E276*0.05,0)","v":186},{"$f":"ROUND([2]ResourceLevelConfig!$C276*0.05,0)","v":186},{"$f":"ROUND([2]ResourceLevelConfig!$G276*0.05,0)","v":186},{"$f":"ROUND([2]ResourceLevelConfig!$H276*0.05,0)","v":186},472]
[273,{"$f":"ROUND([2]ResourceLevelConfig!$E277*0.05,0)","v":186},{"$f":"ROUND([2]ResourceLevelConfig!$C277*0.05,0)","v":186},{"$f":"ROUND([2]ResourceLevelConfig!$G277*0.05,0)","v":186},{"$f":"ROUND([2]ResourceLevelConfig!$H277*0.05,0)","v":186},473]
[274,{"$f":"ROUND([2]ResourceLevelConfig!$E278*0.05,0)","v":187},{"$f":"ROUND([2]ResourceLevelConfig!$C278*0.05,0)","v":187},{"$f":"ROUND([2]ResourceLevelConfig!$G278*0.05,0)","v":187},{"$f":"ROUND([2]ResourceLevelConfig!$H278*0.05,0)","v":187},474]
[275,{"$f":"ROUND([2]ResourceLevelConfig!$E279*0.05,0)","v":187},{"$f":"ROUND([2]ResourceLevelConfig!$C279*0.05,0)","v":187},{"$f":"ROUND([2]ResourceLevelConfig!$G279*0.05,0)","v":187},{"$f":"ROUND([2]ResourceLevelConfig!$H279*0.05,0)","v":187},475]
[276,{"$f":"ROUND([2]ResourceLevelConfig!$E280*0.05,0)","v":188},{"$f":"ROUND([2]ResourceLevelConfig!$C280*0.05,0)","v":188},{"$f":"ROUND([2]ResourceLevelConfig!$G280*0.05,0)","v":188},{"$f":"ROUND([2]ResourceLevelConfig!$H280*0.05,0)","v":188},476]
[277,{"$f":"ROUND([2]ResourceLevelConfig!$E281*0.05,0)","v":188},{"$f":"ROUND([2]ResourceLevelConfig!$C281*0.05,0)","v":188},{"$f":"ROUND([2]ResourceLevelConfig!$G281*0.05,0)","v":188},{"$f":"ROUND([2]ResourceLevelConfig!$H281*0.05,0)","v":188},477]
[278,{"$f":"ROUND([2]ResourceLevelConfig!$E282*0.05,0)","v":189},{"$f":"ROUND([2]ResourceLevelConfig!$C282*0.05,0)","v":189},{"$f":"ROUND([2]ResourceLevelConfig!$G282*0.05,0)","v":189},{"$f":"ROUND([2]ResourceLevelConfig!$H282*0.05,0)","v":189},478]
[279,{"$f":"ROUND([2]ResourceLevelConfig!$E283*0.05,0)","v":189},{"$f":"ROUND([2]ResourceLevelConfig!$C283*0.05,0)","v":189},{"$f":"ROUND([2]ResourceLevelConfig!$G283*0.05,0)","v":189},{"$f":"ROUND([2]ResourceLevelConfig!$H283*0.05,0)","v":189},479]
[280,{"$f":"ROUND([2]ResourceLevelConfig!$E284*0.05,0)","v":190},{"$f":"ROUND([2]ResourceLevelConfig!$C284*0.05,0)","v":190},{"$f":"ROUND([2]ResourceLevelConfig!$G284*0.05,0)","v":190},{"$f":"ROUND([2]ResourceLevelConfig!$H284*0.05,0)","v":190},480]
[281,{"$f":"ROUND([2]ResourceLevelConfig!$E285*0.05,0)","v":190},{"$f":"ROUND([2]ResourceLevelConfig!$C285*0.05,0)","v":190},{"$f":"ROUND([2]ResourceLevelConfig!$G285*0.05,0)","v":190},{"$f":"ROUND([2]ResourceLevelConfig!$H285*0.05,0)","v":190},481]
[282,{"$f":"ROUND([2]ResourceLevelConfig!$E286*0.05,0)","v":191},{"$f":"ROUND([2]ResourceLevelConfig!$C286*0.05,0)","v":191},{"$f":"ROUND([2]ResourceLevelConfig!$G286*0.05,0)","v":191},{"$f":"ROUND([2]ResourceLevelConfig!$H286*0.05,0)","v":191},482]
[283,{"$f":"ROUND([2]ResourceLevelConfig!$E287*0.05,0)","v":191},{"$f":"ROUND([2]ResourceLevelConfig!$C287*0.05,0)","v":191},{"$f":"ROUND([2]ResourceLevelConfig!$G287*0.05,0)","v":191},{"$f":"ROUND([2]ResourceLevelConfig!$H287*0.05,0)","v":191},483]
[284,{"$f":"ROUND([2]ResourceLevelConfig!$E288*0.05,0)","v":192},{"$f":"ROUND([2]ResourceLevelConfig!$C288*0.05,0)","v":192},{"$f":"ROUND([2]ResourceLevelConfig!$G288*0.05,0)","v":192},{"$f":"ROUND([2]ResourceLevelConfig!$H288*0.05,0)","v":192},484]
[285,{"$f":"ROUND([2]ResourceLevelConfig!$E289*0.05,0)","v":192},{"$f":"ROUND([2]ResourceLevelConfig!$C289*0.05,0)","v":192},{"$f":"ROUND([2]ResourceLevelConfig!$G289*0.05,0)","v":192},{"$f":"ROUND([2]ResourceLevelConfig!$H289*0.05,0)","v":192},485]
[286,{"$f":"ROUND([2]ResourceLevelConfig!$E290*0.05,0)","v":193},{"$f":"ROUND([2]ResourceLevelConfig!$C290*0.05,0)","v":193},{"$f":"ROUND([2]ResourceLevelConfig!$G290*0.05,0)","v":193},{"$f":"ROUND([2]ResourceLevelConfig!$H290*0.05,0)","v":193},486]
[287,{"$f":"ROUND([2]ResourceLevelConfig!$E291*0.05,0)","v":193},{"$f":"ROUND([2]ResourceLevelConfig!$C291*0.05,0)","v":193},{"$f":"ROUND([2]ResourceLevelConfig!$G291*0.05,0)","v":193},{"$f":"ROUND([2]ResourceLevelConfig!$H291*0.05,0)","v":193},487]
[288,{"$f":"ROUND([2]ResourceLevelConfig!$E292*0.05,0)","v":194},{"$f":"ROUND([2]ResourceLevelConfig!$C292*0.05,0)","v":194},{"$f":"ROUND([2]ResourceLevelConfig!$G292*0.05,0)","v":194},{"$f":"ROUND([2]ResourceLevelConfig!$H292*0.05,0)","v":194},488]
[289,{"$f":"ROUND([2]ResourceLevelConfig!$E293*0.05,0)","v":194},{"$f":"ROUND([2]ResourceLevelConfig!$C293*0.05,0)","v":194},{"$f":"ROUND([2]ResourceLevelConfig!$G293*0.05,0)","v":194},{"$f":"ROUND([2]ResourceLevelConfig!$H293*0.05,0)","v":194},489]
[290,{"$f":"ROUND([2]ResourceLevelConfig!$E294*0.05,0)","v":195},{"$f":"ROUND([2]ResourceLevelConfig!$C294*0.05,0)","v":195},{"$f":"ROUND([2]ResourceLevelConfig!$G294*0.05,0)","v":195},{"$f":"ROUND([2]ResourceLevelConfig!$H294*0.05,0)","v":195},490]
[291,{"$f":"ROUND([2]ResourceLevelConfig!$E295*0.05,0)","v":195},{"$f":"ROUND([2]ResourceLevelConfig!$C295*0.05,0)","v":195},{"$f":"ROUND([2]ResourceLevelConfig!$G295*0.05,0)","v":195},{"$f":"ROUND([2]ResourceLevelConfig!$H295*0.05,0)","v":195},491]
[292,{"$f":"ROUND([2]ResourceLevelConfig!$E296*0.05,0)","v":196},{"$f":"ROUND([2]ResourceLevelConfig!$C296*0.05,0)","v":196},{"$f":"ROUND([2]ResourceLevelConfig!$G296*0.05,0)","v":196},{"$f":"ROUND([2]ResourceLevelConfig!$H296*0.05,0)","v":196},492]
[293,{"$f":"ROUND([2]ResourceLevelConfig!$E297*0.05,0)","v":196},{"$f":"ROUND([2]ResourceLevelConfig!$C297*0.05,0)","v":196},{"$f":"ROUND([2]ResourceLevelConfig!$G297*0.05,0)","v":196},{"$f":"ROUND([2]ResourceLevelConfig!$H297*0.05,0)","v":196},493]
[294,{"$f":"ROUND([2]ResourceLevelConfig!$E298*0.05,0)","v":197},{"$f":"ROUND([2]ResourceLevelConfig!$C298*0.05,0)","v":197},{"$f":"ROUND([2]ResourceLevelConfig!$G298*0.05,0)","v":197},{"$f":"ROUND([2]ResourceLevelConfig!$H298*0.05,0)","v":197},494]
[295,{"$f":"ROUND([2]ResourceLevelConfig!$E299*0.05,0)","v":197},{"$f":"ROUND([2]ResourceLevelConfig!$C299*0.05,0)","v":197},{"$f":"ROUND([2]ResourceLevelConfig!$G299*0.05,0)","v":197},{"$f":"ROUND([2]ResourceLevelConfig!$H299*0.05,0)","v":197},495]
[296,{"$f":"ROUND([2]ResourceLevelConfig!$E300*0.05,0)","v":198},{"$f":"ROUND([2]ResourceLevelConfig!$C300*0.05,0)","v":198},{"$f":"ROUND([2]ResourceLevelConfig!$G300*0.05,0)","v":198},{"$f":"ROUND([2]ResourceLevelConfig!$H300*0.05,0)","v":198},496]
[297,{"$f":"ROUND([2]ResourceLevelConfig!$E301*0.05,0)","v":198},{"$f":"ROUND([2]ResourceLevelConfig!$C301*0.05,0)","v":198},{"$f":"ROUND([2]ResourceLevelConfig!$G301*0.05,0)","v":198},{"$f":"ROUND([2]ResourceLevelConfig!$H301*0.05,0)","v":198},497]
[298,{"$f":"ROUND([2]ResourceLevelConfig!$E302*0.05,0)","v":199},{"$f":"ROUND([2]ResourceLevelConfig!$C302*0.05,0)","v":199},{"$f":"ROUND([2]ResourceLevelConfig!$G302*0.05,0)","v":199},{"$f":"ROUND([2]ResourceLevelConfig!$H302*0.05,0)","v":199},498]
[299,{"$f":"ROUND([2]ResourceLevelConfig!$E303*0.05,0)","v":199},{"$f":"ROUND([2]ResourceLevelConfig!$C303*0.05,0)","v":199},{"$f":"ROUND([2]ResourceLevelConfig!$G303*0.05,0)","v":199},{"$f":"ROUND([2]ResourceLevelConfig!$H303*0.05,0)","v":199},499]
[300,{"$f":"ROUND([2]ResourceLevelConfig!$E304*0.05,0)","v":200},{"$f":"ROUND([2]ResourceLevelConfig!$C304*0.05,0)","v":200},{"$f":"ROUND([2]ResourceLevelConfig!$G304*0.05,0)","v":200},{"$f":"ROUND([2]ResourceLevelConfig!$H304*0.05,0)","v":200},500]