{"text_format":"2","workbook":"xlsx","n_sheets":2,"sheets":["語言配置表","LanguageChineseConfig_skill"],"not_rendered":{"charts":0,"images":0,"macros":0,"external_links":1,"defined_names":1,"comments":0,"pivot_tables":0},"unopened":[],"bounds":{"document_bytes":16777216,"sheet_cells":100000,"run_cost":"one","rows_first":2000,"rows_last":500,"rows_between":2000,"halvings":0,"cell_chars":16384,"cell_head_chars":4096},"cells_cut":0,"cells_raw":0,"read":"whole","date_system":"1900"}

{"sheet":"語言配置表","index":0,"n_rows":1641,"n_cols":7,"rows_kept":1641,"cut":false,"hidden":false,"merged":[]}
["序列","內容","注釋","類別/模組","序列"]
[]
[{"$nulls":5},"辅助1","辅助2"]
[1011010,{"$f":"CONCATENATE(IFERROR(VLOOKUP(A4,[1]SkillConfig!$D:$F,3,FALSE),\"\"),IFERROR(VLOOKUP(A4,[1]SkillConfig!$E:$G,3,FALSE),\"\"),IFERROR(VLOOKUP(A4,[1]SkillConfig!$V:$AF,11,FALSE),\"\"))","v":"太虚幻剑经"},1011010]
[1011011,{"$f":"CONCATENATE(IFERROR(VLOOKUP(A5,[1]SkillConfig!$D:$F,3,FALSE),\"\"),IFERROR(VLOOKUP(A5,[1]SkillConfig!$E:$G,3,FALSE),\"\"),IFERROR(VLOOKUP(A5,[1]SkillConfig!$V:$AF,11,FALSE),\"\"))","v":"太虚幻剑经"},1011011]
[1011012,{"$f":"CONCATENATE(IFERROR(VLOOKUP(A6,[1]SkillConfig!$D:$F,3,FALSE),\"\"),IFERROR(VLOOKUP(A6,[1]SkillConfig!$E:$G,3,FALSE),\"\"),IFERROR(VLOOKUP(A6,[1]SkillConfig!$V:$AF,11,FALSE),\"\"))","v":"太虚幻剑经"},1011012]
[1011013,{"$f":"CONCATENATE(IFERROR(VLOOKUP(A7,[1]SkillConfig!$D:$F,3,FALSE),\"\"),IFERROR(VLOOKUP(A7,[1]SkillConfig!$E:$G,3,FALSE),\"\"),IFERROR(VLOOKUP(A7,[1]SkillConfig!$V:$AF,11,FALSE),\"\"))","v":"太虚幻剑经"},1011013]
[1011014,{"$f":"CONCATENATE(IFERROR(VLOOKUP(A8,[1]SkillConfig!$D:$F,3,FALSE),\"\"),IFERROR(VLOOKUP(A8,[1]SkillConfig!$E:$G,3,FALSE),\"\"),IFERROR(VLOOKUP(A8,[1]SkillConfig!$V:$AF,11,FALSE),\"\"))","v":"太虚幻剑经"},1011014]
[1011015,{"$f":"CONCATENATE(IFERROR(VLOOKUP(A9,[1]SkillConfig!$D:$F,3,FALSE),\"\"),IFERROR(VLOOKUP(A9,[1]SkillConfig!$E:$G,3,FALSE),\"\"),IFERROR(VLOOKUP(A9,[1]SkillConfig!$V:$AF,11,FALSE),\"\"))","v":"太虚幻剑经"},1011015]
[null,{"$f":"CONCATENATE(IFERROR(VLOOKUP(A10,[1]SkillConfig!$D:$F,3,FALSE),\"\"),IFERROR(VLOOKUP(A10,[1]SkillConfig!$E:$G,3,FALSE),\"\"),IFERROR(VLOOKUP(A10,[1]SkillConfig!$V:$AF,11,FALSE),\"\"))","v":""}]
[1011020,{"$f":"CONCATENATE(IFERROR(VLOOKUP(A11,[1]SkillConfig!$D:$F,3,FALSE),\"\"),IFERROR(VLOOKUP(A11,[1]SkillConfig!$E:$G,3,FALSE),\"\"),IFERROR(VLOOKUP(A11,[1]SkillConfig!$V:$AF,11,FALSE),\"\"))","v":"天罡剑气诀"},1011020]
[1011021,{"$f":"CONCATENATE(IFERROR(VLOOKUP(A12,[1]SkillConfig!$D:$F,3,FALSE),\"\"),IFERROR(VLOOKUP(A12,[1]SkillConfig!$E:$G,3,FALSE),\"\"),IFERROR(VLOOKUP(A12,[1]SkillConfig!$V:$AF,11,FALSE),\"\"))","v":"天罡剑气诀"},1011021]
[1011022,{"$f":"CONCATENATE(IFERROR(VLOOKUP(A13,[1]SkillConfig!$D:$F,3,FALSE),\"\"),IFERROR(VLOOKUP(A13,[1]SkillConfig!$E:$G,3,FALSE),\"\"),IFERROR(VLOOKUP(A13,[1]SkillConfig!$V:$AF,11,FALSE),\"\"))","v":"天罡剑气诀"},1011022]
[1011023,{"$f":"CONCATENATE(IFERROR(VLOOKUP(A14,[1]SkillConfig!$D:$F,3,FALSE),\"\"),IFERROR(VLOOKUP(A14,[1]SkillConfig!$E:$G,3,FALSE),\"\"),IFERROR(VLOOKUP(A14,[1]SkillConfig!$V:$AF,11,FALSE),\"\"))","v":"天罡剑气诀"},1011023]
[1011024,{"$f":"CONCATENATE(IFERROR(VLOOKUP(A15,[1]SkillConfig!$D:$F,3,FALSE),\"\"),IFERROR(VLOOKUP(A15,[1]SkillConfig!$E:$G,3,FALSE),\"\"),IFERROR(VLOOKUP(A15,[1]SkillConfig!$V:$AF,11,FALSE),\"\"))","v":"天罡剑气诀"},1011024]
[1011025,{"$f":"CONCATENATE(IFERROR(VLOOKUP(A16,[1]SkillConfig!$D:$F,3,FALSE),\"\"),IFERROR(VLOOKUP(A16,[1]SkillConfig!$E:$G,3,FALSE),\"\"),IFERROR(VLOOKUP(A16,[1]SkillConfig!$V:$AF,11,FALSE),\"\"))","v":"天罡剑气诀"},1011025]
[null,{"$f":"CONCATENATE(IFERROR(VLOOKUP(A17,[1]SkillConfig!$D:$F,3,FALSE),\"\"),IFERROR(VLOOKUP(A17,[1]SkillConfig!$E:$G,3,FALSE),\"\"),IFERROR(VLOOKUP(A17,[1]SkillConfig!$V:$AF,11,FALSE),\"\"))","v":""}]
[1011030,{"$f":"CONCATENATE(IFERROR(VLOOKUP(A18,[1]SkillConfig!$D:$F,3,FALSE),\"\"),IFERROR(VLOOKUP(A18,[1]SkillConfig!$E:$G,3,FALSE),\"\"),IFERROR(VLOOKUP(A18,[1]SkillConfig!$V:$AF,11,FALSE),\"\"))","v":"血刃金煌功"},1011030]
[1011031,{"$f":"CONCATENATE(IFERROR(VLOOKUP(A19,[1]SkillConfig!$D:$F,3,FALSE),\"\"),IFERROR(VLOOKUP(A19,[1]SkillConfig!$E:$G,3,FALSE),\"\"),IFERROR(VLOOKUP(A19,[1]SkillConfig!$V:$AF,11,FALSE),\"\"))","v":"血刃金煌功"},1011031]
[1011032,{"$f":"CONCATENATE(IFERROR(VLOOKUP(A20,[1]SkillConfig!$D:$F,3,FALSE),\"\"),IFERROR(VLOOKUP(A20,[1]SkillConfig!$E:$G,3,FALSE),\"\"),IFERROR(VLOOKUP(A20,[1]SkillConfig!$V:$AF,11,FALSE),\"\"))","v":"血刃金煌功"},1011032]
[1011033,{"$f":"CONCATENATE(IFERROR(VLOOKUP(A21,[1]SkillConfig!$D:$F,3,FALSE),\"\"),IFERROR(VLOOKUP(A21,[1]SkillConfig!$E:$G,3,FALSE),\"\"),IFERROR(VLOOKUP(A21,[1]SkillConfig!$V:$AF,11,FALSE),\"\"))","v":"血刃金煌功"},1011033]
[1011034,{"$f":"CONCATENATE(IFERROR(VLOOKUP(A22,[1]SkillConfig!$D:$F,3,FALSE),\"\"),IFERROR(VLOOKUP(A22,[1]SkillConfig!$E:$G,3,FALSE),\"\"),IFERROR(VLOOKUP(A22,[1]SkillConfig!$V:$AF,11,FALSE),\"\"))","v":"血刃金煌功"},1011034]
[1011035,{"$f":"CONCATENATE(IFERROR(VLOOKUP(A23,[1]SkillConfig!$D:$F,3,FALSE),\"\"),IFERROR(VLOOKUP(A23,[1]SkillConfig!$E:$G,3,FALSE),\"\"),IFERROR(VLOOKUP(A23,[1]SkillConfig!$V:$AF,11,FALSE),\"\"))","v":"血刃金煌功"},1011035]
[null,{"$f":"CONCATENATE(IFERROR(VLOOKUP(A24,[1]SkillConfig!$D:$F,3,FALSE),\"\"),IFERROR(VLOOKUP(A24,[1]SkillConfig!$E:$G,3,FALSE),\"\"),IFERROR(VLOOKUP(A24,[1]SkillConfig!$V:$AF,11,FALSE),\"\"))","v":""}]
[1011040,{"$f":"CONCATENATE(IFERROR(VLOOKUP(A25,[1]SkillConfig!$D:$F,3,FALSE),\"\"),IFERROR(VLOOKUP(A25,[1]SkillConfig!$E:$G,3,FALSE),\"\"),IFERROR(VLOOKUP(A25,[1]SkillConfig!$V:$AF,11,FALSE),\"\"))","v":"飞刃"},1011040]
[1011041,{"$f":"CONCATENATE(IFERROR(VLOOKUP(A26,[1]SkillConfig!$D:$F,3,FALSE),\"\"),IFERROR(VLOOKUP(A26,[1]SkillConfig!$E:$G,3,FALSE),\"\"),IFERROR(VLOOKUP(A26,[1]SkillConfig!$V:$AF,11,FALSE),\"\"))","v":"飞刃"},1011041]
[1011042,{"$f":"CONCATENATE(IFERROR(VLOOKUP(A27,[1]SkillConfig!$D:$F,3,FALSE),\"\"),IFERROR(VLOOKUP(A27,[1]SkillConfig!$E:$G,3,FALSE),\"\"),IFERROR(VLOOKUP(A27,[1]SkillConfig!$V:$AF,11,FALSE),\"\"))","v":"飞刃"},1011042]
[1011043,{"$f":"CONCATENATE(IFERROR(VLOOKUP(A28,[1]SkillConfig!$D:$F,3,FALSE),\"\"),IFERROR(VLOOKUP(A28,[1]SkillConfig!$E:$G,3,FALSE),\"\"),IFERROR(VLOOKUP(A28,[1]SkillConfig!$V:$AF,11,FALSE),\"\"))","v":"飞刃"},1011043]
[1011044,{"$f":"CONCATENATE(IFERROR(VLOOKUP(A29,[1]SkillConfig!$D:$F,3,FALSE),\"\"),IFERROR(VLOOKUP(A29,[1]SkillConfig!$E:$G,3,FALSE),\"\"),IFERROR(VLOOKUP(A29,[1]SkillConfig!$V:$AF,11,FALSE),\"\"))","v":"飞刃"},1011044]
[1011045,{"$f":"CONCATENATE(IFERROR(VLOOKUP(A30,[1]SkillConfig!$D:$F,3,FALSE),\"\"),IFERROR(VLOOKUP(A30,[1]SkillConfig!$E:$G,3,FALSE),\"\"),IFERROR(VLOOKUP(A30,[1]SkillConfig!$V:$AF,11,FALSE),\"\"))","v":"飞刃"},1011045]
[null,{"$f":"CONCATENATE(IFERROR(VLOOKUP(A31,[1]SkillConfig!$D:$F,3,FALSE),\"\"),IFERROR(VLOOKUP(A31,[1]SkillConfig!$E:$G,3,FALSE),\"\"),IFERROR(VLOOKUP(A31,[1]SkillConfig!$V:$AF,11,FALSE),\"\"))","v":""}]
[1011050,{"$f":"CONCATENATE(IFERROR(VLOOKUP(A32,[1]SkillConfig!$D:$F,3,FALSE),\"\"),IFERROR(VLOOKUP(A32,[1]SkillConfig!$E:$G,3,FALSE),\"\"),IFERROR(VLOOKUP(A32,[1]SkillConfig!$V:$AF,11,FALSE),\"\"))","v":"金针"},1011050]
[1011051,{"$f":"CONCATENATE(IFERROR(VLOOKUP(A33,[1]SkillConfig!$D:$F,3,FALSE),\"\"),IFERROR(VLOOKUP(A33,[1]SkillConfig!$E:$G,3,FALSE),\"\"),IFERROR(VLOOKUP(A33,[1]SkillConfig!$V:$AF,11,FALSE),\"\"))","v":"金针"},1011051]
[1011052,{"$f":"CONCATENATE(IFERROR(VLOOKUP(A34,[1]SkillConfig!$D:$F,3,FALSE),\"\"),IFERROR(VLOOKUP(A34,[1]SkillConfig!$E:$G,3,FALSE),\"\"),IFERROR(VLOOKUP(A34,[1]SkillConfig!$V:$AF,11,FALSE),\"\"))","v":"金针"},1011052]
[1011053,{"$f":"CONCATENATE(IFERROR(VLOOKUP(A35,[1]SkillConfig!$D:$F,3,FALSE),\"\"),IFERROR(VLOOKUP(A35,[1]SkillConfig!$E:$G,3,FALSE),\"\"),IFERROR(VLOOKUP(A35,[1]SkillConfig!$V:$AF,11,FALSE),\"\"))","v":"金针"},1011053]
[1011054,{"$f":"CONCATENATE(IFERROR(VLOOKUP(A36,[1]SkillConfig!$D:$F,3,FALSE),\"\"),IFERROR(VLOOKUP(A36,[1]SkillConfig!$E:$G,3,FALSE),\"\"),IFERROR(VLOOKUP(A36,[1]SkillConfig!$V:$AF,11,FALSE),\"\"))","v":"金针"},1011054]
[1011055,{"$f":"CONCATENATE(IFERROR(VLOOKUP(A37,[1]SkillConfig!$D:$F,3,FALSE),\"\"),IFERROR(VLOOKUP(A37,[1]SkillConfig!$E:$G,3,FALSE),\"\"),IFERROR(VLOOKUP(A37,[1]SkillConfig!$V:$AF,11,FALSE),\"\"))","v":"金针"},1011055]
[null,{"$f":"CONCATENATE(IFERROR(VLOOKUP(A38,[1]SkillConfig!$D:$F,3,FALSE),\"\"),IFERROR(VLOOKUP(A38,[1]SkillConfig!$E:$G,3,FALSE),\"\"),IFERROR(VLOOKUP(A38,[1]SkillConfig!$V:$AF,11,FALSE),\"\"))","v":""}]
[1012010,{"$f":"CONCATENATE(IFERROR(VLOOKUP(A39,[1]SkillConfig!$D:$F,3,FALSE),\"\"),IFERROR(VLOOKUP(A39,[1]SkillConfig!$E:$G,3,FALSE),\"\"),IFERROR(VLOOKUP(A39,[1]SkillConfig!$V:$AF,11,FALSE),\"\"))","v":"碧落幽冥劲"},1012010]
[1012011,{"$f":"CONCATENATE(IFERROR(VLOOKUP(A40,[1]SkillConfig!$D:$F,3,FALSE),\"\"),IFERROR(VLOOKUP(A40,[1]SkillConfig!$E:$G,3,FALSE),\"\"),IFERROR(VLOOKUP(A40,[1]SkillConfig!$V:$AF,11,FALSE),\"\"))","v":"碧落幽冥劲"},1012011]
[1012012,{"$f":"CONCATENATE(IFERROR(VLOOKUP(A41,[1]SkillConfig!$D:$F,3,FALSE),\"\"),IFERROR(VLOOKUP(A41,[1]SkillConfig!$E:$G,3,FALSE),\"\"),IFERROR(VLOOKUP(A41,[1]SkillConfig!$V:$AF,11,FALSE),\"\"))","v":"碧落幽冥劲"},1012012]
[1012013,{"$f":"CONCATENATE(IFERROR(VLOOKUP(A42,[1]SkillConfig!$D:$F,3,FALSE),\"\"),IFERROR(VLOOKUP(A42,[1]SkillConfig!$E:$G,3,FALSE),\"\"),IFERROR(VLOOKUP(A42,[1]SkillConfig!$V:$AF,11,FALSE),\"\"))","v":"碧落幽冥劲"},1012013]
[1012014,{"$f":"CONCATENATE(IFERROR(VLOOKUP(A43,[1]SkillConfig!$D:$F,3,FALSE),\"\"),IFERROR(VLOOKUP(A43,[1]SkillConfig!$E:$G,3,FALSE),\"\"),IFERROR(VLOOKUP(A43,[1]SkillConfig!$V:$AF,11,FALSE),\"\"))","v":"碧落幽冥劲"},1012014]
[1012015,{"$f":"CONCATENATE(IFERROR(VLOOKUP(A44,[1]SkillConfig!$D:$F,3,FALSE),\"\"),IFERROR(VLOOKUP(A44,[1]SkillConfig!$E:$G,3,FALSE),\"\"),IFERROR(VLOOKUP(A44,[1]SkillConfig!$V:$AF,11,FALSE),\"\"))","v":"碧落幽冥劲"},1012015]
[null,{"$f":"CONCATENATE(IFERROR(VLOOKUP(A45,[1]SkillConfig!$D:$F,3,FALSE),\"\"),IFERROR(VLOOKUP(A45,[1]SkillConfig!$E:$G,3,FALSE),\"\"),IFERROR(VLOOKUP(A45,[1]SkillConfig!$V:$AF,11,FALSE),\"\"))","v":""}]
[1012020,{"$f":"CONCATENATE(IFERROR(VLOOKUP(A46,[1]SkillConfig!$D:$F,3,FALSE),\"\"),IFERROR(VLOOKUP(A46,[1]SkillConfig!$E:$G,3,FALSE),\"\"),IFERROR(VLOOKUP(A46,[1]SkillConfig!$V:$AF,11,FALSE),\"\"))","v":"雾隐千流法"},1012020]
[1012021,{"$f":"CONCATENATE(IFERROR(VLOOKUP(A47,[1]SkillConfig!$D:$F,3,FALSE),\"\"),IFERROR(VLOOKUP(A47,[1]SkillConfig!$E:$G,3,FALSE),\"\"),IFERROR(VLOOKUP(A47,[1]SkillConfig!$V:$AF,11,FALSE),\"\"))","v":"雾隐千流法"},1012021]
[1012022,{"$f":"CONCATENATE(IFERROR(VLOOKUP(A48,[1]SkillConfig!$D:$F,3,FALSE),\"\"),IFERROR(VLOOKUP(A48,[1]SkillConfig!$E:$G,3,FALSE),\"\"),IFERROR(VLOOKUP(A48,[1]SkillConfig!$V:$AF,11,FALSE),\"\"))","v":"雾隐千流法"},1012022]
[1012023,{"$f":"CONCATENATE(IFERROR(VLOOKUP(A49,[1]SkillConfig!$D:$F,3,FALSE),\"\"),IFERROR(VLOOKUP(A49,[1]SkillConfig!$E:$G,3,FALSE),\"\"),IFERROR(VLOOKUP(A49,[1]SkillConfig!$V:$AF,11,FALSE),\"\"))","v":"雾隐千流法"},1012023]
[1012024,{"$f":"CONCATENATE(IFERROR(VLOOKUP(A50,[1]SkillConfig!$D:$F,3,FALSE),\"\"),IFERROR(VLOOKUP(A50,[1]SkillConfig!$E:$G,3,FALSE),\"\"),IFERROR(VLOOKUP(A50,[1]SkillConfig!$V:$AF,11,FALSE),\"\"))","v":"雾隐千流法"},1012024]
[1012025,{"$f":"CONCATENATE(IFERROR(VLOOKUP(A51,[1]SkillConfig!$D:$F,3,FALSE),\"\"),IFERROR(VLOOKUP(A51,[1]SkillConfig!$E:$G,3,FALSE),\"\"),IFERROR(VLOOKUP(A51,[1]SkillConfig!$V:$AF,11,FALSE),\"\"))","v":"雾隐千流法"},1012025]
[null,{"$f":"CONCATENATE(IFERROR(VLOOKUP(A52,[1]SkillConfig!$D:$F,3,FALSE),\"\"),IFERROR(VLOOKUP(A52,[1]SkillConfig!$E:$G,3,FALSE),\"\"),IFERROR(VLOOKUP(A52,[1]SkillConfig!$V:$AF,11,FALSE),\"\"))","v":""}]
[null,{"$f":"CONCATENATE(IFERROR(VLOOKUP(A53,[1]SkillConfig!$D:$F,3,FALSE),\"\"),IFERROR(VLOOKUP(A53,[1]SkillConfig!$E:$G,3,FALSE),\"\"),IFERROR(VLOOKUP(A53,[1]SkillConfig!$V:$AF,11,FALSE),\"\"))","v":""},1000000]
[null,{"$f":"CONCATENATE(IFERROR(VLOOKUP(A54,[1]SkillConfig!$D:$F,3,FALSE),\"\"),IFERROR(VLOOKUP(A54,[1]SkillConfig!$E:$G,3,FALSE),\"\"),IFERROR(VLOOKUP(A54,[1]SkillConfig!$V:$AF,11,FALSE),\"\"))","v":""},1000000]
[null,{"$f":"CONCATENATE(IFERROR(VLOOKUP(A55,[1]SkillConfig!$D:$F,3,FALSE),\"\"),IFERROR(VLOOKUP(A55,[1]SkillConfig!$E:$G,3,FALSE),\"\"),IFERROR(VLOOKUP(A55,[1]SkillConfig!$V:$AF,11,FALSE),\"\"))","v":""},1000000]
[null,{"$f":"CONCATENATE(IFERROR(VLOOKUP(A56,[1]SkillConfig!$D:$F,3,FALSE),\"\"),IFERROR(VLOOKUP(A56,[1]SkillConfig!$E:$G,3,FALSE),\"\"),IFERROR(VLOOKUP(A56,[1]SkillConfig!$V:$AF,11,FALSE),\"\"))","v":""},1000000]
[null,{"$f":"CONCATENATE(IFERROR(VLOOKUP(A57,[1]SkillConfig!$D:$F,3,FALSE),\"\"),IFERROR(VLOOKUP(A57,[1]SkillConfig!$E:$G,3,FALSE),\"\"),IFERROR(VLOOKUP(A57,[1]SkillConfig!$V:$AF,11,FALSE),\"\"))","v":""},1000000]
[null,{"$f":"CONCATENATE(IFERROR(VLOOKUP(A58,[1]SkillConfig!$D:$F,3,FALSE),\"\"),IFERROR(VLOOKUP(A58,[1]SkillConfig!$E:$G,3,FALSE),\"\"),IFERROR(VLOOKUP(A58,[1]SkillConfig!$V:$AF,11,FALSE),\"\"))","v":""},1000000]
[null,{"$f":"CONCATENATE(IFERROR(VLOOKUP(A59,[1]SkillConfig!$D:$F,3,FALSE),\"\"),IFERROR(VLOOKUP(A59,[1]SkillConfig!$E:$G,3,FALSE),\"\"),IFERROR(VLOOKUP(A59,[1]SkillConfig!$V:$AF,11,FALSE),\"\"))","v":""}]
[1012040,{"$f":"CONCATENATE(IFERROR(VLOOKUP(A60,[1]SkillConfig!$D:$F,3,FALSE),\"\"),IFERROR(VLOOKUP(A60,[1]SkillConfig!$E:$G,3,FALSE),\"\"),IFERROR(VLOOKUP(A60,[1]SkillConfig!$V:$AF,11,FALSE),\"\"))","v":"水球"},1012040]
[1012041,{"$f":"CONCATENATE(IFERROR(VLOOKUP(A61,[1]SkillConfig!$D:$F,3,FALSE),\"\"),IFERROR(VLOOKUP(A61,[1]SkillConfig!$E:$G,3,FALSE),\"\"),IFERROR(VLOOKUP(A61,[1]SkillConfig!$V:$AF,11,FALSE),\"\"))","v":"水球"},1012041]
[1012042,{"$f":"CONCATENATE(IFERROR(VLOOKUP(A62,[1]SkillConfig!$D:$F,3,FALSE),\"\"),IFERROR(VLOOKUP(A62,[1]SkillConfig!$E:$G,3,FALSE),\"\"),IFERROR(VLOOKUP(A62,[1]SkillConfig!$V:$AF,11,FALSE),\"\"))","v":"水球"},1012042]
[1012043,{"$f":"CONCATENATE(IFERROR(VLOOKUP(A63,[1]SkillConfig!$D:$F,3,FALSE),\"\"),IFERROR(VLOOKUP(A63,[1]SkillConfig!$E:$G,3,FALSE),\"\"),IFERROR(VLOOKUP(A63,[1]SkillConfig!$V:$AF,11,FALSE),\"\"))","v":"水球"},1012043]
[1012044,{"$f":"CONCATENATE(IFERROR(VLOOKUP(A64,[1]SkillConfig!$D:$F,3,FALSE),\"\"),IFERROR(VLOOKUP(A64,[1]SkillConfig!$E:$G,3,FALSE),\"\"),IFERROR(VLOOKUP(A64,[1]SkillConfig!$V:$AF,11,FALSE),\"\"))","v":"水球"},1012044]
[1012045,{"$f":"CONCATENATE(IFERROR(VLOOKUP(A65,[1]SkillConfig!$D:$F,3,FALSE),\"\"),IFERROR(VLOOKUP(A65,[1]SkillConfig!$E:$G,3,FALSE),\"\"),IFERROR(VLOOKUP(A65,[1]SkillConfig!$V:$AF,11,FALSE),\"\"))","v":"水球"},1012045]
[null,{"$f":"CONCATENATE(IFERROR(VLOOKUP(A66,[1]SkillConfig!$D:$F,3,FALSE),\"\"),IFERROR(VLOOKUP(A66,[1]SkillConfig!$E:$G,3,FALSE),\"\"),IFERROR(VLOOKUP(A66,[1]SkillConfig!$V:$AF,11,FALSE),\"\"))","v":""}]
[1012050,{"$f":"CONCATENATE(IFERROR(VLOOKUP(A67,[1]SkillConfig!$D:$F,3,FALSE),\"\"),IFERROR(VLOOKUP(A67,[1]SkillConfig!$E:$G,3,FALSE),\"\"),IFERROR(VLOOKUP(A67,[1]SkillConfig!$V:$AF,11,FALSE),\"\"))","v":"冰刀"},1012050]
[1012051,{"$f":"CONCATENATE(IFERROR(VLOOKUP(A68,[1]SkillConfig!$D:$F,3,FALSE),\"\"),IFERROR(VLOOKUP(A68,[1]SkillConfig!$E:$G,3,FALSE),\"\"),IFERROR(VLOOKUP(A68,[1]SkillConfig!$V:$AF,11,FALSE),\"\"))","v":"冰刀"},1012051]
[1012052,{"$f":"CONCATENATE(IFERROR(VLOOKUP(A69,[1]SkillConfig!$D:$F,3,FALSE),\"\"),IFERROR(VLOOKUP(A69,[1]SkillConfig!$E:$G,3,FALSE),\"\"),IFERROR(VLOOKUP(A69,[1]SkillConfig!$V:$AF,11,FALSE),\"\"))","v":"冰刀"},1012052]
[1012053,{"$f":"CONCATENATE(IFERROR(VLOOKUP(A70,[1]SkillConfig!$D:$F,3,FALSE),\"\"),IFERROR(VLOOKUP(A70,[1]SkillConfig!$E:$G,3,FALSE),\"\"),IFERROR(VLOOKUP(A70,[1]SkillConfig!$V:$AF,11,FALSE),\"\"))","v":"冰刀"},1012053]
[1012054,{"$f":"CONCATENATE(IFERROR(VLOOKUP(A71,[1]SkillConfig!$D:$F,3,FALSE),\"\"),IFERROR(VLOOKUP(A71,[1]SkillConfig!$E:$G,3,FALSE),\"\"),IFERROR(VLOOKUP(A71,[1]SkillConfig!$V:$AF,11,FALSE),\"\"))","v":"冰刀"},1012054]
[1012055,{"$f":"CONCATENATE(IFERROR(VLOOKUP(A72,[1]SkillConfig!$D:$F,3,FALSE),\"\"),IFERROR(VLOOKUP(A72,[1]SkillConfig!$E:$G,3,FALSE),\"\"),IFERROR(VLOOKUP(A72,[1]SkillConfig!$V:$AF,11,FALSE),\"\"))","v":"冰刀"},1012055]
[null,{"$f":"CONCATENATE(IFERROR(VLOOKUP(A73,[1]SkillConfig!$D:$F,3,FALSE),\"\"),IFERROR(VLOOKUP(A73,[1]SkillConfig!$E:$G,3,FALSE),\"\"),IFERROR(VLOOKUP(A73,[1]SkillConfig!$V:$AF,11,FALSE),\"\"))","v":""}]
[1013010,{"$f":"CONCATENATE(IFERROR(VLOOKUP(A74,[1]SkillConfig!$D:$F,3,FALSE),\"\"),IFERROR(VLOOKUP(A74,[1]SkillConfig!$E:$G,3,FALSE),\"\"),IFERROR(VLOOKUP(A74,[1]SkillConfig!$V:$AF,11,FALSE),\"\"))","v":"瘴影千丝术"},1013010]
[1013011,{"$f":"CONCATENATE(IFERROR(VLOOKUP(A75,[1]SkillConfig!$D:$F,3,FALSE),\"\"),IFERROR(VLOOKUP(A75,[1]SkillConfig!$E:$G,3,FALSE),\"\"),IFERROR(VLOOKUP(A75,[1]SkillConfig!$V:$AF,11,FALSE),\"\"))","v":"瘴影千丝术"},1013011]
[1013012,{"$f":"CONCATENATE(IFERROR(VLOOKUP(A76,[1]SkillConfig!$D:$F,3,FALSE),\"\"),IFERROR(VLOOKUP(A76,[1]SkillConfig!$E:$G,3,FALSE),\"\"),IFERROR(VLOOKUP(A76,[1]SkillConfig!$V:$AF,11,FALSE),\"\"))","v":"瘴影千丝术"},1013012]
[1013013,{"$f":"CONCATENATE(IFERROR(VLOOKUP(A77,[1]SkillConfig!$D:$F,3,FALSE),\"\"),IFERROR(VLOOKUP(A77,[1]SkillConfig!$E:$G,3,FALSE),\"\"),IFERROR(VLOOKUP(A77,[1]SkillConfig!$V:$AF,11,FALSE),\"\"))","v":"瘴影千丝术"},1013013]
[1013014,{"$f":"CONCATENATE(IFERROR(VLOOKUP(A78,[1]SkillConfig!$D:$F,3,FALSE),\"\"),IFERROR(VLOOKUP(A78,[1]SkillConfig!$E:$G,3,FALSE),\"\"),IFERROR(VLOOKUP(A78,[1]SkillConfig!$V:$AF,11,FALSE),\"\"))","v":"瘴影千丝术"},1013014]
[1013015,{"$f":"CONCATENATE(IFERROR(VLOOKUP(A79,[1]SkillConfig!$D:$F,3,FALSE),\"\"),IFERROR(VLOOKUP(A79,[1]SkillConfig!$E:$G,3,FALSE),\"\"),IFERROR(VLOOKUP(A79,[1]SkillConfig!$V:$AF,11,FALSE),\"\"))","v":"瘴影千丝术"},1013015]
[null,{"$f":"CONCATENATE(IFERROR(VLOOKUP(A80,[1]SkillConfig!$D:$F,3,FALSE),\"\"),IFERROR(VLOOKUP(A80,[1]SkillConfig!$E:$G,3,FALSE),\"\"),IFERROR(VLOOKUP(A80,[1]SkillConfig!$V:$AF,11,FALSE),\"\"))","v":""}]
[1013020,{"$f":"CONCATENATE(IFERROR(VLOOKUP(A81,[1]SkillConfig!$D:$F,3,FALSE),\"\"),IFERROR(VLOOKUP(A81,[1]SkillConfig!$E:$G,3,FALSE),\"\"),IFERROR(VLOOKUP(A81,[1]SkillConfig!$V:$AF,11,FALSE),\"\"))","v":"蚀骨腐血掌"},1013020]
[1013021,{"$f":"CONCATENATE(IFERROR(VLOOKUP(A82,[1]SkillConfig!$D:$F,3,FALSE),\"\"),IFERROR(VLOOKUP(A82,[1]SkillConfig!$E:$G,3,FALSE),\"\"),IFERROR(VLOOKUP(A82,[1]SkillConfig!$V:$AF,11,FALSE),\"\"))","v":"蚀骨腐血掌"},1013021]
[1013022,{"$f":"CONCATENATE(IFERROR(VLOOKUP(A83,[1]SkillConfig!$D:$F,3,FALSE),\"\"),IFERROR(VLOOKUP(A83,[1]SkillConfig!$E:$G,3,FALSE),\"\"),IFERROR(VLOOKUP(A83,[1]SkillConfig!$V:$AF,11,FALSE),\"\"))","v":"蚀骨腐血掌"},1013022]
[1013023,{"$f":"CONCATENATE(IFERROR(VLOOKUP(A84,[1]SkillConfig!$D:$F,3,FALSE),\"\"),IFERROR(VLOOKUP(A84,[1]SkillConfig!$E:$G,3,FALSE),\"\"),IFERROR(VLOOKUP(A84,[1]SkillConfig!$V:$AF,11,FALSE),\"\"))","v":"蚀骨腐血掌"},1013023]
[1013024,{"$f":"CONCATENATE(IFERROR(VLOOKUP(A85,[1]SkillConfig!$D:$F,3,FALSE),\"\"),IFERROR(VLOOKUP(A85,[1]SkillConfig!$E:$G,3,FALSE),\"\"),IFERROR(VLOOKUP(A85,[1]SkillConfig!$V:$AF,11,FALSE),\"\"))","v":"蚀骨腐血掌"},1013024]
[1013025,{"$f":"CONCATENATE(IFERROR(VLOOKUP(A86,[1]SkillConfig!$D:$F,3,FALSE),\"\"),IFERROR(VLOOKUP(A86,[1]SkillConfig!$E:$G,3,FALSE),\"\"),IFERROR(VLOOKUP(A86,[1]SkillConfig!$V:$AF,11,FALSE),\"\"))","v":"蚀骨腐血掌"},1013025]
[null,{"$f":"CONCATENATE(IFERROR(VLOOKUP(A87,[1]SkillConfig!$D:$F,3,FALSE),\"\"),IFERROR(VLOOKUP(A87,[1]SkillConfig!$E:$G,3,FALSE),\"\"),IFERROR(VLOOKUP(A87,[1]SkillConfig!$V:$AF,11,FALSE),\"\"))","v":""}]
[null,{"$f":"CONCATENATE(IFERROR(VLOOKUP(A88,[1]SkillConfig!$D:$F,3,FALSE),\"\"),IFERROR(VLOOKUP(A88,[1]SkillConfig!$E:$G,3,FALSE),\"\"),IFERROR(VLOOKUP(A88,[1]SkillConfig!$V:$AF,11,FALSE),\"\"))","v":""},1000000]
[null,{"$f":"CONCATENATE(IFERROR(VLOOKUP(A89,[1]SkillConfig!$D:$F,3,FALSE),\"\"),IFERROR(VLOOKUP(A89,[1]SkillConfig!$E:$G,3,FALSE),\"\"),IFERROR(VLOOKUP(A89,[1]SkillConfig!$V:$AF,11,FALSE),\"\"))","v":""},1000000]
[null,{"$f":"CONCATENATE(IFERROR(VLOOKUP(A90,[1]SkillConfig!$D:$F,3,FALSE),\"\"),IFERROR(VLOOKUP(A90,[1]SkillConfig!$E:$G,3,FALSE),\"\"),IFERROR(VLOOKUP(A90,[1]SkillConfig!$V:$AF,11,FALSE),\"\"))","v":""},1000000]
[null,{"$f":"CONCATENATE(IFERROR(VLOOKUP(A91,[1]SkillConfig!$D:$F,3,FALSE),\"\"),IFERROR(VLOOKUP(A91,[1]SkillConfig!$E:$G,3,FALSE),\"\"),IFERROR(VLOOKUP(A91,[1]SkillConfig!$V:$AF,11,FALSE),\"\"))","v":""},1000000]
[null,{"$f":"CONCATENATE(IFERROR(VLOOKUP(A92,[1]SkillConfig!$D:$F,3,FALSE),\"\"),IFERROR(VLOOKUP(A92,[1]SkillConfig!$E:$G,3,FALSE),\"\"),IFERROR(VLOOKUP(A92,[1]SkillConfig!$V:$AF,11,FALSE),\"\"))","v":""},1000000]
[null,{"$f":"CONCATENATE(IFERROR(VLOOKUP(A93,[1]SkillConfig!$D:$F,3,FALSE),\"\"),IFERROR(VLOOKUP(A93,[1]SkillConfig!$E:$G,3,FALSE),\"\"),IFERROR(VLOOKUP(A93,[1]SkillConfig!$V:$AF,11,FALSE),\"\"))","v":""},1000000]
[null,{"$f":"CONCATENATE(IFERROR(VLOOKUP(A94,[1]SkillConfig!$D:$F,3,FALSE),\"\"),IFERROR(VLOOKUP(A94,[1]SkillConfig!$E:$G,3,FALSE),\"\"),IFERROR(VLOOKUP(A94,[1]SkillConfig!$V:$AF,11,FALSE),\"\"))","v":""}]
[1013040,{"$f":"CONCATENATE(IFERROR(VLOOKUP(A95,[1]SkillConfig!$D:$F,3,FALSE),\"\"),IFERROR(VLOOKUP(A95,[1]SkillConfig!$E:$G,3,FALSE),\"\"),IFERROR(VLOOKUP(A95,[1]SkillConfig!$V:$AF,11,FALSE),\"\"))","v":"竹刺"},1013040]
[1013041,{"$f":"CONCATENATE(IFERROR(VLOOKUP(A96,[1]SkillConfig!$D:$F,3,FALSE),\"\"),IFERROR(VLOOKUP(A96,[1]SkillConfig!$E:$G,3,FALSE),\"\"),IFERROR(VLOOKUP(A96,[1]SkillConfig!$V:$AF,11,FALSE),\"\"))","v":"竹刺"},1013041]
[1013042,{"$f":"CONCATENATE(IFERROR(VLOOKUP(A97,[1]SkillConfig!$D:$F,3,FALSE),\"\"),IFERROR(VLOOKUP(A97,[1]SkillConfig!$E:$G,3,FALSE),\"\"),IFERROR(VLOOKUP(A97,[1]SkillConfig!$V:$AF,11,FALSE),\"\"))","v":"竹刺"},1013042]
[1013043,{"$f":"CONCATENATE(IFERROR(VLOOKUP(A98,[1]SkillConfig!$D:$F,3,FALSE),\"\"),IFERROR(VLOOKUP(A98,[1]SkillConfig!$E:$G,3,FALSE),\"\"),IFERROR(VLOOKUP(A98,[1]SkillConfig!$V:$AF,11,FALSE),\"\"))","v":"竹刺"},1013043]
[1013044,{"$f":"CONCATENATE(IFERROR(VLOOKUP(A99,[1]SkillConfig!$D:$F,3,FALSE),\"\"),IFERROR(VLOOKUP(A99,[1]SkillConfig!$E:$G,3,FALSE),\"\"),IFERROR(VLOOKUP(A99,[1]SkillConfig!$V:$AF,11,FALSE),\"\"))","v":"竹刺"},1013044]
[1013045,{"$f":"CONCATENATE(IFERROR(VLOOKUP(A100,[1]SkillConfig!$D:$F,3,FALSE),\"\"),IFERROR(VLOOKUP(A100,[1]SkillConfig!$E:$G,3,FALSE),\"\"),IFERROR(VLOOKUP(A100,[1]SkillConfig!$V:$AF,11,FALSE),\"\"))","v":"竹刺"},1013045]
[null,{"$f":"CONCATENATE(IFERROR(VLOOKUP(A101,[1]SkillConfig!$D:$F,3,FALSE),\"\"),IFERROR(VLOOKUP(A101,[1]SkillConfig!$E:$G,3,FALSE),\"\"),IFERROR(VLOOKUP(A101,[1]SkillConfig!$V:$AF,11,FALSE),\"\"))","v":""}]
[1013050,{"$f":"CONCATENATE(IFERROR(VLOOKUP(A102,[1]SkillConfig!$D:$F,3,FALSE),\"\"),IFERROR(VLOOKUP(A102,[1]SkillConfig!$E:$G,3,FALSE),\"\"),IFERROR(VLOOKUP(A102,[1]SkillConfig!$V:$AF,11,FALSE),\"\"))","v":"飞叶"},1013050]
[1013051,{"$f":"CONCATENATE(IFERROR(VLOOKUP(A103,[1]SkillConfig!$D:$F,3,FALSE),\"\"),IFERROR(VLOOKUP(A103,[1]SkillConfig!$E:$G,3,FALSE),\"\"),IFERROR(VLOOKUP(A103,[1]SkillConfig!$V:$AF,11,FALSE),\"\"))","v":"飞叶"},1013051]
[1013052,{"$f":"CONCATENATE(IFERROR(VLOOKUP(A104,[1]SkillConfig!$D:$F,3,FALSE),\"\"),IFERROR(VLOOKUP(A104,[1]SkillConfig!$E:$G,3,FALSE),\"\"),IFERROR(VLOOKUP(A104,[1]SkillConfig!$V:$AF,11,FALSE),\"\"))","v":"飞叶"},1013052]
[1013053,{"$f":"CONCATENATE(IFERROR(VLOOKUP(A105,[1]SkillConfig!$D:$F,3,FALSE),\"\"),IFERROR(VLOOKUP(A105,[1]SkillConfig!$E:$G,3,FALSE),\"\"),IFERROR(VLOOKUP(A105,[1]SkillConfig!$V:$AF,11,FALSE),\"\"))","v":"飞叶"},1013053]
[1013054,{"$f":"CONCATENATE(IFERROR(VLOOKUP(A106,[1]SkillConfig!$D:$F,3,FALSE),\"\"),IFERROR(VLOOKUP(A106,[1]SkillConfig!$E:$G,3,FALSE),\"\"),IFERROR(VLOOKUP(A106,[1]SkillConfig!$V:$AF,11,FALSE),\"\"))","v":"飞叶"},1013054]
[1013055,{"$f":"CONCATENATE(IFERROR(VLOOKUP(A107,[1]SkillConfig!$D:$F,3,FALSE),\"\"),IFERROR(VLOOKUP(A107,[1]SkillConfig!$E:$G,3,FALSE),\"\"),IFERROR(VLOOKUP(A107,[1]SkillConfig!$V:$AF,11,FALSE),\"\"))","v":"飞叶"},1013055]
[null,{"$f":"CONCATENATE(IFERROR(VLOOKUP(A108,[1]SkillConfig!$D:$F,3,FALSE),\"\"),IFERROR(VLOOKUP(A108,[1]SkillConfig!$E:$G,3,FALSE),\"\"),IFERROR(VLOOKUP(A108,[1]SkillConfig!$V:$AF,11,FALSE),\"\"))","v":""}]
[1014010,{"$f":"CONCATENATE(IFERROR(VLOOKUP(A109,[1]SkillConfig!$D:$F,3,FALSE),\"\"),IFERROR(VLOOKUP(A109,[1]SkillConfig!$E:$G,3,FALSE),\"\"),IFERROR(VLOOKUP(A109,[1]SkillConfig!$V:$AF,11,FALSE),\"\"))","v":"烈焰剑"},1014010]
[1014011,{"$f":"CONCATENATE(IFERROR(VLOOKUP(A110,[1]SkillConfig!$D:$F,3,FALSE),\"\"),IFERROR(VLOOKUP(A110,[1]SkillConfig!$E:$G,3,FALSE),\"\"),IFERROR(VLOOKUP(A110,[1]SkillConfig!$V:$AF,11,FALSE),\"\"))","v":"烈焰剑"},1014011]
[1014012,{"$f":"CONCATENATE(IFERROR(VLOOKUP(A111,[1]SkillConfig!$D:$F,3,FALSE),\"\"),IFERROR(VLOOKUP(A111,[1]SkillConfig!$E:$G,3,FALSE),\"\"),IFERROR(VLOOKUP(A111,[1]SkillConfig!$V:$AF,11,FALSE),\"\"))","v":"烈焰剑"},1014012]
[1014013,{"$f":"CONCATENATE(IFERROR(VLOOKUP(A112,[1]SkillConfig!$D:$F,3,FALSE),\"\"),IFERROR(VLOOKUP(A112,[1]SkillConfig!$E:$G,3,FALSE),\"\"),IFERROR(VLOOKUP(A112,[1]SkillConfig!$V:$AF,11,FALSE),\"\"))","v":"烈焰剑"},1014013]
[1014014,{"$f":"CONCATENATE(IFERROR(VLOOKUP(A113,[1]SkillConfig!$D:$F,3,FALSE),\"\"),IFERROR(VLOOKUP(A113,[1]SkillConfig!$E:$G,3,FALSE),\"\"),IFERROR(VLOOKUP(A113,[1]SkillConfig!$V:$AF,11,FALSE),\"\"))","v":"烈焰剑"},1014014]
[1014015,{"$f":"CONCATENATE(IFERROR(VLOOKUP(A114,[1]SkillConfig!$D:$F,3,FALSE),\"\"),IFERROR(VLOOKUP(A114,[1]SkillConfig!$E:$G,3,FALSE),\"\"),IFERROR(VLOOKUP(A114,[1]SkillConfig!$V:$AF,11,FALSE),\"\"))","v":"烈焰剑"},1014015]
[null,{"$f":"CONCATENATE(IFERROR(VLOOKUP(A115,[1]SkillConfig!$D:$F,3,FALSE),\"\"),IFERROR(VLOOKUP(A115,[1]SkillConfig!$E:$G,3,FALSE),\"\"),IFERROR(VLOOKUP(A115,[1]SkillConfig!$V:$AF,11,FALSE),\"\"))","v":""}]
[1014020,{"$f":"CONCATENATE(IFERROR(VLOOKUP(A116,[1]SkillConfig!$D:$F,3,FALSE),\"\"),IFERROR(VLOOKUP(A116,[1]SkillConfig!$E:$G,3,FALSE),\"\"),IFERROR(VLOOKUP(A116,[1]SkillConfig!$V:$AF,11,FALSE),\"\"))","v":"赤焰龙吟功"},1014020]
[1014021,{"$f":"CONCATENATE(IFERROR(VLOOKUP(A117,[1]SkillConfig!$D:$F,3,FALSE),\"\"),IFERROR(VLOOKUP(A117,[1]SkillConfig!$E:$G,3,FALSE),\"\"),IFERROR(VLOOKUP(A117,[1]SkillConfig!$V:$AF,11,FALSE),\"\"))","v":"赤焰龙吟功"},1014021]
[1014022,{"$f":"CONCATENATE(IFERROR(VLOOKUP(A118,[1]SkillConfig!$D:$F,3,FALSE),\"\"),IFERROR(VLOOKUP(A118,[1]SkillConfig!$E:$G,3,FALSE),\"\"),IFERROR(VLOOKUP(A118,[1]SkillConfig!$V:$AF,11,FALSE),\"\"))","v":"赤焰龙吟功"},1014022]
[1014023,{"$f":"CONCATENATE(IFERROR(VLOOKUP(A119,[1]SkillConfig!$D:$F,3,FALSE),\"\"),IFERROR(VLOOKUP(A119,[1]SkillConfig!$E:$G,3,FALSE),\"\"),IFERROR(VLOOKUP(A119,[1]SkillConfig!$V:$AF,11,FALSE),\"\"))","v":"赤焰龙吟功"},1014023]
[1014024,{"$f":"CONCATENATE(IFERROR(VLOOKUP(A120,[1]SkillConfig!$D:$F,3,FALSE),\"\"),IFERROR(VLOOKUP(A120,[1]SkillConfig!$E:$G,3,FALSE),\"\"),IFERROR(VLOOKUP(A120,[1]SkillConfig!$V:$AF,11,FALSE),\"\"))","v":"赤焰龙吟功"},1014024]
[1014025,{"$f":"CONCATENATE(IFERROR(VLOOKUP(A121,[1]SkillConfig!$D:$F,3,FALSE),\"\"),IFERROR(VLOOKUP(A121,[1]SkillConfig!$E:$G,3,FALSE),\"\"),IFERROR(VLOOKUP(A121,[1]SkillConfig!$V:$AF,11,FALSE),\"\"))","v":"赤焰龙吟功"},1014025]
[null,{"$f":"CONCATENATE(IFERROR(VLOOKUP(A122,[1]SkillConfig!$D:$F,3,FALSE),\"\"),IFERROR(VLOOKUP(A122,[1]SkillConfig!$E:$G,3,FALSE),\"\"),IFERROR(VLOOKUP(A122,[1]SkillConfig!$V:$AF,11,FALSE),\"\"))","v":""}]
[1014030,{"$f":"CONCATENATE(IFERROR(VLOOKUP(A123,[1]SkillConfig!$D:$F,3,FALSE),\"\"),IFERROR(VLOOKUP(A123,[1]SkillConfig!$E:$G,3,FALSE),\"\"),IFERROR(VLOOKUP(A123,[1]SkillConfig!$V:$AF,11,FALSE),\"\"))","v":"朱雀燎原指"},1014030]
[1014031,{"$f":"CONCATENATE(IFERROR(VLOOKUP(A124,[1]SkillConfig!$D:$F,3,FALSE),\"\"),IFERROR(VLOOKUP(A124,[1]SkillConfig!$E:$G,3,FALSE),\"\"),IFERROR(VLOOKUP(A124,[1]SkillConfig!$V:$AF,11,FALSE),\"\"))","v":"朱雀燎原指"},1014031]
[1014032,{"$f":"CONCATENATE(IFERROR(VLOOKUP(A125,[1]SkillConfig!$D:$F,3,FALSE),\"\"),IFERROR(VLOOKUP(A125,[1]SkillConfig!$E:$G,3,FALSE),\"\"),IFERROR(VLOOKUP(A125,[1]SkillConfig!$V:$AF,11,FALSE),\"\"))","v":"朱雀燎原指"},1014032]
[1014033,{"$f":"CONCATENATE(IFERROR(VLOOKUP(A126,[1]SkillConfig!$D:$F,3,FALSE),\"\"),IFERROR(VLOOKUP(A126,[1]SkillConfig!$E:$G,3,FALSE),\"\"),IFERROR(VLOOKUP(A126,[1]SkillConfig!$V:$AF,11,FALSE),\"\"))","v":"朱雀燎原指"},1014033]
[1014034,{"$f":"CONCATENATE(IFERROR(VLOOKUP(A127,[1]SkillConfig!$D:$F,3,FALSE),\"\"),IFERROR(VLOOKUP(A127,[1]SkillConfig!$E:$G,3,FALSE),\"\"),IFERROR(VLOOKUP(A127,[1]SkillConfig!$V:$AF,11,FALSE),\"\"))","v":"朱雀燎原指"},1014034]
[1014035,{"$f":"CONCATENATE(IFERROR(VLOOKUP(A128,[1]SkillConfig!$D:$F,3,FALSE),\"\"),IFERROR(VLOOKUP(A128,[1]SkillConfig!$E:$G,3,FALSE),\"\"),IFERROR(VLOOKUP(A128,[1]SkillConfig!$V:$AF,11,FALSE),\"\"))","v":"朱雀燎原指"},1014035]
[null,{"$f":"CONCATENATE(IFERROR(VLOOKUP(A129,[1]SkillConfig!$D:$F,3,FALSE),\"\"),IFERROR(VLOOKUP(A129,[1]SkillConfig!$E:$G,3,FALSE),\"\"),IFERROR(VLOOKUP(A129,[1]SkillConfig!$V:$AF,11,FALSE),\"\"))","v":""}]
[1014040,{"$f":"CONCATENATE(IFERROR(VLOOKUP(A130,[1]SkillConfig!$D:$F,3,FALSE),\"\"),IFERROR(VLOOKUP(A130,[1]SkillConfig!$E:$G,3,FALSE),\"\"),IFERROR(VLOOKUP(A130,[1]SkillConfig!$V:$AF,11,FALSE),\"\"))","v":"火球"},1014040]
[1014041,{"$f":"CONCATENATE(IFERROR(VLOOKUP(A131,[1]SkillConfig!$D:$F,3,FALSE),\"\"),IFERROR(VLOOKUP(A131,[1]SkillConfig!$E:$G,3,FALSE),\"\"),IFERROR(VLOOKUP(A131,[1]SkillConfig!$V:$AF,11,FALSE),\"\"))","v":"火球"},1014041]
[1014042,{"$f":"CONCATENATE(IFERROR(VLOOKUP(A132,[1]SkillConfig!$D:$F,3,FALSE),\"\"),IFERROR(VLOOKUP(A132,[1]SkillConfig!$E:$G,3,FALSE),\"\"),IFERROR(VLOOKUP(A132,[1]SkillConfig!$V:$AF,11,FALSE),\"\"))","v":"火球"},1014042]
[1014043,{"$f":"CONCATENATE(IFERROR(VLOOKUP(A133,[1]SkillConfig!$D:$F,3,FALSE),\"\"),IFERROR(VLOOKUP(A133,[1]SkillConfig!$E:$G,3,FALSE),\"\"),IFERROR(VLOOKUP(A133,[1]SkillConfig!$V:$AF,11,FALSE),\"\"))","v":"火球"},1014043]
[1014044,{"$f":"CONCATENATE(IFERROR(VLOOKUP(A134,[1]SkillConfig!$D:$F,3,FALSE),\"\"),IFERROR(VLOOKUP(A134,[1]SkillConfig!$E:$G,3,FALSE),\"\"),IFERROR(VLOOKUP(A134,[1]SkillConfig!$V:$AF,11,FALSE),\"\"))","v":"火球"},1014044]
[1014045,{"$f":"CONCATENATE(IFERROR(VLOOKUP(A135,[1]SkillConfig!$D:$F,3,FALSE),\"\"),IFERROR(VLOOKUP(A135,[1]SkillConfig!$E:$G,3,FALSE),\"\"),IFERROR(VLOOKUP(A135,[1]SkillConfig!$V:$AF,11,FALSE),\"\"))","v":"火球"},1014045]
[null,{"$f":"CONCATENATE(IFERROR(VLOOKUP(A136,[1]SkillConfig!$D:$F,3,FALSE),\"\"),IFERROR(VLOOKUP(A136,[1]SkillConfig!$E:$G,3,FALSE),\"\"),IFERROR(VLOOKUP(A136,[1]SkillConfig!$V:$AF,11,FALSE),\"\"))","v":""}]
[1014050,{"$f":"CONCATENATE(IFERROR(VLOOKUP(A137,[1]SkillConfig!$D:$F,3,FALSE),\"\"),IFERROR(VLOOKUP(A137,[1]SkillConfig!$E:$G,3,FALSE),\"\"),IFERROR(VLOOKUP(A137,[1]SkillConfig!$V:$AF,11,FALSE),\"\"))","v":"火刀"},1014050]
[1014051,{"$f":"CONCATENATE(IFERROR(VLOOKUP(A138,[1]SkillConfig!$D:$F,3,FALSE),\"\"),IFERROR(VLOOKUP(A138,[1]SkillConfig!$E:$G,3,FALSE),\"\"),IFERROR(VLOOKUP(A138,[1]SkillConfig!$V:$AF,11,FALSE),\"\"))","v":"火刀"},1014051]
[1014052,{"$f":"CONCATENATE(IFERROR(VLOOKUP(A139,[1]SkillConfig!$D:$F,3,FALSE),\"\"),IFERROR(VLOOKUP(A139,[1]SkillConfig!$E:$G,3,FALSE),\"\"),IFERROR(VLOOKUP(A139,[1]SkillConfig!$V:$AF,11,FALSE),\"\"))","v":"火刀"},1014052]
[1014053,{"$f":"CONCATENATE(IFERROR(VLOOKUP(A140,[1]SkillConfig!$D:$F,3,FALSE),\"\"),IFERROR(VLOOKUP(A140,[1]SkillConfig!$E:$G,3,FALSE),\"\"),IFERROR(VLOOKUP(A140,[1]SkillConfig!$V:$AF,11,FALSE),\"\"))","v":"火刀"},1014053]
[1014054,{"$f":"CONCATENATE(IFERROR(VLOOKUP(A141,[1]SkillConfig!$D:$F,3,FALSE),\"\"),IFERROR(VLOOKUP(A141,[1]SkillConfig!$E:$G,3,FALSE),\"\"),IFERROR(VLOOKUP(A141,[1]SkillConfig!$V:$AF,11,FALSE),\"\"))","v":"火刀"},1014054]
[1014055,{"$f":"CONCATENATE(IFERROR(VLOOKUP(A142,[1]SkillConfig!$D:$F,3,FALSE),\"\"),IFERROR(VLOOKUP(A142,[1]SkillConfig!$E:$G,3,FALSE),\"\"),IFERROR(VLOOKUP(A142,[1]SkillConfig!$V:$AF,11,FALSE),\"\"))","v":"火刀"},1014055]
[null,{"$f":"CONCATENATE(IFERROR(VLOOKUP(A143,[1]SkillConfig!$D:$F,3,FALSE),\"\"),IFERROR(VLOOKUP(A143,[1]SkillConfig!$E:$G,3,FALSE),\"\"),IFERROR(VLOOKUP(A143,[1]SkillConfig!$V:$AF,11,FALSE),\"\"))","v":""}]
[1015010,{"$f":"CONCATENATE(IFERROR(VLOOKUP(A144,[1]SkillConfig!$D:$F,3,FALSE),\"\"),IFERROR(VLOOKUP(A144,[1]SkillConfig!$E:$G,3,FALSE),\"\"),IFERROR(VLOOKUP(A144,[1]SkillConfig!$V:$AF,11,FALSE),\"\"))","v":"黄尘灭魂刺"},1015010]
[1015011,{"$f":"CONCATENATE(IFERROR(VLOOKUP(A145,[1]SkillConfig!$D:$F,3,FALSE),\"\"),IFERROR(VLOOKUP(A145,[1]SkillConfig!$E:$G,3,FALSE),\"\"),IFERROR(VLOOKUP(A145,[1]SkillConfig!$V:$AF,11,FALSE),\"\"))","v":"黄尘灭魂刺"},1015011]
[1015012,{"$f":"CONCATENATE(IFERROR(VLOOKUP(A146,[1]SkillConfig!$D:$F,3,FALSE),\"\"),IFERROR(VLOOKUP(A146,[1]SkillConfig!$E:$G,3,FALSE),\"\"),IFERROR(VLOOKUP(A146,[1]SkillConfig!$V:$AF,11,FALSE),\"\"))","v":"黄尘灭魂刺"},1015012]
[1015013,{"$f":"CONCATENATE(IFERROR(VLOOKUP(A147,[1]SkillConfig!$D:$F,3,FALSE),\"\"),IFERROR(VLOOKUP(A147,[1]SkillConfig!$E:$G,3,FALSE),\"\"),IFERROR(VLOOKUP(A147,[1]SkillConfig!$V:$AF,11,FALSE),\"\"))","v":"黄尘灭魂刺"},1015013]
[1015014,{"$f":"CONCATENATE(IFERROR(VLOOKUP(A148,[1]SkillConfig!$D:$F,3,FALSE),\"\"),IFERROR(VLOOKUP(A148,[1]SkillConfig!$E:$G,3,FALSE),\"\"),IFERROR(VLOOKUP(A148,[1]SkillConfig!$V:$AF,11,FALSE),\"\"))","v":"黄尘灭魂刺"},1015014]
[1015015,{"$f":"CONCATENATE(IFERROR(VLOOKUP(A149,[1]SkillConfig!$D:$F,3,FALSE),\"\"),IFERROR(VLOOKUP(A149,[1]SkillConfig!$E:$G,3,FALSE),\"\"),IFERROR(VLOOKUP(A149,[1]SkillConfig!$V:$AF,11,FALSE),\"\"))","v":"黄尘灭魂刺"},1015015]
[null,{"$f":"CONCATENATE(IFERROR(VLOOKUP(A150,[1]SkillConfig!$D:$F,3,FALSE),\"\"),IFERROR(VLOOKUP(A150,[1]SkillConfig!$E:$G,3,FALSE),\"\"),IFERROR(VLOOKUP(A150,[1]SkillConfig!$V:$AF,11,FALSE),\"\"))","v":""}]
[1015020,{"$f":"CONCATENATE(IFERROR(VLOOKUP(A151,[1]SkillConfig!$D:$F,3,FALSE),\"\"),IFERROR(VLOOKUP(A151,[1]SkillConfig!$E:$G,3,FALSE),\"\"),IFERROR(VLOOKUP(A151,[1]SkillConfig!$V:$AF,11,FALSE),\"\"))","v":"地裂屠龙斩"},1015020]
[1015021,{"$f":"CONCATENATE(IFERROR(VLOOKUP(A152,[1]SkillConfig!$D:$F,3,FALSE),\"\"),IFERROR(VLOOKUP(A152,[1]SkillConfig!$E:$G,3,FALSE),\"\"),IFERROR(VLOOKUP(A152,[1]SkillConfig!$V:$AF,11,FALSE),\"\"))","v":"地裂屠龙斩"},1015021]
[1015022,{"$f":"CONCATENATE(IFERROR(VLOOKUP(A153,[1]SkillConfig!$D:$F,3,FALSE),\"\"),IFERROR(VLOOKUP(A153,[1]SkillConfig!$E:$G,3,FALSE),\"\"),IFERROR(VLOOKUP(A153,[1]SkillConfig!$V:$AF,11,FALSE),\"\"))","v":"地裂屠龙斩"},1015022]
[1015023,{"$f":"CONCATENATE(IFERROR(VLOOKUP(A154,[1]SkillConfig!$D:$F,3,FALSE),\"\"),IFERROR(VLOOKUP(A154,[1]SkillConfig!$E:$G,3,FALSE),\"\"),IFERROR(VLOOKUP(A154,[1]SkillConfig!$V:$AF,11,FALSE),\"\"))","v":"地裂屠龙斩"},1015023]
[1015024,{"$f":"CONCATENATE(IFERROR(VLOOKUP(A155,[1]SkillConfig!$D:$F,3,FALSE),\"\"),IFERROR(VLOOKUP(A155,[1]SkillConfig!$E:$G,3,FALSE),\"\"),IFERROR(VLOOKUP(A155,[1]SkillConfig!$V:$AF,11,FALSE),\"\"))","v":"地裂屠龙斩"},1015024]
[1015025,{"$f":"CONCATENATE(IFERROR(VLOOKUP(A156,[1]SkillConfig!$D:$F,3,FALSE),\"\"),IFERROR(VLOOKUP(A156,[1]SkillConfig!$E:$G,3,FALSE),\"\"),IFERROR(VLOOKUP(A156,[1]SkillConfig!$V:$AF,11,FALSE),\"\"))","v":"地裂屠龙斩"},1015025]
[null,{"$f":"CONCATENATE(IFERROR(VLOOKUP(A157,[1]SkillConfig!$D:$F,3,FALSE),\"\"),IFERROR(VLOOKUP(A157,[1]SkillConfig!$E:$G,3,FALSE),\"\"),IFERROR(VLOOKUP(A157,[1]SkillConfig!$V:$AF,11,FALSE),\"\"))","v":""}]
[null,{"$f":"CONCATENATE(IFERROR(VLOOKUP(A158,[1]SkillConfig!$D:$F,3,FALSE),\"\"),IFERROR(VLOOKUP(A158,[1]SkillConfig!$E:$G,3,FALSE),\"\"),IFERROR(VLOOKUP(A158,[1]SkillConfig!$V:$AF,11,FALSE),\"\"))","v":""},1000000]
[null,{"$f":"CONCATENATE(IFERROR(VLOOKUP(A159,[1]SkillConfig!$D:$F,3,FALSE),\"\"),IFERROR(VLOOKUP(A159,[1]SkillConfig!$E:$G,3,FALSE),\"\"),IFERROR(VLOOKUP(A159,[1]SkillConfig!$V:$AF,11,FALSE),\"\"))","v":""},1000000]
[null,{"$f":"CONCATENATE(IFERROR(VLOOKUP(A160,[1]SkillConfig!$D:$F,3,FALSE),\"\"),IFERROR(VLOOKUP(A160,[1]SkillConfig!$E:$G,3,FALSE),\"\"),IFERROR(VLOOKUP(A160,[1]SkillConfig!$V:$AF,11,FALSE),\"\"))","v":""},1000000]
[null,{"$f":"CONCATENATE(IFERROR(VLOOKUP(A161,[1]SkillConfig!$D:$F,3,FALSE),\"\"),IFERROR(VLOOKUP(A161,[1]SkillConfig!$E:$G,3,FALSE),\"\"),IFERROR(VLOOKUP(A161,[1]SkillConfig!$V:$AF,11,FALSE),\"\"))","v":""},1000000]
[null,{"$f":"CONCATENATE(IFERROR(VLOOKUP(A162,[1]SkillConfig!$D:$F,3,FALSE),\"\"),IFERROR(VLOOKUP(A162,[1]SkillConfig!$E:$G,3,FALSE),\"\"),IFERROR(VLOOKUP(A162,[1]SkillConfig!$V:$AF,11,FALSE),\"\"))","v":""},1000000]
[null,{"$f":"CONCATENATE(IFERROR(VLOOKUP(A163,[1]SkillConfig!$D:$F,3,FALSE),\"\"),IFERROR(VLOOKUP(A163,[1]SkillConfig!$E:$G,3,FALSE),\"\"),IFERROR(VLOOKUP(A163,[1]SkillConfig!$V:$AF,11,FALSE),\"\"))","v":""},1000000]
[null,{"$f":"CONCATENATE(IFERROR(VLOOKUP(A164,[1]SkillConfig!$D:$F,3,FALSE),\"\"),IFERROR(VLOOKUP(A164,[1]SkillConfig!$E:$G,3,FALSE),\"\"),IFERROR(VLOOKUP(A164,[1]SkillConfig!$V:$AF,11,FALSE),\"\"))","v":""}]
[1015040,{"$f":"CONCATENATE(IFERROR(VLOOKUP(A165,[1]SkillConfig!$D:$F,3,FALSE),\"\"),IFERROR(VLOOKUP(A165,[1]SkillConfig!$E:$G,3,FALSE),\"\"),IFERROR(VLOOKUP(A165,[1]SkillConfig!$V:$AF,11,FALSE),\"\"))","v":"落石"},1015040]
[1015041,{"$f":"CONCATENATE(IFERROR(VLOOKUP(A166,[1]SkillConfig!$D:$F,3,FALSE),\"\"),IFERROR(VLOOKUP(A166,[1]SkillConfig!$E:$G,3,FALSE),\"\"),IFERROR(VLOOKUP(A166,[1]SkillConfig!$V:$AF,11,FALSE),\"\"))","v":"落石"},1015041]
[1015042,{"$f":"CONCATENATE(IFERROR(VLOOKUP(A167,[1]SkillConfig!$D:$F,3,FALSE),\"\"),IFERROR(VLOOKUP(A167,[1]SkillConfig!$E:$G,3,FALSE),\"\"),IFERROR(VLOOKUP(A167,[1]SkillConfig!$V:$AF,11,FALSE),\"\"))","v":"落石"},1015042]
[1015043,{"$f":"CONCATENATE(IFERROR(VLOOKUP(A168,[1]SkillConfig!$D:$F,3,FALSE),\"\"),IFERROR(VLOOKUP(A168,[1]SkillConfig!$E:$G,3,FALSE),\"\"),IFERROR(VLOOKUP(A168,[1]SkillConfig!$V:$AF,11,FALSE),\"\"))","v":"落石"},1015043]
[1015044,{"$f":"CONCATENATE(IFERROR(VLOOKUP(A169,[1]SkillConfig!$D:$F,3,FALSE),\"\"),IFERROR(VLOOKUP(A169,[1]SkillConfig!$E:$G,3,FALSE),\"\"),IFERROR(VLOOKUP(A169,[1]SkillConfig!$V:$AF,11,FALSE),\"\"))","v":"落石"},1015044]
[1015045,{"$f":"CONCATENATE(IFERROR(VLOOKUP(A170,[1]SkillConfig!$D:$F,3,FALSE),\"\"),IFERROR(VLOOKUP(A170,[1]SkillConfig!$E:$G,3,FALSE),\"\"),IFERROR(VLOOKUP(A170,[1]SkillConfig!$V:$AF,11,FALSE),\"\"))","v":"落石"},1015045]
[null,{"$f":"CONCATENATE(IFERROR(VLOOKUP(A171,[1]SkillConfig!$D:$F,3,FALSE),\"\"),IFERROR(VLOOKUP(A171,[1]SkillConfig!$E:$G,3,FALSE),\"\"),IFERROR(VLOOKUP(A171,[1]SkillConfig!$V:$AF,11,FALSE),\"\"))","v":""}]
[1015050,{"$f":"CONCATENATE(IFERROR(VLOOKUP(A172,[1]SkillConfig!$D:$F,3,FALSE),\"\"),IFERROR(VLOOKUP(A172,[1]SkillConfig!$E:$G,3,FALSE),\"\"),IFERROR(VLOOKUP(A172,[1]SkillConfig!$V:$AF,11,FALSE),\"\"))","v":"小石头"},1015050]
[1015051,{"$f":"CONCATENATE(IFERROR(VLOOKUP(A173,[1]SkillConfig!$D:$F,3,FALSE),\"\"),IFERROR(VLOOKUP(A173,[1]SkillConfig!$E:$G,3,FALSE),\"\"),IFERROR(VLOOKUP(A173,[1]SkillConfig!$V:$AF,11,FALSE),\"\"))","v":"小石头"},1015051]
[1015052,{"$f":"CONCATENATE(IFERROR(VLOOKUP(A174,[1]SkillConfig!$D:$F,3,FALSE),\"\"),IFERROR(VLOOKUP(A174,[1]SkillConfig!$E:$G,3,FALSE),\"\"),IFERROR(VLOOKUP(A174,[1]SkillConfig!$V:$AF,11,FALSE),\"\"))","v":"小石头"},1015052]
[1015053,{"$f":"CONCATENATE(IFERROR(VLOOKUP(A175,[1]SkillConfig!$D:$F,3,FALSE),\"\"),IFERROR(VLOOKUP(A175,[1]SkillConfig!$E:$G,3,FALSE),\"\"),IFERROR(VLOOKUP(A175,[1]SkillConfig!$V:$AF,11,FALSE),\"\"))","v":"小石头"},1015053]
[1015054,{"$f":"CONCATENATE(IFERROR(VLOOKUP(A176,[1]SkillConfig!$D:$F,3,FALSE),\"\"),IFERROR(VLOOKUP(A176,[1]SkillConfig!$E:$G,3,FALSE),\"\"),IFERROR(VLOOKUP(A176,[1]SkillConfig!$V:$AF,11,FALSE),\"\"))","v":"小石头"},1015054]
[1015055,{"$f":"CONCATENATE(IFERROR(VLOOKUP(A177,[1]SkillConfig!$D:$F,3,FALSE),\"\"),IFERROR(VLOOKUP(A177,[1]SkillConfig!$E:$G,3,FALSE),\"\"),IFERROR(VLOOKUP(A177,[1]SkillConfig!$V:$AF,11,FALSE),\"\"))","v":"小石头"},1015055]
[null,{"$f":"CONCATENATE(IFERROR(VLOOKUP(A178,[1]SkillConfig!$D:$F,3,FALSE),\"\"),IFERROR(VLOOKUP(A178,[1]SkillConfig!$E:$G,3,FALSE),\"\"),IFERROR(VLOOKUP(A178,[1]SkillConfig!$V:$AF,11,FALSE),\"\"))","v":""}]
[null,{"$f":"CONCATENATE(IFERROR(VLOOKUP(A179,[1]SkillConfig!$D:$F,3,FALSE),\"\"),IFERROR(VLOOKUP(A179,[1]SkillConfig!$E:$G,3,FALSE),\"\"),IFERROR(VLOOKUP(A179,[1]SkillConfig!$V:$AF,11,FALSE),\"\"))","v":""}]
[1020010,{"$f":"CONCATENATE(IFERROR(VLOOKUP(A180,[1]SkillConfig!$D:$F,3,FALSE),\"\"),IFERROR(VLOOKUP(A180,[1]SkillConfig!$E:$G,3,FALSE),\"\"),IFERROR(VLOOKUP(A180,[1]SkillConfig!$V:$AF,11,FALSE),\"\"))","v":"天衍星辰诀"},1020010]
[1020011,{"$f":"CONCATENATE(IFERROR(VLOOKUP(A181,[1]SkillConfig!$D:$F,3,FALSE),\"\"),IFERROR(VLOOKUP(A181,[1]SkillConfig!$E:$G,3,FALSE),\"\"),IFERROR(VLOOKUP(A181,[1]SkillConfig!$V:$AF,11,FALSE),\"\"))","v":"天衍星辰诀"},1020011]
[1020012,{"$f":"CONCATENATE(IFERROR(VLOOKUP(A182,[1]SkillConfig!$D:$F,3,FALSE),\"\"),IFERROR(VLOOKUP(A182,[1]SkillConfig!$E:$G,3,FALSE),\"\"),IFERROR(VLOOKUP(A182,[1]SkillConfig!$V:$AF,11,FALSE),\"\"))","v":"天衍星辰诀"},1020012]
[1020013,{"$f":"CONCATENATE(IFERROR(VLOOKUP(A183,[1]SkillConfig!$D:$F,3,FALSE),\"\"),IFERROR(VLOOKUP(A183,[1]SkillConfig!$E:$G,3,FALSE),\"\"),IFERROR(VLOOKUP(A183,[1]SkillConfig!$V:$AF,11,FALSE),\"\"))","v":"天衍星辰诀"},1020013]
[1020014,{"$f":"CONCATENATE(IFERROR(VLOOKUP(A184,[1]SkillConfig!$D:$F,3,FALSE),\"\"),IFERROR(VLOOKUP(A184,[1]SkillConfig!$E:$G,3,FALSE),\"\"),IFERROR(VLOOKUP(A184,[1]SkillConfig!$V:$AF,11,FALSE),\"\"))","v":"天衍星辰诀"},1020014]
[1020015,{"$f":"CONCATENATE(IFERROR(VLOOKUP(A185,[1]SkillConfig!$D:$F,3,FALSE),\"\"),IFERROR(VLOOKUP(A185,[1]SkillConfig!$E:$G,3,FALSE),\"\"),IFERROR(VLOOKUP(A185,[1]SkillConfig!$V:$AF,11,FALSE),\"\"))","v":"天衍星辰诀"},1020015]
[null,{"$f":"CONCATENATE(IFERROR(VLOOKUP(A186,[1]SkillConfig!$D:$F,3,FALSE),\"\"),IFERROR(VLOOKUP(A186,[1]SkillConfig!$E:$G,3,FALSE),\"\"),IFERROR(VLOOKUP(A186,[1]SkillConfig!$V:$AF,11,FALSE),\"\"))","v":""}]
[1020020,{"$f":"CONCATENATE(IFERROR(VLOOKUP(A187,[1]SkillConfig!$D:$F,3,FALSE),\"\"),IFERROR(VLOOKUP(A187,[1]SkillConfig!$E:$G,3,FALSE),\"\"),IFERROR(VLOOKUP(A187,[1]SkillConfig!$V:$AF,11,FALSE),\"\"))","v":"法宝秘籍"},1020020]
[1020021,{"$f":"CONCATENATE(IFERROR(VLOOKUP(A188,[1]SkillConfig!$D:$F,3,FALSE),\"\"),IFERROR(VLOOKUP(A188,[1]SkillConfig!$E:$G,3,FALSE),\"\"),IFERROR(VLOOKUP(A188,[1]SkillConfig!$V:$AF,11,FALSE),\"\"))","v":"法宝秘籍"},1020021]
[1020022,{"$f":"CONCATENATE(IFERROR(VLOOKUP(A189,[1]SkillConfig!$D:$F,3,FALSE),\"\"),IFERROR(VLOOKUP(A189,[1]SkillConfig!$E:$G,3,FALSE),\"\"),IFERROR(VLOOKUP(A189,[1]SkillConfig!$V:$AF,11,FALSE),\"\"))","v":"法宝秘籍"},1020022]
[1020023,{"$f":"CONCATENATE(IFERROR(VLOOKUP(A190,[1]SkillConfig!$D:$F,3,FALSE),\"\"),IFERROR(VLOOKUP(A190,[1]SkillConfig!$E:$G,3,FALSE),\"\"),IFERROR(VLOOKUP(A190,[1]SkillConfig!$V:$AF,11,FALSE),\"\"))","v":"法宝秘籍"},1020023]
[1020024,{"$f":"CONCATENATE(IFERROR(VLOOKUP(A191,[1]SkillConfig!$D:$F,3,FALSE),\"\"),IFERROR(VLOOKUP(A191,[1]SkillConfig!$E:$G,3,FALSE),\"\"),IFERROR(VLOOKUP(A191,[1]SkillConfig!$V:$AF,11,FALSE),\"\"))","v":"法宝秘籍"},1020024]
[1020025,{"$f":"CONCATENATE(IFERROR(VLOOKUP(A192,[1]SkillConfig!$D:$F,3,FALSE),\"\"),IFERROR(VLOOKUP(A192,[1]SkillConfig!$E:$G,3,FALSE),\"\"),IFERROR(VLOOKUP(A192,[1]SkillConfig!$V:$AF,11,FALSE),\"\"))","v":"法宝秘籍"},1020025]
[null,{"$f":"CONCATENATE(IFERROR(VLOOKUP(A193,[1]SkillConfig!$D:$F,3,FALSE),\"\"),IFERROR(VLOOKUP(A193,[1]SkillConfig!$E:$G,3,FALSE),\"\"),IFERROR(VLOOKUP(A193,[1]SkillConfig!$V:$AF,11,FALSE),\"\"))","v":""}]
[1020030,{"$f":"CONCATENATE(IFERROR(VLOOKUP(A194,[1]SkillConfig!$D:$F,3,FALSE),\"\"),IFERROR(VLOOKUP(A194,[1]SkillConfig!$E:$G,3,FALSE),\"\"),IFERROR(VLOOKUP(A194,[1]SkillConfig!$V:$AF,11,FALSE),\"\"))","v":"崩脉决"},1020030]
[1020031,{"$f":"CONCATENATE(IFERROR(VLOOKUP(A195,[1]SkillConfig!$D:$F,3,FALSE),\"\"),IFERROR(VLOOKUP(A195,[1]SkillConfig!$E:$G,3,FALSE),\"\"),IFERROR(VLOOKUP(A195,[1]SkillConfig!$V:$AF,11,FALSE),\"\"))","v":"崩脉决"},1020031]
[1020032,{"$f":"CONCATENATE(IFERROR(VLOOKUP(A196,[1]SkillConfig!$D:$F,3,FALSE),\"\"),IFERROR(VLOOKUP(A196,[1]SkillConfig!$E:$G,3,FALSE),\"\"),IFERROR(VLOOKUP(A196,[1]SkillConfig!$V:$AF,11,FALSE),\"\"))","v":"崩脉决"},1020032]
[1020033,{"$f":"CONCATENATE(IFERROR(VLOOKUP(A197,[1]SkillConfig!$D:$F,3,FALSE),\"\"),IFERROR(VLOOKUP(A197,[1]SkillConfig!$E:$G,3,FALSE),\"\"),IFERROR(VLOOKUP(A197,[1]SkillConfig!$V:$AF,11,FALSE),\"\"))","v":"崩脉决"},1020033]
[1020034,{"$f":"CONCATENATE(IFERROR(VLOOKUP(A198,[1]SkillConfig!$D:$F,3,FALSE),\"\"),IFERROR(VLOOKUP(A198,[1]SkillConfig!$E:$G,3,FALSE),\"\"),IFERROR(VLOOKUP(A198,[1]SkillConfig!$V:$AF,11,FALSE),\"\"))","v":"崩脉决"},1020034]
[1020035,{"$f":"CONCATENATE(IFERROR(VLOOKUP(A199,[1]SkillConfig!$D:$F,3,FALSE),\"\"),IFERROR(VLOOKUP(A199,[1]SkillConfig!$E:$G,3,FALSE),\"\"),IFERROR(VLOOKUP(A199,[1]SkillConfig!$V:$AF,11,FALSE),\"\"))","v":"崩脉决"},1020035]
[null,{"$f":"CONCATENATE(IFERROR(VLOOKUP(A200,[1]SkillConfig!$D:$F,3,FALSE),\"\"),IFERROR(VLOOKUP(A200,[1]SkillConfig!$E:$G,3,FALSE),\"\"),IFERROR(VLOOKUP(A200,[1]SkillConfig!$V:$AF,11,FALSE),\"\"))","v":""}]
[1020040,{"$f":"CONCATENATE(IFERROR(VLOOKUP(A201,[1]SkillConfig!$D:$F,3,FALSE),\"\"),IFERROR(VLOOKUP(A201,[1]SkillConfig!$E:$G,3,FALSE),\"\"),IFERROR(VLOOKUP(A201,[1]SkillConfig!$V:$AF,11,FALSE),\"\"))","v":"两仪决"},1020040]
[1020041,{"$f":"CONCATENATE(IFERROR(VLOOKUP(A202,[1]SkillConfig!$D:$F,3,FALSE),\"\"),IFERROR(VLOOKUP(A202,[1]SkillConfig!$E:$G,3,FALSE),\"\"),IFERROR(VLOOKUP(A202,[1]SkillConfig!$V:$AF,11,FALSE),\"\"))","v":"两仪决"},1020041]
[1020042,{"$f":"CONCATENATE(IFERROR(VLOOKUP(A203,[1]SkillConfig!$D:$F,3,FALSE),\"\"),IFERROR(VLOOKUP(A203,[1]SkillConfig!$E:$G,3,FALSE),\"\"),IFERROR(VLOOKUP(A203,[1]SkillConfig!$V:$AF,11,FALSE),\"\"))","v":"两仪决"},1020042]
[1020043,{"$f":"CONCATENATE(IFERROR(VLOOKUP(A204,[1]SkillConfig!$D:$F,3,FALSE),\"\"),IFERROR(VLOOKUP(A204,[1]SkillConfig!$E:$G,3,FALSE),\"\"),IFERROR(VLOOKUP(A204,[1]SkillConfig!$V:$AF,11,FALSE),\"\"))","v":"两仪决"},1020043]
[1020044,{"$f":"CONCATENATE(IFERROR(VLOOKUP(A205,[1]SkillConfig!$D:$F,3,FALSE),\"\"),IFERROR(VLOOKUP(A205,[1]SkillConfig!$E:$G,3,FALSE),\"\"),IFERROR(VLOOKUP(A205,[1]SkillConfig!$V:$AF,11,FALSE),\"\"))","v":"两仪决"},1020044]
[1020045,{"$f":"CONCATENATE(IFERROR(VLOOKUP(A206,[1]SkillConfig!$D:$F,3,FALSE),\"\"),IFERROR(VLOOKUP(A206,[1]SkillConfig!$E:$G,3,FALSE),\"\"),IFERROR(VLOOKUP(A206,[1]SkillConfig!$V:$AF,11,FALSE),\"\"))","v":"两仪决"},1020045]
[null,{"$f":"CONCATENATE(IFERROR(VLOOKUP(A207,[1]SkillConfig!$D:$F,3,FALSE),\"\"),IFERROR(VLOOKUP(A207,[1]SkillConfig!$E:$G,3,FALSE),\"\"),IFERROR(VLOOKUP(A207,[1]SkillConfig!$V:$AF,11,FALSE),\"\"))","v":""}]
[1020050,{"$f":"CONCATENATE(IFERROR(VLOOKUP(A208,[1]SkillConfig!$D:$F,3,FALSE),\"\"),IFERROR(VLOOKUP(A208,[1]SkillConfig!$E:$G,3,FALSE),\"\"),IFERROR(VLOOKUP(A208,[1]SkillConfig!$V:$AF,11,FALSE),\"\"))","v":"火焰决"},1020050]
[1020051,{"$f":"CONCATENATE(IFERROR(VLOOKUP(A209,[1]SkillConfig!$D:$F,3,FALSE),\"\"),IFERROR(VLOOKUP(A209,[1]SkillConfig!$E:$G,3,FALSE),\"\"),IFERROR(VLOOKUP(A209,[1]SkillConfig!$V:$AF,11,FALSE),\"\"))","v":"火焰决"},1020051]
[1020052,{"$f":"CONCATENATE(IFERROR(VLOOKUP(A210,[1]SkillConfig!$D:$F,3,FALSE),\"\"),IFERROR(VLOOKUP(A210,[1]SkillConfig!$E:$G,3,FALSE),\"\"),IFERROR(VLOOKUP(A210,[1]SkillConfig!$V:$AF,11,FALSE),\"\"))","v":"火焰决"},1020052]
[1020053,{"$f":"CONCATENATE(IFERROR(VLOOKUP(A211,[1]SkillConfig!$D:$F,3,FALSE),\"\"),IFERROR(VLOOKUP(A211,[1]SkillConfig!$E:$G,3,FALSE),\"\"),IFERROR(VLOOKUP(A211,[1]SkillConfig!$V:$AF,11,FALSE),\"\"))","v":"火焰决"},1020053]
[1020054,{"$f":"CONCATENATE(IFERROR(VLOOKUP(A212,[1]SkillConfig!$D:$F,3,FALSE),\"\"),IFERROR(VLOOKUP(A212,[1]SkillConfig!$E:$G,3,FALSE),\"\"),IFERROR(VLOOKUP(A212,[1]SkillConfig!$V:$AF,11,FALSE),\"\"))","v":"火焰决"},1020054]
[1020055,{"$f":"CONCATENATE(IFERROR(VLOOKUP(A213,[1]SkillConfig!$D:$F,3,FALSE),\"\"),IFERROR(VLOOKUP(A213,[1]SkillConfig!$E:$G,3,FALSE),\"\"),IFERROR(VLOOKUP(A213,[1]SkillConfig!$V:$AF,11,FALSE),\"\"))","v":"火焰决"},1020055]
[null,{"$f":"CONCATENATE(IFERROR(VLOOKUP(A214,[1]SkillConfig!$D:$F,3,FALSE),\"\"),IFERROR(VLOOKUP(A214,[1]SkillConfig!$E:$G,3,FALSE),\"\"),IFERROR(VLOOKUP(A214,[1]SkillConfig!$V:$AF,11,FALSE),\"\"))","v":""}]
[1020060,{"$f":"CONCATENATE(IFERROR(VLOOKUP(A215,[1]SkillConfig!$D:$F,3,FALSE),\"\"),IFERROR(VLOOKUP(A215,[1]SkillConfig!$E:$G,3,FALSE),\"\"),IFERROR(VLOOKUP(A215,[1]SkillConfig!$V:$AF,11,FALSE),\"\"))","v":"乾坤巨灵诀"},1020060]
[1020061,{"$f":"CONCATENATE(IFERROR(VLOOKUP(A216,[1]SkillConfig!$D:$F,3,FALSE),\"\"),IFERROR(VLOOKUP(A216,[1]SkillConfig!$E:$G,3,FALSE),\"\"),IFERROR(VLOOKUP(A216,[1]SkillConfig!$V:$AF,11,FALSE),\"\"))","v":"乾坤巨灵诀"},1020061]
[1020062,{"$f":"CONCATENATE(IFERROR(VLOOKUP(A217,[1]SkillConfig!$D:$F,3,FALSE),\"\"),IFERROR(VLOOKUP(A217,[1]SkillConfig!$E:$G,3,FALSE),\"\"),IFERROR(VLOOKUP(A217,[1]SkillConfig!$V:$AF,11,FALSE),\"\"))","v":"乾坤巨灵诀"},1020062]
[1020063,{"$f":"CONCATENATE(IFERROR(VLOOKUP(A218,[1]SkillConfig!$D:$F,3,FALSE),\"\"),IFERROR(VLOOKUP(A218,[1]SkillConfig!$E:$G,3,FALSE),\"\"),IFERROR(VLOOKUP(A218,[1]SkillConfig!$V:$AF,11,FALSE),\"\"))","v":"乾坤巨灵诀"},1020063]
[1020064,{"$f":"CONCATENATE(IFERROR(VLOOKUP(A219,[1]SkillConfig!$D:$F,3,FALSE),\"\"),IFERROR(VLOOKUP(A219,[1]SkillConfig!$E:$G,3,FALSE),\"\"),IFERROR(VLOOKUP(A219,[1]SkillConfig!$V:$AF,11,FALSE),\"\"))","v":"乾坤巨灵诀"},1020064]
[1020065,{"$f":"CONCATENATE(IFERROR(VLOOKUP(A220,[1]SkillConfig!$D:$F,3,FALSE),\"\"),IFERROR(VLOOKUP(A220,[1]SkillConfig!$E:$G,3,FALSE),\"\"),IFERROR(VLOOKUP(A220,[1]SkillConfig!$V:$AF,11,FALSE),\"\"))","v":"乾坤巨灵诀"},1020065]
[null,{"$f":"CONCATENATE(IFERROR(VLOOKUP(A221,[1]SkillConfig!$D:$F,3,FALSE),\"\"),IFERROR(VLOOKUP(A221,[1]SkillConfig!$E:$G,3,FALSE),\"\"),IFERROR(VLOOKUP(A221,[1]SkillConfig!$V:$AF,11,FALSE),\"\"))","v":""}]
[1020070,{"$f":"CONCATENATE(IFERROR(VLOOKUP(A222,[1]SkillConfig!$D:$F,3,FALSE),\"\"),IFERROR(VLOOKUP(A222,[1]SkillConfig!$E:$G,3,FALSE),\"\"),IFERROR(VLOOKUP(A222,[1]SkillConfig!$V:$AF,11,FALSE),\"\"))","v":"疾风法印"},1020070]
[1020071,{"$f":"CONCATENATE(IFERROR(VLOOKUP(A223,[1]SkillConfig!$D:$F,3,FALSE),\"\"),IFERROR(VLOOKUP(A223,[1]SkillConfig!$E:$G,3,FALSE),\"\"),IFERROR(VLOOKUP(A223,[1]SkillConfig!$V:$AF,11,FALSE),\"\"))","v":"疾风法印"},1020071]
[1020072,{"$f":"CONCATENATE(IFERROR(VLOOKUP(A224,[1]SkillConfig!$D:$F,3,FALSE),\"\"),IFERROR(VLOOKUP(A224,[1]SkillConfig!$E:$G,3,FALSE),\"\"),IFERROR(VLOOKUP(A224,[1]SkillConfig!$V:$AF,11,FALSE),\"\"))","v":"疾风法印"},1020072]
[1020073,{"$f":"CONCATENATE(IFERROR(VLOOKUP(A225,[1]SkillConfig!$D:$F,3,FALSE),\"\"),IFERROR(VLOOKUP(A225,[1]SkillConfig!$E:$G,3,FALSE),\"\"),IFERROR(VLOOKUP(A225,[1]SkillConfig!$V:$AF,11,FALSE),\"\"))","v":"疾风法印"},1020073]
[1020074,{"$f":"CONCATENATE(IFERROR(VLOOKUP(A226,[1]SkillConfig!$D:$F,3,FALSE),\"\"),IFERROR(VLOOKUP(A226,[1]SkillConfig!$E:$G,3,FALSE),\"\"),IFERROR(VLOOKUP(A226,[1]SkillConfig!$V:$AF,11,FALSE),\"\"))","v":"疾风法印"},1020074]
[1020075,{"$f":"CONCATENATE(IFERROR(VLOOKUP(A227,[1]SkillConfig!$D:$F,3,FALSE),\"\"),IFERROR(VLOOKUP(A227,[1]SkillConfig!$E:$G,3,FALSE),\"\"),IFERROR(VLOOKUP(A227,[1]SkillConfig!$V:$AF,11,FALSE),\"\"))","v":"疾风法印"},1020075]
[null,{"$f":"CONCATENATE(IFERROR(VLOOKUP(A228,[1]SkillConfig!$D:$F,3,FALSE),\"\"),IFERROR(VLOOKUP(A228,[1]SkillConfig!$E:$G,3,FALSE),\"\"),IFERROR(VLOOKUP(A228,[1]SkillConfig!$V:$AF,11,FALSE),\"\"))","v":""}]
[1020080,{"$f":"CONCATENATE(IFERROR(VLOOKUP(A229,[1]SkillConfig!$D:$F,3,FALSE),\"\"),IFERROR(VLOOKUP(A229,[1]SkillConfig!$E:$G,3,FALSE),\"\"),IFERROR(VLOOKUP(A229,[1]SkillConfig!$V:$AF,11,FALSE),\"\"))","v":"太虚剑意"},1020080]
[1020081,{"$f":"CONCATENATE(IFERROR(VLOOKUP(A230,[1]SkillConfig!$D:$F,3,FALSE),\"\"),IFERROR(VLOOKUP(A230,[1]SkillConfig!$E:$G,3,FALSE),\"\"),IFERROR(VLOOKUP(A230,[1]SkillConfig!$V:$AF,11,FALSE),\"\"))","v":"太虚剑意"},1020081]
[1020082,{"$f":"CONCATENATE(IFERROR(VLOOKUP(A231,[1]SkillConfig!$D:$F,3,FALSE),\"\"),IFERROR(VLOOKUP(A231,[1]SkillConfig!$E:$G,3,FALSE),\"\"),IFERROR(VLOOKUP(A231,[1]SkillConfig!$V:$AF,11,FALSE),\"\"))","v":"太虚剑意"},1020082]
[1020083,{"$f":"CONCATENATE(IFERROR(VLOOKUP(A232,[1]SkillConfig!$D:$F,3,FALSE),\"\"),IFERROR(VLOOKUP(A232,[1]SkillConfig!$E:$G,3,FALSE),\"\"),IFERROR(VLOOKUP(A232,[1]SkillConfig!$V:$AF,11,FALSE),\"\"))","v":"太虚剑意"},1020083]
[1020084,{"$f":"CONCATENATE(IFERROR(VLOOKUP(A233,[1]SkillConfig!$D:$F,3,FALSE),\"\"),IFERROR(VLOOKUP(A233,[1]SkillConfig!$E:$G,3,FALSE),\"\"),IFERROR(VLOOKUP(A233,[1]SkillConfig!$V:$AF,11,FALSE),\"\"))","v":"太虚剑意"},1020084]
[1020085,{"$f":"CONCATENATE(IFERROR(VLOOKUP(A234,[1]SkillConfig!$D:$F,3,FALSE),\"\"),IFERROR(VLOOKUP(A234,[1]SkillConfig!$E:$G,3,FALSE),\"\"),IFERROR(VLOOKUP(A234,[1]SkillConfig!$V:$AF,11,FALSE),\"\"))","v":"太虚剑意"},1020085]
[null,{"$f":"CONCATENATE(IFERROR(VLOOKUP(A235,[1]SkillConfig!$D:$F,3,FALSE),\"\"),IFERROR(VLOOKUP(A235,[1]SkillConfig!$E:$G,3,FALSE),\"\"),IFERROR(VLOOKUP(A235,[1]SkillConfig!$V:$AF,11,FALSE),\"\"))","v":""}]
[1020090,{"$f":"CONCATENATE(IFERROR(VLOOKUP(A236,[1]SkillConfig!$D:$F,3,FALSE),\"\"),IFERROR(VLOOKUP(A236,[1]SkillConfig!$E:$G,3,FALSE),\"\"),IFERROR(VLOOKUP(A236,[1]SkillConfig!$V:$AF,11,FALSE),\"\"))","v":"青莲净体诀"},1020090]
[1020091,{"$f":"CONCATENATE(IFERROR(VLOOKUP(A237,[1]SkillConfig!$D:$F,3,FALSE),\"\"),IFERROR(VLOOKUP(A237,[1]SkillConfig!$E:$G,3,FALSE),\"\"),IFERROR(VLOOKUP(A237,[1]SkillConfig!$V:$AF,11,FALSE),\"\"))","v":"青莲净体诀"},1020091]
[1020092,{"$f":"CONCATENATE(IFERROR(VLOOKUP(A238,[1]SkillConfig!$D:$F,3,FALSE),\"\"),IFERROR(VLOOKUP(A238,[1]SkillConfig!$E:$G,3,FALSE),\"\"),IFERROR(VLOOKUP(A238,[1]SkillConfig!$V:$AF,11,FALSE),\"\"))","v":"青莲净体诀"},1020092]
[1020093,{"$f":"CONCATENATE(IFERROR(VLOOKUP(A239,[1]SkillConfig!$D:$F,3,FALSE),\"\"),IFERROR(VLOOKUP(A239,[1]SkillConfig!$E:$G,3,FALSE),\"\"),IFERROR(VLOOKUP(A239,[1]SkillConfig!$V:$AF,11,FALSE),\"\"))","v":"青莲净体诀"},1020093]
[1020094,{"$f":"CONCATENATE(IFERROR(VLOOKUP(A240,[1]SkillConfig!$D:$F,3,FALSE),\"\"),IFERROR(VLOOKUP(A240,[1]SkillConfig!$E:$G,3,FALSE),\"\"),IFERROR(VLOOKUP(A240,[1]SkillConfig!$V:$AF,11,FALSE),\"\"))","v":"青莲净体诀"},1020094]
[1020095,{"$f":"CONCATENATE(IFERROR(VLOOKUP(A241,[1]SkillConfig!$D:$F,3,FALSE),\"\"),IFERROR(VLOOKUP(A241,[1]SkillConfig!$E:$G,3,FALSE),\"\"),IFERROR(VLOOKUP(A241,[1]SkillConfig!$V:$AF,11,FALSE),\"\"))","v":"青莲净体诀"},1020095]
[null,{"$f":"CONCATENATE(IFERROR(VLOOKUP(A242,[1]SkillConfig!$D:$F,3,FALSE),\"\"),IFERROR(VLOOKUP(A242,[1]SkillConfig!$E:$G,3,FALSE),\"\"),IFERROR(VLOOKUP(A242,[1]SkillConfig!$V:$AF,11,FALSE),\"\"))","v":""}]
[1020100,{"$f":"CONCATENATE(IFERROR(VLOOKUP(A243,[1]SkillConfig!$D:$F,3,FALSE),\"\"),IFERROR(VLOOKUP(A243,[1]SkillConfig!$E:$G,3,FALSE),\"\"),IFERROR(VLOOKUP(A243,[1]SkillConfig!$V:$AF,11,FALSE),\"\"))","v":"碧霄回春术"},1020100]
[1020101,{"$f":"CONCATENATE(IFERROR(VLOOKUP(A244,[1]SkillConfig!$D:$F,3,FALSE),\"\"),IFERROR(VLOOKUP(A244,[1]SkillConfig!$E:$G,3,FALSE),\"\"),IFERROR(VLOOKUP(A244,[1]SkillConfig!$V:$AF,11,FALSE),\"\"))","v":"碧霄回春术"},1020101]
[1020102,{"$f":"CONCATENATE(IFERROR(VLOOKUP(A245,[1]SkillConfig!$D:$F,3,FALSE),\"\"),IFERROR(VLOOKUP(A245,[1]SkillConfig!$E:$G,3,FALSE),\"\"),IFERROR(VLOOKUP(A245,[1]SkillConfig!$V:$AF,11,FALSE),\"\"))","v":"碧霄回春术"},1020102]
[1020103,{"$f":"CONCATENATE(IFERROR(VLOOKUP(A246,[1]SkillConfig!$D:$F,3,FALSE),\"\"),IFERROR(VLOOKUP(A246,[1]SkillConfig!$E:$G,3,FALSE),\"\"),IFERROR(VLOOKUP(A246,[1]SkillConfig!$V:$AF,11,FALSE),\"\"))","v":"碧霄回春术"},1020103]
[1020104,{"$f":"CONCATENATE(IFERROR(VLOOKUP(A247,[1]SkillConfig!$D:$F,3,FALSE),\"\"),IFERROR(VLOOKUP(A247,[1]SkillConfig!$E:$G,3,FALSE),\"\"),IFERROR(VLOOKUP(A247,[1]SkillConfig!$V:$AF,11,FALSE),\"\"))","v":"碧霄回春术"},1020104]
[1020105,{"$f":"CONCATENATE(IFERROR(VLOOKUP(A248,[1]SkillConfig!$D:$F,3,FALSE),\"\"),IFERROR(VLOOKUP(A248,[1]SkillConfig!$E:$G,3,FALSE),\"\"),IFERROR(VLOOKUP(A248,[1]SkillConfig!$V:$AF,11,FALSE),\"\"))","v":"碧霄回春术"},1020105]
[null,{"$f":"CONCATENATE(IFERROR(VLOOKUP(A249,[1]SkillConfig!$D:$F,3,FALSE),\"\"),IFERROR(VLOOKUP(A249,[1]SkillConfig!$E:$G,3,FALSE),\"\"),IFERROR(VLOOKUP(A249,[1]SkillConfig!$V:$AF,11,FALSE),\"\"))","v":""}]
[1020110,{"$f":"CONCATENATE(IFERROR(VLOOKUP(A250,[1]SkillConfig!$D:$F,3,FALSE),\"\"),IFERROR(VLOOKUP(A250,[1]SkillConfig!$E:$G,3,FALSE),\"\"),IFERROR(VLOOKUP(A250,[1]SkillConfig!$V:$AF,11,FALSE),\"\"))","v":"血祭神通"},1020110]
[1020111,{"$f":"CONCATENATE(IFERROR(VLOOKUP(A251,[1]SkillConfig!$D:$F,3,FALSE),\"\"),IFERROR(VLOOKUP(A251,[1]SkillConfig!$E:$G,3,FALSE),\"\"),IFERROR(VLOOKUP(A251,[1]SkillConfig!$V:$AF,11,FALSE),\"\"))","v":"血祭神通"},1020111]
[1020112,{"$f":"CONCATENATE(IFERROR(VLOOKUP(A252,[1]SkillConfig!$D:$F,3,FALSE),\"\"),IFERROR(VLOOKUP(A252,[1]SkillConfig!$E:$G,3,FALSE),\"\"),IFERROR(VLOOKUP(A252,[1]SkillConfig!$V:$AF,11,FALSE),\"\"))","v":"血祭神通"},1020112]
[1020113,{"$f":"CONCATENATE(IFERROR(VLOOKUP(A253,[1]SkillConfig!$D:$F,3,FALSE),\"\"),IFERROR(VLOOKUP(A253,[1]SkillConfig!$E:$G,3,FALSE),\"\"),IFERROR(VLOOKUP(A253,[1]SkillConfig!$V:$AF,11,FALSE),\"\"))","v":"血祭神通"},1020113]
[1020114,{"$f":"CONCATENATE(IFERROR(VLOOKUP(A254,[1]SkillConfig!$D:$F,3,FALSE),\"\"),IFERROR(VLOOKUP(A254,[1]SkillConfig!$E:$G,3,FALSE),\"\"),IFERROR(VLOOKUP(A254,[1]SkillConfig!$V:$AF,11,FALSE),\"\"))","v":"血祭神通"},1020114]
[1020115,{"$f":"CONCATENATE(IFERROR(VLOOKUP(A255,[1]SkillConfig!$D:$F,3,FALSE),\"\"),IFERROR(VLOOKUP(A255,[1]SkillConfig!$E:$G,3,FALSE),\"\"),IFERROR(VLOOKUP(A255,[1]SkillConfig!$V:$AF,11,FALSE),\"\"))","v":"血祭神通"},1020115]
[null,{"$f":"CONCATENATE(IFERROR(VLOOKUP(A256,[1]SkillConfig!$D:$F,3,FALSE),\"\"),IFERROR(VLOOKUP(A256,[1]SkillConfig!$E:$G,3,FALSE),\"\"),IFERROR(VLOOKUP(A256,[1]SkillConfig!$V:$AF,11,FALSE),\"\"))","v":""}]
[1020120,{"$f":"CONCATENATE(IFERROR(VLOOKUP(A257,[1]SkillConfig!$D:$F,3,FALSE),\"\"),IFERROR(VLOOKUP(A257,[1]SkillConfig!$E:$G,3,FALSE),\"\"),IFERROR(VLOOKUP(A257,[1]SkillConfig!$V:$AF,11,FALSE),\"\"))","v":"金煞决"},1020120]
[1020121,{"$f":"CONCATENATE(IFERROR(VLOOKUP(A258,[1]SkillConfig!$D:$F,3,FALSE),\"\"),IFERROR(VLOOKUP(A258,[1]SkillConfig!$E:$G,3,FALSE),\"\"),IFERROR(VLOOKUP(A258,[1]SkillConfig!$V:$AF,11,FALSE),\"\"))","v":"金煞决"},1020121]
[1020122,{"$f":"CONCATENATE(IFERROR(VLOOKUP(A259,[1]SkillConfig!$D:$F,3,FALSE),\"\"),IFERROR(VLOOKUP(A259,[1]SkillConfig!$E:$G,3,FALSE),\"\"),IFERROR(VLOOKUP(A259,[1]SkillConfig!$V:$AF,11,FALSE),\"\"))","v":"金煞决"},1020122]
[1020123,{"$f":"CONCATENATE(IFERROR(VLOOKUP(A260,[1]SkillConfig!$D:$F,3,FALSE),\"\"),IFERROR(VLOOKUP(A260,[1]SkillConfig!$E:$G,3,FALSE),\"\"),IFERROR(VLOOKUP(A260,[1]SkillConfig!$V:$AF,11,FALSE),\"\"))","v":"金煞决"},1020123]
[1020124,{"$f":"CONCATENATE(IFERROR(VLOOKUP(A261,[1]SkillConfig!$D:$F,3,FALSE),\"\"),IFERROR(VLOOKUP(A261,[1]SkillConfig!$E:$G,3,FALSE),\"\"),IFERROR(VLOOKUP(A261,[1]SkillConfig!$V:$AF,11,FALSE),\"\"))","v":"金煞决"},1020124]
[1020125,{"$f":"CONCATENATE(IFERROR(VLOOKUP(A262,[1]SkillConfig!$D:$F,3,FALSE),\"\"),IFERROR(VLOOKUP(A262,[1]SkillConfig!$E:$G,3,FALSE),\"\"),IFERROR(VLOOKUP(A262,[1]SkillConfig!$V:$AF,11,FALSE),\"\"))","v":"金煞决"},1020125]
[null,{"$f":"CONCATENATE(IFERROR(VLOOKUP(A263,[1]SkillConfig!$D:$F,3,FALSE),\"\"),IFERROR(VLOOKUP(A263,[1]SkillConfig!$E:$G,3,FALSE),\"\"),IFERROR(VLOOKUP(A263,[1]SkillConfig!$V:$AF,11,FALSE),\"\"))","v":""}]
[1020130,{"$f":"CONCATENATE(IFERROR(VLOOKUP(A264,[1]SkillConfig!$D:$F,3,FALSE),\"\"),IFERROR(VLOOKUP(A264,[1]SkillConfig!$E:$G,3,FALSE),\"\"),IFERROR(VLOOKUP(A264,[1]SkillConfig!$V:$AF,11,FALSE),\"\"))","v":"毒瘴领域"},1020130]
[1020131,{"$f":"CONCATENATE(IFERROR(VLOOKUP(A265,[1]SkillConfig!$D:$F,3,FALSE),\"\"),IFERROR(VLOOKUP(A265,[1]SkillConfig!$E:$G,3,FALSE),\"\"),IFERROR(VLOOKUP(A265,[1]SkillConfig!$V:$AF,11,FALSE),\"\"))","v":"毒瘴领域"},1020131]
[1020132,{"$f":"CONCATENATE(IFERROR(VLOOKUP(A266,[1]SkillConfig!$D:$F,3,FALSE),\"\"),IFERROR(VLOOKUP(A266,[1]SkillConfig!$E:$G,3,FALSE),\"\"),IFERROR(VLOOKUP(A266,[1]SkillConfig!$V:$AF,11,FALSE),\"\"))","v":"毒瘴领域"},1020132]
[1020133,{"$f":"CONCATENATE(IFERROR(VLOOKUP(A267,[1]SkillConfig!$D:$F,3,FALSE),\"\"),IFERROR(VLOOKUP(A267,[1]SkillConfig!$E:$G,3,FALSE),\"\"),IFERROR(VLOOKUP(A267,[1]SkillConfig!$V:$AF,11,FALSE),\"\"))","v":"毒瘴领域"},1020133]
[1020134,{"$f":"CONCATENATE(IFERROR(VLOOKUP(A268,[1]SkillConfig!$D:$F,3,FALSE),\"\"),IFERROR(VLOOKUP(A268,[1]SkillConfig!$E:$G,3,FALSE),\"\"),IFERROR(VLOOKUP(A268,[1]SkillConfig!$V:$AF,11,FALSE),\"\"))","v":"毒瘴领域"},1020134]
[1020135,{"$f":"CONCATENATE(IFERROR(VLOOKUP(A269,[1]SkillConfig!$D:$F,3,FALSE),\"\"),IFERROR(VLOOKUP(A269,[1]SkillConfig!$E:$G,3,FALSE),\"\"),IFERROR(VLOOKUP(A269,[1]SkillConfig!$V:$AF,11,FALSE),\"\"))","v":"毒瘴领域"},1020135]
[null,{"$f":"CONCATENATE(IFERROR(VLOOKUP(A270,[1]SkillConfig!$D:$F,3,FALSE),\"\"),IFERROR(VLOOKUP(A270,[1]SkillConfig!$E:$G,3,FALSE),\"\"),IFERROR(VLOOKUP(A270,[1]SkillConfig!$V:$AF,11,FALSE),\"\"))","v":""}]
[1020140,{"$f":"CONCATENATE(IFERROR(VLOOKUP(A271,[1]SkillConfig!$D:$F,3,FALSE),\"\"),IFERROR(VLOOKUP(A271,[1]SkillConfig!$E:$G,3,FALSE),\"\"),IFERROR(VLOOKUP(A271,[1]SkillConfig!$V:$AF,11,FALSE),\"\"))","v":"毒爆"},1020140]
[1020141,{"$f":"CONCATENATE(IFERROR(VLOOKUP(A272,[1]SkillConfig!$D:$F,3,FALSE),\"\"),IFERROR(VLOOKUP(A272,[1]SkillConfig!$E:$G,3,FALSE),\"\"),IFERROR(VLOOKUP(A272,[1]SkillConfig!$V:$AF,11,FALSE),\"\"))","v":"毒爆"},1020141]
[1020142,{"$f":"CONCATENATE(IFERROR(VLOOKUP(A273,[1]SkillConfig!$D:$F,3,FALSE),\"\"),IFERROR(VLOOKUP(A273,[1]SkillConfig!$E:$G,3,FALSE),\"\"),IFERROR(VLOOKUP(A273,[1]SkillConfig!$V:$AF,11,FALSE),\"\"))","v":"毒爆"},1020142]
[1020143,{"$f":"CONCATENATE(IFERROR(VLOOKUP(A274,[1]SkillConfig!$D:$F,3,FALSE),\"\"),IFERROR(VLOOKUP(A274,[1]SkillConfig!$E:$G,3,FALSE),\"\"),IFERROR(VLOOKUP(A274,[1]SkillConfig!$V:$AF,11,FALSE),\"\"))","v":"毒爆"},1020143]
[1020144,{"$f":"CONCATENATE(IFERROR(VLOOKUP(A275,[1]SkillConfig!$D:$F,3,FALSE),\"\"),IFERROR(VLOOKUP(A275,[1]SkillConfig!$E:$G,3,FALSE),\"\"),IFERROR(VLOOKUP(A275,[1]SkillConfig!$V:$AF,11,FALSE),\"\"))","v":"毒爆"},1020144]
[1020145,{"$f":"CONCATENATE(IFERROR(VLOOKUP(A276,[1]SkillConfig!$D:$F,3,FALSE),\"\"),IFERROR(VLOOKUP(A276,[1]SkillConfig!$E:$G,3,FALSE),\"\"),IFERROR(VLOOKUP(A276,[1]SkillConfig!$V:$AF,11,FALSE),\"\"))","v":"毒爆"},1020145]
[null,{"$f":"CONCATENATE(IFERROR(VLOOKUP(A277,[1]SkillConfig!$D:$F,3,FALSE),\"\"),IFERROR(VLOOKUP(A277,[1]SkillConfig!$E:$G,3,FALSE),\"\"),IFERROR(VLOOKUP(A277,[1]SkillConfig!$V:$AF,11,FALSE),\"\"))","v":""}]
[1020150,{"$f":"CONCATENATE(IFERROR(VLOOKUP(A278,[1]SkillConfig!$D:$F,3,FALSE),\"\"),IFERROR(VLOOKUP(A278,[1]SkillConfig!$E:$G,3,FALSE),\"\"),IFERROR(VLOOKUP(A278,[1]SkillConfig!$V:$AF,11,FALSE),\"\"))","v":"异常转移"},1020150]
[1020151,{"$f":"CONCATENATE(IFERROR(VLOOKUP(A279,[1]SkillConfig!$D:$F,3,FALSE),\"\"),IFERROR(VLOOKUP(A279,[1]SkillConfig!$E:$G,3,FALSE),\"\"),IFERROR(VLOOKUP(A279,[1]SkillConfig!$V:$AF,11,FALSE),\"\"))","v":"异常转移"},1020151]
[1020152,{"$f":"CONCATENATE(IFERROR(VLOOKUP(A280,[1]SkillConfig!$D:$F,3,FALSE),\"\"),IFERROR(VLOOKUP(A280,[1]SkillConfig!$E:$G,3,FALSE),\"\"),IFERROR(VLOOKUP(A280,[1]SkillConfig!$V:$AF,11,FALSE),\"\"))","v":"异常转移"},1020152]
[1020153,{"$f":"CONCATENATE(IFERROR(VLOOKUP(A281,[1]SkillConfig!$D:$F,3,FALSE),\"\"),IFERROR(VLOOKUP(A281,[1]SkillConfig!$E:$G,3,FALSE),\"\"),IFERROR(VLOOKUP(A281,[1]SkillConfig!$V:$AF,11,FALSE),\"\"))","v":"异常转移"},1020153]
[1020154,{"$f":"CONCATENATE(IFERROR(VLOOKUP(A282,[1]SkillConfig!$D:$F,3,FALSE),\"\"),IFERROR(VLOOKUP(A282,[1]SkillConfig!$E:$G,3,FALSE),\"\"),IFERROR(VLOOKUP(A282,[1]SkillConfig!$V:$AF,11,FALSE),\"\"))","v":"异常转移"},1020154]
[1020155,{"$f":"CONCATENATE(IFERROR(VLOOKUP(A283,[1]SkillConfig!$D:$F,3,FALSE),\"\"),IFERROR(VLOOKUP(A283,[1]SkillConfig!$E:$G,3,FALSE),\"\"),IFERROR(VLOOKUP(A283,[1]SkillConfig!$V:$AF,11,FALSE),\"\"))","v":"异常转移"},1020155]
[null,{"$f":"CONCATENATE(IFERROR(VLOOKUP(A284,[1]SkillConfig!$D:$F,3,FALSE),\"\"),IFERROR(VLOOKUP(A284,[1]SkillConfig!$E:$G,3,FALSE),\"\"),IFERROR(VLOOKUP(A284,[1]SkillConfig!$V:$AF,11,FALSE),\"\"))","v":""}]
[1020160,{"$f":"CONCATENATE(IFERROR(VLOOKUP(A285,[1]SkillConfig!$D:$F,3,FALSE),\"\"),IFERROR(VLOOKUP(A285,[1]SkillConfig!$E:$G,3,FALSE),\"\"),IFERROR(VLOOKUP(A285,[1]SkillConfig!$V:$AF,11,FALSE),\"\"))","v":"阴水"},1020160]
[1020161,{"$f":"CONCATENATE(IFERROR(VLOOKUP(A286,[1]SkillConfig!$D:$F,3,FALSE),\"\"),IFERROR(VLOOKUP(A286,[1]SkillConfig!$E:$G,3,FALSE),\"\"),IFERROR(VLOOKUP(A286,[1]SkillConfig!$V:$AF,11,FALSE),\"\"))","v":"阴水"},1020161]
[1020162,{"$f":"CONCATENATE(IFERROR(VLOOKUP(A287,[1]SkillConfig!$D:$F,3,FALSE),\"\"),IFERROR(VLOOKUP(A287,[1]SkillConfig!$E:$G,3,FALSE),\"\"),IFERROR(VLOOKUP(A287,[1]SkillConfig!$V:$AF,11,FALSE),\"\"))","v":"阴水"},1020162]
[1020163,{"$f":"CONCATENATE(IFERROR(VLOOKUP(A288,[1]SkillConfig!$D:$F,3,FALSE),\"\"),IFERROR(VLOOKUP(A288,[1]SkillConfig!$E:$G,3,FALSE),\"\"),IFERROR(VLOOKUP(A288,[1]SkillConfig!$V:$AF,11,FALSE),\"\"))","v":"阴水"},1020163]
[1020164,{"$f":"CONCATENATE(IFERROR(VLOOKUP(A289,[1]SkillConfig!$D:$F,3,FALSE),\"\"),IFERROR(VLOOKUP(A289,[1]SkillConfig!$E:$G,3,FALSE),\"\"),IFERROR(VLOOKUP(A289,[1]SkillConfig!$V:$AF,11,FALSE),\"\"))","v":"阴水"},1020164]
[1020165,{"$f":"CONCATENATE(IFERROR(VLOOKUP(A290,[1]SkillConfig!$D:$F,3,FALSE),\"\"),IFERROR(VLOOKUP(A290,[1]SkillConfig!$E:$G,3,FALSE),\"\"),IFERROR(VLOOKUP(A290,[1]SkillConfig!$V:$AF,11,FALSE),\"\"))","v":"阴水"},1020165]
[null,{"$f":"CONCATENATE(IFERROR(VLOOKUP(A291,[1]SkillConfig!$D:$F,3,FALSE),\"\"),IFERROR(VLOOKUP(A291,[1]SkillConfig!$E:$G,3,FALSE),\"\"),IFERROR(VLOOKUP(A291,[1]SkillConfig!$V:$AF,11,FALSE),\"\"))","v":""}]
[1020170,{"$f":"CONCATENATE(IFERROR(VLOOKUP(A292,[1]SkillConfig!$D:$F,3,FALSE),\"\"),IFERROR(VLOOKUP(A292,[1]SkillConfig!$E:$G,3,FALSE),\"\"),IFERROR(VLOOKUP(A292,[1]SkillConfig!$V:$AF,11,FALSE),\"\"))","v":"灵油"},1020170]
[1020171,{"$f":"CONCATENATE(IFERROR(VLOOKUP(A293,[1]SkillConfig!$D:$F,3,FALSE),\"\"),IFERROR(VLOOKUP(A293,[1]SkillConfig!$E:$G,3,FALSE),\"\"),IFERROR(VLOOKUP(A293,[1]SkillConfig!$V:$AF,11,FALSE),\"\"))","v":"灵油"},1020171]
[1020172,{"$f":"CONCATENATE(IFERROR(VLOOKUP(A294,[1]SkillConfig!$D:$F,3,FALSE),\"\"),IFERROR(VLOOKUP(A294,[1]SkillConfig!$E:$G,3,FALSE),\"\"),IFERROR(VLOOKUP(A294,[1]SkillConfig!$V:$AF,11,FALSE),\"\"))","v":"灵油"},1020172]
[1020173,{"$f":"CONCATENATE(IFERROR(VLOOKUP(A295,[1]SkillConfig!$D:$F,3,FALSE),\"\"),IFERROR(VLOOKUP(A295,[1]SkillConfig!$E:$G,3,FALSE),\"\"),IFERROR(VLOOKUP(A295,[1]SkillConfig!$V:$AF,11,FALSE),\"\"))","v":"灵油"},1020173]
[1020174,{"$f":"CONCATENATE(IFERROR(VLOOKUP(A296,[1]SkillConfig!$D:$F,3,FALSE),\"\"),IFERROR(VLOOKUP(A296,[1]SkillConfig!$E:$G,3,FALSE),\"\"),IFERROR(VLOOKUP(A296,[1]SkillConfig!$V:$AF,11,FALSE),\"\"))","v":"灵油"},1020174]
[1020175,{"$f":"CONCATENATE(IFERROR(VLOOKUP(A297,[1]SkillConfig!$D:$F,3,FALSE),\"\"),IFERROR(VLOOKUP(A297,[1]SkillConfig!$E:$G,3,FALSE),\"\"),IFERROR(VLOOKUP(A297,[1]SkillConfig!$V:$AF,11,FALSE),\"\"))","v":"灵油"},1020175]
[null,{"$f":"CONCATENATE(IFERROR(VLOOKUP(A298,[1]SkillConfig!$D:$F,3,FALSE),\"\"),IFERROR(VLOOKUP(A298,[1]SkillConfig!$E:$G,3,FALSE),\"\"),IFERROR(VLOOKUP(A298,[1]SkillConfig!$V:$AF,11,FALSE),\"\"))","v":""}]
[1020180,{"$f":"CONCATENATE(IFERROR(VLOOKUP(A299,[1]SkillConfig!$D:$F,3,FALSE),\"\"),IFERROR(VLOOKUP(A299,[1]SkillConfig!$E:$G,3,FALSE),\"\"),IFERROR(VLOOKUP(A299,[1]SkillConfig!$V:$AF,11,FALSE),\"\"))","v":"厚土护体"},1020180]
[1020181,{"$f":"CONCATENATE(IFERROR(VLOOKUP(A300,[1]SkillConfig!$D:$F,3,FALSE),\"\"),IFERROR(VLOOKUP(A300,[1]SkillConfig!$E:$G,3,FALSE),\"\"),IFERROR(VLOOKUP(A300,[1]SkillConfig!$V:$AF,11,FALSE),\"\"))","v":"厚土护体"},1020181]
[1020182,{"$f":"CONCATENATE(IFERROR(VLOOKUP(A301,[1]SkillConfig!$D:$F,3,FALSE),\"\"),IFERROR(VLOOKUP(A301,[1]SkillConfig!$E:$G,3,FALSE),\"\"),IFERROR(VLOOKUP(A301,[1]SkillConfig!$V:$AF,11,FALSE),\"\"))","v":"厚土护体"},1020182]
[1020183,{"$f":"CONCATENATE(IFERROR(VLOOKUP(A302,[1]SkillConfig!$D:$F,3,FALSE),\"\"),IFERROR(VLOOKUP(A302,[1]SkillConfig!$E:$G,3,FALSE),\"\"),IFERROR(VLOOKUP(A302,[1]SkillConfig!$V:$AF,11,FALSE),\"\"))","v":"厚土护体"},1020183]
[1020184,{"$f":"CONCATENATE(IFERROR(VLOOKUP(A303,[1]SkillConfig!$D:$F,3,FALSE),\"\"),IFERROR(VLOOKUP(A303,[1]SkillConfig!$E:$G,3,FALSE),\"\"),IFERROR(VLOOKUP(A303,[1]SkillConfig!$V:$AF,11,FALSE),\"\"))","v":"厚土护体"},1020184]
[1020185,{"$f":"CONCATENATE(IFERROR(VLOOKUP(A304,[1]SkillConfig!$D:$F,3,FALSE),\"\"),IFERROR(VLOOKUP(A304,[1]SkillConfig!$E:$G,3,FALSE),\"\"),IFERROR(VLOOKUP(A304,[1]SkillConfig!$V:$AF,11,FALSE),\"\"))","v":"厚土护体"},1020185]
[null,{"$f":"CONCATENATE(IFERROR(VLOOKUP(A305,[1]SkillConfig!$D:$F,3,FALSE),\"\"),IFERROR(VLOOKUP(A305,[1]SkillConfig!$E:$G,3,FALSE),\"\"),IFERROR(VLOOKUP(A305,[1]SkillConfig!$V:$AF,11,FALSE),\"\"))","v":""}]
[1020190,{"$f":"CONCATENATE(IFERROR(VLOOKUP(A306,[1]SkillConfig!$D:$F,3,FALSE),\"\"),IFERROR(VLOOKUP(A306,[1]SkillConfig!$E:$G,3,FALSE),\"\"),IFERROR(VLOOKUP(A306,[1]SkillConfig!$V:$AF,11,FALSE),\"\"))","v":"金沙"},1020190]
[1020191,{"$f":"CONCATENATE(IFERROR(VLOOKUP(A307,[1]SkillConfig!$D:$F,3,FALSE),\"\"),IFERROR(VLOOKUP(A307,[1]SkillConfig!$E:$G,3,FALSE),\"\"),IFERROR(VLOOKUP(A307,[1]SkillConfig!$V:$AF,11,FALSE),\"\"))","v":"金沙"},1020191]
[1020192,{"$f":"CONCATENATE(IFERROR(VLOOKUP(A308,[1]SkillConfig!$D:$F,3,FALSE),\"\"),IFERROR(VLOOKUP(A308,[1]SkillConfig!$E:$G,3,FALSE),\"\"),IFERROR(VLOOKUP(A308,[1]SkillConfig!$V:$AF,11,FALSE),\"\"))","v":"金沙"},1020192]
[1020193,{"$f":"CONCATENATE(IFERROR(VLOOKUP(A309,[1]SkillConfig!$D:$F,3,FALSE),\"\"),IFERROR(VLOOKUP(A309,[1]SkillConfig!$E:$G,3,FALSE),\"\"),IFERROR(VLOOKUP(A309,[1]SkillConfig!$V:$AF,11,FALSE),\"\"))","v":"金沙"},1020193]
[1020194,{"$f":"CONCATENATE(IFERROR(VLOOKUP(A310,[1]SkillConfig!$D:$F,3,FALSE),\"\"),IFERROR(VLOOKUP(A310,[1]SkillConfig!$E:$G,3,FALSE),\"\"),IFERROR(VLOOKUP(A310,[1]SkillConfig!$V:$AF,11,FALSE),\"\"))","v":"金沙"},1020194]
[1020195,{"$f":"CONCATENATE(IFERROR(VLOOKUP(A311,[1]SkillConfig!$D:$F,3,FALSE),\"\"),IFERROR(VLOOKUP(A311,[1]SkillConfig!$E:$G,3,FALSE),\"\"),IFERROR(VLOOKUP(A311,[1]SkillConfig!$V:$AF,11,FALSE),\"\"))","v":"金沙"},1020195]
[null,{"$f":"CONCATENATE(IFERROR(VLOOKUP(A312,[1]SkillConfig!$D:$F,3,FALSE),\"\"),IFERROR(VLOOKUP(A312,[1]SkillConfig!$E:$G,3,FALSE),\"\"),IFERROR(VLOOKUP(A312,[1]SkillConfig!$V:$AF,11,FALSE),\"\"))","v":""}]
[null,{"$f":"CONCATENATE(IFERROR(VLOOKUP(A313,[1]SkillConfig!$D:$F,3,FALSE),\"\"),IFERROR(VLOOKUP(A313,[1]SkillConfig!$E:$G,3,FALSE),\"\"),IFERROR(VLOOKUP(A313,[1]SkillConfig!$V:$AF,11,FALSE),\"\"))","v":""}]
[1031010,{"$f":"CONCATENATE(IFERROR(VLOOKUP(A314,[1]SkillConfig!$D:$F,3,FALSE),\"\"),IFERROR(VLOOKUP(A314,[1]SkillConfig!$E:$G,3,FALSE),\"\"),IFERROR(VLOOKUP(A314,[1]SkillConfig!$V:$AF,11,FALSE),\"\"))","v":"神龙鼎"},1031010]
[1031011,{"$f":"CONCATENATE(IFERROR(VLOOKUP(A315,[1]SkillConfig!$D:$F,3,FALSE),\"\"),IFERROR(VLOOKUP(A315,[1]SkillConfig!$E:$G,3,FALSE),\"\"),IFERROR(VLOOKUP(A315,[1]SkillConfig!$V:$AF,11,FALSE),\"\"))","v":"神龙鼎"},1031011]
[1031012,{"$f":"CONCATENATE(IFERROR(VLOOKUP(A316,[1]SkillConfig!$D:$F,3,FALSE),\"\"),IFERROR(VLOOKUP(A316,[1]SkillConfig!$E:$G,3,FALSE),\"\"),IFERROR(VLOOKUP(A316,[1]SkillConfig!$V:$AF,11,FALSE),\"\"))","v":"神龙鼎"},1031012]
[1031013,{"$f":"CONCATENATE(IFERROR(VLOOKUP(A317,[1]SkillConfig!$D:$F,3,FALSE),\"\"),IFERROR(VLOOKUP(A317,[1]SkillConfig!$E:$G,3,FALSE),\"\"),IFERROR(VLOOKUP(A317,[1]SkillConfig!$V:$AF,11,FALSE),\"\"))","v":"神龙鼎"},1031013]
[1031014,{"$f":"CONCATENATE(IFERROR(VLOOKUP(A318,[1]SkillConfig!$D:$F,3,FALSE),\"\"),IFERROR(VLOOKUP(A318,[1]SkillConfig!$E:$G,3,FALSE),\"\"),IFERROR(VLOOKUP(A318,[1]SkillConfig!$V:$AF,11,FALSE),\"\"))","v":"神龙鼎"},1031014]
[1031015,{"$f":"CONCATENATE(IFERROR(VLOOKUP(A319,[1]SkillConfig!$D:$F,3,FALSE),\"\"),IFERROR(VLOOKUP(A319,[1]SkillConfig!$E:$G,3,FALSE),\"\"),IFERROR(VLOOKUP(A319,[1]SkillConfig!$V:$AF,11,FALSE),\"\"))","v":"神龙鼎"},1031015]
[null,{"$f":"CONCATENATE(IFERROR(VLOOKUP(A320,[1]SkillConfig!$D:$F,3,FALSE),\"\"),IFERROR(VLOOKUP(A320,[1]SkillConfig!$E:$G,3,FALSE),\"\"),IFERROR(VLOOKUP(A320,[1]SkillConfig!$V:$AF,11,FALSE),\"\"))","v":""}]
[1031020,{"$f":"CONCATENATE(IFERROR(VLOOKUP(A321,[1]SkillConfig!$D:$F,3,FALSE),\"\"),IFERROR(VLOOKUP(A321,[1]SkillConfig!$E:$G,3,FALSE),\"\"),IFERROR(VLOOKUP(A321,[1]SkillConfig!$V:$AF,11,FALSE),\"\"))","v":"噬空齿刃"},1031020]
[1031021,{"$f":"CONCATENATE(IFERROR(VLOOKUP(A322,[1]SkillConfig!$D:$F,3,FALSE),\"\"),IFERROR(VLOOKUP(A322,[1]SkillConfig!$E:$G,3,FALSE),\"\"),IFERROR(VLOOKUP(A322,[1]SkillConfig!$V:$AF,11,FALSE),\"\"))","v":"噬空齿刃"},1031021]
[1031022,{"$f":"CONCATENATE(IFERROR(VLOOKUP(A323,[1]SkillConfig!$D:$F,3,FALSE),\"\"),IFERROR(VLOOKUP(A323,[1]SkillConfig!$E:$G,3,FALSE),\"\"),IFERROR(VLOOKUP(A323,[1]SkillConfig!$V:$AF,11,FALSE),\"\"))","v":"噬空齿刃"},1031022]
[1031023,{"$f":"CONCATENATE(IFERROR(VLOOKUP(A324,[1]SkillConfig!$D:$F,3,FALSE),\"\"),IFERROR(VLOOKUP(A324,[1]SkillConfig!$E:$G,3,FALSE),\"\"),IFERROR(VLOOKUP(A324,[1]SkillConfig!$V:$AF,11,FALSE),\"\"))","v":"噬空齿刃"},1031023]
[1031024,{"$f":"CONCATENATE(IFERROR(VLOOKUP(A325,[1]SkillConfig!$D:$F,3,FALSE),\"\"),IFERROR(VLOOKUP(A325,[1]SkillConfig!$E:$G,3,FALSE),\"\"),IFERROR(VLOOKUP(A325,[1]SkillConfig!$V:$AF,11,FALSE),\"\"))","v":"噬空齿刃"},1031024]
[1031025,{"$f":"CONCATENATE(IFERROR(VLOOKUP(A326,[1]SkillConfig!$D:$F,3,FALSE),\"\"),IFERROR(VLOOKUP(A326,[1]SkillConfig!$E:$G,3,FALSE),\"\"),IFERROR(VLOOKUP(A326,[1]SkillConfig!$V:$AF,11,FALSE),\"\"))","v":"噬空齿刃"},1031025]
[null,{"$f":"CONCATENATE(IFERROR(VLOOKUP(A327,[1]SkillConfig!$D:$F,3,FALSE),\"\"),IFERROR(VLOOKUP(A327,[1]SkillConfig!$E:$G,3,FALSE),\"\"),IFERROR(VLOOKUP(A327,[1]SkillConfig!$V:$AF,11,FALSE),\"\"))","v":""}]
[1032010,{"$f":"CONCATENATE(IFERROR(VLOOKUP(A328,[1]SkillConfig!$D:$F,3,FALSE),\"\"),IFERROR(VLOOKUP(A328,[1]SkillConfig!$E:$G,3,FALSE),\"\"),IFERROR(VLOOKUP(A328,[1]SkillConfig!$V:$AF,11,FALSE),\"\"))","v":"翡翠葫芦"},1032010]
[1032011,{"$f":"CONCATENATE(IFERROR(VLOOKUP(A329,[1]SkillConfig!$D:$F,3,FALSE),\"\"),IFERROR(VLOOKUP(A329,[1]SkillConfig!$E:$G,3,FALSE),\"\"),IFERROR(VLOOKUP(A329,[1]SkillConfig!$V:$AF,11,FALSE),\"\"))","v":"翡翠葫芦"},1032011]
[1032012,{"$f":"CONCATENATE(IFERROR(VLOOKUP(A330,[1]SkillConfig!$D:$F,3,FALSE),\"\"),IFERROR(VLOOKUP(A330,[1]SkillConfig!$E:$G,3,FALSE),\"\"),IFERROR(VLOOKUP(A330,[1]SkillConfig!$V:$AF,11,FALSE),\"\"))","v":"翡翠葫芦"},1032012]
[1032013,{"$f":"CONCATENATE(IFERROR(VLOOKUP(A331,[1]SkillConfig!$D:$F,3,FALSE),\"\"),IFERROR(VLOOKUP(A331,[1]SkillConfig!$E:$G,3,FALSE),\"\"),IFERROR(VLOOKUP(A331,[1]SkillConfig!$V:$AF,11,FALSE),\"\"))","v":"翡翠葫芦"},1032013]
[1032014,{"$f":"CONCATENATE(IFERROR(VLOOKUP(A332,[1]SkillConfig!$D:$F,3,FALSE),\"\"),IFERROR(VLOOKUP(A332,[1]SkillConfig!$E:$G,3,FALSE),\"\"),IFERROR(VLOOKUP(A332,[1]SkillConfig!$V:$AF,11,FALSE),\"\"))","v":"翡翠葫芦"},1032014]
[1032015,{"$f":"CONCATENATE(IFERROR(VLOOKUP(A333,[1]SkillConfig!$D:$F,3,FALSE),\"\"),IFERROR(VLOOKUP(A333,[1]SkillConfig!$E:$G,3,FALSE),\"\"),IFERROR(VLOOKUP(A333,[1]SkillConfig!$V:$AF,11,FALSE),\"\"))","v":"翡翠葫芦"},1032015]
[null,{"$f":"CONCATENATE(IFERROR(VLOOKUP(A334,[1]SkillConfig!$D:$F,3,FALSE),\"\"),IFERROR(VLOOKUP(A334,[1]SkillConfig!$E:$G,3,FALSE),\"\"),IFERROR(VLOOKUP(A334,[1]SkillConfig!$V:$AF,11,FALSE),\"\"))","v":""}]
[1032020,{"$f":"CONCATENATE(IFERROR(VLOOKUP(A335,[1]SkillConfig!$D:$F,3,FALSE),\"\"),IFERROR(VLOOKUP(A335,[1]SkillConfig!$E:$G,3,FALSE),\"\"),IFERROR(VLOOKUP(A335,[1]SkillConfig!$V:$AF,11,FALSE),\"\"))","v":"混沌珠"},1032020]
[1032021,{"$f":"CONCATENATE(IFERROR(VLOOKUP(A336,[1]SkillConfig!$D:$F,3,FALSE),\"\"),IFERROR(VLOOKUP(A336,[1]SkillConfig!$E:$G,3,FALSE),\"\"),IFERROR(VLOOKUP(A336,[1]SkillConfig!$V:$AF,11,FALSE),\"\"))","v":"混沌珠"},1032021]
[1032022,{"$f":"CONCATENATE(IFERROR(VLOOKUP(A337,[1]SkillConfig!$D:$F,3,FALSE),\"\"),IFERROR(VLOOKUP(A337,[1]SkillConfig!$E:$G,3,FALSE),\"\"),IFERROR(VLOOKUP(A337,[1]SkillConfig!$V:$AF,11,FALSE),\"\"))","v":"混沌珠"},1032022]
[1032023,{"$f":"CONCATENATE(IFERROR(VLOOKUP(A338,[1]SkillConfig!$D:$F,3,FALSE),\"\"),IFERROR(VLOOKUP(A338,[1]SkillConfig!$E:$G,3,FALSE),\"\"),IFERROR(VLOOKUP(A338,[1]SkillConfig!$V:$AF,11,FALSE),\"\"))","v":"混沌珠"},1032023]
[1032024,{"$f":"CONCATENATE(IFERROR(VLOOKUP(A339,[1]SkillConfig!$D:$F,3,FALSE),\"\"),IFERROR(VLOOKUP(A339,[1]SkillConfig!$E:$G,3,FALSE),\"\"),IFERROR(VLOOKUP(A339,[1]SkillConfig!$V:$AF,11,FALSE),\"\"))","v":"混沌珠"},1032024]
[1032025,{"$f":"CONCATENATE(IFERROR(VLOOKUP(A340,[1]SkillConfig!$D:$F,3,FALSE),\"\"),IFERROR(VLOOKUP(A340,[1]SkillConfig!$E:$G,3,FALSE),\"\"),IFERROR(VLOOKUP(A340,[1]SkillConfig!$V:$AF,11,FALSE),\"\"))","v":"混沌珠"},1032025]
[null,{"$f":"CONCATENATE(IFERROR(VLOOKUP(A341,[1]SkillConfig!$D:$F,3,FALSE),\"\"),IFERROR(VLOOKUP(A341,[1]SkillConfig!$E:$G,3,FALSE),\"\"),IFERROR(VLOOKUP(A341,[1]SkillConfig!$V:$AF,11,FALSE),\"\"))","v":""}]
[1032030,{"$f":"CONCATENATE(IFERROR(VLOOKUP(A342,[1]SkillConfig!$D:$F,3,FALSE),\"\"),IFERROR(VLOOKUP(A342,[1]SkillConfig!$E:$G,3,FALSE),\"\"),IFERROR(VLOOKUP(A342,[1]SkillConfig!$V:$AF,11,FALSE),\"\"))","v":"绝脉瓶"},1032030]
[1032031,{"$f":"CONCATENATE(IFERROR(VLOOKUP(A343,[1]SkillConfig!$D:$F,3,FALSE),\"\"),IFERROR(VLOOKUP(A343,[1]SkillConfig!$E:$G,3,FALSE),\"\"),IFERROR(VLOOKUP(A343,[1]SkillConfig!$V:$AF,11,FALSE),\"\"))","v":"绝脉瓶"},1032031]
[1032032,{"$f":"CONCATENATE(IFERROR(VLOOKUP(A344,[1]SkillConfig!$D:$F,3,FALSE),\"\"),IFERROR(VLOOKUP(A344,[1]SkillConfig!$E:$G,3,FALSE),\"\"),IFERROR(VLOOKUP(A344,[1]SkillConfig!$V:$AF,11,FALSE),\"\"))","v":"绝脉瓶"},1032032]
[1032033,{"$f":"CONCATENATE(IFERROR(VLOOKUP(A345,[1]SkillConfig!$D:$F,3,FALSE),\"\"),IFERROR(VLOOKUP(A345,[1]SkillConfig!$E:$G,3,FALSE),\"\"),IFERROR(VLOOKUP(A345,[1]SkillConfig!$V:$AF,11,FALSE),\"\"))","v":"绝脉瓶"},1032033]
[1032034,{"$f":"CONCATENATE(IFERROR(VLOOKUP(A346,[1]SkillConfig!$D:$F,3,FALSE),\"\"),IFERROR(VLOOKUP(A346,[1]SkillConfig!$E:$G,3,FALSE),\"\"),IFERROR(VLOOKUP(A346,[1]SkillConfig!$V:$AF,11,FALSE),\"\"))","v":"绝脉瓶"},1032034]
[1032035,{"$f":"CONCATENATE(IFERROR(VLOOKUP(A347,[1]SkillConfig!$D:$F,3,FALSE),\"\"),IFERROR(VLOOKUP(A347,[1]SkillConfig!$E:$G,3,FALSE),\"\"),IFERROR(VLOOKUP(A347,[1]SkillConfig!$V:$AF,11,FALSE),\"\"))","v":"绝脉瓶"},1032035]
[null,{"$f":"CONCATENATE(IFERROR(VLOOKUP(A348,[1]SkillConfig!$D:$F,3,FALSE),\"\"),IFERROR(VLOOKUP(A348,[1]SkillConfig!$E:$G,3,FALSE),\"\"),IFERROR(VLOOKUP(A348,[1]SkillConfig!$V:$AF,11,FALSE),\"\"))","v":""}]
[1033010,{"$f":"CONCATENATE(IFERROR(VLOOKUP(A349,[1]SkillConfig!$D:$F,3,FALSE),\"\"),IFERROR(VLOOKUP(A349,[1]SkillConfig!$E:$G,3,FALSE),\"\"),IFERROR(VLOOKUP(A349,[1]SkillConfig!$V:$AF,11,FALSE),\"\"))","v":"九幽镇魂瓶"},1033010]
[1033011,{"$f":"CONCATENATE(IFERROR(VLOOKUP(A350,[1]SkillConfig!$D:$F,3,FALSE),\"\"),IFERROR(VLOOKUP(A350,[1]SkillConfig!$E:$G,3,FALSE),\"\"),IFERROR(VLOOKUP(A350,[1]SkillConfig!$V:$AF,11,FALSE),\"\"))","v":"九幽镇魂瓶"},1033011]
[1033012,{"$f":"CONCATENATE(IFERROR(VLOOKUP(A351,[1]SkillConfig!$D:$F,3,FALSE),\"\"),IFERROR(VLOOKUP(A351,[1]SkillConfig!$E:$G,3,FALSE),\"\"),IFERROR(VLOOKUP(A351,[1]SkillConfig!$V:$AF,11,FALSE),\"\"))","v":"九幽镇魂瓶"},1033012]
[1033013,{"$f":"CONCATENATE(IFERROR(VLOOKUP(A352,[1]SkillConfig!$D:$F,3,FALSE),\"\"),IFERROR(VLOOKUP(A352,[1]SkillConfig!$E:$G,3,FALSE),\"\"),IFERROR(VLOOKUP(A352,[1]SkillConfig!$V:$AF,11,FALSE),\"\"))","v":"九幽镇魂瓶"},1033013]
[1033014,{"$f":"CONCATENATE(IFERROR(VLOOKUP(A353,[1]SkillConfig!$D:$F,3,FALSE),\"\"),IFERROR(VLOOKUP(A353,[1]SkillConfig!$E:$G,3,FALSE),\"\"),IFERROR(VLOOKUP(A353,[1]SkillConfig!$V:$AF,11,FALSE),\"\"))","v":"九幽镇魂瓶"},1033014]
[1033015,{"$f":"CONCATENATE(IFERROR(VLOOKUP(A354,[1]SkillConfig!$D:$F,3,FALSE),\"\"),IFERROR(VLOOKUP(A354,[1]SkillConfig!$E:$G,3,FALSE),\"\"),IFERROR(VLOOKUP(A354,[1]SkillConfig!$V:$AF,11,FALSE),\"\"))","v":"九幽镇魂瓶"},1033015]
[null,{"$f":"CONCATENATE(IFERROR(VLOOKUP(A355,[1]SkillConfig!$D:$F,3,FALSE),\"\"),IFERROR(VLOOKUP(A355,[1]SkillConfig!$E:$G,3,FALSE),\"\"),IFERROR(VLOOKUP(A355,[1]SkillConfig!$V:$AF,11,FALSE),\"\"))","v":""}]
[1033020,{"$f":"CONCATENATE(IFERROR(VLOOKUP(A356,[1]SkillConfig!$D:$F,3,FALSE),\"\"),IFERROR(VLOOKUP(A356,[1]SkillConfig!$E:$G,3,FALSE),\"\"),IFERROR(VLOOKUP(A356,[1]SkillConfig!$V:$AF,11,FALSE),\"\"))","v":"玉莲守心灯"},1033020]
[1033021,{"$f":"CONCATENATE(IFERROR(VLOOKUP(A357,[1]SkillConfig!$D:$F,3,FALSE),\"\"),IFERROR(VLOOKUP(A357,[1]SkillConfig!$E:$G,3,FALSE),\"\"),IFERROR(VLOOKUP(A357,[1]SkillConfig!$V:$AF,11,FALSE),\"\"))","v":"玉莲守心灯"},1033021]
[1033022,{"$f":"CONCATENATE(IFERROR(VLOOKUP(A358,[1]SkillConfig!$D:$F,3,FALSE),\"\"),IFERROR(VLOOKUP(A358,[1]SkillConfig!$E:$G,3,FALSE),\"\"),IFERROR(VLOOKUP(A358,[1]SkillConfig!$V:$AF,11,FALSE),\"\"))","v":"玉莲守心灯"},1033022]
[1033023,{"$f":"CONCATENATE(IFERROR(VLOOKUP(A359,[1]SkillConfig!$D:$F,3,FALSE),\"\"),IFERROR(VLOOKUP(A359,[1]SkillConfig!$E:$G,3,FALSE),\"\"),IFERROR(VLOOKUP(A359,[1]SkillConfig!$V:$AF,11,FALSE),\"\"))","v":"玉莲守心灯"},1033023]
[1033024,{"$f":"CONCATENATE(IFERROR(VLOOKUP(A360,[1]SkillConfig!$D:$F,3,FALSE),\"\"),IFERROR(VLOOKUP(A360,[1]SkillConfig!$E:$G,3,FALSE),\"\"),IFERROR(VLOOKUP(A360,[1]SkillConfig!$V:$AF,11,FALSE),\"\"))","v":"玉莲守心灯"},1033024]
[1033025,{"$f":"CONCATENATE(IFERROR(VLOOKUP(A361,[1]SkillConfig!$D:$F,3,FALSE),\"\"),IFERROR(VLOOKUP(A361,[1]SkillConfig!$E:$G,3,FALSE),\"\"),IFERROR(VLOOKUP(A361,[1]SkillConfig!$V:$AF,11,FALSE),\"\"))","v":"玉莲守心灯"},1033025]
[null,{"$f":"CONCATENATE(IFERROR(VLOOKUP(A362,[1]SkillConfig!$D:$F,3,FALSE),\"\"),IFERROR(VLOOKUP(A362,[1]SkillConfig!$E:$G,3,FALSE),\"\"),IFERROR(VLOOKUP(A362,[1]SkillConfig!$V:$AF,11,FALSE),\"\"))","v":""}]
[1034010,{"$f":"CONCATENATE(IFERROR(VLOOKUP(A363,[1]SkillConfig!$D:$F,3,FALSE),\"\"),IFERROR(VLOOKUP(A363,[1]SkillConfig!$E:$G,3,FALSE),\"\"),IFERROR(VLOOKUP(A363,[1]SkillConfig!$V:$AF,11,FALSE),\"\"))","v":"融灵塔"},1034010]
[1034011,{"$f":"CONCATENATE(IFERROR(VLOOKUP(A364,[1]SkillConfig!$D:$F,3,FALSE),\"\"),IFERROR(VLOOKUP(A364,[1]SkillConfig!$E:$G,3,FALSE),\"\"),IFERROR(VLOOKUP(A364,[1]SkillConfig!$V:$AF,11,FALSE),\"\"))","v":"融灵塔"},1034011]
[1034012,{"$f":"CONCATENATE(IFERROR(VLOOKUP(A365,[1]SkillConfig!$D:$F,3,FALSE),\"\"),IFERROR(VLOOKUP(A365,[1]SkillConfig!$E:$G,3,FALSE),\"\"),IFERROR(VLOOKUP(A365,[1]SkillConfig!$V:$AF,11,FALSE),\"\"))","v":"融灵塔"},1034012]
[1034013,{"$f":"CONCATENATE(IFERROR(VLOOKUP(A366,[1]SkillConfig!$D:$F,3,FALSE),\"\"),IFERROR(VLOOKUP(A366,[1]SkillConfig!$E:$G,3,FALSE),\"\"),IFERROR(VLOOKUP(A366,[1]SkillConfig!$V:$AF,11,FALSE),\"\"))","v":"融灵塔"},1034013]
[1034014,{"$f":"CONCATENATE(IFERROR(VLOOKUP(A367,[1]SkillConfig!$D:$F,3,FALSE),\"\"),IFERROR(VLOOKUP(A367,[1]SkillConfig!$E:$G,3,FALSE),\"\"),IFERROR(VLOOKUP(A367,[1]SkillConfig!$V:$AF,11,FALSE),\"\"))","v":"融灵塔"},1034014]
[1034015,{"$f":"CONCATENATE(IFERROR(VLOOKUP(A368,[1]SkillConfig!$D:$F,3,FALSE),\"\"),IFERROR(VLOOKUP(A368,[1]SkillConfig!$E:$G,3,FALSE),\"\"),IFERROR(VLOOKUP(A368,[1]SkillConfig!$V:$AF,11,FALSE),\"\"))","v":"融灵塔"},1034015]
[null,{"$f":"CONCATENATE(IFERROR(VLOOKUP(A369,[1]SkillConfig!$D:$F,3,FALSE),\"\"),IFERROR(VLOOKUP(A369,[1]SkillConfig!$E:$G,3,FALSE),\"\"),IFERROR(VLOOKUP(A369,[1]SkillConfig!$V:$AF,11,FALSE),\"\"))","v":""}]
[1034020,{"$f":"CONCATENATE(IFERROR(VLOOKUP(A370,[1]SkillConfig!$D:$F,3,FALSE),\"\"),IFERROR(VLOOKUP(A370,[1]SkillConfig!$E:$G,3,FALSE),\"\"),IFERROR(VLOOKUP(A370,[1]SkillConfig!$V:$AF,11,FALSE),\"\"))","v":"禁元珠"},1034020]
[1034021,{"$f":"CONCATENATE(IFERROR(VLOOKUP(A371,[1]SkillConfig!$D:$F,3,FALSE),\"\"),IFERROR(VLOOKUP(A371,[1]SkillConfig!$E:$G,3,FALSE),\"\"),IFERROR(VLOOKUP(A371,[1]SkillConfig!$V:$AF,11,FALSE),\"\"))","v":"禁元珠"},1034021]
[1034022,{"$f":"CONCATENATE(IFERROR(VLOOKUP(A372,[1]SkillConfig!$D:$F,3,FALSE),\"\"),IFERROR(VLOOKUP(A372,[1]SkillConfig!$E:$G,3,FALSE),\"\"),IFERROR(VLOOKUP(A372,[1]SkillConfig!$V:$AF,11,FALSE),\"\"))","v":"禁元珠"},1034022]
[1034023,{"$f":"CONCATENATE(IFERROR(VLOOKUP(A373,[1]SkillConfig!$D:$F,3,FALSE),\"\"),IFERROR(VLOOKUP(A373,[1]SkillConfig!$E:$G,3,FALSE),\"\"),IFERROR(VLOOKUP(A373,[1]SkillConfig!$V:$AF,11,FALSE),\"\"))","v":"禁元珠"},1034023]
[1034024,{"$f":"CONCATENATE(IFERROR(VLOOKUP(A374,[1]SkillConfig!$D:$F,3,FALSE),\"\"),IFERROR(VLOOKUP(A374,[1]SkillConfig!$E:$G,3,FALSE),\"\"),IFERROR(VLOOKUP(A374,[1]SkillConfig!$V:$AF,11,FALSE),\"\"))","v":"禁元珠"},1034024]
[1034025,{"$f":"CONCATENATE(IFERROR(VLOOKUP(A375,[1]SkillConfig!$D:$F,3,FALSE),\"\"),IFERROR(VLOOKUP(A375,[1]SkillConfig!$E:$G,3,FALSE),\"\"),IFERROR(VLOOKUP(A375,[1]SkillConfig!$V:$AF,11,FALSE),\"\"))","v":"禁元珠"},1034025]
[null,{"$f":"CONCATENATE(IFERROR(VLOOKUP(A376,[1]SkillConfig!$D:$F,3,FALSE),\"\"),IFERROR(VLOOKUP(A376,[1]SkillConfig!$E:$G,3,FALSE),\"\"),IFERROR(VLOOKUP(A376,[1]SkillConfig!$V:$AF,11,FALSE),\"\"))","v":""}]
[1035010,{"$f":"CONCATENATE(IFERROR(VLOOKUP(A377,[1]SkillConfig!$D:$F,3,FALSE),\"\"),IFERROR(VLOOKUP(A377,[1]SkillConfig!$E:$G,3,FALSE),\"\"),IFERROR(VLOOKUP(A377,[1]SkillConfig!$V:$AF,11,FALSE),\"\"))","v":"玄龟盾"},1035010]
[1035011,{"$f":"CONCATENATE(IFERROR(VLOOKUP(A378,[1]SkillConfig!$D:$F,3,FALSE),\"\"),IFERROR(VLOOKUP(A378,[1]SkillConfig!$E:$G,3,FALSE),\"\"),IFERROR(VLOOKUP(A378,[1]SkillConfig!$V:$AF,11,FALSE),\"\"))","v":"玄龟盾"},1035011]
[1035012,{"$f":"CONCATENATE(IFERROR(VLOOKUP(A379,[1]SkillConfig!$D:$F,3,FALSE),\"\"),IFERROR(VLOOKUP(A379,[1]SkillConfig!$E:$G,3,FALSE),\"\"),IFERROR(VLOOKUP(A379,[1]SkillConfig!$V:$AF,11,FALSE),\"\"))","v":"玄龟盾"},1035012]
[1035013,{"$f":"CONCATENATE(IFERROR(VLOOKUP(A380,[1]SkillConfig!$D:$F,3,FALSE),\"\"),IFERROR(VLOOKUP(A380,[1]SkillConfig!$E:$G,3,FALSE),\"\"),IFERROR(VLOOKUP(A380,[1]SkillConfig!$V:$AF,11,FALSE),\"\"))","v":"玄龟盾"},1035013]
[1035014,{"$f":"CONCATENATE(IFERROR(VLOOKUP(A381,[1]SkillConfig!$D:$F,3,FALSE),\"\"),IFERROR(VLOOKUP(A381,[1]SkillConfig!$E:$G,3,FALSE),\"\"),IFERROR(VLOOKUP(A381,[1]SkillConfig!$V:$AF,11,FALSE),\"\"))","v":"玄龟盾"},1035014]
[1035015,{"$f":"CONCATENATE(IFERROR(VLOOKUP(A382,[1]SkillConfig!$D:$F,3,FALSE),\"\"),IFERROR(VLOOKUP(A382,[1]SkillConfig!$E:$G,3,FALSE),\"\"),IFERROR(VLOOKUP(A382,[1]SkillConfig!$V:$AF,11,FALSE),\"\"))","v":"玄龟盾"},1035015]
[null,{"$f":"CONCATENATE(IFERROR(VLOOKUP(A383,[1]SkillConfig!$D:$F,3,FALSE),\"\"),IFERROR(VLOOKUP(A383,[1]SkillConfig!$E:$G,3,FALSE),\"\"),IFERROR(VLOOKUP(A383,[1]SkillConfig!$V:$AF,11,FALSE),\"\"))","v":""}]
[1035020,{"$f":"CONCATENATE(IFERROR(VLOOKUP(A384,[1]SkillConfig!$D:$F,3,FALSE),\"\"),IFERROR(VLOOKUP(A384,[1]SkillConfig!$E:$G,3,FALSE),\"\"),IFERROR(VLOOKUP(A384,[1]SkillConfig!$V:$AF,11,FALSE),\"\"))","v":"天殇血刃剑"},1035020]
[1035021,{"$f":"CONCATENATE(IFERROR(VLOOKUP(A385,[1]SkillConfig!$D:$F,3,FALSE),\"\"),IFERROR(VLOOKUP(A385,[1]SkillConfig!$E:$G,3,FALSE),\"\"),IFERROR(VLOOKUP(A385,[1]SkillConfig!$V:$AF,11,FALSE),\"\"))","v":"天殇血刃剑"},1035021]
[1035022,{"$f":"CONCATENATE(IFERROR(VLOOKUP(A386,[1]SkillConfig!$D:$F,3,FALSE),\"\"),IFERROR(VLOOKUP(A386,[1]SkillConfig!$E:$G,3,FALSE),\"\"),IFERROR(VLOOKUP(A386,[1]SkillConfig!$V:$AF,11,FALSE),\"\"))","v":"天殇血刃剑"},1035022]
[1035023,{"$f":"CONCATENATE(IFERROR(VLOOKUP(A387,[1]SkillConfig!$D:$F,3,FALSE),\"\"),IFERROR(VLOOKUP(A387,[1]SkillConfig!$E:$G,3,FALSE),\"\"),IFERROR(VLOOKUP(A387,[1]SkillConfig!$V:$AF,11,FALSE),\"\"))","v":"天殇血刃剑"},1035023]
[1035024,{"$f":"CONCATENATE(IFERROR(VLOOKUP(A388,[1]SkillConfig!$D:$F,3,FALSE),\"\"),IFERROR(VLOOKUP(A388,[1]SkillConfig!$E:$G,3,FALSE),\"\"),IFERROR(VLOOKUP(A388,[1]SkillConfig!$V:$AF,11,FALSE),\"\"))","v":"天殇血刃剑"},1035024]
[1035025,{"$f":"CONCATENATE(IFERROR(VLOOKUP(A389,[1]SkillConfig!$D:$F,3,FALSE),\"\"),IFERROR(VLOOKUP(A389,[1]SkillConfig!$E:$G,3,FALSE),\"\"),IFERROR(VLOOKUP(A389,[1]SkillConfig!$V:$AF,11,FALSE),\"\"))","v":"天殇血刃剑"},1035025]
[null,{"$f":"CONCATENATE(IFERROR(VLOOKUP(A390,[1]SkillConfig!$D:$F,3,FALSE),\"\"),IFERROR(VLOOKUP(A390,[1]SkillConfig!$E:$G,3,FALSE),\"\"),IFERROR(VLOOKUP(A390,[1]SkillConfig!$V:$AF,11,FALSE),\"\"))","v":""}]
[null,{"$f":"CONCATENATE(IFERROR(VLOOKUP(A391,[1]SkillConfig!$D:$F,3,FALSE),\"\"),IFERROR(VLOOKUP(A391,[1]SkillConfig!$E:$G,3,FALSE),\"\"),IFERROR(VLOOKUP(A391,[1]SkillConfig!$V:$AF,11,FALSE),\"\"))","v":""}]
[1601011,{"$f":"CONCATENATE(IFERROR(VLOOKUP(A392,[1]SkillConfig!$D:$F,3,FALSE),\"\"),IFERROR(VLOOKUP(A392,[1]SkillConfig!$E:$G,3,FALSE),\"\"),IFERROR(VLOOKUP(A392,[1]SkillConfig!$V:$AF,11,FALSE),\"\"))","v":"星辰道"},1601011]
[1601021,{"$f":"CONCATENATE(IFERROR(VLOOKUP(A393,[1]SkillConfig!$D:$F,3,FALSE),\"\"),IFERROR(VLOOKUP(A393,[1]SkillConfig!$E:$G,3,FALSE),\"\"),IFERROR(VLOOKUP(A393,[1]SkillConfig!$V:$AF,11,FALSE),\"\"))","v":"生衍道"},1601021]
[1601031,{"$f":"CONCATENATE(IFERROR(VLOOKUP(A394,[1]SkillConfig!$D:$F,3,FALSE),\"\"),IFERROR(VLOOKUP(A394,[1]SkillConfig!$E:$G,3,FALSE),\"\"),IFERROR(VLOOKUP(A394,[1]SkillConfig!$V:$AF,11,FALSE),\"\"))","v":"玄黄道"},1601031]
[null,{"$f":"CONCATENATE(IFERROR(VLOOKUP(A395,[1]SkillConfig!$D:$F,3,FALSE),\"\"),IFERROR(VLOOKUP(A395,[1]SkillConfig!$E:$G,3,FALSE),\"\"),IFERROR(VLOOKUP(A395,[1]SkillConfig!$V:$AF,11,FALSE),\"\"))","v":""}]
[null,{"$f":"CONCATENATE(IFERROR(VLOOKUP(A396,[1]SkillConfig!$D:$F,3,FALSE),\"\"),IFERROR(VLOOKUP(A396,[1]SkillConfig!$E:$G,3,FALSE),\"\"),IFERROR(VLOOKUP(A396,[1]SkillConfig!$V:$AF,11,FALSE),\"\"))","v":""}]
[1090010,{"$f":"CONCATENATE(IFERROR(VLOOKUP(A397,[1]SkillConfig!$D:$F,3,FALSE),\"\"),IFERROR(VLOOKUP(A397,[1]SkillConfig!$E:$G,3,FALSE),\"\"),IFERROR(VLOOKUP(A397,[1]SkillConfig!$V:$AF,11,FALSE),\"\"))","v":"万箭穿心"},1090010]
[1090011,{"$f":"CONCATENATE(IFERROR(VLOOKUP(A398,[1]SkillConfig!$D:$F,3,FALSE),\"\"),IFERROR(VLOOKUP(A398,[1]SkillConfig!$E:$G,3,FALSE),\"\"),IFERROR(VLOOKUP(A398,[1]SkillConfig!$V:$AF,11,FALSE),\"\"))","v":"万箭穿心"},1090011]
[1090012,{"$f":"CONCATENATE(IFERROR(VLOOKUP(A399,[1]SkillConfig!$D:$F,3,FALSE),\"\"),IFERROR(VLOOKUP(A399,[1]SkillConfig!$E:$G,3,FALSE),\"\"),IFERROR(VLOOKUP(A399,[1]SkillConfig!$V:$AF,11,FALSE),\"\"))","v":"万箭穿心"},1090012]
[1090013,{"$f":"CONCATENATE(IFERROR(VLOOKUP(A400,[1]SkillConfig!$D:$F,3,FALSE),\"\"),IFERROR(VLOOKUP(A400,[1]SkillConfig!$E:$G,3,FALSE),\"\"),IFERROR(VLOOKUP(A400,[1]SkillConfig!$V:$AF,11,FALSE),\"\"))","v":"万箭穿心"},1090013]
[1090014,{"$f":"CONCATENATE(IFERROR(VLOOKUP(A401,[1]SkillConfig!$D:$F,3,FALSE),\"\"),IFERROR(VLOOKUP(A401,[1]SkillConfig!$E:$G,3,FALSE),\"\"),IFERROR(VLOOKUP(A401,[1]SkillConfig!$V:$AF,11,FALSE),\"\"))","v":"万箭穿心"},1090014]
[1090015,{"$f":"CONCATENATE(IFERROR(VLOOKUP(A402,[1]SkillConfig!$D:$F,3,FALSE),\"\"),IFERROR(VLOOKUP(A402,[1]SkillConfig!$E:$G,3,FALSE),\"\"),IFERROR(VLOOKUP(A402,[1]SkillConfig!$V:$AF,11,FALSE),\"\"))","v":"万箭穿心"},1090015]
[null,{"$f":"CONCATENATE(IFERROR(VLOOKUP(A403,[1]SkillConfig!$D:$F,3,FALSE),\"\"),IFERROR(VLOOKUP(A403,[1]SkillConfig!$E:$G,3,FALSE),\"\"),IFERROR(VLOOKUP(A403,[1]SkillConfig!$V:$AF,11,FALSE),\"\"))","v":""}]
[1090020,{"$f":"CONCATENATE(IFERROR(VLOOKUP(A404,[1]SkillConfig!$D:$F,3,FALSE),\"\"),IFERROR(VLOOKUP(A404,[1]SkillConfig!$E:$G,3,FALSE),\"\"),IFERROR(VLOOKUP(A404,[1]SkillConfig!$V:$AF,11,FALSE),\"\"))","v":"御剑术"},1090020]
[1090021,{"$f":"CONCATENATE(IFERROR(VLOOKUP(A405,[1]SkillConfig!$D:$F,3,FALSE),\"\"),IFERROR(VLOOKUP(A405,[1]SkillConfig!$E:$G,3,FALSE),\"\"),IFERROR(VLOOKUP(A405,[1]SkillConfig!$V:$AF,11,FALSE),\"\"))","v":"御剑术"},1090021]
[1090022,{"$f":"CONCATENATE(IFERROR(VLOOKUP(A406,[1]SkillConfig!$D:$F,3,FALSE),\"\"),IFERROR(VLOOKUP(A406,[1]SkillConfig!$E:$G,3,FALSE),\"\"),IFERROR(VLOOKUP(A406,[1]SkillConfig!$V:$AF,11,FALSE),\"\"))","v":"御剑术"},1090022]
[1090023,{"$f":"CONCATENATE(IFERROR(VLOOKUP(A407,[1]SkillConfig!$D:$F,3,FALSE),\"\"),IFERROR(VLOOKUP(A407,[1]SkillConfig!$E:$G,3,FALSE),\"\"),IFERROR(VLOOKUP(A407,[1]SkillConfig!$V:$AF,11,FALSE),\"\"))","v":"御剑术"},1090023]
[1090024,{"$f":"CONCATENATE(IFERROR(VLOOKUP(A408,[1]SkillConfig!$D:$F,3,FALSE),\"\"),IFERROR(VLOOKUP(A408,[1]SkillConfig!$E:$G,3,FALSE),\"\"),IFERROR(VLOOKUP(A408,[1]SkillConfig!$V:$AF,11,FALSE),\"\"))","v":"御剑术"},1090024]
[1090025,{"$f":"CONCATENATE(IFERROR(VLOOKUP(A409,[1]SkillConfig!$D:$F,3,FALSE),\"\"),IFERROR(VLOOKUP(A409,[1]SkillConfig!$E:$G,3,FALSE),\"\"),IFERROR(VLOOKUP(A409,[1]SkillConfig!$V:$AF,11,FALSE),\"\"))","v":"御剑术"},1090025]
[null,{"$f":"CONCATENATE(IFERROR(VLOOKUP(A410,[1]SkillConfig!$D:$F,3,FALSE),\"\"),IFERROR(VLOOKUP(A410,[1]SkillConfig!$E:$G,3,FALSE),\"\"),IFERROR(VLOOKUP(A410,[1]SkillConfig!$V:$AF,11,FALSE),\"\"))","v":""}]
[1090030,{"$f":"CONCATENATE(IFERROR(VLOOKUP(A411,[1]SkillConfig!$D:$F,3,FALSE),\"\"),IFERROR(VLOOKUP(A411,[1]SkillConfig!$E:$G,3,FALSE),\"\"),IFERROR(VLOOKUP(A411,[1]SkillConfig!$V:$AF,11,FALSE),\"\"))","v":"剑意"},1090030]
[null,{"$f":"CONCATENATE(IFERROR(VLOOKUP(A412,[1]SkillConfig!$D:$F,3,FALSE),\"\"),IFERROR(VLOOKUP(A412,[1]SkillConfig!$E:$G,3,FALSE),\"\"),IFERROR(VLOOKUP(A412,[1]SkillConfig!$V:$AF,11,FALSE),\"\"))","v":""}]
[1090040,{"$f":"CONCATENATE(IFERROR(VLOOKUP(A413,[1]SkillConfig!$D:$F,3,FALSE),\"\"),IFERROR(VLOOKUP(A413,[1]SkillConfig!$E:$G,3,FALSE),\"\"),IFERROR(VLOOKUP(A413,[1]SkillConfig!$V:$AF,11,FALSE),\"\"))","v":"boss技能4"},1090040]
[1090041,{"$f":"CONCATENATE(IFERROR(VLOOKUP(A414,[1]SkillConfig!$D:$F,3,FALSE),\"\"),IFERROR(VLOOKUP(A414,[1]SkillConfig!$E:$G,3,FALSE),\"\"),IFERROR(VLOOKUP(A414,[1]SkillConfig!$V:$AF,11,FALSE),\"\"))","v":"boss技能4"},1090041]
[1090042,{"$f":"CONCATENATE(IFERROR(VLOOKUP(A415,[1]SkillConfig!$D:$F,3,FALSE),\"\"),IFERROR(VLOOKUP(A415,[1]SkillConfig!$E:$G,3,FALSE),\"\"),IFERROR(VLOOKUP(A415,[1]SkillConfig!$V:$AF,11,FALSE),\"\"))","v":"boss技能4"},1090042]
[1090043,{"$f":"CONCATENATE(IFERROR(VLOOKUP(A416,[1]SkillConfig!$D:$F,3,FALSE),\"\"),IFERROR(VLOOKUP(A416,[1]SkillConfig!$E:$G,3,FALSE),\"\"),IFERROR(VLOOKUP(A416,[1]SkillConfig!$V:$AF,11,FALSE),\"\"))","v":"boss技能4"},1090043]
[1090044,{"$f":"CONCATENATE(IFERROR(VLOOKUP(A417,[1]SkillConfig!$D:$F,3,FALSE),\"\"),IFERROR(VLOOKUP(A417,[1]SkillConfig!$E:$G,3,FALSE),\"\"),IFERROR(VLOOKUP(A417,[1]SkillConfig!$V:$AF,11,FALSE),\"\"))","v":"boss技能4"},1090044]
[1090045,{"$f":"CONCATENATE(IFERROR(VLOOKUP(A418,[1]SkillConfig!$D:$F,3,FALSE),\"\"),IFERROR(VLOOKUP(A418,[1]SkillConfig!$E:$G,3,FALSE),\"\"),IFERROR(VLOOKUP(A418,[1]SkillConfig!$V:$AF,11,FALSE),\"\"))","v":"boss技能4"},1090045]
[null,{"$f":"CONCATENATE(IFERROR(VLOOKUP(A419,[1]SkillConfig!$D:$F,3,FALSE),\"\"),IFERROR(VLOOKUP(A419,[1]SkillConfig!$E:$G,3,FALSE),\"\"),IFERROR(VLOOKUP(A419,[1]SkillConfig!$V:$AF,11,FALSE),\"\"))","v":""}]
[1090050,{"$f":"CONCATENATE(IFERROR(VLOOKUP(A420,[1]SkillConfig!$D:$F,3,FALSE),\"\"),IFERROR(VLOOKUP(A420,[1]SkillConfig!$E:$G,3,FALSE),\"\"),IFERROR(VLOOKUP(A420,[1]SkillConfig!$V:$AF,11,FALSE),\"\"))","v":"boss技能5"},1090050]
[1090051,{"$f":"CONCATENATE(IFERROR(VLOOKUP(A421,[1]SkillConfig!$D:$F,3,FALSE),\"\"),IFERROR(VLOOKUP(A421,[1]SkillConfig!$E:$G,3,FALSE),\"\"),IFERROR(VLOOKUP(A421,[1]SkillConfig!$V:$AF,11,FALSE),\"\"))","v":"boss技能5"},1090051]
[1090052,{"$f":"CONCATENATE(IFERROR(VLOOKUP(A422,[1]SkillConfig!$D:$F,3,FALSE),\"\"),IFERROR(VLOOKUP(A422,[1]SkillConfig!$E:$G,3,FALSE),\"\"),IFERROR(VLOOKUP(A422,[1]SkillConfig!$V:$AF,11,FALSE),\"\"))","v":"boss技能5"},1090052]
[1090053,{"$f":"CONCATENATE(IFERROR(VLOOKUP(A423,[1]SkillConfig!$D:$F,3,FALSE),\"\"),IFERROR(VLOOKUP(A423,[1]SkillConfig!$E:$G,3,FALSE),\"\"),IFERROR(VLOOKUP(A423,[1]SkillConfig!$V:$AF,11,FALSE),\"\"))","v":"boss技能5"},1090053]
[1090054,{"$f":"CONCATENATE(IFERROR(VLOOKUP(A424,[1]SkillConfig!$D:$F,3,FALSE),\"\"),IFERROR(VLOOKUP(A424,[1]SkillConfig!$E:$G,3,FALSE),\"\"),IFERROR(VLOOKUP(A424,[1]SkillConfig!$V:$AF,11,FALSE),\"\"))","v":"boss技能5"},1090054]
[1090055,{"$f":"CONCATENATE(IFERROR(VLOOKUP(A425,[1]SkillConfig!$D:$F,3,FALSE),\"\"),IFERROR(VLOOKUP(A425,[1]SkillConfig!$E:$G,3,FALSE),\"\"),IFERROR(VLOOKUP(A425,[1]SkillConfig!$V:$AF,11,FALSE),\"\"))","v":"boss技能5"},1090055]
[null,{"$f":"CONCATENATE(IFERROR(VLOOKUP(A426,[1]SkillConfig!$D:$F,3,FALSE),\"\"),IFERROR(VLOOKUP(A426,[1]SkillConfig!$E:$G,3,FALSE),\"\"),IFERROR(VLOOKUP(A426,[1]SkillConfig!$V:$AF,11,FALSE),\"\"))","v":""}]
[1090110,{"$f":"CONCATENATE(IFERROR(VLOOKUP(A427,[1]SkillConfig!$D:$F,3,FALSE),\"\"),IFERROR(VLOOKUP(A427,[1]SkillConfig!$E:$G,3,FALSE),\"\"),IFERROR(VLOOKUP(A427,[1]SkillConfig!$V:$AF,11,FALSE),\"\"))","v":"凤凰技能1"},1090110]
[1090111,{"$f":"CONCATENATE(IFERROR(VLOOKUP(A428,[1]SkillConfig!$D:$F,3,FALSE),\"\"),IFERROR(VLOOKUP(A428,[1]SkillConfig!$E:$G,3,FALSE),\"\"),IFERROR(VLOOKUP(A428,[1]SkillConfig!$V:$AF,11,FALSE),\"\"))","v":"凤凰技能1"},1090111]
[1090112,{"$f":"CONCATENATE(IFERROR(VLOOKUP(A429,[1]SkillConfig!$D:$F,3,FALSE),\"\"),IFERROR(VLOOKUP(A429,[1]SkillConfig!$E:$G,3,FALSE),\"\"),IFERROR(VLOOKUP(A429,[1]SkillConfig!$V:$AF,11,FALSE),\"\"))","v":"凤凰技能1"},1090112]
[1090113,{"$f":"CONCATENATE(IFERROR(VLOOKUP(A430,[1]SkillConfig!$D:$F,3,FALSE),\"\"),IFERROR(VLOOKUP(A430,[1]SkillConfig!$E:$G,3,FALSE),\"\"),IFERROR(VLOOKUP(A430,[1]SkillConfig!$V:$AF,11,FALSE),\"\"))","v":"凤凰技能1"},1090113]
[1090114,{"$f":"CONCATENATE(IFERROR(VLOOKUP(A431,[1]SkillConfig!$D:$F,3,FALSE),\"\"),IFERROR(VLOOKUP(A431,[1]SkillConfig!$E:$G,3,FALSE),\"\"),IFERROR(VLOOKUP(A431,[1]SkillConfig!$V:$AF,11,FALSE),\"\"))","v":"凤凰技能1"},1090114]
[1090115,{"$f":"CONCATENATE(IFERROR(VLOOKUP(A432,[1]SkillConfig!$D:$F,3,FALSE),\"\"),IFERROR(VLOOKUP(A432,[1]SkillConfig!$E:$G,3,FALSE),\"\"),IFERROR(VLOOKUP(A432,[1]SkillConfig!$V:$AF,11,FALSE),\"\"))","v":"凤凰技能1"},1090115]
[null,{"$f":"CONCATENATE(IFERROR(VLOOKUP(A433,[1]SkillConfig!$D:$F,3,FALSE),\"\"),IFERROR(VLOOKUP(A433,[1]SkillConfig!$E:$G,3,FALSE),\"\"),IFERROR(VLOOKUP(A433,[1]SkillConfig!$V:$AF,11,FALSE),\"\"))","v":""}]
[1090120,{"$f":"CONCATENATE(IFERROR(VLOOKUP(A434,[1]SkillConfig!$D:$F,3,FALSE),\"\"),IFERROR(VLOOKUP(A434,[1]SkillConfig!$E:$G,3,FALSE),\"\"),IFERROR(VLOOKUP(A434,[1]SkillConfig!$V:$AF,11,FALSE),\"\"))","v":"凤凰技能2"},1090120]
[1090121,{"$f":"CONCATENATE(IFERROR(VLOOKUP(A435,[1]SkillConfig!$D:$F,3,FALSE),\"\"),IFERROR(VLOOKUP(A435,[1]SkillConfig!$E:$G,3,FALSE),\"\"),IFERROR(VLOOKUP(A435,[1]SkillConfig!$V:$AF,11,FALSE),\"\"))","v":"凤凰技能2"},1090121]
[1090122,{"$f":"CONCATENATE(IFERROR(VLOOKUP(A436,[1]SkillConfig!$D:$F,3,FALSE),\"\"),IFERROR(VLOOKUP(A436,[1]SkillConfig!$E:$G,3,FALSE),\"\"),IFERROR(VLOOKUP(A436,[1]SkillConfig!$V:$AF,11,FALSE),\"\"))","v":"凤凰技能2"},1090122]
[1090123,{"$f":"CONCATENATE(IFERROR(VLOOKUP(A437,[1]SkillConfig!$D:$F,3,FALSE),\"\"),IFERROR(VLOOKUP(A437,[1]SkillConfig!$E:$G,3,FALSE),\"\"),IFERROR(VLOOKUP(A437,[1]SkillConfig!$V:$AF,11,FALSE),\"\"))","v":"凤凰技能2"},1090123]
[1090124,{"$f":"CONCATENATE(IFERROR(VLOOKUP(A438,[1]SkillConfig!$D:$F,3,FALSE),\"\"),IFERROR(VLOOKUP(A438,[1]SkillConfig!$E:$G,3,FALSE),\"\"),IFERROR(VLOOKUP(A438,[1]SkillConfig!$V:$AF,11,FALSE),\"\"))","v":"凤凰技能2"},1090124]
[1090125,{"$f":"CONCATENATE(IFERROR(VLOOKUP(A439,[1]SkillConfig!$D:$F,3,FALSE),\"\"),IFERROR(VLOOKUP(A439,[1]SkillConfig!$E:$G,3,FALSE),\"\"),IFERROR(VLOOKUP(A439,[1]SkillConfig!$V:$AF,11,FALSE),\"\"))","v":"凤凰技能2"},1090125]
[null,{"$f":"CONCATENATE(IFERROR(VLOOKUP(A440,[1]SkillConfig!$D:$F,3,FALSE),\"\"),IFERROR(VLOOKUP(A440,[1]SkillConfig!$E:$G,3,FALSE),\"\"),IFERROR(VLOOKUP(A440,[1]SkillConfig!$V:$AF,11,FALSE),\"\"))","v":""}]
[1090130,{"$f":"CONCATENATE(IFERROR(VLOOKUP(A441,[1]SkillConfig!$D:$F,3,FALSE),\"\"),IFERROR(VLOOKUP(A441,[1]SkillConfig!$E:$G,3,FALSE),\"\"),IFERROR(VLOOKUP(A441,[1]SkillConfig!$V:$AF,11,FALSE),\"\"))","v":"霜域新生"},1090130]
[1090131,{"$f":"CONCATENATE(IFERROR(VLOOKUP(A442,[1]SkillConfig!$D:$F,3,FALSE),\"\"),IFERROR(VLOOKUP(A442,[1]SkillConfig!$E:$G,3,FALSE),\"\"),IFERROR(VLOOKUP(A442,[1]SkillConfig!$V:$AF,11,FALSE),\"\"))","v":"霜域新生"},1090131]
[1090132,{"$f":"CONCATENATE(IFERROR(VLOOKUP(A443,[1]SkillConfig!$D:$F,3,FALSE),\"\"),IFERROR(VLOOKUP(A443,[1]SkillConfig!$E:$G,3,FALSE),\"\"),IFERROR(VLOOKUP(A443,[1]SkillConfig!$V:$AF,11,FALSE),\"\"))","v":"霜域新生"},1090132]
[1090133,{"$f":"CONCATENATE(IFERROR(VLOOKUP(A444,[1]SkillConfig!$D:$F,3,FALSE),\"\"),IFERROR(VLOOKUP(A444,[1]SkillConfig!$E:$G,3,FALSE),\"\"),IFERROR(VLOOKUP(A444,[1]SkillConfig!$V:$AF,11,FALSE),\"\"))","v":"霜域新生"},1090133]
[1090134,{"$f":"CONCATENATE(IFERROR(VLOOKUP(A445,[1]SkillConfig!$D:$F,3,FALSE),\"\"),IFERROR(VLOOKUP(A445,[1]SkillConfig!$E:$G,3,FALSE),\"\"),IFERROR(VLOOKUP(A445,[1]SkillConfig!$V:$AF,11,FALSE),\"\"))","v":"霜域新生"},1090134]
[1090135,{"$f":"CONCATENATE(IFERROR(VLOOKUP(A446,[1]SkillConfig!$D:$F,3,FALSE),\"\"),IFERROR(VLOOKUP(A446,[1]SkillConfig!$E:$G,3,FALSE),\"\"),IFERROR(VLOOKUP(A446,[1]SkillConfig!$V:$AF,11,FALSE),\"\"))","v":"霜域新生"},1090135]
[null,{"$f":"CONCATENATE(IFERROR(VLOOKUP(A447,[1]SkillConfig!$D:$F,3,FALSE),\"\"),IFERROR(VLOOKUP(A447,[1]SkillConfig!$E:$G,3,FALSE),\"\"),IFERROR(VLOOKUP(A447,[1]SkillConfig!$V:$AF,11,FALSE),\"\"))","v":""}]
[1090140,{"$f":"CONCATENATE(IFERROR(VLOOKUP(A448,[1]SkillConfig!$D:$F,3,FALSE),\"\"),IFERROR(VLOOKUP(A448,[1]SkillConfig!$E:$G,3,FALSE),\"\"),IFERROR(VLOOKUP(A448,[1]SkillConfig!$V:$AF,11,FALSE),\"\"))","v":"冰星坠地"},1090140]
[1090141,{"$f":"CONCATENATE(IFERROR(VLOOKUP(A449,[1]SkillConfig!$D:$F,3,FALSE),\"\"),IFERROR(VLOOKUP(A449,[1]SkillConfig!$E:$G,3,FALSE),\"\"),IFERROR(VLOOKUP(A449,[1]SkillConfig!$V:$AF,11,FALSE),\"\"))","v":"冰星坠地"},1090141]
[1090142,{"$f":"CONCATENATE(IFERROR(VLOOKUP(A450,[1]SkillConfig!$D:$F,3,FALSE),\"\"),IFERROR(VLOOKUP(A450,[1]SkillConfig!$E:$G,3,FALSE),\"\"),IFERROR(VLOOKUP(A450,[1]SkillConfig!$V:$AF,11,FALSE),\"\"))","v":"冰星坠地"},1090142]
[1090143,{"$f":"CONCATENATE(IFERROR(VLOOKUP(A451,[1]SkillConfig!$D:$F,3,FALSE),\"\"),IFERROR(VLOOKUP(A451,[1]SkillConfig!$E:$G,3,FALSE),\"\"),IFERROR(VLOOKUP(A451,[1]SkillConfig!$V:$AF,11,FALSE),\"\"))","v":"冰星坠地"},1090143]
[1090144,{"$f":"CONCATENATE(IFERROR(VLOOKUP(A452,[1]SkillConfig!$D:$F,3,FALSE),\"\"),IFERROR(VLOOKUP(A452,[1]SkillConfig!$E:$G,3,FALSE),\"\"),IFERROR(VLOOKUP(A452,[1]SkillConfig!$V:$AF,11,FALSE),\"\"))","v":"冰星坠地"},1090144]
[1090145,{"$f":"CONCATENATE(IFERROR(VLOOKUP(A453,[1]SkillConfig!$D:$F,3,FALSE),\"\"),IFERROR(VLOOKUP(A453,[1]SkillConfig!$E:$G,3,FALSE),\"\"),IFERROR(VLOOKUP(A453,[1]SkillConfig!$V:$AF,11,FALSE),\"\"))","v":"冰星坠地"},1090145]
[null,{"$f":"CONCATENATE(IFERROR(VLOOKUP(A454,[1]SkillConfig!$D:$F,3,FALSE),\"\"),IFERROR(VLOOKUP(A454,[1]SkillConfig!$E:$G,3,FALSE),\"\"),IFERROR(VLOOKUP(A454,[1]SkillConfig!$V:$AF,11,FALSE),\"\"))","v":""}]
[1090150,{"$f":"CONCATENATE(IFERROR(VLOOKUP(A455,[1]SkillConfig!$D:$F,3,FALSE),\"\"),IFERROR(VLOOKUP(A455,[1]SkillConfig!$E:$G,3,FALSE),\"\"),IFERROR(VLOOKUP(A455,[1]SkillConfig!$V:$AF,11,FALSE),\"\"))","v":"羽箭"},1090150]
[1090151,{"$f":"CONCATENATE(IFERROR(VLOOKUP(A456,[1]SkillConfig!$D:$F,3,FALSE),\"\"),IFERROR(VLOOKUP(A456,[1]SkillConfig!$E:$G,3,FALSE),\"\"),IFERROR(VLOOKUP(A456,[1]SkillConfig!$V:$AF,11,FALSE),\"\"))","v":"羽箭"},1090151]
[1090152,{"$f":"CONCATENATE(IFERROR(VLOOKUP(A457,[1]SkillConfig!$D:$F,3,FALSE),\"\"),IFERROR(VLOOKUP(A457,[1]SkillConfig!$E:$G,3,FALSE),\"\"),IFERROR(VLOOKUP(A457,[1]SkillConfig!$V:$AF,11,FALSE),\"\"))","v":"羽箭"},1090152]
[1090153,{"$f":"CONCATENATE(IFERROR(VLOOKUP(A458,[1]SkillConfig!$D:$F,3,FALSE),\"\"),IFERROR(VLOOKUP(A458,[1]SkillConfig!$E:$G,3,FALSE),\"\"),IFERROR(VLOOKUP(A458,[1]SkillConfig!$V:$AF,11,FALSE),\"\"))","v":"羽箭"},1090153]
[1090154,{"$f":"CONCATENATE(IFERROR(VLOOKUP(A459,[1]SkillConfig!$D:$F,3,FALSE),\"\"),IFERROR(VLOOKUP(A459,[1]SkillConfig!$E:$G,3,FALSE),\"\"),IFERROR(VLOOKUP(A459,[1]SkillConfig!$V:$AF,11,FALSE),\"\"))","v":"羽箭"},1090154]
[1090155,{"$f":"CONCATENATE(IFERROR(VLOOKUP(A460,[1]SkillConfig!$D:$F,3,FALSE),\"\"),IFERROR(VLOOKUP(A460,[1]SkillConfig!$E:$G,3,FALSE),\"\"),IFERROR(VLOOKUP(A460,[1]SkillConfig!$V:$AF,11,FALSE),\"\"))","v":"羽箭"},1090155]
[null,{"$f":"CONCATENATE(IFERROR(VLOOKUP(A461,[1]SkillConfig!$D:$F,3,FALSE),\"\"),IFERROR(VLOOKUP(A461,[1]SkillConfig!$E:$G,3,FALSE),\"\"),IFERROR(VLOOKUP(A461,[1]SkillConfig!$V:$AF,11,FALSE),\"\"))","v":""}]
[1090210,{"$f":"CONCATENATE(IFERROR(VLOOKUP(A462,[1]SkillConfig!$D:$F,3,FALSE),\"\"),IFERROR(VLOOKUP(A462,[1]SkillConfig!$E:$G,3,FALSE),\"\"),IFERROR(VLOOKUP(A462,[1]SkillConfig!$V:$AF,11,FALSE),\"\"))","v":"冰魄飞甲"},1090210]
[1090211,{"$f":"CONCATENATE(IFERROR(VLOOKUP(A463,[1]SkillConfig!$D:$F,3,FALSE),\"\"),IFERROR(VLOOKUP(A463,[1]SkillConfig!$E:$G,3,FALSE),\"\"),IFERROR(VLOOKUP(A463,[1]SkillConfig!$V:$AF,11,FALSE),\"\"))","v":"冰魄飞甲"},1090211]
[1090212,{"$f":"CONCATENATE(IFERROR(VLOOKUP(A464,[1]SkillConfig!$D:$F,3,FALSE),\"\"),IFERROR(VLOOKUP(A464,[1]SkillConfig!$E:$G,3,FALSE),\"\"),IFERROR(VLOOKUP(A464,[1]SkillConfig!$V:$AF,11,FALSE),\"\"))","v":"冰魄飞甲"},1090212]
[1090213,{"$f":"CONCATENATE(IFERROR(VLOOKUP(A465,[1]SkillConfig!$D:$F,3,FALSE),\"\"),IFERROR(VLOOKUP(A465,[1]SkillConfig!$E:$G,3,FALSE),\"\"),IFERROR(VLOOKUP(A465,[1]SkillConfig!$V:$AF,11,FALSE),\"\"))","v":"冰魄飞甲"},1090213]
[1090214,{"$f":"CONCATENATE(IFERROR(VLOOKUP(A466,[1]SkillConfig!$D:$F,3,FALSE),\"\"),IFERROR(VLOOKUP(A466,[1]SkillConfig!$E:$G,3,FALSE),\"\"),IFERROR(VLOOKUP(A466,[1]SkillConfig!$V:$AF,11,FALSE),\"\"))","v":"冰魄飞甲"},1090214]
[1090215,{"$f":"CONCATENATE(IFERROR(VLOOKUP(A467,[1]SkillConfig!$D:$F,3,FALSE),\"\"),IFERROR(VLOOKUP(A467,[1]SkillConfig!$E:$G,3,FALSE),\"\"),IFERROR(VLOOKUP(A467,[1]SkillConfig!$V:$AF,11,FALSE),\"\"))","v":"冰魄飞甲"},1090215]
[null,{"$f":"CONCATENATE(IFERROR(VLOOKUP(A468,[1]SkillConfig!$D:$F,3,FALSE),\"\"),IFERROR(VLOOKUP(A468,[1]SkillConfig!$E:$G,3,FALSE),\"\"),IFERROR(VLOOKUP(A468,[1]SkillConfig!$V:$AF,11,FALSE),\"\"))","v":""}]
[1090220,{"$f":"CONCATENATE(IFERROR(VLOOKUP(A469,[1]SkillConfig!$D:$F,3,FALSE),\"\"),IFERROR(VLOOKUP(A469,[1]SkillConfig!$E:$G,3,FALSE),\"\"),IFERROR(VLOOKUP(A469,[1]SkillConfig!$V:$AF,11,FALSE),\"\"))","v":"玄甲护体"},1090220]
[1090221,{"$f":"CONCATENATE(IFERROR(VLOOKUP(A470,[1]SkillConfig!$D:$F,3,FALSE),\"\"),IFERROR(VLOOKUP(A470,[1]SkillConfig!$E:$G,3,FALSE),\"\"),IFERROR(VLOOKUP(A470,[1]SkillConfig!$V:$AF,11,FALSE),\"\"))","v":"玄甲护体"},1090221]
[1090222,{"$f":"CONCATENATE(IFERROR(VLOOKUP(A471,[1]SkillConfig!$D:$F,3,FALSE),\"\"),IFERROR(VLOOKUP(A471,[1]SkillConfig!$E:$G,3,FALSE),\"\"),IFERROR(VLOOKUP(A471,[1]SkillConfig!$V:$AF,11,FALSE),\"\"))","v":"玄甲护体"},1090222]
[1090223,{"$f":"CONCATENATE(IFERROR(VLOOKUP(A472,[1]SkillConfig!$D:$F,3,FALSE),\"\"),IFERROR(VLOOKUP(A472,[1]SkillConfig!$E:$G,3,FALSE),\"\"),IFERROR(VLOOKUP(A472,[1]SkillConfig!$V:$AF,11,FALSE),\"\"))","v":"玄甲护体"},1090223]
[1090224,{"$f":"CONCATENATE(IFERROR(VLOOKUP(A473,[1]SkillConfig!$D:$F,3,FALSE),\"\"),IFERROR(VLOOKUP(A473,[1]SkillConfig!$E:$G,3,FALSE),\"\"),IFERROR(VLOOKUP(A473,[1]SkillConfig!$V:$AF,11,FALSE),\"\"))","v":"玄甲护体"},1090224]
[1090225,{"$f":"CONCATENATE(IFERROR(VLOOKUP(A474,[1]SkillConfig!$D:$F,3,FALSE),\"\"),IFERROR(VLOOKUP(A474,[1]SkillConfig!$E:$G,3,FALSE),\"\"),IFERROR(VLOOKUP(A474,[1]SkillConfig!$V:$AF,11,FALSE),\"\"))","v":"玄甲护体"},1090225]
[null,{"$f":"CONCATENATE(IFERROR(VLOOKUP(A475,[1]SkillConfig!$D:$F,3,FALSE),\"\"),IFERROR(VLOOKUP(A475,[1]SkillConfig!$E:$G,3,FALSE),\"\"),IFERROR(VLOOKUP(A475,[1]SkillConfig!$V:$AF,11,FALSE),\"\"))","v":""}]
[1090230,{"$f":"CONCATENATE(IFERROR(VLOOKUP(A476,[1]SkillConfig!$D:$F,3,FALSE),\"\"),IFERROR(VLOOKUP(A476,[1]SkillConfig!$E:$G,3,FALSE),\"\"),IFERROR(VLOOKUP(A476,[1]SkillConfig!$V:$AF,11,FALSE),\"\"))","v":"水球"},1090230]
[1090231,{"$f":"CONCATENATE(IFERROR(VLOOKUP(A477,[1]SkillConfig!$D:$F,3,FALSE),\"\"),IFERROR(VLOOKUP(A477,[1]SkillConfig!$E:$G,3,FALSE),\"\"),IFERROR(VLOOKUP(A477,[1]SkillConfig!$V:$AF,11,FALSE),\"\"))","v":"水球"},1090231]
[1090232,{"$f":"CONCATENATE(IFERROR(VLOOKUP(A478,[1]SkillConfig!$D:$F,3,FALSE),\"\"),IFERROR(VLOOKUP(A478,[1]SkillConfig!$E:$G,3,FALSE),\"\"),IFERROR(VLOOKUP(A478,[1]SkillConfig!$V:$AF,11,FALSE),\"\"))","v":"水球"},1090232]
[1090233,{"$f":"CONCATENATE(IFERROR(VLOOKUP(A479,[1]SkillConfig!$D:$F,3,FALSE),\"\"),IFERROR(VLOOKUP(A479,[1]SkillConfig!$E:$G,3,FALSE),\"\"),IFERROR(VLOOKUP(A479,[1]SkillConfig!$V:$AF,11,FALSE),\"\"))","v":"水球"},1090233]
[1090234,{"$f":"CONCATENATE(IFERROR(VLOOKUP(A480,[1]SkillConfig!$D:$F,3,FALSE),\"\"),IFERROR(VLOOKUP(A480,[1]SkillConfig!$E:$G,3,FALSE),\"\"),IFERROR(VLOOKUP(A480,[1]SkillConfig!$V:$AF,11,FALSE),\"\"))","v":"水球"},1090234]
[1090235,{"$f":"CONCATENATE(IFERROR(VLOOKUP(A481,[1]SkillConfig!$D:$F,3,FALSE),\"\"),IFERROR(VLOOKUP(A481,[1]SkillConfig!$E:$G,3,FALSE),\"\"),IFERROR(VLOOKUP(A481,[1]SkillConfig!$V:$AF,11,FALSE),\"\"))","v":"水球"},1090235]
[null,{"$f":"CONCATENATE(IFERROR(VLOOKUP(A482,[1]SkillConfig!$D:$F,3,FALSE),\"\"),IFERROR(VLOOKUP(A482,[1]SkillConfig!$E:$G,3,FALSE),\"\"),IFERROR(VLOOKUP(A482,[1]SkillConfig!$V:$AF,11,FALSE),\"\"))","v":""}]
[1090240,{"$f":"CONCATENATE(IFERROR(VLOOKUP(A483,[1]SkillConfig!$D:$F,3,FALSE),\"\"),IFERROR(VLOOKUP(A483,[1]SkillConfig!$E:$G,3,FALSE),\"\"),IFERROR(VLOOKUP(A483,[1]SkillConfig!$V:$AF,11,FALSE),\"\"))","v":"冰魄牢域"},1090240]
[1090241,{"$f":"CONCATENATE(IFERROR(VLOOKUP(A484,[1]SkillConfig!$D:$F,3,FALSE),\"\"),IFERROR(VLOOKUP(A484,[1]SkillConfig!$E:$G,3,FALSE),\"\"),IFERROR(VLOOKUP(A484,[1]SkillConfig!$V:$AF,11,FALSE),\"\"))","v":"冰魄牢域"},1090241]
[1090242,{"$f":"CONCATENATE(IFERROR(VLOOKUP(A485,[1]SkillConfig!$D:$F,3,FALSE),\"\"),IFERROR(VLOOKUP(A485,[1]SkillConfig!$E:$G,3,FALSE),\"\"),IFERROR(VLOOKUP(A485,[1]SkillConfig!$V:$AF,11,FALSE),\"\"))","v":"冰魄牢域"},1090242]
[1090243,{"$f":"CONCATENATE(IFERROR(VLOOKUP(A486,[1]SkillConfig!$D:$F,3,FALSE),\"\"),IFERROR(VLOOKUP(A486,[1]SkillConfig!$E:$G,3,FALSE),\"\"),IFERROR(VLOOKUP(A486,[1]SkillConfig!$V:$AF,11,FALSE),\"\"))","v":"冰魄牢域"},1090243]
[1090244,{"$f":"CONCATENATE(IFERROR(VLOOKUP(A487,[1]SkillConfig!$D:$F,3,FALSE),\"\"),IFERROR(VLOOKUP(A487,[1]SkillConfig!$E:$G,3,FALSE),\"\"),IFERROR(VLOOKUP(A487,[1]SkillConfig!$V:$AF,11,FALSE),\"\"))","v":"冰魄牢域"},1090244]
[1090245,{"$f":"CONCATENATE(IFERROR(VLOOKUP(A488,[1]SkillConfig!$D:$F,3,FALSE),\"\"),IFERROR(VLOOKUP(A488,[1]SkillConfig!$E:$G,3,FALSE),\"\"),IFERROR(VLOOKUP(A488,[1]SkillConfig!$V:$AF,11,FALSE),\"\"))","v":"冰魄牢域"},1090245]
[null,{"$f":"CONCATENATE(IFERROR(VLOOKUP(A489,[1]SkillConfig!$D:$F,3,FALSE),\"\"),IFERROR(VLOOKUP(A489,[1]SkillConfig!$E:$G,3,FALSE),\"\"),IFERROR(VLOOKUP(A489,[1]SkillConfig!$V:$AF,11,FALSE),\"\"))","v":""}]
[1090610,{"$f":"CONCATENATE(IFERROR(VLOOKUP(A490,[1]SkillConfig!$D:$F,3,FALSE),\"\"),IFERROR(VLOOKUP(A490,[1]SkillConfig!$E:$G,3,FALSE),\"\"),IFERROR(VLOOKUP(A490,[1]SkillConfig!$V:$AF,11,FALSE),\"\"))","v":"幻花迷雾"},1090610]
[1090611,{"$f":"CONCATENATE(IFERROR(VLOOKUP(A491,[1]SkillConfig!$D:$F,3,FALSE),\"\"),IFERROR(VLOOKUP(A491,[1]SkillConfig!$E:$G,3,FALSE),\"\"),IFERROR(VLOOKUP(A491,[1]SkillConfig!$V:$AF,11,FALSE),\"\"))","v":"幻花迷雾"},1090611]
[1090612,{"$f":"CONCATENATE(IFERROR(VLOOKUP(A492,[1]SkillConfig!$D:$F,3,FALSE),\"\"),IFERROR(VLOOKUP(A492,[1]SkillConfig!$E:$G,3,FALSE),\"\"),IFERROR(VLOOKUP(A492,[1]SkillConfig!$V:$AF,11,FALSE),\"\"))","v":"幻花迷雾"},1090612]
[1090613,{"$f":"CONCATENATE(IFERROR(VLOOKUP(A493,[1]SkillConfig!$D:$F,3,FALSE),\"\"),IFERROR(VLOOKUP(A493,[1]SkillConfig!$E:$G,3,FALSE),\"\"),IFERROR(VLOOKUP(A493,[1]SkillConfig!$V:$AF,11,FALSE),\"\"))","v":"幻花迷雾"},1090613]
[1090614,{"$f":"CONCATENATE(IFERROR(VLOOKUP(A494,[1]SkillConfig!$D:$F,3,FALSE),\"\"),IFERROR(VLOOKUP(A494,[1]SkillConfig!$E:$G,3,FALSE),\"\"),IFERROR(VLOOKUP(A494,[1]SkillConfig!$V:$AF,11,FALSE),\"\"))","v":"幻花迷雾"},1090614]
[1090615,{"$f":"CONCATENATE(IFERROR(VLOOKUP(A495,[1]SkillConfig!$D:$F,3,FALSE),\"\"),IFERROR(VLOOKUP(A495,[1]SkillConfig!$E:$G,3,FALSE),\"\"),IFERROR(VLOOKUP(A495,[1]SkillConfig!$V:$AF,11,FALSE),\"\"))","v":"幻花迷雾"},1090615]
[null,{"$f":"CONCATENATE(IFERROR(VLOOKUP(A496,[1]SkillConfig!$D:$F,3,FALSE),\"\"),IFERROR(VLOOKUP(A496,[1]SkillConfig!$E:$G,3,FALSE),\"\"),IFERROR(VLOOKUP(A496,[1]SkillConfig!$V:$AF,11,FALSE),\"\"))","v":""}]
[1090620,{"$f":"CONCATENATE(IFERROR(VLOOKUP(A497,[1]SkillConfig!$D:$F,3,FALSE),\"\"),IFERROR(VLOOKUP(A497,[1]SkillConfig!$E:$G,3,FALSE),\"\"),IFERROR(VLOOKUP(A497,[1]SkillConfig!$V:$AF,11,FALSE),\"\"))","v":"木灵分身"},1090620]
[1090621,{"$f":"CONCATENATE(IFERROR(VLOOKUP(A498,[1]SkillConfig!$D:$F,3,FALSE),\"\"),IFERROR(VLOOKUP(A498,[1]SkillConfig!$E:$G,3,FALSE),\"\"),IFERROR(VLOOKUP(A498,[1]SkillConfig!$V:$AF,11,FALSE),\"\"))","v":"木灵分身"},1090621]
[1090622,{"$f":"CONCATENATE(IFERROR(VLOOKUP(A499,[1]SkillConfig!$D:$F,3,FALSE),\"\"),IFERROR(VLOOKUP(A499,[1]SkillConfig!$E:$G,3,FALSE),\"\"),IFERROR(VLOOKUP(A499,[1]SkillConfig!$V:$AF,11,FALSE),\"\"))","v":"木灵分身"},1090622]
[1090623,{"$f":"CONCATENATE(IFERROR(VLOOKUP(A500,[1]SkillConfig!$D:$F,3,FALSE),\"\"),IFERROR(VLOOKUP(A500,[1]SkillConfig!$E:$G,3,FALSE),\"\"),IFERROR(VLOOKUP(A500,[1]SkillConfig!$V:$AF,11,FALSE),\"\"))","v":"木灵分身"},1090623]
[1090624,{"$f":"CONCATENATE(IFERROR(VLOOKUP(A501,[1]SkillConfig!$D:$F,3,FALSE),\"\"),IFERROR(VLOOKUP(A501,[1]SkillConfig!$E:$G,3,FALSE),\"\"),IFERROR(VLOOKUP(A501,[1]SkillConfig!$V:$AF,11,FALSE),\"\"))","v":"木灵分身"},1090624]
[1090625,{"$f":"CONCATENATE(IFERROR(VLOOKUP(A502,[1]SkillConfig!$D:$F,3,FALSE),\"\"),IFERROR(VLOOKUP(A502,[1]SkillConfig!$E:$G,3,FALSE),\"\"),IFERROR(VLOOKUP(A502,[1]SkillConfig!$V:$AF,11,FALSE),\"\"))","v":"木灵分身"},1090625]
[null,{"$f":"CONCATENATE(IFERROR(VLOOKUP(A503,[1]SkillConfig!$D:$F,3,FALSE),\"\"),IFERROR(VLOOKUP(A503,[1]SkillConfig!$E:$G,3,FALSE),\"\"),IFERROR(VLOOKUP(A503,[1]SkillConfig!$V:$AF,11,FALSE),\"\"))","v":""}]
[1090630,{"$f":"CONCATENATE(IFERROR(VLOOKUP(A504,[1]SkillConfig!$D:$F,3,FALSE),\"\"),IFERROR(VLOOKUP(A504,[1]SkillConfig!$E:$G,3,FALSE),\"\"),IFERROR(VLOOKUP(A504,[1]SkillConfig!$V:$AF,11,FALSE),\"\"))","v":"木桩"},1090630]
[1090631,{"$f":"CONCATENATE(IFERROR(VLOOKUP(A505,[1]SkillConfig!$D:$F,3,FALSE),\"\"),IFERROR(VLOOKUP(A505,[1]SkillConfig!$E:$G,3,FALSE),\"\"),IFERROR(VLOOKUP(A505,[1]SkillConfig!$V:$AF,11,FALSE),\"\"))","v":"木桩"},1090631]
[1090632,{"$f":"CONCATENATE(IFERROR(VLOOKUP(A506,[1]SkillConfig!$D:$F,3,FALSE),\"\"),IFERROR(VLOOKUP(A506,[1]SkillConfig!$E:$G,3,FALSE),\"\"),IFERROR(VLOOKUP(A506,[1]SkillConfig!$V:$AF,11,FALSE),\"\"))","v":"木桩"},1090632]
[1090633,{"$f":"CONCATENATE(IFERROR(VLOOKUP(A507,[1]SkillConfig!$D:$F,3,FALSE),\"\"),IFERROR(VLOOKUP(A507,[1]SkillConfig!$E:$G,3,FALSE),\"\"),IFERROR(VLOOKUP(A507,[1]SkillConfig!$V:$AF,11,FALSE),\"\"))","v":"木桩"},1090633]
[1090634,{"$f":"CONCATENATE(IFERROR(VLOOKUP(A508,[1]SkillConfig!$D:$F,3,FALSE),\"\"),IFERROR(VLOOKUP(A508,[1]SkillConfig!$E:$G,3,FALSE),\"\"),IFERROR(VLOOKUP(A508,[1]SkillConfig!$V:$AF,11,FALSE),\"\"))","v":"木桩"},1090634]
[1090635,{"$f":"CONCATENATE(IFERROR(VLOOKUP(A509,[1]SkillConfig!$D:$F,3,FALSE),\"\"),IFERROR(VLOOKUP(A509,[1]SkillConfig!$E:$G,3,FALSE),\"\"),IFERROR(VLOOKUP(A509,[1]SkillConfig!$V:$AF,11,FALSE),\"\"))","v":"木桩"},1090635]
[null,{"$f":"CONCATENATE(IFERROR(VLOOKUP(A510,[1]SkillConfig!$D:$F,3,FALSE),\"\"),IFERROR(VLOOKUP(A510,[1]SkillConfig!$E:$G,3,FALSE),\"\"),IFERROR(VLOOKUP(A510,[1]SkillConfig!$V:$AF,11,FALSE),\"\"))","v":""}]
[1090640,{"$f":"CONCATENATE(IFERROR(VLOOKUP(A511,[1]SkillConfig!$D:$F,3,FALSE),\"\"),IFERROR(VLOOKUP(A511,[1]SkillConfig!$E:$G,3,FALSE),\"\"),IFERROR(VLOOKUP(A511,[1]SkillConfig!$V:$AF,11,FALSE),\"\"))","v":"缠绕"},1090640]
[1090641,{"$f":"CONCATENATE(IFERROR(VLOOKUP(A512,[1]SkillConfig!$D:$F,3,FALSE),\"\"),IFERROR(VLOOKUP(A512,[1]SkillConfig!$E:$G,3,FALSE),\"\"),IFERROR(VLOOKUP(A512,[1]SkillConfig!$V:$AF,11,FALSE),\"\"))","v":"缠绕"},1090641]
[1090642,{"$f":"CONCATENATE(IFERROR(VLOOKUP(A513,[1]SkillConfig!$D:$F,3,FALSE),\"\"),IFERROR(VLOOKUP(A513,[1]SkillConfig!$E:$G,3,FALSE),\"\"),IFERROR(VLOOKUP(A513,[1]SkillConfig!$V:$AF,11,FALSE),\"\"))","v":"缠绕"},1090642]
[1090643,{"$f":"CONCATENATE(IFERROR(VLOOKUP(A514,[1]SkillConfig!$D:$F,3,FALSE),\"\"),IFERROR(VLOOKUP(A514,[1]SkillConfig!$E:$G,3,FALSE),\"\"),IFERROR(VLOOKUP(A514,[1]SkillConfig!$V:$AF,11,FALSE),\"\"))","v":"缠绕"},1090643]
[1090644,{"$f":"CONCATENATE(IFERROR(VLOOKUP(A515,[1]SkillConfig!$D:$F,3,FALSE),\"\"),IFERROR(VLOOKUP(A515,[1]SkillConfig!$E:$G,3,FALSE),\"\"),IFERROR(VLOOKUP(A515,[1]SkillConfig!$V:$AF,11,FALSE),\"\"))","v":"缠绕"},1090644]
[1090645,{"$f":"CONCATENATE(IFERROR(VLOOKUP(A516,[1]SkillConfig!$D:$F,3,FALSE),\"\"),IFERROR(VLOOKUP(A516,[1]SkillConfig!$E:$G,3,FALSE),\"\"),IFERROR(VLOOKUP(A516,[1]SkillConfig!$V:$AF,11,FALSE),\"\"))","v":"缠绕"},1090645]
[null,{"$f":"CONCATENATE(IFERROR(VLOOKUP(A517,[1]SkillConfig!$D:$F,3,FALSE),\"\"),IFERROR(VLOOKUP(A517,[1]SkillConfig!$E:$G,3,FALSE),\"\"),IFERROR(VLOOKUP(A517,[1]SkillConfig!$V:$AF,11,FALSE),\"\"))","v":""}]
[1090710,{"$f":"CONCATENATE(IFERROR(VLOOKUP(A518,[1]SkillConfig!$D:$F,3,FALSE),\"\"),IFERROR(VLOOKUP(A518,[1]SkillConfig!$E:$G,3,FALSE),\"\"),IFERROR(VLOOKUP(A518,[1]SkillConfig!$V:$AF,11,FALSE),\"\"))","v":"木刺"},1090710]
[1090711,{"$f":"CONCATENATE(IFERROR(VLOOKUP(A519,[1]SkillConfig!$D:$F,3,FALSE),\"\"),IFERROR(VLOOKUP(A519,[1]SkillConfig!$E:$G,3,FALSE),\"\"),IFERROR(VLOOKUP(A519,[1]SkillConfig!$V:$AF,11,FALSE),\"\"))","v":"木刺"},1090711]
[1090712,{"$f":"CONCATENATE(IFERROR(VLOOKUP(A520,[1]SkillConfig!$D:$F,3,FALSE),\"\"),IFERROR(VLOOKUP(A520,[1]SkillConfig!$E:$G,3,FALSE),\"\"),IFERROR(VLOOKUP(A520,[1]SkillConfig!$V:$AF,11,FALSE),\"\"))","v":"木刺"},1090712]
[1090713,{"$f":"CONCATENATE(IFERROR(VLOOKUP(A521,[1]SkillConfig!$D:$F,3,FALSE),\"\"),IFERROR(VLOOKUP(A521,[1]SkillConfig!$E:$G,3,FALSE),\"\"),IFERROR(VLOOKUP(A521,[1]SkillConfig!$V:$AF,11,FALSE),\"\"))","v":"木刺"},1090713]
[1090714,{"$f":"CONCATENATE(IFERROR(VLOOKUP(A522,[1]SkillConfig!$D:$F,3,FALSE),\"\"),IFERROR(VLOOKUP(A522,[1]SkillConfig!$E:$G,3,FALSE),\"\"),IFERROR(VLOOKUP(A522,[1]SkillConfig!$V:$AF,11,FALSE),\"\"))","v":"木刺"},1090714]
[1090715,{"$f":"CONCATENATE(IFERROR(VLOOKUP(A523,[1]SkillConfig!$D:$F,3,FALSE),\"\"),IFERROR(VLOOKUP(A523,[1]SkillConfig!$E:$G,3,FALSE),\"\"),IFERROR(VLOOKUP(A523,[1]SkillConfig!$V:$AF,11,FALSE),\"\"))","v":"木刺"},1090715]
[null,{"$f":"CONCATENATE(IFERROR(VLOOKUP(A524,[1]SkillConfig!$D:$F,3,FALSE),\"\"),IFERROR(VLOOKUP(A524,[1]SkillConfig!$E:$G,3,FALSE),\"\"),IFERROR(VLOOKUP(A524,[1]SkillConfig!$V:$AF,11,FALSE),\"\"))","v":""}]
[1090510,{"$f":"CONCATENATE(IFERROR(VLOOKUP(A525,[1]SkillConfig!$D:$F,3,FALSE),\"\"),IFERROR(VLOOKUP(A525,[1]SkillConfig!$E:$G,3,FALSE),\"\"),IFERROR(VLOOKUP(A525,[1]SkillConfig!$V:$AF,11,FALSE),\"\"))","v":"风刃"},1090510]
[1090511,{"$f":"CONCATENATE(IFERROR(VLOOKUP(A526,[1]SkillConfig!$D:$F,3,FALSE),\"\"),IFERROR(VLOOKUP(A526,[1]SkillConfig!$E:$G,3,FALSE),\"\"),IFERROR(VLOOKUP(A526,[1]SkillConfig!$V:$AF,11,FALSE),\"\"))","v":"风刃"},1090511]
[1090512,{"$f":"CONCATENATE(IFERROR(VLOOKUP(A527,[1]SkillConfig!$D:$F,3,FALSE),\"\"),IFERROR(VLOOKUP(A527,[1]SkillConfig!$E:$G,3,FALSE),\"\"),IFERROR(VLOOKUP(A527,[1]SkillConfig!$V:$AF,11,FALSE),\"\"))","v":"风刃"},1090512]
[1090513,{"$f":"CONCATENATE(IFERROR(VLOOKUP(A528,[1]SkillConfig!$D:$F,3,FALSE),\"\"),IFERROR(VLOOKUP(A528,[1]SkillConfig!$E:$G,3,FALSE),\"\"),IFERROR(VLOOKUP(A528,[1]SkillConfig!$V:$AF,11,FALSE),\"\"))","v":"风刃"},1090513]
[1090514,{"$f":"CONCATENATE(IFERROR(VLOOKUP(A529,[1]SkillConfig!$D:$F,3,FALSE),\"\"),IFERROR(VLOOKUP(A529,[1]SkillConfig!$E:$G,3,FALSE),\"\"),IFERROR(VLOOKUP(A529,[1]SkillConfig!$V:$AF,11,FALSE),\"\"))","v":"风刃"},1090514]
[1090515,{"$f":"CONCATENATE(IFERROR(VLOOKUP(A530,[1]SkillConfig!$D:$F,3,FALSE),\"\"),IFERROR(VLOOKUP(A530,[1]SkillConfig!$E:$G,3,FALSE),\"\"),IFERROR(VLOOKUP(A530,[1]SkillConfig!$V:$AF,11,FALSE),\"\"))","v":"风刃"},1090515]
[null,{"$f":"CONCATENATE(IFERROR(VLOOKUP(A531,[1]SkillConfig!$D:$F,3,FALSE),\"\"),IFERROR(VLOOKUP(A531,[1]SkillConfig!$E:$G,3,FALSE),\"\"),IFERROR(VLOOKUP(A531,[1]SkillConfig!$V:$AF,11,FALSE),\"\"))","v":""}]
[1090520,{"$f":"CONCATENATE(IFERROR(VLOOKUP(A532,[1]SkillConfig!$D:$F,3,FALSE),\"\"),IFERROR(VLOOKUP(A532,[1]SkillConfig!$E:$G,3,FALSE),\"\"),IFERROR(VLOOKUP(A532,[1]SkillConfig!$V:$AF,11,FALSE),\"\"))","v":"雷罡波"},1090520]
[1090521,{"$f":"CONCATENATE(IFERROR(VLOOKUP(A533,[1]SkillConfig!$D:$F,3,FALSE),\"\"),IFERROR(VLOOKUP(A533,[1]SkillConfig!$E:$G,3,FALSE),\"\"),IFERROR(VLOOKUP(A533,[1]SkillConfig!$V:$AF,11,FALSE),\"\"))","v":"雷罡波"},1090521]
[1090522,{"$f":"CONCATENATE(IFERROR(VLOOKUP(A534,[1]SkillConfig!$D:$F,3,FALSE),\"\"),IFERROR(VLOOKUP(A534,[1]SkillConfig!$E:$G,3,FALSE),\"\"),IFERROR(VLOOKUP(A534,[1]SkillConfig!$V:$AF,11,FALSE),\"\"))","v":"雷罡波"},1090522]
[1090523,{"$f":"CONCATENATE(IFERROR(VLOOKUP(A535,[1]SkillConfig!$D:$F,3,FALSE),\"\"),IFERROR(VLOOKUP(A535,[1]SkillConfig!$E:$G,3,FALSE),\"\"),IFERROR(VLOOKUP(A535,[1]SkillConfig!$V:$AF,11,FALSE),\"\"))","v":"雷罡波"},1090523]
[1090524,{"$f":"CONCATENATE(IFERROR(VLOOKUP(A536,[1]SkillConfig!$D:$F,3,FALSE),\"\"),IFERROR(VLOOKUP(A536,[1]SkillConfig!$E:$G,3,FALSE),\"\"),IFERROR(VLOOKUP(A536,[1]SkillConfig!$V:$AF,11,FALSE),\"\"))","v":"雷罡波"},1090524]
[1090525,{"$f":"CONCATENATE(IFERROR(VLOOKUP(A537,[1]SkillConfig!$D:$F,3,FALSE),\"\"),IFERROR(VLOOKUP(A537,[1]SkillConfig!$E:$G,3,FALSE),\"\"),IFERROR(VLOOKUP(A537,[1]SkillConfig!$V:$AF,11,FALSE),\"\"))","v":"雷罡波"},1090525]
[null,{"$f":"CONCATENATE(IFERROR(VLOOKUP(A538,[1]SkillConfig!$D:$F,3,FALSE),\"\"),IFERROR(VLOOKUP(A538,[1]SkillConfig!$E:$G,3,FALSE),\"\"),IFERROR(VLOOKUP(A538,[1]SkillConfig!$V:$AF,11,FALSE),\"\"))","v":""}]
[1090530,{"$f":"CONCATENATE(IFERROR(VLOOKUP(A539,[1]SkillConfig!$D:$F,3,FALSE),\"\"),IFERROR(VLOOKUP(A539,[1]SkillConfig!$E:$G,3,FALSE),\"\"),IFERROR(VLOOKUP(A539,[1]SkillConfig!$V:$AF,11,FALSE),\"\"))","v":"雷罡波"},1090530]
[1090531,{"$f":"CONCATENATE(IFERROR(VLOOKUP(A540,[1]SkillConfig!$D:$F,3,FALSE),\"\"),IFERROR(VLOOKUP(A540,[1]SkillConfig!$E:$G,3,FALSE),\"\"),IFERROR(VLOOKUP(A540,[1]SkillConfig!$V:$AF,11,FALSE),\"\"))","v":"雷罡波"},1090531]
[1090532,{"$f":"CONCATENATE(IFERROR(VLOOKUP(A541,[1]SkillConfig!$D:$F,3,FALSE),\"\"),IFERROR(VLOOKUP(A541,[1]SkillConfig!$E:$G,3,FALSE),\"\"),IFERROR(VLOOKUP(A541,[1]SkillConfig!$V:$AF,11,FALSE),\"\"))","v":"雷罡波"},1090532]
[1090533,{"$f":"CONCATENATE(IFERROR(VLOOKUP(A542,[1]SkillConfig!$D:$F,3,FALSE),\"\"),IFERROR(VLOOKUP(A542,[1]SkillConfig!$E:$G,3,FALSE),\"\"),IFERROR(VLOOKUP(A542,[1]SkillConfig!$V:$AF,11,FALSE),\"\"))","v":"雷罡波"},1090533]
[1090534,{"$f":"CONCATENATE(IFERROR(VLOOKUP(A543,[1]SkillConfig!$D:$F,3,FALSE),\"\"),IFERROR(VLOOKUP(A543,[1]SkillConfig!$E:$G,3,FALSE),\"\"),IFERROR(VLOOKUP(A543,[1]SkillConfig!$V:$AF,11,FALSE),\"\"))","v":"雷罡波"},1090534]
[1090535,{"$f":"CONCATENATE(IFERROR(VLOOKUP(A544,[1]SkillConfig!$D:$F,3,FALSE),\"\"),IFERROR(VLOOKUP(A544,[1]SkillConfig!$E:$G,3,FALSE),\"\"),IFERROR(VLOOKUP(A544,[1]SkillConfig!$V:$AF,11,FALSE),\"\"))","v":"雷罡波"},1090535]
[null,{"$f":"CONCATENATE(IFERROR(VLOOKUP(A545,[1]SkillConfig!$D:$F,3,FALSE),\"\"),IFERROR(VLOOKUP(A545,[1]SkillConfig!$E:$G,3,FALSE),\"\"),IFERROR(VLOOKUP(A545,[1]SkillConfig!$V:$AF,11,FALSE),\"\"))","v":""}]
[1090540,{"$f":"CONCATENATE(IFERROR(VLOOKUP(A546,[1]SkillConfig!$D:$F,3,FALSE),\"\"),IFERROR(VLOOKUP(A546,[1]SkillConfig!$E:$G,3,FALSE),\"\"),IFERROR(VLOOKUP(A546,[1]SkillConfig!$V:$AF,11,FALSE),\"\"))","v":"导电（被动）"},1090540]
[1090541,{"$f":"CONCATENATE(IFERROR(VLOOKUP(A547,[1]SkillConfig!$D:$F,3,FALSE),\"\"),IFERROR(VLOOKUP(A547,[1]SkillConfig!$E:$G,3,FALSE),\"\"),IFERROR(VLOOKUP(A547,[1]SkillConfig!$V:$AF,11,FALSE),\"\"))","v":"导电（被动）"},1090541]
[1090542,{"$f":"CONCATENATE(IFERROR(VLOOKUP(A548,[1]SkillConfig!$D:$F,3,FALSE),\"\"),IFERROR(VLOOKUP(A548,[1]SkillConfig!$E:$G,3,FALSE),\"\"),IFERROR(VLOOKUP(A548,[1]SkillConfig!$V:$AF,11,FALSE),\"\"))","v":"导电（被动）"},1090542]
[1090543,{"$f":"CONCATENATE(IFERROR(VLOOKUP(A549,[1]SkillConfig!$D:$F,3,FALSE),\"\"),IFERROR(VLOOKUP(A549,[1]SkillConfig!$E:$G,3,FALSE),\"\"),IFERROR(VLOOKUP(A549,[1]SkillConfig!$V:$AF,11,FALSE),\"\"))","v":"导电（被动）"},1090543]
[1090544,{"$f":"CONCATENATE(IFERROR(VLOOKUP(A550,[1]SkillConfig!$D:$F,3,FALSE),\"\"),IFERROR(VLOOKUP(A550,[1]SkillConfig!$E:$G,3,FALSE),\"\"),IFERROR(VLOOKUP(A550,[1]SkillConfig!$V:$AF,11,FALSE),\"\"))","v":"导电（被动）"},1090544]
[1090545,{"$f":"CONCATENATE(IFERROR(VLOOKUP(A551,[1]SkillConfig!$D:$F,3,FALSE),\"\"),IFERROR(VLOOKUP(A551,[1]SkillConfig!$E:$G,3,FALSE),\"\"),IFERROR(VLOOKUP(A551,[1]SkillConfig!$V:$AF,11,FALSE),\"\"))","v":"导电（被动）"},1090545]
[null,{"$f":"CONCATENATE(IFERROR(VLOOKUP(A552,[1]SkillConfig!$D:$F,3,FALSE),\"\"),IFERROR(VLOOKUP(A552,[1]SkillConfig!$E:$G,3,FALSE),\"\"),IFERROR(VLOOKUP(A552,[1]SkillConfig!$V:$AF,11,FALSE),\"\"))","v":""}]
[1090310,{"$f":"CONCATENATE(IFERROR(VLOOKUP(A553,[1]SkillConfig!$D:$F,3,FALSE),\"\"),IFERROR(VLOOKUP(A553,[1]SkillConfig!$E:$G,3,FALSE),\"\"),IFERROR(VLOOKUP(A553,[1]SkillConfig!$V:$AF,11,FALSE),\"\"))","v":"毒刺）"},1090310]
[1090311,{"$f":"CONCATENATE(IFERROR(VLOOKUP(A554,[1]SkillConfig!$D:$F,3,FALSE),\"\"),IFERROR(VLOOKUP(A554,[1]SkillConfig!$E:$G,3,FALSE),\"\"),IFERROR(VLOOKUP(A554,[1]SkillConfig!$V:$AF,11,FALSE),\"\"))","v":"毒刺）"},1090311]
[1090312,{"$f":"CONCATENATE(IFERROR(VLOOKUP(A555,[1]SkillConfig!$D:$F,3,FALSE),\"\"),IFERROR(VLOOKUP(A555,[1]SkillConfig!$E:$G,3,FALSE),\"\"),IFERROR(VLOOKUP(A555,[1]SkillConfig!$V:$AF,11,FALSE),\"\"))","v":"毒刺）"},1090312]
[1090313,{"$f":"CONCATENATE(IFERROR(VLOOKUP(A556,[1]SkillConfig!$D:$F,3,FALSE),\"\"),IFERROR(VLOOKUP(A556,[1]SkillConfig!$E:$G,3,FALSE),\"\"),IFERROR(VLOOKUP(A556,[1]SkillConfig!$V:$AF,11,FALSE),\"\"))","v":"毒刺）"},1090313]
[1090314,{"$f":"CONCATENATE(IFERROR(VLOOKUP(A557,[1]SkillConfig!$D:$F,3,FALSE),\"\"),IFERROR(VLOOKUP(A557,[1]SkillConfig!$E:$G,3,FALSE),\"\"),IFERROR(VLOOKUP(A557,[1]SkillConfig!$V:$AF,11,FALSE),\"\"))","v":"毒刺）"},1090314]
[1090315,{"$f":"CONCATENATE(IFERROR(VLOOKUP(A558,[1]SkillConfig!$D:$F,3,FALSE),\"\"),IFERROR(VLOOKUP(A558,[1]SkillConfig!$E:$G,3,FALSE),\"\"),IFERROR(VLOOKUP(A558,[1]SkillConfig!$V:$AF,11,FALSE),\"\"))","v":"毒刺）"},1090315]
[null,{"$f":"CONCATENATE(IFERROR(VLOOKUP(A559,[1]SkillConfig!$D:$F,3,FALSE),\"\"),IFERROR(VLOOKUP(A559,[1]SkillConfig!$E:$G,3,FALSE),\"\"),IFERROR(VLOOKUP(A559,[1]SkillConfig!$V:$AF,11,FALSE),\"\"))","v":""}]
[1090320,{"$f":"CONCATENATE(IFERROR(VLOOKUP(A560,[1]SkillConfig!$D:$F,3,FALSE),\"\"),IFERROR(VLOOKUP(A560,[1]SkillConfig!$E:$G,3,FALSE),\"\"),IFERROR(VLOOKUP(A560,[1]SkillConfig!$V:$AF,11,FALSE),\"\"))","v":"千蛛潮"},1090320]
[1090321,{"$f":"CONCATENATE(IFERROR(VLOOKUP(A561,[1]SkillConfig!$D:$F,3,FALSE),\"\"),IFERROR(VLOOKUP(A561,[1]SkillConfig!$E:$G,3,FALSE),\"\"),IFERROR(VLOOKUP(A561,[1]SkillConfig!$V:$AF,11,FALSE),\"\"))","v":"千蛛潮"},1090321]
[1090322,{"$f":"CONCATENATE(IFERROR(VLOOKUP(A562,[1]SkillConfig!$D:$F,3,FALSE),\"\"),IFERROR(VLOOKUP(A562,[1]SkillConfig!$E:$G,3,FALSE),\"\"),IFERROR(VLOOKUP(A562,[1]SkillConfig!$V:$AF,11,FALSE),\"\"))","v":"千蛛潮"},1090322]
[1090323,{"$f":"CONCATENATE(IFERROR(VLOOKUP(A563,[1]SkillConfig!$D:$F,3,FALSE),\"\"),IFERROR(VLOOKUP(A563,[1]SkillConfig!$E:$G,3,FALSE),\"\"),IFERROR(VLOOKUP(A563,[1]SkillConfig!$V:$AF,11,FALSE),\"\"))","v":"千蛛潮"},1090323]
[1090324,{"$f":"CONCATENATE(IFERROR(VLOOKUP(A564,[1]SkillConfig!$D:$F,3,FALSE),\"\"),IFERROR(VLOOKUP(A564,[1]SkillConfig!$E:$G,3,FALSE),\"\"),IFERROR(VLOOKUP(A564,[1]SkillConfig!$V:$AF,11,FALSE),\"\"))","v":"千蛛潮"},1090324]
[1090325,{"$f":"CONCATENATE(IFERROR(VLOOKUP(A565,[1]SkillConfig!$D:$F,3,FALSE),\"\"),IFERROR(VLOOKUP(A565,[1]SkillConfig!$E:$G,3,FALSE),\"\"),IFERROR(VLOOKUP(A565,[1]SkillConfig!$V:$AF,11,FALSE),\"\"))","v":"千蛛潮"},1090325]
[null,{"$f":"CONCATENATE(IFERROR(VLOOKUP(A566,[1]SkillConfig!$D:$F,3,FALSE),\"\"),IFERROR(VLOOKUP(A566,[1]SkillConfig!$E:$G,3,FALSE),\"\"),IFERROR(VLOOKUP(A566,[1]SkillConfig!$V:$AF,11,FALSE),\"\"))","v":""}]
[1090330,{"$f":"CONCATENATE(IFERROR(VLOOKUP(A567,[1]SkillConfig!$D:$F,3,FALSE),\"\"),IFERROR(VLOOKUP(A567,[1]SkillConfig!$E:$G,3,FALSE),\"\"),IFERROR(VLOOKUP(A567,[1]SkillConfig!$V:$AF,11,FALSE),\"\"))","v":"吐丝"},1090330]
[1090331,{"$f":"CONCATENATE(IFERROR(VLOOKUP(A568,[1]SkillConfig!$D:$F,3,FALSE),\"\"),IFERROR(VLOOKUP(A568,[1]SkillConfig!$E:$G,3,FALSE),\"\"),IFERROR(VLOOKUP(A568,[1]SkillConfig!$V:$AF,11,FALSE),\"\"))","v":"吐丝"},1090331]
[1090332,{"$f":"CONCATENATE(IFERROR(VLOOKUP(A569,[1]SkillConfig!$D:$F,3,FALSE),\"\"),IFERROR(VLOOKUP(A569,[1]SkillConfig!$E:$G,3,FALSE),\"\"),IFERROR(VLOOKUP(A569,[1]SkillConfig!$V:$AF,11,FALSE),\"\"))","v":"吐丝"},1090332]
[1090333,{"$f":"CONCATENATE(IFERROR(VLOOKUP(A570,[1]SkillConfig!$D:$F,3,FALSE),\"\"),IFERROR(VLOOKUP(A570,[1]SkillConfig!$E:$G,3,FALSE),\"\"),IFERROR(VLOOKUP(A570,[1]SkillConfig!$V:$AF,11,FALSE),\"\"))","v":"吐丝"},1090333]
[1090334,{"$f":"CONCATENATE(IFERROR(VLOOKUP(A571,[1]SkillConfig!$D:$F,3,FALSE),\"\"),IFERROR(VLOOKUP(A571,[1]SkillConfig!$E:$G,3,FALSE),\"\"),IFERROR(VLOOKUP(A571,[1]SkillConfig!$V:$AF,11,FALSE),\"\"))","v":"吐丝"},1090334]
[1090335,{"$f":"CONCATENATE(IFERROR(VLOOKUP(A572,[1]SkillConfig!$D:$F,3,FALSE),\"\"),IFERROR(VLOOKUP(A572,[1]SkillConfig!$E:$G,3,FALSE),\"\"),IFERROR(VLOOKUP(A572,[1]SkillConfig!$V:$AF,11,FALSE),\"\"))","v":"吐丝"},1090335]
[null,{"$f":"CONCATENATE(IFERROR(VLOOKUP(A573,[1]SkillConfig!$D:$F,3,FALSE),\"\"),IFERROR(VLOOKUP(A573,[1]SkillConfig!$E:$G,3,FALSE),\"\"),IFERROR(VLOOKUP(A573,[1]SkillConfig!$V:$AF,11,FALSE),\"\"))","v":""}]
[1090410,{"$f":"CONCATENATE(IFERROR(VLOOKUP(A574,[1]SkillConfig!$D:$F,3,FALSE),\"\"),IFERROR(VLOOKUP(A574,[1]SkillConfig!$E:$G,3,FALSE),\"\"),IFERROR(VLOOKUP(A574,[1]SkillConfig!$V:$AF,11,FALSE),\"\"))","v":"幻骨"},1090410]
[1090411,{"$f":"CONCATENATE(IFERROR(VLOOKUP(A575,[1]SkillConfig!$D:$F,3,FALSE),\"\"),IFERROR(VLOOKUP(A575,[1]SkillConfig!$E:$G,3,FALSE),\"\"),IFERROR(VLOOKUP(A575,[1]SkillConfig!$V:$AF,11,FALSE),\"\"))","v":"幻骨"},1090411]
[1090412,{"$f":"CONCATENATE(IFERROR(VLOOKUP(A576,[1]SkillConfig!$D:$F,3,FALSE),\"\"),IFERROR(VLOOKUP(A576,[1]SkillConfig!$E:$G,3,FALSE),\"\"),IFERROR(VLOOKUP(A576,[1]SkillConfig!$V:$AF,11,FALSE),\"\"))","v":"幻骨"},1090412]
[1090413,{"$f":"CONCATENATE(IFERROR(VLOOKUP(A577,[1]SkillConfig!$D:$F,3,FALSE),\"\"),IFERROR(VLOOKUP(A577,[1]SkillConfig!$E:$G,3,FALSE),\"\"),IFERROR(VLOOKUP(A577,[1]SkillConfig!$V:$AF,11,FALSE),\"\"))","v":"幻骨"},1090413]
[1090414,{"$f":"CONCATENATE(IFERROR(VLOOKUP(A578,[1]SkillConfig!$D:$F,3,FALSE),\"\"),IFERROR(VLOOKUP(A578,[1]SkillConfig!$E:$G,3,FALSE),\"\"),IFERROR(VLOOKUP(A578,[1]SkillConfig!$V:$AF,11,FALSE),\"\"))","v":"幻骨"},1090414]
[1090415,{"$f":"CONCATENATE(IFERROR(VLOOKUP(A579,[1]SkillConfig!$D:$F,3,FALSE),\"\"),IFERROR(VLOOKUP(A579,[1]SkillConfig!$E:$G,3,FALSE),\"\"),IFERROR(VLOOKUP(A579,[1]SkillConfig!$V:$AF,11,FALSE),\"\"))","v":"幻骨"},1090415]
[null,{"$f":"CONCATENATE(IFERROR(VLOOKUP(A580,[1]SkillConfig!$D:$F,3,FALSE),\"\"),IFERROR(VLOOKUP(A580,[1]SkillConfig!$E:$G,3,FALSE),\"\"),IFERROR(VLOOKUP(A580,[1]SkillConfig!$V:$AF,11,FALSE),\"\"))","v":""}]
[1090420,{"$f":"CONCATENATE(IFERROR(VLOOKUP(A581,[1]SkillConfig!$D:$F,3,FALSE),\"\"),IFERROR(VLOOKUP(A581,[1]SkillConfig!$E:$G,3,FALSE),\"\"),IFERROR(VLOOKUP(A581,[1]SkillConfig!$V:$AF,11,FALSE),\"\"))","v":"鼠角"},1090420]
[1090421,{"$f":"CONCATENATE(IFERROR(VLOOKUP(A582,[1]SkillConfig!$D:$F,3,FALSE),\"\"),IFERROR(VLOOKUP(A582,[1]SkillConfig!$E:$G,3,FALSE),\"\"),IFERROR(VLOOKUP(A582,[1]SkillConfig!$V:$AF,11,FALSE),\"\"))","v":"鼠角"},1090421]
[1090422,{"$f":"CONCATENATE(IFERROR(VLOOKUP(A583,[1]SkillConfig!$D:$F,3,FALSE),\"\"),IFERROR(VLOOKUP(A583,[1]SkillConfig!$E:$G,3,FALSE),\"\"),IFERROR(VLOOKUP(A583,[1]SkillConfig!$V:$AF,11,FALSE),\"\"))","v":"鼠角"},1090422]
[1090423,{"$f":"CONCATENATE(IFERROR(VLOOKUP(A584,[1]SkillConfig!$D:$F,3,FALSE),\"\"),IFERROR(VLOOKUP(A584,[1]SkillConfig!$E:$G,3,FALSE),\"\"),IFERROR(VLOOKUP(A584,[1]SkillConfig!$V:$AF,11,FALSE),\"\"))","v":"鼠角"},1090423]
[1090424,{"$f":"CONCATENATE(IFERROR(VLOOKUP(A585,[1]SkillConfig!$D:$F,3,FALSE),\"\"),IFERROR(VLOOKUP(A585,[1]SkillConfig!$E:$G,3,FALSE),\"\"),IFERROR(VLOOKUP(A585,[1]SkillConfig!$V:$AF,11,FALSE),\"\"))","v":"鼠角"},1090424]
[1090425,{"$f":"CONCATENATE(IFERROR(VLOOKUP(A586,[1]SkillConfig!$D:$F,3,FALSE),\"\"),IFERROR(VLOOKUP(A586,[1]SkillConfig!$E:$G,3,FALSE),\"\"),IFERROR(VLOOKUP(A586,[1]SkillConfig!$V:$AF,11,FALSE),\"\"))","v":"鼠角"},1090425]
[null,{"$f":"CONCATENATE(IFERROR(VLOOKUP(A587,[1]SkillConfig!$D:$F,3,FALSE),\"\"),IFERROR(VLOOKUP(A587,[1]SkillConfig!$E:$G,3,FALSE),\"\"),IFERROR(VLOOKUP(A587,[1]SkillConfig!$V:$AF,11,FALSE),\"\"))","v":""}]
[1090430,{"$f":"CONCATENATE(IFERROR(VLOOKUP(A588,[1]SkillConfig!$D:$F,3,FALSE),\"\"),IFERROR(VLOOKUP(A588,[1]SkillConfig!$E:$G,3,FALSE),\"\"),IFERROR(VLOOKUP(A588,[1]SkillConfig!$V:$AF,11,FALSE),\"\"))","v":"幽爪灭魂指"},1090430]
[1090431,{"$f":"CONCATENATE(IFERROR(VLOOKUP(A589,[1]SkillConfig!$D:$F,3,FALSE),\"\"),IFERROR(VLOOKUP(A589,[1]SkillConfig!$E:$G,3,FALSE),\"\"),IFERROR(VLOOKUP(A589,[1]SkillConfig!$V:$AF,11,FALSE),\"\"))","v":"幽爪灭魂指"},1090431]
[1090432,{"$f":"CONCATENATE(IFERROR(VLOOKUP(A590,[1]SkillConfig!$D:$F,3,FALSE),\"\"),IFERROR(VLOOKUP(A590,[1]SkillConfig!$E:$G,3,FALSE),\"\"),IFERROR(VLOOKUP(A590,[1]SkillConfig!$V:$AF,11,FALSE),\"\"))","v":"幽爪灭魂指"},1090432]
[1090433,{"$f":"CONCATENATE(IFERROR(VLOOKUP(A591,[1]SkillConfig!$D:$F,3,FALSE),\"\"),IFERROR(VLOOKUP(A591,[1]SkillConfig!$E:$G,3,FALSE),\"\"),IFERROR(VLOOKUP(A591,[1]SkillConfig!$V:$AF,11,FALSE),\"\"))","v":"幽爪灭魂指"},1090433]
[1090434,{"$f":"CONCATENATE(IFERROR(VLOOKUP(A592,[1]SkillConfig!$D:$F,3,FALSE),\"\"),IFERROR(VLOOKUP(A592,[1]SkillConfig!$E:$G,3,FALSE),\"\"),IFERROR(VLOOKUP(A592,[1]SkillConfig!$V:$AF,11,FALSE),\"\"))","v":"幽爪灭魂指"},1090434]
[1090435,{"$f":"CONCATENATE(IFERROR(VLOOKUP(A593,[1]SkillConfig!$D:$F,3,FALSE),\"\"),IFERROR(VLOOKUP(A593,[1]SkillConfig!$E:$G,3,FALSE),\"\"),IFERROR(VLOOKUP(A593,[1]SkillConfig!$V:$AF,11,FALSE),\"\"))","v":"幽爪灭魂指"},1090435]
[null,{"$f":"CONCATENATE(IFERROR(VLOOKUP(A594,[1]SkillConfig!$D:$F,3,FALSE),\"\"),IFERROR(VLOOKUP(A594,[1]SkillConfig!$E:$G,3,FALSE),\"\"),IFERROR(VLOOKUP(A594,[1]SkillConfig!$V:$AF,11,FALSE),\"\"))","v":""}]
[1090440,{"$f":"CONCATENATE(IFERROR(VLOOKUP(A595,[1]SkillConfig!$D:$F,3,FALSE),\"\"),IFERROR(VLOOKUP(A595,[1]SkillConfig!$E:$G,3,FALSE),\"\"),IFERROR(VLOOKUP(A595,[1]SkillConfig!$V:$AF,11,FALSE),\"\"))","v":"幽爪灭魂指"},1090440]
[1090441,{"$f":"CONCATENATE(IFERROR(VLOOKUP(A596,[1]SkillConfig!$D:$F,3,FALSE),\"\"),IFERROR(VLOOKUP(A596,[1]SkillConfig!$E:$G,3,FALSE),\"\"),IFERROR(VLOOKUP(A596,[1]SkillConfig!$V:$AF,11,FALSE),\"\"))","v":"幽爪灭魂指"},1090441]
[1090442,{"$f":"CONCATENATE(IFERROR(VLOOKUP(A597,[1]SkillConfig!$D:$F,3,FALSE),\"\"),IFERROR(VLOOKUP(A597,[1]SkillConfig!$E:$G,3,FALSE),\"\"),IFERROR(VLOOKUP(A597,[1]SkillConfig!$V:$AF,11,FALSE),\"\"))","v":"幽爪灭魂指"},1090442]
[1090443,{"$f":"CONCATENATE(IFERROR(VLOOKUP(A598,[1]SkillConfig!$D:$F,3,FALSE),\"\"),IFERROR(VLOOKUP(A598,[1]SkillConfig!$E:$G,3,FALSE),\"\"),IFERROR(VLOOKUP(A598,[1]SkillConfig!$V:$AF,11,FALSE),\"\"))","v":"幽爪灭魂指"},1090443]
[1090444,{"$f":"CONCATENATE(IFERROR(VLOOKUP(A599,[1]SkillConfig!$D:$F,3,FALSE),\"\"),IFERROR(VLOOKUP(A599,[1]SkillConfig!$E:$G,3,FALSE),\"\"),IFERROR(VLOOKUP(A599,[1]SkillConfig!$V:$AF,11,FALSE),\"\"))","v":"幽爪灭魂指"},1090444]
[1090445,{"$f":"CONCATENATE(IFERROR(VLOOKUP(A600,[1]SkillConfig!$D:$F,3,FALSE),\"\"),IFERROR(VLOOKUP(A600,[1]SkillConfig!$E:$G,3,FALSE),\"\"),IFERROR(VLOOKUP(A600,[1]SkillConfig!$V:$AF,11,FALSE),\"\"))","v":"幽爪灭魂指"},1090445]
[null,{"$f":"CONCATENATE(IFERROR(VLOOKUP(A601,[1]SkillConfig!$D:$F,3,FALSE),\"\"),IFERROR(VLOOKUP(A601,[1]SkillConfig!$E:$G,3,FALSE),\"\"),IFERROR(VLOOKUP(A601,[1]SkillConfig!$V:$AF,11,FALSE),\"\"))","v":""}]
[1090910,{"$f":"CONCATENATE(IFERROR(VLOOKUP(A602,[1]SkillConfig!$D:$F,3,FALSE),\"\"),IFERROR(VLOOKUP(A602,[1]SkillConfig!$E:$G,3,FALSE),\"\"),IFERROR(VLOOKUP(A602,[1]SkillConfig!$V:$AF,11,FALSE),\"\"))","v":"羽刃风暴"},1090910]
[1090911,{"$f":"CONCATENATE(IFERROR(VLOOKUP(A603,[1]SkillConfig!$D:$F,3,FALSE),\"\"),IFERROR(VLOOKUP(A603,[1]SkillConfig!$E:$G,3,FALSE),\"\"),IFERROR(VLOOKUP(A603,[1]SkillConfig!$V:$AF,11,FALSE),\"\"))","v":"羽刃风暴"},1090911]
[1090912,{"$f":"CONCATENATE(IFERROR(VLOOKUP(A604,[1]SkillConfig!$D:$F,3,FALSE),\"\"),IFERROR(VLOOKUP(A604,[1]SkillConfig!$E:$G,3,FALSE),\"\"),IFERROR(VLOOKUP(A604,[1]SkillConfig!$V:$AF,11,FALSE),\"\"))","v":"羽刃风暴"},1090912]
[1090913,{"$f":"CONCATENATE(IFERROR(VLOOKUP(A605,[1]SkillConfig!$D:$F,3,FALSE),\"\"),IFERROR(VLOOKUP(A605,[1]SkillConfig!$E:$G,3,FALSE),\"\"),IFERROR(VLOOKUP(A605,[1]SkillConfig!$V:$AF,11,FALSE),\"\"))","v":"羽刃风暴"},1090913]
[1090914,{"$f":"CONCATENATE(IFERROR(VLOOKUP(A606,[1]SkillConfig!$D:$F,3,FALSE),\"\"),IFERROR(VLOOKUP(A606,[1]SkillConfig!$E:$G,3,FALSE),\"\"),IFERROR(VLOOKUP(A606,[1]SkillConfig!$V:$AF,11,FALSE),\"\"))","v":"羽刃风暴"},1090914]
[1090915,{"$f":"CONCATENATE(IFERROR(VLOOKUP(A607,[1]SkillConfig!$D:$F,3,FALSE),\"\"),IFERROR(VLOOKUP(A607,[1]SkillConfig!$E:$G,3,FALSE),\"\"),IFERROR(VLOOKUP(A607,[1]SkillConfig!$V:$AF,11,FALSE),\"\"))","v":"羽刃风暴"},1090915]
[null,{"$f":"CONCATENATE(IFERROR(VLOOKUP(A608,[1]SkillConfig!$D:$F,3,FALSE),\"\"),IFERROR(VLOOKUP(A608,[1]SkillConfig!$E:$G,3,FALSE),\"\"),IFERROR(VLOOKUP(A608,[1]SkillConfig!$V:$AF,11,FALSE),\"\"))","v":""}]
[1090920,{"$f":"CONCATENATE(IFERROR(VLOOKUP(A609,[1]SkillConfig!$D:$F,3,FALSE),\"\"),IFERROR(VLOOKUP(A609,[1]SkillConfig!$E:$G,3,FALSE),\"\"),IFERROR(VLOOKUP(A609,[1]SkillConfig!$V:$AF,11,FALSE),\"\"))","v":"仙鹤朝露"},1090920]
[1090921,{"$f":"CONCATENATE(IFERROR(VLOOKUP(A610,[1]SkillConfig!$D:$F,3,FALSE),\"\"),IFERROR(VLOOKUP(A610,[1]SkillConfig!$E:$G,3,FALSE),\"\"),IFERROR(VLOOKUP(A610,[1]SkillConfig!$V:$AF,11,FALSE),\"\"))","v":"仙鹤朝露"},1090921]
[1090922,{"$f":"CONCATENATE(IFERROR(VLOOKUP(A611,[1]SkillConfig!$D:$F,3,FALSE),\"\"),IFERROR(VLOOKUP(A611,[1]SkillConfig!$E:$G,3,FALSE),\"\"),IFERROR(VLOOKUP(A611,[1]SkillConfig!$V:$AF,11,FALSE),\"\"))","v":"仙鹤朝露"},1090922]
[1090923,{"$f":"CONCATENATE(IFERROR(VLOOKUP(A612,[1]SkillConfig!$D:$F,3,FALSE),\"\"),IFERROR(VLOOKUP(A612,[1]SkillConfig!$E:$G,3,FALSE),\"\"),IFERROR(VLOOKUP(A612,[1]SkillConfig!$V:$AF,11,FALSE),\"\"))","v":"仙鹤朝露"},1090923]
[1090924,{"$f":"CONCATENATE(IFERROR(VLOOKUP(A613,[1]SkillConfig!$D:$F,3,FALSE),\"\"),IFERROR(VLOOKUP(A613,[1]SkillConfig!$E:$G,3,FALSE),\"\"),IFERROR(VLOOKUP(A613,[1]SkillConfig!$V:$AF,11,FALSE),\"\"))","v":"仙鹤朝露"},1090924]
[1090925,{"$f":"CONCATENATE(IFERROR(VLOOKUP(A614,[1]SkillConfig!$D:$F,3,FALSE),\"\"),IFERROR(VLOOKUP(A614,[1]SkillConfig!$E:$G,3,FALSE),\"\"),IFERROR(VLOOKUP(A614,[1]SkillConfig!$V:$AF,11,FALSE),\"\"))","v":"仙鹤朝露"},1090925]
[null,{"$f":"CONCATENATE(IFERROR(VLOOKUP(A615,[1]SkillConfig!$D:$F,3,FALSE),\"\"),IFERROR(VLOOKUP(A615,[1]SkillConfig!$E:$G,3,FALSE),\"\"),IFERROR(VLOOKUP(A615,[1]SkillConfig!$V:$AF,11,FALSE),\"\"))","v":""}]
[1091010,{"$f":"CONCATENATE(IFERROR(VLOOKUP(A616,[1]SkillConfig!$D:$F,3,FALSE),\"\"),IFERROR(VLOOKUP(A616,[1]SkillConfig!$E:$G,3,FALSE),\"\"),IFERROR(VLOOKUP(A616,[1]SkillConfig!$V:$AF,11,FALSE),\"\"))","v":"狐火"},1091010]
[1091011,{"$f":"CONCATENATE(IFERROR(VLOOKUP(A617,[1]SkillConfig!$D:$F,3,FALSE),\"\"),IFERROR(VLOOKUP(A617,[1]SkillConfig!$E:$G,3,FALSE),\"\"),IFERROR(VLOOKUP(A617,[1]SkillConfig!$V:$AF,11,FALSE),\"\"))","v":"狐火"},1091011]
[1091012,{"$f":"CONCATENATE(IFERROR(VLOOKUP(A618,[1]SkillConfig!$D:$F,3,FALSE),\"\"),IFERROR(VLOOKUP(A618,[1]SkillConfig!$E:$G,3,FALSE),\"\"),IFERROR(VLOOKUP(A618,[1]SkillConfig!$V:$AF,11,FALSE),\"\"))","v":"狐火"},1091012]
[1091013,{"$f":"CONCATENATE(IFERROR(VLOOKUP(A619,[1]SkillConfig!$D:$F,3,FALSE),\"\"),IFERROR(VLOOKUP(A619,[1]SkillConfig!$E:$G,3,FALSE),\"\"),IFERROR(VLOOKUP(A619,[1]SkillConfig!$V:$AF,11,FALSE),\"\"))","v":"狐火"},1091013]
[1091014,{"$f":"CONCATENATE(IFERROR(VLOOKUP(A620,[1]SkillConfig!$D:$F,3,FALSE),\"\"),IFERROR(VLOOKUP(A620,[1]SkillConfig!$E:$G,3,FALSE),\"\"),IFERROR(VLOOKUP(A620,[1]SkillConfig!$V:$AF,11,FALSE),\"\"))","v":"狐火"},1091014]
[1091015,{"$f":"CONCATENATE(IFERROR(VLOOKUP(A621,[1]SkillConfig!$D:$F,3,FALSE),\"\"),IFERROR(VLOOKUP(A621,[1]SkillConfig!$E:$G,3,FALSE),\"\"),IFERROR(VLOOKUP(A621,[1]SkillConfig!$V:$AF,11,FALSE),\"\"))","v":"狐火"},1091015]
[null,{"$f":"CONCATENATE(IFERROR(VLOOKUP(A622,[1]SkillConfig!$D:$F,3,FALSE),\"\"),IFERROR(VLOOKUP(A622,[1]SkillConfig!$E:$G,3,FALSE),\"\"),IFERROR(VLOOKUP(A622,[1]SkillConfig!$V:$AF,11,FALSE),\"\"))","v":""}]
[1091020,{"$f":"CONCATENATE(IFERROR(VLOOKUP(A623,[1]SkillConfig!$D:$F,3,FALSE),\"\"),IFERROR(VLOOKUP(A623,[1]SkillConfig!$E:$G,3,FALSE),\"\"),IFERROR(VLOOKUP(A623,[1]SkillConfig!$V:$AF,11,FALSE),\"\"))","v":"灵狐渡厄"},1091020]
[1091021,{"$f":"CONCATENATE(IFERROR(VLOOKUP(A624,[1]SkillConfig!$D:$F,3,FALSE),\"\"),IFERROR(VLOOKUP(A624,[1]SkillConfig!$E:$G,3,FALSE),\"\"),IFERROR(VLOOKUP(A624,[1]SkillConfig!$V:$AF,11,FALSE),\"\"))","v":"灵狐渡厄"},1091021]
[1091022,{"$f":"CONCATENATE(IFERROR(VLOOKUP(A625,[1]SkillConfig!$D:$F,3,FALSE),\"\"),IFERROR(VLOOKUP(A625,[1]SkillConfig!$E:$G,3,FALSE),\"\"),IFERROR(VLOOKUP(A625,[1]SkillConfig!$V:$AF,11,FALSE),\"\"))","v":"灵狐渡厄"},1091022]
[1091023,{"$f":"CONCATENATE(IFERROR(VLOOKUP(A626,[1]SkillConfig!$D:$F,3,FALSE),\"\"),IFERROR(VLOOKUP(A626,[1]SkillConfig!$E:$G,3,FALSE),\"\"),IFERROR(VLOOKUP(A626,[1]SkillConfig!$V:$AF,11,FALSE),\"\"))","v":"灵狐渡厄"},1091023]
[1091024,{"$f":"CONCATENATE(IFERROR(VLOOKUP(A627,[1]SkillConfig!$D:$F,3,FALSE),\"\"),IFERROR(VLOOKUP(A627,[1]SkillConfig!$E:$G,3,FALSE),\"\"),IFERROR(VLOOKUP(A627,[1]SkillConfig!$V:$AF,11,FALSE),\"\"))","v":"灵狐渡厄"},1091024]
[1091025,{"$f":"CONCATENATE(IFERROR(VLOOKUP(A628,[1]SkillConfig!$D:$F,3,FALSE),\"\"),IFERROR(VLOOKUP(A628,[1]SkillConfig!$E:$G,3,FALSE),\"\"),IFERROR(VLOOKUP(A628,[1]SkillConfig!$V:$AF,11,FALSE),\"\"))","v":"灵狐渡厄"},1091025]
[null,{"$f":"CONCATENATE(IFERROR(VLOOKUP(A629,[1]SkillConfig!$D:$F,3,FALSE),\"\"),IFERROR(VLOOKUP(A629,[1]SkillConfig!$E:$G,3,FALSE),\"\"),IFERROR(VLOOKUP(A629,[1]SkillConfig!$V:$AF,11,FALSE),\"\"))","v":""}]
[1111010,{"$f":"CONCATENATE(IFERROR(VLOOKUP(A630,[1]SkillConfig!$D:$F,3,FALSE),\"\"),IFERROR(VLOOKUP(A630,[1]SkillConfig!$E:$G,3,FALSE),\"\"),IFERROR(VLOOKUP(A630,[1]SkillConfig!$V:$AF,11,FALSE),\"\"))","v":"身体周围幻化出{0}柄细剑，每柄细剑造成{1}%攻击力的伤害，并有{2}%的几率对敌人造成1层流血。"},1111010]
[1111011,{"$f":"CONCATENATE(IFERROR(VLOOKUP(A631,[1]SkillConfig!$D:$F,3,FALSE),\"\"),IFERROR(VLOOKUP(A631,[1]SkillConfig!$E:$G,3,FALSE),\"\"),IFERROR(VLOOKUP(A631,[1]SkillConfig!$V:$AF,11,FALSE),\"\"))","v":"身体周围幻化出{0}柄细剑，每柄细剑造成{1}%攻击力的伤害，并有{2}%的几率对敌人造成1层流血。"},1111011]
[1111012,{"$f":"CONCATENATE(IFERROR(VLOOKUP(A632,[1]SkillConfig!$D:$F,3,FALSE),\"\"),IFERROR(VLOOKUP(A632,[1]SkillConfig!$E:$G,3,FALSE),\"\"),IFERROR(VLOOKUP(A632,[1]SkillConfig!$V:$AF,11,FALSE),\"\"))","v":"身体周围幻化出{0}柄细剑，每柄细剑造成{1}%攻击力的伤害，并有{2}%的几率对敌人造成1层流血。"},1111012]
[1111013,{"$f":"CONCATENATE(IFERROR(VLOOKUP(A633,[1]SkillConfig!$D:$F,3,FALSE),\"\"),IFERROR(VLOOKUP(A633,[1]SkillConfig!$E:$G,3,FALSE),\"\"),IFERROR(VLOOKUP(A633,[1]SkillConfig!$V:$AF,11,FALSE),\"\"))","v":"身体周围幻化出{0}柄细剑，每柄细剑造成{1}%攻击力的伤害，并有{2}%的几率对敌人造成1层流血。\n如果敌人有减益状态，则细剑伤害提升{3}%。"},1111013]
[1111014,{"$f":"CONCATENATE(IFERROR(VLOOKUP(A634,[1]SkillConfig!$D:$F,3,FALSE),\"\"),IFERROR(VLOOKUP(A634,[1]SkillConfig!$E:$G,3,FALSE),\"\"),IFERROR(VLOOKUP(A634,[1]SkillConfig!$V:$AF,11,FALSE),\"\"))","v":"身体周围幻化出{0}柄细剑，每柄细剑造成{1}%攻击力的伤害，并有{2}%的几率对敌人造成1层流血。\n如果敌人有减益状态，则细剑伤害提升{3}%。"},1111014]
[1111015,{"$f":"CONCATENATE(IFERROR(VLOOKUP(A635,[1]SkillConfig!$D:$F,3,FALSE),\"\"),IFERROR(VLOOKUP(A635,[1]SkillConfig!$E:$G,3,FALSE),\"\"),IFERROR(VLOOKUP(A635,[1]SkillConfig!$V:$AF,11,FALSE),\"\"))","v":"身体周围幻化出{0}柄更加巨大的虚剑，每柄虚剑造成{1}%攻击力的伤害，并有{2}%的几率对敌人造成1层流血。\n如果敌人有减益状态，则虚剑伤害提升{3}%。"},1111015]
[null,{"$f":"CONCATENATE(IFERROR(VLOOKUP(A636,[1]SkillConfig!$D:$F,3,FALSE),\"\"),IFERROR(VLOOKUP(A636,[1]SkillConfig!$E:$G,3,FALSE),\"\"),IFERROR(VLOOKUP(A636,[1]SkillConfig!$V:$AF,11,FALSE),\"\"))","v":""}]
[1111020,{"$f":"CONCATENATE(IFERROR(VLOOKUP(A637,[1]SkillConfig!$D:$F,3,FALSE),\"\"),IFERROR(VLOOKUP(A637,[1]SkillConfig!$E:$G,3,FALSE),\"\"),IFERROR(VLOOKUP(A637,[1]SkillConfig!$V:$AF,11,FALSE),\"\"))","v":"吸收自身灵气凝聚{0}柄大剑，大剑旋转快速穿透敌人对其造成{1}%攻击力的伤害"},1111020]
[1111021,{"$f":"CONCATENATE(IFERROR(VLOOKUP(A638,[1]SkillConfig!$D:$F,3,FALSE),\"\"),IFERROR(VLOOKUP(A638,[1]SkillConfig!$E:$G,3,FALSE),\"\"),IFERROR(VLOOKUP(A638,[1]SkillConfig!$V:$AF,11,FALSE),\"\"))","v":"吸收自身灵气凝聚{0}柄大剑，大剑旋转快速穿透敌人对其造成{1}%攻击力的伤害\n对处在流血或放血状态下的敌人造成的伤害+{2}%"},1111021]
[1111022,{"$f":"CONCATENATE(IFERROR(VLOOKUP(A639,[1]SkillConfig!$D:$F,3,FALSE),\"\"),IFERROR(VLOOKUP(A639,[1]SkillConfig!$E:$G,3,FALSE),\"\"),IFERROR(VLOOKUP(A639,[1]SkillConfig!$V:$AF,11,FALSE),\"\"))","v":"吸收自身灵气凝聚{0}柄大剑，大剑旋转快速穿透敌人对其造成{1}%攻击力的伤害\n对处在流血或放血状态下的敌人造成的伤害+{2}%"},1111022]
[1111023,{"$f":"CONCATENATE(IFERROR(VLOOKUP(A640,[1]SkillConfig!$D:$F,3,FALSE),\"\"),IFERROR(VLOOKUP(A640,[1]SkillConfig!$E:$G,3,FALSE),\"\"),IFERROR(VLOOKUP(A640,[1]SkillConfig!$V:$AF,11,FALSE),\"\"))","v":"吸收自身灵气凝聚{0}柄大剑，大剑旋转快速穿透敌人对其造成{1}%攻击力的伤害\n对处在流血或放血状态下的敌人造成的伤害+{2}%\n重伤敌人后，如果目标没在放血状态，直接放血且不消耗流血层数"},1111023]
[1111024,{"$f":"CONCATENATE(IFERROR(VLOOKUP(A641,[1]SkillConfig!$D:$F,3,FALSE),\"\"),IFERROR(VLOOKUP(A641,[1]SkillConfig!$E:$G,3,FALSE),\"\"),IFERROR(VLOOKUP(A641,[1]SkillConfig!$V:$AF,11,FALSE),\"\"))","v":"吸收自身灵气凝聚{0}柄大剑，大剑旋转快速穿透敌人对其造成{1}%攻击力的伤害\n对处在流血或放血状态下的敌人造成的伤害+{2}%\n重伤敌人后，如果目标没在放血状态，直接放血且不消耗流血层数"},1111024]
[1111025,{"$f":"CONCATENATE(IFERROR(VLOOKUP(A642,[1]SkillConfig!$D:$F,3,FALSE),\"\"),IFERROR(VLOOKUP(A642,[1]SkillConfig!$E:$G,3,FALSE),\"\"),IFERROR(VLOOKUP(A642,[1]SkillConfig!$V:$AF,11,FALSE),\"\"))","v":"吸收自身灵气凝聚{0}柄大剑，大剑旋转快速穿透敌人对其造成{1}%攻击力的伤害\n对处在流血或放血状态下的敌人造成的伤害+{2}%\n重伤敌人后，如果目标没在放血状态，直接放血且不消耗流血层数\n大剑体型巨大化进入全盛状态，对拼强度+{3}%，伤害提升{4}%"},1111025]
[null,{"$f":"CONCATENATE(IFERROR(VLOOKUP(A643,[1]SkillConfig!$D:$F,3,FALSE),\"\"),IFERROR(VLOOKUP(A643,[1]SkillConfig!$E:$G,3,FALSE),\"\"),IFERROR(VLOOKUP(A643,[1]SkillConfig!$V:$AF,11,FALSE),\"\"))","v":""}]
[1111030,{"$f":"CONCATENATE(IFERROR(VLOOKUP(A644,[1]SkillConfig!$D:$F,3,FALSE),\"\"),IFERROR(VLOOKUP(A644,[1]SkillConfig!$E:$G,3,FALSE),\"\"),IFERROR(VLOOKUP(A644,[1]SkillConfig!$V:$AF,11,FALSE),\"\"))","v":"向前方挥动{0}次，每次挥动形成一道血刃剑气，每道剑气对敌人造成{1}%攻击力的伤害，并有{2}%概率对敌人造成流血。"},1111030]
[1111031,{"$f":"CONCATENATE(IFERROR(VLOOKUP(A645,[1]SkillConfig!$D:$F,3,FALSE),\"\"),IFERROR(VLOOKUP(A645,[1]SkillConfig!$E:$G,3,FALSE),\"\"),IFERROR(VLOOKUP(A645,[1]SkillConfig!$V:$AF,11,FALSE),\"\"))","v":"向前方挥动{0}次，每次挥动形成一道血刃剑气，每道剑气对敌人造成{1}%攻击力的伤害，并有{2}%概率对敌人造成流血。\n刀气命中目标后，恢复本次伤害{3}%的生命。"},1111031]
[1111032,{"$f":"CONCATENATE(IFERROR(VLOOKUP(A646,[1]SkillConfig!$D:$F,3,FALSE),\"\"),IFERROR(VLOOKUP(A646,[1]SkillConfig!$E:$G,3,FALSE),\"\"),IFERROR(VLOOKUP(A646,[1]SkillConfig!$V:$AF,11,FALSE),\"\"))","v":"向前方挥动{0}次，每次挥动形成一道血刃剑气，每道剑气对敌人造成{1}%攻击力的伤害，并有{2}%概率对敌人造成流血。\n刀气命中目标后，恢复本次伤害{3}%的生命。"},1111032]
[1111033,{"$f":"CONCATENATE(IFERROR(VLOOKUP(A647,[1]SkillConfig!$D:$F,3,FALSE),\"\"),IFERROR(VLOOKUP(A647,[1]SkillConfig!$E:$G,3,FALSE),\"\"),IFERROR(VLOOKUP(A647,[1]SkillConfig!$V:$AF,11,FALSE),\"\"))","v":"向前方挥动{0}次，每次挥动形成一道血刃剑气，每道剑气对敌人造成{1}%攻击力的伤害，并有{2}%概率对敌人造成流血。\n刀气命中目标后，恢复本次伤害{3}%的生命。"},1111033]
[1111034,{"$f":"CONCATENATE(IFERROR(VLOOKUP(A648,[1]SkillConfig!$D:$F,3,FALSE),\"\"),IFERROR(VLOOKUP(A648,[1]SkillConfig!$E:$G,3,FALSE),\"\"),IFERROR(VLOOKUP(A648,[1]SkillConfig!$V:$AF,11,FALSE),\"\"))","v":"向前方挥动{0}次，每次挥动形成一道血刃剑气，每道剑气对敌人造成{1}%攻击力的伤害，并有{2}%概率对敌人造成流血。\n刀气命中目标后，恢复本次伤害{3}%的生命。"},1111034]
[1111035,{"$f":"CONCATENATE(IFERROR(VLOOKUP(A649,[1]SkillConfig!$D:$F,3,FALSE),\"\"),IFERROR(VLOOKUP(A649,[1]SkillConfig!$E:$G,3,FALSE),\"\"),IFERROR(VLOOKUP(A649,[1]SkillConfig!$V:$AF,11,FALSE),\"\"))","v":"向前方挥动{0}次，每次挥动形成一道血刃剑气，每道剑气对敌人造成{1}%攻击力的伤害，并有{2}%概率对敌人造成流血。\n刀气命中目标后，恢复本次伤害{3}%的生命。\n刀气对流血状态下的敌人造成的伤害+{4}%"},1111035]
[null,{"$f":"CONCATENATE(IFERROR(VLOOKUP(A650,[1]SkillConfig!$D:$F,3,FALSE),\"\"),IFERROR(VLOOKUP(A650,[1]SkillConfig!$E:$G,3,FALSE),\"\"),IFERROR(VLOOKUP(A650,[1]SkillConfig!$V:$AF,11,FALSE),\"\"))","v":""}]
[1111040,{"$f":"CONCATENATE(IFERROR(VLOOKUP(A651,[1]SkillConfig!$D:$F,3,FALSE),\"\"),IFERROR(VLOOKUP(A651,[1]SkillConfig!$E:$G,3,FALSE),\"\"),IFERROR(VLOOKUP(A651,[1]SkillConfig!$V:$AF,11,FALSE),\"\"))","v":"发射{0}枚飞刀，每把飞刀对敌人造成{1}%攻击力的伤害。"},1111040]
[1111041,{"$f":"CONCATENATE(IFERROR(VLOOKUP(A652,[1]SkillConfig!$D:$F,3,FALSE),\"\"),IFERROR(VLOOKUP(A652,[1]SkillConfig!$E:$G,3,FALSE),\"\"),IFERROR(VLOOKUP(A652,[1]SkillConfig!$V:$AF,11,FALSE),\"\"))","v":"发射{0}枚飞刀，每把飞刀对敌人造成{1}%攻击力的伤害。"},1111041]
[1111042,{"$f":"CONCATENATE(IFERROR(VLOOKUP(A653,[1]SkillConfig!$D:$F,3,FALSE),\"\"),IFERROR(VLOOKUP(A653,[1]SkillConfig!$E:$G,3,FALSE),\"\"),IFERROR(VLOOKUP(A653,[1]SkillConfig!$V:$AF,11,FALSE),\"\"))","v":"发射{0}枚飞刀，每把飞刀对敌人造成{1}%攻击力的伤害。"},1111042]
[1111043,{"$f":"CONCATENATE(IFERROR(VLOOKUP(A654,[1]SkillConfig!$D:$F,3,FALSE),\"\"),IFERROR(VLOOKUP(A654,[1]SkillConfig!$E:$G,3,FALSE),\"\"),IFERROR(VLOOKUP(A654,[1]SkillConfig!$V:$AF,11,FALSE),\"\"))","v":"发射{0}枚飞刀，每把飞刀对敌人造成{1}%攻击力的伤害。"},1111043]
[1111044,{"$f":"CONCATENATE(IFERROR(VLOOKUP(A655,[1]SkillConfig!$D:$F,3,FALSE),\"\"),IFERROR(VLOOKUP(A655,[1]SkillConfig!$E:$G,3,FALSE),\"\"),IFERROR(VLOOKUP(A655,[1]SkillConfig!$V:$AF,11,FALSE),\"\"))","v":"发射{0}枚飞刀，每把飞刀对敌人造成{1}%攻击力的伤害。"},1111044]
[1111045,{"$f":"CONCATENATE(IFERROR(VLOOKUP(A656,[1]SkillConfig!$D:$F,3,FALSE),\"\"),IFERROR(VLOOKUP(A656,[1]SkillConfig!$E:$G,3,FALSE),\"\"),IFERROR(VLOOKUP(A656,[1]SkillConfig!$V:$AF,11,FALSE),\"\"))","v":"发射{0}枚飞刀，每把飞刀对敌人造成{1}%攻击力的伤害。"},1111045]
[null,{"$f":"CONCATENATE(IFERROR(VLOOKUP(A657,[1]SkillConfig!$D:$F,3,FALSE),\"\"),IFERROR(VLOOKUP(A657,[1]SkillConfig!$E:$G,3,FALSE),\"\"),IFERROR(VLOOKUP(A657,[1]SkillConfig!$V:$AF,11,FALSE),\"\"))","v":""}]
[1111050,{"$f":"CONCATENATE(IFERROR(VLOOKUP(A658,[1]SkillConfig!$D:$F,3,FALSE),\"\"),IFERROR(VLOOKUP(A658,[1]SkillConfig!$E:$G,3,FALSE),\"\"),IFERROR(VLOOKUP(A658,[1]SkillConfig!$V:$AF,11,FALSE),\"\"))","v":"手中快速发射{0}枚金针，每枚金针对敌人造成{1}%攻击力的伤害，并有{2}%的概率施加1层流血。"},1111050]
[1111051,{"$f":"CONCATENATE(IFERROR(VLOOKUP(A659,[1]SkillConfig!$D:$F,3,FALSE),\"\"),IFERROR(VLOOKUP(A659,[1]SkillConfig!$E:$G,3,FALSE),\"\"),IFERROR(VLOOKUP(A659,[1]SkillConfig!$V:$AF,11,FALSE),\"\"))","v":"手中快速发射{0}枚金针，每枚金针对敌人造成{1}%攻击力的伤害，并有{2}%的概率施加1层流血。"},1111051]
[1111052,{"$f":"CONCATENATE(IFERROR(VLOOKUP(A660,[1]SkillConfig!$D:$F,3,FALSE),\"\"),IFERROR(VLOOKUP(A660,[1]SkillConfig!$E:$G,3,FALSE),\"\"),IFERROR(VLOOKUP(A660,[1]SkillConfig!$V:$AF,11,FALSE),\"\"))","v":"手中快速发射{0}枚金针，每枚金针对敌人造成{1}%攻击力的伤害，并有{2}%的概率施加1层流血。"},1111052]
[1111053,{"$f":"CONCATENATE(IFERROR(VLOOKUP(A661,[1]SkillConfig!$D:$F,3,FALSE),\"\"),IFERROR(VLOOKUP(A661,[1]SkillConfig!$E:$G,3,FALSE),\"\"),IFERROR(VLOOKUP(A661,[1]SkillConfig!$V:$AF,11,FALSE),\"\"))","v":"手中快速发射{0}枚金针，每枚金针对敌人造成{1}%攻击力的伤害，并有{2}%的概率施加1层流血。"},1111053]
[1111054,{"$f":"CONCATENATE(IFERROR(VLOOKUP(A662,[1]SkillConfig!$D:$F,3,FALSE),\"\"),IFERROR(VLOOKUP(A662,[1]SkillConfig!$E:$G,3,FALSE),\"\"),IFERROR(VLOOKUP(A662,[1]SkillConfig!$V:$AF,11,FALSE),\"\"))","v":"手中快速发射{0}枚金针，每枚金针对敌人造成{1}%攻击力的伤害，并有{2}%的概率施加1层流血。"},1111054]
[1111055,{"$f":"CONCATENATE(IFERROR(VLOOKUP(A663,[1]SkillConfig!$D:$F,3,FALSE),\"\"),IFERROR(VLOOKUP(A663,[1]SkillConfig!$E:$G,3,FALSE),\"\"),IFERROR(VLOOKUP(A663,[1]SkillConfig!$V:$AF,11,FALSE),\"\"))","v":"手中快速发射{0}枚金针，每枚金针对敌人造成{1}%攻击力的伤害，并有{2}%的概率施加1层流血。"},1111055]
[null,{"$f":"CONCATENATE(IFERROR(VLOOKUP(A664,[1]SkillConfig!$D:$F,3,FALSE),\"\"),IFERROR(VLOOKUP(A664,[1]SkillConfig!$E:$G,3,FALSE),\"\"),IFERROR(VLOOKUP(A664,[1]SkillConfig!$V:$AF,11,FALSE),\"\"))","v":""}]
[1112010,{"$f":"CONCATENATE(IFERROR(VLOOKUP(A665,[1]SkillConfig!$D:$F,3,FALSE),\"\"),IFERROR(VLOOKUP(A665,[1]SkillConfig!$E:$G,3,FALSE),\"\"),IFERROR(VLOOKUP(A665,[1]SkillConfig!$V:$AF,11,FALSE),\"\"))","v":"发出{0}道寒气冰锥，每道冰锥对敌人造成{1}%攻击力的伤害，每道冰锥有{2}%的概率对敌人施加1层寒气"},1112010]
[1112011,{"$f":"CONCATENATE(IFERROR(VLOOKUP(A666,[1]SkillConfig!$D:$F,3,FALSE),\"\"),IFERROR(VLOOKUP(A666,[1]SkillConfig!$E:$G,3,FALSE),\"\"),IFERROR(VLOOKUP(A666,[1]SkillConfig!$V:$AF,11,FALSE),\"\"))","v":"发出{0}道寒气冰锥，每道冰锥对敌人造成{1}%攻击力的伤害，每道冰锥有{2}%的概率对敌人施加1层寒气"},1112011]
[1112012,{"$f":"CONCATENATE(IFERROR(VLOOKUP(A667,[1]SkillConfig!$D:$F,3,FALSE),\"\"),IFERROR(VLOOKUP(A667,[1]SkillConfig!$E:$G,3,FALSE),\"\"),IFERROR(VLOOKUP(A667,[1]SkillConfig!$V:$AF,11,FALSE),\"\"))","v":"发出{0}道寒气冰锥，每道冰锥对敌人造成{1}%攻击力的伤害，每道冰锥有{2}%的概率对敌人施加1层寒气"},1112012]
[1112013,{"$f":"CONCATENATE(IFERROR(VLOOKUP(A668,[1]SkillConfig!$D:$F,3,FALSE),\"\"),IFERROR(VLOOKUP(A668,[1]SkillConfig!$E:$G,3,FALSE),\"\"),IFERROR(VLOOKUP(A668,[1]SkillConfig!$V:$AF,11,FALSE),\"\"))","v":"发出{0}道寒气冰锥，每道冰锥对敌人造成{1}%攻击力的伤害，每道冰锥有{2}%的概率对敌人施加1层寒气"},1112013]
[1112014,{"$f":"CONCATENATE(IFERROR(VLOOKUP(A669,[1]SkillConfig!$D:$F,3,FALSE),\"\"),IFERROR(VLOOKUP(A669,[1]SkillConfig!$E:$G,3,FALSE),\"\"),IFERROR(VLOOKUP(A669,[1]SkillConfig!$V:$AF,11,FALSE),\"\"))","v":"发出{0}道寒气冰锥，每道冰锥对敌人造成{1}%攻击力的伤害，每道冰锥有{2}%的概率对敌人施加1层寒气"},1112014]
[1112015,{"$f":"CONCATENATE(IFERROR(VLOOKUP(A670,[1]SkillConfig!$D:$F,3,FALSE),\"\"),IFERROR(VLOOKUP(A670,[1]SkillConfig!$E:$G,3,FALSE),\"\"),IFERROR(VLOOKUP(A670,[1]SkillConfig!$V:$AF,11,FALSE),\"\"))","v":"发出{0}道寒气冰锥，每道冰锥对敌人造成{1}%攻击力的伤害，每道冰锥有{2}%的概率对敌人施加1层寒气"},1112015]
[null,{"$f":"CONCATENATE(IFERROR(VLOOKUP(A671,[1]SkillConfig!$D:$F,3,FALSE),\"\"),IFERROR(VLOOKUP(A671,[1]SkillConfig!$E:$G,3,FALSE),\"\"),IFERROR(VLOOKUP(A671,[1]SkillConfig!$V:$AF,11,FALSE),\"\"))","v":""}]
[1112020,{"$f":"CONCATENATE(IFERROR(VLOOKUP(A672,[1]SkillConfig!$D:$F,3,FALSE),\"\"),IFERROR(VLOOKUP(A672,[1]SkillConfig!$E:$G,3,FALSE),\"\"),IFERROR(VLOOKUP(A672,[1]SkillConfig!$V:$AF,11,FALSE),\"\"))","v":"身体散发出一团迷雾。从迷雾中飞出{0}个冰球，每个冰球对敌人造成{1}%攻击力的伤害，并有{2}%概率施加1层寒气"},1112020]
[1112021,{"$f":"CONCATENATE(IFERROR(VLOOKUP(A673,[1]SkillConfig!$D:$F,3,FALSE),\"\"),IFERROR(VLOOKUP(A673,[1]SkillConfig!$E:$G,3,FALSE),\"\"),IFERROR(VLOOKUP(A673,[1]SkillConfig!$V:$AF,11,FALSE),\"\"))","v":"身体散发出一团迷雾。从迷雾中飞出{0}个冰球，每个冰球对敌人造成{1}%攻击力的伤害，并有{2}%概率施加1层寒气"},1112021]
[1112022,{"$f":"CONCATENATE(IFERROR(VLOOKUP(A674,[1]SkillConfig!$D:$F,3,FALSE),\"\"),IFERROR(VLOOKUP(A674,[1]SkillConfig!$E:$G,3,FALSE),\"\"),IFERROR(VLOOKUP(A674,[1]SkillConfig!$V:$AF,11,FALSE),\"\"))","v":"身体散发出一团迷雾。从迷雾中飞出{0}个冰球，每个冰球对敌人造成{1}%攻击力的伤害，并有{2}%概率施加1层寒气"},1112022]
[1112023,{"$f":"CONCATENATE(IFERROR(VLOOKUP(A675,[1]SkillConfig!$D:$F,3,FALSE),\"\"),IFERROR(VLOOKUP(A675,[1]SkillConfig!$E:$G,3,FALSE),\"\"),IFERROR(VLOOKUP(A675,[1]SkillConfig!$V:$AF,11,FALSE),\"\"))","v":"身体散发出一团迷雾。从迷雾中飞出{0}个冰球，每个冰球对敌人造成{1}%攻击力的伤害，并有{2}%概率施加1层寒气"},1112023]
[1112024,{"$f":"CONCATENATE(IFERROR(VLOOKUP(A676,[1]SkillConfig!$D:$F,3,FALSE),\"\"),IFERROR(VLOOKUP(A676,[1]SkillConfig!$E:$G,3,FALSE),\"\"),IFERROR(VLOOKUP(A676,[1]SkillConfig!$V:$AF,11,FALSE),\"\"))","v":"身体散发出一团迷雾。从迷雾中飞出{0}个冰球，每个冰球对敌人造成{1}%攻击力的伤害，并有{2}%概率施加1层寒气"},1112024]
[1112025,{"$f":"CONCATENATE(IFERROR(VLOOKUP(A677,[1]SkillConfig!$D:$F,3,FALSE),\"\"),IFERROR(VLOOKUP(A677,[1]SkillConfig!$E:$G,3,FALSE),\"\"),IFERROR(VLOOKUP(A677,[1]SkillConfig!$V:$AF,11,FALSE),\"\"))","v":"身体散发出一团迷雾。从迷雾中飞出{0}个冰球，每个冰球对敌人造成{1}%攻击力的伤害，并有{2}%概率施加1层寒气"},1112025]
[null,{"$f":"CONCATENATE(IFERROR(VLOOKUP(A678,[1]SkillConfig!$D:$F,3,FALSE),\"\"),IFERROR(VLOOKUP(A678,[1]SkillConfig!$E:$G,3,FALSE),\"\"),IFERROR(VLOOKUP(A678,[1]SkillConfig!$V:$AF,11,FALSE),\"\"))","v":""}]
[null,{"$f":"CONCATENATE(IFERROR(VLOOKUP(A679,[1]SkillConfig!$D:$F,3,FALSE),\"\"),IFERROR(VLOOKUP(A679,[1]SkillConfig!$E:$G,3,FALSE),\"\"),IFERROR(VLOOKUP(A679,[1]SkillConfig!$V:$AF,11,FALSE),\"\"))","v":""},1100000]
[null,{"$f":"CONCATENATE(IFERROR(VLOOKUP(A680,[1]SkillConfig!$D:$F,3,FALSE),\"\"),IFERROR(VLOOKUP(A680,[1]SkillConfig!$E:$G,3,FALSE),\"\"),IFERROR(VLOOKUP(A680,[1]SkillConfig!$V:$AF,11,FALSE),\"\"))","v":""},1100000]
[null,{"$f":"CONCATENATE(IFERROR(VLOOKUP(A681,[1]SkillConfig!$D:$F,3,FALSE),\"\"),IFERROR(VLOOKUP(A681,[1]SkillConfig!$E:$G,3,FALSE),\"\"),IFERROR(VLOOKUP(A681,[1]SkillConfig!$V:$AF,11,FALSE),\"\"))","v":""},1100000]
[null,{"$f":"CONCATENATE(IFERROR(VLOOKUP(A682,[1]SkillConfig!$D:$F,3,FALSE),\"\"),IFERROR(VLOOKUP(A682,[1]SkillConfig!$E:$G,3,FALSE),\"\"),IFERROR(VLOOKUP(A682,[1]SkillConfig!$V:$AF,11,FALSE),\"\"))","v":""},1100000]
[null,{"$f":"CONCATENATE(IFERROR(VLOOKUP(A683,[1]SkillConfig!$D:$F,3,FALSE),\"\"),IFERROR(VLOOKUP(A683,[1]SkillConfig!$E:$G,3,FALSE),\"\"),IFERROR(VLOOKUP(A683,[1]SkillConfig!$V:$AF,11,FALSE),\"\"))","v":""},1100000]
[null,{"$f":"CONCATENATE(IFERROR(VLOOKUP(A684,[1]SkillConfig!$D:$F,3,FALSE),\"\"),IFERROR(VLOOKUP(A684,[1]SkillConfig!$E:$G,3,FALSE),\"\"),IFERROR(VLOOKUP(A684,[1]SkillConfig!$V:$AF,11,FALSE),\"\"))","v":""},1100000]
[null,{"$f":"CONCATENATE(IFERROR(VLOOKUP(A685,[1]SkillConfig!$D:$F,3,FALSE),\"\"),IFERROR(VLOOKUP(A685,[1]SkillConfig!$E:$G,3,FALSE),\"\"),IFERROR(VLOOKUP(A685,[1]SkillConfig!$V:$AF,11,FALSE),\"\"))","v":""}]
[1112040,{"$f":"CONCATENATE(IFERROR(VLOOKUP(A686,[1]SkillConfig!$D:$F,3,FALSE),\"\"),IFERROR(VLOOKUP(A686,[1]SkillConfig!$E:$G,3,FALSE),\"\"),IFERROR(VLOOKUP(A686,[1]SkillConfig!$V:$AF,11,FALSE),\"\"))","v":"发射{0}枚水球，每枚对敌人造成{1}%攻击力的伤害。"},1112040]
[1112041,{"$f":"CONCATENATE(IFERROR(VLOOKUP(A687,[1]SkillConfig!$D:$F,3,FALSE),\"\"),IFERROR(VLOOKUP(A687,[1]SkillConfig!$E:$G,3,FALSE),\"\"),IFERROR(VLOOKUP(A687,[1]SkillConfig!$V:$AF,11,FALSE),\"\"))","v":"发射{0}枚水球，每枚对敌人造成{1}%攻击力的伤害。"},1112041]
[1112042,{"$f":"CONCATENATE(IFERROR(VLOOKUP(A688,[1]SkillConfig!$D:$F,3,FALSE),\"\"),IFERROR(VLOOKUP(A688,[1]SkillConfig!$E:$G,3,FALSE),\"\"),IFERROR(VLOOKUP(A688,[1]SkillConfig!$V:$AF,11,FALSE),\"\"))","v":"发射{0}枚水球，每枚对敌人造成{1}%攻击力的伤害。"},1112042]
[1112043,{"$f":"CONCATENATE(IFERROR(VLOOKUP(A689,[1]SkillConfig!$D:$F,3,FALSE),\"\"),IFERROR(VLOOKUP(A689,[1]SkillConfig!$E:$G,3,FALSE),\"\"),IFERROR(VLOOKUP(A689,[1]SkillConfig!$V:$AF,11,FALSE),\"\"))","v":"发射{0}枚水球，每枚对敌人造成{1}%攻击力的伤害。"},1112043]
[1112044,{"$f":"CONCATENATE(IFERROR(VLOOKUP(A690,[1]SkillConfig!$D:$F,3,FALSE),\"\"),IFERROR(VLOOKUP(A690,[1]SkillConfig!$E:$G,3,FALSE),\"\"),IFERROR(VLOOKUP(A690,[1]SkillConfig!$V:$AF,11,FALSE),\"\"))","v":"发射{0}枚水球，每枚对敌人造成{1}%攻击力的伤害。"},1112044]
[1112045,{"$f":"CONCATENATE(IFERROR(VLOOKUP(A691,[1]SkillConfig!$D:$F,3,FALSE),\"\"),IFERROR(VLOOKUP(A691,[1]SkillConfig!$E:$G,3,FALSE),\"\"),IFERROR(VLOOKUP(A691,[1]SkillConfig!$V:$AF,11,FALSE),\"\"))","v":"发射{0}枚水球，每枚对敌人造成{1}%攻击力的伤害。"},1112045]
[null,{"$f":"CONCATENATE(IFERROR(VLOOKUP(A692,[1]SkillConfig!$D:$F,3,FALSE),\"\"),IFERROR(VLOOKUP(A692,[1]SkillConfig!$E:$G,3,FALSE),\"\"),IFERROR(VLOOKUP(A692,[1]SkillConfig!$V:$AF,11,FALSE),\"\"))","v":""}]
[1112050,{"$f":"CONCATENATE(IFERROR(VLOOKUP(A693,[1]SkillConfig!$D:$F,3,FALSE),\"\"),IFERROR(VLOOKUP(A693,[1]SkillConfig!$E:$G,3,FALSE),\"\"),IFERROR(VLOOKUP(A693,[1]SkillConfig!$V:$AF,11,FALSE),\"\"))","v":"发射{0}枚冰刀，每把冰刀对敌人造成{1}%攻击力的伤害。"},1112050]
[1112051,{"$f":"CONCATENATE(IFERROR(VLOOKUP(A694,[1]SkillConfig!$D:$F,3,FALSE),\"\"),IFERROR(VLOOKUP(A694,[1]SkillConfig!$E:$G,3,FALSE),\"\"),IFERROR(VLOOKUP(A694,[1]SkillConfig!$V:$AF,11,FALSE),\"\"))","v":"发射{0}枚冰刀，每把冰刀对敌人造成{1}%攻击力的伤害。"},1112051]
[1112052,{"$f":"CONCATENATE(IFERROR(VLOOKUP(A695,[1]SkillConfig!$D:$F,3,FALSE),\"\"),IFERROR(VLOOKUP(A695,[1]SkillConfig!$E:$G,3,FALSE),\"\"),IFERROR(VLOOKUP(A695,[1]SkillConfig!$V:$AF,11,FALSE),\"\"))","v":"发射{0}枚冰刀，每把冰刀对敌人造成{1}%攻击力的伤害。"},1112052]
[1112053,{"$f":"CONCATENATE(IFERROR(VLOOKUP(A696,[1]SkillConfig!$D:$F,3,FALSE),\"\"),IFERROR(VLOOKUP(A696,[1]SkillConfig!$E:$G,3,FALSE),\"\"),IFERROR(VLOOKUP(A696,[1]SkillConfig!$V:$AF,11,FALSE),\"\"))","v":"发射{0}枚冰刀，每把冰刀对敌人造成{1}%攻击力的伤害。"},1112053]
[1112054,{"$f":"CONCATENATE(IFERROR(VLOOKUP(A697,[1]SkillConfig!$D:$F,3,FALSE),\"\"),IFERROR(VLOOKUP(A697,[1]SkillConfig!$E:$G,3,FALSE),\"\"),IFERROR(VLOOKUP(A697,[1]SkillConfig!$V:$AF,11,FALSE),\"\"))","v":"发射{0}枚冰刀，每把冰刀对敌人造成{1}%攻击力的伤害。"},1112054]
[1112055,{"$f":"CONCATENATE(IFERROR(VLOOKUP(A698,[1]SkillConfig!$D:$F,3,FALSE),\"\"),IFERROR(VLOOKUP(A698,[1]SkillConfig!$E:$G,3,FALSE),\"\"),IFERROR(VLOOKUP(A698,[1]SkillConfig!$V:$AF,11,FALSE),\"\"))","v":"发射{0}枚冰刀，每把冰刀对敌人造成{1}%攻击力的伤害。"},1112055]
[null,{"$f":"CONCATENATE(IFERROR(VLOOKUP(A699,[1]SkillConfig!$D:$F,3,FALSE),\"\"),IFERROR(VLOOKUP(A699,[1]SkillConfig!$E:$G,3,FALSE),\"\"),IFERROR(VLOOKUP(A699,[1]SkillConfig!$V:$AF,11,FALSE),\"\"))","v":""}]
[1113010,{"$f":"CONCATENATE(IFERROR(VLOOKUP(A700,[1]SkillConfig!$D:$F,3,FALSE),\"\"),IFERROR(VLOOKUP(A700,[1]SkillConfig!$E:$G,3,FALSE),\"\"),IFERROR(VLOOKUP(A700,[1]SkillConfig!$V:$AF,11,FALSE),\"\"))","v":"发出{0}条细细的毒针，每颗毒针对敌人造成{1}%攻击力的伤害，每颗针有{2}%概率施加1层毒"},1113010]
[1113011,{"$f":"CONCATENATE(IFERROR(VLOOKUP(A701,[1]SkillConfig!$D:$F,3,FALSE),\"\"),IFERROR(VLOOKUP(A701,[1]SkillConfig!$E:$G,3,FALSE),\"\"),IFERROR(VLOOKUP(A701,[1]SkillConfig!$V:$AF,11,FALSE),\"\"))","v":"发出{0}条细细的毒针，每颗毒针对敌人造成{1}%攻击力的伤害，每颗针有{2}%概率施加1层毒"},1113011]
[1113012,{"$f":"CONCATENATE(IFERROR(VLOOKUP(A702,[1]SkillConfig!$D:$F,3,FALSE),\"\"),IFERROR(VLOOKUP(A702,[1]SkillConfig!$E:$G,3,FALSE),\"\"),IFERROR(VLOOKUP(A702,[1]SkillConfig!$V:$AF,11,FALSE),\"\"))","v":"发出{0}条细细的毒针，每颗毒针对敌人造成{1}%攻击力的伤害，每颗针有{2}%概率施加1层毒"},1113012]
[1113013,{"$f":"CONCATENATE(IFERROR(VLOOKUP(A703,[1]SkillConfig!$D:$F,3,FALSE),\"\"),IFERROR(VLOOKUP(A703,[1]SkillConfig!$E:$G,3,FALSE),\"\"),IFERROR(VLOOKUP(A703,[1]SkillConfig!$V:$AF,11,FALSE),\"\"))","v":"发出{0}条细细的毒针，每颗毒针对敌人造成{1}%攻击力的伤害，每颗针有{2}%概率施加1层毒"},1113013]
[1113014,{"$f":"CONCATENATE(IFERROR(VLOOKUP(A704,[1]SkillConfig!$D:$F,3,FALSE),\"\"),IFERROR(VLOOKUP(A704,[1]SkillConfig!$E:$G,3,FALSE),\"\"),IFERROR(VLOOKUP(A704,[1]SkillConfig!$V:$AF,11,FALSE),\"\"))","v":"发出{0}条细细的毒针，每颗毒针对敌人造成{1}%攻击力的伤害，每颗针有{2}%概率施加1层毒"},1113014]
[1113015,{"$f":"CONCATENATE(IFERROR(VLOOKUP(A705,[1]SkillConfig!$D:$F,3,FALSE),\"\"),IFERROR(VLOOKUP(A705,[1]SkillConfig!$E:$G,3,FALSE),\"\"),IFERROR(VLOOKUP(A705,[1]SkillConfig!$V:$AF,11,FALSE),\"\"))","v":"发出{0}条细细的毒针，每颗毒针对敌人造成{1}%攻击力的伤害，每颗针有{2}%概率施加1层毒"},1113015]
[null,{"$f":"CONCATENATE(IFERROR(VLOOKUP(A706,[1]SkillConfig!$D:$F,3,FALSE),\"\"),IFERROR(VLOOKUP(A706,[1]SkillConfig!$E:$G,3,FALSE),\"\"),IFERROR(VLOOKUP(A706,[1]SkillConfig!$V:$AF,11,FALSE),\"\"))","v":""}]
[1113020,{"$f":"CONCATENATE(IFERROR(VLOOKUP(A707,[1]SkillConfig!$D:$F,3,FALSE),\"\"),IFERROR(VLOOKUP(A707,[1]SkillConfig!$E:$G,3,FALSE),\"\"),IFERROR(VLOOKUP(A707,[1]SkillConfig!$V:$AF,11,FALSE),\"\"))","v":"迅速释放{0}掌，每掌对敌人造成{1}%攻击力的伤害，并对敌人施加1层毒,每层毒额外提高{2}%伤害"},1113020]
[1113021,{"$f":"CONCATENATE(IFERROR(VLOOKUP(A708,[1]SkillConfig!$D:$F,3,FALSE),\"\"),IFERROR(VLOOKUP(A708,[1]SkillConfig!$E:$G,3,FALSE),\"\"),IFERROR(VLOOKUP(A708,[1]SkillConfig!$V:$AF,11,FALSE),\"\"))","v":"迅速释放{0}掌，每掌对敌人造成{1}%攻击力的伤害，并对敌人施加1层毒,每层毒额外提高{2}%伤害"},1113021]
[1113022,{"$f":"CONCATENATE(IFERROR(VLOOKUP(A709,[1]SkillConfig!$D:$F,3,FALSE),\"\"),IFERROR(VLOOKUP(A709,[1]SkillConfig!$E:$G,3,FALSE),\"\"),IFERROR(VLOOKUP(A709,[1]SkillConfig!$V:$AF,11,FALSE),\"\"))","v":"迅速释放{0}掌，每掌对敌人造成{1}%攻击力的伤害，并对敌人施加1层毒,每层毒额外提高{2}%伤害"},1113022]
[1113023,{"$f":"CONCATENATE(IFERROR(VLOOKUP(A710,[1]SkillConfig!$D:$F,3,FALSE),\"\"),IFERROR(VLOOKUP(A710,[1]SkillConfig!$E:$G,3,FALSE),\"\"),IFERROR(VLOOKUP(A710,[1]SkillConfig!$V:$AF,11,FALSE),\"\"))","v":"迅速释放{0}掌，每掌对敌人造成{1}%攻击力的伤害，并对敌人施加1层毒,每层毒额外提高{2}%伤害"},1113023]
[1113024,{"$f":"CONCATENATE(IFERROR(VLOOKUP(A711,[1]SkillConfig!$D:$F,3,FALSE),\"\"),IFERROR(VLOOKUP(A711,[1]SkillConfig!$E:$G,3,FALSE),\"\"),IFERROR(VLOOKUP(A711,[1]SkillConfig!$V:$AF,11,FALSE),\"\"))","v":"迅速释放{0}掌，每掌对敌人造成{1}%攻击力的伤害，并对敌人施加1层毒,每层毒额外提高{2}%伤害"},1113024]
[1113025,{"$f":"CONCATENATE(IFERROR(VLOOKUP(A712,[1]SkillConfig!$D:$F,3,FALSE),\"\"),IFERROR(VLOOKUP(A712,[1]SkillConfig!$E:$G,3,FALSE),\"\"),IFERROR(VLOOKUP(A712,[1]SkillConfig!$V:$AF,11,FALSE),\"\"))","v":"迅速释放{0}掌，每掌对敌人造成{1}%攻击力的伤害，并对敌人施加1层毒,每层毒额外提高{2}%伤害"},1113025]
[null,{"$f":"CONCATENATE(IFERROR(VLOOKUP(A713,[1]SkillConfig!$D:$F,3,FALSE),\"\"),IFERROR(VLOOKUP(A713,[1]SkillConfig!$E:$G,3,FALSE),\"\"),IFERROR(VLOOKUP(A713,[1]SkillConfig!$V:$AF,11,FALSE),\"\"))","v":""}]
[null,{"$f":"CONCATENATE(IFERROR(VLOOKUP(A714,[1]SkillConfig!$D:$F,3,FALSE),\"\"),IFERROR(VLOOKUP(A714,[1]SkillConfig!$E:$G,3,FALSE),\"\"),IFERROR(VLOOKUP(A714,[1]SkillConfig!$V:$AF,11,FALSE),\"\"))","v":""},1100000]
[null,{"$f":"CONCATENATE(IFERROR(VLOOKUP(A715,[1]SkillConfig!$D:$F,3,FALSE),\"\"),IFERROR(VLOOKUP(A715,[1]SkillConfig!$E:$G,3,FALSE),\"\"),IFERROR(VLOOKUP(A715,[1]SkillConfig!$V:$AF,11,FALSE),\"\"))","v":""},1100000]
[null,{"$f":"CONCATENATE(IFERROR(VLOOKUP(A716,[1]SkillConfig!$D:$F,3,FALSE),\"\"),IFERROR(VLOOKUP(A716,[1]SkillConfig!$E:$G,3,FALSE),\"\"),IFERROR(VLOOKUP(A716,[1]SkillConfig!$V:$AF,11,FALSE),\"\"))","v":""},1100000]
[null,{"$f":"CONCATENATE(IFERROR(VLOOKUP(A717,[1]SkillConfig!$D:$F,3,FALSE),\"\"),IFERROR(VLOOKUP(A717,[1]SkillConfig!$E:$G,3,FALSE),\"\"),IFERROR(VLOOKUP(A717,[1]SkillConfig!$V:$AF,11,FALSE),\"\"))","v":""},1100000]
[null,{"$f":"CONCATENATE(IFERROR(VLOOKUP(A718,[1]SkillConfig!$D:$F,3,FALSE),\"\"),IFERROR(VLOOKUP(A718,[1]SkillConfig!$E:$G,3,FALSE),\"\"),IFERROR(VLOOKUP(A718,[1]SkillConfig!$V:$AF,11,FALSE),\"\"))","v":""},1100000]
[null,{"$f":"CONCATENATE(IFERROR(VLOOKUP(A719,[1]SkillConfig!$D:$F,3,FALSE),\"\"),IFERROR(VLOOKUP(A719,[1]SkillConfig!$E:$G,3,FALSE),\"\"),IFERROR(VLOOKUP(A719,[1]SkillConfig!$V:$AF,11,FALSE),\"\"))","v":""},1100000]
[null,{"$f":"CONCATENATE(IFERROR(VLOOKUP(A720,[1]SkillConfig!$D:$F,3,FALSE),\"\"),IFERROR(VLOOKUP(A720,[1]SkillConfig!$E:$G,3,FALSE),\"\"),IFERROR(VLOOKUP(A720,[1]SkillConfig!$V:$AF,11,FALSE),\"\"))","v":""}]
[1113040,{"$f":"CONCATENATE(IFERROR(VLOOKUP(A721,[1]SkillConfig!$D:$F,3,FALSE),\"\"),IFERROR(VLOOKUP(A721,[1]SkillConfig!$E:$G,3,FALSE),\"\"),IFERROR(VLOOKUP(A721,[1]SkillConfig!$V:$AF,11,FALSE),\"\"))","v":"发射{0}枚竹刺，每发对敌人造成{1}%攻击力的伤害。"},1113040]
[1113041,{"$f":"CONCATENATE(IFERROR(VLOOKUP(A722,[1]SkillConfig!$D:$F,3,FALSE),\"\"),IFERROR(VLOOKUP(A722,[1]SkillConfig!$E:$G,3,FALSE),\"\"),IFERROR(VLOOKUP(A722,[1]SkillConfig!$V:$AF,11,FALSE),\"\"))","v":"发射{0}枚竹刺，每发对敌人造成{1}%攻击力的伤害。"},1113041]
[1113042,{"$f":"CONCATENATE(IFERROR(VLOOKUP(A723,[1]SkillConfig!$D:$F,3,FALSE),\"\"),IFERROR(VLOOKUP(A723,[1]SkillConfig!$E:$G,3,FALSE),\"\"),IFERROR(VLOOKUP(A723,[1]SkillConfig!$V:$AF,11,FALSE),\"\"))","v":"发射{0}枚竹刺，每发对敌人造成{1}%攻击力的伤害。"},1113042]
[1113043,{"$f":"CONCATENATE(IFERROR(VLOOKUP(A724,[1]SkillConfig!$D:$F,3,FALSE),\"\"),IFERROR(VLOOKUP(A724,[1]SkillConfig!$E:$G,3,FALSE),\"\"),IFERROR(VLOOKUP(A724,[1]SkillConfig!$V:$AF,11,FALSE),\"\"))","v":"发射{0}枚竹刺，每发对敌人造成{1}%攻击力的伤害。"},1113043]
[1113044,{"$f":"CONCATENATE(IFERROR(VLOOKUP(A725,[1]SkillConfig!$D:$F,3,FALSE),\"\"),IFERROR(VLOOKUP(A725,[1]SkillConfig!$E:$G,3,FALSE),\"\"),IFERROR(VLOOKUP(A725,[1]SkillConfig!$V:$AF,11,FALSE),\"\"))","v":"发射{0}枚竹刺，每发对敌人造成{1}%攻击力的伤害。"},1113044]
[1113045,{"$f":"CONCATENATE(IFERROR(VLOOKUP(A726,[1]SkillConfig!$D:$F,3,FALSE),\"\"),IFERROR(VLOOKUP(A726,[1]SkillConfig!$E:$G,3,FALSE),\"\"),IFERROR(VLOOKUP(A726,[1]SkillConfig!$V:$AF,11,FALSE),\"\"))","v":"发射{0}枚竹刺，每发对敌人造成{1}%攻击力的伤害。"},1113045]
[null,{"$f":"CONCATENATE(IFERROR(VLOOKUP(A727,[1]SkillConfig!$D:$F,3,FALSE),\"\"),IFERROR(VLOOKUP(A727,[1]SkillConfig!$E:$G,3,FALSE),\"\"),IFERROR(VLOOKUP(A727,[1]SkillConfig!$V:$AF,11,FALSE),\"\"))","v":""}]
[1113050,{"$f":"CONCATENATE(IFERROR(VLOOKUP(A728,[1]SkillConfig!$D:$F,3,FALSE),\"\"),IFERROR(VLOOKUP(A728,[1]SkillConfig!$E:$G,3,FALSE),\"\"),IFERROR(VLOOKUP(A728,[1]SkillConfig!$V:$AF,11,FALSE),\"\"))","v":"发射{0}枚飞叶，每发对敌人造成{1}%攻击力的伤害。"},1113050]
[1113051,{"$f":"CONCATENATE(IFERROR(VLOOKUP(A729,[1]SkillConfig!$D:$F,3,FALSE),\"\"),IFERROR(VLOOKUP(A729,[1]SkillConfig!$E:$G,3,FALSE),\"\"),IFERROR(VLOOKUP(A729,[1]SkillConfig!$V:$AF,11,FALSE),\"\"))","v":"发射{0}枚飞叶，每发对敌人造成{1}%攻击力的伤害。"},1113051]
[1113052,{"$f":"CONCATENATE(IFERROR(VLOOKUP(A730,[1]SkillConfig!$D:$F,3,FALSE),\"\"),IFERROR(VLOOKUP(A730,[1]SkillConfig!$E:$G,3,FALSE),\"\"),IFERROR(VLOOKUP(A730,[1]SkillConfig!$V:$AF,11,FALSE),\"\"))","v":"发射{0}枚飞叶，每发对敌人造成{1}%攻击力的伤害。"},1113052]
[1113053,{"$f":"CONCATENATE(IFERROR(VLOOKUP(A731,[1]SkillConfig!$D:$F,3,FALSE),\"\"),IFERROR(VLOOKUP(A731,[1]SkillConfig!$E:$G,3,FALSE),\"\"),IFERROR(VLOOKUP(A731,[1]SkillConfig!$V:$AF,11,FALSE),\"\"))","v":"发射{0}枚飞叶，每发对敌人造成{1}%攻击力的伤害。"},1113053]
[1113054,{"$f":"CONCATENATE(IFERROR(VLOOKUP(A732,[1]SkillConfig!$D:$F,3,FALSE),\"\"),IFERROR(VLOOKUP(A732,[1]SkillConfig!$E:$G,3,FALSE),\"\"),IFERROR(VLOOKUP(A732,[1]SkillConfig!$V:$AF,11,FALSE),\"\"))","v":"发射{0}枚飞叶，每发对敌人造成{1}%攻击力的伤害。"},1113054]
[1113055,{"$f":"CONCATENATE(IFERROR(VLOOKUP(A733,[1]SkillConfig!$D:$F,3,FALSE),\"\"),IFERROR(VLOOKUP(A733,[1]SkillConfig!$E:$G,3,FALSE),\"\"),IFERROR(VLOOKUP(A733,[1]SkillConfig!$V:$AF,11,FALSE),\"\"))","v":"发射{0}枚飞叶，每发对敌人造成{1}%攻击力的伤害。"},1113055]
[null,{"$f":"CONCATENATE(IFERROR(VLOOKUP(A734,[1]SkillConfig!$D:$F,3,FALSE),\"\"),IFERROR(VLOOKUP(A734,[1]SkillConfig!$E:$G,3,FALSE),\"\"),IFERROR(VLOOKUP(A734,[1]SkillConfig!$V:$AF,11,FALSE),\"\"))","v":""}]
[1114010,{"$f":"CONCATENATE(IFERROR(VLOOKUP(A735,[1]SkillConfig!$D:$F,3,FALSE),\"\"),IFERROR(VLOOKUP(A735,[1]SkillConfig!$E:$G,3,FALSE),\"\"),IFERROR(VLOOKUP(A735,[1]SkillConfig!$V:$AF,11,FALSE),\"\"))","v":"向前方发出{0}柄飞剑，每柄飞剑对敌人造成{1}%攻击力的伤害，并有{2}%的概率施加1层灼烧。"},1114010]
[1114011,{"$f":"CONCATENATE(IFERROR(VLOOKUP(A736,[1]SkillConfig!$D:$F,3,FALSE),\"\"),IFERROR(VLOOKUP(A736,[1]SkillConfig!$E:$G,3,FALSE),\"\"),IFERROR(VLOOKUP(A736,[1]SkillConfig!$V:$AF,11,FALSE),\"\"))","v":"向前方发出{0}柄飞剑，每柄飞剑对敌人造成{1}%攻击力的伤害，并有{2}%的概率施加1层灼烧。"},1114011]
[1114012,{"$f":"CONCATENATE(IFERROR(VLOOKUP(A737,[1]SkillConfig!$D:$F,3,FALSE),\"\"),IFERROR(VLOOKUP(A737,[1]SkillConfig!$E:$G,3,FALSE),\"\"),IFERROR(VLOOKUP(A737,[1]SkillConfig!$V:$AF,11,FALSE),\"\"))","v":"向前方发出{0}柄飞剑，每柄飞剑对敌人造成{1}%攻击力的伤害，并有{2}%的概率施加1层灼烧。"},1114012]
[1114013,{"$f":"CONCATENATE(IFERROR(VLOOKUP(A738,[1]SkillConfig!$D:$F,3,FALSE),\"\"),IFERROR(VLOOKUP(A738,[1]SkillConfig!$E:$G,3,FALSE),\"\"),IFERROR(VLOOKUP(A738,[1]SkillConfig!$V:$AF,11,FALSE),\"\"))","v":"向前方发出{0}柄飞剑，每柄飞剑对敌人造成{1}%攻击力的伤害，并有{2}%的概率施加1层灼烧。"},1114013]
[1114014,{"$f":"CONCATENATE(IFERROR(VLOOKUP(A739,[1]SkillConfig!$D:$F,3,FALSE),\"\"),IFERROR(VLOOKUP(A739,[1]SkillConfig!$E:$G,3,FALSE),\"\"),IFERROR(VLOOKUP(A739,[1]SkillConfig!$V:$AF,11,FALSE),\"\"))","v":"向前方发出{0}柄飞剑，每柄飞剑对敌人造成{1}%攻击力的伤害，并有{2}%的概率施加1层灼烧。"},1114014]
[1114015,{"$f":"CONCATENATE(IFERROR(VLOOKUP(A740,[1]SkillConfig!$D:$F,3,FALSE),\"\"),IFERROR(VLOOKUP(A740,[1]SkillConfig!$E:$G,3,FALSE),\"\"),IFERROR(VLOOKUP(A740,[1]SkillConfig!$V:$AF,11,FALSE),\"\"))","v":"向前方发出{0}柄飞剑，每柄飞剑对敌人造成{1}%攻击力的伤害，并有{2}%的概率施加1层灼烧。\n每柄烈焰剑将会对敌人造成爆燃，爆燃额外造成{3}%攻击力的伤害。"},1114015]
[null,{"$f":"CONCATENATE(IFERROR(VLOOKUP(A741,[1]SkillConfig!$D:$F,3,FALSE),\"\"),IFERROR(VLOOKUP(A741,[1]SkillConfig!$E:$G,3,FALSE),\"\"),IFERROR(VLOOKUP(A741,[1]SkillConfig!$V:$AF,11,FALSE),\"\"))","v":""}]
[1114020,{"$f":"CONCATENATE(IFERROR(VLOOKUP(A742,[1]SkillConfig!$D:$F,3,FALSE),\"\"),IFERROR(VLOOKUP(A742,[1]SkillConfig!$E:$G,3,FALSE),\"\"),IFERROR(VLOOKUP(A742,[1]SkillConfig!$V:$AF,11,FALSE),\"\"))","v":"飞出{0}道巨龙，每道巨龙对敌人造成{1}%攻击力的伤害。"},1114020]
[1114021,{"$f":"CONCATENATE(IFERROR(VLOOKUP(A743,[1]SkillConfig!$D:$F,3,FALSE),\"\"),IFERROR(VLOOKUP(A743,[1]SkillConfig!$E:$G,3,FALSE),\"\"),IFERROR(VLOOKUP(A743,[1]SkillConfig!$V:$AF,11,FALSE),\"\"))","v":"飞出{0}道巨龙，每道巨龙对敌人造成{1}%攻击力的伤害。\n如果敌人处于灼烧中，每层灼烧对其有{2}%概率造成胆摄，眩晕敌人{3}秒。"},1114021]
[1114022,{"$f":"CONCATENATE(IFERROR(VLOOKUP(A744,[1]SkillConfig!$D:$F,3,FALSE),\"\"),IFERROR(VLOOKUP(A744,[1]SkillConfig!$E:$G,3,FALSE),\"\"),IFERROR(VLOOKUP(A744,[1]SkillConfig!$V:$AF,11,FALSE),\"\"))","v":"飞出{0}道巨龙，每道巨龙对敌人造成{1}%攻击力的伤害。\n如果敌人处于灼烧中，每层灼烧对其有{2}%概率造成胆摄，眩晕敌人{3}秒。"},1114022]
[1114023,{"$f":"CONCATENATE(IFERROR(VLOOKUP(A745,[1]SkillConfig!$D:$F,3,FALSE),\"\"),IFERROR(VLOOKUP(A745,[1]SkillConfig!$E:$G,3,FALSE),\"\"),IFERROR(VLOOKUP(A745,[1]SkillConfig!$V:$AF,11,FALSE),\"\"))","v":"飞出{0}道巨龙，每道巨龙对敌人造成{1}%攻击力的伤害。\n如果敌人处于灼烧中，每层灼烧对其有{2}%概率造成胆摄，眩晕敌人{3}秒。"},1114023]
[1114024,{"$f":"CONCATENATE(IFERROR(VLOOKUP(A746,[1]SkillConfig!$D:$F,3,FALSE),\"\"),IFERROR(VLOOKUP(A746,[1]SkillConfig!$E:$G,3,FALSE),\"\"),IFERROR(VLOOKUP(A746,[1]SkillConfig!$V:$AF,11,FALSE),\"\"))","v":"飞出{0}道巨龙，每道巨龙对敌人造成{1}%攻击力的伤害。\n并施加一层灼烧\n如果敌人处于灼烧中，每层灼烧对其有{2}%概率造成胆摄，眩晕敌人{3}秒。"},1114024]
[1114025,{"$f":"CONCATENATE(IFERROR(VLOOKUP(A747,[1]SkillConfig!$D:$F,3,FALSE),\"\"),IFERROR(VLOOKUP(A747,[1]SkillConfig!$E:$G,3,FALSE),\"\"),IFERROR(VLOOKUP(A747,[1]SkillConfig!$V:$AF,11,FALSE),\"\"))","v":"飞出{0}道巨龙，每道巨龙对敌人造成{1}%攻击力的伤害。\n如果敌人处于灼烧造成伤害时，每层燃烧有{2}%的概率对其眩晕{3}秒\n并施加一层灼烧\n飞龙命中目标后引发天雷，对敌人额外造成{4}%攻击力的伤害。"},1114025]
[null,{"$f":"CONCATENATE(IFERROR(VLOOKUP(A748,[1]SkillConfig!$D:$F,3,FALSE),\"\"),IFERROR(VLOOKUP(A748,[1]SkillConfig!$E:$G,3,FALSE),\"\"),IFERROR(VLOOKUP(A748,[1]SkillConfig!$V:$AF,11,FALSE),\"\"))","v":""}]
[1114030,{"$f":"CONCATENATE(IFERROR(VLOOKUP(A749,[1]SkillConfig!$D:$F,3,FALSE),\"\"),IFERROR(VLOOKUP(A749,[1]SkillConfig!$E:$G,3,FALSE),\"\"),IFERROR(VLOOKUP(A749,[1]SkillConfig!$V:$AF,11,FALSE),\"\"))","v":"身后出现一只大手，每个手指发射{0}道烈焰，每道对敌人造成{1}%攻击力的伤害，同时有{2}%概率施加1层灼烧。"},1114030]
[1114031,{"$f":"CONCATENATE(IFERROR(VLOOKUP(A750,[1]SkillConfig!$D:$F,3,FALSE),\"\"),IFERROR(VLOOKUP(A750,[1]SkillConfig!$E:$G,3,FALSE),\"\"),IFERROR(VLOOKUP(A750,[1]SkillConfig!$V:$AF,11,FALSE),\"\"))","v":"身后出现一只大手，每个手指发射{0}道烈焰，每道对敌人造成{1}%攻击力的伤害，同时有{2}%概率施加1层灼烧。\n对有灼烧的敌人额外造成{3}%最终伤害。"},1114031]
[1114032,{"$f":"CONCATENATE(IFERROR(VLOOKUP(A751,[1]SkillConfig!$D:$F,3,FALSE),\"\"),IFERROR(VLOOKUP(A751,[1]SkillConfig!$E:$G,3,FALSE),\"\"),IFERROR(VLOOKUP(A751,[1]SkillConfig!$V:$AF,11,FALSE),\"\"))","v":"身后出现一只大手，每个手指发射{0}道烈焰，每道对敌人造成{1}%攻击力的伤害，同时有{2}%概率施加1层灼烧。\n对有灼烧的敌人额外造成{3}%最终伤害。"},1114032]
[1114033,{"$f":"CONCATENATE(IFERROR(VLOOKUP(A752,[1]SkillConfig!$D:$F,3,FALSE),\"\"),IFERROR(VLOOKUP(A752,[1]SkillConfig!$E:$G,3,FALSE),\"\"),IFERROR(VLOOKUP(A752,[1]SkillConfig!$V:$AF,11,FALSE),\"\"))","v":"身后出现一只大手，每个手指发射{0}道烈焰，每道对敌人造成{1}%攻击力的伤害，同时有{2}%概率施加1层灼烧。\n对有灼烧的敌人额外造成{3}%最终伤害。"},1114033]
[1114034,{"$f":"CONCATENATE(IFERROR(VLOOKUP(A753,[1]SkillConfig!$D:$F,3,FALSE),\"\"),IFERROR(VLOOKUP(A753,[1]SkillConfig!$E:$G,3,FALSE),\"\"),IFERROR(VLOOKUP(A753,[1]SkillConfig!$V:$AF,11,FALSE),\"\"))","v":"身后出现一只大手，每个手指发射{0}道烈焰，每道对敌人造成{1}%攻击力的伤害，同时有{2}%概率施加1层灼烧。\n对有灼烧的敌人额外造成{3}%最终伤害。"},1114034]
[1114035,{"$f":"CONCATENATE(IFERROR(VLOOKUP(A754,[1]SkillConfig!$D:$F,3,FALSE),\"\"),IFERROR(VLOOKUP(A754,[1]SkillConfig!$E:$G,3,FALSE),\"\"),IFERROR(VLOOKUP(A754,[1]SkillConfig!$V:$AF,11,FALSE),\"\"))","v":"身后出现一只大手，每个手指发射{0}道烈焰，每道对敌人造成{1}%攻击力的伤害，同时有{2}%概率施加1层灼烧。\n对有灼烧的敌人额外造成{3}%最终伤害。\n烈焰数量翻倍，但每道烈焰伤害降低{4}%。"},1114035]
[null,{"$f":"CONCATENATE(IFERROR(VLOOKUP(A755,[1]SkillConfig!$D:$F,3,FALSE),\"\"),IFERROR(VLOOKUP(A755,[1]SkillConfig!$E:$G,3,FALSE),\"\"),IFERROR(VLOOKUP(A755,[1]SkillConfig!$V:$AF,11,FALSE),\"\"))","v":""}]
[1114040,{"$f":"CONCATENATE(IFERROR(VLOOKUP(A756,[1]SkillConfig!$D:$F,3,FALSE),\"\"),IFERROR(VLOOKUP(A756,[1]SkillConfig!$E:$G,3,FALSE),\"\"),IFERROR(VLOOKUP(A756,[1]SkillConfig!$V:$AF,11,FALSE),\"\"))","v":"发射{0}枚火球，每枚火球对敌人造成{1}%攻击力的伤害。有{2}%概率对敌人施加1层灼烧"},1114040]
[1114041,{"$f":"CONCATENATE(IFERROR(VLOOKUP(A757,[1]SkillConfig!$D:$F,3,FALSE),\"\"),IFERROR(VLOOKUP(A757,[1]SkillConfig!$E:$G,3,FALSE),\"\"),IFERROR(VLOOKUP(A757,[1]SkillConfig!$V:$AF,11,FALSE),\"\"))","v":"发射{0}枚火球，每枚火球对敌人造成{1}%攻击力的伤害。有{2}%概率对敌人施加1层灼烧"},1114041]
[1114042,{"$f":"CONCATENATE(IFERROR(VLOOKUP(A758,[1]SkillConfig!$D:$F,3,FALSE),\"\"),IFERROR(VLOOKUP(A758,[1]SkillConfig!$E:$G,3,FALSE),\"\"),IFERROR(VLOOKUP(A758,[1]SkillConfig!$V:$AF,11,FALSE),\"\"))","v":"发射{0}枚火球，每枚火球对敌人造成{1}%攻击力的伤害。有{2}%概率对敌人施加1层灼烧"},1114042]
[1114043,{"$f":"CONCATENATE(IFERROR(VLOOKUP(A759,[1]SkillConfig!$D:$F,3,FALSE),\"\"),IFERROR(VLOOKUP(A759,[1]SkillConfig!$E:$G,3,FALSE),\"\"),IFERROR(VLOOKUP(A759,[1]SkillConfig!$V:$AF,11,FALSE),\"\"))","v":"发射{0}枚火球，每枚火球对敌人造成{1}%攻击力的伤害。有{2}%概率对敌人施加1层灼烧"},1114043]
[1114044,{"$f":"CONCATENATE(IFERROR(VLOOKUP(A760,[1]SkillConfig!$D:$F,3,FALSE),\"\"),IFERROR(VLOOKUP(A760,[1]SkillConfig!$E:$G,3,FALSE),\"\"),IFERROR(VLOOKUP(A760,[1]SkillConfig!$V:$AF,11,FALSE),\"\"))","v":"发射{0}枚火球，每枚火球对敌人造成{1}%攻击力的伤害。有{2}%概率对敌人施加1层灼烧"},1114044]
[1114045,{"$f":"CONCATENATE(IFERROR(VLOOKUP(A761,[1]SkillConfig!$D:$F,3,FALSE),\"\"),IFERROR(VLOOKUP(A761,[1]SkillConfig!$E:$G,3,FALSE),\"\"),IFERROR(VLOOKUP(A761,[1]SkillConfig!$V:$AF,11,FALSE),\"\"))","v":"发射{0}枚火球，每枚火球对敌人造成{1}%攻击力的伤害。有{2}%概率对敌人施加1层灼烧"},1114045]
[null,{"$f":"CONCATENATE(IFERROR(VLOOKUP(A762,[1]SkillConfig!$D:$F,3,FALSE),\"\"),IFERROR(VLOOKUP(A762,[1]SkillConfig!$E:$G,3,FALSE),\"\"),IFERROR(VLOOKUP(A762,[1]SkillConfig!$V:$AF,11,FALSE),\"\"))","v":""}]
[1114050,{"$f":"CONCATENATE(IFERROR(VLOOKUP(A763,[1]SkillConfig!$D:$F,3,FALSE),\"\"),IFERROR(VLOOKUP(A763,[1]SkillConfig!$E:$G,3,FALSE),\"\"),IFERROR(VLOOKUP(A763,[1]SkillConfig!$V:$AF,11,FALSE),\"\"))","v":"发射{0}枚火刃，每柄火刃对敌人造成{1}%攻击力的伤害。"},1114050]
[1114051,{"$f":"CONCATENATE(IFERROR(VLOOKUP(A764,[1]SkillConfig!$D:$F,3,FALSE),\"\"),IFERROR(VLOOKUP(A764,[1]SkillConfig!$E:$G,3,FALSE),\"\"),IFERROR(VLOOKUP(A764,[1]SkillConfig!$V:$AF,11,FALSE),\"\"))","v":"发射{0}枚火刃，每柄火刃对敌人造成{1}%攻击力的伤害。"},1114051]
[1114052,{"$f":"CONCATENATE(IFERROR(VLOOKUP(A765,[1]SkillConfig!$D:$F,3,FALSE),\"\"),IFERROR(VLOOKUP(A765,[1]SkillConfig!$E:$G,3,FALSE),\"\"),IFERROR(VLOOKUP(A765,[1]SkillConfig!$V:$AF,11,FALSE),\"\"))","v":"发射{0}枚火刃，每柄火刃对敌人造成{1}%攻击力的伤害。"},1114052]
[1114053,{"$f":"CONCATENATE(IFERROR(VLOOKUP(A766,[1]SkillConfig!$D:$F,3,FALSE),\"\"),IFERROR(VLOOKUP(A766,[1]SkillConfig!$E:$G,3,FALSE),\"\"),IFERROR(VLOOKUP(A766,[1]SkillConfig!$V:$AF,11,FALSE),\"\"))","v":"发射{0}枚火刃，每柄火刃对敌人造成{1}%攻击力的伤害。"},1114053]
[1114054,{"$f":"CONCATENATE(IFERROR(VLOOKUP(A767,[1]SkillConfig!$D:$F,3,FALSE),\"\"),IFERROR(VLOOKUP(A767,[1]SkillConfig!$E:$G,3,FALSE),\"\"),IFERROR(VLOOKUP(A767,[1]SkillConfig!$V:$AF,11,FALSE),\"\"))","v":"发射{0}枚火刃，每柄火刃对敌人造成{1}%攻击力的伤害。"},1114054]
[1114055,{"$f":"CONCATENATE(IFERROR(VLOOKUP(A768,[1]SkillConfig!$D:$F,3,FALSE),\"\"),IFERROR(VLOOKUP(A768,[1]SkillConfig!$E:$G,3,FALSE),\"\"),IFERROR(VLOOKUP(A768,[1]SkillConfig!$V:$AF,11,FALSE),\"\"))","v":"发射{0}枚火刃，每柄火刃对敌人造成{1}%攻击力的伤害。"},1114055]
[null,{"$f":"CONCATENATE(IFERROR(VLOOKUP(A769,[1]SkillConfig!$D:$F,3,FALSE),\"\"),IFERROR(VLOOKUP(A769,[1]SkillConfig!$E:$G,3,FALSE),\"\"),IFERROR(VLOOKUP(A769,[1]SkillConfig!$V:$AF,11,FALSE),\"\"))","v":""}]
[1115010,{"$f":"CONCATENATE(IFERROR(VLOOKUP(A770,[1]SkillConfig!$D:$F,3,FALSE),\"\"),IFERROR(VLOOKUP(A770,[1]SkillConfig!$E:$G,3,FALSE),\"\"),IFERROR(VLOOKUP(A770,[1]SkillConfig!$V:$AF,11,FALSE),\"\"))","v":"沙尘汇聚成{0}枚土刺，每枚土刺对敌人造成{1}%攻击力的伤害，并有{2}%概率施加1层细尘。"},1115010]
[1115011,{"$f":"CONCATENATE(IFERROR(VLOOKUP(A771,[1]SkillConfig!$D:$F,3,FALSE),\"\"),IFERROR(VLOOKUP(A771,[1]SkillConfig!$E:$G,3,FALSE),\"\"),IFERROR(VLOOKUP(A771,[1]SkillConfig!$V:$AF,11,FALSE),\"\"))","v":"沙尘汇聚成{0}枚土刺，每枚土刺对敌人造成{1}%攻击力的伤害，并有{2}%概率施加1层细尘。"},1115011]
[1115012,{"$f":"CONCATENATE(IFERROR(VLOOKUP(A772,[1]SkillConfig!$D:$F,3,FALSE),\"\"),IFERROR(VLOOKUP(A772,[1]SkillConfig!$E:$G,3,FALSE),\"\"),IFERROR(VLOOKUP(A772,[1]SkillConfig!$V:$AF,11,FALSE),\"\"))","v":"沙尘汇聚成{0}枚土刺，每枚土刺对敌人造成{1}%攻击力的伤害，并有{2}%概率施加1层细尘。"},1115012]
[1115013,{"$f":"CONCATENATE(IFERROR(VLOOKUP(A773,[1]SkillConfig!$D:$F,3,FALSE),\"\"),IFERROR(VLOOKUP(A773,[1]SkillConfig!$E:$G,3,FALSE),\"\"),IFERROR(VLOOKUP(A773,[1]SkillConfig!$V:$AF,11,FALSE),\"\"))","v":"沙尘汇聚成{0}枚土刺，每枚土刺对敌人造成{1}%攻击力的伤害，并有{2}%概率施加1层细尘。"},1115013]
[1115014,{"$f":"CONCATENATE(IFERROR(VLOOKUP(A774,[1]SkillConfig!$D:$F,3,FALSE),\"\"),IFERROR(VLOOKUP(A774,[1]SkillConfig!$E:$G,3,FALSE),\"\"),IFERROR(VLOOKUP(A774,[1]SkillConfig!$V:$AF,11,FALSE),\"\"))","v":"沙尘汇聚成{0}枚土刺，每枚土刺对敌人造成{1}%攻击力的伤害，并有{2}%概率施加1层细尘。"},1115014]
[1115015,{"$f":"CONCATENATE(IFERROR(VLOOKUP(A775,[1]SkillConfig!$D:$F,3,FALSE),\"\"),IFERROR(VLOOKUP(A775,[1]SkillConfig!$E:$G,3,FALSE),\"\"),IFERROR(VLOOKUP(A775,[1]SkillConfig!$V:$AF,11,FALSE),\"\"))","v":"沙尘汇聚成{0}枚土刺，每枚土刺对敌人造成{1}%攻击力的伤害，并有{2}%概率施加1层细尘。"},1115015]
[null,{"$f":"CONCATENATE(IFERROR(VLOOKUP(A776,[1]SkillConfig!$D:$F,3,FALSE),\"\"),IFERROR(VLOOKUP(A776,[1]SkillConfig!$E:$G,3,FALSE),\"\"),IFERROR(VLOOKUP(A776,[1]SkillConfig!$V:$AF,11,FALSE),\"\"))","v":""}]
[1115020,{"$f":"CONCATENATE(IFERROR(VLOOKUP(A777,[1]SkillConfig!$D:$F,3,FALSE),\"\"),IFERROR(VLOOKUP(A777,[1]SkillConfig!$E:$G,3,FALSE),\"\"),IFERROR(VLOOKUP(A777,[1]SkillConfig!$V:$AF,11,FALSE),\"\"))","v":"一柄虚空形成的大刀，横空挥砍形成{0}个剑气，每道剑气对敌人造成{1}%攻击力的伤害，并叠加1层细沙"},1115020]
[1115021,{"$f":"CONCATENATE(IFERROR(VLOOKUP(A778,[1]SkillConfig!$D:$F,3,FALSE),\"\"),IFERROR(VLOOKUP(A778,[1]SkillConfig!$E:$G,3,FALSE),\"\"),IFERROR(VLOOKUP(A778,[1]SkillConfig!$V:$AF,11,FALSE),\"\"))","v":"一柄虚空形成的大刀，横空挥砍形成{0}个剑气，每道剑气对敌人造成{1}%攻击力的伤害，并叠加1层细沙"},1115021]
[1115022,{"$f":"CONCATENATE(IFERROR(VLOOKUP(A779,[1]SkillConfig!$D:$F,3,FALSE),\"\"),IFERROR(VLOOKUP(A779,[1]SkillConfig!$E:$G,3,FALSE),\"\"),IFERROR(VLOOKUP(A779,[1]SkillConfig!$V:$AF,11,FALSE),\"\"))","v":"一柄虚空形成的大刀，横空挥砍形成{0}个剑气，每道剑气对敌人造成{1}%攻击力的伤害，并叠加1层细沙"},1115022]
[1115023,{"$f":"CONCATENATE(IFERROR(VLOOKUP(A780,[1]SkillConfig!$D:$F,3,FALSE),\"\"),IFERROR(VLOOKUP(A780,[1]SkillConfig!$E:$G,3,FALSE),\"\"),IFERROR(VLOOKUP(A780,[1]SkillConfig!$V:$AF,11,FALSE),\"\"))","v":"一柄虚空形成的大刀，横空挥砍形成{0}个剑气，每道剑气对敌人造成{1}%攻击力的伤害，并叠加1层细沙"},1115023]
[1115024,{"$f":"CONCATENATE(IFERROR(VLOOKUP(A781,[1]SkillConfig!$D:$F,3,FALSE),\"\"),IFERROR(VLOOKUP(A781,[1]SkillConfig!$E:$G,3,FALSE),\"\"),IFERROR(VLOOKUP(A781,[1]SkillConfig!$V:$AF,11,FALSE),\"\"))","v":"一柄虚空形成的大刀，横空挥砍形成{0}个剑气，每道剑气对敌人造成{1}%攻击力的伤害，并叠加1层细沙"},1115024]
[1115025,{"$f":"CONCATENATE(IFERROR(VLOOKUP(A782,[1]SkillConfig!$D:$F,3,FALSE),\"\"),IFERROR(VLOOKUP(A782,[1]SkillConfig!$E:$G,3,FALSE),\"\"),IFERROR(VLOOKUP(A782,[1]SkillConfig!$V:$AF,11,FALSE),\"\"))","v":"一柄虚空形成的大刀，横空挥砍形成{0}个剑气，每道剑气对敌人造成{1}%攻击力的伤害，并叠加1层细沙"},1115025]
[null,{"$f":"CONCATENATE(IFERROR(VLOOKUP(A783,[1]SkillConfig!$D:$F,3,FALSE),\"\"),IFERROR(VLOOKUP(A783,[1]SkillConfig!$E:$G,3,FALSE),\"\"),IFERROR(VLOOKUP(A783,[1]SkillConfig!$V:$AF,11,FALSE),\"\"))","v":""}]
[null,{"$f":"CONCATENATE(IFERROR(VLOOKUP(A784,[1]SkillConfig!$D:$F,3,FALSE),\"\"),IFERROR(VLOOKUP(A784,[1]SkillConfig!$E:$G,3,FALSE),\"\"),IFERROR(VLOOKUP(A784,[1]SkillConfig!$V:$AF,11,FALSE),\"\"))","v":""},1100000]
[null,{"$f":"CONCATENATE(IFERROR(VLOOKUP(A785,[1]SkillConfig!$D:$F,3,FALSE),\"\"),IFERROR(VLOOKUP(A785,[1]SkillConfig!$E:$G,3,FALSE),\"\"),IFERROR(VLOOKUP(A785,[1]SkillConfig!$V:$AF,11,FALSE),\"\"))","v":""},1100000]
[null,{"$f":"CONCATENATE(IFERROR(VLOOKUP(A786,[1]SkillConfig!$D:$F,3,FALSE),\"\"),IFERROR(VLOOKUP(A786,[1]SkillConfig!$E:$G,3,FALSE),\"\"),IFERROR(VLOOKUP(A786,[1]SkillConfig!$V:$AF,11,FALSE),\"\"))","v":""},1100000]
[null,{"$f":"CONCATENATE(IFERROR(VLOOKUP(A787,[1]SkillConfig!$D:$F,3,FALSE),\"\"),IFERROR(VLOOKUP(A787,[1]SkillConfig!$E:$G,3,FALSE),\"\"),IFERROR(VLOOKUP(A787,[1]SkillConfig!$V:$AF,11,FALSE),\"\"))","v":""},1100000]
[null,{"$f":"CONCATENATE(IFERROR(VLOOKUP(A788,[1]SkillConfig!$D:$F,3,FALSE),\"\"),IFERROR(VLOOKUP(A788,[1]SkillConfig!$E:$G,3,FALSE),\"\"),IFERROR(VLOOKUP(A788,[1]SkillConfig!$V:$AF,11,FALSE),\"\"))","v":""},1100000]
[null,{"$f":"CONCATENATE(IFERROR(VLOOKUP(A789,[1]SkillConfig!$D:$F,3,FALSE),\"\"),IFERROR(VLOOKUP(A789,[1]SkillConfig!$E:$G,3,FALSE),\"\"),IFERROR(VLOOKUP(A789,[1]SkillConfig!$V:$AF,11,FALSE),\"\"))","v":""},1100000]
[null,{"$f":"CONCATENATE(IFERROR(VLOOKUP(A790,[1]SkillConfig!$D:$F,3,FALSE),\"\"),IFERROR(VLOOKUP(A790,[1]SkillConfig!$E:$G,3,FALSE),\"\"),IFERROR(VLOOKUP(A790,[1]SkillConfig!$V:$AF,11,FALSE),\"\"))","v":""}]
[1115040,{"$f":"CONCATENATE(IFERROR(VLOOKUP(A791,[1]SkillConfig!$D:$F,3,FALSE),\"\"),IFERROR(VLOOKUP(A791,[1]SkillConfig!$E:$G,3,FALSE),\"\"),IFERROR(VLOOKUP(A791,[1]SkillConfig!$V:$AF,11,FALSE),\"\"))","v":"从天而降{0}枚落石，每颗对敌人造成{1}%攻击力的伤害。"},1115040]
[1115041,{"$f":"CONCATENATE(IFERROR(VLOOKUP(A792,[1]SkillConfig!$D:$F,3,FALSE),\"\"),IFERROR(VLOOKUP(A792,[1]SkillConfig!$E:$G,3,FALSE),\"\"),IFERROR(VLOOKUP(A792,[1]SkillConfig!$V:$AF,11,FALSE),\"\"))","v":"从天而降{0}枚落石，每颗对敌人造成{1}%攻击力的伤害。"},1115041]
[1115042,{"$f":"CONCATENATE(IFERROR(VLOOKUP(A793,[1]SkillConfig!$D:$F,3,FALSE),\"\"),IFERROR(VLOOKUP(A793,[1]SkillConfig!$E:$G,3,FALSE),\"\"),IFERROR(VLOOKUP(A793,[1]SkillConfig!$V:$AF,11,FALSE),\"\"))","v":"从天而降{0}枚落石，每颗对敌人造成{1}%攻击力的伤害。"},1115042]
[1115043,{"$f":"CONCATENATE(IFERROR(VLOOKUP(A794,[1]SkillConfig!$D:$F,3,FALSE),\"\"),IFERROR(VLOOKUP(A794,[1]SkillConfig!$E:$G,3,FALSE),\"\"),IFERROR(VLOOKUP(A794,[1]SkillConfig!$V:$AF,11,FALSE),\"\"))","v":"从天而降{0}枚落石，每颗对敌人造成{1}%攻击力的伤害。"},1115043]
[1115044,{"$f":"CONCATENATE(IFERROR(VLOOKUP(A795,[1]SkillConfig!$D:$F,3,FALSE),\"\"),IFERROR(VLOOKUP(A795,[1]SkillConfig!$E:$G,3,FALSE),\"\"),IFERROR(VLOOKUP(A795,[1]SkillConfig!$V:$AF,11,FALSE),\"\"))","v":"从天而降{0}枚落石，每颗对敌人造成{1}%攻击力的伤害。"},1115044]
[1115045,{"$f":"CONCATENATE(IFERROR(VLOOKUP(A796,[1]SkillConfig!$D:$F,3,FALSE),\"\"),IFERROR(VLOOKUP(A796,[1]SkillConfig!$E:$G,3,FALSE),\"\"),IFERROR(VLOOKUP(A796,[1]SkillConfig!$V:$AF,11,FALSE),\"\"))","v":"从天而降{0}枚落石，每颗对敌人造成{1}%攻击力的伤害。"},1115045]
[null,{"$f":"CONCATENATE(IFERROR(VLOOKUP(A797,[1]SkillConfig!$D:$F,3,FALSE),\"\"),IFERROR(VLOOKUP(A797,[1]SkillConfig!$E:$G,3,FALSE),\"\"),IFERROR(VLOOKUP(A797,[1]SkillConfig!$V:$AF,11,FALSE),\"\"))","v":""}]
[1115050,{"$f":"CONCATENATE(IFERROR(VLOOKUP(A798,[1]SkillConfig!$D:$F,3,FALSE),\"\"),IFERROR(VLOOKUP(A798,[1]SkillConfig!$E:$G,3,FALSE),\"\"),IFERROR(VLOOKUP(A798,[1]SkillConfig!$V:$AF,11,FALSE),\"\"))","v":"发射{0}枚小石头，每颗对敌人造成{1}%攻击力的伤害。"},1115050]
[1115051,{"$f":"CONCATENATE(IFERROR(VLOOKUP(A799,[1]SkillConfig!$D:$F,3,FALSE),\"\"),IFERROR(VLOOKUP(A799,[1]SkillConfig!$E:$G,3,FALSE),\"\"),IFERROR(VLOOKUP(A799,[1]SkillConfig!$V:$AF,11,FALSE),\"\"))","v":"发射{0}枚小石头，每颗对敌人造成{1}%攻击力的伤害。"},1115051]
[1115052,{"$f":"CONCATENATE(IFERROR(VLOOKUP(A800,[1]SkillConfig!$D:$F,3,FALSE),\"\"),IFERROR(VLOOKUP(A800,[1]SkillConfig!$E:$G,3,FALSE),\"\"),IFERROR(VLOOKUP(A800,[1]SkillConfig!$V:$AF,11,FALSE),\"\"))","v":"发射{0}枚小石头，每颗对敌人造成{1}%攻击力的伤害。"},1115052]
[1115053,{"$f":"CONCATENATE(IFERROR(VLOOKUP(A801,[1]SkillConfig!$D:$F,3,FALSE),\"\"),IFERROR(VLOOKUP(A801,[1]SkillConfig!$E:$G,3,FALSE),\"\"),IFERROR(VLOOKUP(A801,[1]SkillConfig!$V:$AF,11,FALSE),\"\"))","v":"发射{0}枚小石头，每颗对敌人造成{1}%攻击力的伤害。"},1115053]
[1115054,{"$f":"CONCATENATE(IFERROR(VLOOKUP(A802,[1]SkillConfig!$D:$F,3,FALSE),\"\"),IFERROR(VLOOKUP(A802,[1]SkillConfig!$E:$G,3,FALSE),\"\"),IFERROR(VLOOKUP(A802,[1]SkillConfig!$V:$AF,11,FALSE),\"\"))","v":"发射{0}枚小石头，每颗对敌人造成{1}%攻击力的伤害。"},1115054]
[1115055,{"$f":"CONCATENATE(IFERROR(VLOOKUP(A803,[1]SkillConfig!$D:$F,3,FALSE),\"\"),IFERROR(VLOOKUP(A803,[1]SkillConfig!$E:$G,3,FALSE),\"\"),IFERROR(VLOOKUP(A803,[1]SkillConfig!$V:$AF,11,FALSE),\"\"))","v":"发射{0}枚小石头，每颗对敌人造成{1}%攻击力的伤害。"},1115055]
[null,{"$f":"CONCATENATE(IFERROR(VLOOKUP(A804,[1]SkillConfig!$D:$F,3,FALSE),\"\"),IFERROR(VLOOKUP(A804,[1]SkillConfig!$E:$G,3,FALSE),\"\"),IFERROR(VLOOKUP(A804,[1]SkillConfig!$V:$AF,11,FALSE),\"\"))","v":""}]
[null,{"$f":"CONCATENATE(IFERROR(VLOOKUP(A805,[1]SkillConfig!$D:$F,3,FALSE),\"\"),IFERROR(VLOOKUP(A805,[1]SkillConfig!$E:$G,3,FALSE),\"\"),IFERROR(VLOOKUP(A805,[1]SkillConfig!$V:$AF,11,FALSE),\"\"))","v":""}]
[1120010,{"$f":"CONCATENATE(IFERROR(VLOOKUP(A806,[1]SkillConfig!$D:$F,3,FALSE),\"\"),IFERROR(VLOOKUP(A806,[1]SkillConfig!$E:$G,3,FALSE),\"\"),IFERROR(VLOOKUP(A806,[1]SkillConfig!$V:$AF,11,FALSE),\"\"))","v":"引星辰之力入体，增强体魄，\n使后方槽位的功法无视功法法宝带来的防护罩以及自身护盾"},1120010]
[1120011,{"$f":"CONCATENATE(IFERROR(VLOOKUP(A807,[1]SkillConfig!$D:$F,3,FALSE),\"\"),IFERROR(VLOOKUP(A807,[1]SkillConfig!$E:$G,3,FALSE),\"\"),IFERROR(VLOOKUP(A807,[1]SkillConfig!$V:$AF,11,FALSE),\"\"))","v":"引星辰之力入体，增强体魄，\n使后方槽位的功法无视功法法宝带来的防护罩以及自身护盾"},1120011]
[1120012,{"$f":"CONCATENATE(IFERROR(VLOOKUP(A808,[1]SkillConfig!$D:$F,3,FALSE),\"\"),IFERROR(VLOOKUP(A808,[1]SkillConfig!$E:$G,3,FALSE),\"\"),IFERROR(VLOOKUP(A808,[1]SkillConfig!$V:$AF,11,FALSE),\"\"))","v":"引星辰之力入体，增强体魄，\n使后方槽位的功法无视功法法宝带来的防护罩以及自身护盾"},1120012]
[1120013,{"$f":"CONCATENATE(IFERROR(VLOOKUP(A809,[1]SkillConfig!$D:$F,3,FALSE),\"\"),IFERROR(VLOOKUP(A809,[1]SkillConfig!$E:$G,3,FALSE),\"\"),IFERROR(VLOOKUP(A809,[1]SkillConfig!$V:$AF,11,FALSE),\"\"))","v":"引星辰之力入体，增强体魄，\n使后方槽位的功法无视功法法宝带来的防护罩以及自身护盾"},1120013]
[1120014,{"$f":"CONCATENATE(IFERROR(VLOOKUP(A810,[1]SkillConfig!$D:$F,3,FALSE),\"\"),IFERROR(VLOOKUP(A810,[1]SkillConfig!$E:$G,3,FALSE),\"\"),IFERROR(VLOOKUP(A810,[1]SkillConfig!$V:$AF,11,FALSE),\"\"))","v":"引星辰之力入体，增强体魄，\n使后方槽位的功法无视功法法宝带来的防护罩以及自身护盾"},1120014]
[1120015,{"$f":"CONCATENATE(IFERROR(VLOOKUP(A811,[1]SkillConfig!$D:$F,3,FALSE),\"\"),IFERROR(VLOOKUP(A811,[1]SkillConfig!$E:$G,3,FALSE),\"\"),IFERROR(VLOOKUP(A811,[1]SkillConfig!$V:$AF,11,FALSE),\"\"))","v":"引星辰之力入体，增强体魄，\n使后方槽位的功法无视功法法宝带来的防护罩以及自身护盾"},1120015]
[null,{"$f":"CONCATENATE(IFERROR(VLOOKUP(A812,[1]SkillConfig!$D:$F,3,FALSE),\"\"),IFERROR(VLOOKUP(A812,[1]SkillConfig!$E:$G,3,FALSE),\"\"),IFERROR(VLOOKUP(A812,[1]SkillConfig!$V:$AF,11,FALSE),\"\"))","v":""}]
[1120020,{"$f":"CONCATENATE(IFERROR(VLOOKUP(A813,[1]SkillConfig!$D:$F,3,FALSE),\"\"),IFERROR(VLOOKUP(A813,[1]SkillConfig!$E:$G,3,FALSE),\"\"),IFERROR(VLOOKUP(A813,[1]SkillConfig!$V:$AF,11,FALSE),\"\"))","v":"后方槽位功法命中目标后，为法宝提供{0}%的充能"},1120020]
[1120021,{"$f":"CONCATENATE(IFERROR(VLOOKUP(A814,[1]SkillConfig!$D:$F,3,FALSE),\"\"),IFERROR(VLOOKUP(A814,[1]SkillConfig!$E:$G,3,FALSE),\"\"),IFERROR(VLOOKUP(A814,[1]SkillConfig!$V:$AF,11,FALSE),\"\"))","v":"后方槽位功法命中目标后，为法宝提供{0}%的充能"},1120021]
[1120022,{"$f":"CONCATENATE(IFERROR(VLOOKUP(A815,[1]SkillConfig!$D:$F,3,FALSE),\"\"),IFERROR(VLOOKUP(A815,[1]SkillConfig!$E:$G,3,FALSE),\"\"),IFERROR(VLOOKUP(A815,[1]SkillConfig!$V:$AF,11,FALSE),\"\"))","v":"后方槽位功法命中目标后，为法宝提供{0}%的充能"},1120022]
[1120023,{"$f":"CONCATENATE(IFERROR(VLOOKUP(A816,[1]SkillConfig!$D:$F,3,FALSE),\"\"),IFERROR(VLOOKUP(A816,[1]SkillConfig!$E:$G,3,FALSE),\"\"),IFERROR(VLOOKUP(A816,[1]SkillConfig!$V:$AF,11,FALSE),\"\"))","v":"后方槽位功法命中目标后，为法宝提供{0}%的充能"},1120023]
[1120024,{"$f":"CONCATENATE(IFERROR(VLOOKUP(A817,[1]SkillConfig!$D:$F,3,FALSE),\"\"),IFERROR(VLOOKUP(A817,[1]SkillConfig!$E:$G,3,FALSE),\"\"),IFERROR(VLOOKUP(A817,[1]SkillConfig!$V:$AF,11,FALSE),\"\"))","v":"后方槽位功法命中目标后，为法宝提供{0}%的充能"},1120024]
[1120025,{"$f":"CONCATENATE(IFERROR(VLOOKUP(A818,[1]SkillConfig!$D:$F,3,FALSE),\"\"),IFERROR(VLOOKUP(A818,[1]SkillConfig!$E:$G,3,FALSE),\"\"),IFERROR(VLOOKUP(A818,[1]SkillConfig!$V:$AF,11,FALSE),\"\"))","v":"后方槽位功法命中目标后，为法宝提供{0}%的充能。\n法宝可以瞬间施放，且规避法宝对拼。"},1120025]
[null,{"$f":"CONCATENATE(IFERROR(VLOOKUP(A819,[1]SkillConfig!$D:$F,3,FALSE),\"\"),IFERROR(VLOOKUP(A819,[1]SkillConfig!$E:$G,3,FALSE),\"\"),IFERROR(VLOOKUP(A819,[1]SkillConfig!$V:$AF,11,FALSE),\"\"))","v":""}]
[1120030,{"$f":"CONCATENATE(IFERROR(VLOOKUP(A820,[1]SkillConfig!$D:$F,3,FALSE),\"\"),IFERROR(VLOOKUP(A820,[1]SkillConfig!$E:$G,3,FALSE),\"\"),IFERROR(VLOOKUP(A820,[1]SkillConfig!$V:$AF,11,FALSE),\"\"))","v":"前方功法造成伤害时有{0}%概率施加一层对应属性的伤势"},1120030]
[1120031,{"$f":"CONCATENATE(IFERROR(VLOOKUP(A821,[1]SkillConfig!$D:$F,3,FALSE),\"\"),IFERROR(VLOOKUP(A821,[1]SkillConfig!$E:$G,3,FALSE),\"\"),IFERROR(VLOOKUP(A821,[1]SkillConfig!$V:$AF,11,FALSE),\"\"))","v":"前方功法造成伤害时有{0}%概率施加一层对应属性的伤势"},1120031]
[1120032,{"$f":"CONCATENATE(IFERROR(VLOOKUP(A822,[1]SkillConfig!$D:$F,3,FALSE),\"\"),IFERROR(VLOOKUP(A822,[1]SkillConfig!$E:$G,3,FALSE),\"\"),IFERROR(VLOOKUP(A822,[1]SkillConfig!$V:$AF,11,FALSE),\"\"))","v":"前方功法造成伤害时有{0}%概率施加一层对应属性的伤势"},1120032]
[1120033,{"$f":"CONCATENATE(IFERROR(VLOOKUP(A823,[1]SkillConfig!$D:$F,3,FALSE),\"\"),IFERROR(VLOOKUP(A823,[1]SkillConfig!$E:$G,3,FALSE),\"\"),IFERROR(VLOOKUP(A823,[1]SkillConfig!$V:$AF,11,FALSE),\"\"))","v":"前方功法造成伤害时有{0}%概率施加一层对应属性的伤势"},1120033]
[1120034,{"$f":"CONCATENATE(IFERROR(VLOOKUP(A824,[1]SkillConfig!$D:$F,3,FALSE),\"\"),IFERROR(VLOOKUP(A824,[1]SkillConfig!$E:$G,3,FALSE),\"\"),IFERROR(VLOOKUP(A824,[1]SkillConfig!$V:$AF,11,FALSE),\"\"))","v":"前方功法造成伤害时有{0}%概率施加一层对应属性的伤势"},1120034]
[1120035,{"$f":"CONCATENATE(IFERROR(VLOOKUP(A825,[1]SkillConfig!$D:$F,3,FALSE),\"\"),IFERROR(VLOOKUP(A825,[1]SkillConfig!$E:$G,3,FALSE),\"\"),IFERROR(VLOOKUP(A825,[1]SkillConfig!$V:$AF,11,FALSE),\"\"))","v":"前方功法造成伤害时有{0}%概率施加一层对应属性的伤势"},1120035]
[null,{"$f":"CONCATENATE(IFERROR(VLOOKUP(A826,[1]SkillConfig!$D:$F,3,FALSE),\"\"),IFERROR(VLOOKUP(A826,[1]SkillConfig!$E:$G,3,FALSE),\"\"),IFERROR(VLOOKUP(A826,[1]SkillConfig!$V:$AF,11,FALSE),\"\"))","v":""}]
[1120040,{"$f":"CONCATENATE(IFERROR(VLOOKUP(A827,[1]SkillConfig!$D:$F,3,FALSE),\"\"),IFERROR(VLOOKUP(A827,[1]SkillConfig!$E:$G,3,FALSE),\"\"),IFERROR(VLOOKUP(A827,[1]SkillConfig!$V:$AF,11,FALSE),\"\"))","v":"前后方法宝如果相生则双生效果增强{0}%"},1120040]
[1120041,{"$f":"CONCATENATE(IFERROR(VLOOKUP(A828,[1]SkillConfig!$D:$F,3,FALSE),\"\"),IFERROR(VLOOKUP(A828,[1]SkillConfig!$E:$G,3,FALSE),\"\"),IFERROR(VLOOKUP(A828,[1]SkillConfig!$V:$AF,11,FALSE),\"\"))","v":"前后方法宝如果相生则双生效果增强{0}%"},1120041]
[1120042,{"$f":"CONCATENATE(IFERROR(VLOOKUP(A829,[1]SkillConfig!$D:$F,3,FALSE),\"\"),IFERROR(VLOOKUP(A829,[1]SkillConfig!$E:$G,3,FALSE),\"\"),IFERROR(VLOOKUP(A829,[1]SkillConfig!$V:$AF,11,FALSE),\"\"))","v":"前后方法宝如果相生则双生效果增强{0}%"},1120042]
[1120043,{"$f":"CONCATENATE(IFERROR(VLOOKUP(A830,[1]SkillConfig!$D:$F,3,FALSE),\"\"),IFERROR(VLOOKUP(A830,[1]SkillConfig!$E:$G,3,FALSE),\"\"),IFERROR(VLOOKUP(A830,[1]SkillConfig!$V:$AF,11,FALSE),\"\"))","v":"前后方法宝如果相生则双生效果增强{0}%"},1120043]
[1120044,{"$f":"CONCATENATE(IFERROR(VLOOKUP(A831,[1]SkillConfig!$D:$F,3,FALSE),\"\"),IFERROR(VLOOKUP(A831,[1]SkillConfig!$E:$G,3,FALSE),\"\"),IFERROR(VLOOKUP(A831,[1]SkillConfig!$V:$AF,11,FALSE),\"\"))","v":"前后方法宝如果相生则双生效果增强{0}%"},1120044]
[1120045,{"$f":"CONCATENATE(IFERROR(VLOOKUP(A832,[1]SkillConfig!$D:$F,3,FALSE),\"\"),IFERROR(VLOOKUP(A832,[1]SkillConfig!$E:$G,3,FALSE),\"\"),IFERROR(VLOOKUP(A832,[1]SkillConfig!$V:$AF,11,FALSE),\"\"))","v":"前后方法宝如果相生则双生效果增强{0}%。\n前后方法宝如果不相生则双生效果增加{1}%。\n前方后法宝如果相克则双生效果增强{2}%。"},1120045]
[null,{"$f":"CONCATENATE(IFERROR(VLOOKUP(A833,[1]SkillConfig!$D:$F,3,FALSE),\"\"),IFERROR(VLOOKUP(A833,[1]SkillConfig!$E:$G,3,FALSE),\"\"),IFERROR(VLOOKUP(A833,[1]SkillConfig!$V:$AF,11,FALSE),\"\"))","v":""}]
[1120050,{"$f":"CONCATENATE(IFERROR(VLOOKUP(A834,[1]SkillConfig!$D:$F,3,FALSE),\"\"),IFERROR(VLOOKUP(A834,[1]SkillConfig!$E:$G,3,FALSE),\"\"),IFERROR(VLOOKUP(A834,[1]SkillConfig!$V:$AF,11,FALSE),\"\"))","v":"功法每次经过火属性经脉便使火系功法伤害提升{0}%，最多叠加{1}层"},1120050]
[1120051,{"$f":"CONCATENATE(IFERROR(VLOOKUP(A835,[1]SkillConfig!$D:$F,3,FALSE),\"\"),IFERROR(VLOOKUP(A835,[1]SkillConfig!$E:$G,3,FALSE),\"\"),IFERROR(VLOOKUP(A835,[1]SkillConfig!$V:$AF,11,FALSE),\"\"))","v":"功法每次经过火属性经脉便使火系功法伤害提升{0}%，最多叠加{1}层"},1120051]
[1120052,{"$f":"CONCATENATE(IFERROR(VLOOKUP(A836,[1]SkillConfig!$D:$F,3,FALSE),\"\"),IFERROR(VLOOKUP(A836,[1]SkillConfig!$E:$G,3,FALSE),\"\"),IFERROR(VLOOKUP(A836,[1]SkillConfig!$V:$AF,11,FALSE),\"\"))","v":"功法每次经过火属性经脉便使火系功法伤害提升{0}%，最多叠加{1}层"},1120052]
[1120053,{"$f":"CONCATENATE(IFERROR(VLOOKUP(A837,[1]SkillConfig!$D:$F,3,FALSE),\"\"),IFERROR(VLOOKUP(A837,[1]SkillConfig!$E:$G,3,FALSE),\"\"),IFERROR(VLOOKUP(A837,[1]SkillConfig!$V:$AF,11,FALSE),\"\"))","v":"功法每次经过火属性经脉便使火系功法伤害提升{0}%，最多叠加{1}层"},1120053]
[1120054,{"$f":"CONCATENATE(IFERROR(VLOOKUP(A838,[1]SkillConfig!$D:$F,3,FALSE),\"\"),IFERROR(VLOOKUP(A838,[1]SkillConfig!$E:$G,3,FALSE),\"\"),IFERROR(VLOOKUP(A838,[1]SkillConfig!$V:$AF,11,FALSE),\"\"))","v":"功法每次经过火属性经脉便使火系功法伤害提升{0}%，最多叠加{1}层"},1120054]
[1120055,{"$f":"CONCATENATE(IFERROR(VLOOKUP(A839,[1]SkillConfig!$D:$F,3,FALSE),\"\"),IFERROR(VLOOKUP(A839,[1]SkillConfig!$E:$G,3,FALSE),\"\"),IFERROR(VLOOKUP(A839,[1]SkillConfig!$V:$AF,11,FALSE),\"\"))","v":"功法每次经过火属性经脉便使火系功法伤害提升{0}%，最多叠加{1}层\n达到满层后，任何火系功法命中后都会施加{1}层灼烧。"},1120055]
[null,{"$f":"CONCATENATE(IFERROR(VLOOKUP(A840,[1]SkillConfig!$D:$F,3,FALSE),\"\"),IFERROR(VLOOKUP(A840,[1]SkillConfig!$E:$G,3,FALSE),\"\"),IFERROR(VLOOKUP(A840,[1]SkillConfig!$V:$AF,11,FALSE),\"\"))","v":""}]
[1120060,{"$f":"CONCATENATE(IFERROR(VLOOKUP(A841,[1]SkillConfig!$D:$F,3,FALSE),\"\"),IFERROR(VLOOKUP(A841,[1]SkillConfig!$E:$G,3,FALSE),\"\"),IFERROR(VLOOKUP(A841,[1]SkillConfig!$V:$AF,11,FALSE),\"\"))","v":"使后方功法体型巨大化，且在对碰中强度增加{0}%"},1120060]
[1120061,{"$f":"CONCATENATE(IFERROR(VLOOKUP(A842,[1]SkillConfig!$D:$F,3,FALSE),\"\"),IFERROR(VLOOKUP(A842,[1]SkillConfig!$E:$G,3,FALSE),\"\"),IFERROR(VLOOKUP(A842,[1]SkillConfig!$V:$AF,11,FALSE),\"\"))","v":"使后方功法体型巨大化，且在对碰中强度增加{0}%"},1120061]
[1120062,{"$f":"CONCATENATE(IFERROR(VLOOKUP(A843,[1]SkillConfig!$D:$F,3,FALSE),\"\"),IFERROR(VLOOKUP(A843,[1]SkillConfig!$E:$G,3,FALSE),\"\"),IFERROR(VLOOKUP(A843,[1]SkillConfig!$V:$AF,11,FALSE),\"\"))","v":"使后方功法体型巨大化，且在对碰中强度增加{0}%"},1120062]
[1120063,{"$f":"CONCATENATE(IFERROR(VLOOKUP(A844,[1]SkillConfig!$D:$F,3,FALSE),\"\"),IFERROR(VLOOKUP(A844,[1]SkillConfig!$E:$G,3,FALSE),\"\"),IFERROR(VLOOKUP(A844,[1]SkillConfig!$V:$AF,11,FALSE),\"\"))","v":"使后方功法体型巨大化，且在对碰中强度增加{0}%"},1120063]
[1120064,{"$f":"CONCATENATE(IFERROR(VLOOKUP(A845,[1]SkillConfig!$D:$F,3,FALSE),\"\"),IFERROR(VLOOKUP(A845,[1]SkillConfig!$E:$G,3,FALSE),\"\"),IFERROR(VLOOKUP(A845,[1]SkillConfig!$V:$AF,11,FALSE),\"\"))","v":"使后方功法体型巨大化，且在对碰中强度增加{0}%"},1120064]
[1120065,{"$f":"CONCATENATE(IFERROR(VLOOKUP(A846,[1]SkillConfig!$D:$F,3,FALSE),\"\"),IFERROR(VLOOKUP(A846,[1]SkillConfig!$E:$G,3,FALSE),\"\"),IFERROR(VLOOKUP(A846,[1]SkillConfig!$V:$AF,11,FALSE),\"\"))","v":"使后方功法体型巨大化，且在对碰中强度增加{0}%\n巨大化的功法在对拼耗尽后不会消失，且会恢复该功法{1}%对拼强度"},1120065]
[null,{"$f":"CONCATENATE(IFERROR(VLOOKUP(A847,[1]SkillConfig!$D:$F,3,FALSE),\"\"),IFERROR(VLOOKUP(A847,[1]SkillConfig!$E:$G,3,FALSE),\"\"),IFERROR(VLOOKUP(A847,[1]SkillConfig!$V:$AF,11,FALSE),\"\"))","v":""}]
[1120070,{"$f":"CONCATENATE(IFERROR(VLOOKUP(A848,[1]SkillConfig!$D:$F,3,FALSE),\"\"),IFERROR(VLOOKUP(A848,[1]SkillConfig!$E:$G,3,FALSE),\"\"),IFERROR(VLOOKUP(A848,[1]SkillConfig!$V:$AF,11,FALSE),\"\"))","v":"后方功法催动时，使轮盘运转速度增加{0}%,持续{1}秒"},1120070]
[1120071,{"$f":"CONCATENATE(IFERROR(VLOOKUP(A849,[1]SkillConfig!$D:$F,3,FALSE),\"\"),IFERROR(VLOOKUP(A849,[1]SkillConfig!$E:$G,3,FALSE),\"\"),IFERROR(VLOOKUP(A849,[1]SkillConfig!$V:$AF,11,FALSE),\"\"))","v":"后方功法催动时，使轮盘运转速度增加{0}%,持续{1}秒"},1120071]
[1120072,{"$f":"CONCATENATE(IFERROR(VLOOKUP(A850,[1]SkillConfig!$D:$F,3,FALSE),\"\"),IFERROR(VLOOKUP(A850,[1]SkillConfig!$E:$G,3,FALSE),\"\"),IFERROR(VLOOKUP(A850,[1]SkillConfig!$V:$AF,11,FALSE),\"\"))","v":"后方功法催动时，使轮盘运转速度增加{0}%,持续{1}秒"},1120072]
[1120073,{"$f":"CONCATENATE(IFERROR(VLOOKUP(A851,[1]SkillConfig!$D:$F,3,FALSE),\"\"),IFERROR(VLOOKUP(A851,[1]SkillConfig!$E:$G,3,FALSE),\"\"),IFERROR(VLOOKUP(A851,[1]SkillConfig!$V:$AF,11,FALSE),\"\"))","v":"后方功法催动时，使轮盘运转速度增加{0}%,持续{1}秒"},1120073]
[1120074,{"$f":"CONCATENATE(IFERROR(VLOOKUP(A852,[1]SkillConfig!$D:$F,3,FALSE),\"\"),IFERROR(VLOOKUP(A852,[1]SkillConfig!$E:$G,3,FALSE),\"\"),IFERROR(VLOOKUP(A852,[1]SkillConfig!$V:$AF,11,FALSE),\"\"))","v":"后方功法催动时，使轮盘运转速度增加{0}%,持续{1}秒"},1120074]
[1120075,{"$f":"CONCATENATE(IFERROR(VLOOKUP(A853,[1]SkillConfig!$D:$F,3,FALSE),\"\"),IFERROR(VLOOKUP(A853,[1]SkillConfig!$E:$G,3,FALSE),\"\"),IFERROR(VLOOKUP(A853,[1]SkillConfig!$V:$AF,11,FALSE),\"\"))","v":"后方功法催动时，使轮盘运转速度增加{0}%,持续{1}秒\n轮盘加速期间，伤害提升{1}%"},1120075]
[null,{"$f":"CONCATENATE(IFERROR(VLOOKUP(A854,[1]SkillConfig!$D:$F,3,FALSE),\"\"),IFERROR(VLOOKUP(A854,[1]SkillConfig!$E:$G,3,FALSE),\"\"),IFERROR(VLOOKUP(A854,[1]SkillConfig!$V:$AF,11,FALSE),\"\"))","v":""}]
[1120080,{"$f":"CONCATENATE(IFERROR(VLOOKUP(A855,[1]SkillConfig!$D:$F,3,FALSE),\"\"),IFERROR(VLOOKUP(A855,[1]SkillConfig!$E:$G,3,FALSE),\"\"),IFERROR(VLOOKUP(A855,[1]SkillConfig!$V:$AF,11,FALSE),\"\"))","v":"后方功法催动时释放{0}道剑气，对敌人造成{1}%攻击力的伤害，并无视护盾类效果"},1120080]
[1120081,{"$f":"CONCATENATE(IFERROR(VLOOKUP(A856,[1]SkillConfig!$D:$F,3,FALSE),\"\"),IFERROR(VLOOKUP(A856,[1]SkillConfig!$E:$G,3,FALSE),\"\"),IFERROR(VLOOKUP(A856,[1]SkillConfig!$V:$AF,11,FALSE),\"\"))","v":"后方功法催动时释放{0}道剑气，对敌人造成{1}%攻击力的伤害，并无视护盾类效果"},1120081]
[1120082,{"$f":"CONCATENATE(IFERROR(VLOOKUP(A857,[1]SkillConfig!$D:$F,3,FALSE),\"\"),IFERROR(VLOOKUP(A857,[1]SkillConfig!$E:$G,3,FALSE),\"\"),IFERROR(VLOOKUP(A857,[1]SkillConfig!$V:$AF,11,FALSE),\"\"))","v":"后方功法催动时释放{0}道剑气，对敌人造成{1}%攻击力的伤害，并无视护盾类效果"},1120082]
[1120083,{"$f":"CONCATENATE(IFERROR(VLOOKUP(A858,[1]SkillConfig!$D:$F,3,FALSE),\"\"),IFERROR(VLOOKUP(A858,[1]SkillConfig!$E:$G,3,FALSE),\"\"),IFERROR(VLOOKUP(A858,[1]SkillConfig!$V:$AF,11,FALSE),\"\"))","v":"后方功法催动时释放{0}道剑气，对敌人造成{1}%攻击力的伤害，并无视护盾类效果"},1120083]
[1120084,{"$f":"CONCATENATE(IFERROR(VLOOKUP(A859,[1]SkillConfig!$D:$F,3,FALSE),\"\"),IFERROR(VLOOKUP(A859,[1]SkillConfig!$E:$G,3,FALSE),\"\"),IFERROR(VLOOKUP(A859,[1]SkillConfig!$V:$AF,11,FALSE),\"\"))","v":"后方功法催动时释放{0}道剑气，对敌人造成{1}%攻击力的伤害，并无视护盾类效果"},1120084]
[1120085,{"$f":"CONCATENATE(IFERROR(VLOOKUP(A860,[1]SkillConfig!$D:$F,3,FALSE),\"\"),IFERROR(VLOOKUP(A860,[1]SkillConfig!$E:$G,3,FALSE),\"\"),IFERROR(VLOOKUP(A860,[1]SkillConfig!$V:$AF,11,FALSE),\"\"))","v":"后方功法催动时释放{0}道剑气，对敌人造成{1}%攻击力的伤害，并无视护盾类效果\n该剑气会对敌人施加{2}层流血"},1120085]
[null,{"$f":"CONCATENATE(IFERROR(VLOOKUP(A861,[1]SkillConfig!$D:$F,3,FALSE),\"\"),IFERROR(VLOOKUP(A861,[1]SkillConfig!$E:$G,3,FALSE),\"\"),IFERROR(VLOOKUP(A861,[1]SkillConfig!$V:$AF,11,FALSE),\"\"))","v":""}]
[1120090,{"$f":"CONCATENATE(IFERROR(VLOOKUP(A862,[1]SkillConfig!$D:$F,3,FALSE),\"\"),IFERROR(VLOOKUP(A862,[1]SkillConfig!$E:$G,3,FALSE),\"\"),IFERROR(VLOOKUP(A862,[1]SkillConfig!$V:$AF,11,FALSE),\"\"))","v":"后方功法每造成一次伤害便会获得一层青莲之气，青莲之气达到{0}层时有{1}%概率触发净体，清除自身1个负面状态,并恢复{2}%攻击力的血量"},1120090]
[1120091,{"$f":"CONCATENATE(IFERROR(VLOOKUP(A863,[1]SkillConfig!$D:$F,3,FALSE),\"\"),IFERROR(VLOOKUP(A863,[1]SkillConfig!$E:$G,3,FALSE),\"\"),IFERROR(VLOOKUP(A863,[1]SkillConfig!$V:$AF,11,FALSE),\"\"))","v":"后方功法每造成一次伤害便会获得一层青莲之气，青莲之气达到{0}层时有{1}%概率触发净体，清除自身1个负面状态,并恢复{2}%攻击力的血量"},1120091]
[1120092,{"$f":"CONCATENATE(IFERROR(VLOOKUP(A864,[1]SkillConfig!$D:$F,3,FALSE),\"\"),IFERROR(VLOOKUP(A864,[1]SkillConfig!$E:$G,3,FALSE),\"\"),IFERROR(VLOOKUP(A864,[1]SkillConfig!$V:$AF,11,FALSE),\"\"))","v":"后方功法每造成一次伤害便会获得一层青莲之气，青莲之气达到{0}层时有{1}%概率触发净体，清除自身1个负面状态,并恢复{2}%攻击力的血量"},1120092]
[1120093,{"$f":"CONCATENATE(IFERROR(VLOOKUP(A865,[1]SkillConfig!$D:$F,3,FALSE),\"\"),IFERROR(VLOOKUP(A865,[1]SkillConfig!$E:$G,3,FALSE),\"\"),IFERROR(VLOOKUP(A865,[1]SkillConfig!$V:$AF,11,FALSE),\"\"))","v":"后方功法每造成一次伤害便会获得一层青莲之气，青莲之气达到{0}层时有{1}%概率触发净体，清除自身1个负面状态,并恢复{2}%攻击力的血量"},1120093]
[1120094,{"$f":"CONCATENATE(IFERROR(VLOOKUP(A866,[1]SkillConfig!$D:$F,3,FALSE),\"\"),IFERROR(VLOOKUP(A866,[1]SkillConfig!$E:$G,3,FALSE),\"\"),IFERROR(VLOOKUP(A866,[1]SkillConfig!$V:$AF,11,FALSE),\"\"))","v":"后方功法每造成一次伤害便会获得一层青莲之气，青莲之气达到{0}层时有{1}%概率触发净体，清除自身1个负面状态,并恢复{2}%攻击力的血量"},1120094]
[1120095,{"$f":"CONCATENATE(IFERROR(VLOOKUP(A867,[1]SkillConfig!$D:$F,3,FALSE),\"\"),IFERROR(VLOOKUP(A867,[1]SkillConfig!$E:$G,3,FALSE),\"\"),IFERROR(VLOOKUP(A867,[1]SkillConfig!$V:$AF,11,FALSE),\"\"))","v":"后方功法每造成一次伤害便会获得一层青莲之气，青莲之气达到{0}层时有{1}%概率触发净体，清除自身1个负面状态,并恢复{2}%攻击力的血量"},1120095]
[null,{"$f":"CONCATENATE(IFERROR(VLOOKUP(A868,[1]SkillConfig!$D:$F,3,FALSE),\"\"),IFERROR(VLOOKUP(A868,[1]SkillConfig!$E:$G,3,FALSE),\"\"),IFERROR(VLOOKUP(A868,[1]SkillConfig!$V:$AF,11,FALSE),\"\"))","v":""}]
[1120100,{"$f":"CONCATENATE(IFERROR(VLOOKUP(A869,[1]SkillConfig!$D:$F,3,FALSE),\"\"),IFERROR(VLOOKUP(A869,[1]SkillConfig!$E:$G,3,FALSE),\"\"),IFERROR(VLOOKUP(A869,[1]SkillConfig!$V:$AF,11,FALSE),\"\"))","v":"功法在经过木属性经脉后触发生机，为自身治疗{0}%攻击力的生命值"},1120100]
[1120101,{"$f":"CONCATENATE(IFERROR(VLOOKUP(A870,[1]SkillConfig!$D:$F,3,FALSE),\"\"),IFERROR(VLOOKUP(A870,[1]SkillConfig!$E:$G,3,FALSE),\"\"),IFERROR(VLOOKUP(A870,[1]SkillConfig!$V:$AF,11,FALSE),\"\"))","v":"功法在经过木属性经脉后触发生机，为自身治疗{0}%攻击力的生命值"},1120101]
[1120102,{"$f":"CONCATENATE(IFERROR(VLOOKUP(A871,[1]SkillConfig!$D:$F,3,FALSE),\"\"),IFERROR(VLOOKUP(A871,[1]SkillConfig!$E:$G,3,FALSE),\"\"),IFERROR(VLOOKUP(A871,[1]SkillConfig!$V:$AF,11,FALSE),\"\"))","v":"功法在经过木属性经脉后触发生机，为自身治疗{0}%攻击力的生命值"},1120102]
[1120103,{"$f":"CONCATENATE(IFERROR(VLOOKUP(A872,[1]SkillConfig!$D:$F,3,FALSE),\"\"),IFERROR(VLOOKUP(A872,[1]SkillConfig!$E:$G,3,FALSE),\"\"),IFERROR(VLOOKUP(A872,[1]SkillConfig!$V:$AF,11,FALSE),\"\"))","v":"功法在经过木属性经脉后触发生机，为自身治疗{0}%攻击力的生命值"},1120103]
[1120104,{"$f":"CONCATENATE(IFERROR(VLOOKUP(A873,[1]SkillConfig!$D:$F,3,FALSE),\"\"),IFERROR(VLOOKUP(A873,[1]SkillConfig!$E:$G,3,FALSE),\"\"),IFERROR(VLOOKUP(A873,[1]SkillConfig!$V:$AF,11,FALSE),\"\"))","v":"功法在经过木属性经脉后触发生机，为自身治疗{0}%攻击力的生命值"},1120104]
[1120105,{"$f":"CONCATENATE(IFERROR(VLOOKUP(A874,[1]SkillConfig!$D:$F,3,FALSE),\"\"),IFERROR(VLOOKUP(A874,[1]SkillConfig!$E:$G,3,FALSE),\"\"),IFERROR(VLOOKUP(A874,[1]SkillConfig!$V:$AF,11,FALSE),\"\"))","v":"功法在经过木属性经脉后触发生机，为自身治疗{0}%攻击力的生命值\n在生命值低于{1}%时恢复量提升{2}%"},1120105]
[null,{"$f":"CONCATENATE(IFERROR(VLOOKUP(A875,[1]SkillConfig!$D:$F,3,FALSE),\"\"),IFERROR(VLOOKUP(A875,[1]SkillConfig!$E:$G,3,FALSE),\"\"),IFERROR(VLOOKUP(A875,[1]SkillConfig!$V:$AF,11,FALSE),\"\"))","v":""}]
[1120110,{"$f":"CONCATENATE(IFERROR(VLOOKUP(A876,[1]SkillConfig!$D:$F,3,FALSE),\"\"),IFERROR(VLOOKUP(A876,[1]SkillConfig!$E:$G,3,FALSE),\"\"),IFERROR(VLOOKUP(A876,[1]SkillConfig!$V:$AF,11,FALSE),\"\"))","v":"所有流血状态造成的伤害会转换成充能值，经过2次金经脉后对全体敌人造成{0}%充能值的伤害"},1120110]
[1120111,{"$f":"CONCATENATE(IFERROR(VLOOKUP(A877,[1]SkillConfig!$D:$F,3,FALSE),\"\"),IFERROR(VLOOKUP(A877,[1]SkillConfig!$E:$G,3,FALSE),\"\"),IFERROR(VLOOKUP(A877,[1]SkillConfig!$V:$AF,11,FALSE),\"\"))","v":"所有流血状态造成的伤害会转换成充能值，经过2次金经脉后对全体敌人造成{0}%充能值的伤害"},1120111]
[1120112,{"$f":"CONCATENATE(IFERROR(VLOOKUP(A878,[1]SkillConfig!$D:$F,3,FALSE),\"\"),IFERROR(VLOOKUP(A878,[1]SkillConfig!$E:$G,3,FALSE),\"\"),IFERROR(VLOOKUP(A878,[1]SkillConfig!$V:$AF,11,FALSE),\"\"))","v":"所有流血状态造成的伤害会转换成充能值，经过2次金经脉后对全体敌人造成{0}%充能值的伤害"},1120112]
[1120113,{"$f":"CONCATENATE(IFERROR(VLOOKUP(A879,[1]SkillConfig!$D:$F,3,FALSE),\"\"),IFERROR(VLOOKUP(A879,[1]SkillConfig!$E:$G,3,FALSE),\"\"),IFERROR(VLOOKUP(A879,[1]SkillConfig!$V:$AF,11,FALSE),\"\"))","v":"所有流血状态造成的伤害会转换成充能值，经过2次金经脉后对全体敌人造成{0}%充能值的伤害"},1120113]
[1120114,{"$f":"CONCATENATE(IFERROR(VLOOKUP(A880,[1]SkillConfig!$D:$F,3,FALSE),\"\"),IFERROR(VLOOKUP(A880,[1]SkillConfig!$E:$G,3,FALSE),\"\"),IFERROR(VLOOKUP(A880,[1]SkillConfig!$V:$AF,11,FALSE),\"\"))","v":"所有流血状态造成的伤害会转换成充能值，经过2次金经脉后对全体敌人造成{0}%充能值的伤害"},1120114]
[1120115,{"$f":"CONCATENATE(IFERROR(VLOOKUP(A881,[1]SkillConfig!$D:$F,3,FALSE),\"\"),IFERROR(VLOOKUP(A881,[1]SkillConfig!$E:$G,3,FALSE),\"\"),IFERROR(VLOOKUP(A881,[1]SkillConfig!$V:$AF,11,FALSE),\"\"))","v":"所有流血状态造成的伤害会转换成充能值，经过2次金经脉后对全体敌人造成{0}%充能值的伤害"},1120115]
[null,{"$f":"CONCATENATE(IFERROR(VLOOKUP(A882,[1]SkillConfig!$D:$F,3,FALSE),\"\"),IFERROR(VLOOKUP(A882,[1]SkillConfig!$E:$G,3,FALSE),\"\"),IFERROR(VLOOKUP(A882,[1]SkillConfig!$V:$AF,11,FALSE),\"\"))","v":""}]
[1120120,{"$f":"CONCATENATE(IFERROR(VLOOKUP(A883,[1]SkillConfig!$D:$F,3,FALSE),\"\"),IFERROR(VLOOKUP(A883,[1]SkillConfig!$E:$G,3,FALSE),\"\"),IFERROR(VLOOKUP(A883,[1]SkillConfig!$V:$AF,11,FALSE),\"\"))","v":"前方功法对敌人造成伤害后额施加一层流血"},1120120]
[1120121,{"$f":"CONCATENATE(IFERROR(VLOOKUP(A884,[1]SkillConfig!$D:$F,3,FALSE),\"\"),IFERROR(VLOOKUP(A884,[1]SkillConfig!$E:$G,3,FALSE),\"\"),IFERROR(VLOOKUP(A884,[1]SkillConfig!$V:$AF,11,FALSE),\"\"))","v":"前方功法对敌人造成伤害后额施加一层流血"},1120121]
[1120122,{"$f":"CONCATENATE(IFERROR(VLOOKUP(A885,[1]SkillConfig!$D:$F,3,FALSE),\"\"),IFERROR(VLOOKUP(A885,[1]SkillConfig!$E:$G,3,FALSE),\"\"),IFERROR(VLOOKUP(A885,[1]SkillConfig!$V:$AF,11,FALSE),\"\"))","v":"前方功法对敌人造成伤害后额施加一层流血"},1120122]
[1120123,{"$f":"CONCATENATE(IFERROR(VLOOKUP(A886,[1]SkillConfig!$D:$F,3,FALSE),\"\"),IFERROR(VLOOKUP(A886,[1]SkillConfig!$E:$G,3,FALSE),\"\"),IFERROR(VLOOKUP(A886,[1]SkillConfig!$V:$AF,11,FALSE),\"\"))","v":"前方功法对敌人造成伤害后额施加一层流血"},1120123]
[1120124,{"$f":"CONCATENATE(IFERROR(VLOOKUP(A887,[1]SkillConfig!$D:$F,3,FALSE),\"\"),IFERROR(VLOOKUP(A887,[1]SkillConfig!$E:$G,3,FALSE),\"\"),IFERROR(VLOOKUP(A887,[1]SkillConfig!$V:$AF,11,FALSE),\"\"))","v":"前方功法对敌人造成伤害后额施加一层流血"},1120124]
[1120125,{"$f":"CONCATENATE(IFERROR(VLOOKUP(A888,[1]SkillConfig!$D:$F,3,FALSE),\"\"),IFERROR(VLOOKUP(A888,[1]SkillConfig!$E:$G,3,FALSE),\"\"),IFERROR(VLOOKUP(A888,[1]SkillConfig!$V:$AF,11,FALSE),\"\"))","v":"前方功法对敌人造成伤害后额施加一层流血"},1120125]
[null,{"$f":"CONCATENATE(IFERROR(VLOOKUP(A889,[1]SkillConfig!$D:$F,3,FALSE),\"\"),IFERROR(VLOOKUP(A889,[1]SkillConfig!$E:$G,3,FALSE),\"\"),IFERROR(VLOOKUP(A889,[1]SkillConfig!$V:$AF,11,FALSE),\"\"))","v":""}]
[1120130,{"$f":"CONCATENATE(IFERROR(VLOOKUP(A890,[1]SkillConfig!$D:$F,3,FALSE),\"\"),IFERROR(VLOOKUP(A890,[1]SkillConfig!$E:$G,3,FALSE),\"\"),IFERROR(VLOOKUP(A890,[1]SkillConfig!$V:$AF,11,FALSE),\"\"))","v":"前方功法击中目标时额外施加一层毒，对流血中的敌人再额外施加一层"},1120130]
[1120131,{"$f":"CONCATENATE(IFERROR(VLOOKUP(A891,[1]SkillConfig!$D:$F,3,FALSE),\"\"),IFERROR(VLOOKUP(A891,[1]SkillConfig!$E:$G,3,FALSE),\"\"),IFERROR(VLOOKUP(A891,[1]SkillConfig!$V:$AF,11,FALSE),\"\"))","v":"前方功法击中目标时额外施加一层毒，对流血中的敌人再额外施加一层"},1120131]
[1120132,{"$f":"CONCATENATE(IFERROR(VLOOKUP(A892,[1]SkillConfig!$D:$F,3,FALSE),\"\"),IFERROR(VLOOKUP(A892,[1]SkillConfig!$E:$G,3,FALSE),\"\"),IFERROR(VLOOKUP(A892,[1]SkillConfig!$V:$AF,11,FALSE),\"\"))","v":"前方功法击中目标时额外施加一层毒，对流血中的敌人再额外施加一层"},1120132]
[1120133,{"$f":"CONCATENATE(IFERROR(VLOOKUP(A893,[1]SkillConfig!$D:$F,3,FALSE),\"\"),IFERROR(VLOOKUP(A893,[1]SkillConfig!$E:$G,3,FALSE),\"\"),IFERROR(VLOOKUP(A893,[1]SkillConfig!$V:$AF,11,FALSE),\"\"))","v":"前方功法击中目标时额外施加一层毒，对流血中的敌人再额外施加一层"},1120133]
[1120134,{"$f":"CONCATENATE(IFERROR(VLOOKUP(A894,[1]SkillConfig!$D:$F,3,FALSE),\"\"),IFERROR(VLOOKUP(A894,[1]SkillConfig!$E:$G,3,FALSE),\"\"),IFERROR(VLOOKUP(A894,[1]SkillConfig!$V:$AF,11,FALSE),\"\"))","v":"前方功法击中目标时额外施加一层毒，对流血中的敌人再额外施加一层"},1120134]
[1120135,{"$f":"CONCATENATE(IFERROR(VLOOKUP(A895,[1]SkillConfig!$D:$F,3,FALSE),\"\"),IFERROR(VLOOKUP(A895,[1]SkillConfig!$E:$G,3,FALSE),\"\"),IFERROR(VLOOKUP(A895,[1]SkillConfig!$V:$AF,11,FALSE),\"\"))","v":"前方功法击中目标时额外施加一层毒，对流血中的敌人再额外施加一层"},1120135]
[null,{"$f":"CONCATENATE(IFERROR(VLOOKUP(A896,[1]SkillConfig!$D:$F,3,FALSE),\"\"),IFERROR(VLOOKUP(A896,[1]SkillConfig!$E:$G,3,FALSE),\"\"),IFERROR(VLOOKUP(A896,[1]SkillConfig!$V:$AF,11,FALSE),\"\"))","v":""}]
[1120140,{"$f":"CONCATENATE(IFERROR(VLOOKUP(A897,[1]SkillConfig!$D:$F,3,FALSE),\"\"),IFERROR(VLOOKUP(A897,[1]SkillConfig!$E:$G,3,FALSE),\"\"),IFERROR(VLOOKUP(A897,[1]SkillConfig!$V:$AF,11,FALSE),\"\"))","v":"后方功法击中目标后，如果目标身上有{0}层毒时则会对目标造成{1}%攻击力的额外伤害，并对周围的敌人造成该伤害的{2}%的伤害"},1120140]
[1120141,{"$f":"CONCATENATE(IFERROR(VLOOKUP(A898,[1]SkillConfig!$D:$F,3,FALSE),\"\"),IFERROR(VLOOKUP(A898,[1]SkillConfig!$E:$G,3,FALSE),\"\"),IFERROR(VLOOKUP(A898,[1]SkillConfig!$V:$AF,11,FALSE),\"\"))","v":"后方功法击中目标后，如果目标身上有{0}层毒时则会对目标造成{1}%攻击力的额外伤害，并对周围的敌人造成该伤害的{2}%的伤害"},1120141]
[1120142,{"$f":"CONCATENATE(IFERROR(VLOOKUP(A899,[1]SkillConfig!$D:$F,3,FALSE),\"\"),IFERROR(VLOOKUP(A899,[1]SkillConfig!$E:$G,3,FALSE),\"\"),IFERROR(VLOOKUP(A899,[1]SkillConfig!$V:$AF,11,FALSE),\"\"))","v":"后方功法击中目标后，如果目标身上有{0}层毒时则会对目标造成{1}%攻击力的额外伤害，并对周围的敌人造成该伤害的{2}%的伤害"},1120142]
[1120143,{"$f":"CONCATENATE(IFERROR(VLOOKUP(A900,[1]SkillConfig!$D:$F,3,FALSE),\"\"),IFERROR(VLOOKUP(A900,[1]SkillConfig!$E:$G,3,FALSE),\"\"),IFERROR(VLOOKUP(A900,[1]SkillConfig!$V:$AF,11,FALSE),\"\"))","v":"后方功法击中目标后，如果目标身上有{0}层毒时则会对目标造成{1}%攻击力的额外伤害，并对周围的敌人造成该伤害的{2}%的伤害"},1120143]
[1120144,{"$f":"CONCATENATE(IFERROR(VLOOKUP(A901,[1]SkillConfig!$D:$F,3,FALSE),\"\"),IFERROR(VLOOKUP(A901,[1]SkillConfig!$E:$G,3,FALSE),\"\"),IFERROR(VLOOKUP(A901,[1]SkillConfig!$V:$AF,11,FALSE),\"\"))","v":"后方功法击中目标后，如果目标身上有{0}层毒时则会对目标造成{1}%攻击力的额外伤害，并对周围的敌人造成该伤害的{2}%的伤害"},1120144]
[1120145,{"$f":"CONCATENATE(IFERROR(VLOOKUP(A902,[1]SkillConfig!$D:$F,3,FALSE),\"\"),IFERROR(VLOOKUP(A902,[1]SkillConfig!$E:$G,3,FALSE),\"\"),IFERROR(VLOOKUP(A902,[1]SkillConfig!$V:$AF,11,FALSE),\"\"))","v":"后方功法击中目标后，如果目标身上有{0}层毒时则会对目标造成{1}%攻击力的额外伤害，并对周围的敌人造成该伤害的{2}%的伤害"},1120145]
[null,{"$f":"CONCATENATE(IFERROR(VLOOKUP(A903,[1]SkillConfig!$D:$F,3,FALSE),\"\"),IFERROR(VLOOKUP(A903,[1]SkillConfig!$E:$G,3,FALSE),\"\"),IFERROR(VLOOKUP(A903,[1]SkillConfig!$V:$AF,11,FALSE),\"\"))","v":""}]
[1120150,{"$f":"CONCATENATE(IFERROR(VLOOKUP(A904,[1]SkillConfig!$D:$F,3,FALSE),\"\"),IFERROR(VLOOKUP(A904,[1]SkillConfig!$E:$G,3,FALSE),\"\"),IFERROR(VLOOKUP(A904,[1]SkillConfig!$V:$AF,11,FALSE),\"\"))","v":"后方功法对目标造成异常状态后，有{0}%概率转移到下一个目标，不会来回转移"},1120150]
[1120151,{"$f":"CONCATENATE(IFERROR(VLOOKUP(A905,[1]SkillConfig!$D:$F,3,FALSE),\"\"),IFERROR(VLOOKUP(A905,[1]SkillConfig!$E:$G,3,FALSE),\"\"),IFERROR(VLOOKUP(A905,[1]SkillConfig!$V:$AF,11,FALSE),\"\"))","v":"后方功法对目标造成异常状态后，有{0}%概率转移到下一个目标，不会来回转移"},1120151]
[1120152,{"$f":"CONCATENATE(IFERROR(VLOOKUP(A906,[1]SkillConfig!$D:$F,3,FALSE),\"\"),IFERROR(VLOOKUP(A906,[1]SkillConfig!$E:$G,3,FALSE),\"\"),IFERROR(VLOOKUP(A906,[1]SkillConfig!$V:$AF,11,FALSE),\"\"))","v":"后方功法对目标造成异常状态后，有{0}%概率转移到下一个目标，不会来回转移"},1120152]
[1120153,{"$f":"CONCATENATE(IFERROR(VLOOKUP(A907,[1]SkillConfig!$D:$F,3,FALSE),\"\"),IFERROR(VLOOKUP(A907,[1]SkillConfig!$E:$G,3,FALSE),\"\"),IFERROR(VLOOKUP(A907,[1]SkillConfig!$V:$AF,11,FALSE),\"\"))","v":"后方功法对目标造成异常状态后，有{0}%概率转移到下一个目标，不会来回转移"},1120153]
[1120154,{"$f":"CONCATENATE(IFERROR(VLOOKUP(A908,[1]SkillConfig!$D:$F,3,FALSE),\"\"),IFERROR(VLOOKUP(A908,[1]SkillConfig!$E:$G,3,FALSE),\"\"),IFERROR(VLOOKUP(A908,[1]SkillConfig!$V:$AF,11,FALSE),\"\"))","v":"后方功法对目标造成异常状态后，有{0}%概率转移到下一个目标，不会来回转移"},1120154]
[1120155,{"$f":"CONCATENATE(IFERROR(VLOOKUP(A909,[1]SkillConfig!$D:$F,3,FALSE),\"\"),IFERROR(VLOOKUP(A909,[1]SkillConfig!$E:$G,3,FALSE),\"\"),IFERROR(VLOOKUP(A909,[1]SkillConfig!$V:$AF,11,FALSE),\"\"))","v":"后方功法对目标造成异常状态后，有{0}%概率转移到下一个目标，不会来回转移"},1120155]
[null,{"$f":"CONCATENATE(IFERROR(VLOOKUP(A910,[1]SkillConfig!$D:$F,3,FALSE),\"\"),IFERROR(VLOOKUP(A910,[1]SkillConfig!$E:$G,3,FALSE),\"\"),IFERROR(VLOOKUP(A910,[1]SkillConfig!$V:$AF,11,FALSE),\"\"))","v":""}]
[1120160,{"$f":"CONCATENATE(IFERROR(VLOOKUP(A911,[1]SkillConfig!$D:$F,3,FALSE),\"\"),IFERROR(VLOOKUP(A911,[1]SkillConfig!$E:$G,3,FALSE),\"\"),IFERROR(VLOOKUP(A911,[1]SkillConfig!$V:$AF,11,FALSE),\"\"))","v":"前方功法会对目标附加阴水。目标身上有寒气时则会将阴水转换为冰冻值。冰冻值到达一定程度后冰冻敌人。"},1120160]
[1120161,{"$f":"CONCATENATE(IFERROR(VLOOKUP(A912,[1]SkillConfig!$D:$F,3,FALSE),\"\"),IFERROR(VLOOKUP(A912,[1]SkillConfig!$E:$G,3,FALSE),\"\"),IFERROR(VLOOKUP(A912,[1]SkillConfig!$V:$AF,11,FALSE),\"\"))","v":"前方功法会对目标附加阴水。目标身上有寒气时则会将阴水转换为冰冻值。冰冻值到达一定程度后冰冻敌人。"},1120161]
[1120162,{"$f":"CONCATENATE(IFERROR(VLOOKUP(A913,[1]SkillConfig!$D:$F,3,FALSE),\"\"),IFERROR(VLOOKUP(A913,[1]SkillConfig!$E:$G,3,FALSE),\"\"),IFERROR(VLOOKUP(A913,[1]SkillConfig!$V:$AF,11,FALSE),\"\"))","v":"前方功法会对目标附加阴水。目标身上有寒气时则会将阴水转换为冰冻值。冰冻值到达一定程度后冰冻敌人。"},1120162]
[1120163,{"$f":"CONCATENATE(IFERROR(VLOOKUP(A914,[1]SkillConfig!$D:$F,3,FALSE),\"\"),IFERROR(VLOOKUP(A914,[1]SkillConfig!$E:$G,3,FALSE),\"\"),IFERROR(VLOOKUP(A914,[1]SkillConfig!$V:$AF,11,FALSE),\"\"))","v":"前方功法会对目标附加阴水。目标身上有寒气时则会将阴水转换为冰冻值。冰冻值到达一定程度后冰冻敌人。"},1120163]
[1120164,{"$f":"CONCATENATE(IFERROR(VLOOKUP(A915,[1]SkillConfig!$D:$F,3,FALSE),\"\"),IFERROR(VLOOKUP(A915,[1]SkillConfig!$E:$G,3,FALSE),\"\"),IFERROR(VLOOKUP(A915,[1]SkillConfig!$V:$AF,11,FALSE),\"\"))","v":"前方功法会对目标附加阴水。目标身上有寒气时则会将阴水转换为冰冻值。冰冻值到达一定程度后冰冻敌人。"},1120164]
[1120165,{"$f":"CONCATENATE(IFERROR(VLOOKUP(A916,[1]SkillConfig!$D:$F,3,FALSE),\"\"),IFERROR(VLOOKUP(A916,[1]SkillConfig!$E:$G,3,FALSE),\"\"),IFERROR(VLOOKUP(A916,[1]SkillConfig!$V:$AF,11,FALSE),\"\"))","v":"前方功法会对目标附加阴水。目标身上有寒气时则会将阴水转换为冰冻值。冰冻值到达一定程度后冰冻敌人。"},1120165]
[null,{"$f":"CONCATENATE(IFERROR(VLOOKUP(A917,[1]SkillConfig!$D:$F,3,FALSE),\"\"),IFERROR(VLOOKUP(A917,[1]SkillConfig!$E:$G,3,FALSE),\"\"),IFERROR(VLOOKUP(A917,[1]SkillConfig!$V:$AF,11,FALSE),\"\"))","v":""}]
[1120170,{"$f":"CONCATENATE(IFERROR(VLOOKUP(A918,[1]SkillConfig!$D:$F,3,FALSE),\"\"),IFERROR(VLOOKUP(A918,[1]SkillConfig!$E:$G,3,FALSE),\"\"),IFERROR(VLOOKUP(A918,[1]SkillConfig!$V:$AF,11,FALSE),\"\"))","v":"为前方功法附加上灵气汇聚而成的可燃物质，使火属性伤害提升{0}%并额外施加一层灼烧"},1120170]
[1120171,{"$f":"CONCATENATE(IFERROR(VLOOKUP(A919,[1]SkillConfig!$D:$F,3,FALSE),\"\"),IFERROR(VLOOKUP(A919,[1]SkillConfig!$E:$G,3,FALSE),\"\"),IFERROR(VLOOKUP(A919,[1]SkillConfig!$V:$AF,11,FALSE),\"\"))","v":"为前方功法附加上灵气汇聚而成的可燃物质，使火属性伤害提升{0}%并额外施加一层灼烧"},1120171]
[1120172,{"$f":"CONCATENATE(IFERROR(VLOOKUP(A920,[1]SkillConfig!$D:$F,3,FALSE),\"\"),IFERROR(VLOOKUP(A920,[1]SkillConfig!$E:$G,3,FALSE),\"\"),IFERROR(VLOOKUP(A920,[1]SkillConfig!$V:$AF,11,FALSE),\"\"))","v":"为前方功法附加上灵气汇聚而成的可燃物质，使火属性伤害提升{0}%并额外施加一层灼烧"},1120172]
[1120173,{"$f":"CONCATENATE(IFERROR(VLOOKUP(A921,[1]SkillConfig!$D:$F,3,FALSE),\"\"),IFERROR(VLOOKUP(A921,[1]SkillConfig!$E:$G,3,FALSE),\"\"),IFERROR(VLOOKUP(A921,[1]SkillConfig!$V:$AF,11,FALSE),\"\"))","v":"为前方功法附加上灵气汇聚而成的可燃物质，使火属性伤害提升{0}%并额外施加一层灼烧"},1120173]
[1120174,{"$f":"CONCATENATE(IFERROR(VLOOKUP(A922,[1]SkillConfig!$D:$F,3,FALSE),\"\"),IFERROR(VLOOKUP(A922,[1]SkillConfig!$E:$G,3,FALSE),\"\"),IFERROR(VLOOKUP(A922,[1]SkillConfig!$V:$AF,11,FALSE),\"\"))","v":"为前方功法附加上灵气汇聚而成的可燃物质，使火属性伤害提升{0}%并额外施加一层灼烧"},1120174]
[1120175,{"$f":"CONCATENATE(IFERROR(VLOOKUP(A923,[1]SkillConfig!$D:$F,3,FALSE),\"\"),IFERROR(VLOOKUP(A923,[1]SkillConfig!$E:$G,3,FALSE),\"\"),IFERROR(VLOOKUP(A923,[1]SkillConfig!$V:$AF,11,FALSE),\"\"))","v":"为前方功法附加上灵气汇聚而成的可燃物质，使火属性伤害提升{0}%并额外施加一层灼烧"},1120175]
[null,{"$f":"CONCATENATE(IFERROR(VLOOKUP(A924,[1]SkillConfig!$D:$F,3,FALSE),\"\"),IFERROR(VLOOKUP(A924,[1]SkillConfig!$E:$G,3,FALSE),\"\"),IFERROR(VLOOKUP(A924,[1]SkillConfig!$V:$AF,11,FALSE),\"\"))","v":""}]
[1120180,{"$f":"CONCATENATE(IFERROR(VLOOKUP(A925,[1]SkillConfig!$D:$F,3,FALSE),\"\"),IFERROR(VLOOKUP(A925,[1]SkillConfig!$E:$G,3,FALSE),\"\"),IFERROR(VLOOKUP(A925,[1]SkillConfig!$V:$AF,11,FALSE),\"\"))","v":"每催动一次土系功法获得{0}层厚土增益，达到100层后防御力增加{1}%。持续{2}秒，每对敌人施加一次细尘额外获得{3}层"},1120180]
[1120181,{"$f":"CONCATENATE(IFERROR(VLOOKUP(A926,[1]SkillConfig!$D:$F,3,FALSE),\"\"),IFERROR(VLOOKUP(A926,[1]SkillConfig!$E:$G,3,FALSE),\"\"),IFERROR(VLOOKUP(A926,[1]SkillConfig!$V:$AF,11,FALSE),\"\"))","v":"每催动一次土系功法获得{0}层厚土增益，达到100层后防御力增加{1}%。持续{2}秒，每对敌人施加一次细尘额外获得{3}层"},1120181]
[1120182,{"$f":"CONCATENATE(IFERROR(VLOOKUP(A927,[1]SkillConfig!$D:$F,3,FALSE),\"\"),IFERROR(VLOOKUP(A927,[1]SkillConfig!$E:$G,3,FALSE),\"\"),IFERROR(VLOOKUP(A927,[1]SkillConfig!$V:$AF,11,FALSE),\"\"))","v":"每催动一次土系功法获得{0}层厚土增益，达到100层后防御力增加{1}%。持续{2}秒，每对敌人施加一次细尘额外获得{3}层"},1120182]
[1120183,{"$f":"CONCATENATE(IFERROR(VLOOKUP(A928,[1]SkillConfig!$D:$F,3,FALSE),\"\"),IFERROR(VLOOKUP(A928,[1]SkillConfig!$E:$G,3,FALSE),\"\"),IFERROR(VLOOKUP(A928,[1]SkillConfig!$V:$AF,11,FALSE),\"\"))","v":"每催动一次土系功法获得{0}层厚土增益，达到100层后防御力增加{1}%。持续{2}秒，每对敌人施加一次细尘额外获得{3}层"},1120183]
[1120184,{"$f":"CONCATENATE(IFERROR(VLOOKUP(A929,[1]SkillConfig!$D:$F,3,FALSE),\"\"),IFERROR(VLOOKUP(A929,[1]SkillConfig!$E:$G,3,FALSE),\"\"),IFERROR(VLOOKUP(A929,[1]SkillConfig!$V:$AF,11,FALSE),\"\"))","v":"每催动一次土系功法获得{0}层厚土增益，达到100层后防御力增加{1}%。持续{2}秒，每对敌人施加一次细尘额外获得{3}层"},1120184]
[1120185,{"$f":"CONCATENATE(IFERROR(VLOOKUP(A930,[1]SkillConfig!$D:$F,3,FALSE),\"\"),IFERROR(VLOOKUP(A930,[1]SkillConfig!$E:$G,3,FALSE),\"\"),IFERROR(VLOOKUP(A930,[1]SkillConfig!$V:$AF,11,FALSE),\"\"))","v":"每催动一次土系功法获得{0}层厚土增益，达到100层后防御力增加{1}%。持续{2}秒，每对敌人施加一次细尘额外获得{3}层"},1120185]
[null,{"$f":"CONCATENATE(IFERROR(VLOOKUP(A931,[1]SkillConfig!$D:$F,3,FALSE),\"\"),IFERROR(VLOOKUP(A931,[1]SkillConfig!$E:$G,3,FALSE),\"\"),IFERROR(VLOOKUP(A931,[1]SkillConfig!$V:$AF,11,FALSE),\"\"))","v":""}]
[1120190,{"$f":"CONCATENATE(IFERROR(VLOOKUP(A932,[1]SkillConfig!$D:$F,3,FALSE),\"\"),IFERROR(VLOOKUP(A932,[1]SkillConfig!$E:$G,3,FALSE),\"\"),IFERROR(VLOOKUP(A932,[1]SkillConfig!$V:$AF,11,FALSE),\"\"))","v":"前方功法命中目标时额外施加1层细尘。并将细尘的的\n品质提升为金沙，效果提升{0}%"},1120190]
[1120191,{"$f":"CONCATENATE(IFERROR(VLOOKUP(A933,[1]SkillConfig!$D:$F,3,FALSE),\"\"),IFERROR(VLOOKUP(A933,[1]SkillConfig!$E:$G,3,FALSE),\"\"),IFERROR(VLOOKUP(A933,[1]SkillConfig!$V:$AF,11,FALSE),\"\"))","v":"前方功法命中目标时额外施加1层细尘。并将细尘的的\n品质提升为金沙，效果提升{0}%"},1120191]
[1120192,{"$f":"CONCATENATE(IFERROR(VLOOKUP(A934,[1]SkillConfig!$D:$F,3,FALSE),\"\"),IFERROR(VLOOKUP(A934,[1]SkillConfig!$E:$G,3,FALSE),\"\"),IFERROR(VLOOKUP(A934,[1]SkillConfig!$V:$AF,11,FALSE),\"\"))","v":"前方功法命中目标时额外施加1层细尘。并将细尘的的\n品质提升为金沙，效果提升{0}%"},1120192]
[1120193,{"$f":"CONCATENATE(IFERROR(VLOOKUP(A935,[1]SkillConfig!$D:$F,3,FALSE),\"\"),IFERROR(VLOOKUP(A935,[1]SkillConfig!$E:$G,3,FALSE),\"\"),IFERROR(VLOOKUP(A935,[1]SkillConfig!$V:$AF,11,FALSE),\"\"))","v":"前方功法命中目标时额外施加1层细尘。并将细尘的的\n品质提升为金沙，效果提升{0}%"},1120193]
[1120194,{"$f":"CONCATENATE(IFERROR(VLOOKUP(A936,[1]SkillConfig!$D:$F,3,FALSE),\"\"),IFERROR(VLOOKUP(A936,[1]SkillConfig!$E:$G,3,FALSE),\"\"),IFERROR(VLOOKUP(A936,[1]SkillConfig!$V:$AF,11,FALSE),\"\"))","v":"前方功法命中目标时额外施加1层细尘。并将细尘的的\n品质提升为金沙，效果提升{0}%"},1120194]
[1120195,{"$f":"CONCATENATE(IFERROR(VLOOKUP(A937,[1]SkillConfig!$D:$F,3,FALSE),\"\"),IFERROR(VLOOKUP(A937,[1]SkillConfig!$E:$G,3,FALSE),\"\"),IFERROR(VLOOKUP(A937,[1]SkillConfig!$V:$AF,11,FALSE),\"\"))","v":"前方功法命中目标时额外施加1层细尘。并将细尘的的\n品质提升为金沙，效果提升{0}%"},1120195]
[null,{"$f":"CONCATENATE(IFERROR(VLOOKUP(A938,[1]SkillConfig!$D:$F,3,FALSE),\"\"),IFERROR(VLOOKUP(A938,[1]SkillConfig!$E:$G,3,FALSE),\"\"),IFERROR(VLOOKUP(A938,[1]SkillConfig!$V:$AF,11,FALSE),\"\"))","v":""}]
[null,{"$f":"CONCATENATE(IFERROR(VLOOKUP(A939,[1]SkillConfig!$D:$F,3,FALSE),\"\"),IFERROR(VLOOKUP(A939,[1]SkillConfig!$E:$G,3,FALSE),\"\"),IFERROR(VLOOKUP(A939,[1]SkillConfig!$V:$AF,11,FALSE),\"\"))","v":""}]
[1131010,{"$f":"CONCATENATE(IFERROR(VLOOKUP(A940,[1]SkillConfig!$D:$F,3,FALSE),\"\"),IFERROR(VLOOKUP(A940,[1]SkillConfig!$E:$G,3,FALSE),\"\"),IFERROR(VLOOKUP(A940,[1]SkillConfig!$V:$AF,11,FALSE),\"\"))","v":"对敌人造成{0}%攻击力的伤害。使敌人五行混乱，敌人每次使用功法都将使用最低灵根属性作为伤害计算，持续{1}秒"},1131010]
[1131011,{"$f":"CONCATENATE(IFERROR(VLOOKUP(A941,[1]SkillConfig!$D:$F,3,FALSE),\"\"),IFERROR(VLOOKUP(A941,[1]SkillConfig!$E:$G,3,FALSE),\"\"),IFERROR(VLOOKUP(A941,[1]SkillConfig!$V:$AF,11,FALSE),\"\"))","v":"对敌人造成{0}%攻击力的伤害。使敌人五行混乱，敌人每次使用功法都将使用最低灵根属性作为伤害计算，持续{1}秒"},1131011]
[1131012,{"$f":"CONCATENATE(IFERROR(VLOOKUP(A942,[1]SkillConfig!$D:$F,3,FALSE),\"\"),IFERROR(VLOOKUP(A942,[1]SkillConfig!$E:$G,3,FALSE),\"\"),IFERROR(VLOOKUP(A942,[1]SkillConfig!$V:$AF,11,FALSE),\"\"))","v":"对敌人造成{0}%攻击力的伤害。使敌人五行混乱，敌人每次使用功法都将使用最低灵根属性作为伤害计算，持续{1}秒"},1131012]
[1131013,{"$f":"CONCATENATE(IFERROR(VLOOKUP(A943,[1]SkillConfig!$D:$F,3,FALSE),\"\"),IFERROR(VLOOKUP(A943,[1]SkillConfig!$E:$G,3,FALSE),\"\"),IFERROR(VLOOKUP(A943,[1]SkillConfig!$V:$AF,11,FALSE),\"\"))","v":"对敌人造成{0}%攻击力的伤害。使敌人五行混乱，敌人每次使用功法都将使用最低灵根属性作为伤害计算，持续{1}秒"},1131013]
[1131014,{"$f":"CONCATENATE(IFERROR(VLOOKUP(A944,[1]SkillConfig!$D:$F,3,FALSE),\"\"),IFERROR(VLOOKUP(A944,[1]SkillConfig!$E:$G,3,FALSE),\"\"),IFERROR(VLOOKUP(A944,[1]SkillConfig!$V:$AF,11,FALSE),\"\"))","v":"对敌人造成{0}%攻击力的伤害。使敌人五行混乱，敌人每次使用功法都将使用最低灵根属性作为伤害计算，持续{1}秒"},1131014]
[1131015,{"$f":"CONCATENATE(IFERROR(VLOOKUP(A945,[1]SkillConfig!$D:$F,3,FALSE),\"\"),IFERROR(VLOOKUP(A945,[1]SkillConfig!$E:$G,3,FALSE),\"\"),IFERROR(VLOOKUP(A945,[1]SkillConfig!$V:$AF,11,FALSE),\"\"))","v":"对敌人造成{0}%攻击力的伤害。使敌人五行混乱，敌人每次使用功法都将使用最低灵根属性作为伤害计算，持续{1}秒\n神龙鼎生效期间，敌人的所有灵根降低{2}%。"},1131015]
[null,{"$f":"CONCATENATE(IFERROR(VLOOKUP(A946,[1]SkillConfig!$D:$F,3,FALSE),\"\"),IFERROR(VLOOKUP(A946,[1]SkillConfig!$E:$G,3,FALSE),\"\"),IFERROR(VLOOKUP(A946,[1]SkillConfig!$V:$AF,11,FALSE),\"\"))","v":""}]
[1131020,{"$f":"CONCATENATE(IFERROR(VLOOKUP(A947,[1]SkillConfig!$D:$F,3,FALSE),\"\"),IFERROR(VLOOKUP(A947,[1]SkillConfig!$E:$G,3,FALSE),\"\"),IFERROR(VLOOKUP(A947,[1]SkillConfig!$V:$AF,11,FALSE),\"\"))","v":"无视敌人灵根，对敌人造成{0}%攻击力的伤害，同时让五行伤势+1"},1131020]
[1131021,{"$f":"CONCATENATE(IFERROR(VLOOKUP(A948,[1]SkillConfig!$D:$F,3,FALSE),\"\"),IFERROR(VLOOKUP(A948,[1]SkillConfig!$E:$G,3,FALSE),\"\"),IFERROR(VLOOKUP(A948,[1]SkillConfig!$V:$AF,11,FALSE),\"\"))","v":"无视敌人灵根，对敌人造成{0}%攻击力的伤害，同时让五行伤势+1"},1131021]
[1131022,{"$f":"CONCATENATE(IFERROR(VLOOKUP(A949,[1]SkillConfig!$D:$F,3,FALSE),\"\"),IFERROR(VLOOKUP(A949,[1]SkillConfig!$E:$G,3,FALSE),\"\"),IFERROR(VLOOKUP(A949,[1]SkillConfig!$V:$AF,11,FALSE),\"\"))","v":"无视敌人灵根，对敌人造成{0}%攻击力的伤害，同时让五行伤势+1"},1131022]
[1131023,{"$f":"CONCATENATE(IFERROR(VLOOKUP(A950,[1]SkillConfig!$D:$F,3,FALSE),\"\"),IFERROR(VLOOKUP(A950,[1]SkillConfig!$E:$G,3,FALSE),\"\"),IFERROR(VLOOKUP(A950,[1]SkillConfig!$V:$AF,11,FALSE),\"\"))","v":"无视敌人灵根，对敌人造成{0}%攻击力的伤害，同时让五行伤势+1"},1131023]
[1131024,{"$f":"CONCATENATE(IFERROR(VLOOKUP(A951,[1]SkillConfig!$D:$F,3,FALSE),\"\"),IFERROR(VLOOKUP(A951,[1]SkillConfig!$E:$G,3,FALSE),\"\"),IFERROR(VLOOKUP(A951,[1]SkillConfig!$V:$AF,11,FALSE),\"\"))","v":"无视敌人灵根，对敌人造成{0}%攻击力的伤害，同时让五行伤势+1"},1131024]
[1131025,{"$f":"CONCATENATE(IFERROR(VLOOKUP(A952,[1]SkillConfig!$D:$F,3,FALSE),\"\"),IFERROR(VLOOKUP(A952,[1]SkillConfig!$E:$G,3,FALSE),\"\"),IFERROR(VLOOKUP(A952,[1]SkillConfig!$V:$AF,11,FALSE),\"\"))","v":"无视敌人灵根，对敌人造成{0}%攻击力的伤害，同时让五行伤势+1"},1131025]
[null,{"$f":"CONCATENATE(IFERROR(VLOOKUP(A953,[1]SkillConfig!$D:$F,3,FALSE),\"\"),IFERROR(VLOOKUP(A953,[1]SkillConfig!$E:$G,3,FALSE),\"\"),IFERROR(VLOOKUP(A953,[1]SkillConfig!$V:$AF,11,FALSE),\"\"))","v":""}]
[1132010,{"$f":"CONCATENATE(IFERROR(VLOOKUP(A954,[1]SkillConfig!$D:$F,3,FALSE),\"\"),IFERROR(VLOOKUP(A954,[1]SkillConfig!$E:$G,3,FALSE),\"\"),IFERROR(VLOOKUP(A954,[1]SkillConfig!$V:$AF,11,FALSE),\"\"))","v":"祭出法宝在场上形成一个域。敌方功法弹道进入域后将降低{0}%的功法弹道速度，持续{1}秒"},1132010]
[1132011,{"$f":"CONCATENATE(IFERROR(VLOOKUP(A955,[1]SkillConfig!$D:$F,3,FALSE),\"\"),IFERROR(VLOOKUP(A955,[1]SkillConfig!$E:$G,3,FALSE),\"\"),IFERROR(VLOOKUP(A955,[1]SkillConfig!$V:$AF,11,FALSE),\"\"))","v":"祭出法宝在场上形成一个域。敌方功法弹道进入域后将降低{0}%的功法弹道速度，持续{1}秒"},1132011]
[1132012,{"$f":"CONCATENATE(IFERROR(VLOOKUP(A956,[1]SkillConfig!$D:$F,3,FALSE),\"\"),IFERROR(VLOOKUP(A956,[1]SkillConfig!$E:$G,3,FALSE),\"\"),IFERROR(VLOOKUP(A956,[1]SkillConfig!$V:$AF,11,FALSE),\"\"))","v":"祭出法宝在场上形成一个域。敌方功法弹道进入域后将降低{0}%的功法弹道速度，持续{1}秒"},1132012]
[1132013,{"$f":"CONCATENATE(IFERROR(VLOOKUP(A957,[1]SkillConfig!$D:$F,3,FALSE),\"\"),IFERROR(VLOOKUP(A957,[1]SkillConfig!$E:$G,3,FALSE),\"\"),IFERROR(VLOOKUP(A957,[1]SkillConfig!$V:$AF,11,FALSE),\"\"))","v":"祭出法宝在场上形成一个域。敌方功法弹道进入域后将降低{0}%的功法弹道速度，持续{1}秒"},1132013]
[1132014,{"$f":"CONCATENATE(IFERROR(VLOOKUP(A958,[1]SkillConfig!$D:$F,3,FALSE),\"\"),IFERROR(VLOOKUP(A958,[1]SkillConfig!$E:$G,3,FALSE),\"\"),IFERROR(VLOOKUP(A958,[1]SkillConfig!$V:$AF,11,FALSE),\"\"))","v":"祭出法宝在场上形成一个域。敌方功法弹道进入域后将降低{0}%的功法弹道速度，持续{1}秒"},1132014]
[1132015,{"$f":"CONCATENATE(IFERROR(VLOOKUP(A959,[1]SkillConfig!$D:$F,3,FALSE),\"\"),IFERROR(VLOOKUP(A959,[1]SkillConfig!$E:$G,3,FALSE),\"\"),IFERROR(VLOOKUP(A959,[1]SkillConfig!$V:$AF,11,FALSE),\"\"))","v":"祭出法宝在场上形成一个域。敌方功法弹道进入域后将降低{0}%的功法弹道速度，持续{1}秒\n受影响的敌方功法强度将降低{2}%"},1132015]
[null,{"$f":"CONCATENATE(IFERROR(VLOOKUP(A960,[1]SkillConfig!$D:$F,3,FALSE),\"\"),IFERROR(VLOOKUP(A960,[1]SkillConfig!$E:$G,3,FALSE),\"\"),IFERROR(VLOOKUP(A960,[1]SkillConfig!$V:$AF,11,FALSE),\"\"))","v":""}]
[1132020,{"$f":"CONCATENATE(IFERROR(VLOOKUP(A961,[1]SkillConfig!$D:$F,3,FALSE),\"\"),IFERROR(VLOOKUP(A961,[1]SkillConfig!$E:$G,3,FALSE),\"\"),IFERROR(VLOOKUP(A961,[1]SkillConfig!$V:$AF,11,FALSE),\"\"))","v":"使用后{2}秒内所有灵根提升{0}%，一场战斗可使用{1}次"},1132020]
[1132021,{"$f":"CONCATENATE(IFERROR(VLOOKUP(A962,[1]SkillConfig!$D:$F,3,FALSE),\"\"),IFERROR(VLOOKUP(A962,[1]SkillConfig!$E:$G,3,FALSE),\"\"),IFERROR(VLOOKUP(A962,[1]SkillConfig!$V:$AF,11,FALSE),\"\"))","v":"使用后{2}秒内所有灵根提升{0}%，一场战斗可使用{1}次"},1132021]
[1132022,{"$f":"CONCATENATE(IFERROR(VLOOKUP(A963,[1]SkillConfig!$D:$F,3,FALSE),\"\"),IFERROR(VLOOKUP(A963,[1]SkillConfig!$E:$G,3,FALSE),\"\"),IFERROR(VLOOKUP(A963,[1]SkillConfig!$V:$AF,11,FALSE),\"\"))","v":"使用后{2}秒内所有灵根提升{0}%，一场战斗可使用{1}次"},1132022]
[1132023,{"$f":"CONCATENATE(IFERROR(VLOOKUP(A964,[1]SkillConfig!$D:$F,3,FALSE),\"\"),IFERROR(VLOOKUP(A964,[1]SkillConfig!$E:$G,3,FALSE),\"\"),IFERROR(VLOOKUP(A964,[1]SkillConfig!$V:$AF,11,FALSE),\"\"))","v":"使用后{2}秒内所有灵根提升{0}%，一场战斗可使用{1}次"},1132023]
[1132024,{"$f":"CONCATENATE(IFERROR(VLOOKUP(A965,[1]SkillConfig!$D:$F,3,FALSE),\"\"),IFERROR(VLOOKUP(A965,[1]SkillConfig!$E:$G,3,FALSE),\"\"),IFERROR(VLOOKUP(A965,[1]SkillConfig!$V:$AF,11,FALSE),\"\"))","v":"使用后{2}秒内所有灵根提升{0}%，一场战斗可使用{1}次"},1132024]
[1132025,{"$f":"CONCATENATE(IFERROR(VLOOKUP(A966,[1]SkillConfig!$D:$F,3,FALSE),\"\"),IFERROR(VLOOKUP(A966,[1]SkillConfig!$E:$G,3,FALSE),\"\"),IFERROR(VLOOKUP(A966,[1]SkillConfig!$V:$AF,11,FALSE),\"\"))","v":"使用后{2}秒内所有灵根提升{0}%，一场战斗可使用{1}次\n混沌珠生效期间，己方所有功法额外增伤{3}%"},1132025]
[null,{"$f":"CONCATENATE(IFERROR(VLOOKUP(A967,[1]SkillConfig!$D:$F,3,FALSE),\"\"),IFERROR(VLOOKUP(A967,[1]SkillConfig!$E:$G,3,FALSE),\"\"),IFERROR(VLOOKUP(A967,[1]SkillConfig!$V:$AF,11,FALSE),\"\"))","v":""}]
[1132030,{"$f":"CONCATENATE(IFERROR(VLOOKUP(A968,[1]SkillConfig!$D:$F,3,FALSE),\"\"),IFERROR(VLOOKUP(A968,[1]SkillConfig!$E:$G,3,FALSE),\"\"),IFERROR(VLOOKUP(A968,[1]SkillConfig!$V:$AF,11,FALSE),\"\"))","v":"对敌人造成{0}%攻击力的伤害，随机封锁敌人的{1}个经脉使其{2}秒无法流动"},1132030]
[1132031,{"$f":"CONCATENATE(IFERROR(VLOOKUP(A969,[1]SkillConfig!$D:$F,3,FALSE),\"\"),IFERROR(VLOOKUP(A969,[1]SkillConfig!$E:$G,3,FALSE),\"\"),IFERROR(VLOOKUP(A969,[1]SkillConfig!$V:$AF,11,FALSE),\"\"))","v":"对敌人造成{0}%攻击力的伤害，随机封锁敌人的{1}个经脉使其{2}秒无法流动"},1132031]
[1132032,{"$f":"CONCATENATE(IFERROR(VLOOKUP(A970,[1]SkillConfig!$D:$F,3,FALSE),\"\"),IFERROR(VLOOKUP(A970,[1]SkillConfig!$E:$G,3,FALSE),\"\"),IFERROR(VLOOKUP(A970,[1]SkillConfig!$V:$AF,11,FALSE),\"\"))","v":"对敌人造成{0}%攻击力的伤害，随机封锁敌人的{1}个经脉使其{2}秒无法流动"},1132032]
[1132033,{"$f":"CONCATENATE(IFERROR(VLOOKUP(A971,[1]SkillConfig!$D:$F,3,FALSE),\"\"),IFERROR(VLOOKUP(A971,[1]SkillConfig!$E:$G,3,FALSE),\"\"),IFERROR(VLOOKUP(A971,[1]SkillConfig!$V:$AF,11,FALSE),\"\"))","v":"对敌人造成{0}%攻击力的伤害，随机封锁敌人的{1}个经脉使其{2}秒无法流动"},1132033]
[1132034,{"$f":"CONCATENATE(IFERROR(VLOOKUP(A972,[1]SkillConfig!$D:$F,3,FALSE),\"\"),IFERROR(VLOOKUP(A972,[1]SkillConfig!$E:$G,3,FALSE),\"\"),IFERROR(VLOOKUP(A972,[1]SkillConfig!$V:$AF,11,FALSE),\"\"))","v":"对敌人造成{0}%攻击力的伤害，随机封锁敌人的{1}个经脉使其{2}秒无法流动"},1132034]
[1132035,{"$f":"CONCATENATE(IFERROR(VLOOKUP(A973,[1]SkillConfig!$D:$F,3,FALSE),\"\"),IFERROR(VLOOKUP(A973,[1]SkillConfig!$E:$G,3,FALSE),\"\"),IFERROR(VLOOKUP(A973,[1]SkillConfig!$V:$AF,11,FALSE),\"\"))","v":"对敌人造成{0}%攻击力的伤害，随机封锁敌人的{1}个经脉使其{2}秒无法流动"},1132035]
[null,{"$f":"CONCATENATE(IFERROR(VLOOKUP(A974,[1]SkillConfig!$D:$F,3,FALSE),\"\"),IFERROR(VLOOKUP(A974,[1]SkillConfig!$E:$G,3,FALSE),\"\"),IFERROR(VLOOKUP(A974,[1]SkillConfig!$V:$AF,11,FALSE),\"\"))","v":""}]
[1133010,{"$f":"CONCATENATE(IFERROR(VLOOKUP(A975,[1]SkillConfig!$D:$F,3,FALSE),\"\"),IFERROR(VLOOKUP(A975,[1]SkillConfig!$E:$G,3,FALSE),\"\"),IFERROR(VLOOKUP(A975,[1]SkillConfig!$V:$AF,11,FALSE),\"\"))","v":"对敌人造成{2}%伤害，并随机封锁敌人{0}个法宝，让其{1}秒内不能使用"},1133010]
[1133011,{"$f":"CONCATENATE(IFERROR(VLOOKUP(A976,[1]SkillConfig!$D:$F,3,FALSE),\"\"),IFERROR(VLOOKUP(A976,[1]SkillConfig!$E:$G,3,FALSE),\"\"),IFERROR(VLOOKUP(A976,[1]SkillConfig!$V:$AF,11,FALSE),\"\"))","v":"对敌人造成{2}%伤害，并随机封锁敌人{0}个法宝，让其{1}秒内不能使用"},1133011]
[1133012,{"$f":"CONCATENATE(IFERROR(VLOOKUP(A977,[1]SkillConfig!$D:$F,3,FALSE),\"\"),IFERROR(VLOOKUP(A977,[1]SkillConfig!$E:$G,3,FALSE),\"\"),IFERROR(VLOOKUP(A977,[1]SkillConfig!$V:$AF,11,FALSE),\"\"))","v":"对敌人造成{2}%伤害，并随机封锁敌人{0}个法宝，让其{1}秒内不能使用"},1133012]
[1133013,{"$f":"CONCATENATE(IFERROR(VLOOKUP(A978,[1]SkillConfig!$D:$F,3,FALSE),\"\"),IFERROR(VLOOKUP(A978,[1]SkillConfig!$E:$G,3,FALSE),\"\"),IFERROR(VLOOKUP(A978,[1]SkillConfig!$V:$AF,11,FALSE),\"\"))","v":"对敌人造成{2}%伤害，并随机封锁敌人{0}个法宝，让其{1}秒内不能使用\n如果影响的法宝是相生法宝，则使其充能时间延长{3}%直至战斗结束"},1133013]
[1133014,{"$f":"CONCATENATE(IFERROR(VLOOKUP(A979,[1]SkillConfig!$D:$F,3,FALSE),\"\"),IFERROR(VLOOKUP(A979,[1]SkillConfig!$E:$G,3,FALSE),\"\"),IFERROR(VLOOKUP(A979,[1]SkillConfig!$V:$AF,11,FALSE),\"\"))","v":"对敌人造成{2}%伤害，并随机封锁敌人{0}个法宝，让其{1}秒内不能使用\n如果影响的法宝是相生法宝，则使其充能时间延长{3}%直至战斗结束"},1133014]
[1133015,{"$f":"CONCATENATE(IFERROR(VLOOKUP(A980,[1]SkillConfig!$D:$F,3,FALSE),\"\"),IFERROR(VLOOKUP(A980,[1]SkillConfig!$E:$G,3,FALSE),\"\"),IFERROR(VLOOKUP(A980,[1]SkillConfig!$V:$AF,11,FALSE),\"\"))","v":"对敌人造成{2}%伤害，并随机封锁敌人{0}个法宝，让其{1}秒内不能使用\n如果影响的法宝是相生法宝，则使其充能时间延长{3}%直至战斗结束"},1133015]
[null,{"$f":"CONCATENATE(IFERROR(VLOOKUP(A981,[1]SkillConfig!$D:$F,3,FALSE),\"\"),IFERROR(VLOOKUP(A981,[1]SkillConfig!$E:$G,3,FALSE),\"\"),IFERROR(VLOOKUP(A981,[1]SkillConfig!$V:$AF,11,FALSE),\"\"))","v":""}]
[1133020,{"$f":"CONCATENATE(IFERROR(VLOOKUP(A982,[1]SkillConfig!$D:$F,3,FALSE),\"\"),IFERROR(VLOOKUP(A982,[1]SkillConfig!$E:$G,3,FALSE),\"\"),IFERROR(VLOOKUP(A982,[1]SkillConfig!$V:$AF,11,FALSE),\"\"))","v":"祭出一盏明灯围绕周身，在{0}秒内抵消所有负面效果，每{1}秒触发1次。"},1133020]
[1133021,{"$f":"CONCATENATE(IFERROR(VLOOKUP(A983,[1]SkillConfig!$D:$F,3,FALSE),\"\"),IFERROR(VLOOKUP(A983,[1]SkillConfig!$E:$G,3,FALSE),\"\"),IFERROR(VLOOKUP(A983,[1]SkillConfig!$V:$AF,11,FALSE),\"\"))","v":"祭出一盏明灯围绕周身，在{0}秒内抵消所有负面效果，每{1}秒触发1次。"},1133021]
[1133022,{"$f":"CONCATENATE(IFERROR(VLOOKUP(A984,[1]SkillConfig!$D:$F,3,FALSE),\"\"),IFERROR(VLOOKUP(A984,[1]SkillConfig!$E:$G,3,FALSE),\"\"),IFERROR(VLOOKUP(A984,[1]SkillConfig!$V:$AF,11,FALSE),\"\"))","v":"祭出一盏明灯围绕周身，在{0}秒内抵消所有负面效果，每{1}秒触发1次。"},1133022]
[1133023,{"$f":"CONCATENATE(IFERROR(VLOOKUP(A985,[1]SkillConfig!$D:$F,3,FALSE),\"\"),IFERROR(VLOOKUP(A985,[1]SkillConfig!$E:$G,3,FALSE),\"\"),IFERROR(VLOOKUP(A985,[1]SkillConfig!$V:$AF,11,FALSE),\"\"))","v":"祭出一盏明灯围绕周身，在{0}秒内抵消所有负面效果，每{1}秒触发1次。"},1133023]
[1133024,{"$f":"CONCATENATE(IFERROR(VLOOKUP(A986,[1]SkillConfig!$D:$F,3,FALSE),\"\"),IFERROR(VLOOKUP(A986,[1]SkillConfig!$E:$G,3,FALSE),\"\"),IFERROR(VLOOKUP(A986,[1]SkillConfig!$V:$AF,11,FALSE),\"\"))","v":"祭出一盏明灯围绕周身，在{0}秒内抵消所有负面效果，每{1}秒触发1次。"},1133024]
[1133025,{"$f":"CONCATENATE(IFERROR(VLOOKUP(A987,[1]SkillConfig!$D:$F,3,FALSE),\"\"),IFERROR(VLOOKUP(A987,[1]SkillConfig!$E:$G,3,FALSE),\"\"),IFERROR(VLOOKUP(A987,[1]SkillConfig!$V:$AF,11,FALSE),\"\"))","v":"祭出一盏明灯围绕周身，在{0}秒内抵消所有负面效果，每{1}秒触发1次。"},1133025]
[null,{"$f":"CONCATENATE(IFERROR(VLOOKUP(A988,[1]SkillConfig!$D:$F,3,FALSE),\"\"),IFERROR(VLOOKUP(A988,[1]SkillConfig!$E:$G,3,FALSE),\"\"),IFERROR(VLOOKUP(A988,[1]SkillConfig!$V:$AF,11,FALSE),\"\"))","v":""}]
[1134010,{"$f":"CONCATENATE(IFERROR(VLOOKUP(A989,[1]SkillConfig!$D:$F,3,FALSE),\"\"),IFERROR(VLOOKUP(A989,[1]SkillConfig!$E:$G,3,FALSE),\"\"),IFERROR(VLOOKUP(A989,[1]SkillConfig!$V:$AF,11,FALSE),\"\"))","v":"祭出宝塔在身前释放扇形的域，敌方的功法如果进入这个扇形区域有{0}%概率被法宝吸收，持续{1}秒"},1134010]
[1134011,{"$f":"CONCATENATE(IFERROR(VLOOKUP(A990,[1]SkillConfig!$D:$F,3,FALSE),\"\"),IFERROR(VLOOKUP(A990,[1]SkillConfig!$E:$G,3,FALSE),\"\"),IFERROR(VLOOKUP(A990,[1]SkillConfig!$V:$AF,11,FALSE),\"\"))","v":"祭出宝塔在身前释放扇形的域，敌方的功法如果进入这个扇形区域有{0}%概率被法宝吸收，持续{1}秒"},1134011]
[1134012,{"$f":"CONCATENATE(IFERROR(VLOOKUP(A991,[1]SkillConfig!$D:$F,3,FALSE),\"\"),IFERROR(VLOOKUP(A991,[1]SkillConfig!$E:$G,3,FALSE),\"\"),IFERROR(VLOOKUP(A991,[1]SkillConfig!$V:$AF,11,FALSE),\"\"))","v":"祭出宝塔在身前释放扇形的域，敌方的功法如果进入这个扇形区域有{0}%概率被法宝吸收，持续{1}秒"},1134012]
[1134013,{"$f":"CONCATENATE(IFERROR(VLOOKUP(A992,[1]SkillConfig!$D:$F,3,FALSE),\"\"),IFERROR(VLOOKUP(A992,[1]SkillConfig!$E:$G,3,FALSE),\"\"),IFERROR(VLOOKUP(A992,[1]SkillConfig!$V:$AF,11,FALSE),\"\"))","v":"祭出宝塔在身前释放扇形的域，敌方的功法如果进入这个扇形区域有{0}%概率被法宝吸收，持续{1}秒"},1134013]
[1134014,{"$f":"CONCATENATE(IFERROR(VLOOKUP(A993,[1]SkillConfig!$D:$F,3,FALSE),\"\"),IFERROR(VLOOKUP(A993,[1]SkillConfig!$E:$G,3,FALSE),\"\"),IFERROR(VLOOKUP(A993,[1]SkillConfig!$V:$AF,11,FALSE),\"\"))","v":"祭出宝塔在身前释放扇形的域，敌方的功法如果进入这个扇形区域有{0}%概率被法宝吸收，持续{1}秒"},1134014]
[1134015,{"$f":"CONCATENATE(IFERROR(VLOOKUP(A994,[1]SkillConfig!$D:$F,3,FALSE),\"\"),IFERROR(VLOOKUP(A994,[1]SkillConfig!$E:$G,3,FALSE),\"\"),IFERROR(VLOOKUP(A994,[1]SkillConfig!$V:$AF,11,FALSE),\"\"))","v":"祭出宝塔在身前释放扇形的域，敌方的功法如果进入这个扇形区域有{0}%概率被法宝吸收，持续{1}秒\n敌方功法被吸收后，将临时增加自身{2}点对应属性的灵根，持续{3}秒"},1134015]
[null,{"$f":"CONCATENATE(IFERROR(VLOOKUP(A995,[1]SkillConfig!$D:$F,3,FALSE),\"\"),IFERROR(VLOOKUP(A995,[1]SkillConfig!$E:$G,3,FALSE),\"\"),IFERROR(VLOOKUP(A995,[1]SkillConfig!$V:$AF,11,FALSE),\"\"))","v":""}]
[1134020,{"$f":"CONCATENATE(IFERROR(VLOOKUP(A996,[1]SkillConfig!$D:$F,3,FALSE),\"\"),IFERROR(VLOOKUP(A996,[1]SkillConfig!$E:$G,3,FALSE),\"\"),IFERROR(VLOOKUP(A996,[1]SkillConfig!$V:$AF,11,FALSE),\"\"))","v":"打断对手当前正在生效中的法宝"},1134020]
[1134021,{"$f":"CONCATENATE(IFERROR(VLOOKUP(A997,[1]SkillConfig!$D:$F,3,FALSE),\"\"),IFERROR(VLOOKUP(A997,[1]SkillConfig!$E:$G,3,FALSE),\"\"),IFERROR(VLOOKUP(A997,[1]SkillConfig!$V:$AF,11,FALSE),\"\"))","v":"可以打断准备生效中的法宝，且避免己方法宝进入对拼状态，持续{0}秒"},1134021]
[1134022,{"$f":"CONCATENATE(IFERROR(VLOOKUP(A998,[1]SkillConfig!$D:$F,3,FALSE),\"\"),IFERROR(VLOOKUP(A998,[1]SkillConfig!$E:$G,3,FALSE),\"\"),IFERROR(VLOOKUP(A998,[1]SkillConfig!$V:$AF,11,FALSE),\"\"))","v":"可以打断准备生效中的法宝，且避免己方法宝进入对拼状态，持续{0}秒"},1134022]
[1134023,{"$f":"CONCATENATE(IFERROR(VLOOKUP(A999,[1]SkillConfig!$D:$F,3,FALSE),\"\"),IFERROR(VLOOKUP(A999,[1]SkillConfig!$E:$G,3,FALSE),\"\"),IFERROR(VLOOKUP(A999,[1]SkillConfig!$V:$AF,11,FALSE),\"\"))","v":"可以打断准备生效中的法宝，且避免己方法宝进入对拼状态，持续{0}秒"},1134023]
[1134024,{"$f":"CONCATENATE(IFERROR(VLOOKUP(A1000,[1]SkillConfig!$D:$F,3,FALSE),\"\"),IFERROR(VLOOKUP(A1000,[1]SkillConfig!$E:$G,3,FALSE),\"\"),IFERROR(VLOOKUP(A1000,[1]SkillConfig!$V:$AF,11,FALSE),\"\"))","v":"可以打断准备生效中的法宝，且避免己方法宝进入对拼状态，持续{0}秒"},1134024]
[1134025,{"$f":"CONCATENATE(IFERROR(VLOOKUP(A1001,[1]SkillConfig!$D:$F,3,FALSE),\"\"),IFERROR(VLOOKUP(A1001,[1]SkillConfig!$E:$G,3,FALSE),\"\"),IFERROR(VLOOKUP(A1001,[1]SkillConfig!$V:$AF,11,FALSE),\"\"))","v":"可以打断准备生效中的法宝，且避免己方法宝进入对拼状态，持续{0}秒\n每打断一次法宝，禁元珠的冷却时间将缩减{1}%，最多{2}次"},1134025]
[null,{"$f":"CONCATENATE(IFERROR(VLOOKUP(A1002,[1]SkillConfig!$D:$F,3,FALSE),\"\"),IFERROR(VLOOKUP(A1002,[1]SkillConfig!$E:$G,3,FALSE),\"\"),IFERROR(VLOOKUP(A1002,[1]SkillConfig!$V:$AF,11,FALSE),\"\"))","v":""}]
[1135010,{"$f":"CONCATENATE(IFERROR(VLOOKUP(A1003,[1]SkillConfig!$D:$F,3,FALSE),\"\"),IFERROR(VLOOKUP(A1003,[1]SkillConfig!$E:$G,3,FALSE),\"\"),IFERROR(VLOOKUP(A1003,[1]SkillConfig!$V:$AF,11,FALSE),\"\"))","v":"前方形成生命值上限{0}%的土属性护盾，持续{1}秒"},1135010]
[1135011,{"$f":"CONCATENATE(IFERROR(VLOOKUP(A1004,[1]SkillConfig!$D:$F,3,FALSE),\"\"),IFERROR(VLOOKUP(A1004,[1]SkillConfig!$E:$G,3,FALSE),\"\"),IFERROR(VLOOKUP(A1004,[1]SkillConfig!$V:$AF,11,FALSE),\"\"))","v":"前方形成生命值上限{0}%的土属性护盾，持续{1}秒"},1135011]
[1135012,{"$f":"CONCATENATE(IFERROR(VLOOKUP(A1005,[1]SkillConfig!$D:$F,3,FALSE),\"\"),IFERROR(VLOOKUP(A1005,[1]SkillConfig!$E:$G,3,FALSE),\"\"),IFERROR(VLOOKUP(A1005,[1]SkillConfig!$V:$AF,11,FALSE),\"\"))","v":"前方形成生命值上限{0}%的土属性护盾，持续{1}秒"},1135012]
[1135013,{"$f":"CONCATENATE(IFERROR(VLOOKUP(A1006,[1]SkillConfig!$D:$F,3,FALSE),\"\"),IFERROR(VLOOKUP(A1006,[1]SkillConfig!$E:$G,3,FALSE),\"\"),IFERROR(VLOOKUP(A1006,[1]SkillConfig!$V:$AF,11,FALSE),\"\"))","v":"前方形成生命值上限{0}%的土属性护盾，持续{1}秒"},1135013]
[1135014,{"$f":"CONCATENATE(IFERROR(VLOOKUP(A1007,[1]SkillConfig!$D:$F,3,FALSE),\"\"),IFERROR(VLOOKUP(A1007,[1]SkillConfig!$E:$G,3,FALSE),\"\"),IFERROR(VLOOKUP(A1007,[1]SkillConfig!$V:$AF,11,FALSE),\"\"))","v":"前方形成生命值上限{0}%的土属性护盾，持续{1}秒"},1135014]
[1135015,{"$f":"CONCATENATE(IFERROR(VLOOKUP(A1008,[1]SkillConfig!$D:$F,3,FALSE),\"\"),IFERROR(VLOOKUP(A1008,[1]SkillConfig!$E:$G,3,FALSE),\"\"),IFERROR(VLOOKUP(A1008,[1]SkillConfig!$V:$AF,11,FALSE),\"\"))","v":"前方形成生命值上限{0}%的土属性护盾，持续{1}秒"},1135015]
[null,{"$f":"CONCATENATE(IFERROR(VLOOKUP(A1009,[1]SkillConfig!$D:$F,3,FALSE),\"\"),IFERROR(VLOOKUP(A1009,[1]SkillConfig!$E:$G,3,FALSE),\"\"),IFERROR(VLOOKUP(A1009,[1]SkillConfig!$V:$AF,11,FALSE),\"\"))","v":""}]
[1135020,{"$f":"CONCATENATE(IFERROR(VLOOKUP(A1010,[1]SkillConfig!$D:$F,3,FALSE),\"\"),IFERROR(VLOOKUP(A1010,[1]SkillConfig!$E:$G,3,FALSE),\"\"),IFERROR(VLOOKUP(A1010,[1]SkillConfig!$V:$AF,11,FALSE),\"\"))","v":"对敌人造成土属性伤害，并封锁敌人土系经脉6秒"},1135020]
[1135021,{"$f":"CONCATENATE(IFERROR(VLOOKUP(A1011,[1]SkillConfig!$D:$F,3,FALSE),\"\"),IFERROR(VLOOKUP(A1011,[1]SkillConfig!$E:$G,3,FALSE),\"\"),IFERROR(VLOOKUP(A1011,[1]SkillConfig!$V:$AF,11,FALSE),\"\"))","v":"对敌人造成土属性伤害，并封锁敌人土系经脉6秒"},1135021]
[1135022,{"$f":"CONCATENATE(IFERROR(VLOOKUP(A1012,[1]SkillConfig!$D:$F,3,FALSE),\"\"),IFERROR(VLOOKUP(A1012,[1]SkillConfig!$E:$G,3,FALSE),\"\"),IFERROR(VLOOKUP(A1012,[1]SkillConfig!$V:$AF,11,FALSE),\"\"))","v":"对敌人造成土属性伤害，并封锁敌人土系经脉6秒"},1135022]
[1135023,{"$f":"CONCATENATE(IFERROR(VLOOKUP(A1013,[1]SkillConfig!$D:$F,3,FALSE),\"\"),IFERROR(VLOOKUP(A1013,[1]SkillConfig!$E:$G,3,FALSE),\"\"),IFERROR(VLOOKUP(A1013,[1]SkillConfig!$V:$AF,11,FALSE),\"\"))","v":"对敌人造成土属性伤害，并封锁敌人土系经脉6秒"},1135023]
[1135024,{"$f":"CONCATENATE(IFERROR(VLOOKUP(A1014,[1]SkillConfig!$D:$F,3,FALSE),\"\"),IFERROR(VLOOKUP(A1014,[1]SkillConfig!$E:$G,3,FALSE),\"\"),IFERROR(VLOOKUP(A1014,[1]SkillConfig!$V:$AF,11,FALSE),\"\"))","v":"对敌人造成土属性伤害，并封锁敌人土系经脉6秒"},1135024]
[1135025,{"$f":"CONCATENATE(IFERROR(VLOOKUP(A1015,[1]SkillConfig!$D:$F,3,FALSE),\"\"),IFERROR(VLOOKUP(A1015,[1]SkillConfig!$E:$G,3,FALSE),\"\"),IFERROR(VLOOKUP(A1015,[1]SkillConfig!$V:$AF,11,FALSE),\"\"))","v":"对敌人造成土属性伤害，并封锁敌人土系经脉6秒"},1135025]
[null,{"$f":"CONCATENATE(IFERROR(VLOOKUP(A1016,[1]SkillConfig!$D:$F,3,FALSE),\"\"),IFERROR(VLOOKUP(A1016,[1]SkillConfig!$E:$G,3,FALSE),\"\"),IFERROR(VLOOKUP(A1016,[1]SkillConfig!$V:$AF,11,FALSE),\"\"))","v":""}]
[null,{"$f":"CONCATENATE(IFERROR(VLOOKUP(A1017,[1]SkillConfig!$D:$F,3,FALSE),\"\"),IFERROR(VLOOKUP(A1017,[1]SkillConfig!$E:$G,3,FALSE),\"\"),IFERROR(VLOOKUP(A1017,[1]SkillConfig!$V:$AF,11,FALSE),\"\"))","v":""}]
[1701011,{"$f":"CONCATENATE(IFERROR(VLOOKUP(A1018,[1]SkillConfig!$D:$F,3,FALSE),\"\"),IFERROR(VLOOKUP(A1018,[1]SkillConfig!$E:$G,3,FALSE),\"\"),IFERROR(VLOOKUP(A1018,[1]SkillConfig!$V:$AF,11,FALSE),\"\"))","v":"每次释放功法时获得{0}点能量，{1}点能量后提升{2}%转盘速度和{3}%攻击速度，持续{4}秒。"},1701011]
[1701021,{"$f":"CONCATENATE(IFERROR(VLOOKUP(A1019,[1]SkillConfig!$D:$F,3,FALSE),\"\"),IFERROR(VLOOKUP(A1019,[1]SkillConfig!$E:$G,3,FALSE),\"\"),IFERROR(VLOOKUP(A1019,[1]SkillConfig!$V:$AF,11,FALSE),\"\"))","v":"功法拥有生息之能，每次使用功法能获得1对应属性的充能，充能满后获得对应属性的加成 \n{0}金：提升{1}%攻击力 ,最大{2}%\n{0}木：恢复{3}%生命 \n{0}水：治疗最严重的伤势，使其伤势-{4} \n{0}火：功法强度提升{5}%，最大{6}%\n{0}土：玩家防御提升{7}%，最大{8}%"},1701021]
[1701031,{"$f":"CONCATENATE(IFERROR(VLOOKUP(A1020,[1]SkillConfig!$D:$F,3,FALSE),\"\"),IFERROR(VLOOKUP(A1020,[1]SkillConfig!$E:$G,3,FALSE),\"\"),IFERROR(VLOOKUP(A1020,[1]SkillConfig!$V:$AF,11,FALSE),\"\"))","v":"每次使用功法时在当前位置留下一道属性印记，下一个放上来的功法如果和以前功法相生则功法效果提升{0}%，每次使用功法时都会治疗对应相生属性的{1}伤势。（均衡性功法搭配，转盘改变，变为金、水、木、火、土）"},1701031]
[null,{"$f":"CONCATENATE(IFERROR(VLOOKUP(A1021,[1]SkillConfig!$D:$F,3,FALSE),\"\"),IFERROR(VLOOKUP(A1021,[1]SkillConfig!$E:$G,3,FALSE),\"\"),IFERROR(VLOOKUP(A1021,[1]SkillConfig!$V:$AF,11,FALSE),\"\"))","v":""}]
[null,{"$f":"CONCATENATE(IFERROR(VLOOKUP(A1022,[1]SkillConfig!$D:$F,3,FALSE),\"\"),IFERROR(VLOOKUP(A1022,[1]SkillConfig!$E:$G,3,FALSE),\"\"),IFERROR(VLOOKUP(A1022,[1]SkillConfig!$V:$AF,11,FALSE),\"\"))","v":""}]
[1190010,{"$f":"CONCATENATE(IFERROR(VLOOKUP(A1023,[1]SkillConfig!$D:$F,3,FALSE),\"\"),IFERROR(VLOOKUP(A1023,[1]SkillConfig!$E:$G,3,FALSE),\"\"),IFERROR(VLOOKUP(A1023,[1]SkillConfig!$V:$AF,11,FALSE),\"\"))","v":"(前摇时间长)：最多从汇聚10柄剑到自身周围，然后以一字行快速贯穿目标对目标造成{0}%攻击力的伤害，每命中目标肉体{1}次将削减{2}%的防御，目标肉体{3}次则所有伤势+{4}  ,如果目标上有剑意，每柄剑消耗{5}层剑意让敌人受到额外{6}%的伤害"},1190010]
[1190011,{"$f":"CONCATENATE(IFERROR(VLOOKUP(A1024,[1]SkillConfig!$D:$F,3,FALSE),\"\"),IFERROR(VLOOKUP(A1024,[1]SkillConfig!$E:$G,3,FALSE),\"\"),IFERROR(VLOOKUP(A1024,[1]SkillConfig!$V:$AF,11,FALSE),\"\"))","v":"(前摇时间长)：最多从汇聚10柄剑到自身周围，然后以一字行快速贯穿目标对目标造成{0}%攻击力的伤害，每命中目标肉体{1}次将削减{2}%的防御，目标肉体{3}次则所有伤势+{4}  ,如果目标上有剑意，每柄剑消耗{5}层剑意让敌人受到额外{6}%的伤害"},1190011]
[1190012,{"$f":"CONCATENATE(IFERROR(VLOOKUP(A1025,[1]SkillConfig!$D:$F,3,FALSE),\"\"),IFERROR(VLOOKUP(A1025,[1]SkillConfig!$E:$G,3,FALSE),\"\"),IFERROR(VLOOKUP(A1025,[1]SkillConfig!$V:$AF,11,FALSE),\"\"))","v":"(前摇时间长)：最多从汇聚10柄剑到自身周围，然后以一字行快速贯穿目标对目标造成{0}%攻击力的伤害，每命中目标肉体{1}次将削减{2}%的防御，目标肉体{3}次则所有伤势+{4}  ,如果目标上有剑意，每柄剑消耗{5}层剑意让敌人受到额外{6}%的伤害"},1190012]
[1190013,{"$f":"CONCATENATE(IFERROR(VLOOKUP(A1026,[1]SkillConfig!$D:$F,3,FALSE),\"\"),IFERROR(VLOOKUP(A1026,[1]SkillConfig!$E:$G,3,FALSE),\"\"),IFERROR(VLOOKUP(A1026,[1]SkillConfig!$V:$AF,11,FALSE),\"\"))","v":"(前摇时间长)：最多从汇聚10柄剑到自身周围，然后以一字行快速贯穿目标对目标造成{0}%攻击力的伤害，每命中目标肉体{1}次将削减{2}%的防御，目标肉体{3}次则所有伤势+{4}  ,如果目标上有剑意，每柄剑消耗{5}层剑意让敌人受到额外{6}%的伤害"},1190013]
[1190014,{"$f":"CONCATENATE(IFERROR(VLOOKUP(A1027,[1]SkillConfig!$D:$F,3,FALSE),\"\"),IFERROR(VLOOKUP(A1027,[1]SkillConfig!$E:$G,3,FALSE),\"\"),IFERROR(VLOOKUP(A1027,[1]SkillConfig!$V:$AF,11,FALSE),\"\"))","v":"(前摇时间长)：最多从汇聚10柄剑到自身周围，然后以一字行快速贯穿目标对目标造成{0}%攻击力的伤害，每命中目标肉体{1}次将削减{2}%的防御，目标肉体{3}次则所有伤势+{4}  ,如果目标上有剑意，每柄剑消耗{5}层剑意让敌人受到额外{6}%的伤害"},1190014]
[1190015,{"$f":"CONCATENATE(IFERROR(VLOOKUP(A1028,[1]SkillConfig!$D:$F,3,FALSE),\"\"),IFERROR(VLOOKUP(A1028,[1]SkillConfig!$E:$G,3,FALSE),\"\"),IFERROR(VLOOKUP(A1028,[1]SkillConfig!$V:$AF,11,FALSE),\"\"))","v":"(前摇时间长)：最多从汇聚10柄剑到自身周围，然后以一字行快速贯穿目标对目标造成{0}%攻击力的伤害，每命中目标肉体{1}次将削减{2}%的防御，目标肉体{3}次则所有伤势+{4}  ,如果目标上有剑意，每柄剑消耗{5}层剑意让敌人受到额外{6}%的伤害"},1190015]
[null,{"$f":"CONCATENATE(IFERROR(VLOOKUP(A1029,[1]SkillConfig!$D:$F,3,FALSE),\"\"),IFERROR(VLOOKUP(A1029,[1]SkillConfig!$E:$G,3,FALSE),\"\"),IFERROR(VLOOKUP(A1029,[1]SkillConfig!$V:$AF,11,FALSE),\"\"))","v":""}]
[1190020,{"$f":"CONCATENATE(IFERROR(VLOOKUP(A1030,[1]SkillConfig!$D:$F,3,FALSE),\"\"),IFERROR(VLOOKUP(A1030,[1]SkillConfig!$E:$G,3,FALSE),\"\"),IFERROR(VLOOKUP(A1030,[1]SkillConfig!$V:$AF,11,FALSE),\"\"))","v":"身体周围围绕多柄剑进行飞行，可以阻挡相当于自身{0}%最大生命值的伤害。该剑阵受到火系伤害时会升温，升温后会融化。另外该剑阵受到的火系伤害额外+{0}%。"},1190020]
[1190021,{"$f":"CONCATENATE(IFERROR(VLOOKUP(A1031,[1]SkillConfig!$D:$F,3,FALSE),\"\"),IFERROR(VLOOKUP(A1031,[1]SkillConfig!$E:$G,3,FALSE),\"\"),IFERROR(VLOOKUP(A1031,[1]SkillConfig!$V:$AF,11,FALSE),\"\"))","v":"身体周围围绕多柄剑进行飞行，可以阻挡相当于自身{0}%最大生命值的伤害。该剑阵受到火系伤害时会升温，升温后会融化。另外该剑阵受到的火系伤害额外+{0}%。"},1190021]
[1190022,{"$f":"CONCATENATE(IFERROR(VLOOKUP(A1032,[1]SkillConfig!$D:$F,3,FALSE),\"\"),IFERROR(VLOOKUP(A1032,[1]SkillConfig!$E:$G,3,FALSE),\"\"),IFERROR(VLOOKUP(A1032,[1]SkillConfig!$V:$AF,11,FALSE),\"\"))","v":"身体周围围绕多柄剑进行飞行，可以阻挡相当于自身{0}%最大生命值的伤害。该剑阵受到火系伤害时会升温，升温后会融化。另外该剑阵受到的火系伤害额外+{0}%。"},1190022]
[1190023,{"$f":"CONCATENATE(IFERROR(VLOOKUP(A1033,[1]SkillConfig!$D:$F,3,FALSE),\"\"),IFERROR(VLOOKUP(A1033,[1]SkillConfig!$E:$G,3,FALSE),\"\"),IFERROR(VLOOKUP(A1033,[1]SkillConfig!$V:$AF,11,FALSE),\"\"))","v":"身体周围围绕多柄剑进行飞行，可以阻挡相当于自身{0}%最大生命值的伤害。该剑阵受到火系伤害时会升温，升温后会融化。另外该剑阵受到的火系伤害额外+{0}%。"},1190023]
[1190024,{"$f":"CONCATENATE(IFERROR(VLOOKUP(A1034,[1]SkillConfig!$D:$F,3,FALSE),\"\"),IFERROR(VLOOKUP(A1034,[1]SkillConfig!$E:$G,3,FALSE),\"\"),IFERROR(VLOOKUP(A1034,[1]SkillConfig!$V:$AF,11,FALSE),\"\"))","v":"身体周围围绕多柄剑进行飞行，可以阻挡相当于自身{0}%最大生命值的伤害。该剑阵受到火系伤害时会升温，升温后会融化。另外该剑阵受到的火系伤害额外+{0}%。"},1190024]
[1190025,{"$f":"CONCATENATE(IFERROR(VLOOKUP(A1035,[1]SkillConfig!$D:$F,3,FALSE),\"\"),IFERROR(VLOOKUP(A1035,[1]SkillConfig!$E:$G,3,FALSE),\"\"),IFERROR(VLOOKUP(A1035,[1]SkillConfig!$V:$AF,11,FALSE),\"\"))","v":"身体周围围绕多柄剑进行飞行，可以阻挡相当于自身{0}%最大生命值的伤害。该剑阵受到火系伤害时会升温，升温后会融化。另外该剑阵受到的火系伤害额外+{0}%。"},1190025]
[null,{"$f":"CONCATENATE(IFERROR(VLOOKUP(A1036,[1]SkillConfig!$D:$F,3,FALSE),\"\"),IFERROR(VLOOKUP(A1036,[1]SkillConfig!$E:$G,3,FALSE),\"\"),IFERROR(VLOOKUP(A1036,[1]SkillConfig!$V:$AF,11,FALSE),\"\"))","v":""}]
[1190030,{"$f":"CONCATENATE(IFERROR(VLOOKUP(A1037,[1]SkillConfig!$D:$F,3,FALSE),\"\"),IFERROR(VLOOKUP(A1037,[1]SkillConfig!$E:$G,3,FALSE),\"\"),IFERROR(VLOOKUP(A1037,[1]SkillConfig!$V:$AF,11,FALSE),\"\"))","v":"剑祖的攻击会让目标受到一层剑意"},1190030]
[null,{"$f":"CONCATENATE(IFERROR(VLOOKUP(A1038,[1]SkillConfig!$D:$F,3,FALSE),\"\"),IFERROR(VLOOKUP(A1038,[1]SkillConfig!$E:$G,3,FALSE),\"\"),IFERROR(VLOOKUP(A1038,[1]SkillConfig!$V:$AF,11,FALSE),\"\"))","v":""}]
[1190040,{"$f":"CONCATENATE(IFERROR(VLOOKUP(A1039,[1]SkillConfig!$D:$F,3,FALSE),\"\"),IFERROR(VLOOKUP(A1039,[1]SkillConfig!$E:$G,3,FALSE),\"\"),IFERROR(VLOOKUP(A1039,[1]SkillConfig!$V:$AF,11,FALSE),\"\"))","v":"发射3柄剑，对敌人造成{0}%攻击力的伤害"},1190040]
[1190041,{"$f":"CONCATENATE(IFERROR(VLOOKUP(A1040,[1]SkillConfig!$D:$F,3,FALSE),\"\"),IFERROR(VLOOKUP(A1040,[1]SkillConfig!$E:$G,3,FALSE),\"\"),IFERROR(VLOOKUP(A1040,[1]SkillConfig!$V:$AF,11,FALSE),\"\"))","v":"发射3柄剑，对敌人造成{0}%攻击力的伤害"},1190041]
[1190042,{"$f":"CONCATENATE(IFERROR(VLOOKUP(A1041,[1]SkillConfig!$D:$F,3,FALSE),\"\"),IFERROR(VLOOKUP(A1041,[1]SkillConfig!$E:$G,3,FALSE),\"\"),IFERROR(VLOOKUP(A1041,[1]SkillConfig!$V:$AF,11,FALSE),\"\"))","v":"发射3柄剑，对敌人造成{0}%攻击力的伤害"},1190042]
[1190043,{"$f":"CONCATENATE(IFERROR(VLOOKUP(A1042,[1]SkillConfig!$D:$F,3,FALSE),\"\"),IFERROR(VLOOKUP(A1042,[1]SkillConfig!$E:$G,3,FALSE),\"\"),IFERROR(VLOOKUP(A1042,[1]SkillConfig!$V:$AF,11,FALSE),\"\"))","v":"发射3柄剑，对敌人造成{0}%攻击力的伤害"},1190043]
[1190044,{"$f":"CONCATENATE(IFERROR(VLOOKUP(A1043,[1]SkillConfig!$D:$F,3,FALSE),\"\"),IFERROR(VLOOKUP(A1043,[1]SkillConfig!$E:$G,3,FALSE),\"\"),IFERROR(VLOOKUP(A1043,[1]SkillConfig!$V:$AF,11,FALSE),\"\"))","v":"发射3柄剑，对敌人造成{0}%攻击力的伤害"},1190044]
[1190045,{"$f":"CONCATENATE(IFERROR(VLOOKUP(A1044,[1]SkillConfig!$D:$F,3,FALSE),\"\"),IFERROR(VLOOKUP(A1044,[1]SkillConfig!$E:$G,3,FALSE),\"\"),IFERROR(VLOOKUP(A1044,[1]SkillConfig!$V:$AF,11,FALSE),\"\"))","v":"发射3柄剑，对敌人造成{0}%攻击力的伤害"},1190045]
[null,{"$f":"CONCATENATE(IFERROR(VLOOKUP(A1045,[1]SkillConfig!$D:$F,3,FALSE),\"\"),IFERROR(VLOOKUP(A1045,[1]SkillConfig!$E:$G,3,FALSE),\"\"),IFERROR(VLOOKUP(A1045,[1]SkillConfig!$V:$AF,11,FALSE),\"\"))","v":""}]
[1190050,{"$f":"CONCATENATE(IFERROR(VLOOKUP(A1046,[1]SkillConfig!$D:$F,3,FALSE),\"\"),IFERROR(VLOOKUP(A1046,[1]SkillConfig!$E:$G,3,FALSE),\"\"),IFERROR(VLOOKUP(A1046,[1]SkillConfig!$V:$AF,11,FALSE),\"\"))","v":"发射3柄剑，对敌人造成{0}%攻击力的伤害"},1190050]
[1190051,{"$f":"CONCATENATE(IFERROR(VLOOKUP(A1047,[1]SkillConfig!$D:$F,3,FALSE),\"\"),IFERROR(VLOOKUP(A1047,[1]SkillConfig!$E:$G,3,FALSE),\"\"),IFERROR(VLOOKUP(A1047,[1]SkillConfig!$V:$AF,11,FALSE),\"\"))","v":"发射3柄剑，对敌人造成{0}%攻击力的伤害"},1190051]
[1190052,{"$f":"CONCATENATE(IFERROR(VLOOKUP(A1048,[1]SkillConfig!$D:$F,3,FALSE),\"\"),IFERROR(VLOOKUP(A1048,[1]SkillConfig!$E:$G,3,FALSE),\"\"),IFERROR(VLOOKUP(A1048,[1]SkillConfig!$V:$AF,11,FALSE),\"\"))","v":"发射3柄剑，对敌人造成{0}%攻击力的伤害"},1190052]
[1190053,{"$f":"CONCATENATE(IFERROR(VLOOKUP(A1049,[1]SkillConfig!$D:$F,3,FALSE),\"\"),IFERROR(VLOOKUP(A1049,[1]SkillConfig!$E:$G,3,FALSE),\"\"),IFERROR(VLOOKUP(A1049,[1]SkillConfig!$V:$AF,11,FALSE),\"\"))","v":"发射3柄剑，对敌人造成{0}%攻击力的伤害"},1190053]
[1190054,{"$f":"CONCATENATE(IFERROR(VLOOKUP(A1050,[1]SkillConfig!$D:$F,3,FALSE),\"\"),IFERROR(VLOOKUP(A1050,[1]SkillConfig!$E:$G,3,FALSE),\"\"),IFERROR(VLOOKUP(A1050,[1]SkillConfig!$V:$AF,11,FALSE),\"\"))","v":"发射3柄剑，对敌人造成{0}%攻击力的伤害"},1190054]
[1190055,{"$f":"CONCATENATE(IFERROR(VLOOKUP(A1051,[1]SkillConfig!$D:$F,3,FALSE),\"\"),IFERROR(VLOOKUP(A1051,[1]SkillConfig!$E:$G,3,FALSE),\"\"),IFERROR(VLOOKUP(A1051,[1]SkillConfig!$V:$AF,11,FALSE),\"\"))","v":"发射3柄剑，对敌人造成{0}%攻击力的伤害"},1190055]
[null,{"$f":"CONCATENATE(IFERROR(VLOOKUP(A1052,[1]SkillConfig!$D:$F,3,FALSE),\"\"),IFERROR(VLOOKUP(A1052,[1]SkillConfig!$E:$G,3,FALSE),\"\"),IFERROR(VLOOKUP(A1052,[1]SkillConfig!$V:$AF,11,FALSE),\"\"))","v":""}]
[1190110,{"$f":"CONCATENATE(IFERROR(VLOOKUP(A1053,[1]SkillConfig!$D:$F,3,FALSE),\"\"),IFERROR(VLOOKUP(A1053,[1]SkillConfig!$E:$G,3,FALSE),\"\"),IFERROR(VLOOKUP(A1053,[1]SkillConfig!$V:$AF,11,FALSE),\"\"))","v":"凤凰煽动翅膀，在翅膀前方形成冰箭羽毛，生成{0}枚冰箭，对敌人造成{1}%攻击力的水属性伤害，并施加一层寒气"},1190110]
[1190111,{"$f":"CONCATENATE(IFERROR(VLOOKUP(A1054,[1]SkillConfig!$D:$F,3,FALSE),\"\"),IFERROR(VLOOKUP(A1054,[1]SkillConfig!$E:$G,3,FALSE),\"\"),IFERROR(VLOOKUP(A1054,[1]SkillConfig!$V:$AF,11,FALSE),\"\"))","v":"凤凰煽动翅膀，在翅膀前方形成冰箭羽毛，生成{0}枚冰箭，对敌人造成{1}%攻击力的水属性伤害，并施加一层寒气"},1190111]
[1190112,{"$f":"CONCATENATE(IFERROR(VLOOKUP(A1055,[1]SkillConfig!$D:$F,3,FALSE),\"\"),IFERROR(VLOOKUP(A1055,[1]SkillConfig!$E:$G,3,FALSE),\"\"),IFERROR(VLOOKUP(A1055,[1]SkillConfig!$V:$AF,11,FALSE),\"\"))","v":"凤凰煽动翅膀，在翅膀前方形成冰箭羽毛，生成{0}枚冰箭，对敌人造成{1}%攻击力的水属性伤害，并施加一层寒气"},1190112]
[1190113,{"$f":"CONCATENATE(IFERROR(VLOOKUP(A1056,[1]SkillConfig!$D:$F,3,FALSE),\"\"),IFERROR(VLOOKUP(A1056,[1]SkillConfig!$E:$G,3,FALSE),\"\"),IFERROR(VLOOKUP(A1056,[1]SkillConfig!$V:$AF,11,FALSE),\"\"))","v":"凤凰煽动翅膀，在翅膀前方形成冰箭羽毛，生成{0}枚冰箭，对敌人造成{1}%攻击力的水属性伤害，并施加一层寒气"},1190113]
[1190114,{"$f":"CONCATENATE(IFERROR(VLOOKUP(A1057,[1]SkillConfig!$D:$F,3,FALSE),\"\"),IFERROR(VLOOKUP(A1057,[1]SkillConfig!$E:$G,3,FALSE),\"\"),IFERROR(VLOOKUP(A1057,[1]SkillConfig!$V:$AF,11,FALSE),\"\"))","v":"凤凰煽动翅膀，在翅膀前方形成冰箭羽毛，生成{0}枚冰箭，对敌人造成{1}%攻击力的水属性伤害，并施加一层寒气"},1190114]
[1190115,{"$f":"CONCATENATE(IFERROR(VLOOKUP(A1058,[1]SkillConfig!$D:$F,3,FALSE),\"\"),IFERROR(VLOOKUP(A1058,[1]SkillConfig!$E:$G,3,FALSE),\"\"),IFERROR(VLOOKUP(A1058,[1]SkillConfig!$V:$AF,11,FALSE),\"\"))","v":"凤凰煽动翅膀，在翅膀前方形成冰箭羽毛，生成{0}枚冰箭，对敌人造成{1}%攻击力的水属性伤害，并施加一层寒气"},1190115]
[null,{"$f":"CONCATENATE(IFERROR(VLOOKUP(A1059,[1]SkillConfig!$D:$F,3,FALSE),\"\"),IFERROR(VLOOKUP(A1059,[1]SkillConfig!$E:$G,3,FALSE),\"\"),IFERROR(VLOOKUP(A1059,[1]SkillConfig!$V:$AF,11,FALSE),\"\"))","v":""}]
[1190120,{"$f":"CONCATENATE(IFERROR(VLOOKUP(A1060,[1]SkillConfig!$D:$F,3,FALSE),\"\"),IFERROR(VLOOKUP(A1060,[1]SkillConfig!$E:$G,3,FALSE),\"\"),IFERROR(VLOOKUP(A1060,[1]SkillConfig!$V:$AF,11,FALSE),\"\"))","v":"凤凰喷吐出一股极寒霜息，形成远程席卷的寒潮波涛。直线飞行，造成{0}伤害，并额外造成寒气层数{1}倍的伤害"},1190120]
[1190121,{"$f":"CONCATENATE(IFERROR(VLOOKUP(A1061,[1]SkillConfig!$D:$F,3,FALSE),\"\"),IFERROR(VLOOKUP(A1061,[1]SkillConfig!$E:$G,3,FALSE),\"\"),IFERROR(VLOOKUP(A1061,[1]SkillConfig!$V:$AF,11,FALSE),\"\"))","v":"凤凰喷吐出一股极寒霜息，形成远程席卷的寒潮波涛。直线飞行，造成{0}伤害，并额外造成寒气层数{1}倍的伤害"},1190121]
[1190122,{"$f":"CONCATENATE(IFERROR(VLOOKUP(A1062,[1]SkillConfig!$D:$F,3,FALSE),\"\"),IFERROR(VLOOKUP(A1062,[1]SkillConfig!$E:$G,3,FALSE),\"\"),IFERROR(VLOOKUP(A1062,[1]SkillConfig!$V:$AF,11,FALSE),\"\"))","v":"凤凰喷吐出一股极寒霜息，形成远程席卷的寒潮波涛。直线飞行，造成{0}伤害，并额外造成寒气层数{1}倍的伤害"},1190122]
[1190123,{"$f":"CONCATENATE(IFERROR(VLOOKUP(A1063,[1]SkillConfig!$D:$F,3,FALSE),\"\"),IFERROR(VLOOKUP(A1063,[1]SkillConfig!$E:$G,3,FALSE),\"\"),IFERROR(VLOOKUP(A1063,[1]SkillConfig!$V:$AF,11,FALSE),\"\"))","v":"凤凰喷吐出一股极寒霜息，形成远程席卷的寒潮波涛。直线飞行，造成{0}伤害，并额外造成寒气层数{1}倍的伤害"},1190123]
[1190124,{"$f":"CONCATENATE(IFERROR(VLOOKUP(A1064,[1]SkillConfig!$D:$F,3,FALSE),\"\"),IFERROR(VLOOKUP(A1064,[1]SkillConfig!$E:$G,3,FALSE),\"\"),IFERROR(VLOOKUP(A1064,[1]SkillConfig!$V:$AF,11,FALSE),\"\"))","v":"凤凰喷吐出一股极寒霜息，形成远程席卷的寒潮波涛。直线飞行，造成{0}伤害，并额外造成寒气层数{1}倍的伤害"},1190124]
[1190125,{"$f":"CONCATENATE(IFERROR(VLOOKUP(A1065,[1]SkillConfig!$D:$F,3,FALSE),\"\"),IFERROR(VLOOKUP(A1065,[1]SkillConfig!$E:$G,3,FALSE),\"\"),IFERROR(VLOOKUP(A1065,[1]SkillConfig!$V:$AF,11,FALSE),\"\"))","v":"凤凰喷吐出一股极寒霜息，形成远程席卷的寒潮波涛。直线飞行，造成{0}伤害，并额外造成寒气层数{1}倍的伤害"},1190125]
[null,{"$f":"CONCATENATE(IFERROR(VLOOKUP(A1066,[1]SkillConfig!$D:$F,3,FALSE),\"\"),IFERROR(VLOOKUP(A1066,[1]SkillConfig!$E:$G,3,FALSE),\"\"),IFERROR(VLOOKUP(A1066,[1]SkillConfig!$V:$AF,11,FALSE),\"\"))","v":""}]
[1190130,{"$f":"CONCATENATE(IFERROR(VLOOKUP(A1067,[1]SkillConfig!$D:$F,3,FALSE),\"\"),IFERROR(VLOOKUP(A1067,[1]SkillConfig!$E:$G,3,FALSE),\"\"),IFERROR(VLOOKUP(A1067,[1]SkillConfig!$V:$AF,11,FALSE),\"\"))","v":"凤凰在血量还剩{0}%的时触发，寒气笼罩自身5秒，期间凤凰免疫任何伤害，并慢慢回血，直到恢复满，恢复满后凤凰所有灵根增加{1}。冰块爆开，生成一个冲击波，对当前场上所有的弹道造成当前强度的强度攻击（强度不够的弹道会被摧毁），生成{2}枚冰锥冲向敌人造成{3}%攻击力的伤害"},1190130]
[1190131,{"$f":"CONCATENATE(IFERROR(VLOOKUP(A1068,[1]SkillConfig!$D:$F,3,FALSE),\"\"),IFERROR(VLOOKUP(A1068,[1]SkillConfig!$E:$G,3,FALSE),\"\"),IFERROR(VLOOKUP(A1068,[1]SkillConfig!$V:$AF,11,FALSE),\"\"))","v":"凤凰在血量还剩{0}%的时触发，寒气笼罩自身5秒，期间凤凰免疫任何伤害，并慢慢回血，直到恢复满，恢复满后凤凰所有灵根增加{1}。冰块爆开，生成一个冲击波，对当前场上所有的弹道造成当前强度的强度攻击（强度不够的弹道会被摧毁），生成{2}枚冰锥冲向敌人造成{3}%攻击力的伤害"},1190131]
[1190132,{"$f":"CONCATENATE(IFERROR(VLOOKUP(A1069,[1]SkillConfig!$D:$F,3,FALSE),\"\"),IFERROR(VLOOKUP(A1069,[1]SkillConfig!$E:$G,3,FALSE),\"\"),IFERROR(VLOOKUP(A1069,[1]SkillConfig!$V:$AF,11,FALSE),\"\"))","v":"凤凰在血量还剩{0}%的时触发，寒气笼罩自身5秒，期间凤凰免疫任何伤害，并慢慢回血，直到恢复满，恢复满后凤凰所有灵根增加{1}。冰块爆开，生成一个冲击波，对当前场上所有的弹道造成当前强度的强度攻击（强度不够的弹道会被摧毁），生成{2}枚冰锥冲向敌人造成{3}%攻击力的伤害"},1190132]
[1190133,{"$f":"CONCATENATE(IFERROR(VLOOKUP(A1070,[1]SkillConfig!$D:$F,3,FALSE),\"\"),IFERROR(VLOOKUP(A1070,[1]SkillConfig!$E:$G,3,FALSE),\"\"),IFERROR(VLOOKUP(A1070,[1]SkillConfig!$V:$AF,11,FALSE),\"\"))","v":"凤凰在血量还剩{0}%的时触发，寒气笼罩自身5秒，期间凤凰免疫任何伤害，并慢慢回血，直到恢复满，恢复满后凤凰所有灵根增加{1}。冰块爆开，生成一个冲击波，对当前场上所有的弹道造成当前强度的强度攻击（强度不够的弹道会被摧毁），生成{2}枚冰锥冲向敌人造成{3}%攻击力的伤害"},1190133]
[1190134,{"$f":"CONCATENATE(IFERROR(VLOOKUP(A1071,[1]SkillConfig!$D:$F,3,FALSE),\"\"),IFERROR(VLOOKUP(A1071,[1]SkillConfig!$E:$G,3,FALSE),\"\"),IFERROR(VLOOKUP(A1071,[1]SkillConfig!$V:$AF,11,FALSE),\"\"))","v":"凤凰在血量还剩{0}%的时触发，寒气笼罩自身5秒，期间凤凰免疫任何伤害，并慢慢回血，直到恢复满，恢复满后凤凰所有灵根增加{1}。冰块爆开，生成一个冲击波，对当前场上所有的弹道造成当前强度的强度攻击（强度不够的弹道会被摧毁），生成{2}枚冰锥冲向敌人造成{3}%攻击力的伤害"},1190134]
[1190135,{"$f":"CONCATENATE(IFERROR(VLOOKUP(A1072,[1]SkillConfig!$D:$F,3,FALSE),\"\"),IFERROR(VLOOKUP(A1072,[1]SkillConfig!$E:$G,3,FALSE),\"\"),IFERROR(VLOOKUP(A1072,[1]SkillConfig!$V:$AF,11,FALSE),\"\"))","v":"凤凰在血量还剩{0}%的时触发，寒气笼罩自身5秒，期间凤凰免疫任何伤害，并慢慢回血，直到恢复满，恢复满后凤凰所有灵根增加{1}。冰块爆开，生成一个冲击波，对当前场上所有的弹道造成当前强度的强度攻击（强度不够的弹道会被摧毁），生成{2}枚冰锥冲向敌人造成{3}%攻击力的伤害"},1190135]
[null,{"$f":"CONCATENATE(IFERROR(VLOOKUP(A1073,[1]SkillConfig!$D:$F,3,FALSE),\"\"),IFERROR(VLOOKUP(A1073,[1]SkillConfig!$E:$G,3,FALSE),\"\"),IFERROR(VLOOKUP(A1073,[1]SkillConfig!$V:$AF,11,FALSE),\"\"))","v":""}]
[1190140,{"$f":"CONCATENATE(IFERROR(VLOOKUP(A1074,[1]SkillConfig!$D:$F,3,FALSE),\"\"),IFERROR(VLOOKUP(A1074,[1]SkillConfig!$E:$G,3,FALSE),\"\"),IFERROR(VLOOKUP(A1074,[1]SkillConfig!$V:$AF,11,FALSE),\"\"))","v":"从天空中召唤出多道冰球，会有{0}枚砸向敌人，造成{1}%攻击力的伤害，并施加一层寒气"},1190140]
[1190141,{"$f":"CONCATENATE(IFERROR(VLOOKUP(A1075,[1]SkillConfig!$D:$F,3,FALSE),\"\"),IFERROR(VLOOKUP(A1075,[1]SkillConfig!$E:$G,3,FALSE),\"\"),IFERROR(VLOOKUP(A1075,[1]SkillConfig!$V:$AF,11,FALSE),\"\"))","v":"从天空中召唤出多道冰球，会有{0}枚砸向敌人，造成{1}%攻击力的伤害，并施加一层寒气"},1190141]
[1190142,{"$f":"CONCATENATE(IFERROR(VLOOKUP(A1076,[1]SkillConfig!$D:$F,3,FALSE),\"\"),IFERROR(VLOOKUP(A1076,[1]SkillConfig!$E:$G,3,FALSE),\"\"),IFERROR(VLOOKUP(A1076,[1]SkillConfig!$V:$AF,11,FALSE),\"\"))","v":"从天空中召唤出多道冰球，会有{0}枚砸向敌人，造成{1}%攻击力的伤害，并施加一层寒气"},1190142]
[1190143,{"$f":"CONCATENATE(IFERROR(VLOOKUP(A1077,[1]SkillConfig!$D:$F,3,FALSE),\"\"),IFERROR(VLOOKUP(A1077,[1]SkillConfig!$E:$G,3,FALSE),\"\"),IFERROR(VLOOKUP(A1077,[1]SkillConfig!$V:$AF,11,FALSE),\"\"))","v":"从天空中召唤出多道冰球，会有{0}枚砸向敌人，造成{1}%攻击力的伤害，并施加一层寒气"},1190143]
[1190144,{"$f":"CONCATENATE(IFERROR(VLOOKUP(A1078,[1]SkillConfig!$D:$F,3,FALSE),\"\"),IFERROR(VLOOKUP(A1078,[1]SkillConfig!$E:$G,3,FALSE),\"\"),IFERROR(VLOOKUP(A1078,[1]SkillConfig!$V:$AF,11,FALSE),\"\"))","v":"从天空中召唤出多道冰球，会有{0}枚砸向敌人，造成{1}%攻击力的伤害，并施加一层寒气"},1190144]
[1190145,{"$f":"CONCATENATE(IFERROR(VLOOKUP(A1079,[1]SkillConfig!$D:$F,3,FALSE),\"\"),IFERROR(VLOOKUP(A1079,[1]SkillConfig!$E:$G,3,FALSE),\"\"),IFERROR(VLOOKUP(A1079,[1]SkillConfig!$V:$AF,11,FALSE),\"\"))","v":"从天空中召唤出多道冰球，会有{0}枚砸向敌人，造成{1}%攻击力的伤害，并施加一层寒气"},1190145]
[null,{"$f":"CONCATENATE(IFERROR(VLOOKUP(A1080,[1]SkillConfig!$D:$F,3,FALSE),\"\"),IFERROR(VLOOKUP(A1080,[1]SkillConfig!$E:$G,3,FALSE),\"\"),IFERROR(VLOOKUP(A1080,[1]SkillConfig!$V:$AF,11,FALSE),\"\"))","v":""}]
[1190150,{"$f":"CONCATENATE(IFERROR(VLOOKUP(A1081,[1]SkillConfig!$D:$F,3,FALSE),\"\"),IFERROR(VLOOKUP(A1081,[1]SkillConfig!$E:$G,3,FALSE),\"\"),IFERROR(VLOOKUP(A1081,[1]SkillConfig!$V:$AF,11,FALSE),\"\"))","v":"挥动翅膀发射{0}枚冰箭，每枚对敌人造成{1}%攻击力的伤害"},1190150]
[1190151,{"$f":"CONCATENATE(IFERROR(VLOOKUP(A1082,[1]SkillConfig!$D:$F,3,FALSE),\"\"),IFERROR(VLOOKUP(A1082,[1]SkillConfig!$E:$G,3,FALSE),\"\"),IFERROR(VLOOKUP(A1082,[1]SkillConfig!$V:$AF,11,FALSE),\"\"))","v":"挥动翅膀发射{0}枚冰箭，每枚对敌人造成{1}%攻击力的伤害"},1190151]
[1190152,{"$f":"CONCATENATE(IFERROR(VLOOKUP(A1083,[1]SkillConfig!$D:$F,3,FALSE),\"\"),IFERROR(VLOOKUP(A1083,[1]SkillConfig!$E:$G,3,FALSE),\"\"),IFERROR(VLOOKUP(A1083,[1]SkillConfig!$V:$AF,11,FALSE),\"\"))","v":"挥动翅膀发射{0}枚冰箭，每枚对敌人造成{1}%攻击力的伤害"},1190152]
[1190153,{"$f":"CONCATENATE(IFERROR(VLOOKUP(A1084,[1]SkillConfig!$D:$F,3,FALSE),\"\"),IFERROR(VLOOKUP(A1084,[1]SkillConfig!$E:$G,3,FALSE),\"\"),IFERROR(VLOOKUP(A1084,[1]SkillConfig!$V:$AF,11,FALSE),\"\"))","v":"挥动翅膀发射{0}枚冰箭，每枚对敌人造成{1}%攻击力的伤害"},1190153]
[1190154,{"$f":"CONCATENATE(IFERROR(VLOOKUP(A1085,[1]SkillConfig!$D:$F,3,FALSE),\"\"),IFERROR(VLOOKUP(A1085,[1]SkillConfig!$E:$G,3,FALSE),\"\"),IFERROR(VLOOKUP(A1085,[1]SkillConfig!$V:$AF,11,FALSE),\"\"))","v":"挥动翅膀发射{0}枚冰箭，每枚对敌人造成{1}%攻击力的伤害"},1190154]
[1190155,{"$f":"CONCATENATE(IFERROR(VLOOKUP(A1086,[1]SkillConfig!$D:$F,3,FALSE),\"\"),IFERROR(VLOOKUP(A1086,[1]SkillConfig!$E:$G,3,FALSE),\"\"),IFERROR(VLOOKUP(A1086,[1]SkillConfig!$V:$AF,11,FALSE),\"\"))","v":"挥动翅膀发射{0}枚冰箭，每枚对敌人造成{1}%攻击力的伤害"},1190155]
[null,{"$f":"CONCATENATE(IFERROR(VLOOKUP(A1087,[1]SkillConfig!$D:$F,3,FALSE),\"\"),IFERROR(VLOOKUP(A1087,[1]SkillConfig!$E:$G,3,FALSE),\"\"),IFERROR(VLOOKUP(A1087,[1]SkillConfig!$V:$AF,11,FALSE),\"\"))","v":""}]
[1190210,{"$f":"CONCATENATE(IFERROR(VLOOKUP(A1088,[1]SkillConfig!$D:$F,3,FALSE),\"\"),IFERROR(VLOOKUP(A1088,[1]SkillConfig!$E:$G,3,FALSE),\"\"),IFERROR(VLOOKUP(A1088,[1]SkillConfig!$V:$AF,11,FALSE),\"\"))","v":"神龟龟甲形成虚影快速收缩后爆开，形成{0}道神龟甲刃,对敌人造成{1}%攻击力的伤害，甲刃无视敌人{2}%防御"},1190210]
[1190211,{"$f":"CONCATENATE(IFERROR(VLOOKUP(A1089,[1]SkillConfig!$D:$F,3,FALSE),\"\"),IFERROR(VLOOKUP(A1089,[1]SkillConfig!$E:$G,3,FALSE),\"\"),IFERROR(VLOOKUP(A1089,[1]SkillConfig!$V:$AF,11,FALSE),\"\"))","v":"神龟龟甲形成虚影快速收缩后爆开，形成{0}道神龟甲刃,对敌人造成{1}%攻击力的伤害，甲刃无视敌人{2}%防御"},1190211]
[1190212,{"$f":"CONCATENATE(IFERROR(VLOOKUP(A1090,[1]SkillConfig!$D:$F,3,FALSE),\"\"),IFERROR(VLOOKUP(A1090,[1]SkillConfig!$E:$G,3,FALSE),\"\"),IFERROR(VLOOKUP(A1090,[1]SkillConfig!$V:$AF,11,FALSE),\"\"))","v":"神龟龟甲形成虚影快速收缩后爆开，形成{0}道神龟甲刃,对敌人造成{1}%攻击力的伤害，甲刃无视敌人{2}%防御"},1190212]
[1190213,{"$f":"CONCATENATE(IFERROR(VLOOKUP(A1091,[1]SkillConfig!$D:$F,3,FALSE),\"\"),IFERROR(VLOOKUP(A1091,[1]SkillConfig!$E:$G,3,FALSE),\"\"),IFERROR(VLOOKUP(A1091,[1]SkillConfig!$V:$AF,11,FALSE),\"\"))","v":"神龟龟甲形成虚影快速收缩后爆开，形成{0}道神龟甲刃,对敌人造成{1}%攻击力的伤害，甲刃无视敌人{2}%防御"},1190213]
[1190214,{"$f":"CONCATENATE(IFERROR(VLOOKUP(A1092,[1]SkillConfig!$D:$F,3,FALSE),\"\"),IFERROR(VLOOKUP(A1092,[1]SkillConfig!$E:$G,3,FALSE),\"\"),IFERROR(VLOOKUP(A1092,[1]SkillConfig!$V:$AF,11,FALSE),\"\"))","v":"神龟龟甲形成虚影快速收缩后爆开，形成{0}道神龟甲刃,对敌人造成{1}%攻击力的伤害，甲刃无视敌人{2}%防御"},1190214]
[1190215,{"$f":"CONCATENATE(IFERROR(VLOOKUP(A1093,[1]SkillConfig!$D:$F,3,FALSE),\"\"),IFERROR(VLOOKUP(A1093,[1]SkillConfig!$E:$G,3,FALSE),\"\"),IFERROR(VLOOKUP(A1093,[1]SkillConfig!$V:$AF,11,FALSE),\"\"))","v":"神龟龟甲形成虚影快速收缩后爆开，形成{0}道神龟甲刃,对敌人造成{1}%攻击力的伤害，甲刃无视敌人{2}%防御"},1190215]
[null,{"$f":"CONCATENATE(IFERROR(VLOOKUP(A1094,[1]SkillConfig!$D:$F,3,FALSE),\"\"),IFERROR(VLOOKUP(A1094,[1]SkillConfig!$E:$G,3,FALSE),\"\"),IFERROR(VLOOKUP(A1094,[1]SkillConfig!$V:$AF,11,FALSE),\"\"))","v":""}]
[1190220,{"$f":"CONCATENATE(IFERROR(VLOOKUP(A1095,[1]SkillConfig!$D:$F,3,FALSE),\"\"),IFERROR(VLOOKUP(A1095,[1]SkillConfig!$E:$G,3,FALSE),\"\"),IFERROR(VLOOKUP(A1095,[1]SkillConfig!$V:$AF,11,FALSE),\"\"))","v":"自天地间汲取灵气形成玄龟甲碎片凝聚成玄甲，防御增加{0}%,玄甲受到伤害时会对地方造成{1}%防御力的伤害。持续{2}秒"},1190220]
[1190221,{"$f":"CONCATENATE(IFERROR(VLOOKUP(A1096,[1]SkillConfig!$D:$F,3,FALSE),\"\"),IFERROR(VLOOKUP(A1096,[1]SkillConfig!$E:$G,3,FALSE),\"\"),IFERROR(VLOOKUP(A1096,[1]SkillConfig!$V:$AF,11,FALSE),\"\"))","v":"自天地间汲取灵气形成玄龟甲碎片凝聚成玄甲，防御增加{0}%,玄甲受到伤害时会对地方造成{1}%防御力的伤害。持续{2}秒"},1190221]
[1190222,{"$f":"CONCATENATE(IFERROR(VLOOKUP(A1097,[1]SkillConfig!$D:$F,3,FALSE),\"\"),IFERROR(VLOOKUP(A1097,[1]SkillConfig!$E:$G,3,FALSE),\"\"),IFERROR(VLOOKUP(A1097,[1]SkillConfig!$V:$AF,11,FALSE),\"\"))","v":"自天地间汲取灵气形成玄龟甲碎片凝聚成玄甲，防御增加{0}%,玄甲受到伤害时会对地方造成{1}%防御力的伤害。持续{2}秒"},1190222]
[1190223,{"$f":"CONCATENATE(IFERROR(VLOOKUP(A1098,[1]SkillConfig!$D:$F,3,FALSE),\"\"),IFERROR(VLOOKUP(A1098,[1]SkillConfig!$E:$G,3,FALSE),\"\"),IFERROR(VLOOKUP(A1098,[1]SkillConfig!$V:$AF,11,FALSE),\"\"))","v":"自天地间汲取灵气形成玄龟甲碎片凝聚成玄甲，防御增加{0}%,玄甲受到伤害时会对地方造成{1}%防御力的伤害。持续{2}秒"},1190223]
[1190224,{"$f":"CONCATENATE(IFERROR(VLOOKUP(A1099,[1]SkillConfig!$D:$F,3,FALSE),\"\"),IFERROR(VLOOKUP(A1099,[1]SkillConfig!$E:$G,3,FALSE),\"\"),IFERROR(VLOOKUP(A1099,[1]SkillConfig!$V:$AF,11,FALSE),\"\"))","v":"自天地间汲取灵气形成玄龟甲碎片凝聚成玄甲，防御增加{0}%,玄甲受到伤害时会对地方造成{1}%防御力的伤害。持续{2}秒"},1190224]
[1190225,{"$f":"CONCATENATE(IFERROR(VLOOKUP(A1100,[1]SkillConfig!$D:$F,3,FALSE),\"\"),IFERROR(VLOOKUP(A1100,[1]SkillConfig!$E:$G,3,FALSE),\"\"),IFERROR(VLOOKUP(A1100,[1]SkillConfig!$V:$AF,11,FALSE),\"\"))","v":"自天地间汲取灵气形成玄龟甲碎片凝聚成玄甲，防御增加{0}%,玄甲受到伤害时会对地方造成{1}%防御力的伤害。持续{2}秒"},1190225]
[null,{"$f":"CONCATENATE(IFERROR(VLOOKUP(A1101,[1]SkillConfig!$D:$F,3,FALSE),\"\"),IFERROR(VLOOKUP(A1101,[1]SkillConfig!$E:$G,3,FALSE),\"\"),IFERROR(VLOOKUP(A1101,[1]SkillConfig!$V:$AF,11,FALSE),\"\"))","v":""}]
[1190230,{"$f":"CONCATENATE(IFERROR(VLOOKUP(A1102,[1]SkillConfig!$D:$F,3,FALSE),\"\"),IFERROR(VLOOKUP(A1102,[1]SkillConfig!$E:$G,3,FALSE),\"\"),IFERROR(VLOOKUP(A1102,[1]SkillConfig!$V:$AF,11,FALSE),\"\"))","v":"乌龟从嘴里连续吐出{0}多个水球，对敌人造成{1}%攻击力的伤害"},1190230]
[1190231,{"$f":"CONCATENATE(IFERROR(VLOOKUP(A1103,[1]SkillConfig!$D:$F,3,FALSE),\"\"),IFERROR(VLOOKUP(A1103,[1]SkillConfig!$E:$G,3,FALSE),\"\"),IFERROR(VLOOKUP(A1103,[1]SkillConfig!$V:$AF,11,FALSE),\"\"))","v":"乌龟从嘴里连续吐出{0}多个水球，对敌人造成{1}%攻击力的伤害"},1190231]
[1190232,{"$f":"CONCATENATE(IFERROR(VLOOKUP(A1104,[1]SkillConfig!$D:$F,3,FALSE),\"\"),IFERROR(VLOOKUP(A1104,[1]SkillConfig!$E:$G,3,FALSE),\"\"),IFERROR(VLOOKUP(A1104,[1]SkillConfig!$V:$AF,11,FALSE),\"\"))","v":"乌龟从嘴里连续吐出{0}多个水球，对敌人造成{1}%攻击力的伤害"},1190232]
[1190233,{"$f":"CONCATENATE(IFERROR(VLOOKUP(A1105,[1]SkillConfig!$D:$F,3,FALSE),\"\"),IFERROR(VLOOKUP(A1105,[1]SkillConfig!$E:$G,3,FALSE),\"\"),IFERROR(VLOOKUP(A1105,[1]SkillConfig!$V:$AF,11,FALSE),\"\"))","v":"乌龟从嘴里连续吐出{0}多个水球，对敌人造成{1}%攻击力的伤害"},1190233]
[1190234,{"$f":"CONCATENATE(IFERROR(VLOOKUP(A1106,[1]SkillConfig!$D:$F,3,FALSE),\"\"),IFERROR(VLOOKUP(A1106,[1]SkillConfig!$E:$G,3,FALSE),\"\"),IFERROR(VLOOKUP(A1106,[1]SkillConfig!$V:$AF,11,FALSE),\"\"))","v":"乌龟从嘴里连续吐出{0}多个水球，对敌人造成{1}%攻击力的伤害"},1190234]
[1190235,{"$f":"CONCATENATE(IFERROR(VLOOKUP(A1107,[1]SkillConfig!$D:$F,3,FALSE),\"\"),IFERROR(VLOOKUP(A1107,[1]SkillConfig!$E:$G,3,FALSE),\"\"),IFERROR(VLOOKUP(A1107,[1]SkillConfig!$V:$AF,11,FALSE),\"\"))","v":"乌龟从嘴里连续吐出{0}多个水球，对敌人造成{1}%攻击力的伤害"},1190235]
[null,{"$f":"CONCATENATE(IFERROR(VLOOKUP(A1108,[1]SkillConfig!$D:$F,3,FALSE),\"\"),IFERROR(VLOOKUP(A1108,[1]SkillConfig!$E:$G,3,FALSE),\"\"),IFERROR(VLOOKUP(A1108,[1]SkillConfig!$V:$AF,11,FALSE),\"\"))","v":""}]
[1190240,{"$f":"CONCATENATE(IFERROR(VLOOKUP(A1109,[1]SkillConfig!$D:$F,3,FALSE),\"\"),IFERROR(VLOOKUP(A1109,[1]SkillConfig!$E:$G,3,FALSE),\"\"),IFERROR(VLOOKUP(A1109,[1]SkillConfig!$V:$AF,11,FALSE),\"\"))","v":"生命低于{0}%时，神龟仰天长吼，震慑天地后，场上凝聚出寒气，所有主动伤害型技能命中目标后都会施加一层寒气，寒气叠到{1}层时，将消耗所有寒气层数对敌人造成{2}秒的冰冻效果"},1190240]
[1190241,{"$f":"CONCATENATE(IFERROR(VLOOKUP(A1110,[1]SkillConfig!$D:$F,3,FALSE),\"\"),IFERROR(VLOOKUP(A1110,[1]SkillConfig!$E:$G,3,FALSE),\"\"),IFERROR(VLOOKUP(A1110,[1]SkillConfig!$V:$AF,11,FALSE),\"\"))","v":"生命低于{0}%时，神龟仰天长吼，震慑天地后，场上凝聚出寒气，所有主动伤害型技能命中目标后都会施加一层寒气，寒气叠到{1}层时，将消耗所有寒气层数对敌人造成{2}秒的冰冻效果"},1190241]
[1190242,{"$f":"CONCATENATE(IFERROR(VLOOKUP(A1111,[1]SkillConfig!$D:$F,3,FALSE),\"\"),IFERROR(VLOOKUP(A1111,[1]SkillConfig!$E:$G,3,FALSE),\"\"),IFERROR(VLOOKUP(A1111,[1]SkillConfig!$V:$AF,11,FALSE),\"\"))","v":"生命低于{0}%时，神龟仰天长吼，震慑天地后，场上凝聚出寒气，所有主动伤害型技能命中目标后都会施加一层寒气，寒气叠到{1}层时，将消耗所有寒气层数对敌人造成{2}秒的冰冻效果"},1190242]
[1190243,{"$f":"CONCATENATE(IFERROR(VLOOKUP(A1112,[1]SkillConfig!$D:$F,3,FALSE),\"\"),IFERROR(VLOOKUP(A1112,[1]SkillConfig!$E:$G,3,FALSE),\"\"),IFERROR(VLOOKUP(A1112,[1]SkillConfig!$V:$AF,11,FALSE),\"\"))","v":"生命低于{0}%时，神龟仰天长吼，震慑天地后，场上凝聚出寒气，所有主动伤害型技能命中目标后都会施加一层寒气，寒气叠到{1}层时，将消耗所有寒气层数对敌人造成{2}秒的冰冻效果"},1190243]
[1190244,{"$f":"CONCATENATE(IFERROR(VLOOKUP(A1113,[1]SkillConfig!$D:$F,3,FALSE),\"\"),IFERROR(VLOOKUP(A1113,[1]SkillConfig!$E:$G,3,FALSE),\"\"),IFERROR(VLOOKUP(A1113,[1]SkillConfig!$V:$AF,11,FALSE),\"\"))","v":"生命低于{0}%时，神龟仰天长吼，震慑天地后，场上凝聚出寒气，所有主动伤害型技能命中目标后都会施加一层寒气，寒气叠到{1}层时，将消耗所有寒气层数对敌人造成{2}秒的冰冻效果"},1190244]
[1190245,{"$f":"CONCATENATE(IFERROR(VLOOKUP(A1114,[1]SkillConfig!$D:$F,3,FALSE),\"\"),IFERROR(VLOOKUP(A1114,[1]SkillConfig!$E:$G,3,FALSE),\"\"),IFERROR(VLOOKUP(A1114,[1]SkillConfig!$V:$AF,11,FALSE),\"\"))","v":"生命低于{0}%时，神龟仰天长吼，震慑天地后，场上凝聚出寒气，所有主动伤害型技能命中目标后都会施加一层寒气，寒气叠到{1}层时，将消耗所有寒气层数对敌人造成{2}秒的冰冻效果"},1190245]
[null,{"$f":"CONCATENATE(IFERROR(VLOOKUP(A1115,[1]SkillConfig!$D:$F,3,FALSE),\"\"),IFERROR(VLOOKUP(A1115,[1]SkillConfig!$E:$G,3,FALSE),\"\"),IFERROR(VLOOKUP(A1115,[1]SkillConfig!$V:$AF,11,FALSE),\"\"))","v":""}]
[1190610,{"$f":"CONCATENATE(IFERROR(VLOOKUP(A1116,[1]SkillConfig!$D:$F,3,FALSE),\"\"),IFERROR(VLOOKUP(A1116,[1]SkillConfig!$E:$G,3,FALSE),\"\"),IFERROR(VLOOKUP(A1116,[1]SkillConfig!$V:$AF,11,FALSE),\"\"))","v":"身体摇动，天空散发出小小的花朵干扰敌方灵识。木灵隐藏其中时防御+{0}%,期间不再攻击，直到木灵之子全部死亡后的{1}秒消失"},1190610]
[1190611,{"$f":"CONCATENATE(IFERROR(VLOOKUP(A1117,[1]SkillConfig!$D:$F,3,FALSE),\"\"),IFERROR(VLOOKUP(A1117,[1]SkillConfig!$E:$G,3,FALSE),\"\"),IFERROR(VLOOKUP(A1117,[1]SkillConfig!$V:$AF,11,FALSE),\"\"))","v":"身体摇动，天空散发出小小的花朵干扰敌方灵识。木灵隐藏其中时防御+{0}%,期间不再攻击，直到木灵之子全部死亡后的{1}秒消失"},1190611]
[1190612,{"$f":"CONCATENATE(IFERROR(VLOOKUP(A1118,[1]SkillConfig!$D:$F,3,FALSE),\"\"),IFERROR(VLOOKUP(A1118,[1]SkillConfig!$E:$G,3,FALSE),\"\"),IFERROR(VLOOKUP(A1118,[1]SkillConfig!$V:$AF,11,FALSE),\"\"))","v":"身体摇动，天空散发出小小的花朵干扰敌方灵识。木灵隐藏其中时防御+{0}%,期间不再攻击，直到木灵之子全部死亡后的{1}秒消失"},1190612]
[1190613,{"$f":"CONCATENATE(IFERROR(VLOOKUP(A1119,[1]SkillConfig!$D:$F,3,FALSE),\"\"),IFERROR(VLOOKUP(A1119,[1]SkillConfig!$E:$G,3,FALSE),\"\"),IFERROR(VLOOKUP(A1119,[1]SkillConfig!$V:$AF,11,FALSE),\"\"))","v":"身体摇动，天空散发出小小的花朵干扰敌方灵识。木灵隐藏其中时防御+{0}%,期间不再攻击，直到木灵之子全部死亡后的{1}秒消失"},1190613]
[1190614,{"$f":"CONCATENATE(IFERROR(VLOOKUP(A1120,[1]SkillConfig!$D:$F,3,FALSE),\"\"),IFERROR(VLOOKUP(A1120,[1]SkillConfig!$E:$G,3,FALSE),\"\"),IFERROR(VLOOKUP(A1120,[1]SkillConfig!$V:$AF,11,FALSE),\"\"))","v":"身体摇动，天空散发出小小的花朵干扰敌方灵识。木灵隐藏其中时防御+{0}%,期间不再攻击，直到木灵之子全部死亡后的{1}秒消失"},1190614]
[1190615,{"$f":"CONCATENATE(IFERROR(VLOOKUP(A1121,[1]SkillConfig!$D:$F,3,FALSE),\"\"),IFERROR(VLOOKUP(A1121,[1]SkillConfig!$E:$G,3,FALSE),\"\"),IFERROR(VLOOKUP(A1121,[1]SkillConfig!$V:$AF,11,FALSE),\"\"))","v":"身体摇动，天空散发出小小的花朵干扰敌方灵识。木灵隐藏其中时防御+{0}%,期间不再攻击，直到木灵之子全部死亡后的{1}秒消失"},1190615]
[null,{"$f":"CONCATENATE(IFERROR(VLOOKUP(A1122,[1]SkillConfig!$D:$F,3,FALSE),\"\"),IFERROR(VLOOKUP(A1122,[1]SkillConfig!$E:$G,3,FALSE),\"\"),IFERROR(VLOOKUP(A1122,[1]SkillConfig!$V:$AF,11,FALSE),\"\"))","v":""}]
[1190620,{"$f":"CONCATENATE(IFERROR(VLOOKUP(A1123,[1]SkillConfig!$D:$F,3,FALSE),\"\"),IFERROR(VLOOKUP(A1123,[1]SkillConfig!$E:$G,3,FALSE),\"\"),IFERROR(VLOOKUP(A1123,[1]SkillConfig!$V:$AF,11,FALSE),\"\"))","v":"生命低于{0}%时会触发，木灵的根须快速在自身周围生出2个木灵之子，木灵之子继承木灵的{1}%的生命值，木灵之子全部死亡后{2}秒后会再次释放"},1190620]
[1190621,{"$f":"CONCATENATE(IFERROR(VLOOKUP(A1124,[1]SkillConfig!$D:$F,3,FALSE),\"\"),IFERROR(VLOOKUP(A1124,[1]SkillConfig!$E:$G,3,FALSE),\"\"),IFERROR(VLOOKUP(A1124,[1]SkillConfig!$V:$AF,11,FALSE),\"\"))","v":"生命低于{0}%时会触发，木灵的根须快速在自身周围生出2个木灵之子，木灵之子继承木灵的{1}%的生命值，木灵之子全部死亡后{2}秒后会再次释放"},1190621]
[1190622,{"$f":"CONCATENATE(IFERROR(VLOOKUP(A1125,[1]SkillConfig!$D:$F,3,FALSE),\"\"),IFERROR(VLOOKUP(A1125,[1]SkillConfig!$E:$G,3,FALSE),\"\"),IFERROR(VLOOKUP(A1125,[1]SkillConfig!$V:$AF,11,FALSE),\"\"))","v":"生命低于{0}%时会触发，木灵的根须快速在自身周围生出2个木灵之子，木灵之子继承木灵的{1}%的生命值，木灵之子全部死亡后{2}秒后会再次释放"},1190622]
[1190623,{"$f":"CONCATENATE(IFERROR(VLOOKUP(A1126,[1]SkillConfig!$D:$F,3,FALSE),\"\"),IFERROR(VLOOKUP(A1126,[1]SkillConfig!$E:$G,3,FALSE),\"\"),IFERROR(VLOOKUP(A1126,[1]SkillConfig!$V:$AF,11,FALSE),\"\"))","v":"生命低于{0}%时会触发，木灵的根须快速在自身周围生出2个木灵之子，木灵之子继承木灵的{1}%的生命值，木灵之子全部死亡后{2}秒后会再次释放"},1190623]
[1190624,{"$f":"CONCATENATE(IFERROR(VLOOKUP(A1127,[1]SkillConfig!$D:$F,3,FALSE),\"\"),IFERROR(VLOOKUP(A1127,[1]SkillConfig!$E:$G,3,FALSE),\"\"),IFERROR(VLOOKUP(A1127,[1]SkillConfig!$V:$AF,11,FALSE),\"\"))","v":"生命低于{0}%时会触发，木灵的根须快速在自身周围生出2个木灵之子，木灵之子继承木灵的{1}%的生命值，木灵之子全部死亡后{2}秒后会再次释放"},1190624]
[1190625,{"$f":"CONCATENATE(IFERROR(VLOOKUP(A1128,[1]SkillConfig!$D:$F,3,FALSE),\"\"),IFERROR(VLOOKUP(A1128,[1]SkillConfig!$E:$G,3,FALSE),\"\"),IFERROR(VLOOKUP(A1128,[1]SkillConfig!$V:$AF,11,FALSE),\"\"))","v":"生命低于{0}%时会触发，木灵的根须快速在自身周围生出2个木灵之子，木灵之子继承木灵的{1}%的生命值，木灵之子全部死亡后{2}秒后会再次释放"},1190625]
[null,{"$f":"CONCATENATE(IFERROR(VLOOKUP(A1129,[1]SkillConfig!$D:$F,3,FALSE),\"\"),IFERROR(VLOOKUP(A1129,[1]SkillConfig!$E:$G,3,FALSE),\"\"),IFERROR(VLOOKUP(A1129,[1]SkillConfig!$V:$AF,11,FALSE),\"\"))","v":""}]
[1190630,{"$f":"CONCATENATE(IFERROR(VLOOKUP(A1130,[1]SkillConfig!$D:$F,3,FALSE),\"\"),IFERROR(VLOOKUP(A1130,[1]SkillConfig!$E:$G,3,FALSE),\"\"),IFERROR(VLOOKUP(A1130,[1]SkillConfig!$V:$AF,11,FALSE),\"\"))","v":"木灵挥手凝聚，从手中挥舞出{0}个木刺，直线飞向敌人\n，对敌人造成{1}%攻击力的伤害"},1190630]
[1190631,{"$f":"CONCATENATE(IFERROR(VLOOKUP(A1131,[1]SkillConfig!$D:$F,3,FALSE),\"\"),IFERROR(VLOOKUP(A1131,[1]SkillConfig!$E:$G,3,FALSE),\"\"),IFERROR(VLOOKUP(A1131,[1]SkillConfig!$V:$AF,11,FALSE),\"\"))","v":"木灵挥手凝聚，从手中挥舞出{0}个木刺，直线飞向敌人\n，对敌人造成{1}%攻击力的伤害"},1190631]
[1190632,{"$f":"CONCATENATE(IFERROR(VLOOKUP(A1132,[1]SkillConfig!$D:$F,3,FALSE),\"\"),IFERROR(VLOOKUP(A1132,[1]SkillConfig!$E:$G,3,FALSE),\"\"),IFERROR(VLOOKUP(A1132,[1]SkillConfig!$V:$AF,11,FALSE),\"\"))","v":"木灵挥手凝聚，从手中挥舞出{0}个木刺，直线飞向敌人\n，对敌人造成{1}%攻击力的伤害"},1190632]
[1190633,{"$f":"CONCATENATE(IFERROR(VLOOKUP(A1133,[1]SkillConfig!$D:$F,3,FALSE),\"\"),IFERROR(VLOOKUP(A1133,[1]SkillConfig!$E:$G,3,FALSE),\"\"),IFERROR(VLOOKUP(A1133,[1]SkillConfig!$V:$AF,11,FALSE),\"\"))","v":"木灵挥手凝聚，从手中挥舞出{0}个木刺，直线飞向敌人\n，对敌人造成{1}%攻击力的伤害"},1190633]
[1190634,{"$f":"CONCATENATE(IFERROR(VLOOKUP(A1134,[1]SkillConfig!$D:$F,3,FALSE),\"\"),IFERROR(VLOOKUP(A1134,[1]SkillConfig!$E:$G,3,FALSE),\"\"),IFERROR(VLOOKUP(A1134,[1]SkillConfig!$V:$AF,11,FALSE),\"\"))","v":"木灵挥手凝聚，从手中挥舞出{0}个木刺，直线飞向敌人\n，对敌人造成{1}%攻击力的伤害"},1190634]
[1190635,{"$f":"CONCATENATE(IFERROR(VLOOKUP(A1135,[1]SkillConfig!$D:$F,3,FALSE),\"\"),IFERROR(VLOOKUP(A1135,[1]SkillConfig!$E:$G,3,FALSE),\"\"),IFERROR(VLOOKUP(A1135,[1]SkillConfig!$V:$AF,11,FALSE),\"\"))","v":"木灵挥手凝聚，从手中挥舞出{0}个木刺，直线飞向敌人\n，对敌人造成{1}%攻击力的伤害"},1190635]
[null,{"$f":"CONCATENATE(IFERROR(VLOOKUP(A1136,[1]SkillConfig!$D:$F,3,FALSE),\"\"),IFERROR(VLOOKUP(A1136,[1]SkillConfig!$E:$G,3,FALSE),\"\"),IFERROR(VLOOKUP(A1136,[1]SkillConfig!$V:$AF,11,FALSE),\"\"))","v":""}]
[1190640,{"$f":"CONCATENATE(IFERROR(VLOOKUP(A1137,[1]SkillConfig!$D:$F,3,FALSE),\"\"),IFERROR(VLOOKUP(A1137,[1]SkillConfig!$E:$G,3,FALSE),\"\"),IFERROR(VLOOKUP(A1137,[1]SkillConfig!$V:$AF,11,FALSE),\"\"))","v":"在敌方脚下生长出藤蔓，将敌人捆住。限制其在{0}秒内不能行动，且无法释放功法以及填充功法，并且受到木灵之子的攻击伤害+{1}%"},1190640]
[1190641,{"$f":"CONCATENATE(IFERROR(VLOOKUP(A1138,[1]SkillConfig!$D:$F,3,FALSE),\"\"),IFERROR(VLOOKUP(A1138,[1]SkillConfig!$E:$G,3,FALSE),\"\"),IFERROR(VLOOKUP(A1138,[1]SkillConfig!$V:$AF,11,FALSE),\"\"))","v":"在敌方脚下生长出藤蔓，将敌人捆住。限制其在{0}秒内不能行动，且无法释放功法以及填充功法，并且受到木灵之子的攻击伤害+{1}%"},1190641]
[1190642,{"$f":"CONCATENATE(IFERROR(VLOOKUP(A1139,[1]SkillConfig!$D:$F,3,FALSE),\"\"),IFERROR(VLOOKUP(A1139,[1]SkillConfig!$E:$G,3,FALSE),\"\"),IFERROR(VLOOKUP(A1139,[1]SkillConfig!$V:$AF,11,FALSE),\"\"))","v":"在敌方脚下生长出藤蔓，将敌人捆住。限制其在{0}秒内不能行动，且无法释放功法以及填充功法，并且受到木灵之子的攻击伤害+{1}%"},1190642]
[1190643,{"$f":"CONCATENATE(IFERROR(VLOOKUP(A1140,[1]SkillConfig!$D:$F,3,FALSE),\"\"),IFERROR(VLOOKUP(A1140,[1]SkillConfig!$E:$G,3,FALSE),\"\"),IFERROR(VLOOKUP(A1140,[1]SkillConfig!$V:$AF,11,FALSE),\"\"))","v":"在敌方脚下生长出藤蔓，将敌人捆住。限制其在{0}秒内不能行动，且无法释放功法以及填充功法，并且受到木灵之子的攻击伤害+{1}%"},1190643]
[1190644,{"$f":"CONCATENATE(IFERROR(VLOOKUP(A1141,[1]SkillConfig!$D:$F,3,FALSE),\"\"),IFERROR(VLOOKUP(A1141,[1]SkillConfig!$E:$G,3,FALSE),\"\"),IFERROR(VLOOKUP(A1141,[1]SkillConfig!$V:$AF,11,FALSE),\"\"))","v":"在敌方脚下生长出藤蔓，将敌人捆住。限制其在{0}秒内不能行动，且无法释放功法以及填充功法，并且受到木灵之子的攻击伤害+{1}%"},1190644]
[1190645,{"$f":"CONCATENATE(IFERROR(VLOOKUP(A1142,[1]SkillConfig!$D:$F,3,FALSE),\"\"),IFERROR(VLOOKUP(A1142,[1]SkillConfig!$E:$G,3,FALSE),\"\"),IFERROR(VLOOKUP(A1142,[1]SkillConfig!$V:$AF,11,FALSE),\"\"))","v":"在敌方脚下生长出藤蔓，将敌人捆住。限制其在{0}秒内不能行动，且无法释放功法以及填充功法，并且受到木灵之子的攻击伤害+{1}%"},1190645]
[null,{"$f":"CONCATENATE(IFERROR(VLOOKUP(A1143,[1]SkillConfig!$D:$F,3,FALSE),\"\"),IFERROR(VLOOKUP(A1143,[1]SkillConfig!$E:$G,3,FALSE),\"\"),IFERROR(VLOOKUP(A1143,[1]SkillConfig!$V:$AF,11,FALSE),\"\"))","v":""}]
[1190710,{"$f":"CONCATENATE(IFERROR(VLOOKUP(A1144,[1]SkillConfig!$D:$F,3,FALSE),\"\"),IFERROR(VLOOKUP(A1144,[1]SkillConfig!$E:$G,3,FALSE),\"\"),IFERROR(VLOOKUP(A1144,[1]SkillConfig!$V:$AF,11,FALSE),\"\"))","v":"挥手发射{0}枚木刺，每根木刺敌人造成{1}%攻击力的伤害"},1190710]
[1190711,{"$f":"CONCATENATE(IFERROR(VLOOKUP(A1145,[1]SkillConfig!$D:$F,3,FALSE),\"\"),IFERROR(VLOOKUP(A1145,[1]SkillConfig!$E:$G,3,FALSE),\"\"),IFERROR(VLOOKUP(A1145,[1]SkillConfig!$V:$AF,11,FALSE),\"\"))","v":"挥手发射{0}枚木刺，每根木刺敌人造成{1}%攻击力的伤害"},1190711]
[1190712,{"$f":"CONCATENATE(IFERROR(VLOOKUP(A1146,[1]SkillConfig!$D:$F,3,FALSE),\"\"),IFERROR(VLOOKUP(A1146,[1]SkillConfig!$E:$G,3,FALSE),\"\"),IFERROR(VLOOKUP(A1146,[1]SkillConfig!$V:$AF,11,FALSE),\"\"))","v":"挥手发射{0}枚木刺，每根木刺敌人造成{1}%攻击力的伤害"},1190712]
[1190713,{"$f":"CONCATENATE(IFERROR(VLOOKUP(A1147,[1]SkillConfig!$D:$F,3,FALSE),\"\"),IFERROR(VLOOKUP(A1147,[1]SkillConfig!$E:$G,3,FALSE),\"\"),IFERROR(VLOOKUP(A1147,[1]SkillConfig!$V:$AF,11,FALSE),\"\"))","v":"挥手发射{0}枚木刺，每根木刺敌人造成{1}%攻击力的伤害"},1190713]
[1190714,{"$f":"CONCATENATE(IFERROR(VLOOKUP(A1148,[1]SkillConfig!$D:$F,3,FALSE),\"\"),IFERROR(VLOOKUP(A1148,[1]SkillConfig!$E:$G,3,FALSE),\"\"),IFERROR(VLOOKUP(A1148,[1]SkillConfig!$V:$AF,11,FALSE),\"\"))","v":"挥手发射{0}枚木刺，每根木刺敌人造成{1}%攻击力的伤害"},1190714]
[1190715,{"$f":"CONCATENATE(IFERROR(VLOOKUP(A1149,[1]SkillConfig!$D:$F,3,FALSE),\"\"),IFERROR(VLOOKUP(A1149,[1]SkillConfig!$E:$G,3,FALSE),\"\"),IFERROR(VLOOKUP(A1149,[1]SkillConfig!$V:$AF,11,FALSE),\"\"))","v":"挥手发射{0}枚木刺，每根木刺敌人造成{1}%攻击力的伤害"},1190715]
[null,{"$f":"CONCATENATE(IFERROR(VLOOKUP(A1150,[1]SkillConfig!$D:$F,3,FALSE),\"\"),IFERROR(VLOOKUP(A1150,[1]SkillConfig!$E:$G,3,FALSE),\"\"),IFERROR(VLOOKUP(A1150,[1]SkillConfig!$V:$AF,11,FALSE),\"\"))","v":""}]
[1190510,{"$f":"CONCATENATE(IFERROR(VLOOKUP(A1151,[1]SkillConfig!$D:$F,3,FALSE),\"\"),IFERROR(VLOOKUP(A1151,[1]SkillConfig!$E:$G,3,FALSE),\"\"),IFERROR(VLOOKUP(A1151,[1]SkillConfig!$V:$AF,11,FALSE),\"\"))","v":"穷奇煽动翅膀，空中形成{0}枚风刃，对敌人造成{1}%攻击力的伤害"},1190510]
[1190511,{"$f":"CONCATENATE(IFERROR(VLOOKUP(A1152,[1]SkillConfig!$D:$F,3,FALSE),\"\"),IFERROR(VLOOKUP(A1152,[1]SkillConfig!$E:$G,3,FALSE),\"\"),IFERROR(VLOOKUP(A1152,[1]SkillConfig!$V:$AF,11,FALSE),\"\"))","v":"穷奇煽动翅膀，空中形成{0}枚风刃，对敌人造成{1}%攻击力的伤害"},1190511]
[1190512,{"$f":"CONCATENATE(IFERROR(VLOOKUP(A1153,[1]SkillConfig!$D:$F,3,FALSE),\"\"),IFERROR(VLOOKUP(A1153,[1]SkillConfig!$E:$G,3,FALSE),\"\"),IFERROR(VLOOKUP(A1153,[1]SkillConfig!$V:$AF,11,FALSE),\"\"))","v":"穷奇煽动翅膀，空中形成{0}枚风刃，对敌人造成{1}%攻击力的伤害"},1190512]
[1190513,{"$f":"CONCATENATE(IFERROR(VLOOKUP(A1154,[1]SkillConfig!$D:$F,3,FALSE),\"\"),IFERROR(VLOOKUP(A1154,[1]SkillConfig!$E:$G,3,FALSE),\"\"),IFERROR(VLOOKUP(A1154,[1]SkillConfig!$V:$AF,11,FALSE),\"\"))","v":"穷奇煽动翅膀，空中形成{0}枚风刃，对敌人造成{1}%攻击力的伤害"},1190513]
[1190514,{"$f":"CONCATENATE(IFERROR(VLOOKUP(A1155,[1]SkillConfig!$D:$F,3,FALSE),\"\"),IFERROR(VLOOKUP(A1155,[1]SkillConfig!$E:$G,3,FALSE),\"\"),IFERROR(VLOOKUP(A1155,[1]SkillConfig!$V:$AF,11,FALSE),\"\"))","v":"穷奇煽动翅膀，空中形成{0}枚风刃，对敌人造成{1}%攻击力的伤害"},1190514]
[1190515,{"$f":"CONCATENATE(IFERROR(VLOOKUP(A1156,[1]SkillConfig!$D:$F,3,FALSE),\"\"),IFERROR(VLOOKUP(A1156,[1]SkillConfig!$E:$G,3,FALSE),\"\"),IFERROR(VLOOKUP(A1156,[1]SkillConfig!$V:$AF,11,FALSE),\"\"))","v":"穷奇煽动翅膀，空中形成{0}枚风刃，对敌人造成{1}%攻击力的伤害"},1190515]
[null,{"$f":"CONCATENATE(IFERROR(VLOOKUP(A1157,[1]SkillConfig!$D:$F,3,FALSE),\"\"),IFERROR(VLOOKUP(A1157,[1]SkillConfig!$E:$G,3,FALSE),\"\"),IFERROR(VLOOKUP(A1157,[1]SkillConfig!$V:$AF,11,FALSE),\"\"))","v":""}]
[1190520,{"$f":"CONCATENATE(IFERROR(VLOOKUP(A1158,[1]SkillConfig!$D:$F,3,FALSE),\"\"),IFERROR(VLOOKUP(A1158,[1]SkillConfig!$E:$G,3,FALSE),\"\"),IFERROR(VLOOKUP(A1158,[1]SkillConfig!$V:$AF,11,FALSE),\"\"))","v":"穷奇自身引雷而下，快速的从嘴上吐出{0}个光波，\n对敌人造成{1}%攻击力的伤害，每个光波带有雷电之力，对敌人施加一层感电"},1190520]
[1190521,{"$f":"CONCATENATE(IFERROR(VLOOKUP(A1159,[1]SkillConfig!$D:$F,3,FALSE),\"\"),IFERROR(VLOOKUP(A1159,[1]SkillConfig!$E:$G,3,FALSE),\"\"),IFERROR(VLOOKUP(A1159,[1]SkillConfig!$V:$AF,11,FALSE),\"\"))","v":"穷奇自身引雷而下，快速的从嘴上吐出{0}个光波，\n对敌人造成{1}%攻击力的伤害，每个光波带有雷电之力，对敌人施加一层感电"},1190521]
[1190522,{"$f":"CONCATENATE(IFERROR(VLOOKUP(A1160,[1]SkillConfig!$D:$F,3,FALSE),\"\"),IFERROR(VLOOKUP(A1160,[1]SkillConfig!$E:$G,3,FALSE),\"\"),IFERROR(VLOOKUP(A1160,[1]SkillConfig!$V:$AF,11,FALSE),\"\"))","v":"穷奇自身引雷而下，快速的从嘴上吐出{0}个光波，\n对敌人造成{1}%攻击力的伤害，每个光波带有雷电之力，对敌人施加一层感电"},1190522]
[1190523,{"$f":"CONCATENATE(IFERROR(VLOOKUP(A1161,[1]SkillConfig!$D:$F,3,FALSE),\"\"),IFERROR(VLOOKUP(A1161,[1]SkillConfig!$E:$G,3,FALSE),\"\"),IFERROR(VLOOKUP(A1161,[1]SkillConfig!$V:$AF,11,FALSE),\"\"))","v":"穷奇自身引雷而下，快速的从嘴上吐出{0}个光波，\n对敌人造成{1}%攻击力的伤害，每个光波带有雷电之力，对敌人施加一层感电"},1190523]
[1190524,{"$f":"CONCATENATE(IFERROR(VLOOKUP(A1162,[1]SkillConfig!$D:$F,3,FALSE),\"\"),IFERROR(VLOOKUP(A1162,[1]SkillConfig!$E:$G,3,FALSE),\"\"),IFERROR(VLOOKUP(A1162,[1]SkillConfig!$V:$AF,11,FALSE),\"\"))","v":"穷奇自身引雷而下，快速的从嘴上吐出{0}个光波，\n对敌人造成{1}%攻击力的伤害，每个光波带有雷电之力，对敌人施加一层感电"},1190524]
[1190525,{"$f":"CONCATENATE(IFERROR(VLOOKUP(A1163,[1]SkillConfig!$D:$F,3,FALSE),\"\"),IFERROR(VLOOKUP(A1163,[1]SkillConfig!$E:$G,3,FALSE),\"\"),IFERROR(VLOOKUP(A1163,[1]SkillConfig!$V:$AF,11,FALSE),\"\"))","v":"穷奇自身引雷而下，快速的从嘴上吐出{0}个光波，\n对敌人造成{1}%攻击力的伤害，每个光波带有雷电之力，对敌人施加一层感电"},1190525]
[null,{"$f":"CONCATENATE(IFERROR(VLOOKUP(A1164,[1]SkillConfig!$D:$F,3,FALSE),\"\"),IFERROR(VLOOKUP(A1164,[1]SkillConfig!$E:$G,3,FALSE),\"\"),IFERROR(VLOOKUP(A1164,[1]SkillConfig!$V:$AF,11,FALSE),\"\"))","v":""}]
[1190530,{"$f":"CONCATENATE(IFERROR(VLOOKUP(A1165,[1]SkillConfig!$D:$F,3,FALSE),\"\"),IFERROR(VLOOKUP(A1165,[1]SkillConfig!$E:$G,3,FALSE),\"\"),IFERROR(VLOOKUP(A1165,[1]SkillConfig!$V:$AF,11,FALSE),\"\"))","v":"仰天施法，引导天雷，天雷在战场上随机落下，{0}%的概率击中目标，每层感电额外增加{1}%概率，至多击中目标{2}次，每次击中造成{3}%攻击力的伤害，每消耗一层感电额外照造成{4}%攻击力的伤害。引雷可以击中弹道.持续{5}秒"},1190530]
[1190531,{"$f":"CONCATENATE(IFERROR(VLOOKUP(A1166,[1]SkillConfig!$D:$F,3,FALSE),\"\"),IFERROR(VLOOKUP(A1166,[1]SkillConfig!$E:$G,3,FALSE),\"\"),IFERROR(VLOOKUP(A1166,[1]SkillConfig!$V:$AF,11,FALSE),\"\"))","v":"仰天施法，引导天雷，天雷在战场上随机落下，{0}%的概率击中目标，每层感电额外增加{1}%概率，至多击中目标{2}次，每次击中造成{3}%攻击力的伤害，每消耗一层感电额外照造成{4}%攻击力的伤害。引雷可以击中弹道.持续{5}秒"},1190531]
[1190532,{"$f":"CONCATENATE(IFERROR(VLOOKUP(A1167,[1]SkillConfig!$D:$F,3,FALSE),\"\"),IFERROR(VLOOKUP(A1167,[1]SkillConfig!$E:$G,3,FALSE),\"\"),IFERROR(VLOOKUP(A1167,[1]SkillConfig!$V:$AF,11,FALSE),\"\"))","v":"仰天施法，引导天雷，天雷在战场上随机落下，{0}%的概率击中目标，每层感电额外增加{1}%概率，至多击中目标{2}次，每次击中造成{3}%攻击力的伤害，每消耗一层感电额外照造成{4}%攻击力的伤害。引雷可以击中弹道.持续{5}秒"},1190532]
[1190533,{"$f":"CONCATENATE(IFERROR(VLOOKUP(A1168,[1]SkillConfig!$D:$F,3,FALSE),\"\"),IFERROR(VLOOKUP(A1168,[1]SkillConfig!$E:$G,3,FALSE),\"\"),IFERROR(VLOOKUP(A1168,[1]SkillConfig!$V:$AF,11,FALSE),\"\"))","v":"仰天施法，引导天雷，天雷在战场上随机落下，{0}%的概率击中目标，每层感电额外增加{1}%概率，至多击中目标{2}次，每次击中造成{3}%攻击力的伤害，每消耗一层感电额外照造成{4}%攻击力的伤害。引雷可以击中弹道.持续{5}秒"},1190533]
[1190534,{"$f":"CONCATENATE(IFERROR(VLOOKUP(A1169,[1]SkillConfig!$D:$F,3,FALSE),\"\"),IFERROR(VLOOKUP(A1169,[1]SkillConfig!$E:$G,3,FALSE),\"\"),IFERROR(VLOOKUP(A1169,[1]SkillConfig!$V:$AF,11,FALSE),\"\"))","v":"仰天施法，引导天雷，天雷在战场上随机落下，{0}%的概率击中目标，每层感电额外增加{1}%概率，至多击中目标{2}次，每次击中造成{3}%攻击力的伤害，每消耗一层感电额外照造成{4}%攻击力的伤害。引雷可以击中弹道.持续{5}秒"},1190534]
[1190535,{"$f":"CONCATENATE(IFERROR(VLOOKUP(A1170,[1]SkillConfig!$D:$F,3,FALSE),\"\"),IFERROR(VLOOKUP(A1170,[1]SkillConfig!$E:$G,3,FALSE),\"\"),IFERROR(VLOOKUP(A1170,[1]SkillConfig!$V:$AF,11,FALSE),\"\"))","v":"仰天施法，引导天雷，天雷在战场上随机落下，{0}%的概率击中目标，每层感电额外增加{1}%概率，至多击中目标{2}次，每次击中造成{3}%攻击力的伤害，每消耗一层感电额外照造成{4}%攻击力的伤害。引雷可以击中弹道.持续{5}秒"},1190535]
[null,{"$f":"CONCATENATE(IFERROR(VLOOKUP(A1171,[1]SkillConfig!$D:$F,3,FALSE),\"\"),IFERROR(VLOOKUP(A1171,[1]SkillConfig!$E:$G,3,FALSE),\"\"),IFERROR(VLOOKUP(A1171,[1]SkillConfig!$V:$AF,11,FALSE),\"\"))","v":""}]
[1190540,{"$f":"CONCATENATE(IFERROR(VLOOKUP(A1172,[1]SkillConfig!$D:$F,3,FALSE),\"\"),IFERROR(VLOOKUP(A1172,[1]SkillConfig!$E:$G,3,FALSE),\"\"),IFERROR(VLOOKUP(A1172,[1]SkillConfig!$V:$AF,11,FALSE),\"\"))","v":"每隔{0}秒，唤出天雷劈向带有感电的敌人，每层感电将对敌人造成{1}%攻击力的伤害"},1190540]
[1190541,{"$f":"CONCATENATE(IFERROR(VLOOKUP(A1173,[1]SkillConfig!$D:$F,3,FALSE),\"\"),IFERROR(VLOOKUP(A1173,[1]SkillConfig!$E:$G,3,FALSE),\"\"),IFERROR(VLOOKUP(A1173,[1]SkillConfig!$V:$AF,11,FALSE),\"\"))","v":"每隔{0}秒，唤出天雷劈向带有感电的敌人，每层感电将对敌人造成{1}%攻击力的伤害"},1190541]
[1190542,{"$f":"CONCATENATE(IFERROR(VLOOKUP(A1174,[1]SkillConfig!$D:$F,3,FALSE),\"\"),IFERROR(VLOOKUP(A1174,[1]SkillConfig!$E:$G,3,FALSE),\"\"),IFERROR(VLOOKUP(A1174,[1]SkillConfig!$V:$AF,11,FALSE),\"\"))","v":"每隔{0}秒，唤出天雷劈向带有感电的敌人，每层感电将对敌人造成{1}%攻击力的伤害"},1190542]
[1190543,{"$f":"CONCATENATE(IFERROR(VLOOKUP(A1175,[1]SkillConfig!$D:$F,3,FALSE),\"\"),IFERROR(VLOOKUP(A1175,[1]SkillConfig!$E:$G,3,FALSE),\"\"),IFERROR(VLOOKUP(A1175,[1]SkillConfig!$V:$AF,11,FALSE),\"\"))","v":"每隔{0}秒，唤出天雷劈向带有感电的敌人，每层感电将对敌人造成{1}%攻击力的伤害"},1190543]
[1190544,{"$f":"CONCATENATE(IFERROR(VLOOKUP(A1176,[1]SkillConfig!$D:$F,3,FALSE),\"\"),IFERROR(VLOOKUP(A1176,[1]SkillConfig!$E:$G,3,FALSE),\"\"),IFERROR(VLOOKUP(A1176,[1]SkillConfig!$V:$AF,11,FALSE),\"\"))","v":"每隔{0}秒，唤出天雷劈向带有感电的敌人，每层感电将对敌人造成{1}%攻击力的伤害"},1190544]
[1190545,{"$f":"CONCATENATE(IFERROR(VLOOKUP(A1177,[1]SkillConfig!$D:$F,3,FALSE),\"\"),IFERROR(VLOOKUP(A1177,[1]SkillConfig!$E:$G,3,FALSE),\"\"),IFERROR(VLOOKUP(A1177,[1]SkillConfig!$V:$AF,11,FALSE),\"\"))","v":"每隔{0}秒，唤出天雷劈向带有感电的敌人，每层感电将对敌人造成{1}%攻击力的伤害"},1190545]
[null,{"$f":"CONCATENATE(IFERROR(VLOOKUP(A1178,[1]SkillConfig!$D:$F,3,FALSE),\"\"),IFERROR(VLOOKUP(A1178,[1]SkillConfig!$E:$G,3,FALSE),\"\"),IFERROR(VLOOKUP(A1178,[1]SkillConfig!$V:$AF,11,FALSE),\"\"))","v":""}]
[1190310,{"$f":"CONCATENATE(IFERROR(VLOOKUP(A1179,[1]SkillConfig!$D:$F,3,FALSE),\"\"),IFERROR(VLOOKUP(A1179,[1]SkillConfig!$E:$G,3,FALSE),\"\"),IFERROR(VLOOKUP(A1179,[1]SkillConfig!$V:$AF,11,FALSE),\"\"))","v":"蜘蛛从嘴里连续激发出{0}道毒刺，对敌人造成{1}%攻击力的伤害，命中敌人时有{2}%概率施加1层中毒"},1190310]
[1190311,{"$f":"CONCATENATE(IFERROR(VLOOKUP(A1180,[1]SkillConfig!$D:$F,3,FALSE),\"\"),IFERROR(VLOOKUP(A1180,[1]SkillConfig!$E:$G,3,FALSE),\"\"),IFERROR(VLOOKUP(A1180,[1]SkillConfig!$V:$AF,11,FALSE),\"\"))","v":"蜘蛛从嘴里连续激发出{0}道毒刺，对敌人造成{1}%攻击力的伤害，命中敌人时有{2}%概率施加1层中毒"},1190311]
[1190312,{"$f":"CONCATENATE(IFERROR(VLOOKUP(A1181,[1]SkillConfig!$D:$F,3,FALSE),\"\"),IFERROR(VLOOKUP(A1181,[1]SkillConfig!$E:$G,3,FALSE),\"\"),IFERROR(VLOOKUP(A1181,[1]SkillConfig!$V:$AF,11,FALSE),\"\"))","v":"蜘蛛从嘴里连续激发出{0}道毒刺，对敌人造成{1}%攻击力的伤害，命中敌人时有{2}%概率施加1层中毒"},1190312]
[1190313,{"$f":"CONCATENATE(IFERROR(VLOOKUP(A1182,[1]SkillConfig!$D:$F,3,FALSE),\"\"),IFERROR(VLOOKUP(A1182,[1]SkillConfig!$E:$G,3,FALSE),\"\"),IFERROR(VLOOKUP(A1182,[1]SkillConfig!$V:$AF,11,FALSE),\"\"))","v":"蜘蛛从嘴里连续激发出{0}道毒刺，对敌人造成{1}%攻击力的伤害，命中敌人时有{2}%概率施加1层中毒"},1190313]
[1190314,{"$f":"CONCATENATE(IFERROR(VLOOKUP(A1183,[1]SkillConfig!$D:$F,3,FALSE),\"\"),IFERROR(VLOOKUP(A1183,[1]SkillConfig!$E:$G,3,FALSE),\"\"),IFERROR(VLOOKUP(A1183,[1]SkillConfig!$V:$AF,11,FALSE),\"\"))","v":"蜘蛛从嘴里连续激发出{0}道毒刺，对敌人造成{1}%攻击力的伤害，命中敌人时有{2}%概率施加1层中毒"},1190314]
[1190315,{"$f":"CONCATENATE(IFERROR(VLOOKUP(A1184,[1]SkillConfig!$D:$F,3,FALSE),\"\"),IFERROR(VLOOKUP(A1184,[1]SkillConfig!$E:$G,3,FALSE),\"\"),IFERROR(VLOOKUP(A1184,[1]SkillConfig!$V:$AF,11,FALSE),\"\"))","v":"蜘蛛从嘴里连续激发出{0}道毒刺，对敌人造成{1}%攻击力的伤害，命中敌人时有{2}%概率施加1层中毒"},1190315]
[null,{"$f":"CONCATENATE(IFERROR(VLOOKUP(A1185,[1]SkillConfig!$D:$F,3,FALSE),\"\"),IFERROR(VLOOKUP(A1185,[1]SkillConfig!$E:$G,3,FALSE),\"\"),IFERROR(VLOOKUP(A1185,[1]SkillConfig!$V:$AF,11,FALSE),\"\"))","v":""}]
[1190320,{"$f":"CONCATENATE(IFERROR(VLOOKUP(A1186,[1]SkillConfig!$D:$F,3,FALSE),\"\"),IFERROR(VLOOKUP(A1186,[1]SkillConfig!$E:$G,3,FALSE),\"\"),IFERROR(VLOOKUP(A1186,[1]SkillConfig!$V:$AF,11,FALSE),\"\"))","v":"蜘蛛身体抖动出现{0}个小蜘蛛飞向敌人，对敌人造成{1}%攻击力的伤害"},1190320]
[1190321,{"$f":"CONCATENATE(IFERROR(VLOOKUP(A1187,[1]SkillConfig!$D:$F,3,FALSE),\"\"),IFERROR(VLOOKUP(A1187,[1]SkillConfig!$E:$G,3,FALSE),\"\"),IFERROR(VLOOKUP(A1187,[1]SkillConfig!$V:$AF,11,FALSE),\"\"))","v":"蜘蛛身体抖动出现{0}个小蜘蛛飞向敌人，对敌人造成{1}%攻击力的伤害"},1190321]
[1190322,{"$f":"CONCATENATE(IFERROR(VLOOKUP(A1188,[1]SkillConfig!$D:$F,3,FALSE),\"\"),IFERROR(VLOOKUP(A1188,[1]SkillConfig!$E:$G,3,FALSE),\"\"),IFERROR(VLOOKUP(A1188,[1]SkillConfig!$V:$AF,11,FALSE),\"\"))","v":"蜘蛛身体抖动出现{0}个小蜘蛛飞向敌人，对敌人造成{1}%攻击力的伤害"},1190322]
[1190323,{"$f":"CONCATENATE(IFERROR(VLOOKUP(A1189,[1]SkillConfig!$D:$F,3,FALSE),\"\"),IFERROR(VLOOKUP(A1189,[1]SkillConfig!$E:$G,3,FALSE),\"\"),IFERROR(VLOOKUP(A1189,[1]SkillConfig!$V:$AF,11,FALSE),\"\"))","v":"蜘蛛身体抖动出现{0}个小蜘蛛飞向敌人，对敌人造成{1}%攻击力的伤害"},1190323]
[1190324,{"$f":"CONCATENATE(IFERROR(VLOOKUP(A1190,[1]SkillConfig!$D:$F,3,FALSE),\"\"),IFERROR(VLOOKUP(A1190,[1]SkillConfig!$E:$G,3,FALSE),\"\"),IFERROR(VLOOKUP(A1190,[1]SkillConfig!$V:$AF,11,FALSE),\"\"))","v":"蜘蛛身体抖动出现{0}个小蜘蛛飞向敌人，对敌人造成{1}%攻击力的伤害"},1190324]
[1190325,{"$f":"CONCATENATE(IFERROR(VLOOKUP(A1191,[1]SkillConfig!$D:$F,3,FALSE),\"\"),IFERROR(VLOOKUP(A1191,[1]SkillConfig!$E:$G,3,FALSE),\"\"),IFERROR(VLOOKUP(A1191,[1]SkillConfig!$V:$AF,11,FALSE),\"\"))","v":"蜘蛛身体抖动出现{0}个小蜘蛛飞向敌人，对敌人造成{1}%攻击力的伤害"},1190325]
[null,{"$f":"CONCATENATE(IFERROR(VLOOKUP(A1192,[1]SkillConfig!$D:$F,3,FALSE),\"\"),IFERROR(VLOOKUP(A1192,[1]SkillConfig!$E:$G,3,FALSE),\"\"),IFERROR(VLOOKUP(A1192,[1]SkillConfig!$V:$AF,11,FALSE),\"\"))","v":""}]
[1190330,{"$f":"CONCATENATE(IFERROR(VLOOKUP(A1193,[1]SkillConfig!$D:$F,3,FALSE),\"\"),IFERROR(VLOOKUP(A1193,[1]SkillConfig!$E:$G,3,FALSE),\"\"),IFERROR(VLOOKUP(A1193,[1]SkillConfig!$V:$AF,11,FALSE),\"\"))","v":"嘴里吐出{0}道蜘蛛丝对敌人造成{1}%攻击力的伤害"},1190330]
[1190331,{"$f":"CONCATENATE(IFERROR(VLOOKUP(A1194,[1]SkillConfig!$D:$F,3,FALSE),\"\"),IFERROR(VLOOKUP(A1194,[1]SkillConfig!$E:$G,3,FALSE),\"\"),IFERROR(VLOOKUP(A1194,[1]SkillConfig!$V:$AF,11,FALSE),\"\"))","v":"嘴里吐出{0}道蜘蛛丝对敌人造成{1}%攻击力的伤害"},1190331]
[1190332,{"$f":"CONCATENATE(IFERROR(VLOOKUP(A1195,[1]SkillConfig!$D:$F,3,FALSE),\"\"),IFERROR(VLOOKUP(A1195,[1]SkillConfig!$E:$G,3,FALSE),\"\"),IFERROR(VLOOKUP(A1195,[1]SkillConfig!$V:$AF,11,FALSE),\"\"))","v":"嘴里吐出{0}道蜘蛛丝对敌人造成{1}%攻击力的伤害"},1190332]
[1190333,{"$f":"CONCATENATE(IFERROR(VLOOKUP(A1196,[1]SkillConfig!$D:$F,3,FALSE),\"\"),IFERROR(VLOOKUP(A1196,[1]SkillConfig!$E:$G,3,FALSE),\"\"),IFERROR(VLOOKUP(A1196,[1]SkillConfig!$V:$AF,11,FALSE),\"\"))","v":"嘴里吐出{0}道蜘蛛丝对敌人造成{1}%攻击力的伤害"},1190333]
[1190334,{"$f":"CONCATENATE(IFERROR(VLOOKUP(A1197,[1]SkillConfig!$D:$F,3,FALSE),\"\"),IFERROR(VLOOKUP(A1197,[1]SkillConfig!$E:$G,3,FALSE),\"\"),IFERROR(VLOOKUP(A1197,[1]SkillConfig!$V:$AF,11,FALSE),\"\"))","v":"嘴里吐出{0}道蜘蛛丝对敌人造成{1}%攻击力的伤害"},1190334]
[1190335,{"$f":"CONCATENATE(IFERROR(VLOOKUP(A1198,[1]SkillConfig!$D:$F,3,FALSE),\"\"),IFERROR(VLOOKUP(A1198,[1]SkillConfig!$E:$G,3,FALSE),\"\"),IFERROR(VLOOKUP(A1198,[1]SkillConfig!$V:$AF,11,FALSE),\"\"))","v":"嘴里吐出{0}道蜘蛛丝对敌人造成{1}%攻击力的伤害"},1190335]
[null,{"$f":"CONCATENATE(IFERROR(VLOOKUP(A1199,[1]SkillConfig!$D:$F,3,FALSE),\"\"),IFERROR(VLOOKUP(A1199,[1]SkillConfig!$E:$G,3,FALSE),\"\"),IFERROR(VLOOKUP(A1199,[1]SkillConfig!$V:$AF,11,FALSE),\"\"))","v":""}]
[1190410,{"$f":"CONCATENATE(IFERROR(VLOOKUP(A1200,[1]SkillConfig!$D:$F,3,FALSE),\"\"),IFERROR(VLOOKUP(A1200,[1]SkillConfig!$E:$G,3,FALSE),\"\"),IFERROR(VLOOKUP(A1200,[1]SkillConfig!$V:$AF,11,FALSE),\"\"))","v":"甩动尾巴，生成{0}个黑色的骨刺形成一排，每根骨刺对敌人造成{1}%攻击力的伤害，命中时对敌人施加一层鼠疫"},1190410]
[1190411,{"$f":"CONCATENATE(IFERROR(VLOOKUP(A1201,[1]SkillConfig!$D:$F,3,FALSE),\"\"),IFERROR(VLOOKUP(A1201,[1]SkillConfig!$E:$G,3,FALSE),\"\"),IFERROR(VLOOKUP(A1201,[1]SkillConfig!$V:$AF,11,FALSE),\"\"))","v":"甩动尾巴，生成{0}个黑色的骨刺形成一排，每根骨刺对敌人造成{1}%攻击力的伤害，命中时对敌人施加一层鼠疫"},1190411]
[1190412,{"$f":"CONCATENATE(IFERROR(VLOOKUP(A1202,[1]SkillConfig!$D:$F,3,FALSE),\"\"),IFERROR(VLOOKUP(A1202,[1]SkillConfig!$E:$G,3,FALSE),\"\"),IFERROR(VLOOKUP(A1202,[1]SkillConfig!$V:$AF,11,FALSE),\"\"))","v":"甩动尾巴，生成{0}个黑色的骨刺形成一排，每根骨刺对敌人造成{1}%攻击力的伤害，命中时对敌人施加一层鼠疫"},1190412]
[1190413,{"$f":"CONCATENATE(IFERROR(VLOOKUP(A1203,[1]SkillConfig!$D:$F,3,FALSE),\"\"),IFERROR(VLOOKUP(A1203,[1]SkillConfig!$E:$G,3,FALSE),\"\"),IFERROR(VLOOKUP(A1203,[1]SkillConfig!$V:$AF,11,FALSE),\"\"))","v":"甩动尾巴，生成{0}个黑色的骨刺形成一排，每根骨刺对敌人造成{1}%攻击力的伤害，命中时对敌人施加一层鼠疫"},1190413]
[1190414,{"$f":"CONCATENATE(IFERROR(VLOOKUP(A1204,[1]SkillConfig!$D:$F,3,FALSE),\"\"),IFERROR(VLOOKUP(A1204,[1]SkillConfig!$E:$G,3,FALSE),\"\"),IFERROR(VLOOKUP(A1204,[1]SkillConfig!$V:$AF,11,FALSE),\"\"))","v":"甩动尾巴，生成{0}个黑色的骨刺形成一排，每根骨刺对敌人造成{1}%攻击力的伤害，命中时对敌人施加一层鼠疫"},1190414]
[1190415,{"$f":"CONCATENATE(IFERROR(VLOOKUP(A1205,[1]SkillConfig!$D:$F,3,FALSE),\"\"),IFERROR(VLOOKUP(A1205,[1]SkillConfig!$E:$G,3,FALSE),\"\"),IFERROR(VLOOKUP(A1205,[1]SkillConfig!$V:$AF,11,FALSE),\"\"))","v":"甩动尾巴，生成{0}个黑色的骨刺形成一排，每根骨刺对敌人造成{1}%攻击力的伤害，命中时对敌人施加一层鼠疫"},1190415]
[null,{"$f":"CONCATENATE(IFERROR(VLOOKUP(A1206,[1]SkillConfig!$D:$F,3,FALSE),\"\"),IFERROR(VLOOKUP(A1206,[1]SkillConfig!$E:$G,3,FALSE),\"\"),IFERROR(VLOOKUP(A1206,[1]SkillConfig!$V:$AF,11,FALSE),\"\"))","v":""}]
[1190420,{"$f":"CONCATENATE(IFERROR(VLOOKUP(A1207,[1]SkillConfig!$D:$F,3,FALSE),\"\"),IFERROR(VLOOKUP(A1207,[1]SkillConfig!$E:$G,3,FALSE),\"\"),IFERROR(VLOOKUP(A1207,[1]SkillConfig!$V:$AF,11,FALSE),\"\"))","v":"扔出{0}个鼠牙一样的尖锐物体，对敌人造成{1}%攻击力的伤害"},1190420]
[1190421,{"$f":"CONCATENATE(IFERROR(VLOOKUP(A1208,[1]SkillConfig!$D:$F,3,FALSE),\"\"),IFERROR(VLOOKUP(A1208,[1]SkillConfig!$E:$G,3,FALSE),\"\"),IFERROR(VLOOKUP(A1208,[1]SkillConfig!$V:$AF,11,FALSE),\"\"))","v":"扔出{0}个鼠牙一样的尖锐物体，对敌人造成{1}%攻击力的伤害"},1190421]
[1190422,{"$f":"CONCATENATE(IFERROR(VLOOKUP(A1209,[1]SkillConfig!$D:$F,3,FALSE),\"\"),IFERROR(VLOOKUP(A1209,[1]SkillConfig!$E:$G,3,FALSE),\"\"),IFERROR(VLOOKUP(A1209,[1]SkillConfig!$V:$AF,11,FALSE),\"\"))","v":"扔出{0}个鼠牙一样的尖锐物体，对敌人造成{1}%攻击力的伤害"},1190422]
[1190423,{"$f":"CONCATENATE(IFERROR(VLOOKUP(A1210,[1]SkillConfig!$D:$F,3,FALSE),\"\"),IFERROR(VLOOKUP(A1210,[1]SkillConfig!$E:$G,3,FALSE),\"\"),IFERROR(VLOOKUP(A1210,[1]SkillConfig!$V:$AF,11,FALSE),\"\"))","v":"扔出{0}个鼠牙一样的尖锐物体，对敌人造成{1}%攻击力的伤害"},1190423]
[1190424,{"$f":"CONCATENATE(IFERROR(VLOOKUP(A1211,[1]SkillConfig!$D:$F,3,FALSE),\"\"),IFERROR(VLOOKUP(A1211,[1]SkillConfig!$E:$G,3,FALSE),\"\"),IFERROR(VLOOKUP(A1211,[1]SkillConfig!$V:$AF,11,FALSE),\"\"))","v":"扔出{0}个鼠牙一样的尖锐物体，对敌人造成{1}%攻击力的伤害"},1190424]
[1190425,{"$f":"CONCATENATE(IFERROR(VLOOKUP(A1212,[1]SkillConfig!$D:$F,3,FALSE),\"\"),IFERROR(VLOOKUP(A1212,[1]SkillConfig!$E:$G,3,FALSE),\"\"),IFERROR(VLOOKUP(A1212,[1]SkillConfig!$V:$AF,11,FALSE),\"\"))","v":"扔出{0}个鼠牙一样的尖锐物体，对敌人造成{1}%攻击力的伤害"},1190425]
[null,{"$f":"CONCATENATE(IFERROR(VLOOKUP(A1213,[1]SkillConfig!$D:$F,3,FALSE),\"\"),IFERROR(VLOOKUP(A1213,[1]SkillConfig!$E:$G,3,FALSE),\"\"),IFERROR(VLOOKUP(A1213,[1]SkillConfig!$V:$AF,11,FALSE),\"\"))","v":""}]
[1190430,{"$f":"CONCATENATE(IFERROR(VLOOKUP(A1214,[1]SkillConfig!$D:$F,3,FALSE),\"\"),IFERROR(VLOOKUP(A1214,[1]SkillConfig!$E:$G,3,FALSE),\"\"),IFERROR(VLOOKUP(A1214,[1]SkillConfig!$V:$AF,11,FALSE),\"\"))","v":"挥动鼠爪，将污浊的灵气形成指甲从指尖射出。生成{0}枚指甲，对敌人造成{1}%攻击力的伤害，并对敌人施加一层鼠疫"},1190430]
[1190431,{"$f":"CONCATENATE(IFERROR(VLOOKUP(A1215,[1]SkillConfig!$D:$F,3,FALSE),\"\"),IFERROR(VLOOKUP(A1215,[1]SkillConfig!$E:$G,3,FALSE),\"\"),IFERROR(VLOOKUP(A1215,[1]SkillConfig!$V:$AF,11,FALSE),\"\"))","v":"挥动鼠爪，将污浊的灵气形成指甲从指尖射出。生成{0}枚指甲，对敌人造成{1}%攻击力的伤害，并对敌人施加一层鼠疫"},1190431]
[1190432,{"$f":"CONCATENATE(IFERROR(VLOOKUP(A1216,[1]SkillConfig!$D:$F,3,FALSE),\"\"),IFERROR(VLOOKUP(A1216,[1]SkillConfig!$E:$G,3,FALSE),\"\"),IFERROR(VLOOKUP(A1216,[1]SkillConfig!$V:$AF,11,FALSE),\"\"))","v":"挥动鼠爪，将污浊的灵气形成指甲从指尖射出。生成{0}枚指甲，对敌人造成{1}%攻击力的伤害，并对敌人施加一层鼠疫"},1190432]
[1190433,{"$f":"CONCATENATE(IFERROR(VLOOKUP(A1217,[1]SkillConfig!$D:$F,3,FALSE),\"\"),IFERROR(VLOOKUP(A1217,[1]SkillConfig!$E:$G,3,FALSE),\"\"),IFERROR(VLOOKUP(A1217,[1]SkillConfig!$V:$AF,11,FALSE),\"\"))","v":"挥动鼠爪，将污浊的灵气形成指甲从指尖射出。生成{0}枚指甲，对敌人造成{1}%攻击力的伤害，并对敌人施加一层鼠疫"},1190433]
[1190434,{"$f":"CONCATENATE(IFERROR(VLOOKUP(A1218,[1]SkillConfig!$D:$F,3,FALSE),\"\"),IFERROR(VLOOKUP(A1218,[1]SkillConfig!$E:$G,3,FALSE),\"\"),IFERROR(VLOOKUP(A1218,[1]SkillConfig!$V:$AF,11,FALSE),\"\"))","v":"挥动鼠爪，将污浊的灵气形成指甲从指尖射出。生成{0}枚指甲，对敌人造成{1}%攻击力的伤害，并对敌人施加一层鼠疫"},1190434]
[1190435,{"$f":"CONCATENATE(IFERROR(VLOOKUP(A1219,[1]SkillConfig!$D:$F,3,FALSE),\"\"),IFERROR(VLOOKUP(A1219,[1]SkillConfig!$E:$G,3,FALSE),\"\"),IFERROR(VLOOKUP(A1219,[1]SkillConfig!$V:$AF,11,FALSE),\"\"))","v":"挥动鼠爪，将污浊的灵气形成指甲从指尖射出。生成{0}枚指甲，对敌人造成{1}%攻击力的伤害，并对敌人施加一层鼠疫"},1190435]
[null,{"$f":"CONCATENATE(IFERROR(VLOOKUP(A1220,[1]SkillConfig!$D:$F,3,FALSE),\"\"),IFERROR(VLOOKUP(A1220,[1]SkillConfig!$E:$G,3,FALSE),\"\"),IFERROR(VLOOKUP(A1220,[1]SkillConfig!$V:$AF,11,FALSE),\"\"))","v":""}]
[1190440,{"$f":"CONCATENATE(IFERROR(VLOOKUP(A1221,[1]SkillConfig!$D:$F,3,FALSE),\"\"),IFERROR(VLOOKUP(A1221,[1]SkillConfig!$E:$G,3,FALSE),\"\"),IFERROR(VLOOKUP(A1221,[1]SkillConfig!$V:$AF,11,FALSE),\"\"))","v":"老鼠将体内的浊气凝聚成一颗弹丸，快速射向对手。命中目标后爆炸，浊气散开时对敌人造成{0}%攻击力的伤害，给敌人施加一层鼠疫。"},1190440]
[1190441,{"$f":"CONCATENATE(IFERROR(VLOOKUP(A1222,[1]SkillConfig!$D:$F,3,FALSE),\"\"),IFERROR(VLOOKUP(A1222,[1]SkillConfig!$E:$G,3,FALSE),\"\"),IFERROR(VLOOKUP(A1222,[1]SkillConfig!$V:$AF,11,FALSE),\"\"))","v":"老鼠将体内的浊气凝聚成一颗弹丸，快速射向对手。命中目标后爆炸，浊气散开时对敌人造成{0}%攻击力的伤害，给敌人施加一层鼠疫。"},1190441]
[1190442,{"$f":"CONCATENATE(IFERROR(VLOOKUP(A1223,[1]SkillConfig!$D:$F,3,FALSE),\"\"),IFERROR(VLOOKUP(A1223,[1]SkillConfig!$E:$G,3,FALSE),\"\"),IFERROR(VLOOKUP(A1223,[1]SkillConfig!$V:$AF,11,FALSE),\"\"))","v":"老鼠将体内的浊气凝聚成一颗弹丸，快速射向对手。命中目标后爆炸，浊气散开时对敌人造成{0}%攻击力的伤害，给敌人施加一层鼠疫。"},1190442]
[1190443,{"$f":"CONCATENATE(IFERROR(VLOOKUP(A1224,[1]SkillConfig!$D:$F,3,FALSE),\"\"),IFERROR(VLOOKUP(A1224,[1]SkillConfig!$E:$G,3,FALSE),\"\"),IFERROR(VLOOKUP(A1224,[1]SkillConfig!$V:$AF,11,FALSE),\"\"))","v":"老鼠将体内的浊气凝聚成一颗弹丸，快速射向对手。命中目标后爆炸，浊气散开时对敌人造成{0}%攻击力的伤害，给敌人施加一层鼠疫。"},1190443]
[1190444,{"$f":"CONCATENATE(IFERROR(VLOOKUP(A1225,[1]SkillConfig!$D:$F,3,FALSE),\"\"),IFERROR(VLOOKUP(A1225,[1]SkillConfig!$E:$G,3,FALSE),\"\"),IFERROR(VLOOKUP(A1225,[1]SkillConfig!$V:$AF,11,FALSE),\"\"))","v":"老鼠将体内的浊气凝聚成一颗弹丸，快速射向对手。命中目标后爆炸，浊气散开时对敌人造成{0}%攻击力的伤害，给敌人施加一层鼠疫。"},1190444]
[1190445,{"$f":"CONCATENATE(IFERROR(VLOOKUP(A1226,[1]SkillConfig!$D:$F,3,FALSE),\"\"),IFERROR(VLOOKUP(A1226,[1]SkillConfig!$E:$G,3,FALSE),\"\"),IFERROR(VLOOKUP(A1226,[1]SkillConfig!$V:$AF,11,FALSE),\"\"))","v":"老鼠将体内的浊气凝聚成一颗弹丸，快速射向对手。命中目标后爆炸，浊气散开时对敌人造成{0}%攻击力的伤害，给敌人施加一层鼠疫。"},1190445]
[null,{"$f":"CONCATENATE(IFERROR(VLOOKUP(A1227,[1]SkillConfig!$D:$F,3,FALSE),\"\"),IFERROR(VLOOKUP(A1227,[1]SkillConfig!$E:$G,3,FALSE),\"\"),IFERROR(VLOOKUP(A1227,[1]SkillConfig!$V:$AF,11,FALSE),\"\"))","v":""}]
[1190910,{"$f":"CONCATENATE(IFERROR(VLOOKUP(A1228,[1]SkillConfig!$D:$F,3,FALSE),\"\"),IFERROR(VLOOKUP(A1228,[1]SkillConfig!$E:$G,3,FALSE),\"\"),IFERROR(VLOOKUP(A1228,[1]SkillConfig!$V:$AF,11,FALSE),\"\"))","v":"飞鹤煽动翅膀，飞出{0}个羽毛，每一根羽毛对敌人造成{1}%攻击力的伤害"},1190910]
[1190911,{"$f":"CONCATENATE(IFERROR(VLOOKUP(A1229,[1]SkillConfig!$D:$F,3,FALSE),\"\"),IFERROR(VLOOKUP(A1229,[1]SkillConfig!$E:$G,3,FALSE),\"\"),IFERROR(VLOOKUP(A1229,[1]SkillConfig!$V:$AF,11,FALSE),\"\"))","v":"飞鹤煽动翅膀，飞出{0}个羽毛，每一根羽毛对敌人造成{1}%攻击力的伤害"},1190911]
[1190912,{"$f":"CONCATENATE(IFERROR(VLOOKUP(A1230,[1]SkillConfig!$D:$F,3,FALSE),\"\"),IFERROR(VLOOKUP(A1230,[1]SkillConfig!$E:$G,3,FALSE),\"\"),IFERROR(VLOOKUP(A1230,[1]SkillConfig!$V:$AF,11,FALSE),\"\"))","v":"飞鹤煽动翅膀，飞出{0}个羽毛，每一根羽毛对敌人造成{1}%攻击力的伤害"},1190912]
[1190913,{"$f":"CONCATENATE(IFERROR(VLOOKUP(A1231,[1]SkillConfig!$D:$F,3,FALSE),\"\"),IFERROR(VLOOKUP(A1231,[1]SkillConfig!$E:$G,3,FALSE),\"\"),IFERROR(VLOOKUP(A1231,[1]SkillConfig!$V:$AF,11,FALSE),\"\"))","v":"飞鹤煽动翅膀，飞出{0}个羽毛，每一根羽毛对敌人造成{1}%攻击力的伤害"},1190913]
[1190914,{"$f":"CONCATENATE(IFERROR(VLOOKUP(A1232,[1]SkillConfig!$D:$F,3,FALSE),\"\"),IFERROR(VLOOKUP(A1232,[1]SkillConfig!$E:$G,3,FALSE),\"\"),IFERROR(VLOOKUP(A1232,[1]SkillConfig!$V:$AF,11,FALSE),\"\"))","v":"飞鹤煽动翅膀，飞出{0}个羽毛，每一根羽毛对敌人造成{1}%攻击力的伤害"},1190914]
[1190915,{"$f":"CONCATENATE(IFERROR(VLOOKUP(A1233,[1]SkillConfig!$D:$F,3,FALSE),\"\"),IFERROR(VLOOKUP(A1233,[1]SkillConfig!$E:$G,3,FALSE),\"\"),IFERROR(VLOOKUP(A1233,[1]SkillConfig!$V:$AF,11,FALSE),\"\"))","v":"飞鹤煽动翅膀，飞出{0}个羽毛，每一根羽毛对敌人造成{1}%攻击力的伤害"},1190915]
[null,{"$f":"CONCATENATE(IFERROR(VLOOKUP(A1234,[1]SkillConfig!$D:$F,3,FALSE),\"\"),IFERROR(VLOOKUP(A1234,[1]SkillConfig!$E:$G,3,FALSE),\"\"),IFERROR(VLOOKUP(A1234,[1]SkillConfig!$V:$AF,11,FALSE),\"\"))","v":""}]
[1190920,{"$f":"CONCATENATE(IFERROR(VLOOKUP(A1235,[1]SkillConfig!$D:$F,3,FALSE),\"\"),IFERROR(VLOOKUP(A1235,[1]SkillConfig!$E:$G,3,FALSE),\"\"),IFERROR(VLOOKUP(A1235,[1]SkillConfig!$V:$AF,11,FALSE),\"\"))","v":"随机为一名队友恢复{0}%生命值"},1190920]
[1190921,{"$f":"CONCATENATE(IFERROR(VLOOKUP(A1236,[1]SkillConfig!$D:$F,3,FALSE),\"\"),IFERROR(VLOOKUP(A1236,[1]SkillConfig!$E:$G,3,FALSE),\"\"),IFERROR(VLOOKUP(A1236,[1]SkillConfig!$V:$AF,11,FALSE),\"\"))","v":"随机为一名队友恢复{0}%生命值"},1190921]
[1190922,{"$f":"CONCATENATE(IFERROR(VLOOKUP(A1237,[1]SkillConfig!$D:$F,3,FALSE),\"\"),IFERROR(VLOOKUP(A1237,[1]SkillConfig!$E:$G,3,FALSE),\"\"),IFERROR(VLOOKUP(A1237,[1]SkillConfig!$V:$AF,11,FALSE),\"\"))","v":"随机为一名队友恢复{0}%生命值"},1190922]
[1190923,{"$f":"CONCATENATE(IFERROR(VLOOKUP(A1238,[1]SkillConfig!$D:$F,3,FALSE),\"\"),IFERROR(VLOOKUP(A1238,[1]SkillConfig!$E:$G,3,FALSE),\"\"),IFERROR(VLOOKUP(A1238,[1]SkillConfig!$V:$AF,11,FALSE),\"\"))","v":"随机为一名队友恢复{0}%生命值"},1190923]
[1190924,{"$f":"CONCATENATE(IFERROR(VLOOKUP(A1239,[1]SkillConfig!$D:$F,3,FALSE),\"\"),IFERROR(VLOOKUP(A1239,[1]SkillConfig!$E:$G,3,FALSE),\"\"),IFERROR(VLOOKUP(A1239,[1]SkillConfig!$V:$AF,11,FALSE),\"\"))","v":"随机为一名队友恢复{0}%生命值"},1190924]
[1190925,{"$f":"CONCATENATE(IFERROR(VLOOKUP(A1240,[1]SkillConfig!$D:$F,3,FALSE),\"\"),IFERROR(VLOOKUP(A1240,[1]SkillConfig!$E:$G,3,FALSE),\"\"),IFERROR(VLOOKUP(A1240,[1]SkillConfig!$V:$AF,11,FALSE),\"\"))","v":"随机为一名队友恢复{0}%生命值"},1190925]
[null,{"$f":"CONCATENATE(IFERROR(VLOOKUP(A1241,[1]SkillConfig!$D:$F,3,FALSE),\"\"),IFERROR(VLOOKUP(A1241,[1]SkillConfig!$E:$G,3,FALSE),\"\"),IFERROR(VLOOKUP(A1241,[1]SkillConfig!$V:$AF,11,FALSE),\"\"))","v":""}]
[1191010,{"$f":"CONCATENATE(IFERROR(VLOOKUP(A1242,[1]SkillConfig!$D:$F,3,FALSE),\"\"),IFERROR(VLOOKUP(A1242,[1]SkillConfig!$E:$G,3,FALSE),\"\"),IFERROR(VLOOKUP(A1242,[1]SkillConfig!$V:$AF,11,FALSE),\"\"))","v":"从嘴中吐出{0}团狐火，对敌人造成{1}%攻击力的伤害"},1191010]
[1191011,{"$f":"CONCATENATE(IFERROR(VLOOKUP(A1243,[1]SkillConfig!$D:$F,3,FALSE),\"\"),IFERROR(VLOOKUP(A1243,[1]SkillConfig!$E:$G,3,FALSE),\"\"),IFERROR(VLOOKUP(A1243,[1]SkillConfig!$V:$AF,11,FALSE),\"\"))","v":"从嘴中吐出{0}团狐火，对敌人造成{1}%攻击力的伤害"},1191011]
[1191012,{"$f":"CONCATENATE(IFERROR(VLOOKUP(A1244,[1]SkillConfig!$D:$F,3,FALSE),\"\"),IFERROR(VLOOKUP(A1244,[1]SkillConfig!$E:$G,3,FALSE),\"\"),IFERROR(VLOOKUP(A1244,[1]SkillConfig!$V:$AF,11,FALSE),\"\"))","v":"从嘴中吐出{0}团狐火，对敌人造成{1}%攻击力的伤害"},1191012]
[1191013,{"$f":"CONCATENATE(IFERROR(VLOOKUP(A1245,[1]SkillConfig!$D:$F,3,FALSE),\"\"),IFERROR(VLOOKUP(A1245,[1]SkillConfig!$E:$G,3,FALSE),\"\"),IFERROR(VLOOKUP(A1245,[1]SkillConfig!$V:$AF,11,FALSE),\"\"))","v":"从嘴中吐出{0}团狐火，对敌人造成{1}%攻击力的伤害"},1191013]
[1191014,{"$f":"CONCATENATE(IFERROR(VLOOKUP(A1246,[1]SkillConfig!$D:$F,3,FALSE),\"\"),IFERROR(VLOOKUP(A1246,[1]SkillConfig!$E:$G,3,FALSE),\"\"),IFERROR(VLOOKUP(A1246,[1]SkillConfig!$V:$AF,11,FALSE),\"\"))","v":"从嘴中吐出{0}团狐火，对敌人造成{1}%攻击力的伤害"},1191014]
[1191015,{"$f":"CONCATENATE(IFERROR(VLOOKUP(A1247,[1]SkillConfig!$D:$F,3,FALSE),\"\"),IFERROR(VLOOKUP(A1247,[1]SkillConfig!$E:$G,3,FALSE),\"\"),IFERROR(VLOOKUP(A1247,[1]SkillConfig!$V:$AF,11,FALSE),\"\"))","v":"从嘴中吐出{0}团狐火，对敌人造成{1}%攻击力的伤害"},1191015]
[null,{"$f":"CONCATENATE(IFERROR(VLOOKUP(A1248,[1]SkillConfig!$D:$F,3,FALSE),\"\"),IFERROR(VLOOKUP(A1248,[1]SkillConfig!$E:$G,3,FALSE),\"\"),IFERROR(VLOOKUP(A1248,[1]SkillConfig!$V:$AF,11,FALSE),\"\"))","v":""}]
[1191020,{"$f":"CONCATENATE(IFERROR(VLOOKUP(A1249,[1]SkillConfig!$D:$F,3,FALSE),\"\"),IFERROR(VLOOKUP(A1249,[1]SkillConfig!$E:$G,3,FALSE),\"\"),IFERROR(VLOOKUP(A1249,[1]SkillConfig!$V:$AF,11,FALSE),\"\"))","v":"狐狸随机为队友清除一个debuff"},1191020]
[1191021,{"$f":"CONCATENATE(IFERROR(VLOOKUP(A1250,[1]SkillConfig!$D:$F,3,FALSE),\"\"),IFERROR(VLOOKUP(A1250,[1]SkillConfig!$E:$G,3,FALSE),\"\"),IFERROR(VLOOKUP(A1250,[1]SkillConfig!$V:$AF,11,FALSE),\"\"))","v":"狐狸随机为队友清除一个debuff"},1191021]
[1191022,{"$f":"CONCATENATE(IFERROR(VLOOKUP(A1251,[1]SkillConfig!$D:$F,3,FALSE),\"\"),IFERROR(VLOOKUP(A1251,[1]SkillConfig!$E:$G,3,FALSE),\"\"),IFERROR(VLOOKUP(A1251,[1]SkillConfig!$V:$AF,11,FALSE),\"\"))","v":"狐狸随机为队友清除一个debuff"},1191022]
[1191023,{"$f":"CONCATENATE(IFERROR(VLOOKUP(A1252,[1]SkillConfig!$D:$F,3,FALSE),\"\"),IFERROR(VLOOKUP(A1252,[1]SkillConfig!$E:$G,3,FALSE),\"\"),IFERROR(VLOOKUP(A1252,[1]SkillConfig!$V:$AF,11,FALSE),\"\"))","v":"狐狸随机为队友清除一个debuff"},1191023]
[1191024,{"$f":"CONCATENATE(IFERROR(VLOOKUP(A1253,[1]SkillConfig!$D:$F,3,FALSE),\"\"),IFERROR(VLOOKUP(A1253,[1]SkillConfig!$E:$G,3,FALSE),\"\"),IFERROR(VLOOKUP(A1253,[1]SkillConfig!$V:$AF,11,FALSE),\"\"))","v":"狐狸随机为队友清除一个debuff"},1191024]
[1191025,{"$f":"CONCATENATE(IFERROR(VLOOKUP(A1254,[1]SkillConfig!$D:$F,3,FALSE),\"\"),IFERROR(VLOOKUP(A1254,[1]SkillConfig!$E:$G,3,FALSE),\"\"),IFERROR(VLOOKUP(A1254,[1]SkillConfig!$V:$AF,11,FALSE),\"\"))","v":"狐狸随机为队友清除一个debuff"},1191025]
[null,{"$f":"CONCATENATE(IFERROR(VLOOKUP(A1255,[1]SkillConfig!$D:$F,3,FALSE),\"\"),IFERROR(VLOOKUP(A1255,[1]SkillConfig!$E:$G,3,FALSE),\"\"),IFERROR(VLOOKUP(A1255,[1]SkillConfig!$V:$AF,11,FALSE),\"\"))","v":""}]
[null,{"$f":"CONCATENATE(IFERROR(VLOOKUP(A1256,[1]SkillConfig!$D:$F,3,FALSE),\"\"),IFERROR(VLOOKUP(A1256,[1]SkillConfig!$E:$G,3,FALSE),\"\"),IFERROR(VLOOKUP(A1256,[1]SkillConfig!$V:$AF,11,FALSE),\"\"))","v":""},-1]
[1211011,{"$f":"CONCATENATE(IFERROR(VLOOKUP(A1257,[1]SkillConfig!$D:$F,3,FALSE),\"\"),IFERROR(VLOOKUP(A1257,[1]SkillConfig!$E:$G,3,FALSE),\"\"),IFERROR(VLOOKUP(A1257,[1]SkillConfig!$V:$AF,11,FALSE),\"\"))","v":"飞剑数量+1"},1211011]
[1211012,{"$f":"CONCATENATE(IFERROR(VLOOKUP(A1258,[1]SkillConfig!$D:$F,3,FALSE),\"\"),IFERROR(VLOOKUP(A1258,[1]SkillConfig!$E:$G,3,FALSE),\"\"),IFERROR(VLOOKUP(A1258,[1]SkillConfig!$V:$AF,11,FALSE),\"\"))","v":"人物生命永久+10%"},1211012]
[1211013,{"$f":"CONCATENATE(IFERROR(VLOOKUP(A1259,[1]SkillConfig!$D:$F,3,FALSE),\"\"),IFERROR(VLOOKUP(A1259,[1]SkillConfig!$E:$G,3,FALSE),\"\"),IFERROR(VLOOKUP(A1259,[1]SkillConfig!$V:$AF,11,FALSE),\"\"))","v":"飞剑数量+1，对带减益的敌人增伤"},1211013]
[1211014,{"$f":"CONCATENATE(IFERROR(VLOOKUP(A1260,[1]SkillConfig!$D:$F,3,FALSE),\"\"),IFERROR(VLOOKUP(A1260,[1]SkillConfig!$E:$G,3,FALSE),\"\"),IFERROR(VLOOKUP(A1260,[1]SkillConfig!$V:$AF,11,FALSE),\"\"))","v":"人物生命永久+10%"},1211014]
[1211015,{"$f":"CONCATENATE(IFERROR(VLOOKUP(A1261,[1]SkillConfig!$D:$F,3,FALSE),\"\"),IFERROR(VLOOKUP(A1261,[1]SkillConfig!$E:$G,3,FALSE),\"\"),IFERROR(VLOOKUP(A1261,[1]SkillConfig!$V:$AF,11,FALSE),\"\"))","v":"发射伤害更高的幻剑"},1211015]
[null,{"$f":"CONCATENATE(IFERROR(VLOOKUP(A1262,[1]SkillConfig!$D:$F,3,FALSE),\"\"),IFERROR(VLOOKUP(A1262,[1]SkillConfig!$E:$G,3,FALSE),\"\"),IFERROR(VLOOKUP(A1262,[1]SkillConfig!$V:$AF,11,FALSE),\"\"))","v":""}]
[null,{"$f":"CONCATENATE(IFERROR(VLOOKUP(A1263,[1]SkillConfig!$D:$F,3,FALSE),\"\"),IFERROR(VLOOKUP(A1263,[1]SkillConfig!$E:$G,3,FALSE),\"\"),IFERROR(VLOOKUP(A1263,[1]SkillConfig!$V:$AF,11,FALSE),\"\"))","v":""},-1]
[1211021,{"$f":"CONCATENATE(IFERROR(VLOOKUP(A1264,[1]SkillConfig!$D:$F,3,FALSE),\"\"),IFERROR(VLOOKUP(A1264,[1]SkillConfig!$E:$G,3,FALSE),\"\"),IFERROR(VLOOKUP(A1264,[1]SkillConfig!$V:$AF,11,FALSE),\"\"))","v":"对流血或放血敌人增伤"},1211021]
[1211022,{"$f":"CONCATENATE(IFERROR(VLOOKUP(A1265,[1]SkillConfig!$D:$F,3,FALSE),\"\"),IFERROR(VLOOKUP(A1265,[1]SkillConfig!$E:$G,3,FALSE),\"\"),IFERROR(VLOOKUP(A1265,[1]SkillConfig!$V:$AF,11,FALSE),\"\"))","v":"人物攻击永久+10%"},1211022]
[1211023,{"$f":"CONCATENATE(IFERROR(VLOOKUP(A1266,[1]SkillConfig!$D:$F,3,FALSE),\"\"),IFERROR(VLOOKUP(A1266,[1]SkillConfig!$E:$G,3,FALSE),\"\"),IFERROR(VLOOKUP(A1266,[1]SkillConfig!$V:$AF,11,FALSE),\"\"))","v":"无条件放血"},1211023]
[1211024,{"$f":"CONCATENATE(IFERROR(VLOOKUP(A1267,[1]SkillConfig!$D:$F,3,FALSE),\"\"),IFERROR(VLOOKUP(A1267,[1]SkillConfig!$E:$G,3,FALSE),\"\"),IFERROR(VLOOKUP(A1267,[1]SkillConfig!$V:$AF,11,FALSE),\"\"))","v":"人物攻击永久+10%"},1211024]
[1211025,{"$f":"CONCATENATE(IFERROR(VLOOKUP(A1268,[1]SkillConfig!$D:$F,3,FALSE),\"\"),IFERROR(VLOOKUP(A1268,[1]SkillConfig!$E:$G,3,FALSE),\"\"),IFERROR(VLOOKUP(A1268,[1]SkillConfig!$V:$AF,11,FALSE),\"\"))","v":"对拼强度和伤害提升"},1211025]
[null,{"$f":"CONCATENATE(IFERROR(VLOOKUP(A1269,[1]SkillConfig!$D:$F,3,FALSE),\"\"),IFERROR(VLOOKUP(A1269,[1]SkillConfig!$E:$G,3,FALSE),\"\"),IFERROR(VLOOKUP(A1269,[1]SkillConfig!$V:$AF,11,FALSE),\"\"))","v":""}]
[null,{"$f":"CONCATENATE(IFERROR(VLOOKUP(A1270,[1]SkillConfig!$D:$F,3,FALSE),\"\"),IFERROR(VLOOKUP(A1270,[1]SkillConfig!$E:$G,3,FALSE),\"\"),IFERROR(VLOOKUP(A1270,[1]SkillConfig!$V:$AF,11,FALSE),\"\"))","v":""},-1]
[1211031,{"$f":"CONCATENATE(IFERROR(VLOOKUP(A1271,[1]SkillConfig!$D:$F,3,FALSE),\"\"),IFERROR(VLOOKUP(A1271,[1]SkillConfig!$E:$G,3,FALSE),\"\"),IFERROR(VLOOKUP(A1271,[1]SkillConfig!$V:$AF,11,FALSE),\"\"))","v":"刀气命中回血"},1211031]
[1211032,{"$f":"CONCATENATE(IFERROR(VLOOKUP(A1272,[1]SkillConfig!$D:$F,3,FALSE),\"\"),IFERROR(VLOOKUP(A1272,[1]SkillConfig!$E:$G,3,FALSE),\"\"),IFERROR(VLOOKUP(A1272,[1]SkillConfig!$V:$AF,11,FALSE),\"\"))","v":"人物防御永久+10%"},1211032]
[1211033,{"$f":"CONCATENATE(IFERROR(VLOOKUP(A1273,[1]SkillConfig!$D:$F,3,FALSE),\"\"),IFERROR(VLOOKUP(A1273,[1]SkillConfig!$E:$G,3,FALSE),\"\"),IFERROR(VLOOKUP(A1273,[1]SkillConfig!$V:$AF,11,FALSE),\"\"))","v":"刀气+1"},1211033]
[1211034,{"$f":"CONCATENATE(IFERROR(VLOOKUP(A1274,[1]SkillConfig!$D:$F,3,FALSE),\"\"),IFERROR(VLOOKUP(A1274,[1]SkillConfig!$E:$G,3,FALSE),\"\"),IFERROR(VLOOKUP(A1274,[1]SkillConfig!$V:$AF,11,FALSE),\"\"))","v":"人物防御永久+10%"},1211034]
[1211035,{"$f":"CONCATENATE(IFERROR(VLOOKUP(A1275,[1]SkillConfig!$D:$F,3,FALSE),\"\"),IFERROR(VLOOKUP(A1275,[1]SkillConfig!$E:$G,3,FALSE),\"\"),IFERROR(VLOOKUP(A1275,[1]SkillConfig!$V:$AF,11,FALSE),\"\"))","v":"对流血目标增伤，再次放血"},1211035]
[null,{"$f":"CONCATENATE(IFERROR(VLOOKUP(A1276,[1]SkillConfig!$D:$F,3,FALSE),\"\"),IFERROR(VLOOKUP(A1276,[1]SkillConfig!$E:$G,3,FALSE),\"\"),IFERROR(VLOOKUP(A1276,[1]SkillConfig!$V:$AF,11,FALSE),\"\"))","v":""}]
[null,{"$f":"CONCATENATE(IFERROR(VLOOKUP(A1277,[1]SkillConfig!$D:$F,3,FALSE),\"\"),IFERROR(VLOOKUP(A1277,[1]SkillConfig!$E:$G,3,FALSE),\"\"),IFERROR(VLOOKUP(A1277,[1]SkillConfig!$V:$AF,11,FALSE),\"\"))","v":""},-1]
[1211041,{"$f":"CONCATENATE(IFERROR(VLOOKUP(A1278,[1]SkillConfig!$D:$F,3,FALSE),\"\"),IFERROR(VLOOKUP(A1278,[1]SkillConfig!$E:$G,3,FALSE),\"\"),IFERROR(VLOOKUP(A1278,[1]SkillConfig!$V:$AF,11,FALSE),\"\"))","v":"人物攻击永久+5%"},1211041]
[1211042,{"$f":"CONCATENATE(IFERROR(VLOOKUP(A1279,[1]SkillConfig!$D:$F,3,FALSE),\"\"),IFERROR(VLOOKUP(A1279,[1]SkillConfig!$E:$G,3,FALSE),\"\"),IFERROR(VLOOKUP(A1279,[1]SkillConfig!$V:$AF,11,FALSE),\"\"))","v":"飞刀数量+1"},1211042]
[1211043,{"$f":"CONCATENATE(IFERROR(VLOOKUP(A1280,[1]SkillConfig!$D:$F,3,FALSE),\"\"),IFERROR(VLOOKUP(A1280,[1]SkillConfig!$E:$G,3,FALSE),\"\"),IFERROR(VLOOKUP(A1280,[1]SkillConfig!$V:$AF,11,FALSE),\"\"))","v":"人物攻击永久+5%"},1211043]
[1211044,{"$f":"CONCATENATE(IFERROR(VLOOKUP(A1281,[1]SkillConfig!$D:$F,3,FALSE),\"\"),IFERROR(VLOOKUP(A1281,[1]SkillConfig!$E:$G,3,FALSE),\"\"),IFERROR(VLOOKUP(A1281,[1]SkillConfig!$V:$AF,11,FALSE),\"\"))","v":"飞刀数量+1"},1211044]
[1211045,{"$f":"CONCATENATE(IFERROR(VLOOKUP(A1282,[1]SkillConfig!$D:$F,3,FALSE),\"\"),IFERROR(VLOOKUP(A1282,[1]SkillConfig!$E:$G,3,FALSE),\"\"),IFERROR(VLOOKUP(A1282,[1]SkillConfig!$V:$AF,11,FALSE),\"\"))","v":"人物攻击永久+5%"},1211045]
[null,{"$f":"CONCATENATE(IFERROR(VLOOKUP(A1283,[1]SkillConfig!$D:$F,3,FALSE),\"\"),IFERROR(VLOOKUP(A1283,[1]SkillConfig!$E:$G,3,FALSE),\"\"),IFERROR(VLOOKUP(A1283,[1]SkillConfig!$V:$AF,11,FALSE),\"\"))","v":""}]
[null,{"$f":"CONCATENATE(IFERROR(VLOOKUP(A1284,[1]SkillConfig!$D:$F,3,FALSE),\"\"),IFERROR(VLOOKUP(A1284,[1]SkillConfig!$E:$G,3,FALSE),\"\"),IFERROR(VLOOKUP(A1284,[1]SkillConfig!$V:$AF,11,FALSE),\"\"))","v":""},-1]
[1211051,{"$f":"CONCATENATE(IFERROR(VLOOKUP(A1285,[1]SkillConfig!$D:$F,3,FALSE),\"\"),IFERROR(VLOOKUP(A1285,[1]SkillConfig!$E:$G,3,FALSE),\"\"),IFERROR(VLOOKUP(A1285,[1]SkillConfig!$V:$AF,11,FALSE),\"\"))","v":"人物防御永久+5%"},1211051]
[1211052,{"$f":"CONCATENATE(IFERROR(VLOOKUP(A1286,[1]SkillConfig!$D:$F,3,FALSE),\"\"),IFERROR(VLOOKUP(A1286,[1]SkillConfig!$E:$G,3,FALSE),\"\"),IFERROR(VLOOKUP(A1286,[1]SkillConfig!$V:$AF,11,FALSE),\"\"))","v":"金针数量+1"},1211052]
[1211053,{"$f":"CONCATENATE(IFERROR(VLOOKUP(A1287,[1]SkillConfig!$D:$F,3,FALSE),\"\"),IFERROR(VLOOKUP(A1287,[1]SkillConfig!$E:$G,3,FALSE),\"\"),IFERROR(VLOOKUP(A1287,[1]SkillConfig!$V:$AF,11,FALSE),\"\"))","v":"人物防御永久+5%"},1211053]
[1211054,{"$f":"CONCATENATE(IFERROR(VLOOKUP(A1288,[1]SkillConfig!$D:$F,3,FALSE),\"\"),IFERROR(VLOOKUP(A1288,[1]SkillConfig!$E:$G,3,FALSE),\"\"),IFERROR(VLOOKUP(A1288,[1]SkillConfig!$V:$AF,11,FALSE),\"\"))","v":"金针数量+1"},1211054]
[1211055,{"$f":"CONCATENATE(IFERROR(VLOOKUP(A1289,[1]SkillConfig!$D:$F,3,FALSE),\"\"),IFERROR(VLOOKUP(A1289,[1]SkillConfig!$E:$G,3,FALSE),\"\"),IFERROR(VLOOKUP(A1289,[1]SkillConfig!$V:$AF,11,FALSE),\"\"))","v":"人物防御永久+5%"},1211055]
[null,{"$f":"CONCATENATE(IFERROR(VLOOKUP(A1290,[1]SkillConfig!$D:$F,3,FALSE),\"\"),IFERROR(VLOOKUP(A1290,[1]SkillConfig!$E:$G,3,FALSE),\"\"),IFERROR(VLOOKUP(A1290,[1]SkillConfig!$V:$AF,11,FALSE),\"\"))","v":""}]
[null,{"$f":"CONCATENATE(IFERROR(VLOOKUP(A1291,[1]SkillConfig!$D:$F,3,FALSE),\"\"),IFERROR(VLOOKUP(A1291,[1]SkillConfig!$E:$G,3,FALSE),\"\"),IFERROR(VLOOKUP(A1291,[1]SkillConfig!$V:$AF,11,FALSE),\"\"))","v":""},-1]
[1212011,{"$f":"CONCATENATE(IFERROR(VLOOKUP(A1292,[1]SkillConfig!$D:$F,3,FALSE),\"\"),IFERROR(VLOOKUP(A1292,[1]SkillConfig!$E:$G,3,FALSE),\"\"),IFERROR(VLOOKUP(A1292,[1]SkillConfig!$V:$AF,11,FALSE),\"\"))","v":"冰锥数量+1"},1212011]
[1212012,{"$f":"CONCATENATE(IFERROR(VLOOKUP(A1293,[1]SkillConfig!$D:$F,3,FALSE),\"\"),IFERROR(VLOOKUP(A1293,[1]SkillConfig!$E:$G,3,FALSE),\"\"),IFERROR(VLOOKUP(A1293,[1]SkillConfig!$V:$AF,11,FALSE),\"\"))","v":"人物生命永久+10%"},1212012]
[1212013,{"$f":"CONCATENATE(IFERROR(VLOOKUP(A1294,[1]SkillConfig!$D:$F,3,FALSE),\"\"),IFERROR(VLOOKUP(A1294,[1]SkillConfig!$E:$G,3,FALSE),\"\"),IFERROR(VLOOKUP(A1294,[1]SkillConfig!$V:$AF,11,FALSE),\"\"))","v":"冰锥数量+1"},1212013]
[1212014,{"$f":"CONCATENATE(IFERROR(VLOOKUP(A1295,[1]SkillConfig!$D:$F,3,FALSE),\"\"),IFERROR(VLOOKUP(A1295,[1]SkillConfig!$E:$G,3,FALSE),\"\"),IFERROR(VLOOKUP(A1295,[1]SkillConfig!$V:$AF,11,FALSE),\"\"))","v":"人物生命永久+10%"},1212014]
[1212015,{"$f":"CONCATENATE(IFERROR(VLOOKUP(A1296,[1]SkillConfig!$D:$F,3,FALSE),\"\"),IFERROR(VLOOKUP(A1296,[1]SkillConfig!$E:$G,3,FALSE),\"\"),IFERROR(VLOOKUP(A1296,[1]SkillConfig!$V:$AF,11,FALSE),\"\"))","v":"冰锥数量+1"},1212015]
[null,{"$f":"CONCATENATE(IFERROR(VLOOKUP(A1297,[1]SkillConfig!$D:$F,3,FALSE),\"\"),IFERROR(VLOOKUP(A1297,[1]SkillConfig!$E:$G,3,FALSE),\"\"),IFERROR(VLOOKUP(A1297,[1]SkillConfig!$V:$AF,11,FALSE),\"\"))","v":""}]
[null,{"$f":"CONCATENATE(IFERROR(VLOOKUP(A1298,[1]SkillConfig!$D:$F,3,FALSE),\"\"),IFERROR(VLOOKUP(A1298,[1]SkillConfig!$E:$G,3,FALSE),\"\"),IFERROR(VLOOKUP(A1298,[1]SkillConfig!$V:$AF,11,FALSE),\"\"))","v":""},-1]
[1212021,{"$f":"CONCATENATE(IFERROR(VLOOKUP(A1299,[1]SkillConfig!$D:$F,3,FALSE),\"\"),IFERROR(VLOOKUP(A1299,[1]SkillConfig!$E:$G,3,FALSE),\"\"),IFERROR(VLOOKUP(A1299,[1]SkillConfig!$V:$AF,11,FALSE),\"\"))","v":"冰球数量+1"},1212021]
[1212022,{"$f":"CONCATENATE(IFERROR(VLOOKUP(A1300,[1]SkillConfig!$D:$F,3,FALSE),\"\"),IFERROR(VLOOKUP(A1300,[1]SkillConfig!$E:$G,3,FALSE),\"\"),IFERROR(VLOOKUP(A1300,[1]SkillConfig!$V:$AF,11,FALSE),\"\"))","v":"人物防御永久+10%"},1212022]
[1212023,{"$f":"CONCATENATE(IFERROR(VLOOKUP(A1301,[1]SkillConfig!$D:$F,3,FALSE),\"\"),IFERROR(VLOOKUP(A1301,[1]SkillConfig!$E:$G,3,FALSE),\"\"),IFERROR(VLOOKUP(A1301,[1]SkillConfig!$V:$AF,11,FALSE),\"\"))","v":"冰球数量+1"},1212023]
[1212024,{"$f":"CONCATENATE(IFERROR(VLOOKUP(A1302,[1]SkillConfig!$D:$F,3,FALSE),\"\"),IFERROR(VLOOKUP(A1302,[1]SkillConfig!$E:$G,3,FALSE),\"\"),IFERROR(VLOOKUP(A1302,[1]SkillConfig!$V:$AF,11,FALSE),\"\"))","v":"人物防御永久+10%"},1212024]
[1212025,{"$f":"CONCATENATE(IFERROR(VLOOKUP(A1303,[1]SkillConfig!$D:$F,3,FALSE),\"\"),IFERROR(VLOOKUP(A1303,[1]SkillConfig!$E:$G,3,FALSE),\"\"),IFERROR(VLOOKUP(A1303,[1]SkillConfig!$V:$AF,11,FALSE),\"\"))","v":"冰球数量+1"},1212025]
[null,{"$f":"CONCATENATE(IFERROR(VLOOKUP(A1304,[1]SkillConfig!$D:$F,3,FALSE),\"\"),IFERROR(VLOOKUP(A1304,[1]SkillConfig!$E:$G,3,FALSE),\"\"),IFERROR(VLOOKUP(A1304,[1]SkillConfig!$V:$AF,11,FALSE),\"\"))","v":""}]
[null,{"$f":"CONCATENATE(IFERROR(VLOOKUP(A1305,[1]SkillConfig!$D:$F,3,FALSE),\"\"),IFERROR(VLOOKUP(A1305,[1]SkillConfig!$E:$G,3,FALSE),\"\"),IFERROR(VLOOKUP(A1305,[1]SkillConfig!$V:$AF,11,FALSE),\"\"))","v":""},-1]
[null,{"$f":"CONCATENATE(IFERROR(VLOOKUP(A1306,[1]SkillConfig!$D:$F,3,FALSE),\"\"),IFERROR(VLOOKUP(A1306,[1]SkillConfig!$E:$G,3,FALSE),\"\"),IFERROR(VLOOKUP(A1306,[1]SkillConfig!$V:$AF,11,FALSE),\"\"))","v":""},1200000]
[null,{"$f":"CONCATENATE(IFERROR(VLOOKUP(A1307,[1]SkillConfig!$D:$F,3,FALSE),\"\"),IFERROR(VLOOKUP(A1307,[1]SkillConfig!$E:$G,3,FALSE),\"\"),IFERROR(VLOOKUP(A1307,[1]SkillConfig!$V:$AF,11,FALSE),\"\"))","v":""},1200000]
[null,{"$f":"CONCATENATE(IFERROR(VLOOKUP(A1308,[1]SkillConfig!$D:$F,3,FALSE),\"\"),IFERROR(VLOOKUP(A1308,[1]SkillConfig!$E:$G,3,FALSE),\"\"),IFERROR(VLOOKUP(A1308,[1]SkillConfig!$V:$AF,11,FALSE),\"\"))","v":""},1200000]
[null,{"$f":"CONCATENATE(IFERROR(VLOOKUP(A1309,[1]SkillConfig!$D:$F,3,FALSE),\"\"),IFERROR(VLOOKUP(A1309,[1]SkillConfig!$E:$G,3,FALSE),\"\"),IFERROR(VLOOKUP(A1309,[1]SkillConfig!$V:$AF,11,FALSE),\"\"))","v":""},1200000]
[null,{"$f":"CONCATENATE(IFERROR(VLOOKUP(A1310,[1]SkillConfig!$D:$F,3,FALSE),\"\"),IFERROR(VLOOKUP(A1310,[1]SkillConfig!$E:$G,3,FALSE),\"\"),IFERROR(VLOOKUP(A1310,[1]SkillConfig!$V:$AF,11,FALSE),\"\"))","v":""},1200000]
[null,{"$f":"CONCATENATE(IFERROR(VLOOKUP(A1311,[1]SkillConfig!$D:$F,3,FALSE),\"\"),IFERROR(VLOOKUP(A1311,[1]SkillConfig!$E:$G,3,FALSE),\"\"),IFERROR(VLOOKUP(A1311,[1]SkillConfig!$V:$AF,11,FALSE),\"\"))","v":""}]
[null,{"$f":"CONCATENATE(IFERROR(VLOOKUP(A1312,[1]SkillConfig!$D:$F,3,FALSE),\"\"),IFERROR(VLOOKUP(A1312,[1]SkillConfig!$E:$G,3,FALSE),\"\"),IFERROR(VLOOKUP(A1312,[1]SkillConfig!$V:$AF,11,FALSE),\"\"))","v":""},-1]
[1212041,{"$f":"CONCATENATE(IFERROR(VLOOKUP(A1313,[1]SkillConfig!$D:$F,3,FALSE),\"\"),IFERROR(VLOOKUP(A1313,[1]SkillConfig!$E:$G,3,FALSE),\"\"),IFERROR(VLOOKUP(A1313,[1]SkillConfig!$V:$AF,11,FALSE),\"\"))","v":"人物攻击永久+5%"},1212041]
[1212042,{"$f":"CONCATENATE(IFERROR(VLOOKUP(A1314,[1]SkillConfig!$D:$F,3,FALSE),\"\"),IFERROR(VLOOKUP(A1314,[1]SkillConfig!$E:$G,3,FALSE),\"\"),IFERROR(VLOOKUP(A1314,[1]SkillConfig!$V:$AF,11,FALSE),\"\"))","v":"水波数量+1"},1212042]
[1212043,{"$f":"CONCATENATE(IFERROR(VLOOKUP(A1315,[1]SkillConfig!$D:$F,3,FALSE),\"\"),IFERROR(VLOOKUP(A1315,[1]SkillConfig!$E:$G,3,FALSE),\"\"),IFERROR(VLOOKUP(A1315,[1]SkillConfig!$V:$AF,11,FALSE),\"\"))","v":"人物攻击永久+5%"},1212043]
[1212044,{"$f":"CONCATENATE(IFERROR(VLOOKUP(A1316,[1]SkillConfig!$D:$F,3,FALSE),\"\"),IFERROR(VLOOKUP(A1316,[1]SkillConfig!$E:$G,3,FALSE),\"\"),IFERROR(VLOOKUP(A1316,[1]SkillConfig!$V:$AF,11,FALSE),\"\"))","v":"水波数量+1"},1212044]
[1212045,{"$f":"CONCATENATE(IFERROR(VLOOKUP(A1317,[1]SkillConfig!$D:$F,3,FALSE),\"\"),IFERROR(VLOOKUP(A1317,[1]SkillConfig!$E:$G,3,FALSE),\"\"),IFERROR(VLOOKUP(A1317,[1]SkillConfig!$V:$AF,11,FALSE),\"\"))","v":"人物攻击永久+5%"},1212045]
[null,{"$f":"CONCATENATE(IFERROR(VLOOKUP(A1318,[1]SkillConfig!$D:$F,3,FALSE),\"\"),IFERROR(VLOOKUP(A1318,[1]SkillConfig!$E:$G,3,FALSE),\"\"),IFERROR(VLOOKUP(A1318,[1]SkillConfig!$V:$AF,11,FALSE),\"\"))","v":""}]
[null,{"$f":"CONCATENATE(IFERROR(VLOOKUP(A1319,[1]SkillConfig!$D:$F,3,FALSE),\"\"),IFERROR(VLOOKUP(A1319,[1]SkillConfig!$E:$G,3,FALSE),\"\"),IFERROR(VLOOKUP(A1319,[1]SkillConfig!$V:$AF,11,FALSE),\"\"))","v":""},-1]
[1212051,{"$f":"CONCATENATE(IFERROR(VLOOKUP(A1320,[1]SkillConfig!$D:$F,3,FALSE),\"\"),IFERROR(VLOOKUP(A1320,[1]SkillConfig!$E:$G,3,FALSE),\"\"),IFERROR(VLOOKUP(A1320,[1]SkillConfig!$V:$AF,11,FALSE),\"\"))","v":"人物防御永久+5%"},1212051]
[1212052,{"$f":"CONCATENATE(IFERROR(VLOOKUP(A1321,[1]SkillConfig!$D:$F,3,FALSE),\"\"),IFERROR(VLOOKUP(A1321,[1]SkillConfig!$E:$G,3,FALSE),\"\"),IFERROR(VLOOKUP(A1321,[1]SkillConfig!$V:$AF,11,FALSE),\"\"))","v":"冰刀数量+1"},1212052]
[1212053,{"$f":"CONCATENATE(IFERROR(VLOOKUP(A1322,[1]SkillConfig!$D:$F,3,FALSE),\"\"),IFERROR(VLOOKUP(A1322,[1]SkillConfig!$E:$G,3,FALSE),\"\"),IFERROR(VLOOKUP(A1322,[1]SkillConfig!$V:$AF,11,FALSE),\"\"))","v":"人物防御永久+5%"},1212053]
[1212054,{"$f":"CONCATENATE(IFERROR(VLOOKUP(A1323,[1]SkillConfig!$D:$F,3,FALSE),\"\"),IFERROR(VLOOKUP(A1323,[1]SkillConfig!$E:$G,3,FALSE),\"\"),IFERROR(VLOOKUP(A1323,[1]SkillConfig!$V:$AF,11,FALSE),\"\"))","v":"冰刀数量+1"},1212054]
[1212055,{"$f":"CONCATENATE(IFERROR(VLOOKUP(A1324,[1]SkillConfig!$D:$F,3,FALSE),\"\"),IFERROR(VLOOKUP(A1324,[1]SkillConfig!$E:$G,3,FALSE),\"\"),IFERROR(VLOOKUP(A1324,[1]SkillConfig!$V:$AF,11,FALSE),\"\"))","v":"人物防御永久+5%"},1212055]
[null,{"$f":"CONCATENATE(IFERROR(VLOOKUP(A1325,[1]SkillConfig!$D:$F,3,FALSE),\"\"),IFERROR(VLOOKUP(A1325,[1]SkillConfig!$E:$G,3,FALSE),\"\"),IFERROR(VLOOKUP(A1325,[1]SkillConfig!$V:$AF,11,FALSE),\"\"))","v":""}]
[null,{"$f":"CONCATENATE(IFERROR(VLOOKUP(A1326,[1]SkillConfig!$D:$F,3,FALSE),\"\"),IFERROR(VLOOKUP(A1326,[1]SkillConfig!$E:$G,3,FALSE),\"\"),IFERROR(VLOOKUP(A1326,[1]SkillConfig!$V:$AF,11,FALSE),\"\"))","v":""},-1]
[1213011,{"$f":"CONCATENATE(IFERROR(VLOOKUP(A1327,[1]SkillConfig!$D:$F,3,FALSE),\"\"),IFERROR(VLOOKUP(A1327,[1]SkillConfig!$E:$G,3,FALSE),\"\"),IFERROR(VLOOKUP(A1327,[1]SkillConfig!$V:$AF,11,FALSE),\"\"))","v":"毒针数量+1"},1213011]
[1213012,{"$f":"CONCATENATE(IFERROR(VLOOKUP(A1328,[1]SkillConfig!$D:$F,3,FALSE),\"\"),IFERROR(VLOOKUP(A1328,[1]SkillConfig!$E:$G,3,FALSE),\"\"),IFERROR(VLOOKUP(A1328,[1]SkillConfig!$V:$AF,11,FALSE),\"\"))","v":"人物生命永久+10%"},1213012]
[1213013,{"$f":"CONCATENATE(IFERROR(VLOOKUP(A1329,[1]SkillConfig!$D:$F,3,FALSE),\"\"),IFERROR(VLOOKUP(A1329,[1]SkillConfig!$E:$G,3,FALSE),\"\"),IFERROR(VLOOKUP(A1329,[1]SkillConfig!$V:$AF,11,FALSE),\"\"))","v":"毒针数量+1"},1213013]
[1213014,{"$f":"CONCATENATE(IFERROR(VLOOKUP(A1330,[1]SkillConfig!$D:$F,3,FALSE),\"\"),IFERROR(VLOOKUP(A1330,[1]SkillConfig!$E:$G,3,FALSE),\"\"),IFERROR(VLOOKUP(A1330,[1]SkillConfig!$V:$AF,11,FALSE),\"\"))","v":"人物生命永久+10%"},1213014]
[1213015,{"$f":"CONCATENATE(IFERROR(VLOOKUP(A1331,[1]SkillConfig!$D:$F,3,FALSE),\"\"),IFERROR(VLOOKUP(A1331,[1]SkillConfig!$E:$G,3,FALSE),\"\"),IFERROR(VLOOKUP(A1331,[1]SkillConfig!$V:$AF,11,FALSE),\"\"))","v":"毒针数量+1"},1213015]
[null,{"$f":"CONCATENATE(IFERROR(VLOOKUP(A1332,[1]SkillConfig!$D:$F,3,FALSE),\"\"),IFERROR(VLOOKUP(A1332,[1]SkillConfig!$E:$G,3,FALSE),\"\"),IFERROR(VLOOKUP(A1332,[1]SkillConfig!$V:$AF,11,FALSE),\"\"))","v":""}]
[null,{"$f":"CONCATENATE(IFERROR(VLOOKUP(A1333,[1]SkillConfig!$D:$F,3,FALSE),\"\"),IFERROR(VLOOKUP(A1333,[1]SkillConfig!$E:$G,3,FALSE),\"\"),IFERROR(VLOOKUP(A1333,[1]SkillConfig!$V:$AF,11,FALSE),\"\"))","v":""},-1]
[1213021,{"$f":"CONCATENATE(IFERROR(VLOOKUP(A1334,[1]SkillConfig!$D:$F,3,FALSE),\"\"),IFERROR(VLOOKUP(A1334,[1]SkillConfig!$E:$G,3,FALSE),\"\"),IFERROR(VLOOKUP(A1334,[1]SkillConfig!$V:$AF,11,FALSE),\"\"))","v":"手掌数量+1"},1213021]
[1213022,{"$f":"CONCATENATE(IFERROR(VLOOKUP(A1335,[1]SkillConfig!$D:$F,3,FALSE),\"\"),IFERROR(VLOOKUP(A1335,[1]SkillConfig!$E:$G,3,FALSE),\"\"),IFERROR(VLOOKUP(A1335,[1]SkillConfig!$V:$AF,11,FALSE),\"\"))","v":"人物防御永久+10%"},1213022]
[1213023,{"$f":"CONCATENATE(IFERROR(VLOOKUP(A1336,[1]SkillConfig!$D:$F,3,FALSE),\"\"),IFERROR(VLOOKUP(A1336,[1]SkillConfig!$E:$G,3,FALSE),\"\"),IFERROR(VLOOKUP(A1336,[1]SkillConfig!$V:$AF,11,FALSE),\"\"))","v":"手掌数量+1"},1213023]
[1213024,{"$f":"CONCATENATE(IFERROR(VLOOKUP(A1337,[1]SkillConfig!$D:$F,3,FALSE),\"\"),IFERROR(VLOOKUP(A1337,[1]SkillConfig!$E:$G,3,FALSE),\"\"),IFERROR(VLOOKUP(A1337,[1]SkillConfig!$V:$AF,11,FALSE),\"\"))","v":"人物防御永久+10%"},1213024]
[1213025,{"$f":"CONCATENATE(IFERROR(VLOOKUP(A1338,[1]SkillConfig!$D:$F,3,FALSE),\"\"),IFERROR(VLOOKUP(A1338,[1]SkillConfig!$E:$G,3,FALSE),\"\"),IFERROR(VLOOKUP(A1338,[1]SkillConfig!$V:$AF,11,FALSE),\"\"))","v":"手掌数量+1"},1213025]
[null,{"$f":"CONCATENATE(IFERROR(VLOOKUP(A1339,[1]SkillConfig!$D:$F,3,FALSE),\"\"),IFERROR(VLOOKUP(A1339,[1]SkillConfig!$E:$G,3,FALSE),\"\"),IFERROR(VLOOKUP(A1339,[1]SkillConfig!$V:$AF,11,FALSE),\"\"))","v":""}]
[null,{"$f":"CONCATENATE(IFERROR(VLOOKUP(A1340,[1]SkillConfig!$D:$F,3,FALSE),\"\"),IFERROR(VLOOKUP(A1340,[1]SkillConfig!$E:$G,3,FALSE),\"\"),IFERROR(VLOOKUP(A1340,[1]SkillConfig!$V:$AF,11,FALSE),\"\"))","v":""},-1]
[null,{"$f":"CONCATENATE(IFERROR(VLOOKUP(A1341,[1]SkillConfig!$D:$F,3,FALSE),\"\"),IFERROR(VLOOKUP(A1341,[1]SkillConfig!$E:$G,3,FALSE),\"\"),IFERROR(VLOOKUP(A1341,[1]SkillConfig!$V:$AF,11,FALSE),\"\"))","v":""},1200000]
[null,{"$f":"CONCATENATE(IFERROR(VLOOKUP(A1342,[1]SkillConfig!$D:$F,3,FALSE),\"\"),IFERROR(VLOOKUP(A1342,[1]SkillConfig!$E:$G,3,FALSE),\"\"),IFERROR(VLOOKUP(A1342,[1]SkillConfig!$V:$AF,11,FALSE),\"\"))","v":""},1200000]
[null,{"$f":"CONCATENATE(IFERROR(VLOOKUP(A1343,[1]SkillConfig!$D:$F,3,FALSE),\"\"),IFERROR(VLOOKUP(A1343,[1]SkillConfig!$E:$G,3,FALSE),\"\"),IFERROR(VLOOKUP(A1343,[1]SkillConfig!$V:$AF,11,FALSE),\"\"))","v":""},1200000]
[null,{"$f":"CONCATENATE(IFERROR(VLOOKUP(A1344,[1]SkillConfig!$D:$F,3,FALSE),\"\"),IFERROR(VLOOKUP(A1344,[1]SkillConfig!$E:$G,3,FALSE),\"\"),IFERROR(VLOOKUP(A1344,[1]SkillConfig!$V:$AF,11,FALSE),\"\"))","v":""},1200000]
[null,{"$f":"CONCATENATE(IFERROR(VLOOKUP(A1345,[1]SkillConfig!$D:$F,3,FALSE),\"\"),IFERROR(VLOOKUP(A1345,[1]SkillConfig!$E:$G,3,FALSE),\"\"),IFERROR(VLOOKUP(A1345,[1]SkillConfig!$V:$AF,11,FALSE),\"\"))","v":""},1200000]
[null,{"$f":"CONCATENATE(IFERROR(VLOOKUP(A1346,[1]SkillConfig!$D:$F,3,FALSE),\"\"),IFERROR(VLOOKUP(A1346,[1]SkillConfig!$E:$G,3,FALSE),\"\"),IFERROR(VLOOKUP(A1346,[1]SkillConfig!$V:$AF,11,FALSE),\"\"))","v":""}]
[null,{"$f":"CONCATENATE(IFERROR(VLOOKUP(A1347,[1]SkillConfig!$D:$F,3,FALSE),\"\"),IFERROR(VLOOKUP(A1347,[1]SkillConfig!$E:$G,3,FALSE),\"\"),IFERROR(VLOOKUP(A1347,[1]SkillConfig!$V:$AF,11,FALSE),\"\"))","v":""},-1]
[1213041,{"$f":"CONCATENATE(IFERROR(VLOOKUP(A1348,[1]SkillConfig!$D:$F,3,FALSE),\"\"),IFERROR(VLOOKUP(A1348,[1]SkillConfig!$E:$G,3,FALSE),\"\"),IFERROR(VLOOKUP(A1348,[1]SkillConfig!$V:$AF,11,FALSE),\"\"))","v":"人物生命永久+5%"},1213041]
[1213042,{"$f":"CONCATENATE(IFERROR(VLOOKUP(A1349,[1]SkillConfig!$D:$F,3,FALSE),\"\"),IFERROR(VLOOKUP(A1349,[1]SkillConfig!$E:$G,3,FALSE),\"\"),IFERROR(VLOOKUP(A1349,[1]SkillConfig!$V:$AF,11,FALSE),\"\"))","v":"竹刺数量+1"},1213042]
[1213043,{"$f":"CONCATENATE(IFERROR(VLOOKUP(A1350,[1]SkillConfig!$D:$F,3,FALSE),\"\"),IFERROR(VLOOKUP(A1350,[1]SkillConfig!$E:$G,3,FALSE),\"\"),IFERROR(VLOOKUP(A1350,[1]SkillConfig!$V:$AF,11,FALSE),\"\"))","v":"人物生命永久+5%"},1213043]
[1213044,{"$f":"CONCATENATE(IFERROR(VLOOKUP(A1351,[1]SkillConfig!$D:$F,3,FALSE),\"\"),IFERROR(VLOOKUP(A1351,[1]SkillConfig!$E:$G,3,FALSE),\"\"),IFERROR(VLOOKUP(A1351,[1]SkillConfig!$V:$AF,11,FALSE),\"\"))","v":"竹刺数量+1"},1213044]
[1213045,{"$f":"CONCATENATE(IFERROR(VLOOKUP(A1352,[1]SkillConfig!$D:$F,3,FALSE),\"\"),IFERROR(VLOOKUP(A1352,[1]SkillConfig!$E:$G,3,FALSE),\"\"),IFERROR(VLOOKUP(A1352,[1]SkillConfig!$V:$AF,11,FALSE),\"\"))","v":"人物生命永久+5%"},1213045]
[null,{"$f":"CONCATENATE(IFERROR(VLOOKUP(A1353,[1]SkillConfig!$D:$F,3,FALSE),\"\"),IFERROR(VLOOKUP(A1353,[1]SkillConfig!$E:$G,3,FALSE),\"\"),IFERROR(VLOOKUP(A1353,[1]SkillConfig!$V:$AF,11,FALSE),\"\"))","v":""}]
[null,{"$f":"CONCATENATE(IFERROR(VLOOKUP(A1354,[1]SkillConfig!$D:$F,3,FALSE),\"\"),IFERROR(VLOOKUP(A1354,[1]SkillConfig!$E:$G,3,FALSE),\"\"),IFERROR(VLOOKUP(A1354,[1]SkillConfig!$V:$AF,11,FALSE),\"\"))","v":""},-1]
[1213051,{"$f":"CONCATENATE(IFERROR(VLOOKUP(A1355,[1]SkillConfig!$D:$F,3,FALSE),\"\"),IFERROR(VLOOKUP(A1355,[1]SkillConfig!$E:$G,3,FALSE),\"\"),IFERROR(VLOOKUP(A1355,[1]SkillConfig!$V:$AF,11,FALSE),\"\"))","v":"人物攻击永久+5%"},1213051]
[1213052,{"$f":"CONCATENATE(IFERROR(VLOOKUP(A1356,[1]SkillConfig!$D:$F,3,FALSE),\"\"),IFERROR(VLOOKUP(A1356,[1]SkillConfig!$E:$G,3,FALSE),\"\"),IFERROR(VLOOKUP(A1356,[1]SkillConfig!$V:$AF,11,FALSE),\"\"))","v":"飞叶数量+1"},1213052]
[1213053,{"$f":"CONCATENATE(IFERROR(VLOOKUP(A1357,[1]SkillConfig!$D:$F,3,FALSE),\"\"),IFERROR(VLOOKUP(A1357,[1]SkillConfig!$E:$G,3,FALSE),\"\"),IFERROR(VLOOKUP(A1357,[1]SkillConfig!$V:$AF,11,FALSE),\"\"))","v":"人物攻击永久+5%"},1213053]
[1213054,{"$f":"CONCATENATE(IFERROR(VLOOKUP(A1358,[1]SkillConfig!$D:$F,3,FALSE),\"\"),IFERROR(VLOOKUP(A1358,[1]SkillConfig!$E:$G,3,FALSE),\"\"),IFERROR(VLOOKUP(A1358,[1]SkillConfig!$V:$AF,11,FALSE),\"\"))","v":"飞叶数量+1"},1213054]
[1213055,{"$f":"CONCATENATE(IFERROR(VLOOKUP(A1359,[1]SkillConfig!$D:$F,3,FALSE),\"\"),IFERROR(VLOOKUP(A1359,[1]SkillConfig!$E:$G,3,FALSE),\"\"),IFERROR(VLOOKUP(A1359,[1]SkillConfig!$V:$AF,11,FALSE),\"\"))","v":"人物攻击永久+5%"},1213055]
[null,{"$f":"CONCATENATE(IFERROR(VLOOKUP(A1360,[1]SkillConfig!$D:$F,3,FALSE),\"\"),IFERROR(VLOOKUP(A1360,[1]SkillConfig!$E:$G,3,FALSE),\"\"),IFERROR(VLOOKUP(A1360,[1]SkillConfig!$V:$AF,11,FALSE),\"\"))","v":""}]
[null,{"$f":"CONCATENATE(IFERROR(VLOOKUP(A1361,[1]SkillConfig!$D:$F,3,FALSE),\"\"),IFERROR(VLOOKUP(A1361,[1]SkillConfig!$E:$G,3,FALSE),\"\"),IFERROR(VLOOKUP(A1361,[1]SkillConfig!$V:$AF,11,FALSE),\"\"))","v":""},-1]
[1214011,{"$f":"CONCATENATE(IFERROR(VLOOKUP(A1362,[1]SkillConfig!$D:$F,3,FALSE),\"\"),IFERROR(VLOOKUP(A1362,[1]SkillConfig!$E:$G,3,FALSE),\"\"),IFERROR(VLOOKUP(A1362,[1]SkillConfig!$V:$AF,11,FALSE),\"\"))","v":"剑柄数量+1"},1214011]
[1214012,{"$f":"CONCATENATE(IFERROR(VLOOKUP(A1363,[1]SkillConfig!$D:$F,3,FALSE),\"\"),IFERROR(VLOOKUP(A1363,[1]SkillConfig!$E:$G,3,FALSE),\"\"),IFERROR(VLOOKUP(A1363,[1]SkillConfig!$V:$AF,11,FALSE),\"\"))","v":"人物生命永久+10%"},1214012]
[1214013,{"$f":"CONCATENATE(IFERROR(VLOOKUP(A1364,[1]SkillConfig!$D:$F,3,FALSE),\"\"),IFERROR(VLOOKUP(A1364,[1]SkillConfig!$E:$G,3,FALSE),\"\"),IFERROR(VLOOKUP(A1364,[1]SkillConfig!$V:$AF,11,FALSE),\"\"))","v":"剑柄数量+1"},1214013]
[1214014,{"$f":"CONCATENATE(IFERROR(VLOOKUP(A1365,[1]SkillConfig!$D:$F,3,FALSE),\"\"),IFERROR(VLOOKUP(A1365,[1]SkillConfig!$E:$G,3,FALSE),\"\"),IFERROR(VLOOKUP(A1365,[1]SkillConfig!$V:$AF,11,FALSE),\"\"))","v":"人物生命永久+10%"},1214014]
[1214015,{"$f":"CONCATENATE(IFERROR(VLOOKUP(A1366,[1]SkillConfig!$D:$F,3,FALSE),\"\"),IFERROR(VLOOKUP(A1366,[1]SkillConfig!$E:$G,3,FALSE),\"\"),IFERROR(VLOOKUP(A1366,[1]SkillConfig!$V:$AF,11,FALSE),\"\"))","v":"额外造成爆燃伤害"},1214015]
[null,{"$f":"CONCATENATE(IFERROR(VLOOKUP(A1367,[1]SkillConfig!$D:$F,3,FALSE),\"\"),IFERROR(VLOOKUP(A1367,[1]SkillConfig!$E:$G,3,FALSE),\"\"),IFERROR(VLOOKUP(A1367,[1]SkillConfig!$V:$AF,11,FALSE),\"\"))","v":""}]
[null,{"$f":"CONCATENATE(IFERROR(VLOOKUP(A1368,[1]SkillConfig!$D:$F,3,FALSE),\"\"),IFERROR(VLOOKUP(A1368,[1]SkillConfig!$E:$G,3,FALSE),\"\"),IFERROR(VLOOKUP(A1368,[1]SkillConfig!$V:$AF,11,FALSE),\"\"))","v":""},-1]
[1214021,{"$f":"CONCATENATE(IFERROR(VLOOKUP(A1369,[1]SkillConfig!$D:$F,3,FALSE),\"\"),IFERROR(VLOOKUP(A1369,[1]SkillConfig!$E:$G,3,FALSE),\"\"),IFERROR(VLOOKUP(A1369,[1]SkillConfig!$V:$AF,11,FALSE),\"\"))","v":"眩晕处于灼烧中的敌人"},1214021]
[1214022,{"$f":"CONCATENATE(IFERROR(VLOOKUP(A1370,[1]SkillConfig!$D:$F,3,FALSE),\"\"),IFERROR(VLOOKUP(A1370,[1]SkillConfig!$E:$G,3,FALSE),\"\"),IFERROR(VLOOKUP(A1370,[1]SkillConfig!$V:$AF,11,FALSE),\"\"))","v":"人物攻击永久+10%"},1214022]
[1214023,{"$f":"CONCATENATE(IFERROR(VLOOKUP(A1371,[1]SkillConfig!$D:$F,3,FALSE),\"\"),IFERROR(VLOOKUP(A1371,[1]SkillConfig!$E:$G,3,FALSE),\"\"),IFERROR(VLOOKUP(A1371,[1]SkillConfig!$V:$AF,11,FALSE),\"\"))","v":"飞龙数量+1，额外造成灼烧"},1214023]
[1214024,{"$f":"CONCATENATE(IFERROR(VLOOKUP(A1372,[1]SkillConfig!$D:$F,3,FALSE),\"\"),IFERROR(VLOOKUP(A1372,[1]SkillConfig!$E:$G,3,FALSE),\"\"),IFERROR(VLOOKUP(A1372,[1]SkillConfig!$V:$AF,11,FALSE),\"\"))","v":"人物攻击永久+10%"},1214024]
[1214025,{"$f":"CONCATENATE(IFERROR(VLOOKUP(A1373,[1]SkillConfig!$D:$F,3,FALSE),\"\"),IFERROR(VLOOKUP(A1373,[1]SkillConfig!$E:$G,3,FALSE),\"\"),IFERROR(VLOOKUP(A1373,[1]SkillConfig!$V:$AF,11,FALSE),\"\"))","v":"额外引发天雷伤害"},1214025]
[null,{"$f":"CONCATENATE(IFERROR(VLOOKUP(A1374,[1]SkillConfig!$D:$F,3,FALSE),\"\"),IFERROR(VLOOKUP(A1374,[1]SkillConfig!$E:$G,3,FALSE),\"\"),IFERROR(VLOOKUP(A1374,[1]SkillConfig!$V:$AF,11,FALSE),\"\"))","v":""}]
[null,{"$f":"CONCATENATE(IFERROR(VLOOKUP(A1375,[1]SkillConfig!$D:$F,3,FALSE),\"\"),IFERROR(VLOOKUP(A1375,[1]SkillConfig!$E:$G,3,FALSE),\"\"),IFERROR(VLOOKUP(A1375,[1]SkillConfig!$V:$AF,11,FALSE),\"\"))","v":""},-1]
[1214031,{"$f":"CONCATENATE(IFERROR(VLOOKUP(A1376,[1]SkillConfig!$D:$F,3,FALSE),\"\"),IFERROR(VLOOKUP(A1376,[1]SkillConfig!$E:$G,3,FALSE),\"\"),IFERROR(VLOOKUP(A1376,[1]SkillConfig!$V:$AF,11,FALSE),\"\"))","v":"对灼烧的敌人额外增伤"},1214031]
[1214032,{"$f":"CONCATENATE(IFERROR(VLOOKUP(A1377,[1]SkillConfig!$D:$F,3,FALSE),\"\"),IFERROR(VLOOKUP(A1377,[1]SkillConfig!$E:$G,3,FALSE),\"\"),IFERROR(VLOOKUP(A1377,[1]SkillConfig!$V:$AF,11,FALSE),\"\"))","v":"人物防御永久+10%"},1214032]
[1214033,{"$f":"CONCATENATE(IFERROR(VLOOKUP(A1378,[1]SkillConfig!$D:$F,3,FALSE),\"\"),IFERROR(VLOOKUP(A1378,[1]SkillConfig!$E:$G,3,FALSE),\"\"),IFERROR(VLOOKUP(A1378,[1]SkillConfig!$V:$AF,11,FALSE),\"\"))","v":"烈焰伤害提升"},1214033]
[1214034,{"$f":"CONCATENATE(IFERROR(VLOOKUP(A1379,[1]SkillConfig!$D:$F,3,FALSE),\"\"),IFERROR(VLOOKUP(A1379,[1]SkillConfig!$E:$G,3,FALSE),\"\"),IFERROR(VLOOKUP(A1379,[1]SkillConfig!$V:$AF,11,FALSE),\"\"))","v":"人物防御永久+10%"},1214034]
[1214035,{"$f":"CONCATENATE(IFERROR(VLOOKUP(A1380,[1]SkillConfig!$D:$F,3,FALSE),\"\"),IFERROR(VLOOKUP(A1380,[1]SkillConfig!$E:$G,3,FALSE),\"\"),IFERROR(VLOOKUP(A1380,[1]SkillConfig!$V:$AF,11,FALSE),\"\"))","v":"每只手指额外发射一个弹道"},1214035]
[null,{"$f":"CONCATENATE(IFERROR(VLOOKUP(A1381,[1]SkillConfig!$D:$F,3,FALSE),\"\"),IFERROR(VLOOKUP(A1381,[1]SkillConfig!$E:$G,3,FALSE),\"\"),IFERROR(VLOOKUP(A1381,[1]SkillConfig!$V:$AF,11,FALSE),\"\"))","v":""}]
[null,{"$f":"CONCATENATE(IFERROR(VLOOKUP(A1382,[1]SkillConfig!$D:$F,3,FALSE),\"\"),IFERROR(VLOOKUP(A1382,[1]SkillConfig!$E:$G,3,FALSE),\"\"),IFERROR(VLOOKUP(A1382,[1]SkillConfig!$V:$AF,11,FALSE),\"\"))","v":""},-1]
[1214041,{"$f":"CONCATENATE(IFERROR(VLOOKUP(A1383,[1]SkillConfig!$D:$F,3,FALSE),\"\"),IFERROR(VLOOKUP(A1383,[1]SkillConfig!$E:$G,3,FALSE),\"\"),IFERROR(VLOOKUP(A1383,[1]SkillConfig!$V:$AF,11,FALSE),\"\"))","v":"人物防御永久+5%"},1214041]
[1214042,{"$f":"CONCATENATE(IFERROR(VLOOKUP(A1384,[1]SkillConfig!$D:$F,3,FALSE),\"\"),IFERROR(VLOOKUP(A1384,[1]SkillConfig!$E:$G,3,FALSE),\"\"),IFERROR(VLOOKUP(A1384,[1]SkillConfig!$V:$AF,11,FALSE),\"\"))","v":"火球数量+1"},1214042]
[1214043,{"$f":"CONCATENATE(IFERROR(VLOOKUP(A1385,[1]SkillConfig!$D:$F,3,FALSE),\"\"),IFERROR(VLOOKUP(A1385,[1]SkillConfig!$E:$G,3,FALSE),\"\"),IFERROR(VLOOKUP(A1385,[1]SkillConfig!$V:$AF,11,FALSE),\"\"))","v":"人物防御永久+5%"},1214043]
[1214044,{"$f":"CONCATENATE(IFERROR(VLOOKUP(A1386,[1]SkillConfig!$D:$F,3,FALSE),\"\"),IFERROR(VLOOKUP(A1386,[1]SkillConfig!$E:$G,3,FALSE),\"\"),IFERROR(VLOOKUP(A1386,[1]SkillConfig!$V:$AF,11,FALSE),\"\"))","v":"火球数量+1"},1214044]
[1214045,{"$f":"CONCATENATE(IFERROR(VLOOKUP(A1387,[1]SkillConfig!$D:$F,3,FALSE),\"\"),IFERROR(VLOOKUP(A1387,[1]SkillConfig!$E:$G,3,FALSE),\"\"),IFERROR(VLOOKUP(A1387,[1]SkillConfig!$V:$AF,11,FALSE),\"\"))","v":"人物防御永久+5%"},1214045]
[null,{"$f":"CONCATENATE(IFERROR(VLOOKUP(A1388,[1]SkillConfig!$D:$F,3,FALSE),\"\"),IFERROR(VLOOKUP(A1388,[1]SkillConfig!$E:$G,3,FALSE),\"\"),IFERROR(VLOOKUP(A1388,[1]SkillConfig!$V:$AF,11,FALSE),\"\"))","v":""}]
[null,{"$f":"CONCATENATE(IFERROR(VLOOKUP(A1389,[1]SkillConfig!$D:$F,3,FALSE),\"\"),IFERROR(VLOOKUP(A1389,[1]SkillConfig!$E:$G,3,FALSE),\"\"),IFERROR(VLOOKUP(A1389,[1]SkillConfig!$V:$AF,11,FALSE),\"\"))","v":""},-1]
[1214051,{"$f":"CONCATENATE(IFERROR(VLOOKUP(A1390,[1]SkillConfig!$D:$F,3,FALSE),\"\"),IFERROR(VLOOKUP(A1390,[1]SkillConfig!$E:$G,3,FALSE),\"\"),IFERROR(VLOOKUP(A1390,[1]SkillConfig!$V:$AF,11,FALSE),\"\"))","v":"人物生命永久+5%"},1214051]
[1214052,{"$f":"CONCATENATE(IFERROR(VLOOKUP(A1391,[1]SkillConfig!$D:$F,3,FALSE),\"\"),IFERROR(VLOOKUP(A1391,[1]SkillConfig!$E:$G,3,FALSE),\"\"),IFERROR(VLOOKUP(A1391,[1]SkillConfig!$V:$AF,11,FALSE),\"\"))","v":"火刃数量+1"},1214052]
[1214053,{"$f":"CONCATENATE(IFERROR(VLOOKUP(A1392,[1]SkillConfig!$D:$F,3,FALSE),\"\"),IFERROR(VLOOKUP(A1392,[1]SkillConfig!$E:$G,3,FALSE),\"\"),IFERROR(VLOOKUP(A1392,[1]SkillConfig!$V:$AF,11,FALSE),\"\"))","v":"人物生命永久+5%"},1214053]
[1214054,{"$f":"CONCATENATE(IFERROR(VLOOKUP(A1393,[1]SkillConfig!$D:$F,3,FALSE),\"\"),IFERROR(VLOOKUP(A1393,[1]SkillConfig!$E:$G,3,FALSE),\"\"),IFERROR(VLOOKUP(A1393,[1]SkillConfig!$V:$AF,11,FALSE),\"\"))","v":"火刃数量+1"},1214054]
[1214055,{"$f":"CONCATENATE(IFERROR(VLOOKUP(A1394,[1]SkillConfig!$D:$F,3,FALSE),\"\"),IFERROR(VLOOKUP(A1394,[1]SkillConfig!$E:$G,3,FALSE),\"\"),IFERROR(VLOOKUP(A1394,[1]SkillConfig!$V:$AF,11,FALSE),\"\"))","v":"人物生命永久+5%"},1214055]
[null,{"$f":"CONCATENATE(IFERROR(VLOOKUP(A1395,[1]SkillConfig!$D:$F,3,FALSE),\"\"),IFERROR(VLOOKUP(A1395,[1]SkillConfig!$E:$G,3,FALSE),\"\"),IFERROR(VLOOKUP(A1395,[1]SkillConfig!$V:$AF,11,FALSE),\"\"))","v":""}]
[null,{"$f":"CONCATENATE(IFERROR(VLOOKUP(A1396,[1]SkillConfig!$D:$F,3,FALSE),\"\"),IFERROR(VLOOKUP(A1396,[1]SkillConfig!$E:$G,3,FALSE),\"\"),IFERROR(VLOOKUP(A1396,[1]SkillConfig!$V:$AF,11,FALSE),\"\"))","v":""},-1]
[1215011,{"$f":"CONCATENATE(IFERROR(VLOOKUP(A1397,[1]SkillConfig!$D:$F,3,FALSE),\"\"),IFERROR(VLOOKUP(A1397,[1]SkillConfig!$E:$G,3,FALSE),\"\"),IFERROR(VLOOKUP(A1397,[1]SkillConfig!$V:$AF,11,FALSE),\"\"))","v":"土刺数量+1"},1215011]
[1215012,{"$f":"CONCATENATE(IFERROR(VLOOKUP(A1398,[1]SkillConfig!$D:$F,3,FALSE),\"\"),IFERROR(VLOOKUP(A1398,[1]SkillConfig!$E:$G,3,FALSE),\"\"),IFERROR(VLOOKUP(A1398,[1]SkillConfig!$V:$AF,11,FALSE),\"\"))","v":"人物生命永久+10%"},1215012]
[1215013,{"$f":"CONCATENATE(IFERROR(VLOOKUP(A1399,[1]SkillConfig!$D:$F,3,FALSE),\"\"),IFERROR(VLOOKUP(A1399,[1]SkillConfig!$E:$G,3,FALSE),\"\"),IFERROR(VLOOKUP(A1399,[1]SkillConfig!$V:$AF,11,FALSE),\"\"))","v":"土刺数量+1"},1215013]
[1215014,{"$f":"CONCATENATE(IFERROR(VLOOKUP(A1400,[1]SkillConfig!$D:$F,3,FALSE),\"\"),IFERROR(VLOOKUP(A1400,[1]SkillConfig!$E:$G,3,FALSE),\"\"),IFERROR(VLOOKUP(A1400,[1]SkillConfig!$V:$AF,11,FALSE),\"\"))","v":"人物生命永久+10%"},1215014]
[1215015,{"$f":"CONCATENATE(IFERROR(VLOOKUP(A1401,[1]SkillConfig!$D:$F,3,FALSE),\"\"),IFERROR(VLOOKUP(A1401,[1]SkillConfig!$E:$G,3,FALSE),\"\"),IFERROR(VLOOKUP(A1401,[1]SkillConfig!$V:$AF,11,FALSE),\"\"))","v":"土刺数量+1"},1215015]
[null,{"$f":"CONCATENATE(IFERROR(VLOOKUP(A1402,[1]SkillConfig!$D:$F,3,FALSE),\"\"),IFERROR(VLOOKUP(A1402,[1]SkillConfig!$E:$G,3,FALSE),\"\"),IFERROR(VLOOKUP(A1402,[1]SkillConfig!$V:$AF,11,FALSE),\"\"))","v":""}]
[null,{"$f":"CONCATENATE(IFERROR(VLOOKUP(A1403,[1]SkillConfig!$D:$F,3,FALSE),\"\"),IFERROR(VLOOKUP(A1403,[1]SkillConfig!$E:$G,3,FALSE),\"\"),IFERROR(VLOOKUP(A1403,[1]SkillConfig!$V:$AF,11,FALSE),\"\"))","v":""},-1]
[1215021,{"$f":"CONCATENATE(IFERROR(VLOOKUP(A1404,[1]SkillConfig!$D:$F,3,FALSE),\"\"),IFERROR(VLOOKUP(A1404,[1]SkillConfig!$E:$G,3,FALSE),\"\"),IFERROR(VLOOKUP(A1404,[1]SkillConfig!$V:$AF,11,FALSE),\"\"))","v":"刀气数量+1"},1215021]
[1215022,{"$f":"CONCATENATE(IFERROR(VLOOKUP(A1405,[1]SkillConfig!$D:$F,3,FALSE),\"\"),IFERROR(VLOOKUP(A1405,[1]SkillConfig!$E:$G,3,FALSE),\"\"),IFERROR(VLOOKUP(A1405,[1]SkillConfig!$V:$AF,11,FALSE),\"\"))","v":"人物攻击永久+10%"},1215022]
[1215023,{"$f":"CONCATENATE(IFERROR(VLOOKUP(A1406,[1]SkillConfig!$D:$F,3,FALSE),\"\"),IFERROR(VLOOKUP(A1406,[1]SkillConfig!$E:$G,3,FALSE),\"\"),IFERROR(VLOOKUP(A1406,[1]SkillConfig!$V:$AF,11,FALSE),\"\"))","v":"刀气数量+1"},1215023]
[1215024,{"$f":"CONCATENATE(IFERROR(VLOOKUP(A1407,[1]SkillConfig!$D:$F,3,FALSE),\"\"),IFERROR(VLOOKUP(A1407,[1]SkillConfig!$E:$G,3,FALSE),\"\"),IFERROR(VLOOKUP(A1407,[1]SkillConfig!$V:$AF,11,FALSE),\"\"))","v":"人物攻击永久+10%"},1215024]
[1215025,{"$f":"CONCATENATE(IFERROR(VLOOKUP(A1408,[1]SkillConfig!$D:$F,3,FALSE),\"\"),IFERROR(VLOOKUP(A1408,[1]SkillConfig!$E:$G,3,FALSE),\"\"),IFERROR(VLOOKUP(A1408,[1]SkillConfig!$V:$AF,11,FALSE),\"\"))","v":"刀气数量+1"},1215025]
[null,{"$f":"CONCATENATE(IFERROR(VLOOKUP(A1409,[1]SkillConfig!$D:$F,3,FALSE),\"\"),IFERROR(VLOOKUP(A1409,[1]SkillConfig!$E:$G,3,FALSE),\"\"),IFERROR(VLOOKUP(A1409,[1]SkillConfig!$V:$AF,11,FALSE),\"\"))","v":""}]
[null,{"$f":"CONCATENATE(IFERROR(VLOOKUP(A1410,[1]SkillConfig!$D:$F,3,FALSE),\"\"),IFERROR(VLOOKUP(A1410,[1]SkillConfig!$E:$G,3,FALSE),\"\"),IFERROR(VLOOKUP(A1410,[1]SkillConfig!$V:$AF,11,FALSE),\"\"))","v":""},-1]
[null,{"$f":"CONCATENATE(IFERROR(VLOOKUP(A1411,[1]SkillConfig!$D:$F,3,FALSE),\"\"),IFERROR(VLOOKUP(A1411,[1]SkillConfig!$E:$G,3,FALSE),\"\"),IFERROR(VLOOKUP(A1411,[1]SkillConfig!$V:$AF,11,FALSE),\"\"))","v":""},1200000]
[null,{"$f":"CONCATENATE(IFERROR(VLOOKUP(A1412,[1]SkillConfig!$D:$F,3,FALSE),\"\"),IFERROR(VLOOKUP(A1412,[1]SkillConfig!$E:$G,3,FALSE),\"\"),IFERROR(VLOOKUP(A1412,[1]SkillConfig!$V:$AF,11,FALSE),\"\"))","v":""},1200000]
[null,{"$f":"CONCATENATE(IFERROR(VLOOKUP(A1413,[1]SkillConfig!$D:$F,3,FALSE),\"\"),IFERROR(VLOOKUP(A1413,[1]SkillConfig!$E:$G,3,FALSE),\"\"),IFERROR(VLOOKUP(A1413,[1]SkillConfig!$V:$AF,11,FALSE),\"\"))","v":""},1200000]
[null,{"$f":"CONCATENATE(IFERROR(VLOOKUP(A1414,[1]SkillConfig!$D:$F,3,FALSE),\"\"),IFERROR(VLOOKUP(A1414,[1]SkillConfig!$E:$G,3,FALSE),\"\"),IFERROR(VLOOKUP(A1414,[1]SkillConfig!$V:$AF,11,FALSE),\"\"))","v":""},1200000]
[null,{"$f":"CONCATENATE(IFERROR(VLOOKUP(A1415,[1]SkillConfig!$D:$F,3,FALSE),\"\"),IFERROR(VLOOKUP(A1415,[1]SkillConfig!$E:$G,3,FALSE),\"\"),IFERROR(VLOOKUP(A1415,[1]SkillConfig!$V:$AF,11,FALSE),\"\"))","v":""},1200000]
[null,{"$f":"CONCATENATE(IFERROR(VLOOKUP(A1416,[1]SkillConfig!$D:$F,3,FALSE),\"\"),IFERROR(VLOOKUP(A1416,[1]SkillConfig!$E:$G,3,FALSE),\"\"),IFERROR(VLOOKUP(A1416,[1]SkillConfig!$V:$AF,11,FALSE),\"\"))","v":""}]
[null,{"$f":"CONCATENATE(IFERROR(VLOOKUP(A1417,[1]SkillConfig!$D:$F,3,FALSE),\"\"),IFERROR(VLOOKUP(A1417,[1]SkillConfig!$E:$G,3,FALSE),\"\"),IFERROR(VLOOKUP(A1417,[1]SkillConfig!$V:$AF,11,FALSE),\"\"))","v":""},-1]
[1215041,{"$f":"CONCATENATE(IFERROR(VLOOKUP(A1418,[1]SkillConfig!$D:$F,3,FALSE),\"\"),IFERROR(VLOOKUP(A1418,[1]SkillConfig!$E:$G,3,FALSE),\"\"),IFERROR(VLOOKUP(A1418,[1]SkillConfig!$V:$AF,11,FALSE),\"\"))","v":"人物攻击永久+5%"},1215041]
[1215042,{"$f":"CONCATENATE(IFERROR(VLOOKUP(A1419,[1]SkillConfig!$D:$F,3,FALSE),\"\"),IFERROR(VLOOKUP(A1419,[1]SkillConfig!$E:$G,3,FALSE),\"\"),IFERROR(VLOOKUP(A1419,[1]SkillConfig!$V:$AF,11,FALSE),\"\"))","v":"落石数量+1"},1215042]
[1215043,{"$f":"CONCATENATE(IFERROR(VLOOKUP(A1420,[1]SkillConfig!$D:$F,3,FALSE),\"\"),IFERROR(VLOOKUP(A1420,[1]SkillConfig!$E:$G,3,FALSE),\"\"),IFERROR(VLOOKUP(A1420,[1]SkillConfig!$V:$AF,11,FALSE),\"\"))","v":"人物攻击永久+5%"},1215043]
[1215044,{"$f":"CONCATENATE(IFERROR(VLOOKUP(A1421,[1]SkillConfig!$D:$F,3,FALSE),\"\"),IFERROR(VLOOKUP(A1421,[1]SkillConfig!$E:$G,3,FALSE),\"\"),IFERROR(VLOOKUP(A1421,[1]SkillConfig!$V:$AF,11,FALSE),\"\"))","v":"落石数量+1"},1215044]
[1215045,{"$f":"CONCATENATE(IFERROR(VLOOKUP(A1422,[1]SkillConfig!$D:$F,3,FALSE),\"\"),IFERROR(VLOOKUP(A1422,[1]SkillConfig!$E:$G,3,FALSE),\"\"),IFERROR(VLOOKUP(A1422,[1]SkillConfig!$V:$AF,11,FALSE),\"\"))","v":"人物攻击永久+5%"},1215045]
[null,{"$f":"CONCATENATE(IFERROR(VLOOKUP(A1423,[1]SkillConfig!$D:$F,3,FALSE),\"\"),IFERROR(VLOOKUP(A1423,[1]SkillConfig!$E:$G,3,FALSE),\"\"),IFERROR(VLOOKUP(A1423,[1]SkillConfig!$V:$AF,11,FALSE),\"\"))","v":""}]
[null,{"$f":"CONCATENATE(IFERROR(VLOOKUP(A1424,[1]SkillConfig!$D:$F,3,FALSE),\"\"),IFERROR(VLOOKUP(A1424,[1]SkillConfig!$E:$G,3,FALSE),\"\"),IFERROR(VLOOKUP(A1424,[1]SkillConfig!$V:$AF,11,FALSE),\"\"))","v":""},-1]
[1215051,{"$f":"CONCATENATE(IFERROR(VLOOKUP(A1425,[1]SkillConfig!$D:$F,3,FALSE),\"\"),IFERROR(VLOOKUP(A1425,[1]SkillConfig!$E:$G,3,FALSE),\"\"),IFERROR(VLOOKUP(A1425,[1]SkillConfig!$V:$AF,11,FALSE),\"\"))","v":"人物生命永久+5%"},1215051]
[1215052,{"$f":"CONCATENATE(IFERROR(VLOOKUP(A1426,[1]SkillConfig!$D:$F,3,FALSE),\"\"),IFERROR(VLOOKUP(A1426,[1]SkillConfig!$E:$G,3,FALSE),\"\"),IFERROR(VLOOKUP(A1426,[1]SkillConfig!$V:$AF,11,FALSE),\"\"))","v":"小石头数量+1"},1215052]
[1215053,{"$f":"CONCATENATE(IFERROR(VLOOKUP(A1427,[1]SkillConfig!$D:$F,3,FALSE),\"\"),IFERROR(VLOOKUP(A1427,[1]SkillConfig!$E:$G,3,FALSE),\"\"),IFERROR(VLOOKUP(A1427,[1]SkillConfig!$V:$AF,11,FALSE),\"\"))","v":"人物生命永久+5%"},1215053]
[1215054,{"$f":"CONCATENATE(IFERROR(VLOOKUP(A1428,[1]SkillConfig!$D:$F,3,FALSE),\"\"),IFERROR(VLOOKUP(A1428,[1]SkillConfig!$E:$G,3,FALSE),\"\"),IFERROR(VLOOKUP(A1428,[1]SkillConfig!$V:$AF,11,FALSE),\"\"))","v":"小石头数量+1"},1215054]
[1215055,{"$f":"CONCATENATE(IFERROR(VLOOKUP(A1429,[1]SkillConfig!$D:$F,3,FALSE),\"\"),IFERROR(VLOOKUP(A1429,[1]SkillConfig!$E:$G,3,FALSE),\"\"),IFERROR(VLOOKUP(A1429,[1]SkillConfig!$V:$AF,11,FALSE),\"\"))","v":"人物生命永久+5%"},1215055]
[null,{"$f":"CONCATENATE(IFERROR(VLOOKUP(A1430,[1]SkillConfig!$D:$F,3,FALSE),\"\"),IFERROR(VLOOKUP(A1430,[1]SkillConfig!$E:$G,3,FALSE),\"\"),IFERROR(VLOOKUP(A1430,[1]SkillConfig!$V:$AF,11,FALSE),\"\"))","v":""}]
[null,{"$f":"CONCATENATE(IFERROR(VLOOKUP(A1431,[1]SkillConfig!$D:$F,3,FALSE),\"\"),IFERROR(VLOOKUP(A1431,[1]SkillConfig!$E:$G,3,FALSE),\"\"),IFERROR(VLOOKUP(A1431,[1]SkillConfig!$V:$AF,11,FALSE),\"\"))","v":""}]
[null,{"$f":"CONCATENATE(IFERROR(VLOOKUP(A1432,[1]SkillConfig!$D:$F,3,FALSE),\"\"),IFERROR(VLOOKUP(A1432,[1]SkillConfig!$E:$G,3,FALSE),\"\"),IFERROR(VLOOKUP(A1432,[1]SkillConfig!$V:$AF,11,FALSE),\"\"))","v":""},-1]
[1220011,{"$f":"CONCATENATE(IFERROR(VLOOKUP(A1433,[1]SkillConfig!$D:$F,3,FALSE),\"\"),IFERROR(VLOOKUP(A1433,[1]SkillConfig!$E:$G,3,FALSE),\"\"),IFERROR(VLOOKUP(A1433,[1]SkillConfig!$V:$AF,11,FALSE),\"\"))","v":"人物防御永久+3%"},1220011]
[1220012,{"$f":"CONCATENATE(IFERROR(VLOOKUP(A1434,[1]SkillConfig!$D:$F,3,FALSE),\"\"),IFERROR(VLOOKUP(A1434,[1]SkillConfig!$E:$G,3,FALSE),\"\"),IFERROR(VLOOKUP(A1434,[1]SkillConfig!$V:$AF,11,FALSE),\"\"))","v":"人物防御永久+3%"},1220012]
[1220013,{"$f":"CONCATENATE(IFERROR(VLOOKUP(A1435,[1]SkillConfig!$D:$F,3,FALSE),\"\"),IFERROR(VLOOKUP(A1435,[1]SkillConfig!$E:$G,3,FALSE),\"\"),IFERROR(VLOOKUP(A1435,[1]SkillConfig!$V:$AF,11,FALSE),\"\"))","v":"人物防御永久+3%"},1220013]
[1220014,{"$f":"CONCATENATE(IFERROR(VLOOKUP(A1436,[1]SkillConfig!$D:$F,3,FALSE),\"\"),IFERROR(VLOOKUP(A1436,[1]SkillConfig!$E:$G,3,FALSE),\"\"),IFERROR(VLOOKUP(A1436,[1]SkillConfig!$V:$AF,11,FALSE),\"\"))","v":"人物防御永久+3%"},1220014]
[1220015,{"$f":"CONCATENATE(IFERROR(VLOOKUP(A1437,[1]SkillConfig!$D:$F,3,FALSE),\"\"),IFERROR(VLOOKUP(A1437,[1]SkillConfig!$E:$G,3,FALSE),\"\"),IFERROR(VLOOKUP(A1437,[1]SkillConfig!$V:$AF,11,FALSE),\"\"))","v":"穿过护盾时额外对护盾造成等额伤害"},1220015]
[null,{"$f":"CONCATENATE(IFERROR(VLOOKUP(A1438,[1]SkillConfig!$D:$F,3,FALSE),\"\"),IFERROR(VLOOKUP(A1438,[1]SkillConfig!$E:$G,3,FALSE),\"\"),IFERROR(VLOOKUP(A1438,[1]SkillConfig!$V:$AF,11,FALSE),\"\"))","v":""}]
[null,{"$f":"CONCATENATE(IFERROR(VLOOKUP(A1439,[1]SkillConfig!$D:$F,3,FALSE),\"\"),IFERROR(VLOOKUP(A1439,[1]SkillConfig!$E:$G,3,FALSE),\"\"),IFERROR(VLOOKUP(A1439,[1]SkillConfig!$V:$AF,11,FALSE),\"\"))","v":""},-1]
[1220021,{"$f":"CONCATENATE(IFERROR(VLOOKUP(A1440,[1]SkillConfig!$D:$F,3,FALSE),\"\"),IFERROR(VLOOKUP(A1440,[1]SkillConfig!$E:$G,3,FALSE),\"\"),IFERROR(VLOOKUP(A1440,[1]SkillConfig!$V:$AF,11,FALSE),\"\"))","v":"人物攻击永久+3%"},1220021]
[1220022,{"$f":"CONCATENATE(IFERROR(VLOOKUP(A1441,[1]SkillConfig!$D:$F,3,FALSE),\"\"),IFERROR(VLOOKUP(A1441,[1]SkillConfig!$E:$G,3,FALSE),\"\"),IFERROR(VLOOKUP(A1441,[1]SkillConfig!$V:$AF,11,FALSE),\"\"))","v":"人物攻击永久+3%"},1220022]
[1220023,{"$f":"CONCATENATE(IFERROR(VLOOKUP(A1442,[1]SkillConfig!$D:$F,3,FALSE),\"\"),IFERROR(VLOOKUP(A1442,[1]SkillConfig!$E:$G,3,FALSE),\"\"),IFERROR(VLOOKUP(A1442,[1]SkillConfig!$V:$AF,11,FALSE),\"\"))","v":"人物攻击永久+3%"},1220023]
[1220024,{"$f":"CONCATENATE(IFERROR(VLOOKUP(A1443,[1]SkillConfig!$D:$F,3,FALSE),\"\"),IFERROR(VLOOKUP(A1443,[1]SkillConfig!$E:$G,3,FALSE),\"\"),IFERROR(VLOOKUP(A1443,[1]SkillConfig!$V:$AF,11,FALSE),\"\"))","v":"人物攻击永久+3%"},1220024]
[1220025,{"$f":"CONCATENATE(IFERROR(VLOOKUP(A1444,[1]SkillConfig!$D:$F,3,FALSE),\"\"),IFERROR(VLOOKUP(A1444,[1]SkillConfig!$E:$G,3,FALSE),\"\"),IFERROR(VLOOKUP(A1444,[1]SkillConfig!$V:$AF,11,FALSE),\"\"))","v":"充能增效，法宝瞬发且不对拼"},1220025]
[null,{"$f":"CONCATENATE(IFERROR(VLOOKUP(A1445,[1]SkillConfig!$D:$F,3,FALSE),\"\"),IFERROR(VLOOKUP(A1445,[1]SkillConfig!$E:$G,3,FALSE),\"\"),IFERROR(VLOOKUP(A1445,[1]SkillConfig!$V:$AF,11,FALSE),\"\"))","v":""}]
[null,{"$f":"CONCATENATE(IFERROR(VLOOKUP(A1446,[1]SkillConfig!$D:$F,3,FALSE),\"\"),IFERROR(VLOOKUP(A1446,[1]SkillConfig!$E:$G,3,FALSE),\"\"),IFERROR(VLOOKUP(A1446,[1]SkillConfig!$V:$AF,11,FALSE),\"\"))","v":""},-1]
[1220031,{"$f":"CONCATENATE(IFERROR(VLOOKUP(A1447,[1]SkillConfig!$D:$F,3,FALSE),\"\"),IFERROR(VLOOKUP(A1447,[1]SkillConfig!$E:$G,3,FALSE),\"\"),IFERROR(VLOOKUP(A1447,[1]SkillConfig!$V:$AF,11,FALSE),\"\"))","v":"人物防御永久+3%"},1220031]
[1220032,{"$f":"CONCATENATE(IFERROR(VLOOKUP(A1448,[1]SkillConfig!$D:$F,3,FALSE),\"\"),IFERROR(VLOOKUP(A1448,[1]SkillConfig!$E:$G,3,FALSE),\"\"),IFERROR(VLOOKUP(A1448,[1]SkillConfig!$V:$AF,11,FALSE),\"\"))","v":"人物防御永久+3%"},1220032]
[1220033,{"$f":"CONCATENATE(IFERROR(VLOOKUP(A1449,[1]SkillConfig!$D:$F,3,FALSE),\"\"),IFERROR(VLOOKUP(A1449,[1]SkillConfig!$E:$G,3,FALSE),\"\"),IFERROR(VLOOKUP(A1449,[1]SkillConfig!$V:$AF,11,FALSE),\"\"))","v":"人物防御永久+3%"},1220033]
[1220034,{"$f":"CONCATENATE(IFERROR(VLOOKUP(A1450,[1]SkillConfig!$D:$F,3,FALSE),\"\"),IFERROR(VLOOKUP(A1450,[1]SkillConfig!$E:$G,3,FALSE),\"\"),IFERROR(VLOOKUP(A1450,[1]SkillConfig!$V:$AF,11,FALSE),\"\"))","v":"人物防御永久+3%"},1220034]
[1220035,{"$f":"CONCATENATE(IFERROR(VLOOKUP(A1451,[1]SkillConfig!$D:$F,3,FALSE),\"\"),IFERROR(VLOOKUP(A1451,[1]SkillConfig!$E:$G,3,FALSE),\"\"),IFERROR(VLOOKUP(A1451,[1]SkillConfig!$V:$AF,11,FALSE),\"\"))","v":"触发概率提升"},1220035]
[null,{"$f":"CONCATENATE(IFERROR(VLOOKUP(A1452,[1]SkillConfig!$D:$F,3,FALSE),\"\"),IFERROR(VLOOKUP(A1452,[1]SkillConfig!$E:$G,3,FALSE),\"\"),IFERROR(VLOOKUP(A1452,[1]SkillConfig!$V:$AF,11,FALSE),\"\"))","v":""}]
[null,{"$f":"CONCATENATE(IFERROR(VLOOKUP(A1453,[1]SkillConfig!$D:$F,3,FALSE),\"\"),IFERROR(VLOOKUP(A1453,[1]SkillConfig!$E:$G,3,FALSE),\"\"),IFERROR(VLOOKUP(A1453,[1]SkillConfig!$V:$AF,11,FALSE),\"\"))","v":""},-1]
[1220041,{"$f":"CONCATENATE(IFERROR(VLOOKUP(A1454,[1]SkillConfig!$D:$F,3,FALSE),\"\"),IFERROR(VLOOKUP(A1454,[1]SkillConfig!$E:$G,3,FALSE),\"\"),IFERROR(VLOOKUP(A1454,[1]SkillConfig!$V:$AF,11,FALSE),\"\"))","v":"人物生命永久+3%"},1220041]
[1220042,{"$f":"CONCATENATE(IFERROR(VLOOKUP(A1455,[1]SkillConfig!$D:$F,3,FALSE),\"\"),IFERROR(VLOOKUP(A1455,[1]SkillConfig!$E:$G,3,FALSE),\"\"),IFERROR(VLOOKUP(A1455,[1]SkillConfig!$V:$AF,11,FALSE),\"\"))","v":"人物生命永久+3%"},1220042]
[1220043,{"$f":"CONCATENATE(IFERROR(VLOOKUP(A1456,[1]SkillConfig!$D:$F,3,FALSE),\"\"),IFERROR(VLOOKUP(A1456,[1]SkillConfig!$E:$G,3,FALSE),\"\"),IFERROR(VLOOKUP(A1456,[1]SkillConfig!$V:$AF,11,FALSE),\"\"))","v":"人物生命永久+3%"},1220043]
[1220044,{"$f":"CONCATENATE(IFERROR(VLOOKUP(A1457,[1]SkillConfig!$D:$F,3,FALSE),\"\"),IFERROR(VLOOKUP(A1457,[1]SkillConfig!$E:$G,3,FALSE),\"\"),IFERROR(VLOOKUP(A1457,[1]SkillConfig!$V:$AF,11,FALSE),\"\"))","v":"人物生命永久+3%"},1220044]
[1220045,{"$f":"CONCATENATE(IFERROR(VLOOKUP(A1458,[1]SkillConfig!$D:$F,3,FALSE),\"\"),IFERROR(VLOOKUP(A1458,[1]SkillConfig!$E:$G,3,FALSE),\"\"),IFERROR(VLOOKUP(A1458,[1]SkillConfig!$V:$AF,11,FALSE),\"\"))","v":"不相生甚至相克功法也生效"},1220045]
[null,{"$f":"CONCATENATE(IFERROR(VLOOKUP(A1459,[1]SkillConfig!$D:$F,3,FALSE),\"\"),IFERROR(VLOOKUP(A1459,[1]SkillConfig!$E:$G,3,FALSE),\"\"),IFERROR(VLOOKUP(A1459,[1]SkillConfig!$V:$AF,11,FALSE),\"\"))","v":""}]
[null,{"$f":"CONCATENATE(IFERROR(VLOOKUP(A1460,[1]SkillConfig!$D:$F,3,FALSE),\"\"),IFERROR(VLOOKUP(A1460,[1]SkillConfig!$E:$G,3,FALSE),\"\"),IFERROR(VLOOKUP(A1460,[1]SkillConfig!$V:$AF,11,FALSE),\"\"))","v":""},-1]
[1220051,{"$f":"CONCATENATE(IFERROR(VLOOKUP(A1461,[1]SkillConfig!$D:$F,3,FALSE),\"\"),IFERROR(VLOOKUP(A1461,[1]SkillConfig!$E:$G,3,FALSE),\"\"),IFERROR(VLOOKUP(A1461,[1]SkillConfig!$V:$AF,11,FALSE),\"\"))","v":"人物攻击永久+3%"},1220051]
[1220052,{"$f":"CONCATENATE(IFERROR(VLOOKUP(A1462,[1]SkillConfig!$D:$F,3,FALSE),\"\"),IFERROR(VLOOKUP(A1462,[1]SkillConfig!$E:$G,3,FALSE),\"\"),IFERROR(VLOOKUP(A1462,[1]SkillConfig!$V:$AF,11,FALSE),\"\"))","v":"人物攻击永久+3%"},1220052]
[1220053,{"$f":"CONCATENATE(IFERROR(VLOOKUP(A1463,[1]SkillConfig!$D:$F,3,FALSE),\"\"),IFERROR(VLOOKUP(A1463,[1]SkillConfig!$E:$G,3,FALSE),\"\"),IFERROR(VLOOKUP(A1463,[1]SkillConfig!$V:$AF,11,FALSE),\"\"))","v":"人物攻击永久+3%"},1220053]
[1220054,{"$f":"CONCATENATE(IFERROR(VLOOKUP(A1464,[1]SkillConfig!$D:$F,3,FALSE),\"\"),IFERROR(VLOOKUP(A1464,[1]SkillConfig!$E:$G,3,FALSE),\"\"),IFERROR(VLOOKUP(A1464,[1]SkillConfig!$V:$AF,11,FALSE),\"\"))","v":"人物攻击永久+3%"},1220054]
[1220055,{"$f":"CONCATENATE(IFERROR(VLOOKUP(A1465,[1]SkillConfig!$D:$F,3,FALSE),\"\"),IFERROR(VLOOKUP(A1465,[1]SkillConfig!$E:$G,3,FALSE),\"\"),IFERROR(VLOOKUP(A1465,[1]SkillConfig!$V:$AF,11,FALSE),\"\"))","v":"满层时施加灼烧"},1220055]
[null,{"$f":"CONCATENATE(IFERROR(VLOOKUP(A1466,[1]SkillConfig!$D:$F,3,FALSE),\"\"),IFERROR(VLOOKUP(A1466,[1]SkillConfig!$E:$G,3,FALSE),\"\"),IFERROR(VLOOKUP(A1466,[1]SkillConfig!$V:$AF,11,FALSE),\"\"))","v":""}]
[null,{"$f":"CONCATENATE(IFERROR(VLOOKUP(A1467,[1]SkillConfig!$D:$F,3,FALSE),\"\"),IFERROR(VLOOKUP(A1467,[1]SkillConfig!$E:$G,3,FALSE),\"\"),IFERROR(VLOOKUP(A1467,[1]SkillConfig!$V:$AF,11,FALSE),\"\"))","v":""},-1]
[1220061,{"$f":"CONCATENATE(IFERROR(VLOOKUP(A1468,[1]SkillConfig!$D:$F,3,FALSE),\"\"),IFERROR(VLOOKUP(A1468,[1]SkillConfig!$E:$G,3,FALSE),\"\"),IFERROR(VLOOKUP(A1468,[1]SkillConfig!$V:$AF,11,FALSE),\"\"))","v":"人物防御永久+3%"},1220061]
[1220062,{"$f":"CONCATENATE(IFERROR(VLOOKUP(A1469,[1]SkillConfig!$D:$F,3,FALSE),\"\"),IFERROR(VLOOKUP(A1469,[1]SkillConfig!$E:$G,3,FALSE),\"\"),IFERROR(VLOOKUP(A1469,[1]SkillConfig!$V:$AF,11,FALSE),\"\"))","v":"人物防御永久+3%"},1220062]
[1220063,{"$f":"CONCATENATE(IFERROR(VLOOKUP(A1470,[1]SkillConfig!$D:$F,3,FALSE),\"\"),IFERROR(VLOOKUP(A1470,[1]SkillConfig!$E:$G,3,FALSE),\"\"),IFERROR(VLOOKUP(A1470,[1]SkillConfig!$V:$AF,11,FALSE),\"\"))","v":"人物防御永久+3%"},1220063]
[1220064,{"$f":"CONCATENATE(IFERROR(VLOOKUP(A1471,[1]SkillConfig!$D:$F,3,FALSE),\"\"),IFERROR(VLOOKUP(A1471,[1]SkillConfig!$E:$G,3,FALSE),\"\"),IFERROR(VLOOKUP(A1471,[1]SkillConfig!$V:$AF,11,FALSE),\"\"))","v":"人物防御永久+3%"},1220064]
[1220065,{"$f":"CONCATENATE(IFERROR(VLOOKUP(A1472,[1]SkillConfig!$D:$F,3,FALSE),\"\"),IFERROR(VLOOKUP(A1472,[1]SkillConfig!$E:$G,3,FALSE),\"\"),IFERROR(VLOOKUP(A1472,[1]SkillConfig!$V:$AF,11,FALSE),\"\"))","v":"对拼时重生"},1220065]
[null,{"$f":"CONCATENATE(IFERROR(VLOOKUP(A1473,[1]SkillConfig!$D:$F,3,FALSE),\"\"),IFERROR(VLOOKUP(A1473,[1]SkillConfig!$E:$G,3,FALSE),\"\"),IFERROR(VLOOKUP(A1473,[1]SkillConfig!$V:$AF,11,FALSE),\"\"))","v":""}]
[null,{"$f":"CONCATENATE(IFERROR(VLOOKUP(A1474,[1]SkillConfig!$D:$F,3,FALSE),\"\"),IFERROR(VLOOKUP(A1474,[1]SkillConfig!$E:$G,3,FALSE),\"\"),IFERROR(VLOOKUP(A1474,[1]SkillConfig!$V:$AF,11,FALSE),\"\"))","v":""},-1]
[1220071,{"$f":"CONCATENATE(IFERROR(VLOOKUP(A1475,[1]SkillConfig!$D:$F,3,FALSE),\"\"),IFERROR(VLOOKUP(A1475,[1]SkillConfig!$E:$G,3,FALSE),\"\"),IFERROR(VLOOKUP(A1475,[1]SkillConfig!$V:$AF,11,FALSE),\"\"))","v":"人物生命永久+3%"},1220071]
[1220072,{"$f":"CONCATENATE(IFERROR(VLOOKUP(A1476,[1]SkillConfig!$D:$F,3,FALSE),\"\"),IFERROR(VLOOKUP(A1476,[1]SkillConfig!$E:$G,3,FALSE),\"\"),IFERROR(VLOOKUP(A1476,[1]SkillConfig!$V:$AF,11,FALSE),\"\"))","v":"人物生命永久+3%"},1220072]
[1220073,{"$f":"CONCATENATE(IFERROR(VLOOKUP(A1477,[1]SkillConfig!$D:$F,3,FALSE),\"\"),IFERROR(VLOOKUP(A1477,[1]SkillConfig!$E:$G,3,FALSE),\"\"),IFERROR(VLOOKUP(A1477,[1]SkillConfig!$V:$AF,11,FALSE),\"\"))","v":"人物生命永久+3%"},1220073]
[1220074,{"$f":"CONCATENATE(IFERROR(VLOOKUP(A1478,[1]SkillConfig!$D:$F,3,FALSE),\"\"),IFERROR(VLOOKUP(A1478,[1]SkillConfig!$E:$G,3,FALSE),\"\"),IFERROR(VLOOKUP(A1478,[1]SkillConfig!$V:$AF,11,FALSE),\"\"))","v":"人物生命永久+3%"},1220074]
[1220075,{"$f":"CONCATENATE(IFERROR(VLOOKUP(A1479,[1]SkillConfig!$D:$F,3,FALSE),\"\"),IFERROR(VLOOKUP(A1479,[1]SkillConfig!$E:$G,3,FALSE),\"\"),IFERROR(VLOOKUP(A1479,[1]SkillConfig!$V:$AF,11,FALSE),\"\"))","v":"加速时伤害提升"},1220075]
[null,{"$f":"CONCATENATE(IFERROR(VLOOKUP(A1480,[1]SkillConfig!$D:$F,3,FALSE),\"\"),IFERROR(VLOOKUP(A1480,[1]SkillConfig!$E:$G,3,FALSE),\"\"),IFERROR(VLOOKUP(A1480,[1]SkillConfig!$V:$AF,11,FALSE),\"\"))","v":""}]
[null,{"$f":"CONCATENATE(IFERROR(VLOOKUP(A1481,[1]SkillConfig!$D:$F,3,FALSE),\"\"),IFERROR(VLOOKUP(A1481,[1]SkillConfig!$E:$G,3,FALSE),\"\"),IFERROR(VLOOKUP(A1481,[1]SkillConfig!$V:$AF,11,FALSE),\"\"))","v":""},-1]
[1220081,{"$f":"CONCATENATE(IFERROR(VLOOKUP(A1482,[1]SkillConfig!$D:$F,3,FALSE),\"\"),IFERROR(VLOOKUP(A1482,[1]SkillConfig!$E:$G,3,FALSE),\"\"),IFERROR(VLOOKUP(A1482,[1]SkillConfig!$V:$AF,11,FALSE),\"\"))","v":"人物攻击永久+3%"},1220081]
[1220082,{"$f":"CONCATENATE(IFERROR(VLOOKUP(A1483,[1]SkillConfig!$D:$F,3,FALSE),\"\"),IFERROR(VLOOKUP(A1483,[1]SkillConfig!$E:$G,3,FALSE),\"\"),IFERROR(VLOOKUP(A1483,[1]SkillConfig!$V:$AF,11,FALSE),\"\"))","v":"人物攻击永久+3%"},1220082]
[1220083,{"$f":"CONCATENATE(IFERROR(VLOOKUP(A1484,[1]SkillConfig!$D:$F,3,FALSE),\"\"),IFERROR(VLOOKUP(A1484,[1]SkillConfig!$E:$G,3,FALSE),\"\"),IFERROR(VLOOKUP(A1484,[1]SkillConfig!$V:$AF,11,FALSE),\"\"))","v":"人物攻击永久+3%"},1220083]
[1220084,{"$f":"CONCATENATE(IFERROR(VLOOKUP(A1485,[1]SkillConfig!$D:$F,3,FALSE),\"\"),IFERROR(VLOOKUP(A1485,[1]SkillConfig!$E:$G,3,FALSE),\"\"),IFERROR(VLOOKUP(A1485,[1]SkillConfig!$V:$AF,11,FALSE),\"\"))","v":"人物攻击永久+3%"},1220084]
[1220085,{"$f":"CONCATENATE(IFERROR(VLOOKUP(A1486,[1]SkillConfig!$D:$F,3,FALSE),\"\"),IFERROR(VLOOKUP(A1486,[1]SkillConfig!$E:$G,3,FALSE),\"\"),IFERROR(VLOOKUP(A1486,[1]SkillConfig!$V:$AF,11,FALSE),\"\"))","v":"额外对敌人施加流血"},1220085]
[null,{"$f":"CONCATENATE(IFERROR(VLOOKUP(A1487,[1]SkillConfig!$D:$F,3,FALSE),\"\"),IFERROR(VLOOKUP(A1487,[1]SkillConfig!$E:$G,3,FALSE),\"\"),IFERROR(VLOOKUP(A1487,[1]SkillConfig!$V:$AF,11,FALSE),\"\"))","v":""}]
[null,{"$f":"CONCATENATE(IFERROR(VLOOKUP(A1488,[1]SkillConfig!$D:$F,3,FALSE),\"\"),IFERROR(VLOOKUP(A1488,[1]SkillConfig!$E:$G,3,FALSE),\"\"),IFERROR(VLOOKUP(A1488,[1]SkillConfig!$V:$AF,11,FALSE),\"\"))","v":""},-1]
[1220091,{"$f":"CONCATENATE(IFERROR(VLOOKUP(A1489,[1]SkillConfig!$D:$F,3,FALSE),\"\"),IFERROR(VLOOKUP(A1489,[1]SkillConfig!$E:$G,3,FALSE),\"\"),IFERROR(VLOOKUP(A1489,[1]SkillConfig!$V:$AF,11,FALSE),\"\"))","v":"人物攻击永久+3%"},1220091]
[1220092,{"$f":"CONCATENATE(IFERROR(VLOOKUP(A1490,[1]SkillConfig!$D:$F,3,FALSE),\"\"),IFERROR(VLOOKUP(A1490,[1]SkillConfig!$E:$G,3,FALSE),\"\"),IFERROR(VLOOKUP(A1490,[1]SkillConfig!$V:$AF,11,FALSE),\"\"))","v":"人物攻击永久+3%"},1220092]
[1220093,{"$f":"CONCATENATE(IFERROR(VLOOKUP(A1491,[1]SkillConfig!$D:$F,3,FALSE),\"\"),IFERROR(VLOOKUP(A1491,[1]SkillConfig!$E:$G,3,FALSE),\"\"),IFERROR(VLOOKUP(A1491,[1]SkillConfig!$V:$AF,11,FALSE),\"\"))","v":"人物攻击永久+3%"},1220093]
[1220094,{"$f":"CONCATENATE(IFERROR(VLOOKUP(A1492,[1]SkillConfig!$D:$F,3,FALSE),\"\"),IFERROR(VLOOKUP(A1492,[1]SkillConfig!$E:$G,3,FALSE),\"\"),IFERROR(VLOOKUP(A1492,[1]SkillConfig!$V:$AF,11,FALSE),\"\"))","v":"人物攻击永久+3%"},1220094]
[1220095,{"$f":"CONCATENATE(IFERROR(VLOOKUP(A1493,[1]SkillConfig!$D:$F,3,FALSE),\"\"),IFERROR(VLOOKUP(A1493,[1]SkillConfig!$E:$G,3,FALSE),\"\"),IFERROR(VLOOKUP(A1493,[1]SkillConfig!$V:$AF,11,FALSE),\"\"))","v":"人物攻击永久+3%"},1220095]
[null,{"$f":"CONCATENATE(IFERROR(VLOOKUP(A1494,[1]SkillConfig!$D:$F,3,FALSE),\"\"),IFERROR(VLOOKUP(A1494,[1]SkillConfig!$E:$G,3,FALSE),\"\"),IFERROR(VLOOKUP(A1494,[1]SkillConfig!$V:$AF,11,FALSE),\"\"))","v":""}]
[null,{"$f":"CONCATENATE(IFERROR(VLOOKUP(A1495,[1]SkillConfig!$D:$F,3,FALSE),\"\"),IFERROR(VLOOKUP(A1495,[1]SkillConfig!$E:$G,3,FALSE),\"\"),IFERROR(VLOOKUP(A1495,[1]SkillConfig!$V:$AF,11,FALSE),\"\"))","v":""},-1]
[1220101,{"$f":"CONCATENATE(IFERROR(VLOOKUP(A1496,[1]SkillConfig!$D:$F,3,FALSE),\"\"),IFERROR(VLOOKUP(A1496,[1]SkillConfig!$E:$G,3,FALSE),\"\"),IFERROR(VLOOKUP(A1496,[1]SkillConfig!$V:$AF,11,FALSE),\"\"))","v":"人物攻击永久+3%"},1220101]
[1220102,{"$f":"CONCATENATE(IFERROR(VLOOKUP(A1497,[1]SkillConfig!$D:$F,3,FALSE),\"\"),IFERROR(VLOOKUP(A1497,[1]SkillConfig!$E:$G,3,FALSE),\"\"),IFERROR(VLOOKUP(A1497,[1]SkillConfig!$V:$AF,11,FALSE),\"\"))","v":"人物攻击永久+3%"},1220102]
[1220103,{"$f":"CONCATENATE(IFERROR(VLOOKUP(A1498,[1]SkillConfig!$D:$F,3,FALSE),\"\"),IFERROR(VLOOKUP(A1498,[1]SkillConfig!$E:$G,3,FALSE),\"\"),IFERROR(VLOOKUP(A1498,[1]SkillConfig!$V:$AF,11,FALSE),\"\"))","v":"人物攻击永久+3%"},1220103]
[1220104,{"$f":"CONCATENATE(IFERROR(VLOOKUP(A1499,[1]SkillConfig!$D:$F,3,FALSE),\"\"),IFERROR(VLOOKUP(A1499,[1]SkillConfig!$E:$G,3,FALSE),\"\"),IFERROR(VLOOKUP(A1499,[1]SkillConfig!$V:$AF,11,FALSE),\"\"))","v":"人物攻击永久+3%"},1220104]
[1220105,{"$f":"CONCATENATE(IFERROR(VLOOKUP(A1500,[1]SkillConfig!$D:$F,3,FALSE),\"\"),IFERROR(VLOOKUP(A1500,[1]SkillConfig!$E:$G,3,FALSE),\"\"),IFERROR(VLOOKUP(A1500,[1]SkillConfig!$V:$AF,11,FALSE),\"\"))","v":"残血时提升恢复量"},1220105]
[null,{"$f":"CONCATENATE(IFERROR(VLOOKUP(A1501,[1]SkillConfig!$D:$F,3,FALSE),\"\"),IFERROR(VLOOKUP(A1501,[1]SkillConfig!$E:$G,3,FALSE),\"\"),IFERROR(VLOOKUP(A1501,[1]SkillConfig!$V:$AF,11,FALSE),\"\"))","v":""}]
[null,{"$f":"CONCATENATE(IFERROR(VLOOKUP(A1502,[1]SkillConfig!$D:$F,3,FALSE),\"\"),IFERROR(VLOOKUP(A1502,[1]SkillConfig!$E:$G,3,FALSE),\"\"),IFERROR(VLOOKUP(A1502,[1]SkillConfig!$V:$AF,11,FALSE),\"\"))","v":""},-1]
[1220111,{"$f":"CONCATENATE(IFERROR(VLOOKUP(A1503,[1]SkillConfig!$D:$F,3,FALSE),\"\"),IFERROR(VLOOKUP(A1503,[1]SkillConfig!$E:$G,3,FALSE),\"\"),IFERROR(VLOOKUP(A1503,[1]SkillConfig!$V:$AF,11,FALSE),\"\"))","v":"人物生命永久+3%"},1220111]
[1220112,{"$f":"CONCATENATE(IFERROR(VLOOKUP(A1504,[1]SkillConfig!$D:$F,3,FALSE),\"\"),IFERROR(VLOOKUP(A1504,[1]SkillConfig!$E:$G,3,FALSE),\"\"),IFERROR(VLOOKUP(A1504,[1]SkillConfig!$V:$AF,11,FALSE),\"\"))","v":"人物生命永久+3%"},1220112]
[1220113,{"$f":"CONCATENATE(IFERROR(VLOOKUP(A1505,[1]SkillConfig!$D:$F,3,FALSE),\"\"),IFERROR(VLOOKUP(A1505,[1]SkillConfig!$E:$G,3,FALSE),\"\"),IFERROR(VLOOKUP(A1505,[1]SkillConfig!$V:$AF,11,FALSE),\"\"))","v":"人物生命永久+3%"},1220113]
[1220114,{"$f":"CONCATENATE(IFERROR(VLOOKUP(A1506,[1]SkillConfig!$D:$F,3,FALSE),\"\"),IFERROR(VLOOKUP(A1506,[1]SkillConfig!$E:$G,3,FALSE),\"\"),IFERROR(VLOOKUP(A1506,[1]SkillConfig!$V:$AF,11,FALSE),\"\"))","v":"人物生命永久+3%"},1220114]
[1220115,{"$f":"CONCATENATE(IFERROR(VLOOKUP(A1507,[1]SkillConfig!$D:$F,3,FALSE),\"\"),IFERROR(VLOOKUP(A1507,[1]SkillConfig!$E:$G,3,FALSE),\"\"),IFERROR(VLOOKUP(A1507,[1]SkillConfig!$V:$AF,11,FALSE),\"\"))","v":"人物生命永久+3%"},1220115]
[null,{"$f":"CONCATENATE(IFERROR(VLOOKUP(A1508,[1]SkillConfig!$D:$F,3,FALSE),\"\"),IFERROR(VLOOKUP(A1508,[1]SkillConfig!$E:$G,3,FALSE),\"\"),IFERROR(VLOOKUP(A1508,[1]SkillConfig!$V:$AF,11,FALSE),\"\"))","v":""}]
[null,{"$f":"CONCATENATE(IFERROR(VLOOKUP(A1509,[1]SkillConfig!$D:$F,3,FALSE),\"\"),IFERROR(VLOOKUP(A1509,[1]SkillConfig!$E:$G,3,FALSE),\"\"),IFERROR(VLOOKUP(A1509,[1]SkillConfig!$V:$AF,11,FALSE),\"\"))","v":""},-1]
[1220121,{"$f":"CONCATENATE(IFERROR(VLOOKUP(A1510,[1]SkillConfig!$D:$F,3,FALSE),\"\"),IFERROR(VLOOKUP(A1510,[1]SkillConfig!$E:$G,3,FALSE),\"\"),IFERROR(VLOOKUP(A1510,[1]SkillConfig!$V:$AF,11,FALSE),\"\"))","v":"人物攻击永久+3%"},1220121]
[1220122,{"$f":"CONCATENATE(IFERROR(VLOOKUP(A1511,[1]SkillConfig!$D:$F,3,FALSE),\"\"),IFERROR(VLOOKUP(A1511,[1]SkillConfig!$E:$G,3,FALSE),\"\"),IFERROR(VLOOKUP(A1511,[1]SkillConfig!$V:$AF,11,FALSE),\"\"))","v":"人物攻击永久+3%"},1220122]
[1220123,{"$f":"CONCATENATE(IFERROR(VLOOKUP(A1512,[1]SkillConfig!$D:$F,3,FALSE),\"\"),IFERROR(VLOOKUP(A1512,[1]SkillConfig!$E:$G,3,FALSE),\"\"),IFERROR(VLOOKUP(A1512,[1]SkillConfig!$V:$AF,11,FALSE),\"\"))","v":"人物攻击永久+3%"},1220123]
[1220124,{"$f":"CONCATENATE(IFERROR(VLOOKUP(A1513,[1]SkillConfig!$D:$F,3,FALSE),\"\"),IFERROR(VLOOKUP(A1513,[1]SkillConfig!$E:$G,3,FALSE),\"\"),IFERROR(VLOOKUP(A1513,[1]SkillConfig!$V:$AF,11,FALSE),\"\"))","v":"人物攻击永久+3%"},1220124]
[1220125,{"$f":"CONCATENATE(IFERROR(VLOOKUP(A1514,[1]SkillConfig!$D:$F,3,FALSE),\"\"),IFERROR(VLOOKUP(A1514,[1]SkillConfig!$E:$G,3,FALSE),\"\"),IFERROR(VLOOKUP(A1514,[1]SkillConfig!$V:$AF,11,FALSE),\"\"))","v":"人物攻击永久+3%"},1220125]
[null,{"$f":"CONCATENATE(IFERROR(VLOOKUP(A1515,[1]SkillConfig!$D:$F,3,FALSE),\"\"),IFERROR(VLOOKUP(A1515,[1]SkillConfig!$E:$G,3,FALSE),\"\"),IFERROR(VLOOKUP(A1515,[1]SkillConfig!$V:$AF,11,FALSE),\"\"))","v":""}]
[null,{"$f":"CONCATENATE(IFERROR(VLOOKUP(A1516,[1]SkillConfig!$D:$F,3,FALSE),\"\"),IFERROR(VLOOKUP(A1516,[1]SkillConfig!$E:$G,3,FALSE),\"\"),IFERROR(VLOOKUP(A1516,[1]SkillConfig!$V:$AF,11,FALSE),\"\"))","v":""},-1]
[1220131,{"$f":"CONCATENATE(IFERROR(VLOOKUP(A1517,[1]SkillConfig!$D:$F,3,FALSE),\"\"),IFERROR(VLOOKUP(A1517,[1]SkillConfig!$E:$G,3,FALSE),\"\"),IFERROR(VLOOKUP(A1517,[1]SkillConfig!$V:$AF,11,FALSE),\"\"))","v":"人物防御永久+3%"},1220131]
[1220132,{"$f":"CONCATENATE(IFERROR(VLOOKUP(A1518,[1]SkillConfig!$D:$F,3,FALSE),\"\"),IFERROR(VLOOKUP(A1518,[1]SkillConfig!$E:$G,3,FALSE),\"\"),IFERROR(VLOOKUP(A1518,[1]SkillConfig!$V:$AF,11,FALSE),\"\"))","v":"人物防御永久+3%"},1220132]
[1220133,{"$f":"CONCATENATE(IFERROR(VLOOKUP(A1519,[1]SkillConfig!$D:$F,3,FALSE),\"\"),IFERROR(VLOOKUP(A1519,[1]SkillConfig!$E:$G,3,FALSE),\"\"),IFERROR(VLOOKUP(A1519,[1]SkillConfig!$V:$AF,11,FALSE),\"\"))","v":"人物防御永久+3%"},1220133]
[1220134,{"$f":"CONCATENATE(IFERROR(VLOOKUP(A1520,[1]SkillConfig!$D:$F,3,FALSE),\"\"),IFERROR(VLOOKUP(A1520,[1]SkillConfig!$E:$G,3,FALSE),\"\"),IFERROR(VLOOKUP(A1520,[1]SkillConfig!$V:$AF,11,FALSE),\"\"))","v":"人物防御永久+3%"},1220134]
[1220135,{"$f":"CONCATENATE(IFERROR(VLOOKUP(A1521,[1]SkillConfig!$D:$F,3,FALSE),\"\"),IFERROR(VLOOKUP(A1521,[1]SkillConfig!$E:$G,3,FALSE),\"\"),IFERROR(VLOOKUP(A1521,[1]SkillConfig!$V:$AF,11,FALSE),\"\"))","v":"人物防御永久+3%"},1220135]
[null,{"$f":"CONCATENATE(IFERROR(VLOOKUP(A1522,[1]SkillConfig!$D:$F,3,FALSE),\"\"),IFERROR(VLOOKUP(A1522,[1]SkillConfig!$E:$G,3,FALSE),\"\"),IFERROR(VLOOKUP(A1522,[1]SkillConfig!$V:$AF,11,FALSE),\"\"))","v":""}]
[null,{"$f":"CONCATENATE(IFERROR(VLOOKUP(A1523,[1]SkillConfig!$D:$F,3,FALSE),\"\"),IFERROR(VLOOKUP(A1523,[1]SkillConfig!$E:$G,3,FALSE),\"\"),IFERROR(VLOOKUP(A1523,[1]SkillConfig!$V:$AF,11,FALSE),\"\"))","v":""},-1]
[1220141,{"$f":"CONCATENATE(IFERROR(VLOOKUP(A1524,[1]SkillConfig!$D:$F,3,FALSE),\"\"),IFERROR(VLOOKUP(A1524,[1]SkillConfig!$E:$G,3,FALSE),\"\"),IFERROR(VLOOKUP(A1524,[1]SkillConfig!$V:$AF,11,FALSE),\"\"))","v":"人物生命永久+3%"},1220141]
[1220142,{"$f":"CONCATENATE(IFERROR(VLOOKUP(A1525,[1]SkillConfig!$D:$F,3,FALSE),\"\"),IFERROR(VLOOKUP(A1525,[1]SkillConfig!$E:$G,3,FALSE),\"\"),IFERROR(VLOOKUP(A1525,[1]SkillConfig!$V:$AF,11,FALSE),\"\"))","v":"人物生命永久+3%"},1220142]
[1220143,{"$f":"CONCATENATE(IFERROR(VLOOKUP(A1526,[1]SkillConfig!$D:$F,3,FALSE),\"\"),IFERROR(VLOOKUP(A1526,[1]SkillConfig!$E:$G,3,FALSE),\"\"),IFERROR(VLOOKUP(A1526,[1]SkillConfig!$V:$AF,11,FALSE),\"\"))","v":"人物生命永久+3%"},1220143]
[1220144,{"$f":"CONCATENATE(IFERROR(VLOOKUP(A1527,[1]SkillConfig!$D:$F,3,FALSE),\"\"),IFERROR(VLOOKUP(A1527,[1]SkillConfig!$E:$G,3,FALSE),\"\"),IFERROR(VLOOKUP(A1527,[1]SkillConfig!$V:$AF,11,FALSE),\"\"))","v":"人物生命永久+3%"},1220144]
[1220145,{"$f":"CONCATENATE(IFERROR(VLOOKUP(A1528,[1]SkillConfig!$D:$F,3,FALSE),\"\"),IFERROR(VLOOKUP(A1528,[1]SkillConfig!$E:$G,3,FALSE),\"\"),IFERROR(VLOOKUP(A1528,[1]SkillConfig!$V:$AF,11,FALSE),\"\"))","v":"人物生命永久+3%"},1220145]
[null,{"$f":"CONCATENATE(IFERROR(VLOOKUP(A1529,[1]SkillConfig!$D:$F,3,FALSE),\"\"),IFERROR(VLOOKUP(A1529,[1]SkillConfig!$E:$G,3,FALSE),\"\"),IFERROR(VLOOKUP(A1529,[1]SkillConfig!$V:$AF,11,FALSE),\"\"))","v":""}]
[null,{"$f":"CONCATENATE(IFERROR(VLOOKUP(A1530,[1]SkillConfig!$D:$F,3,FALSE),\"\"),IFERROR(VLOOKUP(A1530,[1]SkillConfig!$E:$G,3,FALSE),\"\"),IFERROR(VLOOKUP(A1530,[1]SkillConfig!$V:$AF,11,FALSE),\"\"))","v":""},-1]
[1220151,{"$f":"CONCATENATE(IFERROR(VLOOKUP(A1531,[1]SkillConfig!$D:$F,3,FALSE),\"\"),IFERROR(VLOOKUP(A1531,[1]SkillConfig!$E:$G,3,FALSE),\"\"),IFERROR(VLOOKUP(A1531,[1]SkillConfig!$V:$AF,11,FALSE),\"\"))","v":"人物攻击永久+3%"},1220151]
[1220152,{"$f":"CONCATENATE(IFERROR(VLOOKUP(A1532,[1]SkillConfig!$D:$F,3,FALSE),\"\"),IFERROR(VLOOKUP(A1532,[1]SkillConfig!$E:$G,3,FALSE),\"\"),IFERROR(VLOOKUP(A1532,[1]SkillConfig!$V:$AF,11,FALSE),\"\"))","v":"人物攻击永久+3%"},1220152]
[1220153,{"$f":"CONCATENATE(IFERROR(VLOOKUP(A1533,[1]SkillConfig!$D:$F,3,FALSE),\"\"),IFERROR(VLOOKUP(A1533,[1]SkillConfig!$E:$G,3,FALSE),\"\"),IFERROR(VLOOKUP(A1533,[1]SkillConfig!$V:$AF,11,FALSE),\"\"))","v":"人物攻击永久+3%"},1220153]
[1220154,{"$f":"CONCATENATE(IFERROR(VLOOKUP(A1534,[1]SkillConfig!$D:$F,3,FALSE),\"\"),IFERROR(VLOOKUP(A1534,[1]SkillConfig!$E:$G,3,FALSE),\"\"),IFERROR(VLOOKUP(A1534,[1]SkillConfig!$V:$AF,11,FALSE),\"\"))","v":"人物攻击永久+3%"},1220154]
[1220155,{"$f":"CONCATENATE(IFERROR(VLOOKUP(A1535,[1]SkillConfig!$D:$F,3,FALSE),\"\"),IFERROR(VLOOKUP(A1535,[1]SkillConfig!$E:$G,3,FALSE),\"\"),IFERROR(VLOOKUP(A1535,[1]SkillConfig!$V:$AF,11,FALSE),\"\"))","v":"人物攻击永久+3%"},1220155]
[null,{"$f":"CONCATENATE(IFERROR(VLOOKUP(A1536,[1]SkillConfig!$D:$F,3,FALSE),\"\"),IFERROR(VLOOKUP(A1536,[1]SkillConfig!$E:$G,3,FALSE),\"\"),IFERROR(VLOOKUP(A1536,[1]SkillConfig!$V:$AF,11,FALSE),\"\"))","v":""}]
[null,{"$f":"CONCATENATE(IFERROR(VLOOKUP(A1537,[1]SkillConfig!$D:$F,3,FALSE),\"\"),IFERROR(VLOOKUP(A1537,[1]SkillConfig!$E:$G,3,FALSE),\"\"),IFERROR(VLOOKUP(A1537,[1]SkillConfig!$V:$AF,11,FALSE),\"\"))","v":""},-1]
[1220161,{"$f":"CONCATENATE(IFERROR(VLOOKUP(A1538,[1]SkillConfig!$D:$F,3,FALSE),\"\"),IFERROR(VLOOKUP(A1538,[1]SkillConfig!$E:$G,3,FALSE),\"\"),IFERROR(VLOOKUP(A1538,[1]SkillConfig!$V:$AF,11,FALSE),\"\"))","v":"人物防御永久+3%"},1220161]
[1220162,{"$f":"CONCATENATE(IFERROR(VLOOKUP(A1539,[1]SkillConfig!$D:$F,3,FALSE),\"\"),IFERROR(VLOOKUP(A1539,[1]SkillConfig!$E:$G,3,FALSE),\"\"),IFERROR(VLOOKUP(A1539,[1]SkillConfig!$V:$AF,11,FALSE),\"\"))","v":"人物防御永久+3%"},1220162]
[1220163,{"$f":"CONCATENATE(IFERROR(VLOOKUP(A1540,[1]SkillConfig!$D:$F,3,FALSE),\"\"),IFERROR(VLOOKUP(A1540,[1]SkillConfig!$E:$G,3,FALSE),\"\"),IFERROR(VLOOKUP(A1540,[1]SkillConfig!$V:$AF,11,FALSE),\"\"))","v":"人物防御永久+3%"},1220163]
[1220164,{"$f":"CONCATENATE(IFERROR(VLOOKUP(A1541,[1]SkillConfig!$D:$F,3,FALSE),\"\"),IFERROR(VLOOKUP(A1541,[1]SkillConfig!$E:$G,3,FALSE),\"\"),IFERROR(VLOOKUP(A1541,[1]SkillConfig!$V:$AF,11,FALSE),\"\"))","v":"人物防御永久+3%"},1220164]
[1220165,{"$f":"CONCATENATE(IFERROR(VLOOKUP(A1542,[1]SkillConfig!$D:$F,3,FALSE),\"\"),IFERROR(VLOOKUP(A1542,[1]SkillConfig!$E:$G,3,FALSE),\"\"),IFERROR(VLOOKUP(A1542,[1]SkillConfig!$V:$AF,11,FALSE),\"\"))","v":"人物防御永久+3%"},1220165]
[null,{"$f":"CONCATENATE(IFERROR(VLOOKUP(A1543,[1]SkillConfig!$D:$F,3,FALSE),\"\"),IFERROR(VLOOKUP(A1543,[1]SkillConfig!$E:$G,3,FALSE),\"\"),IFERROR(VLOOKUP(A1543,[1]SkillConfig!$V:$AF,11,FALSE),\"\"))","v":""}]
[null,{"$f":"CONCATENATE(IFERROR(VLOOKUP(A1544,[1]SkillConfig!$D:$F,3,FALSE),\"\"),IFERROR(VLOOKUP(A1544,[1]SkillConfig!$E:$G,3,FALSE),\"\"),IFERROR(VLOOKUP(A1544,[1]SkillConfig!$V:$AF,11,FALSE),\"\"))","v":""},-1]
[1220171,{"$f":"CONCATENATE(IFERROR(VLOOKUP(A1545,[1]SkillConfig!$D:$F,3,FALSE),\"\"),IFERROR(VLOOKUP(A1545,[1]SkillConfig!$E:$G,3,FALSE),\"\"),IFERROR(VLOOKUP(A1545,[1]SkillConfig!$V:$AF,11,FALSE),\"\"))","v":"人物生命永久+3%"},1220171]
[1220172,{"$f":"CONCATENATE(IFERROR(VLOOKUP(A1546,[1]SkillConfig!$D:$F,3,FALSE),\"\"),IFERROR(VLOOKUP(A1546,[1]SkillConfig!$E:$G,3,FALSE),\"\"),IFERROR(VLOOKUP(A1546,[1]SkillConfig!$V:$AF,11,FALSE),\"\"))","v":"人物生命永久+3%"},1220172]
[1220173,{"$f":"CONCATENATE(IFERROR(VLOOKUP(A1547,[1]SkillConfig!$D:$F,3,FALSE),\"\"),IFERROR(VLOOKUP(A1547,[1]SkillConfig!$E:$G,3,FALSE),\"\"),IFERROR(VLOOKUP(A1547,[1]SkillConfig!$V:$AF,11,FALSE),\"\"))","v":"人物生命永久+3%"},1220173]
[1220174,{"$f":"CONCATENATE(IFERROR(VLOOKUP(A1548,[1]SkillConfig!$D:$F,3,FALSE),\"\"),IFERROR(VLOOKUP(A1548,[1]SkillConfig!$E:$G,3,FALSE),\"\"),IFERROR(VLOOKUP(A1548,[1]SkillConfig!$V:$AF,11,FALSE),\"\"))","v":"人物生命永久+3%"},1220174]
[1220175,{"$f":"CONCATENATE(IFERROR(VLOOKUP(A1549,[1]SkillConfig!$D:$F,3,FALSE),\"\"),IFERROR(VLOOKUP(A1549,[1]SkillConfig!$E:$G,3,FALSE),\"\"),IFERROR(VLOOKUP(A1549,[1]SkillConfig!$V:$AF,11,FALSE),\"\"))","v":"人物生命永久+3%"},1220175]
[null,{"$f":"CONCATENATE(IFERROR(VLOOKUP(A1550,[1]SkillConfig!$D:$F,3,FALSE),\"\"),IFERROR(VLOOKUP(A1550,[1]SkillConfig!$E:$G,3,FALSE),\"\"),IFERROR(VLOOKUP(A1550,[1]SkillConfig!$V:$AF,11,FALSE),\"\"))","v":""}]
[null,{"$f":"CONCATENATE(IFERROR(VLOOKUP(A1551,[1]SkillConfig!$D:$F,3,FALSE),\"\"),IFERROR(VLOOKUP(A1551,[1]SkillConfig!$E:$G,3,FALSE),\"\"),IFERROR(VLOOKUP(A1551,[1]SkillConfig!$V:$AF,11,FALSE),\"\"))","v":""},-1]
[1220181,{"$f":"CONCATENATE(IFERROR(VLOOKUP(A1552,[1]SkillConfig!$D:$F,3,FALSE),\"\"),IFERROR(VLOOKUP(A1552,[1]SkillConfig!$E:$G,3,FALSE),\"\"),IFERROR(VLOOKUP(A1552,[1]SkillConfig!$V:$AF,11,FALSE),\"\"))","v":"人物攻击永久+3%"},1220181]
[1220182,{"$f":"CONCATENATE(IFERROR(VLOOKUP(A1553,[1]SkillConfig!$D:$F,3,FALSE),\"\"),IFERROR(VLOOKUP(A1553,[1]SkillConfig!$E:$G,3,FALSE),\"\"),IFERROR(VLOOKUP(A1553,[1]SkillConfig!$V:$AF,11,FALSE),\"\"))","v":"人物攻击永久+3%"},1220182]
[1220183,{"$f":"CONCATENATE(IFERROR(VLOOKUP(A1554,[1]SkillConfig!$D:$F,3,FALSE),\"\"),IFERROR(VLOOKUP(A1554,[1]SkillConfig!$E:$G,3,FALSE),\"\"),IFERROR(VLOOKUP(A1554,[1]SkillConfig!$V:$AF,11,FALSE),\"\"))","v":"人物攻击永久+3%"},1220183]
[1220184,{"$f":"CONCATENATE(IFERROR(VLOOKUP(A1555,[1]SkillConfig!$D:$F,3,FALSE),\"\"),IFERROR(VLOOKUP(A1555,[1]SkillConfig!$E:$G,3,FALSE),\"\"),IFERROR(VLOOKUP(A1555,[1]SkillConfig!$V:$AF,11,FALSE),\"\"))","v":"人物攻击永久+3%"},1220184]
[1220185,{"$f":"CONCATENATE(IFERROR(VLOOKUP(A1556,[1]SkillConfig!$D:$F,3,FALSE),\"\"),IFERROR(VLOOKUP(A1556,[1]SkillConfig!$E:$G,3,FALSE),\"\"),IFERROR(VLOOKUP(A1556,[1]SkillConfig!$V:$AF,11,FALSE),\"\"))","v":"人物攻击永久+3%"},1220185]
[null,{"$f":"CONCATENATE(IFERROR(VLOOKUP(A1557,[1]SkillConfig!$D:$F,3,FALSE),\"\"),IFERROR(VLOOKUP(A1557,[1]SkillConfig!$E:$G,3,FALSE),\"\"),IFERROR(VLOOKUP(A1557,[1]SkillConfig!$V:$AF,11,FALSE),\"\"))","v":""}]
[null,{"$f":"CONCATENATE(IFERROR(VLOOKUP(A1558,[1]SkillConfig!$D:$F,3,FALSE),\"\"),IFERROR(VLOOKUP(A1558,[1]SkillConfig!$E:$G,3,FALSE),\"\"),IFERROR(VLOOKUP(A1558,[1]SkillConfig!$V:$AF,11,FALSE),\"\"))","v":""},-1]
[1220191,{"$f":"CONCATENATE(IFERROR(VLOOKUP(A1559,[1]SkillConfig!$D:$F,3,FALSE),\"\"),IFERROR(VLOOKUP(A1559,[1]SkillConfig!$E:$G,3,FALSE),\"\"),IFERROR(VLOOKUP(A1559,[1]SkillConfig!$V:$AF,11,FALSE),\"\"))","v":"人物防御永久+3%"},1220191]
[1220192,{"$f":"CONCATENATE(IFERROR(VLOOKUP(A1560,[1]SkillConfig!$D:$F,3,FALSE),\"\"),IFERROR(VLOOKUP(A1560,[1]SkillConfig!$E:$G,3,FALSE),\"\"),IFERROR(VLOOKUP(A1560,[1]SkillConfig!$V:$AF,11,FALSE),\"\"))","v":"人物防御永久+3%"},1220192]
[1220193,{"$f":"CONCATENATE(IFERROR(VLOOKUP(A1561,[1]SkillConfig!$D:$F,3,FALSE),\"\"),IFERROR(VLOOKUP(A1561,[1]SkillConfig!$E:$G,3,FALSE),\"\"),IFERROR(VLOOKUP(A1561,[1]SkillConfig!$V:$AF,11,FALSE),\"\"))","v":"人物防御永久+3%"},1220193]
[1220194,{"$f":"CONCATENATE(IFERROR(VLOOKUP(A1562,[1]SkillConfig!$D:$F,3,FALSE),\"\"),IFERROR(VLOOKUP(A1562,[1]SkillConfig!$E:$G,3,FALSE),\"\"),IFERROR(VLOOKUP(A1562,[1]SkillConfig!$V:$AF,11,FALSE),\"\"))","v":"人物防御永久+3%"},1220194]
[1220195,{"$f":"CONCATENATE(IFERROR(VLOOKUP(A1563,[1]SkillConfig!$D:$F,3,FALSE),\"\"),IFERROR(VLOOKUP(A1563,[1]SkillConfig!$E:$G,3,FALSE),\"\"),IFERROR(VLOOKUP(A1563,[1]SkillConfig!$V:$AF,11,FALSE),\"\"))","v":"人物防御永久+3%"},1220195]
[null,{"$f":"CONCATENATE(IFERROR(VLOOKUP(A1564,[1]SkillConfig!$D:$F,3,FALSE),\"\"),IFERROR(VLOOKUP(A1564,[1]SkillConfig!$E:$G,3,FALSE),\"\"),IFERROR(VLOOKUP(A1564,[1]SkillConfig!$V:$AF,11,FALSE),\"\"))","v":""}]
[null,{"$f":"CONCATENATE(IFERROR(VLOOKUP(A1565,[1]SkillConfig!$D:$F,3,FALSE),\"\"),IFERROR(VLOOKUP(A1565,[1]SkillConfig!$E:$G,3,FALSE),\"\"),IFERROR(VLOOKUP(A1565,[1]SkillConfig!$V:$AF,11,FALSE),\"\"))","v":""}]
[null,{"$f":"CONCATENATE(IFERROR(VLOOKUP(A1566,[1]SkillConfig!$D:$F,3,FALSE),\"\"),IFERROR(VLOOKUP(A1566,[1]SkillConfig!$E:$G,3,FALSE),\"\"),IFERROR(VLOOKUP(A1566,[1]SkillConfig!$V:$AF,11,FALSE),\"\"))","v":""},-1]
[1231011,{"$f":"CONCATENATE(IFERROR(VLOOKUP(A1567,[1]SkillConfig!$D:$F,3,FALSE),\"\"),IFERROR(VLOOKUP(A1567,[1]SkillConfig!$E:$G,3,FALSE),\"\"),IFERROR(VLOOKUP(A1567,[1]SkillConfig!$V:$AF,11,FALSE),\"\"))","v":"金灵根+5"},1231011]
[1231012,{"$f":"CONCATENATE(IFERROR(VLOOKUP(A1568,[1]SkillConfig!$D:$F,3,FALSE),\"\"),IFERROR(VLOOKUP(A1568,[1]SkillConfig!$E:$G,3,FALSE),\"\"),IFERROR(VLOOKUP(A1568,[1]SkillConfig!$V:$AF,11,FALSE),\"\"))","v":"人物攻击永久+5%"},1231012]
[1231013,{"$f":"CONCATENATE(IFERROR(VLOOKUP(A1569,[1]SkillConfig!$D:$F,3,FALSE),\"\"),IFERROR(VLOOKUP(A1569,[1]SkillConfig!$E:$G,3,FALSE),\"\"),IFERROR(VLOOKUP(A1569,[1]SkillConfig!$V:$AF,11,FALSE),\"\"))","v":"金灵根+5"},1231013]
[1231014,{"$f":"CONCATENATE(IFERROR(VLOOKUP(A1570,[1]SkillConfig!$D:$F,3,FALSE),\"\"),IFERROR(VLOOKUP(A1570,[1]SkillConfig!$E:$G,3,FALSE),\"\"),IFERROR(VLOOKUP(A1570,[1]SkillConfig!$V:$AF,11,FALSE),\"\"))","v":"人物攻击永久+5%"},1231014]
[1231015,{"$f":"CONCATENATE(IFERROR(VLOOKUP(A1571,[1]SkillConfig!$D:$F,3,FALSE),\"\"),IFERROR(VLOOKUP(A1571,[1]SkillConfig!$E:$G,3,FALSE),\"\"),IFERROR(VLOOKUP(A1571,[1]SkillConfig!$V:$AF,11,FALSE),\"\"))","v":"降低敌人灵根"},1231015]
[null,{"$f":"CONCATENATE(IFERROR(VLOOKUP(A1572,[1]SkillConfig!$D:$F,3,FALSE),\"\"),IFERROR(VLOOKUP(A1572,[1]SkillConfig!$E:$G,3,FALSE),\"\"),IFERROR(VLOOKUP(A1572,[1]SkillConfig!$V:$AF,11,FALSE),\"\"))","v":""}]
[null,{"$f":"CONCATENATE(IFERROR(VLOOKUP(A1573,[1]SkillConfig!$D:$F,3,FALSE),\"\"),IFERROR(VLOOKUP(A1573,[1]SkillConfig!$E:$G,3,FALSE),\"\"),IFERROR(VLOOKUP(A1573,[1]SkillConfig!$V:$AF,11,FALSE),\"\"))","v":""},-1]
[1231021,{"$f":"CONCATENATE(IFERROR(VLOOKUP(A1574,[1]SkillConfig!$D:$F,3,FALSE),\"\"),IFERROR(VLOOKUP(A1574,[1]SkillConfig!$E:$G,3,FALSE),\"\"),IFERROR(VLOOKUP(A1574,[1]SkillConfig!$V:$AF,11,FALSE),\"\"))","v":"伤害+100%"},1231021]
[1231022,{"$f":"CONCATENATE(IFERROR(VLOOKUP(A1575,[1]SkillConfig!$D:$F,3,FALSE),\"\"),IFERROR(VLOOKUP(A1575,[1]SkillConfig!$E:$G,3,FALSE),\"\"),IFERROR(VLOOKUP(A1575,[1]SkillConfig!$V:$AF,11,FALSE),\"\"))","v":"伤害+100%"},1231022]
[1231023,{"$f":"CONCATENATE(IFERROR(VLOOKUP(A1576,[1]SkillConfig!$D:$F,3,FALSE),\"\"),IFERROR(VLOOKUP(A1576,[1]SkillConfig!$E:$G,3,FALSE),\"\"),IFERROR(VLOOKUP(A1576,[1]SkillConfig!$V:$AF,11,FALSE),\"\"))","v":"伤害+100%"},1231023]
[1231024,{"$f":"CONCATENATE(IFERROR(VLOOKUP(A1577,[1]SkillConfig!$D:$F,3,FALSE),\"\"),IFERROR(VLOOKUP(A1577,[1]SkillConfig!$E:$G,3,FALSE),\"\"),IFERROR(VLOOKUP(A1577,[1]SkillConfig!$V:$AF,11,FALSE),\"\"))","v":"伤害+100%"},1231024]
[1231025,{"$f":"CONCATENATE(IFERROR(VLOOKUP(A1578,[1]SkillConfig!$D:$F,3,FALSE),\"\"),IFERROR(VLOOKUP(A1578,[1]SkillConfig!$E:$G,3,FALSE),\"\"),IFERROR(VLOOKUP(A1578,[1]SkillConfig!$V:$AF,11,FALSE),\"\"))","v":"伤害+100%"},1231025]
[null,{"$f":"CONCATENATE(IFERROR(VLOOKUP(A1579,[1]SkillConfig!$D:$F,3,FALSE),\"\"),IFERROR(VLOOKUP(A1579,[1]SkillConfig!$E:$G,3,FALSE),\"\"),IFERROR(VLOOKUP(A1579,[1]SkillConfig!$V:$AF,11,FALSE),\"\"))","v":""}]
[null,{"$f":"CONCATENATE(IFERROR(VLOOKUP(A1580,[1]SkillConfig!$D:$F,3,FALSE),\"\"),IFERROR(VLOOKUP(A1580,[1]SkillConfig!$E:$G,3,FALSE),\"\"),IFERROR(VLOOKUP(A1580,[1]SkillConfig!$V:$AF,11,FALSE),\"\"))","v":""},-1]
[1232011,{"$f":"CONCATENATE(IFERROR(VLOOKUP(A1581,[1]SkillConfig!$D:$F,3,FALSE),\"\"),IFERROR(VLOOKUP(A1581,[1]SkillConfig!$E:$G,3,FALSE),\"\"),IFERROR(VLOOKUP(A1581,[1]SkillConfig!$V:$AF,11,FALSE),\"\"))","v":"降速效果提升"},1232011]
[1232012,{"$f":"CONCATENATE(IFERROR(VLOOKUP(A1582,[1]SkillConfig!$D:$F,3,FALSE),\"\"),IFERROR(VLOOKUP(A1582,[1]SkillConfig!$E:$G,3,FALSE),\"\"),IFERROR(VLOOKUP(A1582,[1]SkillConfig!$V:$AF,11,FALSE),\"\"))","v":"水灵根+5"},1232012]
[1232013,{"$f":"CONCATENATE(IFERROR(VLOOKUP(A1583,[1]SkillConfig!$D:$F,3,FALSE),\"\"),IFERROR(VLOOKUP(A1583,[1]SkillConfig!$E:$G,3,FALSE),\"\"),IFERROR(VLOOKUP(A1583,[1]SkillConfig!$V:$AF,11,FALSE),\"\"))","v":"人物生命永久+5%"},1232013]
[1232014,{"$f":"CONCATENATE(IFERROR(VLOOKUP(A1584,[1]SkillConfig!$D:$F,3,FALSE),\"\"),IFERROR(VLOOKUP(A1584,[1]SkillConfig!$E:$G,3,FALSE),\"\"),IFERROR(VLOOKUP(A1584,[1]SkillConfig!$V:$AF,11,FALSE),\"\"))","v":"水灵根+5"},1232014]
[1232015,{"$f":"CONCATENATE(IFERROR(VLOOKUP(A1585,[1]SkillConfig!$D:$F,3,FALSE),\"\"),IFERROR(VLOOKUP(A1585,[1]SkillConfig!$E:$G,3,FALSE),\"\"),IFERROR(VLOOKUP(A1585,[1]SkillConfig!$V:$AF,11,FALSE),\"\"))","v":"降低被影响功法的强度"},1232015]
[null,{"$f":"CONCATENATE(IFERROR(VLOOKUP(A1586,[1]SkillConfig!$D:$F,3,FALSE),\"\"),IFERROR(VLOOKUP(A1586,[1]SkillConfig!$E:$G,3,FALSE),\"\"),IFERROR(VLOOKUP(A1586,[1]SkillConfig!$V:$AF,11,FALSE),\"\"))","v":""}]
[null,{"$f":"CONCATENATE(IFERROR(VLOOKUP(A1587,[1]SkillConfig!$D:$F,3,FALSE),\"\"),IFERROR(VLOOKUP(A1587,[1]SkillConfig!$E:$G,3,FALSE),\"\"),IFERROR(VLOOKUP(A1587,[1]SkillConfig!$V:$AF,11,FALSE),\"\"))","v":""},-1]
[1232021,{"$f":"CONCATENATE(IFERROR(VLOOKUP(A1588,[1]SkillConfig!$D:$F,3,FALSE),\"\"),IFERROR(VLOOKUP(A1588,[1]SkillConfig!$E:$G,3,FALSE),\"\"),IFERROR(VLOOKUP(A1588,[1]SkillConfig!$V:$AF,11,FALSE),\"\"))","v":"水灵根+5"},1232021]
[1232022,{"$f":"CONCATENATE(IFERROR(VLOOKUP(A1589,[1]SkillConfig!$D:$F,3,FALSE),\"\"),IFERROR(VLOOKUP(A1589,[1]SkillConfig!$E:$G,3,FALSE),\"\"),IFERROR(VLOOKUP(A1589,[1]SkillConfig!$V:$AF,11,FALSE),\"\"))","v":"人物防御永久+5%"},1232022]
[1232023,{"$f":"CONCATENATE(IFERROR(VLOOKUP(A1590,[1]SkillConfig!$D:$F,3,FALSE),\"\"),IFERROR(VLOOKUP(A1590,[1]SkillConfig!$E:$G,3,FALSE),\"\"),IFERROR(VLOOKUP(A1590,[1]SkillConfig!$V:$AF,11,FALSE),\"\"))","v":"可使用次数增加"},1232023]
[1232024,{"$f":"CONCATENATE(IFERROR(VLOOKUP(A1591,[1]SkillConfig!$D:$F,3,FALSE),\"\"),IFERROR(VLOOKUP(A1591,[1]SkillConfig!$E:$G,3,FALSE),\"\"),IFERROR(VLOOKUP(A1591,[1]SkillConfig!$V:$AF,11,FALSE),\"\"))","v":"水灵根+5"},1232024]
[1232025,{"$f":"CONCATENATE(IFERROR(VLOOKUP(A1592,[1]SkillConfig!$D:$F,3,FALSE),\"\"),IFERROR(VLOOKUP(A1592,[1]SkillConfig!$E:$G,3,FALSE),\"\"),IFERROR(VLOOKUP(A1592,[1]SkillConfig!$V:$AF,11,FALSE),\"\"))","v":"功法额外增伤"},1232025]
[null,{"$f":"CONCATENATE(IFERROR(VLOOKUP(A1593,[1]SkillConfig!$D:$F,3,FALSE),\"\"),IFERROR(VLOOKUP(A1593,[1]SkillConfig!$E:$G,3,FALSE),\"\"),IFERROR(VLOOKUP(A1593,[1]SkillConfig!$V:$AF,11,FALSE),\"\"))","v":""}]
[null,{"$f":"CONCATENATE(IFERROR(VLOOKUP(A1594,[1]SkillConfig!$D:$F,3,FALSE),\"\"),IFERROR(VLOOKUP(A1594,[1]SkillConfig!$E:$G,3,FALSE),\"\"),IFERROR(VLOOKUP(A1594,[1]SkillConfig!$V:$AF,11,FALSE),\"\"))","v":""},-1]
[1232031,{"$f":"CONCATENATE(IFERROR(VLOOKUP(A1595,[1]SkillConfig!$D:$F,3,FALSE),\"\"),IFERROR(VLOOKUP(A1595,[1]SkillConfig!$E:$G,3,FALSE),\"\"),IFERROR(VLOOKUP(A1595,[1]SkillConfig!$V:$AF,11,FALSE),\"\"))","v":"伤害+140%"},1232031]
[1232032,{"$f":"CONCATENATE(IFERROR(VLOOKUP(A1596,[1]SkillConfig!$D:$F,3,FALSE),\"\"),IFERROR(VLOOKUP(A1596,[1]SkillConfig!$E:$G,3,FALSE),\"\"),IFERROR(VLOOKUP(A1596,[1]SkillConfig!$V:$AF,11,FALSE),\"\"))","v":"伤害+140%"},1232032]
[1232033,{"$f":"CONCATENATE(IFERROR(VLOOKUP(A1597,[1]SkillConfig!$D:$F,3,FALSE),\"\"),IFERROR(VLOOKUP(A1597,[1]SkillConfig!$E:$G,3,FALSE),\"\"),IFERROR(VLOOKUP(A1597,[1]SkillConfig!$V:$AF,11,FALSE),\"\"))","v":"伤害+140%"},1232033]
[1232034,{"$f":"CONCATENATE(IFERROR(VLOOKUP(A1598,[1]SkillConfig!$D:$F,3,FALSE),\"\"),IFERROR(VLOOKUP(A1598,[1]SkillConfig!$E:$G,3,FALSE),\"\"),IFERROR(VLOOKUP(A1598,[1]SkillConfig!$V:$AF,11,FALSE),\"\"))","v":"伤害+140%"},1232034]
[1232035,{"$f":"CONCATENATE(IFERROR(VLOOKUP(A1599,[1]SkillConfig!$D:$F,3,FALSE),\"\"),IFERROR(VLOOKUP(A1599,[1]SkillConfig!$E:$G,3,FALSE),\"\"),IFERROR(VLOOKUP(A1599,[1]SkillConfig!$V:$AF,11,FALSE),\"\"))","v":"伤害+140%"},1232035]
[null,{"$f":"CONCATENATE(IFERROR(VLOOKUP(A1600,[1]SkillConfig!$D:$F,3,FALSE),\"\"),IFERROR(VLOOKUP(A1600,[1]SkillConfig!$E:$G,3,FALSE),\"\"),IFERROR(VLOOKUP(A1600,[1]SkillConfig!$V:$AF,11,FALSE),\"\"))","v":""}]
[null,{"$f":"CONCATENATE(IFERROR(VLOOKUP(A1601,[1]SkillConfig!$D:$F,3,FALSE),\"\"),IFERROR(VLOOKUP(A1601,[1]SkillConfig!$E:$G,3,FALSE),\"\"),IFERROR(VLOOKUP(A1601,[1]SkillConfig!$V:$AF,11,FALSE),\"\"))","v":""},-1]
[1233011,{"$f":"CONCATENATE(IFERROR(VLOOKUP(A1602,[1]SkillConfig!$D:$F,3,FALSE),\"\"),IFERROR(VLOOKUP(A1602,[1]SkillConfig!$E:$G,3,FALSE),\"\"),IFERROR(VLOOKUP(A1602,[1]SkillConfig!$V:$AF,11,FALSE),\"\"))","v":"封印法宝数量增加"},1233011]
[1233012,{"$f":"CONCATENATE(IFERROR(VLOOKUP(A1603,[1]SkillConfig!$D:$F,3,FALSE),\"\"),IFERROR(VLOOKUP(A1603,[1]SkillConfig!$E:$G,3,FALSE),\"\"),IFERROR(VLOOKUP(A1603,[1]SkillConfig!$V:$AF,11,FALSE),\"\"))","v":"木灵根+5"},1233012]
[1233013,{"$f":"CONCATENATE(IFERROR(VLOOKUP(A1604,[1]SkillConfig!$D:$F,3,FALSE),\"\"),IFERROR(VLOOKUP(A1604,[1]SkillConfig!$E:$G,3,FALSE),\"\"),IFERROR(VLOOKUP(A1604,[1]SkillConfig!$V:$AF,11,FALSE),\"\"))","v":"减缓相生法宝充能"},1233013]
[1233014,{"$f":"CONCATENATE(IFERROR(VLOOKUP(A1605,[1]SkillConfig!$D:$F,3,FALSE),\"\"),IFERROR(VLOOKUP(A1605,[1]SkillConfig!$E:$G,3,FALSE),\"\"),IFERROR(VLOOKUP(A1605,[1]SkillConfig!$V:$AF,11,FALSE),\"\"))","v":"木灵根+5"},1233014]
[1233015,{"$f":"CONCATENATE(IFERROR(VLOOKUP(A1606,[1]SkillConfig!$D:$F,3,FALSE),\"\"),IFERROR(VLOOKUP(A1606,[1]SkillConfig!$E:$G,3,FALSE),\"\"),IFERROR(VLOOKUP(A1606,[1]SkillConfig!$V:$AF,11,FALSE),\"\"))","v":"大幅减缓相生法宝充能"},1233015]
[null,{"$f":"CONCATENATE(IFERROR(VLOOKUP(A1607,[1]SkillConfig!$D:$F,3,FALSE),\"\"),IFERROR(VLOOKUP(A1607,[1]SkillConfig!$E:$G,3,FALSE),\"\"),IFERROR(VLOOKUP(A1607,[1]SkillConfig!$V:$AF,11,FALSE),\"\"))","v":""}]
[null,{"$f":"CONCATENATE(IFERROR(VLOOKUP(A1608,[1]SkillConfig!$D:$F,3,FALSE),\"\"),IFERROR(VLOOKUP(A1608,[1]SkillConfig!$E:$G,3,FALSE),\"\"),IFERROR(VLOOKUP(A1608,[1]SkillConfig!$V:$AF,11,FALSE),\"\"))","v":""},-1]
[1233021,{"$f":"CONCATENATE(IFERROR(VLOOKUP(A1609,[1]SkillConfig!$D:$F,3,FALSE),\"\"),IFERROR(VLOOKUP(A1609,[1]SkillConfig!$E:$G,3,FALSE),\"\"),IFERROR(VLOOKUP(A1609,[1]SkillConfig!$V:$AF,11,FALSE),\"\"))","v":"持续时间提升1秒"},1233021]
[1233022,{"$f":"CONCATENATE(IFERROR(VLOOKUP(A1610,[1]SkillConfig!$D:$F,3,FALSE),\"\"),IFERROR(VLOOKUP(A1610,[1]SkillConfig!$E:$G,3,FALSE),\"\"),IFERROR(VLOOKUP(A1610,[1]SkillConfig!$V:$AF,11,FALSE),\"\"))","v":"持续时间提升1秒"},1233022]
[1233023,{"$f":"CONCATENATE(IFERROR(VLOOKUP(A1611,[1]SkillConfig!$D:$F,3,FALSE),\"\"),IFERROR(VLOOKUP(A1611,[1]SkillConfig!$E:$G,3,FALSE),\"\"),IFERROR(VLOOKUP(A1611,[1]SkillConfig!$V:$AF,11,FALSE),\"\"))","v":"持续时间提升1秒"},1233023]
[1233024,{"$f":"CONCATENATE(IFERROR(VLOOKUP(A1612,[1]SkillConfig!$D:$F,3,FALSE),\"\"),IFERROR(VLOOKUP(A1612,[1]SkillConfig!$E:$G,3,FALSE),\"\"),IFERROR(VLOOKUP(A1612,[1]SkillConfig!$V:$AF,11,FALSE),\"\"))","v":"持续时间提升1秒"},1233024]
[1233025,{"$f":"CONCATENATE(IFERROR(VLOOKUP(A1613,[1]SkillConfig!$D:$F,3,FALSE),\"\"),IFERROR(VLOOKUP(A1613,[1]SkillConfig!$E:$G,3,FALSE),\"\"),IFERROR(VLOOKUP(A1613,[1]SkillConfig!$V:$AF,11,FALSE),\"\"))","v":"持续时间提升1秒"},1233025]
[null,{"$f":"CONCATENATE(IFERROR(VLOOKUP(A1614,[1]SkillConfig!$D:$F,3,FALSE),\"\"),IFERROR(VLOOKUP(A1614,[1]SkillConfig!$E:$G,3,FALSE),\"\"),IFERROR(VLOOKUP(A1614,[1]SkillConfig!$V:$AF,11,FALSE),\"\"))","v":""}]
[null,{"$f":"CONCATENATE(IFERROR(VLOOKUP(A1615,[1]SkillConfig!$D:$F,3,FALSE),\"\"),IFERROR(VLOOKUP(A1615,[1]SkillConfig!$E:$G,3,FALSE),\"\"),IFERROR(VLOOKUP(A1615,[1]SkillConfig!$V:$AF,11,FALSE),\"\"))","v":""},-1]
[1234011,{"$f":"CONCATENATE(IFERROR(VLOOKUP(A1616,[1]SkillConfig!$D:$F,3,FALSE),\"\"),IFERROR(VLOOKUP(A1616,[1]SkillConfig!$E:$G,3,FALSE),\"\"),IFERROR(VLOOKUP(A1616,[1]SkillConfig!$V:$AF,11,FALSE),\"\"))","v":"火灵根+5"},1234011]
[1234012,{"$f":"CONCATENATE(IFERROR(VLOOKUP(A1617,[1]SkillConfig!$D:$F,3,FALSE),\"\"),IFERROR(VLOOKUP(A1617,[1]SkillConfig!$E:$G,3,FALSE),\"\"),IFERROR(VLOOKUP(A1617,[1]SkillConfig!$V:$AF,11,FALSE),\"\"))","v":"增加吸收几率"},1234012]
[1234013,{"$f":"CONCATENATE(IFERROR(VLOOKUP(A1618,[1]SkillConfig!$D:$F,3,FALSE),\"\"),IFERROR(VLOOKUP(A1618,[1]SkillConfig!$E:$G,3,FALSE),\"\"),IFERROR(VLOOKUP(A1618,[1]SkillConfig!$V:$AF,11,FALSE),\"\"))","v":"人物攻击永久+5%"},1234013]
[1234014,{"$f":"CONCATENATE(IFERROR(VLOOKUP(A1619,[1]SkillConfig!$D:$F,3,FALSE),\"\"),IFERROR(VLOOKUP(A1619,[1]SkillConfig!$E:$G,3,FALSE),\"\"),IFERROR(VLOOKUP(A1619,[1]SkillConfig!$V:$AF,11,FALSE),\"\"))","v":"火灵根+5"},1234014]
[1234015,{"$f":"CONCATENATE(IFERROR(VLOOKUP(A1620,[1]SkillConfig!$D:$F,3,FALSE),\"\"),IFERROR(VLOOKUP(A1620,[1]SkillConfig!$E:$G,3,FALSE),\"\"),IFERROR(VLOOKUP(A1620,[1]SkillConfig!$V:$AF,11,FALSE),\"\"))","v":"完全吸收，临时加灵根"},1234015]
[null,{"$f":"CONCATENATE(IFERROR(VLOOKUP(A1621,[1]SkillConfig!$D:$F,3,FALSE),\"\"),IFERROR(VLOOKUP(A1621,[1]SkillConfig!$E:$G,3,FALSE),\"\"),IFERROR(VLOOKUP(A1621,[1]SkillConfig!$V:$AF,11,FALSE),\"\"))","v":""}]
[null,{"$f":"CONCATENATE(IFERROR(VLOOKUP(A1622,[1]SkillConfig!$D:$F,3,FALSE),\"\"),IFERROR(VLOOKUP(A1622,[1]SkillConfig!$E:$G,3,FALSE),\"\"),IFERROR(VLOOKUP(A1622,[1]SkillConfig!$V:$AF,11,FALSE),\"\"))","v":""},-1]
[1234021,{"$f":"CONCATENATE(IFERROR(VLOOKUP(A1623,[1]SkillConfig!$D:$F,3,FALSE),\"\"),IFERROR(VLOOKUP(A1623,[1]SkillConfig!$E:$G,3,FALSE),\"\"),IFERROR(VLOOKUP(A1623,[1]SkillConfig!$V:$AF,11,FALSE),\"\"))","v":"打断增强，避免对拼"},1234021]
[1234022,{"$f":"CONCATENATE(IFERROR(VLOOKUP(A1624,[1]SkillConfig!$D:$F,3,FALSE),\"\"),IFERROR(VLOOKUP(A1624,[1]SkillConfig!$E:$G,3,FALSE),\"\"),IFERROR(VLOOKUP(A1624,[1]SkillConfig!$V:$AF,11,FALSE),\"\"))","v":"火灵根+5"},1234022]
[1234023,{"$f":"CONCATENATE(IFERROR(VLOOKUP(A1625,[1]SkillConfig!$D:$F,3,FALSE),\"\"),IFERROR(VLOOKUP(A1625,[1]SkillConfig!$E:$G,3,FALSE),\"\"),IFERROR(VLOOKUP(A1625,[1]SkillConfig!$V:$AF,11,FALSE),\"\"))","v":"人物攻击永久+5%"},1234023]
[1234024,{"$f":"CONCATENATE(IFERROR(VLOOKUP(A1626,[1]SkillConfig!$D:$F,3,FALSE),\"\"),IFERROR(VLOOKUP(A1626,[1]SkillConfig!$E:$G,3,FALSE),\"\"),IFERROR(VLOOKUP(A1626,[1]SkillConfig!$V:$AF,11,FALSE),\"\"))","v":"火灵根+5"},1234024]
[1234025,{"$f":"CONCATENATE(IFERROR(VLOOKUP(A1627,[1]SkillConfig!$D:$F,3,FALSE),\"\"),IFERROR(VLOOKUP(A1627,[1]SkillConfig!$E:$G,3,FALSE),\"\"),IFERROR(VLOOKUP(A1627,[1]SkillConfig!$V:$AF,11,FALSE),\"\"))","v":"成功打断后加速冷却"},1234025]
[null,{"$f":"CONCATENATE(IFERROR(VLOOKUP(A1628,[1]SkillConfig!$D:$F,3,FALSE),\"\"),IFERROR(VLOOKUP(A1628,[1]SkillConfig!$E:$G,3,FALSE),\"\"),IFERROR(VLOOKUP(A1628,[1]SkillConfig!$V:$AF,11,FALSE),\"\"))","v":""}]
[null,{"$f":"CONCATENATE(IFERROR(VLOOKUP(A1629,[1]SkillConfig!$D:$F,3,FALSE),\"\"),IFERROR(VLOOKUP(A1629,[1]SkillConfig!$E:$G,3,FALSE),\"\"),IFERROR(VLOOKUP(A1629,[1]SkillConfig!$V:$AF,11,FALSE),\"\"))","v":""},-1]
[1235011,{"$f":"CONCATENATE(IFERROR(VLOOKUP(A1630,[1]SkillConfig!$D:$F,3,FALSE),\"\"),IFERROR(VLOOKUP(A1630,[1]SkillConfig!$E:$G,3,FALSE),\"\"),IFERROR(VLOOKUP(A1630,[1]SkillConfig!$V:$AF,11,FALSE),\"\"))","v":"盾强度提升"},1235011]
[1235012,{"$f":"CONCATENATE(IFERROR(VLOOKUP(A1631,[1]SkillConfig!$D:$F,3,FALSE),\"\"),IFERROR(VLOOKUP(A1631,[1]SkillConfig!$E:$G,3,FALSE),\"\"),IFERROR(VLOOKUP(A1631,[1]SkillConfig!$V:$AF,11,FALSE),\"\"))","v":"土灵根+5"},1235012]
[1235013,{"$f":"CONCATENATE(IFERROR(VLOOKUP(A1632,[1]SkillConfig!$D:$F,3,FALSE),\"\"),IFERROR(VLOOKUP(A1632,[1]SkillConfig!$E:$G,3,FALSE),\"\"),IFERROR(VLOOKUP(A1632,[1]SkillConfig!$V:$AF,11,FALSE),\"\"))","v":"盾强度提升"},1235013]
[1235014,{"$f":"CONCATENATE(IFERROR(VLOOKUP(A1633,[1]SkillConfig!$D:$F,3,FALSE),\"\"),IFERROR(VLOOKUP(A1633,[1]SkillConfig!$E:$G,3,FALSE),\"\"),IFERROR(VLOOKUP(A1633,[1]SkillConfig!$V:$AF,11,FALSE),\"\"))","v":"土灵根+5"},1235014]
[1235015,{"$f":"CONCATENATE(IFERROR(VLOOKUP(A1634,[1]SkillConfig!$D:$F,3,FALSE),\"\"),IFERROR(VLOOKUP(A1634,[1]SkillConfig!$E:$G,3,FALSE),\"\"),IFERROR(VLOOKUP(A1634,[1]SkillConfig!$V:$AF,11,FALSE),\"\"))","v":"盾强度提升"},1235015]
[null,{"$f":"CONCATENATE(IFERROR(VLOOKUP(A1635,[1]SkillConfig!$D:$F,3,FALSE),\"\"),IFERROR(VLOOKUP(A1635,[1]SkillConfig!$E:$G,3,FALSE),\"\"),IFERROR(VLOOKUP(A1635,[1]SkillConfig!$V:$AF,11,FALSE),\"\"))","v":""}]
[null,{"$f":"CONCATENATE(IFERROR(VLOOKUP(A1636,[1]SkillConfig!$D:$F,3,FALSE),\"\"),IFERROR(VLOOKUP(A1636,[1]SkillConfig!$E:$G,3,FALSE),\"\"),IFERROR(VLOOKUP(A1636,[1]SkillConfig!$V:$AF,11,FALSE),\"\"))","v":""},-1]
[1235021,{"$f":"CONCATENATE(IFERROR(VLOOKUP(A1637,[1]SkillConfig!$D:$F,3,FALSE),\"\"),IFERROR(VLOOKUP(A1637,[1]SkillConfig!$E:$G,3,FALSE),\"\"),IFERROR(VLOOKUP(A1637,[1]SkillConfig!$V:$AF,11,FALSE),\"\"))","v":""},1235021]
[1235022,{"$f":"CONCATENATE(IFERROR(VLOOKUP(A1638,[1]SkillConfig!$D:$F,3,FALSE),\"\"),IFERROR(VLOOKUP(A1638,[1]SkillConfig!$E:$G,3,FALSE),\"\"),IFERROR(VLOOKUP(A1638,[1]SkillConfig!$V:$AF,11,FALSE),\"\"))","v":""},1235022]
[1235023,{"$f":"CONCATENATE(IFERROR(VLOOKUP(A1639,[1]SkillConfig!$D:$F,3,FALSE),\"\"),IFERROR(VLOOKUP(A1639,[1]SkillConfig!$E:$G,3,FALSE),\"\"),IFERROR(VLOOKUP(A1639,[1]SkillConfig!$V:$AF,11,FALSE),\"\"))","v":""},1235023]
[1235024,{"$f":"CONCATENATE(IFERROR(VLOOKUP(A1640,[1]SkillConfig!$D:$F,3,FALSE),\"\"),IFERROR(VLOOKUP(A1640,[1]SkillConfig!$E:$G,3,FALSE),\"\"),IFERROR(VLOOKUP(A1640,[1]SkillConfig!$V:$AF,11,FALSE),\"\"))","v":""},1235024]
[1235025,{"$f":"CONCATENATE(IFERROR(VLOOKUP(A1641,[1]SkillConfig!$D:$F,3,FALSE),\"\"),IFERROR(VLOOKUP(A1641,[1]SkillConfig!$E:$G,3,FALSE),\"\"),IFERROR(VLOOKUP(A1641,[1]SkillConfig!$V:$AF,11,FALSE),\"\"))","v":""},1235025]

{"sheet":"LanguageChineseConfig_skill","index":1,"n_rows":1771,"n_cols":2,"rows_kept":1771,"cut":false,"hidden":false,"merged":[]}
["ID","txt"]
["int","string"]
[]
["ID","文本内容"]
[{"$f":"IF(語言配置表!A4=\"\",\"\",語言配置表!A4)","v":1011010},{"$f":"IF(語言配置表!A4=\"\",\"CN_待填充内容\",語言配置表!B4)","v":"太虚幻剑经"}]
[{"$f":"IF(語言配置表!A5=\"\",\"\",語言配置表!A5)","v":1011011},{"$f":"IF(語言配置表!A5=\"\",\"CN_待填充内容\",語言配置表!B5)","v":"太虚幻剑经"}]
[{"$f":"IF(語言配置表!A6=\"\",\"\",語言配置表!A6)","v":1011012},{"$f":"IF(語言配置表!A6=\"\",\"CN_待填充内容\",語言配置表!B6)","v":"太虚幻剑经"}]
[{"$f":"IF(語言配置表!A7=\"\",\"\",語言配置表!A7)","v":1011013},{"$f":"IF(語言配置表!A7=\"\",\"CN_待填充内容\",語言配置表!B7)","v":"太虚幻剑经"}]
[{"$f":"IF(語言配置表!A8=\"\",\"\",語言配置表!A8)","v":1011014},{"$f":"IF(語言配置表!A8=\"\",\"CN_待填充内容\",語言配置表!B8)","v":"太虚幻剑经"}]
[{"$f":"IF(語言配置表!A9=\"\",\"\",語言配置表!A9)","v":1011015},{"$f":"IF(語言配置表!A9=\"\",\"CN_待填充内容\",語言配置表!B9)","v":"太虚幻剑经"}]
[{"$f":"IF(語言配置表!A10=\"\",\"\",語言配置表!A10)","v":""},{"$f":"IF(語言配置表!A10=\"\",\"CN_待填充内容\",語言配置表!B10)","v":"CN_待填充内容"}]
[{"$f":"IF(語言配置表!A11=\"\",\"\",語言配置表!A11)","v":1011020},{"$f":"IF(語言配置表!A11=\"\",\"CN_待填充内容\",語言配置表!B11)","v":"天罡剑气诀"}]
[{"$f":"IF(語言配置表!A12=\"\",\"\",語言配置表!A12)","v":1011021},{"$f":"IF(語言配置表!A12=\"\",\"CN_待填充内容\",語言配置表!B12)","v":"天罡剑气诀"}]
[{"$f":"IF(語言配置表!A13=\"\",\"\",語言配置表!A13)","v":1011022},{"$f":"IF(語言配置表!A13=\"\",\"CN_待填充内容\",語言配置表!B13)","v":"天罡剑气诀"}]
[{"$f":"IF(語言配置表!A14=\"\",\"\",語言配置表!A14)","v":1011023},{"$f":"IF(語言配置表!A14=\"\",\"CN_待填充内容\",語言配置表!B14)","v":"天罡剑气诀"}]
[{"$f":"IF(語言配置表!A15=\"\",\"\",語言配置表!A15)","v":1011024},{"$f":"IF(語言配置表!A15=\"\",\"CN_待填充内容\",語言配置表!B15)","v":"天罡剑气诀"}]
[{"$f":"IF(語言配置表!A16=\"\",\"\",語言配置表!A16)","v":1011025},{"$f":"IF(語言配置表!A16=\"\",\"CN_待填充内容\",語言配置表!B16)","v":"天罡剑气诀"}]
[{"$f":"IF(語言配置表!A17=\"\",\"\",語言配置表!A17)","v":""},{"$f":"IF(語言配置表!A17=\"\",\"CN_待填充内容\",語言配置表!B17)","v":"CN_待填充内容"}]
[{"$f":"IF(語言配置表!A18=\"\",\"\",語言配置表!A18)","v":1011030},{"$f":"IF(語言配置表!A18=\"\",\"CN_待填充内容\",語言配置表!B18)","v":"血刃金煌功"}]
[{"$f":"IF(語言配置表!A19=\"\",\"\",語言配置表!A19)","v":1011031},{"$f":"IF(語言配置表!A19=\"\",\"CN_待填充内容\",語言配置表!B19)","v":"血刃金煌功"}]
[{"$f":"IF(語言配置表!A20=\"\",\"\",語言配置表!A20)","v":1011032},{"$f":"IF(語言配置表!A20=\"\",\"CN_待填充内容\",語言配置表!B20)","v":"血刃金煌功"}]
[{"$f":"IF(語言配置表!A21=\"\",\"\",語言配置表!A21)","v":1011033},{"$f":"IF(語言配置表!A21=\"\",\"CN_待填充内容\",語言配置表!B21)","v":"血刃金煌功"}]
[{"$f":"IF(語言配置表!A22=\"\",\"\",語言配置表!A22)","v":1011034},{"$f":"IF(語言配置表!A22=\"\",\"CN_待填充内容\",語言配置表!B22)","v":"血刃金煌功"}]
[{"$f":"IF(語言配置表!A23=\"\",\"\",語言配置表!A23)","v":1011035},{"$f":"IF(語言配置表!A23=\"\",\"CN_待填充内容\",語言配置表!B23)","v":"血刃金煌功"}]
[{"$f":"IF(語言配置表!A24=\"\",\"\",語言配置表!A24)","v":""},{"$f":"IF(語言配置表!A24=\"\",\"CN_待填充内容\",語言配置表!B24)","v":"CN_待填充内容"}]
[{"$f":"IF(語言配置表!A25=\"\",\"\",語言配置表!A25)","v":1011040},{"$f":"IF(語言配置表!A25=\"\",\"CN_待填充内容\",語言配置表!B25)","v":"飞刃"}]
[{"$f":"IF(語言配置表!A26=\"\",\"\",語言配置表!A26)","v":1011041},{"$f":"IF(語言配置表!A26=\"\",\"CN_待填充内容\",語言配置表!B26)","v":"飞刃"}]
[{"$f":"IF(語言配置表!A27=\"\",\"\",語言配置表!A27)","v":1011042},{"$f":"IF(語言配置表!A27=\"\",\"CN_待填充内容\",語言配置表!B27)","v":"飞刃"}]
[{"$f":"IF(語言配置表!A28=\"\",\"\",語言配置表!A28)","v":1011043},{"$f":"IF(語言配置表!A28=\"\",\"CN_待填充内容\",語言配置表!B28)","v":"飞刃"}]
[{"$f":"IF(語言配置表!A29=\"\",\"\",語言配置表!A29)","v":1011044},{"$f":"IF(語言配置表!A29=\"\",\"CN_待填充内容\",語言配置表!B29)","v":"飞刃"}]
[{"$f":"IF(語言配置表!A30=\"\",\"\",語言配置表!A30)","v":1011045},{"$f":"IF(語言配置表!A30=\"\",\"CN_待填充内容\",語言配置表!B30)","v":"飞刃"}]
[{"$f":"IF(語言配置表!A31=\"\",\"\",語言配置表!A31)","v":""},{"$f":"IF(語言配置表!A31=\"\",\"CN_待填充内容\",語言配置表!B31)","v":"CN_待填充内容"}]
[{"$f":"IF(語言配置表!A32=\"\",\"\",語言配置表!A32)","v":1011050},{"$f":"IF(語言配置表!A32=\"\",\"CN_待填充内容\",語言配置表!B32)","v":"金针"}]
[{"$f":"IF(語言配置表!A33=\"\",\"\",語言配置表!A33)","v":1011051},{"$f":"IF(語言配置表!A33=\"\",\"CN_待填充内容\",語言配置表!B33)","v":"金针"}]
[{"$f":"IF(語言配置表!A34=\"\",\"\",語言配置表!A34)","v":1011052},{"$f":"IF(語言配置表!A34=\"\",\"CN_待填充内容\",語言配置表!B34)","v":"金针"}]
[{"$f":"IF(語言配置表!A35=\"\",\"\",語言配置表!A35)","v":1011053},{"$f":"IF(語言配置表!A35=\"\",\"CN_待填充内容\",語言配置表!B35)","v":"金针"}]
[{"$f":"IF(語言配置表!A36=\"\",\"\",語言配置表!A36)","v":1011054},{"$f":"IF(語言配置表!A36=\"\",\"CN_待填充内容\",語言配置表!B36)","v":"金针"}]
[{"$f":"IF(語言配置表!A37=\"\",\"\",語言配置表!A37)","v":1011055},{"$f":"IF(語言配置表!A37=\"\",\"CN_待填充内容\",語言配置表!B37)","v":"金针"}]
[{"$f":"IF(語言配置表!A38=\"\",\"\",語言配置表!A38)","v":""},{"$f":"IF(語言配置表!A38=\"\",\"CN_待填充内容\",語言配置表!B38)","v":"CN_待填充内容"}]
[{"$f":"IF(語言配置表!A39=\"\",\"\",語言配置表!A39)","v":1012010},{"$f":"IF(語言配置表!A39=\"\",\"CN_待填充内容\",語言配置表!B39)","v":"碧落幽冥劲"}]
[{"$f":"IF(語言配置表!A40=\"\",\"\",語言配置表!A40)","v":1012011},{"$f":"IF(語言配置表!A40=\"\",\"CN_待填充内容\",語言配置表!B40)","v":"碧落幽冥劲"}]
[{"$f":"IF(語言配置表!A41=\"\",\"\",語言配置表!A41)","v":1012012},{"$f":"IF(語言配置表!A41=\"\",\"CN_待填充内容\",語言配置表!B41)","v":"碧落幽冥劲"}]
[{"$f":"IF(語言配置表!A42=\"\",\"\",語言配置表!A42)","v":1012013},{"$f":"IF(語言配置表!A42=\"\",\"CN_待填充内容\",語言配置表!B42)","v":"碧落幽冥劲"}]
[{"$f":"IF(語言配置表!A43=\"\",\"\",語言配置表!A43)","v":1012014},{"$f":"IF(語言配置表!A43=\"\",\"CN_待填充内容\",語言配置表!B43)","v":"碧落幽冥劲"}]
[{"$f":"IF(語言配置表!A44=\"\",\"\",語言配置表!A44)","v":1012015},{"$f":"IF(語言配置表!A44=\"\",\"CN_待填充内容\",語言配置表!B44)","v":"碧落幽冥劲"}]
[{"$f":"IF(語言配置表!A45=\"\",\"\",語言配置表!A45)","v":""},{"$f":"IF(語言配置表!A45=\"\",\"CN_待填充内容\",語言配置表!B45)","v":"CN_待填充内容"}]
[{"$f":"IF(語言配置表!A46=\"\",\"\",語言配置表!A46)","v":1012020},{"$f":"IF(語言配置表!A46=\"\",\"CN_待填充内容\",語言配置表!B46)","v":"雾隐千流法"}]
[{"$f":"IF(語言配置表!A47=\"\",\"\",語言配置表!A47)","v":1012021},{"$f":"IF(語言配置表!A47=\"\",\"CN_待填充内容\",語言配置表!B47)","v":"雾隐千流法"}]
[{"$f":"IF(語言配置表!A48=\"\",\"\",語言配置表!A48)","v":1012022},{"$f":"IF(語言配置表!A48=\"\",\"CN_待填充内容\",語言配置表!B48)","v":"雾隐千流法"}]
[{"$f":"IF(語言配置表!A49=\"\",\"\",語言配置表!A49)","v":1012023},{"$f":"IF(語言配置表!A49=\"\",\"CN_待填充内容\",語言配置表!B49)","v":"雾隐千流法"}]
[{"$f":"IF(語言配置表!A50=\"\",\"\",語言配置表!A50)","v":1012024},{"$f":"IF(語言配置表!A50=\"\",\"CN_待填充内容\",語言配置表!B50)","v":"雾隐千流法"}]
[{"$f":"IF(語言配置表!A51=\"\",\"\",語言配置表!A51)","v":1012025},{"$f":"IF(語言配置表!A51=\"\",\"CN_待填充内容\",語言配置表!B51)","v":"雾隐千流法"}]
[{"$f":"IF(語言配置表!A52=\"\",\"\",語言配置表!A52)","v":""},{"$f":"IF(語言配置表!A52=\"\",\"CN_待填充内容\",語言配置表!B52)","v":"CN_待填充内容"}]
[{"$f":"IF(語言配置表!A53=\"\",\"\",語言配置表!A53)","v":""},{"$f":"IF(語言配置表!A53=\"\",\"CN_待填充内容\",語言配置表!B53)","v":"CN_待填充内容"}]
[{"$f":"IF(語言配置表!A54=\"\",\"\",語言配置表!A54)","v":""},{"$f":"IF(語言配置表!A54=\"\",\"CN_待填充内容\",語言配置表!B54)","v":"CN_待填充内容"}]
[{"$f":"IF(語言配置表!A55=\"\",\"\",語言配置表!A55)","v":""},{"$f":"IF(語言配置表!A55=\"\",\"CN_待填充内容\",語言配置表!B55)","v":"CN_待填充内容"}]
[{"$f":"IF(語言配置表!A56=\"\",\"\",語言配置表!A56)","v":""},{"$f":"IF(語言配置表!A56=\"\",\"CN_待填充内容\",語言配置表!B56)","v":"CN_待填充内容"}]
[{"$f":"IF(語言配置表!A57=\"\",\"\",語言配置表!A57)","v":""},{"$f":"IF(語言配置表!A57=\"\",\"CN_待填充内容\",語言配置表!B57)","v":"CN_待填充内容"}]
[{"$f":"IF(語言配置表!A58=\"\",\"\",語言配置表!A58)","v":""},{"$f":"IF(語言配置表!A58=\"\",\"CN_待填充内容\",語言配置表!B58)","v":"CN_待填充内容"}]
[{"$f":"IF(語言配置表!A59=\"\",\"\",語言配置表!A59)","v":""},{"$f":"IF(語言配置表!A59=\"\",\"CN_待填充内容\",語言配置表!B59)","v":"CN_待填充内容"}]
[{"$f":"IF(語言配置表!A60=\"\",\"\",語言配置表!A60)","v":1012040},{"$f":"IF(語言配置表!A60=\"\",\"CN_待填充内容\",語言配置表!B60)","v":"水球"}]
[{"$f":"IF(語言配置表!A61=\"\",\"\",語言配置表!A61)","v":1012041},{"$f":"IF(語言配置表!A61=\"\",\"CN_待填充内容\",語言配置表!B61)","v":"水球"}]
[{"$f":"IF(語言配置表!A62=\"\",\"\",語言配置表!A62)","v":1012042},{"$f":"IF(語言配置表!A62=\"\",\"CN_待填充内容\",語言配置表!B62)","v":"水球"}]
[{"$f":"IF(語言配置表!A63=\"\",\"\",語言配置表!A63)","v":1012043},{"$f":"IF(語言配置表!A63=\"\",\"CN_待填充内容\",語言配置表!B63)","v":"水球"}]
[{"$f":"IF(語言配置表!A64=\"\",\"\",語言配置表!A64)","v":1012044},{"$f":"IF(語言配置表!A64=\"\",\"CN_待填充内容\",語言配置表!B64)","v":"水球"}]
[{"$f":"IF(語言配置表!A65=\"\",\"\",語言配置表!A65)","v":1012045},{"$f":"IF(語言配置表!A65=\"\",\"CN_待填充内容\",語言配置表!B65)","v":"水球"}]
[{"$f":"IF(語言配置表!A66=\"\",\"\",語言配置表!A66)","v":""},{"$f":"IF(語言配置表!A66=\"\",\"CN_待填充内容\",語言配置表!B66)","v":"CN_待填充内容"}]
[{"$f":"IF(語言配置表!A67=\"\",\"\",語言配置表!A67)","v":1012050},{"$f":"IF(語言配置表!A67=\"\",\"CN_待填充内容\",語言配置表!B67)","v":"冰刀"}]
[{"$f":"IF(語言配置表!A68=\"\",\"\",語言配置表!A68)","v":1012051},{"$f":"IF(語言配置表!A68=\"\",\"CN_待填充内容\",語言配置表!B68)","v":"冰刀"}]
[{"$f":"IF(語言配置表!A69=\"\",\"\",語言配置表!A69)","v":1012052},{"$f":"IF(語言配置表!A69=\"\",\"CN_待填充内容\",語言配置表!B69)","v":"冰刀"}]
[{"$f":"IF(語言配置表!A70=\"\",\"\",語言配置表!A70)","v":1012053},{"$f":"IF(語言配置表!A70=\"\",\"CN_待填充内容\",語言配置表!B70)","v":"冰刀"}]
[{"$f":"IF(語言配置表!A71=\"\",\"\",語言配置表!A71)","v":1012054},{"$f":"IF(語言配置表!A71=\"\",\"CN_待填充内容\",語言配置表!B71)","v":"冰刀"}]
[{"$f":"IF(語言配置表!A72=\"\",\"\",語言配置表!A72)","v":1012055},{"$f":"IF(語言配置表!A72=\"\",\"CN_待填充内容\",語言配置表!B72)","v":"冰刀"}]
[{"$f":"IF(語言配置表!A73=\"\",\"\",語言配置表!A73)","v":""},{"$f":"IF(語言配置表!A73=\"\",\"CN_待填充内容\",語言配置表!B73)","v":"CN_待填充内容"}]
[{"$f":"IF(語言配置表!A74=\"\",\"\",語言配置表!A74)","v":1013010},{"$f":"IF(語言配置表!A74=\"\",\"CN_待填充内容\",語言配置表!B74)","v":"瘴影千丝术"}]
[{"$f":"IF(語言配置表!A75=\"\",\"\",語言配置表!A75)","v":1013011},{"$f":"IF(語言配置表!A75=\"\",\"CN_待填充内容\",語言配置表!B75)","v":"瘴影千丝术"}]
[{"$f":"IF(語言配置表!A76=\"\",\"\",語言配置表!A76)","v":1013012},{"$f":"IF(語言配置表!A76=\"\",\"CN_待填充内容\",語言配置表!B76)","v":"瘴影千丝术"}]
[{"$f":"IF(語言配置表!A77=\"\",\"\",語言配置表!A77)","v":1013013},{"$f":"IF(語言配置表!A77=\"\",\"CN_待填充内容\",語言配置表!B77)","v":"瘴影千丝术"}]
[{"$f":"IF(語言配置表!A78=\"\",\"\",語言配置表!A78)","v":1013014},{"$f":"IF(語言配置表!A78=\"\",\"CN_待填充内容\",語言配置表!B78)","v":"瘴影千丝术"}]
[{"$f":"IF(語言配置表!A79=\"\",\"\",語言配置表!A79)","v":1013015},{"$f":"IF(語言配置表!A79=\"\",\"CN_待填充内容\",語言配置表!B79)","v":"瘴影千丝术"}]
[{"$f":"IF(語言配置表!A80=\"\",\"\",語言配置表!A80)","v":""},{"$f":"IF(語言配置表!A80=\"\",\"CN_待填充内容\",語言配置表!B80)","v":"CN_待填充内容"}]
[{"$f":"IF(語言配置表!A81=\"\",\"\",語言配置表!A81)","v":1013020},{"$f":"IF(語言配置表!A81=\"\",\"CN_待填充内容\",語言配置表!B81)","v":"蚀骨腐血掌"}]
[{"$f":"IF(語言配置表!A82=\"\",\"\",語言配置表!A82)","v":1013021},{"$f":"IF(語言配置表!A82=\"\",\"CN_待填充内容\",語言配置表!B82)","v":"蚀骨腐血掌"}]
[{"$f":"IF(語言配置表!A83=\"\",\"\",語言配置表!A83)","v":1013022},{"$f":"IF(語言配置表!A83=\"\",\"CN_待填充内容\",語言配置表!B83)","v":"蚀骨腐血掌"}]
[{"$f":"IF(語言配置表!A84=\"\",\"\",語言配置表!A84)","v":1013023},{"$f":"IF(語言配置表!A84=\"\",\"CN_待填充内容\",語言配置表!B84)","v":"蚀骨腐血掌"}]
[{"$f":"IF(語言配置表!A85=\"\",\"\",語言配置表!A85)","v":1013024},{"$f":"IF(語言配置表!A85=\"\",\"CN_待填充内容\",語言配置表!B85)","v":"蚀骨腐血掌"}]
[{"$f":"IF(語言配置表!A86=\"\",\"\",語言配置表!A86)","v":1013025},{"$f":"IF(語言配置表!A86=\"\",\"CN_待填充内容\",語言配置表!B86)","v":"蚀骨腐血掌"}]
[{"$f":"IF(語言配置表!A87=\"\",\"\",語言配置表!A87)","v":""},{"$f":"IF(語言配置表!A87=\"\",\"CN_待填充内容\",語言配置表!B87)","v":"CN_待填充内容"}]
[{"$f":"IF(語言配置表!A88=\"\",\"\",語言配置表!A88)","v":""},{"$f":"IF(語言配置表!A88=\"\",\"CN_待填充内容\",語言配置表!B88)","v":"CN_待填充内容"}]
[{"$f":"IF(語言配置表!A89=\"\",\"\",語言配置表!A89)","v":""},{"$f":"IF(語言配置表!A89=\"\",\"CN_待填充内容\",語言配置表!B89)","v":"CN_待填充内容"}]
[{"$f":"IF(語言配置表!A90=\"\",\"\",語言配置表!A90)","v":""},{"$f":"IF(語言配置表!A90=\"\",\"CN_待填充内容\",語言配置表!B90)","v":"CN_待填充内容"}]
[{"$f":"IF(語言配置表!A91=\"\",\"\",語言配置表!A91)","v":""},{"$f":"IF(語言配置表!A91=\"\",\"CN_待填充内容\",語言配置表!B91)","v":"CN_待填充内容"}]
[{"$f":"IF(語言配置表!A92=\"\",\"\",語言配置表!A92)","v":""},{"$f":"IF(語言配置表!A92=\"\",\"CN_待填充内容\",語言配置表!B92)","v":"CN_待填充内容"}]
[{"$f":"IF(語言配置表!A93=\"\",\"\",語言配置表!A93)","v":""},{"$f":"IF(語言配置表!A93=\"\",\"CN_待填充内容\",語言配置表!B93)","v":"CN_待填充内容"}]
[{"$f":"IF(語言配置表!A94=\"\",\"\",語言配置表!A94)","v":""},{"$f":"IF(語言配置表!A94=\"\",\"CN_待填充内容\",語言配置表!B94)","v":"CN_待填充内容"}]
[{"$f":"IF(語言配置表!A95=\"\",\"\",語言配置表!A95)","v":1013040},{"$f":"IF(語言配置表!A95=\"\",\"CN_待填充内容\",語言配置表!B95)","v":"竹刺"}]
[{"$f":"IF(語言配置表!A96=\"\",\"\",語言配置表!A96)","v":1013041},{"$f":"IF(語言配置表!A96=\"\",\"CN_待填充内容\",語言配置表!B96)","v":"竹刺"}]
[{"$f":"IF(語言配置表!A97=\"\",\"\",語言配置表!A97)","v":1013042},{"$f":"IF(語言配置表!A97=\"\",\"CN_待填充内容\",語言配置表!B97)","v":"竹刺"}]
[{"$f":"IF(語言配置表!A98=\"\",\"\",語言配置表!A98)","v":1013043},{"$f":"IF(語言配置表!A98=\"\",\"CN_待填充内容\",語言配置表!B98)","v":"竹刺"}]
[{"$f":"IF(語言配置表!A99=\"\",\"\",語言配置表!A99)","v":1013044},{"$f":"IF(語言配置表!A99=\"\",\"CN_待填充内容\",語言配置表!B99)","v":"竹刺"}]
[{"$f":"IF(語言配置表!A100=\"\",\"\",語言配置表!A100)","v":1013045},{"$f":"IF(語言配置表!A100=\"\",\"CN_待填充内容\",語言配置表!B100)","v":"竹刺"}]
[{"$f":"IF(語言配置表!A101=\"\",\"\",語言配置表!A101)","v":""},{"$f":"IF(語言配置表!A101=\"\",\"CN_待填充内容\",語言配置表!B101)","v":"CN_待填充内容"}]
[{"$f":"IF(語言配置表!A102=\"\",\"\",語言配置表!A102)","v":1013050},{"$f":"IF(語言配置表!A102=\"\",\"CN_待填充内容\",語言配置表!B102)","v":"飞叶"}]
[{"$f":"IF(語言配置表!A103=\"\",\"\",語言配置表!A103)","v":1013051},{"$f":"IF(語言配置表!A103=\"\",\"CN_待填充内容\",語言配置表!B103)","v":"飞叶"}]
[{"$f":"IF(語言配置表!A104=\"\",\"\",語言配置表!A104)","v":1013052},{"$f":"IF(語言配置表!A104=\"\",\"CN_待填充内容\",語言配置表!B104)","v":"飞叶"}]
[{"$f":"IF(語言配置表!A105=\"\",\"\",語言配置表!A105)","v":1013053},{"$f":"IF(語言配置表!A105=\"\",\"CN_待填充内容\",語言配置表!B105)","v":"飞叶"}]
[{"$f":"IF(語言配置表!A106=\"\",\"\",語言配置表!A106)","v":1013054},{"$f":"IF(語言配置表!A106=\"\",\"CN_待填充内容\",語言配置表!B106)","v":"飞叶"}]
[{"$f":"IF(語言配置表!A107=\"\",\"\",語言配置表!A107)","v":1013055},{"$f":"IF(語言配置表!A107=\"\",\"CN_待填充内容\",語言配置表!B107)","v":"飞叶"}]
[{"$f":"IF(語言配置表!A108=\"\",\"\",語言配置表!A108)","v":""},{"$f":"IF(語言配置表!A108=\"\",\"CN_待填充内容\",語言配置表!B108)","v":"CN_待填充内容"}]
[{"$f":"IF(語言配置表!A109=\"\",\"\",語言配置表!A109)","v":1014010},{"$f":"IF(語言配置表!A109=\"\",\"CN_待填充内容\",語言配置表!B109)","v":"烈焰剑"}]
[{"$f":"IF(語言配置表!A110=\"\",\"\",語言配置表!A110)","v":1014011},{"$f":"IF(語言配置表!A110=\"\",\"CN_待填充内容\",語言配置表!B110)","v":"烈焰剑"}]
[{"$f":"IF(語言配置表!A111=\"\",\"\",語言配置表!A111)","v":1014012},{"$f":"IF(語言配置表!A111=\"\",\"CN_待填充内容\",語言配置表!B111)","v":"烈焰剑"}]
[{"$f":"IF(語言配置表!A112=\"\",\"\",語言配置表!A112)","v":1014013},{"$f":"IF(語言配置表!A112=\"\",\"CN_待填充内容\",語言配置表!B112)","v":"烈焰剑"}]
[{"$f":"IF(語言配置表!A113=\"\",\"\",語言配置表!A113)","v":1014014},{"$f":"IF(語言配置表!A113=\"\",\"CN_待填充内容\",語言配置表!B113)","v":"烈焰剑"}]
[{"$f":"IF(語言配置表!A114=\"\",\"\",語言配置表!A114)","v":1014015},{"$f":"IF(語言配置表!A114=\"\",\"CN_待填充内容\",語言配置表!B114)","v":"烈焰剑"}]
[{"$f":"IF(語言配置表!A115=\"\",\"\",語言配置表!A115)","v":""},{"$f":"IF(語言配置表!A115=\"\",\"CN_待填充内容\",語言配置表!B115)","v":"CN_待填充内容"}]
[{"$f":"IF(語言配置表!A116=\"\",\"\",語言配置表!A116)","v":1014020},{"$f":"IF(語言配置表!A116=\"\",\"CN_待填充内容\",語言配置表!B116)","v":"赤焰龙吟功"}]
[{"$f":"IF(語言配置表!A117=\"\",\"\",語言配置表!A117)","v":1014021},{"$f":"IF(語言配置表!A117=\"\",\"CN_待填充内容\",語言配置表!B117)","v":"赤焰龙吟功"}]
[{"$f":"IF(語言配置表!A118=\"\",\"\",語言配置表!A118)","v":1014022},{"$f":"IF(語言配置表!A118=\"\",\"CN_待填充内容\",語言配置表!B118)","v":"赤焰龙吟功"}]
[{"$f":"IF(語言配置表!A119=\"\",\"\",語言配置表!A119)","v":1014023},{"$f":"IF(語言配置表!A119=\"\",\"CN_待填充内容\",語言配置表!B119)","v":"赤焰龙吟功"}]
[{"$f":"IF(語言配置表!A120=\"\",\"\",語言配置表!A120)","v":1014024},{"$f":"IF(語言配置表!A120=\"\",\"CN_待填充内容\",語言配置表!B120)","v":"赤焰龙吟功"}]
[{"$f":"IF(語言配置表!A121=\"\",\"\",語言配置表!A121)","v":1014025},{"$f":"IF(語言配置表!A121=\"\",\"CN_待填充内容\",語言配置表!B121)","v":"赤焰龙吟功"}]
[{"$f":"IF(語言配置表!A122=\"\",\"\",語言配置表!A122)","v":""},{"$f":"IF(語言配置表!A122=\"\",\"CN_待填充内容\",語言配置表!B122)","v":"CN_待填充内容"}]
[{"$f":"IF(語言配置表!A123=\"\",\"\",語言配置表!A123)","v":1014030},{"$f":"IF(語言配置表!A123=\"\",\"CN_待填充内容\",語言配置表!B123)","v":"朱雀燎原指"}]
[{"$f":"IF(語言配置表!A124=\"\",\"\",語言配置表!A124)","v":1014031},{"$f":"IF(語言配置表!A124=\"\",\"CN_待填充内容\",語言配置表!B124)","v":"朱雀燎原指"}]
[{"$f":"IF(語言配置表!A125=\"\",\"\",語言配置表!A125)","v":1014032},{"$f":"IF(語言配置表!A125=\"\",\"CN_待填充内容\",語言配置表!B125)","v":"朱雀燎原指"}]
[{"$f":"IF(語言配置表!A126=\"\",\"\",語言配置表!A126)","v":1014033},{"$f":"IF(語言配置表!A126=\"\",\"CN_待填充内容\",語言配置表!B126)","v":"朱雀燎原指"}]
[{"$f":"IF(語言配置表!A127=\"\",\"\",語言配置表!A127)","v":1014034},{"$f":"IF(語言配置表!A127=\"\",\"CN_待填充内容\",語言配置表!B127)","v":"朱雀燎原指"}]
[{"$f":"IF(語言配置表!A128=\"\",\"\",語言配置表!A128)","v":1014035},{"$f":"IF(語言配置表!A128=\"\",\"CN_待填充内容\",語言配置表!B128)","v":"朱雀燎原指"}]
[{"$f":"IF(語言配置表!A129=\"\",\"\",語言配置表!A129)","v":""},{"$f":"IF(語言配置表!A129=\"\",\"CN_待填充内容\",語言配置表!B129)","v":"CN_待填充内容"}]
[{"$f":"IF(語言配置表!A130=\"\",\"\",語言配置表!A130)","v":1014040},{"$f":"IF(語言配置表!A130=\"\",\"CN_待填充内容\",語言配置表!B130)","v":"火球"}]
[{"$f":"IF(語言配置表!A131=\"\",\"\",語言配置表!A131)","v":1014041},{"$f":"IF(語言配置表!A131=\"\",\"CN_待填充内容\",語言配置表!B131)","v":"火球"}]
[{"$f":"IF(語言配置表!A132=\"\",\"\",語言配置表!A132)","v":1014042},{"$f":"IF(語言配置表!A132=\"\",\"CN_待填充内容\",語言配置表!B132)","v":"火球"}]
[{"$f":"IF(語言配置表!A133=\"\",\"\",語言配置表!A133)","v":1014043},{"$f":"IF(語言配置表!A133=\"\",\"CN_待填充内容\",語言配置表!B133)","v":"火球"}]
[{"$f":"IF(語言配置表!A134=\"\",\"\",語言配置表!A134)","v":1014044},{"$f":"IF(語言配置表!A134=\"\",\"CN_待填充内容\",語言配置表!B134)","v":"火球"}]
[{"$f":"IF(語言配置表!A135=\"\",\"\",語言配置表!A135)","v":1014045},{"$f":"IF(語言配置表!A135=\"\",\"CN_待填充内容\",語言配置表!B135)","v":"火球"}]
[{"$f":"IF(語言配置表!A136=\"\",\"\",語言配置表!A136)","v":""},{"$f":"IF(語言配置表!A136=\"\",\"CN_待填充内容\",語言配置表!B136)","v":"CN_待填充内容"}]
[{"$f":"IF(語言配置表!A137=\"\",\"\",語言配置表!A137)","v":1014050},{"$f":"IF(語言配置表!A137=\"\",\"CN_待填充内容\",語言配置表!B137)","v":"火刀"}]
[{"$f":"IF(語言配置表!A138=\"\",\"\",語言配置表!A138)","v":1014051},{"$f":"IF(語言配置表!A138=\"\",\"CN_待填充内容\",語言配置表!B138)","v":"火刀"}]
[{"$f":"IF(語言配置表!A139=\"\",\"\",語言配置表!A139)","v":1014052},{"$f":"IF(語言配置表!A139=\"\",\"CN_待填充内容\",語言配置表!B139)","v":"火刀"}]
[{"$f":"IF(語言配置表!A140=\"\",\"\",語言配置表!A140)","v":1014053},{"$f":"IF(語言配置表!A140=\"\",\"CN_待填充内容\",語言配置表!B140)","v":"火刀"}]
[{"$f":"IF(語言配置表!A141=\"\",\"\",語言配置表!A141)","v":1014054},{"$f":"IF(語言配置表!A141=\"\",\"CN_待填充内容\",語言配置表!B141)","v":"火刀"}]
[{"$f":"IF(語言配置表!A142=\"\",\"\",語言配置表!A142)","v":1014055},{"$f":"IF(語言配置表!A142=\"\",\"CN_待填充内容\",語言配置表!B142)","v":"火刀"}]
[{"$f":"IF(語言配置表!A143=\"\",\"\",語言配置表!A143)","v":""},{"$f":"IF(語言配置表!A143=\"\",\"CN_待填充内容\",語言配置表!B143)","v":"CN_待填充内容"}]
[{"$f":"IF(語言配置表!A144=\"\",\"\",語言配置表!A144)","v":1015010},{"$f":"IF(語言配置表!A144=\"\",\"CN_待填充内容\",語言配置表!B144)","v":"黄尘灭魂刺"}]
[{"$f":"IF(語言配置表!A145=\"\",\"\",語言配置表!A145)","v":1015011},{"$f":"IF(語言配置表!A145=\"\",\"CN_待填充内容\",語言配置表!B145)","v":"黄尘灭魂刺"}]
[{"$f":"IF(語言配置表!A146=\"\",\"\",語言配置表!A146)","v":1015012},{"$f":"IF(語言配置表!A146=\"\",\"CN_待填充内容\",語言配置表!B146)","v":"黄尘灭魂刺"}]
[{"$f":"IF(語言配置表!A147=\"\",\"\",語言配置表!A147)","v":1015013},{"$f":"IF(語言配置表!A147=\"\",\"CN_待填充内容\",語言配置表!B147)","v":"黄尘灭魂刺"}]
[{"$f":"IF(語言配置表!A148=\"\",\"\",語言配置表!A148)","v":1015014},{"$f":"IF(語言配置表!A148=\"\",\"CN_待填充内容\",語言配置表!B148)","v":"黄尘灭魂刺"}]
[{"$f":"IF(語言配置表!A149=\"\",\"\",語言配置表!A149)","v":1015015},{"$f":"IF(語言配置表!A149=\"\",\"CN_待填充内容\",語言配置表!B149)","v":"黄尘灭魂刺"}]
[{"$f":"IF(語言配置表!A150=\"\",\"\",語言配置表!A150)","v":""},{"$f":"IF(語言配置表!A150=\"\",\"CN_待填充内容\",語言配置表!B150)","v":"CN_待填充内容"}]
[{"$f":"IF(語言配置表!A151=\"\",\"\",語言配置表!A151)","v":1015020},{"$f":"IF(語言配置表!A151=\"\",\"CN_待填充内容\",語言配置表!B151)","v":"地裂屠龙斩"}]
[{"$f":"IF(語言配置表!A152=\"\",\"\",語言配置表!A152)","v":1015021},{"$f":"IF(語言配置表!A152=\"\",\"CN_待填充内容\",語言配置表!B152)","v":"地裂屠龙斩"}]
[{"$f":"IF(語言配置表!A153=\"\",\"\",語言配置表!A153)","v":1015022},{"$f":"IF(語言配置表!A153=\"\",\"CN_待填充内容\",語言配置表!B153)","v":"地裂屠龙斩"}]
[{"$f":"IF(語言配置表!A154=\"\",\"\",語言配置表!A154)","v":1015023},{"$f":"IF(語言配置表!A154=\"\",\"CN_待填充内容\",語言配置表!B154)","v":"地裂屠龙斩"}]
[{"$f":"IF(語言配置表!A155=\"\",\"\",語言配置表!A155)","v":1015024},{"$f":"IF(語言配置表!A155=\"\",\"CN_待填充内容\",語言配置表!B155)","v":"地裂屠龙斩"}]
[{"$f":"IF(語言配置表!A156=\"\",\"\",語言配置表!A156)","v":1015025},{"$f":"IF(語言配置表!A156=\"\",\"CN_待填充内容\",語言配置表!B156)","v":"地裂屠龙斩"}]
[{"$f":"IF(語言配置表!A157=\"\",\"\",語言配置表!A157)","v":""},{"$f":"IF(語言配置表!A157=\"\",\"CN_待填充内容\",語言配置表!B157)","v":"CN_待填充内容"}]
[{"$f":"IF(語言配置表!A158=\"\",\"\",語言配置表!A158)","v":""},{"$f":"IF(語言配置表!A158=\"\",\"CN_待填充内容\",語言配置表!B158)","v":"CN_待填充内容"}]
[{"$f":"IF(語言配置表!A159=\"\",\"\",語言配置表!A159)","v":""},{"$f":"IF(語言配置表!A159=\"\",\"CN_待填充内容\",語言配置表!B159)","v":"CN_待填充内容"}]
[{"$f":"IF(語言配置表!A160=\"\",\"\",語言配置表!A160)","v":""},{"$f":"IF(語言配置表!A160=\"\",\"CN_待填充内容\",語言配置表!B160)","v":"CN_待填充内容"}]
[{"$f":"IF(語言配置表!A161=\"\",\"\",語言配置表!A161)","v":""},{"$f":"IF(語言配置表!A161=\"\",\"CN_待填充内容\",語言配置表!B161)","v":"CN_待填充内容"}]
[{"$f":"IF(語言配置表!A162=\"\",\"\",語言配置表!A162)","v":""},{"$f":"IF(語言配置表!A162=\"\",\"CN_待填充内容\",語言配置表!B162)","v":"CN_待填充内容"}]
[{"$f":"IF(語言配置表!A163=\"\",\"\",語言配置表!A163)","v":""},{"$f":"IF(語言配置表!A163=\"\",\"CN_待填充内容\",語言配置表!B163)","v":"CN_待填充内容"}]
[{"$f":"IF(語言配置表!A164=\"\",\"\",語言配置表!A164)","v":""},{"$f":"IF(語言配置表!A164=\"\",\"CN_待填充内容\",語言配置表!B164)","v":"CN_待填充内容"}]
[{"$f":"IF(語言配置表!A165=\"\",\"\",語言配置表!A165)","v":1015040},{"$f":"IF(語言配置表!A165=\"\",\"CN_待填充内容\",語言配置表!B165)","v":"落石"}]
[{"$f":"IF(語言配置表!A166=\"\",\"\",語言配置表!A166)","v":1015041},{"$f":"IF(語言配置表!A166=\"\",\"CN_待填充内容\",語言配置表!B166)","v":"落石"}]
[{"$f":"IF(語言配置表!A167=\"\",\"\",語言配置表!A167)","v":1015042},{"$f":"IF(語言配置表!A167=\"\",\"CN_待填充内容\",語言配置表!B167)","v":"落石"}]
[{"$f":"IF(語言配置表!A168=\"\",\"\",語言配置表!A168)","v":1015043},{"$f":"IF(語言配置表!A168=\"\",\"CN_待填充内容\",語言配置表!B168)","v":"落石"}]
[{"$f":"IF(語言配置表!A169=\"\",\"\",語言配置表!A169)","v":1015044},{"$f":"IF(語言配置表!A169=\"\",\"CN_待填充内容\",語言配置表!B169)","v":"落石"}]
[{"$f":"IF(語言配置表!A170=\"\",\"\",語言配置表!A170)","v":1015045},{"$f":"IF(語言配置表!A170=\"\",\"CN_待填充内容\",語言配置表!B170)","v":"落石"}]
[{"$f":"IF(語言配置表!A171=\"\",\"\",語言配置表!A171)","v":""},{"$f":"IF(語言配置表!A171=\"\",\"CN_待填充内容\",語言配置表!B171)","v":"CN_待填充内容"}]
[{"$f":"IF(語言配置表!A172=\"\",\"\",語言配置表!A172)","v":1015050},{"$f":"IF(語言配置表!A172=\"\",\"CN_待填充内容\",語言配置表!B172)","v":"小石头"}]
[{"$f":"IF(語言配置表!A173=\"\",\"\",語言配置表!A173)","v":1015051},{"$f":"IF(語言配置表!A173=\"\",\"CN_待填充内容\",語言配置表!B173)","v":"小石头"}]
[{"$f":"IF(語言配置表!A174=\"\",\"\",語言配置表!A174)","v":1015052},{"$f":"IF(語言配置表!A174=\"\",\"CN_待填充内容\",語言配置表!B174)","v":"小石头"}]
[{"$f":"IF(語言配置表!A175=\"\",\"\",語言配置表!A175)","v":1015053},{"$f":"IF(語言配置表!A175=\"\",\"CN_待填充内容\",語言配置表!B175)","v":"小石头"}]
[{"$f":"IF(語言配置表!A176=\"\",\"\",語言配置表!A176)","v":1015054},{"$f":"IF(語言配置表!A176=\"\",\"CN_待填充内容\",語言配置表!B176)","v":"小石头"}]
[{"$f":"IF(語言配置表!A177=\"\",\"\",語言配置表!A177)","v":1015055},{"$f":"IF(語言配置表!A177=\"\",\"CN_待填充内容\",語言配置表!B177)","v":"小石头"}]
[{"$f":"IF(語言配置表!A178=\"\",\"\",語言配置表!A178)","v":""},{"$f":"IF(語言配置表!A178=\"\",\"CN_待填充内容\",語言配置表!B178)","v":"CN_待填充内容"}]
[{"$f":"IF(語言配置表!A179=\"\",\"\",語言配置表!A179)","v":""},{"$f":"IF(語言配置表!A179=\"\",\"CN_待填充内容\",語言配置表!B179)","v":"CN_待填充内容"}]
[{"$f":"IF(語言配置表!A180=\"\",\"\",語言配置表!A180)","v":1020010},{"$f":"IF(語言配置表!A180=\"\",\"CN_待填充内容\",語言配置表!B180)","v":"天衍星辰诀"}]
[{"$f":"IF(語言配置表!A181=\"\",\"\",語言配置表!A181)","v":1020011},{"$f":"IF(語言配置表!A181=\"\",\"CN_待填充内容\",語言配置表!B181)","v":"天衍星辰诀"}]
[{"$f":"IF(語言配置表!A182=\"\",\"\",語言配置表!A182)","v":1020012},{"$f":"IF(語言配置表!A182=\"\",\"CN_待填充内容\",語言配置表!B182)","v":"天衍星辰诀"}]
[{"$f":"IF(語言配置表!A183=\"\",\"\",語言配置表!A183)","v":1020013},{"$f":"IF(語言配置表!A183=\"\",\"CN_待填充内容\",語言配置表!B183)","v":"天衍星辰诀"}]
[{"$f":"IF(語言配置表!A184=\"\",\"\",語言配置表!A184)","v":1020014},{"$f":"IF(語言配置表!A184=\"\",\"CN_待填充内容\",語言配置表!B184)","v":"天衍星辰诀"}]
[{"$f":"IF(語言配置表!A185=\"\",\"\",語言配置表!A185)","v":1020015},{"$f":"IF(語言配置表!A185=\"\",\"CN_待填充内容\",語言配置表!B185)","v":"天衍星辰诀"}]
[{"$f":"IF(語言配置表!A186=\"\",\"\",語言配置表!A186)","v":""},{"$f":"IF(語言配置表!A186=\"\",\"CN_待填充内容\",語言配置表!B186)","v":"CN_待填充内容"}]
[{"$f":"IF(語言配置表!A187=\"\",\"\",語言配置表!A187)","v":1020020},{"$f":"IF(語言配置表!A187=\"\",\"CN_待填充内容\",語言配置表!B187)","v":"法宝秘籍"}]
[{"$f":"IF(語言配置表!A188=\"\",\"\",語言配置表!A188)","v":1020021},{"$f":"IF(語言配置表!A188=\"\",\"CN_待填充内容\",語言配置表!B188)","v":"法宝秘籍"}]
[{"$f":"IF(語言配置表!A189=\"\",\"\",語言配置表!A189)","v":1020022},{"$f":"IF(語言配置表!A189=\"\",\"CN_待填充内容\",語言配置表!B189)","v":"法宝秘籍"}]
[{"$f":"IF(語言配置表!A190=\"\",\"\",語言配置表!A190)","v":1020023},{"$f":"IF(語言配置表!A190=\"\",\"CN_待填充内容\",語言配置表!B190)","v":"法宝秘籍"}]
[{"$f":"IF(語言配置表!A191=\"\",\"\",語言配置表!A191)","v":1020024},{"$f":"IF(語言配置表!A191=\"\",\"CN_待填充内容\",語言配置表!B191)","v":"法宝秘籍"}]
[{"$f":"IF(語言配置表!A192=\"\",\"\",語言配置表!A192)","v":1020025},{"$f":"IF(語言配置表!A192=\"\",\"CN_待填充内容\",語言配置表!B192)","v":"法宝秘籍"}]
[{"$f":"IF(語言配置表!A193=\"\",\"\",語言配置表!A193)","v":""},{"$f":"IF(語言配置表!A193=\"\",\"CN_待填充内容\",語言配置表!B193)","v":"CN_待填充内容"}]
[{"$f":"IF(語言配置表!A194=\"\",\"\",語言配置表!A194)","v":1020030},{"$f":"IF(語言配置表!A194=\"\",\"CN_待填充内容\",語言配置表!B194)","v":"崩脉决"}]
[{"$f":"IF(語言配置表!A195=\"\",\"\",語言配置表!A195)","v":1020031},{"$f":"IF(語言配置表!A195=\"\",\"CN_待填充内容\",語言配置表!B195)","v":"崩脉决"}]
[{"$f":"IF(語言配置表!A196=\"\",\"\",語言配置表!A196)","v":1020032},{"$f":"IF(語言配置表!A196=\"\",\"CN_待填充内容\",語言配置表!B196)","v":"崩脉决"}]
[{"$f":"IF(語言配置表!A197=\"\",\"\",語言配置表!A197)","v":1020033},{"$f":"IF(語言配置表!A197=\"\",\"CN_待填充内容\",語言配置表!B197)","v":"崩脉决"}]
[{"$f":"IF(語言配置表!A198=\"\",\"\",語言配置表!A198)","v":1020034},{"$f":"IF(語言配置表!A198=\"\",\"CN_待填充内容\",語言配置表!B198)","v":"崩脉决"}]
[{"$f":"IF(語言配置表!A199=\"\",\"\",語言配置表!A199)","v":1020035},{"$f":"IF(語言配置表!A199=\"\",\"CN_待填充内容\",語言配置表!B199)","v":"崩脉决"}]
[{"$f":"IF(語言配置表!A200=\"\",\"\",語言配置表!A200)","v":""},{"$f":"IF(語言配置表!A200=\"\",\"CN_待填充内容\",語言配置表!B200)","v":"CN_待填充内容"}]
[{"$f":"IF(語言配置表!A201=\"\",\"\",語言配置表!A201)","v":1020040},{"$f":"IF(語言配置表!A201=\"\",\"CN_待填充内容\",語言配置表!B201)","v":"两仪决"}]
[{"$f":"IF(語言配置表!A202=\"\",\"\",語言配置表!A202)","v":1020041},{"$f":"IF(語言配置表!A202=\"\",\"CN_待填充内容\",語言配置表!B202)","v":"两仪决"}]
[{"$f":"IF(語言配置表!A203=\"\",\"\",語言配置表!A203)","v":1020042},{"$f":"IF(語言配置表!A203=\"\",\"CN_待填充内容\",語言配置表!B203)","v":"两仪决"}]
[{"$f":"IF(語言配置表!A204=\"\",\"\",語言配置表!A204)","v":1020043},{"$f":"IF(語言配置表!A204=\"\",\"CN_待填充内容\",語言配置表!B204)","v":"两仪决"}]
[{"$f":"IF(語言配置表!A205=\"\",\"\",語言配置表!A205)","v":1020044},{"$f":"IF(語言配置表!A205=\"\",\"CN_待填充内容\",語言配置表!B205)","v":"两仪决"}]
[{"$f":"IF(語言配置表!A206=\"\",\"\",語言配置表!A206)","v":1020045},{"$f":"IF(語言配置表!A206=\"\",\"CN_待填充内容\",語言配置表!B206)","v":"两仪决"}]
[{"$f":"IF(語言配置表!A207=\"\",\"\",語言配置表!A207)","v":""},{"$f":"IF(語言配置表!A207=\"\",\"CN_待填充内容\",語言配置表!B207)","v":"CN_待填充内容"}]
[{"$f":"IF(語言配置表!A208=\"\",\"\",語言配置表!A208)","v":1020050},{"$f":"IF(語言配置表!A208=\"\",\"CN_待填充内容\",語言配置表!B208)","v":"火焰决"}]
[{"$f":"IF(語言配置表!A209=\"\",\"\",語言配置表!A209)","v":1020051},{"$f":"IF(語言配置表!A209=\"\",\"CN_待填充内容\",語言配置表!B209)","v":"火焰决"}]
[{"$f":"IF(語言配置表!A210=\"\",\"\",語言配置表!A210)","v":1020052},{"$f":"IF(語言配置表!A210=\"\",\"CN_待填充内容\",語言配置表!B210)","v":"火焰决"}]
[{"$f":"IF(語言配置表!A211=\"\",\"\",語言配置表!A211)","v":1020053},{"$f":"IF(語言配置表!A211=\"\",\"CN_待填充内容\",語言配置表!B211)","v":"火焰决"}]
[{"$f":"IF(語言配置表!A212=\"\",\"\",語言配置表!A212)","v":1020054},{"$f":"IF(語言配置表!A212=\"\",\"CN_待填充内容\",語言配置表!B212)","v":"火焰决"}]
[{"$f":"IF(語言配置表!A213=\"\",\"\",語言配置表!A213)","v":1020055},{"$f":"IF(語言配置表!A213=\"\",\"CN_待填充内容\",語言配置表!B213)","v":"火焰决"}]
[{"$f":"IF(語言配置表!A214=\"\",\"\",語言配置表!A214)","v":""},{"$f":"IF(語言配置表!A214=\"\",\"CN_待填充内容\",語言配置表!B214)","v":"CN_待填充内容"}]
[{"$f":"IF(語言配置表!A215=\"\",\"\",語言配置表!A215)","v":1020060},{"$f":"IF(語言配置表!A215=\"\",\"CN_待填充内容\",語言配置表!B215)","v":"乾坤巨灵诀"}]
[{"$f":"IF(語言配置表!A216=\"\",\"\",語言配置表!A216)","v":1020061},{"$f":"IF(語言配置表!A216=\"\",\"CN_待填充内容\",語言配置表!B216)","v":"乾坤巨灵诀"}]
[{"$f":"IF(語言配置表!A217=\"\",\"\",語言配置表!A217)","v":1020062},{"$f":"IF(語言配置表!A217=\"\",\"CN_待填充内容\",語言配置表!B217)","v":"乾坤巨灵诀"}]
[{"$f":"IF(語言配置表!A218=\"\",\"\",語言配置表!A218)","v":1020063},{"$f":"IF(語言配置表!A218=\"\",\"CN_待填充内容\",語言配置表!B218)","v":"乾坤巨灵诀"}]
[{"$f":"IF(語言配置表!A219=\"\",\"\",語言配置表!A219)","v":1020064},{"$f":"IF(語言配置表!A219=\"\",\"CN_待填充内容\",語言配置表!B219)","v":"乾坤巨灵诀"}]
[{"$f":"IF(語言配置表!A220=\"\",\"\",語言配置表!A220)","v":1020065},{"$f":"IF(語言配置表!A220=\"\",\"CN_待填充内容\",語言配置表!B220)","v":"乾坤巨灵诀"}]
[{"$f":"IF(語言配置表!A221=\"\",\"\",語言配置表!A221)","v":""},{"$f":"IF(語言配置表!A221=\"\",\"CN_待填充内容\",語言配置表!B221)","v":"CN_待填充内容"}]
[{"$f":"IF(語言配置表!A222=\"\",\"\",語言配置表!A222)","v":1020070},{"$f":"IF(語言配置表!A222=\"\",\"CN_待填充内容\",語言配置表!B222)","v":"疾风法印"}]
[{"$f":"IF(語言配置表!A223=\"\",\"\",語言配置表!A223)","v":1020071},{"$f":"IF(語言配置表!A223=\"\",\"CN_待填充内容\",語言配置表!B223)","v":"疾风法印"}]
[{"$f":"IF(語言配置表!A224=\"\",\"\",語言配置表!A224)","v":1020072},{"$f":"IF(語言配置表!A224=\"\",\"CN_待填充内容\",語言配置表!B224)","v":"疾风法印"}]
[{"$f":"IF(語言配置表!A225=\"\",\"\",語言配置表!A225)","v":1020073},{"$f":"IF(語言配置表!A225=\"\",\"CN_待填充内容\",語言配置表!B225)","v":"疾风法印"}]
[{"$f":"IF(語言配置表!A226=\"\",\"\",語言配置表!A226)","v":1020074},{"$f":"IF(語言配置表!A226=\"\",\"CN_待填充内容\",語言配置表!B226)","v":"疾风法印"}]
[{"$f":"IF(語言配置表!A227=\"\",\"\",語言配置表!A227)","v":1020075},{"$f":"IF(語言配置表!A227=\"\",\"CN_待填充内容\",語言配置表!B227)","v":"疾风法印"}]
[{"$f":"IF(語言配置表!A228=\"\",\"\",語言配置表!A228)","v":""},{"$f":"IF(語言配置表!A228=\"\",\"CN_待填充内容\",語言配置表!B228)","v":"CN_待填充内容"}]
[{"$f":"IF(語言配置表!A229=\"\",\"\",語言配置表!A229)","v":1020080},{"$f":"IF(語言配置表!A229=\"\",\"CN_待填充内容\",語言配置表!B229)","v":"太虚剑意"}]
[{"$f":"IF(語言配置表!A230=\"\",\"\",語言配置表!A230)","v":1020081},{"$f":"IF(語言配置表!A230=\"\",\"CN_待填充内容\",語言配置表!B230)","v":"太虚剑意"}]
[{"$f":"IF(語言配置表!A231=\"\",\"\",語言配置表!A231)","v":1020082},{"$f":"IF(語言配置表!A231=\"\",\"CN_待填充内容\",語言配置表!B231)","v":"太虚剑意"}]
[{"$f":"IF(語言配置表!A232=\"\",\"\",語言配置表!A232)","v":1020083},{"$f":"IF(語言配置表!A232=\"\",\"CN_待填充内容\",語言配置表!B232)","v":"太虚剑意"}]
[{"$f":"IF(語言配置表!A233=\"\",\"\",語言配置表!A233)","v":1020084},{"$f":"IF(語言配置表!A233=\"\",\"CN_待填充内容\",語言配置表!B233)","v":"太虚剑意"}]
[{"$f":"IF(語言配置表!A234=\"\",\"\",語言配置表!A234)","v":1020085},{"$f":"IF(語言配置表!A234=\"\",\"CN_待填充内容\",語言配置表!B234)","v":"太虚剑意"}]
[{"$f":"IF(語言配置表!A235=\"\",\"\",語言配置表!A235)","v":""},{"$f":"IF(語言配置表!A235=\"\",\"CN_待填充内容\",語言配置表!B235)","v":"CN_待填充内容"}]
[{"$f":"IF(語言配置表!A236=\"\",\"\",語言配置表!A236)","v":1020090},{"$f":"IF(語言配置表!A236=\"\",\"CN_待填充内容\",語言配置表!B236)","v":"青莲净体诀"}]
[{"$f":"IF(語言配置表!A237=\"\",\"\",語言配置表!A237)","v":1020091},{"$f":"IF(語言配置表!A237=\"\",\"CN_待填充内容\",語言配置表!B237)","v":"青莲净体诀"}]
[{"$f":"IF(語言配置表!A238=\"\",\"\",語言配置表!A238)","v":1020092},{"$f":"IF(語言配置表!A238=\"\",\"CN_待填充内容\",語言配置表!B238)","v":"青莲净体诀"}]
[{"$f":"IF(語言配置表!A239=\"\",\"\",語言配置表!A239)","v":1020093},{"$f":"IF(語言配置表!A239=\"\",\"CN_待填充内容\",語言配置表!B239)","v":"青莲净体诀"}]
[{"$f":"IF(語言配置表!A240=\"\",\"\",語言配置表!A240)","v":1020094},{"$f":"IF(語言配置表!A240=\"\",\"CN_待填充内容\",語言配置表!B240)","v":"青莲净体诀"}]
[{"$f":"IF(語言配置表!A241=\"\",\"\",語言配置表!A241)","v":1020095},{"$f":"IF(語言配置表!A241=\"\",\"CN_待填充内容\",語言配置表!B241)","v":"青莲净体诀"}]
[{"$f":"IF(語言配置表!A242=\"\",\"\",語言配置表!A242)","v":""},{"$f":"IF(語言配置表!A242=\"\",\"CN_待填充内容\",語言配置表!B242)","v":"CN_待填充内容"}]
[{"$f":"IF(語言配置表!A243=\"\",\"\",語言配置表!A243)","v":1020100},{"$f":"IF(語言配置表!A243=\"\",\"CN_待填充内容\",語言配置表!B243)","v":"碧霄回春术"}]
[{"$f":"IF(語言配置表!A244=\"\",\"\",語言配置表!A244)","v":1020101},{"$f":"IF(語言配置表!A244=\"\",\"CN_待填充内容\",語言配置表!B244)","v":"碧霄回春术"}]
[{"$f":"IF(語言配置表!A245=\"\",\"\",語言配置表!A245)","v":1020102},{"$f":"IF(語言配置表!A245=\"\",\"CN_待填充内容\",語言配置表!B245)","v":"碧霄回春术"}]
[{"$f":"IF(語言配置表!A246=\"\",\"\",語言配置表!A246)","v":1020103},{"$f":"IF(語言配置表!A246=\"\",\"CN_待填充内容\",語言配置表!B246)","v":"碧霄回春术"}]
[{"$f":"IF(語言配置表!A247=\"\",\"\",語言配置表!A247)","v":1020104},{"$f":"IF(語言配置表!A247=\"\",\"CN_待填充内容\",語言配置表!B247)","v":"碧霄回春术"}]
[{"$f":"IF(語言配置表!A248=\"\",\"\",語言配置表!A248)","v":1020105},{"$f":"IF(語言配置表!A248=\"\",\"CN_待填充内容\",語言配置表!B248)","v":"碧霄回春术"}]
[{"$f":"IF(語言配置表!A249=\"\",\"\",語言配置表!A249)","v":""},{"$f":"IF(語言配置表!A249=\"\",\"CN_待填充内容\",語言配置表!B249)","v":"CN_待填充内容"}]
[{"$f":"IF(語言配置表!A250=\"\",\"\",語言配置表!A250)","v":1020110},{"$f":"IF(語言配置表!A250=\"\",\"CN_待填充内容\",語言配置表!B250)","v":"血祭神通"}]
[{"$f":"IF(語言配置表!A251=\"\",\"\",語言配置表!A251)","v":1020111},{"$f":"IF(語言配置表!A251=\"\",\"CN_待填充内容\",語言配置表!B251)","v":"血祭神通"}]
[{"$f":"IF(語言配置表!A252=\"\",\"\",語言配置表!A252)","v":1020112},{"$f":"IF(語言配置表!A252=\"\",\"CN_待填充内容\",語言配置表!B252)","v":"血祭神通"}]
[{"$f":"IF(語言配置表!A253=\"\",\"\",語言配置表!A253)","v":1020113},{"$f":"IF(語言配置表!A253=\"\",\"CN_待填充内容\",語言配置表!B253)","v":"血祭神通"}]
[{"$f":"IF(語言配置表!A254=\"\",\"\",語言配置表!A254)","v":1020114},{"$f":"IF(語言配置表!A254=\"\",\"CN_待填充内容\",語言配置表!B254)","v":"血祭神通"}]
[{"$f":"IF(語言配置表!A255=\"\",\"\",語言配置表!A255)","v":1020115},{"$f":"IF(語言配置表!A255=\"\",\"CN_待填充内容\",語言配置表!B255)","v":"血祭神通"}]
[{"$f":"IF(語言配置表!A256=\"\",\"\",語言配置表!A256)","v":""},{"$f":"IF(語言配置表!A256=\"\",\"CN_待填充内容\",語言配置表!B256)","v":"CN_待填充内容"}]
[{"$f":"IF(語言配置表!A257=\"\",\"\",語言配置表!A257)","v":1020120},{"$f":"IF(語言配置表!A257=\"\",\"CN_待填充内容\",語言配置表!B257)","v":"金煞决"}]
[{"$f":"IF(語言配置表!A258=\"\",\"\",語言配置表!A258)","v":1020121},{"$f":"IF(語言配置表!A258=\"\",\"CN_待填充内容\",語言配置表!B258)","v":"金煞决"}]
[{"$f":"IF(語言配置表!A259=\"\",\"\",語言配置表!A259)","v":1020122},{"$f":"IF(語言配置表!A259=\"\",\"CN_待填充内容\",語言配置表!B259)","v":"金煞决"}]
[{"$f":"IF(語言配置表!A260=\"\",\"\",語言配置表!A260)","v":1020123},{"$f":"IF(語言配置表!A260=\"\",\"CN_待填充内容\",語言配置表!B260)","v":"金煞决"}]
[{"$f":"IF(語言配置表!A261=\"\",\"\",語言配置表!A261)","v":1020124},{"$f":"IF(語言配置表!A261=\"\",\"CN_待填充内容\",語言配置表!B261)","v":"金煞决"}]
[{"$f":"IF(語言配置表!A262=\"\",\"\",語言配置表!A262)","v":1020125},{"$f":"IF(語言配置表!A262=\"\",\"CN_待填充内容\",語言配置表!B262)","v":"金煞决"}]
[{"$f":"IF(語言配置表!A263=\"\",\"\",語言配置表!A263)","v":""},{"$f":"IF(語言配置表!A263=\"\",\"CN_待填充内容\",語言配置表!B263)","v":"CN_待填充内容"}]
[{"$f":"IF(語言配置表!A264=\"\",\"\",語言配置表!A264)","v":1020130},{"$f":"IF(語言配置表!A264=\"\",\"CN_待填充内容\",語言配置表!B264)","v":"毒瘴领域"}]
[{"$f":"IF(語言配置表!A265=\"\",\"\",語言配置表!A265)","v":1020131},{"$f":"IF(語言配置表!A265=\"\",\"CN_待填充内容\",語言配置表!B265)","v":"毒瘴领域"}]
[{"$f":"IF(語言配置表!A266=\"\",\"\",語言配置表!A266)","v":1020132},{"$f":"IF(語言配置表!A266=\"\",\"CN_待填充内容\",語言配置表!B266)","v":"毒瘴领域"}]
[{"$f":"IF(語言配置表!A267=\"\",\"\",語言配置表!A267)","v":1020133},{"$f":"IF(語言配置表!A267=\"\",\"CN_待填充内容\",語言配置表!B267)","v":"毒瘴领域"}]
[{"$f":"IF(語言配置表!A268=\"\",\"\",語言配置表!A268)","v":1020134},{"$f":"IF(語言配置表!A268=\"\",\"CN_待填充内容\",語言配置表!B268)","v":"毒瘴领域"}]
[{"$f":"IF(語言配置表!A269=\"\",\"\",語言配置表!A269)","v":1020135},{"$f":"IF(語言配置表!A269=\"\",\"CN_待填充内容\",語言配置表!B269)","v":"毒瘴领域"}]
[{"$f":"IF(語言配置表!A270=\"\",\"\",語言配置表!A270)","v":""},{"$f":"IF(語言配置表!A270=\"\",\"CN_待填充内容\",語言配置表!B270)","v":"CN_待填充内容"}]
[{"$f":"IF(語言配置表!A271=\"\",\"\",語言配置表!A271)","v":1020140},{"$f":"IF(語言配置表!A271=\"\",\"CN_待填充内容\",語言配置表!B271)","v":"毒爆"}]
[{"$f":"IF(語言配置表!A272=\"\",\"\",語言配置表!A272)","v":1020141},{"$f":"IF(語言配置表!A272=\"\",\"CN_待填充内容\",語言配置表!B272)","v":"毒爆"}]
[{"$f":"IF(語言配置表!A273=\"\",\"\",語言配置表!A273)","v":1020142},{"$f":"IF(語言配置表!A273=\"\",\"CN_待填充内容\",語言配置表!B273)","v":"毒爆"}]
[{"$f":"IF(語言配置表!A274=\"\",\"\",語言配置表!A274)","v":1020143},{"$f":"IF(語言配置表!A274=\"\",\"CN_待填充内容\",語言配置表!B274)","v":"毒爆"}]
[{"$f":"IF(語言配置表!A275=\"\",\"\",語言配置表!A275)","v":1020144},{"$f":"IF(語言配置表!A275=\"\",\"CN_待填充内容\",語言配置表!B275)","v":"毒爆"}]
[{"$f":"IF(語言配置表!A276=\"\",\"\",語言配置表!A276)","v":1020145},{"$f":"IF(語言配置表!A276=\"\",\"CN_待填充内容\",語言配置表!B276)","v":"毒爆"}]
[{"$f":"IF(語言配置表!A277=\"\",\"\",語言配置表!A277)","v":""},{"$f":"IF(語言配置表!A277=\"\",\"CN_待填充内容\",語言配置表!B277)","v":"CN_待填充内容"}]
[{"$f":"IF(語言配置表!A278=\"\",\"\",語言配置表!A278)","v":1020150},{"$f":"IF(語言配置表!A278=\"\",\"CN_待填充内容\",語言配置表!B278)","v":"异常转移"}]
[{"$f":"IF(語言配置表!A279=\"\",\"\",語言配置表!A279)","v":1020151},{"$f":"IF(語言配置表!A279=\"\",\"CN_待填充内容\",語言配置表!B279)","v":"异常转移"}]
[{"$f":"IF(語言配置表!A280=\"\",\"\",語言配置表!A280)","v":1020152},{"$f":"IF(語言配置表!A280=\"\",\"CN_待填充内容\",語言配置表!B280)","v":"异常转移"}]
[{"$f":"IF(語言配置表!A281=\"\",\"\",語言配置表!A281)","v":1020153},{"$f":"IF(語言配置表!A281=\"\",\"CN_待填充内容\",語言配置表!B281)","v":"异常转移"}]
[{"$f":"IF(語言配置表!A282=\"\",\"\",語言配置表!A282)","v":1020154},{"$f":"IF(語言配置表!A282=\"\",\"CN_待填充内容\",語言配置表!B282)","v":"异常转移"}]
[{"$f":"IF(語言配置表!A283=\"\",\"\",語言配置表!A283)","v":1020155},{"$f":"IF(語言配置表!A283=\"\",\"CN_待填充内容\",語言配置表!B283)","v":"异常转移"}]
[{"$f":"IF(語言配置表!A284=\"\",\"\",語言配置表!A284)","v":""},{"$f":"IF(語言配置表!A284=\"\",\"CN_待填充内容\",語言配置表!B284)","v":"CN_待填充内容"}]
[{"$f":"IF(語言配置表!A285=\"\",\"\",語言配置表!A285)","v":1020160},{"$f":"IF(語言配置表!A285=\"\",\"CN_待填充内容\",語言配置表!B285)","v":"阴水"}]
[{"$f":"IF(語言配置表!A286=\"\",\"\",語言配置表!A286)","v":1020161},{"$f":"IF(語言配置表!A286=\"\",\"CN_待填充内容\",語言配置表!B286)","v":"阴水"}]
[{"$f":"IF(語言配置表!A287=\"\",\"\",語言配置表!A287)","v":1020162},{"$f":"IF(語言配置表!A287=\"\",\"CN_待填充内容\",語言配置表!B287)","v":"阴水"}]
[{"$f":"IF(語言配置表!A288=\"\",\"\",語言配置表!A288)","v":1020163},{"$f":"IF(語言配置表!A288=\"\",\"CN_待填充内容\",語言配置表!B288)","v":"阴水"}]
[{"$f":"IF(語言配置表!A289=\"\",\"\",語言配置表!A289)","v":1020164},{"$f":"IF(語言配置表!A289=\"\",\"CN_待填充内容\",語言配置表!B289)","v":"阴水"}]
[{"$f":"IF(語言配置表!A290=\"\",\"\",語言配置表!A290)","v":1020165},{"$f":"IF(語言配置表!A290=\"\",\"CN_待填充内容\",語言配置表!B290)","v":"阴水"}]
[{"$f":"IF(語言配置表!A291=\"\",\"\",語言配置表!A291)","v":""},{"$f":"IF(語言配置表!A291=\"\",\"CN_待填充内容\",語言配置表!B291)","v":"CN_待填充内容"}]
[{"$f":"IF(語言配置表!A292=\"\",\"\",語言配置表!A292)","v":1020170},{"$f":"IF(語言配置表!A292=\"\",\"CN_待填充内容\",語言配置表!B292)","v":"灵油"}]
[{"$f":"IF(語言配置表!A293=\"\",\"\",語言配置表!A293)","v":1020171},{"$f":"IF(語言配置表!A293=\"\",\"CN_待填充内容\",語言配置表!B293)","v":"灵油"}]
[{"$f":"IF(語言配置表!A294=\"\",\"\",語言配置表!A294)","v":1020172},{"$f":"IF(語言配置表!A294=\"\",\"CN_待填充内容\",語言配置表!B294)","v":"灵油"}]
[{"$f":"IF(語言配置表!A295=\"\",\"\",語言配置表!A295)","v":1020173},{"$f":"IF(語言配置表!A295=\"\",\"CN_待填充内容\",語言配置表!B295)","v":"灵油"}]
[{"$f":"IF(語言配置表!A296=\"\",\"\",語言配置表!A296)","v":1020174},{"$f":"IF(語言配置表!A296=\"\",\"CN_待填充内容\",語言配置表!B296)","v":"灵油"}]
[{"$f":"IF(語言配置表!A297=\"\",\"\",語言配置表!A297)","v":1020175},{"$f":"IF(語言配置表!A297=\"\",\"CN_待填充内容\",語言配置表!B297)","v":"灵油"}]
[{"$f":"IF(語言配置表!A298=\"\",\"\",語言配置表!A298)","v":""},{"$f":"IF(語言配置表!A298=\"\",\"CN_待填充内容\",語言配置表!B298)","v":"CN_待填充内容"}]
[{"$f":"IF(語言配置表!A299=\"\",\"\",語言配置表!A299)","v":1020180},{"$f":"IF(語言配置表!A299=\"\",\"CN_待填充内容\",語言配置表!B299)","v":"厚土护体"}]
[{"$f":"IF(語言配置表!A300=\"\",\"\",語言配置表!A300)","v":1020181},{"$f":"IF(語言配置表!A300=\"\",\"CN_待填充内容\",語言配置表!B300)","v":"厚土护体"}]
[{"$f":"IF(語言配置表!A301=\"\",\"\",語言配置表!A301)","v":1020182},{"$f":"IF(語言配置表!A301=\"\",\"CN_待填充内容\",語言配置表!B301)","v":"厚土护体"}]
[{"$f":"IF(語言配置表!A302=\"\",\"\",語言配置表!A302)","v":1020183},{"$f":"IF(語言配置表!A302=\"\",\"CN_待填充内容\",語言配置表!B302)","v":"厚土护体"}]
[{"$f":"IF(語言配置表!A303=\"\",\"\",語言配置表!A303)","v":1020184},{"$f":"IF(語言配置表!A303=\"\",\"CN_待填充内容\",語言配置表!B303)","v":"厚土护体"}]
[{"$f":"IF(語言配置表!A304=\"\",\"\",語言配置表!A304)","v":1020185},{"$f":"IF(語言配置表!A304=\"\",\"CN_待填充内容\",語言配置表!B304)","v":"厚土护体"}]
[{"$f":"IF(語言配置表!A305=\"\",\"\",語言配置表!A305)","v":""},{"$f":"IF(語言配置表!A305=\"\",\"CN_待填充内容\",語言配置表!B305)","v":"CN_待填充内容"}]
[{"$f":"IF(語言配置表!A306=\"\",\"\",語言配置表!A306)","v":1020190},{"$f":"IF(語言配置表!A306=\"\",\"CN_待填充内容\",語言配置表!B306)","v":"金沙"}]
[{"$f":"IF(語言配置表!A307=\"\",\"\",語言配置表!A307)","v":1020191},{"$f":"IF(語言配置表!A307=\"\",\"CN_待填充内容\",語言配置表!B307)","v":"金沙"}]
[{"$f":"IF(語言配置表!A308=\"\",\"\",語言配置表!A308)","v":1020192},{"$f":"IF(語言配置表!A308=\"\",\"CN_待填充内容\",語言配置表!B308)","v":"金沙"}]
[{"$f":"IF(語言配置表!A309=\"\",\"\",語言配置表!A309)","v":1020193},{"$f":"IF(語言配置表!A309=\"\",\"CN_待填充内容\",語言配置表!B309)","v":"金沙"}]
[{"$f":"IF(語言配置表!A310=\"\",\"\",語言配置表!A310)","v":1020194},{"$f":"IF(語言配置表!A310=\"\",\"CN_待填充内容\",語言配置表!B310)","v":"金沙"}]
[{"$f":"IF(語言配置表!A311=\"\",\"\",語言配置表!A311)","v":1020195},{"$f":"IF(語言配置表!A311=\"\",\"CN_待填充内容\",語言配置表!B311)","v":"金沙"}]
[{"$f":"IF(語言配置表!A312=\"\",\"\",語言配置表!A312)","v":""},{"$f":"IF(語言配置表!A312=\"\",\"CN_待填充内容\",語言配置表!B312)","v":"CN_待填充内容"}]
[{"$f":"IF(語言配置表!A313=\"\",\"\",語言配置表!A313)","v":""},{"$f":"IF(語言配置表!A313=\"\",\"CN_待填充内容\",語言配置表!B313)","v":"CN_待填充内容"}]
[{"$f":"IF(語言配置表!A314=\"\",\"\",語言配置表!A314)","v":1031010},{"$f":"IF(語言配置表!A314=\"\",\"CN_待填充内容\",語言配置表!B314)","v":"神龙鼎"}]
[{"$f":"IF(語言配置表!A315=\"\",\"\",語言配置表!A315)","v":1031011},{"$f":"IF(語言配置表!A315=\"\",\"CN_待填充内容\",語言配置表!B315)","v":"神龙鼎"}]
[{"$f":"IF(語言配置表!A316=\"\",\"\",語言配置表!A316)","v":1031012},{"$f":"IF(語言配置表!A316=\"\",\"CN_待填充内容\",語言配置表!B316)","v":"神龙鼎"}]
[{"$f":"IF(語言配置表!A317=\"\",\"\",語言配置表!A317)","v":1031013},{"$f":"IF(語言配置表!A317=\"\",\"CN_待填充内容\",語言配置表!B317)","v":"神龙鼎"}]
[{"$f":"IF(語言配置表!A318=\"\",\"\",語言配置表!A318)","v":1031014},{"$f":"IF(語言配置表!A318=\"\",\"CN_待填充内容\",語言配置表!B318)","v":"神龙鼎"}]
[{"$f":"IF(語言配置表!A319=\"\",\"\",語言配置表!A319)","v":1031015},{"$f":"IF(語言配置表!A319=\"\",\"CN_待填充内容\",語言配置表!B319)","v":"神龙鼎"}]
[{"$f":"IF(語言配置表!A320=\"\",\"\",語言配置表!A320)","v":""},{"$f":"IF(語言配置表!A320=\"\",\"CN_待填充内容\",語言配置表!B320)","v":"CN_待填充内容"}]
[{"$f":"IF(語言配置表!A321=\"\",\"\",語言配置表!A321)","v":1031020},{"$f":"IF(語言配置表!A321=\"\",\"CN_待填充内容\",語言配置表!B321)","v":"噬空齿刃"}]
[{"$f":"IF(語言配置表!A322=\"\",\"\",語言配置表!A322)","v":1031021},{"$f":"IF(語言配置表!A322=\"\",\"CN_待填充内容\",語言配置表!B322)","v":"噬空齿刃"}]
[{"$f":"IF(語言配置表!A323=\"\",\"\",語言配置表!A323)","v":1031022},{"$f":"IF(語言配置表!A323=\"\",\"CN_待填充内容\",語言配置表!B323)","v":"噬空齿刃"}]
[{"$f":"IF(語言配置表!A324=\"\",\"\",語言配置表!A324)","v":1031023},{"$f":"IF(語言配置表!A324=\"\",\"CN_待填充内容\",語言配置表!B324)","v":"噬空齿刃"}]
[{"$f":"IF(語言配置表!A325=\"\",\"\",語言配置表!A325)","v":1031024},{"$f":"IF(語言配置表!A325=\"\",\"CN_待填充内容\",語言配置表!B325)","v":"噬空齿刃"}]
[{"$f":"IF(語言配置表!A326=\"\",\"\",語言配置表!A326)","v":1031025},{"$f":"IF(語言配置表!A326=\"\",\"CN_待填充内容\",語言配置表!B326)","v":"噬空齿刃"}]
[{"$f":"IF(語言配置表!A327=\"\",\"\",語言配置表!A327)","v":""},{"$f":"IF(語言配置表!A327=\"\",\"CN_待填充内容\",語言配置表!B327)","v":"CN_待填充内容"}]
[{"$f":"IF(語言配置表!A328=\"\",\"\",語言配置表!A328)","v":1032010},{"$f":"IF(語言配置表!A328=\"\",\"CN_待填充内容\",語言配置表!B328)","v":"翡翠葫芦"}]
[{"$f":"IF(語言配置表!A329=\"\",\"\",語言配置表!A329)","v":1032011},{"$f":"IF(語言配置表!A329=\"\",\"CN_待填充内容\",語言配置表!B329)","v":"翡翠葫芦"}]
[{"$f":"IF(語言配置表!A330=\"\",\"\",語言配置表!A330)","v":1032012},{"$f":"IF(語言配置表!A330=\"\",\"CN_待填充内容\",語言配置表!B330)","v":"翡翠葫芦"}]
[{"$f":"IF(語言配置表!A331=\"\",\"\",語言配置表!A331)","v":1032013},{"$f":"IF(語言配置表!A331=\"\",\"CN_待填充内容\",語言配置表!B331)","v":"翡翠葫芦"}]
[{"$f":"IF(語言配置表!A332=\"\",\"\",語言配置表!A332)","v":1032014},{"$f":"IF(語言配置表!A332=\"\",\"CN_待填充内容\",語言配置表!B332)","v":"翡翠葫芦"}]
[{"$f":"IF(語言配置表!A333=\"\",\"\",語言配置表!A333)","v":1032015},{"$f":"IF(語言配置表!A333=\"\",\"CN_待填充内容\",語言配置表!B333)","v":"翡翠葫芦"}]
[{"$f":"IF(語言配置表!A334=\"\",\"\",語言配置表!A334)","v":""},{"$f":"IF(語言配置表!A334=\"\",\"CN_待填充内容\",語言配置表!B334)","v":"CN_待填充内容"}]
[{"$f":"IF(語言配置表!A335=\"\",\"\",語言配置表!A335)","v":1032020},{"$f":"IF(語言配置表!A335=\"\",\"CN_待填充内容\",語言配置表!B335)","v":"混沌珠"}]
[{"$f":"IF(語言配置表!A336=\"\",\"\",語言配置表!A336)","v":1032021},{"$f":"IF(語言配置表!A336=\"\",\"CN_待填充内容\",語言配置表!B336)","v":"混沌珠"}]
[{"$f":"IF(語言配置表!A337=\"\",\"\",語言配置表!A337)","v":1032022},{"$f":"IF(語言配置表!A337=\"\",\"CN_待填充内容\",語言配置表!B337)","v":"混沌珠"}]
[{"$f":"IF(語言配置表!A338=\"\",\"\",語言配置表!A338)","v":1032023},{"$f":"IF(語言配置表!A338=\"\",\"CN_待填充内容\",語言配置表!B338)","v":"混沌珠"}]
[{"$f":"IF(語言配置表!A339=\"\",\"\",語言配置表!A339)","v":1032024},{"$f":"IF(語言配置表!A339=\"\",\"CN_待填充内容\",語言配置表!B339)","v":"混沌珠"}]
[{"$f":"IF(語言配置表!A340=\"\",\"\",語言配置表!A340)","v":1032025},{"$f":"IF(語言配置表!A340=\"\",\"CN_待填充内容\",語言配置表!B340)","v":"混沌珠"}]
[{"$f":"IF(語言配置表!A341=\"\",\"\",語言配置表!A341)","v":""},{"$f":"IF(語言配置表!A341=\"\",\"CN_待填充内容\",語言配置表!B341)","v":"CN_待填充内容"}]
[{"$f":"IF(語言配置表!A342=\"\",\"\",語言配置表!A342)","v":1032030},{"$f":"IF(語言配置表!A342=\"\",\"CN_待填充内容\",語言配置表!B342)","v":"绝脉瓶"}]
[{"$f":"IF(語言配置表!A343=\"\",\"\",語言配置表!A343)","v":1032031},{"$f":"IF(語言配置表!A343=\"\",\"CN_待填充内容\",語言配置表!B343)","v":"绝脉瓶"}]
[{"$f":"IF(語言配置表!A344=\"\",\"\",語言配置表!A344)","v":1032032},{"$f":"IF(語言配置表!A344=\"\",\"CN_待填充内容\",語言配置表!B344)","v":"绝脉瓶"}]
[{"$f":"IF(語言配置表!A345=\"\",\"\",語言配置表!A345)","v":1032033},{"$f":"IF(語言配置表!A345=\"\",\"CN_待填充内容\",語言配置表!B345)","v":"绝脉瓶"}]
[{"$f":"IF(語言配置表!A346=\"\",\"\",語言配置表!A346)","v":1032034},{"$f":"IF(語言配置表!A346=\"\",\"CN_待填充内容\",語言配置表!B346)","v":"绝脉瓶"}]
[{"$f":"IF(語言配置表!A347=\"\",\"\",語言配置表!A347)","v":1032035},{"$f":"IF(語言配置表!A347=\"\",\"CN_待填充内容\",語言配置表!B347)","v":"绝脉瓶"}]
[{"$f":"IF(語言配置表!A348=\"\",\"\",語言配置表!A348)","v":""},{"$f":"IF(語言配置表!A348=\"\",\"CN_待填充内容\",語言配置表!B348)","v":"CN_待填充内容"}]
[{"$f":"IF(語言配置表!A349=\"\",\"\",語言配置表!A349)","v":1033010},{"$f":"IF(語言配置表!A349=\"\",\"CN_待填充内容\",語言配置表!B349)","v":"九幽镇魂瓶"}]
[{"$f":"IF(語言配置表!A350=\"\",\"\",語言配置表!A350)","v":1033011},{"$f":"IF(語言配置表!A350=\"\",\"CN_待填充内容\",語言配置表!B350)","v":"九幽镇魂瓶"}]
[{"$f":"IF(語言配置表!A351=\"\",\"\",語言配置表!A351)","v":1033012},{"$f":"IF(語言配置表!A351=\"\",\"CN_待填充内容\",語言配置表!B351)","v":"九幽镇魂瓶"}]
[{"$f":"IF(語言配置表!A352=\"\",\"\",語言配置表!A352)","v":1033013},{"$f":"IF(語言配置表!A352=\"\",\"CN_待填充内容\",語言配置表!B352)","v":"九幽镇魂瓶"}]
[{"$f":"IF(語言配置表!A353=\"\",\"\",語言配置表!A353)","v":1033014},{"$f":"IF(語言配置表!A353=\"\",\"CN_待填充内容\",語言配置表!B353)","v":"九幽镇魂瓶"}]
[{"$f":"IF(語言配置表!A354=\"\",\"\",語言配置表!A354)","v":1033015},{"$f":"IF(語言配置表!A354=\"\",\"CN_待填充内容\",語言配置表!B354)","v":"九幽镇魂瓶"}]
[{"$f":"IF(語言配置表!A355=\"\",\"\",語言配置表!A355)","v":""},{"$f":"IF(語言配置表!A355=\"\",\"CN_待填充内容\",語言配置表!B355)","v":"CN_待填充内容"}]
[{"$f":"IF(語言配置表!A356=\"\",\"\",語言配置表!A356)","v":1033020},{"$f":"IF(語言配置表!A356=\"\",\"CN_待填充内容\",語言配置表!B356)","v":"玉莲守心灯"}]
[{"$f":"IF(語言配置表!A357=\"\",\"\",語言配置表!A357)","v":1033021},{"$f":"IF(語言配置表!A357=\"\",\"CN_待填充内容\",語言配置表!B357)","v":"玉莲守心灯"}]
[{"$f":"IF(語言配置表!A358=\"\",\"\",語言配置表!A358)","v":1033022},{"$f":"IF(語言配置表!A358=\"\",\"CN_待填充内容\",語言配置表!B358)","v":"玉莲守心灯"}]
[{"$f":"IF(語言配置表!A359=\"\",\"\",語言配置表!A359)","v":1033023},{"$f":"IF(語言配置表!A359=\"\",\"CN_待填充内容\",語言配置表!B359)","v":"玉莲守心灯"}]
[{"$f":"IF(語言配置表!A360=\"\",\"\",語言配置表!A360)","v":1033024},{"$f":"IF(語言配置表!A360=\"\",\"CN_待填充内容\",語言配置表!B360)","v":"玉莲守心灯"}]
[{"$f":"IF(語言配置表!A361=\"\",\"\",語言配置表!A361)","v":1033025},{"$f":"IF(語言配置表!A361=\"\",\"CN_待填充内容\",語言配置表!B361)","v":"玉莲守心灯"}]
[{"$f":"IF(語言配置表!A362=\"\",\"\",語言配置表!A362)","v":""},{"$f":"IF(語言配置表!A362=\"\",\"CN_待填充内容\",語言配置表!B362)","v":"CN_待填充内容"}]
[{"$f":"IF(語言配置表!A363=\"\",\"\",語言配置表!A363)","v":1034010},{"$f":"IF(語言配置表!A363=\"\",\"CN_待填充内容\",語言配置表!B363)","v":"融灵塔"}]
[{"$f":"IF(語言配置表!A364=\"\",\"\",語言配置表!A364)","v":1034011},{"$f":"IF(語言配置表!A364=\"\",\"CN_待填充内容\",語言配置表!B364)","v":"融灵塔"}]
[{"$f":"IF(語言配置表!A365=\"\",\"\",語言配置表!A365)","v":1034012},{"$f":"IF(語言配置表!A365=\"\",\"CN_待填充内容\",語言配置表!B365)","v":"融灵塔"}]
[{"$f":"IF(語言配置表!A366=\"\",\"\",語言配置表!A366)","v":1034013},{"$f":"IF(語言配置表!A366=\"\",\"CN_待填充内容\",語言配置表!B366)","v":"融灵塔"}]
[{"$f":"IF(語言配置表!A367=\"\",\"\",語言配置表!A367)","v":1034014},{"$f":"IF(語言配置表!A367=\"\",\"CN_待填充内容\",語言配置表!B367)","v":"融灵塔"}]
[{"$f":"IF(語言配置表!A368=\"\",\"\",語言配置表!A368)","v":1034015},{"$f":"IF(語言配置表!A368=\"\",\"CN_待填充内容\",語言配置表!B368)","v":"融灵塔"}]
[{"$f":"IF(語言配置表!A369=\"\",\"\",語言配置表!A369)","v":""},{"$f":"IF(語言配置表!A369=\"\",\"CN_待填充内容\",語言配置表!B369)","v":"CN_待填充内容"}]
[{"$f":"IF(語言配置表!A370=\"\",\"\",語言配置表!A370)","v":1034020},{"$f":"IF(語言配置表!A370=\"\",\"CN_待填充内容\",語言配置表!B370)","v":"禁元珠"}]
[{"$f":"IF(語言配置表!A371=\"\",\"\",語言配置表!A371)","v":1034021},{"$f":"IF(語言配置表!A371=\"\",\"CN_待填充内容\",語言配置表!B371)","v":"禁元珠"}]
[{"$f":"IF(語言配置表!A372=\"\",\"\",語言配置表!A372)","v":1034022},{"$f":"IF(語言配置表!A372=\"\",\"CN_待填充内容\",語言配置表!B372)","v":"禁元珠"}]
[{"$f":"IF(語言配置表!A373=\"\",\"\",語言配置表!A373)","v":1034023},{"$f":"IF(語言配置表!A373=\"\",\"CN_待填充内容\",語言配置表!B373)","v":"禁元珠"}]
[{"$f":"IF(語言配置表!A374=\"\",\"\",語言配置表!A374)","v":1034024},{"$f":"IF(語言配置表!A374=\"\",\"CN_待填充内容\",語言配置表!B374)","v":"禁元珠"}]
[{"$f":"IF(語言配置表!A375=\"\",\"\",語言配置表!A375)","v":1034025},{"$f":"IF(語言配置表!A375=\"\",\"CN_待填充内容\",語言配置表!B375)","v":"禁元珠"}]
[{"$f":"IF(語言配置表!A376=\"\",\"\",語言配置表!A376)","v":""},{"$f":"IF(語言配置表!A376=\"\",\"CN_待填充内容\",語言配置表!B376)","v":"CN_待填充内容"}]
[{"$f":"IF(語言配置表!A377=\"\",\"\",語言配置表!A377)","v":1035010},{"$f":"IF(語言配置表!A377=\"\",\"CN_待填充内容\",語言配置表!B377)","v":"玄龟盾"}]
[{"$f":"IF(語言配置表!A378=\"\",\"\",語言配置表!A378)","v":1035011},{"$f":"IF(語言配置表!A378=\"\",\"CN_待填充内容\",語言配置表!B378)","v":"玄龟盾"}]
[{"$f":"IF(語言配置表!A379=\"\",\"\",語言配置表!A379)","v":1035012},{"$f":"IF(語言配置表!A379=\"\",\"CN_待填充内容\",語言配置表!B379)","v":"玄龟盾"}]
[{"$f":"IF(語言配置表!A380=\"\",\"\",語言配置表!A380)","v":1035013},{"$f":"IF(語言配置表!A380=\"\",\"CN_待填充内容\",語言配置表!B380)","v":"玄龟盾"}]
[{"$f":"IF(語言配置表!A381=\"\",\"\",語言配置表!A381)","v":1035014},{"$f":"IF(語言配置表!A381=\"\",\"CN_待填充内容\",語言配置表!B381)","v":"玄龟盾"}]
[{"$f":"IF(語言配置表!A382=\"\",\"\",語言配置表!A382)","v":1035015},{"$f":"IF(語言配置表!A382=\"\",\"CN_待填充内容\",語言配置表!B382)","v":"玄龟盾"}]
[{"$f":"IF(語言配置表!A383=\"\",\"\",語言配置表!A383)","v":""},{"$f":"IF(語言配置表!A383=\"\",\"CN_待填充内容\",語言配置表!B383)","v":"CN_待填充内容"}]
[{"$f":"IF(語言配置表!A384=\"\",\"\",語言配置表!A384)","v":1035020},{"$f":"IF(語言配置表!A384=\"\",\"CN_待填充内容\",語言配置表!B384)","v":"天殇血刃剑"}]
[{"$f":"IF(語言配置表!A385=\"\",\"\",語言配置表!A385)","v":1035021},{"$f":"IF(語言配置表!A385=\"\",\"CN_待填充内容\",語言配置表!B385)","v":"天殇血刃剑"}]
[{"$f":"IF(語言配置表!A386=\"\",\"\",語言配置表!A386)","v":1035022},{"$f":"IF(語言配置表!A386=\"\",\"CN_待填充内容\",語言配置表!B386)","v":"天殇血刃剑"}]
[{"$f":"IF(語言配置表!A387=\"\",\"\",語言配置表!A387)","v":1035023},{"$f":"IF(語言配置表!A387=\"\",\"CN_待填充内容\",語言配置表!B387)","v":"天殇血刃剑"}]
[{"$f":"IF(語言配置表!A388=\"\",\"\",語言配置表!A388)","v":1035024},{"$f":"IF(語言配置表!A388=\"\",\"CN_待填充内容\",語言配置表!B388)","v":"天殇血刃剑"}]
[{"$f":"IF(語言配置表!A389=\"\",\"\",語言配置表!A389)","v":1035025},{"$f":"IF(語言配置表!A389=\"\",\"CN_待填充内容\",語言配置表!B389)","v":"天殇血刃剑"}]
[{"$f":"IF(語言配置表!A390=\"\",\"\",語言配置表!A390)","v":""},{"$f":"IF(語言配置表!A390=\"\",\"CN_待填充内容\",語言配置表!B390)","v":"CN_待填充内容"}]
[{"$f":"IF(語言配置表!A391=\"\",\"\",語言配置表!A391)","v":""},{"$f":"IF(語言配置表!A391=\"\",\"CN_待填充内容\",語言配置表!B391)","v":"CN_待填充内容"}]
[{"$f":"IF(語言配置表!A392=\"\",\"\",語言配置表!A392)","v":1601011},{"$f":"IF(語言配置表!A392=\"\",\"CN_待填充内容\",語言配置表!B392)","v":"星辰道"}]
[{"$f":"IF(語言配置表!A393=\"\",\"\",語言配置表!A393)","v":1601021},{"$f":"IF(語言配置表!A393=\"\",\"CN_待填充内容\",語言配置表!B393)","v":"生衍道"}]
[{"$f":"IF(語言配置表!A394=\"\",\"\",語言配置表!A394)","v":1601031},{"$f":"IF(語言配置表!A394=\"\",\"CN_待填充内容\",語言配置表!B394)","v":"玄黄道"}]
[{"$f":"IF(語言配置表!A395=\"\",\"\",語言配置表!A395)","v":""},{"$f":"IF(語言配置表!A395=\"\",\"CN_待填充内容\",語言配置表!B395)","v":"CN_待填充内容"}]
[{"$f":"IF(語言配置表!A396=\"\",\"\",語言配置表!A396)","v":""},{"$f":"IF(語言配置表!A396=\"\",\"CN_待填充内容\",語言配置表!B396)","v":"CN_待填充内容"}]
[{"$f":"IF(語言配置表!A397=\"\",\"\",語言配置表!A397)","v":1090010},{"$f":"IF(語言配置表!A397=\"\",\"CN_待填充内容\",語言配置表!B397)","v":"万箭穿心"}]
[{"$f":"IF(語言配置表!A398=\"\",\"\",語言配置表!A398)","v":1090011},{"$f":"IF(語言配置表!A398=\"\",\"CN_待填充内容\",語言配置表!B398)","v":"万箭穿心"}]
[{"$f":"IF(語言配置表!A399=\"\",\"\",語言配置表!A399)","v":1090012},{"$f":"IF(語言配置表!A399=\"\",\"CN_待填充内容\",語言配置表!B399)","v":"万箭穿心"}]
[{"$f":"IF(語言配置表!A400=\"\",\"\",語言配置表!A400)","v":1090013},{"$f":"IF(語言配置表!A400=\"\",\"CN_待填充内容\",語言配置表!B400)","v":"万箭穿心"}]
[{"$f":"IF(語言配置表!A401=\"\",\"\",語言配置表!A401)","v":1090014},{"$f":"IF(語言配置表!A401=\"\",\"CN_待填充内容\",語言配置表!B401)","v":"万箭穿心"}]
[{"$f":"IF(語言配置表!A402=\"\",\"\",語言配置表!A402)","v":1090015},{"$f":"IF(語言配置表!A402=\"\",\"CN_待填充内容\",語言配置表!B402)","v":"万箭穿心"}]
[{"$f":"IF(語言配置表!A403=\"\",\"\",語言配置表!A403)","v":""},{"$f":"IF(語言配置表!A403=\"\",\"CN_待填充内容\",語言配置表!B403)","v":"CN_待填充内容"}]
[{"$f":"IF(語言配置表!A404=\"\",\"\",語言配置表!A404)","v":1090020},{"$f":"IF(語言配置表!A404=\"\",\"CN_待填充内容\",語言配置表!B404)","v":"御剑术"}]
[{"$f":"IF(語言配置表!A405=\"\",\"\",語言配置表!A405)","v":1090021},{"$f":"IF(語言配置表!A405=\"\",\"CN_待填充内容\",語言配置表!B405)","v":"御剑术"}]
[{"$f":"IF(語言配置表!A406=\"\",\"\",語言配置表!A406)","v":1090022},{"$f":"IF(語言配置表!A406=\"\",\"CN_待填充内容\",語言配置表!B406)","v":"御剑术"}]
[{"$f":"IF(語言配置表!A407=\"\",\"\",語言配置表!A407)","v":1090023},{"$f":"IF(語言配置表!A407=\"\",\"CN_待填充内容\",語言配置表!B407)","v":"御剑术"}]
[{"$f":"IF(語言配置表!A408=\"\",\"\",語言配置表!A408)","v":1090024},{"$f":"IF(語言配置表!A408=\"\",\"CN_待填充内容\",語言配置表!B408)","v":"御剑术"}]
[{"$f":"IF(語言配置表!A409=\"\",\"\",語言配置表!A409)","v":1090025},{"$f":"IF(語言配置表!A409=\"\",\"CN_待填充内容\",語言配置表!B409)","v":"御剑术"}]
[{"$f":"IF(語言配置表!A410=\"\",\"\",語言配置表!A410)","v":""},{"$f":"IF(語言配置表!A410=\"\",\"CN_待填充内容\",語言配置表!B410)","v":"CN_待填充内容"}]
[{"$f":"IF(語言配置表!A411=\"\",\"\",語言配置表!A411)","v":1090030},{"$f":"IF(語言配置表!A411=\"\",\"CN_待填充内容\",語言配置表!B411)","v":"剑意"}]
[{"$f":"IF(語言配置表!A412=\"\",\"\",語言配置表!A412)","v":""},{"$f":"IF(語言配置表!A412=\"\",\"CN_待填充内容\",語言配置表!B412)","v":"CN_待填充内容"}]
[{"$f":"IF(語言配置表!A413=\"\",\"\",語言配置表!A413)","v":1090040},{"$f":"IF(語言配置表!A413=\"\",\"CN_待填充内容\",語言配置表!B413)","v":"boss技能4"}]
[{"$f":"IF(語言配置表!A414=\"\",\"\",語言配置表!A414)","v":1090041},{"$f":"IF(語言配置表!A414=\"\",\"CN_待填充内容\",語言配置表!B414)","v":"boss技能4"}]
[{"$f":"IF(語言配置表!A415=\"\",\"\",語言配置表!A415)","v":1090042},{"$f":"IF(語言配置表!A415=\"\",\"CN_待填充内容\",語言配置表!B415)","v":"boss技能4"}]
[{"$f":"IF(語言配置表!A416=\"\",\"\",語言配置表!A416)","v":1090043},{"$f":"IF(語言配置表!A416=\"\",\"CN_待填充内容\",語言配置表!B416)","v":"boss技能4"}]
[{"$f":"IF(語言配置表!A417=\"\",\"\",語言配置表!A417)","v":1090044},{"$f":"IF(語言配置表!A417=\"\",\"CN_待填充内容\",語言配置表!B417)","v":"boss技能4"}]
[{"$f":"IF(語言配置表!A418=\"\",\"\",語言配置表!A418)","v":1090045},{"$f":"IF(語言配置表!A418=\"\",\"CN_待填充内容\",語言配置表!B418)","v":"boss技能4"}]
[{"$f":"IF(語言配置表!A419=\"\",\"\",語言配置表!A419)","v":""},{"$f":"IF(語言配置表!A419=\"\",\"CN_待填充内容\",語言配置表!B419)","v":"CN_待填充内容"}]
[{"$f":"IF(語言配置表!A420=\"\",\"\",語言配置表!A420)","v":1090050},{"$f":"IF(語言配置表!A420=\"\",\"CN_待填充内容\",語言配置表!B420)","v":"boss技能5"}]
[{"$f":"IF(語言配置表!A421=\"\",\"\",語言配置表!A421)","v":1090051},{"$f":"IF(語言配置表!A421=\"\",\"CN_待填充内容\",語言配置表!B421)","v":"boss技能5"}]
[{"$f":"IF(語言配置表!A422=\"\",\"\",語言配置表!A422)","v":1090052},{"$f":"IF(語言配置表!A422=\"\",\"CN_待填充内容\",語言配置表!B422)","v":"boss技能5"}]
[{"$f":"IF(語言配置表!A423=\"\",\"\",語言配置表!A423)","v":1090053},{"$f":"IF(語言配置表!A423=\"\",\"CN_待填充内容\",語言配置表!B423)","v":"boss技能5"}]
[{"$f":"IF(語言配置表!A424=\"\",\"\",語言配置表!A424)","v":1090054},{"$f":"IF(語言配置表!A424=\"\",\"CN_待填充内容\",語言配置表!B424)","v":"boss技能5"}]
[{"$f":"IF(語言配置表!A425=\"\",\"\",語言配置表!A425)","v":1090055},{"$f":"IF(語言配置表!A425=\"\",\"CN_待填充内容\",語言配置表!B425)","v":"boss技能5"}]
[{"$f":"IF(語言配置表!A426=\"\",\"\",語言配置表!A426)","v":""},{"$f":"IF(語言配置表!A426=\"\",\"CN_待填充内容\",語言配置表!B426)","v":"CN_待填充内容"}]
[{"$f":"IF(語言配置表!A427=\"\",\"\",語言配置表!A427)","v":1090110},{"$f":"IF(語言配置表!A427=\"\",\"CN_待填充内容\",語言配置表!B427)","v":"凤凰技能1"}]
[{"$f":"IF(語言配置表!A428=\"\",\"\",語言配置表!A428)","v":1090111},{"$f":"IF(語言配置表!A428=\"\",\"CN_待填充内容\",語言配置表!B428)","v":"凤凰技能1"}]
[{"$f":"IF(語言配置表!A429=\"\",\"\",語言配置表!A429)","v":1090112},{"$f":"IF(語言配置表!A429=\"\",\"CN_待填充内容\",語言配置表!B429)","v":"凤凰技能1"}]
[{"$f":"IF(語言配置表!A430=\"\",\"\",語言配置表!A430)","v":1090113},{"$f":"IF(語言配置表!A430=\"\",\"CN_待填充内容\",語言配置表!B430)","v":"凤凰技能1"}]
[{"$f":"IF(語言配置表!A431=\"\",\"\",語言配置表!A431)","v":1090114},{"$f":"IF(語言配置表!A431=\"\",\"CN_待填充内容\",語言配置表!B431)","v":"凤凰技能1"}]
[{"$f":"IF(語言配置表!A432=\"\",\"\",語言配置表!A432)","v":1090115},{"$f":"IF(語言配置表!A432=\"\",\"CN_待填充内容\",語言配置表!B432)","v":"凤凰技能1"}]
[{"$f":"IF(語言配置表!A433=\"\",\"\",語言配置表!A433)","v":""},{"$f":"IF(語言配置表!A433=\"\",\"CN_待填充内容\",語言配置表!B433)","v":"CN_待填充内容"}]
[{"$f":"IF(語言配置表!A434=\"\",\"\",語言配置表!A434)","v":1090120},{"$f":"IF(語言配置表!A434=\"\",\"CN_待填充内容\",語言配置表!B434)","v":"凤凰技能2"}]
[{"$f":"IF(語言配置表!A435=\"\",\"\",語言配置表!A435)","v":1090121},{"$f":"IF(語言配置表!A435=\"\",\"CN_待填充内容\",語言配置表!B435)","v":"凤凰技能2"}]
[{"$f":"IF(語言配置表!A436=\"\",\"\",語言配置表!A436)","v":1090122},{"$f":"IF(語言配置表!A436=\"\",\"CN_待填充内容\",語言配置表!B436)","v":"凤凰技能2"}]
[{"$f":"IF(語言配置表!A437=\"\",\"\",語言配置表!A437)","v":1090123},{"$f":"IF(語言配置表!A437=\"\",\"CN_待填充内容\",語言配置表!B437)","v":"凤凰技能2"}]
[{"$f":"IF(語言配置表!A438=\"\",\"\",語言配置表!A438)","v":1090124},{"$f":"IF(語言配置表!A438=\"\",\"CN_待填充内容\",語言配置表!B438)","v":"凤凰技能2"}]
[{"$f":"IF(語言配置表!A439=\"\",\"\",語言配置表!A439)","v":1090125},{"$f":"IF(語言配置表!A439=\"\",\"CN_待填充内容\",語言配置表!B439)","v":"凤凰技能2"}]
[{"$f":"IF(語言配置表!A440=\"\",\"\",語言配置表!A440)","v":""},{"$f":"IF(語言配置表!A440=\"\",\"CN_待填充内容\",語言配置表!B440)","v":"CN_待填充内容"}]
[{"$f":"IF(語言配置表!A441=\"\",\"\",語言配置表!A441)","v":1090130},{"$f":"IF(語言配置表!A441=\"\",\"CN_待填充内容\",語言配置表!B441)","v":"霜域新生"}]
[{"$f":"IF(語言配置表!A442=\"\",\"\",語言配置表!A442)","v":1090131},{"$f":"IF(語言配置表!A442=\"\",\"CN_待填充内容\",語言配置表!B442)","v":"霜域新生"}]
[{"$f":"IF(語言配置表!A443=\"\",\"\",語言配置表!A443)","v":1090132},{"$f":"IF(語言配置表!A443=\"\",\"CN_待填充内容\",語言配置表!B443)","v":"霜域新生"}]
[{"$f":"IF(語言配置表!A444=\"\",\"\",語言配置表!A444)","v":1090133},{"$f":"IF(語言配置表!A444=\"\",\"CN_待填充内容\",語言配置表!B444)","v":"霜域新生"}]
[{"$f":"IF(語言配置表!A445=\"\",\"\",語言配置表!A445)","v":1090134},{"$f":"IF(語言配置表!A445=\"\",\"CN_待填充内容\",語言配置表!B445)","v":"霜域新生"}]
[{"$f":"IF(語言配置表!A446=\"\",\"\",語言配置表!A446)","v":1090135},{"$f":"IF(語言配置表!A446=\"\",\"CN_待填充内容\",語言配置表!B446)","v":"霜域新生"}]
[{"$f":"IF(語言配置表!A447=\"\",\"\",語言配置表!A447)","v":""},{"$f":"IF(語言配置表!A447=\"\",\"CN_待填充内容\",語言配置表!B447)","v":"CN_待填充内容"}]
[{"$f":"IF(語言配置表!A448=\"\",\"\",語言配置表!A448)","v":1090140},{"$f":"IF(語言配置表!A448=\"\",\"CN_待填充内容\",語言配置表!B448)","v":"冰星坠地"}]
[{"$f":"IF(語言配置表!A449=\"\",\"\",語言配置表!A449)","v":1090141},{"$f":"IF(語言配置表!A449=\"\",\"CN_待填充内容\",語言配置表!B449)","v":"冰星坠地"}]
[{"$f":"IF(語言配置表!A450=\"\",\"\",語言配置表!A450)","v":1090142},{"$f":"IF(語言配置表!A450=\"\",\"CN_待填充内容\",語言配置表!B450)","v":"冰星坠地"}]
[{"$f":"IF(語言配置表!A451=\"\",\"\",語言配置表!A451)","v":1090143},{"$f":"IF(語言配置表!A451=\"\",\"CN_待填充内容\",語言配置表!B451)","v":"冰星坠地"}]
[{"$f":"IF(語言配置表!A452=\"\",\"\",語言配置表!A452)","v":1090144},{"$f":"IF(語言配置表!A452=\"\",\"CN_待填充内容\",語言配置表!B452)","v":"冰星坠地"}]
[{"$f":"IF(語言配置表!A453=\"\",\"\",語言配置表!A453)","v":1090145},{"$f":"IF(語言配置表!A453=\"\",\"CN_待填充内容\",語言配置表!B453)","v":"冰星坠地"}]
[{"$f":"IF(語言配置表!A454=\"\",\"\",語言配置表!A454)","v":""},{"$f":"IF(語言配置表!A454=\"\",\"CN_待填充内容\",語言配置表!B454)","v":"CN_待填充内容"}]
[{"$f":"IF(語言配置表!A455=\"\",\"\",語言配置表!A455)","v":1090150},{"$f":"IF(語言配置表!A455=\"\",\"CN_待填充内容\",語言配置表!B455)","v":"羽箭"}]
[{"$f":"IF(語言配置表!A456=\"\",\"\",語言配置表!A456)","v":1090151},{"$f":"IF(語言配置表!A456=\"\",\"CN_待填充内容\",語言配置表!B456)","v":"羽箭"}]
[{"$f":"IF(語言配置表!A457=\"\",\"\",語言配置表!A457)","v":1090152},{"$f":"IF(語言配置表!A457=\"\",\"CN_待填充内容\",語言配置表!B457)","v":"羽箭"}]
[{"$f":"IF(語言配置表!A458=\"\",\"\",語言配置表!A458)","v":1090153},{"$f":"IF(語言配置表!A458=\"\",\"CN_待填充内容\",語言配置表!B458)","v":"羽箭"}]
[{"$f":"IF(語言配置表!A459=\"\",\"\",語言配置表!A459)","v":1090154},{"$f":"IF(語言配置表!A459=\"\",\"CN_待填充内容\",語言配置表!B459)","v":"羽箭"}]
[{"$f":"IF(語言配置表!A460=\"\",\"\",語言配置表!A460)","v":1090155},{"$f":"IF(語言配置表!A460=\"\",\"CN_待填充内容\",語言配置表!B460)","v":"羽箭"}]
[{"$f":"IF(語言配置表!A461=\"\",\"\",語言配置表!A461)","v":""},{"$f":"IF(語言配置表!A461=\"\",\"CN_待填充内容\",語言配置表!B461)","v":"CN_待填充内容"}]
[{"$f":"IF(語言配置表!A462=\"\",\"\",語言配置表!A462)","v":1090210},{"$f":"IF(語言配置表!A462=\"\",\"CN_待填充内容\",語言配置表!B462)","v":"冰魄飞甲"}]
[{"$f":"IF(語言配置表!A463=\"\",\"\",語言配置表!A463)","v":1090211},{"$f":"IF(語言配置表!A463=\"\",\"CN_待填充内容\",語言配置表!B463)","v":"冰魄飞甲"}]
[{"$f":"IF(語言配置表!A464=\"\",\"\",語言配置表!A464)","v":1090212},{"$f":"IF(語言配置表!A464=\"\",\"CN_待填充内容\",語言配置表!B464)","v":"冰魄飞甲"}]
[{"$f":"IF(語言配置表!A465=\"\",\"\",語言配置表!A465)","v":1090213},{"$f":"IF(語言配置表!A465=\"\",\"CN_待填充内容\",語言配置表!B465)","v":"冰魄飞甲"}]
[{"$f":"IF(語言配置表!A466=\"\",\"\",語言配置表!A466)","v":1090214},{"$f":"IF(語言配置表!A466=\"\",\"CN_待填充内容\",語言配置表!B466)","v":"冰魄飞甲"}]
[{"$f":"IF(語言配置表!A467=\"\",\"\",語言配置表!A467)","v":1090215},{"$f":"IF(語言配置表!A467=\"\",\"CN_待填充内容\",語言配置表!B467)","v":"冰魄飞甲"}]
[{"$f":"IF(語言配置表!A468=\"\",\"\",語言配置表!A468)","v":""},{"$f":"IF(語言配置表!A468=\"\",\"CN_待填充内容\",語言配置表!B468)","v":"CN_待填充内容"}]
[{"$f":"IF(語言配置表!A469=\"\",\"\",語言配置表!A469)","v":1090220},{"$f":"IF(語言配置表!A469=\"\",\"CN_待填充内容\",語言配置表!B469)","v":"玄甲护体"}]
[{"$f":"IF(語言配置表!A470=\"\",\"\",語言配置表!A470)","v":1090221},{"$f":"IF(語言配置表!A470=\"\",\"CN_待填充内容\",語言配置表!B470)","v":"玄甲护体"}]
[{"$f":"IF(語言配置表!A471=\"\",\"\",語言配置表!A471)","v":1090222},{"$f":"IF(語言配置表!A471=\"\",\"CN_待填充内容\",語言配置表!B471)","v":"玄甲护体"}]
[{"$f":"IF(語言配置表!A472=\"\",\"\",語言配置表!A472)","v":1090223},{"$f":"IF(語言配置表!A472=\"\",\"CN_待填充内容\",語言配置表!B472)","v":"玄甲护体"}]
[{"$f":"IF(語言配置表!A473=\"\",\"\",語言配置表!A473)","v":1090224},{"$f":"IF(語言配置表!A473=\"\",\"CN_待填充内容\",語言配置表!B473)","v":"玄甲护体"}]
[{"$f":"IF(語言配置表!A474=\"\",\"\",語言配置表!A474)","v":1090225},{"$f":"IF(語言配置表!A474=\"\",\"CN_待填充内容\",語言配置表!B474)","v":"玄甲护体"}]
[{"$f":"IF(語言配置表!A475=\"\",\"\",語言配置表!A475)","v":""},{"$f":"IF(語言配置表!A475=\"\",\"CN_待填充内容\",語言配置表!B475)","v":"CN_待填充内容"}]
[{"$f":"IF(語言配置表!A476=\"\",\"\",語言配置表!A476)","v":1090230},{"$f":"IF(語言配置表!A476=\"\",\"CN_待填充内容\",語言配置表!B476)","v":"水球"}]
[{"$f":"IF(語言配置表!A477=\"\",\"\",語言配置表!A477)","v":1090231},{"$f":"IF(語言配置表!A477=\"\",\"CN_待填充内容\",語言配置表!B477)","v":"水球"}]
[{"$f":"IF(語言配置表!A478=\"\",\"\",語言配置表!A478)","v":1090232},{"$f":"IF(語言配置表!A478=\"\",\"CN_待填充内容\",語言配置表!B478)","v":"水球"}]
[{"$f":"IF(語言配置表!A479=\"\",\"\",語言配置表!A479)","v":1090233},{"$f":"IF(語言配置表!A479=\"\",\"CN_待填充内容\",語言配置表!B479)","v":"水球"}]
[{"$f":"IF(語言配置表!A480=\"\",\"\",語言配置表!A480)","v":1090234},{"$f":"IF(語言配置表!A480=\"\",\"CN_待填充内容\",語言配置表!B480)","v":"水球"}]
[{"$f":"IF(語言配置表!A481=\"\",\"\",語言配置表!A481)","v":1090235},{"$f":"IF(語言配置表!A481=\"\",\"CN_待填充内容\",語言配置表!B481)","v":"水球"}]
[{"$f":"IF(語言配置表!A482=\"\",\"\",語言配置表!A482)","v":""},{"$f":"IF(語言配置表!A482=\"\",\"CN_待填充内容\",語言配置表!B482)","v":"CN_待填充内容"}]
[{"$f":"IF(語言配置表!A483=\"\",\"\",語言配置表!A483)","v":1090240},{"$f":"IF(語言配置表!A483=\"\",\"CN_待填充内容\",語言配置表!B483)","v":"冰魄牢域"}]
[{"$f":"IF(語言配置表!A484=\"\",\"\",語言配置表!A484)","v":1090241},{"$f":"IF(語言配置表!A484=\"\",\"CN_待填充内容\",語言配置表!B484)","v":"冰魄牢域"}]
[{"$f":"IF(語言配置表!A485=\"\",\"\",語言配置表!A485)","v":1090242},{"$f":"IF(語言配置表!A485=\"\",\"CN_待填充内容\",語言配置表!B485)","v":"冰魄牢域"}]
[{"$f":"IF(語言配置表!A486=\"\",\"\",語言配置表!A486)","v":1090243},{"$f":"IF(語言配置表!A486=\"\",\"CN_待填充内容\",語言配置表!B486)","v":"冰魄牢域"}]
[{"$f":"IF(語言配置表!A487=\"\",\"\",語言配置表!A487)","v":1090244},{"$f":"IF(語言配置表!A487=\"\",\"CN_待填充内容\",語言配置表!B487)","v":"冰魄牢域"}]
[{"$f":"IF(語言配置表!A488=\"\",\"\",語言配置表!A488)","v":1090245},{"$f":"IF(語言配置表!A488=\"\",\"CN_待填充内容\",語言配置表!B488)","v":"冰魄牢域"}]
[{"$f":"IF(語言配置表!A489=\"\",\"\",語言配置表!A489)","v":""},{"$f":"IF(語言配置表!A489=\"\",\"CN_待填充内容\",語言配置表!B489)","v":"CN_待填充内容"}]
[{"$f":"IF(語言配置表!A490=\"\",\"\",語言配置表!A490)","v":1090610},{"$f":"IF(語言配置表!A490=\"\",\"CN_待填充内容\",語言配置表!B490)","v":"幻花迷雾"}]
[{"$f":"IF(語言配置表!A491=\"\",\"\",語言配置表!A491)","v":1090611},{"$f":"IF(語言配置表!A491=\"\",\"CN_待填充内容\",語言配置表!B491)","v":"幻花迷雾"}]
[{"$f":"IF(語言配置表!A492=\"\",\"\",語言配置表!A492)","v":1090612},{"$f":"IF(語言配置表!A492=\"\",\"CN_待填充内容\",語言配置表!B492)","v":"幻花迷雾"}]
[{"$f":"IF(語言配置表!A493=\"\",\"\",語言配置表!A493)","v":1090613},{"$f":"IF(語言配置表!A493=\"\",\"CN_待填充内容\",語言配置表!B493)","v":"幻花迷雾"}]
[{"$f":"IF(語言配置表!A494=\"\",\"\",語言配置表!A494)","v":1090614},{"$f":"IF(語言配置表!A494=\"\",\"CN_待填充内容\",語言配置表!B494)","v":"幻花迷雾"}]
[{"$f":"IF(語言配置表!A495=\"\",\"\",語言配置表!A495)","v":1090615},{"$f":"IF(語言配置表!A495=\"\",\"CN_待填充内容\",語言配置表!B495)","v":"幻花迷雾"}]
[{"$f":"IF(語言配置表!A496=\"\",\"\",語言配置表!A496)","v":""},{"$f":"IF(語言配置表!A496=\"\",\"CN_待填充内容\",語言配置表!B496)","v":"CN_待填充内容"}]
[{"$f":"IF(語言配置表!A497=\"\",\"\",語言配置表!A497)","v":1090620},{"$f":"IF(語言配置表!A497=\"\",\"CN_待填充内容\",語言配置表!B497)","v":"木灵分身"}]
[{"$f":"IF(語言配置表!A498=\"\",\"\",語言配置表!A498)","v":1090621},{"$f":"IF(語言配置表!A498=\"\",\"CN_待填充内容\",語言配置表!B498)","v":"木灵分身"}]
[{"$f":"IF(語言配置表!A499=\"\",\"\",語言配置表!A499)","v":1090622},{"$f":"IF(語言配置表!A499=\"\",\"CN_待填充内容\",語言配置表!B499)","v":"木灵分身"}]
[{"$f":"IF(語言配置表!A500=\"\",\"\",語言配置表!A500)","v":1090623},{"$f":"IF(語言配置表!A500=\"\",\"CN_待填充内容\",語言配置表!B500)","v":"木灵分身"}]
[{"$f":"IF(語言配置表!A501=\"\",\"\",語言配置表!A501)","v":1090624},{"$f":"IF(語言配置表!A501=\"\",\"CN_待填充内容\",語言配置表!B501)","v":"木灵分身"}]
[{"$f":"IF(語言配置表!A502=\"\",\"\",語言配置表!A502)","v":1090625},{"$f":"IF(語言配置表!A502=\"\",\"CN_待填充内容\",語言配置表!B502)","v":"木灵分身"}]
[{"$f":"IF(語言配置表!A503=\"\",\"\",語言配置表!A503)","v":""},{"$f":"IF(語言配置表!A503=\"\",\"CN_待填充内容\",語言配置表!B503)","v":"CN_待填充内容"}]
[{"$f":"IF(語言配置表!A504=\"\",\"\",語言配置表!A504)","v":1090630},{"$f":"IF(語言配置表!A504=\"\",\"CN_待填充内容\",語言配置表!B504)","v":"木桩"}]
[{"$f":"IF(語言配置表!A505=\"\",\"\",語言配置表!A505)","v":1090631},{"$f":"IF(語言配置表!A505=\"\",\"CN_待填充内容\",語言配置表!B505)","v":"木桩"}]
[{"$f":"IF(語言配置表!A506=\"\",\"\",語言配置表!A506)","v":1090632},{"$f":"IF(語言配置表!A506=\"\",\"CN_待填充内容\",語言配置表!B506)","v":"木桩"}]
[{"$f":"IF(語言配置表!A507=\"\",\"\",語言配置表!A507)","v":1090633},{"$f":"IF(語言配置表!A507=\"\",\"CN_待填充内容\",語言配置表!B507)","v":"木桩"}]
[{"$f":"IF(語言配置表!A508=\"\",\"\",語言配置表!A508)","v":1090634},{"$f":"IF(語言配置表!A508=\"\",\"CN_待填充内容\",語言配置表!B508)","v":"木桩"}]
[{"$f":"IF(語言配置表!A509=\"\",\"\",語言配置表!A509)","v":1090635},{"$f":"IF(語言配置表!A509=\"\",\"CN_待填充内容\",語言配置表!B509)","v":"木桩"}]
[{"$f":"IF(語言配置表!A510=\"\",\"\",語言配置表!A510)","v":""},{"$f":"IF(語言配置表!A510=\"\",\"CN_待填充内容\",語言配置表!B510)","v":"CN_待填充内容"}]
[{"$f":"IF(語言配置表!A511=\"\",\"\",語言配置表!A511)","v":1090640},{"$f":"IF(語言配置表!A511=\"\",\"CN_待填充内容\",語言配置表!B511)","v":"缠绕"}]
[{"$f":"IF(語言配置表!A512=\"\",\"\",語言配置表!A512)","v":1090641},{"$f":"IF(語言配置表!A512=\"\",\"CN_待填充内容\",語言配置表!B512)","v":"缠绕"}]
[{"$f":"IF(語言配置表!A513=\"\",\"\",語言配置表!A513)","v":1090642},{"$f":"IF(語言配置表!A513=\"\",\"CN_待填充内容\",語言配置表!B513)","v":"缠绕"}]
[{"$f":"IF(語言配置表!A514=\"\",\"\",語言配置表!A514)","v":1090643},{"$f":"IF(語言配置表!A514=\"\",\"CN_待填充内容\",語言配置表!B514)","v":"缠绕"}]
[{"$f":"IF(語言配置表!A515=\"\",\"\",語言配置表!A515)","v":1090644},{"$f":"IF(語言配置表!A515=\"\",\"CN_待填充内容\",語言配置表!B515)","v":"缠绕"}]
[{"$f":"IF(語言配置表!A516=\"\",\"\",語言配置表!A516)","v":1090645},{"$f":"IF(語言配置表!A516=\"\",\"CN_待填充内容\",語言配置表!B516)","v":"缠绕"}]
[{"$f":"IF(語言配置表!A517=\"\",\"\",語言配置表!A517)","v":""},{"$f":"IF(語言配置表!A517=\"\",\"CN_待填充内容\",語言配置表!B517)","v":"CN_待填充内容"}]
[{"$f":"IF(語言配置表!A518=\"\",\"\",語言配置表!A518)","v":1090710},{"$f":"IF(語言配置表!A518=\"\",\"CN_待填充内容\",語言配置表!B518)","v":"木刺"}]
[{"$f":"IF(語言配置表!A519=\"\",\"\",語言配置表!A519)","v":1090711},{"$f":"IF(語言配置表!A519=\"\",\"CN_待填充内容\",語言配置表!B519)","v":"木刺"}]
[{"$f":"IF(語言配置表!A520=\"\",\"\",語言配置表!A520)","v":1090712},{"$f":"IF(語言配置表!A520=\"\",\"CN_待填充内容\",語言配置表!B520)","v":"木刺"}]
[{"$f":"IF(語言配置表!A521=\"\",\"\",語言配置表!A521)","v":1090713},{"$f":"IF(語言配置表!A521=\"\",\"CN_待填充内容\",語言配置表!B521)","v":"木刺"}]
[{"$f":"IF(語言配置表!A522=\"\",\"\",語言配置表!A522)","v":1090714},{"$f":"IF(語言配置表!A522=\"\",\"CN_待填充内容\",語言配置表!B522)","v":"木刺"}]
[{"$f":"IF(語言配置表!A523=\"\",\"\",語言配置表!A523)","v":1090715},{"$f":"IF(語言配置表!A523=\"\",\"CN_待填充内容\",語言配置表!B523)","v":"木刺"}]
[{"$f":"IF(語言配置表!A524=\"\",\"\",語言配置表!A524)","v":""},{"$f":"IF(語言配置表!A524=\"\",\"CN_待填充内容\",語言配置表!B524)","v":"CN_待填充内容"}]
[{"$f":"IF(語言配置表!A525=\"\",\"\",語言配置表!A525)","v":1090510},{"$f":"IF(語言配置表!A525=\"\",\"CN_待填充内容\",語言配置表!B525)","v":"风刃"}]
[{"$f":"IF(語言配置表!A526=\"\",\"\",語言配置表!A526)","v":1090511},{"$f":"IF(語言配置表!A526=\"\",\"CN_待填充内容\",語言配置表!B526)","v":"风刃"}]
[{"$f":"IF(語言配置表!A527=\"\",\"\",語言配置表!A527)","v":1090512},{"$f":"IF(語言配置表!A527=\"\",\"CN_待填充内容\",語言配置表!B527)","v":"风刃"}]
[{"$f":"IF(語言配置表!A528=\"\",\"\",語言配置表!A528)","v":1090513},{"$f":"IF(語言配置表!A528=\"\",\"CN_待填充内容\",語言配置表!B528)","v":"风刃"}]
[{"$f":"IF(語言配置表!A529=\"\",\"\",語言配置表!A529)","v":1090514},{"$f":"IF(語言配置表!A529=\"\",\"CN_待填充内容\",語言配置表!B529)","v":"风刃"}]
[{"$f":"IF(語言配置表!A530=\"\",\"\",語言配置表!A530)","v":1090515},{"$f":"IF(語言配置表!A530=\"\",\"CN_待填充内容\",語言配置表!B530)","v":"风刃"}]
[{"$f":"IF(語言配置表!A531=\"\",\"\",語言配置表!A531)","v":""},{"$f":"IF(語言配置表!A531=\"\",\"CN_待填充内容\",語言配置表!B531)","v":"CN_待填充内容"}]
[{"$f":"IF(語言配置表!A532=\"\",\"\",語言配置表!A532)","v":1090520},{"$f":"IF(語言配置表!A532=\"\",\"CN_待填充内容\",語言配置表!B532)","v":"雷罡波"}]
[{"$f":"IF(語言配置表!A533=\"\",\"\",語言配置表!A533)","v":1090521},{"$f":"IF(語言配置表!A533=\"\",\"CN_待填充内容\",語言配置表!B533)","v":"雷罡波"}]
[{"$f":"IF(語言配置表!A534=\"\",\"\",語言配置表!A534)","v":1090522},{"$f":"IF(語言配置表!A534=\"\",\"CN_待填充内容\",語言配置表!B534)","v":"雷罡波"}]
[{"$f":"IF(語言配置表!A535=\"\",\"\",語言配置表!A535)","v":1090523},{"$f":"IF(語言配置表!A535=\"\",\"CN_待填充内容\",語言配置表!B535)","v":"雷罡波"}]
[{"$f":"IF(語言配置表!A536=\"\",\"\",語言配置表!A536)","v":1090524},{"$f":"IF(語言配置表!A536=\"\",\"CN_待填充内容\",語言配置表!B536)","v":"雷罡波"}]
[{"$f":"IF(語言配置表!A537=\"\",\"\",語言配置表!A537)","v":1090525},{"$f":"IF(語言配置表!A537=\"\",\"CN_待填充内容\",語言配置表!B537)","v":"雷罡波"}]
[{"$f":"IF(語言配置表!A538=\"\",\"\",語言配置表!A538)","v":""},{"$f":"IF(語言配置表!A538=\"\",\"CN_待填充内容\",語言配置表!B538)","v":"CN_待填充内容"}]
[{"$f":"IF(語言配置表!A539=\"\",\"\",語言配置表!A539)","v":1090530},{"$f":"IF(語言配置表!A539=\"\",\"CN_待填充内容\",語言配置表!B539)","v":"雷罡波"}]
[{"$f":"IF(語言配置表!A540=\"\",\"\",語言配置表!A540)","v":1090531},{"$f":"IF(語言配置表!A540=\"\",\"CN_待填充内容\",語言配置表!B540)","v":"雷罡波"}]
[{"$f":"IF(語言配置表!A541=\"\",\"\",語言配置表!A541)","v":1090532},{"$f":"IF(語言配置表!A541=\"\",\"CN_待填充内容\",語言配置表!B541)","v":"雷罡波"}]
[{"$f":"IF(語言配置表!A542=\"\",\"\",語言配置表!A542)","v":1090533},{"$f":"IF(語言配置表!A542=\"\",\"CN_待填充内容\",語言配置表!B542)","v":"雷罡波"}]
[{"$f":"IF(語言配置表!A543=\"\",\"\",語言配置表!A543)","v":1090534},{"$f":"IF(語言配置表!A543=\"\",\"CN_待填充内容\",語言配置表!B543)","v":"雷罡波"}]
[{"$f":"IF(語言配置表!A544=\"\",\"\",語言配置表!A544)","v":1090535},{"$f":"IF(語言配置表!A544=\"\",\"CN_待填充内容\",語言配置表!B544)","v":"雷罡波"}]
[{"$f":"IF(語言配置表!A545=\"\",\"\",語言配置表!A545)","v":""},{"$f":"IF(語言配置表!A545=\"\",\"CN_待填充内容\",語言配置表!B545)","v":"CN_待填充内容"}]
[{"$f":"IF(語言配置表!A546=\"\",\"\",語言配置表!A546)","v":1090540},{"$f":"IF(語言配置表!A546=\"\",\"CN_待填充内容\",語言配置表!B546)","v":"导电（被动）"}]
[{"$f":"IF(語言配置表!A547=\"\",\"\",語言配置表!A547)","v":1090541},{"$f":"IF(語言配置表!A547=\"\",\"CN_待填充内容\",語言配置表!B547)","v":"导电（被动）"}]
[{"$f":"IF(語言配置表!A548=\"\",\"\",語言配置表!A548)","v":1090542},{"$f":"IF(語言配置表!A548=\"\",\"CN_待填充内容\",語言配置表!B548)","v":"导电（被动）"}]
[{"$f":"IF(語言配置表!A549=\"\",\"\",語言配置表!A549)","v":1090543},{"$f":"IF(語言配置表!A549=\"\",\"CN_待填充内容\",語言配置表!B549)","v":"导电（被动）"}]
[{"$f":"IF(語言配置表!A550=\"\",\"\",語言配置表!A550)","v":1090544},{"$f":"IF(語言配置表!A550=\"\",\"CN_待填充内容\",語言配置表!B550)","v":"导电（被动）"}]
[{"$f":"IF(語言配置表!A551=\"\",\"\",語言配置表!A551)","v":1090545},{"$f":"IF(語言配置表!A551=\"\",\"CN_待填充内容\",語言配置表!B551)","v":"导电（被动）"}]
[{"$f":"IF(語言配置表!A552=\"\",\"\",語言配置表!A552)","v":""},{"$f":"IF(語言配置表!A552=\"\",\"CN_待填充内容\",語言配置表!B552)","v":"CN_待填充内容"}]
[{"$f":"IF(語言配置表!A553=\"\",\"\",語言配置表!A553)","v":1090310},{"$f":"IF(語言配置表!A553=\"\",\"CN_待填充内容\",語言配置表!B553)","v":"毒刺）"}]
[{"$f":"IF(語言配置表!A554=\"\",\"\",語言配置表!A554)","v":1090311},{"$f":"IF(語言配置表!A554=\"\",\"CN_待填充内容\",語言配置表!B554)","v":"毒刺）"}]
[{"$f":"IF(語言配置表!A555=\"\",\"\",語言配置表!A555)","v":1090312},{"$f":"IF(語言配置表!A555=\"\",\"CN_待填充内容\",語言配置表!B555)","v":"毒刺）"}]
[{"$f":"IF(語言配置表!A556=\"\",\"\",語言配置表!A556)","v":1090313},{"$f":"IF(語言配置表!A556=\"\",\"CN_待填充内容\",語言配置表!B556)","v":"毒刺）"}]
[{"$f":"IF(語言配置表!A557=\"\",\"\",語言配置表!A557)","v":1090314},{"$f":"IF(語言配置表!A557=\"\",\"CN_待填充内容\",語言配置表!B557)","v":"毒刺）"}]
[{"$f":"IF(語言配置表!A558=\"\",\"\",語言配置表!A558)","v":1090315},{"$f":"IF(語言配置表!A558=\"\",\"CN_待填充内容\",語言配置表!B558)","v":"毒刺）"}]
[{"$f":"IF(語言配置表!A559=\"\",\"\",語言配置表!A559)","v":""},{"$f":"IF(語言配置表!A559=\"\",\"CN_待填充内容\",語言配置表!B559)","v":"CN_待填充内容"}]
[{"$f":"IF(語言配置表!A560=\"\",\"\",語言配置表!A560)","v":1090320},{"$f":"IF(語言配置表!A560=\"\",\"CN_待填充内容\",語言配置表!B560)","v":"千蛛潮"}]
[{"$f":"IF(語言配置表!A561=\"\",\"\",語言配置表!A561)","v":1090321},{"$f":"IF(語言配置表!A561=\"\",\"CN_待填充内容\",語言配置表!B561)","v":"千蛛潮"}]
[{"$f":"IF(語言配置表!A562=\"\",\"\",語言配置表!A562)","v":1090322},{"$f":"IF(語言配置表!A562=\"\",\"CN_待填充内容\",語言配置表!B562)","v":"千蛛潮"}]
[{"$f":"IF(語言配置表!A563=\"\",\"\",語言配置表!A563)","v":1090323},{"$f":"IF(語言配置表!A563=\"\",\"CN_待填充内容\",語言配置表!B563)","v":"千蛛潮"}]
[{"$f":"IF(語言配置表!A564=\"\",\"\",語言配置表!A564)","v":1090324},{"$f":"IF(語言配置表!A564=\"\",\"CN_待填充内容\",語言配置表!B564)","v":"千蛛潮"}]
[{"$f":"IF(語言配置表!A565=\"\",\"\",語言配置表!A565)","v":1090325},{"$f":"IF(語言配置表!A565=\"\",\"CN_待填充内容\",語言配置表!B565)","v":"千蛛潮"}]
[{"$f":"IF(語言配置表!A566=\"\",\"\",語言配置表!A566)","v":""},{"$f":"IF(語言配置表!A566=\"\",\"CN_待填充内容\",語言配置表!B566)","v":"CN_待填充内容"}]
[{"$f":"IF(語言配置表!A567=\"\",\"\",語言配置表!A567)","v":1090330},{"$f":"IF(語言配置表!A567=\"\",\"CN_待填充内容\",語言配置表!B567)","v":"吐丝"}]
[{"$f":"IF(語言配置表!A568=\"\",\"\",語言配置表!A568)","v":1090331},{"$f":"IF(語言配置表!A568=\"\",\"CN_待填充内容\",語言配置表!B568)","v":"吐丝"}]
[{"$f":"IF(語言配置表!A569=\"\",\"\",語言配置表!A569)","v":1090332},{"$f":"IF(語言配置表!A569=\"\",\"CN_待填充内容\",語言配置表!B569)","v":"吐丝"}]
[{"$f":"IF(語言配置表!A570=\"\",\"\",語言配置表!A570)","v":1090333},{"$f":"IF(語言配置表!A570=\"\",\"CN_待填充内容\",語言配置表!B570)","v":"吐丝"}]
[{"$f":"IF(語言配置表!A571=\"\",\"\",語言配置表!A571)","v":1090334},{"$f":"IF(語言配置表!A571=\"\",\"CN_待填充内容\",語言配置表!B571)","v":"吐丝"}]
[{"$f":"IF(語言配置表!A572=\"\",\"\",語言配置表!A572)","v":1090335},{"$f":"IF(語言配置表!A572=\"\",\"CN_待填充内容\",語言配置表!B572)","v":"吐丝"}]
[{"$f":"IF(語言配置表!A573=\"\",\"\",語言配置表!A573)","v":""},{"$f":"IF(語言配置表!A573=\"\",\"CN_待填充内容\",語言配置表!B573)","v":"CN_待填充内容"}]
[{"$f":"IF(語言配置表!A574=\"\",\"\",語言配置表!A574)","v":1090410},{"$f":"IF(語言配置表!A574=\"\",\"CN_待填充内容\",語言配置表!B574)","v":"幻骨"}]
[{"$f":"IF(語言配置表!A575=\"\",\"\",語言配置表!A575)","v":1090411},{"$f":"IF(語言配置表!A575=\"\",\"CN_待填充内容\",語言配置表!B575)","v":"幻骨"}]
[{"$f":"IF(語言配置表!A576=\"\",\"\",語言配置表!A576)","v":1090412},{"$f":"IF(語言配置表!A576=\"\",\"CN_待填充内容\",語言配置表!B576)","v":"幻骨"}]
[{"$f":"IF(語言配置表!A577=\"\",\"\",語言配置表!A577)","v":1090413},{"$f":"IF(語言配置表!A577=\"\",\"CN_待填充内容\",語言配置表!B577)","v":"幻骨"}]
[{"$f":"IF(語言配置表!A578=\"\",\"\",語言配置表!A578)","v":1090414},{"$f":"IF(語言配置表!A578=\"\",\"CN_待填充内容\",語言配置表!B578)","v":"幻骨"}]
[{"$f":"IF(語言配置表!A579=\"\",\"\",語言配置表!A579)","v":1090415},{"$f":"IF(語言配置表!A579=\"\",\"CN_待填充内容\",語言配置表!B579)","v":"幻骨"}]
[{"$f":"IF(語言配置表!A580=\"\",\"\",語言配置表!A580)","v":""},{"$f":"IF(語言配置表!A580=\"\",\"CN_待填充内容\",語言配置表!B580)","v":"CN_待填充内容"}]
[{"$f":"IF(語言配置表!A581=\"\",\"\",語言配置表!A581)","v":1090420},{"$f":"IF(語言配置表!A581=\"\",\"CN_待填充内容\",語言配置表!B581)","v":"鼠角"}]
[{"$f":"IF(語言配置表!A582=\"\",\"\",語言配置表!A582)","v":1090421},{"$f":"IF(語言配置表!A582=\"\",\"CN_待填充内容\",語言配置表!B582)","v":"鼠角"}]
[{"$f":"IF(語言配置表!A583=\"\",\"\",語言配置表!A583)","v":1090422},{"$f":"IF(語言配置表!A583=\"\",\"CN_待填充内容\",語言配置表!B583)","v":"鼠角"}]
[{"$f":"IF(語言配置表!A584=\"\",\"\",語言配置表!A584)","v":1090423},{"$f":"IF(語言配置表!A584=\"\",\"CN_待填充内容\",語言配置表!B584)","v":"鼠角"}]
[{"$f":"IF(語言配置表!A585=\"\",\"\",語言配置表!A585)","v":1090424},{"$f":"IF(語言配置表!A585=\"\",\"CN_待填充内容\",語言配置表!B585)","v":"鼠角"}]
[{"$f":"IF(語言配置表!A586=\"\",\"\",語言配置表!A586)","v":1090425},{"$f":"IF(語言配置表!A586=\"\",\"CN_待填充内容\",語言配置表!B586)","v":"鼠角"}]
[{"$f":"IF(語言配置表!A587=\"\",\"\",語言配置表!A587)","v":""},{"$f":"IF(語言配置表!A587=\"\",\"CN_待填充内容\",語言配置表!B587)","v":"CN_待填充内容"}]
[{"$f":"IF(語言配置表!A588=\"\",\"\",語言配置表!A588)","v":1090430},{"$f":"IF(語言配置表!A588=\"\",\"CN_待填充内容\",語言配置表!B588)","v":"幽爪灭魂指"}]
[{"$f":"IF(語言配置表!A589=\"\",\"\",語言配置表!A589)","v":1090431},{"$f":"IF(語言配置表!A589=\"\",\"CN_待填充内容\",語言配置表!B589)","v":"幽爪灭魂指"}]
[{"$f":"IF(語言配置表!A590=\"\",\"\",語言配置表!A590)","v":1090432},{"$f":"IF(語言配置表!A590=\"\",\"CN_待填充内容\",語言配置表!B590)","v":"幽爪灭魂指"}]
[{"$f":"IF(語言配置表!A591=\"\",\"\",語言配置表!A591)","v":1090433},{"$f":"IF(語言配置表!A591=\"\",\"CN_待填充内容\",語言配置表!B591)","v":"幽爪灭魂指"}]
[{"$f":"IF(語言配置表!A592=\"\",\"\",語言配置表!A592)","v":1090434},{"$f":"IF(語言配置表!A592=\"\",\"CN_待填充内容\",語言配置表!B592)","v":"幽爪灭魂指"}]
[{"$f":"IF(語言配置表!A593=\"\",\"\",語言配置表!A593)","v":1090435},{"$f":"IF(語言配置表!A593=\"\",\"CN_待填充内容\",語言配置表!B593)","v":"幽爪灭魂指"}]
[{"$f":"IF(語言配置表!A594=\"\",\"\",語言配置表!A594)","v":""},{"$f":"IF(語言配置表!A594=\"\",\"CN_待填充内容\",語言配置表!B594)","v":"CN_待填充内容"}]
[{"$f":"IF(語言配置表!A595=\"\",\"\",語言配置表!A595)","v":1090440},{"$f":"IF(語言配置表!A595=\"\",\"CN_待填充内容\",語言配置表!B595)","v":"幽爪灭魂指"}]
[{"$f":"IF(語言配置表!A596=\"\",\"\",語言配置表!A596)","v":1090441},{"$f":"IF(語言配置表!A596=\"\",\"CN_待填充内容\",語言配置表!B596)","v":"幽爪灭魂指"}]
[{"$f":"IF(語言配置表!A597=\"\",\"\",語言配置表!A597)","v":1090442},{"$f":"IF(語言配置表!A597=\"\",\"CN_待填充内容\",語言配置表!B597)","v":"幽爪灭魂指"}]
[{"$f":"IF(語言配置表!A598=\"\",\"\",語言配置表!A598)","v":1090443},{"$f":"IF(語言配置表!A598=\"\",\"CN_待填充内容\",語言配置表!B598)","v":"幽爪灭魂指"}]
[{"$f":"IF(語言配置表!A599=\"\",\"\",語言配置表!A599)","v":1090444},{"$f":"IF(語言配置表!A599=\"\",\"CN_待填充内容\",語言配置表!B599)","v":"幽爪灭魂指"}]
[{"$f":"IF(語言配置表!A600=\"\",\"\",語言配置表!A600)","v":1090445},{"$f":"IF(語言配置表!A600=\"\",\"CN_待填充内容\",語言配置表!B600)","v":"幽爪灭魂指"}]
[{"$f":"IF(語言配置表!A601=\"\",\"\",語言配置表!A601)","v":""},{"$f":"IF(語言配置表!A601=\"\",\"CN_待填充内容\",語言配置表!B601)","v":"CN_待填充内容"}]
[{"$f":"IF(語言配置表!A602=\"\",\"\",語言配置表!A602)","v":1090910},{"$f":"IF(語言配置表!A602=\"\",\"CN_待填充内容\",語言配置表!B602)","v":"羽刃风暴"}]
[{"$f":"IF(語言配置表!A603=\"\",\"\",語言配置表!A603)","v":1090911},{"$f":"IF(語言配置表!A603=\"\",\"CN_待填充内容\",語言配置表!B603)","v":"羽刃风暴"}]
[{"$f":"IF(語言配置表!A604=\"\",\"\",語言配置表!A604)","v":1090912},{"$f":"IF(語言配置表!A604=\"\",\"CN_待填充内容\",語言配置表!B604)","v":"羽刃风暴"}]
[{"$f":"IF(語言配置表!A605=\"\",\"\",語言配置表!A605)","v":1090913},{"$f":"IF(語言配置表!A605=\"\",\"CN_待填充内容\",語言配置表!B605)","v":"羽刃风暴"}]
[{"$f":"IF(語言配置表!A606=\"\",\"\",語言配置表!A606)","v":1090914},{"$f":"IF(語言配置表!A606=\"\",\"CN_待填充内容\",語言配置表!B606)","v":"羽刃风暴"}]
[{"$f":"IF(語言配置表!A607=\"\",\"\",語言配置表!A607)","v":1090915},{"$f":"IF(語言配置表!A607=\"\",\"CN_待填充内容\",語言配置表!B607)","v":"羽刃风暴"}]
[{"$f":"IF(語言配置表!A608=\"\",\"\",語言配置表!A608)","v":""},{"$f":"IF(語言配置表!A608=\"\",\"CN_待填充内容\",語言配置表!B608)","v":"CN_待填充内容"}]
[{"$f":"IF(語言配置表!A609=\"\",\"\",語言配置表!A609)","v":1090920},{"$f":"IF(語言配置表!A609=\"\",\"CN_待填充内容\",語言配置表!B609)","v":"仙鹤朝露"}]
[{"$f":"IF(語言配置表!A610=\"\",\"\",語言配置表!A610)","v":1090921},{"$f":"IF(語言配置表!A610=\"\",\"CN_待填充内容\",語言配置表!B610)","v":"仙鹤朝露"}]
[{"$f":"IF(語言配置表!A611=\"\",\"\",語言配置表!A611)","v":1090922},{"$f":"IF(語言配置表!A611=\"\",\"CN_待填充内容\",語言配置表!B611)","v":"仙鹤朝露"}]
[{"$f":"IF(語言配置表!A612=\"\",\"\",語言配置表!A612)","v":1090923},{"$f":"IF(語言配置表!A612=\"\",\"CN_待填充内容\",語言配置表!B612)","v":"仙鹤朝露"}]
[{"$f":"IF(語言配置表!A613=\"\",\"\",語言配置表!A613)","v":1090924},{"$f":"IF(語言配置表!A613=\"\",\"CN_待填充内容\",語言配置表!B613)","v":"仙鹤朝露"}]
[{"$f":"IF(語言配置表!A614=\"\",\"\",語言配置表!A614)","v":1090925},{"$f":"IF(語言配置表!A614=\"\",\"CN_待填充内容\",語言配置表!B614)","v":"仙鹤朝露"}]
[{"$f":"IF(語言配置表!A615=\"\",\"\",語言配置表!A615)","v":""},{"$f":"IF(語言配置表!A615=\"\",\"CN_待填充内容\",語言配置表!B615)","v":"CN_待填充内容"}]
[{"$f":"IF(語言配置表!A616=\"\",\"\",語言配置表!A616)","v":1091010},{"$f":"IF(語言配置表!A616=\"\",\"CN_待填充内容\",語言配置表!B616)","v":"狐火"}]
[{"$f":"IF(語言配置表!A617=\"\",\"\",語言配置表!A617)","v":1091011},{"$f":"IF(語言配置表!A617=\"\",\"CN_待填充内容\",語言配置表!B617)","v":"狐火"}]
[{"$f":"IF(語言配置表!A618=\"\",\"\",語言配置表!A618)","v":1091012},{"$f":"IF(語言配置表!A618=\"\",\"CN_待填充内容\",語言配置表!B618)","v":"狐火"}]
[{"$f":"IF(語言配置表!A619=\"\",\"\",語言配置表!A619)","v":1091013},{"$f":"IF(語言配置表!A619=\"\",\"CN_待填充内容\",語言配置表!B619)","v":"狐火"}]
[{"$f":"IF(語言配置表!A620=\"\",\"\",語言配置表!A620)","v":1091014},{"$f":"IF(語言配置表!A620=\"\",\"CN_待填充内容\",語言配置表!B620)","v":"狐火"}]
[{"$f":"IF(語言配置表!A621=\"\",\"\",語言配置表!A621)","v":1091015},{"$f":"IF(語言配置表!A621=\"\",\"CN_待填充内容\",語言配置表!B621)","v":"狐火"}]
[{"$f":"IF(語言配置表!A622=\"\",\"\",語言配置表!A622)","v":""},{"$f":"IF(語言配置表!A622=\"\",\"CN_待填充内容\",語言配置表!B622)","v":"CN_待填充内容"}]
[{"$f":"IF(語言配置表!A623=\"\",\"\",語言配置表!A623)","v":1091020},{"$f":"IF(語言配置表!A623=\"\",\"CN_待填充内容\",語言配置表!B623)","v":"灵狐渡厄"}]
[{"$f":"IF(語言配置表!A624=\"\",\"\",語言配置表!A624)","v":1091021},{"$f":"IF(語言配置表!A624=\"\",\"CN_待填充内容\",語言配置表!B624)","v":"灵狐渡厄"}]
[{"$f":"IF(語言配置表!A625=\"\",\"\",語言配置表!A625)","v":1091022},{"$f":"IF(語言配置表!A625=\"\",\"CN_待填充内容\",語言配置表!B625)","v":"灵狐渡厄"}]
[{"$f":"IF(語言配置表!A626=\"\",\"\",語言配置表!A626)","v":1091023},{"$f":"IF(語言配置表!A626=\"\",\"CN_待填充内容\",語言配置表!B626)","v":"灵狐渡厄"}]
[{"$f":"IF(語言配置表!A627=\"\",\"\",語言配置表!A627)","v":1091024},{"$f":"IF(語言配置表!A627=\"\",\"CN_待填充内容\",語言配置表!B627)","v":"灵狐渡厄"}]
[{"$f":"IF(語言配置表!A628=\"\",\"\",語言配置表!A628)","v":1091025},{"$f":"IF(語言配置表!A628=\"\",\"CN_待填充内容\",語言配置表!B628)","v":"灵狐渡厄"}]
[{"$f":"IF(語言配置表!A629=\"\",\"\",語言配置表!A629)","v":""},{"$f":"IF(語言配置表!A629=\"\",\"CN_待填充内容\",語言配置表!B629)","v":"CN_待填充内容"}]
[{"$f":"IF(語言配置表!A630=\"\",\"\",語言配置表!A630)","v":1111010},{"$f":"IF(語言配置表!A630=\"\",\"CN_待填充内容\",語言配置表!B630)","v":"身体周围幻化出{0}柄细剑，每柄细剑造成{1}%攻击力的伤害，并有{2}%的几率对敌人造成1层流血。"}]
[{"$f":"IF(語言配置表!A631=\"\",\"\",語言配置表!A631)","v":1111011},{"$f":"IF(語言配置表!A631=\"\",\"CN_待填充内容\",語言配置表!B631)","v":"身体周围幻化出{0}柄细剑，每柄细剑造成{1}%攻击力的伤害，并有{2}%的几率对敌人造成1层流血。"}]
[{"$f":"IF(語言配置表!A632=\"\",\"\",語言配置表!A632)","v":1111012},{"$f":"IF(語言配置表!A632=\"\",\"CN_待填充内容\",語言配置表!B632)","v":"身体周围幻化出{0}柄细剑，每柄细剑造成{1}%攻击力的伤害，并有{2}%的几率对敌人造成1层流血。"}]
[{"$f":"IF(語言配置表!A633=\"\",\"\",語言配置表!A633)","v":1111013},{"$f":"IF(語言配置表!A633=\"\",\"CN_待填充内容\",語言配置表!B633)","v":"身体周围幻化出{0}柄细剑，每柄细剑造成{1}%攻击力的伤害，并有{2}%的几率对敌人造成1层流血。\n如果敌人有减益状态，则细剑伤害提升{3}%。"}]
[{"$f":"IF(語言配置表!A634=\"\",\"\",語言配置表!A634)","v":1111014},{"$f":"IF(語言配置表!A634=\"\",\"CN_待填充内容\",語言配置表!B634)","v":"身体周围幻化出{0}柄细剑，每柄细剑造成{1}%攻击力的伤害，并有{2}%的几率对敌人造成1层流血。\n如果敌人有减益状态，则细剑伤害提升{3}%。"}]
[{"$f":"IF(語言配置表!A635=\"\",\"\",語言配置表!A635)","v":1111015},{"$f":"IF(語言配置表!A635=\"\",\"CN_待填充内容\",語言配置表!B635)","v":"身体周围幻化出{0}柄更加巨大的虚剑，每柄虚剑造成{1}%攻击力的伤害，并有{2}%的几率对敌人造成1层流血。\n如果敌人有减益状态，则虚剑伤害提升{3}%。"}]
[{"$f":"IF(語言配置表!A636=\"\",\"\",語言配置表!A636)","v":""},{"$f":"IF(語言配置表!A636=\"\",\"CN_待填充内容\",語言配置表!B636)","v":"CN_待填充内容"}]
[{"$f":"IF(語言配置表!A637=\"\",\"\",語言配置表!A637)","v":1111020},{"$f":"IF(語言配置表!A637=\"\",\"CN_待填充内容\",語言配置表!B637)","v":"吸收自身灵气凝聚{0}柄大剑，大剑旋转快速穿透敌人对其造成{1}%攻击力的伤害"}]
[{"$f":"IF(語言配置表!A638=\"\",\"\",語言配置表!A638)","v":1111021},{"$f":"IF(語言配置表!A638=\"\",\"CN_待填充内容\",語言配置表!B638)","v":"吸收自身灵气凝聚{0}柄大剑，大剑旋转快速穿透敌人对其造成{1}%攻击力的伤害\n对处在流血或放血状态下的敌人造成的伤害+{2}%"}]
[{"$f":"IF(語言配置表!A639=\"\",\"\",語言配置表!A639)","v":1111022},{"$f":"IF(語言配置表!A639=\"\",\"CN_待填充内容\",語言配置表!B639)","v":"吸收自身灵气凝聚{0}柄大剑，大剑旋转快速穿透敌人对其造成{1}%攻击力的伤害\n对处在流血或放血状态下的敌人造成的伤害+{2}%"}]
[{"$f":"IF(語言配置表!A640=\"\",\"\",語言配置表!A640)","v":1111023},{"$f":"IF(語言配置表!A640=\"\",\"CN_待填充内容\",語言配置表!B640)","v":"吸收自身灵气凝聚{0}柄大剑，大剑旋转快速穿透敌人对其造成{1}%攻击力的伤害\n对处在流血或放血状态下的敌人造成的伤害+{2}%\n重伤敌人后，如果目标没在放血状态，直接放血且不消耗流血层数"}]
[{"$f":"IF(語言配置表!A641=\"\",\"\",語言配置表!A641)","v":1111024},{"$f":"IF(語言配置表!A641=\"\",\"CN_待填充内容\",語言配置表!B641)","v":"吸收自身灵气凝聚{0}柄大剑，大剑旋转快速穿透敌人对其造成{1}%攻击力的伤害\n对处在流血或放血状态下的敌人造成的伤害+{2}%\n重伤敌人后，如果目标没在放血状态，直接放血且不消耗流血层数"}]
[{"$f":"IF(語言配置表!A642=\"\",\"\",語言配置表!A642)","v":1111025},{"$f":"IF(語言配置表!A642=\"\",\"CN_待填充内容\",語言配置表!B642)","v":"吸收自身灵气凝聚{0}柄大剑，大剑旋转快速穿透敌人对其造成{1}%攻击力的伤害\n对处在流血或放血状态下的敌人造成的伤害+{2}%\n重伤敌人后，如果目标没在放血状态，直接放血且不消耗流血层数\n大剑体型巨大化进入全盛状态，对拼强度+{3}%，伤害提升{4}%"}]
[{"$f":"IF(語言配置表!A643=\"\",\"\",語言配置表!A643)","v":""},{"$f":"IF(語言配置表!A643=\"\",\"CN_待填充内容\",語言配置表!B643)","v":"CN_待填充内容"}]
[{"$f":"IF(語言配置表!A644=\"\",\"\",語言配置表!A644)","v":1111030},{"$f":"IF(語言配置表!A644=\"\",\"CN_待填充内容\",語言配置表!B644)","v":"向前方挥动{0}次，每次挥动形成一道血刃剑气，每道剑气对敌人造成{1}%攻击力的伤害，并有{2}%概率对敌人造成流血。"}]
[{"$f":"IF(語言配置表!A645=\"\",\"\",語言配置表!A645)","v":1111031},{"$f":"IF(語言配置表!A645=\"\",\"CN_待填充内容\",語言配置表!B645)","v":"向前方挥动{0}次，每次挥动形成一道血刃剑气，每道剑气对敌人造成{1}%攻击力的伤害，并有{2}%概率对敌人造成流血。\n刀气命中目标后，恢复本次伤害{3}%的生命。"}]
[{"$f":"IF(語言配置表!A646=\"\",\"\",語言配置表!A646)","v":1111032},{"$f":"IF(語言配置表!A646=\"\",\"CN_待填充内容\",語言配置表!B646)","v":"向前方挥动{0}次，每次挥动形成一道血刃剑气，每道剑气对敌人造成{1}%攻击力的伤害，并有{2}%概率对敌人造成流血。\n刀气命中目标后，恢复本次伤害{3}%的生命。"}]
[{"$f":"IF(語言配置表!A647=\"\",\"\",語言配置表!A647)","v":1111033},{"$f":"IF(語言配置表!A647=\"\",\"CN_待填充内容\",語言配置表!B647)","v":"向前方挥动{0}次，每次挥动形成一道血刃剑气，每道剑气对敌人造成{1}%攻击力的伤害，并有{2}%概率对敌人造成流血。\n刀气命中目标后，恢复本次伤害{3}%的生命。"}]
[{"$f":"IF(語言配置表!A648=\"\",\"\",語言配置表!A648)","v":1111034},{"$f":"IF(語言配置表!A648=\"\",\"CN_待填充内容\",語言配置表!B648)","v":"向前方挥动{0}次，每次挥动形成一道血刃剑气，每道剑气对敌人造成{1}%攻击力的伤害，并有{2}%概率对敌人造成流血。\n刀气命中目标后，恢复本次伤害{3}%的生命。"}]
[{"$f":"IF(語言配置表!A649=\"\",\"\",語言配置表!A649)","v":1111035},{"$f":"IF(語言配置表!A649=\"\",\"CN_待填充内容\",語言配置表!B649)","v":"向前方挥动{0}次，每次挥动形成一道血刃剑气，每道剑气对敌人造成{1}%攻击力的伤害，并有{2}%概率对敌人造成流血。\n刀气命中目标后，恢复本次伤害{3}%的生命。\n刀气对流血状态下的敌人造成的伤害+{4}%"}]
[{"$f":"IF(語言配置表!A650=\"\",\"\",語言配置表!A650)","v":""},{"$f":"IF(語言配置表!A650=\"\",\"CN_待填充内容\",語言配置表!B650)","v":"CN_待填充内容"}]
[{"$f":"IF(語言配置表!A651=\"\",\"\",語言配置表!A651)","v":1111040},{"$f":"IF(語言配置表!A651=\"\",\"CN_待填充内容\",語言配置表!B651)","v":"发射{0}枚飞刀，每把飞刀对敌人造成{1}%攻击力的伤害。"}]
[{"$f":"IF(語言配置表!A652=\"\",\"\",語言配置表!A652)","v":1111041},{"$f":"IF(語言配置表!A652=\"\",\"CN_待填充内容\",語言配置表!B652)","v":"发射{0}枚飞刀，每把飞刀对敌人造成{1}%攻击力的伤害。"}]
[{"$f":"IF(語言配置表!A653=\"\",\"\",語言配置表!A653)","v":1111042},{"$f":"IF(語言配置表!A653=\"\",\"CN_待填充内容\",語言配置表!B653)","v":"发射{0}枚飞刀，每把飞刀对敌人造成{1}%攻击力的伤害。"}]
[{"$f":"IF(語言配置表!A654=\"\",\"\",語言配置表!A654)","v":1111043},{"$f":"IF(語言配置表!A654=\"\",\"CN_待填充内容\",語言配置表!B654)","v":"发射{0}枚飞刀，每把飞刀对敌人造成{1}%攻击力的伤害。"}]
[{"$f":"IF(語言配置表!A655=\"\",\"\",語言配置表!A655)","v":1111044},{"$f":"IF(語言配置表!A655=\"\",\"CN_待填充内容\",語言配置表!B655)","v":"发射{0}枚飞刀，每把飞刀对敌人造成{1}%攻击力的伤害。"}]
[{"$f":"IF(語言配置表!A656=\"\",\"\",語言配置表!A656)","v":1111045},{"$f":"IF(語言配置表!A656=\"\",\"CN_待填充内容\",語言配置表!B656)","v":"发射{0}枚飞刀，每把飞刀对敌人造成{1}%攻击力的伤害。"}]
[{"$f":"IF(語言配置表!A657=\"\",\"\",語言配置表!A657)","v":""},{"$f":"IF(語言配置表!A657=\"\",\"CN_待填充内容\",語言配置表!B657)","v":"CN_待填充内容"}]
[{"$f":"IF(語言配置表!A658=\"\",\"\",語言配置表!A658)","v":1111050},{"$f":"IF(語言配置表!A658=\"\",\"CN_待填充内容\",語言配置表!B658)","v":"手中快速发射{0}枚金针，每枚金针对敌人造成{1}%攻击力的伤害，并有{2}%的概率施加1层流血。"}]
[{"$f":"IF(語言配置表!A659=\"\",\"\",語言配置表!A659)","v":1111051},{"$f":"IF(語言配置表!A659=\"\",\"CN_待填充内容\",語言配置表!B659)","v":"手中快速发射{0}枚金针，每枚金针对敌人造成{1}%攻击力的伤害，并有{2}%的概率施加1层流血。"}]
[{"$f":"IF(語言配置表!A660=\"\",\"\",語言配置表!A660)","v":1111052},{"$f":"IF(語言配置表!A660=\"\",\"CN_待填充内容\",語言配置表!B660)","v":"手中快速发射{0}枚金针，每枚金针对敌人造成{1}%攻击力的伤害，并有{2}%的概率施加1层流血。"}]
[{"$f":"IF(語言配置表!A661=\"\",\"\",語言配置表!A661)","v":1111053},{"$f":"IF(語言配置表!A661=\"\",\"CN_待填充内容\",語言配置表!B661)","v":"手中快速发射{0}枚金针，每枚金针对敌人造成{1}%攻击力的伤害，并有{2}%的概率施加1层流血。"}]
[{"$f":"IF(語言配置表!A662=\"\",\"\",語言配置表!A662)","v":1111054},{"$f":"IF(語言配置表!A662=\"\",\"CN_待填充内容\",語言配置表!B662)","v":"手中快速发射{0}枚金针，每枚金针对敌人造成{1}%攻击力的伤害，并有{2}%的概率施加1层流血。"}]
[{"$f":"IF(語言配置表!A663=\"\",\"\",語言配置表!A663)","v":1111055},{"$f":"IF(語言配置表!A663=\"\",\"CN_待填充内容\",語言配置表!B663)","v":"手中快速发射{0}枚金针，每枚金针对敌人造成{1}%攻击力的伤害，并有{2}%的概率施加1层流血。"}]
[{"$f":"IF(語言配置表!A664=\"\",\"\",語言配置表!A664)","v":""},{"$f":"IF(語言配置表!A664=\"\",\"CN_待填充内容\",語言配置表!B664)","v":"CN_待填充内容"}]
[{"$f":"IF(語言配置表!A665=\"\",\"\",語言配置表!A665)","v":1112010},{"$f":"IF(語言配置表!A665=\"\",\"CN_待填充内容\",語言配置表!B665)","v":"发出{0}道寒气冰锥，每道冰锥对敌人造成{1}%攻击力的伤害，每道冰锥有{2}%的概率对敌人施加1层寒气"}]
[{"$f":"IF(語言配置表!A666=\"\",\"\",語言配置表!A666)","v":1112011},{"$f":"IF(語言配置表!A666=\"\",\"CN_待填充内容\",語言配置表!B666)","v":"发出{0}道寒气冰锥，每道冰锥对敌人造成{1}%攻击力的伤害，每道冰锥有{2}%的概率对敌人施加1层寒气"}]
[{"$f":"IF(語言配置表!A667=\"\",\"\",語言配置表!A667)","v":1112012},{"$f":"IF(語言配置表!A667=\"\",\"CN_待填充内容\",語言配置表!B667)","v":"发出{0}道寒气冰锥，每道冰锥对敌人造成{1}%攻击力的伤害，每道冰锥有{2}%的概率对敌人施加1层寒气"}]
[{"$f":"IF(語言配置表!A668=\"\",\"\",語言配置表!A668)","v":1112013},{"$f":"IF(語言配置表!A668=\"\",\"CN_待填充内容\",語言配置表!B668)","v":"发出{0}道寒气冰锥，每道冰锥对敌人造成{1}%攻击力的伤害，每道冰锥有{2}%的概率对敌人施加1层寒气"}]
[{"$f":"IF(語言配置表!A669=\"\",\"\",語言配置表!A669)","v":1112014},{"$f":"IF(語言配置表!A669=\"\",\"CN_待填充内容\",語言配置表!B669)","v":"发出{0}道寒气冰锥，每道冰锥对敌人造成{1}%攻击力的伤害，每道冰锥有{2}%的概率对敌人施加1层寒气"}]
[{"$f":"IF(語言配置表!A670=\"\",\"\",語言配置表!A670)","v":1112015},{"$f":"IF(語言配置表!A670=\"\",\"CN_待填充内容\",語言配置表!B670)","v":"发出{0}道寒气冰锥，每道冰锥对敌人造成{1}%攻击力的伤害，每道冰锥有{2}%的概率对敌人施加1层寒气"}]
[{"$f":"IF(語言配置表!A671=\"\",\"\",語言配置表!A671)","v":""},{"$f":"IF(語言配置表!A671=\"\",\"CN_待填充内容\",語言配置表!B671)","v":"CN_待填充内容"}]
[{"$f":"IF(語言配置表!A672=\"\",\"\",語言配置表!A672)","v":1112020},{"$f":"IF(語言配置表!A672=\"\",\"CN_待填充内容\",語言配置表!B672)","v":"身体散发出一团迷雾。从迷雾中飞出{0}个冰球，每个冰球对敌人造成{1}%攻击力的伤害，并有{2}%概率施加1层寒气"}]
[{"$f":"IF(語言配置表!A673=\"\",\"\",語言配置表!A673)","v":1112021},{"$f":"IF(語言配置表!A673=\"\",\"CN_待填充内容\",語言配置表!B673)","v":"身体散发出一团迷雾。从迷雾中飞出{0}个冰球，每个冰球对敌人造成{1}%攻击力的伤害，并有{2}%概率施加1层寒气"}]
[{"$f":"IF(語言配置表!A674=\"\",\"\",語言配置表!A674)","v":1112022},{"$f":"IF(語言配置表!A674=\"\",\"CN_待填充内容\",語言配置表!B674)","v":"身体散发出一团迷雾。从迷雾中飞出{0}个冰球，每个冰球对敌人造成{1}%攻击力的伤害，并有{2}%概率施加1层寒气"}]
[{"$f":"IF(語言配置表!A675=\"\",\"\",語言配置表!A675)","v":1112023},{"$f":"IF(語言配置表!A675=\"\",\"CN_待填充内容\",語言配置表!B675)","v":"身体散发出一团迷雾。从迷雾中飞出{0}个冰球，每个冰球对敌人造成{1}%攻击力的伤害，并有{2}%概率施加1层寒气"}]
[{"$f":"IF(語言配置表!A676=\"\",\"\",語言配置表!A676)","v":1112024},{"$f":"IF(語言配置表!A676=\"\",\"CN_待填充内容\",語言配置表!B676)","v":"身体散发出一团迷雾。从迷雾中飞出{0}个冰球，每个冰球对敌人造成{1}%攻击力的伤害，并有{2}%概率施加1层寒气"}]
[{"$f":"IF(語言配置表!A677=\"\",\"\",語言配置表!A677)","v":1112025},{"$f":"IF(語言配置表!A677=\"\",\"CN_待填充内容\",語言配置表!B677)","v":"身体散发出一团迷雾。从迷雾中飞出{0}个冰球，每个冰球对敌人造成{1}%攻击力的伤害，并有{2}%概率施加1层寒气"}]
[{"$f":"IF(語言配置表!A678=\"\",\"\",語言配置表!A678)","v":""},{"$f":"IF(語言配置表!A678=\"\",\"CN_待填充内容\",語言配置表!B678)","v":"CN_待填充内容"}]
[{"$f":"IF(語言配置表!A679=\"\",\"\",語言配置表!A679)","v":""},{"$f":"IF(語言配置表!A679=\"\",\"CN_待填充内容\",語言配置表!B679)","v":"CN_待填充内容"}]
[{"$f":"IF(語言配置表!A680=\"\",\"\",語言配置表!A680)","v":""},{"$f":"IF(語言配置表!A680=\"\",\"CN_待填充内容\",語言配置表!B680)","v":"CN_待填充内容"}]
[{"$f":"IF(語言配置表!A681=\"\",\"\",語言配置表!A681)","v":""},{"$f":"IF(語言配置表!A681=\"\",\"CN_待填充内容\",語言配置表!B681)","v":"CN_待填充内容"}]
[{"$f":"IF(語言配置表!A682=\"\",\"\",語言配置表!A682)","v":""},{"$f":"IF(語言配置表!A682=\"\",\"CN_待填充内容\",語言配置表!B682)","v":"CN_待填充内容"}]
[{"$f":"IF(語言配置表!A683=\"\",\"\",語言配置表!A683)","v":""},{"$f":"IF(語言配置表!A683=\"\",\"CN_待填充内容\",語言配置表!B683)","v":"CN_待填充内容"}]
[{"$f":"IF(語言配置表!A684=\"\",\"\",語言配置表!A684)","v":""},{"$f":"IF(語言配置表!A684=\"\",\"CN_待填充内容\",語言配置表!B684)","v":"CN_待填充内容"}]
[{"$f":"IF(語言配置表!A685=\"\",\"\",語言配置表!A685)","v":""},{"$f":"IF(語言配置表!A685=\"\",\"CN_待填充内容\",語言配置表!B685)","v":"CN_待填充内容"}]
[{"$f":"IF(語言配置表!A686=\"\",\"\",語言配置表!A686)","v":1112040},{"$f":"IF(語言配置表!A686=\"\",\"CN_待填充内容\",語言配置表!B686)","v":"发射{0}枚水球，每枚对敌人造成{1}%攻击力的伤害。"}]
[{"$f":"IF(語言配置表!A687=\"\",\"\",語言配置表!A687)","v":1112041},{"$f":"IF(語言配置表!A687=\"\",\"CN_待填充内容\",語言配置表!B687)","v":"发射{0}枚水球，每枚对敌人造成{1}%攻击力的伤害。"}]
[{"$f":"IF(語言配置表!A688=\"\",\"\",語言配置表!A688)","v":1112042},{"$f":"IF(語言配置表!A688=\"\",\"CN_待填充内容\",語言配置表!B688)","v":"发射{0}枚水球，每枚对敌人造成{1}%攻击力的伤害。"}]
[{"$f":"IF(語言配置表!A689=\"\",\"\",語言配置表!A689)","v":1112043},{"$f":"IF(語言配置表!A689=\"\",\"CN_待填充内容\",語言配置表!B689)","v":"发射{0}枚水球，每枚对敌人造成{1}%攻击力的伤害。"}]
[{"$f":"IF(語言配置表!A690=\"\",\"\",語言配置表!A690)","v":1112044},{"$f":"IF(語言配置表!A690=\"\",\"CN_待填充内容\",語言配置表!B690)","v":"发射{0}枚水球，每枚对敌人造成{1}%攻击力的伤害。"}]
[{"$f":"IF(語言配置表!A691=\"\",\"\",語言配置表!A691)","v":1112045},{"$f":"IF(語言配置表!A691=\"\",\"CN_待填充内容\",語言配置表!B691)","v":"发射{0}枚水球，每枚对敌人造成{1}%攻击力的伤害。"}]
[{"$f":"IF(語言配置表!A692=\"\",\"\",語言配置表!A692)","v":""},{"$f":"IF(語言配置表!A692=\"\",\"CN_待填充内容\",語言配置表!B692)","v":"CN_待填充内容"}]
[{"$f":"IF(語言配置表!A693=\"\",\"\",語言配置表!A693)","v":1112050},{"$f":"IF(語言配置表!A693=\"\",\"CN_待填充内容\",語言配置表!B693)","v":"发射{0}枚冰刀，每把冰刀对敌人造成{1}%攻击力的伤害。"}]
[{"$f":"IF(語言配置表!A694=\"\",\"\",語言配置表!A694)","v":1112051},{"$f":"IF(語言配置表!A694=\"\",\"CN_待填充内容\",語言配置表!B694)","v":"发射{0}枚冰刀，每把冰刀对敌人造成{1}%攻击力的伤害。"}]
[{"$f":"IF(語言配置表!A695=\"\",\"\",語言配置表!A695)","v":1112052},{"$f":"IF(語言配置表!A695=\"\",\"CN_待填充内容\",語言配置表!B695)","v":"发射{0}枚冰刀，每把冰刀对敌人造成{1}%攻击力的伤害。"}]
[{"$f":"IF(語言配置表!A696=\"\",\"\",語言配置表!A696)","v":1112053},{"$f":"IF(語言配置表!A696=\"\",\"CN_待填充内容\",語言配置表!B696)","v":"发射{0}枚冰刀，每把冰刀对敌人造成{1}%攻击力的伤害。"}]
[{"$f":"IF(語言配置表!A697=\"\",\"\",語言配置表!A697)","v":1112054},{"$f":"IF(語言配置表!A697=\"\",\"CN_待填充内容\",語言配置表!B697)","v":"发射{0}枚冰刀，每把冰刀对敌人造成{1}%攻击力的伤害。"}]
[{"$f":"IF(語言配置表!A698=\"\",\"\",語言配置表!A698)","v":1112055},{"$f":"IF(語言配置表!A698=\"\",\"CN_待填充内容\",語言配置表!B698)","v":"发射{0}枚冰刀，每把冰刀对敌人造成{1}%攻击力的伤害。"}]
[{"$f":"IF(語言配置表!A699=\"\",\"\",語言配置表!A699)","v":""},{"$f":"IF(語言配置表!A699=\"\",\"CN_待填充内容\",語言配置表!B699)","v":"CN_待填充内容"}]
[{"$f":"IF(語言配置表!A700=\"\",\"\",語言配置表!A700)","v":1113010},{"$f":"IF(語言配置表!A700=\"\",\"CN_待填充内容\",語言配置表!B700)","v":"发出{0}条细细的毒针，每颗毒针对敌人造成{1}%攻击力的伤害，每颗针有{2}%概率施加1层毒"}]
[{"$f":"IF(語言配置表!A701=\"\",\"\",語言配置表!A701)","v":1113011},{"$f":"IF(語言配置表!A701=\"\",\"CN_待填充内容\",語言配置表!B701)","v":"发出{0}条细细的毒针，每颗毒针对敌人造成{1}%攻击力的伤害，每颗针有{2}%概率施加1层毒"}]
[{"$f":"IF(語言配置表!A702=\"\",\"\",語言配置表!A702)","v":1113012},{"$f":"IF(語言配置表!A702=\"\",\"CN_待填充内容\",語言配置表!B702)","v":"发出{0}条细细的毒针，每颗毒针对敌人造成{1}%攻击力的伤害，每颗针有{2}%概率施加1层毒"}]
[{"$f":"IF(語言配置表!A703=\"\",\"\",語言配置表!A703)","v":1113013},{"$f":"IF(語言配置表!A703=\"\",\"CN_待填充内容\",語言配置表!B703)","v":"发出{0}条细细的毒针，每颗毒针对敌人造成{1}%攻击力的伤害，每颗针有{2}%概率施加1层毒"}]
[{"$f":"IF(語言配置表!A704=\"\",\"\",語言配置表!A704)","v":1113014},{"$f":"IF(語言配置表!A704=\"\",\"CN_待填充内容\",語言配置表!B704)","v":"发出{0}条细细的毒针，每颗毒针对敌人造成{1}%攻击力的伤害，每颗针有{2}%概率施加1层毒"}]
[{"$f":"IF(語言配置表!A705=\"\",\"\",語言配置表!A705)","v":1113015},{"$f":"IF(語言配置表!A705=\"\",\"CN_待填充内容\",語言配置表!B705)","v":"发出{0}条细细的毒针，每颗毒针对敌人造成{1}%攻击力的伤害，每颗针有{2}%概率施加1层毒"}]
[{"$f":"IF(語言配置表!A706=\"\",\"\",語言配置表!A706)","v":""},{"$f":"IF(語言配置表!A706=\"\",\"CN_待填充内容\",語言配置表!B706)","v":"CN_待填充内容"}]
[{"$f":"IF(語言配置表!A707=\"\",\"\",語言配置表!A707)","v":1113020},{"$f":"IF(語言配置表!A707=\"\",\"CN_待填充内容\",語言配置表!B707)","v":"迅速释放{0}掌，每掌对敌人造成{1}%攻击力的伤害，并对敌人施加1层毒,每层毒额外提高{2}%伤害"}]
[{"$f":"IF(語言配置表!A708=\"\",\"\",語言配置表!A708)","v":1113021},{"$f":"IF(語言配置表!A708=\"\",\"CN_待填充内容\",語言配置表!B708)","v":"迅速释放{0}掌，每掌对敌人造成{1}%攻击力的伤害，并对敌人施加1层毒,每层毒额外提高{2}%伤害"}]
[{"$f":"IF(語言配置表!A709=\"\",\"\",語言配置表!A709)","v":1113022},{"$f":"IF(語言配置表!A709=\"\",\"CN_待填充内容\",語言配置表!B709)","v":"迅速释放{0}掌，每掌对敌人造成{1}%攻击力的伤害，并对敌人施加1层毒,每层毒额外提高{2}%伤害"}]
[{"$f":"IF(語言配置表!A710=\"\",\"\",語言配置表!A710)","v":1113023},{"$f":"IF(語言配置表!A710=\"\",\"CN_待填充内容\",語言配置表!B710)","v":"迅速释放{0}掌，每掌对敌人造成{1}%攻击力的伤害，并对敌人施加1层毒,每层毒额外提高{2}%伤害"}]
[{"$f":"IF(語言配置表!A711=\"\",\"\",語言配置表!A711)","v":1113024},{"$f":"IF(語言配置表!A711=\"\",\"CN_待填充内容\",語言配置表!B711)","v":"迅速释放{0}掌，每掌对敌人造成{1}%攻击力的伤害，并对敌人施加1层毒,每层毒额外提高{2}%伤害"}]
[{"$f":"IF(語言配置表!A712=\"\",\"\",語言配置表!A712)","v":1113025},{"$f":"IF(語言配置表!A712=\"\",\"CN_待填充内容\",語言配置表!B712)","v":"迅速释放{0}掌，每掌对敌人造成{1}%攻击力的伤害，并对敌人施加1层毒,每层毒额外提高{2}%伤害"}]
[{"$f":"IF(語言配置表!A713=\"\",\"\",語言配置表!A713)","v":""},{"$f":"IF(語言配置表!A713=\"\",\"CN_待填充内容\",語言配置表!B713)","v":"CN_待填充内容"}]
[{"$f":"IF(語言配置表!A714=\"\",\"\",語言配置表!A714)","v":""},{"$f":"IF(語言配置表!A714=\"\",\"CN_待填充内容\",語言配置表!B714)","v":"CN_待填充内容"}]
[{"$f":"IF(語言配置表!A715=\"\",\"\",語言配置表!A715)","v":""},{"$f":"IF(語言配置表!A715=\"\",\"CN_待填充内容\",語言配置表!B715)","v":"CN_待填充内容"}]
[{"$f":"IF(語言配置表!A716=\"\",\"\",語言配置表!A716)","v":""},{"$f":"IF(語言配置表!A716=\"\",\"CN_待填充内容\",語言配置表!B716)","v":"CN_待填充内容"}]
[{"$f":"IF(語言配置表!A717=\"\",\"\",語言配置表!A717)","v":""},{"$f":"IF(語言配置表!A717=\"\",\"CN_待填充内容\",語言配置表!B717)","v":"CN_待填充内容"}]
[{"$f":"IF(語言配置表!A718=\"\",\"\",語言配置表!A718)","v":""},{"$f":"IF(語言配置表!A718=\"\",\"CN_待填充内容\",語言配置表!B718)","v":"CN_待填充内容"}]
[{"$f":"IF(語言配置表!A719=\"\",\"\",語言配置表!A719)","v":""},{"$f":"IF(語言配置表!A719=\"\",\"CN_待填充内容\",語言配置表!B719)","v":"CN_待填充内容"}]
[{"$f":"IF(語言配置表!A720=\"\",\"\",語言配置表!A720)","v":""},{"$f":"IF(語言配置表!A720=\"\",\"CN_待填充内容\",語言配置表!B720)","v":"CN_待填充内容"}]
[{"$f":"IF(語言配置表!A721=\"\",\"\",語言配置表!A721)","v":1113040},{"$f":"IF(語言配置表!A721=\"\",\"CN_待填充内容\",語言配置表!B721)","v":"发射{0}枚竹刺，每发对敌人造成{1}%攻击力的伤害。"}]
[{"$f":"IF(語言配置表!A722=\"\",\"\",語言配置表!A722)","v":1113041},{"$f":"IF(語言配置表!A722=\"\",\"CN_待填充内容\",語言配置表!B722)","v":"发射{0}枚竹刺，每发对敌人造成{1}%攻击力的伤害。"}]
[{"$f":"IF(語言配置表!A723=\"\",\"\",語言配置表!A723)","v":1113042},{"$f":"IF(語言配置表!A723=\"\",\"CN_待填充内容\",語言配置表!B723)","v":"发射{0}枚竹刺，每发对敌人造成{1}%攻击力的伤害。"}]
[{"$f":"IF(語言配置表!A724=\"\",\"\",語言配置表!A724)","v":1113043},{"$f":"IF(語言配置表!A724=\"\",\"CN_待填充内容\",語言配置表!B724)","v":"发射{0}枚竹刺，每发对敌人造成{1}%攻击力的伤害。"}]
[{"$f":"IF(語言配置表!A725=\"\",\"\",語言配置表!A725)","v":1113044},{"$f":"IF(語言配置表!A725=\"\",\"CN_待填充内容\",語言配置表!B725)","v":"发射{0}枚竹刺，每发对敌人造成{1}%攻击力的伤害。"}]
[{"$f":"IF(語言配置表!A726=\"\",\"\",語言配置表!A726)","v":1113045},{"$f":"IF(語言配置表!A726=\"\",\"CN_待填充内容\",語言配置表!B726)","v":"发射{0}枚竹刺，每发对敌人造成{1}%攻击力的伤害。"}]
[{"$f":"IF(語言配置表!A727=\"\",\"\",語言配置表!A727)","v":""},{"$f":"IF(語言配置表!A727=\"\",\"CN_待填充内容\",語言配置表!B727)","v":"CN_待填充内容"}]
[{"$f":"IF(語言配置表!A728=\"\",\"\",語言配置表!A728)","v":1113050},{"$f":"IF(語言配置表!A728=\"\",\"CN_待填充内容\",語言配置表!B728)","v":"发射{0}枚飞叶，每发对敌人造成{1}%攻击力的伤害。"}]
[{"$f":"IF(語言配置表!A729=\"\",\"\",語言配置表!A729)","v":1113051},{"$f":"IF(語言配置表!A729=\"\",\"CN_待填充内容\",語言配置表!B729)","v":"发射{0}枚飞叶，每发对敌人造成{1}%攻击力的伤害。"}]
[{"$f":"IF(語言配置表!A730=\"\",\"\",語言配置表!A730)","v":1113052},{"$f":"IF(語言配置表!A730=\"\",\"CN_待填充内容\",語言配置表!B730)","v":"发射{0}枚飞叶，每发对敌人造成{1}%攻击力的伤害。"}]
[{"$f":"IF(語言配置表!A731=\"\",\"\",語言配置表!A731)","v":1113053},{"$f":"IF(語言配置表!A731=\"\",\"CN_待填充内容\",語言配置表!B731)","v":"发射{0}枚飞叶，每发对敌人造成{1}%攻击力的伤害。"}]
[{"$f":"IF(語言配置表!A732=\"\",\"\",語言配置表!A732)","v":1113054},{"$f":"IF(語言配置表!A732=\"\",\"CN_待填充内容\",語言配置表!B732)","v":"发射{0}枚飞叶，每发对敌人造成{1}%攻击力的伤害。"}]
[{"$f":"IF(語言配置表!A733=\"\",\"\",語言配置表!A733)","v":1113055},{"$f":"IF(語言配置表!A733=\"\",\"CN_待填充内容\",語言配置表!B733)","v":"发射{0}枚飞叶，每发对敌人造成{1}%攻击力的伤害。"}]
[{"$f":"IF(語言配置表!A734=\"\",\"\",語言配置表!A734)","v":""},{"$f":"IF(語言配置表!A734=\"\",\"CN_待填充内容\",語言配置表!B734)","v":"CN_待填充内容"}]
[{"$f":"IF(語言配置表!A735=\"\",\"\",語言配置表!A735)","v":1114010},{"$f":"IF(語言配置表!A735=\"\",\"CN_待填充内容\",語言配置表!B735)","v":"向前方发出{0}柄飞剑，每柄飞剑对敌人造成{1}%攻击力的伤害，并有{2}%的概率施加1层灼烧。"}]
[{"$f":"IF(語言配置表!A736=\"\",\"\",語言配置表!A736)","v":1114011},{"$f":"IF(語言配置表!A736=\"\",\"CN_待填充内容\",語言配置表!B736)","v":"向前方发出{0}柄飞剑，每柄飞剑对敌人造成{1}%攻击力的伤害，并有{2}%的概率施加1层灼烧。"}]
[{"$f":"IF(語言配置表!A737=\"\",\"\",語言配置表!A737)","v":1114012},{"$f":"IF(語言配置表!A737=\"\",\"CN_待填充内容\",語言配置表!B737)","v":"向前方发出{0}柄飞剑，每柄飞剑对敌人造成{1}%攻击力的伤害，并有{2}%的概率施加1层灼烧。"}]
[{"$f":"IF(語言配置表!A738=\"\",\"\",語言配置表!A738)","v":1114013},{"$f":"IF(語言配置表!A738=\"\",\"CN_待填充内容\",語言配置表!B738)","v":"向前方发出{0}柄飞剑，每柄飞剑对敌人造成{1}%攻击力的伤害，并有{2}%的概率施加1层灼烧。"}]
[{"$f":"IF(語言配置表!A739=\"\",\"\",語言配置表!A739)","v":1114014},{"$f":"IF(語言配置表!A739=\"\",\"CN_待填充内容\",語言配置表!B739)","v":"向前方发出{0}柄飞剑，每柄飞剑对敌人造成{1}%攻击力的伤害，并有{2}%的概率施加1层灼烧。"}]
[{"$f":"IF(語言配置表!A740=\"\",\"\",語言配置表!A740)","v":1114015},{"$f":"IF(語言配置表!A740=\"\",\"CN_待填充内容\",語言配置表!B740)","v":"向前方发出{0}柄飞剑，每柄飞剑对敌人造成{1}%攻击力的伤害，并有{2}%的概率施加1层灼烧。\n每柄烈焰剑将会对敌人造成爆燃，爆燃额外造成{3}%攻击力的伤害。"}]
[{"$f":"IF(語言配置表!A741=\"\",\"\",語言配置表!A741)","v":""},{"$f":"IF(語言配置表!A741=\"\",\"CN_待填充内容\",語言配置表!B741)","v":"CN_待填充内容"}]
[{"$f":"IF(語言配置表!A742=\"\",\"\",語言配置表!A742)","v":1114020},{"$f":"IF(語言配置表!A742=\"\",\"CN_待填充内容\",語言配置表!B742)","v":"飞出{0}道巨龙，每道巨龙对敌人造成{1}%攻击力的伤害。"}]
[{"$f":"IF(語言配置表!A743=\"\",\"\",語言配置表!A743)","v":1114021},{"$f":"IF(語言配置表!A743=\"\",\"CN_待填充内容\",語言配置表!B743)","v":"飞出{0}道巨龙，每道巨龙对敌人造成{1}%攻击力的伤害。\n如果敌人处于灼烧中，每层灼烧对其有{2}%概率造成胆摄，眩晕敌人{3}秒。"}]
[{"$f":"IF(語言配置表!A744=\"\",\"\",語言配置表!A744)","v":1114022},{"$f":"IF(語言配置表!A744=\"\",\"CN_待填充内容\",語言配置表!B744)","v":"飞出{0}道巨龙，每道巨龙对敌人造成{1}%攻击力的伤害。\n如果敌人处于灼烧中，每层灼烧对其有{2}%概率造成胆摄，眩晕敌人{3}秒。"}]
[{"$f":"IF(語言配置表!A745=\"\",\"\",語言配置表!A745)","v":1114023},{"$f":"IF(語言配置表!A745=\"\",\"CN_待填充内容\",語言配置表!B745)","v":"飞出{0}道巨龙，每道巨龙对敌人造成{1}%攻击力的伤害。\n如果敌人处于灼烧中，每层灼烧对其有{2}%概率造成胆摄，眩晕敌人{3}秒。"}]
[{"$f":"IF(語言配置表!A746=\"\",\"\",語言配置表!A746)","v":1114024},{"$f":"IF(語言配置表!A746=\"\",\"CN_待填充内容\",語言配置表!B746)","v":"飞出{0}道巨龙，每道巨龙对敌人造成{1}%攻击力的伤害。\n并施加一层灼烧\n如果敌人处于灼烧中，每层灼烧对其有{2}%概率造成胆摄，眩晕敌人{3}秒。"}]
[{"$f":"IF(語言配置表!A747=\"\",\"\",語言配置表!A747)","v":1114025},{"$f":"IF(語言配置表!A747=\"\",\"CN_待填充内容\",語言配置表!B747)","v":"飞出{0}道巨龙，每道巨龙对敌人造成{1}%攻击力的伤害。\n如果敌人处于灼烧造成伤害时，每层燃烧有{2}%的概率对其眩晕{3}秒\n并施加一层灼烧\n飞龙命中目标后引发天雷，对敌人额外造成{4}%攻击力的伤害。"}]
[{"$f":"IF(語言配置表!A748=\"\",\"\",語言配置表!A748)","v":""},{"$f":"IF(語言配置表!A748=\"\",\"CN_待填充内容\",語言配置表!B748)","v":"CN_待填充内容"}]
[{"$f":"IF(語言配置表!A749=\"\",\"\",語言配置表!A749)","v":1114030},{"$f":"IF(語言配置表!A749=\"\",\"CN_待填充内容\",語言配置表!B749)","v":"身后出现一只大手，每个手指发射{0}道烈焰，每道对敌人造成{1}%攻击力的伤害，同时有{2}%概率施加1层灼烧。"}]
[{"$f":"IF(語言配置表!A750=\"\",\"\",語言配置表!A750)","v":1114031},{"$f":"IF(語言配置表!A750=\"\",\"CN_待填充内容\",語言配置表!B750)","v":"身后出现一只大手，每个手指发射{0}道烈焰，每道对敌人造成{1}%攻击力的伤害，同时有{2}%概率施加1层灼烧。\n对有灼烧的敌人额外造成{3}%最终伤害。"}]
[{"$f":"IF(語言配置表!A751=\"\",\"\",語言配置表!A751)","v":1114032},{"$f":"IF(語言配置表!A751=\"\",\"CN_待填充内容\",語言配置表!B751)","v":"身后出现一只大手，每个手指发射{0}道烈焰，每道对敌人造成{1}%攻击力的伤害，同时有{2}%概率施加1层灼烧。\n对有灼烧的敌人额外造成{3}%最终伤害。"}]
[{"$f":"IF(語言配置表!A752=\"\",\"\",語言配置表!A752)","v":1114033},{"$f":"IF(語言配置表!A752=\"\",\"CN_待填充内容\",語言配置表!B752)","v":"身后出现一只大手，每个手指发射{0}道烈焰，每道对敌人造成{1}%攻击力的伤害，同时有{2}%概率施加1层灼烧。\n对有灼烧的敌人额外造成{3}%最终伤害。"}]
[{"$f":"IF(語言配置表!A753=\"\",\"\",語言配置表!A753)","v":1114034},{"$f":"IF(語言配置表!A753=\"\",\"CN_待填充内容\",語言配置表!B753)","v":"身后出现一只大手，每个手指发射{0}道烈焰，每道对敌人造成{1}%攻击力的伤害，同时有{2}%概率施加1层灼烧。\n对有灼烧的敌人额外造成{3}%最终伤害。"}]
[{"$f":"IF(語言配置表!A754=\"\",\"\",語言配置表!A754)","v":1114035},{"$f":"IF(語言配置表!A754=\"\",\"CN_待填充内容\",語言配置表!B754)","v":"身后出现一只大手，每个手指发射{0}道烈焰，每道对敌人造成{1}%攻击力的伤害，同时有{2}%概率施加1层灼烧。\n对有灼烧的敌人额外造成{3}%最终伤害。\n烈焰数量翻倍，但每道烈焰伤害降低{4}%。"}]
[{"$f":"IF(語言配置表!A755=\"\",\"\",語言配置表!A755)","v":""},{"$f":"IF(語言配置表!A755=\"\",\"CN_待填充内容\",語言配置表!B755)","v":"CN_待填充内容"}]
[{"$f":"IF(語言配置表!A756=\"\",\"\",語言配置表!A756)","v":1114040},{"$f":"IF(語言配置表!A756=\"\",\"CN_待填充内容\",語言配置表!B756)","v":"发射{0}枚火球，每枚火球对敌人造成{1}%攻击力的伤害。有{2}%概率对敌人施加1层灼烧"}]
[{"$f":"IF(語言配置表!A757=\"\",\"\",語言配置表!A757)","v":1114041},{"$f":"IF(語言配置表!A757=\"\",\"CN_待填充内容\",語言配置表!B757)","v":"发射{0}枚火球，每枚火球对敌人造成{1}%攻击力的伤害。有{2}%概率对敌人施加1层灼烧"}]
[{"$f":"IF(語言配置表!A758=\"\",\"\",語言配置表!A758)","v":1114042},{"$f":"IF(語言配置表!A758=\"\",\"CN_待填充内容\",語言配置表!B758)","v":"发射{0}枚火球，每枚火球对敌人造成{1}%攻击力的伤害。有{2}%概率对敌人施加1层灼烧"}]
[{"$f":"IF(語言配置表!A759=\"\",\"\",語言配置表!A759)","v":1114043},{"$f":"IF(語言配置表!A759=\"\",\"CN_待填充内容\",語言配置表!B759)","v":"发射{0}枚火球，每枚火球对敌人造成{1}%攻击力的伤害。有{2}%概率对敌人施加1层灼烧"}]
[{"$f":"IF(語言配置表!A760=\"\",\"\",語言配置表!A760)","v":1114044},{"$f":"IF(語言配置表!A760=\"\",\"CN_待填充内容\",語言配置表!B760)","v":"发射{0}枚火球，每枚火球对敌人造成{1}%攻击力的伤害。有{2}%概率对敌人施加1层灼烧"}]
[{"$f":"IF(語言配置表!A761=\"\",\"\",語言配置表!A761)","v":1114045},{"$f":"IF(語言配置表!A761=\"\",\"CN_待填充内容\",語言配置表!B761)","v":"发射{0}枚火球，每枚火球对敌人造成{1}%攻击力的伤害。有{2}%概率对敌人施加1层灼烧"}]
[{"$f":"IF(語言配置表!A762=\"\",\"\",語言配置表!A762)","v":""},{"$f":"IF(語言配置表!A762=\"\",\"CN_待填充内容\",語言配置表!B762)","v":"CN_待填充内容"}]
[{"$f":"IF(語言配置表!A763=\"\",\"\",語言配置表!A763)","v":1114050},{"$f":"IF(語言配置表!A763=\"\",\"CN_待填充内容\",語言配置表!B763)","v":"发射{0}枚火刃，每柄火刃对敌人造成{1}%攻击力的伤害。"}]
[{"$f":"IF(語言配置表!A764=\"\",\"\",語言配置表!A764)","v":1114051},{"$f":"IF(語言配置表!A764=\"\",\"CN_待填充内容\",語言配置表!B764)","v":"发射{0}枚火刃，每柄火刃对敌人造成{1}%攻击力的伤害。"}]
[{"$f":"IF(語言配置表!A765=\"\",\"\",語言配置表!A765)","v":1114052},{"$f":"IF(語言配置表!A765=\"\",\"CN_待填充内容\",語言配置表!B765)","v":"发射{0}枚火刃，每柄火刃对敌人造成{1}%攻击力的伤害。"}]
[{"$f":"IF(語言配置表!A766=\"\",\"\",語言配置表!A766)","v":1114053},{"$f":"IF(語言配置表!A766=\"\",\"CN_待填充内容\",語言配置表!B766)","v":"发射{0}枚火刃，每柄火刃对敌人造成{1}%攻击力的伤害。"}]
[{"$f":"IF(語言配置表!A767=\"\",\"\",語言配置表!A767)","v":1114054},{"$f":"IF(語言配置表!A767=\"\",\"CN_待填充内容\",語言配置表!B767)","v":"发射{0}枚火刃，每柄火刃对敌人造成{1}%攻击力的伤害。"}]
[{"$f":"IF(語言配置表!A768=\"\",\"\",語言配置表!A768)","v":1114055},{"$f":"IF(語言配置表!A768=\"\",\"CN_待填充内容\",語言配置表!B768)","v":"发射{0}枚火刃，每柄火刃对敌人造成{1}%攻击力的伤害。"}]
[{"$f":"IF(語言配置表!A769=\"\",\"\",語言配置表!A769)","v":""},{"$f":"IF(語言配置表!A769=\"\",\"CN_待填充内容\",語言配置表!B769)","v":"CN_待填充内容"}]
[{"$f":"IF(語言配置表!A770=\"\",\"\",語言配置表!A770)","v":1115010},{"$f":"IF(語言配置表!A770=\"\",\"CN_待填充内容\",語言配置表!B770)","v":"沙尘汇聚成{0}枚土刺，每枚土刺对敌人造成{1}%攻击力的伤害，并有{2}%概率施加1层细尘。"}]
[{"$f":"IF(語言配置表!A771=\"\",\"\",語言配置表!A771)","v":1115011},{"$f":"IF(語言配置表!A771=\"\",\"CN_待填充内容\",語言配置表!B771)","v":"沙尘汇聚成{0}枚土刺，每枚土刺对敌人造成{1}%攻击力的伤害，并有{2}%概率施加1层细尘。"}]
[{"$f":"IF(語言配置表!A772=\"\",\"\",語言配置表!A772)","v":1115012},{"$f":"IF(語言配置表!A772=\"\",\"CN_待填充内容\",語言配置表!B772)","v":"沙尘汇聚成{0}枚土刺，每枚土刺对敌人造成{1}%攻击力的伤害，并有{2}%概率施加1层细尘。"}]
[{"$f":"IF(語言配置表!A773=\"\",\"\",語言配置表!A773)","v":1115013},{"$f":"IF(語言配置表!A773=\"\",\"CN_待填充内容\",語言配置表!B773)","v":"沙尘汇聚成{0}枚土刺，每枚土刺对敌人造成{1}%攻击力的伤害，并有{2}%概率施加1层细尘。"}]
[{"$f":"IF(語言配置表!A774=\"\",\"\",語言配置表!A774)","v":1115014},{"$f":"IF(語言配置表!A774=\"\",\"CN_待填充内容\",語言配置表!B774)","v":"沙尘汇聚成{0}枚土刺，每枚土刺对敌人造成{1}%攻击力的伤害，并有{2}%概率施加1层细尘。"}]
[{"$f":"IF(語言配置表!A775=\"\",\"\",語言配置表!A775)","v":1115015},{"$f":"IF(語言配置表!A775=\"\",\"CN_待填充内容\",語言配置表!B775)","v":"沙尘汇聚成{0}枚土刺，每枚土刺对敌人造成{1}%攻击力的伤害，并有{2}%概率施加1层细尘。"}]
[{"$f":"IF(語言配置表!A776=\"\",\"\",語言配置表!A776)","v":""},{"$f":"IF(語言配置表!A776=\"\",\"CN_待填充内容\",語言配置表!B776)","v":"CN_待填充内容"}]
[{"$f":"IF(語言配置表!A777=\"\",\"\",語言配置表!A777)","v":1115020},{"$f":"IF(語言配置表!A777=\"\",\"CN_待填充内容\",語言配置表!B777)","v":"一柄虚空形成的大刀，横空挥砍形成{0}个剑气，每道剑气对敌人造成{1}%攻击力的伤害，并叠加1层细沙"}]
[{"$f":"IF(語言配置表!A778=\"\",\"\",語言配置表!A778)","v":1115021},{"$f":"IF(語言配置表!A778=\"\",\"CN_待填充内容\",語言配置表!B778)","v":"一柄虚空形成的大刀，横空挥砍形成{0}个剑气，每道剑气对敌人造成{1}%攻击力的伤害，并叠加1层细沙"}]
[{"$f":"IF(語言配置表!A779=\"\",\"\",語言配置表!A779)","v":1115022},{"$f":"IF(語言配置表!A779=\"\",\"CN_待填充内容\",語言配置表!B779)","v":"一柄虚空形成的大刀，横空挥砍形成{0}个剑气，每道剑气对敌人造成{1}%攻击力的伤害，并叠加1层细沙"}]
[{"$f":"IF(語言配置表!A780=\"\",\"\",語言配置表!A780)","v":1115023},{"$f":"IF(語言配置表!A780=\"\",\"CN_待填充内容\",語言配置表!B780)","v":"一柄虚空形成的大刀，横空挥砍形成{0}个剑气，每道剑气对敌人造成{1}%攻击力的伤害，并叠加1层细沙"}]
[{"$f":"IF(語言配置表!A781=\"\",\"\",語言配置表!A781)","v":1115024},{"$f":"IF(語言配置表!A781=\"\",\"CN_待填充内容\",語言配置表!B781)","v":"一柄虚空形成的大刀，横空挥砍形成{0}个剑气，每道剑气对敌人造成{1}%攻击力的伤害，并叠加1层细沙"}]
[{"$f":"IF(語言配置表!A782=\"\",\"\",語言配置表!A782)","v":1115025},{"$f":"IF(語言配置表!A782=\"\",\"CN_待填充内容\",語言配置表!B782)","v":"一柄虚空形成的大刀，横空挥砍形成{0}个剑气，每道剑气对敌人造成{1}%攻击力的伤害，并叠加1层细沙"}]
[{"$f":"IF(語言配置表!A783=\"\",\"\",語言配置表!A783)","v":""},{"$f":"IF(語言配置表!A783=\"\",\"CN_待填充内容\",語言配置表!B783)","v":"CN_待填充内容"}]
[{"$f":"IF(語言配置表!A784=\"\",\"\",語言配置表!A784)","v":""},{"$f":"IF(語言配置表!A784=\"\",\"CN_待填充内容\",語言配置表!B784)","v":"CN_待填充内容"}]
[{"$f":"IF(語言配置表!A785=\"\",\"\",語言配置表!A785)","v":""},{"$f":"IF(語言配置表!A785=\"\",\"CN_待填充内容\",語言配置表!B785)","v":"CN_待填充内容"}]
[{"$f":"IF(語言配置表!A786=\"\",\"\",語言配置表!A786)","v":""},{"$f":"IF(語言配置表!A786=\"\",\"CN_待填充内容\",語言配置表!B786)","v":"CN_待填充内容"}]
[{"$f":"IF(語言配置表!A787=\"\",\"\",語言配置表!A787)","v":""},{"$f":"IF(語言配置表!A787=\"\",\"CN_待填充内容\",語言配置表!B787)","v":"CN_待填充内容"}]
[{"$f":"IF(語言配置表!A788=\"\",\"\",語言配置表!A788)","v":""},{"$f":"IF(語言配置表!A788=\"\",\"CN_待填充内容\",語言配置表!B788)","v":"CN_待填充内容"}]
[{"$f":"IF(語言配置表!A789=\"\",\"\",語言配置表!A789)","v":""},{"$f":"IF(語言配置表!A789=\"\",\"CN_待填充内容\",語言配置表!B789)","v":"CN_待填充内容"}]
[{"$f":"IF(語言配置表!A790=\"\",\"\",語言配置表!A790)","v":""},{"$f":"IF(語言配置表!A790=\"\",\"CN_待填充内容\",語言配置表!B790)","v":"CN_待填充内容"}]
[{"$f":"IF(語言配置表!A791=\"\",\"\",語言配置表!A791)","v":1115040},{"$f":"IF(語言配置表!A791=\"\",\"CN_待填充内容\",語言配置表!B791)","v":"从天而降{0}枚落石，每颗对敌人造成{1}%攻击力的伤害。"}]
[{"$f":"IF(語言配置表!A792=\"\",\"\",語言配置表!A792)","v":1115041},{"$f":"IF(語言配置表!A792=\"\",\"CN_待填充内容\",語言配置表!B792)","v":"从天而降{0}枚落石，每颗对敌人造成{1}%攻击力的伤害。"}]
[{"$f":"IF(語言配置表!A793=\"\",\"\",語言配置表!A793)","v":1115042},{"$f":"IF(語言配置表!A793=\"\",\"CN_待填充内容\",語言配置表!B793)","v":"从天而降{0}枚落石，每颗对敌人造成{1}%攻击力的伤害。"}]
[{"$f":"IF(語言配置表!A794=\"\",\"\",語言配置表!A794)","v":1115043},{"$f":"IF(語言配置表!A794=\"\",\"CN_待填充内容\",語言配置表!B794)","v":"从天而降{0}枚落石，每颗对敌人造成{1}%攻击力的伤害。"}]
[{"$f":"IF(語言配置表!A795=\"\",\"\",語言配置表!A795)","v":1115044},{"$f":"IF(語言配置表!A795=\"\",\"CN_待填充内容\",語言配置表!B795)","v":"从天而降{0}枚落石，每颗对敌人造成{1}%攻击力的伤害。"}]
[{"$f":"IF(語言配置表!A796=\"\",\"\",語言配置表!A796)","v":1115045},{"$f":"IF(語言配置表!A796=\"\",\"CN_待填充内容\",語言配置表!B796)","v":"从天而降{0}枚落石，每颗对敌人造成{1}%攻击力的伤害。"}]
[{"$f":"IF(語言配置表!A797=\"\",\"\",語言配置表!A797)","v":""},{"$f":"IF(語言配置表!A797=\"\",\"CN_待填充内容\",語言配置表!B797)","v":"CN_待填充内容"}]
[{"$f":"IF(語言配置表!A798=\"\",\"\",語言配置表!A798)","v":1115050},{"$f":"IF(語言配置表!A798=\"\",\"CN_待填充内容\",語言配置表!B798)","v":"发射{0}枚小石头，每颗对敌人造成{1}%攻击力的伤害。"}]
[{"$f":"IF(語言配置表!A799=\"\",\"\",語言配置表!A799)","v":1115051},{"$f":"IF(語言配置表!A799=\"\",\"CN_待填充内容\",語言配置表!B799)","v":"发射{0}枚小石头，每颗对敌人造成{1}%攻击力的伤害。"}]
[{"$f":"IF(語言配置表!A800=\"\",\"\",語言配置表!A800)","v":1115052},{"$f":"IF(語言配置表!A800=\"\",\"CN_待填充内容\",語言配置表!B800)","v":"发射{0}枚小石头，每颗对敌人造成{1}%攻击力的伤害。"}]
[{"$f":"IF(語言配置表!A801=\"\",\"\",語言配置表!A801)","v":1115053},{"$f":"IF(語言配置表!A801=\"\",\"CN_待填充内容\",語言配置表!B801)","v":"发射{0}枚小石头，每颗对敌人造成{1}%攻击力的伤害。"}]
[{"$f":"IF(語言配置表!A802=\"\",\"\",語言配置表!A802)","v":1115054},{"$f":"IF(語言配置表!A802=\"\",\"CN_待填充内容\",語言配置表!B802)","v":"发射{0}枚小石头，每颗对敌人造成{1}%攻击力的伤害。"}]
[{"$f":"IF(語言配置表!A803=\"\",\"\",語言配置表!A803)","v":1115055},{"$f":"IF(語言配置表!A803=\"\",\"CN_待填充内容\",語言配置表!B803)","v":"发射{0}枚小石头，每颗对敌人造成{1}%攻击力的伤害。"}]
[{"$f":"IF(語言配置表!A804=\"\",\"\",語言配置表!A804)","v":""},{"$f":"IF(語言配置表!A804=\"\",\"CN_待填充内容\",語言配置表!B804)","v":"CN_待填充内容"}]
[{"$f":"IF(語言配置表!A805=\"\",\"\",語言配置表!A805)","v":""},{"$f":"IF(語言配置表!A805=\"\",\"CN_待填充内容\",語言配置表!B805)","v":"CN_待填充内容"}]
[{"$f":"IF(語言配置表!A806=\"\",\"\",語言配置表!A806)","v":1120010},{"$f":"IF(語言配置表!A806=\"\",\"CN_待填充内容\",語言配置表!B806)","v":"引星辰之力入体，增强体魄，\n使后方槽位的功法无视功法法宝带来的防护罩以及自身护盾"}]
[{"$f":"IF(語言配置表!A807=\"\",\"\",語言配置表!A807)","v":1120011},{"$f":"IF(語言配置表!A807=\"\",\"CN_待填充内容\",語言配置表!B807)","v":"引星辰之力入体，增强体魄，\n使后方槽位的功法无视功法法宝带来的防护罩以及自身护盾"}]
[{"$f":"IF(語言配置表!A808=\"\",\"\",語言配置表!A808)","v":1120012},{"$f":"IF(語言配置表!A808=\"\",\"CN_待填充内容\",語言配置表!B808)","v":"引星辰之力入体，增强体魄，\n使后方槽位的功法无视功法法宝带来的防护罩以及自身护盾"}]
[{"$f":"IF(語言配置表!A809=\"\",\"\",語言配置表!A809)","v":1120013},{"$f":"IF(語言配置表!A809=\"\",\"CN_待填充内容\",語言配置表!B809)","v":"引星辰之力入体，增强体魄，\n使后方槽位的功法无视功法法宝带来的防护罩以及自身护盾"}]
[{"$f":"IF(語言配置表!A810=\"\",\"\",語言配置表!A810)","v":1120014},{"$f":"IF(語言配置表!A810=\"\",\"CN_待填充内容\",語言配置表!B810)","v":"引星辰之力入体，增强体魄，\n使后方槽位的功法无视功法法宝带来的防护罩以及自身护盾"}]
[{"$f":"IF(語言配置表!A811=\"\",\"\",語言配置表!A811)","v":1120015},{"$f":"IF(語言配置表!A811=\"\",\"CN_待填充内容\",語言配置表!B811)","v":"引星辰之力入体，增强体魄，\n使后方槽位的功法无视功法法宝带来的防护罩以及自身护盾"}]
[{"$f":"IF(語言配置表!A812=\"\",\"\",語言配置表!A812)","v":""},{"$f":"IF(語言配置表!A812=\"\",\"CN_待填充内容\",語言配置表!B812)","v":"CN_待填充内容"}]
[{"$f":"IF(語言配置表!A813=\"\",\"\",語言配置表!A813)","v":1120020},{"$f":"IF(語言配置表!A813=\"\",\"CN_待填充内容\",語言配置表!B813)","v":"后方槽位功法命中目标后，为法宝提供{0}%的充能"}]
[{"$f":"IF(語言配置表!A814=\"\",\"\",語言配置表!A814)","v":1120021},{"$f":"IF(語言配置表!A814=\"\",\"CN_待填充内容\",語言配置表!B814)","v":"后方槽位功法命中目标后，为法宝提供{0}%的充能"}]
[{"$f":"IF(語言配置表!A815=\"\",\"\",語言配置表!A815)","v":1120022},{"$f":"IF(語言配置表!A815=\"\",\"CN_待填充内容\",語言配置表!B815)","v":"后方槽位功法命中目标后，为法宝提供{0}%的充能"}]
[{"$f":"IF(語言配置表!A816=\"\",\"\",語言配置表!A816)","v":1120023},{"$f":"IF(語言配置表!A816=\"\",\"CN_待填充内容\",語言配置表!B816)","v":"后方槽位功法命中目标后，为法宝提供{0}%的充能"}]
[{"$f":"IF(語言配置表!A817=\"\",\"\",語言配置表!A817)","v":1120024},{"$f":"IF(語言配置表!A817=\"\",\"CN_待填充内容\",語言配置表!B817)","v":"后方槽位功法命中目标后，为法宝提供{0}%的充能"}]
[{"$f":"IF(語言配置表!A818=\"\",\"\",語言配置表!A818)","v":1120025},{"$f":"IF(語言配置表!A818=\"\",\"CN_待填充内容\",語言配置表!B818)","v":"后方槽位功法命中目标后，为法宝提供{0}%的充能。\n法宝可以瞬间施放，且规避法宝对拼。"}]
[{"$f":"IF(語言配置表!A819=\"\",\"\",語言配置表!A819)","v":""},{"$f":"IF(語言配置表!A819=\"\",\"CN_待填充内容\",語言配置表!B819)","v":"CN_待填充内容"}]
[{"$f":"IF(語言配置表!A820=\"\",\"\",語言配置表!A820)","v":1120030},{"$f":"IF(語言配置表!A820=\"\",\"CN_待填充内容\",語言配置表!B820)","v":"前方功法造成伤害时有{0}%概率施加一层对应属性的伤势"}]
[{"$f":"IF(語言配置表!A821=\"\",\"\",語言配置表!A821)","v":1120031},{"$f":"IF(語言配置表!A821=\"\",\"CN_待填充内容\",語言配置表!B821)","v":"前方功法造成伤害时有{0}%概率施加一层对应属性的伤势"}]
[{"$f":"IF(語言配置表!A822=\"\",\"\",語言配置表!A822)","v":1120032},{"$f":"IF(語言配置表!A822=\"\",\"CN_待填充内容\",語言配置表!B822)","v":"前方功法造成伤害时有{0}%概率施加一层对应属性的伤势"}]
[{"$f":"IF(語言配置表!A823=\"\",\"\",語言配置表!A823)","v":1120033},{"$f":"IF(語言配置表!A823=\"\",\"CN_待填充内容\",語言配置表!B823)","v":"前方功法造成伤害时有{0}%概率施加一层对应属性的伤势"}]
[{"$f":"IF(語言配置表!A824=\"\",\"\",語言配置表!A824)","v":1120034},{"$f":"IF(語言配置表!A824=\"\",\"CN_待填充内容\",語言配置表!B824)","v":"前方功法造成伤害时有{0}%概率施加一层对应属性的伤势"}]
[{"$f":"IF(語言配置表!A825=\"\",\"\",語言配置表!A825)","v":1120035},{"$f":"IF(語言配置表!A825=\"\",\"CN_待填充内容\",語言配置表!B825)","v":"前方功法造成伤害时有{0}%概率施加一层对应属性的伤势"}]
[{"$f":"IF(語言配置表!A826=\"\",\"\",語言配置表!A826)","v":""},{"$f":"IF(語言配置表!A826=\"\",\"CN_待填充内容\",語言配置表!B826)","v":"CN_待填充内容"}]
[{"$f":"IF(語言配置表!A827=\"\",\"\",語言配置表!A827)","v":1120040},{"$f":"IF(語言配置表!A827=\"\",\"CN_待填充内容\",語言配置表!B827)","v":"前后方法宝如果相生则双生效果增强{0}%"}]
[{"$f":"IF(語言配置表!A828=\"\",\"\",語言配置表!A828)","v":1120041},{"$f":"IF(語言配置表!A828=\"\",\"CN_待填充内容\",語言配置表!B828)","v":"前后方法宝如果相生则双生效果增强{0}%"}]
[{"$f":"IF(語言配置表!A829=\"\",\"\",語言配置表!A829)","v":1120042},{"$f":"IF(語言配置表!A829=\"\",\"CN_待填充内容\",語言配置表!B829)","v":"前后方法宝如果相生则双生效果增强{0}%"}]
[{"$f":"IF(語言配置表!A830=\"\",\"\",語言配置表!A830)","v":1120043},{"$f":"IF(語言配置表!A830=\"\",\"CN_待填充内容\",語言配置表!B830)","v":"前后方法宝如果相生则双生效果增强{0}%"}]
[{"$f":"IF(語言配置表!A831=\"\",\"\",語言配置表!A831)","v":1120044},{"$f":"IF(語言配置表!A831=\"\",\"CN_待填充内容\",語言配置表!B831)","v":"前后方法宝如果相生则双生效果增强{0}%"}]
[{"$f":"IF(語言配置表!A832=\"\",\"\",語言配置表!A832)","v":1120045},{"$f":"IF(語言配置表!A832=\"\",\"CN_待填充内容\",語言配置表!B832)","v":"前后方法宝如果相生则双生效果增强{0}%。\n前后方法宝如果不相生则双生效果增加{1}%。\n前方后法宝如果相克则双生效果增强{2}%。"}]
[{"$f":"IF(語言配置表!A833=\"\",\"\",語言配置表!A833)","v":""},{"$f":"IF(語言配置表!A833=\"\",\"CN_待填充内容\",語言配置表!B833)","v":"CN_待填充内容"}]
[{"$f":"IF(語言配置表!A834=\"\",\"\",語言配置表!A834)","v":1120050},{"$f":"IF(語言配置表!A834=\"\",\"CN_待填充内容\",語言配置表!B834)","v":"功法每次经过火属性经脉便使火系功法伤害提升{0}%，最多叠加{1}层"}]
[{"$f":"IF(語言配置表!A835=\"\",\"\",語言配置表!A835)","v":1120051},{"$f":"IF(語言配置表!A835=\"\",\"CN_待填充内容\",語言配置表!B835)","v":"功法每次经过火属性经脉便使火系功法伤害提升{0}%，最多叠加{1}层"}]
[{"$f":"IF(語言配置表!A836=\"\",\"\",語言配置表!A836)","v":1120052},{"$f":"IF(語言配置表!A836=\"\",\"CN_待填充内容\",語言配置表!B836)","v":"功法每次经过火属性经脉便使火系功法伤害提升{0}%，最多叠加{1}层"}]
[{"$f":"IF(語言配置表!A837=\"\",\"\",語言配置表!A837)","v":1120053},{"$f":"IF(語言配置表!A837=\"\",\"CN_待填充内容\",語言配置表!B837)","v":"功法每次经过火属性经脉便使火系功法伤害提升{0}%，最多叠加{1}层"}]
[{"$f":"IF(語言配置表!A838=\"\",\"\",語言配置表!A838)","v":1120054},{"$f":"IF(語言配置表!A838=\"\",\"CN_待填充内容\",語言配置表!B838)","v":"功法每次经过火属性经脉便使火系功法伤害提升{0}%，最多叠加{1}层"}]
[{"$f":"IF(語言配置表!A839=\"\",\"\",語言配置表!A839)","v":1120055},{"$f":"IF(語言配置表!A839=\"\",\"CN_待填充内容\",語言配置表!B839)","v":"功法每次经过火属性经脉便使火系功法伤害提升{0}%，最多叠加{1}层\n达到满层后，任何火系功法命中后都会施加{1}层灼烧。"}]
[{"$f":"IF(語言配置表!A840=\"\",\"\",語言配置表!A840)","v":""},{"$f":"IF(語言配置表!A840=\"\",\"CN_待填充内容\",語言配置表!B840)","v":"CN_待填充内容"}]
[{"$f":"IF(語言配置表!A841=\"\",\"\",語言配置表!A841)","v":1120060},{"$f":"IF(語言配置表!A841=\"\",\"CN_待填充内容\",語言配置表!B841)","v":"使后方功法体型巨大化，且在对碰中强度增加{0}%"}]
[{"$f":"IF(語言配置表!A842=\"\",\"\",語言配置表!A842)","v":1120061},{"$f":"IF(語言配置表!A842=\"\",\"CN_待填充内容\",語言配置表!B842)","v":"使后方功法体型巨大化，且在对碰中强度增加{0}%"}]
[{"$f":"IF(語言配置表!A843=\"\",\"\",語言配置表!A843)","v":1120062},{"$f":"IF(語言配置表!A843=\"\",\"CN_待填充内容\",語言配置表!B843)","v":"使后方功法体型巨大化，且在对碰中强度增加{0}%"}]
[{"$f":"IF(語言配置表!A844=\"\",\"\",語言配置表!A844)","v":1120063},{"$f":"IF(語言配置表!A844=\"\",\"CN_待填充内容\",語言配置表!B844)","v":"使后方功法体型巨大化，且在对碰中强度增加{0}%"}]
[{"$f":"IF(語言配置表!A845=\"\",\"\",語言配置表!A845)","v":1120064},{"$f":"IF(語言配置表!A845=\"\",\"CN_待填充内容\",語言配置表!B845)","v":"使后方功法体型巨大化，且在对碰中强度增加{0}%"}]
[{"$f":"IF(語言配置表!A846=\"\",\"\",語言配置表!A846)","v":1120065},{"$f":"IF(語言配置表!A846=\"\",\"CN_待填充内容\",語言配置表!B846)","v":"使后方功法体型巨大化，且在对碰中强度增加{0}%\n巨大化的功法在对拼耗尽后不会消失，且会恢复该功法{1}%对拼强度"}]
[{"$f":"IF(語言配置表!A847=\"\",\"\",語言配置表!A847)","v":""},{"$f":"IF(語言配置表!A847=\"\",\"CN_待填充内容\",語言配置表!B847)","v":"CN_待填充内容"}]
[{"$f":"IF(語言配置表!A848=\"\",\"\",語言配置表!A848)","v":1120070},{"$f":"IF(語言配置表!A848=\"\",\"CN_待填充内容\",語言配置表!B848)","v":"后方功法催动时，使轮盘运转速度增加{0}%,持续{1}秒"}]
[{"$f":"IF(語言配置表!A849=\"\",\"\",語言配置表!A849)","v":1120071},{"$f":"IF(語言配置表!A849=\"\",\"CN_待填充内容\",語言配置表!B849)","v":"后方功法催动时，使轮盘运转速度增加{0}%,持续{1}秒"}]
[{"$f":"IF(語言配置表!A850=\"\",\"\",語言配置表!A850)","v":1120072},{"$f":"IF(語言配置表!A850=\"\",\"CN_待填充内容\",語言配置表!B850)","v":"后方功法催动时，使轮盘运转速度增加{0}%,持续{1}秒"}]
[{"$f":"IF(語言配置表!A851=\"\",\"\",語言配置表!A851)","v":1120073},{"$f":"IF(語言配置表!A851=\"\",\"CN_待填充内容\",語言配置表!B851)","v":"后方功法催动时，使轮盘运转速度增加{0}%,持续{1}秒"}]
[{"$f":"IF(語言配置表!A852=\"\",\"\",語言配置表!A852)","v":1120074},{"$f":"IF(語言配置表!A852=\"\",\"CN_待填充内容\",語言配置表!B852)","v":"后方功法催动时，使轮盘运转速度增加{0}%,持续{1}秒"}]
[{"$f":"IF(語言配置表!A853=\"\",\"\",語言配置表!A853)","v":1120075},{"$f":"IF(語言配置表!A853=\"\",\"CN_待填充内容\",語言配置表!B853)","v":"后方功法催动时，使轮盘运转速度增加{0}%,持续{1}秒\n轮盘加速期间，伤害提升{1}%"}]
[{"$f":"IF(語言配置表!A854=\"\",\"\",語言配置表!A854)","v":""},{"$f":"IF(語言配置表!A854=\"\",\"CN_待填充内容\",語言配置表!B854)","v":"CN_待填充内容"}]
[{"$f":"IF(語言配置表!A855=\"\",\"\",語言配置表!A855)","v":1120080},{"$f":"IF(語言配置表!A855=\"\",\"CN_待填充内容\",語言配置表!B855)","v":"后方功法催动时释放{0}道剑气，对敌人造成{1}%攻击力的伤害，并无视护盾类效果"}]
[{"$f":"IF(語言配置表!A856=\"\",\"\",語言配置表!A856)","v":1120081},{"$f":"IF(語言配置表!A856=\"\",\"CN_待填充内容\",語言配置表!B856)","v":"后方功法催动时释放{0}道剑气，对敌人造成{1}%攻击力的伤害，并无视护盾类效果"}]
[{"$f":"IF(語言配置表!A857=\"\",\"\",語言配置表!A857)","v":1120082},{"$f":"IF(語言配置表!A857=\"\",\"CN_待填充内容\",語言配置表!B857)","v":"后方功法催动时释放{0}道剑气，对敌人造成{1}%攻击力的伤害，并无视护盾类效果"}]
[{"$f":"IF(語言配置表!A858=\"\",\"\",語言配置表!A858)","v":1120083},{"$f":"IF(語言配置表!A858=\"\",\"CN_待填充内容\",語言配置表!B858)","v":"后方功法催动时释放{0}道剑气，对敌人造成{1}%攻击力的伤害，并无视护盾类效果"}]
[{"$f":"IF(語言配置表!A859=\"\",\"\",語言配置表!A859)","v":1120084},{"$f":"IF(語言配置表!A859=\"\",\"CN_待填充内容\",語言配置表!B859)","v":"后方功法催动时释放{0}道剑气，对敌人造成{1}%攻击力的伤害，并无视护盾类效果"}]
[{"$f":"IF(語言配置表!A860=\"\",\"\",語言配置表!A860)","v":1120085},{"$f":"IF(語言配置表!A860=\"\",\"CN_待填充内容\",語言配置表!B860)","v":"后方功法催动时释放{0}道剑气，对敌人造成{1}%攻击力的伤害，并无视护盾类效果\n该剑气会对敌人施加{2}层流血"}]
[{"$f":"IF(語言配置表!A861=\"\",\"\",語言配置表!A861)","v":""},{"$f":"IF(語言配置表!A861=\"\",\"CN_待填充内容\",語言配置表!B861)","v":"CN_待填充内容"}]
[{"$f":"IF(語言配置表!A862=\"\",\"\",語言配置表!A862)","v":1120090},{"$f":"IF(語言配置表!A862=\"\",\"CN_待填充内容\",語言配置表!B862)","v":"后方功法每造成一次伤害便会获得一层青莲之气，青莲之气达到{0}层时有{1}%概率触发净体，清除自身1个负面状态,并恢复{2}%攻击力的血量"}]
[{"$f":"IF(語言配置表!A863=\"\",\"\",語言配置表!A863)","v":1120091},{"$f":"IF(語言配置表!A863=\"\",\"CN_待填充内容\",語言配置表!B863)","v":"后方功法每造成一次伤害便会获得一层青莲之气，青莲之气达到{0}层时有{1}%概率触发净体，清除自身1个负面状态,并恢复{2}%攻击力的血量"}]
[{"$f":"IF(語言配置表!A864=\"\",\"\",語言配置表!A864)","v":1120092},{"$f":"IF(語言配置表!A864=\"\",\"CN_待填充内容\",語言配置表!B864)","v":"后方功法每造成一次伤害便会获得一层青莲之气，青莲之气达到{0}层时有{1}%概率触发净体，清除自身1个负面状态,并恢复{2}%攻击力的血量"}]
[{"$f":"IF(語言配置表!A865=\"\",\"\",語言配置表!A865)","v":1120093},{"$f":"IF(語言配置表!A865=\"\",\"CN_待填充内容\",語言配置表!B865)","v":"后方功法每造成一次伤害便会获得一层青莲之气，青莲之气达到{0}层时有{1}%概率触发净体，清除自身1个负面状态,并恢复{2}%攻击力的血量"}]
[{"$f":"IF(語言配置表!A866=\"\",\"\",語言配置表!A866)","v":1120094},{"$f":"IF(語言配置表!A866=\"\",\"CN_待填充内容\",語言配置表!B866)","v":"后方功法每造成一次伤害便会获得一层青莲之气，青莲之气达到{0}层时有{1}%概率触发净体，清除自身1个负面状态,并恢复{2}%攻击力的血量"}]
[{"$f":"IF(語言配置表!A867=\"\",\"\",語言配置表!A867)","v":1120095},{"$f":"IF(語言配置表!A867=\"\",\"CN_待填充内容\",語言配置表!B867)","v":"后方功法每造成一次伤害便会获得一层青莲之气，青莲之气达到{0}层时有{1}%概率触发净体，清除自身1个负面状态,并恢复{2}%攻击力的血量"}]
[{"$f":"IF(語言配置表!A868=\"\",\"\",語言配置表!A868)","v":""},{"$f":"IF(語言配置表!A868=\"\",\"CN_待填充内容\",語言配置表!B868)","v":"CN_待填充内容"}]
[{"$f":"IF(語言配置表!A869=\"\",\"\",語言配置表!A869)","v":1120100},{"$f":"IF(語言配置表!A869=\"\",\"CN_待填充内容\",語言配置表!B869)","v":"功法在经过木属性经脉后触发生机，为自身治疗{0}%攻击力的生命值"}]
[{"$f":"IF(語言配置表!A870=\"\",\"\",語言配置表!A870)","v":1120101},{"$f":"IF(語言配置表!A870=\"\",\"CN_待填充内容\",語言配置表!B870)","v":"功法在经过木属性经脉后触发生机，为自身治疗{0}%攻击力的生命值"}]
[{"$f":"IF(語言配置表!A871=\"\",\"\",語言配置表!A871)","v":1120102},{"$f":"IF(語言配置表!A871=\"\",\"CN_待填充内容\",語言配置表!B871)","v":"功法在经过木属性经脉后触发生机，为自身治疗{0}%攻击力的生命值"}]
[{"$f":"IF(語言配置表!A872=\"\",\"\",語言配置表!A872)","v":1120103},{"$f":"IF(語言配置表!A872=\"\",\"CN_待填充内容\",語言配置表!B872)","v":"功法在经过木属性经脉后触发生机，为自身治疗{0}%攻击力的生命值"}]
[{"$f":"IF(語言配置表!A873=\"\",\"\",語言配置表!A873)","v":1120104},{"$f":"IF(語言配置表!A873=\"\",\"CN_待填充内容\",語言配置表!B873)","v":"功法在经过木属性经脉后触发生机，为自身治疗{0}%攻击力的生命值"}]
[{"$f":"IF(語言配置表!A874=\"\",\"\",語言配置表!A874)","v":1120105},{"$f":"IF(語言配置表!A874=\"\",\"CN_待填充内容\",語言配置表!B874)","v":"功法在经过木属性经脉后触发生机，为自身治疗{0}%攻击力的生命值\n在生命值低于{1}%时恢复量提升{2}%"}]
[{"$f":"IF(語言配置表!A875=\"\",\"\",語言配置表!A875)","v":""},{"$f":"IF(語言配置表!A875=\"\",\"CN_待填充内容\",語言配置表!B875)","v":"CN_待填充内容"}]
[{"$f":"IF(語言配置表!A876=\"\",\"\",語言配置表!A876)","v":1120110},{"$f":"IF(語言配置表!A876=\"\",\"CN_待填充内容\",語言配置表!B876)","v":"所有流血状态造成的伤害会转换成充能值，经过2次金经脉后对全体敌人造成{0}%充能值的伤害"}]
[{"$f":"IF(語言配置表!A877=\"\",\"\",語言配置表!A877)","v":1120111},{"$f":"IF(語言配置表!A877=\"\",\"CN_待填充内容\",語言配置表!B877)","v":"所有流血状态造成的伤害会转换成充能值，经过2次金经脉后对全体敌人造成{0}%充能值的伤害"}]
[{"$f":"IF(語言配置表!A878=\"\",\"\",語言配置表!A878)","v":1120112},{"$f":"IF(語言配置表!A878=\"\",\"CN_待填充内容\",語言配置表!B878)","v":"所有流血状态造成的伤害会转换成充能值，经过2次金经脉后对全体敌人造成{0}%充能值的伤害"}]
[{"$f":"IF(語言配置表!A879=\"\",\"\",語言配置表!A879)","v":1120113},{"$f":"IF(語言配置表!A879=\"\",\"CN_待填充内容\",語言配置表!B879)","v":"所有流血状态造成的伤害会转换成充能值，经过2次金经脉后对全体敌人造成{0}%充能值的伤害"}]
[{"$f":"IF(語言配置表!A880=\"\",\"\",語言配置表!A880)","v":1120114},{"$f":"IF(語言配置表!A880=\"\",\"CN_待填充内容\",語言配置表!B880)","v":"所有流血状态造成的伤害会转换成充能值，经过2次金经脉后对全体敌人造成{0}%充能值的伤害"}]
[{"$f":"IF(語言配置表!A881=\"\",\"\",語言配置表!A881)","v":1120115},{"$f":"IF(語言配置表!A881=\"\",\"CN_待填充内容\",語言配置表!B881)","v":"所有流血状态造成的伤害会转换成充能值，经过2次金经脉后对全体敌人造成{0}%充能值的伤害"}]
[{"$f":"IF(語言配置表!A882=\"\",\"\",語言配置表!A882)","v":""},{"$f":"IF(語言配置表!A882=\"\",\"CN_待填充内容\",語言配置表!B882)","v":"CN_待填充内容"}]
[{"$f":"IF(語言配置表!A883=\"\",\"\",語言配置表!A883)","v":1120120},{"$f":"IF(語言配置表!A883=\"\",\"CN_待填充内容\",語言配置表!B883)","v":"前方功法对敌人造成伤害后额施加一层流血"}]
[{"$f":"IF(語言配置表!A884=\"\",\"\",語言配置表!A884)","v":1120121},{"$f":"IF(語言配置表!A884=\"\",\"CN_待填充内容\",語言配置表!B884)","v":"前方功法对敌人造成伤害后额施加一层流血"}]
[{"$f":"IF(語言配置表!A885=\"\",\"\",語言配置表!A885)","v":1120122},{"$f":"IF(語言配置表!A885=\"\",\"CN_待填充内容\",語言配置表!B885)","v":"前方功法对敌人造成伤害后额施加一层流血"}]
[{"$f":"IF(語言配置表!A886=\"\",\"\",語言配置表!A886)","v":1120123},{"$f":"IF(語言配置表!A886=\"\",\"CN_待填充内容\",語言配置表!B886)","v":"前方功法对敌人造成伤害后额施加一层流血"}]
[{"$f":"IF(語言配置表!A887=\"\",\"\",語言配置表!A887)","v":1120124},{"$f":"IF(語言配置表!A887=\"\",\"CN_待填充内容\",語言配置表!B887)","v":"前方功法对敌人造成伤害后额施加一层流血"}]
[{"$f":"IF(語言配置表!A888=\"\",\"\",語言配置表!A888)","v":1120125},{"$f":"IF(語言配置表!A888=\"\",\"CN_待填充内容\",語言配置表!B888)","v":"前方功法对敌人造成伤害后额施加一层流血"}]
[{"$f":"IF(語言配置表!A889=\"\",\"\",語言配置表!A889)","v":""},{"$f":"IF(語言配置表!A889=\"\",\"CN_待填充内容\",語言配置表!B889)","v":"CN_待填充内容"}]
[{"$f":"IF(語言配置表!A890=\"\",\"\",語言配置表!A890)","v":1120130},{"$f":"IF(語言配置表!A890=\"\",\"CN_待填充内容\",語言配置表!B890)","v":"前方功法击中目标时额外施加一层毒，对流血中的敌人再额外施加一层"}]
[{"$f":"IF(語言配置表!A891=\"\",\"\",語言配置表!A891)","v":1120131},{"$f":"IF(語言配置表!A891=\"\",\"CN_待填充内容\",語言配置表!B891)","v":"前方功法击中目标时额外施加一层毒，对流血中的敌人再额外施加一层"}]
[{"$f":"IF(語言配置表!A892=\"\",\"\",語言配置表!A892)","v":1120132},{"$f":"IF(語言配置表!A892=\"\",\"CN_待填充内容\",語言配置表!B892)","v":"前方功法击中目标时额外施加一层毒，对流血中的敌人再额外施加一层"}]
[{"$f":"IF(語言配置表!A893=\"\",\"\",語言配置表!A893)","v":1120133},{"$f":"IF(語言配置表!A893=\"\",\"CN_待填充内容\",語言配置表!B893)","v":"前方功法击中目标时额外施加一层毒，对流血中的敌人再额外施加一层"}]
[{"$f":"IF(語言配置表!A894=\"\",\"\",語言配置表!A894)","v":1120134},{"$f":"IF(語言配置表!A894=\"\",\"CN_待填充内容\",語言配置表!B894)","v":"前方功法击中目标时额外施加一层毒，对流血中的敌人再额外施加一层"}]
[{"$f":"IF(語言配置表!A895=\"\",\"\",語言配置表!A895)","v":1120135},{"$f":"IF(語言配置表!A895=\"\",\"CN_待填充内容\",語言配置表!B895)","v":"前方功法击中目标时额外施加一层毒，对流血中的敌人再额外施加一层"}]
[{"$f":"IF(語言配置表!A896=\"\",\"\",語言配置表!A896)","v":""},{"$f":"IF(語言配置表!A896=\"\",\"CN_待填充内容\",語言配置表!B896)","v":"CN_待填充内容"}]
[{"$f":"IF(語言配置表!A897=\"\",\"\",語言配置表!A897)","v":1120140},{"$f":"IF(語言配置表!A897=\"\",\"CN_待填充内容\",語言配置表!B897)","v":"后方功法击中目标后，如果目标身上有{0}层毒时则会对目标造成{1}%攻击力的额外伤害，并对周围的敌人造成该伤害的{2}%的伤害"}]
[{"$f":"IF(語言配置表!A898=\"\",\"\",語言配置表!A898)","v":1120141},{"$f":"IF(語言配置表!A898=\"\",\"CN_待填充内容\",語言配置表!B898)","v":"后方功法击中目标后，如果目标身上有{0}层毒时则会对目标造成{1}%攻击力的额外伤害，并对周围的敌人造成该伤害的{2}%的伤害"}]
[{"$f":"IF(語言配置表!A899=\"\",\"\",語言配置表!A899)","v":1120142},{"$f":"IF(語言配置表!A899=\"\",\"CN_待填充内容\",語言配置表!B899)","v":"后方功法击中目标后，如果目标身上有{0}层毒时则会对目标造成{1}%攻击力的额外伤害，并对周围的敌人造成该伤害的{2}%的伤害"}]
[{"$f":"IF(語言配置表!A900=\"\",\"\",語言配置表!A900)","v":1120143},{"$f":"IF(語言配置表!A900=\"\",\"CN_待填充内容\",語言配置表!B900)","v":"后方功法击中目标后，如果目标身上有{0}层毒时则会对目标造成{1}%攻击力的额外伤害，并对周围的敌人造成该伤害的{2}%的伤害"}]
[{"$f":"IF(語言配置表!A901=\"\",\"\",語言配置表!A901)","v":1120144},{"$f":"IF(語言配置表!A901=\"\",\"CN_待填充内容\",語言配置表!B901)","v":"后方功法击中目标后，如果目标身上有{0}层毒时则会对目标造成{1}%攻击力的额外伤害，并对周围的敌人造成该伤害的{2}%的伤害"}]
[{"$f":"IF(語言配置表!A902=\"\",\"\",語言配置表!A902)","v":1120145},{"$f":"IF(語言配置表!A902=\"\",\"CN_待填充内容\",語言配置表!B902)","v":"后方功法击中目标后，如果目标身上有{0}层毒时则会对目标造成{1}%攻击力的额外伤害，并对周围的敌人造成该伤害的{2}%的伤害"}]
[{"$f":"IF(語言配置表!A903=\"\",\"\",語言配置表!A903)","v":""},{"$f":"IF(語言配置表!A903=\"\",\"CN_待填充内容\",語言配置表!B903)","v":"CN_待填充内容"}]
[{"$f":"IF(語言配置表!A904=\"\",\"\",語言配置表!A904)","v":1120150},{"$f":"IF(語言配置表!A904=\"\",\"CN_待填充内容\",語言配置表!B904)","v":"后方功法对目标造成异常状态后，有{0}%概率转移到下一个目标，不会来回转移"}]
[{"$f":"IF(語言配置表!A905=\"\",\"\",語言配置表!A905)","v":1120151},{"$f":"IF(語言配置表!A905=\"\",\"CN_待填充内容\",語言配置表!B905)","v":"后方功法对目标造成异常状态后，有{0}%概率转移到下一个目标，不会来回转移"}]
[{"$f":"IF(語言配置表!A906=\"\",\"\",語言配置表!A906)","v":1120152},{"$f":"IF(語言配置表!A906=\"\",\"CN_待填充内容\",語言配置表!B906)","v":"后方功法对目标造成异常状态后，有{0}%概率转移到下一个目标，不会来回转移"}]
[{"$f":"IF(語言配置表!A907=\"\",\"\",語言配置表!A907)","v":1120153},{"$f":"IF(語言配置表!A907=\"\",\"CN_待填充内容\",語言配置表!B907)","v":"后方功法对目标造成异常状态后，有{0}%概率转移到下一个目标，不会来回转移"}]
[{"$f":"IF(語言配置表!A908=\"\",\"\",語言配置表!A908)","v":1120154},{"$f":"IF(語言配置表!A908=\"\",\"CN_待填充内容\",語言配置表!B908)","v":"后方功法对目标造成异常状态后，有{0}%概率转移到下一个目标，不会来回转移"}]
[{"$f":"IF(語言配置表!A909=\"\",\"\",語言配置表!A909)","v":1120155},{"$f":"IF(語言配置表!A909=\"\",\"CN_待填充内容\",語言配置表!B909)","v":"后方功法对目标造成异常状态后，有{0}%概率转移到下一个目标，不会来回转移"}]
[{"$f":"IF(語言配置表!A910=\"\",\"\",語言配置表!A910)","v":""},{"$f":"IF(語言配置表!A910=\"\",\"CN_待填充内容\",語言配置表!B910)","v":"CN_待填充内容"}]
[{"$f":"IF(語言配置表!A911=\"\",\"\",語言配置表!A911)","v":1120160},{"$f":"IF(語言配置表!A911=\"\",\"CN_待填充内容\",語言配置表!B911)","v":"前方功法会对目标附加阴水。目标身上有寒气时则会将阴水转换为冰冻值。冰冻值到达一定程度后冰冻敌人。"}]
[{"$f":"IF(語言配置表!A912=\"\",\"\",語言配置表!A912)","v":1120161},{"$f":"IF(語言配置表!A912=\"\",\"CN_待填充内容\",語言配置表!B912)","v":"前方功法会对目标附加阴水。目标身上有寒气时则会将阴水转换为冰冻值。冰冻值到达一定程度后冰冻敌人。"}]
[{"$f":"IF(語言配置表!A913=\"\",\"\",語言配置表!A913)","v":1120162},{"$f":"IF(語言配置表!A913=\"\",\"CN_待填充内容\",語言配置表!B913)","v":"前方功法会对目标附加阴水。目标身上有寒气时则会将阴水转换为冰冻值。冰冻值到达一定程度后冰冻敌人。"}]
[{"$f":"IF(語言配置表!A914=\"\",\"\",語言配置表!A914)","v":1120163},{"$f":"IF(語言配置表!A914=\"\",\"CN_待填充内容\",語言配置表!B914)","v":"前方功法会对目标附加阴水。目标身上有寒气时则会将阴水转换为冰冻值。冰冻值到达一定程度后冰冻敌人。"}]
[{"$f":"IF(語言配置表!A915=\"\",\"\",語言配置表!A915)","v":1120164},{"$f":"IF(語言配置表!A915=\"\",\"CN_待填充内容\",語言配置表!B915)","v":"前方功法会对目标附加阴水。目标身上有寒气时则会将阴水转换为冰冻值。冰冻值到达一定程度后冰冻敌人。"}]
[{"$f":"IF(語言配置表!A916=\"\",\"\",語言配置表!A916)","v":1120165},{"$f":"IF(語言配置表!A916=\"\",\"CN_待填充内容\",語言配置表!B916)","v":"前方功法会对目标附加阴水。目标身上有寒气时则会将阴水转换为冰冻值。冰冻值到达一定程度后冰冻敌人。"}]
[{"$f":"IF(語言配置表!A917=\"\",\"\",語言配置表!A917)","v":""},{"$f":"IF(語言配置表!A917=\"\",\"CN_待填充内容\",語言配置表!B917)","v":"CN_待填充内容"}]
[{"$f":"IF(語言配置表!A918=\"\",\"\",語言配置表!A918)","v":1120170},{"$f":"IF(語言配置表!A918=\"\",\"CN_待填充内容\",語言配置表!B918)","v":"为前方功法附加上灵气汇聚而成的可燃物质，使火属性伤害提升{0}%并额外施加一层灼烧"}]
[{"$f":"IF(語言配置表!A919=\"\",\"\",語言配置表!A919)","v":1120171},{"$f":"IF(語言配置表!A919=\"\",\"CN_待填充内容\",語言配置表!B919)","v":"为前方功法附加上灵气汇聚而成的可燃物质，使火属性伤害提升{0}%并额外施加一层灼烧"}]
[{"$f":"IF(語言配置表!A920=\"\",\"\",語言配置表!A920)","v":1120172},{"$f":"IF(語言配置表!A920=\"\",\"CN_待填充内容\",語言配置表!B920)","v":"为前方功法附加上灵气汇聚而成的可燃物质，使火属性伤害提升{0}%并额外施加一层灼烧"}]
[{"$f":"IF(語言配置表!A921=\"\",\"\",語言配置表!A921)","v":1120173},{"$f":"IF(語言配置表!A921=\"\",\"CN_待填充内容\",語言配置表!B921)","v":"为前方功法附加上灵气汇聚而成的可燃物质，使火属性伤害提升{0}%并额外施加一层灼烧"}]
[{"$f":"IF(語言配置表!A922=\"\",\"\",語言配置表!A922)","v":1120174},{"$f":"IF(語言配置表!A922=\"\",\"CN_待填充内容\",語言配置表!B922)","v":"为前方功法附加上灵气汇聚而成的可燃物质，使火属性伤害提升{0}%并额外施加一层灼烧"}]
[{"$f":"IF(語言配置表!A923=\"\",\"\",語言配置表!A923)","v":1120175},{"$f":"IF(語言配置表!A923=\"\",\"CN_待填充内容\",語言配置表!B923)","v":"为前方功法附加上灵气汇聚而成的可燃物质，使火属性伤害提升{0}%并额外施加一层灼烧"}]
[{"$f":"IF(語言配置表!A924=\"\",\"\",語言配置表!A924)","v":""},{"$f":"IF(語言配置表!A924=\"\",\"CN_待填充内容\",語言配置表!B924)","v":"CN_待填充内容"}]
[{"$f":"IF(語言配置表!A925=\"\",\"\",語言配置表!A925)","v":1120180},{"$f":"IF(語言配置表!A925=\"\",\"CN_待填充内容\",語言配置表!B925)","v":"每催动一次土系功法获得{0}层厚土增益，达到100层后防御力增加{1}%。持续{2}秒，每对敌人施加一次细尘额外获得{3}层"}]
[{"$f":"IF(語言配置表!A926=\"\",\"\",語言配置表!A926)","v":1120181},{"$f":"IF(語言配置表!A926=\"\",\"CN_待填充内容\",語言配置表!B926)","v":"每催动一次土系功法获得{0}层厚土增益，达到100层后防御力增加{1}%。持续{2}秒，每对敌人施加一次细尘额外获得{3}层"}]
[{"$f":"IF(語言配置表!A927=\"\",\"\",語言配置表!A927)","v":1120182},{"$f":"IF(語言配置表!A927=\"\",\"CN_待填充内容\",語言配置表!B927)","v":"每催动一次土系功法获得{0}层厚土增益，达到100层后防御力增加{1}%。持续{2}秒，每对敌人施加一次细尘额外获得{3}层"}]
[{"$f":"IF(語言配置表!A928=\"\",\"\",語言配置表!A928)","v":1120183},{"$f":"IF(語言配置表!A928=\"\",\"CN_待填充内容\",語言配置表!B928)","v":"每催动一次土系功法获得{0}层厚土增益，达到100层后防御力增加{1}%。持续{2}秒，每对敌人施加一次细尘额外获得{3}层"}]
[{"$f":"IF(語言配置表!A929=\"\",\"\",語言配置表!A929)","v":1120184},{"$f":"IF(語言配置表!A929=\"\",\"CN_待填充内容\",語言配置表!B929)","v":"每催动一次土系功法获得{0}层厚土增益，达到100层后防御力增加{1}%。持续{2}秒，每对敌人施加一次细尘额外获得{3}层"}]
[{"$f":"IF(語言配置表!A930=\"\",\"\",語言配置表!A930)","v":1120185},{"$f":"IF(語言配置表!A930=\"\",\"CN_待填充内容\",語言配置表!B930)","v":"每催动一次土系功法获得{0}层厚土增益，达到100层后防御力增加{1}%。持续{2}秒，每对敌人施加一次细尘额外获得{3}层"}]
[{"$f":"IF(語言配置表!A931=\"\",\"\",語言配置表!A931)","v":""},{"$f":"IF(語言配置表!A931=\"\",\"CN_待填充内容\",語言配置表!B931)","v":"CN_待填充内容"}]
[{"$f":"IF(語言配置表!A932=\"\",\"\",語言配置表!A932)","v":1120190},{"$f":"IF(語言配置表!A932=\"\",\"CN_待填充内容\",語言配置表!B932)","v":"前方功法命中目标时额外施加1层细尘。并将细尘的的\n品质提升为金沙，效果提升{0}%"}]
[{"$f":"IF(語言配置表!A933=\"\",\"\",語言配置表!A933)","v":1120191},{"$f":"IF(語言配置表!A933=\"\",\"CN_待填充内容\",語言配置表!B933)","v":"前方功法命中目标时额外施加1层细尘。并将细尘的的\n品质提升为金沙，效果提升{0}%"}]
[{"$f":"IF(語言配置表!A934=\"\",\"\",語言配置表!A934)","v":1120192},{"$f":"IF(語言配置表!A934=\"\",\"CN_待填充内容\",語言配置表!B934)","v":"前方功法命中目标时额外施加1层细尘。并将细尘的的\n品质提升为金沙，效果提升{0}%"}]
[{"$f":"IF(語言配置表!A935=\"\",\"\",語言配置表!A935)","v":1120193},{"$f":"IF(語言配置表!A935=\"\",\"CN_待填充内容\",語言配置表!B935)","v":"前方功法命中目标时额外施加1层细尘。并将细尘的的\n品质提升为金沙，效果提升{0}%"}]
[{"$f":"IF(語言配置表!A936=\"\",\"\",語言配置表!A936)","v":1120194},{"$f":"IF(語言配置表!A936=\"\",\"CN_待填充内容\",語言配置表!B936)","v":"前方功法命中目标时额外施加1层细尘。并将细尘的的\n品质提升为金沙，效果提升{0}%"}]
[{"$f":"IF(語言配置表!A937=\"\",\"\",語言配置表!A937)","v":1120195},{"$f":"IF(語言配置表!A937=\"\",\"CN_待填充内容\",語言配置表!B937)","v":"前方功法命中目标时额外施加1层细尘。并将细尘的的\n品质提升为金沙，效果提升{0}%"}]
[{"$f":"IF(語言配置表!A938=\"\",\"\",語言配置表!A938)","v":""},{"$f":"IF(語言配置表!A938=\"\",\"CN_待填充内容\",語言配置表!B938)","v":"CN_待填充内容"}]
[{"$f":"IF(語言配置表!A939=\"\",\"\",語言配置表!A939)","v":""},{"$f":"IF(語言配置表!A939=\"\",\"CN_待填充内容\",語言配置表!B939)","v":"CN_待填充内容"}]
[{"$f":"IF(語言配置表!A940=\"\",\"\",語言配置表!A940)","v":1131010},{"$f":"IF(語言配置表!A940=\"\",\"CN_待填充内容\",語言配置表!B940)","v":"对敌人造成{0}%攻击力的伤害。使敌人五行混乱，敌人每次使用功法都将使用最低灵根属性作为伤害计算，持续{1}秒"}]
[{"$f":"IF(語言配置表!A941=\"\",\"\",語言配置表!A941)","v":1131011},{"$f":"IF(語言配置表!A941=\"\",\"CN_待填充内容\",語言配置表!B941)","v":"对敌人造成{0}%攻击力的伤害。使敌人五行混乱，敌人每次使用功法都将使用最低灵根属性作为伤害计算，持续{1}秒"}]
[{"$f":"IF(語言配置表!A942=\"\",\"\",語言配置表!A942)","v":1131012},{"$f":"IF(語言配置表!A942=\"\",\"CN_待填充内容\",語言配置表!B942)","v":"对敌人造成{0}%攻击力的伤害。使敌人五行混乱，敌人每次使用功法都将使用最低灵根属性作为伤害计算，持续{1}秒"}]
[{"$f":"IF(語言配置表!A943=\"\",\"\",語言配置表!A943)","v":1131013},{"$f":"IF(語言配置表!A943=\"\",\"CN_待填充内容\",語言配置表!B943)","v":"对敌人造成{0}%攻击力的伤害。使敌人五行混乱，敌人每次使用功法都将使用最低灵根属性作为伤害计算，持续{1}秒"}]
[{"$f":"IF(語言配置表!A944=\"\",\"\",語言配置表!A944)","v":1131014},{"$f":"IF(語言配置表!A944=\"\",\"CN_待填充内容\",語言配置表!B944)","v":"对敌人造成{0}%攻击力的伤害。使敌人五行混乱，敌人每次使用功法都将使用最低灵根属性作为伤害计算，持续{1}秒"}]
[{"$f":"IF(語言配置表!A945=\"\",\"\",語言配置表!A945)","v":1131015},{"$f":"IF(語言配置表!A945=\"\",\"CN_待填充内容\",語言配置表!B945)","v":"对敌人造成{0}%攻击力的伤害。使敌人五行混乱，敌人每次使用功法都将使用最低灵根属性作为伤害计算，持续{1}秒\n神龙鼎生效期间，敌人的所有灵根降低{2}%。"}]
[{"$f":"IF(語言配置表!A946=\"\",\"\",語言配置表!A946)","v":""},{"$f":"IF(語言配置表!A946=\"\",\"CN_待填充内容\",語言配置表!B946)","v":"CN_待填充内容"}]
[{"$f":"IF(語言配置表!A947=\"\",\"\",語言配置表!A947)","v":1131020},{"$f":"IF(語言配置表!A947=\"\",\"CN_待填充内容\",語言配置表!B947)","v":"无视敌人灵根，对敌人造成{0}%攻击力的伤害，同时让五行伤势+1"}]
[{"$f":"IF(語言配置表!A948=\"\",\"\",語言配置表!A948)","v":1131021},{"$f":"IF(語言配置表!A948=\"\",\"CN_待填充内容\",語言配置表!B948)","v":"无视敌人灵根，对敌人造成{0}%攻击力的伤害，同时让五行伤势+1"}]
[{"$f":"IF(語言配置表!A949=\"\",\"\",語言配置表!A949)","v":1131022},{"$f":"IF(語言配置表!A949=\"\",\"CN_待填充内容\",語言配置表!B949)","v":"无视敌人灵根，对敌人造成{0}%攻击力的伤害，同时让五行伤势+1"}]
[{"$f":"IF(語言配置表!A950=\"\",\"\",語言配置表!A950)","v":1131023},{"$f":"IF(語言配置表!A950=\"\",\"CN_待填充内容\",語言配置表!B950)","v":"无视敌人灵根，对敌人造成{0}%攻击力的伤害，同时让五行伤势+1"}]
[{"$f":"IF(語言配置表!A951=\"\",\"\",語言配置表!A951)","v":1131024},{"$f":"IF(語言配置表!A951=\"\",\"CN_待填充内容\",語言配置表!B951)","v":"无视敌人灵根，对敌人造成{0}%攻击力的伤害，同时让五行伤势+1"}]
[{"$f":"IF(語言配置表!A952=\"\",\"\",語言配置表!A952)","v":1131025},{"$f":"IF(語言配置表!A952=\"\",\"CN_待填充内容\",語言配置表!B952)","v":"无视敌人灵根，对敌人造成{0}%攻击力的伤害，同时让五行伤势+1"}]
[{"$f":"IF(語言配置表!A953=\"\",\"\",語言配置表!A953)","v":""},{"$f":"IF(語言配置表!A953=\"\",\"CN_待填充内容\",語言配置表!B953)","v":"CN_待填充内容"}]
[{"$f":"IF(語言配置表!A954=\"\",\"\",語言配置表!A954)","v":1132010},{"$f":"IF(語言配置表!A954=\"\",\"CN_待填充内容\",語言配置表!B954)","v":"祭出法宝在场上形成一个域。敌方功法弹道进入域后将降低{0}%的功法弹道速度，持续{1}秒"}]
[{"$f":"IF(語言配置表!A955=\"\",\"\",語言配置表!A955)","v":1132011},{"$f":"IF(語言配置表!A955=\"\",\"CN_待填充内容\",語言配置表!B955)","v":"祭出法宝在场上形成一个域。敌方功法弹道进入域后将降低{0}%的功法弹道速度，持续{1}秒"}]
[{"$f":"IF(語言配置表!A956=\"\",\"\",語言配置表!A956)","v":1132012},{"$f":"IF(語言配置表!A956=\"\",\"CN_待填充内容\",語言配置表!B956)","v":"祭出法宝在场上形成一个域。敌方功法弹道进入域后将降低{0}%的功法弹道速度，持续{1}秒"}]
[{"$f":"IF(語言配置表!A957=\"\",\"\",語言配置表!A957)","v":1132013},{"$f":"IF(語言配置表!A957=\"\",\"CN_待填充内容\",語言配置表!B957)","v":"祭出法宝在场上形成一个域。敌方功法弹道进入域后将降低{0}%的功法弹道速度，持续{1}秒"}]
[{"$f":"IF(語言配置表!A958=\"\",\"\",語言配置表!A958)","v":1132014},{"$f":"IF(語言配置表!A958=\"\",\"CN_待填充内容\",語言配置表!B958)","v":"祭出法宝在场上形成一个域。敌方功法弹道进入域后将降低{0}%的功法弹道速度，持续{1}秒"}]
[{"$f":"IF(語言配置表!A959=\"\",\"\",語言配置表!A959)","v":1132015},{"$f":"IF(語言配置表!A959=\"\",\"CN_待填充内容\",語言配置表!B959)","v":"祭出法宝在场上形成一个域。敌方功法弹道进入域后将降低{0}%的功法弹道速度，持续{1}秒\n受影响的敌方功法强度将降低{2}%"}]
[{"$f":"IF(語言配置表!A960=\"\",\"\",語言配置表!A960)","v":""},{"$f":"IF(語言配置表!A960=\"\",\"CN_待填充内容\",語言配置表!B960)","v":"CN_待填充内容"}]
[{"$f":"IF(語言配置表!A961=\"\",\"\",語言配置表!A961)","v":1132020},{"$f":"IF(語言配置表!A961=\"\",\"CN_待填充内容\",語言配置表!B961)","v":"使用后{2}秒内所有灵根提升{0}%，一场战斗可使用{1}次"}]
[{"$f":"IF(語言配置表!A962=\"\",\"\",語言配置表!A962)","v":1132021},{"$f":"IF(語言配置表!A962=\"\",\"CN_待填充内容\",語言配置表!B962)","v":"使用后{2}秒内所有灵根提升{0}%，一场战斗可使用{1}次"}]
[{"$f":"IF(語言配置表!A963=\"\",\"\",語言配置表!A963)","v":1132022},{"$f":"IF(語言配置表!A963=\"\",\"CN_待填充内容\",語言配置表!B963)","v":"使用后{2}秒内所有灵根提升{0}%，一场战斗可使用{1}次"}]
[{"$f":"IF(語言配置表!A964=\"\",\"\",語言配置表!A964)","v":1132023},{"$f":"IF(語言配置表!A964=\"\",\"CN_待填充内容\",語言配置表!B964)","v":"使用后{2}秒内所有灵根提升{0}%，一场战斗可使用{1}次"}]
[{"$f":"IF(語言配置表!A965=\"\",\"\",語言配置表!A965)","v":1132024},{"$f":"IF(語言配置表!A965=\"\",\"CN_待填充内容\",語言配置表!B965)","v":"使用后{2}秒内所有灵根提升{0}%，一场战斗可使用{1}次"}]
[{"$f":"IF(語言配置表!A966=\"\",\"\",語言配置表!A966)","v":1132025},{"$f":"IF(語言配置表!A966=\"\",\"CN_待填充内容\",語言配置表!B966)","v":"使用后{2}秒内所有灵根提升{0}%，一场战斗可使用{1}次\n混沌珠生效期间，己方所有功法额外增伤{3}%"}]
[{"$f":"IF(語言配置表!A967=\"\",\"\",語言配置表!A967)","v":""},{"$f":"IF(語言配置表!A967=\"\",\"CN_待填充内容\",語言配置表!B967)","v":"CN_待填充内容"}]
[{"$f":"IF(語言配置表!A968=\"\",\"\",語言配置表!A968)","v":1132030},{"$f":"IF(語言配置表!A968=\"\",\"CN_待填充内容\",語言配置表!B968)","v":"对敌人造成{0}%攻击力的伤害，随机封锁敌人的{1}个经脉使其{2}秒无法流动"}]
[{"$f":"IF(語言配置表!A969=\"\",\"\",語言配置表!A969)","v":1132031},{"$f":"IF(語言配置表!A969=\"\",\"CN_待填充内容\",語言配置表!B969)","v":"对敌人造成{0}%攻击力的伤害，随机封锁敌人的{1}个经脉使其{2}秒无法流动"}]
[{"$f":"IF(語言配置表!A970=\"\",\"\",語言配置表!A970)","v":1132032},{"$f":"IF(語言配置表!A970=\"\",\"CN_待填充内容\",語言配置表!B970)","v":"对敌人造成{0}%攻击力的伤害，随机封锁敌人的{1}个经脉使其{2}秒无法流动"}]
[{"$f":"IF(語言配置表!A971=\"\",\"\",語言配置表!A971)","v":1132033},{"$f":"IF(語言配置表!A971=\"\",\"CN_待填充内容\",語言配置表!B971)","v":"对敌人造成{0}%攻击力的伤害，随机封锁敌人的{1}个经脉使其{2}秒无法流动"}]
[{"$f":"IF(語言配置表!A972=\"\",\"\",語言配置表!A972)","v":1132034},{"$f":"IF(語言配置表!A972=\"\",\"CN_待填充内容\",語言配置表!B972)","v":"对敌人造成{0}%攻击力的伤害，随机封锁敌人的{1}个经脉使其{2}秒无法流动"}]
[{"$f":"IF(語言配置表!A973=\"\",\"\",語言配置表!A973)","v":1132035},{"$f":"IF(語言配置表!A973=\"\",\"CN_待填充内容\",語言配置表!B973)","v":"对敌人造成{0}%攻击力的伤害，随机封锁敌人的{1}个经脉使其{2}秒无法流动"}]
[{"$f":"IF(語言配置表!A974=\"\",\"\",語言配置表!A974)","v":""},{"$f":"IF(語言配置表!A974=\"\",\"CN_待填充内容\",語言配置表!B974)","v":"CN_待填充内容"}]
[{"$f":"IF(語言配置表!A975=\"\",\"\",語言配置表!A975)","v":1133010},{"$f":"IF(語言配置表!A975=\"\",\"CN_待填充内容\",語言配置表!B975)","v":"对敌人造成{2}%伤害，并随机封锁敌人{0}个法宝，让其{1}秒内不能使用"}]
[{"$f":"IF(語言配置表!A976=\"\",\"\",語言配置表!A976)","v":1133011},{"$f":"IF(語言配置表!A976=\"\",\"CN_待填充内容\",語言配置表!B976)","v":"对敌人造成{2}%伤害，并随机封锁敌人{0}个法宝，让其{1}秒内不能使用"}]
[{"$f":"IF(語言配置表!A977=\"\",\"\",語言配置表!A977)","v":1133012},{"$f":"IF(語言配置表!A977=\"\",\"CN_待填充内容\",語言配置表!B977)","v":"对敌人造成{2}%伤害，并随机封锁敌人{0}个法宝，让其{1}秒内不能使用"}]
[{"$f":"IF(語言配置表!A978=\"\",\"\",語言配置表!A978)","v":1133013},{"$f":"IF(語言配置表!A978=\"\",\"CN_待填充内容\",語言配置表!B978)","v":"对敌人造成{2}%伤害，并随机封锁敌人{0}个法宝，让其{1}秒内不能使用\n如果影响的法宝是相生法宝，则使其充能时间延长{3}%直至战斗结束"}]
[{"$f":"IF(語言配置表!A979=\"\",\"\",語言配置表!A979)","v":1133014},{"$f":"IF(語言配置表!A979=\"\",\"CN_待填充内容\",語言配置表!B979)","v":"对敌人造成{2}%伤害，并随机封锁敌人{0}个法宝，让其{1}秒内不能使用\n如果影响的法宝是相生法宝，则使其充能时间延长{3}%直至战斗结束"}]
[{"$f":"IF(語言配置表!A980=\"\",\"\",語言配置表!A980)","v":1133015},{"$f":"IF(語言配置表!A980=\"\",\"CN_待填充内容\",語言配置表!B980)","v":"对敌人造成{2}%伤害，并随机封锁敌人{0}个法宝，让其{1}秒内不能使用\n如果影响的法宝是相生法宝，则使其充能时间延长{3}%直至战斗结束"}]
[{"$f":"IF(語言配置表!A981=\"\",\"\",語言配置表!A981)","v":""},{"$f":"IF(語言配置表!A981=\"\",\"CN_待填充内容\",語言配置表!B981)","v":"CN_待填充内容"}]
[{"$f":"IF(語言配置表!A982=\"\",\"\",語言配置表!A982)","v":1133020},{"$f":"IF(語言配置表!A982=\"\",\"CN_待填充内容\",語言配置表!B982)","v":"祭出一盏明灯围绕周身，在{0}秒内抵消所有负面效果，每{1}秒触发1次。"}]
[{"$f":"IF(語言配置表!A983=\"\",\"\",語言配置表!A983)","v":1133021},{"$f":"IF(語言配置表!A983=\"\",\"CN_待填充内容\",語言配置表!B983)","v":"祭出一盏明灯围绕周身，在{0}秒内抵消所有负面效果，每{1}秒触发1次。"}]
[{"$f":"IF(語言配置表!A984=\"\",\"\",語言配置表!A984)","v":1133022},{"$f":"IF(語言配置表!A984=\"\",\"CN_待填充内容\",語言配置表!B984)","v":"祭出一盏明灯围绕周身，在{0}秒内抵消所有负面效果，每{1}秒触发1次。"}]
[{"$f":"IF(語言配置表!A985=\"\",\"\",語言配置表!A985)","v":1133023},{"$f":"IF(語言配置表!A985=\"\",\"CN_待填充内容\",語言配置表!B985)","v":"祭出一盏明灯围绕周身，在{0}秒内抵消所有负面效果，每{1}秒触发1次。"}]
[{"$f":"IF(語言配置表!A986=\"\",\"\",語言配置表!A986)","v":1133024},{"$f":"IF(語言配置表!A986=\"\",\"CN_待填充内容\",語言配置表!B986)","v":"祭出一盏明灯围绕周身，在{0}秒内抵消所有负面效果，每{1}秒触发1次。"}]
[{"$f":"IF(語言配置表!A987=\"\",\"\",語言配置表!A987)","v":1133025},{"$f":"IF(語言配置表!A987=\"\",\"CN_待填充内容\",語言配置表!B987)","v":"祭出一盏明灯围绕周身，在{0}秒内抵消所有负面效果，每{1}秒触发1次。"}]
[{"$f":"IF(語言配置表!A988=\"\",\"\",語言配置表!A988)","v":""},{"$f":"IF(語言配置表!A988=\"\",\"CN_待填充内容\",語言配置表!B988)","v":"CN_待填充内容"}]
[{"$f":"IF(語言配置表!A989=\"\",\"\",語言配置表!A989)","v":1134010},{"$f":"IF(語言配置表!A989=\"\",\"CN_待填充内容\",語言配置表!B989)","v":"祭出宝塔在身前释放扇形的域，敌方的功法如果进入这个扇形区域有{0}%概率被法宝吸收，持续{1}秒"}]
[{"$f":"IF(語言配置表!A990=\"\",\"\",語言配置表!A990)","v":1134011},{"$f":"IF(語言配置表!A990=\"\",\"CN_待填充内容\",語言配置表!B990)","v":"祭出宝塔在身前释放扇形的域，敌方的功法如果进入这个扇形区域有{0}%概率被法宝吸收，持续{1}秒"}]
[{"$f":"IF(語言配置表!A991=\"\",\"\",語言配置表!A991)","v":1134012},{"$f":"IF(語言配置表!A991=\"\",\"CN_待填充内容\",語言配置表!B991)","v":"祭出宝塔在身前释放扇形的域，敌方的功法如果进入这个扇形区域有{0}%概率被法宝吸收，持续{1}秒"}]
[{"$f":"IF(語言配置表!A992=\"\",\"\",語言配置表!A992)","v":1134013},{"$f":"IF(語言配置表!A992=\"\",\"CN_待填充内容\",語言配置表!B992)","v":"祭出宝塔在身前释放扇形的域，敌方的功法如果进入这个扇形区域有{0}%概率被法宝吸收，持续{1}秒"}]
[{"$f":"IF(語言配置表!A993=\"\",\"\",語言配置表!A993)","v":1134014},{"$f":"IF(語言配置表!A993=\"\",\"CN_待填充内容\",語言配置表!B993)","v":"祭出宝塔在身前释放扇形的域，敌方的功法如果进入这个扇形区域有{0}%概率被法宝吸收，持续{1}秒"}]
[{"$f":"IF(語言配置表!A994=\"\",\"\",語言配置表!A994)","v":1134015},{"$f":"IF(語言配置表!A994=\"\",\"CN_待填充内容\",語言配置表!B994)","v":"祭出宝塔在身前释放扇形的域，敌方的功法如果进入这个扇形区域有{0}%概率被法宝吸收，持续{1}秒\n敌方功法被吸收后，将临时增加自身{2}点对应属性的灵根，持续{3}秒"}]
[{"$f":"IF(語言配置表!A995=\"\",\"\",語言配置表!A995)","v":""},{"$f":"IF(語言配置表!A995=\"\",\"CN_待填充内容\",語言配置表!B995)","v":"CN_待填充内容"}]
[{"$f":"IF(語言配置表!A996=\"\",\"\",語言配置表!A996)","v":1134020},{"$f":"IF(語言配置表!A996=\"\",\"CN_待填充内容\",語言配置表!B996)","v":"打断对手当前正在生效中的法宝"}]
[{"$f":"IF(語言配置表!A997=\"\",\"\",語言配置表!A997)","v":1134021},{"$f":"IF(語言配置表!A997=\"\",\"CN_待填充内容\",語言配置表!B997)","v":"可以打断准备生效中的法宝，且避免己方法宝进入对拼状态，持续{0}秒"}]
[{"$f":"IF(語言配置表!A998=\"\",\"\",語言配置表!A998)","v":1134022},{"$f":"IF(語言配置表!A998=\"\",\"CN_待填充内容\",語言配置表!B998)","v":"可以打断准备生效中的法宝，且避免己方法宝进入对拼状态，持续{0}秒"}]
[{"$f":"IF(語言配置表!A999=\"\",\"\",語言配置表!A999)","v":1134023},{"$f":"IF(語言配置表!A999=\"\",\"CN_待填充内容\",語言配置表!B999)","v":"可以打断准备生效中的法宝，且避免己方法宝进入对拼状态，持续{0}秒"}]
[{"$f":"IF(語言配置表!A1000=\"\",\"\",語言配置表!A1000)","v":1134024},{"$f":"IF(語言配置表!A1000=\"\",\"CN_待填充内容\",語言配置表!B1000)","v":"可以打断准备生效中的法宝，且避免己方法宝进入对拼状态，持续{0}秒"}]
[{"$f":"IF(語言配置表!A1001=\"\",\"\",語言配置表!A1001)","v":1134025},{"$f":"IF(語言配置表!A1001=\"\",\"CN_待填充内容\",語言配置表!B1001)","v":"可以打断准备生效中的法宝，且避免己方法宝进入对拼状态，持续{0}秒\n每打断一次法宝，禁元珠的冷却时间将缩减{1}%，最多{2}次"}]
[{"$f":"IF(語言配置表!A1002=\"\",\"\",語言配置表!A1002)","v":""},{"$f":"IF(語言配置表!A1002=\"\",\"CN_待填充内容\",語言配置表!B1002)","v":"CN_待填充内容"}]
[{"$f":"IF(語言配置表!A1003=\"\",\"\",語言配置表!A1003)","v":1135010},{"$f":"IF(語言配置表!A1003=\"\",\"CN_待填充内容\",語言配置表!B1003)","v":"前方形成生命值上限{0}%的土属性护盾，持续{1}秒"}]
[{"$f":"IF(語言配置表!A1004=\"\",\"\",語言配置表!A1004)","v":1135011},{"$f":"IF(語言配置表!A1004=\"\",\"CN_待填充内容\",語言配置表!B1004)","v":"前方形成生命值上限{0}%的土属性护盾，持续{1}秒"}]
[{"$f":"IF(語言配置表!A1005=\"\",\"\",語言配置表!A1005)","v":1135012},{"$f":"IF(語言配置表!A1005=\"\",\"CN_待填充内容\",語言配置表!B1005)","v":"前方形成生命值上限{0}%的土属性护盾，持续{1}秒"}]
[{"$f":"IF(語言配置表!A1006=\"\",\"\",語言配置表!A1006)","v":1135013},{"$f":"IF(語言配置表!A1006=\"\",\"CN_待填充内容\",語言配置表!B1006)","v":"前方形成生命值上限{0}%的土属性护盾，持续{1}秒"}]
[{"$f":"IF(語言配置表!A1007=\"\",\"\",語言配置表!A1007)","v":1135014},{"$f":"IF(語言配置表!A1007=\"\",\"CN_待填充内容\",語言配置表!B1007)","v":"前方形成生命值上限{0}%的土属性护盾，持续{1}秒"}]
[{"$f":"IF(語言配置表!A1008=\"\",\"\",語言配置表!A1008)","v":1135015},{"$f":"IF(語言配置表!A1008=\"\",\"CN_待填充内容\",語言配置表!B1008)","v":"前方形成生命值上限{0}%的土属性护盾，持续{1}秒"}]
[{"$f":"IF(語言配置表!A1009=\"\",\"\",語言配置表!A1009)","v":""},{"$f":"IF(語言配置表!A1009=\"\",\"CN_待填充内容\",語言配置表!B1009)","v":"CN_待填充内容"}]
[{"$f":"IF(語言配置表!A1010=\"\",\"\",語言配置表!A1010)","v":1135020},{"$f":"IF(語言配置表!A1010=\"\",\"CN_待填充内容\",語言配置表!B1010)","v":"对敌人造成土属性伤害，并封锁敌人土系经脉6秒"}]
[{"$f":"IF(語言配置表!A1011=\"\",\"\",語言配置表!A1011)","v":1135021},{"$f":"IF(語言配置表!A1011=\"\",\"CN_待填充内容\",語言配置表!B1011)","v":"对敌人造成土属性伤害，并封锁敌人土系经脉6秒"}]
[{"$f":"IF(語言配置表!A1012=\"\",\"\",語言配置表!A1012)","v":1135022},{"$f":"IF(語言配置表!A1012=\"\",\"CN_待填充内容\",語言配置表!B1012)","v":"对敌人造成土属性伤害，并封锁敌人土系经脉6秒"}]
[{"$f":"IF(語言配置表!A1013=\"\",\"\",語言配置表!A1013)","v":1135023},{"$f":"IF(語言配置表!A1013=\"\",\"CN_待填充内容\",語言配置表!B1013)","v":"对敌人造成土属性伤害，并封锁敌人土系经脉6秒"}]
[{"$f":"IF(語言配置表!A1014=\"\",\"\",語言配置表!A1014)","v":1135024},{"$f":"IF(語言配置表!A1014=\"\",\"CN_待填充内容\",語言配置表!B1014)","v":"对敌人造成土属性伤害，并封锁敌人土系经脉6秒"}]
[{"$f":"IF(語言配置表!A1015=\"\",\"\",語言配置表!A1015)","v":1135025},{"$f":"IF(語言配置表!A1015=\"\",\"CN_待填充内容\",語言配置表!B1015)","v":"对敌人造成土属性伤害，并封锁敌人土系经脉6秒"}]
[{"$f":"IF(語言配置表!A1016=\"\",\"\",語言配置表!A1016)","v":""},{"$f":"IF(語言配置表!A1016=\"\",\"CN_待填充内容\",語言配置表!B1016)","v":"CN_待填充内容"}]
[{"$f":"IF(語言配置表!A1017=\"\",\"\",語言配置表!A1017)","v":""},{"$f":"IF(語言配置表!A1017=\"\",\"CN_待填充内容\",語言配置表!B1017)","v":"CN_待填充内容"}]
[{"$f":"IF(語言配置表!A1018=\"\",\"\",語言配置表!A1018)","v":1701011},{"$f":"IF(語言配置表!A1018=\"\",\"CN_待填充内容\",語言配置表!B1018)","v":"每次释放功法时获得{0}点能量，{1}点能量后提升{2}%转盘速度和{3}%攻击速度，持续{4}秒。"}]
[{"$f":"IF(語言配置表!A1019=\"\",\"\",語言配置表!A1019)","v":1701021},{"$f":"IF(語言配置表!A1019=\"\",\"CN_待填充内容\",語言配置表!B1019)","v":"功法拥有生息之能，每次使用功法能获得1对应属性的充能，充能满后获得对应属性的加成 \n{0}金：提升{1}%攻击力 ,最大{2}%\n{0}木：恢复{3}%生命 \n{0}水：治疗最严重的伤势，使其伤势-{4} \n{0}火：功法强度提升{5}%，最大{6}%\n{0}土：玩家防御提升{7}%，最大{8}%"}]
[{"$f":"IF(語言配置表!A1020=\"\",\"\",語言配置表!A1020)","v":1701031},{"$f":"IF(語言配置表!A1020=\"\",\"CN_待填充内容\",語言配置表!B1020)","v":"每次使用功法时在当前位置留下一道属性印记，下一个放上来的功法如果和以前功法相生则功法效果提升{0}%，每次使用功法时都会治疗对应相生属性的{1}伤势。（均衡性功法搭配，转盘改变，变为金、水、木、火、土）"}]
[{"$f":"IF(語言配置表!A1021=\"\",\"\",語言配置表!A1021)","v":""},{"$f":"IF(語言配置表!A1021=\"\",\"CN_待填充内容\",語言配置表!B1021)","v":"CN_待填充内容"}]
[{"$f":"IF(語言配置表!A1022=\"\",\"\",語言配置表!A1022)","v":""},{"$f":"IF(語言配置表!A1022=\"\",\"CN_待填充内容\",語言配置表!B1022)","v":"CN_待填充内容"}]
[{"$f":"IF(語言配置表!A1023=\"\",\"\",語言配置表!A1023)","v":1190010},{"$f":"IF(語言配置表!A1023=\"\",\"CN_待填充内容\",語言配置表!B1023)","v":"(前摇时间长)：最多从汇聚10柄剑到自身周围，然后以一字行快速贯穿目标对目标造成{0}%攻击力的伤害，每命中目标肉体{1}次将削减{2}%的防御，目标肉体{3}次则所有伤势+{4}  ,如果目标上有剑意，每柄剑消耗{5}层剑意让敌人受到额外{6}%的伤害"}]
[{"$f":"IF(語言配置表!A1024=\"\",\"\",語言配置表!A1024)","v":1190011},{"$f":"IF(語言配置表!A1024=\"\",\"CN_待填充内容\",語言配置表!B1024)","v":"(前摇时间长)：最多从汇聚10柄剑到自身周围，然后以一字行快速贯穿目标对目标造成{0}%攻击力的伤害，每命中目标肉体{1}次将削减{2}%的防御，目标肉体{3}次则所有伤势+{4}  ,如果目标上有剑意，每柄剑消耗{5}层剑意让敌人受到额外{6}%的伤害"}]
[{"$f":"IF(語言配置表!A1025=\"\",\"\",語言配置表!A1025)","v":1190012},{"$f":"IF(語言配置表!A1025=\"\",\"CN_待填充内容\",語言配置表!B1025)","v":"(前摇时间长)：最多从汇聚10柄剑到自身周围，然后以一字行快速贯穿目标对目标造成{0}%攻击力的伤害，每命中目标肉体{1}次将削减{2}%的防御，目标肉体{3}次则所有伤势+{4}  ,如果目标上有剑意，每柄剑消耗{5}层剑意让敌人受到额外{6}%的伤害"}]
[{"$f":"IF(語言配置表!A1026=\"\",\"\",語言配置表!A1026)","v":1190013},{"$f":"IF(語言配置表!A1026=\"\",\"CN_待填充内容\",語言配置表!B1026)","v":"(前摇时间长)：最多从汇聚10柄剑到自身周围，然后以一字行快速贯穿目标对目标造成{0}%攻击力的伤害，每命中目标肉体{1}次将削减{2}%的防御，目标肉体{3}次则所有伤势+{4}  ,如果目标上有剑意，每柄剑消耗{5}层剑意让敌人受到额外{6}%的伤害"}]
[{"$f":"IF(語言配置表!A1027=\"\",\"\",語言配置表!A1027)","v":1190014},{"$f":"IF(語言配置表!A1027=\"\",\"CN_待填充内容\",語言配置表!B1027)","v":"(前摇时间长)：最多从汇聚10柄剑到自身周围，然后以一字行快速贯穿目标对目标造成{0}%攻击力的伤害，每命中目标肉体{1}次将削减{2}%的防御，目标肉体{3}次则所有伤势+{4}  ,如果目标上有剑意，每柄剑消耗{5}层剑意让敌人受到额外{6}%的伤害"}]
[{"$f":"IF(語言配置表!A1028=\"\",\"\",語言配置表!A1028)","v":1190015},{"$f":"IF(語言配置表!A1028=\"\",\"CN_待填充内容\",語言配置表!B1028)","v":"(前摇时间长)：最多从汇聚10柄剑到自身周围，然后以一字行快速贯穿目标对目标造成{0}%攻击力的伤害，每命中目标肉体{1}次将削减{2}%的防御，目标肉体{3}次则所有伤势+{4}  ,如果目标上有剑意，每柄剑消耗{5}层剑意让敌人受到额外{6}%的伤害"}]
[{"$f":"IF(語言配置表!A1029=\"\",\"\",語言配置表!A1029)","v":""},{"$f":"IF(語言配置表!A1029=\"\",\"CN_待填充内容\",語言配置表!B1029)","v":"CN_待填充内容"}]
[{"$f":"IF(語言配置表!A1030=\"\",\"\",語言配置表!A1030)","v":1190020},{"$f":"IF(語言配置表!A1030=\"\",\"CN_待填充内容\",語言配置表!B1030)","v":"身体周围围绕多柄剑进行飞行，可以阻挡相当于自身{0}%最大生命值的伤害。该剑阵受到火系伤害时会升温，升温后会融化。另外该剑阵受到的火系伤害额外+{0}%。"}]
[{"$f":"IF(語言配置表!A1031=\"\",\"\",語言配置表!A1031)","v":1190021},{"$f":"IF(語言配置表!A1031=\"\",\"CN_待填充内容\",語言配置表!B1031)","v":"身体周围围绕多柄剑进行飞行，可以阻挡相当于自身{0}%最大生命值的伤害。该剑阵受到火系伤害时会升温，升温后会融化。另外该剑阵受到的火系伤害额外+{0}%。"}]
[{"$f":"IF(語言配置表!A1032=\"\",\"\",語言配置表!A1032)","v":1190022},{"$f":"IF(語言配置表!A1032=\"\",\"CN_待填充内容\",語言配置表!B1032)","v":"身体周围围绕多柄剑进行飞行，可以阻挡相当于自身{0}%最大生命值的伤害。该剑阵受到火系伤害时会升温，升温后会融化。另外该剑阵受到的火系伤害额外+{0}%。"}]
[{"$f":"IF(語言配置表!A1033=\"\",\"\",語言配置表!A1033)","v":1190023},{"$f":"IF(語言配置表!A1033=\"\",\"CN_待填充内容\",語言配置表!B1033)","v":"身体周围围绕多柄剑进行飞行，可以阻挡相当于自身{0}%最大生命值的伤害。该剑阵受到火系伤害时会升温，升温后会融化。另外该剑阵受到的火系伤害额外+{0}%。"}]
[{"$f":"IF(語言配置表!A1034=\"\",\"\",語言配置表!A1034)","v":1190024},{"$f":"IF(語言配置表!A1034=\"\",\"CN_待填充内容\",語言配置表!B1034)","v":"身体周围围绕多柄剑进行飞行，可以阻挡相当于自身{0}%最大生命值的伤害。该剑阵受到火系伤害时会升温，升温后会融化。另外该剑阵受到的火系伤害额外+{0}%。"}]
[{"$f":"IF(語言配置表!A1035=\"\",\"\",語言配置表!A1035)","v":1190025},{"$f":"IF(語言配置表!A1035=\"\",\"CN_待填充内容\",語言配置表!B1035)","v":"身体周围围绕多柄剑进行飞行，可以阻挡相当于自身{0}%最大生命值的伤害。该剑阵受到火系伤害时会升温，升温后会融化。另外该剑阵受到的火系伤害额外+{0}%。"}]
[{"$f":"IF(語言配置表!A1036=\"\",\"\",語言配置表!A1036)","v":""},{"$f":"IF(語言配置表!A1036=\"\",\"CN_待填充内容\",語言配置表!B1036)","v":"CN_待填充内容"}]
[{"$f":"IF(語言配置表!A1037=\"\",\"\",語言配置表!A1037)","v":1190030},{"$f":"IF(語言配置表!A1037=\"\",\"CN_待填充内容\",語言配置表!B1037)","v":"剑祖的攻击会让目标受到一层剑意"}]
[{"$f":"IF(語言配置表!A1038=\"\",\"\",語言配置表!A1038)","v":""},{"$f":"IF(語言配置表!A1038=\"\",\"CN_待填充内容\",語言配置表!B1038)","v":"CN_待填充内容"}]
[{"$f":"IF(語言配置表!A1039=\"\",\"\",語言配置表!A1039)","v":1190040},{"$f":"IF(語言配置表!A1039=\"\",\"CN_待填充内容\",語言配置表!B1039)","v":"发射3柄剑，对敌人造成{0}%攻击力的伤害"}]
[{"$f":"IF(語言配置表!A1040=\"\",\"\",語言配置表!A1040)","v":1190041},{"$f":"IF(語言配置表!A1040=\"\",\"CN_待填充内容\",語言配置表!B1040)","v":"发射3柄剑，对敌人造成{0}%攻击力的伤害"}]
[{"$f":"IF(語言配置表!A1041=\"\",\"\",語言配置表!A1041)","v":1190042},{"$f":"IF(語言配置表!A1041=\"\",\"CN_待填充内容\",語言配置表!B1041)","v":"发射3柄剑，对敌人造成{0}%攻击力的伤害"}]
[{"$f":"IF(語言配置表!A1042=\"\",\"\",語言配置表!A1042)","v":1190043},{"$f":"IF(語言配置表!A1042=\"\",\"CN_待填充内容\",語言配置表!B1042)","v":"发射3柄剑，对敌人造成{0}%攻击力的伤害"}]
[{"$f":"IF(語言配置表!A1043=\"\",\"\",語言配置表!A1043)","v":1190044},{"$f":"IF(語言配置表!A1043=\"\",\"CN_待填充内容\",語言配置表!B1043)","v":"发射3柄剑，对敌人造成{0}%攻击力的伤害"}]
[{"$f":"IF(語言配置表!A1044=\"\",\"\",語言配置表!A1044)","v":1190045},{"$f":"IF(語言配置表!A1044=\"\",\"CN_待填充内容\",語言配置表!B1044)","v":"发射3柄剑，对敌人造成{0}%攻击力的伤害"}]
[{"$f":"IF(語言配置表!A1045=\"\",\"\",語言配置表!A1045)","v":""},{"$f":"IF(語言配置表!A1045=\"\",\"CN_待填充内容\",語言配置表!B1045)","v":"CN_待填充内容"}]
[{"$f":"IF(語言配置表!A1046=\"\",\"\",語言配置表!A1046)","v":1190050},{"$f":"IF(語言配置表!A1046=\"\",\"CN_待填充内容\",語言配置表!B1046)","v":"发射3柄剑，对敌人造成{0}%攻击力的伤害"}]
[{"$f":"IF(語言配置表!A1047=\"\",\"\",語言配置表!A1047)","v":1190051},{"$f":"IF(語言配置表!A1047=\"\",\"CN_待填充内容\",語言配置表!B1047)","v":"发射3柄剑，对敌人造成{0}%攻击力的伤害"}]
[{"$f":"IF(語言配置表!A1048=\"\",\"\",語言配置表!A1048)","v":1190052},{"$f":"IF(語言配置表!A1048=\"\",\"CN_待填充内容\",語言配置表!B1048)","v":"发射3柄剑，对敌人造成{0}%攻击力的伤害"}]
[{"$f":"IF(語言配置表!A1049=\"\",\"\",語言配置表!A1049)","v":1190053},{"$f":"IF(語言配置表!A1049=\"\",\"CN_待填充内容\",語言配置表!B1049)","v":"发射3柄剑，对敌人造成{0}%攻击力的伤害"}]
[{"$f":"IF(語言配置表!A1050=\"\",\"\",語言配置表!A1050)","v":1190054},{"$f":"IF(語言配置表!A1050=\"\",\"CN_待填充内容\",語言配置表!B1050)","v":"发射3柄剑，对敌人造成{0}%攻击力的伤害"}]
[{"$f":"IF(語言配置表!A1051=\"\",\"\",語言配置表!A1051)","v":1190055},{"$f":"IF(語言配置表!A1051=\"\",\"CN_待填充内容\",語言配置表!B1051)","v":"发射3柄剑，对敌人造成{0}%攻击力的伤害"}]
[{"$f":"IF(語言配置表!A1052=\"\",\"\",語言配置表!A1052)","v":""},{"$f":"IF(語言配置表!A1052=\"\",\"CN_待填充内容\",語言配置表!B1052)","v":"CN_待填充内容"}]
[{"$f":"IF(語言配置表!A1053=\"\",\"\",語言配置表!A1053)","v":1190110},{"$f":"IF(語言配置表!A1053=\"\",\"CN_待填充内容\",語言配置表!B1053)","v":"凤凰煽动翅膀，在翅膀前方形成冰箭羽毛，生成{0}枚冰箭，对敌人造成{1}%攻击力的水属性伤害，并施加一层寒气"}]
[{"$f":"IF(語言配置表!A1054=\"\",\"\",語言配置表!A1054)","v":1190111},{"$f":"IF(語言配置表!A1054=\"\",\"CN_待填充内容\",語言配置表!B1054)","v":"凤凰煽动翅膀，在翅膀前方形成冰箭羽毛，生成{0}枚冰箭，对敌人造成{1}%攻击力的水属性伤害，并施加一层寒气"}]
[{"$f":"IF(語言配置表!A1055=\"\",\"\",語言配置表!A1055)","v":1190112},{"$f":"IF(語言配置表!A1055=\"\",\"CN_待填充内容\",語言配置表!B1055)","v":"凤凰煽动翅膀，在翅膀前方形成冰箭羽毛，生成{0}枚冰箭，对敌人造成{1}%攻击力的水属性伤害，并施加一层寒气"}]
[{"$f":"IF(語言配置表!A1056=\"\",\"\",語言配置表!A1056)","v":1190113},{"$f":"IF(語言配置表!A1056=\"\",\"CN_待填充内容\",語言配置表!B1056)","v":"凤凰煽动翅膀，在翅膀前方形成冰箭羽毛，生成{0}枚冰箭，对敌人造成{1}%攻击力的水属性伤害，并施加一层寒气"}]
[{"$f":"IF(語言配置表!A1057=\"\",\"\",語言配置表!A1057)","v":1190114},{"$f":"IF(語言配置表!A1057=\"\",\"CN_待填充内容\",語言配置表!B1057)","v":"凤凰煽动翅膀，在翅膀前方形成冰箭羽毛，生成{0}枚冰箭，对敌人造成{1}%攻击力的水属性伤害，并施加一层寒气"}]
[{"$f":"IF(語言配置表!A1058=\"\",\"\",語言配置表!A1058)","v":1190115},{"$f":"IF(語言配置表!A1058=\"\",\"CN_待填充内容\",語言配置表!B1058)","v":"凤凰煽动翅膀，在翅膀前方形成冰箭羽毛，生成{0}枚冰箭，对敌人造成{1}%攻击力的水属性伤害，并施加一层寒气"}]
[{"$f":"IF(語言配置表!A1059=\"\",\"\",語言配置表!A1059)","v":""},{"$f":"IF(語言配置表!A1059=\"\",\"CN_待填充内容\",語言配置表!B1059)","v":"CN_待填充内容"}]
[{"$f":"IF(語言配置表!A1060=\"\",\"\",語言配置表!A1060)","v":1190120},{"$f":"IF(語言配置表!A1060=\"\",\"CN_待填充内容\",語言配置表!B1060)","v":"凤凰喷吐出一股极寒霜息，形成远程席卷的寒潮波涛。直线飞行，造成{0}伤害，并额外造成寒气层数{1}倍的伤害"}]
[{"$f":"IF(語言配置表!A1061=\"\",\"\",語言配置表!A1061)","v":1190121},{"$f":"IF(語言配置表!A1061=\"\",\"CN_待填充内容\",語言配置表!B1061)","v":"凤凰喷吐出一股极寒霜息，形成远程席卷的寒潮波涛。直线飞行，造成{0}伤害，并额外造成寒气层数{1}倍的伤害"}]
[{"$f":"IF(語言配置表!A1062=\"\",\"\",語言配置表!A1062)","v":1190122},{"$f":"IF(語言配置表!A1062=\"\",\"CN_待填充内容\",語言配置表!B1062)","v":"凤凰喷吐出一股极寒霜息，形成远程席卷的寒潮波涛。直线飞行，造成{0}伤害，并额外造成寒气层数{1}倍的伤害"}]
[{"$f":"IF(語言配置表!A1063=\"\",\"\",語言配置表!A1063)","v":1190123},{"$f":"IF(語言配置表!A1063=\"\",\"CN_待填充内容\",語言配置表!B1063)","v":"凤凰喷吐出一股极寒霜息，形成远程席卷的寒潮波涛。直线飞行，造成{0}伤害，并额外造成寒气层数{1}倍的伤害"}]
[{"$f":"IF(語言配置表!A1064=\"\",\"\",語言配置表!A1064)","v":1190124},{"$f":"IF(語言配置表!A1064=\"\",\"CN_待填充内容\",語言配置表!B1064)","v":"凤凰喷吐出一股极寒霜息，形成远程席卷的寒潮波涛。直线飞行，造成{0}伤害，并额外造成寒气层数{1}倍的伤害"}]
[{"$f":"IF(語言配置表!A1065=\"\",\"\",語言配置表!A1065)","v":1190125},{"$f":"IF(語言配置表!A1065=\"\",\"CN_待填充内容\",語言配置表!B1065)","v":"凤凰喷吐出一股极寒霜息，形成远程席卷的寒潮波涛。直线飞行，造成{0}伤害，并额外造成寒气层数{1}倍的伤害"}]
[{"$f":"IF(語言配置表!A1066=\"\",\"\",語言配置表!A1066)","v":""},{"$f":"IF(語言配置表!A1066=\"\",\"CN_待填充内容\",語言配置表!B1066)","v":"CN_待填充内容"}]
[{"$f":"IF(語言配置表!A1067=\"\",\"\",語言配置表!A1067)","v":1190130},{"$f":"IF(語言配置表!A1067=\"\",\"CN_待填充内容\",語言配置表!B1067)","v":"凤凰在血量还剩{0}%的时触发，寒气笼罩自身5秒，期间凤凰免疫任何伤害，并慢慢回血，直到恢复满，恢复满后凤凰所有灵根增加{1}。冰块爆开，生成一个冲击波，对当前场上所有的弹道造成当前强度的强度攻击（强度不够的弹道会被摧毁），生成{2}枚冰锥冲向敌人造成{3}%攻击力的伤害"}]
[{"$f":"IF(語言配置表!A1068=\"\",\"\",語言配置表!A1068)","v":1190131},{"$f":"IF(語言配置表!A1068=\"\",\"CN_待填充内容\",語言配置表!B1068)","v":"凤凰在血量还剩{0}%的时触发，寒气笼罩自身5秒，期间凤凰免疫任何伤害，并慢慢回血，直到恢复满，恢复满后凤凰所有灵根增加{1}。冰块爆开，生成一个冲击波，对当前场上所有的弹道造成当前强度的强度攻击（强度不够的弹道会被摧毁），生成{2}枚冰锥冲向敌人造成{3}%攻击力的伤害"}]
[{"$f":"IF(語言配置表!A1069=\"\",\"\",語言配置表!A1069)","v":1190132},{"$f":"IF(語言配置表!A1069=\"\",\"CN_待填充内容\",語言配置表!B1069)","v":"凤凰在血量还剩{0}%的时触发，寒气笼罩自身5秒，期间凤凰免疫任何伤害，并慢慢回血，直到恢复满，恢复满后凤凰所有灵根增加{1}。冰块爆开，生成一个冲击波，对当前场上所有的弹道造成当前强度的强度攻击（强度不够的弹道会被摧毁），生成{2}枚冰锥冲向敌人造成{3}%攻击力的伤害"}]
[{"$f":"IF(語言配置表!A1070=\"\",\"\",語言配置表!A1070)","v":1190133},{"$f":"IF(語言配置表!A1070=\"\",\"CN_待填充内容\",語言配置表!B1070)","v":"凤凰在血量还剩{0}%的时触发，寒气笼罩自身5秒，期间凤凰免疫任何伤害，并慢慢回血，直到恢复满，恢复满后凤凰所有灵根增加{1}。冰块爆开，生成一个冲击波，对当前场上所有的弹道造成当前强度的强度攻击（强度不够的弹道会被摧毁），生成{2}枚冰锥冲向敌人造成{3}%攻击力的伤害"}]
[{"$f":"IF(語言配置表!A1071=\"\",\"\",語言配置表!A1071)","v":1190134},{"$f":"IF(語言配置表!A1071=\"\",\"CN_待填充内容\",語言配置表!B1071)","v":"凤凰在血量还剩{0}%的时触发，寒气笼罩自身5秒，期间凤凰免疫任何伤害，并慢慢回血，直到恢复满，恢复满后凤凰所有灵根增加{1}。冰块爆开，生成一个冲击波，对当前场上所有的弹道造成当前强度的强度攻击（强度不够的弹道会被摧毁），生成{2}枚冰锥冲向敌人造成{3}%攻击力的伤害"}]
[{"$f":"IF(語言配置表!A1072=\"\",\"\",語言配置表!A1072)","v":1190135},{"$f":"IF(語言配置表!A1072=\"\",\"CN_待填充内容\",語言配置表!B1072)","v":"凤凰在血量还剩{0}%的时触发，寒气笼罩自身5秒，期间凤凰免疫任何伤害，并慢慢回血，直到恢复满，恢复满后凤凰所有灵根增加{1}。冰块爆开，生成一个冲击波，对当前场上所有的弹道造成当前强度的强度攻击（强度不够的弹道会被摧毁），生成{2}枚冰锥冲向敌人造成{3}%攻击力的伤害"}]
[{"$f":"IF(語言配置表!A1073=\"\",\"\",語言配置表!A1073)","v":""},{"$f":"IF(語言配置表!A1073=\"\",\"CN_待填充内容\",語言配置表!B1073)","v":"CN_待填充内容"}]
[{"$f":"IF(語言配置表!A1074=\"\",\"\",語言配置表!A1074)","v":1190140},{"$f":"IF(語言配置表!A1074=\"\",\"CN_待填充内容\",語言配置表!B1074)","v":"从天空中召唤出多道冰球，会有{0}枚砸向敌人，造成{1}%攻击力的伤害，并施加一层寒气"}]
[{"$f":"IF(語言配置表!A1075=\"\",\"\",語言配置表!A1075)","v":1190141},{"$f":"IF(語言配置表!A1075=\"\",\"CN_待填充内容\",語言配置表!B1075)","v":"从天空中召唤出多道冰球，会有{0}枚砸向敌人，造成{1}%攻击力的伤害，并施加一层寒气"}]
[{"$f":"IF(語言配置表!A1076=\"\",\"\",語言配置表!A1076)","v":1190142},{"$f":"IF(語言配置表!A1076=\"\",\"CN_待填充内容\",語言配置表!B1076)","v":"从天空中召唤出多道冰球，会有{0}枚砸向敌人，造成{1}%攻击力的伤害，并施加一层寒气"}]
[{"$f":"IF(語言配置表!A1077=\"\",\"\",語言配置表!A1077)","v":1190143},{"$f":"IF(語言配置表!A1077=\"\",\"CN_待填充内容\",語言配置表!B1077)","v":"从天空中召唤出多道冰球，会有{0}枚砸向敌人，造成{1}%攻击力的伤害，并施加一层寒气"}]
[{"$f":"IF(語言配置表!A1078=\"\",\"\",語言配置表!A1078)","v":1190144},{"$f":"IF(語言配置表!A1078=\"\",\"CN_待填充内容\",語言配置表!B1078)","v":"从天空中召唤出多道冰球，会有{0}枚砸向敌人，造成{1}%攻击力的伤害，并施加一层寒气"}]
[{"$f":"IF(語言配置表!A1079=\"\",\"\",語言配置表!A1079)","v":1190145},{"$f":"IF(語言配置表!A1079=\"\",\"CN_待填充内容\",語言配置表!B1079)","v":"从天空中召唤出多道冰球，会有{0}枚砸向敌人，造成{1}%攻击力的伤害，并施加一层寒气"}]
[{"$f":"IF(語言配置表!A1080=\"\",\"\",語言配置表!A1080)","v":""},{"$f":"IF(語言配置表!A1080=\"\",\"CN_待填充内容\",語言配置表!B1080)","v":"CN_待填充内容"}]
[{"$f":"IF(語言配置表!A1081=\"\",\"\",語言配置表!A1081)","v":1190150},{"$f":"IF(語言配置表!A1081=\"\",\"CN_待填充内容\",語言配置表!B1081)","v":"挥动翅膀发射{0}枚冰箭，每枚对敌人造成{1}%攻击力的伤害"}]
[{"$f":"IF(語言配置表!A1082=\"\",\"\",語言配置表!A1082)","v":1190151},{"$f":"IF(語言配置表!A1082=\"\",\"CN_待填充内容\",語言配置表!B1082)","v":"挥动翅膀发射{0}枚冰箭，每枚对敌人造成{1}%攻击力的伤害"}]
[{"$f":"IF(語言配置表!A1083=\"\",\"\",語言配置表!A1083)","v":1190152},{"$f":"IF(語言配置表!A1083=\"\",\"CN_待填充内容\",語言配置表!B1083)","v":"挥动翅膀发射{0}枚冰箭，每枚对敌人造成{1}%攻击力的伤害"}]
[{"$f":"IF(語言配置表!A1084=\"\",\"\",語言配置表!A1084)","v":1190153},{"$f":"IF(語言配置表!A1084=\"\",\"CN_待填充内容\",語言配置表!B1084)","v":"挥动翅膀发射{0}枚冰箭，每枚对敌人造成{1}%攻击力的伤害"}]
[{"$f":"IF(語言配置表!A1085=\"\",\"\",語言配置表!A1085)","v":1190154},{"$f":"IF(語言配置表!A1085=\"\",\"CN_待填充内容\",語言配置表!B1085)","v":"挥动翅膀发射{0}枚冰箭，每枚对敌人造成{1}%攻击力的伤害"}]
[{"$f":"IF(語言配置表!A1086=\"\",\"\",語言配置表!A1086)","v":1190155},{"$f":"IF(語言配置表!A1086=\"\",\"CN_待填充内容\",語言配置表!B1086)","v":"挥动翅膀发射{0}枚冰箭，每枚对敌人造成{1}%攻击力的伤害"}]
[{"$f":"IF(語言配置表!A1087=\"\",\"\",語言配置表!A1087)","v":""},{"$f":"IF(語言配置表!A1087=\"\",\"CN_待填充内容\",語言配置表!B1087)","v":"CN_待填充内容"}]
[{"$f":"IF(語言配置表!A1088=\"\",\"\",語言配置表!A1088)","v":1190210},{"$f":"IF(語言配置表!A1088=\"\",\"CN_待填充内容\",語言配置表!B1088)","v":"神龟龟甲形成虚影快速收缩后爆开，形成{0}道神龟甲刃,对敌人造成{1}%攻击力的伤害，甲刃无视敌人{2}%防御"}]
[{"$f":"IF(語言配置表!A1089=\"\",\"\",語言配置表!A1089)","v":1190211},{"$f":"IF(語言配置表!A1089=\"\",\"CN_待填充内容\",語言配置表!B1089)","v":"神龟龟甲形成虚影快速收缩后爆开，形成{0}道神龟甲刃,对敌人造成{1}%攻击力的伤害，甲刃无视敌人{2}%防御"}]
[{"$f":"IF(語言配置表!A1090=\"\",\"\",語言配置表!A1090)","v":1190212},{"$f":"IF(語言配置表!A1090=\"\",\"CN_待填充内容\",語言配置表!B1090)","v":"神龟龟甲形成虚影快速收缩后爆开，形成{0}道神龟甲刃,对敌人造成{1}%攻击力的伤害，甲刃无视敌人{2}%防御"}]
[{"$f":"IF(語言配置表!A1091=\"\",\"\",語言配置表!A1091)","v":1190213},{"$f":"IF(語言配置表!A1091=\"\",\"CN_待填充内容\",語言配置表!B1091)","v":"神龟龟甲形成虚影快速收缩后爆开，形成{0}道神龟甲刃,对敌人造成{1}%攻击力的伤害，甲刃无视敌人{2}%防御"}]
[{"$f":"IF(語言配置表!A1092=\"\",\"\",語言配置表!A1092)","v":1190214},{"$f":"IF(語言配置表!A1092=\"\",\"CN_待填充内容\",語言配置表!B1092)","v":"神龟龟甲形成虚影快速收缩后爆开，形成{0}道神龟甲刃,对敌人造成{1}%攻击力的伤害，甲刃无视敌人{2}%防御"}]
[{"$f":"IF(語言配置表!A1093=\"\",\"\",語言配置表!A1093)","v":1190215},{"$f":"IF(語言配置表!A1093=\"\",\"CN_待填充内容\",語言配置表!B1093)","v":"神龟龟甲形成虚影快速收缩后爆开，形成{0}道神龟甲刃,对敌人造成{1}%攻击力的伤害，甲刃无视敌人{2}%防御"}]
[{"$f":"IF(語言配置表!A1094=\"\",\"\",語言配置表!A1094)","v":""},{"$f":"IF(語言配置表!A1094=\"\",\"CN_待填充内容\",語言配置表!B1094)","v":"CN_待填充内容"}]
[{"$f":"IF(語言配置表!A1095=\"\",\"\",語言配置表!A1095)","v":1190220},{"$f":"IF(語言配置表!A1095=\"\",\"CN_待填充内容\",語言配置表!B1095)","v":"自天地间汲取灵气形成玄龟甲碎片凝聚成玄甲，防御增加{0}%,玄甲受到伤害时会对地方造成{1}%防御力的伤害。持续{2}秒"}]
[{"$f":"IF(語言配置表!A1096=\"\",\"\",語言配置表!A1096)","v":1190221},{"$f":"IF(語言配置表!A1096=\"\",\"CN_待填充内容\",語言配置表!B1096)","v":"自天地间汲取灵气形成玄龟甲碎片凝聚成玄甲，防御增加{0}%,玄甲受到伤害时会对地方造成{1}%防御力的伤害。持续{2}秒"}]
[{"$f":"IF(語言配置表!A1097=\"\",\"\",語言配置表!A1097)","v":1190222},{"$f":"IF(語言配置表!A1097=\"\",\"CN_待填充内容\",語言配置表!B1097)","v":"自天地间汲取灵气形成玄龟甲碎片凝聚成玄甲，防御增加{0}%,玄甲受到伤害时会对地方造成{1}%防御力的伤害。持续{2}秒"}]
[{"$f":"IF(語言配置表!A1098=\"\",\"\",語言配置表!A1098)","v":1190223},{"$f":"IF(語言配置表!A1098=\"\",\"CN_待填充内容\",語言配置表!B1098)","v":"自天地间汲取灵气形成玄龟甲碎片凝聚成玄甲，防御增加{0}%,玄甲受到伤害时会对地方造成{1}%防御力的伤害。持续{2}秒"}]
[{"$f":"IF(語言配置表!A1099=\"\",\"\",語言配置表!A1099)","v":1190224},{"$f":"IF(語言配置表!A1099=\"\",\"CN_待填充内容\",語言配置表!B1099)","v":"自天地间汲取灵气形成玄龟甲碎片凝聚成玄甲，防御增加{0}%,玄甲受到伤害时会对地方造成{1}%防御力的伤害。持续{2}秒"}]
[{"$f":"IF(語言配置表!A1100=\"\",\"\",語言配置表!A1100)","v":1190225},{"$f":"IF(語言配置表!A1100=\"\",\"CN_待填充内容\",語言配置表!B1100)","v":"自天地间汲取灵气形成玄龟甲碎片凝聚成玄甲，防御增加{0}%,玄甲受到伤害时会对地方造成{1}%防御力的伤害。持续{2}秒"}]
[{"$f":"IF(語言配置表!A1101=\"\",\"\",語言配置表!A1101)","v":""},{"$f":"IF(語言配置表!A1101=\"\",\"CN_待填充内容\",語言配置表!B1101)","v":"CN_待填充内容"}]
[{"$f":"IF(語言配置表!A1102=\"\",\"\",語言配置表!A1102)","v":1190230},{"$f":"IF(語言配置表!A1102=\"\",\"CN_待填充内容\",語言配置表!B1102)","v":"乌龟从嘴里连续吐出{0}多个水球，对敌人造成{1}%攻击力的伤害"}]
[{"$f":"IF(語言配置表!A1103=\"\",\"\",語言配置表!A1103)","v":1190231},{"$f":"IF(語言配置表!A1103=\"\",\"CN_待填充内容\",語言配置表!B1103)","v":"乌龟从嘴里连续吐出{0}多个水球，对敌人造成{1}%攻击力的伤害"}]
[{"$f":"IF(語言配置表!A1104=\"\",\"\",語言配置表!A1104)","v":1190232},{"$f":"IF(語言配置表!A1104=\"\",\"CN_待填充内容\",語言配置表!B1104)","v":"乌龟从嘴里连续吐出{0}多个水球，对敌人造成{1}%攻击力的伤害"}]
[{"$f":"IF(語言配置表!A1105=\"\",\"\",語言配置表!A1105)","v":1190233},{"$f":"IF(語言配置表!A1105=\"\",\"CN_待填充内容\",語言配置表!B1105)","v":"乌龟从嘴里连续吐出{0}多个水球，对敌人造成{1}%攻击力的伤害"}]
[{"$f":"IF(語言配置表!A1106=\"\",\"\",語言配置表!A1106)","v":1190234},{"$f":"IF(語言配置表!A1106=\"\",\"CN_待填充内容\",語言配置表!B1106)","v":"乌龟从嘴里连续吐出{0}多个水球，对敌人造成{1}%攻击力的伤害"}]
[{"$f":"IF(語言配置表!A1107=\"\",\"\",語言配置表!A1107)","v":1190235},{"$f":"IF(語言配置表!A1107=\"\",\"CN_待填充内容\",語言配置表!B1107)","v":"乌龟从嘴里连续吐出{0}多个水球，对敌人造成{1}%攻击力的伤害"}]
[{"$f":"IF(語言配置表!A1108=\"\",\"\",語言配置表!A1108)","v":""},{"$f":"IF(語言配置表!A1108=\"\",\"CN_待填充内容\",語言配置表!B1108)","v":"CN_待填充内容"}]
[{"$f":"IF(語言配置表!A1109=\"\",\"\",語言配置表!A1109)","v":1190240},{"$f":"IF(語言配置表!A1109=\"\",\"CN_待填充内容\",語言配置表!B1109)","v":"生命低于{0}%时，神龟仰天长吼，震慑天地后，场上凝聚出寒气，所有主动伤害型技能命中目标后都会施加一层寒气，寒气叠到{1}层时，将消耗所有寒气层数对敌人造成{2}秒的冰冻效果"}]
[{"$f":"IF(語言配置表!A1110=\"\",\"\",語言配置表!A1110)","v":1190241},{"$f":"IF(語言配置表!A1110=\"\",\"CN_待填充内容\",語言配置表!B1110)","v":"生命低于{0}%时，神龟仰天长吼，震慑天地后，场上凝聚出寒气，所有主动伤害型技能命中目标后都会施加一层寒气，寒气叠到{1}层时，将消耗所有寒气层数对敌人造成{2}秒的冰冻效果"}]
[{"$f":"IF(語言配置表!A1111=\"\",\"\",語言配置表!A1111)","v":1190242},{"$f":"IF(語言配置表!A1111=\"\",\"CN_待填充内容\",語言配置表!B1111)","v":"生命低于{0}%时，神龟仰天长吼，震慑天地后，场上凝聚出寒气，所有主动伤害型技能命中目标后都会施加一层寒气，寒气叠到{1}层时，将消耗所有寒气层数对敌人造成{2}秒的冰冻效果"}]
[{"$f":"IF(語言配置表!A1112=\"\",\"\",語言配置表!A1112)","v":1190243},{"$f":"IF(語言配置表!A1112=\"\",\"CN_待填充内容\",語言配置表!B1112)","v":"生命低于{0}%时，神龟仰天长吼，震慑天地后，场上凝聚出寒气，所有主动伤害型技能命中目标后都会施加一层寒气，寒气叠到{1}层时，将消耗所有寒气层数对敌人造成{2}秒的冰冻效果"}]
[{"$f":"IF(語言配置表!A1113=\"\",\"\",語言配置表!A1113)","v":1190244},{"$f":"IF(語言配置表!A1113=\"\",\"CN_待填充内容\",語言配置表!B1113)","v":"生命低于{0}%时，神龟仰天长吼，震慑天地后，场上凝聚出寒气，所有主动伤害型技能命中目标后都会施加一层寒气，寒气叠到{1}层时，将消耗所有寒气层数对敌人造成{2}秒的冰冻效果"}]
[{"$f":"IF(語言配置表!A1114=\"\",\"\",語言配置表!A1114)","v":1190245},{"$f":"IF(語言配置表!A1114=\"\",\"CN_待填充内容\",語言配置表!B1114)","v":"生命低于{0}%时，神龟仰天长吼，震慑天地后，场上凝聚出寒气，所有主动伤害型技能命中目标后都会施加一层寒气，寒气叠到{1}层时，将消耗所有寒气层数对敌人造成{2}秒的冰冻效果"}]
[{"$f":"IF(語言配置表!A1115=\"\",\"\",語言配置表!A1115)","v":""},{"$f":"IF(語言配置表!A1115=\"\",\"CN_待填充内容\",語言配置表!B1115)","v":"CN_待填充内容"}]
[{"$f":"IF(語言配置表!A1116=\"\",\"\",語言配置表!A1116)","v":1190610},{"$f":"IF(語言配置表!A1116=\"\",\"CN_待填充内容\",語言配置表!B1116)","v":"身体摇动，天空散发出小小的花朵干扰敌方灵识。木灵隐藏其中时防御+{0}%,期间不再攻击，直到木灵之子全部死亡后的{1}秒消失"}]
[{"$f":"IF(語言配置表!A1117=\"\",\"\",語言配置表!A1117)","v":1190611},{"$f":"IF(語言配置表!A1117=\"\",\"CN_待填充内容\",語言配置表!B1117)","v":"身体摇动，天空散发出小小的花朵干扰敌方灵识。木灵隐藏其中时防御+{0}%,期间不再攻击，直到木灵之子全部死亡后的{1}秒消失"}]
[{"$f":"IF(語言配置表!A1118=\"\",\"\",語言配置表!A1118)","v":1190612},{"$f":"IF(語言配置表!A1118=\"\",\"CN_待填充内容\",語言配置表!B1118)","v":"身体摇动，天空散发出小小的花朵干扰敌方灵识。木灵隐藏其中时防御+{0}%,期间不再攻击，直到木灵之子全部死亡后的{1}秒消失"}]
[{"$f":"IF(語言配置表!A1119=\"\",\"\",語言配置表!A1119)","v":1190613},{"$f":"IF(語言配置表!A1119=\"\",\"CN_待填充内容\",語言配置表!B1119)","v":"身体摇动，天空散发出小小的花朵干扰敌方灵识。木灵隐藏其中时防御+{0}%,期间不再攻击，直到木灵之子全部死亡后的{1}秒消失"}]
[{"$f":"IF(語言配置表!A1120=\"\",\"\",語言配置表!A1120)","v":1190614},{"$f":"IF(語言配置表!A1120=\"\",\"CN_待填充内容\",語言配置表!B1120)","v":"身体摇动，天空散发出小小的花朵干扰敌方灵识。木灵隐藏其中时防御+{0}%,期间不再攻击，直到木灵之子全部死亡后的{1}秒消失"}]
[{"$f":"IF(語言配置表!A1121=\"\",\"\",語言配置表!A1121)","v":1190615},{"$f":"IF(語言配置表!A1121=\"\",\"CN_待填充内容\",語言配置表!B1121)","v":"身体摇动，天空散发出小小的花朵干扰敌方灵识。木灵隐藏其中时防御+{0}%,期间不再攻击，直到木灵之子全部死亡后的{1}秒消失"}]
[{"$f":"IF(語言配置表!A1122=\"\",\"\",語言配置表!A1122)","v":""},{"$f":"IF(語言配置表!A1122=\"\",\"CN_待填充内容\",語言配置表!B1122)","v":"CN_待填充内容"}]
[{"$f":"IF(語言配置表!A1123=\"\",\"\",語言配置表!A1123)","v":1190620},{"$f":"IF(語言配置表!A1123=\"\",\"CN_待填充内容\",語言配置表!B1123)","v":"生命低于{0}%时会触发，木灵的根须快速在自身周围生出2个木灵之子，木灵之子继承木灵的{1}%的生命值，木灵之子全部死亡后{2}秒后会再次释放"}]
[{"$f":"IF(語言配置表!A1124=\"\",\"\",語言配置表!A1124)","v":1190621},{"$f":"IF(語言配置表!A1124=\"\",\"CN_待填充内容\",語言配置表!B1124)","v":"生命低于{0}%时会触发，木灵的根须快速在自身周围生出2个木灵之子，木灵之子继承木灵的{1}%的生命值，木灵之子全部死亡后{2}秒后会再次释放"}]
[{"$f":"IF(語言配置表!A1125=\"\",\"\",語言配置表!A1125)","v":1190622},{"$f":"IF(語言配置表!A1125=\"\",\"CN_待填充内容\",語言配置表!B1125)","v":"生命低于{0}%时会触发，木灵的根须快速在自身周围生出2个木灵之子，木灵之子继承木灵的{1}%的生命值，木灵之子全部死亡后{2}秒后会再次释放"}]
[{"$f":"IF(語言配置表!A1126=\"\",\"\",語言配置表!A1126)","v":1190623},{"$f":"IF(語言配置表!A1126=\"\",\"CN_待填充内容\",語言配置表!B1126)","v":"生命低于{0}%时会触发，木灵的根须快速在自身周围生出2个木灵之子，木灵之子继承木灵的{1}%的生命值，木灵之子全部死亡后{2}秒后会再次释放"}]
[{"$f":"IF(語言配置表!A1127=\"\",\"\",語言配置表!A1127)","v":1190624},{"$f":"IF(語言配置表!A1127=\"\",\"CN_待填充内容\",語言配置表!B1127)","v":"生命低于{0}%时会触发，木灵的根须快速在自身周围生出2个木灵之子，木灵之子继承木灵的{1}%的生命值，木灵之子全部死亡后{2}秒后会再次释放"}]
[{"$f":"IF(語言配置表!A1128=\"\",\"\",語言配置表!A1128)","v":1190625},{"$f":"IF(語言配置表!A1128=\"\",\"CN_待填充内容\",語言配置表!B1128)","v":"生命低于{0}%时会触发，木灵的根须快速在自身周围生出2个木灵之子，木灵之子继承木灵的{1}%的生命值，木灵之子全部死亡后{2}秒后会再次释放"}]
[{"$f":"IF(語言配置表!A1129=\"\",\"\",語言配置表!A1129)","v":""},{"$f":"IF(語言配置表!A1129=\"\",\"CN_待填充内容\",語言配置表!B1129)","v":"CN_待填充内容"}]
[{"$f":"IF(語言配置表!A1130=\"\",\"\",語言配置表!A1130)","v":1190630},{"$f":"IF(語言配置表!A1130=\"\",\"CN_待填充内容\",語言配置表!B1130)","v":"木灵挥手凝聚，从手中挥舞出{0}个木刺，直线飞向敌人\n，对敌人造成{1}%攻击力的伤害"}]
[{"$f":"IF(語言配置表!A1131=\"\",\"\",語言配置表!A1131)","v":1190631},{"$f":"IF(語言配置表!A1131=\"\",\"CN_待填充内容\",語言配置表!B1131)","v":"木灵挥手凝聚，从手中挥舞出{0}个木刺，直线飞向敌人\n，对敌人造成{1}%攻击力的伤害"}]
[{"$f":"IF(語言配置表!A1132=\"\",\"\",語言配置表!A1132)","v":1190632},{"$f":"IF(語言配置表!A1132=\"\",\"CN_待填充内容\",語言配置表!B1132)","v":"木灵挥手凝聚，从手中挥舞出{0}个木刺，直线飞向敌人\n，对敌人造成{1}%攻击力的伤害"}]
[{"$f":"IF(語言配置表!A1133=\"\",\"\",語言配置表!A1133)","v":1190633},{"$f":"IF(語言配置表!A1133=\"\",\"CN_待填充内容\",語言配置表!B1133)","v":"木灵挥手凝聚，从手中挥舞出{0}个木刺，直线飞向敌人\n，对敌人造成{1}%攻击力的伤害"}]
[{"$f":"IF(語言配置表!A1134=\"\",\"\",語言配置表!A1134)","v":1190634},{"$f":"IF(語言配置表!A1134=\"\",\"CN_待填充内容\",語言配置表!B1134)","v":"木灵挥手凝聚，从手中挥舞出{0}个木刺，直线飞向敌人\n，对敌人造成{1}%攻击力的伤害"}]
[{"$f":"IF(語言配置表!A1135=\"\",\"\",語言配置表!A1135)","v":1190635},{"$f":"IF(語言配置表!A1135=\"\",\"CN_待填充内容\",語言配置表!B1135)","v":"木灵挥手凝聚，从手中挥舞出{0}个木刺，直线飞向敌人\n，对敌人造成{1}%攻击力的伤害"}]
[{"$f":"IF(語言配置表!A1136=\"\",\"\",語言配置表!A1136)","v":""},{"$f":"IF(語言配置表!A1136=\"\",\"CN_待填充内容\",語言配置表!B1136)","v":"CN_待填充内容"}]
[{"$f":"IF(語言配置表!A1137=\"\",\"\",語言配置表!A1137)","v":1190640},{"$f":"IF(語言配置表!A1137=\"\",\"CN_待填充内容\",語言配置表!B1137)","v":"在敌方脚下生长出藤蔓，将敌人捆住。限制其在{0}秒内不能行动，且无法释放功法以及填充功法，并且受到木灵之子的攻击伤害+{1}%"}]
[{"$f":"IF(語言配置表!A1138=\"\",\"\",語言配置表!A1138)","v":1190641},{"$f":"IF(語言配置表!A1138=\"\",\"CN_待填充内容\",語言配置表!B1138)","v":"在敌方脚下生长出藤蔓，将敌人捆住。限制其在{0}秒内不能行动，且无法释放功法以及填充功法，并且受到木灵之子的攻击伤害+{1}%"}]
[{"$f":"IF(語言配置表!A1139=\"\",\"\",語言配置表!A1139)","v":1190642},{"$f":"IF(語言配置表!A1139=\"\",\"CN_待填充内容\",語言配置表!B1139)","v":"在敌方脚下生长出藤蔓，将敌人捆住。限制其在{0}秒内不能行动，且无法释放功法以及填充功法，并且受到木灵之子的攻击伤害+{1}%"}]
[{"$f":"IF(語言配置表!A1140=\"\",\"\",語言配置表!A1140)","v":1190643},{"$f":"IF(語言配置表!A1140=\"\",\"CN_待填充内容\",語言配置表!B1140)","v":"在敌方脚下生长出藤蔓，将敌人捆住。限制其在{0}秒内不能行动，且无法释放功法以及填充功法，并且受到木灵之子的攻击伤害+{1}%"}]
[{"$f":"IF(語言配置表!A1141=\"\",\"\",語言配置表!A1141)","v":1190644},{"$f":"IF(語言配置表!A1141=\"\",\"CN_待填充内容\",語言配置表!B1141)","v":"在敌方脚下生长出藤蔓，将敌人捆住。限制其在{0}秒内不能行动，且无法释放功法以及填充功法，并且受到木灵之子的攻击伤害+{1}%"}]
[{"$f":"IF(語言配置表!A1142=\"\",\"\",語言配置表!A1142)","v":1190645},{"$f":"IF(語言配置表!A1142=\"\",\"CN_待填充内容\",語言配置表!B1142)","v":"在敌方脚下生长出藤蔓，将敌人捆住。限制其在{0}秒内不能行动，且无法释放功法以及填充功法，并且受到木灵之子的攻击伤害+{1}%"}]
[{"$f":"IF(語言配置表!A1143=\"\",\"\",語言配置表!A1143)","v":""},{"$f":"IF(語言配置表!A1143=\"\",\"CN_待填充内容\",語言配置表!B1143)","v":"CN_待填充内容"}]
[{"$f":"IF(語言配置表!A1144=\"\",\"\",語言配置表!A1144)","v":1190710},{"$f":"IF(語言配置表!A1144=\"\",\"CN_待填充内容\",語言配置表!B1144)","v":"挥手发射{0}枚木刺，每根木刺敌人造成{1}%攻击力的伤害"}]
[{"$f":"IF(語言配置表!A1145=\"\",\"\",語言配置表!A1145)","v":1190711},{"$f":"IF(語言配置表!A1145=\"\",\"CN_待填充内容\",語言配置表!B1145)","v":"挥手发射{0}枚木刺，每根木刺敌人造成{1}%攻击力的伤害"}]
[{"$f":"IF(語言配置表!A1146=\"\",\"\",語言配置表!A1146)","v":1190712},{"$f":"IF(語言配置表!A1146=\"\",\"CN_待填充内容\",語言配置表!B1146)","v":"挥手发射{0}枚木刺，每根木刺敌人造成{1}%攻击力的伤害"}]
[{"$f":"IF(語言配置表!A1147=\"\",\"\",語言配置表!A1147)","v":1190713},{"$f":"IF(語言配置表!A1147=\"\",\"CN_待填充内容\",語言配置表!B1147)","v":"挥手发射{0}枚木刺，每根木刺敌人造成{1}%攻击力的伤害"}]
[{"$f":"IF(語言配置表!A1148=\"\",\"\",語言配置表!A1148)","v":1190714},{"$f":"IF(語言配置表!A1148=\"\",\"CN_待填充内容\",語言配置表!B1148)","v":"挥手发射{0}枚木刺，每根木刺敌人造成{1}%攻击力的伤害"}]
[{"$f":"IF(語言配置表!A1149=\"\",\"\",語言配置表!A1149)","v":1190715},{"$f":"IF(語言配置表!A1149=\"\",\"CN_待填充内容\",語言配置表!B1149)","v":"挥手发射{0}枚木刺，每根木刺敌人造成{1}%攻击力的伤害"}]
[{"$f":"IF(語言配置表!A1150=\"\",\"\",語言配置表!A1150)","v":""},{"$f":"IF(語言配置表!A1150=\"\",\"CN_待填充内容\",語言配置表!B1150)","v":"CN_待填充内容"}]
[{"$f":"IF(語言配置表!A1151=\"\",\"\",語言配置表!A1151)","v":1190510},{"$f":"IF(語言配置表!A1151=\"\",\"CN_待填充内容\",語言配置表!B1151)","v":"穷奇煽动翅膀，空中形成{0}枚风刃，对敌人造成{1}%攻击力的伤害"}]
[{"$f":"IF(語言配置表!A1152=\"\",\"\",語言配置表!A1152)","v":1190511},{"$f":"IF(語言配置表!A1152=\"\",\"CN_待填充内容\",語言配置表!B1152)","v":"穷奇煽动翅膀，空中形成{0}枚风刃，对敌人造成{1}%攻击力的伤害"}]
[{"$f":"IF(語言配置表!A1153=\"\",\"\",語言配置表!A1153)","v":1190512},{"$f":"IF(語言配置表!A1153=\"\",\"CN_待填充内容\",語言配置表!B1153)","v":"穷奇煽动翅膀，空中形成{0}枚风刃，对敌人造成{1}%攻击力的伤害"}]
[{"$f":"IF(語言配置表!A1154=\"\",\"\",語言配置表!A1154)","v":1190513},{"$f":"IF(語言配置表!A1154=\"\",\"CN_待填充内容\",語言配置表!B1154)","v":"穷奇煽动翅膀，空中形成{0}枚风刃，对敌人造成{1}%攻击力的伤害"}]
[{"$f":"IF(語言配置表!A1155=\"\",\"\",語言配置表!A1155)","v":1190514},{"$f":"IF(語言配置表!A1155=\"\",\"CN_待填充内容\",語言配置表!B1155)","v":"穷奇煽动翅膀，空中形成{0}枚风刃，对敌人造成{1}%攻击力的伤害"}]
[{"$f":"IF(語言配置表!A1156=\"\",\"\",語言配置表!A1156)","v":1190515},{"$f":"IF(語言配置表!A1156=\"\",\"CN_待填充内容\",語言配置表!B1156)","v":"穷奇煽动翅膀，空中形成{0}枚风刃，对敌人造成{1}%攻击力的伤害"}]
[{"$f":"IF(語言配置表!A1157=\"\",\"\",語言配置表!A1157)","v":""},{"$f":"IF(語言配置表!A1157=\"\",\"CN_待填充内容\",語言配置表!B1157)","v":"CN_待填充内容"}]
[{"$f":"IF(語言配置表!A1158=\"\",\"\",語言配置表!A1158)","v":1190520},{"$f":"IF(語言配置表!A1158=\"\",\"CN_待填充内容\",語言配置表!B1158)","v":"穷奇自身引雷而下，快速的从嘴上吐出{0}个光波，\n对敌人造成{1}%攻击力的伤害，每个光波带有雷电之力，对敌人施加一层感电"}]
[{"$f":"IF(語言配置表!A1159=\"\",\"\",語言配置表!A1159)","v":1190521},{"$f":"IF(語言配置表!A1159=\"\",\"CN_待填充内容\",語言配置表!B1159)","v":"穷奇自身引雷而下，快速的从嘴上吐出{0}个光波，\n对敌人造成{1}%攻击力的伤害，每个光波带有雷电之力，对敌人施加一层感电"}]
[{"$f":"IF(語言配置表!A1160=\"\",\"\",語言配置表!A1160)","v":1190522},{"$f":"IF(語言配置表!A1160=\"\",\"CN_待填充内容\",語言配置表!B1160)","v":"穷奇自身引雷而下，快速的从嘴上吐出{0}个光波，\n对敌人造成{1}%攻击力的伤害，每个光波带有雷电之力，对敌人施加一层感电"}]
[{"$f":"IF(語言配置表!A1161=\"\",\"\",語言配置表!A1161)","v":1190523},{"$f":"IF(語言配置表!A1161=\"\",\"CN_待填充内容\",語言配置表!B1161)","v":"穷奇自身引雷而下，快速的从嘴上吐出{0}个光波，\n对敌人造成{1}%攻击力的伤害，每个光波带有雷电之力，对敌人施加一层感电"}]
[{"$f":"IF(語言配置表!A1162=\"\",\"\",語言配置表!A1162)","v":1190524},{"$f":"IF(語言配置表!A1162=\"\",\"CN_待填充内容\",語言配置表!B1162)","v":"穷奇自身引雷而下，快速的从嘴上吐出{0}个光波，\n对敌人造成{1}%攻击力的伤害，每个光波带有雷电之力，对敌人施加一层感电"}]
[{"$f":"IF(語言配置表!A1163=\"\",\"\",語言配置表!A1163)","v":1190525},{"$f":"IF(語言配置表!A1163=\"\",\"CN_待填充内容\",語言配置表!B1163)","v":"穷奇自身引雷而下，快速的从嘴上吐出{0}个光波，\n对敌人造成{1}%攻击力的伤害，每个光波带有雷电之力，对敌人施加一层感电"}]
[{"$f":"IF(語言配置表!A1164=\"\",\"\",語言配置表!A1164)","v":""},{"$f":"IF(語言配置表!A1164=\"\",\"CN_待填充内容\",語言配置表!B1164)","v":"CN_待填充内容"}]
[{"$f":"IF(語言配置表!A1165=\"\",\"\",語言配置表!A1165)","v":1190530},{"$f":"IF(語言配置表!A1165=\"\",\"CN_待填充内容\",語言配置表!B1165)","v":"仰天施法，引导天雷，天雷在战场上随机落下，{0}%的概率击中目标，每层感电额外增加{1}%概率，至多击中目标{2}次，每次击中造成{3}%攻击力的伤害，每消耗一层感电额外照造成{4}%攻击力的伤害。引雷可以击中弹道.持续{5}秒"}]
[{"$f":"IF(語言配置表!A1166=\"\",\"\",語言配置表!A1166)","v":1190531},{"$f":"IF(語言配置表!A1166=\"\",\"CN_待填充内容\",語言配置表!B1166)","v":"仰天施法，引导天雷，天雷在战场上随机落下，{0}%的概率击中目标，每层感电额外增加{1}%概率，至多击中目标{2}次，每次击中造成{3}%攻击力的伤害，每消耗一层感电额外照造成{4}%攻击力的伤害。引雷可以击中弹道.持续{5}秒"}]
[{"$f":"IF(語言配置表!A1167=\"\",\"\",語言配置表!A1167)","v":1190532},{"$f":"IF(語言配置表!A1167=\"\",\"CN_待填充内容\",語言配置表!B1167)","v":"仰天施法，引导天雷，天雷在战场上随机落下，{0}%的概率击中目标，每层感电额外增加{1}%概率，至多击中目标{2}次，每次击中造成{3}%攻击力的伤害，每消耗一层感电额外照造成{4}%攻击力的伤害。引雷可以击中弹道.持续{5}秒"}]
[{"$f":"IF(語言配置表!A1168=\"\",\"\",語言配置表!A1168)","v":1190533},{"$f":"IF(語言配置表!A1168=\"\",\"CN_待填充内容\",語言配置表!B1168)","v":"仰天施法，引导天雷，天雷在战场上随机落下，{0}%的概率击中目标，每层感电额外增加{1}%概率，至多击中目标{2}次，每次击中造成{3}%攻击力的伤害，每消耗一层感电额外照造成{4}%攻击力的伤害。引雷可以击中弹道.持续{5}秒"}]
[{"$f":"IF(語言配置表!A1169=\"\",\"\",語言配置表!A1169)","v":1190534},{"$f":"IF(語言配置表!A1169=\"\",\"CN_待填充内容\",語言配置表!B1169)","v":"仰天施法，引导天雷，天雷在战场上随机落下，{0}%的概率击中目标，每层感电额外增加{1}%概率，至多击中目标{2}次，每次击中造成{3}%攻击力的伤害，每消耗一层感电额外照造成{4}%攻击力的伤害。引雷可以击中弹道.持续{5}秒"}]
[{"$f":"IF(語言配置表!A1170=\"\",\"\",語言配置表!A1170)","v":1190535},{"$f":"IF(語言配置表!A1170=\"\",\"CN_待填充内容\",語言配置表!B1170)","v":"仰天施法，引导天雷，天雷在战场上随机落下，{0}%的概率击中目标，每层感电额外增加{1}%概率，至多击中目标{2}次，每次击中造成{3}%攻击力的伤害，每消耗一层感电额外照造成{4}%攻击力的伤害。引雷可以击中弹道.持续{5}秒"}]
[{"$f":"IF(語言配置表!A1171=\"\",\"\",語言配置表!A1171)","v":""},{"$f":"IF(語言配置表!A1171=\"\",\"CN_待填充内容\",語言配置表!B1171)","v":"CN_待填充内容"}]
[{"$f":"IF(語言配置表!A1172=\"\",\"\",語言配置表!A1172)","v":1190540},{"$f":"IF(語言配置表!A1172=\"\",\"CN_待填充内容\",語言配置表!B1172)","v":"每隔{0}秒，唤出天雷劈向带有感电的敌人，每层感电将对敌人造成{1}%攻击力的伤害"}]
[{"$f":"IF(語言配置表!A1173=\"\",\"\",語言配置表!A1173)","v":1190541},{"$f":"IF(語言配置表!A1173=\"\",\"CN_待填充内容\",語言配置表!B1173)","v":"每隔{0}秒，唤出天雷劈向带有感电的敌人，每层感电将对敌人造成{1}%攻击力的伤害"}]
[{"$f":"IF(語言配置表!A1174=\"\",\"\",語言配置表!A1174)","v":1190542},{"$f":"IF(語言配置表!A1174=\"\",\"CN_待填充内容\",語言配置表!B1174)","v":"每隔{0}秒，唤出天雷劈向带有感电的敌人，每层感电将对敌人造成{1}%攻击力的伤害"}]
[{"$f":"IF(語言配置表!A1175=\"\",\"\",語言配置表!A1175)","v":1190543},{"$f":"IF(語言配置表!A1175=\"\",\"CN_待填充内容\",語言配置表!B1175)","v":"每隔{0}秒，唤出天雷劈向带有感电的敌人，每层感电将对敌人造成{1}%攻击力的伤害"}]
[{"$f":"IF(語言配置表!A1176=\"\",\"\",語言配置表!A1176)","v":1190544},{"$f":"IF(語言配置表!A1176=\"\",\"CN_待填充内容\",語言配置表!B1176)","v":"每隔{0}秒，唤出天雷劈向带有感电的敌人，每层感电将对敌人造成{1}%攻击力的伤害"}]
[{"$f":"IF(語言配置表!A1177=\"\",\"\",語言配置表!A1177)","v":1190545},{"$f":"IF(語言配置表!A1177=\"\",\"CN_待填充内容\",語言配置表!B1177)","v":"每隔{0}秒，唤出天雷劈向带有感电的敌人，每层感电将对敌人造成{1}%攻击力的伤害"}]
[{"$f":"IF(語言配置表!A1178=\"\",\"\",語言配置表!A1178)","v":""},{"$f":"IF(語言配置表!A1178=\"\",\"CN_待填充内容\",語言配置表!B1178)","v":"CN_待填充内容"}]
[{"$f":"IF(語言配置表!A1179=\"\",\"\",語言配置表!A1179)","v":1190310},{"$f":"IF(語言配置表!A1179=\"\",\"CN_待填充内容\",語言配置表!B1179)","v":"蜘蛛从嘴里连续激发出{0}道毒刺，对敌人造成{1}%攻击力的伤害，命中敌人时有{2}%概率施加1层中毒"}]
[{"$f":"IF(語言配置表!A1180=\"\",\"\",語言配置表!A1180)","v":1190311},{"$f":"IF(語言配置表!A1180=\"\",\"CN_待填充内容\",語言配置表!B1180)","v":"蜘蛛从嘴里连续激发出{0}道毒刺，对敌人造成{1}%攻击力的伤害，命中敌人时有{2}%概率施加1层中毒"}]
[{"$f":"IF(語言配置表!A1181=\"\",\"\",語言配置表!A1181)","v":1190312},{"$f":"IF(語言配置表!A1181=\"\",\"CN_待填充内容\",語言配置表!B1181)","v":"蜘蛛从嘴里连续激发出{0}道毒刺，对敌人造成{1}%攻击力的伤害，命中敌人时有{2}%概率施加1层中毒"}]
[{"$f":"IF(語言配置表!A1182=\"\",\"\",語言配置表!A1182)","v":1190313},{"$f":"IF(語言配置表!A1182=\"\",\"CN_待填充内容\",語言配置表!B1182)","v":"蜘蛛从嘴里连续激发出{0}道毒刺，对敌人造成{1}%攻击力的伤害，命中敌人时有{2}%概率施加1层中毒"}]
[{"$f":"IF(語言配置表!A1183=\"\",\"\",語言配置表!A1183)","v":1190314},{"$f":"IF(語言配置表!A1183=\"\",\"CN_待填充内容\",語言配置表!B1183)","v":"蜘蛛从嘴里连续激发出{0}道毒刺，对敌人造成{1}%攻击力的伤害，命中敌人时有{2}%概率施加1层中毒"}]
[{"$f":"IF(語言配置表!A1184=\"\",\"\",語言配置表!A1184)","v":1190315},{"$f":"IF(語言配置表!A1184=\"\",\"CN_待填充内容\",語言配置表!B1184)","v":"蜘蛛从嘴里连续激发出{0}道毒刺，对敌人造成{1}%攻击力的伤害，命中敌人时有{2}%概率施加1层中毒"}]
[{"$f":"IF(語言配置表!A1185=\"\",\"\",語言配置表!A1185)","v":""},{"$f":"IF(語言配置表!A1185=\"\",\"CN_待填充内容\",語言配置表!B1185)","v":"CN_待填充内容"}]
[{"$f":"IF(語言配置表!A1186=\"\",\"\",語言配置表!A1186)","v":1190320},{"$f":"IF(語言配置表!A1186=\"\",\"CN_待填充内容\",語言配置表!B1186)","v":"蜘蛛身体抖动出现{0}个小蜘蛛飞向敌人，对敌人造成{1}%攻击力的伤害"}]
[{"$f":"IF(語言配置表!A1187=\"\",\"\",語言配置表!A1187)","v":1190321},{"$f":"IF(語言配置表!A1187=\"\",\"CN_待填充内容\",語言配置表!B1187)","v":"蜘蛛身体抖动出现{0}个小蜘蛛飞向敌人，对敌人造成{1}%攻击力的伤害"}]
[{"$f":"IF(語言配置表!A1188=\"\",\"\",語言配置表!A1188)","v":1190322},{"$f":"IF(語言配置表!A1188=\"\",\"CN_待填充内容\",語言配置表!B1188)","v":"蜘蛛身体抖动出现{0}个小蜘蛛飞向敌人，对敌人造成{1}%攻击力的伤害"}]
[{"$f":"IF(語言配置表!A1189=\"\",\"\",語言配置表!A1189)","v":1190323},{"$f":"IF(語言配置表!A1189=\"\",\"CN_待填充内容\",語言配置表!B1189)","v":"蜘蛛身体抖动出现{0}个小蜘蛛飞向敌人，对敌人造成{1}%攻击力的伤害"}]
[{"$f":"IF(語言配置表!A1190=\"\",\"\",語言配置表!A1190)","v":1190324},{"$f":"IF(語言配置表!A1190=\"\",\"CN_待填充内容\",語言配置表!B1190)","v":"蜘蛛身体抖动出现{0}个小蜘蛛飞向敌人，对敌人造成{1}%攻击力的伤害"}]
[{"$f":"IF(語言配置表!A1191=\"\",\"\",語言配置表!A1191)","v":1190325},{"$f":"IF(語言配置表!A1191=\"\",\"CN_待填充内容\",語言配置表!B1191)","v":"蜘蛛身体抖动出现{0}个小蜘蛛飞向敌人，对敌人造成{1}%攻击力的伤害"}]
[{"$f":"IF(語言配置表!A1192=\"\",\"\",語言配置表!A1192)","v":""},{"$f":"IF(語言配置表!A1192=\"\",\"CN_待填充内容\",語言配置表!B1192)","v":"CN_待填充内容"}]
[{"$f":"IF(語言配置表!A1193=\"\",\"\",語言配置表!A1193)","v":1190330},{"$f":"IF(語言配置表!A1193=\"\",\"CN_待填充内容\",語言配置表!B1193)","v":"嘴里吐出{0}道蜘蛛丝对敌人造成{1}%攻击力的伤害"}]
[{"$f":"IF(語言配置表!A1194=\"\",\"\",語言配置表!A1194)","v":1190331},{"$f":"IF(語言配置表!A1194=\"\",\"CN_待填充内容\",語言配置表!B1194)","v":"嘴里吐出{0}道蜘蛛丝对敌人造成{1}%攻击力的伤害"}]
[{"$f":"IF(語言配置表!A1195=\"\",\"\",語言配置表!A1195)","v":1190332},{"$f":"IF(語言配置表!A1195=\"\",\"CN_待填充内容\",語言配置表!B1195)","v":"嘴里吐出{0}道蜘蛛丝对敌人造成{1}%攻击力的伤害"}]
[{"$f":"IF(語言配置表!A1196=\"\",\"\",語言配置表!A1196)","v":1190333},{"$f":"IF(語言配置表!A1196=\"\",\"CN_待填充内容\",語言配置表!B1196)","v":"嘴里吐出{0}道蜘蛛丝对敌人造成{1}%攻击力的伤害"}]
[{"$f":"IF(語言配置表!A1197=\"\",\"\",語言配置表!A1197)","v":1190334},{"$f":"IF(語言配置表!A1197=\"\",\"CN_待填充内容\",語言配置表!B1197)","v":"嘴里吐出{0}道蜘蛛丝对敌人造成{1}%攻击力的伤害"}]
[{"$f":"IF(語言配置表!A1198=\"\",\"\",語言配置表!A1198)","v":1190335},{"$f":"IF(語言配置表!A1198=\"\",\"CN_待填充内容\",語言配置表!B1198)","v":"嘴里吐出{0}道蜘蛛丝对敌人造成{1}%攻击力的伤害"}]
[{"$f":"IF(語言配置表!A1199=\"\",\"\",語言配置表!A1199)","v":""},{"$f":"IF(語言配置表!A1199=\"\",\"CN_待填充内容\",語言配置表!B1199)","v":"CN_待填充内容"}]
[{"$f":"IF(語言配置表!A1200=\"\",\"\",語言配置表!A1200)","v":1190410},{"$f":"IF(語言配置表!A1200=\"\",\"CN_待填充内容\",語言配置表!B1200)","v":"甩动尾巴，生成{0}个黑色的骨刺形成一排，每根骨刺对敌人造成{1}%攻击力的伤害，命中时对敌人施加一层鼠疫"}]
[{"$f":"IF(語言配置表!A1201=\"\",\"\",語言配置表!A1201)","v":1190411},{"$f":"IF(語言配置表!A1201=\"\",\"CN_待填充内容\",語言配置表!B1201)","v":"甩动尾巴，生成{0}个黑色的骨刺形成一排，每根骨刺对敌人造成{1}%攻击力的伤害，命中时对敌人施加一层鼠疫"}]
[{"$f":"IF(語言配置表!A1202=\"\",\"\",語言配置表!A1202)","v":1190412},{"$f":"IF(語言配置表!A1202=\"\",\"CN_待填充内容\",語言配置表!B1202)","v":"甩动尾巴，生成{0}个黑色的骨刺形成一排，每根骨刺对敌人造成{1}%攻击力的伤害，命中时对敌人施加一层鼠疫"}]
[{"$f":"IF(語言配置表!A1203=\"\",\"\",語言配置表!A1203)","v":1190413},{"$f":"IF(語言配置表!A1203=\"\",\"CN_待填充内容\",語言配置表!B1203)","v":"甩动尾巴，生成{0}个黑色的骨刺形成一排，每根骨刺对敌人造成{1}%攻击力的伤害，命中时对敌人施加一层鼠疫"}]
[{"$f":"IF(語言配置表!A1204=\"\",\"\",語言配置表!A1204)","v":1190414},{"$f":"IF(語言配置表!A1204=\"\",\"CN_待填充内容\",語言配置表!B1204)","v":"甩动尾巴，生成{0}个黑色的骨刺形成一排，每根骨刺对敌人造成{1}%攻击力的伤害，命中时对敌人施加一层鼠疫"}]
[{"$f":"IF(語言配置表!A1205=\"\",\"\",語言配置表!A1205)","v":1190415},{"$f":"IF(語言配置表!A1205=\"\",\"CN_待填充内容\",語言配置表!B1205)","v":"甩动尾巴，生成{0}个黑色的骨刺形成一排，每根骨刺对敌人造成{1}%攻击力的伤害，命中时对敌人施加一层鼠疫"}]
[{"$f":"IF(語言配置表!A1206=\"\",\"\",語言配置表!A1206)","v":""},{"$f":"IF(語言配置表!A1206=\"\",\"CN_待填充内容\",語言配置表!B1206)","v":"CN_待填充内容"}]
[{"$f":"IF(語言配置表!A1207=\"\",\"\",語言配置表!A1207)","v":1190420},{"$f":"IF(語言配置表!A1207=\"\",\"CN_待填充内容\",語言配置表!B1207)","v":"扔出{0}个鼠牙一样的尖锐物体，对敌人造成{1}%攻击力的伤害"}]
[{"$f":"IF(語言配置表!A1208=\"\",\"\",語言配置表!A1208)","v":1190421},{"$f":"IF(語言配置表!A1208=\"\",\"CN_待填充内容\",語言配置表!B1208)","v":"扔出{0}个鼠牙一样的尖锐物体，对敌人造成{1}%攻击力的伤害"}]
[{"$f":"IF(語言配置表!A1209=\"\",\"\",語言配置表!A1209)","v":1190422},{"$f":"IF(語言配置表!A1209=\"\",\"CN_待填充内容\",語言配置表!B1209)","v":"扔出{0}个鼠牙一样的尖锐物体，对敌人造成{1}%攻击力的伤害"}]
[{"$f":"IF(語言配置表!A1210=\"\",\"\",語言配置表!A1210)","v":1190423},{"$f":"IF(語言配置表!A1210=\"\",\"CN_待填充内容\",語言配置表!B1210)","v":"扔出{0}个鼠牙一样的尖锐物体，对敌人造成{1}%攻击力的伤害"}]
[{"$f":"IF(語言配置表!A1211=\"\",\"\",語言配置表!A1211)","v":1190424},{"$f":"IF(語言配置表!A1211=\"\",\"CN_待填充内容\",語言配置表!B1211)","v":"扔出{0}个鼠牙一样的尖锐物体，对敌人造成{1}%攻击力的伤害"}]
[{"$f":"IF(語言配置表!A1212=\"\",\"\",語言配置表!A1212)","v":1190425},{"$f":"IF(語言配置表!A1212=\"\",\"CN_待填充内容\",語言配置表!B1212)","v":"扔出{0}个鼠牙一样的尖锐物体，对敌人造成{1}%攻击力的伤害"}]
[{"$f":"IF(語言配置表!A1213=\"\",\"\",語言配置表!A1213)","v":""},{"$f":"IF(語言配置表!A1213=\"\",\"CN_待填充内容\",語言配置表!B1213)","v":"CN_待填充内容"}]
[{"$f":"IF(語言配置表!A1214=\"\",\"\",語言配置表!A1214)","v":1190430},{"$f":"IF(語言配置表!A1214=\"\",\"CN_待填充内容\",語言配置表!B1214)","v":"挥动鼠爪，将污浊的灵气形成指甲从指尖射出。生成{0}枚指甲，对敌人造成{1}%攻击力的伤害，并对敌人施加一层鼠疫"}]
[{"$f":"IF(語言配置表!A1215=\"\",\"\",語言配置表!A1215)","v":1190431},{"$f":"IF(語言配置表!A1215=\"\",\"CN_待填充内容\",語言配置表!B1215)","v":"挥动鼠爪，将污浊的灵气形成指甲从指尖射出。生成{0}枚指甲，对敌人造成{1}%攻击力的伤害，并对敌人施加一层鼠疫"}]
[{"$f":"IF(語言配置表!A1216=\"\",\"\",語言配置表!A1216)","v":1190432},{"$f":"IF(語言配置表!A1216=\"\",\"CN_待填充内容\",語言配置表!B1216)","v":"挥动鼠爪，将污浊的灵气形成指甲从指尖射出。生成{0}枚指甲，对敌人造成{1}%攻击力的伤害，并对敌人施加一层鼠疫"}]
[{"$f":"IF(語言配置表!A1217=\"\",\"\",語言配置表!A1217)","v":1190433},{"$f":"IF(語言配置表!A1217=\"\",\"CN_待填充内容\",語言配置表!B1217)","v":"挥动鼠爪，将污浊的灵气形成指甲从指尖射出。生成{0}枚指甲，对敌人造成{1}%攻击力的伤害，并对敌人施加一层鼠疫"}]
[{"$f":"IF(語言配置表!A1218=\"\",\"\",語言配置表!A1218)","v":1190434},{"$f":"IF(語言配置表!A1218=\"\",\"CN_待填充内容\",語言配置表!B1218)","v":"挥动鼠爪，将污浊的灵气形成指甲从指尖射出。生成{0}枚指甲，对敌人造成{1}%攻击力的伤害，并对敌人施加一层鼠疫"}]
[{"$f":"IF(語言配置表!A1219=\"\",\"\",語言配置表!A1219)","v":1190435},{"$f":"IF(語言配置表!A1219=\"\",\"CN_待填充内容\",語言配置表!B1219)","v":"挥动鼠爪，将污浊的灵气形成指甲从指尖射出。生成{0}枚指甲，对敌人造成{1}%攻击力的伤害，并对敌人施加一层鼠疫"}]
[{"$f":"IF(語言配置表!A1220=\"\",\"\",語言配置表!A1220)","v":""},{"$f":"IF(語言配置表!A1220=\"\",\"CN_待填充内容\",語言配置表!B1220)","v":"CN_待填充内容"}]
[{"$f":"IF(語言配置表!A1221=\"\",\"\",語言配置表!A1221)","v":1190440},{"$f":"IF(語言配置表!A1221=\"\",\"CN_待填充内容\",語言配置表!B1221)","v":"老鼠将体内的浊气凝聚成一颗弹丸，快速射向对手。命中目标后爆炸，浊气散开时对敌人造成{0}%攻击力的伤害，给敌人施加一层鼠疫。"}]
[{"$f":"IF(語言配置表!A1222=\"\",\"\",語言配置表!A1222)","v":1190441},{"$f":"IF(語言配置表!A1222=\"\",\"CN_待填充内容\",語言配置表!B1222)","v":"老鼠将体内的浊气凝聚成一颗弹丸，快速射向对手。命中目标后爆炸，浊气散开时对敌人造成{0}%攻击力的伤害，给敌人施加一层鼠疫。"}]
[{"$f":"IF(語言配置表!A1223=\"\",\"\",語言配置表!A1223)","v":1190442},{"$f":"IF(語言配置表!A1223=\"\",\"CN_待填充内容\",語言配置表!B1223)","v":"老鼠将体内的浊气凝聚成一颗弹丸，快速射向对手。命中目标后爆炸，浊气散开时对敌人造成{0}%攻击力的伤害，给敌人施加一层鼠疫。"}]
[{"$f":"IF(語言配置表!A1224=\"\",\"\",語言配置表!A1224)","v":1190443},{"$f":"IF(語言配置表!A1224=\"\",\"CN_待填充内容\",語言配置表!B1224)","v":"老鼠将体内的浊气凝聚成一颗弹丸，快速射向对手。命中目标后爆炸，浊气散开时对敌人造成{0}%攻击力的伤害，给敌人施加一层鼠疫。"}]
[{"$f":"IF(語言配置表!A1225=\"\",\"\",語言配置表!A1225)","v":1190444},{"$f":"IF(語言配置表!A1225=\"\",\"CN_待填充内容\",語言配置表!B1225)","v":"老鼠将体内的浊气凝聚成一颗弹丸，快速射向对手。命中目标后爆炸，浊气散开时对敌人造成{0}%攻击力的伤害，给敌人施加一层鼠疫。"}]
[{"$f":"IF(語言配置表!A1226=\"\",\"\",語言配置表!A1226)","v":1190445},{"$f":"IF(語言配置表!A1226=\"\",\"CN_待填充内容\",語言配置表!B1226)","v":"老鼠将体内的浊气凝聚成一颗弹丸，快速射向对手。命中目标后爆炸，浊气散开时对敌人造成{0}%攻击力的伤害，给敌人施加一层鼠疫。"}]
[{"$f":"IF(語言配置表!A1227=\"\",\"\",語言配置表!A1227)","v":""},{"$f":"IF(語言配置表!A1227=\"\",\"CN_待填充内容\",語言配置表!B1227)","v":"CN_待填充内容"}]
[{"$f":"IF(語言配置表!A1228=\"\",\"\",語言配置表!A1228)","v":1190910},{"$f":"IF(語言配置表!A1228=\"\",\"CN_待填充内容\",語言配置表!B1228)","v":"飞鹤煽动翅膀，飞出{0}个羽毛，每一根羽毛对敌人造成{1}%攻击力的伤害"}]
[{"$f":"IF(語言配置表!A1229=\"\",\"\",語言配置表!A1229)","v":1190911},{"$f":"IF(語言配置表!A1229=\"\",\"CN_待填充内容\",語言配置表!B1229)","v":"飞鹤煽动翅膀，飞出{0}个羽毛，每一根羽毛对敌人造成{1}%攻击力的伤害"}]
[{"$f":"IF(語言配置表!A1230=\"\",\"\",語言配置表!A1230)","v":1190912},{"$f":"IF(語言配置表!A1230=\"\",\"CN_待填充内容\",語言配置表!B1230)","v":"飞鹤煽动翅膀，飞出{0}个羽毛，每一根羽毛对敌人造成{1}%攻击力的伤害"}]
[{"$f":"IF(語言配置表!A1231=\"\",\"\",語言配置表!A1231)","v":1190913},{"$f":"IF(語言配置表!A1231=\"\",\"CN_待填充内容\",語言配置表!B1231)","v":"飞鹤煽动翅膀，飞出{0}个羽毛，每一根羽毛对敌人造成{1}%攻击力的伤害"}]
[{"$f":"IF(語言配置表!A1232=\"\",\"\",語言配置表!A1232)","v":1190914},{"$f":"IF(語言配置表!A1232=\"\",\"CN_待填充内容\",語言配置表!B1232)","v":"飞鹤煽动翅膀，飞出{0}个羽毛，每一根羽毛对敌人造成{1}%攻击力的伤害"}]
[{"$f":"IF(語言配置表!A1233=\"\",\"\",語言配置表!A1233)","v":1190915},{"$f":"IF(語言配置表!A1233=\"\",\"CN_待填充内容\",語言配置表!B1233)","v":"飞鹤煽动翅膀，飞出{0}个羽毛，每一根羽毛对敌人造成{1}%攻击力的伤害"}]
[{"$f":"IF(語言配置表!A1234=\"\",\"\",語言配置表!A1234)","v":""},{"$f":"IF(語言配置表!A1234=\"\",\"CN_待填充内容\",語言配置表!B1234)","v":"CN_待填充内容"}]
[{"$f":"IF(語言配置表!A1235=\"\",\"\",語言配置表!A1235)","v":1190920},{"$f":"IF(語言配置表!A1235=\"\",\"CN_待填充内容\",語言配置表!B1235)","v":"随机为一名队友恢复{0}%生命值"}]
[{"$f":"IF(語言配置表!A1236=\"\",\"\",語言配置表!A1236)","v":1190921},{"$f":"IF(語言配置表!A1236=\"\",\"CN_待填充内容\",語言配置表!B1236)","v":"随机为一名队友恢复{0}%生命值"}]
[{"$f":"IF(語言配置表!A1237=\"\",\"\",語言配置表!A1237)","v":1190922},{"$f":"IF(語言配置表!A1237=\"\",\"CN_待填充内容\",語言配置表!B1237)","v":"随机为一名队友恢复{0}%生命值"}]
[{"$f":"IF(語言配置表!A1238=\"\",\"\",語言配置表!A1238)","v":1190923},{"$f":"IF(語言配置表!A1238=\"\",\"CN_待填充内容\",語言配置表!B1238)","v":"随机为一名队友恢复{0}%生命值"}]
[{"$f":"IF(語言配置表!A1239=\"\",\"\",語言配置表!A1239)","v":1190924},{"$f":"IF(語言配置表!A1239=\"\",\"CN_待填充内容\",語言配置表!B1239)","v":"随机为一名队友恢复{0}%生命值"}]
[{"$f":"IF(語言配置表!A1240=\"\",\"\",語言配置表!A1240)","v":1190925},{"$f":"IF(語言配置表!A1240=\"\",\"CN_待填充内容\",語言配置表!B1240)","v":"随机为一名队友恢复{0}%生命值"}]
[{"$f":"IF(語言配置表!A1241=\"\",\"\",語言配置表!A1241)","v":""},{"$f":"IF(語言配置表!A1241=\"\",\"CN_待填充内容\",語言配置表!B1241)","v":"CN_待填充内容"}]
[{"$f":"IF(語言配置表!A1242=\"\",\"\",語言配置表!A1242)","v":1191010},{"$f":"IF(語言配置表!A1242=\"\",\"CN_待填充内容\",語言配置表!B1242)","v":"从嘴中吐出{0}团狐火，对敌人造成{1}%攻击力的伤害"}]
[{"$f":"IF(語言配置表!A1243=\"\",\"\",語言配置表!A1243)","v":1191011},{"$f":"IF(語言配置表!A1243=\"\",\"CN_待填充内容\",語言配置表!B1243)","v":"从嘴中吐出{0}团狐火，对敌人造成{1}%攻击力的伤害"}]
[{"$f":"IF(語言配置表!A1244=\"\",\"\",語言配置表!A1244)","v":1191012},{"$f":"IF(語言配置表!A1244=\"\",\"CN_待填充内容\",語言配置表!B1244)","v":"从嘴中吐出{0}团狐火，对敌人造成{1}%攻击力的伤害"}]
[{"$f":"IF(語言配置表!A1245=\"\",\"\",語言配置表!A1245)","v":1191013},{"$f":"IF(語言配置表!A1245=\"\",\"CN_待填充内容\",語言配置表!B1245)","v":"从嘴中吐出{0}团狐火，对敌人造成{1}%攻击力的伤害"}]
[{"$f":"IF(語言配置表!A1246=\"\",\"\",語言配置表!A1246)","v":1191014},{"$f":"IF(語言配置表!A1246=\"\",\"CN_待填充内容\",語言配置表!B1246)","v":"从嘴中吐出{0}团狐火，对敌人造成{1}%攻击力的伤害"}]
[{"$f":"IF(語言配置表!A1247=\"\",\"\",語言配置表!A1247)","v":1191015},{"$f":"IF(語言配置表!A1247=\"\",\"CN_待填充内容\",語言配置表!B1247)","v":"从嘴中吐出{0}团狐火，对敌人造成{1}%攻击力的伤害"}]
[{"$f":"IF(語言配置表!A1248=\"\",\"\",語言配置表!A1248)","v":""},{"$f":"IF(語言配置表!A1248=\"\",\"CN_待填充内容\",語言配置表!B1248)","v":"CN_待填充内容"}]
[{"$f":"IF(語言配置表!A1249=\"\",\"\",語言配置表!A1249)","v":1191020},{"$f":"IF(語言配置表!A1249=\"\",\"CN_待填充内容\",語言配置表!B1249)","v":"狐狸随机为队友清除一个debuff"}]
[{"$f":"IF(語言配置表!A1250=\"\",\"\",語言配置表!A1250)","v":1191021},{"$f":"IF(語言配置表!A1250=\"\",\"CN_待填充内容\",語言配置表!B1250)","v":"狐狸随机为队友清除一个debuff"}]
[{"$f":"IF(語言配置表!A1251=\"\",\"\",語言配置表!A1251)","v":1191022},{"$f":"IF(語言配置表!A1251=\"\",\"CN_待填充内容\",語言配置表!B1251)","v":"狐狸随机为队友清除一个debuff"}]
[{"$f":"IF(語言配置表!A1252=\"\",\"\",語言配置表!A1252)","v":1191023},{"$f":"IF(語言配置表!A1252=\"\",\"CN_待填充内容\",語言配置表!B1252)","v":"狐狸随机为队友清除一个debuff"}]
[{"$f":"IF(語言配置表!A1253=\"\",\"\",語言配置表!A1253)","v":1191024},{"$f":"IF(語言配置表!A1253=\"\",\"CN_待填充内容\",語言配置表!B1253)","v":"狐狸随机为队友清除一个debuff"}]
[{"$f":"IF(語言配置表!A1254=\"\",\"\",語言配置表!A1254)","v":1191025},{"$f":"IF(語言配置表!A1254=\"\",\"CN_待填充内容\",語言配置表!B1254)","v":"狐狸随机为队友清除一个debuff"}]
[{"$f":"IF(語言配置表!A1255=\"\",\"\",語言配置表!A1255)","v":""},{"$f":"IF(語言配置表!A1255=\"\",\"CN_待填充内容\",語言配置表!B1255)","v":"CN_待填充内容"}]
[{"$f":"IF(語言配置表!A1256=\"\",\"\",語言配置表!A1256)","v":""},{"$f":"IF(語言配置表!A1256=\"\",\"CN_待填充内容\",語言配置表!B1256)","v":"CN_待填充内容"}]
[{"$f":"IF(語言配置表!A1257=\"\",\"\",語言配置表!A1257)","v":1211011},{"$f":"IF(語言配置表!A1257=\"\",\"CN_待填充内容\",語言配置表!B1257)","v":"飞剑数量+1"}]
[{"$f":"IF(語言配置表!A1258=\"\",\"\",語言配置表!A1258)","v":1211012},{"$f":"IF(語言配置表!A1258=\"\",\"CN_待填充内容\",語言配置表!B1258)","v":"人物生命永久+10%"}]
[{"$f":"IF(語言配置表!A1259=\"\",\"\",語言配置表!A1259)","v":1211013},{"$f":"IF(語言配置表!A1259=\"\",\"CN_待填充内容\",語言配置表!B1259)","v":"飞剑数量+1，对带减益的敌人增伤"}]
[{"$f":"IF(語言配置表!A1260=\"\",\"\",語言配置表!A1260)","v":1211014},{"$f":"IF(語言配置表!A1260=\"\",\"CN_待填充内容\",語言配置表!B1260)","v":"人物生命永久+10%"}]
[{"$f":"IF(語言配置表!A1261=\"\",\"\",語言配置表!A1261)","v":1211015},{"$f":"IF(語言配置表!A1261=\"\",\"CN_待填充内容\",語言配置表!B1261)","v":"发射伤害更高的幻剑"}]
[{"$f":"IF(語言配置表!A1262=\"\",\"\",語言配置表!A1262)","v":""},{"$f":"IF(語言配置表!A1262=\"\",\"CN_待填充内容\",語言配置表!B1262)","v":"CN_待填充内容"}]
[{"$f":"IF(語言配置表!A1263=\"\",\"\",語言配置表!A1263)","v":""},{"$f":"IF(語言配置表!A1263=\"\",\"CN_待填充内容\",語言配置表!B1263)","v":"CN_待填充内容"}]
[{"$f":"IF(語言配置表!A1264=\"\",\"\",語言配置表!A1264)","v":1211021},{"$f":"IF(語言配置表!A1264=\"\",\"CN_待填充内容\",語言配置表!B1264)","v":"对流血或放血敌人增伤"}]
[{"$f":"IF(語言配置表!A1265=\"\",\"\",語言配置表!A1265)","v":1211022},{"$f":"IF(語言配置表!A1265=\"\",\"CN_待填充内容\",語言配置表!B1265)","v":"人物攻击永久+10%"}]
[{"$f":"IF(語言配置表!A1266=\"\",\"\",語言配置表!A1266)","v":1211023},{"$f":"IF(語言配置表!A1266=\"\",\"CN_待填充内容\",語言配置表!B1266)","v":"无条件放血"}]
[{"$f":"IF(語言配置表!A1267=\"\",\"\",語言配置表!A1267)","v":1211024},{"$f":"IF(語言配置表!A1267=\"\",\"CN_待填充内容\",語言配置表!B1267)","v":"人物攻击永久+10%"}]
[{"$f":"IF(語言配置表!A1268=\"\",\"\",語言配置表!A1268)","v":1211025},{"$f":"IF(語言配置表!A1268=\"\",\"CN_待填充内容\",語言配置表!B1268)","v":"对拼强度和伤害提升"}]
[{"$f":"IF(語言配置表!A1269=\"\",\"\",語言配置表!A1269)","v":""},{"$f":"IF(語言配置表!A1269=\"\",\"CN_待填充内容\",語言配置表!B1269)","v":"CN_待填充内容"}]
[{"$f":"IF(語言配置表!A1270=\"\",\"\",語言配置表!A1270)","v":""},{"$f":"IF(語言配置表!A1270=\"\",\"CN_待填充内容\",語言配置表!B1270)","v":"CN_待填充内容"}]
[{"$f":"IF(語言配置表!A1271=\"\",\"\",語言配置表!A1271)","v":1211031},{"$f":"IF(語言配置表!A1271=\"\",\"CN_待填充内容\",語言配置表!B1271)","v":"刀气命中回血"}]
[{"$f":"IF(語言配置表!A1272=\"\",\"\",語言配置表!A1272)","v":1211032},{"$f":"IF(語言配置表!A1272=\"\",\"CN_待填充内容\",語言配置表!B1272)","v":"人物防御永久+10%"}]
[{"$f":"IF(語言配置表!A1273=\"\",\"\",語言配置表!A1273)","v":1211033},{"$f":"IF(語言配置表!A1273=\"\",\"CN_待填充内容\",語言配置表!B1273)","v":"刀气+1"}]
[{"$f":"IF(語言配置表!A1274=\"\",\"\",語言配置表!A1274)","v":1211034},{"$f":"IF(語言配置表!A1274=\"\",\"CN_待填充内容\",語言配置表!B1274)","v":"人物防御永久+10%"}]
[{"$f":"IF(語言配置表!A1275=\"\",\"\",語言配置表!A1275)","v":1211035},{"$f":"IF(語言配置表!A1275=\"\",\"CN_待填充内容\",語言配置表!B1275)","v":"对流血目标增伤，再次放血"}]
[{"$f":"IF(語言配置表!A1276=\"\",\"\",語言配置表!A1276)","v":""},{"$f":"IF(語言配置表!A1276=\"\",\"CN_待填充内容\",語言配置表!B1276)","v":"CN_待填充内容"}]
[{"$f":"IF(語言配置表!A1277=\"\",\"\",語言配置表!A1277)","v":""},{"$f":"IF(語言配置表!A1277=\"\",\"CN_待填充内容\",語言配置表!B1277)","v":"CN_待填充内容"}]
[{"$f":"IF(語言配置表!A1278=\"\",\"\",語言配置表!A1278)","v":1211041},{"$f":"IF(語言配置表!A1278=\"\",\"CN_待填充内容\",語言配置表!B1278)","v":"人物攻击永久+5%"}]
[{"$f":"IF(語言配置表!A1279=\"\",\"\",語言配置表!A1279)","v":1211042},{"$f":"IF(語言配置表!A1279=\"\",\"CN_待填充内容\",語言配置表!B1279)","v":"飞刀数量+1"}]
[{"$f":"IF(語言配置表!A1280=\"\",\"\",語言配置表!A1280)","v":1211043},{"$f":"IF(語言配置表!A1280=\"\",\"CN_待填充内容\",語言配置表!B1280)","v":"人物攻击永久+5%"}]
[{"$f":"IF(語言配置表!A1281=\"\",\"\",語言配置表!A1281)","v":1211044},{"$f":"IF(語言配置表!A1281=\"\",\"CN_待填充内容\",語言配置表!B1281)","v":"飞刀数量+1"}]
[{"$f":"IF(語言配置表!A1282=\"\",\"\",語言配置表!A1282)","v":1211045},{"$f":"IF(語言配置表!A1282=\"\",\"CN_待填充内容\",語言配置表!B1282)","v":"人物攻击永久+5%"}]
[{"$f":"IF(語言配置表!A1283=\"\",\"\",語言配置表!A1283)","v":""},{"$f":"IF(語言配置表!A1283=\"\",\"CN_待填充内容\",語言配置表!B1283)","v":"CN_待填充内容"}]
[{"$f":"IF(語言配置表!A1284=\"\",\"\",語言配置表!A1284)","v":""},{"$f":"IF(語言配置表!A1284=\"\",\"CN_待填充内容\",語言配置表!B1284)","v":"CN_待填充内容"}]
[{"$f":"IF(語言配置表!A1285=\"\",\"\",語言配置表!A1285)","v":1211051},{"$f":"IF(語言配置表!A1285=\"\",\"CN_待填充内容\",語言配置表!B1285)","v":"人物防御永久+5%"}]
[{"$f":"IF(語言配置表!A1286=\"\",\"\",語言配置表!A1286)","v":1211052},{"$f":"IF(語言配置表!A1286=\"\",\"CN_待填充内容\",語言配置表!B1286)","v":"金针数量+1"}]
[{"$f":"IF(語言配置表!A1287=\"\",\"\",語言配置表!A1287)","v":1211053},{"$f":"IF(語言配置表!A1287=\"\",\"CN_待填充内容\",語言配置表!B1287)","v":"人物防御永久+5%"}]
[{"$f":"IF(語言配置表!A1288=\"\",\"\",語言配置表!A1288)","v":1211054},{"$f":"IF(語言配置表!A1288=\"\",\"CN_待填充内容\",語言配置表!B1288)","v":"金针数量+1"}]
[{"$f":"IF(語言配置表!A1289=\"\",\"\",語言配置表!A1289)","v":1211055},{"$f":"IF(語言配置表!A1289=\"\",\"CN_待填充内容\",語言配置表!B1289)","v":"人物防御永久+5%"}]
[{"$f":"IF(語言配置表!A1290=\"\",\"\",語言配置表!A1290)","v":""},{"$f":"IF(語言配置表!A1290=\"\",\"CN_待填充内容\",語言配置表!B1290)","v":"CN_待填充内容"}]
[{"$f":"IF(語言配置表!A1291=\"\",\"\",語言配置表!A1291)","v":""},{"$f":"IF(語言配置表!A1291=\"\",\"CN_待填充内容\",語言配置表!B1291)","v":"CN_待填充内容"}]
[{"$f":"IF(語言配置表!A1292=\"\",\"\",語言配置表!A1292)","v":1212011},{"$f":"IF(語言配置表!A1292=\"\",\"CN_待填充内容\",語言配置表!B1292)","v":"冰锥数量+1"}]
[{"$f":"IF(語言配置表!A1293=\"\",\"\",語言配置表!A1293)","v":1212012},{"$f":"IF(語言配置表!A1293=\"\",\"CN_待填充内容\",語言配置表!B1293)","v":"人物生命永久+10%"}]
[{"$f":"IF(語言配置表!A1294=\"\",\"\",語言配置表!A1294)","v":1212013},{"$f":"IF(語言配置表!A1294=\"\",\"CN_待填充内容\",語言配置表!B1294)","v":"冰锥数量+1"}]
[{"$f":"IF(語言配置表!A1295=\"\",\"\",語言配置表!A1295)","v":1212014},{"$f":"IF(語言配置表!A1295=\"\",\"CN_待填充内容\",語言配置表!B1295)","v":"人物生命永久+10%"}]
[{"$f":"IF(語言配置表!A1296=\"\",\"\",語言配置表!A1296)","v":1212015},{"$f":"IF(語言配置表!A1296=\"\",\"CN_待填充内容\",語言配置表!B1296)","v":"冰锥数量+1"}]
[{"$f":"IF(語言配置表!A1297=\"\",\"\",語言配置表!A1297)","v":""},{"$f":"IF(語言配置表!A1297=\"\",\"CN_待填充内容\",語言配置表!B1297)","v":"CN_待填充内容"}]
[{"$f":"IF(語言配置表!A1298=\"\",\"\",語言配置表!A1298)","v":""},{"$f":"IF(語言配置表!A1298=\"\",\"CN_待填充内容\",語言配置表!B1298)","v":"CN_待填充内容"}]
[{"$f":"IF(語言配置表!A1299=\"\",\"\",語言配置表!A1299)","v":1212021},{"$f":"IF(語言配置表!A1299=\"\",\"CN_待填充内容\",語言配置表!B1299)","v":"冰球数量+1"}]
[{"$f":"IF(語言配置表!A1300=\"\",\"\",語言配置表!A1300)","v":1212022},{"$f":"IF(語言配置表!A1300=\"\",\"CN_待填充内容\",語言配置表!B1300)","v":"人物防御永久+10%"}]
[{"$f":"IF(語言配置表!A1301=\"\",\"\",語言配置表!A1301)","v":1212023},{"$f":"IF(語言配置表!A1301=\"\",\"CN_待填充内容\",語言配置表!B1301)","v":"冰球数量+1"}]
[{"$f":"IF(語言配置表!A1302=\"\",\"\",語言配置表!A1302)","v":1212024},{"$f":"IF(語言配置表!A1302=\"\",\"CN_待填充内容\",語言配置表!B1302)","v":"人物防御永久+10%"}]
[{"$f":"IF(語言配置表!A1303=\"\",\"\",語言配置表!A1303)","v":1212025},{"$f":"IF(語言配置表!A1303=\"\",\"CN_待填充内容\",語言配置表!B1303)","v":"冰球数量+1"}]
[{"$f":"IF(語言配置表!A1304=\"\",\"\",語言配置表!A1304)","v":""},{"$f":"IF(語言配置表!A1304=\"\",\"CN_待填充内容\",語言配置表!B1304)","v":"CN_待填充内容"}]
[{"$f":"IF(語言配置表!A1305=\"\",\"\",語言配置表!A1305)","v":""},{"$f":"IF(語言配置表!A1305=\"\",\"CN_待填充内容\",語言配置表!B1305)","v":"CN_待填充内容"}]
[{"$f":"IF(語言配置表!A1306=\"\",\"\",語言配置表!A1306)","v":""},{"$f":"IF(語言配置表!A1306=\"\",\"CN_待填充内容\",語言配置表!B1306)","v":"CN_待填充内容"}]
[{"$f":"IF(語言配置表!A1307=\"\",\"\",語言配置表!A1307)","v":""},{"$f":"IF(語言配置表!A1307=\"\",\"CN_待填充内容\",語言配置表!B1307)","v":"CN_待填充内容"}]
[{"$f":"IF(語言配置表!A1308=\"\",\"\",語言配置表!A1308)","v":""},{"$f":"IF(語言配置表!A1308=\"\",\"CN_待填充内容\",語言配置表!B1308)","v":"CN_待填充内容"}]
[{"$f":"IF(語言配置表!A1309=\"\",\"\",語言配置表!A1309)","v":""},{"$f":"IF(語言配置表!A1309=\"\",\"CN_待填充内容\",語言配置表!B1309)","v":"CN_待填充内容"}]
[{"$f":"IF(語言配置表!A1310=\"\",\"\",語言配置表!A1310)","v":""},{"$f":"IF(語言配置表!A1310=\"\",\"CN_待填充内容\",語言配置表!B1310)","v":"CN_待填充内容"}]
[{"$f":"IF(語言配置表!A1311=\"\",\"\",語言配置表!A1311)","v":""},{"$f":"IF(語言配置表!A1311=\"\",\"CN_待填充内容\",語言配置表!B1311)","v":"CN_待填充内容"}]
[{"$f":"IF(語言配置表!A1312=\"\",\"\",語言配置表!A1312)","v":""},{"$f":"IF(語言配置表!A1312=\"\",\"CN_待填充内容\",語言配置表!B1312)","v":"CN_待填充内容"}]
[{"$f":"IF(語言配置表!A1313=\"\",\"\",語言配置表!A1313)","v":1212041},{"$f":"IF(語言配置表!A1313=\"\",\"CN_待填充内容\",語言配置表!B1313)","v":"人物攻击永久+5%"}]
[{"$f":"IF(語言配置表!A1314=\"\",\"\",語言配置表!A1314)","v":1212042},{"$f":"IF(語言配置表!A1314=\"\",\"CN_待填充内容\",語言配置表!B1314)","v":"水波数量+1"}]
[{"$f":"IF(語言配置表!A1315=\"\",\"\",語言配置表!A1315)","v":1212043},{"$f":"IF(語言配置表!A1315=\"\",\"CN_待填充内容\",語言配置表!B1315)","v":"人物攻击永久+5%"}]
[{"$f":"IF(語言配置表!A1316=\"\",\"\",語言配置表!A1316)","v":1212044},{"$f":"IF(語言配置表!A1316=\"\",\"CN_待填充内容\",語言配置表!B1316)","v":"水波数量+1"}]
[{"$f":"IF(語言配置表!A1317=\"\",\"\",語言配置表!A1317)","v":1212045},{"$f":"IF(語言配置表!A1317=\"\",\"CN_待填充内容\",語言配置表!B1317)","v":"人物攻击永久+5%"}]
[{"$f":"IF(語言配置表!A1318=\"\",\"\",語言配置表!A1318)","v":""},{"$f":"IF(語言配置表!A1318=\"\",\"CN_待填充内容\",語言配置表!B1318)","v":"CN_待填充内容"}]
[{"$f":"IF(語言配置表!A1319=\"\",\"\",語言配置表!A1319)","v":""},{"$f":"IF(語言配置表!A1319=\"\",\"CN_待填充内容\",語言配置表!B1319)","v":"CN_待填充内容"}]
[{"$f":"IF(語言配置表!A1320=\"\",\"\",語言配置表!A1320)","v":1212051},{"$f":"IF(語言配置表!A1320=\"\",\"CN_待填充内容\",語言配置表!B1320)","v":"人物防御永久+5%"}]
[{"$f":"IF(語言配置表!A1321=\"\",\"\",語言配置表!A1321)","v":1212052},{"$f":"IF(語言配置表!A1321=\"\",\"CN_待填充内容\",語言配置表!B1321)","v":"冰刀数量+1"}]
[{"$f":"IF(語言配置表!A1322=\"\",\"\",語言配置表!A1322)","v":1212053},{"$f":"IF(語言配置表!A1322=\"\",\"CN_待填充内容\",語言配置表!B1322)","v":"人物防御永久+5%"}]
[{"$f":"IF(語言配置表!A1323=\"\",\"\",語言配置表!A1323)","v":1212054},{"$f":"IF(語言配置表!A1323=\"\",\"CN_待填充内容\",語言配置表!B1323)","v":"冰刀数量+1"}]
[{"$f":"IF(語言配置表!A1324=\"\",\"\",語言配置表!A1324)","v":1212055},{"$f":"IF(語言配置表!A1324=\"\",\"CN_待填充内容\",語言配置表!B1324)","v":"人物防御永久+5%"}]
[{"$f":"IF(語言配置表!A1325=\"\",\"\",語言配置表!A1325)","v":""},{"$f":"IF(語言配置表!A1325=\"\",\"CN_待填充内容\",語言配置表!B1325)","v":"CN_待填充内容"}]
[{"$f":"IF(語言配置表!A1326=\"\",\"\",語言配置表!A1326)","v":""},{"$f":"IF(語言配置表!A1326=\"\",\"CN_待填充内容\",語言配置表!B1326)","v":"CN_待填充内容"}]
[{"$f":"IF(語言配置表!A1327=\"\",\"\",語言配置表!A1327)","v":1213011},{"$f":"IF(語言配置表!A1327=\"\",\"CN_待填充内容\",語言配置表!B1327)","v":"毒针数量+1"}]
[{"$f":"IF(語言配置表!A1328=\"\",\"\",語言配置表!A1328)","v":1213012},{"$f":"IF(語言配置表!A1328=\"\",\"CN_待填充内容\",語言配置表!B1328)","v":"人物生命永久+10%"}]
[{"$f":"IF(語言配置表!A1329=\"\",\"\",語言配置表!A1329)","v":1213013},{"$f":"IF(語言配置表!A1329=\"\",\"CN_待填充内容\",語言配置表!B1329)","v":"毒针数量+1"}]
[{"$f":"IF(語言配置表!A1330=\"\",\"\",語言配置表!A1330)","v":1213014},{"$f":"IF(語言配置表!A1330=\"\",\"CN_待填充内容\",語言配置表!B1330)","v":"人物生命永久+10%"}]
[{"$f":"IF(語言配置表!A1331=\"\",\"\",語言配置表!A1331)","v":1213015},{"$f":"IF(語言配置表!A1331=\"\",\"CN_待填充内容\",語言配置表!B1331)","v":"毒针数量+1"}]
[{"$f":"IF(語言配置表!A1332=\"\",\"\",語言配置表!A1332)","v":""},{"$f":"IF(語言配置表!A1332=\"\",\"CN_待填充内容\",語言配置表!B1332)","v":"CN_待填充内容"}]
[{"$f":"IF(語言配置表!A1333=\"\",\"\",語言配置表!A1333)","v":""},{"$f":"IF(語言配置表!A1333=\"\",\"CN_待填充内容\",語言配置表!B1333)","v":"CN_待填充内容"}]
[{"$f":"IF(語言配置表!A1334=\"\",\"\",語言配置表!A1334)","v":1213021},{"$f":"IF(語言配置表!A1334=\"\",\"CN_待填充内容\",語言配置表!B1334)","v":"手掌数量+1"}]
[{"$f":"IF(語言配置表!A1335=\"\",\"\",語言配置表!A1335)","v":1213022},{"$f":"IF(語言配置表!A1335=\"\",\"CN_待填充内容\",語言配置表!B1335)","v":"人物防御永久+10%"}]
[{"$f":"IF(語言配置表!A1336=\"\",\"\",語言配置表!A1336)","v":1213023},{"$f":"IF(語言配置表!A1336=\"\",\"CN_待填充内容\",語言配置表!B1336)","v":"手掌数量+1"}]
[{"$f":"IF(語言配置表!A1337=\"\",\"\",語言配置表!A1337)","v":1213024},{"$f":"IF(語言配置表!A1337=\"\",\"CN_待填充内容\",語言配置表!B1337)","v":"人物防御永久+10%"}]
[{"$f":"IF(語言配置表!A1338=\"\",\"\",語言配置表!A1338)","v":1213025},{"$f":"IF(語言配置表!A1338=\"\",\"CN_待填充内容\",語言配置表!B1338)","v":"手掌数量+1"}]
[{"$f":"IF(語言配置表!A1339=\"\",\"\",語言配置表!A1339)","v":""},{"$f":"IF(語言配置表!A1339=\"\",\"CN_待填充内容\",語言配置表!B1339)","v":"CN_待填充内容"}]
[{"$f":"IF(語言配置表!A1340=\"\",\"\",語言配置表!A1340)","v":""},{"$f":"IF(語言配置表!A1340=\"\",\"CN_待填充内容\",語言配置表!B1340)","v":"CN_待填充内容"}]
[{"$f":"IF(語言配置表!A1341=\"\",\"\",語言配置表!A1341)","v":""},{"$f":"IF(語言配置表!A1341=\"\",\"CN_待填充内容\",語言配置表!B1341)","v":"CN_待填充内容"}]
[{"$f":"IF(語言配置表!A1342=\"\",\"\",語言配置表!A1342)","v":""},{"$f":"IF(語言配置表!A1342=\"\",\"CN_待填充内容\",語言配置表!B1342)","v":"CN_待填充内容"}]
[{"$f":"IF(語言配置表!A1343=\"\",\"\",語言配置表!A1343)","v":""},{"$f":"IF(語言配置表!A1343=\"\",\"CN_待填充内容\",語言配置表!B1343)","v":"CN_待填充内容"}]
[{"$f":"IF(語言配置表!A1344=\"\",\"\",語言配置表!A1344)","v":""},{"$f":"IF(語言配置表!A1344=\"\",\"CN_待填充内容\",語言配置表!B1344)","v":"CN_待填充内容"}]
[{"$f":"IF(語言配置表!A1345=\"\",\"\",語言配置表!A1345)","v":""},{"$f":"IF(語言配置表!A1345=\"\",\"CN_待填充内容\",語言配置表!B1345)","v":"CN_待填充内容"}]
[{"$f":"IF(語言配置表!A1346=\"\",\"\",語言配置表!A1346)","v":""},{"$f":"IF(語言配置表!A1346=\"\",\"CN_待填充内容\",語言配置表!B1346)","v":"CN_待填充内容"}]
[{"$f":"IF(語言配置表!A1347=\"\",\"\",語言配置表!A1347)","v":""},{"$f":"IF(語言配置表!A1347=\"\",\"CN_待填充内容\",語言配置表!B1347)","v":"CN_待填充内容"}]
[{"$f":"IF(語言配置表!A1348=\"\",\"\",語言配置表!A1348)","v":1213041},{"$f":"IF(語言配置表!A1348=\"\",\"CN_待填充内容\",語言配置表!B1348)","v":"人物生命永久+5%"}]
[{"$f":"IF(語言配置表!A1349=\"\",\"\",語言配置表!A1349)","v":1213042},{"$f":"IF(語言配置表!A1349=\"\",\"CN_待填充内容\",語言配置表!B1349)","v":"竹刺数量+1"}]
[{"$f":"IF(語言配置表!A1350=\"\",\"\",語言配置表!A1350)","v":1213043},{"$f":"IF(語言配置表!A1350=\"\",\"CN_待填充内容\",語言配置表!B1350)","v":"人物生命永久+5%"}]
[{"$f":"IF(語言配置表!A1351=\"\",\"\",語言配置表!A1351)","v":1213044},{"$f":"IF(語言配置表!A1351=\"\",\"CN_待填充内容\",語言配置表!B1351)","v":"竹刺数量+1"}]
[{"$f":"IF(語言配置表!A1352=\"\",\"\",語言配置表!A1352)","v":1213045},{"$f":"IF(語言配置表!A1352=\"\",\"CN_待填充内容\",語言配置表!B1352)","v":"人物生命永久+5%"}]
[{"$f":"IF(語言配置表!A1353=\"\",\"\",語言配置表!A1353)","v":""},{"$f":"IF(語言配置表!A1353=\"\",\"CN_待填充内容\",語言配置表!B1353)","v":"CN_待填充内容"}]
[{"$f":"IF(語言配置表!A1354=\"\",\"\",語言配置表!A1354)","v":""},{"$f":"IF(語言配置表!A1354=\"\",\"CN_待填充内容\",語言配置表!B1354)","v":"CN_待填充内容"}]
[{"$f":"IF(語言配置表!A1355=\"\",\"\",語言配置表!A1355)","v":1213051},{"$f":"IF(語言配置表!A1355=\"\",\"CN_待填充内容\",語言配置表!B1355)","v":"人物攻击永久+5%"}]
[{"$f":"IF(語言配置表!A1356=\"\",\"\",語言配置表!A1356)","v":1213052},{"$f":"IF(語言配置表!A1356=\"\",\"CN_待填充内容\",語言配置表!B1356)","v":"飞叶数量+1"}]
[{"$f":"IF(語言配置表!A1357=\"\",\"\",語言配置表!A1357)","v":1213053},{"$f":"IF(語言配置表!A1357=\"\",\"CN_待填充内容\",語言配置表!B1357)","v":"人物攻击永久+5%"}]
[{"$f":"IF(語言配置表!A1358=\"\",\"\",語言配置表!A1358)","v":1213054},{"$f":"IF(語言配置表!A1358=\"\",\"CN_待填充内容\",語言配置表!B1358)","v":"飞叶数量+1"}]
[{"$f":"IF(語言配置表!A1359=\"\",\"\",語言配置表!A1359)","v":1213055},{"$f":"IF(語言配置表!A1359=\"\",\"CN_待填充内容\",語言配置表!B1359)","v":"人物攻击永久+5%"}]
[{"$f":"IF(語言配置表!A1360=\"\",\"\",語言配置表!A1360)","v":""},{"$f":"IF(語言配置表!A1360=\"\",\"CN_待填充内容\",語言配置表!B1360)","v":"CN_待填充内容"}]
[{"$f":"IF(語言配置表!A1361=\"\",\"\",語言配置表!A1361)","v":""},{"$f":"IF(語言配置表!A1361=\"\",\"CN_待填充内容\",語言配置表!B1361)","v":"CN_待填充内容"}]
[{"$f":"IF(語言配置表!A1362=\"\",\"\",語言配置表!A1362)","v":1214011},{"$f":"IF(語言配置表!A1362=\"\",\"CN_待填充内容\",語言配置表!B1362)","v":"剑柄数量+1"}]
[{"$f":"IF(語言配置表!A1363=\"\",\"\",語言配置表!A1363)","v":1214012},{"$f":"IF(語言配置表!A1363=\"\",\"CN_待填充内容\",語言配置表!B1363)","v":"人物生命永久+10%"}]
[{"$f":"IF(語言配置表!A1364=\"\",\"\",語言配置表!A1364)","v":1214013},{"$f":"IF(語言配置表!A1364=\"\",\"CN_待填充内容\",語言配置表!B1364)","v":"剑柄数量+1"}]
[{"$f":"IF(語言配置表!A1365=\"\",\"\",語言配置表!A1365)","v":1214014},{"$f":"IF(語言配置表!A1365=\"\",\"CN_待填充内容\",語言配置表!B1365)","v":"人物生命永久+10%"}]
[{"$f":"IF(語言配置表!A1366=\"\",\"\",語言配置表!A1366)","v":1214015},{"$f":"IF(語言配置表!A1366=\"\",\"CN_待填充内容\",語言配置表!B1366)","v":"额外造成爆燃伤害"}]
[{"$f":"IF(語言配置表!A1367=\"\",\"\",語言配置表!A1367)","v":""},{"$f":"IF(語言配置表!A1367=\"\",\"CN_待填充内容\",語言配置表!B1367)","v":"CN_待填充内容"}]
[{"$f":"IF(語言配置表!A1368=\"\",\"\",語言配置表!A1368)","v":""},{"$f":"IF(語言配置表!A1368=\"\",\"CN_待填充内容\",語言配置表!B1368)","v":"CN_待填充内容"}]
[{"$f":"IF(語言配置表!A1369=\"\",\"\",語言配置表!A1369)","v":1214021},{"$f":"IF(語言配置表!A1369=\"\",\"CN_待填充内容\",語言配置表!B1369)","v":"眩晕处于灼烧中的敌人"}]
[{"$f":"IF(語言配置表!A1370=\"\",\"\",語言配置表!A1370)","v":1214022},{"$f":"IF(語言配置表!A1370=\"\",\"CN_待填充内容\",語言配置表!B1370)","v":"人物攻击永久+10%"}]
[{"$f":"IF(語言配置表!A1371=\"\",\"\",語言配置表!A1371)","v":1214023},{"$f":"IF(語言配置表!A1371=\"\",\"CN_待填充内容\",語言配置表!B1371)","v":"飞龙数量+1，额外造成灼烧"}]
[{"$f":"IF(語言配置表!A1372=\"\",\"\",語言配置表!A1372)","v":1214024},{"$f":"IF(語言配置表!A1372=\"\",\"CN_待填充内容\",語言配置表!B1372)","v":"人物攻击永久+10%"}]
[{"$f":"IF(語言配置表!A1373=\"\",\"\",語言配置表!A1373)","v":1214025},{"$f":"IF(語言配置表!A1373=\"\",\"CN_待填充内容\",語言配置表!B1373)","v":"额外引发天雷伤害"}]
[{"$f":"IF(語言配置表!A1374=\"\",\"\",語言配置表!A1374)","v":""},{"$f":"IF(語言配置表!A1374=\"\",\"CN_待填充内容\",語言配置表!B1374)","v":"CN_待填充内容"}]
[{"$f":"IF(語言配置表!A1375=\"\",\"\",語言配置表!A1375)","v":""},{"$f":"IF(語言配置表!A1375=\"\",\"CN_待填充内容\",語言配置表!B1375)","v":"CN_待填充内容"}]
[{"$f":"IF(語言配置表!A1376=\"\",\"\",語言配置表!A1376)","v":1214031},{"$f":"IF(語言配置表!A1376=\"\",\"CN_待填充内容\",語言配置表!B1376)","v":"对灼烧的敌人额外增伤"}]
[{"$f":"IF(語言配置表!A1377=\"\",\"\",語言配置表!A1377)","v":1214032},{"$f":"IF(語言配置表!A1377=\"\",\"CN_待填充内容\",語言配置表!B1377)","v":"人物防御永久+10%"}]
[{"$f":"IF(語言配置表!A1378=\"\",\"\",語言配置表!A1378)","v":1214033},{"$f":"IF(語言配置表!A1378=\"\",\"CN_待填充内容\",語言配置表!B1378)","v":"烈焰伤害提升"}]
[{"$f":"IF(語言配置表!A1379=\"\",\"\",語言配置表!A1379)","v":1214034},{"$f":"IF(語言配置表!A1379=\"\",\"CN_待填充内容\",語言配置表!B1379)","v":"人物防御永久+10%"}]
[{"$f":"IF(語言配置表!A1380=\"\",\"\",語言配置表!A1380)","v":1214035},{"$f":"IF(語言配置表!A1380=\"\",\"CN_待填充内容\",語言配置表!B1380)","v":"每只手指额外发射一个弹道"}]
[{"$f":"IF(語言配置表!A1381=\"\",\"\",語言配置表!A1381)","v":""},{"$f":"IF(語言配置表!A1381=\"\",\"CN_待填充内容\",語言配置表!B1381)","v":"CN_待填充内容"}]
[{"$f":"IF(語言配置表!A1382=\"\",\"\",語言配置表!A1382)","v":""},{"$f":"IF(語言配置表!A1382=\"\",\"CN_待填充内容\",語言配置表!B1382)","v":"CN_待填充内容"}]
[{"$f":"IF(語言配置表!A1383=\"\",\"\",語言配置表!A1383)","v":1214041},{"$f":"IF(語言配置表!A1383=\"\",\"CN_待填充内容\",語言配置表!B1383)","v":"人物防御永久+5%"}]
[{"$f":"IF(語言配置表!A1384=\"\",\"\",語言配置表!A1384)","v":1214042},{"$f":"IF(語言配置表!A1384=\"\",\"CN_待填充内容\",語言配置表!B1384)","v":"火球数量+1"}]
[{"$f":"IF(語言配置表!A1385=\"\",\"\",語言配置表!A1385)","v":1214043},{"$f":"IF(語言配置表!A1385=\"\",\"CN_待填充内容\",語言配置表!B1385)","v":"人物防御永久+5%"}]
[{"$f":"IF(語言配置表!A1386=\"\",\"\",語言配置表!A1386)","v":1214044},{"$f":"IF(語言配置表!A1386=\"\",\"CN_待填充内容\",語言配置表!B1386)","v":"火球数量+1"}]
[{"$f":"IF(語言配置表!A1387=\"\",\"\",語言配置表!A1387)","v":1214045},{"$f":"IF(語言配置表!A1387=\"\",\"CN_待填充内容\",語言配置表!B1387)","v":"人物防御永久+5%"}]
[{"$f":"IF(語言配置表!A1388=\"\",\"\",語言配置表!A1388)","v":""},{"$f":"IF(語言配置表!A1388=\"\",\"CN_待填充内容\",語言配置表!B1388)","v":"CN_待填充内容"}]
[{"$f":"IF(語言配置表!A1389=\"\",\"\",語言配置表!A1389)","v":""},{"$f":"IF(語言配置表!A1389=\"\",\"CN_待填充内容\",語言配置表!B1389)","v":"CN_待填充内容"}]
[{"$f":"IF(語言配置表!A1390=\"\",\"\",語言配置表!A1390)","v":1214051},{"$f":"IF(語言配置表!A1390=\"\",\"CN_待填充内容\",語言配置表!B1390)","v":"人物生命永久+5%"}]
[{"$f":"IF(語言配置表!A1391=\"\",\"\",語言配置表!A1391)","v":1214052},{"$f":"IF(語言配置表!A1391=\"\",\"CN_待填充内容\",語言配置表!B1391)","v":"火刃数量+1"}]
[{"$f":"IF(語言配置表!A1392=\"\",\"\",語言配置表!A1392)","v":1214053},{"$f":"IF(語言配置表!A1392=\"\",\"CN_待填充内容\",語言配置表!B1392)","v":"人物生命永久+5%"}]
[{"$f":"IF(語言配置表!A1393=\"\",\"\",語言配置表!A1393)","v":1214054},{"$f":"IF(語言配置表!A1393=\"\",\"CN_待填充内容\",語言配置表!B1393)","v":"火刃数量+1"}]
[{"$f":"IF(語言配置表!A1394=\"\",\"\",語言配置表!A1394)","v":1214055},{"$f":"IF(語言配置表!A1394=\"\",\"CN_待填充内容\",語言配置表!B1394)","v":"人物生命永久+5%"}]
[{"$f":"IF(語言配置表!A1395=\"\",\"\",語言配置表!A1395)","v":""},{"$f":"IF(語言配置表!A1395=\"\",\"CN_待填充内容\",語言配置表!B1395)","v":"CN_待填充内容"}]
[{"$f":"IF(語言配置表!A1396=\"\",\"\",語言配置表!A1396)","v":""},{"$f":"IF(語言配置表!A1396=\"\",\"CN_待填充内容\",語言配置表!B1396)","v":"CN_待填充内容"}]
[{"$f":"IF(語言配置表!A1397=\"\",\"\",語言配置表!A1397)","v":1215011},{"$f":"IF(語言配置表!A1397=\"\",\"CN_待填充内容\",語言配置表!B1397)","v":"土刺数量+1"}]
[{"$f":"IF(語言配置表!A1398=\"\",\"\",語言配置表!A1398)","v":1215012},{"$f":"IF(語言配置表!A1398=\"\",\"CN_待填充内容\",語言配置表!B1398)","v":"人物生命永久+10%"}]
[{"$f":"IF(語言配置表!A1399=\"\",\"\",語言配置表!A1399)","v":1215013},{"$f":"IF(語言配置表!A1399=\"\",\"CN_待填充内容\",語言配置表!B1399)","v":"土刺数量+1"}]
[{"$f":"IF(語言配置表!A1400=\"\",\"\",語言配置表!A1400)","v":1215014},{"$f":"IF(語言配置表!A1400=\"\",\"CN_待填充内容\",語言配置表!B1400)","v":"人物生命永久+10%"}]
[{"$f":"IF(語言配置表!A1401=\"\",\"\",語言配置表!A1401)","v":1215015},{"$f":"IF(語言配置表!A1401=\"\",\"CN_待填充内容\",語言配置表!B1401)","v":"土刺数量+1"}]
[{"$f":"IF(語言配置表!A1402=\"\",\"\",語言配置表!A1402)","v":""},{"$f":"IF(語言配置表!A1402=\"\",\"CN_待填充内容\",語言配置表!B1402)","v":"CN_待填充内容"}]
[{"$f":"IF(語言配置表!A1403=\"\",\"\",語言配置表!A1403)","v":""},{"$f":"IF(語言配置表!A1403=\"\",\"CN_待填充内容\",語言配置表!B1403)","v":"CN_待填充内容"}]
[{"$f":"IF(語言配置表!A1404=\"\",\"\",語言配置表!A1404)","v":1215021},{"$f":"IF(語言配置表!A1404=\"\",\"CN_待填充内容\",語言配置表!B1404)","v":"刀气数量+1"}]
[{"$f":"IF(語言配置表!A1405=\"\",\"\",語言配置表!A1405)","v":1215022},{"$f":"IF(語言配置表!A1405=\"\",\"CN_待填充内容\",語言配置表!B1405)","v":"人物攻击永久+10%"}]
[{"$f":"IF(語言配置表!A1406=\"\",\"\",語言配置表!A1406)","v":1215023},{"$f":"IF(語言配置表!A1406=\"\",\"CN_待填充内容\",語言配置表!B1406)","v":"刀气数量+1"}]
[{"$f":"IF(語言配置表!A1407=\"\",\"\",語言配置表!A1407)","v":1215024},{"$f":"IF(語言配置表!A1407=\"\",\"CN_待填充内容\",語言配置表!B1407)","v":"人物攻击永久+10%"}]
[{"$f":"IF(語言配置表!A1408=\"\",\"\",語言配置表!A1408)","v":1215025},{"$f":"IF(語言配置表!A1408=\"\",\"CN_待填充内容\",語言配置表!B1408)","v":"刀气数量+1"}]
[{"$f":"IF(語言配置表!A1409=\"\",\"\",語言配置表!A1409)","v":""},{"$f":"IF(語言配置表!A1409=\"\",\"CN_待填充内容\",語言配置表!B1409)","v":"CN_待填充内容"}]
[{"$f":"IF(語言配置表!A1410=\"\",\"\",語言配置表!A1410)","v":""},{"$f":"IF(語言配置表!A1410=\"\",\"CN_待填充内容\",語言配置表!B1410)","v":"CN_待填充内容"}]
[{"$f":"IF(語言配置表!A1411=\"\",\"\",語言配置表!A1411)","v":""},{"$f":"IF(語言配置表!A1411=\"\",\"CN_待填充内容\",語言配置表!B1411)","v":"CN_待填充内容"}]
[{"$f":"IF(語言配置表!A1412=\"\",\"\",語言配置表!A1412)","v":""},{"$f":"IF(語言配置表!A1412=\"\",\"CN_待填充内容\",語言配置表!B1412)","v":"CN_待填充内容"}]
[{"$f":"IF(語言配置表!A1413=\"\",\"\",語言配置表!A1413)","v":""},{"$f":"IF(語言配置表!A1413=\"\",\"CN_待填充内容\",語言配置表!B1413)","v":"CN_待填充内容"}]
[{"$f":"IF(語言配置表!A1414=\"\",\"\",語言配置表!A1414)","v":""},{"$f":"IF(語言配置表!A1414=\"\",\"CN_待填充内容\",語言配置表!B1414)","v":"CN_待填充内容"}]
[{"$f":"IF(語言配置表!A1415=\"\",\"\",語言配置表!A1415)","v":""},{"$f":"IF(語言配置表!A1415=\"\",\"CN_待填充内容\",語言配置表!B1415)","v":"CN_待填充内容"}]
[{"$f":"IF(語言配置表!A1416=\"\",\"\",語言配置表!A1416)","v":""},{"$f":"IF(語言配置表!A1416=\"\",\"CN_待填充内容\",語言配置表!B1416)","v":"CN_待填充内容"}]
[{"$f":"IF(語言配置表!A1417=\"\",\"\",語言配置表!A1417)","v":""},{"$f":"IF(語言配置表!A1417=\"\",\"CN_待填充内容\",語言配置表!B1417)","v":"CN_待填充内容"}]
[{"$f":"IF(語言配置表!A1418=\"\",\"\",語言配置表!A1418)","v":1215041},{"$f":"IF(語言配置表!A1418=\"\",\"CN_待填充内容\",語言配置表!B1418)","v":"人物攻击永久+5%"}]
[{"$f":"IF(語言配置表!A1419=\"\",\"\",語言配置表!A1419)","v":1215042},{"$f":"IF(語言配置表!A1419=\"\",\"CN_待填充内容\",語言配置表!B1419)","v":"落石数量+1"}]
[{"$f":"IF(語言配置表!A1420=\"\",\"\",語言配置表!A1420)","v":1215043},{"$f":"IF(語言配置表!A1420=\"\",\"CN_待填充内容\",語言配置表!B1420)","v":"人物攻击永久+5%"}]
[{"$f":"IF(語言配置表!A1421=\"\",\"\",語言配置表!A1421)","v":1215044},{"$f":"IF(語言配置表!A1421=\"\",\"CN_待填充内容\",語言配置表!B1421)","v":"落石数量+1"}]
[{"$f":"IF(語言配置表!A1422=\"\",\"\",語言配置表!A1422)","v":1215045},{"$f":"IF(語言配置表!A1422=\"\",\"CN_待填充内容\",語言配置表!B1422)","v":"人物攻击永久+5%"}]
[{"$f":"IF(語言配置表!A1423=\"\",\"\",語言配置表!A1423)","v":""},{"$f":"IF(語言配置表!A1423=\"\",\"CN_待填充内容\",語言配置表!B1423)","v":"CN_待填充内容"}]
[{"$f":"IF(語言配置表!A1424=\"\",\"\",語言配置表!A1424)","v":""},{"$f":"IF(語言配置表!A1424=\"\",\"CN_待填充内容\",語言配置表!B1424)","v":"CN_待填充内容"}]
[{"$f":"IF(語言配置表!A1425=\"\",\"\",語言配置表!A1425)","v":1215051},{"$f":"IF(語言配置表!A1425=\"\",\"CN_待填充内容\",語言配置表!B1425)","v":"人物生命永久+5%"}]
[{"$f":"IF(語言配置表!A1426=\"\",\"\",語言配置表!A1426)","v":1215052},{"$f":"IF(語言配置表!A1426=\"\",\"CN_待填充内容\",語言配置表!B1426)","v":"小石头数量+1"}]
[{"$f":"IF(語言配置表!A1427=\"\",\"\",語言配置表!A1427)","v":1215053},{"$f":"IF(語言配置表!A1427=\"\",\"CN_待填充内容\",語言配置表!B1427)","v":"人物生命永久+5%"}]
[{"$f":"IF(語言配置表!A1428=\"\",\"\",語言配置表!A1428)","v":1215054},{"$f":"IF(語言配置表!A1428=\"\",\"CN_待填充内容\",語言配置表!B1428)","v":"小石头数量+1"}]
[{"$f":"IF(語言配置表!A1429=\"\",\"\",語言配置表!A1429)","v":1215055},{"$f":"IF(語言配置表!A1429=\"\",\"CN_待填充内容\",語言配置表!B1429)","v":"人物生命永久+5%"}]
[{"$f":"IF(語言配置表!A1430=\"\",\"\",語言配置表!A1430)","v":""},{"$f":"IF(語言配置表!A1430=\"\",\"CN_待填充内容\",語言配置表!B1430)","v":"CN_待填充内容"}]
[{"$f":"IF(語言配置表!A1431=\"\",\"\",語言配置表!A1431)","v":""},{"$f":"IF(語言配置表!A1431=\"\",\"CN_待填充内容\",語言配置表!B1431)","v":"CN_待填充内容"}]
[{"$f":"IF(語言配置表!A1432=\"\",\"\",語言配置表!A1432)","v":""},{"$f":"IF(語言配置表!A1432=\"\",\"CN_待填充内容\",語言配置表!B1432)","v":"CN_待填充内容"}]
[{"$f":"IF(語言配置表!A1433=\"\",\"\",語言配置表!A1433)","v":1220011},{"$f":"IF(語言配置表!A1433=\"\",\"CN_待填充内容\",語言配置表!B1433)","v":"人物防御永久+3%"}]
[{"$f":"IF(語言配置表!A1434=\"\",\"\",語言配置表!A1434)","v":1220012},{"$f":"IF(語言配置表!A1434=\"\",\"CN_待填充内容\",語言配置表!B1434)","v":"人物防御永久+3%"}]
[{"$f":"IF(語言配置表!A1435=\"\",\"\",語言配置表!A1435)","v":1220013},{"$f":"IF(語言配置表!A1435=\"\",\"CN_待填充内容\",語言配置表!B1435)","v":"人物防御永久+3%"}]
[{"$f":"IF(語言配置表!A1436=\"\",\"\",語言配置表!A1436)","v":1220014},{"$f":"IF(語言配置表!A1436=\"\",\"CN_待填充内容\",語言配置表!B1436)","v":"人物防御永久+3%"}]
[{"$f":"IF(語言配置表!A1437=\"\",\"\",語言配置表!A1437)","v":1220015},{"$f":"IF(語言配置表!A1437=\"\",\"CN_待填充内容\",語言配置表!B1437)","v":"穿过护盾时额外对护盾造成等额伤害"}]
[{"$f":"IF(語言配置表!A1438=\"\",\"\",語言配置表!A1438)","v":""},{"$f":"IF(語言配置表!A1438=\"\",\"CN_待填充内容\",語言配置表!B1438)","v":"CN_待填充内容"}]
[{"$f":"IF(語言配置表!A1439=\"\",\"\",語言配置表!A1439)","v":""},{"$f":"IF(語言配置表!A1439=\"\",\"CN_待填充内容\",語言配置表!B1439)","v":"CN_待填充内容"}]
[{"$f":"IF(語言配置表!A1440=\"\",\"\",語言配置表!A1440)","v":1220021},{"$f":"IF(語言配置表!A1440=\"\",\"CN_待填充内容\",語言配置表!B1440)","v":"人物攻击永久+3%"}]
[{"$f":"IF(語言配置表!A1441=\"\",\"\",語言配置表!A1441)","v":1220022},{"$f":"IF(語言配置表!A1441=\"\",\"CN_待填充内容\",語言配置表!B1441)","v":"人物攻击永久+3%"}]
[{"$f":"IF(語言配置表!A1442=\"\",\"\",語言配置表!A1442)","v":1220023},{"$f":"IF(語言配置表!A1442=\"\",\"CN_待填充内容\",語言配置表!B1442)","v":"人物攻击永久+3%"}]
[{"$f":"IF(語言配置表!A1443=\"\",\"\",語言配置表!A1443)","v":1220024},{"$f":"IF(語言配置表!A1443=\"\",\"CN_待填充内容\",語言配置表!B1443)","v":"人物攻击永久+3%"}]
[{"$f":"IF(語言配置表!A1444=\"\",\"\",語言配置表!A1444)","v":1220025},{"$f":"IF(語言配置表!A1444=\"\",\"CN_待填充内容\",語言配置表!B1444)","v":"充能增效，法宝瞬发且不对拼"}]
[{"$f":"IF(語言配置表!A1445=\"\",\"\",語言配置表!A1445)","v":""},{"$f":"IF(語言配置表!A1445=\"\",\"CN_待填充内容\",語言配置表!B1445)","v":"CN_待填充内容"}]
[{"$f":"IF(語言配置表!A1446=\"\",\"\",語言配置表!A1446)","v":""},{"$f":"IF(語言配置表!A1446=\"\",\"CN_待填充内容\",語言配置表!B1446)","v":"CN_待填充内容"}]
[{"$f":"IF(語言配置表!A1447=\"\",\"\",語言配置表!A1447)","v":1220031},{"$f":"IF(語言配置表!A1447=\"\",\"CN_待填充内容\",語言配置表!B1447)","v":"人物防御永久+3%"}]
[{"$f":"IF(語言配置表!A1448=\"\",\"\",語言配置表!A1448)","v":1220032},{"$f":"IF(語言配置表!A1448=\"\",\"CN_待填充内容\",語言配置表!B1448)","v":"人物防御永久+3%"}]
[{"$f":"IF(語言配置表!A1449=\"\",\"\",語言配置表!A1449)","v":1220033},{"$f":"IF(語言配置表!A1449=\"\",\"CN_待填充内容\",語言配置表!B1449)","v":"人物防御永久+3%"}]
[{"$f":"IF(語言配置表!A1450=\"\",\"\",語言配置表!A1450)","v":1220034},{"$f":"IF(語言配置表!A1450=\"\",\"CN_待填充内容\",語言配置表!B1450)","v":"人物防御永久+3%"}]
[{"$f":"IF(語言配置表!A1451=\"\",\"\",語言配置表!A1451)","v":1220035},{"$f":"IF(語言配置表!A1451=\"\",\"CN_待填充内容\",語言配置表!B1451)","v":"触发概率提升"}]
[{"$f":"IF(語言配置表!A1452=\"\",\"\",語言配置表!A1452)","v":""},{"$f":"IF(語言配置表!A1452=\"\",\"CN_待填充内容\",語言配置表!B1452)","v":"CN_待填充内容"}]
[{"$f":"IF(語言配置表!A1453=\"\",\"\",語言配置表!A1453)","v":""},{"$f":"IF(語言配置表!A1453=\"\",\"CN_待填充内容\",語言配置表!B1453)","v":"CN_待填充内容"}]
[{"$f":"IF(語言配置表!A1454=\"\",\"\",語言配置表!A1454)","v":1220041},{"$f":"IF(語言配置表!A1454=\"\",\"CN_待填充内容\",語言配置表!B1454)","v":"人物生命永久+3%"}]
[{"$f":"IF(語言配置表!A1455=\"\",\"\",語言配置表!A1455)","v":1220042},{"$f":"IF(語言配置表!A1455=\"\",\"CN_待填充内容\",語言配置表!B1455)","v":"人物生命永久+3%"}]
[{"$f":"IF(語言配置表!A1456=\"\",\"\",語言配置表!A1456)","v":1220043},{"$f":"IF(語言配置表!A1456=\"\",\"CN_待填充内容\",語言配置表!B1456)","v":"人物生命永久+3%"}]
[{"$f":"IF(語言配置表!A1457=\"\",\"\",語言配置表!A1457)","v":1220044},{"$f":"IF(語言配置表!A1457=\"\",\"CN_待填充内容\",語言配置表!B1457)","v":"人物生命永久+3%"}]
[{"$f":"IF(語言配置表!A1458=\"\",\"\",語言配置表!A1458)","v":1220045},{"$f":"IF(語言配置表!A1458=\"\",\"CN_待填充内容\",語言配置表!B1458)","v":"不相生甚至相克功法也生效"}]
[{"$f":"IF(語言配置表!A1459=\"\",\"\",語言配置表!A1459)","v":""},{"$f":"IF(語言配置表!A1459=\"\",\"CN_待填充内容\",語言配置表!B1459)","v":"CN_待填充内容"}]
[{"$f":"IF(語言配置表!A1460=\"\",\"\",語言配置表!A1460)","v":""},{"$f":"IF(語言配置表!A1460=\"\",\"CN_待填充内容\",語言配置表!B1460)","v":"CN_待填充内容"}]
[{"$f":"IF(語言配置表!A1461=\"\",\"\",語言配置表!A1461)","v":1220051},{"$f":"IF(語言配置表!A1461=\"\",\"CN_待填充内容\",語言配置表!B1461)","v":"人物攻击永久+3%"}]
[{"$f":"IF(語言配置表!A1462=\"\",\"\",語言配置表!A1462)","v":1220052},{"$f":"IF(語言配置表!A1462=\"\",\"CN_待填充内容\",語言配置表!B1462)","v":"人物攻击永久+3%"}]
[{"$f":"IF(語言配置表!A1463=\"\",\"\",語言配置表!A1463)","v":1220053},{"$f":"IF(語言配置表!A1463=\"\",\"CN_待填充内容\",語言配置表!B1463)","v":"人物攻击永久+3%"}]
[{"$f":"IF(語言配置表!A1464=\"\",\"\",語言配置表!A1464)","v":1220054},{"$f":"IF(語言配置表!A1464=\"\",\"CN_待填充内容\",語言配置表!B1464)","v":"人物攻击永久+3%"}]
[{"$f":"IF(語言配置表!A1465=\"\",\"\",語言配置表!A1465)","v":1220055},{"$f":"IF(語言配置表!A1465=\"\",\"CN_待填充内容\",語言配置表!B1465)","v":"满层时施加灼烧"}]
[{"$f":"IF(語言配置表!A1466=\"\",\"\",語言配置表!A1466)","v":""},{"$f":"IF(語言配置表!A1466=\"\",\"CN_待填充内容\",語言配置表!B1466)","v":"CN_待填充内容"}]
[{"$f":"IF(語言配置表!A1467=\"\",\"\",語言配置表!A1467)","v":""},{"$f":"IF(語言配置表!A1467=\"\",\"CN_待填充内容\",語言配置表!B1467)","v":"CN_待填充内容"}]
[{"$f":"IF(語言配置表!A1468=\"\",\"\",語言配置表!A1468)","v":1220061},{"$f":"IF(語言配置表!A1468=\"\",\"CN_待填充内容\",語言配置表!B1468)","v":"人物防御永久+3%"}]
[{"$f":"IF(語言配置表!A1469=\"\",\"\",語言配置表!A1469)","v":1220062},{"$f":"IF(語言配置表!A1469=\"\",\"CN_待填充内容\",語言配置表!B1469)","v":"人物防御永久+3%"}]
[{"$f":"IF(語言配置表!A1470=\"\",\"\",語言配置表!A1470)","v":1220063},{"$f":"IF(語言配置表!A1470=\"\",\"CN_待填充内容\",語言配置表!B1470)","v":"人物防御永久+3%"}]
[{"$f":"IF(語言配置表!A1471=\"\",\"\",語言配置表!A1471)","v":1220064},{"$f":"IF(語言配置表!A1471=\"\",\"CN_待填充内容\",語言配置表!B1471)","v":"人物防御永久+3%"}]
[{"$f":"IF(語言配置表!A1472=\"\",\"\",語言配置表!A1472)","v":1220065},{"$f":"IF(語言配置表!A1472=\"\",\"CN_待填充内容\",語言配置表!B1472)","v":"对拼时重生"}]
[{"$f":"IF(語言配置表!A1473=\"\",\"\",語言配置表!A1473)","v":""},{"$f":"IF(語言配置表!A1473=\"\",\"CN_待填充内容\",語言配置表!B1473)","v":"CN_待填充内容"}]
[{"$f":"IF(語言配置表!A1474=\"\",\"\",語言配置表!A1474)","v":""},{"$f":"IF(語言配置表!A1474=\"\",\"CN_待填充内容\",語言配置表!B1474)","v":"CN_待填充内容"}]
[{"$f":"IF(語言配置表!A1475=\"\",\"\",語言配置表!A1475)","v":1220071},{"$f":"IF(語言配置表!A1475=\"\",\"CN_待填充内容\",語言配置表!B1475)","v":"人物生命永久+3%"}]
[{"$f":"IF(語言配置表!A1476=\"\",\"\",語言配置表!A1476)","v":1220072},{"$f":"IF(語言配置表!A1476=\"\",\"CN_待填充内容\",語言配置表!B1476)","v":"人物生命永久+3%"}]
[{"$f":"IF(語言配置表!A1477=\"\",\"\",語言配置表!A1477)","v":1220073},{"$f":"IF(語言配置表!A1477=\"\",\"CN_待填充内容\",語言配置表!B1477)","v":"人物生命永久+3%"}]
[{"$f":"IF(語言配置表!A1478=\"\",\"\",語言配置表!A1478)","v":1220074},{"$f":"IF(語言配置表!A1478=\"\",\"CN_待填充内容\",語言配置表!B1478)","v":"人物生命永久+3%"}]
[{"$f":"IF(語言配置表!A1479=\"\",\"\",語言配置表!A1479)","v":1220075},{"$f":"IF(語言配置表!A1479=\"\",\"CN_待填充内容\",語言配置表!B1479)","v":"加速时伤害提升"}]
[{"$f":"IF(語言配置表!A1480=\"\",\"\",語言配置表!A1480)","v":""},{"$f":"IF(語言配置表!A1480=\"\",\"CN_待填充内容\",語言配置表!B1480)","v":"CN_待填充内容"}]
[{"$f":"IF(語言配置表!A1481=\"\",\"\",語言配置表!A1481)","v":""},{"$f":"IF(語言配置表!A1481=\"\",\"CN_待填充内容\",語言配置表!B1481)","v":"CN_待填充内容"}]
[{"$f":"IF(語言配置表!A1482=\"\",\"\",語言配置表!A1482)","v":1220081},{"$f":"IF(語言配置表!A1482=\"\",\"CN_待填充内容\",語言配置表!B1482)","v":"人物攻击永久+3%"}]
[{"$f":"IF(語言配置表!A1483=\"\",\"\",語言配置表!A1483)","v":1220082},{"$f":"IF(語言配置表!A1483=\"\",\"CN_待填充内容\",語言配置表!B1483)","v":"人物攻击永久+3%"}]
[{"$f":"IF(語言配置表!A1484=\"\",\"\",語言配置表!A1484)","v":1220083},{"$f":"IF(語言配置表!A1484=\"\",\"CN_待填充内容\",語言配置表!B1484)","v":"人物攻击永久+3%"}]
[{"$f":"IF(語言配置表!A1485=\"\",\"\",語言配置表!A1485)","v":1220084},{"$f":"IF(語言配置表!A1485=\"\",\"CN_待填充内容\",語言配置表!B1485)","v":"人物攻击永久+3%"}]
[{"$f":"IF(語言配置表!A1486=\"\",\"\",語言配置表!A1486)","v":1220085},{"$f":"IF(語言配置表!A1486=\"\",\"CN_待填充内容\",語言配置表!B1486)","v":"额外对敌人施加流血"}]
[{"$f":"IF(語言配置表!A1487=\"\",\"\",語言配置表!A1487)","v":""},{"$f":"IF(語言配置表!A1487=\"\",\"CN_待填充内容\",語言配置表!B1487)","v":"CN_待填充内容"}]
[{"$f":"IF(語言配置表!A1488=\"\",\"\",語言配置表!A1488)","v":""},{"$f":"IF(語言配置表!A1488=\"\",\"CN_待填充内容\",語言配置表!B1488)","v":"CN_待填充内容"}]
[{"$f":"IF(語言配置表!A1489=\"\",\"\",語言配置表!A1489)","v":1220091},{"$f":"IF(語言配置表!A1489=\"\",\"CN_待填充内容\",語言配置表!B1489)","v":"人物攻击永久+3%"}]
[{"$f":"IF(語言配置表!A1490=\"\",\"\",語言配置表!A1490)","v":1220092},{"$f":"IF(語言配置表!A1490=\"\",\"CN_待填充内容\",語言配置表!B1490)","v":"人物攻击永久+3%"}]
[{"$f":"IF(語言配置表!A1491=\"\",\"\",語言配置表!A1491)","v":1220093},{"$f":"IF(語言配置表!A1491=\"\",\"CN_待填充内容\",語言配置表!B1491)","v":"人物攻击永久+3%"}]
[{"$f":"IF(語言配置表!A1492=\"\",\"\",語言配置表!A1492)","v":1220094},{"$f":"IF(語言配置表!A1492=\"\",\"CN_待填充内容\",語言配置表!B1492)","v":"人物攻击永久+3%"}]
[{"$f":"IF(語言配置表!A1493=\"\",\"\",語言配置表!A1493)","v":1220095},{"$f":"IF(語言配置表!A1493=\"\",\"CN_待填充内容\",語言配置表!B1493)","v":"人物攻击永久+3%"}]
[{"$f":"IF(語言配置表!A1494=\"\",\"\",語言配置表!A1494)","v":""},{"$f":"IF(語言配置表!A1494=\"\",\"CN_待填充内容\",語言配置表!B1494)","v":"CN_待填充内容"}]
[{"$f":"IF(語言配置表!A1495=\"\",\"\",語言配置表!A1495)","v":""},{"$f":"IF(語言配置表!A1495=\"\",\"CN_待填充内容\",語言配置表!B1495)","v":"CN_待填充内容"}]
[{"$f":"IF(語言配置表!A1496=\"\",\"\",語言配置表!A1496)","v":1220101},{"$f":"IF(語言配置表!A1496=\"\",\"CN_待填充内容\",語言配置表!B1496)","v":"人物攻击永久+3%"}]
[{"$f":"IF(語言配置表!A1497=\"\",\"\",語言配置表!A1497)","v":1220102},{"$f":"IF(語言配置表!A1497=\"\",\"CN_待填充内容\",語言配置表!B1497)","v":"人物攻击永久+3%"}]
[{"$f":"IF(語言配置表!A1498=\"\",\"\",語言配置表!A1498)","v":1220103},{"$f":"IF(語言配置表!A1498=\"\",\"CN_待填充内容\",語言配置表!B1498)","v":"人物攻击永久+3%"}]
[{"$f":"IF(語言配置表!A1499=\"\",\"\",語言配置表!A1499)","v":1220104},{"$f":"IF(語言配置表!A1499=\"\",\"CN_待填充内容\",語言配置表!B1499)","v":"人物攻击永久+3%"}]
[{"$f":"IF(語言配置表!A1500=\"\",\"\",語言配置表!A1500)","v":1220105},{"$f":"IF(語言配置表!A1500=\"\",\"CN_待填充内容\",語言配置表!B1500)","v":"残血时提升恢复量"}]
[{"$f":"IF(語言配置表!A1501=\"\",\"\",語言配置表!A1501)","v":""},{"$f":"IF(語言配置表!A1501=\"\",\"CN_待填充内容\",語言配置表!B1501)","v":"CN_待填充内容"}]
[{"$f":"IF(語言配置表!A1502=\"\",\"\",語言配置表!A1502)","v":""},{"$f":"IF(語言配置表!A1502=\"\",\"CN_待填充内容\",語言配置表!B1502)","v":"CN_待填充内容"}]
[{"$f":"IF(語言配置表!A1503=\"\",\"\",語言配置表!A1503)","v":1220111},{"$f":"IF(語言配置表!A1503=\"\",\"CN_待填充内容\",語言配置表!B1503)","v":"人物生命永久+3%"}]
[{"$f":"IF(語言配置表!A1504=\"\",\"\",語言配置表!A1504)","v":1220112},{"$f":"IF(語言配置表!A1504=\"\",\"CN_待填充内容\",語言配置表!B1504)","v":"人物生命永久+3%"}]
[{"$f":"IF(語言配置表!A1505=\"\",\"\",語言配置表!A1505)","v":1220113},{"$f":"IF(語言配置表!A1505=\"\",\"CN_待填充内容\",語言配置表!B1505)","v":"人物生命永久+3%"}]
[{"$f":"IF(語言配置表!A1506=\"\",\"\",語言配置表!A1506)","v":1220114},{"$f":"IF(語言配置表!A1506=\"\",\"CN_待填充内容\",語言配置表!B1506)","v":"人物生命永久+3%"}]
[{"$f":"IF(語言配置表!A1507=\"\",\"\",語言配置表!A1507)","v":1220115},{"$f":"IF(語言配置表!A1507=\"\",\"CN_待填充内容\",語言配置表!B1507)","v":"人物生命永久+3%"}]
[{"$f":"IF(語言配置表!A1508=\"\",\"\",語言配置表!A1508)","v":""},{"$f":"IF(語言配置表!A1508=\"\",\"CN_待填充内容\",語言配置表!B1508)","v":"CN_待填充内容"}]
[{"$f":"IF(語言配置表!A1509=\"\",\"\",語言配置表!A1509)","v":""},{"$f":"IF(語言配置表!A1509=\"\",\"CN_待填充内容\",語言配置表!B1509)","v":"CN_待填充内容"}]
[{"$f":"IF(語言配置表!A1510=\"\",\"\",語言配置表!A1510)","v":1220121},{"$f":"IF(語言配置表!A1510=\"\",\"CN_待填充内容\",語言配置表!B1510)","v":"人物攻击永久+3%"}]
[{"$f":"IF(語言配置表!A1511=\"\",\"\",語言配置表!A1511)","v":1220122},{"$f":"IF(語言配置表!A1511=\"\",\"CN_待填充内容\",語言配置表!B1511)","v":"人物攻击永久+3%"}]
[{"$f":"IF(語言配置表!A1512=\"\",\"\",語言配置表!A1512)","v":1220123},{"$f":"IF(語言配置表!A1512=\"\",\"CN_待填充内容\",語言配置表!B1512)","v":"人物攻击永久+3%"}]
[{"$f":"IF(語言配置表!A1513=\"\",\"\",語言配置表!A1513)","v":1220124},{"$f":"IF(語言配置表!A1513=\"\",\"CN_待填充内容\",語言配置表!B1513)","v":"人物攻击永久+3%"}]
[{"$f":"IF(語言配置表!A1514=\"\",\"\",語言配置表!A1514)","v":1220125},{"$f":"IF(語言配置表!A1514=\"\",\"CN_待填充内容\",語言配置表!B1514)","v":"人物攻击永久+3%"}]
[{"$f":"IF(語言配置表!A1515=\"\",\"\",語言配置表!A1515)","v":""},{"$f":"IF(語言配置表!A1515=\"\",\"CN_待填充内容\",語言配置表!B1515)","v":"CN_待填充内容"}]
[{"$f":"IF(語言配置表!A1516=\"\",\"\",語言配置表!A1516)","v":""},{"$f":"IF(語言配置表!A1516=\"\",\"CN_待填充内容\",語言配置表!B1516)","v":"CN_待填充内容"}]
[{"$f":"IF(語言配置表!A1517=\"\",\"\",語言配置表!A1517)","v":1220131},{"$f":"IF(語言配置表!A1517=\"\",\"CN_待填充内容\",語言配置表!B1517)","v":"人物防御永久+3%"}]
[{"$f":"IF(語言配置表!A1518=\"\",\"\",語言配置表!A1518)","v":1220132},{"$f":"IF(語言配置表!A1518=\"\",\"CN_待填充内容\",語言配置表!B1518)","v":"人物防御永久+3%"}]
[{"$f":"IF(語言配置表!A1519=\"\",\"\",語言配置表!A1519)","v":1220133},{"$f":"IF(語言配置表!A1519=\"\",\"CN_待填充内容\",語言配置表!B1519)","v":"人物防御永久+3%"}]
[{"$f":"IF(語言配置表!A1520=\"\",\"\",語言配置表!A1520)","v":1220134},{"$f":"IF(語言配置表!A1520=\"\",\"CN_待填充内容\",語言配置表!B1520)","v":"人物防御永久+3%"}]
[{"$f":"IF(語言配置表!A1521=\"\",\"\",語言配置表!A1521)","v":1220135},{"$f":"IF(語言配置表!A1521=\"\",\"CN_待填充内容\",語言配置表!B1521)","v":"人物防御永久+3%"}]
[{"$f":"IF(語言配置表!A1522=\"\",\"\",語言配置表!A1522)","v":""},{"$f":"IF(語言配置表!A1522=\"\",\"CN_待填充内容\",語言配置表!B1522)","v":"CN_待填充内容"}]
[{"$f":"IF(語言配置表!A1523=\"\",\"\",語言配置表!A1523)","v":""},{"$f":"IF(語言配置表!A1523=\"\",\"CN_待填充内容\",語言配置表!B1523)","v":"CN_待填充内容"}]
[{"$f":"IF(語言配置表!A1524=\"\",\"\",語言配置表!A1524)","v":1220141},{"$f":"IF(語言配置表!A1524=\"\",\"CN_待填充内容\",語言配置表!B1524)","v":"人物生命永久+3%"}]
[{"$f":"IF(語言配置表!A1525=\"\",\"\",語言配置表!A1525)","v":1220142},{"$f":"IF(語言配置表!A1525=\"\",\"CN_待填充内容\",語言配置表!B1525)","v":"人物生命永久+3%"}]
[{"$f":"IF(語言配置表!A1526=\"\",\"\",語言配置表!A1526)","v":1220143},{"$f":"IF(語言配置表!A1526=\"\",\"CN_待填充内容\",語言配置表!B1526)","v":"人物生命永久+3%"}]
[{"$f":"IF(語言配置表!A1527=\"\",\"\",語言配置表!A1527)","v":1220144},{"$f":"IF(語言配置表!A1527=\"\",\"CN_待填充内容\",語言配置表!B1527)","v":"人物生命永久+3%"}]
[{"$f":"IF(語言配置表!A1528=\"\",\"\",語言配置表!A1528)","v":1220145},{"$f":"IF(語言配置表!A1528=\"\",\"CN_待填充内容\",語言配置表!B1528)","v":"人物生命永久+3%"}]
[{"$f":"IF(語言配置表!A1529=\"\",\"\",語言配置表!A1529)","v":""},{"$f":"IF(語言配置表!A1529=\"\",\"CN_待填充内容\",語言配置表!B1529)","v":"CN_待填充内容"}]
[{"$f":"IF(語言配置表!A1530=\"\",\"\",語言配置表!A1530)","v":""},{"$f":"IF(語言配置表!A1530=\"\",\"CN_待填充内容\",語言配置表!B1530)","v":"CN_待填充内容"}]
[{"$f":"IF(語言配置表!A1531=\"\",\"\",語言配置表!A1531)","v":1220151},{"$f":"IF(語言配置表!A1531=\"\",\"CN_待填充内容\",語言配置表!B1531)","v":"人物攻击永久+3%"}]
[{"$f":"IF(語言配置表!A1532=\"\",\"\",語言配置表!A1532)","v":1220152},{"$f":"IF(語言配置表!A1532=\"\",\"CN_待填充内容\",語言配置表!B1532)","v":"人物攻击永久+3%"}]
[{"$f":"IF(語言配置表!A1533=\"\",\"\",語言配置表!A1533)","v":1220153},{"$f":"IF(語言配置表!A1533=\"\",\"CN_待填充内容\",語言配置表!B1533)","v":"人物攻击永久+3%"}]
[{"$f":"IF(語言配置表!A1534=\"\",\"\",語言配置表!A1534)","v":1220154},{"$f":"IF(語言配置表!A1534=\"\",\"CN_待填充内容\",語言配置表!B1534)","v":"人物攻击永久+3%"}]
[{"$f":"IF(語言配置表!A1535=\"\",\"\",語言配置表!A1535)","v":1220155},{"$f":"IF(語言配置表!A1535=\"\",\"CN_待填充内容\",語言配置表!B1535)","v":"人物攻击永久+3%"}]
[{"$f":"IF(語言配置表!A1536=\"\",\"\",語言配置表!A1536)","v":""},{"$f":"IF(語言配置表!A1536=\"\",\"CN_待填充内容\",語言配置表!B1536)","v":"CN_待填充内容"}]
[{"$f":"IF(語言配置表!A1537=\"\",\"\",語言配置表!A1537)","v":""},{"$f":"IF(語言配置表!A1537=\"\",\"CN_待填充内容\",語言配置表!B1537)","v":"CN_待填充内容"}]
[{"$f":"IF(語言配置表!A1538=\"\",\"\",語言配置表!A1538)","v":1220161},{"$f":"IF(語言配置表!A1538=\"\",\"CN_待填充内容\",語言配置表!B1538)","v":"人物防御永久+3%"}]
[{"$f":"IF(語言配置表!A1539=\"\",\"\",語言配置表!A1539)","v":1220162},{"$f":"IF(語言配置表!A1539=\"\",\"CN_待填充内容\",語言配置表!B1539)","v":"人物防御永久+3%"}]
[{"$f":"IF(語言配置表!A1540=\"\",\"\",語言配置表!A1540)","v":1220163},{"$f":"IF(語言配置表!A1540=\"\",\"CN_待填充内容\",語言配置表!B1540)","v":"人物防御永久+3%"}]
[{"$f":"IF(語言配置表!A1541=\"\",\"\",語言配置表!A1541)","v":1220164},{"$f":"IF(語言配置表!A1541=\"\",\"CN_待填充内容\",語言配置表!B1541)","v":"人物防御永久+3%"}]
[{"$f":"IF(語言配置表!A1542=\"\",\"\",語言配置表!A1542)","v":1220165},{"$f":"IF(語言配置表!A1542=\"\",\"CN_待填充内容\",語言配置表!B1542)","v":"人物防御永久+3%"}]
[{"$f":"IF(語言配置表!A1543=\"\",\"\",語言配置表!A1543)","v":""},{"$f":"IF(語言配置表!A1543=\"\",\"CN_待填充内容\",語言配置表!B1543)","v":"CN_待填充内容"}]
[{"$f":"IF(語言配置表!A1544=\"\",\"\",語言配置表!A1544)","v":""},{"$f":"IF(語言配置表!A1544=\"\",\"CN_待填充内容\",語言配置表!B1544)","v":"CN_待填充内容"}]
[{"$f":"IF(語言配置表!A1545=\"\",\"\",語言配置表!A1545)","v":1220171},{"$f":"IF(語言配置表!A1545=\"\",\"CN_待填充内容\",語言配置表!B1545)","v":"人物生命永久+3%"}]
[{"$f":"IF(語言配置表!A1546=\"\",\"\",語言配置表!A1546)","v":1220172},{"$f":"IF(語言配置表!A1546=\"\",\"CN_待填充内容\",語言配置表!B1546)","v":"人物生命永久+3%"}]
[{"$f":"IF(語言配置表!A1547=\"\",\"\",語言配置表!A1547)","v":1220173},{"$f":"IF(語言配置表!A1547=\"\",\"CN_待填充内容\",語言配置表!B1547)","v":"人物生命永久+3%"}]
[{"$f":"IF(語言配置表!A1548=\"\",\"\",語言配置表!A1548)","v":1220174},{"$f":"IF(語言配置表!A1548=\"\",\"CN_待填充内容\",語言配置表!B1548)","v":"人物生命永久+3%"}]
[{"$f":"IF(語言配置表!A1549=\"\",\"\",語言配置表!A1549)","v":1220175},{"$f":"IF(語言配置表!A1549=\"\",\"CN_待填充内容\",語言配置表!B1549)","v":"人物生命永久+3%"}]
[{"$f":"IF(語言配置表!A1550=\"\",\"\",語言配置表!A1550)","v":""},{"$f":"IF(語言配置表!A1550=\"\",\"CN_待填充内容\",語言配置表!B1550)","v":"CN_待填充内容"}]
[{"$f":"IF(語言配置表!A1551=\"\",\"\",語言配置表!A1551)","v":""},{"$f":"IF(語言配置表!A1551=\"\",\"CN_待填充内容\",語言配置表!B1551)","v":"CN_待填充内容"}]
[{"$f":"IF(語言配置表!A1552=\"\",\"\",語言配置表!A1552)","v":1220181},{"$f":"IF(語言配置表!A1552=\"\",\"CN_待填充内容\",語言配置表!B1552)","v":"人物攻击永久+3%"}]
[{"$f":"IF(語言配置表!A1553=\"\",\"\",語言配置表!A1553)","v":1220182},{"$f":"IF(語言配置表!A1553=\"\",\"CN_待填充内容\",語言配置表!B1553)","v":"人物攻击永久+3%"}]
[{"$f":"IF(語言配置表!A1554=\"\",\"\",語言配置表!A1554)","v":1220183},{"$f":"IF(語言配置表!A1554=\"\",\"CN_待填充内容\",語言配置表!B1554)","v":"人物攻击永久+3%"}]
[{"$f":"IF(語言配置表!A1555=\"\",\"\",語言配置表!A1555)","v":1220184},{"$f":"IF(語言配置表!A1555=\"\",\"CN_待填充内容\",語言配置表!B1555)","v":"人物攻击永久+3%"}]
[{"$f":"IF(語言配置表!A1556=\"\",\"\",語言配置表!A1556)","v":1220185},{"$f":"IF(語言配置表!A1556=\"\",\"CN_待填充内容\",語言配置表!B1556)","v":"人物攻击永久+3%"}]
[{"$f":"IF(語言配置表!A1557=\"\",\"\",語言配置表!A1557)","v":""},{"$f":"IF(語言配置表!A1557=\"\",\"CN_待填充内容\",語言配置表!B1557)","v":"CN_待填充内容"}]
[{"$f":"IF(語言配置表!A1558=\"\",\"\",語言配置表!A1558)","v":""},{"$f":"IF(語言配置表!A1558=\"\",\"CN_待填充内容\",語言配置表!B1558)","v":"CN_待填充内容"}]
[{"$f":"IF(語言配置表!A1559=\"\",\"\",語言配置表!A1559)","v":1220191},{"$f":"IF(語言配置表!A1559=\"\",\"CN_待填充内容\",語言配置表!B1559)","v":"人物防御永久+3%"}]
[{"$f":"IF(語言配置表!A1560=\"\",\"\",語言配置表!A1560)","v":1220192},{"$f":"IF(語言配置表!A1560=\"\",\"CN_待填充内容\",語言配置表!B1560)","v":"人物防御永久+3%"}]
[{"$f":"IF(語言配置表!A1561=\"\",\"\",語言配置表!A1561)","v":1220193},{"$f":"IF(語言配置表!A1561=\"\",\"CN_待填充内容\",語言配置表!B1561)","v":"人物防御永久+3%"}]
[{"$f":"IF(語言配置表!A1562=\"\",\"\",語言配置表!A1562)","v":1220194},{"$f":"IF(語言配置表!A1562=\"\",\"CN_待填充内容\",語言配置表!B1562)","v":"人物防御永久+3%"}]
[{"$f":"IF(語言配置表!A1563=\"\",\"\",語言配置表!A1563)","v":1220195},{"$f":"IF(語言配置表!A1563=\"\",\"CN_待填充内容\",語言配置表!B1563)","v":"人物防御永久+3%"}]
[{"$f":"IF(語言配置表!A1564=\"\",\"\",語言配置表!A1564)","v":""},{"$f":"IF(語言配置表!A1564=\"\",\"CN_待填充内容\",語言配置表!B1564)","v":"CN_待填充内容"}]
[{"$f":"IF(語言配置表!A1565=\"\",\"\",語言配置表!A1565)","v":""},{"$f":"IF(語言配置表!A1565=\"\",\"CN_待填充内容\",語言配置表!B1565)","v":"CN_待填充内容"}]
[{"$f":"IF(語言配置表!A1566=\"\",\"\",語言配置表!A1566)","v":""},{"$f":"IF(語言配置表!A1566=\"\",\"CN_待填充内容\",語言配置表!B1566)","v":"CN_待填充内容"}]
[{"$f":"IF(語言配置表!A1567=\"\",\"\",語言配置表!A1567)","v":1231011},{"$f":"IF(語言配置表!A1567=\"\",\"CN_待填充内容\",語言配置表!B1567)","v":"金灵根+5"}]
[{"$f":"IF(語言配置表!A1568=\"\",\"\",語言配置表!A1568)","v":1231012},{"$f":"IF(語言配置表!A1568=\"\",\"CN_待填充内容\",語言配置表!B1568)","v":"人物攻击永久+5%"}]
[{"$f":"IF(語言配置表!A1569=\"\",\"\",語言配置表!A1569)","v":1231013},{"$f":"IF(語言配置表!A1569=\"\",\"CN_待填充内容\",語言配置表!B1569)","v":"金灵根+5"}]
[{"$f":"IF(語言配置表!A1570=\"\",\"\",語言配置表!A1570)","v":1231014},{"$f":"IF(語言配置表!A1570=\"\",\"CN_待填充内容\",語言配置表!B1570)","v":"人物攻击永久+5%"}]
[{"$f":"IF(語言配置表!A1571=\"\",\"\",語言配置表!A1571)","v":1231015},{"$f":"IF(語言配置表!A1571=\"\",\"CN_待填充内容\",語言配置表!B1571)","v":"降低敌人灵根"}]
[{"$f":"IF(語言配置表!A1572=\"\",\"\",語言配置表!A1572)","v":""},{"$f":"IF(語言配置表!A1572=\"\",\"CN_待填充内容\",語言配置表!B1572)","v":"CN_待填充内容"}]
[{"$f":"IF(語言配置表!A1573=\"\",\"\",語言配置表!A1573)","v":""},{"$f":"IF(語言配置表!A1573=\"\",\"CN_待填充内容\",語言配置表!B1573)","v":"CN_待填充内容"}]
[{"$f":"IF(語言配置表!A1574=\"\",\"\",語言配置表!A1574)","v":1231021},{"$f":"IF(語言配置表!A1574=\"\",\"CN_待填充内容\",語言配置表!B1574)","v":"伤害+100%"}]
[{"$f":"IF(語言配置表!A1575=\"\",\"\",語言配置表!A1575)","v":1231022},{"$f":"IF(語言配置表!A1575=\"\",\"CN_待填充内容\",語言配置表!B1575)","v":"伤害+100%"}]
[{"$f":"IF(語言配置表!A1576=\"\",\"\",語言配置表!A1576)","v":1231023},{"$f":"IF(語言配置表!A1576=\"\",\"CN_待填充内容\",語言配置表!B1576)","v":"伤害+100%"}]
[{"$f":"IF(語言配置表!A1577=\"\",\"\",語言配置表!A1577)","v":1231024},{"$f":"IF(語言配置表!A1577=\"\",\"CN_待填充内容\",語言配置表!B1577)","v":"伤害+100%"}]
[{"$f":"IF(語言配置表!A1578=\"\",\"\",語言配置表!A1578)","v":1231025},{"$f":"IF(語言配置表!A1578=\"\",\"CN_待填充内容\",語言配置表!B1578)","v":"伤害+100%"}]
[{"$f":"IF(語言配置表!A1579=\"\",\"\",語言配置表!A1579)","v":""},{"$f":"IF(語言配置表!A1579=\"\",\"CN_待填充内容\",語言配置表!B1579)","v":"CN_待填充内容"}]
[{"$f":"IF(語言配置表!A1580=\"\",\"\",語言配置表!A1580)","v":""},{"$f":"IF(語言配置表!A1580=\"\",\"CN_待填充内容\",語言配置表!B1580)","v":"CN_待填充内容"}]
[{"$f":"IF(語言配置表!A1581=\"\",\"\",語言配置表!A1581)","v":1232011},{"$f":"IF(語言配置表!A1581=\"\",\"CN_待填充内容\",語言配置表!B1581)","v":"降速效果提升"}]
[{"$f":"IF(語言配置表!A1582=\"\",\"\",語言配置表!A1582)","v":1232012},{"$f":"IF(語言配置表!A1582=\"\",\"CN_待填充内容\",語言配置表!B1582)","v":"水灵根+5"}]
[{"$f":"IF(語言配置表!A1583=\"\",\"\",語言配置表!A1583)","v":1232013},{"$f":"IF(語言配置表!A1583=\"\",\"CN_待填充内容\",語言配置表!B1583)","v":"人物生命永久+5%"}]
[{"$f":"IF(語言配置表!A1584=\"\",\"\",語言配置表!A1584)","v":1232014},{"$f":"IF(語言配置表!A1584=\"\",\"CN_待填充内容\",語言配置表!B1584)","v":"水灵根+5"}]
[{"$f":"IF(語言配置表!A1585=\"\",\"\",語言配置表!A1585)","v":1232015},{"$f":"IF(語言配置表!A1585=\"\",\"CN_待填充内容\",語言配置表!B1585)","v":"降低被影响功法的强度"}]
[{"$f":"IF(語言配置表!A1586=\"\",\"\",語言配置表!A1586)","v":""},{"$f":"IF(語言配置表!A1586=\"\",\"CN_待填充内容\",語言配置表!B1586)","v":"CN_待填充内容"}]
[{"$f":"IF(語言配置表!A1587=\"\",\"\",語言配置表!A1587)","v":""},{"$f":"IF(語言配置表!A1587=\"\",\"CN_待填充内容\",語言配置表!B1587)","v":"CN_待填充内容"}]
[{"$f":"IF(語言配置表!A1588=\"\",\"\",語言配置表!A1588)","v":1232021},{"$f":"IF(語言配置表!A1588=\"\",\"CN_待填充内容\",語言配置表!B1588)","v":"水灵根+5"}]
[{"$f":"IF(語言配置表!A1589=\"\",\"\",語言配置表!A1589)","v":1232022},{"$f":"IF(語言配置表!A1589=\"\",\"CN_待填充内容\",語言配置表!B1589)","v":"人物防御永久+5%"}]
[{"$f":"IF(語言配置表!A1590=\"\",\"\",語言配置表!A1590)","v":1232023},{"$f":"IF(語言配置表!A1590=\"\",\"CN_待填充内容\",語言配置表!B1590)","v":"可使用次数增加"}]
[{"$f":"IF(語言配置表!A1591=\"\",\"\",語言配置表!A1591)","v":1232024},{"$f":"IF(語言配置表!A1591=\"\",\"CN_待填充内容\",語言配置表!B1591)","v":"水灵根+5"}]
[{"$f":"IF(語言配置表!A1592=\"\",\"\",語言配置表!A1592)","v":1232025},{"$f":"IF(語言配置表!A1592=\"\",\"CN_待填充内容\",語言配置表!B1592)","v":"功法额外增伤"}]
[{"$f":"IF(語言配置表!A1593=\"\",\"\",語言配置表!A1593)","v":""},{"$f":"IF(語言配置表!A1593=\"\",\"CN_待填充内容\",語言配置表!B1593)","v":"CN_待填充内容"}]
[{"$f":"IF(語言配置表!A1594=\"\",\"\",語言配置表!A1594)","v":""},{"$f":"IF(語言配置表!A1594=\"\",\"CN_待填充内容\",語言配置表!B1594)","v":"CN_待填充内容"}]
[{"$f":"IF(語言配置表!A1595=\"\",\"\",語言配置表!A1595)","v":1232031},{"$f":"IF(語言配置表!A1595=\"\",\"CN_待填充内容\",語言配置表!B1595)","v":"伤害+140%"}]
[{"$f":"IF(語言配置表!A1596=\"\",\"\",語言配置表!A1596)","v":1232032},{"$f":"IF(語言配置表!A1596=\"\",\"CN_待填充内容\",語言配置表!B1596)","v":"伤害+140%"}]
[{"$f":"IF(語言配置表!A1597=\"\",\"\",語言配置表!A1597)","v":1232033},{"$f":"IF(語言配置表!A1597=\"\",\"CN_待填充内容\",語言配置表!B1597)","v":"伤害+140%"}]
[{"$f":"IF(語言配置表!A1598=\"\",\"\",語言配置表!A1598)","v":1232034},{"$f":"IF(語言配置表!A1598=\"\",\"CN_待填充内容\",語言配置表!B1598)","v":"伤害+140%"}]
[{"$f":"IF(語言配置表!A1599=\"\",\"\",語言配置表!A1599)","v":1232035},{"$f":"IF(語言配置表!A1599=\"\",\"CN_待填充内容\",語言配置表!B1599)","v":"伤害+140%"}]
[{"$f":"IF(語言配置表!A1600=\"\",\"\",語言配置表!A1600)","v":""},{"$f":"IF(語言配置表!A1600=\"\",\"CN_待填充内容\",語言配置表!B1600)","v":"CN_待填充内容"}]
[{"$f":"IF(語言配置表!A1601=\"\",\"\",語言配置表!A1601)","v":""},{"$f":"IF(語言配置表!A1601=\"\",\"CN_待填充内容\",語言配置表!B1601)","v":"CN_待填充内容"}]
[{"$f":"IF(語言配置表!A1602=\"\",\"\",語言配置表!A1602)","v":1233011},{"$f":"IF(語言配置表!A1602=\"\",\"CN_待填充内容\",語言配置表!B1602)","v":"封印法宝数量增加"}]
[{"$f":"IF(語言配置表!A1603=\"\",\"\",語言配置表!A1603)","v":1233012},{"$f":"IF(語言配置表!A1603=\"\",\"CN_待填充内容\",語言配置表!B1603)","v":"木灵根+5"}]
[{"$f":"IF(語言配置表!A1604=\"\",\"\",語言配置表!A1604)","v":1233013},{"$f":"IF(語言配置表!A1604=\"\",\"CN_待填充内容\",語言配置表!B1604)","v":"减缓相生法宝充能"}]
[{"$f":"IF(語言配置表!A1605=\"\",\"\",語言配置表!A1605)","v":1233014},{"$f":"IF(語言配置表!A1605=\"\",\"CN_待填充内容\",語言配置表!B1605)","v":"木灵根+5"}]
[{"$f":"IF(語言配置表!A1606=\"\",\"\",語言配置表!A1606)","v":1233015},{"$f":"IF(語言配置表!A1606=\"\",\"CN_待填充内容\",語言配置表!B1606)","v":"大幅减缓相生法宝充能"}]
[{"$f":"IF(語言配置表!A1607=\"\",\"\",語言配置表!A1607)","v":""},{"$f":"IF(語言配置表!A1607=\"\",\"CN_待填充内容\",語言配置表!B1607)","v":"CN_待填充内容"}]
[{"$f":"IF(語言配置表!A1608=\"\",\"\",語言配置表!A1608)","v":""},{"$f":"IF(語言配置表!A1608=\"\",\"CN_待填充内容\",語言配置表!B1608)","v":"CN_待填充内容"}]
[{"$f":"IF(語言配置表!A1609=\"\",\"\",語言配置表!A1609)","v":1233021},{"$f":"IF(語言配置表!A1609=\"\",\"CN_待填充内容\",語言配置表!B1609)","v":"持续时间提升1秒"}]
[{"$f":"IF(語言配置表!A1610=\"\",\"\",語言配置表!A1610)","v":1233022},{"$f":"IF(語言配置表!A1610=\"\",\"CN_待填充内容\",語言配置表!B1610)","v":"持续时间提升1秒"}]
[{"$f":"IF(語言配置表!A1611=\"\",\"\",語言配置表!A1611)","v":1233023},{"$f":"IF(語言配置表!A1611=\"\",\"CN_待填充内容\",語言配置表!B1611)","v":"持续时间提升1秒"}]
[{"$f":"IF(語言配置表!A1612=\"\",\"\",語言配置表!A1612)","v":1233024},{"$f":"IF(語言配置表!A1612=\"\",\"CN_待填充内容\",語言配置表!B1612)","v":"持续时间提升1秒"}]
[{"$f":"IF(語言配置表!A1613=\"\",\"\",語言配置表!A1613)","v":1233025},{"$f":"IF(語言配置表!A1613=\"\",\"CN_待填充内容\",語言配置表!B1613)","v":"持续时间提升1秒"}]
[{"$f":"IF(語言配置表!A1614=\"\",\"\",語言配置表!A1614)","v":""},{"$f":"IF(語言配置表!A1614=\"\",\"CN_待填充内容\",語言配置表!B1614)","v":"CN_待填充内容"}]
[{"$f":"IF(語言配置表!A1615=\"\",\"\",語言配置表!A1615)","v":""},{"$f":"IF(語言配置表!A1615=\"\",\"CN_待填充内容\",語言配置表!B1615)","v":"CN_待填充内容"}]
[{"$f":"IF(語言配置表!A1616=\"\",\"\",語言配置表!A1616)","v":1234011},{"$f":"IF(語言配置表!A1616=\"\",\"CN_待填充内容\",語言配置表!B1616)","v":"火灵根+5"}]
[{"$f":"IF(語言配置表!A1617=\"\",\"\",語言配置表!A1617)","v":1234012},{"$f":"IF(語言配置表!A1617=\"\",\"CN_待填充内容\",語言配置表!B1617)","v":"增加吸收几率"}]
[{"$f":"IF(語言配置表!A1618=\"\",\"\",語言配置表!A1618)","v":1234013},{"$f":"IF(語言配置表!A1618=\"\",\"CN_待填充内容\",語言配置表!B1618)","v":"人物攻击永久+5%"}]
[{"$f":"IF(語言配置表!A1619=\"\",\"\",語言配置表!A1619)","v":1234014},{"$f":"IF(語言配置表!A1619=\"\",\"CN_待填充内容\",語言配置表!B1619)","v":"火灵根+5"}]
[{"$f":"IF(語言配置表!A1620=\"\",\"\",語言配置表!A1620)","v":1234015},{"$f":"IF(語言配置表!A1620=\"\",\"CN_待填充内容\",語言配置表!B1620)","v":"完全吸收，临时加灵根"}]
[{"$f":"IF(語言配置表!A1621=\"\",\"\",語言配置表!A1621)","v":""},{"$f":"IF(語言配置表!A1621=\"\",\"CN_待填充内容\",語言配置表!B1621)","v":"CN_待填充内容"}]
[{"$f":"IF(語言配置表!A1622=\"\",\"\",語言配置表!A1622)","v":""},{"$f":"IF(語言配置表!A1622=\"\",\"CN_待填充内容\",語言配置表!B1622)","v":"CN_待填充内容"}]
[{"$f":"IF(語言配置表!A1623=\"\",\"\",語言配置表!A1623)","v":1234021},{"$f":"IF(語言配置表!A1623=\"\",\"CN_待填充内容\",語言配置表!B1623)","v":"打断增强，避免对拼"}]
[{"$f":"IF(語言配置表!A1624=\"\",\"\",語言配置表!A1624)","v":1234022},{"$f":"IF(語言配置表!A1624=\"\",\"CN_待填充内容\",語言配置表!B1624)","v":"火灵根+5"}]
[{"$f":"IF(語言配置表!A1625=\"\",\"\",語言配置表!A1625)","v":1234023},{"$f":"IF(語言配置表!A1625=\"\",\"CN_待填充内容\",語言配置表!B1625)","v":"人物攻击永久+5%"}]
[{"$f":"IF(語言配置表!A1626=\"\",\"\",語言配置表!A1626)","v":1234024},{"$f":"IF(語言配置表!A1626=\"\",\"CN_待填充内容\",語言配置表!B1626)","v":"火灵根+5"}]
[{"$f":"IF(語言配置表!A1627=\"\",\"\",語言配置表!A1627)","v":1234025},{"$f":"IF(語言配置表!A1627=\"\",\"CN_待填充内容\",語言配置表!B1627)","v":"成功打断后加速冷却"}]
[{"$f":"IF(語言配置表!A1628=\"\",\"\",語言配置表!A1628)","v":""},{"$f":"IF(語言配置表!A1628=\"\",\"CN_待填充内容\",語言配置表!B1628)","v":"CN_待填充内容"}]
[{"$f":"IF(語言配置表!A1629=\"\",\"\",語言配置表!A1629)","v":""},{"$f":"IF(語言配置表!A1629=\"\",\"CN_待填充内容\",語言配置表!B1629)","v":"CN_待填充内容"}]
[{"$f":"IF(語言配置表!A1630=\"\",\"\",語言配置表!A1630)","v":1235011},{"$f":"IF(語言配置表!A1630=\"\",\"CN_待填充内容\",語言配置表!B1630)","v":"盾强度提升"}]
[{"$f":"IF(語言配置表!A1631=\"\",\"\",語言配置表!A1631)","v":1235012},{"$f":"IF(語言配置表!A1631=\"\",\"CN_待填充内容\",語言配置表!B1631)","v":"土灵根+5"}]
[{"$f":"IF(語言配置表!A1632=\"\",\"\",語言配置表!A1632)","v":1235013},{"$f":"IF(語言配置表!A1632=\"\",\"CN_待填充内容\",語言配置表!B1632)","v":"盾强度提升"}]
[{"$f":"IF(語言配置表!A1633=\"\",\"\",語言配置表!A1633)","v":1235014},{"$f":"IF(語言配置表!A1633=\"\",\"CN_待填充内容\",語言配置表!B1633)","v":"土灵根+5"}]
[{"$f":"IF(語言配置表!A1634=\"\",\"\",語言配置表!A1634)","v":1235015},{"$f":"IF(語言配置表!A1634=\"\",\"CN_待填充内容\",語言配置表!B1634)","v":"盾强度提升"}]
[{"$f":"IF(語言配置表!A1635=\"\",\"\",語言配置表!A1635)","v":""},{"$f":"IF(語言配置表!A1635=\"\",\"CN_待填充内容\",語言配置表!B1635)","v":"CN_待填充内容"}]
[{"$f":"IF(語言配置表!A1636=\"\",\"\",語言配置表!A1636)","v":""},{"$f":"IF(語言配置表!A1636=\"\",\"CN_待填充内容\",語言配置表!B1636)","v":"CN_待填充内容"}]
[{"$f":"IF(語言配置表!A1637=\"\",\"\",語言配置表!A1637)","v":1235021},{"$f":"IF(語言配置表!A1637=\"\",\"CN_待填充内容\",語言配置表!B1637)","v":""}]
[{"$f":"IF(語言配置表!A1638=\"\",\"\",語言配置表!A1638)","v":1235022},{"$f":"IF(語言配置表!A1638=\"\",\"CN_待填充内容\",語言配置表!B1638)","v":""}]
[{"$f":"IF(語言配置表!A1639=\"\",\"\",語言配置表!A1639)","v":1235023},{"$f":"IF(語言配置表!A1639=\"\",\"CN_待填充内容\",語言配置表!B1639)","v":""}]
[{"$f":"IF(語言配置表!A1640=\"\",\"\",語言配置表!A1640)","v":1235024},{"$f":"IF(語言配置表!A1640=\"\",\"CN_待填充内容\",語言配置表!B1640)","v":""}]
[{"$f":"IF(語言配置表!A1641=\"\",\"\",語言配置表!A1641)","v":1235025},{"$f":"IF(語言配置表!A1641=\"\",\"CN_待填充内容\",語言配置表!B1641)","v":""}]
[{"$f":"IF(語言配置表!A1642=\"\",\"\",語言配置表!A1642)","v":""},{"$f":"IF(語言配置表!A1642=\"\",\"CN_待填充内容\",語言配置表!B1642)","v":"CN_待填充内容"}]
[{"$f":"IF(語言配置表!A1643=\"\",\"\",語言配置表!A1643)","v":""},{"$f":"IF(語言配置表!A1643=\"\",\"CN_待填充内容\",語言配置表!B1643)","v":"CN_待填充内容"}]
[{"$f":"IF(語言配置表!A1644=\"\",\"\",語言配置表!A1644)","v":""},{"$f":"IF(語言配置表!A1644=\"\",\"CN_待填充内容\",語言配置表!B1644)","v":"CN_待填充内容"}]
[{"$f":"IF(語言配置表!A1645=\"\",\"\",語言配置表!A1645)","v":""},{"$f":"IF(語言配置表!A1645=\"\",\"CN_待填充内容\",語言配置表!B1645)","v":"CN_待填充内容"}]
[{"$f":"IF(語言配置表!A1646=\"\",\"\",語言配置表!A1646)","v":""},{"$f":"IF(語言配置表!A1646=\"\",\"CN_待填充内容\",語言配置表!B1646)","v":"CN_待填充内容"}]
[{"$f":"IF(語言配置表!A1647=\"\",\"\",語言配置表!A1647)","v":""},{"$f":"IF(語言配置表!A1647=\"\",\"CN_待填充内容\",語言配置表!B1647)","v":"CN_待填充内容"}]
[{"$f":"IF(語言配置表!A1648=\"\",\"\",語言配置表!A1648)","v":""},{"$f":"IF(語言配置表!A1648=\"\",\"CN_待填充内容\",語言配置表!B1648)","v":"CN_待填充内容"}]
[{"$f":"IF(語言配置表!A1649=\"\",\"\",語言配置表!A1649)","v":""},{"$f":"IF(語言配置表!A1649=\"\",\"CN_待填充内容\",語言配置表!B1649)","v":"CN_待填充内容"}]
[{"$f":"IF(語言配置表!A1650=\"\",\"\",語言配置表!A1650)","v":""},{"$f":"IF(語言配置表!A1650=\"\",\"CN_待填充内容\",語言配置表!B1650)","v":"CN_待填充内容"}]
[{"$f":"IF(語言配置表!A1651=\"\",\"\",語言配置表!A1651)","v":""},{"$f":"IF(語言配置表!A1651=\"\",\"CN_待填充内容\",語言配置表!B1651)","v":"CN_待填充内容"}]
[{"$f":"IF(語言配置表!A1652=\"\",\"\",語言配置表!A1652)","v":""},{"$f":"IF(語言配置表!A1652=\"\",\"CN_待填充内容\",語言配置表!B1652)","v":"CN_待填充内容"}]
[{"$f":"IF(語言配置表!A1653=\"\",\"\",語言配置表!A1653)","v":""},{"$f":"IF(語言配置表!A1653=\"\",\"CN_待填充内容\",語言配置表!B1653)","v":"CN_待填充内容"}]
[{"$f":"IF(語言配置表!A1654=\"\",\"\",語言配置表!A1654)","v":""},{"$f":"IF(語言配置表!A1654=\"\",\"CN_待填充内容\",語言配置表!B1654)","v":"CN_待填充内容"}]
[{"$f":"IF(語言配置表!A1655=\"\",\"\",語言配置表!A1655)","v":""},{"$f":"IF(語言配置表!A1655=\"\",\"CN_待填充内容\",語言配置表!B1655)","v":"CN_待填充内容"}]
[{"$f":"IF(語言配置表!A1656=\"\",\"\",語言配置表!A1656)","v":""},{"$f":"IF(語言配置表!A1656=\"\",\"CN_待填充内容\",語言配置表!B1656)","v":"CN_待填充内容"}]
[{"$f":"IF(語言配置表!A1657=\"\",\"\",語言配置表!A1657)","v":""},{"$f":"IF(語言配置表!A1657=\"\",\"CN_待填充内容\",語言配置表!B1657)","v":"CN_待填充内容"}]
[{"$f":"IF(語言配置表!A1658=\"\",\"\",語言配置表!A1658)","v":""},{"$f":"IF(語言配置表!A1658=\"\",\"CN_待填充内容\",語言配置表!B1658)","v":"CN_待填充内容"}]
[{"$f":"IF(語言配置表!A1659=\"\",\"\",語言配置表!A1659)","v":""},{"$f":"IF(語言配置表!A1659=\"\",\"CN_待填充内容\",語言配置表!B1659)","v":"CN_待填充内容"}]
[{"$f":"IF(語言配置表!A1660=\"\",\"\",語言配置表!A1660)","v":""},{"$f":"IF(語言配置表!A1660=\"\",\"CN_待填充内容\",語言配置表!B1660)","v":"CN_待填充内容"}]
[{"$f":"IF(語言配置表!A1661=\"\",\"\",語言配置表!A1661)","v":""},{"$f":"IF(語言配置表!A1661=\"\",\"CN_待填充内容\",語言配置表!B1661)","v":"CN_待填充内容"}]
[{"$f":"IF(語言配置表!A1662=\"\",\"\",語言配置表!A1662)","v":""},{"$f":"IF(語言配置表!A1662=\"\",\"CN_待填充内容\",語言配置表!B1662)","v":"CN_待填充内容"}]
[{"$f":"IF(語言配置表!A1663=\"\",\"\",語言配置表!A1663)","v":""},{"$f":"IF(語言配置表!A1663=\"\",\"CN_待填充内容\",語言配置表!B1663)","v":"CN_待填充内容"}]
[{"$f":"IF(語言配置表!A1664=\"\",\"\",語言配置表!A1664)","v":""},{"$f":"IF(語言配置表!A1664=\"\",\"CN_待填充内容\",語言配置表!B1664)","v":"CN_待填充内容"}]
[{"$f":"IF(語言配置表!A1665=\"\",\"\",語言配置表!A1665)","v":""},{"$f":"IF(語言配置表!A1665=\"\",\"CN_待填充内容\",語言配置表!B1665)","v":"CN_待填充内容"}]
[{"$f":"IF(語言配置表!A1666=\"\",\"\",語言配置表!A1666)","v":""},{"$f":"IF(語言配置表!A1666=\"\",\"CN_待填充内容\",語言配置表!B1666)","v":"CN_待填充内容"}]
[{"$f":"IF(語言配置表!A1667=\"\",\"\",語言配置表!A1667)","v":""},{"$f":"IF(語言配置表!A1667=\"\",\"CN_待填充内容\",語言配置表!B1667)","v":"CN_待填充内容"}]
[{"$f":"IF(語言配置表!A1668=\"\",\"\",語言配置表!A1668)","v":""},{"$f":"IF(語言配置表!A1668=\"\",\"CN_待填充内容\",語言配置表!B1668)","v":"CN_待填充内容"}]
[{"$f":"IF(語言配置表!A1669=\"\",\"\",語言配置表!A1669)","v":""},{"$f":"IF(語言配置表!A1669=\"\",\"CN_待填充内容\",語言配置表!B1669)","v":"CN_待填充内容"}]
[{"$f":"IF(語言配置表!A1670=\"\",\"\",語言配置表!A1670)","v":""},{"$f":"IF(語言配置表!A1670=\"\",\"CN_待填充内容\",語言配置表!B1670)","v":"CN_待填充内容"}]
[{"$f":"IF(語言配置表!A1671=\"\",\"\",語言配置表!A1671)","v":""},{"$f":"IF(語言配置表!A1671=\"\",\"CN_待填充内容\",語言配置表!B1671)","v":"CN_待填充内容"}]
[{"$f":"IF(語言配置表!A1672=\"\",\"\",語言配置表!A1672)","v":""},{"$f":"IF(語言配置表!A1672=\"\",\"CN_待填充内容\",語言配置表!B1672)","v":"CN_待填充内容"}]
[{"$f":"IF(語言配置表!A1673=\"\",\"\",語言配置表!A1673)","v":""},{"$f":"IF(語言配置表!A1673=\"\",\"CN_待填充内容\",語言配置表!B1673)","v":"CN_待填充内容"}]
[{"$f":"IF(語言配置表!A1674=\"\",\"\",語言配置表!A1674)","v":""},{"$f":"IF(語言配置表!A1674=\"\",\"CN_待填充内容\",語言配置表!B1674)","v":"CN_待填充内容"}]
[{"$f":"IF(語言配置表!A1675=\"\",\"\",語言配置表!A1675)","v":""},{"$f":"IF(語言配置表!A1675=\"\",\"CN_待填充内容\",語言配置表!B1675)","v":"CN_待填充内容"}]
[{"$f":"IF(語言配置表!A1676=\"\",\"\",語言配置表!A1676)","v":""},{"$f":"IF(語言配置表!A1676=\"\",\"CN_待填充内容\",語言配置表!B1676)","v":"CN_待填充内容"}]
[{"$f":"IF(語言配置表!A1677=\"\",\"\",語言配置表!A1677)","v":""},{"$f":"IF(語言配置表!A1677=\"\",\"CN_待填充内容\",語言配置表!B1677)","v":"CN_待填充内容"}]
[{"$f":"IF(語言配置表!A1678=\"\",\"\",語言配置表!A1678)","v":""},{"$f":"IF(語言配置表!A1678=\"\",\"CN_待填充内容\",語言配置表!B1678)","v":"CN_待填充内容"}]
[{"$f":"IF(語言配置表!A1679=\"\",\"\",語言配置表!A1679)","v":""},{"$f":"IF(語言配置表!A1679=\"\",\"CN_待填充内容\",語言配置表!B1679)","v":"CN_待填充内容"}]
[{"$f":"IF(語言配置表!A1680=\"\",\"\",語言配置表!A1680)","v":""},{"$f":"IF(語言配置表!A1680=\"\",\"CN_待填充内容\",語言配置表!B1680)","v":"CN_待填充内容"}]
[{"$f":"IF(語言配置表!A1681=\"\",\"\",語言配置表!A1681)","v":""},{"$f":"IF(語言配置表!A1681=\"\",\"CN_待填充内容\",語言配置表!B1681)","v":"CN_待填充内容"}]
[{"$f":"IF(語言配置表!A1682=\"\",\"\",語言配置表!A1682)","v":""},{"$f":"IF(語言配置表!A1682=\"\",\"CN_待填充内容\",語言配置表!B1682)","v":"CN_待填充内容"}]
[{"$f":"IF(語言配置表!A1683=\"\",\"\",語言配置表!A1683)","v":""},{"$f":"IF(語言配置表!A1683=\"\",\"CN_待填充内容\",語言配置表!B1683)","v":"CN_待填充内容"}]
[{"$f":"IF(語言配置表!A1684=\"\",\"\",語言配置表!A1684)","v":""},{"$f":"IF(語言配置表!A1684=\"\",\"CN_待填充内容\",語言配置表!B1684)","v":"CN_待填充内容"}]
[{"$f":"IF(語言配置表!A1685=\"\",\"\",語言配置表!A1685)","v":""},{"$f":"IF(語言配置表!A1685=\"\",\"CN_待填充内容\",語言配置表!B1685)","v":"CN_待填充内容"}]
[{"$f":"IF(語言配置表!A1686=\"\",\"\",語言配置表!A1686)","v":""},{"$f":"IF(語言配置表!A1686=\"\",\"CN_待填充内容\",語言配置表!B1686)","v":"CN_待填充内容"}]
[{"$f":"IF(語言配置表!A1687=\"\",\"\",語言配置表!A1687)","v":""},{"$f":"IF(語言配置表!A1687=\"\",\"CN_待填充内容\",語言配置表!B1687)","v":"CN_待填充内容"}]
[{"$f":"IF(語言配置表!A1688=\"\",\"\",語言配置表!A1688)","v":""},{"$f":"IF(語言配置表!A1688=\"\",\"CN_待填充内容\",語言配置表!B1688)","v":"CN_待填充内容"}]
[{"$f":"IF(語言配置表!A1689=\"\",\"\",語言配置表!A1689)","v":""},{"$f":"IF(語言配置表!A1689=\"\",\"CN_待填充内容\",語言配置表!B1689)","v":"CN_待填充内容"}]
[{"$f":"IF(語言配置表!A1690=\"\",\"\",語言配置表!A1690)","v":""},{"$f":"IF(語言配置表!A1690=\"\",\"CN_待填充内容\",語言配置表!B1690)","v":"CN_待填充内容"}]
[{"$f":"IF(語言配置表!A1691=\"\",\"\",語言配置表!A1691)","v":""},{"$f":"IF(語言配置表!A1691=\"\",\"CN_待填充内容\",語言配置表!B1691)","v":"CN_待填充内容"}]
[{"$f":"IF(語言配置表!A1692=\"\",\"\",語言配置表!A1692)","v":""},{"$f":"IF(語言配置表!A1692=\"\",\"CN_待填充内容\",語言配置表!B1692)","v":"CN_待填充内容"}]
[{"$f":"IF(語言配置表!A1693=\"\",\"\",語言配置表!A1693)","v":""},{"$f":"IF(語言配置表!A1693=\"\",\"CN_待填充内容\",語言配置表!B1693)","v":"CN_待填充内容"}]
[{"$f":"IF(語言配置表!A1694=\"\",\"\",語言配置表!A1694)","v":""},{"$f":"IF(語言配置表!A1694=\"\",\"CN_待填充内容\",語言配置表!B1694)","v":"CN_待填充内容"}]
[{"$f":"IF(語言配置表!A1695=\"\",\"\",語言配置表!A1695)","v":""},{"$f":"IF(語言配置表!A1695=\"\",\"CN_待填充内容\",語言配置表!B1695)","v":"CN_待填充内容"}]
[{"$f":"IF(語言配置表!A1696=\"\",\"\",語言配置表!A1696)","v":""},{"$f":"IF(語言配置表!A1696=\"\",\"CN_待填充内容\",語言配置表!B1696)","v":"CN_待填充内容"}]
[{"$f":"IF(語言配置表!A1697=\"\",\"\",語言配置表!A1697)","v":""},{"$f":"IF(語言配置表!A1697=\"\",\"CN_待填充内容\",語言配置表!B1697)","v":"CN_待填充内容"}]
[{"$f":"IF(語言配置表!A1698=\"\",\"\",語言配置表!A1698)","v":""},{"$f":"IF(語言配置表!A1698=\"\",\"CN_待填充内容\",語言配置表!B1698)","v":"CN_待填充内容"}]
[{"$f":"IF(語言配置表!A1699=\"\",\"\",語言配置表!A1699)","v":""},{"$f":"IF(語言配置表!A1699=\"\",\"CN_待填充内容\",語言配置表!B1699)","v":"CN_待填充内容"}]
[{"$f":"IF(語言配置表!A1700=\"\",\"\",語言配置表!A1700)","v":""},{"$f":"IF(語言配置表!A1700=\"\",\"CN_待填充内容\",語言配置表!B1700)","v":"CN_待填充内容"}]
[{"$f":"IF(語言配置表!A1701=\"\",\"\",語言配置表!A1701)","v":""},{"$f":"IF(語言配置表!A1701=\"\",\"CN_待填充内容\",語言配置表!B1701)","v":"CN_待填充内容"}]
[{"$f":"IF(語言配置表!A1702=\"\",\"\",語言配置表!A1702)","v":""},{"$f":"IF(語言配置表!A1702=\"\",\"CN_待填充内容\",語言配置表!B1702)","v":"CN_待填充内容"}]
[{"$f":"IF(語言配置表!A1703=\"\",\"\",語言配置表!A1703)","v":""},{"$f":"IF(語言配置表!A1703=\"\",\"CN_待填充内容\",語言配置表!B1703)","v":"CN_待填充内容"}]
[{"$f":"IF(語言配置表!A1704=\"\",\"\",語言配置表!A1704)","v":""},{"$f":"IF(語言配置表!A1704=\"\",\"CN_待填充内容\",語言配置表!B1704)","v":"CN_待填充内容"}]
[{"$f":"IF(語言配置表!A1705=\"\",\"\",語言配置表!A1705)","v":""},{"$f":"IF(語言配置表!A1705=\"\",\"CN_待填充内容\",語言配置表!B1705)","v":"CN_待填充内容"}]
[{"$f":"IF(語言配置表!A1706=\"\",\"\",語言配置表!A1706)","v":""},{"$f":"IF(語言配置表!A1706=\"\",\"CN_待填充内容\",語言配置表!B1706)","v":"CN_待填充内容"}]
[{"$f":"IF(語言配置表!A1707=\"\",\"\",語言配置表!A1707)","v":""},{"$f":"IF(語言配置表!A1707=\"\",\"CN_待填充内容\",語言配置表!B1707)","v":"CN_待填充内容"}]
[{"$f":"IF(語言配置表!A1708=\"\",\"\",語言配置表!A1708)","v":""},{"$f":"IF(語言配置表!A1708=\"\",\"CN_待填充内容\",語言配置表!B1708)","v":"CN_待填充内容"}]
[{"$f":"IF(語言配置表!A1709=\"\",\"\",語言配置表!A1709)","v":""},{"$f":"IF(語言配置表!A1709=\"\",\"CN_待填充内容\",語言配置表!B1709)","v":"CN_待填充内容"}]
[{"$f":"IF(語言配置表!A1710=\"\",\"\",語言配置表!A1710)","v":""},{"$f":"IF(語言配置表!A1710=\"\",\"CN_待填充内容\",語言配置表!B1710)","v":"CN_待填充内容"}]
[{"$f":"IF(語言配置表!A1711=\"\",\"\",語言配置表!A1711)","v":""},{"$f":"IF(語言配置表!A1711=\"\",\"CN_待填充内容\",語言配置表!B1711)","v":"CN_待填充内容"}]
[{"$f":"IF(語言配置表!A1712=\"\",\"\",語言配置表!A1712)","v":""},{"$f":"IF(語言配置表!A1712=\"\",\"CN_待填充内容\",語言配置表!B1712)","v":"CN_待填充内容"}]
[{"$f":"IF(語言配置表!A1713=\"\",\"\",語言配置表!A1713)","v":""},{"$f":"IF(語言配置表!A1713=\"\",\"CN_待填充内容\",語言配置表!B1713)","v":"CN_待填充内容"}]
[{"$f":"IF(語言配置表!A1714=\"\",\"\",語言配置表!A1714)","v":""},{"$f":"IF(語言配置表!A1714=\"\",\"CN_待填充内容\",語言配置表!B1714)","v":"CN_待填充内容"}]
[{"$f":"IF(語言配置表!A1715=\"\",\"\",語言配置表!A1715)","v":""},{"$f":"IF(語言配置表!A1715=\"\",\"CN_待填充内容\",語言配置表!B1715)","v":"CN_待填充内容"}]
[{"$f":"IF(語言配置表!A1716=\"\",\"\",語言配置表!A1716)","v":""},{"$f":"IF(語言配置表!A1716=\"\",\"CN_待填充内容\",語言配置表!B1716)","v":"CN_待填充内容"}]
[{"$f":"IF(語言配置表!A1717=\"\",\"\",語言配置表!A1717)","v":""},{"$f":"IF(語言配置表!A1717=\"\",\"CN_待填充内容\",語言配置表!B1717)","v":"CN_待填充内容"}]
[{"$f":"IF(語言配置表!A1718=\"\",\"\",語言配置表!A1718)","v":""},{"$f":"IF(語言配置表!A1718=\"\",\"CN_待填充内容\",語言配置表!B1718)","v":"CN_待填充内容"}]
[{"$f":"IF(語言配置表!A1719=\"\",\"\",語言配置表!A1719)","v":""},{"$f":"IF(語言配置表!A1719=\"\",\"CN_待填充内容\",語言配置表!B1719)","v":"CN_待填充内容"}]
[{"$f":"IF(語言配置表!A1720=\"\",\"\",語言配置表!A1720)","v":""},{"$f":"IF(語言配置表!A1720=\"\",\"CN_待填充内容\",語言配置表!B1720)","v":"CN_待填充内容"}]
[{"$f":"IF(語言配置表!A1721=\"\",\"\",語言配置表!A1721)","v":""},{"$f":"IF(語言配置表!A1721=\"\",\"CN_待填充内容\",語言配置表!B1721)","v":"CN_待填充内容"}]
[{"$f":"IF(語言配置表!A1722=\"\",\"\",語言配置表!A1722)","v":""},{"$f":"IF(語言配置表!A1722=\"\",\"CN_待填充内容\",語言配置表!B1722)","v":"CN_待填充内容"}]
[{"$f":"IF(語言配置表!A1723=\"\",\"\",語言配置表!A1723)","v":""},{"$f":"IF(語言配置表!A1723=\"\",\"CN_待填充内容\",語言配置表!B1723)","v":"CN_待填充内容"}]
[{"$f":"IF(語言配置表!A1724=\"\",\"\",語言配置表!A1724)","v":""},{"$f":"IF(語言配置表!A1724=\"\",\"CN_待填充内容\",語言配置表!B1724)","v":"CN_待填充内容"}]
[{"$f":"IF(語言配置表!A1725=\"\",\"\",語言配置表!A1725)","v":""},{"$f":"IF(語言配置表!A1725=\"\",\"CN_待填充内容\",語言配置表!B1725)","v":"CN_待填充内容"}]
[{"$f":"IF(語言配置表!A1726=\"\",\"\",語言配置表!A1726)","v":""},{"$f":"IF(語言配置表!A1726=\"\",\"CN_待填充内容\",語言配置表!B1726)","v":"CN_待填充内容"}]
[{"$f":"IF(語言配置表!A1727=\"\",\"\",語言配置表!A1727)","v":""},{"$f":"IF(語言配置表!A1727=\"\",\"CN_待填充内容\",語言配置表!B1727)","v":"CN_待填充内容"}]
[{"$f":"IF(語言配置表!A1728=\"\",\"\",語言配置表!A1728)","v":""},{"$f":"IF(語言配置表!A1728=\"\",\"CN_待填充内容\",語言配置表!B1728)","v":"CN_待填充内容"}]
[{"$f":"IF(語言配置表!A1729=\"\",\"\",語言配置表!A1729)","v":""},{"$f":"IF(語言配置表!A1729=\"\",\"CN_待填充内容\",語言配置表!B1729)","v":"CN_待填充内容"}]
[{"$f":"IF(語言配置表!A1730=\"\",\"\",語言配置表!A1730)","v":""},{"$f":"IF(語言配置表!A1730=\"\",\"CN_待填充内容\",語言配置表!B1730)","v":"CN_待填充内容"}]
[{"$f":"IF(語言配置表!A1731=\"\",\"\",語言配置表!A1731)","v":""},{"$f":"IF(語言配置表!A1731=\"\",\"CN_待填充内容\",語言配置表!B1731)","v":"CN_待填充内容"}]
[{"$f":"IF(語言配置表!A1732=\"\",\"\",語言配置表!A1732)","v":""},{"$f":"IF(語言配置表!A1732=\"\",\"CN_待填充内容\",語言配置表!B1732)","v":"CN_待填充内容"}]
[{"$f":"IF(語言配置表!A1733=\"\",\"\",語言配置表!A1733)","v":""},{"$f":"IF(語言配置表!A1733=\"\",\"CN_待填充内容\",語言配置表!B1733)","v":"CN_待填充内容"}]
[{"$f":"IF(語言配置表!A1734=\"\",\"\",語言配置表!A1734)","v":""},{"$f":"IF(語言配置表!A1734=\"\",\"CN_待填充内容\",語言配置表!B1734)","v":"CN_待填充内容"}]
[{"$f":"IF(語言配置表!A1735=\"\",\"\",語言配置表!A1735)","v":""},{"$f":"IF(語言配置表!A1735=\"\",\"CN_待填充内容\",語言配置表!B1735)","v":"CN_待填充内容"}]
[{"$f":"IF(語言配置表!A1736=\"\",\"\",語言配置表!A1736)","v":""},{"$f":"IF(語言配置表!A1736=\"\",\"CN_待填充内容\",語言配置表!B1736)","v":"CN_待填充内容"}]
[{"$f":"IF(語言配置表!A1737=\"\",\"\",語言配置表!A1737)","v":""},{"$f":"IF(語言配置表!A1737=\"\",\"CN_待填充内容\",語言配置表!B1737)","v":"CN_待填充内容"}]
[{"$f":"IF(語言配置表!A1738=\"\",\"\",語言配置表!A1738)","v":""},{"$f":"IF(語言配置表!A1738=\"\",\"CN_待填充内容\",語言配置表!B1738)","v":"CN_待填充内容"}]
[{"$f":"IF(語言配置表!A1739=\"\",\"\",語言配置表!A1739)","v":""},{"$f":"IF(語言配置表!A1739=\"\",\"CN_待填充内容\",語言配置表!B1739)","v":"CN_待填充内容"}]
[{"$f":"IF(語言配置表!A1740=\"\",\"\",語言配置表!A1740)","v":""},{"$f":"IF(語言配置表!A1740=\"\",\"CN_待填充内容\",語言配置表!B1740)","v":"CN_待填充内容"}]
[{"$f":"IF(語言配置表!A1741=\"\",\"\",語言配置表!A1741)","v":""},{"$f":"IF(語言配置表!A1741=\"\",\"CN_待填充内容\",語言配置表!B1741)","v":"CN_待填充内容"}]
[{"$f":"IF(語言配置表!A1742=\"\",\"\",語言配置表!A1742)","v":""},{"$f":"IF(語言配置表!A1742=\"\",\"CN_待填充内容\",語言配置表!B1742)","v":"CN_待填充内容"}]
[{"$f":"IF(語言配置表!A1743=\"\",\"\",語言配置表!A1743)","v":""},{"$f":"IF(語言配置表!A1743=\"\",\"CN_待填充内容\",語言配置表!B1743)","v":"CN_待填充内容"}]
[{"$f":"IF(語言配置表!A1744=\"\",\"\",語言配置表!A1744)","v":""},{"$f":"IF(語言配置表!A1744=\"\",\"CN_待填充内容\",語言配置表!B1744)","v":"CN_待填充内容"}]
[{"$f":"IF(語言配置表!A1745=\"\",\"\",語言配置表!A1745)","v":""},{"$f":"IF(語言配置表!A1745=\"\",\"CN_待填充内容\",語言配置表!B1745)","v":"CN_待填充内容"}]
[{"$f":"IF(語言配置表!A1746=\"\",\"\",語言配置表!A1746)","v":""},{"$f":"IF(語言配置表!A1746=\"\",\"CN_待填充内容\",語言配置表!B1746)","v":"CN_待填充内容"}]
[{"$f":"IF(語言配置表!A1747=\"\",\"\",語言配置表!A1747)","v":""},{"$f":"IF(語言配置表!A1747=\"\",\"CN_待填充内容\",語言配置表!B1747)","v":"CN_待填充内容"}]
[{"$f":"IF(語言配置表!A1748=\"\",\"\",語言配置表!A1748)","v":""},{"$f":"IF(語言配置表!A1748=\"\",\"CN_待填充内容\",語言配置表!B1748)","v":"CN_待填充内容"}]
[{"$f":"IF(語言配置表!A1749=\"\",\"\",語言配置表!A1749)","v":""},{"$f":"IF(語言配置表!A1749=\"\",\"CN_待填充内容\",語言配置表!B1749)","v":"CN_待填充内容"}]
[{"$f":"IF(語言配置表!A1750=\"\",\"\",語言配置表!A1750)","v":""},{"$f":"IF(語言配置表!A1750=\"\",\"CN_待填充内容\",語言配置表!B1750)","v":"CN_待填充内容"}]
[{"$f":"IF(語言配置表!A1751=\"\",\"\",語言配置表!A1751)","v":""},{"$f":"IF(語言配置表!A1751=\"\",\"CN_待填充内容\",語言配置表!B1751)","v":"CN_待填充内容"}]
[{"$f":"IF(語言配置表!A1752=\"\",\"\",語言配置表!A1752)","v":""},{"$f":"IF(語言配置表!A1752=\"\",\"CN_待填充内容\",語言配置表!B1752)","v":"CN_待填充内容"}]
[{"$f":"IF(語言配置表!A1753=\"\",\"\",語言配置表!A1753)","v":""},{"$f":"IF(語言配置表!A1753=\"\",\"CN_待填充内容\",語言配置表!B1753)","v":"CN_待填充内容"}]
[{"$f":"IF(語言配置表!A1754=\"\",\"\",語言配置表!A1754)","v":""},{"$f":"IF(語言配置表!A1754=\"\",\"CN_待填充内容\",語言配置表!B1754)","v":"CN_待填充内容"}]
[{"$f":"IF(語言配置表!A1755=\"\",\"\",語言配置表!A1755)","v":""},{"$f":"IF(語言配置表!A1755=\"\",\"CN_待填充内容\",語言配置表!B1755)","v":"CN_待填充内容"}]
[{"$f":"IF(語言配置表!A1756=\"\",\"\",語言配置表!A1756)","v":""},{"$f":"IF(語言配置表!A1756=\"\",\"CN_待填充内容\",語言配置表!B1756)","v":"CN_待填充内容"}]
[{"$f":"IF(語言配置表!A1757=\"\",\"\",語言配置表!A1757)","v":""},{"$f":"IF(語言配置表!A1757=\"\",\"CN_待填充内容\",語言配置表!B1757)","v":"CN_待填充内容"}]
[{"$f":"IF(語言配置表!A1758=\"\",\"\",語言配置表!A1758)","v":""},{"$f":"IF(語言配置表!A1758=\"\",\"CN_待填充内容\",語言配置表!B1758)","v":"CN_待填充内容"}]
[{"$f":"IF(語言配置表!A1759=\"\",\"\",語言配置表!A1759)","v":""},{"$f":"IF(語言配置表!A1759=\"\",\"CN_待填充内容\",語言配置表!B1759)","v":"CN_待填充内容"}]
[{"$f":"IF(語言配置表!A1760=\"\",\"\",語言配置表!A1760)","v":""},{"$f":"IF(語言配置表!A1760=\"\",\"CN_待填充内容\",語言配置表!B1760)","v":"CN_待填充内容"}]
[{"$f":"IF(語言配置表!A1761=\"\",\"\",語言配置表!A1761)","v":""},{"$f":"IF(語言配置表!A1761=\"\",\"CN_待填充内容\",語言配置表!B1761)","v":"CN_待填充内容"}]
[{"$f":"IF(語言配置表!A1762=\"\",\"\",語言配置表!A1762)","v":""},{"$f":"IF(語言配置表!A1762=\"\",\"CN_待填充内容\",語言配置表!B1762)","v":"CN_待填充内容"}]
[{"$f":"IF(語言配置表!A1763=\"\",\"\",語言配置表!A1763)","v":""},{"$f":"IF(語言配置表!A1763=\"\",\"CN_待填充内容\",語言配置表!B1763)","v":"CN_待填充内容"}]
[{"$f":"IF(語言配置表!A1764=\"\",\"\",語言配置表!A1764)","v":""},{"$f":"IF(語言配置表!A1764=\"\",\"CN_待填充内容\",語言配置表!B1764)","v":"CN_待填充内容"}]
[{"$f":"IF(語言配置表!A1765=\"\",\"\",語言配置表!A1765)","v":""},{"$f":"IF(語言配置表!A1765=\"\",\"CN_待填充内容\",語言配置表!B1765)","v":"CN_待填充内容"}]
[{"$f":"IF(語言配置表!A1766=\"\",\"\",語言配置表!A1766)","v":""},{"$f":"IF(語言配置表!A1766=\"\",\"CN_待填充内容\",語言配置表!B1766)","v":"CN_待填充内容"}]
[{"$f":"IF(語言配置表!A1767=\"\",\"\",語言配置表!A1767)","v":""},{"$f":"IF(語言配置表!A1767=\"\",\"CN_待填充内容\",語言配置表!B1767)","v":"CN_待填充内容"}]
[{"$f":"IF(語言配置表!A1768=\"\",\"\",語言配置表!A1768)","v":""},{"$f":"IF(語言配置表!A1768=\"\",\"CN_待填充内容\",語言配置表!B1768)","v":"CN_待填充内容"}]
[{"$f":"IF(語言配置表!A1769=\"\",\"\",語言配置表!A1769)","v":""},{"$f":"IF(語言配置表!A1769=\"\",\"CN_待填充内容\",語言配置表!B1769)","v":"CN_待填充内容"}]
[{"$f":"IF(語言配置表!A1770=\"\",\"\",語言配置表!A1770)","v":""},{"$f":"IF(語言配置表!A1770=\"\",\"CN_待填充内容\",語言配置表!B1770)","v":"CN_待填充内容"}]