{"text_format":"2","workbook":"xlsx","n_sheets":2,"sheets":["HeroPowerUpConfig","HeroQiangDuAddConfig"],"not_rendered":{"charts":0,"images":0,"macros":0,"external_links":5,"defined_names":1,"comments":0,"pivot_tables":0},"unopened":[],"bounds":{"document_bytes":16777216,"sheet_cells":100000,"run_cost":"one","rows_first":2000,"rows_last":500,"rows_between":2000,"halvings":0,"cell_chars":16384,"cell_head_chars":4096},"cells_cut":0,"cells_raw":0,"read":"whole","date_system":"1900"}

{"sheet":"HeroPowerUpConfig","index":0,"n_rows":304,"n_cols":55,"rows_kept":304,"cut":false,"hidden":false,"merged":[]}
["ID","HeroLevel","jingjie1","jingjie2","jingjie3","jingjieLanIDs",{"$nulls":6},"levelUpExp","DujieLevelbattleID","DujieRateviaBattle","DujieMustItemIDs","DujieMustItemValues","DujieItemIDs","DujieItemValues","LeijieDamages","HPFactor","ATKFactor","DEFFactor","HudunFactor","defK","ShenshiMax","AutoXiuwei","FailureExpReduce","MaxActiveGongfaNum","MaxPassiveGongfaNum","MaxFabaoNum",{"$nulls":4},"MPFactor","DaoyouCount"]
["int","int","int","int","int","int[]",{"$nulls":6},"int","int","int","int[]","int[]","int[]","int[]","int[]","float","float","float","float","int","int","float","int","int","int","int",{"$nulls":4},"float","int"]
[{"$nulls":31},{"$f":"SUM(AF5:AF304)","v":1229974},{"$f":"AF3/60","v":20499.566666666666},{"$f":"AG3/60","v":341.65944444444443},{"$f":"AH3/12","v":28.471620370370371}]
["ID","玩家修为境界（等级）","大境界ID","中境界ID","小境界ID","境界语言表ID","境界名称1","境界名称2","境界名称3",null,null,null,"升级所需修为值\n（-1代表最大等级)","渡劫必须战斗ID","战斗增加渡劫几率","渡劫必需道具ID","渡劫必需道具数量","渡劫选有道具IDs","渡劫选有道具数量","雷劫伤害\n要填下限、上限、表现上几根雷","生命倍率","攻击倍率","防御倍率","护盾倍率","防御系数K","神识上限","每秒获得的修为值","雷劫失败扣除的当前等级修为百分比","主动功法可配置上限","被动功法可配置上限","法宝可配置上限","吐纳时长(s)","分钟","小时","天（每天12小时）","法力倍率","允许出现的最大挂机道友数量",null,"战斗","必须","数量","选有1","数量1","选有2","数量2","选有3","数量3","选有4","数量4","基础概率","概率1","概率2","概率3","概率4","总概率"]
[1,1,1,1,1,{"$f":"_xlfn.TEXTJOIN(\";\",1,J5:L5)","v":"225;235;238"},"练气","前期.","一重",225,235,238,{"$f":"ROUND([1]ResourceLevelConfig!$E5*[1]ResourceLevelConfig!$L5*0.1,0)*10","v":4000},{"$f":"IF(E5=10,100004,-1)","v":-1},{"$f":"IF(N5=-1,-1,20)","v":-1},-1,-1,{"$f":"IF(I5=10,\"1204;1203;1202;1201\",-1)","v":-1},{"$f":"IF(R5=-1,-1,\"1;1;1;1\")","v":-1},{"$f":"IF(G5=G6,0,CONCATENATE(80*ROUND(VLOOKUP(B5,[2]MonsterPowerUpConfig!$A:$I,9,FALSE),0),\";\",120*ROUND(VLOOKUP(B5,[2]MonsterPowerUpConfig!$A:$I,9,FALSE),0)))","v":0},{"$f":"[3]主表!K3","v":5},{"$f":"[3]主表!L3","v":1},{"$f":"[3]主表!M3","v":1},{"$f":"[3]主表!N3","v":0},{"$f":"[3]主表!$G3","v":210},{"$f":"[3]升级!$H3","v":1000},{"$f":"MAX(1,ROUND(100/(24*3600)*VLOOKUP(B5,[1]ResourceLevelConfig!$A:$E,5,FALSE),2))","v":1.1599999999999999},-1,2,1,1,{"$f":"ROUND(10^(B5*0.01+2.07),0)","v":120},null,{"$f":"50*W5","v":50},null,1,1,1]
[2,2,1,1,2,{"$f":"_xlfn.TEXTJOIN(\";\",1,J6:L6)","v":"225;235;239"},"练气","前期.","二重",225,235,239,{"$f":"ROUND([1]ResourceLevelConfig!$E6*[1]ResourceLevelConfig!$L6*0.1,0)*10","v":4140},{"$f":"IF(E6=10,100004,-1)","v":-1},{"$f":"IF(N6=-1,-1,20)","v":-1},-1,-1,{"$f":"IF(I6=10,\"1204;1203;1202;1201\",-1)","v":-1},{"$f":"IF(R6=-1,-1,\"1;1;1;1\")","v":-1},{"$f":"IF(G6=G7,0,CONCATENATE(80*ROUND(VLOOKUP(B6,[2]MonsterPowerUpConfig!$A:$I,9,FALSE),0),\";\",120*ROUND(VLOOKUP(B6,[2]MonsterPowerUpConfig!$A:$I,9,FALSE),0)))","v":0},{"$f":"[3]主表!K4","v":5.4064949968558009},{"$f":"[3]主表!L4","v":1.0135018283999999},{"$f":"[3]主表!M4","v":1.0135018283999999},{"$f":"[3]主表!N4","v":0},{"$f":"[3]主表!$G4","v":213},{"$f":"[3]升级!$H4","v":1000},{"$f":"MAX(1,ROUND(100/(24*3600)*VLOOKUP(B6,[1]ResourceLevelConfig!$A:$E,5,FALSE),2))","v":1.17},-1,{"$f":"AC5","v":2},{"$f":"AD5","v":1},1,{"$f":"MAX(AF5+10,ROUND(10^(B6*0.01+1.405),0))","v":130},null,50.675091419999994,null,1,1,2]
[3,3,1,1,3,"225;235;240","练气","前期.","三重",225,235,240,{"$f":"ROUND([1]ResourceLevelConfig!$E7*[1]ResourceLevelConfig!$L7*0.1,0)*10","v":4280},-1,-1,-1,-1,-1,-1,{"$f":"IF(G7=G8,0,CONCATENATE(80*ROUND(VLOOKUP(B7,[2]MonsterPowerUpConfig!$A:$I,9,FALSE),0),\";\",120*ROUND(VLOOKUP(B7,[2]MonsterPowerUpConfig!$A:$I,9,FALSE),0)))","v":0},{"$f":"[3]主表!K5","v":5.8230553482468981},{"$f":"[3]主表!L5","v":1.0271859561701429},{"$f":"[3]主表!M5","v":1.0271859561701429},{"$f":"[3]主表!N5","v":0},{"$f":"[3]主表!$G5","v":215},{"$f":"[3]升级!$H5","v":1000},{"$f":"MAX(1,ROUND(100/(24*3600)*VLOOKUP(B7,[1]ResourceLevelConfig!$A:$E,5,FALSE),2))","v":1.18},-1,{"$f":"AC6","v":2},{"$f":"AD6","v":1},{"$f":"AE6","v":1},140,null,51.359297808507144,null,1,1,3]
[4,4,1,1,4,"225;235;241","练气","前期.","四重",225,235,241,{"$f":"ROUND([1]ResourceLevelConfig!$E8*[1]ResourceLevelConfig!$L8*0.1,0)*10","v":4430},-1,-1,-1,-1,-1,-1,{"$f":"IF(G8=G9,0,CONCATENATE(80*ROUND(VLOOKUP(B8,[2]MonsterPowerUpConfig!$A:$I,9,FALSE),0),\";\",120*ROUND(VLOOKUP(B8,[2]MonsterPowerUpConfig!$A:$I,9,FALSE),0)))","v":0},{"$f":"[3]主表!K6","v":6.2498787517708374},{"$f":"[3]主表!L6","v":1.0410548446852419},{"$f":"[3]主表!M6","v":1.0410548446852419},{"$f":"[3]主表!N6","v":0},{"$f":"[3]主表!$G6","v":218},{"$f":"[3]升级!$H6","v":1000},{"$f":"MAX(1,ROUND(100/(24*3600)*VLOOKUP(B8,[1]ResourceLevelConfig!$A:$E,5,FALSE),2))","v":1.19},-1,2,1,1,150,null,52.052742234262098,null,1,1,4]
[5,5,1,1,5,"225;235;242","练气","前期.","五重",225,235,242,{"$f":"ROUND([1]ResourceLevelConfig!$E9*[1]ResourceLevelConfig!$L9*0.1,0)*10","v":4580},-1,-1,-1,-1,-1,-1,{"$f":"IF(G9=G10,0,CONCATENATE(80*ROUND(VLOOKUP(B9,[2]MonsterPowerUpConfig!$A:$I,9,FALSE),0),\";\",120*ROUND(VLOOKUP(B9,[2]MonsterPowerUpConfig!$A:$I,9,FALSE),0)))","v":0},{"$f":"[3]主表!K7","v":6.6871664086754539},{"$f":"[3]主表!L7","v":1.0551109885531706},{"$f":"[3]主表!M7","v":1.0551109885531706},{"$f":"[3]主表!N7","v":0},{"$f":"[3]主表!$G7","v":221},{"$f":"[3]升级!$H7","v":1000},{"$f":"MAX(1,ROUND(100/(24*3600)*VLOOKUP(B9,[1]ResourceLevelConfig!$A:$E,5,FALSE),2))","v":1.2},-1,2,1,1,160,null,52.755549427658529,null,1,1,5]
[6,6,1,1,6,"225;235;243","练气","前期.","六重",225,235,243,{"$f":"ROUND([1]ResourceLevelConfig!$E10*[1]ResourceLevelConfig!$L10*0.1,0)*10","v":4730},-1,-1,-1,-1,-1,-1,{"$f":"IF(G10=G11,0,CONCATENATE(80*ROUND(VLOOKUP(B10,[2]MonsterPowerUpConfig!$A:$I,9,FALSE),0),\";\",120*ROUND(VLOOKUP(B10,[2]MonsterPowerUpConfig!$A:$I,9,FALSE),0)))","v":0},{"$f":"[3]主表!K8","v":7.1351230824300789},{"$f":"[3]主表!L8","v":1.0693569160635699},{"$f":"[3]主表!M8","v":1.0693569160635699},{"$f":"[3]主表!N8","v":0},{"$f":"[3]主表!$G8","v":224},{"$f":"[3]升级!$H8","v":1000},{"$f":"MAX(1,ROUND(100/(24*3600)*VLOOKUP(B10,[1]ResourceLevelConfig!$A:$E,5,FALSE),2))","v":1.22},-1,2,1,1,170,null,53.467845803178491,null,1,1,6]
[7,7,1,1,7,"225;235;244","练气","前期.","七重",225,235,244,{"$f":"ROUND([1]ResourceLevelConfig!$E11*[1]ResourceLevelConfig!$L11*0.1,0)*10","v":4880},-1,-1,-1,-1,-1,-1,{"$f":"IF(G11=G12,0,CONCATENATE(80*ROUND(VLOOKUP(B11,[2]MonsterPowerUpConfig!$A:$I,9,FALSE),0),\";\",120*ROUND(VLOOKUP(B11,[2]MonsterPowerUpConfig!$A:$I,9,FALSE),0)))","v":0},{"$f":"[3]主表!K9","v":7.5939571582397036},{"$f":"[3]主表!L9","v":1.0837951896426135},{"$f":"[3]主表!M9","v":1.0837951896426135},{"$f":"[3]主表!N9","v":0},{"$f":"[3]主表!$G9","v":227},{"$f":"[3]升级!$H9","v":1000},{"$f":"MAX(1,ROUND(100/(24*3600)*VLOOKUP(B11,[1]ResourceLevelConfig!$A:$E,5,FALSE),2))","v":1.23},-1,2,1,1,180,null,54.189759482130675,null,1,1,7]
[8,8,1,1,8,"225;235;245","练气","前期.","八重",225,235,245,{"$f":"ROUND([1]ResourceLevelConfig!$E12*[1]ResourceLevelConfig!$L12*0.1,0)*10","v":5030},-1,-1,-1,-1,-1,-1,{"$f":"IF(G12=G13,0,CONCATENATE(80*ROUND(VLOOKUP(B12,[2]MonsterPowerUpConfig!$A:$I,9,FALSE),0),\";\",120*ROUND(VLOOKUP(B12,[2]MonsterPowerUpConfig!$A:$I,9,FALSE),0)))","v":0},{"$f":"[3]主表!K10","v":8.0638807035168121},{"$f":"[3]主表!L10","v":1.0984284063139134},{"$f":"[3]主表!M10","v":1.0984284063139134},{"$f":"[3]主表!N10","v":0},{"$f":"[3]主表!$G10","v":230},{"$f":"[3]升级!$H10","v":1000},{"$f":"MAX(1,ROUND(100/(24*3600)*VLOOKUP(B12,[1]ResourceLevelConfig!$A:$E,5,FALSE),2))","v":1.24},-1,2,1,1,190,null,54.92142031569567,null,1,1,8]
[9,9,1,1,9,"225;235;246","练气","前期.","九重",225,235,246,{"$f":"ROUND([1]ResourceLevelConfig!$E13*[1]ResourceLevelConfig!$L13*0.1,0)*10","v":5180},-1,-1,-1,-1,-1,-1,{"$f":"IF(G13=G14,0,CONCATENATE(80*ROUND(VLOOKUP(B13,[2]MonsterPowerUpConfig!$A:$I,9,FALSE),0),\";\",120*ROUND(VLOOKUP(B13,[2]MonsterPowerUpConfig!$A:$I,9,FALSE),0)))","v":0},{"$f":"[3]主表!K11","v":8.5451095293259822},{"$f":"[3]主表!L11","v":1.113259198165649},{"$f":"[3]主表!M11","v":1.113259198165649},{"$f":"[3]主表!N11","v":0},{"$f":"[3]主表!$G11","v":233},{"$f":"[3]升级!$H11","v":1000},{"$f":"MAX(1,ROUND(100/(24*3600)*VLOOKUP(B13,[1]ResourceLevelConfig!$A:$E,5,FALSE),2))","v":1.25},-1,2,1,1,200,null,55.662959908282453,null,1,1,9]
[10,10,1,1,10,"225;235;247","练气","前期.","十重",225,235,247,{"$f":"ROUND([1]ResourceLevelConfig!$E14*[1]ResourceLevelConfig!$L14*0.1,0)*10","v":5340},100004,{"$f":"AM14","v":90},{"$f":"AN14","v":1201},{"$f":"AO14","v":1},{"$f":"_xlfn.TEXTJOIN(\";\",1,AP14,AR14,AT14,AV14)","v":"1202;1201;1201;1201"},{"$f":"_xlfn.TEXTJOIN(\";\",1,AQ14,AS14,AU14,AW14)","v":"1;1;1;1"},{"$f":"IF(G14=G15,0,CONCATENATE(80*ROUND(VLOOKUP(B14,[2]MonsterPowerUpConfig!$A:$I,9,FALSE),0),\";\",120*ROUND(VLOOKUP(B14,[2]MonsterPowerUpConfig!$A:$I,9,FALSE),0)))","v":0},{"$f":"[3]主表!K12","v":9.0378632528164147},{"$f":"[3]主表!L12","v":1.1282902328240032},{"$f":"[3]主表!M12","v":1.1282902328240032},{"$f":"[3]主表!N12","v":0},{"$f":"[3]主表!$G12","v":236},{"$f":"[3]升级!$H12","v":1000},{"$f":"MAX(1,ROUND(100/(24*3600)*VLOOKUP(B14,[1]ResourceLevelConfig!$A:$E,5,FALSE),2))","v":1.26},20,2,1,1,210,null,56.414511641200157,null,1,1,10,90,1201,1,1202,1,1201,1,1201,1,1201,1,{"$f":"VLOOKUP(AN14,[4]ItemConfig!$A:$AC,29,FALSE)*AO14+AM14","v":100},{"$f":"VLOOKUP(AP14,[4]ItemConfig!$A:$AC,29,FALSE)*AQ14","v":15},{"$f":"VLOOKUP(AR14,[4]ItemConfig!$A:$AC,29,FALSE)*AS14","v":10},{"$f":"VLOOKUP(AT14,[4]ItemConfig!$A:$AC,29,FALSE)*AU14","v":10},{"$f":"VLOOKUP(AV14,[4]ItemConfig!$A:$AC,29,FALSE)*AW14","v":10},{"$f":"CONCATENATE(AX14,\" + \",SUM(AY14:BB14))","v":"100 + 45"}]
[11,11,1,2,1,"225;236;238","练气","中期.","一重",225,236,238,{"$f":"ROUND([1]ResourceLevelConfig!$E15*[1]ResourceLevelConfig!$L15*0.1,0)*10","v":5550},-1,-1,-1,-1,-1,-1,{"$f":"IF(G15=G16,0,CONCATENATE(80*ROUND(VLOOKUP(B15,[2]MonsterPowerUpConfig!$A:$I,9,FALSE),0),\";\",120*ROUND(VLOOKUP(B15,[2]MonsterPowerUpConfig!$A:$I,9,FALSE),0)))","v":0},{"$f":"[3]主表!K13","v":10.356766611160948},{"$f":"[3]主表!L13","v":1.2411192561064035},{"$f":"[3]主表!M13","v":1.2411192561064035},{"$f":"[3]主表!N13","v":0},{"$f":"[3]主表!$G13","v":262},{"$f":"[3]升级!$H13","v":1000},{"$f":"MAX(1,ROUND(100/(24*3600)*VLOOKUP(B15,[1]ResourceLevelConfig!$A:$E,5,FALSE),2))","v":1.28},-1,2,1,1,220,null,null,null,1,1,11]
[12,12,1,2,2,"225;236;239","练气","中期.","二重",225,236,239,{"$f":"ROUND([1]ResourceLevelConfig!$E16*[1]ResourceLevelConfig!$L16*0.1,0)*10","v":5710},-1,-1,-1,-1,-1,-1,{"$f":"IF(G16=G17,0,CONCATENATE(80*ROUND(VLOOKUP(B16,[2]MonsterPowerUpConfig!$A:$I,9,FALSE),0),\";\",120*ROUND(VLOOKUP(B16,[2]MonsterPowerUpConfig!$A:$I,9,FALSE),0)))","v":0},{"$f":"[3]主表!K14","v":10.917323768732919},{"$f":"[3]主表!L14","v":1.2578766353262878},{"$f":"[3]主表!M14","v":1.2578766353262878},{"$f":"[3]主表!N14","v":0},{"$f":"[3]主表!$G14","v":265},{"$f":"[3]升级!$H14","v":1000},{"$f":"MAX(1,ROUND(100/(24*3600)*VLOOKUP(B16,[1]ResourceLevelConfig!$A:$E,5,FALSE),2))","v":1.3},-1,{"$f":"AC15","v":2},{"$f":"AD15","v":1},1,230,null,null,null,1,1,12]
[13,13,1,2,3,"225;236;240","练气","中期.","三重",225,236,240,{"$f":"ROUND([1]ResourceLevelConfig!$E17*[1]ResourceLevelConfig!$L17*0.1,0)*10","v":5880},-1,-1,-1,-1,-1,-1,{"$f":"IF(G17=G18,0,CONCATENATE(80*ROUND(VLOOKUP(B17,[2]MonsterPowerUpConfig!$A:$I,9,FALSE),0),\";\",120*ROUND(VLOOKUP(B17,[2]MonsterPowerUpConfig!$A:$I,9,FALSE),0)))","v":0},{"$f":"[3]主表!K15","v":11.49112998737481},{"$f":"[3]主表!L15","v":1.2748602698048324},{"$f":"[3]主表!M15","v":1.2748602698048324},{"$f":"[3]主表!N15","v":0},{"$f":"[3]主表!$G15","v":269},{"$f":"[3]升级!$H15","v":1000},{"$f":"MAX(1,ROUND(100/(24*3600)*VLOOKUP(B17,[1]ResourceLevelConfig!$A:$E,5,FALSE),2))","v":1.31},-1,{"$f":"AC16","v":2},{"$f":"AD16","v":1},{"$f":"AE16","v":1},240,null,null,null,1,1,13]
[14,14,1,2,4,"225;236;241","练气","中期.","四重",225,236,241,{"$f":"ROUND([1]ResourceLevelConfig!$E18*[1]ResourceLevelConfig!$L18*0.1,0)*10","v":6040},-1,-1,-1,-1,-1,-1,{"$f":"IF(G18=G19,0,CONCATENATE(80*ROUND(VLOOKUP(B18,[2]MonsterPowerUpConfig!$A:$I,9,FALSE),0),\";\",120*ROUND(VLOOKUP(B18,[2]MonsterPowerUpConfig!$A:$I,9,FALSE),0)))","v":0},{"$f":"[3]主表!K16","v":12.078440850967926},{"$f":"[3]主表!L16","v":1.2920732144017149},{"$f":"[3]主表!M16","v":1.2920732144017149},{"$f":"[3]主表!N16","v":0},{"$f":"[3]主表!$G16","v":273},{"$f":"[3]升级!$H16","v":1000},{"$f":"MAX(1,ROUND(100/(24*3600)*VLOOKUP(B18,[1]ResourceLevelConfig!$A:$E,5,FALSE),2))","v":1.32},-1,2,1,1,250,null,null,null,1,1,14]
[15,15,1,2,5,"225;236;242","练气","中期.","五重",225,236,242,{"$f":"ROUND([1]ResourceLevelConfig!$E19*[1]ResourceLevelConfig!$L19*0.1,0)*10","v":6210},-1,-1,-1,-1,-1,-1,{"$f":"IF(G19=G20,0,CONCATENATE(80*ROUND(VLOOKUP(B19,[2]MonsterPowerUpConfig!$A:$I,9,FALSE),0),\";\",120*ROUND(VLOOKUP(B19,[2]MonsterPowerUpConfig!$A:$I,9,FALSE),0)))","v":0},{"$f":"[3]主表!K17","v":12.679516429797493},{"$f":"[3]主表!L17","v":1.3095185652228032},{"$f":"[3]主表!M17","v":1.3095185652228032},{"$f":"[3]主表!N17","v":0},{"$f":"[3]主表!$G17","v":277},{"$f":"[3]升级!$H17","v":1000},{"$f":"MAX(1,ROUND(100/(24*3600)*VLOOKUP(B19,[1]ResourceLevelConfig!$A:$E,5,FALSE),2))","v":1.33},-1,2,1,1,260,null,null,null,1,1,15]
[16,16,1,2,6,"225;236;243","练气","中期.","六重",225,236,243,{"$f":"ROUND([1]ResourceLevelConfig!$E20*[1]ResourceLevelConfig!$L20*0.1,0)*10","v":6380},-1,-1,-1,-1,-1,-1,{"$f":"IF(G20=G21,0,CONCATENATE(80*ROUND(VLOOKUP(B20,[2]MonsterPowerUpConfig!$A:$I,9,FALSE),0),\";\",120*ROUND(VLOOKUP(B20,[2]MonsterPowerUpConfig!$A:$I,9,FALSE),0)))","v":0},{"$f":"[3]主表!K18","v":13.294621355109195},{"$f":"[3]主表!L18","v":1.3271994601770556},{"$f":"[3]主表!M18","v":1.3271994601770556},{"$f":"[3]主表!N18","v":0},{"$f":"[3]主表!$G18","v":281},{"$f":"[3]升级!$H18","v":1000},{"$f":"MAX(1,ROUND(100/(24*3600)*VLOOKUP(B20,[1]ResourceLevelConfig!$A:$E,5,FALSE),2))","v":1.34},-1,2,1,1,270,null,null,null,1,1,16]
[17,17,1,2,7,"225;236;244","练气","中期.","七重",225,236,244,{"$f":"ROUND([1]ResourceLevelConfig!$E21*[1]ResourceLevelConfig!$L21*0.1,0)*10","v":6550},-1,-1,-1,-1,-1,-1,{"$f":"IF(G21=G22,0,CONCATENATE(80*ROUND(VLOOKUP(B21,[2]MonsterPowerUpConfig!$A:$I,9,FALSE),0),\";\",120*ROUND(VLOOKUP(B21,[2]MonsterPowerUpConfig!$A:$I,9,FALSE),0)))","v":0},{"$f":"[3]主表!K19","v":13.924024894861127},{"$f":"[3]主表!L19","v":1.3451190795409387},{"$f":"[3]主表!M19","v":1.3451190795409387},{"$f":"[3]主表!N19","v":0},{"$f":"[3]主表!$G19","v":285},{"$f":"[3]升级!$H19","v":1000},{"$f":"MAX(1,ROUND(100/(24*3600)*VLOOKUP(B21,[1]ResourceLevelConfig!$A:$E,5,FALSE),2))","v":1.35},-1,2,1,1,280,null,null,null,1,1,17]
[18,18,1,2,8,"225;236;245","练气","中期.","八重",225,236,245,{"$f":"ROUND([1]ResourceLevelConfig!$E22*[1]ResourceLevelConfig!$L22*0.1,0)*10","v":6780},-1,-1,-1,-1,-1,-1,{"$f":"IF(G22=G23,0,CONCATENATE(80*ROUND(VLOOKUP(B22,[2]MonsterPowerUpConfig!$A:$I,9,FALSE),0),\";\",120*ROUND(VLOOKUP(B22,[2]MonsterPowerUpConfig!$A:$I,9,FALSE),0)))","v":0},{"$f":"[3]主表!K20","v":14.568001030689906},{"$f":"[3]主表!L20","v":1.3632806465304663},{"$f":"[3]主表!M20","v":1.3632806465304663},{"$f":"[3]主表!N20","v":0},{"$f":"[3]主表!$G20","v":289},{"$f":"[3]升级!$H20","v":1000},{"$f":"MAX(1,ROUND(100/(24*3600)*VLOOKUP(B22,[1]ResourceLevelConfig!$A:$E,5,FALSE),2))","v":1.38},-1,2,1,1,290,null,null,null,1,1,18]
[19,19,1,2,9,"225;236;246","练气","中期.","九重",225,236,246,{"$f":"ROUND([1]ResourceLevelConfig!$E23*[1]ResourceLevelConfig!$L23*0.1,0)*10","v":6960},-1,-1,-1,-1,-1,-1,{"$f":"IF(G23=G24,0,CONCATENATE(80*ROUND(VLOOKUP(B23,[2]MonsterPowerUpConfig!$A:$I,9,FALSE),0),\";\",120*ROUND(VLOOKUP(B23,[2]MonsterPowerUpConfig!$A:$I,9,FALSE),0)))","v":0},{"$f":"[3]主表!K21","v":15.226828536109799},{"$f":"[3]主表!L21","v":1.3816874278809614},{"$f":"[3]主表!M21","v":1.3816874278809614},{"$f":"[3]主表!N21","v":0},{"$f":"[3]主表!$G21","v":293},{"$f":"[3]升级!$H21","v":1000},{"$f":"MAX(1,ROUND(100/(24*3600)*VLOOKUP(B23,[1]ResourceLevelConfig!$A:$E,5,FALSE),2))","v":1.39},-1,2,1,1,300,null,null,null,1,1,19]
[20,20,1,2,10,"225;236;247","练气","中期.","十重",225,236,247,{"$f":"ROUND([1]ResourceLevelConfig!$E24*[1]ResourceLevelConfig!$L24*0.1,0)*10","v":7140},100004,{"$f":"AM24","v":85},{"$f":"AN24","v":1201},{"$f":"AO24","v":1},{"$f":"_xlfn.TEXTJOIN(\";\",1,AP24,AR24,AT24,AV24)","v":"1202;1201;1201;1201"},{"$f":"_xlfn.TEXTJOIN(\";\",1,AQ24,AS24,AU24,AW24)","v":"1;1;1;1"},{"$f":"IF(G24=G25,0,CONCATENATE(80*ROUND(VLOOKUP(B24,[2]MonsterPowerUpConfig!$A:$I,9,FALSE),0),\";\",120*ROUND(VLOOKUP(B24,[2]MonsterPowerUpConfig!$A:$I,9,FALSE),0)))","v":0},{"$f":"[3]主表!K22","v":15.900791055964316},{"$f":"[3]主表!L22","v":1.4003427344346475},{"$f":"[3]主表!M22","v":1.4003427344346475},{"$f":"[3]主表!N22","v":0},{"$f":"[3]主表!$G22","v":298},{"$f":"[3]升级!$H22","v":1000},{"$f":"MAX(1,ROUND(100/(24*3600)*VLOOKUP(B24,[1]ResourceLevelConfig!$A:$E,5,FALSE),2))","v":1.4},20,2,1,1,310,null,null,null,1,1,20,85,1201,1,1202,1,1201,1,1201,1,1201,1,{"$f":"VLOOKUP(AN24,[4]ItemConfig!$A:$AC,29,FALSE)*AO24+AM24","v":95},{"$f":"VLOOKUP(AP24,[4]ItemConfig!$A:$AC,29,FALSE)*AQ24","v":15},{"$f":"VLOOKUP(AR24,[4]ItemConfig!$A:$AC,29,FALSE)*AS24","v":10},{"$f":"VLOOKUP(AT24,[4]ItemConfig!$A:$AC,29,FALSE)*AU24","v":10},{"$f":"VLOOKUP(AV24,[4]ItemConfig!$A:$AC,29,FALSE)*AW24","v":10},{"$f":"CONCATENATE(AX24,\" + \",SUM(AY24:BB24))","v":"95 + 45"}]
[21,21,1,3,1,"225;237;238","练气","后期.","一重",225,237,238,{"$f":"ROUND([1]ResourceLevelConfig!$E25*[1]ResourceLevelConfig!$L25*0.1,0)*10","v":7320},-1,-1,-1,-1,-1,-1,{"$f":"IF(G25=G26,0,CONCATENATE(80*ROUND(VLOOKUP(B25,[2]MonsterPowerUpConfig!$A:$I,9,FALSE),0),\";\",120*ROUND(VLOOKUP(B25,[2]MonsterPowerUpConfig!$A:$I,9,FALSE),0)))","v":0},{"$f":"[3]主表!K23","v":18.006079904832866},{"$f":"[3]主表!L23","v":1.5403770078781123},{"$f":"[3]主表!M23","v":1.5403770078781123},{"$f":"[3]主表!N23","v":0},{"$f":"[3]主表!$G23","v":346},{"$f":"[3]升级!$H23","v":1000},{"$f":"MAX(1,ROUND(100/(24*3600)*VLOOKUP(B25,[1]ResourceLevelConfig!$A:$E,5,FALSE),2))","v":1.41},-1,3,1,1,320,null,null,null,1,1,21]
[22,22,1,3,2,"225;237;239","练气","后期.","二重",225,237,239,{"$f":"ROUND([1]ResourceLevelConfig!$E26*[1]ResourceLevelConfig!$L26*0.1,0)*10","v":7500},-1,-1,-1,-1,-1,-1,{"$f":"IF(G26=G27,0,CONCATENATE(80*ROUND(VLOOKUP(B26,[2]MonsterPowerUpConfig!$A:$I,9,FALSE),0),\";\",120*ROUND(VLOOKUP(B26,[2]MonsterPowerUpConfig!$A:$I,9,FALSE),0)))","v":0},{"$f":"[3]主表!K24","v":18.77136092268039},{"$f":"[3]主表!L24","v":1.5611749139097879},{"$f":"[3]主表!M24","v":1.5611749139097879},{"$f":"[3]主表!N24","v":0},{"$f":"[3]主表!$G24","v":351},{"$f":"[3]升级!$H24","v":1000},{"$f":"MAX(1,ROUND(100/(24*3600)*VLOOKUP(B26,[1]ResourceLevelConfig!$A:$E,5,FALSE),2))","v":1.42},-1,{"$f":"AC25","v":3},{"$f":"AD25","v":1},{"$f":"AE25","v":1},330,null,null,null,1,1,22]
[23,23,1,3,3,"225;237;240","练气","后期.","三重",225,237,240,{"$f":"ROUND([1]ResourceLevelConfig!$E27*[1]ResourceLevelConfig!$L27*0.1,0)*10","v":7750},-1,-1,-1,-1,-1,-1,{"$f":"IF(G27=G28,0,CONCATENATE(80*ROUND(VLOOKUP(B27,[2]MonsterPowerUpConfig!$A:$I,9,FALSE),0),\";\",120*ROUND(VLOOKUP(B27,[2]MonsterPowerUpConfig!$A:$I,9,FALSE),0)))","v":0},{"$f":"[3]主表!K25","v":19.554024829464023},{"$f":"[3]主表!L25","v":1.5822536296997824},{"$f":"[3]主表!M25","v":1.5822536296997824},{"$f":"[3]主表!N25","v":0},{"$f":"[3]主表!$G25","v":356},{"$f":"[3]升级!$H25","v":1000},{"$f":"MAX(1,ROUND(100/(24*3600)*VLOOKUP(B27,[1]ResourceLevelConfig!$A:$E,5,FALSE),2))","v":1.45},-1,{"$f":"AC26","v":3},1,1,340,null,null,null,1,1,23]
[24,24,1,3,4,"225;237;241","练气","后期.","四重",225,237,241,{"$f":"ROUND([1]ResourceLevelConfig!$E28*[1]ResourceLevelConfig!$L28*0.1,0)*10","v":7940},-1,-1,-1,-1,-1,-1,{"$f":"IF(G28=G29,0,CONCATENATE(80*ROUND(VLOOKUP(B28,[2]MonsterPowerUpConfig!$A:$I,9,FALSE),0),\";\",120*ROUND(VLOOKUP(B28,[2]MonsterPowerUpConfig!$A:$I,9,FALSE),0)))","v":0},{"$f":"[3]主表!K26","v":20.354401516503259},{"$f":"[3]主表!L26","v":1.6036169466932659},{"$f":"[3]主表!M26","v":1.6036169466932659},{"$f":"[3]主表!N26","v":0},{"$f":"[3]主表!$G26","v":361},{"$f":"[3]升级!$H26","v":1000},{"$f":"MAX(1,ROUND(100/(24*3600)*VLOOKUP(B28,[1]ResourceLevelConfig!$A:$E,5,FALSE),2))","v":1.46},-1,3,1,1,350,null,null,null,1,1,24]
[25,25,1,3,5,"225;237;242","练气","后期.","五重",225,237,242,{"$f":"ROUND([1]ResourceLevelConfig!$E29*[1]ResourceLevelConfig!$L29*0.1,0)*10","v":8130},-1,-1,-1,-1,-1,-1,{"$f":"IF(G29=G30,0,CONCATENATE(80*ROUND(VLOOKUP(B29,[2]MonsterPowerUpConfig!$A:$I,9,FALSE),0),\";\",120*ROUND(VLOOKUP(B29,[2]MonsterPowerUpConfig!$A:$I,9,FALSE),0)))","v":0},{"$f":"[3]主表!K27","v":21.172826614499858},{"$f":"[3]主表!L27","v":1.6252687075268504},{"$f":"[3]主表!M27","v":1.6252687075268504},{"$f":"[3]主表!N27","v":0},{"$f":"[3]主表!$G27","v":367},{"$f":"[3]升级!$H27","v":1000},{"$f":"MAX(1,ROUND(100/(24*3600)*VLOOKUP(B29,[1]ResourceLevelConfig!$A:$E,5,FALSE),2))","v":1.47},-1,3,1,1,360,null,null,null,1,1,25]
[26,26,1,3,6,"225;237;243","练气","后期.","六重",225,237,243,{"$f":"ROUND([1]ResourceLevelConfig!$E30*[1]ResourceLevelConfig!$L30*0.1,0)*10","v":8320},-1,-1,-1,-1,-1,-1,{"$f":"IF(G30=G31,0,CONCATENATE(80*ROUND(VLOOKUP(B30,[2]MonsterPowerUpConfig!$A:$I,9,FALSE),0),\";\",120*ROUND(VLOOKUP(B30,[2]MonsterPowerUpConfig!$A:$I,9,FALSE),0)))","v":0},{"$f":"[3]主表!K28","v":22.009641588383154},{"$f":"[3]主表!L28","v":1.6472128067197676},{"$f":"[3]主表!M28","v":1.6472128067197676},{"$f":"[3]主表!N28","v":0},{"$f":"[3]主表!$G28","v":372},{"$f":"[3]升级!$H28","v":1000},{"$f":"MAX(1,ROUND(100/(24*3600)*VLOOKUP(B30,[1]ResourceLevelConfig!$A:$E,5,FALSE),2))","v":1.48},-1,3,1,1,370,null,null,null,1,1,26]
[27,27,1,3,7,"225;237;244","练气","后期.","七重",225,237,244,{"$f":"ROUND([1]ResourceLevelConfig!$E31*[1]ResourceLevelConfig!$L31*0.1,0)*10","v":8580},-1,-1,-1,-1,-1,-1,{"$f":"IF(G31=G32,0,CONCATENATE(80*ROUND(VLOOKUP(B31,[2]MonsterPowerUpConfig!$A:$I,9,FALSE),0),\";\",120*ROUND(VLOOKUP(B31,[2]MonsterPowerUpConfig!$A:$I,9,FALSE),0)))","v":0},{"$f":"[3]主表!K29","v":22.865193833670332},{"$f":"[3]主表!L29","v":1.6694531913743802},{"$f":"[3]主表!M29","v":1.6694531913743802},{"$f":"[3]主表!N29","v":0},{"$f":"[3]主表!$G29","v":378},{"$f":"[3]升级!$H29","v":1000},{"$f":"MAX(1,ROUND(100/(24*3600)*VLOOKUP(B31,[1]ResourceLevelConfig!$A:$E,5,FALSE),2))","v":1.5},-1,3,1,1,380,null,null,null,1,1,27]
[28,28,1,3,8,"225;237;245","练气","后期.","八重",225,237,245,{"$f":"ROUND([1]ResourceLevelConfig!$E32*[1]ResourceLevelConfig!$L32*0.1,0)*10","v":8780},-1,-1,-1,-1,-1,-1,{"$f":"IF(G32=G33,0,CONCATENATE(80*ROUND(VLOOKUP(B32,[2]MonsterPowerUpConfig!$A:$I,9,FALSE),0),\";\",120*ROUND(VLOOKUP(B32,[2]MonsterPowerUpConfig!$A:$I,9,FALSE),0)))","v":0},{"$f":"[3]主表!K30","v":23.739836774365077},{"$f":"[3]主表!L30","v":1.6919938618861494},{"$f":"[3]主表!M30","v":1.6919938618861494},{"$f":"[3]主表!N30","v":0},{"$f":"[3]主表!$G30","v":384},{"$f":"[3]升级!$H30","v":1000},{"$f":"MAX(1,ROUND(100/(24*3600)*VLOOKUP(B32,[1]ResourceLevelConfig!$A:$E,5,FALSE),2))","v":1.52},-1,3,1,1,390,null,null,null,1,1,28]
[29,29,1,3,9,"225;237;246","练气","后期.","九重",225,237,246,{"$f":"ROUND([1]ResourceLevelConfig!$E33*[1]ResourceLevelConfig!$L33*0.1,0)*10","v":8980},-1,-1,-1,-1,-1,-1,{"$f":"IF(G33=G34,0,CONCATENATE(80*ROUND(VLOOKUP(B33,[2]MonsterPowerUpConfig!$A:$I,9,FALSE),0),\";\",120*ROUND(VLOOKUP(B33,[2]MonsterPowerUpConfig!$A:$I,9,FALSE),0)))","v":0},{"$f":"[3]主表!K31","v":24.633929962418804},{"$f":"[3]主表!L31","v":1.7148388726631894},{"$f":"[3]主表!M31","v":1.7148388726631894},{"$f":"[3]主表!N31","v":0},{"$f":"[3]主表!$G31","v":390},{"$f":"[3]升级!$H31","v":1000},{"$f":"MAX(1,ROUND(100/(24*3600)*VLOOKUP(B33,[1]ResourceLevelConfig!$A:$E,5,FALSE),2))","v":1.53},-1,3,1,1,400,null,null,null,1,1,29]
[30,30,1,3,10,"225;237;247","练气","后期.","十重",225,237,247,{"$f":"ROUND([1]ResourceLevelConfig!$E34*[1]ResourceLevelConfig!$L34*0.1,0)*10","v":9250},100004,{"$f":"AM34","v":45},{"$f":"AN34","v":1301},{"$f":"AO34","v":1},{"$f":"_xlfn.TEXTJOIN(\";\",1,AP34,AR34,AT34,AV34)","v":"1204;1203;1202;1201"},{"$f":"_xlfn.TEXTJOIN(\";\",1,AQ34,AS34,AU34,AW34)","v":"1;1;1;1"},{"$f":"CONCATENATE(ROUND(0.6*VLOOKUP(A34,[3]主表!$A:$P,16,FALSE)*[5]HeroModelConfig!$Q$5,0),\";\",ROUND(0.9*VLOOKUP(A34,[3]主表!$A:$P,16,FALSE)*[5]HeroModelConfig!$Q$5,0),\";\",INT(A34/30)+1)","v":"1746;2619;2"},{"$f":"[3]主表!K32","v":25.547839178778684},{"$f":"[3]主表!L32","v":1.7379923328555369},{"$f":"[3]主表!M32","v":1.7379923328555369},{"$f":"[3]主表!N32","v":0},{"$f":"[3]主表!$G32","v":396},{"$f":"[3]升级!$H32","v":1000},{"$f":"MAX(1,ROUND(100/(24*3600)*VLOOKUP(B34,[1]ResourceLevelConfig!$A:$E,5,FALSE),2))","v":1.55},50,3,1,1,410,null,null,null,1,1,30,45,1301,1,1204,1,1203,1,1202,1,1201,1,{"$f":"VLOOKUP(AN34,[4]ItemConfig!$A:$AC,29,FALSE)*AO34+AM34","v":90},{"$f":"VLOOKUP(AP34,[4]ItemConfig!$A:$AC,29,FALSE)*AQ34","v":40},{"$f":"VLOOKUP(AR34,[4]ItemConfig!$A:$AC,29,FALSE)*AS34","v":25},{"$f":"VLOOKUP(AT34,[4]ItemConfig!$A:$AC,29,FALSE)*AU34","v":15},{"$f":"VLOOKUP(AV34,[4]ItemConfig!$A:$AC,29,FALSE)*AW34","v":10},{"$f":"CONCATENATE(AX34,\" + \",SUM(AY34:BB34))","v":"90 + 90"}]
[31,31,2,4,1,"226;235;238","筑基","前期.","一重",226,235,238,{"$f":"ROUND([1]ResourceLevelConfig!$E35*[1]ResourceLevelConfig!$L35*0.1,0)*10","v":9450},-1,-1,-1,-1,{"$f":"IF(I35=10,\"1001;1002;1004\",-1)","v":-1},{"$f":"IF(R35=-1,-1,\"100;200;300\")","v":-1},{"$f":"IF(G35=G36,0,CONCATENATE(\"1;1\"))","v":0},{"$f":"[3]主表!K33","v":33.967888889958893},{"$f":"[3]主表!L33","v":2.2593900327121981},{"$f":"[3]主表!M33","v":2.2593900327121981},{"$f":"[3]主表!N33","v":0},{"$f":"[3]主表!$G33","v":521},{"$f":"[3]升级!$H33","v":1100},{"$f":"MAX(1,ROUND(100/(24*3600)*VLOOKUP(B35,[1]ResourceLevelConfig!$A:$E,5,FALSE),2))","v":1.56},-1,3,2,1,420,null,null,null,1,1,31]
[32,32,2,4,2,"226;235;239","筑基","前期.","二重",226,235,239,{"$f":"ROUND([1]ResourceLevelConfig!$E36*[1]ResourceLevelConfig!$L36*0.1,0)*10","v":9660},-1,-1,-1,-1,{"$f":"IF(I36=10,\"1001;1002;1004\",-1)","v":-1},{"$f":"IF(R36=-1,-1,\"100;200;300\")","v":-1},0,{"$f":"[3]主表!K34","v":35.192418758553003},{"$f":"[3]主表!L34","v":2.2898959292225483},{"$f":"[3]主表!M34","v":2.2898959292225483},{"$f":"[3]主表!N34","v":0},{"$f":"[3]主表!$G34","v":530},{"$f":"[3]升级!$H34","v":1100},{"$f":"MAX(1,ROUND(100/(24*3600)*VLOOKUP(B36,[1]ResourceLevelConfig!$A:$E,5,FALSE),2))","v":1.57},-1,{"$f":"AC35","v":3},{"$f":"AD35","v":2},{"$f":"AE35","v":1},430,null,null,null,1,1,32]
[33,33,2,4,3,"226;235;240","筑基","前期.","三重",226,235,240,{"$f":"ROUND([1]ResourceLevelConfig!$E37*[1]ResourceLevelConfig!$L37*0.1,0)*10","v":9940},-1,-1,-1,-1,-1,-1,0,{"$f":"[3]主表!K35","v":36.443823086710253},{"$f":"[3]主表!L35","v":2.3208137111127694},{"$f":"[3]主表!M35","v":2.3208137111127694},{"$f":"[3]主表!N35","v":0},{"$f":"[3]主表!$G35","v":538},{"$f":"[3]升级!$H35","v":1100},{"$f":"MAX(1,ROUND(100/(24*3600)*VLOOKUP(B37,[1]ResourceLevelConfig!$A:$E,5,FALSE),2))","v":1.6},-1,{"$f":"AC36","v":3},2,1,440,null,null,null,1,1,33]
[34,34,2,4,4,"226;235;241","筑基","前期.","四重",226,235,241,{"$f":"ROUND([1]ResourceLevelConfig!$E38*[1]ResourceLevelConfig!$L38*0.1,0)*10","v":10150},-1,-1,-1,-1,-1,-1,0,{"$f":"[3]主表!K36","v":37.722604352089597},{"$f":"[3]主表!L36","v":2.3521489395885813},{"$f":"[3]主表!M36","v":2.3521489395885813},{"$f":"[3]主表!N36","v":0},{"$f":"[3]主表!$G36","v":546},{"$f":"[3]升级!$H36","v":1100},{"$f":"MAX(1,ROUND(100/(24*3600)*VLOOKUP(B38,[1]ResourceLevelConfig!$A:$E,5,FALSE),2))","v":1.61},-1,3,2,1,450,null,null,null,1,1,34]
[35,35,2,4,5,"226;235;242","筑基","前期.","五重",226,235,242,{"$f":"ROUND([1]ResourceLevelConfig!$E39*[1]ResourceLevelConfig!$L39*0.1,0)*10","v":10430},-1,-1,-1,-1,-1,-1,0,{"$f":"[3]主表!K37","v":39.029273701887199},{"$f":"[3]主表!L37","v":2.3839072509421477},{"$f":"[3]主表!M37","v":2.3839072509421477},{"$f":"[3]主表!N37","v":0},{"$f":"[3]主表!$G37","v":555},{"$f":"[3]升级!$H37","v":1100},{"$f":"MAX(1,ROUND(100/(24*3600)*VLOOKUP(B39,[1]ResourceLevelConfig!$A:$E,5,FALSE),2))","v":1.63},-1,3,2,1,460,null,null,null,1,1,35]
[36,36,2,4,6,"226;235;243","筑基","前期.","六重",226,235,243,{"$f":"ROUND([1]ResourceLevelConfig!$E40*[1]ResourceLevelConfig!$L40*0.1,0)*10","v":10650},-1,-1,-1,-1,-1,-1,0,{"$f":"[3]主表!K38","v":40.364351095344276},{"$f":"[3]主表!L38","v":2.4160943575658842},{"$f":"[3]主表!M38","v":2.4160943575658842},{"$f":"[3]主表!N38","v":0},{"$f":"[3]主表!$G38","v":564},{"$f":"[3]升级!$H38","v":1100},{"$f":"MAX(1,ROUND(100/(24*3600)*VLOOKUP(B40,[1]ResourceLevelConfig!$A:$E,5,FALSE),2))","v":1.64},-1,3,2,1,470,null,null,null,1,1,36]
[37,37,2,4,7,"226;235;244","筑基","前期.","七重",226,235,244,{"$f":"ROUND([1]ResourceLevelConfig!$E41*[1]ResourceLevelConfig!$L41*0.1,0)*10","v":10870},-1,-1,-1,-1,-1,-1,0,{"$f":"[3]主表!K39","v":41.728365448522723},{"$f":"[3]主表!L39","v":2.4487160489799469},{"$f":"[3]主表!M39","v":2.4487160489799469},{"$f":"[3]主表!N39","v":0},{"$f":"[3]主表!$G39","v":573},{"$f":"[3]升级!$H39","v":1100},{"$f":"MAX(1,ROUND(100/(24*3600)*VLOOKUP(B41,[1]ResourceLevelConfig!$A:$E,5,FALSE),2))","v":1.66},-1,3,2,1,480,null,null,null,1,1,37]
[38,38,2,4,8,"226;235;245","筑基","前期.","八重",226,235,245,{"$f":"ROUND([1]ResourceLevelConfig!$E42*[1]ResourceLevelConfig!$L42*0.1,0)*10","v":11170},-1,-1,-1,-1,-1,-1,0,{"$f":"[3]主表!K40","v":43.121854781383739},{"$f":"[3]主表!L40","v":2.4817781928735996},{"$f":"[3]主表!M40","v":2.4817781928735996},{"$f":"[3]主表!N40","v":0},{"$f":"[3]主表!$G40","v":583},{"$f":"[3]升级!$H40","v":1100},{"$f":"MAX(1,ROUND(100/(24*3600)*VLOOKUP(B42,[1]ResourceLevelConfig!$A:$E,5,FALSE),2))","v":1.68},-1,3,2,1,490,null,null,null,1,1,38]
[39,39,2,4,9,"226;235;246","筑基","前期.","九重",226,235,246,{"$f":"ROUND([1]ResourceLevelConfig!$E43*[1]ResourceLevelConfig!$L43*0.1,0)*10","v":11390},-1,-1,-1,-1,-1,-1,0,{"$f":"[3]主表!K41","v":44.545366367205439},{"$f":"[3]主表!L41","v":2.515286736160641},{"$f":"[3]主表!M41","v":2.515286736160641},{"$f":"[3]主表!N41","v":0},{"$f":"[3]主表!$G41","v":592},{"$f":"[3]升级!$H41","v":1100},{"$f":"MAX(1,ROUND(100/(24*3600)*VLOOKUP(B43,[1]ResourceLevelConfig!$A:$E,5,FALSE),2))","v":1.69},-1,3,2,1,500,null,null,null,1,1,39]
[40,40,2,4,10,"226;235;247","筑基","前期.","十重",226,235,247,{"$f":"ROUND([1]ResourceLevelConfig!$E44*[1]ResourceLevelConfig!$L44*0.1,0)*10","v":11690},100004,{"$f":"AM44","v":70},{"$f":"AN44","v":1202},{"$f":"AO44","v":1},{"$f":"_xlfn.TEXTJOIN(\";\",1,AP44,AR44,AT44,AV44)","v":"1202;1201;1201;1201"},{"$f":"_xlfn.TEXTJOIN(\";\",1,AQ44,AS44,AU44,AW44)","v":"1;1;1;1"},0,{"$f":"[3]主表!K42","v":45.999456884375441},{"$f":"[3]主表!L42","v":2.5492477060490777},{"$f":"[3]主表!M42","v":2.5492477060490777},{"$f":"[3]主表!N42","v":0},{"$f":"[3]主表!$G42","v":602},{"$f":"[3]升级!$H42","v":1100},{"$f":"MAX(1,ROUND(100/(24*3600)*VLOOKUP(B44,[1]ResourceLevelConfig!$A:$E,5,FALSE),2))","v":1.71},20,3,2,1,510,null,null,null,1,1,40,70,1202,1,1202,1,1201,1,1201,1,1201,1,{"$f":"VLOOKUP(AN44,[4]ItemConfig!$A:$AC,29,FALSE)*AO44+AM44","v":85},{"$f":"VLOOKUP(AP44,[4]ItemConfig!$A:$AC,29,FALSE)*AQ44","v":15},{"$f":"VLOOKUP(AR44,[4]ItemConfig!$A:$AC,29,FALSE)*AS44","v":10},{"$f":"VLOOKUP(AT44,[4]ItemConfig!$A:$AC,29,FALSE)*AU44","v":10},{"$f":"VLOOKUP(AV44,[4]ItemConfig!$A:$AC,29,FALSE)*AW44","v":10},{"$f":"CONCATENATE(AX44,\" + \",SUM(AY44:BB44))","v":"85 + 45"}]
[41,41,2,5,1,"226;236;238","筑基","中期.","一重",226,236,238,{"$f":"ROUND([1]ResourceLevelConfig!$E45*[1]ResourceLevelConfig!$L45*0.1,0)*10","v":11920},-1,-1,-1,-1,{"$f":"IF(I45=10,\"1001;1002;1004\",-1)","v":-1},-1,0,{"$f":"[3]主表!K43","v":51.537313859724357},{"$f":"[3]主表!L43","v":2.8041724766539859},{"$f":"[3]主表!M43","v":2.8041724766539859},{"$f":"[3]主表!N43","v":0},{"$f":"[3]主表!$G43","v":672},{"$f":"[3]升级!$H43","v":1100},{"$f":"MAX(1,ROUND(100/(24*3600)*VLOOKUP(B45,[1]ResourceLevelConfig!$A:$E,5,FALSE),2))","v":1.72},-1,3,2,2,520,null,null,null,1,1,41]
[42,42,2,5,2,"226;236;239","筑基","中期.","二重",226,236,239,{"$f":"ROUND([1]ResourceLevelConfig!$E46*[1]ResourceLevelConfig!$L46*0.1,0)*10","v":12230},-1,-1,-1,-1,-1,-1,0,{"$f":"[3]主表!K44","v":53.183736631816956},{"$f":"[3]主表!L44","v":2.8420339322377708},{"$f":"[3]主表!M44","v":2.8420339322377708},{"$f":"[3]主表!N44","v":0},{"$f":"[3]主表!$G44","v":683},{"$f":"[3]升级!$H44","v":1100},{"$f":"MAX(1,ROUND(100/(24*3600)*VLOOKUP(B46,[1]ResourceLevelConfig!$A:$E,5,FALSE),2))","v":1.75},-1,{"$f":"AC45","v":3},{"$f":"AD45","v":2},{"$f":"AE45","v":2},530,null,null,null,1,1,42]
[43,43,2,5,3,"226;236;240","筑基","中期.","三重",226,236,240,{"$f":"ROUND([1]ResourceLevelConfig!$E47*[1]ResourceLevelConfig!$L47*0.1,0)*10","v":12460},-1,-1,-1,-1,-1,-1,0,{"$f":"[3]主表!K45","v":54.86522361953935},{"$f":"[3]主表!L45","v":2.8804065866978221},{"$f":"[3]主表!M45","v":2.8804065866978221},{"$f":"[3]主表!N45","v":0},{"$f":"[3]主表!$G45","v":695},{"$f":"[3]升级!$H45","v":1100},{"$f":"MAX(1,ROUND(100/(24*3600)*VLOOKUP(B47,[1]ResourceLevelConfig!$A:$E,5,FALSE),2))","v":1.76},-1,{"$f":"AC46","v":3},{"$f":"AD46","v":2},{"$f":"AE46","v":2},540,null,null,null,1,1,43]
[44,44,2,5,4,"226;236;241","筑基","中期.","四重",226,236,241,{"$f":"ROUND([1]ResourceLevelConfig!$E48*[1]ResourceLevelConfig!$L48*0.1,0)*10","v":12780},-1,-1,-1,-1,-1,-1,0,{"$f":"[3]主表!K46","v":56.582421543102029},{"$f":"[3]主表!L46","v":2.9192973421536452},{"$f":"[3]主表!M46","v":2.9192973421536452},{"$f":"[3]主表!N46","v":0},{"$f":"[3]主表!$G46","v":707},{"$f":"[3]升级!$H46","v":1100},{"$f":"MAX(1,ROUND(100/(24*3600)*VLOOKUP(B48,[1]ResourceLevelConfig!$A:$E,5,FALSE),2))","v":1.78},-1,3,2,2,550,null,null,null,1,1,44]
[45,45,2,5,5,"226;236;242","筑基","中期.","五重",226,236,242,{"$f":"ROUND([1]ResourceLevelConfig!$E49*[1]ResourceLevelConfig!$L49*0.1,0)*10","v":13020},-1,-1,-1,-1,-1,-1,0,{"$f":"[3]主表!K47","v":58.335988194341667},{"$f":"[3]主表!L47","v":2.9587131939159796},{"$f":"[3]主表!M47","v":2.9587131939159796},{"$f":"[3]主表!N47","v":0},{"$f":"[3]主表!$G47","v":719},{"$f":"[3]升级!$H47","v":1100},{"$f":"MAX(1,ROUND(100/(24*3600)*VLOOKUP(B49,[1]ResourceLevelConfig!$A:$E,5,FALSE),2))","v":1.79},-1,3,2,2,560,null,null,null,1,1,45]
[46,46,2,5,6,"226;236;243","筑基","中期.","六重",226,236,243,{"$f":"ROUND([1]ResourceLevelConfig!$E50*[1]ResourceLevelConfig!$L50*0.1,0)*10","v":13350},-1,-1,-1,-1,-1,-1,0,{"$f":"[3]主表!K48","v":60.126592617798842},{"$f":"[3]主表!L48","v":2.9986612317450487},{"$f":"[3]主表!M48","v":2.9986612317450487},{"$f":"[3]主表!N48","v":0},{"$f":"[3]主表!$G48","v":731},{"$f":"[3]升级!$H48","v":1100},{"$f":"MAX(1,ROUND(100/(24*3600)*VLOOKUP(B50,[1]ResourceLevelConfig!$A:$E,5,FALSE),2))","v":1.82},-1,3,2,2,570,null,null,null,1,1,46]
[47,47,2,5,7,"226;236;244","筑基","中期.","七重",226,236,244,{"$f":"ROUND([1]ResourceLevelConfig!$E51*[1]ResourceLevelConfig!$L51*0.1,0)*10","v":13670},-1,-1,-1,-1,-1,-1,0,{"$f":"[3]主表!K49","v":61.95491529466711},{"$f":"[3]主表!L49","v":3.0391486411258031},{"$f":"[3]主表!M49","v":3.0391486411258031},{"$f":"[3]主表!N49","v":0},{"$f":"[3]主表!$G49","v":743},{"$f":"[3]升级!$H49","v":1100},{"$f":"MAX(1,ROUND(100/(24*3600)*VLOOKUP(B51,[1]ResourceLevelConfig!$A:$E,5,FALSE),2))","v":1.84},-1,3,2,2,580,null,null,null,1,1,47]
[48,48,2,5,8,"226;236;245","筑基","中期.","八重",226,236,245,{"$f":"ROUND([1]ResourceLevelConfig!$E52*[1]ResourceLevelConfig!$L52*0.1,0)*10","v":13920},-1,-1,-1,-1,-1,-1,0,{"$f":"[3]主表!K50","v":63.821648329658125},{"$f":"[3]主表!L50","v":3.0801827045603769},{"$f":"[3]主表!M50","v":3.0801827045603769},{"$f":"[3]主表!N50","v":0},{"$f":"[3]主表!$G50","v":756},{"$f":"[3]升级!$H50","v":1100},{"$f":"MAX(1,ROUND(100/(24*3600)*VLOOKUP(B52,[1]ResourceLevelConfig!$A:$E,5,FALSE),2))","v":1.85},-1,3,2,2,590,null,null,null,1,1,48]
[49,49,2,5,9,"226;236;246","筑基","中期.","九重",226,236,246,{"$f":"ROUND([1]ResourceLevelConfig!$E53*[1]ResourceLevelConfig!$L53*0.1,0)*10","v":14260},-1,-1,-1,-1,-1,-1,0,{"$f":"[3]主表!K51","v":65.727495640827755},{"$f":"[3]主表!L51","v":3.1217708028779985},{"$f":"[3]主表!M51","v":3.1217708028779985},{"$f":"[3]主表!N51","v":0},{"$f":"[3]主表!$G51","v":769},{"$f":"[3]升级!$H51","v":1100},{"$f":"MAX(1,ROUND(100/(24*3600)*VLOOKUP(B53,[1]ResourceLevelConfig!$A:$E,5,FALSE),2))","v":1.88},-1,3,2,2,600,null,null,null,1,1,49]
[50,50,2,5,10,"226;236;247","筑基","中期.","十重",226,236,247,{"$f":"ROUND([1]ResourceLevelConfig!$E54*[1]ResourceLevelConfig!$L54*0.1,0)*10","v":14510},100004,{"$f":"AM54","v":65},{"$f":"AN54","v":1202},{"$f":"AO54","v":1},{"$f":"_xlfn.TEXTJOIN(\";\",1,AP54,AR54,AT54,AV54)","v":"1202;1201;1201;1201"},{"$f":"_xlfn.TEXTJOIN(\";\",1,AQ54,AS54,AU54,AW54)","v":"1;1;1;1"},0,{"$f":"[3]主表!K52","v":67.673173152409447},{"$f":"[3]主表!L52","v":3.1639204165625876},{"$f":"[3]主表!M52","v":3.1639204165625876},{"$f":"[3]主表!N52","v":0},{"$f":"[3]主表!$G52","v":783},{"$f":"[3]升级!$H52","v":1100},{"$f":"MAX(1,ROUND(100/(24*3600)*VLOOKUP(B54,[1]ResourceLevelConfig!$A:$E,5,FALSE),2))","v":1.89},20,3,2,2,610,null,null,null,1,1,50,65,1202,1,1202,1,1201,1,1201,1,1201,1,{"$f":"VLOOKUP(AN54,[4]ItemConfig!$A:$AC,29,FALSE)*AO54+AM54","v":80},{"$f":"VLOOKUP(AP54,[4]ItemConfig!$A:$AC,29,FALSE)*AQ54","v":15},{"$f":"VLOOKUP(AR54,[4]ItemConfig!$A:$AC,29,FALSE)*AS54","v":10},{"$f":"VLOOKUP(AT54,[4]ItemConfig!$A:$AC,29,FALSE)*AU54","v":10},{"$f":"VLOOKUP(AV54,[4]ItemConfig!$A:$AC,29,FALSE)*AW54","v":10},{"$f":"CONCATENATE(AX54,\" + \",SUM(AY54:BB54))","v":"80 + 45"}]
[51,51,2,6,1,"226;237;238","筑基","后期.","一重",226,237,238,{"$f":"ROUND([1]ResourceLevelConfig!$E55*[1]ResourceLevelConfig!$L55*0.1,0)*10","v":14850},-1,-1,-1,-1,{"$f":"IF(I55=10,\"1001;1002;1004\",-1)","v":-1},-1,0,{"$f":"[3]主表!K53","v":75.604550226355627},{"$f":"[3]主表!L53","v":3.4803124582188469},{"$f":"[3]主表!M53","v":3.4803124582188469},{"$f":"[3]主表!N53","v":0},{"$f":"[3]主表!$G53","v":914},{"$f":"[3]升级!$H53","v":1100},{"$f":"MAX(1,ROUND(100/(24*3600)*VLOOKUP(B55,[1]ResourceLevelConfig!$A:$E,5,FALSE),2))","v":1.91},-1,4,2,2,620,null,null,null,1,1,51]
[52,52,2,6,2,"226;237;239","筑基","后期.","二重",226,237,239,{"$f":"ROUND([1]ResourceLevelConfig!$E56*[1]ResourceLevelConfig!$L56*0.1,0)*10","v":15200},-1,-1,-1,-1,-1,-1,0,{"$f":"[3]主表!K54","v":77.805126583585661},{"$f":"[3]主表!L54","v":3.5273030398080993},{"$f":"[3]主表!M54","v":3.5273030398080993},{"$f":"[3]主表!N54","v":0},{"$f":"[3]主表!$G54","v":930},{"$f":"[3]升级!$H54","v":1100},{"$f":"MAX(1,ROUND(100/(24*3600)*VLOOKUP(B56,[1]ResourceLevelConfig!$A:$E,5,FALSE),2))","v":1.93},-1,{"$f":"AC55","v":4},{"$f":"AD55","v":2},{"$f":"AE55","v":2},630,null,null,null,1,1,52]
[53,53,2,6,3,"226;237;240","筑基","后期.","三重",226,237,240,{"$f":"ROUND([1]ResourceLevelConfig!$E57*[1]ResourceLevelConfig!$L57*0.1,0)*10","v":15460},-1,-1,-1,-1,-1,-1,0,{"$f":"[3]主表!K55","v":80.051343887642332},{"$f":"[3]主表!L55","v":3.5749280801663867},{"$f":"[3]主表!M55","v":3.5749280801663867},{"$f":"[3]主表!N55","v":0},{"$f":"[3]主表!$G55","v":946},{"$f":"[3]升级!$H55","v":1100},{"$f":"MAX(1,ROUND(100/(24*3600)*VLOOKUP(B57,[1]ResourceLevelConfig!$A:$E,5,FALSE),2))","v":1.94},-1,4,2,2,640,null,null,null,1,1,53]
[54,54,2,6,4,"226;237;241","筑基","后期.","四重",226,237,241,{"$f":"ROUND([1]ResourceLevelConfig!$E58*[1]ResourceLevelConfig!$L58*0.1,0)*10","v":15810},-1,-1,-1,-1,-1,-1,0,{"$f":"[3]主表!K56","v":82.344033447305861},{"$f":"[3]主表!L56","v":3.6231961456471344},{"$f":"[3]主表!M56","v":3.6231961456471344},{"$f":"[3]主表!N56","v":0},{"$f":"[3]主表!$G56","v":962},{"$f":"[3]升级!$H56","v":1100},{"$f":"MAX(1,ROUND(100/(24*3600)*VLOOKUP(B58,[1]ResourceLevelConfig!$A:$E,5,FALSE),2))","v":1.97},-1,4,2,2,650,null,null,null,1,1,54]
[55,55,2,6,5,"226;237;242","筑基","后期.","五重",226,237,242,{"$f":"ROUND([1]ResourceLevelConfig!$E59*[1]ResourceLevelConfig!$L59*0.1,0)*10","v":16170},-1,-1,-1,-1,-1,-1,0,{"$f":"[3]主表!K57","v":84.684040699417693},{"$f":"[3]主表!L57","v":3.6721159182652032},{"$f":"[3]主表!M57","v":3.6721159182652032},{"$f":"[3]主表!N57","v":0},{"$f":"[3]主表!$G57","v":979},{"$f":"[3]升级!$H57","v":1100},{"$f":"MAX(1,ROUND(100/(24*3600)*VLOOKUP(B59,[1]ResourceLevelConfig!$A:$E,5,FALSE),2))","v":1.99},-1,4,2,2,660,null,null,null,1,1,55]
[56,56,2,6,6,"226;237;243","筑基","后期.","六重",226,237,243,{"$f":"ROUND([1]ResourceLevelConfig!$E60*[1]ResourceLevelConfig!$L60*0.1,0)*10","v":16530},-1,-1,-1,-1,-1,-1,0,{"$f":"[3]主表!K58","v":87.072225438842551},{"$f":"[3]主表!L58","v":3.7216961972585278},{"$f":"[3]主表!M58","v":3.7216961972585278},{"$f":"[3]主表!N58","v":0},{"$f":"[3]主表!$G58","v":996},{"$f":"[3]升级!$H58","v":1100},{"$f":"MAX(1,ROUND(100/(24*3600)*VLOOKUP(B60,[1]ResourceLevelConfig!$A:$E,5,FALSE),2))","v":2.0099999999999998},-1,4,2,2,670,null,null,null,1,1,56]
[57,57,2,6,7,"226;237;244","筑基","后期.","七重",226,237,244,{"$f":"ROUND([1]ResourceLevelConfig!$E61*[1]ResourceLevelConfig!$L61*0.1,0)*10","v":16800},-1,-1,-1,-1,-1,-1,0,{"$f":"[3]主表!K59","v":89.509462052065174},{"$f":"[3]主表!L59","v":3.7719459006708447},{"$f":"[3]主表!M59","v":3.7719459006708447},{"$f":"[3]主表!N59","v":0},{"$f":"[3]主表!$G59","v":1013},{"$f":"[3]升级!$H59","v":1100},{"$f":"MAX(1,ROUND(100/(24*3600)*VLOOKUP(B61,[1]ResourceLevelConfig!$A:$E,5,FALSE),2))","v":2.0299999999999998},-1,4,2,2,680,null,null,null,1,1,57]
[58,58,2,6,8,"226;237;245","筑基","后期.","八重",226,237,245,{"$f":"ROUND([1]ResourceLevelConfig!$E62*[1]ResourceLevelConfig!$L62*0.1,0)*10","v":17170},-1,-1,-1,-1,-1,-1,0,{"$f":"[3]主表!K60","v":91.996639754477201},{"$f":"[3]主表!L60","v":3.822874066955785},{"$f":"[3]主表!M60","v":3.822874066955785},{"$f":"[3]主表!N60","v":0},{"$f":"[3]主表!$G60","v":1031},{"$f":"[3]升级!$H60","v":1100},{"$f":"MAX(1,ROUND(100/(24*3600)*VLOOKUP(B62,[1]ResourceLevelConfig!$A:$E,5,FALSE),2))","v":2.0499999999999998},-1,4,2,2,690,null,null,null,1,1,58]
[59,59,2,6,9,"226;237;246","筑基","后期.","九重",226,237,246,{"$f":"ROUND([1]ResourceLevelConfig!$E63*[1]ResourceLevelConfig!$L63*0.1,0)*10","v":17540},-1,-1,-1,-1,-1,-1,0,{"$f":"[3]主表!K61","v":94.534662831411822},{"$f":"[3]主表!L61","v":3.874489856602632},{"$f":"[3]主表!M61","v":3.874489856602632},{"$f":"[3]主表!N61","v":0},{"$f":"[3]主表!$G61","v":1049},{"$f":"[3]升级!$H61","v":1100},{"$f":"MAX(1,ROUND(100/(24*3600)*VLOOKUP(B63,[1]ResourceLevelConfig!$A:$E,5,FALSE),2))","v":2.0699999999999998},-1,4,2,2,700,null,null,null,1,1,59]
[60,60,2,6,10,"226;237;247","筑基","后期.","十重",226,237,247,{"$f":"ROUND([1]ResourceLevelConfig!$E64*[1]ResourceLevelConfig!$L64*0.1,0)*10","v":17920},100004,{"$f":"AM64","v":35},{"$f":"AN64","v":1302},{"$f":"AO64","v":1},{"$f":"_xlfn.TEXTJOIN(\";\",1,AP64,AR64,AT64,AV64)","v":"1204;1203;1202;1201"},{"$f":"_xlfn.TEXTJOIN(\";\",1,AQ64,AS64,AU64,AW64)","v":"1;1;1;1"},{"$f":"CONCATENATE(ROUND(0.6*VLOOKUP(A64,[3]主表!$A:$P,16,FALSE)*[5]HeroModelConfig!$Q$5,0),\";\",ROUND(0.9*VLOOKUP(A64,[3]主表!$A:$P,16,FALSE)*[5]HeroModelConfig!$Q$5,0),\";\",INT(A64/30)+1)","v":"7925;11887;3"},{"$f":"[3]主表!K62","v":97.124450882983979},{"$f":"[3]主表!L62","v":3.9268025537840208},{"$f":"[3]主表!M62","v":3.9268025537840208},{"$f":"[3]主表!N62","v":0},{"$f":"[3]主表!$G62","v":1068},{"$f":"[3]升级!$H62","v":1100},{"$f":"MAX(1,ROUND(100/(24*3600)*VLOOKUP(B64,[1]ResourceLevelConfig!$A:$E,5,FALSE),2))","v":2.09},50,4,2,2,710,null,null,null,1,1,60,35,1302,1,1204,1,1203,1,1202,1,1201,1,{"$f":"VLOOKUP(AN64,[4]ItemConfig!$A:$AC,29,FALSE)*AO64+AM64","v":75},{"$f":"VLOOKUP(AP64,[4]ItemConfig!$A:$AC,29,FALSE)*AQ64","v":40},{"$f":"VLOOKUP(AR64,[4]ItemConfig!$A:$AC,29,FALSE)*AS64","v":25},{"$f":"VLOOKUP(AT64,[4]ItemConfig!$A:$AC,29,FALSE)*AU64","v":15},{"$f":"VLOOKUP(AV64,[4]ItemConfig!$A:$AC,29,FALSE)*AW64","v":10},{"$f":"CONCATENATE(AX64,\" + \",SUM(AY64:BB64))","v":"75 + 90"}]
[61,61,3,7,1,"227;235;238","结丹","前期.","一重",227,235,238,{"$f":"ROUND([1]ResourceLevelConfig!$E65*[1]ResourceLevelConfig!$L65*0.1,0)*10","v":18200},-1,-1,-1,-1,{"$f":"IF(I65=10,\"1001;1002;1004\",-1)","v":-1},{"$f":"IF(R65=-1,-1,\"100;200;300\")","v":-1},0,{"$f":"[3]主表!K63","v":127.96920258090091},{"$f":"[3]主表!L63","v":5.1048433199192269},{"$f":"[3]主表!M63","v":5.1048433199192269},{"$f":"[3]主表!N63","v":0},{"$f":"[3]主表!$G63","v":1418},{"$f":"[3]升级!$H63","v":1200},{"$f":"MAX(1,ROUND(100/(24*3600)*VLOOKUP(B65,[1]ResourceLevelConfig!$A:$E,5,FALSE),2))","v":2.11},-1,4,3,2,720,null,null,null,1,2,61]
[62,62,3,7,2,"227;235;239","结丹","前期.","二重",227,235,239,{"$f":"ROUND([1]ResourceLevelConfig!$E66*[1]ResourceLevelConfig!$L66*0.1,0)*10","v":18580},-1,-1,-1,-1,{"$f":"IF(I66=10,\"1001;1002;1004\",-1)","v":-1},-1,0,{"$f":"[3]主表!K64","v":131.42749047134083},{"$f":"[3]主表!L64","v":5.1737680384336624},{"$f":"[3]主表!M64","v":5.1737680384336624},{"$f":"[3]主表!N64","v":0},{"$f":"[3]主表!$G64","v":1444},{"$f":"[3]升级!$H64","v":1200},{"$f":"MAX(1,ROUND(100/(24*3600)*VLOOKUP(B66,[1]ResourceLevelConfig!$A:$E,5,FALSE),2))","v":2.13},-1,{"$f":"AC65","v":4},{"$f":"AD65","v":3},2,730,null,null,null,1,2,62]
[63,63,3,7,3,"227;235;240","结丹","前期.","三重",227,235,240,{"$f":"ROUND([1]ResourceLevelConfig!$E67*[1]ResourceLevelConfig!$L67*0.1,0)*10","v":18970},-1,-1,-1,-1,-1,-1,0,{"$f":"[3]主表!K65","v":134.95583607606153},{"$f":"[3]主表!L65","v":5.2436233666699978},{"$f":"[3]主表!M65","v":5.2436233666699978},{"$f":"[3]主表!N65","v":0},{"$f":"[3]主表!$G65","v":1471},{"$f":"[3]升级!$H65","v":1200},{"$f":"MAX(1,ROUND(100/(24*3600)*VLOOKUP(B67,[1]ResourceLevelConfig!$A:$E,5,FALSE),2))","v":2.15},-1,{"$f":"AC66","v":4},{"$f":"AD66","v":3},{"$f":"AE66","v":2},740,null,null,null,1,2,63]
[64,64,3,7,4,"227;235;241","结丹","前期.","四重",227,235,241,{"$f":"ROUND([1]ResourceLevelConfig!$E68*[1]ResourceLevelConfig!$L68*0.1,0)*10","v":19360},-1,-1,-1,-1,-1,-1,0,{"$f":"[3]主表!K66","v":138.55550076583154},{"$f":"[3]主表!L66","v":5.3144218695610057},{"$f":"[3]主表!M66","v":5.3144218695610057},{"$f":"[3]主表!N66","v":0},{"$f":"[3]主表!$G66","v":1498},{"$f":"[3]升级!$H66","v":1200},{"$f":"MAX(1,ROUND(100/(24*3600)*VLOOKUP(B68,[1]ResourceLevelConfig!$A:$E,5,FALSE),2))","v":2.1800000000000002},-1,4,3,2,750,null,null,null,1,2,64]
[65,65,3,7,5,"227;235;242","结丹","前期.","五重",227,235,242,{"$f":"ROUND([1]ResourceLevelConfig!$E69*[1]ResourceLevelConfig!$L69*0.1,0)*10","v":19760},-1,-1,-1,-1,-1,-1,0,{"$f":"[3]主表!K67","v":142.22776720156537},{"$f":"[3]主表!L67","v":5.3861762816890257},{"$f":"[3]主表!M67","v":5.3861762816890257},{"$f":"[3]主表!N67","v":0},{"$f":"[3]主表!$G67","v":1526},{"$f":"[3]升级!$H67","v":1200},{"$f":"MAX(1,ROUND(100/(24*3600)*VLOOKUP(B69,[1]ResourceLevelConfig!$A:$E,5,FALSE),2))","v":2.2000000000000002},-1,4,3,2,760,null,null,null,1,2,65]
[66,66,3,7,6,{"$f":"_xlfn.TEXTJOIN(\";\",1,J70:L70)","v":"227;235;243"},"结丹","前期.","六重",227,235,243,{"$f":"ROUND([1]ResourceLevelConfig!$E70*[1]ResourceLevelConfig!$L70*0.1,0)*10","v":20160},{"$f":"IF(E70=10,100004,-1)","v":-1},{"$f":"IF(N70=-1,-1,20)","v":-1},-1,-1,-1,{"$f":"IF(R70=-1,-1,\"100;200;300\")","v":-1},0,{"$f":"[3]主表!K68","v":145.97393967928843},{"$f":"[3]主表!L68","v":5.4588995095765407},{"$f":"[3]主表!M68","v":5.4588995095765407},{"$f":"[3]主表!N68","v":0},{"$f":"[3]主表!$G68","v":1557},{"$f":"[3]升级!$H68","v":1200},{"$f":"MAX(1,ROUND(100/(24*3600)*VLOOKUP(B70,[1]ResourceLevelConfig!$A:$E,5,FALSE),2))","v":2.2200000000000002},-1,4,3,2,{"$f":"MAX(AF69+10,ROUND(10^(B70*0.01+1.405),0))","v":770},null,null,null,1,2,66]
[67,67,3,7,7,"227;235;244","结丹","前期.","七重",227,235,244,{"$f":"ROUND([1]ResourceLevelConfig!$E71*[1]ResourceLevelConfig!$L71*0.1,0)*10","v":20560},-1,-1,-1,-1,-1,-1,0,{"$f":"[3]主表!K69","v":149.79534448053585},{"$f":"[3]主表!L69","v":5.5326046340076864},{"$f":"[3]主表!M69","v":5.5326046340076864},{"$f":"[3]主表!N69","v":0},{"$f":"[3]主表!$G69","v":1589},{"$f":"[3]升级!$H69","v":1200},{"$f":"MAX(1,ROUND(100/(24*3600)*VLOOKUP(B71,[1]ResourceLevelConfig!$A:$E,5,FALSE),2))","v":2.25},-1,4,3,2,780,null,null,null,1,2,67]
[68,68,3,7,8,"227;235;245","结丹","前期.","八重",227,235,245,{"$f":"ROUND([1]ResourceLevelConfig!$E72*[1]ResourceLevelConfig!$L72*0.1,0)*10","v":20970},-1,-1,-1,-1,-1,-1,0,{"$f":"[3]主表!K70","v":153.69333022826916},{"$f":"[3]主表!L70","v":5.6073049123811032},{"$f":"[3]主表!M70","v":5.6073049123811032},{"$f":"[3]主表!N70","v":0},{"$f":"[3]主表!$G70","v":1622},{"$f":"[3]升级!$H70","v":1200},{"$f":"MAX(1,ROUND(100/(24*3600)*VLOOKUP(B72,[1]ResourceLevelConfig!$A:$E,5,FALSE),2))","v":2.27},-1,4,3,2,790,null,null,null,1,2,68]
[69,69,3,7,9,"227;235;246","结丹","前期.","九重",227,235,246,{"$f":"ROUND([1]ResourceLevelConfig!$E73*[1]ResourceLevelConfig!$L73*0.1,0)*10","v":21380},-1,-1,-1,-1,-1,-1,0,{"$f":"[3]主表!K71","v":157.66926824839643},{"$f":"[3]主表!L71","v":5.6830137810945498},{"$f":"[3]主表!M71","v":5.6830137810945498},{"$f":"[3]主表!N71","v":0},{"$f":"[3]主表!$G71","v":1656},{"$f":"[3]升级!$H71","v":1200},{"$f":"MAX(1,ROUND(100/(24*3600)*VLOOKUP(B73,[1]ResourceLevelConfig!$A:$E,5,FALSE),2))","v":2.29},-1,4,3,2,800,null,null,null,1,2,69]
[70,70,3,7,10,"227;235;247","结丹","前期.","十重",227,235,247,{"$f":"ROUND([1]ResourceLevelConfig!$E74*[1]ResourceLevelConfig!$L74*0.1,0)*10","v":21800},100004,{"$f":"AM74","v":55},{"$f":"AN74","v":1202},{"$f":"AO74","v":1},{"$f":"_xlfn.TEXTJOIN(\";\",1,AP74,AR74,AT74,AV74)","v":"1202;1202;1201;1201"},{"$f":"_xlfn.TEXTJOIN(\";\",1,AQ74,AS74,AU74,AW74)","v":"1;1;1;1"},0,{"$f":"[3]主表!K72","v":161.7245529369815},{"$f":"[3]主表!L72","v":5.7597448579617234},{"$f":"[3]主表!M72","v":5.7597448579617234},{"$f":"[3]主表!N72","v":0},{"$f":"[3]主表!$G72","v":1691},{"$f":"[3]升级!$H72","v":1200},{"$f":"MAX(1,ROUND(100/(24*3600)*VLOOKUP(B74,[1]ResourceLevelConfig!$A:$E,5,FALSE),2))","v":2.31},20,4,3,2,810,null,null,null,1,2,70,55,1202,1,1202,1,1202,1,1201,1,1201,1,{"$f":"VLOOKUP(AN74,[4]ItemConfig!$A:$AC,29,FALSE)*AO74+AM74","v":70},{"$f":"VLOOKUP(AP74,[4]ItemConfig!$A:$AC,29,FALSE)*AQ74","v":15},{"$f":"VLOOKUP(AR74,[4]ItemConfig!$A:$AC,29,FALSE)*AS74","v":15},{"$f":"VLOOKUP(AT74,[4]ItemConfig!$A:$AC,29,FALSE)*AU74","v":10},{"$f":"VLOOKUP(AV74,[4]ItemConfig!$A:$AC,29,FALSE)*AW74","v":10},{"$f":"CONCATENATE(AX74,\" + \",SUM(AY74:BB74))","v":"70 + 50"}]
[71,71,3,8,1,"227;236;238","结丹","中期.","一重",227,236,238,{"$f":"ROUND([1]ResourceLevelConfig!$E75*[1]ResourceLevelConfig!$L75*0.1,0)*10","v":22220},-1,-1,-1,-1,{"$f":"IF(I75=10,\"1001;1002;1004\",-1)","v":-1},-1,0,{"$f":"[3]主表!K73","v":180.01611564389546},{"$f":"[3]主表!L73","v":6.335719343757896},{"$f":"[3]主表!M73","v":6.335719343757896},{"$f":"[3]主表!N73","v":0},{"$f":"[3]主表!$G73","v":1905},{"$f":"[3]升级!$H73","v":1200},{"$f":"MAX(1,ROUND(100/(24*3600)*VLOOKUP(B75,[1]ResourceLevelConfig!$A:$E,5,FALSE),2))","v":2.34},-1,4,3,3,820,null,null,null,1,2,71]
[72,72,3,8,2,"227;236;239","结丹","中期.","二重",227,236,239,{"$f":"ROUND([1]ResourceLevelConfig!$E76*[1]ResourceLevelConfig!$L76*0.1,0)*10","v":22640},-1,-1,-1,-1,-1,-1,0,{"$f":"[3]主表!K74","v":184.59438158442407},{"$f":"[3]主表!L74","v":6.4212631391278752},{"$f":"[3]主表!M74","v":6.4212631391278752},{"$f":"[3]主表!N74","v":0},{"$f":"[3]主表!$G74","v":1945},{"$f":"[3]升级!$H74","v":1200},{"$f":"MAX(1,ROUND(100/(24*3600)*VLOOKUP(B76,[1]ResourceLevelConfig!$A:$E,5,FALSE),2))","v":2.36},-1,4,3,3,830,null,null,null,1,2,72]
[73,73,3,8,3,"227;236;240","结丹","中期.","三重",227,236,240,{"$f":"ROUND([1]ResourceLevelConfig!$E77*[1]ResourceLevelConfig!$L77*0.1,0)*10","v":23070},-1,-1,-1,-1,-1,-1,0,{"$f":"[3]主表!K75","v":189.26346062265239},{"$f":"[3]主表!L75","v":6.5079619321436244},{"$f":"[3]主表!M75","v":6.5079619321436244},{"$f":"[3]主表!N75","v":0},{"$f":"[3]主表!$G75","v":1986},{"$f":"[3]升级!$H75","v":1200},{"$f":"MAX(1,ROUND(100/(24*3600)*VLOOKUP(B77,[1]ResourceLevelConfig!$A:$E,5,FALSE),2))","v":2.38},-1,4,3,3,840,null,null,null,1,2,73]
[74,74,3,8,4,"227;236;241","结丹","中期.","四重",227,236,241,{"$f":"ROUND([1]ResourceLevelConfig!$E78*[1]ResourceLevelConfig!$L78*0.1,0)*10","v":23500},-1,-1,-1,-1,-1,-1,0,{"$f":"[3]主表!K76","v":194.02497042930631},{"$f":"[3]主表!L76","v":6.5958313173851595},{"$f":"[3]主表!M76","v":6.5958313173851595},{"$f":"[3]主表!N76","v":0},{"$f":"[3]主表!$G76","v":2028},{"$f":"[3]升级!$H76","v":1200},{"$f":"MAX(1,ROUND(100/(24*3600)*VLOOKUP(B78,[1]ResourceLevelConfig!$A:$E,5,FALSE),2))","v":2.41},-1,4,3,3,850,null,null,null,1,2,74]
[75,75,3,8,5,"227;236;242","结丹","中期.","五重",227,236,242,{"$f":"ROUND([1]ResourceLevelConfig!$E79*[1]ResourceLevelConfig!$L79*0.1,0)*10","v":23940},-1,-1,-1,-1,-1,-1,0,{"$f":"[3]主表!K77","v":198.88055580296626},{"$f":"[3]主表!L77","v":6.6848870999878383},{"$f":"[3]主表!M77","v":6.6848870999878383},{"$f":"[3]主表!N77","v":0},{"$f":"[3]主表!$G77","v":2071},{"$f":"[3]升级!$H77","v":1200},{"$f":"MAX(1,ROUND(100/(24*3600)*VLOOKUP(B79,[1]ResourceLevelConfig!$A:$E,5,FALSE),2))","v":2.4300000000000002},-1,4,3,3,860,null,null,null,1,2,75]
[76,76,3,8,6,"227;236;243","结丹","中期.","六重",227,236,243,{"$f":"ROUND([1]ResourceLevelConfig!$E80*[1]ResourceLevelConfig!$L80*0.1,0)*10","v":24380},-1,-1,-1,-1,-1,-1,0,{"$f":"[3]主表!K78","v":203.83188910771844},{"$f":"[3]主表!L78","v":6.7751452984852474},{"$f":"[3]主表!M78","v":6.7751452984852474},{"$f":"[3]主表!N78","v":0},{"$f":"[3]主表!$G78","v":2115},{"$f":"[3]升级!$H78","v":1200},{"$f":"MAX(1,ROUND(100/(24*3600)*VLOOKUP(B80,[1]ResourceLevelConfig!$A:$E,5,FALSE),2))","v":2.4500000000000002},-1,4,3,3,870,null,null,null,1,2,76]
[77,77,3,8,7,"227;236;244","结丹","中期.","七重",227,236,244,{"$f":"ROUND([1]ResourceLevelConfig!$E81*[1]ResourceLevelConfig!$L81*0.1,0)*10","v":24820},-1,-1,-1,-1,-1,-1,0,{"$f":"[3]主表!K79","v":208.88067071767793},{"$f":"[3]主表!L79","v":6.8666221476904612},{"$f":"[3]主表!M79","v":6.8666221476904612},{"$f":"[3]主表!N79","v":0},{"$f":"[3]主表!$G79","v":2161},{"$f":"[3]升级!$H79","v":1200},{"$f":"MAX(1,ROUND(100/(24*3600)*VLOOKUP(B81,[1]ResourceLevelConfig!$A:$E,5,FALSE),2))","v":2.48},-1,4,3,3,880,null,null,null,1,2,77]
[78,78,3,8,8,"227;236;245","结丹","中期.","八重",227,236,245,{"$f":"ROUND([1]ResourceLevelConfig!$E82*[1]ResourceLevelConfig!$L82*0.1,0)*10","v":25270},-1,-1,-1,-1,-1,-1,0,{"$f":"[3]主表!K80","v":214.02862946849157},{"$f":"[3]主表!L80","v":6.9593341016162178},{"$f":"[3]主表!M80","v":6.9593341016162178},{"$f":"[3]主表!N80","v":0},{"$f":"[3]主表!$G80","v":2207},{"$f":"[3]升级!$H80","v":1200},{"$f":"MAX(1,ROUND(100/(24*3600)*VLOOKUP(B82,[1]ResourceLevelConfig!$A:$E,5,FALSE),2))","v":2.5},-1,4,3,3,890,null,null,null,1,2,78]
[79,79,3,8,9,"227;236;246","结丹","中期.","九重",227,236,246,{"$f":"ROUND([1]ResourceLevelConfig!$E83*[1]ResourceLevelConfig!$L83*0.1,0)*10","v":25720},-1,-1,-1,-1,-1,-1,0,{"$f":"[3]主表!K81","v":219.27752311592582},{"$f":"[3]主表!L81","v":7.0532978364345071},{"$f":"[3]主表!M81","v":7.0532978364345071},{"$f":"[3]主表!N81","v":0},{"$f":"[3]主表!$G81","v":2255},{"$f":"[3]升级!$H81","v":1200},{"$f":"MAX(1,ROUND(100/(24*3600)*VLOOKUP(B83,[1]ResourceLevelConfig!$A:$E,5,FALSE),2))","v":2.52},-1,4,3,3,900,null,null,null,1,2,79]
[80,80,3,8,10,"227;236;247","结丹","中期.","十重",227,236,247,{"$f":"ROUND([1]ResourceLevelConfig!$E84*[1]ResourceLevelConfig!$L84*0.1,0)*10","v":26300},100004,{"$f":"AM84","v":50},{"$f":"AN84","v":1202},{"$f":"AO84","v":1},{"$f":"_xlfn.TEXTJOIN(\";\",1,AP84,AR84,AT84,AV84)","v":"1202;1202;1201;1201"},{"$f":"_xlfn.TEXTJOIN(\";\",1,AQ84,AS84,AU84,AW84)","v":"1;1;1;1"},0,{"$f":"[3]主表!K82","v":224.62913880165041},{"$f":"[3]主表!L82","v":7.1485302534761361},{"$f":"[3]主表!M82","v":7.1485302534761361},{"$f":"[3]主表!N82","v":0},{"$f":"[3]主表!$G82","v":2304},{"$f":"[3]升级!$H82","v":1200},{"$f":"MAX(1,ROUND(100/(24*3600)*VLOOKUP(B84,[1]ResourceLevelConfig!$A:$E,5,FALSE),2))","v":2.56},20,4,3,3,910,null,null,null,1,2,80,50,1202,1,1202,1,1202,1,1201,1,1201,1,{"$f":"VLOOKUP(AN84,[4]ItemConfig!$A:$AC,29,FALSE)*AO84+AM84","v":65},{"$f":"VLOOKUP(AP84,[4]ItemConfig!$A:$AC,29,FALSE)*AQ84","v":15},{"$f":"VLOOKUP(AR84,[4]ItemConfig!$A:$AC,29,FALSE)*AS84","v":15},{"$f":"VLOOKUP(AT84,[4]ItemConfig!$A:$AC,29,FALSE)*AU84","v":10},{"$f":"VLOOKUP(AV84,[4]ItemConfig!$A:$AC,29,FALSE)*AW84","v":10},{"$f":"CONCATENATE(AX84,\" + \",SUM(AY84:BB84))","v":"65 + 50"}]
[81,81,3,9,1,"227;237;238","结丹","后期.","一重",227,237,238,{"$f":"ROUND([1]ResourceLevelConfig!$E85*[1]ResourceLevelConfig!$L85*0.1,0)*10","v":26760},-1,-1,-1,-1,{"$f":"IF(I85=10,\"1001;1002;1004\",-1)","v":-1},-1,0,{"$f":"[3]主表!K83","v":249.7221176981154},{"$f":"[3]主表!L83","v":7.8633832788237505},{"$f":"[3]主表!M83","v":7.8633832788237505},{"$f":"[3]主表!N83","v":0},{"$f":"[3]主表!$G83","v":2711},{"$f":"[3]升级!$H83","v":1200},{"$f":"MAX(1,ROUND(100/(24*3600)*VLOOKUP(B85,[1]ResourceLevelConfig!$A:$E,5,FALSE),2))","v":2.58},-1,4,4,3,920,null,null,null,1,2,81]
[82,82,3,9,2,"227;237;239","结丹","后期.","二重",227,237,239,{"$f":"ROUND([1]ResourceLevelConfig!$E86*[1]ResourceLevelConfig!$L86*0.1,0)*10","v":27230},-1,-1,-1,-1,-1,-1,0,{"$f":"[3]主表!K84","v":255.75939858179083},{"$f":"[3]主表!L84","v":7.9695533304978587},{"$f":"[3]主表!M84","v":7.9695533304978587},{"$f":"[3]主表!N84","v":0},{"$f":"[3]主表!$G84","v":2768},{"$f":"[3]升级!$H84","v":1200},{"$f":"MAX(1,ROUND(100/(24*3600)*VLOOKUP(B86,[1]ResourceLevelConfig!$A:$E,5,FALSE),2))","v":2.6},-1,4,4,3,930,null,null,null,1,2,82]
[83,83,3,9,3,"227;237;240","结丹","后期.","三重",227,237,240,{"$f":"ROUND([1]ResourceLevelConfig!$E87*[1]ResourceLevelConfig!$L87*0.1,0)*10","v":27690},-1,-1,-1,-1,-1,-1,0,{"$f":"[3]主表!K85","v":261.9141839416871},{"$f":"[3]主表!L85","v":8.0771568719908888},{"$f":"[3]主表!M85","v":8.0771568719908888},{"$f":"[3]主表!N85","v":0},{"$f":"[3]主表!$G85","v":2827},{"$f":"[3]升级!$H85","v":1200},{"$f":"MAX(1,ROUND(100/(24*3600)*VLOOKUP(B87,[1]ResourceLevelConfig!$A:$E,5,FALSE),2))","v":2.63},-1,4,4,3,940,null,null,null,1,2,83]
[84,84,3,9,4,"227;237;241","结丹","后期.","四重",227,237,241,{"$f":"ROUND([1]ResourceLevelConfig!$E88*[1]ResourceLevelConfig!$L88*0.1,0)*10","v":28290},-1,-1,-1,-1,-1,-1,0,{"$f":"[3]主表!K86","v":268.18854623584997},{"$f":"[3]主表!L86","v":8.1862132580363891},{"$f":"[3]主表!M86","v":8.1862132580363891},{"$f":"[3]主表!N86","v":0},{"$f":"[3]主表!$G86","v":2887},{"$f":"[3]升级!$H86","v":1200},{"$f":"MAX(1,ROUND(100/(24*3600)*VLOOKUP(B88,[1]ResourceLevelConfig!$A:$E,5,FALSE),2))","v":2.66},-1,4,4,3,950,null,null,null,1,2,84]
[85,85,3,9,5,"227;237;242","结丹","后期.","五重",227,237,242,{"$f":"ROUND([1]ResourceLevelConfig!$E89*[1]ResourceLevelConfig!$L89*0.1,0)*10","v":28770},-1,-1,-1,-1,-1,-1,0,{"$f":"[3]主表!K87","v":274.58459246527917},{"$f":"[3]主表!L87","v":8.2967421046921999},{"$f":"[3]主表!M87","v":8.2967421046921999},{"$f":"[3]主表!N87","v":0},{"$f":"[3]主表!$G87","v":2949},{"$f":"[3]升级!$H87","v":1200},{"$f":"MAX(1,ROUND(100/(24*3600)*VLOOKUP(B89,[1]ResourceLevelConfig!$A:$E,5,FALSE),2))","v":2.69},-1,4,4,3,960,null,null,null,1,2,85]
[86,86,3,9,6,"227;237;243","结丹","后期.","六重",227,237,243,{"$f":"ROUND([1]ResourceLevelConfig!$E90*[1]ResourceLevelConfig!$L90*0.1,0)*10","v":29250},-1,-1,-1,-1,-1,-1,0,{"$f":"[3]主表!K88","v":281.10446472890652},{"$f":"[3]主表!L88","v":8.4087632928688087},{"$f":"[3]主表!M88","v":8.4087632928688087},{"$f":"[3]主表!N88","v":0},{"$f":"[3]主表!$G88","v":3012},{"$f":"[3]升级!$H88","v":1200},{"$f":"MAX(1,ROUND(100/(24*3600)*VLOOKUP(B90,[1]ResourceLevelConfig!$A:$E,5,FALSE),2))","v":2.71},-1,4,4,3,970,null,null,null,1,2,86]
[87,87,3,9,7,"227;237;244","结丹","后期.","七重",227,237,244,{"$f":"ROUND([1]ResourceLevelConfig!$E91*[1]ResourceLevelConfig!$L91*0.1,0)*10","v":29860},-1,-1,-1,-1,-1,-1,0,{"$f":"[3]主表!K89","v":287.75034078726327},{"$f":"[3]主表!L89","v":8.522296971905341},{"$f":"[3]主表!M89","v":8.522296971905341},{"$f":"[3]主表!N89","v":0},{"$f":"[3]主表!$G89","v":3077},{"$f":"[3]升级!$H89","v":1200},{"$f":"MAX(1,ROUND(100/(24*3600)*VLOOKUP(B91,[1]ResourceLevelConfig!$A:$E,5,FALSE),2))","v":2.74},-1,4,4,3,980,null,null,null,1,2,87]
[88,88,3,9,8,"227;237;245","结丹","后期.","八重",227,237,245,{"$f":"ROUND([1]ResourceLevelConfig!$E92*[1]ResourceLevelConfig!$L92*0.1,0)*10","v":30350},-1,-1,-1,-1,-1,-1,0,{"$f":"[3]主表!K90","v":294.5244346349707},{"$f":"[3]主表!L90","v":8.6373635631938459},{"$f":"[3]主表!M90","v":8.6373635631938459},{"$f":"[3]主表!N90","v":0},{"$f":"[3]主表!$G90","v":3143},{"$f":"[3]升级!$H90","v":1200},{"$f":"MAX(1,ROUND(100/(24*3600)*VLOOKUP(B92,[1]ResourceLevelConfig!$A:$E,5,FALSE),2))","v":2.77},-1,4,4,3,990,null,null,null,1,2,88]
[89,89,3,9,9,"227;237;246","结丹","后期.","九重",227,237,246,{"$f":"ROUND([1]ResourceLevelConfig!$E93*[1]ResourceLevelConfig!$L93*0.1,0)*10","v":30850},-1,-1,-1,-1,-1,-1,0,{"$f":"[3]主表!K91","v":301.42899708218869},{"$f":"[3]主表!L91","v":8.7539837638525011},{"$f":"[3]主表!M91","v":8.7539837638525011},{"$f":"[3]主表!N91","v":0},{"$f":"[3]主表!$G91","v":3211},{"$f":"[3]升级!$H91","v":1200},{"$f":"MAX(1,ROUND(100/(24*3600)*VLOOKUP(B93,[1]ResourceLevelConfig!$A:$E,5,FALSE),2))","v":2.79},-1,4,4,3,1000,null,null,null,1,2,89]
[90,90,3,9,10,"227;237;247","结丹","后期.","十重",227,237,247,{"$f":"ROUND([1]ResourceLevelConfig!$E94*[1]ResourceLevelConfig!$L94*0.1,0)*10","v":31480},100004,{"$f":"AM94","v":25},{"$f":"AN94","v":1303},{"$f":"AO94","v":1},{"$f":"_xlfn.TEXTJOIN(\";\",1,AP94,AR94,AT94,AV94)","v":"1204;1203;1202;1201"},{"$f":"_xlfn.TEXTJOIN(\";\",1,AQ94,AS94,AU94,AW94)","v":"1;1;1;1"},{"$f":"CONCATENATE(ROUND(0.6*VLOOKUP(A94,[3]主表!$A:$P,16,FALSE)*[5]HeroModelConfig!$Q$5,0),\";\",ROUND(0.9*VLOOKUP(A94,[3]主表!$A:$P,16,FALSE)*[5]HeroModelConfig!$Q$5,0),\";\",INT(A94/30)+1)","v":"34222;51333;4"},{"$f":"[3]主表!K92","v":308.46631634515984},{"$f":"[3]主表!L92","v":8.8721785504484227},{"$f":"[3]主表!M92","v":8.8721785504484227},{"$f":"[3]主表!N92","v":0},{"$f":"[3]主表!$G92","v":3281},{"$f":"[3]升级!$H92","v":1200},{"$f":"MAX(1,ROUND(100/(24*3600)*VLOOKUP(B94,[1]ResourceLevelConfig!$A:$E,5,FALSE),2))","v":2.82},50,4,4,3,1010,null,null,null,1,2,90,25,1303,1,1204,1,1203,1,1202,1,1201,1,{"$f":"VLOOKUP(AN94,[4]ItemConfig!$A:$AC,29,FALSE)*AO94+AM94","v":60},{"$f":"VLOOKUP(AP94,[4]ItemConfig!$A:$AC,29,FALSE)*AQ94","v":40},{"$f":"VLOOKUP(AR94,[4]ItemConfig!$A:$AC,29,FALSE)*AS94","v":25},{"$f":"VLOOKUP(AT94,[4]ItemConfig!$A:$AC,29,FALSE)*AU94","v":15},{"$f":"VLOOKUP(AV94,[4]ItemConfig!$A:$AC,29,FALSE)*AW94","v":10},{"$f":"CONCATENATE(AX94,\" + \",SUM(AY94:BB94))","v":"60 + 90"}]
[91,91,4,10,1,"228;235;238","元婴","前期.","一重",228,235,238,{"$f":"ROUND([1]ResourceLevelConfig!$E95*[1]ResourceLevelConfig!$L95*0.1,0)*10","v":31980},-1,-1,-1,-1,{"$f":"IF(I95=10,\"1001;1002;1004\",-1)","v":-1},{"$f":"IF(R95=-1,-1,\"100;200;300\")","v":-1},0,{"$f":"[3]主表!K93","v":404.86393091916614},{"$f":"[3]主表!L93","v":11.53383211558295},{"$f":"[3]主表!M93","v":11.53383211558295},{"$f":"[3]主表!N93","v":0},{"$f":"[3]主表!$G93","v":4392},{"$f":"[3]升级!$H93","v":1300},{"$f":"MAX(1,ROUND(100/(24*3600)*VLOOKUP(B95,[1]ResourceLevelConfig!$A:$E,5,FALSE),2))","v":2.85},-1,4,4,4,1020,null,null,null,1,2,91]
[92,92,4,10,2,"228;235;239","元婴","前期.","二重",228,235,239,{"$f":"ROUND([1]ResourceLevelConfig!$E96*[1]ResourceLevelConfig!$L96*0.1,0)*10","v":32620},-1,-1,-1,-1,{"$f":"IF(I96=10,\"1001;1002;1004\",-1)","v":-1},{"$f":"IF(R96=-1,-1,\"100;200;300\")","v":-1},0,{"$f":"[3]主表!K94","v":414.24014017925037},{"$f":"[3]主表!L94","v":11.68955993760196},{"$f":"[3]主表!M94","v":11.68955993760196},{"$f":"[3]主表!N94","v":0},{"$f":"[3]主表!$G94","v":4487},{"$f":"[3]升级!$H94","v":1300},{"$f":"MAX(1,ROUND(100/(24*3600)*VLOOKUP(B96,[1]ResourceLevelConfig!$A:$E,5,FALSE),2))","v":2.88},-1,4,4,4,1030,null,null,null,1,2,92]
[93,93,4,10,3,"228;235;240","元婴","前期.","三重",228,235,240,{"$f":"ROUND([1]ResourceLevelConfig!$E97*[1]ResourceLevelConfig!$L97*0.1,0)*10","v":33130},-1,-1,-1,-1,-1,-1,0,{"$f":"[3]主表!K95","v":423.79573493667863},{"$f":"[3]主表!L95","v":11.847390369950974},{"$f":"[3]主表!M95","v":11.847390369950974},{"$f":"[3]主表!N95","v":0},{"$f":"[3]主表!$G95","v":4584},{"$f":"[3]升级!$H95","v":1300},{"$f":"MAX(1,ROUND(100/(24*3600)*VLOOKUP(B97,[1]ResourceLevelConfig!$A:$E,5,FALSE),2))","v":2.91},-1,4,4,4,1040,null,null,null,1,2,93]
[94,94,4,10,4,"228;235;241","元婴","前期.","四重",228,235,241,{"$f":"ROUND([1]ResourceLevelConfig!$E98*[1]ResourceLevelConfig!$L98*0.1,0)*10","v":33780},-1,-1,-1,-1,-1,-1,0,{"$f":"[3]主表!K96","v":433.53384997881369},{"$f":"[3]主表!L96","v":12.007351801713865},{"$f":"[3]主表!M96","v":12.007351801713865},{"$f":"[3]主表!N96","v":0},{"$f":"[3]主表!$G96","v":4683},{"$f":"[3]升级!$H96","v":1300},{"$f":"MAX(1,ROUND(100/(24*3600)*VLOOKUP(B98,[1]ResourceLevelConfig!$A:$E,5,FALSE),2))","v":2.94},-1,4,4,4,1050,null,null,null,1,2,94]
[95,95,4,10,5,"228;235;242","元婴","前期.","五重",228,235,242,{"$f":"ROUND([1]ResourceLevelConfig!$E99*[1]ResourceLevelConfig!$L99*0.1,0)*10","v":34300},-1,-1,-1,-1,-1,-1,{"$f":"IF(G99=G100,0,CONCATENATE(\"1;1\"))","v":0},{"$f":"[3]主表!K97","v":443.45767204187729},{"$f":"[3]主表!L97","v":12.169473005279036},{"$f":"[3]主表!M97","v":12.169473005279036},{"$f":"[3]主表!N97","v":0},{"$f":"[3]主表!$G97","v":4785},{"$f":"[3]升级!$H97","v":1300},{"$f":"MAX(1,ROUND(100/(24*3600)*VLOOKUP(B99,[1]ResourceLevelConfig!$A:$E,5,FALSE),2))","v":2.96},-1,4,4,4,1060,null,null,null,1,2,95]
[96,96,4,10,6,"228;235;243","元婴","前期.","六重",228,235,243,{"$f":"ROUND([1]ResourceLevelConfig!$E100*[1]ResourceLevelConfig!$L100*0.1,0)*10","v":34970},-1,-1,-1,-1,-1,-1,0,{"$f":"[3]主表!K98","v":453.57044064228933},{"$f":"[3]主表!L98","v":12.333783141514743},{"$f":"[3]主表!M98","v":12.333783141514743},{"$f":"[3]主表!N98","v":0},{"$f":"[3]主表!$G98","v":4889},{"$f":"[3]升级!$H98","v":1300},{"$f":"MAX(1,ROUND(100/(24*3600)*VLOOKUP(B100,[1]ResourceLevelConfig!$A:$E,5,FALSE),2))","v":3},-1,4,4,4,1070,null,null,null,1,2,96]
[97,97,4,10,7,"228;235;244","元婴","前期.","七重",228,235,244,{"$f":"ROUND([1]ResourceLevelConfig!$E101*[1]ResourceLevelConfig!$L101*0.1,0)*10","v":35630},-1,-1,-1,-1,-1,-1,0,{"$f":"[3]主表!K99","v":463.87544892098623},{"$f":"[3]主表!L99","v":12.500311765014287},{"$f":"[3]主表!M99","v":12.500311765014287},{"$f":"[3]主表!N99","v":0},{"$f":"[3]主表!$G99","v":4996},{"$f":"[3]升级!$H99","v":1300},{"$f":"MAX(1,ROUND(100/(24*3600)*VLOOKUP(B101,[1]ResourceLevelConfig!$A:$E,5,FALSE),2))","v":3.03},-1,4,4,4,1080,null,null,null,1,2,97]
[98,98,4,10,8,"228;235;245","元婴","前期.","八重",228,235,245,{"$f":"ROUND([1]ResourceLevelConfig!$E102*[1]ResourceLevelConfig!$L102*0.1,0)*10","v":36170},-1,-1,-1,-1,-1,-1,0,{"$f":"[3]主表!K100","v":474.37604450091771},{"$f":"[3]主表!L100","v":12.66908882941201},{"$f":"[3]主表!M100","v":12.66908882941201},{"$f":"[3]主表!N100","v":0},{"$f":"[3]主表!$G100","v":5105},{"$f":"[3]升级!$H100","v":1300},{"$f":"MAX(1,ROUND(100/(24*3600)*VLOOKUP(B102,[1]ResourceLevelConfig!$A:$E,5,FALSE),2))","v":3.06},-1,4,4,4,1090,null,null,null,1,2,98]
[99,99,4,10,9,"228;235;246","元婴","前期.","九重",228,235,246,{"$f":"ROUND([1]ResourceLevelConfig!$E103*[1]ResourceLevelConfig!$L103*0.1,0)*10","v":36850},-1,-1,-1,-1,-1,-1,0,{"$f":"[3]主表!K101","v":485.07563035792214},{"$f":"[3]主表!L101","v":12.840144692771087},{"$f":"[3]主表!M101","v":12.840144692771087},{"$f":"[3]主表!N101","v":0},{"$f":"[3]主表!$G101","v":5217},{"$f":"[3]升级!$H101","v":1300},{"$f":"MAX(1,ROUND(100/(24*3600)*VLOOKUP(B103,[1]ResourceLevelConfig!$A:$E,5,FALSE),2))","v":3.09},-1,4,4,4,1100,null,null,null,1,2,99]
[100,100,4,10,10,"228;235;247","元婴","前期.","十重",228,235,247,{"$f":"ROUND([1]ResourceLevelConfig!$E104*[1]ResourceLevelConfig!$L104*0.1,0)*10","v":37530},100004,{"$f":"AM104","v":30},{"$f":"AN104","v":1202},{"$f":"AO104","v":2},{"$f":"_xlfn.TEXTJOIN(\";\",1,AP104,AR104,AT104,AV104)","v":"1201;1201;1201;1201"},{"$f":"_xlfn.TEXTJOIN(\";\",1,AQ104,AS104,AU104,AW104)","v":"1;1;1;1"},0,{"$f":"[3]主表!K102","v":495.9776657051878},{"$f":"[3]主表!L102","v":13.013510123044052},{"$f":"[3]主表!M102","v":13.013510123044052},{"$f":"[3]主表!N102","v":0},{"$f":"[3]主表!$G102","v":5332},{"$f":"[3]升级!$H102","v":1300},{"$f":"MAX(1,ROUND(100/(24*3600)*VLOOKUP(B104,[1]ResourceLevelConfig!$A:$E,5,FALSE),2))","v":3.13},20,4,4,4,1110,null,null,null,1,2,100,30,1202,2,1201,1,1201,1,1201,1,1201,1,{"$f":"VLOOKUP(AN104,[4]ItemConfig!$A:$AC,29,FALSE)*AO104+AM104","v":60},{"$f":"VLOOKUP(AP104,[4]ItemConfig!$A:$AC,29,FALSE)*AQ104","v":10},{"$f":"VLOOKUP(AR104,[4]ItemConfig!$A:$AC,29,FALSE)*AS104","v":10},{"$f":"VLOOKUP(AT104,[4]ItemConfig!$A:$AC,29,FALSE)*AU104","v":10},{"$f":"VLOOKUP(AV104,[4]ItemConfig!$A:$AC,29,FALSE)*AW104","v":10},{"$f":"CONCATENATE(AX104,\" + \",SUM(AY104:BB104))","v":"60 + 40"}]
[101,101,4,11,1,"228;236;238","元婴","中期.","一重",228,236,238,{"$f":"ROUND([1]ResourceLevelConfig!$E105*[1]ResourceLevelConfig!$L105*0.1,0)*10","v":38080},-1,-1,-1,-1,{"$f":"IF(I105=10,\"1001;1002;1004\",-1)","v":-1},-1,0,{"$f":"[3]主表!K103","v":550.36332244337291},{"$f":"[3]主表!L103","v":14.314861135348458},{"$f":"[3]主表!M103","v":14.314861135348458},{"$f":"[3]主表!N103","v":0},{"$f":"[3]主表!$G103","v":6014},{"$f":"[3]升级!$H103","v":1300},{"$f":"MAX(1,ROUND(100/(24*3600)*VLOOKUP(B105,[1]ResourceLevelConfig!$A:$E,5,FALSE),2))","v":3.15},-1,4,4,4,1120,null,null,null,1,2,101]
[102,102,4,11,2,"228;236;239","元婴","中期.","二重",228,236,239,{"$f":"ROUND([1]ResourceLevelConfig!$E106*[1]ResourceLevelConfig!$L106*0.1,0)*10","v":38780},-1,-1,-1,-1,-1,-1,0,{"$f":"[3]主表!K104","v":562.64676901976532},{"$f":"[3]主表!L104","v":14.508137933967761},{"$f":"[3]主表!M104","v":14.508137933967761},{"$f":"[3]主表!N104","v":0},{"$f":"[3]主表!$G104","v":6119},{"$f":"[3]升级!$H104","v":1300},{"$f":"MAX(1,ROUND(100/(24*3600)*VLOOKUP(B106,[1]ResourceLevelConfig!$A:$E,5,FALSE),2))","v":3.18},-1,4,4,4,1130,null,null,null,1,2,102]
[103,103,4,11,3,"228;236;240","元婴","中期.","三重",228,236,240,{"$f":"ROUND([1]ResourceLevelConfig!$E107*[1]ResourceLevelConfig!$L107*0.1,0)*10","v":39480},-1,-1,-1,-1,-1,-1,0,{"$f":"[3]主表!K105","v":575.1615826847966},{"$f":"[3]主表!L105","v":14.704024322755725},{"$f":"[3]主表!M105","v":14.704024322755725},{"$f":"[3]主表!N105","v":0},{"$f":"[3]主表!$G105","v":6225},{"$f":"[3]升级!$H105","v":1300},{"$f":"MAX(1,ROUND(100/(24*3600)*VLOOKUP(B107,[1]ResourceLevelConfig!$A:$E,5,FALSE),2))","v":3.22},-1,4,4,4,1140,null,null,null,1,2,103]
[104,104,4,11,4,"228;236;241","元婴","中期.","四重",228,236,241,{"$f":"ROUND([1]ResourceLevelConfig!$E108*[1]ResourceLevelConfig!$L108*0.1,0)*10","v":40180},-1,-1,-1,-1,-1,-1,0,{"$f":"[3]主表!K106","v":587.91177193134899},{"$f":"[3]主表!L106","v":14.902555535950997},{"$f":"[3]主表!M106","v":14.902555535950997},{"$f":"[3]主表!N106","v":0},{"$f":"[3]主表!$G106","v":6333},{"$f":"[3]升级!$H106","v":1300},{"$f":"MAX(1,ROUND(100/(24*3600)*VLOOKUP(B108,[1]ResourceLevelConfig!$A:$E,5,FALSE),2))","v":3.25},-1,4,4,4,1150,null,null,null,1,2,104]
[105,105,4,11,5,"228;236;242","元婴","中期.","五重",228,236,242,{"$f":"ROUND([1]ResourceLevelConfig!$E109*[1]ResourceLevelConfig!$L109*0.1,0)*10","v":40750},-1,-1,-1,-1,-1,-1,0,{"$f":"[3]主表!K107","v":600.90141131819632},{"$f":"[3]主表!L107","v":15.103767283518875},{"$f":"[3]主表!M107","v":15.103767283518875},{"$f":"[3]主表!N107","v":0},{"$f":"[3]主表!$G107","v":6443},{"$f":"[3]升级!$H107","v":1300},{"$f":"MAX(1,ROUND(100/(24*3600)*VLOOKUP(B109,[1]ResourceLevelConfig!$A:$E,5,FALSE),2))","v":3.28},-1,4,4,4,1160,null,null,null,1,2,105]
[106,106,4,11,6,"228;236;243","元婴","中期.","六重",228,236,243,{"$f":"ROUND([1]ResourceLevelConfig!$E110*[1]ResourceLevelConfig!$L110*0.1,0)*10","v":41470},-1,-1,-1,-1,-1,-1,0,{"$f":"[3]主表!K108","v":614.13464252327901},{"$f":"[3]主表!L108","v":15.307695757574479},{"$f":"[3]主表!M108","v":15.307695757574479},{"$f":"[3]主表!N108","v":0},{"$f":"[3]主表!$G108","v":6555},{"$f":"[3]升级!$H108","v":1300},{"$f":"MAX(1,ROUND(100/(24*3600)*VLOOKUP(B110,[1]ResourceLevelConfig!$A:$E,5,FALSE),2))","v":3.31},-1,4,4,4,1170,null,null,null,1,2,106]
[107,107,4,11,7,"228;236;244","元婴","中期.","七重",228,236,244,{"$f":"ROUND([1]ResourceLevelConfig!$E111*[1]ResourceLevelConfig!$L111*0.1,0)*10","v":42190},-1,-1,-1,-1,-1,-1,0,{"$f":"[3]主表!K109","v":627.61567541337752},{"$f":"[3]主表!L109","v":15.514377638892656},{"$f":"[3]主表!M109","v":15.514377638892656},{"$f":"[3]主表!N109","v":0},{"$f":"[3]主表!$G109","v":6668},{"$f":"[3]升级!$H109","v":1300},{"$f":"MAX(1,ROUND(100/(24*3600)*VLOOKUP(B111,[1]ResourceLevelConfig!$A:$E,5,FALSE),2))","v":3.34},-1,4,4,4,1180,null,null,null,1,2,107]
[108,108,4,11,8,"228;236;245","元婴","中期.","八重",228,236,245,{"$f":"ROUND([1]ResourceLevelConfig!$E112*[1]ResourceLevelConfig!$L112*0.1,0)*10","v":42920},-1,-1,-1,-1,-1,-1,0,{"$f":"[3]主表!K110","v":641.34878913043462},{"$f":"[3]主表!L110","v":15.72385010350578},{"$f":"[3]主表!M110","v":15.72385010350578},{"$f":"[3]主表!N110","v":0},{"$f":"[3]主表!$G110","v":6783},{"$f":"[3]升级!$H110","v":1300},{"$f":"MAX(1,ROUND(100/(24*3600)*VLOOKUP(B112,[1]ResourceLevelConfig!$A:$E,5,FALSE),2))","v":3.38},-1,4,4,4,1190,null,null,null,1,2,108]
[109,109,4,11,9,"228;236;246","元婴","中期.","九重",228,236,246,{"$f":"ROUND([1]ResourceLevelConfig!$E113*[1]ResourceLevelConfig!$L113*0.1,0)*10","v":43660},-1,-1,-1,-1,-1,-1,0,{"$f":"[3]主表!K111","v":655.33833319478299},{"$f":"[3]主表!L111","v":15.936150829390638},{"$f":"[3]主表!M111","v":15.936150829390638},{"$f":"[3]主表!N111","v":0},{"$f":"[3]主表!$G111","v":6901},{"$f":"[3]升级!$H111","v":1300},{"$f":"MAX(1,ROUND(100/(24*3600)*VLOOKUP(B113,[1]ResourceLevelConfig!$A:$E,5,FALSE),2))","v":3.41},-1,4,4,4,1200,null,null,null,1,2,109]
[110,110,4,11,10,"228;236;247","元婴","中期.","十重",228,236,247,{"$f":"ROUND([1]ResourceLevelConfig!$E114*[1]ResourceLevelConfig!$L114*0.1,0)*10","v":44400},100004,{"$f":"AM114","v":30},{"$f":"AN114","v":1202},{"$f":"AO114","v":2},{"$f":"_xlfn.TEXTJOIN(\";\",1,AP114,AR114,AT114,AV114)","v":"1201;1201;1201;1201"},{"$f":"_xlfn.TEXTJOIN(\";\",1,AQ114,AS114,AU114,AW114)","v":"1;1;1;1"},0,{"$f":"[3]主表!K112","v":669.58872862553312},{"$f":"[3]主表!L112","v":16.151318003245589},{"$f":"[3]主表!M112","v":16.151318003245589},{"$f":"[3]主表!N112","v":0},{"$f":"[3]主表!$G112","v":7020},{"$f":"[3]升级!$H112","v":1300},{"$f":"MAX(1,ROUND(100/(24*3600)*VLOOKUP(B114,[1]ResourceLevelConfig!$A:$E,5,FALSE),2))","v":3.45},20,4,4,4,1210,null,null,null,1,2,110,30,1202,2,1201,1,1201,1,1201,1,1201,1,{"$f":"VLOOKUP(AN114,[4]ItemConfig!$A:$AC,29,FALSE)*AO114+AM114","v":60},{"$f":"VLOOKUP(AP114,[4]ItemConfig!$A:$AC,29,FALSE)*AQ114","v":10},{"$f":"VLOOKUP(AR114,[4]ItemConfig!$A:$AC,29,FALSE)*AS114","v":10},{"$f":"VLOOKUP(AT114,[4]ItemConfig!$A:$AC,29,FALSE)*AU114","v":10},{"$f":"VLOOKUP(AV114,[4]ItemConfig!$A:$AC,29,FALSE)*AW114","v":10},{"$f":"CONCATENATE(AX114,\" + \",SUM(AY114:BB114))","v":"60 + 40"}]
[111,111,4,12,1,"228;237;238","元婴","后期.","一重",228,237,238,{"$f":"ROUND([1]ResourceLevelConfig!$E115*[1]ResourceLevelConfig!$L115*0.1,0)*10","v":45150},-1,-1,-1,-1,{"$f":"IF(I115=10,\"1001;1002;1004\",-1)","v":-1},-1,0,{"$f":"[3]主表!K113","v":742.4899441712995},{"$f":"[3]主表!L113","v":17.766449803570147},{"$f":"[3]主表!M113","v":17.766449803570147},{"$f":"[3]主表!N113","v":0},{"$f":"[3]主表!$G113","v":7916},{"$f":"[3]升级!$H113","v":1300},{"$f":"MAX(1,ROUND(100/(24*3600)*VLOOKUP(B115,[1]ResourceLevelConfig!$A:$E,5,FALSE),2))","v":3.48},-1,4,4,4,1220,null,null,null,1,2,111]
[112,112,4,12,2,"228;237;239","元婴","后期.","二重",228,237,239,{"$f":"ROUND([1]ResourceLevelConfig!$E116*[1]ResourceLevelConfig!$L116*0.1,0)*10","v":45600},-1,-1,-1,-1,-1,-1,0,{"$f":"[3]主表!K114","v":758.53749116064182},{"$f":"[3]主表!L114","v":18.006329360095162},{"$f":"[3]主表!M114","v":18.006329360095162},{"$f":"[3]主表!N114","v":0},{"$f":"[3]主表!$G114","v":8051},{"$f":"[3]升级!$H114","v":1300},{"$f":"MAX(1,ROUND(100/(24*3600)*VLOOKUP(B116,[1]ResourceLevelConfig!$A:$E,5,FALSE),2))","v":3.52},-1,4,4,4,1230,null,null,null,1,2,112]
[113,113,4,12,3,"228;237;240","元婴","后期.","三重",228,237,240,{"$f":"ROUND([1]ResourceLevelConfig!$E117*[1]ResourceLevelConfig!$L117*0.1,0)*10","v":46050},-1,-1,-1,-1,-1,-1,0,{"$f":"[3]主表!K115","v":774.88302515220607},{"$f":"[3]主表!L115","v":18.249447729229047},{"$f":"[3]主表!M115","v":18.249447729229047},{"$f":"[3]主表!N115","v":0},{"$f":"[3]主表!$G115","v":8188},{"$f":"[3]升级!$H115","v":1300},{"$f":"MAX(1,ROUND(100/(24*3600)*VLOOKUP(B117,[1]ResourceLevelConfig!$A:$E,5,FALSE),2))","v":3.55},-1,4,4,4,1240,null,null,null,1,2,113]
[114,114,4,12,4,"228;237;241","元婴","后期.","四重",228,237,241,{"$f":"ROUND([1]ResourceLevelConfig!$E118*[1]ResourceLevelConfig!$L118*0.1,0)*10","v":46500},-1,-1,-1,-1,-1,-1,0,{"$f":"[3]主表!K116","v":791.53166742702308},{"$f":"[3]主表!L116","v":18.495848640863866},{"$f":"[3]主表!M116","v":18.495848640863866},{"$f":"[3]主表!N116","v":0},{"$f":"[3]主表!$G116","v":8327},{"$f":"[3]升级!$H116","v":1300},{"$f":"MAX(1,ROUND(100/(24*3600)*VLOOKUP(B118,[1]ResourceLevelConfig!$A:$E,5,FALSE),2))","v":3.59},-1,4,4,4,1250,null,null,null,1,2,114]
[115,115,4,12,5,"228;237;242","元婴","后期.","五重",228,237,242,{"$f":"ROUND([1]ResourceLevelConfig!$E119*[1]ResourceLevelConfig!$L119*0.1,0)*10","v":46950},-1,-1,-1,-1,-1,-1,0,{"$f":"[3]主表!K117","v":808.48862323659534},{"$f":"[3]主表!L117","v":18.745576415325182},{"$f":"[3]主表!M117","v":18.745576415325182},{"$f":"[3]主表!N117","v":0},{"$f":"[3]主表!$G117","v":8469},{"$f":"[3]升级!$H117","v":1300},{"$f":"MAX(1,ROUND(100/(24*3600)*VLOOKUP(B119,[1]ResourceLevelConfig!$A:$E,5,FALSE),2))","v":3.62},-1,4,4,4,1260,null,null,null,1,2,115]
[116,116,4,12,6,"228;237;243","元婴","后期.","六重",228,237,243,{"$f":"ROUND([1]ResourceLevelConfig!$E120*[1]ResourceLevelConfig!$L120*0.1,0)*10","v":47550},-1,-1,-1,-1,-1,-1,0,{"$f":"[3]主表!K118","v":825.75918313680177},{"$f":"[3]主表!L118","v":18.998675971343989},{"$f":"[3]主表!M118","v":18.998675971343989},{"$f":"[3]主表!N118","v":0},{"$f":"[3]主表!$G118","v":8613},{"$f":"[3]升级!$H118","v":1300},{"$f":"MAX(1,ROUND(100/(24*3600)*VLOOKUP(B120,[1]ResourceLevelConfig!$A:$E,5,FALSE),2))","v":3.67},-1,4,4,4,1270,null,null,null,1,2,116]
[117,117,4,12,7,"228;237;244","元婴","后期.","七重",228,237,244,{"$f":"ROUND([1]ResourceLevelConfig!$E121*[1]ResourceLevelConfig!$L121*0.1,0)*10","v":48000},-1,-1,-1,-1,-1,-1,0,{"$f":"[3]主表!K119","v":843.34872434251326},{"$f":"[3]主表!L119","v":19.255192834136277},{"$f":"[3]主表!M119","v":19.255192834136277},{"$f":"[3]主表!N119","v":0},{"$f":"[3]主表!$G119","v":8759},{"$f":"[3]升级!$H119","v":1300},{"$f":"MAX(1,ROUND(100/(24*3600)*VLOOKUP(B121,[1]ResourceLevelConfig!$A:$E,5,FALSE),2))","v":3.7},-1,4,4,4,1280,null,null,null,1,2,117]
[118,118,4,12,8,"228;237;245","元婴","后期.","八重",228,237,245,{"$f":"ROUND([1]ResourceLevelConfig!$E122*[1]ResourceLevelConfig!$L122*0.1,0)*10","v":48450},-1,-1,-1,-1,-1,-1,0,{"$f":"[3]主表!K120","v":861.26271210323796},{"$f":"[3]主表!L120","v":19.515173143591696},{"$f":"[3]主表!M120","v":19.515173143591696},{"$f":"[3]主表!N120","v":0},{"$f":"[3]主表!$G120","v":8908},{"$f":"[3]升级!$H120","v":1300},{"$f":"MAX(1,ROUND(100/(24*3600)*VLOOKUP(B122,[1]ResourceLevelConfig!$A:$E,5,FALSE),2))","v":3.74},-1,4,4,4,1290,null,null,null,1,2,118]
[119,119,4,12,9,"228;237;246","元婴","后期.","九重",228,237,246,{"$f":"ROUND([1]ResourceLevelConfig!$E123*[1]ResourceLevelConfig!$L123*0.1,0)*10","v":48900},-1,-1,-1,-1,-1,-1,0,{"$f":"[3]主表!K121","v":879.50670110011356},{"$f":"[3]主表!L121","v":19.778663662572754},{"$f":"[3]主表!M121","v":19.778663662572754},{"$f":"[3]主表!N121","v":0},{"$f":"[3]主表!$G121","v":9059},{"$f":"[3]升级!$H121","v":1300},{"$f":"MAX(1,ROUND(100/(24*3600)*VLOOKUP(B123,[1]ResourceLevelConfig!$A:$E,5,FALSE),2))","v":3.77},-1,4,4,4,1300,null,null,null,1,2,119]
[120,120,4,12,10,"228;237;247","元婴","后期.","十重",228,237,247,{"$f":"ROUND([1]ResourceLevelConfig!$E124*[1]ResourceLevelConfig!$L124*0.1,0)*10","v":49350},100004,{"$f":"AM124","v":30},{"$f":"AN124","v":1304},{"$f":"AO124","v":1},{"$f":"_xlfn.TEXTJOIN(\";\",1,AP124,AR124,AT124,AV124)","v":"1204;1203;1202;1201"},{"$f":"_xlfn.TEXTJOIN(\";\",1,AQ124,AS124,AU124,AW124)","v":"1;1;1;1"},{"$f":"CONCATENATE(ROUND(0.6*VLOOKUP(A124,[3]主表!$A:$P,16,FALSE)*[5]HeroModelConfig!$Q$5,0),\";\",ROUND(0.9*VLOOKUP(A124,[3]主表!$A:$P,16,FALSE)*[5]HeroModelConfig!$Q$5,0),\";\",INT(A124/30)+1)","v":"123828;185742;5"},{"$f":"[3]主表!K122","v":898.08633686458006},{"$f":"[3]主表!L122","v":20.045711785326127},{"$f":"[3]主表!M122","v":20.045711785326127},{"$f":"[3]主表!N122","v":0},{"$f":"[3]主表!$G122","v":9213},{"$f":"[3]升级!$H122","v":1300},{"$f":"MAX(1,ROUND(100/(24*3600)*VLOOKUP(B124,[1]ResourceLevelConfig!$A:$E,5,FALSE),2))","v":3.81},50,4,4,4,1310,null,null,null,1,2,120,30,1304,1,1204,1,1203,1,1202,1,1201,1,{"$f":"VLOOKUP(AN124,[4]ItemConfig!$A:$AC,29,FALSE)*AO124+AM124","v":60},{"$f":"VLOOKUP(AP124,[4]ItemConfig!$A:$AC,29,FALSE)*AQ124","v":40},{"$f":"VLOOKUP(AR124,[4]ItemConfig!$A:$AC,29,FALSE)*AS124","v":25},{"$f":"VLOOKUP(AT124,[4]ItemConfig!$A:$AC,29,FALSE)*AU124","v":15},{"$f":"VLOOKUP(AV124,[4]ItemConfig!$A:$AC,29,FALSE)*AW124","v":10},{"$f":"CONCATENATE(AX124,\" + \",SUM(AY124:BB124))","v":"60 + 90"}]
[121,121,5,13,1,"229;235;238","化神","前期.","一重",229,235,238,{"$f":"ROUND([1]ResourceLevelConfig!$E125*[1]ResourceLevelConfig!$L125*0.1,0)*10","v":49950},-1,-1,-1,-1,{"$f":"IF(I125=10,\"1001;1002;1004\",-1)","v":-1},{"$f":"IF(R125=-1,-1,\"100;200;300\")","v":-1},0,{"$f":"[3]主表!K123","v":1176.2283312963852},{"$f":"[3]主表!L123","v":26.059425320923964},{"$f":"[3]主表!M123","v":26.059425320923964},{"$f":"[3]主表!N123","v":0},{"$f":"[3]主表!$G123","v":12263},{"$f":"[3]升级!$H123","v":1400},{"$f":"MAX(1,ROUND(100/(24*3600)*VLOOKUP(B125,[1]ResourceLevelConfig!$A:$E,5,FALSE),2))","v":3.85},-1,4,4,4,1320,null,null,null,1,3,121]
[122,122,5,13,2,"229;235;239","化神","前期.","二重",229,235,239,{"$f":"ROUND([1]ResourceLevelConfig!$E126*[1]ResourceLevelConfig!$L126*0.1,0)*10","v":50400},-1,-1,-1,-1,{"$f":"IF(I126=10,\"1001;1002;1004\",-1)","v":-1},{"$f":"IF(R126=-1,-1,\"100;200;300\")","v":-1},0,{"$f":"[3]主表!K124","v":1200.9433409542316},{"$f":"[3]主表!L124","v":26.411275209809691},{"$f":"[3]主表!M124","v":26.411275209809691},{"$f":"[3]主表!N124","v":0},{"$f":"[3]主表!$G124","v":12457},{"$f":"[3]升级!$H124","v":1400},{"$f":"MAX(1,ROUND(100/(24*3600)*VLOOKUP(B126,[1]ResourceLevelConfig!$A:$E,5,FALSE),2))","v":3.89},-1,4,4,4,1330,null,null,null,1,3,122]
[123,123,5,13,3,"229;235;240","化神","前期.","三重",229,235,240,{"$f":"ROUND([1]ResourceLevelConfig!$E127*[1]ResourceLevelConfig!$L127*0.1,0)*10","v":51000},-1,-1,-1,-1,-1,-1,0,{"$f":"[3]主表!K125","v":1226.1113205667475},{"$f":"[3]主表!L125","v":26.767875715517711},{"$f":"[3]主表!M125","v":26.767875715517711},{"$f":"[3]主表!N125","v":0},{"$f":"[3]主表!$G125","v":12655},{"$f":"[3]升级!$H125","v":1400},{"$f":"MAX(1,ROUND(100/(24*3600)*VLOOKUP(B127,[1]ResourceLevelConfig!$A:$E,5,FALSE),2))","v":3.94},-1,4,4,4,1340,null,null,null,1,3,123]
[124,124,5,13,4,"229;235;241","化神","前期.","四重",229,235,241,{"$f":"ROUND([1]ResourceLevelConfig!$E128*[1]ResourceLevelConfig!$L128*0.1,0)*10","v":51450},-1,-1,-1,-1,-1,-1,0,{"$f":"[3]主表!K126","v":1251.7399964484357},{"$f":"[3]主表!L126","v":27.129290980061157},{"$f":"[3]主表!M126","v":27.129290980061157},{"$f":"[3]主表!N126","v":0},{"$f":"[3]主表!$G126","v":12855},{"$f":"[3]升级!$H126","v":1400},{"$f":"MAX(1,ROUND(100/(24*3600)*VLOOKUP(B128,[1]ResourceLevelConfig!$A:$E,5,FALSE),2))","v":3.97},-1,4,4,4,1350,null,null,null,1,3,124]
[125,125,5,13,5,"229;235;242","化神","前期.","五重",229,235,242,{"$f":"ROUND([1]ResourceLevelConfig!$E129*[1]ResourceLevelConfig!$L129*0.1,0)*10","v":51900},-1,-1,-1,-1,-1,-1,0,{"$f":"[3]主表!K127","v":1277.8372209764066},{"$f":"[3]主表!L127","v":27.495586011487607},{"$f":"[3]主表!M127","v":27.495586011487607},{"$f":"[3]主表!N127","v":0},{"$f":"[3]主表!$G127","v":13059},{"$f":"[3]升级!$H127","v":1400},{"$f":"MAX(1,ROUND(100/(24*3600)*VLOOKUP(B129,[1]ResourceLevelConfig!$A:$E,5,FALSE),2))","v":4},-1,4,4,4,1360,null,null,null,1,3,125]
[126,126,5,13,6,"229;235;243","化神","前期.","六重",229,235,243,{"$f":"ROUND([1]ResourceLevelConfig!$E130*[1]ResourceLevelConfig!$L130*0.1,0)*10","v":52500},-1,-1,-1,-1,-1,-1,0,{"$f":"[3]主表!K128","v":1304.410974586028},{"$f":"[3]主表!L128","v":27.866826695572154},{"$f":"[3]主表!M128","v":27.866826695572154},{"$f":"[3]主表!N128","v":0},{"$f":"[3]主表!$G128","v":13253},{"$f":"[3]升级!$H128","v":1400},{"$f":"MAX(1,ROUND(100/(24*3600)*VLOOKUP(B130,[1]ResourceLevelConfig!$A:$E,5,FALSE),2))","v":4.05},-1,4,4,4,1370,null,null,null,1,3,126]
[127,127,5,13,7,"229;235;244","化神","前期.","七重",229,235,244,{"$f":"ROUND([1]ResourceLevelConfig!$E131*[1]ResourceLevelConfig!$L131*0.1,0)*10","v":52950},-1,-1,-1,-1,-1,-1,0,{"$f":"[3]主表!K129","v":1331.4693677974828},{"$f":"[3]主表!L129","v":28.243079807668305},{"$f":"[3]主表!M129","v":28.243079807668305},{"$f":"[3]主表!N129","v":0},{"$f":"[3]主表!$G129","v":13450},{"$f":"[3]升级!$H129","v":1400},{"$f":"MAX(1,ROUND(100/(24*3600)*VLOOKUP(B131,[1]ResourceLevelConfig!$A:$E,5,FALSE),2))","v":4.09},-1,{"$f":"AC130","v":4},{"$f":"AD130","v":4},{"$f":"AE130","v":4},1380,null,null,null,1,3,127]
[128,128,5,13,8,"229;235;245","化神","前期.","八重",229,235,245,{"$f":"ROUND([1]ResourceLevelConfig!$E132*[1]ResourceLevelConfig!$L132*0.1,0)*10","v":53550},-1,-1,-1,-1,-1,-1,0,{"$f":"[3]主表!K130","v":1359.0206432737036},{"$f":"[3]主表!L130","v":28.624413024718947},{"$f":"[3]主表!M130","v":28.624413024718947},{"$f":"[3]主表!N130","v":0},{"$f":"[3]主表!$G130","v":13650},{"$f":"[3]升级!$H130","v":1400},{"$f":"MAX(1,ROUND(100/(24*3600)*VLOOKUP(B132,[1]ResourceLevelConfig!$A:$E,5,FALSE),2))","v":4.13},-1,4,4,4,1390,null,null,null,1,3,128]
[129,129,5,13,9,"229;235;246","化神","前期.","九重",229,235,246,{"$f":"ROUND([1]ResourceLevelConfig!$E133*[1]ResourceLevelConfig!$L133*0.1,0)*10","v":54150},-1,-1,-1,-1,-1,-1,0,{"$f":"[3]主表!K131","v":1387.0731779101725},{"$f":"[3]主表!L131","v":29.010894937429427},{"$f":"[3]主表!M131","v":29.010894937429427},{"$f":"[3]主表!N131","v":0},{"$f":"[3]主表!$G131","v":13853},{"$f":"[3]升级!$H131","v":1400},{"$f":"MAX(1,ROUND(100/(24*3600)*VLOOKUP(B133,[1]ResourceLevelConfig!$A:$E,5,FALSE),2))","v":4.18},-1,4,4,4,1400,null,null,null,1,3,129]
[130,130,5,13,10,{"$f":"_xlfn.TEXTJOIN(\";\",1,J134:L134)","v":"229;235;247"},"化神","前期.","十重",229,235,247,{"$f":"ROUND([1]ResourceLevelConfig!$E134*[1]ResourceLevelConfig!$L134*0.1,0)*10","v":54600},{"$f":"IF(E134=10,100004,-1)","v":100004},{"$f":"AM134","v":30},{"$f":"AN134","v":1202},{"$f":"AO134","v":2},{"$f":"_xlfn.TEXTJOIN(\";\",1,AP134,AR134,AT134,AV134)","v":"1202;1201;1201;1201"},{"$f":"_xlfn.TEXTJOIN(\";\",1,AQ134,AS134,AU134,AW134)","v":"1;1;1;1"},0,{"$f":"[3]主表!K132","v":1415.6354849570544},{"$f":"[3]主表!L132","v":29.402595062605023},{"$f":"[3]主表!M132","v":29.402595062605023},{"$f":"[3]主表!N132","v":0},{"$f":"[3]主表!$G132","v":14059},{"$f":"[3]升级!$H132","v":1400},{"$f":"MAX(1,ROUND(100/(24*3600)*VLOOKUP(B134,[1]ResourceLevelConfig!$A:$E,5,FALSE),2))","v":4.21},20,4,4,4,{"$f":"MAX(AF133+10,ROUND(10^(B134*0.01+1.405),0))","v":1410},null,null,null,1,3,130,30,1202,2,1202,1,1201,1,1201,1,1201,1,{"$f":"VLOOKUP(AN134,[4]ItemConfig!$A:$AC,29,FALSE)*AO134+AM134","v":60},{"$f":"VLOOKUP(AP134,[4]ItemConfig!$A:$AC,29,FALSE)*AQ134","v":15},{"$f":"VLOOKUP(AR134,[4]ItemConfig!$A:$AC,29,FALSE)*AS134","v":10},{"$f":"VLOOKUP(AT134,[4]ItemConfig!$A:$AC,29,FALSE)*AU134","v":10},{"$f":"VLOOKUP(AV134,[4]ItemConfig!$A:$AC,29,FALSE)*AW134","v":10},{"$f":"CONCATENATE(AX134,\" + \",SUM(AY134:BB134))","v":"60 + 45"}]
[131,131,5,14,1,"229;236;238","化神","中期.","一重",229,236,238,{"$f":"ROUND([1]ResourceLevelConfig!$E135*[1]ResourceLevelConfig!$L135*0.1,0)*10","v":55200},-1,{"$f":"IF(N135=-1,-1,20)","v":-1},-1,-1,{"$f":"IF(I135=10,\"1001;1002;1004\",-1)","v":-1},-1,0,{"$f":"[3]主表!K133","v":1568.0167447753061},{"$f":"[3]主表!L133","v":32.342854568865526},{"$f":"[3]主表!M133","v":32.342854568865526},{"$f":"[3]主表!N133","v":0},{"$f":"[3]主表!$G133","v":15818},{"$f":"[3]升级!$H133","v":1400},{"$f":"MAX(1,ROUND(100/(24*3600)*VLOOKUP(B135,[1]ResourceLevelConfig!$A:$E,5,FALSE),2))","v":4.26},-1,4,4,4,1420,null,null,null,1,3,131]
[132,132,5,14,2,"229;236;239","化神","中期.","二重",229,236,239,{"$f":"ROUND([1]ResourceLevelConfig!$E136*[1]ResourceLevelConfig!$L136*0.1,0)*10","v":55800},-1,-1,-1,-1,-1,-1,0,{"$f":"[3]主表!K134","v":1600.1516079960925},{"$f":"[3]主表!L134","v":32.779542241220504},{"$f":"[3]主表!M134","v":32.779542241220504},{"$f":"[3]主表!N134","v":0},{"$f":"[3]主表!$G134","v":16050},{"$f":"[3]升级!$H134","v":1400},{"$f":"MAX(1,ROUND(100/(24*3600)*VLOOKUP(B136,[1]ResourceLevelConfig!$A:$E,5,FALSE),2))","v":4.3099999999999996},-1,4,4,4,1430,null,null,null,1,3,132]
[133,133,5,14,3,"229;236;240","化神","中期.","三重",229,236,240,{"$f":"ROUND([1]ResourceLevelConfig!$E137*[1]ResourceLevelConfig!$L137*0.1,0)*10","v":56250},-1,-1,-1,-1,-1,-1,0,{"$f":"[3]主表!K135","v":1632.8683815696618},{"$f":"[3]主表!L135","v":33.222125995592009},{"$f":"[3]主表!M135","v":33.222125995592009},{"$f":"[3]主表!N135","v":0},{"$f":"[3]主表!$G135","v":16286},{"$f":"[3]升级!$H135","v":1400},{"$f":"MAX(1,ROUND(100/(24*3600)*VLOOKUP(B137,[1]ResourceLevelConfig!$A:$E,5,FALSE),2))","v":4.34},-1,4,4,4,1440,null,null,null,1,3,133]
[134,134,5,14,4,"229;236;241","化神","中期.","四重",229,236,241,{"$f":"ROUND([1]ResourceLevelConfig!$E138*[1]ResourceLevelConfig!$L138*0.1,0)*10","v":56850},-1,-1,-1,-1,-1,-1,0,{"$f":"[3]主表!K136","v":1666.1769210381435},{"$f":"[3]主表!L136","v":33.670685439867668},{"$f":"[3]主表!M136","v":33.670685439867668},{"$f":"[3]主表!N136","v":0},{"$f":"[3]主表!$G136","v":16525},{"$f":"[3]升级!$H136","v":1400},{"$f":"MAX(1,ROUND(100/(24*3600)*VLOOKUP(B138,[1]ResourceLevelConfig!$A:$E,5,FALSE),2))","v":4.3899999999999997},-1,4,4,4,1450,null,null,null,1,3,134]
[135,135,5,14,5,"229;236;242","化神","中期.","五重",229,236,242,{"$f":"ROUND([1]ResourceLevelConfig!$E139*[1]ResourceLevelConfig!$L139*0.1,0)*10","v":57450},-1,-1,-1,-1,-1,-1,0,{"$f":"[3]主表!K137","v":1700.0872419974551},{"$f":"[3]主表!L137","v":34.125301256787139},{"$f":"[3]主表!M137","v":34.125301256787139},{"$f":"[3]主表!N137","v":0},{"$f":"[3]主表!$G137","v":16769},{"$f":"[3]升级!$H137","v":1400},{"$f":"MAX(1,ROUND(100/(24*3600)*VLOOKUP(B139,[1]ResourceLevelConfig!$A:$E,5,FALSE),2))","v":4.43},-1,4,4,4,1460,null,null,null,1,3,135]
[136,136,5,14,6,"229;236;243","化神","中期.","六重",229,236,243,{"$f":"ROUND([1]ResourceLevelConfig!$E140*[1]ResourceLevelConfig!$L140*0.1,0)*10","v":58050},-1,-1,-1,-1,-1,-1,0,{"$f":"[3]主表!K138","v":1734.609522622678},{"$f":"[3]主表!L138","v":34.586055218454582},{"$f":"[3]主表!M138","v":34.586055218454582},{"$f":"[3]主表!N138","v":0},{"$f":"[3]主表!$G138","v":17016},{"$f":"[3]升级!$H138","v":1400},{"$f":"MAX(1,ROUND(100/(24*3600)*VLOOKUP(B140,[1]ResourceLevelConfig!$A:$E,5,FALSE),2))","v":4.4800000000000004},-1,4,4,4,1470,null,null,null,1,3,136]
[137,137,5,14,7,"229;236;244","化神","中期.","七重",229,236,244,{"$f":"ROUND([1]ResourceLevelConfig!$E141*[1]ResourceLevelConfig!$L141*0.1,0)*10","v":58650},-1,-1,-1,-1,-1,-1,0,{"$f":"[3]主表!K139","v":1769.7541062324531},{"$f":"[3]主表!L139","v":35.053030201047079},{"$f":"[3]主表!M139","v":35.053030201047079},{"$f":"[3]主表!N139","v":0},{"$f":"[3]主表!$G139","v":17267},{"$f":"[3]升级!$H139","v":1400},{"$f":"MAX(1,ROUND(100/(24*3600)*VLOOKUP(B141,[1]ResourceLevelConfig!$A:$E,5,FALSE),2))","v":4.53},-1,4,4,4,1480,null,null,null,1,3,137]
[138,138,5,14,8,"229;236;245","化神","中期.","八重",229,236,245,{"$f":"ROUND([1]ResourceLevelConfig!$E142*[1]ResourceLevelConfig!$L142*0.1,0)*10","v":59250},-1,-1,-1,-1,-1,-1,0,{"$f":"[3]主表!K140","v":1805.5315038929868},{"$f":"[3]主表!L140","v":35.526310199721628},{"$f":"[3]主表!M140","v":35.526310199721628},{"$f":"[3]主表!N140","v":0},{"$f":"[3]主表!$G140","v":17521},{"$f":"[3]升级!$H140","v":1400},{"$f":"MAX(1,ROUND(100/(24*3600)*VLOOKUP(B142,[1]ResourceLevelConfig!$A:$E,5,FALSE),2))","v":4.57},-1,4,4,4,1490,null,null,null,1,3,138]
[139,139,5,14,9,"229;236;246","化神","中期.","九重",229,236,246,{"$f":"ROUND([1]ResourceLevelConfig!$E143*[1]ResourceLevelConfig!$L143*0.1,0)*10","v":59850},-1,-1,-1,-1,-1,-1,0,{"$f":"[3]主表!K141","v":1841.9523970622683},{"$f":"[3]主表!L141","v":36.005980343723436},{"$f":"[3]主表!M141","v":36.005980343723436},{"$f":"[3]主表!N141","v":0},{"$f":"[3]主表!$G141","v":17780},{"$f":"[3]升级!$H141","v":1400},{"$f":"MAX(1,ROUND(100/(24*3600)*VLOOKUP(B143,[1]ResourceLevelConfig!$A:$E,5,FALSE),2))","v":4.62},-1,4,4,4,1500,null,null,null,1,3,139]
[140,140,5,14,10,"229;236;247","化神","中期.","十重",229,236,247,{"$f":"ROUND([1]ResourceLevelConfig!$E144*[1]ResourceLevelConfig!$L144*0.1,0)*10","v":60450},100004,{"$f":"AM144","v":30},{"$f":"AN144","v":1202},{"$f":"AO144","v":2},{"$f":"_xlfn.TEXTJOIN(\";\",1,AP144,AR144,AT144,AV144)","v":"1202;1201;1201;1201"},{"$f":"_xlfn.TEXTJOIN(\";\",1,AQ144,AS144,AU144,AW144)","v":"1;1;1;1"},0,{"$f":"[3]主表!K142","v":1879.0276402751099},{"$f":"[3]主表!L142","v":36.492126911698158},{"$f":"[3]主表!M142","v":36.492126911698158},{"$f":"[3]主表!N142","v":0},{"$f":"[3]主表!$G142","v":18043},{"$f":"[3]升级!$H142","v":1400},{"$f":"MAX(1,ROUND(100/(24*3600)*VLOOKUP(B144,[1]ResourceLevelConfig!$A:$E,5,FALSE),2))","v":4.66},20,4,4,4,1510,null,null,null,1,3,140,30,1202,2,1202,1,1201,1,1201,1,1201,1,{"$f":"VLOOKUP(AN144,[4]ItemConfig!$A:$AC,29,FALSE)*AO144+AM144","v":60},{"$f":"VLOOKUP(AP144,[4]ItemConfig!$A:$AC,29,FALSE)*AQ144","v":15},{"$f":"VLOOKUP(AR144,[4]ItemConfig!$A:$AC,29,FALSE)*AS144","v":10},{"$f":"VLOOKUP(AT144,[4]ItemConfig!$A:$AC,29,FALSE)*AU144","v":10},{"$f":"VLOOKUP(AV144,[4]ItemConfig!$A:$AC,29,FALSE)*AW144","v":10},{"$f":"CONCATENATE(AX144,\" + \",SUM(AY144:BB144))","v":"60 + 45"}]
[141,141,5,15,1,"229;237;238","化神","后期.","一重",229,237,238,{"$f":"ROUND([1]ResourceLevelConfig!$E145*[1]ResourceLevelConfig!$L145*0.1,0)*10","v":61050},-1,-1,-1,-1,{"$f":"IF(I145=10,\"1001;1002;1004\",-1)","v":-1},-1,0,{"$f":"[3]主表!K143","v":2080.3564741320333},{"$f":"[3]主表!L143","v":40.14133960286798},{"$f":"[3]主表!M143","v":40.14133960286798},{"$f":"[3]主表!N143","v":0},{"$f":"[3]主表!$G143","v":20298},{"$f":"[3]升级!$H143","v":1400},{"$f":"MAX(1,ROUND(100/(24*3600)*VLOOKUP(B145,[1]ResourceLevelConfig!$A:$E,5,FALSE),2))","v":4.71},-1,4,4,4,1520,null,null,null,1,3,141]
[142,142,5,15,2,"229;237;239","化神","后期.","二重",229,237,239,{"$f":"ROUND([1]ResourceLevelConfig!$E146*[1]ResourceLevelConfig!$L146*0.1,0)*10","v":61650},-1,-1,-1,-1,-1,-1,0,{"$f":"[3]主表!K144","v":2122.0524365769284},{"$f":"[3]主表!L144","v":40.683321081932021},{"$f":"[3]主表!M144","v":40.683321081932021},{"$f":"[3]主表!N144","v":0},{"$f":"[3]主表!$G144","v":20593},{"$f":"[3]升级!$H144","v":1400},{"$f":"MAX(1,ROUND(100/(24*3600)*VLOOKUP(B146,[1]ResourceLevelConfig!$A:$E,5,FALSE),2))","v":4.76},-1,4,4,4,1530,null,null,null,1,3,142]
[143,143,5,15,3,"229;237;240","化神","后期.","三重",229,237,240,{"$f":"ROUND([1]ResourceLevelConfig!$E147*[1]ResourceLevelConfig!$L147*0.1,0)*10","v":62250},-1,-1,-1,-1,-1,-1,0,{"$f":"[3]主表!K145","v":2164.4950948067235},{"$f":"[3]主表!L145","v":41.232620301922367},{"$f":"[3]主表!M145","v":41.232620301922367},{"$f":"[3]主表!N145","v":0},{"$f":"[3]主表!$G145","v":20894},{"$f":"[3]升级!$H145","v":1400},{"$f":"MAX(1,ROUND(100/(24*3600)*VLOOKUP(B147,[1]ResourceLevelConfig!$A:$E,5,FALSE),2))","v":4.8},-1,4,4,4,1540,null,null,null,1,3,143]
[144,144,5,15,4,"229;237;241","化神","后期.","四重",229,237,241,{"$f":"ROUND([1]ResourceLevelConfig!$E148*[1]ResourceLevelConfig!$L148*0.1,0)*10","v":62850},-1,-1,-1,-1,-1,-1,0,{"$f":"[3]主表!K146","v":2207.697011190437},{"$f":"[3]主表!L146","v":41.78933606572128},{"$f":"[3]主表!M146","v":41.78933606572128},{"$f":"[3]主表!N146","v":0},{"$f":"[3]主表!$G146","v":21199},{"$f":"[3]升级!$H146","v":1400},{"$f":"MAX(1,ROUND(100/(24*3600)*VLOOKUP(B148,[1]ResourceLevelConfig!$A:$E,5,FALSE),2))","v":4.8499999999999996},-1,4,4,4,1550,null,null,null,1,3,144]
[145,145,5,15,5,"229;237;242","化神","后期.","五重",229,237,242,{"$f":"ROUND([1]ResourceLevelConfig!$E149*[1]ResourceLevelConfig!$L149*0.1,0)*10","v":63450},-1,-1,-1,-1,-1,-1,0,{"$f":"[3]主表!K147","v":2251.6709512048187},{"$f":"[3]主表!L147","v":42.353568510230581},{"$f":"[3]主表!M147","v":42.353568510230581},{"$f":"[3]主表!N147","v":0},{"$f":"[3]主表!$G147","v":21508},{"$f":"[3]升级!$H147","v":1400},{"$f":"MAX(1,ROUND(100/(24*3600)*VLOOKUP(B149,[1]ResourceLevelConfig!$A:$E,5,FALSE),2))","v":4.9000000000000004},-1,4,4,4,1560,null,null,null,1,3,145]
[146,146,5,15,6,"229;237;243","化神","后期.","六重",229,237,243,{"$f":"ROUND([1]ResourceLevelConfig!$E150*[1]ResourceLevelConfig!$L150*0.1,0)*10","v":64050},-1,-1,-1,-1,-1,-1,0,{"$f":"[3]主表!K148","v":2296.4298866288846},{"$f":"[3]主表!L148","v":42.925419124383353},{"$f":"[3]主表!M148","v":42.925419124383353},{"$f":"[3]主表!N148","v":0},{"$f":"[3]主表!$G148","v":21823},{"$f":"[3]升级!$H148","v":1400},{"$f":"MAX(1,ROUND(100/(24*3600)*VLOOKUP(B150,[1]ResourceLevelConfig!$A:$E,5,FALSE),2))","v":4.9400000000000004},-1,4,4,4,1570,null,null,null,1,3,146]
[147,147,5,15,7,"229;237;244","化神","后期.","七重",229,237,244,{"$f":"ROUND([1]ResourceLevelConfig!$E151*[1]ResourceLevelConfig!$L151*0.1,0)*10","v":64800},-1,-1,-1,-1,-1,-1,0,{"$f":"[3]主表!K149","v":2341.9869987877019},{"$f":"[3]主表!L149","v":43.504990767398851},{"$f":"[3]主表!M149","v":43.504990767398851},{"$f":"[3]主表!N149","v":0},{"$f":"[3]主表!$G149","v":22142},{"$f":"[3]升级!$H149","v":1400},{"$f":"MAX(1,ROUND(100/(24*3600)*VLOOKUP(B151,[1]ResourceLevelConfig!$A:$E,5,FALSE),2))","v":5},-1,4,4,4,1580,null,null,null,1,3,147]
[148,148,5,15,8,"229;237;245","化神","后期.","八重",229,237,245,{"$f":"ROUND([1]ResourceLevelConfig!$E152*[1]ResourceLevelConfig!$L152*0.1,0)*10","v":65400},-1,-1,-1,-1,-1,-1,0,{"$f":"[3]主表!K150","v":2388.3556818461439},{"$f":"[3]主表!L150","v":44.092387687283846},{"$f":"[3]主表!M150","v":44.092387687283846},{"$f":"[3]主表!N150","v":0},{"$f":"[3]主表!$G150","v":22467},{"$f":"[3]升级!$H150","v":1400},{"$f":"MAX(1,ROUND(100/(24*3600)*VLOOKUP(B152,[1]ResourceLevelConfig!$A:$E,5,FALSE),2))","v":5.05},-1,4,4,4,1590,null,null,null,1,3,148]
[149,149,5,15,9,"229;237;246","化神","后期.","九重",229,237,246,{"$f":"ROUND([1]ResourceLevelConfig!$E153*[1]ResourceLevelConfig!$L153*0.1,0)*10","v":66150},-1,-1,-1,-1,-1,-1,0,{"$f":"[3]主表!K151","v":2435.5495461534028},{"$f":"[3]主表!L151","v":44.68771553958382},{"$f":"[3]主表!M151","v":44.68771553958382},{"$f":"[3]主表!N151","v":0},{"$f":"[3]主表!$G151","v":22796},{"$f":"[3]升级!$H151","v":1400},{"$f":"MAX(1,ROUND(100/(24*3600)*VLOOKUP(B153,[1]ResourceLevelConfig!$A:$E,5,FALSE),2))","v":5.0999999999999996},-1,4,4,4,1600,null,null,null,1,3,149]
[150,150,5,15,10,"229;237;247","化神","后期.","十重",229,237,247,{"$f":"ROUND([1]ResourceLevelConfig!$E154*[1]ResourceLevelConfig!$L154*0.1,0)*10","v":66750},100004,{"$f":"AM154","v":35},{"$f":"AN154","v":1305},{"$f":"AO154","v":1},{"$f":"_xlfn.TEXTJOIN(\";\",1,AP154,AR154,AT154,AV154)","v":"1204;1203;1202;1201"},{"$f":"_xlfn.TEXTJOIN(\";\",1,AQ154,AS154,AU154,AW154)","v":"1;1;1;1"},{"$f":"CONCATENATE(ROUND(0.6*VLOOKUP(A154,[3]主表!$A:$P,16,FALSE)*[5]HeroModelConfig!$Q$5,0),\";\",ROUND(0.9*VLOOKUP(A154,[3]主表!$A:$P,16,FALSE)*[5]HeroModelConfig!$Q$5,0),\";\",INT(A154/30)+1)","v":"380524;570785;6"},{"$f":"[3]主表!K152","v":2483.5824216390024},{"$f":"[3]主表!L152","v":45.291081406387292},{"$f":"[3]主表!M152","v":45.291081406387292},{"$f":"[3]主表!N152","v":0},{"$f":"[3]主表!$G152","v":23131},{"$f":"[3]升级!$H152","v":1400},{"$f":"MAX(1,ROUND(100/(24*3600)*VLOOKUP(B154,[1]ResourceLevelConfig!$A:$E,5,FALSE),2))","v":5.15},50,4,4,4,1610,null,null,null,1,3,150,35,1305,1,1204,1,1203,1,1202,1,1201,1,{"$f":"VLOOKUP(AN154,[4]ItemConfig!$A:$AC,29,FALSE)*AO154+AM154","v":60},{"$f":"VLOOKUP(AP154,[4]ItemConfig!$A:$AC,29,FALSE)*AQ154","v":40},{"$f":"VLOOKUP(AR154,[4]ItemConfig!$A:$AC,29,FALSE)*AS154","v":25},{"$f":"VLOOKUP(AT154,[4]ItemConfig!$A:$AC,29,FALSE)*AU154","v":15},{"$f":"VLOOKUP(AV154,[4]ItemConfig!$A:$AC,29,FALSE)*AW154","v":10},{"$f":"CONCATENATE(AX154,\" + \",SUM(AY154:BB154))","v":"60 + 90"}]
[151,151,6,16,1,"230;235;238","炼虚","前期.","一重",230,235,238,{"$f":"ROUND([1]ResourceLevelConfig!$E155*[1]ResourceLevelConfig!$L155*0.1,0)*10","v":67350},-1,-1,-1,-1,{"$f":"IF(I155=10,\"1001;1002;1004\",-1)","v":-1},{"$f":"IF(R155=-1,-1,\"100;200;300\")","v":-1},0,{"$f":"[3]主表!K153","v":3248.3502026205638},{"$f":"[3]主表!L153","v":58.878405828303485},{"$f":"[3]主表!M153","v":58.878405828303485},{"$f":"[3]主表!N153","v":0},{"$f":"[3]主表!$G153","v":30749},{"$f":"[3]升级!$H153","v":1500},{"$f":"MAX(1,ROUND(100/(24*3600)*VLOOKUP(B155,[1]ResourceLevelConfig!$A:$E,5,FALSE),2))","v":5.2},-1,4,4,4,1620,null,null,null,1,3,151]
[152,152,6,16,2,"230;235;239","炼虚","前期.","二重",230,235,239,{"$f":"ROUND([1]ResourceLevelConfig!$E156*[1]ResourceLevelConfig!$L156*0.1,0)*10","v":68100},-1,-1,-1,-1,{"$f":"IF(I156=10,\"1001;1002;1004\",-1)","v":-1},{"$f":"IF(R156=-1,-1,\"100;200;300\")","v":-1},0,{"$f":"[3]主表!K154","v":3312.1678163717061},{"$f":"[3]主表!L154","v":59.673371960262791},{"$f":"[3]主表!M154","v":59.673371960262791},{"$f":"[3]主表!N154","v":0},{"$f":"[3]主表!$G154","v":31194},{"$f":"[3]升级!$H154","v":1500},{"$f":"MAX(1,ROUND(100/(24*3600)*VLOOKUP(B156,[1]ResourceLevelConfig!$A:$E,5,FALSE),2))","v":5.25},-1,4,4,4,1630,null,null,null,1,3,152]
[153,153,6,16,3,"230;235;240","炼虚","前期.","三重",230,235,240,{"$f":"ROUND([1]ResourceLevelConfig!$E157*[1]ResourceLevelConfig!$L157*0.1,0)*10","v":68850},-1,-1,-1,-1,-1,-1,0,{"$f":"[3]主表!K155","v":3377.1165668664366},{"$f":"[3]主表!L155","v":60.479071588519631},{"$f":"[3]主表!M155","v":60.479071588519631},{"$f":"[3]主表!N155","v":0},{"$f":"[3]主表!$G155","v":31645},{"$f":"[3]升级!$H155","v":1500},{"$f":"MAX(1,ROUND(100/(24*3600)*VLOOKUP(B157,[1]ResourceLevelConfig!$A:$E,5,FALSE),2))","v":5.31},-1,4,4,4,1640,null,null,null,1,3,153]
[154,154,6,16,4,"230;235;241","炼虚","前期.","四重",230,235,241,{"$f":"ROUND([1]ResourceLevelConfig!$E158*[1]ResourceLevelConfig!$L158*0.1,0)*10","v":69450},-1,-1,-1,-1,-1,-1,0,{"$f":"[3]主表!K156","v":3443.2153650223836},{"$f":"[3]主表!L156","v":61.295649634899128},{"$f":"[3]主表!M156","v":61.295649634899128},{"$f":"[3]主表!N156","v":0},{"$f":"[3]主表!$G156","v":32104},{"$f":"[3]升级!$H156","v":1500},{"$f":"MAX(1,ROUND(100/(24*3600)*VLOOKUP(B158,[1]ResourceLevelConfig!$A:$E,5,FALSE),2))","v":5.36},-1,4,4,4,1650,null,null,null,1,3,154]
[155,155,6,16,5,"230;235;242","炼虚","前期.","五重",230,235,242,{"$f":"ROUND([1]ResourceLevelConfig!$E159*[1]ResourceLevelConfig!$L159*0.1,0)*10","v":70200},-1,-1,-1,-1,-1,-1,0,{"$f":"[3]主表!K157","v":3510.4834262155873},{"$f":"[3]主表!L157","v":62.123252977936055},{"$f":"[3]主表!M157","v":62.123252977936055},{"$f":"[3]主表!N157","v":0},{"$f":"[3]主表!$G157","v":32570},{"$f":"[3]升级!$H157","v":1500},{"$f":"MAX(1,ROUND(100/(24*3600)*VLOOKUP(B159,[1]ResourceLevelConfig!$A:$E,5,FALSE),2))","v":5.42},-1,4,4,4,1660,null,null,null,1,3,155]
[156,156,6,16,6,"230;235;243","炼虚","前期.","六重",230,235,243,{"$f":"ROUND([1]ResourceLevelConfig!$E160*[1]ResourceLevelConfig!$L160*0.1,0)*10","v":70950},-1,-1,-1,-1,-1,-1,0,{"$f":"[3]主表!K158","v":3578.9402750545428},{"$f":"[3]主表!L158","v":62.962030479293929},{"$f":"[3]主表!M158","v":62.962030479293929},{"$f":"[3]主表!N158","v":0},{"$f":"[3]主表!$G158","v":33043},{"$f":"[3]升级!$H158","v":1500},{"$f":"MAX(1,ROUND(100/(24*3600)*VLOOKUP(B160,[1]ResourceLevelConfig!$A:$E,5,FALSE),2))","v":5.47},-1,4,4,4,1670,null,null,null,1,3,156]
[157,157,6,16,7,"230;235;244","炼虚","前期.","七重",230,235,244,{"$f":"ROUND([1]ResourceLevelConfig!$E161*[1]ResourceLevelConfig!$L161*0.1,0)*10","v":71550},-1,-1,-1,-1,-1,-1,0,{"$f":"[3]主表!K159","v":3648.6057502276576},{"$f":"[3]主表!L159","v":63.812133010540919},{"$f":"[3]主表!M159","v":63.812133010540919},{"$f":"[3]主表!N159","v":0},{"$f":"[3]主表!$G159","v":33523},{"$f":"[3]升级!$H159","v":1500},{"$f":"MAX(1,ROUND(100/(24*3600)*VLOOKUP(B161,[1]ResourceLevelConfig!$A:$E,5,FALSE),2))","v":5.52},-1,4,4,4,1680,null,null,null,1,3,157]
[158,158,6,16,8,"230;235;245","炼虚","前期.","八重",230,235,245,{"$f":"ROUND([1]ResourceLevelConfig!$E162*[1]ResourceLevelConfig!$L162*0.1,0)*10","v":72300},-1,-1,-1,-1,-1,-1,0,{"$f":"[3]主表!K160","v":3719.5000094252355},{"$f":"[3]主表!L160","v":64.673713480287219},{"$f":"[3]主表!M160","v":64.673713480287219},{"$f":"[3]主表!N160","v":0},{"$f":"[3]主表!$G160","v":34011},{"$f":"[3]升级!$H160","v":1500},{"$f":"MAX(1,ROUND(100/(24*3600)*VLOOKUP(B162,[1]ResourceLevelConfig!$A:$E,5,FALSE),2))","v":5.58},-1,4,4,4,1690,null,null,null,1,3,158]
[159,159,6,16,9,"230;235;246","炼虚","前期.","九重",230,235,246,{"$f":"ROUND([1]ResourceLevelConfig!$E163*[1]ResourceLevelConfig!$L163*0.1,0)*10","v":73050},-1,-1,-1,-1,-1,-1,{"$f":"IF(G163=G164,0,CONCATENATE(\"1;1\"))","v":0},{"$f":"[3]主表!K161","v":3791.6435343371077},{"$f":"[3]主表!L161","v":65.546926861688817},{"$f":"[3]主表!M161","v":65.546926861688817},{"$f":"[3]主表!N161","v":0},{"$f":"[3]主表!$G161","v":34506},{"$f":"[3]升级!$H161","v":1500},{"$f":"MAX(1,ROUND(100/(24*3600)*VLOOKUP(B163,[1]ResourceLevelConfig!$A:$E,5,FALSE),2))","v":5.64},-1,4,4,4,1700,null,null,null,1,3,159]
[160,160,6,16,10,"230;235;247","炼虚","前期.","十重",230,235,247,{"$f":"ROUND([1]ResourceLevelConfig!$E164*[1]ResourceLevelConfig!$L164*0.1,0)*10","v":73800},100004,{"$f":"AM164","v":15},{"$f":"AN164","v":1202},{"$f":"AO164","v":3},{"$f":"_xlfn.TEXTJOIN(\";\",1,AP164,AR164,AT164,AV164)","v":"1201;1201;1201;1201"},{"$f":"_xlfn.TEXTJOIN(\";\",1,AQ164,AS164,AU164,AW164)","v":"1;1;1;1"},0,{"$f":"[3]主表!K162","v":3865.0571357270765},{"$f":"[3]主表!L162","v":66.431930220322684},{"$f":"[3]主表!M162","v":66.431930220322684},{"$f":"[3]主表!N162","v":175.05},{"$f":"[3]主表!$G162","v":35009},{"$f":"[3]升级!$H162","v":1500},{"$f":"MAX(1,ROUND(100/(24*3600)*VLOOKUP(B164,[1]ResourceLevelConfig!$A:$E,5,FALSE),2))","v":5.69},20,4,4,4,1710,null,null,null,1,3,160,15,1202,3,1201,1,1201,1,1201,1,1201,1,{"$f":"VLOOKUP(AN164,[4]ItemConfig!$A:$AC,29,FALSE)*AO164+AM164","v":60},{"$f":"VLOOKUP(AP164,[4]ItemConfig!$A:$AC,29,FALSE)*AQ164","v":10},{"$f":"VLOOKUP(AR164,[4]ItemConfig!$A:$AC,29,FALSE)*AS164","v":10},{"$f":"VLOOKUP(AT164,[4]ItemConfig!$A:$AC,29,FALSE)*AU164","v":10},{"$f":"VLOOKUP(AV164,[4]ItemConfig!$A:$AC,29,FALSE)*AW164","v":10},{"$f":"CONCATENATE(AX164,\" + \",SUM(AY164:BB164))","v":"60 + 40"}]
[161,161,6,17,1,"230;236;238","炼虚","中期.","一重",230,236,238,{"$f":"ROUND([1]ResourceLevelConfig!$E165*[1]ResourceLevelConfig!$L165*0.1,0)*10","v":74550},-1,-1,-1,-1,{"$f":"IF(I165=10,\"1001;1002;1004\",-1)","v":-1},-1,0,{"$f":"[3]主表!K163","v":4276.0042784387033},{"$f":"[3]主表!L163","v":73.075123242354962},{"$f":"[3]主表!M163","v":73.075123242354962},{"$f":"[3]主表!N163","v":196.88},{"$f":"[3]主表!$G163","v":39375},{"$f":"[3]升级!$H163","v":1500},{"$f":"MAX(1,ROUND(100/(24*3600)*VLOOKUP(B165,[1]ResourceLevelConfig!$A:$E,5,FALSE),2))","v":5.75},-1,4,4,4,1720,null,null,null,1,3,161]
[162,162,6,17,2,"230;236;239","炼虚","中期.","二重",230,236,239,{"$f":"ROUND([1]ResourceLevelConfig!$E166*[1]ResourceLevelConfig!$L166*0.1,0)*10","v":75300},-1,-1,-1,-1,-1,-1,0,{"$f":"[3]主表!K164","v":4358.5095875648494},{"$f":"[3]主表!L164","v":74.061771016682073},{"$f":"[3]主表!M164","v":74.061771016682073},{"$f":"[3]主表!N164","v":199.71},{"$f":"[3]主表!$G164","v":39941},{"$f":"[3]升级!$H164","v":1500},{"$f":"MAX(1,ROUND(100/(24*3600)*VLOOKUP(B166,[1]ResourceLevelConfig!$A:$E,5,FALSE),2))","v":5.81},-1,4,4,4,1730,null,null,null,1,3,162]
[163,163,6,17,3,"230;236;240","炼虚","中期.","三重",230,236,240,{"$f":"ROUND([1]ResourceLevelConfig!$E167*[1]ResourceLevelConfig!$L167*0.1,0)*10","v":76050},-1,-1,-1,-1,-1,-1,0,{"$f":"[3]主表!K165","v":4442.4633288561299},{"$f":"[3]主表!L165","v":75.061740339949409},{"$f":"[3]主表!M165","v":75.061740339949409},{"$f":"[3]主表!N165","v":202.58},{"$f":"[3]主表!$G165","v":40515},{"$f":"[3]升级!$H165","v":1500},{"$f":"MAX(1,ROUND(100/(24*3600)*VLOOKUP(B167,[1]ResourceLevelConfig!$A:$E,5,FALSE),2))","v":5.87},-1,4,4,4,1740,null,null,null,1,3,163]
[164,164,6,17,4,"230;236;241","炼虚","中期.","四重",230,236,241,{"$f":"ROUND([1]ResourceLevelConfig!$E168*[1]ResourceLevelConfig!$L168*0.1,0)*10","v":76800},-1,-1,-1,-1,-1,-1,0,{"$f":"[3]主表!K166","v":4527.8895746117396},{"$f":"[3]主表!L166","v":76.075211077424754},{"$f":"[3]主表!M166","v":76.075211077424754},{"$f":"[3]主表!N166","v":205.5},{"$f":"[3]主表!$G166","v":41099},{"$f":"[3]升级!$H166","v":1500},{"$f":"MAX(1,ROUND(100/(24*3600)*VLOOKUP(B168,[1]ResourceLevelConfig!$A:$E,5,FALSE),2))","v":5.93},-1,4,4,4,1750,null,null,null,1,3,164]
[165,165,6,17,5,"230;236;242","炼虚","中期.","五重",230,236,242,{"$f":"ROUND([1]ResourceLevelConfig!$E169*[1]ResourceLevelConfig!$L169*0.1,0)*10","v":77550},-1,-1,-1,-1,-1,-1,0,{"$f":"[3]主表!K167","v":4614.8127831227121},{"$f":"[3]主表!L167","v":77.102365522885918},{"$f":"[3]主表!M167","v":77.102365522885918},{"$f":"[3]主表!N167","v":208.46},{"$f":"[3]主表!$G167","v":41691},{"$f":"[3]升级!$H167","v":1500},{"$f":"MAX(1,ROUND(100/(24*3600)*VLOOKUP(B169,[1]ResourceLevelConfig!$A:$E,5,FALSE),2))","v":5.98},-1,4,4,4,1760,null,null,null,1,3,165]
[166,166,6,17,6,"230;236;243","炼虚","中期.","六重",230,236,243,{"$f":"ROUND([1]ResourceLevelConfig!$E170*[1]ResourceLevelConfig!$L170*0.1,0)*10","v":78300},-1,-1,-1,-1,-1,-1,0,{"$f":"[3]主表!K168","v":4703.25780470674},{"$f":"[3]主表!L168","v":78.143388431409988},{"$f":"[3]主表!M168","v":78.143388431409988},{"$f":"[3]主表!N168","v":211.47},{"$f":"[3]主表!$G168","v":42293},{"$f":"[3]升级!$H168","v":1500},{"$f":"MAX(1,ROUND(100/(24*3600)*VLOOKUP(B170,[1]ResourceLevelConfig!$A:$E,5,FALSE),2))","v":6.04},-1,4,4,4,1770,null,null,null,1,3,166]
[167,167,6,17,7,"230;236;244","炼虚","中期.","七重",230,236,244,{"$f":"ROUND([1]ResourceLevelConfig!$E171*[1]ResourceLevelConfig!$L171*0.1,0)*10","v":79200},-1,-1,-1,-1,-1,-1,0,{"$f":"[3]主表!K169","v":4793.2498878356018},{"$f":"[3]主表!L169","v":79.198467052605423},{"$f":"[3]主表!M169","v":79.198467052605423},{"$f":"[3]主表!N169","v":214.52},{"$f":"[3]主表!$G169","v":42903},{"$f":"[3]升级!$H169","v":1500},{"$f":"MAX(1,ROUND(100/(24*3600)*VLOOKUP(B171,[1]ResourceLevelConfig!$A:$E,5,FALSE),2))","v":6.11},-1,4,4,4,1780,null,null,null,1,3,167]
[168,168,6,17,8,"230;236;245","炼虚","中期.","八重",230,236,245,{"$f":"ROUND([1]ResourceLevelConfig!$E172*[1]ResourceLevelConfig!$L172*0.1,0)*10","v":79950},-1,-1,-1,-1,-1,-1,0,{"$f":"[3]主表!K170","v":4884.814685356574},{"$f":"[3]主表!L170","v":80.26779116429276},{"$f":"[3]主表!M170","v":80.26779116429276},{"$f":"[3]主表!N170","v":217.62},{"$f":"[3]主表!$G170","v":43524},{"$f":"[3]升级!$H170","v":1500},{"$f":"MAX(1,ROUND(100/(24*3600)*VLOOKUP(B172,[1]ResourceLevelConfig!$A:$E,5,FALSE),2))","v":6.17},-1,4,4,4,1790,null,null,null,1,3,168]
[169,169,6,17,9,"230;236;246","炼虚","中期.","九重",230,236,246,{"$f":"ROUND([1]ResourceLevelConfig!$E173*[1]ResourceLevelConfig!$L173*0.1,0)*10","v":80700},-1,-1,-1,-1,-1,-1,0,{"$f":"[3]主表!K171","v":4977.9782608092728},{"$f":"[3]主表!L171","v":81.351553106640068},{"$f":"[3]主表!M171","v":81.351553106640068},{"$f":"[3]主表!N171","v":220.77},{"$f":"[3]主表!$G171","v":44153},{"$f":"[3]升级!$H171","v":1500},{"$f":"MAX(1,ROUND(100/(24*3600)*VLOOKUP(B173,[1]ResourceLevelConfig!$A:$E,5,FALSE),2))","v":6.23},-1,4,4,4,1800,null,null,null,1,3,169]
[170,170,6,17,10,"230;236;247","炼虚","中期.","十重",230,236,247,{"$f":"ROUND([1]ResourceLevelConfig!$E174*[1]ResourceLevelConfig!$L174*0.1,0)*10","v":81600},100004,{"$f":"AM174","v":15},{"$f":"AN174","v":1202},{"$f":"AO174","v":3},{"$f":"_xlfn.TEXTJOIN(\";\",1,AP174,AR174,AT174,AV174)","v":"1201;1201;1201;1201"},{"$f":"_xlfn.TEXTJOIN(\";\",1,AQ174,AS174,AU174,AW174)","v":"1;1;1;1"},0,{"$f":"[3]主表!K172","v":5072.7670948393497},{"$f":"[3]主表!L172","v":82.449947816759391},{"$f":"[3]主表!M172","v":82.449947816759391},{"$f":"[3]主表!N172","v":246.36},{"$f":"[3]主表!$G172","v":44793},{"$f":"[3]升级!$H172","v":1500},{"$f":"MAX(1,ROUND(100/(24*3600)*VLOOKUP(B174,[1]ResourceLevelConfig!$A:$E,5,FALSE),2))","v":6.3},20,4,4,4,1810,null,null,null,1,3,170,15,1202,3,1201,1,1201,1,1201,1,1201,1,{"$f":"VLOOKUP(AN174,[4]ItemConfig!$A:$AC,29,FALSE)*AO174+AM174","v":60},{"$f":"VLOOKUP(AP174,[4]ItemConfig!$A:$AC,29,FALSE)*AQ174","v":10},{"$f":"VLOOKUP(AR174,[4]ItemConfig!$A:$AC,29,FALSE)*AS174","v":10},{"$f":"VLOOKUP(AT174,[4]ItemConfig!$A:$AC,29,FALSE)*AU174","v":10},{"$f":"VLOOKUP(AV174,[4]ItemConfig!$A:$AC,29,FALSE)*AW174","v":10},{"$f":"CONCATENATE(AX174,\" + \",SUM(AY174:BB174))","v":"60 + 40"}]
[171,171,6,18,1,"230;237;238","炼虚","后期.","一重",230,237,238,{"$f":"ROUND([1]ResourceLevelConfig!$E175*[1]ResourceLevelConfig!$L175*0.1,0)*10","v":82350},-1,-1,-1,-1,{"$f":"IF(I175=10,\"1001;1002;1004\",-1)","v":-1},-1,0,{"$f":"[3]主表!K173","v":5610.3785326743573},{"$f":"[3]主表!L173","v":90.694942598435333},{"$f":"[3]主表!M173","v":90.694942598435333},{"$f":"[3]主表!N173","v":277.06},{"$f":"[3]主表!$G173","v":50374},{"$f":"[3]升级!$H173","v":1500},{"$f":"MAX(1,ROUND(100/(24*3600)*VLOOKUP(B175,[1]ResourceLevelConfig!$A:$E,5,FALSE),2))","v":6.35},-1,4,4,4,1820,null,null,null,1,3,171]
[172,172,6,18,2,"230;237;239","炼虚","后期.","二重",230,237,239,{"$f":"ROUND([1]ResourceLevelConfig!$E176*[1]ResourceLevelConfig!$L176*0.1,0)*10","v":83250},-1,-1,-1,-1,-1,-1,0,{"$f":"[3]主表!K174","v":5716.8732035293988},{"$f":"[3]主表!L174","v":91.919490150147254},{"$f":"[3]主表!M174","v":91.919490150147254},{"$f":"[3]主表!N174","v":281.01},{"$f":"[3]主表!$G174","v":51093},{"$f":"[3]升级!$H174","v":1500},{"$f":"MAX(1,ROUND(100/(24*3600)*VLOOKUP(B176,[1]ResourceLevelConfig!$A:$E,5,FALSE),2))","v":6.42},-1,4,4,4,1830,null,null,null,1,3,172]
[173,173,6,18,3,"230;237;240","炼虚","后期.","三重",230,237,240,{"$f":"ROUND([1]ResourceLevelConfig!$E177*[1]ResourceLevelConfig!$L177*0.1,0)*10","v":84000},-1,-1,-1,-1,-1,-1,0,{"$f":"[3]主表!K175","v":5825.2208514544673},{"$f":"[3]主表!L175","v":93.160571332770019},{"$f":"[3]主表!M175","v":93.160571332770019},{"$f":"[3]主表!N175","v":285.02999999999997},{"$f":"[3]主表!$G175","v":51823},{"$f":"[3]升级!$H175","v":1500},{"$f":"MAX(1,ROUND(100/(24*3600)*VLOOKUP(B177,[1]ResourceLevelConfig!$A:$E,5,FALSE),2))","v":6.48},-1,4,4,4,1840,null,null,null,1,3,173]
[174,174,6,18,4,"230;237;241","炼虚","后期.","四重",230,237,241,{"$f":"ROUND([1]ResourceLevelConfig!$E178*[1]ResourceLevelConfig!$L178*0.1,0)*10","v":84900},-1,-1,-1,-1,-1,-1,0,{"$f":"[3]主表!K176","v":5935.4520996950014},{"$f":"[3]主表!L176","v":94.418409380551026},{"$f":"[3]主表!M176","v":94.418409380551026},{"$f":"[3]主表!N176","v":289.11},{"$f":"[3]主表!$G176","v":52565},{"$f":"[3]升级!$H176","v":1500},{"$f":"MAX(1,ROUND(100/(24*3600)*VLOOKUP(B178,[1]ResourceLevelConfig!$A:$E,5,FALSE),2))","v":6.55},-1,4,4,4,1850,null,null,null,1,3,174]
[175,175,6,18,5,"230;237;242","炼虚","后期.","五重",230,237,242,{"$f":"ROUND([1]ResourceLevelConfig!$E179*[1]ResourceLevelConfig!$L179*0.1,0)*10","v":85800},-1,-1,-1,-1,-1,-1,0,{"$f":"[3]主表!K177","v":6047.5980606394924},{"$f":"[3]主表!L177","v":95.693230541808177},{"$f":"[3]主表!M177","v":95.693230541808177},{"$f":"[3]主表!N177","v":293.24},{"$f":"[3]主表!$G177","v":53317},{"$f":"[3]升级!$H177","v":1500},{"$f":"MAX(1,ROUND(100/(24*3600)*VLOOKUP(B179,[1]ResourceLevelConfig!$A:$E,5,FALSE),2))","v":6.62},-1,4,4,4,1860,null,null,null,1,3,175]
[176,176,6,18,6,"230;237;243","炼虚","后期.","六重",230,237,243,{"$f":"ROUND([1]ResourceLevelConfig!$E180*[1]ResourceLevelConfig!$L180*0.1,0)*10","v":86550},-1,-1,-1,-1,-1,-1,0,{"$f":"[3]主表!K178","v":6161.690343445548},{"$f":"[3]主表!L178","v":96.985264119625299},{"$f":"[3]主表!M178","v":96.985264119625299},{"$f":"[3]主表!N178","v":297.45},{"$f":"[3]主表!$G178","v":54082},{"$f":"[3]升级!$H178","v":1500},{"$f":"MAX(1,ROUND(100/(24*3600)*VLOOKUP(B180,[1]ResourceLevelConfig!$A:$E,5,FALSE),2))","v":6.68},-1,4,4,4,1870,null,null,null,1,3,176]
[177,177,6,18,7,"230;237;244","炼虚","后期.","七重",230,237,244,{"$f":"ROUND([1]ResourceLevelConfig!$E181*[1]ResourceLevelConfig!$L181*0.1,0)*10","v":87450},-1,-1,-1,-1,-1,-1,0,{"$f":"[3]主表!K179","v":6277.7610617826922},{"$f":"[3]主表!L179","v":98.294742513097148},{"$f":"[3]主表!M179","v":98.294742513097148},{"$f":"[3]主表!N179","v":301.72000000000003},{"$f":"[3]主表!$G179","v":54858},{"$f":"[3]升级!$H179","v":1500},{"$f":"MAX(1,ROUND(100/(24*3600)*VLOOKUP(B181,[1]ResourceLevelConfig!$A:$E,5,FALSE),2))","v":6.75},-1,4,4,4,1880,null,null,null,1,3,177]
[178,178,6,18,8,"230;237;245","炼虚","后期.","八重",230,237,245,{"$f":"ROUND([1]ResourceLevelConfig!$E182*[1]ResourceLevelConfig!$L182*0.1,0)*10","v":88350},-1,-1,-1,-1,-1,-1,0,{"$f":"[3]主表!K180","v":6395.8428416937186},{"$f":"[3]主表!L180","v":99.621901259131178},{"$f":"[3]主表!M180","v":99.621901259131178},{"$f":"[3]主表!N180","v":306.05},{"$f":"[3]主表!$G180","v":55646},{"$f":"[3]升级!$H180","v":1500},{"$f":"MAX(1,ROUND(100/(24*3600)*VLOOKUP(B182,[1]ResourceLevelConfig!$A:$E,5,FALSE),2))","v":6.82},-1,4,4,4,1890,null,null,null,1,3,178]
[179,179,6,18,9,"230;237;246","炼虚","后期.","九重",230,237,246,{"$f":"ROUND([1]ResourceLevelConfig!$E183*[1]ResourceLevelConfig!$L183*0.1,0)*10","v":89250},-1,-1,-1,-1,-1,-1,0,{"$f":"[3]主表!K181","v":6515.9688295763208},{"$f":"[3]主表!L181","v":100.96697907481369},{"$f":"[3]主表!M181","v":100.96697907481369},{"$f":"[3]主表!N181","v":310.45},{"$f":"[3]主表!$G181","v":56446},{"$f":"[3]升级!$H181","v":1500},{"$f":"MAX(1,ROUND(100/(24*3600)*VLOOKUP(B183,[1]ResourceLevelConfig!$A:$E,5,FALSE),2))","v":6.89},-1,4,4,4,1900,null,null,null,1,3,179]
[180,180,6,18,10,"230;237;247","炼虚","后期.","十重",230,237,247,{"$f":"ROUND([1]ResourceLevelConfig!$E184*[1]ResourceLevelConfig!$L184*0.1,0)*10","v":90150},100004,{"$f":"AM184","v":15},{"$f":"AN184","v":1306},{"$f":"AO184","v":1},{"$f":"_xlfn.TEXTJOIN(\";\",1,AP184,AR184,AT184,AV184)","v":"1204;1203;1202;1201"},{"$f":"_xlfn.TEXTJOIN(\";\",1,AQ184,AS184,AU184,AW184)","v":"1;1;1;1"},{"$f":"CONCATENATE(ROUND(0.6*VLOOKUP(A184,[3]主表!$A:$P,16,FALSE)*[5]HeroModelConfig!$Q$5,0),\";\",ROUND(0.9*VLOOKUP(A184,[3]主表!$A:$P,16,FALSE)*[5]HeroModelConfig!$Q$5,0),\";\",INT(A184/30)+1)","v":"1114319;1671479;7"},{"$f":"[3]主表!K182","v":6638.172700286892},{"$f":"[3]主表!L182","v":102.33021790034822},{"$f":"[3]主表!M182","v":102.33021790034822},{"$f":"[3]主表!N182","v":343.55},{"$f":"[3]主表!$G182","v":57259},{"$f":"[3]升级!$H182","v":1500},{"$f":"MAX(1,ROUND(100/(24*3600)*VLOOKUP(B184,[1]ResourceLevelConfig!$A:$E,5,FALSE),2))","v":6.96},50,4,4,4,1910,null,null,null,1,3,180,15,1306,1,1204,1,1203,1,1202,1,1201,1,{"$f":"VLOOKUP(AN184,[4]ItemConfig!$A:$AC,29,FALSE)*AO184+AM184","v":35},{"$f":"VLOOKUP(AP184,[4]ItemConfig!$A:$AC,29,FALSE)*AQ184","v":40},{"$f":"VLOOKUP(AR184,[4]ItemConfig!$A:$AC,29,FALSE)*AS184","v":25},{"$f":"VLOOKUP(AT184,[4]ItemConfig!$A:$AC,29,FALSE)*AU184","v":15},{"$f":"VLOOKUP(AV184,[4]ItemConfig!$A:$AC,29,FALSE)*AW184","v":10},{"$f":"CONCATENATE(AX184,\" + \",SUM(AY184:BB184))","v":"35 + 90"}]
[181,181,7,19,1,"231;235;238","大乘","前期.","一重",231,235,238,{"$f":"ROUND([1]ResourceLevelConfig!$E185*[1]ResourceLevelConfig!$L185*0.1,0)*10","v":91050},-1,-1,-1,-1,{"$f":"IF(I185=10,\"1001;1002;1004\",-1)","v":-1},{"$f":"IF(R185=-1,-1,\"100;200;300\")","v":-1},0,{"$f":"[3]主表!K183","v":8674.1188014010077},{"$f":"[3]主表!L183","v":133.02928327045268},{"$f":"[3]主表!M183","v":133.02928327045268},{"$f":"[3]主表!N183","v":457.03},{"$f":"[3]主表!$G183","v":76172},{"$f":"[3]升级!$H183","v":1600},{"$f":"MAX(1,ROUND(100/(24*3600)*VLOOKUP(B185,[1]ResourceLevelConfig!$A:$E,5,FALSE),2))","v":7.03},-1,4,4,4,1920,null,null,null,1,4,181]
[182,182,7,19,2,"231;235;239","大乘","前期.","二重",231,235,239,{"$f":"ROUND([1]ResourceLevelConfig!$E186*[1]ResourceLevelConfig!$L186*0.1,0)*10","v":91950},-1,-1,-1,-1,{"$f":"IF(I186=10,\"1001;1002;1004\",-1)","v":-1},{"$f":"IF(R186=-1,-1,\"100;200;300\")","v":-1},0,{"$f":"[3]主表!K184","v":8836.3303102890259},{"$f":"[3]主表!L184","v":134.8254218253453},{"$f":"[3]主表!M184","v":134.8254218253453},{"$f":"[3]主表!N184","v":463.98},{"$f":"[3]主表!$G184","v":77330},{"$f":"[3]升级!$H184","v":1600},{"$f":"MAX(1,ROUND(100/(24*3600)*VLOOKUP(B186,[1]ResourceLevelConfig!$A:$E,5,FALSE),2))","v":7.09},-1,4,4,4,1930,null,null,null,1,4,182]
[183,183,7,19,3,"231;235;240","大乘","前期.","三重",231,235,240,{"$f":"ROUND([1]ResourceLevelConfig!$E187*[1]ResourceLevelConfig!$L187*0.1,0)*10","v":92850},-1,-1,-1,-1,-1,-1,0,{"$f":"[3]主表!K185","v":9001.3408366980257},{"$f":"[3]主表!L185","v":136.64581153478872},{"$f":"[3]主表!M185","v":136.64581153478872},{"$f":"[3]主表!N185","v":471.04},{"$f":"[3]主表!$G185","v":78506},{"$f":"[3]升级!$H185","v":1600},{"$f":"MAX(1,ROUND(100/(24*3600)*VLOOKUP(B187,[1]ResourceLevelConfig!$A:$E,5,FALSE),2))","v":7.16},-1,4,4,4,1940,null,null,null,1,4,183]
[184,184,7,19,4,"231;235;241","大乘","前期.","四重",231,235,241,{"$f":"ROUND([1]ResourceLevelConfig!$E188*[1]ResourceLevelConfig!$L188*0.1,0)*10","v":93900},-1,-1,-1,-1,-1,-1,0,{"$f":"[3]主表!K186","v":9169.1963932806193},{"$f":"[3]主表!L186","v":138.49077983371018},{"$f":"[3]主表!M186","v":138.49077983371018},{"$f":"[3]主表!N186","v":478.21},{"$f":"[3]主表!$G186","v":79701},{"$f":"[3]升级!$H186","v":1600},{"$f":"MAX(1,ROUND(100/(24*3600)*VLOOKUP(B188,[1]ResourceLevelConfig!$A:$E,5,FALSE),2))","v":7.25},-1,4,4,4,1950,null,null,null,1,4,184]
[185,185,7,19,5,"231;235;242","大乘","前期.","五重",231,235,242,{"$f":"ROUND([1]ResourceLevelConfig!$E189*[1]ResourceLevelConfig!$L189*0.1,0)*10","v":94800},-1,-1,-1,-1,-1,-1,0,{"$f":"[3]主表!K187","v":9339.943724940169},{"$f":"[3]主表!L187","v":140.3606585780071},{"$f":"[3]主表!M187","v":140.3606585780071},{"$f":"[3]主表!N187","v":485.48},{"$f":"[3]主表!$G187","v":80914},{"$f":"[3]升级!$H187","v":1600},{"$f":"MAX(1,ROUND(100/(24*3600)*VLOOKUP(B189,[1]ResourceLevelConfig!$A:$E,5,FALSE),2))","v":7.31},-1,4,4,4,1960,null,null,null,1,4,185]
[186,186,7,19,6,"231;235;243","大乘","前期.","六重",231,235,243,{"$f":"ROUND([1]ResourceLevelConfig!$E190*[1]ResourceLevelConfig!$L190*0.1,0)*10","v":95700},-1,-1,-1,-1,-1,-1,0,{"$f":"[3]主表!K188","v":9513.6303202161562},{"$f":"[3]主表!L188","v":142.25578410423833},{"$f":"[3]主表!M188","v":142.25578410423833},{"$f":"[3]主表!N188","v":493.09},{"$f":"[3]主表!$G188","v":82181},{"$f":"[3]升级!$H188","v":1600},{"$f":"MAX(1,ROUND(100/(24*3600)*VLOOKUP(B190,[1]ResourceLevelConfig!$A:$E,5,FALSE),2))","v":7.38},-1,4,4,4,1970,null,null,null,1,4,186]
[187,187,7,19,7,"231;235;244","大乘","前期.","七重",231,235,244,{"$f":"ROUND([1]ResourceLevelConfig!$E191*[1]ResourceLevelConfig!$L191*0.1,0)*10","v":96750},-1,-1,-1,-1,-1,-1,0,{"$f":"[3]主表!K189","v":9690.3044228435083},{"$f":"[3]主表!L189","v":144.17649729012118},{"$f":"[3]主表!M189","v":144.17649729012118},{"$f":"[3]主表!N189","v":500.81},{"$f":"[3]主表!$G189","v":83468},{"$f":"[3]升级!$H189","v":1600},{"$f":"MAX(1,ROUND(100/(24*3600)*VLOOKUP(B191,[1]ResourceLevelConfig!$A:$E,5,FALSE),2))","v":7.47},-1,4,4,4,1980,null,null,null,1,4,187]
[188,188,7,19,8,"231;235;245","大乘","前期.","八重",231,235,245,{"$f":"ROUND([1]ResourceLevelConfig!$E192*[1]ResourceLevelConfig!$L192*0.1,0)*10","v":97650},-1,-1,-1,-1,-1,-1,0,{"$f":"[3]主表!K190","v":9870.015043488509},{"$f":"[3]主表!L190","v":146.12314361584546},{"$f":"[3]主表!M190","v":146.12314361584546},{"$f":"[3]主表!N190","v":508.66},{"$f":"[3]主表!$G190","v":84776},{"$f":"[3]升级!$H190","v":1600},{"$f":"MAX(1,ROUND(100/(24*3600)*VLOOKUP(B192,[1]ResourceLevelConfig!$A:$E,5,FALSE),2))","v":7.53},-1,4,4,4,1990,null,null,null,1,4,188]
[189,189,7,19,9,"231;235;246","大乘","前期.","九重",231,235,246,{"$f":"ROUND([1]ResourceLevelConfig!$E193*[1]ResourceLevelConfig!$L193*0.1,0)*10","v":98700},-1,-1,-1,-1,-1,-1,0,{"$f":"[3]主表!K191","v":10052.811971663941},{"$f":"[3]主表!L191","v":148.09607322621514},{"$f":"[3]主表!M191","v":148.09607322621514},{"$f":"[3]主表!N191","v":516.62},{"$f":"[3]主表!$G191","v":86104},{"$f":"[3]升级!$H191","v":1600},{"$f":"MAX(1,ROUND(100/(24*3600)*VLOOKUP(B193,[1]ResourceLevelConfig!$A:$E,5,FALSE),2))","v":7.62},-1,4,4,4,2000,null,null,null,1,4,189]
[190,190,7,19,10,"231;235;247","大乘","前期.","十重",231,235,247,{"$f":"ROUND([1]ResourceLevelConfig!$E194*[1]ResourceLevelConfig!$L194*0.1,0)*10","v":99600},100004,{"$f":"AM194","v":15},{"$f":"AN194","v":1202},{"$f":"AO194","v":3},{"$f":"_xlfn.TEXTJOIN(\";\",1,AP194,AR194,AT194,AV194)","v":"1201;1201;1201;1201"},{"$f":"_xlfn.TEXTJOIN(\";\",1,AQ194,AS194,AU194,AW194)","v":"1;1;1;1"},0,{"$f":"[3]主表!K192","v":10238.745787826188},{"$f":"[3]主表!L192","v":150.0956409936293},{"$f":"[3]主表!M192","v":150.0956409936293},{"$f":"[3]主表!N192","v":568.45000000000005},{"$f":"[3]主表!$G192","v":87454},{"$f":"[3]升级!$H192","v":1600},{"$f":"MAX(1,ROUND(100/(24*3600)*VLOOKUP(B194,[1]ResourceLevelConfig!$A:$E,5,FALSE),2))","v":7.69},20,4,4,4,2018,null,null,null,1,4,190,15,1202,3,1201,1,1201,1,1201,1,1201,1,{"$f":"VLOOKUP(AN194,[4]ItemConfig!$A:$AC,29,FALSE)*AO194+AM194","v":60},{"$f":"VLOOKUP(AP194,[4]ItemConfig!$A:$AC,29,FALSE)*AQ194","v":10},{"$f":"VLOOKUP(AR194,[4]ItemConfig!$A:$AC,29,FALSE)*AS194","v":10},{"$f":"VLOOKUP(AT194,[4]ItemConfig!$A:$AC,29,FALSE)*AU194","v":10},{"$f":"VLOOKUP(AV194,[4]ItemConfig!$A:$AC,29,FALSE)*AW194","v":10},{"$f":"CONCATENATE(AX194,\" + \",SUM(AY194:BB194))","v":"60 + 40"}]
[191,191,7,20,1,"231;236;238","大乘","中期.","一重",231,236,238,{"$f":"ROUND([1]ResourceLevelConfig!$E195*[1]ResourceLevelConfig!$L195*0.1,0)*10","v":100650},-1,-1,-1,-1,{"$f":"IF(I195=10,\"1001;1002;1004\",-1)","v":-1},-1,0,{"$f":"[3]主表!K193","v":11317.843087990523},{"$f":"[3]主表!L193","v":165.10520509299226},{"$f":"[3]主表!M193","v":165.10520509299226},{"$f":"[3]主表!N193","v":640.04},{"$f":"[3]主表!$G193","v":98467},{"$f":"[3]升级!$H193","v":1600},{"$f":"MAX(1,ROUND(100/(24*3600)*VLOOKUP(B195,[1]ResourceLevelConfig!$A:$E,5,FALSE),2))","v":7.77},-1,{"$f":"AC194","v":4},{"$f":"AD194","v":4},{"$f":"AE194","v":4},2065,null,null,null,1,4,191]
[192,192,7,20,2,"231;236;239","大乘","中期.","二重",231,236,239,{"$f":"ROUND([1]ResourceLevelConfig!$E196*[1]ResourceLevelConfig!$L196*0.1,0)*10","v":101700},-1,-1,-1,-1,-1,-1,0,{"$f":"[3]主表!K194","v":11526.622992312288},{"$f":"[3]主表!L194","v":167.33442724010465},{"$f":"[3]主表!M194","v":167.33442724010465},{"$f":"[3]主表!N194","v":649.91999999999996},{"$f":"[3]主表!$G194","v":99988},{"$f":"[3]升级!$H194","v":1600},{"$f":"MAX(1,ROUND(100/(24*3600)*VLOOKUP(B196,[1]ResourceLevelConfig!$A:$E,5,FALSE),2))","v":7.85},-1,4,4,4,2113,null,null,null,1,4,192]
[193,193,7,20,3,"231;236;240","大乘","中期.","三重",231,236,240,{"$f":"ROUND([1]ResourceLevelConfig!$E197*[1]ResourceLevelConfig!$L197*0.1,0)*10","v":102750},-1,-1,-1,-1,-1,-1,0,{"$f":"[3]主表!K195","v":11738.977481850772},{"$f":"[3]主表!L195","v":169.59374796211279},{"$f":"[3]主表!M195","v":169.59374796211279},{"$f":"[3]主表!N195","v":659.96},{"$f":"[3]主表!$G195","v":101533},{"$f":"[3]升级!$H195","v":1600},{"$f":"MAX(1,ROUND(100/(24*3600)*VLOOKUP(B197,[1]ResourceLevelConfig!$A:$E,5,FALSE),2))","v":7.93},-1,4,4,4,2163,null,null,null,1,4,193]
[194,194,7,20,4,{"$f":"_xlfn.TEXTJOIN(\";\",1,J198:L198)","v":"231;236;241"},"大乘","中期.","四重",231,236,241,{"$f":"ROUND([1]ResourceLevelConfig!$E198*[1]ResourceLevelConfig!$L198*0.1,0)*10","v":103800},{"$f":"IF(E198=10,100004,-1)","v":-1},{"$f":"IF(N198=-1,-1,20)","v":-1},-1,-1,-1,-1,0,{"$f":"[3]主表!K196","v":11954.965023033321},{"$f":"[3]主表!L196","v":171.88357364481007},{"$f":"[3]主表!M196","v":171.88357364481007},{"$f":"[3]主表!N196","v":670.17},{"$f":"[3]主表!$G196","v":103103},{"$f":"[3]升级!$H196","v":1600},{"$f":"MAX(1,ROUND(100/(24*3600)*VLOOKUP(B198,[1]ResourceLevelConfig!$A:$E,5,FALSE),2))","v":8.01},-1,4,4,4,{"$f":"MAX(AF197+10,ROUND(10^(B198*0.01+1.405),0))","v":2213},null,null,null,1,4,194]
[195,195,7,20,5,"231;236;242","大乘","中期.","五重",231,236,242,{"$f":"ROUND([1]ResourceLevelConfig!$E199*[1]ResourceLevelConfig!$L199*0.1,0)*10","v":104700},-1,-1,-1,-1,-1,-1,0,{"$f":"[3]主表!K197","v":12174.645009449971},{"$f":"[3]主表!L197","v":174.204316160941},{"$f":"[3]主表!M197","v":174.204316160941},{"$f":"[3]主表!N197","v":680.54},{"$f":"[3]主表!$G197","v":104699},{"$f":"[3]升级!$H197","v":1600},{"$f":"MAX(1,ROUND(100/(24*3600)*VLOOKUP(B199,[1]ResourceLevelConfig!$A:$E,5,FALSE),2))","v":8.08},-1,4,4,4,2265,null,null,null,1,4,195]
[196,196,7,20,6,"231;236;243","大乘","中期.","六重",231,236,243,{"$f":"ROUND([1]ResourceLevelConfig!$E200*[1]ResourceLevelConfig!$L200*0.1,0)*10","v":105900},-1,-1,-1,-1,-1,-1,0,{"$f":"[3]主表!K198","v":12398.077776231867},{"$f":"[3]主表!L198","v":176.55639294428536},{"$f":"[3]主表!M198","v":176.55639294428536},{"$f":"[3]主表!N198","v":691.07},{"$f":"[3]主表!$G198","v":106319},{"$f":"[3]升级!$H198","v":1600},{"$f":"MAX(1,ROUND(100/(24*3600)*VLOOKUP(B200,[1]ResourceLevelConfig!$A:$E,5,FALSE),2))","v":8.17},-1,4,4,4,2317,null,null,null,1,4,196]
[197,197,7,20,7,"231;236;244","大乘","中期.","七重",231,236,244,{"$f":"ROUND([1]ResourceLevelConfig!$E201*[1]ResourceLevelConfig!$L201*0.1,0)*10","v":106950},-1,-1,-1,-1,-1,-1,0,{"$f":"[3]主表!K199","v":12625.324614648878},{"$f":"[3]主表!L199","v":178.94022706474206},{"$f":"[3]主表!M199","v":178.94022706474206},{"$f":"[3]主表!N199","v":701.78},{"$f":"[3]主表!$G199","v":107966},{"$f":"[3]升级!$H199","v":1600},{"$f":"MAX(1,ROUND(100/(24*3600)*VLOOKUP(B201,[1]ResourceLevelConfig!$A:$E,5,FALSE),2))","v":8.25},-1,4,4,4,2371,null,null,null,1,4,197]
[198,198,7,20,8,"231;236;245","大乘","中期.","八重",231,236,245,{"$f":"ROUND([1]ResourceLevelConfig!$E202*[1]ResourceLevelConfig!$L202*0.1,0)*10","v":108000},-1,-1,-1,-1,-1,-1,0,{"$f":"[3]主表!K200","v":12856.447786929793},{"$f":"[3]主表!L200","v":181.35624730442723},{"$f":"[3]主表!M200","v":181.35624730442723},{"$f":"[3]主表!N200","v":712.65},{"$f":"[3]主表!$G200","v":109639},{"$f":"[3]升级!$H200","v":1600},{"$f":"MAX(1,ROUND(100/(24*3600)*VLOOKUP(B202,[1]ResourceLevelConfig!$A:$E,5,FALSE),2))","v":8.33},-1,4,4,4,2427,null,null,null,1,4,198]
[199,199,7,20,9,"231;236;246","大乘","中期.","九重",231,236,246,{"$f":"ROUND([1]ResourceLevelConfig!$E203*[1]ResourceLevelConfig!$L203*0.1,0)*10","v":109050},-1,-1,-1,-1,-1,-1,0,{"$f":"[3]主表!K201","v":13091.510541308409},{"$f":"[3]主表!L201","v":183.80488823479953},{"$f":"[3]主表!M201","v":183.80488823479953},{"$f":"[3]主表!N201","v":723.7},{"$f":"[3]主表!$G201","v":111338},{"$f":"[3]升级!$H201","v":1600},{"$f":"MAX(1,ROUND(100/(24*3600)*VLOOKUP(B203,[1]ResourceLevelConfig!$A:$E,5,FALSE),2))","v":8.41},-1,4,4,4,2483,null,null,null,1,4,199]
[200,200,7,20,10,"231;236;247","大乘","中期.","十重",231,236,247,{"$f":"ROUND([1]ResourceLevelConfig!$E204*[1]ResourceLevelConfig!$L204*0.1,0)*10","v":110100},100004,{"$f":"AM204","v":15},{"$f":"AN204","v":1202},{"$f":"AO204","v":3},{"$f":"_xlfn.TEXTJOIN(\";\",1,AP204,AR204,AT204,AV204)","v":"1201;1201;1201;1201"},{"$f":"_xlfn.TEXTJOIN(\";\",1,AQ204,AS204,AU204,AW204)","v":"1;1;1;1"},0,{"$f":"[3]主表!K202","v":13330.577127298895},{"$f":"[3]主表!L202","v":186.28659029482696},{"$f":"[3]主表!M202","v":186.28659029482696},{"$f":"[3]主表!N202","v":791.45},{"$f":"[3]主表!$G202","v":113065},{"$f":"[3]升级!$H202","v":1600},{"$f":"MAX(1,ROUND(100/(24*3600)*VLOOKUP(B204,[1]ResourceLevelConfig!$A:$E,5,FALSE),2))","v":8.5},20,4,4,4,2541,null,null,null,1,4,200,15,1202,3,1201,1,1201,1,1201,1,1201,1,{"$f":"VLOOKUP(AN204,[4]ItemConfig!$A:$AC,29,FALSE)*AO204+AM204","v":60},{"$f":"VLOOKUP(AP204,[4]ItemConfig!$A:$AC,29,FALSE)*AQ204","v":10},{"$f":"VLOOKUP(AR204,[4]ItemConfig!$A:$AC,29,FALSE)*AS204","v":10},{"$f":"VLOOKUP(AT204,[4]ItemConfig!$A:$AC,29,FALSE)*AU204","v":10},{"$f":"VLOOKUP(AV204,[4]ItemConfig!$A:$AC,29,FALSE)*AW204","v":10},{"$f":"CONCATENATE(AX204,\" + \",SUM(AY204:BB204))","v":"60 + 40"}]
[201,201,7,21,1,"231;237;238","大乘","后期.","一重",231,237,238,{"$f":"ROUND([1]ResourceLevelConfig!$E205*[1]ResourceLevelConfig!$L205*0.1,0)*10","v":111300},-1,-1,-1,-1,{"$f":"IF(I205=10,\"1001;1002;1004\",-1)","v":-1},-1,0,{"$f":"[3]主表!K203","v":14732.172822910226},{"$f":"[3]主表!L203","v":204.91524932430966},{"$f":"[3]主表!M203","v":204.91524932430966},{"$f":"[3]主表!N203","v":890.97},{"$f":"[3]主表!$G203","v":127281},{"$f":"[3]升级!$H203","v":1600},{"$f":"MAX(1,ROUND(100/(24*3600)*VLOOKUP(B205,[1]ResourceLevelConfig!$A:$E,5,FALSE),2))","v":8.59},-1,4,4,4,2600,null,null,null,1,4,201]
[202,202,7,21,2,"231;237;239","大乘","后期.","二重",231,237,239,{"$f":"ROUND([1]ResourceLevelConfig!$E206*[1]ResourceLevelConfig!$L206*0.1,0)*10","v":112350},-1,-1,-1,-1,-1,-1,0,{"$f":"[3]主表!K204","v":15000.547463289493},{"$f":"[3]主表!L204","v":207.68197985722966},{"$f":"[3]主表!M204","v":207.68197985722966},{"$f":"[3]主表!N204","v":904.58},{"$f":"[3]主表!$G204","v":129226},{"$f":"[3]升级!$H204","v":1600},{"$f":"MAX(1,ROUND(100/(24*3600)*VLOOKUP(B206,[1]ResourceLevelConfig!$A:$E,5,FALSE),2))","v":8.67},-1,4,4,4,2661,null,null,null,1,4,202]
[203,203,7,21,3,"231;237;240","大乘","后期.","三重",231,237,240,{"$f":"ROUND([1]ResourceLevelConfig!$E207*[1]ResourceLevelConfig!$L207*0.1,0)*10","v":113550},-1,-1,-1,-1,-1,-1,0,{"$f":"[3]主表!K205","v":15273.48353452493},{"$f":"[3]主表!L205","v":210.48606631103422},{"$f":"[3]主表!M205","v":210.48606631103422},{"$f":"[3]主表!N205","v":918.41},{"$f":"[3]主表!$G205","v":131202},{"$f":"[3]升级!$H205","v":1600},{"$f":"MAX(1,ROUND(100/(24*3600)*VLOOKUP(B207,[1]ResourceLevelConfig!$A:$E,5,FALSE),2))","v":8.76},-1,4,4,4,2723,null,null,null,1,4,203]
[204,204,7,21,4,"231;237;241","大乘","后期.","四重",231,237,241,{"$f":"ROUND([1]ResourceLevelConfig!$E208*[1]ResourceLevelConfig!$L208*0.1,0)*10","v":114600},-1,-1,-1,-1,-1,-1,0,{"$f":"[3]主表!K206","v":15551.055287401992},{"$f":"[3]主表!L206","v":213.32801305895683},{"$f":"[3]主表!M206","v":213.32801305895683},{"$f":"[3]主表!N206","v":932.46},{"$f":"[3]主表!$G206","v":133209},{"$f":"[3]升级!$H206","v":1600},{"$f":"MAX(1,ROUND(100/(24*3600)*VLOOKUP(B208,[1]ResourceLevelConfig!$A:$E,5,FALSE),2))","v":8.84},-1,4,4,4,2786,null,null,null,1,4,204]
[205,205,7,21,5,"231;237;242","大乘","后期.","五重",231,237,242,{"$f":"ROUND([1]ResourceLevelConfig!$E209*[1]ResourceLevelConfig!$L209*0.1,0)*10","v":115800},-1,-1,-1,-1,-1,-1,0,{"$f":"[3]主表!K207","v":15833.338146202885},{"$f":"[3]主表!L207","v":216.20833128419181},{"$f":"[3]主表!M207","v":216.20833128419181},{"$f":"[3]主表!N207","v":946.74},{"$f":"[3]主表!$G207","v":135248},{"$f":"[3]升级!$H207","v":1600},{"$f":"MAX(1,ROUND(100/(24*3600)*VLOOKUP(B209,[1]ResourceLevelConfig!$A:$E,5,FALSE),2))","v":8.94},-1,4,4,4,2851,null,null,null,1,4,205]
[206,206,7,21,6,"231;237;243","大乘","后期.","六重",231,237,243,{"$f":"ROUND([1]ResourceLevelConfig!$E210*[1]ResourceLevelConfig!$L210*0.1,0)*10","v":117000},-1,-1,-1,-1,-1,-1,0,{"$f":"[3]主表!K208","v":16120.408726859407},{"$f":"[3]主表!L208","v":219.12753907184131},{"$f":"[3]主表!M208","v":219.12753907184131},{"$f":"[3]主表!N208","v":961.24},{"$f":"[3]主表!$G208","v":137320},{"$f":"[3]升级!$H208","v":1600},{"$f":"MAX(1,ROUND(100/(24*3600)*VLOOKUP(B210,[1]ResourceLevelConfig!$A:$E,5,FALSE),2))","v":9.0299999999999994},-1,4,4,4,2917,null,null,null,1,4,206]
[207,207,7,21,7,"231;237;244","大乘","后期.","七重",231,237,244,{"$f":"ROUND([1]ResourceLevelConfig!$E211*[1]ResourceLevelConfig!$L211*0.1,0)*10","v":118200},-1,-1,-1,-1,-1,-1,0,{"$f":"[3]主表!K209","v":16412.344855382042},{"$f":"[3]主表!L209","v":222.08616150210361},{"$f":"[3]主表!M209","v":222.08616150210361},{"$f":"[3]主表!N209","v":975.97},{"$f":"[3]主表!$G209","v":139425},{"$f":"[3]升级!$H209","v":1600},{"$f":"MAX(1,ROUND(100/(24*3600)*VLOOKUP(B211,[1]ResourceLevelConfig!$A:$E,5,FALSE),2))","v":9.1199999999999992},-1,4,4,4,2985,null,null,null,1,4,207]
[208,208,7,21,8,"231;237;245","大乘","后期.","八重",231,237,245,{"$f":"ROUND([1]ResourceLevelConfig!$E212*[1]ResourceLevelConfig!$L212*0.1,0)*10","v":119400},-1,-1,-1,-1,-1,-1,0,{"$f":"[3]主表!K210","v":16709.225586569468},{"$f":"[3]主表!L210","v":225.08473074471968},{"$f":"[3]主表!M210","v":225.08473074471968},{"$f":"[3]主表!N210","v":990.94},{"$f":"[3]主表!$G210","v":141563},{"$f":"[3]升级!$H210","v":1600},{"$f":"MAX(1,ROUND(100/(24*3600)*VLOOKUP(B212,[1]ResourceLevelConfig!$A:$E,5,FALSE),2))","v":9.2100000000000009},-1,4,4,4,3055,null,null,null,1,4,208]
[209,209,7,21,9,"231;237;246","大乘","后期.","九重",231,237,246,{"$f":"ROUND([1]ResourceLevelConfig!$E213*[1]ResourceLevelConfig!$L213*0.1,0)*10","v":120600},-1,-1,-1,-1,-1,-1,0,{"$f":"[3]主表!K211","v":17011.131223002703},{"$f":"[3]主表!L211","v":228.12378615469507},{"$f":"[3]主表!M211","v":228.12378615469507},{"$f":"[3]主表!N211","v":1006.15},{"$f":"[3]主表!$G211","v":143735},{"$f":"[3]升级!$H211","v":1600},{"$f":"MAX(1,ROUND(100/(24*3600)*VLOOKUP(B213,[1]ResourceLevelConfig!$A:$E,5,FALSE),2))","v":9.31},-1,4,4,4,3126,null,null,null,1,4,209]
[210,210,7,21,10,"231;237;247","大乘","后期.","十重",231,237,247,{"$f":"ROUND([1]ResourceLevelConfig!$E214*[1]ResourceLevelConfig!$L214*0.1,0)*10","v":121800},100004,{"$f":"AM214","v":15},{"$f":"AN214","v":1307},{"$f":"AO214","v":1},{"$f":"_xlfn.TEXTJOIN(\";\",1,AP214,AR214,AT214,AV214)","v":"1204;1203;1202;1201"},{"$f":"_xlfn.TEXTJOIN(\";\",1,AQ214,AS214,AU214,AW214)","v":"1;1;1;1"},{"$f":"CONCATENATE(ROUND(0.6*VLOOKUP(A214,[3]主表!$A:$P,16,FALSE)*[5]HeroModelConfig!$Q$5,0),\";\",ROUND(0.9*VLOOKUP(A214,[3]主表!$A:$P,16,FALSE)*[5]HeroModelConfig!$Q$5,0),\";\",INT(A214/30)+1)","v":"3279479;4919218;8"},{"$f":"[3]主表!K212","v":17318.143334328157},{"$f":"[3]主表!L212","v":231.20387436931404},{"$f":"[3]主表!M212","v":231.20387436931404},{"$f":"[3]主表!N212","v":1094.56},{"$f":"[3]主表!$G212","v":145941},{"$f":"[3]升级!$H212","v":1600},{"$f":"MAX(1,ROUND(100/(24*3600)*VLOOKUP(B214,[1]ResourceLevelConfig!$A:$E,5,FALSE),2))","v":9.4},50,4,4,4,3199,null,null,null,1,4,210,15,1307,1,1204,1,1203,1,1202,1,1201,1,{"$f":"VLOOKUP(AN214,[4]ItemConfig!$A:$AC,29,FALSE)*AO214+AM214","v":30},{"$f":"VLOOKUP(AP214,[4]ItemConfig!$A:$AC,29,FALSE)*AQ214","v":40},{"$f":"VLOOKUP(AR214,[4]ItemConfig!$A:$AC,29,FALSE)*AS214","v":25},{"$f":"VLOOKUP(AT214,[4]ItemConfig!$A:$AC,29,FALSE)*AU214","v":15},{"$f":"VLOOKUP(AV214,[4]ItemConfig!$A:$AC,29,FALSE)*AW214","v":10},{"$f":"CONCATENATE(AX214,\" + \",SUM(AY214:BB214))","v":"30 + 90"}]
[211,211,7,19,1,"232;235;238","飞升","前期.","一重",232,235,238,{"$f":"ROUND([1]ResourceLevelConfig!$E215*[1]ResourceLevelConfig!$L215*0.1,0)*10","v":123000},-1,-1,-1,-1,{"$f":"IF(I215=10,\"1001;1002;1004\",-1)","v":-1},{"$f":"IF(R215=-1,-1,\"100;200;300\")","v":-1},0,{"$f":"[3]主表!K213","v":22614.116292287967},{"$f":"[3]主表!L213","v":300.56503668010822},{"$f":"[3]主表!M213","v":300.56503668010822},{"$f":"[3]主表!N213","v":1455.99},{"$f":"[3]主表!$G213","v":194132},{"$f":"[3]升级!$H213","v":1700},{"$f":"MAX(1,ROUND(100/(24*3600)*VLOOKUP(B215,[1]ResourceLevelConfig!$A:$E,5,FALSE),2))","v":9.49},-1,4,4,4,3273,null,null,null,1,4,211]
[212,212,7,19,2,"232;235;239","飞升","前期.","二重",232,235,239,{"$f":"ROUND([1]ResourceLevelConfig!$E216*[1]ResourceLevelConfig!$L216*0.1,0)*10","v":124200},-1,-1,-1,-1,{"$f":"IF(I216=10,\"1001;1002;1004\",-1)","v":-1},{"$f":"IF(R216=-1,-1,\"100;200;300\")","v":-1},0,{"$f":"[3]主表!K214","v":23021.335505782859},{"$f":"[3]主表!L214","v":304.62321422840273},{"$f":"[3]主表!M214","v":304.62321422840273},{"$f":"[3]主表!N214","v":1478.02},{"$f":"[3]主表!$G214","v":197069},{"$f":"[3]升级!$H214","v":1700},{"$f":"MAX(1,ROUND(100/(24*3600)*VLOOKUP(B216,[1]ResourceLevelConfig!$A:$E,5,FALSE),2))","v":9.58},-1,4,4,4,3350,null,null,null,1,4,212]
[213,213,7,19,3,"232;235;240","飞升","前期.","三重",232,235,240,{"$f":"ROUND([1]ResourceLevelConfig!$E217*[1]ResourceLevelConfig!$L217*0.1,0)*10","v":125550},-1,-1,-1,-1,-1,-1,0,{"$f":"[3]主表!K215","v":23435.428588004903},{"$f":"[3]主表!L215","v":308.73618459357107},{"$f":"[3]主表!M215","v":308.73618459357107},{"$f":"[3]主表!N215","v":1500.39},{"$f":"[3]主表!$G215","v":200052},{"$f":"[3]升级!$H215","v":1700},{"$f":"MAX(1,ROUND(100/(24*3600)*VLOOKUP(B217,[1]ResourceLevelConfig!$A:$E,5,FALSE),2))","v":9.69},-1,4,4,4,3428,null,null,null,1,4,213]
[214,214,7,19,4,"232;235;241","飞升","前期.","四重",232,235,241,{"$f":"ROUND([1]ResourceLevelConfig!$E218*[1]ResourceLevelConfig!$L218*0.1,0)*10","v":126750},-1,-1,-1,-1,-1,-1,0,{"$f":"[3]主表!K216","v":23856.506922739969},{"$f":"[3]主表!L216","v":312.90468757882417},{"$f":"[3]主表!M216","v":312.90468757882417},{"$f":"[3]主表!N216","v":1523.12},{"$f":"[3]主表!$G216","v":203082},{"$f":"[3]升级!$H216","v":1700},{"$f":"MAX(1,ROUND(100/(24*3600)*VLOOKUP(B218,[1]ResourceLevelConfig!$A:$E,5,FALSE),2))","v":9.7799999999999994},-1,4,4,4,3508,null,null,null,1,4,214]
[215,215,7,19,5,"232;235;242","飞升","前期.","五重",232,235,242,{"$f":"ROUND([1]ResourceLevelConfig!$E219*[1]ResourceLevelConfig!$L219*0.1,0)*10","v":127950},-1,-1,-1,-1,-1,-1,0,{"$f":"[3]主表!K217","v":24284.683648441503},{"$f":"[3]主表!L217","v":317.12947297606905},{"$f":"[3]主表!M217","v":317.12947297606905},{"$f":"[3]主表!N217","v":1546.21},{"$f":"[3]主表!$G217","v":206161},{"$f":"[3]升级!$H217","v":1700},{"$f":"MAX(1,ROUND(100/(24*3600)*VLOOKUP(B219,[1]ResourceLevelConfig!$A:$E,5,FALSE),2))","v":9.8699999999999992},-1,4,4,4,3589,null,null,null,1,4,215]
[216,216,7,19,6,"232;235;243","飞升","前期.","六重",232,235,243,{"$f":"ROUND([1]ResourceLevelConfig!$E220*[1]ResourceLevelConfig!$L220*0.1,0)*10","v":129300},-1,-1,-1,-1,-1,-1,0,{"$f":"[3]主表!K218","v":24720.073685307812},{"$f":"[3]主表!L218","v":321.41130070077435},{"$f":"[3]主表!M218","v":321.41130070077435},{"$f":"[3]主表!N218","v":1569.65},{"$f":"[3]主表!$G218","v":209287},{"$f":"[3]升级!$H218","v":1700},{"$f":"MAX(1,ROUND(100/(24*3600)*VLOOKUP(B220,[1]ResourceLevelConfig!$A:$E,5,FALSE),2))","v":9.98},-1,4,4,4,3673,null,null,null,1,4,216]
[217,217,7,19,7,"232;235;244","飞升","前期.","七重",232,235,244,{"$f":"ROUND([1]ResourceLevelConfig!$E221*[1]ResourceLevelConfig!$L221*0.1,0)*10","v":130650},-1,-1,-1,-1,-1,-1,0,{"$f":"[3]主表!K219","v":25162.793762770561},{"$f":"[3]主表!L219","v":325.75094092865697},{"$f":"[3]主表!M219","v":325.75094092865697},{"$f":"[3]主表!N219","v":1593.48},{"$f":"[3]主表!$G219","v":212464},{"$f":"[3]升级!$H219","v":1700},{"$f":"MAX(1,ROUND(100/(24*3600)*VLOOKUP(B221,[1]ResourceLevelConfig!$A:$E,5,FALSE),2))","v":10.08},-1,4,4,4,3758,null,null,null,1,4,217]
[218,218,7,19,8,"232;235;245","飞升","前期.","八重",232,235,245,{"$f":"ROUND([1]ResourceLevelConfig!$E222*[1]ResourceLevelConfig!$L222*0.1,0)*10","v":131850},-1,-1,-1,-1,-1,-1,0,{"$f":"[3]主表!K220","v":25612.96244740086},{"$f":"[3]主表!L220","v":330.14917423421423},{"$f":"[3]主表!M220","v":330.14917423421423},{"$f":"[3]主表!N220","v":1617.68},{"$f":"[3]主表!$G220","v":215691},{"$f":"[3]升级!$H220","v":1700},{"$f":"MAX(1,ROUND(100/(24*3600)*VLOOKUP(B222,[1]ResourceLevelConfig!$A:$E,5,FALSE),2))","v":10.17},-1,4,4,4,3846,null,null,null,1,4,218]
[219,219,7,19,9,"232;235;246","飞升","前期.","九重",232,235,246,{"$f":"ROUND([1]ResourceLevelConfig!$E223*[1]ResourceLevelConfig!$L223*0.1,0)*10","v":133200},-1,-1,-1,-1,-1,-1,0,{"$f":"[3]主表!K221","v":26070.700171239034},{"$f":"[3]主表!L221","v":334.60679173112629},{"$f":"[3]主表!M221","v":334.60679173112629},{"$f":"[3]主表!N221","v":1642.26},{"$f":"[3]主表!$G221","v":218968},{"$f":"[3]升级!$H221","v":1700},{"$f":"MAX(1,ROUND(100/(24*3600)*VLOOKUP(B223,[1]ResourceLevelConfig!$A:$E,5,FALSE),2))","v":10.28},-1,4,4,4,3936,null,null,null,1,4,219]
[220,220,7,19,10,"232;235;247","飞升","前期.","十重",232,235,247,{"$f":"ROUND([1]ResourceLevelConfig!$E224*[1]ResourceLevelConfig!$L224*0.1,0)*10","v":134550},100004,{"$f":"AM224","v":10},{"$f":"AN224","v":1202},{"$f":"AO224","v":3},{"$f":"_xlfn.TEXTJOIN(\";\",1,AP224,AR224,AT224,AV224)","v":"1202;1201;1201;1201"},{"$f":"_xlfn.TEXTJOIN(\";\",1,AQ224,AS224,AU224,AW224)","v":"1;1;1;1"},0,{"$f":"[3]主表!K222","v":26536.129260554477},{"$f":"[3]主表!L222","v":339.1245952145544},{"$f":"[3]主表!M222","v":339.1245952145544},{"$f":"[3]主表!N222","v":1778.38},{"$f":"[3]主表!$G222","v":222298},{"$f":"[3]升级!$H222","v":1700},{"$f":"MAX(1,ROUND(100/(24*3600)*VLOOKUP(B224,[1]ResourceLevelConfig!$A:$E,5,FALSE),2))","v":10.38},20,4,4,4,4027,null,null,null,1,4,220,10,1202,3,1202,1,1201,1,1201,1,1201,1,{"$f":"VLOOKUP(AN224,[4]ItemConfig!$A:$AC,29,FALSE)*AO224+AM224","v":55},{"$f":"VLOOKUP(AP224,[4]ItemConfig!$A:$AC,29,FALSE)*AQ224","v":15},{"$f":"VLOOKUP(AR224,[4]ItemConfig!$A:$AC,29,FALSE)*AS224","v":10},{"$f":"VLOOKUP(AT224,[4]ItemConfig!$A:$AC,29,FALSE)*AU224","v":10},{"$f":"VLOOKUP(AV224,[4]ItemConfig!$A:$AC,29,FALSE)*AW224","v":10},{"$f":"CONCATENATE(AX224,\" + \",SUM(AY224:BB224))","v":"55 + 45"}]
[221,221,7,20,1,"232;236;238","飞升","中期.","一重",232,236,238,{"$f":"ROUND([1]ResourceLevelConfig!$E225*[1]ResourceLevelConfig!$L225*0.1,0)*10","v":135900},-1,-1,-1,-1,{"$f":"IF(I225=10,\"1001;1002;1004\",-1)","v":-1},{"$f":"IF(R225=-1,-1,\"100;200;300\")","v":-1},0,{"$f":"[3]主表!K223","v":29314.511852879019},{"$f":"[3]主表!L223","v":373.03705473600991},{"$f":"[3]主表!M223","v":373.03705473600991},{"$f":"[3]主表!N223","v":2001.4},{"$f":"[3]主表!$G223","v":250175},{"$f":"[3]升级!$H223","v":1700},{"$f":"MAX(1,ROUND(100/(24*3600)*VLOOKUP(B225,[1]ResourceLevelConfig!$A:$E,5,FALSE),2))","v":10.49},-1,4,4,4,4121,null,null,null,1,4,221]
[222,222,7,20,2,"232;236;239","飞升","中期.","二重",232,236,239,{"$f":"ROUND([1]ResourceLevelConfig!$E226*[1]ResourceLevelConfig!$L226*0.1,0)*10","v":137250},-1,-1,-1,-1,-1,-1,0,{"$f":"[3]主表!K224","v":29836.765646438922},{"$f":"[3]主表!L224","v":378.07373703589684},{"$f":"[3]主表!M224","v":378.07373703589684},{"$f":"[3]主表!N224","v":2031.38},{"$f":"[3]主表!$G224","v":253923},{"$f":"[3]升级!$H224","v":1700},{"$f":"MAX(1,ROUND(100/(24*3600)*VLOOKUP(B226,[1]ResourceLevelConfig!$A:$E,5,FALSE),2))","v":10.59},-1,4,4,4,4217,null,null,null,1,4,222]
[223,223,7,20,3,"232;236;240","飞升","中期.","三重",232,236,240,{"$f":"ROUND([1]ResourceLevelConfig!$E227*[1]ResourceLevelConfig!$L227*0.1,0)*10","v":138750},-1,-1,-1,-1,-1,-1,{"$f":"IF(G227=G228,0,CONCATENATE(\"1;1\"))","v":0},{"$f":"[3]主表!K225","v":30367.778185155796},{"$f":"[3]主表!L225","v":383.1784237559022},{"$f":"[3]主表!M225","v":383.1784237559022},{"$f":"[3]主表!N225","v":2061.85},{"$f":"[3]主表!$G225","v":257731},{"$f":"[3]升级!$H225","v":1700},{"$f":"MAX(1,ROUND(100/(24*3600)*VLOOKUP(B227,[1]ResourceLevelConfig!$A:$E,5,FALSE),2))","v":10.71},-1,4,4,4,4315,null,null,null,1,4,223]
[224,224,7,20,4,"232;236;241","飞升","中期.","四重",232,236,241,{"$f":"ROUND([1]ResourceLevelConfig!$E228*[1]ResourceLevelConfig!$L228*0.1,0)*10","v":140100},-1,{"$f":"IF(N228=-1,-1,20)","v":-1},-1,-1,-1,-1,0,{"$f":"[3]主表!K226","v":30907.69078064022},{"$f":"[3]主表!L226","v":388.35203308003685},{"$f":"[3]主表!M226","v":388.35203308003685},{"$f":"[3]主表!N226","v":2092.79},{"$f":"[3]主表!$G226","v":261599},{"$f":"[3]升级!$H226","v":1700},{"$f":"MAX(1,ROUND(100/(24*3600)*VLOOKUP(B228,[1]ResourceLevelConfig!$A:$E,5,FALSE),2))","v":10.81},-1,4,4,4,4416,null,null,null,1,4,224]
[225,225,7,20,5,"232;236;242","飞升","中期.","五重",232,236,242,{"$f":"ROUND([1]ResourceLevelConfig!$E229*[1]ResourceLevelConfig!$L229*0.1,0)*10","v":141450},-1,-1,-1,-1,-1,-1,0,{"$f":"[3]主表!K227","v":31456.646963719304},{"$f":"[3]主表!L227","v":393.59549558947458},{"$f":"[3]主表!M227","v":393.59549558947458},{"$f":"[3]主表!N227","v":2124.2199999999998},{"$f":"[3]主表!$G227","v":265527},{"$f":"[3]升级!$H227","v":1700},{"$f":"MAX(1,ROUND(100/(24*3600)*VLOOKUP(B229,[1]ResourceLevelConfig!$A:$E,5,FALSE),2))","v":10.91},-1,4,4,4,4519,null,null,null,1,4,225]
[226,226,7,20,6,"232;236;243","飞升","中期.","六重",232,236,243,{"$f":"ROUND([1]ResourceLevelConfig!$E230*[1]ResourceLevelConfig!$L230*0.1,0)*10","v":142950},-1,-1,-1,-1,-1,-1,0,{"$f":"[3]主表!K228","v":32014.792518602622},{"$f":"[3]主表!L228","v":398.90975442993658},{"$f":"[3]主表!M228","v":398.90975442993658},{"$f":"[3]主表!N228","v":2156.14},{"$f":"[3]主表!$G228","v":269518},{"$f":"[3]升级!$H228","v":1700},{"$f":"MAX(1,ROUND(100/(24*3600)*VLOOKUP(B230,[1]ResourceLevelConfig!$A:$E,5,FALSE),2))","v":11.03},-1,4,4,4,4624,null,null,null,1,4,226]
[227,227,7,20,7,"232;236;244","飞升","中期.","七重",232,236,244,{"$f":"ROUND([1]ResourceLevelConfig!$E231*[1]ResourceLevelConfig!$L231*0.1,0)*10","v":144300},-1,-1,-1,-1,-1,-1,0,{"$f":"[3]主表!K229","v":32582.27551756614},{"$f":"[3]主表!L229","v":404.29576548133571},{"$f":"[3]主表!M229","v":404.29576548133571},{"$f":"[3]主表!N229","v":2188.5700000000002},{"$f":"[3]主表!$G229","v":273571},{"$f":"[3]升级!$H229","v":1700},{"$f":"MAX(1,ROUND(100/(24*3600)*VLOOKUP(B231,[1]ResourceLevelConfig!$A:$E,5,FALSE),2))","v":11.13},-1,4,4,4,4732,null,null,null,1,4,227]
[228,228,7,20,8,"232;236;245","飞升","中期.","八重",232,236,245,{"$f":"ROUND([1]ResourceLevelConfig!$E232*[1]ResourceLevelConfig!$L232*0.1,0)*10","v":145800},-1,-1,-1,-1,-1,-1,0,{"$f":"[3]主表!K230","v":33159.246356162104},{"$f":"[3]主表!L230","v":409.75449752971127},{"$f":"[3]主表!M230","v":409.75449752971127},{"$f":"[3]主表!N230","v":2221.5100000000002},{"$f":"[3]主表!$G230","v":277689},{"$f":"[3]升级!$H230","v":1700},{"$f":"MAX(1,ROUND(100/(24*3600)*VLOOKUP(B232,[1]ResourceLevelConfig!$A:$E,5,FALSE),2))","v":11.25},-1,4,4,4,4842,null,null,null,1,4,228]
[229,229,7,20,9,"232;236;246","飞升","中期.","九重",232,236,246,{"$f":"ROUND([1]ResourceLevelConfig!$E233*[1]ResourceLevelConfig!$L233*0.1,0)*10","v":147300},-1,-1,-1,-1,-1,-1,0,{"$f":"[3]主表!K231","v":33745.85778896245},{"$f":"[3]主表!L231","v":415.28693244148565},{"$f":"[3]主表!M231","v":415.28693244148565},{"$f":"[3]主表!N231","v":2254.9699999999998},{"$f":"[3]主表!$G231","v":281871},{"$f":"[3]升级!$H231","v":1700},{"$f":"MAX(1,ROUND(100/(24*3600)*VLOOKUP(B233,[1]ResourceLevelConfig!$A:$E,5,FALSE),2))","v":11.37},-1,4,4,4,4955,null,null,null,1,4,229]
[230,230,7,20,10,"232;236;247","飞升","中期.","十重",232,236,247,{"$f":"ROUND([1]ResourceLevelConfig!$E234*[1]ResourceLevelConfig!$L234*0.1,0)*10","v":148800},100004,{"$f":"AM234","v":10},{"$f":"AN234","v":1202},{"$f":"AO234","v":3},{"$f":"_xlfn.TEXTJOIN(\";\",1,AP234,AR234,AT234,AV234)","v":"1202;1201;1201;1201"},{"$f":"_xlfn.TEXTJOIN(\";\",1,AQ234,AS234,AU234,AW234)","v":"1;1;1;1"},0,{"$f":"[3]主表!K232","v":34342.26496584394},{"$f":"[3]主表!L232","v":420.89406534007293},{"$f":"[3]主表!M232","v":420.89406534007293},{"$f":"[3]主表!N232","v":2432.0100000000002},{"$f":"[3]主表!$G232","v":286119},{"$f":"[3]升级!$H232","v":1700},{"$f":"MAX(1,ROUND(100/(24*3600)*VLOOKUP(B234,[1]ResourceLevelConfig!$A:$E,5,FALSE),2))","v":11.48},20,4,4,4,5070,null,null,null,1,4,230,10,1202,3,1202,1,1201,1,1201,1,1201,1,{"$f":"VLOOKUP(AN234,[4]ItemConfig!$A:$AC,29,FALSE)*AO234+AM234","v":55},{"$f":"VLOOKUP(AP234,[4]ItemConfig!$A:$AC,29,FALSE)*AQ234","v":15},{"$f":"VLOOKUP(AR234,[4]ItemConfig!$A:$AC,29,FALSE)*AS234","v":10},{"$f":"VLOOKUP(AT234,[4]ItemConfig!$A:$AC,29,FALSE)*AU234","v":10},{"$f":"VLOOKUP(AV234,[4]ItemConfig!$A:$AC,29,FALSE)*AW234","v":10},{"$f":"CONCATENATE(AX234,\" + \",SUM(AY234:BB234))","v":"55 + 45"}]
[231,231,7,21,1,"232;237;238","飞升","后期.","一重",232,237,238,{"$f":"ROUND([1]ResourceLevelConfig!$E235*[1]ResourceLevelConfig!$L235*0.1,0)*10","v":150300},-1,-1,-1,-1,{"$f":"IF(I235=10,\"1001;1002;1004\",-1)","v":-1},{"$f":"IF(R235=-1,-1,\"100;200;300\")","v":-1},0,{"$f":"[3]主表!K233","v":37931.345497812872},{"$f":"[3]主表!L233","v":462.98347187408029},{"$f":"[3]主表!M233","v":462.98347187408029},{"$f":"[3]主表!N233","v":2736.63},{"$f":"[3]主表!$G233","v":321956},{"$f":"[3]升级!$H233","v":1700},{"$f":"MAX(1,ROUND(100/(24*3600)*VLOOKUP(B235,[1]ResourceLevelConfig!$A:$E,5,FALSE),2))","v":11.6},-1,4,4,4,5188,null,null,null,1,4,231]
[232,232,7,21,2,"232;237;239","飞升","后期.","二重",232,237,239,{"$f":"ROUND([1]ResourceLevelConfig!$E236*[1]ResourceLevelConfig!$L236*0.1,0)*10","v":151800},-1,-1,-1,-1,-1,-1,0,{"$f":"[3]主表!K234","v":38600.432863702794},{"$f":"[3]主表!L234","v":469.23459526336029},{"$f":"[3]主表!M234","v":469.23459526336029},{"$f":"[3]主表!N234","v":2777.27},{"$f":"[3]主表!$G234","v":326738},{"$f":"[3]升级!$H234","v":1700},{"$f":"MAX(1,ROUND(100/(24*3600)*VLOOKUP(B236,[1]ResourceLevelConfig!$A:$E,5,FALSE),2))","v":11.71},-1,4,4,4,5309,null,null,null,1,4,232]
[233,233,7,21,3,"232;237;240","飞升","后期.","三重",232,237,240,{"$f":"ROUND([1]ResourceLevelConfig!$E237*[1]ResourceLevelConfig!$L237*0.1,0)*10","v":153300},-1,-1,-1,-1,-1,-1,0,{"$f":"[3]主表!K235","v":39280.673174797485},{"$f":"[3]主表!L235","v":475.5701202479496},{"$f":"[3]主表!M235","v":475.5701202479496},{"$f":"[3]主表!N235","v":2818.55},{"$f":"[3]主表!$G235","v":331594},{"$f":"[3]升级!$H235","v":1700},{"$f":"MAX(1,ROUND(100/(24*3600)*VLOOKUP(B237,[1]ResourceLevelConfig!$A:$E,5,FALSE),2))","v":11.83},-1,4,4,4,5433,null,null,null,1,4,233]
[234,234,7,21,4,"232;237;241","飞升","后期.","四重",232,237,241,{"$f":"ROUND([1]ResourceLevelConfig!$E238*[1]ResourceLevelConfig!$L238*0.1,0)*10","v":154800},-1,-1,-1,-1,-1,-1,0,{"$f":"[3]主表!K236","v":39972.245627196215},{"$f":"[3]主表!L236","v":481.99118640370472},{"$f":"[3]主表!M236","v":481.99118640370472},{"$f":"[3]主表!N236","v":2860.48},{"$f":"[3]主表!$G236","v":336527},{"$f":"[3]升级!$H236","v":1700},{"$f":"MAX(1,ROUND(100/(24*3600)*VLOOKUP(B238,[1]ResourceLevelConfig!$A:$E,5,FALSE),2))","v":11.94},-1,4,4,4,5559,null,null,null,1,4,234]
[235,235,7,21,5,"232;237;242","飞升","后期.","五重",232,237,242,{"$f":"ROUND([1]ResourceLevelConfig!$E239*[1]ResourceLevelConfig!$L239*0.1,0)*10","v":156450},-1,-1,-1,-1,-1,-1,0,{"$f":"[3]主表!K237","v":40675.332222773286},{"$f":"[3]主表!L237","v":488.49894869283992},{"$f":"[3]主表!M237","v":488.49894869283992},{"$f":"[3]主表!N237","v":2903.06},{"$f":"[3]主表!$G237","v":341537},{"$f":"[3]升级!$H237","v":1700},{"$f":"MAX(1,ROUND(100/(24*3600)*VLOOKUP(B239,[1]ResourceLevelConfig!$A:$E,5,FALSE),2))","v":12.07},-1,4,4,4,5689,null,null,null,1,4,235]
[236,236,7,21,6,"232;237;243","飞升","后期.","六重",232,237,243,{"$f":"ROUND([1]ResourceLevelConfig!$E240*[1]ResourceLevelConfig!$L240*0.1,0)*10","v":157950},-1,-1,-1,-1,-1,-1,0,{"$f":"[3]主表!K238","v":41390.117812276956},{"$f":"[3]主表!L238","v":495.094577671671},{"$f":"[3]主表!M238","v":495.094577671671},{"$f":"[3]主表!N238","v":2946.32},{"$f":"[3]主表!$G238","v":346626},{"$f":"[3]升级!$H238","v":1700},{"$f":"MAX(1,ROUND(100/(24*3600)*VLOOKUP(B240,[1]ResourceLevelConfig!$A:$E,5,FALSE),2))","v":12.19},-1,4,4,4,5821,null,null,null,1,4,236]
[237,237,7,21,7,"232;237;244","飞升","后期.","七重",232,237,244,{"$f":"ROUND([1]ResourceLevelConfig!$E241*[1]ResourceLevelConfig!$L241*0.1,0)*10","v":159600},-1,-1,-1,-1,-1,-1,0,{"$f":"[3]主表!K239","v":42116.790139080607},{"$f":"[3]主表!L239","v":501.77925970116434},{"$f":"[3]主表!M239","v":501.77925970116434},{"$f":"[3]主表!N239","v":2990.25},{"$f":"[3]主表!$G239","v":351794},{"$f":"[3]升级!$H239","v":1700},{"$f":"MAX(1,ROUND(100/(24*3600)*VLOOKUP(B241,[1]ResourceLevelConfig!$A:$E,5,FALSE),2))","v":12.31},-1,4,4,4,5957,null,null,null,1,4,237]
[238,238,7,21,8,"232;237;245","飞升","后期.","八重",232,237,245,{"$f":"ROUND([1]ResourceLevelConfig!$E242*[1]ResourceLevelConfig!$L242*0.1,0)*10","v":161250},-1,-1,-1,-1,-1,-1,0,{"$f":"[3]主表!K240","v":42855.539883596},{"$f":"[3]主表!L240","v":508.5541971603285},{"$f":"[3]主表!M240","v":508.5541971603285},{"$f":"[3]主表!N240","v":3034.87},{"$f":"[3]主表!$G240","v":357044},{"$f":"[3]升级!$H240","v":1700},{"$f":"MAX(1,ROUND(100/(24*3600)*VLOOKUP(B242,[1]ResourceLevelConfig!$A:$E,5,FALSE),2))","v":12.44},-1,4,4,4,6095,null,null,null,1,4,238]
[239,239,7,21,9,"232;237;246","飞升","后期.","九重",232,237,246,{"$f":"ROUND([1]ResourceLevelConfig!$E243*[1]ResourceLevelConfig!$L243*0.1,0)*10","v":162750},-1,-1,-1,-1,-1,-1,0,{"$f":"[3]主表!K241","v":43606.560708358556},{"$f":"[3]主表!L241","v":515.42060866248687},{"$f":"[3]主表!M241","v":515.42060866248687},{"$f":"[3]主表!N241","v":3080.2},{"$f":"[3]主表!$G241","v":362377},{"$f":"[3]升级!$H241","v":1700},{"$f":"MAX(1,ROUND(100/(24*3600)*VLOOKUP(B243,[1]ResourceLevelConfig!$A:$E,5,FALSE),2))","v":12.56},-1,4,4,4,6237,null,null,null,1,4,239]
[240,240,7,21,10,"232;237;247","飞升","后期.","十重",232,237,247,{"$f":"ROUND([1]ResourceLevelConfig!$E244*[1]ResourceLevelConfig!$L244*0.1,0)*10","v":164400},100004,{"$f":"AM244","v":10},{"$f":"AN244","v":1308},{"$f":"AO244","v":1},{"$f":"_xlfn.TEXTJOIN(\";\",1,AP244,AR244,AT244,AV244)","v":"1204;1203;1202;1201"},{"$f":"_xlfn.TEXTJOIN(\";\",1,AQ244,AS244,AU244,AW244)","v":"1;1;1;1"},{"$f":"CONCATENATE(ROUND(0.6*VLOOKUP(A244,[3]主表!$A:$P,16,FALSE)*[5]HeroModelConfig!$Q$5,0),\";\",ROUND(0.9*VLOOKUP(A244,[3]主表!$A:$P,16,FALSE)*[5]HeroModelConfig!$Q$5,0),\";\",INT(A244/30)+1)","v":"9371914;14057871;9"},{"$f":"[3]主表!K242","v":44370.049303794738},{"$f":"[3]主表!L242","v":522.37972927447129},{"$f":"[3]主表!M242","v":522.37972927447129},{"$f":"[3]主表!N242","v":3310.14},{"$f":"[3]主表!$G242","v":367793},{"$f":"[3]升级!$H242","v":1700},{"$f":"MAX(1,ROUND(100/(24*3600)*VLOOKUP(B244,[1]ResourceLevelConfig!$A:$E,5,FALSE),2))","v":12.69},50,4,4,4,6383,null,null,null,1,4,240,10,1308,1,1204,1,1203,1,1202,1,1201,1,{"$f":"VLOOKUP(AN244,[4]ItemConfig!$A:$AC,29,FALSE)*AO244+AM244","v":20},{"$f":"VLOOKUP(AP244,[4]ItemConfig!$A:$AC,29,FALSE)*AQ244","v":40},{"$f":"VLOOKUP(AR244,[4]ItemConfig!$A:$AC,29,FALSE)*AS244","v":25},{"$f":"VLOOKUP(AT244,[4]ItemConfig!$A:$AC,29,FALSE)*AU244","v":15},{"$f":"VLOOKUP(AV244,[4]ItemConfig!$A:$AC,29,FALSE)*AW244","v":10},{"$f":"CONCATENATE(AX244,\" + \",SUM(AY244:BB244))","v":"20 + 90"}]
[241,241,7,19,1,"233;235;238","逍遥","前期.","一重",233,235,238,{"$f":"ROUND([1]ResourceLevelConfig!$E245*[1]ResourceLevelConfig!$L245*0.1,0)*10","v":166050},-1,-1,-1,-1,{"$f":"IF(I245=10,\"1001;1002;1004\",-1)","v":-1},{"$f":"IF(R245=-1,-1,\"100;200;300\")","v":-1},0,{"$f":"[3]主表!K243","v":57908.200479262225},{"$f":"[3]主表!L243","v":679.09364805681264},{"$f":"[3]主表!M243","v":679.09364805681264},{"$f":"[3]主表!N243","v":4391.1000000000004},{"$f":"[3]主表!$G243","v":487900},{"$f":"[3]升级!$H243","v":1800},{"$f":"MAX(1,ROUND(100/(24*3600)*VLOOKUP(B245,[1]ResourceLevelConfig!$A:$E,5,FALSE),2))","v":12.81},-1,4,4,4,6531,null,null,null,1,5,241]
[242,242,7,19,2,"233;235;239","逍遥","前期.","二重",233,235,239,{"$f":"ROUND([1]ResourceLevelConfig!$E246*[1]ResourceLevelConfig!$L246*0.1,0)*10","v":167850},-1,-1,-1,-1,{"$f":"IF(I246=10,\"1001;1002;1004\",-1)","v":-1},{"$f":"IF(R246=-1,-1,\"100;200;300\")","v":-1},0,{"$f":"[3]主表!K244","v":58920.270205899709},{"$f":"[3]主表!L244","v":688.26265396040571},{"$f":"[3]主表!M244","v":688.26265396040571},{"$f":"[3]主表!N244","v":4445.3599999999997},{"$f":"[3]主表!$G244","v":493929},{"$f":"[3]升级!$H244","v":1800},{"$f":"MAX(1,ROUND(100/(24*3600)*VLOOKUP(B246,[1]ResourceLevelConfig!$A:$E,5,FALSE),2))","v":12.95},-1,4,4,4,6683,null,null,null,1,5,242]
[243,243,7,19,3,"233;235;240","逍遥","前期.","三重",233,235,240,{"$f":"ROUND([1]ResourceLevelConfig!$E247*[1]ResourceLevelConfig!$L247*0.1,0)*10","v":169500},-1,-1,-1,-1,-1,-1,0,{"$f":"[3]主表!K245","v":59949.112887619485},{"$f":"[3]主表!L245","v":697.55545820830764},{"$f":"[3]主表!M245","v":697.55545820830764},{"$f":"[3]主表!N245","v":4500.41},{"$f":"[3]主表!$G245","v":500045},{"$f":"[3]升级!$H245","v":1800},{"$f":"MAX(1,ROUND(100/(24*3600)*VLOOKUP(B247,[1]ResourceLevelConfig!$A:$E,5,FALSE),2))","v":13.08},-1,4,4,4,6839,null,null,null,1,5,243]
[244,244,7,19,4,"233;235;241","逍遥","前期.","四重",233,235,241,{"$f":"ROUND([1]ResourceLevelConfig!$E248*[1]ResourceLevelConfig!$L248*0.1,0)*10","v":171150},-1,-1,-1,-1,-1,-1,0,{"$f":"[3]主表!K246","v":60994.996955870432},{"$f":"[3]主表!L246","v":706.97373230451956},{"$f":"[3]主表!M246","v":706.97373230451956},{"$f":"[3]主表!N246","v":4556.22},{"$f":"[3]主表!$G246","v":506247},{"$f":"[3]升级!$H246","v":1800},{"$f":"MAX(1,ROUND(100/(24*3600)*VLOOKUP(B248,[1]ResourceLevelConfig!$A:$E,5,FALSE),2))","v":13.21},-1,4,4,4,6998,null,null,null,1,5,244]
[245,245,7,19,5,"233;235;242","逍遥","前期.","五重",233,235,242,{"$f":"ROUND([1]ResourceLevelConfig!$E249*[1]ResourceLevelConfig!$L249*0.1,0)*10","v":172950},-1,-1,-1,-1,-1,-1,0,{"$f":"[3]主表!K247","v":62058.195033032956},{"$f":"[3]主表!L247","v":716.51917032140261},{"$f":"[3]主表!M247","v":716.51917032140261},{"$f":"[3]主表!N247","v":4612.8500000000004},{"$f":"[3]主表!$G247","v":512539},{"$f":"[3]升级!$H247","v":1800},{"$f":"MAX(1,ROUND(100/(24*3600)*VLOOKUP(B249,[1]ResourceLevelConfig!$A:$E,5,FALSE),2))","v":13.34},-1,4,4,4,7161,null,null,null,1,5,245]
[246,246,7,19,6,"233;235;243","逍遥","前期.","六重",233,235,243,{"$f":"ROUND([1]ResourceLevelConfig!$E250*[1]ResourceLevelConfig!$L250*0.1,0)*10","v":174600},-1,-1,-1,-1,-1,-1,0,{"$f":"[3]主表!K248","v":63138.983996654657},{"$f":"[3]主表!L248","v":726.19348920439256},{"$f":"[3]主表!M248","v":726.19348920439256},{"$f":"[3]主表!N248","v":4669.6099999999997},{"$f":"[3]主表!$G248","v":518845},{"$f":"[3]升级!$H248","v":1800},{"$f":"MAX(1,ROUND(100/(24*3600)*VLOOKUP(B250,[1]ResourceLevelConfig!$A:$E,5,FALSE),2))","v":13.47},-1,4,4,4,7328,null,null,null,1,5,246]
[247,247,7,19,7,"233;235;244","逍遥","前期.","七重",233,235,244,{"$f":"ROUND([1]ResourceLevelConfig!$E251*[1]ResourceLevelConfig!$L251*0.1,0)*10","v":176400},-1,-1,-1,-1,-1,-1,0,{"$f":"[3]主表!K249","v":64237.645044656514},{"$f":"[3]主表!L249","v":735.99842908082746},{"$f":"[3]主表!M249","v":735.99842908082746},{"$f":"[3]主表!N249","v":4727.17},{"$f":"[3]主表!$G249","v":525241},{"$f":"[3]升级!$H249","v":1800},{"$f":"MAX(1,ROUND(100/(24*3600)*VLOOKUP(B251,[1]ResourceLevelConfig!$A:$E,5,FALSE),2))","v":13.61},-1,4,4,4,7499,null,null,null,1,5,247]
[248,248,7,19,8,"233;235;245","逍遥","前期.","八重",233,235,245,{"$f":"ROUND([1]ResourceLevelConfig!$E252*[1]ResourceLevelConfig!$L252*0.1,0)*10","v":178200},-1,-1,-1,-1,-1,-1,0,{"$f":"[3]主表!K250","v":65354.46376152405},{"$f":"[3]主表!L250","v":745.93575357294628},{"$f":"[3]主表!M250","v":745.93575357294628},{"$f":"[3]主表!N250","v":4785.54},{"$f":"[3]主表!$G250","v":531727},{"$f":"[3]升级!$H250","v":1800},{"$f":"MAX(1,ROUND(100/(24*3600)*VLOOKUP(B252,[1]ResourceLevelConfig!$A:$E,5,FALSE),2))","v":13.75},-1,4,4,4,7674,null,null,null,1,5,248]
[249,249,7,19,9,"233;235;246","逍遥","前期.","九重",233,235,246,{"$f":"ROUND([1]ResourceLevelConfig!$E253*[1]ResourceLevelConfig!$L253*0.1,0)*10","v":180000},-1,-1,-1,-1,-1,-1,0,{"$f":"[3]主表!K251","v":66489.730185498585},{"$f":"[3]主表!L251","v":756.00725011511281},{"$f":"[3]主表!M251","v":756.00725011511281},{"$f":"[3]主表!N251","v":4844.75},{"$f":"[3]主表!$G251","v":538306},{"$f":"[3]升级!$H251","v":1800},{"$f":"MAX(1,ROUND(100/(24*3600)*VLOOKUP(B253,[1]ResourceLevelConfig!$A:$E,5,FALSE),2))","v":13.89},-1,4,4,4,7852,null,null,null,1,5,249]
[250,250,7,19,10,"233;235;247","逍遥","前期.","十重",233,235,247,{"$f":"ROUND([1]ResourceLevelConfig!$E254*[1]ResourceLevelConfig!$L254*0.1,0)*10","v":181800},100004,{"$f":"AM254","v":5},{"$f":"AN254","v":1202},{"$f":"AO254","v":3},{"$f":"_xlfn.TEXTJOIN(\";\",1,AP254,AR254,AT254,AV254)","v":"1202;1202;1201;1201"},{"$f":"_xlfn.TEXTJOIN(\";\",1,AQ254,AS254,AU254,AW254)","v":"1;1;1;1"},0,{"$f":"[3]主表!K252","v":67643.73887678294},{"$f":"[3]主表!L252","v":766.21473027532295},{"$f":"[3]主表!M252","v":766.21473027532295},{"$f":"[3]主表!N252","v":5177.3},{"$f":"[3]主表!$G252","v":544979},{"$f":"[3]升级!$H252","v":1800},{"$f":"MAX(1,ROUND(100/(24*3600)*VLOOKUP(B254,[1]ResourceLevelConfig!$A:$E,5,FALSE),2))","v":14.03},20,4,4,4,8035,null,null,null,1,5,250,5,1202,3,1202,1,1202,1,1201,1,1201,1,{"$f":"VLOOKUP(AN254,[4]ItemConfig!$A:$AC,29,FALSE)*AO254+AM254","v":50},{"$f":"VLOOKUP(AP254,[4]ItemConfig!$A:$AC,29,FALSE)*AQ254","v":15},{"$f":"VLOOKUP(AR254,[4]ItemConfig!$A:$AC,29,FALSE)*AS254","v":15},{"$f":"VLOOKUP(AT254,[4]ItemConfig!$A:$AC,29,FALSE)*AU254","v":10},{"$f":"VLOOKUP(AV254,[4]ItemConfig!$A:$AC,29,FALSE)*AW254","v":10},{"$f":"CONCATENATE(AX254,\" + \",SUM(AY254:BB254))","v":"50 + 50"}]
[251,251,7,20,1,"233;236;238","逍遥","中期.","一重",233,236,238,{"$f":"ROUND([1]ResourceLevelConfig!$E255*[1]ResourceLevelConfig!$L255*0.1,0)*10","v":183600},-1,-1,-1,-1,{"$f":"IF(I255=10,\"1001;1002;1004\",-1)","v":-1},{"$f":"IF(R255=-1,-1,\"100;200;300\")","v":-1},0,{"$f":"[3]主表!K253","v":74690.016104814436},{"$f":"[3]主表!L253","v":842.83620330285532},{"$f":"[3]主表!M253","v":842.83620330285532},{"$f":"[3]主表!N253","v":5810.48},{"$f":"[3]主表!$G253","v":611629},{"$f":"[3]升级!$H253","v":1800},{"$f":"MAX(1,ROUND(100/(24*3600)*VLOOKUP(B255,[1]ResourceLevelConfig!$A:$E,5,FALSE),2))","v":14.17},-1,4,4,4,8222,null,null,null,1,5,251]
[252,252,7,20,2,"233;236;239","逍遥","中期.","二重",233,236,239,{"$f":"ROUND([1]ResourceLevelConfig!$E256*[1]ResourceLevelConfig!$L256*0.1,0)*10","v":185400},-1,-1,-1,-1,-1,-1,0,{"$f":"[3]主表!K254","v":75984.17743633491},{"$f":"[3]主表!L254","v":854.21603308915792},{"$f":"[3]主表!M254","v":854.21603308915792},{"$f":"[3]主表!N254","v":5881.36},{"$f":"[3]主表!$G254","v":619091},{"$f":"[3]升级!$H254","v":1800},{"$f":"MAX(1,ROUND(100/(24*3600)*VLOOKUP(B256,[1]ResourceLevelConfig!$A:$E,5,FALSE),2))","v":14.31},-1,4,4,4,8414,null,null,null,1,5,252]
[253,253,7,20,3,"233;236;240","逍遥","中期.","三重",233,236,240,{"$f":"ROUND([1]ResourceLevelConfig!$E257*[1]ResourceLevelConfig!$L257*0.1,0)*10","v":187350},-1,-1,-1,-1,-1,-1,0,{"$f":"[3]主表!K255","v":77299.669913403719},{"$f":"[3]主表!L255","v":865.74951138445624},{"$f":"[3]主表!M255","v":865.74951138445624},{"$f":"[3]主表!N255","v":5953.25},{"$f":"[3]主表!$G255","v":626658},{"$f":"[3]升级!$H255","v":1800},{"$f":"MAX(1,ROUND(100/(24*3600)*VLOOKUP(B257,[1]ResourceLevelConfig!$A:$E,5,FALSE),2))","v":14.46},-1,4,4,4,8610,null,null,null,1,5,253]
[254,254,7,20,4,"233;236;241","逍遥","中期.","四重",233,236,241,{"$f":"ROUND([1]ResourceLevelConfig!$E258*[1]ResourceLevelConfig!$L258*0.1,0)*10","v":189150},-1,{"$f":"IF(N258=-1,-1,20)","v":-1},-1,-1,-1,-1,0,{"$f":"[3]主表!K256","v":78636.833630158784},{"$f":"[3]主表!L256","v":877.43871272455306},{"$f":"[3]主表!M256","v":877.43871272455306},{"$f":"[3]主表!N256","v":6026.16},{"$f":"[3]主表!$G256","v":634333},{"$f":"[3]升级!$H256","v":1800},{"$f":"MAX(1,ROUND(100/(24*3600)*VLOOKUP(B258,[1]ResourceLevelConfig!$A:$E,5,FALSE),2))","v":14.59},-1,4,4,4,8810,null,null,null,1,5,254]
[255,255,7,20,5,"233;236;242","逍遥","中期.","五重",233,236,242,{"$f":"ROUND([1]ResourceLevelConfig!$E259*[1]ResourceLevelConfig!$L259*0.1,0)*10","v":191100},-1,-1,-1,-1,-1,-1,0,{"$f":"[3]主表!K257","v":79996.013975869035},{"$f":"[3]主表!L257","v":889.28573965527687},{"$f":"[3]主表!M257","v":889.28573965527687},{"$f":"[3]主表!N257","v":6100.11},{"$f":"[3]主表!$G257","v":642117},{"$f":"[3]升级!$H257","v":1800},{"$f":"MAX(1,ROUND(100/(24*3600)*VLOOKUP(B259,[1]ResourceLevelConfig!$A:$E,5,FALSE),2))","v":14.75},-1,{"$f":"AC258","v":4},{"$f":"AD258","v":4},{"$f":"AE258","v":4},9016,null,null,null,1,5,255]
[256,256,7,20,6,"233;236;243","逍遥","中期.","六重",233,236,243,{"$f":"ROUND([1]ResourceLevelConfig!$E260*[1]ResourceLevelConfig!$L260*0.1,0)*10","v":193050},-1,-1,-1,-1,-1,-1,0,{"$f":"[3]主表!K258","v":81377.561715923352},{"$f":"[3]主表!L258","v":901.2927231106695},{"$f":"[3]主表!M258","v":901.2927231106695},{"$f":"[3]主表!N258","v":6175.1},{"$f":"[3]主表!$G258","v":650011},{"$f":"[3]升级!$H258","v":1800},{"$f":"MAX(1,ROUND(100/(24*3600)*VLOOKUP(B260,[1]ResourceLevelConfig!$A:$E,5,FALSE),2))","v":14.9},-1,4,4,4,9226,null,null,null,1,5,256]
[257,257,7,20,7,"233;236;244","逍遥","中期.","七重",233,236,244,{"$f":"ROUND([1]ResourceLevelConfig!$E261*[1]ResourceLevelConfig!$L261*0.1,0)*10","v":195000},-1,-1,-1,-1,-1,-1,0,{"$f":"[3]主表!K259","v":82781.833074041133},{"$f":"[3]主表!L259","v":913.4618227962784},{"$f":"[3]主表!M259","v":913.4618227962784},{"$f":"[3]主表!N259","v":6251.17},{"$f":"[3]主表!$G259","v":658018},{"$f":"[3]升级!$H259","v":1800},{"$f":"MAX(1,ROUND(100/(24*3600)*VLOOKUP(B261,[1]ResourceLevelConfig!$A:$E,5,FALSE),2))","v":15.05},-1,4,4,4,9441,null,null,null,1,5,257]
[258,258,7,20,8,{"$f":"_xlfn.TEXTJOIN(\";\",1,J262:L262)","v":"233;236;245"},"逍遥","中期.","八重",233,236,245,{"$f":"ROUND([1]ResourceLevelConfig!$E262*[1]ResourceLevelConfig!$L262*0.1,0)*10","v":196950},{"$f":"IF(E262=10,100004,-1)","v":-1},-1,-1,-1,-1,-1,0,{"$f":"[3]主表!K260","v":84209.189815723003},{"$f":"[3]主表!L260","v":925.79522757762493},{"$f":"[3]主表!M260","v":925.79522757762493},{"$f":"[3]主表!N260","v":6328.31},{"$f":"[3]主表!$G260","v":666138},{"$f":"[3]升级!$H260","v":1800},{"$f":"MAX(1,ROUND(100/(24*3600)*VLOOKUP(B262,[1]ResourceLevelConfig!$A:$E,5,FALSE),2))","v":15.2},-1,4,4,4,{"$f":"MAX(AF261+10,ROUND(10^(B262*0.01+1.405),0))","v":9661},null,null,null,1,5,258]
[259,259,7,20,9,"233;236;246","逍遥","中期.","九重",233,236,246,{"$f":"ROUND([1]ResourceLevelConfig!$E263*[1]ResourceLevelConfig!$L263*0.1,0)*10","v":198900},-1,-1,-1,-1,-1,-1,0,{"$f":"[3]主表!K261","v":85659.99933295972},{"$f":"[3]主表!L261","v":938.29515587391677},{"$f":"[3]主表!M261","v":938.29515587391677},{"$f":"[3]主表!N261","v":6406.55},{"$f":"[3]主表!$G261","v":674374},{"$f":"[3]升级!$H261","v":1800},{"$f":"MAX(1,ROUND(100/(24*3600)*VLOOKUP(B263,[1]ResourceLevelConfig!$A:$E,5,FALSE),2))","v":15.35},-1,4,4,4,9886,null,null,null,1,5,259]
[260,260,7,20,10,"233;236;247","逍遥","中期.","十重",233,236,247,{"$f":"ROUND([1]ResourceLevelConfig!$E264*[1]ResourceLevelConfig!$L264*0.1,0)*10","v":201000},100004,{"$f":"AM264","v":5},{"$f":"AN264","v":1202},{"$f":"AO264","v":3},{"$f":"_xlfn.TEXTJOIN(\";\",1,AP264,AR264,AT264,AV264)","v":"1202;1202;1201;1201"},{"$f":"_xlfn.TEXTJOIN(\";\",1,AQ264,AS264,AU264,AW264)","v":"1;1;1;1"},0,{"$f":"[3]主表!K262","v":87134.634730218444},{"$f":"[3]主表!L262","v":950.96385605707769},{"$f":"[3]主表!M262","v":950.96385605707769},{"$f":"[3]主表!N262","v":6827.27},{"$f":"[3]主表!$G262","v":682727},{"$f":"[3]升级!$H262","v":1800},{"$f":"MAX(1,ROUND(100/(24*3600)*VLOOKUP(B264,[1]ResourceLevelConfig!$A:$E,5,FALSE),2))","v":15.51},20,4,4,4,10116,null,null,null,1,5,260,5,1202,3,1202,1,1202,1,1201,1,1201,1,{"$f":"VLOOKUP(AN264,[4]ItemConfig!$A:$AC,29,FALSE)*AO264+AM264","v":50},{"$f":"VLOOKUP(AP264,[4]ItemConfig!$A:$AC,29,FALSE)*AQ264","v":15},{"$f":"VLOOKUP(AR264,[4]ItemConfig!$A:$AC,29,FALSE)*AS264","v":15},{"$f":"VLOOKUP(AT264,[4]ItemConfig!$A:$AC,29,FALSE)*AU264","v":10},{"$f":"VLOOKUP(AV264,[4]ItemConfig!$A:$AC,29,FALSE)*AW264","v":10},{"$f":"CONCATENATE(AX264,\" + \",SUM(AY264:BB264))","v":"50 + 50"}]
[261,261,7,21,1,"233;237;238","逍遥","后期.","一重",233,237,238,{"$f":"ROUND([1]ResourceLevelConfig!$E265*[1]ResourceLevelConfig!$L265*0.1,0)*10","v":202950},-1,-1,-1,-1,{"$f":"IF(I265=10,\"1001;1002;1004\",-1)","v":-1},{"$f":"IF(R265=-1,-1,\"100;200;300\")","v":-1},0,{"$f":"[3]主表!K263","v":96197.973867313383},{"$f":"[3]主表!L263","v":1046.0602416627855},{"$f":"[3]主表!M263","v":1046.0602416627855},{"$f":"[3]主表!N263","v":7662.18},{"$f":"[3]主表!$G263","v":766218},{"$f":"[3]升级!$H263","v":1800},{"$f":"MAX(1,ROUND(100/(24*3600)*VLOOKUP(B265,[1]ResourceLevelConfig!$A:$E,5,FALSE),2))","v":15.66},-1,4,4,4,10351,null,null,null,1,5,261]
[262,262,7,21,2,"233;237;239","逍遥","后期.","二重",233,237,239,{"$f":"ROUND([1]ResourceLevelConfig!$E266*[1]ResourceLevelConfig!$L266*0.1,0)*10","v":205050},-1,-1,-1,-1,-1,-1,0,{"$f":"[3]主表!K264","v":97851.422028148241},{"$f":"[3]主表!L264","v":1060.1839675417789},{"$f":"[3]主表!M264","v":1060.1839675417789},{"$f":"[3]主表!N264","v":7755.59},{"$f":"[3]主表!$G264","v":775559},{"$f":"[3]升级!$H264","v":1800},{"$f":"MAX(1,ROUND(100/(24*3600)*VLOOKUP(B266,[1]ResourceLevelConfig!$A:$E,5,FALSE),2))","v":15.82},-1,4,4,4,10593,null,null,null,1,5,262]
[263,263,7,21,3,"233;237;240","逍遥","后期.","三重",233,237,240,{"$f":"ROUND([1]ResourceLevelConfig!$E267*[1]ResourceLevelConfig!$L267*0.1,0)*10","v":207000},-1,-1,-1,-1,-1,-1,0,{"$f":"[3]主表!K265","v":99531.982505609849},{"$f":"[3]主表!L265","v":1074.4983895439591},{"$f":"[3]主表!M265","v":1074.4983895439591},{"$f":"[3]主表!N265","v":7850.32},{"$f":"[3]主表!$G265","v":785032},{"$f":"[3]升级!$H265","v":1800},{"$f":"MAX(1,ROUND(100/(24*3600)*VLOOKUP(B267,[1]ResourceLevelConfig!$A:$E,5,FALSE),2))","v":15.97},-1,4,4,4,10839,null,null,null,1,5,263]
[264,264,7,21,4,"233;237;241","逍遥","后期.","四重",233,237,241,{"$f":"ROUND([1]ResourceLevelConfig!$E268*[1]ResourceLevelConfig!$L268*0.1,0)*10","v":209100},-1,-1,-1,-1,-1,-1,0,{"$f":"[3]主表!K266","v":101240.08600883314},{"$f":"[3]主表!L266","v":1089.0060824156581},{"$f":"[3]主表!M266","v":1089.0060824156581},{"$f":"[3]主表!N266","v":7946.39},{"$f":"[3]主表!$G266","v":794639},{"$f":"[3]升级!$H266","v":1800},{"$f":"MAX(1,ROUND(100/(24*3600)*VLOOKUP(B268,[1]ResourceLevelConfig!$A:$E,5,FALSE),2))","v":16.13},-1,4,4,4,11092,null,null,null,1,5,264]
[265,265,7,21,5,"233;237;242","逍遥","后期.","五重",233,237,242,{"$f":"ROUND([1]ResourceLevelConfig!$E269*[1]ResourceLevelConfig!$L269*0.1,0)*10","v":211200},-1,-1,-1,-1,-1,-1,0,{"$f":"[3]主表!K267","v":102976.16993511647},{"$f":"[3]主表!L267","v":1103.7096556669903},{"$f":"[3]主表!M267","v":1103.7096556669903},{"$f":"[3]主表!N267","v":8043.83},{"$f":"[3]主表!$G267","v":804383},{"$f":"[3]升级!$H267","v":1800},{"$f":"MAX(1,ROUND(100/(24*3600)*VLOOKUP(B269,[1]ResourceLevelConfig!$A:$E,5,FALSE),2))","v":16.3},-1,4,4,4,11350,null,null,null,1,5,265]
[266,266,7,21,6,"233;237;243","逍遥","后期.","六重",233,237,243,{"$f":"ROUND([1]ResourceLevelConfig!$E270*[1]ResourceLevelConfig!$L270*0.1,0)*10","v":213450},-1,-1,-1,-1,-1,-1,0,{"$f":"[3]主表!K268","v":104740.67847200853},{"$f":"[3]主表!L268","v":1118.6117540412292},{"$f":"[3]主表!M268","v":1118.6117540412292},{"$f":"[3]主表!N268","v":8142.66},{"$f":"[3]主表!$G268","v":814266},{"$f":"[3]升级!$H268","v":1800},{"$f":"MAX(1,ROUND(100/(24*3600)*VLOOKUP(B270,[1]ResourceLevelConfig!$A:$E,5,FALSE),2))","v":16.47},-1,4,4,4,11614,null,null,null,1,5,266]
[267,267,7,21,7,"233;237;244","逍遥","后期.","七重",233,237,244,{"$f":"ROUND([1]ResourceLevelConfig!$E271*[1]ResourceLevelConfig!$L271*0.1,0)*10","v":215550},-1,-1,-1,-1,-1,-1,0,{"$f":"[3]主表!K269","v":106534.06270093255},{"$f":"[3]主表!L269","v":1133.7150579905167},{"$f":"[3]主表!M269","v":1133.7150579905167},{"$f":"[3]主表!N269","v":8242.89},{"$f":"[3]主表!$G269","v":824289},{"$f":"[3]升级!$H269","v":1800},{"$f":"MAX(1,ROUND(100/(24*3600)*VLOOKUP(B271,[1]ResourceLevelConfig!$A:$E,5,FALSE),2))","v":16.63},-1,4,4,4,11885,null,null,null,1,5,267]
[268,268,7,21,8,"233;237;245","逍遥","后期.","八重",233,237,245,{"$f":"ROUND([1]ResourceLevelConfig!$E272*[1]ResourceLevelConfig!$L272*0.1,0)*10","v":217650},-1,-1,-1,-1,-1,-1,0,{"$f":"[3]主表!K270","v":108356.78070237118},{"$f":"[3]主表!L270","v":1149.0222841580007},{"$f":"[3]主表!M270","v":1149.0222841580007},{"$f":"[3]主表!N270","v":8344.5400000000009},{"$f":"[3]主表!$G270","v":834454},{"$f":"[3]升级!$H270","v":1800},{"$f":"MAX(1,ROUND(100/(24*3600)*VLOOKUP(B272,[1]ResourceLevelConfig!$A:$E,5,FALSE),2))","v":16.79},-1,4,4,4,12162,null,null,null,1,5,268]
[269,269,7,21,9,"233;237;246","逍遥","后期.","九重",233,237,246,{"$f":"ROUND([1]ResourceLevelConfig!$E273*[1]ResourceLevelConfig!$L273*0.1,0)*10","v":219900},-1,-1,-1,-1,-1,-1,0,{"$f":"[3]主表!K271","v":110209.29766263466},{"$f":"[3]主表!L271","v":1164.5361858664778},{"$f":"[3]主表!M271","v":1164.5361858664778},{"$f":"[3]主表!N271","v":8447.64},{"$f":"[3]主表!$G271","v":844764},{"$f":"[3]升级!$H271","v":1800},{"$f":"MAX(1,ROUND(100/(24*3600)*VLOOKUP(B273,[1]ResourceLevelConfig!$A:$E,5,FALSE),2))","v":16.97},-1,4,4,4,12445,null,null,null,1,5,269]
[270,270,7,21,10,"233;237;247","逍遥","后期.","十重",233,237,247,{"$f":"ROUND([1]ResourceLevelConfig!$E274*[1]ResourceLevelConfig!$L274*0.1,0)*10","v":222150},100004,{"$f":"AM274","v":5},{"$f":"AN274","v":1309},{"$f":"AO274","v":1},{"$f":"_xlfn.TEXTJOIN(\";\",1,AP274,AR274,AT274,AV274)","v":"1204;1203;1202;1201"},{"$f":"_xlfn.TEXTJOIN(\";\",1,AQ274,AS274,AU274,AW274)","v":"1;1;1;1"},{"$f":"CONCATENATE(ROUND(0.6*VLOOKUP(A274,[3]主表!$A:$P,16,FALSE)*[5]HeroModelConfig!$Q$5,0),\";\",ROUND(0.9*VLOOKUP(A274,[3]主表!$A:$P,16,FALSE)*[5]HeroModelConfig!$Q$5,0),\";\",INT(A274/30)+1)","v":"24366690;36550034;10"},{"$f":"[3]主表!K272","v":112092.08598223657},{"$f":"[3]主表!L272","v":1180.2595536136375},{"$f":"[3]主表!M272","v":1180.2595536136375},{"$f":"[3]主表!N272","v":8979.81},{"$f":"[3]主表!$G272","v":855220},{"$f":"[3]升级!$H272","v":1800},{"$f":"MAX(1,ROUND(100/(24*3600)*VLOOKUP(B274,[1]ResourceLevelConfig!$A:$E,5,FALSE),2))","v":17.14},50,4,4,4,12735,null,null,null,1,5,270,5,1309,1,1204,1,1203,1,1202,1,1201,1,{"$f":"VLOOKUP(AN274,[4]ItemConfig!$A:$AC,29,FALSE)*AO274+AM274","v":10},{"$f":"VLOOKUP(AP274,[4]ItemConfig!$A:$AC,29,FALSE)*AQ274","v":40},{"$f":"VLOOKUP(AR274,[4]ItemConfig!$A:$AC,29,FALSE)*AS274","v":25},{"$f":"VLOOKUP(AT274,[4]ItemConfig!$A:$AC,29,FALSE)*AU274","v":15},{"$f":"VLOOKUP(AV274,[4]ItemConfig!$A:$AC,29,FALSE)*AW274","v":10},{"$f":"CONCATENATE(AX274,\" + \",SUM(AY274:BB274))","v":"10 + 90"}]
[271,271,7,19,1,"234;235;238","真神","前期.","一重",234,235,238,{"$f":"ROUND([1]ResourceLevelConfig!$E275*[1]ResourceLevelConfig!$L275*0.1,0)*10","v":224400},-1,-1,-1,-1,{"$f":"IF(I275=10,\"1001;1002;1004\",-1)","v":-1},{"$f":"IF(R275=-1,-1,\"100;200;300\")","v":-1},0,{"$f":"[3]主表!K273","v":146232.90145972694},{"$f":"[3]主表!L273","v":1534.3374196977288},{"$f":"[3]主表!M273","v":1534.3374196977288},{"$f":"[3]主表!N273","v":11910.2},{"$f":"[3]主表!$G273","v":1134305},{"$f":"[3]升级!$H273","v":1900},{"$f":"MAX(1,ROUND(100/(24*3600)*VLOOKUP(B275,[1]ResourceLevelConfig!$A:$E,5,FALSE),2))","v":17.309999999999999},-1,4,4,4,13032,null,null,null,1,5,271]
[272,272,7,19,2,"234;235;239","真神","前期.","二重",234,235,239,{"$f":"ROUND([1]ResourceLevelConfig!$E276*[1]ResourceLevelConfig!$L276*0.1,0)*10","v":226650},-1,-1,-1,-1,{"$f":"IF(I276=10,\"1001;1002;1004\",-1)","v":-1},{"$f":"IF(R276=-1,-1,\"100;200;300\")","v":-1},0,{"$f":"[3]主表!K274","v":148727.43168352373},{"$f":"[3]主表!L274","v":1555.0537802461861},{"$f":"[3]主表!M274","v":1555.0537802461861},{"$f":"[3]主表!N274","v":12055.29},{"$f":"[3]主表!$G274","v":1148123},{"$f":"[3]升级!$H274","v":1900},{"$f":"MAX(1,ROUND(100/(24*3600)*VLOOKUP(B276,[1]ResourceLevelConfig!$A:$E,5,FALSE),2))","v":17.489999999999998},-1,4,4,4,13335,null,null,null,1,5,272]
[273,273,7,19,3,"234;235;240","真神","前期.","三重",234,235,240,{"$f":"ROUND([1]ResourceLevelConfig!$E277*[1]ResourceLevelConfig!$L277*0.1,0)*10","v":228900},-1,-1,-1,-1,-1,-1,0,{"$f":"[3]主表!K275","v":151262.66517953086},{"$f":"[3]主表!L275","v":1576.0498495398413},{"$f":"[3]主表!M275","v":1576.0498495398413},{"$f":"[3]主表!N275","v":12202.44},{"$f":"[3]主表!$G275","v":1162137},{"$f":"[3]升级!$H275","v":1900},{"$f":"MAX(1,ROUND(100/(24*3600)*VLOOKUP(B277,[1]ResourceLevelConfig!$A:$E,5,FALSE),2))","v":17.66},-1,4,4,4,13646,null,null,null,1,5,273]
[274,274,7,19,4,"234;235;241","真神","前期.","四重",234,235,241,{"$f":"ROUND([1]ResourceLevelConfig!$E278*[1]ResourceLevelConfig!$L278*0.1,0)*10","v":231150},-1,-1,-1,-1,-1,-1,0,{"$f":"[3]主表!K276","v":153839.24633365317},{"$f":"[3]主表!L276","v":1597.3294041581737},{"$f":"[3]主表!M276","v":1597.3294041581737},{"$f":"[3]主表!N276","v":12351.66},{"$f":"[3]主表!$G276","v":1176349},{"$f":"[3]升级!$H276","v":1900},{"$f":"MAX(1,ROUND(100/(24*3600)*VLOOKUP(B278,[1]ResourceLevelConfig!$A:$E,5,FALSE),2))","v":17.84},-1,4,4,4,13964,null,null,null,1,5,274]
[275,275,7,19,5,"234;235;242","真神","前期.","五重",234,235,242,{"$f":"ROUND([1]ResourceLevelConfig!$E279*[1]ResourceLevelConfig!$L279*0.1,0)*10","v":233550},-1,-1,-1,-1,-1,-1,0,{"$f":"[3]主表!K277","v":156457.82951239031},{"$f":"[3]主表!L277","v":1618.8962716713913},{"$f":"[3]主表!M277","v":1618.8962716713913},{"$f":"[3]主表!N277","v":12503.02},{"$f":"[3]主表!$G277","v":1190764},{"$f":"[3]升级!$H277","v":1900},{"$f":"MAX(1,ROUND(100/(24*3600)*VLOOKUP(B279,[1]ResourceLevelConfig!$A:$E,5,FALSE),2))","v":18.02},-1,4,4,4,14289,null,null,null,1,5,275]
[276,276,7,19,6,"234;235;243","真神","前期.","六重",234,235,243,{"$f":"ROUND([1]ResourceLevelConfig!$E280*[1]ResourceLevelConfig!$L280*0.1,0)*10","v":235950},-1,-1,-1,-1,-1,-1,0,{"$f":"[3]主表!K278","v":159119.07921487844},{"$f":"[3]主表!L278","v":1640.7543313288982},{"$f":"[3]主表!M278","v":1640.7543313288982},{"$f":"[3]主表!N278","v":12656.52},{"$f":"[3]主表!$G278","v":1205383},{"$f":"[3]升级!$H278","v":1900},{"$f":"MAX(1,ROUND(100/(24*3600)*VLOOKUP(B280,[1]ResourceLevelConfig!$A:$E,5,FALSE),2))","v":18.21},-1,4,4,4,14622,null,null,null,1,5,276]
[277,277,7,19,7,"234;235;244","真神","前期.","七重",234,235,244,{"$f":"ROUND([1]ResourceLevelConfig!$E281*[1]ResourceLevelConfig!$L281*0.1,0)*10","v":238200},-1,-1,-1,-1,-1,-1,0,{"$f":"[3]主表!K279","v":161823.6702272176},{"$f":"[3]主表!L279","v":1662.9075147570577},{"$f":"[3]主表!M279","v":1662.9075147570577},{"$f":"[3]主表!N279","v":12812.21},{"$f":"[3]主表!$G279","v":1220210},{"$f":"[3]升级!$H279","v":1900},{"$f":"MAX(1,ROUND(100/(24*3600)*VLOOKUP(B281,[1]ResourceLevelConfig!$A:$E,5,FALSE),2))","v":18.38},-1,4,4,4,14962,null,null,null,1,5,277]
[278,278,7,19,8,"234;235;245","真神","前期.","八重",234,235,245,{"$f":"ROUND([1]ResourceLevelConfig!$E282*[1]ResourceLevelConfig!$L282*0.1,0)*10","v":240600},-1,-1,-1,-1,-1,-1,0,{"$f":"[3]主表!K280","v":164572.28777911968},{"$f":"[3]主表!L280","v":1685.3598066663776},{"$f":"[3]主表!M280","v":1685.3598066663776},{"$f":"[3]主表!N280","v":12970.09},{"$f":"[3]主表!$G280","v":1235247},{"$f":"[3]升级!$H280","v":1900},{"$f":"MAX(1,ROUND(100/(24*3600)*VLOOKUP(B282,[1]ResourceLevelConfig!$A:$E,5,FALSE),2))","v":18.559999999999999},-1,4,4,4,15311,null,null,null,1,5,278]
[279,279,7,19,9,"234;235;246","真神","前期.","九重",234,235,246,{"$f":"ROUND([1]ResourceLevelConfig!$E283*[1]ResourceLevelConfig!$L283*0.1,0)*10","v":243150},-1,-1,-1,-1,-1,-1,0,{"$f":"[3]主表!K281","v":167365.62770291121},{"$f":"[3]主表!L281","v":1708.1152455682441},{"$f":"[3]主表!M281","v":1708.1152455682441},{"$f":"[3]主表!N281","v":13130.23},{"$f":"[3]主表!$G281","v":1250498},{"$f":"[3]升级!$H281","v":1900},{"$f":"MAX(1,ROUND(100/(24*3600)*VLOOKUP(B283,[1]ResourceLevelConfig!$A:$E,5,FALSE),2))","v":18.760000000000002},-1,4,4,4,15668,null,null,null,1,5,279]
[280,280,7,19,10,"234;235;247","真神","前期.","十重",234,235,247,{"$f":"ROUND([1]ResourceLevelConfig!$E284*[1]ResourceLevelConfig!$L284*0.1,0)*10","v":245550},100004,{"$f":"AM284","v":5},{"$f":"AN284","v":1203},{"$f":"AO284","v":2},{"$f":"_xlfn.TEXTJOIN(\";\",1,AP284,AR284,AT284,AV284)","v":"1202;1201;1201;1201"},{"$f":"_xlfn.TEXTJOIN(\";\",1,AQ284,AS284,AU284,AW284)","v":"1;1;1;1"},0,{"$f":"[3]主表!K282","v":170204.39659492543},{"$f":"[3]主表!L282","v":1731.1779245013304},{"$f":"[3]主表!M282","v":1731.1779245013304},{"$f":"[3]主表!N282","v":13925.63},{"$f":"[3]主表!$G282","v":1265966},{"$f":"[3]升级!$H282","v":1900},{"$f":"MAX(1,ROUND(100/(24*3600)*VLOOKUP(B284,[1]ResourceLevelConfig!$A:$E,5,FALSE),2))","v":18.95},20,4,4,4,16032,null,null,null,1,5,280,5,1203,2,1202,1,1201,1,1201,1,1201,1,{"$f":"VLOOKUP(AN284,[4]ItemConfig!$A:$AC,29,FALSE)*AO284+AM284","v":55},{"$f":"VLOOKUP(AP284,[4]ItemConfig!$A:$AC,29,FALSE)*AQ284","v":15},{"$f":"VLOOKUP(AR284,[4]ItemConfig!$A:$AC,29,FALSE)*AS284","v":10},{"$f":"VLOOKUP(AT284,[4]ItemConfig!$A:$AC,29,FALSE)*AU284","v":10},{"$f":"VLOOKUP(AV284,[4]ItemConfig!$A:$AC,29,FALSE)*AW284","v":10},{"$f":"CONCATENATE(AX284,\" + \",SUM(AY284:BB284))","v":"55 + 45"}]
[281,281,7,20,1,"234;236;238","真神","中期.","一重",234,236,238,{"$f":"ROUND([1]ResourceLevelConfig!$E285*[1]ResourceLevelConfig!$L285*0.1,0)*10","v":247950},-1,-1,-1,-1,{"$f":"IF(I285=10,\"1001;1002;1004\",-1)","v":-1},{"$f":"IF(R285=-1,-1,\"100;200;300\")","v":-1},0,{"$f":"[3]主表!K283","v":187861.76585180027},{"$f":"[3]主表!L283","v":1904.2957169514636},{"$f":"[3]主表!M283","v":1904.2957169514636},{"$f":"[3]主表!N283","v":15628.33},{"$f":"[3]主表!$G283","v":1420757},{"$f":"[3]升级!$H283","v":1900},{"$f":"MAX(1,ROUND(100/(24*3600)*VLOOKUP(B285,[1]ResourceLevelConfig!$A:$E,5,FALSE),2))","v":19.13},-1,4,4,4,16406,null,null,null,1,5,281]
[282,282,7,20,2,"234;236;239","真神","中期.","二重",234,236,239,{"$f":"ROUND([1]ResourceLevelConfig!$E286*[1]ResourceLevelConfig!$L286*0.1,0)*10","v":250500},-1,-1,-1,-1,-1,-1,0,{"$f":"[3]主表!K284","v":191043.77248876123},{"$f":"[3]主表!L284","v":1930.0071909445969},{"$f":"[3]主表!M284","v":1930.0071909445969},{"$f":"[3]主表!N284","v":15818.57},{"$f":"[3]主表!$G284","v":1438052},{"$f":"[3]升级!$H284","v":1900},{"$f":"MAX(1,ROUND(100/(24*3600)*VLOOKUP(B286,[1]ResourceLevelConfig!$A:$E,5,FALSE),2))","v":19.329999999999998},-1,4,4,4,16788,null,null,null,1,5,282]
[283,283,7,20,3,"234;236;240","真神","中期.","三重",234,236,240,{"$f":"ROUND([1]ResourceLevelConfig!$E287*[1]ResourceLevelConfig!$L287*0.1,0)*10","v":253050},-1,-1,-1,-1,-1,-1,0,{"$f":"[3]主表!K285","v":194277.45785929335},{"$f":"[3]主表!L285","v":1956.065816847497},{"$f":"[3]主表!M285","v":1956.065816847497},{"$f":"[3]主表!N285","v":16011.52},{"$f":"[3]主表!$G285","v":1455593},{"$f":"[3]升级!$H285","v":1900},{"$f":"MAX(1,ROUND(100/(24*3600)*VLOOKUP(B287,[1]ResourceLevelConfig!$A:$E,5,FALSE),2))","v":19.53},-1,4,4,4,17179,null,null,null,1,5,283]
[284,284,7,20,4,"234;236;241","真神","中期.","四重",234,236,241,{"$f":"ROUND([1]ResourceLevelConfig!$E288*[1]ResourceLevelConfig!$L288*0.1,0)*10","v":255600},-1,{"$f":"IF(N288=-1,-1,20)","v":-1},-1,-1,-1,-1,0,{"$f":"[3]主表!K286","v":197563.637400376},{"$f":"[3]主表!L286","v":1982.4762818456775},{"$f":"[3]主表!M286","v":1982.4762818456775},{"$f":"[3]主表!N286","v":16207.2},{"$f":"[3]主表!$G286","v":1473382},{"$f":"[3]升级!$H286","v":1900},{"$f":"MAX(1,ROUND(100/(24*3600)*VLOOKUP(B288,[1]ResourceLevelConfig!$A:$E,5,FALSE),2))","v":19.72},-1,4,4,4,17579,null,null,null,1,5,284]
[285,285,7,20,5,"234;236;242","真神","中期.","五重",234,236,242,{"$f":"ROUND([1]ResourceLevelConfig!$E289*[1]ResourceLevelConfig!$L289*0.1,0)*10","v":258150},-1,-1,-1,-1,-1,-1,0,{"$f":"[3]主表!K287","v":200903.1391477685},{"$f":"[3]主表!L287","v":2009.243336410228},{"$f":"[3]主表!M287","v":2009.243336410228},{"$f":"[3]主表!N287","v":16405.66},{"$f":"[3]主表!$G287","v":1491424},{"$f":"[3]升级!$H287","v":1900},{"$f":"MAX(1,ROUND(100/(24*3600)*VLOOKUP(B289,[1]ResourceLevelConfig!$A:$E,5,FALSE),2))","v":19.920000000000002},-1,4,4,4,17989,null,null,null,1,5,285]
[286,286,7,20,6,"234;236;243","真神","中期.","六重",234,236,243,{"$f":"ROUND([1]ResourceLevelConfig!$E290*[1]ResourceLevelConfig!$L290*0.1,0)*10","v":260700},-1,-1,-1,-1,-1,-1,0,{"$f":"[3]主表!K288","v":204296.80392756927},{"$f":"[3]主表!L288","v":2036.3717951522819},{"$f":"[3]主表!M288","v":2036.3717951522819},{"$f":"[3]主表!N288","v":16606.939999999999},{"$f":"[3]主表!$G288","v":1509722},{"$f":"[3]升级!$H288","v":1900},{"$f":"MAX(1,ROUND(100/(24*3600)*VLOOKUP(B290,[1]ResourceLevelConfig!$A:$E,5,FALSE),2))","v":20.12},-1,4,4,4,18408,null,null,null,1,5,286]
[287,287,7,20,7,"234;236;244","真神","中期.","七重",234,236,244,{"$f":"ROUND([1]ResourceLevelConfig!$E291*[1]ResourceLevelConfig!$L291*0.1,0)*10","v":263400},-1,-1,-1,-1,-1,-1,{"$f":"IF(G291=G292,0,CONCATENATE(\"1;1\"))","v":0},{"$f":"[3]主表!K289","v":207745.48555065168},{"$f":"[3]主表!L289","v":2063.8665376890281},{"$f":"[3]主表!M289","v":2063.8665376890281},{"$f":"[3]主表!N289","v":16811.080000000002},{"$f":"[3]主表!$G289","v":1528280},{"$f":"[3]升级!$H289","v":1900},{"$f":"MAX(1,ROUND(100/(24*3600)*VLOOKUP(B291,[1]ResourceLevelConfig!$A:$E,5,FALSE),2))","v":20.32},-1,4,4,4,18836,null,null,null,1,5,287]
[288,288,7,20,8,"234;236;245","真神","中期.","八重",234,236,245,{"$f":"ROUND([1]ResourceLevelConfig!$E292*[1]ResourceLevelConfig!$L292*0.1,0)*10","v":265950},-1,-1,-1,-1,-1,-1,0,{"$f":"[3]主表!K290","v":211250.05101001807},{"$f":"[3]主表!L290","v":2091.7325095214073},{"$f":"[3]主表!M290","v":2091.7325095214073},{"$f":"[3]主表!N290","v":17018.11},{"$f":"[3]主表!$G290","v":1547101},{"$f":"[3]升级!$H290","v":1900},{"$f":"MAX(1,ROUND(100/(24*3600)*VLOOKUP(B292,[1]ResourceLevelConfig!$A:$E,5,FALSE),2))","v":20.52},-1,4,4,4,19275,null,null,null,1,5,288]
[289,289,7,20,9,"234;236;246","真神","中期.","九重",234,236,246,{"$f":"ROUND([1]ResourceLevelConfig!$E293*[1]ResourceLevelConfig!$L293*0.1,0)*10","v":268650},-1,-1,-1,-1,-1,-1,0,{"$f":"[3]主表!K291","v":214811.3806811164},{"$f":"[3]主表!L291","v":2119.9747229236664},{"$f":"[3]主表!M291","v":2119.9747229236664},{"$f":"[3]主表!N291","v":17228.080000000002},{"$f":"[3]主表!$G291","v":1566189},{"$f":"[3]升级!$H291","v":1900},{"$f":"MAX(1,ROUND(100/(24*3600)*VLOOKUP(B293,[1]ResourceLevelConfig!$A:$E,5,FALSE),2))","v":20.73},-1,4,4,4,19724,null,null,null,1,5,289]
[290,290,7,20,10,"234;236;247","真神","中期.","十重",234,236,247,{"$f":"ROUND([1]ResourceLevelConfig!$E294*[1]ResourceLevelConfig!$L294*0.1,0)*10","v":271350},100004,{"$f":"AM294","v":5},{"$f":"AN294","v":1203},{"$f":"AO294","v":2},{"$f":"_xlfn.TEXTJOIN(\";\",1,AP294,AR294,AT294,AV294)","v":"1202;1201;1201;1201"},{"$f":"_xlfn.TEXTJOIN(\";\",1,AQ294,AS294,AU294,AW294)","v":"1;1;1;1"},0,{"$f":"[3]主表!K292","v":218430.3685251628},{"$f":"[3]主表!L292","v":2148.5982578449189},{"$f":"[3]主表!M292","v":2148.5982578449189},{"$f":"[3]主表!N292","v":18233.8},{"$f":"[3]主表!$G292","v":1585548},{"$f":"[3]升级!$H292","v":1900},{"$f":"MAX(1,ROUND(100/(24*3600)*VLOOKUP(B294,[1]ResourceLevelConfig!$A:$E,5,FALSE),2))","v":20.94},20,4,4,4,20184,null,null,null,1,5,290,5,1203,2,1202,1,1201,1,1201,1,1201,1,{"$f":"VLOOKUP(AN294,[4]ItemConfig!$A:$AC,29,FALSE)*AO294+AM294","v":55},{"$f":"VLOOKUP(AP294,[4]ItemConfig!$A:$AC,29,FALSE)*AQ294","v":15},{"$f":"VLOOKUP(AR294,[4]ItemConfig!$A:$AC,29,FALSE)*AS294","v":10},{"$f":"VLOOKUP(AT294,[4]ItemConfig!$A:$AC,29,FALSE)*AU294","v":10},{"$f":"VLOOKUP(AV294,[4]ItemConfig!$A:$AC,29,FALSE)*AW294","v":10},{"$f":"CONCATENATE(AX294,\" + \",SUM(AY294:BB294))","v":"55 + 45"}]
[291,291,7,21,1,"234;237;238","真神","后期.","一重",234,237,238,{"$f":"ROUND([1]ResourceLevelConfig!$E295*[1]ResourceLevelConfig!$L295*0.1,0)*10","v":274200},-1,-1,-1,-1,{"$f":"IF(I295=10,\"1001;1002;1004\",-1)","v":-1},{"$f":"IF(R295=-1,-1,\"100;200;300\")","v":-1},0,{"$f":"[3]主表!K293","v":241063.91096577438},{"$f":"[3]主表!L293","v":2363.4580836294112},{"$f":"[3]主表!M293","v":2363.4580836294112},{"$f":"[3]主表!N293","v":20463.099999999999},{"$f":"[3]主表!$G293","v":1779400},{"$f":"[3]升级!$H293","v":1900},{"$f":"MAX(1,ROUND(100/(24*3600)*VLOOKUP(B295,[1]ResourceLevelConfig!$A:$E,5,FALSE),2))","v":21.16},-1,4,4,4,20654,null,null,null,1,5,291]
[292,292,7,21,2,"234;237;239","真神","后期.","二重",234,237,239,{"$f":"ROUND([1]ResourceLevelConfig!$E296*[1]ResourceLevelConfig!$L296*0.1,0)*10","v":276900},-1,-1,-1,-1,-1,-1,0,{"$f":"[3]主表!K294","v":245119.89338396204},{"$f":"[3]主表!L294","v":2395.3690891051679},{"$f":"[3]主表!M294","v":2395.3690891051679},{"$f":"[3]主表!N294","v":20712.04},{"$f":"[3]主表!$G294","v":1801047},{"$f":"[3]升级!$H294","v":1900},{"$f":"MAX(1,ROUND(100/(24*3600)*VLOOKUP(B296,[1]ResourceLevelConfig!$A:$E,5,FALSE),2))","v":21.37},-1,4,4,4,21135,null,null,null,1,5,292]
[293,293,7,21,3,"234;237;240","真神","后期.","三重",234,237,240,{"$f":"ROUND([1]ResourceLevelConfig!$E297*[1]ResourceLevelConfig!$L297*0.1,0)*10","v":279750},-1,-1,-1,-1,-1,-1,0,{"$f":"[3]主表!K295","v":249241.45636022411},{"$f":"[3]主表!L295","v":2427.7109515009302},{"$f":"[3]主表!M295","v":2427.7109515009302},{"$f":"[3]主表!N295","v":20964.5},{"$f":"[3]主表!$G295","v":1823000},{"$f":"[3]升级!$H295","v":1900},{"$f":"MAX(1,ROUND(100/(24*3600)*VLOOKUP(B297,[1]ResourceLevelConfig!$A:$E,5,FALSE),2))","v":21.59},-1,4,4,4,21627,null,null,null,1,5,293]
[294,294,7,21,4,"234;237;241","真神","后期.","四重",234,237,241,{"$f":"ROUND([1]ResourceLevelConfig!$E298*[1]ResourceLevelConfig!$L298*0.1,0)*10","v":282450},-1,-1,-1,-1,-1,-1,0,{"$f":"[3]主表!K296","v":253429.6314064032},{"$f":"[3]主表!L296","v":2460.489488172896},{"$f":"[3]主表!M296","v":2460.489488172896},{"$f":"[3]主表!N296","v":21220.54},{"$f":"[3]主表!$G296","v":1845264},{"$f":"[3]升级!$H296","v":1900},{"$f":"MAX(1,ROUND(100/(24*3600)*VLOOKUP(B298,[1]ResourceLevelConfig!$A:$E,5,FALSE),2))","v":21.79},-1,4,4,4,22131,null,null,null,1,5,294]
[295,295,7,21,5,"234;237;242","真神","后期.","五重",234,237,242,{"$f":"ROUND([1]ResourceLevelConfig!$E299*[1]ResourceLevelConfig!$L299*0.1,0)*10","v":285300},-1,-1,-1,-1,-1,-1,0,{"$f":"[3]主表!K297","v":257685.46593363964},{"$f":"[3]主表!L297","v":2493.7105950222099},{"$f":"[3]主表!M297","v":2493.7105950222099},{"$f":"[3]主表!N297","v":21480.22},{"$f":"[3]主表!$G297","v":1867845},{"$f":"[3]升级!$H297","v":1900},{"$f":"MAX(1,ROUND(100/(24*3600)*VLOOKUP(B299,[1]ResourceLevelConfig!$A:$E,5,FALSE),2))","v":22.01},-1,4,4,4,22646,null,null,null,1,5,295]
[296,296,7,21,6,"234;237;243","真神","后期.","六重",234,237,243,{"$f":"ROUND([1]ResourceLevelConfig!$E300*[1]ResourceLevelConfig!$L300*0.1,0)*10","v":288150},-1,-1,-1,-1,-1,-1,0,{"$f":"[3]主表!K298","v":262010.02349366626},{"$f":"[3]主表!L298","v":2527.3802475554617},{"$f":"[3]主表!M298","v":2527.3802475554617},{"$f":"[3]主表!N298","v":21740.12},{"$f":"[3]主表!$G298","v":1890445},{"$f":"[3]升级!$H298","v":1900},{"$f":"MAX(1,ROUND(100/(24*3600)*VLOOKUP(B300,[1]ResourceLevelConfig!$A:$E,5,FALSE),2))","v":22.23},-1,4,4,4,23174,null,null,null,1,5,296]
[297,297,7,21,7,"234;237;244","真神","后期.","七重",234,237,244,{"$f":"ROUND([1]ResourceLevelConfig!$E301*[1]ResourceLevelConfig!$L301*0.1,0)*10","v":291150},-1,-1,-1,-1,-1,-1,0,{"$f":"[3]主表!K299","v":266404.38402372098},{"$f":"[3]主表!L299","v":2561.5045019595045},{"$f":"[3]主表!M299","v":2561.5045019595045},{"$f":"[3]主表!N299","v":22003.69},{"$f":"[3]主表!$G299","v":1913364},{"$f":"[3]升级!$H299","v":1900},{"$f":"MAX(1,ROUND(100/(24*3600)*VLOOKUP(B301,[1]ResourceLevelConfig!$A:$E,5,FALSE),2))","v":22.47},-1,4,4,4,23714,null,null,null,1,5,297]
[298,298,7,21,8,"234;237;245","真神","后期.","八重",234,237,245,{"$f":"ROUND([1]ResourceLevelConfig!$E302*[1]ResourceLevelConfig!$L302*0.1,0)*10","v":294000},-1,-1,-1,-1,-1,-1,0,{"$f":"[3]主表!K300","v":270869.64409513061},{"$f":"[3]主表!L300","v":2596.0894961907889},{"$f":"[3]主表!M300","v":2596.0894961907889},{"$f":"[3]主表!N300","v":22270.959999999999},{"$f":"[3]主表!$G300","v":1936605},{"$f":"[3]升级!$H300","v":1900},{"$f":"MAX(1,ROUND(100/(24*3600)*VLOOKUP(B302,[1]ResourceLevelConfig!$A:$E,5,FALSE),2))","v":22.69},-1,4,4,4,24266,null,null,null,1,5,298]
[299,299,7,21,9,"234;237;246","真神","后期.","九重",234,237,246,{"$f":"ROUND([1]ResourceLevelConfig!$E303*[1]ResourceLevelConfig!$L303*0.1,0)*10","v":297000},-1,-1,-1,-1,-1,-1,0,{"$f":"[3]主表!K301","v":275406.91716562049},{"$f":"[3]主表!L301","v":2631.1414510793988},{"$f":"[3]主表!M301","v":2631.1414510793988},{"$f":"[3]主表!N301","v":22542},{"$f":"[3]主表!$G301","v":1960174},{"$f":"[3]升级!$H301","v":1900},{"$f":"MAX(1,ROUND(100/(24*3600)*VLOOKUP(B303,[1]ResourceLevelConfig!$A:$E,5,FALSE),2))","v":22.92},-1,4,4,4,24831,null,null,null,1,5,299]
[300,300,7,21,10,"234;237;247","真神","后期.","十重",234,237,247,{"$f":"ROUND([1]ResourceLevelConfig!$E304*[1]ResourceLevelConfig!$L304*0.1,0)*10","v":300000},100004,{"$f":"AM304","v":5},-1,1,{"$f":"_xlfn.TEXTJOIN(\";\",1,AP304,AR304,AT304,AV304)","v":"1202;1201;1201;1201"},{"$f":"_xlfn.TEXTJOIN(\";\",1,AQ304,AS304,AU304,AW304)","v":"1;1;1;1"},{"$f":"CONCATENATE(ROUND(0.6*VLOOKUP(A304,[3]主表!$A:$P,16,FALSE)*[5]HeroModelConfig!$Q$5,0),\";\",ROUND(0.9*VLOOKUP(A304,[3]主表!$A:$P,16,FALSE)*[5]HeroModelConfig!$Q$5,0),\";\",INT(A304/30)+1)","v":"63709544;95564316;11"},{"$f":"[3]主表!K302","v":280017.33383540437},{"$f":"[3]主表!L302","v":2666.6666714479998},{"$f":"[3]主表!M302","v":2666.6666714479998},{"$f":"[3]主表!N302","v":24268.799999999999},{"$f":"[3]主表!$G302","v":2022400},{"$f":"[3]升级!$H302","v":1900},{"$f":"MAX(1,ROUND(100/(24*3600)*VLOOKUP(B304,[1]ResourceLevelConfig!$A:$E,5,FALSE),2))","v":23.15},50,4,4,4,25410,null,null,null,1,5,300,5,1203,2,1202,1,1201,1,1201,1,1201,1,{"$f":"VLOOKUP(AN304,[4]ItemConfig!$A:$AC,29,FALSE)*AO304+AM304","v":55},{"$f":"VLOOKUP(AP304,[4]ItemConfig!$A:$AC,29,FALSE)*AQ304","v":15},{"$f":"VLOOKUP(AR304,[4]ItemConfig!$A:$AC,29,FALSE)*AS304","v":10},{"$f":"VLOOKUP(AT304,[4]ItemConfig!$A:$AC,29,FALSE)*AU304","v":10},{"$f":"VLOOKUP(AV304,[4]ItemConfig!$A:$AC,29,FALSE)*AW304","v":10},{"$f":"CONCATENATE(AX304,\" + \",SUM(AY304:BB304))","v":"55 + 45"}]

{"sheet":"HeroQiangDuAddConfig","index":1,"n_rows":64,"n_cols":2,"rows_kept":64,"cut":false,"hidden":false,"merged":[]}
["ID","qiangDuZhi"]
["int","float"]
[]
["ID","玩家修为境界（等级）"]
[1,1]
[2,1.085]
[3,1.17]
[4,1.2549999999999999]
[5,1.34]
[6,1.425]
[7,1.51]
[8,1.595]
[9,1.68]
[10,1.7649999999999999]
[11,1.85]
[12,1.9350000000000001]
[13,2.02]
[14,2.105]
[15,2.19]
[16,2.2749999999999999]
[17,2.36]
[18,2.4449999999999998]
[19,2.5299999999999998]
[20,2.6150000000000002]
[21,2.7]
[22,2.7850000000000001]
[23,2.87]
[24,2.9550000000000001]
[25,3.04]
[26,3.125]
[27,3.21]
[28,3.2949999999999999]
[29,3.38]
[30,3.4649999999999999]
[31,3.55]
[32,3.6349999999999998]
[33,3.72]
[34,3.8050000000000002]
[35,3.89]
[36,3.9750000000000001]
[37,4.0599999999999996]
[38,4.1449999999999996]
[39,4.2300000000000004]
[40,4.3150000000000004]
[41,4.4000000000000004]
[42,4.4850000000000003]
[43,4.57]
[44,4.6550000000000002]
[45,4.74]
[46,4.8250000000000002]
[47,4.91]
[48,4.9950000000000001]
[49,5.08]
[50,5.165]
[51,5.25]
[52,5.335]
[53,5.42]
[54,5.5049999999999999]
[55,5.59]
[56,5.6749999999999998]
[57,5.76]
[58,5.8449999999999998]
[59,5.93]
[60,6]