{"text_format":"2","workbook":"xlsx","n_sheets":1,"sheets":["MonsterPowerUpConfig"],"not_rendered":{"charts":0,"images":0,"macros":0,"external_links":1,"defined_names":1,"comments":0,"pivot_tables":0},"unopened":[],"bounds":{"document_bytes":16777216,"sheet_cells":100000,"run_cost":"one","rows_first":2000,"rows_last":500,"rows_between":2000,"halvings":0,"cell_chars":16384,"cell_head_chars":4096},"cells_cut":0,"cells_raw":0,"read":"whole","date_system":"1900"}

{"sheet":"MonsterPowerUpConfig","index":0,"n_rows":304,"n_cols":19,"rows_kept":304,"cut":false,"hidden":false,"merged":[]}
["ID","HeroLevel","jingjie1","jingjie2","jingjie3",null,null,null,"HPFactor","ATKFactor","DEFFactor","HudunFactor","defK","GongfaLv","GongfaStar","FabaoLv","FabaoStar","LinggenUp","MPFactor"]
["int","int","int","int","int",null,null,null,"float","float","float","float","int","int","int","int","int","float","float"]
[]
["ID","玩家修为境界（等级）","大境界ID","中境界ID","小境界ID","境界名称1","境界名称2","境界名称3","生命倍率","攻击倍率","防御倍率","护盾倍率","防御系数K","功法等级","功法星级","法宝等级","法宝星级","灵根成长率\n100=100%","法力倍率"]
[1,1,1,1,{"$f":"H5","v":1},"筑基期","前",1,{"$f":"[1]主表!N3","v":21.122499999999999},{"$f":"[1]主表!O3","v":1.05},{"$f":"[1]主表!P3","v":1.05},{"$f":"[1]主表!Q3","v":0},{"$f":"[1]主表!$G3","v":105},1,1,1,1,100,1]
[2,2,1,1,{"$f":"H6","v":2},"筑基期","前",2,{"$f":"[1]主表!N4","v":21.649666666666668},{"$f":"[1]主表!O4","v":1.07},{"$f":"[1]主表!P4","v":1.07},{"$f":"[1]主表!Q4","v":0},{"$f":"[1]主表!$G4","v":107},1,1,1,1,100.1,1]
[3,3,1,1,3,"筑基期","前",3,{"$f":"[1]主表!N5","v":22.181500000000007},{"$f":"[1]主表!O5","v":1.0900000000000001},{"$f":"[1]主表!P5","v":1.0900000000000001},{"$f":"[1]主表!Q5","v":0},{"$f":"[1]主表!$G5","v":109},1,1,1,1,100.2,1]
[4,4,1,1,4,"筑基期","前",4,{"$f":"[1]主表!N6","v":22.718000000000004},{"$f":"[1]主表!O6","v":1.1100000000000001},{"$f":"[1]主表!P6","v":1.1100000000000001},{"$f":"[1]主表!Q6","v":0},{"$f":"[1]主表!$G6","v":111},1,1,1,1,100.3,1]
[5,5,1,1,5,"筑基期","前",5,{"$f":"[1]主表!N7","v":23.259166666666662},{"$f":"[1]主表!O7","v":1.1299999999999999},{"$f":"[1]主表!P7","v":1.1299999999999999},{"$f":"[1]主表!Q7","v":0},{"$f":"[1]主表!$G7","v":113},1,1,1,1,100.4,1]
[6,6,1,1,6,"筑基期","前",6,{"$f":"[1]主表!N8","v":24.011999999999997},{"$f":"[1]主表!O8","v":1.1599999999999999},{"$f":"[1]主表!P8","v":1.1599999999999999},{"$f":"[1]主表!Q8","v":0},{"$f":"[1]主表!$G8","v":116},2,1,1,1,100.5,1]
[7,7,1,1,7,"筑基期","前",7,{"$f":"[1]主表!N9","v":24.77183333333333},{"$f":"[1]主表!O9","v":1.19},{"$f":"[1]主表!P9","v":1.19},{"$f":"[1]主表!Q9","v":0},{"$f":"[1]主表!$G9","v":119},2,1,1,1,100.6,1]
[8,8,1,1,8,"筑基期","前",8,{"$f":"[1]主表!N10","v":25.538666666666664},{"$f":"[1]主表!O10","v":1.22},{"$f":"[1]主表!P10","v":1.22},{"$f":"[1]主表!Q10","v":0},{"$f":"[1]主表!$G10","v":122},2,1,1,1,100.7,1]
[9,9,1,1,9,"筑基期","前",9,{"$f":"[1]主表!N11","v":26.3125},{"$f":"[1]主表!O11","v":1.25},{"$f":"[1]主表!P11","v":1.25},{"$f":"[1]主表!Q11","v":0},{"$f":"[1]主表!$G11","v":125},2,1,1,1,100.8,1]
[10,10,1,1,10,"筑基期","前",10,{"$f":"[1]主表!N12","v":27.94},{"$f":"[1]主表!O12","v":1.32},{"$f":"[1]主表!P12","v":1.32},{"$f":"[1]主表!Q12","v":0},{"$f":"[1]主表!$G12","v":132},2,1,1,1,100.9,1]
[11,11,1,2,1,"筑基期","中",1,{"$f":"[1]主表!N13","v":28.732500000000002},{"$f":"[1]主表!O13","v":1.35},{"$f":"[1]主表!P13","v":1.35},{"$f":"[1]主表!Q13","v":0},{"$f":"[1]主表!$G13","v":135},3,1,{"$f":"P5+1","v":2},1,101,1]
[12,12,1,2,2,"筑基期","中",2,{"$f":"[1]主表!N14","v":29.531999999999996},{"$f":"[1]主表!O14","v":1.38},{"$f":"[1]主表!P14","v":1.38},{"$f":"[1]主表!Q14","v":0},{"$f":"[1]主表!$G14","v":138},3,1,{"$f":"P6+1","v":2},1,101.1,1]
[13,13,1,2,3,"筑基期","中",3,{"$f":"[1]主表!N15","v":30.338500000000003},{"$f":"[1]主表!O15","v":1.41},{"$f":"[1]主表!P15","v":1.41},{"$f":"[1]主表!Q15","v":0},{"$f":"[1]主表!$G15","v":141},3,1,2,1,101.2,1]
[14,14,1,2,4,"筑基期","中",4,{"$f":"[1]主表!N16","v":31.151999999999997},{"$f":"[1]主表!O16","v":1.44},{"$f":"[1]主表!P16","v":1.44},{"$f":"[1]主表!Q16","v":0},{"$f":"[1]主表!$G16","v":144},3,1,2,1,101.3,1]
[15,15,1,2,5,"筑基期","中",5,{"$f":"[1]主表!N17","v":31.972499999999997},{"$f":"[1]主表!O17","v":1.47},{"$f":"[1]主表!P17","v":1.47},{"$f":"[1]主表!Q17","v":0},{"$f":"[1]主表!$G17","v":147},3,1,2,1,101.4,1]
[16,16,1,2,6,"筑基期","中",6,{"$f":"[1]主表!N18","v":32.799999999999997},{"$f":"[1]主表!O18","v":1.5},{"$f":"[1]主表!P18","v":1.5},{"$f":"[1]主表!Q18","v":0},{"$f":"[1]主表!$G18","v":150},4,1,2,1,101.5,1]
[17,17,1,2,7,"筑基期","中",7,{"$f":"[1]主表!N19","v":33.634499999999996},{"$f":"[1]主表!O19","v":1.53},{"$f":"[1]主表!P19","v":1.53},{"$f":"[1]主表!Q19","v":0},{"$f":"[1]主表!$G19","v":153},4,1,2,1,101.6,1]
[18,18,1,2,8,"筑基期","中",8,{"$f":"[1]主表!N20","v":34.475999999999999},{"$f":"[1]主表!O20","v":1.56},{"$f":"[1]主表!P20","v":1.56},{"$f":"[1]主表!Q20","v":0},{"$f":"[1]主表!$G20","v":156},4,1,2,1,101.7,1]
[19,19,1,2,9,"筑基期","中",9,{"$f":"[1]主表!N21","v":35.546666666666667},{"$f":"[1]主表!O21","v":1.6},{"$f":"[1]主表!P21","v":1.6},{"$f":"[1]主表!Q21","v":0},{"$f":"[1]主表!$G21","v":160},4,1,2,1,101.8,1]
[20,20,1,2,10,"筑基期","中",10,{"$f":"[1]主表!N22","v":38.413333333333334},{"$f":"[1]主表!O22","v":1.72},{"$f":"[1]主表!P22","v":1.72},{"$f":"[1]主表!Q22","v":0},{"$f":"[1]主表!$G22","v":172},4,1,2,1,101.9,1]
[21,21,1,3,1,"筑基期","后",1,{"$f":"[1]主表!N23","v":41.308000000000007},{"$f":"[1]主表!O23","v":1.84},{"$f":"[1]主表!P23","v":1.84},{"$f":"[1]主表!Q23","v":0},{"$f":"[1]主表!$G23","v":184},5,1,3,1,102,1]
[22,22,1,3,2,"筑基期","后",2,{"$f":"[1]主表!N24","v":42.199666666666673},{"$f":"[1]主表!O24","v":1.87},{"$f":"[1]主表!P24","v":1.87},{"$f":"[1]主表!Q24","v":0},{"$f":"[1]主表!$G24","v":187},5,1,3,1,102.1,1]
[23,23,1,3,3,"筑基期","后",3,{"$f":"[1]主表!N25","v":43.778833333333338},{"$f":"[1]主表!O25","v":1.93},{"$f":"[1]主表!P25","v":1.93},{"$f":"[1]主表!Q25","v":0},{"$f":"[1]主表!$G25","v":193},5,1,3,1,102.2,1]
[24,24,1,3,4,"筑基期","后",4,{"$f":"[1]主表!N26","v":44.688000000000009},{"$f":"[1]主表!O26","v":1.96},{"$f":"[1]主表!P26","v":1.96},{"$f":"[1]主表!Q26","v":0},{"$f":"[1]主表!$G26","v":196},5,1,3,1,102.3,1]
[25,25,1,3,5,"筑基期","后",5,{"$f":"[1]主表!N27","v":45.833333333333329},{"$f":"[1]主表!O27","v":2},{"$f":"[1]主表!P27","v":2},{"$f":"[1]主表!Q27","v":0},{"$f":"[1]主表!$G27","v":200},5,1,3,1,102.4,1]
[26,26,1,3,6,"筑基期","后",6,{"$f":"[1]主表!N28","v":47.448666666666668},{"$f":"[1]主表!O28","v":2.06},{"$f":"[1]主表!P28","v":2.06},{"$f":"[1]主表!Q28","v":0},{"$f":"[1]主表!$G28","v":206},6,1,3,1,102.5,1]
[27,27,1,3,7,"筑基期","后",7,{"$f":"[1]主表!N29","v":48.615000000000002},{"$f":"[1]主表!O29","v":2.1},{"$f":"[1]主表!P29","v":2.1},{"$f":"[1]主表!Q29","v":0},{"$f":"[1]主表!$G29","v":210},6,1,3,1,102.6,1]
[28,28,1,3,8,"筑基期","后",8,{"$f":"[1]主表!N30","v":49.558},{"$f":"[1]主表!O30","v":2.13},{"$f":"[1]主表!P30","v":2.13},{"$f":"[1]主表!Q30","v":0},{"$f":"[1]主表!$G30","v":213},6,1,3,1,102.7,1]
[29,29,1,3,9,"筑基期","后",9,{"$f":"[1]主表!N31","v":51.443333333333342},{"$f":"[1]主表!O31","v":2.2000000000000002},{"$f":"[1]主表!P31","v":2.2000000000000002},{"$f":"[1]主表!Q31","v":0},{"$f":"[1]主表!$G31","v":220},6,1,3,1,102.8,1]
[30,30,1,3,10,"筑基期","后",10,{"$f":"[1]主表!N32","v":58.515000000000008},{"$f":"[1]主表!O32","v":2.4900000000000002},{"$f":"[1]主表!P32","v":2.4900000000000002},{"$f":"[1]主表!Q32","v":0},{"$f":"[1]主表!$G32","v":249},6,1,3,1,102.9,1]
[31,31,2,4,1,"金丹期","前",1,{"$f":"[1]主表!N33","v":60.222499999999997},{"$f":"[1]主表!O33","v":2.5499999999999998},{"$f":"[1]主表!P33","v":2.5499999999999998},{"$f":"[1]主表!Q33","v":0},{"$f":"[1]主表!$G33","v":255},7,1,4,1,103,1]
[32,32,2,4,2,"金丹期","前",2,{"$f":"[1]主表!N34","v":61.944000000000003},{"$f":"[1]主表!O34","v":2.61},{"$f":"[1]主表!P34","v":2.61},{"$f":"[1]主表!Q34","v":0},{"$f":"[1]主表!$G34","v":261},7,1,4,1,103.1,1]
[33,33,2,4,3,"金丹期","前",3,{"$f":"[1]主表!N35","v":63.202499999999986},{"$f":"[1]主表!O35","v":2.65},{"$f":"[1]主表!P35","v":2.65},{"$f":"[1]主表!Q35","v":0},{"$f":"[1]主表!$G35","v":265},7,1,4,1,103.2,1]
[34,34,2,4,4,"金丹期","前",4,{"$f":"[1]主表!N36","v":65.189333333333337},{"$f":"[1]主表!O36","v":2.72},{"$f":"[1]主表!P36","v":2.72},{"$f":"[1]主表!Q36","v":0},{"$f":"[1]主表!$G36","v":272},7,1,4,1,103.3,1]
[35,35,2,4,5,"金丹期","前",5,{"$f":"[1]主表!N37","v":67.192499999999995},{"$f":"[1]主表!O37","v":2.79},{"$f":"[1]主表!P37","v":2.79},{"$f":"[1]主表!Q37","v":0},{"$f":"[1]主表!$G37","v":279},7,1,4,1,103.4,1]
[36,36,2,4,6,"金丹期","前",6,{"$f":"[1]主表!N38","v":68.486000000000004},{"$f":"[1]主表!O38","v":2.83},{"$f":"[1]主表!P38","v":2.83},{"$f":"[1]主表!Q38","v":0},{"$f":"[1]主表!$G38","v":283},8,1,4,1,103.5,1]
[37,37,2,4,7,"金丹期","前",7,{"$f":"[1]主表!N39","v":70.275166666666678},{"$f":"[1]主表!O39","v":2.89},{"$f":"[1]主表!P39","v":2.89},{"$f":"[1]主表!Q39","v":0},{"$f":"[1]主表!$G39","v":289},8,1,4,1,103.6,1]
[38,38,2,4,8,"金丹期","前",8,{"$f":"[1]主表!N40","v":72.322666666666663},{"$f":"[1]主表!O40","v":2.96},{"$f":"[1]主表!P40","v":2.96},{"$f":"[1]主表!Q40","v":0},{"$f":"[1]主表!$G40","v":296},8,1,4,1,103.7,1]
[39,39,2,4,9,"金丹期","前",9,{"$f":"[1]主表!N41","v":74.386499999999998},{"$f":"[1]主表!O41","v":3.03},{"$f":"[1]主表!P41","v":3.03},{"$f":"[1]主表!Q41","v":0},{"$f":"[1]主表!$G41","v":303},8,1,4,1,103.8,1]
[40,40,2,4,10,"金丹期","前",10,{"$f":"[1]主表!N42","v":79.673333333333332},{"$f":"[1]主表!O42","v":3.23},{"$f":"[1]主表!P42","v":3.23},{"$f":"[1]主表!Q42","v":0},{"$f":"[1]主表!$G42","v":323},8,1,4,1,103.9,1]
[41,41,2,5,1,"金丹期","中",1,{"$f":"[1]主表!N43","v":81.784999999999997},{"$f":"[1]主表!O43","v":3.3},{"$f":"[1]主表!P43","v":3.3},{"$f":"[1]主表!Q43","v":0},{"$f":"[1]主表!$G43","v":330},9,1,5,1,104,1]
[42,42,2,5,2,"金丹期","中",2,{"$f":"[1]主表!N44","v":83.913000000000011},{"$f":"[1]主表!O44","v":3.37},{"$f":"[1]主表!P44","v":3.37},{"$f":"[1]主表!Q44","v":0},{"$f":"[1]主表!$G44","v":337},9,1,5,1,104.1,1]
[43,43,2,5,3,"金丹期","中",3,{"$f":"[1]主表!N45","v":86.057333333333332},{"$f":"[1]主表!O45","v":3.44},{"$f":"[1]主表!P45","v":3.44},{"$f":"[1]主表!Q45","v":0},{"$f":"[1]主表!$G45","v":344},9,1,5,1,104.2,1]
[44,44,2,5,4,"金丹期","中",4,{"$f":"[1]主表!N46","v":88.971999999999994},{"$f":"[1]主表!O46","v":3.54},{"$f":"[1]主表!P46","v":3.54},{"$f":"[1]主表!Q46","v":0},{"$f":"[1]主表!$G46","v":354},9,1,5,1,104.3,1]
[45,45,2,5,5,"金丹期","中",5,{"$f":"[1]主表!N47","v":91.152500000000003},{"$f":"[1]主表!O47","v":3.61},{"$f":"[1]主表!P47","v":3.61},{"$f":"[1]主表!Q47","v":0},{"$f":"[1]主表!$G47","v":361},9,1,5,1,104.4,1]
[46,46,2,5,6,"金丹期","中",6,{"$f":"[1]主表!N48","v":93.603000000000009},{"$f":"[1]主表!O48","v":3.69},{"$f":"[1]主表!P48","v":3.69},{"$f":"[1]主表!Q48","v":0},{"$f":"[1]主表!$G48","v":369},10,1,5,1,104.5,1]
[47,47,2,5,7,"金丹期","中",7,{"$f":"[1]主表!N49","v":95.817333333333323},{"$f":"[1]主表!O49","v":3.76},{"$f":"[1]主表!P49","v":3.76},{"$f":"[1]主表!Q49","v":0},{"$f":"[1]主表!$G49","v":376},10,1,5,1,104.6,1]
[48,48,2,5,8,"金丹期","中",8,{"$f":"[1]主表!N50","v":98.048000000000002},{"$f":"[1]主表!O50","v":3.83},{"$f":"[1]主表!P50","v":3.83},{"$f":"[1]主表!Q50","v":0},{"$f":"[1]主表!$G50","v":383},10,1,5,1,104.7,1]
[49,49,2,5,9,"金丹期","中",9,{"$f":"[1]主表!N51","v":101.32366666666667},{"$f":"[1]主表!O51","v":3.94},{"$f":"[1]主表!P51","v":3.94},{"$f":"[1]主表!Q51","v":0},{"$f":"[1]主表!$G51","v":394},10,1,5,1,104.8,1]
[50,50,2,5,10,"金丹期","中",10,{"$f":"[1]主表!N52","v":108.75833333333334},{"$f":"[1]主表!O52","v":4.21},{"$f":"[1]主表!P52","v":4.21},{"$f":"[1]主表!Q52","v":0},{"$f":"[1]主表!$G52","v":421},10,1,5,1,104.9,1]
[51,51,2,6,1,"金丹期","后",1,{"$f":"[1]主表!N53","v":116.256},{"$f":"[1]主表!O53","v":4.4800000000000004},{"$f":"[1]主表!P53","v":4.4800000000000004},{"$f":"[1]主表!Q53","v":0},{"$f":"[1]主表!$G53","v":448},11,2,6,2,105,1]
[52,52,2,6,2,"金丹期","后",2,{"$f":"[1]主表!N54","v":119.64599999999999},{"$f":"[1]主表!O54","v":4.59},{"$f":"[1]主表!P54","v":4.59},{"$f":"[1]主表!Q54","v":0},{"$f":"[1]主表!$G54","v":459},11,2,6,2,105.1,1]
[53,53,2,6,3,"金丹期","后",3,{"$f":"[1]主表!N55","v":122.27616666666665},{"$f":"[1]主表!O55","v":4.67},{"$f":"[1]主表!P55","v":4.67},{"$f":"[1]主表!Q55","v":0},{"$f":"[1]主表!$G55","v":467},11,2,6,2,105.2,1]
[54,54,2,6,4,"金丹期","后",4,{"$f":"[1]主表!N56","v":125.714},{"$f":"[1]主表!O56","v":4.78},{"$f":"[1]主表!P56","v":4.78},{"$f":"[1]主表!Q56","v":0},{"$f":"[1]主表!$G56","v":478},11,2,6,2,105.3,1]
[55,55,2,6,5,"金丹期","后",5,{"$f":"[1]主表!N57","v":129.44166666666666},{"$f":"[1]主表!O57","v":4.9000000000000004},{"$f":"[1]主表!P57","v":4.9000000000000004},{"$f":"[1]主表!Q57","v":0},{"$f":"[1]主表!$G57","v":490},11,2,6,2,105.4,1]
[56,56,2,6,6,"金丹期","后",6,{"$f":"[1]主表!N58","v":132.13600000000002},{"$f":"[1]主表!O58","v":4.9800000000000004},{"$f":"[1]主表!P58","v":4.9800000000000004},{"$f":"[1]主表!Q58","v":0},{"$f":"[1]主表!$G58","v":498},12,2,6,2,105.5,1]
[57,57,2,6,7,"金丹期","后",7,{"$f":"[1]主表!N59","v":135.64850000000001},{"$f":"[1]主表!O59","v":5.09},{"$f":"[1]主表!P59","v":5.09},{"$f":"[1]主表!Q59","v":0},{"$f":"[1]主表!$G59","v":509},12,2,6,2,105.6,1]
[58,58,2,6,8,"金丹期","后",8,{"$f":"[1]主表!N60","v":139.45433333333335},{"$f":"[1]主表!O60","v":5.21},{"$f":"[1]主表!P60","v":5.21},{"$f":"[1]主表!Q60","v":0},{"$f":"[1]主表!$G60","v":521},12,2,6,2,105.7,1]
[59,59,2,6,9,"金丹期","后",9,{"$f":"[1]主表!N61","v":143.01933333333335},{"$f":"[1]主表!O61","v":5.32},{"$f":"[1]主表!P61","v":5.32},{"$f":"[1]主表!Q61","v":0},{"$f":"[1]主表!$G61","v":532},12,2,6,2,105.8,1]
[60,60,2,6,10,"金丹期","后",10,{"$f":"[1]主表!N62","v":162.81000000000003},{"$f":"[1]主表!O62","v":6.03},{"$f":"[1]主表!P62","v":6.03},{"$f":"[1]主表!Q62","v":0},{"$f":"[1]主表!$G62","v":603},12,2,6,2,105.9,1]
[61,61,3,7,1,"元婴期","前",1,{"$f":"[1]主表!N63","v":167.58099999999999},{"$f":"[1]主表!O63","v":6.18},{"$f":"[1]主表!P63","v":6.18},{"$f":"[1]主表!Q63","v":0},{"$f":"[1]主表!$G63","v":618},13,2,7,2,106,1]
[62,62,3,7,2,"元婴期","前",2,{"$f":"[1]主表!N64","v":171.84233333333336},{"$f":"[1]主表!O64","v":6.31},{"$f":"[1]主表!P64","v":6.31},{"$f":"[1]主表!Q64","v":0},{"$f":"[1]主表!$G64","v":631},13,2,7,2,106.1,1]
[63,63,3,7,3,"元婴期","前",3,{"$f":"[1]主表!N65","v":175.8605},{"$f":"[1]主表!O65","v":6.43},{"$f":"[1]主表!P65","v":6.43},{"$f":"[1]主表!Q65","v":0},{"$f":"[1]主表!$G65","v":643},13,2,7,2,106.2,1]
[64,64,3,7,4,"元婴期","前",4,{"$f":"[1]主表!N66","v":181.00533333333331},{"$f":"[1]主表!O66","v":6.59},{"$f":"[1]主表!P66","v":6.59},{"$f":"[1]主表!Q66","v":0},{"$f":"[1]主表!$G66","v":659},13,2,7,2,106.3,1]
[65,65,3,7,5,"元婴期","前",5,{"$f":"[1]主表!N67","v":185.35999999999999},{"$f":"[1]主表!O67","v":6.72},{"$f":"[1]主表!P67","v":6.72},{"$f":"[1]主表!Q67","v":0},{"$f":"[1]主表!$G67","v":672},13,2,7,2,106.4,1]
[66,66,3,7,{"$f":"H70","v":6},"元婴期","前",6,{"$f":"[1]主表!N68","v":191.13},{"$f":"[1]主表!O68","v":6.9},{"$f":"[1]主表!P68","v":6.9},{"$f":"[1]主表!Q68","v":0},{"$f":"[1]主表!$G68","v":690},14,2,7,2,106.5,1]
[67,67,3,7,7,"元婴期","前",7,{"$f":"[1]主表!N69","v":195.82933333333332},{"$f":"[1]主表!O69","v":7.04},{"$f":"[1]主表!P69","v":7.04},{"$f":"[1]主表!Q69","v":0},{"$f":"[1]主表!$G69","v":704},14,2,7,2,106.6,1]
[68,68,3,7,8,"元婴期","前",8,{"$f":"[1]主表!N70","v":201.67866666666666},{"$f":"[1]主表!O70","v":7.22},{"$f":"[1]主表!P70","v":7.22},{"$f":"[1]主表!Q70","v":0},{"$f":"[1]主表!$G70","v":722},14,2,7,2,106.7,1]
[69,69,3,7,9,"元婴期","前",9,{"$f":"[1]主表!N71","v":207.85050000000001},{"$f":"[1]主表!O71","v":7.41},{"$f":"[1]主表!P71","v":7.41},{"$f":"[1]主表!Q71","v":0},{"$f":"[1]主表!$G71","v":741},14,2,7,2,106.8,1]
[70,70,3,7,10,"元婴期","前",10,{"$f":"[1]主表!N72","v":223.92499999999998},{"$f":"[1]主表!O72","v":7.95},{"$f":"[1]主表!P72","v":7.95},{"$f":"[1]主表!Q72","v":0},{"$f":"[1]主表!$G72","v":795},14,2,7,2,106.9,1]
[71,71,3,8,1,"元婴期","中",1,{"$f":"[1]主表!N73","v":230.22633333333334},{"$f":"[1]主表!O73","v":8.14},{"$f":"[1]主表!P73","v":8.14},{"$f":"[1]主表!Q73","v":0},{"$f":"[1]主表!$G73","v":814},15,2,8,2,107,1]
[72,72,3,8,2,"元婴期","中",2,{"$f":"[1]主表!N74","v":236.572},{"$f":"[1]主表!O74","v":8.33},{"$f":"[1]主表!P74","v":8.33},{"$f":"[1]主表!Q74","v":0},{"$f":"[1]主表!$G74","v":833},15,2,8,2,107.1,1]
[73,73,3,8,3,"元婴期","中",3,{"$f":"[1]主表!N75","v":242.96199999999999},{"$f":"[1]主表!O75","v":8.52},{"$f":"[1]主表!P75","v":8.52},{"$f":"[1]主表!Q75","v":0},{"$f":"[1]主表!$G75","v":852},15,2,8,2,107.2,1]
[74,74,3,8,4,"元婴期","中",4,{"$f":"[1]主表!N76","v":249.39633333333336},{"$f":"[1]主表!O76","v":8.7100000000000009},{"$f":"[1]主表!P76","v":8.7100000000000009},{"$f":"[1]主表!Q76","v":0},{"$f":"[1]主表!$G76","v":871},15,2,8,2,107.3,1]
[75,75,3,8,5,"元婴期","中",5,{"$f":"[1]主表!N77","v":256.16250000000002},{"$f":"[1]主表!O77","v":8.91},{"$f":"[1]主表!P77","v":8.91},{"$f":"[1]主表!Q77","v":0},{"$f":"[1]主表!$G77","v":891},15,2,8,2,107.4,1]
[76,76,3,8,6,"元婴期","中",6,{"$f":"[1]主表!N78","v":263.84133333333335},{"$f":"[1]主表!O78","v":9.14},{"$f":"[1]主表!P78","v":9.14},{"$f":"[1]主表!Q78","v":0},{"$f":"[1]主表!$G78","v":914},16,2,{"$f":"P70+1","v":8},2,107.5,1]
[77,77,3,8,7,"元婴期","中",7,{"$f":"[1]主表!N79","v":270.70433333333335},{"$f":"[1]主表!O79","v":9.34},{"$f":"[1]主表!P79","v":9.34},{"$f":"[1]主表!Q79","v":0},{"$f":"[1]主表!$G79","v":934},16,2,8,2,107.6,1]
[78,78,3,8,8,"元婴期","中",8,{"$f":"[1]主表!N80","v":277.61399999999998},{"$f":"[1]主表!O80","v":9.5399999999999991},{"$f":"[1]主表!P80","v":9.5399999999999991},{"$f":"[1]主表!Q80","v":0},{"$f":"[1]主表!$G80","v":954},16,2,8,2,107.7,1]
[79,79,3,8,9,"元婴期","中",9,{"$f":"[1]主表!N81","v":285.73899999999998},{"$f":"[1]主表!O81","v":9.7799999999999994},{"$f":"[1]主表!P81","v":9.7799999999999994},{"$f":"[1]主表!Q81","v":0},{"$f":"[1]主表!$G81","v":978},16,2,8,2,107.8,1]
[80,80,3,8,10,"元婴期","中",10,{"$f":"[1]主表!N82","v":308.29333333333335},{"$f":"[1]主表!O82","v":10.51},{"$f":"[1]主表!P82","v":10.51},{"$f":"[1]主表!Q82","v":0},{"$f":"[1]主表!$G82","v":1051},16,2,8,2,107.9,1]
[81,81,3,9,1,"元婴期","后",1,{"$f":"[1]主表!N83","v":329.54549999999995},{"$f":"[1]主表!O83","v":11.19},{"$f":"[1]主表!P83","v":11.19},{"$f":"[1]主表!Q83","v":0},{"$f":"[1]主表!$G83","v":1119},17,2,9,2,108,1]
[82,82,3,9,2,"元婴期","后",2,{"$f":"[1]主表!N84","v":338.5383333333333},{"$f":"[1]主表!O84","v":11.45},{"$f":"[1]主表!P84","v":11.45},{"$f":"[1]主表!Q84","v":0},{"$f":"[1]主表!$G84","v":1145},17,2,9,2,108.1,1]
[83,83,3,9,3,"元婴期","后",3,{"$f":"[1]主表!N85","v":348.48233333333332},{"$f":"[1]主表!O85","v":11.74},{"$f":"[1]主表!P85","v":11.74},{"$f":"[1]主表!Q85","v":0},{"$f":"[1]主表!$G85","v":1174},17,2,9,2,108.2,1]
[84,84,3,9,4,"元婴期","后",4,{"$f":"[1]主表!N86","v":357.89800000000002},{"$f":"[1]主表!O86","v":12.01},{"$f":"[1]主表!P86","v":12.01},{"$f":"[1]主表!Q86","v":0},{"$f":"[1]主表!$G86","v":1201},17,2,9,2,108.3,1]
[85,85,3,9,5,"元婴期","后",5,{"$f":"[1]主表!N87","v":367.07749999999999},{"$f":"[1]主表!O87","v":12.27},{"$f":"[1]主表!P87","v":12.27},{"$f":"[1]主表!Q87","v":0},{"$f":"[1]主表!$G87","v":1227},17,2,9,2,108.4,1]
[86,86,3,9,6,"元婴期","后",6,{"$f":"[1]主表!N88","v":376.61799999999999},{"$f":"[1]主表!O88","v":12.54},{"$f":"[1]主表!P88","v":12.54},{"$f":"[1]主表!Q88","v":0},{"$f":"[1]主表!$G88","v":1254},18,2,9,2,108.5,1]
[87,87,3,9,7,"元婴期","后",7,{"$f":"[1]主表!N89","v":387.42749999999995},{"$f":"[1]主表!O89","v":12.85},{"$f":"[1]主表!P89","v":12.85},{"$f":"[1]主表!Q89","v":0},{"$f":"[1]主表!$G89","v":1285},18,2,9,2,108.6,1]
[88,88,3,9,8,"元婴期","后",8,{"$f":"[1]主表!N90","v":397.40133333333335},{"$f":"[1]主表!O90","v":13.13},{"$f":"[1]主表!P90","v":13.13},{"$f":"[1]主表!Q90","v":0},{"$f":"[1]主表!$G90","v":1313},18,2,9,2,108.7,1]
[89,89,3,9,9,"元婴期","后",9,{"$f":"[1]主表!N91","v":408.35199999999992},{"$f":"[1]主表!O91","v":13.44},{"$f":"[1]主表!P91","v":13.44},{"$f":"[1]主表!Q91","v":0},{"$f":"[1]主表!$G91","v":1344},18,2,9,2,108.799999999999,1]
[90,90,3,9,10,"元婴期","后",10,{"$f":"[1]主表!N92","v":467.26},{"$f":"[1]主表!O92","v":15.32},{"$f":"[1]主表!P92","v":15.32},{"$f":"[1]主表!Q92","v":0},{"$f":"[1]主表!$G92","v":1532},18,2,9,2,108.899999999999,1]
[91,91,4,10,1,"化神期","前",1,{"$f":"[1]主表!N93","v":479.15083333333337},{"$f":"[1]主表!O93","v":15.65},{"$f":"[1]主表!P93","v":15.65},{"$f":"[1]主表!Q93","v":0},{"$f":"[1]主表!$G93","v":1565},19,2,10,2,108.99999999999901,1]
[92,92,4,10,2,"化神期","前",2,{"$f":"[1]主表!N94","v":492.34800000000001},{"$f":"[1]主表!O94","v":16.02},{"$f":"[1]主表!P94","v":16.02},{"$f":"[1]主表!Q94","v":0},{"$f":"[1]主表!$G94","v":1602},19,2,10,2,109.099999999999,1]
[93,93,4,10,3,"化神期","前",3,{"$f":"[1]主表!N95","v":504.70599999999996},{"$f":"[1]主表!O95","v":16.36},{"$f":"[1]主表!P95","v":16.36},{"$f":"[1]主表!Q95","v":0},{"$f":"[1]主表!$G95","v":1636},19,2,10,2,109.19999999999899,1]
[94,94,4,10,4,"化神期","前",4,{"$f":"[1]主表!N96","v":518.38199999999995},{"$f":"[1]主表!O96","v":16.739999999999998},{"$f":"[1]主表!P96","v":16.739999999999998},{"$f":"[1]主表!Q96","v":0},{"$f":"[1]主表!$G96","v":1674},19,2,10,2,109.299999999999,1]
[95,95,4,10,5,"化神期","前",5,{"$f":"[1]主表!N97","v":532.14666666666676},{"$f":"[1]主表!O97","v":17.12},{"$f":"[1]主表!P97","v":17.12},{"$f":"[1]主表!Q97","v":0},{"$f":"[1]主表!$G97","v":1712},19,2,10,2,109.399999999999,1]
[96,96,4,10,6,"化神期","前",6,{"$f":"[1]主表!N98","v":546.31200000000013},{"$f":"[1]主表!O98","v":17.510000000000002},{"$f":"[1]主表!P98","v":17.510000000000002},{"$f":"[1]主表!Q98","v":0},{"$f":"[1]主表!$G98","v":1751},20,2,10,2,109.49999999999901,1]
[97,97,4,10,7,"化神期","前",7,{"$f":"[1]主表!N99","v":560.56833333333327},{"$f":"[1]主表!O99","v":17.899999999999999},{"$f":"[1]主表!P99","v":17.899999999999999},{"$f":"[1]主表!Q99","v":0},{"$f":"[1]主表!$G99","v":1790},20,2,10,2,109.599999999999,1]
[98,98,4,10,8,"化神期","前",8,{"$f":"[1]主表!N100","v":574.91566666666677},{"$f":"[1]主表!O100","v":18.29},{"$f":"[1]主表!P100","v":18.29},{"$f":"[1]主表!Q100","v":0},{"$f":"[1]主表!$G100","v":1829},20,2,10,2,109.69999999999899,1]
[99,99,4,10,9,"化神期","前",9,{"$f":"[1]主表!N101","v":590.93150000000014},{"$f":"[1]主表!O101","v":18.73},{"$f":"[1]主表!P101","v":18.73},{"$f":"[1]主表!Q101","v":0},{"$f":"[1]主表!$G101","v":1873},20,2,10,2,109.799999999999,1]
[100,100,4,10,10,"化神期","前",10,{"$f":"[1]主表!N102","v":635.86666666666667},{"$f":"[1]主表!O102","v":20.079999999999998},{"$f":"[1]主表!P102","v":20.079999999999998},{"$f":"[1]主表!Q102","v":0},{"$f":"[1]主表!$G102","v":2008},20,2,10,2,109.899999999999,1]
[101,101,4,11,1,"化神期","中",1,{"$f":"[1]主表!N103","v":652.51183333333324},{"$f":"[1]主表!O103","v":20.53},{"$f":"[1]主表!P103","v":20.53},{"$f":"[1]主表!Q103","v":0},{"$f":"[1]主表!$G103","v":2053},21,3,11,3,109.99999999999901,1]
[102,102,4,11,2,"化神期","中",2,{"$f":"[1]主表!N104","v":669.26199999999994},{"$f":"[1]主表!O104","v":20.98},{"$f":"[1]主表!P104","v":20.98},{"$f":"[1]主表!Q104","v":0},{"$f":"[1]主表!$G104","v":2098},21,3,11,3,110.099999999999,1]
[103,103,4,11,3,"化神期","中",3,{"$f":"[1]主表!N105","v":686.43733333333341},{"$f":"[1]主表!O105","v":21.44},{"$f":"[1]主表!P105","v":21.44},{"$f":"[1]主表!Q105","v":0},{"$f":"[1]主表!$G105","v":2144},21,3,11,3,110.19999999999899,1]
[104,104,4,11,4,"化神期","中",4,{"$f":"[1]主表!N106","v":705.32666666666671},{"$f":"[1]主表!O106","v":21.95},{"$f":"[1]主表!P106","v":21.95},{"$f":"[1]主表!Q106","v":0},{"$f":"[1]主表!$G106","v":2195},21,3,11,3,110.299999999999,1]
[105,105,4,11,5,"化神期","中",5,{"$f":"[1]主表!N107","v":722.72249999999997},{"$f":"[1]主表!O107","v":22.41},{"$f":"[1]主表!P107","v":22.41},{"$f":"[1]主表!Q107","v":0},{"$f":"[1]主表!$G107","v":2241},21,3,11,3,110.399999999999,1]
[106,106,4,11,6,"化神期","中",6,{"$f":"[1]主表!N108","v":741.84399999999994},{"$f":"[1]主表!O108","v":22.92},{"$f":"[1]主表!P108","v":22.92},{"$f":"[1]主表!Q108","v":0},{"$f":"[1]主表!$G108","v":2292},22,3,11,3,110.49999999999901,1]
[107,107,4,11,7,"化神期","中",7,{"$f":"[1]主表!N109","v":761.40933333333339},{"$f":"[1]主表!O109","v":23.44},{"$f":"[1]主表!P109","v":23.44},{"$f":"[1]主表!Q109","v":0},{"$f":"[1]主表!$G109","v":2344},22,3,11,3,110.599999999999,1]
[108,108,4,11,8,"化神期","中",8,{"$f":"[1]主表!N110","v":779.79200000000003},{"$f":"[1]主表!O110","v":23.92},{"$f":"[1]主表!P110","v":23.92},{"$f":"[1]主表!Q110","v":0},{"$f":"[1]主表!$G110","v":2392},22,3,11,3,110.69999999999899,1]
[109,109,4,11,9,"化神期","中",9,{"$f":"[1]主表!N111","v":801.23116666666658},{"$f":"[1]主表!O111","v":24.49},{"$f":"[1]主表!P111","v":24.49},{"$f":"[1]主表!Q111","v":0},{"$f":"[1]主表!$G111","v":2449},22,3,11,3,110.799999999999,1]
[110,110,4,11,10,"化神期","中",10,{"$f":"[1]主表!N112","v":861.875},{"$f":"[1]主表!O112","v":26.25},{"$f":"[1]主表!P112","v":26.25},{"$f":"[1]主表!Q112","v":0},{"$f":"[1]主表!$G112","v":2625},22,3,11,3,110.899999999999,1]
[111,111,4,12,1,"化神期","后",1,{"$f":"[1]主表!N113","v":882.73050000000001},{"$f":"[1]主表!O113","v":26.79},{"$f":"[1]主表!P113","v":26.79},{"$f":"[1]主表!Q113","v":0},{"$f":"[1]主表!$G113","v":2679},23,3,12,3,110.99999999999901,1]
[112,112,4,12,2,"化神期","后",2,{"$f":"[1]主表!N114","v":905.36533333333318},{"$f":"[1]主表!O114","v":27.38},{"$f":"[1]主表!P114","v":27.38},{"$f":"[1]主表!Q114","v":0},{"$f":"[1]主表!$G114","v":2738},23,3,12,3,111.099999999999,1]
[113,113,4,12,3,"化神期","后",3,{"$f":"[1]主表!N115","v":929.79699999999991},{"$f":"[1]主表!O115","v":28.02},{"$f":"[1]主表!P115","v":28.02},{"$f":"[1]主表!Q115","v":0},{"$f":"[1]主表!$G115","v":2802},23,3,12,3,111.19999999999899,1]
[114,114,4,12,4,"化神期","后",4,{"$f":"[1]主表!N116","v":953.04600000000005},{"$f":"[1]主表!O116","v":28.62},{"$f":"[1]主表!P116","v":28.62},{"$f":"[1]主表!Q116","v":0},{"$f":"[1]主表!$G116","v":2862},23,3,12,3,111.299999999999,1]
[115,115,4,12,5,"化神期","后",5,{"$f":"[1]主表!N117","v":978.10583333333341},{"$f":"[1]主表!O117","v":29.27},{"$f":"[1]主表!P117","v":29.27},{"$f":"[1]主表!Q117","v":0},{"$f":"[1]主表!$G117","v":2927},23,3,12,3,111.399999999999,1]
[116,116,4,12,6,"化神期","后",6,{"$f":"[1]主表!N118","v":1001.9760000000001},{"$f":"[1]主表!O118","v":29.88},{"$f":"[1]主表!P118","v":29.88},{"$f":"[1]主表!Q118","v":0},{"$f":"[1]主表!$G118","v":2988},24,3,12,3,111.49999999999901,1]
[117,117,4,12,7,"化神期","后",7,{"$f":"[1]主表!N119","v":1027.671},{"$f":"[1]主表!O119","v":30.54},{"$f":"[1]主表!P119","v":30.54},{"$f":"[1]主表!Q119","v":0},{"$f":"[1]主表!$G119","v":3054},24,3,12,3,111.599999999999,1]
[118,118,4,12,8,"化神期","后",8,{"$f":"[1]主表!N120","v":1053.52},{"$f":"[1]主表!O120","v":31.2},{"$f":"[1]主表!P120","v":31.2},{"$f":"[1]主表!Q120","v":0},{"$f":"[1]主表!$G120","v":3120},24,3,12,3,111.69999999999899,1]
[119,119,4,12,9,"化神期","后",9,{"$f":"[1]主表!N121","v":1080.2006666666668},{"$f":"[1]主表!O121","v":31.88},{"$f":"[1]主表!P121","v":31.88},{"$f":"[1]主表!Q121","v":0},{"$f":"[1]主表!$G121","v":3188},24,3,12,3,111.799999999999,1]
[120,120,4,12,10,"化神期","后",10,{"$f":"[1]主表!N122","v":1234.1999999999998},{"$f":"[1]主表!O122","v":36.299999999999997},{"$f":"[1]主表!P122","v":36.299999999999997},{"$f":"[1]主表!Q122","v":0},{"$f":"[1]主表!$G122","v":3630},24,3,12,3,111.899999999999,1]
[121,121,5,13,1,"炼虚期","前",1,{"$f":"[1]主表!N123","v":1264.3636666666666},{"$f":"[1]主表!O123","v":37.06},{"$f":"[1]主表!P123","v":37.06},{"$f":"[1]主表!Q123","v":0},{"$f":"[1]主表!$G123","v":3706},25,3,13,3,111.99999999999901,1]
[122,122,5,13,2,"炼虚期","前",2,{"$f":"[1]主表!N124","v":1295.3893333333335},{"$f":"[1]主表!O124","v":37.840000000000003},{"$f":"[1]主表!P124","v":37.840000000000003},{"$f":"[1]主表!Q124","v":0},{"$f":"[1]主表!$G124","v":3784},25,3,13,3,112.099999999999,1]
[123,123,5,13,3,"炼虚期","前",3,{"$f":"[1]主表!N125","v":1326.2535},{"$f":"[1]主表!O125","v":38.61},{"$f":"[1]主表!P125","v":38.61},{"$f":"[1]主表!Q125","v":0},{"$f":"[1]主表!$G125","v":3861},25,3,13,3,112.19999999999899,1]
[124,124,5,13,4,"炼虚期","前",4,{"$f":"[1]主表!N126","v":1359.3653333333332},{"$f":"[1]主表!O126","v":39.44},{"$f":"[1]主表!P126","v":39.44},{"$f":"[1]主表!Q126","v":0},{"$f":"[1]主表!$G126","v":3944},25,3,13,3,112.299999999999,1]
[125,125,5,13,5,"炼虚期","前",5,{"$f":"[1]主表!N127","v":1391.2874999999997},{"$f":"[1]主表!O127","v":40.229999999999997},{"$f":"[1]主表!P127","v":40.229999999999997},{"$f":"[1]主表!Q127","v":0},{"$f":"[1]主表!$G127","v":4023},25,3,13,3,112.399999999999,1]
[126,126,5,13,6,"炼虚期","前",6,{"$f":"[1]主表!N128","v":1425.4759999999999},{"$f":"[1]主表!O128","v":41.08},{"$f":"[1]主表!P128","v":41.08},{"$f":"[1]主表!Q128","v":0},{"$f":"[1]主表!$G128","v":4108},26,3,13,3,112.49999999999901,1]
[127,127,5,13,7,"炼虚期","前",7,{"$f":"[1]主表!N129","v":1458.8183333333334},{"$f":"[1]主表!O129","v":41.9},{"$f":"[1]主表!P129","v":41.9},{"$f":"[1]主表!Q129","v":0},{"$f":"[1]主表!$G129","v":4190},26,3,13,3,112.599999999999,1]
[128,128,5,13,8,"炼虚期","前",8,{"$f":"[1]主表!N130","v":1492.0026666666668},{"$f":"[1]主表!O130","v":42.71},{"$f":"[1]主表!P130","v":42.71},{"$f":"[1]主表!Q130","v":0},{"$f":"[1]主表!$G130","v":4271},26,3,13,3,112.69999999999899,1]
[129,129,5,13,9,"炼虚期","前",9,{"$f":"[1]主表!N131","v":1527.4789999999998},{"$f":"[1]主表!O131","v":43.58},{"$f":"[1]主表!P131","v":43.58},{"$f":"[1]主表!Q131","v":0},{"$f":"[1]主表!$G131","v":4358},26,3,13,3,112.799999999999,1]
[130,130,5,13,{"$f":"H134","v":10},"炼虚期","前",10,{"$f":"[1]主表!N132","v":1639.4699999999998},{"$f":"[1]主表!O132","v":46.62},{"$f":"[1]主表!P132","v":46.62},{"$f":"[1]主表!Q132","v":0},{"$f":"[1]主表!$G132","v":4662},26,3,13,3,112.899999999999,1]
[131,131,5,14,1,"炼虚期","中",1,{"$f":"[1]主表!N133","v":1677.7224999999999},{"$f":"[1]主表!O133","v":47.55},{"$f":"[1]主表!P133","v":47.55},{"$f":"[1]主表!Q133","v":0},{"$f":"[1]主表!$G133","v":4755},27,3,14,3,112.99999999999901,1]
[132,132,5,14,2,"炼虚期","中",2,{"$f":"[1]主表!N134","v":1716.5460000000003},{"$f":"[1]主表!O134","v":48.49},{"$f":"[1]主表!P134","v":48.49},{"$f":"[1]主表!Q134","v":0},{"$f":"[1]主表!$G134","v":4849},27,3,14,3,113.099999999999,1]
[133,133,5,14,3,"炼虚期","中",3,{"$f":"[1]主表!N135","v":1757.7198333333333},{"$f":"[1]主表!O135","v":49.49},{"$f":"[1]主表!P135","v":49.49},{"$f":"[1]主表!Q135","v":0},{"$f":"[1]主表!$G135","v":4949},27,3,14,3,113.19999999999899,1]
[134,134,5,14,4,"炼虚期","中",4,{"$f":"[1]主表!N136","v":1797.3453333333332},{"$f":"[1]主表!O136","v":50.44},{"$f":"[1]主表!P136","v":50.44},{"$f":"[1]主表!Q136","v":0},{"$f":"[1]主表!$G136","v":5044},27,3,14,3,113.299999999999,1]
[135,135,5,14,5,"炼虚期","中",5,{"$f":"[1]主表!N137","v":1838.98},{"$f":"[1]主表!O137","v":51.44},{"$f":"[1]主表!P137","v":51.44},{"$f":"[1]主表!Q137","v":0},{"$f":"[1]主表!$G137","v":5144},27,3,14,3,113.399999999999,1]
[136,136,5,14,6,"炼虚期","中",6,{"$f":"[1]主表!N138","v":1883},{"$f":"[1]主表!O138","v":52.5},{"$f":"[1]主表!P138","v":52.5},{"$f":"[1]主表!Q138","v":0},{"$f":"[1]主表!$G138","v":5250},28,3,14,3,113.49999999999901,1]
[137,137,5,14,7,"炼虚期","中",7,{"$f":"[1]主表!N139","v":1925.8280000000002},{"$f":"[1]主表!O139","v":53.52},{"$f":"[1]主表!P139","v":53.52},{"$f":"[1]主表!Q139","v":0},{"$f":"[1]主表!$G139","v":5352},28,3,14,3,113.599999999999,1]
[138,138,5,14,8,"炼虚期","中",8,{"$f":"[1]主表!N140","v":1970.6990000000001},{"$f":"[1]主表!O140","v":54.59},{"$f":"[1]主表!P140","v":54.59},{"$f":"[1]主表!Q140","v":0},{"$f":"[1]主表!$G140","v":5459},28,3,14,3,113.69999999999899,1]
[139,139,5,14,9,"炼虚期","中",9,{"$f":"[1]主表!N141","v":2016.1818333333335},{"$f":"[1]主表!O141","v":55.67},{"$f":"[1]主表!P141","v":55.67},{"$f":"[1]主表!Q141","v":0},{"$f":"[1]主表!$G141","v":5567},28,3,14,3,113.799999999999,1]
[140,140,5,14,10,"炼虚期","中",10,{"$f":"[1]主表!N142","v":2163.2866666666669},{"$f":"[1]主表!O142","v":59.54},{"$f":"[1]主表!P142","v":59.54},{"$f":"[1]主表!Q142","v":0},{"$f":"[1]主表!$G142","v":5954},28,3,{"$f":"P134+1","v":14},3,113.899999999999,1]
[141,141,5,15,1,"炼虚期","后",1,{"$f":"[1]主表!N143","v":2213.973},{"$f":"[1]主表!O143","v":60.74},{"$f":"[1]主表!P143","v":60.74},{"$f":"[1]主表!Q143","v":0},{"$f":"[1]主表!$G143","v":6074},29,3,15,3,113.99999999999901,1]
[142,142,5,15,2,"炼虚期","后",2,{"$f":"[1]主表!N144","v":2265.3050000000003},{"$f":"[1]主表!O144","v":61.95},{"$f":"[1]主表!P144","v":61.95},{"$f":"[1]主表!Q144","v":0},{"$f":"[1]主表!$G144","v":6195},29,3,15,3,114.099999999999,1]
[143,143,5,15,3,"炼虚期","后",3,{"$f":"[1]主表!N145","v":2316.9193333333333},{"$f":"[1]主表!O145","v":63.16},{"$f":"[1]主表!P145","v":63.16},{"$f":"[1]主表!Q145","v":0},{"$f":"[1]主表!$G145","v":6316},29,3,15,3,114.19999999999899,1]
[144,144,5,15,4,"炼虚期","后",4,{"$f":"[1]主表!N146","v":2371.0240000000003},{"$f":"[1]主表!O146","v":64.430000000000007},{"$f":"[1]主表!P146","v":64.430000000000007},{"$f":"[1]主表!Q146","v":0},{"$f":"[1]主表!$G146","v":6443},29,3,15,3,114.299999999999,1]
[145,145,5,15,5,"炼虚期","后",5,{"$f":"[1]主表!N147","v":2425.4249999999997},{"$f":"[1]主表!O147","v":65.7},{"$f":"[1]主表!P147","v":65.7},{"$f":"[1]主表!Q147","v":0},{"$f":"[1]主表!$G147","v":6570},29,3,15,3,114.399999999999,1]
[146,146,5,15,6,"炼虚期","后",6,{"$f":"[1]主表!N148","v":2480.8629999999998},{"$f":"[1]主表!O148","v":66.989999999999995},{"$f":"[1]主表!P148","v":66.989999999999995},{"$f":"[1]主表!Q148","v":0},{"$f":"[1]主表!$G148","v":6699},30,3,15,3,114.49999999999901,1]
[147,147,5,15,7,"炼虚期","后",7,{"$f":"[1]主表!N149","v":2538.4594999999999},{"$f":"[1]主表!O149","v":68.33},{"$f":"[1]主表!P149","v":68.33},{"$f":"[1]主表!Q149","v":0},{"$f":"[1]主表!$G149","v":6833},30,3,15,3,114.599999999999,1]
[148,148,5,15,8,"炼虚期","后",8,{"$f":"[1]主表!N150","v":2596.7413333333338},{"$f":"[1]主表!O150","v":69.680000000000007},{"$f":"[1]主表!P150","v":69.680000000000007},{"$f":"[1]主表!Q150","v":0},{"$f":"[1]主表!$G150","v":6968},30,3,15,3,114.69999999999899,1]
[149,149,5,15,9,"炼虚期","后",9,{"$f":"[1]主表!N151","v":2657.5811666666668},{"$f":"[1]主表!O151","v":71.09},{"$f":"[1]主表!P151","v":71.09},{"$f":"[1]主表!Q151","v":0},{"$f":"[1]主表!$G151","v":7109},30,3,15,3,114.799999999999,1]
[150,150,5,15,10,"炼虚期","后",10,{"$f":"[1]主表!N152","v":3025.5},{"$f":"[1]主表!O152","v":80.680000000000007},{"$f":"[1]主表!P152","v":80.680000000000007},{"$f":"[1]主表!Q152","v":0},{"$f":"[1]主表!$G152","v":8068},30,3,15,3,114.899999999999,1]
[151,151,6,16,1,"合体期","前",1,{"$f":"[1]主表!N153","v":3095.4755},{"$f":"[1]主表!O153","v":82.29},{"$f":"[1]主表!P153","v":82.29},{"$f":"[1]主表!Q153","v":0},{"$f":"[1]主表!$G153","v":8229},31,4,16,4,114.99999999999901,1]
[152,152,6,16,2,"合体期","前",2,{"$f":"[1]主表!N154","v":3165.8266666666668},{"$f":"[1]主表!O154","v":83.9},{"$f":"[1]主表!P154","v":83.9},{"$f":"[1]主表!Q154","v":0},{"$f":"[1]主表!$G154","v":8390},31,4,16,4,115.099999999999,1]
[153,153,6,16,3,"合体期","前",3,{"$f":"[1]主表!N155","v":3238.8245000000002},{"$f":"[1]主表!O155","v":85.57},{"$f":"[1]主表!P155","v":85.57},{"$f":"[1]主表!Q155","v":0},{"$f":"[1]主表!$G155","v":8557},31,4,16,4,115.19999999999899,1]
[154,154,6,16,4,"合体期","前",4,{"$f":"[1]主表!N156","v":3312.9713333333339},{"$f":"[1]主表!O156","v":87.26},{"$f":"[1]主表!P156","v":87.26},{"$f":"[1]主表!Q156","v":0},{"$f":"[1]主表!$G156","v":8726},31,4,16,4,115.299999999999,1]
[155,155,6,16,5,"合体期","前",5,{"$f":"[1]主表!N157","v":3389.4166666666665},{"$f":"[1]主表!O157","v":89},{"$f":"[1]主表!P157","v":89},{"$f":"[1]主表!Q157","v":0},{"$f":"[1]主表!$G157","v":8900},31,4,16,4,115.399999999999,1]
[156,156,6,16,6,"合体期","前",6,{"$f":"[1]主表!N158","v":3466.65},{"$f":"[1]主表!O158","v":90.75},{"$f":"[1]主表!P158","v":90.75},{"$f":"[1]主表!Q158","v":0},{"$f":"[1]主表!$G158","v":9075},32,4,16,4,115.49999999999901,1]
[157,157,6,16,7,"合体期","前",7,{"$f":"[1]主表!N159","v":3545.058},{"$f":"[1]主表!O159","v":92.52},{"$f":"[1]主表!P159","v":92.52},{"$f":"[1]主表!Q159","v":0},{"$f":"[1]主表!$G159","v":9252},32,4,16,4,115.599999999999,1]
[158,158,6,16,8,"合体期","前",8,{"$f":"[1]主表!N160","v":3625.8006666666665},{"$f":"[1]主表!O160","v":94.34},{"$f":"[1]主表!P160","v":94.34},{"$f":"[1]主表!Q160","v":0},{"$f":"[1]主表!$G160","v":9434},32,4,16,4,115.69999999999899,1]
[159,159,6,16,9,"合体期","前",9,{"$f":"[1]主表!N161","v":3709.6665000000003},{"$f":"[1]主表!O161","v":96.23},{"$f":"[1]主表!P161","v":96.23},{"$f":"[1]主表!Q161","v":0},{"$f":"[1]主表!$G161","v":9623},32,4,16,4,115.799999999999,1]
[160,160,6,16,10,"合体期","前",10,{"$f":"[1]主表!N162","v":3977.2533333333331},{"$f":"[1]主表!O162","v":102.86},{"$f":"[1]主表!P162","v":102.86},{"$f":"[1]主表!Q162","v":205.72},{"$f":"[1]主表!$G162","v":10286},32,4,16,4,115.899999999999,1]
[161,161,6,17,1,"合体期","中",1,{"$f":"[1]主表!N163","v":4067.9838333333332},{"$f":"[1]主表!O163","v":104.89},{"$f":"[1]主表!P163","v":104.89},{"$f":"[1]主表!Q163","v":209.78},{"$f":"[1]主表!$G163","v":10489},33,4,17,4,115.99999999999901,1]
[162,162,6,17,2,"合体期","中",2,{"$f":"[1]主表!N164","v":4161.5219999999999},{"$f":"[1]主表!O164","v":106.98},{"$f":"[1]主表!P164","v":106.98},{"$f":"[1]主表!Q164","v":213.96},{"$f":"[1]主表!$G164","v":10698},33,4,17,4,116.099999999999,1]
[163,163,6,17,3,"合体期","中",3,{"$f":"[1]主表!N165","v":4255.9380000000001},{"$f":"[1]主表!O165","v":109.08},{"$f":"[1]主表!P165","v":109.08},{"$f":"[1]主表!Q165","v":218.16},{"$f":"[1]主表!$G165","v":10908},33,4,17,4,116.19999999999899,1]
[164,164,6,17,4,"合体期","中",4,{"$f":"[1]主表!N166","v":4351.626666666667},{"$f":"[1]主表!O166","v":111.2},{"$f":"[1]主表!P166","v":111.2},{"$f":"[1]主表!Q166","v":222.4},{"$f":"[1]主表!$G166","v":11120},33,4,17,4,116.299999999999,1]
[165,165,6,17,5,"合体期","中",5,{"$f":"[1]主表!N167","v":4450.1649999999991},{"$f":"[1]主表!O167","v":113.38},{"$f":"[1]主表!P167","v":113.38},{"$f":"[1]主表!Q167","v":226.76},{"$f":"[1]主表!$G167","v":11338},33,4,17,4,116.399999999999,1]
[166,166,6,17,6,"合体期","中",6,{"$f":"[1]主表!N168","v":4551.9676666666664},{"$f":"[1]主表!O168","v":115.63},{"$f":"[1]主表!P168","v":115.63},{"$f":"[1]主表!Q168","v":231.26},{"$f":"[1]主表!$G168","v":11563},34,4,17,4,116.49999999999901,1]
[167,167,6,17,7,"合体期","中",7,{"$f":"[1]主表!N169","v":4654.2953333333335},{"$f":"[1]主表!O169","v":117.88},{"$f":"[1]主表!P169","v":117.88},{"$f":"[1]主表!Q169","v":235.76},{"$f":"[1]主表!$G169","v":11788},34,4,17,4,116.599999999999,1]
[168,168,6,17,8,"合体期","中",8,{"$f":"[1]主表!N170","v":4760.3159999999998},{"$f":"[1]主表!O170","v":120.21},{"$f":"[1]主表!P170","v":120.21},{"$f":"[1]主表!Q170","v":240.42},{"$f":"[1]主表!$G170","v":12021},34,4,17,4,116.69999999999899,1]
[169,169,6,17,9,"合体期","中",9,{"$f":"[1]主表!N171","v":4866.8803333333335},{"$f":"[1]主表!O171","v":122.54},{"$f":"[1]主表!P171","v":122.54},{"$f":"[1]主表!Q171","v":245.08},{"$f":"[1]主表!$G171","v":12254},34,4,17,4,116.799999999999,1]
[170,170,6,17,10,"合体期","中",10,{"$f":"[1]主表!N172","v":5219.3616666666658},{"$f":"[1]主表!O172","v":131.03},{"$f":"[1]主表!P172","v":131.03},{"$f":"[1]主表!Q172","v":288.27},{"$f":"[1]主表!$G172","v":13103},34,4,17,4,116.899999999999,1]
[171,171,6,18,1,"合体期","后",1,{"$f":"[1]主表!N173","v":5336.1215000000002},{"$f":"[1]主表!O173","v":133.57},{"$f":"[1]主表!P173","v":133.57},{"$f":"[1]主表!Q173","v":293.85000000000002},{"$f":"[1]主表!$G173","v":13357},35,4,18,4,116.99999999999901,1]
[172,172,6,18,2,"合体期","后",2,{"$f":"[1]主表!N174","v":5456.6793333333335},{"$f":"[1]主表!O174","v":136.19},{"$f":"[1]主表!P174","v":136.19},{"$f":"[1]主表!Q174","v":299.62},{"$f":"[1]主表!$G174","v":13619},35,4,18,4,117.099999999999,1]
[173,173,6,18,3,"合体期","后",3,{"$f":"[1]主表!N175","v":5580.259500000001},{"$f":"[1]主表!O175","v":138.87},{"$f":"[1]主表!P175","v":138.87},{"$f":"[1]主表!Q175","v":305.51},{"$f":"[1]主表!$G175","v":13887},35,4,18,4,117.19999999999899,1]
[174,174,6,18,4,"合体期","后",4,{"$f":"[1]主表!N176","v":5704.8679999999986},{"$f":"[1]主表!O176","v":141.56},{"$f":"[1]主表!P176","v":141.56},{"$f":"[1]主表!Q176","v":311.43},{"$f":"[1]主表!$G176","v":14156},35,4,18,4,117.299999999999,1]
[175,175,6,18,5,"合体期","后",5,{"$f":"[1]主表!N177","v":5832.9333333333316},{"$f":"[1]主表!O177","v":144.32},{"$f":"[1]主表!P177","v":144.32},{"$f":"[1]主表!Q177","v":317.5},{"$f":"[1]主表!$G177","v":14432},35,4,18,4,117.399999999999,1]
[176,176,6,18,6,"合体期","后",6,{"$f":"[1]主表!N178","v":5964.8853333333327},{"$f":"[1]主表!O178","v":147.16},{"$f":"[1]主表!P178","v":147.16},{"$f":"[1]主表!Q178","v":323.75},{"$f":"[1]主表!$G178","v":14716},36,4,18,4,117.49999999999901,1]
[177,177,6,18,7,"合体期","后",7,{"$f":"[1]主表!N179","v":6097.9064999999991},{"$f":"[1]主表!O179","v":150.01},{"$f":"[1]主表!P179","v":150.01},{"$f":"[1]主表!Q179","v":330.02},{"$f":"[1]主表!$G179","v":15001},36,4,18,4,117.599999999999,1]
[178,178,6,18,8,"合体期","后",8,{"$f":"[1]主表!N180","v":6234.0386666666654},{"$f":"[1]主表!O180","v":152.91999999999999},{"$f":"[1]主表!P180","v":152.91999999999999},{"$f":"[1]主表!Q180","v":336.42},{"$f":"[1]主表!$G180","v":15292},36,4,18,4,117.69999999999899,1]
[179,179,6,18,9,"合体期","后",9,{"$f":"[1]主表!N181","v":6374.1204999999991},{"$f":"[1]主表!O181","v":155.91},{"$f":"[1]主表!P181","v":155.91},{"$f":"[1]主表!Q181","v":343},{"$f":"[1]主表!$G181","v":15591},36,4,18,4,117.799999999999,1]
[180,180,6,18,10,"合体期","后",10,{"$f":"[1]主表!N182","v":7256.59},{"$f":"[1]主表!O182","v":176.99},{"$f":"[1]主表!P182","v":176.99},{"$f":"[1]主表!Q182","v":424.78},{"$f":"[1]主表!$G182","v":17699},36,4,18,4,117.899999999999,1]
[181,181,7,19,1,"大乘期","前",1,{"$f":"[1]主表!N183","v":7426.0811666666668},{"$f":"[1]主表!O183","v":180.61},{"$f":"[1]主表!P183","v":180.61},{"$f":"[1]主表!Q183","v":433.46},{"$f":"[1]主表!$G183","v":18061},37,4,19,4,117.99999999999901,1]
[182,182,7,19,2,"大乘期","前",2,{"$f":"[1]主表!N184","v":7597.6539999999986},{"$f":"[1]主表!O184","v":184.26},{"$f":"[1]主表!P184","v":184.26},{"$f":"[1]主表!Q184","v":442.22},{"$f":"[1]主表!$G184","v":18426},37,4,19,4,118.099999999999,1]
[183,183,7,19,3,"大乘期","前",3,{"$f":"[1]主表!N185","v":7775.4539999999997},{"$f":"[1]主表!O185","v":188.04},{"$f":"[1]主表!P185","v":188.04},{"$f":"[1]主表!Q185","v":451.3},{"$f":"[1]主表!$G185","v":18804},37,4,19,4,118.19999999999899,1]
[184,184,7,19,4,"大乘期","前",4,{"$f":"[1]主表!N186","v":7954.9653333333335},{"$f":"[1]主表!O186","v":191.84},{"$f":"[1]主表!P186","v":191.84},{"$f":"[1]主表!Q186","v":460.42},{"$f":"[1]主表!$G186","v":19184},37,4,19,4,118.299999999999,1]
[185,185,7,19,5,"大乘期","前",5,{"$f":"[1]主表!N187","v":8139.1058333333331},{"$f":"[1]主表!O187","v":195.73},{"$f":"[1]主表!P187","v":195.73},{"$f":"[1]主表!Q187","v":469.75},{"$f":"[1]主表!$G187","v":19573},37,4,19,4,118.399999999999,1]
[186,186,7,19,6,"大乘期","前",6,{"$f":"[1]主表!N188","v":8330.4090000000015},{"$f":"[1]主表!O188","v":199.77},{"$f":"[1]主表!P188","v":199.77},{"$f":"[1]主表!Q188","v":479.45},{"$f":"[1]主表!$G188","v":19977},38,4,19,4,118.49999999999901,1]
[187,187,7,19,7,"大乘期","前",7,{"$f":"[1]主表!N189","v":8526.0001666666667},{"$f":"[1]主表!O189","v":203.89},{"$f":"[1]主表!P189","v":203.89},{"$f":"[1]主表!Q189","v":489.34},{"$f":"[1]主表!$G189","v":20389},38,4,19,4,118.599999999999,1]
[188,188,7,19,8,"大乘期","前",8,{"$f":"[1]主表!N190","v":8725.9073333333326},{"$f":"[1]主表!O190","v":208.09},{"$f":"[1]主表!P190","v":208.09},{"$f":"[1]主表!Q190","v":499.42},{"$f":"[1]主表!$G190","v":20809},38,4,19,4,118.69999999999899,1]
[189,189,7,19,9,"大乘期","前",9,{"$f":"[1]主表!N191","v":8930.5789999999997},{"$f":"[1]主表!O191","v":212.38},{"$f":"[1]主表!P191","v":212.38},{"$f":"[1]主表!Q191","v":509.71},{"$f":"[1]主表!$G191","v":21238},38,4,19,4,118.799999999999,1]
[190,190,7,19,10,"大乘期","前",10,{"$f":"[1]主表!N192","v":9583.2183333333342},{"$f":"[1]主表!O192","v":227.27},{"$f":"[1]主表!P192","v":227.27},{"$f":"[1]主表!Q192","v":590.9},{"$f":"[1]主表!$G192","v":22727},38,4,19,4,118.899999999999,1]
[191,191,7,20,1,"大乘期","中",1,{"$f":"[1]主表!N193","v":9808.0420000000013},{"$f":"[1]主表!O193","v":231.96},{"$f":"[1]主表!P193","v":231.96},{"$f":"[1]主表!Q193","v":603.1},{"$f":"[1]主表!$G193","v":23196},39,4,20,4,118.99999999999901,1]
[192,192,7,20,2,"大乘期","中",2,{"$f":"[1]主表!N194","v":10034.808000000001},{"$f":"[1]主表!O194","v":236.67},{"$f":"[1]主表!P194","v":236.67},{"$f":"[1]主表!Q194","v":615.34},{"$f":"[1]主表!$G194","v":23667},39,4,20,4,119.099999999999,1]
[193,193,7,20,3,"大乘期","中",3,{"$f":"[1]主表!N195","v":10269.050500000001},{"$f":"[1]主表!O195","v":241.53},{"$f":"[1]主表!P195","v":241.53},{"$f":"[1]主表!Q195","v":627.98},{"$f":"[1]主表!$G195","v":24153},39,4,20,4,119.19999999999899,1]
[194,194,7,20,{"$f":"H198","v":4},"大乘期","中",4,{"$f":"[1]主表!N196","v":10508.690333333334},{"$f":"[1]主表!O196","v":246.49},{"$f":"[1]主表!P196","v":246.49},{"$f":"[1]主表!Q196","v":640.87},{"$f":"[1]主表!$G196","v":24649},39,4,20,4,119.299999999999,1]
[195,195,7,20,5,"大乘期","中",5,{"$f":"[1]主表!N197","v":10752.907500000001},{"$f":"[1]主表!O197","v":251.53},{"$f":"[1]主表!P197","v":251.53},{"$f":"[1]主表!Q197","v":653.98},{"$f":"[1]主表!$G197","v":25153},39,4,20,4,119.399999999999,1]
[196,196,7,20,6,"大乘期","中",6,{"$f":"[1]主表!N198","v":11002.587333333337},{"$f":"[1]主表!O198","v":256.67},{"$f":"[1]主表!P198","v":256.67},{"$f":"[1]主表!Q198","v":667.34},{"$f":"[1]主表!$G198","v":25667},40,4,20,4,119.49999999999901,1]
[197,197,7,20,7,"大乘期","中",7,{"$f":"[1]主表!N199","v":11259.914000000001},{"$f":"[1]主表!O199","v":261.95999999999998},{"$f":"[1]主表!P199","v":261.95999999999998},{"$f":"[1]主表!Q199","v":681.1},{"$f":"[1]主表!$G199","v":26196},40,4,20,4,119.599999999999,1]
[198,198,7,20,8,"大乘期","中",8,{"$f":"[1]主表!N200","v":11520.199000000002},{"$f":"[1]主表!O200","v":267.29000000000002},{"$f":"[1]主表!P200","v":267.29000000000002},{"$f":"[1]主表!Q200","v":694.95},{"$f":"[1]主表!$G200","v":26729},40,4,20,4,119.69999999999899,1]
[199,199,7,20,9,"大乘期","中",9,{"$f":"[1]主表!N201","v":11788.210166666668},{"$f":"[1]主表!O201","v":272.77},{"$f":"[1]主表!P201","v":272.77},{"$f":"[1]主表!Q201","v":709.2},{"$f":"[1]主表!$G201","v":27277},40,4,20,4,119.799999999999,1]
[200,200,7,20,10,"大乘期","中",10,{"$f":"[1]主表!N202","v":12646.400000000001},{"$f":"[1]主表!O202","v":291.83999999999997},{"$f":"[1]主表!P202","v":291.83999999999997},{"$f":"[1]主表!Q202","v":817.15},{"$f":"[1]主表!$G202","v":29184},40,4,20,4,119.899999999999,1]
[201,201,7,21,1,"大乘期","后",1,{"$f":"[1]主表!N203","v":12939.844500000001},{"$f":"[1]主表!O203","v":297.81},{"$f":"[1]主表!P203","v":297.81},{"$f":"[1]主表!Q203","v":833.87},{"$f":"[1]主表!$G203","v":29781},41,5,21,5,119.99999999999901,1]
[202,202,7,21,2,"大乘期","后",2,{"$f":"[1]主表!N204","v":13238.603000000001},{"$f":"[1]主表!O204","v":303.87},{"$f":"[1]主表!P204","v":303.87},{"$f":"[1]主表!Q204","v":850.84},{"$f":"[1]主表!$G204","v":30387},41,5,21,5,120.099999999999,1]
[203,203,7,21,3,"大乘期","后",3,{"$f":"[1]主表!N205","v":13543.580666666667},{"$f":"[1]主表!O205","v":310.04000000000002},{"$f":"[1]主表!P205","v":310.04000000000002},{"$f":"[1]主表!Q205","v":868.11},{"$f":"[1]主表!$G205","v":31004},41,5,21,5,120.19999999999899,1]
[204,204,7,21,4,"大乘期","后",4,{"$f":"[1]主表!N206","v":13857.005999999999},{"$f":"[1]主表!O206","v":316.37},{"$f":"[1]主表!P206","v":316.37},{"$f":"[1]主表!Q206","v":885.84},{"$f":"[1]主表!$G206","v":31637},41,5,{"$f":"P198+1","v":21},5,120.299999999999,1]
[205,205,7,21,5,"大乘期","后",5,{"$f":"[1]主表!N207","v":14176.300000000001},{"$f":"[1]主表!O207","v":322.8},{"$f":"[1]主表!P207","v":322.8},{"$f":"[1]主表!Q207","v":903.84},{"$f":"[1]主表!$G207","v":32280},41,5,21,5,120.399999999999,1]
[206,206,7,21,6,"大乘期","后",6,{"$f":"[1]主表!N208","v":14501.497666666666},{"$f":"[1]主表!O208","v":329.33},{"$f":"[1]主表!P208","v":329.33},{"$f":"[1]主表!Q208","v":922.12},{"$f":"[1]主表!$G208","v":32933},42,5,21,5,120.49999999999901,1]
[207,207,7,21,7,"大乘期","后",7,{"$f":"[1]主表!N209","v":14835.724499999998},{"$f":"[1]主表!O209","v":336.03},{"$f":"[1]主表!P209","v":336.03},{"$f":"[1]主表!Q209","v":940.88},{"$f":"[1]主表!$G209","v":33603},42,5,21,5,120.599999999999,1]
[208,208,7,21,8,"大乘期","后",8,{"$f":"[1]主表!N210","v":15175.941333333332},{"$f":"[1]主表!O210","v":342.83},{"$f":"[1]主表!P210","v":342.83},{"$f":"[1]主表!Q210","v":959.92},{"$f":"[1]主表!$G210","v":34283},42,5,21,5,120.69999999999899,1]
[209,209,7,21,9,"大乘期","后",9,{"$f":"[1]主表!N211","v":15525.29},{"$f":"[1]主表!O211","v":349.8},{"$f":"[1]主表!P211","v":349.8},{"$f":"[1]主表!Q211","v":979.44},{"$f":"[1]主表!$G211","v":34980},42,5,21,5,120.799999999999,1]
[210,210,7,21,10,"大乘期","后",10,{"$f":"[1]主表!N212","v":17681.63},{"$f":"[1]主表!O212","v":397.34},{"$f":"[1]主表!P212","v":397.34},{"$f":"[1]主表!Q212","v":1192.02},{"$f":"[1]主表!$G212","v":39734},42,5,21,5,120.899999999999,1]
[211,211,7,19,1,"飞升期","前",1,{"$f":"[1]主表!N213","v":18086.258166666663},{"$f":"[1]主表!O213","v":405.37},{"$f":"[1]主表!P213","v":405.37},{"$f":"[1]主表!Q213","v":1216.1099999999999},{"$f":"[1]主表!$G213","v":40537},43,5,22,5,120.99999999999901,1]
[212,212,7,19,2,"飞升期","前",2,{"$f":"[1]主表!N214","v":18500.811999999998},{"$f":"[1]主表!O214","v":413.58},{"$f":"[1]主表!P214","v":413.58},{"$f":"[1]主表!Q214","v":1240.74},{"$f":"[1]主表!$G214","v":41358},43,5,22,5,121.099999999999,1]
[213,213,7,19,3,"飞升期","前",3,{"$f":"[1]主表!N215","v":18922.214999999997},{"$f":"[1]主表!O215","v":421.9},{"$f":"[1]主表!P215","v":421.9},{"$f":"[1]主表!Q215","v":1265.7},{"$f":"[1]主表!$G215","v":42190},43,5,22,5,121.19999999999899,1]
[214,214,7,19,4,"飞升期","前",4,{"$f":"[1]主表!N216","v":19356.800999999999},{"$f":"[1]主表!O216","v":430.47},{"$f":"[1]主表!P216","v":430.47},{"$f":"[1]主表!Q216","v":1291.4100000000001},{"$f":"[1]主表!$G216","v":43047},43,5,22,5,121.299999999999,1]
[215,215,7,19,5,"飞升期","前",5,{"$f":"[1]主表!N217","v":19798.345833333329},{"$f":"[1]主表!O217","v":439.15},{"$f":"[1]主表!P217","v":439.15},{"$f":"[1]主表!Q217","v":1317.45},{"$f":"[1]主表!$G217","v":43915},43,5,22,5,121.399999999999,1]
[216,216,7,19,6,"飞升期","前",6,{"$f":"[1]主表!N218","v":20250.052},{"$f":"[1]主表!O218","v":448.01},{"$f":"[1]主表!P218","v":448.01},{"$f":"[1]主表!Q218","v":1344.03},{"$f":"[1]主表!$G218","v":44801},44,5,22,5,121.49999999999901,1]
[217,217,7,19,7,"飞升期","前",7,{"$f":"[1]主表!N219","v":20711.982499999998},{"$f":"[1]主表!O219","v":457.05},{"$f":"[1]主表!P219","v":457.05},{"$f":"[1]主表!Q219","v":1371.15},{"$f":"[1]主表!$G219","v":45705},44,5,22,5,121.599999999999,1]
[218,218,7,19,8,"飞升期","前",8,{"$f":"[1]主表!N220","v":21181.928666666667},{"$f":"[1]主表!O220","v":466.22},{"$f":"[1]主表!P220","v":466.22},{"$f":"[1]主表!Q220","v":1398.66},{"$f":"[1]主表!$G220","v":46622},44,5,22,5,121.69999999999899,1]
[219,219,7,19,9,"飞升期","前",9,{"$f":"[1]主表!N221","v":21664.946499999998},{"$f":"[1]主表!O221","v":475.63},{"$f":"[1]主表!P221","v":475.63},{"$f":"[1]主表!Q221","v":1426.89},{"$f":"[1]主表!$G221","v":47563},44,5,22,5,121.799999999999,1]
[220,220,7,19,10,"飞升期","前",10,{"$f":"[1]主表!N222","v":23234.286666666663},{"$f":"[1]主表!O222","v":508.78},{"$f":"[1]主表!P222","v":508.78},{"$f":"[1]主表!Q222","v":1628.1},{"$f":"[1]主表!$G222","v":50878},44,5,22,5,121.899999999999,1]
[221,221,7,20,1,"飞升期","中",1,{"$f":"[1]主表!N223","v":23761.092166666669},{"$f":"[1]主表!O223","v":518.99},{"$f":"[1]主表!P223","v":518.99},{"$f":"[1]主表!Q223","v":1660.77},{"$f":"[1]主表!$G223","v":51899},45,5,23,5,121.99999999999901,1]
[222,222,7,20,2,"飞升期","中",2,{"$f":"[1]主表!N224","v":24301.755000000005},{"$f":"[1]主表!O224","v":529.45000000000005},{"$f":"[1]主表!P224","v":529.45000000000005},{"$f":"[1]主表!Q224","v":1694.24},{"$f":"[1]主表!$G224","v":52945},45,5,23,5,122.099999999999,1]
[223,223,7,20,3,"飞升期","中",3,{"$f":"[1]主表!N225","v":24850.840666666663},{"$f":"[1]主表!O225","v":540.04},{"$f":"[1]主表!P225","v":540.04},{"$f":"[1]主表!Q225","v":1728.13},{"$f":"[1]主表!$G225","v":54004},45,5,23,5,122.19999999999899,1]
[224,224,7,20,4,"飞升期","中",4,{"$f":"[1]主表!N226","v":25414.392},{"$f":"[1]主表!O226","v":550.89},{"$f":"[1]主表!P226","v":550.89},{"$f":"[1]主表!Q226","v":1762.85},{"$f":"[1]主表!$G226","v":55089},45,5,23,5,122.299999999999,1]
[225,225,7,20,5,"飞升期","中",5,{"$f":"[1]主表!N227","v":25989.725000000002},{"$f":"[1]主表!O227","v":561.94000000000005},{"$f":"[1]主表!P227","v":561.94000000000005},{"$f":"[1]主表!Q227","v":1798.21},{"$f":"[1]主表!$G227","v":56194},45,5,23,5,122.399999999999,1]
[226,226,7,20,6,"飞升期","中",6,{"$f":"[1]主表!N228","v":26576.90966666667},{"$f":"[1]主表!O228","v":573.19000000000005},{"$f":"[1]主表!P228","v":573.19000000000005},{"$f":"[1]主表!Q228","v":1834.21},{"$f":"[1]主表!$G228","v":57319},46,5,23,5,122.49999999999901,1]
[227,227,7,20,7,"飞升期","中",7,{"$f":"[1]主表!N229","v":27178.805},{"$f":"[1]主表!O229","v":584.70000000000005},{"$f":"[1]主表!P229","v":584.70000000000005},{"$f":"[1]主表!Q229","v":1871.04},{"$f":"[1]主表!$G229","v":58470},46,5,23,5,122.599999999999,1]
[228,228,7,20,8,"飞升期","中",8,{"$f":"[1]主表!N230","v":27793.171999999999},{"$f":"[1]主表!O230","v":596.41999999999996},{"$f":"[1]主表!P230","v":596.41999999999996},{"$f":"[1]主表!Q230","v":1908.54},{"$f":"[1]主表!$G230","v":59642},46,5,23,5,122.69999999999899,1]
[229,229,7,20,9,"飞升期","中",9,{"$f":"[1]主表!N231","v":28419.617000000002},{"$f":"[1]主表!O231","v":608.34},{"$f":"[1]主表!P231","v":608.34},{"$f":"[1]主表!Q231","v":1946.69},{"$f":"[1]主表!$G231","v":60834},46,5,23,5,122.799999999999,1]
[230,230,7,20,10,"飞升期","中",10,{"$f":"[1]主表!N232","v":30472.108333333337},{"$f":"[1]主表!O232","v":650.65},{"$f":"[1]主表!P232","v":650.65},{"$f":"[1]主表!Q232","v":2212.21},{"$f":"[1]主表!$G232","v":65065},46,5,23,5,122.899999999999,1]
[231,231,7,21,1,"飞升期","后",1,{"$f":"[1]主表!N233","v":31157.428500000002},{"$f":"[1]主表!O233","v":663.63},{"$f":"[1]主表!P233","v":663.63},{"$f":"[1]主表!Q233","v":2256.34},{"$f":"[1]主表!$G233","v":66363},47,5,24,5,122.99999999999901,1]
[232,232,7,21,2,"飞升期","后",2,{"$f":"[1]主表!N234","v":31858.956000000002},{"$f":"[1]主表!O234","v":676.89},{"$f":"[1]主表!P234","v":676.89},{"$f":"[1]主表!Q234","v":2301.4299999999998},{"$f":"[1]主表!$G234","v":67689},47,5,24,5,123.099999999999,1]
[233,233,7,21,3,"飞升期","后",3,{"$f":"[1]主表!N235","v":32573.957833333337},{"$f":"[1]主表!O235","v":690.37},{"$f":"[1]主表!P235","v":690.37},{"$f":"[1]主表!Q235","v":2347.2600000000002},{"$f":"[1]主表!$G235","v":69037},47,5,24,5,123.19999999999899,1]
[234,234,7,21,4,"飞升期","后",4,{"$f":"[1]主表!N236","v":33308.187000000005},{"$f":"[1]主表!O236","v":704.19},{"$f":"[1]主表!P236","v":704.19},{"$f":"[1]主表!Q236","v":2394.25},{"$f":"[1]主表!$G236","v":70419},47,5,24,5,123.299999999999,1]
[235,235,7,21,5,"飞升期","后",5,{"$f":"[1]主表!N237","v":34053.227500000001},{"$f":"[1]主表!O237","v":718.17},{"$f":"[1]主表!P237","v":718.17},{"$f":"[1]主表!Q237","v":2441.7800000000002},{"$f":"[1]主表!$G237","v":71817},47,5,24,5,123.399999999999,1]
[236,236,7,21,6,"飞升期","后",6,{"$f":"[1]主表!N238","v":34818.166666666672},{"$f":"[1]主表!O238","v":732.5},{"$f":"[1]主表!P238","v":732.5},{"$f":"[1]主表!Q238","v":2490.5},{"$f":"[1]主表!$G238","v":73250},48,5,24,5,123.49999999999901,1]
[237,237,7,21,7,"飞升期","后",7,{"$f":"[1]主表!N239","v":35600.268000000004},{"$f":"[1]主表!O239","v":747.12},{"$f":"[1]主表!P239","v":747.12},{"$f":"[1]主表!Q239","v":2540.21},{"$f":"[1]主表!$G239","v":74712},48,5,24,5,123.599999999999,1]
[238,238,7,21,8,"飞升期","后",8,{"$f":"[1]主表!N240","v":36396.289333333341},{"$f":"[1]主表!O240","v":761.96},{"$f":"[1]主表!P240","v":761.96},{"$f":"[1]主表!Q240","v":2590.66},{"$f":"[1]主表!$G240","v":76196},48,5,24,5,123.69999999999899,1]
[239,239,7,21,9,"飞升期","后",9,{"$f":"[1]主表!N241","v":37210.138333333336},{"$f":"[1]主表!O241","v":777.1},{"$f":"[1]主表!P241","v":777.1},{"$f":"[1]主表!Q241","v":2642.14},{"$f":"[1]主表!$G241","v":77710},48,5,24,5,123.799999999999,1]
[240,240,7,21,10,"飞升期","后",10,{"$f":"[1]主表!N242","v":42355.199999999997},{"$f":"[1]主表!O242","v":882.4},{"$f":"[1]主表!P242","v":882.4},{"$f":"[1]主表!Q242","v":3176.64},{"$f":"[1]主表!$G242","v":88240},48,5,24,5,123.899999999999,1]
[241,241,7,19,1,"逍遥期","前",1,{"$f":"[1]主表!N243","v":43215.984166666669},{"$f":"[1]主表!O243","v":898.15},{"$f":"[1]主表!P243","v":898.15},{"$f":"[1]主表!Q243","v":3233.34},{"$f":"[1]主表!$G243","v":89815},49,5,25,5,123.99999999999901,1]
[242,242,7,19,2,"逍遥期","前",2,{"$f":"[1]主表!N244","v":44088.643000000004},{"$f":"[1]主表!O244","v":914.07},{"$f":"[1]主表!P244","v":914.07},{"$f":"[1]主表!Q244","v":3290.65},{"$f":"[1]主表!$G244","v":91407},49,5,25,5,124.099999999999,1]
[243,243,7,19,3,"逍遥期","前",3,{"$f":"[1]主表!N245","v":44980.972000000002},{"$f":"[1]主表!O245","v":930.32},{"$f":"[1]主表!P245","v":930.32},{"$f":"[1]主表!Q245","v":3349.15},{"$f":"[1]主表!$G245","v":93032},49,5,25,5,124.19999999999899,1]
[244,244,7,19,4,"逍遥期","前",4,{"$f":"[1]主表!N246","v":45892.117333333335},{"$f":"[1]主表!O246","v":946.88},{"$f":"[1]主表!P246","v":946.88},{"$f":"[1]主表!Q246","v":3408.77},{"$f":"[1]主表!$G246","v":94688},49,5,25,5,124.299999999999,1]
[245,245,7,19,5,"逍遥期","前",5,{"$f":"[1]主表!N247","v":46819.758333333339},{"$f":"[1]主表!O247","v":963.7},{"$f":"[1]主表!P247","v":963.7},{"$f":"[1]主表!Q247","v":3469.32},{"$f":"[1]主表!$G247","v":96370},49,5,25,5,124.399999999999,1]
[246,246,7,19,6,"逍遥期","前",6,{"$f":"[1]主表!N248","v":47761.064000000006},{"$f":"[1]主表!O248","v":980.72},{"$f":"[1]主表!P248","v":980.72},{"$f":"[1]主表!Q248","v":3530.59},{"$f":"[1]主表!$G248","v":98072},50,5,25,5,124.49999999999901,1]
[247,247,7,19,7,"逍遥期","前",7,{"$f":"[1]主表!N249","v":48718.54516666667},{"$f":"[1]主表!O249","v":997.99},{"$f":"[1]主表!P249","v":997.99},{"$f":"[1]主表!Q249","v":3592.76},{"$f":"[1]主表!$G249","v":99799},50,5,25,5,124.599999999999,1]
[248,248,7,19,8,"逍遥期","前",8,{"$f":"[1]主表!N250","v":49695.714666666674},{"$f":"[1]主表!O250","v":1015.58},{"$f":"[1]主表!P250","v":1015.58},{"$f":"[1]主表!Q250","v":3656.09},{"$f":"[1]主表!$G250","v":101558},50,5,25,5,124.69999999999899,1]
[249,249,7,19,9,"逍遥期","前",9,{"$f":"[1]主表!N251","v":50692.684499999996},{"$f":"[1]主表!O251","v":1033.49},{"$f":"[1]主表!P251","v":1033.49},{"$f":"[1]主表!Q251","v":3720.56},{"$f":"[1]主表!$G251","v":103349},50,5,25,5,124.799999999999,1]
[250,250,7,19,10,"逍遥期","前",10,{"$f":"[1]主表!N252","v":54221.98333333333},{"$f":"[1]主表!O252","v":1102.82},{"$f":"[1]主表!P252","v":1102.82},{"$f":"[1]主表!Q252","v":4190.72},{"$f":"[1]主表!$G252","v":110282},50,5,25,5,124.899999999999,1]
[251,251,7,20,1,"逍遥期","中",1,{"$f":"[1]主表!N253","v":55310.19216666666},{"$f":"[1]主表!O253","v":1122.29},{"$f":"[1]主表!P253","v":1122.29},{"$f":"[1]主表!Q253","v":4264.7},{"$f":"[1]主表!$G253","v":112229},51,6,26,6,124.99999999999901,1]
[252,252,7,20,2,"逍遥期","中",2,{"$f":"[1]主表!N254","v":56419.739999999991},{"$f":"[1]主表!O254","v":1142.0999999999999},{"$f":"[1]主表!P254","v":1142.0999999999999},{"$f":"[1]主表!Q254","v":4339.9799999999996},{"$f":"[1]主表!$G254","v":114210},51,6,26,6,125.099999999999,1]
[253,253,7,20,3,"逍遥期","中",3,{"$f":"[1]主表!N255","v":57549.755499999992},{"$f":"[1]主表!O255","v":1162.23},{"$f":"[1]主表!P255","v":1162.23},{"$f":"[1]主表!Q255","v":4416.47},{"$f":"[1]主表!$G255","v":116223},51,6,26,6,125.19999999999899,1]
[254,254,7,20,4,"逍遥期","中",4,{"$f":"[1]主表!N256","v":58700.846999999994},{"$f":"[1]主表!O256","v":1182.69},{"$f":"[1]主表!P256","v":1182.69},{"$f":"[1]主表!Q256","v":4494.22},{"$f":"[1]主表!$G256","v":118269},51,6,26,6,125.299999999999,1]
[255,255,7,20,5,"逍遥期","中",5,{"$f":"[1]主表!N257","v":59877.109999999993},{"$f":"[1]主表!O257","v":1203.56},{"$f":"[1]主表!P257","v":1203.56},{"$f":"[1]主表!Q257","v":4573.53},{"$f":"[1]主表!$G257","v":120356},51,6,26,6,125.399999999999,1]
[256,256,7,20,6,"逍遥期","中",6,{"$f":"[1]主表!N258","v":61074.698666666663},{"$f":"[1]主表!O258","v":1224.76},{"$f":"[1]主表!P258","v":1224.76},{"$f":"[1]主表!Q258","v":4654.09},{"$f":"[1]主表!$G258","v":122476},52,6,26,6,125.49999999999901,1]
[257,257,7,20,7,"逍遥期","中",7,{"$f":"[1]主表!N259","v":62297.227333333321},{"$f":"[1]主表!O259","v":1246.3599999999999},{"$f":"[1]主表!P259","v":1246.3599999999999},{"$f":"[1]主表!Q259","v":4736.17},{"$f":"[1]主表!$G259","v":124636},52,6,26,6,125.599999999999,1]
[258,258,7,20,{"$f":"H262","v":8},"逍遥期","中",8,{"$f":"[1]主表!N260","v":63541.328999999998},{"$f":"[1]主表!O260","v":1268.29},{"$f":"[1]主表!P260","v":1268.29},{"$f":"[1]主表!Q260","v":4819.5},{"$f":"[1]主表!$G260","v":126829},52,6,26,6,125.699999999998,1]
[259,259,7,20,9,"逍遥期","中",9,{"$f":"[1]主表!N261","v":64811.136500000001},{"$f":"[1]主表!O261","v":1290.6300000000001},{"$f":"[1]主表!P261","v":1290.6300000000001},{"$f":"[1]主表!Q261","v":4904.3900000000003},{"$f":"[1]主表!$G261","v":129063},52,6,26,6,125.799999999999,1]
[260,260,7,20,10,"逍遥期","中",10,{"$f":"[1]主表!N262","v":69321.583333333328},{"$f":"[1]主表!O262","v":1377.25},{"$f":"[1]主表!P262","v":1377.25},{"$f":"[1]主表!Q262","v":5509},{"$f":"[1]主表!$G262","v":137725},52,6,26,6,125.899999999998,1]
[261,261,7,21,1,"逍遥期","后",1,{"$f":"[1]主表!N263","v":70705.675000000003},{"$f":"[1]主表!O263","v":1401.5},{"$f":"[1]主表!P263","v":1401.5},{"$f":"[1]主表!Q263","v":5606},{"$f":"[1]主表!$G263","v":140150},53,6,27,6,125.999999999998,1]
[262,262,7,21,2,"逍遥期","后",2,{"$f":"[1]主表!N264","v":72115.651666666672},{"$f":"[1]主表!O264","v":1426.15},{"$f":"[1]主表!P264","v":1426.15},{"$f":"[1]主表!Q264","v":5704.6},{"$f":"[1]主表!$G264","v":142615},53,6,27,6,126.099999999999,1]
[263,263,7,21,3,"逍遥期","后",3,{"$f":"[1]主表!N265","v":73556.721666666665},{"$f":"[1]主表!O265","v":1451.3},{"$f":"[1]主表!P265","v":1451.3},{"$f":"[1]主表!Q265","v":5805.2},{"$f":"[1]主表!$G265","v":145130},53,6,27,6,126.199999999998,1]
[264,264,7,21,4,"逍遥期","后",4,{"$f":"[1]主表!N266","v":75024.487999999998},{"$f":"[1]主表!O266","v":1476.86},{"$f":"[1]主表!P266","v":1476.86},{"$f":"[1]主表!Q266","v":5907.44},{"$f":"[1]主表!$G266","v":147686},53,6,27,6,126.299999999999,1]
[265,265,7,21,5,"逍遥期","后",5,{"$f":"[1]主表!N267","v":76522.65833333334},{"$f":"[1]主表!O267","v":1502.9},{"$f":"[1]主表!P267","v":1502.9},{"$f":"[1]主表!Q267","v":6011.6},{"$f":"[1]主表!$G267","v":150290},53,6,27,6,126.399999999998,1]
[266,266,7,21,6,"逍遥期","后",6,{"$f":"[1]主表!N268","v":78048.849000000002},{"$f":"[1]主表!O268","v":1529.37},{"$f":"[1]主表!P268","v":1529.37},{"$f":"[1]主表!Q268","v":6117.48},{"$f":"[1]主表!$G268","v":152937},54,6,27,6,126.499999999998,1]
[267,267,7,21,7,"逍遥期","后",7,{"$f":"[1]主表!N269","v":79602.699000000008},{"$f":"[1]主表!O269","v":1556.26},{"$f":"[1]主表!P269","v":1556.26},{"$f":"[1]主表!Q269","v":6225.04},{"$f":"[1]主表!$G269","v":155626},54,6,27,6,126.599999999999,1]
[268,268,7,21,8,"逍遥期","后",8,{"$f":"[1]主表!N270","v":81191.532666666666},{"$f":"[1]主表!O270","v":1583.71},{"$f":"[1]主表!P270","v":1583.71},{"$f":"[1]主表!Q270","v":6334.84},{"$f":"[1]主表!$G270","v":158371},54,6,{"$f":"P262+1","v":27},6,126.699999999998,1]
[269,269,7,21,9,"逍遥期","后",9,{"$f":"[1]主表!N271","v":82808.352333333329},{"$f":"[1]主表!O271","v":1611.58},{"$f":"[1]主表!P271","v":1611.58},{"$f":"[1]主表!Q271","v":6446.32},{"$f":"[1]主表!$G271","v":161158},54,6,27,6,126.799999999999,1]
[270,270,7,21,10,"逍遥期","后",10,{"$f":"[1]主表!N272","v":94034.36500000002},{"$f":"[1]主表!O272","v":1825.91},{"$f":"[1]主表!P272","v":1825.91},{"$f":"[1]主表!Q272","v":7668.82},{"$f":"[1]主表!$G272","v":182591},54,6,27,6,126.899999999998,1]
[271,271,7,19,1,"真神期","前",1,{"$f":"[1]主表!N273","v":95906.863666666672},{"$f":"[1]主表!O273","v":1858.06},{"$f":"[1]主表!P273","v":1858.06},{"$f":"[1]主表!Q273","v":7803.85},{"$f":"[1]主表!$G273","v":185806},55,6,28,6,126.999999999998,1]
[272,272,7,19,2,"真神期","前",2,{"$f":"[1]主表!N274","v":97816.352000000014},{"$f":"[1]主表!O274","v":1890.78},{"$f":"[1]主表!P274","v":1890.78},{"$f":"[1]主表!Q274","v":7941.28},{"$f":"[1]主表!$G274","v":189078},55,6,28,6,127.099999999999,1]
[273,273,7,19,3,"真神期","前",3,{"$f":"[1]主表!N275","v":99764.066500000015},{"$f":"[1]主表!O275","v":1924.09},{"$f":"[1]主表!P275","v":1924.09},{"$f":"[1]主表!Q275","v":8081.18},{"$f":"[1]主表!$G275","v":192409},55,6,28,6,127.199999999998,1]
[274,274,7,19,4,"真神期","前",4,{"$f":"[1]主表!N276","v":101749.17433333334},{"$f":"[1]主表!O276","v":1957.97},{"$f":"[1]主表!P276","v":1957.97},{"$f":"[1]主表!Q276","v":8223.4699999999993},{"$f":"[1]主表!$G276","v":195797},55,6,28,6,127.29999999999799,1]
[275,275,7,19,5,"真神期","前",5,{"$f":"[1]主表!N277","v":103773.43750000001},{"$f":"[1]主表!O277","v":1992.45},{"$f":"[1]主表!P277","v":1992.45},{"$f":"[1]主表!Q277","v":8368.2900000000009},{"$f":"[1]主表!$G277","v":199245},55,6,28,6,127.399999999998,1]
[276,276,7,19,6,"真神期","前",6,{"$f":"[1]主表!N278","v":105835.50000000001},{"$f":"[1]主表!O278","v":2027.5},{"$f":"[1]主表!P278","v":2027.5},{"$f":"[1]主表!Q278","v":8515.5},{"$f":"[1]主表!$G278","v":202750},56,6,28,6,127.499999999998,1]
[277,277,7,19,7,"真神期","前",7,{"$f":"[1]主表!N279","v":107937.13083333334},{"$f":"[1]主表!O279","v":2063.15},{"$f":"[1]主表!P279","v":2063.15},{"$f":"[1]主表!Q279","v":8665.23},{"$f":"[1]主表!$G279","v":206315},56,6,28,6,127.599999999998,1]
[278,278,7,19,8,"真神期","前",8,{"$f":"[1]主表!N280","v":110081.68599999999},{"$f":"[1]主表!O280","v":2099.46},{"$f":"[1]主表!P280","v":2099.46},{"$f":"[1]主表!Q280","v":8817.73},{"$f":"[1]主表!$G280","v":209946},56,6,28,6,127.699999999998,1]
[279,279,7,19,9,"真神期","前",9,{"$f":"[1]主表!N281","v":112269.39649999999},{"$f":"[1]主表!O281","v":2136.4299999999998},{"$f":"[1]主表!P281","v":2136.4299999999998},{"$f":"[1]主表!Q281","v":8973.01},{"$f":"[1]主表!$G281","v":213643},56,6,28,6,127.79999999999799,1]
[280,280,7,19,10,"真神期","前",10,{"$f":"[1]主表!N282","v":120063.14666666665},{"$f":"[1]主表!O282","v":2279.6799999999998},{"$f":"[1]主表!P282","v":2279.6799999999998},{"$f":"[1]主表!Q282","v":10030.59},{"$f":"[1]主表!$G282","v":227968},56,6,28,6,127.899999999998,1]
[281,281,7,20,1,"真神期","中",1,{"$f":"[1]主表!N283","v":122447.3045},{"$f":"[1]主表!O283","v":2319.81},{"$f":"[1]主表!P283","v":2319.81},{"$f":"[1]主表!Q283","v":10207.16},{"$f":"[1]主表!$G283","v":231981},57,6,29,6,127.999999999998,1]
[282,282,7,20,2,"真神期","中",2,{"$f":"[1]主表!N284","v":124876.26900000001},{"$f":"[1]主表!O284","v":2360.61},{"$f":"[1]主表!P284","v":2360.61},{"$f":"[1]主表!Q284","v":10386.68},{"$f":"[1]主表!$G284","v":236061},57,6,29,6,128.099999999998,1]
[283,283,7,20,3,"真神期","中",3,{"$f":"[1]主表!N285","v":127350.80483333336},{"$f":"[1]主表!O285","v":2402.09},{"$f":"[1]主表!P285","v":2402.09},{"$f":"[1]主表!Q285","v":10569.2},{"$f":"[1]主表!$G285","v":240209},57,6,29,6,128.199999999998,1]
[284,284,7,20,4,"真神期","中",4,{"$f":"[1]主表!N286","v":129878.58866666665},{"$f":"[1]主表!O286","v":2444.39},{"$f":"[1]主表!P286","v":2444.39},{"$f":"[1]主表!Q286","v":10755.32},{"$f":"[1]主表!$G286","v":244439},57,6,29,6,128.29999999999799,1]
[285,285,7,20,5,"真神期","中",5,{"$f":"[1]主表!N287","v":132452.98500000002},{"$f":"[1]主表!O287","v":2487.38},{"$f":"[1]主表!P287","v":2487.38},{"$f":"[1]主表!Q287","v":10944.47},{"$f":"[1]主表!$G287","v":248738},57,6,29,6,128.39999999999799,1]
[286,286,7,20,6,"真神期","中",6,{"$f":"[1]主表!N288","v":135077.43733333331},{"$f":"[1]主表!O288","v":2531.12},{"$f":"[1]主表!P288","v":2531.12},{"$f":"[1]主表!Q288","v":11136.93},{"$f":"[1]主表!$G288","v":253112},58,6,29,6,128.49999999999801,1]
[287,287,7,20,7,"真神期","中",7,{"$f":"[1]主表!N289","v":137752.74299999996},{"$f":"[1]主表!O289","v":2575.62},{"$f":"[1]主表!P289","v":2575.62},{"$f":"[1]主表!Q289","v":11332.73},{"$f":"[1]主表!$G289","v":257562},58,6,29,6,128.599999999998,1]
[288,288,7,20,8,"真神期","中",8,{"$f":"[1]主表!N290","v":140479.70399999997},{"$f":"[1]主表!O290","v":2620.89},{"$f":"[1]主表!P290","v":2620.89},{"$f":"[1]主表!Q290","v":11531.92},{"$f":"[1]主表!$G290","v":262089},58,6,29,6,128.699999999998,1]
[289,289,7,20,9,"真神期","中",9,{"$f":"[1]主表!N291","v":143261.81283333333},{"$f":"[1]主表!O291","v":2666.99},{"$f":"[1]主表!P291","v":2666.99},{"$f":"[1]主表!Q291","v":11734.76},{"$f":"[1]主表!$G291","v":266699},58,6,29,6,128.79999999999799,1]
[290,290,7,20,10,"真神期","中",10,{"$f":"[1]主表!N292","v":153197.82333333333},{"$f":"[1]主表!O292","v":2845.78},{"$f":"[1]主表!P292","v":2845.78},{"$f":"[1]主表!Q292","v":13090.59},{"$f":"[1]主表!$G292","v":284578},58,6,29,6,128.89999999999799,1]
[291,291,7,21,1,"真神期","后",1,{"$f":"[1]主表!N293","v":156228.41},{"$f":"[1]主表!O293","v":2895.8},{"$f":"[1]主表!P293","v":2895.8},{"$f":"[1]主表!Q293","v":13320.68},{"$f":"[1]主表!$G293","v":289580},59,6,30,6,128.99999999999801,1]
[292,292,7,21,2,"真神期","后",2,{"$f":"[1]主表!N294","v":159320.94999999998},{"$f":"[1]主表!O294","v":2946.75},{"$f":"[1]主表!P294","v":2946.75},{"$f":"[1]主表!Q294","v":13555.05},{"$f":"[1]主表!$G294","v":294675},59,6,30,6,129.099999999998,1]
[293,293,7,21,3,"真神期","后",3,{"$f":"[1]主表!N295","v":162471.43416666664},{"$f":"[1]主表!O295","v":2998.55},{"$f":"[1]主表!P295","v":2998.55},{"$f":"[1]主表!Q295","v":13793.33},{"$f":"[1]主表!$G295","v":299855},59,6,30,6,129.199999999998,1]
[294,294,7,21,4,"真神期","后",4,{"$f":"[1]主表!N296","v":165680.16},{"$f":"[1]主表!O296","v":3051.2},{"$f":"[1]主表!P296","v":3051.2},{"$f":"[1]主表!Q296","v":14035.52},{"$f":"[1]主表!$G296","v":305120},59,6,30,6,129.29999999999799,1]
[295,295,7,21,5,"真神期","后",5,{"$f":"[1]主表!N297","v":168956.67583333331},{"$f":"[1]主表!O297","v":3104.87},{"$f":"[1]主表!P297","v":3104.87},{"$f":"[1]主表!Q297","v":14282.4},{"$f":"[1]主表!$G297","v":310487},59,6,30,6,129.39999999999799,1]
[296,296,7,21,6,"真神期","后",6,{"$f":"[1]主表!N298","v":172259.348},{"$f":"[1]主表!O298","v":3158.79},{"$f":"[1]主表!P298","v":3158.79},{"$f":"[1]主表!Q298","v":14530.43},{"$f":"[1]主表!$G298","v":315879},60,6,30,6,129.49999999999801,1]
[297,297,7,21,7,"真神期","后",7,{"$f":"[1]主表!N299","v":175628.70499999996},{"$f":"[1]主表!O299","v":3213.7},{"$f":"[1]主表!P299","v":3213.7},{"$f":"[1]主表!Q299","v":14783.02},{"$f":"[1]主表!$G299","v":321370},60,6,30,6,129.599999999998,1]
[298,298,7,21,8,"真神期","后",8,{"$f":"[1]主表!N300","v":179061.25966666668},{"$f":"[1]主表!O300","v":3269.53},{"$f":"[1]主表!P300","v":3269.53},{"$f":"[1]主表!Q300","v":15039.84},{"$f":"[1]主表!$G300","v":326953},60,6,30,6,129.699999999998,1]
[299,299,7,21,9,"真神期","后",9,{"$f":"[1]主表!N301","v":182561.72466666668},{"$f":"[1]主表!O301","v":3326.36},{"$f":"[1]主表!P301","v":3326.36},{"$f":"[1]主表!Q301","v":15301.26},{"$f":"[1]主表!$G301","v":332636},60,6,30,6,129.79999999999799,1]
[300,300,7,21,10,"真神期","后",10,{"$f":"[1]主表!N302","v":207240},{"$f":"[1]主表!O302","v":3768},{"$f":"[1]主表!P302","v":3768},{"$f":"[1]主表!Q302","v":18086.400000000001},{"$f":"[1]主表!$G302","v":376800},60,6,30,6,129.89999999999799,1]