{"text_format":"2","workbook":"xlsx","n_sheets":3,"sheets":["LevelbattleConfig","GroupConfig","强度验算"],"not_rendered":{"charts":0,"images":0,"macros":0,"external_links":0,"defined_names":2,"comments":0,"pivot_tables":0},"unopened":[],"bounds":{"document_bytes":16777216,"sheet_cells":100000,"run_cost":"one","rows_first":2000,"rows_last":500,"rows_between":2000,"halvings":0,"cell_chars":16384,"cell_head_chars":4096},"cells_cut":0,"cells_raw":0,"read":"whole","date_system":"1900"}

{"sheet":"LevelbattleConfig","index":0,"n_rows":47,"n_cols":16,"rows_kept":47,"cut":false,"hidden":false,"merged":[]}
["ID",null,"Group","awardDrop","awardNum","combatTime","combatType","MonsterGroupTruePower","MonsterGroupPower"]
["int",null,"int[]","int[]","int[]","float","int","int","int"]
[]
["战斗组ID","使用位置","包含的组ID\n（就是第二页的ID)","奖励随机掉落组","奖励道具数量","用时(秒）","玩法类型\n1.正常\n2.追逐\n3.站桩\n4.保卫水晶\n5.至少完成x波 （406260）\n6.至少坚持x秒 （406261）","怪物战斗组修为（实际）","怪物战斗组修为（表现）","评分修正\n例如3人参战填75%",null,"怪物等级上浮"]
[100001,"主线1-1",{"$f":"A5","v":100001},-1,-1,120,1,100,100,null,"1-1"]
[100002,"主线1-1",{"$f":"A6","v":100002},-1,-1,120,1,100,100,null,"1-1"]
[100003,"主线1-1",{"$f":"A7","v":100003},-1,-1,120,1,100,100,null,"1-1",1]
[100004,"boss",{"$f":"A8","v":100004},-1,-1,120,1,100,100,null,"1-1",1]
[]
[]
[1002,{"$f":"_xlfn.TEXTJOIN(\"-\",1,M11:N11)","v":"主线-击败结界兽"},1002,-1,-1,120,1,100,100,null,null,null,"主线","击败结界兽",10004,5]
[{"$f":"A11+1","v":1003},"主线-击败痴道人",1003,-1,-1,120,1,100,100,null,null,null,"主线","击败痴道人",10007,15]
[1004,"主线-妖兽横行",1004,-1,-1,120,1,100,100,null,null,null,"主线","妖兽横行",10010,25]
[1005,"主线-击败后山小妖",1005,-1,-1,120,1,100,100,null,null,null,"主线","击败后山小妖",10015,45]
[1006,"主线-击败夜袭的妖兽",1006,-1,-1,120,1,100,100,null,null,null,"主线","击败夜袭的妖兽",10016,50]
[1007,"主线-击败峰顶的妖王",1007,-1,-1,120,1,100,100,null,null,null,"主线","击败峰顶的妖王",10017,55]
[1008,"主线-击败仙山的阵眼妖兽",1008,-1,-1,120,1,100,100,null,null,null,"主线","击败仙山的阵眼妖兽",10023,85]
[1009,"主线-击杀灵兽获得天肥",1009,-1,-1,120,1,100,100,null,null,null,"主线","击杀灵兽获得天肥",10025,95]
[1010,{"$f":"_xlfn.TEXTJOIN(\"-\",1,M19:N19)","v":"主线-击败小麻雀的幻影"},{"$f":"A19","v":1010},-1,-1,120,1,100,100,null,null,null,"主线","击败小麻雀的幻影",10027,100]
[{"$f":"A19+1","v":1011},{"$f":"_xlfn.TEXTJOIN(\"-\",1,M20:N20)","v":"主线-击败痴道人的幻影"},{"$f":"A20","v":1011},-1,-1,120,1,100,100,null,null,null,"主线","击败痴道人的幻影",10027,110]
[{"$f":"A20+1","v":1012},{"$f":"_xlfn.TEXTJOIN(\"-\",1,M21:N21)","v":"主线-樗木之灵的幻影"},{"$f":"A21","v":1012},-1,-1,120,1,100,100,null,null,null,"主线","樗木之灵的幻影",10027,120]
[{"$f":"A21+1","v":1013},{"$f":"_xlfn.TEXTJOIN(\"-\",1,M22:N22)","v":"主线-击败心魔"},{"$f":"A22","v":1013},-1,-1,120,1,100,100,null,null,null,"主线","击败心魔",10030,140]
[{"$f":"A22+1","v":1014},{"$f":"_xlfn.TEXTJOIN(\"-\",1,M23:N23)","v":"主线-击败北海妖兽"},{"$f":"A23","v":1014},-1,-1,120,1,100,100,null,null,null,"主线","击败北海妖兽",10031,150]
[]
[2001,"命运峰-第1层",{"$f":"A25","v":2001},-1,-1,120,1,100,100]
[2002,"命运峰-第2层",{"$f":"A26","v":2002},-1,-1,120,1,100,100]
[2003,"命运峰-第3层",2003,-1,-1,120,1,100,100]
[2004,"命运峰-第4层",2004,-1,-1,120,1,100,100]
[2005,"命运峰-第5层",2005,-1,-1,120,1,100,100]
[2006,"命运峰-第6层",2006,-1,-1,120,1,100,100]
[2007,"命运峰-第7层",2007,-1,-1,120,1,100,100]
[2008,"命运峰-第8层",2008,-1,-1,120,1,100,100]
[2009,"命运峰-第9层",2009,-1,-1,120,1,100,100]
[2010,"命运峰-第10层",2010,-1,-1,120,1,100,100]
[2011,"命运峰-第11层",2011,-1,-1,120,1,100,100]
[2012,"命运峰-第12层",2012,-1,-1,120,1,100,100]
[2013,"命运峰-第13层",2013,-1,-1,120,1,100,100]
[2014,"命运峰-第14层",2014,-1,-1,120,1,100,100]
[2015,"命运峰-第15层",2015,-1,-1,120,1,100,100]
[2016,"命运峰-第16层",2016,-1,-1,120,1,100,100]
[2017,"命运峰-第17层",2017,-1,-1,120,1,100,100]
[2018,"命运峰-第18层",2018,-1,-1,120,1,100,100]
[2019,"命运峰-第19层",2019,-1,-1,120,1,100,100]
[2020,"命运峰-第20层",2020,-1,-1,120,1,100,100]
[]
[]
[101,31]

{"sheet":"GroupConfig","index":1,"n_rows":48,"n_cols":31,"rows_kept":48,"cut":false,"hidden":false,"merged":[]}
["ID",null,"GroupMonsterLevel","GroupMonster","qiangDu","levelAdd"]
["int",null,"int[]","int[]","int[]","int[]"]
[]
["组ID","常用阵容ID","具体怪物等级\n-1代表跟随玩家等级\n-1后面可填动态修正等级","每组具体怪","每个怪的比例强度\n一个都不填就是默认强度","等级额外添加值","模拟总强度，仅供参考\n100是和玩家强度相当","怪物1","怪物2","怪物3","怪物4","怪物5","怪物6","总强度","怪物1强度占比","怪物2强度占比","怪物3强度占比","怪物4强度占比","怪物5强度占比","怪物6强度占比","怪物1等级降低","怪物2等级降低","怪物3等级降低","怪物4等级降低","怪物5等级降低","怪物6等级降低"]
[100001,100001,-1,{"$f":"_xlfn.TEXTJOIN(\";\",1,H5:M5)","v":"5001;1002"},{"$f":"_xlfn.TEXTJOIN(\";\",1,O5:T5)","v":"80;40"},{"$f":"_xlfn.TEXTJOIN(\";\",1,U5:Z5)","v":"0;-2"},{"$f":"SUM(IF(H5<>\"\",IF(O5<>\"\",O5,100),0),IF(I5<>\"\",IF(P5<>\"\",P5,100),0),IF(J5<>\"\",IF(Q5<>\"\",Q5,100),0),IF(K5<>\"\",IF(R5<>\"\",R5,100),0),IF(L5<>\"\",IF(S5<>\"\",S5,100),0),IF(M5<>\"\",IF(T5<>\"\",T5,100),0))","v":120},5001,1002,{"$nulls":4},{"$f":"SUM(O5:T5)","v":120},80,40,{"$nulls":4},0,-2]
[100002,100002,-1,{"$f":"_xlfn.TEXTJOIN(\";\",1,H6:M6)","v":"1002"},{"$f":"_xlfn.TEXTJOIN(\";\",1,O6:T6)","v":""},null,{"$f":"SUM(IF(H6<>\"\",IF(O6<>\"\",O6,100),0),IF(I6<>\"\",IF(P6<>\"\",P6,100),0),IF(J6<>\"\",IF(Q6<>\"\",Q6,100),0),IF(K6<>\"\",IF(R6<>\"\",R6,100),0),IF(L6<>\"\",IF(S6<>\"\",S6,100),0),IF(M6<>\"\",IF(T6<>\"\",T6,100),0))","v":100},1002,{"$nulls":5},{"$f":"SUM(O6:T6)","v":0}]
[100003,100003,-1,"1003","",null,100,1003,{"$nulls":5},0]
[100004,100004,-1,{"$f":"_xlfn.TEXTJOIN(\";\",1,H8:M8)","v":"1004"},"",null,100,1004,{"$nulls":5},0,{"$nulls":15},"等模型来了再配置"]
[100005,100005,-1,"1005","",null,100,1005,{"$nulls":5},0,{"$nulls":15},9002]
[100006,100006,-1,"1002","",null,100,1002,{"$nulls":5},0,{"$nulls":15},9001]
[100007,100007,-1,"1003","",null,100,1003,{"$nulls":5},0,{"$nulls":15},9003]
[100008,100008,-1,"1004","",null,100,1004,{"$nulls":5},0,{"$nulls":15},1001,1002]
[100009,100009,-1,"1005","",null,100,1005,{"$nulls":5},0,{"$nulls":15},5006]
[null,null,null,"","",null,0,{"$nulls":6},0,{"$nulls":15},5007]
[1002,{"$f":"LevelbattleConfig!B11","v":"主线-击败结界兽"},5,"5001","",null,100,5001,{"$nulls":5},0,{"$nulls":15},9006]
[{"$f":"A15+1","v":1003},{"$f":"LevelbattleConfig!B12","v":"主线-击败痴道人"},15,"5002","",null,100,5002,{"$nulls":5},0,{"$nulls":15},9004]
[{"$f":"A16+1","v":1004},{"$f":"LevelbattleConfig!B13","v":"主线-妖兽横行"},25,"5003","",null,100,5003,{"$nulls":5},0]
[1005,{"$f":"LevelbattleConfig!B14","v":"主线-击败后山小妖"},45,"5004","",null,100,5004,{"$nulls":5},0]
[1006,{"$f":"LevelbattleConfig!B15","v":"主线-击败夜袭的妖兽"},50,"5005","",null,100,5005,{"$nulls":5},0]
[1007,{"$f":"LevelbattleConfig!B16","v":"主线-击败峰顶的妖王"},55,"5006","",null,100,5006,{"$nulls":5},0]
[1008,{"$f":"LevelbattleConfig!B17","v":"主线-击败仙山的阵眼妖兽"},85,"5007","",null,100,5007,{"$nulls":5},0]
[1009,{"$f":"LevelbattleConfig!B18","v":"主线-击杀灵兽获得天肥"},95,"5007","",null,100,5007,{"$nulls":5},0]
[1010,{"$f":"LevelbattleConfig!B19","v":"主线-击败小麻雀的幻影"},100,{"$f":"_xlfn.TEXTJOIN(\";\",1,H23:M23)","v":"5007"},{"$f":"_xlfn.TEXTJOIN(\";\",1,O23:T23)","v":""},null,{"$f":"SUM(IF(H23<>\"\",IF(O23<>\"\",O23,100),0),IF(I23<>\"\",IF(P23<>\"\",P23,100),0),IF(J23<>\"\",IF(Q23<>\"\",Q23,100),0),IF(K23<>\"\",IF(R23<>\"\",R23,100),0),IF(L23<>\"\",IF(S23<>\"\",S23,100),0),IF(M23<>\"\",IF(T23<>\"\",T23,100),0))","v":100},5007,{"$nulls":5},{"$f":"SUM(O23:T23)","v":0}]
[{"$f":"A23+1","v":1011},{"$f":"LevelbattleConfig!B20","v":"主线-击败痴道人的幻影"},110,{"$f":"_xlfn.TEXTJOIN(\";\",1,H24:M24)","v":"5007"},{"$f":"_xlfn.TEXTJOIN(\";\",1,O24:T24)","v":""},null,{"$f":"SUM(IF(H24<>\"\",IF(O24<>\"\",O24,100),0),IF(I24<>\"\",IF(P24<>\"\",P24,100),0),IF(J24<>\"\",IF(Q24<>\"\",Q24,100),0),IF(K24<>\"\",IF(R24<>\"\",R24,100),0),IF(L24<>\"\",IF(S24<>\"\",S24,100),0),IF(M24<>\"\",IF(T24<>\"\",T24,100),0))","v":100},5007,{"$nulls":5},{"$f":"SUM(O24:T24)","v":0}]
[1012,{"$f":"LevelbattleConfig!B21","v":"主线-樗木之灵的幻影"},120,{"$f":"_xlfn.TEXTJOIN(\";\",1,H25:M25)","v":"5007"},{"$f":"_xlfn.TEXTJOIN(\";\",1,O25:T25)","v":""},null,{"$f":"SUM(IF(H25<>\"\",IF(O25<>\"\",O25,100),0),IF(I25<>\"\",IF(P25<>\"\",P25,100),0),IF(J25<>\"\",IF(Q25<>\"\",Q25,100),0),IF(K25<>\"\",IF(R25<>\"\",R25,100),0),IF(L25<>\"\",IF(S25<>\"\",S25,100),0),IF(M25<>\"\",IF(T25<>\"\",T25,100),0))","v":100},5007,{"$nulls":5},{"$f":"SUM(O25:T25)","v":0}]
[1013,{"$f":"LevelbattleConfig!B22","v":"主线-击败心魔"},140,{"$f":"_xlfn.TEXTJOIN(\";\",1,H26:M26)","v":"5007"},{"$f":"_xlfn.TEXTJOIN(\";\",1,O26:T26)","v":""},null,{"$f":"SUM(IF(H26<>\"\",IF(O26<>\"\",O26,100),0),IF(I26<>\"\",IF(P26<>\"\",P26,100),0),IF(J26<>\"\",IF(Q26<>\"\",Q26,100),0),IF(K26<>\"\",IF(R26<>\"\",R26,100),0),IF(L26<>\"\",IF(S26<>\"\",S26,100),0),IF(M26<>\"\",IF(T26<>\"\",T26,100),0))","v":100},5007,{"$nulls":5},{"$f":"SUM(O26:T26)","v":0}]
[1014,{"$f":"LevelbattleConfig!B23","v":"主线-击败北海妖兽"},150,{"$f":"_xlfn.TEXTJOIN(\";\",1,H27:M27)","v":"5007"},{"$f":"_xlfn.TEXTJOIN(\";\",1,O27:T27)","v":""},null,{"$f":"SUM(IF(H27<>\"\",IF(O27<>\"\",O27,100),0),IF(I27<>\"\",IF(P27<>\"\",P27,100),0),IF(J27<>\"\",IF(Q27<>\"\",Q27,100),0),IF(K27<>\"\",IF(R27<>\"\",R27,100),0),IF(L27<>\"\",IF(S27<>\"\",S27,100),0),IF(M27<>\"\",IF(T27<>\"\",T27,100),0))","v":100},5007,{"$nulls":5},{"$f":"SUM(O27:T27)","v":0}]
[]
[2001,"命运峰-第1层","40;40",{"$f":"_xlfn.TEXTJOIN(\";\",1,H29:M29)","v":"5001;1001"},{"$f":"_xlfn.TEXTJOIN(\";\",1,O29:T29)","v":"70;30"},null,{"$f":"SUM(IF(H29<>\"\",IF(O29<>\"\",O29,100),0),IF(I29<>\"\",IF(P29<>\"\",P29,100),0),IF(J29<>\"\",IF(Q29<>\"\",Q29,100),0),IF(K29<>\"\",IF(R29<>\"\",R29,100),0),IF(L29<>\"\",IF(S29<>\"\",S29,100),0),IF(M29<>\"\",IF(T29<>\"\",T29,100),0))","v":100},5001,1001,{"$nulls":4},{"$f":"SUM(O29:T29)","v":100},70,30,{"$nulls":4},70,30]
[2002,"命运峰-第2层","50;50",{"$f":"_xlfn.TEXTJOIN(\";\",1,H30:M30)","v":"5002;1002"},{"$f":"_xlfn.TEXTJOIN(\";\",1,O30:T30)","v":"70;30"},null,{"$f":"SUM(IF(H30<>\"\",IF(O30<>\"\",O30,100),0),IF(I30<>\"\",IF(P30<>\"\",P30,100),0),IF(J30<>\"\",IF(Q30<>\"\",Q30,100),0),IF(K30<>\"\",IF(R30<>\"\",R30,100),0),IF(L30<>\"\",IF(S30<>\"\",S30,100),0),IF(M30<>\"\",IF(T30<>\"\",T30,100),0))","v":100},5002,1002,{"$nulls":4},{"$f":"SUM(O30:T30)","v":100},70,30,{"$nulls":4},70,30]
[2003,"命运峰-第3层","60;60","5003;1003","70;30",null,100,5003,1003,{"$nulls":4},100,70,30,{"$nulls":4},70,30]
[2004,"命运峰-第4层","70;70","5004;1004","70;30",null,100,5004,1004,{"$nulls":4},100,70,30,{"$nulls":4},70,30]
[2005,"命运峰-第5层","80;80","5005;1005","70;30",null,100,5005,1005,{"$nulls":4},100,70,30,{"$nulls":4},70,30]
[2006,"命运峰-第6层",90,"5001;1001","70;30",null,100,5001,1001,{"$nulls":4},100,70,30,{"$nulls":4},70,30]
[2007,"命运峰-第7层",100,"5002;1002","70;30",null,100,5002,1002,{"$nulls":4},100,70,30,{"$nulls":4},70,30]
[2008,"命运峰-第8层",110,"5003;1003","70;30",null,100,5003,1003,{"$nulls":4},100,70,30,{"$nulls":4},70,30]
[2009,"命运峰-第9层",120,"5004;1004","70;30",null,100,5004,1004,{"$nulls":4},100,70,30,{"$nulls":4},70,30]
[2010,"命运峰-第10层",130,"5005;1005","70;30",null,100,5005,1005,{"$nulls":4},100,70,30,{"$nulls":4},70,30]
[2011,"命运峰-第11层",140,"5001;1001","70;30",null,100,5001,1001,{"$nulls":4},100,70,30,{"$nulls":4},70,30]
[2012,"命运峰-第12层",150,"5002;1002","70;30",null,100,5002,1002,{"$nulls":4},100,70,30,{"$nulls":4},70,30]
[2013,"命运峰-第13层",160,"5003;1003","70;30",null,100,5003,1003,{"$nulls":4},100,70,30,{"$nulls":4},70,30]
[2014,"命运峰-第14层",170,"5004;1004","70;30",null,100,5004,1004,{"$nulls":4},100,70,30,{"$nulls":4},70,30]
[2015,"命运峰-第15层",180,"5005;1005","70;30",null,100,5005,1005,{"$nulls":4},100,70,30,{"$nulls":4},70,30]
[2016,"命运峰-第16层",190,"5001;1001","70;30",null,100,5001,1001,{"$nulls":4},100,70,30,{"$nulls":4},70,30]
[2017,"命运峰-第17层",200,"5002;1002","70;30",null,100,5002,1002,{"$nulls":4},100,70,30,{"$nulls":4},70,30]
[2018,"命运峰-第18层",210,"5003;1003","70;30",null,100,5003,1003,{"$nulls":4},100,70,30,{"$nulls":4},70,30]
[2019,"命运峰-第19层",220,"5004;1004","70;30",null,100,5004,1004,{"$nulls":4},100,70,30,{"$nulls":4},70,30]
[2020,"命运峰-第20层",230,"5005;1005","70;30",null,100,5005,1005,{"$nulls":4},100,70,30,{"$nulls":4},70,30]

{"sheet":"强度验算","index":2,"n_rows":38,"n_cols":14,"rows_kept":38,"cut":false,"hidden":false,"merged":[]}
[null,"生存修正","生命","攻击修正","对拼修正","秒伤","怪物存活时间",null,"玩家打怪物",null,null,"怪物打玩家"]
[{"$nulls":8},"阶段1","阶段2",null,"阶段1","阶段2"]
["怪物1",null,2000,null,null,100,{"$f":"C3/100","v":20},null,{"$f":"G3*F3","v":2000}]
[]
[{"$nulls":6},1.2,null,{"$f":"SUM(I6:I7)","v":1800},{"$f":"SUM(J6:J7)","v":600},null,{"$f":"SUM(L6:L7)","v":1846.05},{"$f":"SUM(M6:M7)","v":153.95000000000005},{"$f":"SUM(L5:M5)","v":2000}]
["主怪",0.9,{"$f":"C$3*$B6","v":1800},0.76900000000000002,{"$f":"B6/SUM(B$6:B$7)","v":0.75},{"$f":"F$3*$D6","v":76.900000000000006},{"$f":"C6/F$3","v":18},{"$f":"B6/D6","v":1.1703511053315996},{"$f":"G6*F$3","v":1800},null,null,{"$f":"F6*G6","v":1384.2}]
["辅怪1",{"$f":"C7/C$3","v":0.3},{"$f":"J7","v":600},{"$f":"F7/F$3","v":0.25658333333333333},{"$f":"B7/SUM(B$6:B$7)","v":0.25},{"$f":"(C$3-L6)/G7","v":25.658333333333331},{"$f":"G$3*G5","v":24},{"$f":"B7/D7","v":1.1692107827216629},null,{"$f":"F$3*(G7-G6)","v":600},null,{"$f":"F7*G6","v":461.84999999999997},{"$f":"C$3-L5","v":153.95000000000005}]
[]
[{"$nulls":6},{"$f":"G5","v":1.2},null,{"$f":"SUM(I10:I11)","v":1600},{"$f":"SUM(J10:J11)","v":800},null,{"$f":"SUM(L10:L11)","v":1714.1333333333332},{"$f":"SUM(M10:M11)","v":285.86666666666679},{"$f":"SUM(L9:M9)","v":2000}]
["主怪",0.8,{"$f":"C$3*$B10","v":1600},0.71399999999999997,{"$f":"B10/SUM(B$10:B$11)","v":0.66666666666666663},{"$f":"F$3*$D10","v":71.399999999999991},{"$f":"C10/F$3","v":16},{"$f":"B10/D10","v":1.1204481792717087},{"$f":"G10*F$3","v":1600},null,null,{"$f":"F10*G10","v":1142.3999999999999}]
["辅怪1",{"$f":"C11/C$3","v":0.4},{"$f":"J11","v":800},{"$f":"F11/F$3","v":0.35733333333333339},{"$f":"B11/SUM(B$10:B$11)","v":0.33333333333333331},{"$f":"(C$3-L10)/G11","v":35.733333333333341},{"$f":"G$3*G9","v":24},{"$f":"B11/D11","v":1.1194029850746268},null,{"$f":"F$3*(G11-G10)","v":800},null,{"$f":"F11*G10","v":571.73333333333346},{"$f":"C$3-L9","v":285.86666666666679}]
[]
[{"$nulls":6},{"$f":"G5","v":1.2},null,{"$f":"SUM(I14:I15)","v":1400},{"$f":"SUM(J14:J15)","v":1000},null,{"$f":"SUM(L14:L15)","v":1541.1666666666665},{"$f":"SUM(M14:M15)","v":458.83333333333348},{"$f":"SUM(L13:M13)","v":2000}]
["主怪",0.7,{"$f":"C$3*$B14","v":1400},0.64200000000000002,{"$f":"B14/SUM(B$14:B$15)","v":0.58333333333333337},{"$f":"F$3*$D14","v":64.2},{"$f":"C14/F$3","v":14},{"$f":"B14/D14","v":1.0903426791277258},{"$f":"G14*F$3","v":1400},null,null,{"$f":"F14*G14","v":898.80000000000007}]
["辅怪1",{"$f":"C15/C$3","v":0.5},{"$f":"J15","v":1000},{"$f":"F15/F$3","v":0.45883333333333326},{"$f":"B15/SUM(B$14:B$15)","v":0.41666666666666669},{"$f":"(C$3-L14)/G15","v":45.883333333333326},{"$f":"G$3*G13","v":24},{"$f":"B15/D15","v":1.0897203051216857},null,{"$f":"F$3*(G15-G14)","v":1000},null,{"$f":"F15*G14","v":642.36666666666656},{"$f":"C$3-L13","v":458.83333333333348}]
[]
[{"$nulls":6},{"$f":"G5","v":1.2},null,{"$f":"SUM(I18:I19)","v":1200},{"$f":"SUM(J18:J19)","v":1200},null,{"$f":"SUM(L18:L19)","v":1333.6},{"$f":"SUM(M18:M19)","v":666.40000000000009},{"$f":"SUM(L17:M17)","v":2000}]
["主怪",0.6,{"$f":"C$3*$B18","v":1200},0.55600000000000005,{"$f":"B18/SUM(B$18:B$19)","v":0.5},{"$f":"F$3*$D18","v":55.600000000000009},{"$f":"C18/F$3","v":12},{"$f":"B18/D18","v":1.079136690647482},{"$f":"G18*F$3","v":1200},null,null,{"$f":"F18*G18","v":667.2}]
["辅怪1",{"$f":"C19/C$3","v":0.6},{"$f":"J19","v":1200},{"$f":"F19/F$3","v":0.55533333333333335},{"$f":"B19/SUM(B$18:B$19)","v":0.5},{"$f":"(C$3-L18)/G19","v":55.533333333333331},{"$f":"G$3*G17","v":24},{"$f":"B19/D19","v":1.0804321728691475},null,{"$f":"F$3*(G19-G18)","v":1200},null,{"$f":"F19*G18","v":666.4},{"$f":"C$3-L17","v":666.40000000000009}]
[]
[]
[]
[]
[{"$nulls":6},1.3,null,{"$f":"SUM(I25:I26)","v":1800},{"$f":"SUM(J25:J26)","v":800},null,{"$f":"SUM(L25:L26)","v":1810.523076923077},{"$f":"SUM(M25:M26)","v":189.47692307692296},{"$f":"SUM(L24:M24)","v":2000}]
["主怪",0.9,{"$f":"C$3*$B25","v":1800},0.76900000000000002,null,{"$f":"F$3*$D25","v":76.900000000000006},{"$f":"C25/F$3","v":18},{"$f":"B25/D25","v":1.1703511053315996},{"$f":"G25*F$3","v":1800},null,null,{"$f":"F25*G25","v":1384.2}]
["辅怪1",{"$f":"C26/C$3","v":0.4},{"$f":"J26","v":800},{"$f":"F26/F$3","v":0.23684615384615385},null,{"$f":"(C$3-L25)/G26","v":23.684615384615384},{"$f":"G$3*G24","v":26},{"$f":"B26/D26","v":1.6888600194868464},null,{"$f":"F$3*(G26-G25)","v":800},null,{"$f":"F26*G25","v":426.32307692307688},{"$f":"C$3-L24","v":189.47692307692296}]
[]
[{"$nulls":6},{"$f":"G24","v":1.3},null,{"$f":"SUM(I29:I30)","v":1600},{"$f":"SUM(J29:J30)","v":1000},null,{"$f":"SUM(L29:L30)","v":1670.1538461538462},{"$f":"SUM(M29:M30)","v":329.84615384615381},{"$f":"SUM(L28:M28)","v":2000}]
["主怪",0.8,{"$f":"C$3*$B29","v":1600},0.71399999999999997,null,{"$f":"F$3*$D29","v":71.399999999999991},{"$f":"C29/F$3","v":16},{"$f":"B29/D29","v":1.1204481792717087},{"$f":"G29*F$3","v":1600},null,null,{"$f":"F29*G29","v":1142.3999999999999}]
["辅怪1",{"$f":"C30/C$3","v":0.5},{"$f":"J30","v":1000},{"$f":"F30/F$3","v":0.3298461538461539},null,{"$f":"(C$3-L29)/G30","v":32.984615384615388},{"$f":"G$3*G28","v":26},{"$f":"B30/D30","v":1.5158582089552237},null,{"$f":"F$3*(G30-G29)","v":1000},null,{"$f":"F30*G29","v":527.75384615384621},{"$f":"C$3-L28","v":329.84615384615381}]
[]
[{"$nulls":6},{"$f":"G24","v":1.3},null,{"$f":"SUM(I33:I34)","v":1400},{"$f":"SUM(J33:J34)","v":1200},null,{"$f":"SUM(L33:L34)","v":1491.7538461538461},{"$f":"SUM(M33:M34)","v":508.2461538461539},{"$f":"SUM(L32:M32)","v":2000}]
["主怪",0.7,{"$f":"C$3*$B33","v":1400},0.64200000000000002,null,{"$f":"F$3*$D33","v":64.2},{"$f":"C33/F$3","v":14},{"$f":"B33/D33","v":1.0903426791277258},{"$f":"G33*F$3","v":1400},null,null,{"$f":"F33*G33","v":898.80000000000007}]
["辅怪1",{"$f":"C34/C$3","v":0.6},{"$f":"J34","v":1200},{"$f":"F34/F$3","v":0.42353846153846147},null,{"$f":"(C$3-L33)/G34","v":42.353846153846149},{"$f":"G$3*G32","v":26},{"$f":"B34/D34","v":1.4166363966581912},null,{"$f":"F$3*(G34-G33)","v":1200},null,{"$f":"F34*G33","v":592.95384615384614},{"$f":"C$3-L32","v":508.2461538461539}]
[]
[{"$nulls":6},{"$f":"G24","v":1.3},null,{"$f":"SUM(I37:I38)","v":1200},{"$f":"SUM(J37:J38)","v":1400},null,{"$f":"SUM(L37:L38)","v":1282.3384615384616},{"$f":"SUM(M37:M38)","v":717.66153846153838},{"$f":"SUM(L36:M36)","v":2000}]
["主怪",0.6,{"$f":"C$3*$B37","v":1200},0.55600000000000005,null,{"$f":"F$3*$D37","v":55.600000000000009},{"$f":"C37/F$3","v":12},{"$f":"B37/D37","v":1.079136690647482},{"$f":"G37*F$3","v":1200},null,null,{"$f":"F37*G37","v":667.2}]
["辅怪1",{"$f":"C38/C$3","v":0.7},{"$f":"J38","v":1400},{"$f":"F38/F$3","v":0.51261538461538458},null,{"$f":"(C$3-L37)/G38","v":51.261538461538457},{"$f":"G$3*G36","v":26},{"$f":"B38/D38","v":1.365546218487395},null,{"$f":"F$3*(G38-G37)","v":1400},null,{"$f":"F38*G37","v":615.13846153846146},{"$f":"C$3-L36","v":717.66153846153838}]