{"text_format":"2","workbook":"xlsx","n_sheets":7,"sheets":["EventConfig","EventLinkConfig","EventConditionConfig","条件类型查询","产出tag查询","EventNPC","XianTuLogConfig"],"not_rendered":{"charts":0,"images":0,"macros":0,"external_links":0,"defined_names":4,"comments":0,"pivot_tables":0},"unopened":[],"bounds":{"document_bytes":16777216,"sheet_cells":100000,"run_cost":"one","rows_first":2000,"rows_last":500,"rows_between":2000,"halvings":0,"cell_chars":16384,"cell_head_chars":4096},"cells_cut":0,"cells_raw":0,"read":"whole","date_system":"1900"}

{"sheet":"EventConfig","index":0,"n_rows":115,"n_cols":47,"rows_kept":115,"cut":false,"hidden":false,"merged":[]}
["ID","EventLinksId","EventTriggerType","EventTag","EventType","Score","EventQuality","PrizeType","PrizeIDs","PrizeNums","RefreshProbability","RefreshCount","placeID","XiantuID",{"$f":"SUMIF(C:C,2,K:K)","v":0},"EventConditionId","EventValue","EventCount","EventName","Description"]
["int","int[]","int","int","int","int","int","int[]","int[]","int[]","int","int","int","int",null,"int","int[]","int","int","int"]
[{"$nulls":23},1,2,3,4,5,6,7,8,9,10,11,12,13,14,15,16,17,18,19,20]
["ID","事件包含的ID","事件类型：\n1.通用事件\n2.挂机事件\n4.主线任务\n5.仙山探险\n6.支线事件\n88.特定任务触发的事件\n99.无标记\n","tag\n1主线2支线\n3通用\n4地图通用\n5道友6任务\n7资源","1.正常触发\n2.直接结算","增加进度值","事件品质","产出tag\n在辅助表查询","事件结局奖励","事件结局奖励数量","刷新的概率\n（100=100%）","最大刷新数量","属于哪张地图","仙途日志ID","触发条件","触发条件类型\n只能配处于什么状态和数值，不能配变化的数值","触发效果值","触发判定数量or次数","任务标题","任务详情界面的总描述","标题","整体描述","总步数","步骤1","步骤2","步骤3","步骤4","步骤5","步骤6","步骤7","步骤8","步骤9","步骤10","步骤11","步骤12","步骤13","步骤14","步骤15","步骤16","步骤17","步骤18","步骤19","步骤20","道具1","数量1","道具2","数量2"]
[1,{"$f":"IF(A5=\"\",\"\",_xlfn.TEXTJOIN(\";\",1,X5:AQ5,102))","v":"1001;1002;1003;1004;1005;100;102"},1,7,1,0,1,5,{"$f":"_xlfn.TEXTJOIN(\";\",1,AR5,AT5)","v":"1003;999001"},{"$f":"_xlfn.TEXTJOIN(\";\",1,AS5,AU5)","v":"-1000;1"},100,null,null,null,{"$f":"IF(P5=\"\",\"\",VLOOKUP(P5,条件类型查询!A:B,2,FALSE))","v":""},null,null,null,4001,4076,"受伤的狼","你发现一只奄奄一息的狼，决定上前一探究竟。",{"$f":"COUNTIF(EventLinkConfig!O:O,EventConfig!A5)","v":5},1001,1002,1003,1004,1005,{"$nulls":14},100,1003,-1000,999001,1]
[2,{"$f":"IF(A6=\"\",\"\",_xlfn.TEXTJOIN(\";\",1,X6:AQ6,102))","v":"1010;1011;1012;1013;1014;1015;1016;100;102"},1,7,1,0,1,6,{"$f":"_xlfn.TEXTJOIN(\";\",1,AR6,AT6)","v":"1003;999002"},{"$f":"_xlfn.TEXTJOIN(\";\",1,AS6,AU6)","v":"-1000;1"},100,null,null,null,{"$f":"IF(P6=\"\",\"\",VLOOKUP(P6,条件类型查询!A:B,2,FALSE))","v":""},null,null,null,4002,4077,"鹬蚌相争","附近的小树林闹的不可开交，你决定去看看怎么回事。",{"$f":"COUNTIF(EventLinkConfig!O:O,EventConfig!A6)","v":6},1010,1011,1012,1013,1014,1015,1016,{"$nulls":12},100,1003,-1000,999002,1]
[4,"1030;100;102",1,7,2,0,1,1,"1003;1001","-1000;-5000",100,null,null,null,{"$f":"IF(P7=\"\",\"\",VLOOKUP(P7,条件类型查询!A:B,2,FALSE))","v":""},null,null,null,4003,4078,"溅血背包","不远处有一个小红点，走近一看你发现是一个带血的背包。",{"$f":"COUNTIF(EventLinkConfig!O:O,EventConfig!A7)","v":1},1030,{"$nulls":18},100,1003,-1000,1001,-5000]
[5,"1040;100;102",1,7,2,0,1,2,"1003;1005","-1000;-5000",100,null,null,null,{"$f":"IF(P8=\"\",\"\",VLOOKUP(P8,条件类型查询!A:B,2,FALSE))","v":""},null,null,null,4004,4079,"废弃矿山","底下一座矿山甚是磅礴雄伟，走，去看一看。",{"$f":"COUNTIF(EventLinkConfig!O:O,EventConfig!A8)","v":1},1040,{"$nulls":18},100,1003,-1000,1005,-5000]
[6,"1050;100;102",1,7,2,0,1,3,"1003;1006","-1000;-5000",100,null,null,null,{"$f":"IF(P9=\"\",\"\",VLOOKUP(P9,条件类型查询!A:B,2,FALSE))","v":""},null,null,null,4005,4080,"吵架声","你被一男一女的吵架声吸引。",{"$f":"COUNTIF(EventLinkConfig!O:O,EventConfig!A9)","v":1},1050,{"$nulls":18},100,1003,-1000,1006,-5000]
[7,"1060;100;102",1,7,2,0,1,4,"1003;999001","-1000;1",100,null,null,null,{"$f":"IF(P10=\"\",\"\",VLOOKUP(P10,条件类型查询!A:B,2,FALSE))","v":""},null,null,null,4006,4081,"一座道观","远处一座道观仙气缭绕，似有仙人在此。",{"$f":"COUNTIF(EventLinkConfig!O:O,EventConfig!A10)","v":1},1060,{"$nulls":18},100,1003,-1000,999001,1]
[1011,{"$f":"IF(A11=\"\",\"\",_xlfn.TEXTJOIN(\";\",1,X11:AQ11,102))","v":"101101;100;102"},1,7,1,0,1,7,"1003;999002","-1000;1",100,{"$nulls":7},4007,4082,"药田","神识探索至一处山洞之中，似乎别有洞天",{"$f":"COUNTIF(EventLinkConfig!O:O,EventConfig!A11)","v":1},{"$f":"IF($W11>=X$3,$A11*100+X$3,\"\")","v":101101},"","","","","","","","","","","","","","","",null,null,null,100,1003,-1000,999002,1]
[1012,"101201;100;102",1,7,1,0,3,7,"1003;1001","-1000;-5000",100,{"$nulls":7},4008,4083,"矿井","神识探索至一处矿井之中，此处灵气氤氲",{"$f":"COUNTIF(EventLinkConfig!O:O,EventConfig!A12)","v":1},101201,"","","","","","","","","","","","","","","",null,null,null,100,1003,-1000,1001,-5000]
[1013,"101301;100;102",1,7,1,0,3,7,"1003;1005","-1000;-5000",100,{"$nulls":7},4009,4084,"寺庙","神识经过一处荒废寺庙之外，寺庙之中似乎有不同寻常之物",{"$f":"COUNTIF(EventLinkConfig!O:O,EventConfig!A13)","v":1},101301,"","","","","","","","","","","","","","","",null,null,null,100,1003,-1000,1005,-5000]
[1014,"101401;100;102",1,7,1,0,3,7,"1003;1006","-1000;-5000",100,{"$nulls":7},4010,4085,"洞府遗址","神识至一处灵气充盈之地，似乎是处洞府",{"$f":"COUNTIF(EventLinkConfig!O:O,EventConfig!A14)","v":1},101401,"","","","","","","","","","","","","","","",null,null,null,100,1003,-1000,1006,-5000]
[1015,"101501;101502;100;102",1,7,1,0,1,8,"1003;999001","-1000;1",100,{"$nulls":7},4011,4086,"拦路山贼","一个不知好歹的山贼拦住了你的去路",{"$f":"COUNTIF(EventLinkConfig!O:O,EventConfig!A15)","v":2},101501,101502,"","","","","","","","","","","","","","",null,null,null,100,1003,-1000,999001,1]
[1016,"101601;101602;100;102",1,7,1,0,1,8,"1003;999002","-1000;1",100,{"$nulls":7},4012,4087,"丢袈裟的和尚","一位和尚叫住了你，似乎有什么急事",{"$f":"COUNTIF(EventLinkConfig!O:O,EventConfig!A16)","v":2},101601,101602,"","","","","","","","","","","","","","",null,null,null,100,1003,-1000,999002,1]
[1017,"101701;100;102",1,7,1,0,1,8,"1003;1001","-1000;-5000",100,{"$nulls":4},10,30009,null,4013,4088,"丢袈裟的和尚","将袈裟还给和尚",{"$f":"COUNTIF(EventLinkConfig!O:O,EventConfig!A17)","v":1},101701,"","","","","","","","","","","","","","","",null,null,null,100,1003,-1000,1001,-5000]
[1018,"101801;101802;101803;101804;100;102",1,7,1,0,1,8,"1003;1005","-1000;-5000",100,{"$nulls":7},4014,4089,"云游修士","一名云游修士前来问道",{"$f":"COUNTIF(EventLinkConfig!O:O,EventConfig!A18)","v":4},101801,101802,101803,101804,"","","","","","","","","","","","",null,null,null,100,1003,-1000,1005,-5000]
[1019,"101901;101902;101903;100;102",1,7,1,0,1,9,"1003;1006","-1000;-5000",100,{"$nulls":7},4015,4090,"镇压妖王","逍遥宗长老前来求教",{"$f":"COUNTIF(EventLinkConfig!O:O,EventConfig!A19)","v":3},101901,101902,101903,"","","","","","","","","","","","","",null,null,null,100,1003,-1000,1006,-5000]
[1020,"102001;102002;100;102",1,7,1,0,1,9,"1003;999001","-1000;1",100,{"$nulls":7},4016,4091,"清剿妖兽","妖兽入侵了村子，消灭掉它们",{"$f":"COUNTIF(EventLinkConfig!O:O,EventConfig!A20)","v":2},102001,102002,"","","","","","","","","","","","","","",null,null,null,100,1003,-1000,999001,1]
[1021,"102101;102102;102103;100;102",1,7,1,0,1,9,"1003;999002","-1000;1",100,{"$nulls":7},4017,4092,"失窃的琉璃盏","琉璃盏被妖兽盗窃，前去寻回",{"$f":"COUNTIF(EventLinkConfig!O:O,EventConfig!A21)","v":3},{"$f":"IF($W21>=X$3,$A21*100+X$3,\"\")","v":102101},102102,102103,"","","","","","","","","","","","","",null,null,null,100,1003,-1000,999002,1]
[1022,"102201;102202;102203;102204;102205;102206;102207;100;102",1,7,1,0,1,10,"1003;1001","-1000;-5000",100,{"$nulls":7},4018,4093,"论道何长","明镜道长前来论道",{"$f":"COUNTIF(EventLinkConfig!O:O,EventConfig!A22)","v":7},102201,102202,102203,102204,102205,102206,102207,"","","","","","","","","",null,null,null,100,1003,-1000,1001,-5000]
[1023,"102301;102302;102303;100;102",1,7,1,0,1,10,"1003;1005","-1000;-5000",100,{"$nulls":7},4019,4094,"炼丹药童","炼丹药童前来询问丹药",{"$f":"COUNTIF(EventLinkConfig!O:O,EventConfig!A23)","v":3},102301,102302,102303,"","","","","","","","","","","","","",null,null,null,100,1003,-1000,1005,-5000]
[1024,"102401;102402;102403;100;102",1,7,1,0,1,11,"1003;1006","-1000;-5000",100,{"$nulls":7},4020,4095,"风无咎前来切磋","风无咎前来与你武艺论道",{"$f":"COUNTIF(EventLinkConfig!O:O,EventConfig!A24)","v":3},102401,102402,102403,"","","","","","","","","","","","","",null,null,null,100,1003,-1000,1006,-5000]
[1025,"102501;102502;102503;100;102",1,7,1,0,1,1,"1003;1002","-1000;100",100,{"$nulls":7},4021,4096,"魔族来犯","与魔族交涉",{"$f":"COUNTIF(EventLinkConfig!O:O,EventConfig!A25)","v":3},102501,102502,102503,"","","","","","","","","","","","","",null,null,null,100,1003,-1000,1002,100]
[1026,"102601;102602;100;102",1,7,1,0,1,2,"1003;1004","-1000;10",100,{"$nulls":7},4022,4097,"妖族入侵","击败妖族",{"$f":"COUNTIF(EventLinkConfig!O:O,EventConfig!A26)","v":2},102601,102602,"","","","","","","","","","","","","","",null,null,null,100,1003,-1000,1004,10]
[1027,"102701;102702;100;102",1,7,1,0,1,3,"1003;1501","-1000;1",100,{"$nulls":7},4023,4098,"北海危机","击败拦路妖兽",{"$f":"COUNTIF(EventLinkConfig!O:O,EventConfig!A27)","v":2},102701,102702,"","","","","","","","","","","","","","",null,null,null,100,1003,-1000,1501,1]
[1028,"102801;102802;102803;102804;102805;100;102",1,7,1,0,1,4,"1003;1601","-1000;1",100,{"$nulls":7},4024,4099,"保护北海","击败入侵妖兽",{"$f":"COUNTIF(EventLinkConfig!O:O,EventConfig!A28)","v":5},102801,102802,102803,102804,102805,"","","","","","","","","","","",null,null,null,100,1003,-1000,1601,1]
[1029,"102901;102902;102903;102904;102905;102906;102907;102908;100;102",1,7,1,0,1,7,"1003;21012","-1000;1",100,{"$nulls":7},4025,4100,"境明论道","境明道长邀请你与其论道",{"$f":"COUNTIF(EventLinkConfig!O:O,EventConfig!A29)","v":8},102901,102902,102903,102904,102905,102906,102907,102908,"","","","","","","","",null,null,null,100,1003,-1000,21012,1]
[1030,"103001;103002;103003;103004;103005;103006;103007;100;102",1,7,1,0,1,8,"1003;21013","-1000;1",100,{"$nulls":7},4026,4101,"听经习道","前去寺庙之中听经",{"$f":"COUNTIF(EventLinkConfig!O:O,EventConfig!A30)","v":7},103001,103002,103003,103004,103005,103006,103007,"","","","","","","","","",null,null,null,100,1003,-1000,21013,1]
[1031,"103101;103102;103103;103104;103105;100;102",1,7,1,0,1,9,"1003;1002","-1000;50",100,{"$nulls":7},4027,4102,"境明论道二","境明道长邀请你与其论道",{"$f":"COUNTIF(EventLinkConfig!O:O,EventConfig!A31)","v":5},103101,103102,103103,103104,103105,"","","","","","","","","","","",null,null,null,100,1003,-1000,1002,50]
[]
[null,"",2,3,1,0,1,null,{"$f":"_xlfn.TEXTJOIN(\";\",1,AR33,AT33)","v":"1003"},{"$f":"_xlfn.TEXTJOIN(\";\",1,AS33,AU33)","v":"-5"},{"$nulls":10},"挂机1","修为",{"$f":"COUNTIF(EventLinkConfig!O:O,EventConfig!A33)","v":0},{"$f":"IF($W33>=X$3,$A33*100+X$3,\"\")","v":""},"","","","","","","","","","","",{"$nulls":7},100,1003,-5]
[null,"",2,3,1,0,1,null,{"$f":"_xlfn.TEXTJOIN(\";\",1,AR34,AT34)","v":"1005"},{"$f":"_xlfn.TEXTJOIN(\";\",1,AS34,AU34)","v":"-5"},{"$nulls":10},"挂机2","灵气",{"$f":"COUNTIF(EventLinkConfig!O:O,EventConfig!A34)","v":0},"","","","","","","","","","","","",{"$nulls":7},100,1005,-5]
[null,"",2,3,1,0,1,null,"1006","-5",{"$nulls":10},"挂机3","玄晶",{"$f":"COUNTIF(EventLinkConfig!O:O,EventConfig!A35)","v":0},"","","","","","","","","","","","",{"$nulls":7},100,1006,-5]
[null,"",2,3,1,0,1,null,"1001","-5",{"$nulls":10},"挂机4","灵石",{"$f":"COUNTIF(EventLinkConfig!O:O,EventConfig!A36)","v":0},"","","","","","","","","","","","",{"$nulls":7},100,1001,-5]
[null,"",2,3,1,0,1,null,"1001","-5",{"$nulls":10},"挂机5","神识丹",{"$f":"COUNTIF(EventLinkConfig!O:O,EventConfig!A37)","v":0},"","","","","","","","","","","","",{"$nulls":7},100,1001,-5]
[null,{"$f":"IF(A38=\"\",\"\",_xlfn.TEXTJOIN(\";\",1,X38:AQ38,102))","v":""},2,3,1,0,1,null,"1001","-5",{"$nulls":10},"挂机6","妖丹",{"$f":"COUNTIF(EventLinkConfig!O:O,EventConfig!A38)","v":0},"","","","","","","","","","","","",{"$nulls":7},100,1001,-5]
[null,"",{"$nulls":12},{"$f":"IF(P39=\"\",\"\",VLOOKUP(P39,条件类型查询!A:B,2,FALSE))","v":""}]
[10001,{"$f":"IF(W40>0,_xlfn.TEXTJOIN(\";\", 1, ROW(INDIRECT(CONCATENATE(\"\",A40*100+1,\":\",A40*100+W40,\"\"))),102),\"\")","v":"1000101;1000102;1000103;1000104;102"},4,1,1,10,1,null,"1701;1401","1;2",null,null,1,1,{"$nulls":4},4028,4103,"鲲鹏何在","神识未灭",{"$f":"COUNTIF(EventLinkConfig!O:O,EventConfig!A40)","v":4},{"$f":"IF($W40>=X$3,$A40*100+X$3,\"\")","v":1000101},1000102,1000103,1000104,"","","","","","","","","","","",""]
[10002,{"$f":"IF(W41>0,_xlfn.TEXTJOIN(\";\", 1, ROW(INDIRECT(CONCATENATE(\"\",A41*100+1,\":\",A41*100+W41,\"\"))),102),\"\")","v":"1000201;1000202;1000203;102"},4,1,1,10,1,null,"1701;1401","1;2",null,null,1,1,{"$nulls":4},4029,4104,"北海迷径1","御剑而行",{"$f":"COUNTIF(EventLinkConfig!O:O,EventConfig!A41)","v":3},1000201,1000202,1000203,"","","","","","","","","","","","",""]
[10003,{"$f":"IF(W42>0,_xlfn.TEXTJOIN(\";\", 1, ROW(INDIRECT(CONCATENATE(\"\",A42*100+1,\":\",A42*100+W42,\"\"))),102),\"\")","v":"1000301;1000302;1000303;1000304;1000305;1000306;1000307;1000308;1000309;102"},4,1,1,10,1,null,"1701;1401","1;2",null,null,1,1,{"$nulls":4},4030,4105,"北海迷径2","雀笑大鹏",{"$f":"COUNTIF(EventLinkConfig!O:O,EventConfig!A42)","v":9},1000301,1000302,1000303,1000304,1000305,1000306,1000307,1000308,1000309,"","","","","","",""]
[10004,{"$f":"IF(W43>0,_xlfn.TEXTJOIN(\";\", 1, ROW(INDIRECT(CONCATENATE(\"\",A43*100+1,\":\",A43*100+W43,\"\"))),102),\"\")","v":"1000401;1000402;1000403;1000404;102"},4,1,1,10,1,null,"1701;1401","1;2",null,null,1,1,{"$nulls":4},4031,4106,"古径阵法","击败结界兽",{"$f":"COUNTIF(EventLinkConfig!O:O,EventConfig!A43)","v":4},1000401,1000402,1000403,1000404,"","","","","","","","","","","",""]
[10005,{"$f":"IF(W44>0,_xlfn.TEXTJOIN(\";\", 1, ROW(INDIRECT(CONCATENATE(\"\",A44*100+1,\":\",A44*100+W44,\"\"))),102),\"\")","v":"1000501;1000502;1000503;1000504;1000505;1000506;1000507;1000508;1000509;1000510;1000511;1000512;1000513;1000514;102"},4,1,1,10,1,null,"1701;1401","1;2",null,null,1,1,11,null,null,null,4032,4107,"浮空之岛1","初见疯道人",{"$f":"COUNTIF(EventLinkConfig!O:O,EventConfig!A44)","v":14},1000501,1000502,1000503,1000504,1000505,1000506,1000507,1000508,1000509,1000510,1000511,1000512,1000513,1000514,"",""]
[10006,{"$f":"IF(W45>0,_xlfn.TEXTJOIN(\";\", 1, ROW(INDIRECT(CONCATENATE(\"\",A45*100+1,\":\",A45*100+W45,\"\"))),102),\"\")","v":"1000601;1000602;1000603;1000604;1000605;1000606;102"},4,1,1,10,1,null,"1701;1401","2;2",null,null,1,1,{"$nulls":4},4033,4108,"浮空之岛2","筑基中期",{"$f":"COUNTIF(EventLinkConfig!O:O,EventConfig!A45)","v":6},1000601,1000602,1000603,1000604,1000605,1000606,"","","","","","","","","",""]
[10007,{"$f":"IF(W46>0,_xlfn.TEXTJOIN(\";\", 1, ROW(INDIRECT(CONCATENATE(\"\",A46*100+1,\":\",A46*100+W46,\"\"))),102),\"\")","v":"1000701;1000702;1000703;1000704;1000705;102"},4,1,1,10,1,null,"1701;1401","2;2",null,null,1,1,{"$nulls":4},4034,4109,"风中洞府1","击败痴道人",{"$f":"COUNTIF(EventLinkConfig!O:O,EventConfig!A46)","v":5},1000701,1000702,1000703,1000704,1000705,"","","","","","","","","","",""]
[10008,{"$f":"IF(W47>0,_xlfn.TEXTJOIN(\";\", 1, ROW(INDIRECT(CONCATENATE(\"\",A47*100+1,\":\",A47*100+W47,\"\"))),102),\"\")","v":"1000801;1000802;1000803;1000804;1000805;1000806;1000807;1000808;1000809;1000810;1000811;1000812;1000813;1000814;102"},4,1,1,10,1,null,"1701;1401","2;2",null,null,1,1,{"$nulls":4},4035,4110,"风中洞府2","疯痴相聚",{"$f":"COUNTIF(EventLinkConfig!O:O,EventConfig!A47)","v":14},1000801,1000802,1000803,1000804,1000805,1000806,1000807,1000808,1000809,1000810,1000811,1000812,1000813,1000814,"",""]
[10009,{"$f":"IF(W48>0,_xlfn.TEXTJOIN(\";\", 1, ROW(INDIRECT(CONCATENATE(\"\",A48*100+1,\":\",A48*100+W48,\"\"))),102),\"\")","v":"1000901;1000902;1000903;102"},4,1,1,10,1,null,"1701;1401","2;2",null,null,1,1,21,null,null,null,4036,4111,"风灵之力","筑基后期",{"$f":"COUNTIF(EventLinkConfig!O:O,EventConfig!A48)","v":3},1000901,1000902,1000903,"","","","","","","","","","","","",""]
[10010,{"$f":"IF(W49>0,_xlfn.TEXTJOIN(\";\", 1, ROW(INDIRECT(CONCATENATE(\"\",A49*100+1,\":\",A49*100+W49,\"\"))),102),\"\")","v":"1001001;102"},4,1,1,10,1,null,"1701;1401","2;2",null,null,1,1,{"$nulls":4},4037,4112,"北海深处1","妖兽横行",{"$f":"COUNTIF(EventLinkConfig!O:O,EventConfig!A49)","v":1},1001001,"","","","","","","","","","","","","","",""]
[10011,{"$f":"IF(W50>0,_xlfn.TEXTJOIN(\";\", 1, ROW(INDIRECT(CONCATENATE(\"\",A50*100+1,\":\",A50*100+W50,\"\"))),102),\"\")","v":"1001101;102"},4,1,1,10,1,null,"1702;1401","1;2",null,null,1,1,31,null,null,null,4038,4113,"北海深处2","遇见鲲鹏",{"$f":"COUNTIF(EventLinkConfig!O:O,EventConfig!A50)","v":1},{"$f":"IF($W50>=X$3,$A50*100+X$3,\"\")","v":1001101},"","","","","","","","","","","","","","",""]
[10012,{"$f":"IF(W51>0,_xlfn.TEXTJOIN(\";\", 1, ROW(INDIRECT(CONCATENATE(\"\",A51*100+1,\":\",A51*100+W51,\"\"))),102),\"\")","v":"1001201;102"},4,1,1,10,1,null,"1702;1401","1;2",null,null,2,1,{"$nulls":4},4039,4114,"尧都寻踪",null,{"$f":"COUNTIF(EventLinkConfig!O:O,EventConfig!A51)","v":1},1001201,"","","","","","","","","","","","","","",""]
[10013,{"$f":"IF(W52>0,_xlfn.TEXTJOIN(\";\", 1, ROW(INDIRECT(CONCATENATE(\"\",A52*100+1,\":\",A52*100+W52,\"\"))),102),\"\")","v":"1001301;1001302;1001303;1001304;1001305;1001306;1001307;1001308;1001309;1001310;1001311;1001312;102"},4,1,1,10,1,null,"1702;1401","1;2",null,null,2,1,{"$nulls":4},4040,4115,"尧之都","尧让天下",{"$f":"COUNTIF(EventLinkConfig!O:O,EventConfig!A52)","v":12},1001301,1001302,1001303,1001304,1001305,1001306,1001307,1001308,1001309,1001310,1001311,1001312,"","","",""]
[10014,{"$f":"IF(W53>0,_xlfn.TEXTJOIN(\";\", 1, ROW(INDIRECT(CONCATENATE(\"\",A53*100+1,\":\",A53*100+W53,\"\"))),102),\"\")","v":"1001401;1001402;1001403;1001404;1001405;1001406;1001407;1001408;1001409;1001410;1001411;1001412;1001413;1001414;1001415;1001416;102"},4,1,1,10,1,null,"1702;1402","1;2",null,null,2,1,41,null,null,null,4041,4116,"山林清音","访贤许由",{"$f":"COUNTIF(EventLinkConfig!O:O,EventConfig!A53)","v":16},1001401,1001402,1001403,1001404,1001405,1001406,1001407,1001408,1001409,1001410,1001411,1001412,1001413,1001414,1001415,1001416]
[10015,{"$f":"IF(W54>0,_xlfn.TEXTJOIN(\";\", 1, ROW(INDIRECT(CONCATENATE(\"\",A54*100+1,\":\",A54*100+W54,\"\"))),102),\"\")","v":"1001501;1001502;1001503;1001504;1001505;1001506;1001507;1001508;102"},4,1,1,10,1,null,"1702;1402","1;2",null,null,2,1,{"$nulls":4},4042,4117,"山中劳作","割草喝茶",{"$f":"COUNTIF(EventLinkConfig!O:O,EventConfig!A54)","v":8},1001501,1001502,1001503,1001504,1001505,1001506,1001507,1001508,"","","","","","","",""]
[10016,{"$f":"IF(W55>0,_xlfn.TEXTJOIN(\";\", 1, ROW(INDIRECT(CONCATENATE(\"\",A55*100+1,\":\",A55*100+W55,\"\"))),102),\"\")","v":"1001601;1001602;1001603;1001604;1001605;1001606;1001607;1001608;102"},4,1,1,10,1,null,"1702;1402","1;2",null,null,2,1,51,null,null,null,4043,4118,"风起夜战","再来一杯",{"$f":"COUNTIF(EventLinkConfig!O:O,EventConfig!A55)","v":8},1001601,1001602,1001603,1001604,1001605,1001606,1001607,1001608,"","","","","","","",""]
[10017,{"$f":"IF(W56>0,_xlfn.TEXTJOIN(\";\", 1, ROW(INDIRECT(CONCATENATE(\"\",A56*100+1,\":\",A56*100+W56,\"\"))),102),\"\")","v":"1001701;1001702;1001703;1001704;1001705;1001706;1001707;1001708;1001709;1001710;1001711;1001712;1001713;102"},4,1,1,10,1,null,"1702;1402","1;2",null,null,2,1,{"$nulls":4},4044,4119,"吃茶三问","战胜妖王",{"$f":"COUNTIF(EventLinkConfig!O:O,EventConfig!A56)","v":13},1001701,1001702,1001703,1001704,1001705,1001706,1001707,1001708,1001709,1001710,1001711,1001712,1001713,"","",""]
[10018,{"$f":"IF(W57>0,_xlfn.TEXTJOIN(\";\", 1, ROW(INDIRECT(CONCATENATE(\"\",A57*100+1,\":\",A57*100+W57,\"\"))),102),\"\")","v":"1001801;1001802;1001803;1001804;1001805;1001806;1001807;1001808;1001809;1001810;102"},4,1,1,10,1,null,"1702;1402","1;2",null,null,2,1,61,null,null,null,4045,4120,"尧让天下","复命尧帝",{"$f":"COUNTIF(EventLinkConfig!O:O,EventConfig!A57)","v":10},1001801,1001802,1001803,1001804,1001805,1001806,1001807,1001808,1001809,1001810,"","","","","",""]
[10019,{"$f":"IF(W58>0,_xlfn.TEXTJOIN(\";\", 1, ROW(INDIRECT(CONCATENATE(\"\",A58*100+1,\":\",A58*100+W58,\"\"))),102),\"\")","v":"1001901;1001902;1001903;1001904;1001905;1001906;1001907;1001908;1001909;1001910;1001911;1001912;1001913;1001914;1001915;1001916;1001917;1001918;1001919;1001920;102"},4,1,1,10,1,null,"1702;1403","2;2",null,null,2,1,{"$nulls":4},4046,4121,"无用之树","树下闲话",{"$f":"COUNTIF(EventLinkConfig!O:O,EventConfig!A58)","v":20},1001901,1001902,1001903,1001904,1001905,1001906,1001907,1001908,1001909,1001910,1001911,1001912,1001913,1001914,1001915,1001916,{"$f":"IF($W58>=AN$3,$A58*100+AN$3,\"\")","v":1001917},{"$f":"IF($W58>=AO$3,$A58*100+AO$3,\"\")","v":1001918},{"$f":"IF($W58>=AP$3,$A58*100+AP$3,\"\")","v":1001919},{"$f":"IF($W58>=AQ$3,$A58*100+AQ$3,\"\")","v":1001920}]
[10020,{"$f":"IF(W59>0,_xlfn.TEXTJOIN(\";\", 1, ROW(INDIRECT(CONCATENATE(\"\",A59*100+1,\":\",A59*100+W59,\"\"))),102),\"\")","v":"1002001;1002002;102"},4,1,1,10,1,null,"1702;1403","2;2",null,null,2,1,{"$nulls":4},4047,4122,"樗木之灵","切磋切磋",{"$f":"COUNTIF(EventLinkConfig!O:O,EventConfig!A59)","v":2},1002001,1002002,"","","","","","","","","","","","","",""]
[10021,{"$f":"IF(W60>0,_xlfn.TEXTJOIN(\";\", 1, ROW(INDIRECT(CONCATENATE(\"\",A60*100+1,\":\",A60*100+W60,\"\"))),102),\"\")","v":"1002101;1002102;1002103;1002104;102"},4,1,1,10,1,null,"1702;1403","2;2",null,null,2,1,71,null,null,null,4048,4123,"游尧都","金丹前期",{"$f":"COUNTIF(EventLinkConfig!O:O,EventConfig!A60)","v":4},1002101,1002102,1002103,1002104,"","","","","","","","","","","",""]
[10022,{"$f":"IF(W61>0,_xlfn.TEXTJOIN(\";\", 1, ROW(INDIRECT(CONCATENATE(\"\",A61*100+1,\":\",A61*100+W61,\"\"))),102),\"\")","v":"1002201;1002202;1002203;1002204;1002205;1002206;1002207;1002208;1002209;1002210;1002211;1002212;102"},4,1,1,10,1,null,"1702;1403","2;2",null,null,2,1,81,null,null,null,4049,4124,"再见尧帝","仙山传说",{"$f":"COUNTIF(EventLinkConfig!O:O,EventConfig!A61)","v":12},{"$f":"IF($W61>=X$3,$A61*100+X$3,\"\")","v":1002201},1002202,1002203,1002204,1002205,1002206,1002207,1002208,1002209,1002210,1002211,1002212,"","","",""]
[10023,{"$f":"IF(W62>0,_xlfn.TEXTJOIN(\";\", 1, ROW(INDIRECT(CONCATENATE(\"\",A62*100+1,\":\",A62*100+W62,\"\"))),102),\"\")","v":"1002301;1002302;1002303;102"},4,1,1,10,1,null,"1702;1403","2;2",null,null,3,1,{"$nulls":4},4050,4125,"云海漫行","入山幻阵",{"$f":"COUNTIF(EventLinkConfig!O:O,EventConfig!A62)","v":3},1002301,1002302,1002303,"","","","","","","","","","","","",""]
[10024,{"$f":"IF(W63>0,_xlfn.TEXTJOIN(\";\", 1, ROW(INDIRECT(CONCATENATE(\"\",A63*100+1,\":\",A63*100+W63,\"\"))),102),\"\")","v":"1002401;1002402;1002403;1002404;1002405;1002406;1002407;1002408;1002409;1002410;1002411;1002412;1002413;102"},4,1,1,10,1,null,"1702;1403","2;2",null,null,3,1,91,null,null,null,4051,4126,"初见惠子","葫芦种子",{"$f":"COUNTIF(EventLinkConfig!O:O,EventConfig!A63)","v":13},1002401,1002402,1002403,1002404,1002405,1002406,1002407,1002408,1002409,1002410,1002411,1002412,1002413,"","",""]
[10025,{"$f":"IF(W64>0,_xlfn.TEXTJOIN(\";\", 1, ROW(INDIRECT(CONCATENATE(\"\",A64*100+1,\":\",A64*100+W64,\"\"))),102),\"\")","v":"1002501;1002502;1002503;1002504;1002505;1002506;1002507;1002508;102"},4,1,1,10,1,null,"1703;1404","1;2",null,null,3,1,101,null,null,null,4052,4127,"葫芦肥料","天肥地肥",{"$f":"COUNTIF(EventLinkConfig!O:O,EventConfig!A64)","v":8},1002501,1002502,1002503,1002504,1002505,1002506,1002507,1002508,"","","","","","","",""]
[10026,{"$f":"IF(W65>0,_xlfn.TEXTJOIN(\";\", 1, ROW(INDIRECT(CONCATENATE(\"\",A65*100+1,\":\",A65*100+W65,\"\"))),102),\"\")","v":"1002601;1002602;1002603;1002604;1002605;1002606;1002607;1002608;1002609;102"},4,1,1,10,1,null,"1703;1404","1;2",null,null,3,1,111,null,null,null,4053,4128,"藐姑射山","登山",{"$f":"COUNTIF(EventLinkConfig!O:O,EventConfig!A65)","v":9},1002601,1002602,1002603,1002604,1002605,1002606,1002607,1002608,1002609,"","","","","","",""]
[10027,{"$f":"IF(W66>0,_xlfn.TEXTJOIN(\";\", 1, ROW(INDIRECT(CONCATENATE(\"\",A66*100+1,\":\",A66*100+W66,\"\"))),102),\"\")","v":"1002701;1002702;1002703;1002704;1002705;1002706;1002707;1002708;1002709;1002710;1002711;1002712;1002713;1002714;1002715;1002716;1002717;1002718;1002719;1002720;1002721;1002722;1002723;1002724;1002725;1002726;1002727;1002728;1002729;1002730;1002731;1002732;1002733;1002734;1002735;1002736;102"},4,1,1,10,1,null,"1703;1404","1;2",null,null,3,1,121,null,null,null,4054,4129,"藐姑射山","雾中幻径",{"$f":"COUNTIF(EventLinkConfig!O:O,EventConfig!A66)","v":36},1002701,1002702,1002703,1002704,1002705,1002706,1002707,1002708,1002709,1002710,1002711,1002712,1002713,1002714,1002715,1002716]
[10028,{"$f":"IF(W67>0,_xlfn.TEXTJOIN(\";\", 1, ROW(INDIRECT(CONCATENATE(\"\",A67*100+1,\":\",A67*100+W67,\"\"))),102),\"\")","v":"1002801;102"},4,1,1,10,1,null,"1703;1404","1;2",null,null,3,1,{"$nulls":4},4055,4130,"露水清心",null,{"$f":"COUNTIF(EventLinkConfig!O:O,EventConfig!A67)","v":1},1002801,"","","","","","","","","","","","","","",""]
[10029,{"$f":"IF(W68>0,_xlfn.TEXTJOIN(\";\", 1, ROW(INDIRECT(CONCATENATE(\"\",A68*100+1,\":\",A68*100+W68,\"\"))),102),\"\")","v":"1002901;1002902;1002903;1002904;1002905;1002906;1002907;1002908;1002909;1002910;1002911;1002912;1002913;1002914;1002915;1002916;1002917;1002918;1002919;1002920;102"},4,1,1,10,1,null,"1703;1404","1;2",null,null,3,1,131,null,null,null,4056,4131,"山顶神仙",null,{"$f":"COUNTIF(EventLinkConfig!O:O,EventConfig!A68)","v":20},1002901,1002902,1002903,1002904,1002905,1002906,1002907,1002908,1002909,1002910,1002911,1002912,1002913,1002914,1002915,1002916]
[10030,{"$f":"IF(W69>0,_xlfn.TEXTJOIN(\";\", 1, ROW(INDIRECT(CONCATENATE(\"\",A69*100+1,\":\",A69*100+W69,\"\"))),102),\"\")","v":"1003001;1003002;1003003;1003004;1003005;1003006;1003007;1003008;102"},4,1,1,10,1,null,"1703;1404","1;2",null,null,3,1,141,null,null,null,4057,4132,"心魔之战","破除枷锁",{"$f":"COUNTIF(EventLinkConfig!O:O,EventConfig!A69)","v":8},1003001,1003002,1003003,1003004,1003005,1003006,1003007,1003008,"","","","","","","",""]
[10031,{"$f":"IF(W70>0,_xlfn.TEXTJOIN(\";\", 1, ROW(INDIRECT(CONCATENATE(\"\",A70*100+1,\":\",A70*100+W70,\"\"))),102),\"\")","v":"1003101;1003102;1003103;1003104;1003105;1003106;1003107;1003108;1003109;1003110;1003111;1003112;1003113;1003114;1003115;1003116;102"},4,1,1,10,1,null,"1703;1404","1;2",null,null,3,1,151,null,null,null,4057,4132,"鲲鹏飞天",null,{"$f":"COUNTIF(EventLinkConfig!O:O,EventConfig!A70)","v":16},1003101,1003102,1003103,1003104,1003105,1003106,1003107,1003108,1003109,1003110,1003111,1003112,1003113,1003114,1003115,1003116]
[null,""]
[20001,"1001;1002;1003;1004;1005;102",5,null,1,0,1,null,1001,10,{"$nulls":8},4058,4133,"受伤的狼","你发现一只奄奄一息的狼，决定上前一探究竟。",null,1001,1002,1003,1004,1005]
[20002,{"$f":"IF(A73=\"\",\"\",_xlfn.TEXTJOIN(\";\",1,X73:AQ73,102))","v":"1010;1011;1012;1013;1014;1015;1016;102"},5,null,1,0,1,null,1001,10,{"$nulls":4},{"$f":"IF(P73=\"\",\"\",VLOOKUP(P73,条件类型查询!A:B,2,FALSE))","v":""},null,null,null,4059,4134,"鹬蚌相争","附近的小树林闹的不可开交，你决定去看看怎么回事。",null,1010,1011,1012,1013,1014,1015,1016]
[20003,"1001;1002;1003;1004;1005;102",5,null,1,0,1,null,1001,10,{"$nulls":8},4060,4135,"受伤的鸟","你发现一只奄奄一息的鸟，决定上前一探究竟。",null,1001,1002,1003,1004,1005]
[null,""]
[9001,"1001;1002;1003;1004;1005;102",6,3,1,0,1,null,1001,10,{"$nulls":8},4061,4136,"受伤的狼","你发现一只奄奄一息的狼，决定上前一探究竟。",null,1001,1002,1003,1004,1005]
[9002,"1010;1011;1012;1013;1014;1015;1016;102",6,3,1,0,1,null,1001,10,{"$nulls":4},{"$f":"IF(P77=\"\",\"\",VLOOKUP(P77,条件类型查询!A:B,2,FALSE))","v":""},null,null,null,4062,4137,"鹬蚌相争","附近的小树林闹的不可开交，你决定去看看怎么回事。",null,1010,1011,1012,1013,1014,1015,1016]
[9025,"102",6,3,1,0,1,null,1001,10,null,null,1,2,{"$nulls":4},4063,4138,"惠子.没用的大葫芦","惠子种的葫芦没用，他非常生气"]
[9014,"9014;102",6,3,1,0,1,null,1001,10,null,null,2,2,{"$nulls":4},4064,4139,"发现魔修","发现一群魔修，正在夺人钱财",null,9014]
[9031,"9031;102",6,3,1,0,1,null,1001,10,30,2,3,2,{"$nulls":4},4065,4140,"魔修","打败魔休",null,9031]
[9003,"9003;9004;9005;9006;9007;9008;102",6,5,1,0,1,null,1001,10,{"$nulls":8},4066,4141,"幽谷剑鸣","你在闭关修炼时，感受到一股凌厉的剑意波动。深入探查，发现一名白衣剑修“清霜”盘坐于谷中，周围剑气环绕，正与一柄散发不祥气息的灵剑对峙。她似在参悟剑诀，却灵气不足，剑灵桀骜。",null,9003,9004,9005,9006,9007,9008]
[]
[9101,{"$f":"IF(A83=\"\",\"\",_xlfn.TEXTJOIN(\";\",1,X83:AQ83,102))","v":"910101;102"},1,5,1,0,1,null,1501,1,{"$nulls":10},"初遇道友1","你偶遇正在修炼的道友1",{"$f":"COUNTIF(EventLinkConfig!O:O,EventConfig!A83)","v":1},{"$f":"IF($W83>=X$3,$A83*100+X$3,\"\")","v":910101},"","","","","","","","","","","","","","","","","","",""]
[9102,{"$f":"IF(A84=\"\",\"\",_xlfn.TEXTJOIN(\";\",1,X84:AQ84,102))","v":"910201;102"},1,5,1,0,1,null,1501,1,{"$nulls":10},"初遇道友2","你偶遇正在修炼的道友2",{"$f":"COUNTIF(EventLinkConfig!O:O,EventConfig!A84)","v":1},910201,"","","","","","","","","","","","","","","","","","",""]
[9103,"910301;102",1,5,1,0,1,null,1501,1,{"$nulls":10},"初遇道友3","你偶遇正在修炼的道友3",{"$f":"COUNTIF(EventLinkConfig!O:O,EventConfig!A85)","v":1},910301,"","","","","","","","","","","","","","","","","","",""]
[9104,{"$f":"IF(A86=\"\",\"\",_xlfn.TEXTJOIN(\";\",1,X86:AQ86,102))","v":"910401;102"},1,5,1,0,1,null,1501,1,{"$nulls":10},"初遇道友4","你偶遇正在修炼的道友4",{"$f":"COUNTIF(EventLinkConfig!O:O,EventConfig!A86)","v":1},910401,"","","","","","","","","","","","","","","","","","",""]
[9105,"910501;102",1,5,1,0,1,null,1501,1,{"$nulls":10},"初遇道友5","你偶遇正在修炼的道友5",{"$f":"COUNTIF(EventLinkConfig!O:O,EventConfig!A87)","v":1},910501,"","","","","","","","","","","","","","","","","","",""]
[9106,"910601;102",1,5,1,0,1,null,1501,1,{"$nulls":10},"初遇道友6","你偶遇正在修炼的道友6",{"$f":"COUNTIF(EventLinkConfig!O:O,EventConfig!A88)","v":1},910601,"","","","","","","","","","","","","","","","","","",""]
[9107,"910701;102",1,5,1,0,1,null,1501,1,{"$nulls":10},"初遇道友7","你偶遇正在修炼的道友7",{"$f":"COUNTIF(EventLinkConfig!O:O,EventConfig!A89)","v":1},910701,"","","","","","","","","","","","","","","","","","",""]
[9108,{"$f":"IF(A90=\"\",\"\",_xlfn.TEXTJOIN(\";\",1,X90:AQ90,102))","v":"910801;102"},1,5,1,0,1,null,1501,1,{"$nulls":10},"初遇道友8","你偶遇正在修炼的道友8",{"$f":"COUNTIF(EventLinkConfig!O:O,EventConfig!A90)","v":1},910801,"","","","","","","","","","","","","","","","","","",""]
[9109,"910901;102",1,5,1,0,1,null,1501,1,{"$nulls":10},"初遇道友9","你偶遇正在修炼的道友9",{"$f":"COUNTIF(EventLinkConfig!O:O,EventConfig!A91)","v":1},910901,"","","","","","","","","","","","","","","","","","",""]
[9110,{"$f":"IF(A92=\"\",\"\",_xlfn.TEXTJOIN(\";\",1,X92:AQ92,102))","v":"911001;102"},1,5,1,0,1,null,1501,1,{"$nulls":10},"初遇道友10","你偶遇正在修炼的道友10",{"$f":"COUNTIF(EventLinkConfig!O:O,EventConfig!A92)","v":1},911001,"","","","","","","","","","","","","","","","","","",""]
[]
[3,{"$f":"IF(A94=\"\",\"\",_xlfn.TEXTJOIN(\";\",1,X94:AQ94,102))","v":"1020;1021;1022;1023;1024;1025;1026;102"},99,2,1,10,1,null,1001,10,null,null,1,4,{"$f":"IF(P94=\"\",\"\",VLOOKUP(P94,条件类型查询!A:B,2,FALSE))","v":"拥有特定道具"},1,1004,1,4067,4142,"鹬蚌相争2","附近的小树林闹的不可开交，你决定去看看怎么回事。",null,1020,1021,1022,1023,1024,1025,1026]
[1001,{"$f":"IF(A95=\"\",\"\",_xlfn.TEXTJOIN(\";\",1,X95:AQ95,102))","v":"1001;1002;1003;1004;1005;100;102"},99,4,1,10,1,null,1001,10,{"$nulls":4},{"$f":"IF(P95=\"\",\"\",VLOOKUP(P95,条件类型查询!A:B,2,FALSE))","v":""},null,null,null,4068,4143,"受伤的鸟","你发现一只奄奄一息的鸟，决定上前一探究竟。",null,1001,1002,1003,1004,1005,{"$nulls":14},100]
[30001,"100;102",98,6,1,0,1,null,null,null,50,5,null,null,{"$f":"IF(P96=\"\",\"\",VLOOKUP(P96,条件类型查询!A:B,2,FALSE))","v":""},{"$nulls":7},{"$f":"COUNTIF(EventLinkConfig!O:O,EventConfig!A96)","v":0},{"$f":"IF($W96>=X$3,$A96*100+X$3,\"\")","v":""},"","","","","","","","","","","","","","","",null,null,null,100]
[30002,"100;102",98,6,1,0,1,null,null,null,50,1,null,null,{"$f":"IF(P97=\"\",\"\",VLOOKUP(P97,条件类型查询!A:B,2,FALSE))","v":""},{"$nulls":7},{"$f":"COUNTIF(EventLinkConfig!O:O,EventConfig!A97)","v":0},"","","","","","","","","","","","","","","","",null,null,null,100]
[30003,"3000301;100;102",98,6,1,0,1,null,null,null,50,1,1,null,{"$f":"IF(P98=\"\",\"\",VLOOKUP(P98,条件类型查询!A:B,2,FALSE))","v":""},{"$nulls":7},{"$f":"COUNTIF(EventLinkConfig!O:O,EventConfig!A98)","v":1},3000301,"","","","","","","","","","","","","","","",null,null,null,100]
[30004,"3000401;100;102",98,6,1,0,1,null,null,null,50,3,2,null,{"$f":"IF(P99=\"\",\"\",VLOOKUP(P99,条件类型查询!A:B,2,FALSE))","v":""},{"$nulls":7},{"$f":"COUNTIF(EventLinkConfig!O:O,EventConfig!A99)","v":1},3000401,"","","","","","","","","","","","","","","",null,null,null,100]
[30005,"3000501;100;102",98,6,1,0,1,null,null,null,50,1,2,null,{"$f":"IF(P100=\"\",\"\",VLOOKUP(P100,条件类型查询!A:B,2,FALSE))","v":""},{"$nulls":7},{"$f":"COUNTIF(EventLinkConfig!O:O,EventConfig!A100)","v":1},3000501,"","","","","","","","","","","","","","","",null,null,null,100]
[30006,"3000601;100;102",98,6,1,0,1,null,null,null,50,1,2,null,{"$f":"IF(P101=\"\",\"\",VLOOKUP(P101,条件类型查询!A:B,2,FALSE))","v":""},{"$nulls":7},{"$f":"COUNTIF(EventLinkConfig!O:O,EventConfig!A101)","v":1},3000601,"","","","","","","","","","","","","","","",null,null,null,100]
[30007,"3000701;100;102",98,6,1,0,1,null,null,null,50,1,3,null,{"$f":"IF(P102=\"\",\"\",VLOOKUP(P102,条件类型查询!A:B,2,FALSE))","v":""},{"$nulls":7},{"$f":"COUNTIF(EventLinkConfig!O:O,EventConfig!A102)","v":1},3000701,"","","","","","","","","","","","","","","",null,null,null,100]
[30008,"3000801;100;102",98,6,1,0,1,null,null,null,15,1,3,null,{"$f":"IF(P103=\"\",\"\",VLOOKUP(P103,条件类型查询!A:B,2,FALSE))","v":""},{"$nulls":7},{"$f":"COUNTIF(EventLinkConfig!O:O,EventConfig!A103)","v":1},3000801,"","","","","","","","","","","","","","","",null,null,null,100]
[30009,"3000901;3000902;100;102",98,6,1,0,1,null,1301,1,100,1,3,null,{"$f":"IF(P104=\"\",\"\",VLOOKUP(P104,条件类型查询!A:B,2,FALSE))","v":""},{"$nulls":7},{"$f":"COUNTIF(EventLinkConfig!O:O,EventConfig!A104)","v":2},3000901,3000902,"","","","","","","","","","","","","","",null,null,null,100]
[30010,"3001001;100;102",98,6,1,0,1,null,1001,1,100,1,3,null,{"$f":"IF(P105=\"\",\"\",VLOOKUP(P105,条件类型查询!A:B,2,FALSE))","v":"前置事件"},10,1021,{"$nulls":5},{"$f":"COUNTIF(EventLinkConfig!O:O,EventConfig!A105)","v":1},3001001,"","","","","","","","","","","","","","","",null,null,null,100]
[30011,"3001101;3001102;100;102",98,6,1,0,1,null,20003,3,100,1,2,null,{"$f":"IF(P106=\"\",\"\",VLOOKUP(P106,条件类型查询!A:B,2,FALSE))","v":""},{"$nulls":7},{"$f":"COUNTIF(EventLinkConfig!O:O,EventConfig!A106)","v":2},3001101,3001102,"","","","","","","","","","","","","","",null,null,null,100]
[30012,"3001201;102",98,6,1,0,1,null,20004,1,20,1,2,null,{"$f":"IF(P107=\"\",\"\",VLOOKUP(P107,条件类型查询!A:B,2,FALSE))","v":""},{"$nulls":7},{"$f":"COUNTIF(EventLinkConfig!O:O,EventConfig!A107)","v":1},3001201,"","","","","","","","","","","","","","",""]
[]
[5001,"500101;500102;500103;500104;500105;500106;500107;500108;500109;500110;500111;500112;500113;500114;500115;500116;500117;500118;500119;102",99,5,1,10,1,10,1501,1,null,null,1,1,{"$f":"IF(P109=\"\",\"\",VLOOKUP(P109,条件类型查询!A:B,2,FALSE))","v":""},null,null,null,4069,4144,"风影为二","风影为二详情占位",{"$f":"COUNTIF(EventLinkConfig!O:O,EventConfig!A109)","v":19},{"$f":"IF($W109>=X$3,$A109*100+X$3,\"\")","v":500101},500102,500103,500104,500105,500106,500107,500108,500109,500110,{"$f":"IF($W109>=AH$3,$A109*100+AH$3,\"\")","v":500111},500112,500113,500114,500115,500116,500117,500118,500119,""]
[5002,"500201;500202;500203;500204;500205;500206;500207;500208;500209;500210;500211;500212;500213;500214;500215;500216;102",99,5,1,10,1,11,1601,1,null,null,1,1,{"$f":"IF(P110=\"\",\"\",VLOOKUP(P110,条件类型查询!A:B,2,FALSE))","v":"前置事件"},10,5001,null,4070,4145,"风影合一","风影合一详情占位",{"$f":"COUNTIF(EventLinkConfig!O:O,EventConfig!A110)","v":16},500201,500202,500203,500204,500205,500206,500207,500208,500209,500210,500211,500212,500213,500214,500215,500216,"","","",""]
[5003,"500301;500302;500303;500304;500305;500306;500307;500308;500309;500310;500311;500312;500313;500314;500315;500316;500317;500318;500319;500320;102",99,2,1,0,1,1,1001,500,null,null,1,1,{"$f":"IF(P111=\"\",\"\",VLOOKUP(P111,条件类型查询!A:B,2,FALSE))","v":""},null,null,null,4071,4146,"北海剑妖","百年化妖为红颜，一剑焚海断孽缘",{"$f":"COUNTIF(EventLinkConfig!O:O,EventConfig!A111)","v":20},500301,500302,500303,500304,500305,500306,500307,500308,500309,500310,500311,500312,500313,500314,500315,500316,500317,500318,500319,500320]
[5004,{"$f":"IF(A112=\"\",\"\",_xlfn.TEXTJOIN(\";\",1,X112:AQ112,102))","v":"500401;102"},99,7,1,0,1,1,1001,-20000,{"$nulls":4},{"$f":"IF(P112=\"\",\"\",VLOOKUP(P112,条件类型查询!A:B,2,FALSE))","v":""},null,null,null,4072,4147,"【纳福】灵石","大量获取灵石",{"$f":"COUNTIF(EventLinkConfig!O:O,EventConfig!A112)","v":1},500401,"","","","","","","","","","","","","","","","","","",""]
[5005,{"$f":"IF(A113=\"\",\"\",_xlfn.TEXTJOIN(\";\",1,X113:AQ113,102))","v":"500501;102"},99,7,1,0,1,1,1003,-20000,{"$nulls":4},{"$f":"IF(P113=\"\",\"\",VLOOKUP(P113,条件类型查询!A:B,2,FALSE))","v":""},null,null,null,4073,4148,"【纳福】修为","大量获取修为",{"$f":"COUNTIF(EventLinkConfig!O:O,EventConfig!A113)","v":1},500501,"","","","","","","","","","","","","","","","","","",""]
[5006,"500601;102",99,7,1,0,1,1,1005,-20000,{"$nulls":4},{"$f":"IF(P114=\"\",\"\",VLOOKUP(P114,条件类型查询!A:B,2,FALSE))","v":""},null,null,null,4074,4149,"【纳福】灵气","大量获取灵气",{"$f":"COUNTIF(EventLinkConfig!O:O,EventConfig!A114)","v":1},500601,"","","","","","","","","","","","","","","","","","",""]
[5007,{"$f":"IF(A115=\"\",\"\",_xlfn.TEXTJOIN(\";\",1,X115:AQ115,102))","v":"500701;102"},99,7,1,0,1,1,1006,-20000,{"$nulls":4},{"$f":"IF(P115=\"\",\"\",VLOOKUP(P115,条件类型查询!A:B,2,FALSE))","v":""},null,null,null,4075,4150,"【纳福】玄晶","大量获取玄晶",{"$f":"COUNTIF(EventLinkConfig!O:O,EventConfig!A115)","v":1},500701,"","","","","","","","","","","","","","","","","","",""]

{"sheet":"EventLinkConfig","index":1,"n_rows":585,"n_cols":37,"rows_kept":585,"cut":false,"hidden":false,"merged":[]}
["ID","conciseEventMessage",null,"EventConditionMessage",null,null,"PreShow","PreShowPar",null,"NPCID",null,"LanID",null,"DialogueType","EventID",null,"ConditionId",null,null,null,"optionType","optionPara1","optionPara2",{"$nulls":6},"PrizeIDs","PrizeNums","ResultType","ResultOptions"]
["int","int",null,"int",null,null,"int","int",null,"int",null,"int[]",null,"int","int",null,"int[]",null,null,null,"int","int[]","int[]",{"$nulls":6},"int[]","int[]","int","int[]"]
[null,null,5001,{"$nulls":31},5000]
["ID","任务列表中的简洁描述","任务列表中的简洁描述","无任务目标时的补充文本","无任务目标时的补充文本",null,"前置表现\n1飞行","前置表现参数\n",null,"对话NPCID","NPC","对话","对话1","对话框类型","属于哪个事件","步骤","条件判断类型","任务目标1","任务目标2","条件判断内容","步骤类型\n1=提供选项\n2=进入战斗\n5=自动退出\n3=获得奖励\n4=扣除道具","事件常量1\n1=步骤IDs\n2=战斗ID","事件常量2\n1=事件文本","选择1","选择1\n步骤：填选项文本1\n战斗：填战斗ID","选择1\n步骤1：跳转到哪一步\n不填默认跳转到下一步","选择2","选择2\n步骤：填选项文本2","选择1\n步骤2：跳转到哪一步\n不填默认跳转到下一步","事件结局奖励","事件结局奖励数量","事件结束类型\n1：跳转步骤\n2：根据战斗结果跳转\n3.触发新事件","事件结局后提供的选项\n1.EventLinkId\n2.胜利id;失败id\n3.EventConfigId","1.步骤ID（不填默认为下一个步骤ID）\n2.胜利ID（不填默认为下一个步骤ID）\n3.事件ID（不填默认为下一个事件ID）","语言表最大值"]
[100,{"$f":"IF(C5=\"\",\"\",IF(C5=C4,B4,MAX(AI4,AI3)+1))","v":""},null,{"$f":"IF(E5=\"\",\"\",IF(E5=E4,D4,MAX(AI4,AI3,B5)+1))","v":""},{"$nulls":7},{"$f":"IF(M5=\"\",\"\",MAX(AI4,AI3,B5,D5)+1)","v":5001},"你被怪物击败，神识也随之消散了。",null,null,null,{"$f":"_xlfn.TEXTJOIN(\";\",1,R5:S5)","v":""},null,null,{"$f":"IF(R5=\"\",\"\",\"-\"&VLOOKUP(R5,EventConditionConfig!A:C,3,FALSE)&IF(S5=\"\",\"\",CHAR(10)&\"-\"&VLOOKUP(S5,EventConditionConfig!A:C,3,FALSE)))","v":""},null,null,null,{"$f":"IF(OR(ISNUMBER(Y5),Y5=\"\"),\"\",MAX(AI4,AI3,B5,D5,L5)+1)","v":""},null,null,{"$f":"IF(OR(ISNUMBER(AB5),AB5=\"\"),\"\",X5+1)","v":""},{"$nulls":7},{"$f":"IF(A5=\"\",\"\",MAX(B5,D5,L5,X5,AA5,AI4,AI3))","v":5001}]
[101,{"$f":"IF(C6=\"\",\"\",IF(C6=C5,B5,MAX(AI5,AI4)+1))","v":""},null,{"$f":"IF(E6=\"\",\"\",IF(E6=E5,D5,MAX(AI5,AI4,B6)+1))","v":""},{"$nulls":7},{"$f":"IF(M6=\"\",\"\",MAX(AI5,AI4,B6,D6)+1)","v":5002},"你败下阵来，感到头晕目眩，试图努力回忆起刚才发生的事情。",null,null,null,{"$f":"_xlfn.TEXTJOIN(\";\",1,R6:S6)","v":""},null,null,{"$f":"IF(R6=\"\",\"\",\"-\"&VLOOKUP(R6,EventConditionConfig!A:C,3,FALSE)&IF(S6=\"\",\"\",CHAR(10)&\"-\"&VLOOKUP(S6,EventConditionConfig!A:C,3,FALSE)))","v":""},null,null,null,{"$f":"IF(OR(ISNUMBER(Y6),Y6=\"\"),\"\",MAX(AI5,AI4,B6,D6,L6)+1)","v":""},null,null,{"$f":"IF(OR(ISNUMBER(AB6),AB6=\"\"),\"\",X6+1)","v":""},{"$nulls":7},{"$f":"IF(A6=\"\",\"\",MAX(B6,D6,L6,X6,AA6,AI5,AI4))","v":5002}]
[102,"",null,"",{"$nulls":7},5003,"战斗胜利，你的任务进度增加了。",{"$nulls":10},"",null,null,"",{"$nulls":7},5003]
[null,"",null,"",{"$nulls":7},"",{"$nulls":4},"",null,null,{"$f":"IF(R8=\"\",\"\",\"-\"&VLOOKUP(R8,EventConditionConfig!A:C,3,FALSE)&IF(S8=\"\",\"\",CHAR(10)&\"-\"&VLOOKUP(S8,EventConditionConfig!A:C,3,FALSE)))","v":""},null,null,null,"",null,null,"",{"$nulls":7},""]
[1001,"",null,"",{"$nulls":5},2,null,5004,"你遇到一只奄奄一息的野狼，从周围四散的血迹来看，想必它刚才经历了一场恶战。",null,1,null,"",null,null,{"$f":"IF(R9=\"\",\"\",\"-\"&VLOOKUP(R9,EventConditionConfig!A:C,3,FALSE)&IF(S9=\"\",\"\",CHAR(10)&\"-\"&VLOOKUP(S9,EventConditionConfig!A:C,3,FALSE)))","v":""},1,"1002;1003","198;199",5005,"趁它虚弱赶紧除掉它！",null,5006,"你不忍见它受苦，选择帮它减轻痛苦。",{"$nulls":6},5006]
[1002,"",null,"",{"$nulls":7},5007,"野狼用它最后一口气，朝你扑了过来！",null,1,null,"",null,null,{"$f":"IF(R10=\"\",\"\",\"-\"&VLOOKUP(R10,EventConditionConfig!A:C,3,FALSE)&IF(S10=\"\",\"\",CHAR(10)&\"-\"&VLOOKUP(S10,EventConditionConfig!A:C,3,FALSE)))","v":""},2,100001,null,"",null,null,"",{"$nulls":4},2,"1004;100",null,5007]
[1003,"",null,"",{"$nulls":7},5008,"你抽出匕首准备了结它的生命，却发现怀中还躺着一只刚出生的狼崽。",null,1,null,"",null,null,{"$f":"IF(R11=\"\",\"\",\"-\"&VLOOKUP(R11,EventConditionConfig!A:C,3,FALSE)&IF(S11=\"\",\"\",CHAR(10)&\"-\"&VLOOKUP(S11,EventConditionConfig!A:C,3,FALSE)))","v":""},1,1005,200,"",null,null,"",{"$nulls":7},5008]
[1004,"",null,"",{"$nulls":7},5009,"随着你的最后一击，野狼应声倒下，你罔顾它幽怨的眼神，从它怀中拿走了一些财物。",null,1,null,"",null,null,{"$f":"IF(R12=\"\",\"\",\"-\"&VLOOKUP(R12,EventConditionConfig!A:C,3,FALSE)&IF(S12=\"\",\"\",CHAR(10)&\"-\"&VLOOKUP(S12,EventConditionConfig!A:C,3,FALSE)))","v":""},3,null,null,"",null,null,"",null,null,1002,100,null,null,null,5009]
[1005,"",null,"",{"$nulls":7},5010,"母狼似乎懂你要做什么，眼神归于平静。你终结了她，决定收养这只小狼仔。",null,1,null,"",null,null,{"$f":"IF(R13=\"\",\"\",\"-\"&VLOOKUP(R13,EventConditionConfig!A:C,3,FALSE)&IF(S13=\"\",\"\",CHAR(10)&\"-\"&VLOOKUP(S13,EventConditionConfig!A:C,3,FALSE)))","v":""},3,null,null,"",null,null,"",null,null,1001,50,null,null,null,5010]
[null,"",null,"",{"$nulls":7},"",{"$nulls":4},"",null,null,{"$f":"IF(R14=\"\",\"\",\"-\"&VLOOKUP(R14,EventConditionConfig!A:C,3,FALSE)&IF(S14=\"\",\"\",CHAR(10)&\"-\"&VLOOKUP(S14,EventConditionConfig!A:C,3,FALSE)))","v":""},null,null,null,"",null,null,"",{"$nulls":7},""]
[1010,"",null,"",{"$nulls":7},5011,"从不远处传来刀剑声，听起来双方已经精疲力尽了。",null,2,null,"",null,null,{"$f":"IF(R15=\"\",\"\",\"-\"&VLOOKUP(R15,EventConditionConfig!A:C,3,FALSE)&IF(S15=\"\",\"\",CHAR(10)&\"-\"&VLOOKUP(S15,EventConditionConfig!A:C,3,FALSE)))","v":""},1,"1011;1012","201;202",5012,"去看看",null,5013,"(需拥有法宝凝神珠）听起来都是鸡毛蒜皮的小摩擦，你选择祭出凝神珠化解他们的怨气。",{"$nulls":6},5013]
[1011,"",null,"",{"$nulls":7},5014,"你走进一看，原来是一伙山贼分赃不均内讧了起来。你看着旁边被砍的七零八落的轿子和这群山贼，选择怎么做呢：",null,2,null,"",null,null,{"$f":"IF(R16=\"\",\"\",\"-\"&VLOOKUP(R16,EventConditionConfig!A:C,3,FALSE)&IF(S16=\"\",\"\",CHAR(10)&\"-\"&VLOOKUP(S16,EventConditionConfig!A:C,3,FALSE)))","v":""},1,"1014;1015","203;204",5015,"你顿时杀心四起，决定杀了贼寇，救出轿中之人",null,5016,"盗贼们个个双眼杀的通红，你决定来个渔翁得利。",{"$nulls":6},5016]
[1012,"",null,"",{"$nulls":7},5017,"法宝现身，效果立竿见影，刀剑声逐渐消失，这个世界安静了。",null,2,null,"",null,null,{"$f":"IF(R17=\"\",\"\",\"-\"&VLOOKUP(R17,EventConditionConfig!A:C,3,FALSE)&IF(S17=\"\",\"\",CHAR(10)&\"-\"&VLOOKUP(S17,EventConditionConfig!A:C,3,FALSE)))","v":""},3,null,null,"",null,null,"",null,null,1001,10,null,null,null,5017,1,"1001;1"]
[1014,"",null,"",{"$nulls":7},5018,"你怒斥贼寇的恶行，贼寇们被你激怒了，准备迎战！",null,2,null,"",null,null,{"$f":"IF(R18=\"\",\"\",\"-\"&VLOOKUP(R18,EventConditionConfig!A:C,3,FALSE)&IF(S18=\"\",\"\",CHAR(10)&\"-\"&VLOOKUP(S18,EventConditionConfig!A:C,3,FALSE)))","v":""},2,100002,null,"",null,null,"",{"$nulls":4},2,"1016;100",null,5018,2,"4;150"]
[1015,"",null,"",{"$nulls":7},5019,"你趁人不备顺走了轿内主人的包裹，任留轿内人痛苦的挣扎。",null,2,null,"",null,null,{"$f":"IF(R19=\"\",\"\",\"-\"&VLOOKUP(R19,EventConditionConfig!A:C,3,FALSE)&IF(S19=\"\",\"\",CHAR(10)&\"-\"&VLOOKUP(S19,EventConditionConfig!A:C,3,FALSE)))","v":""},3,null,null,"",null,null,"",null,null,1003,1000,null,null,null,5019]
[1016,"",null,"",{"$nulls":7},5020,"杀退贼寇，你上演了一出英雄救美的桥段。姑娘为了答谢你的救命之恩，将藏在贴身处的珍贵首饰赠与你作为定情信物。",null,2,null,"",null,null,{"$f":"IF(R20=\"\",\"\",\"-\"&VLOOKUP(R20,EventConditionConfig!A:C,3,FALSE)&IF(S20=\"\",\"\",CHAR(10)&\"-\"&VLOOKUP(S20,EventConditionConfig!A:C,3,FALSE)))","v":""},null,null,null,"",null,null,"",null,null,1001,200,null,null,null,5020]
[null,"",null,"",{"$nulls":7},"",{"$nulls":4},"",null,null,{"$f":"IF(R21=\"\",\"\",\"-\"&VLOOKUP(R21,EventConditionConfig!A:C,3,FALSE)&IF(S21=\"\",\"\",CHAR(10)&\"-\"&VLOOKUP(S21,EventConditionConfig!A:C,3,FALSE)))","v":""},null,null,null,"",null,null,"",{"$nulls":7},""]
[1020,"",null,"",{"$nulls":7},5021,"从不远处传来刀剑声，听起来双方已经精疲力尽了。",null,null,null,"",null,null,{"$f":"IF(R22=\"\",\"\",\"-\"&VLOOKUP(R22,EventConditionConfig!A:C,3,FALSE)&IF(S22=\"\",\"\",CHAR(10)&\"-\"&VLOOKUP(S22,EventConditionConfig!A:C,3,FALSE)))","v":""},1,"1021;1022","201;202",5022,"去看看",null,5023,"使用法宝息事宁人",{"$nulls":6},5023]
[1021,"",null,"",{"$nulls":7},5024,"你走进一看，原来是一伙山贼抢了一名坐在官轿内的女子，因分赃不均内讧了起来。山贼二话不说就朝你冲了过来！",null,null,null,"",null,null,{"$f":"IF(R23=\"\",\"\",\"-\"&VLOOKUP(R23,EventConditionConfig!A:C,3,FALSE)&IF(S23=\"\",\"\",CHAR(10)&\"-\"&VLOOKUP(S23,EventConditionConfig!A:C,3,FALSE)))","v":""},2,100003,null,"",null,null,"",null,null,1002,100,2,"1026;100",null,5024]
[1022,"",null,"",{"$nulls":7},5025,"法宝现身，效果立竿见影，刀剑声逐渐消失，这个世界安静了。",null,null,null,"",null,null,{"$f":"IF(R24=\"\",\"\",\"-\"&VLOOKUP(R24,EventConditionConfig!A:C,3,FALSE)&IF(S24=\"\",\"\",CHAR(10)&\"-\"&VLOOKUP(S24,EventConditionConfig!A:C,3,FALSE)))","v":""},4,null,null,"",null,null,"",null,null,1002,10,null,null,null,5025,1,"1001;1"]
[1024,"",null,"",{"$nulls":7},5026,"你大声怒斥贼寇的恶行，贼首发现你了，准备迎战！",null,null,null,"",null,null,{"$f":"IF(R25=\"\",\"\",\"-\"&VLOOKUP(R25,EventConditionConfig!A:C,3,FALSE)&IF(S25=\"\",\"\",CHAR(10)&\"-\"&VLOOKUP(S25,EventConditionConfig!A:C,3,FALSE)))","v":""},2,100004,null,"",null,null,"",null,null,1004,100,2,"1016;100",null,5026,2,"4;150"]
[1025,"",null,"",{"$nulls":7},5027,"你趁人不备顺走了轿内主人的包裹，任留轿内人痛苦的挣扎。",null,null,null,"",null,null,{"$f":"IF(R26=\"\",\"\",\"-\"&VLOOKUP(R26,EventConditionConfig!A:C,3,FALSE)&IF(S26=\"\",\"\",CHAR(10)&\"-\"&VLOOKUP(S26,EventConditionConfig!A:C,3,FALSE)))","v":""},3,null,null,"",null,null,"",null,null,1002,1000,null,null,null,5027]
[1026,"",null,"",{"$nulls":7},5028,"你将山贼们打的落花流水，成功吸引了山贼头子的注意。",null,null,null,"",null,null,{"$f":"IF(R27=\"\",\"\",\"-\"&VLOOKUP(R27,EventConditionConfig!A:C,3,FALSE)&IF(S27=\"\",\"\",CHAR(10)&\"-\"&VLOOKUP(S27,EventConditionConfig!A:C,3,FALSE)))","v":""},1,"1024;1025","205;206",5029,"选择正面迎战山贼头领（困难）",null,5030,"你决定避开山贼头领的视线，来个渔翁得利。",{"$nulls":6},5030]
[null,"",null,"",{"$nulls":7},"",{"$nulls":4},"",null,null,{"$f":"IF(R28=\"\",\"\",\"-\"&VLOOKUP(R28,EventConditionConfig!A:C,3,FALSE)&IF(S28=\"\",\"\",CHAR(10)&\"-\"&VLOOKUP(S28,EventConditionConfig!A:C,3,FALSE)))","v":""},null,null,null,"",null,null,"",{"$nulls":7},""]
[1030,"",null,"",{"$nulls":7},5031,"发现一个血迹斑斑的背包，好像刚刚发生了战斗，我翻翻背包...",null,4,null,"",null,null,{"$f":"IF(R29=\"\",\"\",\"-\"&VLOOKUP(R29,EventConditionConfig!A:C,3,FALSE)&IF(S29=\"\",\"\",CHAR(10)&\"-\"&VLOOKUP(S29,EventConditionConfig!A:C,3,FALSE)))","v":""},3,null,null,"",null,null,"",null,null,1002,10,null,null,null,5031]
[null,"",null,"",{"$nulls":7},"",{"$nulls":4},"",null,null,{"$f":"IF(R30=\"\",\"\",\"-\"&VLOOKUP(R30,EventConditionConfig!A:C,3,FALSE)&IF(S30=\"\",\"\",CHAR(10)&\"-\"&VLOOKUP(S30,EventConditionConfig!A:C,3,FALSE)))","v":""},null,null,null,"",null,null,"",{"$nulls":7},""]
[1040,"",null,"",{"$nulls":7},5032,"啥也没有....除了钱",null,5,null,"",null,null,{"$f":"IF(R31=\"\",\"\",\"-\"&VLOOKUP(R31,EventConditionConfig!A:C,3,FALSE)&IF(S31=\"\",\"\",CHAR(10)&\"-\"&VLOOKUP(S31,EventConditionConfig!A:C,3,FALSE)))","v":""},3,null,null,"",null,null,"",null,null,1002,10,null,null,null,5032]
[null,"",null,"",{"$nulls":7},"",{"$nulls":4},"",null,null,{"$f":"IF(R32=\"\",\"\",\"-\"&VLOOKUP(R32,EventConditionConfig!A:C,3,FALSE)&IF(S32=\"\",\"\",CHAR(10)&\"-\"&VLOOKUP(S32,EventConditionConfig!A:C,3,FALSE)))","v":""},null,null,null,"",null,null,"",{"$nulls":7},""]
[1050,"",null,"",{"$nulls":7},5033,"两夫妻在吵架，似乎为了一件大事..",null,6,null,"",null,null,{"$f":"IF(R33=\"\",\"\",\"-\"&VLOOKUP(R33,EventConditionConfig!A:C,3,FALSE)&IF(S33=\"\",\"\",CHAR(10)&\"-\"&VLOOKUP(S33,EventConditionConfig!A:C,3,FALSE)))","v":""},3,null,null,"",null,null,"",null,null,"1002;1001","10;20",null,null,null,5033]
[null,"",null,"",{"$nulls":7},"",{"$nulls":4},"",null,null,{"$f":"IF(R34=\"\",\"\",\"-\"&VLOOKUP(R34,EventConditionConfig!A:C,3,FALSE)&IF(S34=\"\",\"\",CHAR(10)&\"-\"&VLOOKUP(S34,EventConditionConfig!A:C,3,FALSE)))","v":""},null,null,null,"",null,null,"",{"$nulls":7},""]
[1060,"",null,"",{"$nulls":7},5034,"没有任何发现，但感觉空气很好....下次有空再来看看",null,7,null,"",null,null,{"$f":"IF(R35=\"\",\"\",\"-\"&VLOOKUP(R35,EventConditionConfig!A:C,3,FALSE)&IF(S35=\"\",\"\",CHAR(10)&\"-\"&VLOOKUP(S35,EventConditionConfig!A:C,3,FALSE)))","v":""},null,null,null,"",null,null,"",{"$nulls":7},5034]
[null,"",null,"",{"$nulls":7},"",{"$nulls":4},"",null,null,{"$f":"IF(R36=\"\",\"\",\"-\"&VLOOKUP(R36,EventConditionConfig!A:C,3,FALSE)&IF(S36=\"\",\"\",CHAR(10)&\"-\"&VLOOKUP(S36,EventConditionConfig!A:C,3,FALSE)))","v":""},null,null,null,"",null,null,"",{"$nulls":7},""]
[{"$f":"O37*100+P37","v":1101},"",null,"",{"$nulls":7},5035,"你遇到一只拦路的妖兽，它看起来饥肠辘辘",null,11,{"$f":"IF(O37=O36,P36+1,1)","v":1},"",null,null,{"$f":"IF(R37=\"\",\"\",\"-\"&VLOOKUP(R37,EventConditionConfig!A:C,3,FALSE)&IF(S37=\"\",\"\",CHAR(10)&\"-\"&VLOOKUP(S37,EventConditionConfig!A:C,3,FALSE)))","v":""},null,null,null,"",null,null,"",{"$nulls":4},1,{"$f":"A38","v":1102},null,5035]
[{"$f":"O38*100+P38","v":1102},"",null,"",{"$nulls":7},5036,"你扔出一块鹿肉，趁它抢食之际，你祭出腰间的法宝",null,11,{"$f":"IF(O38=O37,P37+1,1)","v":2},"",null,null,{"$f":"IF(R38=\"\",\"\",\"-\"&VLOOKUP(R38,EventConditionConfig!A:C,3,FALSE)&IF(S38=\"\",\"\",CHAR(10)&\"-\"&VLOOKUP(S38,EventConditionConfig!A:C,3,FALSE)))","v":""},null,null,null,"",null,null,"",{"$nulls":4},1,{"$f":"A39","v":1103},null,5036]
[{"$f":"O39*100+P39","v":1103},"",null,"",{"$nulls":7},5037,"你成功诱捕了怪物，并从它身上吸取了一些修为",null,11,{"$f":"IF(O39=O38,P38+1,1)","v":3},{"$f":"_xlfn.TEXTJOIN(\";\",1,R39:S39)","v":""},null,null,{"$f":"IF(R39=\"\",\"\",\"-\"&VLOOKUP(R39,EventConditionConfig!A:C,3,FALSE)&IF(S39=\"\",\"\",CHAR(10)&\"-\"&VLOOKUP(S39,EventConditionConfig!A:C,3,FALSE)))","v":""},null,null,null,"",null,null,"",{"$nulls":7},5037]
[null,"",null,"",{"$nulls":7},"",{"$nulls":4},"",null,null,{"$f":"IF(R40=\"\",\"\",\"-\"&VLOOKUP(R40,EventConditionConfig!A:C,3,FALSE)&IF(S40=\"\",\"\",CHAR(10)&\"-\"&VLOOKUP(S40,EventConditionConfig!A:C,3,FALSE)))","v":""},null,null,null,"",null,null,"",{"$nulls":7},""]
[{"$f":"O41*100+P41","v":1201},"",null,"",{"$nulls":7},5038,"你偶遇一处仙气四溢无人生活的洞穴",null,12,{"$f":"IF(O41=O40,P40+1,1)","v":1},"",null,null,{"$f":"IF(R41=\"\",\"\",\"-\"&VLOOKUP(R41,EventConditionConfig!A:C,3,FALSE)&IF(S41=\"\",\"\",CHAR(10)&\"-\"&VLOOKUP(S41,EventConditionConfig!A:C,3,FALSE)))","v":""},null,null,null,"",null,null,"",{"$nulls":4},1,{"$f":"A42","v":1202},null,5038]
[{"$f":"O42*100+P42","v":1202},"",null,"",{"$nulls":7},5039,"不知哪位高人在洞穴内壁留下绝世秘籍",null,12,{"$f":"IF(O42=O41,P41+1,1)","v":2},"",null,null,{"$f":"IF(R42=\"\",\"\",\"-\"&VLOOKUP(R42,EventConditionConfig!A:C,3,FALSE)&IF(S42=\"\",\"\",CHAR(10)&\"-\"&VLOOKUP(S42,EventConditionConfig!A:C,3,FALSE)))","v":""},null,null,null,"",null,null,"",{"$nulls":4},1,{"$f":"A43","v":1203},null,5039]
[{"$f":"O43*100+P43","v":1203},"",null,"",{"$nulls":7},5040,"你仔细研读后，功法得到精进",null,12,{"$f":"IF(O43=O42,P42+1,1)","v":3},"",null,null,{"$f":"IF(R43=\"\",\"\",\"-\"&VLOOKUP(R43,EventConditionConfig!A:C,3,FALSE)&IF(S43=\"\",\"\",CHAR(10)&\"-\"&VLOOKUP(S43,EventConditionConfig!A:C,3,FALSE)))","v":""},null,null,null,"",null,null,"",{"$nulls":7},5040]
[null,"",null,"",{"$nulls":7},"",{"$nulls":4},"",null,null,{"$f":"IF(R44=\"\",\"\",\"-\"&VLOOKUP(R44,EventConditionConfig!A:C,3,FALSE)&IF(S44=\"\",\"\",CHAR(10)&\"-\"&VLOOKUP(S44,EventConditionConfig!A:C,3,FALSE)))","v":""},null,null,null,"",null,null,"",{"$nulls":7},""]
[{"$f":"O45*100+P45","v":1301},"",null,"",{"$nulls":7},5041,"你偶然发现一只枯萎的葫芦，但泛着蓝光",null,13,{"$f":"IF(O45=O44,P44+1,1)","v":1},"",null,null,{"$f":"IF(R45=\"\",\"\",\"-\"&VLOOKUP(R45,EventConditionConfig!A:C,3,FALSE)&IF(S45=\"\",\"\",CHAR(10)&\"-\"&VLOOKUP(S45,EventConditionConfig!A:C,3,FALSE)))","v":""},null,null,null,"",null,null,"",{"$nulls":4},1,{"$f":"A46","v":1302},null,5041]
[{"$f":"O46*100+P46","v":1302},"",null,"",{"$nulls":7},5042,"好奇的你凑近一看，不知谁将这件法宝遗落于此",null,13,{"$f":"IF(O46=O45,P45+1,1)","v":2},"",null,null,{"$f":"IF(R46=\"\",\"\",\"-\"&VLOOKUP(R46,EventConditionConfig!A:C,3,FALSE)&IF(S46=\"\",\"\",CHAR(10)&\"-\"&VLOOKUP(S46,EventConditionConfig!A:C,3,FALSE)))","v":""},null,null,null,"",null,null,"",{"$nulls":4},1,{"$f":"A47","v":1303},null,5042]
[1303,"",null,"",{"$nulls":7},5043,"但法宝已经枯竭，你后悔没有早点发现它",null,13,3,"",null,null,{"$f":"IF(R47=\"\",\"\",\"-\"&VLOOKUP(R47,EventConditionConfig!A:C,3,FALSE)&IF(S47=\"\",\"\",CHAR(10)&\"-\"&VLOOKUP(S47,EventConditionConfig!A:C,3,FALSE)))","v":""},null,null,null,"",null,null,"",{"$nulls":4},1,{"$f":"A48","v":1304},null,5043]
[1304,"",null,"",{"$nulls":7},5044,"最后你从法宝中回收了一些玄晶",null,13,4,"",null,null,{"$f":"IF(R48=\"\",\"\",\"-\"&VLOOKUP(R48,EventConditionConfig!A:C,3,FALSE)&IF(S48=\"\",\"\",CHAR(10)&\"-\"&VLOOKUP(S48,EventConditionConfig!A:C,3,FALSE)))","v":""},null,null,null,"",null,null,"",{"$nulls":7},5044]
[null,"",null,"",{"$nulls":7},"",{"$nulls":4},"",null,null,{"$f":"IF(R49=\"\",\"\",\"-\"&VLOOKUP(R49,EventConditionConfig!A:C,3,FALSE)&IF(S49=\"\",\"\",CHAR(10)&\"-\"&VLOOKUP(S49,EventConditionConfig!A:C,3,FALSE)))","v":""},null,null,null,"",null,null,"",{"$nulls":7},""]
[{"$f":"O50*100+P50","v":1401},"",null,"",{"$nulls":7},5045,"你路过一座矿山，一个闪光点引起了你的注意",null,14,{"$f":"IF(O50=O49,P49+1,1)","v":1},{"$f":"_xlfn.TEXTJOIN(\";\",1,R50:S50)","v":""},null,null,{"$f":"IF(R50=\"\",\"\",\"-\"&VLOOKUP(R50,EventConditionConfig!A:C,3,FALSE)&IF(S50=\"\",\"\",CHAR(10)&\"-\"&VLOOKUP(S50,EventConditionConfig!A:C,3,FALSE)))","v":""},null,null,null,"",null,null,"",{"$nulls":4},1,{"$f":"A51","v":1402},null,5045]
[{"$f":"O51*100+P51","v":1402},"",null,"",{"$nulls":7},5046,"原来这是一颗珍贵的绿玛瑙",null,14,{"$f":"IF(O51=O50,P50+1,1)","v":2},"",null,null,{"$f":"IF(R51=\"\",\"\",\"-\"&VLOOKUP(R51,EventConditionConfig!A:C,3,FALSE)&IF(S51=\"\",\"\",CHAR(10)&\"-\"&VLOOKUP(S51,EventConditionConfig!A:C,3,FALSE)))","v":""},null,null,null,"",null,null,"",{"$nulls":4},1,{"$f":"A52","v":1403},null,5046]
[{"$f":"O52*100+P52","v":1403},"",null,"",{"$nulls":7},5047,"你祭出法宝，将它转化成一些灵石",null,14,{"$f":"IF(O52=O51,P51+1,1)","v":3},"",null,null,{"$f":"IF(R52=\"\",\"\",\"-\"&VLOOKUP(R52,EventConditionConfig!A:C,3,FALSE)&IF(S52=\"\",\"\",CHAR(10)&\"-\"&VLOOKUP(S52,EventConditionConfig!A:C,3,FALSE)))","v":""},null,null,null,"",null,null,"",{"$nulls":7},5047]
[null,"",null,"",{"$nulls":7},"",{"$nulls":11},"",null,null,"",{"$nulls":7},""]
[{"$f":"O54*100+P54","v":1501},"",null,"",{"$nulls":7},5048,"漫漫旅途，你通过神识释放增进不少阅历",null,15,{"$f":"IF(O54=O53,P53+1,1)","v":1},{"$f":"_xlfn.TEXTJOIN(\";\",1,R54:S54)","v":""},null,null,{"$f":"IF(R54=\"\",\"\",\"-\"&VLOOKUP(R54,EventConditionConfig!A:C,3,FALSE)&IF(S54=\"\",\"\",CHAR(10)&\"-\"&VLOOKUP(S54,EventConditionConfig!A:C,3,FALSE)))","v":""},null,null,null,"",null,null,"",{"$nulls":4},1,{"$f":"A55","v":1502},null,5048]
[{"$f":"O55*100+P55","v":1502},"",null,"",{"$nulls":7},5049,"但随之而来的是神识用尽的空虚感",null,15,{"$f":"IF(O55=O54,P54+1,1)","v":2},"",null,null,{"$f":"IF(R55=\"\",\"\",\"-\"&VLOOKUP(R55,EventConditionConfig!A:C,3,FALSE)&IF(S55=\"\",\"\",CHAR(10)&\"-\"&VLOOKUP(S55,EventConditionConfig!A:C,3,FALSE)))","v":""},null,null,null,"",null,null,"",{"$nulls":4},1,{"$f":"A56","v":1503},null,5049]
[{"$f":"O56*100+P56","v":1503},"",null,"",{"$nulls":7},5050,"但这种感受何尝又不是一种新的阅历呢",null,15,{"$f":"IF(O56=O55,P55+1,1)","v":3},"",null,null,{"$f":"IF(R56=\"\",\"\",\"-\"&VLOOKUP(R56,EventConditionConfig!A:C,3,FALSE)&IF(S56=\"\",\"\",CHAR(10)&\"-\"&VLOOKUP(S56,EventConditionConfig!A:C,3,FALSE)))","v":""},null,null,null,"",null,null,"",{"$nulls":4},1,{"$f":"A57","v":1504},null,5050]
[{"$f":"O57*100+P57","v":1504},"",null,"",{"$nulls":7},5051,"你将这些新的感悟存进了一颗神识丹",null,15,{"$f":"IF(O57=O56,P56+1,1)","v":4},{"$f":"_xlfn.TEXTJOIN(\";\",1,R57:S57)","v":""},null,null,{"$f":"IF(R57=\"\",\"\",\"-\"&VLOOKUP(R57,EventConditionConfig!A:C,3,FALSE)&IF(S57=\"\",\"\",CHAR(10)&\"-\"&VLOOKUP(S57,EventConditionConfig!A:C,3,FALSE)))","v":""},null,null,null,"",null,null,"",{"$nulls":7},5051]
[null,"",null,"",{"$nulls":7},"",{"$nulls":11},"",null,null,"",{"$nulls":7},""]
[{"$f":"O59*100+P59","v":1601},"",null,"",{"$nulls":7},5052,"两只体型硕大的妖兽正在为了一颗灵丹而缠斗",null,16,{"$f":"IF(O59=O58,P58+1,1)","v":1},{"$f":"_xlfn.TEXTJOIN(\";\",1,R59:S59)","v":""},null,null,{"$f":"IF(R59=\"\",\"\",\"-\"&VLOOKUP(R59,EventConditionConfig!A:C,3,FALSE)&IF(S59=\"\",\"\",CHAR(10)&\"-\"&VLOOKUP(S59,EventConditionConfig!A:C,3,FALSE)))","v":""},null,null,null,"",null,null,"",{"$nulls":4},1,{"$f":"A60","v":1602},null,5052]
[{"$f":"O60*100+P60","v":1602},"",null,"",{"$nulls":7},5053,"突然一道闪电自天而降，正中两只妖兽",null,16,{"$f":"IF(O60=O59,P59+1,1)","v":2},"",null,null,{"$f":"IF(R60=\"\",\"\",\"-\"&VLOOKUP(R60,EventConditionConfig!A:C,3,FALSE)&IF(S60=\"\",\"\",CHAR(10)&\"-\"&VLOOKUP(S60,EventConditionConfig!A:C,3,FALSE)))","v":""},null,null,null,"",null,null,"",{"$nulls":4},1,{"$f":"A61","v":1603},null,5053]
[{"$f":"O61*100+P61","v":1603},"",null,"",{"$nulls":7},5054,"何其悲哉，念完往生咒，你顺手拿走了这颗珍贵的妖丹",null,16,{"$f":"IF(O61=O60,P60+1,1)","v":3},"",null,null,{"$f":"IF(R61=\"\",\"\",\"-\"&VLOOKUP(R61,EventConditionConfig!A:C,3,FALSE)&IF(S61=\"\",\"\",CHAR(10)&\"-\"&VLOOKUP(S61,EventConditionConfig!A:C,3,FALSE)))","v":""},null,null,null,"",null,null,"",{"$nulls":7},5054]
[null,"",null,"",{"$nulls":7},"",{"$nulls":11},"",null,null,"",{"$nulls":7},""]
[9003,"",null,"",{"$nulls":7},5055,"你在闭关修炼时，感受到一股凌厉的剑意波动。深入探查，发现一名白衣剑修“清霜”盘坐于谷中，周围剑气环绕，正与一柄散发不祥气息的灵剑对峙。她似在参悟剑诀，却灵气不足，剑灵桀骜。",null,null,null,"",null,null,{"$f":"IF(R63=\"\",\"\",\"-\"&VLOOKUP(R63,EventConditionConfig!A:C,3,FALSE)&IF(S63=\"\",\"\",CHAR(10)&\"-\"&VLOOKUP(S63,EventConditionConfig!A:C,3,FALSE)))","v":""},1,"9004;9006","2041;2042","",null,null,"",{"$nulls":7},5055]
[9004,"",null,"",{"$nulls":7},5056,"你上前以剑意对抗剑灵",null,null,null,"",null,null,{"$f":"IF(R64=\"\",\"\",\"-\"&VLOOKUP(R64,EventConditionConfig!A:C,3,FALSE)&IF(S64=\"\",\"\",CHAR(10)&\"-\"&VLOOKUP(S64,EventConditionConfig!A:C,3,FALSE)))","v":""},2,100001,null,"",null,null,"",{"$nulls":4},2,"9005;100",null,5056]
[9005,"",null,"",{"$nulls":7},5057,"成功压制剑灵，清霜赠你“霜华剑符”并结下道友之谊",null,null,null,"",null,null,{"$f":"IF(R65=\"\",\"\",\"-\"&VLOOKUP(R65,EventConditionConfig!A:C,3,FALSE)&IF(S65=\"\",\"\",CHAR(10)&\"-\"&VLOOKUP(S65,EventConditionConfig!A:C,3,FALSE)))","v":""},null,null,null,"",null,null,"",{"$nulls":7},5057]
[9006,"",null,"",{"$nulls":7},5058,"你察觉谷中灵气匮乏，清霜剑意凝滞。神识探查得知，附近秘境可采集“玄冰花”",null,null,null,"",null,null,{"$f":"IF(R66=\"\",\"\",\"-\"&VLOOKUP(R66,EventConditionConfig!A:C,3,FALSE)&IF(S66=\"\",\"\",CHAR(10)&\"-\"&VLOOKUP(S66,EventConditionConfig!A:C,3,FALSE)))","v":""},null,null,null,"",null,null,"",{"$nulls":7},5058]
[9007,"",null,"",{"$nulls":7},5059,"献上玄冰花，清霜炼化灵气突破瓶颈，赠你“玄霜剑意”",null,null,null,"",null,null,{"$f":"IF(R67=\"\",\"\",\"-\"&VLOOKUP(R67,EventConditionConfig!A:C,3,FALSE)&IF(S67=\"\",\"\",CHAR(10)&\"-\"&VLOOKUP(S67,EventConditionConfig!A:C,3,FALSE)))","v":""},4,null,null,"",null,null,"",{"$nulls":4},1,9007,null,5059]
[9008,"",null,"",{"$nulls":7},"",{"$nulls":4},"",null,null,{"$f":"IF(R68=\"\",\"\",\"-\"&VLOOKUP(R68,EventConditionConfig!A:C,3,FALSE)&IF(S68=\"\",\"\",CHAR(10)&\"-\"&VLOOKUP(S68,EventConditionConfig!A:C,3,FALSE)))","v":""},3,null,null,"",null,null,"",null,null,1001,999,null,null,null,5059]
[null,"",null,"",{"$nulls":7},"",{"$nulls":4},"",null,null,{"$f":"IF(R69=\"\",\"\",\"-\"&VLOOKUP(R69,EventConditionConfig!A:C,3,FALSE)&IF(S69=\"\",\"\",CHAR(10)&\"-\"&VLOOKUP(S69,EventConditionConfig!A:C,3,FALSE)))","v":""},null,null,null,"",null,null,"",{"$nulls":7},""]
[9025,{"$f":"IF(C70=\"\",\"\",IF(C70=C69,B69,MAX(AI69,AI68)+1))","v":""},null,{"$f":"IF(E70=\"\",\"\",IF(E70=E69,D69,MAX(AI69,AI68,B70)+1))","v":5060},"和惠子交谈",{"$nulls":6},{"$f":"IF(M70=\"\",\"\",MAX(AI69,AI68,B70,D70)+1)","v":5061},"惠子种的葫芦没用，他非常生气，需要打败魔休",null,null,null,"",null,null,{"$f":"IF(R70=\"\",\"\",\"-\"&VLOOKUP(R70,EventConditionConfig!A:C,3,FALSE)&IF(S70=\"\",\"\",CHAR(10)&\"-\"&VLOOKUP(S70,EventConditionConfig!A:C,3,FALSE)))","v":""},1,9026,2075,{"$f":"IF(OR(ISNUMBER(Y70),Y70=\"\"),\"\",MAX(AI69,AI68,B70,D70,L70)+1)","v":""},null,null,{"$f":"IF(OR(ISNUMBER(AB70),AB70=\"\"),\"\",X70+1)","v":""},{"$nulls":7},{"$f":"IF(A70=\"\",\"\",MAX(B70,D70,L70,X70,AA70,AI69,AI68))","v":5061}]
[9026,"",null,"",{"$nulls":7},5062,"选择后接新的事件",null,null,null,"",null,null,{"$f":"IF(R71=\"\",\"\",\"-\"&VLOOKUP(R71,EventConditionConfig!A:C,3,FALSE)&IF(S71=\"\",\"\",CHAR(10)&\"-\"&VLOOKUP(S71,EventConditionConfig!A:C,3,FALSE)))","v":""},null,null,null,5063,"接受任务",null,"",{"$nulls":4},3,9014,null,5063]
[null,"",null,"",{"$nulls":7},"",{"$nulls":4},"",null,null,{"$f":"IF(R72=\"\",\"\",\"-\"&VLOOKUP(R72,EventConditionConfig!A:C,3,FALSE)&IF(S72=\"\",\"\",CHAR(10)&\"-\"&VLOOKUP(S72,EventConditionConfig!A:C,3,FALSE)))","v":""},null,null,null,"",null,null,"",{"$nulls":7},""]
[9014,"",null,5064,"击杀魔休",{"$nulls":6},"",{"$nulls":4},"3",3,null,{"$f":"IF(R73=\"\",\"\",\"-\"&VLOOKUP(R73,EventConditionConfig!A:C,3,FALSE)&IF(S73=\"\",\"\",CHAR(10)&\"-\"&VLOOKUP(S73,EventConditionConfig!A:C,3,FALSE)))","v":"-击杀魔休"},null,null,null,"",null,null,"",{"$nulls":7},5064]
[null,"",null,"",{"$nulls":7},"",{"$nulls":4},{"$f":"_xlfn.TEXTJOIN(\";\",1,R74:S74)","v":""},null,null,{"$f":"IF(R74=\"\",\"\",\"-\"&VLOOKUP(R74,EventConditionConfig!A:C,3,FALSE)&IF(S74=\"\",\"\",CHAR(10)&\"-\"&VLOOKUP(S74,EventConditionConfig!A:C,3,FALSE)))","v":""},null,null,null,"",null,null,"",{"$nulls":7},""]
[9031,5065,"出现Boss魔修",5066,"打败魔修",{"$nulls":6},"",{"$nulls":4},"",null,null,{"$f":"IF(R75=\"\",\"\",\"-\"&VLOOKUP(R75,EventConditionConfig!A:C,3,FALSE)&IF(S75=\"\",\"\",CHAR(10)&\"-\"&VLOOKUP(S75,EventConditionConfig!A:C,3,FALSE)))","v":""},2,100001,null,"",null,null,"",{"$nulls":7},5066]
[null,"",null,"",{"$nulls":7},"",{"$nulls":4},"",null,null,{"$f":"IF(R76=\"\",\"\",\"-\"&VLOOKUP(R76,EventConditionConfig!A:C,3,FALSE)&IF(S76=\"\",\"\",CHAR(10)&\"-\"&VLOOKUP(S76,EventConditionConfig!A:C,3,FALSE)))","v":""},null,null,null,"",null,null,"",{"$nulls":7},""]
[{"$f":"O77*100+P77","v":1000101},5067,"使用风铃唤醒还未泯灭的神识","",{"$nulls":7},5068,"北冥有鱼，其名为鲲……",2,10001,{"$f":"IF(O77=O76,P76+1,1)","v":1},"",null,null,{"$f":"IF(R77=\"\",\"\",\"-\"&VLOOKUP(R77,EventConditionConfig!A:C,3,FALSE)&IF(S77=\"\",\"\",CHAR(10)&\"-\"&VLOOKUP(S77,EventConditionConfig!A:C,3,FALSE)))","v":""},null,null,null,"",null,null,"",{"$nulls":4},{"$f":"IF(A77=\"\",\"\",IF(U77=1,\"\",IF(A78=\"\",3,1)))","v":1},{"$f":"IF(AF77=1,A78,IF(AF77=3,LEFT(A77,5)+1,\"\"))","v":1000102},null,5068]
[{"$f":"O78*100+P78","v":1000102},5067,"使用风铃唤醒还未泯灭的神识","",{"$nulls":7},5069,"不过北海遥远，何时能寻得鲲鹏的踪迹。",2,10001,{"$f":"IF(O78=O77,P77+1,1)","v":2},"",null,null,{"$f":"IF(R78=\"\",\"\",\"-\"&VLOOKUP(R78,EventConditionConfig!A:C,3,FALSE)&IF(S78=\"\",\"\",CHAR(10)&\"-\"&VLOOKUP(S78,EventConditionConfig!A:C,3,FALSE)))","v":""},null,null,null,"",null,null,"",{"$nulls":4},{"$f":"IF(A78=\"\",\"\",IF(U78=1,\"\",IF(A79=\"\",3,1)))","v":1},{"$f":"IF(AF78=1,A79,IF(AF78=3,LEFT(A78,5)+1,\"\"))","v":1000103},null,5069]
[{"$f":"O79*100+P79","v":1000103},5067,"使用风铃唤醒还未泯灭的神识","",{"$nulls":7},5070,"好在我的神识尚在，可探天地，再加上刚刚的风铃，或许能寻得前路线索。",2,10001,3,"",null,null,{"$f":"IF(R79=\"\",\"\",\"-\"&VLOOKUP(R79,EventConditionConfig!A:C,3,FALSE)&IF(S79=\"\",\"\",CHAR(10)&\"-\"&VLOOKUP(S79,EventConditionConfig!A:C,3,FALSE)))","v":""},null,null,null,"",null,null,"",{"$nulls":4},1,1000104,null,5070]
[{"$f":"O80*100+P80","v":1000104},5067,"使用风铃唤醒还未泯灭的神识","",{"$nulls":7},"",null,null,10001,4,"5",5,null,{"$f":"IF(R80=\"\",\"\",\"-\"&VLOOKUP(R80,EventConditionConfig!A:C,3,FALSE)&IF(S80=\"\",\"\",CHAR(10)&\"-\"&VLOOKUP(S80,EventConditionConfig!A:C,3,FALSE)))","v":"-使用神识"},null,null,null,"",null,null,"",{"$nulls":4},3,10002,null,5070]
[null,"",null,"",{"$nulls":7},"",{"$nulls":4},"",null,null,{"$f":"IF(R81=\"\",\"\",\"-\"&VLOOKUP(R81,EventConditionConfig!A:C,3,FALSE)&IF(S81=\"\",\"\",CHAR(10)&\"-\"&VLOOKUP(S81,EventConditionConfig!A:C,3,FALSE)))","v":""},null,null,null,"",null,null,"",{"$nulls":4},"","",null,""]
[{"$f":"O82*100+P82","v":1000201},5071,"前往妖兽盘踞的地方",5072,"御剑飞行",{"$nulls":6},5073,"神识发现有一条古径，隐于云山之间，不过似乎有妖兽盘踞。",3,10002,1,"",null,null,{"$f":"IF(R82=\"\",\"\",\"-\"&VLOOKUP(R82,EventConditionConfig!A:C,3,FALSE)&IF(S82=\"\",\"\",CHAR(10)&\"-\"&VLOOKUP(S82,EventConditionConfig!A:C,3,FALSE)))","v":""},null,null,null,"",null,null,"",{"$nulls":4},1,{"$f":"IF(AF82=1,A83,IF(AF82=3,LEFT(A82,5)+1,\"\"))","v":1000202},null,5073]
[{"$f":"O83*100+P83","v":1000202},5071,"前往妖兽盘踞的地方",5072,"御剑飞行",{"$nulls":6},5074,"没其他办法了，过去看看吧。",3,10002,2,"",null,null,{"$f":"IF(R83=\"\",\"\",\"-\"&VLOOKUP(R83,EventConditionConfig!A:C,3,FALSE)&IF(S83=\"\",\"\",CHAR(10)&\"-\"&VLOOKUP(S83,EventConditionConfig!A:C,3,FALSE)))","v":""},null,null,null,"",null,null,"",{"$nulls":4},1,1000203,null,5074]
[{"$f":"O84*100+P84","v":1000203},5071,"前往妖兽盘踞的地方",5072,"御剑飞行",null,1,1,null,null,null,"",null,null,10002,3,"",null,null,{"$f":"IF(R84=\"\",\"\",\"-\"&VLOOKUP(R84,EventConditionConfig!A:C,3,FALSE)&IF(S84=\"\",\"\",CHAR(10)&\"-\"&VLOOKUP(S84,EventConditionConfig!A:C,3,FALSE)))","v":""},null,null,null,"",null,null,"",{"$nulls":4},3,10003,null,5074]
[null,"",null,"",{"$nulls":7},"",{"$nulls":4},"",null,null,{"$f":"IF(R85=\"\",\"\",\"-\"&VLOOKUP(R85,EventConditionConfig!A:C,3,FALSE)&IF(S85=\"\",\"\",CHAR(10)&\"-\"&VLOOKUP(S85,EventConditionConfig!A:C,3,FALSE)))","v":""},null,null,null,"",null,null,"",{"$nulls":4},"","",null,""]
[1000301,5075,"蜩鸟和小麻雀对你的到来很好奇","",{"$nulls":6},{"$f":"IF(J86=\"\",\"\",VLOOKUP(J86,EventNPC!A:E,5,FALSE))","v":""},5076,"应该就是这里了，似乎有古老的阵法挡住了去路",null,10003,1,"",null,null,{"$f":"IF(R86=\"\",\"\",\"-\"&VLOOKUP(R86,EventConditionConfig!A:C,3,FALSE)&IF(S86=\"\",\"\",CHAR(10)&\"-\"&VLOOKUP(S86,EventConditionConfig!A:C,3,FALSE)))","v":""},null,null,null,"",null,null,"",{"$nulls":4},1,1000302,null,5076]
[{"$f":"O87*100+P87","v":1000302},5075,"蜩鸟和小麻雀对你的到来很好奇","",{"$nulls":6},{"$f":"IF(J87=\"\",\"\",VLOOKUP(J87,EventNPC!A:E,5,FALSE))","v":""},5077,"（结界门前，三只小鸟飞来，落在一旁古松上）",null,10003,2,"",null,null,{"$f":"IF(R87=\"\",\"\",\"-\"&VLOOKUP(R87,EventConditionConfig!A:C,3,FALSE)&IF(S87=\"\",\"\",CHAR(10)&\"-\"&VLOOKUP(S87,EventConditionConfig!A:C,3,FALSE)))","v":""},null,null,null,"",null,null,"",{"$nulls":4},1,1000303,null,5077]
[{"$f":"O88*100+P88","v":1000303},5075,"蜩鸟和小麻雀对你的到来很好奇","",{"$nulls":5},101,{"$f":"IF(J88=\"\",\"\",VLOOKUP(J88,EventNPC!A:E,5,FALSE))","v":"蜩鸟"},5078,"（拍翅）：“咦？又是妄图穿行北海之人？”",null,10003,{"$f":"IF(O88=O87,P87+1,1)","v":3},"",null,null,{"$f":"IF(R88=\"\",\"\",\"-\"&VLOOKUP(R88,EventConditionConfig!A:C,3,FALSE)&IF(S88=\"\",\"\",CHAR(10)&\"-\"&VLOOKUP(S88,EventConditionConfig!A:C,3,FALSE)))","v":""},1,{"$f":"A89","v":1000304},{"$f":"_xlfn.TEXTJOIN(\";\",1,X88,AA88)","v":"5079"},5079,"我在寻找鲲鹏，你们知道它在哪里吗？",null,"",{"$nulls":4},"","",null,5079]
[{"$f":"O89*100+P89","v":1000304},5075,"蜩鸟和小麻雀对你的到来很好奇","",{"$nulls":5},102,{"$f":"IF(J89=\"\",\"\",VLOOKUP(J89,EventNPC!A:E,5,FALSE))","v":"小麻雀"},5080,"（扑棱翅膀）是想要从北海飞往南海的超级大鸟吧？",null,10003,{"$f":"IF(O89=O88,P88+1,1)","v":4},"",null,null,{"$f":"IF(R89=\"\",\"\",\"-\"&VLOOKUP(R89,EventConditionConfig!A:C,3,FALSE)&IF(S89=\"\",\"\",CHAR(10)&\"-\"&VLOOKUP(S89,EventConditionConfig!A:C,3,FALSE)))","v":""},null,null,"","",null,null,"",{"$nulls":4},1,1000305,null,5080]
[{"$f":"O90*100+P90","v":1000305},5075,"蜩鸟和小麻雀对你的到来很好奇","",{"$nulls":5},102,{"$f":"IF(J90=\"\",\"\",VLOOKUP(J90,EventNPC!A:E,5,FALSE))","v":"小麻雀"},5081,"我就想不明白，她为何要飞如此之远，太奇怪啦！",null,10003,{"$f":"IF(O90=O89,P89+1,1)","v":5},"",null,null,{"$f":"IF(R90=\"\",\"\",\"-\"&VLOOKUP(R90,EventConditionConfig!A:C,3,FALSE)&IF(S90=\"\",\"\",CHAR(10)&\"-\"&VLOOKUP(S90,EventConditionConfig!A:C,3,FALSE)))","v":""},1,{"$f":"A91","v":1000306},"5082",5082,"鲲鹏是在追求心中的目标吧。",null,"",{"$nulls":4},"","",null,5082]
[{"$f":"O91*100+P91","v":1000306},5075,"蜩鸟和小麻雀对你的到来很好奇","",{"$nulls":5},102,{"$f":"IF(J91=\"\",\"\",VLOOKUP(J91,EventNPC!A:E,5,FALSE))","v":"小麻雀"},5083,"（偏头想了想）目标？我天天在这里上蹿下跳，在附近树林飞来飞去，就已经很幸福啦。",null,10003,{"$f":"IF(O91=O90,P90+1,1)","v":6},"",null,null,{"$f":"IF(R91=\"\",\"\",\"-\"&VLOOKUP(R91,EventConditionConfig!A:C,3,FALSE)&IF(S91=\"\",\"\",CHAR(10)&\"-\"&VLOOKUP(S91,EventConditionConfig!A:C,3,FALSE)))","v":""},null,null,"","",null,null,"",{"$nulls":4},1,1000307,null,5083]
[{"$f":"O92*100+P92","v":1000307},5075,"蜩鸟和小麻雀对你的到来很好奇","",{"$nulls":5},102,{"$f":"IF(J92=\"\",\"\",VLOOKUP(J92,EventNPC!A:E,5,FALSE))","v":"小麻雀"},5084,"就那大傻鸟，非要飞那么远，又笨又蠢...真没意思。",null,10003,{"$f":"IF(O92=O91,P91+1,1)","v":7},"",null,null,{"$f":"IF(R92=\"\",\"\",\"-\"&VLOOKUP(R92,EventConditionConfig!A:C,3,FALSE)&IF(S92=\"\",\"\",CHAR(10)&\"-\"&VLOOKUP(S92,EventConditionConfig!A:C,3,FALSE)))","v":""},1,{"$f":"IF(U92=1,_xlfn.TEXTJOIN(\";\",1,IF(Z92=\"\",A92+1,Z92),IF(AND(AA92<>\"\",AC92=\"\"),A92+1,AC92)),IF(U92=2,Y92,\"\"))","v":"1000308;1000308"},"5085;5086",5085,"你说得也有一定道理…",null,5086,"你懂什么..这大鹏鸟可比你更有志向多了。",null,null,null,"","",null,5086]
[{"$f":"O93*100+P93","v":1000308},5075,"蜩鸟和小麻雀对你的到来很好奇","",{"$nulls":5},101,{"$f":"IF(J93=\"\",\"\",VLOOKUP(J93,EventNPC!A:E,5,FALSE))","v":"蜩鸟"},5087,"（翻飞一圈）志向有什么用？到头来还不是风停了就落地。",null,10003,{"$f":"IF(O93=O92,P92+1,1)","v":8},"",null,null,{"$f":"IF(R93=\"\",\"\",\"-\"&VLOOKUP(R93,EventConditionConfig!A:C,3,FALSE)&IF(S93=\"\",\"\",CHAR(10)&\"-\"&VLOOKUP(S93,EventConditionConfig!A:C,3,FALSE)))","v":""},1,{"$f":"A94","v":1000309},"5088",5088,"......",null,"",{"$nulls":4},"","",null,5088]
[{"$f":"O94*100+P94","v":1000309},5075,"蜩鸟和小麻雀对你的到来很好奇","",{"$nulls":6},{"$f":"IF(J94=\"\",\"\",VLOOKUP(J94,EventNPC!A:E,5,FALSE))","v":""},5089,"（此时，结界微动，一缕风穿林而过，古径阵法竟有一丝松动）",null,10003,{"$f":"IF(O94=O93,P93+1,1)","v":9},"",null,null,{"$f":"IF(R94=\"\",\"\",\"-\"&VLOOKUP(R94,EventConditionConfig!A:C,3,FALSE)&IF(S94=\"\",\"\",CHAR(10)&\"-\"&VLOOKUP(S94,EventConditionConfig!A:C,3,FALSE)))","v":""},null,null,"","",null,null,"",{"$nulls":4},3,10004,null,5089]
[null,"",null,"",{"$nulls":7},"",{"$nulls":4},"",null,null,{"$f":"IF(R95=\"\",\"\",\"-\"&VLOOKUP(R95,EventConditionConfig!A:C,3,FALSE)&IF(S95=\"\",\"\",CHAR(10)&\"-\"&VLOOKUP(S95,EventConditionConfig!A:C,3,FALSE)))","v":""},null,null,null,"",null,null,"",{"$nulls":4},"","",null,""]
[{"$f":"O96*100+P96","v":1000401},5090,"原来它们就是镇守阵法的结界兽",5091,"击败结界兽",{"$nulls":4},101,{"$f":"IF(J96=\"\",\"\",VLOOKUP(J96,EventNPC!A:E,5,FALSE))","v":"蜩鸟"},5092,"这结界似乎有所反应…",null,10004,{"$f":"IF(O96=O95,P95+1,1)","v":1},"",null,null,{"$f":"IF(R96=\"\",\"\",\"-\"&VLOOKUP(R96,EventConditionConfig!A:C,3,FALSE)&IF(S96=\"\",\"\",CHAR(10)&\"-\"&VLOOKUP(S96,EventConditionConfig!A:C,3,FALSE)))","v":""},1,{"$f":"A97","v":1000402},{"$f":"_xlfn.TEXTJOIN(\";\",1,X96,AA96)","v":"5093"},5093,"与你们聊天很有意思，不过今天我是非过去不可，没人能阻止我重返仙途！",null,"",{"$nulls":4},"","",null,5093]
[{"$f":"O97*100+P97","v":1000402},5090,"原来它们就是镇守阵法的结界兽",5091,"击败结界兽",{"$nulls":4},102,{"$f":"IF(J97=\"\",\"\",VLOOKUP(J97,EventNPC!A:E,5,FALSE))","v":"小麻雀"},5094,"\"小鸟..\"现身吧！",null,10004,{"$f":"IF(O97=O96,P96+1,1)","v":2},"",null,null,{"$f":"IF(R97=\"\",\"\",\"-\"&VLOOKUP(R97,EventConditionConfig!A:C,3,FALSE)&IF(S97=\"\",\"\",CHAR(10)&\"-\"&VLOOKUP(S97,EventConditionConfig!A:C,3,FALSE)))","v":""},null,null,{"$f":"_xlfn.TEXTJOIN(\";\",1,X97,AA97)","v":""},"",null,null,"",{"$nulls":4},{"$f":"IF(A97=\"\",\"\",IF(U97=1,\"\",IF(A98=\"\",3,1)))","v":1},{"$f":"IF(AF97=1,A98,IF(AF97=3,LEFT(A97,5)+1,\"\"))","v":1000403},null,5094]
[{"$f":"O98*100+P98","v":1000403},5090,"原来它们就是镇守阵法的结界兽",5091,"击败结界兽",{"$nulls":4},101,{"$f":"IF(J98=\"\",\"\",VLOOKUP(J98,EventNPC!A:E,5,FALSE))","v":"蜩鸟"},5095,"（轻轻飞下来..）又来...来吧来吧..",null,10004,{"$f":"IF(O98=O97,P97+1,1)","v":3},"",null,null,{"$f":"IF(R98=\"\",\"\",\"-\"&VLOOKUP(R98,EventConditionConfig!A:C,3,FALSE)&IF(S98=\"\",\"\",CHAR(10)&\"-\"&VLOOKUP(S98,EventConditionConfig!A:C,3,FALSE)))","v":""},2,100001,{"$f":"_xlfn.TEXTJOIN(\";\",1,X98,AA98)","v":""},"",null,null,"",{"$nulls":4},2,"1000404;101",null,5095]
[{"$f":"O99*100+P99","v":1000404},5090,"原来它们就是镇守阵法的结界兽","",{"$nulls":5},102,{"$f":"IF(J99=\"\",\"\",VLOOKUP(J99,EventNPC!A:E,5,FALSE))","v":"小麻雀"},5096,"这么想过去，就去吧...",null,10004,{"$f":"IF(O99=O98,P98+1,1)","v":4},"",null,null,{"$f":"IF(R99=\"\",\"\",\"-\"&VLOOKUP(R99,EventConditionConfig!A:C,3,FALSE)&IF(S99=\"\",\"\",CHAR(10)&\"-\"&VLOOKUP(S99,EventConditionConfig!A:C,3,FALSE)))","v":""},null,null,{"$f":"_xlfn.TEXTJOIN(\";\",1,X99,AA99)","v":""},"",null,null,"",{"$nulls":4},{"$f":"IF(A99=\"\",\"\",IF(U99=1,\"\",IF(A100=\"\",3,1)))","v":3},{"$f":"IF(AF99=1,A100,IF(AF99=3,LEFT(A99,5)+1,\"\"))","v":10005},null,5096]
[null,"",null,"",{"$nulls":7},"",{"$nulls":4},"",null,null,{"$f":"IF(R100=\"\",\"\",\"-\"&VLOOKUP(R100,EventConditionConfig!A:C,3,FALSE)&IF(S100=\"\",\"\",CHAR(10)&\"-\"&VLOOKUP(S100,EventConditionConfig!A:C,3,FALSE)))","v":""},null,null,null,"",null,null,"",{"$nulls":7},""]
[{"$f":"O101*100+P101","v":1000501},5097,"初见疯道人","",{"$nulls":6},{"$f":"IF(J101=\"\",\"\",VLOOKUP(J101,EventNPC!A:E,5,FALSE))","v":""},5098,"你穿过古径结界，来到一片被风托起的浮空灵岛群。",null,10005,{"$f":"IF(O101=O100,P100+1,1)","v":1},"",null,null,{"$f":"IF(R101=\"\",\"\",\"-\"&VLOOKUP(R101,EventConditionConfig!A:C,3,FALSE)&IF(S101=\"\",\"\",CHAR(10)&\"-\"&VLOOKUP(S101,EventConditionConfig!A:C,3,FALSE)))","v":""},null,null,{"$f":"_xlfn.TEXTJOIN(\";\",1,X101,AA101)","v":""},"",null,null,"",{"$nulls":4},{"$f":"IF(A101=\"\",\"\",IF(U101=1,\"\",IF(A102=\"\",3,1)))","v":1},{"$f":"IF(AF101=1,A102,IF(AF101=3,LEFT(A101,5)+1,\"\"))","v":1000502},null,5098]
[{"$f":"O102*100+P102","v":1000502},5097,"初见疯道人","",{"$nulls":6},{"$f":"IF(J102=\"\",\"\",VLOOKUP(J102,EventNPC!A:E,5,FALSE))","v":""},5099,"风势强劲，岛与岛之间缝隙深不见底，无桥无梯。",null,10005,{"$f":"IF(O102=O101,P101+1,1)","v":2},"",null,null,{"$f":"IF(R102=\"\",\"\",\"-\"&VLOOKUP(R102,EventConditionConfig!A:C,3,FALSE)&IF(S102=\"\",\"\",CHAR(10)&\"-\"&VLOOKUP(S102,EventConditionConfig!A:C,3,FALSE)))","v":""},null,null,"","",null,null,"",{"$nulls":4},{"$f":"IF(A102=\"\",\"\",IF(U102=1,\"\",IF(A103=\"\",3,1)))","v":1},{"$f":"IF(AF102=1,A103,IF(AF102=3,LEFT(A102,5)+1,\"\"))","v":1000503},null,5099]
[{"$f":"O103*100+P103","v":1000503},5097,"初见疯道人","",{"$nulls":6},{"$f":"IF(J103=\"\",\"\",VLOOKUP(J103,EventNPC!A:E,5,FALSE))","v":""},5100,"此处盘踞一位神秘道人，常独自站在岛边望风，仿佛等待什么。",null,10005,{"$f":"IF(O103=O102,P102+1,1)","v":3},"",null,null,{"$f":"IF(R103=\"\",\"\",\"-\"&VLOOKUP(R103,EventConditionConfig!A:C,3,FALSE)&IF(S103=\"\",\"\",CHAR(10)&\"-\"&VLOOKUP(S103,EventConditionConfig!A:C,3,FALSE)))","v":""},null,null,"","",null,null,"",{"$nulls":4},{"$f":"IF(A103=\"\",\"\",IF(U103=1,\"\",IF(A104=\"\",3,1)))","v":1},{"$f":"IF(AF103=1,A104,IF(AF103=3,LEFT(A103,5)+1,\"\"))","v":1000504},null,5100]
[{"$f":"O104*100+P104","v":1000504},5097,"初见疯道人","",{"$nulls":6},{"$f":"IF(J104=\"\",\"\",VLOOKUP(J104,EventNPC!A:E,5,FALSE))","v":""},5101,"（你尝试御剑，却在风中打转，被吹回原地）",null,10005,{"$f":"IF(O104=O103,P103+1,1)","v":4},"",null,null,{"$f":"IF(R104=\"\",\"\",\"-\"&VLOOKUP(R104,EventConditionConfig!A:C,3,FALSE)&IF(S104=\"\",\"\",CHAR(10)&\"-\"&VLOOKUP(S104,EventConditionConfig!A:C,3,FALSE)))","v":""},1,{"$f":"A105","v":1000505},"5102",5102,"前辈，这里的风太大，我无法飞行，请教如何才能通过？",null,"",{"$nulls":4},{"$f":"IF(A104=\"\",\"\",IF(U104=1,\"\",IF(A105=\"\",3,1)))","v":""},{"$f":"IF(AF104=1,A105,IF(AF104=3,LEFT(A104,5)+1,\"\"))","v":""},null,5102]
[1000505,5097,"初见疯道人","",{"$nulls":5},103,{"$f":"IF(J105=\"\",\"\",VLOOKUP(J105,EventNPC!A:E,5,FALSE))","v":"疯道人"},5103,"......",null,10005,5,"",null,null,{"$f":"IF(R105=\"\",\"\",\"-\"&VLOOKUP(R105,EventConditionConfig!A:C,3,FALSE)&IF(S105=\"\",\"\",CHAR(10)&\"-\"&VLOOKUP(S105,EventConditionConfig!A:C,3,FALSE)))","v":""},1,{"$f":"A106","v":1000506},"5104",5104,"前辈，我准备前往北海深处，寻鲲鹏。",null,"",{"$nulls":4},"","",null,5104]
[1000506,5097,"初见疯道人","",{"$nulls":5},103,{"$f":"IF(J106=\"\",\"\",VLOOKUP(J106,EventNPC!A:E,5,FALSE))","v":"疯道人"},5105,"鲲鹏？……世间竟还有人记得它。",null,10005,6,"",null,null,{"$f":"IF(R106=\"\",\"\",\"-\"&VLOOKUP(R106,EventConditionConfig!A:C,3,FALSE)&IF(S106=\"\",\"\",CHAR(10)&\"-\"&VLOOKUP(S106,EventConditionConfig!A:C,3,FALSE)))","v":""},null,null,"","",null,null,"",{"$nulls":4},1,1000507,null,5105]
[{"$f":"O107*100+P107","v":1000507},5097,"初见疯道人","",{"$nulls":5},103,{"$f":"IF(J107=\"\",\"\",VLOOKUP(J107,EventNPC!A:E,5,FALSE))","v":"疯道人"},5106,"（说着从手中掏出一个碎片，往空中一震，瞬间风停）过来吧。",null,10005,{"$f":"IF(O107=O106,P106+1,1)","v":7},"",null,null,{"$f":"IF(R107=\"\",\"\",\"-\"&VLOOKUP(R107,EventConditionConfig!A:C,3,FALSE)&IF(S107=\"\",\"\",CHAR(10)&\"-\"&VLOOKUP(S107,EventConditionConfig!A:C,3,FALSE)))","v":""},null,null,"","",null,null,"",{"$nulls":4},{"$f":"IF(A107=\"\",\"\",IF(U107=1,\"\",IF(A108=\"\",3,1)))","v":1},{"$f":"IF(AF107=1,A108,IF(AF107=3,LEFT(A107,5)+1,\"\"))","v":1000508},null,5106]
[{"$f":"O108*100+P108","v":1000508},5097,"初见疯道人","",{"$nulls":5},103,{"$f":"IF(J108=\"\",\"\",VLOOKUP(J108,EventNPC!A:E,5,FALSE))","v":"疯道人"},5107,"说吧，为何寻那鲲鹏？",null,10005,{"$f":"IF(O108=O107,P107+1,1)","v":8},"",null,null,{"$f":"IF(R108=\"\",\"\",\"-\"&VLOOKUP(R108,EventConditionConfig!A:C,3,FALSE)&IF(S108=\"\",\"\",CHAR(10)&\"-\"&VLOOKUP(S108,EventConditionConfig!A:C,3,FALSE)))","v":""},1,{"$f":"IF(U108=1,_xlfn.TEXTJOIN(\";\",1,IF(Z108=\"\",A108+1,Z108),IF(AND(AA108<>\"\",AC108=\"\"),A108+1,AC108)),IF(U108=2,Y108,\"\"))","v":"1000509;1000509"},"5108;5109",5108,"冲虚真人让我去的",null,5109,"我只是好奇..",null,null,null,{"$f":"IF(A108=\"\",\"\",IF(U108=1,\"\",IF(A109=\"\",3,1)))","v":""},{"$f":"IF(AF108=1,A109,IF(AF108=3,LEFT(A108,5)+1,\"\"))","v":""},null,5109]
[1000509,5097,"初见疯道人","",{"$nulls":5},103,{"$f":"IF(J109=\"\",\"\",VLOOKUP(J109,EventNPC!A:E,5,FALSE))","v":"疯道人"},5110,"你可知鹏飞九万里，需凭借龙卷风，才可达成？",null,10005,9,"",null,null,{"$f":"IF(R109=\"\",\"\",\"-\"&VLOOKUP(R109,EventConditionConfig!A:C,3,FALSE)&IF(S109=\"\",\"\",CHAR(10)&\"-\"&VLOOKUP(S109,EventConditionConfig!A:C,3,FALSE)))","v":""},1,{"$f":"A110","v":1000510},"5111",5111,"请前辈赐教......",null,"",{"$nulls":4},"","",null,5111]
[1000510,5097,"初见疯道人","",{"$nulls":5},103,{"$f":"IF(J110=\"\",\"\",VLOOKUP(J110,EventNPC!A:E,5,FALSE))","v":"疯道人"},5112,"看你修为尚浅，跟你说多了也无用。",null,10005,10,"",null,null,{"$f":"IF(R110=\"\",\"\",\"-\"&VLOOKUP(R110,EventConditionConfig!A:C,3,FALSE)&IF(S110=\"\",\"\",CHAR(10)&\"-\"&VLOOKUP(S110,EventConditionConfig!A:C,3,FALSE)))","v":""},null,null,"","",null,null,"",{"$nulls":4},1,1000511,null,5112]
[{"$f":"O111*100+P111","v":1000511},5097,"初见疯道人","",{"$nulls":5},103,{"$f":"IF(J111=\"\",\"\",VLOOKUP(J111,EventNPC!A:E,5,FALSE))","v":"疯道人"},5113,"再往前是我师弟的洞府了，他可不好说话。",null,10005,{"$f":"IF(O111=O110,P110+1,1)","v":11},"",null,null,{"$f":"IF(R111=\"\",\"\",\"-\"&VLOOKUP(R111,EventConditionConfig!A:C,3,FALSE)&IF(S111=\"\",\"\",CHAR(10)&\"-\"&VLOOKUP(S111,EventConditionConfig!A:C,3,FALSE)))","v":""},null,null,"","",null,null,"",{"$nulls":4},{"$f":"IF(A111=\"\",\"\",IF(U111=1,\"\",IF(A112=\"\",3,1)))","v":1},{"$f":"IF(AF111=1,A112,IF(AF111=3,LEFT(A111,5)+1,\"\"))","v":1000512},null,5113]
[{"$f":"O112*100+P112","v":1000512},5097,"初见疯道人","",{"$nulls":5},103,{"$f":"IF(J112=\"\",\"\",VLOOKUP(J112,EventNPC!A:E,5,FALSE))","v":"疯道人"},5114,"就在我这附近好好修炼吧，至少提升至筑基修为。",null,10005,{"$f":"IF(O112=O111,P111+1,1)","v":12},"",null,null,{"$f":"IF(R112=\"\",\"\",\"-\"&VLOOKUP(R112,EventConditionConfig!A:C,3,FALSE)&IF(S112=\"\",\"\",CHAR(10)&\"-\"&VLOOKUP(S112,EventConditionConfig!A:C,3,FALSE)))","v":""},1,{"$f":"A113","v":1000513},"5115",5115,"前辈为何如此助我？",null,"",{"$nulls":4},{"$f":"IF(A112=\"\",\"\",IF(U112=1,\"\",IF(A113=\"\",3,1)))","v":""},{"$f":"IF(AF112=1,A113,IF(AF112=3,LEFT(A112,5)+1,\"\"))","v":""},null,5115]
[1000513,5097,"初见疯道人","",{"$nulls":5},103,{"$f":"IF(J113=\"\",\"\",VLOOKUP(J113,EventNPC!A:E,5,FALSE))","v":"疯道人"},5116,"（疯道人望你一眼，没有回答，但丢过来一本功法）修到[筑基-中期]再来找我。",null,10005,13,"",null,null,{"$f":"IF(R113=\"\",\"\",\"-\"&VLOOKUP(R113,EventConditionConfig!A:C,3,FALSE)&IF(S113=\"\",\"\",CHAR(10)&\"-\"&VLOOKUP(S113,EventConditionConfig!A:C,3,FALSE)))","v":""},null,null,"","",null,null,"",{"$nulls":4},1,1000514,null,5116]
[{"$f":"O114*100+P114","v":1000514},5097,"初见疯道人","",{"$nulls":6},{"$f":"IF(J114=\"\",\"\",VLOOKUP(J114,EventNPC!A:E,5,FALSE))","v":""},"",null,null,10005,{"$f":"IF(O114=O113,P113+1,1)","v":14},"2",2,null,{"$f":"IF(R114=\"\",\"\",\"-\"&VLOOKUP(R114,EventConditionConfig!A:C,3,FALSE)&IF(S114=\"\",\"\",CHAR(10)&\"-\"&VLOOKUP(S114,EventConditionConfig!A:C,3,FALSE)))","v":"-达到境界：练气-中期"},null,null,"","",null,null,"",{"$nulls":4},{"$f":"IF(A114=\"\",\"\",IF(U114=1,\"\",IF(A115=\"\",3,1)))","v":3},{"$f":"IF(AF114=1,A115,IF(AF114=3,LEFT(A114,5)+1,\"\"))","v":10006},null,5116]
[null,"",null,"",{"$nulls":7},"",{"$nulls":4},"",null,null,{"$f":"IF(R115=\"\",\"\",\"-\"&VLOOKUP(R115,EventConditionConfig!A:C,3,FALSE)&IF(S115=\"\",\"\",CHAR(10)&\"-\"&VLOOKUP(S115,EventConditionConfig!A:C,3,FALSE)))","v":""},null,null,null,"",null,null,"",{"$nulls":7},""]
[{"$f":"O116*100+P116","v":1000601},5117,"疯道人赠与一半风灵珠","",{"$nulls":5},103,{"$f":"IF(J116=\"\",\"\",VLOOKUP(J116,EventNPC!A:E,5,FALSE))","v":"疯道人"},5118,"你已突破筑基前期达到中期，灵力通畅，是时候去会一会我的师弟了。",null,10006,{"$f":"IF(O116=O115,P115+1,1)","v":1},"",null,null,{"$f":"IF(R116=\"\",\"\",\"-\"&VLOOKUP(R116,EventConditionConfig!A:C,3,FALSE)&IF(S116=\"\",\"\",CHAR(10)&\"-\"&VLOOKUP(S116,EventConditionConfig!A:C,3,FALSE)))","v":""},1,"1000603;1000602",{"$f":"_xlfn.TEXTJOIN(\";\",1,X116,AA116)","v":"5119;5120"},5119,"是的。鲲鹏之行，志在必达。",null,5120,"看看风的尽头到底有什么。",null,null,null,{"$f":"IF(A116=\"\",\"\",IF(U116=1,\"\",IF(A117=\"\",3,1)))","v":""},{"$f":"IF(AF116=1,A117,IF(AF116=3,LEFT(A116,5)+1,\"\"))","v":""},null,5120]
[{"$f":"O117*100+P117","v":1000602},5117,"疯道人赠与一半风灵珠","",{"$nulls":5},103,{"$f":"IF(J117=\"\",\"\",VLOOKUP(J117,EventNPC!A:E,5,FALSE))","v":"疯道人"},5121,"（轻轻一笑）你说风的尽头……我也曾想看。\n（他望向远处翻涌的云海）",null,10006,{"$f":"IF(O117=O116,P116+1,1)","v":2},"",null,null,{"$f":"IF(R117=\"\",\"\",\"-\"&VLOOKUP(R117,EventConditionConfig!A:C,3,FALSE)&IF(S117=\"\",\"\",CHAR(10)&\"-\"&VLOOKUP(S117,EventConditionConfig!A:C,3,FALSE)))","v":""},1,{"$f":"A118","v":1000603},2140,5122,"是的。鲲鹏之行，志在必达。",null,"",{"$nulls":4},{"$f":"IF(A117=\"\",\"\",IF(U117=1,\"\",IF(A118=\"\",3,1)))","v":""},{"$f":"IF(AF117=1,A118,IF(AF117=3,LEFT(A117,5)+1,\"\"))","v":""},null,5122]
[{"$f":"O118*100+P118","v":1000603},5117,"疯道人赠与一半风灵珠","",{"$nulls":5},103,{"$f":"IF(J118=\"\",\"\",VLOOKUP(J118,EventNPC!A:E,5,FALSE))","v":"疯道人"},5123,"我和师弟，共守这处风眼多年。我想出去，他却偏要留。",null,10006,{"$f":"IF(O118=O117,P117+1,1)","v":3},"",null,null,{"$f":"IF(R118=\"\",\"\",\"-\"&VLOOKUP(R118,EventConditionConfig!A:C,3,FALSE)&IF(S118=\"\",\"\",CHAR(10)&\"-\"&VLOOKUP(S118,EventConditionConfig!A:C,3,FALSE)))","v":""},null,null,"","",null,null,"",{"$nulls":4},{"$f":"IF(A118=\"\",\"\",IF(U118=1,\"\",IF(A119=\"\",3,1)))","v":1},{"$f":"IF(AF118=1,A119,IF(AF118=3,LEFT(A118,5)+1,\"\"))","v":1000604},null,5123]
[{"$f":"O119*100+P119","v":1000604},5117,"疯道人赠与一半风灵珠","",{"$nulls":5},103,{"$f":"IF(J119=\"\",\"\",VLOOKUP(J119,EventNPC!A:E,5,FALSE))","v":"疯道人"},5124,"风灵珠碎成两半，一半在我这里，另一半……在他洞府中。",null,10006,{"$f":"IF(O119=O118,P118+1,1)","v":4},"",null,null,{"$f":"IF(R119=\"\",\"\",\"-\"&VLOOKUP(R119,EventConditionConfig!A:C,3,FALSE)&IF(S119=\"\",\"\",CHAR(10)&\"-\"&VLOOKUP(S119,EventConditionConfig!A:C,3,FALSE)))","v":""},null,null,"","",null,null,"",{"$nulls":4},{"$f":"IF(A119=\"\",\"\",IF(U119=1,\"\",IF(A120=\"\",3,1)))","v":1},{"$f":"IF(AF119=1,A120,IF(AF119=3,LEFT(A119,5)+1,\"\"))","v":1000605},null,5124]
[{"$f":"O120*100+P120","v":1000605},5117,"疯道人赠与一半风灵珠","",{"$nulls":5},103,{"$f":"IF(J120=\"\",\"\",VLOOKUP(J120,EventNPC!A:E,5,FALSE))","v":"疯道人"},5125,"你若想见鲲鹏，必须要集齐整个风灵珠。",null,10006,{"$f":"IF(O120=O119,P119+1,1)","v":5},"",null,null,{"$f":"IF(R120=\"\",\"\",\"-\"&VLOOKUP(R120,EventConditionConfig!A:C,3,FALSE)&IF(S120=\"\",\"\",CHAR(10)&\"-\"&VLOOKUP(S120,EventConditionConfig!A:C,3,FALSE)))","v":""},null,null,"","",null,null,"",{"$nulls":4},{"$f":"IF(A120=\"\",\"\",IF(U120=1,\"\",IF(A121=\"\",3,1)))","v":1},{"$f":"IF(AF120=1,A121,IF(AF120=3,LEFT(A120,5)+1,\"\"))","v":1000606},null,5125]
[{"$f":"O121*100+P121","v":1000606},5117,"疯道人赠与一半风灵珠","",{"$nulls":5},103,{"$f":"IF(J121=\"\",\"\",VLOOKUP(J121,EventNPC!A:E,5,FALSE))","v":"疯道人"},5126,"我这一半给你，可助你在大风中，来去自如。",null,10006,{"$f":"IF(O121=O120,P120+1,1)","v":6},"",null,null,{"$f":"IF(R121=\"\",\"\",\"-\"&VLOOKUP(R121,EventConditionConfig!A:C,3,FALSE)&IF(S121=\"\",\"\",CHAR(10)&\"-\"&VLOOKUP(S121,EventConditionConfig!A:C,3,FALSE)))","v":""},null,null,"","",null,null,"",{"$nulls":4},{"$f":"IF(A121=\"\",\"\",IF(U121=1,\"\",IF(A122=\"\",3,1)))","v":3},{"$f":"IF(AF121=1,A122,IF(AF121=3,LEFT(A121,5)+1,\"\"))","v":10007},null,5126]
[null,"",null,"",{"$nulls":7},"",{"$nulls":4},"",null,null,{"$f":"IF(R122=\"\",\"\",\"-\"&VLOOKUP(R122,EventConditionConfig!A:C,3,FALSE)&IF(S122=\"\",\"\",CHAR(10)&\"-\"&VLOOKUP(S122,EventConditionConfig!A:C,3,FALSE)))","v":""},null,null,null,"",null,null,"",{"$nulls":7},""]
[{"$f":"O123*100+P123","v":1000701},5127,"没想到痴道人一来就要与你交手","",{"$nulls":6},{"$f":"IF(J123=\"\",\"\",VLOOKUP(J123,EventNPC!A:E,5,FALSE))","v":""},5128,"你获得了疯道人的半颗风灵珠，在狂风中自由飞行，好不自在。",null,10007,{"$f":"IF(O123=O122,P122+1,1)","v":1},"",null,null,{"$f":"IF(R123=\"\",\"\",\"-\"&VLOOKUP(R123,EventConditionConfig!A:C,3,FALSE)&IF(S123=\"\",\"\",CHAR(10)&\"-\"&VLOOKUP(S123,EventConditionConfig!A:C,3,FALSE)))","v":""},null,null,{"$f":"_xlfn.TEXTJOIN(\";\",1,X123,AA123)","v":""},"",null,null,"",{"$nulls":4},{"$f":"IF(A123=\"\",\"\",IF(U123=1,\"\",IF(A124=\"\",3,1)))","v":1},{"$f":"IF(AF123=1,A124,IF(AF123=3,LEFT(A123,5)+1,\"\"))","v":1000702},null,5128]
[{"$f":"O124*100+P124","v":1000702},5127,"没想到痴道人一来就要与你交手","",{"$nulls":6},{"$f":"IF(J124=\"\",\"\",VLOOKUP(J124,EventNPC!A:E,5,FALSE))","v":""},5129,"这......就是逍遥游吗？",null,10007,{"$f":"IF(O124=O123,P123+1,1)","v":2},"",null,null,{"$f":"IF(R124=\"\",\"\",\"-\"&VLOOKUP(R124,EventConditionConfig!A:C,3,FALSE)&IF(S124=\"\",\"\",CHAR(10)&\"-\"&VLOOKUP(S124,EventConditionConfig!A:C,3,FALSE)))","v":""},null,null,{"$f":"_xlfn.TEXTJOIN(\";\",1,X124,AA124)","v":""},"",null,null,"",{"$nulls":4},{"$f":"IF(A124=\"\",\"\",IF(U124=1,\"\",IF(A125=\"\",3,1)))","v":1},{"$f":"IF(AF124=1,A125,IF(AF124=3,LEFT(A124,5)+1,\"\"))","v":1000703},null,5129]
[{"$f":"O125*100+P125","v":1000703},5127,"没想到痴道人一来就要与你交手","",{"$nulls":5},104,{"$f":"IF(J125=\"\",\"\",VLOOKUP(J125,EventNPC!A:E,5,FALSE))","v":"痴道人"},5130,"你终于来了......",null,10007,{"$f":"IF(O125=O124,P124+1,1)","v":3},"",null,null,{"$f":"IF(R125=\"\",\"\",\"-\"&VLOOKUP(R125,EventConditionConfig!A:C,3,FALSE)&IF(S125=\"\",\"\",CHAR(10)&\"-\"&VLOOKUP(S125,EventConditionConfig!A:C,3,FALSE)))","v":""},1,{"$f":"A126","v":1000704},{"$f":"_xlfn.TEXTJOIN(\";\",1,X125,AA125)","v":"5131"},5131,"你知道我要来？",null,"",{"$nulls":4},{"$f":"IF(A125=\"\",\"\",IF(U125=1,\"\",IF(A126=\"\",3,1)))","v":""},{"$f":"IF(AF125=1,A126,IF(AF125=3,LEFT(A125,5)+1,\"\"))","v":""},null,5131]
[{"$f":"O126*100+P126","v":1000704},5127,"没想到痴道人一来就要与你交手","",{"$nulls":5},104,{"$f":"IF(J126=\"\",\"\",VLOOKUP(J126,EventNPC!A:E,5,FALSE))","v":"痴道人"},5132,"多说无益，我早已感应到你身上的半颗风灵珠。必是那疯老头让来的。出手吧！",null,10007,{"$f":"IF(O126=O125,P125+1,1)","v":4},"",null,null,{"$f":"IF(R126=\"\",\"\",\"-\"&VLOOKUP(R126,EventConditionConfig!A:C,3,FALSE)&IF(S126=\"\",\"\",CHAR(10)&\"-\"&VLOOKUP(S126,EventConditionConfig!A:C,3,FALSE)))","v":""},2,100004,{"$f":"_xlfn.TEXTJOIN(\";\",1,X126,AA126)","v":""},"",null,null,"",{"$nulls":4},2,"1000705;101",null,5132]
[1000705,5127,"没想到痴道人一来就要与你交手","",{"$nulls":5},104,{"$f":"IF(J127=\"\",\"\",VLOOKUP(J127,EventNPC!A:E,5,FALSE))","v":"痴道人"},5133,"（被击倒在一边）够了！",null,10007,5,"",null,null,{"$f":"IF(R127=\"\",\"\",\"-\"&VLOOKUP(R127,EventConditionConfig!A:C,3,FALSE)&IF(S127=\"\",\"\",CHAR(10)&\"-\"&VLOOKUP(S127,EventConditionConfig!A:C,3,FALSE)))","v":""},null,null,{"$f":"_xlfn.TEXTJOIN(\";\",1,X127,AA127)","v":""},"",null,null,"",{"$nulls":4},{"$f":"IF(A127=\"\",\"\",IF(U127=1,\"\",IF(A128=\"\",3,1)))","v":3},{"$f":"IF(AF127=1,A128,IF(AF127=3,LEFT(A127,5)+1,\"\"))","v":10008},null,5133]
[null,"",null,"",{"$nulls":7},"",{"$nulls":4},"",null,null,{"$f":"IF(R128=\"\",\"\",\"-\"&VLOOKUP(R128,EventConditionConfig!A:C,3,FALSE)&IF(S128=\"\",\"\",CHAR(10)&\"-\"&VLOOKUP(S128,EventConditionConfig!A:C,3,FALSE)))","v":""},null,null,null,"",null,null,"",{"$nulls":7},""]
[{"$f":"O129*100+P129","v":1000801},5134,"疯痴相聚","",{"$nulls":5},104,{"$f":"IF(J129=\"\",\"\",VLOOKUP(J129,EventNPC!A:E,5,FALSE))","v":"痴道人"},5135,"......",null,10008,{"$f":"IF(O129=O128,P128+1,1)","v":1},"",null,null,{"$f":"IF(R129=\"\",\"\",\"-\"&VLOOKUP(R129,EventConditionConfig!A:C,3,FALSE)&IF(S129=\"\",\"\",CHAR(10)&\"-\"&VLOOKUP(S129,EventConditionConfig!A:C,3,FALSE)))","v":""},1,{"$f":"A130","v":1000802},{"$f":"_xlfn.TEXTJOIN(\";\",1,X129,AA129)","v":"5136"},5136,"（你靠近痴道人）你真的想一直留在这里？你师兄说你不肯走。",null,"",{"$nulls":4},{"$f":"IF(A129=\"\",\"\",IF(U129=1,\"\",IF(A130=\"\",3,1)))","v":""},{"$f":"IF(AF129=1,A130,IF(AF129=3,LEFT(A129,5)+1,\"\"))","v":""},null,5136]
[1000802,5134,"疯痴相聚","",{"$nulls":5},104,{"$f":"IF(J130=\"\",\"\",VLOOKUP(J130,EventNPC!A:E,5,FALSE))","v":"痴道人"},5137,"你修炼的时候，有没有过那种感觉——身边的人都在往前走，只有你还在原地。",null,10008,2,"",null,null,{"$f":"IF(R130=\"\",\"\",\"-\"&VLOOKUP(R130,EventConditionConfig!A:C,3,FALSE)&IF(S130=\"\",\"\",CHAR(10)&\"-\"&VLOOKUP(S130,EventConditionConfig!A:C,3,FALSE)))","v":""},null,null,"","",null,null,"",{"$nulls":4},1,1000803,null,5137]
[{"$f":"O131*100+P131","v":1000803},5134,"疯痴相聚","",{"$nulls":5},104,{"$f":"IF(J131=\"\",\"\",VLOOKUP(J131,EventNPC!A:E,5,FALSE))","v":"痴道人"},5138,"我师兄，他悟性极高，一年就能走我三年的路。我不服气，想努力赶上他。",null,10008,{"$f":"IF(O131=O130,P130+1,1)","v":3},"",null,null,{"$f":"IF(R131=\"\",\"\",\"-\"&VLOOKUP(R131,EventConditionConfig!A:C,3,FALSE)&IF(S131=\"\",\"\",CHAR(10)&\"-\"&VLOOKUP(S131,EventConditionConfig!A:C,3,FALSE)))","v":""},1,{"$f":"A132","v":1000804},"5139",5139,"然后呢？",null,"",{"$nulls":4},{"$f":"IF(A131=\"\",\"\",IF(U131=1,\"\",IF(A132=\"\",3,1)))","v":""},{"$f":"IF(AF131=1,A132,IF(AF131=3,LEFT(A131,5)+1,\"\"))","v":""},null,5139]
[{"$f":"O132*100+P132","v":1000804},5134,"疯痴相聚","",{"$nulls":5},104,{"$f":"IF(J132=\"\",\"\",VLOOKUP(J132,EventNPC!A:E,5,FALSE))","v":"痴道人"},5140,"我一直苦心修炼，可人也困在这儿了……越修炼，越困难，修不动了。",null,10008,{"$f":"IF(O132=O131,P131+1,1)","v":4},"",null,null,{"$f":"IF(R132=\"\",\"\",\"-\"&VLOOKUP(R132,EventConditionConfig!A:C,3,FALSE)&IF(S132=\"\",\"\",CHAR(10)&\"-\"&VLOOKUP(S132,EventConditionConfig!A:C,3,FALSE)))","v":""},null,null,"","",null,null,"",{"$nulls":4},{"$f":"IF(A132=\"\",\"\",IF(U132=1,\"\",IF(A133=\"\",3,1)))","v":1},{"$f":"IF(AF132=1,A133,IF(AF132=3,LEFT(A132,5)+1,\"\"))","v":1000805},null,5140]
[{"$f":"O133*100+P133","v":1000805},5134,"疯痴相聚","",{"$nulls":6},{"$f":"IF(J133=\"\",\"\",VLOOKUP(J133,EventNPC!A:E,5,FALSE))","v":""},5141,"[此时，疯道人踏风而至，就在几步之外]",null,10008,{"$f":"IF(O133=O132,P132+1,1)","v":5},"",null,null,{"$f":"IF(R133=\"\",\"\",\"-\"&VLOOKUP(R133,EventConditionConfig!A:C,3,FALSE)&IF(S133=\"\",\"\",CHAR(10)&\"-\"&VLOOKUP(S133,EventConditionConfig!A:C,3,FALSE)))","v":""},null,null,"","",null,null,"",{"$nulls":4},{"$f":"IF(A133=\"\",\"\",IF(U133=1,\"\",IF(A134=\"\",3,1)))","v":1},{"$f":"IF(AF133=1,A134,IF(AF133=3,LEFT(A133,5)+1,\"\"))","v":1000806},null,5141]
[{"$f":"O134*100+P134","v":1000806},{"$f":"IF(C134=\"\",\"\",IF(C134=C133,B133,MAX(AI133,AI132)+1))","v":5134},"疯痴相聚",{"$f":"IF(E134=\"\",\"\",IF(E134=E133,D133,MAX(AI133,AI132,B134)+1))","v":""},{"$nulls":5},103,{"$f":"IF(J134=\"\",\"\",VLOOKUP(J134,EventNPC!A:E,5,FALSE))","v":"疯道人"},{"$f":"IF(M134=\"\",\"\",MAX(AI133,AI132,B134,D134)+1)","v":5142},"师弟，你修着修着，就不记得一开始，是为了什么而修行。",null,10008,{"$f":"IF(O134=O133,P133+1,1)","v":6},"",null,null,{"$f":"IF(R134=\"\",\"\",\"-\"&VLOOKUP(R134,EventConditionConfig!A:C,3,FALSE)&IF(S134=\"\",\"\",CHAR(10)&\"-\"&VLOOKUP(S134,EventConditionConfig!A:C,3,FALSE)))","v":""},null,null,"",{"$f":"IF(OR(ISNUMBER(Y134),Y134=\"\"),\"\",MAX(AI133,AI132,B134,D134,L134)+1)","v":""},null,null,{"$f":"IF(OR(ISNUMBER(AB134),AB134=\"\"),\"\",X134+1)","v":""},{"$nulls":4},{"$f":"IF(A134=\"\",\"\",IF(U134=1,\"\",IF(A135=\"\",3,1)))","v":1},{"$f":"IF(AF134=1,A135,IF(AF134=3,LEFT(A134,5)+1,\"\"))","v":1000807},null,{"$f":"IF(A134=\"\",\"\",MAX(B134,D134,L134,X134,AA134,AI133,AI132))","v":5142}]
[{"$f":"O135*100+P135","v":1000807},5134,"疯痴相聚","",{"$nulls":5},104,{"$f":"IF(J135=\"\",\"\",VLOOKUP(J135,EventNPC!A:E,5,FALSE))","v":"痴道人"},5143,"（抬头）......我，我真的不记得了。",null,10008,{"$f":"IF(O135=O134,P134+1,1)","v":7},"",null,null,{"$f":"IF(R135=\"\",\"\",\"-\"&VLOOKUP(R135,EventConditionConfig!A:C,3,FALSE)&IF(S135=\"\",\"\",CHAR(10)&\"-\"&VLOOKUP(S135,EventConditionConfig!A:C,3,FALSE)))","v":""},null,null,"","",null,null,"",{"$nulls":4},{"$f":"IF(A135=\"\",\"\",IF(U135=1,\"\",IF(A136=\"\",3,1)))","v":1},{"$f":"IF(AF135=1,A136,IF(AF135=3,LEFT(A135,5)+1,\"\"))","v":1000808},null,5143]
[{"$f":"O136*100+P136","v":1000808},5134,"疯痴相聚","",{"$nulls":5},103,{"$f":"IF(J136=\"\",\"\",VLOOKUP(J136,EventNPC!A:E,5,FALSE))","v":"疯道人"},5144,"那就放下风灵珠，和我出去走走。",null,10008,{"$f":"IF(O136=O135,P135+1,1)","v":8},"",null,null,{"$f":"IF(R136=\"\",\"\",\"-\"&VLOOKUP(R136,EventConditionConfig!A:C,3,FALSE)&IF(S136=\"\",\"\",CHAR(10)&\"-\"&VLOOKUP(S136,EventConditionConfig!A:C,3,FALSE)))","v":""},null,null,"","",null,null,"",{"$nulls":4},{"$f":"IF(A136=\"\",\"\",IF(U136=1,\"\",IF(A137=\"\",3,1)))","v":1},{"$f":"IF(AF136=1,A137,IF(AF136=3,LEFT(A136,5)+1,\"\"))","v":1000809},null,5144]
[{"$f":"O137*100+P137","v":1000809},5134,"疯痴相聚","",{"$nulls":5},103,{"$f":"IF(J137=\"\",\"\",VLOOKUP(J137,EventNPC!A:E,5,FALSE))","v":"疯道人"},5145,"[痴道人楞了一下，片刻后轻轻点头]",null,10008,{"$f":"IF(O137=O136,P136+1,1)","v":9},{"$f":"_xlfn.TEXTJOIN(\";\",1,R137:S137)","v":""},null,null,{"$f":"IF(R137=\"\",\"\",\"-\"&VLOOKUP(R137,EventConditionConfig!A:C,3,FALSE)&IF(S137=\"\",\"\",CHAR(10)&\"-\"&VLOOKUP(S137,EventConditionConfig!A:C,3,FALSE)))","v":""},null,null,"","",null,null,"",{"$nulls":4},{"$f":"IF(A137=\"\",\"\",IF(U137=1,\"\",IF(A138=\"\",3,1)))","v":1},{"$f":"IF(AF137=1,A138,IF(AF137=3,LEFT(A137,5)+1,\"\"))","v":1000810},null,5145]
[{"$f":"O138*100+P138","v":1000810},5134,"疯痴相聚","",{"$nulls":6},{"$f":"IF(J138=\"\",\"\",VLOOKUP(J138,EventNPC!A:E,5,FALSE))","v":""},5146,"[突然..洞府周围灵气汇聚，快速涌入痴道人的身体.]",null,10008,{"$f":"IF(O138=O137,P137+1,1)","v":10},"",null,null,{"$f":"IF(R138=\"\",\"\",\"-\"&VLOOKUP(R138,EventConditionConfig!A:C,3,FALSE)&IF(S138=\"\",\"\",CHAR(10)&\"-\"&VLOOKUP(S138,EventConditionConfig!A:C,3,FALSE)))","v":""},1,{"$f":"A139","v":1000811},"5147",5147,"前辈，为何灵气会动！",null,"",{"$nulls":4},{"$f":"IF(A138=\"\",\"\",IF(U138=1,\"\",IF(A139=\"\",3,1)))","v":""},{"$f":"IF(AF138=1,A139,IF(AF138=3,LEFT(A138,5)+1,\"\"))","v":""},null,5147]
[{"$f":"O139*100+P139","v":1000811},5134,"疯痴相聚","",{"$nulls":5},103,{"$f":"IF(J139=\"\",\"\",VLOOKUP(J139,EventNPC!A:E,5,FALSE))","v":"疯道人"},5148,"恭喜师弟，突破心魔。",null,10008,{"$f":"IF(O139=O138,P138+1,1)","v":11},"",null,null,{"$f":"IF(R139=\"\",\"\",\"-\"&VLOOKUP(R139,EventConditionConfig!A:C,3,FALSE)&IF(S139=\"\",\"\",CHAR(10)&\"-\"&VLOOKUP(S139,EventConditionConfig!A:C,3,FALSE)))","v":""},null,null,"","",null,null,"",{"$nulls":4},{"$f":"IF(A139=\"\",\"\",IF(U139=1,\"\",IF(A140=\"\",3,1)))","v":1},{"$f":"IF(AF139=1,A140,IF(AF139=3,LEFT(A139,5)+1,\"\"))","v":1000812},null,5148]
[{"$f":"O140*100+P140","v":1000812},5134,"疯痴相聚","",{"$nulls":5},104,{"$f":"IF(J140=\"\",\"\",VLOOKUP(J140,EventNPC!A:E,5,FALSE))","v":"痴道人"},5149,"多谢师兄！",null,10008,{"$f":"IF(O140=O139,P139+1,1)","v":12},"",null,null,{"$f":"IF(R140=\"\",\"\",\"-\"&VLOOKUP(R140,EventConditionConfig!A:C,3,FALSE)&IF(S140=\"\",\"\",CHAR(10)&\"-\"&VLOOKUP(S140,EventConditionConfig!A:C,3,FALSE)))","v":""},1,{"$f":"IF(U140=1,_xlfn.TEXTJOIN(\";\",1,IF(Z140=\"\",A140+1,Z140),IF(AND(AA140<>\"\",AC140=\"\"),A140+1,AC140)),IF(U140=2,Y140,\"\"))","v":"1000813;1000813"},"5150;5151",5150,"原来如此…",null,5151,"请前辈赐我风灵珠。",null,null,null,{"$f":"IF(A140=\"\",\"\",IF(U140=1,\"\",IF(A141=\"\",3,1)))","v":""},{"$f":"IF(AF140=1,A141,IF(AF140=3,LEFT(A140,5)+1,\"\"))","v":""},null,5151]
[{"$f":"O141*100+P141","v":1000813},5134,"疯痴相聚","",{"$nulls":5},104,{"$f":"IF(J141=\"\",\"\",VLOOKUP(J141,EventNPC!A:E,5,FALSE))","v":"痴道人"},5152,"小友莫急… (说罢，痴道人将风灵珠的碎片合成了一颗完整的风灵珠)",null,10008,{"$f":"IF(O141=O140,P140+1,1)","v":13},"",null,null,{"$f":"IF(R141=\"\",\"\",\"-\"&VLOOKUP(R141,EventConditionConfig!A:C,3,FALSE)&IF(S141=\"\",\"\",CHAR(10)&\"-\"&VLOOKUP(S141,EventConditionConfig!A:C,3,FALSE)))","v":""},null,null,"","",null,null,"",{"$nulls":4},{"$f":"IF(A141=\"\",\"\",IF(U141=1,\"\",IF(A142=\"\",3,1)))","v":1},{"$f":"IF(AF141=1,A142,IF(AF141=3,LEFT(A141,5)+1,\"\"))","v":1000814},null,5152]
[{"$f":"O142*100+P142","v":1000814},5134,"疯痴相聚","",{"$nulls":5},104,{"$f":"IF(J142=\"\",\"\",VLOOKUP(J142,EventNPC!A:E,5,FALSE))","v":"痴道人"},5153,"拿好了，这风啊……来一回，不容易。",null,10008,{"$f":"IF(O142=O141,P141+1,1)","v":14},"",null,null,{"$f":"IF(R142=\"\",\"\",\"-\"&VLOOKUP(R142,EventConditionConfig!A:C,3,FALSE)&IF(S142=\"\",\"\",CHAR(10)&\"-\"&VLOOKUP(S142,EventConditionConfig!A:C,3,FALSE)))","v":""},null,null,"","",null,null,"",{"$nulls":4},{"$f":"IF(A142=\"\",\"\",IF(U142=1,\"\",IF(A143=\"\",3,1)))","v":3},{"$f":"IF(AF142=1,A143,IF(AF142=3,LEFT(A142,5)+1,\"\"))","v":10009},null,5153]
[null,"",null,"",{"$nulls":7},"",{"$nulls":4},"",null,null,{"$f":"IF(R143=\"\",\"\",\"-\"&VLOOKUP(R143,EventConditionConfig!A:C,3,FALSE)&IF(S143=\"\",\"\",CHAR(10)&\"-\"&VLOOKUP(S143,EventConditionConfig!A:C,3,FALSE)))","v":""},null,null,null,"",null,null,"",{"$nulls":7},""]
[{"$f":"O144*100+P144","v":1000901},5154,"达到筑基后期","",{"$nulls":5},100,{"$f":"IF(J144=\"\",\"\",VLOOKUP(J144,EventNPC!A:E,5,FALSE))","v":"玩家"},5155,"完整的风灵珠果然不同凡响，我可以更大的狂风中穿行了。",null,{"$f":"IF(O143=\"\",O142+1,O143)","v":10009},{"$f":"IF(O144=O143,P143+1,1)","v":1},"",null,null,{"$f":"IF(R144=\"\",\"\",\"-\"&VLOOKUP(R144,EventConditionConfig!A:C,3,FALSE)&IF(S144=\"\",\"\",CHAR(10)&\"-\"&VLOOKUP(S144,EventConditionConfig!A:C,3,FALSE)))","v":""},null,null,{"$f":"_xlfn.TEXTJOIN(\";\",1,X144,AA144)","v":""},"",null,null,"",{"$nulls":4},{"$f":"IF(A144=\"\",\"\",IF(U144=1,\"\",IF(A145=\"\",3,1)))","v":1},{"$f":"IF(AF144=1,A145,IF(AF144=3,LEFT(A144,5)+1,\"\"))","v":1000902},null,5155]
[{"$f":"O145*100+P145","v":1000902},5154,"达到筑基后期","",{"$nulls":5},100,{"$f":"IF(J145=\"\",\"\",VLOOKUP(J145,EventNPC!A:E,5,FALSE))","v":"玩家"},5156,"前方似乎有不少高阶妖兽，我先在此地提升一些修为吧。",null,{"$f":"IF(O144=\"\",O143+1,O144)","v":10009},{"$f":"IF(O145=O144,P144+1,1)","v":2},"",null,null,{"$f":"IF(R145=\"\",\"\",\"-\"&VLOOKUP(R145,EventConditionConfig!A:C,3,FALSE)&IF(S145=\"\",\"\",CHAR(10)&\"-\"&VLOOKUP(S145,EventConditionConfig!A:C,3,FALSE)))","v":""},null,null,{"$f":"_xlfn.TEXTJOIN(\";\",1,X145,AA145)","v":""},"",null,null,"",{"$nulls":4},{"$f":"IF(A145=\"\",\"\",IF(U145=1,\"\",IF(A146=\"\",3,1)))","v":1},{"$f":"IF(AF145=1,A146,IF(AF145=3,LEFT(A145,5)+1,\"\"))","v":1000903},null,5156]
[{"$f":"O146*100+P146","v":1000903},5154,"达到筑基后期","",{"$nulls":5},100,{"$f":"IF(J146=\"\",\"\",VLOOKUP(J146,EventNPC!A:E,5,FALSE))","v":"玩家"},5157,"终于筑基后期了，继续寻找冲虚提到的“七道心境”吧，不知鲲鹏是否会给我答案。",null,10009,{"$f":"IF(O146=O145,P145+1,1)","v":3},"8",8,null,{"$f":"IF(R146=\"\",\"\",\"-\"&VLOOKUP(R146,EventConditionConfig!A:C,3,FALSE)&IF(S146=\"\",\"\",CHAR(10)&\"-\"&VLOOKUP(S146,EventConditionConfig!A:C,3,FALSE)))","v":"-达到境界：练气-后期"},null,null,{"$f":"_xlfn.TEXTJOIN(\";\",1,X146,AA146)","v":""},"",null,null,"",{"$nulls":4},{"$f":"IF(A146=\"\",\"\",IF(U146=1,\"\",IF(A147=\"\",3,1)))","v":3},{"$f":"IF(AF146=1,A147,IF(AF146=3,LEFT(A146,5)+1,\"\"))","v":10010},null,5157]
[null,"",null,"",{"$nulls":7},"",{"$nulls":4},"",null,null,{"$f":"IF(R147=\"\",\"\",\"-\"&VLOOKUP(R147,EventConditionConfig!A:C,3,FALSE)&IF(S147=\"\",\"\",CHAR(10)&\"-\"&VLOOKUP(S147,EventConditionConfig!A:C,3,FALSE)))","v":""},null,null,null,"",null,null,"",{"$nulls":7},""]
[{"$f":"O148*100+P148","v":1001001},5158,"妖兽横行","",{"$nulls":6},{"$f":"IF(J148=\"\",\"\",VLOOKUP(J148,EventNPC!A:E,5,FALSE))","v":""},"",null,null,{"$f":"IF(O147=\"\",O146+1,O147)","v":10010},{"$f":"IF(O148=O147,P147+1,1)","v":1},"9",9,null,{"$f":"IF(R148=\"\",\"\",\"-\"&VLOOKUP(R148,EventConditionConfig!A:C,3,FALSE)&IF(S148=\"\",\"\",CHAR(10)&\"-\"&VLOOKUP(S148,EventConditionConfig!A:C,3,FALSE)))","v":"-击杀妖兽"},null,null,{"$f":"_xlfn.TEXTJOIN(\";\",1,X148,AA148)","v":""},"",null,null,"",{"$nulls":4},{"$f":"IF(A148=\"\",\"\",IF(U148=1,\"\",IF(A149=\"\",3,1)))","v":3},{"$f":"IF(AF148=1,A149,IF(AF148=3,LEFT(A148,5)+1,\"\"))","v":10011},null,5158]
[null,"",null,"",{"$nulls":7},"",{"$nulls":4},"",null,null,{"$f":"IF(R149=\"\",\"\",\"-\"&VLOOKUP(R149,EventConditionConfig!A:C,3,FALSE)&IF(S149=\"\",\"\",CHAR(10)&\"-\"&VLOOKUP(S149,EventConditionConfig!A:C,3,FALSE)))","v":""},null,null,null,"",null,null,"",{"$nulls":7},""]
[{"$f":"O150*100+P150","v":1001101},5159,"遇见鲲鹏","",{"$nulls":6},{"$f":"IF(J150=\"\",\"\",VLOOKUP(J150,EventNPC!A:E,5,FALSE))","v":""},5160,"鲲鹏需要去南海最深处的天池，可缺少龙卷风，没有大风，大鹏无法飞起来",null,{"$f":"IF(O149=\"\",O148+1,O149)","v":10011},{"$f":"IF(O150=O149,P149+1,1)","v":1},"14",14,null,{"$f":"IF(R150=\"\",\"\",\"-\"&VLOOKUP(R150,EventConditionConfig!A:C,3,FALSE)&IF(S150=\"\",\"\",CHAR(10)&\"-\"&VLOOKUP(S150,EventConditionConfig!A:C,3,FALSE)))","v":"-达到境界：筑基-前期"},null,null,{"$f":"_xlfn.TEXTJOIN(\";\",1,X150,AA150)","v":""},"",null,null,"",{"$nulls":4},{"$f":"IF(A150=\"\",\"\",IF(U150=1,\"\",IF(A151=\"\",3,1)))","v":3},{"$f":"IF(AF150=1,A151,IF(AF150=3,LEFT(A150,5)+1,\"\"))","v":10012},null,5160]
[null,"",null,"",{"$nulls":7},"",null,null,{"$f":"IF(M151=\"\",\"\",IF(O150=\"\",O149+1,O150))","v":""},null,"",null,null,{"$f":"IF(R151=\"\",\"\",\"-\"&VLOOKUP(R151,EventConditionConfig!A:C,3,FALSE)&IF(S151=\"\",\"\",CHAR(10)&\"-\"&VLOOKUP(S151,EventConditionConfig!A:C,3,FALSE)))","v":""},null,null,null,"",null,null,"",{"$nulls":7},""]
[{"$f":"O152*100+P152","v":1001201},5161,"樗木之灵的幻影","",{"$nulls":5},100,{"$f":"IF(J152=\"\",\"\",VLOOKUP(J152,EventNPC!A:E,5,FALSE))","v":"玩家"},5162,"我的修仙之路，到底在何方啊？",null,10012,{"$f":"IF(O152=O151,P151+1,1)","v":1},"",null,null,{"$f":"IF(R152=\"\",\"\",\"-\"&VLOOKUP(R152,EventConditionConfig!A:C,3,FALSE)&IF(S152=\"\",\"\",CHAR(10)&\"-\"&VLOOKUP(S152,EventConditionConfig!A:C,3,FALSE)))","v":""},{"$f":"IF(Y152=\"\",\"\",IF(ISTEXT(Y152),1,2))","v":""},{"$f":"IF(U152=1,_xlfn.TEXTJOIN(\";\",1,IF(Z152=\"\",A152+1,Z152),IF(AND(AA152<>\"\",AC152=\"\"),A152+1,AC152)),IF(U152=2,Y152,\"\"))","v":""},{"$f":"_xlfn.TEXTJOIN(\";\",1,X152,AA152)","v":""},"",null,null,"",{"$nulls":4},{"$f":"IF(ISNUMBER(Y152),2,IF(A154=\"\",IF(OR(AH152>0,VLOOKUP(O152,EventConfig!A:C,3,FALSE)=4),3,\"\"),1))","v":1},{"$f":"IF(AF152=\"\",\"\",CHOOSE(AF152,IF(AH152=\"\",A152+1,AH152),CONCATENATE(IF(AH152=\"\",A152+1,AH152),\";101\"),IF(AH152=\"\",O152+1,AH152)))","v":1001202},null,5162]
[null,"",null,"",{"$nulls":7},"",null,null,"",{"$nulls":8},"",null,null,"",{"$nulls":7},""]
[{"$f":"O154*100+P154","v":1001301},5163,"尧让天下",5164,"倾听尧帝的烦恼",{"$nulls":5},{"$f":"IF(J154=\"\",\"\",VLOOKUP(J154,EventNPC!A:E,5,FALSE))","v":""},5165,"你踏入帝尧治下的仙域——一片祥和之地，灵气充沛，民众安居，仿佛世外桃源。",null,{"$f":"IF(M154=\"\",\"\",IF(O153=\"\",O152+1,O153))","v":10013},{"$f":"IF(O154=O151,P151+1,1)","v":1},"",null,null,{"$f":"IF(R154=\"\",\"\",\"-\"&VLOOKUP(R154,EventConditionConfig!A:C,3,FALSE)&IF(S154=\"\",\"\",CHAR(10)&\"-\"&VLOOKUP(S154,EventConditionConfig!A:C,3,FALSE)))","v":""},null,null,{"$f":"_xlfn.TEXTJOIN(\";\",1,X154,AA154)","v":""},"",null,null,"",{"$nulls":4},{"$f":"IF(A154=\"\",\"\",IF(U154=1,\"\",IF(A155=\"\",3,1)))","v":1},{"$f":"IF(AF154=1,A155,IF(AF154=3,LEFT(A154,5)+1,\"\"))","v":1001302},null,5165]
[{"$f":"O155*100+P155","v":1001302},5163,"尧让天下",5164,"倾听尧帝的烦恼",{"$nulls":5},{"$f":"IF(J155=\"\",\"\",VLOOKUP(J155,EventNPC!A:E,5,FALSE))","v":""},5166,"然而，这位千年帝君，却眉宇间有难掩的忧色。",null,{"$f":"IF(O154=\"\",O153+1,O154)","v":10013},{"$f":"IF(O155=O154,P154+1,1)","v":2},"",null,null,{"$f":"IF(R155=\"\",\"\",\"-\"&VLOOKUP(R155,EventConditionConfig!A:C,3,FALSE)&IF(S155=\"\",\"\",CHAR(10)&\"-\"&VLOOKUP(S155,EventConditionConfig!A:C,3,FALSE)))","v":""},null,null,"","",null,null,"",{"$nulls":4},{"$f":"IF(A155=\"\",\"\",IF(U155=1,\"\",IF(A156=\"\",3,1)))","v":1},{"$f":"IF(AF155=1,A156,IF(AF155=3,LEFT(A155,5)+1,\"\"))","v":1001303},null,5166]
[{"$f":"O156*100+P156","v":1001303},5163,"尧让天下",5164,"倾听尧帝的烦恼",{"$nulls":5},{"$f":"IF(J156=\"\",\"\",VLOOKUP(J156,EventNPC!A:E,5,FALSE))","v":""},5167,"（你根据逍遥铃的指引，找到了尧）",null,10013,{"$f":"IF(O156=O155,P155+1,1)","v":3},"",null,null,{"$f":"IF(R156=\"\",\"\",\"-\"&VLOOKUP(R156,EventConditionConfig!A:C,3,FALSE)&IF(S156=\"\",\"\",CHAR(10)&\"-\"&VLOOKUP(S156,EventConditionConfig!A:C,3,FALSE)))","v":""},1,{"$f":"A157","v":1001304},"5168",5168,"拜见帝尧，晚辈受冲虚真人的指引，游历到此处。",null,"",{"$nulls":4},{"$f":"IF(A156=\"\",\"\",IF(U156=1,\"\",IF(A157=\"\",3,1)))","v":""},{"$f":"IF(AF156=1,A157,IF(AF156=3,LEFT(A156,5)+1,\"\"))","v":""},null,5168]
[{"$f":"O157*100+P157","v":1001304},5163,"尧让天下",5164,"倾听尧帝的烦恼",{"$nulls":4},105,{"$f":"IF(J157=\"\",\"\",VLOOKUP(J157,EventNPC!A:E,5,FALSE))","v":"尧帝"},5169,"（缓缓回头，脸上带着淡淡忧虑）冲虚真人吗？我也许久没见了..",null,10013,{"$f":"IF(O157=O156,P156+1,1)","v":4},"",null,null,{"$f":"IF(R157=\"\",\"\",\"-\"&VLOOKUP(R157,EventConditionConfig!A:C,3,FALSE)&IF(S157=\"\",\"\",CHAR(10)&\"-\"&VLOOKUP(S157,EventConditionConfig!A:C,3,FALSE)))","v":""},null,null,"","",null,null,"",{"$nulls":4},{"$f":"IF(A157=\"\",\"\",IF(U157=1,\"\",IF(A158=\"\",3,1)))","v":1},{"$f":"IF(AF157=1,A158,IF(AF157=3,LEFT(A157,5)+1,\"\"))","v":1001305},null,5169]
[{"$f":"O158*100+P158","v":1001305},5163,"尧让天下",5164,"倾听尧帝的烦恼",{"$nulls":4},105,{"$f":"IF(J158=\"\",\"\",VLOOKUP(J158,EventNPC!A:E,5,FALSE))","v":"尧帝"},5170,"(尧帝邀你来到一高处)\n小友，你看此处景致如何？",null,10013,{"$f":"IF(O158=O157,P157+1,1)","v":5},"",null,null,{"$f":"IF(R158=\"\",\"\",\"-\"&VLOOKUP(R158,EventConditionConfig!A:C,3,FALSE)&IF(S158=\"\",\"\",CHAR(10)&\"-\"&VLOOKUP(S158,EventConditionConfig!A:C,3,FALSE)))","v":""},1,"1001206;1001206","5171;5172",5171,"万象更新，灵气环绕，是修行的福地。",null,5172,"国泰民安，仙人治理，世间罕见。",null,null,null,{"$f":"IF(A158=\"\",\"\",IF(U158=1,\"\",IF(A159=\"\",3,1)))","v":""},{"$f":"IF(AF158=1,A159,IF(AF158=3,LEFT(A158,5)+1,\"\"))","v":""},null,5172]
[{"$f":"O159*100+P159","v":1001306},5163,"尧让天下",5164,"倾听尧帝的烦恼",{"$nulls":4},105,{"$f":"IF(J159=\"\",\"\",VLOOKUP(J159,EventNPC!A:E,5,FALSE))","v":"尧帝"},5173,"（叹息）是啊，人人自在，唯我不自在。这些年来，我境界难以寸进，已有百年。",null,10013,{"$f":"IF(O159=O158,P158+1,1)","v":6},"",null,null,{"$f":"IF(R159=\"\",\"\",\"-\"&VLOOKUP(R159,EventConditionConfig!A:C,3,FALSE)&IF(S159=\"\",\"\",CHAR(10)&\"-\"&VLOOKUP(S159,EventConditionConfig!A:C,3,FALSE)))","v":""},1,{"$f":"A160","v":1001307},"5174",5174,"帝尧何出此言？",null,"",{"$nulls":4},{"$f":"IF(A159=\"\",\"\",IF(U159=1,\"\",IF(A160=\"\",3,1)))","v":""},{"$f":"IF(AF159=1,A160,IF(AF159=3,LEFT(A159,5)+1,\"\"))","v":""},null,5174]
[{"$f":"O160*100+P160","v":1001307},5163,"尧让天下",5164,"倾听尧帝的烦恼",{"$nulls":4},105,{"$f":"IF(J160=\"\",\"\",VLOOKUP(J160,EventNPC!A:E,5,FALSE))","v":"尧帝"},5175,"你等散修，自由自在，来去如风，可曾体会过身负重任的滋味？",null,10013,{"$f":"IF(O160=O159,P159+1,1)","v":7},"",null,null,{"$f":"IF(R160=\"\",\"\",\"-\"&VLOOKUP(R160,EventConditionConfig!A:C,3,FALSE)&IF(S160=\"\",\"\",CHAR(10)&\"-\"&VLOOKUP(S160,EventConditionConfig!A:C,3,FALSE)))","v":""},1,{"$f":"A161","v":1001308},"5176",5176,"也有重担，却未必如帝尧这样复杂。",null,"",{"$nulls":4},{"$f":"IF(A160=\"\",\"\",IF(U160=1,\"\",IF(A161=\"\",3,1)))","v":""},{"$f":"IF(AF160=1,A161,IF(AF160=3,LEFT(A160,5)+1,\"\"))","v":""},null,5176]
[{"$f":"O161*100+P161","v":1001308},5163,"尧让天下",5164,"倾听尧帝的烦恼",{"$nulls":4},105,{"$f":"IF(J161=\"\",\"\",VLOOKUP(J161,EventNPC!A:E,5,FALSE))","v":"尧帝"},5177,"（微微一笑，摇头）天下如画卷，画卷再美，日夜背负，也终是负担。",null,10013,{"$f":"IF(O161=O160,P160+1,1)","v":8},"",null,null,{"$f":"IF(R161=\"\",\"\",\"-\"&VLOOKUP(R161,EventConditionConfig!A:C,3,FALSE)&IF(S161=\"\",\"\",CHAR(10)&\"-\"&VLOOKUP(S161,EventConditionConfig!A:C,3,FALSE)))","v":""},1,{"$f":"A162","v":1001309},"5178",5178,"......",null,"",{"$nulls":4},{"$f":"IF(A161=\"\",\"\",IF(U161=1,\"\",IF(A162=\"\",3,1)))","v":""},{"$f":"IF(AF161=1,A162,IF(AF161=3,LEFT(A161,5)+1,\"\"))","v":""},null,5178]
[{"$f":"O162*100+P162","v":1001309},5163,"尧让天下",5164,"倾听尧帝的烦恼",{"$nulls":4},105,{"$f":"IF(J162=\"\",\"\",VLOOKUP(J162,EventNPC!A:E,5,FALSE))","v":"尧帝"},5179,"（凝望远方云海）深山之中有位贤士，名为许由，素有盛名，我曾多次请他出山，但未成如愿。",null,10013,{"$f":"IF(O162=O161,P161+1,1)","v":9},"",null,null,{"$f":"IF(R162=\"\",\"\",\"-\"&VLOOKUP(R162,EventConditionConfig!A:C,3,FALSE)&IF(S162=\"\",\"\",CHAR(10)&\"-\"&VLOOKUP(S162,EventConditionConfig!A:C,3,FALSE)))","v":""},null,null,"","",null,null,"",{"$nulls":4},{"$f":"IF(A162=\"\",\"\",IF(U162=1,\"\",IF(A163=\"\",3,1)))","v":1},{"$f":"IF(AF162=1,A163,IF(AF162=3,LEFT(A162,5)+1,\"\"))","v":1001310},null,5179]
[{"$f":"O163*100+P163","v":1001310},5163,"尧让天下",5164,"倾听尧帝的烦恼",{"$nulls":4},105,{"$f":"IF(J163=\"\",\"\",VLOOKUP(J163,EventNPC!A:E,5,FALSE))","v":"尧帝"},5180,"我甚至提出让天下于他，他也不为所动。",null,10013,{"$f":"IF(O163=O162,P162+1,1)","v":10},"",null,null,{"$f":"IF(R163=\"\",\"\",\"-\"&VLOOKUP(R163,EventConditionConfig!A:C,3,FALSE)&IF(S163=\"\",\"\",CHAR(10)&\"-\"&VLOOKUP(S163,EventConditionConfig!A:C,3,FALSE)))","v":""},1,{"$f":"A164","v":1001311},"5181",5181,"世间竟然有此奇人？",null,"",{"$nulls":4},{"$f":"IF(A163=\"\",\"\",IF(U163=1,\"\",IF(A164=\"\",3,1)))","v":""},{"$f":"IF(AF163=1,A164,IF(AF163=3,LEFT(A163,5)+1,\"\"))","v":""},null,5181]
[{"$f":"O164*100+P164","v":1001311},5163,"尧让天下",5164,"倾听尧帝的烦恼",{"$nulls":4},105,{"$f":"IF(J164=\"\",\"\",VLOOKUP(J164,EventNPC!A:E,5,FALSE))","v":"尧帝"},5182,"（凝望远方云海）若小友有空，帮我再请许由出山，我定当感谢。",null,10013,{"$f":"IF(O164=O163,P163+1,1)","v":11},"",null,null,{"$f":"IF(R164=\"\",\"\",\"-\"&VLOOKUP(R164,EventConditionConfig!A:C,3,FALSE)&IF(S164=\"\",\"\",CHAR(10)&\"-\"&VLOOKUP(S164,EventConditionConfig!A:C,3,FALSE)))","v":""},1,{"$f":"A165","v":1001312},"5183",5183,"好的，既然来了，我就走一趟。",null,"",{"$nulls":4},{"$f":"IF(A164=\"\",\"\",IF(U164=1,\"\",IF(A165=\"\",3,1)))","v":""},{"$f":"IF(AF164=1,A165,IF(AF164=3,LEFT(A164,5)+1,\"\"))","v":""},null,5183]
[{"$f":"O165*100+P165","v":1001312},5163,"尧让天下",5164,"倾听尧帝的烦恼",{"$nulls":5},{"$f":"IF(J165=\"\",\"\",VLOOKUP(J165,EventNPC!A:E,5,FALSE))","v":""},"",null,null,10013,{"$f":"IF(O165=O164,P164+1,1)","v":12},"",null,null,{"$f":"IF(R165=\"\",\"\",\"-\"&VLOOKUP(R165,EventConditionConfig!A:C,3,FALSE)&IF(S165=\"\",\"\",CHAR(10)&\"-\"&VLOOKUP(S165,EventConditionConfig!A:C,3,FALSE)))","v":""},null,null,"","",null,null,"",{"$nulls":4},{"$f":"IF(A165=\"\",\"\",IF(U165=1,\"\",IF(A166=\"\",3,1)))","v":3},{"$f":"IF(AF165=1,A166,IF(AF165=3,LEFT(A165,5)+1,\"\"))","v":10014},null,5183]
[null,"",null,"",{"$nulls":7},"",{"$nulls":4},"",null,null,{"$f":"IF(R166=\"\",\"\",\"-\"&VLOOKUP(R166,EventConditionConfig!A:C,3,FALSE)&IF(S166=\"\",\"\",CHAR(10)&\"-\"&VLOOKUP(S166,EventConditionConfig!A:C,3,FALSE)))","v":""},null,null,null,"",null,null,"",{"$nulls":7},""]
[{"$f":"O167*100+P167","v":1001401},5184,"访贤许由",5185,"听一听这位尧帝口中的贤士有何说法",{"$nulls":5},{"$f":"IF(J167=\"\",\"\",VLOOKUP(J167,EventNPC!A:E,5,FALSE))","v":""},5186,"你循帝尧所言，御剑前往幽山秘境。此处灵气绵长，古木参天，溪水潺潺。",null,10014,{"$f":"IF(O167=O166,P166+1,1)","v":1},"",null,null,{"$f":"IF(R167=\"\",\"\",\"-\"&VLOOKUP(R167,EventConditionConfig!A:C,3,FALSE)&IF(S167=\"\",\"\",CHAR(10)&\"-\"&VLOOKUP(S167,EventConditionConfig!A:C,3,FALSE)))","v":""},null,null,{"$f":"_xlfn.TEXTJOIN(\";\",1,X167,AA167)","v":""},"",null,null,"",{"$nulls":4},{"$f":"IF(A167=\"\",\"\",IF(U167=1,\"\",IF(A168=\"\",3,1)))","v":1},{"$f":"IF(AF167=1,A168,IF(AF167=3,LEFT(A167,5)+1,\"\"))","v":1001402},null,5186]
[{"$f":"O168*100+P168","v":1001402},5184,"访贤许由",5185,"听一听这位尧帝口中的贤士有何说法",{"$nulls":5},{"$f":"IF(J168=\"\",\"\",VLOOKUP(J168,EventNPC!A:E,5,FALSE))","v":""},5187,"据说，许由栖身于此，绝迹尘世，已有数百年。",null,10014,{"$f":"IF(O168=O167,P167+1,1)","v":2},"",null,null,{"$f":"IF(R168=\"\",\"\",\"-\"&VLOOKUP(R168,EventConditionConfig!A:C,3,FALSE)&IF(S168=\"\",\"\",CHAR(10)&\"-\"&VLOOKUP(S168,EventConditionConfig!A:C,3,FALSE)))","v":""},null,null,"","",null,null,"",{"$nulls":4},{"$f":"IF(A168=\"\",\"\",IF(U168=1,\"\",IF(A169=\"\",3,1)))","v":1},{"$f":"IF(AF168=1,A169,IF(AF168=3,LEFT(A168,5)+1,\"\"))","v":1001403},null,5187]
[{"$f":"O169*100+P169","v":1001403},5184,"访贤许由",5185,"听一听这位尧帝口中的贤士有何说法",{"$nulls":5},{"$f":"IF(J169=\"\",\"\",VLOOKUP(J169,EventNPC!A:E,5,FALSE))","v":""},5188,"山风徐徐，水声如琴，你踏过青石小径，看见一位白衣道人正倚石观水。",null,10014,{"$f":"IF(O169=O168,P168+1,1)","v":3},"",null,null,{"$f":"IF(R169=\"\",\"\",\"-\"&VLOOKUP(R169,EventConditionConfig!A:C,3,FALSE)&IF(S169=\"\",\"\",CHAR(10)&\"-\"&VLOOKUP(S169,EventConditionConfig!A:C,3,FALSE)))","v":""},1,{"$f":"A170","v":1001404},"5189",5189,"前辈可是许由？",null,"",{"$nulls":4},{"$f":"IF(A169=\"\",\"\",IF(U169=1,\"\",IF(A170=\"\",3,1)))","v":""},{"$f":"IF(AF169=1,A170,IF(AF169=3,LEFT(A169,5)+1,\"\"))","v":""},null,5189]
[{"$f":"O170*100+P170","v":1001404},5184,"访贤许由",5185,"听一听这位尧帝口中的贤士有何说法",{"$nulls":4},106,{"$f":"IF(J170=\"\",\"\",VLOOKUP(J170,EventNPC!A:E,5,FALSE))","v":"许由"},5190,"正是，小友何事？",null,10014,{"$f":"IF(O170=O169,P169+1,1)","v":4},"",null,null,{"$f":"IF(R170=\"\",\"\",\"-\"&VLOOKUP(R170,EventConditionConfig!A:C,3,FALSE)&IF(S170=\"\",\"\",CHAR(10)&\"-\"&VLOOKUP(S170,EventConditionConfig!A:C,3,FALSE)))","v":""},null,null,"","",null,null,"",{"$nulls":4},{"$f":"IF(A170=\"\",\"\",IF(U170=1,\"\",IF(A171=\"\",3,1)))","v":1},{"$f":"IF(AF170=1,A171,IF(AF170=3,LEFT(A170,5)+1,\"\"))","v":1001405},null,5190]
[{"$f":"O171*100+P171","v":1001405},5184,"访贤许由",5185,"听一听这位尧帝口中的贤士有何说法",{"$nulls":4},100,{"$f":"IF(J171=\"\",\"\",VLOOKUP(J171,EventNPC!A:E,5,FALSE))","v":"玩家"},5191,"帝尧欲专心修行，求道问玄，又怕耽误世事，特托我前来相请，欲让天下于你。",null,10014,{"$f":"IF(O171=O170,P170+1,1)","v":5},"",null,null,{"$f":"IF(R171=\"\",\"\",\"-\"&VLOOKUP(R171,EventConditionConfig!A:C,3,FALSE)&IF(S171=\"\",\"\",CHAR(10)&\"-\"&VLOOKUP(S171,EventConditionConfig!A:C,3,FALSE)))","v":""},null,null,"","",null,null,"",{"$nulls":4},{"$f":"IF(A171=\"\",\"\",IF(U171=1,\"\",IF(A172=\"\",3,1)))","v":1},{"$f":"IF(AF171=1,A172,IF(AF171=3,LEFT(A171,5)+1,\"\"))","v":1001406},null,5191]
[{"$f":"O172*100+P172","v":1001406},5184,"访贤许由",5185,"听一听这位尧帝口中的贤士有何说法",{"$nulls":4},106,{"$f":"IF(J172=\"\",\"\",VLOOKUP(J172,EventNPC!A:E,5,FALSE))","v":"许由"},5192,"（静默片刻）昔日帝尧就提过此事，我已辞之。",null,10014,{"$f":"IF(O172=O171,P171+1,1)","v":6},"",null,null,{"$f":"IF(R172=\"\",\"\",\"-\"&VLOOKUP(R172,EventConditionConfig!A:C,3,FALSE)&IF(S172=\"\",\"\",CHAR(10)&\"-\"&VLOOKUP(S172,EventConditionConfig!A:C,3,FALSE)))","v":""},null,null,"","",null,null,"",{"$nulls":4},{"$f":"IF(A172=\"\",\"\",IF(U172=1,\"\",IF(A173=\"\",3,1)))","v":1},{"$f":"IF(AF172=1,A173,IF(AF172=3,LEFT(A172,5)+1,\"\"))","v":1001407},null,5192]
[{"$f":"O173*100+P173","v":1001407},5184,"访贤许由",5185,"听一听这位尧帝口中的贤士有何说法",{"$nulls":4},106,{"$f":"IF(J173=\"\",\"\",VLOOKUP(J173,EventNPC!A:E,5,FALSE))","v":"许由"},5193,"今日又来，想是道心不定，执念未除。",null,10014,{"$f":"IF(O173=O172,P172+1,1)","v":7},"",null,null,{"$f":"IF(R173=\"\",\"\",\"-\"&VLOOKUP(R173,EventConditionConfig!A:C,3,FALSE)&IF(S173=\"\",\"\",CHAR(10)&\"-\"&VLOOKUP(S173,EventConditionConfig!A:C,3,FALSE)))","v":""},1,{"$f":"A174","v":1001408},"5194",5194,"请前辈出山。",null,"",{"$nulls":4},{"$f":"IF(A173=\"\",\"\",IF(U173=1,\"\",IF(A174=\"\",3,1)))","v":""},{"$f":"IF(AF173=1,A174,IF(AF173=3,LEFT(A173,5)+1,\"\"))","v":""},null,5194]
[1001408,5184,"访贤许由",5185,"听一听这位尧帝口中的贤士有何说法",{"$nulls":4},106,{"$f":"IF(J174=\"\",\"\",VLOOKUP(J174,EventNPC!A:E,5,FALSE))","v":"许由"},5195,"哼，让我去？",null,10014,8,"",null,null,{"$f":"IF(R174=\"\",\"\",\"-\"&VLOOKUP(R174,EventConditionConfig!A:C,3,FALSE)&IF(S174=\"\",\"\",CHAR(10)&\"-\"&VLOOKUP(S174,EventConditionConfig!A:C,3,FALSE)))","v":""},null,null,"","",null,null,"",{"$nulls":4},1,1001409,null,5195]
[{"$f":"O175*100+P175","v":1001409},5184,"访贤许由",5185,"听一听这位尧帝口中的贤士有何说法",{"$nulls":4},106,{"$f":"IF(J175=\"\",\"\",VLOOKUP(J175,EventNPC!A:E,5,FALSE))","v":"许由"},5196,"那我问你，日月升天，照耀四方。若这时有人手举火把照路，岂不徒劳？",null,10014,{"$f":"IF(O175=O174,P174+1,1)","v":9},"",null,null,{"$f":"IF(R175=\"\",\"\",\"-\"&VLOOKUP(R175,EventConditionConfig!A:C,3,FALSE)&IF(S175=\"\",\"\",CHAR(10)&\"-\"&VLOOKUP(S175,EventConditionConfig!A:C,3,FALSE)))","v":""},null,null,"","",null,null,"",{"$nulls":4},{"$f":"IF(A175=\"\",\"\",IF(U175=1,\"\",IF(A176=\"\",3,1)))","v":1},{"$f":"IF(AF175=1,A176,IF(AF175=3,LEFT(A175,5)+1,\"\"))","v":1001410},null,5196]
[{"$f":"O176*100+P176","v":1001410},5184,"访贤许由",5185,"听一听这位尧帝口中的贤士有何说法",{"$nulls":4},106,{"$f":"IF(J176=\"\",\"\",VLOOKUP(J176,EventNPC!A:E,5,FALSE))","v":"许由"},5197,"那我再问你，斜风细雨，滋养万物。若这时有人用水桶来灌溉，岂不可笑？",null,10014,{"$f":"IF(O176=O175,P175+1,1)","v":10},"",null,null,{"$f":"IF(R176=\"\",\"\",\"-\"&VLOOKUP(R176,EventConditionConfig!A:C,3,FALSE)&IF(S176=\"\",\"\",CHAR(10)&\"-\"&VLOOKUP(S176,EventConditionConfig!A:C,3,FALSE)))","v":""},null,null,"","",null,null,"",{"$nulls":4},{"$f":"IF(A176=\"\",\"\",IF(U176=1,\"\",IF(A177=\"\",3,1)))","v":1},{"$f":"IF(AF176=1,A177,IF(AF176=3,LEFT(A176,5)+1,\"\"))","v":1001411},null,5197]
[{"$f":"O177*100+P177","v":1001411},5184,"访贤许由",5185,"听一听这位尧帝口中的贤士有何说法",{"$nulls":4},106,{"$f":"IF(J177=\"\",\"\",VLOOKUP(J177,EventNPC!A:E,5,FALSE))","v":"许由"},5198,"天下在尧的带领下，已经治理得很好了，又何必要我，我是要去混个功成名就吗？",null,10014,{"$f":"IF(O177=O176,P176+1,1)","v":11},"",null,null,{"$f":"IF(R177=\"\",\"\",\"-\"&VLOOKUP(R177,EventConditionConfig!A:C,3,FALSE)&IF(S177=\"\",\"\",CHAR(10)&\"-\"&VLOOKUP(S177,EventConditionConfig!A:C,3,FALSE)))","v":""},null,null,"","",null,null,"",{"$nulls":4},{"$f":"IF(A177=\"\",\"\",IF(U177=1,\"\",IF(A178=\"\",3,1)))","v":1},{"$f":"IF(AF177=1,A178,IF(AF177=3,LEFT(A177,5)+1,\"\"))","v":1001412},null,5198]
[{"$f":"O178*100+P178","v":1001412},5184,"访贤许由",5185,"听一听这位尧帝口中的贤士有何说法",{"$nulls":4},106,{"$f":"IF(J178=\"\",\"\",VLOOKUP(J178,EventNPC!A:E,5,FALSE))","v":"许由"},5199,"回答我？",null,10014,{"$f":"IF(O178=O177,P177+1,1)","v":12},"",null,null,{"$f":"IF(R178=\"\",\"\",\"-\"&VLOOKUP(R178,EventConditionConfig!A:C,3,FALSE)&IF(S178=\"\",\"\",CHAR(10)&\"-\"&VLOOKUP(S178,EventConditionConfig!A:C,3,FALSE)))","v":""},1,{"$f":"A179","v":1001413},"5200",5200,"就算只得功成名就也不错。",null,"",{"$nulls":4},{"$f":"IF(A178=\"\",\"\",IF(U178=1,\"\",IF(A179=\"\",3,1)))","v":""},{"$f":"IF(AF178=1,A179,IF(AF178=3,LEFT(A178,5)+1,\"\"))","v":""},null,5200]
[1001413,5184,"访贤许由",5185,"听一听这位尧帝口中的贤士有何说法",{"$nulls":4},106,{"$f":"IF(J179=\"\",\"\",VLOOKUP(J179,EventNPC!A:E,5,FALSE))","v":"许由"},5201,"小友，名就像宾客一样，难道我们的一生是为了宾客吗？",null,10014,13,"",null,null,{"$f":"IF(R179=\"\",\"\",\"-\"&VLOOKUP(R179,EventConditionConfig!A:C,3,FALSE)&IF(S179=\"\",\"\",CHAR(10)&\"-\"&VLOOKUP(S179,EventConditionConfig!A:C,3,FALSE)))","v":""},1,{"$f":"A180","v":1001414},"5202",5202,"（愣住）......",null,"",{"$nulls":4},"","",null,5202]
[{"$f":"O180*100+P180","v":1001414},5184,"访贤许由",5185,"听一听这位尧帝口中的贤士有何说法",{"$nulls":4},106,{"$f":"IF(J180=\"\",\"\",VLOOKUP(J180,EventNPC!A:E,5,FALSE))","v":"许由"},5203,"他若真想修道，便该知“道不碍政，心自碍道”。",null,10014,{"$f":"IF(O180=O179,P179+1,1)","v":14},"",null,null,{"$f":"IF(R180=\"\",\"\",\"-\"&VLOOKUP(R180,EventConditionConfig!A:C,3,FALSE)&IF(S180=\"\",\"\",CHAR(10)&\"-\"&VLOOKUP(S180,EventConditionConfig!A:C,3,FALSE)))","v":""},null,null,null,"",null,null,"",{"$nulls":4},{"$f":"IF(A180=\"\",\"\",IF(U180=1,\"\",IF(A181=\"\",3,1)))","v":1},{"$f":"IF(AF180=1,A181,IF(AF180=3,LEFT(A180,5)+1,\"\"))","v":1001415},null,5203]
[1001415,5184,"访贤许由",5185,"听一听这位尧帝口中的贤士有何说法",{"$nulls":4},106,{"$f":"IF(J181=\"\",\"\",VLOOKUP(J181,EventNPC!A:E,5,FALSE))","v":"许由"},5204,"若心不净，纵避千山万水，又有何用。",null,10014,15,"",null,null,{"$f":"IF(R181=\"\",\"\",\"-\"&VLOOKUP(R181,EventConditionConfig!A:C,3,FALSE)&IF(S181=\"\",\"\",CHAR(10)&\"-\"&VLOOKUP(S181,EventConditionConfig!A:C,3,FALSE)))","v":""},1,{"$f":"A182","v":1001416},{"$f":"_xlfn.TEXTJOIN(\";\",1,X181,AA181)","v":"5205"},5205,"（愣住）......",null,"",{"$nulls":4},"","",null,5205]
[1001416,5184,"访贤许由",5185,"听一听这位尧帝口中的贤士有何说法",{"$nulls":5},{"$f":"IF(J182=\"\",\"\",VLOOKUP(J182,EventNPC!A:E,5,FALSE))","v":""},"",null,null,10014,16,"21",21,null,{"$f":"IF(R182=\"\",\"\",\"-\"&VLOOKUP(R182,EventConditionConfig!A:C,3,FALSE)&IF(S182=\"\",\"\",CHAR(10)&\"-\"&VLOOKUP(S182,EventConditionConfig!A:C,3,FALSE)))","v":"-达到境界：筑基-中期"},null,null,{"$f":"_xlfn.TEXTJOIN(\";\",1,X182,AA182)","v":""},"",null,null,"",{"$nulls":4},3,10015,null,5205]
[null,"",null,"",{"$nulls":7},"",{"$nulls":4},"",null,null,{"$f":"IF(R183=\"\",\"\",\"-\"&VLOOKUP(R183,EventConditionConfig!A:C,3,FALSE)&IF(S183=\"\",\"\",CHAR(10)&\"-\"&VLOOKUP(S183,EventConditionConfig!A:C,3,FALSE)))","v":""},null,null,null,"",null,null,"",{"$nulls":7},""]
[{"$f":"O184*100+P184","v":1001501},5206,"割草喝茶","",{"$nulls":5},106,{"$f":"IF(J184=\"\",\"\",VLOOKUP(J184,EventNPC!A:E,5,FALSE))","v":"许由"},5207,"（转身望向屋后的山坡）你来得也巧，我正想在开辟一块新药田。",null,10015,{"$f":"IF(O184=O183,P183+1,1)","v":1},"",null,null,{"$f":"IF(R184=\"\",\"\",\"-\"&VLOOKUP(R184,EventConditionConfig!A:C,3,FALSE)&IF(S184=\"\",\"\",CHAR(10)&\"-\"&VLOOKUP(S184,EventConditionConfig!A:C,3,FALSE)))","v":""},null,null,{"$f":"_xlfn.TEXTJOIN(\";\",1,X184,AA184)","v":""},"",null,null,"",{"$nulls":4},{"$f":"IF(A184=\"\",\"\",IF(U184=1,\"\",IF(A185=\"\",3,1)))","v":1},{"$f":"IF(AF184=1,A185,IF(AF184=3,LEFT(A184,5)+1,\"\"))","v":1001502},null,5207]
[{"$f":"O185*100+P185","v":1001502},5206,"割草喝茶","",{"$nulls":5},106,{"$f":"IF(J185=\"\",\"\",VLOOKUP(J185,EventNPC!A:E,5,FALSE))","v":"许由"},5208,"后山有一块不错的地，离家有一点远平时我也懒得去打理，正好你来了帮我开辟出来吧。",null,10015,{"$f":"IF(O185=O184,P184+1,1)","v":2},"",null,null,{"$f":"IF(R185=\"\",\"\",\"-\"&VLOOKUP(R185,EventConditionConfig!A:C,3,FALSE)&IF(S185=\"\",\"\",CHAR(10)&\"-\"&VLOOKUP(S185,EventConditionConfig!A:C,3,FALSE)))","v":""},1,{"$f":"A186","v":1001503},"5209",5209,"……前辈是让我干农活吗",null,"",{"$nulls":4},{"$f":"IF(A185=\"\",\"\",IF(U185=1,\"\",IF(A186=\"\",3,1)))","v":""},{"$f":"IF(AF185=1,A186,IF(AF185=3,LEFT(A185,5)+1,\"\"))","v":""},null,5209]
[1001503,5206,"割草喝茶","",{"$nulls":5},106,{"$f":"IF(J186=\"\",\"\",VLOOKUP(J186,EventNPC!A:E,5,FALSE))","v":"许由"},5210,"（笑）哈哈，正是，帮我清理一下灵田，回来请你喝茶。",null,10015,3,{"$f":"_xlfn.TEXTJOIN(\";\",1,R186:S186)","v":""},null,null,{"$f":"IF(R186=\"\",\"\",\"-\"&VLOOKUP(R186,EventConditionConfig!A:C,3,FALSE)&IF(S186=\"\",\"\",CHAR(10)&\"-\"&VLOOKUP(S186,EventConditionConfig!A:C,3,FALSE)))","v":""},null,null,"","",null,null,"",{"$nulls":4},1,1001504,null,5210]
[{"$f":"O187*100+P187","v":1001504},5206,"割草喝茶","",{"$nulls":5},106,{"$f":"IF(J187=\"\",\"\",VLOOKUP(J187,EventNPC!A:E,5,FALSE))","v":"许由"},5211,"对了，在哪些杂草中不也会生长着一些药效不错的药草，这些药草在杂草中没有更好的成长起来，如果发现了药草帮我收集一些药草的种子回来。",null,10015,{"$f":"IF(O187=O186,P186+1,1)","v":4},{"$f":"_xlfn.TEXTJOIN(\";\",1,R187:S187)","v":""},null,null,{"$f":"IF(R187=\"\",\"\",\"-\"&VLOOKUP(R187,EventConditionConfig!A:C,3,FALSE)&IF(S187=\"\",\"\",CHAR(10)&\"-\"&VLOOKUP(S187,EventConditionConfig!A:C,3,FALSE)))","v":""},null,null,"","",null,null,"",{"$nulls":4},{"$f":"IF(A187=\"\",\"\",IF(U187=1,\"\",IF(A188=\"\",3,1)))","v":1},{"$f":"IF(AF187=1,A188,IF(AF187=3,LEFT(A187,5)+1,\"\"))","v":1001505},null,5211]
[{"$f":"O188*100+P188","v":1001505},5206,"割草喝茶","",{"$nulls":5},106,{"$f":"IF(J188=\"\",\"\",VLOOKUP(J188,EventNPC!A:E,5,FALSE))","v":"许由"},5212,"在开辟的过程中也请小心一点，后山也经常有妖怪出没。",null,10015,{"$f":"IF(O188=O187,P187+1,1)","v":5},{"$f":"_xlfn.TEXTJOIN(\";\",1,R188:S188)","v":"10;11"},10,11,{"$f":"IF(R188=\"\",\"\",\"-\"&VLOOKUP(R188,EventConditionConfig!A:C,3,FALSE)&IF(S188=\"\",\"\",CHAR(10)&\"-\"&VLOOKUP(S188,EventConditionConfig!A:C,3,FALSE)))","v":"-击败后山小妖\n-收集灵草种子"},null,null,"","",null,null,"",{"$nulls":4},{"$f":"IF(A188=\"\",\"\",IF(U188=1,\"\",IF(A189=\"\",3,1)))","v":1},{"$f":"IF(AF188=1,A189,IF(AF188=3,LEFT(A188,5)+1,\"\"))","v":1001506},null,5212]
[1001506,5206,"割草喝茶","",{"$nulls":6},{"$f":"IF(J189=\"\",\"\",VLOOKUP(J189,EventNPC!A:E,5,FALSE))","v":""},5213,"（你回到屋前，满身草屑与泥土，许由在烧水，煮茶）",null,10015,6,"",null,null,{"$f":"IF(R189=\"\",\"\",\"-\"&VLOOKUP(R189,EventConditionConfig!A:C,3,FALSE)&IF(S189=\"\",\"\",CHAR(10)&\"-\"&VLOOKUP(S189,EventConditionConfig!A:C,3,FALSE)))","v":""},null,null,"","",null,null,"",{"$nulls":4},1,1001507,null,5213]
[{"$f":"O190*100+P190","v":1001507},5206,"割草喝茶","",{"$nulls":5},106,{"$f":"IF(J190=\"\",\"\",VLOOKUP(J190,EventNPC!A:E,5,FALSE))","v":"许由"},5214,"动得挺快。坐，喝口茶。",null,10015,{"$f":"IF(O190=O189,P189+1,1)","v":7},{"$f":"_xlfn.TEXTJOIN(\";\",1,R190:S190)","v":""},null,null,{"$f":"IF(R190=\"\",\"\",\"-\"&VLOOKUP(R190,EventConditionConfig!A:C,3,FALSE)&IF(S190=\"\",\"\",CHAR(10)&\"-\"&VLOOKUP(S190,EventConditionConfig!A:C,3,FALSE)))","v":""},{"$f":"IF(Y190=\"\",\"\",1)","v":1},{"$f":"IF(U190=1,A191,\"\")","v":1001508},"5215",5215,"多谢前辈。",null,"",{"$nulls":4},{"$f":"IF(A190=\"\",\"\",IF(U190=1,\"\",IF(A191=\"\",3,1)))","v":""},{"$f":"IF(AF190=1,A191,IF(AF190=3,LEFT(A190,5)+1,\"\"))","v":""},null,5215]
[{"$f":"O191*100+P191","v":1001508},5206,"割草喝茶","",{"$nulls":6},{"$f":"IF(J191=\"\",\"\",VLOOKUP(J191,EventNPC!A:E,5,FALSE))","v":""},5216,"（你获得了永久属性提升）（此处需要进一步处理）",null,10015,{"$f":"IF(O191=O190,P190+1,1)","v":8},{"$f":"_xlfn.TEXTJOIN(\";\",1,R191:S191)","v":""},null,null,{"$f":"IF(R191=\"\",\"\",\"-\"&VLOOKUP(R191,EventConditionConfig!A:C,3,FALSE)&IF(S191=\"\",\"\",CHAR(10)&\"-\"&VLOOKUP(S191,EventConditionConfig!A:C,3,FALSE)))","v":""},{"$f":"IF(Y191=\"\",\"\",1)","v":""},{"$f":"IF(U191=1,A192,\"\")","v":""},"","",null,null,"",{"$nulls":4},{"$f":"IF(A191=\"\",\"\",IF(U191=1,\"\",IF(A192=\"\",3,1)))","v":3},{"$f":"IF(AF191=1,A192,IF(AF191=3,LEFT(A191,5)+1,\"\"))","v":10016},null,5216]
[null,"",null,"",{"$nulls":7},"",{"$nulls":11},"",null,null,"",{"$nulls":7},""]
[{"$f":"O193*100+P193","v":1001601},5217,"再来一杯","",{"$nulls":5},106,{"$f":"IF(J193=\"\",\"\",VLOOKUP(J193,EventNPC!A:E,5,FALSE))","v":"许由"},5218,"今天的风有点不对，开来昨日你在后山的动静不小呀，山那头怕是要来些不速之客。",null,10016,{"$f":"IF(O193=O192,P192+1,1)","v":1},{"$f":"_xlfn.TEXTJOIN(\";\",1,R193:S193)","v":""},null,null,{"$f":"IF(R193=\"\",\"\",\"-\"&VLOOKUP(R193,EventConditionConfig!A:C,3,FALSE)&IF(S193=\"\",\"\",CHAR(10)&\"-\"&VLOOKUP(S193,EventConditionConfig!A:C,3,FALSE)))","v":""},{"$f":"IF(Y193=\"\",\"\",1)","v":""},{"$f":"IF(U193=1,A194,\"\")","v":""},{"$f":"_xlfn.TEXTJOIN(\";\",1,X193,AA193)","v":""},"",null,null,"",{"$nulls":4},{"$f":"IF(A193=\"\",\"\",IF(U193=1,\"\",IF(A194=\"\",3,1)))","v":1},{"$f":"IF(AF193=1,A194,IF(AF193=3,LEFT(A193,5)+1,\"\"))","v":1001602},null,5218]
[{"$f":"O194*100+P194","v":1001602},5217,"再来一杯","",{"$nulls":5},106,{"$f":"IF(J194=\"\",\"\",VLOOKUP(J194,EventNPC!A:E,5,FALSE))","v":"许由"},5219,"你才帮我弄好灵草种子和灵田，别让妖兽给毁了。",null,10016,{"$f":"IF(O194=O193,P193+1,1)","v":2},{"$f":"_xlfn.TEXTJOIN(\";\",1,R194:S194)","v":""},null,null,{"$f":"IF(R194=\"\",\"\",\"-\"&VLOOKUP(R194,EventConditionConfig!A:C,3,FALSE)&IF(S194=\"\",\"\",CHAR(10)&\"-\"&VLOOKUP(S194,EventConditionConfig!A:C,3,FALSE)))","v":""},"","","","",null,null,"",{"$nulls":4},{"$f":"IF(A194=\"\",\"\",IF(U194=1,\"\",IF(A195=\"\",3,1)))","v":1},{"$f":"IF(AF194=1,A195,IF(AF194=3,LEFT(A194,5)+1,\"\"))","v":1001603},null,5219]
[{"$f":"O195*100+P195","v":1001603},5217,"再来一杯","",{"$nulls":5},106,{"$f":"IF(J195=\"\",\"\",VLOOKUP(J195,EventNPC!A:E,5,FALSE))","v":"许由"},5220,"你去走一趟。",null,10016,{"$f":"IF(O195=O194,P194+1,1)","v":3},{"$f":"_xlfn.TEXTJOIN(\";\",1,R195:S195)","v":""},null,null,{"$f":"IF(R195=\"\",\"\",\"-\"&VLOOKUP(R195,EventConditionConfig!A:C,3,FALSE)&IF(S195=\"\",\"\",CHAR(10)&\"-\"&VLOOKUP(S195,EventConditionConfig!A:C,3,FALSE)))","v":""},1,1001604,"5221",5221,"好的......",null,"",{"$nulls":4},{"$f":"IF(A195=\"\",\"\",IF(U195=1,\"\",IF(A196=\"\",3,1)))","v":""},{"$f":"IF(AF195=1,A196,IF(AF195=3,LEFT(A195,5)+1,\"\"))","v":""},null,5221]
[1001604,5217,"再来一杯","",{"$nulls":6},{"$f":"IF(J196=\"\",\"\",VLOOKUP(J196,EventNPC!A:E,5,FALSE))","v":""},"",null,null,10016,4,"12",12,null,{"$f":"IF(R196=\"\",\"\",\"-\"&VLOOKUP(R196,EventConditionConfig!A:C,3,FALSE)&IF(S196=\"\",\"\",CHAR(10)&\"-\"&VLOOKUP(S196,EventConditionConfig!A:C,3,FALSE)))","v":"-击败夜袭的妖兽"},"","","","",null,null,"",{"$nulls":4},1,1001605,null,5221]
[1001605,5217,"再来一杯","",{"$nulls":6},{"$f":"IF(J197=\"\",\"\",VLOOKUP(J197,EventNPC!A:E,5,FALSE))","v":""},5222,"（回到屋前，看到许由又在烧水，煮茶，和上次一样）",null,10016,5,"",null,null,{"$f":"IF(R197=\"\",\"\",\"-\"&VLOOKUP(R197,EventConditionConfig!A:C,3,FALSE)&IF(S197=\"\",\"\",CHAR(10)&\"-\"&VLOOKUP(S197,EventConditionConfig!A:C,3,FALSE)))","v":""},"","","","",null,null,"",{"$nulls":4},1,1001606,null,5222]
[{"$f":"O198*100+P198","v":1001606},{"$f":"IF(C198=\"\",\"\",IF(C198=C197,B197,MAX(AI197,AI196)+1))","v":5217},"再来一杯",{"$f":"IF(E198=\"\",\"\",IF(E198=E197,D197,MAX(AI197,AI196,B198)+1))","v":""},{"$nulls":5},106,{"$f":"IF(J198=\"\",\"\",VLOOKUP(J198,EventNPC!A:E,5,FALSE))","v":"许由"},{"$f":"IF(M198=\"\",\"\",MAX(AI197,AI196,B198,D198)+1)","v":5223},"来，喝茶。",null,10016,{"$f":"IF(O198=O197,P197+1,1)","v":6},{"$f":"_xlfn.TEXTJOIN(\";\",1,R198:S198)","v":""},null,null,{"$f":"IF(R198=\"\",\"\",\"-\"&VLOOKUP(R198,EventConditionConfig!A:C,3,FALSE)&IF(S198=\"\",\"\",CHAR(10)&\"-\"&VLOOKUP(S198,EventConditionConfig!A:C,3,FALSE)))","v":""},"","","",{"$f":"IF(OR(ISNUMBER(Y198),Y198=\"\"),\"\",MAX(AI197,AI196,B198,D198,L198)+1)","v":""},null,null,{"$f":"IF(OR(ISNUMBER(AB198),AB198=\"\"),\"\",X198+1)","v":""},{"$nulls":4},{"$f":"IF(A198=\"\",\"\",IF(U198=1,\"\",IF(A199=\"\",3,1)))","v":1},{"$f":"IF(AF198=1,A199,IF(AF198=3,LEFT(A198,5)+1,\"\"))","v":1001607},null,{"$f":"IF(A198=\"\",\"\",MAX(B198,D198,L198,X198,AA198,AI197,AI196))","v":5223}]
[{"$f":"O199*100+P199","v":1001607},5217,"再来一杯","",{"$nulls":5},100,{"$f":"IF(J199=\"\",\"\",VLOOKUP(J199,EventNPC!A:E,5,FALSE))","v":"玩家"},5224,"（心中默念...这个精英妖兽，可费我一些功夫，怎么又是茶？）",null,10016,{"$f":"IF(O199=O198,P198+1,1)","v":7},{"$f":"_xlfn.TEXTJOIN(\";\",1,R199:S199)","v":""},null,null,{"$f":"IF(R199=\"\",\"\",\"-\"&VLOOKUP(R199,EventConditionConfig!A:C,3,FALSE)&IF(S199=\"\",\"\",CHAR(10)&\"-\"&VLOOKUP(S199,EventConditionConfig!A:C,3,FALSE)))","v":""},1,1001608,"5225",5225,"（你没说话，默默喝下）",null,"",{"$nulls":4},{"$f":"IF(A199=\"\",\"\",IF(U199=1,\"\",IF(A200=\"\",3,1)))","v":""},{"$f":"IF(AF199=1,A200,IF(AF199=3,LEFT(A199,5)+1,\"\"))","v":""},null,5225]
[1001608,5217,"再来一杯","",{"$nulls":6},{"$f":"IF(J200=\"\",\"\",VLOOKUP(J200,EventNPC!A:E,5,FALSE))","v":""},5226,"（你获得了永久属性提升）（此处需要进一步处理）",null,10016,8,"22",22,null,{"$f":"IF(R200=\"\",\"\",\"-\"&VLOOKUP(R200,EventConditionConfig!A:C,3,FALSE)&IF(S200=\"\",\"\",CHAR(10)&\"-\"&VLOOKUP(S200,EventConditionConfig!A:C,3,FALSE)))","v":"-达到境界：筑基-后期"},"","","","",null,null,"",{"$nulls":4},3,10017,null,5226]
[null,"",null,"",{"$nulls":7},"",{"$nulls":11},"",null,null,"",{"$nulls":7},""]
[{"$f":"O202*100+P202","v":1001701},5227,"战胜妖王","",{"$nulls":6},{"$f":"IF(J202=\"\",\"\",VLOOKUP(J202,EventNPC!A:E,5,FALSE))","v":""},5228,"（次日清晨，山顶云气升腾，许由站在灵田边，看着远山）",null,10017,{"$f":"IF(O202=O201,P201+1,1)","v":1},{"$f":"_xlfn.TEXTJOIN(\";\",1,R202:S202)","v":""},null,null,{"$f":"IF(R202=\"\",\"\",\"-\"&VLOOKUP(R202,EventConditionConfig!A:C,3,FALSE)&IF(S202=\"\",\"\",CHAR(10)&\"-\"&VLOOKUP(S202,EventConditionConfig!A:C,3,FALSE)))","v":""},{"$f":"IF(Y202=\"\",\"\",1)","v":""},{"$f":"IF(U202=1,A203,\"\")","v":""},{"$f":"_xlfn.TEXTJOIN(\";\",1,X202,AA202)","v":""},"",null,null,"",{"$nulls":4},{"$f":"IF(A202=\"\",\"\",IF(U202=1,\"\",IF(A203=\"\",3,1)))","v":1},{"$f":"IF(AF202=1,A203,IF(AF202=3,LEFT(A202,5)+1,\"\"))","v":1001702},null,5228]
[{"$f":"O203*100+P203","v":1001702},5227,"战胜妖王","",{"$nulls":6},{"$f":"IF(J203=\"\",\"\",VLOOKUP(J203,EventNPC!A:E,5,FALSE))","v":""},5229," 先前的妖兽，被你压了下去。可峰顶还有一头老家伙，脾气大。",null,10017,{"$f":"IF(O203=O202,P202+1,1)","v":2},{"$f":"_xlfn.TEXTJOIN(\";\",1,R203:S203)","v":""},null,null,{"$f":"IF(R203=\"\",\"\",\"-\"&VLOOKUP(R203,EventConditionConfig!A:C,3,FALSE)&IF(S203=\"\",\"\",CHAR(10)&\"-\"&VLOOKUP(S203,EventConditionConfig!A:C,3,FALSE)))","v":""},1,1001703,"5230",5230,"前辈可是希望我去处理？",null,"",{"$nulls":4},{"$f":"IF(A203=\"\",\"\",IF(U203=1,\"\",IF(A204=\"\",3,1)))","v":""},{"$f":"IF(AF203=1,A204,IF(AF203=3,LEFT(A203,5)+1,\"\"))","v":""},null,5230]
[1001703,5227,"战胜妖王","",{"$nulls":5},106,{"$f":"IF(J204=\"\",\"\",VLOOKUP(J204,EventNPC!A:E,5,FALSE))","v":"许由"},5231,"（淡笑）去吧，你可以应付的。",null,10017,3,"",null,null,{"$f":"IF(R204=\"\",\"\",\"-\"&VLOOKUP(R204,EventConditionConfig!A:C,3,FALSE)&IF(S204=\"\",\"\",CHAR(10)&\"-\"&VLOOKUP(S204,EventConditionConfig!A:C,3,FALSE)))","v":""},"","","","",null,null,"",{"$nulls":4},1,1001704,null,5231]
[1001704,5227,"战胜妖王","",{"$nulls":6},{"$f":"IF(J205=\"\",\"\",VLOOKUP(J205,EventNPC!A:E,5,FALSE))","v":""},"",null,null,10017,{"$f":"IF(O205=O204,P204+1,1)","v":4},{"$f":"_xlfn.TEXTJOIN(\";\",1,R205:S205)","v":"13"},13,null,{"$f":"IF(R205=\"\",\"\",\"-\"&VLOOKUP(R205,EventConditionConfig!A:C,3,FALSE)&IF(S205=\"\",\"\",CHAR(10)&\"-\"&VLOOKUP(S205,EventConditionConfig!A:C,3,FALSE)))","v":"-击败峰顶的妖王"},"","","","",null,null,"",{"$nulls":4},{"$f":"IF(A205=\"\",\"\",IF(U205=1,\"\",IF(A206=\"\",3,1)))","v":1},{"$f":"IF(AF205=1,A206,IF(AF205=3,LEFT(A205,5)+1,\"\"))","v":1001705},null,5231]
[{"$f":"O206*100+P206","v":1001705},5227,"战胜妖王","",{"$nulls":6},{"$f":"IF(J206=\"\",\"\",VLOOKUP(J206,EventNPC!A:E,5,FALSE))","v":""},5232,"（你回到屋前，略显疲惫，许由依然在烧水，煮茶）",null,10017,5,"",null,null,{"$f":"IF(R206=\"\",\"\",\"-\"&VLOOKUP(R206,EventConditionConfig!A:C,3,FALSE)&IF(S206=\"\",\"\",CHAR(10)&\"-\"&VLOOKUP(S206,EventConditionConfig!A:C,3,FALSE)))","v":""},"","","","",null,null,"",{"$nulls":4},1,1001706,null,5232]
[{"$f":"O207*100+P207","v":1001706},5227,"战胜妖王","",{"$nulls":5},106,{"$f":"IF(J207=\"\",\"\",VLOOKUP(J207,EventNPC!A:E,5,FALSE))","v":"许由"},5233,"（不动声色，递茶）喝吧。",null,10017,{"$f":"IF(O207=O206,P206+1,1)","v":6},{"$f":"_xlfn.TEXTJOIN(\";\",1,R207:S207)","v":""},null,null,{"$f":"IF(R207=\"\",\"\",\"-\"&VLOOKUP(R207,EventConditionConfig!A:C,3,FALSE)&IF(S207=\"\",\"\",CHAR(10)&\"-\"&VLOOKUP(S207,EventConditionConfig!A:C,3,FALSE)))","v":""},"","","","",null,null,"",{"$nulls":4},{"$f":"IF(A207=\"\",\"\",IF(U207=1,\"\",IF(A208=\"\",3,1)))","v":1},{"$f":"IF(AF207=1,A208,IF(AF207=3,LEFT(A207,5)+1,\"\"))","v":1001707},null,5233]
[{"$f":"O208*100+P208","v":1001707},5227,"战胜妖王","",{"$nulls":5},100,{"$f":"IF(J208=\"\",\"\",VLOOKUP(J208,EventNPC!A:E,5,FALSE))","v":"玩家"},5234,"（低声）……前辈，我做了怎么多事，一次比一次难。为何每次都让我喝茶？",null,10017,{"$f":"IF(O208=O207,P207+1,1)","v":7},{"$f":"_xlfn.TEXTJOIN(\";\",1,R208:S208)","v":""},null,null,{"$f":"IF(R208=\"\",\"\",\"-\"&VLOOKUP(R208,EventConditionConfig!A:C,3,FALSE)&IF(S208=\"\",\"\",CHAR(10)&\"-\"&VLOOKUP(S208,EventConditionConfig!A:C,3,FALSE)))","v":""},"","","","",null,null,"",{"$nulls":4},{"$f":"IF(A208=\"\",\"\",IF(U208=1,\"\",IF(A209=\"\",3,1)))","v":1},{"$f":"IF(AF208=1,A209,IF(AF208=3,LEFT(A208,5)+1,\"\"))","v":1001708},null,5234]
[{"$f":"O209*100+P209","v":1001708},5227,"战胜妖王","",{"$nulls":5},106,{"$f":"IF(J209=\"\",\"\",VLOOKUP(J209,EventNPC!A:E,5,FALSE))","v":"许由"},5235,"哈哈哈，小友.你赢得越来越多，喝得却越来越不甘心。",null,10017,{"$f":"IF(O209=O208,P208+1,1)","v":8},{"$f":"_xlfn.TEXTJOIN(\";\",1,R209:S209)","v":""},null,null,{"$f":"IF(R209=\"\",\"\",\"-\"&VLOOKUP(R209,EventConditionConfig!A:C,3,FALSE)&IF(S209=\"\",\"\",CHAR(10)&\"-\"&VLOOKUP(S209,EventConditionConfig!A:C,3,FALSE)))","v":""},"","","","",null,null,"",{"$nulls":4},{"$f":"IF(A209=\"\",\"\",IF(U209=1,\"\",IF(A210=\"\",3,1)))","v":1},{"$f":"IF(AF209=1,A210,IF(AF209=3,LEFT(A209,5)+1,\"\"))","v":1001709},null,5235]
[{"$f":"O210*100+P210","v":1001709},5227,"战胜妖王","",{"$nulls":5},106,{"$f":"IF(J210=\"\",\"\",VLOOKUP(J210,EventNPC!A:E,5,FALSE))","v":"许由"},5236,"尧现在，或许也是这个心情吧。一路赢到底，却再没能静下心来，喝一杯茶。",null,10017,{"$f":"IF(O210=O209,P209+1,1)","v":9},{"$f":"_xlfn.TEXTJOIN(\";\",1,R210:S210)","v":""},null,null,{"$f":"IF(R210=\"\",\"\",\"-\"&VLOOKUP(R210,EventConditionConfig!A:C,3,FALSE)&IF(S210=\"\",\"\",CHAR(10)&\"-\"&VLOOKUP(S210,EventConditionConfig!A:C,3,FALSE)))","v":""},"","","","",null,null,"",{"$nulls":4},{"$f":"IF(A210=\"\",\"\",IF(U210=1,\"\",IF(A211=\"\",3,1)))","v":1},{"$f":"IF(AF210=1,A211,IF(AF210=3,LEFT(A210,5)+1,\"\"))","v":1001710},null,5236]
[{"$f":"O211*100+P211","v":1001710},5227,"战胜妖王","",{"$nulls":5},106,{"$f":"IF(J211=\"\",\"\",VLOOKUP(J211,EventNPC!A:E,5,FALSE))","v":"许由"},5237,"好了，你回去吧。",null,10017,{"$f":"IF(O211=O210,P210+1,1)","v":10},{"$f":"_xlfn.TEXTJOIN(\";\",1,R211:S211)","v":""},null,null,{"$f":"IF(R211=\"\",\"\",\"-\"&VLOOKUP(R211,EventConditionConfig!A:C,3,FALSE)&IF(S211=\"\",\"\",CHAR(10)&\"-\"&VLOOKUP(S211,EventConditionConfig!A:C,3,FALSE)))","v":""},1,{"$f":"IF(U211=1,_xlfn.TEXTJOIN(\";\",1,IF(Z211=\"\",A211+1,Z211),IF(AND(AA211<>\"\",AC211=\"\"),A211+1,AC211)),IF(U211=2,Y211,\"\"))","v":"1001711;1001712"},"5238;5239",5238,"我该如何回复尧帝？",{"$f":"A212","v":1001711},5239,"多谢前辈提醒。",{"$f":"A213","v":1001712},null,null,{"$f":"IF(A211=\"\",\"\",IF(U211=1,\"\",IF(A212=\"\",3,1)))","v":""},{"$f":"IF(AF211=1,A212,IF(AF211=3,LEFT(A211,5)+1,\"\"))","v":""},null,5239]
[1001711,5227,"战胜妖王","",{"$nulls":5},106,{"$f":"IF(J212=\"\",\"\",VLOOKUP(J212,EventNPC!A:E,5,FALSE))","v":"许由"},5240,"“道不碍政，心自碍道”。若心不净，纵避千山万水，又有何用。",null,10017,11,"",null,null,{"$f":"IF(R212=\"\",\"\",\"-\"&VLOOKUP(R212,EventConditionConfig!A:C,3,FALSE)&IF(S212=\"\",\"\",CHAR(10)&\"-\"&VLOOKUP(S212,EventConditionConfig!A:C,3,FALSE)))","v":""},"",{"$f":"IF(U212=1,A213,\"\")","v":""},"","",null,null,"",{"$nulls":4},1,1001712,null,5240]
[{"$f":"O213*100+P213","v":1001712},5227,"战胜妖王","",{"$nulls":6},{"$f":"IF(J213=\"\",\"\",VLOOKUP(J213,EventNPC!A:E,5,FALSE))","v":""},5241,"（你低头，看着杯中微动的茶水）\n（喝下第三杯茶，觉得一身轻松）",null,10017,{"$f":"IF(O213=O212,P212+1,1)","v":12},{"$f":"_xlfn.TEXTJOIN(\";\",1,R213:S213)","v":""},null,null,{"$f":"IF(R213=\"\",\"\",\"-\"&VLOOKUP(R213,EventConditionConfig!A:C,3,FALSE)&IF(S213=\"\",\"\",CHAR(10)&\"-\"&VLOOKUP(S213,EventConditionConfig!A:C,3,FALSE)))","v":""},"",{"$f":"IF(U213=1,A214,\"\")","v":""},"","",null,null,"",{"$nulls":4},{"$f":"IF(A213=\"\",\"\",IF(U213=1,\"\",IF(A214=\"\",3,1)))","v":1},{"$f":"IF(AF213=1,A214,IF(AF213=3,LEFT(A213,5)+1,\"\"))","v":1001713},null,5241]
[1001713,5227,"战胜妖王","",{"$nulls":6},{"$f":"IF(J214=\"\",\"\",VLOOKUP(J214,EventNPC!A:E,5,FALSE))","v":""},5242,"（你获得了永久属性提升）（此处需要进一步处理）",null,10017,13,"",null,null,{"$f":"IF(R214=\"\",\"\",\"-\"&VLOOKUP(R214,EventConditionConfig!A:C,3,FALSE)&IF(S214=\"\",\"\",CHAR(10)&\"-\"&VLOOKUP(S214,EventConditionConfig!A:C,3,FALSE)))","v":""},"",{"$f":"IF(U214=1,A215,\"\")","v":""},"","",null,null,"",{"$nulls":4},3,10018,null,5242]
[null,"",null,"",{"$nulls":7},"",{"$nulls":11},"",null,null,"",{"$nulls":7},""]
[{"$f":"O216*100+P216","v":1001801},5243,"回尧城与帝尧对话，复述许由之言","",{"$nulls":5},100,{"$f":"IF(J216=\"\",\"\",VLOOKUP(J216,EventNPC!A:E,5,FALSE))","v":"玩家"},5244,"前辈，晚辈已往访许由，将事情告知他。",null,10018,{"$f":"IF(O216=O215,P215+1,1)","v":1},{"$f":"_xlfn.TEXTJOIN(\";\",1,R216:S216)","v":""},null,null,{"$f":"IF(R216=\"\",\"\",\"-\"&VLOOKUP(R216,EventConditionConfig!A:C,3,FALSE)&IF(S216=\"\",\"\",CHAR(10)&\"-\"&VLOOKUP(S216,EventConditionConfig!A:C,3,FALSE)))","v":""},{"$f":"IF(Y216=\"\",\"\",1)","v":""},{"$f":"IF(U216=1,A217,\"\")","v":""},{"$f":"_xlfn.TEXTJOIN(\";\",1,X216,AA216)","v":""},"",null,null,"",{"$nulls":4},{"$f":"IF(A216=\"\",\"\",IF(U216=1,\"\",IF(A217=\"\",3,1)))","v":1},{"$f":"IF(AF216=1,A217,IF(AF216=3,LEFT(A216,5)+1,\"\"))","v":1001802},null,5244]
[{"$f":"O217*100+P217","v":1001802},5243,"回尧城与帝尧对话，复述许由之言","",{"$nulls":5},105,{"$f":"IF(J217=\"\",\"\",VLOOKUP(J217,EventNPC!A:E,5,FALSE))","v":"尧帝"},5245,"他如何说？",null,10018,{"$f":"IF(O217=O216,P216+1,1)","v":2},{"$f":"_xlfn.TEXTJOIN(\";\",1,R217:S217)","v":""},null,null,{"$f":"IF(R217=\"\",\"\",\"-\"&VLOOKUP(R217,EventConditionConfig!A:C,3,FALSE)&IF(S217=\"\",\"\",CHAR(10)&\"-\"&VLOOKUP(S217,EventConditionConfig!A:C,3,FALSE)))","v":""},"","","","",null,null,"",{"$nulls":4},{"$f":"IF(A217=\"\",\"\",IF(U217=1,\"\",IF(A218=\"\",3,1)))","v":1},{"$f":"IF(AF217=1,A218,IF(AF217=3,LEFT(A217,5)+1,\"\"))","v":1001803},null,5245]
[{"$f":"O218*100+P218","v":1001803},5243,"回尧城与帝尧对话，复述许由之言","",{"$nulls":5},100,{"$f":"IF(J218=\"\",\"\",VLOOKUP(J218,EventNPC!A:E,5,FALSE))","v":"玩家"},5246,"许由不愿出山，让我转告您一句话。\n“道不碍政，心自碍道。”\n若心不净，纵避千山万水，又有何用。”",null,10018,{"$f":"IF(O218=O217,P217+1,1)","v":3},{"$f":"_xlfn.TEXTJOIN(\";\",1,R218:S218)","v":""},null,null,{"$f":"IF(R218=\"\",\"\",\"-\"&VLOOKUP(R218,EventConditionConfig!A:C,3,FALSE)&IF(S218=\"\",\"\",CHAR(10)&\"-\"&VLOOKUP(S218,EventConditionConfig!A:C,3,FALSE)))","v":""},"","","","",null,null,"",{"$nulls":4},{"$f":"IF(A218=\"\",\"\",IF(U218=1,\"\",IF(A219=\"\",3,1)))","v":1},{"$f":"IF(AF218=1,A219,IF(AF218=3,LEFT(A218,5)+1,\"\"))","v":1001804},null,5246]
[1001804,5243,"回尧城与帝尧对话，复述许由之言","",{"$nulls":5},105,{"$f":"IF(J219=\"\",\"\",VLOOKUP(J219,EventNPC!A:E,5,FALSE))","v":"尧帝"},5247,"（帝尧沉默，良久，轻轻点头）他还是那副模样……不肯出山。",null,{"$f":"IF(O218=\"\",O217+1,O218)","v":10018},{"$f":"IF(O219=O218,P218+1,1)","v":4},{"$f":"_xlfn.TEXTJOIN(\";\",1,R219:S219)","v":""},null,null,{"$f":"IF(R219=\"\",\"\",\"-\"&VLOOKUP(R219,EventConditionConfig!A:C,3,FALSE)&IF(S219=\"\",\"\",CHAR(10)&\"-\"&VLOOKUP(S219,EventConditionConfig!A:C,3,FALSE)))","v":""},"","","","",null,null,"",{"$nulls":4},{"$f":"IF(A219=\"\",\"\",IF(U219=1,\"\",IF(A220=\"\",3,1)))","v":1},{"$f":"IF(AF219=1,A220,IF(AF219=3,LEFT(A219,5)+1,\"\"))","v":1001805},null,5247]
[1001805,5243,"回尧城与帝尧对话，复述许由之言","",{"$nulls":5},105,{"$f":"IF(J220=\"\",\"\",VLOOKUP(J220,EventNPC!A:E,5,FALSE))","v":"尧帝"},5248,"（抬眼望你）不过，他说得也有几分道理。",null,10018,{"$f":"IF(O220=O219,P219+1,1)","v":5},{"$f":"_xlfn.TEXTJOIN(\";\",1,R220:S220)","v":""},null,null,{"$f":"IF(R220=\"\",\"\",\"-\"&VLOOKUP(R220,EventConditionConfig!A:C,3,FALSE)&IF(S220=\"\",\"\",CHAR(10)&\"-\"&VLOOKUP(S220,EventConditionConfig!A:C,3,FALSE)))","v":""},"","","","",null,null,"",{"$nulls":4},{"$f":"IF(A220=\"\",\"\",IF(U220=1,\"\",IF(A221=\"\",3,1)))","v":1},{"$f":"IF(AF220=1,A221,IF(AF220=3,LEFT(A220,5)+1,\"\"))","v":1001806},null,5248]
[1001806,5243,"回尧城与帝尧对话，复述许由之言","",{"$nulls":5},105,{"$f":"IF(J221=\"\",\"\",VLOOKUP(J221,EventNPC!A:E,5,FALSE))","v":"尧帝"},5249,"我以为，是天下扰我修行，难道是我自己扰了自己？我再想想吧。（轻叹）",null,10018,{"$f":"IF(O221=O220,P220+1,1)","v":6},{"$f":"_xlfn.TEXTJOIN(\";\",1,R221:S221)","v":""},null,null,{"$f":"IF(R221=\"\",\"\",\"-\"&VLOOKUP(R221,EventConditionConfig!A:C,3,FALSE)&IF(S221=\"\",\"\",CHAR(10)&\"-\"&VLOOKUP(S221,EventConditionConfig!A:C,3,FALSE)))","v":""},"","","","",null,null,"",{"$nulls":4},{"$f":"IF(A221=\"\",\"\",IF(U221=1,\"\",IF(A222=\"\",3,1)))","v":1},{"$f":"IF(AF221=1,A222,IF(AF221=3,LEFT(A221,5)+1,\"\"))","v":1001807},null,5249]
[1001807,5243,"回尧城与帝尧对话，复述许由之言","",{"$nulls":5},105,{"$f":"IF(J222=\"\",\"\",VLOOKUP(J222,EventNPC!A:E,5,FALSE))","v":"尧帝"},5250,"小友，辛苦你这一趟。",null,10018,{"$f":"IF(O222=O221,P221+1,1)","v":7},{"$f":"_xlfn.TEXTJOIN(\";\",1,R222:S222)","v":""},null,null,{"$f":"IF(R222=\"\",\"\",\"-\"&VLOOKUP(R222,EventConditionConfig!A:C,3,FALSE)&IF(S222=\"\",\"\",CHAR(10)&\"-\"&VLOOKUP(S222,EventConditionConfig!A:C,3,FALSE)))","v":""},"","","","",null,null,"",{"$nulls":4},{"$f":"IF(A222=\"\",\"\",IF(U222=1,\"\",IF(A223=\"\",3,1)))","v":1},{"$f":"IF(AF222=1,A223,IF(AF222=3,LEFT(A222,5)+1,\"\"))","v":1001808},null,5250]
[1001808,5243,"回尧城与帝尧对话，复述许由之言","",{"$nulls":5},105,{"$f":"IF(J223=\"\",\"\",VLOOKUP(J223,EventNPC!A:E,5,FALSE))","v":"尧帝"},5251,"你让我想起，我当年初修时，也常在山野之间，与人论道、与妖兽斗法……",null,10018,{"$f":"IF(O223=O222,P222+1,1)","v":8},{"$f":"_xlfn.TEXTJOIN(\";\",1,R223:S223)","v":""},null,null,{"$f":"IF(R223=\"\",\"\",\"-\"&VLOOKUP(R223,EventConditionConfig!A:C,3,FALSE)&IF(S223=\"\",\"\",CHAR(10)&\"-\"&VLOOKUP(S223,EventConditionConfig!A:C,3,FALSE)))","v":""},"","","","",null,null,"",{"$nulls":4},{"$f":"IF(A223=\"\",\"\",IF(U223=1,\"\",IF(A224=\"\",3,1)))","v":1},{"$f":"IF(AF223=1,A224,IF(AF223=3,LEFT(A223,5)+1,\"\"))","v":1001809},null,5251]
[1001809,5243,"回尧城与帝尧对话，复述许由之言","",{"$nulls":5},105,{"$f":"IF(J224=\"\",\"\",VLOOKUP(J224,EventNPC!A:E,5,FALSE))","v":"尧帝"},5252,"（转身，望向殿后灵山）我这里灵气充沛，古迹亦多，不妨在此逗留几日，四处看看。",null,10018,{"$f":"IF(O224=O223,P223+1,1)","v":9},{"$f":"_xlfn.TEXTJOIN(\";\",1,R224:S224)","v":""},null,null,{"$f":"IF(R224=\"\",\"\",\"-\"&VLOOKUP(R224,EventConditionConfig!A:C,3,FALSE)&IF(S224=\"\",\"\",CHAR(10)&\"-\"&VLOOKUP(S224,EventConditionConfig!A:C,3,FALSE)))","v":""},"","","","",null,null,"",{"$nulls":4},{"$f":"IF(A224=\"\",\"\",IF(U224=1,\"\",IF(A225=\"\",3,1)))","v":1},{"$f":"IF(AF224=1,A225,IF(AF224=3,LEFT(A224,5)+1,\"\"))","v":1001810},null,5252]
[1001810,5243,"回尧城与帝尧对话，复述许由之言","",{"$nulls":5},105,{"$f":"IF(J225=\"\",\"\",VLOOKUP(J225,EventNPC!A:E,5,FALSE))","v":"尧帝"},5253,"或许这也是冲虚真人引你来的真正用意。",null,10018,{"$f":"IF(O225=O224,P224+1,1)","v":10},{"$f":"_xlfn.TEXTJOIN(\";\",1,R225:S225)","v":"23"},23,null,{"$f":"IF(R225=\"\",\"\",\"-\"&VLOOKUP(R225,EventConditionConfig!A:C,3,FALSE)&IF(S225=\"\",\"\",CHAR(10)&\"-\"&VLOOKUP(S225,EventConditionConfig!A:C,3,FALSE)))","v":"-达到境界：结丹-前期"},"","","","",null,null,"",{"$nulls":4},{"$f":"IF(A225=\"\",\"\",IF(U225=1,\"\",IF(A226=\"\",3,1)))","v":3},{"$f":"IF(AF225=1,A226,IF(AF225=3,LEFT(A225,5)+1,\"\"))","v":10019},null,5253]
[null,"",null,"",{"$nulls":7},"",{"$nulls":11},"",null,null,"",{"$nulls":7},""]
[{"$f":"O227*100+P227","v":1001901},5254,"和村民对话","",{"$nulls":5},107,{"$f":"IF(J227=\"\",\"\",VLOOKUP(J227,EventNPC!A:E,5,FALSE))","v":"村名甲"},5255,"（抬头看树）啧，这棵老怪树，又矮又歪，枝杈乱伸，挡着田，碍着路。",null,{"$f":"IF(O226=\"\",O225+1,O226)","v":10019},{"$f":"IF(O227=O226,P226+1,1)","v":1},{"$f":"_xlfn.TEXTJOIN(\";\",1,R227:S227)","v":""},null,null,{"$f":"IF(R227=\"\",\"\",\"-\"&VLOOKUP(R227,EventConditionConfig!A:C,3,FALSE)&IF(S227=\"\",\"\",CHAR(10)&\"-\"&VLOOKUP(S227,EventConditionConfig!A:C,3,FALSE)))","v":""},{"$f":"IF(Y227=\"\",\"\",1)","v":""},{"$f":"IF(U227=1,A228,\"\")","v":""},{"$f":"_xlfn.TEXTJOIN(\";\",1,X227,AA227)","v":""},"",null,null,"",{"$nulls":4},{"$f":"IF(A227=\"\",\"\",IF(U227=1,\"\",IF(A228=\"\",3,1)))","v":1},{"$f":"IF(AF227=1,A228,IF(AF227=3,LEFT(A227,5)+1,\"\"))","v":1001902},null,5255]
[1001902,5254,"和村民对话","",{"$nulls":5},108,{"$f":"IF(J228=\"\",\"\",VLOOKUP(J228,EventNPC!A:E,5,FALSE))","v":"村名乙"},5256,"（叹气）啊，对对对。\n长得歪七扭八的，根还凸出土，差点把我家牛绊了。",null,10019,{"$f":"IF(O228=O227,P227+1,1)","v":2},{"$f":"_xlfn.TEXTJOIN(\";\",1,R228:S228)","v":""},null,null,{"$f":"IF(R228=\"\",\"\",\"-\"&VLOOKUP(R228,EventConditionConfig!A:C,3,FALSE)&IF(S228=\"\",\"\",CHAR(10)&\"-\"&VLOOKUP(S228,EventConditionConfig!A:C,3,FALSE)))","v":""},"","","","",null,null,"",{"$nulls":4},{"$f":"IF(A228=\"\",\"\",IF(U228=1,\"\",IF(A229=\"\",3,1)))","v":1},{"$f":"IF(AF228=1,A229,IF(AF228=3,LEFT(A228,5)+1,\"\"))","v":1001903},null,5256]
[1001903,5254,"和村民对话","",{"$nulls":5},109,{"$f":"IF(J229=\"\",\"\",VLOOKUP(J229,EventNPC!A:E,5,FALSE))","v":"村名丙"},5257,"对对对，要是没有这棵树就好了，空占这么大块好地。",null,10019,{"$f":"IF(O229=O228,P228+1,1)","v":3},{"$f":"_xlfn.TEXTJOIN(\";\",1,R229:S229)","v":""},null,null,{"$f":"IF(R229=\"\",\"\",\"-\"&VLOOKUP(R229,EventConditionConfig!A:C,3,FALSE)&IF(S229=\"\",\"\",CHAR(10)&\"-\"&VLOOKUP(S229,EventConditionConfig!A:C,3,FALSE)))","v":""},"","","","",null,null,"",{"$nulls":4},{"$f":"IF(A229=\"\",\"\",IF(U229=1,\"\",IF(A230=\"\",3,1)))","v":1},{"$f":"IF(AF229=1,A230,IF(AF229=3,LEFT(A229,5)+1,\"\"))","v":1001904},null,5257]
[1001904,5254,"和村民对话","",{"$nulls":5},107,{"$f":"IF(J230=\"\",\"\",VLOOKUP(J230,EventNPC!A:E,5,FALSE))","v":"村名甲"},5258,"这树是真没用，连个树荫都没，晴天底下站着热，雨天底下水多。",null,10019,4,"",null,null,{"$f":"IF(R230=\"\",\"\",\"-\"&VLOOKUP(R230,EventConditionConfig!A:C,3,FALSE)&IF(S230=\"\",\"\",CHAR(10)&\"-\"&VLOOKUP(S230,EventConditionConfig!A:C,3,FALSE)))","v":""},"","","","",null,null,"",{"$nulls":4},1,1001905,null,5258]
[1001905,5254,"和村民对话","",{"$nulls":5},108,{"$f":"IF(J231=\"\",\"\",VLOOKUP(J231,EventNPC!A:E,5,FALSE))","v":"村名乙"},5259,"就是啊，想在树下歇个脚都不行。",null,10019,5,"",null,null,{"$f":"IF(R231=\"\",\"\",\"-\"&VLOOKUP(R231,EventConditionConfig!A:C,3,FALSE)&IF(S231=\"\",\"\",CHAR(10)&\"-\"&VLOOKUP(S231,EventConditionConfig!A:C,3,FALSE)))","v":""},1,1001906,"5260",5260,"（环顾左右）是吗，我就不信，这棵树没有用…",null,"",{"$nulls":4},"","",null,5260]
[1001906,5254,"和村民对话","",{"$nulls":5},109,{"$f":"IF(J232=\"\",\"\",VLOOKUP(J232,EventNPC!A:E,5,FALSE))","v":"村名丙"},5261,"这位仙长，那你说说看，这树能干什么？",null,10019,{"$f":"IF(O232=O231,P231+1,1)","v":6},{"$f":"_xlfn.TEXTJOIN(\";\",1,R232:S232)","v":""},null,null,{"$f":"IF(R232=\"\",\"\",\"-\"&VLOOKUP(R232,EventConditionConfig!A:C,3,FALSE)&IF(S232=\"\",\"\",CHAR(10)&\"-\"&VLOOKUP(S232,EventConditionConfig!A:C,3,FALSE)))","v":""},1,1001907,"5262",5262,"劈了当柴烧。",null,"",{"$nulls":4},{"$f":"IF(A232=\"\",\"\",IF(U232=1,\"\",IF(A233=\"\",3,1)))","v":""},{"$f":"IF(AF232=1,A233,IF(AF232=3,LEFT(A232,5)+1,\"\"))","v":""},null,5262]
[1001907,5254,"和村民对话","",{"$nulls":5},107,{"$f":"IF(J233=\"\",\"\",VLOOKUP(J233,EventNPC!A:E,5,FALSE))","v":"村名甲"},5263,"这位仙长，你有所不知，这树又大又硬，根本没法劈。",null,10019,7,"",null,null,{"$f":"IF(R233=\"\",\"\",\"-\"&VLOOKUP(R233,EventConditionConfig!A:C,3,FALSE)&IF(S233=\"\",\"\",CHAR(10)&\"-\"&VLOOKUP(S233,EventConditionConfig!A:C,3,FALSE)))","v":""},1,1001908,"5264",5264,"劈了做家具。",null,"",{"$nulls":4},"","",null,5264]
[1001908,5254,"和村民对话","",{"$nulls":5},108,{"$f":"IF(J234=\"\",\"\",VLOOKUP(J234,EventNPC!A:E,5,FALSE))","v":"村名乙"},5265,"我就是匠人，这树一看就不中用。",null,10019,8,"",null,null,{"$f":"IF(R234=\"\",\"\",\"-\"&VLOOKUP(R234,EventConditionConfig!A:C,3,FALSE)&IF(S234=\"\",\"\",CHAR(10)&\"-\"&VLOOKUP(S234,EventConditionConfig!A:C,3,FALSE)))","v":""},"","","","",null,null,"",{"$nulls":4},1,1001909,null,5265]
[1001909,5254,"和村民对话","",{"$nulls":5},108,{"$f":"IF(J235=\"\",\"\",VLOOKUP(J235,EventNPC!A:E,5,FALSE))","v":"村名乙"},5266,"锯下来的木头，绳墨拉不直，做不了梁柱，做不了门板，更别说其他家具了。",null,10019,{"$f":"IF(O235=O234,P234+1,1)","v":9},{"$f":"_xlfn.TEXTJOIN(\";\",1,R235:S235)","v":""},null,null,{"$f":"IF(R235=\"\",\"\",\"-\"&VLOOKUP(R235,EventConditionConfig!A:C,3,FALSE)&IF(S235=\"\",\"\",CHAR(10)&\"-\"&VLOOKUP(S235,EventConditionConfig!A:C,3,FALSE)))","v":""},"","","","",null,null,"",{"$nulls":4},{"$f":"IF(A235=\"\",\"\",IF(U235=1,\"\",IF(A236=\"\",3,1)))","v":1},{"$f":"IF(AF235=1,A236,IF(AF235=3,LEFT(A235,5)+1,\"\"))","v":1001910},null,5266]
[1001910,5254,"和村民对话","",{"$nulls":5},109,{"$f":"IF(J236=\"\",\"\",VLOOKUP(J236,EventNPC!A:E,5,FALSE))","v":"村名丙"},5267,"没错，我是木匠，此树木质发涩发腥，连漆都涂不上，当真无用。",null,10019,10,"",null,null,{"$f":"IF(R236=\"\",\"\",\"-\"&VLOOKUP(R236,EventConditionConfig!A:C,3,FALSE)&IF(S236=\"\",\"\",CHAR(10)&\"-\"&VLOOKUP(S236,EventConditionConfig!A:C,3,FALSE)))","v":""},"","","","",null,null,"",{"$nulls":4},1,1001911,null,5267]
[1001911,5254,"和村民对话","",{"$nulls":5},100,{"$f":"IF(J237=\"\",\"\",VLOOKUP(J237,EventNPC!A:E,5,FALSE))","v":"玩家"},5268,"此树如此之大，真的毫无用处吗？\n此树看起来有数千年了。",null,10019,{"$f":"IF(O237=O236,P236+1,1)","v":11},{"$f":"_xlfn.TEXTJOIN(\";\",1,R237:S237)","v":""},null,null,{"$f":"IF(R237=\"\",\"\",\"-\"&VLOOKUP(R237,EventConditionConfig!A:C,3,FALSE)&IF(S237=\"\",\"\",CHAR(10)&\"-\"&VLOOKUP(S237,EventConditionConfig!A:C,3,FALSE)))","v":""},"","","","",null,null,"",{"$nulls":4},{"$f":"IF(A237=\"\",\"\",IF(U237=1,\"\",IF(A238=\"\",3,1)))","v":1},{"$f":"IF(AF237=1,A238,IF(AF237=3,LEFT(A237,5)+1,\"\"))","v":1001912},null,5268]
[1001912,5254,"和村民对话","",{"$nulls":5},100,{"$f":"IF(J238=\"\",\"\",VLOOKUP(J238,EventNPC!A:E,5,FALSE))","v":"玩家"},5269,"（见村民纷纷离开了，你靠近大树）",null,10019,{"$f":"IF(O238=O237,P237+1,1)","v":12},{"$f":"_xlfn.TEXTJOIN(\";\",1,R238:S238)","v":""},null,null,{"$f":"IF(R238=\"\",\"\",\"-\"&VLOOKUP(R238,EventConditionConfig!A:C,3,FALSE)&IF(S238=\"\",\"\",CHAR(10)&\"-\"&VLOOKUP(S238,EventConditionConfig!A:C,3,FALSE)))","v":""},"","","","",null,null,"",{"$nulls":4},{"$f":"IF(A238=\"\",\"\",IF(U238=1,\"\",IF(A239=\"\",3,1)))","v":1},{"$f":"IF(AF238=1,A239,IF(AF238=3,LEFT(A238,5)+1,\"\"))","v":1001913},null,5269]
[1001913,5254,"和村民对话","",{"$nulls":5},110,{"$f":"IF(J239=\"\",\"\",VLOOKUP(J239,EventNPC!A:E,5,FALSE))","v":"樗木之灵"},5270,"（低沉悠远的声音）我是樗。\n世人见我歪斜，粗大，笑我无用……",null,10019,{"$f":"IF(O239=O238,P238+1,1)","v":13},{"$f":"_xlfn.TEXTJOIN(\";\",1,R239:S239)","v":""},null,null,{"$f":"IF(R239=\"\",\"\",\"-\"&VLOOKUP(R239,EventConditionConfig!A:C,3,FALSE)&IF(S239=\"\",\"\",CHAR(10)&\"-\"&VLOOKUP(S239,EventConditionConfig!A:C,3,FALSE)))","v":""},"","","","",null,null,"",{"$nulls":4},{"$f":"IF(A239=\"\",\"\",IF(U239=1,\"\",IF(A240=\"\",3,1)))","v":1},{"$f":"IF(AF239=1,A240,IF(AF239=3,LEFT(A239,5)+1,\"\"))","v":1001914},null,5270]
[1001914,5254,"和村民对话","",{"$nulls":5},110,{"$f":"IF(J240=\"\",\"\",VLOOKUP(J240,EventNPC!A:E,5,FALSE))","v":"樗木之灵"},5271,"可他们不知，正是这‘无用’，让我活过三千年。",null,10019,{"$f":"IF(O240=O239,P239+1,1)","v":14},{"$f":"_xlfn.TEXTJOIN(\";\",1,R240:S240)","v":""},null,null,{"$f":"IF(R240=\"\",\"\",\"-\"&VLOOKUP(R240,EventConditionConfig!A:C,3,FALSE)&IF(S240=\"\",\"\",CHAR(10)&\"-\"&VLOOKUP(S240,EventConditionConfig!A:C,3,FALSE)))","v":""},1,1001915,"5272",5272,"那你可曾遗憾？毕竟无人欣赏你。",null,"",{"$nulls":4},{"$f":"IF(A240=\"\",\"\",IF(U240=1,\"\",IF(A241=\"\",3,1)))","v":""},{"$f":"IF(AF240=1,A241,IF(AF240=3,LEFT(A240,5)+1,\"\"))","v":""},null,5272]
[1001915,5254,"和村民对话","",{"$nulls":5},110,{"$f":"IF(J241=\"\",\"\",VLOOKUP(J241,EventNPC!A:E,5,FALSE))","v":"樗木之灵"},5273,"（枝叶轻摇）欣赏？那些笔直的楠木，被伐去做梁柱，不过百年；",null,10019,15,"",null,null,{"$f":"IF(R241=\"\",\"\",\"-\"&VLOOKUP(R241,EventConditionConfig!A:C,3,FALSE)&IF(S241=\"\",\"\",CHAR(10)&\"-\"&VLOOKUP(S241,EventConditionConfig!A:C,3,FALSE)))","v":""},"","","","",null,null,"",{"$nulls":4},1,1001916,null,5273]
[1001916,5254,"和村民对话","",{"$nulls":5},110,{"$f":"IF(J242=\"\",\"\",VLOOKUP(J242,EventNPC!A:E,5,FALSE))","v":"樗木之灵"},5274,"那些秀美的花树，被移栽进庭院，也不过百年。",null,10019,{"$f":"IF(O242=O241,P241+1,1)","v":16},{"$f":"_xlfn.TEXTJOIN(\";\",1,R242:S242)","v":""},null,null,{"$f":"IF(R242=\"\",\"\",\"-\"&VLOOKUP(R242,EventConditionConfig!A:C,3,FALSE)&IF(S242=\"\",\"\",CHAR(10)&\"-\"&VLOOKUP(S242,EventConditionConfig!A:C,3,FALSE)))","v":""},"","","","",null,null,"",{"$nulls":4},{"$f":"IF(A242=\"\",\"\",IF(U242=1,\"\",IF(A243=\"\",3,1)))","v":1},{"$f":"IF(AF242=1,A243,IF(AF242=3,LEFT(A242,5)+1,\"\"))","v":1001917},null,5274]
[1001917,5254,"和村民对话","",{"$nulls":5},110,{"$f":"IF(J243=\"\",\"\",VLOOKUP(J243,EventNPC!A:E,5,FALSE))","v":"樗木之灵"},5275,"而我，仍在此处，看春去秋来，听风过林梢，不亦乐乎？",null,10019,{"$f":"IF(O243=O242,P242+1,1)","v":17},{"$f":"_xlfn.TEXTJOIN(\";\",1,R243:S243)","v":""},null,null,{"$f":"IF(R243=\"\",\"\",\"-\"&VLOOKUP(R243,EventConditionConfig!A:C,3,FALSE)&IF(S243=\"\",\"\",CHAR(10)&\"-\"&VLOOKUP(S243,EventConditionConfig!A:C,3,FALSE)))","v":""},1,1001918,"5276",5276,"可你终究只是一棵树，不能动，不能说话",null,"",{"$nulls":4},{"$f":"IF(A243=\"\",\"\",IF(U243=1,\"\",IF(A244=\"\",3,1)))","v":""},{"$f":"IF(AF243=1,A244,IF(AF243=3,LEFT(A243,5)+1,\"\"))","v":""},null,5276]
[1001918,5254,"和村民对话","",{"$nulls":5},110,{"$f":"IF(J244=\"\",\"\",VLOOKUP(J244,EventNPC!A:E,5,FALSE))","v":"樗木之灵"},5277,"（树皮浮现苍老面容）动？说话？\n数千年过去，我早已有灵智，可以说话。",null,10019,18,"",null,null,{"$f":"IF(R244=\"\",\"\",\"-\"&VLOOKUP(R244,EventConditionConfig!A:C,3,FALSE)&IF(S244=\"\",\"\",CHAR(10)&\"-\"&VLOOKUP(S244,EventConditionConfig!A:C,3,FALSE)))","v":""},"","","","",null,null,"",{"$nulls":4},1,1001919,null,5277]
[1001919,5254,"和村民对话","",{"$nulls":5},110,{"$f":"IF(J245=\"\",\"\",VLOOKUP(J245,EventNPC!A:E,5,FALSE))","v":"樗木之灵"},5278,"不过我确实好久没动过了，小友，今日与你有缘，不如陪我动一动。",null,10019,{"$f":"IF(O245=O244,P244+1,1)","v":19},{"$f":"_xlfn.TEXTJOIN(\";\",1,R245:S245)","v":""},null,null,{"$f":"IF(R245=\"\",\"\",\"-\"&VLOOKUP(R245,EventConditionConfig!A:C,3,FALSE)&IF(S245=\"\",\"\",CHAR(10)&\"-\"&VLOOKUP(S245,EventConditionConfig!A:C,3,FALSE)))","v":""},1,1001920,"5279",5279,"不好...这是要找我打架..",null,"",{"$nulls":4},{"$f":"IF(A245=\"\",\"\",IF(U245=1,\"\",IF(A246=\"\",3,1)))","v":""},{"$f":"IF(AF245=1,A246,IF(AF245=3,LEFT(A245,5)+1,\"\"))","v":""},null,5279]
[1001920,5254,"和村民对话","",{"$nulls":6},{"$f":"IF(J246=\"\",\"\",VLOOKUP(J246,EventNPC!A:E,5,FALSE))","v":""},"",null,null,10019,20,"",null,null,{"$f":"IF(R246=\"\",\"\",\"-\"&VLOOKUP(R246,EventConditionConfig!A:C,3,FALSE)&IF(S246=\"\",\"\",CHAR(10)&\"-\"&VLOOKUP(S246,EventConditionConfig!A:C,3,FALSE)))","v":""},"","","","",null,null,"",{"$nulls":4},3,10020,null,5279]
[null,"",null,"",{"$nulls":7},"",{"$nulls":11},"",null,null,"",{"$nulls":7},""]
[{"$f":"O248*100+P248","v":1002001},5280,"击败樗木之灵",5281,"击败樗木之灵",{"$nulls":5},{"$f":"IF(J248=\"\",\"\",VLOOKUP(J248,EventNPC!A:E,5,FALSE))","v":""},"",null,null,{"$f":"IF(O247=\"\",O246+1,O247)","v":10020},{"$f":"IF(O248=O247,P247+1,1)","v":1},{"$f":"_xlfn.TEXTJOIN(\";\",1,R248:S248)","v":""},null,null,{"$f":"IF(R248=\"\",\"\",\"-\"&VLOOKUP(R248,EventConditionConfig!A:C,3,FALSE)&IF(S248=\"\",\"\",CHAR(10)&\"-\"&VLOOKUP(S248,EventConditionConfig!A:C,3,FALSE)))","v":""},2,100004,{"$f":"_xlfn.TEXTJOIN(\";\",1,X248,AA248)","v":""},"",null,null,"",{"$nulls":4},{"$f":"IF(U248=2,2,IF(A248=\"\",\"\",IF(U248=1,\"\",IF(A249=\"\",3,1))))","v":2},{"$f":"IF(AF248=2,A249&\";101\",IF(AF248=1,A249,IF(AF248=3,LEFT(A248,5)+1,\"\")))","v":"1002002;101"},null,5281]
[{"$f":"O249*100+P249","v":1002002},5280,"击败樗木之灵",5281,"击败樗木之灵",{"$nulls":5},{"$f":"IF(J249=\"\",\"\",VLOOKUP(J249,EventNPC!A:E,5,FALSE))","v":""},"",null,null,{"$f":"IF(O248=\"\",O247+1,O248)","v":10020},2,"",null,null,{"$f":"IF(R249=\"\",\"\",\"-\"&VLOOKUP(R249,EventConditionConfig!A:C,3,FALSE)&IF(S249=\"\",\"\",CHAR(10)&\"-\"&VLOOKUP(S249,EventConditionConfig!A:C,3,FALSE)))","v":""},{"$f":"IF(Y249=\"\",\"\",1)","v":""},{"$f":"IF(U249=1,A250,\"\")","v":""},{"$f":"_xlfn.TEXTJOIN(\";\",1,X249,AA249)","v":""},"",null,null,"",{"$nulls":4},{"$f":"IF(U249=2,2,IF(A249=\"\",\"\",IF(U249=1,\"\",IF(A250=\"\",3,1))))","v":3},{"$f":"IF(AF249=1,A250,IF(AF249=3,LEFT(A249,5)+1,\"\"))","v":10021},null,5281]
[null,"",null,"",{"$nulls":7},"",{"$nulls":11},"",null,null,"",{"$nulls":7},""]
[{"$f":"O251*100+P251","v":1002101},5282,"境界达到[金丹-前期]","",{"$nulls":5},100,{"$f":"IF(J251=\"\",\"\",VLOOKUP(J251,EventNPC!A:E,5,FALSE))","v":"玩家"},5283,"此处奇遇众多，灵气充裕，就留在此处修行，达到筑基巅峰吧。",null,{"$f":"IF(O250=\"\",O249+1,O250)","v":10021},{"$f":"IF(O251=O250,P250+1,1)","v":1},{"$f":"_xlfn.TEXTJOIN(\";\",1,R251:S251)","v":""},null,null,{"$f":"IF(R251=\"\",\"\",\"-\"&VLOOKUP(R251,EventConditionConfig!A:C,3,FALSE)&IF(S251=\"\",\"\",CHAR(10)&\"-\"&VLOOKUP(S251,EventConditionConfig!A:C,3,FALSE)))","v":""},{"$f":"IF(Y251=\"\",\"\",1)","v":""},{"$f":"IF(U251=1,A252,\"\")","v":""},{"$f":"_xlfn.TEXTJOIN(\";\",1,X251,AA251)","v":""},"",null,null,"",{"$nulls":4},{"$f":"IF(U251=2,2,IF(A251=\"\",\"\",IF(U251=1,\"\",IF(A252=\"\",3,1))))","v":1},{"$f":"IF(AF251=1,A252,IF(AF251=3,LEFT(A251,5)+1,\"\"))","v":1002102},null,5283]
[{"$f":"O252*100+P252","v":1002102},5282,"境界达到[金丹-前期]","",{"$nulls":5},100,{"$f":"IF(J252=\"\",\"\",VLOOKUP(J252,EventNPC!A:E,5,FALSE))","v":"玩家"},5284,"此地果真是好地方，修为又有精进。",null,{"$f":"IF(O251=\"\",O250+1,O251)","v":10021},{"$f":"IF(O252=O251,P251+1,1)","v":2},{"$f":"_xlfn.TEXTJOIN(\";\",1,R252:S252)","v":"24"},24,null,{"$f":"IF(R252=\"\",\"\",\"-\"&VLOOKUP(R252,EventConditionConfig!A:C,3,FALSE)&IF(S252=\"\",\"\",CHAR(10)&\"-\"&VLOOKUP(S252,EventConditionConfig!A:C,3,FALSE)))","v":"-达到境界：结丹-中期"},{"$f":"IF(Y252=\"\",\"\",1)","v":""},{"$f":"IF(U252=1,A253,\"\")","v":""},{"$f":"_xlfn.TEXTJOIN(\";\",1,X252,AA252)","v":""},"",null,null,"",{"$nulls":4},{"$f":"IF(U252=2,2,IF(A252=\"\",\"\",IF(U252=1,\"\",IF(A253=\"\",3,1))))","v":1},{"$f":"IF(AF252=1,A253,IF(AF252=3,LEFT(A252,5)+1,\"\"))","v":1002103},null,5284]
[{"$f":"O253*100+P253","v":1002103},5282,"境界达到[金丹-前期]","",{"$nulls":5},100,{"$f":"IF(J253=\"\",\"\",VLOOKUP(J253,EventNPC!A:E,5,FALSE))","v":"玩家"},5285,"不过想要达到更高的境界，突破冲虚说的什么心境，还需继续修行。",null,{"$f":"IF(O252=\"\",O251+1,O252)","v":10021},3,"",null,null,{"$f":"IF(R253=\"\",\"\",\"-\"&VLOOKUP(R253,EventConditionConfig!A:C,3,FALSE)&IF(S253=\"\",\"\",CHAR(10)&\"-\"&VLOOKUP(S253,EventConditionConfig!A:C,3,FALSE)))","v":""},{"$f":"IF(Y253=\"\",\"\",1)","v":""},{"$f":"IF(U253=1,A254,\"\")","v":""},{"$f":"_xlfn.TEXTJOIN(\";\",1,X253,AA253)","v":""},"",null,null,"",{"$nulls":4},{"$f":"IF(U253=2,2,IF(A253=\"\",\"\",IF(U253=1,\"\",IF(A254=\"\",3,1))))","v":1},1002104,null,5285]
[{"$f":"O254*100+P254","v":1002104},5282,"境界达到[金丹-前期]","",{"$nulls":5},100,{"$f":"IF(J254=\"\",\"\",VLOOKUP(J254,EventNPC!A:E,5,FALSE))","v":"玩家"},5286,"是时候离开了，去问问尧帝有何建议。",null,{"$f":"IF(O253=\"\",O252+1,O253)","v":10021},{"$f":"IF(O254=O253,P253+1,1)","v":4},{"$f":"_xlfn.TEXTJOIN(\";\",1,R254:S254)","v":""},null,null,{"$f":"IF(R254=\"\",\"\",\"-\"&VLOOKUP(R254,EventConditionConfig!A:C,3,FALSE)&IF(S254=\"\",\"\",CHAR(10)&\"-\"&VLOOKUP(S254,EventConditionConfig!A:C,3,FALSE)))","v":""},{"$f":"IF(Y254=\"\",\"\",1)","v":""},{"$f":"IF(U254=1,A255,\"\")","v":""},{"$f":"_xlfn.TEXTJOIN(\";\",1,X254,AA254)","v":""},"",null,null,"",{"$nulls":4},{"$f":"IF(U254=2,2,IF(A254=\"\",\"\",IF(U254=1,\"\",IF(A255=\"\",3,1))))","v":3},{"$f":"IF(AF254=1,A255,IF(AF254=3,LEFT(A254,5)+1,\"\"))","v":10022},null,5286]
[null,"",null,"",{"$nulls":7},"",{"$nulls":11},"",null,null,"",{"$nulls":7},""]
[{"$f":"O256*100+P256","v":1002201},5287,"仙山传说","",{"$nulls":5},105,{"$f":"IF(J256=\"\",\"\",VLOOKUP(J256,EventNPC!A:E,5,FALSE))","v":"尧帝"},5288,"（高兴）小友，你来了。",null,{"$f":"IF(O255=\"\",O254+1,O255)","v":10022},{"$f":"IF(O256=O255,P255+1,1)","v":1},{"$f":"_xlfn.TEXTJOIN(\";\",1,R256:S256)","v":""},null,null,{"$f":"IF(R256=\"\",\"\",\"-\"&VLOOKUP(R256,EventConditionConfig!A:C,3,FALSE)&IF(S256=\"\",\"\",CHAR(10)&\"-\"&VLOOKUP(S256,EventConditionConfig!A:C,3,FALSE)))","v":""},{"$f":"IF(Y256=\"\",\"\",1)","v":""},{"$f":"IF(U256=1,A257,\"\")","v":""},{"$f":"_xlfn.TEXTJOIN(\";\",1,X256,AA256)","v":""},"",null,null,"",{"$nulls":4},{"$f":"IF(U256=2,2,IF(A256=\"\",\"\",IF(U256=1,\"\",IF(A257=\"\",3,1))))","v":1},{"$f":"IF(AF256=1,A257,IF(AF256=3,LEFT(A256,5)+1,\"\"))","v":1002202},null,5288]
[1002202,5287,"仙山传说","",{"$nulls":5},105,{"$f":"IF(J257=\"\",\"\",VLOOKUP(J257,EventNPC!A:E,5,FALSE))","v":"尧帝"},5289,"数月不见，你已入筑基巅峰，距离结丹，也是指日可待！",null,10022,{"$f":"IF(O257=O256,P256+1,1)","v":2},{"$f":"_xlfn.TEXTJOIN(\";\",1,R257:S257)","v":""},null,null,{"$f":"IF(R257=\"\",\"\",\"-\"&VLOOKUP(R257,EventConditionConfig!A:C,3,FALSE)&IF(S257=\"\",\"\",CHAR(10)&\"-\"&VLOOKUP(S257,EventConditionConfig!A:C,3,FALSE)))","v":""},"",{"$f":"IF(U257=1,A258,\"\")","v":""},"","",null,null,"",{"$nulls":4},1,{"$f":"IF(AF257=1,A258,IF(AF257=3,LEFT(A257,5)+1,\"\"))","v":1002203},null,5289]
[1002203,5287,"仙山传说","",{"$nulls":5},100,{"$f":"IF(J258=\"\",\"\",VLOOKUP(J258,EventNPC!A:E,5,FALSE))","v":"玩家"},5290,"多谢尧帝，我是来辞行的，也想打听一下，关于“七道心境”的更多线索",null,10022,{"$f":"IF(O258=O257,P257+1,1)","v":3},{"$f":"_xlfn.TEXTJOIN(\";\",1,R258:S258)","v":""},null,null,{"$f":"IF(R258=\"\",\"\",\"-\"&VLOOKUP(R258,EventConditionConfig!A:C,3,FALSE)&IF(S258=\"\",\"\",CHAR(10)&\"-\"&VLOOKUP(S258,EventConditionConfig!A:C,3,FALSE)))","v":""},"",{"$f":"IF(U258=1,A259,\"\")","v":""},"","",null,null,"",{"$nulls":4},1,{"$f":"IF(AF258=1,A259,IF(AF258=3,LEFT(A258,5)+1,\"\"))","v":1002204},null,5290]
[1002204,5287,"仙山传说","",{"$nulls":5},105,{"$f":"IF(J259=\"\",\"\",VLOOKUP(J259,EventNPC!A:E,5,FALSE))","v":"尧帝"},5291,"小友，你可曾听过‘藐姑射山’",null,10022,{"$f":"IF(O259=O258,P258+1,1)","v":4},{"$f":"_xlfn.TEXTJOIN(\";\",1,R259:S259)","v":""},null,null,{"$f":"IF(R259=\"\",\"\",\"-\"&VLOOKUP(R259,EventConditionConfig!A:C,3,FALSE)&IF(S259=\"\",\"\",CHAR(10)&\"-\"&VLOOKUP(S259,EventConditionConfig!A:C,3,FALSE)))","v":""},1,{"$f":"IF(U259=1,_xlfn.TEXTJOIN(\";\",1,IF(Z259=\"\",A259+1,Z259),IF(AND(AA259<>\"\",AC259=\"\"),A259+1,AC259)),IF(U259=2,Y259,\"\"))","v":"1002205;1002209"},"5292;5293",5292,"未曾听闻，请前辈指点。",{"$f":"A260","v":1002205},5293,"莫非是传说中的仙人居所？",{"$f":"A264","v":1002209},null,null,"",{"$f":"IF(AF259=1,A260,IF(AF259=3,LEFT(A259,5)+1,\"\"))","v":""},null,5293]
[1002205,5287,"仙山传说","",{"$nulls":5},105,{"$f":"IF(J260=\"\",\"\",VLOOKUP(J260,EventNPC!A:E,5,FALSE))","v":"尧帝"},5294,"此山在尧都之北，云雾缭绕，凡人难见。当年我巡狩天下，偶遇山中神人……\n（尧帝眼神恍惚，似陷入回忆）",null,10022,5,"",null,null,{"$f":"IF(R260=\"\",\"\",\"-\"&VLOOKUP(R260,EventConditionConfig!A:C,3,FALSE)&IF(S260=\"\",\"\",CHAR(10)&\"-\"&VLOOKUP(S260,EventConditionConfig!A:C,3,FALSE)))","v":""},"",{"$f":"IF(U260=1,A261,\"\")","v":""},"","",null,null,"",{"$nulls":4},1,1002206,null,5294]
[1002206,5287,"仙山传说","",{"$nulls":5},105,{"$f":"IF(J261=\"\",\"\",VLOOKUP(J261,EventNPC!A:E,5,FALSE))","v":"尧帝"},5295,"不错。山中神人，她皮肤润白像冰雪，体态柔美如年轻的女子，不食五谷，吸清风饮甘露，乘云气驾飞龙，遨游于四海之外。",null,10022,{"$f":"IF(O261=O260,P260+1,1)","v":6},{"$f":"_xlfn.TEXTJOIN(\";\",1,R261:S261)","v":""},null,null,{"$f":"IF(R261=\"\",\"\",\"-\"&VLOOKUP(R261,EventConditionConfig!A:C,3,FALSE)&IF(S261=\"\",\"\",CHAR(10)&\"-\"&VLOOKUP(S261,EventConditionConfig!A:C,3,FALSE)))","v":""},"","","","",null,null,"",{"$nulls":4},1,{"$f":"IF(AF261=1,A262,IF(AF261=3,LEFT(A261,5)+1,\"\"))","v":1002207},null,5295]
[1002207,{"$f":"IF(C262=\"\",\"\",IF(C262=C261,B261,MAX(AI261,AI260)+1))","v":5287},"仙山传说",{"$f":"IF(E262=\"\",\"\",IF(E262=E261,D261,MAX(AI261,AI260,B262)+1))","v":""},{"$nulls":5},105,{"$f":"IF(J262=\"\",\"\",VLOOKUP(J262,EventNPC!A:E,5,FALSE))","v":"尧帝"},{"$f":"IF(M262=\"\",\"\",MAX(AI261,AI260,B262,D262)+1)","v":5296},"当年见到神人时，我已是一都之君。可在她面前，自觉渺小如尘沙，治理的天下如同儿戏一般。",null,10022,{"$f":"IF(O262=O261,P261+1,1)","v":7},{"$f":"_xlfn.TEXTJOIN(\";\",1,R262:S262)","v":""},null,null,{"$f":"IF(R262=\"\",\"\",\"-\"&VLOOKUP(R262,EventConditionConfig!A:C,3,FALSE)&IF(S262=\"\",\"\",CHAR(10)&\"-\"&VLOOKUP(S262,EventConditionConfig!A:C,3,FALSE)))","v":""},"","","",{"$f":"IF(OR(ISNUMBER(Y262),Y262=\"\"),\"\",MAX(AI261,AI260,B262,D262,L262)+1)","v":""},null,null,{"$f":"IF(OR(ISNUMBER(AB262),AB262=\"\"),\"\",X262+1)","v":""},{"$nulls":4},1,{"$f":"IF(AF262=1,A263,IF(AF262=3,LEFT(A262,5)+1,\"\"))","v":1002208},null,{"$f":"IF(A262=\"\",\"\",MAX(B262,D262,L262,X262,AA262,AI261,AI260))","v":5296}]
[1002208,5287,"仙山传说","",{"$nulls":5},105,{"$f":"IF(J263=\"\",\"\",VLOOKUP(J263,EventNPC!A:E,5,FALSE))","v":"尧帝"},5297,"甚至连开口说话，都没有勇气…",null,10022,{"$f":"IF(O263=O262,P262+1,1)","v":8},{"$f":"_xlfn.TEXTJOIN(\";\",1,R263:S263)","v":""},null,null,{"$f":"IF(R263=\"\",\"\",\"-\"&VLOOKUP(R263,EventConditionConfig!A:C,3,FALSE)&IF(S263=\"\",\"\",CHAR(10)&\"-\"&VLOOKUP(S263,EventConditionConfig!A:C,3,FALSE)))","v":""},"","","","",null,null,"",{"$nulls":4},1,{"$f":"IF(AF263=1,A264,IF(AF263=3,LEFT(A263,5)+1,\"\"))","v":1002209},null,5297]
[1002209,5287,"仙山传说","",{"$nulls":5},100,{"$f":"IF(J264=\"\",\"\",VLOOKUP(J264,EventNPC!A:E,5,FALSE))","v":"玩家"},5298,"......",null,10022,{"$f":"IF(O264=O263,P263+1,1)","v":9},{"$f":"_xlfn.TEXTJOIN(\";\",1,R264:S264)","v":""},null,null,{"$f":"IF(R264=\"\",\"\",\"-\"&VLOOKUP(R264,EventConditionConfig!A:C,3,FALSE)&IF(S264=\"\",\"\",CHAR(10)&\"-\"&VLOOKUP(S264,EventConditionConfig!A:C,3,FALSE)))","v":""},1,1002210,"5299",5299,"连尧帝都如此敬畏，那神人究竟何等境界？",null,"",{"$nulls":4},"",{"$f":"IF(AF264=1,A265,IF(AF264=3,LEFT(A264,5)+1,\"\"))","v":""},null,5299]
[1002210,5287,"仙山传说","",{"$nulls":5},105,{"$f":"IF(J265=\"\",\"\",VLOOKUP(J265,EventNPC!A:E,5,FALSE))","v":"尧帝"},5300,"我也不知..你可前去寻觅，如有缘遇见，定能提升修为，突破心境。",null,10022,10,"",null,null,{"$f":"IF(R265=\"\",\"\",\"-\"&VLOOKUP(R265,EventConditionConfig!A:C,3,FALSE)&IF(S265=\"\",\"\",CHAR(10)&\"-\"&VLOOKUP(S265,EventConditionConfig!A:C,3,FALSE)))","v":""},"","","","",null,null,"",{"$nulls":4},1,1002211,null,5300]
[1002211,5287,"仙山传说","",{"$nulls":5},105,{"$f":"IF(J266=\"\",\"\",VLOOKUP(J266,EventNPC!A:E,5,FALSE))","v":"尧帝"},5301,"你手中的逍遥铃，绝非凡物，跟着它的指引，应该能找到藐姑射山。",null,10022,{"$f":"IF(O266=O265,P265+1,1)","v":11},{"$f":"_xlfn.TEXTJOIN(\";\",1,R266:S266)","v":""},null,null,{"$f":"IF(R266=\"\",\"\",\"-\"&VLOOKUP(R266,EventConditionConfig!A:C,3,FALSE)&IF(S266=\"\",\"\",CHAR(10)&\"-\"&VLOOKUP(S266,EventConditionConfig!A:C,3,FALSE)))","v":""},1,1002212,"5302",5302,"多谢前辈。",null,"",{"$nulls":4},"",{"$f":"IF(AF266=1,A267,IF(AF266=3,LEFT(A266,5)+1,\"\"))","v":""},null,5302]
[1002212,5287,"仙山传说","",{"$nulls":6},{"$f":"IF(J267=\"\",\"\",VLOOKUP(J267,EventNPC!A:E,5,FALSE))","v":""},"",null,null,10022,{"$f":"IF(O267=O266,P266+1,1)","v":12},{"$f":"_xlfn.TEXTJOIN(\";\",1,R267:S267)","v":"25"},25,null,{"$f":"IF(R267=\"\",\"\",\"-\"&VLOOKUP(R267,EventConditionConfig!A:C,3,FALSE)&IF(S267=\"\",\"\",CHAR(10)&\"-\"&VLOOKUP(S267,EventConditionConfig!A:C,3,FALSE)))","v":"-达到境界：结丹-后期"},"","","","",null,null,"",{"$nulls":4},3,{"$f":"IF(AF267=1,A268,IF(AF267=3,LEFT(A267,5)+1,\"\"))","v":10023},null,5302]
[null,"",null,"",{"$nulls":7},"",{"$nulls":11},"",null,null,"",{"$nulls":7},""]
[{"$f":"O269*100+P269","v":1002301},5303,"入山幻阵","",{"$nulls":6},{"$f":"IF(J269=\"\",\"\",VLOOKUP(J269,EventNPC!A:E,5,FALSE))","v":""},5304,"仙山被五行阵笼罩，需要击败阵眼方可破除（细节待设计）",null,{"$f":"IF(O268=\"\",O267+1,O268)","v":10023},{"$f":"IF(O269=O268,P268+1,1)","v":1},{"$f":"_xlfn.TEXTJOIN(\";\",1,R269:S269)","v":""},null,null,{"$f":"IF(R269=\"\",\"\",\"-\"&VLOOKUP(R269,EventConditionConfig!A:C,3,FALSE)&IF(S269=\"\",\"\",CHAR(10)&\"-\"&VLOOKUP(S269,EventConditionConfig!A:C,3,FALSE)))","v":""},{"$f":"IF(Y269=\"\",\"\",1)","v":""},{"$f":"IF(U269=1,A270,\"\")","v":""},{"$f":"_xlfn.TEXTJOIN(\";\",1,X269,AA269)","v":""},"",null,null,"",{"$nulls":4},{"$f":"IF(U269=2,2,IF(A269=\"\",\"\",IF(U269=1,\"\",IF(A270=\"\",3,1))))","v":1},{"$f":"IF(AF269=1,A270,IF(AF269=3,LEFT(A269,5)+1,\"\"))","v":1002302},null,5304]
[{"$f":"O270*100+P270","v":1002302},5303,"入山幻阵","",{"$nulls":6},{"$f":"IF(J270=\"\",\"\",VLOOKUP(J270,EventNPC!A:E,5,FALSE))","v":""},5305,"阵眼妖兽被击败，仙山现在可以进入了（细节待设计）",null,{"$f":"IF(O269=\"\",O268+1,O269)","v":10023},{"$f":"IF(O270=O269,P269+1,1)","v":2},{"$f":"_xlfn.TEXTJOIN(\";\",1,R270:S270)","v":"15"},15,null,{"$f":"IF(R270=\"\",\"\",\"-\"&VLOOKUP(R270,EventConditionConfig!A:C,3,FALSE)&IF(S270=\"\",\"\",CHAR(10)&\"-\"&VLOOKUP(S270,EventConditionConfig!A:C,3,FALSE)))","v":"-击败仙山的阵眼妖兽"},{"$f":"IF(Y270=\"\",\"\",1)","v":""},{"$f":"IF(U270=1,A271,\"\")","v":""},{"$f":"_xlfn.TEXTJOIN(\";\",1,X270,AA270)","v":""},"",null,null,"",{"$nulls":4},{"$f":"IF(U270=2,2,IF(A270=\"\",\"\",IF(U270=1,\"\",IF(A271=\"\",3,1))))","v":1},{"$f":"IF(AF270=1,A271,IF(AF270=3,LEFT(A270,5)+1,\"\"))","v":1002303},null,5305]
[{"$f":"O271*100+P271","v":1002303},5303,"入山幻阵","",{"$nulls":6},{"$f":"IF(J271=\"\",\"\",VLOOKUP(J271,EventNPC!A:E,5,FALSE))","v":""},"",null,null,{"$f":"IF(O270=\"\",O269+1,O270)","v":10023},3,"",null,null,{"$f":"IF(R271=\"\",\"\",\"-\"&VLOOKUP(R271,EventConditionConfig!A:C,3,FALSE)&IF(S271=\"\",\"\",CHAR(10)&\"-\"&VLOOKUP(S271,EventConditionConfig!A:C,3,FALSE)))","v":""},{"$f":"IF(Y271=\"\",\"\",1)","v":""},{"$f":"IF(U271=1,A272,\"\")","v":""},{"$f":"_xlfn.TEXTJOIN(\";\",1,X271,AA271)","v":""},"",null,null,"",{"$nulls":4},{"$f":"IF(U271=2,2,IF(A271=\"\",\"\",IF(U271=1,\"\",IF(A272=\"\",3,1))))","v":3},10024,null,5305]
[null,"",null,"",{"$nulls":7},"",{"$nulls":11},"",null,null,"",{"$nulls":7},""]
[{"$f":"O273*100+P273","v":1002401},5306,"听惠子吹嘘种子来历，并答应帮他种葫芦","",{"$nulls":5},111,{"$f":"IF(J273=\"\",\"\",VLOOKUP(J273,EventNPC!A:E,5,FALSE))","v":"惠子"},5307,"（惠子手持一颗七彩流光的种子，满脸得意）\n“小友！来得正好！瞧我这宝贝——”",null,{"$f":"IF(O272=\"\",O271+1,O272)","v":10024},{"$f":"IF(O273=O272,P272+1,1)","v":1},{"$f":"_xlfn.TEXTJOIN(\";\",1,R273:S273)","v":""},null,null,{"$f":"IF(R273=\"\",\"\",\"-\"&VLOOKUP(R273,EventConditionConfig!A:C,3,FALSE)&IF(S273=\"\",\"\",CHAR(10)&\"-\"&VLOOKUP(S273,EventConditionConfig!A:C,3,FALSE)))","v":""},{"$f":"IF(Y273=\"\",\"\",1)","v":""},{"$f":"IF(U273=1,A274,\"\")","v":""},{"$f":"_xlfn.TEXTJOIN(\";\",1,X273,AA273)","v":""},"",null,null,"",{"$nulls":4},{"$f":"IF(U273=2,2,IF(A273=\"\",\"\",IF(U273=1,\"\",IF(A274=\"\",3,1))))","v":1},{"$f":"IF(AF273=1,A274,IF(AF273=3,LEFT(A273,5)+1,\"\"))","v":1002402},null,5307]
[1002402,5306,"听惠子吹嘘种子来历，并答应帮他种葫芦","",{"$nulls":5},111,{"$f":"IF(J274=\"\",\"\",VLOOKUP(J274,EventNPC!A:E,5,FALSE))","v":"惠子"},5308,"（惠子举起一颗种子，阳光照射下熠熠生辉）\n“此乃‘五石葫芦’之种！虽然我也不知道能种出来什么，但绝非凡品，一定大有用处！”",null,10024,{"$f":"IF(O274=O273,P273+1,1)","v":2},{"$f":"_xlfn.TEXTJOIN(\";\",1,R274:S274)","v":""},null,null,{"$f":"IF(R274=\"\",\"\",\"-\"&VLOOKUP(R274,EventConditionConfig!A:C,3,FALSE)&IF(S274=\"\",\"\",CHAR(10)&\"-\"&VLOOKUP(S274,EventConditionConfig!A:C,3,FALSE)))","v":""},1,1002403,"5309",5309,"这么厉害？哪来的？",null,"",{"$nulls":4},"",{"$f":"IF(AF274=1,A275,IF(AF274=3,LEFT(A274,5)+1,\"\"))","v":""},null,5309]
[1002403,5306,"听惠子吹嘘种子来历，并答应帮他种葫芦","",{"$nulls":5},111,{"$f":"IF(J275=\"\",\"\",VLOOKUP(J275,EventNPC!A:E,5,FALSE))","v":"惠子"},5310,"这是我的好朋友庄子送我的，给的时候，还神神秘秘的，说种出来的东西很好玩。",null,10024,{"$f":"IF(O275=O274,P274+1,1)","v":3},{"$f":"_xlfn.TEXTJOIN(\";\",1,R275:S275)","v":""},null,null,{"$f":"IF(R275=\"\",\"\",\"-\"&VLOOKUP(R275,EventConditionConfig!A:C,3,FALSE)&IF(S275=\"\",\"\",CHAR(10)&\"-\"&VLOOKUP(S275,EventConditionConfig!A:C,3,FALSE)))","v":""},"","","","",null,null,"",{"$nulls":4},1,{"$f":"IF(AF275=1,A276,IF(AF275=3,LEFT(A275,5)+1,\"\"))","v":1002404},null,5310]
[1002404,5306,"听惠子吹嘘种子来历，并答应帮他种葫芦","",{"$nulls":5},100,{"$f":"IF(J276=\"\",\"\",VLOOKUP(J276,EventNPC!A:E,5,FALSE))","v":"玩家"},5311,"原来如此。\n我游历到这里，是想拜访山中神仙，请道友指路。",null,10024,{"$f":"IF(O276=O275,P275+1,1)","v":4},{"$f":"_xlfn.TEXTJOIN(\";\",1,R276:S276)","v":""},null,null,{"$f":"IF(R276=\"\",\"\",\"-\"&VLOOKUP(R276,EventConditionConfig!A:C,3,FALSE)&IF(S276=\"\",\"\",CHAR(10)&\"-\"&VLOOKUP(S276,EventConditionConfig!A:C,3,FALSE)))","v":""},"","","","",null,null,"",{"$nulls":4},1,{"$f":"IF(AF276=1,A277,IF(AF276=3,LEFT(A276,5)+1,\"\"))","v":1002405},null,5311]
[1002405,5306,"听惠子吹嘘种子来历，并答应帮他种葫芦","",{"$nulls":5},111,{"$f":"IF(J277=\"\",\"\",VLOOKUP(J277,EventNPC!A:E,5,FALSE))","v":"惠子"},5312,"又是来找神仙的？\n帮你也不是不行，但是你得先帮我，帮我种葫芦！",null,10024,{"$f":"IF(O277=O276,P276+1,1)","v":5},{"$f":"_xlfn.TEXTJOIN(\";\",1,R277:S277)","v":""},null,null,{"$f":"IF(R277=\"\",\"\",\"-\"&VLOOKUP(R277,EventConditionConfig!A:C,3,FALSE)&IF(S277=\"\",\"\",CHAR(10)&\"-\"&VLOOKUP(S277,EventConditionConfig!A:C,3,FALSE)))","v":""},1,1002406,"5313",5313,"我不擅长种植",null,"",{"$nulls":4},"",{"$f":"IF(AF277=1,A278,IF(AF277=3,LEFT(A277,5)+1,\"\"))","v":""},null,5313]
[1002406,5306,"听惠子吹嘘种子来历，并答应帮他种葫芦","",{"$nulls":5},111,{"$f":"IF(J278=\"\",\"\",VLOOKUP(J278,EventNPC!A:E,5,FALSE))","v":"惠子"},5314,"没事，我非常擅长，哈哈。\n道友只需要帮我找几种肥料即可。",null,10024,6,"",null,null,{"$f":"IF(R278=\"\",\"\",\"-\"&VLOOKUP(R278,EventConditionConfig!A:C,3,FALSE)&IF(S278=\"\",\"\",CHAR(10)&\"-\"&VLOOKUP(S278,EventConditionConfig!A:C,3,FALSE)))","v":""},1,1002407,"5315",5315,"道友请讲…",null,"",{"$nulls":4},"","",null,5315]
[1002407,5306,"听惠子吹嘘种子来历，并答应帮他种葫芦","",{"$nulls":5},111,{"$f":"IF(J279=\"\",\"\",VLOOKUP(J279,EventNPC!A:E,5,FALSE))","v":"惠子"},5316,"此葫芦种子，需要2种肥料：“天肥”和“地肥”。",null,10024,7,"",null,null,{"$f":"IF(R279=\"\",\"\",\"-\"&VLOOKUP(R279,EventConditionConfig!A:C,3,FALSE)&IF(S279=\"\",\"\",CHAR(10)&\"-\"&VLOOKUP(S279,EventConditionConfig!A:C,3,FALSE)))","v":""},"","","","",null,null,"",{"$nulls":4},1,1002408,null,5316]
[1002408,5306,"听惠子吹嘘种子来历，并答应帮他种葫芦","",{"$nulls":5},100,{"$f":"IF(J280=\"\",\"\",VLOOKUP(J280,EventNPC!A:E,5,FALSE))","v":"玩家"},5317,"....未曾听闻…",null,10024,{"$f":"IF(O280=O279,P279+1,1)","v":8},{"$f":"_xlfn.TEXTJOIN(\";\",1,R280:S280)","v":""},null,null,{"$f":"IF(R280=\"\",\"\",\"-\"&VLOOKUP(R280,EventConditionConfig!A:C,3,FALSE)&IF(S280=\"\",\"\",CHAR(10)&\"-\"&VLOOKUP(S280,EventConditionConfig!A:C,3,FALSE)))","v":""},1,1002409,"5318",5318,"何为“天肥”",null,"",{"$nulls":4},"",{"$f":"IF(AF280=1,A281,IF(AF280=3,LEFT(A280,5)+1,\"\"))","v":""},null,5318]
[1002409,5306,"听惠子吹嘘种子来历，并答应帮他种葫芦","",{"$nulls":5},111,{"$f":"IF(J281=\"\",\"\",VLOOKUP(J281,EventNPC!A:E,5,FALSE))","v":"惠子"},5319,"天肥很简单，你往上看\n（惠子把手指向云端）",null,10024,9,"",null,null,{"$f":"IF(R281=\"\",\"\",\"-\"&VLOOKUP(R281,EventConditionConfig!A:C,3,FALSE)&IF(S281=\"\",\"\",CHAR(10)&\"-\"&VLOOKUP(S281,EventConditionConfig!A:C,3,FALSE)))","v":""},"","","","",null,null,"",{"$nulls":4},1,1002410,null,5319]
[1002410,5306,"听惠子吹嘘种子来历，并答应帮他种葫芦","",{"$nulls":5},111,{"$f":"IF(J282=\"\",\"\",VLOOKUP(J282,EventNPC!A:E,5,FALSE))","v":"惠子"},5320,"此山附近有许多飞行的灵兽围绕，你去击败几只飞行的灵兽，就有机会拿到了。",null,10024,{"$f":"IF(O282=O281,P281+1,1)","v":10},{"$f":"_xlfn.TEXTJOIN(\";\",1,R282:S282)","v":""},null,null,{"$f":"IF(R282=\"\",\"\",\"-\"&VLOOKUP(R282,EventConditionConfig!A:C,3,FALSE)&IF(S282=\"\",\"\",CHAR(10)&\"-\"&VLOOKUP(S282,EventConditionConfig!A:C,3,FALSE)))","v":""},1,1002411,"5321",5321,"何为“地肥”",null,"",{"$nulls":4},"",{"$f":"IF(AF282=1,A283,IF(AF282=3,LEFT(A282,5)+1,\"\"))","v":""},null,5321]
[1002411,5306,"听惠子吹嘘种子来历，并答应帮他种葫芦","",{"$nulls":5},111,{"$f":"IF(J283=\"\",\"\",VLOOKUP(J283,EventNPC!A:E,5,FALSE))","v":"惠子"},5322,"这地肥就比较麻烦了，需要2000年以上的灵木树枝才能当“地肥”",null,10024,{"$f":"IF(O283=O282,P282+1,1)","v":11},{"$f":"_xlfn.TEXTJOIN(\";\",1,R283:S283)","v":""},null,null,{"$f":"IF(R283=\"\",\"\",\"-\"&VLOOKUP(R283,EventConditionConfig!A:C,3,FALSE)&IF(S283=\"\",\"\",CHAR(10)&\"-\"&VLOOKUP(S283,EventConditionConfig!A:C,3,FALSE)))","v":""},"","","","",null,null,"",{"$nulls":4},1,{"$f":"IF(AF283=1,A284,IF(AF283=3,LEFT(A283,5)+1,\"\"))","v":1002412},null,5322]
[1002412,5306,"听惠子吹嘘种子来历，并答应帮他种葫芦","",{"$nulls":5},111,{"$f":"IF(J284=\"\",\"\",VLOOKUP(J284,EventNPC!A:E,5,FALSE))","v":"惠子"},5323,"不过，这千年以上的树木，都会化形，不好找啊，不好找。",null,10024,{"$f":"IF(O284=O283,P283+1,1)","v":12},{"$f":"_xlfn.TEXTJOIN(\";\",1,R284:S284)","v":""},null,null,{"$f":"IF(R284=\"\",\"\",\"-\"&VLOOKUP(R284,EventConditionConfig!A:C,3,FALSE)&IF(S284=\"\",\"\",CHAR(10)&\"-\"&VLOOKUP(S284,EventConditionConfig!A:C,3,FALSE)))","v":""},1,1002413,"5324",5324,"好的道友，那我这就去寻。",null,"",{"$nulls":4},{"$f":"IF(U284=2,2,IF(A284=\"\",\"\",IF(U284=1,\"\",IF(A286=\"\",3,1))))","v":""},{"$f":"IF(AF284=1,A286,IF(AF284=3,LEFT(A284,5)+1,\"\"))","v":""},null,5324]
[{"$f":"O285*100+P285","v":1002413},5306,"听惠子吹嘘种子来历，并答应帮他种葫芦","",{"$nulls":6},{"$f":"IF(J285=\"\",\"\",VLOOKUP(J285,EventNPC!A:E,5,FALSE))","v":""},"",null,null,10024,{"$f":"IF(O285=O284,P284+1,1)","v":13},{"$f":"_xlfn.TEXTJOIN(\";\",1,R285:S285)","v":"26"},26,null,{"$f":"IF(R285=\"\",\"\",\"-\"&VLOOKUP(R285,EventConditionConfig!A:C,3,FALSE)&IF(S285=\"\",\"\",CHAR(10)&\"-\"&VLOOKUP(S285,EventConditionConfig!A:C,3,FALSE)))","v":"-达到境界：元婴-前期"},{"$f":"IF(Y285=\"\",\"\",1)","v":""},{"$f":"IF(U285=1,A287,\"\")","v":""},{"$f":"_xlfn.TEXTJOIN(\";\",1,X285,AA285)","v":""},"",null,null,"",{"$nulls":4},3,{"$f":"IF(AF285=1,A287,IF(AF285=3,LEFT(A285,5)+1,\"\"))","v":10025},null,5324]
[null,"",null,"",{"$nulls":7},"",{"$nulls":11},"",null,null,"",{"$nulls":7},""]
[{"$f":"O287*100+P287","v":1002501},5325,"天肥地肥","",{"$nulls":6},{"$f":"IF(J287=\"\",\"\",VLOOKUP(J287,EventNPC!A:E,5,FALSE))","v":""},5326,"你来到飞行的灵兽周围，碰碰运气吧。",null,{"$f":"IF(O286=\"\",O284+1,O286)","v":10025},{"$f":"IF(O287=O286,P286+1,1)","v":1},{"$f":"_xlfn.TEXTJOIN(\";\",1,R287:S287)","v":""},null,null,{"$f":"IF(R287=\"\",\"\",\"-\"&VLOOKUP(R287,EventConditionConfig!A:C,3,FALSE)&IF(S287=\"\",\"\",CHAR(10)&\"-\"&VLOOKUP(S287,EventConditionConfig!A:C,3,FALSE)))","v":""},{"$f":"IF(Y287=\"\",\"\",1)","v":""},{"$f":"IF(U287=1,A288,\"\")","v":""},{"$f":"_xlfn.TEXTJOIN(\";\",1,X287,AA287)","v":""},"",null,null,"",{"$nulls":4},{"$f":"IF(U287=2,2,IF(A287=\"\",\"\",IF(U287=1,\"\",IF(A288=\"\",3,1))))","v":1},{"$f":"IF(AF287=1,A288,IF(AF287=3,LEFT(A287,5)+1,\"\"))","v":1002502},null,5326]
[1002502,5325,"天肥地肥","",{"$nulls":6},{"$f":"IF(J288=\"\",\"\",VLOOKUP(J288,EventNPC!A:E,5,FALSE))","v":""},5327,"天肥搜集到了，关于地肥，你突然想到之前碰到的樗木之灵",null,{"$f":"IF(O287=\"\",O286+1,O287)","v":10025},{"$f":"IF(O288=O287,P287+1,1)","v":2},{"$f":"_xlfn.TEXTJOIN(\";\",1,R288:S288)","v":"17"},17,null,{"$f":"IF(R288=\"\",\"\",\"-\"&VLOOKUP(R288,EventConditionConfig!A:C,3,FALSE)&IF(S288=\"\",\"\",CHAR(10)&\"-\"&VLOOKUP(S288,EventConditionConfig!A:C,3,FALSE)))","v":"-击杀灵兽获得天肥"},"","","","",null,null,"",{"$nulls":4},1,{"$f":"IF(AF288=1,A289,IF(AF288=3,LEFT(A288,5)+1,\"\"))","v":1002503},null,5327]
[1002503,5325,"天肥地肥","",{"$nulls":5},100,{"$f":"IF(J289=\"\",\"\",VLOOKUP(J289,EventNPC!A:E,5,FALSE))","v":"玩家"},5328,"前辈，我有一事相求。",null,10025,3,"",null,null,{"$f":"IF(R289=\"\",\"\",\"-\"&VLOOKUP(R289,EventConditionConfig!A:C,3,FALSE)&IF(S289=\"\",\"\",CHAR(10)&\"-\"&VLOOKUP(S289,EventConditionConfig!A:C,3,FALSE)))","v":""},"","","","",null,null,"",{"$nulls":4},1,1002504,null,5328]
[1002504,5325,"天肥地肥","",{"$nulls":5},110,{"$f":"IF(J290=\"\",\"\",VLOOKUP(J290,EventNPC!A:E,5,FALSE))","v":"樗木之灵"},5329,"小友请说",null,10025,{"$f":"IF(O290=O289,P289+1,1)","v":4},{"$f":"_xlfn.TEXTJOIN(\";\",1,R290:S290)","v":""},null,null,{"$f":"IF(R290=\"\",\"\",\"-\"&VLOOKUP(R290,EventConditionConfig!A:C,3,FALSE)&IF(S290=\"\",\"\",CHAR(10)&\"-\"&VLOOKUP(S290,EventConditionConfig!A:C,3,FALSE)))","v":""},"","","","",null,null,"",{"$nulls":4},1,{"$f":"IF(AF290=1,A291,IF(AF290=3,LEFT(A290,5)+1,\"\"))","v":1002505},null,5329]
[1002505,5325,"天肥地肥","",{"$nulls":5},100,{"$f":"IF(J291=\"\",\"\",VLOOKUP(J291,EventNPC!A:E,5,FALSE))","v":"玩家"},5330,"我在藐姑射山时，遇到有位道友让我帮他找“地肥”来种葫芦...\n不止前辈可否借我一点点树枝。",null,10025,{"$f":"IF(O291=O290,P290+1,1)","v":5},{"$f":"_xlfn.TEXTJOIN(\";\",1,R291:S291)","v":""},null,null,{"$f":"IF(R291=\"\",\"\",\"-\"&VLOOKUP(R291,EventConditionConfig!A:C,3,FALSE)&IF(S291=\"\",\"\",CHAR(10)&\"-\"&VLOOKUP(S291,EventConditionConfig!A:C,3,FALSE)))","v":""},"","","","",null,null,"",{"$nulls":4},1,{"$f":"IF(AF291=1,A292,IF(AF291=3,LEFT(A291,5)+1,\"\"))","v":1002506},null,5330]
[1002506,5325,"天肥地肥","",{"$nulls":5},110,{"$f":"IF(J292=\"\",\"\",VLOOKUP(J292,EventNPC!A:E,5,FALSE))","v":"樗木之灵"},5331,"好说好说，以后多来陪我聊聊天就好。",null,10025,6,"",null,null,{"$f":"IF(R292=\"\",\"\",\"-\"&VLOOKUP(R292,EventConditionConfig!A:C,3,FALSE)&IF(S292=\"\",\"\",CHAR(10)&\"-\"&VLOOKUP(S292,EventConditionConfig!A:C,3,FALSE)))","v":""},"","","","",null,null,"",{"$nulls":4},1,1002507,null,5331]
[1002507,5325,"天肥地肥","",{"$nulls":5},100,{"$f":"IF(J293=\"\",\"\",VLOOKUP(J293,EventNPC!A:E,5,FALSE))","v":"玩家"},5332,"多谢前辈！  （得到樗木的树枝）",null,10025,{"$f":"IF(O293=O292,P292+1,1)","v":7},{"$f":"_xlfn.TEXTJOIN(\";\",1,R293:S293)","v":""},null,null,{"$f":"IF(R293=\"\",\"\",\"-\"&VLOOKUP(R293,EventConditionConfig!A:C,3,FALSE)&IF(S293=\"\",\"\",CHAR(10)&\"-\"&VLOOKUP(S293,EventConditionConfig!A:C,3,FALSE)))","v":""},"",{"$f":"IF(U293=1,A295,\"\")","v":""},"","",null,null,"",null,null,20001,1,{"$f":"IF(U293=2,2,IF(A293=\"\",\"\",IF(U293=1,\"\",IF(A295=\"\",3,1))))","v":3},{"$f":"IF(AF293=1,A295,IF(AF293=3,LEFT(A293,5)+1,\"\"))","v":10026},null,5332]
[1002508,5325,"天肥地肥","",{"$nulls":6},{"$f":"IF(J294=\"\",\"\",VLOOKUP(J294,EventNPC!A:E,5,FALSE))","v":""},"",null,null,10025,8,"30",30,null,{"$f":"IF(R294=\"\",\"\",\"-\"&VLOOKUP(R294,EventConditionConfig!A:C,3,FALSE)&IF(S294=\"\",\"\",CHAR(10)&\"-\"&VLOOKUP(S294,EventConditionConfig!A:C,3,FALSE)))","v":"-达到境界：元婴-中期"},"",{"$f":"IF(U294=1,A296,\"\")","v":""},"","",null,null,"",{"$nulls":4},3,10026,null,5332]
[null,"",null,"",{"$nulls":7},"",{"$nulls":11},"",null,null,"",{"$nulls":7},""]
[{"$f":"O296*100+P296","v":1002601},5333,"登山","",{"$nulls":5},111,{"$f":"IF(J296=\"\",\"\",VLOOKUP(J296,EventNPC!A:E,5,FALSE))","v":"惠子"},5334,"（眼睛一亮）好好好！\n这位道友果然好手段！竟真能找到“地肥”！",null,{"$f":"IF(O295=\"\",O293+1,O295)","v":10026},{"$f":"IF(O296=O295,P295+1,1)","v":1},{"$f":"_xlfn.TEXTJOIN(\";\",1,R296:S296)","v":""},null,null,{"$f":"IF(R296=\"\",\"\",\"-\"&VLOOKUP(R296,EventConditionConfig!A:C,3,FALSE)&IF(S296=\"\",\"\",CHAR(10)&\"-\"&VLOOKUP(S296,EventConditionConfig!A:C,3,FALSE)))","v":""},{"$f":"IF(Y296=\"\",\"\",1)","v":""},{"$f":"IF(U296=1,A297,\"\")","v":""},{"$f":"_xlfn.TEXTJOIN(\";\",1,X296,AA296)","v":""},"",null,null,"",{"$nulls":4},{"$f":"IF(U296=2,2,IF(A296=\"\",\"\",IF(U296=1,\"\",IF(A297=\"\",3,1))))","v":1},{"$f":"IF(AF296=1,A297,IF(AF296=3,LEFT(A296,5)+1,\"\"))","v":1002602},null,5334]
[1002602,5333,"登山","",{"$nulls":5},100,{"$f":"IF(J297=\"\",\"\",VLOOKUP(J297,EventNPC!A:E,5,FALSE))","v":"玩家"},5335,"（谁管你的葫芦....）\n请道友告知，哪里可以见到神仙，我有事相求。",null,{"$f":"IF(O296=\"\",O295+1,O296)","v":10026},{"$f":"IF(O297=O296,P296+1,1)","v":2},{"$f":"_xlfn.TEXTJOIN(\";\",1,R297:S297)","v":""},null,null,{"$f":"IF(R297=\"\",\"\",\"-\"&VLOOKUP(R297,EventConditionConfig!A:C,3,FALSE)&IF(S297=\"\",\"\",CHAR(10)&\"-\"&VLOOKUP(S297,EventConditionConfig!A:C,3,FALSE)))","v":""},"",{"$f":"IF(U297=1,A298,\"\")","v":""},"","",null,null,"",{"$nulls":4},1,{"$f":"IF(AF297=1,A298,IF(AF297=3,LEFT(A297,5)+1,\"\"))","v":1002603},null,5335]
[1002603,5333,"登山","",{"$nulls":5},111,{"$f":"IF(J298=\"\",\"\",VLOOKUP(J298,EventNPC!A:E,5,FALSE))","v":"惠子"},5336,"不瞒道友，我在这藐姑射山的山脚生活多年，并未见过神仙。\n来找神仙的倒是多…",null,10026,{"$f":"IF(O298=O297,P297+1,1)","v":3},{"$f":"_xlfn.TEXTJOIN(\";\",1,R298:S298)","v":""},null,null,{"$f":"IF(R298=\"\",\"\",\"-\"&VLOOKUP(R298,EventConditionConfig!A:C,3,FALSE)&IF(S298=\"\",\"\",CHAR(10)&\"-\"&VLOOKUP(S298,EventConditionConfig!A:C,3,FALSE)))","v":""},1,{"$f":"IF(U298=1,A299,\"\")","v":1002604},"5337",5337,"…",null,"",{"$nulls":4},"",{"$f":"IF(AF298=1,A299,IF(AF298=3,LEFT(A298,5)+1,\"\"))","v":""},null,5337]
[1002604,5333,"登山","",{"$nulls":5},111,{"$f":"IF(J299=\"\",\"\",VLOOKUP(J299,EventNPC!A:E,5,FALSE))","v":"惠子"},5338,"不过道友也不要急，我确实听庄子提过，此山有神仙的事迹。",null,10026,4,"",null,null,{"$f":"IF(R299=\"\",\"\",\"-\"&VLOOKUP(R299,EventConditionConfig!A:C,3,FALSE)&IF(S299=\"\",\"\",CHAR(10)&\"-\"&VLOOKUP(S299,EventConditionConfig!A:C,3,FALSE)))","v":""},"",{"$f":"IF(U299=1,A300,\"\")","v":""},"","",null,null,"",{"$nulls":4},1,1002605,null,5338]
[1002605,5333,"登山","",{"$nulls":5},111,{"$f":"IF(J300=\"\",\"\",VLOOKUP(J300,EventNPC!A:E,5,FALSE))","v":"惠子"},5339,"我屋后设有一阵法，隐藏了上山的小路，我一会开启法阵，你从那边上山吧。",null,10026,{"$f":"IF(O300=O299,P299+1,1)","v":5},{"$f":"_xlfn.TEXTJOIN(\";\",1,R300:S300)","v":""},null,null,{"$f":"IF(R300=\"\",\"\",\"-\"&VLOOKUP(R300,EventConditionConfig!A:C,3,FALSE)&IF(S300=\"\",\"\",CHAR(10)&\"-\"&VLOOKUP(S300,EventConditionConfig!A:C,3,FALSE)))","v":""},1,{"$f":"IF(U300=1,_xlfn.TEXTJOIN(\";\",1,IF(Z300=\"\",A300+1,Z300),IF(AND(AA300<>\"\",AC300=\"\"),A300+1,AC300)),IF(U300=2,Y300,\"\"))","v":"1002606;1002607"},"5340;5341",5340,"我这就启程登山！",{"$f":"A301","v":1002606},5341,"道友竟然精通阵法？",{"$f":"A302","v":1002607},null,null,"",{"$f":"IF(AF300=1,A301,IF(AF300=3,LEFT(A300,5)+1,\"\"))","v":""},null,5341]
[1002606,5333,"登山","",{"$nulls":5},111,{"$f":"IF(J301=\"\",\"\",VLOOKUP(J301,EventNPC!A:E,5,FALSE))","v":"惠子"},5342,"去吧，登上山顶，也许能找到你想要的。",null,10026,6,"",null,null,{"$f":"IF(R301=\"\",\"\",\"-\"&VLOOKUP(R301,EventConditionConfig!A:C,3,FALSE)&IF(S301=\"\",\"\",CHAR(10)&\"-\"&VLOOKUP(S301,EventConditionConfig!A:C,3,FALSE)))","v":""},"",{"$f":"IF(U301=1,A302,\"\")","v":""},"","",null,null,"",{"$nulls":4},1,{"$f":"IF(AF301=\"\",\"\",CHOOSE(AF301,IF(AH301=\"\",A301+1,AH301),CONCATENATE(IF(AH301=\"\",A301+1,AH301),\";101\"),IF(AH301=\"\",O301+1,AH301)))","v":1002509},1002509,5342]
[1002607,5333,"登山","",{"$nulls":5},111,{"$f":"IF(J302=\"\",\"\",VLOOKUP(J302,EventNPC!A:E,5,FALSE))","v":"惠子"},5343,"好说好说，我确实无心修炼，也对神仙没兴趣。",null,10026,{"$f":"IF(O302=O301,P301+1,1)","v":7},{"$f":"_xlfn.TEXTJOIN(\";\",1,R302:S302)","v":""},null,null,{"$f":"IF(R302=\"\",\"\",\"-\"&VLOOKUP(R302,EventConditionConfig!A:C,3,FALSE)&IF(S302=\"\",\"\",CHAR(10)&\"-\"&VLOOKUP(S302,EventConditionConfig!A:C,3,FALSE)))","v":""},"",{"$f":"IF(U302=1,A303,\"\")","v":""},"","",null,null,"",{"$nulls":4},1,{"$f":"IF(AF302=1,A303,IF(AF302=3,LEFT(A302,5)+1,\"\"))","v":1002608},null,5343]
[1002608,5333,"登山","",{"$nulls":5},111,{"$f":"IF(J303=\"\",\"\",VLOOKUP(J303,EventNPC!A:E,5,FALSE))","v":"惠子"},5344,"闲来无事，种种花草，研究研究阵法。\n如果道友有兴趣，可以随时交流。",null,10026,{"$f":"IF(O303=O302,P302+1,1)","v":8},{"$f":"_xlfn.TEXTJOIN(\";\",1,R303:S303)","v":""},null,null,{"$f":"IF(R303=\"\",\"\",\"-\"&VLOOKUP(R303,EventConditionConfig!A:C,3,FALSE)&IF(S303=\"\",\"\",CHAR(10)&\"-\"&VLOOKUP(S303,EventConditionConfig!A:C,3,FALSE)))","v":""},"",{"$f":"IF(U303=1,A304,\"\")","v":""},"","",null,null,"",{"$nulls":4},1,{"$f":"IF(AF303=1,A304,IF(AF303=3,LEFT(A303,5)+1,\"\"))","v":1002609},null,5344]
[1002609,5333,"登山","",{"$nulls":6},{"$f":"IF(J304=\"\",\"\",VLOOKUP(J304,EventNPC!A:E,5,FALSE))","v":""},"",null,null,10026,{"$f":"IF(O304=O303,P303+1,1)","v":9},{"$f":"_xlfn.TEXTJOIN(\";\",1,R304:S304)","v":"31"},31,null,{"$f":"IF(R304=\"\",\"\",\"-\"&VLOOKUP(R304,EventConditionConfig!A:C,3,FALSE)&IF(S304=\"\",\"\",CHAR(10)&\"-\"&VLOOKUP(S304,EventConditionConfig!A:C,3,FALSE)))","v":"-达到境界：元婴-后期"},"",{"$f":"IF(U304=1,A342,\"\")","v":""},"","",null,null,"",{"$nulls":4},{"$f":"IF(U304=2,2,IF(A304=\"\",\"\",IF(U304=1,\"\",IF(A342=\"\",3,1))))","v":3},{"$f":"IF(AF304=1,A342,IF(AF304=3,LEFT(A304,5)+1,\"\"))","v":10027},null,5344]
[null,"",null,"",{"$nulls":7},"",{"$nulls":11},"",null,null,"",{"$nulls":7},""]
[{"$f":"O306*100+P306","v":1002701},5345,"穿越山雾","",{"$nulls":6},{"$f":"IF(J306=\"\",\"\",VLOOKUP(J306,EventNPC!A:E,5,FALSE))","v":""},5346,"你穿过惠子开启的阵法，踏上藐姑射山的羊肠小径。",null,10027,{"$f":"IF(O306=O305,P305+1,1)","v":1},{"$f":"_xlfn.TEXTJOIN(\";\",1,R306:S306)","v":""},null,null,{"$f":"IF(R306=\"\",\"\",\"-\"&VLOOKUP(R306,EventConditionConfig!A:C,3,FALSE)&IF(S306=\"\",\"\",CHAR(10)&\"-\"&VLOOKUP(S306,EventConditionConfig!A:C,3,FALSE)))","v":""},{"$f":"IF(Y306=\"\",\"\",IF(ISTEXT(Y306),1,2))","v":""},{"$f":"IF(U306=1,_xlfn.TEXTJOIN(\";\",1,IF(Z306=\"\",A306+1,Z306),IF(AND(AA306<>\"\",AC306=\"\"),A306+1,AC306)),IF(U306=2,Y306,\"\"))","v":""},{"$f":"_xlfn.TEXTJOIN(\";\",1,X306,AA306)","v":""},"",null,null,"",{"$nulls":4},{"$f":"IF(ISNUMBER(Y306),2,IF(A307=\"\",IF(OR(AH306>0,VLOOKUP(O306,EventConfig!A:C,3,FALSE)=4),3,\"\"),1))","v":1},{"$f":"IF(AF306=\"\",\"\",CHOOSE(AF306,IF(AH306=\"\",A306+1,AH306),CONCATENATE(IF(AH306=\"\",A306+1,AH306),\";101\"),IF(AH306=\"\",O306+1,AH306)))","v":1002702},null,5346]
[{"$f":"O307*100+P307","v":1002702},5345,"穿越山雾","",{"$nulls":6},{"$f":"IF(J307=\"\",\"\",VLOOKUP(J307,EventNPC!A:E,5,FALSE))","v":""},5347,"山路蜿蜒，云雾渐浓，似有无形之力扭曲空间。",null,10027,{"$f":"IF(O307=O306,P306+1,1)","v":2},{"$f":"_xlfn.TEXTJOIN(\";\",1,R307:S307)","v":""},null,null,{"$f":"IF(R307=\"\",\"\",\"-\"&VLOOKUP(R307,EventConditionConfig!A:C,3,FALSE)&IF(S307=\"\",\"\",CHAR(10)&\"-\"&VLOOKUP(S307,EventConditionConfig!A:C,3,FALSE)))","v":""},{"$f":"IF(Y307=\"\",\"\",IF(ISTEXT(Y307),1,2))","v":""},{"$f":"IF(U307=1,_xlfn.TEXTJOIN(\";\",1,IF(Z307=\"\",A307+1,Z307),IF(AND(AA307<>\"\",AC307=\"\"),A307+1,AC307)),IF(U307=2,Y307,\"\"))","v":""},{"$f":"_xlfn.TEXTJOIN(\";\",1,X307,AA307)","v":""},"",null,null,"",{"$nulls":4},{"$f":"IF(ISNUMBER(Y307),2,IF(A308=\"\",IF(OR(AH307>0,VLOOKUP(O307,EventConfig!A:C,3,FALSE)=4),3,\"\"),1))","v":1},{"$f":"IF(AF307=\"\",\"\",CHOOSE(AF307,IF(AH307=\"\",A307+1,AH307),CONCATENATE(IF(AH307=\"\",A307+1,AH307),\";101\"),IF(AH307=\"\",O307+1,AH307)))","v":1002703},null,5347]
[{"$f":"O308*100+P308","v":1002703},5345,"穿越山雾","",{"$nulls":6},{"$f":"IF(J308=\"\",\"\",VLOOKUP(J308,EventNPC!A:E,5,FALSE))","v":""},5348,"远方隐约传来风吟露滴之声，仿佛仙乐。",null,10027,{"$f":"IF(O308=O307,P307+1,1)","v":3},{"$f":"_xlfn.TEXTJOIN(\";\",1,R308:S308)","v":""},null,null,{"$f":"IF(R308=\"\",\"\",\"-\"&VLOOKUP(R308,EventConditionConfig!A:C,3,FALSE)&IF(S308=\"\",\"\",CHAR(10)&\"-\"&VLOOKUP(S308,EventConditionConfig!A:C,3,FALSE)))","v":""},{"$f":"IF(Y308=\"\",\"\",IF(ISTEXT(Y308),1,2))","v":""},{"$f":"IF(U308=1,_xlfn.TEXTJOIN(\";\",1,IF(Z308=\"\",A308+1,Z308),IF(AND(AA308<>\"\",AC308=\"\"),A308+1,AC308)),IF(U308=2,Y308,\"\"))","v":""},{"$f":"_xlfn.TEXTJOIN(\";\",1,X308,AA308)","v":""},"",null,null,"",{"$nulls":4},{"$f":"IF(ISNUMBER(Y308),2,IF(A309=\"\",IF(OR(AH308>0,VLOOKUP(O308,EventConfig!A:C,3,FALSE)=4),3,\"\"),1))","v":1},{"$f":"IF(AF308=\"\",\"\",CHOOSE(AF308,IF(AH308=\"\",A308+1,AH308),CONCATENATE(IF(AH308=\"\",A308+1,AH308),\";101\"),IF(AH308=\"\",O308+1,AH308)))","v":1002704},null,5348]
[{"$f":"O309*100+P309","v":1002704},5345,"穿越山雾","",{"$nulls":6},{"$f":"IF(J309=\"\",\"\",VLOOKUP(J309,EventNPC!A:E,5,FALSE))","v":""},5349,"然而，雾中忽现幻影，阻挡去路——",null,10027,{"$f":"IF(O309=O308,P308+1,1)","v":4},{"$f":"_xlfn.TEXTJOIN(\";\",1,R309:S309)","v":""},null,null,{"$f":"IF(R309=\"\",\"\",\"-\"&VLOOKUP(R309,EventConditionConfig!A:C,3,FALSE)&IF(S309=\"\",\"\",CHAR(10)&\"-\"&VLOOKUP(S309,EventConditionConfig!A:C,3,FALSE)))","v":""},{"$f":"IF(Y309=\"\",\"\",IF(ISTEXT(Y309),1,2))","v":""},{"$f":"IF(U309=1,_xlfn.TEXTJOIN(\";\",1,IF(Z309=\"\",A309+1,Z309),IF(AND(AA309<>\"\",AC309=\"\"),A309+1,AC309)),IF(U309=2,Y309,\"\"))","v":""},{"$f":"_xlfn.TEXTJOIN(\";\",1,X309,AA309)","v":""},"",null,null,"",{"$nulls":4},{"$f":"IF(ISNUMBER(Y309),2,IF(A310=\"\",IF(OR(AH309>0,VLOOKUP(O309,EventConfig!A:C,3,FALSE)=4),3,\"\"),1))","v":1},{"$f":"IF(AF309=\"\",\"\",CHOOSE(AF309,IF(AH309=\"\",A309+1,AH309),CONCATENATE(IF(AH309=\"\",A309+1,AH309),\";101\"),IF(AH309=\"\",O309+1,AH309)))","v":1002705},null,5349]
[{"$f":"O310*100+P310","v":1002705},5345,"穿越山雾","",{"$nulls":5},100,{"$f":"IF(J310=\"\",\"\",VLOOKUP(J310,EventNPC!A:E,5,FALSE))","v":"玩家"},5350,"雾里怎么会出现这些？看来是阵法在捣鬼……\n前面那是什么..",null,10027,{"$f":"IF(O310=O309,P309+1,1)","v":5},{"$f":"_xlfn.TEXTJOIN(\";\",1,R310:S310)","v":""},null,null,{"$f":"IF(R310=\"\",\"\",\"-\"&VLOOKUP(R310,EventConditionConfig!A:C,3,FALSE)&IF(S310=\"\",\"\",CHAR(10)&\"-\"&VLOOKUP(S310,EventConditionConfig!A:C,3,FALSE)))","v":""},{"$f":"IF(Y310=\"\",\"\",IF(ISTEXT(Y310),1,2))","v":""},{"$f":"IF(U310=1,_xlfn.TEXTJOIN(\";\",1,IF(Z310=\"\",A310+1,Z310),IF(AND(AA310<>\"\",AC310=\"\"),A310+1,AC310)),IF(U310=2,Y310,\"\"))","v":""},{"$f":"_xlfn.TEXTJOIN(\";\",1,X310,AA310)","v":""},"",null,null,"",{"$nulls":4},{"$f":"IF(ISNUMBER(Y310),2,IF(A311=\"\",IF(OR(AH310>0,VLOOKUP(O310,EventConfig!A:C,3,FALSE)=4),3,\"\"),1))","v":1},{"$f":"IF(AF310=\"\",\"\",CHOOSE(AF310,IF(AH310=\"\",A310+1,AH310),CONCATENATE(IF(AH310=\"\",A310+1,AH310),\";101\"),IF(AH310=\"\",O310+1,AH310)))","v":1002706},null,5350]
[{"$f":"O311*100+P311","v":1002706},5351,"小麻雀的幻影","",{"$nulls":5},115,{"$f":"IF(J311=\"\",\"\",VLOOKUP(J311,EventNPC!A:E,5,FALSE))","v":"小麻雀幻影"},5352,"大傻鸟飞那么远，有什么用？像我这样，上蹿下跳就够了！",null,10027,{"$f":"IF(O311=O310,P310+1,1)","v":6},{"$f":"_xlfn.TEXTJOIN(\";\",1,R311:S311)","v":""},null,null,{"$f":"IF(R311=\"\",\"\",\"-\"&VLOOKUP(R311,EventConditionConfig!A:C,3,FALSE)&IF(S311=\"\",\"\",CHAR(10)&\"-\"&VLOOKUP(S311,EventConditionConfig!A:C,3,FALSE)))","v":""},{"$f":"IF(Y311=\"\",\"\",IF(ISTEXT(Y311),1,2))","v":1},{"$f":"IF(U311=1,_xlfn.TEXTJOIN(\";\",1,IF(Z311=\"\",A311+1,Z311),IF(AND(AA311<>\"\",AC311=\"\"),A311+1,AC311)),IF(U311=2,Y311,\"\"))","v":"1002707;1002711"},{"$f":"_xlfn.TEXTJOIN(\";\",1,X311,AA311)","v":"5353;5354"},5353,"你不懂鲲鹏的志向！",null,5354,"或许你说得对，但我要亲眼看看。",{"$f":"A316","v":1002711},null,null,{"$f":"IF(ISNUMBER(Y311),2,IF(A312=\"\",IF(OR(AH311>0,VLOOKUP(O311,EventConfig!A:C,3,FALSE)=4),3,\"\"),1))","v":1},{"$f":"IF(AF311=\"\",\"\",CHOOSE(AF311,IF(AH311=\"\",A311+1,AH311),CONCATENATE(IF(AH311=\"\",A311+1,AH311),\";101\"),IF(AH311=\"\",O311+1,AH311)))","v":1002707},null,5354]
[{"$f":"O312*100+P312","v":1002707},5351,"小麻雀的幻影","",{"$nulls":5},115,{"$f":"IF(J312=\"\",\"\",VLOOKUP(J312,EventNPC!A:E,5,FALSE))","v":"小麻雀幻影"},5355,"（歪头嘲笑）志向？那大鸟飞得再高，风一停还不是摔下来！你这傻瓜，也想学它？",null,10027,{"$f":"IF(O312=O311,P311+1,1)","v":7},{"$f":"_xlfn.TEXTJOIN(\";\",1,R312:S312)","v":""},null,null,{"$f":"IF(R312=\"\",\"\",\"-\"&VLOOKUP(R312,EventConditionConfig!A:C,3,FALSE)&IF(S312=\"\",\"\",CHAR(10)&\"-\"&VLOOKUP(S312,EventConditionConfig!A:C,3,FALSE)))","v":""},{"$f":"IF(Y312=\"\",\"\",IF(ISTEXT(Y312),1,2))","v":""},{"$f":"IF(U312=1,_xlfn.TEXTJOIN(\";\",1,IF(Z312=\"\",A312+1,Z312),IF(AND(AA312<>\"\",AC312=\"\"),A312+1,AC312)),IF(U312=2,Y312,\"\"))","v":""},{"$f":"_xlfn.TEXTJOIN(\";\",1,X312,AA312)","v":""},"",null,null,"",{"$nulls":4},{"$f":"IF(ISNUMBER(Y312),2,IF(A313=\"\",IF(OR(AH312>0,VLOOKUP(O312,EventConfig!A:C,3,FALSE)=4),3,\"\"),1))","v":1},{"$f":"IF(AF312=\"\",\"\",CHOOSE(AF312,IF(AH312=\"\",A312+1,AH312),CONCATENATE(IF(AH312=\"\",A312+1,AH312),\";101\"),IF(AH312=\"\",O312+1,AH312)))","v":1002708},null,5355]
[{"$f":"O313*100+P313","v":1002708},5351,"小麻雀的幻影","",{"$nulls":5},100,{"$f":"IF(J313=\"\",\"\",VLOOKUP(J313,EventNPC!A:E,5,FALSE))","v":"玩家"},5356,"鲲鹏的志向不是为了飞高，而是为了追寻心中的自由——你这小雀，永远不懂！",null,10027,{"$f":"IF(O313=O312,P312+1,1)","v":8},{"$f":"_xlfn.TEXTJOIN(\";\",1,R313:S313)","v":""},null,null,{"$f":"IF(R313=\"\",\"\",\"-\"&VLOOKUP(R313,EventConditionConfig!A:C,3,FALSE)&IF(S313=\"\",\"\",CHAR(10)&\"-\"&VLOOKUP(S313,EventConditionConfig!A:C,3,FALSE)))","v":""},{"$f":"IF(Y313=\"\",\"\",IF(ISTEXT(Y313),1,2))","v":""},{"$f":"IF(U313=1,_xlfn.TEXTJOIN(\";\",1,IF(Z313=\"\",A313+1,Z313),IF(AND(AA313<>\"\",AC313=\"\"),A313+1,AC313)),IF(U313=2,Y313,\"\"))","v":""},{"$f":"_xlfn.TEXTJOIN(\";\",1,X313,AA313)","v":""},"",null,null,"",{"$nulls":4},{"$f":"IF(ISNUMBER(Y313),2,IF(A314=\"\",IF(OR(AH313>0,VLOOKUP(O313,EventConfig!A:C,3,FALSE)=4),3,\"\"),1))","v":1},{"$f":"IF(AF313=\"\",\"\",CHOOSE(AF313,IF(AH313=\"\",A313+1,AH313),CONCATENATE(IF(AH313=\"\",A313+1,AH313),\";101\"),IF(AH313=\"\",O313+1,AH313)))","v":1002709},null,5356]
[1002709,5351,"小麻雀的幻影","",{"$nulls":5},115,{"$f":"IF(J314=\"\",\"\",VLOOKUP(J314,EventNPC!A:E,5,FALSE))","v":"小麻雀幻影"},5357,"到底是你不懂，还是我不懂？",null,10027,9,"",null,null,{"$f":"IF(R314=\"\",\"\",\"-\"&VLOOKUP(R314,EventConditionConfig!A:C,3,FALSE)&IF(S314=\"\",\"\",CHAR(10)&\"-\"&VLOOKUP(S314,EventConditionConfig!A:C,3,FALSE)))","v":""},"","","","",null,null,"",{"$nulls":4},{"$f":"IF(ISNUMBER(Y314),2,IF(A315=\"\",IF(OR(AH314>0,VLOOKUP(O314,EventConfig!A:C,3,FALSE)=4),3,\"\"),1))","v":1},1002710,null,5357]
[{"$f":"O315*100+P315","v":1002710},5351,"小麻雀的幻影","",{"$nulls":5},100,{"$f":"IF(J315=\"\",\"\",VLOOKUP(J315,EventNPC!A:E,5,FALSE))","v":"玩家"},5358,"........\n总之，我的路得自己走下去！",null,10027,{"$f":"IF(O315=O314,P314+1,1)","v":10},{"$f":"_xlfn.TEXTJOIN(\";\",1,R315:S315)","v":""},null,null,{"$f":"IF(R315=\"\",\"\",\"-\"&VLOOKUP(R315,EventConditionConfig!A:C,3,FALSE)&IF(S315=\"\",\"\",CHAR(10)&\"-\"&VLOOKUP(S315,EventConditionConfig!A:C,3,FALSE)))","v":""},{"$f":"IF(Y315=\"\",\"\",IF(ISTEXT(Y315),1,2))","v":""},{"$f":"IF(U315=1,_xlfn.TEXTJOIN(\";\",1,IF(Z315=\"\",A315+1,Z315),IF(AND(AA315<>\"\",AC315=\"\"),A315+1,AC315)),IF(U315=2,Y315,\"\"))","v":""},{"$f":"_xlfn.TEXTJOIN(\";\",1,X315,AA315)","v":""},"",null,null,"",{"$nulls":4},{"$f":"IF(ISNUMBER(Y315),2,IF(A316=\"\",IF(OR(AH315>0,VLOOKUP(O315,EventConfig!A:C,3,FALSE)=4),3,\"\"),1))","v":1},{"$f":"IF(AF315=\"\",\"\",CHOOSE(AF315,IF(AH315=\"\",A315+1,AH315),CONCATENATE(IF(AH315=\"\",A315+1,AH315),\";101\"),IF(AH315=\"\",O315+1,AH315)))","v":1002714},{"$f":"A319","v":1002714},5358]
[1002711,5351,"小麻雀的幻影","",{"$nulls":5},115,{"$f":"IF(J316=\"\",\"\",VLOOKUP(J316,EventNPC!A:E,5,FALSE))","v":"小麻雀幻影"},5359,"（扑腾翅膀开心）“哈哈，终于有人同意我了！那你干脆留下来，我陪你一起玩，何必四处奔波",null,10027,11,"",null,null,{"$f":"IF(R316=\"\",\"\",\"-\"&VLOOKUP(R316,EventConditionConfig!A:C,3,FALSE)&IF(S316=\"\",\"\",CHAR(10)&\"-\"&VLOOKUP(S316,EventConditionConfig!A:C,3,FALSE)))","v":""},"","","","",null,null,"",{"$nulls":4},{"$f":"IF(ISNUMBER(Y316),2,IF(A317=\"\",IF(OR(AH316>0,VLOOKUP(O316,EventConfig!A:C,3,FALSE)=4),3,\"\"),1))","v":1},1002712,null,5359]
[{"$f":"O317*100+P317","v":1002712},5351,"小麻雀的幻影","",{"$nulls":5},100,{"$f":"IF(J317=\"\",\"\",VLOOKUP(J317,EventNPC!A:E,5,FALSE))","v":"玩家"},5360,"你的说法有点道理，树上的自在倒也不错……",null,10027,{"$f":"IF(O317=O316,P316+1,1)","v":12},{"$f":"_xlfn.TEXTJOIN(\";\",1,R317:S317)","v":""},null,null,{"$f":"IF(R317=\"\",\"\",\"-\"&VLOOKUP(R317,EventConditionConfig!A:C,3,FALSE)&IF(S317=\"\",\"\",CHAR(10)&\"-\"&VLOOKUP(S317,EventConditionConfig!A:C,3,FALSE)))","v":""},{"$f":"IF(Y317=\"\",\"\",IF(ISTEXT(Y317),1,2))","v":""},{"$f":"IF(U317=1,_xlfn.TEXTJOIN(\";\",1,IF(Z317=\"\",A317+1,Z317),IF(AND(AA317<>\"\",AC317=\"\"),A317+1,AC317)),IF(U317=2,Y317,\"\"))","v":""},{"$f":"_xlfn.TEXTJOIN(\";\",1,X317,AA317)","v":""},"",null,null,"",{"$nulls":4},{"$f":"IF(ISNUMBER(Y317),2,IF(A318=\"\",IF(OR(AH317>0,VLOOKUP(O317,EventConfig!A:C,3,FALSE)=4),3,\"\"),1))","v":1},{"$f":"IF(AF317=\"\",\"\",CHOOSE(AF317,IF(AH317=\"\",A317+1,AH317),CONCATENATE(IF(AH317=\"\",A317+1,AH317),\";101\"),IF(AH317=\"\",O317+1,AH317)))","v":1002713},null,5360]
[{"$f":"O318*100+P318","v":1002713},5351,"小麻雀的幻影","",{"$nulls":5},100,{"$f":"IF(J318=\"\",\"\",VLOOKUP(J318,EventNPC!A:E,5,FALSE))","v":"玩家"},5361,"但我还是想亲眼去看看外面的天地，哪怕有点冒险也无妨！",null,10027,{"$f":"IF(O318=O317,P317+1,1)","v":13},{"$f":"_xlfn.TEXTJOIN(\";\",1,R318:S318)","v":""},null,null,{"$f":"IF(R318=\"\",\"\",\"-\"&VLOOKUP(R318,EventConditionConfig!A:C,3,FALSE)&IF(S318=\"\",\"\",CHAR(10)&\"-\"&VLOOKUP(S318,EventConditionConfig!A:C,3,FALSE)))","v":""},{"$f":"IF(Y318=\"\",\"\",IF(ISTEXT(Y318),1,2))","v":""},{"$f":"IF(U318=1,_xlfn.TEXTJOIN(\";\",1,IF(Z318=\"\",A318+1,Z318),IF(AND(AA318<>\"\",AC318=\"\"),A318+1,AC318)),IF(U318=2,Y318,\"\"))","v":""},{"$f":"_xlfn.TEXTJOIN(\";\",1,X318,AA318)","v":""},"",null,null,"",{"$nulls":4},{"$f":"IF(ISNUMBER(Y318),2,IF(A319=\"\",IF(OR(AH318>0,VLOOKUP(O318,EventConfig!A:C,3,FALSE)=4),3,\"\"),1))","v":1},{"$f":"IF(AF318=\"\",\"\",CHOOSE(AF318,IF(AH318=\"\",A318+1,AH318),CONCATENATE(IF(AH318=\"\",A318+1,AH318),\";101\"),IF(AH318=\"\",O318+1,AH318)))","v":1002714},null,5361]
[1002714,5351,"小麻雀的幻影","",{"$nulls":5},115,{"$f":"IF(J319=\"\",\"\",VLOOKUP(J319,EventNPC!A:E,5,FALSE))","v":"小麻雀幻影"},5362,"（翅膀扇起雾气）既然你这么顽固，那我就不客气了！",null,10027,14,"",null,null,{"$f":"IF(R319=\"\",\"\",\"-\"&VLOOKUP(R319,EventConditionConfig!A:C,3,FALSE)&IF(S319=\"\",\"\",CHAR(10)&\"-\"&VLOOKUP(S319,EventConditionConfig!A:C,3,FALSE)))","v":""},1,"1002715","5363",5363,"来吧，别再叽叽喳喳了！",null,"",{"$nulls":4},{"$f":"IF(ISNUMBER(Y319),2,IF(A320=\"\",IF(OR(AH319>0,VLOOKUP(O319,EventConfig!A:C,3,FALSE)=4),3,\"\"),1))","v":1},1002715,null,5363]
[{"$f":"O320*100+P320","v":1002715},5351,"小麻雀的幻影","",{"$nulls":6},{"$f":"IF(J320=\"\",\"\",VLOOKUP(J320,EventNPC!A:E,5,FALSE))","v":""},5364,"雾气凝聚，小麻雀幻影化作灵光扑来，战斗一触即发。",null,10027,{"$f":"IF(O320=O319,P319+1,1)","v":15},{"$f":"_xlfn.TEXTJOIN(\";\",1,R320:S320)","v":""},null,null,{"$f":"IF(R320=\"\",\"\",\"-\"&VLOOKUP(R320,EventConditionConfig!A:C,3,FALSE)&IF(S320=\"\",\"\",CHAR(10)&\"-\"&VLOOKUP(S320,EventConditionConfig!A:C,3,FALSE)))","v":""},{"$f":"IF(Y320=\"\",\"\",IF(ISTEXT(Y320),1,2))","v":2},{"$f":"IF(U320=1,_xlfn.TEXTJOIN(\";\",1,IF(Z320=\"\",A320+1,Z320),IF(AND(AA320<>\"\",AC320=\"\"),A320+1,AC320)),IF(U320=2,Y320,\"\"))","v":1010},{"$f":"_xlfn.TEXTJOIN(\";\",1,X320,AA320)","v":""},"",1010,null,"",{"$nulls":4},{"$f":"IF(ISNUMBER(Y320),2,IF(A321=\"\",IF(OR(AH320>0,VLOOKUP(O320,EventConfig!A:C,3,FALSE)=4),3,\"\"),1))","v":2},{"$f":"IF(AF320=\"\",\"\",CHOOSE(AF320,IF(AH320=\"\",A320+1,AH320),CONCATENATE(IF(AH320=\"\",A320+1,AH320),\";101\"),IF(AH320=\"\",O320+1,AH320)))","v":"1002716;101"},null,5364]
[{"$f":"O321*100+P321","v":1002716},5365,"痴道人的幻影","",{"$nulls":5},116,{"$f":"IF(J321=\"\",\"\",VLOOKUP(J321,EventNPC!A:E,5,FALSE))","v":"痴道人幻影"},5366,"苦修一生，却寸步难行……何不就此止步？外面的世界，不过镜花水月罢了",null,10027,{"$f":"IF(O321=O320,P320+1,1)","v":16},{"$f":"_xlfn.TEXTJOIN(\";\",1,R321:S321)","v":""},null,null,{"$f":"IF(R321=\"\",\"\",\"-\"&VLOOKUP(R321,EventConditionConfig!A:C,3,FALSE)&IF(S321=\"\",\"\",CHAR(10)&\"-\"&VLOOKUP(S321,EventConditionConfig!A:C,3,FALSE)))","v":""},{"$f":"IF(Y321=\"\",\"\",IF(ISTEXT(Y321),1,2))","v":1},{"$f":"IF(U321=1,_xlfn.TEXTJOIN(\";\",1,IF(Z321=\"\",A321+1,Z321),IF(AND(AA321<>\"\",AC321=\"\"),A321+1,AC321)),IF(U321=2,Y321,\"\"))","v":"1002717;1002719"},{"$f":"_xlfn.TEXTJOIN(\";\",1,X321,AA321)","v":"5367;5368"},5367,"停步等于自缚，前行才能解脱！",null,5368,"听你师兄说，真正的束缚来自内心，为何不放过自己？",{"$f":"A324","v":1002719},null,null,{"$f":"IF(ISNUMBER(Y321),2,IF(A322=\"\",IF(OR(AH321>0,VLOOKUP(O321,EventConfig!A:C,3,FALSE)=4),3,\"\"),1))","v":1},{"$f":"IF(AF321=\"\",\"\",CHOOSE(AF321,IF(AH321=\"\",A321+1,AH321),CONCATENATE(IF(AH321=\"\",A321+1,AH321),\";101\"),IF(AH321=\"\",O321+1,AH321)))","v":1002717},null,5368]
[1002717,5365,"痴道人的幻影","",{"$nulls":5},116,{"$f":"IF(J322=\"\",\"\",VLOOKUP(J322,EventNPC!A:E,5,FALSE))","v":"痴道人幻影"},5369,"（苦笑摇头）解脱？当年我也以为前行就能解脱，结果越走越累，越累越想停。你又怎知不会步我后尘？",null,10027,17,"",null,null,{"$f":"IF(R322=\"\",\"\",\"-\"&VLOOKUP(R322,EventConditionConfig!A:C,3,FALSE)&IF(S322=\"\",\"\",CHAR(10)&\"-\"&VLOOKUP(S322,EventConditionConfig!A:C,3,FALSE)))","v":""},"","","","",null,null,"",{"$nulls":4},{"$f":"IF(ISNUMBER(Y322),2,IF(A323=\"\",IF(OR(AH322>0,VLOOKUP(O322,EventConfig!A:C,3,FALSE)=4),3,\"\"),1))","v":1},1002718,null,5369]
[{"$f":"O323*100+P323","v":1002718},5365,"痴道人的幻影","",{"$nulls":5},100,{"$f":"IF(J323=\"\",\"\",VLOOKUP(J323,EventNPC!A:E,5,FALSE))","v":"玩家"},5370,"如果不走，怎么知道前方不是柳暗花明？\n停在这里，只会让心越来越沉重。",null,10027,{"$f":"IF(O323=O322,P322+1,1)","v":18},{"$f":"_xlfn.TEXTJOIN(\";\",1,R323:S323)","v":""},null,null,{"$f":"IF(R323=\"\",\"\",\"-\"&VLOOKUP(R323,EventConditionConfig!A:C,3,FALSE)&IF(S323=\"\",\"\",CHAR(10)&\"-\"&VLOOKUP(S323,EventConditionConfig!A:C,3,FALSE)))","v":""},{"$f":"IF(Y323=\"\",\"\",IF(ISTEXT(Y323),1,2))","v":""},{"$f":"IF(U323=1,_xlfn.TEXTJOIN(\";\",1,IF(Z323=\"\",A323+1,Z323),IF(AND(AA323<>\"\",AC323=\"\"),A323+1,AC323)),IF(U323=2,Y323,\"\"))","v":""},{"$f":"_xlfn.TEXTJOIN(\";\",1,X323,AA323)","v":""},"",null,null,"",{"$nulls":4},{"$f":"IF(ISNUMBER(Y323),2,IF(A324=\"\",IF(OR(AH323>0,VLOOKUP(O323,EventConfig!A:C,3,FALSE)=4),3,\"\"),1))","v":1},{"$f":"IF(AF323=\"\",\"\",CHOOSE(AF323,IF(AH323=\"\",A323+1,AH323),CONCATENATE(IF(AH323=\"\",A323+1,AH323),\";101\"),IF(AH323=\"\",O323+1,AH323)))","v":1002721},{"$f":"A326","v":1002721},5370]
[{"$f":"O324*100+P324","v":1002719},5365,"痴道人的幻影","",{"$nulls":5},116,{"$f":"IF(J324=\"\",\"\",VLOOKUP(J324,EventNPC!A:E,5,FALSE))","v":"痴道人幻影"},5371,"师兄总是这么说，可这风灵珠和浮岛，是我最后的依靠。\n离开它们，我就能找到出路？",null,10027,{"$f":"IF(O324=O323,P323+1,1)","v":19},{"$f":"_xlfn.TEXTJOIN(\";\",1,R324:S324)","v":""},null,null,{"$f":"IF(R324=\"\",\"\",\"-\"&VLOOKUP(R324,EventConditionConfig!A:C,3,FALSE)&IF(S324=\"\",\"\",CHAR(10)&\"-\"&VLOOKUP(S324,EventConditionConfig!A:C,3,FALSE)))","v":""},{"$f":"IF(Y324=\"\",\"\",IF(ISTEXT(Y324),1,2))","v":""},{"$f":"IF(U324=1,_xlfn.TEXTJOIN(\";\",1,IF(Z324=\"\",A324+1,Z324),IF(AND(AA324<>\"\",AC324=\"\"),A324+1,AC324)),IF(U324=2,Y324,\"\"))","v":""},{"$f":"_xlfn.TEXTJOIN(\";\",1,X324,AA324)","v":""},"",null,null,"",{"$nulls":4},{"$f":"IF(ISNUMBER(Y324),2,IF(A325=\"\",IF(OR(AH324>0,VLOOKUP(O324,EventConfig!A:C,3,FALSE)=4),3,\"\"),1))","v":1},{"$f":"IF(AF324=\"\",\"\",CHOOSE(AF324,IF(AH324=\"\",A324+1,AH324),CONCATENATE(IF(AH324=\"\",A324+1,AH324),\";101\"),IF(AH324=\"\",O324+1,AH324)))","v":1002720},null,5371]
[1002720,5365,"痴道人的幻影","",{"$nulls":5},100,{"$f":"IF(J325=\"\",\"\",VLOOKUP(J325,EventNPC!A:E,5,FALSE))","v":"玩家"},5372,"这些不过是外物，离开会让你更好——何不试着放下？",null,10027,20,"",null,null,{"$f":"IF(R325=\"\",\"\",\"-\"&VLOOKUP(R325,EventConditionConfig!A:C,3,FALSE)&IF(S325=\"\",\"\",CHAR(10)&\"-\"&VLOOKUP(S325,EventConditionConfig!A:C,3,FALSE)))","v":""},"","","","",null,null,"",{"$nulls":4},{"$f":"IF(ISNUMBER(Y325),2,IF(A326=\"\",IF(OR(AH325>0,VLOOKUP(O325,EventConfig!A:C,3,FALSE)=4),3,\"\"),1))","v":1},1002721,null,5372]
[{"$f":"O326*100+P326","v":1002721},{"$f":"IF(C326=\"\",\"\",IF(C326=C325,B325,MAX(AI325,AI324)+1))","v":5365},"痴道人的幻影",{"$f":"IF(E326=\"\",\"\",IF(E326=E325,D325,MAX(AI325,AI324,B326)+1))","v":""},{"$nulls":5},116,{"$f":"IF(J326=\"\",\"\",VLOOKUP(J326,EventNPC!A:E,5,FALSE))","v":"痴道人幻影"},{"$f":"IF(M326=\"\",\"\",MAX(AI325,AI324,B326,D326)+1)","v":5373},"（灵力涌动）一派胡言，试试我的风灵之力！",null,10027,{"$f":"IF(O326=O325,P325+1,1)","v":21},{"$f":"_xlfn.TEXTJOIN(\";\",1,R326:S326)","v":""},null,null,{"$f":"IF(R326=\"\",\"\",\"-\"&VLOOKUP(R326,EventConditionConfig!A:C,3,FALSE)&IF(S326=\"\",\"\",CHAR(10)&\"-\"&VLOOKUP(S326,EventConditionConfig!A:C,3,FALSE)))","v":""},{"$f":"IF(Y326=\"\",\"\",IF(ISTEXT(Y326),1,2))","v":2},{"$f":"IF(U326=1,_xlfn.TEXTJOIN(\";\",1,IF(Z326=\"\",A326+1,Z326),IF(AND(AA326<>\"\",AC326=\"\"),A326+1,AC326)),IF(U326=2,Y326,\"\"))","v":1011},{"$f":"_xlfn.TEXTJOIN(\";\",1,X326,AA326)","v":""},{"$f":"IF(OR(ISNUMBER(Y326),Y326=\"\"),\"\",MAX(AI325,AI324,B326,D326,L326)+1)","v":""},1011,null,{"$f":"IF(OR(ISNUMBER(AB326),AB326=\"\"),\"\",X326+1)","v":""},{"$nulls":4},{"$f":"IF(ISNUMBER(Y326),2,IF(A327=\"\",IF(OR(AH326>0,VLOOKUP(O326,EventConfig!A:C,3,FALSE)=4),3,\"\"),1))","v":2},{"$f":"IF(AF326=\"\",\"\",CHOOSE(AF326,IF(AH326=\"\",A326+1,AH326),CONCATENATE(IF(AH326=\"\",A326+1,AH326),\";101\"),IF(AH326=\"\",O326+1,AH326)))","v":"1002722;101"},null,{"$f":"IF(A326=\"\",\"\",MAX(B326,D326,L326,X326,AA326,AI325,AI324))","v":5373}]
[1002722,5374,"樗木之灵的幻影","",{"$nulls":5},117,{"$f":"IF(J327=\"\",\"\",VLOOKUP(J327,EventNPC!A:E,5,FALSE))","v":"樗木之灵幻影"},5375,"无用方能长存，你这忙碌之人，何不学我静立？",null,10027,22,"",null,null,{"$f":"IF(R327=\"\",\"\",\"-\"&VLOOKUP(R327,EventConditionConfig!A:C,3,FALSE)&IF(S327=\"\",\"\",CHAR(10)&\"-\"&VLOOKUP(S327,EventConditionConfig!A:C,3,FALSE)))","v":""},1,"1002723","5376",5376,"你有你的无用之道，但我有我的路。",null,"",{"$nulls":4},{"$f":"IF(ISNUMBER(Y327),2,IF(A328=\"\",IF(OR(AH327>0,VLOOKUP(O327,EventConfig!A:C,3,FALSE)=4),3,\"\"),1))","v":1},1002723,null,5376]
[{"$f":"O328*100+P328","v":1002723},5374,"樗木之灵的幻影","",{"$nulls":5},117,{"$f":"IF(J328=\"\",\"\",VLOOKUP(J328,EventNPC!A:E,5,FALSE))","v":"樗木之灵幻影"},5377,"（枝叶轻摇）你的路？忙忙碌碌，砍来伐去，到头来还不是尘土。",null,10027,{"$f":"IF(O328=O327,P327+1,1)","v":23},{"$f":"_xlfn.TEXTJOIN(\";\",1,R328:S328)","v":""},null,null,{"$f":"IF(R328=\"\",\"\",\"-\"&VLOOKUP(R328,EventConditionConfig!A:C,3,FALSE)&IF(S328=\"\",\"\",CHAR(10)&\"-\"&VLOOKUP(S328,EventConditionConfig!A:C,3,FALSE)))","v":""},{"$f":"IF(Y328=\"\",\"\",IF(ISTEXT(Y328),1,2))","v":""},{"$f":"IF(U328=1,_xlfn.TEXTJOIN(\";\",1,IF(Z328=\"\",A328+1,Z328),IF(AND(AA328<>\"\",AC328=\"\"),A328+1,AC328)),IF(U328=2,Y328,\"\"))","v":""},{"$f":"_xlfn.TEXTJOIN(\";\",1,X328,AA328)","v":""},"",null,null,"",{"$nulls":4},{"$f":"IF(ISNUMBER(Y328),2,IF(A329=\"\",IF(OR(AH328>0,VLOOKUP(O328,EventConfig!A:C,3,FALSE)=4),3,\"\"),1))","v":1},{"$f":"IF(AF328=\"\",\"\",CHOOSE(AF328,IF(AH328=\"\",A328+1,AH328),CONCATENATE(IF(AH328=\"\",A328+1,AH328),\";101\"),IF(AH328=\"\",O328+1,AH328)))","v":1002724},null,5377]
[{"$f":"O329*100+P329","v":1002724},5374,"樗木之灵的幻影","",{"$nulls":5},117,{"$f":"IF(J329=\"\",\"\",VLOOKUP(J329,EventNPC!A:E,5,FALSE))","v":"樗木之灵幻影"},5378,"像我这样无用，谁也不会动我。",null,10027,{"$f":"IF(O329=O328,P328+1,1)","v":24},{"$f":"_xlfn.TEXTJOIN(\";\",1,R329:S329)","v":""},null,null,{"$f":"IF(R329=\"\",\"\",\"-\"&VLOOKUP(R329,EventConditionConfig!A:C,3,FALSE)&IF(S329=\"\",\"\",CHAR(10)&\"-\"&VLOOKUP(S329,EventConditionConfig!A:C,3,FALSE)))","v":""},{"$f":"IF(Y329=\"\",\"\",IF(ISTEXT(Y329),1,2))","v":""},{"$f":"IF(U329=1,_xlfn.TEXTJOIN(\";\",1,IF(Z329=\"\",A329+1,Z329),IF(AND(AA329<>\"\",AC329=\"\"),A329+1,AC329)),IF(U329=2,Y329,\"\"))","v":""},{"$f":"_xlfn.TEXTJOIN(\";\",1,X329,AA329)","v":""},"",null,null,"",{"$nulls":4},{"$f":"IF(ISNUMBER(Y329),2,IF(A330=\"\",IF(OR(AH329>0,VLOOKUP(O329,EventConfig!A:C,3,FALSE)=4),3,\"\"),1))","v":1},{"$f":"IF(AF329=\"\",\"\",CHOOSE(AF329,IF(AH329=\"\",A329+1,AH329),CONCATENATE(IF(AH329=\"\",A329+1,AH329),\";101\"),IF(AH329=\"\",O329+1,AH329)))","v":1002725},null,5378]
[{"$f":"O330*100+P330","v":1002725},5374,"樗木之灵的幻影","",{"$nulls":5},100,{"$f":"IF(J330=\"\",\"\",VLOOKUP(J330,EventNPC!A:E,5,FALSE))","v":"玩家"},5379,"无用或许能长存，但千年不动，你又错过了多少风景？",null,10027,{"$f":"IF(O330=O329,P329+1,1)","v":25},{"$f":"_xlfn.TEXTJOIN(\";\",1,R330:S330)","v":""},null,null,{"$f":"IF(R330=\"\",\"\",\"-\"&VLOOKUP(R330,EventConditionConfig!A:C,3,FALSE)&IF(S330=\"\",\"\",CHAR(10)&\"-\"&VLOOKUP(S330,EventConditionConfig!A:C,3,FALSE)))","v":""},{"$f":"IF(Y330=\"\",\"\",IF(ISTEXT(Y330),1,2))","v":""},{"$f":"IF(U330=1,_xlfn.TEXTJOIN(\";\",1,IF(Z330=\"\",A330+1,Z330),IF(AND(AA330<>\"\",AC330=\"\"),A330+1,AC330)),IF(U330=2,Y330,\"\"))","v":""},{"$f":"_xlfn.TEXTJOIN(\";\",1,X330,AA330)","v":""},"",null,null,"",{"$nulls":4},{"$f":"IF(ISNUMBER(Y330),2,IF(A331=\"\",IF(OR(AH330>0,VLOOKUP(O330,EventConfig!A:C,3,FALSE)=4),3,\"\"),1))","v":1},{"$f":"IF(AF330=\"\",\"\",CHOOSE(AF330,IF(AH330=\"\",A330+1,AH330),CONCATENATE(IF(AH330=\"\",A330+1,AH330),\";101\"),IF(AH330=\"\",O330+1,AH330)))","v":1002726},null,5379]
[{"$f":"O331*100+P331","v":1002726},5374,"樗木之灵的幻影","",{"$nulls":5},117,{"$f":"IF(J331=\"\",\"\",VLOOKUP(J331,EventNPC!A:E,5,FALSE))","v":"樗木之灵幻影"},5380,"哈哈，我已活千年，经历山河变迁，见过的风景又岂能是你所能想象的。",null,10027,{"$f":"IF(O331=O330,P330+1,1)","v":26},{"$f":"_xlfn.TEXTJOIN(\";\",1,R331:S331)","v":""},null,null,{"$f":"IF(R331=\"\",\"\",\"-\"&VLOOKUP(R331,EventConditionConfig!A:C,3,FALSE)&IF(S331=\"\",\"\",CHAR(10)&\"-\"&VLOOKUP(S331,EventConditionConfig!A:C,3,FALSE)))","v":""},{"$f":"IF(Y331=\"\",\"\",IF(ISTEXT(Y331),1,2))","v":""},{"$f":"IF(U331=1,_xlfn.TEXTJOIN(\";\",1,IF(Z331=\"\",A331+1,Z331),IF(AND(AA331<>\"\",AC331=\"\"),A331+1,AC331)),IF(U331=2,Y331,\"\"))","v":""},{"$f":"_xlfn.TEXTJOIN(\";\",1,X331,AA331)","v":""},"",null,null,"",{"$nulls":4},{"$f":"IF(ISNUMBER(Y331),2,IF(A332=\"\",IF(OR(AH331>0,VLOOKUP(O331,EventConfig!A:C,3,FALSE)=4),3,\"\"),1))","v":1},{"$f":"IF(AF331=\"\",\"\",CHOOSE(AF331,IF(AH331=\"\",A331+1,AH331),CONCATENATE(IF(AH331=\"\",A331+1,AH331),\";101\"),IF(AH331=\"\",O331+1,AH331)))","v":1002727},null,5380]
[1002727,5374,"樗木之灵的幻影","",{"$nulls":5},100,{"$f":"IF(J332=\"\",\"\",VLOOKUP(J332,EventNPC!A:E,5,FALSE))","v":"玩家"},5381,"但我想去探索未知——就算短暂，也比千年不动更有趣！",null,10027,27,"",null,null,{"$f":"IF(R332=\"\",\"\",\"-\"&VLOOKUP(R332,EventConditionConfig!A:C,3,FALSE)&IF(S332=\"\",\"\",CHAR(10)&\"-\"&VLOOKUP(S332,EventConditionConfig!A:C,3,FALSE)))","v":""},"","","","",null,null,"",{"$nulls":4},{"$f":"IF(ISNUMBER(Y332),2,IF(A333=\"\",IF(OR(AH332>0,VLOOKUP(O332,EventConfig!A:C,3,FALSE)=4),3,\"\"),1))","v":1},1002728,null,5381]
[{"$f":"O333*100+P333","v":1002728},5374,"樗木之灵的幻影","",{"$nulls":5},117,{"$f":"IF(J333=\"\",\"\",VLOOKUP(J333,EventNPC!A:E,5,FALSE))","v":"樗木之灵幻影"},5382,"哎，你真是执迷不悟",null,10027,{"$f":"IF(O333=O332,P332+1,1)","v":28},{"$f":"_xlfn.TEXTJOIN(\";\",1,R333:S333)","v":""},null,null,{"$f":"IF(R333=\"\",\"\",\"-\"&VLOOKUP(R333,EventConditionConfig!A:C,3,FALSE)&IF(S333=\"\",\"\",CHAR(10)&\"-\"&VLOOKUP(S333,EventConditionConfig!A:C,3,FALSE)))","v":""},{"$f":"IF(Y333=\"\",\"\",IF(ISTEXT(Y333),1,2))","v":""},{"$f":"IF(U333=1,_xlfn.TEXTJOIN(\";\",1,IF(Z333=\"\",A333+1,Z333),IF(AND(AA333<>\"\",AC333=\"\"),A333+1,AC333)),IF(U333=2,Y333,\"\"))","v":""},{"$f":"_xlfn.TEXTJOIN(\";\",1,X333,AA333)","v":""},"",null,null,"",{"$nulls":4},{"$f":"IF(ISNUMBER(Y333),2,IF(A334=\"\",IF(OR(AH333>0,VLOOKUP(O333,EventConfig!A:C,3,FALSE)=4),3,\"\"),1))","v":1},{"$f":"IF(AF333=\"\",\"\",CHOOSE(AF333,IF(AH333=\"\",A333+1,AH333),CONCATENATE(IF(AH333=\"\",A333+1,AH333),\";101\"),IF(AH333=\"\",O333+1,AH333)))","v":1002729},null,5382]
[1002729,5374,"樗木之灵的幻影","",{"$nulls":5},100,{"$f":"IF(J334=\"\",\"\",VLOOKUP(J334,EventNPC!A:E,5,FALSE))","v":"玩家"},5383,"（这些幻影……定然是阵法在作祟。）\n看来不打败它们，就过不去这迷雾了。",null,10027,29,"",null,null,{"$f":"IF(R334=\"\",\"\",\"-\"&VLOOKUP(R334,EventConditionConfig!A:C,3,FALSE)&IF(S334=\"\",\"\",CHAR(10)&\"-\"&VLOOKUP(S334,EventConditionConfig!A:C,3,FALSE)))","v":""},2,1012,"","",1012,null,"",{"$nulls":4},{"$f":"IF(ISNUMBER(Y334),2,IF(A335=\"\",IF(OR(AH334>0,VLOOKUP(O334,EventConfig!A:C,3,FALSE)=4),3,\"\"),1))","v":2},"1002730;101",null,5383]
[1002730,5374,"樗木之灵的幻影","",{"$nulls":5},100,{"$f":"IF(J335=\"\",\"\",VLOOKUP(J335,EventNPC!A:E,5,FALSE))","v":"玩家"},5384,"雾散了……前方山路清晰了许多。",null,10027,30,"",null,null,{"$f":"IF(R335=\"\",\"\",\"-\"&VLOOKUP(R335,EventConditionConfig!A:C,3,FALSE)&IF(S335=\"\",\"\",CHAR(10)&\"-\"&VLOOKUP(S335,EventConditionConfig!A:C,3,FALSE)))","v":""},"","","","",null,null,"",{"$nulls":4},{"$f":"IF(ISNUMBER(Y335),2,IF(A336=\"\",IF(OR(AH335>0,VLOOKUP(O335,EventConfig!A:C,3,FALSE)=4),3,\"\"),1))","v":1},1002731,null,5384]
[{"$f":"O336*100+P336","v":1002731},5374,"樗木之灵的幻影","",{"$nulls":5},100,{"$f":"IF(J336=\"\",\"\",VLOOKUP(J336,EventNPC!A:E,5,FALSE))","v":"玩家"},5385,"小麻雀嘲笑远飞无用，只求树间的小乐；",null,10027,{"$f":"IF(O336=O335,P335+1,1)","v":31},{"$f":"_xlfn.TEXTJOIN(\";\",1,R336:S336)","v":""},null,null,{"$f":"IF(R336=\"\",\"\",\"-\"&VLOOKUP(R336,EventConditionConfig!A:C,3,FALSE)&IF(S336=\"\",\"\",CHAR(10)&\"-\"&VLOOKUP(S336,EventConditionConfig!A:C,3,FALSE)))","v":""},{"$f":"IF(Y336=\"\",\"\",IF(ISTEXT(Y336),1,2))","v":""},{"$f":"IF(U336=1,_xlfn.TEXTJOIN(\";\",1,IF(Z336=\"\",A336+1,Z336),IF(AND(AA336<>\"\",AC336=\"\"),A336+1,AC336)),IF(U336=2,Y336,\"\"))","v":""},{"$f":"_xlfn.TEXTJOIN(\";\",1,X336,AA336)","v":""},"",null,null,"",{"$nulls":4},{"$f":"IF(ISNUMBER(Y336),2,IF(A337=\"\",IF(OR(AH336>0,VLOOKUP(O336,EventConfig!A:C,3,FALSE)=4),3,\"\"),1))","v":1},{"$f":"IF(AF336=\"\",\"\",CHOOSE(AF336,IF(AH336=\"\",A336+1,AH336),CONCATENATE(IF(AH336=\"\",A336+1,AH336),\";101\"),IF(AH336=\"\",O336+1,AH336)))","v":1002732},null,5385]
[{"$f":"O337*100+P337","v":1002732},5374,"樗木之灵的幻影","",{"$nulls":5},100,{"$f":"IF(J337=\"\",\"\",VLOOKUP(J337,EventNPC!A:E,5,FALSE))","v":"玩家"},5386,"疯道人叹息苦修难进，劝我守住当下；",null,10027,{"$f":"IF(O337=O336,P336+1,1)","v":32},{"$f":"_xlfn.TEXTJOIN(\";\",1,R337:S337)","v":""},null,null,{"$f":"IF(R337=\"\",\"\",\"-\"&VLOOKUP(R337,EventConditionConfig!A:C,3,FALSE)&IF(S337=\"\",\"\",CHAR(10)&\"-\"&VLOOKUP(S337,EventConditionConfig!A:C,3,FALSE)))","v":""},{"$f":"IF(Y337=\"\",\"\",IF(ISTEXT(Y337),1,2))","v":""},{"$f":"IF(U337=1,_xlfn.TEXTJOIN(\";\",1,IF(Z337=\"\",A337+1,Z337),IF(AND(AA337<>\"\",AC337=\"\"),A337+1,AC337)),IF(U337=2,Y337,\"\"))","v":""},{"$f":"_xlfn.TEXTJOIN(\";\",1,X337,AA337)","v":""},"",null,null,"",{"$nulls":4},{"$f":"IF(ISNUMBER(Y337),2,IF(A338=\"\",IF(OR(AH337>0,VLOOKUP(O337,EventConfig!A:C,3,FALSE)=4),3,\"\"),1))","v":1},{"$f":"IF(AF337=\"\",\"\",CHOOSE(AF337,IF(AH337=\"\",A337+1,AH337),CONCATENATE(IF(AH337=\"\",A337+1,AH337),\";101\"),IF(AH337=\"\",O337+1,AH337)))","v":1002733},null,5386]
[{"$f":"O338*100+P338","v":1002733},5374,"樗木之灵的幻影","",{"$nulls":5},100,{"$f":"IF(J338=\"\",\"\",VLOOKUP(J338,EventNPC!A:E,5,FALSE))","v":"玩家"},5387,"樗木之灵诉说无用才能长存，忙碌总归尘土。",null,10027,{"$f":"IF(O338=O337,P337+1,1)","v":33},{"$f":"_xlfn.TEXTJOIN(\";\",1,R338:S338)","v":""},null,null,{"$f":"IF(R338=\"\",\"\",\"-\"&VLOOKUP(R338,EventConditionConfig!A:C,3,FALSE)&IF(S338=\"\",\"\",CHAR(10)&\"-\"&VLOOKUP(S338,EventConditionConfig!A:C,3,FALSE)))","v":""},{"$f":"IF(Y338=\"\",\"\",IF(ISTEXT(Y338),1,2))","v":""},{"$f":"IF(U338=1,_xlfn.TEXTJOIN(\";\",1,IF(Z338=\"\",A338+1,Z338),IF(AND(AA338<>\"\",AC338=\"\"),A338+1,AC338)),IF(U338=2,Y338,\"\"))","v":""},{"$f":"_xlfn.TEXTJOIN(\";\",1,X338,AA338)","v":""},"",null,null,"",{"$nulls":4},{"$f":"IF(ISNUMBER(Y338),2,IF(A339=\"\",IF(OR(AH338>0,VLOOKUP(O338,EventConfig!A:C,3,FALSE)=4),3,\"\"),1))","v":1},{"$f":"IF(AF338=\"\",\"\",CHOOSE(AF338,IF(AH338=\"\",A338+1,AH338),CONCATENATE(IF(AH338=\"\",A338+1,AH338),\";101\"),IF(AH338=\"\",O338+1,AH338)))","v":1002734},null,5387]
[{"$f":"O339*100+P339","v":1002734},5374,"樗木之灵的幻影","",{"$nulls":5},100,{"$f":"IF(J339=\"\",\"\",VLOOKUP(J339,EventNPC!A:E,5,FALSE))","v":"玩家"},5388,"听着都有些道理，却又说不清哪里不对，令我心神不宁！!",null,10027,{"$f":"IF(O339=O338,P338+1,1)","v":34},{"$f":"_xlfn.TEXTJOIN(\";\",1,R339:S339)","v":""},null,null,{"$f":"IF(R339=\"\",\"\",\"-\"&VLOOKUP(R339,EventConditionConfig!A:C,3,FALSE)&IF(S339=\"\",\"\",CHAR(10)&\"-\"&VLOOKUP(S339,EventConditionConfig!A:C,3,FALSE)))","v":""},{"$f":"IF(Y339=\"\",\"\",IF(ISTEXT(Y339),1,2))","v":""},{"$f":"IF(U339=1,_xlfn.TEXTJOIN(\";\",1,IF(Z339=\"\",A339+1,Z339),IF(AND(AA339<>\"\",AC339=\"\"),A339+1,AC339)),IF(U339=2,Y339,\"\"))","v":""},{"$f":"_xlfn.TEXTJOIN(\";\",1,X339,AA339)","v":""},"",null,null,"",{"$nulls":4},{"$f":"IF(ISNUMBER(Y339),2,IF(A340=\"\",IF(OR(AH339>0,VLOOKUP(O339,EventConfig!A:C,3,FALSE)=4),3,\"\"),1))","v":1},{"$f":"IF(AF339=\"\",\"\",CHOOSE(AF339,IF(AH339=\"\",A339+1,AH339),CONCATENATE(IF(AH339=\"\",A339+1,AH339),\";101\"),IF(AH339=\"\",O339+1,AH339)))","v":1002735},null,5388]
[{"$f":"O340*100+P340","v":1002735},5374,"樗木之灵的幻影","",{"$nulls":5},100,{"$f":"IF(J340=\"\",\"\",VLOOKUP(J340,EventNPC!A:E,5,FALSE))","v":"玩家"},5389,"我的修仙之路，到底在何方啊？",null,10027,{"$f":"IF(O340=O339,P339+1,1)","v":35},{"$f":"_xlfn.TEXTJOIN(\";\",1,R340:S340)","v":""},null,null,{"$f":"IF(R340=\"\",\"\",\"-\"&VLOOKUP(R340,EventConditionConfig!A:C,3,FALSE)&IF(S340=\"\",\"\",CHAR(10)&\"-\"&VLOOKUP(S340,EventConditionConfig!A:C,3,FALSE)))","v":""},{"$f":"IF(Y340=\"\",\"\",IF(ISTEXT(Y340),1,2))","v":""},{"$f":"IF(U340=1,_xlfn.TEXTJOIN(\";\",1,IF(Z340=\"\",A340+1,Z340),IF(AND(AA340<>\"\",AC340=\"\"),A340+1,AC340)),IF(U340=2,Y340,\"\"))","v":""},{"$f":"_xlfn.TEXTJOIN(\";\",1,X340,AA340)","v":""},"",null,null,"",{"$nulls":4},{"$f":"IF(ISNUMBER(Y340),2,IF(A341=\"\",IF(OR(AH340>0,VLOOKUP(O340,EventConfig!A:C,3,FALSE)=4),3,\"\"),1))","v":1},{"$f":"IF(AF340=\"\",\"\",CHOOSE(AF340,IF(AH340=\"\",A340+1,AH340),CONCATENATE(IF(AH340=\"\",A340+1,AH340),\";101\"),IF(AH340=\"\",O340+1,AH340)))","v":1002736},null,5389]
[1002736,5374,"樗木之灵的幻影","",{"$nulls":6},{"$f":"IF(J341=\"\",\"\",VLOOKUP(J341,EventNPC!A:E,5,FALSE))","v":""},"",null,null,10027,36,"32",32,null,{"$f":"IF(R341=\"\",\"\",\"-\"&VLOOKUP(R341,EventConditionConfig!A:C,3,FALSE)&IF(S341=\"\",\"\",CHAR(10)&\"-\"&VLOOKUP(S341,EventConditionConfig!A:C,3,FALSE)))","v":"-达到境界：化神-前期"},{"$f":"IF(Y341=\"\",\"\",1)","v":""},{"$f":"IF(U341=1,A381,\"\")","v":""},"","",null,null,"",{"$nulls":4},{"$f":"IF(ISNUMBER(Y341),2,IF(A342=\"\",IF(OR(AH341>0,VLOOKUP(O341,EventConfig!A:C,3,FALSE)=4),3,\"\"),1))","v":3},10028,null,5389]
[null,"",null,"",{"$nulls":7},"",{"$nulls":11},"",null,null,"",{"$nulls":7},""]
[{"$f":"O343*100+P343","v":1002801},5390,"神识探索的奥秘","",{"$nulls":6},{"$f":"IF(J343=\"\",\"\",VLOOKUP(J343,EventNPC!A:E,5,FALSE))","v":""},"",null,null,{"$f":"IF(O342=\"\",O340+1,O342)","v":10028},{"$f":"IF(O343=O342,P342+1,1)","v":1},{"$f":"_xlfn.TEXTJOIN(\";\",1,R343:S343)","v":"27"},27,null,{"$f":"IF(R343=\"\",\"\",\"-\"&VLOOKUP(R343,EventConditionConfig!A:C,3,FALSE)&IF(S343=\"\",\"\",CHAR(10)&\"-\"&VLOOKUP(S343,EventConditionConfig!A:C,3,FALSE)))","v":"-收集并饮用甘露"},{"$f":"IF(Y343=\"\",\"\",IF(ISTEXT(Y343),1,2))","v":""},{"$f":"IF(U343=1,_xlfn.TEXTJOIN(\";\",1,IF(Z343=\"\",A343+1,Z343),IF(AND(AA343<>\"\",AC343=\"\"),A343+1,AC343)),IF(U343=2,Y343,\"\"))","v":""},{"$f":"_xlfn.TEXTJOIN(\";\",1,X343,AA343)","v":""},"",null,null,"",null,null,1003,-1000,{"$f":"IF(ISNUMBER(Y343),2,IF(A344=\"\",IF(OR(AH343>0,VLOOKUP(O343,EventConfig!A:C,3,FALSE)=4),3,\"\"),1))","v":3},{"$f":"IF(AF343=\"\",\"\",CHOOSE(AF343,IF(AH343=\"\",A343+1,AH343),CONCATENATE(IF(AH343=\"\",A343+1,AH343),\";101\"),IF(AH343=\"\",O343+1,AH343)))","v":10029},null,5390]
[null,"",null,"",{"$nulls":7},"",{"$nulls":11},"",null,null,"",{"$nulls":7},""]
[{"$f":"O345*100+P345","v":1002901},5391,"与神仙对话","",{"$nulls":6},{"$f":"IF(J345=\"\",\"\",VLOOKUP(J345,EventNPC!A:E,5,FALSE))","v":""},5392,"你终于登顶藐姑射山。",null,10029,{"$f":"IF(O345=O344,P344+1,1)","v":1},{"$f":"_xlfn.TEXTJOIN(\";\",1,R345:S345)","v":""},null,null,{"$f":"IF(R345=\"\",\"\",\"-\"&VLOOKUP(R345,EventConditionConfig!A:C,3,FALSE)&IF(S345=\"\",\"\",CHAR(10)&\"-\"&VLOOKUP(S345,EventConditionConfig!A:C,3,FALSE)))","v":""},{"$f":"IF(Y345=\"\",\"\",IF(ISTEXT(Y345),1,2))","v":""},{"$f":"IF(U345=1,_xlfn.TEXTJOIN(\";\",1,IF(Z345=\"\",A345+1,Z345),IF(AND(AA345<>\"\",AC345=\"\"),A345+1,AC345)),IF(U345=2,Y345,\"\"))","v":""},{"$f":"_xlfn.TEXTJOIN(\";\",1,X345,AA345)","v":""},"",null,null,"",{"$nulls":4},{"$f":"IF(ISNUMBER(Y345),2,IF(A346=\"\",IF(OR(AH345>0,VLOOKUP(O345,EventConfig!A:C,3,FALSE)=4),3,\"\"),1))","v":1},{"$f":"IF(AF345=\"\",\"\",CHOOSE(AF345,IF(AH345=\"\",A345+1,AH345),CONCATENATE(IF(AH345=\"\",A345+1,AH345),\";101\"),IF(AH345=\"\",O345+1,AH345)))","v":1002902},null,5392]
[{"$f":"O346*100+P346","v":1002902},5391,"与神仙对话","",{"$nulls":6},{"$f":"IF(J346=\"\",\"\",VLOOKUP(J346,EventNPC!A:E,5,FALSE))","v":""},5393,"峰顶云海翻涌，一位神人独立于虚空：皮肤如冰雪，体态柔美，乘云气，御飞龙，周身无尘世之气。",null,10029,{"$f":"IF(O346=O345,P345+1,1)","v":2},{"$f":"_xlfn.TEXTJOIN(\";\",1,R346:S346)","v":""},null,null,{"$f":"IF(R346=\"\",\"\",\"-\"&VLOOKUP(R346,EventConditionConfig!A:C,3,FALSE)&IF(S346=\"\",\"\",CHAR(10)&\"-\"&VLOOKUP(S346,EventConditionConfig!A:C,3,FALSE)))","v":""},{"$f":"IF(Y346=\"\",\"\",IF(ISTEXT(Y346),1,2))","v":""},{"$f":"IF(U346=1,_xlfn.TEXTJOIN(\";\",1,IF(Z346=\"\",A346+1,Z346),IF(AND(AA346<>\"\",AC346=\"\"),A346+1,AC346)),IF(U346=2,Y346,\"\"))","v":""},{"$f":"_xlfn.TEXTJOIN(\";\",1,X346,AA346)","v":""},"",null,null,"",{"$nulls":4},{"$f":"IF(ISNUMBER(Y346),2,IF(A347=\"\",IF(OR(AH346>0,VLOOKUP(O346,EventConfig!A:C,3,FALSE)=4),3,\"\"),1))","v":1},{"$f":"IF(AF346=\"\",\"\",CHOOSE(AF346,IF(AH346=\"\",A346+1,AH346),CONCATENATE(IF(AH346=\"\",A346+1,AH346),\";101\"),IF(AH346=\"\",O346+1,AH346)))","v":1002903},null,5393]
[{"$f":"O347*100+P347","v":1002903},5391,"与神仙对话","",{"$nulls":6},{"$f":"IF(J347=\"\",\"\",VLOOKUP(J347,EventNPC!A:E,5,FALSE))","v":""},5394,"她不言不语，却似洞察万物。与尧帝描述相同，你在她面前，自觉渺小。",null,10029,{"$f":"IF(O347=O346,P346+1,1)","v":3},{"$f":"_xlfn.TEXTJOIN(\";\",1,R347:S347)","v":""},null,null,{"$f":"IF(R347=\"\",\"\",\"-\"&VLOOKUP(R347,EventConditionConfig!A:C,3,FALSE)&IF(S347=\"\",\"\",CHAR(10)&\"-\"&VLOOKUP(S347,EventConditionConfig!A:C,3,FALSE)))","v":""},{"$f":"IF(Y347=\"\",\"\",IF(ISTEXT(Y347),1,2))","v":""},{"$f":"IF(U347=1,_xlfn.TEXTJOIN(\";\",1,IF(Z347=\"\",A347+1,Z347),IF(AND(AA347<>\"\",AC347=\"\"),A347+1,AC347)),IF(U347=2,Y347,\"\"))","v":""},{"$f":"_xlfn.TEXTJOIN(\";\",1,X347,AA347)","v":""},"",null,null,"",{"$nulls":4},{"$f":"IF(ISNUMBER(Y347),2,IF(A348=\"\",IF(OR(AH347>0,VLOOKUP(O347,EventConfig!A:C,3,FALSE)=4),3,\"\"),1))","v":1},1002904,null,5394]
[{"$f":"O348*100+P348","v":1002904},5391,"与神仙对话","",{"$nulls":5},100,{"$f":"IF(J348=\"\",\"\",VLOOKUP(J348,EventNPC!A:E,5,FALSE))","v":"玩家"},5395,"晚辈游历至此，求见神人，望赐教“逍遥”之道。",null,10029,{"$f":"IF(O348=O347,P347+1,1)","v":4},{"$f":"_xlfn.TEXTJOIN(\";\",1,R348:S348)","v":""},null,null,{"$f":"IF(R348=\"\",\"\",\"-\"&VLOOKUP(R348,EventConditionConfig!A:C,3,FALSE)&IF(S348=\"\",\"\",CHAR(10)&\"-\"&VLOOKUP(S348,EventConditionConfig!A:C,3,FALSE)))","v":""},{"$f":"IF(Y348=\"\",\"\",IF(ISTEXT(Y348),1,2))","v":""},{"$f":"IF(U348=1,_xlfn.TEXTJOIN(\";\",1,IF(Z348=\"\",A348+1,Z348),IF(AND(AA348<>\"\",AC348=\"\"),A348+1,AC348)),IF(U348=2,Y348,\"\"))","v":""},{"$f":"_xlfn.TEXTJOIN(\";\",1,X348,AA348)","v":""},"",null,null,"",{"$nulls":4},{"$f":"IF(ISNUMBER(Y348),2,IF(A349=\"\",IF(OR(AH348>0,VLOOKUP(O348,EventConfig!A:C,3,FALSE)=4),3,\"\"),1))","v":1},{"$f":"IF(AF348=\"\",\"\",CHOOSE(AF348,IF(AH348=\"\",A348+1,AH348),CONCATENATE(IF(AH348=\"\",A348+1,AH348),\";101\"),IF(AH348=\"\",O348+1,AH348)))","v":1002905},null,5395]
[{"$f":"O349*100+P349","v":1002905},5391,"与神仙对话","",{"$nulls":5},100,{"$f":"IF(J349=\"\",\"\",VLOOKUP(J349,EventNPC!A:E,5,FALSE))","v":"玩家"},5396,"冲虚真人指引我寻七道心境，此山可是其中一处？",null,10029,{"$f":"IF(O349=O348,P348+1,1)","v":5},{"$f":"_xlfn.TEXTJOIN(\";\",1,R349:S349)","v":""},null,null,{"$f":"IF(R349=\"\",\"\",\"-\"&VLOOKUP(R349,EventConditionConfig!A:C,3,FALSE)&IF(S349=\"\",\"\",CHAR(10)&\"-\"&VLOOKUP(S349,EventConditionConfig!A:C,3,FALSE)))","v":""},{"$f":"IF(Y349=\"\",\"\",IF(ISTEXT(Y349),1,2))","v":""},{"$f":"IF(U349=1,_xlfn.TEXTJOIN(\";\",1,IF(Z349=\"\",A349+1,Z349),IF(AND(AA349<>\"\",AC349=\"\"),A349+1,AC349)),IF(U349=2,Y349,\"\"))","v":""},{"$f":"_xlfn.TEXTJOIN(\";\",1,X349,AA349)","v":""},"",null,null,"",{"$nulls":4},{"$f":"IF(ISNUMBER(Y349),2,IF(A350=\"\",IF(OR(AH349>0,VLOOKUP(O349,EventConfig!A:C,3,FALSE)=4),3,\"\"),1))","v":1},1002906,null,5396]
[{"$f":"O350*100+P350","v":1002906},5391,"与神仙对话","",{"$nulls":5},118,{"$f":"IF(J350=\"\",\"\",VLOOKUP(J350,EventNPC!A:E,5,FALSE))","v":"神人"},5397,"（声音如风过林）“逍遥？何为逍遥？”",null,10029,{"$f":"IF(O350=O349,P349+1,1)","v":6},{"$f":"_xlfn.TEXTJOIN(\";\",1,R350:S350)","v":""},null,null,{"$f":"IF(R350=\"\",\"\",\"-\"&VLOOKUP(R350,EventConditionConfig!A:C,3,FALSE)&IF(S350=\"\",\"\",CHAR(10)&\"-\"&VLOOKUP(S350,EventConditionConfig!A:C,3,FALSE)))","v":""},{"$f":"IF(Y350=\"\",\"\",IF(ISTEXT(Y350),1,2))","v":1},{"$f":"IF(U350=1,_xlfn.TEXTJOIN(\";\",1,IF(Z350=\"\",A350+1,Z350),IF(AND(AA350<>\"\",AC350=\"\"),A350+1,AC350)),IF(U350=2,Y350,\"\"))","v":"1002907;1002908"},{"$f":"_xlfn.TEXTJOIN(\";\",1,X350,AA350)","v":"5398;5399"},5398,"如鲲鹏般鹏飞九万里。",{"$f":"A351","v":1002907},5399,"如许由般放下天下，隐于山林。",{"$f":"A352","v":1002908},null,null,{"$f":"IF(ISNUMBER(Y350),2,IF(A351=\"\",IF(OR(AH350>0,VLOOKUP(O350,EventConfig!A:C,3,FALSE)=4),3,\"\"),1))","v":1},1002907,null,5399]
[{"$f":"O351*100+P351","v":1002907},5391,"与神仙对话","",{"$nulls":5},118,{"$f":"IF(J351=\"\",\"\",VLOOKUP(J351,EventNPC!A:E,5,FALSE))","v":"神人"},5400,"鲲鹏待风方起，才能飞九万里。",null,10029,{"$f":"IF(O351=O350,P350+1,1)","v":7},{"$f":"_xlfn.TEXTJOIN(\";\",1,R351:S351)","v":""},null,null,{"$f":"IF(R351=\"\",\"\",\"-\"&VLOOKUP(R351,EventConditionConfig!A:C,3,FALSE)&IF(S351=\"\",\"\",CHAR(10)&\"-\"&VLOOKUP(S351,EventConditionConfig!A:C,3,FALSE)))","v":""},{"$f":"IF(Y351=\"\",\"\",IF(ISTEXT(Y351),1,2))","v":1},{"$f":"IF(U351=1,_xlfn.TEXTJOIN(\";\",1,IF(Z351=\"\",A351+1,Z351),IF(AND(AA351<>\"\",AC351=\"\"),A351+1,AC351)),IF(U351=2,Y351,\"\"))","v":"1002909;1002910"},{"$f":"_xlfn.TEXTJOIN(\";\",1,X351,AA351)","v":"5401;5402"},5401,"如樗木般无用，长存千年。",{"$f":"A353","v":1002909},5402,"如麻雀般，知足常乐",{"$f":"A354","v":1002910},null,null,{"$f":"IF(ISNUMBER(Y351),2,IF(A352=\"\",IF(OR(AH351>0,VLOOKUP(O351,EventConfig!A:C,3,FALSE)=4),3,\"\"),1))","v":1},1002908,null,5402]
[{"$f":"O352*100+P352","v":1002908},5391,"与神仙对话","",{"$nulls":5},118,{"$f":"IF(J352=\"\",\"\",VLOOKUP(J352,EventNPC!A:E,5,FALSE))","v":"神人"},5403,"许由避世却仍有心扰。",null,10029,{"$f":"IF(O352=O351,P351+1,1)","v":8},{"$f":"_xlfn.TEXTJOIN(\";\",1,R352:S352)","v":""},null,null,{"$f":"IF(R352=\"\",\"\",\"-\"&VLOOKUP(R352,EventConditionConfig!A:C,3,FALSE)&IF(S352=\"\",\"\",CHAR(10)&\"-\"&VLOOKUP(S352,EventConditionConfig!A:C,3,FALSE)))","v":""},{"$f":"IF(Y352=\"\",\"\",IF(ISTEXT(Y352),1,2))","v":1},{"$f":"IF(U352=1,_xlfn.TEXTJOIN(\";\",1,IF(Z352=\"\",A352+1,Z352),IF(AND(AA352<>\"\",AC352=\"\"),A352+1,AC352)),IF(U352=2,Y352,\"\"))","v":"1002909;1002910"},{"$f":"_xlfn.TEXTJOIN(\";\",1,X352,AA352)","v":"5404;5405"},5404,"如樗木般无用，长存千年。",{"$f":"A353","v":1002909},5405,"如麻雀般，知足常乐",{"$f":"A354","v":1002910},null,null,{"$f":"IF(ISNUMBER(Y352),2,IF(A353=\"\",IF(OR(AH352>0,VLOOKUP(O352,EventConfig!A:C,3,FALSE)=4),3,\"\"),1))","v":1},1002909,null,5405]
[{"$f":"O353*100+P353","v":1002909},5391,"与神仙对话","",{"$nulls":5},118,{"$f":"IF(J353=\"\",\"\",VLOOKUP(J353,EventNPC!A:E,5,FALSE))","v":"神人"},5406,"樗木不动岂知四海？",null,10029,{"$f":"IF(O353=O352,P352+1,1)","v":9},{"$f":"_xlfn.TEXTJOIN(\";\",1,R353:S353)","v":""},null,null,{"$f":"IF(R353=\"\",\"\",\"-\"&VLOOKUP(R353,EventConditionConfig!A:C,3,FALSE)&IF(S353=\"\",\"\",CHAR(10)&\"-\"&VLOOKUP(S353,EventConditionConfig!A:C,3,FALSE)))","v":""},{"$f":"IF(Y353=\"\",\"\",IF(ISTEXT(Y353),1,2))","v":""},{"$f":"IF(U353=1,_xlfn.TEXTJOIN(\";\",1,IF(Z353=\"\",A353+1,Z353),IF(AND(AA353<>\"\",AC353=\"\"),A353+1,AC353)),IF(U353=2,Y353,\"\"))","v":""},{"$f":"_xlfn.TEXTJOIN(\";\",1,X353,AA353)","v":""},"",null,null,"",{"$nulls":4},{"$f":"IF(ISNUMBER(Y353),2,IF(A354=\"\",IF(OR(AH353>0,VLOOKUP(O353,EventConfig!A:C,3,FALSE)=4),3,\"\"),1))","v":1},1002911,{"$f":"A355","v":1002911},5406]
[{"$f":"O354*100+P354","v":1002910},5391,"与神仙对话","",{"$nulls":5},118,{"$f":"IF(J354=\"\",\"\",VLOOKUP(J354,EventNPC!A:E,5,FALSE))","v":"神人"},5407,"麻雀虽长乐，却嘲笑大鹏。",null,10029,{"$f":"IF(O354=O353,P353+1,1)","v":10},{"$f":"_xlfn.TEXTJOIN(\";\",1,R354:S354)","v":""},null,null,{"$f":"IF(R354=\"\",\"\",\"-\"&VLOOKUP(R354,EventConditionConfig!A:C,3,FALSE)&IF(S354=\"\",\"\",CHAR(10)&\"-\"&VLOOKUP(S354,EventConditionConfig!A:C,3,FALSE)))","v":""},{"$f":"IF(Y354=\"\",\"\",IF(ISTEXT(Y354),1,2))","v":""},{"$f":"IF(U354=1,_xlfn.TEXTJOIN(\";\",1,IF(Z354=\"\",A354+1,Z354),IF(AND(AA354<>\"\",AC354=\"\"),A354+1,AC354)),IF(U354=2,Y354,\"\"))","v":""},{"$f":"_xlfn.TEXTJOIN(\";\",1,X354,AA354)","v":""},"",null,null,"",{"$nulls":4},{"$f":"IF(ISNUMBER(Y354),2,IF(A355=\"\",IF(OR(AH354>0,VLOOKUP(O354,EventConfig!A:C,3,FALSE)=4),3,\"\"),1))","v":1},1002911,{"$f":"A355","v":1002911},5407]
[{"$f":"O355*100+P355","v":1002911},5391,"与神仙对话","",{"$nulls":5},100,{"$f":"IF(J355=\"\",\"\",VLOOKUP(J355,EventNPC!A:E,5,FALSE))","v":"玩家"},5408,"（苦笑）请恕晚辈愚钝，无法理解何为逍遥，只觉心烦意乱。",null,10029,{"$f":"IF(O355=O354,P354+1,1)","v":11},{"$f":"_xlfn.TEXTJOIN(\";\",1,R355:S355)","v":""},null,null,{"$f":"IF(R355=\"\",\"\",\"-\"&VLOOKUP(R355,EventConditionConfig!A:C,3,FALSE)&IF(S355=\"\",\"\",CHAR(10)&\"-\"&VLOOKUP(S355,EventConditionConfig!A:C,3,FALSE)))","v":""},{"$f":"IF(Y355=\"\",\"\",IF(ISTEXT(Y355),1,2))","v":""},{"$f":"IF(U355=1,_xlfn.TEXTJOIN(\";\",1,IF(Z355=\"\",A355+1,Z355),IF(AND(AA355<>\"\",AC355=\"\"),A355+1,AC355)),IF(U355=2,Y355,\"\"))","v":""},{"$f":"_xlfn.TEXTJOIN(\";\",1,X355,AA355)","v":""},"",null,null,"",{"$nulls":4},{"$f":"IF(ISNUMBER(Y355),2,IF(A356=\"\",IF(OR(AH355>0,VLOOKUP(O355,EventConfig!A:C,3,FALSE)=4),3,\"\"),1))","v":1},1002912,null,5408]
[{"$f":"O356*100+P356","v":1002912},5391,"与神仙对话","",{"$nulls":5},118,{"$f":"IF(J356=\"\",\"\",VLOOKUP(J356,EventNPC!A:E,5,FALSE))","v":"神人"},5409,"真正的逍遥是：乘天地之正，御六气之辩。",null,10029,{"$f":"IF(O356=O355,P355+1,1)","v":12},{"$f":"_xlfn.TEXTJOIN(\";\",1,R356:S356)","v":""},null,null,{"$f":"IF(R356=\"\",\"\",\"-\"&VLOOKUP(R356,EventConditionConfig!A:C,3,FALSE)&IF(S356=\"\",\"\",CHAR(10)&\"-\"&VLOOKUP(S356,EventConditionConfig!A:C,3,FALSE)))","v":""},{"$f":"IF(Y356=\"\",\"\",IF(ISTEXT(Y356),1,2))","v":""},{"$f":"IF(U356=1,_xlfn.TEXTJOIN(\";\",1,IF(Z356=\"\",A356+1,Z356),IF(AND(AA356<>\"\",AC356=\"\"),A356+1,AC356)),IF(U356=2,Y356,\"\"))","v":""},{"$f":"_xlfn.TEXTJOIN(\";\",1,X356,AA356)","v":""},"",null,null,"",{"$nulls":4},{"$f":"IF(ISNUMBER(Y356),2,IF(A357=\"\",IF(OR(AH356>0,VLOOKUP(O356,EventConfig!A:C,3,FALSE)=4),3,\"\"),1))","v":1},1002913,null,5409]
[{"$f":"O357*100+P357","v":1002913},5391,"与神仙对话","",{"$nulls":5},100,{"$f":"IF(J357=\"\",\"\",VLOOKUP(J357,EventNPC!A:E,5,FALSE))","v":"玩家"},5410,"什么是“乘天地之正，御六气之辩”？",null,10029,{"$f":"IF(O357=O356,P356+1,1)","v":13},{"$f":"_xlfn.TEXTJOIN(\";\",1,R357:S357)","v":""},null,null,{"$f":"IF(R357=\"\",\"\",\"-\"&VLOOKUP(R357,EventConditionConfig!A:C,3,FALSE)&IF(S357=\"\",\"\",CHAR(10)&\"-\"&VLOOKUP(S357,EventConditionConfig!A:C,3,FALSE)))","v":""},{"$f":"IF(Y357=\"\",\"\",IF(ISTEXT(Y357),1,2))","v":""},{"$f":"IF(U357=1,_xlfn.TEXTJOIN(\";\",1,IF(Z357=\"\",A357+1,Z357),IF(AND(AA357<>\"\",AC357=\"\"),A357+1,AC357)),IF(U357=2,Y357,\"\"))","v":""},{"$f":"_xlfn.TEXTJOIN(\";\",1,X357,AA357)","v":""},"",null,null,"",{"$nulls":4},{"$f":"IF(ISNUMBER(Y357),2,IF(A358=\"\",IF(OR(AH357>0,VLOOKUP(O357,EventConfig!A:C,3,FALSE)=4),3,\"\"),1))","v":1},1002914,null,5410]
[1002914,5391,"与神仙对话","",{"$nulls":5},118,{"$f":"IF(J358=\"\",\"\",VLOOKUP(J358,EventNPC!A:E,5,FALSE))","v":"神人"},5411,"便是不依附外物，不执着内心。",null,10029,14,"",null,null,{"$f":"IF(R358=\"\",\"\",\"-\"&VLOOKUP(R358,EventConditionConfig!A:C,3,FALSE)&IF(S358=\"\",\"\",CHAR(10)&\"-\"&VLOOKUP(S358,EventConditionConfig!A:C,3,FALSE)))","v":""},"","","","",null,null,"",{"$nulls":4},{"$f":"IF(ISNUMBER(Y358),2,IF(A359=\"\",IF(OR(AH358>0,VLOOKUP(O358,EventConfig!A:C,3,FALSE)=4),3,\"\"),1))","v":1},1002915,null,5411]
[{"$f":"O359*100+P359","v":1002915},5391,"与神仙对话","",{"$nulls":5},118,{"$f":"IF(J359=\"\",\"\",VLOOKUP(J359,EventNPC!A:E,5,FALSE))","v":"神人"},5412,"能顺应天地的自然规律，驾驭风云的变化。",null,10029,{"$f":"IF(O359=O358,P358+1,1)","v":15},{"$f":"_xlfn.TEXTJOIN(\";\",1,R359:S359)","v":""},null,null,{"$f":"IF(R359=\"\",\"\",\"-\"&VLOOKUP(R359,EventConditionConfig!A:C,3,FALSE)&IF(S359=\"\",\"\",CHAR(10)&\"-\"&VLOOKUP(S359,EventConditionConfig!A:C,3,FALSE)))","v":""},{"$f":"IF(Y359=\"\",\"\",IF(ISTEXT(Y359),1,2))","v":""},{"$f":"IF(U359=1,_xlfn.TEXTJOIN(\";\",1,IF(Z359=\"\",A359+1,Z359),IF(AND(AA359<>\"\",AC359=\"\"),A359+1,AC359)),IF(U359=2,Y359,\"\"))","v":""},{"$f":"_xlfn.TEXTJOIN(\";\",1,X359,AA359)","v":""},"",null,null,"",{"$nulls":4},{"$f":"IF(ISNUMBER(Y359),2,IF(A360=\"\",IF(OR(AH359>0,VLOOKUP(O359,EventConfig!A:C,3,FALSE)=4),3,\"\"),1))","v":1},1002916,null,5412]
[{"$f":"O360*100+P360","v":1002916},5391,"与神仙对话","",{"$nulls":5},118,{"$f":"IF(J360=\"\",\"\",VLOOKUP(J360,EventNPC!A:E,5,FALSE))","v":"神人"},5413,"这样的人，心无挂碍，来去如风，逍遥自在。",null,10029,{"$f":"IF(O360=O359,P359+1,1)","v":16},{"$f":"_xlfn.TEXTJOIN(\";\",1,R360:S360)","v":""},null,null,{"$f":"IF(R360=\"\",\"\",\"-\"&VLOOKUP(R360,EventConditionConfig!A:C,3,FALSE)&IF(S360=\"\",\"\",CHAR(10)&\"-\"&VLOOKUP(S360,EventConditionConfig!A:C,3,FALSE)))","v":""},{"$f":"IF(Y360=\"\",\"\",IF(ISTEXT(Y360),1,2))","v":""},{"$f":"IF(U360=1,_xlfn.TEXTJOIN(\";\",1,IF(Z360=\"\",A360+1,Z360),IF(AND(AA360<>\"\",AC360=\"\"),A360+1,AC360)),IF(U360=2,Y360,\"\"))","v":""},{"$f":"_xlfn.TEXTJOIN(\";\",1,X360,AA360)","v":""},"",null,null,"",{"$nulls":4},{"$f":"IF(ISNUMBER(Y360),2,IF(A361=\"\",IF(OR(AH360>0,VLOOKUP(O360,EventConfig!A:C,3,FALSE)=4),3,\"\"),1))","v":1},1002917,null,5413]
[1002917,5391,"与神仙对话","",{"$nulls":5},100,{"$f":"IF(J361=\"\",\"\",VLOOKUP(J361,EventNPC!A:E,5,FALSE))","v":"玩家"},5414,"这境界听来高远，请神人指点！",null,10029,17,"",null,null,{"$f":"IF(R361=\"\",\"\",\"-\"&VLOOKUP(R361,EventConditionConfig!A:C,3,FALSE)&IF(S361=\"\",\"\",CHAR(10)&\"-\"&VLOOKUP(S361,EventConditionConfig!A:C,3,FALSE)))","v":""},"","","","",null,null,"",{"$nulls":4},{"$f":"IF(ISNUMBER(Y361),2,IF(A362=\"\",IF(OR(AH361>0,VLOOKUP(O361,EventConfig!A:C,3,FALSE)=4),3,\"\"),1))","v":1},1002918,null,5414]
[1002918,5391,"与神仙对话","",{"$nulls":5},118,{"$f":"IF(J362=\"\",\"\",VLOOKUP(J362,EventNPC!A:E,5,FALSE))","v":"神人"},5415,"你已历诸多事，却仍有心魔缠身。看清自己，方能破之。\n（神人一挥手，云海中现出一面灵镜，映出你的身影）",null,10029,18,"",null,null,{"$f":"IF(R362=\"\",\"\",\"-\"&VLOOKUP(R362,EventConditionConfig!A:C,3,FALSE)&IF(S362=\"\",\"\",CHAR(10)&\"-\"&VLOOKUP(S362,EventConditionConfig!A:C,3,FALSE)))","v":""},"","","","",null,null,"",{"$nulls":4},{"$f":"IF(ISNUMBER(Y362),2,IF(A363=\"\",IF(OR(AH362>0,VLOOKUP(O362,EventConfig!A:C,3,FALSE)=4),3,\"\"),1))","v":1},{"$f":"IF(AF362=\"\",\"\",CHOOSE(AF362,IF(AH362=\"\",A362+1,AH362),CONCATENATE(IF(AH362=\"\",A362+1,AH362),\";101\"),IF(AH362=\"\",O362+1,AH362)))","v":1002919},null,5415]
[{"$f":"O363*100+P363","v":1002919},5391,"与神仙对话","",{"$nulls":5},118,{"$f":"IF(J363=\"\",\"\",VLOOKUP(J363,EventNPC!A:E,5,FALSE))","v":"神人"},5416,"此镜照心。击败它，便知一二。",null,10029,{"$f":"IF(O363=O362,P362+1,1)","v":19},{"$f":"_xlfn.TEXTJOIN(\";\",1,R363:S363)","v":""},null,null,{"$f":"IF(R363=\"\",\"\",\"-\"&VLOOKUP(R363,EventConditionConfig!A:C,3,FALSE)&IF(S363=\"\",\"\",CHAR(10)&\"-\"&VLOOKUP(S363,EventConditionConfig!A:C,3,FALSE)))","v":""},{"$f":"IF(Y363=\"\",\"\",IF(ISTEXT(Y363),1,2))","v":""},{"$f":"IF(U363=1,_xlfn.TEXTJOIN(\";\",1,IF(Z363=\"\",A363+1,Z363),IF(AND(AA363<>\"\",AC363=\"\"),A363+1,AC363)),IF(U363=2,Y363,\"\"))","v":""},{"$f":"_xlfn.TEXTJOIN(\";\",1,X363,AA363)","v":""},"",null,null,"",{"$nulls":4},{"$f":"IF(ISNUMBER(Y363),2,IF(A364=\"\",IF(OR(AH363>0,VLOOKUP(O363,EventConfig!A:C,3,FALSE)=4),3,\"\"),1))","v":1},1002920,null,5416]
[1002920,5391,"与神仙对话","",{"$nulls":6},{"$f":"IF(J364=\"\",\"\",VLOOKUP(J364,EventNPC!A:E,5,FALSE))","v":""},"",null,null,10029,20,"33",33,null,{"$f":"IF(R364=\"\",\"\",\"-\"&VLOOKUP(R364,EventConditionConfig!A:C,3,FALSE)&IF(S364=\"\",\"\",CHAR(10)&\"-\"&VLOOKUP(S364,EventConditionConfig!A:C,3,FALSE)))","v":"-达到境界：化神-中期"},{"$f":"IF(Y364=\"\",\"\",1)","v":""},{"$f":"IF(U364=1,A405,\"\")","v":""},"","",null,null,"",{"$nulls":4},{"$f":"IF(ISNUMBER(Y364),2,IF(A365=\"\",IF(OR(AH364>0,VLOOKUP(O364,EventConfig!A:C,3,FALSE)=4),3,\"\"),1))","v":3},10030,null,5416]
[null,"",null,"",{"$nulls":7},"",{"$nulls":11},"",null,null,"",{"$nulls":7},""]
[{"$f":"O366*100+P366","v":1003001},"",null,5417,"击败心魔",{"$nulls":5},{"$f":"IF(J366=\"\",\"\",VLOOKUP(J366,EventNPC!A:E,5,FALSE))","v":""},"",null,null,{"$f":"IF(O365=\"\",O363+1,O365)","v":10030},{"$f":"IF(O366=O365,P365+1,1)","v":1},{"$f":"_xlfn.TEXTJOIN(\";\",1,R366:S366)","v":""},null,null,{"$f":"IF(R366=\"\",\"\",\"-\"&VLOOKUP(R366,EventConditionConfig!A:C,3,FALSE)&IF(S366=\"\",\"\",CHAR(10)&\"-\"&VLOOKUP(S366,EventConditionConfig!A:C,3,FALSE)))","v":""},{"$f":"IF(Y366=\"\",\"\",IF(ISTEXT(Y366),1,2))","v":2},{"$f":"IF(U366=1,_xlfn.TEXTJOIN(\";\",1,IF(Z366=\"\",A366+1,Z366),IF(AND(AA366<>\"\",AC366=\"\"),A366+1,AC366)),IF(U366=2,Y366,\"\"))","v":1013},{"$f":"_xlfn.TEXTJOIN(\";\",1,X366,AA366)","v":""},"",1013,null,"",{"$nulls":4},{"$f":"IF(ISNUMBER(Y366),2,IF(A367=\"\",IF(OR(AH366>0,VLOOKUP(O366,EventConfig!A:C,3,FALSE)=4),3,\"\"),1))","v":2},{"$f":"IF(AF366=\"\",\"\",CHOOSE(AF366,IF(AH366=\"\",A366+1,AH366),CONCATENATE(IF(AH366=\"\",A366+1,AH366),\";101\"),IF(AH366=\"\",O366+1,AH366)))","v":"1003002;101"},null,5417]
[{"$f":"O367*100+P367","v":1003002},5418,"心魔消散","",{"$nulls":5},100,{"$f":"IF(J367=\"\",\"\",VLOOKUP(J367,EventNPC!A:E,5,FALSE))","v":"玩家"},5419,"心魔已破……那些过去的疑问，原来皆是“有所等待”的枷锁。",null,10030,{"$f":"IF(O367=O366,P366+1,1)","v":2},{"$f":"_xlfn.TEXTJOIN(\";\",1,R367:S367)","v":"28"},28,null,{"$f":"IF(R367=\"\",\"\",\"-\"&VLOOKUP(R367,EventConditionConfig!A:C,3,FALSE)&IF(S367=\"\",\"\",CHAR(10)&\"-\"&VLOOKUP(S367,EventConditionConfig!A:C,3,FALSE)))","v":"-击败心魔"},{"$f":"IF(Y367=\"\",\"\",IF(ISTEXT(Y367),1,2))","v":""},{"$f":"IF(U367=1,_xlfn.TEXTJOIN(\";\",1,IF(Z367=\"\",A367+1,Z367),IF(AND(AA367<>\"\",AC367=\"\"),A367+1,AC367)),IF(U367=2,Y367,\"\"))","v":""},{"$f":"_xlfn.TEXTJOIN(\";\",1,X367,AA367)","v":""},"",null,null,"",{"$nulls":4},{"$f":"IF(ISNUMBER(Y367),2,IF(A368=\"\",IF(OR(AH367>0,VLOOKUP(O367,EventConfig!A:C,3,FALSE)=4),3,\"\"),1))","v":1},{"$f":"IF(AF367=\"\",\"\",CHOOSE(AF367,IF(AH367=\"\",A367+1,AH367),CONCATENATE(IF(AH367=\"\",A367+1,AH367),\";101\"),IF(AH367=\"\",O367+1,AH367)))","v":1003003},null,5419]
[{"$f":"O368*100+P368","v":1003003},5418,"心魔消散","",{"$nulls":5},100,{"$f":"IF(J368=\"\",\"\",VLOOKUP(J368,EventNPC!A:E,5,FALSE))","v":"玩家"},5420,"鲲鹏待风，我待顿悟。",null,10030,{"$f":"IF(O368=O367,P367+1,1)","v":3},{"$f":"_xlfn.TEXTJOIN(\";\",1,R368:S368)","v":""},null,null,{"$f":"IF(R368=\"\",\"\",\"-\"&VLOOKUP(R368,EventConditionConfig!A:C,3,FALSE)&IF(S368=\"\",\"\",CHAR(10)&\"-\"&VLOOKUP(S368,EventConditionConfig!A:C,3,FALSE)))","v":""},{"$f":"IF(Y368=\"\",\"\",IF(ISTEXT(Y368),1,2))","v":""},{"$f":"IF(U368=1,_xlfn.TEXTJOIN(\";\",1,IF(Z368=\"\",A368+1,Z368),IF(AND(AA368<>\"\",AC368=\"\"),A368+1,AC368)),IF(U368=2,Y368,\"\"))","v":""},{"$f":"_xlfn.TEXTJOIN(\";\",1,X368,AA368)","v":""},"",null,null,"",{"$nulls":4},{"$f":"IF(ISNUMBER(Y368),2,IF(A369=\"\",IF(OR(AH368>0,VLOOKUP(O368,EventConfig!A:C,3,FALSE)=4),3,\"\"),1))","v":1},1003004,null,5420]
[{"$f":"O369*100+P369","v":1003004},5418,"心魔消散","",{"$nulls":5},100,{"$f":"IF(J369=\"\",\"\",VLOOKUP(J369,EventNPC!A:E,5,FALSE))","v":"玩家"},5421,"不依附外物，不执着内心，就是真正的逍遥！",null,10030,{"$f":"IF(O369=O368,P368+1,1)","v":4},{"$f":"_xlfn.TEXTJOIN(\";\",1,R369:S369)","v":""},null,null,{"$f":"IF(R369=\"\",\"\",\"-\"&VLOOKUP(R369,EventConditionConfig!A:C,3,FALSE)&IF(S369=\"\",\"\",CHAR(10)&\"-\"&VLOOKUP(S369,EventConditionConfig!A:C,3,FALSE)))","v":""},{"$f":"IF(Y369=\"\",\"\",IF(ISTEXT(Y369),1,2))","v":""},{"$f":"IF(U369=1,_xlfn.TEXTJOIN(\";\",1,IF(Z369=\"\",A369+1,Z369),IF(AND(AA369<>\"\",AC369=\"\"),A369+1,AC369)),IF(U369=2,Y369,\"\"))","v":""},{"$f":"_xlfn.TEXTJOIN(\";\",1,X369,AA369)","v":""},"",null,null,"",{"$nulls":4},{"$f":"IF(ISNUMBER(Y369),2,IF(A370=\"\",IF(OR(AH369>0,VLOOKUP(O369,EventConfig!A:C,3,FALSE)=4),3,\"\"),1))","v":1},1003005,null,5421]
[1003005,5418,"心魔消散","",{"$nulls":5},118,{"$f":"IF(J370=\"\",\"\",VLOOKUP(J370,EventNPC!A:E,5,FALSE))","v":"神人"},5422,"不错。你已领悟第一道心境：逍遥自在。",null,10030,5,"",null,null,{"$f":"IF(R370=\"\",\"\",\"-\"&VLOOKUP(R370,EventConditionConfig!A:C,3,FALSE)&IF(S370=\"\",\"\",CHAR(10)&\"-\"&VLOOKUP(S370,EventConditionConfig!A:C,3,FALSE)))","v":""},"","","","",null,null,"",{"$nulls":4},{"$f":"IF(ISNUMBER(Y370),2,IF(A371=\"\",IF(OR(AH370>0,VLOOKUP(O370,EventConfig!A:C,3,FALSE)=4),3,\"\"),1))","v":1},1003006,null,5422]
[1003006,5418,"心魔消散","",{"$nulls":5},118,{"$f":"IF(J371=\"\",\"\",VLOOKUP(J371,EventNPC!A:E,5,FALSE))","v":"神人"},5423,"心无挂碍，来去如风，你的风灵珠也能发挥更大威力。（乘龙而去）",null,{"$f":"IF(O370=\"\",O369+1,O370)","v":10030},6,"",null,null,{"$f":"IF(R371=\"\",\"\",\"-\"&VLOOKUP(R371,EventConditionConfig!A:C,3,FALSE)&IF(S371=\"\",\"\",CHAR(10)&\"-\"&VLOOKUP(S371,EventConditionConfig!A:C,3,FALSE)))","v":""},"","","","",null,null,"",{"$nulls":4},{"$f":"IF(ISNUMBER(Y371),2,IF(A372=\"\",IF(OR(AH371>0,VLOOKUP(O371,EventConfig!A:C,3,FALSE)=4),3,\"\"),1))","v":1},1003007,null,5423]
[{"$f":"O372*100+P372","v":1003007},5418,"心魔消散","",{"$nulls":5},100,{"$f":"IF(J372=\"\",\"\",VLOOKUP(J372,EventNPC!A:E,5,FALSE))","v":"玩家"},5424,"多谢前辈指点！",null,10030,{"$f":"IF(O372=O371,P371+1,1)","v":7},{"$f":"_xlfn.TEXTJOIN(\";\",1,R372:S372)","v":""},null,null,{"$f":"IF(R372=\"\",\"\",\"-\"&VLOOKUP(R372,EventConditionConfig!A:C,3,FALSE)&IF(S372=\"\",\"\",CHAR(10)&\"-\"&VLOOKUP(S372,EventConditionConfig!A:C,3,FALSE)))","v":""},{"$f":"IF(Y372=\"\",\"\",IF(ISTEXT(Y372),1,2))","v":""},{"$f":"IF(U372=1,_xlfn.TEXTJOIN(\";\",1,IF(Z372=\"\",A372+1,Z372),IF(AND(AA372<>\"\",AC372=\"\"),A372+1,AC372)),IF(U372=2,Y372,\"\"))","v":""},{"$f":"_xlfn.TEXTJOIN(\";\",1,X372,AA372)","v":""},"",null,null,"",{"$nulls":4},{"$f":"IF(ISNUMBER(Y372),2,IF(A374=\"\",IF(OR(AH372>0,VLOOKUP(O372,EventConfig!A:C,3,FALSE)=4),3,\"\"),1))","v":3},10031,null,5424]
[1003008,5418,"心魔消散","",{"$nulls":6},{"$f":"IF(J373=\"\",\"\",VLOOKUP(J373,EventNPC!A:E,5,FALSE))","v":""},"",null,null,10030,8,"34",34,null,{"$f":"IF(R373=\"\",\"\",\"-\"&VLOOKUP(R373,EventConditionConfig!A:C,3,FALSE)&IF(S373=\"\",\"\",CHAR(10)&\"-\"&VLOOKUP(S373,EventConditionConfig!A:C,3,FALSE)))","v":"-达到境界：化神-后期"},{"$f":"IF(Y373=\"\",\"\",1)","v":""},{"$f":"IF(U373=1,A414,\"\")","v":""},"","",null,null,"",{"$nulls":4},{"$f":"IF(ISNUMBER(Y373),2,IF(A374=\"\",IF(OR(AH373>0,VLOOKUP(O373,EventConfig!A:C,3,FALSE)=4),3,\"\"),1))","v":3},10031,null,5424]
[null,"",null,"",{"$nulls":7},"",{"$nulls":11},"",null,null,"",{"$nulls":7},""]
[{"$f":"O375*100+P375","v":1003101},5425,"击败北海妖兽","",{"$nulls":6},{"$f":"IF(J375=\"\",\"\",VLOOKUP(J375,EventNPC!A:E,5,FALSE))","v":""},5426,"你重返北海深处。四处狂风呼啸，你却随风而行，好不自在。",null,{"$f":"IF(O374=\"\",O372+1,O374)","v":10031},{"$f":"IF(O375=O374,P374+1,1)","v":1},{"$f":"_xlfn.TEXTJOIN(\";\",1,R375:S375)","v":""},null,null,{"$f":"IF(R375=\"\",\"\",\"-\"&VLOOKUP(R375,EventConditionConfig!A:C,3,FALSE)&IF(S375=\"\",\"\",CHAR(10)&\"-\"&VLOOKUP(S375,EventConditionConfig!A:C,3,FALSE)))","v":""},{"$f":"IF(Y375=\"\",\"\",IF(ISTEXT(Y375),1,2))","v":""},{"$f":"IF(U375=1,_xlfn.TEXTJOIN(\";\",1,IF(Z375=\"\",A375+1,Z375),IF(AND(AA375<>\"\",AC375=\"\"),A375+1,AC375)),IF(U375=2,Y375,\"\"))","v":""},{"$f":"_xlfn.TEXTJOIN(\";\",1,X375,AA375)","v":""},"",null,null,"",{"$nulls":4},{"$f":"IF(ISNUMBER(Y375),2,IF(A391=\"\",IF(OR(AH375>0,VLOOKUP(O375,EventConfig!A:C,3,FALSE)=4),3,\"\"),1))","v":3},{"$f":"IF(AF375=\"\",\"\",CHOOSE(AF375,IF(AH375=\"\",A375+1,AH375),CONCATENATE(IF(AH375=\"\",A375+1,AH375),\";101\"),IF(AH375=\"\",O375+1,AH375)))","v":10032},null,5426]
[{"$f":"O376*100+P376","v":1003102},5425,"击败北海妖兽","",{"$nulls":6},{"$f":"IF(J376=\"\",\"\",VLOOKUP(J376,EventNPC!A:E,5,FALSE))","v":""},5427,"北海妖兽狂暴异常，挡住去路。",null,10031,{"$f":"IF(O376=O375,P375+1,1)","v":2},{"$f":"_xlfn.TEXTJOIN(\";\",1,R376:S376)","v":""},null,null,{"$f":"IF(R376=\"\",\"\",\"-\"&VLOOKUP(R376,EventConditionConfig!A:C,3,FALSE)&IF(S376=\"\",\"\",CHAR(10)&\"-\"&VLOOKUP(S376,EventConditionConfig!A:C,3,FALSE)))","v":""},{"$f":"IF(Y376=\"\",\"\",IF(ISTEXT(Y376),1,2))","v":""},{"$f":"IF(U376=1,_xlfn.TEXTJOIN(\";\",1,IF(Z376=\"\",A376+1,Z376),IF(AND(AA376<>\"\",AC376=\"\"),A376+1,AC376)),IF(U376=2,Y376,\"\"))","v":""},{"$f":"_xlfn.TEXTJOIN(\";\",1,X376,AA376)","v":""},"",null,null,"",{"$nulls":4},{"$f":"IF(ISNUMBER(Y376),2,IF(A392=\"\",IF(OR(AH376>0,VLOOKUP(O376,EventConfig!A:C,3,FALSE)=4),3,\"\"),1))","v":1},{"$f":"IF(AF376=\"\",\"\",CHOOSE(AF376,IF(AH376=\"\",A376+1,AH376),CONCATENATE(IF(AH376=\"\",A376+1,AH376),\";101\"),IF(AH376=\"\",O376+1,AH376)))","v":1003103},null,5427]
[{"$f":"O377*100+P377","v":1003103},5425,"击败北海妖兽","",{"$nulls":5},100,{"$f":"IF(J377=\"\",\"\",VLOOKUP(J377,EventNPC!A:E,5,FALSE))","v":"玩家"},5428,"这些妖兽……看来必须先清扫一番，才能见到鲲鹏。",null,10031,{"$f":"IF(O377=O376,P376+1,1)","v":3},{"$f":"_xlfn.TEXTJOIN(\";\",1,R377:S377)","v":""},null,null,{"$f":"IF(R377=\"\",\"\",\"-\"&VLOOKUP(R377,EventConditionConfig!A:C,3,FALSE)&IF(S377=\"\",\"\",CHAR(10)&\"-\"&VLOOKUP(S377,EventConditionConfig!A:C,3,FALSE)))","v":""},{"$f":"IF(Y377=\"\",\"\",IF(ISTEXT(Y377),1,2))","v":2},{"$f":"IF(U377=1,_xlfn.TEXTJOIN(\";\",1,IF(Z377=\"\",A377+1,Z377),IF(AND(AA377<>\"\",AC377=\"\"),A377+1,AC377)),IF(U377=2,Y377,\"\"))","v":1014},{"$f":"_xlfn.TEXTJOIN(\";\",1,X377,AA377)","v":""},"",1014,null,"",{"$nulls":4},{"$f":"IF(ISNUMBER(Y377),2,IF(A393=\"\",IF(OR(AH377>0,VLOOKUP(O377,EventConfig!A:C,3,FALSE)=4),3,\"\"),1))","v":2},{"$f":"IF(AF377=\"\",\"\",CHOOSE(AF377,IF(AH377=\"\",A377+1,AH377),CONCATENATE(IF(AH377=\"\",A377+1,AH377),\";101\"),IF(AH377=\"\",O377+1,AH377)))","v":"1003104;101"},null,5428]
[{"$f":"O378*100+P378","v":1003104},5429,"鲲鹏对话","",{"$nulls":5},100,{"$f":"IF(J378=\"\",\"\",VLOOKUP(J378,EventNPC!A:E,5,FALSE))","v":"玩家"},5430,"妖兽退散了……鲲鹏前辈，我回来了。",null,10031,{"$f":"IF(O378=O377,P377+1,1)","v":4},{"$f":"_xlfn.TEXTJOIN(\";\",1,R378:S378)","v":"29"},29,null,{"$f":"IF(R378=\"\",\"\",\"-\"&VLOOKUP(R378,EventConditionConfig!A:C,3,FALSE)&IF(S378=\"\",\"\",CHAR(10)&\"-\"&VLOOKUP(S378,EventConditionConfig!A:C,3,FALSE)))","v":"-击败北海妖兽"},{"$f":"IF(Y378=\"\",\"\",IF(ISTEXT(Y378),1,2))","v":""},{"$f":"IF(U378=1,_xlfn.TEXTJOIN(\";\",1,IF(Z378=\"\",A378+1,Z378),IF(AND(AA378<>\"\",AC378=\"\"),A378+1,AC378)),IF(U378=2,Y378,\"\"))","v":""},{"$f":"_xlfn.TEXTJOIN(\";\",1,X378,AA378)","v":""},"",null,null,"",{"$nulls":4},{"$f":"IF(ISNUMBER(Y378),2,IF(A394=\"\",IF(OR(AH378>0,VLOOKUP(O378,EventConfig!A:C,3,FALSE)=4),3,\"\"),1))","v":1},{"$f":"IF(AF378=\"\",\"\",CHOOSE(AF378,IF(AH378=\"\",A378+1,AH378),CONCATENATE(IF(AH378=\"\",A378+1,AH378),\";101\"),IF(AH378=\"\",O378+1,AH378)))","v":1003105},null,5430]
[{"$f":"O379*100+P379","v":1003105},5429,"鲲鹏对话","",{"$nulls":5},119,{"$f":"IF(J379=\"\",\"\",VLOOKUP(J379,EventNPC!A:E,5,FALSE))","v":"鲲鹏"},5431,"（低沉声，从水底传出）“北海虽广，却无足够之风。我待九万里之飞，已千年。小子，你又来作甚？”",null,10031,{"$f":"IF(O379=O378,P378+1,1)","v":5},{"$f":"_xlfn.TEXTJOIN(\";\",1,R379:S379)","v":""},null,null,{"$f":"IF(R379=\"\",\"\",\"-\"&VLOOKUP(R379,EventConditionConfig!A:C,3,FALSE)&IF(S379=\"\",\"\",CHAR(10)&\"-\"&VLOOKUP(S379,EventConditionConfig!A:C,3,FALSE)))","v":""},{"$f":"IF(Y379=\"\",\"\",IF(ISTEXT(Y379),1,2))","v":""},{"$f":"IF(U379=1,_xlfn.TEXTJOIN(\";\",1,IF(Z379=\"\",A379+1,Z379),IF(AND(AA379<>\"\",AC379=\"\"),A379+1,AC379)),IF(U379=2,Y379,\"\"))","v":""},{"$f":"_xlfn.TEXTJOIN(\";\",1,X379,AA379)","v":""},"",null,null,"",{"$nulls":4},{"$f":"IF(ISNUMBER(Y379),2,IF(A395=\"\",IF(OR(AH379>0,VLOOKUP(O379,EventConfig!A:C,3,FALSE)=4),3,\"\"),1))","v":3},{"$f":"IF(AF379=\"\",\"\",CHOOSE(AF379,IF(AH379=\"\",A379+1,AH379),CONCATENATE(IF(AH379=\"\",A379+1,AH379),\";101\"),IF(AH379=\"\",O379+1,AH379)))","v":10032},null,5431]
[{"$f":"O380*100+P380","v":1003106},5429,"鲲鹏对话","",{"$nulls":5},100,{"$f":"IF(J380=\"\",\"\",VLOOKUP(J380,EventNPC!A:E,5,FALSE))","v":"玩家"},5432,"我历鲲鹏之志、尧让于许、无用之树、仙山神人，终悟“逍遥自在”。",null,10031,{"$f":"IF(O380=O379,P379+1,1)","v":6},{"$f":"_xlfn.TEXTJOIN(\";\",1,R380:S380)","v":""},null,null,{"$f":"IF(R380=\"\",\"\",\"-\"&VLOOKUP(R380,EventConditionConfig!A:C,3,FALSE)&IF(S380=\"\",\"\",CHAR(10)&\"-\"&VLOOKUP(S380,EventConditionConfig!A:C,3,FALSE)))","v":""},{"$f":"IF(Y380=\"\",\"\",IF(ISTEXT(Y380),1,2))","v":""},{"$f":"IF(U380=1,_xlfn.TEXTJOIN(\";\",1,IF(Z380=\"\",A380+1,Z380),IF(AND(AA380<>\"\",AC380=\"\"),A380+1,AC380)),IF(U380=2,Y380,\"\"))","v":""},{"$f":"_xlfn.TEXTJOIN(\";\",1,X380,AA380)","v":""},"",null,null,"",{"$nulls":4},{"$f":"IF(ISNUMBER(Y380),2,IF(A396=\"\",IF(OR(AH380>0,VLOOKUP(O380,EventConfig!A:C,3,FALSE)=4),3,\"\"),1))","v":1},{"$f":"IF(AF380=\"\",\"\",CHOOSE(AF380,IF(AH380=\"\",A380+1,AH380),CONCATENATE(IF(AH380=\"\",A380+1,AH380),\";101\"),IF(AH380=\"\",O380+1,AH380)))","v":1003107},null,5432]
[{"$f":"O381*100+P381","v":1003107},5429,"鲲鹏对话","",{"$nulls":5},100,{"$f":"IF(J381=\"\",\"\",VLOOKUP(J381,EventNPC!A:E,5,FALSE))","v":"玩家"},5433,"我已能完整驱动风灵珠，或许能助前辈一臂之力，召唤那九万里之风。",null,10031,{"$f":"IF(O381=O380,P380+1,1)","v":7},{"$f":"_xlfn.TEXTJOIN(\";\",1,R381:S381)","v":""},null,null,{"$f":"IF(R381=\"\",\"\",\"-\"&VLOOKUP(R381,EventConditionConfig!A:C,3,FALSE)&IF(S381=\"\",\"\",CHAR(10)&\"-\"&VLOOKUP(S381,EventConditionConfig!A:C,3,FALSE)))","v":""},{"$f":"IF(Y381=\"\",\"\",IF(ISTEXT(Y381),1,2))","v":""},{"$f":"IF(U381=1,_xlfn.TEXTJOIN(\";\",1,IF(Z381=\"\",A381+1,Z381),IF(AND(AA381<>\"\",AC381=\"\"),A381+1,AC381)),IF(U381=2,Y381,\"\"))","v":""},{"$f":"_xlfn.TEXTJOIN(\";\",1,X381,AA381)","v":""},"",null,null,"",{"$nulls":4},{"$f":"IF(ISNUMBER(Y381),2,IF(A397=\"\",IF(OR(AH381>0,VLOOKUP(O381,EventConfig!A:C,3,FALSE)=4),3,\"\"),1))","v":3},{"$f":"IF(AF381=\"\",\"\",CHOOSE(AF381,IF(AH381=\"\",A381+1,AH381),CONCATENATE(IF(AH381=\"\",A381+1,AH381),\";101\"),IF(AH381=\"\",O381+1,AH381)))","v":10032},null,5433]
[{"$f":"O382*100+P382","v":1003108},5429,"鲲鹏对话","",{"$nulls":5},119,{"$f":"IF(J382=\"\",\"\",VLOOKUP(J382,EventNPC!A:E,5,FALSE))","v":"鲲鹏"},5434,"此话当真？你小子竟有此机缘，与神仙相遇？",null,10031,{"$f":"IF(O382=O381,P381+1,1)","v":8},{"$f":"_xlfn.TEXTJOIN(\";\",1,R382:S382)","v":""},null,null,{"$f":"IF(R382=\"\",\"\",\"-\"&VLOOKUP(R382,EventConditionConfig!A:C,3,FALSE)&IF(S382=\"\",\"\",CHAR(10)&\"-\"&VLOOKUP(S382,EventConditionConfig!A:C,3,FALSE)))","v":""},{"$f":"IF(Y382=\"\",\"\",IF(ISTEXT(Y382),1,2))","v":""},{"$f":"IF(U382=1,_xlfn.TEXTJOIN(\";\",1,IF(Z382=\"\",A382+1,Z382),IF(AND(AA382<>\"\",AC382=\"\"),A382+1,AC382)),IF(U382=2,Y382,\"\"))","v":""},{"$f":"_xlfn.TEXTJOIN(\";\",1,X382,AA382)","v":""},"",null,null,"",{"$nulls":4},{"$f":"IF(ISNUMBER(Y382),2,IF(A398=\"\",IF(OR(AH382>0,VLOOKUP(O382,EventConfig!A:C,3,FALSE)=4),3,\"\"),1))","v":1},{"$f":"IF(AF382=\"\",\"\",CHOOSE(AF382,IF(AH382=\"\",A382+1,AH382),CONCATENATE(IF(AH382=\"\",A382+1,AH382),\";101\"),IF(AH382=\"\",O382+1,AH382)))","v":1003109},null,5434]
[1003109,5429,"鲲鹏对话","",{"$nulls":5},100,{"$f":"IF(J383=\"\",\"\",VLOOKUP(J383,EventNPC!A:E,5,FALSE))","v":"玩家"},5435,"前辈请看.",null,10031,9,"",null,null,{"$f":"IF(R383=\"\",\"\",\"-\"&VLOOKUP(R383,EventConditionConfig!A:C,3,FALSE)&IF(S383=\"\",\"\",CHAR(10)&\"-\"&VLOOKUP(S383,EventConditionConfig!A:C,3,FALSE)))","v":""},1,"1003110","5436",5436,"使用风灵珠召唤龙卷风",null,"",{"$nulls":4},{"$f":"IF(ISNUMBER(Y383),2,IF(A399=\"\",IF(OR(AH383>0,VLOOKUP(O383,EventConfig!A:C,3,FALSE)=4),3,\"\"),1))","v":3},10032,null,5436]
[1003110,5429,"鲲鹏对话","",{"$nulls":5},100,{"$f":"IF(J384=\"\",\"\",VLOOKUP(J384,EventNPC!A:E,5,FALSE))","v":"玩家"},5437,"你高举风灵珠，灵力涌动，周身风起云涌。",null,10031,10,"",null,null,{"$f":"IF(R384=\"\",\"\",\"-\"&VLOOKUP(R384,EventConditionConfig!A:C,3,FALSE)&IF(S384=\"\",\"\",CHAR(10)&\"-\"&VLOOKUP(S384,EventConditionConfig!A:C,3,FALSE)))","v":""},"","","","",null,null,"",{"$nulls":4},{"$f":"IF(ISNUMBER(Y384),2,IF(A400=\"\",IF(OR(AH384>0,VLOOKUP(O384,EventConfig!A:C,3,FALSE)=4),3,\"\"),1))","v":1},1003111,null,5437]
[{"$f":"O385*100+P385","v":1003111},5429,"鲲鹏对话","",{"$nulls":5},100,{"$f":"IF(J385=\"\",\"\",VLOOKUP(J385,EventNPC!A:E,5,FALSE))","v":"玩家"},5438,"珠中蕴藏的风灵之力如决堤般释放，北海上空风云变幻，狂风汇聚成巨大龙卷，直冲天际。",null,10031,{"$f":"IF(O385=O384,P384+1,1)","v":11},{"$f":"_xlfn.TEXTJOIN(\";\",1,R385:S385)","v":""},null,null,{"$f":"IF(R385=\"\",\"\",\"-\"&VLOOKUP(R385,EventConditionConfig!A:C,3,FALSE)&IF(S385=\"\",\"\",CHAR(10)&\"-\"&VLOOKUP(S385,EventConditionConfig!A:C,3,FALSE)))","v":""},{"$f":"IF(Y385=\"\",\"\",IF(ISTEXT(Y385),1,2))","v":""},{"$f":"IF(U385=1,_xlfn.TEXTJOIN(\";\",1,IF(Z385=\"\",A385+1,Z385),IF(AND(AA385<>\"\",AC385=\"\"),A385+1,AC385)),IF(U385=2,Y385,\"\"))","v":""},{"$f":"_xlfn.TEXTJOIN(\";\",1,X385,AA385)","v":""},"",null,null,"",{"$nulls":4},{"$f":"IF(ISNUMBER(Y385),2,IF(A401=\"\",IF(OR(AH385>0,VLOOKUP(O385,EventConfig!A:C,3,FALSE)=4),3,\"\"),1))","v":3},{"$f":"IF(AF385=\"\",\"\",CHOOSE(AF385,IF(AH385=\"\",A385+1,AH385),CONCATENATE(IF(AH385=\"\",A385+1,AH385),\";101\"),IF(AH385=\"\",O385+1,AH385)))","v":10032},null,5438]
[{"$f":"O386*100+P386","v":1003112},5429,"鲲鹏对话","",{"$nulls":5},100,{"$f":"IF(J386=\"\",\"\",VLOOKUP(J386,EventNPC!A:E,5,FALSE))","v":"玩家"},5439,"水面翻腾，巨鲲破浪而出，化作大鹏，翼若垂天之云，乘风而上，扶摇直上九万里！",null,10031,{"$f":"IF(O386=O385,P385+1,1)","v":12},{"$f":"_xlfn.TEXTJOIN(\";\",1,R386:S386)","v":""},null,null,{"$f":"IF(R386=\"\",\"\",\"-\"&VLOOKUP(R386,EventConditionConfig!A:C,3,FALSE)&IF(S386=\"\",\"\",CHAR(10)&\"-\"&VLOOKUP(S386,EventConditionConfig!A:C,3,FALSE)))","v":""},{"$f":"IF(Y386=\"\",\"\",IF(ISTEXT(Y386),1,2))","v":""},{"$f":"IF(U386=1,_xlfn.TEXTJOIN(\";\",1,IF(Z386=\"\",A386+1,Z386),IF(AND(AA386<>\"\",AC386=\"\"),A386+1,AC386)),IF(U386=2,Y386,\"\"))","v":""},{"$f":"_xlfn.TEXTJOIN(\";\",1,X386,AA386)","v":""},"",null,null,"",{"$nulls":4},{"$f":"IF(ISNUMBER(Y386),2,IF(A402=\"\",IF(OR(AH386>0,VLOOKUP(O386,EventConfig!A:C,3,FALSE)=4),3,\"\"),1))","v":1},{"$f":"IF(AF386=\"\",\"\",CHOOSE(AF386,IF(AH386=\"\",A386+1,AH386),CONCATENATE(IF(AH386=\"\",A386+1,AH386),\";101\"),IF(AH386=\"\",O386+1,AH386)))","v":1003113},null,5439]
[{"$f":"O387*100+P387","v":1003113},5429,"鲲鹏对话","",{"$nulls":5},100,{"$f":"IF(J387=\"\",\"\",VLOOKUP(J387,EventNPC!A:E,5,FALSE))","v":"玩家"},5440,"北海为之震动，云海为之开道，此刻，水天一色，无边无际。",null,10031,{"$f":"IF(O387=O386,P386+1,1)","v":13},{"$f":"_xlfn.TEXTJOIN(\";\",1,R387:S387)","v":""},null,null,{"$f":"IF(R387=\"\",\"\",\"-\"&VLOOKUP(R387,EventConditionConfig!A:C,3,FALSE)&IF(S387=\"\",\"\",CHAR(10)&\"-\"&VLOOKUP(S387,EventConditionConfig!A:C,3,FALSE)))","v":""},{"$f":"IF(Y387=\"\",\"\",IF(ISTEXT(Y387),1,2))","v":""},{"$f":"IF(U387=1,_xlfn.TEXTJOIN(\";\",1,IF(Z387=\"\",A387+1,Z387),IF(AND(AA387<>\"\",AC387=\"\"),A387+1,AC387)),IF(U387=2,Y387,\"\"))","v":""},{"$f":"_xlfn.TEXTJOIN(\";\",1,X387,AA387)","v":""},"",null,null,"",{"$nulls":4},{"$f":"IF(ISNUMBER(Y387),2,IF(A403=\"\",IF(OR(AH387>0,VLOOKUP(O387,EventConfig!A:C,3,FALSE)=4),3,\"\"),1))","v":3},{"$f":"IF(AF387=\"\",\"\",CHOOSE(AF387,IF(AH387=\"\",A387+1,AH387),CONCATENATE(IF(AH387=\"\",A387+1,AH387),\";101\"),IF(AH387=\"\",O387+1,AH387)))","v":10032},null,5440]
[1003114,5429,"鲲鹏对话","",{"$nulls":5},119,{"$f":"IF(J388=\"\",\"\",VLOOKUP(J388,EventNPC!A:E,5,FALSE))","v":"鲲鹏"},5441,"（振翅长啸，声音回荡天际）小子，多谢！这正是我要的大风。南海天池见，若有缘，再论大道。",null,10031,14,"",null,null,{"$f":"IF(R388=\"\",\"\",\"-\"&VLOOKUP(R388,EventConditionConfig!A:C,3,FALSE)&IF(S388=\"\",\"\",CHAR(10)&\"-\"&VLOOKUP(S388,EventConditionConfig!A:C,3,FALSE)))","v":""},"","","","",null,null,"",{"$nulls":4},{"$f":"IF(ISNUMBER(Y388),2,IF(A404=\"\",IF(OR(AH388>0,VLOOKUP(O388,EventConfig!A:C,3,FALSE)=4),3,\"\"),1))","v":1},1003115,null,5441]
[{"$f":"O389*100+P389","v":1003115},5429,"鲲鹏对话","",{"$nulls":5},100,{"$f":"IF(J389=\"\",\"\",VLOOKUP(J389,EventNPC!A:E,5,FALSE))","v":"玩家"},5442,"前辈，一路顺风！",null,10031,{"$f":"IF(O389=O388,P388+1,1)","v":15},{"$f":"_xlfn.TEXTJOIN(\";\",1,R389:S389)","v":""},null,null,{"$f":"IF(R389=\"\",\"\",\"-\"&VLOOKUP(R389,EventConditionConfig!A:C,3,FALSE)&IF(S389=\"\",\"\",CHAR(10)&\"-\"&VLOOKUP(S389,EventConditionConfig!A:C,3,FALSE)))","v":""},{"$f":"IF(Y389=\"\",\"\",IF(ISTEXT(Y389),1,2))","v":""},{"$f":"IF(U389=1,_xlfn.TEXTJOIN(\";\",1,IF(Z389=\"\",A389+1,Z389),IF(AND(AA389<>\"\",AC389=\"\"),A389+1,AC389)),IF(U389=2,Y389,\"\"))","v":""},{"$f":"_xlfn.TEXTJOIN(\";\",1,X389,AA389)","v":""},"",null,null,"",{"$nulls":4},{"$f":"IF(ISNUMBER(Y389),2,IF(A405=\"\",IF(OR(AH389>0,VLOOKUP(O389,EventConfig!A:C,3,FALSE)=4),3,\"\"),1))","v":1},{"$f":"IF(AF389=\"\",\"\",CHOOSE(AF389,IF(AH389=\"\",A389+1,AH389),CONCATENATE(IF(AH389=\"\",A389+1,AH389),\";101\"),IF(AH389=\"\",O389+1,AH389)))","v":1003116},null,5442]
[1003116,{"$f":"IF(C390=\"\",\"\",IF(C390=C389,B389,MAX(AI389,AI388)+1))","v":5429},"鲲鹏对话",{"$f":"IF(E390=\"\",\"\",IF(E390=E389,D389,MAX(AI389,AI388,B390)+1))","v":""},{"$nulls":6},{"$f":"IF(J390=\"\",\"\",VLOOKUP(J390,EventNPC!A:E,5,FALSE))","v":""},{"$f":"IF(M390=\"\",\"\",MAX(AI389,AI388,B390,D390)+1)","v":""},null,null,10031,16,"35",35,null,{"$f":"IF(R390=\"\",\"\",\"-\"&VLOOKUP(R390,EventConditionConfig!A:C,3,FALSE)&IF(S390=\"\",\"\",CHAR(10)&\"-\"&VLOOKUP(S390,EventConditionConfig!A:C,3,FALSE)))","v":"-达到境界：炼虚-前期"},{"$f":"IF(Y390=\"\",\"\",1)","v":""},{"$f":"IF(U390=1,A431,\"\")","v":""},"",{"$f":"IF(OR(ISNUMBER(Y390),Y390=\"\"),\"\",MAX(AI389,AI388,B390,D390,L390)+1)","v":""},null,null,{"$f":"IF(OR(ISNUMBER(AB390),AB390=\"\"),\"\",X390+1)","v":""},{"$nulls":4},{"$f":"IF(ISNUMBER(Y390),2,IF(A391=\"\",IF(OR(AH390>0,VLOOKUP(O390,EventConfig!A:C,3,FALSE)=4),3,\"\"),1))","v":3},10032,null,{"$f":"IF(A390=\"\",\"\",MAX(B390,D390,L390,X390,AA390,AI389,AI388))","v":5442}]
[null,"",null,"",{"$nulls":7},"",{"$nulls":11},"",null,null,"",{"$nulls":7},""]
[{"$f":"O392*100+P392","v":3000301},5443,"击杀妖兽","",{"$nulls":6},{"$f":"IF(J392=\"\",\"\",VLOOKUP(J392,EventNPC!A:E,5,FALSE))","v":""},"",null,null,30003,{"$f":"IF(O392=O342,P342+1,1)","v":1},{"$f":"_xlfn.TEXTJOIN(\";\",1,R392:S392)","v":""},null,null,{"$f":"IF(R392=\"\",\"\",\"-\"&VLOOKUP(R392,EventConditionConfig!A:C,3,FALSE)&IF(S392=\"\",\"\",CHAR(10)&\"-\"&VLOOKUP(S392,EventConditionConfig!A:C,3,FALSE)))","v":""},2,1003,{"$f":"_xlfn.TEXTJOIN(\";\",1,X392,AA392)","v":""},"",null,null,"",{"$nulls":4},{"$f":"IF(U392=2,2,IF(A392=\"\",\"\",IF(U392=1,\"\",IF(A393=\"\",3,1))))","v":2},"102;101",null,5443]
[null,"",null,"",{"$nulls":7},"",{"$nulls":11},"",null,null,"",{"$nulls":7},""]
[{"$f":"O394*100+P394","v":3000401},5444,"击败后山小妖","",{"$nulls":6},{"$f":"IF(J394=\"\",\"\",VLOOKUP(J394,EventNPC!A:E,5,FALSE))","v":""},"",null,null,30004,{"$f":"IF(O394=O393,P393+1,1)","v":1},{"$f":"_xlfn.TEXTJOIN(\";\",1,R394:S394)","v":""},null,null,{"$f":"IF(R394=\"\",\"\",\"-\"&VLOOKUP(R394,EventConditionConfig!A:C,3,FALSE)&IF(S394=\"\",\"\",CHAR(10)&\"-\"&VLOOKUP(S394,EventConditionConfig!A:C,3,FALSE)))","v":""},2,1004,{"$f":"_xlfn.TEXTJOIN(\";\",1,X394,AA394)","v":""},"",null,null,"",{"$nulls":4},{"$f":"IF(U394=2,2,IF(A394=\"\",\"\",IF(U394=1,\"\",IF(A395=\"\",3,1))))","v":2},"102;101",null,5444]
[null,"",null,"",{"$nulls":7},"",{"$nulls":11},"",null,null,"",{"$nulls":7},""]
[{"$f":"O396*100+P396","v":3000501},5445,"击败夜袭的妖兽","",{"$nulls":6},{"$f":"IF(J396=\"\",\"\",VLOOKUP(J396,EventNPC!A:E,5,FALSE))","v":""},"",null,null,30005,{"$f":"IF(O396=O395,P395+1,1)","v":1},{"$f":"_xlfn.TEXTJOIN(\";\",1,R396:S396)","v":""},null,null,{"$f":"IF(R396=\"\",\"\",\"-\"&VLOOKUP(R396,EventConditionConfig!A:C,3,FALSE)&IF(S396=\"\",\"\",CHAR(10)&\"-\"&VLOOKUP(S396,EventConditionConfig!A:C,3,FALSE)))","v":""},2,1005,{"$f":"_xlfn.TEXTJOIN(\";\",1,X396,AA396)","v":""},"",null,null,"",{"$nulls":4},{"$f":"IF(U396=2,2,IF(A396=\"\",\"\",IF(U396=1,\"\",IF(A397=\"\",3,1))))","v":2},"102;101",null,5445]
[null,"",null,"",{"$nulls":7},"",{"$nulls":11},"",null,null,"",{"$nulls":7},""]
[{"$f":"O398*100+P398","v":3000601},5446,"击败峰顶的妖王","",{"$nulls":6},{"$f":"IF(J398=\"\",\"\",VLOOKUP(J398,EventNPC!A:E,5,FALSE))","v":""},"",null,null,30006,{"$f":"IF(O398=O397,P397+1,1)","v":1},{"$f":"_xlfn.TEXTJOIN(\";\",1,R398:S398)","v":""},null,null,{"$f":"IF(R398=\"\",\"\",\"-\"&VLOOKUP(R398,EventConditionConfig!A:C,3,FALSE)&IF(S398=\"\",\"\",CHAR(10)&\"-\"&VLOOKUP(S398,EventConditionConfig!A:C,3,FALSE)))","v":""},2,1006,{"$f":"_xlfn.TEXTJOIN(\";\",1,X398,AA398)","v":""},"",null,null,"",{"$nulls":4},{"$f":"IF(U398=2,2,IF(A398=\"\",\"\",IF(U398=1,\"\",IF(A399=\"\",3,1))))","v":2},"102;101",null,5446]
[null,"",null,"",{"$nulls":7},"",{"$nulls":11},"",null,null,"",{"$nulls":7},""]
[{"$f":"O400*100+P400","v":3000701},5447,"击败仙山的阵眼妖兽","",{"$nulls":6},{"$f":"IF(J400=\"\",\"\",VLOOKUP(J400,EventNPC!A:E,5,FALSE))","v":""},"",null,null,30007,{"$f":"IF(O400=O399,P399+1,1)","v":1},{"$f":"_xlfn.TEXTJOIN(\";\",1,R400:S400)","v":""},null,null,{"$f":"IF(R400=\"\",\"\",\"-\"&VLOOKUP(R400,EventConditionConfig!A:C,3,FALSE)&IF(S400=\"\",\"\",CHAR(10)&\"-\"&VLOOKUP(S400,EventConditionConfig!A:C,3,FALSE)))","v":""},2,1007,{"$f":"_xlfn.TEXTJOIN(\";\",1,X400,AA400)","v":""},"",null,null,"",{"$nulls":4},{"$f":"IF(U400=2,2,IF(A400=\"\",\"\",IF(U400=1,\"\",IF(A401=\"\",3,1))))","v":2},"102;101",null,5447]
[null,"",null,"",{"$nulls":7},"",{"$nulls":11},"",null,null,"",{"$nulls":7},""]
[3000801,5448,"击杀灵兽获得天肥","",{"$nulls":6},{"$f":"IF(J402=\"\",\"\",VLOOKUP(J402,EventNPC!A:E,5,FALSE))","v":""},"",null,null,30008,{"$f":"IF(O402=O401,P401+1,1)","v":1},{"$f":"_xlfn.TEXTJOIN(\";\",1,R402:S402)","v":""},null,null,{"$f":"IF(R402=\"\",\"\",\"-\"&VLOOKUP(R402,EventConditionConfig!A:C,3,FALSE)&IF(S402=\"\",\"\",CHAR(10)&\"-\"&VLOOKUP(S402,EventConditionConfig!A:C,3,FALSE)))","v":""},2,1008,"","",null,null,"",null,null,20002,1,{"$f":"IF(U402=2,2,IF(A402=\"\",\"\",IF(U402=1,\"\",IF(A406=\"\",3,1))))","v":2},"102;101",null,5448]
[null,"",null,"",{"$nulls":7},"",{"$nulls":11},"",null,null,"",{"$nulls":7},""]
[{"$f":"O404*100+P404","v":3001101},5449,"获得灵草种子","",{"$nulls":6},{"$f":"IF(J404=\"\",\"\",VLOOKUP(J404,EventNPC!A:E,5,FALSE))","v":""},5450,"你来到后山的草园中，按照许由的要求，摘了几株灵草种子。",null,30011,{"$f":"IF(O404=O403,P403+1,1)","v":1},{"$f":"_xlfn.TEXTJOIN(\";\",1,R404:S404)","v":""},null,null,{"$f":"IF(R404=\"\",\"\",\"-\"&VLOOKUP(R404,EventConditionConfig!A:C,3,FALSE)&IF(S404=\"\",\"\",CHAR(10)&\"-\"&VLOOKUP(S404,EventConditionConfig!A:C,3,FALSE)))","v":""},{"$f":"IF(Y404=\"\",\"\",IF(ISTEXT(Y404),1,2))","v":1},{"$f":"IF(U404=1,_xlfn.TEXTJOIN(\";\",1,IF(Z404=\"\",A404+1,Z404),IF(AND(AA404<>\"\",AC404=\"\"),A404+1,AC404)),IF(U404=2,Y404,\"\"))","v":"3001102"},{"$f":"_xlfn.TEXTJOIN(\";\",1,X404,AA404)","v":"5451"},5451,"将种子收好",null,"",{"$nulls":5},{"$f":"IF(AF404=\"\",\"\",CHOOSE(AF404,IF(AH404=\"\",A404+1,AH404),CONCATENATE(IF(AH404=\"\",A404+1,AH404),\";101\"),IF(AH404=\"\",O404+1,AH404)))","v":""},null,5451]
[{"$f":"O405*100+P405","v":3001102},5449,"获得灵草种子","",{"$nulls":6},{"$f":"IF(J405=\"\",\"\",VLOOKUP(J405,EventNPC!A:E,5,FALSE))","v":""},"",null,null,30011,{"$f":"IF(O405=O404,P404+1,1)","v":2},{"$f":"_xlfn.TEXTJOIN(\";\",1,R405:S405)","v":""},null,null,{"$f":"IF(R405=\"\",\"\",\"-\"&VLOOKUP(R405,EventConditionConfig!A:C,3,FALSE)&IF(S405=\"\",\"\",CHAR(10)&\"-\"&VLOOKUP(S405,EventConditionConfig!A:C,3,FALSE)))","v":""},{"$f":"IF(Y405=\"\",\"\",IF(ISTEXT(Y405),1,2))","v":""},{"$f":"IF(U405=1,_xlfn.TEXTJOIN(\";\",1,IF(Z405=\"\",A405+1,Z405),IF(AND(AA405<>\"\",AC405=\"\"),A405+1,AC405)),IF(U405=2,Y405,\"\"))","v":""},{"$f":"_xlfn.TEXTJOIN(\";\",1,X405,AA405)","v":""},"",null,null,"",{"$nulls":5},{"$f":"IF(AF405=\"\",\"\",CHOOSE(AF405,IF(AH405=\"\",A405+1,AH405),CONCATENATE(IF(AH405=\"\",A405+1,AH405),\";101\"),IF(AH405=\"\",O405+1,AH405)))","v":""},null,5451]
[null,"",null,"",{"$nulls":7},"",{"$nulls":11},"",null,null,"",{"$nulls":7},""]
[{"$f":"O407*100+P407","v":101101},5452,"神识探索至一处山洞之中，似乎别有洞天","",{"$nulls":6},{"$f":"IF(J407=\"\",\"\",VLOOKUP(J407,EventNPC!A:E,5,FALSE))","v":""},5453,"前往山洞之中收集药材",null,1011,{"$f":"IF(O407=O406,P406+1,1)","v":1},{"$f":"_xlfn.TEXTJOIN(\";\",1,R407:S407)","v":""},null,null,{"$f":"IF(R407=\"\",\"\",\"-\"&VLOOKUP(R407,EventConditionConfig!A:C,3,FALSE)&IF(S407=\"\",\"\",CHAR(10)&\"-\"&VLOOKUP(S407,EventConditionConfig!A:C,3,FALSE)))","v":""},{"$f":"IF(Y407=\"\",\"\",1)","v":""},{"$f":"IF(U407=1,A408,\"\")","v":""},{"$f":"_xlfn.TEXTJOIN(\";\",1,X407,AA407)","v":""},"",null,null,"",{"$nulls":7},5453]
[null,"",null,"",{"$nulls":7},"",{"$nulls":11},"",null,null,"",{"$nulls":7},""]
[{"$f":"O409*100+P409","v":500101},5454,"受疯道人所托，追查《御风化影诀》的下落",5455,"与疯道人对话(0/1)",{"$nulls":4},103,{"$f":"IF(J409=\"\",\"\",VLOOKUP(J409,EventNPC!A:E,5,FALSE))","v":"疯道人"},5456,"小友留步，老夫有一事相求",null,5001,{"$f":"IF(O409=O408,P408+1,1)","v":1},{"$f":"_xlfn.TEXTJOIN(\";\",1,R409:S409)","v":""},null,null,{"$f":"IF(R409=\"\",\"\",\"-\"&VLOOKUP(R409,EventConditionConfig!A:C,3,FALSE)&IF(S409=\"\",\"\",CHAR(10)&\"-\"&VLOOKUP(S409,EventConditionConfig!A:C,3,FALSE)))","v":""},{"$f":"IF(Y409=\"\",\"\",IF(ISTEXT(Y409),1,2))","v":""},{"$f":"IF(U409=1,_xlfn.TEXTJOIN(\";\",1,IF(Z409=\"\",A409+1,Z409),IF(AND(AA409<>\"\",AC409=\"\"),A409+1,AC409)),IF(U409=2,Y409,\"\"))","v":""},{"$f":"_xlfn.TEXTJOIN(\";\",1,X409,AA409)","v":""},"",null,null,"",{"$nulls":4},{"$f":"IF(A410=\"\",IF(OR(AH409>0,VLOOKUP(O409,EventConfig!A:C,3,FALSE)=4),3,\"\"),IF(ISNUMBER(Y409),2,1))","v":1},{"$f":"IF(AF409=\"\",\"\",CHOOSE(AF409,IF(AH409=\"\",A409+1,AH409),CONCATENATE(IF(AH409=\"\",A409+1,AH409),\";101\"),IF(AH409=\"\",O409+1,AH409)))","v":500102},null,5456]
[500102,5454,"受疯道人所托，追查《御风化影诀》的下落",5455,"与疯道人对话(0/1)",{"$nulls":4},103,{"$f":"IF(J410=\"\",\"\",VLOOKUP(J410,EventNPC!A:E,5,FALSE))","v":"疯道人"},5457,"三十年前北海妖族来犯，击退妖族后老夫捡到个被妖兽重伤的娃娃。",null,5001,2,"",null,null,{"$f":"IF(R410=\"\",\"\",\"-\"&VLOOKUP(R410,EventConditionConfig!A:C,3,FALSE)&IF(S410=\"\",\"\",CHAR(10)&\"-\"&VLOOKUP(S410,EventConditionConfig!A:C,3,FALSE)))","v":""},{"$f":"IF(Y410=\"\",\"\",IF(ISTEXT(Y410),1,2))","v":""},{"$f":"IF(U410=1,_xlfn.TEXTJOIN(\";\",1,IF(Z410=\"\",A410+1,Z410),IF(AND(AA410<>\"\",AC410=\"\"),A410+1,AC410)),IF(U410=2,Y410,\"\"))","v":""},{"$f":"_xlfn.TEXTJOIN(\";\",1,X410,AA410)","v":""},"",null,null,"",{"$nulls":4},{"$f":"IF(A411=\"\",IF(OR(AH410>0,VLOOKUP(O410,EventConfig!A:C,3,FALSE)=4),3,\"\"),IF(ISNUMBER(Y410),2,1))","v":1},{"$f":"IF(AF410=\"\",\"\",CHOOSE(AF410,IF(AH410=\"\",A410+1,AH410),CONCATENATE(IF(AH410=\"\",A410+1,AH410),\";101\"),IF(AH410=\"\",O410+1,AH410)))","v":500103},null,5457]
[500103,5454,"受疯道人所托，追查《御风化影诀》的下落",5455,"与疯道人对话(0/1)",{"$nulls":4},103,{"$f":"IF(J411=\"\",\"\",VLOOKUP(J411,EventNPC!A:E,5,FALSE))","v":"疯道人"},5458,"他心口妖气汇聚，周身却萦绕着纯净的风灵根。这般矛盾体质，注定要卷入因果轮回。",null,5001,3,"",null,null,{"$f":"IF(R411=\"\",\"\",\"-\"&VLOOKUP(R411,EventConditionConfig!A:C,3,FALSE)&IF(S411=\"\",\"\",CHAR(10)&\"-\"&VLOOKUP(S411,EventConditionConfig!A:C,3,FALSE)))","v":""},"","","","",null,null,"",{"$nulls":4},{"$f":"IF(A412=\"\",IF(OR(AH411>0,VLOOKUP(O411,EventConfig!A:C,3,FALSE)=4),3,\"\"),IF(ISNUMBER(Y411),2,1))","v":1},500104,null,5458]
[500104,5454,"受疯道人所托，追查《御风化影诀》的下落",5455,"与疯道人对话(0/1)",{"$nulls":4},103,{"$f":"IF(J412=\"\",\"\",VLOOKUP(J412,EventNPC!A:E,5,FALSE))","v":"疯道人"},5459,"于是老夫收留他在门下修养",null,5001,4,"",null,null,{"$f":"IF(R412=\"\",\"\",\"-\"&VLOOKUP(R412,EventConditionConfig!A:C,3,FALSE)&IF(S412=\"\",\"\",CHAR(10)&\"-\"&VLOOKUP(S412,EventConditionConfig!A:C,3,FALSE)))","v":""},"","","","",null,null,"",{"$nulls":4},{"$f":"IF(A413=\"\",IF(OR(AH412>0,VLOOKUP(O412,EventConfig!A:C,3,FALSE)=4),3,\"\"),IF(ISNUMBER(Y412),2,1))","v":1},500105,null,5459]
[500105,5454,"受疯道人所托，追查《御风化影诀》的下落",5455,"与疯道人对话(0/1)",{"$nulls":4},103,{"$f":"IF(J413=\"\",\"\",VLOOKUP(J413,EventNPC!A:E,5,FALSE))","v":"疯道人"},5460,"但他心智被妖气所蛊惑一心只想报仇，整日念叨着要杀尽北海妖族。",null,5001,5,"",null,null,{"$f":"IF(R413=\"\",\"\",\"-\"&VLOOKUP(R413,EventConditionConfig!A:C,3,FALSE)&IF(S413=\"\",\"\",CHAR(10)&\"-\"&VLOOKUP(S413,EventConditionConfig!A:C,3,FALSE)))","v":""},"","","","",null,null,"",{"$nulls":4},{"$f":"IF(A414=\"\",IF(OR(AH413>0,VLOOKUP(O413,EventConfig!A:C,3,FALSE)=4),3,\"\"),IF(ISNUMBER(Y413),2,1))","v":1},500106,null,5460]
[500106,5454,"受疯道人所托，追查《御风化影诀》的下落",5455,"与疯道人对话(0/1)",{"$nulls":4},103,{"$f":"IF(J414=\"\",\"\",VLOOKUP(J414,EventNPC!A:E,5,FALSE))","v":"疯道人"},5461,"但十年的相处老夫早就把他当做亲人看待，为了断掉念想，只得让他离去，他离开之时盗走了洞府中的禁书《御风化影诀》。",null,5001,6,"",null,null,{"$f":"IF(R414=\"\",\"\",\"-\"&VLOOKUP(R414,EventConditionConfig!A:C,3,FALSE)&IF(S414=\"\",\"\",CHAR(10)&\"-\"&VLOOKUP(S414,EventConditionConfig!A:C,3,FALSE)))","v":""},"","","","",null,null,"",{"$nulls":4},{"$f":"IF(A415=\"\",IF(OR(AH414>0,VLOOKUP(O414,EventConfig!A:C,3,FALSE)=4),3,\"\"),IF(ISNUMBER(Y414),2,1))","v":1},500107,null,5461]
[{"$f":"O415*100+P415","v":500107},5454,"受疯道人所托，追查《御风化影诀》的下落",5455,"与疯道人对话(0/1)",{"$nulls":4},100,{"$f":"IF(J415=\"\",\"\",VLOOKUP(J415,EventNPC!A:E,5,FALSE))","v":"玩家"},5462,"\"\"",null,5001,{"$f":"IF(O415=O414,P414+1,1)","v":7},{"$f":"_xlfn.TEXTJOIN(\";\",1,R415:S415)","v":""},null,null,{"$f":"IF(R415=\"\",\"\",\"-\"&VLOOKUP(R415,EventConditionConfig!A:C,3,FALSE)&IF(S415=\"\",\"\",CHAR(10)&\"-\"&VLOOKUP(S415,EventConditionConfig!A:C,3,FALSE)))","v":""},1,"500108;500108","5463;5464",5463,"前辈为何不追",null,5464,"他怎会轻易盗走此书",null,null,null,{"$f":"IF(A416=\"\",IF(OR(AH415>0,VLOOKUP(O415,EventConfig!A:C,3,FALSE)=4),3,\"\"),IF(ISNUMBER(Y415),2,1))","v":1},500108,null,5464]
[500108,5454,"受疯道人所托，追查《御风化影诀》的下落",5455,"与疯道人对话(0/1)",{"$nulls":4},103,{"$f":"IF(J416=\"\",\"\",VLOOKUP(J416,EventNPC!A:E,5,FALSE))","v":"疯道人"},5465,"那孩子恐是为了给爹妈寻仇，也是看往日情面，老夫不想亲自动手。",null,5001,8,"",null,null,{"$f":"IF(R416=\"\",\"\",\"-\"&VLOOKUP(R416,EventConditionConfig!A:C,3,FALSE)&IF(S416=\"\",\"\",CHAR(10)&\"-\"&VLOOKUP(S416,EventConditionConfig!A:C,3,FALSE)))","v":""},"","","","",null,null,"",{"$nulls":4},{"$f":"IF(A417=\"\",IF(OR(AH416>0,VLOOKUP(O416,EventConfig!A:C,3,FALSE)=4),3,\"\"),IF(ISNUMBER(Y416),2,1))","v":1},500109,null,5465]
[500109,5454,"受疯道人所托，追查《御风化影诀》的下落",5455,"与疯道人对话(0/1)",{"$nulls":4},103,{"$f":"IF(J417=\"\",\"\",VLOOKUP(J417,EventNPC!A:E,5,FALSE))","v":"疯道人"},5466,"现如今老夫发现山中的生灵会莫名消失，村中孩童也是被神秘的妖气所卷走，这和书中的血肉炼化的方法一模一样，老夫断定是那孩子所为。",null,5001,9,"",null,null,{"$f":"IF(R417=\"\",\"\",\"-\"&VLOOKUP(R417,EventConditionConfig!A:C,3,FALSE)&IF(S417=\"\",\"\",CHAR(10)&\"-\"&VLOOKUP(S417,EventConditionConfig!A:C,3,FALSE)))","v":""},"","","","",null,null,"",{"$nulls":4},{"$f":"IF(A418=\"\",IF(OR(AH417>0,VLOOKUP(O417,EventConfig!A:C,3,FALSE)=4),3,\"\"),IF(ISNUMBER(Y417),2,1))","v":1},500110,null,5466]
[500110,5454,"受疯道人所托，追查《御风化影诀》的下落",5455,"与疯道人对话(0/1)",{"$nulls":4},103,{"$f":"IF(J418=\"\",\"\",VLOOKUP(J418,EventNPC!A:E,5,FALSE))","v":"疯道人"},5467,"小友，我追踪妖气波动，他就在西边的树林之中！",null,5001,10,"",null,null,{"$f":"IF(R418=\"\",\"\",\"-\"&VLOOKUP(R418,EventConditionConfig!A:C,3,FALSE)&IF(S418=\"\",\"\",CHAR(10)&\"-\"&VLOOKUP(S418,EventConditionConfig!A:C,3,FALSE)))","v":""},5,"","","",null,null,"",{"$nulls":4},{"$f":"IF(A419=\"\",IF(OR(AH418>0,VLOOKUP(O418,EventConfig!A:C,3,FALSE)=4),3,\"\"),IF(ISNUMBER(Y418),2,1))","v":1},500111,null,5467]
[500111,5454,"受疯道人所托，追查《御风化影诀》的下落",5468,"追查风无咎(0/1)",{"$nulls":5},{"$f":"IF(J419=\"\",\"\",VLOOKUP(J419,EventNPC!A:E,5,FALSE))","v":""},5469,"（枯叶居然无风漂浮在空中，地面残留着扭曲的符文刻痕，见风无咎在地上刻画着什么）",null,5001,11,"",null,null,{"$f":"IF(R419=\"\",\"\",\"-\"&VLOOKUP(R419,EventConditionConfig!A:C,3,FALSE)&IF(S419=\"\",\"\",CHAR(10)&\"-\"&VLOOKUP(S419,EventConditionConfig!A:C,3,FALSE)))","v":""},{"$f":"IF(Y419=\"\",\"\",IF(ISTEXT(Y419),1,2))","v":""},"","","",null,null,"",{"$nulls":4},{"$f":"IF(A420=\"\",IF(OR(AH419>0,VLOOKUP(O419,EventConfig!A:C,3,FALSE)=4),3,\"\"),IF(ISNUMBER(Y419),2,1))","v":1},500112,null,5469]
[500112,5454,"受疯道人所托，追查《御风化影诀》的下落",5468,"追查风无咎(0/1)",{"$nulls":4},112,{"$f":"IF(J420=\"\",\"\",VLOOKUP(J420,EventNPC!A:E,5,FALSE))","v":"风无咎"},5470,"(看见主角到来)你小子身上怎会有老疯子的气，是那老头让你来抓我的吗。",null,5001,12,"",null,null,{"$f":"IF(R420=\"\",\"\",\"-\"&VLOOKUP(R420,EventConditionConfig!A:C,3,FALSE)&IF(S420=\"\",\"\",CHAR(10)&\"-\"&VLOOKUP(S420,EventConditionConfig!A:C,3,FALSE)))","v":""},"","","","",null,null,"",{"$nulls":4},{"$f":"IF(A421=\"\",IF(OR(AH420>0,VLOOKUP(O420,EventConfig!A:C,3,FALSE)=4),3,\"\"),IF(ISNUMBER(Y420),2,1))","v":1},500113,null,5470]
[500113,5454,"受疯道人所托，追查《御风化影诀》的下落",5468,"追查风无咎(0/1)",{"$nulls":4},100,{"$f":"IF(J421=\"\",\"\",VLOOKUP(J421,EventNPC!A:E,5,FALSE))","v":"玩家"},5471,"前辈见往日情面不愿亲自动手，我一人足以",null,5001,13,"",null,null,{"$f":"IF(R421=\"\",\"\",\"-\"&VLOOKUP(R421,EventConditionConfig!A:C,3,FALSE)&IF(S421=\"\",\"\",CHAR(10)&\"-\"&VLOOKUP(S421,EventConditionConfig!A:C,3,FALSE)))","v":""},"","","","",null,null,"",{"$nulls":4},{"$f":"IF(A422=\"\",IF(OR(AH421>0,VLOOKUP(O421,EventConfig!A:C,3,FALSE)=4),3,\"\"),IF(ISNUMBER(Y421),2,1))","v":1},500114,null,5471]
[500114,5454,"受疯道人所托，追查《御风化影诀》的下落",5468,"追查风无咎(0/1)",{"$nulls":5},{"$f":"IF(J422=\"\",\"\",VLOOKUP(J422,EventNPC!A:E,5,FALSE))","v":""},5472,"（说罢，风无咎的影子化形，为了一妖，顿时煞气暴涨）",null,5001,14,"",null,null,{"$f":"IF(R422=\"\",\"\",\"-\"&VLOOKUP(R422,EventConditionConfig!A:C,3,FALSE)&IF(S422=\"\",\"\",CHAR(10)&\"-\"&VLOOKUP(S422,EventConditionConfig!A:C,3,FALSE)))","v":""},"","","","",null,null,"",{"$nulls":4},{"$f":"IF(A423=\"\",IF(OR(AH422>0,VLOOKUP(O422,EventConfig!A:C,3,FALSE)=4),3,\"\"),IF(ISNUMBER(Y422),2,1))","v":1},500115,null,5472]
[500115,5454,"受疯道人所托，追查《御风化影诀》的下落",5468,"追查风无咎(0/1)",{"$nulls":4},112,{"$f":"IF(J423=\"\",\"\",VLOOKUP(J423,EventNPC!A:E,5,FALSE))","v":"风无咎"},5473,"如今我自断妖魂炼出影身，正好今天拿你试试！",null,5001,15,"",null,null,{"$f":"IF(R423=\"\",\"\",\"-\"&VLOOKUP(R423,EventConditionConfig!A:C,3,FALSE)&IF(S423=\"\",\"\",CHAR(10)&\"-\"&VLOOKUP(S423,EventConditionConfig!A:C,3,FALSE)))","v":""},2,100001,"","",100001,null,"",{"$nulls":4},{"$f":"IF(A424=\"\",IF(OR(AH423>0,VLOOKUP(O423,EventConfig!A:C,3,FALSE)=4),3,\"\"),IF(ISNUMBER(Y423),2,1))","v":2},"500116;101",null,5473]
[500116,5454,"受疯道人所托，追查《御风化影诀》的下落",5468,"追查风无咎(0/1)",{"$nulls":4},112,{"$f":"IF(J424=\"\",\"\",VLOOKUP(J424,EventNPC!A:E,5,FALSE))","v":"风无咎"},5474,"岂会如此！",null,5001,16,"",null,null,{"$f":"IF(R424=\"\",\"\",\"-\"&VLOOKUP(R424,EventConditionConfig!A:C,3,FALSE)&IF(S424=\"\",\"\",CHAR(10)&\"-\"&VLOOKUP(S424,EventConditionConfig!A:C,3,FALSE)))","v":""},1,"500117","5475",5475,"交还书页，我可留你魂魄入轮回。",null,"",{"$nulls":4},{"$f":"IF(A425=\"\",IF(OR(AH424>0,VLOOKUP(O424,EventConfig!A:C,3,FALSE)=4),3,\"\"),IF(ISNUMBER(Y424),2,1))","v":1},500117,null,5475]
[500117,5454,"受疯道人所托，追查《御风化影诀》的下落",5468,"追查风无咎(0/1)",{"$nulls":4},112,{"$f":"IF(J425=\"\",\"\",VLOOKUP(J425,EventNPC!A:E,5,FALSE))","v":"风无咎"},5476,"轮回？今日是我大意了！老东西还有你，给我等着！（化作一震妖风带着《御风化影诀》逃往远方",null,5001,17,"",null,null,{"$f":"IF(R425=\"\",\"\",\"-\"&VLOOKUP(R425,EventConditionConfig!A:C,3,FALSE)&IF(S425=\"\",\"\",CHAR(10)&\"-\"&VLOOKUP(S425,EventConditionConfig!A:C,3,FALSE)))","v":""},"","","","",null,null,"",{"$nulls":4},{"$f":"IF(A426=\"\",IF(OR(AH425>0,VLOOKUP(O425,EventConfig!A:C,3,FALSE)=4),3,\"\"),IF(ISNUMBER(Y425),2,1))","v":1},500118,null,5476]
[500118,5454,"受疯道人所托，追查《御风化影诀》的下落",5468,"追查风无咎(0/1)",{"$nulls":4},103,{"$f":"IF(J426=\"\",\"\",VLOOKUP(J426,EventNPC!A:E,5,FALSE))","v":"疯道人"},5477,"这孩子天资聪颖，短短二十年就能参悟书中所写。",null,5001,18,"",null,null,{"$f":"IF(R426=\"\",\"\",\"-\"&VLOOKUP(R426,EventConditionConfig!A:C,3,FALSE)&IF(S426=\"\",\"\",CHAR(10)&\"-\"&VLOOKUP(S426,EventConditionConfig!A:C,3,FALSE)))","v":""},"","","","",null,null,"",{"$nulls":4},{"$f":"IF(A427=\"\",IF(OR(AH426>0,VLOOKUP(O426,EventConfig!A:C,3,FALSE)=4),3,\"\"),IF(ISNUMBER(Y426),2,1))","v":1},500119,null,5477]
[500119,5454,"受疯道人所托，追查《御风化影诀》的下落",5468,"追查风无咎(0/1)",{"$nulls":4},103,{"$f":"IF(J427=\"\",\"\",VLOOKUP(J427,EventNPC!A:E,5,FALSE))","v":"疯道人"},5478,"无妨，此法需要大量血肉献祭，如此规模的法术定会妖气四散，找到他也是迟早之事。",null,5001,19,"",null,null,{"$f":"IF(R427=\"\",\"\",\"-\"&VLOOKUP(R427,EventConditionConfig!A:C,3,FALSE)&IF(S427=\"\",\"\",CHAR(10)&\"-\"&VLOOKUP(S427,EventConditionConfig!A:C,3,FALSE)))","v":""},"","","","",null,null,"",{"$nulls":4},{"$f":"IF(A428=\"\",IF(OR(AH427>0,VLOOKUP(O427,EventConfig!A:C,3,FALSE)=4),3,\"\"),IF(ISNUMBER(Y427),2,1))","v":""},{"$f":"IF(AF427=\"\",\"\",CHOOSE(AF427,IF(AH427=\"\",A427+1,AH427),CONCATENATE(IF(AH427=\"\",A427+1,AH427),\";101\"),IF(AH427=\"\",O427+1,AH427)))","v":""},null,5478]
[null,"",null,"",{"$nulls":7},"",{"$nulls":11},"",null,null,"",{"$nulls":7},""]
[{"$f":"O429*100+P429","v":500301},5479,"受化妖剑士所托，帮助他消灭藏匿北海的海妖",5480,"与化妖剑士对话",{"$nulls":5},{"$f":"IF(J429=\"\",\"\",VLOOKUP(J429,EventNPC!A:E,5,FALSE))","v":""},5481,"咸腥的海风中，你看见礁石上蜷缩着人形怪物——它的脊椎刺破皮肤形成剑鞘，一柄生满红锈的巨剑就背在嵴骨之间。当它转头看向你时，你不由得心底生寒。",null,5003,{"$f":"IF(O429=O428,P428+1,1)","v":1},{"$f":"_xlfn.TEXTJOIN(\";\",1,R429:S429)","v":""},null,null,{"$f":"IF(R429=\"\",\"\",\"-\"&VLOOKUP(R429,EventConditionConfig!A:C,3,FALSE)&IF(S429=\"\",\"\",CHAR(10)&\"-\"&VLOOKUP(S429,EventConditionConfig!A:C,3,FALSE)))","v":""},{"$f":"IF(Y429=\"\",\"\",IF(ISTEXT(Y429),1,2))","v":""},{"$f":"IF(U429=1,_xlfn.TEXTJOIN(\";\",1,IF(Z429=\"\",A429+1,Z429),IF(AND(AA429<>\"\",AC429=\"\"),A429+1,AC429)),IF(U429=2,Y429,\"\"))","v":""},{"$f":"_xlfn.TEXTJOIN(\";\",1,X429,AA429)","v":""},"",null,null,"",{"$nulls":4},{"$f":"IF(A430=\"\",IF(OR(AH429>0,VLOOKUP(O429,EventConfig!A:C,3,FALSE)=4),3,\"\"),IF(ISNUMBER(Y429),2,1))","v":1},{"$f":"IF(AF429=\"\",\"\",CHOOSE(AF429,IF(AH429=\"\",A429+1,AH429),CONCATENATE(IF(AH429=\"\",A429+1,AH429),\";101\"),IF(AH429=\"\",O429+1,AH429)))","v":500302},null,5481]
[500302,5479,"受化妖剑士所托，帮助他消灭藏匿北海的海妖",5480,"与化妖剑士对话",{"$nulls":4},113,{"$f":"IF(J430=\"\",\"\",VLOOKUP(J430,EventNPC!A:E,5,FALSE))","v":"北海剑妖"},5482,"你闻到了吗...海里的血锈味。那厮海妖在这片海滩卷走阿蘅时的这种味道",null,5003,2,"",null,null,{"$f":"IF(R430=\"\",\"\",\"-\"&VLOOKUP(R430,EventConditionConfig!A:C,3,FALSE)&IF(S430=\"\",\"\",CHAR(10)&\"-\"&VLOOKUP(S430,EventConditionConfig!A:C,3,FALSE)))","v":""},"","","","",null,null,"",{"$nulls":4},{"$f":"IF(A431=\"\",IF(OR(AH430>0,VLOOKUP(O430,EventConfig!A:C,3,FALSE)=4),3,\"\"),IF(ISNUMBER(Y430),2,1))","v":1},500303,null,5482]
[500303,5479,"受化妖剑士所托，帮助他消灭藏匿北海的海妖",5480,"与化妖剑士对话",{"$nulls":4},100,{"$f":"IF(J431=\"\",\"\",VLOOKUP(J431,EventNPC!A:E,5,FALSE))","v":"玩家"},5483,"什么血锈味，我闻不见，你口中的阿蘅是？",null,5003,3,"",null,null,{"$f":"IF(R431=\"\",\"\",\"-\"&VLOOKUP(R431,EventConditionConfig!A:C,3,FALSE)&IF(S431=\"\",\"\",CHAR(10)&\"-\"&VLOOKUP(S431,EventConditionConfig!A:C,3,FALSE)))","v":""},"","","","",null,null,"",{"$nulls":4},{"$f":"IF(A432=\"\",IF(OR(AH431>0,VLOOKUP(O431,EventConfig!A:C,3,FALSE)=4),3,\"\"),IF(ISNUMBER(Y431),2,1))","v":1},500304,null,5483]
[500304,5479,"受化妖剑士所托，帮助他消灭藏匿北海的海妖",5480,"与化妖剑士对话",{"$nulls":4},113,{"$f":"IF(J432=\"\",\"\",VLOOKUP(J432,EventNPC!A:E,5,FALSE))","v":"北海剑妖"},5484,"我的妻子。",null,5003,4,"",null,null,{"$f":"IF(R432=\"\",\"\",\"-\"&VLOOKUP(R432,EventConditionConfig!A:C,3,FALSE)&IF(S432=\"\",\"\",CHAR(10)&\"-\"&VLOOKUP(S432,EventConditionConfig!A:C,3,FALSE)))","v":""},"","","","",null,null,"",{"$nulls":4},{"$f":"IF(A433=\"\",IF(OR(AH432>0,VLOOKUP(O432,EventConfig!A:C,3,FALSE)=4),3,\"\"),IF(ISNUMBER(Y432),2,1))","v":1},500305,null,5484]
[500305,5479,"受化妖剑士所托，帮助他消灭藏匿北海的海妖",5480,"与化妖剑士对话",{"$nulls":4},100,{"$f":"IF(J433=\"\",\"\",VLOOKUP(J433,EventNPC!A:E,5,FALSE))","v":"玩家"},5485,"妖怪还有妻子，还挺稀奇。",null,5003,5,"",null,null,{"$f":"IF(R433=\"\",\"\",\"-\"&VLOOKUP(R433,EventConditionConfig!A:C,3,FALSE)&IF(S433=\"\",\"\",CHAR(10)&\"-\"&VLOOKUP(S433,EventConditionConfig!A:C,3,FALSE)))","v":""},"","","","",null,null,"",{"$nulls":4},{"$f":"IF(A434=\"\",IF(OR(AH433>0,VLOOKUP(O433,EventConfig!A:C,3,FALSE)=4),3,\"\"),IF(ISNUMBER(Y433),2,1))","v":1},500306,null,5485]
[500306,5479,"受化妖剑士所托，帮助他消灭藏匿北海的海妖",5480,"与化妖剑士对话",{"$nulls":4},113,{"$f":"IF(J434=\"\",\"\",VLOOKUP(J434,EventNPC!A:E,5,FALSE))","v":"北海剑妖"},5486,"当年我可是和你一样的修士，但从那之后一切都变了",null,5003,6,"",null,null,{"$f":"IF(R434=\"\",\"\",\"-\"&VLOOKUP(R434,EventConditionConfig!A:C,3,FALSE)&IF(S434=\"\",\"\",CHAR(10)&\"-\"&VLOOKUP(S434,EventConditionConfig!A:C,3,FALSE)))","v":""},"","","","",null,null,"",{"$nulls":4},{"$f":"IF(A435=\"\",IF(OR(AH434>0,VLOOKUP(O434,EventConfig!A:C,3,FALSE)=4),3,\"\"),IF(ISNUMBER(Y434),2,1))","v":1},500307,null,5486]
[500307,5479,"受化妖剑士所托，帮助他消灭藏匿北海的海妖",5480,"与化妖剑士对话",{"$nulls":4},113,{"$f":"IF(J435=\"\",\"\",VLOOKUP(J435,EventNPC!A:E,5,FALSE))","v":"北海剑妖"},5487,"百余年我送给阿蘅的定情信物贝壳项链，被阿蘅不慎遗失在这片海滩，她于是在这苦苦寻找。可突然间一头妖兽现身，将她拖入了海中！",null,5003,7,"",null,null,{"$f":"IF(R435=\"\",\"\",\"-\"&VLOOKUP(R435,EventConditionConfig!A:C,3,FALSE)&IF(S435=\"\",\"\",CHAR(10)&\"-\"&VLOOKUP(S435,EventConditionConfig!A:C,3,FALSE)))","v":""},"","","","",null,null,"",{"$nulls":4},{"$f":"IF(A436=\"\",IF(OR(AH435>0,VLOOKUP(O435,EventConfig!A:C,3,FALSE)=4),3,\"\"),IF(ISNUMBER(Y435),2,1))","v":1},500308,null,5487]
[500308,5479,"受化妖剑士所托，帮助他消灭藏匿北海的海妖",5480,"与化妖剑士对话",{"$nulls":4},113,{"$f":"IF(J436=\"\",\"\",VLOOKUP(J436,EventNPC!A:E,5,FALSE))","v":"北海剑妖"},5488,"得知此事后一直守在这，等着那厮妖兽从海中现身。",null,5003,8,"",null,null,{"$f":"IF(R436=\"\",\"\",\"-\"&VLOOKUP(R436,EventConditionConfig!A:C,3,FALSE)&IF(S436=\"\",\"\",CHAR(10)&\"-\"&VLOOKUP(S436,EventConditionConfig!A:C,3,FALSE)))","v":""},"","","","",null,null,"",{"$nulls":4},{"$f":"IF(A437=\"\",IF(OR(AH436>0,VLOOKUP(O436,EventConfig!A:C,3,FALSE)=4),3,\"\"),IF(ISNUMBER(Y436),2,1))","v":1},500309,null,5488]
[500309,5479,"受化妖剑士所托，帮助他消灭藏匿北海的海妖",5480,"与化妖剑士对话",{"$nulls":4},113,{"$f":"IF(J437=\"\",\"\",VLOOKUP(J437,EventNPC!A:E,5,FALSE))","v":"北海剑妖"},5489,"我在这片海滩终于等到那厮妖兽从海中出现，我便提剑向其冲去，我的剑深深刺入了妖兽的身体，它一吃痛逃入了这片海中，空中忽然刮起了狂风，被狂风阻拦无法进入海中追寻，妖兽也被狂风困在了海中",null,5003,9,"",null,null,{"$f":"IF(R437=\"\",\"\",\"-\"&VLOOKUP(R437,EventConditionConfig!A:C,3,FALSE)&IF(S437=\"\",\"\",CHAR(10)&\"-\"&VLOOKUP(S437,EventConditionConfig!A:C,3,FALSE)))","v":""},"","","","",null,null,"",{"$nulls":4},{"$f":"IF(A438=\"\",IF(OR(AH437>0,VLOOKUP(O437,EventConfig!A:C,3,FALSE)=4),3,\"\"),IF(ISNUMBER(Y437),2,1))","v":1},500310,null,5489]
[500310,5479,"受化妖剑士所托，帮助他消灭藏匿北海的海妖",5480,"与化妖剑士对话",{"$nulls":4},113,{"$f":"IF(J438=\"\",\"\",VLOOKUP(J438,EventNPC!A:E,5,FALSE))","v":"北海剑妖"},5490,"那你为何会变成了妖",null,5003,10,"",null,null,{"$f":"IF(R438=\"\",\"\",\"-\"&VLOOKUP(R438,EventConditionConfig!A:C,3,FALSE)&IF(S438=\"\",\"\",CHAR(10)&\"-\"&VLOOKUP(S438,EventConditionConfig!A:C,3,FALSE)))","v":""},"","","","",null,null,"",{"$nulls":4},{"$f":"IF(A439=\"\",IF(OR(AH438>0,VLOOKUP(O438,EventConfig!A:C,3,FALSE)=4),3,\"\"),IF(ISNUMBER(Y438),2,1))","v":1},500311,null,5490]
[500311,5479,"受化妖剑士所托，帮助他消灭藏匿北海的海妖",5480,"与化妖剑士对话",{"$nulls":4},113,{"$f":"IF(J439=\"\",\"\",VLOOKUP(J439,EventNPC!A:E,5,FALSE))","v":"北海剑妖"},5491,"因北海妖气横行，我被妖气入体，身体慢慢发生了变化，不妨这也算北海对我的恩赐，妻子死后我日以继日的待在这里等着复仇，等着斩杀掉那只吞掉我妻子的妖兽。",null,5003,11,"",null,null,{"$f":"IF(R439=\"\",\"\",\"-\"&VLOOKUP(R439,EventConditionConfig!A:C,3,FALSE)&IF(S439=\"\",\"\",CHAR(10)&\"-\"&VLOOKUP(S439,EventConditionConfig!A:C,3,FALSE)))","v":""},"","","","",null,null,"",{"$nulls":4},{"$f":"IF(A440=\"\",IF(OR(AH439>0,VLOOKUP(O439,EventConfig!A:C,3,FALSE)=4),3,\"\"),IF(ISNUMBER(Y439),2,1))","v":1},500312,null,5491]
[500312,5479,"受化妖剑士所托，帮助他消灭藏匿北海的海妖",5480,"与化妖剑士对话",{"$nulls":4},113,{"$f":"IF(J440=\"\",\"\",VLOOKUP(J440,EventNPC!A:E,5,FALSE))","v":"北海剑妖"},5492,"我有办法驱散狂风",null,5003,12,"",null,null,{"$f":"IF(R440=\"\",\"\",\"-\"&VLOOKUP(R440,EventConditionConfig!A:C,3,FALSE)&IF(S440=\"\",\"\",CHAR(10)&\"-\"&VLOOKUP(S440,EventConditionConfig!A:C,3,FALSE)))","v":""},"","","","",null,null,"",{"$nulls":4},{"$f":"IF(A441=\"\",IF(OR(AH440>0,VLOOKUP(O440,EventConfig!A:C,3,FALSE)=4),3,\"\"),IF(ISNUMBER(Y440),2,1))","v":1},500313,null,5492]
[500313,5479,"受化妖剑士所托，帮助他消灭藏匿北海的海妖",5480,"与化妖剑士对话",{"$nulls":5},{"$f":"IF(J441=\"\",\"\",VLOOKUP(J441,EventNPC!A:E,5,FALSE))","v":""},5493,"（拿出风灵珠驱散海面狂风）（瞬间海面变的不平，一头妖力浑厚的妖兽从海面中跃出）",null,5003,13,"",null,null,{"$f":"IF(R441=\"\",\"\",\"-\"&VLOOKUP(R441,EventConditionConfig!A:C,3,FALSE)&IF(S441=\"\",\"\",CHAR(10)&\"-\"&VLOOKUP(S441,EventConditionConfig!A:C,3,FALSE)))","v":""},"","","","",null,null,"",{"$nulls":4},{"$f":"IF(A442=\"\",IF(OR(AH441>0,VLOOKUP(O441,EventConfig!A:C,3,FALSE)=4),3,\"\"),IF(ISNUMBER(Y441),2,1))","v":1},500314,null,5493]
[500314,5479,"受化妖剑士所托，帮助他消灭藏匿北海的海妖",5494,"追查海妖(0/1)",{"$nulls":4},113,{"$f":"IF(J442=\"\",\"\",VLOOKUP(J442,EventNPC!A:E,5,FALSE))","v":"北海剑妖"},5495,"小友有如此绝技，当斩杀那厮妖兽后定当好好报答你！",null,5003,14,"",null,null,{"$f":"IF(R442=\"\",\"\",\"-\"&VLOOKUP(R442,EventConditionConfig!A:C,3,FALSE)&IF(S442=\"\",\"\",CHAR(10)&\"-\"&VLOOKUP(S442,EventConditionConfig!A:C,3,FALSE)))","v":""},2,100001,"","",100001,null,"",{"$nulls":4},{"$f":"IF(A443=\"\",IF(OR(AH442>0,VLOOKUP(O442,EventConfig!A:C,3,FALSE)=4),3,\"\"),IF(ISNUMBER(Y442),2,1))","v":2},"500315;101",null,5495]
[500315,5479,"受化妖剑士所托，帮助他消灭藏匿北海的海妖",5494,"追查海妖(0/1)",{"$nulls":4},113,{"$f":"IF(J443=\"\",\"\",VLOOKUP(J443,EventNPC!A:E,5,FALSE))","v":"北海剑妖"},5496,"小友你快躲开，无论如何我也要这妖兽葬身于此！即便魂飞魄散永世不得轮回也无所谓！阿蘅，我来见你了！",null,5003,15,"",null,null,{"$f":"IF(R443=\"\",\"\",\"-\"&VLOOKUP(R443,EventConditionConfig!A:C,3,FALSE)&IF(S443=\"\",\"\",CHAR(10)&\"-\"&VLOOKUP(S443,EventConditionConfig!A:C,3,FALSE)))","v":""},"","","","",null,null,"",{"$nulls":4},{"$f":"IF(A444=\"\",IF(OR(AH443>0,VLOOKUP(O443,EventConfig!A:C,3,FALSE)=4),3,\"\"),IF(ISNUMBER(Y443),2,1))","v":1},500316,null,5496]
[500316,5479,"受化妖剑士所托，帮助他消灭藏匿北海的海妖",5494,"追查海妖(0/1)",{"$nulls":5},{"$f":"IF(J444=\"\",\"\",VLOOKUP(J444,EventNPC!A:E,5,FALSE))","v":""},5497,"海面沸腾，妖兽嘶吼着掀起滔天巨浪，触须如铁鞭般抽向你。剑妖猛地推开你，他脊骨间的锈剑剧烈震颤，裂纹中迸发出刺目的血光。",null,5003,16,"",null,null,{"$f":"IF(R444=\"\",\"\",\"-\"&VLOOKUP(R444,EventConditionConfig!A:C,3,FALSE)&IF(S444=\"\",\"\",CHAR(10)&\"-\"&VLOOKUP(S444,EventConditionConfig!A:C,3,FALSE)))","v":""},"","","","",null,null,"",{"$nulls":4},{"$f":"IF(A445=\"\",IF(OR(AH444>0,VLOOKUP(O444,EventConfig!A:C,3,FALSE)=4),3,\"\"),IF(ISNUMBER(Y444),2,1))","v":1},500317,null,5497]
[500317,5479,"受化妖剑士所托，帮助他消灭藏匿北海的海妖",5494,"追查海妖(0/1)",{"$nulls":4},113,{"$f":"IF(J445=\"\",\"\",VLOOKUP(J445,EventNPC!A:E,5,FALSE))","v":"北海剑妖"},5498,"百年的执念……今日，该了结了！",null,5003,17,"",null,null,{"$f":"IF(R445=\"\",\"\",\"-\"&VLOOKUP(R445,EventConditionConfig!A:C,3,FALSE)&IF(S445=\"\",\"\",CHAR(10)&\"-\"&VLOOKUP(S445,EventConditionConfig!A:C,3,FALSE)))","v":""},"","","","",null,null,"",{"$nulls":4},{"$f":"IF(A446=\"\",IF(OR(AH445>0,VLOOKUP(O445,EventConfig!A:C,3,FALSE)=4),3,\"\"),IF(ISNUMBER(Y445),2,1))","v":1},500318,null,5498]
[500318,5479,"受化妖剑士所托，帮助他消灭藏匿北海的海妖",5494,"追查海妖(0/1)",{"$nulls":5},{"$f":"IF(J446=\"\",\"\",VLOOKUP(J446,EventNPC!A:E,5,FALSE))","v":""},5499,"剑妖的身体开始崩解，血肉化作赤红的火焰，缠绕着锈剑熊熊燃烧。那半枚嵌在脸上的银簪突然亮起幽蓝的光，与妖兽颅骨中的另半枚遥相呼应。",null,5003,18,"",null,null,{"$f":"IF(R446=\"\",\"\",\"-\"&VLOOKUP(R446,EventConditionConfig!A:C,3,FALSE)&IF(S446=\"\",\"\",CHAR(10)&\"-\"&VLOOKUP(S446,EventConditionConfig!A:C,3,FALSE)))","v":""},"","","","",null,null,"",{"$nulls":4},{"$f":"IF(A447=\"\",IF(OR(AH446>0,VLOOKUP(O446,EventConfig!A:C,3,FALSE)=4),3,\"\"),IF(ISNUMBER(Y446),2,1))","v":1},500319,null,5499]
[500319,5479,"受化妖剑士所托，帮助他消灭藏匿北海的海妖",5494,"追查海妖(0/1)",{"$nulls":4},113,{"$f":"IF(J447=\"\",\"\",VLOOKUP(J447,EventNPC!A:E,5,FALSE))","v":"北海剑妖"},5500,"阿蘅……你看到了吗？我终于……能带你回家了！",null,5003,19,"",null,null,{"$f":"IF(R447=\"\",\"\",\"-\"&VLOOKUP(R447,EventConditionConfig!A:C,3,FALSE)&IF(S447=\"\",\"\",CHAR(10)&\"-\"&VLOOKUP(S447,EventConditionConfig!A:C,3,FALSE)))","v":""},"","","","",null,null,"",{"$nulls":4},{"$f":"IF(A448=\"\",IF(OR(AH447>0,VLOOKUP(O447,EventConfig!A:C,3,FALSE)=4),3,\"\"),IF(ISNUMBER(Y447),2,1))","v":1},500320,null,5500]
[500320,5479,"受化妖剑士所托，帮助他消灭藏匿北海的海妖",5494,"追查海妖(0/1)",{"$nulls":5},{"$f":"IF(J448=\"\",\"\",VLOOKUP(J448,EventNPC!A:E,5,FALSE))","v":""},5501,"他化作一道血色，贯穿妖兽的头颅。银簪在爆炸的强光中被蹦飞，妖兽发出凄厉的哀嚎，庞大的身躯寸寸瓦解，化作漫天荧光。",null,5003,20,"",null,null,{"$f":"IF(R448=\"\",\"\",\"-\"&VLOOKUP(R448,EventConditionConfig!A:C,3,FALSE)&IF(S448=\"\",\"\",CHAR(10)&\"-\"&VLOOKUP(S448,EventConditionConfig!A:C,3,FALSE)))","v":""},"","","","",null,null,"",{"$nulls":7},5501]
[null,"",null,"",{"$nulls":7},"",{"$nulls":11},"",null,null,"",{"$nulls":7},""]
[{"$f":"O450*100+P450","v":500201},5502,"受疯道人所托，追查《御风化影诀》的下落",5503,"与疯道人对话(0/1)",{"$nulls":4},103,{"$f":"IF(J450=\"\",\"\",VLOOKUP(J450,EventNPC!A:E,5,FALSE))","v":"疯道人"},5504,"小友，可曾记得风无咎",null,5002,{"$f":"IF(O450=O449,P449+1,1)","v":1},{"$f":"_xlfn.TEXTJOIN(\";\",1,R450:S450)","v":""},null,null,{"$f":"IF(R450=\"\",\"\",\"-\"&VLOOKUP(R450,EventConditionConfig!A:C,3,FALSE)&IF(S450=\"\",\"\",CHAR(10)&\"-\"&VLOOKUP(S450,EventConditionConfig!A:C,3,FALSE)))","v":""},{"$f":"IF(Y450=\"\",\"\",IF(ISTEXT(Y450),1,2))","v":""},{"$f":"IF(U450=1,_xlfn.TEXTJOIN(\";\",1,IF(Z450=\"\",A450+1,Z450),IF(AND(AA450<>\"\",AC450=\"\"),A450+1,AC450)),IF(U450=2,Y450,\"\"))","v":""},{"$f":"_xlfn.TEXTJOIN(\";\",1,X450,AA450)","v":""},"",null,null,"",{"$nulls":4},{"$f":"IF(A451=\"\",IF(OR(AH450>0,VLOOKUP(O450,EventConfig!A:C,3,FALSE)=4),3,\"\"),IF(ISNUMBER(Y450),2,1))","v":1},{"$f":"IF(AF450=\"\",\"\",CHOOSE(AF450,IF(AH450=\"\",A450+1,AH450),CONCATENATE(IF(AH450=\"\",A450+1,AH450),\";101\"),IF(AH450=\"\",O450+1,AH450)))","v":500202},null,5504]
[500202,5502,"受疯道人所托，追查《御风化影诀》的下落",5503,"与疯道人对话(0/1)",{"$nulls":4},103,{"$f":"IF(J451=\"\",\"\",VLOOKUP(J451,EventNPC!A:E,5,FALSE))","v":"疯道人"},5505,"老夫感受到了风无咎的藏匿之地。",null,5002,2,"",null,null,{"$f":"IF(R451=\"\",\"\",\"-\"&VLOOKUP(R451,EventConditionConfig!A:C,3,FALSE)&IF(S451=\"\",\"\",CHAR(10)&\"-\"&VLOOKUP(S451,EventConditionConfig!A:C,3,FALSE)))","v":""},"","","","",null,null,"",{"$nulls":4},{"$f":"IF(A452=\"\",IF(OR(AH451>0,VLOOKUP(O451,EventConfig!A:C,3,FALSE)=4),3,\"\"),IF(ISNUMBER(Y451),2,1))","v":1},500203,null,5505]
[500203,5502,"受疯道人所托，追查《御风化影诀》的下落",5503,"与疯道人对话(0/1)",{"$nulls":4},100,{"$f":"IF(J452=\"\",\"\",VLOOKUP(J452,EventNPC!A:E,5,FALSE))","v":"玩家"},5506,"前辈我这就赶去。",null,5002,3,"",null,null,{"$f":"IF(R452=\"\",\"\",\"-\"&VLOOKUP(R452,EventConditionConfig!A:C,3,FALSE)&IF(S452=\"\",\"\",CHAR(10)&\"-\"&VLOOKUP(S452,EventConditionConfig!A:C,3,FALSE)))","v":""},"","","","",null,null,"",{"$nulls":4},{"$f":"IF(A453=\"\",IF(OR(AH452>0,VLOOKUP(O452,EventConfig!A:C,3,FALSE)=4),3,\"\"),IF(ISNUMBER(Y452),2,1))","v":1},500204,null,5506]
[500204,5502,"受疯道人所托，追查《御风化影诀》的下落",5503,"与疯道人对话(0/1)",{"$nulls":5},{"$f":"IF(J453=\"\",\"\",VLOOKUP(J453,EventNPC!A:E,5,FALSE))","v":""},5507,"（风无咎在一血池之中打坐，身旁妖气环绕，一眼望去全是生灵血肉）",null,5002,4,"",null,null,{"$f":"IF(R453=\"\",\"\",\"-\"&VLOOKUP(R453,EventConditionConfig!A:C,3,FALSE)&IF(S453=\"\",\"\",CHAR(10)&\"-\"&VLOOKUP(S453,EventConditionConfig!A:C,3,FALSE)))","v":""},"","","","",null,null,"",{"$nulls":4},{"$f":"IF(A454=\"\",IF(OR(AH453>0,VLOOKUP(O453,EventConfig!A:C,3,FALSE)=4),3,\"\"),IF(ISNUMBER(Y453),2,1))","v":1},500205,null,5507]
[500205,{"$f":"IF(C454=\"\",\"\",IF(C454=C453,B453,MAX(AI453,AI452)+1))","v":5502},"受疯道人所托，追查《御风化影诀》的下落",{"$f":"IF(E454=\"\",\"\",IF(E454=E453,D453,MAX(AI453,AI452,B454)+1))","v":5503},"与疯道人对话(0/1)",{"$nulls":4},103,{"$f":"IF(J454=\"\",\"\",VLOOKUP(J454,EventNPC!A:E,5,FALSE))","v":"疯道人"},{"$f":"IF(M454=\"\",\"\",MAX(AI453,AI452,B454,D454)+1)","v":5508},"竟用生魂喂养功法...小友当心！",null,5002,5,"",null,null,{"$f":"IF(R454=\"\",\"\",\"-\"&VLOOKUP(R454,EventConditionConfig!A:C,3,FALSE)&IF(S454=\"\",\"\",CHAR(10)&\"-\"&VLOOKUP(S454,EventConditionConfig!A:C,3,FALSE)))","v":""},"","","",{"$f":"IF(OR(ISNUMBER(Y454),Y454=\"\"),\"\",MAX(AI453,AI452,B454,D454,L454)+1)","v":""},null,null,{"$f":"IF(OR(ISNUMBER(AB454),AB454=\"\"),\"\",X454+1)","v":""},{"$nulls":4},{"$f":"IF(A455=\"\",IF(OR(AH454>0,VLOOKUP(O454,EventConfig!A:C,3,FALSE)=4),3,\"\"),IF(ISNUMBER(Y454),2,1))","v":1},500206,null,{"$f":"IF(A454=\"\",\"\",MAX(B454,D454,L454,X454,AA454,AI453,AI452))","v":5508}]
[500206,5502,"受疯道人所托，追查《御风化影诀》的下落",5503,"与疯道人对话(0/1)",{"$nulls":5},{"$f":"IF(J455=\"\",\"\",VLOOKUP(J455,EventNPC!A:E,5,FALSE))","v":""},5509,"（血池突然炸开，风妖与影妖完全融合，妖躯浮现古魔纹路）",null,5002,6,"",null,null,{"$f":"IF(R455=\"\",\"\",\"-\"&VLOOKUP(R455,EventConditionConfig!A:C,3,FALSE)&IF(S455=\"\",\"\",CHAR(10)&\"-\"&VLOOKUP(S455,EventConditionConfig!A:C,3,FALSE)))","v":""},"","","","",null,null,"",{"$nulls":4},{"$f":"IF(A456=\"\",IF(OR(AH455>0,VLOOKUP(O455,EventConfig!A:C,3,FALSE)=4),3,\"\"),IF(ISNUMBER(Y455),2,1))","v":1},500207,null,5509]
[500207,5502,"受疯道人所托，追查《御风化影诀》的下落",5503,"与疯道人对话(0/1)",{"$nulls":4},112,{"$f":"IF(J456=\"\",\"\",VLOOKUP(J456,EventNPC!A:E,5,FALSE))","v":"风无咎"},5510,"那日是我疏忽大意，这《御风化影诀》留给你们也是暴殄天物，如今在我手上才能发挥它的用处，多说无益既然你们追来了就留下给我当做丹引让我的功力更上一步吧！",null,5002,7,"",null,null,{"$f":"IF(R456=\"\",\"\",\"-\"&VLOOKUP(R456,EventConditionConfig!A:C,3,FALSE)&IF(S456=\"\",\"\",CHAR(10)&\"-\"&VLOOKUP(S456,EventConditionConfig!A:C,3,FALSE)))","v":""},"","","","",null,null,"",{"$nulls":4},1,500208,null,5510]
[500208,5502,"受疯道人所托，追查《御风化影诀》的下落",5511,"击败风无咎(0/1)",{"$nulls":4},100,{"$f":"IF(J457=\"\",\"\",VLOOKUP(J457,EventNPC!A:E,5,FALSE))","v":"玩家"},5512,"大胆邪修，今日就让你魂飞魄散。",null,5002,8,"",null,null,{"$f":"IF(R457=\"\",\"\",\"-\"&VLOOKUP(R457,EventConditionConfig!A:C,3,FALSE)&IF(S457=\"\",\"\",CHAR(10)&\"-\"&VLOOKUP(S457,EventConditionConfig!A:C,3,FALSE)))","v":""},2,100001,"","",100001,null,"",{"$nulls":4},{"$f":"IF(A458=\"\",IF(OR(AH457>0,VLOOKUP(O457,EventConfig!A:C,3,FALSE)=4),3,\"\"),IF(ISNUMBER(Y457),2,1))","v":2},"500209;101",null,5512]
[500209,5502,"受疯道人所托，追查《御风化影诀》的下落",5511,"击败风无咎(0/1)",{"$nulls":4},103,{"$f":"IF(J458=\"\",\"\",VLOOKUP(J458,EventNPC!A:E,5,FALSE))","v":"疯道人"},5513,"妖族灭我父母，修道的也要杀了我，我究竟做错了什么！",null,5002,9,"",null,null,{"$f":"IF(R458=\"\",\"\",\"-\"&VLOOKUP(R458,EventConditionConfig!A:C,3,FALSE)&IF(S458=\"\",\"\",CHAR(10)&\"-\"&VLOOKUP(S458,EventConditionConfig!A:C,3,FALSE)))","v":""},"","","","",null,null,"",{"$nulls":4},{"$f":"IF(A459=\"\",IF(OR(AH458>0,VLOOKUP(O458,EventConfig!A:C,3,FALSE)=4),3,\"\"),IF(ISNUMBER(Y458),2,1))","v":1},500210,null,5513]
[500210,5502,"受疯道人所托，追查《御风化影诀》的下落",5511,"击败风无咎(0/1)",{"$nulls":5},{"$f":"IF(J459=\"\",\"\",VLOOKUP(J459,EventNPC!A:E,5,FALSE))","v":""},5514,"疯道人赶来后醉醺醺的说道",null,5002,10,"",null,null,{"$f":"IF(R459=\"\",\"\",\"-\"&VLOOKUP(R459,EventConditionConfig!A:C,3,FALSE)&IF(S459=\"\",\"\",CHAR(10)&\"-\"&VLOOKUP(S459,EventConditionConfig!A:C,3,FALSE)))","v":""},"","","","",null,null,"",{"$nulls":4},{"$f":"IF(A460=\"\",IF(OR(AH459>0,VLOOKUP(O459,EventConfig!A:C,3,FALSE)=4),3,\"\"),IF(ISNUMBER(Y459),2,1))","v":1},500211,null,5514]
[500211,5502,"受疯道人所托，追查《御风化影诀》的下落",5511,"击败风无咎(0/1)",{"$nulls":4},103,{"$f":"IF(J460=\"\",\"\",VLOOKUP(J460,EventNPC!A:E,5,FALSE))","v":"疯道人"},5515,"小友还请留手。",null,5002,11,"",null,null,{"$f":"IF(R460=\"\",\"\",\"-\"&VLOOKUP(R460,EventConditionConfig!A:C,3,FALSE)&IF(S460=\"\",\"\",CHAR(10)&\"-\"&VLOOKUP(S460,EventConditionConfig!A:C,3,FALSE)))","v":""},"","","","",null,null,"",{"$nulls":4},{"$f":"IF(A461=\"\",IF(OR(AH460>0,VLOOKUP(O460,EventConfig!A:C,3,FALSE)=4),3,\"\"),IF(ISNUMBER(Y460),2,1))","v":1},500212,null,5515]
[500212,5502,"受疯道人所托，追查《御风化影诀》的下落",5511,"击败风无咎(0/1)",{"$nulls":4},100,{"$f":"IF(J461=\"\",\"\",VLOOKUP(J461,EventNPC!A:E,5,FALSE))","v":"玩家"},5516,"\"\"",null,5002,12,"",null,null,{"$f":"IF(R461=\"\",\"\",\"-\"&VLOOKUP(R461,EventConditionConfig!A:C,3,FALSE)&IF(S461=\"\",\"\",CHAR(10)&\"-\"&VLOOKUP(S461,EventConditionConfig!A:C,3,FALSE)))","v":""},1,"500213;500213","5517;5518",5517,"前辈这种时刻还有心思喝酒",null,5518,"这步入邪道之人留着为何",null,null,null,{"$f":"IF(A462=\"\",IF(OR(AH461>0,VLOOKUP(O461,EventConfig!A:C,3,FALSE)=4),3,\"\"),IF(ISNUMBER(Y461),2,1))","v":1},500213,null,5518]
[500213,5502,"受疯道人所托，追查《御风化影诀》的下落",5511,"击败风无咎(0/1)",{"$nulls":4},103,{"$f":"IF(J462=\"\",\"\",VLOOKUP(J462,EventNPC!A:E,5,FALSE))","v":"疯道人"},5519,"所谓《御风化影诀》凡人无法驾驭，老夫念他风灵根强大便想着拿去便是",null,5002,13,"",null,null,{"$f":"IF(R462=\"\",\"\",\"-\"&VLOOKUP(R462,EventConditionConfig!A:C,3,FALSE)&IF(S462=\"\",\"\",CHAR(10)&\"-\"&VLOOKUP(S462,EventConditionConfig!A:C,3,FALSE)))","v":""},"","","","",null,null,"",{"$nulls":4},{"$f":"IF(A463=\"\",IF(OR(AH462>0,VLOOKUP(O462,EventConfig!A:C,3,FALSE)=4),3,\"\"),IF(ISNUMBER(Y462),2,1))","v":1},500214,null,5519]
[500214,5502,"受疯道人所托，追查《御风化影诀》的下落",5511,"击败风无咎(0/1)",{"$nulls":4},103,{"$f":"IF(J463=\"\",\"\",VLOOKUP(J463,EventNPC!A:E,5,FALSE))","v":"疯道人"},5520,"没想到你以魂为薪...以血为引...强行修炼",null,5002,14,"",null,null,{"$f":"IF(R463=\"\",\"\",\"-\"&VLOOKUP(R463,EventConditionConfig!A:C,3,FALSE)&IF(S463=\"\",\"\",CHAR(10)&\"-\"&VLOOKUP(S463,EventConditionConfig!A:C,3,FALSE)))","v":""},"","","","",null,null,"",{"$nulls":4},{"$f":"IF(A464=\"\",IF(OR(AH463>0,VLOOKUP(O463,EventConfig!A:C,3,FALSE)=4),3,\"\"),IF(ISNUMBER(Y463),2,1))","v":1},500215,null,5520]
[500215,5502,"受疯道人所托，追查《御风化影诀》的下落",5511,"击败风无咎(0/1)",{"$nulls":4},103,{"$f":"IF(J464=\"\",\"\",VLOOKUP(J464,EventNPC!A:E,5,FALSE))","v":"疯道人"},5521,"今日放你一马，去洗涤魔气后还能拜入我的门下",null,5002,15,"",null,null,{"$f":"IF(R464=\"\",\"\",\"-\"&VLOOKUP(R464,EventConditionConfig!A:C,3,FALSE)&IF(S464=\"\",\"\",CHAR(10)&\"-\"&VLOOKUP(S464,EventConditionConfig!A:C,3,FALSE)))","v":""},"","","","",null,null,"",{"$nulls":4},{"$f":"IF(A465=\"\",IF(OR(AH464>0,VLOOKUP(O464,EventConfig!A:C,3,FALSE)=4),3,\"\"),IF(ISNUMBER(Y464),2,1))","v":1},500216,null,5521]
[500216,5502,"受疯道人所托，追查《御风化影诀》的下落",5511,"击败风无咎(0/1)",{"$nulls":4},103,{"$f":"IF(J465=\"\",\"\",VLOOKUP(J465,EventNPC!A:E,5,FALSE))","v":"疯道人"},5522,"记住，靠吞噬得来的力量，终有一日会反噬其主。",null,5002,16,"",null,null,{"$f":"IF(R465=\"\",\"\",\"-\"&VLOOKUP(R465,EventConditionConfig!A:C,3,FALSE)&IF(S465=\"\",\"\",CHAR(10)&\"-\"&VLOOKUP(S465,EventConditionConfig!A:C,3,FALSE)))","v":""},"","","","",null,null,"",{"$nulls":4},{"$f":"IF(#REF!=\"\",IF(OR(AH465>0,VLOOKUP(O465,EventConfig!A:C,3,FALSE)=4),3,\"\"),IF(ISNUMBER(Y465),2,1))","v":{"$error":"#REF!"}},{"$error":"#REF!"},null,5522]
[null,"",null,"",{"$nulls":7},"",{"$nulls":11},"",null,null,"",{"$nulls":7},""]
[{"$f":"O467*100+P467","v":101201},5523,"神识探索至一处矿井之中，此处灵气氤氲","",{"$nulls":6},{"$f":"IF(J467=\"\",\"\",VLOOKUP(J467,EventNPC!A:E,5,FALSE))","v":""},5524,"前往矿井采集灵矿",null,1012,{"$f":"IF(O467=O466,P466+1,1)","v":1},{"$f":"_xlfn.TEXTJOIN(\";\",1,R467:S467)","v":""},null,null,{"$f":"IF(R467=\"\",\"\",\"-\"&VLOOKUP(R467,EventConditionConfig!A:C,3,FALSE)&IF(S467=\"\",\"\",CHAR(10)&\"-\"&VLOOKUP(S467,EventConditionConfig!A:C,3,FALSE)))","v":""},{"$f":"IF(Y467=\"\",\"\",1)","v":""},{"$f":"IF(U467=1,A468,\"\")","v":""},{"$f":"_xlfn.TEXTJOIN(\";\",1,X467,AA467)","v":""},"",null,null,"",{"$nulls":7},5524]
[null,"",null,"",{"$nulls":7},"",{"$nulls":11},"",null,null,"",{"$nulls":7},""]
[101301,5525,"神识经过一处荒废寺庙之外，寺庙之中似乎有不同寻常之物","",{"$nulls":6},{"$f":"IF(J469=\"\",\"\",VLOOKUP(J469,EventNPC!A:E,5,FALSE))","v":""},5526,"进入寺庙找寻散发灵气的修为丹",null,1013,1,"",null,null,{"$f":"IF(R469=\"\",\"\",\"-\"&VLOOKUP(R469,EventConditionConfig!A:C,3,FALSE)&IF(S469=\"\",\"\",CHAR(10)&\"-\"&VLOOKUP(S469,EventConditionConfig!A:C,3,FALSE)))","v":""},"","","","",null,null,"",{"$nulls":7},5526]
[null,"",null,"",{"$nulls":7},"",{"$nulls":11},"",null,null,"",{"$nulls":7},""]
[101401,5527,"神识至一处灵气充盈之地，似乎是处洞府","",{"$nulls":6},{"$f":"IF(J471=\"\",\"\",VLOOKUP(J471,EventNPC!A:E,5,FALSE))","v":""},5528,"进入洞府收集可用之物",null,1014,1,"",null,null,{"$f":"IF(R471=\"\",\"\",\"-\"&VLOOKUP(R471,EventConditionConfig!A:C,3,FALSE)&IF(S471=\"\",\"\",CHAR(10)&\"-\"&VLOOKUP(S471,EventConditionConfig!A:C,3,FALSE)))","v":""},"","","","",null,null,"",{"$nulls":7},5528]
[null,"",null,"",{"$nulls":7},"",{"$nulls":11},"",null,null,"",{"$nulls":7},""]
[{"$f":"O473*100+P473","v":101501},5529,"一个不知好歹的邪修拦住了你的去路！",5530,"击败山贼（0/1)",{"$nulls":4},107,{"$f":"IF(J473=\"\",\"\",VLOOKUP(J473,EventNPC!A:E,5,FALSE))","v":"村名甲"},5531,"此路是我开，此树是我栽，要想从此过，留下买命财！",null,1015,{"$f":"IF(O473=O472,P472+1,1)","v":1},{"$f":"_xlfn.TEXTJOIN(\";\",1,R473:S473)","v":""},null,null,{"$f":"IF(R473=\"\",\"\",\"-\"&VLOOKUP(R473,EventConditionConfig!A:C,3,FALSE)&IF(S473=\"\",\"\",CHAR(10)&\"-\"&VLOOKUP(S473,EventConditionConfig!A:C,3,FALSE)))","v":""},{"$f":"IF(Y473=\"\",\"\",IF(ISTEXT(Y473),1,2))","v":""},{"$f":"IF(U473=1,_xlfn.TEXTJOIN(\";\",1,IF(Z473=\"\",A473+1,Z473),IF(AND(AA473<>\"\",AC473=\"\"),A473+1,AC473)),IF(U473=2,Y473,\"\"))","v":""},{"$f":"_xlfn.TEXTJOIN(\";\",1,X473,AA473)","v":""},"",null,null,"",{"$nulls":4},{"$f":"IF(A474=\"\",IF(OR(AH473>0,VLOOKUP(O473,EventConfig!A:C,3,FALSE)=4),3,\"\"),IF(ISNUMBER(Y473),2,1))","v":1},{"$f":"IF(AF473=\"\",\"\",CHOOSE(AF473,IF(AH473=\"\",A473+1,AH473),CONCATENATE(IF(AH473=\"\",A473+1,AH473),\";101\"),IF(AH473=\"\",O473+1,AH473)))","v":101502},null,5531]
[101502,5529,"一个不知好歹的邪修拦住了你的去路！",5532,"击败山贼（1/1)",{"$nulls":4},107,{"$f":"IF(J474=\"\",\"\",VLOOKUP(J474,EventNPC!A:E,5,FALSE))","v":"村名甲"},5533,"大胆山贼，拿命来！",null,1015,2,"",null,null,{"$f":"IF(R474=\"\",\"\",\"-\"&VLOOKUP(R474,EventConditionConfig!A:C,3,FALSE)&IF(S474=\"\",\"\",CHAR(10)&\"-\"&VLOOKUP(S474,EventConditionConfig!A:C,3,FALSE)))","v":""},2,100001,"","",100001,null,"",{"$nulls":4},2,"101503;101",null,5533]
[null,"",null,"",{"$nulls":7},"",{"$nulls":11},"",null,null,"",{"$nulls":7},""]
[{"$f":"O476*100+P476","v":101601},5534,"一位和尚叫住了你，貌似有什么急事",5535,"找到袈裟",{"$nulls":4},108,{"$f":"IF(J476=\"\",\"\",VLOOKUP(J476,EventNPC!A:E,5,FALSE))","v":"村名乙"},5536,"仙长，我的袈裟被可恶的妖兽夺走了，还请为老僧主持公道啊",null,1016,{"$f":"IF(O476=O475,P475+1,1)","v":1},{"$f":"_xlfn.TEXTJOIN(\";\",1,R476:S476)","v":""},null,null,{"$f":"IF(R476=\"\",\"\",\"-\"&VLOOKUP(R476,EventConditionConfig!A:C,3,FALSE)&IF(S476=\"\",\"\",CHAR(10)&\"-\"&VLOOKUP(S476,EventConditionConfig!A:C,3,FALSE)))","v":""},"","",{"$f":"_xlfn.TEXTJOIN(\";\",1,X476,AA476)","v":""},"",null,null,"",{"$nulls":4},{"$f":"IF(A477=\"\",IF(OR(AH476>0,VLOOKUP(O476,EventConfig!A:C,3,FALSE)=4),3,\"\"),IF(ISNUMBER(Y476),2,1))","v":1},{"$f":"IF(AF476=\"\",\"\",CHOOSE(AF476,IF(AH476=\"\",A476+1,AH476),CONCATENATE(IF(AH476=\"\",A476+1,AH476),\";101\"),IF(AH476=\"\",O476+1,AH476)))","v":101602},null,5536]
[101602,5534,"一位和尚叫住了你，貌似有什么急事",5537,"使用神识寻找袈裟",{"$nulls":4},100,{"$f":"IF(J477=\"\",\"\",VLOOKUP(J477,EventNPC!A:E,5,FALSE))","v":"玩家"},5538,"在此等待即可",null,1016,2,"",null,null,{"$f":"IF(R477=\"\",\"\",\"-\"&VLOOKUP(R477,EventConditionConfig!A:C,3,FALSE)&IF(S477=\"\",\"\",CHAR(10)&\"-\"&VLOOKUP(S477,EventConditionConfig!A:C,3,FALSE)))","v":""},"","","","",null,null,"",{"$nulls":4},{"$f":"IF(A478=\"\",IF(OR(AH477>0,VLOOKUP(O477,EventConfig!A:C,3,FALSE)=4),3,\"\"),IF(ISNUMBER(Y477),2,1))","v":3},{"$f":"IF(AF477=\"\",\"\",CHOOSE(AF477,IF(AH477=\"\",A477+1,AH477),CONCATENATE(IF(AH477=\"\",A477+1,AH477),\";101\"),IF(AH477=\"\",O477+1,AH477)))","v":30009},30009,5538]
[null,"",null,"",{"$nulls":7},"",{"$nulls":11},"",null,null,"",{"$nulls":7},""]
[101701,5539,"一位和尚叫住了你，貌似有什么急事",5540,"找到袈裟",{"$nulls":4},108,{"$f":"IF(J479=\"\",\"\",VLOOKUP(J479,EventNPC!A:E,5,FALSE))","v":"村名乙"},5541,"感谢仙长帮我寻回这件袈裟！",null,1017,1,"18",18,null,{"$f":"IF(R479=\"\",\"\",\"-\"&VLOOKUP(R479,EventConditionConfig!A:C,3,FALSE)&IF(S479=\"\",\"\",CHAR(10)&\"-\"&VLOOKUP(S479,EventConditionConfig!A:C,3,FALSE)))","v":"-获得一件袈裟"},{"$f":"IF(Y479=\"\",\"\",IF(ISTEXT(Y479),1,2))","v":""},{"$f":"IF(U479=1,_xlfn.TEXTJOIN(\";\",1,IF(Z479=\"\",A479+1,Z479),IF(AND(AA479<>\"\",AC479=\"\"),A479+1,AC479)),IF(U479=2,Y479,\"\"))","v":""},"","",null,null,"",{"$nulls":7},5541]
[null,"",null,"",{"$nulls":7},"",{"$nulls":11},"",null,null,"",{"$nulls":7},""]
[{"$f":"O481*100+P481","v":3000901},5542,"击杀灵兽获得袈裟","",{"$nulls":6},{"$f":"IF(J481=\"\",\"\",VLOOKUP(J481,EventNPC!A:E,5,FALSE))","v":""},"",null,null,30009,{"$f":"IF(O481=O480,P480+1,1)","v":1},{"$f":"_xlfn.TEXTJOIN(\";\",1,R481:S481)","v":""},null,null,{"$f":"IF(R481=\"\",\"\",\"-\"&VLOOKUP(R481,EventConditionConfig!A:C,3,FALSE)&IF(S481=\"\",\"\",CHAR(10)&\"-\"&VLOOKUP(S481,EventConditionConfig!A:C,3,FALSE)))","v":""},2,100001,{"$f":"_xlfn.TEXTJOIN(\";\",1,X481,AA481)","v":""},"",null,null,"",null,null,1301,1,{"$f":"IF(U481=2,2,IF(A481=\"\",\"\",IF(U481=1,\"\",IF(A485=\"\",3,1))))","v":2},"3000902;101",null,5542]
[{"$f":"O482*100+P482","v":3000902},5542,"击杀灵兽获得袈裟","",{"$nulls":6},{"$f":"IF(J482=\"\",\"\",VLOOKUP(J482,EventNPC!A:E,5,FALSE))","v":""},"",null,null,30009,{"$f":"IF(O482=O481,P481+1,1)","v":2},{"$f":"_xlfn.TEXTJOIN(\";\",1,R482:S482)","v":""},null,null,{"$f":"IF(R482=\"\",\"\",\"-\"&VLOOKUP(R482,EventConditionConfig!A:C,3,FALSE)&IF(S482=\"\",\"\",CHAR(10)&\"-\"&VLOOKUP(S482,EventConditionConfig!A:C,3,FALSE)))","v":""},null,null,{"$f":"_xlfn.TEXTJOIN(\";\",1,X482,AA482)","v":""},"",null,null,"",{"$nulls":4},3,{"$f":"IF(AF482=\"\",\"\",CHOOSE(AF482,IF(AH482=\"\",A482+1,AH482),CONCATENATE(IF(AH482=\"\",A482+1,AH482),\";101\"),IF(AH482=\"\",O482+1,AH482)))","v":1017},1017,5542]
[null,"",null,"",{"$nulls":7},"",{"$nulls":11},"",null,null,"",{"$nulls":7},""]
[101801,5543,"云游修士历练在即，急待前辈指点一二",5544,"指引云游修士",{"$nulls":4},107,{"$f":"IF(J484=\"\",\"\",VLOOKUP(J484,EventNPC!A:E,5,FALSE))","v":"村名甲"},5545,"前辈还请赐教一二",null,1018,1,"",null,null,{"$f":"IF(R484=\"\",\"\",\"-\"&VLOOKUP(R484,EventConditionConfig!A:C,3,FALSE)&IF(S484=\"\",\"\",CHAR(10)&\"-\"&VLOOKUP(S484,EventConditionConfig!A:C,3,FALSE)))","v":""},"","","","",null,null,"",{"$nulls":4},1,101802,null,5545]
[101802,5543,"云游修士历练在即，急待前辈指点一二",5544,"指引云游修士",{"$nulls":4},100,{"$f":"IF(J485=\"\",\"\",VLOOKUP(J485,EventNPC!A:E,5,FALSE))","v":"玩家"},5546,"\"\"",null,1018,2,"",null,null,{"$f":"IF(R485=\"\",\"\",\"-\"&VLOOKUP(R485,EventConditionConfig!A:C,3,FALSE)&IF(S485=\"\",\"\",CHAR(10)&\"-\"&VLOOKUP(S485,EventConditionConfig!A:C,3,FALSE)))","v":""},1,"101804;101803","5547;5548",5547,"不予理睬直接离开",101804,5548,"指导云游修士进行修炼",null,null,null,1,101803,null,5548]
[101803,5543,"云游修士历练在即，急待前辈指点一二",5544,"指引云游修士",{"$nulls":4},107,{"$f":"IF(J486=\"\",\"\",VLOOKUP(J486,EventNPC!A:E,5,FALSE))","v":"村名甲"},5549,"多谢前辈！",null,1018,3,"",null,null,{"$f":"IF(R486=\"\",\"\",\"-\"&VLOOKUP(R486,EventConditionConfig!A:C,3,FALSE)&IF(S486=\"\",\"\",CHAR(10)&\"-\"&VLOOKUP(S486,EventConditionConfig!A:C,3,FALSE)))","v":""},"","","","",null,null,"",null,null,1202,1,null,null,null,5549]
[101804,5543,"云游修士历练在即，急待前辈指点一二",5544,"指引云游修士",{"$nulls":5},{"$f":"IF(J487=\"\",\"\",VLOOKUP(J487,EventNPC!A:E,5,FALSE))","v":""},5550,"云游修士见你不愿教导便离开了",null,1018,4,"",null,null,{"$f":"IF(R487=\"\",\"\",\"-\"&VLOOKUP(R487,EventConditionConfig!A:C,3,FALSE)&IF(S487=\"\",\"\",CHAR(10)&\"-\"&VLOOKUP(S487,EventConditionConfig!A:C,3,FALSE)))","v":""},"","","","",null,null,"",null,null,1201,1,null,null,null,5550]
[null,"",null,"",{"$nulls":7},"",{"$nulls":11},"",null,null,"",{"$nulls":7},""]
[{"$f":"O489*100+P489","v":101901},5551,"逍遥宗的长老似乎有事找你",5552,"清剿妖王（0/1）",{"$nulls":4},108,{"$f":"IF(J489=\"\",\"\",VLOOKUP(J489,EventNPC!A:E,5,FALSE))","v":"村名乙"},5553,"今日我宗弟子发现云海妖气冲天，怕是有妖兽来临。还望小友走一趟，消灭那的妖王",null,1019,{"$f":"IF(O489=O488,P488+1,1)","v":1},{"$f":"_xlfn.TEXTJOIN(\";\",1,R489:S489)","v":""},null,null,null,{"$f":"IF(Y489=\"\",\"\",IF(ISTEXT(Y489),1,2))","v":""},{"$f":"IF(U489=1,_xlfn.TEXTJOIN(\";\",1,IF(Z489=\"\",A489+1,Z489),IF(AND(AA489<>\"\",AC489=\"\"),A489+1,AC489)),IF(U489=2,Y489,\"\"))","v":""},{"$f":"_xlfn.TEXTJOIN(\";\",1,X489,AA489)","v":""},"",null,null,"",{"$nulls":4},1,101902,null,5553]
[101902,5551,"逍遥宗的长老似乎有事找你",5552,"清剿妖王（0/1）",{"$nulls":4},100,{"$f":"IF(J490=\"\",\"\",VLOOKUP(J490,EventNPC!A:E,5,FALSE))","v":"玩家"},5554,"小事一桩",null,1019,2,"",null,null,{"$f":"IF(R490=\"\",\"\",\"-\"&VLOOKUP(R490,EventConditionConfig!A:C,3,FALSE)&IF(S490=\"\",\"\",CHAR(10)&\"-\"&VLOOKUP(S490,EventConditionConfig!A:C,3,FALSE)))","v":""},5,"","","",null,null,"",{"$nulls":4},1,101903,null,5554]
[101903,5555,"前往清剿妖王",5552,"清剿妖王（0/1）",{"$nulls":5},{"$f":"IF(J491=\"\",\"\",VLOOKUP(J491,EventNPC!A:E,5,FALSE))","v":""},"",null,null,1019,3,"",null,null,{"$f":"IF(R491=\"\",\"\",\"-\"&VLOOKUP(R491,EventConditionConfig!A:C,3,FALSE)&IF(S491=\"\",\"\",CHAR(10)&\"-\"&VLOOKUP(S491,EventConditionConfig!A:C,3,FALSE)))","v":""},{"$f":"IF(Y491=\"\",\"\",IF(ISTEXT(Y491),1,2))","v":2},{"$f":"IF(U491=1,_xlfn.TEXTJOIN(\";\",1,IF(Z491=\"\",A491+1,Z491),IF(AND(AA491<>\"\",AC491=\"\"),A491+1,AC491)),IF(U491=2,Y491,\"\"))","v":100001},"","",100001,null,"",{"$nulls":4},2,"101904;101",null,5555]
[null,"",null,"",{"$nulls":7},"",{"$nulls":11},"",null,null,"",{"$nulls":7},""]
[{"$f":"O493*100+P493","v":102001},5556,"村民急匆匆的前来找你",5557,"清剿妖兽（0/1）",{"$nulls":4},108,{"$f":"IF(J493=\"\",\"\",VLOOKUP(J493,EventNPC!A:E,5,FALSE))","v":"村名乙"},5558,"仙长，村中有妖兽闹事，还请出手解决！",null,1020,{"$f":"IF(O493=O492,P492+1,1)","v":1},{"$f":"_xlfn.TEXTJOIN(\";\",1,R493:S493)","v":""},null,null,null,1,"102002;102002",{"$f":"_xlfn.TEXTJOIN(\";\",1,X493,AA493)","v":"5559;5560"},5559,"区区妖兽，灭掉便是",null,5560,"我可是要酬劳的",{"$nulls":6},5560]
[102002,5556,"村民急匆匆的前来找你",5557,"清剿妖兽（0/1）",{"$nulls":4},108,{"$f":"IF(J494=\"\",\"\",VLOOKUP(J494,EventNPC!A:E,5,FALSE))","v":"村名乙"},5561,"多谢仙长相救!报酬好说",null,1020,2,"",null,null,null,2,100001,"","",100001,null,"",null,null,1203,1,2,{"$f":"IF(AF494=\"\",\"\",CHOOSE(AF494,IF(AH494=\"\",A494+1,AH494),CONCATENATE(IF(AH494=\"\",A494+1,AH494),\";101\"),IF(AH494=\"\",O494+1,AH494)))","v":"102003;101"},null,5561]
[null,"",null,"",{"$nulls":7},"",{"$nulls":11},"",null,null,"",{"$nulls":7},""]
[102101,5562,"一个和尚急匆匆的叫住了你",5563,"与和尚对话",{"$nulls":4},108,{"$f":"IF(J496=\"\",\"\",VLOOKUP(J496,EventNPC!A:E,5,FALSE))","v":"村名乙"},5564,"前些日子有妖兽在寺中大闹，盗走了琉璃盏，还请仙长出手相助",null,1021,1,"",null,null,null,{"$f":"IF(Y496=\"\",\"\",IF(ISTEXT(Y496),1,2))","v":""},{"$f":"IF(U496=1,_xlfn.TEXTJOIN(\";\",1,IF(Z496=\"\",A496+1,Z496),IF(AND(AA496<>\"\",AC496=\"\"),A496+1,AC496)),IF(U496=2,Y496,\"\"))","v":""},"","",null,null,"",{"$nulls":4},{"$f":"IF(A498=\"\",IF(OR(AH496>0,VLOOKUP(O496,EventConfig!A:C,3,FALSE)=4),3,\"\"),IF(ISNUMBER(Y496),2,1))","v":1},102102,null,5564]
[102102,5562,"一个和尚急匆匆的叫住了你",5563,"与和尚对话",{"$nulls":4},100,{"$f":"IF(J497=\"\",\"\",VLOOKUP(J497,EventNPC!A:E,5,FALSE))","v":"玩家"},5565," ",null,1021,2,"",null,null,{"$f":"IF(R497=\"\",\"\",\"-\"&VLOOKUP(R497,EventConditionConfig!A:C,3,FALSE)&IF(S497=\"\",\"\",CHAR(10)&\"-\"&VLOOKUP(S497,EventConditionConfig!A:C,3,FALSE)))","v":""},1,"102103","5566",5566,"还请在此等候我拿来琉璃盏",null,"",{"$nulls":4},{"$f":"IF(A498=\"\",IF(OR(AH497>0,VLOOKUP(O497,EventConfig!A:C,3,FALSE)=4),3,\"\"),IF(ISNUMBER(Y497),2,1))","v":1},102103,null,5566]
[102103,5562,"一个和尚急匆匆的叫住了你",5563,"与和尚对话",{"$nulls":4},108,{"$f":"IF(J498=\"\",\"\",VLOOKUP(J498,EventNPC!A:E,5,FALSE))","v":"村名乙"},5567,"感谢仙长相助！",null,1021,3,"19",19,null,{"$f":"IF(R498=\"\",\"\",\"-\"&VLOOKUP(R498,EventConditionConfig!A:C,3,FALSE)&IF(S498=\"\",\"\",CHAR(10)&\"-\"&VLOOKUP(S498,EventConditionConfig!A:C,3,FALSE)))","v":"-夺回琉璃盏"},"","","","",null,null,"",null,null,1203,1,{"$f":"IF(A499=\"\",IF(OR(AH498>0,VLOOKUP(O498,EventConfig!A:C,3,FALSE)=4),3,\"\"),IF(ISNUMBER(Y498),2,1))","v":""},"",null,5567]
[null,"",null,"",{"$nulls":7},"",{"$nulls":11},"",null,null,"",{"$nulls":7},""]
[{"$f":"O500*100+P500","v":3001001},5568,"击败盗走琉璃盏的妖兽",5569,"击败妖兽",{"$nulls":4},100,{"$f":"IF(J500=\"\",\"\",VLOOKUP(J500,EventNPC!A:E,5,FALSE))","v":"玩家"},5570,"好一个妖兽竟敢盗走琉璃盏！",null,30010,{"$f":"IF(O500=O499,P499+1,1)","v":1},{"$f":"_xlfn.TEXTJOIN(\";\",1,R500:S500)","v":""},null,null,null,{"$f":"IF(Y500=\"\",\"\",IF(ISTEXT(Y500),1,2))","v":2},{"$f":"IF(U500=1,_xlfn.TEXTJOIN(\";\",1,IF(Z500=\"\",A500+1,Z500),IF(AND(AA500<>\"\",AC500=\"\"),A500+1,AC500)),IF(U500=2,Y500,\"\"))","v":100001},{"$f":"_xlfn.TEXTJOIN(\";\",1,X500,AA500)","v":""},"",100001,null,"",null,null,1001,null,{"$f":"IF(U500=2,2,IF(A500=\"\",\"\",IF(U500=1,\"\",IF(A501=\"\",3,1))))","v":2},"102;101",null,5570]
[null,"",null,"",{"$nulls":7},"",{"$nulls":8},"","","","",null,null,"",{"$nulls":7},""]
[102201,5571,"道之何在，明境道长前来论道",5572,"与道长进行对话",{"$nulls":4},107,{"$f":"IF(J502=\"\",\"\",VLOOKUP(J502,EventNPC!A:E,5,FALSE))","v":"村名甲"},5573,"世人都知神仙好，惟有功名忘不了。",null,1022,1,"",null,null,{"$f":"IF(R502=\"\",\"\",\"-\"&VLOOKUP(R502,EventConditionConfig!A:C,3,FALSE)&IF(S502=\"\",\"\",CHAR(10)&\"-\"&VLOOKUP(S502,EventConditionConfig!A:C,3,FALSE)))","v":""},"","","","",null,null,"",{"$nulls":4},{"$f":"IF(A503=\"\",IF(OR(AH502>0,VLOOKUP(O502,EventConfig!A:C,3,FALSE)=4),3,\"\"),IF(ISNUMBER(Y502),2,1))","v":1},{"$f":"IF(AF502=\"\",\"\",CHOOSE(AF502,IF(AH502=\"\",A502+1,AH502),CONCATENATE(IF(AH502=\"\",A502+1,AH502),\";101\"),IF(AH502=\"\",O502+1,AH502)))","v":102202},null,5573]
[102202,5571,"道之何在，明境道长前来论道",5572,"与道长进行对话",{"$nulls":4},107,{"$f":"IF(J503=\"\",\"\",VLOOKUP(J503,EventNPC!A:E,5,FALSE))","v":"村名甲"},5574,"古今将相在何方？荒冢一堆草没了。",null,1022,2,"",null,null,{"$f":"IF(R503=\"\",\"\",\"-\"&VLOOKUP(R503,EventConditionConfig!A:C,3,FALSE)&IF(S503=\"\",\"\",CHAR(10)&\"-\"&VLOOKUP(S503,EventConditionConfig!A:C,3,FALSE)))","v":""},"","","","",null,null,"",{"$nulls":4},{"$f":"IF(A504=\"\",IF(OR(AH503>0,VLOOKUP(O503,EventConfig!A:C,3,FALSE)=4),3,\"\"),IF(ISNUMBER(Y503),2,1))","v":1},102203,null,5574]
[102203,5571,"道之何在，明境道长前来论道",5572,"与道长进行对话",{"$nulls":4},107,{"$f":"IF(J504=\"\",\"\",VLOOKUP(J504,EventNPC!A:E,5,FALSE))","v":"村名甲"},5575,"仙友，这歌儿有些意思，可替我注解？",null,1022,3,"",null,null,{"$f":"IF(R504=\"\",\"\",\"-\"&VLOOKUP(R504,EventConditionConfig!A:C,3,FALSE)&IF(S504=\"\",\"\",CHAR(10)&\"-\"&VLOOKUP(S504,EventConditionConfig!A:C,3,FALSE)))","v":""},"","","","",null,null,"",{"$nulls":4},{"$f":"IF(A505=\"\",IF(OR(AH504>0,VLOOKUP(O504,EventConfig!A:C,3,FALSE)=4),3,\"\"),IF(ISNUMBER(Y504),2,1))","v":1},102204,null,5575]
[102204,5571,"道之何在，明境道长前来论道",5572,"与道长进行对话",{"$nulls":4},100,{"$f":"IF(J505=\"\",\"\",VLOOKUP(J505,EventNPC!A:E,5,FALSE))","v":"玩家"},5576,"\"\"",null,1022,4,"",null,null,{"$f":"IF(R505=\"\",\"\",\"-\"&VLOOKUP(R505,EventConditionConfig!A:C,3,FALSE)&IF(S505=\"\",\"\",CHAR(10)&\"-\"&VLOOKUP(S505,EventConditionConfig!A:C,3,FALSE)))","v":""},1,"102205;102207","5577;5578",5577,"言语论道",null,5578,"拒绝回答",102207,null,null,{"$f":"IF(A506=\"\",IF(OR(AH505>0,VLOOKUP(O505,EventConfig!A:C,3,FALSE)=4),3,\"\"),IF(ISNUMBER(Y505),2,1))","v":1},102205,null,5578]
[102205,5571,"道之何在，明境道长前来论道",5572,"与道长进行对话",{"$nulls":4},107,{"$f":"IF(J506=\"\",\"\",VLOOKUP(J506,EventNPC!A:E,5,FALSE))","v":"村名甲"},5579,"求仙不舍功名场，甚荒唐，到头来都是为他人作嫁衣裳。",null,1022,5,"",null,null,{"$f":"IF(R506=\"\",\"\",\"-\"&VLOOKUP(R506,EventConditionConfig!A:C,3,FALSE)&IF(S506=\"\",\"\",CHAR(10)&\"-\"&VLOOKUP(S506,EventConditionConfig!A:C,3,FALSE)))","v":""},"","","","",null,null,"",{"$nulls":4},{"$f":"IF(A507=\"\",IF(OR(AH506>0,VLOOKUP(O506,EventConfig!A:C,3,FALSE)=4),3,\"\"),IF(ISNUMBER(Y506),2,1))","v":1},102206,null,5579]
[102206,5571,"道之何在，明境道长前来论道",5572,"与道长进行对话",{"$nulls":4},107,{"$f":"IF(J507=\"\",\"\",VLOOKUP(J507,EventNPC!A:E,5,FALSE))","v":"村名甲"},5580,"明镜道长听到你的回复后，甚为满意的离去了。",null,1022,6,"",null,null,{"$f":"IF(R507=\"\",\"\",\"-\"&VLOOKUP(R507,EventConditionConfig!A:C,3,FALSE)&IF(S507=\"\",\"\",CHAR(10)&\"-\"&VLOOKUP(S507,EventConditionConfig!A:C,3,FALSE)))","v":""},"","","","",null,null,"",{"$nulls":7},5580]
[102207,5571,"道之何在，明境道长前来论道",5572,"与道长进行对话",{"$nulls":4},107,{"$f":"IF(J508=\"\",\"\",VLOOKUP(J508,EventNPC!A:E,5,FALSE))","v":"村名甲"},5581,"明镜道长听到你的回复后，离开了。",null,1022,7,"",null,null,{"$f":"IF(R508=\"\",\"\",\"-\"&VLOOKUP(R508,EventConditionConfig!A:C,3,FALSE)&IF(S508=\"\",\"\",CHAR(10)&\"-\"&VLOOKUP(S508,EventConditionConfig!A:C,3,FALSE)))","v":""},"","","","",null,null,"",{"$nulls":7},5581]
[null,"",null,"",{"$nulls":7},"",{"$nulls":8},"","","","",null,null,"",{"$nulls":7},""]
[{"$f":"O510*100+P510","v":102301},5582,"药童前来求得一枚丹药",5583,"与小药童对话(0/1)",{"$nulls":4},107,{"$f":"IF(J510=\"\",\"\",VLOOKUP(J510,EventNPC!A:E,5,FALSE))","v":"村名甲"},5584,"听闻道友经常出外历练，今日我师傅炼制丹药，尚缺一颗渡劫丹作为药引，苦寻不得，道友可否赠与一颗。",null,1023,{"$f":"IF(O510=O509,P509+1,1)","v":1},{"$f":"_xlfn.TEXTJOIN(\";\",1,R510:S510)","v":""},null,null,{"$f":"IF(R510=\"\",\"\",\"-\"&VLOOKUP(R510,EventConditionConfig!A:C,3,FALSE)&IF(S510=\"\",\"\",CHAR(10)&\"-\"&VLOOKUP(S510,EventConditionConfig!A:C,3,FALSE)))","v":""},{"$f":"IF(Y510=\"\",\"\",IF(ISTEXT(Y510),1,2))","v":1},{"$f":"IF(U510=1,_xlfn.TEXTJOIN(\";\",1,IF(Z510=\"\",A510+1,Z510),IF(AND(AA510<>\"\",AC510=\"\"),A510+1,AC510)),IF(U510=2,Y510,\"\"))","v":"102302;102303"},{"$f":"_xlfn.TEXTJOIN(\";\",1,X510,AA510)","v":"5585;5586"},5585,"给予一颗渡劫丹",102302,5586,"没有此渡劫丹",102303,null,null,null,{"$f":"IF(AF510=\"\",\"\",CHOOSE(AF510,IF(AH510=\"\",A510+1,AH510),CONCATENATE(IF(AH510=\"\",A510+1,AH510),\";101\"),IF(AH510=\"\",O510+1,AH510)))","v":""},null,5586]
[102302,5582,"药童前来求得一枚丹药",5583,"与小药童对话(0/1)",{"$nulls":5},{"$f":"IF(J511=\"\",\"\",VLOOKUP(J511,EventNPC!A:E,5,FALSE))","v":""},5587,"你将丹药赠与药童。药童十分高兴表示可以回复命了。",null,1023,2,"20",20,null,{"$f":"IF(R511=\"\",\"\",\"-\"&VLOOKUP(R511,EventConditionConfig!A:C,3,FALSE)&IF(S511=\"\",\"\",CHAR(10)&\"-\"&VLOOKUP(S511,EventConditionConfig!A:C,3,FALSE)))","v":"-给予渡劫丹"},"","","","",null,null,"",null,null,1001,null,null,"",null,5587]
[102303,5582,"药童前来求得一枚丹药",5583,"与小药童对话(0/1)",{"$nulls":5},{"$f":"IF(J512=\"\",\"\",VLOOKUP(J512,EventNPC!A:E,5,FALSE))","v":""},5588,"药童听完便离开了",null,1023,3,"",null,null,{"$f":"IF(R512=\"\",\"\",\"-\"&VLOOKUP(R512,EventConditionConfig!A:C,3,FALSE)&IF(S512=\"\",\"\",CHAR(10)&\"-\"&VLOOKUP(S512,EventConditionConfig!A:C,3,FALSE)))","v":""},"","","","",null,null,"",{"$nulls":5},"",null,5588]
[null,"",null,"",{"$nulls":7},"",{"$nulls":8},"","","","",null,null,"",{"$nulls":7},""]
[{"$f":"O514*100+P514","v":102401},5589,"风无咎前来武艺论道",5590,"与风无咎对话(0/1)",{"$nulls":4},112,{"$f":"IF(J514=\"\",\"\",VLOOKUP(J514,EventNPC!A:E,5,FALSE))","v":"风无咎"},5591,"听闻道友最近修为又有所精进，特来讨教，望能切磋一二",null,1024,{"$f":"IF(O514=O513,P513+1,1)","v":1},{"$f":"_xlfn.TEXTJOIN(\";\",1,R514:S514)","v":""},null,null,{"$f":"IF(R514=\"\",\"\",\"-\"&VLOOKUP(R514,EventConditionConfig!A:C,3,FALSE)&IF(S514=\"\",\"\",CHAR(10)&\"-\"&VLOOKUP(S514,EventConditionConfig!A:C,3,FALSE)))","v":""},{"$f":"IF(Y514=\"\",\"\",IF(ISTEXT(Y514),1,2))","v":1},{"$f":"IF(U514=1,_xlfn.TEXTJOIN(\";\",1,IF(Z514=\"\",A514+1,Z514),IF(AND(AA514<>\"\",AC514=\"\"),A514+1,AC514)),IF(U514=2,Y514,\"\"))","v":"102402;102403"},"5592;5593",5592,"全力切磋",102402,5593,"回绝切磋",102403,null,null,null,{"$f":"IF(AF514=\"\",\"\",CHOOSE(AF514,IF(AH514=\"\",A514+1,AH514),CONCATENATE(IF(AH514=\"\",A514+1,AH514),\";101\"),IF(AH514=\"\",O514+1,AH514)))","v":""},null,5593]
[102402,5589,"风无咎前来武艺论道",5590,"与风无咎对话(0/1)",{"$nulls":4},112,{"$f":"IF(J515=\"\",\"\",VLOOKUP(J515,EventNPC!A:E,5,FALSE))","v":"风无咎"},5594,"还请讨教！",null,1024,2,"",null,null,{"$f":"IF(R515=\"\",\"\",\"-\"&VLOOKUP(R515,EventConditionConfig!A:C,3,FALSE)&IF(S515=\"\",\"\",CHAR(10)&\"-\"&VLOOKUP(S515,EventConditionConfig!A:C,3,FALSE)))","v":""},{"$f":"IF(Y515=\"\",\"\",IF(ISTEXT(Y515),1,2))","v":2},{"$f":"IF(U515=1,_xlfn.TEXTJOIN(\";\",1,IF(Z515=\"\",A515+1,Z515),IF(AND(AA515<>\"\",AC515=\"\"),A515+1,AC515)),IF(U515=2,Y515,\"\"))","v":100001},{"$f":"_xlfn.TEXTJOIN(\";\",1,X515,AA515)","v":""},"",100001,null,"",null,null,1001,2,2,"102403;101",null,5594]
[102403,5589,"风无咎前来武艺论道",5590,"与风无咎对话(0/1)",{"$nulls":4},112,{"$f":"IF(J516=\"\",\"\",VLOOKUP(J516,EventNPC!A:E,5,FALSE))","v":"风无咎"},5595,"若不愿意，也无妨，此物赠与道友继续修行",null,1024,3,"",null,null,{"$f":"IF(R516=\"\",\"\",\"-\"&VLOOKUP(R516,EventConditionConfig!A:C,3,FALSE)&IF(S516=\"\",\"\",CHAR(10)&\"-\"&VLOOKUP(S516,EventConditionConfig!A:C,3,FALSE)))","v":""},"","","","",null,null,"",null,null,1001,1,null,"",null,5595]
[null,"",null,"",{"$nulls":7},"",{"$nulls":8},"","","","",null,null,"",{"$nulls":7},""]
[{"$f":"O518*100+P518","v":102501},{"$f":"IF(C518=\"\",\"\",IF(C518=C517,B517,MAX(AI517,AI516)+1))","v":5596},"魔族修士前来威胁你加入魔族",{"$f":"IF(E518=\"\",\"\",IF(E518=E517,D517,MAX(AI517,AI516,B518)+1))","v":5597},"与魔族交涉",{"$nulls":4},107,{"$f":"IF(J518=\"\",\"\",VLOOKUP(J518,EventNPC!A:E,5,FALSE))","v":"村名甲"},{"$f":"IF(M518=\"\",\"\",MAX(AI517,AI516,B518,D518)+1)","v":5598},"三番两次邀请你加入我魔族，你却为了北海执迷不悟，今日本宫便让你知道拒绝魔族的后果！",null,1025,{"$f":"IF(O518=O517,P517+1,1)","v":1},{"$f":"_xlfn.TEXTJOIN(\";\",1,R518:S518)","v":""},null,null,{"$f":"IF(R518=\"\",\"\",\"-\"&VLOOKUP(R518,EventConditionConfig!A:C,3,FALSE)&IF(S518=\"\",\"\",CHAR(10)&\"-\"&VLOOKUP(S518,EventConditionConfig!A:C,3,FALSE)))","v":""},1,"102502;102503","5599;5600",{"$f":"IF(OR(ISNUMBER(Y518),Y518=\"\"),\"\",MAX(AI517,AI516,B518,D518,L518)+1)","v":5599},"全力应战",102502,{"$f":"IF(OR(ISNUMBER(AB518),AB518=\"\"),\"\",X518+1)","v":5600},"御剑逃离",102503,null,null,null,{"$f":"IF(AF518=\"\",\"\",CHOOSE(AF518,IF(AH518=\"\",A518+1,AH518),CONCATENATE(IF(AH518=\"\",A518+1,AH518),\";101\"),IF(AH518=\"\",O518+1,AH518)))","v":""},null,{"$f":"IF(A518=\"\",\"\",MAX(B518,D518,L518,X518,AA518,AI517,AI516))","v":5600}]
[102502,5596,"魔族修士前来威胁你加入魔族",5597,"与魔族交涉",{"$nulls":4},107,{"$f":"IF(J519=\"\",\"\",VLOOKUP(J519,EventNPC!A:E,5,FALSE))","v":"村名甲"},5601,"你可知魔族威名！受死吧！",null,1025,2,"",null,null,{"$f":"IF(R519=\"\",\"\",\"-\"&VLOOKUP(R519,EventConditionConfig!A:C,3,FALSE)&IF(S519=\"\",\"\",CHAR(10)&\"-\"&VLOOKUP(S519,EventConditionConfig!A:C,3,FALSE)))","v":""},2,100001,"","",100001,null,"",null,null,1001,1,2,"102503;101",null,5601]
[102503,5596,"魔族修士前来威胁你加入魔族",5597,"与魔族交涉",{"$nulls":4},107,{"$f":"IF(J520=\"\",\"\",VLOOKUP(J520,EventNPC!A:E,5,FALSE))","v":"村名甲"},5602,"可恶！今日饶你一马",null,1025,3,"",null,null,{"$f":"IF(R520=\"\",\"\",\"-\"&VLOOKUP(R520,EventConditionConfig!A:C,3,FALSE)&IF(S520=\"\",\"\",CHAR(10)&\"-\"&VLOOKUP(S520,EventConditionConfig!A:C,3,FALSE)))","v":""},"","","","",null,null,"",{"$nulls":5},"",null,5602]
[null,"",null,"",{"$nulls":7},"",{"$nulls":8},"","","","",null,null,"",{"$nulls":7},""]
[{"$f":"O522*100+P522","v":102601},5603,"妖兽入侵",5604,"前去击杀妖兽",{"$nulls":4},107,{"$f":"IF(J522=\"\",\"\",VLOOKUP(J522,EventNPC!A:E,5,FALSE))","v":"村名甲"},5605,"我在北海境内发现一只妖兽闯入，还请道友前往镇压",null,1026,{"$f":"IF(O522=O521,P521+1,1)","v":1},{"$f":"_xlfn.TEXTJOIN(\";\",1,R522:S522)","v":""},null,null,{"$f":"IF(R522=\"\",\"\",\"-\"&VLOOKUP(R522,EventConditionConfig!A:C,3,FALSE)&IF(S522=\"\",\"\",CHAR(10)&\"-\"&VLOOKUP(S522,EventConditionConfig!A:C,3,FALSE)))","v":""},2,100001,"","",100001,null,"",{"$nulls":4},2,{"$f":"IF(AF522=\"\",\"\",CHOOSE(AF522,IF(AH522=\"\",A522+1,AH522),CONCATENATE(IF(AH522=\"\",A522+1,AH522),\";101\"),IF(AH522=\"\",O522+1,AH522)))","v":"102602;101"},null,5605]
[102602,5603,"妖兽入侵",5604,"前去击杀妖兽",{"$nulls":4},107,{"$f":"IF(J523=\"\",\"\",VLOOKUP(J523,EventNPC!A:E,5,FALSE))","v":"村名甲"},5606,"北海境内越来越不安定了，若还有妖兽闯入，我会第一时间告知你",null,1026,2,"",null,null,{"$f":"IF(R523=\"\",\"\",\"-\"&VLOOKUP(R523,EventConditionConfig!A:C,3,FALSE)&IF(S523=\"\",\"\",CHAR(10)&\"-\"&VLOOKUP(S523,EventConditionConfig!A:C,3,FALSE)))","v":""},"","","","",null,null,"",{"$nulls":5},"",null,5606]
[null,"",null,"",{"$nulls":7},"",{"$nulls":8},"","","","",null,null,"",{"$nulls":7},""]
[102701,5607,"妖兽拦住了你的去路",5608,"阻止妖族前往北海",{"$nulls":4},114,{"$f":"IF(J525=\"\",\"\",VLOOKUP(J525,EventNPC!A:E,5,FALSE))","v":"拦路妖兽"},5609,"站住，乖乖告诉我北海在哪",null,1027,1,"",null,null,{"$f":"IF(R525=\"\",\"\",\"-\"&VLOOKUP(R525,EventConditionConfig!A:C,3,FALSE)&IF(S525=\"\",\"\",CHAR(10)&\"-\"&VLOOKUP(S525,EventConditionConfig!A:C,3,FALSE)))","v":""},1,"102702","5610",5610,"大胆妖兽，今日就让你葬身于此",null,"",{"$nulls":5},"",null,5610]
[102702,5607,"妖兽拦住了你的去路",5608,"阻止妖族前往北海",{"$nulls":4},114,{"$f":"IF(J526=\"\",\"\",VLOOKUP(J526,EventNPC!A:E,5,FALSE))","v":"拦路妖兽"},5611,"不识抬举，去死吧",null,1027,2,"",null,null,{"$f":"IF(R526=\"\",\"\",\"-\"&VLOOKUP(R526,EventConditionConfig!A:C,3,FALSE)&IF(S526=\"\",\"\",CHAR(10)&\"-\"&VLOOKUP(S526,EventConditionConfig!A:C,3,FALSE)))","v":""},2,{"$f":"IF(U526=1,_xlfn.TEXTJOIN(\";\",1,IF(Z526=\"\",A526+1,Z526),IF(AND(AA526<>\"\",AC526=\"\"),A526+1,AC526)),IF(U526=2,Y526,\"\"))","v":100001},"","",100001,null,"",{"$nulls":4},2,"102703;101",null,5611]
[null,"",null,"",{"$nulls":7},"",{"$nulls":8},"","","","",null,null,"",{"$nulls":7},""]
[{"$f":"O528*100+P528","v":102801},5612,"前去击败入侵妖兽",5613,"击败入侵的妖兽",{"$nulls":4},114,{"$f":"IF(J528=\"\",\"\",VLOOKUP(J528,EventNPC!A:E,5,FALSE))","v":"拦路妖兽"},5614,"终于找到了北海城镇了，你拦不住我的，滚吧",null,1028,{"$f":"IF(O528=O527,P527+1,1)","v":1},{"$f":"_xlfn.TEXTJOIN(\";\",1,R528:S528)","v":""},null,null,{"$f":"IF(R528=\"\",\"\",\"-\"&VLOOKUP(R528,EventConditionConfig!A:C,3,FALSE)&IF(S528=\"\",\"\",CHAR(10)&\"-\"&VLOOKUP(S528,EventConditionConfig!A:C,3,FALSE)))","v":""},1,"102802","5615",5615,"迎接敌人",null,"",{"$nulls":5},{"$f":"IF(AF528=\"\",\"\",CHOOSE(AF528,IF(AH528=\"\",A528+1,AH528),CONCATENATE(IF(AH528=\"\",A528+1,AH528),\";101\"),IF(AH528=\"\",O528+1,AH528)))","v":""},null,5615]
[102802,5612,"前去击败入侵妖兽",5613,"击败入侵的妖兽",{"$nulls":4},114,{"$f":"IF(J529=\"\",\"\",VLOOKUP(J529,EventNPC!A:E,5,FALSE))","v":"拦路妖兽"},5616,"不识抬举，去死吧",null,1028,2,"",null,null,{"$f":"IF(R529=\"\",\"\",\"-\"&VLOOKUP(R529,EventConditionConfig!A:C,3,FALSE)&IF(S529=\"\",\"\",CHAR(10)&\"-\"&VLOOKUP(S529,EventConditionConfig!A:C,3,FALSE)))","v":""},2,100001,"","",100001,null,"",{"$nulls":4},2,"102803;101",null,5616]
[102803,5612,"前去击败入侵妖兽",5613,"击败入侵的妖兽",{"$nulls":5},{"$f":"IF(J530=\"\",\"\",VLOOKUP(J530,EventNPC!A:E,5,FALSE))","v":""},5617,"妖兽被重伤后吞下丹药激发了潜力，实力突然暴涨，阻止他破坏城镇",null,1028,3,"",null,null,{"$f":"IF(R530=\"\",\"\",\"-\"&VLOOKUP(R530,EventConditionConfig!A:C,3,FALSE)&IF(S530=\"\",\"\",CHAR(10)&\"-\"&VLOOKUP(S530,EventConditionConfig!A:C,3,FALSE)))","v":""},1,"102804;102805","5618;5619",5618,"稍作休整",102804,5619,"挑战妖兽",102805,null,null,null,"",null,5619]
[102804,5612,"前去击败入侵妖兽",5613,"击败入侵的妖兽",{"$nulls":5},{"$f":"IF(J531=\"\",\"\",VLOOKUP(J531,EventNPC!A:E,5,FALSE))","v":""},5620,"见到情况不对，稍作休整再去击杀妖兽",null,1028,4,"",null,null,{"$f":"IF(R531=\"\",\"\",\"-\"&VLOOKUP(R531,EventConditionConfig!A:C,3,FALSE)&IF(S531=\"\",\"\",CHAR(10)&\"-\"&VLOOKUP(S531,EventConditionConfig!A:C,3,FALSE)))","v":""},5,"","","",null,null,"",{"$nulls":5},"",null,5620]
[102805,5612,"前去击败入侵妖兽",5613,"击败入侵的妖兽",{"$nulls":4},114,{"$f":"IF(J532=\"\",\"\",VLOOKUP(J532,EventNPC!A:E,5,FALSE))","v":"拦路妖兽"},5621,"见到我不逃跑反而朝我攻来吗，有趣",null,1028,5,"",null,null,{"$f":"IF(R532=\"\",\"\",\"-\"&VLOOKUP(R532,EventConditionConfig!A:C,3,FALSE)&IF(S532=\"\",\"\",CHAR(10)&\"-\"&VLOOKUP(S532,EventConditionConfig!A:C,3,FALSE)))","v":""},{"$f":"IF(Y532=\"\",\"\",IF(ISTEXT(Y532),1,2))","v":2},100001,"","",100001,null,"",null,null,1001,10,{"$f":"IF(ISNUMBER(Y532),2,IF(A533=\"\",IF(OR(AH532>0,VLOOKUP(O532,EventConfig!A:C,3,FALSE)=4),3,\"\"),1))","v":2},"102806;101",null,5621]
[null,"",null,"",{"$nulls":7},"",{"$nulls":8},"","","","",null,null,"",{"$nulls":7},""]
[{"$f":"O534*100+P534","v":102901},5622,"明境道长邀请你前去论道",5623,"与道长进行对话",{"$nulls":4},107,{"$f":"IF(J534=\"\",\"\",VLOOKUP(J534,EventNPC!A:E,5,FALSE))","v":"村名甲"},5624,"小友修为有所长进，但我却不知你的道是独自一人还是众人前行",null,1029,{"$f":"IF(O534=O533,P533+1,1)","v":1},{"$f":"_xlfn.TEXTJOIN(\";\",1,R534:S534)","v":""},null,null,{"$f":"IF(R534=\"\",\"\",\"-\"&VLOOKUP(R534,EventConditionConfig!A:C,3,FALSE)&IF(S534=\"\",\"\",CHAR(10)&\"-\"&VLOOKUP(S534,EventConditionConfig!A:C,3,FALSE)))","v":""},1,"102902;102903","5625;5626",5625,"道之所在，在于自己，修炼其身即可成星火之势",102902,5626,"道之所在，在于众势，天下大同可让蚍蜉撼树",102903,null,null,null,{"$f":"IF(AF534=\"\",\"\",CHOOSE(AF534,IF(AH534=\"\",A534+1,AH534),CONCATENATE(IF(AH534=\"\",A534+1,AH534),\";101\"),IF(AH534=\"\",O534+1,AH534)))","v":""},null,5626]
[102902,5627,"明镜道长邀请你前去论道",5623,"与道长进行对话",{"$nulls":4},107,{"$f":"IF(J535=\"\",\"\",VLOOKUP(J535,EventNPC!A:E,5,FALSE))","v":"村名甲"},5628,"此言甚好，却不知小友遇见难关，是真的独自面对，还是寻求了他人帮助",null,1029,2,"",null,null,{"$f":"IF(R535=\"\",\"\",\"-\"&VLOOKUP(R535,EventConditionConfig!A:C,3,FALSE)&IF(S535=\"\",\"\",CHAR(10)&\"-\"&VLOOKUP(S535,EventConditionConfig!A:C,3,FALSE)))","v":""},1,"102904;102905","5629;5630",5629,"这....",102904,5630,"道长此言甚有意为之，如遇难关确实迷茫会去寻求他人",102905,null,null,null,"",null,5630]
[102903,5627,"明镜道长邀请你前去论道",5623,"与道长进行对话",{"$nulls":4},107,{"$f":"IF(J536=\"\",\"\",VLOOKUP(J536,EventNPC!A:E,5,FALSE))","v":"村名甲"},5631,"绝境之中，众人离去，你又该如何呢?",null,1029,3,"",null,null,{"$f":"IF(R536=\"\",\"\",\"-\"&VLOOKUP(R536,EventConditionConfig!A:C,3,FALSE)&IF(S536=\"\",\"\",CHAR(10)&\"-\"&VLOOKUP(S536,EventConditionConfig!A:C,3,FALSE)))","v":""},1,"102904;102907","5632;5633",5632,"这....",102904,5633,"绝境之下，亦能爆发潜能，无需借助他人也能成功",102907,null,null,null,"",null,5633]
[102904,5634,"明境道长邀请你前去论道",5623,"与道长进行对话",{"$nulls":4},107,{"$f":"IF(J537=\"\",\"\",VLOOKUP(J537,EventNPC!A:E,5,FALSE))","v":"村名甲"},5635,"看来你的道，还在混沌之中，独自面对亦或是众人攻克，这事并无绝对，还请小友继续去追寻自己正确的道",null,1029,4,"",null,null,{"$f":"IF(R537=\"\",\"\",\"-\"&VLOOKUP(R537,EventConditionConfig!A:C,3,FALSE)&IF(S537=\"\",\"\",CHAR(10)&\"-\"&VLOOKUP(S537,EventConditionConfig!A:C,3,FALSE)))","v":""},1,"102905","5636",5636,"多谢道长指点，晚辈明白",null,"",{"$nulls":5},"",null,5636]
[102905,5634,"明境道长邀请你前去论道",5623,"与道长进行对话",{"$nulls":4},107,{"$f":"IF(J538=\"\",\"\",VLOOKUP(J538,EventNPC!A:E,5,FALSE))","v":"村名甲"},5637,"如你所说，道还不够坚定，你已经告诉了你自己还没有足够的力量去找到真正的道",null,1029,5,"",null,null,{"$f":"IF(R538=\"\",\"\",\"-\"&VLOOKUP(R538,EventConditionConfig!A:C,3,FALSE)&IF(S538=\"\",\"\",CHAR(10)&\"-\"&VLOOKUP(S538,EventConditionConfig!A:C,3,FALSE)))","v":""},"","","","",null,null,"",{"$nulls":4},1,102906,102906,5637]
[102906,5634,"明境道长邀请你前去论道",5623,"与道长进行对话",{"$nulls":4},100,{"$f":"IF(J539=\"\",\"\",VLOOKUP(J539,EventNPC!A:E,5,FALSE))","v":"玩家"},5638,"晚辈明白，多谢道长",null,1029,6,"",null,null,{"$f":"IF(R539=\"\",\"\",\"-\"&VLOOKUP(R539,EventConditionConfig!A:C,3,FALSE)&IF(S539=\"\",\"\",CHAR(10)&\"-\"&VLOOKUP(S539,EventConditionConfig!A:C,3,FALSE)))","v":""},"","","","",null,null,"",{"$nulls":5},"",null,5638]
[102907,5634,"明境道长邀请你前去论道",5623,"与道长进行对话",{"$nulls":4},107,{"$f":"IF(J540=\"\",\"\",VLOOKUP(J540,EventNPC!A:E,5,FALSE))","v":"村名甲"},5639,"有趣，既然不是独步天下，为何又说无需借助",null,1029,7,"",null,null,{"$f":"IF(R540=\"\",\"\",\"-\"&VLOOKUP(R540,EventConditionConfig!A:C,3,FALSE)&IF(S540=\"\",\"\",CHAR(10)&\"-\"&VLOOKUP(S540,EventConditionConfig!A:C,3,FALSE)))","v":""},1,{"$f":"IF(U540=1,_xlfn.TEXTJOIN(\";\",1,IF(Z540=\"\",A540+1,Z540),IF(AND(AA540<>\"\",AC540=\"\"),A540+1,AC540)),IF(U540=2,Y540,\"\"))","v":"102908;102908"},"5640;5641",5640,"道长此言差矣，没有他人帮助，怎会在绝境之战激发潜能去攻克难关，这并非独步天下",null,5641,"无需借助并非独步天下，能结缘不同的人，才能在绝境之中爆发潜能",{"$nulls":4},"",null,5641]
[102908,5634,"明境道长邀请你前去论道",5623,"与道长进行对话",{"$nulls":4},107,{"$f":"IF(J541=\"\",\"\",VLOOKUP(J541,EventNPC!A:E,5,FALSE))","v":"村名甲"},5642,"禹能众万人心，舜能独断万古，你的道如禹舜之续，我很满意",null,1029,8,"",null,null,{"$f":"IF(R541=\"\",\"\",\"-\"&VLOOKUP(R541,EventConditionConfig!A:C,3,FALSE)&IF(S541=\"\",\"\",CHAR(10)&\"-\"&VLOOKUP(S541,EventConditionConfig!A:C,3,FALSE)))","v":""},"","","","",null,null,"",{"$nulls":5},"",null,5642]
[null,"",null,"",{"$nulls":7},"",{"$nulls":11},"",null,null,"",{"$nulls":7},""]
[{"$f":"O543*100+P543","v":103001},5643,"印宗邀请你一同论道",5644,"与印宗法师进行对话",{"$nulls":5},{"$f":"IF(J543=\"\",\"\",VLOOKUP(J543,EventNPC!A:E,5,FALSE))","v":""},5645,"你正遇上这里的印宗法师在讲经书。这时吹来了一阵风，把挂在门口和堂内的佛幡吹得飘舞起来。印宗法师看到佛幡舞动，于是问你",null,1030,{"$f":"IF(O543=O542,P542+1,1)","v":1},{"$f":"_xlfn.TEXTJOIN(\";\",1,R543:S543)","v":""},null,null,{"$f":"IF(R543=\"\",\"\",\"-\"&VLOOKUP(R543,EventConditionConfig!A:C,3,FALSE)&IF(S543=\"\",\"\",CHAR(10)&\"-\"&VLOOKUP(S543,EventConditionConfig!A:C,3,FALSE)))","v":""},{"$f":"IF(Y543=\"\",\"\",IF(ISTEXT(Y543),1,2))","v":""},"",{"$f":"_xlfn.TEXTJOIN(\";\",1,X543,AA543)","v":""},"",null,null,"",{"$nulls":4},{"$f":"IF(A544=\"\",IF(OR(AH543>0,VLOOKUP(O543,EventConfig!A:C,3,FALSE)=4),3,\"\"),IF(ISNUMBER(Y543),2,1))","v":1},{"$f":"IF(AF543=\"\",\"\",CHOOSE(AF543,IF(AH543=\"\",A543+1,AH543),CONCATENATE(IF(AH543=\"\",A543+1,AH543),\";101\"),IF(AH543=\"\",O543+1,AH543)))","v":103002},null,5645]
[103002,5643,"印宗邀请你一同论道",5644,"与印宗法师进行对话",{"$nulls":4},107,{"$f":"IF(J544=\"\",\"\",VLOOKUP(J544,EventNPC!A:E,5,FALSE))","v":"村名甲"},5646,"小友可知，这是风动？还是幡动？",null,1030,2,"",null,null,{"$f":"IF(R544=\"\",\"\",\"-\"&VLOOKUP(R544,EventConditionConfig!A:C,3,FALSE)&IF(S544=\"\",\"\",CHAR(10)&\"-\"&VLOOKUP(S544,EventConditionConfig!A:C,3,FALSE)))","v":""},1,"103003;103004","5647;5648",5647,"是风在动而幡没有动",103003,5648,"是幡在动而风没有动",103004,null,null,{"$f":"IF(A545=\"\",IF(OR(AH544>0,VLOOKUP(O544,EventConfig!A:C,3,FALSE)=4),3,\"\"),IF(ISNUMBER(Y544),2,1))","v":1},103003,null,5648]
[103003,5643,"印宗邀请你一同论道",5644,"与印宗法师进行对话",{"$nulls":4},107,{"$f":"IF(J545=\"\",\"\",VLOOKUP(J545,EventNPC!A:E,5,FALSE))","v":"村名甲"},5649,"小友为何会认为是风动呢？",null,1030,3,"",null,null,{"$f":"IF(R545=\"\",\"\",\"-\"&VLOOKUP(R545,EventConditionConfig!A:C,3,FALSE)&IF(S545=\"\",\"\",CHAR(10)&\"-\"&VLOOKUP(S545,EventConditionConfig!A:C,3,FALSE)))","v":""},1,"103005","5650",5650,"风若不吹，幡怎么会自己动",103005,"",{"$nulls":4},{"$f":"IF(A546=\"\",IF(OR(AH545>0,VLOOKUP(O545,EventConfig!A:C,3,FALSE)=4),3,\"\"),IF(ISNUMBER(Y545),2,1))","v":1},103004,null,5650]
[103004,5643,"印宗邀请你一同论道",5644,"与印宗法师进行对话",{"$nulls":4},107,{"$f":"IF(J546=\"\",\"\",VLOOKUP(J546,EventNPC!A:E,5,FALSE))","v":"村名甲"},5651,"小友为何会认为是幡动呢？",null,1030,4,"",null,null,{"$f":"IF(R546=\"\",\"\",\"-\"&VLOOKUP(R546,EventConditionConfig!A:C,3,FALSE)&IF(S546=\"\",\"\",CHAR(10)&\"-\"&VLOOKUP(S546,EventConditionConfig!A:C,3,FALSE)))","v":""},1,"103005","5652",5652,"可能是幡有灵气，自己动了起来",103005,"",{"$nulls":4},{"$f":"IF(A547=\"\",IF(OR(AH546>0,VLOOKUP(O546,EventConfig!A:C,3,FALSE)=4),3,\"\"),IF(ISNUMBER(Y546),2,1))","v":1},103005,null,5652]
[103005,5643,"印宗邀请你一同论道",5644,"与印宗法师进行对话",{"$nulls":4},107,{"$f":"IF(J547=\"\",\"\",VLOOKUP(J547,EventNPC!A:E,5,FALSE))","v":"村名甲"},5653,"小友此解释确实有意思，但还是不对",null,1030,5,"",null,null,{"$f":"IF(R547=\"\",\"\",\"-\"&VLOOKUP(R547,EventConditionConfig!A:C,3,FALSE)&IF(S547=\"\",\"\",CHAR(10)&\"-\"&VLOOKUP(S547,EventConditionConfig!A:C,3,FALSE)))","v":""},1,"103006","5654",5654,"大师此话怎讲，还请赐教",null,"",{"$nulls":4},{"$f":"IF(A548=\"\",IF(OR(AH547>0,VLOOKUP(O547,EventConfig!A:C,3,FALSE)=4),3,\"\"),IF(ISNUMBER(Y547),2,1))","v":1},103006,null,5654]
[103006,5643,"印宗邀请你一同论道",5644,"与印宗法师进行对话",{"$nulls":4},107,{"$f":"IF(J548=\"\",\"\",VLOOKUP(J548,EventNPC!A:E,5,FALSE))","v":"村名甲"},5655,"不是风动，不是幡动，是仁者心动",null,1030,6,"",null,null,{"$f":"IF(R548=\"\",\"\",\"-\"&VLOOKUP(R548,EventConditionConfig!A:C,3,FALSE)&IF(S548=\"\",\"\",CHAR(10)&\"-\"&VLOOKUP(S548,EventConditionConfig!A:C,3,FALSE)))","v":""},1,"103007","5656",5656,"既不是风在动，也不是幡在动，而是我内心认为是在动的吗",null,"",{"$nulls":4},{"$f":"IF(A549=\"\",IF(OR(AH548>0,VLOOKUP(O548,EventConfig!A:C,3,FALSE)=4),3,\"\"),IF(ISNUMBER(Y548),2,1))","v":1},103007,null,5656]
[103007,5643,"印宗邀请你一同论道",5644,"与印宗法师进行对话",{"$nulls":4},107,{"$f":"IF(J549=\"\",\"\",VLOOKUP(J549,EventNPC!A:E,5,FALSE))","v":"村名甲"},5657,"此话也不对。小友，你听经不得心识不专注，心识看到了旗帜上，而非经书上，你的心若在修行之上，那风与幡怎么会因你的心而舞动呢",null,1030,7,"",null,null,{"$f":"IF(R549=\"\",\"\",\"-\"&VLOOKUP(R549,EventConditionConfig!A:C,3,FALSE)&IF(S549=\"\",\"\",CHAR(10)&\"-\"&VLOOKUP(S549,EventConditionConfig!A:C,3,FALSE)))","v":""},"","","","",null,null,"",{"$nulls":5},"",null,5657]
[null,"",null,"",{"$nulls":7},"",{"$nulls":11},"",null,null,"",{"$nulls":7},""]
[{"$f":"O551*100+P551","v":103101},5658,"明境道长邀请你前去论道",5659,"与道长进行对话",{"$nulls":4},107,{"$f":"IF(J551=\"\",\"\",VLOOKUP(J551,EventNPC!A:E,5,FALSE))","v":"村名甲"},5660,"小友好些日子不见，可有时间与我看些经文",null,1031,{"$f":"IF(O551=O550,P550+1,1)","v":1},{"$f":"_xlfn.TEXTJOIN(\";\",1,R551:S551)","v":""},null,null,{"$f":"IF(R551=\"\",\"\",\"-\"&VLOOKUP(R551,EventConditionConfig!A:C,3,FALSE)&IF(S551=\"\",\"\",CHAR(10)&\"-\"&VLOOKUP(S551,EventConditionConfig!A:C,3,FALSE)))","v":""},{"$f":"IF(Y551=\"\",\"\",IF(ISTEXT(Y551),1,2))","v":1},{"$f":"IF(U551=1,_xlfn.TEXTJOIN(\";\",1,IF(Z551=\"\",A551+1,Z551),IF(AND(AA551<>\"\",AC551=\"\"),A551+1,AC551)),IF(U551=2,Y551,\"\"))","v":"103102;103105"},{"$f":"_xlfn.TEXTJOIN(\";\",1,X551,AA551)","v":"5661;5662"},5661,"道长请讲",103102,5662,"回绝论道",103105,null,null,null,{"$f":"IF(AF551=\"\",\"\",CHOOSE(AF551,IF(AH551=\"\",A551+1,AH551),CONCATENATE(IF(AH551=\"\",A551+1,AH551),\";101\"),IF(AH551=\"\",O551+1,AH551)))","v":""},null,5662]
[103102,5658,"明境道长邀请你前去论道",5659,"与道长进行对话",{"$nulls":4},107,{"$f":"IF(J552=\"\",\"\",VLOOKUP(J552,EventNPC!A:E,5,FALSE))","v":"村名甲"},5663,"人生天地之间，若白驹之过隙，忽然而已。道友，这话有些意思，可知何意？",null,1031,2,"",null,null,{"$f":"IF(R552=\"\",\"\",\"-\"&VLOOKUP(R552,EventConditionConfig!A:C,3,FALSE)&IF(S552=\"\",\"\",CHAR(10)&\"-\"&VLOOKUP(S552,EventConditionConfig!A:C,3,FALSE)))","v":""},1,"103103","5664",5664,"生命如骏马跃过缝隙般短暂",null,"",{"$nulls":4},{"$f":"IF(A553=\"\",IF(OR(AH552>0,VLOOKUP(O552,EventConfig!A:C,3,FALSE)=4),3,\"\"),IF(ISNUMBER(Y552),2,1))","v":1},103103,null,5664]
[103103,5658,"明境道长邀请你前去论道",5659,"与道长进行对话",{"$nulls":4},107,{"$f":"IF(J553=\"\",\"\",VLOOKUP(J553,EventNPC!A:E,5,FALSE))","v":"村名甲"},5665,"小友可深得此话所讲？",null,1031,3,"",null,null,{"$f":"IF(R553=\"\",\"\",\"-\"&VLOOKUP(R553,EventConditionConfig!A:C,3,FALSE)&IF(S553=\"\",\"\",CHAR(10)&\"-\"&VLOOKUP(S553,EventConditionConfig!A:C,3,FALSE)))","v":""},1,"103104","5666",5666,"道长之意，可是想让我珍惜当下",null,"",{"$nulls":4},{"$f":"IF(A554=\"\",IF(OR(AH553>0,VLOOKUP(O553,EventConfig!A:C,3,FALSE)=4),3,\"\"),IF(ISNUMBER(Y553),2,1))","v":1},103104,null,5666]
[103104,5658,"明境道长邀请你前去论道",5659,"与道长进行对话",{"$nulls":4},107,{"$f":"IF(J554=\"\",\"\",VLOOKUP(J554,EventNPC!A:E,5,FALSE))","v":"村名甲"},5667,"看来你心有所感，我甚为满意。时间匆匆，还请小友破除对时间流逝的焦虑，好好感受现在的每一刻。",null,1031,4,"",null,null,{"$f":"IF(R554=\"\",\"\",\"-\"&VLOOKUP(R554,EventConditionConfig!A:C,3,FALSE)&IF(S554=\"\",\"\",CHAR(10)&\"-\"&VLOOKUP(S554,EventConditionConfig!A:C,3,FALSE)))","v":""},"","","","",null,null,"",{"$nulls":5},"",null,5667]
[103105,5658,"明境道长邀请你前去论道",5659,"与道长进行对话",{"$nulls":4},107,{"$f":"IF(J555=\"\",\"\",VLOOKUP(J555,EventNPC!A:E,5,FALSE))","v":"村名甲"},5668,"明镜道长听到你的拒绝后暂时离开了",null,1031,5,"",null,null,{"$f":"IF(R555=\"\",\"\",\"-\"&VLOOKUP(R555,EventConditionConfig!A:C,3,FALSE)&IF(S555=\"\",\"\",CHAR(10)&\"-\"&VLOOKUP(S555,EventConditionConfig!A:C,3,FALSE)))","v":""},"","","","",null,null,"",{"$nulls":5},"",null,5668]
[null,"",null,"",{"$nulls":7},"",{"$nulls":11},"",null,null,"",{"$nulls":7},""]
[{"$f":"O557*100+P557","v":500401},5669,"纳福-灵石","",{"$nulls":6},{"$f":"IF(J557=\"\",\"\",VLOOKUP(J557,EventNPC!A:E,5,FALSE))","v":""},5670,"你偶得良缘，大量灵石从天而降。",null,5004,{"$f":"IF(O557=O556,P556+1,1)","v":1},{"$f":"_xlfn.TEXTJOIN(\";\",1,R557:S557)","v":""},null,null,{"$f":"IF(R557=\"\",\"\",\"-\"&VLOOKUP(R557,EventConditionConfig!A:C,3,FALSE)&IF(S557=\"\",\"\",CHAR(10)&\"-\"&VLOOKUP(S557,EventConditionConfig!A:C,3,FALSE)))","v":""},{"$f":"IF(Y557=\"\",\"\",IF(ISTEXT(Y557),1,2))","v":""},{"$f":"IF(U557=1,_xlfn.TEXTJOIN(\";\",1,IF(Z557=\"\",A557+1,Z557),IF(AND(AA557<>\"\",AC557=\"\"),A557+1,AC557)),IF(U557=2,Y557,\"\"))","v":""},{"$f":"_xlfn.TEXTJOIN(\";\",1,X557,AA557)","v":""},"",null,null,"",{"$nulls":5},{"$f":"IF(AF557=\"\",\"\",CHOOSE(AF557,IF(AH557=\"\",A557+1,AH557),CONCATENATE(IF(AH557=\"\",A557+1,AH557),\";101\"),IF(AH557=\"\",O557+1,AH557)))","v":""},null,5670]
[null,"",null,"",{"$nulls":7},"",{"$nulls":11},"",null,null,"",{"$nulls":7},""]
[{"$f":"O559*100+P559","v":500501},5671,"纳福-修为","",{"$nulls":6},{"$f":"IF(J559=\"\",\"\",VLOOKUP(J559,EventNPC!A:E,5,FALSE))","v":""},5672,"你偶得良缘，大量修为从天而降。",null,5005,{"$f":"IF(O559=O558,P558+1,1)","v":1},{"$f":"_xlfn.TEXTJOIN(\";\",1,R559:S559)","v":""},null,null,{"$f":"IF(R559=\"\",\"\",\"-\"&VLOOKUP(R559,EventConditionConfig!A:C,3,FALSE)&IF(S559=\"\",\"\",CHAR(10)&\"-\"&VLOOKUP(S559,EventConditionConfig!A:C,3,FALSE)))","v":""},{"$f":"IF(Y559=\"\",\"\",IF(ISTEXT(Y559),1,2))","v":""},{"$f":"IF(U559=1,_xlfn.TEXTJOIN(\";\",1,IF(Z559=\"\",A559+1,Z559),IF(AND(AA559<>\"\",AC559=\"\"),A559+1,AC559)),IF(U559=2,Y559,\"\"))","v":""},{"$f":"_xlfn.TEXTJOIN(\";\",1,X559,AA559)","v":""},"",null,null,"",{"$nulls":5},{"$f":"IF(AF559=\"\",\"\",CHOOSE(AF559,IF(AH559=\"\",A559+1,AH559),CONCATENATE(IF(AH559=\"\",A559+1,AH559),\";101\"),IF(AH559=\"\",O559+1,AH559)))","v":""},null,5672]
[null,"",null,"",{"$nulls":7},"",{"$nulls":11},"",null,null,"",{"$nulls":7},""]
[{"$f":"O561*100+P561","v":500601},5673,"纳福-灵气","",{"$nulls":6},{"$f":"IF(J561=\"\",\"\",VLOOKUP(J561,EventNPC!A:E,5,FALSE))","v":""},5674,"你偶得良缘，大量灵气从天而降。",null,5006,{"$f":"IF(O561=O560,P560+1,1)","v":1},{"$f":"_xlfn.TEXTJOIN(\";\",1,R561:S561)","v":""},null,null,{"$f":"IF(R561=\"\",\"\",\"-\"&VLOOKUP(R561,EventConditionConfig!A:C,3,FALSE)&IF(S561=\"\",\"\",CHAR(10)&\"-\"&VLOOKUP(S561,EventConditionConfig!A:C,3,FALSE)))","v":""},{"$f":"IF(Y561=\"\",\"\",IF(ISTEXT(Y561),1,2))","v":""},{"$f":"IF(U561=1,_xlfn.TEXTJOIN(\";\",1,IF(Z561=\"\",A561+1,Z561),IF(AND(AA561<>\"\",AC561=\"\"),A561+1,AC561)),IF(U561=2,Y561,\"\"))","v":""},{"$f":"_xlfn.TEXTJOIN(\";\",1,X561,AA561)","v":""},"",null,null,"",{"$nulls":5},{"$f":"IF(AF561=\"\",\"\",CHOOSE(AF561,IF(AH561=\"\",A561+1,AH561),CONCATENATE(IF(AH561=\"\",A561+1,AH561),\";101\"),IF(AH561=\"\",O561+1,AH561)))","v":""},null,5674]
[null,"",null,"",{"$nulls":7},"",{"$nulls":11},"",null,null,"",{"$nulls":7},""]
[{"$f":"O563*100+P563","v":500701},5675,"纳福-玄晶","",{"$nulls":6},{"$f":"IF(J563=\"\",\"\",VLOOKUP(J563,EventNPC!A:E,5,FALSE))","v":""},5676,"你偶得良缘，大量玄晶从天而降。",null,5007,{"$f":"IF(O563=O562,P562+1,1)","v":1},{"$f":"_xlfn.TEXTJOIN(\";\",1,R563:S563)","v":""},null,null,{"$f":"IF(R563=\"\",\"\",\"-\"&VLOOKUP(R563,EventConditionConfig!A:C,3,FALSE)&IF(S563=\"\",\"\",CHAR(10)&\"-\"&VLOOKUP(S563,EventConditionConfig!A:C,3,FALSE)))","v":""},{"$f":"IF(Y563=\"\",\"\",IF(ISTEXT(Y563),1,2))","v":""},{"$f":"IF(U563=1,_xlfn.TEXTJOIN(\";\",1,IF(Z563=\"\",A563+1,Z563),IF(AND(AA563<>\"\",AC563=\"\"),A563+1,AC563)),IF(U563=2,Y563,\"\"))","v":""},{"$f":"_xlfn.TEXTJOIN(\";\",1,X563,AA563)","v":""},"",null,null,"",{"$nulls":5},{"$f":"IF(AF563=\"\",\"\",CHOOSE(AF563,IF(AH563=\"\",A563+1,AH563),CONCATENATE(IF(AH563=\"\",A563+1,AH563),\";101\"),IF(AH563=\"\",O563+1,AH563)))","v":""},null,5676]
[null,"",null,"",{"$nulls":7},"",{"$nulls":11},"",null,null,"",{"$nulls":7},""]
[{"$f":"O565*100+P565","v":910101},5677,{"$f":"CONCATENATE(\"你偶遇正在修炼的\",K565)","v":"你偶遇正在修炼的道友1"},"",{"$nulls":5},2,{"$f":"IF(J565=\"\",\"\",VLOOKUP(J565,EventNPC!A:E,5,FALSE))","v":"道友1"},5678,"嘿小友你好，初次见面不甚兴奋，赠你一朵小花花~",null,9101,{"$f":"IF(O565=O564,P564+1,1)","v":1},{"$f":"_xlfn.TEXTJOIN(\";\",1,R565:S565)","v":""},null,null,{"$f":"IF(R565=\"\",\"\",\"-\"&VLOOKUP(R565,EventConditionConfig!A:C,3,FALSE)&IF(S565=\"\",\"\",CHAR(10)&\"-\"&VLOOKUP(S565,EventConditionConfig!A:C,3,FALSE)))","v":""},{"$f":"IF(Y565=\"\",\"\",IF(ISTEXT(Y565),1,2))","v":""},{"$f":"IF(U565=1,_xlfn.TEXTJOIN(\";\",1,IF(Z565=\"\",A565+1,Z565),IF(AND(AA565<>\"\",AC565=\"\"),A565+1,AC565)),IF(U565=2,Y565,\"\"))","v":""},{"$f":"_xlfn.TEXTJOIN(\";\",1,X565,AA565)","v":""},"",null,null,"",{"$nulls":5},{"$f":"IF(AF565=\"\",\"\",CHOOSE(AF565,IF(AH565=\"\",A565+1,AH565),CONCATENATE(IF(AH565=\"\",A565+1,AH565),\";101\"),IF(AH565=\"\",O565+1,AH565)))","v":""},null,5678]
[null,"",null,"",{"$nulls":7},"",{"$nulls":11},"",null,null,"",{"$nulls":7},""]
[{"$f":"O567*100+P567","v":910201},5679,{"$f":"CONCATENATE(\"你偶遇正在修炼的\",K567)","v":"你偶遇正在修炼的道友2"},"",{"$nulls":5},3,{"$f":"IF(J567=\"\",\"\",VLOOKUP(J567,EventNPC!A:E,5,FALSE))","v":"道友2"},5680,"嘿小友你好，初次见面不甚兴奋，赠你一朵小花花~",null,9102,{"$f":"IF(O567=O566,P566+1,1)","v":1},{"$f":"_xlfn.TEXTJOIN(\";\",1,R567:S567)","v":""},null,null,{"$f":"IF(R567=\"\",\"\",\"-\"&VLOOKUP(R567,EventConditionConfig!A:C,3,FALSE)&IF(S567=\"\",\"\",CHAR(10)&\"-\"&VLOOKUP(S567,EventConditionConfig!A:C,3,FALSE)))","v":""},{"$f":"IF(Y567=\"\",\"\",IF(ISTEXT(Y567),1,2))","v":""},{"$f":"IF(U567=1,_xlfn.TEXTJOIN(\";\",1,IF(Z567=\"\",A567+1,Z567),IF(AND(AA567<>\"\",AC567=\"\"),A567+1,AC567)),IF(U567=2,Y567,\"\"))","v":""},{"$f":"_xlfn.TEXTJOIN(\";\",1,X567,AA567)","v":""},"",null,null,"",{"$nulls":5},{"$f":"IF(AF567=\"\",\"\",CHOOSE(AF567,IF(AH567=\"\",A567+1,AH567),CONCATENATE(IF(AH567=\"\",A567+1,AH567),\";101\"),IF(AH567=\"\",O567+1,AH567)))","v":""},null,5680]
[null,"",null,"",{"$nulls":7},"",{"$nulls":11},"",null,null,"",{"$nulls":7},""]
[{"$f":"O569*100+P569","v":910301},5681,{"$f":"CONCATENATE(\"你偶遇正在修炼的\",K569)","v":"你偶遇正在修炼的道友3"},"",{"$nulls":5},4,{"$f":"IF(J569=\"\",\"\",VLOOKUP(J569,EventNPC!A:E,5,FALSE))","v":"道友3"},5682,"嘿小友你好，初次见面不甚兴奋，赠你一朵小花花~",null,9103,{"$f":"IF(O569=O568,P568+1,1)","v":1},{"$f":"_xlfn.TEXTJOIN(\";\",1,R569:S569)","v":""},null,null,{"$f":"IF(R569=\"\",\"\",\"-\"&VLOOKUP(R569,EventConditionConfig!A:C,3,FALSE)&IF(S569=\"\",\"\",CHAR(10)&\"-\"&VLOOKUP(S569,EventConditionConfig!A:C,3,FALSE)))","v":""},{"$f":"IF(Y569=\"\",\"\",IF(ISTEXT(Y569),1,2))","v":""},{"$f":"IF(U569=1,_xlfn.TEXTJOIN(\";\",1,IF(Z569=\"\",A569+1,Z569),IF(AND(AA569<>\"\",AC569=\"\"),A569+1,AC569)),IF(U569=2,Y569,\"\"))","v":""},{"$f":"_xlfn.TEXTJOIN(\";\",1,X569,AA569)","v":""},"",null,null,"",{"$nulls":5},{"$f":"IF(AF569=\"\",\"\",CHOOSE(AF569,IF(AH569=\"\",A569+1,AH569),CONCATENATE(IF(AH569=\"\",A569+1,AH569),\";101\"),IF(AH569=\"\",O569+1,AH569)))","v":""},null,5682]
[null,"",null,"",{"$nulls":7},"",{"$nulls":11},"",null,null,"",{"$nulls":7},""]
[{"$f":"O571*100+P571","v":910401},5683,{"$f":"CONCATENATE(\"你偶遇正在修炼的\",K571)","v":"你偶遇正在修炼的道友4"},"",{"$nulls":5},5,{"$f":"IF(J571=\"\",\"\",VLOOKUP(J571,EventNPC!A:E,5,FALSE))","v":"道友4"},5684,"嘿小友你好，初次见面不甚兴奋，赠你一朵小花花~",null,9104,{"$f":"IF(O571=O570,P570+1,1)","v":1},{"$f":"_xlfn.TEXTJOIN(\";\",1,R571:S571)","v":""},null,null,{"$f":"IF(R571=\"\",\"\",\"-\"&VLOOKUP(R571,EventConditionConfig!A:C,3,FALSE)&IF(S571=\"\",\"\",CHAR(10)&\"-\"&VLOOKUP(S571,EventConditionConfig!A:C,3,FALSE)))","v":""},{"$f":"IF(Y571=\"\",\"\",IF(ISTEXT(Y571),1,2))","v":""},{"$f":"IF(U571=1,_xlfn.TEXTJOIN(\";\",1,IF(Z571=\"\",A571+1,Z571),IF(AND(AA571<>\"\",AC571=\"\"),A571+1,AC571)),IF(U571=2,Y571,\"\"))","v":""},{"$f":"_xlfn.TEXTJOIN(\";\",1,X571,AA571)","v":""},"",null,null,"",{"$nulls":5},{"$f":"IF(AF571=\"\",\"\",CHOOSE(AF571,IF(AH571=\"\",A571+1,AH571),CONCATENATE(IF(AH571=\"\",A571+1,AH571),\";101\"),IF(AH571=\"\",O571+1,AH571)))","v":""},null,5684]
[null,"",null,"",{"$nulls":7},"",{"$nulls":11},"",null,null,"",{"$nulls":7},""]
[{"$f":"O573*100+P573","v":910501},5685,{"$f":"CONCATENATE(\"你偶遇正在修炼的\",K573)","v":"你偶遇正在修炼的道友5"},"",{"$nulls":5},6,{"$f":"IF(J573=\"\",\"\",VLOOKUP(J573,EventNPC!A:E,5,FALSE))","v":"道友5"},5686,"嘿小友你好，初次见面不甚兴奋，赠你一朵小花花~",null,9105,{"$f":"IF(O573=O572,P572+1,1)","v":1},{"$f":"_xlfn.TEXTJOIN(\";\",1,R573:S573)","v":""},null,null,{"$f":"IF(R573=\"\",\"\",\"-\"&VLOOKUP(R573,EventConditionConfig!A:C,3,FALSE)&IF(S573=\"\",\"\",CHAR(10)&\"-\"&VLOOKUP(S573,EventConditionConfig!A:C,3,FALSE)))","v":""},{"$f":"IF(Y573=\"\",\"\",IF(ISTEXT(Y573),1,2))","v":""},{"$f":"IF(U573=1,_xlfn.TEXTJOIN(\";\",1,IF(Z573=\"\",A573+1,Z573),IF(AND(AA573<>\"\",AC573=\"\"),A573+1,AC573)),IF(U573=2,Y573,\"\"))","v":""},{"$f":"_xlfn.TEXTJOIN(\";\",1,X573,AA573)","v":""},"",null,null,"",{"$nulls":5},{"$f":"IF(AF573=\"\",\"\",CHOOSE(AF573,IF(AH573=\"\",A573+1,AH573),CONCATENATE(IF(AH573=\"\",A573+1,AH573),\";101\"),IF(AH573=\"\",O573+1,AH573)))","v":""},null,5686]
[null,"",null,"",{"$nulls":7},"",{"$nulls":11},"",null,null,"",{"$nulls":7},""]
[{"$f":"O575*100+P575","v":910601},5687,{"$f":"CONCATENATE(\"你偶遇正在修炼的\",K575)","v":"你偶遇正在修炼的道友6"},"",{"$nulls":5},7,{"$f":"IF(J575=\"\",\"\",VLOOKUP(J575,EventNPC!A:E,5,FALSE))","v":"道友6"},5688,"嘿小友你好，初次见面不甚兴奋，赠你一朵小花花~",null,9106,{"$f":"IF(O575=O574,P574+1,1)","v":1},{"$f":"_xlfn.TEXTJOIN(\";\",1,R575:S575)","v":""},null,null,{"$f":"IF(R575=\"\",\"\",\"-\"&VLOOKUP(R575,EventConditionConfig!A:C,3,FALSE)&IF(S575=\"\",\"\",CHAR(10)&\"-\"&VLOOKUP(S575,EventConditionConfig!A:C,3,FALSE)))","v":""},{"$f":"IF(Y575=\"\",\"\",IF(ISTEXT(Y575),1,2))","v":""},{"$f":"IF(U575=1,_xlfn.TEXTJOIN(\";\",1,IF(Z575=\"\",A575+1,Z575),IF(AND(AA575<>\"\",AC575=\"\"),A575+1,AC575)),IF(U575=2,Y575,\"\"))","v":""},{"$f":"_xlfn.TEXTJOIN(\";\",1,X575,AA575)","v":""},"",null,null,"",{"$nulls":5},{"$f":"IF(AF575=\"\",\"\",CHOOSE(AF575,IF(AH575=\"\",A575+1,AH575),CONCATENATE(IF(AH575=\"\",A575+1,AH575),\";101\"),IF(AH575=\"\",O575+1,AH575)))","v":""},null,5688]
[null,"",null,"",{"$nulls":7},"",{"$nulls":11},"",null,null,"",{"$nulls":7},""]
[{"$f":"O577*100+P577","v":910701},5689,{"$f":"CONCATENATE(\"你偶遇正在修炼的\",K577)","v":"你偶遇正在修炼的道友7"},"",{"$nulls":5},8,{"$f":"IF(J577=\"\",\"\",VLOOKUP(J577,EventNPC!A:E,5,FALSE))","v":"道友7"},5690,"嘿小友你好，初次见面不甚兴奋，赠你一朵小花花~",null,9107,{"$f":"IF(O577=O576,P576+1,1)","v":1},{"$f":"_xlfn.TEXTJOIN(\";\",1,R577:S577)","v":""},null,null,{"$f":"IF(R577=\"\",\"\",\"-\"&VLOOKUP(R577,EventConditionConfig!A:C,3,FALSE)&IF(S577=\"\",\"\",CHAR(10)&\"-\"&VLOOKUP(S577,EventConditionConfig!A:C,3,FALSE)))","v":""},{"$f":"IF(Y577=\"\",\"\",IF(ISTEXT(Y577),1,2))","v":""},{"$f":"IF(U577=1,_xlfn.TEXTJOIN(\";\",1,IF(Z577=\"\",A577+1,Z577),IF(AND(AA577<>\"\",AC577=\"\"),A577+1,AC577)),IF(U577=2,Y577,\"\"))","v":""},{"$f":"_xlfn.TEXTJOIN(\";\",1,X577,AA577)","v":""},"",null,null,"",{"$nulls":5},{"$f":"IF(AF577=\"\",\"\",CHOOSE(AF577,IF(AH577=\"\",A577+1,AH577),CONCATENATE(IF(AH577=\"\",A577+1,AH577),\";101\"),IF(AH577=\"\",O577+1,AH577)))","v":""},null,5690]
[null,"",null,"",{"$nulls":7},"",{"$nulls":11},"",null,null,"",{"$nulls":7},""]
[{"$f":"O579*100+P579","v":910801},5691,{"$f":"CONCATENATE(\"你偶遇正在修炼的\",K579)","v":"你偶遇正在修炼的道友8"},"",{"$nulls":5},9,{"$f":"IF(J579=\"\",\"\",VLOOKUP(J579,EventNPC!A:E,5,FALSE))","v":"道友8"},5692,"嘿小友你好，初次见面不甚兴奋，赠你一朵小花花~",null,9108,{"$f":"IF(O579=O578,P578+1,1)","v":1},{"$f":"_xlfn.TEXTJOIN(\";\",1,R579:S579)","v":""},null,null,{"$f":"IF(R579=\"\",\"\",\"-\"&VLOOKUP(R579,EventConditionConfig!A:C,3,FALSE)&IF(S579=\"\",\"\",CHAR(10)&\"-\"&VLOOKUP(S579,EventConditionConfig!A:C,3,FALSE)))","v":""},{"$f":"IF(Y579=\"\",\"\",IF(ISTEXT(Y579),1,2))","v":""},{"$f":"IF(U579=1,_xlfn.TEXTJOIN(\";\",1,IF(Z579=\"\",A579+1,Z579),IF(AND(AA579<>\"\",AC579=\"\"),A579+1,AC579)),IF(U579=2,Y579,\"\"))","v":""},{"$f":"_xlfn.TEXTJOIN(\";\",1,X579,AA579)","v":""},"",null,null,"",{"$nulls":5},{"$f":"IF(AF579=\"\",\"\",CHOOSE(AF579,IF(AH579=\"\",A579+1,AH579),CONCATENATE(IF(AH579=\"\",A579+1,AH579),\";101\"),IF(AH579=\"\",O579+1,AH579)))","v":""},null,5692]
[null,"",null,"",{"$nulls":7},"",{"$nulls":11},"",null,null,"",{"$nulls":7},""]
[{"$f":"O581*100+P581","v":910901},5693,{"$f":"CONCATENATE(\"你偶遇正在修炼的\",K581)","v":"你偶遇正在修炼的道友9"},"",{"$nulls":5},10,{"$f":"IF(J581=\"\",\"\",VLOOKUP(J581,EventNPC!A:E,5,FALSE))","v":"道友9"},5694,"嘿小友你好，初次见面不甚兴奋，赠你一朵小花花~",null,9109,{"$f":"IF(O581=O580,P580+1,1)","v":1},{"$f":"_xlfn.TEXTJOIN(\";\",1,R581:S581)","v":""},null,null,{"$f":"IF(R581=\"\",\"\",\"-\"&VLOOKUP(R581,EventConditionConfig!A:C,3,FALSE)&IF(S581=\"\",\"\",CHAR(10)&\"-\"&VLOOKUP(S581,EventConditionConfig!A:C,3,FALSE)))","v":""},{"$f":"IF(Y581=\"\",\"\",IF(ISTEXT(Y581),1,2))","v":""},{"$f":"IF(U581=1,_xlfn.TEXTJOIN(\";\",1,IF(Z581=\"\",A581+1,Z581),IF(AND(AA581<>\"\",AC581=\"\"),A581+1,AC581)),IF(U581=2,Y581,\"\"))","v":""},{"$f":"_xlfn.TEXTJOIN(\";\",1,X581,AA581)","v":""},"",null,null,"",{"$nulls":5},{"$f":"IF(AF581=\"\",\"\",CHOOSE(AF581,IF(AH581=\"\",A581+1,AH581),CONCATENATE(IF(AH581=\"\",A581+1,AH581),\";101\"),IF(AH581=\"\",O581+1,AH581)))","v":""},null,5694]
[null,{"$f":"IF(C582=\"\",\"\",IF(C582=C581,B581,MAX(AI581,AI580)+1))","v":""},null,{"$f":"IF(E582=\"\",\"\",IF(E582=E581,D581,MAX(AI581,AI580,B582)+1))","v":""},{"$nulls":7},{"$f":"IF(M582=\"\",\"\",MAX(AI581,AI580,B582,D582)+1)","v":""},{"$nulls":11},{"$f":"IF(OR(ISNUMBER(Y582),Y582=\"\"),\"\",MAX(AI581,AI580,B582,D582,L582)+1)","v":""},null,null,{"$f":"IF(OR(ISNUMBER(AB582),AB582=\"\"),\"\",X582+1)","v":""},{"$nulls":7},{"$f":"IF(A582=\"\",\"\",MAX(B582,D582,L582,X582,AA582,AI581,AI580))","v":""}]
[{"$f":"O583*100+P583","v":911001},5695,{"$f":"CONCATENATE(\"你偶遇正在修炼的\",K583)","v":"你偶遇正在修炼的道友10"},"",{"$nulls":5},11,{"$f":"IF(J583=\"\",\"\",VLOOKUP(J583,EventNPC!A:E,5,FALSE))","v":"道友10"},5696,"嘿小友你好，初次见面不甚兴奋，赠你一朵小花花~",null,9110,{"$f":"IF(O583=O582,P582+1,1)","v":1},{"$f":"_xlfn.TEXTJOIN(\";\",1,R583:S583)","v":""},null,null,{"$f":"IF(R583=\"\",\"\",\"-\"&VLOOKUP(R583,EventConditionConfig!A:C,3,FALSE)&IF(S583=\"\",\"\",CHAR(10)&\"-\"&VLOOKUP(S583,EventConditionConfig!A:C,3,FALSE)))","v":""},{"$f":"IF(Y583=\"\",\"\",IF(ISTEXT(Y583),1,2))","v":""},{"$f":"IF(U583=1,_xlfn.TEXTJOIN(\";\",1,IF(Z583=\"\",A583+1,Z583),IF(AND(AA583<>\"\",AC583=\"\"),A583+1,AC583)),IF(U583=2,Y583,\"\"))","v":""},{"$f":"_xlfn.TEXTJOIN(\";\",1,X583,AA583)","v":""},"",null,null,"",{"$nulls":5},{"$f":"IF(AF583=\"\",\"\",CHOOSE(AF583,IF(AH583=\"\",A583+1,AH583),CONCATENATE(IF(AH583=\"\",A583+1,AH583),\";101\"),IF(AH583=\"\",O583+1,AH583)))","v":""},null,5696]
[null,"",null,"",{"$nulls":7},"",{"$nulls":11},"",null,null,"",{"$nulls":7},""]
[{"$f":"O585*100+P585","v":3001201},"",null,"",{"$nulls":6},{"$f":"IF(J585=\"\",\"\",VLOOKUP(J585,EventNPC!A:E,5,FALSE))","v":""},5697,"你偶然发现一股法力之泉，上前取得一滴甘露。",null,30012,{"$f":"IF(O585=O584,P584+1,1)","v":1},{"$f":"_xlfn.TEXTJOIN(\";\",1,R585:S585)","v":""},null,null,{"$f":"IF(R585=\"\",\"\",\"-\"&VLOOKUP(R585,EventConditionConfig!A:C,3,FALSE)&IF(S585=\"\",\"\",CHAR(10)&\"-\"&VLOOKUP(S585,EventConditionConfig!A:C,3,FALSE)))","v":""},{"$f":"IF(Y585=\"\",\"\",IF(ISTEXT(Y585),1,2))","v":""},{"$f":"IF(U585=1,_xlfn.TEXTJOIN(\";\",1,IF(Z585=\"\",A585+1,Z585),IF(AND(AA585<>\"\",AC585=\"\"),A585+1,AC585)),IF(U585=2,Y585,\"\"))","v":""},{"$f":"_xlfn.TEXTJOIN(\";\",1,X585,AA585)","v":""},"",null,null,"",{"$nulls":4},{"$f":"IF(ISNUMBER(Y585),2,IF(A782=\"\",IF(OR(AH585>0,VLOOKUP(O585,EventConfig!A:C,3,FALSE)=4),3,\"\"),1))","v":""},{"$f":"IF(AF585=\"\",\"\",CHOOSE(AF585,IF(AH585=\"\",A585+1,AH585),CONCATENATE(IF(AH585=\"\",A585+1,AH585),\";101\"),IF(AH585=\"\",O585+1,AH585)))","v":""},null,5697]

{"sheet":"EventConditionConfig","index":2,"n_rows":38,"n_cols":16,"rows_kept":38,"cut":false,"hidden":false,"merged":[]}
["ID","message",null,null,"Operation",null,"ConditionType","ConditionPara","finishCount","RelatedEvents",null,"SkiptoIds"]
["int","int",null,null,"int",null,"int","int[]","int","int[]",null,"int[]"]
[]
["ID","描述",null,null,"与0\n或1",null,"条件判断类型","条件判断值","条件完成次数or数量","关联的事件Id","提示","跳转Id"]
[1,9001,"拥有金币",{"$f":"CONCATENATE(\"- \",C5,\"{0}/{1}\")","v":"- 拥有金币{0}/{1}"},null,null,1,1001,10,null,null,"1;2;3;4"]
[2,9002,{"$f":"CONCATENATE(\"达到境界：\",M6,\"-\",N6)","v":"达到境界：练气-中期"},{"$f":"CONCATENATE(\"- \",C6,\"{0}/{1}\")","v":"- 达到境界：练气-中期{0}/{1}"},null,null,3,11,1,null,null,"1;2;3;4","练气","中期",11,{"$f":"CONCATENATE(M6,\"-\",N6)","v":"练气-中期"}]
[3,9003,"击杀魔休","- 击杀魔休{0}/{1}",null,null,5,1001,5,9031,null,"1;2;3;4"]
[4,9004,"获得钻石","- 获得钻石{0}/{1}",null,null,6,1002,10,null,null,"1;2;3;4"]
[5,9005,"使用神识","- 使用神识{0}/{1}",null,null,8,null,1,null,null,"1;2;3;4"]
[6,9006,"继续飞行一段时间","- 继续飞行一段时间{0}/{1}",null,null,9,null,6,null,null,"1;2;3;4"]
[7,9007,"击败结界兽","- 击败结界兽{0}/{1}",null,null,5,1002,1,null,null,"1;2;3;4"]
[8,9008,{"$f":"CONCATENATE(\"达到境界：\",M12,\"-\",N12)","v":"达到境界：练气-后期"},"- 达到境界：练气-后期{0}/{1}",null,null,3,21,1,null,null,"1;2;3;4","练气","后期",21,{"$f":"CONCATENATE(M12,\"-\",N12)","v":"练气-后期"}]
[9,9009,"击杀妖兽","- 击杀妖兽{0}/{1}",null,null,5,1003,1,30003,null,"1;2;3;4"]
[10,9010,"击败后山小妖","- 击败后山小妖{0}/{1}",null,null,5,1004,3,30004,null,"1;2;3;4"]
[11,9011,"收集灵草种子","- 收集灵草种子{0}/{1}",null,null,6,20003,3,30011,null,"1;2;3;4"]
[12,9012,"击败夜袭的妖兽","- 击败夜袭的妖兽{0}/{1}",null,null,5,1005,1,30005,null,"1;2;3;4"]
[13,9013,"击败峰顶的妖王","- 击败峰顶的妖王{0}/{1}",null,null,5,1006,1,30006,null,"1;2;3;4"]
[14,9014,{"$f":"CONCATENATE(\"达到境界：\",M18,\"-\",N18)","v":"达到境界：筑基-前期"},"- 达到境界：筑基-前期{0}/{1}",null,null,3,31,1,null,null,"1;2;3;4","筑基","前期",31,{"$f":"CONCATENATE(M18,\"-\",N18)","v":"筑基-前期"}]
[15,9015,"击败仙山的阵眼妖兽","- 击败仙山的阵眼妖兽{0}/{1}",null,null,5,1007,1,30007,null,"1;2;3;4"]
[17,9016,"击杀灵兽获得天肥",{"$f":"CONCATENATE(\"- \",C20,\"{0}/{1}\")","v":"- 击杀灵兽获得天肥{0}/{1}"},null,null,5,1008,1,30008,null,"1;2;3;4"]
[18,9017,"获得一件袈裟","- 获得一件袈裟{0}/{1}",null,null,6,1301,1,30009,null,"1;2;3;4"]
[19,9018,"夺回琉璃盏","- 夺回琉璃盏{0}/{1}",null,null,6,1001,1,30010,null,"1;2;3;4"]
[20,9019,"给予渡劫丹","- 给予渡劫丹{0}/{1}",null,null,1,1001,1,null,null,"1;2;3;4"]
[21,9020,{"$f":"CONCATENATE(\"达到境界：\",M24,\"-\",N24)","v":"达到境界：筑基-中期"},"- 达到境界：筑基-中期{0}/{1}",null,null,3,41,1,null,null,"1;2;3;4","筑基","中期",41,{"$f":"CONCATENATE(M24,\"-\",N24)","v":"筑基-中期"}]
[22,9021,{"$f":"CONCATENATE(\"达到境界：\",M25,\"-\",N25)","v":"达到境界：筑基-后期"},{"$f":"CONCATENATE(\"- \",C25,\"{0}/{1}\")","v":"- 达到境界：筑基-后期{0}/{1}"},null,null,3,51,1,null,null,"1;2;3;4","筑基","后期",51,{"$f":"CONCATENATE(M25,\"-\",N25)","v":"筑基-后期"}]
[23,9022,"达到境界：结丹-前期",{"$f":"CONCATENATE(\"- \",C26,\"{0}/{1}\")","v":"- 达到境界：结丹-前期{0}/{1}"},null,null,3,61,1,null,null,"1;2;3;4","结丹","前期",61,"结丹-前期"]
[24,9023,"达到境界：结丹-中期","- 达到境界：结丹-中期{0}/{1}",null,null,3,71,1,null,null,"1;2;3;4","结丹","中期",71,"结丹-中期"]
[25,9024,"达到境界：结丹-后期","- 达到境界：结丹-后期{0}/{1}",null,null,3,81,1,null,null,"1;2;3;4","结丹","后期",81,"结丹-后期"]
[26,9025,"达到境界：元婴-前期",{"$f":"CONCATENATE(\"- \",C29,\"{0}/{1}\")","v":"- 达到境界：元婴-前期{0}/{1}"},null,null,3,91,1,null,null,"1;2;3;4","元婴","前期",91,"元婴-前期"]
[27,9026,"收集并饮用甘露",{"$f":"CONCATENATE(\"- \",C30,\"{0}/{1}\")","v":"- 收集并饮用甘露{0}/{1}"},null,null,6,20004,3,null,null,"1;2;3;4"]
[28,9027,"击败心魔",{"$f":"CONCATENATE(\"- \",C31,\"{0}/{1}\")","v":"- 击败心魔{0}/{1}"},null,null,5,1013,1,null,null,"1;2;3;4"]
[29,9028,"击败北海妖兽",{"$f":"CONCATENATE(\"- \",C32,\"{0}/{1}\")","v":"- 击败北海妖兽{0}/{1}"},null,null,5,1014,5,null,null,"1;2;3;4"]
[30,9029,{"$f":"CONCATENATE(\"达到境界：\",M33,\"-\",N33)","v":"达到境界：元婴-中期"},"- 达到境界：元婴-中期{0}/{1}",null,null,3,101,1,null,null,"1;2;3;4","元婴","中期",101,{"$f":"CONCATENATE(M33,\"-\",N33)","v":"元婴-中期"}]
[31,9030,{"$f":"CONCATENATE(\"达到境界：\",M34,\"-\",N34)","v":"达到境界：元婴-后期"},"- 达到境界：元婴-后期{0}/{1}",null,null,3,111,1,null,null,"1;2;3;4","元婴","后期",111,{"$f":"CONCATENATE(M34,\"-\",N34)","v":"元婴-后期"}]
[32,9031,"达到境界：化神-前期","- 达到境界：化神-前期{0}/{1}",null,null,3,121,1,null,null,"1;2;3;4","化神","前期",121,"化神-前期"]
[33,9032,"达到境界：化神-中期",{"$f":"CONCATENATE(\"- \",C36,\"{0}/{1}\")","v":"- 达到境界：化神-中期{0}/{1}"},null,null,3,131,1,null,null,"1;2;3;4","化神","中期",131,"化神-中期"]
[34,9033,"达到境界：化神-后期","- 达到境界：化神-后期{0}/{1}",null,null,3,141,1,null,null,"1;2;3;4","化神","后期",141,"化神-后期"]
[35,9034,"达到境界：炼虚-前期","- 达到境界：炼虚-前期{0}/{1}",null,null,3,151,1,null,null,"1;2;3;4","炼虚","前期",151,"炼虚-前期"]

{"sheet":"条件类型查询","index":3,"n_rows":10,"n_cols":7,"rows_kept":10,"cut":false,"hidden":false,"merged":[]}
["ID","条件判断类型","条件判断值","条件完成次数or数量","额外文本","不可用","是否可用于事件"]
[1,"拥有特定道具","道具ID","数量≥","检测背包道具",null,1]
[2,"灵根判定","哪个灵根","灵根值≥",null,1]
[3,"境界判断","境界id",null,null,null,1]
[5,"战斗胜利","战斗组ID","胜利次数≥"]
[6,"获得道具","道具的ID","数量≥","探测出事件才开始检测"]
[7,"触发概率","概率值 1000=100%",null,null,null,1]
[8,"使用神识",null,"数量≥"]
[9,"游戏在线多少时长（秒）",null,"时间≥（秒）",null,null,1]
[10,"前置事件","事件ID",null,null,null,1]

{"sheet":"产出tag查询","index":4,"n_rows":23,"n_cols":2,"rows_kept":23,"cut":false,"hidden":false,"merged":[]}
["产出TAG","产出类型"]
[1,"金币"]
[2,"修为"]
[3,"功法灵气"]
[4,"法宝灵韵"]
[5,"功法碎片"]
[6,"法宝碎片"]
[7,"修为丹"]
[8,"天材地宝"]
[9,"渡劫丹"]
[10,"好感度礼物"]
[11,"心情礼物"]
[12]
[13]
[14]
[15]
[16]
[17]
[18]
[19]
[20]
[21]
[22]

{"sheet":"EventNPC","index":5,"n_rows":36,"n_cols":5,"rows_kept":36,"cut":false,"hidden":false,"merged":[]}
["ID","name","ID","DaoyouID"]
["int","int","int","int"]
[]
["ID","名字","半身像icon","道友ID","名称"]
[1,null,null,null,"玩家"]
[2,null,null,1,"道友1"]
[3,null,null,2,"道友2"]
[4,null,null,3,"道友3"]
[5,null,null,4,"道友4"]
[6,null,null,5,"道友5"]
[7,null,null,6,"道友6"]
[8,null,null,7,"道友7"]
[9,null,null,8,"道友8"]
[10,null,null,9,"道友9"]
[11,null,null,10,"道友10"]
[]
[100,3000,null,null,"玩家"]
[101,3001,null,null,"蜩鸟"]
[102,3002,null,null,"小麻雀"]
[103,3003,null,null,"疯道人"]
[104,3004,null,null,"痴道人"]
[105,3005,null,null,"尧帝"]
[106,3006,null,null,"许由"]
[107,3007,null,null,"村名甲"]
[108,3008,null,null,"村名乙"]
[109,3009,null,null,"村名丙"]
[110,3010,null,null,"樗木之灵"]
[111,null,null,null,"惠子"]
[112,3021,null,null,"风无咎"]
[113,3034,null,null,"北海剑妖"]
[114,3067,null,null,"拦路妖兽"]
[115,null,null,null,"小麻雀幻影"]
[116,null,null,null,"痴道人幻影"]
[117,null,null,null,"樗木之灵幻影"]
[118,null,null,null,"神人"]
[119,null,null,null,"鲲鹏"]

{"sheet":"XianTuLogConfig","index":6,"n_rows":8,"n_cols":7,"rows_kept":8,"cut":false,"hidden":false,"merged":[]}
["ID","EventType","Title","Desc","BigMapID"]
["int","int","int","int","int"]
[]
["ID","1主线\n2事件","名称","描述","属于哪个章节"]
[1,1,2087,2089,1,"第一章.逍遥游","多次渡劫失败的你，误入“无何有之乡”，在这里受到了列子的指引，踏上了寻找七道心境的修仙之路。"]
[2,2,2088,2090,1,"无用的大葫芦","惠子种出了巨大葫芦，他觉得毫无用处，非常生气！"]
[3,2,2088,2090,2,"无用的大葫芦","惠子种出了巨大葫芦，他觉得毫无用处，非常生气！"]
[4,2,2088,2090,3,"无用的大葫芦","惠子种出了巨大葫芦，他觉得毫无用处，非常生气！"]