{"text_format":"2","workbook":"xlsx","n_sheets":1,"sheets":["InitialPlayerConfig"],"not_rendered":{"charts":0,"images":0,"macros":0,"external_links":1,"defined_names":0,"comments":0,"pivot_tables":0},"unopened":[],"bounds":{"document_bytes":16777216,"sheet_cells":100000,"run_cost":"one","rows_first":2000,"rows_last":500,"rows_between":2000,"halvings":0,"cell_chars":16384,"cell_head_chars":4096},"cells_cut":0,"cells_raw":0,"read":"whole","date_system":"1900"}

{"sheet":"InitialPlayerConfig","index":0,"n_rows":55,"n_cols":8,"rows_kept":55,"cut":false,"hidden":false,"merged":[]}
["ID","itemId","itemAmount",null,null,"fabaoId","gongfaId","shenshiPoint"]
["int","int[]","int[]",null,null,"int[]","int[]","int"]
[]
["ID","道具id","道具数量",null,null,"法宝id","功法id","初始神识点数"]
[1,{"$f":"_xlfn.TEXTJOIN(\";\",1,B8:B55)","v":"1001;1005;1006;1201"},"30000;8000;6000;1",null,null,"10010","1105",400]
[]
[null,"道具ID","道具数量","内容",null,"法宝id","功法id"]
[null,1001,30000,{"$f":"IF(B8=\"\",\"\",CONCATENATE(VLOOKUP(B8,[1]ItemConfig!$A:$C,3,FALSE),\"×\",C8))","v":"灵石×30000"},null,10010,1105]
[null,1005,8000,{"$f":"IF(B9=\"\",\"\",CONCATENATE(VLOOKUP(B9,[1]ItemConfig!$A:$C,3,FALSE),\"×\",C9))","v":"灵气×8000"}]
[null,1006,6000,{"$f":"IF(B10=\"\",\"\",CONCATENATE(VLOOKUP(B10,[1]ItemConfig!$A:$C,3,FALSE),\"×\",C10))","v":"玄晶×6000"}]
[null,1201,1,{"$f":"IF(B11=\"\",\"\",CONCATENATE(VLOOKUP(B11,[1]ItemConfig!$A:$C,3,FALSE),\"×\",C11))","v":"渡劫丹×1"}]
[null,null,null,{"$f":"IF(B12=\"\",\"\",CONCATENATE(VLOOKUP(B12,[1]ItemConfig!$A:$C,3,FALSE),\"×\",C12))","v":""}]
[null,null,null,{"$f":"IF(B13=\"\",\"\",CONCATENATE(VLOOKUP(B13,[1]ItemConfig!$A:$C,3,FALSE),\"×\",C13))","v":""}]
[null,null,null,{"$f":"IF(B14=\"\",\"\",CONCATENATE(VLOOKUP(B14,[1]ItemConfig!$A:$C,3,FALSE),\"×\",C14))","v":""}]
[]
[null,null,null,{"$f":"IF(B16=\"\",\"\",CONCATENATE(VLOOKUP(B16,[1]ItemConfig!$A:$C,3,FALSE),\"×\",C16))","v":""}]
[null,null,null,{"$f":"IF(B17=\"\",\"\",CONCATENATE(VLOOKUP(B17,[1]ItemConfig!$A:$C,3,FALSE),\"×\",C17))","v":""}]
[null,null,null,{"$f":"IF(B18=\"\",\"\",CONCATENATE(VLOOKUP(B18,[1]ItemConfig!$A:$C,3,FALSE),\"×\",C18))","v":""}]
[null,null,null,{"$f":"IF(B19=\"\",\"\",CONCATENATE(VLOOKUP(B19,[1]ItemConfig!$A:$C,3,FALSE),\"×\",C19))","v":""}]
[null,null,null,{"$f":"IF(B20=\"\",\"\",CONCATENATE(VLOOKUP(B20,[1]ItemConfig!$A:$C,3,FALSE),\"×\",C20))","v":""}]
[null,null,null,{"$f":"IF(B21=\"\",\"\",CONCATENATE(VLOOKUP(B21,[1]ItemConfig!$A:$C,3,FALSE),\"×\",C21))","v":""}]
[null,null,null,{"$f":"IF(B22=\"\",\"\",CONCATENATE(VLOOKUP(B22,[1]ItemConfig!$A:$C,3,FALSE),\"×\",C22))","v":""}]
[null,null,null,{"$f":"IF(B23=\"\",\"\",CONCATENATE(VLOOKUP(B23,[1]ItemConfig!$A:$C,3,FALSE),\"×\",C23))","v":""}]
[null,null,null,{"$f":"IF(B24=\"\",\"\",CONCATENATE(VLOOKUP(B24,[1]ItemConfig!$A:$C,3,FALSE),\"×\",C24))","v":""}]
[null,null,null,{"$f":"IF(B25=\"\",\"\",CONCATENATE(VLOOKUP(B25,[1]ItemConfig!$A:$C,3,FALSE),\"×\",C25))","v":""}]
[null,null,null,{"$f":"IF(B26=\"\",\"\",CONCATENATE(VLOOKUP(B26,[1]ItemConfig!$A:$C,3,FALSE),\"×\",C26))","v":""}]
[null,null,null,{"$f":"IF(B27=\"\",\"\",CONCATENATE(VLOOKUP(B27,[1]ItemConfig!$A:$C,3,FALSE),\"×\",C27))","v":""}]
[null,null,null,{"$f":"IF(B28=\"\",\"\",CONCATENATE(VLOOKUP(B28,[1]ItemConfig!$A:$C,3,FALSE),\"×\",C28))","v":""}]
[null,null,null,{"$f":"IF(B29=\"\",\"\",CONCATENATE(VLOOKUP(B29,[1]ItemConfig!$A:$C,3,FALSE),\"×\",C29))","v":""}]
[null,null,null,{"$f":"IF(B30=\"\",\"\",CONCATENATE(VLOOKUP(B30,[1]ItemConfig!$A:$C,3,FALSE),\"×\",C30))","v":""}]
[null,null,null,{"$f":"IF(B31=\"\",\"\",CONCATENATE(VLOOKUP(B31,[1]ItemConfig!$A:$C,3,FALSE),\"×\",C31))","v":""}]
[null,null,null,{"$f":"IF(B32=\"\",\"\",CONCATENATE(VLOOKUP(B32,[1]ItemConfig!$A:$C,3,FALSE),\"×\",C32))","v":""}]
[null,null,null,{"$f":"IF(B33=\"\",\"\",CONCATENATE(VLOOKUP(B33,[1]ItemConfig!$A:$C,3,FALSE),\"×\",C33))","v":""}]
[null,null,null,{"$f":"IF(B34=\"\",\"\",CONCATENATE(VLOOKUP(B34,[1]ItemConfig!$A:$C,3,FALSE),\"×\",C34))","v":""}]
[null,null,null,{"$f":"IF(B35=\"\",\"\",CONCATENATE(VLOOKUP(B35,[1]ItemConfig!$A:$C,3,FALSE),\"×\",C35))","v":""}]
[null,null,null,{"$f":"IF(B36=\"\",\"\",CONCATENATE(VLOOKUP(B36,[1]ItemConfig!$A:$C,3,FALSE),\"×\",C36))","v":""}]
[null,null,null,{"$f":"IF(B37=\"\",\"\",CONCATENATE(VLOOKUP(B37,[1]ItemConfig!$A:$C,3,FALSE),\"×\",C37))","v":""}]
[null,null,null,{"$f":"IF(B38=\"\",\"\",CONCATENATE(VLOOKUP(B38,[1]ItemConfig!$A:$C,3,FALSE),\"×\",C38))","v":""}]
[null,null,null,{"$f":"IF(B39=\"\",\"\",CONCATENATE(VLOOKUP(B39,[1]ItemConfig!$A:$C,3,FALSE),\"×\",C39))","v":""}]
[null,null,null,{"$f":"IF(B40=\"\",\"\",CONCATENATE(VLOOKUP(B40,[1]ItemConfig!$A:$C,3,FALSE),\"×\",C40))","v":""}]
[null,null,null,{"$f":"IF(B41=\"\",\"\",CONCATENATE(VLOOKUP(B41,[1]ItemConfig!$A:$C,3,FALSE),\"×\",C41))","v":""}]
[null,null,null,{"$f":"IF(B42=\"\",\"\",CONCATENATE(VLOOKUP(B42,[1]ItemConfig!$A:$C,3,FALSE),\"×\",C42))","v":""}]
[null,null,null,{"$f":"IF(B43=\"\",\"\",CONCATENATE(VLOOKUP(B43,[1]ItemConfig!$A:$C,3,FALSE),\"×\",C43))","v":""}]
[null,null,null,{"$f":"IF(B44=\"\",\"\",CONCATENATE(VLOOKUP(B44,[1]ItemConfig!$A:$C,3,FALSE),\"×\",C44))","v":""}]
[null,null,null,{"$f":"IF(B45=\"\",\"\",CONCATENATE(VLOOKUP(B45,[1]ItemConfig!$A:$C,3,FALSE),\"×\",C45))","v":""}]
[null,null,null,{"$f":"IF(B46=\"\",\"\",CONCATENATE(VLOOKUP(B46,[1]ItemConfig!$A:$C,3,FALSE),\"×\",C46))","v":""}]
[null,null,null,{"$f":"IF(B47=\"\",\"\",CONCATENATE(VLOOKUP(B47,[1]ItemConfig!$A:$C,3,FALSE),\"×\",C47))","v":""}]
[null,null,null,{"$f":"IF(B48=\"\",\"\",CONCATENATE(VLOOKUP(B48,[1]ItemConfig!$A:$C,3,FALSE),\"×\",C48))","v":""}]
[null,null,null,{"$f":"IF(B49=\"\",\"\",CONCATENATE(VLOOKUP(B49,[1]ItemConfig!$A:$C,3,FALSE),\"×\",C49))","v":""}]
[null,null,null,{"$f":"IF(B50=\"\",\"\",CONCATENATE(VLOOKUP(B50,[1]ItemConfig!$A:$C,3,FALSE),\"×\",C50))","v":""}]
[null,null,null,{"$f":"IF(B51=\"\",\"\",CONCATENATE(VLOOKUP(B51,[1]ItemConfig!$A:$C,3,FALSE),\"×\",C51))","v":""}]
[null,null,null,{"$f":"IF(B52=\"\",\"\",CONCATENATE(VLOOKUP(B52,[1]ItemConfig!$A:$C,3,FALSE),\"×\",C52))","v":""}]
[null,null,null,{"$f":"IF(B53=\"\",\"\",CONCATENATE(VLOOKUP(B53,[1]ItemConfig!$A:$C,3,FALSE),\"×\",C53))","v":""}]
[null,null,null,{"$f":"IF(B54=\"\",\"\",CONCATENATE(VLOOKUP(B54,[1]ItemConfig!$A:$C,3,FALSE),\"×\",C54))","v":""}]
[null,null,null,{"$f":"IF(B55=\"\",\"\",CONCATENATE(VLOOKUP(B55,[1]ItemConfig!$A:$C,3,FALSE),\"×\",C55))","v":""}]