{"text_format":"2","workbook":"xlsx","n_sheets":7,"sheets":["语言配置表","LanguageChineseConfig_gn","LanguageEnglishConfig","LanguageDEConfig","LanguageFRConfig","LanguageRUConfig","LanguageTHConfig"],"not_rendered":{"charts":0,"images":0,"macros":0,"external_links":0,"defined_names":2,"comments":0,"pivot_tables":0},"unopened":[],"bounds":{"document_bytes":16777216,"sheet_cells":100000,"run_cost":"one","rows_first":2000,"rows_last":500,"rows_between":2000,"halvings":0,"cell_chars":16384,"cell_head_chars":4096},"cells_cut":0,"cells_raw":0,"read":"whole","date_system":"1900"}

{"sheet":"语言配置表","index":0,"n_rows":35,"n_cols":6,"rows_kept":35,"cut":false,"hidden":false,"merged":[]}
["ID"]
["int","string"]
[{"$f":"SUBTOTAL(3,A5:A87059)","v":31}]
["序列","中文","英文描述","DE","FR","RU"]
[1,"亚瑟·龙焰","Arthur Longyan"]
[2,"莱恩·天戟","Ryan Tianji"]
[3,"达米安·虎啸","Damian Huxiao"]
[4,"维克多·铁拳","Victor Tiequan"]
[5,"加雷斯·风暴","Gareth Fengbao"]
[6,"伊丽莎白·月影","Elizabeth Yueying"]
[7,"马修·星辰","Matthew Xingchen"]
[8,"卡特琳娜·霜语","Katrina Shuangyu"]
[9,"西蒙·玄光","Simon Xuanguang"]
[10,"艾琳娜·灵风","Elena Lingfeng"]
[11,"加百利·圣心","Gabriel Shengxin"]
[12,"索菲亚·慈恩","Sophia Cien"]
[13,"卢克·净魂","Luke Jinghun"]
[14,"安娜贝尔·光耀","Annabelle Guangyao"]
[15,"伊莎贝拉·恩典","Isabella Endian"]
[16,"莱恩·影踪","Liam Yingzong"]
[17,"艾米丽·翠羽","Emily Cuiyu"]
[18,"德里克·疾风","Derek Jifeng"]
[19,"维多利亚·夜刃","Victoria Yeren"]
[20,"诺亚·林踪","Noah Linzong"]
[21,"生命值"]
[22,"攻击力"]
[23,"防御力"]
[24,"攻击速度"]
[25,"暴击几率"]
[26,"暴击伤害"]
[27,"闪避几率"]
[28,"命中"]
[29,"吸血"]
[30]
[31]

{"sheet":"LanguageChineseConfig_gn","index":1,"n_rows":192,"n_cols":2,"rows_kept":192,"cut":false,"hidden":false,"merged":[]}
["ID","txt"]
["int","string"]
[]
["ID","中文描述"]
[{"$f":"IF(语言配置表!A5=\"\",\"\",语言配置表!A5)","v":1},{"$f":"IF(语言配置表!#REF!=\"\",语言配置表!#REF!&IF(语言配置表!B5=\"\",\"\",语言配置表!B5),语言配置表!#REF!&IF(语言配置表!#REF!=\"\",\"\",语言配置表!#REF!))","v":{"$error":"#REF!"}}]
[{"$f":"IF(语言配置表!A6=\"\",\"\",语言配置表!A6)","v":2},{"$f":"IF(语言配置表!#REF!=\"\",语言配置表!#REF!&IF(语言配置表!B6=\"\",\"\",语言配置表!B6),语言配置表!#REF!&IF(语言配置表!#REF!=\"\",\"\",语言配置表!#REF!))","v":{"$error":"#REF!"}}]
[{"$f":"IF(语言配置表!A7=\"\",\"\",语言配置表!A7)","v":3},{"$f":"IF(语言配置表!#REF!=\"\",语言配置表!#REF!&IF(语言配置表!B7=\"\",\"\",语言配置表!B7),语言配置表!#REF!&IF(语言配置表!#REF!=\"\",\"\",语言配置表!#REF!))","v":{"$error":"#REF!"}}]
[{"$f":"IF(语言配置表!A8=\"\",\"\",语言配置表!A8)","v":4},{"$f":"IF(语言配置表!#REF!=\"\",语言配置表!#REF!&IF(语言配置表!B8=\"\",\"\",语言配置表!B8),语言配置表!#REF!&IF(语言配置表!#REF!=\"\",\"\",语言配置表!#REF!))","v":{"$error":"#REF!"}}]
[{"$f":"IF(语言配置表!A9=\"\",\"\",语言配置表!A9)","v":5},{"$f":"IF(语言配置表!#REF!=\"\",语言配置表!#REF!&IF(语言配置表!B9=\"\",\"\",语言配置表!B9),语言配置表!#REF!&IF(语言配置表!#REF!=\"\",\"\",语言配置表!#REF!))","v":{"$error":"#REF!"}}]
[{"$f":"IF(语言配置表!A10=\"\",\"\",语言配置表!A10)","v":6},{"$f":"IF(语言配置表!#REF!=\"\",语言配置表!#REF!&IF(语言配置表!B10=\"\",\"\",语言配置表!B10),语言配置表!#REF!&IF(语言配置表!#REF!=\"\",\"\",语言配置表!#REF!))","v":{"$error":"#REF!"}}]
[{"$f":"IF(语言配置表!A11=\"\",\"\",语言配置表!A11)","v":7},{"$f":"IF(语言配置表!#REF!=\"\",语言配置表!#REF!&IF(语言配置表!B11=\"\",\"\",语言配置表!B11),语言配置表!#REF!&IF(语言配置表!#REF!=\"\",\"\",语言配置表!#REF!))","v":{"$error":"#REF!"}}]
[{"$f":"IF(语言配置表!A12=\"\",\"\",语言配置表!A12)","v":8},{"$f":"IF(语言配置表!#REF!=\"\",语言配置表!#REF!&IF(语言配置表!B12=\"\",\"\",语言配置表!B12),语言配置表!#REF!&IF(语言配置表!#REF!=\"\",\"\",语言配置表!#REF!))","v":{"$error":"#REF!"}}]
[{"$f":"IF(语言配置表!A13=\"\",\"\",语言配置表!A13)","v":9},{"$f":"IF(语言配置表!#REF!=\"\",语言配置表!#REF!&IF(语言配置表!B13=\"\",\"\",语言配置表!B13),语言配置表!#REF!&IF(语言配置表!#REF!=\"\",\"\",语言配置表!#REF!))","v":{"$error":"#REF!"}}]
[{"$f":"IF(语言配置表!A14=\"\",\"\",语言配置表!A14)","v":10},{"$f":"IF(语言配置表!#REF!=\"\",语言配置表!#REF!&IF(语言配置表!B14=\"\",\"\",语言配置表!B14),语言配置表!#REF!&IF(语言配置表!#REF!=\"\",\"\",语言配置表!#REF!))","v":{"$error":"#REF!"}}]
[{"$f":"IF(语言配置表!A15=\"\",\"\",语言配置表!A15)","v":11},{"$f":"IF(语言配置表!#REF!=\"\",语言配置表!#REF!&IF(语言配置表!B15=\"\",\"\",语言配置表!B15),语言配置表!#REF!&IF(语言配置表!#REF!=\"\",\"\",语言配置表!#REF!))","v":{"$error":"#REF!"}}]
[{"$f":"IF(语言配置表!A16=\"\",\"\",语言配置表!A16)","v":12},{"$f":"IF(语言配置表!#REF!=\"\",语言配置表!#REF!&IF(语言配置表!B16=\"\",\"\",语言配置表!B16),语言配置表!#REF!&IF(语言配置表!#REF!=\"\",\"\",语言配置表!#REF!))","v":{"$error":"#REF!"}}]
[{"$f":"IF(语言配置表!A17=\"\",\"\",语言配置表!A17)","v":13},{"$f":"IF(语言配置表!#REF!=\"\",语言配置表!#REF!&IF(语言配置表!B17=\"\",\"\",语言配置表!B17),语言配置表!#REF!&IF(语言配置表!#REF!=\"\",\"\",语言配置表!#REF!))","v":{"$error":"#REF!"}}]
[{"$f":"IF(语言配置表!A18=\"\",\"\",语言配置表!A18)","v":14},{"$f":"IF(语言配置表!#REF!=\"\",语言配置表!#REF!&IF(语言配置表!B18=\"\",\"\",语言配置表!B18),语言配置表!#REF!&IF(语言配置表!#REF!=\"\",\"\",语言配置表!#REF!))","v":{"$error":"#REF!"}}]
[{"$f":"IF(语言配置表!A19=\"\",\"\",语言配置表!A19)","v":15},{"$f":"IF(语言配置表!#REF!=\"\",语言配置表!#REF!&IF(语言配置表!B19=\"\",\"\",语言配置表!B19),语言配置表!#REF!&IF(语言配置表!#REF!=\"\",\"\",语言配置表!#REF!))","v":{"$error":"#REF!"}}]
[{"$f":"IF(语言配置表!A20=\"\",\"\",语言配置表!A20)","v":16},{"$f":"IF(语言配置表!#REF!=\"\",语言配置表!#REF!&IF(语言配置表!B20=\"\",\"\",语言配置表!B20),语言配置表!#REF!&IF(语言配置表!#REF!=\"\",\"\",语言配置表!#REF!))","v":{"$error":"#REF!"}}]
[{"$f":"IF(语言配置表!A21=\"\",\"\",语言配置表!A21)","v":17},{"$f":"IF(语言配置表!#REF!=\"\",语言配置表!#REF!&IF(语言配置表!B21=\"\",\"\",语言配置表!B21),语言配置表!#REF!&IF(语言配置表!#REF!=\"\",\"\",语言配置表!#REF!))","v":{"$error":"#REF!"}}]
[{"$f":"IF(语言配置表!A22=\"\",\"\",语言配置表!A22)","v":18},{"$f":"IF(语言配置表!#REF!=\"\",语言配置表!#REF!&IF(语言配置表!B22=\"\",\"\",语言配置表!B22),语言配置表!#REF!&IF(语言配置表!#REF!=\"\",\"\",语言配置表!#REF!))","v":{"$error":"#REF!"}}]
[{"$f":"IF(语言配置表!A23=\"\",\"\",语言配置表!A23)","v":19},{"$f":"IF(语言配置表!#REF!=\"\",语言配置表!#REF!&IF(语言配置表!B23=\"\",\"\",语言配置表!B23),语言配置表!#REF!&IF(语言配置表!#REF!=\"\",\"\",语言配置表!#REF!))","v":{"$error":"#REF!"}}]
[{"$f":"IF(语言配置表!A24=\"\",\"\",语言配置表!A24)","v":20},{"$f":"IF(语言配置表!#REF!=\"\",语言配置表!#REF!&IF(语言配置表!B24=\"\",\"\",语言配置表!B24),语言配置表!#REF!&IF(语言配置表!#REF!=\"\",\"\",语言配置表!#REF!))","v":{"$error":"#REF!"}}]
[{"$f":"IF(语言配置表!A25=\"\",\"\",语言配置表!A25)","v":21},{"$f":"IF(语言配置表!#REF!=\"\",语言配置表!#REF!&IF(语言配置表!B25=\"\",\"\",语言配置表!B25),语言配置表!#REF!&IF(语言配置表!#REF!=\"\",\"\",语言配置表!#REF!))","v":{"$error":"#REF!"}}]
[{"$f":"IF(语言配置表!A26=\"\",\"\",语言配置表!A26)","v":22},{"$f":"IF(语言配置表!#REF!=\"\",语言配置表!#REF!&IF(语言配置表!B26=\"\",\"\",语言配置表!B26),语言配置表!#REF!&IF(语言配置表!#REF!=\"\",\"\",语言配置表!#REF!))","v":{"$error":"#REF!"}}]
[{"$f":"IF(语言配置表!#REF!=\"\",\"\",语言配置表!#REF!)","v":{"$error":"#REF!"}},{"$f":"IF(语言配置表!#REF!=\"\",语言配置表!#REF!&IF(语言配置表!#REF!=\"\",\"\",语言配置表!#REF!),语言配置表!#REF!&IF(语言配置表!#REF!=\"\",\"\",语言配置表!#REF!))","v":{"$error":"#REF!"}}]
[{"$f":"IF(语言配置表!#REF!=\"\",\"\",语言配置表!#REF!)","v":{"$error":"#REF!"}},{"$f":"IF(语言配置表!#REF!=\"\",语言配置表!#REF!&IF(语言配置表!#REF!=\"\",\"\",语言配置表!#REF!),语言配置表!#REF!&IF(语言配置表!#REF!=\"\",\"\",语言配置表!#REF!))","v":{"$error":"#REF!"}}]
[{"$f":"IF(语言配置表!A27=\"\",\"\",语言配置表!A27)","v":23},{"$f":"IF(语言配置表!#REF!=\"\",语言配置表!#REF!&IF(语言配置表!B27=\"\",\"\",语言配置表!B27),语言配置表!#REF!&IF(语言配置表!#REF!=\"\",\"\",语言配置表!#REF!))","v":{"$error":"#REF!"}}]
[{"$f":"IF(语言配置表!A28=\"\",\"\",语言配置表!A28)","v":24},{"$f":"IF(语言配置表!#REF!=\"\",语言配置表!#REF!&IF(语言配置表!B28=\"\",\"\",语言配置表!B28),语言配置表!#REF!&IF(语言配置表!#REF!=\"\",\"\",语言配置表!#REF!))","v":{"$error":"#REF!"}}]
[{"$f":"IF(语言配置表!A29=\"\",\"\",语言配置表!A29)","v":25},{"$f":"IF(语言配置表!#REF!=\"\",语言配置表!#REF!&IF(语言配置表!B29=\"\",\"\",语言配置表!B29),语言配置表!#REF!&IF(语言配置表!#REF!=\"\",\"\",语言配置表!#REF!))","v":{"$error":"#REF!"}}]
[{"$f":"IF(语言配置表!A30=\"\",\"\",语言配置表!A30)","v":26},{"$f":"IF(语言配置表!#REF!=\"\",语言配置表!#REF!&IF(语言配置表!B30=\"\",\"\",语言配置表!B30),语言配置表!#REF!&IF(语言配置表!#REF!=\"\",\"\",语言配置表!#REF!))","v":{"$error":"#REF!"}}]
[{"$f":"IF(语言配置表!#REF!=\"\",\"\",语言配置表!#REF!)","v":{"$error":"#REF!"}},{"$f":"IF(语言配置表!#REF!=\"\",语言配置表!#REF!&IF(语言配置表!#REF!=\"\",\"\",语言配置表!#REF!),语言配置表!#REF!&IF(语言配置表!#REF!=\"\",\"\",语言配置表!#REF!))","v":{"$error":"#REF!"}}]
[{"$f":"IF(语言配置表!#REF!=\"\",\"\",语言配置表!#REF!)","v":{"$error":"#REF!"}},{"$f":"IF(语言配置表!#REF!=\"\",语言配置表!#REF!&IF(语言配置表!B33=\"\",\"\",语言配置表!B33),语言配置表!#REF!&IF(语言配置表!#REF!=\"\",\"\",语言配置表!#REF!))","v":{"$error":"#REF!"}}]
[{"$f":"IF(语言配置表!A31=\"\",\"\",语言配置表!A31)","v":27},{"$f":"IF(语言配置表!#REF!=\"\",语言配置表!#REF!&IF(语言配置表!B31=\"\",\"\",语言配置表!B31),语言配置表!#REF!&IF(语言配置表!#REF!=\"\",\"\",语言配置表!#REF!))","v":{"$error":"#REF!"}}]
[{"$f":"IF(语言配置表!A32=\"\",\"\",语言配置表!A32)","v":28},{"$f":"IF(语言配置表!#REF!=\"\",语言配置表!#REF!&IF(语言配置表!B32=\"\",\"\",语言配置表!B32),语言配置表!#REF!&IF(语言配置表!#REF!=\"\",\"\",语言配置表!#REF!))","v":{"$error":"#REF!"}}]
[{"$f":"IF(语言配置表!#REF!=\"\",\"\",语言配置表!#REF!)","v":{"$error":"#REF!"}},{"$f":"IF(语言配置表!#REF!=\"\",语言配置表!#REF!&IF(语言配置表!#REF!=\"\",\"\",语言配置表!#REF!),语言配置表!#REF!&IF(语言配置表!#REF!=\"\",\"\",语言配置表!#REF!))","v":{"$error":"#REF!"}}]
[{"$f":"IF(语言配置表!#REF!=\"\",\"\",语言配置表!#REF!)","v":{"$error":"#REF!"}},{"$f":"IF(语言配置表!#REF!=\"\",语言配置表!#REF!&IF(语言配置表!#REF!=\"\",\"\",语言配置表!#REF!),语言配置表!#REF!&IF(语言配置表!#REF!=\"\",\"\",语言配置表!#REF!))","v":{"$error":"#REF!"}}]
[{"$f":"IF(语言配置表!#REF!=\"\",\"\",语言配置表!#REF!)","v":{"$error":"#REF!"}},{"$f":"IF(语言配置表!#REF!=\"\",语言配置表!#REF!&IF(语言配置表!#REF!=\"\",\"\",语言配置表!#REF!),语言配置表!#REF!&IF(语言配置表!#REF!=\"\",\"\",语言配置表!#REF!))","v":{"$error":"#REF!"}}]
[{"$f":"IF(语言配置表!A33=\"\",\"\",语言配置表!A33)","v":29},{"$f":"IF(语言配置表!#REF!=\"\",语言配置表!#REF!&IF(语言配置表!#REF!=\"\",\"\",语言配置表!#REF!),语言配置表!#REF!&IF(语言配置表!#REF!=\"\",\"\",语言配置表!#REF!))","v":{"$error":"#REF!"}}]
[{"$f":"IF(语言配置表!A34=\"\",\"\",语言配置表!A34)","v":30},{"$f":"IF(语言配置表!#REF!=\"\",语言配置表!#REF!&IF(语言配置表!B34=\"\",\"\",语言配置表!B34),语言配置表!#REF!&IF(语言配置表!#REF!=\"\",\"\",语言配置表!#REF!))","v":{"$error":"#REF!"}}]
[{"$f":"IF(语言配置表!A35=\"\",\"\",语言配置表!A35)","v":31},{"$f":"IF(语言配置表!#REF!=\"\",语言配置表!#REF!&IF(语言配置表!B35=\"\",\"\",语言配置表!B35),语言配置表!#REF!&IF(语言配置表!#REF!=\"\",\"\",语言配置表!#REF!))","v":{"$error":"#REF!"}}]
[{"$f":"IF(语言配置表!A36=\"\",\"\",语言配置表!A36)","v":""},{"$f":"IF(语言配置表!#REF!=\"\",语言配置表!#REF!&IF(语言配置表!B36=\"\",\"\",语言配置表!B36),语言配置表!#REF!&IF(语言配置表!#REF!=\"\",\"\",语言配置表!#REF!))","v":{"$error":"#REF!"}}]
[{"$f":"IF(语言配置表!A37=\"\",\"\",语言配置表!A37)","v":""},{"$f":"IF(语言配置表!#REF!=\"\",语言配置表!#REF!&IF(语言配置表!B37=\"\",\"\",语言配置表!B37),语言配置表!#REF!&IF(语言配置表!#REF!=\"\",\"\",语言配置表!#REF!))","v":{"$error":"#REF!"}}]
[{"$f":"IF(语言配置表!A38=\"\",\"\",语言配置表!A38)","v":""},{"$f":"IF(语言配置表!#REF!=\"\",语言配置表!#REF!&IF(语言配置表!B38=\"\",\"\",语言配置表!B38),语言配置表!#REF!&IF(语言配置表!#REF!=\"\",\"\",语言配置表!#REF!))","v":{"$error":"#REF!"}}]
[{"$f":"IF(语言配置表!A39=\"\",\"\",语言配置表!A39)","v":""},{"$f":"IF(语言配置表!#REF!=\"\",语言配置表!#REF!&IF(语言配置表!B39=\"\",\"\",语言配置表!B39),语言配置表!#REF!&IF(语言配置表!#REF!=\"\",\"\",语言配置表!#REF!))","v":{"$error":"#REF!"}}]
[{"$f":"IF(语言配置表!A40=\"\",\"\",语言配置表!A40)","v":""},{"$f":"IF(语言配置表!#REF!=\"\",语言配置表!#REF!&IF(语言配置表!B40=\"\",\"\",语言配置表!B40),语言配置表!#REF!&IF(语言配置表!#REF!=\"\",\"\",语言配置表!#REF!))","v":{"$error":"#REF!"}}]
[{"$f":"IF(语言配置表!A41=\"\",\"\",语言配置表!A41)","v":""},{"$f":"IF(语言配置表!#REF!=\"\",语言配置表!#REF!&IF(语言配置表!B41=\"\",\"\",语言配置表!B41),语言配置表!#REF!&IF(语言配置表!#REF!=\"\",\"\",语言配置表!#REF!))","v":{"$error":"#REF!"}}]
[{"$f":"IF(语言配置表!A42=\"\",\"\",语言配置表!A42)","v":""},{"$f":"IF(语言配置表!#REF!=\"\",语言配置表!#REF!&IF(语言配置表!B42=\"\",\"\",语言配置表!B42),语言配置表!#REF!&IF(语言配置表!#REF!=\"\",\"\",语言配置表!#REF!))","v":{"$error":"#REF!"}}]
[{"$f":"IF(语言配置表!A43=\"\",\"\",语言配置表!A43)","v":""},{"$f":"IF(语言配置表!#REF!=\"\",语言配置表!#REF!&IF(语言配置表!B43=\"\",\"\",语言配置表!B43),语言配置表!#REF!&IF(语言配置表!#REF!=\"\",\"\",语言配置表!#REF!))","v":{"$error":"#REF!"}}]
[{"$f":"IF(语言配置表!A44=\"\",\"\",语言配置表!A44)","v":""},{"$f":"IF(语言配置表!#REF!=\"\",语言配置表!#REF!&IF(语言配置表!B44=\"\",\"\",语言配置表!B44),语言配置表!#REF!&IF(语言配置表!#REF!=\"\",\"\",语言配置表!#REF!))","v":{"$error":"#REF!"}}]
[{"$f":"IF(语言配置表!A45=\"\",\"\",语言配置表!A45)","v":""},{"$f":"IF(语言配置表!#REF!=\"\",语言配置表!#REF!&IF(语言配置表!B45=\"\",\"\",语言配置表!B45),语言配置表!#REF!&IF(语言配置表!#REF!=\"\",\"\",语言配置表!#REF!))","v":{"$error":"#REF!"}}]
[{"$f":"IF(语言配置表!A46=\"\",\"\",语言配置表!A46)","v":""},{"$f":"IF(语言配置表!#REF!=\"\",语言配置表!#REF!&IF(语言配置表!B46=\"\",\"\",语言配置表!B46),语言配置表!#REF!&IF(语言配置表!#REF!=\"\",\"\",语言配置表!#REF!))","v":{"$error":"#REF!"}}]
[{"$f":"IF(语言配置表!A47=\"\",\"\",语言配置表!A47)","v":""},{"$f":"IF(语言配置表!#REF!=\"\",语言配置表!#REF!&IF(语言配置表!B47=\"\",\"\",语言配置表!B47),语言配置表!#REF!&IF(语言配置表!#REF!=\"\",\"\",语言配置表!#REF!))","v":{"$error":"#REF!"}}]
[{"$f":"IF(语言配置表!A48=\"\",\"\",语言配置表!A48)","v":""},{"$f":"IF(语言配置表!#REF!=\"\",语言配置表!#REF!&IF(语言配置表!B48=\"\",\"\",语言配置表!B48),语言配置表!#REF!&IF(语言配置表!#REF!=\"\",\"\",语言配置表!#REF!))","v":{"$error":"#REF!"}}]
[{"$f":"IF(语言配置表!A49=\"\",\"\",语言配置表!A49)","v":""},{"$f":"IF(语言配置表!#REF!=\"\",语言配置表!#REF!&IF(语言配置表!B49=\"\",\"\",语言配置表!B49),语言配置表!#REF!&IF(语言配置表!#REF!=\"\",\"\",语言配置表!#REF!))","v":{"$error":"#REF!"}}]
[{"$f":"IF(语言配置表!A50=\"\",\"\",语言配置表!A50)","v":""},{"$f":"IF(语言配置表!#REF!=\"\",语言配置表!#REF!&IF(语言配置表!B50=\"\",\"\",语言配置表!B50),语言配置表!#REF!&IF(语言配置表!#REF!=\"\",\"\",语言配置表!#REF!))","v":{"$error":"#REF!"}}]
[{"$f":"IF(语言配置表!A51=\"\",\"\",语言配置表!A51)","v":""},{"$f":"IF(语言配置表!#REF!=\"\",语言配置表!#REF!&IF(语言配置表!B51=\"\",\"\",语言配置表!B51),语言配置表!#REF!&IF(语言配置表!#REF!=\"\",\"\",语言配置表!#REF!))","v":{"$error":"#REF!"}}]
[{"$f":"IF(语言配置表!A52=\"\",\"\",语言配置表!A52)","v":""},{"$f":"IF(语言配置表!#REF!=\"\",语言配置表!#REF!&IF(语言配置表!B52=\"\",\"\",语言配置表!B52),语言配置表!#REF!&IF(语言配置表!#REF!=\"\",\"\",语言配置表!#REF!))","v":{"$error":"#REF!"}}]
[{"$f":"IF(语言配置表!A53=\"\",\"\",语言配置表!A53)","v":""},{"$f":"IF(语言配置表!#REF!=\"\",语言配置表!#REF!&IF(语言配置表!B53=\"\",\"\",语言配置表!B53),语言配置表!#REF!&IF(语言配置表!#REF!=\"\",\"\",语言配置表!#REF!))","v":{"$error":"#REF!"}}]
[{"$f":"IF(语言配置表!A54=\"\",\"\",语言配置表!A54)","v":""},{"$f":"IF(语言配置表!#REF!=\"\",语言配置表!#REF!&IF(语言配置表!B54=\"\",\"\",语言配置表!B54),语言配置表!#REF!&IF(语言配置表!#REF!=\"\",\"\",语言配置表!#REF!))","v":{"$error":"#REF!"}}]
[{"$f":"IF(语言配置表!A55=\"\",\"\",语言配置表!A55)","v":""},{"$f":"IF(语言配置表!#REF!=\"\",语言配置表!#REF!&IF(语言配置表!B55=\"\",\"\",语言配置表!B55),语言配置表!#REF!&IF(语言配置表!#REF!=\"\",\"\",语言配置表!#REF!))","v":{"$error":"#REF!"}}]
[{"$f":"IF(语言配置表!A56=\"\",\"\",语言配置表!A56)","v":""},{"$f":"IF(语言配置表!#REF!=\"\",语言配置表!#REF!&IF(语言配置表!B56=\"\",\"\",语言配置表!B56),语言配置表!#REF!&IF(语言配置表!#REF!=\"\",\"\",语言配置表!#REF!))","v":{"$error":"#REF!"}}]
[{"$f":"IF(语言配置表!A57=\"\",\"\",语言配置表!A57)","v":""},{"$f":"IF(语言配置表!#REF!=\"\",语言配置表!#REF!&IF(语言配置表!B57=\"\",\"\",语言配置表!B57),语言配置表!#REF!&IF(语言配置表!#REF!=\"\",\"\",语言配置表!#REF!))","v":{"$error":"#REF!"}}]
[{"$f":"IF(语言配置表!A58=\"\",\"\",语言配置表!A58)","v":""},{"$f":"IF(语言配置表!#REF!=\"\",语言配置表!#REF!&IF(语言配置表!B58=\"\",\"\",语言配置表!B58),语言配置表!#REF!&IF(语言配置表!#REF!=\"\",\"\",语言配置表!#REF!))","v":{"$error":"#REF!"}}]
[{"$f":"IF(语言配置表!A59=\"\",\"\",语言配置表!A59)","v":""},{"$f":"IF(语言配置表!#REF!=\"\",语言配置表!#REF!&IF(语言配置表!B59=\"\",\"\",语言配置表!B59),语言配置表!#REF!&IF(语言配置表!#REF!=\"\",\"\",语言配置表!#REF!))","v":{"$error":"#REF!"}}]
[{"$f":"IF(语言配置表!A60=\"\",\"\",语言配置表!A60)","v":""},{"$f":"IF(语言配置表!#REF!=\"\",语言配置表!#REF!&IF(语言配置表!B60=\"\",\"\",语言配置表!B60),语言配置表!#REF!&IF(语言配置表!#REF!=\"\",\"\",语言配置表!#REF!))","v":{"$error":"#REF!"}}]
[{"$f":"IF(语言配置表!A61=\"\",\"\",语言配置表!A61)","v":""},{"$f":"IF(语言配置表!#REF!=\"\",语言配置表!#REF!&IF(语言配置表!B61=\"\",\"\",语言配置表!B61),语言配置表!#REF!&IF(语言配置表!#REF!=\"\",\"\",语言配置表!#REF!))","v":{"$error":"#REF!"}}]
[{"$f":"IF(语言配置表!A62=\"\",\"\",语言配置表!A62)","v":""},{"$f":"IF(语言配置表!#REF!=\"\",语言配置表!#REF!&IF(语言配置表!B62=\"\",\"\",语言配置表!B62),语言配置表!#REF!&IF(语言配置表!#REF!=\"\",\"\",语言配置表!#REF!))","v":{"$error":"#REF!"}}]
[{"$f":"IF(语言配置表!A63=\"\",\"\",语言配置表!A63)","v":""},{"$f":"IF(语言配置表!#REF!=\"\",语言配置表!#REF!&IF(语言配置表!B63=\"\",\"\",语言配置表!B63),语言配置表!#REF!&IF(语言配置表!#REF!=\"\",\"\",语言配置表!#REF!))","v":{"$error":"#REF!"}}]
[{"$f":"IF(语言配置表!A64=\"\",\"\",语言配置表!A64)","v":""},{"$f":"IF(语言配置表!#REF!=\"\",语言配置表!#REF!&IF(语言配置表!B64=\"\",\"\",语言配置表!B64),语言配置表!#REF!&IF(语言配置表!#REF!=\"\",\"\",语言配置表!#REF!))","v":{"$error":"#REF!"}}]
[{"$f":"IF(语言配置表!A65=\"\",\"\",语言配置表!A65)","v":""},{"$f":"IF(语言配置表!#REF!=\"\",语言配置表!#REF!&IF(语言配置表!B65=\"\",\"\",语言配置表!B65),语言配置表!#REF!&IF(语言配置表!#REF!=\"\",\"\",语言配置表!#REF!))","v":{"$error":"#REF!"}}]
[{"$f":"IF(语言配置表!A66=\"\",\"\",语言配置表!A66)","v":""},{"$f":"IF(语言配置表!#REF!=\"\",语言配置表!#REF!&IF(语言配置表!B66=\"\",\"\",语言配置表!B66),语言配置表!#REF!&IF(语言配置表!#REF!=\"\",\"\",语言配置表!#REF!))","v":{"$error":"#REF!"}}]
[{"$f":"IF(语言配置表!A67=\"\",\"\",语言配置表!A67)","v":""},{"$f":"IF(语言配置表!#REF!=\"\",语言配置表!#REF!&IF(语言配置表!B67=\"\",\"\",语言配置表!B67),语言配置表!#REF!&IF(语言配置表!#REF!=\"\",\"\",语言配置表!#REF!))","v":{"$error":"#REF!"}}]
[{"$f":"IF(语言配置表!A68=\"\",\"\",语言配置表!A68)","v":""},{"$f":"IF(语言配置表!#REF!=\"\",语言配置表!#REF!&IF(语言配置表!B68=\"\",\"\",语言配置表!B68),语言配置表!#REF!&IF(语言配置表!#REF!=\"\",\"\",语言配置表!#REF!))","v":{"$error":"#REF!"}}]
[{"$f":"IF(语言配置表!A69=\"\",\"\",语言配置表!A69)","v":""},{"$f":"IF(语言配置表!#REF!=\"\",语言配置表!#REF!&IF(语言配置表!B69=\"\",\"\",语言配置表!B69),语言配置表!#REF!&IF(语言配置表!#REF!=\"\",\"\",语言配置表!#REF!))","v":{"$error":"#REF!"}}]
[{"$f":"IF(语言配置表!A70=\"\",\"\",语言配置表!A70)","v":""},{"$f":"IF(语言配置表!#REF!=\"\",语言配置表!#REF!&IF(语言配置表!B70=\"\",\"\",语言配置表!B70),语言配置表!#REF!&IF(语言配置表!#REF!=\"\",\"\",语言配置表!#REF!))","v":{"$error":"#REF!"}}]
[{"$f":"IF(语言配置表!A71=\"\",\"\",语言配置表!A71)","v":""},{"$f":"IF(语言配置表!#REF!=\"\",语言配置表!#REF!&IF(语言配置表!B71=\"\",\"\",语言配置表!B71),语言配置表!#REF!&IF(语言配置表!#REF!=\"\",\"\",语言配置表!#REF!))","v":{"$error":"#REF!"}}]
[{"$f":"IF(语言配置表!A72=\"\",\"\",语言配置表!A72)","v":""},{"$f":"IF(语言配置表!#REF!=\"\",语言配置表!#REF!&IF(语言配置表!B72=\"\",\"\",语言配置表!B72),语言配置表!#REF!&IF(语言配置表!#REF!=\"\",\"\",语言配置表!#REF!))","v":{"$error":"#REF!"}}]
[{"$f":"IF(语言配置表!A73=\"\",\"\",语言配置表!A73)","v":""},{"$f":"IF(语言配置表!#REF!=\"\",语言配置表!#REF!&IF(语言配置表!B73=\"\",\"\",语言配置表!B73),语言配置表!#REF!&IF(语言配置表!#REF!=\"\",\"\",语言配置表!#REF!))","v":{"$error":"#REF!"}}]
[{"$f":"IF(语言配置表!A74=\"\",\"\",语言配置表!A74)","v":""},{"$f":"IF(语言配置表!#REF!=\"\",语言配置表!#REF!&IF(语言配置表!B74=\"\",\"\",语言配置表!B74),语言配置表!#REF!&IF(语言配置表!#REF!=\"\",\"\",语言配置表!#REF!))","v":{"$error":"#REF!"}}]
[{"$f":"IF(语言配置表!A75=\"\",\"\",语言配置表!A75)","v":""},{"$f":"IF(语言配置表!#REF!=\"\",语言配置表!#REF!&IF(语言配置表!B75=\"\",\"\",语言配置表!B75),语言配置表!#REF!&IF(语言配置表!#REF!=\"\",\"\",语言配置表!#REF!))","v":{"$error":"#REF!"}}]
[{"$f":"IF(语言配置表!A76=\"\",\"\",语言配置表!A76)","v":""},{"$f":"IF(语言配置表!#REF!=\"\",语言配置表!#REF!&IF(语言配置表!B76=\"\",\"\",语言配置表!B76),语言配置表!#REF!&IF(语言配置表!#REF!=\"\",\"\",语言配置表!#REF!))","v":{"$error":"#REF!"}}]
[{"$f":"IF(语言配置表!A77=\"\",\"\",语言配置表!A77)","v":""},{"$f":"IF(语言配置表!#REF!=\"\",语言配置表!#REF!&IF(语言配置表!B77=\"\",\"\",语言配置表!B77),语言配置表!#REF!&IF(语言配置表!#REF!=\"\",\"\",语言配置表!#REF!))","v":{"$error":"#REF!"}}]
[{"$f":"IF(语言配置表!A78=\"\",\"\",语言配置表!A78)","v":""},{"$f":"IF(语言配置表!#REF!=\"\",语言配置表!#REF!&IF(语言配置表!B78=\"\",\"\",语言配置表!B78),语言配置表!#REF!&IF(语言配置表!#REF!=\"\",\"\",语言配置表!#REF!))","v":{"$error":"#REF!"}}]
[{"$f":"IF(语言配置表!A79=\"\",\"\",语言配置表!A79)","v":""},{"$f":"IF(语言配置表!#REF!=\"\",语言配置表!#REF!&IF(语言配置表!B79=\"\",\"\",语言配置表!B79),语言配置表!#REF!&IF(语言配置表!#REF!=\"\",\"\",语言配置表!#REF!))","v":{"$error":"#REF!"}}]
[{"$f":"IF(语言配置表!A80=\"\",\"\",语言配置表!A80)","v":""},{"$f":"IF(语言配置表!#REF!=\"\",语言配置表!#REF!&IF(语言配置表!B80=\"\",\"\",语言配置表!B80),语言配置表!#REF!&IF(语言配置表!#REF!=\"\",\"\",语言配置表!#REF!))","v":{"$error":"#REF!"}}]
[{"$f":"IF(语言配置表!A81=\"\",\"\",语言配置表!A81)","v":""},{"$f":"IF(语言配置表!#REF!=\"\",语言配置表!#REF!&IF(语言配置表!B81=\"\",\"\",语言配置表!B81),语言配置表!#REF!&IF(语言配置表!#REF!=\"\",\"\",语言配置表!#REF!))","v":{"$error":"#REF!"}}]
[{"$f":"IF(语言配置表!A82=\"\",\"\",语言配置表!A82)","v":""},{"$f":"IF(语言配置表!#REF!=\"\",语言配置表!#REF!&IF(语言配置表!B82=\"\",\"\",语言配置表!B82),语言配置表!#REF!&IF(语言配置表!#REF!=\"\",\"\",语言配置表!#REF!))","v":{"$error":"#REF!"}}]
[{"$f":"IF(语言配置表!A83=\"\",\"\",语言配置表!A83)","v":""},{"$f":"IF(语言配置表!#REF!=\"\",语言配置表!#REF!&IF(语言配置表!B83=\"\",\"\",语言配置表!B83),语言配置表!#REF!&IF(语言配置表!#REF!=\"\",\"\",语言配置表!#REF!))","v":{"$error":"#REF!"}}]
[{"$f":"IF(语言配置表!A84=\"\",\"\",语言配置表!A84)","v":""},{"$f":"IF(语言配置表!#REF!=\"\",语言配置表!#REF!&IF(语言配置表!B84=\"\",\"\",语言配置表!B84),语言配置表!#REF!&IF(语言配置表!#REF!=\"\",\"\",语言配置表!#REF!))","v":{"$error":"#REF!"}}]
[{"$f":"IF(语言配置表!A85=\"\",\"\",语言配置表!A85)","v":""},{"$f":"IF(语言配置表!#REF!=\"\",语言配置表!#REF!&IF(语言配置表!B85=\"\",\"\",语言配置表!B85),语言配置表!#REF!&IF(语言配置表!#REF!=\"\",\"\",语言配置表!#REF!))","v":{"$error":"#REF!"}}]
[{"$f":"IF(语言配置表!A86=\"\",\"\",语言配置表!A86)","v":""},{"$f":"IF(语言配置表!#REF!=\"\",语言配置表!#REF!&IF(语言配置表!B86=\"\",\"\",语言配置表!B86),语言配置表!#REF!&IF(语言配置表!#REF!=\"\",\"\",语言配置表!#REF!))","v":{"$error":"#REF!"}}]
[{"$f":"IF(语言配置表!A87=\"\",\"\",语言配置表!A87)","v":""},{"$f":"IF(语言配置表!#REF!=\"\",语言配置表!#REF!&IF(语言配置表!B87=\"\",\"\",语言配置表!B87),语言配置表!#REF!&IF(语言配置表!#REF!=\"\",\"\",语言配置表!#REF!))","v":{"$error":"#REF!"}}]
[{"$f":"IF(语言配置表!A88=\"\",\"\",语言配置表!A88)","v":""},{"$f":"IF(语言配置表!#REF!=\"\",语言配置表!#REF!&IF(语言配置表!B88=\"\",\"\",语言配置表!B88),语言配置表!#REF!&IF(语言配置表!#REF!=\"\",\"\",语言配置表!#REF!))","v":{"$error":"#REF!"}}]
[{"$f":"IF(语言配置表!A89=\"\",\"\",语言配置表!A89)","v":""},{"$f":"IF(语言配置表!#REF!=\"\",语言配置表!#REF!&IF(语言配置表!B89=\"\",\"\",语言配置表!B89),语言配置表!#REF!&IF(语言配置表!#REF!=\"\",\"\",语言配置表!#REF!))","v":{"$error":"#REF!"}}]
[{"$f":"IF(语言配置表!A90=\"\",\"\",语言配置表!A90)","v":""},{"$f":"IF(语言配置表!#REF!=\"\",语言配置表!#REF!&IF(语言配置表!B90=\"\",\"\",语言配置表!B90),语言配置表!#REF!&IF(语言配置表!#REF!=\"\",\"\",语言配置表!#REF!))","v":{"$error":"#REF!"}}]
[{"$f":"IF(语言配置表!A91=\"\",\"\",语言配置表!A91)","v":""},{"$f":"IF(语言配置表!#REF!=\"\",语言配置表!#REF!&IF(语言配置表!B91=\"\",\"\",语言配置表!B91),语言配置表!#REF!&IF(语言配置表!#REF!=\"\",\"\",语言配置表!#REF!))","v":{"$error":"#REF!"}}]
[{"$f":"IF(语言配置表!A92=\"\",\"\",语言配置表!A92)","v":""},{"$f":"IF(语言配置表!#REF!=\"\",语言配置表!#REF!&IF(语言配置表!B92=\"\",\"\",语言配置表!B92),语言配置表!#REF!&IF(语言配置表!#REF!=\"\",\"\",语言配置表!#REF!))","v":{"$error":"#REF!"}}]
[{"$f":"IF(语言配置表!A93=\"\",\"\",语言配置表!A93)","v":""},{"$f":"IF(语言配置表!#REF!=\"\",语言配置表!#REF!&IF(语言配置表!B93=\"\",\"\",语言配置表!B93),语言配置表!#REF!&IF(语言配置表!#REF!=\"\",\"\",语言配置表!#REF!))","v":{"$error":"#REF!"}}]
[{"$f":"IF(语言配置表!A94=\"\",\"\",语言配置表!A94)","v":""},{"$f":"IF(语言配置表!#REF!=\"\",语言配置表!#REF!&IF(语言配置表!B94=\"\",\"\",语言配置表!B94),语言配置表!#REF!&IF(语言配置表!#REF!=\"\",\"\",语言配置表!#REF!))","v":{"$error":"#REF!"}}]
[{"$f":"IF(语言配置表!A95=\"\",\"\",语言配置表!A95)","v":""},{"$f":"IF(语言配置表!#REF!=\"\",语言配置表!#REF!&IF(语言配置表!B95=\"\",\"\",语言配置表!B95),语言配置表!#REF!&IF(语言配置表!#REF!=\"\",\"\",语言配置表!#REF!))","v":{"$error":"#REF!"}}]
[{"$f":"IF(语言配置表!A96=\"\",\"\",语言配置表!A96)","v":""},{"$f":"IF(语言配置表!#REF!=\"\",语言配置表!#REF!&IF(语言配置表!B96=\"\",\"\",语言配置表!B96),语言配置表!#REF!&IF(语言配置表!#REF!=\"\",\"\",语言配置表!#REF!))","v":{"$error":"#REF!"}}]
[{"$f":"IF(语言配置表!A97=\"\",\"\",语言配置表!A97)","v":""},{"$f":"IF(语言配置表!#REF!=\"\",语言配置表!#REF!&IF(语言配置表!B97=\"\",\"\",语言配置表!B97),语言配置表!#REF!&IF(语言配置表!#REF!=\"\",\"\",语言配置表!#REF!))","v":{"$error":"#REF!"}}]
[{"$f":"IF(语言配置表!A98=\"\",\"\",语言配置表!A98)","v":""},{"$f":"IF(语言配置表!#REF!=\"\",语言配置表!#REF!&IF(语言配置表!B98=\"\",\"\",语言配置表!B98),语言配置表!#REF!&IF(语言配置表!#REF!=\"\",\"\",语言配置表!#REF!))","v":{"$error":"#REF!"}}]
[{"$f":"IF(语言配置表!A99=\"\",\"\",语言配置表!A99)","v":""},{"$f":"IF(语言配置表!#REF!=\"\",语言配置表!#REF!&IF(语言配置表!B99=\"\",\"\",语言配置表!B99),语言配置表!#REF!&IF(语言配置表!#REF!=\"\",\"\",语言配置表!#REF!))","v":{"$error":"#REF!"}}]
[{"$f":"IF(语言配置表!A100=\"\",\"\",语言配置表!A100)","v":""},{"$f":"IF(语言配置表!#REF!=\"\",语言配置表!#REF!&IF(语言配置表!B100=\"\",\"\",语言配置表!B100),语言配置表!#REF!&IF(语言配置表!#REF!=\"\",\"\",语言配置表!#REF!))","v":{"$error":"#REF!"}}]
[{"$f":"IF(语言配置表!A101=\"\",\"\",语言配置表!A101)","v":""},{"$f":"IF(语言配置表!#REF!=\"\",语言配置表!#REF!&IF(语言配置表!B101=\"\",\"\",语言配置表!B101),语言配置表!#REF!&IF(语言配置表!#REF!=\"\",\"\",语言配置表!#REF!))","v":{"$error":"#REF!"}}]
[{"$f":"IF(语言配置表!A102=\"\",\"\",语言配置表!A102)","v":""},{"$f":"IF(语言配置表!#REF!=\"\",语言配置表!#REF!&IF(语言配置表!B102=\"\",\"\",语言配置表!B102),语言配置表!#REF!&IF(语言配置表!#REF!=\"\",\"\",语言配置表!#REF!))","v":{"$error":"#REF!"}}]
[{"$f":"IF(语言配置表!A103=\"\",\"\",语言配置表!A103)","v":""},{"$f":"IF(语言配置表!#REF!=\"\",语言配置表!#REF!&IF(语言配置表!B103=\"\",\"\",语言配置表!B103),语言配置表!#REF!&IF(语言配置表!#REF!=\"\",\"\",语言配置表!#REF!))","v":{"$error":"#REF!"}}]
[{"$f":"IF(语言配置表!A104=\"\",\"\",语言配置表!A104)","v":""},{"$f":"IF(语言配置表!#REF!=\"\",语言配置表!#REF!&IF(语言配置表!B104=\"\",\"\",语言配置表!B104),语言配置表!#REF!&IF(语言配置表!#REF!=\"\",\"\",语言配置表!#REF!))","v":{"$error":"#REF!"}}]
[{"$f":"IF(语言配置表!A105=\"\",\"\",语言配置表!A105)","v":""},{"$f":"IF(语言配置表!#REF!=\"\",语言配置表!#REF!&IF(语言配置表!B105=\"\",\"\",语言配置表!B105),语言配置表!#REF!&IF(语言配置表!#REF!=\"\",\"\",语言配置表!#REF!))","v":{"$error":"#REF!"}}]
[{"$f":"IF(语言配置表!A106=\"\",\"\",语言配置表!A106)","v":""},{"$f":"IF(语言配置表!#REF!=\"\",语言配置表!#REF!&IF(语言配置表!B106=\"\",\"\",语言配置表!B106),语言配置表!#REF!&IF(语言配置表!#REF!=\"\",\"\",语言配置表!#REF!))","v":{"$error":"#REF!"}}]
[{"$f":"IF(语言配置表!A107=\"\",\"\",语言配置表!A107)","v":""},{"$f":"IF(语言配置表!#REF!=\"\",语言配置表!#REF!&IF(语言配置表!B107=\"\",\"\",语言配置表!B107),语言配置表!#REF!&IF(语言配置表!#REF!=\"\",\"\",语言配置表!#REF!))","v":{"$error":"#REF!"}}]
[{"$f":"IF(语言配置表!A108=\"\",\"\",语言配置表!A108)","v":""},{"$f":"IF(语言配置表!#REF!=\"\",语言配置表!#REF!&IF(语言配置表!B108=\"\",\"\",语言配置表!B108),语言配置表!#REF!&IF(语言配置表!#REF!=\"\",\"\",语言配置表!#REF!))","v":{"$error":"#REF!"}}]
[{"$f":"IF(语言配置表!A109=\"\",\"\",语言配置表!A109)","v":""},{"$f":"IF(语言配置表!#REF!=\"\",语言配置表!#REF!&IF(语言配置表!B109=\"\",\"\",语言配置表!B109),语言配置表!#REF!&IF(语言配置表!#REF!=\"\",\"\",语言配置表!#REF!))","v":{"$error":"#REF!"}}]
[{"$f":"IF(语言配置表!A110=\"\",\"\",语言配置表!A110)","v":""},{"$f":"IF(语言配置表!#REF!=\"\",语言配置表!#REF!&IF(语言配置表!B110=\"\",\"\",语言配置表!B110),语言配置表!#REF!&IF(语言配置表!#REF!=\"\",\"\",语言配置表!#REF!))","v":{"$error":"#REF!"}}]
[{"$f":"IF(语言配置表!A111=\"\",\"\",语言配置表!A111)","v":""},{"$f":"IF(语言配置表!#REF!=\"\",语言配置表!#REF!&IF(语言配置表!B111=\"\",\"\",语言配置表!B111),语言配置表!#REF!&IF(语言配置表!#REF!=\"\",\"\",语言配置表!#REF!))","v":{"$error":"#REF!"}}]
[{"$f":"IF(语言配置表!A112=\"\",\"\",语言配置表!A112)","v":""},{"$f":"IF(语言配置表!#REF!=\"\",语言配置表!#REF!&IF(语言配置表!B112=\"\",\"\",语言配置表!B112),语言配置表!#REF!&IF(语言配置表!#REF!=\"\",\"\",语言配置表!#REF!))","v":{"$error":"#REF!"}}]
[{"$f":"IF(语言配置表!A113=\"\",\"\",语言配置表!A113)","v":""},{"$f":"IF(语言配置表!#REF!=\"\",语言配置表!#REF!&IF(语言配置表!B113=\"\",\"\",语言配置表!B113),语言配置表!#REF!&IF(语言配置表!#REF!=\"\",\"\",语言配置表!#REF!))","v":{"$error":"#REF!"}}]
[{"$f":"IF(语言配置表!A114=\"\",\"\",语言配置表!A114)","v":""},{"$f":"IF(语言配置表!#REF!=\"\",语言配置表!#REF!&IF(语言配置表!B114=\"\",\"\",语言配置表!B114),语言配置表!#REF!&IF(语言配置表!#REF!=\"\",\"\",语言配置表!#REF!))","v":{"$error":"#REF!"}}]
[{"$f":"IF(语言配置表!A115=\"\",\"\",语言配置表!A115)","v":""},{"$f":"IF(语言配置表!#REF!=\"\",语言配置表!#REF!&IF(语言配置表!B115=\"\",\"\",语言配置表!B115),语言配置表!#REF!&IF(语言配置表!#REF!=\"\",\"\",语言配置表!#REF!))","v":{"$error":"#REF!"}}]
[{"$f":"IF(语言配置表!A116=\"\",\"\",语言配置表!A116)","v":""},{"$f":"IF(语言配置表!#REF!=\"\",语言配置表!#REF!&IF(语言配置表!B116=\"\",\"\",语言配置表!B116),语言配置表!#REF!&IF(语言配置表!#REF!=\"\",\"\",语言配置表!#REF!))","v":{"$error":"#REF!"}}]
[{"$f":"IF(语言配置表!A117=\"\",\"\",语言配置表!A117)","v":""},{"$f":"IF(语言配置表!#REF!=\"\",语言配置表!#REF!&IF(语言配置表!B117=\"\",\"\",语言配置表!B117),语言配置表!#REF!&IF(语言配置表!#REF!=\"\",\"\",语言配置表!#REF!))","v":{"$error":"#REF!"}}]
[{"$f":"IF(语言配置表!A118=\"\",\"\",语言配置表!A118)","v":""},{"$f":"IF(语言配置表!#REF!=\"\",语言配置表!#REF!&IF(语言配置表!B118=\"\",\"\",语言配置表!B118),语言配置表!#REF!&IF(语言配置表!#REF!=\"\",\"\",语言配置表!#REF!))","v":{"$error":"#REF!"}}]
[{"$f":"IF(语言配置表!A119=\"\",\"\",语言配置表!A119)","v":""},{"$f":"IF(语言配置表!#REF!=\"\",语言配置表!#REF!&IF(语言配置表!B119=\"\",\"\",语言配置表!B119),语言配置表!#REF!&IF(语言配置表!#REF!=\"\",\"\",语言配置表!#REF!))","v":{"$error":"#REF!"}}]
[{"$f":"IF(语言配置表!A120=\"\",\"\",语言配置表!A120)","v":""},{"$f":"IF(语言配置表!#REF!=\"\",语言配置表!#REF!&IF(语言配置表!B120=\"\",\"\",语言配置表!B120),语言配置表!#REF!&IF(语言配置表!#REF!=\"\",\"\",语言配置表!#REF!))","v":{"$error":"#REF!"}}]
[{"$f":"IF(语言配置表!A121=\"\",\"\",语言配置表!A121)","v":""},{"$f":"IF(语言配置表!#REF!=\"\",语言配置表!#REF!&IF(语言配置表!B121=\"\",\"\",语言配置表!B121),语言配置表!#REF!&IF(语言配置表!#REF!=\"\",\"\",语言配置表!#REF!))","v":{"$error":"#REF!"}}]
[{"$f":"IF(语言配置表!A122=\"\",\"\",语言配置表!A122)","v":""},{"$f":"IF(语言配置表!#REF!=\"\",语言配置表!#REF!&IF(语言配置表!B122=\"\",\"\",语言配置表!B122),语言配置表!#REF!&IF(语言配置表!#REF!=\"\",\"\",语言配置表!#REF!))","v":{"$error":"#REF!"}}]
[{"$f":"IF(语言配置表!A123=\"\",\"\",语言配置表!A123)","v":""},{"$f":"IF(语言配置表!#REF!=\"\",语言配置表!#REF!&IF(语言配置表!B123=\"\",\"\",语言配置表!B123),语言配置表!#REF!&IF(语言配置表!#REF!=\"\",\"\",语言配置表!#REF!))","v":{"$error":"#REF!"}}]
[{"$f":"IF(语言配置表!A124=\"\",\"\",语言配置表!A124)","v":""},{"$f":"IF(语言配置表!#REF!=\"\",语言配置表!#REF!&IF(语言配置表!B124=\"\",\"\",语言配置表!B124),语言配置表!#REF!&IF(语言配置表!#REF!=\"\",\"\",语言配置表!#REF!))","v":{"$error":"#REF!"}}]
[{"$f":"IF(语言配置表!A125=\"\",\"\",语言配置表!A125)","v":""},{"$f":"IF(语言配置表!#REF!=\"\",语言配置表!#REF!&IF(语言配置表!B125=\"\",\"\",语言配置表!B125),语言配置表!#REF!&IF(语言配置表!#REF!=\"\",\"\",语言配置表!#REF!))","v":{"$error":"#REF!"}}]
[{"$f":"IF(语言配置表!A126=\"\",\"\",语言配置表!A126)","v":""},{"$f":"IF(语言配置表!#REF!=\"\",语言配置表!#REF!&IF(语言配置表!B126=\"\",\"\",语言配置表!B126),语言配置表!#REF!&IF(语言配置表!#REF!=\"\",\"\",语言配置表!#REF!))","v":{"$error":"#REF!"}}]
[{"$f":"IF(语言配置表!A127=\"\",\"\",语言配置表!A127)","v":""},{"$f":"IF(语言配置表!#REF!=\"\",语言配置表!#REF!&IF(语言配置表!B127=\"\",\"\",语言配置表!B127),语言配置表!#REF!&IF(语言配置表!#REF!=\"\",\"\",语言配置表!#REF!))","v":{"$error":"#REF!"}}]
[{"$f":"IF(语言配置表!A128=\"\",\"\",语言配置表!A128)","v":""},{"$f":"IF(语言配置表!#REF!=\"\",语言配置表!#REF!&IF(语言配置表!B128=\"\",\"\",语言配置表!B128),语言配置表!#REF!&IF(语言配置表!#REF!=\"\",\"\",语言配置表!#REF!))","v":{"$error":"#REF!"}}]
[{"$f":"IF(语言配置表!A129=\"\",\"\",语言配置表!A129)","v":""},{"$f":"IF(语言配置表!#REF!=\"\",语言配置表!#REF!&IF(语言配置表!B129=\"\",\"\",语言配置表!B129),语言配置表!#REF!&IF(语言配置表!#REF!=\"\",\"\",语言配置表!#REF!))","v":{"$error":"#REF!"}}]
[{"$f":"IF(语言配置表!A130=\"\",\"\",语言配置表!A130)","v":""},{"$f":"IF(语言配置表!#REF!=\"\",语言配置表!#REF!&IF(语言配置表!B130=\"\",\"\",语言配置表!B130),语言配置表!#REF!&IF(语言配置表!#REF!=\"\",\"\",语言配置表!#REF!))","v":{"$error":"#REF!"}}]
[{"$f":"IF(语言配置表!A131=\"\",\"\",语言配置表!A131)","v":""},{"$f":"IF(语言配置表!#REF!=\"\",语言配置表!#REF!&IF(语言配置表!B131=\"\",\"\",语言配置表!B131),语言配置表!#REF!&IF(语言配置表!#REF!=\"\",\"\",语言配置表!#REF!))","v":{"$error":"#REF!"}}]
[{"$f":"IF(语言配置表!A132=\"\",\"\",语言配置表!A132)","v":""},{"$f":"IF(语言配置表!#REF!=\"\",语言配置表!#REF!&IF(语言配置表!B132=\"\",\"\",语言配置表!B132),语言配置表!#REF!&IF(语言配置表!#REF!=\"\",\"\",语言配置表!#REF!))","v":{"$error":"#REF!"}}]
[{"$f":"IF(语言配置表!A133=\"\",\"\",语言配置表!A133)","v":""},{"$f":"IF(语言配置表!#REF!=\"\",语言配置表!#REF!&IF(语言配置表!B133=\"\",\"\",语言配置表!B133),语言配置表!#REF!&IF(语言配置表!#REF!=\"\",\"\",语言配置表!#REF!))","v":{"$error":"#REF!"}}]
[{"$f":"IF(语言配置表!A134=\"\",\"\",语言配置表!A134)","v":""},{"$f":"IF(语言配置表!#REF!=\"\",语言配置表!#REF!&IF(语言配置表!B134=\"\",\"\",语言配置表!B134),语言配置表!#REF!&IF(语言配置表!#REF!=\"\",\"\",语言配置表!#REF!))","v":{"$error":"#REF!"}}]
[{"$f":"IF(语言配置表!A135=\"\",\"\",语言配置表!A135)","v":""},{"$f":"IF(语言配置表!#REF!=\"\",语言配置表!#REF!&IF(语言配置表!B135=\"\",\"\",语言配置表!B135),语言配置表!#REF!&IF(语言配置表!#REF!=\"\",\"\",语言配置表!#REF!))","v":{"$error":"#REF!"}}]
[{"$f":"IF(语言配置表!A136=\"\",\"\",语言配置表!A136)","v":""},{"$f":"IF(语言配置表!#REF!=\"\",语言配置表!#REF!&IF(语言配置表!B136=\"\",\"\",语言配置表!B136),语言配置表!#REF!&IF(语言配置表!#REF!=\"\",\"\",语言配置表!#REF!))","v":{"$error":"#REF!"}}]
[{"$f":"IF(语言配置表!A137=\"\",\"\",语言配置表!A137)","v":""},{"$f":"IF(语言配置表!#REF!=\"\",语言配置表!#REF!&IF(语言配置表!B137=\"\",\"\",语言配置表!B137),语言配置表!#REF!&IF(语言配置表!#REF!=\"\",\"\",语言配置表!#REF!))","v":{"$error":"#REF!"}}]
[{"$f":"IF(语言配置表!A138=\"\",\"\",语言配置表!A138)","v":""},{"$f":"IF(语言配置表!#REF!=\"\",语言配置表!#REF!&IF(语言配置表!B138=\"\",\"\",语言配置表!B138),语言配置表!#REF!&IF(语言配置表!#REF!=\"\",\"\",语言配置表!#REF!))","v":{"$error":"#REF!"}}]
[{"$f":"IF(语言配置表!A139=\"\",\"\",语言配置表!A139)","v":""},{"$f":"IF(语言配置表!#REF!=\"\",语言配置表!#REF!&IF(语言配置表!B139=\"\",\"\",语言配置表!B139),语言配置表!#REF!&IF(语言配置表!#REF!=\"\",\"\",语言配置表!#REF!))","v":{"$error":"#REF!"}}]
[{"$f":"IF(语言配置表!A140=\"\",\"\",语言配置表!A140)","v":""},{"$f":"IF(语言配置表!#REF!=\"\",语言配置表!#REF!&IF(语言配置表!B140=\"\",\"\",语言配置表!B140),语言配置表!#REF!&IF(语言配置表!#REF!=\"\",\"\",语言配置表!#REF!))","v":{"$error":"#REF!"}}]
[{"$f":"IF(语言配置表!A141=\"\",\"\",语言配置表!A141)","v":""},{"$f":"IF(语言配置表!#REF!=\"\",语言配置表!#REF!&IF(语言配置表!B141=\"\",\"\",语言配置表!B141),语言配置表!#REF!&IF(语言配置表!#REF!=\"\",\"\",语言配置表!#REF!))","v":{"$error":"#REF!"}}]
[{"$f":"IF(语言配置表!A142=\"\",\"\",语言配置表!A142)","v":""},{"$f":"IF(语言配置表!#REF!=\"\",语言配置表!#REF!&IF(语言配置表!B142=\"\",\"\",语言配置表!B142),语言配置表!#REF!&IF(语言配置表!#REF!=\"\",\"\",语言配置表!#REF!))","v":{"$error":"#REF!"}}]
[{"$f":"IF(语言配置表!A143=\"\",\"\",语言配置表!A143)","v":""},{"$f":"IF(语言配置表!#REF!=\"\",语言配置表!#REF!&IF(语言配置表!B143=\"\",\"\",语言配置表!B143),语言配置表!#REF!&IF(语言配置表!#REF!=\"\",\"\",语言配置表!#REF!))","v":{"$error":"#REF!"}}]
[{"$f":"IF(语言配置表!A144=\"\",\"\",语言配置表!A144)","v":""},{"$f":"IF(语言配置表!#REF!=\"\",语言配置表!#REF!&IF(语言配置表!B144=\"\",\"\",语言配置表!B144),语言配置表!#REF!&IF(语言配置表!#REF!=\"\",\"\",语言配置表!#REF!))","v":{"$error":"#REF!"}}]
[{"$f":"IF(语言配置表!A145=\"\",\"\",语言配置表!A145)","v":""},{"$f":"IF(语言配置表!#REF!=\"\",语言配置表!#REF!&IF(语言配置表!B145=\"\",\"\",语言配置表!B145),语言配置表!#REF!&IF(语言配置表!#REF!=\"\",\"\",语言配置表!#REF!))","v":{"$error":"#REF!"}}]
[{"$f":"IF(语言配置表!A146=\"\",\"\",语言配置表!A146)","v":""},{"$f":"IF(语言配置表!#REF!=\"\",语言配置表!#REF!&IF(语言配置表!B146=\"\",\"\",语言配置表!B146),语言配置表!#REF!&IF(语言配置表!#REF!=\"\",\"\",语言配置表!#REF!))","v":{"$error":"#REF!"}}]
[{"$f":"IF(语言配置表!A147=\"\",\"\",语言配置表!A147)","v":""},{"$f":"IF(语言配置表!#REF!=\"\",语言配置表!#REF!&IF(语言配置表!B147=\"\",\"\",语言配置表!B147),语言配置表!#REF!&IF(语言配置表!#REF!=\"\",\"\",语言配置表!#REF!))","v":{"$error":"#REF!"}}]
[{"$f":"IF(语言配置表!A148=\"\",\"\",语言配置表!A148)","v":""},{"$f":"IF(语言配置表!#REF!=\"\",语言配置表!#REF!&IF(语言配置表!B148=\"\",\"\",语言配置表!B148),语言配置表!#REF!&IF(语言配置表!#REF!=\"\",\"\",语言配置表!#REF!))","v":{"$error":"#REF!"}}]
[{"$f":"IF(语言配置表!A149=\"\",\"\",语言配置表!A149)","v":""},{"$f":"IF(语言配置表!#REF!=\"\",语言配置表!#REF!&IF(语言配置表!B149=\"\",\"\",语言配置表!B149),语言配置表!#REF!&IF(语言配置表!#REF!=\"\",\"\",语言配置表!#REF!))","v":{"$error":"#REF!"}}]
[{"$f":"IF(语言配置表!A150=\"\",\"\",语言配置表!A150)","v":""},{"$f":"IF(语言配置表!#REF!=\"\",语言配置表!#REF!&IF(语言配置表!B150=\"\",\"\",语言配置表!B150),语言配置表!#REF!&IF(语言配置表!#REF!=\"\",\"\",语言配置表!#REF!))","v":{"$error":"#REF!"}}]
[{"$f":"IF(语言配置表!A151=\"\",\"\",语言配置表!A151)","v":""},{"$f":"IF(语言配置表!#REF!=\"\",语言配置表!#REF!&IF(语言配置表!B151=\"\",\"\",语言配置表!B151),语言配置表!#REF!&IF(语言配置表!#REF!=\"\",\"\",语言配置表!#REF!))","v":{"$error":"#REF!"}}]
[{"$f":"IF(语言配置表!A152=\"\",\"\",语言配置表!A152)","v":""},{"$f":"IF(语言配置表!#REF!=\"\",语言配置表!#REF!&IF(语言配置表!B152=\"\",\"\",语言配置表!B152),语言配置表!#REF!&IF(语言配置表!#REF!=\"\",\"\",语言配置表!#REF!))","v":{"$error":"#REF!"}}]
[{"$f":"IF(语言配置表!A153=\"\",\"\",语言配置表!A153)","v":""},{"$f":"IF(语言配置表!#REF!=\"\",语言配置表!#REF!&IF(语言配置表!B153=\"\",\"\",语言配置表!B153),语言配置表!#REF!&IF(语言配置表!#REF!=\"\",\"\",语言配置表!#REF!))","v":{"$error":"#REF!"}}]
[{"$f":"IF(语言配置表!A154=\"\",\"\",语言配置表!A154)","v":""},{"$f":"IF(语言配置表!#REF!=\"\",语言配置表!#REF!&IF(语言配置表!B154=\"\",\"\",语言配置表!B154),语言配置表!#REF!&IF(语言配置表!#REF!=\"\",\"\",语言配置表!#REF!))","v":{"$error":"#REF!"}}]
[{"$f":"IF(语言配置表!A155=\"\",\"\",语言配置表!A155)","v":""},{"$f":"IF(语言配置表!#REF!=\"\",语言配置表!#REF!&IF(语言配置表!B155=\"\",\"\",语言配置表!B155),语言配置表!#REF!&IF(语言配置表!#REF!=\"\",\"\",语言配置表!#REF!))","v":{"$error":"#REF!"}}]
[{"$f":"IF(语言配置表!A156=\"\",\"\",语言配置表!A156)","v":""},{"$f":"IF(语言配置表!#REF!=\"\",语言配置表!#REF!&IF(语言配置表!B156=\"\",\"\",语言配置表!B156),语言配置表!#REF!&IF(语言配置表!#REF!=\"\",\"\",语言配置表!#REF!))","v":{"$error":"#REF!"}}]
[{"$f":"IF(语言配置表!A157=\"\",\"\",语言配置表!A157)","v":""},{"$f":"IF(语言配置表!#REF!=\"\",语言配置表!#REF!&IF(语言配置表!B157=\"\",\"\",语言配置表!B157),语言配置表!#REF!&IF(语言配置表!#REF!=\"\",\"\",语言配置表!#REF!))","v":{"$error":"#REF!"}}]
[{"$f":"IF(语言配置表!A158=\"\",\"\",语言配置表!A158)","v":""},{"$f":"IF(语言配置表!#REF!=\"\",语言配置表!#REF!&IF(语言配置表!B158=\"\",\"\",语言配置表!B158),语言配置表!#REF!&IF(语言配置表!#REF!=\"\",\"\",语言配置表!#REF!))","v":{"$error":"#REF!"}}]
[{"$f":"IF(语言配置表!A159=\"\",\"\",语言配置表!A159)","v":""},{"$f":"IF(语言配置表!#REF!=\"\",语言配置表!#REF!&IF(语言配置表!B159=\"\",\"\",语言配置表!B159),语言配置表!#REF!&IF(语言配置表!#REF!=\"\",\"\",语言配置表!#REF!))","v":{"$error":"#REF!"}}]
[{"$f":"IF(语言配置表!A160=\"\",\"\",语言配置表!A160)","v":""},{"$f":"IF(语言配置表!#REF!=\"\",语言配置表!#REF!&IF(语言配置表!B160=\"\",\"\",语言配置表!B160),语言配置表!#REF!&IF(语言配置表!#REF!=\"\",\"\",语言配置表!#REF!))","v":{"$error":"#REF!"}}]
[{"$f":"IF(语言配置表!A161=\"\",\"\",语言配置表!A161)","v":""},{"$f":"IF(语言配置表!#REF!=\"\",语言配置表!#REF!&IF(语言配置表!B161=\"\",\"\",语言配置表!B161),语言配置表!#REF!&IF(语言配置表!#REF!=\"\",\"\",语言配置表!#REF!))","v":{"$error":"#REF!"}}]
[{"$f":"IF(语言配置表!A162=\"\",\"\",语言配置表!A162)","v":""},{"$f":"IF(语言配置表!#REF!=\"\",语言配置表!#REF!&IF(语言配置表!B162=\"\",\"\",语言配置表!B162),语言配置表!#REF!&IF(语言配置表!#REF!=\"\",\"\",语言配置表!#REF!))","v":{"$error":"#REF!"}}]
[{"$f":"IF(语言配置表!A163=\"\",\"\",语言配置表!A163)","v":""},{"$f":"IF(语言配置表!#REF!=\"\",语言配置表!#REF!&IF(语言配置表!B163=\"\",\"\",语言配置表!B163),语言配置表!#REF!&IF(语言配置表!#REF!=\"\",\"\",语言配置表!#REF!))","v":{"$error":"#REF!"}}]
[{"$f":"IF(语言配置表!A164=\"\",\"\",语言配置表!A164)","v":""},{"$f":"IF(语言配置表!#REF!=\"\",语言配置表!#REF!&IF(语言配置表!B164=\"\",\"\",语言配置表!B164),语言配置表!#REF!&IF(语言配置表!#REF!=\"\",\"\",语言配置表!#REF!))","v":{"$error":"#REF!"}}]
[{"$f":"IF(语言配置表!A165=\"\",\"\",语言配置表!A165)","v":""},{"$f":"IF(语言配置表!#REF!=\"\",语言配置表!#REF!&IF(语言配置表!B165=\"\",\"\",语言配置表!B165),语言配置表!#REF!&IF(语言配置表!#REF!=\"\",\"\",语言配置表!#REF!))","v":{"$error":"#REF!"}}]
[{"$f":"IF(语言配置表!A166=\"\",\"\",语言配置表!A166)","v":""},{"$f":"IF(语言配置表!#REF!=\"\",语言配置表!#REF!&IF(语言配置表!B166=\"\",\"\",语言配置表!B166),语言配置表!#REF!&IF(语言配置表!#REF!=\"\",\"\",语言配置表!#REF!))","v":{"$error":"#REF!"}}]
[{"$f":"IF(语言配置表!A167=\"\",\"\",语言配置表!A167)","v":""},{"$f":"IF(语言配置表!#REF!=\"\",语言配置表!#REF!&IF(语言配置表!B167=\"\",\"\",语言配置表!B167),语言配置表!#REF!&IF(语言配置表!#REF!=\"\",\"\",语言配置表!#REF!))","v":{"$error":"#REF!"}}]
[{"$f":"IF(语言配置表!A168=\"\",\"\",语言配置表!A168)","v":""},{"$f":"IF(语言配置表!#REF!=\"\",语言配置表!#REF!&IF(语言配置表!B168=\"\",\"\",语言配置表!B168),语言配置表!#REF!&IF(语言配置表!#REF!=\"\",\"\",语言配置表!#REF!))","v":{"$error":"#REF!"}}]
[{"$f":"IF(语言配置表!A169=\"\",\"\",语言配置表!A169)","v":""},{"$f":"IF(语言配置表!#REF!=\"\",语言配置表!#REF!&IF(语言配置表!B169=\"\",\"\",语言配置表!B169),语言配置表!#REF!&IF(语言配置表!#REF!=\"\",\"\",语言配置表!#REF!))","v":{"$error":"#REF!"}}]
[{"$f":"IF(语言配置表!A170=\"\",\"\",语言配置表!A170)","v":""},{"$f":"IF(语言配置表!#REF!=\"\",语言配置表!#REF!&IF(语言配置表!B170=\"\",\"\",语言配置表!B170),语言配置表!#REF!&IF(语言配置表!#REF!=\"\",\"\",语言配置表!#REF!))","v":{"$error":"#REF!"}}]
[{"$f":"IF(语言配置表!A171=\"\",\"\",语言配置表!A171)","v":""},{"$f":"IF(语言配置表!#REF!=\"\",语言配置表!#REF!&IF(语言配置表!B171=\"\",\"\",语言配置表!B171),语言配置表!#REF!&IF(语言配置表!#REF!=\"\",\"\",语言配置表!#REF!))","v":{"$error":"#REF!"}}]
[{"$f":"IF(语言配置表!A172=\"\",\"\",语言配置表!A172)","v":""},{"$f":"IF(语言配置表!#REF!=\"\",语言配置表!#REF!&IF(语言配置表!B172=\"\",\"\",语言配置表!B172),语言配置表!#REF!&IF(语言配置表!#REF!=\"\",\"\",语言配置表!#REF!))","v":{"$error":"#REF!"}}]
[{"$f":"IF(语言配置表!A173=\"\",\"\",语言配置表!A173)","v":""},{"$f":"IF(语言配置表!#REF!=\"\",语言配置表!#REF!&IF(语言配置表!B173=\"\",\"\",语言配置表!B173),语言配置表!#REF!&IF(语言配置表!#REF!=\"\",\"\",语言配置表!#REF!))","v":{"$error":"#REF!"}}]
[{"$f":"IF(语言配置表!A174=\"\",\"\",语言配置表!A174)","v":""},{"$f":"IF(语言配置表!#REF!=\"\",语言配置表!#REF!&IF(语言配置表!B174=\"\",\"\",语言配置表!B174),语言配置表!#REF!&IF(语言配置表!#REF!=\"\",\"\",语言配置表!#REF!))","v":{"$error":"#REF!"}}]
[{"$f":"IF(语言配置表!A175=\"\",\"\",语言配置表!A175)","v":""},{"$f":"IF(语言配置表!#REF!=\"\",语言配置表!#REF!&IF(语言配置表!B175=\"\",\"\",语言配置表!B175),语言配置表!#REF!&IF(语言配置表!#REF!=\"\",\"\",语言配置表!#REF!))","v":{"$error":"#REF!"}}]
[{"$f":"IF(语言配置表!A176=\"\",\"\",语言配置表!A176)","v":""},{"$f":"IF(语言配置表!#REF!=\"\",语言配置表!#REF!&IF(语言配置表!B176=\"\",\"\",语言配置表!B176),语言配置表!#REF!&IF(语言配置表!#REF!=\"\",\"\",语言配置表!#REF!))","v":{"$error":"#REF!"}}]
[{"$f":"IF(语言配置表!A177=\"\",\"\",语言配置表!A177)","v":""},{"$f":"IF(语言配置表!#REF!=\"\",语言配置表!#REF!&IF(语言配置表!B177=\"\",\"\",语言配置表!B177),语言配置表!#REF!&IF(语言配置表!#REF!=\"\",\"\",语言配置表!#REF!))","v":{"$error":"#REF!"}}]
[{"$f":"IF(语言配置表!A178=\"\",\"\",语言配置表!A178)","v":""},{"$f":"IF(语言配置表!#REF!=\"\",语言配置表!#REF!&IF(语言配置表!B178=\"\",\"\",语言配置表!B178),语言配置表!#REF!&IF(语言配置表!#REF!=\"\",\"\",语言配置表!#REF!))","v":{"$error":"#REF!"}}]
[{"$f":"IF(语言配置表!A179=\"\",\"\",语言配置表!A179)","v":""},{"$f":"IF(语言配置表!#REF!=\"\",语言配置表!#REF!&IF(语言配置表!B179=\"\",\"\",语言配置表!B179),语言配置表!#REF!&IF(语言配置表!#REF!=\"\",\"\",语言配置表!#REF!))","v":{"$error":"#REF!"}}]
[{"$f":"IF(语言配置表!A180=\"\",\"\",语言配置表!A180)","v":""},{"$f":"IF(语言配置表!#REF!=\"\",语言配置表!#REF!&IF(语言配置表!B180=\"\",\"\",语言配置表!B180),语言配置表!#REF!&IF(语言配置表!#REF!=\"\",\"\",语言配置表!#REF!))","v":{"$error":"#REF!"}}]
[{"$f":"IF(语言配置表!A181=\"\",\"\",语言配置表!A181)","v":""},{"$f":"IF(语言配置表!#REF!=\"\",语言配置表!#REF!&IF(语言配置表!B181=\"\",\"\",语言配置表!B181),语言配置表!#REF!&IF(语言配置表!#REF!=\"\",\"\",语言配置表!#REF!))","v":{"$error":"#REF!"}}]
[{"$f":"IF(语言配置表!A182=\"\",\"\",语言配置表!A182)","v":""},{"$f":"IF(语言配置表!#REF!=\"\",语言配置表!#REF!&IF(语言配置表!B182=\"\",\"\",语言配置表!B182),语言配置表!#REF!&IF(语言配置表!#REF!=\"\",\"\",语言配置表!#REF!))","v":{"$error":"#REF!"}}]
[{"$f":"IF(语言配置表!A183=\"\",\"\",语言配置表!A183)","v":""},{"$f":"IF(语言配置表!#REF!=\"\",语言配置表!#REF!&IF(语言配置表!B183=\"\",\"\",语言配置表!B183),语言配置表!#REF!&IF(语言配置表!#REF!=\"\",\"\",语言配置表!#REF!))","v":{"$error":"#REF!"}}]
[{"$f":"IF(语言配置表!A184=\"\",\"\",语言配置表!A184)","v":""},{"$f":"IF(语言配置表!#REF!=\"\",语言配置表!#REF!&IF(语言配置表!B184=\"\",\"\",语言配置表!B184),语言配置表!#REF!&IF(语言配置表!#REF!=\"\",\"\",语言配置表!#REF!))","v":{"$error":"#REF!"}}]
[{"$f":"IF(语言配置表!A185=\"\",\"\",语言配置表!A185)","v":""},{"$f":"IF(语言配置表!#REF!=\"\",语言配置表!#REF!&IF(语言配置表!B185=\"\",\"\",语言配置表!B185),语言配置表!#REF!&IF(语言配置表!#REF!=\"\",\"\",语言配置表!#REF!))","v":{"$error":"#REF!"}}]

{"sheet":"LanguageEnglishConfig","index":2,"n_rows":214,"n_cols":2,"rows_kept":214,"cut":false,"hidden":false,"merged":[]}
["ID","txt"]
["int","string"]
[]
["ID","英文描述"]
[{"$f":"IF(语言配置表!A5=\"\",\"\",语言配置表!A5)","v":1},{"$f":"IF(语言配置表!#REF!=1,\"\",语言配置表!#REF!&语言配置表!#REF!)&IF(语言配置表!C5=\"\",\"\",语言配置表!C5)","v":{"$error":"#REF!"}}]
[{"$f":"IF(语言配置表!A6=\"\",\"\",语言配置表!A6)","v":2},{"$f":"IF(语言配置表!#REF!=1,\"\",语言配置表!#REF!&语言配置表!#REF!)&IF(语言配置表!C6=\"\",\"\",语言配置表!C6)","v":{"$error":"#REF!"}}]
[{"$f":"IF(语言配置表!A7=\"\",\"\",语言配置表!A7)","v":3},{"$f":"IF(语言配置表!#REF!=1,\"\",语言配置表!#REF!&语言配置表!#REF!)&IF(语言配置表!C7=\"\",\"\",语言配置表!C7)","v":{"$error":"#REF!"}}]
[{"$f":"IF(语言配置表!A8=\"\",\"\",语言配置表!A8)","v":4},{"$f":"IF(语言配置表!#REF!=1,\"\",语言配置表!#REF!&语言配置表!#REF!)&IF(语言配置表!C8=\"\",\"\",语言配置表!C8)","v":{"$error":"#REF!"}}]
[{"$f":"IF(语言配置表!A9=\"\",\"\",语言配置表!A9)","v":5},{"$f":"IF(语言配置表!#REF!=1,\"\",语言配置表!#REF!&语言配置表!#REF!)&IF(语言配置表!C9=\"\",\"\",语言配置表!C9)","v":{"$error":"#REF!"}}]
[{"$f":"IF(语言配置表!A10=\"\",\"\",语言配置表!A10)","v":6},{"$f":"IF(语言配置表!#REF!=1,\"\",语言配置表!#REF!&语言配置表!#REF!)&IF(语言配置表!C10=\"\",\"\",语言配置表!C10)","v":{"$error":"#REF!"}}]
[{"$f":"IF(语言配置表!A11=\"\",\"\",语言配置表!A11)","v":7},{"$f":"IF(语言配置表!#REF!=1,\"\",语言配置表!#REF!&语言配置表!#REF!)&IF(语言配置表!C11=\"\",\"\",语言配置表!C11)","v":{"$error":"#REF!"}}]
[{"$f":"IF(语言配置表!A12=\"\",\"\",语言配置表!A12)","v":8},{"$f":"IF(语言配置表!#REF!=1,\"\",语言配置表!#REF!&语言配置表!#REF!)&IF(语言配置表!C12=\"\",\"\",语言配置表!C12)","v":{"$error":"#REF!"}}]
[{"$f":"IF(语言配置表!A13=\"\",\"\",语言配置表!A13)","v":9},{"$f":"IF(语言配置表!#REF!=1,\"\",语言配置表!#REF!&语言配置表!#REF!)&IF(语言配置表!C13=\"\",\"\",语言配置表!C13)","v":{"$error":"#REF!"}}]
[{"$f":"IF(语言配置表!A14=\"\",\"\",语言配置表!A14)","v":10},{"$f":"IF(语言配置表!#REF!=1,\"\",语言配置表!#REF!&语言配置表!#REF!)&IF(语言配置表!C14=\"\",\"\",语言配置表!C14)","v":{"$error":"#REF!"}}]
[{"$f":"IF(语言配置表!A15=\"\",\"\",语言配置表!A15)","v":11},{"$f":"IF(语言配置表!#REF!=1,\"\",语言配置表!#REF!&语言配置表!#REF!)&IF(语言配置表!C15=\"\",\"\",语言配置表!C15)","v":{"$error":"#REF!"}}]
[{"$f":"IF(语言配置表!A16=\"\",\"\",语言配置表!A16)","v":12},{"$f":"IF(语言配置表!#REF!=1,\"\",语言配置表!#REF!&语言配置表!#REF!)&IF(语言配置表!C16=\"\",\"\",语言配置表!C16)","v":{"$error":"#REF!"}}]
[{"$f":"IF(语言配置表!A17=\"\",\"\",语言配置表!A17)","v":13},{"$f":"IF(语言配置表!#REF!=1,\"\",语言配置表!#REF!&语言配置表!#REF!)&IF(语言配置表!C17=\"\",\"\",语言配置表!C17)","v":{"$error":"#REF!"}}]
[{"$f":"IF(语言配置表!A18=\"\",\"\",语言配置表!A18)","v":14},{"$f":"IF(语言配置表!#REF!=1,\"\",语言配置表!#REF!&语言配置表!#REF!)&IF(语言配置表!C18=\"\",\"\",语言配置表!C18)","v":{"$error":"#REF!"}}]
[{"$f":"IF(语言配置表!A19=\"\",\"\",语言配置表!A19)","v":15},{"$f":"IF(语言配置表!#REF!=1,\"\",语言配置表!#REF!&语言配置表!#REF!)&IF(语言配置表!C19=\"\",\"\",语言配置表!C19)","v":{"$error":"#REF!"}}]
[{"$f":"IF(语言配置表!A20=\"\",\"\",语言配置表!A20)","v":16},{"$f":"IF(语言配置表!#REF!=1,\"\",语言配置表!#REF!&语言配置表!#REF!)&IF(语言配置表!C20=\"\",\"\",语言配置表!C20)","v":{"$error":"#REF!"}}]
[{"$f":"IF(语言配置表!A21=\"\",\"\",语言配置表!A21)","v":17},{"$f":"IF(语言配置表!#REF!=1,\"\",语言配置表!#REF!&语言配置表!#REF!)&IF(语言配置表!C21=\"\",\"\",语言配置表!C21)","v":{"$error":"#REF!"}}]
[{"$f":"IF(语言配置表!A22=\"\",\"\",语言配置表!A22)","v":18},{"$f":"IF(语言配置表!#REF!=1,\"\",语言配置表!#REF!&语言配置表!#REF!)&IF(语言配置表!C22=\"\",\"\",语言配置表!C22)","v":{"$error":"#REF!"}}]
[{"$f":"IF(语言配置表!A23=\"\",\"\",语言配置表!A23)","v":19},{"$f":"IF(语言配置表!#REF!=1,\"\",语言配置表!#REF!&语言配置表!#REF!)&IF(语言配置表!C23=\"\",\"\",语言配置表!C23)","v":{"$error":"#REF!"}}]
[{"$f":"IF(语言配置表!A24=\"\",\"\",语言配置表!A24)","v":20},{"$f":"IF(语言配置表!#REF!=1,\"\",语言配置表!#REF!&语言配置表!#REF!)&IF(语言配置表!C24=\"\",\"\",语言配置表!C24)","v":{"$error":"#REF!"}}]
[{"$f":"IF(语言配置表!A25=\"\",\"\",语言配置表!A25)","v":21},{"$f":"IF(语言配置表!#REF!=1,\"\",语言配置表!#REF!&语言配置表!#REF!)&IF(语言配置表!C25=\"\",\"\",语言配置表!C25)","v":{"$error":"#REF!"}}]
[{"$f":"IF(语言配置表!A26=\"\",\"\",语言配置表!A26)","v":22},{"$f":"IF(语言配置表!#REF!=1,\"\",语言配置表!#REF!&语言配置表!#REF!)&IF(语言配置表!C26=\"\",\"\",语言配置表!C26)","v":{"$error":"#REF!"}}]
[{"$f":"IF(语言配置表!#REF!=\"\",\"\",语言配置表!#REF!)","v":{"$error":"#REF!"}},{"$f":"IF(语言配置表!#REF!=1,\"\",语言配置表!#REF!&语言配置表!#REF!)&IF(语言配置表!#REF!=\"\",\"\",语言配置表!#REF!)","v":{"$error":"#REF!"}}]
[{"$f":"IF(语言配置表!#REF!=\"\",\"\",语言配置表!#REF!)","v":{"$error":"#REF!"}},{"$f":"IF(语言配置表!#REF!=1,\"\",语言配置表!#REF!&语言配置表!#REF!)&IF(语言配置表!#REF!=\"\",\"\",语言配置表!#REF!)","v":{"$error":"#REF!"}}]
[{"$f":"IF(语言配置表!A27=\"\",\"\",语言配置表!A27)","v":23},{"$f":"IF(语言配置表!#REF!=1,\"\",语言配置表!#REF!&语言配置表!#REF!)&IF(语言配置表!C27=\"\",\"\",语言配置表!C27)","v":{"$error":"#REF!"}}]
[{"$f":"IF(语言配置表!A28=\"\",\"\",语言配置表!A28)","v":24},{"$f":"IF(语言配置表!#REF!=1,\"\",语言配置表!#REF!&语言配置表!#REF!)&IF(语言配置表!C28=\"\",\"\",语言配置表!C28)","v":{"$error":"#REF!"}}]
[{"$f":"IF(语言配置表!A29=\"\",\"\",语言配置表!A29)","v":25},{"$f":"IF(语言配置表!#REF!=1,\"\",语言配置表!#REF!&语言配置表!#REF!)&IF(语言配置表!C29=\"\",\"\",语言配置表!C29)","v":{"$error":"#REF!"}}]
[{"$f":"IF(语言配置表!A30=\"\",\"\",语言配置表!A30)","v":26},{"$f":"IF(语言配置表!#REF!=1,\"\",语言配置表!#REF!&语言配置表!#REF!)&IF(语言配置表!C30=\"\",\"\",语言配置表!C30)","v":{"$error":"#REF!"}}]
[{"$f":"IF(语言配置表!#REF!=\"\",\"\",语言配置表!#REF!)","v":{"$error":"#REF!"}},{"$f":"IF(语言配置表!#REF!=1,\"\",语言配置表!#REF!&语言配置表!#REF!)&IF(语言配置表!#REF!=\"\",\"\",语言配置表!#REF!)","v":{"$error":"#REF!"}}]
[{"$f":"IF(语言配置表!#REF!=\"\",\"\",语言配置表!#REF!)","v":{"$error":"#REF!"}},{"$f":"IF(语言配置表!#REF!=1,\"\",语言配置表!#REF!&语言配置表!#REF!)&IF(语言配置表!#REF!=\"\",\"\",语言配置表!#REF!)","v":{"$error":"#REF!"}}]
[{"$f":"IF(语言配置表!A31=\"\",\"\",语言配置表!A31)","v":27},{"$f":"IF(语言配置表!#REF!=1,\"\",语言配置表!#REF!&语言配置表!#REF!)&IF(语言配置表!C31=\"\",\"\",语言配置表!C31)","v":{"$error":"#REF!"}}]
[{"$f":"IF(语言配置表!A32=\"\",\"\",语言配置表!A32)","v":28},{"$f":"IF(语言配置表!#REF!=1,\"\",语言配置表!#REF!&语言配置表!#REF!)&IF(语言配置表!C32=\"\",\"\",语言配置表!C32)","v":{"$error":"#REF!"}}]
[{"$f":"IF(语言配置表!#REF!=\"\",\"\",语言配置表!#REF!)","v":{"$error":"#REF!"}},{"$f":"IF(语言配置表!#REF!=1,\"\",语言配置表!#REF!&语言配置表!#REF!)&IF(语言配置表!#REF!=\"\",\"\",语言配置表!#REF!)","v":{"$error":"#REF!"}}]
[{"$f":"IF(语言配置表!#REF!=\"\",\"\",语言配置表!#REF!)","v":{"$error":"#REF!"}},{"$f":"IF(语言配置表!#REF!=1,\"\",语言配置表!#REF!&语言配置表!#REF!)&IF(语言配置表!#REF!=\"\",\"\",语言配置表!#REF!)","v":{"$error":"#REF!"}}]
[{"$f":"IF(语言配置表!#REF!=\"\",\"\",语言配置表!#REF!)","v":{"$error":"#REF!"}},{"$f":"IF(语言配置表!#REF!=1,\"\",语言配置表!#REF!&语言配置表!#REF!)&IF(语言配置表!#REF!=\"\",\"\",语言配置表!#REF!)","v":{"$error":"#REF!"}}]
[{"$f":"IF(语言配置表!A33=\"\",\"\",语言配置表!A33)","v":29},{"$f":"IF(语言配置表!#REF!=1,\"\",语言配置表!#REF!&语言配置表!#REF!)&IF(语言配置表!C33=\"\",\"\",语言配置表!C33)","v":{"$error":"#REF!"}}]
[{"$f":"IF(语言配置表!A34=\"\",\"\",语言配置表!A34)","v":30},{"$f":"IF(语言配置表!#REF!=1,\"\",语言配置表!#REF!&语言配置表!#REF!)&IF(语言配置表!C34=\"\",\"\",语言配置表!C34)","v":{"$error":"#REF!"}}]
[{"$f":"IF(语言配置表!A35=\"\",\"\",语言配置表!A35)","v":31},{"$f":"IF(语言配置表!#REF!=1,\"\",语言配置表!#REF!&语言配置表!#REF!)&IF(语言配置表!C35=\"\",\"\",语言配置表!C35)","v":{"$error":"#REF!"}}]
[{"$f":"IF(语言配置表!A36=\"\",\"\",语言配置表!A36)","v":""},{"$f":"IF(语言配置表!#REF!=1,\"\",语言配置表!#REF!&语言配置表!#REF!)&IF(语言配置表!C36=\"\",\"\",语言配置表!C36)","v":{"$error":"#REF!"}}]
[{"$f":"IF(语言配置表!A37=\"\",\"\",语言配置表!A37)","v":""},{"$f":"IF(语言配置表!#REF!=1,\"\",语言配置表!#REF!&语言配置表!#REF!)&IF(语言配置表!C37=\"\",\"\",语言配置表!C37)","v":{"$error":"#REF!"}}]
[{"$f":"IF(语言配置表!A38=\"\",\"\",语言配置表!A38)","v":""},{"$f":"IF(语言配置表!#REF!=1,\"\",语言配置表!#REF!&语言配置表!#REF!)&IF(语言配置表!C38=\"\",\"\",语言配置表!C38)","v":{"$error":"#REF!"}}]
[{"$f":"IF(语言配置表!A39=\"\",\"\",语言配置表!A39)","v":""},{"$f":"IF(语言配置表!#REF!=1,\"\",语言配置表!#REF!&语言配置表!#REF!)&IF(语言配置表!C39=\"\",\"\",语言配置表!C39)","v":{"$error":"#REF!"}}]
[{"$f":"IF(语言配置表!A40=\"\",\"\",语言配置表!A40)","v":""},{"$f":"IF(语言配置表!#REF!=1,\"\",语言配置表!#REF!&语言配置表!#REF!)&IF(语言配置表!C40=\"\",\"\",语言配置表!C40)","v":{"$error":"#REF!"}}]
[{"$f":"IF(语言配置表!A41=\"\",\"\",语言配置表!A41)","v":""},{"$f":"IF(语言配置表!#REF!=1,\"\",语言配置表!#REF!&语言配置表!#REF!)&IF(语言配置表!C41=\"\",\"\",语言配置表!C41)","v":{"$error":"#REF!"}}]
[{"$f":"IF(语言配置表!A42=\"\",\"\",语言配置表!A42)","v":""},{"$f":"IF(语言配置表!#REF!=1,\"\",语言配置表!#REF!&语言配置表!#REF!)&IF(语言配置表!C42=\"\",\"\",语言配置表!C42)","v":{"$error":"#REF!"}}]
[{"$f":"IF(语言配置表!A43=\"\",\"\",语言配置表!A43)","v":""},{"$f":"IF(语言配置表!#REF!=1,\"\",语言配置表!#REF!&语言配置表!#REF!)&IF(语言配置表!C43=\"\",\"\",语言配置表!C43)","v":{"$error":"#REF!"}}]
[{"$f":"IF(语言配置表!A44=\"\",\"\",语言配置表!A44)","v":""},{"$f":"IF(语言配置表!#REF!=1,\"\",语言配置表!#REF!&语言配置表!#REF!)&IF(语言配置表!C44=\"\",\"\",语言配置表!C44)","v":{"$error":"#REF!"}}]
[{"$f":"IF(语言配置表!A45=\"\",\"\",语言配置表!A45)","v":""},{"$f":"IF(语言配置表!#REF!=1,\"\",语言配置表!#REF!&语言配置表!#REF!)&IF(语言配置表!C45=\"\",\"\",语言配置表!C45)","v":{"$error":"#REF!"}}]
[{"$f":"IF(语言配置表!A46=\"\",\"\",语言配置表!A46)","v":""},{"$f":"IF(语言配置表!#REF!=1,\"\",语言配置表!#REF!&语言配置表!#REF!)&IF(语言配置表!C46=\"\",\"\",语言配置表!C46)","v":{"$error":"#REF!"}}]
[{"$f":"IF(语言配置表!A47=\"\",\"\",语言配置表!A47)","v":""},{"$f":"IF(语言配置表!#REF!=1,\"\",语言配置表!#REF!&语言配置表!#REF!)&IF(语言配置表!C47=\"\",\"\",语言配置表!C47)","v":{"$error":"#REF!"}}]
[{"$f":"IF(语言配置表!A48=\"\",\"\",语言配置表!A48)","v":""},{"$f":"IF(语言配置表!#REF!=1,\"\",语言配置表!#REF!&语言配置表!#REF!)&IF(语言配置表!C48=\"\",\"\",语言配置表!C48)","v":{"$error":"#REF!"}}]
[{"$f":"IF(语言配置表!A49=\"\",\"\",语言配置表!A49)","v":""},{"$f":"IF(语言配置表!#REF!=1,\"\",语言配置表!#REF!&语言配置表!#REF!)&IF(语言配置表!C49=\"\",\"\",语言配置表!C49)","v":{"$error":"#REF!"}}]
[{"$f":"IF(语言配置表!A50=\"\",\"\",语言配置表!A50)","v":""},{"$f":"IF(语言配置表!#REF!=1,\"\",语言配置表!#REF!&语言配置表!#REF!)&IF(语言配置表!C50=\"\",\"\",语言配置表!C50)","v":{"$error":"#REF!"}}]
[{"$f":"IF(语言配置表!A51=\"\",\"\",语言配置表!A51)","v":""},{"$f":"IF(语言配置表!#REF!=1,\"\",语言配置表!#REF!&语言配置表!#REF!)&IF(语言配置表!C51=\"\",\"\",语言配置表!C51)","v":{"$error":"#REF!"}}]
[{"$f":"IF(语言配置表!A52=\"\",\"\",语言配置表!A52)","v":""},{"$f":"IF(语言配置表!#REF!=1,\"\",语言配置表!#REF!&语言配置表!#REF!)&IF(语言配置表!C52=\"\",\"\",语言配置表!C52)","v":{"$error":"#REF!"}}]
[{"$f":"IF(语言配置表!A53=\"\",\"\",语言配置表!A53)","v":""},{"$f":"IF(语言配置表!#REF!=1,\"\",语言配置表!#REF!&语言配置表!#REF!)&IF(语言配置表!C53=\"\",\"\",语言配置表!C53)","v":{"$error":"#REF!"}}]
[{"$f":"IF(语言配置表!A54=\"\",\"\",语言配置表!A54)","v":""},{"$f":"IF(语言配置表!#REF!=1,\"\",语言配置表!#REF!&语言配置表!#REF!)&IF(语言配置表!C54=\"\",\"\",语言配置表!C54)","v":{"$error":"#REF!"}}]
[{"$f":"IF(语言配置表!A55=\"\",\"\",语言配置表!A55)","v":""},{"$f":"IF(语言配置表!#REF!=1,\"\",语言配置表!#REF!&语言配置表!#REF!)&IF(语言配置表!C55=\"\",\"\",语言配置表!C55)","v":{"$error":"#REF!"}}]
[{"$f":"IF(语言配置表!A56=\"\",\"\",语言配置表!A56)","v":""},{"$f":"IF(语言配置表!#REF!=1,\"\",语言配置表!#REF!&语言配置表!#REF!)&IF(语言配置表!C56=\"\",\"\",语言配置表!C56)","v":{"$error":"#REF!"}}]
[{"$f":"IF(语言配置表!A57=\"\",\"\",语言配置表!A57)","v":""},{"$f":"IF(语言配置表!#REF!=1,\"\",语言配置表!#REF!&语言配置表!#REF!)&IF(语言配置表!C57=\"\",\"\",语言配置表!C57)","v":{"$error":"#REF!"}}]
[{"$f":"IF(语言配置表!A58=\"\",\"\",语言配置表!A58)","v":""},{"$f":"IF(语言配置表!#REF!=1,\"\",语言配置表!#REF!&语言配置表!#REF!)&IF(语言配置表!C58=\"\",\"\",语言配置表!C58)","v":{"$error":"#REF!"}}]
[{"$f":"IF(语言配置表!A59=\"\",\"\",语言配置表!A59)","v":""},{"$f":"IF(语言配置表!#REF!=1,\"\",语言配置表!#REF!&语言配置表!#REF!)&IF(语言配置表!C59=\"\",\"\",语言配置表!C59)","v":{"$error":"#REF!"}}]
[{"$f":"IF(语言配置表!A60=\"\",\"\",语言配置表!A60)","v":""},{"$f":"IF(语言配置表!#REF!=1,\"\",语言配置表!#REF!&语言配置表!#REF!)&IF(语言配置表!C60=\"\",\"\",语言配置表!C60)","v":{"$error":"#REF!"}}]
[{"$f":"IF(语言配置表!A61=\"\",\"\",语言配置表!A61)","v":""},{"$f":"IF(语言配置表!#REF!=1,\"\",语言配置表!#REF!&语言配置表!#REF!)&IF(语言配置表!C61=\"\",\"\",语言配置表!C61)","v":{"$error":"#REF!"}}]
[{"$f":"IF(语言配置表!A62=\"\",\"\",语言配置表!A62)","v":""},{"$f":"IF(语言配置表!#REF!=1,\"\",语言配置表!#REF!&语言配置表!#REF!)&IF(语言配置表!C62=\"\",\"\",语言配置表!C62)","v":{"$error":"#REF!"}}]
[{"$f":"IF(语言配置表!A63=\"\",\"\",语言配置表!A63)","v":""},{"$f":"IF(语言配置表!#REF!=1,\"\",语言配置表!#REF!&语言配置表!#REF!)&IF(语言配置表!C63=\"\",\"\",语言配置表!C63)","v":{"$error":"#REF!"}}]
[{"$f":"IF(语言配置表!A64=\"\",\"\",语言配置表!A64)","v":""},{"$f":"IF(语言配置表!#REF!=1,\"\",语言配置表!#REF!&语言配置表!#REF!)&IF(语言配置表!C64=\"\",\"\",语言配置表!C64)","v":{"$error":"#REF!"}}]
[{"$f":"IF(语言配置表!A65=\"\",\"\",语言配置表!A65)","v":""},{"$f":"IF(语言配置表!#REF!=1,\"\",语言配置表!#REF!&语言配置表!#REF!)&IF(语言配置表!C65=\"\",\"\",语言配置表!C65)","v":{"$error":"#REF!"}}]
[{"$f":"IF(语言配置表!A66=\"\",\"\",语言配置表!A66)","v":""},{"$f":"IF(语言配置表!#REF!=1,\"\",语言配置表!#REF!&语言配置表!#REF!)&IF(语言配置表!C66=\"\",\"\",语言配置表!C66)","v":{"$error":"#REF!"}}]
[{"$f":"IF(语言配置表!A67=\"\",\"\",语言配置表!A67)","v":""},{"$f":"IF(语言配置表!#REF!=1,\"\",语言配置表!#REF!&语言配置表!#REF!)&IF(语言配置表!C67=\"\",\"\",语言配置表!C67)","v":{"$error":"#REF!"}}]
[{"$f":"IF(语言配置表!A68=\"\",\"\",语言配置表!A68)","v":""},{"$f":"IF(语言配置表!#REF!=1,\"\",语言配置表!#REF!&语言配置表!#REF!)&IF(语言配置表!C68=\"\",\"\",语言配置表!C68)","v":{"$error":"#REF!"}}]
[{"$f":"IF(语言配置表!A69=\"\",\"\",语言配置表!A69)","v":""},{"$f":"IF(语言配置表!#REF!=1,\"\",语言配置表!#REF!&语言配置表!#REF!)&IF(语言配置表!C69=\"\",\"\",语言配置表!C69)","v":{"$error":"#REF!"}}]
[{"$f":"IF(语言配置表!A70=\"\",\"\",语言配置表!A70)","v":""},{"$f":"IF(语言配置表!#REF!=1,\"\",语言配置表!#REF!&语言配置表!#REF!)&IF(语言配置表!C70=\"\",\"\",语言配置表!C70)","v":{"$error":"#REF!"}}]
[{"$f":"IF(语言配置表!A71=\"\",\"\",语言配置表!A71)","v":""},{"$f":"IF(语言配置表!#REF!=1,\"\",语言配置表!#REF!&语言配置表!#REF!)&IF(语言配置表!C71=\"\",\"\",语言配置表!C71)","v":{"$error":"#REF!"}}]
[{"$f":"IF(语言配置表!A72=\"\",\"\",语言配置表!A72)","v":""},{"$f":"IF(语言配置表!#REF!=1,\"\",语言配置表!#REF!&语言配置表!#REF!)&IF(语言配置表!C72=\"\",\"\",语言配置表!C72)","v":{"$error":"#REF!"}}]
[{"$f":"IF(语言配置表!A73=\"\",\"\",语言配置表!A73)","v":""},{"$f":"IF(语言配置表!#REF!=1,\"\",语言配置表!#REF!&语言配置表!#REF!)&IF(语言配置表!C73=\"\",\"\",语言配置表!C73)","v":{"$error":"#REF!"}}]
[{"$f":"IF(语言配置表!A74=\"\",\"\",语言配置表!A74)","v":""},{"$f":"IF(语言配置表!#REF!=1,\"\",语言配置表!#REF!&语言配置表!#REF!)&IF(语言配置表!C74=\"\",\"\",语言配置表!C74)","v":{"$error":"#REF!"}}]
[{"$f":"IF(语言配置表!A75=\"\",\"\",语言配置表!A75)","v":""},{"$f":"IF(语言配置表!#REF!=1,\"\",语言配置表!#REF!&语言配置表!#REF!)&IF(语言配置表!C75=\"\",\"\",语言配置表!C75)","v":{"$error":"#REF!"}}]
[{"$f":"IF(语言配置表!A76=\"\",\"\",语言配置表!A76)","v":""},{"$f":"IF(语言配置表!#REF!=1,\"\",语言配置表!#REF!&语言配置表!#REF!)&IF(语言配置表!C76=\"\",\"\",语言配置表!C76)","v":{"$error":"#REF!"}}]
[{"$f":"IF(语言配置表!A77=\"\",\"\",语言配置表!A77)","v":""},{"$f":"IF(语言配置表!#REF!=1,\"\",语言配置表!#REF!&语言配置表!#REF!)&IF(语言配置表!C77=\"\",\"\",语言配置表!C77)","v":{"$error":"#REF!"}}]
[{"$f":"IF(语言配置表!A78=\"\",\"\",语言配置表!A78)","v":""},{"$f":"IF(语言配置表!#REF!=1,\"\",语言配置表!#REF!&语言配置表!#REF!)&IF(语言配置表!C78=\"\",\"\",语言配置表!C78)","v":{"$error":"#REF!"}}]
[{"$f":"IF(语言配置表!A79=\"\",\"\",语言配置表!A79)","v":""},{"$f":"IF(语言配置表!#REF!=1,\"\",语言配置表!#REF!&语言配置表!#REF!)&IF(语言配置表!C79=\"\",\"\",语言配置表!C79)","v":{"$error":"#REF!"}}]
[{"$f":"IF(语言配置表!A80=\"\",\"\",语言配置表!A80)","v":""},{"$f":"IF(语言配置表!#REF!=1,\"\",语言配置表!#REF!&语言配置表!#REF!)&IF(语言配置表!C80=\"\",\"\",语言配置表!C80)","v":{"$error":"#REF!"}}]
[{"$f":"IF(语言配置表!A81=\"\",\"\",语言配置表!A81)","v":""},{"$f":"IF(语言配置表!#REF!=1,\"\",语言配置表!#REF!&语言配置表!#REF!)&IF(语言配置表!C81=\"\",\"\",语言配置表!C81)","v":{"$error":"#REF!"}}]
[{"$f":"IF(语言配置表!A82=\"\",\"\",语言配置表!A82)","v":""},{"$f":"IF(语言配置表!#REF!=1,\"\",语言配置表!#REF!&语言配置表!#REF!)&IF(语言配置表!C82=\"\",\"\",语言配置表!C82)","v":{"$error":"#REF!"}}]
[{"$f":"IF(语言配置表!A83=\"\",\"\",语言配置表!A83)","v":""},{"$f":"IF(语言配置表!#REF!=1,\"\",语言配置表!#REF!&语言配置表!#REF!)&IF(语言配置表!C83=\"\",\"\",语言配置表!C83)","v":{"$error":"#REF!"}}]
[{"$f":"IF(语言配置表!A84=\"\",\"\",语言配置表!A84)","v":""},{"$f":"IF(语言配置表!#REF!=1,\"\",语言配置表!#REF!&语言配置表!#REF!)&IF(语言配置表!C84=\"\",\"\",语言配置表!C84)","v":{"$error":"#REF!"}}]
[{"$f":"IF(语言配置表!A85=\"\",\"\",语言配置表!A85)","v":""},{"$f":"IF(语言配置表!#REF!=1,\"\",语言配置表!#REF!&语言配置表!#REF!)&IF(语言配置表!C85=\"\",\"\",语言配置表!C85)","v":{"$error":"#REF!"}}]
[{"$f":"IF(语言配置表!A86=\"\",\"\",语言配置表!A86)","v":""},{"$f":"IF(语言配置表!#REF!=1,\"\",语言配置表!#REF!&语言配置表!#REF!)&IF(语言配置表!C86=\"\",\"\",语言配置表!C86)","v":{"$error":"#REF!"}}]
[{"$f":"IF(语言配置表!A87=\"\",\"\",语言配置表!A87)","v":""},{"$f":"IF(语言配置表!#REF!=1,\"\",语言配置表!#REF!&语言配置表!#REF!)&IF(语言配置表!C87=\"\",\"\",语言配置表!C87)","v":{"$error":"#REF!"}}]
[{"$f":"IF(语言配置表!A88=\"\",\"\",语言配置表!A88)","v":""},{"$f":"IF(语言配置表!#REF!=1,\"\",语言配置表!#REF!&语言配置表!#REF!)&IF(语言配置表!C88=\"\",\"\",语言配置表!C88)","v":{"$error":"#REF!"}}]
[{"$f":"IF(语言配置表!A89=\"\",\"\",语言配置表!A89)","v":""},{"$f":"IF(语言配置表!#REF!=1,\"\",语言配置表!#REF!&语言配置表!#REF!)&IF(语言配置表!C89=\"\",\"\",语言配置表!C89)","v":{"$error":"#REF!"}}]
[{"$f":"IF(语言配置表!A90=\"\",\"\",语言配置表!A90)","v":""},{"$f":"IF(语言配置表!#REF!=1,\"\",语言配置表!#REF!&语言配置表!#REF!)&IF(语言配置表!C90=\"\",\"\",语言配置表!C90)","v":{"$error":"#REF!"}}]
[{"$f":"IF(语言配置表!A91=\"\",\"\",语言配置表!A91)","v":""},{"$f":"IF(语言配置表!#REF!=1,\"\",语言配置表!#REF!&语言配置表!#REF!)&IF(语言配置表!C91=\"\",\"\",语言配置表!C91)","v":{"$error":"#REF!"}}]
[{"$f":"IF(语言配置表!A92=\"\",\"\",语言配置表!A92)","v":""},{"$f":"IF(语言配置表!#REF!=1,\"\",语言配置表!#REF!&语言配置表!#REF!)&IF(语言配置表!C92=\"\",\"\",语言配置表!C92)","v":{"$error":"#REF!"}}]
[{"$f":"IF(语言配置表!A93=\"\",\"\",语言配置表!A93)","v":""},{"$f":"IF(语言配置表!#REF!=1,\"\",语言配置表!#REF!&语言配置表!#REF!)&IF(语言配置表!C93=\"\",\"\",语言配置表!C93)","v":{"$error":"#REF!"}}]
[{"$f":"IF(语言配置表!A94=\"\",\"\",语言配置表!A94)","v":""},{"$f":"IF(语言配置表!#REF!=1,\"\",语言配置表!#REF!&语言配置表!#REF!)&IF(语言配置表!C94=\"\",\"\",语言配置表!C94)","v":{"$error":"#REF!"}}]
[{"$f":"IF(语言配置表!A95=\"\",\"\",语言配置表!A95)","v":""},{"$f":"IF(语言配置表!#REF!=1,\"\",语言配置表!#REF!&语言配置表!#REF!)&IF(语言配置表!C95=\"\",\"\",语言配置表!C95)","v":{"$error":"#REF!"}}]
[{"$f":"IF(语言配置表!A96=\"\",\"\",语言配置表!A96)","v":""},{"$f":"IF(语言配置表!#REF!=1,\"\",语言配置表!#REF!&语言配置表!#REF!)&IF(语言配置表!C96=\"\",\"\",语言配置表!C96)","v":{"$error":"#REF!"}}]
[{"$f":"IF(语言配置表!A97=\"\",\"\",语言配置表!A97)","v":""},{"$f":"IF(语言配置表!#REF!=1,\"\",语言配置表!#REF!&语言配置表!#REF!)&IF(语言配置表!C97=\"\",\"\",语言配置表!C97)","v":{"$error":"#REF!"}}]
[{"$f":"IF(语言配置表!A98=\"\",\"\",语言配置表!A98)","v":""},{"$f":"IF(语言配置表!#REF!=1,\"\",语言配置表!#REF!&语言配置表!#REF!)&IF(语言配置表!C98=\"\",\"\",语言配置表!C98)","v":{"$error":"#REF!"}}]
[{"$f":"IF(语言配置表!A99=\"\",\"\",语言配置表!A99)","v":""},{"$f":"IF(语言配置表!#REF!=1,\"\",语言配置表!#REF!&语言配置表!#REF!)&IF(语言配置表!C99=\"\",\"\",语言配置表!C99)","v":{"$error":"#REF!"}}]
[{"$f":"IF(语言配置表!A100=\"\",\"\",语言配置表!A100)","v":""},{"$f":"IF(语言配置表!#REF!=1,\"\",语言配置表!#REF!&语言配置表!#REF!)&IF(语言配置表!C100=\"\",\"\",语言配置表!C100)","v":{"$error":"#REF!"}}]
[{"$f":"IF(语言配置表!A101=\"\",\"\",语言配置表!A101)","v":""},{"$f":"IF(语言配置表!#REF!=1,\"\",语言配置表!#REF!&语言配置表!#REF!)&IF(语言配置表!C101=\"\",\"\",语言配置表!C101)","v":{"$error":"#REF!"}}]
[{"$f":"IF(语言配置表!A102=\"\",\"\",语言配置表!A102)","v":""},{"$f":"IF(语言配置表!#REF!=1,\"\",语言配置表!#REF!&语言配置表!#REF!)&IF(语言配置表!C102=\"\",\"\",语言配置表!C102)","v":{"$error":"#REF!"}}]
[{"$f":"IF(语言配置表!A103=\"\",\"\",语言配置表!A103)","v":""},{"$f":"IF(语言配置表!#REF!=1,\"\",语言配置表!#REF!&语言配置表!#REF!)&IF(语言配置表!C103=\"\",\"\",语言配置表!C103)","v":{"$error":"#REF!"}}]
[{"$f":"IF(语言配置表!A104=\"\",\"\",语言配置表!A104)","v":""},{"$f":"IF(语言配置表!#REF!=1,\"\",语言配置表!#REF!&语言配置表!#REF!)&IF(语言配置表!C104=\"\",\"\",语言配置表!C104)","v":{"$error":"#REF!"}}]
[{"$f":"IF(语言配置表!A105=\"\",\"\",语言配置表!A105)","v":""},{"$f":"IF(语言配置表!#REF!=1,\"\",语言配置表!#REF!&语言配置表!#REF!)&IF(语言配置表!C105=\"\",\"\",语言配置表!C105)","v":{"$error":"#REF!"}}]
[{"$f":"IF(语言配置表!A106=\"\",\"\",语言配置表!A106)","v":""},{"$f":"IF(语言配置表!#REF!=1,\"\",语言配置表!#REF!&语言配置表!#REF!)&IF(语言配置表!C106=\"\",\"\",语言配置表!C106)","v":{"$error":"#REF!"}}]
[{"$f":"IF(语言配置表!A107=\"\",\"\",语言配置表!A107)","v":""},{"$f":"IF(语言配置表!#REF!=1,\"\",语言配置表!#REF!&语言配置表!#REF!)&IF(语言配置表!C107=\"\",\"\",语言配置表!C107)","v":{"$error":"#REF!"}}]
[{"$f":"IF(语言配置表!A108=\"\",\"\",语言配置表!A108)","v":""},{"$f":"IF(语言配置表!#REF!=1,\"\",语言配置表!#REF!&语言配置表!#REF!)&IF(语言配置表!C108=\"\",\"\",语言配置表!C108)","v":{"$error":"#REF!"}}]
[{"$f":"IF(语言配置表!A109=\"\",\"\",语言配置表!A109)","v":""},{"$f":"IF(语言配置表!#REF!=1,\"\",语言配置表!#REF!&语言配置表!#REF!)&IF(语言配置表!C109=\"\",\"\",语言配置表!C109)","v":{"$error":"#REF!"}}]
[{"$f":"IF(语言配置表!A110=\"\",\"\",语言配置表!A110)","v":""},{"$f":"IF(语言配置表!#REF!=1,\"\",语言配置表!#REF!&语言配置表!#REF!)&IF(语言配置表!C110=\"\",\"\",语言配置表!C110)","v":{"$error":"#REF!"}}]
[{"$f":"IF(语言配置表!A111=\"\",\"\",语言配置表!A111)","v":""},{"$f":"IF(语言配置表!#REF!=1,\"\",语言配置表!#REF!&语言配置表!#REF!)&IF(语言配置表!C111=\"\",\"\",语言配置表!C111)","v":{"$error":"#REF!"}}]
[{"$f":"IF(语言配置表!A112=\"\",\"\",语言配置表!A112)","v":""},{"$f":"IF(语言配置表!#REF!=1,\"\",语言配置表!#REF!&语言配置表!#REF!)&IF(语言配置表!C112=\"\",\"\",语言配置表!C112)","v":{"$error":"#REF!"}}]
[{"$f":"IF(语言配置表!A113=\"\",\"\",语言配置表!A113)","v":""},{"$f":"IF(语言配置表!#REF!=1,\"\",语言配置表!#REF!&语言配置表!#REF!)&IF(语言配置表!C113=\"\",\"\",语言配置表!C113)","v":{"$error":"#REF!"}}]
[{"$f":"IF(语言配置表!A114=\"\",\"\",语言配置表!A114)","v":""},{"$f":"IF(语言配置表!#REF!=1,\"\",语言配置表!#REF!&语言配置表!#REF!)&IF(语言配置表!C114=\"\",\"\",语言配置表!C114)","v":{"$error":"#REF!"}}]
[{"$f":"IF(语言配置表!A115=\"\",\"\",语言配置表!A115)","v":""},{"$f":"IF(语言配置表!#REF!=1,\"\",语言配置表!#REF!&语言配置表!#REF!)&IF(语言配置表!C115=\"\",\"\",语言配置表!C115)","v":{"$error":"#REF!"}}]
[{"$f":"IF(语言配置表!A116=\"\",\"\",语言配置表!A116)","v":""},{"$f":"IF(语言配置表!#REF!=1,\"\",语言配置表!#REF!&语言配置表!#REF!)&IF(语言配置表!C116=\"\",\"\",语言配置表!C116)","v":{"$error":"#REF!"}}]
[{"$f":"IF(语言配置表!A117=\"\",\"\",语言配置表!A117)","v":""},{"$f":"IF(语言配置表!#REF!=1,\"\",语言配置表!#REF!&语言配置表!#REF!)&IF(语言配置表!C117=\"\",\"\",语言配置表!C117)","v":{"$error":"#REF!"}}]
[{"$f":"IF(语言配置表!A118=\"\",\"\",语言配置表!A118)","v":""},{"$f":"IF(语言配置表!#REF!=1,\"\",语言配置表!#REF!&语言配置表!#REF!)&IF(语言配置表!C118=\"\",\"\",语言配置表!C118)","v":{"$error":"#REF!"}}]
[{"$f":"IF(语言配置表!A119=\"\",\"\",语言配置表!A119)","v":""},{"$f":"IF(语言配置表!#REF!=1,\"\",语言配置表!#REF!&语言配置表!#REF!)&IF(语言配置表!C119=\"\",\"\",语言配置表!C119)","v":{"$error":"#REF!"}}]
[{"$f":"IF(语言配置表!A120=\"\",\"\",语言配置表!A120)","v":""},{"$f":"IF(语言配置表!#REF!=1,\"\",语言配置表!#REF!&语言配置表!#REF!)&IF(语言配置表!C120=\"\",\"\",语言配置表!C120)","v":{"$error":"#REF!"}}]
[{"$f":"IF(语言配置表!A121=\"\",\"\",语言配置表!A121)","v":""},{"$f":"IF(语言配置表!#REF!=1,\"\",语言配置表!#REF!&语言配置表!#REF!)&IF(语言配置表!C121=\"\",\"\",语言配置表!C121)","v":{"$error":"#REF!"}}]
[{"$f":"IF(语言配置表!A122=\"\",\"\",语言配置表!A122)","v":""},{"$f":"IF(语言配置表!#REF!=1,\"\",语言配置表!#REF!&语言配置表!#REF!)&IF(语言配置表!C122=\"\",\"\",语言配置表!C122)","v":{"$error":"#REF!"}}]
[{"$f":"IF(语言配置表!A123=\"\",\"\",语言配置表!A123)","v":""},{"$f":"IF(语言配置表!#REF!=1,\"\",语言配置表!#REF!&语言配置表!#REF!)&IF(语言配置表!C123=\"\",\"\",语言配置表!C123)","v":{"$error":"#REF!"}}]
[{"$f":"IF(语言配置表!A124=\"\",\"\",语言配置表!A124)","v":""},{"$f":"IF(语言配置表!#REF!=1,\"\",语言配置表!#REF!&语言配置表!#REF!)&IF(语言配置表!C124=\"\",\"\",语言配置表!C124)","v":{"$error":"#REF!"}}]
[{"$f":"IF(语言配置表!A125=\"\",\"\",语言配置表!A125)","v":""},{"$f":"IF(语言配置表!#REF!=1,\"\",语言配置表!#REF!&语言配置表!#REF!)&IF(语言配置表!C125=\"\",\"\",语言配置表!C125)","v":{"$error":"#REF!"}}]
[{"$f":"IF(语言配置表!A126=\"\",\"\",语言配置表!A126)","v":""},{"$f":"IF(语言配置表!#REF!=1,\"\",语言配置表!#REF!&语言配置表!#REF!)&IF(语言配置表!C126=\"\",\"\",语言配置表!C126)","v":{"$error":"#REF!"}}]
[{"$f":"IF(语言配置表!A127=\"\",\"\",语言配置表!A127)","v":""},{"$f":"IF(语言配置表!#REF!=1,\"\",语言配置表!#REF!&语言配置表!#REF!)&IF(语言配置表!C127=\"\",\"\",语言配置表!C127)","v":{"$error":"#REF!"}}]
[{"$f":"IF(语言配置表!A128=\"\",\"\",语言配置表!A128)","v":""},{"$f":"IF(语言配置表!#REF!=1,\"\",语言配置表!#REF!&语言配置表!#REF!)&IF(语言配置表!C128=\"\",\"\",语言配置表!C128)","v":{"$error":"#REF!"}}]
[{"$f":"IF(语言配置表!A129=\"\",\"\",语言配置表!A129)","v":""},{"$f":"IF(语言配置表!#REF!=1,\"\",语言配置表!#REF!&语言配置表!#REF!)&IF(语言配置表!C129=\"\",\"\",语言配置表!C129)","v":{"$error":"#REF!"}}]
[{"$f":"IF(语言配置表!A130=\"\",\"\",语言配置表!A130)","v":""},{"$f":"IF(语言配置表!#REF!=1,\"\",语言配置表!#REF!&语言配置表!#REF!)&IF(语言配置表!C130=\"\",\"\",语言配置表!C130)","v":{"$error":"#REF!"}}]
[{"$f":"IF(语言配置表!A131=\"\",\"\",语言配置表!A131)","v":""},{"$f":"IF(语言配置表!#REF!=1,\"\",语言配置表!#REF!&语言配置表!#REF!)&IF(语言配置表!C131=\"\",\"\",语言配置表!C131)","v":{"$error":"#REF!"}}]
[{"$f":"IF(语言配置表!A132=\"\",\"\",语言配置表!A132)","v":""},{"$f":"IF(语言配置表!#REF!=1,\"\",语言配置表!#REF!&语言配置表!#REF!)&IF(语言配置表!C132=\"\",\"\",语言配置表!C132)","v":{"$error":"#REF!"}}]
[{"$f":"IF(语言配置表!A133=\"\",\"\",语言配置表!A133)","v":""},{"$f":"IF(语言配置表!#REF!=1,\"\",语言配置表!#REF!&语言配置表!#REF!)&IF(语言配置表!C133=\"\",\"\",语言配置表!C133)","v":{"$error":"#REF!"}}]
[{"$f":"IF(语言配置表!A134=\"\",\"\",语言配置表!A134)","v":""},{"$f":"IF(语言配置表!#REF!=1,\"\",语言配置表!#REF!&语言配置表!#REF!)&IF(语言配置表!C134=\"\",\"\",语言配置表!C134)","v":{"$error":"#REF!"}}]
[{"$f":"IF(语言配置表!A135=\"\",\"\",语言配置表!A135)","v":""},{"$f":"IF(语言配置表!#REF!=1,\"\",语言配置表!#REF!&语言配置表!#REF!)&IF(语言配置表!C135=\"\",\"\",语言配置表!C135)","v":{"$error":"#REF!"}}]
[{"$f":"IF(语言配置表!A136=\"\",\"\",语言配置表!A136)","v":""},{"$f":"IF(语言配置表!#REF!=1,\"\",语言配置表!#REF!&语言配置表!#REF!)&IF(语言配置表!C136=\"\",\"\",语言配置表!C136)","v":{"$error":"#REF!"}}]
[{"$f":"IF(语言配置表!A137=\"\",\"\",语言配置表!A137)","v":""},{"$f":"IF(语言配置表!#REF!=1,\"\",语言配置表!#REF!&语言配置表!#REF!)&IF(语言配置表!C137=\"\",\"\",语言配置表!C137)","v":{"$error":"#REF!"}}]
[{"$f":"IF(语言配置表!A138=\"\",\"\",语言配置表!A138)","v":""},{"$f":"IF(语言配置表!#REF!=1,\"\",语言配置表!#REF!&语言配置表!#REF!)&IF(语言配置表!C138=\"\",\"\",语言配置表!C138)","v":{"$error":"#REF!"}}]
[{"$f":"IF(语言配置表!A139=\"\",\"\",语言配置表!A139)","v":""},{"$f":"IF(语言配置表!#REF!=1,\"\",语言配置表!#REF!&语言配置表!#REF!)&IF(语言配置表!C139=\"\",\"\",语言配置表!C139)","v":{"$error":"#REF!"}}]
[{"$f":"IF(语言配置表!A140=\"\",\"\",语言配置表!A140)","v":""},{"$f":"IF(语言配置表!#REF!=1,\"\",语言配置表!#REF!&语言配置表!#REF!)&IF(语言配置表!C140=\"\",\"\",语言配置表!C140)","v":{"$error":"#REF!"}}]
[{"$f":"IF(语言配置表!A141=\"\",\"\",语言配置表!A141)","v":""},{"$f":"IF(语言配置表!#REF!=1,\"\",语言配置表!#REF!&语言配置表!#REF!)&IF(语言配置表!C141=\"\",\"\",语言配置表!C141)","v":{"$error":"#REF!"}}]
[{"$f":"IF(语言配置表!A142=\"\",\"\",语言配置表!A142)","v":""},{"$f":"IF(语言配置表!#REF!=1,\"\",语言配置表!#REF!&语言配置表!#REF!)&IF(语言配置表!C142=\"\",\"\",语言配置表!C142)","v":{"$error":"#REF!"}}]
[{"$f":"IF(语言配置表!A143=\"\",\"\",语言配置表!A143)","v":""},{"$f":"IF(语言配置表!#REF!=1,\"\",语言配置表!#REF!&语言配置表!#REF!)&IF(语言配置表!C143=\"\",\"\",语言配置表!C143)","v":{"$error":"#REF!"}}]
[{"$f":"IF(语言配置表!A144=\"\",\"\",语言配置表!A144)","v":""},{"$f":"IF(语言配置表!#REF!=1,\"\",语言配置表!#REF!&语言配置表!#REF!)&IF(语言配置表!C144=\"\",\"\",语言配置表!C144)","v":{"$error":"#REF!"}}]
[{"$f":"IF(语言配置表!A145=\"\",\"\",语言配置表!A145)","v":""},{"$f":"IF(语言配置表!#REF!=1,\"\",语言配置表!#REF!&语言配置表!#REF!)&IF(语言配置表!C145=\"\",\"\",语言配置表!C145)","v":{"$error":"#REF!"}}]
[{"$f":"IF(语言配置表!A146=\"\",\"\",语言配置表!A146)","v":""},{"$f":"IF(语言配置表!#REF!=1,\"\",语言配置表!#REF!&语言配置表!#REF!)&IF(语言配置表!C146=\"\",\"\",语言配置表!C146)","v":{"$error":"#REF!"}}]
[{"$f":"IF(语言配置表!A147=\"\",\"\",语言配置表!A147)","v":""},{"$f":"IF(语言配置表!#REF!=1,\"\",语言配置表!#REF!&语言配置表!#REF!)&IF(语言配置表!C147=\"\",\"\",语言配置表!C147)","v":{"$error":"#REF!"}}]
[{"$f":"IF(语言配置表!A148=\"\",\"\",语言配置表!A148)","v":""},{"$f":"IF(语言配置表!#REF!=1,\"\",语言配置表!#REF!&语言配置表!#REF!)&IF(语言配置表!C148=\"\",\"\",语言配置表!C148)","v":{"$error":"#REF!"}}]
[{"$f":"IF(语言配置表!A149=\"\",\"\",语言配置表!A149)","v":""},{"$f":"IF(语言配置表!#REF!=1,\"\",语言配置表!#REF!&语言配置表!#REF!)&IF(语言配置表!C149=\"\",\"\",语言配置表!C149)","v":{"$error":"#REF!"}}]
[{"$f":"IF(语言配置表!A150=\"\",\"\",语言配置表!A150)","v":""},{"$f":"IF(语言配置表!#REF!=1,\"\",语言配置表!#REF!&语言配置表!#REF!)&IF(语言配置表!C150=\"\",\"\",语言配置表!C150)","v":{"$error":"#REF!"}}]
[{"$f":"IF(语言配置表!A151=\"\",\"\",语言配置表!A151)","v":""},{"$f":"IF(语言配置表!#REF!=1,\"\",语言配置表!#REF!&语言配置表!#REF!)&IF(语言配置表!C151=\"\",\"\",语言配置表!C151)","v":{"$error":"#REF!"}}]
[{"$f":"IF(语言配置表!A152=\"\",\"\",语言配置表!A152)","v":""},{"$f":"IF(语言配置表!#REF!=1,\"\",语言配置表!#REF!&语言配置表!#REF!)&IF(语言配置表!C152=\"\",\"\",语言配置表!C152)","v":{"$error":"#REF!"}}]
[{"$f":"IF(语言配置表!A153=\"\",\"\",语言配置表!A153)","v":""},{"$f":"IF(语言配置表!#REF!=1,\"\",语言配置表!#REF!&语言配置表!#REF!)&IF(语言配置表!C153=\"\",\"\",语言配置表!C153)","v":{"$error":"#REF!"}}]
[{"$f":"IF(语言配置表!A154=\"\",\"\",语言配置表!A154)","v":""},{"$f":"IF(语言配置表!#REF!=1,\"\",语言配置表!#REF!&语言配置表!#REF!)&IF(语言配置表!C154=\"\",\"\",语言配置表!C154)","v":{"$error":"#REF!"}}]
[{"$f":"IF(语言配置表!A155=\"\",\"\",语言配置表!A155)","v":""},{"$f":"IF(语言配置表!#REF!=1,\"\",语言配置表!#REF!&语言配置表!#REF!)&IF(语言配置表!C155=\"\",\"\",语言配置表!C155)","v":{"$error":"#REF!"}}]
[{"$f":"IF(语言配置表!A156=\"\",\"\",语言配置表!A156)","v":""},{"$f":"IF(语言配置表!#REF!=1,\"\",语言配置表!#REF!&语言配置表!#REF!)&IF(语言配置表!C156=\"\",\"\",语言配置表!C156)","v":{"$error":"#REF!"}}]
[{"$f":"IF(语言配置表!A157=\"\",\"\",语言配置表!A157)","v":""},{"$f":"IF(语言配置表!#REF!=1,\"\",语言配置表!#REF!&语言配置表!#REF!)&IF(语言配置表!C157=\"\",\"\",语言配置表!C157)","v":{"$error":"#REF!"}}]
[{"$f":"IF(语言配置表!A158=\"\",\"\",语言配置表!A158)","v":""},{"$f":"IF(语言配置表!#REF!=1,\"\",语言配置表!#REF!&语言配置表!#REF!)&IF(语言配置表!C158=\"\",\"\",语言配置表!C158)","v":{"$error":"#REF!"}}]
[{"$f":"IF(语言配置表!A159=\"\",\"\",语言配置表!A159)","v":""},{"$f":"IF(语言配置表!#REF!=1,\"\",语言配置表!#REF!&语言配置表!#REF!)&IF(语言配置表!C159=\"\",\"\",语言配置表!C159)","v":{"$error":"#REF!"}}]
[{"$f":"IF(语言配置表!A160=\"\",\"\",语言配置表!A160)","v":""},{"$f":"IF(语言配置表!#REF!=1,\"\",语言配置表!#REF!&语言配置表!#REF!)&IF(语言配置表!C160=\"\",\"\",语言配置表!C160)","v":{"$error":"#REF!"}}]
[{"$f":"IF(语言配置表!A161=\"\",\"\",语言配置表!A161)","v":""},{"$f":"IF(语言配置表!#REF!=1,\"\",语言配置表!#REF!&语言配置表!#REF!)&IF(语言配置表!C161=\"\",\"\",语言配置表!C161)","v":{"$error":"#REF!"}}]
[{"$f":"IF(语言配置表!A162=\"\",\"\",语言配置表!A162)","v":""},{"$f":"IF(语言配置表!#REF!=1,\"\",语言配置表!#REF!&语言配置表!#REF!)&IF(语言配置表!C162=\"\",\"\",语言配置表!C162)","v":{"$error":"#REF!"}}]
[{"$f":"IF(语言配置表!A163=\"\",\"\",语言配置表!A163)","v":""},{"$f":"IF(语言配置表!#REF!=1,\"\",语言配置表!#REF!&语言配置表!#REF!)&IF(语言配置表!C163=\"\",\"\",语言配置表!C163)","v":{"$error":"#REF!"}}]
[{"$f":"IF(语言配置表!A164=\"\",\"\",语言配置表!A164)","v":""},{"$f":"IF(语言配置表!#REF!=1,\"\",语言配置表!#REF!&语言配置表!#REF!)&IF(语言配置表!C164=\"\",\"\",语言配置表!C164)","v":{"$error":"#REF!"}}]
[{"$f":"IF(语言配置表!A165=\"\",\"\",语言配置表!A165)","v":""},{"$f":"IF(语言配置表!#REF!=1,\"\",语言配置表!#REF!&语言配置表!#REF!)&IF(语言配置表!C165=\"\",\"\",语言配置表!C165)","v":{"$error":"#REF!"}}]
[{"$f":"IF(语言配置表!A166=\"\",\"\",语言配置表!A166)","v":""},{"$f":"IF(语言配置表!#REF!=1,\"\",语言配置表!#REF!&语言配置表!#REF!)&IF(语言配置表!C166=\"\",\"\",语言配置表!C166)","v":{"$error":"#REF!"}}]
[{"$f":"IF(语言配置表!A167=\"\",\"\",语言配置表!A167)","v":""},{"$f":"IF(语言配置表!#REF!=1,\"\",语言配置表!#REF!&语言配置表!#REF!)&IF(语言配置表!C167=\"\",\"\",语言配置表!C167)","v":{"$error":"#REF!"}}]
[{"$f":"IF(语言配置表!A168=\"\",\"\",语言配置表!A168)","v":""},{"$f":"IF(语言配置表!#REF!=1,\"\",语言配置表!#REF!&语言配置表!#REF!)&IF(语言配置表!C168=\"\",\"\",语言配置表!C168)","v":{"$error":"#REF!"}}]
[{"$f":"IF(语言配置表!A169=\"\",\"\",语言配置表!A169)","v":""},{"$f":"IF(语言配置表!#REF!=1,\"\",语言配置表!#REF!&语言配置表!#REF!)&IF(语言配置表!C169=\"\",\"\",语言配置表!C169)","v":{"$error":"#REF!"}}]
[{"$f":"IF(语言配置表!A170=\"\",\"\",语言配置表!A170)","v":""},{"$f":"IF(语言配置表!#REF!=1,\"\",语言配置表!#REF!&语言配置表!#REF!)&IF(语言配置表!C170=\"\",\"\",语言配置表!C170)","v":{"$error":"#REF!"}}]
[{"$f":"IF(语言配置表!A171=\"\",\"\",语言配置表!A171)","v":""},{"$f":"IF(语言配置表!#REF!=1,\"\",语言配置表!#REF!&语言配置表!#REF!)&IF(语言配置表!C171=\"\",\"\",语言配置表!C171)","v":{"$error":"#REF!"}}]
[{"$f":"IF(语言配置表!A172=\"\",\"\",语言配置表!A172)","v":""},{"$f":"IF(语言配置表!#REF!=1,\"\",语言配置表!#REF!&语言配置表!#REF!)&IF(语言配置表!C172=\"\",\"\",语言配置表!C172)","v":{"$error":"#REF!"}}]
[{"$f":"IF(语言配置表!A173=\"\",\"\",语言配置表!A173)","v":""},{"$f":"IF(语言配置表!#REF!=1,\"\",语言配置表!#REF!&语言配置表!#REF!)&IF(语言配置表!C173=\"\",\"\",语言配置表!C173)","v":{"$error":"#REF!"}}]
[{"$f":"IF(语言配置表!A174=\"\",\"\",语言配置表!A174)","v":""},{"$f":"IF(语言配置表!#REF!=1,\"\",语言配置表!#REF!&语言配置表!#REF!)&IF(语言配置表!C174=\"\",\"\",语言配置表!C174)","v":{"$error":"#REF!"}}]
[{"$f":"IF(语言配置表!A175=\"\",\"\",语言配置表!A175)","v":""},{"$f":"IF(语言配置表!#REF!=1,\"\",语言配置表!#REF!&语言配置表!#REF!)&IF(语言配置表!C175=\"\",\"\",语言配置表!C175)","v":{"$error":"#REF!"}}]
[{"$f":"IF(语言配置表!A176=\"\",\"\",语言配置表!A176)","v":""},{"$f":"IF(语言配置表!#REF!=1,\"\",语言配置表!#REF!&语言配置表!#REF!)&IF(语言配置表!C176=\"\",\"\",语言配置表!C176)","v":{"$error":"#REF!"}}]
[{"$f":"IF(语言配置表!A177=\"\",\"\",语言配置表!A177)","v":""},{"$f":"IF(语言配置表!#REF!=1,\"\",语言配置表!#REF!&语言配置表!#REF!)&IF(语言配置表!C177=\"\",\"\",语言配置表!C177)","v":{"$error":"#REF!"}}]
[{"$f":"IF(语言配置表!A178=\"\",\"\",语言配置表!A178)","v":""},{"$f":"IF(语言配置表!#REF!=1,\"\",语言配置表!#REF!&语言配置表!#REF!)&IF(语言配置表!C178=\"\",\"\",语言配置表!C178)","v":{"$error":"#REF!"}}]
[{"$f":"IF(语言配置表!A179=\"\",\"\",语言配置表!A179)","v":""},{"$f":"IF(语言配置表!#REF!=1,\"\",语言配置表!#REF!&语言配置表!#REF!)&IF(语言配置表!C179=\"\",\"\",语言配置表!C179)","v":{"$error":"#REF!"}}]
[{"$f":"IF(语言配置表!A180=\"\",\"\",语言配置表!A180)","v":""},{"$f":"IF(语言配置表!#REF!=1,\"\",语言配置表!#REF!&语言配置表!#REF!)&IF(语言配置表!C180=\"\",\"\",语言配置表!C180)","v":{"$error":"#REF!"}}]
[{"$f":"IF(语言配置表!A181=\"\",\"\",语言配置表!A181)","v":""},{"$f":"IF(语言配置表!#REF!=1,\"\",语言配置表!#REF!&语言配置表!#REF!)&IF(语言配置表!C181=\"\",\"\",语言配置表!C181)","v":{"$error":"#REF!"}}]
[{"$f":"IF(语言配置表!A182=\"\",\"\",语言配置表!A182)","v":""},{"$f":"IF(语言配置表!#REF!=1,\"\",语言配置表!#REF!&语言配置表!#REF!)&IF(语言配置表!C182=\"\",\"\",语言配置表!C182)","v":{"$error":"#REF!"}}]
[{"$f":"IF(语言配置表!A183=\"\",\"\",语言配置表!A183)","v":""},{"$f":"IF(语言配置表!#REF!=1,\"\",语言配置表!#REF!&语言配置表!#REF!)&IF(语言配置表!C183=\"\",\"\",语言配置表!C183)","v":{"$error":"#REF!"}}]
[{"$f":"IF(语言配置表!A184=\"\",\"\",语言配置表!A184)","v":""},{"$f":"IF(语言配置表!#REF!=1,\"\",语言配置表!#REF!&语言配置表!#REF!)&IF(语言配置表!C184=\"\",\"\",语言配置表!C184)","v":{"$error":"#REF!"}}]
[{"$f":"IF(语言配置表!A185=\"\",\"\",语言配置表!A185)","v":""},{"$f":"IF(语言配置表!#REF!=1,\"\",语言配置表!#REF!&语言配置表!#REF!)&IF(语言配置表!C185=\"\",\"\",语言配置表!C185)","v":{"$error":"#REF!"}}]
[{"$f":"IF(语言配置表!A186=\"\",\"\",语言配置表!A186)","v":""},{"$f":"IF(语言配置表!#REF!=1,\"\",语言配置表!#REF!&语言配置表!#REF!)&IF(语言配置表!C186=\"\",\"\",语言配置表!C186)","v":{"$error":"#REF!"}}]
[{"$f":"IF(语言配置表!A187=\"\",\"\",语言配置表!A187)","v":""},{"$f":"IF(语言配置表!#REF!=1,\"\",语言配置表!#REF!&语言配置表!#REF!)&IF(语言配置表!C187=\"\",\"\",语言配置表!C187)","v":{"$error":"#REF!"}}]
[{"$f":"IF(语言配置表!A188=\"\",\"\",语言配置表!A188)","v":""},{"$f":"IF(语言配置表!#REF!=1,\"\",语言配置表!#REF!&语言配置表!#REF!)&IF(语言配置表!C188=\"\",\"\",语言配置表!C188)","v":{"$error":"#REF!"}}]
[{"$f":"IF(语言配置表!A189=\"\",\"\",语言配置表!A189)","v":""},{"$f":"IF(语言配置表!#REF!=1,\"\",语言配置表!#REF!&语言配置表!#REF!)&IF(语言配置表!C189=\"\",\"\",语言配置表!C189)","v":{"$error":"#REF!"}}]
[{"$f":"IF(语言配置表!A190=\"\",\"\",语言配置表!A190)","v":""},{"$f":"IF(语言配置表!#REF!=1,\"\",语言配置表!#REF!&语言配置表!#REF!)&IF(语言配置表!C190=\"\",\"\",语言配置表!C190)","v":{"$error":"#REF!"}}]
[{"$f":"IF(语言配置表!A191=\"\",\"\",语言配置表!A191)","v":""},{"$f":"IF(语言配置表!#REF!=1,\"\",语言配置表!#REF!&语言配置表!#REF!)&IF(语言配置表!C191=\"\",\"\",语言配置表!C191)","v":{"$error":"#REF!"}}]
[{"$f":"IF(语言配置表!A192=\"\",\"\",语言配置表!A192)","v":""},{"$f":"IF(语言配置表!#REF!=1,\"\",语言配置表!#REF!&语言配置表!#REF!)&IF(语言配置表!C192=\"\",\"\",语言配置表!C192)","v":{"$error":"#REF!"}}]
[{"$f":"IF(语言配置表!A193=\"\",\"\",语言配置表!A193)","v":""},{"$f":"IF(语言配置表!#REF!=1,\"\",语言配置表!#REF!&语言配置表!#REF!)&IF(语言配置表!C193=\"\",\"\",语言配置表!C193)","v":{"$error":"#REF!"}}]
[{"$f":"IF(语言配置表!A194=\"\",\"\",语言配置表!A194)","v":""},{"$f":"IF(语言配置表!#REF!=1,\"\",语言配置表!#REF!&语言配置表!#REF!)&IF(语言配置表!C194=\"\",\"\",语言配置表!C194)","v":{"$error":"#REF!"}}]
[{"$f":"IF(语言配置表!A195=\"\",\"\",语言配置表!A195)","v":""},{"$f":"IF(语言配置表!#REF!=1,\"\",语言配置表!#REF!&语言配置表!#REF!)&IF(语言配置表!C195=\"\",\"\",语言配置表!C195)","v":{"$error":"#REF!"}}]
[{"$f":"IF(语言配置表!A196=\"\",\"\",语言配置表!A196)","v":""},{"$f":"IF(语言配置表!#REF!=1,\"\",语言配置表!#REF!&语言配置表!#REF!)&IF(语言配置表!C196=\"\",\"\",语言配置表!C196)","v":{"$error":"#REF!"}}]
[{"$f":"IF(语言配置表!A197=\"\",\"\",语言配置表!A197)","v":""},{"$f":"IF(语言配置表!#REF!=1,\"\",语言配置表!#REF!&语言配置表!#REF!)&IF(语言配置表!C197=\"\",\"\",语言配置表!C197)","v":{"$error":"#REF!"}}]
[{"$f":"IF(语言配置表!A198=\"\",\"\",语言配置表!A198)","v":""},{"$f":"IF(语言配置表!#REF!=1,\"\",语言配置表!#REF!&语言配置表!#REF!)&IF(语言配置表!C198=\"\",\"\",语言配置表!C198)","v":{"$error":"#REF!"}}]
[{"$f":"IF(语言配置表!A199=\"\",\"\",语言配置表!A199)","v":""},{"$f":"IF(语言配置表!#REF!=1,\"\",语言配置表!#REF!&语言配置表!#REF!)&IF(语言配置表!C199=\"\",\"\",语言配置表!C199)","v":{"$error":"#REF!"}}]
[{"$f":"IF(语言配置表!A200=\"\",\"\",语言配置表!A200)","v":""},{"$f":"IF(语言配置表!#REF!=1,\"\",语言配置表!#REF!&语言配置表!#REF!)&IF(语言配置表!C200=\"\",\"\",语言配置表!C200)","v":{"$error":"#REF!"}}]
[{"$f":"IF(语言配置表!A201=\"\",\"\",语言配置表!A201)","v":""},{"$f":"IF(语言配置表!#REF!=1,\"\",语言配置表!#REF!&语言配置表!#REF!)&IF(语言配置表!C201=\"\",\"\",语言配置表!C201)","v":{"$error":"#REF!"}}]
[{"$f":"IF(语言配置表!A202=\"\",\"\",语言配置表!A202)","v":""},{"$f":"IF(语言配置表!#REF!=1,\"\",语言配置表!#REF!&语言配置表!#REF!)&IF(语言配置表!C202=\"\",\"\",语言配置表!C202)","v":{"$error":"#REF!"}}]
[{"$f":"IF(语言配置表!A203=\"\",\"\",语言配置表!A203)","v":""},{"$f":"IF(语言配置表!#REF!=1,\"\",语言配置表!#REF!&语言配置表!#REF!)&IF(语言配置表!C203=\"\",\"\",语言配置表!C203)","v":{"$error":"#REF!"}}]
[{"$f":"IF(语言配置表!A204=\"\",\"\",语言配置表!A204)","v":""},{"$f":"IF(语言配置表!#REF!=1,\"\",语言配置表!#REF!&语言配置表!#REF!)&IF(语言配置表!C204=\"\",\"\",语言配置表!C204)","v":{"$error":"#REF!"}}]
[{"$f":"IF(语言配置表!A205=\"\",\"\",语言配置表!A205)","v":""},{"$f":"IF(语言配置表!#REF!=1,\"\",语言配置表!#REF!&语言配置表!#REF!)&IF(语言配置表!C205=\"\",\"\",语言配置表!C205)","v":{"$error":"#REF!"}}]
[{"$f":"IF(语言配置表!A206=\"\",\"\",语言配置表!A206)","v":""},{"$f":"IF(语言配置表!#REF!=1,\"\",语言配置表!#REF!&语言配置表!#REF!)&IF(语言配置表!C206=\"\",\"\",语言配置表!C206)","v":{"$error":"#REF!"}}]
[{"$f":"IF(语言配置表!A207=\"\",\"\",语言配置表!A207)","v":""},{"$f":"IF(语言配置表!#REF!=1,\"\",语言配置表!#REF!&语言配置表!#REF!)&IF(语言配置表!C207=\"\",\"\",语言配置表!C207)","v":{"$error":"#REF!"}}]

{"sheet":"LanguageDEConfig","index":3,"n_rows":20,"n_cols":2,"rows_kept":20,"cut":false,"hidden":false,"merged":[]}
["ID","txt"]
["int","string"]
[]
["ID","德语描述"]
[{"$f":"IF(语言配置表!A5=\"\",\"\",语言配置表!A5)","v":1},{"$f":"IF(语言配置表!#REF!=1,\"\",语言配置表!#REF!&语言配置表!#REF!)&IF(语言配置表!D5=\"\",\"\",语言配置表!D5)","v":{"$error":"#REF!"}}]
[{"$f":"IF(语言配置表!#REF!=\"\",\"\",语言配置表!#REF!)","v":{"$error":"#REF!"}},{"$f":"IF(语言配置表!#REF!=1,\"\",语言配置表!#REF!&语言配置表!#REF!)&IF(语言配置表!#REF!=\"\",\"\",语言配置表!#REF!)","v":{"$error":"#REF!"}}]
[{"$f":"IF(语言配置表!#REF!=\"\",\"\",语言配置表!#REF!)","v":{"$error":"#REF!"}},{"$f":"IF(语言配置表!#REF!=1,\"\",语言配置表!#REF!&语言配置表!#REF!)&IF(语言配置表!#REF!=\"\",\"\",语言配置表!#REF!)","v":{"$error":"#REF!"}}]
[{"$f":"IF(语言配置表!#REF!=\"\",\"\",语言配置表!#REF!)","v":{"$error":"#REF!"}},{"$f":"IF(语言配置表!#REF!=1,\"\",语言配置表!#REF!&语言配置表!#REF!)&IF(语言配置表!#REF!=\"\",\"\",语言配置表!#REF!)","v":{"$error":"#REF!"}}]
[{"$f":"IF(语言配置表!#REF!=\"\",\"\",语言配置表!#REF!)","v":{"$error":"#REF!"}},{"$f":"IF(语言配置表!#REF!=1,\"\",语言配置表!#REF!&语言配置表!#REF!)&IF(语言配置表!#REF!=\"\",\"\",语言配置表!#REF!)","v":{"$error":"#REF!"}}]
[{"$f":"IF(语言配置表!#REF!=\"\",\"\",语言配置表!#REF!)","v":{"$error":"#REF!"}},{"$f":"IF(语言配置表!#REF!=1,\"\",语言配置表!#REF!&语言配置表!#REF!)&IF(语言配置表!#REF!=\"\",\"\",语言配置表!#REF!)","v":{"$error":"#REF!"}}]
[{"$f":"IF(语言配置表!#REF!=\"\",\"\",语言配置表!#REF!)","v":{"$error":"#REF!"}},{"$f":"IF(语言配置表!#REF!=1,\"\",语言配置表!#REF!&语言配置表!#REF!)&IF(语言配置表!#REF!=\"\",\"\",语言配置表!#REF!)","v":{"$error":"#REF!"}}]
[{"$f":"IF(语言配置表!#REF!=\"\",\"\",语言配置表!#REF!)","v":{"$error":"#REF!"}},{"$f":"IF(语言配置表!#REF!=1,\"\",语言配置表!#REF!&语言配置表!#REF!)&IF(语言配置表!#REF!=\"\",\"\",语言配置表!#REF!)","v":{"$error":"#REF!"}}]
[{"$f":"IF(语言配置表!#REF!=\"\",\"\",语言配置表!#REF!)","v":{"$error":"#REF!"}},{"$f":"IF(语言配置表!#REF!=1,\"\",语言配置表!#REF!&语言配置表!#REF!)&IF(语言配置表!#REF!=\"\",\"\",语言配置表!#REF!)","v":{"$error":"#REF!"}}]
[{"$f":"IF(语言配置表!#REF!=\"\",\"\",语言配置表!#REF!)","v":{"$error":"#REF!"}},{"$f":"IF(语言配置表!#REF!=1,\"\",语言配置表!#REF!&语言配置表!#REF!)&IF(语言配置表!#REF!=\"\",\"\",语言配置表!#REF!)","v":{"$error":"#REF!"}}]
[{"$f":"IF(语言配置表!#REF!=\"\",\"\",语言配置表!#REF!)","v":{"$error":"#REF!"}},{"$f":"IF(语言配置表!#REF!=1,\"\",语言配置表!#REF!&语言配置表!#REF!)&IF(语言配置表!#REF!=\"\",\"\",语言配置表!#REF!)","v":{"$error":"#REF!"}}]
[{"$f":"IF(语言配置表!#REF!=\"\",\"\",语言配置表!#REF!)","v":{"$error":"#REF!"}},{"$f":"IF(语言配置表!#REF!=1,\"\",语言配置表!#REF!&语言配置表!#REF!)&IF(语言配置表!#REF!=\"\",\"\",语言配置表!#REF!)","v":{"$error":"#REF!"}}]
[{"$f":"IF(语言配置表!#REF!=\"\",\"\",语言配置表!#REF!)","v":{"$error":"#REF!"}},{"$f":"IF(语言配置表!#REF!=1,\"\",语言配置表!#REF!&语言配置表!#REF!)&IF(语言配置表!#REF!=\"\",\"\",语言配置表!#REF!)","v":{"$error":"#REF!"}}]
[{"$f":"IF(语言配置表!#REF!=\"\",\"\",语言配置表!#REF!)","v":{"$error":"#REF!"}},{"$f":"IF(语言配置表!#REF!=1,\"\",语言配置表!#REF!&语言配置表!#REF!)&IF(语言配置表!#REF!=\"\",\"\",语言配置表!#REF!)","v":{"$error":"#REF!"}}]
[{"$f":"IF(语言配置表!#REF!=\"\",\"\",语言配置表!#REF!)","v":{"$error":"#REF!"}},{"$f":"IF(语言配置表!#REF!=1,\"\",语言配置表!#REF!&语言配置表!#REF!)&IF(语言配置表!#REF!=\"\",\"\",语言配置表!#REF!)","v":{"$error":"#REF!"}}]
[null,{"$f":"IF(语言配置表!#REF!=1,\"\",语言配置表!#REF!&语言配置表!#REF!)&IF(语言配置表!#REF!=\"\",\"\",语言配置表!#REF!)","v":{"$error":"#REF!"}}]

{"sheet":"LanguageFRConfig","index":4,"n_rows":5,"n_cols":2,"rows_kept":5,"cut":false,"hidden":false,"merged":[]}
["ID","txt"]
["int","string"]
[]
["ID","法语描述"]
[{"$f":"IF(语言配置表!A5=\"\",\"\",语言配置表!A5)","v":1},{"$f":"IF(语言配置表!#REF!=1,\"\",语言配置表!#REF!&语言配置表!#REF!)&IF(语言配置表!E5=\"\",\"\",语言配置表!E5)","v":{"$error":"#REF!"}}]

{"sheet":"LanguageRUConfig","index":5,"n_rows":5,"n_cols":2,"rows_kept":5,"cut":false,"hidden":false,"merged":[]}
["ID","txt"]
["int","string"]
[]
["ID","法语描述"]
[{"$f":"IF(语言配置表!A5=\"\",\"\",语言配置表!A5)","v":1},{"$f":"IF(语言配置表!#REF!=1,\"\",语言配置表!#REF!&语言配置表!#REF!)&IF(语言配置表!F5=\"\",\"\",语言配置表!F5)","v":{"$error":"#REF!"}}]

{"sheet":"LanguageTHConfig","index":6,"n_rows":5,"n_cols":2,"rows_kept":5,"cut":false,"hidden":false,"merged":[]}
["ID","txt"]
["int","string"]
[]
["ID","泰语描述"]
[{"$f":"IF(语言配置表!A5=\"\",\"\",语言配置表!A5)","v":1},{"$f":"IF(语言配置表!#REF!=1,\"\",语言配置表!#REF!&语言配置表!#REF!)&IF(语言配置表!#REF!=\"\",\"\",语言配置表!#REF!)","v":{"$error":"#REF!"}}]