{"text_format":"2","workbook":"xlsx","n_sheets":2,"sheets":["语言配置表","LanguageChineseConfig"],"not_rendered":{"charts":0,"images":0,"macros":0,"external_links":0,"defined_names":1,"comments":0,"pivot_tables":0},"unopened":[],"bounds":{"document_bytes":16777216,"sheet_cells":100000,"run_cost":"one","rows_first":2000,"rows_last":500,"rows_between":2000,"halvings":0,"cell_chars":16384,"cell_head_chars":4096},"cells_cut":0,"cells_raw":0,"read":"whole","date_system":"1900"}

{"sheet":"语言配置表","index":0,"n_rows":103,"n_cols":5,"rows_kept":103,"cut":false,"hidden":false,"merged":[]}
["序列","内容","注释","类别/模块","版本"]
[]
[]
[1,"亚瑟·龙焰",null,"英雄名"]
[2,"莱恩·天戟",null,"英雄名"]
[3,"达米安·虎啸",null,"英雄名"]
[4,"维克多·铁拳",null,"英雄名"]
[5,"加雷斯·风暴",null,"英雄名"]
[6,"伊丽莎白·月影",null,"英雄名"]
[7,"马修·星辰",null,"英雄名"]
[8,"卡特琳娜·霜语",null,"英雄名"]
[9,"西蒙·玄光",null,"英雄名"]
[10,"艾琳娜·灵风",null,"英雄名"]
[11,"加百利·圣心",null,"英雄名"]
[12,"索菲亚·慈恩",null,"英雄名"]
[13,"卢克·净魂",null,"英雄名"]
[14,"安娜贝尔·光耀",null,"英雄名"]
[15,"伊莎贝拉·恩典",null,"英雄名"]
[16,"莱恩·影踪",null,"英雄名"]
[17,"艾米丽·翠羽",null,"英雄名"]
[18,"德里克·疾风",null,"英雄名"]
[19,"维多利亚·夜刃",null,"英雄名"]
[20,"诺亚·林踪",null,"英雄名"]
[21,"生命值",null,"英雄名"]
[22,"攻击力",null,"英雄名"]
[23,"防御力",null,"英雄名"]
[24,"攻击速度",null,"英雄名"]
[25,"暴击几率",null,"英雄名"]
[26,"暴击伤害",null,"英雄名"]
[27,"闪避几率",null,"英雄名"]
[28,"命中",null,"英雄名"]
[29,"吸血",null,"英雄名"]
[30,"传说"]
[31,"史诗"]
[32,"精英"]
[33,"向前方释放1道剑气，造成<color=#7AC180>{0}%</color>攻击力的伤害。"]
[34,"造成的伤害提升至<color=#7AC180>{0}%</color>。"]
[35,"造成的伤害提升至<color=#7AC180>{0}%</color>。"]
[36,"造成的伤害提升至<color=#7AC180>{0}%</color>。"]
[37,"英雄提升至{0}级强化该技能"]
[38,"英雄提升至{0}级解锁该技能"]
[39,"英雄提升至{0}星强化该技能"]
[40,"英雄提升至{0}星解锁该技能"]
[41,"{0}级："]
[42,"({0}级解锁)"]
[43,"({0}星解锁)"]
[44,"技能已达最高等级"]
[45,"旋风斩"]
[46,"对前方范围释放火焰，对范围内的敌人进行多次灼烧，每次造成<color=#7AC180>{0}%</color>攻击力的伤害，持续<color=#7AC180>{1}秒</color>"]
[47,"每次造成的伤害提升至<color=#7AC180>{0}%</color>。"]
[48,"每次造成的伤害提升至<color=#7AC180>{0}%</color>。"]
[49,"持续时间提升至<color=#7AC180>{1}秒</color>。"]
[50,"烈焰喷涌"]
[51,"对生命值最低的英雄，恢复<color=#7AC180>{0}%</color>攻击力的血量。"]
[52,"恢复的血量提升至<color=#7AC180>{0}%</color>。"]
[53,"恢复的血量提升至<color=#7AC180>{0}%</color>。"]
[54,"恢复的血量提升至<color=#7AC180>{0}%</color>。"]
[55,"光辉治愈"]
[56,"向前方连续射出多支魔法箭，造成<color=#7AC180>{0}%</color>攻击力的伤害。"]
[57,"造成的伤害提升至<color=#7AC180>{0}%</color>。"]
[58,"造成的伤害提升至<color=#7AC180>{0}%</color>。"]
[59,"造成的伤害提升至<color=#7AC180>{0}%</color>。"]
[60,"箭羽风暴"]
[61,"解锁"]
[62,"等级{0}>>{1}"]
[63,"主力英雄等级差不得超过10级"]
[64,"主力英雄等级：{0}"]
[65,"生命之力"]
[66,"钢铁意志"]
[67,"斩风之力"]
[68,"抗暴之力"]
[69,"提高<color=#7AC180>{0}%</color>%的生命值"]
[70,"提高<color=#7AC180>{0}%</color>%的防御值"]
[71,"额外释放<color=#7AC180>{0}</color>道[旋风斩]的剑气"]
[72,"降低<color=#7AC180>{0}%</color>的暴击伤害"]
[73,"提升<color=#7AC180>{0}%</color>%的攻击力"]
[74,"提高<color=#7AC180>{0}%</color>%的生命值"]
[75,"延长<color=#7AC180>{0}</color>秒[烈焰喷涌]的持续时间"]
[76,"提升<color=#7AC180>{0}%</color>%的技能暴击率"]
[77,"神圣力量"]
[78,"生命之力"]
[79,"急救之光"]
[80,"光辉复苏"]
[81,"提升<color=#7AC180>{0}%</color>%的攻击力"]
[82,"提高<color=#7AC180>{0}%</color>%的生命值"]
[83,"对生命值低于<color=#7AC180>{0}%</color>%的英雄，额外提高<color=#7AC180>{0}%</color>%的治疗量"]
[84,"同时治疗<color=#7AC180>{0}</color>名英雄"]
[85,"弓箭精通"]
[86,"生命之力"]
[87,"无尽射击"]
[88,"终结射击"]
[89,"提升<color=#7AC180>{0}%</color>%的攻击力"]
[90,"提高<color=#7AC180>{0}%</color>%的生命值"]
[91,"增加<color=#7AC180>{0}</color>支[连续射击]的魔法箭"]
[92,"对生命值低于<color=#7AC180>{0}%</color>的敌人，额外造成<color=#7AC180>{0}%</color>伤害"]
[93,"智者之力"]
[94,"生命之力"]
[95,"烈焰持续"]
[96,"超凡暴击"]
[97,"战士装备"]
[98,"法师装备"]
[99,"牧师装备"]
[100,"游侠装备"]

{"sheet":"LanguageChineseConfig","index":1,"n_rows":110,"n_cols":2,"rows_kept":110,"cut":false,"hidden":false,"merged":[]}
["ID","txt"]
["int","string"]
[]
["ID","文本内容"]
[{"$f":"IF(语言配置表!A4=\"\",\"\",语言配置表!A4)","v":1},{"$f":"IF(语言配置表!A4=\"\",\"CN_待填充内容\",语言配置表!B4)","v":"亚瑟·龙焰"}]
[{"$f":"IF(语言配置表!A5=\"\",\"\",语言配置表!A5)","v":2},{"$f":"IF(语言配置表!A5=\"\",\"CN_待填充内容\",语言配置表!B5)","v":"莱恩·天戟"}]
[{"$f":"IF(语言配置表!A6=\"\",\"\",语言配置表!A6)","v":3},{"$f":"IF(语言配置表!A6=\"\",\"CN_待填充内容\",语言配置表!B6)","v":"达米安·虎啸"}]
[{"$f":"IF(语言配置表!A7=\"\",\"\",语言配置表!A7)","v":4},{"$f":"IF(语言配置表!A7=\"\",\"CN_待填充内容\",语言配置表!B7)","v":"维克多·铁拳"}]
[{"$f":"IF(语言配置表!A8=\"\",\"\",语言配置表!A8)","v":5},{"$f":"IF(语言配置表!A8=\"\",\"CN_待填充内容\",语言配置表!B8)","v":"加雷斯·风暴"}]
[{"$f":"IF(语言配置表!A9=\"\",\"\",语言配置表!A9)","v":6},{"$f":"IF(语言配置表!A9=\"\",\"CN_待填充内容\",语言配置表!B9)","v":"伊丽莎白·月影"}]
[{"$f":"IF(语言配置表!A10=\"\",\"\",语言配置表!A10)","v":7},{"$f":"IF(语言配置表!A10=\"\",\"CN_待填充内容\",语言配置表!B10)","v":"马修·星辰"}]
[{"$f":"IF(语言配置表!A11=\"\",\"\",语言配置表!A11)","v":8},{"$f":"IF(语言配置表!A11=\"\",\"CN_待填充内容\",语言配置表!B11)","v":"卡特琳娜·霜语"}]
[{"$f":"IF(语言配置表!A12=\"\",\"\",语言配置表!A12)","v":9},{"$f":"IF(语言配置表!A12=\"\",\"CN_待填充内容\",语言配置表!B12)","v":"西蒙·玄光"}]
[{"$f":"IF(语言配置表!A13=\"\",\"\",语言配置表!A13)","v":10},{"$f":"IF(语言配置表!A13=\"\",\"CN_待填充内容\",语言配置表!B13)","v":"艾琳娜·灵风"}]
[{"$f":"IF(语言配置表!A14=\"\",\"\",语言配置表!A14)","v":11},{"$f":"IF(语言配置表!A14=\"\",\"CN_待填充内容\",语言配置表!B14)","v":"加百利·圣心"}]
[{"$f":"IF(语言配置表!A15=\"\",\"\",语言配置表!A15)","v":12},{"$f":"IF(语言配置表!A15=\"\",\"CN_待填充内容\",语言配置表!B15)","v":"索菲亚·慈恩"}]
[{"$f":"IF(语言配置表!A16=\"\",\"\",语言配置表!A16)","v":13},{"$f":"IF(语言配置表!A16=\"\",\"CN_待填充内容\",语言配置表!B16)","v":"卢克·净魂"}]
[{"$f":"IF(语言配置表!A17=\"\",\"\",语言配置表!A17)","v":14},{"$f":"IF(语言配置表!A17=\"\",\"CN_待填充内容\",语言配置表!B17)","v":"安娜贝尔·光耀"}]
[{"$f":"IF(语言配置表!A18=\"\",\"\",语言配置表!A18)","v":15},{"$f":"IF(语言配置表!A18=\"\",\"CN_待填充内容\",语言配置表!B18)","v":"伊莎贝拉·恩典"}]
[{"$f":"IF(语言配置表!A19=\"\",\"\",语言配置表!A19)","v":16},{"$f":"IF(语言配置表!A19=\"\",\"CN_待填充内容\",语言配置表!B19)","v":"莱恩·影踪"}]
[{"$f":"IF(语言配置表!A20=\"\",\"\",语言配置表!A20)","v":17},{"$f":"IF(语言配置表!A20=\"\",\"CN_待填充内容\",语言配置表!B20)","v":"艾米丽·翠羽"}]
[{"$f":"IF(语言配置表!A21=\"\",\"\",语言配置表!A21)","v":18},{"$f":"IF(语言配置表!A21=\"\",\"CN_待填充内容\",语言配置表!B21)","v":"德里克·疾风"}]
[{"$f":"IF(语言配置表!A22=\"\",\"\",语言配置表!A22)","v":19},{"$f":"IF(语言配置表!A22=\"\",\"CN_待填充内容\",语言配置表!B22)","v":"维多利亚·夜刃"}]
[{"$f":"IF(语言配置表!A23=\"\",\"\",语言配置表!A23)","v":20},{"$f":"IF(语言配置表!A23=\"\",\"CN_待填充内容\",语言配置表!B23)","v":"诺亚·林踪"}]
[{"$f":"IF(语言配置表!A24=\"\",\"\",语言配置表!A24)","v":21},{"$f":"IF(语言配置表!A24=\"\",\"CN_待填充内容\",语言配置表!B24)","v":"生命值"}]
[{"$f":"IF(语言配置表!A25=\"\",\"\",语言配置表!A25)","v":22},{"$f":"IF(语言配置表!A25=\"\",\"CN_待填充内容\",语言配置表!B25)","v":"攻击力"}]
[{"$f":"IF(语言配置表!A26=\"\",\"\",语言配置表!A26)","v":23},{"$f":"IF(语言配置表!A26=\"\",\"CN_待填充内容\",语言配置表!B26)","v":"防御力"}]
[{"$f":"IF(语言配置表!A27=\"\",\"\",语言配置表!A27)","v":24},{"$f":"IF(语言配置表!A27=\"\",\"CN_待填充内容\",语言配置表!B27)","v":"攻击速度"}]
[{"$f":"IF(语言配置表!A28=\"\",\"\",语言配置表!A28)","v":25},{"$f":"IF(语言配置表!A28=\"\",\"CN_待填充内容\",语言配置表!B28)","v":"暴击几率"}]
[{"$f":"IF(语言配置表!A29=\"\",\"\",语言配置表!A29)","v":26},{"$f":"IF(语言配置表!A29=\"\",\"CN_待填充内容\",语言配置表!B29)","v":"暴击伤害"}]
[{"$f":"IF(语言配置表!A30=\"\",\"\",语言配置表!A30)","v":27},{"$f":"IF(语言配置表!A30=\"\",\"CN_待填充内容\",语言配置表!B30)","v":"闪避几率"}]
[{"$f":"IF(语言配置表!A31=\"\",\"\",语言配置表!A31)","v":28},{"$f":"IF(语言配置表!A31=\"\",\"CN_待填充内容\",语言配置表!B31)","v":"命中"}]
[{"$f":"IF(语言配置表!A32=\"\",\"\",语言配置表!A32)","v":29},{"$f":"IF(语言配置表!A32=\"\",\"CN_待填充内容\",语言配置表!B32)","v":"吸血"}]
[{"$f":"IF(语言配置表!A33=\"\",\"\",语言配置表!A33)","v":30},{"$f":"IF(语言配置表!A33=\"\",\"CN_待填充内容\",语言配置表!B33)","v":"传说"}]
[{"$f":"IF(语言配置表!A34=\"\",\"\",语言配置表!A34)","v":31},{"$f":"IF(语言配置表!A34=\"\",\"CN_待填充内容\",语言配置表!B34)","v":"史诗"}]
[{"$f":"IF(语言配置表!A35=\"\",\"\",语言配置表!A35)","v":32},{"$f":"IF(语言配置表!A35=\"\",\"CN_待填充内容\",语言配置表!B35)","v":"精英"}]
[{"$f":"IF(语言配置表!A36=\"\",\"\",语言配置表!A36)","v":33},{"$f":"IF(语言配置表!A36=\"\",\"CN_待填充内容\",语言配置表!B36)","v":"向前方释放1道剑气，造成<color=#7AC180>{0}%</color>攻击力的伤害。"}]
[{"$f":"IF(语言配置表!A37=\"\",\"\",语言配置表!A37)","v":34},{"$f":"IF(语言配置表!A37=\"\",\"CN_待填充内容\",语言配置表!B37)","v":"造成的伤害提升至<color=#7AC180>{0}%</color>。"}]
[{"$f":"IF(语言配置表!A38=\"\",\"\",语言配置表!A38)","v":35},{"$f":"IF(语言配置表!A38=\"\",\"CN_待填充内容\",语言配置表!B38)","v":"造成的伤害提升至<color=#7AC180>{0}%</color>。"}]
[{"$f":"IF(语言配置表!A39=\"\",\"\",语言配置表!A39)","v":36},{"$f":"IF(语言配置表!A39=\"\",\"CN_待填充内容\",语言配置表!B39)","v":"造成的伤害提升至<color=#7AC180>{0}%</color>。"}]
[{"$f":"IF(语言配置表!A40=\"\",\"\",语言配置表!A40)","v":37},{"$f":"IF(语言配置表!A40=\"\",\"CN_待填充内容\",语言配置表!B40)","v":"英雄提升至{0}级强化该技能"}]
[{"$f":"IF(语言配置表!A41=\"\",\"\",语言配置表!A41)","v":38},{"$f":"IF(语言配置表!A41=\"\",\"CN_待填充内容\",语言配置表!B41)","v":"英雄提升至{0}级解锁该技能"}]
[{"$f":"IF(语言配置表!A42=\"\",\"\",语言配置表!A42)","v":39},{"$f":"IF(语言配置表!A42=\"\",\"CN_待填充内容\",语言配置表!B42)","v":"英雄提升至{0}星强化该技能"}]
[{"$f":"IF(语言配置表!A43=\"\",\"\",语言配置表!A43)","v":40},{"$f":"IF(语言配置表!A43=\"\",\"CN_待填充内容\",语言配置表!B43)","v":"英雄提升至{0}星解锁该技能"}]
[{"$f":"IF(语言配置表!A44=\"\",\"\",语言配置表!A44)","v":41},{"$f":"IF(语言配置表!A44=\"\",\"CN_待填充内容\",语言配置表!B44)","v":"{0}级："}]
[{"$f":"IF(语言配置表!A45=\"\",\"\",语言配置表!A45)","v":42},{"$f":"IF(语言配置表!A45=\"\",\"CN_待填充内容\",语言配置表!B45)","v":"({0}级解锁)"}]
[{"$f":"IF(语言配置表!A46=\"\",\"\",语言配置表!A46)","v":43},{"$f":"IF(语言配置表!A46=\"\",\"CN_待填充内容\",语言配置表!B46)","v":"({0}星解锁)"}]
[{"$f":"IF(语言配置表!A47=\"\",\"\",语言配置表!A47)","v":44},{"$f":"IF(语言配置表!A47=\"\",\"CN_待填充内容\",语言配置表!B47)","v":"技能已达最高等级"}]
[{"$f":"IF(语言配置表!A48=\"\",\"\",语言配置表!A48)","v":45},{"$f":"IF(语言配置表!A48=\"\",\"CN_待填充内容\",语言配置表!B48)","v":"旋风斩"}]
[{"$f":"IF(语言配置表!A49=\"\",\"\",语言配置表!A49)","v":46},{"$f":"IF(语言配置表!A49=\"\",\"CN_待填充内容\",语言配置表!B49)","v":"对前方范围释放火焰，对范围内的敌人进行多次灼烧，每次造成<color=#7AC180>{0}%</color>攻击力的伤害，持续<color=#7AC180>{1}秒</color>"}]
[{"$f":"IF(语言配置表!A50=\"\",\"\",语言配置表!A50)","v":47},{"$f":"IF(语言配置表!A50=\"\",\"CN_待填充内容\",语言配置表!B50)","v":"每次造成的伤害提升至<color=#7AC180>{0}%</color>。"}]
[{"$f":"IF(语言配置表!A51=\"\",\"\",语言配置表!A51)","v":48},{"$f":"IF(语言配置表!A51=\"\",\"CN_待填充内容\",语言配置表!B51)","v":"每次造成的伤害提升至<color=#7AC180>{0}%</color>。"}]
[{"$f":"IF(语言配置表!A52=\"\",\"\",语言配置表!A52)","v":49},{"$f":"IF(语言配置表!A52=\"\",\"CN_待填充内容\",语言配置表!B52)","v":"持续时间提升至<color=#7AC180>{1}秒</color>。"}]
[{"$f":"IF(语言配置表!A53=\"\",\"\",语言配置表!A53)","v":50},{"$f":"IF(语言配置表!A53=\"\",\"CN_待填充内容\",语言配置表!B53)","v":"烈焰喷涌"}]
[{"$f":"IF(语言配置表!A54=\"\",\"\",语言配置表!A54)","v":51},{"$f":"IF(语言配置表!A54=\"\",\"CN_待填充内容\",语言配置表!B54)","v":"对生命值最低的英雄，恢复<color=#7AC180>{0}%</color>攻击力的血量。"}]
[{"$f":"IF(语言配置表!A55=\"\",\"\",语言配置表!A55)","v":52},{"$f":"IF(语言配置表!A55=\"\",\"CN_待填充内容\",语言配置表!B55)","v":"恢复的血量提升至<color=#7AC180>{0}%</color>。"}]
[{"$f":"IF(语言配置表!A56=\"\",\"\",语言配置表!A56)","v":53},{"$f":"IF(语言配置表!A56=\"\",\"CN_待填充内容\",语言配置表!B56)","v":"恢复的血量提升至<color=#7AC180>{0}%</color>。"}]
[{"$f":"IF(语言配置表!A57=\"\",\"\",语言配置表!A57)","v":54},{"$f":"IF(语言配置表!A57=\"\",\"CN_待填充内容\",语言配置表!B57)","v":"恢复的血量提升至<color=#7AC180>{0}%</color>。"}]
[{"$f":"IF(语言配置表!A58=\"\",\"\",语言配置表!A58)","v":55},{"$f":"IF(语言配置表!A58=\"\",\"CN_待填充内容\",语言配置表!B58)","v":"光辉治愈"}]
[{"$f":"IF(语言配置表!A59=\"\",\"\",语言配置表!A59)","v":56},{"$f":"IF(语言配置表!A59=\"\",\"CN_待填充内容\",语言配置表!B59)","v":"向前方连续射出多支魔法箭，造成<color=#7AC180>{0}%</color>攻击力的伤害。"}]
[{"$f":"IF(语言配置表!A60=\"\",\"\",语言配置表!A60)","v":57},{"$f":"IF(语言配置表!A60=\"\",\"CN_待填充内容\",语言配置表!B60)","v":"造成的伤害提升至<color=#7AC180>{0}%</color>。"}]
[{"$f":"IF(语言配置表!A61=\"\",\"\",语言配置表!A61)","v":58},{"$f":"IF(语言配置表!A61=\"\",\"CN_待填充内容\",语言配置表!B61)","v":"造成的伤害提升至<color=#7AC180>{0}%</color>。"}]
[{"$f":"IF(语言配置表!A62=\"\",\"\",语言配置表!A62)","v":59},{"$f":"IF(语言配置表!A62=\"\",\"CN_待填充内容\",语言配置表!B62)","v":"造成的伤害提升至<color=#7AC180>{0}%</color>。"}]
[{"$f":"IF(语言配置表!A63=\"\",\"\",语言配置表!A63)","v":60},{"$f":"IF(语言配置表!A63=\"\",\"CN_待填充内容\",语言配置表!B63)","v":"箭羽风暴"}]
[{"$f":"IF(语言配置表!A64=\"\",\"\",语言配置表!A64)","v":61},{"$f":"IF(语言配置表!A64=\"\",\"CN_待填充内容\",语言配置表!B64)","v":"解锁"}]
[{"$f":"IF(语言配置表!A65=\"\",\"\",语言配置表!A65)","v":62},{"$f":"IF(语言配置表!A65=\"\",\"CN_待填充内容\",语言配置表!B65)","v":"等级{0}>>{1}"}]
[{"$f":"IF(语言配置表!A66=\"\",\"\",语言配置表!A66)","v":63},{"$f":"IF(语言配置表!A66=\"\",\"CN_待填充内容\",语言配置表!B66)","v":"主力英雄等级差不得超过10级"}]
[{"$f":"IF(语言配置表!A67=\"\",\"\",语言配置表!A67)","v":64},{"$f":"IF(语言配置表!A67=\"\",\"CN_待填充内容\",语言配置表!B67)","v":"主力英雄等级：{0}"}]
[{"$f":"IF(语言配置表!A68=\"\",\"\",语言配置表!A68)","v":65},{"$f":"IF(语言配置表!A68=\"\",\"CN_待填充内容\",语言配置表!B68)","v":"生命之力"}]
[{"$f":"IF(语言配置表!A69=\"\",\"\",语言配置表!A69)","v":66},{"$f":"IF(语言配置表!A69=\"\",\"CN_待填充内容\",语言配置表!B69)","v":"钢铁意志"}]
[{"$f":"IF(语言配置表!A70=\"\",\"\",语言配置表!A70)","v":67},{"$f":"IF(语言配置表!A70=\"\",\"CN_待填充内容\",语言配置表!B70)","v":"斩风之力"}]
[{"$f":"IF(语言配置表!A71=\"\",\"\",语言配置表!A71)","v":68},{"$f":"IF(语言配置表!A71=\"\",\"CN_待填充内容\",语言配置表!B71)","v":"抗暴之力"}]
[{"$f":"IF(语言配置表!A72=\"\",\"\",语言配置表!A72)","v":69},{"$f":"IF(语言配置表!A72=\"\",\"CN_待填充内容\",语言配置表!B72)","v":"提高<color=#7AC180>{0}%</color>%的生命值"}]
[{"$f":"IF(语言配置表!A73=\"\",\"\",语言配置表!A73)","v":70},{"$f":"IF(语言配置表!A73=\"\",\"CN_待填充内容\",语言配置表!B73)","v":"提高<color=#7AC180>{0}%</color>%的防御值"}]
[{"$f":"IF(语言配置表!A74=\"\",\"\",语言配置表!A74)","v":71},{"$f":"IF(语言配置表!A74=\"\",\"CN_待填充内容\",语言配置表!B74)","v":"额外释放<color=#7AC180>{0}</color>道[旋风斩]的剑气"}]
[{"$f":"IF(语言配置表!A75=\"\",\"\",语言配置表!A75)","v":72},{"$f":"IF(语言配置表!A75=\"\",\"CN_待填充内容\",语言配置表!B75)","v":"降低<color=#7AC180>{0}%</color>的暴击伤害"}]
[{"$f":"IF(语言配置表!A76=\"\",\"\",语言配置表!A76)","v":73},{"$f":"IF(语言配置表!A76=\"\",\"CN_待填充内容\",语言配置表!B76)","v":"提升<color=#7AC180>{0}%</color>%的攻击力"}]
[{"$f":"IF(语言配置表!A77=\"\",\"\",语言配置表!A77)","v":74},{"$f":"IF(语言配置表!A77=\"\",\"CN_待填充内容\",语言配置表!B77)","v":"提高<color=#7AC180>{0}%</color>%的生命值"}]
[{"$f":"IF(语言配置表!A78=\"\",\"\",语言配置表!A78)","v":75},{"$f":"IF(语言配置表!A78=\"\",\"CN_待填充内容\",语言配置表!B78)","v":"延长<color=#7AC180>{0}</color>秒[烈焰喷涌]的持续时间"}]
[{"$f":"IF(语言配置表!A79=\"\",\"\",语言配置表!A79)","v":76},{"$f":"IF(语言配置表!A79=\"\",\"CN_待填充内容\",语言配置表!B79)","v":"提升<color=#7AC180>{0}%</color>%的技能暴击率"}]
[{"$f":"IF(语言配置表!A80=\"\",\"\",语言配置表!A80)","v":77},{"$f":"IF(语言配置表!A80=\"\",\"CN_待填充内容\",语言配置表!B80)","v":"神圣力量"}]
[{"$f":"IF(语言配置表!A81=\"\",\"\",语言配置表!A81)","v":78},{"$f":"IF(语言配置表!A81=\"\",\"CN_待填充内容\",语言配置表!B81)","v":"生命之力"}]
[{"$f":"IF(语言配置表!A82=\"\",\"\",语言配置表!A82)","v":79},{"$f":"IF(语言配置表!A82=\"\",\"CN_待填充内容\",语言配置表!B82)","v":"急救之光"}]
[{"$f":"IF(语言配置表!A83=\"\",\"\",语言配置表!A83)","v":80},{"$f":"IF(语言配置表!A83=\"\",\"CN_待填充内容\",语言配置表!B83)","v":"光辉复苏"}]
[{"$f":"IF(语言配置表!A84=\"\",\"\",语言配置表!A84)","v":81},{"$f":"IF(语言配置表!A84=\"\",\"CN_待填充内容\",语言配置表!B84)","v":"提升<color=#7AC180>{0}%</color>%的攻击力"}]
[{"$f":"IF(语言配置表!A85=\"\",\"\",语言配置表!A85)","v":82},{"$f":"IF(语言配置表!A85=\"\",\"CN_待填充内容\",语言配置表!B85)","v":"提高<color=#7AC180>{0}%</color>%的生命值"}]
[{"$f":"IF(语言配置表!A86=\"\",\"\",语言配置表!A86)","v":83},{"$f":"IF(语言配置表!A86=\"\",\"CN_待填充内容\",语言配置表!B86)","v":"对生命值低于<color=#7AC180>{0}%</color>%的英雄，额外提高<color=#7AC180>{0}%</color>%的治疗量"}]
[{"$f":"IF(语言配置表!A87=\"\",\"\",语言配置表!A87)","v":84},{"$f":"IF(语言配置表!A87=\"\",\"CN_待填充内容\",语言配置表!B87)","v":"同时治疗<color=#7AC180>{0}</color>名英雄"}]
[{"$f":"IF(语言配置表!A88=\"\",\"\",语言配置表!A88)","v":85},{"$f":"IF(语言配置表!A88=\"\",\"CN_待填充内容\",语言配置表!B88)","v":"弓箭精通"}]
[{"$f":"IF(语言配置表!A89=\"\",\"\",语言配置表!A89)","v":86},{"$f":"IF(语言配置表!A89=\"\",\"CN_待填充内容\",语言配置表!B89)","v":"生命之力"}]
[{"$f":"IF(语言配置表!A90=\"\",\"\",语言配置表!A90)","v":87},{"$f":"IF(语言配置表!A90=\"\",\"CN_待填充内容\",语言配置表!B90)","v":"无尽射击"}]
[{"$f":"IF(语言配置表!A91=\"\",\"\",语言配置表!A91)","v":88},{"$f":"IF(语言配置表!A91=\"\",\"CN_待填充内容\",语言配置表!B91)","v":"终结射击"}]
[{"$f":"IF(语言配置表!A92=\"\",\"\",语言配置表!A92)","v":89},{"$f":"IF(语言配置表!A92=\"\",\"CN_待填充内容\",语言配置表!B92)","v":"提升<color=#7AC180>{0}%</color>%的攻击力"}]
[{"$f":"IF(语言配置表!A93=\"\",\"\",语言配置表!A93)","v":90},{"$f":"IF(语言配置表!A93=\"\",\"CN_待填充内容\",语言配置表!B93)","v":"提高<color=#7AC180>{0}%</color>%的生命值"}]
[{"$f":"IF(语言配置表!A94=\"\",\"\",语言配置表!A94)","v":91},{"$f":"IF(语言配置表!A94=\"\",\"CN_待填充内容\",语言配置表!B94)","v":"增加<color=#7AC180>{0}</color>支[连续射击]的魔法箭"}]
[{"$f":"IF(语言配置表!A95=\"\",\"\",语言配置表!A95)","v":92},{"$f":"IF(语言配置表!A95=\"\",\"CN_待填充内容\",语言配置表!B95)","v":"对生命值低于<color=#7AC180>{0}%</color>的敌人，额外造成<color=#7AC180>{0}%</color>伤害"}]
[{"$f":"IF(语言配置表!A96=\"\",\"\",语言配置表!A96)","v":93},{"$f":"IF(语言配置表!A96=\"\",\"CN_待填充内容\",语言配置表!B96)","v":"智者之力"}]
[{"$f":"IF(语言配置表!A97=\"\",\"\",语言配置表!A97)","v":94},{"$f":"IF(语言配置表!A97=\"\",\"CN_待填充内容\",语言配置表!B97)","v":"生命之力"}]
[{"$f":"IF(语言配置表!A98=\"\",\"\",语言配置表!A98)","v":95},{"$f":"IF(语言配置表!A98=\"\",\"CN_待填充内容\",语言配置表!B98)","v":"烈焰持续"}]
[{"$f":"IF(语言配置表!A99=\"\",\"\",语言配置表!A99)","v":96},{"$f":"IF(语言配置表!A99=\"\",\"CN_待填充内容\",语言配置表!B99)","v":"超凡暴击"}]
[{"$f":"IF(语言配置表!A100=\"\",\"\",语言配置表!A100)","v":97},{"$f":"IF(语言配置表!A100=\"\",\"CN_待填充内容\",语言配置表!B100)","v":"战士装备"}]
[{"$f":"IF(语言配置表!A101=\"\",\"\",语言配置表!A101)","v":98},{"$f":"IF(语言配置表!A101=\"\",\"CN_待填充内容\",语言配置表!B101)","v":"法师装备"}]
[{"$f":"IF(语言配置表!A102=\"\",\"\",语言配置表!A102)","v":99},{"$f":"IF(语言配置表!A102=\"\",\"CN_待填充内容\",语言配置表!B102)","v":"牧师装备"}]
[{"$f":"IF(语言配置表!A103=\"\",\"\",语言配置表!A103)","v":100},{"$f":"IF(语言配置表!A103=\"\",\"CN_待填充内容\",语言配置表!B103)","v":"游侠装备"}]
[{"$f":"IF(语言配置表!A104=\"\",\"\",语言配置表!A104)","v":""},{"$f":"IF(语言配置表!A104=\"\",\"CN_待填充内容\",语言配置表!B104)","v":"CN_待填充内容"}]
[{"$f":"IF(语言配置表!A105=\"\",\"\",语言配置表!A105)","v":""},{"$f":"IF(语言配置表!A105=\"\",\"CN_待填充内容\",语言配置表!B105)","v":"CN_待填充内容"}]
[{"$f":"IF(语言配置表!A106=\"\",\"\",语言配置表!A106)","v":""},{"$f":"IF(语言配置表!A106=\"\",\"CN_待填充内容\",语言配置表!B106)","v":"CN_待填充内容"}]
[{"$f":"IF(语言配置表!A107=\"\",\"\",语言配置表!A107)","v":""},{"$f":"IF(语言配置表!A107=\"\",\"CN_待填充内容\",语言配置表!B107)","v":"CN_待填充内容"}]
[{"$f":"IF(语言配置表!A108=\"\",\"\",语言配置表!A108)","v":""},{"$f":"IF(语言配置表!A108=\"\",\"CN_待填充内容\",语言配置表!B108)","v":"CN_待填充内容"}]
[null,{"$f":"IF(语言配置表!A109=\"\",\"CN_待填充内容\",语言配置表!B109)","v":"CN_待填充内容"}]