{"text_format":"2","workbook":"xlsx","n_sheets":1,"sheets":["MonsterPowerUpConfig"],"not_rendered":{"charts":0,"images":0,"macros":0,"external_links":3,"defined_names":1,"comments":0,"pivot_tables":0},"unopened":[],"bounds":{"document_bytes":16777216,"sheet_cells":100000,"run_cost":"one","rows_first":2000,"rows_last":500,"rows_between":2000,"halvings":0,"cell_chars":16384,"cell_head_chars":4096},"cells_cut":0,"cells_raw":0,"read":"whole","date_system":"1900"}

{"sheet":"MonsterPowerUpConfig","index":0,"n_rows":304,"n_cols":24,"rows_kept":304,"cut":false,"hidden":false,"merged":[]}
["ID","HeroLevel","jingjie1","jingjie2","jingjie3",null,null,null,"HPFactor","ATKFactor","DEFFactor","HudunFactor","defK","GongfaLv","GongfaStar","FabaoLv","FabaoStar","LinggenUp","MPFactor"]
["int","int","int","int","int",null,null,null,"float","float","float","float","int","int","int","int","int","float","float"]
[]
["ID","玩家修为境界（等级）","大境界ID","中境界ID","小境界ID","境界名称1","境界名称2","境界名称3","生命倍率","攻击倍率","防御倍率","护盾倍率","防御系数K","功法等级","功法星级","法宝等级","法宝星级","灵根成长率\n100=100%","法力倍率"]
[1,1,{"$f":"[1]HeroPowerUpConfig!J5","v":225},{"$f":"[1]HeroPowerUpConfig!K5","v":235},{"$f":"[1]HeroPowerUpConfig!L5","v":238},"筑基期","前",1,{"$f":"[2]主表!P3","v":10.5},{"$f":"[2]主表!Q3","v":1.05},{"$f":"[2]主表!R3","v":1.05},{"$f":"[2]主表!S3","v":0},{"$f":"[2]主表!$G3","v":210},1,1,1,1,100,1]
[2,2,{"$f":"[1]HeroPowerUpConfig!J6","v":225},{"$f":"[1]HeroPowerUpConfig!K6","v":235},{"$f":"[1]HeroPowerUpConfig!L6","v":239},"筑基期","前",2,{"$f":"[2]主表!P4","v":11.148662207357859},{"$f":"[2]主表!Q4","v":1.0649999999999999},{"$f":"[2]主表!R4","v":1.0649999999999999},{"$f":"[2]主表!S4","v":0},{"$f":"[2]主表!$G4","v":213},2,1,1,1,100,1]
[3,3,{"$f":"[1]HeroPowerUpConfig!J7","v":225},{"$f":"[1]HeroPowerUpConfig!K7","v":235},{"$f":"[1]HeroPowerUpConfig!L7","v":240},"筑基期","前",3,{"$f":"[2]主表!P5","v":11.756688963210703},{"$f":"[2]主表!Q5","v":1.075},{"$f":"[2]主表!R5","v":1.075},{"$f":"[2]主表!S5","v":0},{"$f":"[2]主表!$G5","v":215},3,1,2,1,100,1]
[4,4,{"$f":"[1]HeroPowerUpConfig!J8","v":225},{"$f":"[1]HeroPowerUpConfig!K8","v":235},{"$f":"[1]HeroPowerUpConfig!L8","v":241},"筑基期","前",4,{"$f":"[2]主表!P6","v":12.431103678929766},{"$f":"[2]主表!Q6","v":1.0900000000000001},{"$f":"[2]主表!R6","v":1.0900000000000001},{"$f":"[2]主表!S6","v":0},{"$f":"[2]主表!$G6","v":218},4,1,2,1,100,1]
[5,5,{"$f":"[1]HeroPowerUpConfig!J9","v":225},{"$f":"[1]HeroPowerUpConfig!K9","v":235},{"$f":"[1]HeroPowerUpConfig!L9","v":242},"筑基期","前",5,{"$f":"[2]主表!P7","v":13.119565217391303},{"$f":"[2]主表!Q7","v":1.105},{"$f":"[2]主表!R7","v":1.105},{"$f":"[2]主表!S7","v":0},{"$f":"[2]主表!$G7","v":221},5,1,3,1,100,1]
[6,6,{"$f":"[1]HeroPowerUpConfig!J10","v":225},{"$f":"[1]HeroPowerUpConfig!K10","v":235},{"$f":"[1]HeroPowerUpConfig!L10","v":243},"筑基期","前",6,{"$f":"[2]主表!P8","v":13.822073578595319},{"$f":"[2]主表!Q8","v":1.1200000000000001},{"$f":"[2]主表!R8","v":1.1200000000000001},{"$f":"[2]主表!S8","v":0},{"$f":"[2]主表!$G8","v":224},6,1,3,1,100,1]
[7,7,{"$f":"[1]HeroPowerUpConfig!J11","v":225},{"$f":"[1]HeroPowerUpConfig!K11","v":235},{"$f":"[1]HeroPowerUpConfig!L11","v":244},"筑基期","前",7,{"$f":"[2]主表!P9","v":14.538628762541808},{"$f":"[2]主表!Q9","v":1.135},{"$f":"[2]主表!R9","v":1.135},{"$f":"[2]主表!S9","v":0},{"$f":"[2]主表!$G9","v":227},7,1,4,1,100,1]
[8,8,{"$f":"[1]HeroPowerUpConfig!J12","v":225},{"$f":"[1]HeroPowerUpConfig!K12","v":235},{"$f":"[1]HeroPowerUpConfig!L12","v":245},"筑基期","前",8,{"$f":"[2]主表!P10","v":15.269230769230768},{"$f":"[2]主表!Q10","v":1.1499999999999999},{"$f":"[2]主表!R10","v":1.1499999999999999},{"$f":"[2]主表!S10","v":0},{"$f":"[2]主表!$G10","v":230},8,1,4,1,100,1]
[9,9,{"$f":"[1]HeroPowerUpConfig!J13","v":225},{"$f":"[1]HeroPowerUpConfig!K13","v":235},{"$f":"[1]HeroPowerUpConfig!L13","v":246},"筑基期","前",9,{"$f":"[2]主表!P11","v":16.013879598662207},{"$f":"[2]主表!Q11","v":1.165},{"$f":"[2]主表!R11","v":1.165},{"$f":"[2]主表!S11","v":0},{"$f":"[2]主表!$G11","v":233},9,1,5,1,100,1]
[10,10,{"$f":"[1]HeroPowerUpConfig!J14","v":225},{"$f":"[1]HeroPowerUpConfig!K14","v":235},{"$f":"[1]HeroPowerUpConfig!L14","v":247},"筑基期","前",10,{"$f":"[2]主表!P12","v":16.77257525083612},{"$f":"[2]主表!Q12","v":1.18},{"$f":"[2]主表!R12","v":1.18},{"$f":"[2]主表!S12","v":0},{"$f":"[2]主表!$G12","v":236},10,1,5,1,100,1]
[11,11,{"$f":"[1]HeroPowerUpConfig!J15","v":225},{"$f":"[1]HeroPowerUpConfig!K15","v":236},{"$f":"[1]HeroPowerUpConfig!L15","v":238},"筑基期","中",1,{"$f":"[2]主表!P13","v":19.23377926421405},{"$f":"[2]主表!Q13","v":1.31},{"$f":"[2]主表!R13","v":1.31},{"$f":"[2]主表!S13","v":0},{"$f":"[2]主表!$G13","v":262},11,1,6,1,100,1]
[12,12,{"$f":"[1]HeroPowerUpConfig!J16","v":225},{"$f":"[1]HeroPowerUpConfig!K16","v":236},{"$f":"[1]HeroPowerUpConfig!L16","v":239},"筑基期","中",2,{"$f":"[2]主表!P14","v":20.074414715719065},{"$f":"[2]主表!Q14","v":1.325},{"$f":"[2]主表!R14","v":1.325},{"$f":"[2]主表!S14","v":0},{"$f":"[2]主表!$G14","v":265},12,1,6,1,100,1]
[13,13,{"$f":"[1]HeroPowerUpConfig!J17","v":225},{"$f":"[1]HeroPowerUpConfig!K17","v":236},{"$f":"[1]HeroPowerUpConfig!L17","v":240},"筑基期","中",3,{"$f":"[2]主表!P15","v":21.007190635451508},{"$f":"[2]主表!Q15","v":1.345},{"$f":"[2]主表!R15","v":1.345},{"$f":"[2]主表!S15","v":0},{"$f":"[2]主表!$G15","v":269},13,1,7,1,100,1]
[14,14,{"$f":"[1]HeroPowerUpConfig!J18","v":225},{"$f":"[1]HeroPowerUpConfig!K18","v":236},{"$f":"[1]HeroPowerUpConfig!L18","v":241},"筑基期","中",4,{"$f":"[2]主表!P16","v":21.958695652173912},{"$f":"[2]主表!Q16","v":1.365},{"$f":"[2]主表!R16","v":1.365},{"$f":"[2]主表!S16","v":0},{"$f":"[2]主表!$G16","v":273},14,1,7,1,100,1]
[15,15,{"$f":"[1]HeroPowerUpConfig!J19","v":225},{"$f":"[1]HeroPowerUpConfig!K19","v":236},{"$f":"[1]HeroPowerUpConfig!L19","v":242},"筑基期","中",5,{"$f":"[2]主表!P17","v":22.928929765886288},{"$f":"[2]主表!Q17","v":1.385},{"$f":"[2]主表!R17","v":1.385},{"$f":"[2]主表!S17","v":0},{"$f":"[2]主表!$G17","v":277},15,1,8,1,100,1]
[16,16,{"$f":"[1]HeroPowerUpConfig!J20","v":225},{"$f":"[1]HeroPowerUpConfig!K20","v":236},{"$f":"[1]HeroPowerUpConfig!L20","v":243},"筑基期","中",6,{"$f":"[2]主表!P18","v":23.917892976588632},{"$f":"[2]主表!Q18","v":1.405},{"$f":"[2]主表!R18","v":1.405},{"$f":"[2]主表!S18","v":0},{"$f":"[2]主表!$G18","v":281},16,1,8,1,100,1]
[17,17,{"$f":"[1]HeroPowerUpConfig!J21","v":225},{"$f":"[1]HeroPowerUpConfig!K21","v":236},{"$f":"[1]HeroPowerUpConfig!L21","v":244},"筑基期","中",7,{"$f":"[2]主表!P19","v":24.925585284280935},{"$f":"[2]主表!Q19","v":1.425},{"$f":"[2]主表!R19","v":1.425},{"$f":"[2]主表!S19","v":0},{"$f":"[2]主表!$G19","v":285},17,1,9,1,100,1]
[18,18,{"$f":"[1]HeroPowerUpConfig!J22","v":225},{"$f":"[1]HeroPowerUpConfig!K22","v":236},{"$f":"[1]HeroPowerUpConfig!L22","v":245},"筑基期","中",8,{"$f":"[2]主表!P20","v":25.952006688963213},{"$f":"[2]主表!Q20","v":1.4450000000000001},{"$f":"[2]主表!R20","v":1.4450000000000001},{"$f":"[2]主表!S20","v":0},{"$f":"[2]主表!$G20","v":289},18,1,9,1,100,1]
[19,19,{"$f":"[1]HeroPowerUpConfig!J23","v":225},{"$f":"[1]HeroPowerUpConfig!K23","v":236},{"$f":"[1]HeroPowerUpConfig!L23","v":246},"筑基期","中",9,{"$f":"[2]主表!P21","v":26.997157190635448},{"$f":"[2]主表!Q21","v":1.4650000000000001},{"$f":"[2]主表!R21","v":1.4650000000000001},{"$f":"[2]主表!S21","v":0},{"$f":"[2]主表!$G21","v":293},19,1,10,1,100,1]
[20,20,{"$f":"[1]HeroPowerUpConfig!J24","v":225},{"$f":"[1]HeroPowerUpConfig!K24","v":236},{"$f":"[1]HeroPowerUpConfig!L24","v":247},"筑基期","中",10,{"$f":"[2]主表!P22","v":28.155518394648826},{"$f":"[2]主表!Q22","v":1.49},{"$f":"[2]主表!R22","v":1.49},{"$f":"[2]主表!S22","v":0},{"$f":"[2]主表!$G22","v":298},20,1,10,1,100,1]
[21,21,{"$f":"[1]HeroPowerUpConfig!J25","v":225},{"$f":"[1]HeroPowerUpConfig!K25","v":237},{"$f":"[1]HeroPowerUpConfig!L25","v":238},"筑基期","后",1,{"$f":"[2]主表!P23","v":33.500668896321073},{"$f":"[2]主表!Q23","v":1.73},{"$f":"[2]主表!R23","v":1.73},{"$f":"[2]主表!S23","v":0},{"$f":"[2]主表!$G23","v":346},21,1,11,1,100,1]
[22,22,{"$f":"[1]HeroPowerUpConfig!J26","v":225},{"$f":"[1]HeroPowerUpConfig!K26","v":237},{"$f":"[1]HeroPowerUpConfig!L26","v":239},"筑基期","后",2,{"$f":"[2]主表!P24","v":34.806521739130432},{"$f":"[2]主表!Q24","v":1.7549999999999999},{"$f":"[2]主表!R24","v":1.7549999999999999},{"$f":"[2]主表!S24","v":0},{"$f":"[2]主表!$G24","v":351},22,1,11,1,100,1]
[23,23,{"$f":"[1]HeroPowerUpConfig!J27","v":225},{"$f":"[1]HeroPowerUpConfig!K27","v":237},{"$f":"[1]HeroPowerUpConfig!L27","v":240},"筑基期","后",3,{"$f":"[2]主表!P25","v":36.135785953177262},{"$f":"[2]主表!Q25","v":1.78},{"$f":"[2]主表!R25","v":1.78},{"$f":"[2]主表!S25","v":0},{"$f":"[2]主表!$G25","v":356},23,1,12,1,100,1]
[24,24,{"$f":"[1]HeroPowerUpConfig!J28","v":225},{"$f":"[1]HeroPowerUpConfig!K28","v":237},{"$f":"[1]HeroPowerUpConfig!L28","v":241},"筑基期","后",4,{"$f":"[2]主表!P26","v":37.488461538461529},{"$f":"[2]主表!Q26","v":1.8049999999999999},{"$f":"[2]主表!R26","v":1.8049999999999999},{"$f":"[2]主表!S26","v":0},{"$f":"[2]主表!$G26","v":361},24,1,12,1,100,1]
[25,25,{"$f":"[1]HeroPowerUpConfig!J29","v":225},{"$f":"[1]HeroPowerUpConfig!K29","v":237},{"$f":"[1]HeroPowerUpConfig!L29","v":242},"筑基期","后",5,{"$f":"[2]主表!P27","v":38.970735785953181},{"$f":"[2]主表!Q27","v":1.835},{"$f":"[2]主表!R27","v":1.835},{"$f":"[2]主表!S27","v":0},{"$f":"[2]主表!$G27","v":367},25,1,13,1,100,1]
[26,26,{"$f":"[1]HeroPowerUpConfig!J30","v":225},{"$f":"[1]HeroPowerUpConfig!K30","v":237},{"$f":"[1]HeroPowerUpConfig!L30","v":243},"筑基期","后",6,{"$f":"[2]主表!P28","v":40.372575250836121},{"$f":"[2]主表!Q28","v":1.86},{"$f":"[2]主表!R28","v":1.86},{"$f":"[2]主表!S28","v":0},{"$f":"[2]主表!$G28","v":372},26,1,13,1,100,1]
[27,27,{"$f":"[1]HeroPowerUpConfig!J31","v":225},{"$f":"[1]HeroPowerUpConfig!K31","v":237},{"$f":"[1]HeroPowerUpConfig!L31","v":244},"筑基期","后",7,{"$f":"[2]主表!P29","v":41.908695652173911},{"$f":"[2]主表!Q29","v":1.89},{"$f":"[2]主表!R29","v":1.89},{"$f":"[2]主表!S29","v":0},{"$f":"[2]主表!$G29","v":378},27,1,14,1,100,1]
[28,28,{"$f":"[1]HeroPowerUpConfig!J32","v":225},{"$f":"[1]HeroPowerUpConfig!K32","v":237},{"$f":"[1]HeroPowerUpConfig!L32","v":245},"筑基期","后",8,{"$f":"[2]主表!P30","v":43.472909698996659},{"$f":"[2]主表!Q30","v":1.92},{"$f":"[2]主表!R30","v":1.92},{"$f":"[2]主表!S30","v":0},{"$f":"[2]主表!$G30","v":384},28,1,14,1,100,1]
[29,29,{"$f":"[1]HeroPowerUpConfig!J33","v":225},{"$f":"[1]HeroPowerUpConfig!K33","v":237},{"$f":"[1]HeroPowerUpConfig!L33","v":246},"筑基期","后",9,{"$f":"[2]主表!P31","v":45.065217391304344},{"$f":"[2]主表!Q31","v":1.95},{"$f":"[2]主表!R31","v":1.95},{"$f":"[2]主表!S31","v":0},{"$f":"[2]主表!$G31","v":390},29,1,15,1,100,1]
[30,30,{"$f":"[1]HeroPowerUpConfig!J34","v":225},{"$f":"[1]HeroPowerUpConfig!K34","v":237},{"$f":"[1]HeroPowerUpConfig!L34","v":247},"筑基期","后",10,{"$f":"[2]主表!P32","v":46.685618729096987},{"$f":"[2]主表!Q32","v":1.98},{"$f":"[2]主表!R32","v":1.98},{"$f":"[2]主表!S32","v":0},{"$f":"[2]主表!$G32","v":396},30,1,15,1,100,1]
[31,31,{"$f":"[1]HeroPowerUpConfig!J35","v":226},{"$f":"[1]HeroPowerUpConfig!K35","v":235},{"$f":"[1]HeroPowerUpConfig!L35","v":238},"金丹期","前",1,{"$f":"[2]主表!P33","v":62.64197324414716},{"$f":"[2]主表!Q33","v":2.605},{"$f":"[2]主表!R33","v":2.605},{"$f":"[2]主表!S33","v":0},{"$f":"[2]主表!$G33","v":521},31,1,16,1,100,1]
[32,32,{"$f":"[1]HeroPowerUpConfig!J36","v":226},{"$f":"[1]HeroPowerUpConfig!K36","v":235},{"$f":"[1]HeroPowerUpConfig!L36","v":239},"金丹期","前",2,{"$f":"[2]主表!P34","v":64.964882943143806},{"$f":"[2]主表!Q34","v":2.65},{"$f":"[2]主表!R34","v":2.65},{"$f":"[2]主表!S34","v":0},{"$f":"[2]主表!$G34","v":530},32,1,16,1,100,1]
[33,33,{"$f":"[1]HeroPowerUpConfig!J37","v":226},{"$f":"[1]HeroPowerUpConfig!K37","v":235},{"$f":"[1]HeroPowerUpConfig!L37","v":240},"金丹期","前",3,{"$f":"[2]主表!P35","v":67.205016722408018},{"$f":"[2]主表!Q35","v":2.69},{"$f":"[2]主表!R35","v":2.69},{"$f":"[2]主表!S35","v":0},{"$f":"[2]主表!$G35","v":538},33,1,17,1,100,1]
[34,34,{"$f":"[1]HeroPowerUpConfig!J38","v":226},{"$f":"[1]HeroPowerUpConfig!K38","v":235},{"$f":"[1]HeroPowerUpConfig!L38","v":241},"金丹期","前",4,{"$f":"[2]主表!P36","v":69.482608695652189},{"$f":"[2]主表!Q36","v":2.73},{"$f":"[2]主表!R36","v":2.73},{"$f":"[2]主表!S36","v":0},{"$f":"[2]主表!$G36","v":546},34,1,17,1,100,1]
[35,35,{"$f":"[1]HeroPowerUpConfig!J39","v":226},{"$f":"[1]HeroPowerUpConfig!K39","v":235},{"$f":"[1]HeroPowerUpConfig!L39","v":242},"金丹期","前",5,{"$f":"[2]主表!P37","v":71.927257525083604},{"$f":"[2]主表!Q37","v":2.7749999999999999},{"$f":"[2]主表!R37","v":2.7749999999999999},{"$f":"[2]主表!S37","v":0},{"$f":"[2]主表!$G37","v":555},35,1,18,1,100,1]
[36,36,{"$f":"[1]HeroPowerUpConfig!J40","v":226},{"$f":"[1]HeroPowerUpConfig!K40","v":235},{"$f":"[1]HeroPowerUpConfig!L40","v":243},"金丹期","前",6,{"$f":"[2]主表!P38","v":74.414046822742478},{"$f":"[2]主表!Q38","v":2.82},{"$f":"[2]主表!R38","v":2.82},{"$f":"[2]主表!S38","v":0},{"$f":"[2]主表!$G38","v":564},36,1,18,1,100,1]
[37,37,{"$f":"[1]HeroPowerUpConfig!J41","v":226},{"$f":"[1]HeroPowerUpConfig!K41","v":235},{"$f":"[1]HeroPowerUpConfig!L41","v":244},"金丹期","前",7,{"$f":"[2]主表!P39","v":76.942976588628767},{"$f":"[2]主表!Q39","v":2.8650000000000002},{"$f":"[2]主表!R39","v":2.8650000000000002},{"$f":"[2]主表!S39","v":0},{"$f":"[2]主表!$G39","v":573},37,1,19,1,100,1]
[38,38,{"$f":"[1]HeroPowerUpConfig!J42","v":226},{"$f":"[1]HeroPowerUpConfig!K42","v":235},{"$f":"[1]HeroPowerUpConfig!L42","v":245},"金丹期","前",8,{"$f":"[2]主表!P40","v":79.650668896321079},{"$f":"[2]主表!Q40","v":2.915},{"$f":"[2]主表!R40","v":2.915},{"$f":"[2]主表!S40","v":0},{"$f":"[2]主表!$G40","v":583},38,1,19,1,100,1]
[39,39,{"$f":"[1]HeroPowerUpConfig!J43","v":226},{"$f":"[1]HeroPowerUpConfig!K43","v":235},{"$f":"[1]HeroPowerUpConfig!L43","v":246},"金丹期","前",9,{"$f":"[2]主表!P41","v":82.26622073578595},{"$f":"[2]主表!Q41","v":2.96},{"$f":"[2]主表!R41","v":2.96},{"$f":"[2]主表!S41","v":0},{"$f":"[2]主表!$G41","v":592},39,1,20,1,100,1]
[40,40,{"$f":"[1]HeroPowerUpConfig!J44","v":226},{"$f":"[1]HeroPowerUpConfig!K44","v":235},{"$f":"[1]HeroPowerUpConfig!L44","v":247},"金丹期","前",10,{"$f":"[2]主表!P42","v":85.065217391304344},{"$f":"[2]主表!Q42","v":3.01},{"$f":"[2]主表!R42","v":3.01},{"$f":"[2]主表!S42","v":0},{"$f":"[2]主表!$G42","v":602},40,1,20,1,100,1]
[41,41,{"$f":"[1]HeroPowerUpConfig!J45","v":226},{"$f":"[1]HeroPowerUpConfig!K45","v":236},{"$f":"[1]HeroPowerUpConfig!L45","v":238},"金丹期","中",1,{"$f":"[2]主表!P43","v":96.52976588628762},{"$f":"[2]主表!Q43","v":3.36},{"$f":"[2]主表!R43","v":3.36},{"$f":"[2]主表!S43","v":0},{"$f":"[2]主表!$G43","v":672},41,1,21,1,100,1]
[42,42,{"$f":"[1]HeroPowerUpConfig!J46","v":226},{"$f":"[1]HeroPowerUpConfig!K46","v":236},{"$f":"[1]HeroPowerUpConfig!L46","v":239},"金丹期","中",2,{"$f":"[2]主表!P44","v":99.708862876254187},{"$f":"[2]主表!Q44","v":3.415},{"$f":"[2]主表!R44","v":3.415},{"$f":"[2]主表!S44","v":0},{"$f":"[2]主表!$G44","v":683},42,1,21,1,100,1]
[43,43,{"$f":"[1]HeroPowerUpConfig!J47","v":226},{"$f":"[1]HeroPowerUpConfig!K47","v":236},{"$f":"[1]HeroPowerUpConfig!L47","v":240},"金丹期","中",3,{"$f":"[2]主表!P45","v":103.08779264214047},{"$f":"[2]主表!Q45","v":3.4750000000000001},{"$f":"[2]主表!R45","v":3.4750000000000001},{"$f":"[2]主表!S45","v":0},{"$f":"[2]主表!$G45","v":695},43,1,22,1,100,1]
[44,44,{"$f":"[1]HeroPowerUpConfig!J48","v":226},{"$f":"[1]HeroPowerUpConfig!K48","v":236},{"$f":"[1]HeroPowerUpConfig!L48","v":241},"金丹期","中",4,{"$f":"[2]主表!P46","v":106.52290969899666},{"$f":"[2]主表!Q46","v":3.5350000000000001},{"$f":"[2]主表!R46","v":3.5350000000000001},{"$f":"[2]主表!S46","v":0},{"$f":"[2]主表!$G46","v":707},44,1,22,1,100,1]
[45,45,{"$f":"[1]HeroPowerUpConfig!J49","v":226},{"$f":"[1]HeroPowerUpConfig!K49","v":236},{"$f":"[1]HeroPowerUpConfig!L49","v":242},"金丹期","中",5,{"$f":"[2]主表!P47","v":110.01421404682274},{"$f":"[2]主表!Q47","v":3.5950000000000002},{"$f":"[2]主表!R47","v":3.5950000000000002},{"$f":"[2]主表!S47","v":0},{"$f":"[2]主表!$G47","v":719},45,1,23,1,100,1]
[46,46,{"$f":"[1]HeroPowerUpConfig!J50","v":226},{"$f":"[1]HeroPowerUpConfig!K50","v":236},{"$f":"[1]HeroPowerUpConfig!L50","v":243},"金丹期","中",6,{"$f":"[2]主表!P48","v":113.56170568561872},{"$f":"[2]主表!Q48","v":3.6549999999999998},{"$f":"[2]主表!R48","v":3.6549999999999998},{"$f":"[2]主表!S48","v":0},{"$f":"[2]主表!$G48","v":731},46,1,23,1,100,1]
[47,47,{"$f":"[1]HeroPowerUpConfig!J51","v":226},{"$f":"[1]HeroPowerUpConfig!K51","v":236},{"$f":"[1]HeroPowerUpConfig!L51","v":244},"金丹期","中",7,{"$f":"[2]主表!P49","v":117.16538461538461},{"$f":"[2]主表!Q49","v":3.7149999999999999},{"$f":"[2]主表!R49","v":3.7149999999999999},{"$f":"[2]主表!S49","v":0},{"$f":"[2]主表!$G49","v":743},47,1,24,1,100,1]
[48,48,{"$f":"[1]HeroPowerUpConfig!J52","v":226},{"$f":"[1]HeroPowerUpConfig!K52","v":236},{"$f":"[1]HeroPowerUpConfig!L52","v":245},"金丹期","中",8,{"$f":"[2]主表!P50","v":120.98528428093644},{"$f":"[2]主表!Q50","v":3.78},{"$f":"[2]主表!R50","v":3.78},{"$f":"[2]主表!S50","v":0},{"$f":"[2]主表!$G50","v":756},48,1,24,1,100,1]
[49,49,{"$f":"[1]HeroPowerUpConfig!J53","v":226},{"$f":"[1]HeroPowerUpConfig!K53","v":236},{"$f":"[1]HeroPowerUpConfig!L53","v":246},"金丹期","中",9,{"$f":"[2]主表!P51","v":124.86605351170569},{"$f":"[2]主表!Q51","v":3.8450000000000002},{"$f":"[2]主表!R51","v":3.8450000000000002},{"$f":"[2]主表!S51","v":0},{"$f":"[2]主表!$G51","v":769},49,1,25,1,100,1]
[50,50,{"$f":"[1]HeroPowerUpConfig!J54","v":226},{"$f":"[1]HeroPowerUpConfig!K54","v":236},{"$f":"[1]HeroPowerUpConfig!L54","v":247},"金丹期","中",10,{"$f":"[2]主表!P52","v":128.97240802675586},{"$f":"[2]主表!Q52","v":3.915},{"$f":"[2]主表!R52","v":3.915},{"$f":"[2]主表!S52","v":0},{"$f":"[2]主表!$G52","v":783},50,1,25,1,100,1]
[51,51,{"$f":"[1]HeroPowerUpConfig!J55","v":226},{"$f":"[1]HeroPowerUpConfig!K55","v":237},{"$f":"[1]HeroPowerUpConfig!L55","v":238},"金丹期","后",1,{"$f":"[2]主表!P53","v":152.68996655518396},{"$f":"[2]主表!Q53","v":4.57},{"$f":"[2]主表!R53","v":4.57},{"$f":"[2]主表!S53","v":0},{"$f":"[2]主表!$G53","v":914},51,2,26,2,100,1]
[52,52,{"$f":"[1]HeroPowerUpConfig!J56","v":226},{"$f":"[1]HeroPowerUpConfig!K56","v":237},{"$f":"[1]HeroPowerUpConfig!L56","v":239},"金丹期","后",2,{"$f":"[2]主表!P54","v":157.54013377926424},{"$f":"[2]主表!Q54","v":4.6500000000000004},{"$f":"[2]主表!R54","v":4.6500000000000004},{"$f":"[2]主表!S54","v":0},{"$f":"[2]主表!$G54","v":930},52,2,26,2,100,1]
[53,53,{"$f":"[1]HeroPowerUpConfig!J57","v":226},{"$f":"[1]HeroPowerUpConfig!K57","v":237},{"$f":"[1]HeroPowerUpConfig!L57","v":240},"金丹期","后",3,{"$f":"[2]主表!P55","v":162.46521739130435},{"$f":"[2]主表!Q55","v":4.7300000000000004},{"$f":"[2]主表!R55","v":4.7300000000000004},{"$f":"[2]主表!S55","v":0},{"$f":"[2]主表!$G55","v":946},53,2,27,2,100,1]
[54,54,{"$f":"[1]HeroPowerUpConfig!J58","v":226},{"$f":"[1]HeroPowerUpConfig!K58","v":237},{"$f":"[1]HeroPowerUpConfig!L58","v":241},"金丹期","后",4,{"$f":"[2]主表!P56","v":167.46521739130432},{"$f":"[2]主表!Q56","v":4.8099999999999996},{"$f":"[2]主表!R56","v":4.8099999999999996},{"$f":"[2]主表!S56","v":0},{"$f":"[2]主表!$G56","v":962},54,2,27,2,100,1]
[55,55,{"$f":"[1]HeroPowerUpConfig!J59","v":226},{"$f":"[1]HeroPowerUpConfig!K59","v":237},{"$f":"[1]HeroPowerUpConfig!L59","v":242},"金丹期","后",5,{"$f":"[2]主表!P57","v":172.7165551839465},{"$f":"[2]主表!Q57","v":4.8949999999999996},{"$f":"[2]主表!R57","v":4.8949999999999996},{"$f":"[2]主表!S57","v":0},{"$f":"[2]主表!$G57","v":979},55,2,28,2,100,1]
[56,56,{"$f":"[1]HeroPowerUpConfig!J60","v":226},{"$f":"[1]HeroPowerUpConfig!K60","v":237},{"$f":"[1]HeroPowerUpConfig!L60","v":243},"金丹期","后",6,{"$f":"[2]主表!P58","v":178.04749163879598},{"$f":"[2]主表!Q58","v":4.9800000000000004},{"$f":"[2]主表!R58","v":4.9800000000000004},{"$f":"[2]主表!S58","v":0},{"$f":"[2]主表!$G58","v":996},56,2,28,2,100,1]
[57,57,{"$f":"[1]HeroPowerUpConfig!J61","v":226},{"$f":"[1]HeroPowerUpConfig!K61","v":237},{"$f":"[1]HeroPowerUpConfig!L61","v":244},"金丹期","后",7,{"$f":"[2]主表!P59","v":183.45802675585287},{"$f":"[2]主表!Q59","v":5.0650000000000004},{"$f":"[2]主表!R59","v":5.0650000000000004},{"$f":"[2]主表!S59","v":0},{"$f":"[2]主表!$G59","v":1013},57,2,29,2,100,1]
[58,58,{"$f":"[1]HeroPowerUpConfig!J62","v":226},{"$f":"[1]HeroPowerUpConfig!K62","v":237},{"$f":"[1]HeroPowerUpConfig!L62","v":245},"金丹期","后",8,{"$f":"[2]主表!P60","v":189.13160535117058},{"$f":"[2]主表!Q60","v":5.1550000000000002},{"$f":"[2]主表!R60","v":5.1550000000000002},{"$f":"[2]主表!S60","v":0},{"$f":"[2]主表!$G60","v":1031},58,2,29,2,100,1]
[59,59,{"$f":"[1]HeroPowerUpConfig!J63","v":226},{"$f":"[1]HeroPowerUpConfig!K63","v":237},{"$f":"[1]HeroPowerUpConfig!L63","v":246},"金丹期","后",9,{"$f":"[2]主表!P61","v":194.88946488294314},{"$f":"[2]主表!Q61","v":5.2450000000000001},{"$f":"[2]主表!R61","v":5.2450000000000001},{"$f":"[2]主表!S61","v":0},{"$f":"[2]主表!$G61","v":1049},59,2,30,2,100,1]
[60,60,{"$f":"[1]HeroPowerUpConfig!J64","v":226},{"$f":"[1]HeroPowerUpConfig!K64","v":237},{"$f":"[1]HeroPowerUpConfig!L64","v":247},"金丹期","后",10,{"$f":"[2]主表!P62","v":200.91973244147155},{"$f":"[2]主表!Q62","v":5.34},{"$f":"[2]主表!R62","v":5.34},{"$f":"[2]主表!S62","v":0},{"$f":"[2]主表!$G62","v":1068},60,2,30,2,100,1]
[61,61,{"$f":"[1]HeroPowerUpConfig!J65","v":227},{"$f":"[1]HeroPowerUpConfig!K65","v":235},{"$f":"[1]HeroPowerUpConfig!L65","v":238},"元婴期","前",1,{"$f":"[2]主表!P63","v":270.08394648829432},{"$f":"[2]主表!Q63","v":7.09},{"$f":"[2]主表!R63","v":7.09},{"$f":"[2]主表!S63","v":0},{"$f":"[2]主表!$G63","v":1418},61,2,31,2,100,1]
[62,62,{"$f":"[1]HeroPowerUpConfig!J66","v":227},{"$f":"[1]HeroPowerUpConfig!K66","v":235},{"$f":"[1]HeroPowerUpConfig!L66","v":239},"元婴期","前",2,{"$f":"[2]主表!P64","v":278.41672240802671},{"$f":"[2]主表!Q64","v":7.22},{"$f":"[2]主表!R64","v":7.22},{"$f":"[2]主表!S64","v":0},{"$f":"[2]主表!$G64","v":1444},62,2,31,2,100,1]
[63,63,{"$f":"[1]HeroPowerUpConfig!J67","v":227},{"$f":"[1]HeroPowerUpConfig!K67","v":235},{"$f":"[1]HeroPowerUpConfig!L67","v":240},"元婴期","前",3,{"$f":"[2]主表!P65","v":287.06638795986623},{"$f":"[2]主表!Q65","v":7.3550000000000004},{"$f":"[2]主表!R65","v":7.3550000000000004},{"$f":"[2]主表!S65","v":0},{"$f":"[2]主表!$G65","v":1471},63,2,32,2,100,1]
[64,64,{"$f":"[1]HeroPowerUpConfig!J68","v":227},{"$f":"[1]HeroPowerUpConfig!K68","v":235},{"$f":"[1]HeroPowerUpConfig!L68","v":241},"元婴期","前",4,{"$f":"[2]主表!P66","v":295.84247491638797},{"$f":"[2]主表!Q66","v":7.49},{"$f":"[2]主表!R66","v":7.49},{"$f":"[2]主表!S66","v":0},{"$f":"[2]主表!$G66","v":1498},64,2,32,2,100,1]
[65,65,{"$f":"[1]HeroPowerUpConfig!J69","v":227},{"$f":"[1]HeroPowerUpConfig!K69","v":235},{"$f":"[1]HeroPowerUpConfig!L69","v":242},"元婴期","前",5,{"$f":"[2]主表!P67","v":304.94481605351166},{"$f":"[2]主表!Q67","v":7.63},{"$f":"[2]主表!R67","v":7.63},{"$f":"[2]主表!S67","v":0},{"$f":"[2]主表!$G67","v":1526},65,2,33,2,100,1]
[66,66,{"$f":"[1]HeroPowerUpConfig!J70","v":227},{"$f":"[1]HeroPowerUpConfig!K70","v":235},{"$f":"[1]HeroPowerUpConfig!L70","v":243},"元婴期","前",6,{"$f":"[2]主表!P68","v":314.78478260869571},{"$f":"[2]主表!Q68","v":7.7850000000000001},{"$f":"[2]主表!R68","v":7.7850000000000001},{"$f":"[2]主表!S68","v":0},{"$f":"[2]主表!$G68","v":1557},66,2,33,2,100,1]
[67,67,{"$f":"[1]HeroPowerUpConfig!J71","v":227},{"$f":"[1]HeroPowerUpConfig!K71","v":235},{"$f":"[1]HeroPowerUpConfig!L71","v":244},"元婴期","前",7,{"$f":"[2]主表!P69","v":324.97441471571909},{"$f":"[2]主表!Q69","v":7.9450000000000003},{"$f":"[2]主表!R69","v":7.9450000000000003},{"$f":"[2]主表!S69","v":0},{"$f":"[2]主表!$G69","v":1589},67,2,34,2,100,1]
[68,68,{"$f":"[1]HeroPowerUpConfig!J72","v":227},{"$f":"[1]HeroPowerUpConfig!K72","v":235},{"$f":"[1]HeroPowerUpConfig!L72","v":245},"元婴期","前",8,{"$f":"[2]主表!P70","v":335.52073578595321},{"$f":"[2]主表!Q70","v":8.11},{"$f":"[2]主表!R70","v":8.11},{"$f":"[2]主表!S70","v":0},{"$f":"[2]主表!$G70","v":1622},68,2,34,2,100,1]
[69,69,{"$f":"[1]HeroPowerUpConfig!J73","v":227},{"$f":"[1]HeroPowerUpConfig!K73","v":235},{"$f":"[1]HeroPowerUpConfig!L73","v":246},"元婴期","前",9,{"$f":"[2]主表!P71","v":346.43076923076922},{"$f":"[2]主表!Q71","v":8.2799999999999994},{"$f":"[2]主表!R71","v":8.2799999999999994},{"$f":"[2]主表!S71","v":0},{"$f":"[2]主表!$G71","v":1656},69,2,35,2,100,1]
[70,70,{"$f":"[1]HeroPowerUpConfig!J74","v":227},{"$f":"[1]HeroPowerUpConfig!K74","v":235},{"$f":"[1]HeroPowerUpConfig!L74","v":247},"元婴期","前",10,{"$f":"[2]主表!P72","v":357.71153846153845},{"$f":"[2]主表!Q72","v":8.4550000000000001},{"$f":"[2]主表!R72","v":8.4550000000000001},{"$f":"[2]主表!S72","v":0},{"$f":"[2]主表!$G72","v":1691},70,2,35,2,100,1]
[71,71,{"$f":"[1]HeroPowerUpConfig!J75","v":227},{"$f":"[1]HeroPowerUpConfig!K75","v":236},{"$f":"[1]HeroPowerUpConfig!L75","v":238},"元婴期","中",1,{"$f":"[2]主表!P73","v":407.4406354515051},{"$f":"[2]主表!Q73","v":9.5250000000000004},{"$f":"[2]主表!R73","v":9.5250000000000004},{"$f":"[2]主表!S73","v":0},{"$f":"[2]主表!$G73","v":1905},71,2,36,2,100,1]
[72,72,{"$f":"[1]HeroPowerUpConfig!J76","v":227},{"$f":"[1]HeroPowerUpConfig!K76","v":236},{"$f":"[1]HeroPowerUpConfig!L76","v":239},"元婴期","中",2,{"$f":"[2]主表!P74","v":420.54933110367892},{"$f":"[2]主表!Q74","v":9.7249999999999996},{"$f":"[2]主表!R74","v":9.7249999999999996},{"$f":"[2]主表!S74","v":0},{"$f":"[2]主表!$G74","v":1945},72,2,36,2,100,1]
[73,73,{"$f":"[1]HeroPowerUpConfig!J77","v":227},{"$f":"[1]HeroPowerUpConfig!K77","v":236},{"$f":"[1]HeroPowerUpConfig!L77","v":240},"元婴期","中",3,{"$f":"[2]主表!P75","v":434.06387959866214},{"$f":"[2]主表!Q75","v":9.93},{"$f":"[2]主表!R75","v":9.93},{"$f":"[2]主表!S75","v":0},{"$f":"[2]主表!$G75","v":1986},73,2,37,2,100,1]
[74,74,{"$f":"[1]HeroPowerUpConfig!J78","v":227},{"$f":"[1]HeroPowerUpConfig!K78","v":236},{"$f":"[1]HeroPowerUpConfig!L78","v":241},"元婴期","中",4,{"$f":"[2]主表!P76","v":447.99130434782614},{"$f":"[2]主表!Q76","v":10.14},{"$f":"[2]主表!R76","v":10.14},{"$f":"[2]主表!S76","v":0},{"$f":"[2]主表!$G76","v":2028},74,2,37,2,100,1]
[75,75,{"$f":"[1]HeroPowerUpConfig!J79","v":227},{"$f":"[1]HeroPowerUpConfig!K79","v":236},{"$f":"[1]HeroPowerUpConfig!L79","v":242},"元婴期","中",5,{"$f":"[2]主表!P77","v":462.33862876254187},{"$f":"[2]主表!Q77","v":10.355},{"$f":"[2]主表!R77","v":10.355},{"$f":"[2]主表!S77","v":0},{"$f":"[2]主表!$G77","v":2071},75,2,38,2,100,1]
[76,76,{"$f":"[1]HeroPowerUpConfig!J80","v":227},{"$f":"[1]HeroPowerUpConfig!K80","v":236},{"$f":"[1]HeroPowerUpConfig!L80","v":243},"元婴期","中",6,{"$f":"[2]主表!P78","v":477.11287625418061},{"$f":"[2]主表!Q78","v":10.574999999999999},{"$f":"[2]主表!R78","v":10.574999999999999},{"$f":"[2]主表!S78","v":0},{"$f":"[2]主表!$G78","v":2115},76,2,38,2,100,1]
[77,77,{"$f":"[1]HeroPowerUpConfig!J81","v":227},{"$f":"[1]HeroPowerUpConfig!K81","v":236},{"$f":"[1]HeroPowerUpConfig!L81","v":244},"元婴期","中",7,{"$f":"[2]主表!P79","v":492.54899665551829},{"$f":"[2]主表!Q79","v":10.805},{"$f":"[2]主表!R79","v":10.805},{"$f":"[2]主表!S79","v":0},{"$f":"[2]主表!$G79","v":2161},77,2,39,2,100,1]
[78,78,{"$f":"[1]HeroPowerUpConfig!J82","v":227},{"$f":"[1]HeroPowerUpConfig!K82","v":236},{"$f":"[1]HeroPowerUpConfig!L82","v":245},"元婴期","中",8,{"$f":"[2]主表!P80","v":508.20050167224082},{"$f":"[2]主表!Q80","v":11.035},{"$f":"[2]主表!R80","v":11.035},{"$f":"[2]主表!S80","v":0},{"$f":"[2]主表!$G80","v":2207},78,2,39,2,100,1]
[79,79,{"$f":"[1]HeroPowerUpConfig!J83","v":227},{"$f":"[1]HeroPowerUpConfig!K83","v":236},{"$f":"[1]HeroPowerUpConfig!L83","v":246},"元婴期","中",9,{"$f":"[2]主表!P81","v":524.53260869565224},{"$f":"[2]主表!Q81","v":11.275},{"$f":"[2]主表!R81","v":11.275},{"$f":"[2]主表!S81","v":0},{"$f":"[2]主表!$G81","v":2255},79,2,40,2,100,1]
[80,80,{"$f":"[1]HeroPowerUpConfig!J84","v":227},{"$f":"[1]HeroPowerUpConfig!K84","v":236},{"$f":"[1]HeroPowerUpConfig!L84","v":247},"元婴期","中",10,{"$f":"[2]主表!P82","v":541.32441471571906},{"$f":"[2]主表!Q82","v":11.52},{"$f":"[2]主表!R82","v":11.52},{"$f":"[2]主表!S82","v":0},{"$f":"[2]主表!$G82","v":2304},80,2,40,2,100,1]
[81,81,{"$f":"[1]HeroPowerUpConfig!J85","v":227},{"$f":"[1]HeroPowerUpConfig!K85","v":237},{"$f":"[1]HeroPowerUpConfig!L85","v":238},"元婴期","后",1,{"$f":"[2]主表!P83","v":643.29581939799323},{"$f":"[2]主表!Q83","v":13.555},{"$f":"[2]主表!R83","v":13.555},{"$f":"[2]主表!S83","v":0},{"$f":"[2]主表!$G83","v":2711},81,2,41,2,100,1]
[82,82,{"$f":"[1]HeroPowerUpConfig!J86","v":227},{"$f":"[1]HeroPowerUpConfig!K86","v":237},{"$f":"[1]HeroPowerUpConfig!L86","v":239},"元婴期","后",2,{"$f":"[2]主表!P84","v":663.30167224080265},{"$f":"[2]主表!Q84","v":13.84},{"$f":"[2]主表!R84","v":13.84},{"$f":"[2]主表!S84","v":0},{"$f":"[2]主表!$G84","v":2768},82,2,41,2,100,1]
[83,83,{"$f":"[1]HeroPowerUpConfig!J87","v":227},{"$f":"[1]HeroPowerUpConfig!K87","v":237},{"$f":"[1]HeroPowerUpConfig!L87","v":240},"元婴期","后",3,{"$f":"[2]主表!P85","v":684.05836120401329},{"$f":"[2]主表!Q85","v":14.135},{"$f":"[2]主表!R85","v":14.135},{"$f":"[2]主表!S85","v":0},{"$f":"[2]主表!$G85","v":2827},83,2,42,2,100,1]
[84,84,{"$f":"[1]HeroPowerUpConfig!J88","v":227},{"$f":"[1]HeroPowerUpConfig!K88","v":237},{"$f":"[1]HeroPowerUpConfig!L88","v":241},"元婴期","后",4,{"$f":"[2]主表!P86","v":705.33561872909695},{"$f":"[2]主表!Q86","v":14.435},{"$f":"[2]主表!R86","v":14.435},{"$f":"[2]主表!S86","v":0},{"$f":"[2]主表!$G86","v":2887},84,2,42,2,100,1]
[85,85,{"$f":"[1]HeroPowerUpConfig!J89","v":227},{"$f":"[1]HeroPowerUpConfig!K89","v":237},{"$f":"[1]HeroPowerUpConfig!L89","v":242},"元婴期","后",5,{"$f":"[2]主表!P87","v":727.38712374581939},{"$f":"[2]主表!Q87","v":14.744999999999999},{"$f":"[2]主表!R87","v":14.744999999999999},{"$f":"[2]主表!S87","v":0},{"$f":"[2]主表!$G87","v":2949},85,2,43,2,100,1]
[86,86,{"$f":"[1]HeroPowerUpConfig!J90","v":227},{"$f":"[1]HeroPowerUpConfig!K90","v":237},{"$f":"[1]HeroPowerUpConfig!L90","v":243},"元婴期","后",6,{"$f":"[2]主表!P88","v":749.97792642140485},{"$f":"[2]主表!Q88","v":15.06},{"$f":"[2]主表!R88","v":15.06},{"$f":"[2]主表!S88","v":0},{"$f":"[2]主表!$G88","v":3012},86,2,43,2,100,1]
[87,87,{"$f":"[1]HeroPowerUpConfig!J91","v":227},{"$f":"[1]HeroPowerUpConfig!K91","v":237},{"$f":"[1]HeroPowerUpConfig!L91","v":244},"元婴期","后",7,{"$f":"[2]主表!P89","v":773.36638795986619},{"$f":"[2]主表!Q89","v":15.385},{"$f":"[2]主表!R89","v":15.385},{"$f":"[2]主表!S89","v":0},{"$f":"[2]主表!$G89","v":3077},87,2,44,2,100,1]
[88,88,{"$f":"[1]HeroPowerUpConfig!J92","v":227},{"$f":"[1]HeroPowerUpConfig!K92","v":237},{"$f":"[1]HeroPowerUpConfig!L92","v":245},"元婴期","后",8,{"$f":"[2]主表!P90","v":797.31287625418065},{"$f":"[2]主表!Q90","v":15.715},{"$f":"[2]主表!R90","v":15.715},{"$f":"[2]主表!S90","v":0},{"$f":"[2]主表!$G90","v":3143},88,2,44,2,100,1]
[89,89,{"$f":"[1]HeroPowerUpConfig!J93","v":227},{"$f":"[1]HeroPowerUpConfig!K93","v":237},{"$f":"[1]HeroPowerUpConfig!L93","v":246},"元婴期","后",9,{"$f":"[2]主表!P91","v":822.08043478260856},{"$f":"[2]主表!Q91","v":16.055},{"$f":"[2]主表!R91","v":16.055},{"$f":"[2]主表!S91","v":0},{"$f":"[2]主表!$G91","v":3211},89,2,45,2,100,1]
[90,90,{"$f":"[1]HeroPowerUpConfig!J94","v":227},{"$f":"[1]HeroPowerUpConfig!K94","v":237},{"$f":"[1]HeroPowerUpConfig!L94","v":247},"元婴期","后",10,{"$f":"[2]主表!P92","v":847.68311036789316},{"$f":"[2]主表!Q92","v":16.405000000000001},{"$f":"[2]主表!R92","v":16.405000000000001},{"$f":"[2]主表!S92","v":0},{"$f":"[2]主表!$G92","v":3281},90,2,45,2,100,1]
[91,91,{"$f":"[1]HeroPowerUpConfig!J95","v":228},{"$f":"[1]HeroPowerUpConfig!K95","v":235},{"$f":"[1]HeroPowerUpConfig!L95","v":238},"化神期","前",1,{"$f":"[2]主表!P93","v":1145.0046822742474},{"$f":"[2]主表!Q93","v":21.96},{"$f":"[2]主表!R93","v":21.96},{"$f":"[2]主表!S93","v":0},{"$f":"[2]主表!$G93","v":4392},91,2,46,2,100,1]
[92,92,{"$f":"[1]HeroPowerUpConfig!J96","v":228},{"$f":"[1]HeroPowerUpConfig!K96","v":235},{"$f":"[1]HeroPowerUpConfig!L96","v":239},"化神期","前",2,{"$f":"[2]主表!P94","v":1180.2760869565218},{"$f":"[2]主表!Q94","v":22.434999999999999},{"$f":"[2]主表!R94","v":22.434999999999999},{"$f":"[2]主表!S94","v":0},{"$f":"[2]主表!$G94","v":4487},92,2,46,2,100,1]
[93,93,{"$f":"[1]HeroPowerUpConfig!J97","v":228},{"$f":"[1]HeroPowerUpConfig!K97","v":235},{"$f":"[1]HeroPowerUpConfig!L97","v":240},"化神期","前",3,{"$f":"[2]主表!P95","v":1216.523076923077},{"$f":"[2]主表!Q95","v":22.92},{"$f":"[2]主表!R95","v":22.92},{"$f":"[2]主表!S95","v":0},{"$f":"[2]主表!$G95","v":4584},93,2,47,2,100,1]
[94,94,{"$f":"[1]HeroPowerUpConfig!J98","v":228},{"$f":"[1]HeroPowerUpConfig!K98","v":235},{"$f":"[1]HeroPowerUpConfig!L98","v":241},"化神期","前",4,{"$f":"[2]主表!P96","v":1253.7596989966555},{"$f":"[2]主表!Q96","v":23.414999999999999},{"$f":"[2]主表!R96","v":23.414999999999999},{"$f":"[2]主表!S96","v":0},{"$f":"[2]主表!$G96","v":4683},94,2,47,2,100,1]
[95,95,{"$f":"[1]HeroPowerUpConfig!J99","v":228},{"$f":"[1]HeroPowerUpConfig!K99","v":235},{"$f":"[1]HeroPowerUpConfig!L99","v":242},"化神期","前",5,{"$f":"[2]主表!P97","v":1292.2700668896321},{"$f":"[2]主表!Q97","v":23.925000000000001},{"$f":"[2]主表!R97","v":23.925000000000001},{"$f":"[2]主表!S97","v":0},{"$f":"[2]主表!$G97","v":4785},95,2,48,2,100,1]
[96,96,{"$f":"[1]HeroPowerUpConfig!J100","v":228},{"$f":"[1]HeroPowerUpConfig!K100","v":235},{"$f":"[1]HeroPowerUpConfig!L100","v":243},"化神期","前",6,{"$f":"[2]主表!P98","v":1331.8028428093646},{"$f":"[2]主表!Q98","v":24.445},{"$f":"[2]主表!R98","v":24.445},{"$f":"[2]主表!S98","v":0},{"$f":"[2]主表!$G98","v":4889},96,2,48,2,100,1]
[97,97,{"$f":"[1]HeroPowerUpConfig!J101","v":228},{"$f":"[1]HeroPowerUpConfig!K101","v":235},{"$f":"[1]HeroPowerUpConfig!L101","v":244},"化神期","前",7,{"$f":"[2]主表!P99","v":1372.6468227424748},{"$f":"[2]主表!Q99","v":24.98},{"$f":"[2]主表!R99","v":24.98},{"$f":"[2]主表!S99","v":0},{"$f":"[2]主表!$G99","v":4996},97,2,49,2,100,1]
[98,98,{"$f":"[1]HeroPowerUpConfig!J102","v":228},{"$f":"[1]HeroPowerUpConfig!K102","v":235},{"$f":"[1]HeroPowerUpConfig!L102","v":245},"化神期","前",8,{"$f":"[2]主表!P100","v":1414.5459866220735},{"$f":"[2]主表!Q100","v":25.524999999999999},{"$f":"[2]主表!R100","v":25.524999999999999},{"$f":"[2]主表!S100","v":0},{"$f":"[2]主表!$G100","v":5105},98,2,49,2,100,1]
[99,99,{"$f":"[1]HeroPowerUpConfig!J103","v":228},{"$f":"[1]HeroPowerUpConfig!K103","v":235},{"$f":"[1]HeroPowerUpConfig!L103","v":246},"化神期","前",9,{"$f":"[2]主表!P101","v":1457.7938127090301},{"$f":"[2]主表!Q101","v":26.085000000000001},{"$f":"[2]主表!R101","v":26.085000000000001},{"$f":"[2]主表!S101","v":0},{"$f":"[2]主表!$G101","v":5217},99,2,50,2,100,1]
[100,100,{"$f":"[1]HeroPowerUpConfig!J104","v":228},{"$f":"[1]HeroPowerUpConfig!K104","v":235},{"$f":"[1]HeroPowerUpConfig!L104","v":247},"化神期","前",10,{"$f":"[2]主表!P102","v":1502.4113712374583},{"$f":"[2]主表!Q102","v":26.66},{"$f":"[2]主表!R102","v":26.66},{"$f":"[2]主表!S102","v":0},{"$f":"[2]主表!$G102","v":5332},100,2,50,2,100,1]
[101,101,{"$f":"[1]HeroPowerUpConfig!J105","v":228},{"$f":"[1]HeroPowerUpConfig!K105","v":236},{"$f":"[1]HeroPowerUpConfig!L105","v":238},"化神期","中",1,{"$f":"[2]主表!P103","v":1708.6598662207359},{"$f":"[2]主表!Q103","v":30.07},{"$f":"[2]主表!R103","v":30.07},{"$f":"[2]主表!S103","v":0},{"$f":"[2]主表!$G103","v":6014},101,3,51,3,100.1,1]
[102,102,{"$f":"[1]HeroPowerUpConfig!J106","v":228},{"$f":"[1]HeroPowerUpConfig!K106","v":236},{"$f":"[1]HeroPowerUpConfig!L106","v":239},"化神期","中",2,{"$f":"[2]主表!P104","v":1752.8172240802676},{"$f":"[2]主表!Q104","v":30.594999999999999},{"$f":"[2]主表!R104","v":30.594999999999999},{"$f":"[2]主表!S104","v":0},{"$f":"[2]主表!$G104","v":6119},102,3,51,3,100.2,1]
[103,103,{"$f":"[1]HeroPowerUpConfig!J107","v":228},{"$f":"[1]HeroPowerUpConfig!K107","v":236},{"$f":"[1]HeroPowerUpConfig!L107","v":240},"化神期","中",3,{"$f":"[2]主表!P105","v":1797.7550167224081},{"$f":"[2]主表!Q105","v":31.125},{"$f":"[2]主表!R105","v":31.125},{"$f":"[2]主表!S105","v":0},{"$f":"[2]主表!$G105","v":6225},103,3,52,3,100.3,1]
[104,104,{"$f":"[1]HeroPowerUpConfig!J108","v":228},{"$f":"[1]HeroPowerUpConfig!K108","v":236},{"$f":"[1]HeroPowerUpConfig!L108","v":241},"化神期","中",4,{"$f":"[2]主表!P106","v":1843.7714046822744},{"$f":"[2]主表!Q106","v":31.664999999999999},{"$f":"[2]主表!R106","v":31.664999999999999},{"$f":"[2]主表!S106","v":0},{"$f":"[2]主表!$G106","v":6333},104,3,52,3,100.4,1]
[105,105,{"$f":"[1]HeroPowerUpConfig!J109","v":228},{"$f":"[1]HeroPowerUpConfig!K109","v":236},{"$f":"[1]HeroPowerUpConfig!L109","v":242},"化神期","中",5,{"$f":"[2]主表!P107","v":1890.880434782609},{"$f":"[2]主表!Q107","v":32.215000000000003},{"$f":"[2]主表!R107","v":32.215000000000003},{"$f":"[2]主表!S107","v":0},{"$f":"[2]主表!$G107","v":6443},105,3,53,3,100.5,1]
[106,106,{"$f":"[1]HeroPowerUpConfig!J110","v":228},{"$f":"[1]HeroPowerUpConfig!K110","v":236},{"$f":"[1]HeroPowerUpConfig!L110","v":243},"化神期","中",6,{"$f":"[2]主表!P108","v":1939.0961538461536},{"$f":"[2]主表!Q108","v":32.774999999999999},{"$f":"[2]主表!R108","v":32.774999999999999},{"$f":"[2]主表!S108","v":0},{"$f":"[2]主表!$G108","v":6555},106,3,53,3,100.6,1]
[107,107,{"$f":"[1]HeroPowerUpConfig!J111","v":228},{"$f":"[1]HeroPowerUpConfig!K111","v":236},{"$f":"[1]HeroPowerUpConfig!L111","v":244},"化神期","中",7,{"$f":"[2]主表!P109","v":1988.1344481605354},{"$f":"[2]主表!Q109","v":33.340000000000003},{"$f":"[2]主表!R109","v":33.340000000000003},{"$f":"[2]主表!S109","v":0},{"$f":"[2]主表!$G109","v":6668},107,3,54,3,100.7,1]
[108,108,{"$f":"[1]HeroPowerUpConfig!J112","v":228},{"$f":"[1]HeroPowerUpConfig!K112","v":236},{"$f":"[1]HeroPowerUpConfig!L112","v":245},"化神期","中",8,{"$f":"[2]主表!P110","v":2038.3028428093644},{"$f":"[2]主表!Q110","v":33.914999999999999},{"$f":"[2]主表!R110","v":33.914999999999999},{"$f":"[2]主表!S110","v":0},{"$f":"[2]主表!$G110","v":6783},108,3,54,3,100.8,1]
[109,109,{"$f":"[1]HeroPowerUpConfig!J113","v":228},{"$f":"[1]HeroPowerUpConfig!K113","v":236},{"$f":"[1]HeroPowerUpConfig!L113","v":246},"化神期","中",9,{"$f":"[2]主表!P111","v":2089.9182274247496},{"$f":"[2]主表!Q111","v":34.505000000000003},{"$f":"[2]主表!R111","v":34.505000000000003},{"$f":"[2]主表!S111","v":0},{"$f":"[2]主表!$G111","v":6901},109,3,55,3,100.9,1]
[110,110,{"$f":"[1]HeroPowerUpConfig!J114","v":228},{"$f":"[1]HeroPowerUpConfig!K114","v":236},{"$f":"[1]HeroPowerUpConfig!L114","v":247},"化神期","中",10,{"$f":"[2]主表!P112","v":2142.391304347826},{"$f":"[2]主表!Q112","v":35.1},{"$f":"[2]主表!R112","v":35.1},{"$f":"[2]主表!S112","v":0},{"$f":"[2]主表!$G112","v":7020},110,3,55,3,101,1]
[111,111,{"$f":"[1]HeroPowerUpConfig!J115","v":228},{"$f":"[1]HeroPowerUpConfig!K115","v":237},{"$f":"[1]HeroPowerUpConfig!L115","v":238},"化神期","后",1,{"$f":"[2]主表!P113","v":2434.3685618729096},{"$f":"[2]主表!Q113","v":39.58},{"$f":"[2]主表!R113","v":39.58},{"$f":"[2]主表!S113","v":0},{"$f":"[2]主表!$G113","v":7916},111,3,56,3,101.1,1]
[112,112,{"$f":"[1]HeroPowerUpConfig!J116","v":228},{"$f":"[1]HeroPowerUpConfig!K116","v":237},{"$f":"[1]HeroPowerUpConfig!L116","v":239},"化神期","后",2,{"$f":"[2]主表!P114","v":2494.7329431438125},{"$f":"[2]主表!Q114","v":40.255000000000003},{"$f":"[2]主表!R114","v":40.255000000000003},{"$f":"[2]主表!S114","v":0},{"$f":"[2]主表!$G114","v":8051},112,3,56,3,101.2,1]
[113,113,{"$f":"[1]HeroPowerUpConfig!J117","v":228},{"$f":"[1]HeroPowerUpConfig!K117","v":237},{"$f":"[1]HeroPowerUpConfig!L117","v":240},"化神期","后",3,{"$f":"[2]主表!P115","v":2556.353846153846},{"$f":"[2]主表!Q115","v":40.94},{"$f":"[2]主表!R115","v":40.94},{"$f":"[2]主表!S115","v":0},{"$f":"[2]主表!$G115","v":8188},113,3,57,3,101.3,1]
[114,114,{"$f":"[1]HeroPowerUpConfig!J118","v":228},{"$f":"[1]HeroPowerUpConfig!K118","v":237},{"$f":"[1]HeroPowerUpConfig!L118","v":241},"化神期","后",4,{"$f":"[2]主表!P116","v":2619.2453177257521},{"$f":"[2]主表!Q116","v":41.634999999999998},{"$f":"[2]主表!R116","v":41.634999999999998},{"$f":"[2]主表!S116","v":0},{"$f":"[2]主表!$G116","v":8327},114,3,57,3,101.4,1]
[115,115,{"$f":"[1]HeroPowerUpConfig!J119","v":228},{"$f":"[1]HeroPowerUpConfig!K119","v":237},{"$f":"[1]HeroPowerUpConfig!L119","v":242},"化神期","后",5,{"$f":"[2]主表!P117","v":2683.7382943143812},{"$f":"[2]主表!Q117","v":42.344999999999999},{"$f":"[2]主表!R117","v":42.344999999999999},{"$f":"[2]主表!S117","v":0},{"$f":"[2]主表!$G117","v":8469},115,3,58,3,101.5,1]
[116,116,{"$f":"[1]HeroPowerUpConfig!J120","v":228},{"$f":"[1]HeroPowerUpConfig!K120","v":237},{"$f":"[1]HeroPowerUpConfig!L120","v":243},"化神期","后",6,{"$f":"[2]主表!P118","v":2749.5346153846158},{"$f":"[2]主表!Q118","v":43.064999999999998},{"$f":"[2]主表!R118","v":43.064999999999998},{"$f":"[2]主表!S118","v":0},{"$f":"[2]主表!$G118","v":8613},116,3,58,3,101.6,1]
[117,117,{"$f":"[1]HeroPowerUpConfig!J121","v":228},{"$f":"[1]HeroPowerUpConfig!K121","v":237},{"$f":"[1]HeroPowerUpConfig!L121","v":244},"化神期","后",7,{"$f":"[2]主表!P119","v":2816.6483277591979},{"$f":"[2]主表!Q119","v":43.795000000000002},{"$f":"[2]主表!R119","v":43.795000000000002},{"$f":"[2]主表!S119","v":0},{"$f":"[2]主表!$G119","v":8759},117,3,59,3,101.7,1]
[118,118,{"$f":"[1]HeroPowerUpConfig!J122","v":228},{"$f":"[1]HeroPowerUpConfig!K122","v":237},{"$f":"[1]HeroPowerUpConfig!L122","v":245},"化神期","后",8,{"$f":"[2]主表!P120","v":2885.4173913043478},{"$f":"[2]主表!Q120","v":44.54},{"$f":"[2]主表!R120","v":44.54},{"$f":"[2]主表!S120","v":0},{"$f":"[2]主表!$G120","v":8908},118,3,59,3,101.8,1]
[119,119,{"$f":"[1]HeroPowerUpConfig!J123","v":228},{"$f":"[1]HeroPowerUpConfig!K123","v":237},{"$f":"[1]HeroPowerUpConfig!L123","v":246},"化神期","后",9,{"$f":"[2]主表!P121","v":2955.5366220735787},{"$f":"[2]主表!Q121","v":45.295000000000002},{"$f":"[2]主表!R121","v":45.295000000000002},{"$f":"[2]主表!S121","v":0},{"$f":"[2]主表!$G121","v":9059},119,3,60,3,101.9,1]
[120,120,{"$f":"[1]HeroPowerUpConfig!J124","v":228},{"$f":"[1]HeroPowerUpConfig!K124","v":237},{"$f":"[1]HeroPowerUpConfig!L124","v":247},"化神期","后",10,{"$f":"[2]主表!P122","v":3027.3486622073578},{"$f":"[2]主表!Q122","v":46.064999999999998},{"$f":"[2]主表!R122","v":46.064999999999998},{"$f":"[2]主表!S122","v":0},{"$f":"[2]主表!$G122","v":9213},120,3,60,3,102,1]
[121,121,{"$f":"[1]HeroPowerUpConfig!J125","v":229},{"$f":"[1]HeroPowerUpConfig!K125","v":235},{"$f":"[1]HeroPowerUpConfig!L125","v":238},"炼虚期","前",1,{"$f":"[2]主表!P123","v":4058.2737458193974},{"$f":"[2]主表!Q123","v":61.314999999999998},{"$f":"[2]主表!R123","v":61.314999999999998},{"$f":"[2]主表!S123","v":0},{"$f":"[2]主表!$G123","v":12263},121,3,61,3,102.1,1]
[122,122,{"$f":"[1]HeroPowerUpConfig!J126","v":229},{"$f":"[1]HeroPowerUpConfig!K126","v":235},{"$f":"[1]HeroPowerUpConfig!L126","v":239},"炼虚期","前",2,{"$f":"[2]主表!P124","v":4151.6389632107021},{"$f":"[2]主表!Q124","v":62.284999999999997},{"$f":"[2]主表!R124","v":62.284999999999997},{"$f":"[2]主表!S124","v":0},{"$f":"[2]主表!$G124","v":12457},122,3,61,3,102.2,1]
[123,123,{"$f":"[1]HeroPowerUpConfig!J127","v":229},{"$f":"[1]HeroPowerUpConfig!K127","v":235},{"$f":"[1]HeroPowerUpConfig!L127","v":240},"炼虚期","前",3,{"$f":"[2]主表!P125","v":4247.2550167224081},{"$f":"[2]主表!Q125","v":63.274999999999999},{"$f":"[2]主表!R125","v":63.274999999999999},{"$f":"[2]主表!S125","v":0},{"$f":"[2]主表!$G125","v":12655},123,3,62,3,102.3,1]
[124,124,{"$f":"[1]HeroPowerUpConfig!J128","v":229},{"$f":"[1]HeroPowerUpConfig!K128","v":235},{"$f":"[1]HeroPowerUpConfig!L128","v":241},"炼虚期","前",4,{"$f":"[2]主表!P126","v":4344.4740802675587},{"$f":"[2]主表!Q126","v":64.275000000000006},{"$f":"[2]主表!R126","v":64.275000000000006},{"$f":"[2]主表!S126","v":0},{"$f":"[2]主表!$G126","v":12855},124,3,62,3,102.4,1]
[125,125,{"$f":"[1]HeroPowerUpConfig!J129","v":229},{"$f":"[1]HeroPowerUpConfig!K129","v":235},{"$f":"[1]HeroPowerUpConfig!L129","v":242},"炼虚期","前",5,{"$f":"[2]主表!P127","v":4443.9908026755857},{"$f":"[2]主表!Q127","v":65.295000000000002},{"$f":"[2]主表!R127","v":65.295000000000002},{"$f":"[2]主表!S127","v":0},{"$f":"[2]主表!$G127","v":13059},125,3,63,3,102.5,1,{"$f":"J129*[3]HeroModelConfig!$P$18","v":6072.4350000000004}]
[126,126,{"$f":"[1]HeroPowerUpConfig!J130","v":229},{"$f":"[1]HeroPowerUpConfig!K130","v":235},{"$f":"[1]HeroPowerUpConfig!L130","v":243},"炼虚期","前",6,{"$f":"[2]主表!P128","v":4541.0362876254185},{"$f":"[2]主表!Q128","v":66.265000000000001},{"$f":"[2]主表!R128","v":66.265000000000001},{"$f":"[2]主表!S128","v":0},{"$f":"[2]主表!$G128","v":13253},126,3,63,3,102.6,1]
[127,127,{"$f":"[1]HeroPowerUpConfig!J131","v":229},{"$f":"[1]HeroPowerUpConfig!K131","v":235},{"$f":"[1]HeroPowerUpConfig!L131","v":244},"炼虚期","前",7,{"$f":"[2]主表!P129","v":4640.0250836120395},{"$f":"[2]主表!Q129","v":67.25},{"$f":"[2]主表!R129","v":67.25},{"$f":"[2]主表!S129","v":0},{"$f":"[2]主表!$G129","v":13450},127,3,64,3,102.7,1]
[128,128,{"$f":"[1]HeroPowerUpConfig!J132","v":229},{"$f":"[1]HeroPowerUpConfig!K132","v":235},{"$f":"[1]HeroPowerUpConfig!L132","v":245},"炼虚期","前",8,{"$f":"[2]主表!P130","v":4740.978260869565},{"$f":"[2]主表!Q130","v":68.25},{"$f":"[2]主表!R130","v":68.25},{"$f":"[2]主表!S130","v":0},{"$f":"[2]主表!$G130","v":13650},128,3,64,3,102.8,1]
[129,129,{"$f":"[1]HeroPowerUpConfig!J133","v":229},{"$f":"[1]HeroPowerUpConfig!K133","v":235},{"$f":"[1]HeroPowerUpConfig!L133","v":246},"炼虚期","前",9,{"$f":"[2]主表!P131","v":4843.9168896321071},{"$f":"[2]主表!Q131","v":69.265000000000001},{"$f":"[2]主表!R131","v":69.265000000000001},{"$f":"[2]主表!S131","v":0},{"$f":"[2]主表!$G131","v":13853},129,3,65,3,102.9,1]
[130,130,{"$f":"[1]HeroPowerUpConfig!J134","v":229},{"$f":"[1]HeroPowerUpConfig!K134","v":235},{"$f":"[1]HeroPowerUpConfig!L134","v":247},"炼虚期","前",10,{"$f":"[2]主表!P132","v":4948.8620401337794},{"$f":"[2]主表!Q132","v":70.295000000000002},{"$f":"[2]主表!R132","v":70.295000000000002},{"$f":"[2]主表!S132","v":0},{"$f":"[2]主表!$G132","v":14059},130,3,65,3,103,1]
[131,131,{"$f":"[1]HeroPowerUpConfig!J135","v":229},{"$f":"[1]HeroPowerUpConfig!K135","v":236},{"$f":"[1]HeroPowerUpConfig!L135","v":238},"炼虚期","中",1,{"$f":"[2]主表!P133","v":5605.0739130434786},{"$f":"[2]主表!Q133","v":79.09},{"$f":"[2]主表!R133","v":79.09},{"$f":"[2]主表!S133","v":0},{"$f":"[2]主表!$G133","v":15818},131,3,66,3,103.1,1]
[132,132,{"$f":"[1]HeroPowerUpConfig!J136","v":229},{"$f":"[1]HeroPowerUpConfig!K136","v":236},{"$f":"[1]HeroPowerUpConfig!L136","v":239},"炼虚期","中",2,{"$f":"[2]主表!P134","v":5724.8578595317722},{"$f":"[2]主表!Q134","v":80.25},{"$f":"[2]主表!R134","v":80.25},{"$f":"[2]主表!S134","v":0},{"$f":"[2]主表!$G134","v":16050},132,3,66,3,103.2,1]
[133,133,{"$f":"[1]HeroPowerUpConfig!J137","v":229},{"$f":"[1]HeroPowerUpConfig!K137","v":236},{"$f":"[1]HeroPowerUpConfig!L137","v":240},"炼虚期","中",3,{"$f":"[2]主表!P135","v":5847.1642140468239},{"$f":"[2]主表!Q135","v":81.430000000000007},{"$f":"[2]主表!R135","v":81.430000000000007},{"$f":"[2]主表!S135","v":0},{"$f":"[2]主表!$G135","v":16286},133,3,67,3,103.3,1]
[134,134,{"$f":"[1]HeroPowerUpConfig!J138","v":229},{"$f":"[1]HeroPowerUpConfig!K138","v":236},{"$f":"[1]HeroPowerUpConfig!L138","v":241},"炼虚期","中",4,{"$f":"[2]主表!P136","v":5971.6596989966556},{"$f":"[2]主表!Q136","v":82.625},{"$f":"[2]主表!R136","v":82.625},{"$f":"[2]主表!S136","v":0},{"$f":"[2]主表!$G136","v":16525},134,3,67,3,103.4,1]
[135,135,{"$f":"[1]HeroPowerUpConfig!J139","v":229},{"$f":"[1]HeroPowerUpConfig!K139","v":236},{"$f":"[1]HeroPowerUpConfig!L139","v":242},"炼虚期","中",5,{"$f":"[2]主表!P137","v":6099.092809364548},{"$f":"[2]主表!Q137","v":83.844999999999999},{"$f":"[2]主表!R137","v":83.844999999999999},{"$f":"[2]主表!S137","v":0},{"$f":"[2]主表!$G137","v":16769},135,3,68,3,103.5,1]
[136,136,{"$f":"[1]HeroPowerUpConfig!J140","v":229},{"$f":"[1]HeroPowerUpConfig!K140","v":236},{"$f":"[1]HeroPowerUpConfig!L140","v":243},"炼虚期","中",6,{"$f":"[2]主表!P138","v":6228.7665551839464},{"$f":"[2]主表!Q138","v":85.08},{"$f":"[2]主表!R138","v":85.08},{"$f":"[2]主表!S138","v":0},{"$f":"[2]主表!$G138","v":17016},136,3,68,3,103.6,1]
[137,137,{"$f":"[1]HeroPowerUpConfig!J141","v":229},{"$f":"[1]HeroPowerUpConfig!K141","v":236},{"$f":"[1]HeroPowerUpConfig!L141","v":244},"炼虚期","中",7,{"$f":"[2]主表!P139","v":6361.0704013377926},{"$f":"[2]主表!Q139","v":86.334999999999994},{"$f":"[2]主表!R139","v":86.334999999999994},{"$f":"[2]主表!S139","v":0},{"$f":"[2]主表!$G139","v":17267},137,3,69,3,103.7,1]
[138,138,{"$f":"[1]HeroPowerUpConfig!J142","v":229},{"$f":"[1]HeroPowerUpConfig!K142","v":236},{"$f":"[1]HeroPowerUpConfig!L142","v":245},"炼虚期","中",8,{"$f":"[2]主表!P140","v":6495.6617056856194},{"$f":"[2]主表!Q140","v":87.605000000000004},{"$f":"[2]主表!R140","v":87.605000000000004},{"$f":"[2]主表!S140","v":0},{"$f":"[2]主表!$G140","v":17521},138,3,69,3,103.8,1]
[139,139,{"$f":"[1]HeroPowerUpConfig!J143","v":229},{"$f":"[1]HeroPowerUpConfig!K143","v":236},{"$f":"[1]HeroPowerUpConfig!L143","v":246},"炼虚期","中",9,{"$f":"[2]主表!P141","v":6633.3076923076933},{"$f":"[2]主表!Q141","v":88.9},{"$f":"[2]主表!R141","v":88.9},{"$f":"[2]主表!S141","v":0},{"$f":"[2]主表!$G141","v":17780},139,3,70,3,103.9,1]
[140,140,{"$f":"[1]HeroPowerUpConfig!J144","v":229},{"$f":"[1]HeroPowerUpConfig!K144","v":236},{"$f":"[1]HeroPowerUpConfig!L144","v":247},"炼虚期","中",10,{"$f":"[2]主表!P142","v":6773.6680602006691},{"$f":"[2]主表!Q142","v":90.215000000000003},{"$f":"[2]主表!R142","v":90.215000000000003},{"$f":"[2]主表!S142","v":0},{"$f":"[2]主表!$G142","v":18043},140,3,70,3,104,1]
[141,141,{"$f":"[1]HeroPowerUpConfig!J145","v":229},{"$f":"[1]HeroPowerUpConfig!K145","v":237},{"$f":"[1]HeroPowerUpConfig!L145","v":238},"炼虚期","后",1,{"$f":"[2]主表!P143","v":7667.75618729097},{"$f":"[2]主表!Q143","v":101.49},{"$f":"[2]主表!R143","v":101.49},{"$f":"[2]主表!S143","v":0},{"$f":"[2]主表!$G143","v":20298},141,3,71,3,104.1,1]
[142,142,{"$f":"[1]HeroPowerUpConfig!J146","v":229},{"$f":"[1]HeroPowerUpConfig!K146","v":237},{"$f":"[1]HeroPowerUpConfig!L146","v":239},"炼虚期","后",2,{"$f":"[2]主表!P144","v":7827.4061872909697},{"$f":"[2]主表!Q144","v":102.965},{"$f":"[2]主表!R144","v":102.965},{"$f":"[2]主表!S144","v":0},{"$f":"[2]主表!$G144","v":20593},142,3,71,3,104.2,1]
[143,143,{"$f":"[1]HeroPowerUpConfig!J147","v":229},{"$f":"[1]HeroPowerUpConfig!K147","v":237},{"$f":"[1]HeroPowerUpConfig!L147","v":240},"炼虚期","后",3,{"$f":"[2]主表!P145","v":7990.732107023412},{"$f":"[2]主表!Q145","v":104.47},{"$f":"[2]主表!R145","v":104.47},{"$f":"[2]主表!S145","v":0},{"$f":"[2]主表!$G145","v":20894},143,3,72,3,104.3,1]
[144,144,{"$f":"[1]HeroPowerUpConfig!J148","v":229},{"$f":"[1]HeroPowerUpConfig!K148","v":237},{"$f":"[1]HeroPowerUpConfig!L148","v":241},"炼虚期","后",4,{"$f":"[2]主表!P146","v":8157.0065217391311},{"$f":"[2]主表!Q146","v":105.995},{"$f":"[2]主表!R146","v":105.995},{"$f":"[2]主表!S146","v":0},{"$f":"[2]主表!$G146","v":21199},144,3,72,3,104.4,1]
[145,145,{"$f":"[1]HeroPowerUpConfig!J149","v":229},{"$f":"[1]HeroPowerUpConfig!K149","v":237},{"$f":"[1]HeroPowerUpConfig!L149","v":242},"炼虚期","后",5,{"$f":"[2]主表!P147","v":8326.2575250836126},{"$f":"[2]主表!Q147","v":107.54},{"$f":"[2]主表!R147","v":107.54},{"$f":"[2]主表!S147","v":0},{"$f":"[2]主表!$G147","v":21508},145,3,73,3,104.5,1]
[146,146,{"$f":"[1]HeroPowerUpConfig!J150","v":229},{"$f":"[1]HeroPowerUpConfig!K150","v":237},{"$f":"[1]HeroPowerUpConfig!L150","v":243},"炼虚期","后",6,{"$f":"[2]主表!P148","v":8499.2921404682274},{"$f":"[2]主表!Q148","v":109.11499999999999},{"$f":"[2]主表!R148","v":109.11499999999999},{"$f":"[2]主表!S148","v":0},{"$f":"[2]主表!$G148","v":21823},146,3,73,3,104.6,1]
[147,147,{"$f":"[1]HeroPowerUpConfig!J151","v":229},{"$f":"[1]HeroPowerUpConfig!K151","v":237},{"$f":"[1]HeroPowerUpConfig!L151","v":244},"炼虚期","后",7,{"$f":"[2]主表!P149","v":8675.3688963210698},{"$f":"[2]主表!Q149","v":110.71},{"$f":"[2]主表!R149","v":110.71},{"$f":"[2]主表!S149","v":0},{"$f":"[2]主表!$G149","v":22142},147,3,74,3,104.7,1]
[148,148,{"$f":"[1]HeroPowerUpConfig!J152","v":229},{"$f":"[1]HeroPowerUpConfig!K152","v":237},{"$f":"[1]HeroPowerUpConfig!L152","v":245},"炼虚期","后",8,{"$f":"[2]主表!P150","v":8855.3041806020065},{"$f":"[2]主表!Q150","v":112.33499999999999},{"$f":"[2]主表!R150","v":112.33499999999999},{"$f":"[2]主表!S150","v":0},{"$f":"[2]主表!$G150","v":22467},148,3,74,3,104.8,1]
[149,149,{"$f":"[1]HeroPowerUpConfig!J153","v":229},{"$f":"[1]HeroPowerUpConfig!K153","v":237},{"$f":"[1]HeroPowerUpConfig!L153","v":246},"炼虚期","后",9,{"$f":"[2]主表!P151","v":9038.3471571906357},{"$f":"[2]主表!Q151","v":113.98},{"$f":"[2]主表!R151","v":113.98},{"$f":"[2]主表!S151","v":0},{"$f":"[2]主表!$G151","v":22796},149,3,75,3,104.9,1]
[150,150,{"$f":"[1]HeroPowerUpConfig!J154","v":229},{"$f":"[1]HeroPowerUpConfig!K154","v":237},{"$f":"[1]HeroPowerUpConfig!L154","v":247},"炼虚期","后",10,{"$f":"[2]主表!P152","v":9225.3235785953184},{"$f":"[2]主表!Q152","v":115.655},{"$f":"[2]主表!R152","v":115.655},{"$f":"[2]主表!S152","v":0},{"$f":"[2]主表!$G152","v":23131},150,3,75,3,105,1,{"$nulls":4},{"$f":"I154*219","v":2020345.8637123748}]
[151,151,{"$f":"[1]HeroPowerUpConfig!J155","v":230},{"$f":"[1]HeroPowerUpConfig!K155","v":235},{"$f":"[1]HeroPowerUpConfig!L155","v":238},"合体期","前",1,{"$f":"[2]主表!P153","v":12335.59381270903},{"$f":"[2]主表!Q153","v":153.745},{"$f":"[2]主表!R153","v":153.745},{"$f":"[2]主表!S153","v":0},{"$f":"[2]主表!$G153","v":30749},151,4,76,4,105.1,1]
[152,152,{"$f":"[1]HeroPowerUpConfig!J156","v":230},{"$f":"[1]HeroPowerUpConfig!K156","v":235},{"$f":"[1]HeroPowerUpConfig!L156","v":239},"合体期","前",2,{"$f":"[2]主表!P154","v":12587.144147157189},{"$f":"[2]主表!Q154","v":155.97},{"$f":"[2]主表!R154","v":155.97},{"$f":"[2]主表!S154","v":0},{"$f":"[2]主表!$G154","v":31194},152,4,76,4,105.2,1]
[153,153,{"$f":"[1]HeroPowerUpConfig!J157","v":230},{"$f":"[1]HeroPowerUpConfig!K157","v":235},{"$f":"[1]HeroPowerUpConfig!L157","v":240},"合体期","前",3,{"$f":"[2]主表!P155","v":12843.213210702339},{"$f":"[2]主表!Q155","v":158.22499999999999},{"$f":"[2]主表!R155","v":158.22499999999999},{"$f":"[2]主表!S155","v":0},{"$f":"[2]主表!$G155","v":31645},153,4,77,4,105.3,1]
[154,154,{"$f":"[1]HeroPowerUpConfig!J158","v":230},{"$f":"[1]HeroPowerUpConfig!K158","v":235},{"$f":"[1]HeroPowerUpConfig!L158","v":241},"合体期","前",4,{"$f":"[2]主表!P156","v":13104.659531772577},{"$f":"[2]主表!Q156","v":160.52000000000001},{"$f":"[2]主表!R156","v":160.52000000000001},{"$f":"[2]主表!S156","v":0},{"$f":"[2]主表!$G156","v":32104},154,4,77,4,105.4,1]
[155,155,{"$f":"[1]HeroPowerUpConfig!J159","v":230},{"$f":"[1]HeroPowerUpConfig!K159","v":235},{"$f":"[1]HeroPowerUpConfig!L159","v":242},"合体期","前",5,{"$f":"[2]主表!P157","v":13371.128762541804},{"$f":"[2]主表!Q157","v":162.85},{"$f":"[2]主表!R157","v":162.85},{"$f":"[2]主表!S157","v":0},{"$f":"[2]主表!$G157","v":32570},155,4,78,4,105.5,1]
[156,156,{"$f":"[1]HeroPowerUpConfig!J160","v":230},{"$f":"[1]HeroPowerUpConfig!K160","v":235},{"$f":"[1]HeroPowerUpConfig!L160","v":243},"合体期","前",6,{"$f":"[2]主表!P158","v":13642.670066889634},{"$f":"[2]主表!Q158","v":165.215},{"$f":"[2]主表!R158","v":165.215},{"$f":"[2]主表!S158","v":0},{"$f":"[2]主表!$G158","v":33043},156,4,78,4,105.6,1]
[157,157,{"$f":"[1]HeroPowerUpConfig!J161","v":230},{"$f":"[1]HeroPowerUpConfig!K161","v":235},{"$f":"[1]HeroPowerUpConfig!L161","v":244},"合体期","前",7,{"$f":"[2]主表!P159","v":13919.332608695655},{"$f":"[2]主表!Q159","v":167.61500000000001},{"$f":"[2]主表!R159","v":167.61500000000001},{"$f":"[2]主表!S159","v":0},{"$f":"[2]主表!$G159","v":33523},157,4,79,4,105.7,1]
[158,158,{"$f":"[1]HeroPowerUpConfig!J162","v":230},{"$f":"[1]HeroPowerUpConfig!K162","v":235},{"$f":"[1]HeroPowerUpConfig!L162","v":245},"合体期","前",8,{"$f":"[2]主表!P160","v":14201.583110367894},{"$f":"[2]主表!Q160","v":170.05500000000001},{"$f":"[2]主表!R160","v":170.05500000000001},{"$f":"[2]主表!S160","v":0},{"$f":"[2]主表!$G160","v":34011},158,4,79,4,105.8,1]
[159,159,{"$f":"[1]HeroPowerUpConfig!J163","v":230},{"$f":"[1]HeroPowerUpConfig!K163","v":235},{"$f":"[1]HeroPowerUpConfig!L163","v":246},"合体期","前",9,{"$f":"[2]主表!P161","v":14489.057859531771},{"$f":"[2]主表!Q161","v":172.53},{"$f":"[2]主表!R161","v":172.53},{"$f":"[2]主表!S161","v":0},{"$f":"[2]主表!$G161","v":34506},159,4,80,4,105.9,1]
[160,160,{"$f":"[1]HeroPowerUpConfig!J164","v":230},{"$f":"[1]HeroPowerUpConfig!K164","v":235},{"$f":"[1]HeroPowerUpConfig!L164","v":247},"合体期","前",10,{"$f":"[2]主表!P162","v":14782.228260869562},{"$f":"[2]主表!Q162","v":175.04499999999999},{"$f":"[2]主表!R162","v":175.04499999999999},{"$f":"[2]主表!S162","v":350.09},{"$f":"[2]主表!$G162","v":35009},160,4,80,4,106,1]
[161,161,{"$f":"[1]HeroPowerUpConfig!J165","v":230},{"$f":"[1]HeroPowerUpConfig!K165","v":236},{"$f":"[1]HeroPowerUpConfig!L165","v":238},"合体期","中",1,{"$f":"[2]主表!P163","v":16717.913879598666},{"$f":"[2]主表!Q163","v":196.875},{"$f":"[2]主表!R163","v":196.875},{"$f":"[2]主表!S163","v":393.75},{"$f":"[2]主表!$G163","v":39375},161,4,81,4,106.1,1]
[162,162,{"$f":"[1]HeroPowerUpConfig!J166","v":230},{"$f":"[1]HeroPowerUpConfig!K166","v":236},{"$f":"[1]HeroPowerUpConfig!L166","v":239},"合体期","中",2,{"$f":"[2]主表!P164","v":17051.734615384616},{"$f":"[2]主表!Q164","v":199.70500000000001},{"$f":"[2]主表!R164","v":199.70500000000001},{"$f":"[2]主表!S164","v":399.41},{"$f":"[2]主表!$G164","v":39941},162,4,81,4,106.2,1]
[163,163,{"$f":"[1]HeroPowerUpConfig!J167","v":230},{"$f":"[1]HeroPowerUpConfig!K167","v":236},{"$f":"[1]HeroPowerUpConfig!L167","v":240},"合体期","中",3,{"$f":"[2]主表!P165","v":17391.639632107024},{"$f":"[2]主表!Q165","v":202.57499999999999},{"$f":"[2]主表!R165","v":202.57499999999999},{"$f":"[2]主表!S165","v":405.15},{"$f":"[2]主表!$G165","v":40515},163,4,82,4,106.3,1]
[164,164,{"$f":"[1]HeroPowerUpConfig!J168","v":230},{"$f":"[1]HeroPowerUpConfig!K168","v":236},{"$f":"[1]HeroPowerUpConfig!L168","v":241},"合体期","中",4,{"$f":"[2]主表!P166","v":17738.548327759199},{"$f":"[2]主表!Q166","v":205.495},{"$f":"[2]主表!R166","v":205.495},{"$f":"[2]主表!S166","v":410.99},{"$f":"[2]主表!$G166","v":41099},164,4,82,4,106.4,1]
[165,165,{"$f":"[1]HeroPowerUpConfig!J169","v":230},{"$f":"[1]HeroPowerUpConfig!K169","v":236},{"$f":"[1]HeroPowerUpConfig!L169","v":242},"合体期","中",5,{"$f":"[2]主表!P167","v":18091.663043478264},{"$f":"[2]主表!Q167","v":208.45500000000001},{"$f":"[2]主表!R167","v":208.45500000000001},{"$f":"[2]主表!S167","v":416.91},{"$f":"[2]主表!$G167","v":41691},165,4,83,4,106.5,1]
[166,166,{"$f":"[1]HeroPowerUpConfig!J170","v":230},{"$f":"[1]HeroPowerUpConfig!K170","v":236},{"$f":"[1]HeroPowerUpConfig!L170","v":243},"合体期","中",6,{"$f":"[2]主表!P168","v":18451.912541806021},{"$f":"[2]主表!Q168","v":211.465},{"$f":"[2]主表!R168","v":211.465},{"$f":"[2]主表!S168","v":422.93},{"$f":"[2]主表!$G168","v":42293},166,4,83,4,106.6,1]
[167,167,{"$f":"[1]HeroPowerUpConfig!J171","v":230},{"$f":"[1]HeroPowerUpConfig!K171","v":236},{"$f":"[1]HeroPowerUpConfig!L171","v":244},"合体期","中",7,{"$f":"[2]主表!P169","v":18818.489799331102},{"$f":"[2]主表!Q169","v":214.51499999999999},{"$f":"[2]主表!R169","v":214.51499999999999},{"$f":"[2]主表!S169","v":429.03},{"$f":"[2]主表!$G169","v":42903},167,4,84,4,106.7,1]
[168,168,{"$f":"[1]HeroPowerUpConfig!J172","v":230},{"$f":"[1]HeroPowerUpConfig!K172","v":236},{"$f":"[1]HeroPowerUpConfig!L172","v":245},"合体期","中",8,{"$f":"[2]主表!P170","v":19192.773913043478},{"$f":"[2]主表!Q170","v":217.62},{"$f":"[2]主表!R170","v":217.62},{"$f":"[2]主表!S170","v":435.24},{"$f":"[2]主表!$G170","v":43524},168,4,84,4,106.8,1]
[169,169,{"$f":"[1]HeroPowerUpConfig!J173","v":230},{"$f":"[1]HeroPowerUpConfig!K173","v":236},{"$f":"[1]HeroPowerUpConfig!L173","v":246},"合体期","中",9,{"$f":"[2]主表!P171","v":19573.512207357857},{"$f":"[2]主表!Q171","v":220.76499999999999},{"$f":"[2]主表!R171","v":220.76499999999999},{"$f":"[2]主表!S171","v":441.53},{"$f":"[2]主表!$G171","v":44153},169,4,85,4,106.9,1]
[170,170,{"$f":"[1]HeroPowerUpConfig!J174","v":230},{"$f":"[1]HeroPowerUpConfig!K174","v":236},{"$f":"[1]HeroPowerUpConfig!L174","v":247},"合体期","中",10,{"$f":"[2]主表!P172","v":19962.097826086956},{"$f":"[2]主表!Q172","v":223.965},{"$f":"[2]主表!R172","v":223.965},{"$f":"[2]主表!S172","v":492.72},{"$f":"[2]主表!$G172","v":44793},170,4,85,4,107,1]
[171,171,{"$f":"[1]HeroPowerUpConfig!J175","v":230},{"$f":"[1]HeroPowerUpConfig!K175","v":237},{"$f":"[1]HeroPowerUpConfig!L175","v":238},"合体期","后",1,{"$f":"[2]主表!P173","v":22567.215050167229},{"$f":"[2]主表!Q173","v":251.87},{"$f":"[2]主表!R173","v":251.87},{"$f":"[2]主表!S173","v":554.11},{"$f":"[2]主表!$G173","v":50374},171,4,86,4,107.1,1]
[172,172,{"$f":"[1]HeroPowerUpConfig!J176","v":230},{"$f":"[1]HeroPowerUpConfig!K176","v":237},{"$f":"[1]HeroPowerUpConfig!L176","v":239},"合体期","后",2,{"$f":"[2]主表!P174","v":23008.93795986622},{"$f":"[2]主表!Q174","v":255.465},{"$f":"[2]主表!R174","v":255.465},{"$f":"[2]主表!S174","v":562.02},{"$f":"[2]主表!$G174","v":51093},172,4,86,4,107.2,1]
[173,173,{"$f":"[1]HeroPowerUpConfig!J177","v":230},{"$f":"[1]HeroPowerUpConfig!K177","v":237},{"$f":"[1]HeroPowerUpConfig!L177","v":240},"合体期","后",3,{"$f":"[2]主表!P175","v":23459.006856187294},{"$f":"[2]主表!Q175","v":259.11500000000001},{"$f":"[2]主表!R175","v":259.11500000000001},{"$f":"[2]主表!S175","v":570.04999999999995},{"$f":"[2]主表!$G175","v":51823},173,4,87,4,107.3,1]
[174,174,{"$f":"[1]HeroPowerUpConfig!J178","v":230},{"$f":"[1]HeroPowerUpConfig!K178","v":237},{"$f":"[1]HeroPowerUpConfig!L178","v":241},"合体期","后",4,{"$f":"[2]主表!P176","v":23917.954013377926},{"$f":"[2]主表!Q176","v":262.82499999999999},{"$f":"[2]主表!R176","v":262.82499999999999},{"$f":"[2]主表!S176","v":578.21},{"$f":"[2]主表!$G176","v":52565},174,4,87,4,107.4,1]
[175,175,{"$f":"[1]HeroPowerUpConfig!J179","v":230},{"$f":"[1]HeroPowerUpConfig!K179","v":237},{"$f":"[1]HeroPowerUpConfig!L179","v":242},"合体期","后",5,{"$f":"[2]主表!P177","v":24384.948996655516},{"$f":"[2]主表!Q177","v":266.58499999999998},{"$f":"[2]主表!R177","v":266.58499999999998},{"$f":"[2]主表!S177","v":586.49},{"$f":"[2]主表!$G177","v":53317},175,4,88,4,107.5,1]
[176,176,{"$f":"[1]HeroPowerUpConfig!J180","v":230},{"$f":"[1]HeroPowerUpConfig!K180","v":237},{"$f":"[1]HeroPowerUpConfig!L180","v":243},"合体期","后",6,{"$f":"[2]主表!P178","v":24861.441137123747},{"$f":"[2]主表!Q178","v":270.41000000000003},{"$f":"[2]主表!R178","v":270.41000000000003},{"$f":"[2]主表!S178","v":594.9},{"$f":"[2]主表!$G178","v":54082},176,4,88,4,107.6,1]
[177,177,{"$f":"[1]HeroPowerUpConfig!J181","v":230},{"$f":"[1]HeroPowerUpConfig!K181","v":237},{"$f":"[1]HeroPowerUpConfig!L181","v":244},"合体期","后",7,{"$f":"[2]主表!P179","v":25346.59765886288},{"$f":"[2]主表!Q179","v":274.29000000000002},{"$f":"[2]主表!R179","v":274.29000000000002},{"$f":"[2]主表!S179","v":603.44000000000005},{"$f":"[2]主表!$G179","v":54858},177,4,89,4,107.7,1]
[178,178,{"$f":"[1]HeroPowerUpConfig!J182","v":230},{"$f":"[1]HeroPowerUpConfig!K182","v":237},{"$f":"[1]HeroPowerUpConfig!L182","v":245},"合体期","后",8,{"$f":"[2]主表!P180","v":25840.960200668895},{"$f":"[2]主表!Q180","v":278.23},{"$f":"[2]主表!R180","v":278.23},{"$f":"[2]主表!S180","v":612.11},{"$f":"[2]主表!$G180","v":55646},178,4,89,4,107.8,1]
[179,179,{"$f":"[1]HeroPowerUpConfig!J183","v":230},{"$f":"[1]HeroPowerUpConfig!K183","v":237},{"$f":"[1]HeroPowerUpConfig!L183","v":246},"合体期","后",9,{"$f":"[2]主表!P181","v":26344.613043478268},{"$f":"[2]主表!Q181","v":282.23},{"$f":"[2]主表!R181","v":282.23},{"$f":"[2]主表!S181","v":620.91},{"$f":"[2]主表!$G181","v":56446},179,4,90,4,107.9,1]
[180,180,{"$f":"[1]HeroPowerUpConfig!J184","v":230},{"$f":"[1]HeroPowerUpConfig!K184","v":237},{"$f":"[1]HeroPowerUpConfig!L184","v":247},"合体期","后",10,{"$f":"[2]主表!P182","v":26858.109531772578},{"$f":"[2]主表!Q182","v":286.29500000000002},{"$f":"[2]主表!R182","v":286.29500000000002},{"$f":"[2]主表!S182","v":687.11},{"$f":"[2]主表!$G182","v":57259},180,4,90,4,108,1]
[181,181,{"$f":"[1]HeroPowerUpConfig!J185","v":231},{"$f":"[1]HeroPowerUpConfig!K185","v":235},{"$f":"[1]HeroPowerUpConfig!L185","v":238},"大乘期","前",1,{"$f":"[2]主表!P183","v":35907.837458193979},{"$f":"[2]主表!Q183","v":380.86},{"$f":"[2]主表!R183","v":380.86},{"$f":"[2]主表!S183","v":914.06},{"$f":"[2]主表!$G183","v":76172},181,4,91,4,108.1,1]
[182,182,{"$f":"[1]HeroPowerUpConfig!J186","v":231},{"$f":"[1]HeroPowerUpConfig!K186","v":235},{"$f":"[1]HeroPowerUpConfig!L186","v":239},"大乘期","前",2,{"$f":"[2]主表!P184","v":36634.764214046816},{"$f":"[2]主表!Q184","v":386.65},{"$f":"[2]主表!R184","v":386.65},{"$f":"[2]主表!S184","v":927.96},{"$f":"[2]主表!$G184","v":77330},182,4,91,4,108.2,1]
[183,183,{"$f":"[1]HeroPowerUpConfig!J187","v":231},{"$f":"[1]HeroPowerUpConfig!K187","v":235},{"$f":"[1]HeroPowerUpConfig!L187","v":240},"大乘期","前",3,{"$f":"[2]主表!P185","v":37375.68260869565},{"$f":"[2]主表!Q185","v":392.53},{"$f":"[2]主表!R185","v":392.53},{"$f":"[2]主表!S185","v":942.07},{"$f":"[2]主表!$G185","v":78506},183,4,92,4,108.3,1]
[184,184,{"$f":"[1]HeroPowerUpConfig!J188","v":231},{"$f":"[1]HeroPowerUpConfig!K188","v":235},{"$f":"[1]HeroPowerUpConfig!L188","v":241},"大乘期","前",4,{"$f":"[2]主表!P186","v":38131.197491638799},{"$f":"[2]主表!Q186","v":398.505},{"$f":"[2]主表!R186","v":398.505},{"$f":"[2]主表!S186","v":956.41},{"$f":"[2]主表!$G186","v":79701},184,4,92,4,108.4,1]
[185,185,{"$f":"[1]HeroPowerUpConfig!J189","v":231},{"$f":"[1]HeroPowerUpConfig!K189","v":235},{"$f":"[1]HeroPowerUpConfig!L189","v":242},"大乘期","前",5,{"$f":"[2]主表!P187","v":38900.961538461539},{"$f":"[2]主表!Q187","v":404.57},{"$f":"[2]主表!R187","v":404.57},{"$f":"[2]主表!S187","v":970.97},{"$f":"[2]主表!$G187","v":80914},185,4,93,4,108.5,1]
[186,186,{"$f":"[1]HeroPowerUpConfig!J190","v":231},{"$f":"[1]HeroPowerUpConfig!K190","v":235},{"$f":"[1]HeroPowerUpConfig!L190","v":243},"大乘期","前",6,{"$f":"[2]主表!P188","v":39702.493143812702},{"$f":"[2]主表!Q188","v":410.90499999999997},{"$f":"[2]主表!R188","v":410.90499999999997},{"$f":"[2]主表!S188","v":986.17},{"$f":"[2]主表!$G188","v":82181},186,4,93,4,108.6,1]
[187,187,{"$f":"[1]HeroPowerUpConfig!J191","v":231},{"$f":"[1]HeroPowerUpConfig!K191","v":235},{"$f":"[1]HeroPowerUpConfig!L191","v":244},"大乘期","前",7,{"$f":"[2]主表!P189","v":40519.666220735788},{"$f":"[2]主表!Q189","v":417.34},{"$f":"[2]主表!R189","v":417.34},{"$f":"[2]主表!S189","v":1001.62},{"$f":"[2]主表!$G189","v":83468},187,4,94,4,108.7,1]
[188,188,{"$f":"[1]HeroPowerUpConfig!J192","v":231},{"$f":"[1]HeroPowerUpConfig!K192","v":235},{"$f":"[1]HeroPowerUpConfig!L192","v":245},"大乘期","前",8,{"$f":"[2]主表!P190","v":41353.109030100328},{"$f":"[2]主表!Q190","v":423.88},{"$f":"[2]主表!R190","v":423.88},{"$f":"[2]主表!S190","v":1017.31},{"$f":"[2]主表!$G190","v":84776},188,4,94,4,108.799999999999,1]
[189,189,{"$f":"[1]HeroPowerUpConfig!J193","v":231},{"$f":"[1]HeroPowerUpConfig!K193","v":235},{"$f":"[1]HeroPowerUpConfig!L193","v":246},"大乘期","前",9,{"$f":"[2]主表!P191","v":42202.478929765886},{"$f":"[2]主表!Q191","v":430.52},{"$f":"[2]主表!R191","v":430.52},{"$f":"[2]主表!S191","v":1033.25},{"$f":"[2]主表!$G191","v":86104},189,4,95,4,108.899999999999,1]
[190,190,{"$f":"[1]HeroPowerUpConfig!J194","v":231},{"$f":"[1]HeroPowerUpConfig!K194","v":235},{"$f":"[1]HeroPowerUpConfig!L194","v":247},"大乘期","前",10,{"$f":"[2]主表!P192","v":43068.901337792639},{"$f":"[2]主表!Q192","v":437.27},{"$f":"[2]主表!R192","v":437.27},{"$f":"[2]主表!S192","v":1136.9000000000001},{"$f":"[2]主表!$G192","v":87454},190,4,95,4,108.99999999999901,1]
[191,191,{"$f":"[1]HeroPowerUpConfig!J195","v":231},{"$f":"[1]HeroPowerUpConfig!K195","v":236},{"$f":"[1]HeroPowerUpConfig!L195","v":238},"大乘期","中",1,{"$f":"[2]主表!P193","v":48723.052341137125},{"$f":"[2]主表!Q193","v":492.33499999999998},{"$f":"[2]主表!R193","v":492.33499999999998},{"$f":"[2]主表!S193","v":1280.07},{"$f":"[2]主表!$G193","v":98467},191,4,96,4,109.099999999999,1]
[192,192,{"$f":"[1]HeroPowerUpConfig!J196","v":231},{"$f":"[1]HeroPowerUpConfig!K196","v":236},{"$f":"[1]HeroPowerUpConfig!L196","v":239},"大乘期","中",2,{"$f":"[2]主表!P194","v":49709.753177257524},{"$f":"[2]主表!Q194","v":499.94},{"$f":"[2]主表!R194","v":499.94},{"$f":"[2]主表!S194","v":1299.8399999999999},{"$f":"[2]主表!$G194","v":99988},192,4,96,4,109.19999999999899,1]
[193,193,{"$f":"[1]HeroPowerUpConfig!J197","v":231},{"$f":"[1]HeroPowerUpConfig!K197","v":236},{"$f":"[1]HeroPowerUpConfig!L197","v":240},"大乘期","中",3,{"$f":"[2]主表!P195","v":50715.563712374576},{"$f":"[2]主表!Q195","v":507.66500000000002},{"$f":"[2]主表!R195","v":507.66500000000002},{"$f":"[2]主表!S195","v":1319.93},{"$f":"[2]主表!$G195","v":101533},193,4,97,4,109.299999999999,1]
[194,194,{"$f":"[1]HeroPowerUpConfig!J198","v":231},{"$f":"[1]HeroPowerUpConfig!K198","v":236},{"$f":"[1]HeroPowerUpConfig!L198","v":241},"大乘期","中",4,{"$f":"[2]主表!P196","v":51741.154347826086},{"$f":"[2]主表!Q196","v":515.51499999999999},{"$f":"[2]主表!R196","v":515.51499999999999},{"$f":"[2]主表!S196","v":1340.34},{"$f":"[2]主表!$G196","v":103103},194,4,97,4,109.399999999999,1]
[195,195,{"$f":"[1]HeroPowerUpConfig!J199","v":231},{"$f":"[1]HeroPowerUpConfig!K199","v":236},{"$f":"[1]HeroPowerUpConfig!L199","v":242},"大乘期","中",5,{"$f":"[2]主表!P197","v":52787.204849498332},{"$f":"[2]主表!Q197","v":523.495},{"$f":"[2]主表!R197","v":523.495},{"$f":"[2]主表!S197","v":1361.09},{"$f":"[2]主表!$G197","v":104699},195,4,98,4,109.49999999999901,1]
[196,196,{"$f":"[1]HeroPowerUpConfig!J200","v":231},{"$f":"[1]HeroPowerUpConfig!K200","v":236},{"$f":"[1]HeroPowerUpConfig!L200","v":243},"大乘期","中",6,{"$f":"[2]主表!P198","v":53852.8847826087},{"$f":"[2]主表!Q198","v":531.59500000000003},{"$f":"[2]主表!R198","v":531.59500000000003},{"$f":"[2]主表!S198","v":1382.15},{"$f":"[2]主表!$G198","v":106319},196,4,98,4,109.599999999999,1]
[197,197,{"$f":"[1]HeroPowerUpConfig!J201","v":231},{"$f":"[1]HeroPowerUpConfig!K201","v":236},{"$f":"[1]HeroPowerUpConfig!L201","v":244},"大乘期","中",7,{"$f":"[2]主表!P199","v":54939.889297658869},{"$f":"[2]主表!Q199","v":539.83000000000004},{"$f":"[2]主表!R199","v":539.83000000000004},{"$f":"[2]主表!S199","v":1403.56},{"$f":"[2]主表!$G199","v":107966},197,4,99,4,109.69999999999899,1]
[198,198,{"$f":"[1]HeroPowerUpConfig!J202","v":231},{"$f":"[1]HeroPowerUpConfig!K202","v":236},{"$f":"[1]HeroPowerUpConfig!L202","v":245},"大乘期","中",8,{"$f":"[2]主表!P200","v":56047.896822742485},{"$f":"[2]主表!Q200","v":548.19500000000005},{"$f":"[2]主表!R200","v":548.19500000000005},{"$f":"[2]主表!S200","v":1425.31},{"$f":"[2]主表!$G200","v":109639},198,4,99,4,109.799999999999,1]
[199,199,{"$f":"[1]HeroPowerUpConfig!J203","v":231},{"$f":"[1]HeroPowerUpConfig!K203","v":236},{"$f":"[1]HeroPowerUpConfig!L203","v":246},"大乘期","中",9,{"$f":"[2]主表!P201","v":57177.089966555184},{"$f":"[2]主表!Q201","v":556.69000000000005},{"$f":"[2]主表!R201","v":556.69000000000005},{"$f":"[2]主表!S201","v":1447.39},{"$f":"[2]主表!$G201","v":111338},199,4,100,4,109.899999999999,1]
[200,200,{"$f":"[1]HeroPowerUpConfig!J204","v":231},{"$f":"[1]HeroPowerUpConfig!K204","v":236},{"$f":"[1]HeroPowerUpConfig!L204","v":247},"大乘期","中",10,{"$f":"[2]主表!P202","v":58328.683110367892},{"$f":"[2]主表!Q202","v":565.32500000000005},{"$f":"[2]主表!R202","v":565.32500000000005},{"$f":"[2]主表!S202","v":1582.91},{"$f":"[2]主表!$G202","v":113065},200,4,100,4,109.99999999999901,1]
[201,201,{"$f":"[1]HeroPowerUpConfig!J205","v":231},{"$f":"[1]HeroPowerUpConfig!K205","v":237},{"$f":"[1]HeroPowerUpConfig!L205","v":238},"大乘期","后",1,{"$f":"[2]主表!P203","v":65960.504849498335},{"$f":"[2]主表!Q203","v":636.40499999999997},{"$f":"[2]主表!R203","v":636.40499999999997},{"$f":"[2]主表!S203","v":1781.93},{"$f":"[2]主表!$G203","v":127281},201,5,101,5,110.099999999999,1]
[202,202,{"$f":"[1]HeroPowerUpConfig!J206","v":231},{"$f":"[1]HeroPowerUpConfig!K206","v":237},{"$f":"[1]HeroPowerUpConfig!L206","v":239},"大乘期","后",2,{"$f":"[2]主表!P204","v":67270.992976588634},{"$f":"[2]主表!Q204","v":646.13},{"$f":"[2]主表!R204","v":646.13},{"$f":"[2]主表!S204","v":1809.16},{"$f":"[2]主表!$G204","v":129226},202,5,101,5,110.19999999999899,1]
[203,203,{"$f":"[1]HeroPowerUpConfig!J207","v":231},{"$f":"[1]HeroPowerUpConfig!K207","v":237},{"$f":"[1]HeroPowerUpConfig!L207","v":240},"大乘期","后",3,{"$f":"[2]主表!P205","v":68606.798327759199},{"$f":"[2]主表!Q205","v":656.01},{"$f":"[2]主表!R205","v":656.01},{"$f":"[2]主表!S205","v":1836.83},{"$f":"[2]主表!$G205","v":131202},203,5,102,5,110.299999999999,1]
[204,204,{"$f":"[1]HeroPowerUpConfig!J208","v":231},{"$f":"[1]HeroPowerUpConfig!K208","v":237},{"$f":"[1]HeroPowerUpConfig!L208","v":241},"大乘期","后",4,{"$f":"[2]主表!P206","v":69968.138628762536},{"$f":"[2]主表!Q206","v":666.04499999999996},{"$f":"[2]主表!R206","v":666.04499999999996},{"$f":"[2]主表!S206","v":1864.93},{"$f":"[2]主表!$G206","v":133209},204,5,102,5,110.399999999999,1]
[205,205,{"$f":"[1]HeroPowerUpConfig!J209","v":231},{"$f":"[1]HeroPowerUpConfig!K209","v":237},{"$f":"[1]HeroPowerUpConfig!L209","v":242},"大乘期","后",5,{"$f":"[2]主表!P207","v":71355.759197324427},{"$f":"[2]主表!Q207","v":676.24},{"$f":"[2]主表!R207","v":676.24},{"$f":"[2]主表!S207","v":1893.47},{"$f":"[2]主表!$G207","v":135248},205,5,103,5,110.49999999999901,1]
[206,206,{"$f":"[1]HeroPowerUpConfig!J210","v":231},{"$f":"[1]HeroPowerUpConfig!K210","v":237},{"$f":"[1]HeroPowerUpConfig!L210","v":243},"大乘期","后",6,{"$f":"[2]主表!P208","v":72770.414715719075},{"$f":"[2]主表!Q208","v":686.6},{"$f":"[2]主表!R208","v":686.6},{"$f":"[2]主表!S208","v":1922.48},{"$f":"[2]主表!$G208","v":137320},206,5,103,5,110.599999999999,1]
[207,207,{"$f":"[1]HeroPowerUpConfig!J211","v":231},{"$f":"[1]HeroPowerUpConfig!K211","v":237},{"$f":"[1]HeroPowerUpConfig!L211","v":244},"大乘期","后",7,{"$f":"[2]主表!P209","v":74212.336956521744},{"$f":"[2]主表!Q209","v":697.125},{"$f":"[2]主表!R209","v":697.125},{"$f":"[2]主表!S209","v":1951.95},{"$f":"[2]主表!$G209","v":139425},207,5,104,5,110.69999999999899,1]
[208,208,{"$f":"[1]HeroPowerUpConfig!J212","v":231},{"$f":"[1]HeroPowerUpConfig!K212","v":237},{"$f":"[1]HeroPowerUpConfig!L212","v":245},"大乘期","后",8,{"$f":"[2]主表!P210","v":75681.757692307699},{"$f":"[2]主表!Q210","v":707.81500000000005},{"$f":"[2]主表!R210","v":707.81500000000005},{"$f":"[2]主表!S210","v":1981.88},{"$f":"[2]主表!$G210","v":141563},208,5,104,5,110.799999999999,1]
[209,209,{"$f":"[1]HeroPowerUpConfig!J213","v":231},{"$f":"[1]HeroPowerUpConfig!K213","v":237},{"$f":"[1]HeroPowerUpConfig!L213","v":246},"大乘期","后",9,{"$f":"[2]主表!P211","v":77179.445652173905},{"$f":"[2]主表!Q211","v":718.67499999999995},{"$f":"[2]主表!R211","v":718.67499999999995},{"$f":"[2]主表!S211","v":2012.29},{"$f":"[2]主表!$G211","v":143735},209,5,105,5,110.899999999999,1]
[210,210,{"$f":"[1]HeroPowerUpConfig!J214","v":231},{"$f":"[1]HeroPowerUpConfig!K214","v":237},{"$f":"[1]HeroPowerUpConfig!L214","v":247},"大乘期","后",10,{"$f":"[2]主表!P212","v":78705.639632107035},{"$f":"[2]主表!Q212","v":729.70500000000004},{"$f":"[2]主表!R212","v":729.70500000000004},{"$f":"[2]主表!S212","v":2189.12},{"$f":"[2]主表!$G212","v":145941},210,5,105,5,110.99999999999901,1]
[211,211,{"$f":"[1]HeroPowerUpConfig!J215","v":232},{"$f":"[1]HeroPowerUpConfig!K215","v":235},{"$f":"[1]HeroPowerUpConfig!L215","v":238},"飞升期","前",1,{"$f":"[2]主表!P213","v":105149.42274247491},{"$f":"[2]主表!Q213","v":970.66},{"$f":"[2]主表!R213","v":970.66},{"$f":"[2]主表!S213","v":2911.98},{"$f":"[2]主表!$G213","v":194132},211,5,106,5,111.099999999999,1]
[212,212,{"$f":"[1]HeroPowerUpConfig!J216","v":232},{"$f":"[1]HeroPowerUpConfig!K216","v":235},{"$f":"[1]HeroPowerUpConfig!L216","v":239},"飞升期","前",2,{"$f":"[2]主表!P214","v":107201.58143812709},{"$f":"[2]主表!Q214","v":985.34500000000003},{"$f":"[2]主表!R214","v":985.34500000000003},{"$f":"[2]主表!S214","v":2956.04},{"$f":"[2]主表!$G214","v":197069},212,5,106,5,111.19999999999899,1]
[213,213,{"$f":"[1]HeroPowerUpConfig!J217","v":232},{"$f":"[1]HeroPowerUpConfig!K217","v":235},{"$f":"[1]HeroPowerUpConfig!L217","v":240},"飞升期","前",3,{"$f":"[2]主表!P215","v":109292.62274247492},{"$f":"[2]主表!Q215","v":1000.26},{"$f":"[2]主表!R215","v":1000.26},{"$f":"[2]主表!S215","v":3000.78},{"$f":"[2]主表!$G215","v":200052},213,5,107,5,111.299999999999,1]
[214,214,{"$f":"[1]HeroPowerUpConfig!J218","v":232},{"$f":"[1]HeroPowerUpConfig!K218","v":235},{"$f":"[1]HeroPowerUpConfig!L218","v":241},"飞升期","前",4,{"$f":"[2]主表!P216","v":111423.41839464883},{"$f":"[2]主表!Q216","v":1015.41},{"$f":"[2]主表!R216","v":1015.41},{"$f":"[2]主表!S216","v":3046.23},{"$f":"[2]主表!$G216","v":203082},214,5,107,5,111.399999999999,1]
[215,215,{"$f":"[1]HeroPowerUpConfig!J219","v":232},{"$f":"[1]HeroPowerUpConfig!K219","v":235},{"$f":"[1]HeroPowerUpConfig!L219","v":242},"飞升期","前",5,{"$f":"[2]主表!P217","v":113595.40050167225},{"$f":"[2]主表!Q217","v":1030.8050000000001},{"$f":"[2]主表!R217","v":1030.8050000000001},{"$f":"[2]主表!S217","v":3092.42},{"$f":"[2]主表!$G217","v":206161},215,5,108,5,111.49999999999901,1]
[216,216,{"$f":"[1]HeroPowerUpConfig!J220","v":232},{"$f":"[1]HeroPowerUpConfig!K220","v":235},{"$f":"[1]HeroPowerUpConfig!L220","v":243},"飞升期","前",6,{"$f":"[2]主表!P218","v":115807.80652173913},{"$f":"[2]主表!Q218","v":1046.4349999999999},{"$f":"[2]主表!R218","v":1046.4349999999999},{"$f":"[2]主表!S218","v":3139.31},{"$f":"[2]主表!$G218","v":209287},216,5,108,5,111.599999999999,1]
[217,217,{"$f":"[1]HeroPowerUpConfig!J221","v":232},{"$f":"[1]HeroPowerUpConfig!K221","v":235},{"$f":"[1]HeroPowerUpConfig!L221","v":244},"飞升期","前",7,{"$f":"[2]主表!P219","v":118063.18929765886},{"$f":"[2]主表!Q219","v":1062.32},{"$f":"[2]主表!R219","v":1062.32},{"$f":"[2]主表!S219","v":3186.96},{"$f":"[2]主表!$G219","v":212464},217,5,109,5,111.69999999999899,1]
[218,218,{"$f":"[1]HeroPowerUpConfig!J222","v":232},{"$f":"[1]HeroPowerUpConfig!K222","v":235},{"$f":"[1]HeroPowerUpConfig!L222","v":245},"飞升期","前",8,{"$f":"[2]主表!P220","v":120361.34899665551},{"$f":"[2]主表!Q220","v":1078.4549999999999},{"$f":"[2]主表!R220","v":1078.4549999999999},{"$f":"[2]主表!S220","v":3235.37},{"$f":"[2]主表!$G220","v":215691},218,5,109,5,111.799999999999,1]
[219,219,{"$f":"[1]HeroPowerUpConfig!J223","v":232},{"$f":"[1]HeroPowerUpConfig!K223","v":235},{"$f":"[1]HeroPowerUpConfig!L223","v":246},"飞升期","前",9,{"$f":"[2]主表!P221","v":122702.63678929766},{"$f":"[2]主表!Q221","v":1094.8399999999999},{"$f":"[2]主表!R221","v":1094.8399999999999},{"$f":"[2]主表!S221","v":3284.52},{"$f":"[2]主表!$G221","v":218968},219,5,110,5,111.899999999999,1]
[220,220,{"$f":"[1]HeroPowerUpConfig!J224","v":232},{"$f":"[1]HeroPowerUpConfig!K224","v":235},{"$f":"[1]HeroPowerUpConfig!L224","v":247},"飞升期","前",10,{"$f":"[2]主表!P222","v":125089.09197324415},{"$f":"[2]主表!Q222","v":1111.49},{"$f":"[2]主表!R222","v":1111.49},{"$f":"[2]主表!S222","v":3556.77},{"$f":"[2]主表!$G222","v":222298},220,5,110,5,111.99999999999901,1]
[221,221,{"$f":"[1]HeroPowerUpConfig!J225","v":232},{"$f":"[1]HeroPowerUpConfig!K225","v":236},{"$f":"[1]HeroPowerUpConfig!L225","v":238},"飞升期","中",1,{"$f":"[2]主表!P223","v":141361.42558528428},{"$f":"[2]主表!Q223","v":1250.875},{"$f":"[2]主表!R223","v":1250.875},{"$f":"[2]主表!S223","v":4002.8},{"$f":"[2]主表!$G223","v":250175},221,5,111,5,112.099999999999,1]
[222,222,{"$f":"[1]HeroPowerUpConfig!J226","v":232},{"$f":"[1]HeroPowerUpConfig!K226","v":236},{"$f":"[1]HeroPowerUpConfig!L226","v":239},"飞升期","中",2,{"$f":"[2]主表!P224","v":144073.70217391304},{"$f":"[2]主表!Q224","v":1269.615},{"$f":"[2]主表!R224","v":1269.615},{"$f":"[2]主表!S224","v":4062.77},{"$f":"[2]主表!$G224","v":253923},222,5,111,5,112.19999999999899,1]
[223,223,{"$f":"[1]HeroPowerUpConfig!J227","v":232},{"$f":"[1]HeroPowerUpConfig!K227","v":236},{"$f":"[1]HeroPowerUpConfig!L227","v":240},"飞升期","中",3,{"$f":"[2]主表!P225","v":146837.71187290968},{"$f":"[2]主表!Q225","v":1288.655},{"$f":"[2]主表!R225","v":1288.655},{"$f":"[2]主表!S225","v":4123.7},{"$f":"[2]主表!$G225","v":257731},223,5,112,5,112.299999999999,1]
[224,224,{"$f":"[1]HeroPowerUpConfig!J228","v":232},{"$f":"[1]HeroPowerUpConfig!K228","v":236},{"$f":"[1]HeroPowerUpConfig!L228","v":241},"飞升期","中",4,{"$f":"[2]主表!P226","v":149653.87608695653},{"$f":"[2]主表!Q226","v":1307.9949999999999},{"$f":"[2]主表!R226","v":1307.9949999999999},{"$f":"[2]主表!S226","v":4185.58},{"$f":"[2]主表!$G226","v":261599},224,5,112,5,112.399999999999,1]
[225,225,{"$f":"[1]HeroPowerUpConfig!J229","v":232},{"$f":"[1]HeroPowerUpConfig!K229","v":236},{"$f":"[1]HeroPowerUpConfig!L229","v":242},"飞升期","中",5,{"$f":"[2]主表!P227","v":152522.61622073577},{"$f":"[2]主表!Q227","v":1327.635},{"$f":"[2]主表!R227","v":1327.635},{"$f":"[2]主表!S227","v":4248.43},{"$f":"[2]主表!$G227","v":265527},225,5,113,5,112.49999999999901,1]
[226,226,{"$f":"[1]HeroPowerUpConfig!J230","v":232},{"$f":"[1]HeroPowerUpConfig!K230","v":236},{"$f":"[1]HeroPowerUpConfig!L230","v":243},"飞升期","中",6,{"$f":"[2]主表!P228","v":155446.08394648827},{"$f":"[2]主表!Q228","v":1347.59},{"$f":"[2]主表!R228","v":1347.59},{"$f":"[2]主表!S228","v":4312.29},{"$f":"[2]主表!$G228","v":269518},226,5,113,5,112.599999999999,1]
[227,227,{"$f":"[1]HeroPowerUpConfig!J231","v":232},{"$f":"[1]HeroPowerUpConfig!K231","v":236},{"$f":"[1]HeroPowerUpConfig!L231","v":244},"飞升期","中",7,{"$f":"[2]主表!P229","v":158424.14264214045},{"$f":"[2]主表!Q229","v":1367.855},{"$f":"[2]主表!R229","v":1367.855},{"$f":"[2]主表!S229","v":4377.1400000000003},{"$f":"[2]主表!$G229","v":273571},227,5,114,5,112.69999999999899,1]
[228,228,{"$f":"[1]HeroPowerUpConfig!J232","v":232},{"$f":"[1]HeroPowerUpConfig!K232","v":236},{"$f":"[1]HeroPowerUpConfig!L232","v":245},"飞升期","中",8,{"$f":"[2]主表!P230","v":161458.9720735786},{"$f":"[2]主表!Q230","v":1388.4449999999999},{"$f":"[2]主表!R230","v":1388.4449999999999},{"$f":"[2]主表!S230","v":4443.0200000000004},{"$f":"[2]主表!$G230","v":277689},228,5,114,5,112.799999999999,1]
[229,229,{"$f":"[1]HeroPowerUpConfig!J233","v":232},{"$f":"[1]HeroPowerUpConfig!K233","v":236},{"$f":"[1]HeroPowerUpConfig!L233","v":246},"飞升期","中",9,{"$f":"[2]主表!P231","v":164550.44498327759},{"$f":"[2]主表!Q231","v":1409.355},{"$f":"[2]主表!R231","v":1409.355},{"$f":"[2]主表!S231","v":4509.9399999999996},{"$f":"[2]主表!$G231","v":281871},229,5,115,5,112.899999999999,1]
[230,230,{"$f":"[1]HeroPowerUpConfig!J234","v":232},{"$f":"[1]HeroPowerUpConfig!K234","v":236},{"$f":"[1]HeroPowerUpConfig!L234","v":247},"飞升期","中",10,{"$f":"[2]主表!P232","v":167700.18311036791},{"$f":"[2]主表!Q232","v":1430.595},{"$f":"[2]主表!R232","v":1430.595},{"$f":"[2]主表!S232","v":4864.0200000000004},{"$f":"[2]主表!$G232","v":286119},230,5,115,5,112.99999999999901,1]
[231,231,{"$f":"[1]HeroPowerUpConfig!J235","v":232},{"$f":"[1]HeroPowerUpConfig!K235","v":237},{"$f":"[1]HeroPowerUpConfig!L235","v":238},"飞升期","后",1,{"$f":"[2]主表!P233","v":189458.72307692308},{"$f":"[2]主表!Q233","v":1609.78},{"$f":"[2]主表!R233","v":1609.78},{"$f":"[2]主表!S233","v":5473.25},{"$f":"[2]主表!$G233","v":321956},231,5,116,5,113.099999999999,1]
[232,232,{"$f":"[1]HeroPowerUpConfig!J236","v":232},{"$f":"[1]HeroPowerUpConfig!K236","v":237},{"$f":"[1]HeroPowerUpConfig!L236","v":239},"飞升期","后",2,{"$f":"[2]主表!P234","v":193037.68461538464},{"$f":"[2]主表!Q234","v":1633.69},{"$f":"[2]主表!R234","v":1633.69},{"$f":"[2]主表!S234","v":5554.55},{"$f":"[2]主表!$G234","v":326738},232,5,116,5,113.19999999999899,1]
[233,233,{"$f":"[1]HeroPowerUpConfig!J237","v":232},{"$f":"[1]HeroPowerUpConfig!K237","v":237},{"$f":"[1]HeroPowerUpConfig!L237","v":240},"飞升期","后",3,{"$f":"[2]主表!P235","v":196682.92943143813},{"$f":"[2]主表!Q235","v":1657.97},{"$f":"[2]主表!R235","v":1657.97},{"$f":"[2]主表!S235","v":5637.1},{"$f":"[2]主表!$G235","v":331594},233,5,117,5,113.299999999999,1]
[234,234,{"$f":"[1]HeroPowerUpConfig!J238","v":232},{"$f":"[1]HeroPowerUpConfig!K238","v":237},{"$f":"[1]HeroPowerUpConfig!L238","v":241},"飞升期","后",4,{"$f":"[2]主表!P236","v":200396.76371237455},{"$f":"[2]主表!Q236","v":1682.635},{"$f":"[2]主表!R236","v":1682.635},{"$f":"[2]主表!S236","v":5720.96},{"$f":"[2]主表!$G236","v":336527},234,5,117,5,113.399999999999,1]
[235,235,{"$f":"[1]HeroPowerUpConfig!J239","v":232},{"$f":"[1]HeroPowerUpConfig!K239","v":237},{"$f":"[1]HeroPowerUpConfig!L239","v":242},"飞升期","后",5,{"$f":"[2]主表!P237","v":204179.72826086957},{"$f":"[2]主表!Q237","v":1707.6849999999999},{"$f":"[2]主表!R237","v":1707.6849999999999},{"$f":"[2]主表!S237","v":5806.13},{"$f":"[2]主表!$G237","v":341537},235,5,118,5,113.49999999999901,1]
[236,236,{"$f":"[1]HeroPowerUpConfig!J240","v":232},{"$f":"[1]HeroPowerUpConfig!K240","v":237},{"$f":"[1]HeroPowerUpConfig!L240","v":243},"飞升期","后",6,{"$f":"[2]主表!P238","v":208033.56421404687},{"$f":"[2]主表!Q238","v":1733.13},{"$f":"[2]主表!R238","v":1733.13},{"$f":"[2]主表!S238","v":5892.64},{"$f":"[2]主表!$G238","v":346626},236,5,118,5,113.599999999999,1]
[237,237,{"$f":"[1]HeroPowerUpConfig!J241","v":232},{"$f":"[1]HeroPowerUpConfig!K241","v":237},{"$f":"[1]HeroPowerUpConfig!L241","v":244},"飞升期","后",7,{"$f":"[2]主表!P239","v":211958.82642140466},{"$f":"[2]主表!Q239","v":1758.97},{"$f":"[2]主表!R239","v":1758.97},{"$f":"[2]主表!S239","v":5980.5},{"$f":"[2]主表!$G239","v":351794},237,5,119,5,113.69999999999899,1]
[238,238,{"$f":"[1]HeroPowerUpConfig!J242","v":232},{"$f":"[1]HeroPowerUpConfig!K242","v":237},{"$f":"[1]HeroPowerUpConfig!L242","v":245},"飞升期","后",8,{"$f":"[2]主表!P240","v":215957.88428093644},{"$f":"[2]主表!Q240","v":1785.22},{"$f":"[2]主表!R240","v":1785.22},{"$f":"[2]主表!S240","v":6069.75},{"$f":"[2]主表!$G240","v":357044},238,5,119,5,113.799999999999,1]
[239,239,{"$f":"[1]HeroPowerUpConfig!J243","v":232},{"$f":"[1]HeroPowerUpConfig!K243","v":237},{"$f":"[1]HeroPowerUpConfig!L243","v":246},"飞升期","后",9,{"$f":"[2]主表!P241","v":220031.92090301003},{"$f":"[2]主表!Q241","v":1811.885},{"$f":"[2]主表!R241","v":1811.885},{"$f":"[2]主表!S241","v":6160.41},{"$f":"[2]主表!$G241","v":362377},239,5,120,5,113.899999999999,1]
[240,240,{"$f":"[1]HeroPowerUpConfig!J244","v":232},{"$f":"[1]HeroPowerUpConfig!K244","v":237},{"$f":"[1]HeroPowerUpConfig!L244","v":247},"飞升期","后",10,{"$f":"[2]主表!P242","v":224181.51923076922},{"$f":"[2]主表!Q242","v":1838.9649999999999},{"$f":"[2]主表!R242","v":1838.9649999999999},{"$f":"[2]主表!S242","v":6620.27},{"$f":"[2]主表!$G242","v":367793},240,5,120,5,113.99999999999901,1]
[241,241,{"$f":"[1]HeroPowerUpConfig!J245","v":233},{"$f":"[1]HeroPowerUpConfig!K245","v":235},{"$f":"[1]HeroPowerUpConfig!L245","v":238},"逍遥期","前",1,{"$f":"[2]主表!P243","v":298532.79264214047},{"$f":"[2]主表!Q243","v":2439.5},{"$f":"[2]主表!R243","v":2439.5},{"$f":"[2]主表!S243","v":8782.2000000000007},{"$f":"[2]主表!$G243","v":487900},241,5,121,5,114.099999999999,1]
[242,242,{"$f":"[1]HeroPowerUpConfig!J246","v":233},{"$f":"[1]HeroPowerUpConfig!K246","v":235},{"$f":"[1]HeroPowerUpConfig!L246","v":239},"逍遥期","前",2,{"$f":"[2]主表!P244","v":303378.12993311038},{"$f":"[2]主表!Q244","v":2469.645},{"$f":"[2]主表!R244","v":2469.645},{"$f":"[2]主表!S244","v":8890.7199999999993},{"$f":"[2]主表!$G244","v":493929},242,5,121,5,114.19999999999899,1]
[243,243,{"$f":"[1]HeroPowerUpConfig!J247","v":233},{"$f":"[1]HeroPowerUpConfig!K247","v":235},{"$f":"[1]HeroPowerUpConfig!L247","v":240},"逍遥期","前",3,{"$f":"[2]主表!P245","v":308305.33695652173},{"$f":"[2]主表!Q245","v":2500.2249999999999},{"$f":"[2]主表!R245","v":2500.2249999999999},{"$f":"[2]主表!S245","v":9000.81},{"$f":"[2]主表!$G245","v":500045},243,5,122,5,114.299999999999,1]
[244,244,{"$f":"[1]HeroPowerUpConfig!J248","v":233},{"$f":"[1]HeroPowerUpConfig!K248","v":235},{"$f":"[1]HeroPowerUpConfig!L248","v":241},"逍遥期","前",4,{"$f":"[2]主表!P246","v":313314.40585284284},{"$f":"[2]主表!Q246","v":2531.2350000000001},{"$f":"[2]主表!R246","v":2531.2350000000001},{"$f":"[2]主表!S246","v":9112.4500000000007},{"$f":"[2]主表!$G246","v":506247},244,5,122,5,114.399999999999,1]
[245,245,{"$f":"[1]HeroPowerUpConfig!J249","v":233},{"$f":"[1]HeroPowerUpConfig!K249","v":235},{"$f":"[1]HeroPowerUpConfig!L249","v":242},"逍遥期","前",5,{"$f":"[2]主表!P247","v":318408.42558528425},{"$f":"[2]主表!Q247","v":2562.6950000000002},{"$f":"[2]主表!R247","v":2562.6950000000002},{"$f":"[2]主表!S247","v":9225.7000000000007},{"$f":"[2]主表!$G247","v":512539},245,5,123,5,114.49999999999901,1]
[246,246,{"$f":"[1]HeroPowerUpConfig!J250","v":233},{"$f":"[1]HeroPowerUpConfig!K250","v":235},{"$f":"[1]HeroPowerUpConfig!L250","v":243},"逍遥期","前",6,{"$f":"[2]主表!P248","v":323540.63628762541},{"$f":"[2]主表!Q248","v":2594.2249999999999},{"$f":"[2]主表!R248","v":2594.2249999999999},{"$f":"[2]主表!S248","v":9339.2099999999991},{"$f":"[2]主表!$G248","v":518845},246,5,123,5,114.599999999999,1]
[247,247,{"$f":"[1]HeroPowerUpConfig!J251","v":233},{"$f":"[1]HeroPowerUpConfig!K251","v":235},{"$f":"[1]HeroPowerUpConfig!L251","v":244},"逍遥期","前",7,{"$f":"[2]主表!P249","v":328758.70618729095},{"$f":"[2]主表!Q249","v":2626.2049999999999},{"$f":"[2]主表!R249","v":2626.2049999999999},{"$f":"[2]主表!S249","v":9454.34},{"$f":"[2]主表!$G249","v":525241},247,5,124,5,114.69999999999899,1]
[248,248,{"$f":"[1]HeroPowerUpConfig!J252","v":233},{"$f":"[1]HeroPowerUpConfig!K252","v":235},{"$f":"[1]HeroPowerUpConfig!L252","v":245},"逍遥期","前",8,{"$f":"[2]主表!P250","v":334063.26739130437},{"$f":"[2]主表!Q250","v":2658.6350000000002},{"$f":"[2]主表!R250","v":2658.6350000000002},{"$f":"[2]主表!S250","v":9571.09},{"$f":"[2]主表!$G250","v":531727},248,5,124,5,114.799999999999,1]
[249,249,{"$f":"[1]HeroPowerUpConfig!J253","v":233},{"$f":"[1]HeroPowerUpConfig!K253","v":235},{"$f":"[1]HeroPowerUpConfig!L253","v":246},"逍遥期","前",9,{"$f":"[2]主表!P251","v":339456.84381270903},{"$f":"[2]主表!Q251","v":2691.53},{"$f":"[2]主表!R251","v":2691.53},{"$f":"[2]主表!S251","v":9689.51},{"$f":"[2]主表!$G251","v":538306},249,5,125,5,114.899999999999,1]
[250,250,{"$f":"[1]HeroPowerUpConfig!J254","v":233},{"$f":"[1]HeroPowerUpConfig!K254","v":235},{"$f":"[1]HeroPowerUpConfig!L254","v":247},"逍遥期","前",10,{"$f":"[2]主表!P252","v":344940.72157190641},{"$f":"[2]主表!Q252","v":2724.895},{"$f":"[2]主表!R252","v":2724.895},{"$f":"[2]主表!S252","v":10354.6},{"$f":"[2]主表!$G252","v":544979},250,5,125,5,114.99999999999901,1]
[251,251,{"$f":"[1]HeroPowerUpConfig!J255","v":233},{"$f":"[1]HeroPowerUpConfig!K255","v":236},{"$f":"[1]HeroPowerUpConfig!L255","v":238},"逍遥期","中",1,{"$f":"[2]主表!P253","v":388558.28946488298},{"$f":"[2]主表!Q253","v":3058.145},{"$f":"[2]主表!R253","v":3058.145},{"$f":"[2]主表!S253","v":11620.95},{"$f":"[2]主表!$G253","v":611629},251,6,126,6,115.099999999999,1]
[252,252,{"$f":"[1]HeroPowerUpConfig!J256","v":233},{"$f":"[1]HeroPowerUpConfig!K256","v":236},{"$f":"[1]HeroPowerUpConfig!L256","v":239},"逍遥期","中",2,{"$f":"[2]主表!P254","v":394748.15769230766},{"$f":"[2]主表!Q254","v":3095.4549999999999},{"$f":"[2]主表!R254","v":3095.4549999999999},{"$f":"[2]主表!S254","v":11762.73},{"$f":"[2]主表!$G254","v":619091},252,6,126,6,115.19999999999899,1]
[253,253,{"$f":"[1]HeroPowerUpConfig!J257","v":233},{"$f":"[1]HeroPowerUpConfig!K257","v":236},{"$f":"[1]HeroPowerUpConfig!L257","v":240},"逍遥期","中",3,{"$f":"[2]主表!P255","v":401040.16153846157},{"$f":"[2]主表!Q255","v":3133.29},{"$f":"[2]主表!R255","v":3133.29},{"$f":"[2]主表!S255","v":11906.5},{"$f":"[2]主表!$G255","v":626658},253,6,127,6,115.299999999999,1]
[254,254,{"$f":"[1]HeroPowerUpConfig!J258","v":233},{"$f":"[1]HeroPowerUpConfig!K258","v":236},{"$f":"[1]HeroPowerUpConfig!L258","v":241},"逍遥期","中",4,{"$f":"[2]主表!P256","v":407436.96538461541},{"$f":"[2]主表!Q256","v":3171.665},{"$f":"[2]主表!R256","v":3171.665},{"$f":"[2]主表!S256","v":12052.33},{"$f":"[2]主表!$G256","v":634333},254,6,127,6,115.399999999999,1]
[255,255,{"$f":"[1]HeroPowerUpConfig!J259","v":233},{"$f":"[1]HeroPowerUpConfig!K259","v":236},{"$f":"[1]HeroPowerUpConfig!L259","v":242},"逍遥期","中",5,{"$f":"[2]主表!P257","v":413939.97240802675},{"$f":"[2]主表!Q257","v":3210.585},{"$f":"[2]主表!R257","v":3210.585},{"$f":"[2]主表!S257","v":12200.22},{"$f":"[2]主表!$G257","v":642117},255,6,128,6,115.49999999999901,1]
[256,256,{"$f":"[1]HeroPowerUpConfig!J260","v":233},{"$f":"[1]HeroPowerUpConfig!K260","v":236},{"$f":"[1]HeroPowerUpConfig!L260","v":243},"逍遥期","中",6,{"$f":"[2]主表!P258","v":420550.59515050158},{"$f":"[2]主表!Q258","v":3250.0549999999998},{"$f":"[2]主表!R258","v":3250.0549999999998},{"$f":"[2]主表!S258","v":12350.21},{"$f":"[2]主表!$G258","v":650011},256,6,128,6,115.599999999999,1]
[257,257,{"$f":"[1]HeroPowerUpConfig!J261","v":233},{"$f":"[1]HeroPowerUpConfig!K261","v":236},{"$f":"[1]HeroPowerUpConfig!L261","v":244},"逍遥期","中",7,{"$f":"[2]主表!P259","v":427271.55418060196},{"$f":"[2]主表!Q259","v":3290.09},{"$f":"[2]主表!R259","v":3290.09},{"$f":"[2]主表!S259","v":12502.34},{"$f":"[2]主表!$G259","v":658018},257,6,129,6,115.69999999999899,1]
[258,258,{"$f":"[1]HeroPowerUpConfig!J262","v":233},{"$f":"[1]HeroPowerUpConfig!K262","v":236},{"$f":"[1]HeroPowerUpConfig!L262","v":245},"逍遥期","中",8,{"$f":"[2]主表!P260","v":434103.64314381272},{"$f":"[2]主表!Q260","v":3330.69},{"$f":"[2]主表!R260","v":3330.69},{"$f":"[2]主表!S260","v":12656.62},{"$f":"[2]主表!$G260","v":666138},258,6,129,6,115.799999999999,1]
[259,259,{"$f":"[1]HeroPowerUpConfig!J263","v":233},{"$f":"[1]HeroPowerUpConfig!K263","v":236},{"$f":"[1]HeroPowerUpConfig!L263","v":246},"逍遥期","中",9,{"$f":"[2]主表!P261","v":441049.61772575247},{"$f":"[2]主表!Q261","v":3371.87},{"$f":"[2]主表!R261","v":3371.87},{"$f":"[2]主表!S261","v":12813.11},{"$f":"[2]主表!$G261","v":674374},259,6,130,6,115.899999999999,1]
[260,260,{"$f":"[1]HeroPowerUpConfig!J264","v":233},{"$f":"[1]HeroPowerUpConfig!K264","v":236},{"$f":"[1]HeroPowerUpConfig!L264","v":247},"逍遥期","中",10,{"$f":"[2]主表!P262","v":448110.94899665553},{"$f":"[2]主表!Q262","v":3413.6350000000002},{"$f":"[2]主表!R262","v":3413.6350000000002},{"$f":"[2]主表!S262","v":13654.54},{"$f":"[2]主表!$G262","v":682727},260,6,130,6,115.99999999999901,1]
[261,261,{"$f":"[1]HeroPowerUpConfig!J265","v":233},{"$f":"[1]HeroPowerUpConfig!K265","v":237},{"$f":"[1]HeroPowerUpConfig!L265","v":238},"逍遥期","后",1,{"$f":"[2]主表!P263","v":504704.46521739132},{"$f":"[2]主表!Q263","v":3831.09},{"$f":"[2]主表!R263","v":3831.09},{"$f":"[2]主表!S263","v":15324.36},{"$f":"[2]主表!$G263","v":766218},261,6,131,6,116.099999999999,1]
[262,262,{"$f":"[1]HeroPowerUpConfig!J266","v":233},{"$f":"[1]HeroPowerUpConfig!K266","v":237},{"$f":"[1]HeroPowerUpConfig!L266","v":239},"逍遥期","后",2,{"$f":"[2]主表!P264","v":512673.03127090301},{"$f":"[2]主表!Q264","v":3877.7950000000001},{"$f":"[2]主表!R264","v":3877.7950000000001},{"$f":"[2]主表!S264","v":15511.18},{"$f":"[2]主表!$G264","v":775559},262,6,131,6,116.19999999999899,1]
[263,263,{"$f":"[1]HeroPowerUpConfig!J267","v":233},{"$f":"[1]HeroPowerUpConfig!K267","v":237},{"$f":"[1]HeroPowerUpConfig!L267","v":240},"逍遥期","后",3,{"$f":"[2]主表!P265","v":520772.90033444815},{"$f":"[2]主表!Q265","v":3925.16},{"$f":"[2]主表!R265","v":3925.16},{"$f":"[2]主表!S265","v":15700.64},{"$f":"[2]主表!$G265","v":785032},263,6,132,6,116.299999999999,1]
[264,264,{"$f":"[1]HeroPowerUpConfig!J268","v":233},{"$f":"[1]HeroPowerUpConfig!K268","v":237},{"$f":"[1]HeroPowerUpConfig!L268","v":241},"逍遥期","后",4,{"$f":"[2]主表!P266","v":529006.33093645482},{"$f":"[2]主表!Q266","v":3973.1950000000002},{"$f":"[2]主表!R266","v":3973.1950000000002},{"$f":"[2]主表!S266","v":15892.78},{"$f":"[2]主表!$G266","v":794639},264,6,132,6,116.399999999999,1]
[265,265,{"$f":"[1]HeroPowerUpConfig!J269","v":233},{"$f":"[1]HeroPowerUpConfig!K269","v":237},{"$f":"[1]HeroPowerUpConfig!L269","v":242},"逍遥期","后",5,{"$f":"[2]主表!P267","v":537376.26839464891},{"$f":"[2]主表!Q267","v":4021.915},{"$f":"[2]主表!R267","v":4021.915},{"$f":"[2]主表!S267","v":16087.66},{"$f":"[2]主表!$G267","v":804383},265,6,133,6,116.49999999999901,1]
[266,266,{"$f":"[1]HeroPowerUpConfig!J270","v":233},{"$f":"[1]HeroPowerUpConfig!K270","v":237},{"$f":"[1]HeroPowerUpConfig!L270","v":243},"逍遥期","后",6,{"$f":"[2]主表!P268","v":545885.01571906358},{"$f":"[2]主表!Q268","v":4071.33},{"$f":"[2]主表!R268","v":4071.33},{"$f":"[2]主表!S268","v":16285.32},{"$f":"[2]主表!$G268","v":814266},266,6,133,6,116.599999999999,1]
[267,267,{"$f":"[1]HeroPowerUpConfig!J271","v":233},{"$f":"[1]HeroPowerUpConfig!K271","v":237},{"$f":"[1]HeroPowerUpConfig!L271","v":244},"逍遥期","后",7,{"$f":"[2]主表!P269","v":554534.22190635442},{"$f":"[2]主表!Q269","v":4121.4449999999997},{"$f":"[2]主表!R269","v":4121.4449999999997},{"$f":"[2]主表!S269","v":16485.78},{"$f":"[2]主表!$G269","v":824289},267,6,134,6,116.69999999999899,1]
[268,268,{"$f":"[1]HeroPowerUpConfig!J272","v":233},{"$f":"[1]HeroPowerUpConfig!K272","v":237},{"$f":"[1]HeroPowerUpConfig!L272","v":245},"逍遥期","后",8,{"$f":"[2]主表!P270","v":563326.22040133784},{"$f":"[2]主表!Q270","v":4172.2700000000004},{"$f":"[2]主表!R270","v":4172.2700000000004},{"$f":"[2]主表!S270","v":16689.080000000002},{"$f":"[2]主表!$G270","v":834454},268,6,134,6,116.799999999999,1]
[269,269,{"$f":"[1]HeroPowerUpConfig!J273","v":233},{"$f":"[1]HeroPowerUpConfig!K273","v":237},{"$f":"[1]HeroPowerUpConfig!L273","v":246},"逍遥期","后",9,{"$f":"[2]主表!P271","v":572264.04080267553},{"$f":"[2]主表!Q271","v":4223.82},{"$f":"[2]主表!R271","v":4223.82},{"$f":"[2]主表!S271","v":16895.28},{"$f":"[2]主表!$G271","v":844764},269,6,135,6,116.899999999999,1]
[270,270,{"$f":"[1]HeroPowerUpConfig!J274","v":233},{"$f":"[1]HeroPowerUpConfig!K274","v":237},{"$f":"[1]HeroPowerUpConfig!L274","v":247},"逍遥期","后",10,{"$f":"[2]主表!P272","v":581349.38127090305},{"$f":"[2]主表!Q272","v":4276.1000000000004},{"$f":"[2]主表!R272","v":4276.1000000000004},{"$f":"[2]主表!S272","v":17959.62},{"$f":"[2]主表!$G272","v":855220},270,6,135,6,116.99999999999901,1]
[271,271,{"$f":"[1]HeroPowerUpConfig!J275","v":234},{"$f":"[1]HeroPowerUpConfig!K275","v":235},{"$f":"[1]HeroPowerUpConfig!L275","v":238},"真神期","前",1,{"$f":"[2]主表!P273","v":773717.40719063545},{"$f":"[2]主表!Q273","v":5671.5249999999996},{"$f":"[2]主表!R273","v":5671.5249999999996},{"$f":"[2]主表!S273","v":23820.41},{"$f":"[2]主表!$G273","v":1134305},271,6,136,6,117.099999999999,1]
[272,272,{"$f":"[1]HeroPowerUpConfig!J276","v":234},{"$f":"[1]HeroPowerUpConfig!K276","v":235},{"$f":"[1]HeroPowerUpConfig!L276","v":239},"真神期","前",2,{"$f":"[2]主表!P274","v":785830.67541806027},{"$f":"[2]主表!Q274","v":5740.6149999999998},{"$f":"[2]主表!R274","v":5740.6149999999998},{"$f":"[2]主表!S274","v":24110.58},{"$f":"[2]主表!$G274","v":1148123},272,6,136,6,117.19999999999899,1]
[273,273,{"$f":"[1]HeroPowerUpConfig!J277","v":234},{"$f":"[1]HeroPowerUpConfig!K277","v":235},{"$f":"[1]HeroPowerUpConfig!L277","v":240},"真神期","前",3,{"$f":"[2]主表!P275","v":798143.25401337806},{"$f":"[2]主表!Q275","v":5810.6850000000004},{"$f":"[2]主表!R275","v":5810.6850000000004},{"$f":"[2]主表!S275","v":24404.880000000001},{"$f":"[2]主表!$G275","v":1162137},273,6,137,6,117.299999999999,1]
[274,274,{"$f":"[1]HeroPowerUpConfig!J278","v":234},{"$f":"[1]HeroPowerUpConfig!K278","v":235},{"$f":"[1]HeroPowerUpConfig!L278","v":241},"真神期","前",4,{"$f":"[2]主表!P276","v":810657.89782608696},{"$f":"[2]主表!Q276","v":5881.7449999999999},{"$f":"[2]主表!R276","v":5881.7449999999999},{"$f":"[2]主表!S276","v":24703.33},{"$f":"[2]主表!$G276","v":1176349},274,6,137,6,117.399999999999,1]
[275,275,{"$f":"[1]HeroPowerUpConfig!J279","v":234},{"$f":"[1]HeroPowerUpConfig!K279","v":235},{"$f":"[1]HeroPowerUpConfig!L279","v":242},"真神期","前",5,{"$f":"[2]主表!P277","v":823379.45484949835},{"$f":"[2]主表!Q277","v":5953.82},{"$f":"[2]主表!R277","v":5953.82},{"$f":"[2]主表!S277","v":25006.04},{"$f":"[2]主表!$G277","v":1190764},275,6,138,6,117.49999999999901,1]
[276,276,{"$f":"[1]HeroPowerUpConfig!J280","v":234},{"$f":"[1]HeroPowerUpConfig!K280","v":235},{"$f":"[1]HeroPowerUpConfig!L280","v":243},"真神期","前",6,{"$f":"[2]主表!P278","v":836310.0446488295},{"$f":"[2]主表!Q278","v":6026.915},{"$f":"[2]主表!R278","v":6026.915},{"$f":"[2]主表!S278","v":25313.040000000001},{"$f":"[2]主表!$G278","v":1205383},276,6,138,6,117.599999999999,1]
[277,277,{"$f":"[1]HeroPowerUpConfig!J281","v":234},{"$f":"[1]HeroPowerUpConfig!K281","v":235},{"$f":"[1]HeroPowerUpConfig!L281","v":244},"真神期","前",7,{"$f":"[2]主表!P279","v":849453.88461538462},{"$f":"[2]主表!Q279","v":6101.05},{"$f":"[2]主表!R279","v":6101.05},{"$f":"[2]主表!S279","v":25624.41},{"$f":"[2]主表!$G279","v":1220210},277,6,139,6,117.69999999999899,1]
[278,278,{"$f":"[1]HeroPowerUpConfig!J282","v":234},{"$f":"[1]HeroPowerUpConfig!K282","v":235},{"$f":"[1]HeroPowerUpConfig!L282","v":245},"真神期","前",8,{"$f":"[2]主表!P280","v":862813.83260869561},{"$f":"[2]主表!Q280","v":6176.2349999999997},{"$f":"[2]主表!R280","v":6176.2349999999997},{"$f":"[2]主表!S280","v":25940.19},{"$f":"[2]主表!$G280","v":1235247},278,6,139,6,117.799999999999,1]
[279,279,{"$f":"[1]HeroPowerUpConfig!J283","v":234},{"$f":"[1]HeroPowerUpConfig!K283","v":235},{"$f":"[1]HeroPowerUpConfig!L283","v":246},"真神期","前",9,{"$f":"[2]主表!P281","v":876394.166889632},{"$f":"[2]主表!Q281","v":6252.49},{"$f":"[2]主表!R281","v":6252.49},{"$f":"[2]主表!S281","v":26260.46},{"$f":"[2]主表!$G281","v":1250498},279,6,140,6,117.899999999999,1]
[280,280,{"$f":"[1]HeroPowerUpConfig!J284","v":234},{"$f":"[1]HeroPowerUpConfig!K284","v":235},{"$f":"[1]HeroPowerUpConfig!L284","v":247},"真神期","前",10,{"$f":"[2]主表!P282","v":890198.5},{"$f":"[2]主表!Q282","v":6329.83},{"$f":"[2]主表!R282","v":6329.83},{"$f":"[2]主表!S282","v":27851.25},{"$f":"[2]主表!$G282","v":1265966},280,6,140,6,117.99999999999901,1]
[281,281,{"$f":"[1]HeroPowerUpConfig!J285","v":234},{"$f":"[1]HeroPowerUpConfig!K285","v":236},{"$f":"[1]HeroPowerUpConfig!L285","v":238},"真神期","中",1,{"$f":"[2]主表!P283","v":1002370.197826087},{"$f":"[2]主表!Q283","v":7103.7849999999999},{"$f":"[2]主表!R283","v":7103.7849999999999},{"$f":"[2]主表!S283","v":31256.65},{"$f":"[2]主表!$G283","v":1420757},281,6,141,6,118.099999999999,1]
[282,282,{"$f":"[1]HeroPowerUpConfig!J286","v":234},{"$f":"[1]HeroPowerUpConfig!K286","v":236},{"$f":"[1]HeroPowerUpConfig!L286","v":239},"真神期","中",2,{"$f":"[2]主表!P284","v":1017938.8153846154},{"$f":"[2]主表!Q284","v":7190.26},{"$f":"[2]主表!R284","v":7190.26},{"$f":"[2]主表!S284","v":31637.14},{"$f":"[2]主表!$G284","v":1438052},282,6,141,6,118.19999999999899,1]
[283,283,{"$f":"[1]HeroPowerUpConfig!J287","v":234},{"$f":"[1]HeroPowerUpConfig!K287","v":236},{"$f":"[1]HeroPowerUpConfig!L287","v":240},"真神期","中",3,{"$f":"[2]主表!P285","v":1033763.1222408026},{"$f":"[2]主表!Q285","v":7277.9650000000001},{"$f":"[2]主表!R285","v":7277.9650000000001},{"$f":"[2]主表!S285","v":32023.05},{"$f":"[2]主表!$G285","v":1455593},283,6,142,6,118.299999999999,1]
[284,284,{"$f":"[1]HeroPowerUpConfig!J288","v":234},{"$f":"[1]HeroPowerUpConfig!K288","v":236},{"$f":"[1]HeroPowerUpConfig!L288","v":241},"真神期","中",4,{"$f":"[2]主表!P286","v":1049846.2712374583},{"$f":"[2]主表!Q286","v":7366.91},{"$f":"[2]主表!R286","v":7366.91},{"$f":"[2]主表!S286","v":32414.400000000001},{"$f":"[2]主表!$G286","v":1473382},284,6,142,6,118.399999999999,1]
[285,285,{"$f":"[1]HeroPowerUpConfig!J289","v":234},{"$f":"[1]HeroPowerUpConfig!K289","v":236},{"$f":"[1]HeroPowerUpConfig!L289","v":242},"真神期","中",5,{"$f":"[2]主表!P287","v":1066193.5785953177},{"$f":"[2]主表!Q287","v":7457.12},{"$f":"[2]主表!R287","v":7457.12},{"$f":"[2]主表!S287","v":32811.33},{"$f":"[2]主表!$G287","v":1491424},285,6,143,6,118.49999999999901,1]
[286,286,{"$f":"[1]HeroPowerUpConfig!J290","v":234},{"$f":"[1]HeroPowerUpConfig!K290","v":236},{"$f":"[1]HeroPowerUpConfig!L290","v":243},"真神期","中",6,{"$f":"[2]主表!P288","v":1082808.972909699},{"$f":"[2]主表!Q288","v":7548.61},{"$f":"[2]主表!R288","v":7548.61},{"$f":"[2]主表!S288","v":33213.879999999997},{"$f":"[2]主表!$G288","v":1509722},286,6,143,6,118.599999999999,1]
[287,287,{"$f":"[1]HeroPowerUpConfig!J291","v":234},{"$f":"[1]HeroPowerUpConfig!K291","v":236},{"$f":"[1]HeroPowerUpConfig!L291","v":244},"真神期","中",7,{"$f":"[2]主表!P289","v":1099697.1304347827},{"$f":"[2]主表!Q289","v":7641.4},{"$f":"[2]主表!R289","v":7641.4},{"$f":"[2]主表!S289","v":33622.160000000003},{"$f":"[2]主表!$G289","v":1528280},287,6,144,6,118.69999999999899,1]
[288,288,{"$f":"[1]HeroPowerUpConfig!J292","v":234},{"$f":"[1]HeroPowerUpConfig!K292","v":236},{"$f":"[1]HeroPowerUpConfig!L292","v":245},"真神期","中",8,{"$f":"[2]主表!P290","v":1116862.0429765887},{"$f":"[2]主表!Q290","v":7735.5050000000001},{"$f":"[2]主表!R290","v":7735.5050000000001},{"$f":"[2]主表!S290","v":34036.22},{"$f":"[2]主表!$G290","v":1547101},288,6,144,6,118.799999999999,1]
[289,289,{"$f":"[1]HeroPowerUpConfig!J293","v":234},{"$f":"[1]HeroPowerUpConfig!K293","v":236},{"$f":"[1]HeroPowerUpConfig!L293","v":246},"真神期","中",9,{"$f":"[2]主表!P291","v":1134308.4546822743},{"$f":"[2]主表!Q291","v":7830.9449999999997},{"$f":"[2]主表!R291","v":7830.9449999999997},{"$f":"[2]主表!S291","v":34456.160000000003},{"$f":"[2]主表!$G291","v":1566189},289,6,145,6,118.899999999999,1]
[290,290,{"$f":"[1]HeroPowerUpConfig!J294","v":234},{"$f":"[1]HeroPowerUpConfig!K294","v":236},{"$f":"[1]HeroPowerUpConfig!L294","v":247},"真神期","中",10,{"$f":"[2]主表!P292","v":1152041.1471571906},{"$f":"[2]主表!Q292","v":7927.74},{"$f":"[2]主表!R292","v":7927.74},{"$f":"[2]主表!S292","v":36467.599999999999},{"$f":"[2]主表!$G292","v":1585548},290,6,145,6,118.99999999999901,1]
[291,291,{"$f":"[1]HeroPowerUpConfig!J295","v":234},{"$f":"[1]HeroPowerUpConfig!K295","v":237},{"$f":"[1]HeroPowerUpConfig!L295","v":238},"真神期","后",1,{"$f":"[2]主表!P293","v":1297057.6254180602},{"$f":"[2]主表!Q293","v":8897},{"$f":"[2]主表!R293","v":8897},{"$f":"[2]主表!S293","v":40926.199999999997},{"$f":"[2]主表!$G293","v":1779400},291,6,146,6,119.099999999999,1]
[292,292,{"$f":"[1]HeroPowerUpConfig!J296","v":234},{"$f":"[1]HeroPowerUpConfig!K296","v":237},{"$f":"[1]HeroPowerUpConfig!L296","v":239},"真神期","后",2,{"$f":"[2]主表!P294","v":1317053.2660535118},{"$f":"[2]主表!Q294","v":9005.2350000000006},{"$f":"[2]主表!R294","v":9005.2350000000006},{"$f":"[2]主表!S294","v":41424.080000000002},{"$f":"[2]主表!$G294","v":1801047},292,6,146,6,119.19999999999899,1]
[293,293,{"$f":"[1]HeroPowerUpConfig!J297","v":234},{"$f":"[1]HeroPowerUpConfig!K297","v":237},{"$f":"[1]HeroPowerUpConfig!L297","v":240},"真神期","后",3,{"$f":"[2]主表!P295","v":1337374.7491638795},{"$f":"[2]主表!Q295","v":9115},{"$f":"[2]主表!R295","v":9115},{"$f":"[2]主表!S295","v":41929},{"$f":"[2]主表!$G295","v":1823000},293,6,147,6,119.299999999999,1]
[294,294,{"$f":"[1]HeroPowerUpConfig!J298","v":234},{"$f":"[1]HeroPowerUpConfig!K298","v":237},{"$f":"[1]HeroPowerUpConfig!L298","v":241},"真神期","后",4,{"$f":"[2]主表!P296","v":1358027.9036789297},{"$f":"[2]主表!Q296","v":9226.32},{"$f":"[2]主表!R296","v":9226.32},{"$f":"[2]主表!S296","v":42441.07},{"$f":"[2]主表!$G296","v":1845264},294,6,147,6,119.399999999999,1]
[295,295,{"$f":"[1]HeroPowerUpConfig!J299","v":234},{"$f":"[1]HeroPowerUpConfig!K299","v":237},{"$f":"[1]HeroPowerUpConfig!L299","v":242},"真神期","后",5,{"$f":"[2]主表!P297","v":1379019.3436454851},{"$f":"[2]主表!Q297","v":9339.2250000000004},{"$f":"[2]主表!R297","v":9339.2250000000004},{"$f":"[2]主表!S297","v":42960.44},{"$f":"[2]主表!$G297","v":1867845},295,6,148,6,119.49999999999901,1]
[296,296,{"$f":"[1]HeroPowerUpConfig!J300","v":234},{"$f":"[1]HeroPowerUpConfig!K300","v":237},{"$f":"[1]HeroPowerUpConfig!L300","v":243},"真神期","后",6,{"$f":"[2]主表!P298","v":1400130.5861204013},{"$f":"[2]主表!Q298","v":9452.2250000000004},{"$f":"[2]主表!R298","v":9452.2250000000004},{"$f":"[2]主表!S298","v":43480.24},{"$f":"[2]主表!$G298","v":1890445},296,6,148,6,119.599999999999,1]
[297,297,{"$f":"[1]HeroPowerUpConfig!J301","v":234},{"$f":"[1]HeroPowerUpConfig!K301","v":237},{"$f":"[1]HeroPowerUpConfig!L301","v":244},"真神期","后",7,{"$f":"[2]主表!P299","v":1421584.6575250835},{"$f":"[2]主表!Q299","v":9566.82},{"$f":"[2]主表!R299","v":9566.82},{"$f":"[2]主表!S299","v":44007.37},{"$f":"[2]主表!$G299","v":1913364},297,6,149,6,119.69999999999899,1]
[298,298,{"$f":"[1]HeroPowerUpConfig!J302","v":234},{"$f":"[1]HeroPowerUpConfig!K302","v":237},{"$f":"[1]HeroPowerUpConfig!L302","v":245},"真神期","后",8,{"$f":"[2]主表!P300","v":1443386.0342809362},{"$f":"[2]主表!Q300","v":9683.0249999999996},{"$f":"[2]主表!R300","v":9683.0249999999996},{"$f":"[2]主表!S300","v":44541.919999999998},{"$f":"[2]主表!$G300","v":1936605},298,6,149,6,119.799999999999,1]
[299,299,{"$f":"[1]HeroPowerUpConfig!J303","v":234},{"$f":"[1]HeroPowerUpConfig!K303","v":237},{"$f":"[1]HeroPowerUpConfig!L303","v":246},"真神期","后",9,{"$f":"[2]主表!P301","v":1465541.4638795988},{"$f":"[2]主表!Q301","v":9800.8700000000008},{"$f":"[2]主表!R301","v":9800.8700000000008},{"$f":"[2]主表!S301","v":45084},{"$f":"[2]主表!$G301","v":1960174},299,6,150,6,119.899999999999,1]
[300,300,{"$f":"[1]HeroPowerUpConfig!J304","v":234},{"$f":"[1]HeroPowerUpConfig!K304","v":237},{"$f":"[1]HeroPowerUpConfig!L304","v":247},"真神期","后",10,{"$f":"[2]主表!P302","v":1516800},{"$f":"[2]主表!Q302","v":10112},{"$f":"[2]主表!R302","v":10112},{"$f":"[2]主表!S302","v":48537.599999999999},{"$f":"[2]主表!$G302","v":2022400},300,6,150,6,119.99999999999901,1]