{"text_format":"2","workbook":"xlsx","n_sheets":6,"sheets":["DropConfig","DropGroupConfig","DropItemConfig","DropCountConfig","说明页","道具表"],"not_rendered":{"charts":0,"images":0,"macros":0,"external_links":3,"defined_names":4,"comments":0,"pivot_tables":0},"unopened":[],"bounds":{"document_bytes":16777216,"sheet_cells":100000,"run_cost":"one","rows_first":2000,"rows_last":500,"rows_between":2000,"halvings":0,"cell_chars":16384,"cell_head_chars":4096},"cells_cut":0,"cells_raw":0,"read":"whole","date_system":"1900"}

{"sheet":"DropConfig","index":0,"n_rows":172,"n_cols":18,"rows_kept":172,"cut":false,"hidden":false,"merged":[]}
["ID","dropGroupID",null,"dropType","showItemId"]
["int","int[]",null,"int","int[]"]
[{"$nulls":4},"c"]
["掉落ID","掉落组ID","掉落组说明","掉落方式\n1.每个掉落组根据掉落概率掉落\n2.所有掉落组根据掉落权重掉落\n3.直接掉落道具","显示ID\n通过工厂表决定显示",null,"完整值"]
[1001,{"$f":"IF(A5=\"\",\"\",A5)","v":1001},{"$f":"IF(A5=\"\",\"\",IF(D5=3,CONCATENATE(\"直接掉落道具：\",VLOOKUP(A5,[1]ItemConfig!$A:$C,3,FALSE)),\"\"))","v":"直接掉落道具：灵石"},3,{"$f":"A5","v":1001},{"$f":"IF(A5=\"\",\"\",IF(D5=3,VLOOKUP(A5,[1]ItemConfig!$A:$C,3,FALSE),\"\"))","v":"灵石"}]
[1002,{"$f":"IF(A6=\"\",\"\",A6)","v":1002},{"$f":"IF(A6=\"\",\"\",IF(D6=3,CONCATENATE(\"直接掉落道具：\",VLOOKUP(A6,[1]ItemConfig!$A:$C,3,FALSE)),\"\"))","v":"直接掉落道具：妖丹"},3,{"$f":"A6","v":1002},{"$f":"IF(A6=\"\",\"\",IF(D6=3,VLOOKUP(A6,[1]ItemConfig!$A:$C,3,FALSE),\"\"))","v":"妖丹"}]
[1003,1003,{"$f":"IF(A7=\"\",\"\",IF(D7=3,CONCATENATE(\"直接掉落道具：\",VLOOKUP(A7,[1]ItemConfig!$A:$C,3,FALSE)),\"\"))","v":"直接掉落道具：修为"},3,1003,{"$f":"IF(A7=\"\",\"\",IF(D7=3,VLOOKUP(A7,[1]ItemConfig!$A:$C,3,FALSE),\"\"))","v":"修为"}]
[1004,1004,{"$f":"IF(A8=\"\",\"\",IF(D8=3,CONCATENATE(\"直接掉落道具：\",VLOOKUP(A8,[1]ItemConfig!$A:$C,3,FALSE)),\"\"))","v":"直接掉落道具：妖王丹"},3,1004,{"$f":"IF(A8=\"\",\"\",IF(D8=3,VLOOKUP(A8,[1]ItemConfig!$A:$C,3,FALSE),\"\"))","v":"妖王丹"}]
[1005,1005,{"$f":"IF(A9=\"\",\"\",IF(D9=3,CONCATENATE(\"直接掉落道具：\",VLOOKUP(A9,[1]ItemConfig!$A:$C,3,FALSE)),\"\"))","v":"直接掉落道具：灵气"},3,1005,{"$f":"IF(A9=\"\",\"\",IF(D9=3,VLOOKUP(A9,[1]ItemConfig!$A:$C,3,FALSE),\"\"))","v":"灵气"}]
[1006,1006,{"$f":"IF(A10=\"\",\"\",IF(D10=3,CONCATENATE(\"直接掉落道具：\",VLOOKUP(A10,[1]ItemConfig!$A:$C,3,FALSE)),\"\"))","v":"直接掉落道具：玄晶"},3,1006,{"$f":"IF(A10=\"\",\"\",IF(D10=3,VLOOKUP(A10,[1]ItemConfig!$A:$C,3,FALSE),\"\"))","v":"玄晶"}]
[null,"",{"$f":"IF(A11=\"\",\"\",IF(D11=3,CONCATENATE(\"直接掉落道具：\",VLOOKUP(A11,[1]ItemConfig!$A:$C,3,FALSE)),\"\"))","v":""},3,0,{"$f":"IF(A11=\"\",\"\",IF(D11=3,VLOOKUP(A11,[1]ItemConfig!$A:$C,3,FALSE),\"\"))","v":""}]
[1201,1201,{"$f":"IF(A12=\"\",\"\",IF(D12=3,CONCATENATE(\"直接掉落道具：\",VLOOKUP(A12,[1]ItemConfig!$A:$C,3,FALSE)),\"\"))","v":"直接掉落道具：渡劫丹-A1"},3,1201,{"$f":"IF(A12=\"\",\"\",IF(D12=3,VLOOKUP(A12,[1]ItemConfig!$A:$C,3,FALSE),\"\"))","v":"渡劫丹-A1"}]
[1202,1202,{"$f":"IF(A13=\"\",\"\",IF(D13=3,CONCATENATE(\"直接掉落道具：\",VLOOKUP(A13,[1]ItemConfig!$A:$C,3,FALSE)),\"\"))","v":"直接掉落道具：渡劫丹-A2"},3,1202,{"$f":"IF(A13=\"\",\"\",IF(D13=3,VLOOKUP(A13,[1]ItemConfig!$A:$C,3,FALSE),\"\"))","v":"渡劫丹-A2"}]
[1203,1203,{"$f":"IF(A14=\"\",\"\",IF(D14=3,CONCATENATE(\"直接掉落道具：\",VLOOKUP(A14,[1]ItemConfig!$A:$C,3,FALSE)),\"\"))","v":"直接掉落道具：渡劫丹-A3"},3,1203,{"$f":"IF(A14=\"\",\"\",IF(D14=3,VLOOKUP(A14,[1]ItemConfig!$A:$C,3,FALSE),\"\"))","v":"渡劫丹-A3"}]
[1204,1204,{"$f":"IF(A15=\"\",\"\",IF(D15=3,CONCATENATE(\"直接掉落道具：\",VLOOKUP(A15,[1]ItemConfig!$A:$C,3,FALSE)),\"\"))","v":"直接掉落道具：渡劫丹-B1"},3,1204,{"$f":"IF(A15=\"\",\"\",IF(D15=3,VLOOKUP(A15,[1]ItemConfig!$A:$C,3,FALSE),\"\"))","v":"渡劫丹-B1"}]
[1205,1205,{"$f":"IF(A16=\"\",\"\",IF(D16=3,CONCATENATE(\"直接掉落道具：\",VLOOKUP(A16,[1]ItemConfig!$A:$C,3,FALSE)),\"\"))","v":"直接掉落道具：渡劫丹-B2"},3,1205,{"$f":"IF(A16=\"\",\"\",IF(D16=3,VLOOKUP(A16,[1]ItemConfig!$A:$C,3,FALSE),\"\"))","v":"渡劫丹-B2"}]
[1206,1206,{"$f":"IF(A17=\"\",\"\",IF(D17=3,CONCATENATE(\"直接掉落道具：\",VLOOKUP(A17,[1]ItemConfig!$A:$C,3,FALSE)),\"\"))","v":"直接掉落道具：渡劫丹-B3"},3,1206,{"$f":"IF(A17=\"\",\"\",IF(D17=3,VLOOKUP(A17,[1]ItemConfig!$A:$C,3,FALSE),\"\"))","v":"渡劫丹-B3"}]
[1207,1207,{"$f":"IF(A18=\"\",\"\",IF(D18=3,CONCATENATE(\"直接掉落道具：\",VLOOKUP(A18,[1]ItemConfig!$A:$C,3,FALSE)),\"\"))","v":"直接掉落道具：渡劫丹-C1"},3,1207,{"$f":"IF(A18=\"\",\"\",IF(D18=3,VLOOKUP(A18,[1]ItemConfig!$A:$C,3,FALSE),\"\"))","v":"渡劫丹-C1"}]
[1208,1208,{"$f":"IF(A19=\"\",\"\",IF(D19=3,CONCATENATE(\"直接掉落道具：\",VLOOKUP(A19,[1]ItemConfig!$A:$C,3,FALSE)),\"\"))","v":"直接掉落道具：渡劫丹-C2"},3,1208,{"$f":"IF(A19=\"\",\"\",IF(D19=3,VLOOKUP(A19,[1]ItemConfig!$A:$C,3,FALSE),\"\"))","v":"渡劫丹-C2"}]
[1209,1209,{"$f":"IF(A20=\"\",\"\",IF(D20=3,CONCATENATE(\"直接掉落道具：\",VLOOKUP(A20,[1]ItemConfig!$A:$C,3,FALSE)),\"\"))","v":"直接掉落道具：渡劫丹-C3"},3,1209,{"$f":"IF(A20=\"\",\"\",IF(D20=3,VLOOKUP(A20,[1]ItemConfig!$A:$C,3,FALSE),\"\"))","v":"渡劫丹-C3"}]
[null,"",{"$f":"IF(A21=\"\",\"\",IF(D21=3,CONCATENATE(\"直接掉落道具：\",VLOOKUP(A21,[1]ItemConfig!$A:$C,3,FALSE)),\"\"))","v":""},3,0,{"$f":"IF(A21=\"\",\"\",IF(D21=3,VLOOKUP(A21,[1]ItemConfig!$A:$C,3,FALSE),\"\"))","v":""}]
[1301,1301,{"$f":"IF(A22=\"\",\"\",IF(D22=3,CONCATENATE(\"直接掉落道具：\",VLOOKUP(A22,[1]ItemConfig!$A:$C,3,FALSE)),\"\"))","v":"直接掉落道具：天材地宝1"},3,1301,{"$f":"IF(A22=\"\",\"\",IF(D22=3,VLOOKUP(A22,[1]ItemConfig!$A:$C,3,FALSE),\"\"))","v":"天材地宝1"}]
[1302,1302,{"$f":"IF(A23=\"\",\"\",IF(D23=3,CONCATENATE(\"直接掉落道具：\",VLOOKUP(A23,[1]ItemConfig!$A:$C,3,FALSE)),\"\"))","v":"直接掉落道具：天材地宝2"},3,1302,{"$f":"IF(A23=\"\",\"\",IF(D23=3,VLOOKUP(A23,[1]ItemConfig!$A:$C,3,FALSE),\"\"))","v":"天材地宝2"}]
[1303,1303,{"$f":"IF(A24=\"\",\"\",IF(D24=3,CONCATENATE(\"直接掉落道具：\",VLOOKUP(A24,[1]ItemConfig!$A:$C,3,FALSE)),\"\"))","v":"直接掉落道具：天材地宝3"},3,1303,{"$f":"IF(A24=\"\",\"\",IF(D24=3,VLOOKUP(A24,[1]ItemConfig!$A:$C,3,FALSE),\"\"))","v":"天材地宝3"}]
[1304,1304,{"$f":"IF(A25=\"\",\"\",IF(D25=3,CONCATENATE(\"直接掉落道具：\",VLOOKUP(A25,[1]ItemConfig!$A:$C,3,FALSE)),\"\"))","v":"直接掉落道具：天材地宝4"},3,1304,{"$f":"IF(A25=\"\",\"\",IF(D25=3,VLOOKUP(A25,[1]ItemConfig!$A:$C,3,FALSE),\"\"))","v":"天材地宝4"}]
[null,"",{"$f":"IF(A26=\"\",\"\",IF(D26=3,CONCATENATE(\"直接掉落道具：\",VLOOKUP(A26,[1]ItemConfig!$A:$C,3,FALSE)),\"\"))","v":""},3,0,{"$f":"IF(A26=\"\",\"\",IF(D26=3,VLOOKUP(A26,[1]ItemConfig!$A:$C,3,FALSE),\"\"))","v":""}]
[1401,1401,{"$f":"IF(A27=\"\",\"\",IF(D27=3,CONCATENATE(\"直接掉落道具：\",VLOOKUP(A27,[1]ItemConfig!$A:$C,3,FALSE)),\"\"))","v":"直接掉落道具：修为丹·下"},3,1401,{"$f":"IF(A27=\"\",\"\",IF(D27=3,VLOOKUP(A27,[1]ItemConfig!$A:$C,3,FALSE),\"\"))","v":"修为丹·下"}]
[1402,1402,{"$f":"IF(A28=\"\",\"\",IF(D28=3,CONCATENATE(\"直接掉落道具：\",VLOOKUP(A28,[1]ItemConfig!$A:$C,3,FALSE)),\"\"))","v":"直接掉落道具：修为丹·中"},3,1402,{"$f":"IF(A28=\"\",\"\",IF(D28=3,VLOOKUP(A28,[1]ItemConfig!$A:$C,3,FALSE),\"\"))","v":"修为丹·中"}]
[1403,1403,{"$f":"IF(A29=\"\",\"\",IF(D29=3,CONCATENATE(\"直接掉落道具：\",VLOOKUP(A29,[1]ItemConfig!$A:$C,3,FALSE)),\"\"))","v":"直接掉落道具：修为丹·上"},3,1403,{"$f":"IF(A29=\"\",\"\",IF(D29=3,VLOOKUP(A29,[1]ItemConfig!$A:$C,3,FALSE),\"\"))","v":"修为丹·上"}]
[1404,1404,{"$f":"IF(A30=\"\",\"\",IF(D30=3,CONCATENATE(\"直接掉落道具：\",VLOOKUP(A30,[1]ItemConfig!$A:$C,3,FALSE)),\"\"))","v":"直接掉落道具：修为丹·极"},3,1404,{"$f":"IF(A30=\"\",\"\",IF(D30=3,VLOOKUP(A30,[1]ItemConfig!$A:$C,3,FALSE),\"\"))","v":"修为丹·极"}]
[null,"",{"$f":"IF(A31=\"\",\"\",IF(D31=3,CONCATENATE(\"直接掉落道具：\",VLOOKUP(A31,[1]ItemConfig!$A:$C,3,FALSE)),\"\"))","v":""},3,0,{"$f":"IF(A31=\"\",\"\",IF(D31=3,VLOOKUP(A31,[1]ItemConfig!$A:$C,3,FALSE),\"\"))","v":""}]
[1501,1501,{"$f":"IF(A32=\"\",\"\",IF(D32=3,CONCATENATE(\"直接掉落道具：\",VLOOKUP(A32,[1]ItemConfig!$A:$C,3,FALSE)),\"\"))","v":"直接掉落道具：好感度礼物1"},3,1501,{"$f":"IF(A32=\"\",\"\",IF(D32=3,VLOOKUP(A32,[1]ItemConfig!$A:$C,3,FALSE),\"\"))","v":"好感度礼物1"}]
[1502,1502,{"$f":"IF(A33=\"\",\"\",IF(D33=3,CONCATENATE(\"直接掉落道具：\",VLOOKUP(A33,[1]ItemConfig!$A:$C,3,FALSE)),\"\"))","v":"直接掉落道具：好感度礼物2"},3,1502,{"$f":"IF(A33=\"\",\"\",IF(D33=3,VLOOKUP(A33,[1]ItemConfig!$A:$C,3,FALSE),\"\"))","v":"好感度礼物2"}]
[null,"",{"$f":"IF(A34=\"\",\"\",IF(D34=3,CONCATENATE(\"直接掉落道具：\",VLOOKUP(A34,[1]ItemConfig!$A:$C,3,FALSE)),\"\"))","v":""},3,0,{"$f":"IF(A34=\"\",\"\",IF(D34=3,VLOOKUP(A34,[1]ItemConfig!$A:$C,3,FALSE),\"\"))","v":""}]
[1601,1601,{"$f":"IF(A35=\"\",\"\",IF(D35=3,CONCATENATE(\"直接掉落道具：\",VLOOKUP(A35,[1]ItemConfig!$A:$C,3,FALSE)),\"\"))","v":"直接掉落道具：心情礼物1"},3,1601,{"$f":"IF(A35=\"\",\"\",IF(D35=3,VLOOKUP(A35,[1]ItemConfig!$A:$C,3,FALSE),\"\"))","v":"心情礼物1"}]
[null,"",{"$f":"IF(A36=\"\",\"\",IF(D36=3,CONCATENATE(\"直接掉落道具：\",VLOOKUP(A36,[1]ItemConfig!$A:$C,3,FALSE)),\"\"))","v":""},3,0,{"$f":"IF(A36=\"\",\"\",IF(D36=3,VLOOKUP(A36,[1]ItemConfig!$A:$C,3,FALSE),\"\"))","v":""}]
[10001,10001,{"$f":"IF(A37=\"\",\"\",IF(D37=3,CONCATENATE(\"直接掉落道具：\",VLOOKUP(A37,[1]ItemConfig!$A:$C,3,FALSE)),\"\"))","v":"直接掉落道具：神龙鼎"},3,10001,{"$f":"IF(A37=\"\",\"\",IF(D37=3,VLOOKUP(A37,[1]ItemConfig!$A:$C,3,FALSE),\"\"))","v":"神龙鼎"}]
[10002,10002,{"$f":"IF(A38=\"\",\"\",IF(D38=3,CONCATENATE(\"直接掉落道具：\",VLOOKUP(A38,[1]ItemConfig!$A:$C,3,FALSE)),\"\"))","v":"直接掉落道具：破天斧"},3,10002,{"$f":"IF(A38=\"\",\"\",IF(D38=3,VLOOKUP(A38,[1]ItemConfig!$A:$C,3,FALSE),\"\"))","v":"破天斧"}]
[10003,10003,{"$f":"IF(A39=\"\",\"\",IF(D39=3,CONCATENATE(\"直接掉落道具：\",VLOOKUP(A39,[1]ItemConfig!$A:$C,3,FALSE)),\"\"))","v":"直接掉落道具：翡翠葫芦"},3,10003,{"$f":"IF(A39=\"\",\"\",IF(D39=3,VLOOKUP(A39,[1]ItemConfig!$A:$C,3,FALSE),\"\"))","v":"翡翠葫芦"}]
[10004,10004,{"$f":"IF(A40=\"\",\"\",IF(D40=3,CONCATENATE(\"直接掉落道具：\",VLOOKUP(A40,[1]ItemConfig!$A:$C,3,FALSE)),\"\"))","v":"直接掉落道具：混沌珠"},3,10004,{"$f":"IF(A40=\"\",\"\",IF(D40=3,VLOOKUP(A40,[1]ItemConfig!$A:$C,3,FALSE),\"\"))","v":"混沌珠"}]
[10005,10005,{"$f":"IF(A41=\"\",\"\",IF(D41=3,CONCATENATE(\"直接掉落道具：\",VLOOKUP(A41,[1]ItemConfig!$A:$C,3,FALSE)),\"\"))","v":"直接掉落道具：琉璃宝塔"},3,10005,{"$f":"IF(A41=\"\",\"\",IF(D41=3,VLOOKUP(A41,[1]ItemConfig!$A:$C,3,FALSE),\"\"))","v":"琉璃宝塔"}]
[10006,10006,{"$f":"IF(A42=\"\",\"\",IF(D42=3,CONCATENATE(\"直接掉落道具：\",VLOOKUP(A42,[1]ItemConfig!$A:$C,3,FALSE)),\"\"))","v":"直接掉落道具：九幽镇魂瓶"},3,10006,{"$f":"IF(A42=\"\",\"\",IF(D42=3,VLOOKUP(A42,[1]ItemConfig!$A:$C,3,FALSE),\"\"))","v":"九幽镇魂瓶"}]
[10007,10007,{"$f":"IF(A43=\"\",\"\",IF(D43=3,CONCATENATE(\"直接掉落道具：\",VLOOKUP(A43,[1]ItemConfig!$A:$C,3,FALSE)),\"\"))","v":"直接掉落道具：玉莲守心灯"},3,10007,{"$f":"IF(A43=\"\",\"\",IF(D43=3,VLOOKUP(A43,[1]ItemConfig!$A:$C,3,FALSE),\"\"))","v":"玉莲守心灯"}]
[10008,10008,{"$f":"IF(A44=\"\",\"\",IF(D44=3,CONCATENATE(\"直接掉落道具：\",VLOOKUP(A44,[1]ItemConfig!$A:$C,3,FALSE)),\"\"))","v":"直接掉落道具：融灵塔"},3,10008,{"$f":"IF(A44=\"\",\"\",IF(D44=3,VLOOKUP(A44,[1]ItemConfig!$A:$C,3,FALSE),\"\"))","v":"融灵塔"}]
[10009,10009,{"$f":"IF(A45=\"\",\"\",IF(D45=3,CONCATENATE(\"直接掉落道具：\",VLOOKUP(A45,[1]ItemConfig!$A:$C,3,FALSE)),\"\"))","v":"直接掉落道具：禁元珠"},3,10009,{"$f":"IF(A45=\"\",\"\",IF(D45=3,VLOOKUP(A45,[1]ItemConfig!$A:$C,3,FALSE),\"\"))","v":"禁元珠"}]
[10010,10010,{"$f":"IF(A46=\"\",\"\",IF(D46=3,CONCATENATE(\"直接掉落道具：\",VLOOKUP(A46,[1]ItemConfig!$A:$C,3,FALSE)),\"\"))","v":"直接掉落道具：玄龟盾"},3,10010,{"$f":"IF(A46=\"\",\"\",IF(D46=3,VLOOKUP(A46,[1]ItemConfig!$A:$C,3,FALSE),\"\"))","v":"玄龟盾"}]
[10011,10011,{"$f":"IF(A47=\"\",\"\",IF(D47=3,CONCATENATE(\"直接掉落道具：\",VLOOKUP(A47,[1]ItemConfig!$A:$C,3,FALSE)),\"\"))","v":"直接掉落道具：天殇血刃剑"},3,10011,{"$f":"IF(A47=\"\",\"\",IF(D47=3,VLOOKUP(A47,[1]ItemConfig!$A:$C,3,FALSE),\"\"))","v":"天殇血刃剑"}]
[null,"",{"$f":"IF(A48=\"\",\"\",IF(D48=3,CONCATENATE(\"直接掉落道具：\",VLOOKUP(A48,[1]ItemConfig!$A:$C,3,FALSE)),\"\"))","v":""},3,0,{"$f":"IF(A48=\"\",\"\",IF(D48=3,VLOOKUP(A48,[1]ItemConfig!$A:$C,3,FALSE),\"\"))","v":""}]
[11001,11001,{"$f":"IF(A49=\"\",\"\",IF(D49=3,CONCATENATE(\"直接掉落道具：\",VLOOKUP(A49,[1]ItemConfig!$A:$C,3,FALSE)),\"\"))","v":"直接掉落道具：神龙鼎碎片"},3,11001,{"$f":"IF(A49=\"\",\"\",IF(D49=3,VLOOKUP(A49,[1]ItemConfig!$A:$C,3,FALSE),\"\"))","v":"神龙鼎碎片"}]
[11002,11002,{"$f":"IF(A50=\"\",\"\",IF(D50=3,CONCATENATE(\"直接掉落道具：\",VLOOKUP(A50,[1]ItemConfig!$A:$C,3,FALSE)),\"\"))","v":"直接掉落道具：破天斧碎片"},3,11002,{"$f":"IF(A50=\"\",\"\",IF(D50=3,VLOOKUP(A50,[1]ItemConfig!$A:$C,3,FALSE),\"\"))","v":"破天斧碎片"}]
[11003,11003,{"$f":"IF(A51=\"\",\"\",IF(D51=3,CONCATENATE(\"直接掉落道具：\",VLOOKUP(A51,[1]ItemConfig!$A:$C,3,FALSE)),\"\"))","v":"直接掉落道具：翡翠葫芦碎片"},3,11003,{"$f":"IF(A51=\"\",\"\",IF(D51=3,VLOOKUP(A51,[1]ItemConfig!$A:$C,3,FALSE),\"\"))","v":"翡翠葫芦碎片"}]
[11004,11004,{"$f":"IF(A52=\"\",\"\",IF(D52=3,CONCATENATE(\"直接掉落道具：\",VLOOKUP(A52,[1]ItemConfig!$A:$C,3,FALSE)),\"\"))","v":"直接掉落道具：混沌珠碎片"},3,11004,{"$f":"IF(A52=\"\",\"\",IF(D52=3,VLOOKUP(A52,[1]ItemConfig!$A:$C,3,FALSE),\"\"))","v":"混沌珠碎片"}]
[11005,11005,{"$f":"IF(A53=\"\",\"\",IF(D53=3,CONCATENATE(\"直接掉落道具：\",VLOOKUP(A53,[1]ItemConfig!$A:$C,3,FALSE)),\"\"))","v":"直接掉落道具：琉璃宝塔碎片"},3,11005,{"$f":"IF(A53=\"\",\"\",IF(D53=3,VLOOKUP(A53,[1]ItemConfig!$A:$C,3,FALSE),\"\"))","v":"琉璃宝塔碎片"}]
[11006,11006,{"$f":"IF(A54=\"\",\"\",IF(D54=3,CONCATENATE(\"直接掉落道具：\",VLOOKUP(A54,[1]ItemConfig!$A:$C,3,FALSE)),\"\"))","v":"直接掉落道具：九幽镇魂瓶碎片"},3,11006,{"$f":"IF(A54=\"\",\"\",IF(D54=3,VLOOKUP(A54,[1]ItemConfig!$A:$C,3,FALSE),\"\"))","v":"九幽镇魂瓶碎片"}]
[11007,11007,{"$f":"IF(A55=\"\",\"\",IF(D55=3,CONCATENATE(\"直接掉落道具：\",VLOOKUP(A55,[1]ItemConfig!$A:$C,3,FALSE)),\"\"))","v":"直接掉落道具：玉莲守心灯碎片"},3,11007,{"$f":"IF(A55=\"\",\"\",IF(D55=3,VLOOKUP(A55,[1]ItemConfig!$A:$C,3,FALSE),\"\"))","v":"玉莲守心灯碎片"}]
[11008,11008,{"$f":"IF(A56=\"\",\"\",IF(D56=3,CONCATENATE(\"直接掉落道具：\",VLOOKUP(A56,[1]ItemConfig!$A:$C,3,FALSE)),\"\"))","v":"直接掉落道具：融灵塔碎片"},3,11008,{"$f":"IF(A56=\"\",\"\",IF(D56=3,VLOOKUP(A56,[1]ItemConfig!$A:$C,3,FALSE),\"\"))","v":"融灵塔碎片"}]
[11009,11009,{"$f":"IF(A57=\"\",\"\",IF(D57=3,CONCATENATE(\"直接掉落道具：\",VLOOKUP(A57,[1]ItemConfig!$A:$C,3,FALSE)),\"\"))","v":"直接掉落道具：禁元珠碎片"},3,11009,{"$f":"IF(A57=\"\",\"\",IF(D57=3,VLOOKUP(A57,[1]ItemConfig!$A:$C,3,FALSE),\"\"))","v":"禁元珠碎片"}]
[11010,11010,{"$f":"IF(A58=\"\",\"\",IF(D58=3,CONCATENATE(\"直接掉落道具：\",VLOOKUP(A58,[1]ItemConfig!$A:$C,3,FALSE)),\"\"))","v":"直接掉落道具：玄龟盾碎片"},3,11010,{"$f":"IF(A58=\"\",\"\",IF(D58=3,VLOOKUP(A58,[1]ItemConfig!$A:$C,3,FALSE),\"\"))","v":"玄龟盾碎片"}]
[11011,11011,{"$f":"IF(A59=\"\",\"\",IF(D59=3,CONCATENATE(\"直接掉落道具：\",VLOOKUP(A59,[1]ItemConfig!$A:$C,3,FALSE)),\"\"))","v":"直接掉落道具：天殇血刃剑碎片"},3,11011,{"$f":"IF(A59=\"\",\"\",IF(D59=3,VLOOKUP(A59,[1]ItemConfig!$A:$C,3,FALSE),\"\"))","v":"天殇血刃剑碎片"}]
[null,"",{"$f":"IF(A60=\"\",\"\",IF(D60=3,CONCATENATE(\"直接掉落道具：\",VLOOKUP(A60,[1]ItemConfig!$A:$C,3,FALSE)),\"\"))","v":""},3,0,{"$f":"IF(A60=\"\",\"\",IF(D60=3,VLOOKUP(A60,[1]ItemConfig!$A:$C,3,FALSE),\"\"))","v":""}]
[12001,12001,{"$f":"IF(A61=\"\",\"\",IF(D61=3,CONCATENATE(\"直接掉落道具：\",VLOOKUP(A61,[1]ItemConfig!$A:$C,3,FALSE)),\"\"))","v":"直接掉落道具：太虚幻剑经"},3,12001,{"$f":"IF(A61=\"\",\"\",IF(D61=3,VLOOKUP(A61,[1]ItemConfig!$A:$C,3,FALSE),\"\"))","v":"太虚幻剑经"}]
[12002,12002,{"$f":"IF(A62=\"\",\"\",IF(D62=3,CONCATENATE(\"直接掉落道具：\",VLOOKUP(A62,[1]ItemConfig!$A:$C,3,FALSE)),\"\"))","v":"直接掉落道具：天罡剑气诀"},3,12002,{"$f":"IF(A62=\"\",\"\",IF(D62=3,VLOOKUP(A62,[1]ItemConfig!$A:$C,3,FALSE),\"\"))","v":"天罡剑气诀"}]
[12003,12003,{"$f":"IF(A63=\"\",\"\",IF(D63=3,CONCATENATE(\"直接掉落道具：\",VLOOKUP(A63,[1]ItemConfig!$A:$C,3,FALSE)),\"\"))","v":"直接掉落道具：血刃金煌功"},3,12003,{"$f":"IF(A63=\"\",\"\",IF(D63=3,VLOOKUP(A63,[1]ItemConfig!$A:$C,3,FALSE),\"\"))","v":"血刃金煌功"}]
[12004,12004,{"$f":"IF(A64=\"\",\"\",IF(D64=3,CONCATENATE(\"直接掉落道具：\",VLOOKUP(A64,[1]ItemConfig!$A:$C,3,FALSE)),\"\"))","v":"直接掉落道具：飞刃"},3,12004,{"$f":"IF(A64=\"\",\"\",IF(D64=3,VLOOKUP(A64,[1]ItemConfig!$A:$C,3,FALSE),\"\"))","v":"飞刃"}]
[12005,12005,{"$f":"IF(A65=\"\",\"\",IF(D65=3,CONCATENATE(\"直接掉落道具：\",VLOOKUP(A65,[1]ItemConfig!$A:$C,3,FALSE)),\"\"))","v":"直接掉落道具：金针"},3,12005,{"$f":"IF(A65=\"\",\"\",IF(D65=3,VLOOKUP(A65,[1]ItemConfig!$A:$C,3,FALSE),\"\"))","v":"金针"}]
[12006,12006,{"$f":"IF(A66=\"\",\"\",IF(D66=3,CONCATENATE(\"直接掉落道具：\",VLOOKUP(A66,[1]ItemConfig!$A:$C,3,FALSE)),\"\"))","v":"直接掉落道具：碧落幽冥劲"},3,12006,{"$f":"IF(A66=\"\",\"\",IF(D66=3,VLOOKUP(A66,[1]ItemConfig!$A:$C,3,FALSE),\"\"))","v":"碧落幽冥劲"}]
[12007,12007,{"$f":"IF(A67=\"\",\"\",IF(D67=3,CONCATENATE(\"直接掉落道具：\",VLOOKUP(A67,[1]ItemConfig!$A:$C,3,FALSE)),\"\"))","v":"直接掉落道具：雾隐千流法"},3,12007,{"$f":"IF(A67=\"\",\"\",IF(D67=3,VLOOKUP(A67,[1]ItemConfig!$A:$C,3,FALSE),\"\"))","v":"雾隐千流法"}]
[12008,12008,{"$f":"IF(A68=\"\",\"\",IF(D68=3,CONCATENATE(\"直接掉落道具：\",VLOOKUP(A68,[1]ItemConfig!$A:$C,3,FALSE)),\"\"))","v":"直接掉落道具：功法-水3"},3,12008,{"$f":"IF(A68=\"\",\"\",IF(D68=3,VLOOKUP(A68,[1]ItemConfig!$A:$C,3,FALSE),\"\"))","v":"功法-水3"}]
[12009,12009,{"$f":"IF(A69=\"\",\"\",IF(D69=3,CONCATENATE(\"直接掉落道具：\",VLOOKUP(A69,[1]ItemConfig!$A:$C,3,FALSE)),\"\"))","v":"直接掉落道具：水球"},3,12009,{"$f":"IF(A69=\"\",\"\",IF(D69=3,VLOOKUP(A69,[1]ItemConfig!$A:$C,3,FALSE),\"\"))","v":"水球"}]
[12010,{"$f":"IF(A70=\"\",\"\",A70)","v":12010},{"$f":"IF(A70=\"\",\"\",IF(D70=3,CONCATENATE(\"直接掉落道具：\",VLOOKUP(A70,[1]ItemConfig!$A:$C,3,FALSE)),\"\"))","v":"直接掉落道具：冰刀"},3,{"$f":"A70","v":12010},{"$f":"IF(A70=\"\",\"\",IF(D70=3,VLOOKUP(A70,[1]ItemConfig!$A:$C,3,FALSE),\"\"))","v":"冰刀"}]
[12011,12011,{"$f":"IF(A71=\"\",\"\",IF(D71=3,CONCATENATE(\"直接掉落道具：\",VLOOKUP(A71,[1]ItemConfig!$A:$C,3,FALSE)),\"\"))","v":"直接掉落道具：瘴影千丝术"},3,12011,{"$f":"IF(A71=\"\",\"\",IF(D71=3,VLOOKUP(A71,[1]ItemConfig!$A:$C,3,FALSE),\"\"))","v":"瘴影千丝术"}]
[12012,12012,{"$f":"IF(A72=\"\",\"\",IF(D72=3,CONCATENATE(\"直接掉落道具：\",VLOOKUP(A72,[1]ItemConfig!$A:$C,3,FALSE)),\"\"))","v":"直接掉落道具：蚀骨腐血掌"},3,12012,{"$f":"IF(A72=\"\",\"\",IF(D72=3,VLOOKUP(A72,[1]ItemConfig!$A:$C,3,FALSE),\"\"))","v":"蚀骨腐血掌"}]
[12013,12013,{"$f":"IF(A73=\"\",\"\",IF(D73=3,CONCATENATE(\"直接掉落道具：\",VLOOKUP(A73,[1]ItemConfig!$A:$C,3,FALSE)),\"\"))","v":"直接掉落道具：功法-木3"},3,12013,{"$f":"IF(A73=\"\",\"\",IF(D73=3,VLOOKUP(A73,[1]ItemConfig!$A:$C,3,FALSE),\"\"))","v":"功法-木3"}]
[12014,12014,{"$f":"IF(A74=\"\",\"\",IF(D74=3,CONCATENATE(\"直接掉落道具：\",VLOOKUP(A74,[1]ItemConfig!$A:$C,3,FALSE)),\"\"))","v":"直接掉落道具：竹刺"},3,12014,{"$f":"IF(A74=\"\",\"\",IF(D74=3,VLOOKUP(A74,[1]ItemConfig!$A:$C,3,FALSE),\"\"))","v":"竹刺"}]
[12015,12015,{"$f":"IF(A75=\"\",\"\",IF(D75=3,CONCATENATE(\"直接掉落道具：\",VLOOKUP(A75,[1]ItemConfig!$A:$C,3,FALSE)),\"\"))","v":"直接掉落道具：飞叶"},3,12015,{"$f":"IF(A75=\"\",\"\",IF(D75=3,VLOOKUP(A75,[1]ItemConfig!$A:$C,3,FALSE),\"\"))","v":"飞叶"}]
[12016,12016,{"$f":"IF(A76=\"\",\"\",IF(D76=3,CONCATENATE(\"直接掉落道具：\",VLOOKUP(A76,[1]ItemConfig!$A:$C,3,FALSE)),\"\"))","v":"直接掉落道具：烈焰剑"},3,12016,{"$f":"IF(A76=\"\",\"\",IF(D76=3,VLOOKUP(A76,[1]ItemConfig!$A:$C,3,FALSE),\"\"))","v":"烈焰剑"}]
[12017,12017,{"$f":"IF(A77=\"\",\"\",IF(D77=3,CONCATENATE(\"直接掉落道具：\",VLOOKUP(A77,[1]ItemConfig!$A:$C,3,FALSE)),\"\"))","v":"直接掉落道具：赤焰龙吟功"},3,12017,{"$f":"IF(A77=\"\",\"\",IF(D77=3,VLOOKUP(A77,[1]ItemConfig!$A:$C,3,FALSE),\"\"))","v":"赤焰龙吟功"}]
[12018,12018,{"$f":"IF(A78=\"\",\"\",IF(D78=3,CONCATENATE(\"直接掉落道具：\",VLOOKUP(A78,[1]ItemConfig!$A:$C,3,FALSE)),\"\"))","v":"直接掉落道具：朱雀燎原指"},3,12018,{"$f":"IF(A78=\"\",\"\",IF(D78=3,VLOOKUP(A78,[1]ItemConfig!$A:$C,3,FALSE),\"\"))","v":"朱雀燎原指"}]
[12019,12019,{"$f":"IF(A79=\"\",\"\",IF(D79=3,CONCATENATE(\"直接掉落道具：\",VLOOKUP(A79,[1]ItemConfig!$A:$C,3,FALSE)),\"\"))","v":"直接掉落道具：火球"},3,12019,{"$f":"IF(A79=\"\",\"\",IF(D79=3,VLOOKUP(A79,[1]ItemConfig!$A:$C,3,FALSE),\"\"))","v":"火球"}]
[12020,12020,{"$f":"IF(A80=\"\",\"\",IF(D80=3,CONCATENATE(\"直接掉落道具：\",VLOOKUP(A80,[1]ItemConfig!$A:$C,3,FALSE)),\"\"))","v":"直接掉落道具：火刀"},3,12020,{"$f":"IF(A80=\"\",\"\",IF(D80=3,VLOOKUP(A80,[1]ItemConfig!$A:$C,3,FALSE),\"\"))","v":"火刀"}]
[12021,12021,{"$f":"IF(A81=\"\",\"\",IF(D81=3,CONCATENATE(\"直接掉落道具：\",VLOOKUP(A81,[1]ItemConfig!$A:$C,3,FALSE)),\"\"))","v":"直接掉落道具：黄尘灭魂刺"},3,12021,{"$f":"IF(A81=\"\",\"\",IF(D81=3,VLOOKUP(A81,[1]ItemConfig!$A:$C,3,FALSE),\"\"))","v":"黄尘灭魂刺"}]
[12022,12022,{"$f":"IF(A82=\"\",\"\",IF(D82=3,CONCATENATE(\"直接掉落道具：\",VLOOKUP(A82,[1]ItemConfig!$A:$C,3,FALSE)),\"\"))","v":"直接掉落道具：地裂屠龙斩"},3,12022,{"$f":"IF(A82=\"\",\"\",IF(D82=3,VLOOKUP(A82,[1]ItemConfig!$A:$C,3,FALSE),\"\"))","v":"地裂屠龙斩"}]
[12023,12023,{"$f":"IF(A83=\"\",\"\",IF(D83=3,CONCATENATE(\"直接掉落道具：\",VLOOKUP(A83,[1]ItemConfig!$A:$C,3,FALSE)),\"\"))","v":"直接掉落道具：功法-土3"},3,12023,{"$f":"IF(A83=\"\",\"\",IF(D83=3,VLOOKUP(A83,[1]ItemConfig!$A:$C,3,FALSE),\"\"))","v":"功法-土3"}]
[12024,12024,{"$f":"IF(A84=\"\",\"\",IF(D84=3,CONCATENATE(\"直接掉落道具：\",VLOOKUP(A84,[1]ItemConfig!$A:$C,3,FALSE)),\"\"))","v":"直接掉落道具：落石"},3,12024,{"$f":"IF(A84=\"\",\"\",IF(D84=3,VLOOKUP(A84,[1]ItemConfig!$A:$C,3,FALSE),\"\"))","v":"落石"}]
[12025,12025,{"$f":"IF(A85=\"\",\"\",IF(D85=3,CONCATENATE(\"直接掉落道具：\",VLOOKUP(A85,[1]ItemConfig!$A:$C,3,FALSE)),\"\"))","v":"直接掉落道具：小石头"},3,12025,{"$f":"IF(A85=\"\",\"\",IF(D85=3,VLOOKUP(A85,[1]ItemConfig!$A:$C,3,FALSE),\"\"))","v":"小石头"}]
[null,"",{"$f":"IF(A86=\"\",\"\",IF(D86=3,CONCATENATE(\"直接掉落道具：\",VLOOKUP(A86,[1]ItemConfig!$A:$C,3,FALSE)),\"\"))","v":""},3,0,{"$f":"IF(A86=\"\",\"\",IF(D86=3,VLOOKUP(A86,[1]ItemConfig!$A:$C,3,FALSE),\"\"))","v":""}]
[12501,12501,{"$f":"IF(A87=\"\",\"\",IF(D87=3,CONCATENATE(\"直接掉落道具：\",VLOOKUP(A87,[1]ItemConfig!$A:$C,3,FALSE)),\"\"))","v":"直接掉落道具：天衍星辰诀"},3,12501,{"$f":"IF(A87=\"\",\"\",IF(D87=3,VLOOKUP(A87,[1]ItemConfig!$A:$C,3,FALSE),\"\"))","v":"天衍星辰诀"}]
[12502,12502,{"$f":"IF(A88=\"\",\"\",IF(D88=3,CONCATENATE(\"直接掉落道具：\",VLOOKUP(A88,[1]ItemConfig!$A:$C,3,FALSE)),\"\"))","v":"直接掉落道具：法宝秘籍"},3,12502,{"$f":"IF(A88=\"\",\"\",IF(D88=3,VLOOKUP(A88,[1]ItemConfig!$A:$C,3,FALSE),\"\"))","v":"法宝秘籍"}]
[12503,12503,{"$f":"IF(A89=\"\",\"\",IF(D89=3,CONCATENATE(\"直接掉落道具：\",VLOOKUP(A89,[1]ItemConfig!$A:$C,3,FALSE)),\"\"))","v":"直接掉落道具：崩脉决"},3,12503,{"$f":"IF(A89=\"\",\"\",IF(D89=3,VLOOKUP(A89,[1]ItemConfig!$A:$C,3,FALSE),\"\"))","v":"崩脉决"}]
[12504,12504,{"$f":"IF(A90=\"\",\"\",IF(D90=3,CONCATENATE(\"直接掉落道具：\",VLOOKUP(A90,[1]ItemConfig!$A:$C,3,FALSE)),\"\"))","v":"直接掉落道具：两仪决"},3,12504,{"$f":"IF(A90=\"\",\"\",IF(D90=3,VLOOKUP(A90,[1]ItemConfig!$A:$C,3,FALSE),\"\"))","v":"两仪决"}]
[12505,12505,{"$f":"IF(A91=\"\",\"\",IF(D91=3,CONCATENATE(\"直接掉落道具：\",VLOOKUP(A91,[1]ItemConfig!$A:$C,3,FALSE)),\"\"))","v":"直接掉落道具：火焰决"},3,12505,{"$f":"IF(A91=\"\",\"\",IF(D91=3,VLOOKUP(A91,[1]ItemConfig!$A:$C,3,FALSE),\"\"))","v":"火焰决"}]
[12506,12506,{"$f":"IF(A92=\"\",\"\",IF(D92=3,CONCATENATE(\"直接掉落道具：\",VLOOKUP(A92,[1]ItemConfig!$A:$C,3,FALSE)),\"\"))","v":"直接掉落道具：乾坤巨灵诀"},3,12506,{"$f":"IF(A92=\"\",\"\",IF(D92=3,VLOOKUP(A92,[1]ItemConfig!$A:$C,3,FALSE),\"\"))","v":"乾坤巨灵诀"}]
[12507,12507,{"$f":"IF(A93=\"\",\"\",IF(D93=3,CONCATENATE(\"直接掉落道具：\",VLOOKUP(A93,[1]ItemConfig!$A:$C,3,FALSE)),\"\"))","v":"直接掉落道具：极速齿轮"},3,12507,{"$f":"IF(A93=\"\",\"\",IF(D93=3,VLOOKUP(A93,[1]ItemConfig!$A:$C,3,FALSE),\"\"))","v":"极速齿轮"}]
[12508,12508,{"$f":"IF(A94=\"\",\"\",IF(D94=3,CONCATENATE(\"直接掉落道具：\",VLOOKUP(A94,[1]ItemConfig!$A:$C,3,FALSE)),\"\"))","v":"直接掉落道具：太虚剑意"},3,12508,{"$f":"IF(A94=\"\",\"\",IF(D94=3,VLOOKUP(A94,[1]ItemConfig!$A:$C,3,FALSE),\"\"))","v":"太虚剑意"}]
[12509,12509,{"$f":"IF(A95=\"\",\"\",IF(D95=3,CONCATENATE(\"直接掉落道具：\",VLOOKUP(A95,[1]ItemConfig!$A:$C,3,FALSE)),\"\"))","v":"直接掉落道具：青莲净体诀"},3,12509,{"$f":"IF(A95=\"\",\"\",IF(D95=3,VLOOKUP(A95,[1]ItemConfig!$A:$C,3,FALSE),\"\"))","v":"青莲净体诀"}]
[12510,12510,{"$f":"IF(A96=\"\",\"\",IF(D96=3,CONCATENATE(\"直接掉落道具：\",VLOOKUP(A96,[1]ItemConfig!$A:$C,3,FALSE)),\"\"))","v":"直接掉落道具：碧霄回春术"},3,12510,{"$f":"IF(A96=\"\",\"\",IF(D96=3,VLOOKUP(A96,[1]ItemConfig!$A:$C,3,FALSE),\"\"))","v":"碧霄回春术"}]
[null,"",{"$f":"IF(A97=\"\",\"\",IF(D97=3,CONCATENATE(\"直接掉落道具：\",VLOOKUP(A97,[1]ItemConfig!$A:$C,3,FALSE)),\"\"))","v":""},3,0,{"$f":"IF(A97=\"\",\"\",IF(D97=3,VLOOKUP(A97,[1]ItemConfig!$A:$C,3,FALSE),\"\"))","v":""}]
[13001,13001,{"$f":"IF(A98=\"\",\"\",IF(D98=3,CONCATENATE(\"直接掉落道具：\",VLOOKUP(A98,[1]ItemConfig!$A:$C,3,FALSE)),\"\"))","v":"直接掉落道具：太虚幻剑经碎片"},3,13001,{"$f":"IF(A98=\"\",\"\",IF(D98=3,VLOOKUP(A98,[1]ItemConfig!$A:$C,3,FALSE),\"\"))","v":"太虚幻剑经碎片"}]
[13002,13002,{"$f":"IF(A99=\"\",\"\",IF(D99=3,CONCATENATE(\"直接掉落道具：\",VLOOKUP(A99,[1]ItemConfig!$A:$C,3,FALSE)),\"\"))","v":"直接掉落道具：天罡剑气诀碎片"},3,13002,{"$f":"IF(A99=\"\",\"\",IF(D99=3,VLOOKUP(A99,[1]ItemConfig!$A:$C,3,FALSE),\"\"))","v":"天罡剑气诀碎片"}]
[13003,13003,{"$f":"IF(A100=\"\",\"\",IF(D100=3,CONCATENATE(\"直接掉落道具：\",VLOOKUP(A100,[1]ItemConfig!$A:$C,3,FALSE)),\"\"))","v":"直接掉落道具：血刃金煌功碎片"},3,13003,{"$f":"IF(A100=\"\",\"\",IF(D100=3,VLOOKUP(A100,[1]ItemConfig!$A:$C,3,FALSE),\"\"))","v":"血刃金煌功碎片"}]
[13004,13004,{"$f":"IF(A101=\"\",\"\",IF(D101=3,CONCATENATE(\"直接掉落道具：\",VLOOKUP(A101,[1]ItemConfig!$A:$C,3,FALSE)),\"\"))","v":"直接掉落道具：飞刃碎片"},3,13004,{"$f":"IF(A101=\"\",\"\",IF(D101=3,VLOOKUP(A101,[1]ItemConfig!$A:$C,3,FALSE),\"\"))","v":"飞刃碎片"}]
[13005,13005,{"$f":"IF(A102=\"\",\"\",IF(D102=3,CONCATENATE(\"直接掉落道具：\",VLOOKUP(A102,[1]ItemConfig!$A:$C,3,FALSE)),\"\"))","v":"直接掉落道具：金针碎片"},3,13005,{"$f":"IF(A102=\"\",\"\",IF(D102=3,VLOOKUP(A102,[1]ItemConfig!$A:$C,3,FALSE),\"\"))","v":"金针碎片"}]
[13006,13006,{"$f":"IF(A103=\"\",\"\",IF(D103=3,CONCATENATE(\"直接掉落道具：\",VLOOKUP(A103,[1]ItemConfig!$A:$C,3,FALSE)),\"\"))","v":"直接掉落道具：碧落幽冥劲碎片"},3,13006,{"$f":"IF(A103=\"\",\"\",IF(D103=3,VLOOKUP(A103,[1]ItemConfig!$A:$C,3,FALSE),\"\"))","v":"碧落幽冥劲碎片"}]
[13007,13007,{"$f":"IF(A104=\"\",\"\",IF(D104=3,CONCATENATE(\"直接掉落道具：\",VLOOKUP(A104,[1]ItemConfig!$A:$C,3,FALSE)),\"\"))","v":"直接掉落道具：雾隐千流法碎片"},3,13007,{"$f":"IF(A104=\"\",\"\",IF(D104=3,VLOOKUP(A104,[1]ItemConfig!$A:$C,3,FALSE),\"\"))","v":"雾隐千流法碎片"}]
[13008,13008,{"$f":"IF(A105=\"\",\"\",IF(D105=3,CONCATENATE(\"直接掉落道具：\",VLOOKUP(A105,[1]ItemConfig!$A:$C,3,FALSE)),\"\"))","v":"直接掉落道具：功法-水3碎片"},3,13008,{"$f":"IF(A105=\"\",\"\",IF(D105=3,VLOOKUP(A105,[1]ItemConfig!$A:$C,3,FALSE),\"\"))","v":"功法-水3碎片"}]
[13009,13009,{"$f":"IF(A106=\"\",\"\",IF(D106=3,CONCATENATE(\"直接掉落道具：\",VLOOKUP(A106,[1]ItemConfig!$A:$C,3,FALSE)),\"\"))","v":"直接掉落道具：水球碎片"},3,13009,{"$f":"IF(A106=\"\",\"\",IF(D106=3,VLOOKUP(A106,[1]ItemConfig!$A:$C,3,FALSE),\"\"))","v":"水球碎片"}]
[13010,13010,{"$f":"IF(A107=\"\",\"\",IF(D107=3,CONCATENATE(\"直接掉落道具：\",VLOOKUP(A107,[1]ItemConfig!$A:$C,3,FALSE)),\"\"))","v":"直接掉落道具：冰刀碎片"},3,13010,{"$f":"IF(A107=\"\",\"\",IF(D107=3,VLOOKUP(A107,[1]ItemConfig!$A:$C,3,FALSE),\"\"))","v":"冰刀碎片"}]
[13011,13011,{"$f":"IF(A108=\"\",\"\",IF(D108=3,CONCATENATE(\"直接掉落道具：\",VLOOKUP(A108,[1]ItemConfig!$A:$C,3,FALSE)),\"\"))","v":"直接掉落道具：瘴影千丝术碎片"},3,13011,{"$f":"IF(A108=\"\",\"\",IF(D108=3,VLOOKUP(A108,[1]ItemConfig!$A:$C,3,FALSE),\"\"))","v":"瘴影千丝术碎片"}]
[13012,13012,{"$f":"IF(A109=\"\",\"\",IF(D109=3,CONCATENATE(\"直接掉落道具：\",VLOOKUP(A109,[1]ItemConfig!$A:$C,3,FALSE)),\"\"))","v":"直接掉落道具：蚀骨腐血掌碎片"},3,13012,{"$f":"IF(A109=\"\",\"\",IF(D109=3,VLOOKUP(A109,[1]ItemConfig!$A:$C,3,FALSE),\"\"))","v":"蚀骨腐血掌碎片"}]
[13013,13013,{"$f":"IF(A110=\"\",\"\",IF(D110=3,CONCATENATE(\"直接掉落道具：\",VLOOKUP(A110,[1]ItemConfig!$A:$C,3,FALSE)),\"\"))","v":"直接掉落道具：功法-木3碎片"},3,13013,{"$f":"IF(A110=\"\",\"\",IF(D110=3,VLOOKUP(A110,[1]ItemConfig!$A:$C,3,FALSE),\"\"))","v":"功法-木3碎片"}]
[13014,13014,{"$f":"IF(A111=\"\",\"\",IF(D111=3,CONCATENATE(\"直接掉落道具：\",VLOOKUP(A111,[1]ItemConfig!$A:$C,3,FALSE)),\"\"))","v":"直接掉落道具：竹刺碎片"},3,13014,{"$f":"IF(A111=\"\",\"\",IF(D111=3,VLOOKUP(A111,[1]ItemConfig!$A:$C,3,FALSE),\"\"))","v":"竹刺碎片"}]
[13015,13015,{"$f":"IF(A112=\"\",\"\",IF(D112=3,CONCATENATE(\"直接掉落道具：\",VLOOKUP(A112,[1]ItemConfig!$A:$C,3,FALSE)),\"\"))","v":"直接掉落道具：飞叶碎片"},3,13015,{"$f":"IF(A112=\"\",\"\",IF(D112=3,VLOOKUP(A112,[1]ItemConfig!$A:$C,3,FALSE),\"\"))","v":"飞叶碎片"}]
[13016,13016,{"$f":"IF(A113=\"\",\"\",IF(D113=3,CONCATENATE(\"直接掉落道具：\",VLOOKUP(A113,[1]ItemConfig!$A:$C,3,FALSE)),\"\"))","v":"直接掉落道具：烈焰剑碎片"},3,13016,{"$f":"IF(A113=\"\",\"\",IF(D113=3,VLOOKUP(A113,[1]ItemConfig!$A:$C,3,FALSE),\"\"))","v":"烈焰剑碎片"}]
[13017,13017,{"$f":"IF(A114=\"\",\"\",IF(D114=3,CONCATENATE(\"直接掉落道具：\",VLOOKUP(A114,[1]ItemConfig!$A:$C,3,FALSE)),\"\"))","v":"直接掉落道具：赤焰龙吟功碎片"},3,13017,{"$f":"IF(A114=\"\",\"\",IF(D114=3,VLOOKUP(A114,[1]ItemConfig!$A:$C,3,FALSE),\"\"))","v":"赤焰龙吟功碎片"}]
[13018,13018,{"$f":"IF(A115=\"\",\"\",IF(D115=3,CONCATENATE(\"直接掉落道具：\",VLOOKUP(A115,[1]ItemConfig!$A:$C,3,FALSE)),\"\"))","v":"直接掉落道具：朱雀燎原指碎片"},3,13018,{"$f":"IF(A115=\"\",\"\",IF(D115=3,VLOOKUP(A115,[1]ItemConfig!$A:$C,3,FALSE),\"\"))","v":"朱雀燎原指碎片"}]
[13019,13019,{"$f":"IF(A116=\"\",\"\",IF(D116=3,CONCATENATE(\"直接掉落道具：\",VLOOKUP(A116,[1]ItemConfig!$A:$C,3,FALSE)),\"\"))","v":"直接掉落道具：火球碎片"},3,13019,{"$f":"IF(A116=\"\",\"\",IF(D116=3,VLOOKUP(A116,[1]ItemConfig!$A:$C,3,FALSE),\"\"))","v":"火球碎片"}]
[13020,13020,{"$f":"IF(A117=\"\",\"\",IF(D117=3,CONCATENATE(\"直接掉落道具：\",VLOOKUP(A117,[1]ItemConfig!$A:$C,3,FALSE)),\"\"))","v":"直接掉落道具：火刀碎片"},3,13020,{"$f":"IF(A117=\"\",\"\",IF(D117=3,VLOOKUP(A117,[1]ItemConfig!$A:$C,3,FALSE),\"\"))","v":"火刀碎片"}]
[13021,13021,{"$f":"IF(A118=\"\",\"\",IF(D118=3,CONCATENATE(\"直接掉落道具：\",VLOOKUP(A118,[1]ItemConfig!$A:$C,3,FALSE)),\"\"))","v":"直接掉落道具：黄尘灭魂刺碎片"},3,13021,{"$f":"IF(A118=\"\",\"\",IF(D118=3,VLOOKUP(A118,[1]ItemConfig!$A:$C,3,FALSE),\"\"))","v":"黄尘灭魂刺碎片"}]
[13022,13022,{"$f":"IF(A119=\"\",\"\",IF(D119=3,CONCATENATE(\"直接掉落道具：\",VLOOKUP(A119,[1]ItemConfig!$A:$C,3,FALSE)),\"\"))","v":"直接掉落道具：地裂屠龙斩碎片"},3,13022,{"$f":"IF(A119=\"\",\"\",IF(D119=3,VLOOKUP(A119,[1]ItemConfig!$A:$C,3,FALSE),\"\"))","v":"地裂屠龙斩碎片"}]
[13023,13023,{"$f":"IF(A120=\"\",\"\",IF(D120=3,CONCATENATE(\"直接掉落道具：\",VLOOKUP(A120,[1]ItemConfig!$A:$C,3,FALSE)),\"\"))","v":"直接掉落道具：功法-土3碎片"},3,13023,{"$f":"IF(A120=\"\",\"\",IF(D120=3,VLOOKUP(A120,[1]ItemConfig!$A:$C,3,FALSE),\"\"))","v":"功法-土3碎片"}]
[13024,13024,{"$f":"IF(A121=\"\",\"\",IF(D121=3,CONCATENATE(\"直接掉落道具：\",VLOOKUP(A121,[1]ItemConfig!$A:$C,3,FALSE)),\"\"))","v":"直接掉落道具：落石碎片"},3,13024,{"$f":"IF(A121=\"\",\"\",IF(D121=3,VLOOKUP(A121,[1]ItemConfig!$A:$C,3,FALSE),\"\"))","v":"落石碎片"}]
[13025,13025,{"$f":"IF(A122=\"\",\"\",IF(D122=3,CONCATENATE(\"直接掉落道具：\",VLOOKUP(A122,[1]ItemConfig!$A:$C,3,FALSE)),\"\"))","v":"直接掉落道具：小石头碎片"},3,13025,{"$f":"IF(A122=\"\",\"\",IF(D122=3,VLOOKUP(A122,[1]ItemConfig!$A:$C,3,FALSE),\"\"))","v":"小石头碎片"}]
[null,"",{"$f":"IF(A123=\"\",\"\",IF(D123=3,CONCATENATE(\"直接掉落道具：\",VLOOKUP(A123,[1]ItemConfig!$A:$C,3,FALSE)),\"\"))","v":""},3,0,{"$f":"IF(A123=\"\",\"\",IF(D123=3,VLOOKUP(A123,[1]ItemConfig!$A:$C,3,FALSE),\"\"))","v":""}]
[13501,13501,{"$f":"IF(A124=\"\",\"\",IF(D124=3,CONCATENATE(\"直接掉落道具：\",VLOOKUP(A124,[1]ItemConfig!$A:$C,3,FALSE)),\"\"))","v":"直接掉落道具：天衍星辰诀碎片"},3,13501,{"$f":"IF(A124=\"\",\"\",IF(D124=3,VLOOKUP(A124,[1]ItemConfig!$A:$C,3,FALSE),\"\"))","v":"天衍星辰诀碎片"}]
[13502,13502,{"$f":"IF(A125=\"\",\"\",IF(D125=3,CONCATENATE(\"直接掉落道具：\",VLOOKUP(A125,[1]ItemConfig!$A:$C,3,FALSE)),\"\"))","v":"直接掉落道具：法宝秘籍碎片"},3,13502,{"$f":"IF(A125=\"\",\"\",IF(D125=3,VLOOKUP(A125,[1]ItemConfig!$A:$C,3,FALSE),\"\"))","v":"法宝秘籍碎片"}]
[13503,13503,{"$f":"IF(A126=\"\",\"\",IF(D126=3,CONCATENATE(\"直接掉落道具：\",VLOOKUP(A126,[1]ItemConfig!$A:$C,3,FALSE)),\"\"))","v":"直接掉落道具：崩脉决碎片"},3,13503,{"$f":"IF(A126=\"\",\"\",IF(D126=3,VLOOKUP(A126,[1]ItemConfig!$A:$C,3,FALSE),\"\"))","v":"崩脉决碎片"}]
[13504,13504,{"$f":"IF(A127=\"\",\"\",IF(D127=3,CONCATENATE(\"直接掉落道具：\",VLOOKUP(A127,[1]ItemConfig!$A:$C,3,FALSE)),\"\"))","v":"直接掉落道具：两仪决碎片"},3,13504,{"$f":"IF(A127=\"\",\"\",IF(D127=3,VLOOKUP(A127,[1]ItemConfig!$A:$C,3,FALSE),\"\"))","v":"两仪决碎片"}]
[13505,13505,{"$f":"IF(A128=\"\",\"\",IF(D128=3,CONCATENATE(\"直接掉落道具：\",VLOOKUP(A128,[1]ItemConfig!$A:$C,3,FALSE)),\"\"))","v":"直接掉落道具：火焰决碎片"},3,13505,{"$f":"IF(A128=\"\",\"\",IF(D128=3,VLOOKUP(A128,[1]ItemConfig!$A:$C,3,FALSE),\"\"))","v":"火焰决碎片"}]
[13506,13506,{"$f":"IF(A129=\"\",\"\",IF(D129=3,CONCATENATE(\"直接掉落道具：\",VLOOKUP(A129,[1]ItemConfig!$A:$C,3,FALSE)),\"\"))","v":"直接掉落道具：乾坤巨灵诀碎片"},3,13506,{"$f":"IF(A129=\"\",\"\",IF(D129=3,VLOOKUP(A129,[1]ItemConfig!$A:$C,3,FALSE),\"\"))","v":"乾坤巨灵诀碎片"}]
[13507,13507,{"$f":"IF(A130=\"\",\"\",IF(D130=3,CONCATENATE(\"直接掉落道具：\",VLOOKUP(A130,[1]ItemConfig!$A:$C,3,FALSE)),\"\"))","v":"直接掉落道具：极速齿轮碎片"},3,13507,{"$f":"IF(A130=\"\",\"\",IF(D130=3,VLOOKUP(A130,[1]ItemConfig!$A:$C,3,FALSE),\"\"))","v":"极速齿轮碎片"}]
[13508,13508,{"$f":"IF(A131=\"\",\"\",IF(D131=3,CONCATENATE(\"直接掉落道具：\",VLOOKUP(A131,[1]ItemConfig!$A:$C,3,FALSE)),\"\"))","v":"直接掉落道具：太虚剑意碎片"},3,13508,{"$f":"IF(A131=\"\",\"\",IF(D131=3,VLOOKUP(A131,[1]ItemConfig!$A:$C,3,FALSE),\"\"))","v":"太虚剑意碎片"}]
[13509,13509,{"$f":"IF(A132=\"\",\"\",IF(D132=3,CONCATENATE(\"直接掉落道具：\",VLOOKUP(A132,[1]ItemConfig!$A:$C,3,FALSE)),\"\"))","v":"直接掉落道具：青莲净体诀碎片"},3,13509,{"$f":"IF(A132=\"\",\"\",IF(D132=3,VLOOKUP(A132,[1]ItemConfig!$A:$C,3,FALSE),\"\"))","v":"青莲净体诀碎片"}]
[13510,13510,{"$f":"IF(A133=\"\",\"\",IF(D133=3,CONCATENATE(\"直接掉落道具：\",VLOOKUP(A133,[1]ItemConfig!$A:$C,3,FALSE)),\"\"))","v":"直接掉落道具：碧霄回春术碎片"},3,13510,{"$f":"IF(A133=\"\",\"\",IF(D133=3,VLOOKUP(A133,[1]ItemConfig!$A:$C,3,FALSE),\"\"))","v":"碧霄回春术碎片"}]
[null,null,{"$f":"IF(A134=\"\",\"\",IF(D134=3,CONCATENATE(\"直接掉落道具：\",VLOOKUP(A134,[1]ItemConfig!$A:$C,3,FALSE)),\"\"))","v":""},null,0]
[20001,{"$f":"IF(A135=\"\",\"\",A135)","v":20001},{"$f":"IF(A135=\"\",\"\",IF(D135=3,CONCATENATE(\"直接掉落道具：\",VLOOKUP(A135,[1]ItemConfig!$A:$C,3,FALSE)),\"\"))","v":"直接掉落道具：樗木之灵的树枝"},3,{"$f":"A135","v":20001},{"$f":"IF(A135=\"\",\"\",IF(D135=3,VLOOKUP(A135,[1]ItemConfig!$A:$C,3,FALSE),\"\"))","v":"樗木之灵的树枝"}]
[20002,20002,{"$f":"IF(A136=\"\",\"\",IF(D136=3,CONCATENATE(\"直接掉落道具：\",VLOOKUP(A136,[1]ItemConfig!$A:$C,3,FALSE)),\"\"))","v":"直接掉落道具：飞天灵兽的翅膀"},3,20002,{"$f":"IF(A136=\"\",\"\",IF(D136=3,VLOOKUP(A136,[1]ItemConfig!$A:$C,3,FALSE),\"\"))","v":"飞天灵兽的翅膀"}]
[20003,20003,{"$f":"IF(A137=\"\",\"\",IF(D137=3,CONCATENATE(\"直接掉落道具：\",VLOOKUP(A137,[1]ItemConfig!$A:$C,3,FALSE)),\"\"))","v":"直接掉落道具：灵草种子"},3,20003,{"$f":"IF(A137=\"\",\"\",IF(D137=3,VLOOKUP(A137,[1]ItemConfig!$A:$C,3,FALSE),\"\"))","v":"灵草种子"}]
[]
[999001,{"$f":"_xlfn.TEXTJOIN(\";\",1,H139:R139)","v":"1;2;3"},"法宝掉落",2,10001,{"$f":"IF(A139=\"\",\"\",IF(D139=3,VLOOKUP(A139,[1]ItemConfig!$A:$C,3,FALSE),\"\"))","v":""},null,1,2,3]
[999002,{"$f":"_xlfn.TEXTJOIN(\";\",1,H140:R140)","v":"4;5;6"},"功法掉落",2,12001,{"$f":"IF(A140=\"\",\"\",IF(D140=3,VLOOKUP(A140,[1]ItemConfig!$A:$C,3,FALSE),\"\"))","v":""},null,4,5,6]
[]
[21001,{"$f":"IF(A142=\"\",\"\",A142)","v":21001},{"$f":"IF(A142=\"\",\"\",IF(D142=3,CONCATENATE(\"直接掉落道具：\",VLOOKUP(A142,[1]ItemConfig!$A:$C,3,FALSE)),\"\"))","v":"直接掉落道具：神识符-灵石"},{"$f":"IF(A142=\"\",\"\",3)","v":3},{"$f":"IF(A142=\"\",\"\",A142)","v":21001},{"$f":"IF(A142=\"\",\"\",IF(D142=3,VLOOKUP(A142,[1]ItemConfig!$A:$C,3,FALSE),\"\"))","v":"神识符-灵石"}]
[21002,{"$f":"IF(A143=\"\",\"\",A143)","v":21002},{"$f":"IF(A143=\"\",\"\",IF(D143=3,CONCATENATE(\"直接掉落道具：\",VLOOKUP(A143,[1]ItemConfig!$A:$C,3,FALSE)),\"\"))","v":"直接掉落道具：神识符-修为"},{"$f":"IF(A143=\"\",\"\",3)","v":3},{"$f":"IF(A143=\"\",\"\",A143)","v":21002},{"$f":"IF(A143=\"\",\"\",IF(D143=3,VLOOKUP(A143,[1]ItemConfig!$A:$C,3,FALSE),\"\"))","v":"神识符-修为"}]
[21003,21003,{"$f":"IF(A144=\"\",\"\",IF(D144=3,CONCATENATE(\"直接掉落道具：\",VLOOKUP(A144,[1]ItemConfig!$A:$C,3,FALSE)),\"\"))","v":"直接掉落道具：神识符-灵气"},3,21003,{"$f":"IF(A144=\"\",\"\",IF(D144=3,VLOOKUP(A144,[1]ItemConfig!$A:$C,3,FALSE),\"\"))","v":"神识符-灵气"}]
[21004,21004,{"$f":"IF(A145=\"\",\"\",IF(D145=3,CONCATENATE(\"直接掉落道具：\",VLOOKUP(A145,[1]ItemConfig!$A:$C,3,FALSE)),\"\"))","v":"直接掉落道具：神识符-玄晶"},3,21004,{"$f":"IF(A145=\"\",\"\",IF(D145=3,VLOOKUP(A145,[1]ItemConfig!$A:$C,3,FALSE),\"\"))","v":"神识符-玄晶"}]
[21005,21005,{"$f":"IF(A146=\"\",\"\",IF(D146=3,CONCATENATE(\"直接掉落道具：\",VLOOKUP(A146,[1]ItemConfig!$A:$C,3,FALSE)),\"\"))","v":"直接掉落道具：神识符-功法碎片"},3,21005,{"$f":"IF(A146=\"\",\"\",IF(D146=3,VLOOKUP(A146,[1]ItemConfig!$A:$C,3,FALSE),\"\"))","v":"神识符-功法碎片"}]
[21006,21006,{"$f":"IF(A147=\"\",\"\",IF(D147=3,CONCATENATE(\"直接掉落道具：\",VLOOKUP(A147,[1]ItemConfig!$A:$C,3,FALSE)),\"\"))","v":"直接掉落道具：神识符-法宝碎片"},3,21006,{"$f":"IF(A147=\"\",\"\",IF(D147=3,VLOOKUP(A147,[1]ItemConfig!$A:$C,3,FALSE),\"\"))","v":"神识符-法宝碎片"}]
[21007,21007,{"$f":"IF(A148=\"\",\"\",IF(D148=3,CONCATENATE(\"直接掉落道具：\",VLOOKUP(A148,[1]ItemConfig!$A:$C,3,FALSE)),\"\"))","v":"直接掉落道具：神识符-修为丹"},3,21007,{"$f":"IF(A148=\"\",\"\",IF(D148=3,VLOOKUP(A148,[1]ItemConfig!$A:$C,3,FALSE),\"\"))","v":"神识符-修为丹"}]
[21008,21008,{"$f":"IF(A149=\"\",\"\",IF(D149=3,CONCATENATE(\"直接掉落道具：\",VLOOKUP(A149,[1]ItemConfig!$A:$C,3,FALSE)),\"\"))","v":"直接掉落道具：神识符-天材地宝"},3,21008,{"$f":"IF(A149=\"\",\"\",IF(D149=3,VLOOKUP(A149,[1]ItemConfig!$A:$C,3,FALSE),\"\"))","v":"神识符-天材地宝"}]
[21009,21009,{"$f":"IF(A150=\"\",\"\",IF(D150=3,CONCATENATE(\"直接掉落道具：\",VLOOKUP(A150,[1]ItemConfig!$A:$C,3,FALSE)),\"\"))","v":"直接掉落道具：神识符-渡劫丹"},3,21009,{"$f":"IF(A150=\"\",\"\",IF(D150=3,VLOOKUP(A150,[1]ItemConfig!$A:$C,3,FALSE),\"\"))","v":"神识符-渡劫丹"}]
[21010,21010,{"$f":"IF(A151=\"\",\"\",IF(D151=3,CONCATENATE(\"直接掉落道具：\",VLOOKUP(A151,[1]ItemConfig!$A:$C,3,FALSE)),\"\"))","v":"直接掉落道具：神识符-好感度礼物"},3,21010,{"$f":"IF(A151=\"\",\"\",IF(D151=3,VLOOKUP(A151,[1]ItemConfig!$A:$C,3,FALSE),\"\"))","v":"神识符-好感度礼物"}]
[21011,21011,{"$f":"IF(A152=\"\",\"\",IF(D152=3,CONCATENATE(\"直接掉落道具：\",VLOOKUP(A152,[1]ItemConfig!$A:$C,3,FALSE)),\"\"))","v":"直接掉落道具：神识符-心情礼物"},3,21011,{"$f":"IF(A152=\"\",\"\",IF(D152=3,VLOOKUP(A152,[1]ItemConfig!$A:$C,3,FALSE),\"\"))","v":"神识符-心情礼物"}]
[21012,21012,{"$f":"IF(A153=\"\",\"\",IF(D153=3,CONCATENATE(\"直接掉落道具：\",VLOOKUP(A153,[1]ItemConfig!$A:$C,3,FALSE)),\"\"))","v":"直接掉落道具：紫色神识提升符"},3,21012,{"$f":"IF(A153=\"\",\"\",IF(D153=3,VLOOKUP(A153,[1]ItemConfig!$A:$C,3,FALSE),\"\"))","v":"紫色神识提升符"}]
[21013,21013,{"$f":"IF(A154=\"\",\"\",IF(D154=3,CONCATENATE(\"直接掉落道具：\",VLOOKUP(A154,[1]ItemConfig!$A:$C,3,FALSE)),\"\"))","v":"直接掉落道具：橙色神识提升符"},3,21013,{"$f":"IF(A154=\"\",\"\",IF(D154=3,VLOOKUP(A154,[1]ItemConfig!$A:$C,3,FALSE),\"\"))","v":"橙色神识提升符"}]
[null,"",{"$f":"IF(A155=\"\",\"\",IF(D155=3,CONCATENATE(\"直接掉落道具：\",VLOOKUP(A155,[1]ItemConfig!$A:$C,3,FALSE)),\"\"))","v":""},"","",{"$f":"IF(A155=\"\",\"\",IF(D155=3,VLOOKUP(A155,[1]ItemConfig!$A:$C,3,FALSE),\"\"))","v":""}]
[22001,22001,{"$f":"IF(A156=\"\",\"\",IF(D156=3,CONCATENATE(\"直接掉落道具：\",VLOOKUP(A156,[1]ItemConfig!$A:$C,3,FALSE)),\"\"))","v":"直接掉落道具：感悟点1"},3,22001,{"$f":"IF(A156=\"\",\"\",IF(D156=3,VLOOKUP(A156,[1]ItemConfig!$A:$C,3,FALSE),\"\"))","v":"感悟点1"}]
[22002,22002,{"$f":"IF(A157=\"\",\"\",IF(D157=3,CONCATENATE(\"直接掉落道具：\",VLOOKUP(A157,[1]ItemConfig!$A:$C,3,FALSE)),\"\"))","v":"直接掉落道具：感悟点2"},3,22002,{"$f":"IF(A157=\"\",\"\",IF(D157=3,VLOOKUP(A157,[1]ItemConfig!$A:$C,3,FALSE),\"\"))","v":"感悟点2"}]
[22003,22003,{"$f":"IF(A158=\"\",\"\",IF(D158=3,CONCATENATE(\"直接掉落道具：\",VLOOKUP(A158,[1]ItemConfig!$A:$C,3,FALSE)),\"\"))","v":"直接掉落道具：感悟点3"},3,22003,{"$f":"IF(A158=\"\",\"\",IF(D158=3,VLOOKUP(A158,[1]ItemConfig!$A:$C,3,FALSE),\"\"))","v":"感悟点3"}]
[22004,22004,{"$f":"IF(A159=\"\",\"\",IF(D159=3,CONCATENATE(\"直接掉落道具：\",VLOOKUP(A159,[1]ItemConfig!$A:$C,3,FALSE)),\"\"))","v":"直接掉落道具：感悟点4"},3,22004,{"$f":"IF(A159=\"\",\"\",IF(D159=3,VLOOKUP(A159,[1]ItemConfig!$A:$C,3,FALSE),\"\"))","v":"感悟点4"}]
[22005,22005,{"$f":"IF(A160=\"\",\"\",IF(D160=3,CONCATENATE(\"直接掉落道具：\",VLOOKUP(A160,[1]ItemConfig!$A:$C,3,FALSE)),\"\"))","v":"直接掉落道具：感悟点5"},3,22005,{"$f":"IF(A160=\"\",\"\",IF(D160=3,VLOOKUP(A160,[1]ItemConfig!$A:$C,3,FALSE),\"\"))","v":"感悟点5"}]
[22006,22006,{"$f":"IF(A161=\"\",\"\",IF(D161=3,CONCATENATE(\"直接掉落道具：\",VLOOKUP(A161,[1]ItemConfig!$A:$C,3,FALSE)),\"\"))","v":"直接掉落道具：感悟点6"},3,22006,{"$f":"IF(A161=\"\",\"\",IF(D161=3,VLOOKUP(A161,[1]ItemConfig!$A:$C,3,FALSE),\"\"))","v":"感悟点6"}]
[22007,22007,{"$f":"IF(A162=\"\",\"\",IF(D162=3,CONCATENATE(\"直接掉落道具：\",VLOOKUP(A162,[1]ItemConfig!$A:$C,3,FALSE)),\"\"))","v":"直接掉落道具：感悟点7"},3,22007,{"$f":"IF(A162=\"\",\"\",IF(D162=3,VLOOKUP(A162,[1]ItemConfig!$A:$C,3,FALSE),\"\"))","v":"感悟点7"}]
[]
[999003,7,"乾坤袋-每分钟随机掉落3种资源",2,1001,"乾坤袋-每分钟随机掉落3种资源"]
[]
[999004,"8;9;10;11",null,2,1002,"抽钻石-基础池子"]
[999005,"14;15;16;17",null,2,1002,"抽钻石-十连保底池子1-每次十连必出的道具池子"]
[999006,"18;19",null,2,1002,"抽钻石-十连保底池子2-每多少次十连必出的道具池子"]
[999007,{"$f":"_xlfn.TEXTJOIN(\";\",1,H169:R169)","v":"20;21;22;23;24;25;26;27;28"},null,2,null,"抽功法法宝-基础池子A",null,20,21,22,23,24,25,26,27,28]
[999008,{"$f":"_xlfn.TEXTJOIN(\";\",1,H170:R170)","v":"29;30;31;32;33;34;35;36;37;38;39"},null,2,null,"抽功法法宝-基础池子B",null,29,30,31,32,33,34,35,36,37,38,39]
[999009,"40;41;42;43;44",null,2,null,"抽抽功法法宝-十连保底池子1-每次十连必出的道具池子C",null,40,41,42,43,44]
[999010,"45;46;47;48",null,2,null,"抽抽功法法宝-十连保底池子2-每100连出的道具池子D",null,45,46,47,48]

{"sheet":"DropGroupConfig","index":1,"n_rows":60,"n_cols":7,"rows_kept":60,"cut":false,"hidden":false,"merged":[]}
["ID","dropRate","dropItemID"]
["int","int","int[]"]
[]
["掉落组ID","掉落概率\\权重\n1000为100%",null,"备注1","备注2","备注3\n（完整版数据）"]
[1,650,1,"法宝-蓝色"]
[2,250,2,"法宝-紫色"]
[3,100,3,"法宝-橙色"]
[4,400,4,"功法-蓝色"]
[5,300,5,"功法-紫色"]
[6,300,6,"功法-橙色"]
[]
[7,1000,7,"乾坤袋-每分钟随机掉落3种资源",null,"100抽","十连"]
[{"$nulls":4},{"$f":"SUM(E14:E19)","v":9.120000000000001},{"$f":"E25+E20*9+E13*90","v":2403.4499999999998},{"$f":"F13/10","v":240.34499999999997}]
[8,{"$f":"1000-SUM(B15:B19)","v":946},8,6,{"$f":"D14*B14/SUM(B$14:B$19)","v":5.6760000000000002}]
[9,{"$f":"B16*3","v":36},9,30,{"$f":"D15*B15/SUM(B$14:B$19)","v":1.08}]
[10,{"$f":"B17*2","v":12},10,98,1.1759999999999999]
[11,6,11,198,1.1879999999999999]
[12,{"$f":"B19*2","v":0},12,328,0]
[13,0,13,648,0]
[{"$nulls":4},{"$f":"SUM(E21:E24)","v":135.85}]
[14,{"$f":"1000-SUM(B22:B24)","v":657},10,98,{"$f":"D21*B21/SUM(B$21:B$24)","v":64.385999999999996}]
[15,{"$f":"ROUND((1000-B24*3)/3,0)","v":328},11,198,{"$f":"D22*B22/SUM(B$21:B$24)","v":64.944000000000003}]
[16,{"$f":"B24*2","v":10},12,328,3.28]
[17,5,13,648,3.24]
[{"$nulls":4},{"$f":"SUM(E26:E27)","v":360}]
[18,{"$f":"1000-B27","v":900},12,328,{"$f":"D26*B26/SUM(B$26:B$27)","v":295.2}]
[19,100,13,648,{"$f":"D27*B27/SUM(B$26:B$27)","v":64.8}]
[]
[20,{"$f":"VLOOKUP(C29,[3]抽卡!$AB$9:$AH$19,E29,FALSE)","v":1110},19,{"$f":"VLOOKUP(C29,DropItemConfig!A:H,8,FALSE)","v":"【资源-材料】灵气 × 100 - 100"},4,null,19]
[21,{"$f":"VLOOKUP(C30,[3]抽卡!$AB$9:$AH$19,E30,FALSE)","v":370},20,{"$f":"VLOOKUP(C30,DropItemConfig!A:H,8,FALSE)","v":"【资源-材料】灵气 × 300 - 300"},4]
[22,{"$f":"VLOOKUP(C31,[3]抽卡!$AB$9:$AH$19,E31,FALSE)","v":111},21,{"$f":"VLOOKUP(C31,DropItemConfig!A:H,8,FALSE)","v":"【资源-材料】灵气 × 1000 - 1000"},4]
[23,{"$f":"VLOOKUP(C32,[3]抽卡!$AB$9:$AH$19,E32,FALSE)","v":1110},22,{"$f":"VLOOKUP(C32,DropItemConfig!A:H,8,FALSE)","v":"【资源-材料】玄晶 × 100 - 100"},4]
[24,{"$f":"VLOOKUP(C33,[3]抽卡!$AB$9:$AH$19,E33,FALSE)","v":370},23,{"$f":"VLOOKUP(C33,DropItemConfig!A:H,8,FALSE)","v":"【资源-材料】玄晶 × 300 - 300"},4]
[25,{"$f":"VLOOKUP(C34,[3]抽卡!$AB$9:$AH$19,E34,FALSE)","v":111},24,{"$f":"VLOOKUP(C34,DropItemConfig!A:H,8,FALSE)","v":"【资源-材料】玄晶 × 1000 - 1000"},4]
[26,{"$f":"VLOOKUP(C35,[3]抽卡!$AB$9:$AH$19,E35,FALSE)","v":618},14,{"$f":"VLOOKUP(C35,DropItemConfig!A:H,8,FALSE)","v":"【功法-本体】金针 × 1 - 1 (等共10种道具)"},4]
[27,{"$f":"VLOOKUP(C36,[3]抽卡!$AB$9:$AH$19,E36,FALSE)","v":100},15,{"$f":"VLOOKUP(C36,DropItemConfig!A:H,8,FALSE)","v":"【功法-本体】飞刃 × 1 - 1 (等共10种道具)"},4]
[28,{"$f":"VLOOKUP(C37,[3]抽卡!$AB$9:$AH$19,E37,FALSE)","v":100},17,{"$f":"VLOOKUP(C37,DropItemConfig!A:H,8,FALSE)","v":"【法宝-本体】神龙鼎 × 1 - 1 (等共5种道具)"},4]
[]
[29,{"$f":"VLOOKUP(C39,[3]抽卡!$AB$9:$AH$19,E39,FALSE)","v":1110},19,{"$f":"VLOOKUP(C39,DropItemConfig!A:H,8,FALSE)","v":"【资源-材料】灵气 × 100 - 100"},5]
[30,{"$f":"VLOOKUP(C40,[3]抽卡!$AB$9:$AH$19,E40,FALSE)","v":370},20,{"$f":"VLOOKUP(C40,DropItemConfig!A:H,8,FALSE)","v":"【资源-材料】灵气 × 300 - 300"},5]
[31,{"$f":"VLOOKUP(C41,[3]抽卡!$AB$9:$AH$19,E41,FALSE)","v":111},21,{"$f":"VLOOKUP(C41,DropItemConfig!A:H,8,FALSE)","v":"【资源-材料】灵气 × 1000 - 1000"},5]
[32,{"$f":"VLOOKUP(C42,[3]抽卡!$AB$9:$AH$19,E42,FALSE)","v":1110},22,{"$f":"VLOOKUP(C42,DropItemConfig!A:H,8,FALSE)","v":"【资源-材料】玄晶 × 100 - 100"},5]
[33,{"$f":"VLOOKUP(C43,[3]抽卡!$AB$9:$AH$19,E43,FALSE)","v":370},23,{"$f":"VLOOKUP(C43,DropItemConfig!A:H,8,FALSE)","v":"【资源-材料】玄晶 × 300 - 300"},5]
[34,{"$f":"VLOOKUP(C44,[3]抽卡!$AB$9:$AH$19,E44,FALSE)","v":111},24,{"$f":"VLOOKUP(C44,DropItemConfig!A:H,8,FALSE)","v":"【资源-材料】玄晶 × 1000 - 1000"},5]
[35,{"$f":"VLOOKUP(C45,[3]抽卡!$AB$9:$AH$19,E45,FALSE)","v":30},14,{"$f":"VLOOKUP(C45,DropItemConfig!A:H,8,FALSE)","v":"【功法-本体】金针 × 1 - 1 (等共10种道具)"},5]
[36,{"$f":"VLOOKUP(C46,[3]抽卡!$AB$9:$AH$19,E46,FALSE)","v":184},15,{"$f":"VLOOKUP(C46,DropItemConfig!A:H,8,FALSE)","v":"【功法-本体】飞刃 × 1 - 1 (等共10种道具)"},5]
[37,{"$f":"VLOOKUP(C47,[3]抽卡!$AB$9:$AH$19,E47,FALSE)","v":210},16,{"$f":"VLOOKUP(C47,DropItemConfig!A:H,8,FALSE)","v":"【功法-本体】太虚幻剑经 × 1 - 1 (等共20种道具)"},5]
[38,{"$f":"VLOOKUP(C48,[3]抽卡!$AB$9:$AH$19,E48,FALSE)","v":184},17,{"$f":"VLOOKUP(C48,DropItemConfig!A:H,8,FALSE)","v":"【法宝-本体】神龙鼎 × 1 - 1 (等共5种道具)"},5]
[39,{"$f":"VLOOKUP(C49,[3]抽卡!$AB$9:$AH$19,E49,FALSE)","v":210},18,{"$f":"VLOOKUP(C49,DropItemConfig!A:H,8,FALSE)","v":"【法宝-本体】破天斧 × 1 - 1 (等共6种道具)"},5]
[]
[40,{"$f":"VLOOKUP(C51,[3]抽卡!$AB$9:$AH$19,E51,FALSE)","v":3212},14,{"$f":"VLOOKUP(C51,DropItemConfig!A:H,8,FALSE)","v":"【功法-本体】金针 × 1 - 1 (等共10种道具)"},6]
[41,{"$f":"VLOOKUP(C52,[3]抽卡!$AB$9:$AH$19,E52,FALSE)","v":184},15,{"$f":"VLOOKUP(C52,DropItemConfig!A:H,8,FALSE)","v":"【功法-本体】飞刃 × 1 - 1 (等共10种道具)"},6]
[42,{"$f":"VLOOKUP(C53,[3]抽卡!$AB$9:$AH$19,E53,FALSE)","v":210},16,{"$f":"VLOOKUP(C53,DropItemConfig!A:H,8,FALSE)","v":"【功法-本体】太虚幻剑经 × 1 - 1 (等共20种道具)"},6]
[43,{"$f":"VLOOKUP(C54,[3]抽卡!$AB$9:$AH$19,E54,FALSE)","v":184},17,{"$f":"VLOOKUP(C54,DropItemConfig!A:H,8,FALSE)","v":"【法宝-本体】神龙鼎 × 1 - 1 (等共5种道具)"},6]
[44,{"$f":"VLOOKUP(C55,[3]抽卡!$AB$9:$AH$19,E55,FALSE)","v":210},18,{"$f":"VLOOKUP(C55,DropItemConfig!A:H,8,FALSE)","v":"【法宝-本体】破天斧 × 1 - 1 (等共6种道具)"},6]
[]
[45,{"$f":"VLOOKUP(C57,[3]抽卡!$AB$9:$AH$19,E57,FALSE)","v":1000},15,{"$f":"VLOOKUP(C57,DropItemConfig!A:H,8,FALSE)","v":"【功法-本体】飞刃 × 1 - 1 (等共10种道具)"},7]
[46,{"$f":"VLOOKUP(C58,[3]抽卡!$AB$9:$AH$19,E58,FALSE)","v":1000},16,{"$f":"VLOOKUP(C58,DropItemConfig!A:H,8,FALSE)","v":"【功法-本体】太虚幻剑经 × 1 - 1 (等共20种道具)"},7]
[47,{"$f":"VLOOKUP(C59,[3]抽卡!$AB$9:$AH$19,E59,FALSE)","v":1000},17,{"$f":"VLOOKUP(C59,DropItemConfig!A:H,8,FALSE)","v":"【法宝-本体】神龙鼎 × 1 - 1 (等共5种道具)"},7]
[48,{"$f":"VLOOKUP(C60,[3]抽卡!$AB$9:$AH$19,E60,FALSE)","v":1000},18,{"$f":"VLOOKUP(C60,DropItemConfig!A:H,8,FALSE)","v":"【法宝-本体】破天斧 × 1 - 1 (等共6种道具)"},7]

{"sheet":"DropItemConfig","index":2,"n_rows":31,"n_cols":40,"rows_kept":31,"cut":false,"hidden":false,"merged":[]}
["ID","dropItemType","itemID",null,"dropMinV","dropMaxV","dropCountGoupID"]
["int","int","int[]",null,"int","int","int"]
[]
["ID号","道具类型\n1=道具\n2=装备稀有度\n3=装备等级\n4=完整装备(品质和等级随机)\n5=完整装备，品质固定(等级随机)","道具ID",null,"掉落最小数量","掉落最大数量","掉落数量使用哪种分布方式\n对应DropCountConfig的GroupID\n默认-1，平均分布","实际掉落情况","标准数量",null,"组成1","组成2","组成3","组成4","组成5","组成6","组成7","组成8","组成9","组成10","组成11","组成12","组成13","组成14","组成15","组成16","组成17","组成18","组成19","组成20","组成21","组成22","组成23","组成24","组成25","组成26","组成27","组成28","组成29","组成30"]
[1,1,{"$f":"_xlfn.TEXTJOIN(\";\",1,K5:AN5)","v":"10001;10003;10006;10008;10010"},null,1,1,-1,{"$f":"CONCATENATE(\"【\",VLOOKUP(K5,[1]ItemConfig!$A:$H,8,FALSE),\"】\",VLOOKUP(K5,[1]ItemConfig!$A:$C,3,FALSE),\" × \",E5,\" - \",F5,IF(COUNT(K5:AD5)=1,\"\",\" (等共\"&COUNT(K5:AD5)&\"种道具)\"))","v":"【法宝-本体】神龙鼎 × 1 - 1 (等共5种道具)"},null,null,10001,10003,10006,10008,10010]
[2,1,{"$f":"_xlfn.TEXTJOIN(\";\",1,K6:AN6)","v":"10002;10004;10007;10009;10011"},null,1,1,-1,{"$f":"CONCATENATE(\"【\",VLOOKUP(K6,[1]ItemConfig!$A:$H,8,FALSE),\"】\",VLOOKUP(K6,[1]ItemConfig!$A:$C,3,FALSE),\" × \",E6,\" - \",F6,IF(COUNT(K6:AD6)=1,\"\",\" (等共\"&COUNT(K6:AD6)&\"种道具)\"))","v":"【法宝-本体】破天斧 × 1 - 1 (等共5种道具)"},null,null,10002,10004,10007,10009,10011]
[3,1,"10005",null,1,1,-1,{"$f":"CONCATENATE(\"【\",VLOOKUP(K7,[1]ItemConfig!$A:$H,8,FALSE),\"】\",VLOOKUP(K7,[1]ItemConfig!$A:$C,3,FALSE),\" × \",E7,\" - \",F7,IF(COUNT(K7:AD7)=1,\"\",\" (等共\"&COUNT(K7:AD7)&\"种道具)\"))","v":"【法宝-本体】琉璃宝塔 × 1 - 1"},null,null,10005]
[4,1,"12005;12010;12015;12020;12025",null,1,1,-1,{"$f":"CONCATENATE(\"【\",VLOOKUP(K8,[1]ItemConfig!$A:$H,8,FALSE),\"】\",VLOOKUP(K8,[1]ItemConfig!$A:$C,3,FALSE),\" × \",E8,\" - \",F8,IF(COUNT(K8:AD8)=1,\"\",\" (等共\"&COUNT(K8:AD8)&\"种道具)\"))","v":"【功法-本体】金针 × 1 - 1 (等共5种道具)"},null,null,12005,12010,12015,12020,12025]
[5,1,"12004;12009;12014;12019;12024",null,1,1,-1,{"$f":"CONCATENATE(\"【\",VLOOKUP(K9,[1]ItemConfig!$A:$H,8,FALSE),\"】\",VLOOKUP(K9,[1]ItemConfig!$A:$C,3,FALSE),\" × \",E9,\" - \",F9,IF(COUNT(K9:AD9)=1,\"\",\" (等共\"&COUNT(K9:AD9)&\"种道具)\"))","v":"【功法-本体】飞刃 × 1 - 1 (等共5种道具)"},null,null,12004,12009,12014,12019,12024]
[6,1,"12001;12002;12003;12006;12007;12008;12011;12012;12013;12016;12017;12018;12021;12022;12023",null,1,1,-1,{"$f":"CONCATENATE(\"【\",VLOOKUP(K10,[1]ItemConfig!$A:$H,8,FALSE),\"】\",VLOOKUP(K10,[1]ItemConfig!$A:$C,3,FALSE),\" × \",E10,\" - \",F10,IF(COUNT(K10:AD10)=1,\"\",\" (等共\"&COUNT(K10:AD10)&\"种道具)\"))","v":"【功法-本体】太虚幻剑经 × 1 - 1 (等共15种道具)"},null,null,12001,12002,12003,12006,12007,12008,12011,12012,12013,12016,12017,12018,12021,12022,12023]
[]
[7,1,"1001;1005;1006",null,-200,-200,-1,{"$f":"CONCATENATE(\"【\",VLOOKUP(K12,[1]ItemConfig!$A:$H,8,FALSE),\"】\",VLOOKUP(K12,[1]ItemConfig!$A:$C,3,FALSE),\" × \",E12,\" - \",F12,IF(COUNT(K12:AD12)=1,\"\",\" (等共\"&COUNT(K12:AD12)&\"种道具)\"))","v":"【资源-货币】灵石 × -200 - -200 (等共3种道具)"},{"$f":"300/(24*60)*1000","v":208.33333333333334},null,1001,1005,1006]
[]
[8,1,"1101",null,1,{"$f":"E14","v":1},-1,{"$f":"CONCATENATE(\"【\",VLOOKUP(K14,[1]ItemConfig!$A:$H,8,FALSE),\"】\",VLOOKUP(K14,[1]ItemConfig!$A:$C,3,FALSE),\" × \",E14,\" - \",F14,IF(COUNT(K14:AD14)=1,\"\",\" (等共\"&COUNT(K14:AD14)&\"种道具)\"))","v":"【资源-自动转代币】自转道具-妖丹×6 × 1 - 1"},null,null,1101]
[9,1,"1102",null,1,{"$f":"E15","v":1},-1,{"$f":"CONCATENATE(\"【\",VLOOKUP(K15,[1]ItemConfig!$A:$H,8,FALSE),\"】\",VLOOKUP(K15,[1]ItemConfig!$A:$C,3,FALSE),\" × \",E15,\" - \",F15,IF(COUNT(K15:AD15)=1,\"\",\" (等共\"&COUNT(K15:AD15)&\"种道具)\"))","v":"【资源-自动转代币】自转道具-妖丹×30 × 1 - 1"},null,null,1102]
[10,1,"1103",null,1,1,-1,{"$f":"CONCATENATE(\"【\",VLOOKUP(K16,[1]ItemConfig!$A:$H,8,FALSE),\"】\",VLOOKUP(K16,[1]ItemConfig!$A:$C,3,FALSE),\" × \",E16,\" - \",F16,IF(COUNT(K16:AD16)=1,\"\",\" (等共\"&COUNT(K16:AD16)&\"种道具)\"))","v":"【资源-自动转代币】自转道具-妖丹×98 × 1 - 1"},null,null,1103]
[11,1,"1104",null,1,1,-1,{"$f":"CONCATENATE(\"【\",VLOOKUP(K17,[1]ItemConfig!$A:$H,8,FALSE),\"】\",VLOOKUP(K17,[1]ItemConfig!$A:$C,3,FALSE),\" × \",E17,\" - \",F17,IF(COUNT(K17:AD17)=1,\"\",\" (等共\"&COUNT(K17:AD17)&\"种道具)\"))","v":"【资源-自动转代币】自转道具-妖丹×198 × 1 - 1"},null,null,1104]
[12,1,"1105",null,1,1,-1,{"$f":"CONCATENATE(\"【\",VLOOKUP(K18,[1]ItemConfig!$A:$H,8,FALSE),\"】\",VLOOKUP(K18,[1]ItemConfig!$A:$C,3,FALSE),\" × \",E18,\" - \",F18,IF(COUNT(K18:AD18)=1,\"\",\" (等共\"&COUNT(K18:AD18)&\"种道具)\"))","v":"【资源-自动转代币】自转道具-妖丹×328 × 1 - 1"},null,null,1105]
[13,1,"1106",null,1,1,-1,{"$f":"CONCATENATE(\"【\",VLOOKUP(K19,[1]ItemConfig!$A:$H,8,FALSE),\"】\",VLOOKUP(K19,[1]ItemConfig!$A:$C,3,FALSE),\" × \",E19,\" - \",F19,IF(COUNT(K19:AD19)=1,\"\",\" (等共\"&COUNT(K19:AD19)&\"种道具)\"))","v":"【资源-自动转代币】自转道具-妖丹×648 × 1 - 1"},null,null,1106]
[]
[14,1,"12005;12010;12015;12020;12025;12501;12502;12503;12504;12505",null,1,{"$f":"E21","v":1},-1,{"$f":"CONCATENATE(\"【\",VLOOKUP(K21,[1]ItemConfig!$A:$H,8,FALSE),\"】\",VLOOKUP(K21,[1]ItemConfig!$A:$C,3,FALSE),\" × \",E21,\" - \",F21,IF(COUNT(K21:AD21)=1,\"\",\" (等共\"&COUNT(K21:AD21)&\"种道具)\"))","v":"【功法-本体】金针 × 1 - 1 (等共10种道具)"},"蓝色：功法",null,12005,12010,12015,12020,12025,12501,12502,12503,12504,12505]
[15,1,"12004;12009;12014;12019;12024;12506;12507;12508;12509;12510",null,1,{"$f":"E22","v":1},-1,{"$f":"CONCATENATE(\"【\",VLOOKUP(K22,[1]ItemConfig!$A:$H,8,FALSE),\"】\",VLOOKUP(K22,[1]ItemConfig!$A:$C,3,FALSE),\" × \",E22,\" - \",F22,IF(COUNT(K22:AD22)=1,\"\",\" (等共\"&COUNT(K22:AD22)&\"种道具)\"))","v":"【功法-本体】飞刃 × 1 - 1 (等共10种道具)"},"紫色：功法",null,12004,12009,12014,12019,12024,12506,12507,12508,12509,12510]
[16,1,"12001;12002;12003;12006;12007;12008;12011;12012;12013;12016;12017;12018;12021;12022;12023;12511;12512;12513;12514;12515;12516;12517;12518;12519",null,1,1,-1,{"$f":"CONCATENATE(\"【\",VLOOKUP(K23,[1]ItemConfig!$A:$H,8,FALSE),\"】\",VLOOKUP(K23,[1]ItemConfig!$A:$C,3,FALSE),\" × \",E23,\" - \",F23,IF(COUNT(K23:AD23)=1,\"\",\" (等共\"&COUNT(K23:AD23)&\"种道具)\"))","v":"【功法-本体】太虚幻剑经 × 1 - 1 (等共20种道具)"},"橙色：功法",null,12001,12002,12003,12006,12007,12008,12011,12012,12013,12016,12017,12018,12021,12022,12023,12511,12512,12513,12514,12515,12516,12517,12518,12519]
[17,1,"10001;10003;10006;10008;10010",null,1,1,-1,{"$f":"CONCATENATE(\"【\",VLOOKUP(K24,[1]ItemConfig!$A:$H,8,FALSE),\"】\",VLOOKUP(K24,[1]ItemConfig!$A:$C,3,FALSE),\" × \",E24,\" - \",F24,IF(COUNT(K24:AD24)=1,\"\",\" (等共\"&COUNT(K24:AD24)&\"种道具)\"))","v":"【法宝-本体】神龙鼎 × 1 - 1 (等共5种道具)"},"紫色：法宝",null,10001,10003,10006,10008,10010]
[18,1,"10002;10004;10005;10007;10009;10011",null,1,1,-1,{"$f":"CONCATENATE(\"【\",VLOOKUP(K25,[1]ItemConfig!$A:$H,8,FALSE),\"】\",VLOOKUP(K25,[1]ItemConfig!$A:$C,3,FALSE),\" × \",E25,\" - \",F25,IF(COUNT(K25:AD25)=1,\"\",\" (等共\"&COUNT(K25:AD25)&\"种道具)\"))","v":"【法宝-本体】破天斧 × 1 - 1 (等共6种道具)"},"橙色：法宝",null,10002,10004,10005,10007,10009,10011]
[19,1,"1005",null,100,100,-1,{"$f":"CONCATENATE(\"【\",VLOOKUP(K26,[1]ItemConfig!$A:$H,8,FALSE),\"】\",VLOOKUP(K26,[1]ItemConfig!$A:$C,3,FALSE),\" × \",E26,\" - \",F26,IF(COUNT(K26:AD26)=1,\"\",\" (等共\"&COUNT(K26:AD26)&\"种道具)\"))","v":"【资源-材料】灵气 × 100 - 100"},null,null,1005]
[20,1,"1005",null,300,300,-1,{"$f":"CONCATENATE(\"【\",VLOOKUP(K27,[1]ItemConfig!$A:$H,8,FALSE),\"】\",VLOOKUP(K27,[1]ItemConfig!$A:$C,3,FALSE),\" × \",E27,\" - \",F27,IF(COUNT(K27:AD27)=1,\"\",\" (等共\"&COUNT(K27:AD27)&\"种道具)\"))","v":"【资源-材料】灵气 × 300 - 300"},null,null,1005]
[21,1,"1005",null,1000,1000,-1,{"$f":"CONCATENATE(\"【\",VLOOKUP(K28,[1]ItemConfig!$A:$H,8,FALSE),\"】\",VLOOKUP(K28,[1]ItemConfig!$A:$C,3,FALSE),\" × \",E28,\" - \",F28,IF(COUNT(K28:AD28)=1,\"\",\" (等共\"&COUNT(K28:AD28)&\"种道具)\"))","v":"【资源-材料】灵气 × 1000 - 1000"},null,null,1005]
[22,1,{"$f":"_xlfn.TEXTJOIN(\";\",1,K29:AN29)","v":"1006"},null,100,100,-1,{"$f":"CONCATENATE(\"【\",VLOOKUP(K29,[1]ItemConfig!$A:$H,8,FALSE),\"】\",VLOOKUP(K29,[1]ItemConfig!$A:$C,3,FALSE),\" × \",E29,\" - \",F29,IF(COUNT(K29:AD29)=1,\"\",\" (等共\"&COUNT(K29:AD29)&\"种道具)\"))","v":"【资源-材料】玄晶 × 100 - 100"},null,null,1006]
[23,1,{"$f":"_xlfn.TEXTJOIN(\";\",1,K30:AN30)","v":"1006"},null,300,300,-1,{"$f":"CONCATENATE(\"【\",VLOOKUP(K30,[1]ItemConfig!$A:$H,8,FALSE),\"】\",VLOOKUP(K30,[1]ItemConfig!$A:$C,3,FALSE),\" × \",E30,\" - \",F30,IF(COUNT(K30:AD30)=1,\"\",\" (等共\"&COUNT(K30:AD30)&\"种道具)\"))","v":"【资源-材料】玄晶 × 300 - 300"},null,null,1006]
[24,1,{"$f":"_xlfn.TEXTJOIN(\";\",1,K31:AN31)","v":"1006"},null,1000,1000,-1,{"$f":"CONCATENATE(\"【\",VLOOKUP(K31,[1]ItemConfig!$A:$H,8,FALSE),\"】\",VLOOKUP(K31,[1]ItemConfig!$A:$C,3,FALSE),\" × \",E31,\" - \",F31,IF(COUNT(K31:AD31)=1,\"\",\" (等共\"&COUNT(K31:AD31)&\"种道具)\"))","v":"【资源-材料】玄晶 × 1000 - 1000"},null,null,1006]

{"sheet":"DropCountConfig","index":3,"n_rows":36,"n_cols":6,"rows_kept":36,"cut":false,"hidden":false,"merged":[]}
["ID","groupID","proportion","weight"]
["int","int","int","int"]
[]
[null,null,"最高比例","权重","掉率","实际值"]
[1,1,10,2,{"$f":"IF(D5=\"\",\"\",D5/SUMIF(B:B,B5,D:D))","v":2.1505376344085999E-2},{"$f":"SUMPRODUCT(C5:C14,E5:E14)","v":50.537634408602202}]
[2,1,20,4,4.3010752688171998E-2]
[3,1,30,8,8.6021505376344107E-2]
[4,1,40,16,0.17204301075268799]
[5,1,50,32,0.34408602150537598]
[6,1,60,16,{"$f":"IF(D10=\"\",\"\",D10/SUMIF(B:B,B10,D:D))","v":0.17204301075268799}]
[7,1,70,8,8.6021505376344107E-2]
[8,1,80,4,4.3010752688171998E-2]
[9,1,90,2,2.1505376344085999E-2]
[10,1,100,1,1.0752688172042999E-2]
[]
[11,2,10,1,1.0416666666666701E-2,{"$f":"SUMPRODUCT(C16:C25,E16:E25)","v":74.7916666666667}]
[12,2,20,2,2.0833333333333301E-2]
[13,2,30,3,3.125E-2]
[14,2,40,5,5.2083333333333301E-2]
[15,2,50,7,7.2916666666666699E-2]
[16,2,60,9,9.375E-2]
[17,2,70,15,0.15625]
[18,2,80,16,0.16666666666666699]
[19,2,90,18,0.1875]
[20,2,100,20,0.20833333333333301]
[]
[21,3,10,1024,0.66710097719869699,{"$f":"SUMPRODUCT(C27:C36,E27:E36)","v":16.599348534202001}]
[22,3,20,256,0.166775244299674]
[23,3,30,128,8.3387622149837096E-2]
[24,3,40,64,4.1693811074918603E-2]
[25,3,50,32,2.0846905537459302E-2]
[26,3,60,16,1.0423452768729601E-2]
[27,3,70,8,5.2117263843648202E-3]
[28,3,80,4,2.6058631921824101E-3]
[29,3,90,2,1.30293159609121E-3]
[30,3,100,1,6.5146579804560296E-4]

{"sheet":"说明页","index":4,"n_rows":26,"n_cols":3,"rows_kept":26,"cut":false,"hidden":false,"merged":[]}
["表名称","DropItemConfig"]
["字段","dropItemType"]
["说明","道具类型\n1=道具\n2=装备稀有度\n3=装备等级"]
[]
[]
[]
[null,"字段关联表缩写字母","关联表"]
[null,"l","LanguageChinese"]
[null,"w","Item"]
[null,"c","chouka"]
{"$rows_empty":11}
[null,"DropItemConfigID：暂定为5位数字，按照合成类型决定首位。 如果有需求，再用第二位进一步区分。"]
[]
[null,"抽卡合成类型对应表（暂定）"]
[]
[null,"道具类型 1=道具 2=声望任务 3=装备星级 4=装备品质 5=假五星 6=装备工厂 7=装备效果 8=装备私物效果"]

{"sheet":"道具表","index":5,"n_rows":872,"n_cols":6,"rows_kept":872,"cut":false,"hidden":false,"merged":[]}
["道具ID","道具名称\n语言表ID","道具描述\n语言表ID","道具名称（Item表）","道具名称（语言表）","道具描述（语言表）"]
[{"$f":"IF([1]ItemConfig!$A5=\"\",\"\",[1]ItemConfig!$A5)","v":1001},{"$f":"IF(A2=\"\",\"\",VLOOKUP(A2,[1]ItemConfig!$A:$B,2,FALSE))","v":169},{"$f":"IF(A2=\"\",\"\",VLOOKUP(A2,[1]ItemConfig!$A:$D,4,FALSE))","v":162},{"$f":"IF(A2=\"\",\"\",VLOOKUP(A2,[1]ItemConfig!$A:$C,3,FALSE))","v":"灵石"},{"$f":"IF(A2=\"\",\"\",VLOOKUP(B2,[2]語言配置表!$A:$B,2,FALSE))","v":"金幣"},{"$f":"IF(A2=\"\",\"\",VLOOKUP(C2,[2]語言配置表!$A:$B,2,FALSE))","v":"金幣，可用於開寶箱"}]
[{"$f":"IF([1]ItemConfig!$A6=\"\",\"\",[1]ItemConfig!$A6)","v":1002},{"$f":"IF(A3=\"\",\"\",VLOOKUP(A3,[1]ItemConfig!$A:$B,2,FALSE))","v":170},{"$f":"IF(A3=\"\",\"\",VLOOKUP(A3,[1]ItemConfig!$A:$D,4,FALSE))","v":163},{"$f":"IF(A3=\"\",\"\",VLOOKUP(A3,[1]ItemConfig!$A:$C,3,FALSE))","v":"妖丹"},{"$f":"IF(A3=\"\",\"\",VLOOKUP(B3,[2]語言配置表!$A:$B,2,FALSE))","v":"鑽石"},{"$f":"IF(A3=\"\",\"\",VLOOKUP(C3,[2]語言配置表!$A:$B,2,FALSE))","v":"鑽石，後續開放（敬請期待）"}]
[{"$f":"IF([1]ItemConfig!$A7=\"\",\"\",[1]ItemConfig!$A7)","v":1003},{"$f":"IF(A4=\"\",\"\",VLOOKUP(A4,[1]ItemConfig!$A:$B,2,FALSE))","v":171},{"$f":"IF(A4=\"\",\"\",VLOOKUP(A4,[1]ItemConfig!$A:$D,4,FALSE))","v":164},{"$f":"IF(A4=\"\",\"\",VLOOKUP(A4,[1]ItemConfig!$A:$C,3,FALSE))","v":"修为"},{"$f":"IF(A4=\"\",\"\",VLOOKUP(B4,[2]語言配置表!$A:$B,2,FALSE))","v":"英雄經驗"},{"$f":"IF(A4=\"\",\"\",VLOOKUP(C4,[2]語言配置表!$A:$B,2,FALSE))","v":"經驗，用於英雄升級"}]
[{"$f":"IF([1]ItemConfig!$A8=\"\",\"\",[1]ItemConfig!$A8)","v":1004},{"$f":"IF(A5=\"\",\"\",VLOOKUP(A5,[1]ItemConfig!$A:$B,2,FALSE))","v":248},{"$f":"IF(A5=\"\",\"\",VLOOKUP(A5,[1]ItemConfig!$A:$D,4,FALSE))","v":249},{"$f":"IF(A5=\"\",\"\",VLOOKUP(A5,[1]ItemConfig!$A:$C,3,FALSE))","v":"妖王丹"},{"$f":"IF(A5=\"\",\"\",VLOOKUP(B5,[2]語言配置表!$A:$B,2,FALSE))","v":"金锭"},{"$f":"IF(A5=\"\",\"\",VLOOKUP(C5,[2]語言配置表!$A:$B,2,FALSE))","v":"最稀有的货币"}]
[{"$f":"IF([1]ItemConfig!$A9=\"\",\"\",[1]ItemConfig!$A9)","v":1005},{"$f":"IF(A6=\"\",\"\",VLOOKUP(A6,[1]ItemConfig!$A:$B,2,FALSE))","v":725},{"$f":"IF(A6=\"\",\"\",VLOOKUP(A6,[1]ItemConfig!$A:$D,4,FALSE))","v":726},{"$f":"IF(A6=\"\",\"\",VLOOKUP(A6,[1]ItemConfig!$A:$C,3,FALSE))","v":"灵气"},{"$f":"IF(A6=\"\",\"\",VLOOKUP(B6,[2]語言配置表!$A:$B,2,FALSE))","v":"功法灵气"},{"$f":"IF(A6=\"\",\"\",VLOOKUP(C6,[2]語言配置表!$A:$B,2,FALSE))","v":"[临]灵气的描述"}]
[{"$f":"IF([1]ItemConfig!$A10=\"\",\"\",[1]ItemConfig!$A10)","v":1006},{"$f":"IF(A7=\"\",\"\",VLOOKUP(A7,[1]ItemConfig!$A:$B,2,FALSE))","v":1400},{"$f":"IF(A7=\"\",\"\",VLOOKUP(A7,[1]ItemConfig!$A:$D,4,FALSE))","v":1401},{"$f":"IF(A7=\"\",\"\",VLOOKUP(A7,[1]ItemConfig!$A:$C,3,FALSE))","v":"玄晶"},{"$f":"IF(A7=\"\",\"\",VLOOKUP(B7,[2]語言配置表!$A:$B,2,FALSE))","v":"法宝灵韵"},{"$f":"IF(A7=\"\",\"\",VLOOKUP(C7,[2]語言配置表!$A:$B,2,FALSE))","v":"用于提升法宝的等级"}]
[{"$f":"IF([1]ItemConfig!$A11=\"\",\"\",[1]ItemConfig!$A11)","v":1007},{"$f":"IF(A8=\"\",\"\",VLOOKUP(A8,[1]ItemConfig!$A:$B,2,FALSE))","v":-1},{"$f":"IF(A8=\"\",\"\",VLOOKUP(A8,[1]ItemConfig!$A:$D,4,FALSE))","v":-1},{"$f":"IF(A8=\"\",\"\",VLOOKUP(A8,[1]ItemConfig!$A:$C,3,FALSE))","v":"广告币"},{"$f":"IF(A8=\"\",\"\",VLOOKUP(B8,[2]語言配置表!$A:$B,2,FALSE))","v":{"$error":"#N/A"}},{"$f":"IF(A8=\"\",\"\",VLOOKUP(C8,[2]語言配置表!$A:$B,2,FALSE))","v":{"$error":"#N/A"}}]
[{"$f":"IF([1]ItemConfig!$A12=\"\",\"\",[1]ItemConfig!$A12)","v":""},{"$f":"IF(A9=\"\",\"\",VLOOKUP(A9,[1]ItemConfig!$A:$B,2,FALSE))","v":""},{"$f":"IF(A9=\"\",\"\",VLOOKUP(A9,[1]ItemConfig!$A:$D,4,FALSE))","v":""},{"$f":"IF(A9=\"\",\"\",VLOOKUP(A9,[1]ItemConfig!$A:$C,3,FALSE))","v":""},{"$f":"IF(A9=\"\",\"\",VLOOKUP(B9,[2]語言配置表!$A:$B,2,FALSE))","v":""},{"$f":"IF(A9=\"\",\"\",VLOOKUP(C9,[2]語言配置表!$A:$B,2,FALSE))","v":""}]
[{"$f":"IF([1]ItemConfig!$A13=\"\",\"\",[1]ItemConfig!$A13)","v":1101},{"$f":"IF(A10=\"\",\"\",VLOOKUP(A10,[1]ItemConfig!$A:$B,2,FALSE))","v":-1},{"$f":"IF(A10=\"\",\"\",VLOOKUP(A10,[1]ItemConfig!$A:$D,4,FALSE))","v":-1},{"$f":"IF(A10=\"\",\"\",VLOOKUP(A10,[1]ItemConfig!$A:$C,3,FALSE))","v":"自转道具-妖丹×6"},{"$f":"IF(A10=\"\",\"\",VLOOKUP(B10,[2]語言配置表!$A:$B,2,FALSE))","v":{"$error":"#N/A"}},{"$f":"IF(A10=\"\",\"\",VLOOKUP(C10,[2]語言配置表!$A:$B,2,FALSE))","v":{"$error":"#N/A"}}]
[{"$f":"IF([1]ItemConfig!$A14=\"\",\"\",[1]ItemConfig!$A14)","v":1102},{"$f":"IF(A11=\"\",\"\",VLOOKUP(A11,[1]ItemConfig!$A:$B,2,FALSE))","v":-1},{"$f":"IF(A11=\"\",\"\",VLOOKUP(A11,[1]ItemConfig!$A:$D,4,FALSE))","v":-1},{"$f":"IF(A11=\"\",\"\",VLOOKUP(A11,[1]ItemConfig!$A:$C,3,FALSE))","v":"自转道具-妖丹×30"},{"$f":"IF(A11=\"\",\"\",VLOOKUP(B11,[2]語言配置表!$A:$B,2,FALSE))","v":{"$error":"#N/A"}},{"$f":"IF(A11=\"\",\"\",VLOOKUP(C11,[2]語言配置表!$A:$B,2,FALSE))","v":{"$error":"#N/A"}}]
[{"$f":"IF([1]ItemConfig!$A15=\"\",\"\",[1]ItemConfig!$A15)","v":1103},{"$f":"IF(A12=\"\",\"\",VLOOKUP(A12,[1]ItemConfig!$A:$B,2,FALSE))","v":-1},{"$f":"IF(A12=\"\",\"\",VLOOKUP(A12,[1]ItemConfig!$A:$D,4,FALSE))","v":-1},{"$f":"IF(A12=\"\",\"\",VLOOKUP(A12,[1]ItemConfig!$A:$C,3,FALSE))","v":"自转道具-妖丹×98"},{"$f":"IF(A12=\"\",\"\",VLOOKUP(B12,[2]語言配置表!$A:$B,2,FALSE))","v":{"$error":"#N/A"}},{"$f":"IF(A12=\"\",\"\",VLOOKUP(C12,[2]語言配置表!$A:$B,2,FALSE))","v":{"$error":"#N/A"}}]
[{"$f":"IF([1]ItemConfig!$A16=\"\",\"\",[1]ItemConfig!$A16)","v":1104},{"$f":"IF(A13=\"\",\"\",VLOOKUP(A13,[1]ItemConfig!$A:$B,2,FALSE))","v":-1},{"$f":"IF(A13=\"\",\"\",VLOOKUP(A13,[1]ItemConfig!$A:$D,4,FALSE))","v":-1},{"$f":"IF(A13=\"\",\"\",VLOOKUP(A13,[1]ItemConfig!$A:$C,3,FALSE))","v":"自转道具-妖丹×198"},{"$f":"IF(A13=\"\",\"\",VLOOKUP(B13,[2]語言配置表!$A:$B,2,FALSE))","v":{"$error":"#N/A"}},{"$f":"IF(A13=\"\",\"\",VLOOKUP(C13,[2]語言配置表!$A:$B,2,FALSE))","v":{"$error":"#N/A"}}]
[{"$f":"IF([1]ItemConfig!$A17=\"\",\"\",[1]ItemConfig!$A17)","v":1105},{"$f":"IF(A14=\"\",\"\",VLOOKUP(A14,[1]ItemConfig!$A:$B,2,FALSE))","v":-1},{"$f":"IF(A14=\"\",\"\",VLOOKUP(A14,[1]ItemConfig!$A:$D,4,FALSE))","v":-1},{"$f":"IF(A14=\"\",\"\",VLOOKUP(A14,[1]ItemConfig!$A:$C,3,FALSE))","v":"自转道具-妖丹×328"},{"$f":"IF(A14=\"\",\"\",VLOOKUP(B14,[2]語言配置表!$A:$B,2,FALSE))","v":{"$error":"#N/A"}},{"$f":"IF(A14=\"\",\"\",VLOOKUP(C14,[2]語言配置表!$A:$B,2,FALSE))","v":{"$error":"#N/A"}}]
[{"$f":"IF([1]ItemConfig!$A18=\"\",\"\",[1]ItemConfig!$A18)","v":1106},{"$f":"IF(A15=\"\",\"\",VLOOKUP(A15,[1]ItemConfig!$A:$B,2,FALSE))","v":-1},{"$f":"IF(A15=\"\",\"\",VLOOKUP(A15,[1]ItemConfig!$A:$D,4,FALSE))","v":-1},{"$f":"IF(A15=\"\",\"\",VLOOKUP(A15,[1]ItemConfig!$A:$C,3,FALSE))","v":"自转道具-妖丹×648"},{"$f":"IF(A15=\"\",\"\",VLOOKUP(B15,[2]語言配置表!$A:$B,2,FALSE))","v":{"$error":"#N/A"}},{"$f":"IF(A15=\"\",\"\",VLOOKUP(C15,[2]語言配置表!$A:$B,2,FALSE))","v":{"$error":"#N/A"}}]
[{"$f":"IF([1]ItemConfig!$A19=\"\",\"\",[1]ItemConfig!$A19)","v":""},{"$f":"IF(A16=\"\",\"\",VLOOKUP(A16,[1]ItemConfig!$A:$B,2,FALSE))","v":""},{"$f":"IF(A16=\"\",\"\",VLOOKUP(A16,[1]ItemConfig!$A:$D,4,FALSE))","v":""},{"$f":"IF(A16=\"\",\"\",VLOOKUP(A16,[1]ItemConfig!$A:$C,3,FALSE))","v":""},{"$f":"IF(A16=\"\",\"\",VLOOKUP(B16,[2]語言配置表!$A:$B,2,FALSE))","v":""},{"$f":"IF(A16=\"\",\"\",VLOOKUP(C16,[2]語言配置表!$A:$B,2,FALSE))","v":""}]
[{"$f":"IF([1]ItemConfig!$A20=\"\",\"\",[1]ItemConfig!$A20)","v":1201},{"$f":"IF(A17=\"\",\"\",VLOOKUP(A17,[1]ItemConfig!$A:$B,2,FALSE))","v":250},{"$f":"IF(A17=\"\",\"\",VLOOKUP(A17,[1]ItemConfig!$A:$D,4,FALSE))","v":259},{"$f":"IF(A17=\"\",\"\",VLOOKUP(A17,[1]ItemConfig!$A:$C,3,FALSE))","v":"渡劫丹-A1"},{"$f":"IF(A17=\"\",\"\",VLOOKUP(B17,[2]語言配置表!$A:$B,2,FALSE))","v":"渡劫丹-A1"},{"$f":"IF(A17=\"\",\"\",VLOOKUP(C17,[2]語言配置表!$A:$B,2,FALSE))","v":"渡劫丹-A1描述"}]
[{"$f":"IF([1]ItemConfig!$A21=\"\",\"\",[1]ItemConfig!$A21)","v":1202},{"$f":"IF(A18=\"\",\"\",VLOOKUP(A18,[1]ItemConfig!$A:$B,2,FALSE))","v":251},{"$f":"IF(A18=\"\",\"\",VLOOKUP(A18,[1]ItemConfig!$A:$D,4,FALSE))","v":260},{"$f":"IF(A18=\"\",\"\",VLOOKUP(A18,[1]ItemConfig!$A:$C,3,FALSE))","v":"渡劫丹-A2"},{"$f":"IF(A18=\"\",\"\",VLOOKUP(B18,[2]語言配置表!$A:$B,2,FALSE))","v":"渡劫丹-A2"},{"$f":"IF(A18=\"\",\"\",VLOOKUP(C18,[2]語言配置表!$A:$B,2,FALSE))","v":"渡劫丹-A2描述"}]
[{"$f":"IF([1]ItemConfig!$A22=\"\",\"\",[1]ItemConfig!$A22)","v":1203},{"$f":"IF(A19=\"\",\"\",VLOOKUP(A19,[1]ItemConfig!$A:$B,2,FALSE))","v":252},{"$f":"IF(A19=\"\",\"\",VLOOKUP(A19,[1]ItemConfig!$A:$D,4,FALSE))","v":261},{"$f":"IF(A19=\"\",\"\",VLOOKUP(A19,[1]ItemConfig!$A:$C,3,FALSE))","v":"渡劫丹-A3"},{"$f":"IF(A19=\"\",\"\",VLOOKUP(B19,[2]語言配置表!$A:$B,2,FALSE))","v":"渡劫丹-A3"},{"$f":"IF(A19=\"\",\"\",VLOOKUP(C19,[2]語言配置表!$A:$B,2,FALSE))","v":"渡劫丹-A3描述"}]
[{"$f":"IF([1]ItemConfig!$A23=\"\",\"\",[1]ItemConfig!$A23)","v":1204},{"$f":"IF(A20=\"\",\"\",VLOOKUP(A20,[1]ItemConfig!$A:$B,2,FALSE))","v":253},{"$f":"IF(A20=\"\",\"\",VLOOKUP(A20,[1]ItemConfig!$A:$D,4,FALSE))","v":262},{"$f":"IF(A20=\"\",\"\",VLOOKUP(A20,[1]ItemConfig!$A:$C,3,FALSE))","v":"渡劫丹-B1"},{"$f":"IF(A20=\"\",\"\",VLOOKUP(B20,[2]語言配置表!$A:$B,2,FALSE))","v":"渡劫丹-B1"},{"$f":"IF(A20=\"\",\"\",VLOOKUP(C20,[2]語言配置表!$A:$B,2,FALSE))","v":"渡劫丹-B1描述"}]
[{"$f":"IF([1]ItemConfig!$A24=\"\",\"\",[1]ItemConfig!$A24)","v":1205},{"$f":"IF(A21=\"\",\"\",VLOOKUP(A21,[1]ItemConfig!$A:$B,2,FALSE))","v":254},{"$f":"IF(A21=\"\",\"\",VLOOKUP(A21,[1]ItemConfig!$A:$D,4,FALSE))","v":263},{"$f":"IF(A21=\"\",\"\",VLOOKUP(A21,[1]ItemConfig!$A:$C,3,FALSE))","v":"渡劫丹-B2"},{"$f":"IF(A21=\"\",\"\",VLOOKUP(B21,[2]語言配置表!$A:$B,2,FALSE))","v":"渡劫丹-B2"},{"$f":"IF(A21=\"\",\"\",VLOOKUP(C21,[2]語言配置表!$A:$B,2,FALSE))","v":"渡劫丹-B2描述"}]
[{"$f":"IF([1]ItemConfig!$A25=\"\",\"\",[1]ItemConfig!$A25)","v":1206},{"$f":"IF(A22=\"\",\"\",VLOOKUP(A22,[1]ItemConfig!$A:$B,2,FALSE))","v":255},{"$f":"IF(A22=\"\",\"\",VLOOKUP(A22,[1]ItemConfig!$A:$D,4,FALSE))","v":264},{"$f":"IF(A22=\"\",\"\",VLOOKUP(A22,[1]ItemConfig!$A:$C,3,FALSE))","v":"渡劫丹-B3"},{"$f":"IF(A22=\"\",\"\",VLOOKUP(B22,[2]語言配置表!$A:$B,2,FALSE))","v":"渡劫丹-B3"},{"$f":"IF(A22=\"\",\"\",VLOOKUP(C22,[2]語言配置表!$A:$B,2,FALSE))","v":"渡劫丹-B3描述"}]
[{"$f":"IF([1]ItemConfig!$A26=\"\",\"\",[1]ItemConfig!$A26)","v":1207},{"$f":"IF(A23=\"\",\"\",VLOOKUP(A23,[1]ItemConfig!$A:$B,2,FALSE))","v":256},{"$f":"IF(A23=\"\",\"\",VLOOKUP(A23,[1]ItemConfig!$A:$D,4,FALSE))","v":265},{"$f":"IF(A23=\"\",\"\",VLOOKUP(A23,[1]ItemConfig!$A:$C,3,FALSE))","v":"渡劫丹-C1"},{"$f":"IF(A23=\"\",\"\",VLOOKUP(B23,[2]語言配置表!$A:$B,2,FALSE))","v":"渡劫丹-C1"},{"$f":"IF(A23=\"\",\"\",VLOOKUP(C23,[2]語言配置表!$A:$B,2,FALSE))","v":"渡劫丹-C1描述"}]
[{"$f":"IF([1]ItemConfig!$A27=\"\",\"\",[1]ItemConfig!$A27)","v":1208},{"$f":"IF(A24=\"\",\"\",VLOOKUP(A24,[1]ItemConfig!$A:$B,2,FALSE))","v":257},{"$f":"IF(A24=\"\",\"\",VLOOKUP(A24,[1]ItemConfig!$A:$D,4,FALSE))","v":266},{"$f":"IF(A24=\"\",\"\",VLOOKUP(A24,[1]ItemConfig!$A:$C,3,FALSE))","v":"渡劫丹-C2"},{"$f":"IF(A24=\"\",\"\",VLOOKUP(B24,[2]語言配置表!$A:$B,2,FALSE))","v":"渡劫丹-C2"},{"$f":"IF(A24=\"\",\"\",VLOOKUP(C24,[2]語言配置表!$A:$B,2,FALSE))","v":"渡劫丹-C2描述"}]
[{"$f":"IF([1]ItemConfig!$A28=\"\",\"\",[1]ItemConfig!$A28)","v":1209},{"$f":"IF(A25=\"\",\"\",VLOOKUP(A25,[1]ItemConfig!$A:$B,2,FALSE))","v":258},{"$f":"IF(A25=\"\",\"\",VLOOKUP(A25,[1]ItemConfig!$A:$D,4,FALSE))","v":267},{"$f":"IF(A25=\"\",\"\",VLOOKUP(A25,[1]ItemConfig!$A:$C,3,FALSE))","v":"渡劫丹-C3"},{"$f":"IF(A25=\"\",\"\",VLOOKUP(B25,[2]語言配置表!$A:$B,2,FALSE))","v":"渡劫丹-C3"},{"$f":"IF(A25=\"\",\"\",VLOOKUP(C25,[2]語言配置表!$A:$B,2,FALSE))","v":"渡劫丹-C3描述"}]
[{"$f":"IF([1]ItemConfig!$A29=\"\",\"\",[1]ItemConfig!$A29)","v":""},{"$f":"IF(A26=\"\",\"\",VLOOKUP(A26,[1]ItemConfig!$A:$B,2,FALSE))","v":""},{"$f":"IF(A26=\"\",\"\",VLOOKUP(A26,[1]ItemConfig!$A:$D,4,FALSE))","v":""},{"$f":"IF(A26=\"\",\"\",VLOOKUP(A26,[1]ItemConfig!$A:$C,3,FALSE))","v":""},{"$f":"IF(A26=\"\",\"\",VLOOKUP(B26,[2]語言配置表!$A:$B,2,FALSE))","v":""},{"$f":"IF(A26=\"\",\"\",VLOOKUP(C26,[2]語言配置表!$A:$B,2,FALSE))","v":""}]
[{"$f":"IF([1]ItemConfig!$A30=\"\",\"\",[1]ItemConfig!$A30)","v":1301},{"$f":"IF(A27=\"\",\"\",VLOOKUP(A27,[1]ItemConfig!$A:$B,2,FALSE))","v":268},{"$f":"IF(A27=\"\",\"\",VLOOKUP(A27,[1]ItemConfig!$A:$D,4,FALSE))","v":272},{"$f":"IF(A27=\"\",\"\",VLOOKUP(A27,[1]ItemConfig!$A:$C,3,FALSE))","v":"天材地宝1"},{"$f":"IF(A27=\"\",\"\",VLOOKUP(B27,[2]語言配置表!$A:$B,2,FALSE))","v":"天材地宝1"},{"$f":"IF(A27=\"\",\"\",VLOOKUP(C27,[2]語言配置表!$A:$B,2,FALSE))","v":"天材地宝1描述"}]
[{"$f":"IF([1]ItemConfig!$A31=\"\",\"\",[1]ItemConfig!$A31)","v":1302},{"$f":"IF(A28=\"\",\"\",VLOOKUP(A28,[1]ItemConfig!$A:$B,2,FALSE))","v":269},{"$f":"IF(A28=\"\",\"\",VLOOKUP(A28,[1]ItemConfig!$A:$D,4,FALSE))","v":273},{"$f":"IF(A28=\"\",\"\",VLOOKUP(A28,[1]ItemConfig!$A:$C,3,FALSE))","v":"天材地宝2"},{"$f":"IF(A28=\"\",\"\",VLOOKUP(B28,[2]語言配置表!$A:$B,2,FALSE))","v":"天材地宝2"},{"$f":"IF(A28=\"\",\"\",VLOOKUP(C28,[2]語言配置表!$A:$B,2,FALSE))","v":"天材地宝2描述"}]
[{"$f":"IF([1]ItemConfig!$A32=\"\",\"\",[1]ItemConfig!$A32)","v":1303},{"$f":"IF(A29=\"\",\"\",VLOOKUP(A29,[1]ItemConfig!$A:$B,2,FALSE))","v":270},{"$f":"IF(A29=\"\",\"\",VLOOKUP(A29,[1]ItemConfig!$A:$D,4,FALSE))","v":274},{"$f":"IF(A29=\"\",\"\",VLOOKUP(A29,[1]ItemConfig!$A:$C,3,FALSE))","v":"天材地宝3"},{"$f":"IF(A29=\"\",\"\",VLOOKUP(B29,[2]語言配置表!$A:$B,2,FALSE))","v":"天材地宝3"},{"$f":"IF(A29=\"\",\"\",VLOOKUP(C29,[2]語言配置表!$A:$B,2,FALSE))","v":"天材地宝3描述"}]
[{"$f":"IF([1]ItemConfig!$A33=\"\",\"\",[1]ItemConfig!$A33)","v":1304},{"$f":"IF(A30=\"\",\"\",VLOOKUP(A30,[1]ItemConfig!$A:$B,2,FALSE))","v":271},{"$f":"IF(A30=\"\",\"\",VLOOKUP(A30,[1]ItemConfig!$A:$D,4,FALSE))","v":275},{"$f":"IF(A30=\"\",\"\",VLOOKUP(A30,[1]ItemConfig!$A:$C,3,FALSE))","v":"天材地宝4"},{"$f":"IF(A30=\"\",\"\",VLOOKUP(B30,[2]語言配置表!$A:$B,2,FALSE))","v":"天材地宝4"},{"$f":"IF(A30=\"\",\"\",VLOOKUP(C30,[2]語言配置表!$A:$B,2,FALSE))","v":"天材地宝4描述"}]
[{"$f":"IF([1]ItemConfig!$A34=\"\",\"\",[1]ItemConfig!$A34)","v":""},{"$f":"IF(A31=\"\",\"\",VLOOKUP(A31,[1]ItemConfig!$A:$B,2,FALSE))","v":""},{"$f":"IF(A31=\"\",\"\",VLOOKUP(A31,[1]ItemConfig!$A:$D,4,FALSE))","v":""},{"$f":"IF(A31=\"\",\"\",VLOOKUP(A31,[1]ItemConfig!$A:$C,3,FALSE))","v":""},{"$f":"IF(A31=\"\",\"\",VLOOKUP(B31,[2]語言配置表!$A:$B,2,FALSE))","v":""},{"$f":"IF(A31=\"\",\"\",VLOOKUP(C31,[2]語言配置表!$A:$B,2,FALSE))","v":""}]
[{"$f":"IF([1]ItemConfig!$A35=\"\",\"\",[1]ItemConfig!$A35)","v":1401},{"$f":"IF(A32=\"\",\"\",VLOOKUP(A32,[1]ItemConfig!$A:$B,2,FALSE))","v":276},{"$f":"IF(A32=\"\",\"\",VLOOKUP(A32,[1]ItemConfig!$A:$D,4,FALSE))","v":280},{"$f":"IF(A32=\"\",\"\",VLOOKUP(A32,[1]ItemConfig!$A:$C,3,FALSE))","v":"修为丹·下"},{"$f":"IF(A32=\"\",\"\",VLOOKUP(B32,[2]語言配置表!$A:$B,2,FALSE))","v":"修为丹1"},{"$f":"IF(A32=\"\",\"\",VLOOKUP(C32,[2]語言配置表!$A:$B,2,FALSE))","v":"修为丹1描述"}]
[{"$f":"IF([1]ItemConfig!$A36=\"\",\"\",[1]ItemConfig!$A36)","v":1402},{"$f":"IF(A33=\"\",\"\",VLOOKUP(A33,[1]ItemConfig!$A:$B,2,FALSE))","v":277},{"$f":"IF(A33=\"\",\"\",VLOOKUP(A33,[1]ItemConfig!$A:$D,4,FALSE))","v":281},{"$f":"IF(A33=\"\",\"\",VLOOKUP(A33,[1]ItemConfig!$A:$C,3,FALSE))","v":"修为丹·中"},{"$f":"IF(A33=\"\",\"\",VLOOKUP(B33,[2]語言配置表!$A:$B,2,FALSE))","v":"修为丹2"},{"$f":"IF(A33=\"\",\"\",VLOOKUP(C33,[2]語言配置表!$A:$B,2,FALSE))","v":"修为丹2描述"}]
[{"$f":"IF([1]ItemConfig!$A37=\"\",\"\",[1]ItemConfig!$A37)","v":1403},{"$f":"IF(A34=\"\",\"\",VLOOKUP(A34,[1]ItemConfig!$A:$B,2,FALSE))","v":278},{"$f":"IF(A34=\"\",\"\",VLOOKUP(A34,[1]ItemConfig!$A:$D,4,FALSE))","v":282},{"$f":"IF(A34=\"\",\"\",VLOOKUP(A34,[1]ItemConfig!$A:$C,3,FALSE))","v":"修为丹·上"},{"$f":"IF(A34=\"\",\"\",VLOOKUP(B34,[2]語言配置表!$A:$B,2,FALSE))","v":"修为丹3"},{"$f":"IF(A34=\"\",\"\",VLOOKUP(C34,[2]語言配置表!$A:$B,2,FALSE))","v":"修为丹3描述"}]
[{"$f":"IF([1]ItemConfig!$A38=\"\",\"\",[1]ItemConfig!$A38)","v":1404},{"$f":"IF(A35=\"\",\"\",VLOOKUP(A35,[1]ItemConfig!$A:$B,2,FALSE))","v":279},{"$f":"IF(A35=\"\",\"\",VLOOKUP(A35,[1]ItemConfig!$A:$D,4,FALSE))","v":283},{"$f":"IF(A35=\"\",\"\",VLOOKUP(A35,[1]ItemConfig!$A:$C,3,FALSE))","v":"修为丹·极"},{"$f":"IF(A35=\"\",\"\",VLOOKUP(B35,[2]語言配置表!$A:$B,2,FALSE))","v":"修为丹4"},{"$f":"IF(A35=\"\",\"\",VLOOKUP(C35,[2]語言配置表!$A:$B,2,FALSE))","v":"修为丹4描述"}]
[{"$f":"IF([1]ItemConfig!$A39=\"\",\"\",[1]ItemConfig!$A39)","v":""},{"$f":"IF(A36=\"\",\"\",VLOOKUP(A36,[1]ItemConfig!$A:$B,2,FALSE))","v":""},{"$f":"IF(A36=\"\",\"\",VLOOKUP(A36,[1]ItemConfig!$A:$D,4,FALSE))","v":""},{"$f":"IF(A36=\"\",\"\",VLOOKUP(A36,[1]ItemConfig!$A:$C,3,FALSE))","v":""},{"$f":"IF(A36=\"\",\"\",VLOOKUP(B36,[2]語言配置表!$A:$B,2,FALSE))","v":""},{"$f":"IF(A36=\"\",\"\",VLOOKUP(C36,[2]語言配置表!$A:$B,2,FALSE))","v":""}]
[{"$f":"IF([1]ItemConfig!$A40=\"\",\"\",[1]ItemConfig!$A40)","v":1501},{"$f":"IF(A37=\"\",\"\",VLOOKUP(A37,[1]ItemConfig!$A:$B,2,FALSE))","v":1947},{"$f":"IF(A37=\"\",\"\",VLOOKUP(A37,[1]ItemConfig!$A:$D,4,FALSE))","v":1949},{"$f":"IF(A37=\"\",\"\",VLOOKUP(A37,[1]ItemConfig!$A:$C,3,FALSE))","v":"好感度礼物1"},{"$f":"IF(A37=\"\",\"\",VLOOKUP(B37,[2]語言配置表!$A:$B,2,FALSE))","v":"好感度礼物1"},{"$f":"IF(A37=\"\",\"\",VLOOKUP(C37,[2]語言配置表!$A:$B,2,FALSE))","v":"道具描述_好感度礼物1"}]
[{"$f":"IF([1]ItemConfig!$A41=\"\",\"\",[1]ItemConfig!$A41)","v":1502},{"$f":"IF(A38=\"\",\"\",VLOOKUP(A38,[1]ItemConfig!$A:$B,2,FALSE))","v":1948},{"$f":"IF(A38=\"\",\"\",VLOOKUP(A38,[1]ItemConfig!$A:$D,4,FALSE))","v":1950},{"$f":"IF(A38=\"\",\"\",VLOOKUP(A38,[1]ItemConfig!$A:$C,3,FALSE))","v":"好感度礼物2"},{"$f":"IF(A38=\"\",\"\",VLOOKUP(B38,[2]語言配置表!$A:$B,2,FALSE))","v":"好感度礼物2"},{"$f":"IF(A38=\"\",\"\",VLOOKUP(C38,[2]語言配置表!$A:$B,2,FALSE))","v":"道具描述_好感度礼物2"}]
[{"$f":"IF([1]ItemConfig!$A42=\"\",\"\",[1]ItemConfig!$A42)","v":""},{"$f":"IF(A39=\"\",\"\",VLOOKUP(A39,[1]ItemConfig!$A:$B,2,FALSE))","v":""},{"$f":"IF(A39=\"\",\"\",VLOOKUP(A39,[1]ItemConfig!$A:$D,4,FALSE))","v":""},{"$f":"IF(A39=\"\",\"\",VLOOKUP(A39,[1]ItemConfig!$A:$C,3,FALSE))","v":""},{"$f":"IF(A39=\"\",\"\",VLOOKUP(B39,[2]語言配置表!$A:$B,2,FALSE))","v":""},{"$f":"IF(A39=\"\",\"\",VLOOKUP(C39,[2]語言配置表!$A:$B,2,FALSE))","v":""}]
[{"$f":"IF([1]ItemConfig!$A43=\"\",\"\",[1]ItemConfig!$A43)","v":1601},{"$f":"IF(A40=\"\",\"\",VLOOKUP(A40,[1]ItemConfig!$A:$B,2,FALSE))","v":1951},{"$f":"IF(A40=\"\",\"\",VLOOKUP(A40,[1]ItemConfig!$A:$D,4,FALSE))","v":1952},{"$f":"IF(A40=\"\",\"\",VLOOKUP(A40,[1]ItemConfig!$A:$C,3,FALSE))","v":"心情礼物1"},{"$f":"IF(A40=\"\",\"\",VLOOKUP(B40,[2]語言配置表!$A:$B,2,FALSE))","v":"心情礼物"},{"$f":"IF(A40=\"\",\"\",VLOOKUP(C40,[2]語言配置表!$A:$B,2,FALSE))","v":"道具描述_心情礼物"}]
[{"$f":"IF([1]ItemConfig!$A44=\"\",\"\",[1]ItemConfig!$A44)","v":""},{"$f":"IF(A41=\"\",\"\",VLOOKUP(A41,[1]ItemConfig!$A:$B,2,FALSE))","v":""},{"$f":"IF(A41=\"\",\"\",VLOOKUP(A41,[1]ItemConfig!$A:$D,4,FALSE))","v":""},{"$f":"IF(A41=\"\",\"\",VLOOKUP(A41,[1]ItemConfig!$A:$C,3,FALSE))","v":""},{"$f":"IF(A41=\"\",\"\",VLOOKUP(B41,[2]語言配置表!$A:$B,2,FALSE))","v":""},{"$f":"IF(A41=\"\",\"\",VLOOKUP(C41,[2]語言配置表!$A:$B,2,FALSE))","v":""}]
[{"$f":"IF([1]ItemConfig!$A45=\"\",\"\",[1]ItemConfig!$A45)","v":1701},{"$f":"IF(A42=\"\",\"\",VLOOKUP(A42,[1]ItemConfig!$A:$B,2,FALSE))","v":3237},{"$f":"IF(A42=\"\",\"\",VLOOKUP(A42,[1]ItemConfig!$A:$D,4,FALSE))","v":3240},{"$f":"IF(A42=\"\",\"\",VLOOKUP(A42,[1]ItemConfig!$A:$C,3,FALSE))","v":"神识丹-小"},{"$f":"IF(A42=\"\",\"\",VLOOKUP(B42,[2]語言配置表!$A:$B,2,FALSE))","v":"神识丹-小"},{"$f":"IF(A42=\"\",\"\",VLOOKUP(C42,[2]語言配置表!$A:$B,2,FALSE))","v":"道具描述_神识丹-小"}]
[{"$f":"IF([1]ItemConfig!$A46=\"\",\"\",[1]ItemConfig!$A46)","v":1702},{"$f":"IF(A43=\"\",\"\",VLOOKUP(A43,[1]ItemConfig!$A:$B,2,FALSE))","v":3238},{"$f":"IF(A43=\"\",\"\",VLOOKUP(A43,[1]ItemConfig!$A:$D,4,FALSE))","v":3241},{"$f":"IF(A43=\"\",\"\",VLOOKUP(A43,[1]ItemConfig!$A:$C,3,FALSE))","v":"神识丹-中"},{"$f":"IF(A43=\"\",\"\",VLOOKUP(B43,[2]語言配置表!$A:$B,2,FALSE))","v":"神识丹-中"},{"$f":"IF(A43=\"\",\"\",VLOOKUP(C43,[2]語言配置表!$A:$B,2,FALSE))","v":"道具描述_神识丹-中"}]
[{"$f":"IF([1]ItemConfig!$A47=\"\",\"\",[1]ItemConfig!$A47)","v":1703},{"$f":"IF(A44=\"\",\"\",VLOOKUP(A44,[1]ItemConfig!$A:$B,2,FALSE))","v":3239},{"$f":"IF(A44=\"\",\"\",VLOOKUP(A44,[1]ItemConfig!$A:$D,4,FALSE))","v":3242},{"$f":"IF(A44=\"\",\"\",VLOOKUP(A44,[1]ItemConfig!$A:$C,3,FALSE))","v":"神识丹-大"},{"$f":"IF(A44=\"\",\"\",VLOOKUP(B44,[2]語言配置表!$A:$B,2,FALSE))","v":"神识丹-大"},{"$f":"IF(A44=\"\",\"\",VLOOKUP(C44,[2]語言配置表!$A:$B,2,FALSE))","v":"道具描述_神识丹-大"}]
[{"$f":"IF([1]ItemConfig!$A48=\"\",\"\",[1]ItemConfig!$A48)","v":""},{"$f":"IF(A45=\"\",\"\",VLOOKUP(A45,[1]ItemConfig!$A:$B,2,FALSE))","v":""},{"$f":"IF(A45=\"\",\"\",VLOOKUP(A45,[1]ItemConfig!$A:$D,4,FALSE))","v":""},{"$f":"IF(A45=\"\",\"\",VLOOKUP(A45,[1]ItemConfig!$A:$C,3,FALSE))","v":""},{"$f":"IF(A45=\"\",\"\",VLOOKUP(B45,[2]語言配置表!$A:$B,2,FALSE))","v":""},{"$f":"IF(A45=\"\",\"\",VLOOKUP(C45,[2]語言配置表!$A:$B,2,FALSE))","v":""}]
[{"$f":"IF([1]ItemConfig!$A49=\"\",\"\",[1]ItemConfig!$A49)","v":10001},{"$f":"IF(A46=\"\",\"\",VLOOKUP(A46,[1]ItemConfig!$A:$B,2,FALSE))","v":284},{"$f":"IF(A46=\"\",\"\",VLOOKUP(A46,[1]ItemConfig!$A:$D,4,FALSE))","v":292},{"$f":"IF(A46=\"\",\"\",VLOOKUP(A46,[1]ItemConfig!$A:$C,3,FALSE))","v":"神龙鼎"},{"$f":"IF(A46=\"\",\"\",VLOOKUP(B46,[2]語言配置表!$A:$B,2,FALSE))","v":"神龙鼎"},{"$f":"IF(A46=\"\",\"\",VLOOKUP(C46,[2]語言配置表!$A:$B,2,FALSE))","v":"法宝1描述"}]
[{"$f":"IF([1]ItemConfig!$A50=\"\",\"\",[1]ItemConfig!$A50)","v":10002},{"$f":"IF(A47=\"\",\"\",VLOOKUP(A47,[1]ItemConfig!$A:$B,2,FALSE))","v":285},{"$f":"IF(A47=\"\",\"\",VLOOKUP(A47,[1]ItemConfig!$A:$D,4,FALSE))","v":293},{"$f":"IF(A47=\"\",\"\",VLOOKUP(A47,[1]ItemConfig!$A:$C,3,FALSE))","v":"破天斧"},{"$f":"IF(A47=\"\",\"\",VLOOKUP(B47,[2]語言配置表!$A:$B,2,FALSE))","v":"破天斧"},{"$f":"IF(A47=\"\",\"\",VLOOKUP(C47,[2]語言配置表!$A:$B,2,FALSE))","v":"法宝2描述"}]
[{"$f":"IF([1]ItemConfig!$A51=\"\",\"\",[1]ItemConfig!$A51)","v":10003},{"$f":"IF(A48=\"\",\"\",VLOOKUP(A48,[1]ItemConfig!$A:$B,2,FALSE))","v":286},{"$f":"IF(A48=\"\",\"\",VLOOKUP(A48,[1]ItemConfig!$A:$D,4,FALSE))","v":294},{"$f":"IF(A48=\"\",\"\",VLOOKUP(A48,[1]ItemConfig!$A:$C,3,FALSE))","v":"翡翠葫芦"},{"$f":"IF(A48=\"\",\"\",VLOOKUP(B48,[2]語言配置表!$A:$B,2,FALSE))","v":"翡翠葫芦"},{"$f":"IF(A48=\"\",\"\",VLOOKUP(C48,[2]語言配置表!$A:$B,2,FALSE))","v":"法宝3描述"}]
[{"$f":"IF([1]ItemConfig!$A52=\"\",\"\",[1]ItemConfig!$A52)","v":10004},{"$f":"IF(A49=\"\",\"\",VLOOKUP(A49,[1]ItemConfig!$A:$B,2,FALSE))","v":287},{"$f":"IF(A49=\"\",\"\",VLOOKUP(A49,[1]ItemConfig!$A:$D,4,FALSE))","v":295},{"$f":"IF(A49=\"\",\"\",VLOOKUP(A49,[1]ItemConfig!$A:$C,3,FALSE))","v":"混沌珠"},{"$f":"IF(A49=\"\",\"\",VLOOKUP(B49,[2]語言配置表!$A:$B,2,FALSE))","v":"混沌珠"},{"$f":"IF(A49=\"\",\"\",VLOOKUP(C49,[2]語言配置表!$A:$B,2,FALSE))","v":"法宝4描述"}]
[{"$f":"IF([1]ItemConfig!$A53=\"\",\"\",[1]ItemConfig!$A53)","v":10005},{"$f":"IF(A50=\"\",\"\",VLOOKUP(A50,[1]ItemConfig!$A:$B,2,FALSE))","v":288},{"$f":"IF(A50=\"\",\"\",VLOOKUP(A50,[1]ItemConfig!$A:$D,4,FALSE))","v":296},{"$f":"IF(A50=\"\",\"\",VLOOKUP(A50,[1]ItemConfig!$A:$C,3,FALSE))","v":"琉璃宝塔"},{"$f":"IF(A50=\"\",\"\",VLOOKUP(B50,[2]語言配置表!$A:$B,2,FALSE))","v":"琉璃宝塔"},{"$f":"IF(A50=\"\",\"\",VLOOKUP(C50,[2]語言配置表!$A:$B,2,FALSE))","v":"法宝5描述"}]
[{"$f":"IF([1]ItemConfig!$A54=\"\",\"\",[1]ItemConfig!$A54)","v":10006},{"$f":"IF(A51=\"\",\"\",VLOOKUP(A51,[1]ItemConfig!$A:$B,2,FALSE))","v":289},{"$f":"IF(A51=\"\",\"\",VLOOKUP(A51,[1]ItemConfig!$A:$D,4,FALSE))","v":297},{"$f":"IF(A51=\"\",\"\",VLOOKUP(A51,[1]ItemConfig!$A:$C,3,FALSE))","v":"九幽镇魂瓶"},{"$f":"IF(A51=\"\",\"\",VLOOKUP(B51,[2]語言配置表!$A:$B,2,FALSE))","v":"九幽镇魂瓶"},{"$f":"IF(A51=\"\",\"\",VLOOKUP(C51,[2]語言配置表!$A:$B,2,FALSE))","v":"法宝6描述"}]
[{"$f":"IF([1]ItemConfig!$A55=\"\",\"\",[1]ItemConfig!$A55)","v":10007},{"$f":"IF(A52=\"\",\"\",VLOOKUP(A52,[1]ItemConfig!$A:$B,2,FALSE))","v":290},{"$f":"IF(A52=\"\",\"\",VLOOKUP(A52,[1]ItemConfig!$A:$D,4,FALSE))","v":298},{"$f":"IF(A52=\"\",\"\",VLOOKUP(A52,[1]ItemConfig!$A:$C,3,FALSE))","v":"玉莲守心灯"},{"$f":"IF(A52=\"\",\"\",VLOOKUP(B52,[2]語言配置表!$A:$B,2,FALSE))","v":"玉莲守心灯"},{"$f":"IF(A52=\"\",\"\",VLOOKUP(C52,[2]語言配置表!$A:$B,2,FALSE))","v":"法宝7描述"}]
[{"$f":"IF([1]ItemConfig!$A56=\"\",\"\",[1]ItemConfig!$A56)","v":10008},{"$f":"IF(A53=\"\",\"\",VLOOKUP(A53,[1]ItemConfig!$A:$B,2,FALSE))","v":291},{"$f":"IF(A53=\"\",\"\",VLOOKUP(A53,[1]ItemConfig!$A:$D,4,FALSE))","v":299},{"$f":"IF(A53=\"\",\"\",VLOOKUP(A53,[1]ItemConfig!$A:$C,3,FALSE))","v":"融灵塔"},{"$f":"IF(A53=\"\",\"\",VLOOKUP(B53,[2]語言配置表!$A:$B,2,FALSE))","v":"融灵塔"},{"$f":"IF(A53=\"\",\"\",VLOOKUP(C53,[2]語言配置表!$A:$B,2,FALSE))","v":"法宝8描述"}]
[{"$f":"IF([1]ItemConfig!$A57=\"\",\"\",[1]ItemConfig!$A57)","v":10009},{"$f":"IF(A54=\"\",\"\",VLOOKUP(A54,[1]ItemConfig!$A:$B,2,FALSE))","v":1402},{"$f":"IF(A54=\"\",\"\",VLOOKUP(A54,[1]ItemConfig!$A:$D,4,FALSE))","v":1405},{"$f":"IF(A54=\"\",\"\",VLOOKUP(A54,[1]ItemConfig!$A:$C,3,FALSE))","v":"禁元珠"},{"$f":"IF(A54=\"\",\"\",VLOOKUP(B54,[2]語言配置表!$A:$B,2,FALSE))","v":"禁元珠"},{"$f":"IF(A54=\"\",\"\",VLOOKUP(C54,[2]語言配置表!$A:$B,2,FALSE))","v":"禁元珠描述"}]
[{"$f":"IF([1]ItemConfig!$A58=\"\",\"\",[1]ItemConfig!$A58)","v":10010},{"$f":"IF(A55=\"\",\"\",VLOOKUP(A55,[1]ItemConfig!$A:$B,2,FALSE))","v":1403},{"$f":"IF(A55=\"\",\"\",VLOOKUP(A55,[1]ItemConfig!$A:$D,4,FALSE))","v":1406},{"$f":"IF(A55=\"\",\"\",VLOOKUP(A55,[1]ItemConfig!$A:$C,3,FALSE))","v":"玄龟盾"},{"$f":"IF(A55=\"\",\"\",VLOOKUP(B55,[2]語言配置表!$A:$B,2,FALSE))","v":"玄龟盾"},{"$f":"IF(A55=\"\",\"\",VLOOKUP(C55,[2]語言配置表!$A:$B,2,FALSE))","v":"玄龟盾描述"}]
[{"$f":"IF([1]ItemConfig!$A59=\"\",\"\",[1]ItemConfig!$A59)","v":10011},{"$f":"IF(A56=\"\",\"\",VLOOKUP(A56,[1]ItemConfig!$A:$B,2,FALSE))","v":1404},{"$f":"IF(A56=\"\",\"\",VLOOKUP(A56,[1]ItemConfig!$A:$D,4,FALSE))","v":1407},{"$f":"IF(A56=\"\",\"\",VLOOKUP(A56,[1]ItemConfig!$A:$C,3,FALSE))","v":"天殇血刃剑"},{"$f":"IF(A56=\"\",\"\",VLOOKUP(B56,[2]語言配置表!$A:$B,2,FALSE))","v":"天殇血刃剑"},{"$f":"IF(A56=\"\",\"\",VLOOKUP(C56,[2]語言配置表!$A:$B,2,FALSE))","v":"天殇血刃剑描述"}]
[{"$f":"IF([1]ItemConfig!$A60=\"\",\"\",[1]ItemConfig!$A60)","v":""},{"$f":"IF(A57=\"\",\"\",VLOOKUP(A57,[1]ItemConfig!$A:$B,2,FALSE))","v":""},{"$f":"IF(A57=\"\",\"\",VLOOKUP(A57,[1]ItemConfig!$A:$D,4,FALSE))","v":""},{"$f":"IF(A57=\"\",\"\",VLOOKUP(A57,[1]ItemConfig!$A:$C,3,FALSE))","v":""},{"$f":"IF(A57=\"\",\"\",VLOOKUP(B57,[2]語言配置表!$A:$B,2,FALSE))","v":""},{"$f":"IF(A57=\"\",\"\",VLOOKUP(C57,[2]語言配置表!$A:$B,2,FALSE))","v":""}]
[{"$f":"IF([1]ItemConfig!$A61=\"\",\"\",[1]ItemConfig!$A61)","v":11001},{"$f":"IF(A58=\"\",\"\",VLOOKUP(A58,[1]ItemConfig!$A:$B,2,FALSE))","v":300},{"$f":"IF(A58=\"\",\"\",VLOOKUP(A58,[1]ItemConfig!$A:$D,4,FALSE))","v":308},{"$f":"IF(A58=\"\",\"\",VLOOKUP(A58,[1]ItemConfig!$A:$C,3,FALSE))","v":"神龙鼎碎片"},{"$f":"IF(A58=\"\",\"\",VLOOKUP(B58,[2]語言配置表!$A:$B,2,FALSE))","v":"神龙鼎碎片"},{"$f":"IF(A58=\"\",\"\",VLOOKUP(C58,[2]語言配置表!$A:$B,2,FALSE))","v":"法宝1碎片描述"}]
[{"$f":"IF([1]ItemConfig!$A62=\"\",\"\",[1]ItemConfig!$A62)","v":11002},{"$f":"IF(A59=\"\",\"\",VLOOKUP(A59,[1]ItemConfig!$A:$B,2,FALSE))","v":301},{"$f":"IF(A59=\"\",\"\",VLOOKUP(A59,[1]ItemConfig!$A:$D,4,FALSE))","v":309},{"$f":"IF(A59=\"\",\"\",VLOOKUP(A59,[1]ItemConfig!$A:$C,3,FALSE))","v":"破天斧碎片"},{"$f":"IF(A59=\"\",\"\",VLOOKUP(B59,[2]語言配置表!$A:$B,2,FALSE))","v":"破天斧碎片"},{"$f":"IF(A59=\"\",\"\",VLOOKUP(C59,[2]語言配置表!$A:$B,2,FALSE))","v":"法宝2碎片描述"}]
[{"$f":"IF([1]ItemConfig!$A63=\"\",\"\",[1]ItemConfig!$A63)","v":11003},{"$f":"IF(A60=\"\",\"\",VLOOKUP(A60,[1]ItemConfig!$A:$B,2,FALSE))","v":302},{"$f":"IF(A60=\"\",\"\",VLOOKUP(A60,[1]ItemConfig!$A:$D,4,FALSE))","v":310},{"$f":"IF(A60=\"\",\"\",VLOOKUP(A60,[1]ItemConfig!$A:$C,3,FALSE))","v":"翡翠葫芦碎片"},{"$f":"IF(A60=\"\",\"\",VLOOKUP(B60,[2]語言配置表!$A:$B,2,FALSE))","v":"翡翠葫芦碎片"},{"$f":"IF(A60=\"\",\"\",VLOOKUP(C60,[2]語言配置表!$A:$B,2,FALSE))","v":"法宝3碎片描述"}]
[{"$f":"IF([1]ItemConfig!$A64=\"\",\"\",[1]ItemConfig!$A64)","v":11004},{"$f":"IF(A61=\"\",\"\",VLOOKUP(A61,[1]ItemConfig!$A:$B,2,FALSE))","v":303},{"$f":"IF(A61=\"\",\"\",VLOOKUP(A61,[1]ItemConfig!$A:$D,4,FALSE))","v":311},{"$f":"IF(A61=\"\",\"\",VLOOKUP(A61,[1]ItemConfig!$A:$C,3,FALSE))","v":"混沌珠碎片"},{"$f":"IF(A61=\"\",\"\",VLOOKUP(B61,[2]語言配置表!$A:$B,2,FALSE))","v":"混沌珠碎片"},{"$f":"IF(A61=\"\",\"\",VLOOKUP(C61,[2]語言配置表!$A:$B,2,FALSE))","v":"法宝4碎片描述"}]
[{"$f":"IF([1]ItemConfig!$A65=\"\",\"\",[1]ItemConfig!$A65)","v":11005},{"$f":"IF(A62=\"\",\"\",VLOOKUP(A62,[1]ItemConfig!$A:$B,2,FALSE))","v":304},{"$f":"IF(A62=\"\",\"\",VLOOKUP(A62,[1]ItemConfig!$A:$D,4,FALSE))","v":312},{"$f":"IF(A62=\"\",\"\",VLOOKUP(A62,[1]ItemConfig!$A:$C,3,FALSE))","v":"琉璃宝塔碎片"},{"$f":"IF(A62=\"\",\"\",VLOOKUP(B62,[2]語言配置表!$A:$B,2,FALSE))","v":"琉璃宝塔碎片"},{"$f":"IF(A62=\"\",\"\",VLOOKUP(C62,[2]語言配置表!$A:$B,2,FALSE))","v":"法宝5碎片描述"}]
[{"$f":"IF([1]ItemConfig!$A66=\"\",\"\",[1]ItemConfig!$A66)","v":11006},{"$f":"IF(A63=\"\",\"\",VLOOKUP(A63,[1]ItemConfig!$A:$B,2,FALSE))","v":305},{"$f":"IF(A63=\"\",\"\",VLOOKUP(A63,[1]ItemConfig!$A:$D,4,FALSE))","v":313},{"$f":"IF(A63=\"\",\"\",VLOOKUP(A63,[1]ItemConfig!$A:$C,3,FALSE))","v":"九幽镇魂瓶碎片"},{"$f":"IF(A63=\"\",\"\",VLOOKUP(B63,[2]語言配置表!$A:$B,2,FALSE))","v":"九幽镇魂瓶碎片"},{"$f":"IF(A63=\"\",\"\",VLOOKUP(C63,[2]語言配置表!$A:$B,2,FALSE))","v":"法宝6碎片描述"}]
[{"$f":"IF([1]ItemConfig!$A67=\"\",\"\",[1]ItemConfig!$A67)","v":11007},{"$f":"IF(A64=\"\",\"\",VLOOKUP(A64,[1]ItemConfig!$A:$B,2,FALSE))","v":306},{"$f":"IF(A64=\"\",\"\",VLOOKUP(A64,[1]ItemConfig!$A:$D,4,FALSE))","v":314},{"$f":"IF(A64=\"\",\"\",VLOOKUP(A64,[1]ItemConfig!$A:$C,3,FALSE))","v":"玉莲守心灯碎片"},{"$f":"IF(A64=\"\",\"\",VLOOKUP(B64,[2]語言配置表!$A:$B,2,FALSE))","v":"玉莲守心灯碎片"},{"$f":"IF(A64=\"\",\"\",VLOOKUP(C64,[2]語言配置表!$A:$B,2,FALSE))","v":"法宝7碎片描述"}]
[{"$f":"IF([1]ItemConfig!$A68=\"\",\"\",[1]ItemConfig!$A68)","v":11008},{"$f":"IF(A65=\"\",\"\",VLOOKUP(A65,[1]ItemConfig!$A:$B,2,FALSE))","v":307},{"$f":"IF(A65=\"\",\"\",VLOOKUP(A65,[1]ItemConfig!$A:$D,4,FALSE))","v":315},{"$f":"IF(A65=\"\",\"\",VLOOKUP(A65,[1]ItemConfig!$A:$C,3,FALSE))","v":"融灵塔碎片"},{"$f":"IF(A65=\"\",\"\",VLOOKUP(B65,[2]語言配置表!$A:$B,2,FALSE))","v":"融灵塔碎片"},{"$f":"IF(A65=\"\",\"\",VLOOKUP(C65,[2]語言配置表!$A:$B,2,FALSE))","v":"法宝8碎片描述"}]
[{"$f":"IF([1]ItemConfig!$A69=\"\",\"\",[1]ItemConfig!$A69)","v":11009},{"$f":"IF(A66=\"\",\"\",VLOOKUP(A66,[1]ItemConfig!$A:$B,2,FALSE))","v":1408},{"$f":"IF(A66=\"\",\"\",VLOOKUP(A66,[1]ItemConfig!$A:$D,4,FALSE))","v":1411},{"$f":"IF(A66=\"\",\"\",VLOOKUP(A66,[1]ItemConfig!$A:$C,3,FALSE))","v":"禁元珠碎片"},{"$f":"IF(A66=\"\",\"\",VLOOKUP(B66,[2]語言配置表!$A:$B,2,FALSE))","v":"禁元珠碎片"},{"$f":"IF(A66=\"\",\"\",VLOOKUP(C66,[2]語言配置表!$A:$B,2,FALSE))","v":"禁元珠碎片描述"}]
[{"$f":"IF([1]ItemConfig!$A70=\"\",\"\",[1]ItemConfig!$A70)","v":11010},{"$f":"IF(A67=\"\",\"\",VLOOKUP(A67,[1]ItemConfig!$A:$B,2,FALSE))","v":1409},{"$f":"IF(A67=\"\",\"\",VLOOKUP(A67,[1]ItemConfig!$A:$D,4,FALSE))","v":1412},{"$f":"IF(A67=\"\",\"\",VLOOKUP(A67,[1]ItemConfig!$A:$C,3,FALSE))","v":"玄龟盾碎片"},{"$f":"IF(A67=\"\",\"\",VLOOKUP(B67,[2]語言配置表!$A:$B,2,FALSE))","v":"玄龟盾碎片"},{"$f":"IF(A67=\"\",\"\",VLOOKUP(C67,[2]語言配置表!$A:$B,2,FALSE))","v":"玄龟盾碎片描述"}]
[{"$f":"IF([1]ItemConfig!$A71=\"\",\"\",[1]ItemConfig!$A71)","v":11011},{"$f":"IF(A68=\"\",\"\",VLOOKUP(A68,[1]ItemConfig!$A:$B,2,FALSE))","v":1410},{"$f":"IF(A68=\"\",\"\",VLOOKUP(A68,[1]ItemConfig!$A:$D,4,FALSE))","v":1413},{"$f":"IF(A68=\"\",\"\",VLOOKUP(A68,[1]ItemConfig!$A:$C,3,FALSE))","v":"天殇血刃剑碎片"},{"$f":"IF(A68=\"\",\"\",VLOOKUP(B68,[2]語言配置表!$A:$B,2,FALSE))","v":"天殇血刃剑碎片"},{"$f":"IF(A68=\"\",\"\",VLOOKUP(C68,[2]語言配置表!$A:$B,2,FALSE))","v":"天殇血刃剑碎片描述"}]
[{"$f":"IF([1]ItemConfig!$A72=\"\",\"\",[1]ItemConfig!$A72)","v":""},{"$f":"IF(A69=\"\",\"\",VLOOKUP(A69,[1]ItemConfig!$A:$B,2,FALSE))","v":""},{"$f":"IF(A69=\"\",\"\",VLOOKUP(A69,[1]ItemConfig!$A:$D,4,FALSE))","v":""},{"$f":"IF(A69=\"\",\"\",VLOOKUP(A69,[1]ItemConfig!$A:$C,3,FALSE))","v":""},{"$f":"IF(A69=\"\",\"\",VLOOKUP(B69,[2]語言配置表!$A:$B,2,FALSE))","v":""},{"$f":"IF(A69=\"\",\"\",VLOOKUP(C69,[2]語言配置表!$A:$B,2,FALSE))","v":""}]
[{"$f":"IF([1]ItemConfig!$A73=\"\",\"\",[1]ItemConfig!$A73)","v":12001},{"$f":"IF(A70=\"\",\"\",VLOOKUP(A70,[1]ItemConfig!$A:$B,2,FALSE))","v":1414},{"$f":"IF(A70=\"\",\"\",VLOOKUP(A70,[1]ItemConfig!$A:$D,4,FALSE))","v":1500},{"$f":"IF(A70=\"\",\"\",VLOOKUP(A70,[1]ItemConfig!$A:$C,3,FALSE))","v":"太虚幻剑经"},{"$f":"IF(A70=\"\",\"\",VLOOKUP(B70,[2]語言配置表!$A:$B,2,FALSE))","v":"太虚幻剑经"},{"$f":"IF(A70=\"\",\"\",VLOOKUP(C70,[2]語言配置表!$A:$B,2,FALSE))","v":"太虚幻剑经---功法道具描述占位"}]
[{"$f":"IF([1]ItemConfig!$A74=\"\",\"\",[1]ItemConfig!$A74)","v":12002},{"$f":"IF(A71=\"\",\"\",VLOOKUP(A71,[1]ItemConfig!$A:$B,2,FALSE))","v":1415},{"$f":"IF(A71=\"\",\"\",VLOOKUP(A71,[1]ItemConfig!$A:$D,4,FALSE))","v":1501},{"$f":"IF(A71=\"\",\"\",VLOOKUP(A71,[1]ItemConfig!$A:$C,3,FALSE))","v":"天罡剑气诀"},{"$f":"IF(A71=\"\",\"\",VLOOKUP(B71,[2]語言配置表!$A:$B,2,FALSE))","v":"天罡剑气诀"},{"$f":"IF(A71=\"\",\"\",VLOOKUP(C71,[2]語言配置表!$A:$B,2,FALSE))","v":"天罡剑气诀---功法道具描述占位"}]
[{"$f":"IF([1]ItemConfig!$A75=\"\",\"\",[1]ItemConfig!$A75)","v":12003},{"$f":"IF(A72=\"\",\"\",VLOOKUP(A72,[1]ItemConfig!$A:$B,2,FALSE))","v":1416},{"$f":"IF(A72=\"\",\"\",VLOOKUP(A72,[1]ItemConfig!$A:$D,4,FALSE))","v":1502},{"$f":"IF(A72=\"\",\"\",VLOOKUP(A72,[1]ItemConfig!$A:$C,3,FALSE))","v":"血刃金煌功"},{"$f":"IF(A72=\"\",\"\",VLOOKUP(B72,[2]語言配置表!$A:$B,2,FALSE))","v":"血刃金煌功"},{"$f":"IF(A72=\"\",\"\",VLOOKUP(C72,[2]語言配置表!$A:$B,2,FALSE))","v":"血刃金煌功---功法道具描述占位"}]
[{"$f":"IF([1]ItemConfig!$A76=\"\",\"\",[1]ItemConfig!$A76)","v":12004},{"$f":"IF(A73=\"\",\"\",VLOOKUP(A73,[1]ItemConfig!$A:$B,2,FALSE))","v":1417},{"$f":"IF(A73=\"\",\"\",VLOOKUP(A73,[1]ItemConfig!$A:$D,4,FALSE))","v":1503},{"$f":"IF(A73=\"\",\"\",VLOOKUP(A73,[1]ItemConfig!$A:$C,3,FALSE))","v":"飞刃"},{"$f":"IF(A73=\"\",\"\",VLOOKUP(B73,[2]語言配置表!$A:$B,2,FALSE))","v":"飞刃"},{"$f":"IF(A73=\"\",\"\",VLOOKUP(C73,[2]語言配置表!$A:$B,2,FALSE))","v":"飞刃---功法道具描述占位"}]
[{"$f":"IF([1]ItemConfig!$A77=\"\",\"\",[1]ItemConfig!$A77)","v":12005},{"$f":"IF(A74=\"\",\"\",VLOOKUP(A74,[1]ItemConfig!$A:$B,2,FALSE))","v":1418},{"$f":"IF(A74=\"\",\"\",VLOOKUP(A74,[1]ItemConfig!$A:$D,4,FALSE))","v":1504},{"$f":"IF(A74=\"\",\"\",VLOOKUP(A74,[1]ItemConfig!$A:$C,3,FALSE))","v":"金针"},{"$f":"IF(A74=\"\",\"\",VLOOKUP(B74,[2]語言配置表!$A:$B,2,FALSE))","v":"金针"},{"$f":"IF(A74=\"\",\"\",VLOOKUP(C74,[2]語言配置表!$A:$B,2,FALSE))","v":"金针---功法道具描述占位"}]
[{"$f":"IF([1]ItemConfig!$A78=\"\",\"\",[1]ItemConfig!$A78)","v":12006},{"$f":"IF(A75=\"\",\"\",VLOOKUP(A75,[1]ItemConfig!$A:$B,2,FALSE))","v":1419},{"$f":"IF(A75=\"\",\"\",VLOOKUP(A75,[1]ItemConfig!$A:$D,4,FALSE))","v":1505},{"$f":"IF(A75=\"\",\"\",VLOOKUP(A75,[1]ItemConfig!$A:$C,3,FALSE))","v":"碧落幽冥劲"},{"$f":"IF(A75=\"\",\"\",VLOOKUP(B75,[2]語言配置表!$A:$B,2,FALSE))","v":"碧落幽冥劲"},{"$f":"IF(A75=\"\",\"\",VLOOKUP(C75,[2]語言配置表!$A:$B,2,FALSE))","v":"碧落幽冥劲---功法道具描述占位"}]
[{"$f":"IF([1]ItemConfig!$A79=\"\",\"\",[1]ItemConfig!$A79)","v":12007},{"$f":"IF(A76=\"\",\"\",VLOOKUP(A76,[1]ItemConfig!$A:$B,2,FALSE))","v":1420},{"$f":"IF(A76=\"\",\"\",VLOOKUP(A76,[1]ItemConfig!$A:$D,4,FALSE))","v":1506},{"$f":"IF(A76=\"\",\"\",VLOOKUP(A76,[1]ItemConfig!$A:$C,3,FALSE))","v":"雾隐千流法"},{"$f":"IF(A76=\"\",\"\",VLOOKUP(B76,[2]語言配置表!$A:$B,2,FALSE))","v":"雾隐千流法"},{"$f":"IF(A76=\"\",\"\",VLOOKUP(C76,[2]語言配置表!$A:$B,2,FALSE))","v":"雾隐千流法---功法道具描述占位"}]
[{"$f":"IF([1]ItemConfig!$A80=\"\",\"\",[1]ItemConfig!$A80)","v":12008},{"$f":"IF(A77=\"\",\"\",VLOOKUP(A77,[1]ItemConfig!$A:$B,2,FALSE))","v":1421},{"$f":"IF(A77=\"\",\"\",VLOOKUP(A77,[1]ItemConfig!$A:$D,4,FALSE))","v":1507},{"$f":"IF(A77=\"\",\"\",VLOOKUP(A77,[1]ItemConfig!$A:$C,3,FALSE))","v":"功法-水3"},{"$f":"IF(A77=\"\",\"\",VLOOKUP(B77,[2]語言配置表!$A:$B,2,FALSE))","v":"功法-水3"},{"$f":"IF(A77=\"\",\"\",VLOOKUP(C77,[2]語言配置表!$A:$B,2,FALSE))","v":"功法-水3---功法道具描述占位"}]
[{"$f":"IF([1]ItemConfig!$A81=\"\",\"\",[1]ItemConfig!$A81)","v":12009},{"$f":"IF(A78=\"\",\"\",VLOOKUP(A78,[1]ItemConfig!$A:$B,2,FALSE))","v":1422},{"$f":"IF(A78=\"\",\"\",VLOOKUP(A78,[1]ItemConfig!$A:$D,4,FALSE))","v":1508},{"$f":"IF(A78=\"\",\"\",VLOOKUP(A78,[1]ItemConfig!$A:$C,3,FALSE))","v":"水球"},{"$f":"IF(A78=\"\",\"\",VLOOKUP(B78,[2]語言配置表!$A:$B,2,FALSE))","v":"水球"},{"$f":"IF(A78=\"\",\"\",VLOOKUP(C78,[2]語言配置表!$A:$B,2,FALSE))","v":"水球---功法道具描述占位"}]
[{"$f":"IF([1]ItemConfig!$A82=\"\",\"\",[1]ItemConfig!$A82)","v":12010},{"$f":"IF(A79=\"\",\"\",VLOOKUP(A79,[1]ItemConfig!$A:$B,2,FALSE))","v":1423},{"$f":"IF(A79=\"\",\"\",VLOOKUP(A79,[1]ItemConfig!$A:$D,4,FALSE))","v":1509},{"$f":"IF(A79=\"\",\"\",VLOOKUP(A79,[1]ItemConfig!$A:$C,3,FALSE))","v":"冰刀"},{"$f":"IF(A79=\"\",\"\",VLOOKUP(B79,[2]語言配置表!$A:$B,2,FALSE))","v":"冰刀"},{"$f":"IF(A79=\"\",\"\",VLOOKUP(C79,[2]語言配置表!$A:$B,2,FALSE))","v":"冰刀---功法道具描述占位"}]
[{"$f":"IF([1]ItemConfig!$A83=\"\",\"\",[1]ItemConfig!$A83)","v":12011},{"$f":"IF(A80=\"\",\"\",VLOOKUP(A80,[1]ItemConfig!$A:$B,2,FALSE))","v":1424},{"$f":"IF(A80=\"\",\"\",VLOOKUP(A80,[1]ItemConfig!$A:$D,4,FALSE))","v":1510},{"$f":"IF(A80=\"\",\"\",VLOOKUP(A80,[1]ItemConfig!$A:$C,3,FALSE))","v":"瘴影千丝术"},{"$f":"IF(A80=\"\",\"\",VLOOKUP(B80,[2]語言配置表!$A:$B,2,FALSE))","v":"瘴影千丝术"},{"$f":"IF(A80=\"\",\"\",VLOOKUP(C80,[2]語言配置表!$A:$B,2,FALSE))","v":"瘴影千丝术---功法道具描述占位"}]
[{"$f":"IF([1]ItemConfig!$A84=\"\",\"\",[1]ItemConfig!$A84)","v":12012},{"$f":"IF(A81=\"\",\"\",VLOOKUP(A81,[1]ItemConfig!$A:$B,2,FALSE))","v":1425},{"$f":"IF(A81=\"\",\"\",VLOOKUP(A81,[1]ItemConfig!$A:$D,4,FALSE))","v":1511},{"$f":"IF(A81=\"\",\"\",VLOOKUP(A81,[1]ItemConfig!$A:$C,3,FALSE))","v":"蚀骨腐血掌"},{"$f":"IF(A81=\"\",\"\",VLOOKUP(B81,[2]語言配置表!$A:$B,2,FALSE))","v":"蚀骨腐血掌"},{"$f":"IF(A81=\"\",\"\",VLOOKUP(C81,[2]語言配置表!$A:$B,2,FALSE))","v":"蚀骨腐血掌---功法道具描述占位"}]
[{"$f":"IF([1]ItemConfig!$A85=\"\",\"\",[1]ItemConfig!$A85)","v":12013},{"$f":"IF(A82=\"\",\"\",VLOOKUP(A82,[1]ItemConfig!$A:$B,2,FALSE))","v":1426},{"$f":"IF(A82=\"\",\"\",VLOOKUP(A82,[1]ItemConfig!$A:$D,4,FALSE))","v":1512},{"$f":"IF(A82=\"\",\"\",VLOOKUP(A82,[1]ItemConfig!$A:$C,3,FALSE))","v":"功法-木3"},{"$f":"IF(A82=\"\",\"\",VLOOKUP(B82,[2]語言配置表!$A:$B,2,FALSE))","v":"功法-木3"},{"$f":"IF(A82=\"\",\"\",VLOOKUP(C82,[2]語言配置表!$A:$B,2,FALSE))","v":"功法-木3---功法道具描述占位"}]
[{"$f":"IF([1]ItemConfig!$A86=\"\",\"\",[1]ItemConfig!$A86)","v":12014},{"$f":"IF(A83=\"\",\"\",VLOOKUP(A83,[1]ItemConfig!$A:$B,2,FALSE))","v":1427},{"$f":"IF(A83=\"\",\"\",VLOOKUP(A83,[1]ItemConfig!$A:$D,4,FALSE))","v":1513},{"$f":"IF(A83=\"\",\"\",VLOOKUP(A83,[1]ItemConfig!$A:$C,3,FALSE))","v":"竹刺"},{"$f":"IF(A83=\"\",\"\",VLOOKUP(B83,[2]語言配置表!$A:$B,2,FALSE))","v":"竹刺"},{"$f":"IF(A83=\"\",\"\",VLOOKUP(C83,[2]語言配置表!$A:$B,2,FALSE))","v":"竹刺---功法道具描述占位"}]
[{"$f":"IF([1]ItemConfig!$A87=\"\",\"\",[1]ItemConfig!$A87)","v":12015},{"$f":"IF(A84=\"\",\"\",VLOOKUP(A84,[1]ItemConfig!$A:$B,2,FALSE))","v":1428},{"$f":"IF(A84=\"\",\"\",VLOOKUP(A84,[1]ItemConfig!$A:$D,4,FALSE))","v":1514},{"$f":"IF(A84=\"\",\"\",VLOOKUP(A84,[1]ItemConfig!$A:$C,3,FALSE))","v":"飞叶"},{"$f":"IF(A84=\"\",\"\",VLOOKUP(B84,[2]語言配置表!$A:$B,2,FALSE))","v":"飞叶"},{"$f":"IF(A84=\"\",\"\",VLOOKUP(C84,[2]語言配置表!$A:$B,2,FALSE))","v":"飞叶---功法道具描述占位"}]
[{"$f":"IF([1]ItemConfig!$A88=\"\",\"\",[1]ItemConfig!$A88)","v":12016},{"$f":"IF(A85=\"\",\"\",VLOOKUP(A85,[1]ItemConfig!$A:$B,2,FALSE))","v":1429},{"$f":"IF(A85=\"\",\"\",VLOOKUP(A85,[1]ItemConfig!$A:$D,4,FALSE))","v":1515},{"$f":"IF(A85=\"\",\"\",VLOOKUP(A85,[1]ItemConfig!$A:$C,3,FALSE))","v":"烈焰剑"},{"$f":"IF(A85=\"\",\"\",VLOOKUP(B85,[2]語言配置表!$A:$B,2,FALSE))","v":"烈焰剑"},{"$f":"IF(A85=\"\",\"\",VLOOKUP(C85,[2]語言配置表!$A:$B,2,FALSE))","v":"烈焰剑---功法道具描述占位"}]
[{"$f":"IF([1]ItemConfig!$A89=\"\",\"\",[1]ItemConfig!$A89)","v":12017},{"$f":"IF(A86=\"\",\"\",VLOOKUP(A86,[1]ItemConfig!$A:$B,2,FALSE))","v":1430},{"$f":"IF(A86=\"\",\"\",VLOOKUP(A86,[1]ItemConfig!$A:$D,4,FALSE))","v":1516},{"$f":"IF(A86=\"\",\"\",VLOOKUP(A86,[1]ItemConfig!$A:$C,3,FALSE))","v":"赤焰龙吟功"},{"$f":"IF(A86=\"\",\"\",VLOOKUP(B86,[2]語言配置表!$A:$B,2,FALSE))","v":"赤焰龙吟功"},{"$f":"IF(A86=\"\",\"\",VLOOKUP(C86,[2]語言配置表!$A:$B,2,FALSE))","v":"赤焰龙吟功---功法道具描述占位"}]
[{"$f":"IF([1]ItemConfig!$A90=\"\",\"\",[1]ItemConfig!$A90)","v":12018},{"$f":"IF(A87=\"\",\"\",VLOOKUP(A87,[1]ItemConfig!$A:$B,2,FALSE))","v":1431},{"$f":"IF(A87=\"\",\"\",VLOOKUP(A87,[1]ItemConfig!$A:$D,4,FALSE))","v":1517},{"$f":"IF(A87=\"\",\"\",VLOOKUP(A87,[1]ItemConfig!$A:$C,3,FALSE))","v":"朱雀燎原指"},{"$f":"IF(A87=\"\",\"\",VLOOKUP(B87,[2]語言配置表!$A:$B,2,FALSE))","v":"朱雀燎原指"},{"$f":"IF(A87=\"\",\"\",VLOOKUP(C87,[2]語言配置表!$A:$B,2,FALSE))","v":"朱雀燎原指---功法道具描述占位"}]
[{"$f":"IF([1]ItemConfig!$A91=\"\",\"\",[1]ItemConfig!$A91)","v":12019},{"$f":"IF(A88=\"\",\"\",VLOOKUP(A88,[1]ItemConfig!$A:$B,2,FALSE))","v":1432},{"$f":"IF(A88=\"\",\"\",VLOOKUP(A88,[1]ItemConfig!$A:$D,4,FALSE))","v":1518},{"$f":"IF(A88=\"\",\"\",VLOOKUP(A88,[1]ItemConfig!$A:$C,3,FALSE))","v":"火球"},{"$f":"IF(A88=\"\",\"\",VLOOKUP(B88,[2]語言配置表!$A:$B,2,FALSE))","v":"火球"},{"$f":"IF(A88=\"\",\"\",VLOOKUP(C88,[2]語言配置表!$A:$B,2,FALSE))","v":"火球---功法道具描述占位"}]
[{"$f":"IF([1]ItemConfig!$A92=\"\",\"\",[1]ItemConfig!$A92)","v":12020},{"$f":"IF(A89=\"\",\"\",VLOOKUP(A89,[1]ItemConfig!$A:$B,2,FALSE))","v":1433},{"$f":"IF(A89=\"\",\"\",VLOOKUP(A89,[1]ItemConfig!$A:$D,4,FALSE))","v":1519},{"$f":"IF(A89=\"\",\"\",VLOOKUP(A89,[1]ItemConfig!$A:$C,3,FALSE))","v":"火刀"},{"$f":"IF(A89=\"\",\"\",VLOOKUP(B89,[2]語言配置表!$A:$B,2,FALSE))","v":"火刀"},{"$f":"IF(A89=\"\",\"\",VLOOKUP(C89,[2]語言配置表!$A:$B,2,FALSE))","v":"火刀---功法道具描述占位"}]
[{"$f":"IF([1]ItemConfig!$A93=\"\",\"\",[1]ItemConfig!$A93)","v":12021},{"$f":"IF(A90=\"\",\"\",VLOOKUP(A90,[1]ItemConfig!$A:$B,2,FALSE))","v":1434},{"$f":"IF(A90=\"\",\"\",VLOOKUP(A90,[1]ItemConfig!$A:$D,4,FALSE))","v":1520},{"$f":"IF(A90=\"\",\"\",VLOOKUP(A90,[1]ItemConfig!$A:$C,3,FALSE))","v":"黄尘灭魂刺"},{"$f":"IF(A90=\"\",\"\",VLOOKUP(B90,[2]語言配置表!$A:$B,2,FALSE))","v":"黄尘灭魂刺"},{"$f":"IF(A90=\"\",\"\",VLOOKUP(C90,[2]語言配置表!$A:$B,2,FALSE))","v":"黄尘灭魂刺---功法道具描述占位"}]
[{"$f":"IF([1]ItemConfig!$A94=\"\",\"\",[1]ItemConfig!$A94)","v":12022},{"$f":"IF(A91=\"\",\"\",VLOOKUP(A91,[1]ItemConfig!$A:$B,2,FALSE))","v":1435},{"$f":"IF(A91=\"\",\"\",VLOOKUP(A91,[1]ItemConfig!$A:$D,4,FALSE))","v":1521},{"$f":"IF(A91=\"\",\"\",VLOOKUP(A91,[1]ItemConfig!$A:$C,3,FALSE))","v":"地裂屠龙斩"},{"$f":"IF(A91=\"\",\"\",VLOOKUP(B91,[2]語言配置表!$A:$B,2,FALSE))","v":"地裂屠龙斩"},{"$f":"IF(A91=\"\",\"\",VLOOKUP(C91,[2]語言配置表!$A:$B,2,FALSE))","v":"地裂屠龙斩---功法道具描述占位"}]
[{"$f":"IF([1]ItemConfig!$A95=\"\",\"\",[1]ItemConfig!$A95)","v":12023},{"$f":"IF(A92=\"\",\"\",VLOOKUP(A92,[1]ItemConfig!$A:$B,2,FALSE))","v":1436},{"$f":"IF(A92=\"\",\"\",VLOOKUP(A92,[1]ItemConfig!$A:$D,4,FALSE))","v":1522},{"$f":"IF(A92=\"\",\"\",VLOOKUP(A92,[1]ItemConfig!$A:$C,3,FALSE))","v":"功法-土3"},{"$f":"IF(A92=\"\",\"\",VLOOKUP(B92,[2]語言配置表!$A:$B,2,FALSE))","v":"功法-土3"},{"$f":"IF(A92=\"\",\"\",VLOOKUP(C92,[2]語言配置表!$A:$B,2,FALSE))","v":"功法-土3---功法道具描述占位"}]
[{"$f":"IF([1]ItemConfig!$A96=\"\",\"\",[1]ItemConfig!$A96)","v":12024},{"$f":"IF(A93=\"\",\"\",VLOOKUP(A93,[1]ItemConfig!$A:$B,2,FALSE))","v":1437},{"$f":"IF(A93=\"\",\"\",VLOOKUP(A93,[1]ItemConfig!$A:$D,4,FALSE))","v":1523},{"$f":"IF(A93=\"\",\"\",VLOOKUP(A93,[1]ItemConfig!$A:$C,3,FALSE))","v":"落石"},{"$f":"IF(A93=\"\",\"\",VLOOKUP(B93,[2]語言配置表!$A:$B,2,FALSE))","v":"落石"},{"$f":"IF(A93=\"\",\"\",VLOOKUP(C93,[2]語言配置表!$A:$B,2,FALSE))","v":"落石---功法道具描述占位"}]
[{"$f":"IF([1]ItemConfig!$A97=\"\",\"\",[1]ItemConfig!$A97)","v":12025},{"$f":"IF(A94=\"\",\"\",VLOOKUP(A94,[1]ItemConfig!$A:$B,2,FALSE))","v":1438},{"$f":"IF(A94=\"\",\"\",VLOOKUP(A94,[1]ItemConfig!$A:$D,4,FALSE))","v":1524},{"$f":"IF(A94=\"\",\"\",VLOOKUP(A94,[1]ItemConfig!$A:$C,3,FALSE))","v":"小石头"},{"$f":"IF(A94=\"\",\"\",VLOOKUP(B94,[2]語言配置表!$A:$B,2,FALSE))","v":"小石头"},{"$f":"IF(A94=\"\",\"\",VLOOKUP(C94,[2]語言配置表!$A:$B,2,FALSE))","v":"小石头---功法道具描述占位"}]
[{"$f":"IF([1]ItemConfig!$A98=\"\",\"\",[1]ItemConfig!$A98)","v":""},{"$f":"IF(A95=\"\",\"\",VLOOKUP(A95,[1]ItemConfig!$A:$B,2,FALSE))","v":""},{"$f":"IF(A95=\"\",\"\",VLOOKUP(A95,[1]ItemConfig!$A:$D,4,FALSE))","v":""},{"$f":"IF(A95=\"\",\"\",VLOOKUP(A95,[1]ItemConfig!$A:$C,3,FALSE))","v":""},{"$f":"IF(A95=\"\",\"\",VLOOKUP(B95,[2]語言配置表!$A:$B,2,FALSE))","v":""},{"$f":"IF(A95=\"\",\"\",VLOOKUP(C95,[2]語言配置表!$A:$B,2,FALSE))","v":""}]
[{"$f":"IF([1]ItemConfig!$A99=\"\",\"\",[1]ItemConfig!$A99)","v":12501},{"$f":"IF(A96=\"\",\"\",VLOOKUP(A96,[1]ItemConfig!$A:$B,2,FALSE))","v":1800},{"$f":"IF(A96=\"\",\"\",VLOOKUP(A96,[1]ItemConfig!$A:$D,4,FALSE))","v":1850},{"$f":"IF(A96=\"\",\"\",VLOOKUP(A96,[1]ItemConfig!$A:$C,3,FALSE))","v":"天衍星辰诀"},{"$f":"IF(A96=\"\",\"\",VLOOKUP(B96,[2]語言配置表!$A:$B,2,FALSE))","v":"天衍星辰诀"},{"$f":"IF(A96=\"\",\"\",VLOOKUP(C96,[2]語言配置表!$A:$B,2,FALSE))","v":"使用后获得被动功法-天衍星辰诀"}]
[{"$f":"IF([1]ItemConfig!$A100=\"\",\"\",[1]ItemConfig!$A100)","v":12502},{"$f":"IF(A97=\"\",\"\",VLOOKUP(A97,[1]ItemConfig!$A:$B,2,FALSE))","v":1801},{"$f":"IF(A97=\"\",\"\",VLOOKUP(A97,[1]ItemConfig!$A:$D,4,FALSE))","v":1851},{"$f":"IF(A97=\"\",\"\",VLOOKUP(A97,[1]ItemConfig!$A:$C,3,FALSE))","v":"法宝秘籍"},{"$f":"IF(A97=\"\",\"\",VLOOKUP(B97,[2]語言配置表!$A:$B,2,FALSE))","v":"法宝秘籍"},{"$f":"IF(A97=\"\",\"\",VLOOKUP(C97,[2]語言配置表!$A:$B,2,FALSE))","v":"使用后获得被动功法-法宝秘籍"}]
[{"$f":"IF([1]ItemConfig!$A101=\"\",\"\",[1]ItemConfig!$A101)","v":12503},{"$f":"IF(A98=\"\",\"\",VLOOKUP(A98,[1]ItemConfig!$A:$B,2,FALSE))","v":1802},{"$f":"IF(A98=\"\",\"\",VLOOKUP(A98,[1]ItemConfig!$A:$D,4,FALSE))","v":1852},{"$f":"IF(A98=\"\",\"\",VLOOKUP(A98,[1]ItemConfig!$A:$C,3,FALSE))","v":"崩脉决"},{"$f":"IF(A98=\"\",\"\",VLOOKUP(B98,[2]語言配置表!$A:$B,2,FALSE))","v":"崩脉决"},{"$f":"IF(A98=\"\",\"\",VLOOKUP(C98,[2]語言配置表!$A:$B,2,FALSE))","v":"使用后获得被动功法-崩脉决"}]
[{"$f":"IF([1]ItemConfig!$A102=\"\",\"\",[1]ItemConfig!$A102)","v":12504},{"$f":"IF(A99=\"\",\"\",VLOOKUP(A99,[1]ItemConfig!$A:$B,2,FALSE))","v":1803},{"$f":"IF(A99=\"\",\"\",VLOOKUP(A99,[1]ItemConfig!$A:$D,4,FALSE))","v":1853},{"$f":"IF(A99=\"\",\"\",VLOOKUP(A99,[1]ItemConfig!$A:$C,3,FALSE))","v":"两仪决"},{"$f":"IF(A99=\"\",\"\",VLOOKUP(B99,[2]語言配置表!$A:$B,2,FALSE))","v":"两仪决"},{"$f":"IF(A99=\"\",\"\",VLOOKUP(C99,[2]語言配置表!$A:$B,2,FALSE))","v":"使用后获得被动功法-两仪决"}]
[{"$f":"IF([1]ItemConfig!$A103=\"\",\"\",[1]ItemConfig!$A103)","v":12505},{"$f":"IF(A100=\"\",\"\",VLOOKUP(A100,[1]ItemConfig!$A:$B,2,FALSE))","v":1804},{"$f":"IF(A100=\"\",\"\",VLOOKUP(A100,[1]ItemConfig!$A:$D,4,FALSE))","v":1854},{"$f":"IF(A100=\"\",\"\",VLOOKUP(A100,[1]ItemConfig!$A:$C,3,FALSE))","v":"火焰决"},{"$f":"IF(A100=\"\",\"\",VLOOKUP(B100,[2]語言配置表!$A:$B,2,FALSE))","v":"火焰决"},{"$f":"IF(A100=\"\",\"\",VLOOKUP(C100,[2]語言配置表!$A:$B,2,FALSE))","v":"使用后获得被动功法-火焰决"}]
[{"$f":"IF([1]ItemConfig!$A104=\"\",\"\",[1]ItemConfig!$A104)","v":12506},{"$f":"IF(A101=\"\",\"\",VLOOKUP(A101,[1]ItemConfig!$A:$B,2,FALSE))","v":1805},{"$f":"IF(A101=\"\",\"\",VLOOKUP(A101,[1]ItemConfig!$A:$D,4,FALSE))","v":1855},{"$f":"IF(A101=\"\",\"\",VLOOKUP(A101,[1]ItemConfig!$A:$C,3,FALSE))","v":"乾坤巨灵诀"},{"$f":"IF(A101=\"\",\"\",VLOOKUP(B101,[2]語言配置表!$A:$B,2,FALSE))","v":"乾坤巨灵诀"},{"$f":"IF(A101=\"\",\"\",VLOOKUP(C101,[2]語言配置表!$A:$B,2,FALSE))","v":"使用后获得被动功法-乾坤巨灵诀"}]
[{"$f":"IF([1]ItemConfig!$A105=\"\",\"\",[1]ItemConfig!$A105)","v":12507},{"$f":"IF(A102=\"\",\"\",VLOOKUP(A102,[1]ItemConfig!$A:$B,2,FALSE))","v":1806},{"$f":"IF(A102=\"\",\"\",VLOOKUP(A102,[1]ItemConfig!$A:$D,4,FALSE))","v":1856},{"$f":"IF(A102=\"\",\"\",VLOOKUP(A102,[1]ItemConfig!$A:$C,3,FALSE))","v":"极速齿轮"},{"$f":"IF(A102=\"\",\"\",VLOOKUP(B102,[2]語言配置表!$A:$B,2,FALSE))","v":"极速齿轮"},{"$f":"IF(A102=\"\",\"\",VLOOKUP(C102,[2]語言配置表!$A:$B,2,FALSE))","v":"使用后获得被动功法-极速齿轮"}]
[{"$f":"IF([1]ItemConfig!$A106=\"\",\"\",[1]ItemConfig!$A106)","v":12508},{"$f":"IF(A103=\"\",\"\",VLOOKUP(A103,[1]ItemConfig!$A:$B,2,FALSE))","v":1807},{"$f":"IF(A103=\"\",\"\",VLOOKUP(A103,[1]ItemConfig!$A:$D,4,FALSE))","v":1857},{"$f":"IF(A103=\"\",\"\",VLOOKUP(A103,[1]ItemConfig!$A:$C,3,FALSE))","v":"太虚剑意"},{"$f":"IF(A103=\"\",\"\",VLOOKUP(B103,[2]語言配置表!$A:$B,2,FALSE))","v":"太虚剑意"},{"$f":"IF(A103=\"\",\"\",VLOOKUP(C103,[2]語言配置表!$A:$B,2,FALSE))","v":"使用后获得被动功法-太虚剑意"}]
[{"$f":"IF([1]ItemConfig!$A107=\"\",\"\",[1]ItemConfig!$A107)","v":12509},{"$f":"IF(A104=\"\",\"\",VLOOKUP(A104,[1]ItemConfig!$A:$B,2,FALSE))","v":1808},{"$f":"IF(A104=\"\",\"\",VLOOKUP(A104,[1]ItemConfig!$A:$D,4,FALSE))","v":1858},{"$f":"IF(A104=\"\",\"\",VLOOKUP(A104,[1]ItemConfig!$A:$C,3,FALSE))","v":"青莲净体诀"},{"$f":"IF(A104=\"\",\"\",VLOOKUP(B104,[2]語言配置表!$A:$B,2,FALSE))","v":"青莲净体诀"},{"$f":"IF(A104=\"\",\"\",VLOOKUP(C104,[2]語言配置表!$A:$B,2,FALSE))","v":"使用后获得被动功法-青莲净体诀"}]
[{"$f":"IF([1]ItemConfig!$A108=\"\",\"\",[1]ItemConfig!$A108)","v":12510},{"$f":"IF(A105=\"\",\"\",VLOOKUP(A105,[1]ItemConfig!$A:$B,2,FALSE))","v":1809},{"$f":"IF(A105=\"\",\"\",VLOOKUP(A105,[1]ItemConfig!$A:$D,4,FALSE))","v":1859},{"$f":"IF(A105=\"\",\"\",VLOOKUP(A105,[1]ItemConfig!$A:$C,3,FALSE))","v":"碧霄回春术"},{"$f":"IF(A105=\"\",\"\",VLOOKUP(B105,[2]語言配置表!$A:$B,2,FALSE))","v":"碧霄回春术"},{"$f":"IF(A105=\"\",\"\",VLOOKUP(C105,[2]語言配置表!$A:$B,2,FALSE))","v":"使用后获得被动功法-碧霄回春术"}]
[{"$f":"IF([1]ItemConfig!$A109=\"\",\"\",[1]ItemConfig!$A109)","v":12511},{"$f":"IF(A106=\"\",\"\",VLOOKUP(A106,[1]ItemConfig!$A:$B,2,FALSE))","v":0},{"$f":"IF(A106=\"\",\"\",VLOOKUP(A106,[1]ItemConfig!$A:$D,4,FALSE))","v":0},{"$f":"IF(A106=\"\",\"\",VLOOKUP(A106,[1]ItemConfig!$A:$C,3,FALSE))","v":"血祭神通"},{"$f":"IF(A106=\"\",\"\",VLOOKUP(B106,[2]語言配置表!$A:$B,2,FALSE))","v":{"$error":"#N/A"}},{"$f":"IF(A106=\"\",\"\",VLOOKUP(C106,[2]語言配置表!$A:$B,2,FALSE))","v":{"$error":"#N/A"}}]
[{"$f":"IF([1]ItemConfig!$A110=\"\",\"\",[1]ItemConfig!$A110)","v":12512},{"$f":"IF(A107=\"\",\"\",VLOOKUP(A107,[1]ItemConfig!$A:$B,2,FALSE))","v":0},{"$f":"IF(A107=\"\",\"\",VLOOKUP(A107,[1]ItemConfig!$A:$D,4,FALSE))","v":0},{"$f":"IF(A107=\"\",\"\",VLOOKUP(A107,[1]ItemConfig!$A:$C,3,FALSE))","v":"金煞决"},{"$f":"IF(A107=\"\",\"\",VLOOKUP(B107,[2]語言配置表!$A:$B,2,FALSE))","v":{"$error":"#N/A"}},{"$f":"IF(A107=\"\",\"\",VLOOKUP(C107,[2]語言配置表!$A:$B,2,FALSE))","v":{"$error":"#N/A"}}]
[{"$f":"IF([1]ItemConfig!$A111=\"\",\"\",[1]ItemConfig!$A111)","v":12513},{"$f":"IF(A108=\"\",\"\",VLOOKUP(A108,[1]ItemConfig!$A:$B,2,FALSE))","v":0},{"$f":"IF(A108=\"\",\"\",VLOOKUP(A108,[1]ItemConfig!$A:$D,4,FALSE))","v":0},{"$f":"IF(A108=\"\",\"\",VLOOKUP(A108,[1]ItemConfig!$A:$C,3,FALSE))","v":"毒瘴领域"},{"$f":"IF(A108=\"\",\"\",VLOOKUP(B108,[2]語言配置表!$A:$B,2,FALSE))","v":{"$error":"#N/A"}},{"$f":"IF(A108=\"\",\"\",VLOOKUP(C108,[2]語言配置表!$A:$B,2,FALSE))","v":{"$error":"#N/A"}}]
[{"$f":"IF([1]ItemConfig!$A112=\"\",\"\",[1]ItemConfig!$A112)","v":12514},{"$f":"IF(A109=\"\",\"\",VLOOKUP(A109,[1]ItemConfig!$A:$B,2,FALSE))","v":0},{"$f":"IF(A109=\"\",\"\",VLOOKUP(A109,[1]ItemConfig!$A:$D,4,FALSE))","v":0},{"$f":"IF(A109=\"\",\"\",VLOOKUP(A109,[1]ItemConfig!$A:$C,3,FALSE))","v":"毒爆"},{"$f":"IF(A109=\"\",\"\",VLOOKUP(B109,[2]語言配置表!$A:$B,2,FALSE))","v":{"$error":"#N/A"}},{"$f":"IF(A109=\"\",\"\",VLOOKUP(C109,[2]語言配置表!$A:$B,2,FALSE))","v":{"$error":"#N/A"}}]
[{"$f":"IF([1]ItemConfig!$A113=\"\",\"\",[1]ItemConfig!$A113)","v":12515},{"$f":"IF(A110=\"\",\"\",VLOOKUP(A110,[1]ItemConfig!$A:$B,2,FALSE))","v":0},{"$f":"IF(A110=\"\",\"\",VLOOKUP(A110,[1]ItemConfig!$A:$D,4,FALSE))","v":0},{"$f":"IF(A110=\"\",\"\",VLOOKUP(A110,[1]ItemConfig!$A:$C,3,FALSE))","v":"异常转移"},{"$f":"IF(A110=\"\",\"\",VLOOKUP(B110,[2]語言配置表!$A:$B,2,FALSE))","v":{"$error":"#N/A"}},{"$f":"IF(A110=\"\",\"\",VLOOKUP(C110,[2]語言配置表!$A:$B,2,FALSE))","v":{"$error":"#N/A"}}]
[{"$f":"IF([1]ItemConfig!$A114=\"\",\"\",[1]ItemConfig!$A114)","v":12516},{"$f":"IF(A111=\"\",\"\",VLOOKUP(A111,[1]ItemConfig!$A:$B,2,FALSE))","v":0},{"$f":"IF(A111=\"\",\"\",VLOOKUP(A111,[1]ItemConfig!$A:$D,4,FALSE))","v":0},{"$f":"IF(A111=\"\",\"\",VLOOKUP(A111,[1]ItemConfig!$A:$C,3,FALSE))","v":"阴水"},{"$f":"IF(A111=\"\",\"\",VLOOKUP(B111,[2]語言配置表!$A:$B,2,FALSE))","v":{"$error":"#N/A"}},{"$f":"IF(A111=\"\",\"\",VLOOKUP(C111,[2]語言配置表!$A:$B,2,FALSE))","v":{"$error":"#N/A"}}]
[{"$f":"IF([1]ItemConfig!$A115=\"\",\"\",[1]ItemConfig!$A115)","v":12517},{"$f":"IF(A112=\"\",\"\",VLOOKUP(A112,[1]ItemConfig!$A:$B,2,FALSE))","v":0},{"$f":"IF(A112=\"\",\"\",VLOOKUP(A112,[1]ItemConfig!$A:$D,4,FALSE))","v":0},{"$f":"IF(A112=\"\",\"\",VLOOKUP(A112,[1]ItemConfig!$A:$C,3,FALSE))","v":"灵油"},{"$f":"IF(A112=\"\",\"\",VLOOKUP(B112,[2]語言配置表!$A:$B,2,FALSE))","v":{"$error":"#N/A"}},{"$f":"IF(A112=\"\",\"\",VLOOKUP(C112,[2]語言配置表!$A:$B,2,FALSE))","v":{"$error":"#N/A"}}]
[{"$f":"IF([1]ItemConfig!$A116=\"\",\"\",[1]ItemConfig!$A116)","v":12518},{"$f":"IF(A113=\"\",\"\",VLOOKUP(A113,[1]ItemConfig!$A:$B,2,FALSE))","v":0},{"$f":"IF(A113=\"\",\"\",VLOOKUP(A113,[1]ItemConfig!$A:$D,4,FALSE))","v":0},{"$f":"IF(A113=\"\",\"\",VLOOKUP(A113,[1]ItemConfig!$A:$C,3,FALSE))","v":"厚土护体"},{"$f":"IF(A113=\"\",\"\",VLOOKUP(B113,[2]語言配置表!$A:$B,2,FALSE))","v":{"$error":"#N/A"}},{"$f":"IF(A113=\"\",\"\",VLOOKUP(C113,[2]語言配置表!$A:$B,2,FALSE))","v":{"$error":"#N/A"}}]
[{"$f":"IF([1]ItemConfig!$A117=\"\",\"\",[1]ItemConfig!$A117)","v":12519},{"$f":"IF(A114=\"\",\"\",VLOOKUP(A114,[1]ItemConfig!$A:$B,2,FALSE))","v":0},{"$f":"IF(A114=\"\",\"\",VLOOKUP(A114,[1]ItemConfig!$A:$D,4,FALSE))","v":0},{"$f":"IF(A114=\"\",\"\",VLOOKUP(A114,[1]ItemConfig!$A:$C,3,FALSE))","v":"金沙"},{"$f":"IF(A114=\"\",\"\",VLOOKUP(B114,[2]語言配置表!$A:$B,2,FALSE))","v":{"$error":"#N/A"}},{"$f":"IF(A114=\"\",\"\",VLOOKUP(C114,[2]語言配置表!$A:$B,2,FALSE))","v":{"$error":"#N/A"}}]
[{"$f":"IF([1]ItemConfig!$A118=\"\",\"\",[1]ItemConfig!$A118)","v":""},{"$f":"IF(A115=\"\",\"\",VLOOKUP(A115,[1]ItemConfig!$A:$B,2,FALSE))","v":""},{"$f":"IF(A115=\"\",\"\",VLOOKUP(A115,[1]ItemConfig!$A:$D,4,FALSE))","v":""},{"$f":"IF(A115=\"\",\"\",VLOOKUP(A115,[1]ItemConfig!$A:$C,3,FALSE))","v":""},{"$f":"IF(A115=\"\",\"\",VLOOKUP(B115,[2]語言配置表!$A:$B,2,FALSE))","v":""},{"$f":"IF(A115=\"\",\"\",VLOOKUP(C115,[2]語言配置表!$A:$B,2,FALSE))","v":""}]
[{"$f":"IF([1]ItemConfig!$A119=\"\",\"\",[1]ItemConfig!$A119)","v":13001},{"$f":"IF(A116=\"\",\"\",VLOOKUP(A116,[1]ItemConfig!$A:$B,2,FALSE))","v":1600},{"$f":"IF(A116=\"\",\"\",VLOOKUP(A116,[1]ItemConfig!$A:$D,4,FALSE))","v":1700},{"$f":"IF(A116=\"\",\"\",VLOOKUP(A116,[1]ItemConfig!$A:$C,3,FALSE))","v":"太虚幻剑经碎片"},{"$f":"IF(A116=\"\",\"\",VLOOKUP(B116,[2]語言配置表!$A:$B,2,FALSE))","v":"太虚幻剑经碎片"},{"$f":"IF(A116=\"\",\"\",VLOOKUP(C116,[2]語言配置表!$A:$B,2,FALSE))","v":"用于功法-太虚幻剑经-的升星"}]
[{"$f":"IF([1]ItemConfig!$A120=\"\",\"\",[1]ItemConfig!$A120)","v":13002},{"$f":"IF(A117=\"\",\"\",VLOOKUP(A117,[1]ItemConfig!$A:$B,2,FALSE))","v":1601},{"$f":"IF(A117=\"\",\"\",VLOOKUP(A117,[1]ItemConfig!$A:$D,4,FALSE))","v":1701},{"$f":"IF(A117=\"\",\"\",VLOOKUP(A117,[1]ItemConfig!$A:$C,3,FALSE))","v":"天罡剑气诀碎片"},{"$f":"IF(A117=\"\",\"\",VLOOKUP(B117,[2]語言配置表!$A:$B,2,FALSE))","v":"天罡剑气诀碎片"},{"$f":"IF(A117=\"\",\"\",VLOOKUP(C117,[2]語言配置表!$A:$B,2,FALSE))","v":"用于功法-天罡剑气诀-的升星"}]
[{"$f":"IF([1]ItemConfig!$A121=\"\",\"\",[1]ItemConfig!$A121)","v":13003},{"$f":"IF(A118=\"\",\"\",VLOOKUP(A118,[1]ItemConfig!$A:$B,2,FALSE))","v":1602},{"$f":"IF(A118=\"\",\"\",VLOOKUP(A118,[1]ItemConfig!$A:$D,4,FALSE))","v":1702},{"$f":"IF(A118=\"\",\"\",VLOOKUP(A118,[1]ItemConfig!$A:$C,3,FALSE))","v":"血刃金煌功碎片"},{"$f":"IF(A118=\"\",\"\",VLOOKUP(B118,[2]語言配置表!$A:$B,2,FALSE))","v":"血刃金煌功碎片"},{"$f":"IF(A118=\"\",\"\",VLOOKUP(C118,[2]語言配置表!$A:$B,2,FALSE))","v":"用于功法-血刃金煌功-的升星"}]
[{"$f":"IF([1]ItemConfig!$A122=\"\",\"\",[1]ItemConfig!$A122)","v":13004},{"$f":"IF(A119=\"\",\"\",VLOOKUP(A119,[1]ItemConfig!$A:$B,2,FALSE))","v":1603},{"$f":"IF(A119=\"\",\"\",VLOOKUP(A119,[1]ItemConfig!$A:$D,4,FALSE))","v":1703},{"$f":"IF(A119=\"\",\"\",VLOOKUP(A119,[1]ItemConfig!$A:$C,3,FALSE))","v":"飞刃碎片"},{"$f":"IF(A119=\"\",\"\",VLOOKUP(B119,[2]語言配置表!$A:$B,2,FALSE))","v":"飞刃碎片"},{"$f":"IF(A119=\"\",\"\",VLOOKUP(C119,[2]語言配置表!$A:$B,2,FALSE))","v":"用于功法-飞刃-的升星"}]
[{"$f":"IF([1]ItemConfig!$A123=\"\",\"\",[1]ItemConfig!$A123)","v":13005},{"$f":"IF(A120=\"\",\"\",VLOOKUP(A120,[1]ItemConfig!$A:$B,2,FALSE))","v":1604},{"$f":"IF(A120=\"\",\"\",VLOOKUP(A120,[1]ItemConfig!$A:$D,4,FALSE))","v":1704},{"$f":"IF(A120=\"\",\"\",VLOOKUP(A120,[1]ItemConfig!$A:$C,3,FALSE))","v":"金针碎片"},{"$f":"IF(A120=\"\",\"\",VLOOKUP(B120,[2]語言配置表!$A:$B,2,FALSE))","v":"金针碎片"},{"$f":"IF(A120=\"\",\"\",VLOOKUP(C120,[2]語言配置表!$A:$B,2,FALSE))","v":"用于功法-金针-的升星"}]
[{"$f":"IF([1]ItemConfig!$A124=\"\",\"\",[1]ItemConfig!$A124)","v":13006},{"$f":"IF(A121=\"\",\"\",VLOOKUP(A121,[1]ItemConfig!$A:$B,2,FALSE))","v":1605},{"$f":"IF(A121=\"\",\"\",VLOOKUP(A121,[1]ItemConfig!$A:$D,4,FALSE))","v":1705},{"$f":"IF(A121=\"\",\"\",VLOOKUP(A121,[1]ItemConfig!$A:$C,3,FALSE))","v":"碧落幽冥劲碎片"},{"$f":"IF(A121=\"\",\"\",VLOOKUP(B121,[2]語言配置表!$A:$B,2,FALSE))","v":"碧落幽冥劲碎片"},{"$f":"IF(A121=\"\",\"\",VLOOKUP(C121,[2]語言配置表!$A:$B,2,FALSE))","v":"用于功法-碧落幽冥劲-的升星"}]
[{"$f":"IF([1]ItemConfig!$A125=\"\",\"\",[1]ItemConfig!$A125)","v":13007},{"$f":"IF(A122=\"\",\"\",VLOOKUP(A122,[1]ItemConfig!$A:$B,2,FALSE))","v":1606},{"$f":"IF(A122=\"\",\"\",VLOOKUP(A122,[1]ItemConfig!$A:$D,4,FALSE))","v":1706},{"$f":"IF(A122=\"\",\"\",VLOOKUP(A122,[1]ItemConfig!$A:$C,3,FALSE))","v":"雾隐千流法碎片"},{"$f":"IF(A122=\"\",\"\",VLOOKUP(B122,[2]語言配置表!$A:$B,2,FALSE))","v":"雾隐千流法碎片"},{"$f":"IF(A122=\"\",\"\",VLOOKUP(C122,[2]語言配置表!$A:$B,2,FALSE))","v":"用于功法-雾隐千流法-的升星"}]
[{"$f":"IF([1]ItemConfig!$A126=\"\",\"\",[1]ItemConfig!$A126)","v":13008},{"$f":"IF(A123=\"\",\"\",VLOOKUP(A123,[1]ItemConfig!$A:$B,2,FALSE))","v":1607},{"$f":"IF(A123=\"\",\"\",VLOOKUP(A123,[1]ItemConfig!$A:$D,4,FALSE))","v":1707},{"$f":"IF(A123=\"\",\"\",VLOOKUP(A123,[1]ItemConfig!$A:$C,3,FALSE))","v":"功法-水3碎片"},{"$f":"IF(A123=\"\",\"\",VLOOKUP(B123,[2]語言配置表!$A:$B,2,FALSE))","v":"功法-水3碎片"},{"$f":"IF(A123=\"\",\"\",VLOOKUP(C123,[2]語言配置表!$A:$B,2,FALSE))","v":"用于功法-功法-水3-的升星"}]
[{"$f":"IF([1]ItemConfig!$A127=\"\",\"\",[1]ItemConfig!$A127)","v":13009},{"$f":"IF(A124=\"\",\"\",VLOOKUP(A124,[1]ItemConfig!$A:$B,2,FALSE))","v":1608},{"$f":"IF(A124=\"\",\"\",VLOOKUP(A124,[1]ItemConfig!$A:$D,4,FALSE))","v":1708},{"$f":"IF(A124=\"\",\"\",VLOOKUP(A124,[1]ItemConfig!$A:$C,3,FALSE))","v":"水球碎片"},{"$f":"IF(A124=\"\",\"\",VLOOKUP(B124,[2]語言配置表!$A:$B,2,FALSE))","v":"水球碎片"},{"$f":"IF(A124=\"\",\"\",VLOOKUP(C124,[2]語言配置表!$A:$B,2,FALSE))","v":"用于功法-水球-的升星"}]
[{"$f":"IF([1]ItemConfig!$A128=\"\",\"\",[1]ItemConfig!$A128)","v":13010},{"$f":"IF(A125=\"\",\"\",VLOOKUP(A125,[1]ItemConfig!$A:$B,2,FALSE))","v":1609},{"$f":"IF(A125=\"\",\"\",VLOOKUP(A125,[1]ItemConfig!$A:$D,4,FALSE))","v":1709},{"$f":"IF(A125=\"\",\"\",VLOOKUP(A125,[1]ItemConfig!$A:$C,3,FALSE))","v":"冰刀碎片"},{"$f":"IF(A125=\"\",\"\",VLOOKUP(B125,[2]語言配置表!$A:$B,2,FALSE))","v":"冰刀碎片"},{"$f":"IF(A125=\"\",\"\",VLOOKUP(C125,[2]語言配置表!$A:$B,2,FALSE))","v":"用于功法-冰刀-的升星"}]
[{"$f":"IF([1]ItemConfig!$A129=\"\",\"\",[1]ItemConfig!$A129)","v":13011},{"$f":"IF(A126=\"\",\"\",VLOOKUP(A126,[1]ItemConfig!$A:$B,2,FALSE))","v":1610},{"$f":"IF(A126=\"\",\"\",VLOOKUP(A126,[1]ItemConfig!$A:$D,4,FALSE))","v":1710},{"$f":"IF(A126=\"\",\"\",VLOOKUP(A126,[1]ItemConfig!$A:$C,3,FALSE))","v":"瘴影千丝术碎片"},{"$f":"IF(A126=\"\",\"\",VLOOKUP(B126,[2]語言配置表!$A:$B,2,FALSE))","v":"瘴影千丝术碎片"},{"$f":"IF(A126=\"\",\"\",VLOOKUP(C126,[2]語言配置表!$A:$B,2,FALSE))","v":"用于功法-瘴影千丝术-的升星"}]
[{"$f":"IF([1]ItemConfig!$A130=\"\",\"\",[1]ItemConfig!$A130)","v":13012},{"$f":"IF(A127=\"\",\"\",VLOOKUP(A127,[1]ItemConfig!$A:$B,2,FALSE))","v":1611},{"$f":"IF(A127=\"\",\"\",VLOOKUP(A127,[1]ItemConfig!$A:$D,4,FALSE))","v":1711},{"$f":"IF(A127=\"\",\"\",VLOOKUP(A127,[1]ItemConfig!$A:$C,3,FALSE))","v":"蚀骨腐血掌碎片"},{"$f":"IF(A127=\"\",\"\",VLOOKUP(B127,[2]語言配置表!$A:$B,2,FALSE))","v":"蚀骨腐血掌碎片"},{"$f":"IF(A127=\"\",\"\",VLOOKUP(C127,[2]語言配置表!$A:$B,2,FALSE))","v":"用于功法-蚀骨腐血掌-的升星"}]
[{"$f":"IF([1]ItemConfig!$A131=\"\",\"\",[1]ItemConfig!$A131)","v":13013},{"$f":"IF(A128=\"\",\"\",VLOOKUP(A128,[1]ItemConfig!$A:$B,2,FALSE))","v":1612},{"$f":"IF(A128=\"\",\"\",VLOOKUP(A128,[1]ItemConfig!$A:$D,4,FALSE))","v":1712},{"$f":"IF(A128=\"\",\"\",VLOOKUP(A128,[1]ItemConfig!$A:$C,3,FALSE))","v":"功法-木3碎片"},{"$f":"IF(A128=\"\",\"\",VLOOKUP(B128,[2]語言配置表!$A:$B,2,FALSE))","v":"功法-木3碎片"},{"$f":"IF(A128=\"\",\"\",VLOOKUP(C128,[2]語言配置表!$A:$B,2,FALSE))","v":"用于功法-功法-木3-的升星"}]
[{"$f":"IF([1]ItemConfig!$A132=\"\",\"\",[1]ItemConfig!$A132)","v":13014},{"$f":"IF(A129=\"\",\"\",VLOOKUP(A129,[1]ItemConfig!$A:$B,2,FALSE))","v":1613},{"$f":"IF(A129=\"\",\"\",VLOOKUP(A129,[1]ItemConfig!$A:$D,4,FALSE))","v":1713},{"$f":"IF(A129=\"\",\"\",VLOOKUP(A129,[1]ItemConfig!$A:$C,3,FALSE))","v":"竹刺碎片"},{"$f":"IF(A129=\"\",\"\",VLOOKUP(B129,[2]語言配置表!$A:$B,2,FALSE))","v":"竹刺碎片"},{"$f":"IF(A129=\"\",\"\",VLOOKUP(C129,[2]語言配置表!$A:$B,2,FALSE))","v":"用于功法-竹刺-的升星"}]
[{"$f":"IF([1]ItemConfig!$A133=\"\",\"\",[1]ItemConfig!$A133)","v":13015},{"$f":"IF(A130=\"\",\"\",VLOOKUP(A130,[1]ItemConfig!$A:$B,2,FALSE))","v":1614},{"$f":"IF(A130=\"\",\"\",VLOOKUP(A130,[1]ItemConfig!$A:$D,4,FALSE))","v":1714},{"$f":"IF(A130=\"\",\"\",VLOOKUP(A130,[1]ItemConfig!$A:$C,3,FALSE))","v":"飞叶碎片"},{"$f":"IF(A130=\"\",\"\",VLOOKUP(B130,[2]語言配置表!$A:$B,2,FALSE))","v":"飞叶碎片"},{"$f":"IF(A130=\"\",\"\",VLOOKUP(C130,[2]語言配置表!$A:$B,2,FALSE))","v":"用于功法-飞叶-的升星"}]
[{"$f":"IF([1]ItemConfig!$A134=\"\",\"\",[1]ItemConfig!$A134)","v":13016},{"$f":"IF(A131=\"\",\"\",VLOOKUP(A131,[1]ItemConfig!$A:$B,2,FALSE))","v":1615},{"$f":"IF(A131=\"\",\"\",VLOOKUP(A131,[1]ItemConfig!$A:$D,4,FALSE))","v":1715},{"$f":"IF(A131=\"\",\"\",VLOOKUP(A131,[1]ItemConfig!$A:$C,3,FALSE))","v":"烈焰剑碎片"},{"$f":"IF(A131=\"\",\"\",VLOOKUP(B131,[2]語言配置表!$A:$B,2,FALSE))","v":"烈焰剑碎片"},{"$f":"IF(A131=\"\",\"\",VLOOKUP(C131,[2]語言配置表!$A:$B,2,FALSE))","v":"用于功法-烈焰剑-的升星"}]
[{"$f":"IF([1]ItemConfig!$A135=\"\",\"\",[1]ItemConfig!$A135)","v":13017},{"$f":"IF(A132=\"\",\"\",VLOOKUP(A132,[1]ItemConfig!$A:$B,2,FALSE))","v":1616},{"$f":"IF(A132=\"\",\"\",VLOOKUP(A132,[1]ItemConfig!$A:$D,4,FALSE))","v":1716},{"$f":"IF(A132=\"\",\"\",VLOOKUP(A132,[1]ItemConfig!$A:$C,3,FALSE))","v":"赤焰龙吟功碎片"},{"$f":"IF(A132=\"\",\"\",VLOOKUP(B132,[2]語言配置表!$A:$B,2,FALSE))","v":"赤焰龙吟功碎片"},{"$f":"IF(A132=\"\",\"\",VLOOKUP(C132,[2]語言配置表!$A:$B,2,FALSE))","v":"用于功法-赤焰龙吟功-的升星"}]
[{"$f":"IF([1]ItemConfig!$A136=\"\",\"\",[1]ItemConfig!$A136)","v":13018},{"$f":"IF(A133=\"\",\"\",VLOOKUP(A133,[1]ItemConfig!$A:$B,2,FALSE))","v":1617},{"$f":"IF(A133=\"\",\"\",VLOOKUP(A133,[1]ItemConfig!$A:$D,4,FALSE))","v":1717},{"$f":"IF(A133=\"\",\"\",VLOOKUP(A133,[1]ItemConfig!$A:$C,3,FALSE))","v":"朱雀燎原指碎片"},{"$f":"IF(A133=\"\",\"\",VLOOKUP(B133,[2]語言配置表!$A:$B,2,FALSE))","v":"朱雀燎原指碎片"},{"$f":"IF(A133=\"\",\"\",VLOOKUP(C133,[2]語言配置表!$A:$B,2,FALSE))","v":"用于功法-朱雀燎原指-的升星"}]
[{"$f":"IF([1]ItemConfig!$A137=\"\",\"\",[1]ItemConfig!$A137)","v":13019},{"$f":"IF(A134=\"\",\"\",VLOOKUP(A134,[1]ItemConfig!$A:$B,2,FALSE))","v":1618},{"$f":"IF(A134=\"\",\"\",VLOOKUP(A134,[1]ItemConfig!$A:$D,4,FALSE))","v":1718},{"$f":"IF(A134=\"\",\"\",VLOOKUP(A134,[1]ItemConfig!$A:$C,3,FALSE))","v":"火球碎片"},{"$f":"IF(A134=\"\",\"\",VLOOKUP(B134,[2]語言配置表!$A:$B,2,FALSE))","v":"火球碎片"},{"$f":"IF(A134=\"\",\"\",VLOOKUP(C134,[2]語言配置表!$A:$B,2,FALSE))","v":"用于功法-火球-的升星"}]
[{"$f":"IF([1]ItemConfig!$A138=\"\",\"\",[1]ItemConfig!$A138)","v":13020},{"$f":"IF(A135=\"\",\"\",VLOOKUP(A135,[1]ItemConfig!$A:$B,2,FALSE))","v":1619},{"$f":"IF(A135=\"\",\"\",VLOOKUP(A135,[1]ItemConfig!$A:$D,4,FALSE))","v":1719},{"$f":"IF(A135=\"\",\"\",VLOOKUP(A135,[1]ItemConfig!$A:$C,3,FALSE))","v":"火刀碎片"},{"$f":"IF(A135=\"\",\"\",VLOOKUP(B135,[2]語言配置表!$A:$B,2,FALSE))","v":"火刀碎片"},{"$f":"IF(A135=\"\",\"\",VLOOKUP(C135,[2]語言配置表!$A:$B,2,FALSE))","v":"用于功法-火刀-的升星"}]
[{"$f":"IF([1]ItemConfig!$A139=\"\",\"\",[1]ItemConfig!$A139)","v":13021},{"$f":"IF(A136=\"\",\"\",VLOOKUP(A136,[1]ItemConfig!$A:$B,2,FALSE))","v":1620},{"$f":"IF(A136=\"\",\"\",VLOOKUP(A136,[1]ItemConfig!$A:$D,4,FALSE))","v":1720},{"$f":"IF(A136=\"\",\"\",VLOOKUP(A136,[1]ItemConfig!$A:$C,3,FALSE))","v":"黄尘灭魂刺碎片"},{"$f":"IF(A136=\"\",\"\",VLOOKUP(B136,[2]語言配置表!$A:$B,2,FALSE))","v":"黄尘灭魂刺碎片"},{"$f":"IF(A136=\"\",\"\",VLOOKUP(C136,[2]語言配置表!$A:$B,2,FALSE))","v":"用于功法-黄尘灭魂刺-的升星"}]
[{"$f":"IF([1]ItemConfig!$A140=\"\",\"\",[1]ItemConfig!$A140)","v":13022},{"$f":"IF(A137=\"\",\"\",VLOOKUP(A137,[1]ItemConfig!$A:$B,2,FALSE))","v":1621},{"$f":"IF(A137=\"\",\"\",VLOOKUP(A137,[1]ItemConfig!$A:$D,4,FALSE))","v":1721},{"$f":"IF(A137=\"\",\"\",VLOOKUP(A137,[1]ItemConfig!$A:$C,3,FALSE))","v":"地裂屠龙斩碎片"},{"$f":"IF(A137=\"\",\"\",VLOOKUP(B137,[2]語言配置表!$A:$B,2,FALSE))","v":"地裂屠龙斩碎片"},{"$f":"IF(A137=\"\",\"\",VLOOKUP(C137,[2]語言配置表!$A:$B,2,FALSE))","v":"用于功法-地裂屠龙斩-的升星"}]
[{"$f":"IF([1]ItemConfig!$A141=\"\",\"\",[1]ItemConfig!$A141)","v":13023},{"$f":"IF(A138=\"\",\"\",VLOOKUP(A138,[1]ItemConfig!$A:$B,2,FALSE))","v":1622},{"$f":"IF(A138=\"\",\"\",VLOOKUP(A138,[1]ItemConfig!$A:$D,4,FALSE))","v":1722},{"$f":"IF(A138=\"\",\"\",VLOOKUP(A138,[1]ItemConfig!$A:$C,3,FALSE))","v":"功法-土3碎片"},{"$f":"IF(A138=\"\",\"\",VLOOKUP(B138,[2]語言配置表!$A:$B,2,FALSE))","v":"功法-土3碎片"},{"$f":"IF(A138=\"\",\"\",VLOOKUP(C138,[2]語言配置表!$A:$B,2,FALSE))","v":"用于功法-功法-土3-的升星"}]
[{"$f":"IF([1]ItemConfig!$A142=\"\",\"\",[1]ItemConfig!$A142)","v":13024},{"$f":"IF(A139=\"\",\"\",VLOOKUP(A139,[1]ItemConfig!$A:$B,2,FALSE))","v":1623},{"$f":"IF(A139=\"\",\"\",VLOOKUP(A139,[1]ItemConfig!$A:$D,4,FALSE))","v":1723},{"$f":"IF(A139=\"\",\"\",VLOOKUP(A139,[1]ItemConfig!$A:$C,3,FALSE))","v":"落石碎片"},{"$f":"IF(A139=\"\",\"\",VLOOKUP(B139,[2]語言配置表!$A:$B,2,FALSE))","v":"落石碎片"},{"$f":"IF(A139=\"\",\"\",VLOOKUP(C139,[2]語言配置表!$A:$B,2,FALSE))","v":"用于功法-落石-的升星"}]
[{"$f":"IF([1]ItemConfig!$A143=\"\",\"\",[1]ItemConfig!$A143)","v":13025},{"$f":"IF(A140=\"\",\"\",VLOOKUP(A140,[1]ItemConfig!$A:$B,2,FALSE))","v":1624},{"$f":"IF(A140=\"\",\"\",VLOOKUP(A140,[1]ItemConfig!$A:$D,4,FALSE))","v":1724},{"$f":"IF(A140=\"\",\"\",VLOOKUP(A140,[1]ItemConfig!$A:$C,3,FALSE))","v":"小石头碎片"},{"$f":"IF(A140=\"\",\"\",VLOOKUP(B140,[2]語言配置表!$A:$B,2,FALSE))","v":"小石头碎片"},{"$f":"IF(A140=\"\",\"\",VLOOKUP(C140,[2]語言配置表!$A:$B,2,FALSE))","v":"用于功法-小石头-的升星"}]
[{"$f":"IF([1]ItemConfig!$A144=\"\",\"\",[1]ItemConfig!$A144)","v":""},{"$f":"IF(A141=\"\",\"\",VLOOKUP(A141,[1]ItemConfig!$A:$B,2,FALSE))","v":""},{"$f":"IF(A141=\"\",\"\",VLOOKUP(A141,[1]ItemConfig!$A:$D,4,FALSE))","v":""},{"$f":"IF(A141=\"\",\"\",VLOOKUP(A141,[1]ItemConfig!$A:$C,3,FALSE))","v":""},{"$f":"IF(A141=\"\",\"\",VLOOKUP(B141,[2]語言配置表!$A:$B,2,FALSE))","v":""},{"$f":"IF(A141=\"\",\"\",VLOOKUP(C141,[2]語言配置表!$A:$B,2,FALSE))","v":""}]
[{"$f":"IF([1]ItemConfig!$A145=\"\",\"\",[1]ItemConfig!$A145)","v":13501},{"$f":"IF(A142=\"\",\"\",VLOOKUP(A142,[1]ItemConfig!$A:$B,2,FALSE))","v":1625},{"$f":"IF(A142=\"\",\"\",VLOOKUP(A142,[1]ItemConfig!$A:$D,4,FALSE))","v":1725},{"$f":"IF(A142=\"\",\"\",VLOOKUP(A142,[1]ItemConfig!$A:$C,3,FALSE))","v":"天衍星辰诀碎片"},{"$f":"IF(A142=\"\",\"\",VLOOKUP(B142,[2]語言配置表!$A:$B,2,FALSE))","v":"天衍星辰诀碎片"},{"$f":"IF(A142=\"\",\"\",VLOOKUP(C142,[2]語言配置表!$A:$B,2,FALSE))","v":"用于功法-天衍星辰诀-的升星"}]
[{"$f":"IF([1]ItemConfig!$A146=\"\",\"\",[1]ItemConfig!$A146)","v":13502},{"$f":"IF(A143=\"\",\"\",VLOOKUP(A143,[1]ItemConfig!$A:$B,2,FALSE))","v":1626},{"$f":"IF(A143=\"\",\"\",VLOOKUP(A143,[1]ItemConfig!$A:$D,4,FALSE))","v":1726},{"$f":"IF(A143=\"\",\"\",VLOOKUP(A143,[1]ItemConfig!$A:$C,3,FALSE))","v":"法宝秘籍碎片"},{"$f":"IF(A143=\"\",\"\",VLOOKUP(B143,[2]語言配置表!$A:$B,2,FALSE))","v":"法宝秘籍碎片"},{"$f":"IF(A143=\"\",\"\",VLOOKUP(C143,[2]語言配置表!$A:$B,2,FALSE))","v":"用于功法-法宝秘籍-的升星"}]
[{"$f":"IF([1]ItemConfig!$A147=\"\",\"\",[1]ItemConfig!$A147)","v":13503},{"$f":"IF(A144=\"\",\"\",VLOOKUP(A144,[1]ItemConfig!$A:$B,2,FALSE))","v":1627},{"$f":"IF(A144=\"\",\"\",VLOOKUP(A144,[1]ItemConfig!$A:$D,4,FALSE))","v":1727},{"$f":"IF(A144=\"\",\"\",VLOOKUP(A144,[1]ItemConfig!$A:$C,3,FALSE))","v":"崩脉决碎片"},{"$f":"IF(A144=\"\",\"\",VLOOKUP(B144,[2]語言配置表!$A:$B,2,FALSE))","v":"崩脉决碎片"},{"$f":"IF(A144=\"\",\"\",VLOOKUP(C144,[2]語言配置表!$A:$B,2,FALSE))","v":"用于功法-崩脉决-的升星"}]
[{"$f":"IF([1]ItemConfig!$A148=\"\",\"\",[1]ItemConfig!$A148)","v":13504},{"$f":"IF(A145=\"\",\"\",VLOOKUP(A145,[1]ItemConfig!$A:$B,2,FALSE))","v":1628},{"$f":"IF(A145=\"\",\"\",VLOOKUP(A145,[1]ItemConfig!$A:$D,4,FALSE))","v":1728},{"$f":"IF(A145=\"\",\"\",VLOOKUP(A145,[1]ItemConfig!$A:$C,3,FALSE))","v":"两仪决碎片"},{"$f":"IF(A145=\"\",\"\",VLOOKUP(B145,[2]語言配置表!$A:$B,2,FALSE))","v":"两仪决碎片"},{"$f":"IF(A145=\"\",\"\",VLOOKUP(C145,[2]語言配置表!$A:$B,2,FALSE))","v":"用于功法-两仪决-的升星"}]
[{"$f":"IF([1]ItemConfig!$A149=\"\",\"\",[1]ItemConfig!$A149)","v":13505},{"$f":"IF(A146=\"\",\"\",VLOOKUP(A146,[1]ItemConfig!$A:$B,2,FALSE))","v":1629},{"$f":"IF(A146=\"\",\"\",VLOOKUP(A146,[1]ItemConfig!$A:$D,4,FALSE))","v":1729},{"$f":"IF(A146=\"\",\"\",VLOOKUP(A146,[1]ItemConfig!$A:$C,3,FALSE))","v":"火焰决碎片"},{"$f":"IF(A146=\"\",\"\",VLOOKUP(B146,[2]語言配置表!$A:$B,2,FALSE))","v":"火焰决碎片"},{"$f":"IF(A146=\"\",\"\",VLOOKUP(C146,[2]語言配置表!$A:$B,2,FALSE))","v":"用于功法-火焰决-的升星"}]
[{"$f":"IF([1]ItemConfig!$A150=\"\",\"\",[1]ItemConfig!$A150)","v":13506},{"$f":"IF(A147=\"\",\"\",VLOOKUP(A147,[1]ItemConfig!$A:$B,2,FALSE))","v":1630},{"$f":"IF(A147=\"\",\"\",VLOOKUP(A147,[1]ItemConfig!$A:$D,4,FALSE))","v":1730},{"$f":"IF(A147=\"\",\"\",VLOOKUP(A147,[1]ItemConfig!$A:$C,3,FALSE))","v":"乾坤巨灵诀碎片"},{"$f":"IF(A147=\"\",\"\",VLOOKUP(B147,[2]語言配置表!$A:$B,2,FALSE))","v":"乾坤巨灵诀碎片"},{"$f":"IF(A147=\"\",\"\",VLOOKUP(C147,[2]語言配置表!$A:$B,2,FALSE))","v":"用于功法-乾坤巨灵诀-的升星"}]
[{"$f":"IF([1]ItemConfig!$A151=\"\",\"\",[1]ItemConfig!$A151)","v":13507},{"$f":"IF(A148=\"\",\"\",VLOOKUP(A148,[1]ItemConfig!$A:$B,2,FALSE))","v":1631},{"$f":"IF(A148=\"\",\"\",VLOOKUP(A148,[1]ItemConfig!$A:$D,4,FALSE))","v":1731},{"$f":"IF(A148=\"\",\"\",VLOOKUP(A148,[1]ItemConfig!$A:$C,3,FALSE))","v":"极速齿轮碎片"},{"$f":"IF(A148=\"\",\"\",VLOOKUP(B148,[2]語言配置表!$A:$B,2,FALSE))","v":"极速齿轮碎片"},{"$f":"IF(A148=\"\",\"\",VLOOKUP(C148,[2]語言配置表!$A:$B,2,FALSE))","v":"用于功法-极速齿轮-的升星"}]
[{"$f":"IF([1]ItemConfig!$A152=\"\",\"\",[1]ItemConfig!$A152)","v":13508},{"$f":"IF(A149=\"\",\"\",VLOOKUP(A149,[1]ItemConfig!$A:$B,2,FALSE))","v":1632},{"$f":"IF(A149=\"\",\"\",VLOOKUP(A149,[1]ItemConfig!$A:$D,4,FALSE))","v":1732},{"$f":"IF(A149=\"\",\"\",VLOOKUP(A149,[1]ItemConfig!$A:$C,3,FALSE))","v":"太虚剑意碎片"},{"$f":"IF(A149=\"\",\"\",VLOOKUP(B149,[2]語言配置表!$A:$B,2,FALSE))","v":"太虚剑意碎片"},{"$f":"IF(A149=\"\",\"\",VLOOKUP(C149,[2]語言配置表!$A:$B,2,FALSE))","v":"用于功法-太虚剑意-的升星"}]
[{"$f":"IF([1]ItemConfig!$A153=\"\",\"\",[1]ItemConfig!$A153)","v":13509},{"$f":"IF(A150=\"\",\"\",VLOOKUP(A150,[1]ItemConfig!$A:$B,2,FALSE))","v":1633},{"$f":"IF(A150=\"\",\"\",VLOOKUP(A150,[1]ItemConfig!$A:$D,4,FALSE))","v":1733},{"$f":"IF(A150=\"\",\"\",VLOOKUP(A150,[1]ItemConfig!$A:$C,3,FALSE))","v":"青莲净体诀碎片"},{"$f":"IF(A150=\"\",\"\",VLOOKUP(B150,[2]語言配置表!$A:$B,2,FALSE))","v":"青莲净体诀碎片"},{"$f":"IF(A150=\"\",\"\",VLOOKUP(C150,[2]語言配置表!$A:$B,2,FALSE))","v":"用于功法-青莲净体诀-的升星"}]
[{"$f":"IF([1]ItemConfig!$A154=\"\",\"\",[1]ItemConfig!$A154)","v":13510},{"$f":"IF(A151=\"\",\"\",VLOOKUP(A151,[1]ItemConfig!$A:$B,2,FALSE))","v":1634},{"$f":"IF(A151=\"\",\"\",VLOOKUP(A151,[1]ItemConfig!$A:$D,4,FALSE))","v":1734},{"$f":"IF(A151=\"\",\"\",VLOOKUP(A151,[1]ItemConfig!$A:$C,3,FALSE))","v":"碧霄回春术碎片"},{"$f":"IF(A151=\"\",\"\",VLOOKUP(B151,[2]語言配置表!$A:$B,2,FALSE))","v":"碧霄回春术碎片"},{"$f":"IF(A151=\"\",\"\",VLOOKUP(C151,[2]語言配置表!$A:$B,2,FALSE))","v":"用于功法-碧霄回春术-的升星"}]
[{"$f":"IF([1]ItemConfig!$A155=\"\",\"\",[1]ItemConfig!$A155)","v":13511},{"$f":"IF(A152=\"\",\"\",VLOOKUP(A152,[1]ItemConfig!$A:$B,2,FALSE))","v":10001},{"$f":"IF(A152=\"\",\"\",VLOOKUP(A152,[1]ItemConfig!$A:$D,4,FALSE))","v":10010},{"$f":"IF(A152=\"\",\"\",VLOOKUP(A152,[1]ItemConfig!$A:$C,3,FALSE))","v":"血祭神通碎片"},{"$f":"IF(A152=\"\",\"\",VLOOKUP(B152,[2]語言配置表!$A:$B,2,FALSE))","v":"血祭神通碎片"},{"$f":"IF(A152=\"\",\"\",VLOOKUP(C152,[2]語言配置表!$A:$B,2,FALSE))","v":"[临时]血祭神通碎片描述"}]
[{"$f":"IF([1]ItemConfig!$A156=\"\",\"\",[1]ItemConfig!$A156)","v":13512},{"$f":"IF(A153=\"\",\"\",VLOOKUP(A153,[1]ItemConfig!$A:$B,2,FALSE))","v":10002},{"$f":"IF(A153=\"\",\"\",VLOOKUP(A153,[1]ItemConfig!$A:$D,4,FALSE))","v":10011},{"$f":"IF(A153=\"\",\"\",VLOOKUP(A153,[1]ItemConfig!$A:$C,3,FALSE))","v":"金煞决碎片"},{"$f":"IF(A153=\"\",\"\",VLOOKUP(B153,[2]語言配置表!$A:$B,2,FALSE))","v":"金煞决碎片"},{"$f":"IF(A153=\"\",\"\",VLOOKUP(C153,[2]語言配置表!$A:$B,2,FALSE))","v":"[临时]金煞决碎片描述"}]
[{"$f":"IF([1]ItemConfig!$A157=\"\",\"\",[1]ItemConfig!$A157)","v":13513},{"$f":"IF(A154=\"\",\"\",VLOOKUP(A154,[1]ItemConfig!$A:$B,2,FALSE))","v":10003},{"$f":"IF(A154=\"\",\"\",VLOOKUP(A154,[1]ItemConfig!$A:$D,4,FALSE))","v":10012},{"$f":"IF(A154=\"\",\"\",VLOOKUP(A154,[1]ItemConfig!$A:$C,3,FALSE))","v":"毒瘴领域碎片"},{"$f":"IF(A154=\"\",\"\",VLOOKUP(B154,[2]語言配置表!$A:$B,2,FALSE))","v":"毒瘴领域碎片"},{"$f":"IF(A154=\"\",\"\",VLOOKUP(C154,[2]語言配置表!$A:$B,2,FALSE))","v":"[临时]毒瘴领域碎片描述"}]
[{"$f":"IF([1]ItemConfig!$A158=\"\",\"\",[1]ItemConfig!$A158)","v":13514},{"$f":"IF(A155=\"\",\"\",VLOOKUP(A155,[1]ItemConfig!$A:$B,2,FALSE))","v":10004},{"$f":"IF(A155=\"\",\"\",VLOOKUP(A155,[1]ItemConfig!$A:$D,4,FALSE))","v":10013},{"$f":"IF(A155=\"\",\"\",VLOOKUP(A155,[1]ItemConfig!$A:$C,3,FALSE))","v":"毒爆碎片"},{"$f":"IF(A155=\"\",\"\",VLOOKUP(B155,[2]語言配置表!$A:$B,2,FALSE))","v":"毒爆碎片"},{"$f":"IF(A155=\"\",\"\",VLOOKUP(C155,[2]語言配置表!$A:$B,2,FALSE))","v":"[临时]毒爆碎片描述"}]
[{"$f":"IF([1]ItemConfig!$A159=\"\",\"\",[1]ItemConfig!$A159)","v":13515},{"$f":"IF(A156=\"\",\"\",VLOOKUP(A156,[1]ItemConfig!$A:$B,2,FALSE))","v":10005},{"$f":"IF(A156=\"\",\"\",VLOOKUP(A156,[1]ItemConfig!$A:$D,4,FALSE))","v":10014},{"$f":"IF(A156=\"\",\"\",VLOOKUP(A156,[1]ItemConfig!$A:$C,3,FALSE))","v":"异常转移碎片"},{"$f":"IF(A156=\"\",\"\",VLOOKUP(B156,[2]語言配置表!$A:$B,2,FALSE))","v":"异常转移碎片"},{"$f":"IF(A156=\"\",\"\",VLOOKUP(C156,[2]語言配置表!$A:$B,2,FALSE))","v":"[临时]异常转移碎片描述"}]
[{"$f":"IF([1]ItemConfig!$A160=\"\",\"\",[1]ItemConfig!$A160)","v":13516},{"$f":"IF(A157=\"\",\"\",VLOOKUP(A157,[1]ItemConfig!$A:$B,2,FALSE))","v":10006},{"$f":"IF(A157=\"\",\"\",VLOOKUP(A157,[1]ItemConfig!$A:$D,4,FALSE))","v":10015},{"$f":"IF(A157=\"\",\"\",VLOOKUP(A157,[1]ItemConfig!$A:$C,3,FALSE))","v":"阴水碎片"},{"$f":"IF(A157=\"\",\"\",VLOOKUP(B157,[2]語言配置表!$A:$B,2,FALSE))","v":"阴水碎片"},{"$f":"IF(A157=\"\",\"\",VLOOKUP(C157,[2]語言配置表!$A:$B,2,FALSE))","v":"[临时]阴水碎片描述"}]
[{"$f":"IF([1]ItemConfig!$A161=\"\",\"\",[1]ItemConfig!$A161)","v":13517},{"$f":"IF(A158=\"\",\"\",VLOOKUP(A158,[1]ItemConfig!$A:$B,2,FALSE))","v":10007},{"$f":"IF(A158=\"\",\"\",VLOOKUP(A158,[1]ItemConfig!$A:$D,4,FALSE))","v":10016},{"$f":"IF(A158=\"\",\"\",VLOOKUP(A158,[1]ItemConfig!$A:$C,3,FALSE))","v":"灵油碎片"},{"$f":"IF(A158=\"\",\"\",VLOOKUP(B158,[2]語言配置表!$A:$B,2,FALSE))","v":"灵油碎片"},{"$f":"IF(A158=\"\",\"\",VLOOKUP(C158,[2]語言配置表!$A:$B,2,FALSE))","v":"[临时]灵油碎片描述"}]
[{"$f":"IF([1]ItemConfig!$A162=\"\",\"\",[1]ItemConfig!$A162)","v":13518},{"$f":"IF(A159=\"\",\"\",VLOOKUP(A159,[1]ItemConfig!$A:$B,2,FALSE))","v":10008},{"$f":"IF(A159=\"\",\"\",VLOOKUP(A159,[1]ItemConfig!$A:$D,4,FALSE))","v":10017},{"$f":"IF(A159=\"\",\"\",VLOOKUP(A159,[1]ItemConfig!$A:$C,3,FALSE))","v":"厚土护体碎片"},{"$f":"IF(A159=\"\",\"\",VLOOKUP(B159,[2]語言配置表!$A:$B,2,FALSE))","v":"厚土护体碎片"},{"$f":"IF(A159=\"\",\"\",VLOOKUP(C159,[2]語言配置表!$A:$B,2,FALSE))","v":"[临时]厚土护体碎片描述"}]
[{"$f":"IF([1]ItemConfig!$A163=\"\",\"\",[1]ItemConfig!$A163)","v":13519},{"$f":"IF(A160=\"\",\"\",VLOOKUP(A160,[1]ItemConfig!$A:$B,2,FALSE))","v":10009},{"$f":"IF(A160=\"\",\"\",VLOOKUP(A160,[1]ItemConfig!$A:$D,4,FALSE))","v":10018},{"$f":"IF(A160=\"\",\"\",VLOOKUP(A160,[1]ItemConfig!$A:$C,3,FALSE))","v":"金沙碎片"},{"$f":"IF(A160=\"\",\"\",VLOOKUP(B160,[2]語言配置表!$A:$B,2,FALSE))","v":"金沙碎片"},{"$f":"IF(A160=\"\",\"\",VLOOKUP(C160,[2]語言配置表!$A:$B,2,FALSE))","v":"[临时]金沙碎片描述"}]
[{"$f":"IF([1]ItemConfig!$A164=\"\",\"\",[1]ItemConfig!$A164)","v":""},{"$f":"IF(A161=\"\",\"\",VLOOKUP(A161,[1]ItemConfig!$A:$B,2,FALSE))","v":""},{"$f":"IF(A161=\"\",\"\",VLOOKUP(A161,[1]ItemConfig!$A:$D,4,FALSE))","v":""},{"$f":"IF(A161=\"\",\"\",VLOOKUP(A161,[1]ItemConfig!$A:$C,3,FALSE))","v":""},{"$f":"IF(A161=\"\",\"\",VLOOKUP(B161,[2]語言配置表!$A:$B,2,FALSE))","v":""},{"$f":"IF(A161=\"\",\"\",VLOOKUP(C161,[2]語言配置表!$A:$B,2,FALSE))","v":""}]
[{"$f":"IF([1]ItemConfig!$A165=\"\",\"\",[1]ItemConfig!$A165)","v":20001},{"$f":"IF(A162=\"\",\"\",VLOOKUP(A162,[1]ItemConfig!$A:$B,2,FALSE))","v":3013},{"$f":"IF(A162=\"\",\"\",VLOOKUP(A162,[1]ItemConfig!$A:$D,4,FALSE))","v":3015},{"$f":"IF(A162=\"\",\"\",VLOOKUP(A162,[1]ItemConfig!$A:$C,3,FALSE))","v":"樗木之灵的树枝"},{"$f":"IF(A162=\"\",\"\",VLOOKUP(B162,[2]語言配置表!$A:$B,2,FALSE))","v":"樗木之灵的树枝"},{"$f":"IF(A162=\"\",\"\",VLOOKUP(C162,[2]語言配置表!$A:$B,2,FALSE))","v":"用于主线任务天肥地肥中的地肥材料"}]
[{"$f":"IF([1]ItemConfig!$A166=\"\",\"\",[1]ItemConfig!$A166)","v":20002},{"$f":"IF(A163=\"\",\"\",VLOOKUP(A163,[1]ItemConfig!$A:$B,2,FALSE))","v":3014},{"$f":"IF(A163=\"\",\"\",VLOOKUP(A163,[1]ItemConfig!$A:$D,4,FALSE))","v":3016},{"$f":"IF(A163=\"\",\"\",VLOOKUP(A163,[1]ItemConfig!$A:$C,3,FALSE))","v":"飞天灵兽的翅膀"},{"$f":"IF(A163=\"\",\"\",VLOOKUP(B163,[2]語言配置表!$A:$B,2,FALSE))","v":"飞天灵兽的翅膀"},{"$f":"IF(A163=\"\",\"\",VLOOKUP(C163,[2]語言配置表!$A:$B,2,FALSE))","v":"用于主线任务天肥地肥中的天肥材料"}]
[{"$f":"IF([1]ItemConfig!$A167=\"\",\"\",[1]ItemConfig!$A167)","v":20003},{"$f":"IF(A164=\"\",\"\",VLOOKUP(A164,[1]ItemConfig!$A:$B,2,FALSE))","v":3183},{"$f":"IF(A164=\"\",\"\",VLOOKUP(A164,[1]ItemConfig!$A:$D,4,FALSE))","v":3184},{"$f":"IF(A164=\"\",\"\",VLOOKUP(A164,[1]ItemConfig!$A:$C,3,FALSE))","v":"灵草种子"},{"$f":"IF(A164=\"\",\"\",VLOOKUP(B164,[2]語言配置表!$A:$B,2,FALSE))","v":"灵草种子"},{"$f":"IF(A164=\"\",\"\",VLOOKUP(C164,[2]語言配置表!$A:$B,2,FALSE))","v":"灵草种子的描述"}]
[{"$f":"IF([1]ItemConfig!$A168=\"\",\"\",[1]ItemConfig!$A168)","v":20004},{"$f":"IF(A165=\"\",\"\",VLOOKUP(A165,[1]ItemConfig!$A:$B,2,FALSE))","v":10019},{"$f":"IF(A165=\"\",\"\",VLOOKUP(A165,[1]ItemConfig!$A:$D,4,FALSE))","v":10028},{"$f":"IF(A165=\"\",\"\",VLOOKUP(A165,[1]ItemConfig!$A:$C,3,FALSE))","v":"甘露"},{"$f":"IF(A165=\"\",\"\",VLOOKUP(B165,[2]語言配置表!$A:$B,2,FALSE))","v":"甘露"},{"$f":"IF(A165=\"\",\"\",VLOOKUP(C165,[2]語言配置表!$A:$B,2,FALSE))","v":"[临时]甘露描述"}]
[{"$f":"IF([1]ItemConfig!$A169=\"\",\"\",[1]ItemConfig!$A169)","v":20005},{"$f":"IF(A166=\"\",\"\",VLOOKUP(A166,[1]ItemConfig!$A:$B,2,FALSE))","v":10020},{"$f":"IF(A166=\"\",\"\",VLOOKUP(A166,[1]ItemConfig!$A:$D,4,FALSE))","v":10029},{"$f":"IF(A166=\"\",\"\",VLOOKUP(A166,[1]ItemConfig!$A:$C,3,FALSE))","v":"风铃"},{"$f":"IF(A166=\"\",\"\",VLOOKUP(B166,[2]語言配置表!$A:$B,2,FALSE))","v":"风铃"},{"$f":"IF(A166=\"\",\"\",VLOOKUP(C166,[2]語言配置表!$A:$B,2,FALSE))","v":"[临时]风铃描述"}]
[{"$f":"IF([1]ItemConfig!$A170=\"\",\"\",[1]ItemConfig!$A170)","v":20006},{"$f":"IF(A167=\"\",\"\",VLOOKUP(A167,[1]ItemConfig!$A:$B,2,FALSE))","v":10021},{"$f":"IF(A167=\"\",\"\",VLOOKUP(A167,[1]ItemConfig!$A:$D,4,FALSE))","v":10030},{"$f":"IF(A167=\"\",\"\",VLOOKUP(A167,[1]ItemConfig!$A:$C,3,FALSE))","v":"风灵碎片"},{"$f":"IF(A167=\"\",\"\",VLOOKUP(B167,[2]語言配置表!$A:$B,2,FALSE))","v":"风灵碎片"},{"$f":"IF(A167=\"\",\"\",VLOOKUP(C167,[2]語言配置表!$A:$B,2,FALSE))","v":"[临时]风灵碎片描述"}]
[{"$f":"IF([1]ItemConfig!$A171=\"\",\"\",[1]ItemConfig!$A171)","v":20007},{"$f":"IF(A168=\"\",\"\",VLOOKUP(A168,[1]ItemConfig!$A:$B,2,FALSE))","v":10022},{"$f":"IF(A168=\"\",\"\",VLOOKUP(A168,[1]ItemConfig!$A:$D,4,FALSE))","v":10031},{"$f":"IF(A168=\"\",\"\",VLOOKUP(A168,[1]ItemConfig!$A:$C,3,FALSE))","v":"浮岛灵石"},{"$f":"IF(A168=\"\",\"\",VLOOKUP(B168,[2]語言配置表!$A:$B,2,FALSE))","v":"浮岛灵石"},{"$f":"IF(A168=\"\",\"\",VLOOKUP(C168,[2]語言配置表!$A:$B,2,FALSE))","v":"[临时]浮岛灵石描述"}]
[{"$f":"IF([1]ItemConfig!$A172=\"\",\"\",[1]ItemConfig!$A172)","v":20008},{"$f":"IF(A169=\"\",\"\",VLOOKUP(A169,[1]ItemConfig!$A:$B,2,FALSE))","v":10023},{"$f":"IF(A169=\"\",\"\",VLOOKUP(A169,[1]ItemConfig!$A:$D,4,FALSE))","v":10032},{"$f":"IF(A169=\"\",\"\",VLOOKUP(A169,[1]ItemConfig!$A:$C,3,FALSE))","v":"云隐宗长老密信"},{"$f":"IF(A169=\"\",\"\",VLOOKUP(B169,[2]語言配置表!$A:$B,2,FALSE))","v":"云隐宗长老密信"},{"$f":"IF(A169=\"\",\"\",VLOOKUP(C169,[2]語言配置表!$A:$B,2,FALSE))","v":"[临时]云隐宗长老密信描述"}]
[{"$f":"IF([1]ItemConfig!$A173=\"\",\"\",[1]ItemConfig!$A173)","v":20009},{"$f":"IF(A170=\"\",\"\",VLOOKUP(A170,[1]ItemConfig!$A:$B,2,FALSE))","v":10024},{"$f":"IF(A170=\"\",\"\",VLOOKUP(A170,[1]ItemConfig!$A:$D,4,FALSE))","v":10033},{"$f":"IF(A170=\"\",\"\",VLOOKUP(A170,[1]ItemConfig!$A:$C,3,FALSE))","v":"尧都玉佩"},{"$f":"IF(A170=\"\",\"\",VLOOKUP(B170,[2]語言配置表!$A:$B,2,FALSE))","v":"尧都玉佩"},{"$f":"IF(A170=\"\",\"\",VLOOKUP(C170,[2]語言配置表!$A:$B,2,FALSE))","v":"[临时]尧都玉佩描述"}]
[{"$f":"IF([1]ItemConfig!$A174=\"\",\"\",[1]ItemConfig!$A174)","v":20010},{"$f":"IF(A171=\"\",\"\",VLOOKUP(A171,[1]ItemConfig!$A:$B,2,FALSE))","v":10025},{"$f":"IF(A171=\"\",\"\",VLOOKUP(A171,[1]ItemConfig!$A:$D,4,FALSE))","v":10034},{"$f":"IF(A171=\"\",\"\",VLOOKUP(A171,[1]ItemConfig!$A:$C,3,FALSE))","v":"山野灵草"},{"$f":"IF(A171=\"\",\"\",VLOOKUP(B171,[2]語言配置表!$A:$B,2,FALSE))","v":"山野灵草"},{"$f":"IF(A171=\"\",\"\",VLOOKUP(C171,[2]語言配置表!$A:$B,2,FALSE))","v":"[临时]山野灵草描述"}]
[{"$f":"IF([1]ItemConfig!$A175=\"\",\"\",[1]ItemConfig!$A175)","v":20011},{"$f":"IF(A172=\"\",\"\",VLOOKUP(A172,[1]ItemConfig!$A:$B,2,FALSE))","v":10026},{"$f":"IF(A172=\"\",\"\",VLOOKUP(A172,[1]ItemConfig!$A:$D,4,FALSE))","v":10035},{"$f":"IF(A172=\"\",\"\",VLOOKUP(A172,[1]ItemConfig!$A:$C,3,FALSE))","v":"秘境种子"},{"$f":"IF(A172=\"\",\"\",VLOOKUP(B172,[2]語言配置表!$A:$B,2,FALSE))","v":"秘境种子"},{"$f":"IF(A172=\"\",\"\",VLOOKUP(C172,[2]語言配置表!$A:$B,2,FALSE))","v":"[临时]秘境种子描述"}]
[{"$f":"IF([1]ItemConfig!$A176=\"\",\"\",[1]ItemConfig!$A176)","v":20012},{"$f":"IF(A173=\"\",\"\",VLOOKUP(A173,[1]ItemConfig!$A:$B,2,FALSE))","v":10027},{"$f":"IF(A173=\"\",\"\",VLOOKUP(A173,[1]ItemConfig!$A:$D,4,FALSE))","v":10036},{"$f":"IF(A173=\"\",\"\",VLOOKUP(A173,[1]ItemConfig!$A:$C,3,FALSE))","v":"甜蜜果实"},{"$f":"IF(A173=\"\",\"\",VLOOKUP(B173,[2]語言配置表!$A:$B,2,FALSE))","v":"甜蜜果实"},{"$f":"IF(A173=\"\",\"\",VLOOKUP(C173,[2]語言配置表!$A:$B,2,FALSE))","v":"[临时]甜蜜果实描述"}]
[{"$f":"IF([1]ItemConfig!$A177=\"\",\"\",[1]ItemConfig!$A177)","v":""},{"$f":"IF(A174=\"\",\"\",VLOOKUP(A174,[1]ItemConfig!$A:$B,2,FALSE))","v":""},{"$f":"IF(A174=\"\",\"\",VLOOKUP(A174,[1]ItemConfig!$A:$D,4,FALSE))","v":""},{"$f":"IF(A174=\"\",\"\",VLOOKUP(A174,[1]ItemConfig!$A:$C,3,FALSE))","v":""},{"$f":"IF(A174=\"\",\"\",VLOOKUP(B174,[2]語言配置表!$A:$B,2,FALSE))","v":""},{"$f":"IF(A174=\"\",\"\",VLOOKUP(C174,[2]語言配置表!$A:$B,2,FALSE))","v":""}]
[{"$f":"IF([1]ItemConfig!$A178=\"\",\"\",[1]ItemConfig!$A178)","v":21001},{"$f":"IF(A175=\"\",\"\",VLOOKUP(A175,[1]ItemConfig!$A:$B,2,FALSE))","v":3194},{"$f":"IF(A175=\"\",\"\",VLOOKUP(A175,[1]ItemConfig!$A:$D,4,FALSE))","v":3207},{"$f":"IF(A175=\"\",\"\",VLOOKUP(A175,[1]ItemConfig!$A:$C,3,FALSE))","v":"神识符-灵石"},{"$f":"IF(A175=\"\",\"\",VLOOKUP(B175,[2]語言配置表!$A:$B,2,FALSE))","v":"神识符-金币"},{"$f":"IF(A175=\"\",\"\",VLOOKUP(C175,[2]語言配置表!$A:$B,2,FALSE))","v":"使用后必定出现产出金币的神识事件。"}]
[{"$f":"IF([1]ItemConfig!$A179=\"\",\"\",[1]ItemConfig!$A179)","v":21002},{"$f":"IF(A176=\"\",\"\",VLOOKUP(A176,[1]ItemConfig!$A:$B,2,FALSE))","v":3195},{"$f":"IF(A176=\"\",\"\",VLOOKUP(A176,[1]ItemConfig!$A:$D,4,FALSE))","v":3208},{"$f":"IF(A176=\"\",\"\",VLOOKUP(A176,[1]ItemConfig!$A:$C,3,FALSE))","v":"神识符-修为"},{"$f":"IF(A176=\"\",\"\",VLOOKUP(B176,[2]語言配置表!$A:$B,2,FALSE))","v":"神识符-修为"},{"$f":"IF(A176=\"\",\"\",VLOOKUP(C176,[2]語言配置表!$A:$B,2,FALSE))","v":"使用后必定出现产出修为的神识事件。"}]
[{"$f":"IF([1]ItemConfig!$A180=\"\",\"\",[1]ItemConfig!$A180)","v":21003},{"$f":"IF(A177=\"\",\"\",VLOOKUP(A177,[1]ItemConfig!$A:$B,2,FALSE))","v":3196},{"$f":"IF(A177=\"\",\"\",VLOOKUP(A177,[1]ItemConfig!$A:$D,4,FALSE))","v":3209},{"$f":"IF(A177=\"\",\"\",VLOOKUP(A177,[1]ItemConfig!$A:$C,3,FALSE))","v":"神识符-灵气"},{"$f":"IF(A177=\"\",\"\",VLOOKUP(B177,[2]語言配置表!$A:$B,2,FALSE))","v":"神识符-功法灵气"},{"$f":"IF(A177=\"\",\"\",VLOOKUP(C177,[2]語言配置表!$A:$B,2,FALSE))","v":"使用后必定出现产出功法灵气的神识事件。"}]
[{"$f":"IF([1]ItemConfig!$A181=\"\",\"\",[1]ItemConfig!$A181)","v":21004},{"$f":"IF(A178=\"\",\"\",VLOOKUP(A178,[1]ItemConfig!$A:$B,2,FALSE))","v":3197},{"$f":"IF(A178=\"\",\"\",VLOOKUP(A178,[1]ItemConfig!$A:$D,4,FALSE))","v":3210},{"$f":"IF(A178=\"\",\"\",VLOOKUP(A178,[1]ItemConfig!$A:$C,3,FALSE))","v":"神识符-玄晶"},{"$f":"IF(A178=\"\",\"\",VLOOKUP(B178,[2]語言配置表!$A:$B,2,FALSE))","v":"神识符-法宝灵韵"},{"$f":"IF(A178=\"\",\"\",VLOOKUP(C178,[2]語言配置表!$A:$B,2,FALSE))","v":"使用后必定出现产出法宝灵韵的神识事件。"}]
[{"$f":"IF([1]ItemConfig!$A182=\"\",\"\",[1]ItemConfig!$A182)","v":21005},{"$f":"IF(A179=\"\",\"\",VLOOKUP(A179,[1]ItemConfig!$A:$B,2,FALSE))","v":3198},{"$f":"IF(A179=\"\",\"\",VLOOKUP(A179,[1]ItemConfig!$A:$D,4,FALSE))","v":3211},{"$f":"IF(A179=\"\",\"\",VLOOKUP(A179,[1]ItemConfig!$A:$C,3,FALSE))","v":"神识符-功法碎片"},{"$f":"IF(A179=\"\",\"\",VLOOKUP(B179,[2]語言配置表!$A:$B,2,FALSE))","v":"神识符-功法碎片"},{"$f":"IF(A179=\"\",\"\",VLOOKUP(C179,[2]語言配置表!$A:$B,2,FALSE))","v":"使用后必定出现产出功法碎片的神识事件。"}]
[{"$f":"IF([1]ItemConfig!$A183=\"\",\"\",[1]ItemConfig!$A183)","v":21006},{"$f":"IF(A180=\"\",\"\",VLOOKUP(A180,[1]ItemConfig!$A:$B,2,FALSE))","v":3199},{"$f":"IF(A180=\"\",\"\",VLOOKUP(A180,[1]ItemConfig!$A:$D,4,FALSE))","v":3212},{"$f":"IF(A180=\"\",\"\",VLOOKUP(A180,[1]ItemConfig!$A:$C,3,FALSE))","v":"神识符-法宝碎片"},{"$f":"IF(A180=\"\",\"\",VLOOKUP(B180,[2]語言配置表!$A:$B,2,FALSE))","v":"神识符-法宝碎片"},{"$f":"IF(A180=\"\",\"\",VLOOKUP(C180,[2]語言配置表!$A:$B,2,FALSE))","v":"使用后必定出现产出法宝碎片的神识事件。"}]
[{"$f":"IF([1]ItemConfig!$A184=\"\",\"\",[1]ItemConfig!$A184)","v":21007},{"$f":"IF(A181=\"\",\"\",VLOOKUP(A181,[1]ItemConfig!$A:$B,2,FALSE))","v":3200},{"$f":"IF(A181=\"\",\"\",VLOOKUP(A181,[1]ItemConfig!$A:$D,4,FALSE))","v":3213},{"$f":"IF(A181=\"\",\"\",VLOOKUP(A181,[1]ItemConfig!$A:$C,3,FALSE))","v":"神识符-修为丹"},{"$f":"IF(A181=\"\",\"\",VLOOKUP(B181,[2]語言配置表!$A:$B,2,FALSE))","v":"神识符-修为丹"},{"$f":"IF(A181=\"\",\"\",VLOOKUP(C181,[2]語言配置表!$A:$B,2,FALSE))","v":"使用后必定出现产出修为丹的神识事件。"}]
[{"$f":"IF([1]ItemConfig!$A185=\"\",\"\",[1]ItemConfig!$A185)","v":21008},{"$f":"IF(A182=\"\",\"\",VLOOKUP(A182,[1]ItemConfig!$A:$B,2,FALSE))","v":3201},{"$f":"IF(A182=\"\",\"\",VLOOKUP(A182,[1]ItemConfig!$A:$D,4,FALSE))","v":3214},{"$f":"IF(A182=\"\",\"\",VLOOKUP(A182,[1]ItemConfig!$A:$C,3,FALSE))","v":"神识符-天材地宝"},{"$f":"IF(A182=\"\",\"\",VLOOKUP(B182,[2]語言配置表!$A:$B,2,FALSE))","v":"神识符-天材地宝"},{"$f":"IF(A182=\"\",\"\",VLOOKUP(C182,[2]語言配置表!$A:$B,2,FALSE))","v":"使用后必定出现产出天材地宝的神识事件。"}]
[{"$f":"IF([1]ItemConfig!$A186=\"\",\"\",[1]ItemConfig!$A186)","v":21009},{"$f":"IF(A183=\"\",\"\",VLOOKUP(A183,[1]ItemConfig!$A:$B,2,FALSE))","v":3202},{"$f":"IF(A183=\"\",\"\",VLOOKUP(A183,[1]ItemConfig!$A:$D,4,FALSE))","v":3215},{"$f":"IF(A183=\"\",\"\",VLOOKUP(A183,[1]ItemConfig!$A:$C,3,FALSE))","v":"神识符-渡劫丹"},{"$f":"IF(A183=\"\",\"\",VLOOKUP(B183,[2]語言配置表!$A:$B,2,FALSE))","v":"神识符-渡劫丹"},{"$f":"IF(A183=\"\",\"\",VLOOKUP(C183,[2]語言配置表!$A:$B,2,FALSE))","v":"使用后必定出现产出渡劫丹的神识事件。"}]
[{"$f":"IF([1]ItemConfig!$A187=\"\",\"\",[1]ItemConfig!$A187)","v":21010},{"$f":"IF(A184=\"\",\"\",VLOOKUP(A184,[1]ItemConfig!$A:$B,2,FALSE))","v":3203},{"$f":"IF(A184=\"\",\"\",VLOOKUP(A184,[1]ItemConfig!$A:$D,4,FALSE))","v":3216},{"$f":"IF(A184=\"\",\"\",VLOOKUP(A184,[1]ItemConfig!$A:$C,3,FALSE))","v":"神识符-好感度礼物"},{"$f":"IF(A184=\"\",\"\",VLOOKUP(B184,[2]語言配置表!$A:$B,2,FALSE))","v":"神识符-好感度礼物"},{"$f":"IF(A184=\"\",\"\",VLOOKUP(C184,[2]語言配置表!$A:$B,2,FALSE))","v":"使用后必定出现产出好感度礼物的神识事件。"}]
[{"$f":"IF([1]ItemConfig!$A188=\"\",\"\",[1]ItemConfig!$A188)","v":21011},{"$f":"IF(A185=\"\",\"\",VLOOKUP(A185,[1]ItemConfig!$A:$B,2,FALSE))","v":3204},{"$f":"IF(A185=\"\",\"\",VLOOKUP(A185,[1]ItemConfig!$A:$D,4,FALSE))","v":3217},{"$f":"IF(A185=\"\",\"\",VLOOKUP(A185,[1]ItemConfig!$A:$C,3,FALSE))","v":"神识符-心情礼物"},{"$f":"IF(A185=\"\",\"\",VLOOKUP(B185,[2]語言配置表!$A:$B,2,FALSE))","v":"神识符-心情礼物"},{"$f":"IF(A185=\"\",\"\",VLOOKUP(C185,[2]語言配置表!$A:$B,2,FALSE))","v":"使用后必定出现产出心情礼物的神识事件。"}]
[{"$f":"IF([1]ItemConfig!$A189=\"\",\"\",[1]ItemConfig!$A189)","v":21012},{"$f":"IF(A186=\"\",\"\",VLOOKUP(A186,[1]ItemConfig!$A:$B,2,FALSE))","v":3205},{"$f":"IF(A186=\"\",\"\",VLOOKUP(A186,[1]ItemConfig!$A:$D,4,FALSE))","v":3218},{"$f":"IF(A186=\"\",\"\",VLOOKUP(A186,[1]ItemConfig!$A:$C,3,FALSE))","v":"紫色神识提升符"},{"$f":"IF(A186=\"\",\"\",VLOOKUP(B186,[2]語言配置表!$A:$B,2,FALSE))","v":"紫色神识提升符"},{"$f":"IF(A186=\"\",\"\",VLOOKUP(C186,[2]語言配置表!$A:$B,2,FALSE))","v":"使用后大幅提升紫色神识事件出现的概率。"}]
[{"$f":"IF([1]ItemConfig!$A190=\"\",\"\",[1]ItemConfig!$A190)","v":21013},{"$f":"IF(A187=\"\",\"\",VLOOKUP(A187,[1]ItemConfig!$A:$B,2,FALSE))","v":3206},{"$f":"IF(A187=\"\",\"\",VLOOKUP(A187,[1]ItemConfig!$A:$D,4,FALSE))","v":3219},{"$f":"IF(A187=\"\",\"\",VLOOKUP(A187,[1]ItemConfig!$A:$C,3,FALSE))","v":"橙色神识提升符"},{"$f":"IF(A187=\"\",\"\",VLOOKUP(B187,[2]語言配置表!$A:$B,2,FALSE))","v":"橙色神识提升符"},{"$f":"IF(A187=\"\",\"\",VLOOKUP(C187,[2]語言配置表!$A:$B,2,FALSE))","v":"使用后大幅提升橙色神识事件出现的概率。"}]
[{"$f":"IF([1]ItemConfig!$A191=\"\",\"\",[1]ItemConfig!$A191)","v":""},{"$f":"IF(A188=\"\",\"\",VLOOKUP(A188,[1]ItemConfig!$A:$B,2,FALSE))","v":""},{"$f":"IF(A188=\"\",\"\",VLOOKUP(A188,[1]ItemConfig!$A:$D,4,FALSE))","v":""},{"$f":"IF(A188=\"\",\"\",VLOOKUP(A188,[1]ItemConfig!$A:$C,3,FALSE))","v":""},{"$f":"IF(A188=\"\",\"\",VLOOKUP(B188,[2]語言配置表!$A:$B,2,FALSE))","v":""},{"$f":"IF(A188=\"\",\"\",VLOOKUP(C188,[2]語言配置表!$A:$B,2,FALSE))","v":""}]
[{"$f":"IF([1]ItemConfig!$A192=\"\",\"\",[1]ItemConfig!$A192)","v":22001},{"$f":"IF(A189=\"\",\"\",VLOOKUP(A189,[1]ItemConfig!$A:$B,2,FALSE))","v":3243},{"$f":"IF(A189=\"\",\"\",VLOOKUP(A189,[1]ItemConfig!$A:$D,4,FALSE))","v":3250},{"$f":"IF(A189=\"\",\"\",VLOOKUP(A189,[1]ItemConfig!$A:$C,3,FALSE))","v":"感悟点1"},{"$f":"IF(A189=\"\",\"\",VLOOKUP(B189,[2]語言配置表!$A:$B,2,FALSE))","v":"感悟点1"},{"$f":"IF(A189=\"\",\"\",VLOOKUP(C189,[2]語言配置表!$A:$B,2,FALSE))","v":"道具描述_感悟点1"}]
[{"$f":"IF([1]ItemConfig!$A193=\"\",\"\",[1]ItemConfig!$A193)","v":22002},{"$f":"IF(A190=\"\",\"\",VLOOKUP(A190,[1]ItemConfig!$A:$B,2,FALSE))","v":3244},{"$f":"IF(A190=\"\",\"\",VLOOKUP(A190,[1]ItemConfig!$A:$D,4,FALSE))","v":3251},{"$f":"IF(A190=\"\",\"\",VLOOKUP(A190,[1]ItemConfig!$A:$C,3,FALSE))","v":"感悟点2"},{"$f":"IF(A190=\"\",\"\",VLOOKUP(B190,[2]語言配置表!$A:$B,2,FALSE))","v":"感悟点2"},{"$f":"IF(A190=\"\",\"\",VLOOKUP(C190,[2]語言配置表!$A:$B,2,FALSE))","v":"道具描述_感悟点2"}]
[{"$f":"IF([1]ItemConfig!$A194=\"\",\"\",[1]ItemConfig!$A194)","v":22003},{"$f":"IF(A191=\"\",\"\",VLOOKUP(A191,[1]ItemConfig!$A:$B,2,FALSE))","v":3245},{"$f":"IF(A191=\"\",\"\",VLOOKUP(A191,[1]ItemConfig!$A:$D,4,FALSE))","v":3252},{"$f":"IF(A191=\"\",\"\",VLOOKUP(A191,[1]ItemConfig!$A:$C,3,FALSE))","v":"感悟点3"},{"$f":"IF(A191=\"\",\"\",VLOOKUP(B191,[2]語言配置表!$A:$B,2,FALSE))","v":"感悟点3"},{"$f":"IF(A191=\"\",\"\",VLOOKUP(C191,[2]語言配置表!$A:$B,2,FALSE))","v":"道具描述_感悟点3"}]
[{"$f":"IF([1]ItemConfig!$A195=\"\",\"\",[1]ItemConfig!$A195)","v":22004},{"$f":"IF(A192=\"\",\"\",VLOOKUP(A192,[1]ItemConfig!$A:$B,2,FALSE))","v":3246},{"$f":"IF(A192=\"\",\"\",VLOOKUP(A192,[1]ItemConfig!$A:$D,4,FALSE))","v":3253},{"$f":"IF(A192=\"\",\"\",VLOOKUP(A192,[1]ItemConfig!$A:$C,3,FALSE))","v":"感悟点4"},{"$f":"IF(A192=\"\",\"\",VLOOKUP(B192,[2]語言配置表!$A:$B,2,FALSE))","v":"感悟点4"},{"$f":"IF(A192=\"\",\"\",VLOOKUP(C192,[2]語言配置表!$A:$B,2,FALSE))","v":"道具描述_感悟点4"}]
[{"$f":"IF([1]ItemConfig!$A196=\"\",\"\",[1]ItemConfig!$A196)","v":22005},{"$f":"IF(A193=\"\",\"\",VLOOKUP(A193,[1]ItemConfig!$A:$B,2,FALSE))","v":3247},{"$f":"IF(A193=\"\",\"\",VLOOKUP(A193,[1]ItemConfig!$A:$D,4,FALSE))","v":3254},{"$f":"IF(A193=\"\",\"\",VLOOKUP(A193,[1]ItemConfig!$A:$C,3,FALSE))","v":"感悟点5"},{"$f":"IF(A193=\"\",\"\",VLOOKUP(B193,[2]語言配置表!$A:$B,2,FALSE))","v":"感悟点5"},{"$f":"IF(A193=\"\",\"\",VLOOKUP(C193,[2]語言配置表!$A:$B,2,FALSE))","v":"道具描述_感悟点5"}]
[{"$f":"IF([1]ItemConfig!$A197=\"\",\"\",[1]ItemConfig!$A197)","v":22006},{"$f":"IF(A194=\"\",\"\",VLOOKUP(A194,[1]ItemConfig!$A:$B,2,FALSE))","v":3248},{"$f":"IF(A194=\"\",\"\",VLOOKUP(A194,[1]ItemConfig!$A:$D,4,FALSE))","v":3255},{"$f":"IF(A194=\"\",\"\",VLOOKUP(A194,[1]ItemConfig!$A:$C,3,FALSE))","v":"感悟点6"},{"$f":"IF(A194=\"\",\"\",VLOOKUP(B194,[2]語言配置表!$A:$B,2,FALSE))","v":"感悟点6"},{"$f":"IF(A194=\"\",\"\",VLOOKUP(C194,[2]語言配置表!$A:$B,2,FALSE))","v":"道具描述_感悟点6"}]
[{"$f":"IF([1]ItemConfig!$A198=\"\",\"\",[1]ItemConfig!$A198)","v":22007},{"$f":"IF(A195=\"\",\"\",VLOOKUP(A195,[1]ItemConfig!$A:$B,2,FALSE))","v":3249},{"$f":"IF(A195=\"\",\"\",VLOOKUP(A195,[1]ItemConfig!$A:$D,4,FALSE))","v":3256},{"$f":"IF(A195=\"\",\"\",VLOOKUP(A195,[1]ItemConfig!$A:$C,3,FALSE))","v":"感悟点7"},{"$f":"IF(A195=\"\",\"\",VLOOKUP(B195,[2]語言配置表!$A:$B,2,FALSE))","v":"感悟点7"},{"$f":"IF(A195=\"\",\"\",VLOOKUP(C195,[2]語言配置表!$A:$B,2,FALSE))","v":"道具描述_感悟点7"}]
[{"$f":"IF([1]ItemConfig!$A199=\"\",\"\",[1]ItemConfig!$A199)","v":""},{"$f":"IF(A196=\"\",\"\",VLOOKUP(A196,[1]ItemConfig!$A:$B,2,FALSE))","v":""},{"$f":"IF(A196=\"\",\"\",VLOOKUP(A196,[1]ItemConfig!$A:$D,4,FALSE))","v":""},{"$f":"IF(A196=\"\",\"\",VLOOKUP(A196,[1]ItemConfig!$A:$C,3,FALSE))","v":""},{"$f":"IF(A196=\"\",\"\",VLOOKUP(B196,[2]語言配置表!$A:$B,2,FALSE))","v":""},{"$f":"IF(A196=\"\",\"\",VLOOKUP(C196,[2]語言配置表!$A:$B,2,FALSE))","v":""}]
[{"$f":"IF([1]ItemConfig!$A200=\"\",\"\",[1]ItemConfig!$A200)","v":23001},{"$f":"IF(A197=\"\",\"\",VLOOKUP(A197,[1]ItemConfig!$A:$B,2,FALSE))","v":10098},{"$f":"IF(A197=\"\",\"\",VLOOKUP(A197,[1]ItemConfig!$A:$D,4,FALSE))","v":10102},{"$f":"IF(A197=\"\",\"\",VLOOKUP(A197,[1]ItemConfig!$A:$C,3,FALSE))","v":"免双倍广告卡"},{"$f":"IF(A197=\"\",\"\",VLOOKUP(B197,[2]語言配置表!$A:$B,2,FALSE))","v":"免双倍广告卡"},{"$f":"IF(A197=\"\",\"\",VLOOKUP(C197,[2]語言配置表!$A:$B,2,FALSE))","v":"永久免去资源翻倍类广告！"}]
[{"$f":"IF([1]ItemConfig!$A201=\"\",\"\",[1]ItemConfig!$A201)","v":23002},{"$f":"IF(A198=\"\",\"\",VLOOKUP(A198,[1]ItemConfig!$A:$B,2,FALSE))","v":10099},{"$f":"IF(A198=\"\",\"\",VLOOKUP(A198,[1]ItemConfig!$A:$D,4,FALSE))","v":10103},{"$f":"IF(A198=\"\",\"\",VLOOKUP(A198,[1]ItemConfig!$A:$C,3,FALSE))","v":"免所有广告卡"},{"$f":"IF(A198=\"\",\"\",VLOOKUP(B198,[2]語言配置表!$A:$B,2,FALSE))","v":"免所有广告卡"},{"$f":"IF(A198=\"\",\"\",VLOOKUP(C198,[2]語言配置表!$A:$B,2,FALSE))","v":"永久免去所有广告！"}]
[{"$f":"IF([1]ItemConfig!$A202=\"\",\"\",[1]ItemConfig!$A202)","v":23101},{"$f":"IF(A199=\"\",\"\",VLOOKUP(A199,[1]ItemConfig!$A:$B,2,FALSE))","v":10100},{"$f":"IF(A199=\"\",\"\",VLOOKUP(A199,[1]ItemConfig!$A:$D,4,FALSE))","v":10104},{"$f":"IF(A199=\"\",\"\",VLOOKUP(A199,[1]ItemConfig!$A:$C,3,FALSE))","v":"免双倍广告卡碎片"},{"$f":"IF(A199=\"\",\"\",VLOOKUP(B199,[2]語言配置表!$A:$B,2,FALSE))","v":"免双倍广告卡碎片"},{"$f":"IF(A199=\"\",\"\",VLOOKUP(C199,[2]語言配置表!$A:$B,2,FALSE))","v":"集齐18枚碎片可兑换免双倍广告卡"}]
[{"$f":"IF([1]ItemConfig!$A203=\"\",\"\",[1]ItemConfig!$A203)","v":23102},{"$f":"IF(A200=\"\",\"\",VLOOKUP(A200,[1]ItemConfig!$A:$B,2,FALSE))","v":10101},{"$f":"IF(A200=\"\",\"\",VLOOKUP(A200,[1]ItemConfig!$A:$D,4,FALSE))","v":10105},{"$f":"IF(A200=\"\",\"\",VLOOKUP(A200,[1]ItemConfig!$A:$C,3,FALSE))","v":"免所有广告卡碎片"},{"$f":"IF(A200=\"\",\"\",VLOOKUP(B200,[2]語言配置表!$A:$B,2,FALSE))","v":"免所有广告卡碎片"},{"$f":"IF(A200=\"\",\"\",VLOOKUP(C200,[2]語言配置表!$A:$B,2,FALSE))","v":"集齐30枚碎片可兑换免所有广告卡"}]
[{"$f":"IF([1]ItemConfig!$A204=\"\",\"\",[1]ItemConfig!$A204)","v":""},{"$f":"IF(A201=\"\",\"\",VLOOKUP(A201,[1]ItemConfig!$A:$B,2,FALSE))","v":""},{"$f":"IF(A201=\"\",\"\",VLOOKUP(A201,[1]ItemConfig!$A:$D,4,FALSE))","v":""},{"$f":"IF(A201=\"\",\"\",VLOOKUP(A201,[1]ItemConfig!$A:$C,3,FALSE))","v":""},{"$f":"IF(A201=\"\",\"\",VLOOKUP(B201,[2]語言配置表!$A:$B,2,FALSE))","v":""},{"$f":"IF(A201=\"\",\"\",VLOOKUP(C201,[2]語言配置表!$A:$B,2,FALSE))","v":""}]
[{"$f":"IF([1]ItemConfig!$A205=\"\",\"\",[1]ItemConfig!$A205)","v":""},{"$f":"IF(A202=\"\",\"\",VLOOKUP(A202,[1]ItemConfig!$A:$B,2,FALSE))","v":""},{"$f":"IF(A202=\"\",\"\",VLOOKUP(A202,[1]ItemConfig!$A:$D,4,FALSE))","v":""},{"$f":"IF(A202=\"\",\"\",VLOOKUP(A202,[1]ItemConfig!$A:$C,3,FALSE))","v":""},{"$f":"IF(A202=\"\",\"\",VLOOKUP(B202,[2]語言配置表!$A:$B,2,FALSE))","v":""},{"$f":"IF(A202=\"\",\"\",VLOOKUP(C202,[2]語言配置表!$A:$B,2,FALSE))","v":""}]
[{"$f":"IF([1]ItemConfig!$A206=\"\",\"\",[1]ItemConfig!$A206)","v":""},{"$f":"IF(A203=\"\",\"\",VLOOKUP(A203,[1]ItemConfig!$A:$B,2,FALSE))","v":""},{"$f":"IF(A203=\"\",\"\",VLOOKUP(A203,[1]ItemConfig!$A:$D,4,FALSE))","v":""},{"$f":"IF(A203=\"\",\"\",VLOOKUP(A203,[1]ItemConfig!$A:$C,3,FALSE))","v":""},{"$f":"IF(A203=\"\",\"\",VLOOKUP(B203,[2]語言配置表!$A:$B,2,FALSE))","v":""},{"$f":"IF(A203=\"\",\"\",VLOOKUP(C203,[2]語言配置表!$A:$B,2,FALSE))","v":""}]
[{"$f":"IF([1]ItemConfig!$A207=\"\",\"\",[1]ItemConfig!$A207)","v":""},{"$f":"IF(A204=\"\",\"\",VLOOKUP(A204,[1]ItemConfig!$A:$B,2,FALSE))","v":""},{"$f":"IF(A204=\"\",\"\",VLOOKUP(A204,[1]ItemConfig!$A:$D,4,FALSE))","v":""},{"$f":"IF(A204=\"\",\"\",VLOOKUP(A204,[1]ItemConfig!$A:$C,3,FALSE))","v":""},{"$f":"IF(A204=\"\",\"\",VLOOKUP(B204,[2]語言配置表!$A:$B,2,FALSE))","v":""},{"$f":"IF(A204=\"\",\"\",VLOOKUP(C204,[2]語言配置表!$A:$B,2,FALSE))","v":""}]
[{"$f":"IF([1]ItemConfig!$A208=\"\",\"\",[1]ItemConfig!$A208)","v":""},{"$f":"IF(A205=\"\",\"\",VLOOKUP(A205,[1]ItemConfig!$A:$B,2,FALSE))","v":""},{"$f":"IF(A205=\"\",\"\",VLOOKUP(A205,[1]ItemConfig!$A:$D,4,FALSE))","v":""},{"$f":"IF(A205=\"\",\"\",VLOOKUP(A205,[1]ItemConfig!$A:$C,3,FALSE))","v":""},{"$f":"IF(A205=\"\",\"\",VLOOKUP(B205,[2]語言配置表!$A:$B,2,FALSE))","v":""},{"$f":"IF(A205=\"\",\"\",VLOOKUP(C205,[2]語言配置表!$A:$B,2,FALSE))","v":""}]
[{"$f":"IF([1]ItemConfig!$A209=\"\",\"\",[1]ItemConfig!$A209)","v":""},{"$f":"IF(A206=\"\",\"\",VLOOKUP(A206,[1]ItemConfig!$A:$B,2,FALSE))","v":""},{"$f":"IF(A206=\"\",\"\",VLOOKUP(A206,[1]ItemConfig!$A:$D,4,FALSE))","v":""},{"$f":"IF(A206=\"\",\"\",VLOOKUP(A206,[1]ItemConfig!$A:$C,3,FALSE))","v":""},{"$f":"IF(A206=\"\",\"\",VLOOKUP(B206,[2]語言配置表!$A:$B,2,FALSE))","v":""},{"$f":"IF(A206=\"\",\"\",VLOOKUP(C206,[2]語言配置表!$A:$B,2,FALSE))","v":""}]
[{"$f":"IF([1]ItemConfig!$A210=\"\",\"\",[1]ItemConfig!$A210)","v":""},{"$f":"IF(A207=\"\",\"\",VLOOKUP(A207,[1]ItemConfig!$A:$B,2,FALSE))","v":""},{"$f":"IF(A207=\"\",\"\",VLOOKUP(A207,[1]ItemConfig!$A:$D,4,FALSE))","v":""},{"$f":"IF(A207=\"\",\"\",VLOOKUP(A207,[1]ItemConfig!$A:$C,3,FALSE))","v":""},{"$f":"IF(A207=\"\",\"\",VLOOKUP(B207,[2]語言配置表!$A:$B,2,FALSE))","v":""},{"$f":"IF(A207=\"\",\"\",VLOOKUP(C207,[2]語言配置表!$A:$B,2,FALSE))","v":""}]
[{"$f":"IF([1]ItemConfig!$A211=\"\",\"\",[1]ItemConfig!$A211)","v":""},{"$f":"IF(A208=\"\",\"\",VLOOKUP(A208,[1]ItemConfig!$A:$B,2,FALSE))","v":""},{"$f":"IF(A208=\"\",\"\",VLOOKUP(A208,[1]ItemConfig!$A:$D,4,FALSE))","v":""},{"$f":"IF(A208=\"\",\"\",VLOOKUP(A208,[1]ItemConfig!$A:$C,3,FALSE))","v":""},{"$f":"IF(A208=\"\",\"\",VLOOKUP(B208,[2]語言配置表!$A:$B,2,FALSE))","v":""},{"$f":"IF(A208=\"\",\"\",VLOOKUP(C208,[2]語言配置表!$A:$B,2,FALSE))","v":""}]
[{"$f":"IF([1]ItemConfig!$A212=\"\",\"\",[1]ItemConfig!$A212)","v":""},{"$f":"IF(A209=\"\",\"\",VLOOKUP(A209,[1]ItemConfig!$A:$B,2,FALSE))","v":""},{"$f":"IF(A209=\"\",\"\",VLOOKUP(A209,[1]ItemConfig!$A:$D,4,FALSE))","v":""},{"$f":"IF(A209=\"\",\"\",VLOOKUP(A209,[1]ItemConfig!$A:$C,3,FALSE))","v":""},{"$f":"IF(A209=\"\",\"\",VLOOKUP(B209,[2]語言配置表!$A:$B,2,FALSE))","v":""},{"$f":"IF(A209=\"\",\"\",VLOOKUP(C209,[2]語言配置表!$A:$B,2,FALSE))","v":""}]
[{"$f":"IF([1]ItemConfig!$A213=\"\",\"\",[1]ItemConfig!$A213)","v":""},{"$f":"IF(A210=\"\",\"\",VLOOKUP(A210,[1]ItemConfig!$A:$B,2,FALSE))","v":""},{"$f":"IF(A210=\"\",\"\",VLOOKUP(A210,[1]ItemConfig!$A:$D,4,FALSE))","v":""},{"$f":"IF(A210=\"\",\"\",VLOOKUP(A210,[1]ItemConfig!$A:$C,3,FALSE))","v":""},{"$f":"IF(A210=\"\",\"\",VLOOKUP(B210,[2]語言配置表!$A:$B,2,FALSE))","v":""},{"$f":"IF(A210=\"\",\"\",VLOOKUP(C210,[2]語言配置表!$A:$B,2,FALSE))","v":""}]
[{"$f":"IF([1]ItemConfig!$A214=\"\",\"\",[1]ItemConfig!$A214)","v":""},{"$f":"IF(A211=\"\",\"\",VLOOKUP(A211,[1]ItemConfig!$A:$B,2,FALSE))","v":""},{"$f":"IF(A211=\"\",\"\",VLOOKUP(A211,[1]ItemConfig!$A:$D,4,FALSE))","v":""},{"$f":"IF(A211=\"\",\"\",VLOOKUP(A211,[1]ItemConfig!$A:$C,3,FALSE))","v":""},{"$f":"IF(A211=\"\",\"\",VLOOKUP(B211,[2]語言配置表!$A:$B,2,FALSE))","v":""},{"$f":"IF(A211=\"\",\"\",VLOOKUP(C211,[2]語言配置表!$A:$B,2,FALSE))","v":""}]
[{"$f":"IF([1]ItemConfig!$A215=\"\",\"\",[1]ItemConfig!$A215)","v":""},{"$f":"IF(A212=\"\",\"\",VLOOKUP(A212,[1]ItemConfig!$A:$B,2,FALSE))","v":""},{"$f":"IF(A212=\"\",\"\",VLOOKUP(A212,[1]ItemConfig!$A:$D,4,FALSE))","v":""},{"$f":"IF(A212=\"\",\"\",VLOOKUP(A212,[1]ItemConfig!$A:$C,3,FALSE))","v":""},{"$f":"IF(A212=\"\",\"\",VLOOKUP(B212,[2]語言配置表!$A:$B,2,FALSE))","v":""},{"$f":"IF(A212=\"\",\"\",VLOOKUP(C212,[2]語言配置表!$A:$B,2,FALSE))","v":""}]
[{"$f":"IF([1]ItemConfig!$A216=\"\",\"\",[1]ItemConfig!$A216)","v":""},{"$f":"IF(A213=\"\",\"\",VLOOKUP(A213,[1]ItemConfig!$A:$B,2,FALSE))","v":""},{"$f":"IF(A213=\"\",\"\",VLOOKUP(A213,[1]ItemConfig!$A:$D,4,FALSE))","v":""},{"$f":"IF(A213=\"\",\"\",VLOOKUP(A213,[1]ItemConfig!$A:$C,3,FALSE))","v":""},{"$f":"IF(A213=\"\",\"\",VLOOKUP(B213,[2]語言配置表!$A:$B,2,FALSE))","v":""},{"$f":"IF(A213=\"\",\"\",VLOOKUP(C213,[2]語言配置表!$A:$B,2,FALSE))","v":""}]
[{"$f":"IF([1]ItemConfig!$A217=\"\",\"\",[1]ItemConfig!$A217)","v":""},{"$f":"IF(A214=\"\",\"\",VLOOKUP(A214,[1]ItemConfig!$A:$B,2,FALSE))","v":""},{"$f":"IF(A214=\"\",\"\",VLOOKUP(A214,[1]ItemConfig!$A:$D,4,FALSE))","v":""},{"$f":"IF(A214=\"\",\"\",VLOOKUP(A214,[1]ItemConfig!$A:$C,3,FALSE))","v":""},{"$f":"IF(A214=\"\",\"\",VLOOKUP(B214,[2]語言配置表!$A:$B,2,FALSE))","v":""},{"$f":"IF(A214=\"\",\"\",VLOOKUP(C214,[2]語言配置表!$A:$B,2,FALSE))","v":""}]
[{"$f":"IF([1]ItemConfig!$A218=\"\",\"\",[1]ItemConfig!$A218)","v":""},{"$f":"IF(A215=\"\",\"\",VLOOKUP(A215,[1]ItemConfig!$A:$B,2,FALSE))","v":""},{"$f":"IF(A215=\"\",\"\",VLOOKUP(A215,[1]ItemConfig!$A:$D,4,FALSE))","v":""},{"$f":"IF(A215=\"\",\"\",VLOOKUP(A215,[1]ItemConfig!$A:$C,3,FALSE))","v":""},{"$f":"IF(A215=\"\",\"\",VLOOKUP(B215,[2]語言配置表!$A:$B,2,FALSE))","v":""},{"$f":"IF(A215=\"\",\"\",VLOOKUP(C215,[2]語言配置表!$A:$B,2,FALSE))","v":""}]
[{"$f":"IF([1]ItemConfig!$A219=\"\",\"\",[1]ItemConfig!$A219)","v":""},{"$f":"IF(A216=\"\",\"\",VLOOKUP(A216,[1]ItemConfig!$A:$B,2,FALSE))","v":""},{"$f":"IF(A216=\"\",\"\",VLOOKUP(A216,[1]ItemConfig!$A:$D,4,FALSE))","v":""},{"$f":"IF(A216=\"\",\"\",VLOOKUP(A216,[1]ItemConfig!$A:$C,3,FALSE))","v":""},{"$f":"IF(A216=\"\",\"\",VLOOKUP(B216,[2]語言配置表!$A:$B,2,FALSE))","v":""},{"$f":"IF(A216=\"\",\"\",VLOOKUP(C216,[2]語言配置表!$A:$B,2,FALSE))","v":""}]
[{"$f":"IF([1]ItemConfig!$A220=\"\",\"\",[1]ItemConfig!$A220)","v":""},{"$f":"IF(A217=\"\",\"\",VLOOKUP(A217,[1]ItemConfig!$A:$B,2,FALSE))","v":""},{"$f":"IF(A217=\"\",\"\",VLOOKUP(A217,[1]ItemConfig!$A:$D,4,FALSE))","v":""},{"$f":"IF(A217=\"\",\"\",VLOOKUP(A217,[1]ItemConfig!$A:$C,3,FALSE))","v":""},{"$f":"IF(A217=\"\",\"\",VLOOKUP(B217,[2]語言配置表!$A:$B,2,FALSE))","v":""},{"$f":"IF(A217=\"\",\"\",VLOOKUP(C217,[2]語言配置表!$A:$B,2,FALSE))","v":""}]
[{"$f":"IF([1]ItemConfig!$A221=\"\",\"\",[1]ItemConfig!$A221)","v":""},{"$f":"IF(A218=\"\",\"\",VLOOKUP(A218,[1]ItemConfig!$A:$B,2,FALSE))","v":""},{"$f":"IF(A218=\"\",\"\",VLOOKUP(A218,[1]ItemConfig!$A:$D,4,FALSE))","v":""},{"$f":"IF(A218=\"\",\"\",VLOOKUP(A218,[1]ItemConfig!$A:$C,3,FALSE))","v":""},{"$f":"IF(A218=\"\",\"\",VLOOKUP(B218,[2]語言配置表!$A:$B,2,FALSE))","v":""},{"$f":"IF(A218=\"\",\"\",VLOOKUP(C218,[2]語言配置表!$A:$B,2,FALSE))","v":""}]
[{"$f":"IF([1]ItemConfig!$A222=\"\",\"\",[1]ItemConfig!$A222)","v":""},{"$f":"IF(A219=\"\",\"\",VLOOKUP(A219,[1]ItemConfig!$A:$B,2,FALSE))","v":""},{"$f":"IF(A219=\"\",\"\",VLOOKUP(A219,[1]ItemConfig!$A:$D,4,FALSE))","v":""},{"$f":"IF(A219=\"\",\"\",VLOOKUP(A219,[1]ItemConfig!$A:$C,3,FALSE))","v":""},{"$f":"IF(A219=\"\",\"\",VLOOKUP(B219,[2]語言配置表!$A:$B,2,FALSE))","v":""},{"$f":"IF(A219=\"\",\"\",VLOOKUP(C219,[2]語言配置表!$A:$B,2,FALSE))","v":""}]
[{"$f":"IF([1]ItemConfig!$A223=\"\",\"\",[1]ItemConfig!$A223)","v":""},{"$f":"IF(A220=\"\",\"\",VLOOKUP(A220,[1]ItemConfig!$A:$B,2,FALSE))","v":""},{"$f":"IF(A220=\"\",\"\",VLOOKUP(A220,[1]ItemConfig!$A:$D,4,FALSE))","v":""},{"$f":"IF(A220=\"\",\"\",VLOOKUP(A220,[1]ItemConfig!$A:$C,3,FALSE))","v":""},{"$f":"IF(A220=\"\",\"\",VLOOKUP(B220,[2]語言配置表!$A:$B,2,FALSE))","v":""},{"$f":"IF(A220=\"\",\"\",VLOOKUP(C220,[2]語言配置表!$A:$B,2,FALSE))","v":""}]
[{"$f":"IF([1]ItemConfig!$A224=\"\",\"\",[1]ItemConfig!$A224)","v":""},{"$f":"IF(A221=\"\",\"\",VLOOKUP(A221,[1]ItemConfig!$A:$B,2,FALSE))","v":""},{"$f":"IF(A221=\"\",\"\",VLOOKUP(A221,[1]ItemConfig!$A:$D,4,FALSE))","v":""},{"$f":"IF(A221=\"\",\"\",VLOOKUP(A221,[1]ItemConfig!$A:$C,3,FALSE))","v":""},{"$f":"IF(A221=\"\",\"\",VLOOKUP(B221,[2]語言配置表!$A:$B,2,FALSE))","v":""},{"$f":"IF(A221=\"\",\"\",VLOOKUP(C221,[2]語言配置表!$A:$B,2,FALSE))","v":""}]
[{"$f":"IF([1]ItemConfig!$A225=\"\",\"\",[1]ItemConfig!$A225)","v":""},{"$f":"IF(A222=\"\",\"\",VLOOKUP(A222,[1]ItemConfig!$A:$B,2,FALSE))","v":""},{"$f":"IF(A222=\"\",\"\",VLOOKUP(A222,[1]ItemConfig!$A:$D,4,FALSE))","v":""},{"$f":"IF(A222=\"\",\"\",VLOOKUP(A222,[1]ItemConfig!$A:$C,3,FALSE))","v":""},{"$f":"IF(A222=\"\",\"\",VLOOKUP(B222,[2]語言配置表!$A:$B,2,FALSE))","v":""},{"$f":"IF(A222=\"\",\"\",VLOOKUP(C222,[2]語言配置表!$A:$B,2,FALSE))","v":""}]
[{"$f":"IF([1]ItemConfig!$A226=\"\",\"\",[1]ItemConfig!$A226)","v":""},{"$f":"IF(A223=\"\",\"\",VLOOKUP(A223,[1]ItemConfig!$A:$B,2,FALSE))","v":""},{"$f":"IF(A223=\"\",\"\",VLOOKUP(A223,[1]ItemConfig!$A:$D,4,FALSE))","v":""},{"$f":"IF(A223=\"\",\"\",VLOOKUP(A223,[1]ItemConfig!$A:$C,3,FALSE))","v":""},{"$f":"IF(A223=\"\",\"\",VLOOKUP(B223,[2]語言配置表!$A:$B,2,FALSE))","v":""},{"$f":"IF(A223=\"\",\"\",VLOOKUP(C223,[2]語言配置表!$A:$B,2,FALSE))","v":""}]
[{"$f":"IF([1]ItemConfig!$A227=\"\",\"\",[1]ItemConfig!$A227)","v":""},{"$f":"IF(A224=\"\",\"\",VLOOKUP(A224,[1]ItemConfig!$A:$B,2,FALSE))","v":""},{"$f":"IF(A224=\"\",\"\",VLOOKUP(A224,[1]ItemConfig!$A:$D,4,FALSE))","v":""},{"$f":"IF(A224=\"\",\"\",VLOOKUP(A224,[1]ItemConfig!$A:$C,3,FALSE))","v":""},{"$f":"IF(A224=\"\",\"\",VLOOKUP(B224,[2]語言配置表!$A:$B,2,FALSE))","v":""},{"$f":"IF(A224=\"\",\"\",VLOOKUP(C224,[2]語言配置表!$A:$B,2,FALSE))","v":""}]
[{"$f":"IF([1]ItemConfig!$A228=\"\",\"\",[1]ItemConfig!$A228)","v":""},{"$f":"IF(A225=\"\",\"\",VLOOKUP(A225,[1]ItemConfig!$A:$B,2,FALSE))","v":""},{"$f":"IF(A225=\"\",\"\",VLOOKUP(A225,[1]ItemConfig!$A:$D,4,FALSE))","v":""},{"$f":"IF(A225=\"\",\"\",VLOOKUP(A225,[1]ItemConfig!$A:$C,3,FALSE))","v":""},{"$f":"IF(A225=\"\",\"\",VLOOKUP(B225,[2]語言配置表!$A:$B,2,FALSE))","v":""},{"$f":"IF(A225=\"\",\"\",VLOOKUP(C225,[2]語言配置表!$A:$B,2,FALSE))","v":""}]
[{"$f":"IF([1]ItemConfig!$A229=\"\",\"\",[1]ItemConfig!$A229)","v":""},{"$f":"IF(A226=\"\",\"\",VLOOKUP(A226,[1]ItemConfig!$A:$B,2,FALSE))","v":""},{"$f":"IF(A226=\"\",\"\",VLOOKUP(A226,[1]ItemConfig!$A:$D,4,FALSE))","v":""},{"$f":"IF(A226=\"\",\"\",VLOOKUP(A226,[1]ItemConfig!$A:$C,3,FALSE))","v":""},{"$f":"IF(A226=\"\",\"\",VLOOKUP(B226,[2]語言配置表!$A:$B,2,FALSE))","v":""},{"$f":"IF(A226=\"\",\"\",VLOOKUP(C226,[2]語言配置表!$A:$B,2,FALSE))","v":""}]
[{"$f":"IF([1]ItemConfig!$A230=\"\",\"\",[1]ItemConfig!$A230)","v":""},{"$f":"IF(A227=\"\",\"\",VLOOKUP(A227,[1]ItemConfig!$A:$B,2,FALSE))","v":""},{"$f":"IF(A227=\"\",\"\",VLOOKUP(A227,[1]ItemConfig!$A:$D,4,FALSE))","v":""},{"$f":"IF(A227=\"\",\"\",VLOOKUP(A227,[1]ItemConfig!$A:$C,3,FALSE))","v":""},{"$f":"IF(A227=\"\",\"\",VLOOKUP(B227,[2]語言配置表!$A:$B,2,FALSE))","v":""},{"$f":"IF(A227=\"\",\"\",VLOOKUP(C227,[2]語言配置表!$A:$B,2,FALSE))","v":""}]
[{"$f":"IF([1]ItemConfig!$A231=\"\",\"\",[1]ItemConfig!$A231)","v":""},{"$f":"IF(A228=\"\",\"\",VLOOKUP(A228,[1]ItemConfig!$A:$B,2,FALSE))","v":""},{"$f":"IF(A228=\"\",\"\",VLOOKUP(A228,[1]ItemConfig!$A:$D,4,FALSE))","v":""},{"$f":"IF(A228=\"\",\"\",VLOOKUP(A228,[1]ItemConfig!$A:$C,3,FALSE))","v":""},{"$f":"IF(A228=\"\",\"\",VLOOKUP(B228,[2]語言配置表!$A:$B,2,FALSE))","v":""},{"$f":"IF(A228=\"\",\"\",VLOOKUP(C228,[2]語言配置表!$A:$B,2,FALSE))","v":""}]
[{"$f":"IF([1]ItemConfig!$A232=\"\",\"\",[1]ItemConfig!$A232)","v":""},{"$f":"IF(A229=\"\",\"\",VLOOKUP(A229,[1]ItemConfig!$A:$B,2,FALSE))","v":""},{"$f":"IF(A229=\"\",\"\",VLOOKUP(A229,[1]ItemConfig!$A:$D,4,FALSE))","v":""},{"$f":"IF(A229=\"\",\"\",VLOOKUP(A229,[1]ItemConfig!$A:$C,3,FALSE))","v":""},{"$f":"IF(A229=\"\",\"\",VLOOKUP(B229,[2]語言配置表!$A:$B,2,FALSE))","v":""},{"$f":"IF(A229=\"\",\"\",VLOOKUP(C229,[2]語言配置表!$A:$B,2,FALSE))","v":""}]
[{"$f":"IF([1]ItemConfig!$A233=\"\",\"\",[1]ItemConfig!$A233)","v":""},{"$f":"IF(A230=\"\",\"\",VLOOKUP(A230,[1]ItemConfig!$A:$B,2,FALSE))","v":""},{"$f":"IF(A230=\"\",\"\",VLOOKUP(A230,[1]ItemConfig!$A:$D,4,FALSE))","v":""},{"$f":"IF(A230=\"\",\"\",VLOOKUP(A230,[1]ItemConfig!$A:$C,3,FALSE))","v":""},{"$f":"IF(A230=\"\",\"\",VLOOKUP(B230,[2]語言配置表!$A:$B,2,FALSE))","v":""},{"$f":"IF(A230=\"\",\"\",VLOOKUP(C230,[2]語言配置表!$A:$B,2,FALSE))","v":""}]
[{"$f":"IF([1]ItemConfig!$A234=\"\",\"\",[1]ItemConfig!$A234)","v":""},{"$f":"IF(A231=\"\",\"\",VLOOKUP(A231,[1]ItemConfig!$A:$B,2,FALSE))","v":""},{"$f":"IF(A231=\"\",\"\",VLOOKUP(A231,[1]ItemConfig!$A:$D,4,FALSE))","v":""},{"$f":"IF(A231=\"\",\"\",VLOOKUP(A231,[1]ItemConfig!$A:$C,3,FALSE))","v":""},{"$f":"IF(A231=\"\",\"\",VLOOKUP(B231,[2]語言配置表!$A:$B,2,FALSE))","v":""},{"$f":"IF(A231=\"\",\"\",VLOOKUP(C231,[2]語言配置表!$A:$B,2,FALSE))","v":""}]
[{"$f":"IF([1]ItemConfig!$A235=\"\",\"\",[1]ItemConfig!$A235)","v":""},{"$f":"IF(A232=\"\",\"\",VLOOKUP(A232,[1]ItemConfig!$A:$B,2,FALSE))","v":""},{"$f":"IF(A232=\"\",\"\",VLOOKUP(A232,[1]ItemConfig!$A:$D,4,FALSE))","v":""},{"$f":"IF(A232=\"\",\"\",VLOOKUP(A232,[1]ItemConfig!$A:$C,3,FALSE))","v":""},{"$f":"IF(A232=\"\",\"\",VLOOKUP(B232,[2]語言配置表!$A:$B,2,FALSE))","v":""},{"$f":"IF(A232=\"\",\"\",VLOOKUP(C232,[2]語言配置表!$A:$B,2,FALSE))","v":""}]
[{"$f":"IF([1]ItemConfig!$A236=\"\",\"\",[1]ItemConfig!$A236)","v":""},{"$f":"IF(A233=\"\",\"\",VLOOKUP(A233,[1]ItemConfig!$A:$B,2,FALSE))","v":""},{"$f":"IF(A233=\"\",\"\",VLOOKUP(A233,[1]ItemConfig!$A:$D,4,FALSE))","v":""},{"$f":"IF(A233=\"\",\"\",VLOOKUP(A233,[1]ItemConfig!$A:$C,3,FALSE))","v":""},{"$f":"IF(A233=\"\",\"\",VLOOKUP(B233,[2]語言配置表!$A:$B,2,FALSE))","v":""},{"$f":"IF(A233=\"\",\"\",VLOOKUP(C233,[2]語言配置表!$A:$B,2,FALSE))","v":""}]
[{"$f":"IF([1]ItemConfig!$A237=\"\",\"\",[1]ItemConfig!$A237)","v":""},{"$f":"IF(A234=\"\",\"\",VLOOKUP(A234,[1]ItemConfig!$A:$B,2,FALSE))","v":""},{"$f":"IF(A234=\"\",\"\",VLOOKUP(A234,[1]ItemConfig!$A:$D,4,FALSE))","v":""},{"$f":"IF(A234=\"\",\"\",VLOOKUP(A234,[1]ItemConfig!$A:$C,3,FALSE))","v":""},{"$f":"IF(A234=\"\",\"\",VLOOKUP(B234,[2]語言配置表!$A:$B,2,FALSE))","v":""},{"$f":"IF(A234=\"\",\"\",VLOOKUP(C234,[2]語言配置表!$A:$B,2,FALSE))","v":""}]
[{"$f":"IF([1]ItemConfig!$A238=\"\",\"\",[1]ItemConfig!$A238)","v":""},{"$f":"IF(A235=\"\",\"\",VLOOKUP(A235,[1]ItemConfig!$A:$B,2,FALSE))","v":""},{"$f":"IF(A235=\"\",\"\",VLOOKUP(A235,[1]ItemConfig!$A:$D,4,FALSE))","v":""},{"$f":"IF(A235=\"\",\"\",VLOOKUP(A235,[1]ItemConfig!$A:$C,3,FALSE))","v":""},{"$f":"IF(A235=\"\",\"\",VLOOKUP(B235,[2]語言配置表!$A:$B,2,FALSE))","v":""},{"$f":"IF(A235=\"\",\"\",VLOOKUP(C235,[2]語言配置表!$A:$B,2,FALSE))","v":""}]
[{"$f":"IF([1]ItemConfig!$A239=\"\",\"\",[1]ItemConfig!$A239)","v":""},{"$f":"IF(A236=\"\",\"\",VLOOKUP(A236,[1]ItemConfig!$A:$B,2,FALSE))","v":""},{"$f":"IF(A236=\"\",\"\",VLOOKUP(A236,[1]ItemConfig!$A:$D,4,FALSE))","v":""},{"$f":"IF(A236=\"\",\"\",VLOOKUP(A236,[1]ItemConfig!$A:$C,3,FALSE))","v":""},{"$f":"IF(A236=\"\",\"\",VLOOKUP(B236,[2]語言配置表!$A:$B,2,FALSE))","v":""},{"$f":"IF(A236=\"\",\"\",VLOOKUP(C236,[2]語言配置表!$A:$B,2,FALSE))","v":""}]
[{"$f":"IF([1]ItemConfig!$A240=\"\",\"\",[1]ItemConfig!$A240)","v":""},{"$f":"IF(A237=\"\",\"\",VLOOKUP(A237,[1]ItemConfig!$A:$B,2,FALSE))","v":""},{"$f":"IF(A237=\"\",\"\",VLOOKUP(A237,[1]ItemConfig!$A:$D,4,FALSE))","v":""},{"$f":"IF(A237=\"\",\"\",VLOOKUP(A237,[1]ItemConfig!$A:$C,3,FALSE))","v":""},{"$f":"IF(A237=\"\",\"\",VLOOKUP(B237,[2]語言配置表!$A:$B,2,FALSE))","v":""},{"$f":"IF(A237=\"\",\"\",VLOOKUP(C237,[2]語言配置表!$A:$B,2,FALSE))","v":""}]
[{"$f":"IF([1]ItemConfig!$A241=\"\",\"\",[1]ItemConfig!$A241)","v":""},{"$f":"IF(A238=\"\",\"\",VLOOKUP(A238,[1]ItemConfig!$A:$B,2,FALSE))","v":""},{"$f":"IF(A238=\"\",\"\",VLOOKUP(A238,[1]ItemConfig!$A:$D,4,FALSE))","v":""},{"$f":"IF(A238=\"\",\"\",VLOOKUP(A238,[1]ItemConfig!$A:$C,3,FALSE))","v":""},{"$f":"IF(A238=\"\",\"\",VLOOKUP(B238,[2]語言配置表!$A:$B,2,FALSE))","v":""},{"$f":"IF(A238=\"\",\"\",VLOOKUP(C238,[2]語言配置表!$A:$B,2,FALSE))","v":""}]
[{"$f":"IF([1]ItemConfig!$A242=\"\",\"\",[1]ItemConfig!$A242)","v":""},{"$f":"IF(A239=\"\",\"\",VLOOKUP(A239,[1]ItemConfig!$A:$B,2,FALSE))","v":""},{"$f":"IF(A239=\"\",\"\",VLOOKUP(A239,[1]ItemConfig!$A:$D,4,FALSE))","v":""},{"$f":"IF(A239=\"\",\"\",VLOOKUP(A239,[1]ItemConfig!$A:$C,3,FALSE))","v":""},{"$f":"IF(A239=\"\",\"\",VLOOKUP(B239,[2]語言配置表!$A:$B,2,FALSE))","v":""},{"$f":"IF(A239=\"\",\"\",VLOOKUP(C239,[2]語言配置表!$A:$B,2,FALSE))","v":""}]
[{"$f":"IF([1]ItemConfig!$A243=\"\",\"\",[1]ItemConfig!$A243)","v":""},{"$f":"IF(A240=\"\",\"\",VLOOKUP(A240,[1]ItemConfig!$A:$B,2,FALSE))","v":""},{"$f":"IF(A240=\"\",\"\",VLOOKUP(A240,[1]ItemConfig!$A:$D,4,FALSE))","v":""},{"$f":"IF(A240=\"\",\"\",VLOOKUP(A240,[1]ItemConfig!$A:$C,3,FALSE))","v":""},{"$f":"IF(A240=\"\",\"\",VLOOKUP(B240,[2]語言配置表!$A:$B,2,FALSE))","v":""},{"$f":"IF(A240=\"\",\"\",VLOOKUP(C240,[2]語言配置表!$A:$B,2,FALSE))","v":""}]
[{"$f":"IF([1]ItemConfig!$A244=\"\",\"\",[1]ItemConfig!$A244)","v":""},{"$f":"IF(A241=\"\",\"\",VLOOKUP(A241,[1]ItemConfig!$A:$B,2,FALSE))","v":""},{"$f":"IF(A241=\"\",\"\",VLOOKUP(A241,[1]ItemConfig!$A:$D,4,FALSE))","v":""},{"$f":"IF(A241=\"\",\"\",VLOOKUP(A241,[1]ItemConfig!$A:$C,3,FALSE))","v":""},{"$f":"IF(A241=\"\",\"\",VLOOKUP(B241,[2]語言配置表!$A:$B,2,FALSE))","v":""},{"$f":"IF(A241=\"\",\"\",VLOOKUP(C241,[2]語言配置表!$A:$B,2,FALSE))","v":""}]
[{"$f":"IF([1]ItemConfig!$A245=\"\",\"\",[1]ItemConfig!$A245)","v":""},{"$f":"IF(A242=\"\",\"\",VLOOKUP(A242,[1]ItemConfig!$A:$B,2,FALSE))","v":""},{"$f":"IF(A242=\"\",\"\",VLOOKUP(A242,[1]ItemConfig!$A:$D,4,FALSE))","v":""},{"$f":"IF(A242=\"\",\"\",VLOOKUP(A242,[1]ItemConfig!$A:$C,3,FALSE))","v":""},{"$f":"IF(A242=\"\",\"\",VLOOKUP(B242,[2]語言配置表!$A:$B,2,FALSE))","v":""},{"$f":"IF(A242=\"\",\"\",VLOOKUP(C242,[2]語言配置表!$A:$B,2,FALSE))","v":""}]
[{"$f":"IF([1]ItemConfig!$A246=\"\",\"\",[1]ItemConfig!$A246)","v":""},{"$f":"IF(A243=\"\",\"\",VLOOKUP(A243,[1]ItemConfig!$A:$B,2,FALSE))","v":""},{"$f":"IF(A243=\"\",\"\",VLOOKUP(A243,[1]ItemConfig!$A:$D,4,FALSE))","v":""},{"$f":"IF(A243=\"\",\"\",VLOOKUP(A243,[1]ItemConfig!$A:$C,3,FALSE))","v":""},{"$f":"IF(A243=\"\",\"\",VLOOKUP(B243,[2]語言配置表!$A:$B,2,FALSE))","v":""},{"$f":"IF(A243=\"\",\"\",VLOOKUP(C243,[2]語言配置表!$A:$B,2,FALSE))","v":""}]
[{"$f":"IF([1]ItemConfig!$A247=\"\",\"\",[1]ItemConfig!$A247)","v":""},{"$f":"IF(A244=\"\",\"\",VLOOKUP(A244,[1]ItemConfig!$A:$B,2,FALSE))","v":""},{"$f":"IF(A244=\"\",\"\",VLOOKUP(A244,[1]ItemConfig!$A:$D,4,FALSE))","v":""},{"$f":"IF(A244=\"\",\"\",VLOOKUP(A244,[1]ItemConfig!$A:$C,3,FALSE))","v":""},{"$f":"IF(A244=\"\",\"\",VLOOKUP(B244,[2]語言配置表!$A:$B,2,FALSE))","v":""},{"$f":"IF(A244=\"\",\"\",VLOOKUP(C244,[2]語言配置表!$A:$B,2,FALSE))","v":""}]
[{"$f":"IF([1]ItemConfig!$A248=\"\",\"\",[1]ItemConfig!$A248)","v":""},{"$f":"IF(A245=\"\",\"\",VLOOKUP(A245,[1]ItemConfig!$A:$B,2,FALSE))","v":""},{"$f":"IF(A245=\"\",\"\",VLOOKUP(A245,[1]ItemConfig!$A:$D,4,FALSE))","v":""},{"$f":"IF(A245=\"\",\"\",VLOOKUP(A245,[1]ItemConfig!$A:$C,3,FALSE))","v":""},{"$f":"IF(A245=\"\",\"\",VLOOKUP(B245,[2]語言配置表!$A:$B,2,FALSE))","v":""},{"$f":"IF(A245=\"\",\"\",VLOOKUP(C245,[2]語言配置表!$A:$B,2,FALSE))","v":""}]
[{"$f":"IF([1]ItemConfig!$A249=\"\",\"\",[1]ItemConfig!$A249)","v":""},{"$f":"IF(A246=\"\",\"\",VLOOKUP(A246,[1]ItemConfig!$A:$B,2,FALSE))","v":""},{"$f":"IF(A246=\"\",\"\",VLOOKUP(A246,[1]ItemConfig!$A:$D,4,FALSE))","v":""},{"$f":"IF(A246=\"\",\"\",VLOOKUP(A246,[1]ItemConfig!$A:$C,3,FALSE))","v":""},{"$f":"IF(A246=\"\",\"\",VLOOKUP(B246,[2]語言配置表!$A:$B,2,FALSE))","v":""},{"$f":"IF(A246=\"\",\"\",VLOOKUP(C246,[2]語言配置表!$A:$B,2,FALSE))","v":""}]
[{"$f":"IF([1]ItemConfig!$A250=\"\",\"\",[1]ItemConfig!$A250)","v":""},{"$f":"IF(A247=\"\",\"\",VLOOKUP(A247,[1]ItemConfig!$A:$B,2,FALSE))","v":""},{"$f":"IF(A247=\"\",\"\",VLOOKUP(A247,[1]ItemConfig!$A:$D,4,FALSE))","v":""},{"$f":"IF(A247=\"\",\"\",VLOOKUP(A247,[1]ItemConfig!$A:$C,3,FALSE))","v":""},{"$f":"IF(A247=\"\",\"\",VLOOKUP(B247,[2]語言配置表!$A:$B,2,FALSE))","v":""},{"$f":"IF(A247=\"\",\"\",VLOOKUP(C247,[2]語言配置表!$A:$B,2,FALSE))","v":""}]
[{"$f":"IF([1]ItemConfig!$A251=\"\",\"\",[1]ItemConfig!$A251)","v":""},{"$f":"IF(A248=\"\",\"\",VLOOKUP(A248,[1]ItemConfig!$A:$B,2,FALSE))","v":""},{"$f":"IF(A248=\"\",\"\",VLOOKUP(A248,[1]ItemConfig!$A:$D,4,FALSE))","v":""},{"$f":"IF(A248=\"\",\"\",VLOOKUP(A248,[1]ItemConfig!$A:$C,3,FALSE))","v":""},{"$f":"IF(A248=\"\",\"\",VLOOKUP(B248,[2]語言配置表!$A:$B,2,FALSE))","v":""},{"$f":"IF(A248=\"\",\"\",VLOOKUP(C248,[2]語言配置表!$A:$B,2,FALSE))","v":""}]
[{"$f":"IF([1]ItemConfig!$A252=\"\",\"\",[1]ItemConfig!$A252)","v":""},{"$f":"IF(A249=\"\",\"\",VLOOKUP(A249,[1]ItemConfig!$A:$B,2,FALSE))","v":""},{"$f":"IF(A249=\"\",\"\",VLOOKUP(A249,[1]ItemConfig!$A:$D,4,FALSE))","v":""},{"$f":"IF(A249=\"\",\"\",VLOOKUP(A249,[1]ItemConfig!$A:$C,3,FALSE))","v":""},{"$f":"IF(A249=\"\",\"\",VLOOKUP(B249,[2]語言配置表!$A:$B,2,FALSE))","v":""},{"$f":"IF(A249=\"\",\"\",VLOOKUP(C249,[2]語言配置表!$A:$B,2,FALSE))","v":""}]
[{"$f":"IF([1]ItemConfig!$A253=\"\",\"\",[1]ItemConfig!$A253)","v":""},{"$f":"IF(A250=\"\",\"\",VLOOKUP(A250,[1]ItemConfig!$A:$B,2,FALSE))","v":""},{"$f":"IF(A250=\"\",\"\",VLOOKUP(A250,[1]ItemConfig!$A:$D,4,FALSE))","v":""},{"$f":"IF(A250=\"\",\"\",VLOOKUP(A250,[1]ItemConfig!$A:$C,3,FALSE))","v":""},{"$f":"IF(A250=\"\",\"\",VLOOKUP(B250,[2]語言配置表!$A:$B,2,FALSE))","v":""},{"$f":"IF(A250=\"\",\"\",VLOOKUP(C250,[2]語言配置表!$A:$B,2,FALSE))","v":""}]
[{"$f":"IF([1]ItemConfig!$A254=\"\",\"\",[1]ItemConfig!$A254)","v":""},{"$f":"IF(A251=\"\",\"\",VLOOKUP(A251,[1]ItemConfig!$A:$B,2,FALSE))","v":""},{"$f":"IF(A251=\"\",\"\",VLOOKUP(A251,[1]ItemConfig!$A:$D,4,FALSE))","v":""},{"$f":"IF(A251=\"\",\"\",VLOOKUP(A251,[1]ItemConfig!$A:$C,3,FALSE))","v":""},{"$f":"IF(A251=\"\",\"\",VLOOKUP(B251,[2]語言配置表!$A:$B,2,FALSE))","v":""},{"$f":"IF(A251=\"\",\"\",VLOOKUP(C251,[2]語言配置表!$A:$B,2,FALSE))","v":""}]
[{"$f":"IF([1]ItemConfig!$A255=\"\",\"\",[1]ItemConfig!$A255)","v":""},{"$f":"IF(A252=\"\",\"\",VLOOKUP(A252,[1]ItemConfig!$A:$B,2,FALSE))","v":""},{"$f":"IF(A252=\"\",\"\",VLOOKUP(A252,[1]ItemConfig!$A:$D,4,FALSE))","v":""},{"$f":"IF(A252=\"\",\"\",VLOOKUP(A252,[1]ItemConfig!$A:$C,3,FALSE))","v":""},{"$f":"IF(A252=\"\",\"\",VLOOKUP(B252,[2]語言配置表!$A:$B,2,FALSE))","v":""},{"$f":"IF(A252=\"\",\"\",VLOOKUP(C252,[2]語言配置表!$A:$B,2,FALSE))","v":""}]
[{"$f":"IF([1]ItemConfig!$A256=\"\",\"\",[1]ItemConfig!$A256)","v":""},{"$f":"IF(A253=\"\",\"\",VLOOKUP(A253,[1]ItemConfig!$A:$B,2,FALSE))","v":""},{"$f":"IF(A253=\"\",\"\",VLOOKUP(A253,[1]ItemConfig!$A:$D,4,FALSE))","v":""},{"$f":"IF(A253=\"\",\"\",VLOOKUP(A253,[1]ItemConfig!$A:$C,3,FALSE))","v":""},{"$f":"IF(A253=\"\",\"\",VLOOKUP(B253,[2]語言配置表!$A:$B,2,FALSE))","v":""},{"$f":"IF(A253=\"\",\"\",VLOOKUP(C253,[2]語言配置表!$A:$B,2,FALSE))","v":""}]
[{"$f":"IF([1]ItemConfig!$A257=\"\",\"\",[1]ItemConfig!$A257)","v":""},{"$f":"IF(A254=\"\",\"\",VLOOKUP(A254,[1]ItemConfig!$A:$B,2,FALSE))","v":""},{"$f":"IF(A254=\"\",\"\",VLOOKUP(A254,[1]ItemConfig!$A:$D,4,FALSE))","v":""},{"$f":"IF(A254=\"\",\"\",VLOOKUP(A254,[1]ItemConfig!$A:$C,3,FALSE))","v":""},{"$f":"IF(A254=\"\",\"\",VLOOKUP(B254,[2]語言配置表!$A:$B,2,FALSE))","v":""},{"$f":"IF(A254=\"\",\"\",VLOOKUP(C254,[2]語言配置表!$A:$B,2,FALSE))","v":""}]
[{"$f":"IF([1]ItemConfig!$A258=\"\",\"\",[1]ItemConfig!$A258)","v":""},{"$f":"IF(A255=\"\",\"\",VLOOKUP(A255,[1]ItemConfig!$A:$B,2,FALSE))","v":""},{"$f":"IF(A255=\"\",\"\",VLOOKUP(A255,[1]ItemConfig!$A:$D,4,FALSE))","v":""},{"$f":"IF(A255=\"\",\"\",VLOOKUP(A255,[1]ItemConfig!$A:$C,3,FALSE))","v":""},{"$f":"IF(A255=\"\",\"\",VLOOKUP(B255,[2]語言配置表!$A:$B,2,FALSE))","v":""},{"$f":"IF(A255=\"\",\"\",VLOOKUP(C255,[2]語言配置表!$A:$B,2,FALSE))","v":""}]
[{"$f":"IF([1]ItemConfig!$A259=\"\",\"\",[1]ItemConfig!$A259)","v":""},{"$f":"IF(A256=\"\",\"\",VLOOKUP(A256,[1]ItemConfig!$A:$B,2,FALSE))","v":""},{"$f":"IF(A256=\"\",\"\",VLOOKUP(A256,[1]ItemConfig!$A:$D,4,FALSE))","v":""},{"$f":"IF(A256=\"\",\"\",VLOOKUP(A256,[1]ItemConfig!$A:$C,3,FALSE))","v":""},{"$f":"IF(A256=\"\",\"\",VLOOKUP(B256,[2]語言配置表!$A:$B,2,FALSE))","v":""},{"$f":"IF(A256=\"\",\"\",VLOOKUP(C256,[2]語言配置表!$A:$B,2,FALSE))","v":""}]
[{"$f":"IF([1]ItemConfig!$A260=\"\",\"\",[1]ItemConfig!$A260)","v":""},{"$f":"IF(A257=\"\",\"\",VLOOKUP(A257,[1]ItemConfig!$A:$B,2,FALSE))","v":""},{"$f":"IF(A257=\"\",\"\",VLOOKUP(A257,[1]ItemConfig!$A:$D,4,FALSE))","v":""},{"$f":"IF(A257=\"\",\"\",VLOOKUP(A257,[1]ItemConfig!$A:$C,3,FALSE))","v":""},{"$f":"IF(A257=\"\",\"\",VLOOKUP(B257,[2]語言配置表!$A:$B,2,FALSE))","v":""},{"$f":"IF(A257=\"\",\"\",VLOOKUP(C257,[2]語言配置表!$A:$B,2,FALSE))","v":""}]
[{"$f":"IF([1]ItemConfig!$A261=\"\",\"\",[1]ItemConfig!$A261)","v":""},{"$f":"IF(A258=\"\",\"\",VLOOKUP(A258,[1]ItemConfig!$A:$B,2,FALSE))","v":""},{"$f":"IF(A258=\"\",\"\",VLOOKUP(A258,[1]ItemConfig!$A:$D,4,FALSE))","v":""},{"$f":"IF(A258=\"\",\"\",VLOOKUP(A258,[1]ItemConfig!$A:$C,3,FALSE))","v":""},{"$f":"IF(A258=\"\",\"\",VLOOKUP(B258,[2]語言配置表!$A:$B,2,FALSE))","v":""},{"$f":"IF(A258=\"\",\"\",VLOOKUP(C258,[2]語言配置表!$A:$B,2,FALSE))","v":""}]
[{"$f":"IF([1]ItemConfig!$A262=\"\",\"\",[1]ItemConfig!$A262)","v":""},{"$f":"IF(A259=\"\",\"\",VLOOKUP(A259,[1]ItemConfig!$A:$B,2,FALSE))","v":""},{"$f":"IF(A259=\"\",\"\",VLOOKUP(A259,[1]ItemConfig!$A:$D,4,FALSE))","v":""},{"$f":"IF(A259=\"\",\"\",VLOOKUP(A259,[1]ItemConfig!$A:$C,3,FALSE))","v":""},{"$f":"IF(A259=\"\",\"\",VLOOKUP(B259,[2]語言配置表!$A:$B,2,FALSE))","v":""},{"$f":"IF(A259=\"\",\"\",VLOOKUP(C259,[2]語言配置表!$A:$B,2,FALSE))","v":""}]
[{"$f":"IF([1]ItemConfig!$A263=\"\",\"\",[1]ItemConfig!$A263)","v":""},{"$f":"IF(A260=\"\",\"\",VLOOKUP(A260,[1]ItemConfig!$A:$B,2,FALSE))","v":""},{"$f":"IF(A260=\"\",\"\",VLOOKUP(A260,[1]ItemConfig!$A:$D,4,FALSE))","v":""},{"$f":"IF(A260=\"\",\"\",VLOOKUP(A260,[1]ItemConfig!$A:$C,3,FALSE))","v":""},{"$f":"IF(A260=\"\",\"\",VLOOKUP(B260,[2]語言配置表!$A:$B,2,FALSE))","v":""},{"$f":"IF(A260=\"\",\"\",VLOOKUP(C260,[2]語言配置表!$A:$B,2,FALSE))","v":""}]
[{"$f":"IF([1]ItemConfig!$A264=\"\",\"\",[1]ItemConfig!$A264)","v":""},{"$f":"IF(A261=\"\",\"\",VLOOKUP(A261,[1]ItemConfig!$A:$B,2,FALSE))","v":""},{"$f":"IF(A261=\"\",\"\",VLOOKUP(A261,[1]ItemConfig!$A:$D,4,FALSE))","v":""},{"$f":"IF(A261=\"\",\"\",VLOOKUP(A261,[1]ItemConfig!$A:$C,3,FALSE))","v":""},{"$f":"IF(A261=\"\",\"\",VLOOKUP(B261,[2]語言配置表!$A:$B,2,FALSE))","v":""},{"$f":"IF(A261=\"\",\"\",VLOOKUP(C261,[2]語言配置表!$A:$B,2,FALSE))","v":""}]
[{"$f":"IF([1]ItemConfig!$A265=\"\",\"\",[1]ItemConfig!$A265)","v":""},{"$f":"IF(A262=\"\",\"\",VLOOKUP(A262,[1]ItemConfig!$A:$B,2,FALSE))","v":""},{"$f":"IF(A262=\"\",\"\",VLOOKUP(A262,[1]ItemConfig!$A:$D,4,FALSE))","v":""},{"$f":"IF(A262=\"\",\"\",VLOOKUP(A262,[1]ItemConfig!$A:$C,3,FALSE))","v":""},{"$f":"IF(A262=\"\",\"\",VLOOKUP(B262,[2]語言配置表!$A:$B,2,FALSE))","v":""},{"$f":"IF(A262=\"\",\"\",VLOOKUP(C262,[2]語言配置表!$A:$B,2,FALSE))","v":""}]
[{"$f":"IF([1]ItemConfig!$A266=\"\",\"\",[1]ItemConfig!$A266)","v":""},{"$f":"IF(A263=\"\",\"\",VLOOKUP(A263,[1]ItemConfig!$A:$B,2,FALSE))","v":""},{"$f":"IF(A263=\"\",\"\",VLOOKUP(A263,[1]ItemConfig!$A:$D,4,FALSE))","v":""},{"$f":"IF(A263=\"\",\"\",VLOOKUP(A263,[1]ItemConfig!$A:$C,3,FALSE))","v":""},{"$f":"IF(A263=\"\",\"\",VLOOKUP(B263,[2]語言配置表!$A:$B,2,FALSE))","v":""},{"$f":"IF(A263=\"\",\"\",VLOOKUP(C263,[2]語言配置表!$A:$B,2,FALSE))","v":""}]
[{"$f":"IF([1]ItemConfig!$A267=\"\",\"\",[1]ItemConfig!$A267)","v":""},{"$f":"IF(A264=\"\",\"\",VLOOKUP(A264,[1]ItemConfig!$A:$B,2,FALSE))","v":""},{"$f":"IF(A264=\"\",\"\",VLOOKUP(A264,[1]ItemConfig!$A:$D,4,FALSE))","v":""},{"$f":"IF(A264=\"\",\"\",VLOOKUP(A264,[1]ItemConfig!$A:$C,3,FALSE))","v":""},{"$f":"IF(A264=\"\",\"\",VLOOKUP(B264,[2]語言配置表!$A:$B,2,FALSE))","v":""},{"$f":"IF(A264=\"\",\"\",VLOOKUP(C264,[2]語言配置表!$A:$B,2,FALSE))","v":""}]
[{"$f":"IF([1]ItemConfig!$A268=\"\",\"\",[1]ItemConfig!$A268)","v":""},{"$f":"IF(A265=\"\",\"\",VLOOKUP(A265,[1]ItemConfig!$A:$B,2,FALSE))","v":""},{"$f":"IF(A265=\"\",\"\",VLOOKUP(A265,[1]ItemConfig!$A:$D,4,FALSE))","v":""},{"$f":"IF(A265=\"\",\"\",VLOOKUP(A265,[1]ItemConfig!$A:$C,3,FALSE))","v":""},{"$f":"IF(A265=\"\",\"\",VLOOKUP(B265,[2]語言配置表!$A:$B,2,FALSE))","v":""},{"$f":"IF(A265=\"\",\"\",VLOOKUP(C265,[2]語言配置表!$A:$B,2,FALSE))","v":""}]
[{"$f":"IF([1]ItemConfig!$A269=\"\",\"\",[1]ItemConfig!$A269)","v":""},{"$f":"IF(A266=\"\",\"\",VLOOKUP(A266,[1]ItemConfig!$A:$B,2,FALSE))","v":""},{"$f":"IF(A266=\"\",\"\",VLOOKUP(A266,[1]ItemConfig!$A:$D,4,FALSE))","v":""},{"$f":"IF(A266=\"\",\"\",VLOOKUP(A266,[1]ItemConfig!$A:$C,3,FALSE))","v":""},{"$f":"IF(A266=\"\",\"\",VLOOKUP(B266,[2]語言配置表!$A:$B,2,FALSE))","v":""},{"$f":"IF(A266=\"\",\"\",VLOOKUP(C266,[2]語言配置表!$A:$B,2,FALSE))","v":""}]
[{"$f":"IF([1]ItemConfig!$A270=\"\",\"\",[1]ItemConfig!$A270)","v":""},{"$f":"IF(A267=\"\",\"\",VLOOKUP(A267,[1]ItemConfig!$A:$B,2,FALSE))","v":""},{"$f":"IF(A267=\"\",\"\",VLOOKUP(A267,[1]ItemConfig!$A:$D,4,FALSE))","v":""},{"$f":"IF(A267=\"\",\"\",VLOOKUP(A267,[1]ItemConfig!$A:$C,3,FALSE))","v":""},{"$f":"IF(A267=\"\",\"\",VLOOKUP(B267,[2]語言配置表!$A:$B,2,FALSE))","v":""},{"$f":"IF(A267=\"\",\"\",VLOOKUP(C267,[2]語言配置表!$A:$B,2,FALSE))","v":""}]
[{"$f":"IF([1]ItemConfig!$A271=\"\",\"\",[1]ItemConfig!$A271)","v":""},{"$f":"IF(A268=\"\",\"\",VLOOKUP(A268,[1]ItemConfig!$A:$B,2,FALSE))","v":""},{"$f":"IF(A268=\"\",\"\",VLOOKUP(A268,[1]ItemConfig!$A:$D,4,FALSE))","v":""},{"$f":"IF(A268=\"\",\"\",VLOOKUP(A268,[1]ItemConfig!$A:$C,3,FALSE))","v":""},{"$f":"IF(A268=\"\",\"\",VLOOKUP(B268,[2]語言配置表!$A:$B,2,FALSE))","v":""},{"$f":"IF(A268=\"\",\"\",VLOOKUP(C268,[2]語言配置表!$A:$B,2,FALSE))","v":""}]
[{"$f":"IF([1]ItemConfig!$A272=\"\",\"\",[1]ItemConfig!$A272)","v":""},{"$f":"IF(A269=\"\",\"\",VLOOKUP(A269,[1]ItemConfig!$A:$B,2,FALSE))","v":""},{"$f":"IF(A269=\"\",\"\",VLOOKUP(A269,[1]ItemConfig!$A:$D,4,FALSE))","v":""},{"$f":"IF(A269=\"\",\"\",VLOOKUP(A269,[1]ItemConfig!$A:$C,3,FALSE))","v":""},{"$f":"IF(A269=\"\",\"\",VLOOKUP(B269,[2]語言配置表!$A:$B,2,FALSE))","v":""},{"$f":"IF(A269=\"\",\"\",VLOOKUP(C269,[2]語言配置表!$A:$B,2,FALSE))","v":""}]
[{"$f":"IF([1]ItemConfig!$A273=\"\",\"\",[1]ItemConfig!$A273)","v":""},{"$f":"IF(A270=\"\",\"\",VLOOKUP(A270,[1]ItemConfig!$A:$B,2,FALSE))","v":""},{"$f":"IF(A270=\"\",\"\",VLOOKUP(A270,[1]ItemConfig!$A:$D,4,FALSE))","v":""},{"$f":"IF(A270=\"\",\"\",VLOOKUP(A270,[1]ItemConfig!$A:$C,3,FALSE))","v":""},{"$f":"IF(A270=\"\",\"\",VLOOKUP(B270,[2]語言配置表!$A:$B,2,FALSE))","v":""},{"$f":"IF(A270=\"\",\"\",VLOOKUP(C270,[2]語言配置表!$A:$B,2,FALSE))","v":""}]
[{"$f":"IF([1]ItemConfig!$A274=\"\",\"\",[1]ItemConfig!$A274)","v":""},{"$f":"IF(A271=\"\",\"\",VLOOKUP(A271,[1]ItemConfig!$A:$B,2,FALSE))","v":""},{"$f":"IF(A271=\"\",\"\",VLOOKUP(A271,[1]ItemConfig!$A:$D,4,FALSE))","v":""},{"$f":"IF(A271=\"\",\"\",VLOOKUP(A271,[1]ItemConfig!$A:$C,3,FALSE))","v":""},{"$f":"IF(A271=\"\",\"\",VLOOKUP(B271,[2]語言配置表!$A:$B,2,FALSE))","v":""},{"$f":"IF(A271=\"\",\"\",VLOOKUP(C271,[2]語言配置表!$A:$B,2,FALSE))","v":""}]
[{"$f":"IF([1]ItemConfig!$A275=\"\",\"\",[1]ItemConfig!$A275)","v":""},{"$f":"IF(A272=\"\",\"\",VLOOKUP(A272,[1]ItemConfig!$A:$B,2,FALSE))","v":""},{"$f":"IF(A272=\"\",\"\",VLOOKUP(A272,[1]ItemConfig!$A:$D,4,FALSE))","v":""},{"$f":"IF(A272=\"\",\"\",VLOOKUP(A272,[1]ItemConfig!$A:$C,3,FALSE))","v":""},{"$f":"IF(A272=\"\",\"\",VLOOKUP(B272,[2]語言配置表!$A:$B,2,FALSE))","v":""},{"$f":"IF(A272=\"\",\"\",VLOOKUP(C272,[2]語言配置表!$A:$B,2,FALSE))","v":""}]
[{"$f":"IF([1]ItemConfig!$A276=\"\",\"\",[1]ItemConfig!$A276)","v":""},{"$f":"IF(A273=\"\",\"\",VLOOKUP(A273,[1]ItemConfig!$A:$B,2,FALSE))","v":""},{"$f":"IF(A273=\"\",\"\",VLOOKUP(A273,[1]ItemConfig!$A:$D,4,FALSE))","v":""},{"$f":"IF(A273=\"\",\"\",VLOOKUP(A273,[1]ItemConfig!$A:$C,3,FALSE))","v":""},{"$f":"IF(A273=\"\",\"\",VLOOKUP(B273,[2]語言配置表!$A:$B,2,FALSE))","v":""},{"$f":"IF(A273=\"\",\"\",VLOOKUP(C273,[2]語言配置表!$A:$B,2,FALSE))","v":""}]
[{"$f":"IF([1]ItemConfig!$A277=\"\",\"\",[1]ItemConfig!$A277)","v":""},{"$f":"IF(A274=\"\",\"\",VLOOKUP(A274,[1]ItemConfig!$A:$B,2,FALSE))","v":""},{"$f":"IF(A274=\"\",\"\",VLOOKUP(A274,[1]ItemConfig!$A:$D,4,FALSE))","v":""},{"$f":"IF(A274=\"\",\"\",VLOOKUP(A274,[1]ItemConfig!$A:$C,3,FALSE))","v":""},{"$f":"IF(A274=\"\",\"\",VLOOKUP(B274,[2]語言配置表!$A:$B,2,FALSE))","v":""},{"$f":"IF(A274=\"\",\"\",VLOOKUP(C274,[2]語言配置表!$A:$B,2,FALSE))","v":""}]
[{"$f":"IF([1]ItemConfig!$A278=\"\",\"\",[1]ItemConfig!$A278)","v":""},{"$f":"IF(A275=\"\",\"\",VLOOKUP(A275,[1]ItemConfig!$A:$B,2,FALSE))","v":""},{"$f":"IF(A275=\"\",\"\",VLOOKUP(A275,[1]ItemConfig!$A:$D,4,FALSE))","v":""},{"$f":"IF(A275=\"\",\"\",VLOOKUP(A275,[1]ItemConfig!$A:$C,3,FALSE))","v":""},{"$f":"IF(A275=\"\",\"\",VLOOKUP(B275,[2]語言配置表!$A:$B,2,FALSE))","v":""},{"$f":"IF(A275=\"\",\"\",VLOOKUP(C275,[2]語言配置表!$A:$B,2,FALSE))","v":""}]
[{"$f":"IF([1]ItemConfig!$A279=\"\",\"\",[1]ItemConfig!$A279)","v":""},{"$f":"IF(A276=\"\",\"\",VLOOKUP(A276,[1]ItemConfig!$A:$B,2,FALSE))","v":""},{"$f":"IF(A276=\"\",\"\",VLOOKUP(A276,[1]ItemConfig!$A:$D,4,FALSE))","v":""},{"$f":"IF(A276=\"\",\"\",VLOOKUP(A276,[1]ItemConfig!$A:$C,3,FALSE))","v":""},{"$f":"IF(A276=\"\",\"\",VLOOKUP(B276,[2]語言配置表!$A:$B,2,FALSE))","v":""},{"$f":"IF(A276=\"\",\"\",VLOOKUP(C276,[2]語言配置表!$A:$B,2,FALSE))","v":""}]
[{"$f":"IF([1]ItemConfig!$A280=\"\",\"\",[1]ItemConfig!$A280)","v":""},{"$f":"IF(A277=\"\",\"\",VLOOKUP(A277,[1]ItemConfig!$A:$B,2,FALSE))","v":""},{"$f":"IF(A277=\"\",\"\",VLOOKUP(A277,[1]ItemConfig!$A:$D,4,FALSE))","v":""},{"$f":"IF(A277=\"\",\"\",VLOOKUP(A277,[1]ItemConfig!$A:$C,3,FALSE))","v":""},{"$f":"IF(A277=\"\",\"\",VLOOKUP(B277,[2]語言配置表!$A:$B,2,FALSE))","v":""},{"$f":"IF(A277=\"\",\"\",VLOOKUP(C277,[2]語言配置表!$A:$B,2,FALSE))","v":""}]
[{"$f":"IF([1]ItemConfig!$A281=\"\",\"\",[1]ItemConfig!$A281)","v":""},{"$f":"IF(A278=\"\",\"\",VLOOKUP(A278,[1]ItemConfig!$A:$B,2,FALSE))","v":""},{"$f":"IF(A278=\"\",\"\",VLOOKUP(A278,[1]ItemConfig!$A:$D,4,FALSE))","v":""},{"$f":"IF(A278=\"\",\"\",VLOOKUP(A278,[1]ItemConfig!$A:$C,3,FALSE))","v":""},{"$f":"IF(A278=\"\",\"\",VLOOKUP(B278,[2]語言配置表!$A:$B,2,FALSE))","v":""},{"$f":"IF(A278=\"\",\"\",VLOOKUP(C278,[2]語言配置表!$A:$B,2,FALSE))","v":""}]
[{"$f":"IF([1]ItemConfig!$A282=\"\",\"\",[1]ItemConfig!$A282)","v":""},{"$f":"IF(A279=\"\",\"\",VLOOKUP(A279,[1]ItemConfig!$A:$B,2,FALSE))","v":""},{"$f":"IF(A279=\"\",\"\",VLOOKUP(A279,[1]ItemConfig!$A:$D,4,FALSE))","v":""},{"$f":"IF(A279=\"\",\"\",VLOOKUP(A279,[1]ItemConfig!$A:$C,3,FALSE))","v":""},{"$f":"IF(A279=\"\",\"\",VLOOKUP(B279,[2]語言配置表!$A:$B,2,FALSE))","v":""},{"$f":"IF(A279=\"\",\"\",VLOOKUP(C279,[2]語言配置表!$A:$B,2,FALSE))","v":""}]
[{"$f":"IF([1]ItemConfig!$A283=\"\",\"\",[1]ItemConfig!$A283)","v":""},{"$f":"IF(A280=\"\",\"\",VLOOKUP(A280,[1]ItemConfig!$A:$B,2,FALSE))","v":""},{"$f":"IF(A280=\"\",\"\",VLOOKUP(A280,[1]ItemConfig!$A:$D,4,FALSE))","v":""},{"$f":"IF(A280=\"\",\"\",VLOOKUP(A280,[1]ItemConfig!$A:$C,3,FALSE))","v":""},{"$f":"IF(A280=\"\",\"\",VLOOKUP(B280,[2]語言配置表!$A:$B,2,FALSE))","v":""},{"$f":"IF(A280=\"\",\"\",VLOOKUP(C280,[2]語言配置表!$A:$B,2,FALSE))","v":""}]
[{"$f":"IF([1]ItemConfig!$A284=\"\",\"\",[1]ItemConfig!$A284)","v":""},{"$f":"IF(A281=\"\",\"\",VLOOKUP(A281,[1]ItemConfig!$A:$B,2,FALSE))","v":""},{"$f":"IF(A281=\"\",\"\",VLOOKUP(A281,[1]ItemConfig!$A:$D,4,FALSE))","v":""},{"$f":"IF(A281=\"\",\"\",VLOOKUP(A281,[1]ItemConfig!$A:$C,3,FALSE))","v":""},{"$f":"IF(A281=\"\",\"\",VLOOKUP(B281,[2]語言配置表!$A:$B,2,FALSE))","v":""},{"$f":"IF(A281=\"\",\"\",VLOOKUP(C281,[2]語言配置表!$A:$B,2,FALSE))","v":""}]
[{"$f":"IF([1]ItemConfig!$A285=\"\",\"\",[1]ItemConfig!$A285)","v":""},{"$f":"IF(A282=\"\",\"\",VLOOKUP(A282,[1]ItemConfig!$A:$B,2,FALSE))","v":""},{"$f":"IF(A282=\"\",\"\",VLOOKUP(A282,[1]ItemConfig!$A:$D,4,FALSE))","v":""},{"$f":"IF(A282=\"\",\"\",VLOOKUP(A282,[1]ItemConfig!$A:$C,3,FALSE))","v":""},{"$f":"IF(A282=\"\",\"\",VLOOKUP(B282,[2]語言配置表!$A:$B,2,FALSE))","v":""},{"$f":"IF(A282=\"\",\"\",VLOOKUP(C282,[2]語言配置表!$A:$B,2,FALSE))","v":""}]
[{"$f":"IF([1]ItemConfig!$A286=\"\",\"\",[1]ItemConfig!$A286)","v":""},{"$f":"IF(A283=\"\",\"\",VLOOKUP(A283,[1]ItemConfig!$A:$B,2,FALSE))","v":""},{"$f":"IF(A283=\"\",\"\",VLOOKUP(A283,[1]ItemConfig!$A:$D,4,FALSE))","v":""},{"$f":"IF(A283=\"\",\"\",VLOOKUP(A283,[1]ItemConfig!$A:$C,3,FALSE))","v":""},{"$f":"IF(A283=\"\",\"\",VLOOKUP(B283,[2]語言配置表!$A:$B,2,FALSE))","v":""},{"$f":"IF(A283=\"\",\"\",VLOOKUP(C283,[2]語言配置表!$A:$B,2,FALSE))","v":""}]
[{"$f":"IF([1]ItemConfig!$A287=\"\",\"\",[1]ItemConfig!$A287)","v":""},{"$f":"IF(A284=\"\",\"\",VLOOKUP(A284,[1]ItemConfig!$A:$B,2,FALSE))","v":""},{"$f":"IF(A284=\"\",\"\",VLOOKUP(A284,[1]ItemConfig!$A:$D,4,FALSE))","v":""},{"$f":"IF(A284=\"\",\"\",VLOOKUP(A284,[1]ItemConfig!$A:$C,3,FALSE))","v":""},{"$f":"IF(A284=\"\",\"\",VLOOKUP(B284,[2]語言配置表!$A:$B,2,FALSE))","v":""},{"$f":"IF(A284=\"\",\"\",VLOOKUP(C284,[2]語言配置表!$A:$B,2,FALSE))","v":""}]
[{"$f":"IF([1]ItemConfig!$A288=\"\",\"\",[1]ItemConfig!$A288)","v":""},{"$f":"IF(A285=\"\",\"\",VLOOKUP(A285,[1]ItemConfig!$A:$B,2,FALSE))","v":""},{"$f":"IF(A285=\"\",\"\",VLOOKUP(A285,[1]ItemConfig!$A:$D,4,FALSE))","v":""},{"$f":"IF(A285=\"\",\"\",VLOOKUP(A285,[1]ItemConfig!$A:$C,3,FALSE))","v":""},{"$f":"IF(A285=\"\",\"\",VLOOKUP(B285,[2]語言配置表!$A:$B,2,FALSE))","v":""},{"$f":"IF(A285=\"\",\"\",VLOOKUP(C285,[2]語言配置表!$A:$B,2,FALSE))","v":""}]
[{"$f":"IF([1]ItemConfig!$A289=\"\",\"\",[1]ItemConfig!$A289)","v":""},{"$f":"IF(A286=\"\",\"\",VLOOKUP(A286,[1]ItemConfig!$A:$B,2,FALSE))","v":""},{"$f":"IF(A286=\"\",\"\",VLOOKUP(A286,[1]ItemConfig!$A:$D,4,FALSE))","v":""},{"$f":"IF(A286=\"\",\"\",VLOOKUP(A286,[1]ItemConfig!$A:$C,3,FALSE))","v":""},{"$f":"IF(A286=\"\",\"\",VLOOKUP(B286,[2]語言配置表!$A:$B,2,FALSE))","v":""},{"$f":"IF(A286=\"\",\"\",VLOOKUP(C286,[2]語言配置表!$A:$B,2,FALSE))","v":""}]
[{"$f":"IF([1]ItemConfig!$A290=\"\",\"\",[1]ItemConfig!$A290)","v":""},{"$f":"IF(A287=\"\",\"\",VLOOKUP(A287,[1]ItemConfig!$A:$B,2,FALSE))","v":""},{"$f":"IF(A287=\"\",\"\",VLOOKUP(A287,[1]ItemConfig!$A:$D,4,FALSE))","v":""},{"$f":"IF(A287=\"\",\"\",VLOOKUP(A287,[1]ItemConfig!$A:$C,3,FALSE))","v":""},{"$f":"IF(A287=\"\",\"\",VLOOKUP(B287,[2]語言配置表!$A:$B,2,FALSE))","v":""},{"$f":"IF(A287=\"\",\"\",VLOOKUP(C287,[2]語言配置表!$A:$B,2,FALSE))","v":""}]
[{"$f":"IF([1]ItemConfig!$A291=\"\",\"\",[1]ItemConfig!$A291)","v":""},{"$f":"IF(A288=\"\",\"\",VLOOKUP(A288,[1]ItemConfig!$A:$B,2,FALSE))","v":""},{"$f":"IF(A288=\"\",\"\",VLOOKUP(A288,[1]ItemConfig!$A:$D,4,FALSE))","v":""},{"$f":"IF(A288=\"\",\"\",VLOOKUP(A288,[1]ItemConfig!$A:$C,3,FALSE))","v":""},{"$f":"IF(A288=\"\",\"\",VLOOKUP(B288,[2]語言配置表!$A:$B,2,FALSE))","v":""},{"$f":"IF(A288=\"\",\"\",VLOOKUP(C288,[2]語言配置表!$A:$B,2,FALSE))","v":""}]
[{"$f":"IF([1]ItemConfig!$A292=\"\",\"\",[1]ItemConfig!$A292)","v":""},{"$f":"IF(A289=\"\",\"\",VLOOKUP(A289,[1]ItemConfig!$A:$B,2,FALSE))","v":""},{"$f":"IF(A289=\"\",\"\",VLOOKUP(A289,[1]ItemConfig!$A:$D,4,FALSE))","v":""},{"$f":"IF(A289=\"\",\"\",VLOOKUP(A289,[1]ItemConfig!$A:$C,3,FALSE))","v":""},{"$f":"IF(A289=\"\",\"\",VLOOKUP(B289,[2]語言配置表!$A:$B,2,FALSE))","v":""},{"$f":"IF(A289=\"\",\"\",VLOOKUP(C289,[2]語言配置表!$A:$B,2,FALSE))","v":""}]
[{"$f":"IF([1]ItemConfig!$A293=\"\",\"\",[1]ItemConfig!$A293)","v":""},{"$f":"IF(A290=\"\",\"\",VLOOKUP(A290,[1]ItemConfig!$A:$B,2,FALSE))","v":""},{"$f":"IF(A290=\"\",\"\",VLOOKUP(A290,[1]ItemConfig!$A:$D,4,FALSE))","v":""},{"$f":"IF(A290=\"\",\"\",VLOOKUP(A290,[1]ItemConfig!$A:$C,3,FALSE))","v":""},{"$f":"IF(A290=\"\",\"\",VLOOKUP(B290,[2]語言配置表!$A:$B,2,FALSE))","v":""},{"$f":"IF(A290=\"\",\"\",VLOOKUP(C290,[2]語言配置表!$A:$B,2,FALSE))","v":""}]
[{"$f":"IF([1]ItemConfig!$A294=\"\",\"\",[1]ItemConfig!$A294)","v":""},{"$f":"IF(A291=\"\",\"\",VLOOKUP(A291,[1]ItemConfig!$A:$B,2,FALSE))","v":""},{"$f":"IF(A291=\"\",\"\",VLOOKUP(A291,[1]ItemConfig!$A:$D,4,FALSE))","v":""},{"$f":"IF(A291=\"\",\"\",VLOOKUP(A291,[1]ItemConfig!$A:$C,3,FALSE))","v":""},{"$f":"IF(A291=\"\",\"\",VLOOKUP(B291,[2]語言配置表!$A:$B,2,FALSE))","v":""},{"$f":"IF(A291=\"\",\"\",VLOOKUP(C291,[2]語言配置表!$A:$B,2,FALSE))","v":""}]
[{"$f":"IF([1]ItemConfig!$A295=\"\",\"\",[1]ItemConfig!$A295)","v":""},{"$f":"IF(A292=\"\",\"\",VLOOKUP(A292,[1]ItemConfig!$A:$B,2,FALSE))","v":""},{"$f":"IF(A292=\"\",\"\",VLOOKUP(A292,[1]ItemConfig!$A:$D,4,FALSE))","v":""},{"$f":"IF(A292=\"\",\"\",VLOOKUP(A292,[1]ItemConfig!$A:$C,3,FALSE))","v":""},{"$f":"IF(A292=\"\",\"\",VLOOKUP(B292,[2]語言配置表!$A:$B,2,FALSE))","v":""},{"$f":"IF(A292=\"\",\"\",VLOOKUP(C292,[2]語言配置表!$A:$B,2,FALSE))","v":""}]
[{"$f":"IF([1]ItemConfig!$A296=\"\",\"\",[1]ItemConfig!$A296)","v":""},{"$f":"IF(A293=\"\",\"\",VLOOKUP(A293,[1]ItemConfig!$A:$B,2,FALSE))","v":""},{"$f":"IF(A293=\"\",\"\",VLOOKUP(A293,[1]ItemConfig!$A:$D,4,FALSE))","v":""},{"$f":"IF(A293=\"\",\"\",VLOOKUP(A293,[1]ItemConfig!$A:$C,3,FALSE))","v":""},{"$f":"IF(A293=\"\",\"\",VLOOKUP(B293,[2]語言配置表!$A:$B,2,FALSE))","v":""},{"$f":"IF(A293=\"\",\"\",VLOOKUP(C293,[2]語言配置表!$A:$B,2,FALSE))","v":""}]
[{"$f":"IF([1]ItemConfig!$A297=\"\",\"\",[1]ItemConfig!$A297)","v":""},{"$f":"IF(A294=\"\",\"\",VLOOKUP(A294,[1]ItemConfig!$A:$B,2,FALSE))","v":""},{"$f":"IF(A294=\"\",\"\",VLOOKUP(A294,[1]ItemConfig!$A:$D,4,FALSE))","v":""},{"$f":"IF(A294=\"\",\"\",VLOOKUP(A294,[1]ItemConfig!$A:$C,3,FALSE))","v":""},{"$f":"IF(A294=\"\",\"\",VLOOKUP(B294,[2]語言配置表!$A:$B,2,FALSE))","v":""},{"$f":"IF(A294=\"\",\"\",VLOOKUP(C294,[2]語言配置表!$A:$B,2,FALSE))","v":""}]
[{"$f":"IF([1]ItemConfig!$A298=\"\",\"\",[1]ItemConfig!$A298)","v":""},{"$f":"IF(A295=\"\",\"\",VLOOKUP(A295,[1]ItemConfig!$A:$B,2,FALSE))","v":""},{"$f":"IF(A295=\"\",\"\",VLOOKUP(A295,[1]ItemConfig!$A:$D,4,FALSE))","v":""},{"$f":"IF(A295=\"\",\"\",VLOOKUP(A295,[1]ItemConfig!$A:$C,3,FALSE))","v":""},{"$f":"IF(A295=\"\",\"\",VLOOKUP(B295,[2]語言配置表!$A:$B,2,FALSE))","v":""},{"$f":"IF(A295=\"\",\"\",VLOOKUP(C295,[2]語言配置表!$A:$B,2,FALSE))","v":""}]
[{"$f":"IF([1]ItemConfig!$A299=\"\",\"\",[1]ItemConfig!$A299)","v":""},{"$f":"IF(A296=\"\",\"\",VLOOKUP(A296,[1]ItemConfig!$A:$B,2,FALSE))","v":""},{"$f":"IF(A296=\"\",\"\",VLOOKUP(A296,[1]ItemConfig!$A:$D,4,FALSE))","v":""},{"$f":"IF(A296=\"\",\"\",VLOOKUP(A296,[1]ItemConfig!$A:$C,3,FALSE))","v":""},{"$f":"IF(A296=\"\",\"\",VLOOKUP(B296,[2]語言配置表!$A:$B,2,FALSE))","v":""},{"$f":"IF(A296=\"\",\"\",VLOOKUP(C296,[2]語言配置表!$A:$B,2,FALSE))","v":""}]
[{"$f":"IF([1]ItemConfig!$A300=\"\",\"\",[1]ItemConfig!$A300)","v":""},{"$f":"IF(A297=\"\",\"\",VLOOKUP(A297,[1]ItemConfig!$A:$B,2,FALSE))","v":""},{"$f":"IF(A297=\"\",\"\",VLOOKUP(A297,[1]ItemConfig!$A:$D,4,FALSE))","v":""},{"$f":"IF(A297=\"\",\"\",VLOOKUP(A297,[1]ItemConfig!$A:$C,3,FALSE))","v":""},{"$f":"IF(A297=\"\",\"\",VLOOKUP(B297,[2]語言配置表!$A:$B,2,FALSE))","v":""},{"$f":"IF(A297=\"\",\"\",VLOOKUP(C297,[2]語言配置表!$A:$B,2,FALSE))","v":""}]
[{"$f":"IF([1]ItemConfig!$A301=\"\",\"\",[1]ItemConfig!$A301)","v":""},{"$f":"IF(A298=\"\",\"\",VLOOKUP(A298,[1]ItemConfig!$A:$B,2,FALSE))","v":""},{"$f":"IF(A298=\"\",\"\",VLOOKUP(A298,[1]ItemConfig!$A:$D,4,FALSE))","v":""},{"$f":"IF(A298=\"\",\"\",VLOOKUP(A298,[1]ItemConfig!$A:$C,3,FALSE))","v":""},{"$f":"IF(A298=\"\",\"\",VLOOKUP(B298,[2]語言配置表!$A:$B,2,FALSE))","v":""},{"$f":"IF(A298=\"\",\"\",VLOOKUP(C298,[2]語言配置表!$A:$B,2,FALSE))","v":""}]
[{"$f":"IF([1]ItemConfig!$A302=\"\",\"\",[1]ItemConfig!$A302)","v":""},{"$f":"IF(A299=\"\",\"\",VLOOKUP(A299,[1]ItemConfig!$A:$B,2,FALSE))","v":""},{"$f":"IF(A299=\"\",\"\",VLOOKUP(A299,[1]ItemConfig!$A:$D,4,FALSE))","v":""},{"$f":"IF(A299=\"\",\"\",VLOOKUP(A299,[1]ItemConfig!$A:$C,3,FALSE))","v":""},{"$f":"IF(A299=\"\",\"\",VLOOKUP(B299,[2]語言配置表!$A:$B,2,FALSE))","v":""},{"$f":"IF(A299=\"\",\"\",VLOOKUP(C299,[2]語言配置表!$A:$B,2,FALSE))","v":""}]
[{"$f":"IF([1]ItemConfig!$A303=\"\",\"\",[1]ItemConfig!$A303)","v":""},{"$f":"IF(A300=\"\",\"\",VLOOKUP(A300,[1]ItemConfig!$A:$B,2,FALSE))","v":""},{"$f":"IF(A300=\"\",\"\",VLOOKUP(A300,[1]ItemConfig!$A:$D,4,FALSE))","v":""},{"$f":"IF(A300=\"\",\"\",VLOOKUP(A300,[1]ItemConfig!$A:$C,3,FALSE))","v":""},{"$f":"IF(A300=\"\",\"\",VLOOKUP(B300,[2]語言配置表!$A:$B,2,FALSE))","v":""},{"$f":"IF(A300=\"\",\"\",VLOOKUP(C300,[2]語言配置表!$A:$B,2,FALSE))","v":""}]
[{"$f":"IF([1]ItemConfig!$A304=\"\",\"\",[1]ItemConfig!$A304)","v":""},{"$f":"IF(A301=\"\",\"\",VLOOKUP(A301,[1]ItemConfig!$A:$B,2,FALSE))","v":""},{"$f":"IF(A301=\"\",\"\",VLOOKUP(A301,[1]ItemConfig!$A:$D,4,FALSE))","v":""},{"$f":"IF(A301=\"\",\"\",VLOOKUP(A301,[1]ItemConfig!$A:$C,3,FALSE))","v":""},{"$f":"IF(A301=\"\",\"\",VLOOKUP(B301,[2]語言配置表!$A:$B,2,FALSE))","v":""},{"$f":"IF(A301=\"\",\"\",VLOOKUP(C301,[2]語言配置表!$A:$B,2,FALSE))","v":""}]
[{"$f":"IF([1]ItemConfig!$A305=\"\",\"\",[1]ItemConfig!$A305)","v":""},{"$f":"IF(A302=\"\",\"\",VLOOKUP(A302,[1]ItemConfig!$A:$B,2,FALSE))","v":""},{"$f":"IF(A302=\"\",\"\",VLOOKUP(A302,[1]ItemConfig!$A:$D,4,FALSE))","v":""},{"$f":"IF(A302=\"\",\"\",VLOOKUP(A302,[1]ItemConfig!$A:$C,3,FALSE))","v":""},{"$f":"IF(A302=\"\",\"\",VLOOKUP(B302,[2]語言配置表!$A:$B,2,FALSE))","v":""},{"$f":"IF(A302=\"\",\"\",VLOOKUP(C302,[2]語言配置表!$A:$B,2,FALSE))","v":""}]
[{"$f":"IF([1]ItemConfig!$A306=\"\",\"\",[1]ItemConfig!$A306)","v":""},{"$f":"IF(A303=\"\",\"\",VLOOKUP(A303,[1]ItemConfig!$A:$B,2,FALSE))","v":""},{"$f":"IF(A303=\"\",\"\",VLOOKUP(A303,[1]ItemConfig!$A:$D,4,FALSE))","v":""},{"$f":"IF(A303=\"\",\"\",VLOOKUP(A303,[1]ItemConfig!$A:$C,3,FALSE))","v":""},{"$f":"IF(A303=\"\",\"\",VLOOKUP(B303,[2]語言配置表!$A:$B,2,FALSE))","v":""},{"$f":"IF(A303=\"\",\"\",VLOOKUP(C303,[2]語言配置表!$A:$B,2,FALSE))","v":""}]
[{"$f":"IF([1]ItemConfig!$A307=\"\",\"\",[1]ItemConfig!$A307)","v":""},{"$f":"IF(A304=\"\",\"\",VLOOKUP(A304,[1]ItemConfig!$A:$B,2,FALSE))","v":""},{"$f":"IF(A304=\"\",\"\",VLOOKUP(A304,[1]ItemConfig!$A:$D,4,FALSE))","v":""},{"$f":"IF(A304=\"\",\"\",VLOOKUP(A304,[1]ItemConfig!$A:$C,3,FALSE))","v":""},{"$f":"IF(A304=\"\",\"\",VLOOKUP(B304,[2]語言配置表!$A:$B,2,FALSE))","v":""},{"$f":"IF(A304=\"\",\"\",VLOOKUP(C304,[2]語言配置表!$A:$B,2,FALSE))","v":""}]
[{"$f":"IF([1]ItemConfig!$A308=\"\",\"\",[1]ItemConfig!$A308)","v":""},{"$f":"IF(A305=\"\",\"\",VLOOKUP(A305,[1]ItemConfig!$A:$B,2,FALSE))","v":""},{"$f":"IF(A305=\"\",\"\",VLOOKUP(A305,[1]ItemConfig!$A:$D,4,FALSE))","v":""},{"$f":"IF(A305=\"\",\"\",VLOOKUP(A305,[1]ItemConfig!$A:$C,3,FALSE))","v":""},{"$f":"IF(A305=\"\",\"\",VLOOKUP(B305,[2]語言配置表!$A:$B,2,FALSE))","v":""},{"$f":"IF(A305=\"\",\"\",VLOOKUP(C305,[2]語言配置表!$A:$B,2,FALSE))","v":""}]
[{"$f":"IF([1]ItemConfig!$A309=\"\",\"\",[1]ItemConfig!$A309)","v":""},{"$f":"IF(A306=\"\",\"\",VLOOKUP(A306,[1]ItemConfig!$A:$B,2,FALSE))","v":""},{"$f":"IF(A306=\"\",\"\",VLOOKUP(A306,[1]ItemConfig!$A:$D,4,FALSE))","v":""},{"$f":"IF(A306=\"\",\"\",VLOOKUP(A306,[1]ItemConfig!$A:$C,3,FALSE))","v":""},{"$f":"IF(A306=\"\",\"\",VLOOKUP(B306,[2]語言配置表!$A:$B,2,FALSE))","v":""},{"$f":"IF(A306=\"\",\"\",VLOOKUP(C306,[2]語言配置表!$A:$B,2,FALSE))","v":""}]
[{"$f":"IF([1]ItemConfig!$A310=\"\",\"\",[1]ItemConfig!$A310)","v":""},{"$f":"IF(A307=\"\",\"\",VLOOKUP(A307,[1]ItemConfig!$A:$B,2,FALSE))","v":""},{"$f":"IF(A307=\"\",\"\",VLOOKUP(A307,[1]ItemConfig!$A:$D,4,FALSE))","v":""},{"$f":"IF(A307=\"\",\"\",VLOOKUP(A307,[1]ItemConfig!$A:$C,3,FALSE))","v":""},{"$f":"IF(A307=\"\",\"\",VLOOKUP(B307,[2]語言配置表!$A:$B,2,FALSE))","v":""},{"$f":"IF(A307=\"\",\"\",VLOOKUP(C307,[2]語言配置表!$A:$B,2,FALSE))","v":""}]
[{"$f":"IF([1]ItemConfig!$A311=\"\",\"\",[1]ItemConfig!$A311)","v":""},{"$f":"IF(A308=\"\",\"\",VLOOKUP(A308,[1]ItemConfig!$A:$B,2,FALSE))","v":""},{"$f":"IF(A308=\"\",\"\",VLOOKUP(A308,[1]ItemConfig!$A:$D,4,FALSE))","v":""},{"$f":"IF(A308=\"\",\"\",VLOOKUP(A308,[1]ItemConfig!$A:$C,3,FALSE))","v":""},{"$f":"IF(A308=\"\",\"\",VLOOKUP(B308,[2]語言配置表!$A:$B,2,FALSE))","v":""},{"$f":"IF(A308=\"\",\"\",VLOOKUP(C308,[2]語言配置表!$A:$B,2,FALSE))","v":""}]
[{"$f":"IF([1]ItemConfig!$A312=\"\",\"\",[1]ItemConfig!$A312)","v":""},{"$f":"IF(A309=\"\",\"\",VLOOKUP(A309,[1]ItemConfig!$A:$B,2,FALSE))","v":""},{"$f":"IF(A309=\"\",\"\",VLOOKUP(A309,[1]ItemConfig!$A:$D,4,FALSE))","v":""},{"$f":"IF(A309=\"\",\"\",VLOOKUP(A309,[1]ItemConfig!$A:$C,3,FALSE))","v":""},{"$f":"IF(A309=\"\",\"\",VLOOKUP(B309,[2]語言配置表!$A:$B,2,FALSE))","v":""},{"$f":"IF(A309=\"\",\"\",VLOOKUP(C309,[2]語言配置表!$A:$B,2,FALSE))","v":""}]
[{"$f":"IF([1]ItemConfig!$A313=\"\",\"\",[1]ItemConfig!$A313)","v":""},{"$f":"IF(A310=\"\",\"\",VLOOKUP(A310,[1]ItemConfig!$A:$B,2,FALSE))","v":""},{"$f":"IF(A310=\"\",\"\",VLOOKUP(A310,[1]ItemConfig!$A:$D,4,FALSE))","v":""},{"$f":"IF(A310=\"\",\"\",VLOOKUP(A310,[1]ItemConfig!$A:$C,3,FALSE))","v":""},{"$f":"IF(A310=\"\",\"\",VLOOKUP(B310,[2]語言配置表!$A:$B,2,FALSE))","v":""},{"$f":"IF(A310=\"\",\"\",VLOOKUP(C310,[2]語言配置表!$A:$B,2,FALSE))","v":""}]
[{"$f":"IF([1]ItemConfig!$A314=\"\",\"\",[1]ItemConfig!$A314)","v":""},{"$f":"IF(A311=\"\",\"\",VLOOKUP(A311,[1]ItemConfig!$A:$B,2,FALSE))","v":""},{"$f":"IF(A311=\"\",\"\",VLOOKUP(A311,[1]ItemConfig!$A:$D,4,FALSE))","v":""},{"$f":"IF(A311=\"\",\"\",VLOOKUP(A311,[1]ItemConfig!$A:$C,3,FALSE))","v":""},{"$f":"IF(A311=\"\",\"\",VLOOKUP(B311,[2]語言配置表!$A:$B,2,FALSE))","v":""},{"$f":"IF(A311=\"\",\"\",VLOOKUP(C311,[2]語言配置表!$A:$B,2,FALSE))","v":""}]
[{"$f":"IF([1]ItemConfig!$A315=\"\",\"\",[1]ItemConfig!$A315)","v":""},{"$f":"IF(A312=\"\",\"\",VLOOKUP(A312,[1]ItemConfig!$A:$B,2,FALSE))","v":""},{"$f":"IF(A312=\"\",\"\",VLOOKUP(A312,[1]ItemConfig!$A:$D,4,FALSE))","v":""},{"$f":"IF(A312=\"\",\"\",VLOOKUP(A312,[1]ItemConfig!$A:$C,3,FALSE))","v":""},{"$f":"IF(A312=\"\",\"\",VLOOKUP(B312,[2]語言配置表!$A:$B,2,FALSE))","v":""},{"$f":"IF(A312=\"\",\"\",VLOOKUP(C312,[2]語言配置表!$A:$B,2,FALSE))","v":""}]
[{"$f":"IF([1]ItemConfig!$A316=\"\",\"\",[1]ItemConfig!$A316)","v":""},{"$f":"IF(A313=\"\",\"\",VLOOKUP(A313,[1]ItemConfig!$A:$B,2,FALSE))","v":""},{"$f":"IF(A313=\"\",\"\",VLOOKUP(A313,[1]ItemConfig!$A:$D,4,FALSE))","v":""},{"$f":"IF(A313=\"\",\"\",VLOOKUP(A313,[1]ItemConfig!$A:$C,3,FALSE))","v":""},{"$f":"IF(A313=\"\",\"\",VLOOKUP(B313,[2]語言配置表!$A:$B,2,FALSE))","v":""},{"$f":"IF(A313=\"\",\"\",VLOOKUP(C313,[2]語言配置表!$A:$B,2,FALSE))","v":""}]
[{"$f":"IF([1]ItemConfig!$A317=\"\",\"\",[1]ItemConfig!$A317)","v":""},{"$f":"IF(A314=\"\",\"\",VLOOKUP(A314,[1]ItemConfig!$A:$B,2,FALSE))","v":""},{"$f":"IF(A314=\"\",\"\",VLOOKUP(A314,[1]ItemConfig!$A:$D,4,FALSE))","v":""},{"$f":"IF(A314=\"\",\"\",VLOOKUP(A314,[1]ItemConfig!$A:$C,3,FALSE))","v":""},{"$f":"IF(A314=\"\",\"\",VLOOKUP(B314,[2]語言配置表!$A:$B,2,FALSE))","v":""},{"$f":"IF(A314=\"\",\"\",VLOOKUP(C314,[2]語言配置表!$A:$B,2,FALSE))","v":""}]
[{"$f":"IF([1]ItemConfig!$A318=\"\",\"\",[1]ItemConfig!$A318)","v":""},{"$f":"IF(A315=\"\",\"\",VLOOKUP(A315,[1]ItemConfig!$A:$B,2,FALSE))","v":""},{"$f":"IF(A315=\"\",\"\",VLOOKUP(A315,[1]ItemConfig!$A:$D,4,FALSE))","v":""},{"$f":"IF(A315=\"\",\"\",VLOOKUP(A315,[1]ItemConfig!$A:$C,3,FALSE))","v":""},{"$f":"IF(A315=\"\",\"\",VLOOKUP(B315,[2]語言配置表!$A:$B,2,FALSE))","v":""},{"$f":"IF(A315=\"\",\"\",VLOOKUP(C315,[2]語言配置表!$A:$B,2,FALSE))","v":""}]
[{"$f":"IF([1]ItemConfig!$A319=\"\",\"\",[1]ItemConfig!$A319)","v":""},{"$f":"IF(A316=\"\",\"\",VLOOKUP(A316,[1]ItemConfig!$A:$B,2,FALSE))","v":""},{"$f":"IF(A316=\"\",\"\",VLOOKUP(A316,[1]ItemConfig!$A:$D,4,FALSE))","v":""},{"$f":"IF(A316=\"\",\"\",VLOOKUP(A316,[1]ItemConfig!$A:$C,3,FALSE))","v":""},{"$f":"IF(A316=\"\",\"\",VLOOKUP(B316,[2]語言配置表!$A:$B,2,FALSE))","v":""},{"$f":"IF(A316=\"\",\"\",VLOOKUP(C316,[2]語言配置表!$A:$B,2,FALSE))","v":""}]
[{"$f":"IF([1]ItemConfig!$A320=\"\",\"\",[1]ItemConfig!$A320)","v":""},{"$f":"IF(A317=\"\",\"\",VLOOKUP(A317,[1]ItemConfig!$A:$B,2,FALSE))","v":""},{"$f":"IF(A317=\"\",\"\",VLOOKUP(A317,[1]ItemConfig!$A:$D,4,FALSE))","v":""},{"$f":"IF(A317=\"\",\"\",VLOOKUP(A317,[1]ItemConfig!$A:$C,3,FALSE))","v":""},{"$f":"IF(A317=\"\",\"\",VLOOKUP(B317,[2]語言配置表!$A:$B,2,FALSE))","v":""},{"$f":"IF(A317=\"\",\"\",VLOOKUP(C317,[2]語言配置表!$A:$B,2,FALSE))","v":""}]
[{"$f":"IF([1]ItemConfig!$A321=\"\",\"\",[1]ItemConfig!$A321)","v":""},{"$f":"IF(A318=\"\",\"\",VLOOKUP(A318,[1]ItemConfig!$A:$B,2,FALSE))","v":""},{"$f":"IF(A318=\"\",\"\",VLOOKUP(A318,[1]ItemConfig!$A:$D,4,FALSE))","v":""},{"$f":"IF(A318=\"\",\"\",VLOOKUP(A318,[1]ItemConfig!$A:$C,3,FALSE))","v":""},{"$f":"IF(A318=\"\",\"\",VLOOKUP(B318,[2]語言配置表!$A:$B,2,FALSE))","v":""},{"$f":"IF(A318=\"\",\"\",VLOOKUP(C318,[2]語言配置表!$A:$B,2,FALSE))","v":""}]
[{"$f":"IF([1]ItemConfig!$A322=\"\",\"\",[1]ItemConfig!$A322)","v":""},{"$f":"IF(A319=\"\",\"\",VLOOKUP(A319,[1]ItemConfig!$A:$B,2,FALSE))","v":""},{"$f":"IF(A319=\"\",\"\",VLOOKUP(A319,[1]ItemConfig!$A:$D,4,FALSE))","v":""},{"$f":"IF(A319=\"\",\"\",VLOOKUP(A319,[1]ItemConfig!$A:$C,3,FALSE))","v":""},{"$f":"IF(A319=\"\",\"\",VLOOKUP(B319,[2]語言配置表!$A:$B,2,FALSE))","v":""},{"$f":"IF(A319=\"\",\"\",VLOOKUP(C319,[2]語言配置表!$A:$B,2,FALSE))","v":""}]
[{"$f":"IF([1]ItemConfig!$A323=\"\",\"\",[1]ItemConfig!$A323)","v":""},{"$f":"IF(A320=\"\",\"\",VLOOKUP(A320,[1]ItemConfig!$A:$B,2,FALSE))","v":""},{"$f":"IF(A320=\"\",\"\",VLOOKUP(A320,[1]ItemConfig!$A:$D,4,FALSE))","v":""},{"$f":"IF(A320=\"\",\"\",VLOOKUP(A320,[1]ItemConfig!$A:$C,3,FALSE))","v":""},{"$f":"IF(A320=\"\",\"\",VLOOKUP(B320,[2]語言配置表!$A:$B,2,FALSE))","v":""},{"$f":"IF(A320=\"\",\"\",VLOOKUP(C320,[2]語言配置表!$A:$B,2,FALSE))","v":""}]
[{"$f":"IF([1]ItemConfig!$A324=\"\",\"\",[1]ItemConfig!$A324)","v":""},{"$f":"IF(A321=\"\",\"\",VLOOKUP(A321,[1]ItemConfig!$A:$B,2,FALSE))","v":""},{"$f":"IF(A321=\"\",\"\",VLOOKUP(A321,[1]ItemConfig!$A:$D,4,FALSE))","v":""},{"$f":"IF(A321=\"\",\"\",VLOOKUP(A321,[1]ItemConfig!$A:$C,3,FALSE))","v":""},{"$f":"IF(A321=\"\",\"\",VLOOKUP(B321,[2]語言配置表!$A:$B,2,FALSE))","v":""},{"$f":"IF(A321=\"\",\"\",VLOOKUP(C321,[2]語言配置表!$A:$B,2,FALSE))","v":""}]
[{"$f":"IF([1]ItemConfig!$A325=\"\",\"\",[1]ItemConfig!$A325)","v":""},{"$f":"IF(A322=\"\",\"\",VLOOKUP(A322,[1]ItemConfig!$A:$B,2,FALSE))","v":""},{"$f":"IF(A322=\"\",\"\",VLOOKUP(A322,[1]ItemConfig!$A:$D,4,FALSE))","v":""},{"$f":"IF(A322=\"\",\"\",VLOOKUP(A322,[1]ItemConfig!$A:$C,3,FALSE))","v":""},{"$f":"IF(A322=\"\",\"\",VLOOKUP(B322,[2]語言配置表!$A:$B,2,FALSE))","v":""},{"$f":"IF(A322=\"\",\"\",VLOOKUP(C322,[2]語言配置表!$A:$B,2,FALSE))","v":""}]
[{"$f":"IF([1]ItemConfig!$A326=\"\",\"\",[1]ItemConfig!$A326)","v":""},{"$f":"IF(A323=\"\",\"\",VLOOKUP(A323,[1]ItemConfig!$A:$B,2,FALSE))","v":""},{"$f":"IF(A323=\"\",\"\",VLOOKUP(A323,[1]ItemConfig!$A:$D,4,FALSE))","v":""},{"$f":"IF(A323=\"\",\"\",VLOOKUP(A323,[1]ItemConfig!$A:$C,3,FALSE))","v":""},{"$f":"IF(A323=\"\",\"\",VLOOKUP(B323,[2]語言配置表!$A:$B,2,FALSE))","v":""},{"$f":"IF(A323=\"\",\"\",VLOOKUP(C323,[2]語言配置表!$A:$B,2,FALSE))","v":""}]
[{"$f":"IF([1]ItemConfig!$A327=\"\",\"\",[1]ItemConfig!$A327)","v":""},{"$f":"IF(A324=\"\",\"\",VLOOKUP(A324,[1]ItemConfig!$A:$B,2,FALSE))","v":""},{"$f":"IF(A324=\"\",\"\",VLOOKUP(A324,[1]ItemConfig!$A:$D,4,FALSE))","v":""},{"$f":"IF(A324=\"\",\"\",VLOOKUP(A324,[1]ItemConfig!$A:$C,3,FALSE))","v":""},{"$f":"IF(A324=\"\",\"\",VLOOKUP(B324,[2]語言配置表!$A:$B,2,FALSE))","v":""},{"$f":"IF(A324=\"\",\"\",VLOOKUP(C324,[2]語言配置表!$A:$B,2,FALSE))","v":""}]
[{"$f":"IF([1]ItemConfig!$A328=\"\",\"\",[1]ItemConfig!$A328)","v":""},{"$f":"IF(A325=\"\",\"\",VLOOKUP(A325,[1]ItemConfig!$A:$B,2,FALSE))","v":""},{"$f":"IF(A325=\"\",\"\",VLOOKUP(A325,[1]ItemConfig!$A:$D,4,FALSE))","v":""},{"$f":"IF(A325=\"\",\"\",VLOOKUP(A325,[1]ItemConfig!$A:$C,3,FALSE))","v":""},{"$f":"IF(A325=\"\",\"\",VLOOKUP(B325,[2]語言配置表!$A:$B,2,FALSE))","v":""},{"$f":"IF(A325=\"\",\"\",VLOOKUP(C325,[2]語言配置表!$A:$B,2,FALSE))","v":""}]
[{"$f":"IF([1]ItemConfig!$A329=\"\",\"\",[1]ItemConfig!$A329)","v":""},{"$f":"IF(A326=\"\",\"\",VLOOKUP(A326,[1]ItemConfig!$A:$B,2,FALSE))","v":""},{"$f":"IF(A326=\"\",\"\",VLOOKUP(A326,[1]ItemConfig!$A:$D,4,FALSE))","v":""},{"$f":"IF(A326=\"\",\"\",VLOOKUP(A326,[1]ItemConfig!$A:$C,3,FALSE))","v":""},{"$f":"IF(A326=\"\",\"\",VLOOKUP(B326,[2]語言配置表!$A:$B,2,FALSE))","v":""},{"$f":"IF(A326=\"\",\"\",VLOOKUP(C326,[2]語言配置表!$A:$B,2,FALSE))","v":""}]
[{"$f":"IF([1]ItemConfig!$A330=\"\",\"\",[1]ItemConfig!$A330)","v":""},{"$f":"IF(A327=\"\",\"\",VLOOKUP(A327,[1]ItemConfig!$A:$B,2,FALSE))","v":""},{"$f":"IF(A327=\"\",\"\",VLOOKUP(A327,[1]ItemConfig!$A:$D,4,FALSE))","v":""},{"$f":"IF(A327=\"\",\"\",VLOOKUP(A327,[1]ItemConfig!$A:$C,3,FALSE))","v":""},{"$f":"IF(A327=\"\",\"\",VLOOKUP(B327,[2]語言配置表!$A:$B,2,FALSE))","v":""},{"$f":"IF(A327=\"\",\"\",VLOOKUP(C327,[2]語言配置表!$A:$B,2,FALSE))","v":""}]
[{"$f":"IF([1]ItemConfig!$A331=\"\",\"\",[1]ItemConfig!$A331)","v":""},{"$f":"IF(A328=\"\",\"\",VLOOKUP(A328,[1]ItemConfig!$A:$B,2,FALSE))","v":""},{"$f":"IF(A328=\"\",\"\",VLOOKUP(A328,[1]ItemConfig!$A:$D,4,FALSE))","v":""},{"$f":"IF(A328=\"\",\"\",VLOOKUP(A328,[1]ItemConfig!$A:$C,3,FALSE))","v":""},{"$f":"IF(A328=\"\",\"\",VLOOKUP(B328,[2]語言配置表!$A:$B,2,FALSE))","v":""},{"$f":"IF(A328=\"\",\"\",VLOOKUP(C328,[2]語言配置表!$A:$B,2,FALSE))","v":""}]
[{"$f":"IF([1]ItemConfig!$A332=\"\",\"\",[1]ItemConfig!$A332)","v":""},{"$f":"IF(A329=\"\",\"\",VLOOKUP(A329,[1]ItemConfig!$A:$B,2,FALSE))","v":""},{"$f":"IF(A329=\"\",\"\",VLOOKUP(A329,[1]ItemConfig!$A:$D,4,FALSE))","v":""},{"$f":"IF(A329=\"\",\"\",VLOOKUP(A329,[1]ItemConfig!$A:$C,3,FALSE))","v":""},{"$f":"IF(A329=\"\",\"\",VLOOKUP(B329,[2]語言配置表!$A:$B,2,FALSE))","v":""},{"$f":"IF(A329=\"\",\"\",VLOOKUP(C329,[2]語言配置表!$A:$B,2,FALSE))","v":""}]
[{"$f":"IF([1]ItemConfig!$A333=\"\",\"\",[1]ItemConfig!$A333)","v":""},{"$f":"IF(A330=\"\",\"\",VLOOKUP(A330,[1]ItemConfig!$A:$B,2,FALSE))","v":""},{"$f":"IF(A330=\"\",\"\",VLOOKUP(A330,[1]ItemConfig!$A:$D,4,FALSE))","v":""},{"$f":"IF(A330=\"\",\"\",VLOOKUP(A330,[1]ItemConfig!$A:$C,3,FALSE))","v":""},{"$f":"IF(A330=\"\",\"\",VLOOKUP(B330,[2]語言配置表!$A:$B,2,FALSE))","v":""},{"$f":"IF(A330=\"\",\"\",VLOOKUP(C330,[2]語言配置表!$A:$B,2,FALSE))","v":""}]
[{"$f":"IF([1]ItemConfig!$A334=\"\",\"\",[1]ItemConfig!$A334)","v":""},{"$f":"IF(A331=\"\",\"\",VLOOKUP(A331,[1]ItemConfig!$A:$B,2,FALSE))","v":""},{"$f":"IF(A331=\"\",\"\",VLOOKUP(A331,[1]ItemConfig!$A:$D,4,FALSE))","v":""},{"$f":"IF(A331=\"\",\"\",VLOOKUP(A331,[1]ItemConfig!$A:$C,3,FALSE))","v":""},{"$f":"IF(A331=\"\",\"\",VLOOKUP(B331,[2]語言配置表!$A:$B,2,FALSE))","v":""},{"$f":"IF(A331=\"\",\"\",VLOOKUP(C331,[2]語言配置表!$A:$B,2,FALSE))","v":""}]
[{"$f":"IF([1]ItemConfig!$A335=\"\",\"\",[1]ItemConfig!$A335)","v":""},{"$f":"IF(A332=\"\",\"\",VLOOKUP(A332,[1]ItemConfig!$A:$B,2,FALSE))","v":""},{"$f":"IF(A332=\"\",\"\",VLOOKUP(A332,[1]ItemConfig!$A:$D,4,FALSE))","v":""},{"$f":"IF(A332=\"\",\"\",VLOOKUP(A332,[1]ItemConfig!$A:$C,3,FALSE))","v":""},{"$f":"IF(A332=\"\",\"\",VLOOKUP(B332,[2]語言配置表!$A:$B,2,FALSE))","v":""},{"$f":"IF(A332=\"\",\"\",VLOOKUP(C332,[2]語言配置表!$A:$B,2,FALSE))","v":""}]
[{"$f":"IF([1]ItemConfig!$A336=\"\",\"\",[1]ItemConfig!$A336)","v":""},{"$f":"IF(A333=\"\",\"\",VLOOKUP(A333,[1]ItemConfig!$A:$B,2,FALSE))","v":""},{"$f":"IF(A333=\"\",\"\",VLOOKUP(A333,[1]ItemConfig!$A:$D,4,FALSE))","v":""},{"$f":"IF(A333=\"\",\"\",VLOOKUP(A333,[1]ItemConfig!$A:$C,3,FALSE))","v":""},{"$f":"IF(A333=\"\",\"\",VLOOKUP(B333,[2]語言配置表!$A:$B,2,FALSE))","v":""},{"$f":"IF(A333=\"\",\"\",VLOOKUP(C333,[2]語言配置表!$A:$B,2,FALSE))","v":""}]
[{"$f":"IF([1]ItemConfig!$A337=\"\",\"\",[1]ItemConfig!$A337)","v":""},{"$f":"IF(A334=\"\",\"\",VLOOKUP(A334,[1]ItemConfig!$A:$B,2,FALSE))","v":""},{"$f":"IF(A334=\"\",\"\",VLOOKUP(A334,[1]ItemConfig!$A:$D,4,FALSE))","v":""},{"$f":"IF(A334=\"\",\"\",VLOOKUP(A334,[1]ItemConfig!$A:$C,3,FALSE))","v":""},{"$f":"IF(A334=\"\",\"\",VLOOKUP(B334,[2]語言配置表!$A:$B,2,FALSE))","v":""},{"$f":"IF(A334=\"\",\"\",VLOOKUP(C334,[2]語言配置表!$A:$B,2,FALSE))","v":""}]
[{"$f":"IF([1]ItemConfig!$A338=\"\",\"\",[1]ItemConfig!$A338)","v":""},{"$f":"IF(A335=\"\",\"\",VLOOKUP(A335,[1]ItemConfig!$A:$B,2,FALSE))","v":""},{"$f":"IF(A335=\"\",\"\",VLOOKUP(A335,[1]ItemConfig!$A:$D,4,FALSE))","v":""},{"$f":"IF(A335=\"\",\"\",VLOOKUP(A335,[1]ItemConfig!$A:$C,3,FALSE))","v":""},{"$f":"IF(A335=\"\",\"\",VLOOKUP(B335,[2]語言配置表!$A:$B,2,FALSE))","v":""},{"$f":"IF(A335=\"\",\"\",VLOOKUP(C335,[2]語言配置表!$A:$B,2,FALSE))","v":""}]
[{"$f":"IF([1]ItemConfig!$A339=\"\",\"\",[1]ItemConfig!$A339)","v":""},{"$f":"IF(A336=\"\",\"\",VLOOKUP(A336,[1]ItemConfig!$A:$B,2,FALSE))","v":""},{"$f":"IF(A336=\"\",\"\",VLOOKUP(A336,[1]ItemConfig!$A:$D,4,FALSE))","v":""},{"$f":"IF(A336=\"\",\"\",VLOOKUP(A336,[1]ItemConfig!$A:$C,3,FALSE))","v":""},{"$f":"IF(A336=\"\",\"\",VLOOKUP(B336,[2]語言配置表!$A:$B,2,FALSE))","v":""},{"$f":"IF(A336=\"\",\"\",VLOOKUP(C336,[2]語言配置表!$A:$B,2,FALSE))","v":""}]
[{"$f":"IF([1]ItemConfig!$A340=\"\",\"\",[1]ItemConfig!$A340)","v":""},{"$f":"IF(A337=\"\",\"\",VLOOKUP(A337,[1]ItemConfig!$A:$B,2,FALSE))","v":""},{"$f":"IF(A337=\"\",\"\",VLOOKUP(A337,[1]ItemConfig!$A:$D,4,FALSE))","v":""},{"$f":"IF(A337=\"\",\"\",VLOOKUP(A337,[1]ItemConfig!$A:$C,3,FALSE))","v":""},{"$f":"IF(A337=\"\",\"\",VLOOKUP(B337,[2]語言配置表!$A:$B,2,FALSE))","v":""},{"$f":"IF(A337=\"\",\"\",VLOOKUP(C337,[2]語言配置表!$A:$B,2,FALSE))","v":""}]
[{"$f":"IF([1]ItemConfig!$A341=\"\",\"\",[1]ItemConfig!$A341)","v":""},{"$f":"IF(A338=\"\",\"\",VLOOKUP(A338,[1]ItemConfig!$A:$B,2,FALSE))","v":""},{"$f":"IF(A338=\"\",\"\",VLOOKUP(A338,[1]ItemConfig!$A:$D,4,FALSE))","v":""},{"$f":"IF(A338=\"\",\"\",VLOOKUP(A338,[1]ItemConfig!$A:$C,3,FALSE))","v":""},{"$f":"IF(A338=\"\",\"\",VLOOKUP(B338,[2]語言配置表!$A:$B,2,FALSE))","v":""},{"$f":"IF(A338=\"\",\"\",VLOOKUP(C338,[2]語言配置表!$A:$B,2,FALSE))","v":""}]
[{"$f":"IF([1]ItemConfig!$A342=\"\",\"\",[1]ItemConfig!$A342)","v":""},{"$f":"IF(A339=\"\",\"\",VLOOKUP(A339,[1]ItemConfig!$A:$B,2,FALSE))","v":""},{"$f":"IF(A339=\"\",\"\",VLOOKUP(A339,[1]ItemConfig!$A:$D,4,FALSE))","v":""},{"$f":"IF(A339=\"\",\"\",VLOOKUP(A339,[1]ItemConfig!$A:$C,3,FALSE))","v":""},{"$f":"IF(A339=\"\",\"\",VLOOKUP(B339,[2]語言配置表!$A:$B,2,FALSE))","v":""},{"$f":"IF(A339=\"\",\"\",VLOOKUP(C339,[2]語言配置表!$A:$B,2,FALSE))","v":""}]
[{"$f":"IF([1]ItemConfig!$A343=\"\",\"\",[1]ItemConfig!$A343)","v":""},{"$f":"IF(A340=\"\",\"\",VLOOKUP(A340,[1]ItemConfig!$A:$B,2,FALSE))","v":""},{"$f":"IF(A340=\"\",\"\",VLOOKUP(A340,[1]ItemConfig!$A:$D,4,FALSE))","v":""},{"$f":"IF(A340=\"\",\"\",VLOOKUP(A340,[1]ItemConfig!$A:$C,3,FALSE))","v":""},{"$f":"IF(A340=\"\",\"\",VLOOKUP(B340,[2]語言配置表!$A:$B,2,FALSE))","v":""},{"$f":"IF(A340=\"\",\"\",VLOOKUP(C340,[2]語言配置表!$A:$B,2,FALSE))","v":""}]
[{"$f":"IF([1]ItemConfig!$A344=\"\",\"\",[1]ItemConfig!$A344)","v":""},{"$f":"IF(A341=\"\",\"\",VLOOKUP(A341,[1]ItemConfig!$A:$B,2,FALSE))","v":""},{"$f":"IF(A341=\"\",\"\",VLOOKUP(A341,[1]ItemConfig!$A:$D,4,FALSE))","v":""},{"$f":"IF(A341=\"\",\"\",VLOOKUP(A341,[1]ItemConfig!$A:$C,3,FALSE))","v":""},{"$f":"IF(A341=\"\",\"\",VLOOKUP(B341,[2]語言配置表!$A:$B,2,FALSE))","v":""},{"$f":"IF(A341=\"\",\"\",VLOOKUP(C341,[2]語言配置表!$A:$B,2,FALSE))","v":""}]
[{"$f":"IF([1]ItemConfig!$A345=\"\",\"\",[1]ItemConfig!$A345)","v":""},{"$f":"IF(A342=\"\",\"\",VLOOKUP(A342,[1]ItemConfig!$A:$B,2,FALSE))","v":""},{"$f":"IF(A342=\"\",\"\",VLOOKUP(A342,[1]ItemConfig!$A:$D,4,FALSE))","v":""},{"$f":"IF(A342=\"\",\"\",VLOOKUP(A342,[1]ItemConfig!$A:$C,3,FALSE))","v":""},{"$f":"IF(A342=\"\",\"\",VLOOKUP(B342,[2]語言配置表!$A:$B,2,FALSE))","v":""},{"$f":"IF(A342=\"\",\"\",VLOOKUP(C342,[2]語言配置表!$A:$B,2,FALSE))","v":""}]
[{"$f":"IF([1]ItemConfig!$A346=\"\",\"\",[1]ItemConfig!$A346)","v":""},{"$f":"IF(A343=\"\",\"\",VLOOKUP(A343,[1]ItemConfig!$A:$B,2,FALSE))","v":""},{"$f":"IF(A343=\"\",\"\",VLOOKUP(A343,[1]ItemConfig!$A:$D,4,FALSE))","v":""},{"$f":"IF(A343=\"\",\"\",VLOOKUP(A343,[1]ItemConfig!$A:$C,3,FALSE))","v":""},{"$f":"IF(A343=\"\",\"\",VLOOKUP(B343,[2]語言配置表!$A:$B,2,FALSE))","v":""},{"$f":"IF(A343=\"\",\"\",VLOOKUP(C343,[2]語言配置表!$A:$B,2,FALSE))","v":""}]
[{"$f":"IF([1]ItemConfig!$A347=\"\",\"\",[1]ItemConfig!$A347)","v":""},{"$f":"IF(A344=\"\",\"\",VLOOKUP(A344,[1]ItemConfig!$A:$B,2,FALSE))","v":""},{"$f":"IF(A344=\"\",\"\",VLOOKUP(A344,[1]ItemConfig!$A:$D,4,FALSE))","v":""},{"$f":"IF(A344=\"\",\"\",VLOOKUP(A344,[1]ItemConfig!$A:$C,3,FALSE))","v":""},{"$f":"IF(A344=\"\",\"\",VLOOKUP(B344,[2]語言配置表!$A:$B,2,FALSE))","v":""},{"$f":"IF(A344=\"\",\"\",VLOOKUP(C344,[2]語言配置表!$A:$B,2,FALSE))","v":""}]
[{"$f":"IF([1]ItemConfig!$A348=\"\",\"\",[1]ItemConfig!$A348)","v":""},{"$f":"IF(A345=\"\",\"\",VLOOKUP(A345,[1]ItemConfig!$A:$B,2,FALSE))","v":""},{"$f":"IF(A345=\"\",\"\",VLOOKUP(A345,[1]ItemConfig!$A:$D,4,FALSE))","v":""},{"$f":"IF(A345=\"\",\"\",VLOOKUP(A345,[1]ItemConfig!$A:$C,3,FALSE))","v":""},{"$f":"IF(A345=\"\",\"\",VLOOKUP(B345,[2]語言配置表!$A:$B,2,FALSE))","v":""},{"$f":"IF(A345=\"\",\"\",VLOOKUP(C345,[2]語言配置表!$A:$B,2,FALSE))","v":""}]
[{"$f":"IF([1]ItemConfig!$A349=\"\",\"\",[1]ItemConfig!$A349)","v":""},{"$f":"IF(A346=\"\",\"\",VLOOKUP(A346,[1]ItemConfig!$A:$B,2,FALSE))","v":""},{"$f":"IF(A346=\"\",\"\",VLOOKUP(A346,[1]ItemConfig!$A:$D,4,FALSE))","v":""},{"$f":"IF(A346=\"\",\"\",VLOOKUP(A346,[1]ItemConfig!$A:$C,3,FALSE))","v":""},{"$f":"IF(A346=\"\",\"\",VLOOKUP(B346,[2]語言配置表!$A:$B,2,FALSE))","v":""},{"$f":"IF(A346=\"\",\"\",VLOOKUP(C346,[2]語言配置表!$A:$B,2,FALSE))","v":""}]
[{"$f":"IF([1]ItemConfig!$A350=\"\",\"\",[1]ItemConfig!$A350)","v":""},{"$f":"IF(A347=\"\",\"\",VLOOKUP(A347,[1]ItemConfig!$A:$B,2,FALSE))","v":""},{"$f":"IF(A347=\"\",\"\",VLOOKUP(A347,[1]ItemConfig!$A:$D,4,FALSE))","v":""},{"$f":"IF(A347=\"\",\"\",VLOOKUP(A347,[1]ItemConfig!$A:$C,3,FALSE))","v":""},{"$f":"IF(A347=\"\",\"\",VLOOKUP(B347,[2]語言配置表!$A:$B,2,FALSE))","v":""},{"$f":"IF(A347=\"\",\"\",VLOOKUP(C347,[2]語言配置表!$A:$B,2,FALSE))","v":""}]
[{"$f":"IF([1]ItemConfig!$A351=\"\",\"\",[1]ItemConfig!$A351)","v":""},{"$f":"IF(A348=\"\",\"\",VLOOKUP(A348,[1]ItemConfig!$A:$B,2,FALSE))","v":""},{"$f":"IF(A348=\"\",\"\",VLOOKUP(A348,[1]ItemConfig!$A:$D,4,FALSE))","v":""},{"$f":"IF(A348=\"\",\"\",VLOOKUP(A348,[1]ItemConfig!$A:$C,3,FALSE))","v":""},{"$f":"IF(A348=\"\",\"\",VLOOKUP(B348,[2]語言配置表!$A:$B,2,FALSE))","v":""},{"$f":"IF(A348=\"\",\"\",VLOOKUP(C348,[2]語言配置表!$A:$B,2,FALSE))","v":""}]
[{"$f":"IF([1]ItemConfig!$A352=\"\",\"\",[1]ItemConfig!$A352)","v":""},{"$f":"IF(A349=\"\",\"\",VLOOKUP(A349,[1]ItemConfig!$A:$B,2,FALSE))","v":""},{"$f":"IF(A349=\"\",\"\",VLOOKUP(A349,[1]ItemConfig!$A:$D,4,FALSE))","v":""},{"$f":"IF(A349=\"\",\"\",VLOOKUP(A349,[1]ItemConfig!$A:$C,3,FALSE))","v":""},{"$f":"IF(A349=\"\",\"\",VLOOKUP(B349,[2]語言配置表!$A:$B,2,FALSE))","v":""},{"$f":"IF(A349=\"\",\"\",VLOOKUP(C349,[2]語言配置表!$A:$B,2,FALSE))","v":""}]
[{"$f":"IF([1]ItemConfig!$A353=\"\",\"\",[1]ItemConfig!$A353)","v":""},{"$f":"IF(A350=\"\",\"\",VLOOKUP(A350,[1]ItemConfig!$A:$B,2,FALSE))","v":""},{"$f":"IF(A350=\"\",\"\",VLOOKUP(A350,[1]ItemConfig!$A:$D,4,FALSE))","v":""},{"$f":"IF(A350=\"\",\"\",VLOOKUP(A350,[1]ItemConfig!$A:$C,3,FALSE))","v":""},{"$f":"IF(A350=\"\",\"\",VLOOKUP(B350,[2]語言配置表!$A:$B,2,FALSE))","v":""},{"$f":"IF(A350=\"\",\"\",VLOOKUP(C350,[2]語言配置表!$A:$B,2,FALSE))","v":""}]
[{"$f":"IF([1]ItemConfig!$A354=\"\",\"\",[1]ItemConfig!$A354)","v":""},{"$f":"IF(A351=\"\",\"\",VLOOKUP(A351,[1]ItemConfig!$A:$B,2,FALSE))","v":""},{"$f":"IF(A351=\"\",\"\",VLOOKUP(A351,[1]ItemConfig!$A:$D,4,FALSE))","v":""},{"$f":"IF(A351=\"\",\"\",VLOOKUP(A351,[1]ItemConfig!$A:$C,3,FALSE))","v":""},{"$f":"IF(A351=\"\",\"\",VLOOKUP(B351,[2]語言配置表!$A:$B,2,FALSE))","v":""},{"$f":"IF(A351=\"\",\"\",VLOOKUP(C351,[2]語言配置表!$A:$B,2,FALSE))","v":""}]
[{"$f":"IF([1]ItemConfig!$A355=\"\",\"\",[1]ItemConfig!$A355)","v":""},{"$f":"IF(A352=\"\",\"\",VLOOKUP(A352,[1]ItemConfig!$A:$B,2,FALSE))","v":""},{"$f":"IF(A352=\"\",\"\",VLOOKUP(A352,[1]ItemConfig!$A:$D,4,FALSE))","v":""},{"$f":"IF(A352=\"\",\"\",VLOOKUP(A352,[1]ItemConfig!$A:$C,3,FALSE))","v":""},{"$f":"IF(A352=\"\",\"\",VLOOKUP(B352,[2]語言配置表!$A:$B,2,FALSE))","v":""},{"$f":"IF(A352=\"\",\"\",VLOOKUP(C352,[2]語言配置表!$A:$B,2,FALSE))","v":""}]
[{"$f":"IF([1]ItemConfig!$A356=\"\",\"\",[1]ItemConfig!$A356)","v":""},{"$f":"IF(A353=\"\",\"\",VLOOKUP(A353,[1]ItemConfig!$A:$B,2,FALSE))","v":""},{"$f":"IF(A353=\"\",\"\",VLOOKUP(A353,[1]ItemConfig!$A:$D,4,FALSE))","v":""},{"$f":"IF(A353=\"\",\"\",VLOOKUP(A353,[1]ItemConfig!$A:$C,3,FALSE))","v":""},{"$f":"IF(A353=\"\",\"\",VLOOKUP(B353,[2]語言配置表!$A:$B,2,FALSE))","v":""},{"$f":"IF(A353=\"\",\"\",VLOOKUP(C353,[2]語言配置表!$A:$B,2,FALSE))","v":""}]
[{"$f":"IF([1]ItemConfig!$A357=\"\",\"\",[1]ItemConfig!$A357)","v":""},{"$f":"IF(A354=\"\",\"\",VLOOKUP(A354,[1]ItemConfig!$A:$B,2,FALSE))","v":""},{"$f":"IF(A354=\"\",\"\",VLOOKUP(A354,[1]ItemConfig!$A:$D,4,FALSE))","v":""},{"$f":"IF(A354=\"\",\"\",VLOOKUP(A354,[1]ItemConfig!$A:$C,3,FALSE))","v":""},{"$f":"IF(A354=\"\",\"\",VLOOKUP(B354,[2]語言配置表!$A:$B,2,FALSE))","v":""},{"$f":"IF(A354=\"\",\"\",VLOOKUP(C354,[2]語言配置表!$A:$B,2,FALSE))","v":""}]
[{"$f":"IF([1]ItemConfig!$A358=\"\",\"\",[1]ItemConfig!$A358)","v":""},{"$f":"IF(A355=\"\",\"\",VLOOKUP(A355,[1]ItemConfig!$A:$B,2,FALSE))","v":""},{"$f":"IF(A355=\"\",\"\",VLOOKUP(A355,[1]ItemConfig!$A:$D,4,FALSE))","v":""},{"$f":"IF(A355=\"\",\"\",VLOOKUP(A355,[1]ItemConfig!$A:$C,3,FALSE))","v":""},{"$f":"IF(A355=\"\",\"\",VLOOKUP(B355,[2]語言配置表!$A:$B,2,FALSE))","v":""},{"$f":"IF(A355=\"\",\"\",VLOOKUP(C355,[2]語言配置表!$A:$B,2,FALSE))","v":""}]
[{"$f":"IF([1]ItemConfig!$A359=\"\",\"\",[1]ItemConfig!$A359)","v":""},{"$f":"IF(A356=\"\",\"\",VLOOKUP(A356,[1]ItemConfig!$A:$B,2,FALSE))","v":""},{"$f":"IF(A356=\"\",\"\",VLOOKUP(A356,[1]ItemConfig!$A:$D,4,FALSE))","v":""},{"$f":"IF(A356=\"\",\"\",VLOOKUP(A356,[1]ItemConfig!$A:$C,3,FALSE))","v":""},{"$f":"IF(A356=\"\",\"\",VLOOKUP(B356,[2]語言配置表!$A:$B,2,FALSE))","v":""},{"$f":"IF(A356=\"\",\"\",VLOOKUP(C356,[2]語言配置表!$A:$B,2,FALSE))","v":""}]
[{"$f":"IF([1]ItemConfig!$A360=\"\",\"\",[1]ItemConfig!$A360)","v":""},{"$f":"IF(A357=\"\",\"\",VLOOKUP(A357,[1]ItemConfig!$A:$B,2,FALSE))","v":""},{"$f":"IF(A357=\"\",\"\",VLOOKUP(A357,[1]ItemConfig!$A:$D,4,FALSE))","v":""},{"$f":"IF(A357=\"\",\"\",VLOOKUP(A357,[1]ItemConfig!$A:$C,3,FALSE))","v":""},{"$f":"IF(A357=\"\",\"\",VLOOKUP(B357,[2]語言配置表!$A:$B,2,FALSE))","v":""},{"$f":"IF(A357=\"\",\"\",VLOOKUP(C357,[2]語言配置表!$A:$B,2,FALSE))","v":""}]
[{"$f":"IF([1]ItemConfig!$A361=\"\",\"\",[1]ItemConfig!$A361)","v":""},{"$f":"IF(A358=\"\",\"\",VLOOKUP(A358,[1]ItemConfig!$A:$B,2,FALSE))","v":""},{"$f":"IF(A358=\"\",\"\",VLOOKUP(A358,[1]ItemConfig!$A:$D,4,FALSE))","v":""},{"$f":"IF(A358=\"\",\"\",VLOOKUP(A358,[1]ItemConfig!$A:$C,3,FALSE))","v":""},{"$f":"IF(A358=\"\",\"\",VLOOKUP(B358,[2]語言配置表!$A:$B,2,FALSE))","v":""},{"$f":"IF(A358=\"\",\"\",VLOOKUP(C358,[2]語言配置表!$A:$B,2,FALSE))","v":""}]
[{"$f":"IF([1]ItemConfig!$A362=\"\",\"\",[1]ItemConfig!$A362)","v":""},{"$f":"IF(A359=\"\",\"\",VLOOKUP(A359,[1]ItemConfig!$A:$B,2,FALSE))","v":""},{"$f":"IF(A359=\"\",\"\",VLOOKUP(A359,[1]ItemConfig!$A:$D,4,FALSE))","v":""},{"$f":"IF(A359=\"\",\"\",VLOOKUP(A359,[1]ItemConfig!$A:$C,3,FALSE))","v":""},{"$f":"IF(A359=\"\",\"\",VLOOKUP(B359,[2]語言配置表!$A:$B,2,FALSE))","v":""},{"$f":"IF(A359=\"\",\"\",VLOOKUP(C359,[2]語言配置表!$A:$B,2,FALSE))","v":""}]
[{"$f":"IF([1]ItemConfig!$A363=\"\",\"\",[1]ItemConfig!$A363)","v":""},{"$f":"IF(A360=\"\",\"\",VLOOKUP(A360,[1]ItemConfig!$A:$B,2,FALSE))","v":""},{"$f":"IF(A360=\"\",\"\",VLOOKUP(A360,[1]ItemConfig!$A:$D,4,FALSE))","v":""},{"$f":"IF(A360=\"\",\"\",VLOOKUP(A360,[1]ItemConfig!$A:$C,3,FALSE))","v":""},{"$f":"IF(A360=\"\",\"\",VLOOKUP(B360,[2]語言配置表!$A:$B,2,FALSE))","v":""},{"$f":"IF(A360=\"\",\"\",VLOOKUP(C360,[2]語言配置表!$A:$B,2,FALSE))","v":""}]
[{"$f":"IF([1]ItemConfig!$A364=\"\",\"\",[1]ItemConfig!$A364)","v":""},{"$f":"IF(A361=\"\",\"\",VLOOKUP(A361,[1]ItemConfig!$A:$B,2,FALSE))","v":""},{"$f":"IF(A361=\"\",\"\",VLOOKUP(A361,[1]ItemConfig!$A:$D,4,FALSE))","v":""},{"$f":"IF(A361=\"\",\"\",VLOOKUP(A361,[1]ItemConfig!$A:$C,3,FALSE))","v":""},{"$f":"IF(A361=\"\",\"\",VLOOKUP(B361,[2]語言配置表!$A:$B,2,FALSE))","v":""},{"$f":"IF(A361=\"\",\"\",VLOOKUP(C361,[2]語言配置表!$A:$B,2,FALSE))","v":""}]
[{"$f":"IF([1]ItemConfig!$A365=\"\",\"\",[1]ItemConfig!$A365)","v":""},{"$f":"IF(A362=\"\",\"\",VLOOKUP(A362,[1]ItemConfig!$A:$B,2,FALSE))","v":""},{"$f":"IF(A362=\"\",\"\",VLOOKUP(A362,[1]ItemConfig!$A:$D,4,FALSE))","v":""},{"$f":"IF(A362=\"\",\"\",VLOOKUP(A362,[1]ItemConfig!$A:$C,3,FALSE))","v":""},{"$f":"IF(A362=\"\",\"\",VLOOKUP(B362,[2]語言配置表!$A:$B,2,FALSE))","v":""},{"$f":"IF(A362=\"\",\"\",VLOOKUP(C362,[2]語言配置表!$A:$B,2,FALSE))","v":""}]
[{"$f":"IF([1]ItemConfig!$A366=\"\",\"\",[1]ItemConfig!$A366)","v":""},{"$f":"IF(A363=\"\",\"\",VLOOKUP(A363,[1]ItemConfig!$A:$B,2,FALSE))","v":""},{"$f":"IF(A363=\"\",\"\",VLOOKUP(A363,[1]ItemConfig!$A:$D,4,FALSE))","v":""},{"$f":"IF(A363=\"\",\"\",VLOOKUP(A363,[1]ItemConfig!$A:$C,3,FALSE))","v":""},{"$f":"IF(A363=\"\",\"\",VLOOKUP(B363,[2]語言配置表!$A:$B,2,FALSE))","v":""},{"$f":"IF(A363=\"\",\"\",VLOOKUP(C363,[2]語言配置表!$A:$B,2,FALSE))","v":""}]
[{"$f":"IF([1]ItemConfig!$A367=\"\",\"\",[1]ItemConfig!$A367)","v":""},{"$f":"IF(A364=\"\",\"\",VLOOKUP(A364,[1]ItemConfig!$A:$B,2,FALSE))","v":""},{"$f":"IF(A364=\"\",\"\",VLOOKUP(A364,[1]ItemConfig!$A:$D,4,FALSE))","v":""},{"$f":"IF(A364=\"\",\"\",VLOOKUP(A364,[1]ItemConfig!$A:$C,3,FALSE))","v":""},{"$f":"IF(A364=\"\",\"\",VLOOKUP(B364,[2]語言配置表!$A:$B,2,FALSE))","v":""},{"$f":"IF(A364=\"\",\"\",VLOOKUP(C364,[2]語言配置表!$A:$B,2,FALSE))","v":""}]
[{"$f":"IF([1]ItemConfig!$A368=\"\",\"\",[1]ItemConfig!$A368)","v":""},{"$f":"IF(A365=\"\",\"\",VLOOKUP(A365,[1]ItemConfig!$A:$B,2,FALSE))","v":""},{"$f":"IF(A365=\"\",\"\",VLOOKUP(A365,[1]ItemConfig!$A:$D,4,FALSE))","v":""},{"$f":"IF(A365=\"\",\"\",VLOOKUP(A365,[1]ItemConfig!$A:$C,3,FALSE))","v":""},{"$f":"IF(A365=\"\",\"\",VLOOKUP(B365,[2]語言配置表!$A:$B,2,FALSE))","v":""},{"$f":"IF(A365=\"\",\"\",VLOOKUP(C365,[2]語言配置表!$A:$B,2,FALSE))","v":""}]
[{"$f":"IF([1]ItemConfig!$A369=\"\",\"\",[1]ItemConfig!$A369)","v":""},{"$f":"IF(A366=\"\",\"\",VLOOKUP(A366,[1]ItemConfig!$A:$B,2,FALSE))","v":""},{"$f":"IF(A366=\"\",\"\",VLOOKUP(A366,[1]ItemConfig!$A:$D,4,FALSE))","v":""},{"$f":"IF(A366=\"\",\"\",VLOOKUP(A366,[1]ItemConfig!$A:$C,3,FALSE))","v":""},{"$f":"IF(A366=\"\",\"\",VLOOKUP(B366,[2]語言配置表!$A:$B,2,FALSE))","v":""},{"$f":"IF(A366=\"\",\"\",VLOOKUP(C366,[2]語言配置表!$A:$B,2,FALSE))","v":""}]
[{"$f":"IF([1]ItemConfig!$A370=\"\",\"\",[1]ItemConfig!$A370)","v":""},{"$f":"IF(A367=\"\",\"\",VLOOKUP(A367,[1]ItemConfig!$A:$B,2,FALSE))","v":""},{"$f":"IF(A367=\"\",\"\",VLOOKUP(A367,[1]ItemConfig!$A:$D,4,FALSE))","v":""},{"$f":"IF(A367=\"\",\"\",VLOOKUP(A367,[1]ItemConfig!$A:$C,3,FALSE))","v":""},{"$f":"IF(A367=\"\",\"\",VLOOKUP(B367,[2]語言配置表!$A:$B,2,FALSE))","v":""},{"$f":"IF(A367=\"\",\"\",VLOOKUP(C367,[2]語言配置表!$A:$B,2,FALSE))","v":""}]
[{"$f":"IF([1]ItemConfig!$A371=\"\",\"\",[1]ItemConfig!$A371)","v":""},{"$f":"IF(A368=\"\",\"\",VLOOKUP(A368,[1]ItemConfig!$A:$B,2,FALSE))","v":""},{"$f":"IF(A368=\"\",\"\",VLOOKUP(A368,[1]ItemConfig!$A:$D,4,FALSE))","v":""},{"$f":"IF(A368=\"\",\"\",VLOOKUP(A368,[1]ItemConfig!$A:$C,3,FALSE))","v":""},{"$f":"IF(A368=\"\",\"\",VLOOKUP(B368,[2]語言配置表!$A:$B,2,FALSE))","v":""},{"$f":"IF(A368=\"\",\"\",VLOOKUP(C368,[2]語言配置表!$A:$B,2,FALSE))","v":""}]
[{"$f":"IF([1]ItemConfig!$A372=\"\",\"\",[1]ItemConfig!$A372)","v":""},{"$f":"IF(A369=\"\",\"\",VLOOKUP(A369,[1]ItemConfig!$A:$B,2,FALSE))","v":""},{"$f":"IF(A369=\"\",\"\",VLOOKUP(A369,[1]ItemConfig!$A:$D,4,FALSE))","v":""},{"$f":"IF(A369=\"\",\"\",VLOOKUP(A369,[1]ItemConfig!$A:$C,3,FALSE))","v":""},{"$f":"IF(A369=\"\",\"\",VLOOKUP(B369,[2]語言配置表!$A:$B,2,FALSE))","v":""},{"$f":"IF(A369=\"\",\"\",VLOOKUP(C369,[2]語言配置表!$A:$B,2,FALSE))","v":""}]
[{"$f":"IF([1]ItemConfig!$A373=\"\",\"\",[1]ItemConfig!$A373)","v":""},{"$f":"IF(A370=\"\",\"\",VLOOKUP(A370,[1]ItemConfig!$A:$B,2,FALSE))","v":""},{"$f":"IF(A370=\"\",\"\",VLOOKUP(A370,[1]ItemConfig!$A:$D,4,FALSE))","v":""},{"$f":"IF(A370=\"\",\"\",VLOOKUP(A370,[1]ItemConfig!$A:$C,3,FALSE))","v":""},{"$f":"IF(A370=\"\",\"\",VLOOKUP(B370,[2]語言配置表!$A:$B,2,FALSE))","v":""},{"$f":"IF(A370=\"\",\"\",VLOOKUP(C370,[2]語言配置表!$A:$B,2,FALSE))","v":""}]
[{"$f":"IF([1]ItemConfig!$A374=\"\",\"\",[1]ItemConfig!$A374)","v":""},{"$f":"IF(A371=\"\",\"\",VLOOKUP(A371,[1]ItemConfig!$A:$B,2,FALSE))","v":""},{"$f":"IF(A371=\"\",\"\",VLOOKUP(A371,[1]ItemConfig!$A:$D,4,FALSE))","v":""},{"$f":"IF(A371=\"\",\"\",VLOOKUP(A371,[1]ItemConfig!$A:$C,3,FALSE))","v":""},{"$f":"IF(A371=\"\",\"\",VLOOKUP(B371,[2]語言配置表!$A:$B,2,FALSE))","v":""},{"$f":"IF(A371=\"\",\"\",VLOOKUP(C371,[2]語言配置表!$A:$B,2,FALSE))","v":""}]
[{"$f":"IF([1]ItemConfig!$A375=\"\",\"\",[1]ItemConfig!$A375)","v":""},{"$f":"IF(A372=\"\",\"\",VLOOKUP(A372,[1]ItemConfig!$A:$B,2,FALSE))","v":""},{"$f":"IF(A372=\"\",\"\",VLOOKUP(A372,[1]ItemConfig!$A:$D,4,FALSE))","v":""},{"$f":"IF(A372=\"\",\"\",VLOOKUP(A372,[1]ItemConfig!$A:$C,3,FALSE))","v":""},{"$f":"IF(A372=\"\",\"\",VLOOKUP(B372,[2]語言配置表!$A:$B,2,FALSE))","v":""},{"$f":"IF(A372=\"\",\"\",VLOOKUP(C372,[2]語言配置表!$A:$B,2,FALSE))","v":""}]
[{"$f":"IF([1]ItemConfig!$A376=\"\",\"\",[1]ItemConfig!$A376)","v":""},{"$f":"IF(A373=\"\",\"\",VLOOKUP(A373,[1]ItemConfig!$A:$B,2,FALSE))","v":""},{"$f":"IF(A373=\"\",\"\",VLOOKUP(A373,[1]ItemConfig!$A:$D,4,FALSE))","v":""},{"$f":"IF(A373=\"\",\"\",VLOOKUP(A373,[1]ItemConfig!$A:$C,3,FALSE))","v":""},{"$f":"IF(A373=\"\",\"\",VLOOKUP(B373,[2]語言配置表!$A:$B,2,FALSE))","v":""},{"$f":"IF(A373=\"\",\"\",VLOOKUP(C373,[2]語言配置表!$A:$B,2,FALSE))","v":""}]
[{"$f":"IF([1]ItemConfig!$A377=\"\",\"\",[1]ItemConfig!$A377)","v":""},{"$f":"IF(A374=\"\",\"\",VLOOKUP(A374,[1]ItemConfig!$A:$B,2,FALSE))","v":""},{"$f":"IF(A374=\"\",\"\",VLOOKUP(A374,[1]ItemConfig!$A:$D,4,FALSE))","v":""},{"$f":"IF(A374=\"\",\"\",VLOOKUP(A374,[1]ItemConfig!$A:$C,3,FALSE))","v":""},{"$f":"IF(A374=\"\",\"\",VLOOKUP(B374,[2]語言配置表!$A:$B,2,FALSE))","v":""},{"$f":"IF(A374=\"\",\"\",VLOOKUP(C374,[2]語言配置表!$A:$B,2,FALSE))","v":""}]
[{"$f":"IF([1]ItemConfig!$A378=\"\",\"\",[1]ItemConfig!$A378)","v":""},{"$f":"IF(A375=\"\",\"\",VLOOKUP(A375,[1]ItemConfig!$A:$B,2,FALSE))","v":""},{"$f":"IF(A375=\"\",\"\",VLOOKUP(A375,[1]ItemConfig!$A:$D,4,FALSE))","v":""},{"$f":"IF(A375=\"\",\"\",VLOOKUP(A375,[1]ItemConfig!$A:$C,3,FALSE))","v":""},{"$f":"IF(A375=\"\",\"\",VLOOKUP(B375,[2]語言配置表!$A:$B,2,FALSE))","v":""},{"$f":"IF(A375=\"\",\"\",VLOOKUP(C375,[2]語言配置表!$A:$B,2,FALSE))","v":""}]
[{"$f":"IF([1]ItemConfig!$A379=\"\",\"\",[1]ItemConfig!$A379)","v":""},{"$f":"IF(A376=\"\",\"\",VLOOKUP(A376,[1]ItemConfig!$A:$B,2,FALSE))","v":""},{"$f":"IF(A376=\"\",\"\",VLOOKUP(A376,[1]ItemConfig!$A:$D,4,FALSE))","v":""},{"$f":"IF(A376=\"\",\"\",VLOOKUP(A376,[1]ItemConfig!$A:$C,3,FALSE))","v":""},{"$f":"IF(A376=\"\",\"\",VLOOKUP(B376,[2]語言配置表!$A:$B,2,FALSE))","v":""},{"$f":"IF(A376=\"\",\"\",VLOOKUP(C376,[2]語言配置表!$A:$B,2,FALSE))","v":""}]
[{"$f":"IF([1]ItemConfig!$A380=\"\",\"\",[1]ItemConfig!$A380)","v":""},{"$f":"IF(A377=\"\",\"\",VLOOKUP(A377,[1]ItemConfig!$A:$B,2,FALSE))","v":""},{"$f":"IF(A377=\"\",\"\",VLOOKUP(A377,[1]ItemConfig!$A:$D,4,FALSE))","v":""},{"$f":"IF(A377=\"\",\"\",VLOOKUP(A377,[1]ItemConfig!$A:$C,3,FALSE))","v":""},{"$f":"IF(A377=\"\",\"\",VLOOKUP(B377,[2]語言配置表!$A:$B,2,FALSE))","v":""},{"$f":"IF(A377=\"\",\"\",VLOOKUP(C377,[2]語言配置表!$A:$B,2,FALSE))","v":""}]
[{"$f":"IF([1]ItemConfig!$A381=\"\",\"\",[1]ItemConfig!$A381)","v":""},{"$f":"IF(A378=\"\",\"\",VLOOKUP(A378,[1]ItemConfig!$A:$B,2,FALSE))","v":""},{"$f":"IF(A378=\"\",\"\",VLOOKUP(A378,[1]ItemConfig!$A:$D,4,FALSE))","v":""},{"$f":"IF(A378=\"\",\"\",VLOOKUP(A378,[1]ItemConfig!$A:$C,3,FALSE))","v":""},{"$f":"IF(A378=\"\",\"\",VLOOKUP(B378,[2]語言配置表!$A:$B,2,FALSE))","v":""},{"$f":"IF(A378=\"\",\"\",VLOOKUP(C378,[2]語言配置表!$A:$B,2,FALSE))","v":""}]
[{"$f":"IF([1]ItemConfig!$A382=\"\",\"\",[1]ItemConfig!$A382)","v":""},{"$f":"IF(A379=\"\",\"\",VLOOKUP(A379,[1]ItemConfig!$A:$B,2,FALSE))","v":""},{"$f":"IF(A379=\"\",\"\",VLOOKUP(A379,[1]ItemConfig!$A:$D,4,FALSE))","v":""},{"$f":"IF(A379=\"\",\"\",VLOOKUP(A379,[1]ItemConfig!$A:$C,3,FALSE))","v":""},{"$f":"IF(A379=\"\",\"\",VLOOKUP(B379,[2]語言配置表!$A:$B,2,FALSE))","v":""},{"$f":"IF(A379=\"\",\"\",VLOOKUP(C379,[2]語言配置表!$A:$B,2,FALSE))","v":""}]
[{"$f":"IF([1]ItemConfig!$A383=\"\",\"\",[1]ItemConfig!$A383)","v":""},{"$f":"IF(A380=\"\",\"\",VLOOKUP(A380,[1]ItemConfig!$A:$B,2,FALSE))","v":""},{"$f":"IF(A380=\"\",\"\",VLOOKUP(A380,[1]ItemConfig!$A:$D,4,FALSE))","v":""},{"$f":"IF(A380=\"\",\"\",VLOOKUP(A380,[1]ItemConfig!$A:$C,3,FALSE))","v":""},{"$f":"IF(A380=\"\",\"\",VLOOKUP(B380,[2]語言配置表!$A:$B,2,FALSE))","v":""},{"$f":"IF(A380=\"\",\"\",VLOOKUP(C380,[2]語言配置表!$A:$B,2,FALSE))","v":""}]
[{"$f":"IF([1]ItemConfig!$A384=\"\",\"\",[1]ItemConfig!$A384)","v":""},{"$f":"IF(A381=\"\",\"\",VLOOKUP(A381,[1]ItemConfig!$A:$B,2,FALSE))","v":""},{"$f":"IF(A381=\"\",\"\",VLOOKUP(A381,[1]ItemConfig!$A:$D,4,FALSE))","v":""},{"$f":"IF(A381=\"\",\"\",VLOOKUP(A381,[1]ItemConfig!$A:$C,3,FALSE))","v":""},{"$f":"IF(A381=\"\",\"\",VLOOKUP(B381,[2]語言配置表!$A:$B,2,FALSE))","v":""},{"$f":"IF(A381=\"\",\"\",VLOOKUP(C381,[2]語言配置表!$A:$B,2,FALSE))","v":""}]
[{"$f":"IF([1]ItemConfig!$A385=\"\",\"\",[1]ItemConfig!$A385)","v":""},{"$f":"IF(A382=\"\",\"\",VLOOKUP(A382,[1]ItemConfig!$A:$B,2,FALSE))","v":""},{"$f":"IF(A382=\"\",\"\",VLOOKUP(A382,[1]ItemConfig!$A:$D,4,FALSE))","v":""},{"$f":"IF(A382=\"\",\"\",VLOOKUP(A382,[1]ItemConfig!$A:$C,3,FALSE))","v":""},{"$f":"IF(A382=\"\",\"\",VLOOKUP(B382,[2]語言配置表!$A:$B,2,FALSE))","v":""},{"$f":"IF(A382=\"\",\"\",VLOOKUP(C382,[2]語言配置表!$A:$B,2,FALSE))","v":""}]
[{"$f":"IF([1]ItemConfig!$A386=\"\",\"\",[1]ItemConfig!$A386)","v":""},{"$f":"IF(A383=\"\",\"\",VLOOKUP(A383,[1]ItemConfig!$A:$B,2,FALSE))","v":""},{"$f":"IF(A383=\"\",\"\",VLOOKUP(A383,[1]ItemConfig!$A:$D,4,FALSE))","v":""},{"$f":"IF(A383=\"\",\"\",VLOOKUP(A383,[1]ItemConfig!$A:$C,3,FALSE))","v":""},{"$f":"IF(A383=\"\",\"\",VLOOKUP(B383,[2]語言配置表!$A:$B,2,FALSE))","v":""},{"$f":"IF(A383=\"\",\"\",VLOOKUP(C383,[2]語言配置表!$A:$B,2,FALSE))","v":""}]
[{"$f":"IF([1]ItemConfig!$A387=\"\",\"\",[1]ItemConfig!$A387)","v":""},{"$f":"IF(A384=\"\",\"\",VLOOKUP(A384,[1]ItemConfig!$A:$B,2,FALSE))","v":""},{"$f":"IF(A384=\"\",\"\",VLOOKUP(A384,[1]ItemConfig!$A:$D,4,FALSE))","v":""},{"$f":"IF(A384=\"\",\"\",VLOOKUP(A384,[1]ItemConfig!$A:$C,3,FALSE))","v":""},{"$f":"IF(A384=\"\",\"\",VLOOKUP(B384,[2]語言配置表!$A:$B,2,FALSE))","v":""},{"$f":"IF(A384=\"\",\"\",VLOOKUP(C384,[2]語言配置表!$A:$B,2,FALSE))","v":""}]
[{"$f":"IF([1]ItemConfig!$A388=\"\",\"\",[1]ItemConfig!$A388)","v":""},{"$f":"IF(A385=\"\",\"\",VLOOKUP(A385,[1]ItemConfig!$A:$B,2,FALSE))","v":""},{"$f":"IF(A385=\"\",\"\",VLOOKUP(A385,[1]ItemConfig!$A:$D,4,FALSE))","v":""},{"$f":"IF(A385=\"\",\"\",VLOOKUP(A385,[1]ItemConfig!$A:$C,3,FALSE))","v":""},{"$f":"IF(A385=\"\",\"\",VLOOKUP(B385,[2]語言配置表!$A:$B,2,FALSE))","v":""},{"$f":"IF(A385=\"\",\"\",VLOOKUP(C385,[2]語言配置表!$A:$B,2,FALSE))","v":""}]
[{"$f":"IF([1]ItemConfig!$A389=\"\",\"\",[1]ItemConfig!$A389)","v":""},{"$f":"IF(A386=\"\",\"\",VLOOKUP(A386,[1]ItemConfig!$A:$B,2,FALSE))","v":""},{"$f":"IF(A386=\"\",\"\",VLOOKUP(A386,[1]ItemConfig!$A:$D,4,FALSE))","v":""},{"$f":"IF(A386=\"\",\"\",VLOOKUP(A386,[1]ItemConfig!$A:$C,3,FALSE))","v":""},{"$f":"IF(A386=\"\",\"\",VLOOKUP(B386,[2]語言配置表!$A:$B,2,FALSE))","v":""},{"$f":"IF(A386=\"\",\"\",VLOOKUP(C386,[2]語言配置表!$A:$B,2,FALSE))","v":""}]
[{"$f":"IF([1]ItemConfig!$A390=\"\",\"\",[1]ItemConfig!$A390)","v":""},{"$f":"IF(A387=\"\",\"\",VLOOKUP(A387,[1]ItemConfig!$A:$B,2,FALSE))","v":""},{"$f":"IF(A387=\"\",\"\",VLOOKUP(A387,[1]ItemConfig!$A:$D,4,FALSE))","v":""},{"$f":"IF(A387=\"\",\"\",VLOOKUP(A387,[1]ItemConfig!$A:$C,3,FALSE))","v":""},{"$f":"IF(A387=\"\",\"\",VLOOKUP(B387,[2]語言配置表!$A:$B,2,FALSE))","v":""},{"$f":"IF(A387=\"\",\"\",VLOOKUP(C387,[2]語言配置表!$A:$B,2,FALSE))","v":""}]
[{"$f":"IF([1]ItemConfig!$A391=\"\",\"\",[1]ItemConfig!$A391)","v":""},{"$f":"IF(A388=\"\",\"\",VLOOKUP(A388,[1]ItemConfig!$A:$B,2,FALSE))","v":""},{"$f":"IF(A388=\"\",\"\",VLOOKUP(A388,[1]ItemConfig!$A:$D,4,FALSE))","v":""},{"$f":"IF(A388=\"\",\"\",VLOOKUP(A388,[1]ItemConfig!$A:$C,3,FALSE))","v":""},{"$f":"IF(A388=\"\",\"\",VLOOKUP(B388,[2]語言配置表!$A:$B,2,FALSE))","v":""},{"$f":"IF(A388=\"\",\"\",VLOOKUP(C388,[2]語言配置表!$A:$B,2,FALSE))","v":""}]
[{"$f":"IF([1]ItemConfig!$A392=\"\",\"\",[1]ItemConfig!$A392)","v":""},{"$f":"IF(A389=\"\",\"\",VLOOKUP(A389,[1]ItemConfig!$A:$B,2,FALSE))","v":""},{"$f":"IF(A389=\"\",\"\",VLOOKUP(A389,[1]ItemConfig!$A:$D,4,FALSE))","v":""},{"$f":"IF(A389=\"\",\"\",VLOOKUP(A389,[1]ItemConfig!$A:$C,3,FALSE))","v":""},{"$f":"IF(A389=\"\",\"\",VLOOKUP(B389,[2]語言配置表!$A:$B,2,FALSE))","v":""},{"$f":"IF(A389=\"\",\"\",VLOOKUP(C389,[2]語言配置表!$A:$B,2,FALSE))","v":""}]
[{"$f":"IF([1]ItemConfig!$A393=\"\",\"\",[1]ItemConfig!$A393)","v":""},{"$f":"IF(A390=\"\",\"\",VLOOKUP(A390,[1]ItemConfig!$A:$B,2,FALSE))","v":""},{"$f":"IF(A390=\"\",\"\",VLOOKUP(A390,[1]ItemConfig!$A:$D,4,FALSE))","v":""},{"$f":"IF(A390=\"\",\"\",VLOOKUP(A390,[1]ItemConfig!$A:$C,3,FALSE))","v":""},{"$f":"IF(A390=\"\",\"\",VLOOKUP(B390,[2]語言配置表!$A:$B,2,FALSE))","v":""},{"$f":"IF(A390=\"\",\"\",VLOOKUP(C390,[2]語言配置表!$A:$B,2,FALSE))","v":""}]
[{"$f":"IF([1]ItemConfig!$A394=\"\",\"\",[1]ItemConfig!$A394)","v":""},{"$f":"IF(A391=\"\",\"\",VLOOKUP(A391,[1]ItemConfig!$A:$B,2,FALSE))","v":""},{"$f":"IF(A391=\"\",\"\",VLOOKUP(A391,[1]ItemConfig!$A:$D,4,FALSE))","v":""},{"$f":"IF(A391=\"\",\"\",VLOOKUP(A391,[1]ItemConfig!$A:$C,3,FALSE))","v":""},{"$f":"IF(A391=\"\",\"\",VLOOKUP(B391,[2]語言配置表!$A:$B,2,FALSE))","v":""},{"$f":"IF(A391=\"\",\"\",VLOOKUP(C391,[2]語言配置表!$A:$B,2,FALSE))","v":""}]
[{"$f":"IF([1]ItemConfig!$A395=\"\",\"\",[1]ItemConfig!$A395)","v":""},{"$f":"IF(A392=\"\",\"\",VLOOKUP(A392,[1]ItemConfig!$A:$B,2,FALSE))","v":""},{"$f":"IF(A392=\"\",\"\",VLOOKUP(A392,[1]ItemConfig!$A:$D,4,FALSE))","v":""},{"$f":"IF(A392=\"\",\"\",VLOOKUP(A392,[1]ItemConfig!$A:$C,3,FALSE))","v":""},{"$f":"IF(A392=\"\",\"\",VLOOKUP(B392,[2]語言配置表!$A:$B,2,FALSE))","v":""},{"$f":"IF(A392=\"\",\"\",VLOOKUP(C392,[2]語言配置表!$A:$B,2,FALSE))","v":""}]
[{"$f":"IF([1]ItemConfig!$A396=\"\",\"\",[1]ItemConfig!$A396)","v":""},{"$f":"IF(A393=\"\",\"\",VLOOKUP(A393,[1]ItemConfig!$A:$B,2,FALSE))","v":""},{"$f":"IF(A393=\"\",\"\",VLOOKUP(A393,[1]ItemConfig!$A:$D,4,FALSE))","v":""},{"$f":"IF(A393=\"\",\"\",VLOOKUP(A393,[1]ItemConfig!$A:$C,3,FALSE))","v":""},{"$f":"IF(A393=\"\",\"\",VLOOKUP(B393,[2]語言配置表!$A:$B,2,FALSE))","v":""},{"$f":"IF(A393=\"\",\"\",VLOOKUP(C393,[2]語言配置表!$A:$B,2,FALSE))","v":""}]
[{"$f":"IF([1]ItemConfig!$A397=\"\",\"\",[1]ItemConfig!$A397)","v":""},{"$f":"IF(A394=\"\",\"\",VLOOKUP(A394,[1]ItemConfig!$A:$B,2,FALSE))","v":""},{"$f":"IF(A394=\"\",\"\",VLOOKUP(A394,[1]ItemConfig!$A:$D,4,FALSE))","v":""},{"$f":"IF(A394=\"\",\"\",VLOOKUP(A394,[1]ItemConfig!$A:$C,3,FALSE))","v":""},{"$f":"IF(A394=\"\",\"\",VLOOKUP(B394,[2]語言配置表!$A:$B,2,FALSE))","v":""},{"$f":"IF(A394=\"\",\"\",VLOOKUP(C394,[2]語言配置表!$A:$B,2,FALSE))","v":""}]
[{"$f":"IF([1]ItemConfig!$A398=\"\",\"\",[1]ItemConfig!$A398)","v":""},{"$f":"IF(A395=\"\",\"\",VLOOKUP(A395,[1]ItemConfig!$A:$B,2,FALSE))","v":""},{"$f":"IF(A395=\"\",\"\",VLOOKUP(A395,[1]ItemConfig!$A:$D,4,FALSE))","v":""},{"$f":"IF(A395=\"\",\"\",VLOOKUP(A395,[1]ItemConfig!$A:$C,3,FALSE))","v":""},{"$f":"IF(A395=\"\",\"\",VLOOKUP(B395,[2]語言配置表!$A:$B,2,FALSE))","v":""},{"$f":"IF(A395=\"\",\"\",VLOOKUP(C395,[2]語言配置表!$A:$B,2,FALSE))","v":""}]
[{"$f":"IF([1]ItemConfig!$A399=\"\",\"\",[1]ItemConfig!$A399)","v":""},{"$f":"IF(A396=\"\",\"\",VLOOKUP(A396,[1]ItemConfig!$A:$B,2,FALSE))","v":""},{"$f":"IF(A396=\"\",\"\",VLOOKUP(A396,[1]ItemConfig!$A:$D,4,FALSE))","v":""},{"$f":"IF(A396=\"\",\"\",VLOOKUP(A396,[1]ItemConfig!$A:$C,3,FALSE))","v":""},{"$f":"IF(A396=\"\",\"\",VLOOKUP(B396,[2]語言配置表!$A:$B,2,FALSE))","v":""},{"$f":"IF(A396=\"\",\"\",VLOOKUP(C396,[2]語言配置表!$A:$B,2,FALSE))","v":""}]
[{"$f":"IF([1]ItemConfig!$A400=\"\",\"\",[1]ItemConfig!$A400)","v":""},{"$f":"IF(A397=\"\",\"\",VLOOKUP(A397,[1]ItemConfig!$A:$B,2,FALSE))","v":""},{"$f":"IF(A397=\"\",\"\",VLOOKUP(A397,[1]ItemConfig!$A:$D,4,FALSE))","v":""},{"$f":"IF(A397=\"\",\"\",VLOOKUP(A397,[1]ItemConfig!$A:$C,3,FALSE))","v":""},{"$f":"IF(A397=\"\",\"\",VLOOKUP(B397,[2]語言配置表!$A:$B,2,FALSE))","v":""},{"$f":"IF(A397=\"\",\"\",VLOOKUP(C397,[2]語言配置表!$A:$B,2,FALSE))","v":""}]
[{"$f":"IF([1]ItemConfig!$A401=\"\",\"\",[1]ItemConfig!$A401)","v":""},{"$f":"IF(A398=\"\",\"\",VLOOKUP(A398,[1]ItemConfig!$A:$B,2,FALSE))","v":""},{"$f":"IF(A398=\"\",\"\",VLOOKUP(A398,[1]ItemConfig!$A:$D,4,FALSE))","v":""},{"$f":"IF(A398=\"\",\"\",VLOOKUP(A398,[1]ItemConfig!$A:$C,3,FALSE))","v":""},{"$f":"IF(A398=\"\",\"\",VLOOKUP(B398,[2]語言配置表!$A:$B,2,FALSE))","v":""},{"$f":"IF(A398=\"\",\"\",VLOOKUP(C398,[2]語言配置表!$A:$B,2,FALSE))","v":""}]
[{"$f":"IF([1]ItemConfig!$A402=\"\",\"\",[1]ItemConfig!$A402)","v":""},{"$f":"IF(A399=\"\",\"\",VLOOKUP(A399,[1]ItemConfig!$A:$B,2,FALSE))","v":""},{"$f":"IF(A399=\"\",\"\",VLOOKUP(A399,[1]ItemConfig!$A:$D,4,FALSE))","v":""},{"$f":"IF(A399=\"\",\"\",VLOOKUP(A399,[1]ItemConfig!$A:$C,3,FALSE))","v":""},{"$f":"IF(A399=\"\",\"\",VLOOKUP(B399,[2]語言配置表!$A:$B,2,FALSE))","v":""},{"$f":"IF(A399=\"\",\"\",VLOOKUP(C399,[2]語言配置表!$A:$B,2,FALSE))","v":""}]
[{"$f":"IF([1]ItemConfig!$A403=\"\",\"\",[1]ItemConfig!$A403)","v":""},{"$f":"IF(A400=\"\",\"\",VLOOKUP(A400,[1]ItemConfig!$A:$B,2,FALSE))","v":""},{"$f":"IF(A400=\"\",\"\",VLOOKUP(A400,[1]ItemConfig!$A:$D,4,FALSE))","v":""},{"$f":"IF(A400=\"\",\"\",VLOOKUP(A400,[1]ItemConfig!$A:$C,3,FALSE))","v":""},{"$f":"IF(A400=\"\",\"\",VLOOKUP(B400,[2]語言配置表!$A:$B,2,FALSE))","v":""},{"$f":"IF(A400=\"\",\"\",VLOOKUP(C400,[2]語言配置表!$A:$B,2,FALSE))","v":""}]
[{"$f":"IF([1]ItemConfig!$A404=\"\",\"\",[1]ItemConfig!$A404)","v":""},{"$f":"IF(A401=\"\",\"\",VLOOKUP(A401,[1]ItemConfig!$A:$B,2,FALSE))","v":""},{"$f":"IF(A401=\"\",\"\",VLOOKUP(A401,[1]ItemConfig!$A:$D,4,FALSE))","v":""},{"$f":"IF(A401=\"\",\"\",VLOOKUP(A401,[1]ItemConfig!$A:$C,3,FALSE))","v":""},{"$f":"IF(A401=\"\",\"\",VLOOKUP(B401,[2]語言配置表!$A:$B,2,FALSE))","v":""},{"$f":"IF(A401=\"\",\"\",VLOOKUP(C401,[2]語言配置表!$A:$B,2,FALSE))","v":""}]
[{"$f":"IF([1]ItemConfig!$A405=\"\",\"\",[1]ItemConfig!$A405)","v":""},{"$f":"IF(A402=\"\",\"\",VLOOKUP(A402,[1]ItemConfig!$A:$B,2,FALSE))","v":""},{"$f":"IF(A402=\"\",\"\",VLOOKUP(A402,[1]ItemConfig!$A:$D,4,FALSE))","v":""},{"$f":"IF(A402=\"\",\"\",VLOOKUP(A402,[1]ItemConfig!$A:$C,3,FALSE))","v":""},{"$f":"IF(A402=\"\",\"\",VLOOKUP(B402,[2]語言配置表!$A:$B,2,FALSE))","v":""},{"$f":"IF(A402=\"\",\"\",VLOOKUP(C402,[2]語言配置表!$A:$B,2,FALSE))","v":""}]
[{"$f":"IF([1]ItemConfig!$A406=\"\",\"\",[1]ItemConfig!$A406)","v":""},{"$f":"IF(A403=\"\",\"\",VLOOKUP(A403,[1]ItemConfig!$A:$B,2,FALSE))","v":""},{"$f":"IF(A403=\"\",\"\",VLOOKUP(A403,[1]ItemConfig!$A:$D,4,FALSE))","v":""},{"$f":"IF(A403=\"\",\"\",VLOOKUP(A403,[1]ItemConfig!$A:$C,3,FALSE))","v":""},{"$f":"IF(A403=\"\",\"\",VLOOKUP(B403,[2]語言配置表!$A:$B,2,FALSE))","v":""},{"$f":"IF(A403=\"\",\"\",VLOOKUP(C403,[2]語言配置表!$A:$B,2,FALSE))","v":""}]
[{"$f":"IF([1]ItemConfig!$A407=\"\",\"\",[1]ItemConfig!$A407)","v":""},{"$f":"IF(A404=\"\",\"\",VLOOKUP(A404,[1]ItemConfig!$A:$B,2,FALSE))","v":""},{"$f":"IF(A404=\"\",\"\",VLOOKUP(A404,[1]ItemConfig!$A:$D,4,FALSE))","v":""},{"$f":"IF(A404=\"\",\"\",VLOOKUP(A404,[1]ItemConfig!$A:$C,3,FALSE))","v":""},{"$f":"IF(A404=\"\",\"\",VLOOKUP(B404,[2]語言配置表!$A:$B,2,FALSE))","v":""},{"$f":"IF(A404=\"\",\"\",VLOOKUP(C404,[2]語言配置表!$A:$B,2,FALSE))","v":""}]
[{"$f":"IF([1]ItemConfig!$A408=\"\",\"\",[1]ItemConfig!$A408)","v":""},{"$f":"IF(A405=\"\",\"\",VLOOKUP(A405,[1]ItemConfig!$A:$B,2,FALSE))","v":""},{"$f":"IF(A405=\"\",\"\",VLOOKUP(A405,[1]ItemConfig!$A:$D,4,FALSE))","v":""},{"$f":"IF(A405=\"\",\"\",VLOOKUP(A405,[1]ItemConfig!$A:$C,3,FALSE))","v":""},{"$f":"IF(A405=\"\",\"\",VLOOKUP(B405,[2]語言配置表!$A:$B,2,FALSE))","v":""},{"$f":"IF(A405=\"\",\"\",VLOOKUP(C405,[2]語言配置表!$A:$B,2,FALSE))","v":""}]
[{"$f":"IF([1]ItemConfig!$A409=\"\",\"\",[1]ItemConfig!$A409)","v":""},{"$f":"IF(A406=\"\",\"\",VLOOKUP(A406,[1]ItemConfig!$A:$B,2,FALSE))","v":""},{"$f":"IF(A406=\"\",\"\",VLOOKUP(A406,[1]ItemConfig!$A:$D,4,FALSE))","v":""},{"$f":"IF(A406=\"\",\"\",VLOOKUP(A406,[1]ItemConfig!$A:$C,3,FALSE))","v":""},{"$f":"IF(A406=\"\",\"\",VLOOKUP(B406,[2]語言配置表!$A:$B,2,FALSE))","v":""},{"$f":"IF(A406=\"\",\"\",VLOOKUP(C406,[2]語言配置表!$A:$B,2,FALSE))","v":""}]
[{"$f":"IF([1]ItemConfig!$A410=\"\",\"\",[1]ItemConfig!$A410)","v":""},{"$f":"IF(A407=\"\",\"\",VLOOKUP(A407,[1]ItemConfig!$A:$B,2,FALSE))","v":""},{"$f":"IF(A407=\"\",\"\",VLOOKUP(A407,[1]ItemConfig!$A:$D,4,FALSE))","v":""},{"$f":"IF(A407=\"\",\"\",VLOOKUP(A407,[1]ItemConfig!$A:$C,3,FALSE))","v":""},{"$f":"IF(A407=\"\",\"\",VLOOKUP(B407,[2]語言配置表!$A:$B,2,FALSE))","v":""},{"$f":"IF(A407=\"\",\"\",VLOOKUP(C407,[2]語言配置表!$A:$B,2,FALSE))","v":""}]
[{"$f":"IF([1]ItemConfig!$A411=\"\",\"\",[1]ItemConfig!$A411)","v":""},{"$f":"IF(A408=\"\",\"\",VLOOKUP(A408,[1]ItemConfig!$A:$B,2,FALSE))","v":""},{"$f":"IF(A408=\"\",\"\",VLOOKUP(A408,[1]ItemConfig!$A:$D,4,FALSE))","v":""},{"$f":"IF(A408=\"\",\"\",VLOOKUP(A408,[1]ItemConfig!$A:$C,3,FALSE))","v":""},{"$f":"IF(A408=\"\",\"\",VLOOKUP(B408,[2]語言配置表!$A:$B,2,FALSE))","v":""},{"$f":"IF(A408=\"\",\"\",VLOOKUP(C408,[2]語言配置表!$A:$B,2,FALSE))","v":""}]
[{"$f":"IF([1]ItemConfig!$A412=\"\",\"\",[1]ItemConfig!$A412)","v":""},{"$f":"IF(A409=\"\",\"\",VLOOKUP(A409,[1]ItemConfig!$A:$B,2,FALSE))","v":""},{"$f":"IF(A409=\"\",\"\",VLOOKUP(A409,[1]ItemConfig!$A:$D,4,FALSE))","v":""},{"$f":"IF(A409=\"\",\"\",VLOOKUP(A409,[1]ItemConfig!$A:$C,3,FALSE))","v":""},{"$f":"IF(A409=\"\",\"\",VLOOKUP(B409,[2]語言配置表!$A:$B,2,FALSE))","v":""},{"$f":"IF(A409=\"\",\"\",VLOOKUP(C409,[2]語言配置表!$A:$B,2,FALSE))","v":""}]
[{"$f":"IF([1]ItemConfig!$A413=\"\",\"\",[1]ItemConfig!$A413)","v":""},{"$f":"IF(A410=\"\",\"\",VLOOKUP(A410,[1]ItemConfig!$A:$B,2,FALSE))","v":""},{"$f":"IF(A410=\"\",\"\",VLOOKUP(A410,[1]ItemConfig!$A:$D,4,FALSE))","v":""},{"$f":"IF(A410=\"\",\"\",VLOOKUP(A410,[1]ItemConfig!$A:$C,3,FALSE))","v":""},{"$f":"IF(A410=\"\",\"\",VLOOKUP(B410,[2]語言配置表!$A:$B,2,FALSE))","v":""},{"$f":"IF(A410=\"\",\"\",VLOOKUP(C410,[2]語言配置表!$A:$B,2,FALSE))","v":""}]
[{"$f":"IF([1]ItemConfig!$A414=\"\",\"\",[1]ItemConfig!$A414)","v":""},{"$f":"IF(A411=\"\",\"\",VLOOKUP(A411,[1]ItemConfig!$A:$B,2,FALSE))","v":""},{"$f":"IF(A411=\"\",\"\",VLOOKUP(A411,[1]ItemConfig!$A:$D,4,FALSE))","v":""},{"$f":"IF(A411=\"\",\"\",VLOOKUP(A411,[1]ItemConfig!$A:$C,3,FALSE))","v":""},{"$f":"IF(A411=\"\",\"\",VLOOKUP(B411,[2]語言配置表!$A:$B,2,FALSE))","v":""},{"$f":"IF(A411=\"\",\"\",VLOOKUP(C411,[2]語言配置表!$A:$B,2,FALSE))","v":""}]
[{"$f":"IF([1]ItemConfig!$A415=\"\",\"\",[1]ItemConfig!$A415)","v":""},{"$f":"IF(A412=\"\",\"\",VLOOKUP(A412,[1]ItemConfig!$A:$B,2,FALSE))","v":""},{"$f":"IF(A412=\"\",\"\",VLOOKUP(A412,[1]ItemConfig!$A:$D,4,FALSE))","v":""},{"$f":"IF(A412=\"\",\"\",VLOOKUP(A412,[1]ItemConfig!$A:$C,3,FALSE))","v":""},{"$f":"IF(A412=\"\",\"\",VLOOKUP(B412,[2]語言配置表!$A:$B,2,FALSE))","v":""},{"$f":"IF(A412=\"\",\"\",VLOOKUP(C412,[2]語言配置表!$A:$B,2,FALSE))","v":""}]
[{"$f":"IF([1]ItemConfig!$A416=\"\",\"\",[1]ItemConfig!$A416)","v":""},{"$f":"IF(A413=\"\",\"\",VLOOKUP(A413,[1]ItemConfig!$A:$B,2,FALSE))","v":""},{"$f":"IF(A413=\"\",\"\",VLOOKUP(A413,[1]ItemConfig!$A:$D,4,FALSE))","v":""},{"$f":"IF(A413=\"\",\"\",VLOOKUP(A413,[1]ItemConfig!$A:$C,3,FALSE))","v":""},{"$f":"IF(A413=\"\",\"\",VLOOKUP(B413,[2]語言配置表!$A:$B,2,FALSE))","v":""},{"$f":"IF(A413=\"\",\"\",VLOOKUP(C413,[2]語言配置表!$A:$B,2,FALSE))","v":""}]
[{"$f":"IF([1]ItemConfig!$A417=\"\",\"\",[1]ItemConfig!$A417)","v":""},{"$f":"IF(A414=\"\",\"\",VLOOKUP(A414,[1]ItemConfig!$A:$B,2,FALSE))","v":""},{"$f":"IF(A414=\"\",\"\",VLOOKUP(A414,[1]ItemConfig!$A:$D,4,FALSE))","v":""},{"$f":"IF(A414=\"\",\"\",VLOOKUP(A414,[1]ItemConfig!$A:$C,3,FALSE))","v":""},{"$f":"IF(A414=\"\",\"\",VLOOKUP(B414,[2]語言配置表!$A:$B,2,FALSE))","v":""},{"$f":"IF(A414=\"\",\"\",VLOOKUP(C414,[2]語言配置表!$A:$B,2,FALSE))","v":""}]
[{"$f":"IF([1]ItemConfig!$A418=\"\",\"\",[1]ItemConfig!$A418)","v":""},{"$f":"IF(A415=\"\",\"\",VLOOKUP(A415,[1]ItemConfig!$A:$B,2,FALSE))","v":""},{"$f":"IF(A415=\"\",\"\",VLOOKUP(A415,[1]ItemConfig!$A:$D,4,FALSE))","v":""},{"$f":"IF(A415=\"\",\"\",VLOOKUP(A415,[1]ItemConfig!$A:$C,3,FALSE))","v":""},{"$f":"IF(A415=\"\",\"\",VLOOKUP(B415,[2]語言配置表!$A:$B,2,FALSE))","v":""},{"$f":"IF(A415=\"\",\"\",VLOOKUP(C415,[2]語言配置表!$A:$B,2,FALSE))","v":""}]
[{"$f":"IF([1]ItemConfig!$A419=\"\",\"\",[1]ItemConfig!$A419)","v":""},{"$f":"IF(A416=\"\",\"\",VLOOKUP(A416,[1]ItemConfig!$A:$B,2,FALSE))","v":""},{"$f":"IF(A416=\"\",\"\",VLOOKUP(A416,[1]ItemConfig!$A:$D,4,FALSE))","v":""},{"$f":"IF(A416=\"\",\"\",VLOOKUP(A416,[1]ItemConfig!$A:$C,3,FALSE))","v":""},{"$f":"IF(A416=\"\",\"\",VLOOKUP(B416,[2]語言配置表!$A:$B,2,FALSE))","v":""},{"$f":"IF(A416=\"\",\"\",VLOOKUP(C416,[2]語言配置表!$A:$B,2,FALSE))","v":""}]
[{"$f":"IF([1]ItemConfig!$A420=\"\",\"\",[1]ItemConfig!$A420)","v":""},{"$f":"IF(A417=\"\",\"\",VLOOKUP(A417,[1]ItemConfig!$A:$B,2,FALSE))","v":""},{"$f":"IF(A417=\"\",\"\",VLOOKUP(A417,[1]ItemConfig!$A:$D,4,FALSE))","v":""},{"$f":"IF(A417=\"\",\"\",VLOOKUP(A417,[1]ItemConfig!$A:$C,3,FALSE))","v":""},{"$f":"IF(A417=\"\",\"\",VLOOKUP(B417,[2]語言配置表!$A:$B,2,FALSE))","v":""},{"$f":"IF(A417=\"\",\"\",VLOOKUP(C417,[2]語言配置表!$A:$B,2,FALSE))","v":""}]
[{"$f":"IF([1]ItemConfig!$A421=\"\",\"\",[1]ItemConfig!$A421)","v":""},{"$f":"IF(A418=\"\",\"\",VLOOKUP(A418,[1]ItemConfig!$A:$B,2,FALSE))","v":""},{"$f":"IF(A418=\"\",\"\",VLOOKUP(A418,[1]ItemConfig!$A:$D,4,FALSE))","v":""},{"$f":"IF(A418=\"\",\"\",VLOOKUP(A418,[1]ItemConfig!$A:$C,3,FALSE))","v":""},{"$f":"IF(A418=\"\",\"\",VLOOKUP(B418,[2]語言配置表!$A:$B,2,FALSE))","v":""},{"$f":"IF(A418=\"\",\"\",VLOOKUP(C418,[2]語言配置表!$A:$B,2,FALSE))","v":""}]
[{"$f":"IF([1]ItemConfig!$A422=\"\",\"\",[1]ItemConfig!$A422)","v":""},{"$f":"IF(A419=\"\",\"\",VLOOKUP(A419,[1]ItemConfig!$A:$B,2,FALSE))","v":""},{"$f":"IF(A419=\"\",\"\",VLOOKUP(A419,[1]ItemConfig!$A:$D,4,FALSE))","v":""},{"$f":"IF(A419=\"\",\"\",VLOOKUP(A419,[1]ItemConfig!$A:$C,3,FALSE))","v":""},{"$f":"IF(A419=\"\",\"\",VLOOKUP(B419,[2]語言配置表!$A:$B,2,FALSE))","v":""},{"$f":"IF(A419=\"\",\"\",VLOOKUP(C419,[2]語言配置表!$A:$B,2,FALSE))","v":""}]
[{"$f":"IF([1]ItemConfig!$A423=\"\",\"\",[1]ItemConfig!$A423)","v":""},{"$f":"IF(A420=\"\",\"\",VLOOKUP(A420,[1]ItemConfig!$A:$B,2,FALSE))","v":""},{"$f":"IF(A420=\"\",\"\",VLOOKUP(A420,[1]ItemConfig!$A:$D,4,FALSE))","v":""},{"$f":"IF(A420=\"\",\"\",VLOOKUP(A420,[1]ItemConfig!$A:$C,3,FALSE))","v":""},{"$f":"IF(A420=\"\",\"\",VLOOKUP(B420,[2]語言配置表!$A:$B,2,FALSE))","v":""},{"$f":"IF(A420=\"\",\"\",VLOOKUP(C420,[2]語言配置表!$A:$B,2,FALSE))","v":""}]
[{"$f":"IF([1]ItemConfig!$A424=\"\",\"\",[1]ItemConfig!$A424)","v":""},{"$f":"IF(A421=\"\",\"\",VLOOKUP(A421,[1]ItemConfig!$A:$B,2,FALSE))","v":""},{"$f":"IF(A421=\"\",\"\",VLOOKUP(A421,[1]ItemConfig!$A:$D,4,FALSE))","v":""},{"$f":"IF(A421=\"\",\"\",VLOOKUP(A421,[1]ItemConfig!$A:$C,3,FALSE))","v":""},{"$f":"IF(A421=\"\",\"\",VLOOKUP(B421,[2]語言配置表!$A:$B,2,FALSE))","v":""},{"$f":"IF(A421=\"\",\"\",VLOOKUP(C421,[2]語言配置表!$A:$B,2,FALSE))","v":""}]
[{"$f":"IF([1]ItemConfig!$A425=\"\",\"\",[1]ItemConfig!$A425)","v":""},{"$f":"IF(A422=\"\",\"\",VLOOKUP(A422,[1]ItemConfig!$A:$B,2,FALSE))","v":""},{"$f":"IF(A422=\"\",\"\",VLOOKUP(A422,[1]ItemConfig!$A:$D,4,FALSE))","v":""},{"$f":"IF(A422=\"\",\"\",VLOOKUP(A422,[1]ItemConfig!$A:$C,3,FALSE))","v":""},{"$f":"IF(A422=\"\",\"\",VLOOKUP(B422,[2]語言配置表!$A:$B,2,FALSE))","v":""},{"$f":"IF(A422=\"\",\"\",VLOOKUP(C422,[2]語言配置表!$A:$B,2,FALSE))","v":""}]
[{"$f":"IF([1]ItemConfig!$A426=\"\",\"\",[1]ItemConfig!$A426)","v":""},{"$f":"IF(A423=\"\",\"\",VLOOKUP(A423,[1]ItemConfig!$A:$B,2,FALSE))","v":""},{"$f":"IF(A423=\"\",\"\",VLOOKUP(A423,[1]ItemConfig!$A:$D,4,FALSE))","v":""},{"$f":"IF(A423=\"\",\"\",VLOOKUP(A423,[1]ItemConfig!$A:$C,3,FALSE))","v":""},{"$f":"IF(A423=\"\",\"\",VLOOKUP(B423,[2]語言配置表!$A:$B,2,FALSE))","v":""},{"$f":"IF(A423=\"\",\"\",VLOOKUP(C423,[2]語言配置表!$A:$B,2,FALSE))","v":""}]
[{"$f":"IF([1]ItemConfig!$A427=\"\",\"\",[1]ItemConfig!$A427)","v":""},{"$f":"IF(A424=\"\",\"\",VLOOKUP(A424,[1]ItemConfig!$A:$B,2,FALSE))","v":""},{"$f":"IF(A424=\"\",\"\",VLOOKUP(A424,[1]ItemConfig!$A:$D,4,FALSE))","v":""},{"$f":"IF(A424=\"\",\"\",VLOOKUP(A424,[1]ItemConfig!$A:$C,3,FALSE))","v":""},{"$f":"IF(A424=\"\",\"\",VLOOKUP(B424,[2]語言配置表!$A:$B,2,FALSE))","v":""},{"$f":"IF(A424=\"\",\"\",VLOOKUP(C424,[2]語言配置表!$A:$B,2,FALSE))","v":""}]
[{"$f":"IF([1]ItemConfig!$A428=\"\",\"\",[1]ItemConfig!$A428)","v":""},{"$f":"IF(A425=\"\",\"\",VLOOKUP(A425,[1]ItemConfig!$A:$B,2,FALSE))","v":""},{"$f":"IF(A425=\"\",\"\",VLOOKUP(A425,[1]ItemConfig!$A:$D,4,FALSE))","v":""},{"$f":"IF(A425=\"\",\"\",VLOOKUP(A425,[1]ItemConfig!$A:$C,3,FALSE))","v":""},{"$f":"IF(A425=\"\",\"\",VLOOKUP(B425,[2]語言配置表!$A:$B,2,FALSE))","v":""},{"$f":"IF(A425=\"\",\"\",VLOOKUP(C425,[2]語言配置表!$A:$B,2,FALSE))","v":""}]
[{"$f":"IF([1]ItemConfig!$A429=\"\",\"\",[1]ItemConfig!$A429)","v":""},{"$f":"IF(A426=\"\",\"\",VLOOKUP(A426,[1]ItemConfig!$A:$B,2,FALSE))","v":""},{"$f":"IF(A426=\"\",\"\",VLOOKUP(A426,[1]ItemConfig!$A:$D,4,FALSE))","v":""},{"$f":"IF(A426=\"\",\"\",VLOOKUP(A426,[1]ItemConfig!$A:$C,3,FALSE))","v":""},{"$f":"IF(A426=\"\",\"\",VLOOKUP(B426,[2]語言配置表!$A:$B,2,FALSE))","v":""},{"$f":"IF(A426=\"\",\"\",VLOOKUP(C426,[2]語言配置表!$A:$B,2,FALSE))","v":""}]
[{"$f":"IF([1]ItemConfig!$A430=\"\",\"\",[1]ItemConfig!$A430)","v":""},{"$f":"IF(A427=\"\",\"\",VLOOKUP(A427,[1]ItemConfig!$A:$B,2,FALSE))","v":""},{"$f":"IF(A427=\"\",\"\",VLOOKUP(A427,[1]ItemConfig!$A:$D,4,FALSE))","v":""},{"$f":"IF(A427=\"\",\"\",VLOOKUP(A427,[1]ItemConfig!$A:$C,3,FALSE))","v":""},{"$f":"IF(A427=\"\",\"\",VLOOKUP(B427,[2]語言配置表!$A:$B,2,FALSE))","v":""},{"$f":"IF(A427=\"\",\"\",VLOOKUP(C427,[2]語言配置表!$A:$B,2,FALSE))","v":""}]
[{"$f":"IF([1]ItemConfig!$A431=\"\",\"\",[1]ItemConfig!$A431)","v":""},{"$f":"IF(A428=\"\",\"\",VLOOKUP(A428,[1]ItemConfig!$A:$B,2,FALSE))","v":""},{"$f":"IF(A428=\"\",\"\",VLOOKUP(A428,[1]ItemConfig!$A:$D,4,FALSE))","v":""},{"$f":"IF(A428=\"\",\"\",VLOOKUP(A428,[1]ItemConfig!$A:$C,3,FALSE))","v":""},{"$f":"IF(A428=\"\",\"\",VLOOKUP(B428,[2]語言配置表!$A:$B,2,FALSE))","v":""},{"$f":"IF(A428=\"\",\"\",VLOOKUP(C428,[2]語言配置表!$A:$B,2,FALSE))","v":""}]
[{"$f":"IF([1]ItemConfig!$A432=\"\",\"\",[1]ItemConfig!$A432)","v":""},{"$f":"IF(A429=\"\",\"\",VLOOKUP(A429,[1]ItemConfig!$A:$B,2,FALSE))","v":""},{"$f":"IF(A429=\"\",\"\",VLOOKUP(A429,[1]ItemConfig!$A:$D,4,FALSE))","v":""},{"$f":"IF(A429=\"\",\"\",VLOOKUP(A429,[1]ItemConfig!$A:$C,3,FALSE))","v":""},{"$f":"IF(A429=\"\",\"\",VLOOKUP(B429,[2]語言配置表!$A:$B,2,FALSE))","v":""},{"$f":"IF(A429=\"\",\"\",VLOOKUP(C429,[2]語言配置表!$A:$B,2,FALSE))","v":""}]
[{"$f":"IF([1]ItemConfig!$A433=\"\",\"\",[1]ItemConfig!$A433)","v":""},{"$f":"IF(A430=\"\",\"\",VLOOKUP(A430,[1]ItemConfig!$A:$B,2,FALSE))","v":""},{"$f":"IF(A430=\"\",\"\",VLOOKUP(A430,[1]ItemConfig!$A:$D,4,FALSE))","v":""},{"$f":"IF(A430=\"\",\"\",VLOOKUP(A430,[1]ItemConfig!$A:$C,3,FALSE))","v":""},{"$f":"IF(A430=\"\",\"\",VLOOKUP(B430,[2]語言配置表!$A:$B,2,FALSE))","v":""},{"$f":"IF(A430=\"\",\"\",VLOOKUP(C430,[2]語言配置表!$A:$B,2,FALSE))","v":""}]
[{"$f":"IF([1]ItemConfig!$A434=\"\",\"\",[1]ItemConfig!$A434)","v":""},{"$f":"IF(A431=\"\",\"\",VLOOKUP(A431,[1]ItemConfig!$A:$B,2,FALSE))","v":""},{"$f":"IF(A431=\"\",\"\",VLOOKUP(A431,[1]ItemConfig!$A:$D,4,FALSE))","v":""},{"$f":"IF(A431=\"\",\"\",VLOOKUP(A431,[1]ItemConfig!$A:$C,3,FALSE))","v":""},{"$f":"IF(A431=\"\",\"\",VLOOKUP(B431,[2]語言配置表!$A:$B,2,FALSE))","v":""},{"$f":"IF(A431=\"\",\"\",VLOOKUP(C431,[2]語言配置表!$A:$B,2,FALSE))","v":""}]
[{"$f":"IF([1]ItemConfig!$A435=\"\",\"\",[1]ItemConfig!$A435)","v":""},{"$f":"IF(A432=\"\",\"\",VLOOKUP(A432,[1]ItemConfig!$A:$B,2,FALSE))","v":""},{"$f":"IF(A432=\"\",\"\",VLOOKUP(A432,[1]ItemConfig!$A:$D,4,FALSE))","v":""},{"$f":"IF(A432=\"\",\"\",VLOOKUP(A432,[1]ItemConfig!$A:$C,3,FALSE))","v":""},{"$f":"IF(A432=\"\",\"\",VLOOKUP(B432,[2]語言配置表!$A:$B,2,FALSE))","v":""},{"$f":"IF(A432=\"\",\"\",VLOOKUP(C432,[2]語言配置表!$A:$B,2,FALSE))","v":""}]
[{"$f":"IF([1]ItemConfig!$A436=\"\",\"\",[1]ItemConfig!$A436)","v":""},{"$f":"IF(A433=\"\",\"\",VLOOKUP(A433,[1]ItemConfig!$A:$B,2,FALSE))","v":""},{"$f":"IF(A433=\"\",\"\",VLOOKUP(A433,[1]ItemConfig!$A:$D,4,FALSE))","v":""},{"$f":"IF(A433=\"\",\"\",VLOOKUP(A433,[1]ItemConfig!$A:$C,3,FALSE))","v":""},{"$f":"IF(A433=\"\",\"\",VLOOKUP(B433,[2]語言配置表!$A:$B,2,FALSE))","v":""},{"$f":"IF(A433=\"\",\"\",VLOOKUP(C433,[2]語言配置表!$A:$B,2,FALSE))","v":""}]
[{"$f":"IF([1]ItemConfig!$A437=\"\",\"\",[1]ItemConfig!$A437)","v":""},{"$f":"IF(A434=\"\",\"\",VLOOKUP(A434,[1]ItemConfig!$A:$B,2,FALSE))","v":""},{"$f":"IF(A434=\"\",\"\",VLOOKUP(A434,[1]ItemConfig!$A:$D,4,FALSE))","v":""},{"$f":"IF(A434=\"\",\"\",VLOOKUP(A434,[1]ItemConfig!$A:$C,3,FALSE))","v":""},{"$f":"IF(A434=\"\",\"\",VLOOKUP(B434,[2]語言配置表!$A:$B,2,FALSE))","v":""},{"$f":"IF(A434=\"\",\"\",VLOOKUP(C434,[2]語言配置表!$A:$B,2,FALSE))","v":""}]
[{"$f":"IF([1]ItemConfig!$A438=\"\",\"\",[1]ItemConfig!$A438)","v":""},{"$f":"IF(A435=\"\",\"\",VLOOKUP(A435,[1]ItemConfig!$A:$B,2,FALSE))","v":""},{"$f":"IF(A435=\"\",\"\",VLOOKUP(A435,[1]ItemConfig!$A:$D,4,FALSE))","v":""},{"$f":"IF(A435=\"\",\"\",VLOOKUP(A435,[1]ItemConfig!$A:$C,3,FALSE))","v":""},{"$f":"IF(A435=\"\",\"\",VLOOKUP(B435,[2]語言配置表!$A:$B,2,FALSE))","v":""},{"$f":"IF(A435=\"\",\"\",VLOOKUP(C435,[2]語言配置表!$A:$B,2,FALSE))","v":""}]
[{"$f":"IF([1]ItemConfig!$A439=\"\",\"\",[1]ItemConfig!$A439)","v":""},{"$f":"IF(A436=\"\",\"\",VLOOKUP(A436,[1]ItemConfig!$A:$B,2,FALSE))","v":""},{"$f":"IF(A436=\"\",\"\",VLOOKUP(A436,[1]ItemConfig!$A:$D,4,FALSE))","v":""},{"$f":"IF(A436=\"\",\"\",VLOOKUP(A436,[1]ItemConfig!$A:$C,3,FALSE))","v":""},{"$f":"IF(A436=\"\",\"\",VLOOKUP(B436,[2]語言配置表!$A:$B,2,FALSE))","v":""},{"$f":"IF(A436=\"\",\"\",VLOOKUP(C436,[2]語言配置表!$A:$B,2,FALSE))","v":""}]
[{"$f":"IF([1]ItemConfig!$A440=\"\",\"\",[1]ItemConfig!$A440)","v":""},{"$f":"IF(A437=\"\",\"\",VLOOKUP(A437,[1]ItemConfig!$A:$B,2,FALSE))","v":""},{"$f":"IF(A437=\"\",\"\",VLOOKUP(A437,[1]ItemConfig!$A:$D,4,FALSE))","v":""},{"$f":"IF(A437=\"\",\"\",VLOOKUP(A437,[1]ItemConfig!$A:$C,3,FALSE))","v":""},{"$f":"IF(A437=\"\",\"\",VLOOKUP(B437,[2]語言配置表!$A:$B,2,FALSE))","v":""},{"$f":"IF(A437=\"\",\"\",VLOOKUP(C437,[2]語言配置表!$A:$B,2,FALSE))","v":""}]
[{"$f":"IF([1]ItemConfig!$A441=\"\",\"\",[1]ItemConfig!$A441)","v":""},{"$f":"IF(A438=\"\",\"\",VLOOKUP(A438,[1]ItemConfig!$A:$B,2,FALSE))","v":""},{"$f":"IF(A438=\"\",\"\",VLOOKUP(A438,[1]ItemConfig!$A:$D,4,FALSE))","v":""},{"$f":"IF(A438=\"\",\"\",VLOOKUP(A438,[1]ItemConfig!$A:$C,3,FALSE))","v":""},{"$f":"IF(A438=\"\",\"\",VLOOKUP(B438,[2]語言配置表!$A:$B,2,FALSE))","v":""},{"$f":"IF(A438=\"\",\"\",VLOOKUP(C438,[2]語言配置表!$A:$B,2,FALSE))","v":""}]
[{"$f":"IF([1]ItemConfig!$A442=\"\",\"\",[1]ItemConfig!$A442)","v":""},{"$f":"IF(A439=\"\",\"\",VLOOKUP(A439,[1]ItemConfig!$A:$B,2,FALSE))","v":""},{"$f":"IF(A439=\"\",\"\",VLOOKUP(A439,[1]ItemConfig!$A:$D,4,FALSE))","v":""},{"$f":"IF(A439=\"\",\"\",VLOOKUP(A439,[1]ItemConfig!$A:$C,3,FALSE))","v":""},{"$f":"IF(A439=\"\",\"\",VLOOKUP(B439,[2]語言配置表!$A:$B,2,FALSE))","v":""},{"$f":"IF(A439=\"\",\"\",VLOOKUP(C439,[2]語言配置表!$A:$B,2,FALSE))","v":""}]
[{"$f":"IF([1]ItemConfig!$A443=\"\",\"\",[1]ItemConfig!$A443)","v":""},{"$f":"IF(A440=\"\",\"\",VLOOKUP(A440,[1]ItemConfig!$A:$B,2,FALSE))","v":""},{"$f":"IF(A440=\"\",\"\",VLOOKUP(A440,[1]ItemConfig!$A:$D,4,FALSE))","v":""},{"$f":"IF(A440=\"\",\"\",VLOOKUP(A440,[1]ItemConfig!$A:$C,3,FALSE))","v":""},{"$f":"IF(A440=\"\",\"\",VLOOKUP(B440,[2]語言配置表!$A:$B,2,FALSE))","v":""},{"$f":"IF(A440=\"\",\"\",VLOOKUP(C440,[2]語言配置表!$A:$B,2,FALSE))","v":""}]
[{"$f":"IF([1]ItemConfig!$A444=\"\",\"\",[1]ItemConfig!$A444)","v":""},{"$f":"IF(A441=\"\",\"\",VLOOKUP(A441,[1]ItemConfig!$A:$B,2,FALSE))","v":""},{"$f":"IF(A441=\"\",\"\",VLOOKUP(A441,[1]ItemConfig!$A:$D,4,FALSE))","v":""},{"$f":"IF(A441=\"\",\"\",VLOOKUP(A441,[1]ItemConfig!$A:$C,3,FALSE))","v":""},{"$f":"IF(A441=\"\",\"\",VLOOKUP(B441,[2]語言配置表!$A:$B,2,FALSE))","v":""},{"$f":"IF(A441=\"\",\"\",VLOOKUP(C441,[2]語言配置表!$A:$B,2,FALSE))","v":""}]
[{"$f":"IF([1]ItemConfig!$A445=\"\",\"\",[1]ItemConfig!$A445)","v":""},{"$f":"IF(A442=\"\",\"\",VLOOKUP(A442,[1]ItemConfig!$A:$B,2,FALSE))","v":""},{"$f":"IF(A442=\"\",\"\",VLOOKUP(A442,[1]ItemConfig!$A:$D,4,FALSE))","v":""},{"$f":"IF(A442=\"\",\"\",VLOOKUP(A442,[1]ItemConfig!$A:$C,3,FALSE))","v":""},{"$f":"IF(A442=\"\",\"\",VLOOKUP(B442,[2]語言配置表!$A:$B,2,FALSE))","v":""},{"$f":"IF(A442=\"\",\"\",VLOOKUP(C442,[2]語言配置表!$A:$B,2,FALSE))","v":""}]
[{"$f":"IF([1]ItemConfig!$A446=\"\",\"\",[1]ItemConfig!$A446)","v":""},{"$f":"IF(A443=\"\",\"\",VLOOKUP(A443,[1]ItemConfig!$A:$B,2,FALSE))","v":""},{"$f":"IF(A443=\"\",\"\",VLOOKUP(A443,[1]ItemConfig!$A:$D,4,FALSE))","v":""},{"$f":"IF(A443=\"\",\"\",VLOOKUP(A443,[1]ItemConfig!$A:$C,3,FALSE))","v":""},{"$f":"IF(A443=\"\",\"\",VLOOKUP(B443,[2]語言配置表!$A:$B,2,FALSE))","v":""},{"$f":"IF(A443=\"\",\"\",VLOOKUP(C443,[2]語言配置表!$A:$B,2,FALSE))","v":""}]
[{"$f":"IF([1]ItemConfig!$A447=\"\",\"\",[1]ItemConfig!$A447)","v":""},{"$f":"IF(A444=\"\",\"\",VLOOKUP(A444,[1]ItemConfig!$A:$B,2,FALSE))","v":""},{"$f":"IF(A444=\"\",\"\",VLOOKUP(A444,[1]ItemConfig!$A:$D,4,FALSE))","v":""},{"$f":"IF(A444=\"\",\"\",VLOOKUP(A444,[1]ItemConfig!$A:$C,3,FALSE))","v":""},{"$f":"IF(A444=\"\",\"\",VLOOKUP(B444,[2]語言配置表!$A:$B,2,FALSE))","v":""},{"$f":"IF(A444=\"\",\"\",VLOOKUP(C444,[2]語言配置表!$A:$B,2,FALSE))","v":""}]
[{"$f":"IF([1]ItemConfig!$A448=\"\",\"\",[1]ItemConfig!$A448)","v":""},{"$f":"IF(A445=\"\",\"\",VLOOKUP(A445,[1]ItemConfig!$A:$B,2,FALSE))","v":""},{"$f":"IF(A445=\"\",\"\",VLOOKUP(A445,[1]ItemConfig!$A:$D,4,FALSE))","v":""},{"$f":"IF(A445=\"\",\"\",VLOOKUP(A445,[1]ItemConfig!$A:$C,3,FALSE))","v":""},{"$f":"IF(A445=\"\",\"\",VLOOKUP(B445,[2]語言配置表!$A:$B,2,FALSE))","v":""},{"$f":"IF(A445=\"\",\"\",VLOOKUP(C445,[2]語言配置表!$A:$B,2,FALSE))","v":""}]
[{"$f":"IF([1]ItemConfig!$A449=\"\",\"\",[1]ItemConfig!$A449)","v":""},{"$f":"IF(A446=\"\",\"\",VLOOKUP(A446,[1]ItemConfig!$A:$B,2,FALSE))","v":""},{"$f":"IF(A446=\"\",\"\",VLOOKUP(A446,[1]ItemConfig!$A:$D,4,FALSE))","v":""},{"$f":"IF(A446=\"\",\"\",VLOOKUP(A446,[1]ItemConfig!$A:$C,3,FALSE))","v":""},{"$f":"IF(A446=\"\",\"\",VLOOKUP(B446,[2]語言配置表!$A:$B,2,FALSE))","v":""},{"$f":"IF(A446=\"\",\"\",VLOOKUP(C446,[2]語言配置表!$A:$B,2,FALSE))","v":""}]
[{"$f":"IF([1]ItemConfig!$A450=\"\",\"\",[1]ItemConfig!$A450)","v":""},{"$f":"IF(A447=\"\",\"\",VLOOKUP(A447,[1]ItemConfig!$A:$B,2,FALSE))","v":""},{"$f":"IF(A447=\"\",\"\",VLOOKUP(A447,[1]ItemConfig!$A:$D,4,FALSE))","v":""},{"$f":"IF(A447=\"\",\"\",VLOOKUP(A447,[1]ItemConfig!$A:$C,3,FALSE))","v":""},{"$f":"IF(A447=\"\",\"\",VLOOKUP(B447,[2]語言配置表!$A:$B,2,FALSE))","v":""},{"$f":"IF(A447=\"\",\"\",VLOOKUP(C447,[2]語言配置表!$A:$B,2,FALSE))","v":""}]
[{"$f":"IF([1]ItemConfig!$A451=\"\",\"\",[1]ItemConfig!$A451)","v":""},{"$f":"IF(A448=\"\",\"\",VLOOKUP(A448,[1]ItemConfig!$A:$B,2,FALSE))","v":""},{"$f":"IF(A448=\"\",\"\",VLOOKUP(A448,[1]ItemConfig!$A:$D,4,FALSE))","v":""},{"$f":"IF(A448=\"\",\"\",VLOOKUP(A448,[1]ItemConfig!$A:$C,3,FALSE))","v":""},{"$f":"IF(A448=\"\",\"\",VLOOKUP(B448,[2]語言配置表!$A:$B,2,FALSE))","v":""},{"$f":"IF(A448=\"\",\"\",VLOOKUP(C448,[2]語言配置表!$A:$B,2,FALSE))","v":""}]
[{"$f":"IF([1]ItemConfig!$A452=\"\",\"\",[1]ItemConfig!$A452)","v":""},{"$f":"IF(A449=\"\",\"\",VLOOKUP(A449,[1]ItemConfig!$A:$B,2,FALSE))","v":""},{"$f":"IF(A449=\"\",\"\",VLOOKUP(A449,[1]ItemConfig!$A:$D,4,FALSE))","v":""},{"$f":"IF(A449=\"\",\"\",VLOOKUP(A449,[1]ItemConfig!$A:$C,3,FALSE))","v":""},{"$f":"IF(A449=\"\",\"\",VLOOKUP(B449,[2]語言配置表!$A:$B,2,FALSE))","v":""},{"$f":"IF(A449=\"\",\"\",VLOOKUP(C449,[2]語言配置表!$A:$B,2,FALSE))","v":""}]
[{"$f":"IF([1]ItemConfig!$A453=\"\",\"\",[1]ItemConfig!$A453)","v":""},{"$f":"IF(A450=\"\",\"\",VLOOKUP(A450,[1]ItemConfig!$A:$B,2,FALSE))","v":""},{"$f":"IF(A450=\"\",\"\",VLOOKUP(A450,[1]ItemConfig!$A:$D,4,FALSE))","v":""},{"$f":"IF(A450=\"\",\"\",VLOOKUP(A450,[1]ItemConfig!$A:$C,3,FALSE))","v":""},{"$f":"IF(A450=\"\",\"\",VLOOKUP(B450,[2]語言配置表!$A:$B,2,FALSE))","v":""},{"$f":"IF(A450=\"\",\"\",VLOOKUP(C450,[2]語言配置表!$A:$B,2,FALSE))","v":""}]
[{"$f":"IF([1]ItemConfig!$A454=\"\",\"\",[1]ItemConfig!$A454)","v":""},{"$f":"IF(A451=\"\",\"\",VLOOKUP(A451,[1]ItemConfig!$A:$B,2,FALSE))","v":""},{"$f":"IF(A451=\"\",\"\",VLOOKUP(A451,[1]ItemConfig!$A:$D,4,FALSE))","v":""},{"$f":"IF(A451=\"\",\"\",VLOOKUP(A451,[1]ItemConfig!$A:$C,3,FALSE))","v":""},{"$f":"IF(A451=\"\",\"\",VLOOKUP(B451,[2]語言配置表!$A:$B,2,FALSE))","v":""},{"$f":"IF(A451=\"\",\"\",VLOOKUP(C451,[2]語言配置表!$A:$B,2,FALSE))","v":""}]
[{"$f":"IF([1]ItemConfig!$A455=\"\",\"\",[1]ItemConfig!$A455)","v":""},{"$f":"IF(A452=\"\",\"\",VLOOKUP(A452,[1]ItemConfig!$A:$B,2,FALSE))","v":""},{"$f":"IF(A452=\"\",\"\",VLOOKUP(A452,[1]ItemConfig!$A:$D,4,FALSE))","v":""},{"$f":"IF(A452=\"\",\"\",VLOOKUP(A452,[1]ItemConfig!$A:$C,3,FALSE))","v":""},{"$f":"IF(A452=\"\",\"\",VLOOKUP(B452,[2]語言配置表!$A:$B,2,FALSE))","v":""},{"$f":"IF(A452=\"\",\"\",VLOOKUP(C452,[2]語言配置表!$A:$B,2,FALSE))","v":""}]
[{"$f":"IF([1]ItemConfig!$A456=\"\",\"\",[1]ItemConfig!$A456)","v":""},{"$f":"IF(A453=\"\",\"\",VLOOKUP(A453,[1]ItemConfig!$A:$B,2,FALSE))","v":""},{"$f":"IF(A453=\"\",\"\",VLOOKUP(A453,[1]ItemConfig!$A:$D,4,FALSE))","v":""},{"$f":"IF(A453=\"\",\"\",VLOOKUP(A453,[1]ItemConfig!$A:$C,3,FALSE))","v":""},{"$f":"IF(A453=\"\",\"\",VLOOKUP(B453,[2]語言配置表!$A:$B,2,FALSE))","v":""},{"$f":"IF(A453=\"\",\"\",VLOOKUP(C453,[2]語言配置表!$A:$B,2,FALSE))","v":""}]
[{"$f":"IF([1]ItemConfig!$A457=\"\",\"\",[1]ItemConfig!$A457)","v":""},{"$f":"IF(A454=\"\",\"\",VLOOKUP(A454,[1]ItemConfig!$A:$B,2,FALSE))","v":""},{"$f":"IF(A454=\"\",\"\",VLOOKUP(A454,[1]ItemConfig!$A:$D,4,FALSE))","v":""},{"$f":"IF(A454=\"\",\"\",VLOOKUP(A454,[1]ItemConfig!$A:$C,3,FALSE))","v":""},{"$f":"IF(A454=\"\",\"\",VLOOKUP(B454,[2]語言配置表!$A:$B,2,FALSE))","v":""},{"$f":"IF(A454=\"\",\"\",VLOOKUP(C454,[2]語言配置表!$A:$B,2,FALSE))","v":""}]
[{"$f":"IF([1]ItemConfig!$A458=\"\",\"\",[1]ItemConfig!$A458)","v":""},{"$f":"IF(A455=\"\",\"\",VLOOKUP(A455,[1]ItemConfig!$A:$B,2,FALSE))","v":""},{"$f":"IF(A455=\"\",\"\",VLOOKUP(A455,[1]ItemConfig!$A:$D,4,FALSE))","v":""},{"$f":"IF(A455=\"\",\"\",VLOOKUP(A455,[1]ItemConfig!$A:$C,3,FALSE))","v":""},{"$f":"IF(A455=\"\",\"\",VLOOKUP(B455,[2]語言配置表!$A:$B,2,FALSE))","v":""},{"$f":"IF(A455=\"\",\"\",VLOOKUP(C455,[2]語言配置表!$A:$B,2,FALSE))","v":""}]
[{"$f":"IF([1]ItemConfig!$A459=\"\",\"\",[1]ItemConfig!$A459)","v":""},{"$f":"IF(A456=\"\",\"\",VLOOKUP(A456,[1]ItemConfig!$A:$B,2,FALSE))","v":""},{"$f":"IF(A456=\"\",\"\",VLOOKUP(A456,[1]ItemConfig!$A:$D,4,FALSE))","v":""},{"$f":"IF(A456=\"\",\"\",VLOOKUP(A456,[1]ItemConfig!$A:$C,3,FALSE))","v":""},{"$f":"IF(A456=\"\",\"\",VLOOKUP(B456,[2]語言配置表!$A:$B,2,FALSE))","v":""},{"$f":"IF(A456=\"\",\"\",VLOOKUP(C456,[2]語言配置表!$A:$B,2,FALSE))","v":""}]
[{"$f":"IF([1]ItemConfig!$A460=\"\",\"\",[1]ItemConfig!$A460)","v":""},{"$f":"IF(A457=\"\",\"\",VLOOKUP(A457,[1]ItemConfig!$A:$B,2,FALSE))","v":""},{"$f":"IF(A457=\"\",\"\",VLOOKUP(A457,[1]ItemConfig!$A:$D,4,FALSE))","v":""},{"$f":"IF(A457=\"\",\"\",VLOOKUP(A457,[1]ItemConfig!$A:$C,3,FALSE))","v":""},{"$f":"IF(A457=\"\",\"\",VLOOKUP(B457,[2]語言配置表!$A:$B,2,FALSE))","v":""},{"$f":"IF(A457=\"\",\"\",VLOOKUP(C457,[2]語言配置表!$A:$B,2,FALSE))","v":""}]
[{"$f":"IF([1]ItemConfig!$A461=\"\",\"\",[1]ItemConfig!$A461)","v":""},{"$f":"IF(A458=\"\",\"\",VLOOKUP(A458,[1]ItemConfig!$A:$B,2,FALSE))","v":""},{"$f":"IF(A458=\"\",\"\",VLOOKUP(A458,[1]ItemConfig!$A:$D,4,FALSE))","v":""},{"$f":"IF(A458=\"\",\"\",VLOOKUP(A458,[1]ItemConfig!$A:$C,3,FALSE))","v":""},{"$f":"IF(A458=\"\",\"\",VLOOKUP(B458,[2]語言配置表!$A:$B,2,FALSE))","v":""},{"$f":"IF(A458=\"\",\"\",VLOOKUP(C458,[2]語言配置表!$A:$B,2,FALSE))","v":""}]
[{"$f":"IF([1]ItemConfig!$A462=\"\",\"\",[1]ItemConfig!$A462)","v":""},{"$f":"IF(A459=\"\",\"\",VLOOKUP(A459,[1]ItemConfig!$A:$B,2,FALSE))","v":""},{"$f":"IF(A459=\"\",\"\",VLOOKUP(A459,[1]ItemConfig!$A:$D,4,FALSE))","v":""},{"$f":"IF(A459=\"\",\"\",VLOOKUP(A459,[1]ItemConfig!$A:$C,3,FALSE))","v":""},{"$f":"IF(A459=\"\",\"\",VLOOKUP(B459,[2]語言配置表!$A:$B,2,FALSE))","v":""},{"$f":"IF(A459=\"\",\"\",VLOOKUP(C459,[2]語言配置表!$A:$B,2,FALSE))","v":""}]
[{"$f":"IF([1]ItemConfig!$A463=\"\",\"\",[1]ItemConfig!$A463)","v":""},{"$f":"IF(A460=\"\",\"\",VLOOKUP(A460,[1]ItemConfig!$A:$B,2,FALSE))","v":""},{"$f":"IF(A460=\"\",\"\",VLOOKUP(A460,[1]ItemConfig!$A:$D,4,FALSE))","v":""},{"$f":"IF(A460=\"\",\"\",VLOOKUP(A460,[1]ItemConfig!$A:$C,3,FALSE))","v":""},{"$f":"IF(A460=\"\",\"\",VLOOKUP(B460,[2]語言配置表!$A:$B,2,FALSE))","v":""},{"$f":"IF(A460=\"\",\"\",VLOOKUP(C460,[2]語言配置表!$A:$B,2,FALSE))","v":""}]
[{"$f":"IF([1]ItemConfig!$A464=\"\",\"\",[1]ItemConfig!$A464)","v":""},{"$f":"IF(A461=\"\",\"\",VLOOKUP(A461,[1]ItemConfig!$A:$B,2,FALSE))","v":""},{"$f":"IF(A461=\"\",\"\",VLOOKUP(A461,[1]ItemConfig!$A:$D,4,FALSE))","v":""},{"$f":"IF(A461=\"\",\"\",VLOOKUP(A461,[1]ItemConfig!$A:$C,3,FALSE))","v":""},{"$f":"IF(A461=\"\",\"\",VLOOKUP(B461,[2]語言配置表!$A:$B,2,FALSE))","v":""},{"$f":"IF(A461=\"\",\"\",VLOOKUP(C461,[2]語言配置表!$A:$B,2,FALSE))","v":""}]
[{"$f":"IF([1]ItemConfig!$A465=\"\",\"\",[1]ItemConfig!$A465)","v":""},{"$f":"IF(A462=\"\",\"\",VLOOKUP(A462,[1]ItemConfig!$A:$B,2,FALSE))","v":""},{"$f":"IF(A462=\"\",\"\",VLOOKUP(A462,[1]ItemConfig!$A:$D,4,FALSE))","v":""},{"$f":"IF(A462=\"\",\"\",VLOOKUP(A462,[1]ItemConfig!$A:$C,3,FALSE))","v":""},{"$f":"IF(A462=\"\",\"\",VLOOKUP(B462,[2]語言配置表!$A:$B,2,FALSE))","v":""},{"$f":"IF(A462=\"\",\"\",VLOOKUP(C462,[2]語言配置表!$A:$B,2,FALSE))","v":""}]
[{"$f":"IF([1]ItemConfig!$A466=\"\",\"\",[1]ItemConfig!$A466)","v":""},{"$f":"IF(A463=\"\",\"\",VLOOKUP(A463,[1]ItemConfig!$A:$B,2,FALSE))","v":""},{"$f":"IF(A463=\"\",\"\",VLOOKUP(A463,[1]ItemConfig!$A:$D,4,FALSE))","v":""},{"$f":"IF(A463=\"\",\"\",VLOOKUP(A463,[1]ItemConfig!$A:$C,3,FALSE))","v":""},{"$f":"IF(A463=\"\",\"\",VLOOKUP(B463,[2]語言配置表!$A:$B,2,FALSE))","v":""},{"$f":"IF(A463=\"\",\"\",VLOOKUP(C463,[2]語言配置表!$A:$B,2,FALSE))","v":""}]
[{"$f":"IF([1]ItemConfig!$A467=\"\",\"\",[1]ItemConfig!$A467)","v":""},{"$f":"IF(A464=\"\",\"\",VLOOKUP(A464,[1]ItemConfig!$A:$B,2,FALSE))","v":""},{"$f":"IF(A464=\"\",\"\",VLOOKUP(A464,[1]ItemConfig!$A:$D,4,FALSE))","v":""},{"$f":"IF(A464=\"\",\"\",VLOOKUP(A464,[1]ItemConfig!$A:$C,3,FALSE))","v":""},{"$f":"IF(A464=\"\",\"\",VLOOKUP(B464,[2]語言配置表!$A:$B,2,FALSE))","v":""},{"$f":"IF(A464=\"\",\"\",VLOOKUP(C464,[2]語言配置表!$A:$B,2,FALSE))","v":""}]
[{"$f":"IF([1]ItemConfig!$A468=\"\",\"\",[1]ItemConfig!$A468)","v":""},{"$f":"IF(A465=\"\",\"\",VLOOKUP(A465,[1]ItemConfig!$A:$B,2,FALSE))","v":""},{"$f":"IF(A465=\"\",\"\",VLOOKUP(A465,[1]ItemConfig!$A:$D,4,FALSE))","v":""},{"$f":"IF(A465=\"\",\"\",VLOOKUP(A465,[1]ItemConfig!$A:$C,3,FALSE))","v":""},{"$f":"IF(A465=\"\",\"\",VLOOKUP(B465,[2]語言配置表!$A:$B,2,FALSE))","v":""},{"$f":"IF(A465=\"\",\"\",VLOOKUP(C465,[2]語言配置表!$A:$B,2,FALSE))","v":""}]
[{"$f":"IF([1]ItemConfig!$A469=\"\",\"\",[1]ItemConfig!$A469)","v":""},{"$f":"IF(A466=\"\",\"\",VLOOKUP(A466,[1]ItemConfig!$A:$B,2,FALSE))","v":""},{"$f":"IF(A466=\"\",\"\",VLOOKUP(A466,[1]ItemConfig!$A:$D,4,FALSE))","v":""},{"$f":"IF(A466=\"\",\"\",VLOOKUP(A466,[1]ItemConfig!$A:$C,3,FALSE))","v":""},{"$f":"IF(A466=\"\",\"\",VLOOKUP(B466,[2]語言配置表!$A:$B,2,FALSE))","v":""},{"$f":"IF(A466=\"\",\"\",VLOOKUP(C466,[2]語言配置表!$A:$B,2,FALSE))","v":""}]
[{"$f":"IF([1]ItemConfig!$A470=\"\",\"\",[1]ItemConfig!$A470)","v":""},{"$f":"IF(A467=\"\",\"\",VLOOKUP(A467,[1]ItemConfig!$A:$B,2,FALSE))","v":""},{"$f":"IF(A467=\"\",\"\",VLOOKUP(A467,[1]ItemConfig!$A:$D,4,FALSE))","v":""},{"$f":"IF(A467=\"\",\"\",VLOOKUP(A467,[1]ItemConfig!$A:$C,3,FALSE))","v":""},{"$f":"IF(A467=\"\",\"\",VLOOKUP(B467,[2]語言配置表!$A:$B,2,FALSE))","v":""},{"$f":"IF(A467=\"\",\"\",VLOOKUP(C467,[2]語言配置表!$A:$B,2,FALSE))","v":""}]
[{"$f":"IF([1]ItemConfig!$A471=\"\",\"\",[1]ItemConfig!$A471)","v":""},{"$f":"IF(A468=\"\",\"\",VLOOKUP(A468,[1]ItemConfig!$A:$B,2,FALSE))","v":""},{"$f":"IF(A468=\"\",\"\",VLOOKUP(A468,[1]ItemConfig!$A:$D,4,FALSE))","v":""},{"$f":"IF(A468=\"\",\"\",VLOOKUP(A468,[1]ItemConfig!$A:$C,3,FALSE))","v":""},{"$f":"IF(A468=\"\",\"\",VLOOKUP(B468,[2]語言配置表!$A:$B,2,FALSE))","v":""},{"$f":"IF(A468=\"\",\"\",VLOOKUP(C468,[2]語言配置表!$A:$B,2,FALSE))","v":""}]
[{"$f":"IF([1]ItemConfig!$A472=\"\",\"\",[1]ItemConfig!$A472)","v":""},{"$f":"IF(A469=\"\",\"\",VLOOKUP(A469,[1]ItemConfig!$A:$B,2,FALSE))","v":""},{"$f":"IF(A469=\"\",\"\",VLOOKUP(A469,[1]ItemConfig!$A:$D,4,FALSE))","v":""},{"$f":"IF(A469=\"\",\"\",VLOOKUP(A469,[1]ItemConfig!$A:$C,3,FALSE))","v":""},{"$f":"IF(A469=\"\",\"\",VLOOKUP(B469,[2]語言配置表!$A:$B,2,FALSE))","v":""},{"$f":"IF(A469=\"\",\"\",VLOOKUP(C469,[2]語言配置表!$A:$B,2,FALSE))","v":""}]
[{"$f":"IF([1]ItemConfig!$A473=\"\",\"\",[1]ItemConfig!$A473)","v":""},{"$f":"IF(A470=\"\",\"\",VLOOKUP(A470,[1]ItemConfig!$A:$B,2,FALSE))","v":""},{"$f":"IF(A470=\"\",\"\",VLOOKUP(A470,[1]ItemConfig!$A:$D,4,FALSE))","v":""},{"$f":"IF(A470=\"\",\"\",VLOOKUP(A470,[1]ItemConfig!$A:$C,3,FALSE))","v":""},{"$f":"IF(A470=\"\",\"\",VLOOKUP(B470,[2]語言配置表!$A:$B,2,FALSE))","v":""},{"$f":"IF(A470=\"\",\"\",VLOOKUP(C470,[2]語言配置表!$A:$B,2,FALSE))","v":""}]
[{"$f":"IF([1]ItemConfig!$A474=\"\",\"\",[1]ItemConfig!$A474)","v":""},{"$f":"IF(A471=\"\",\"\",VLOOKUP(A471,[1]ItemConfig!$A:$B,2,FALSE))","v":""},{"$f":"IF(A471=\"\",\"\",VLOOKUP(A471,[1]ItemConfig!$A:$D,4,FALSE))","v":""},{"$f":"IF(A471=\"\",\"\",VLOOKUP(A471,[1]ItemConfig!$A:$C,3,FALSE))","v":""},{"$f":"IF(A471=\"\",\"\",VLOOKUP(B471,[2]語言配置表!$A:$B,2,FALSE))","v":""},{"$f":"IF(A471=\"\",\"\",VLOOKUP(C471,[2]語言配置表!$A:$B,2,FALSE))","v":""}]
[{"$f":"IF([1]ItemConfig!$A475=\"\",\"\",[1]ItemConfig!$A475)","v":""},{"$f":"IF(A472=\"\",\"\",VLOOKUP(A472,[1]ItemConfig!$A:$B,2,FALSE))","v":""},{"$f":"IF(A472=\"\",\"\",VLOOKUP(A472,[1]ItemConfig!$A:$D,4,FALSE))","v":""},{"$f":"IF(A472=\"\",\"\",VLOOKUP(A472,[1]ItemConfig!$A:$C,3,FALSE))","v":""},{"$f":"IF(A472=\"\",\"\",VLOOKUP(B472,[2]語言配置表!$A:$B,2,FALSE))","v":""},{"$f":"IF(A472=\"\",\"\",VLOOKUP(C472,[2]語言配置表!$A:$B,2,FALSE))","v":""}]
[{"$f":"IF([1]ItemConfig!$A476=\"\",\"\",[1]ItemConfig!$A476)","v":""},{"$f":"IF(A473=\"\",\"\",VLOOKUP(A473,[1]ItemConfig!$A:$B,2,FALSE))","v":""},{"$f":"IF(A473=\"\",\"\",VLOOKUP(A473,[1]ItemConfig!$A:$D,4,FALSE))","v":""},{"$f":"IF(A473=\"\",\"\",VLOOKUP(A473,[1]ItemConfig!$A:$C,3,FALSE))","v":""},{"$f":"IF(A473=\"\",\"\",VLOOKUP(B473,[2]語言配置表!$A:$B,2,FALSE))","v":""},{"$f":"IF(A473=\"\",\"\",VLOOKUP(C473,[2]語言配置表!$A:$B,2,FALSE))","v":""}]
[{"$f":"IF([1]ItemConfig!$A477=\"\",\"\",[1]ItemConfig!$A477)","v":""},{"$f":"IF(A474=\"\",\"\",VLOOKUP(A474,[1]ItemConfig!$A:$B,2,FALSE))","v":""},{"$f":"IF(A474=\"\",\"\",VLOOKUP(A474,[1]ItemConfig!$A:$D,4,FALSE))","v":""},{"$f":"IF(A474=\"\",\"\",VLOOKUP(A474,[1]ItemConfig!$A:$C,3,FALSE))","v":""},{"$f":"IF(A474=\"\",\"\",VLOOKUP(B474,[2]語言配置表!$A:$B,2,FALSE))","v":""},{"$f":"IF(A474=\"\",\"\",VLOOKUP(C474,[2]語言配置表!$A:$B,2,FALSE))","v":""}]
[{"$f":"IF([1]ItemConfig!$A478=\"\",\"\",[1]ItemConfig!$A478)","v":""},{"$f":"IF(A475=\"\",\"\",VLOOKUP(A475,[1]ItemConfig!$A:$B,2,FALSE))","v":""},{"$f":"IF(A475=\"\",\"\",VLOOKUP(A475,[1]ItemConfig!$A:$D,4,FALSE))","v":""},{"$f":"IF(A475=\"\",\"\",VLOOKUP(A475,[1]ItemConfig!$A:$C,3,FALSE))","v":""},{"$f":"IF(A475=\"\",\"\",VLOOKUP(B475,[2]語言配置表!$A:$B,2,FALSE))","v":""},{"$f":"IF(A475=\"\",\"\",VLOOKUP(C475,[2]語言配置表!$A:$B,2,FALSE))","v":""}]
[{"$f":"IF([1]ItemConfig!$A479=\"\",\"\",[1]ItemConfig!$A479)","v":""},{"$f":"IF(A476=\"\",\"\",VLOOKUP(A476,[1]ItemConfig!$A:$B,2,FALSE))","v":""},{"$f":"IF(A476=\"\",\"\",VLOOKUP(A476,[1]ItemConfig!$A:$D,4,FALSE))","v":""},{"$f":"IF(A476=\"\",\"\",VLOOKUP(A476,[1]ItemConfig!$A:$C,3,FALSE))","v":""},{"$f":"IF(A476=\"\",\"\",VLOOKUP(B476,[2]語言配置表!$A:$B,2,FALSE))","v":""},{"$f":"IF(A476=\"\",\"\",VLOOKUP(C476,[2]語言配置表!$A:$B,2,FALSE))","v":""}]
[{"$f":"IF([1]ItemConfig!$A480=\"\",\"\",[1]ItemConfig!$A480)","v":""},{"$f":"IF(A477=\"\",\"\",VLOOKUP(A477,[1]ItemConfig!$A:$B,2,FALSE))","v":""},{"$f":"IF(A477=\"\",\"\",VLOOKUP(A477,[1]ItemConfig!$A:$D,4,FALSE))","v":""},{"$f":"IF(A477=\"\",\"\",VLOOKUP(A477,[1]ItemConfig!$A:$C,3,FALSE))","v":""},{"$f":"IF(A477=\"\",\"\",VLOOKUP(B477,[2]語言配置表!$A:$B,2,FALSE))","v":""},{"$f":"IF(A477=\"\",\"\",VLOOKUP(C477,[2]語言配置表!$A:$B,2,FALSE))","v":""}]
[{"$f":"IF([1]ItemConfig!$A481=\"\",\"\",[1]ItemConfig!$A481)","v":""},{"$f":"IF(A478=\"\",\"\",VLOOKUP(A478,[1]ItemConfig!$A:$B,2,FALSE))","v":""},{"$f":"IF(A478=\"\",\"\",VLOOKUP(A478,[1]ItemConfig!$A:$D,4,FALSE))","v":""},{"$f":"IF(A478=\"\",\"\",VLOOKUP(A478,[1]ItemConfig!$A:$C,3,FALSE))","v":""},{"$f":"IF(A478=\"\",\"\",VLOOKUP(B478,[2]語言配置表!$A:$B,2,FALSE))","v":""},{"$f":"IF(A478=\"\",\"\",VLOOKUP(C478,[2]語言配置表!$A:$B,2,FALSE))","v":""}]
[{"$f":"IF([1]ItemConfig!$A482=\"\",\"\",[1]ItemConfig!$A482)","v":""},{"$f":"IF(A479=\"\",\"\",VLOOKUP(A479,[1]ItemConfig!$A:$B,2,FALSE))","v":""},{"$f":"IF(A479=\"\",\"\",VLOOKUP(A479,[1]ItemConfig!$A:$D,4,FALSE))","v":""},{"$f":"IF(A479=\"\",\"\",VLOOKUP(A479,[1]ItemConfig!$A:$C,3,FALSE))","v":""},{"$f":"IF(A479=\"\",\"\",VLOOKUP(B479,[2]語言配置表!$A:$B,2,FALSE))","v":""},{"$f":"IF(A479=\"\",\"\",VLOOKUP(C479,[2]語言配置表!$A:$B,2,FALSE))","v":""}]
[{"$f":"IF([1]ItemConfig!$A483=\"\",\"\",[1]ItemConfig!$A483)","v":""},{"$f":"IF(A480=\"\",\"\",VLOOKUP(A480,[1]ItemConfig!$A:$B,2,FALSE))","v":""},{"$f":"IF(A480=\"\",\"\",VLOOKUP(A480,[1]ItemConfig!$A:$D,4,FALSE))","v":""},{"$f":"IF(A480=\"\",\"\",VLOOKUP(A480,[1]ItemConfig!$A:$C,3,FALSE))","v":""},{"$f":"IF(A480=\"\",\"\",VLOOKUP(B480,[2]語言配置表!$A:$B,2,FALSE))","v":""},{"$f":"IF(A480=\"\",\"\",VLOOKUP(C480,[2]語言配置表!$A:$B,2,FALSE))","v":""}]
[{"$f":"IF([1]ItemConfig!$A484=\"\",\"\",[1]ItemConfig!$A484)","v":""},{"$f":"IF(A481=\"\",\"\",VLOOKUP(A481,[1]ItemConfig!$A:$B,2,FALSE))","v":""},{"$f":"IF(A481=\"\",\"\",VLOOKUP(A481,[1]ItemConfig!$A:$D,4,FALSE))","v":""},{"$f":"IF(A481=\"\",\"\",VLOOKUP(A481,[1]ItemConfig!$A:$C,3,FALSE))","v":""},{"$f":"IF(A481=\"\",\"\",VLOOKUP(B481,[2]語言配置表!$A:$B,2,FALSE))","v":""},{"$f":"IF(A481=\"\",\"\",VLOOKUP(C481,[2]語言配置表!$A:$B,2,FALSE))","v":""}]
[{"$f":"IF([1]ItemConfig!$A485=\"\",\"\",[1]ItemConfig!$A485)","v":""},{"$f":"IF(A482=\"\",\"\",VLOOKUP(A482,[1]ItemConfig!$A:$B,2,FALSE))","v":""},{"$f":"IF(A482=\"\",\"\",VLOOKUP(A482,[1]ItemConfig!$A:$D,4,FALSE))","v":""},{"$f":"IF(A482=\"\",\"\",VLOOKUP(A482,[1]ItemConfig!$A:$C,3,FALSE))","v":""},{"$f":"IF(A482=\"\",\"\",VLOOKUP(B482,[2]語言配置表!$A:$B,2,FALSE))","v":""},{"$f":"IF(A482=\"\",\"\",VLOOKUP(C482,[2]語言配置表!$A:$B,2,FALSE))","v":""}]
[{"$f":"IF([1]ItemConfig!$A486=\"\",\"\",[1]ItemConfig!$A486)","v":""},{"$f":"IF(A483=\"\",\"\",VLOOKUP(A483,[1]ItemConfig!$A:$B,2,FALSE))","v":""},{"$f":"IF(A483=\"\",\"\",VLOOKUP(A483,[1]ItemConfig!$A:$D,4,FALSE))","v":""},{"$f":"IF(A483=\"\",\"\",VLOOKUP(A483,[1]ItemConfig!$A:$C,3,FALSE))","v":""},{"$f":"IF(A483=\"\",\"\",VLOOKUP(B483,[2]語言配置表!$A:$B,2,FALSE))","v":""},{"$f":"IF(A483=\"\",\"\",VLOOKUP(C483,[2]語言配置表!$A:$B,2,FALSE))","v":""}]
[{"$f":"IF([1]ItemConfig!$A487=\"\",\"\",[1]ItemConfig!$A487)","v":""},{"$f":"IF(A484=\"\",\"\",VLOOKUP(A484,[1]ItemConfig!$A:$B,2,FALSE))","v":""},{"$f":"IF(A484=\"\",\"\",VLOOKUP(A484,[1]ItemConfig!$A:$D,4,FALSE))","v":""},{"$f":"IF(A484=\"\",\"\",VLOOKUP(A484,[1]ItemConfig!$A:$C,3,FALSE))","v":""},{"$f":"IF(A484=\"\",\"\",VLOOKUP(B484,[2]語言配置表!$A:$B,2,FALSE))","v":""},{"$f":"IF(A484=\"\",\"\",VLOOKUP(C484,[2]語言配置表!$A:$B,2,FALSE))","v":""}]
[{"$f":"IF([1]ItemConfig!$A488=\"\",\"\",[1]ItemConfig!$A488)","v":""},{"$f":"IF(A485=\"\",\"\",VLOOKUP(A485,[1]ItemConfig!$A:$B,2,FALSE))","v":""},{"$f":"IF(A485=\"\",\"\",VLOOKUP(A485,[1]ItemConfig!$A:$D,4,FALSE))","v":""},{"$f":"IF(A485=\"\",\"\",VLOOKUP(A485,[1]ItemConfig!$A:$C,3,FALSE))","v":""},{"$f":"IF(A485=\"\",\"\",VLOOKUP(B485,[2]語言配置表!$A:$B,2,FALSE))","v":""},{"$f":"IF(A485=\"\",\"\",VLOOKUP(C485,[2]語言配置表!$A:$B,2,FALSE))","v":""}]
[{"$f":"IF([1]ItemConfig!$A489=\"\",\"\",[1]ItemConfig!$A489)","v":""},{"$f":"IF(A486=\"\",\"\",VLOOKUP(A486,[1]ItemConfig!$A:$B,2,FALSE))","v":""},{"$f":"IF(A486=\"\",\"\",VLOOKUP(A486,[1]ItemConfig!$A:$D,4,FALSE))","v":""},{"$f":"IF(A486=\"\",\"\",VLOOKUP(A486,[1]ItemConfig!$A:$C,3,FALSE))","v":""},{"$f":"IF(A486=\"\",\"\",VLOOKUP(B486,[2]語言配置表!$A:$B,2,FALSE))","v":""},{"$f":"IF(A486=\"\",\"\",VLOOKUP(C486,[2]語言配置表!$A:$B,2,FALSE))","v":""}]
[{"$f":"IF([1]ItemConfig!$A490=\"\",\"\",[1]ItemConfig!$A490)","v":""},{"$f":"IF(A487=\"\",\"\",VLOOKUP(A487,[1]ItemConfig!$A:$B,2,FALSE))","v":""},{"$f":"IF(A487=\"\",\"\",VLOOKUP(A487,[1]ItemConfig!$A:$D,4,FALSE))","v":""},{"$f":"IF(A487=\"\",\"\",VLOOKUP(A487,[1]ItemConfig!$A:$C,3,FALSE))","v":""},{"$f":"IF(A487=\"\",\"\",VLOOKUP(B487,[2]語言配置表!$A:$B,2,FALSE))","v":""},{"$f":"IF(A487=\"\",\"\",VLOOKUP(C487,[2]語言配置表!$A:$B,2,FALSE))","v":""}]
[{"$f":"IF([1]ItemConfig!$A491=\"\",\"\",[1]ItemConfig!$A491)","v":""},{"$f":"IF(A488=\"\",\"\",VLOOKUP(A488,[1]ItemConfig!$A:$B,2,FALSE))","v":""},{"$f":"IF(A488=\"\",\"\",VLOOKUP(A488,[1]ItemConfig!$A:$D,4,FALSE))","v":""},{"$f":"IF(A488=\"\",\"\",VLOOKUP(A488,[1]ItemConfig!$A:$C,3,FALSE))","v":""},{"$f":"IF(A488=\"\",\"\",VLOOKUP(B488,[2]語言配置表!$A:$B,2,FALSE))","v":""},{"$f":"IF(A488=\"\",\"\",VLOOKUP(C488,[2]語言配置表!$A:$B,2,FALSE))","v":""}]
[{"$f":"IF([1]ItemConfig!$A492=\"\",\"\",[1]ItemConfig!$A492)","v":""},{"$f":"IF(A489=\"\",\"\",VLOOKUP(A489,[1]ItemConfig!$A:$B,2,FALSE))","v":""},{"$f":"IF(A489=\"\",\"\",VLOOKUP(A489,[1]ItemConfig!$A:$D,4,FALSE))","v":""},{"$f":"IF(A489=\"\",\"\",VLOOKUP(A489,[1]ItemConfig!$A:$C,3,FALSE))","v":""},{"$f":"IF(A489=\"\",\"\",VLOOKUP(B489,[2]語言配置表!$A:$B,2,FALSE))","v":""},{"$f":"IF(A489=\"\",\"\",VLOOKUP(C489,[2]語言配置表!$A:$B,2,FALSE))","v":""}]
[{"$f":"IF([1]ItemConfig!$A493=\"\",\"\",[1]ItemConfig!$A493)","v":""},{"$f":"IF(A490=\"\",\"\",VLOOKUP(A490,[1]ItemConfig!$A:$B,2,FALSE))","v":""},{"$f":"IF(A490=\"\",\"\",VLOOKUP(A490,[1]ItemConfig!$A:$D,4,FALSE))","v":""},{"$f":"IF(A490=\"\",\"\",VLOOKUP(A490,[1]ItemConfig!$A:$C,3,FALSE))","v":""},{"$f":"IF(A490=\"\",\"\",VLOOKUP(B490,[2]語言配置表!$A:$B,2,FALSE))","v":""},{"$f":"IF(A490=\"\",\"\",VLOOKUP(C490,[2]語言配置表!$A:$B,2,FALSE))","v":""}]
[{"$f":"IF([1]ItemConfig!$A494=\"\",\"\",[1]ItemConfig!$A494)","v":""},{"$f":"IF(A491=\"\",\"\",VLOOKUP(A491,[1]ItemConfig!$A:$B,2,FALSE))","v":""},{"$f":"IF(A491=\"\",\"\",VLOOKUP(A491,[1]ItemConfig!$A:$D,4,FALSE))","v":""},{"$f":"IF(A491=\"\",\"\",VLOOKUP(A491,[1]ItemConfig!$A:$C,3,FALSE))","v":""},{"$f":"IF(A491=\"\",\"\",VLOOKUP(B491,[2]語言配置表!$A:$B,2,FALSE))","v":""},{"$f":"IF(A491=\"\",\"\",VLOOKUP(C491,[2]語言配置表!$A:$B,2,FALSE))","v":""}]
[{"$f":"IF([1]ItemConfig!$A495=\"\",\"\",[1]ItemConfig!$A495)","v":""},{"$f":"IF(A492=\"\",\"\",VLOOKUP(A492,[1]ItemConfig!$A:$B,2,FALSE))","v":""},{"$f":"IF(A492=\"\",\"\",VLOOKUP(A492,[1]ItemConfig!$A:$D,4,FALSE))","v":""},{"$f":"IF(A492=\"\",\"\",VLOOKUP(A492,[1]ItemConfig!$A:$C,3,FALSE))","v":""},{"$f":"IF(A492=\"\",\"\",VLOOKUP(B492,[2]語言配置表!$A:$B,2,FALSE))","v":""},{"$f":"IF(A492=\"\",\"\",VLOOKUP(C492,[2]語言配置表!$A:$B,2,FALSE))","v":""}]
[{"$f":"IF([1]ItemConfig!$A496=\"\",\"\",[1]ItemConfig!$A496)","v":""},{"$f":"IF(A493=\"\",\"\",VLOOKUP(A493,[1]ItemConfig!$A:$B,2,FALSE))","v":""},{"$f":"IF(A493=\"\",\"\",VLOOKUP(A493,[1]ItemConfig!$A:$D,4,FALSE))","v":""},{"$f":"IF(A493=\"\",\"\",VLOOKUP(A493,[1]ItemConfig!$A:$C,3,FALSE))","v":""},{"$f":"IF(A493=\"\",\"\",VLOOKUP(B493,[2]語言配置表!$A:$B,2,FALSE))","v":""},{"$f":"IF(A493=\"\",\"\",VLOOKUP(C493,[2]語言配置表!$A:$B,2,FALSE))","v":""}]
[{"$f":"IF([1]ItemConfig!$A497=\"\",\"\",[1]ItemConfig!$A497)","v":""},{"$f":"IF(A494=\"\",\"\",VLOOKUP(A494,[1]ItemConfig!$A:$B,2,FALSE))","v":""},{"$f":"IF(A494=\"\",\"\",VLOOKUP(A494,[1]ItemConfig!$A:$D,4,FALSE))","v":""},{"$f":"IF(A494=\"\",\"\",VLOOKUP(A494,[1]ItemConfig!$A:$C,3,FALSE))","v":""},{"$f":"IF(A494=\"\",\"\",VLOOKUP(B494,[2]語言配置表!$A:$B,2,FALSE))","v":""},{"$f":"IF(A494=\"\",\"\",VLOOKUP(C494,[2]語言配置表!$A:$B,2,FALSE))","v":""}]
[{"$f":"IF([1]ItemConfig!$A498=\"\",\"\",[1]ItemConfig!$A498)","v":""},{"$f":"IF(A495=\"\",\"\",VLOOKUP(A495,[1]ItemConfig!$A:$B,2,FALSE))","v":""},{"$f":"IF(A495=\"\",\"\",VLOOKUP(A495,[1]ItemConfig!$A:$D,4,FALSE))","v":""},{"$f":"IF(A495=\"\",\"\",VLOOKUP(A495,[1]ItemConfig!$A:$C,3,FALSE))","v":""},{"$f":"IF(A495=\"\",\"\",VLOOKUP(B495,[2]語言配置表!$A:$B,2,FALSE))","v":""},{"$f":"IF(A495=\"\",\"\",VLOOKUP(C495,[2]語言配置表!$A:$B,2,FALSE))","v":""}]
[{"$f":"IF([1]ItemConfig!$A499=\"\",\"\",[1]ItemConfig!$A499)","v":""},{"$f":"IF(A496=\"\",\"\",VLOOKUP(A496,[1]ItemConfig!$A:$B,2,FALSE))","v":""},{"$f":"IF(A496=\"\",\"\",VLOOKUP(A496,[1]ItemConfig!$A:$D,4,FALSE))","v":""},{"$f":"IF(A496=\"\",\"\",VLOOKUP(A496,[1]ItemConfig!$A:$C,3,FALSE))","v":""},{"$f":"IF(A496=\"\",\"\",VLOOKUP(B496,[2]語言配置表!$A:$B,2,FALSE))","v":""},{"$f":"IF(A496=\"\",\"\",VLOOKUP(C496,[2]語言配置表!$A:$B,2,FALSE))","v":""}]
[{"$f":"IF([1]ItemConfig!$A500=\"\",\"\",[1]ItemConfig!$A500)","v":""},{"$f":"IF(A497=\"\",\"\",VLOOKUP(A497,[1]ItemConfig!$A:$B,2,FALSE))","v":""},{"$f":"IF(A497=\"\",\"\",VLOOKUP(A497,[1]ItemConfig!$A:$D,4,FALSE))","v":""},{"$f":"IF(A497=\"\",\"\",VLOOKUP(A497,[1]ItemConfig!$A:$C,3,FALSE))","v":""},{"$f":"IF(A497=\"\",\"\",VLOOKUP(B497,[2]語言配置表!$A:$B,2,FALSE))","v":""},{"$f":"IF(A497=\"\",\"\",VLOOKUP(C497,[2]語言配置表!$A:$B,2,FALSE))","v":""}]
[{"$f":"IF([1]ItemConfig!$A501=\"\",\"\",[1]ItemConfig!$A501)","v":""},{"$f":"IF(A498=\"\",\"\",VLOOKUP(A498,[1]ItemConfig!$A:$B,2,FALSE))","v":""},{"$f":"IF(A498=\"\",\"\",VLOOKUP(A498,[1]ItemConfig!$A:$D,4,FALSE))","v":""},{"$f":"IF(A498=\"\",\"\",VLOOKUP(A498,[1]ItemConfig!$A:$C,3,FALSE))","v":""},{"$f":"IF(A498=\"\",\"\",VLOOKUP(B498,[2]語言配置表!$A:$B,2,FALSE))","v":""},{"$f":"IF(A498=\"\",\"\",VLOOKUP(C498,[2]語言配置表!$A:$B,2,FALSE))","v":""}]
[{"$f":"IF([1]ItemConfig!$A502=\"\",\"\",[1]ItemConfig!$A502)","v":""},{"$f":"IF(A499=\"\",\"\",VLOOKUP(A499,[1]ItemConfig!$A:$B,2,FALSE))","v":""},{"$f":"IF(A499=\"\",\"\",VLOOKUP(A499,[1]ItemConfig!$A:$D,4,FALSE))","v":""},{"$f":"IF(A499=\"\",\"\",VLOOKUP(A499,[1]ItemConfig!$A:$C,3,FALSE))","v":""},{"$f":"IF(A499=\"\",\"\",VLOOKUP(B499,[2]語言配置表!$A:$B,2,FALSE))","v":""},{"$f":"IF(A499=\"\",\"\",VLOOKUP(C499,[2]語言配置表!$A:$B,2,FALSE))","v":""}]
[{"$f":"IF([1]ItemConfig!$A503=\"\",\"\",[1]ItemConfig!$A503)","v":""},{"$f":"IF(A500=\"\",\"\",VLOOKUP(A500,[1]ItemConfig!$A:$B,2,FALSE))","v":""},{"$f":"IF(A500=\"\",\"\",VLOOKUP(A500,[1]ItemConfig!$A:$D,4,FALSE))","v":""},{"$f":"IF(A500=\"\",\"\",VLOOKUP(A500,[1]ItemConfig!$A:$C,3,FALSE))","v":""},{"$f":"IF(A500=\"\",\"\",VLOOKUP(B500,[2]語言配置表!$A:$B,2,FALSE))","v":""},{"$f":"IF(A500=\"\",\"\",VLOOKUP(C500,[2]語言配置表!$A:$B,2,FALSE))","v":""}]
[{"$f":"IF([1]ItemConfig!$A504=\"\",\"\",[1]ItemConfig!$A504)","v":""},{"$f":"IF(A501=\"\",\"\",VLOOKUP(A501,[1]ItemConfig!$A:$B,2,FALSE))","v":""},{"$f":"IF(A501=\"\",\"\",VLOOKUP(A501,[1]ItemConfig!$A:$D,4,FALSE))","v":""},{"$f":"IF(A501=\"\",\"\",VLOOKUP(A501,[1]ItemConfig!$A:$C,3,FALSE))","v":""},{"$f":"IF(A501=\"\",\"\",VLOOKUP(B501,[2]語言配置表!$A:$B,2,FALSE))","v":""},{"$f":"IF(A501=\"\",\"\",VLOOKUP(C501,[2]語言配置表!$A:$B,2,FALSE))","v":""}]
[{"$f":"IF([1]ItemConfig!$A505=\"\",\"\",[1]ItemConfig!$A505)","v":""},{"$f":"IF(A502=\"\",\"\",VLOOKUP(A502,[1]ItemConfig!$A:$B,2,FALSE))","v":""},{"$f":"IF(A502=\"\",\"\",VLOOKUP(A502,[1]ItemConfig!$A:$D,4,FALSE))","v":""},{"$f":"IF(A502=\"\",\"\",VLOOKUP(A502,[1]ItemConfig!$A:$C,3,FALSE))","v":""},{"$f":"IF(A502=\"\",\"\",VLOOKUP(B502,[2]語言配置表!$A:$B,2,FALSE))","v":""},{"$f":"IF(A502=\"\",\"\",VLOOKUP(C502,[2]語言配置表!$A:$B,2,FALSE))","v":""}]
[{"$f":"IF([1]ItemConfig!$A506=\"\",\"\",[1]ItemConfig!$A506)","v":""},{"$f":"IF(A503=\"\",\"\",VLOOKUP(A503,[1]ItemConfig!$A:$B,2,FALSE))","v":""},{"$f":"IF(A503=\"\",\"\",VLOOKUP(A503,[1]ItemConfig!$A:$D,4,FALSE))","v":""},{"$f":"IF(A503=\"\",\"\",VLOOKUP(A503,[1]ItemConfig!$A:$C,3,FALSE))","v":""},{"$f":"IF(A503=\"\",\"\",VLOOKUP(B503,[2]語言配置表!$A:$B,2,FALSE))","v":""},{"$f":"IF(A503=\"\",\"\",VLOOKUP(C503,[2]語言配置表!$A:$B,2,FALSE))","v":""}]
[{"$f":"IF([1]ItemConfig!$A507=\"\",\"\",[1]ItemConfig!$A507)","v":""},{"$f":"IF(A504=\"\",\"\",VLOOKUP(A504,[1]ItemConfig!$A:$B,2,FALSE))","v":""},{"$f":"IF(A504=\"\",\"\",VLOOKUP(A504,[1]ItemConfig!$A:$D,4,FALSE))","v":""},{"$f":"IF(A504=\"\",\"\",VLOOKUP(A504,[1]ItemConfig!$A:$C,3,FALSE))","v":""},{"$f":"IF(A504=\"\",\"\",VLOOKUP(B504,[2]語言配置表!$A:$B,2,FALSE))","v":""},{"$f":"IF(A504=\"\",\"\",VLOOKUP(C504,[2]語言配置表!$A:$B,2,FALSE))","v":""}]
[{"$f":"IF([1]ItemConfig!$A508=\"\",\"\",[1]ItemConfig!$A508)","v":""},{"$f":"IF(A505=\"\",\"\",VLOOKUP(A505,[1]ItemConfig!$A:$B,2,FALSE))","v":""},{"$f":"IF(A505=\"\",\"\",VLOOKUP(A505,[1]ItemConfig!$A:$D,4,FALSE))","v":""},{"$f":"IF(A505=\"\",\"\",VLOOKUP(A505,[1]ItemConfig!$A:$C,3,FALSE))","v":""},{"$f":"IF(A505=\"\",\"\",VLOOKUP(B505,[2]語言配置表!$A:$B,2,FALSE))","v":""},{"$f":"IF(A505=\"\",\"\",VLOOKUP(C505,[2]語言配置表!$A:$B,2,FALSE))","v":""}]
[{"$f":"IF([1]ItemConfig!$A509=\"\",\"\",[1]ItemConfig!$A509)","v":""},{"$f":"IF(A506=\"\",\"\",VLOOKUP(A506,[1]ItemConfig!$A:$B,2,FALSE))","v":""},{"$f":"IF(A506=\"\",\"\",VLOOKUP(A506,[1]ItemConfig!$A:$D,4,FALSE))","v":""},{"$f":"IF(A506=\"\",\"\",VLOOKUP(A506,[1]ItemConfig!$A:$C,3,FALSE))","v":""},{"$f":"IF(A506=\"\",\"\",VLOOKUP(B506,[2]語言配置表!$A:$B,2,FALSE))","v":""},{"$f":"IF(A506=\"\",\"\",VLOOKUP(C506,[2]語言配置表!$A:$B,2,FALSE))","v":""}]
[{"$f":"IF([1]ItemConfig!$A510=\"\",\"\",[1]ItemConfig!$A510)","v":""},{"$f":"IF(A507=\"\",\"\",VLOOKUP(A507,[1]ItemConfig!$A:$B,2,FALSE))","v":""},{"$f":"IF(A507=\"\",\"\",VLOOKUP(A507,[1]ItemConfig!$A:$D,4,FALSE))","v":""},{"$f":"IF(A507=\"\",\"\",VLOOKUP(A507,[1]ItemConfig!$A:$C,3,FALSE))","v":""},{"$f":"IF(A507=\"\",\"\",VLOOKUP(B507,[2]語言配置表!$A:$B,2,FALSE))","v":""},{"$f":"IF(A507=\"\",\"\",VLOOKUP(C507,[2]語言配置表!$A:$B,2,FALSE))","v":""}]
[{"$f":"IF([1]ItemConfig!$A511=\"\",\"\",[1]ItemConfig!$A511)","v":""},{"$f":"IF(A508=\"\",\"\",VLOOKUP(A508,[1]ItemConfig!$A:$B,2,FALSE))","v":""},{"$f":"IF(A508=\"\",\"\",VLOOKUP(A508,[1]ItemConfig!$A:$D,4,FALSE))","v":""},{"$f":"IF(A508=\"\",\"\",VLOOKUP(A508,[1]ItemConfig!$A:$C,3,FALSE))","v":""},{"$f":"IF(A508=\"\",\"\",VLOOKUP(B508,[2]語言配置表!$A:$B,2,FALSE))","v":""},{"$f":"IF(A508=\"\",\"\",VLOOKUP(C508,[2]語言配置表!$A:$B,2,FALSE))","v":""}]
[{"$f":"IF([1]ItemConfig!$A512=\"\",\"\",[1]ItemConfig!$A512)","v":""},{"$f":"IF(A509=\"\",\"\",VLOOKUP(A509,[1]ItemConfig!$A:$B,2,FALSE))","v":""},{"$f":"IF(A509=\"\",\"\",VLOOKUP(A509,[1]ItemConfig!$A:$D,4,FALSE))","v":""},{"$f":"IF(A509=\"\",\"\",VLOOKUP(A509,[1]ItemConfig!$A:$C,3,FALSE))","v":""},{"$f":"IF(A509=\"\",\"\",VLOOKUP(B509,[2]語言配置表!$A:$B,2,FALSE))","v":""},{"$f":"IF(A509=\"\",\"\",VLOOKUP(C509,[2]語言配置表!$A:$B,2,FALSE))","v":""}]
[{"$f":"IF([1]ItemConfig!$A513=\"\",\"\",[1]ItemConfig!$A513)","v":""},{"$f":"IF(A510=\"\",\"\",VLOOKUP(A510,[1]ItemConfig!$A:$B,2,FALSE))","v":""},{"$f":"IF(A510=\"\",\"\",VLOOKUP(A510,[1]ItemConfig!$A:$D,4,FALSE))","v":""},{"$f":"IF(A510=\"\",\"\",VLOOKUP(A510,[1]ItemConfig!$A:$C,3,FALSE))","v":""},{"$f":"IF(A510=\"\",\"\",VLOOKUP(B510,[2]語言配置表!$A:$B,2,FALSE))","v":""},{"$f":"IF(A510=\"\",\"\",VLOOKUP(C510,[2]語言配置表!$A:$B,2,FALSE))","v":""}]
[{"$f":"IF([1]ItemConfig!$A514=\"\",\"\",[1]ItemConfig!$A514)","v":""},{"$f":"IF(A511=\"\",\"\",VLOOKUP(A511,[1]ItemConfig!$A:$B,2,FALSE))","v":""},{"$f":"IF(A511=\"\",\"\",VLOOKUP(A511,[1]ItemConfig!$A:$D,4,FALSE))","v":""},{"$f":"IF(A511=\"\",\"\",VLOOKUP(A511,[1]ItemConfig!$A:$C,3,FALSE))","v":""},{"$f":"IF(A511=\"\",\"\",VLOOKUP(B511,[2]語言配置表!$A:$B,2,FALSE))","v":""},{"$f":"IF(A511=\"\",\"\",VLOOKUP(C511,[2]語言配置表!$A:$B,2,FALSE))","v":""}]
[{"$f":"IF([1]ItemConfig!$A515=\"\",\"\",[1]ItemConfig!$A515)","v":""},{"$f":"IF(A512=\"\",\"\",VLOOKUP(A512,[1]ItemConfig!$A:$B,2,FALSE))","v":""},{"$f":"IF(A512=\"\",\"\",VLOOKUP(A512,[1]ItemConfig!$A:$D,4,FALSE))","v":""},{"$f":"IF(A512=\"\",\"\",VLOOKUP(A512,[1]ItemConfig!$A:$C,3,FALSE))","v":""},{"$f":"IF(A512=\"\",\"\",VLOOKUP(B512,[2]語言配置表!$A:$B,2,FALSE))","v":""},{"$f":"IF(A512=\"\",\"\",VLOOKUP(C512,[2]語言配置表!$A:$B,2,FALSE))","v":""}]
[{"$f":"IF([1]ItemConfig!$A516=\"\",\"\",[1]ItemConfig!$A516)","v":""},{"$f":"IF(A513=\"\",\"\",VLOOKUP(A513,[1]ItemConfig!$A:$B,2,FALSE))","v":""},{"$f":"IF(A513=\"\",\"\",VLOOKUP(A513,[1]ItemConfig!$A:$D,4,FALSE))","v":""},{"$f":"IF(A513=\"\",\"\",VLOOKUP(A513,[1]ItemConfig!$A:$C,3,FALSE))","v":""},{"$f":"IF(A513=\"\",\"\",VLOOKUP(B513,[2]語言配置表!$A:$B,2,FALSE))","v":""},{"$f":"IF(A513=\"\",\"\",VLOOKUP(C513,[2]語言配置表!$A:$B,2,FALSE))","v":""}]
[{"$f":"IF([1]ItemConfig!$A517=\"\",\"\",[1]ItemConfig!$A517)","v":""},{"$f":"IF(A514=\"\",\"\",VLOOKUP(A514,[1]ItemConfig!$A:$B,2,FALSE))","v":""},{"$f":"IF(A514=\"\",\"\",VLOOKUP(A514,[1]ItemConfig!$A:$D,4,FALSE))","v":""},{"$f":"IF(A514=\"\",\"\",VLOOKUP(A514,[1]ItemConfig!$A:$C,3,FALSE))","v":""},{"$f":"IF(A514=\"\",\"\",VLOOKUP(B514,[2]語言配置表!$A:$B,2,FALSE))","v":""},{"$f":"IF(A514=\"\",\"\",VLOOKUP(C514,[2]語言配置表!$A:$B,2,FALSE))","v":""}]
[{"$f":"IF([1]ItemConfig!$A518=\"\",\"\",[1]ItemConfig!$A518)","v":""},{"$f":"IF(A515=\"\",\"\",VLOOKUP(A515,[1]ItemConfig!$A:$B,2,FALSE))","v":""},{"$f":"IF(A515=\"\",\"\",VLOOKUP(A515,[1]ItemConfig!$A:$D,4,FALSE))","v":""},{"$f":"IF(A515=\"\",\"\",VLOOKUP(A515,[1]ItemConfig!$A:$C,3,FALSE))","v":""},{"$f":"IF(A515=\"\",\"\",VLOOKUP(B515,[2]語言配置表!$A:$B,2,FALSE))","v":""},{"$f":"IF(A515=\"\",\"\",VLOOKUP(C515,[2]語言配置表!$A:$B,2,FALSE))","v":""}]
[{"$f":"IF([1]ItemConfig!$A519=\"\",\"\",[1]ItemConfig!$A519)","v":""},{"$f":"IF(A516=\"\",\"\",VLOOKUP(A516,[1]ItemConfig!$A:$B,2,FALSE))","v":""},{"$f":"IF(A516=\"\",\"\",VLOOKUP(A516,[1]ItemConfig!$A:$D,4,FALSE))","v":""},{"$f":"IF(A516=\"\",\"\",VLOOKUP(A516,[1]ItemConfig!$A:$C,3,FALSE))","v":""},{"$f":"IF(A516=\"\",\"\",VLOOKUP(B516,[2]語言配置表!$A:$B,2,FALSE))","v":""},{"$f":"IF(A516=\"\",\"\",VLOOKUP(C516,[2]語言配置表!$A:$B,2,FALSE))","v":""}]
[{"$f":"IF([1]ItemConfig!$A520=\"\",\"\",[1]ItemConfig!$A520)","v":""},{"$f":"IF(A517=\"\",\"\",VLOOKUP(A517,[1]ItemConfig!$A:$B,2,FALSE))","v":""},{"$f":"IF(A517=\"\",\"\",VLOOKUP(A517,[1]ItemConfig!$A:$D,4,FALSE))","v":""},{"$f":"IF(A517=\"\",\"\",VLOOKUP(A517,[1]ItemConfig!$A:$C,3,FALSE))","v":""},{"$f":"IF(A517=\"\",\"\",VLOOKUP(B517,[2]語言配置表!$A:$B,2,FALSE))","v":""},{"$f":"IF(A517=\"\",\"\",VLOOKUP(C517,[2]語言配置表!$A:$B,2,FALSE))","v":""}]
[{"$f":"IF([1]ItemConfig!$A521=\"\",\"\",[1]ItemConfig!$A521)","v":""},{"$f":"IF(A518=\"\",\"\",VLOOKUP(A518,[1]ItemConfig!$A:$B,2,FALSE))","v":""},{"$f":"IF(A518=\"\",\"\",VLOOKUP(A518,[1]ItemConfig!$A:$D,4,FALSE))","v":""},{"$f":"IF(A518=\"\",\"\",VLOOKUP(A518,[1]ItemConfig!$A:$C,3,FALSE))","v":""},{"$f":"IF(A518=\"\",\"\",VLOOKUP(B518,[2]語言配置表!$A:$B,2,FALSE))","v":""},{"$f":"IF(A518=\"\",\"\",VLOOKUP(C518,[2]語言配置表!$A:$B,2,FALSE))","v":""}]
[{"$f":"IF([1]ItemConfig!$A522=\"\",\"\",[1]ItemConfig!$A522)","v":""},{"$f":"IF(A519=\"\",\"\",VLOOKUP(A519,[1]ItemConfig!$A:$B,2,FALSE))","v":""},{"$f":"IF(A519=\"\",\"\",VLOOKUP(A519,[1]ItemConfig!$A:$D,4,FALSE))","v":""},{"$f":"IF(A519=\"\",\"\",VLOOKUP(A519,[1]ItemConfig!$A:$C,3,FALSE))","v":""},{"$f":"IF(A519=\"\",\"\",VLOOKUP(B519,[2]語言配置表!$A:$B,2,FALSE))","v":""},{"$f":"IF(A519=\"\",\"\",VLOOKUP(C519,[2]語言配置表!$A:$B,2,FALSE))","v":""}]
[{"$f":"IF([1]ItemConfig!$A523=\"\",\"\",[1]ItemConfig!$A523)","v":""},{"$f":"IF(A520=\"\",\"\",VLOOKUP(A520,[1]ItemConfig!$A:$B,2,FALSE))","v":""},{"$f":"IF(A520=\"\",\"\",VLOOKUP(A520,[1]ItemConfig!$A:$D,4,FALSE))","v":""},{"$f":"IF(A520=\"\",\"\",VLOOKUP(A520,[1]ItemConfig!$A:$C,3,FALSE))","v":""},{"$f":"IF(A520=\"\",\"\",VLOOKUP(B520,[2]語言配置表!$A:$B,2,FALSE))","v":""},{"$f":"IF(A520=\"\",\"\",VLOOKUP(C520,[2]語言配置表!$A:$B,2,FALSE))","v":""}]
[{"$f":"IF([1]ItemConfig!$A524=\"\",\"\",[1]ItemConfig!$A524)","v":""},{"$f":"IF(A521=\"\",\"\",VLOOKUP(A521,[1]ItemConfig!$A:$B,2,FALSE))","v":""},{"$f":"IF(A521=\"\",\"\",VLOOKUP(A521,[1]ItemConfig!$A:$D,4,FALSE))","v":""},{"$f":"IF(A521=\"\",\"\",VLOOKUP(A521,[1]ItemConfig!$A:$C,3,FALSE))","v":""},{"$f":"IF(A521=\"\",\"\",VLOOKUP(B521,[2]語言配置表!$A:$B,2,FALSE))","v":""},{"$f":"IF(A521=\"\",\"\",VLOOKUP(C521,[2]語言配置表!$A:$B,2,FALSE))","v":""}]
[{"$f":"IF([1]ItemConfig!$A525=\"\",\"\",[1]ItemConfig!$A525)","v":""},{"$f":"IF(A522=\"\",\"\",VLOOKUP(A522,[1]ItemConfig!$A:$B,2,FALSE))","v":""},{"$f":"IF(A522=\"\",\"\",VLOOKUP(A522,[1]ItemConfig!$A:$D,4,FALSE))","v":""},{"$f":"IF(A522=\"\",\"\",VLOOKUP(A522,[1]ItemConfig!$A:$C,3,FALSE))","v":""},{"$f":"IF(A522=\"\",\"\",VLOOKUP(B522,[2]語言配置表!$A:$B,2,FALSE))","v":""},{"$f":"IF(A522=\"\",\"\",VLOOKUP(C522,[2]語言配置表!$A:$B,2,FALSE))","v":""}]
[{"$f":"IF([1]ItemConfig!$A526=\"\",\"\",[1]ItemConfig!$A526)","v":""},{"$f":"IF(A523=\"\",\"\",VLOOKUP(A523,[1]ItemConfig!$A:$B,2,FALSE))","v":""},{"$f":"IF(A523=\"\",\"\",VLOOKUP(A523,[1]ItemConfig!$A:$D,4,FALSE))","v":""},{"$f":"IF(A523=\"\",\"\",VLOOKUP(A523,[1]ItemConfig!$A:$C,3,FALSE))","v":""},{"$f":"IF(A523=\"\",\"\",VLOOKUP(B523,[2]語言配置表!$A:$B,2,FALSE))","v":""},{"$f":"IF(A523=\"\",\"\",VLOOKUP(C523,[2]語言配置表!$A:$B,2,FALSE))","v":""}]
[{"$f":"IF([1]ItemConfig!$A527=\"\",\"\",[1]ItemConfig!$A527)","v":""},{"$f":"IF(A524=\"\",\"\",VLOOKUP(A524,[1]ItemConfig!$A:$B,2,FALSE))","v":""},{"$f":"IF(A524=\"\",\"\",VLOOKUP(A524,[1]ItemConfig!$A:$D,4,FALSE))","v":""},{"$f":"IF(A524=\"\",\"\",VLOOKUP(A524,[1]ItemConfig!$A:$C,3,FALSE))","v":""},{"$f":"IF(A524=\"\",\"\",VLOOKUP(B524,[2]語言配置表!$A:$B,2,FALSE))","v":""},{"$f":"IF(A524=\"\",\"\",VLOOKUP(C524,[2]語言配置表!$A:$B,2,FALSE))","v":""}]
[{"$f":"IF([1]ItemConfig!$A528=\"\",\"\",[1]ItemConfig!$A528)","v":""},{"$f":"IF(A525=\"\",\"\",VLOOKUP(A525,[1]ItemConfig!$A:$B,2,FALSE))","v":""},{"$f":"IF(A525=\"\",\"\",VLOOKUP(A525,[1]ItemConfig!$A:$D,4,FALSE))","v":""},{"$f":"IF(A525=\"\",\"\",VLOOKUP(A525,[1]ItemConfig!$A:$C,3,FALSE))","v":""},{"$f":"IF(A525=\"\",\"\",VLOOKUP(B525,[2]語言配置表!$A:$B,2,FALSE))","v":""},{"$f":"IF(A525=\"\",\"\",VLOOKUP(C525,[2]語言配置表!$A:$B,2,FALSE))","v":""}]
[{"$f":"IF([1]ItemConfig!$A529=\"\",\"\",[1]ItemConfig!$A529)","v":""},{"$f":"IF(A526=\"\",\"\",VLOOKUP(A526,[1]ItemConfig!$A:$B,2,FALSE))","v":""},{"$f":"IF(A526=\"\",\"\",VLOOKUP(A526,[1]ItemConfig!$A:$D,4,FALSE))","v":""},{"$f":"IF(A526=\"\",\"\",VLOOKUP(A526,[1]ItemConfig!$A:$C,3,FALSE))","v":""},{"$f":"IF(A526=\"\",\"\",VLOOKUP(B526,[2]語言配置表!$A:$B,2,FALSE))","v":""},{"$f":"IF(A526=\"\",\"\",VLOOKUP(C526,[2]語言配置表!$A:$B,2,FALSE))","v":""}]
[{"$f":"IF([1]ItemConfig!$A530=\"\",\"\",[1]ItemConfig!$A530)","v":""},{"$f":"IF(A527=\"\",\"\",VLOOKUP(A527,[1]ItemConfig!$A:$B,2,FALSE))","v":""},{"$f":"IF(A527=\"\",\"\",VLOOKUP(A527,[1]ItemConfig!$A:$D,4,FALSE))","v":""},{"$f":"IF(A527=\"\",\"\",VLOOKUP(A527,[1]ItemConfig!$A:$C,3,FALSE))","v":""},{"$f":"IF(A527=\"\",\"\",VLOOKUP(B527,[2]語言配置表!$A:$B,2,FALSE))","v":""},{"$f":"IF(A527=\"\",\"\",VLOOKUP(C527,[2]語言配置表!$A:$B,2,FALSE))","v":""}]
[{"$f":"IF([1]ItemConfig!$A531=\"\",\"\",[1]ItemConfig!$A531)","v":""},{"$f":"IF(A528=\"\",\"\",VLOOKUP(A528,[1]ItemConfig!$A:$B,2,FALSE))","v":""},{"$f":"IF(A528=\"\",\"\",VLOOKUP(A528,[1]ItemConfig!$A:$D,4,FALSE))","v":""},{"$f":"IF(A528=\"\",\"\",VLOOKUP(A528,[1]ItemConfig!$A:$C,3,FALSE))","v":""},{"$f":"IF(A528=\"\",\"\",VLOOKUP(B528,[2]語言配置表!$A:$B,2,FALSE))","v":""},{"$f":"IF(A528=\"\",\"\",VLOOKUP(C528,[2]語言配置表!$A:$B,2,FALSE))","v":""}]
[{"$f":"IF([1]ItemConfig!$A532=\"\",\"\",[1]ItemConfig!$A532)","v":""},{"$f":"IF(A529=\"\",\"\",VLOOKUP(A529,[1]ItemConfig!$A:$B,2,FALSE))","v":""},{"$f":"IF(A529=\"\",\"\",VLOOKUP(A529,[1]ItemConfig!$A:$D,4,FALSE))","v":""},{"$f":"IF(A529=\"\",\"\",VLOOKUP(A529,[1]ItemConfig!$A:$C,3,FALSE))","v":""},{"$f":"IF(A529=\"\",\"\",VLOOKUP(B529,[2]語言配置表!$A:$B,2,FALSE))","v":""},{"$f":"IF(A529=\"\",\"\",VLOOKUP(C529,[2]語言配置表!$A:$B,2,FALSE))","v":""}]
[{"$f":"IF([1]ItemConfig!$A533=\"\",\"\",[1]ItemConfig!$A533)","v":""},{"$f":"IF(A530=\"\",\"\",VLOOKUP(A530,[1]ItemConfig!$A:$B,2,FALSE))","v":""},{"$f":"IF(A530=\"\",\"\",VLOOKUP(A530,[1]ItemConfig!$A:$D,4,FALSE))","v":""},{"$f":"IF(A530=\"\",\"\",VLOOKUP(A530,[1]ItemConfig!$A:$C,3,FALSE))","v":""},{"$f":"IF(A530=\"\",\"\",VLOOKUP(B530,[2]語言配置表!$A:$B,2,FALSE))","v":""},{"$f":"IF(A530=\"\",\"\",VLOOKUP(C530,[2]語言配置表!$A:$B,2,FALSE))","v":""}]
[{"$f":"IF([1]ItemConfig!$A534=\"\",\"\",[1]ItemConfig!$A534)","v":""},{"$f":"IF(A531=\"\",\"\",VLOOKUP(A531,[1]ItemConfig!$A:$B,2,FALSE))","v":""},{"$f":"IF(A531=\"\",\"\",VLOOKUP(A531,[1]ItemConfig!$A:$D,4,FALSE))","v":""},{"$f":"IF(A531=\"\",\"\",VLOOKUP(A531,[1]ItemConfig!$A:$C,3,FALSE))","v":""},{"$f":"IF(A531=\"\",\"\",VLOOKUP(B531,[2]語言配置表!$A:$B,2,FALSE))","v":""},{"$f":"IF(A531=\"\",\"\",VLOOKUP(C531,[2]語言配置表!$A:$B,2,FALSE))","v":""}]
[{"$f":"IF([1]ItemConfig!$A535=\"\",\"\",[1]ItemConfig!$A535)","v":""},{"$f":"IF(A532=\"\",\"\",VLOOKUP(A532,[1]ItemConfig!$A:$B,2,FALSE))","v":""},{"$f":"IF(A532=\"\",\"\",VLOOKUP(A532,[1]ItemConfig!$A:$D,4,FALSE))","v":""},{"$f":"IF(A532=\"\",\"\",VLOOKUP(A532,[1]ItemConfig!$A:$C,3,FALSE))","v":""},{"$f":"IF(A532=\"\",\"\",VLOOKUP(B532,[2]語言配置表!$A:$B,2,FALSE))","v":""},{"$f":"IF(A532=\"\",\"\",VLOOKUP(C532,[2]語言配置表!$A:$B,2,FALSE))","v":""}]
[{"$f":"IF([1]ItemConfig!$A536=\"\",\"\",[1]ItemConfig!$A536)","v":""},{"$f":"IF(A533=\"\",\"\",VLOOKUP(A533,[1]ItemConfig!$A:$B,2,FALSE))","v":""},{"$f":"IF(A533=\"\",\"\",VLOOKUP(A533,[1]ItemConfig!$A:$D,4,FALSE))","v":""},{"$f":"IF(A533=\"\",\"\",VLOOKUP(A533,[1]ItemConfig!$A:$C,3,FALSE))","v":""},{"$f":"IF(A533=\"\",\"\",VLOOKUP(B533,[2]語言配置表!$A:$B,2,FALSE))","v":""},{"$f":"IF(A533=\"\",\"\",VLOOKUP(C533,[2]語言配置表!$A:$B,2,FALSE))","v":""}]
[{"$f":"IF([1]ItemConfig!$A537=\"\",\"\",[1]ItemConfig!$A537)","v":""},{"$f":"IF(A534=\"\",\"\",VLOOKUP(A534,[1]ItemConfig!$A:$B,2,FALSE))","v":""},{"$f":"IF(A534=\"\",\"\",VLOOKUP(A534,[1]ItemConfig!$A:$D,4,FALSE))","v":""},{"$f":"IF(A534=\"\",\"\",VLOOKUP(A534,[1]ItemConfig!$A:$C,3,FALSE))","v":""},{"$f":"IF(A534=\"\",\"\",VLOOKUP(B534,[2]語言配置表!$A:$B,2,FALSE))","v":""},{"$f":"IF(A534=\"\",\"\",VLOOKUP(C534,[2]語言配置表!$A:$B,2,FALSE))","v":""}]
[{"$f":"IF([1]ItemConfig!$A538=\"\",\"\",[1]ItemConfig!$A538)","v":""},{"$f":"IF(A535=\"\",\"\",VLOOKUP(A535,[1]ItemConfig!$A:$B,2,FALSE))","v":""},{"$f":"IF(A535=\"\",\"\",VLOOKUP(A535,[1]ItemConfig!$A:$D,4,FALSE))","v":""},{"$f":"IF(A535=\"\",\"\",VLOOKUP(A535,[1]ItemConfig!$A:$C,3,FALSE))","v":""},{"$f":"IF(A535=\"\",\"\",VLOOKUP(B535,[2]語言配置表!$A:$B,2,FALSE))","v":""},{"$f":"IF(A535=\"\",\"\",VLOOKUP(C535,[2]語言配置表!$A:$B,2,FALSE))","v":""}]
[{"$f":"IF([1]ItemConfig!$A539=\"\",\"\",[1]ItemConfig!$A539)","v":""},{"$f":"IF(A536=\"\",\"\",VLOOKUP(A536,[1]ItemConfig!$A:$B,2,FALSE))","v":""},{"$f":"IF(A536=\"\",\"\",VLOOKUP(A536,[1]ItemConfig!$A:$D,4,FALSE))","v":""},{"$f":"IF(A536=\"\",\"\",VLOOKUP(A536,[1]ItemConfig!$A:$C,3,FALSE))","v":""},{"$f":"IF(A536=\"\",\"\",VLOOKUP(B536,[2]語言配置表!$A:$B,2,FALSE))","v":""},{"$f":"IF(A536=\"\",\"\",VLOOKUP(C536,[2]語言配置表!$A:$B,2,FALSE))","v":""}]
[{"$f":"IF([1]ItemConfig!$A540=\"\",\"\",[1]ItemConfig!$A540)","v":""},{"$f":"IF(A537=\"\",\"\",VLOOKUP(A537,[1]ItemConfig!$A:$B,2,FALSE))","v":""},{"$f":"IF(A537=\"\",\"\",VLOOKUP(A537,[1]ItemConfig!$A:$D,4,FALSE))","v":""},{"$f":"IF(A537=\"\",\"\",VLOOKUP(A537,[1]ItemConfig!$A:$C,3,FALSE))","v":""},{"$f":"IF(A537=\"\",\"\",VLOOKUP(B537,[2]語言配置表!$A:$B,2,FALSE))","v":""},{"$f":"IF(A537=\"\",\"\",VLOOKUP(C537,[2]語言配置表!$A:$B,2,FALSE))","v":""}]
[{"$f":"IF([1]ItemConfig!$A541=\"\",\"\",[1]ItemConfig!$A541)","v":""},{"$f":"IF(A538=\"\",\"\",VLOOKUP(A538,[1]ItemConfig!$A:$B,2,FALSE))","v":""},{"$f":"IF(A538=\"\",\"\",VLOOKUP(A538,[1]ItemConfig!$A:$D,4,FALSE))","v":""},{"$f":"IF(A538=\"\",\"\",VLOOKUP(A538,[1]ItemConfig!$A:$C,3,FALSE))","v":""},{"$f":"IF(A538=\"\",\"\",VLOOKUP(B538,[2]語言配置表!$A:$B,2,FALSE))","v":""},{"$f":"IF(A538=\"\",\"\",VLOOKUP(C538,[2]語言配置表!$A:$B,2,FALSE))","v":""}]
[{"$f":"IF([1]ItemConfig!$A542=\"\",\"\",[1]ItemConfig!$A542)","v":""},{"$f":"IF(A539=\"\",\"\",VLOOKUP(A539,[1]ItemConfig!$A:$B,2,FALSE))","v":""},{"$f":"IF(A539=\"\",\"\",VLOOKUP(A539,[1]ItemConfig!$A:$D,4,FALSE))","v":""},{"$f":"IF(A539=\"\",\"\",VLOOKUP(A539,[1]ItemConfig!$A:$C,3,FALSE))","v":""},{"$f":"IF(A539=\"\",\"\",VLOOKUP(B539,[2]語言配置表!$A:$B,2,FALSE))","v":""},{"$f":"IF(A539=\"\",\"\",VLOOKUP(C539,[2]語言配置表!$A:$B,2,FALSE))","v":""}]
[{"$f":"IF([1]ItemConfig!$A543=\"\",\"\",[1]ItemConfig!$A543)","v":""},{"$f":"IF(A540=\"\",\"\",VLOOKUP(A540,[1]ItemConfig!$A:$B,2,FALSE))","v":""},{"$f":"IF(A540=\"\",\"\",VLOOKUP(A540,[1]ItemConfig!$A:$D,4,FALSE))","v":""},{"$f":"IF(A540=\"\",\"\",VLOOKUP(A540,[1]ItemConfig!$A:$C,3,FALSE))","v":""},{"$f":"IF(A540=\"\",\"\",VLOOKUP(B540,[2]語言配置表!$A:$B,2,FALSE))","v":""},{"$f":"IF(A540=\"\",\"\",VLOOKUP(C540,[2]語言配置表!$A:$B,2,FALSE))","v":""}]
[{"$f":"IF([1]ItemConfig!$A544=\"\",\"\",[1]ItemConfig!$A544)","v":""},{"$f":"IF(A541=\"\",\"\",VLOOKUP(A541,[1]ItemConfig!$A:$B,2,FALSE))","v":""},{"$f":"IF(A541=\"\",\"\",VLOOKUP(A541,[1]ItemConfig!$A:$D,4,FALSE))","v":""},{"$f":"IF(A541=\"\",\"\",VLOOKUP(A541,[1]ItemConfig!$A:$C,3,FALSE))","v":""},{"$f":"IF(A541=\"\",\"\",VLOOKUP(B541,[2]語言配置表!$A:$B,2,FALSE))","v":""},{"$f":"IF(A541=\"\",\"\",VLOOKUP(C541,[2]語言配置表!$A:$B,2,FALSE))","v":""}]
[{"$f":"IF([1]ItemConfig!$A545=\"\",\"\",[1]ItemConfig!$A545)","v":""},{"$f":"IF(A542=\"\",\"\",VLOOKUP(A542,[1]ItemConfig!$A:$B,2,FALSE))","v":""},{"$f":"IF(A542=\"\",\"\",VLOOKUP(A542,[1]ItemConfig!$A:$D,4,FALSE))","v":""},{"$f":"IF(A542=\"\",\"\",VLOOKUP(A542,[1]ItemConfig!$A:$C,3,FALSE))","v":""},{"$f":"IF(A542=\"\",\"\",VLOOKUP(B542,[2]語言配置表!$A:$B,2,FALSE))","v":""},{"$f":"IF(A542=\"\",\"\",VLOOKUP(C542,[2]語言配置表!$A:$B,2,FALSE))","v":""}]
[{"$f":"IF([1]ItemConfig!$A546=\"\",\"\",[1]ItemConfig!$A546)","v":""},{"$f":"IF(A543=\"\",\"\",VLOOKUP(A543,[1]ItemConfig!$A:$B,2,FALSE))","v":""},{"$f":"IF(A543=\"\",\"\",VLOOKUP(A543,[1]ItemConfig!$A:$D,4,FALSE))","v":""},{"$f":"IF(A543=\"\",\"\",VLOOKUP(A543,[1]ItemConfig!$A:$C,3,FALSE))","v":""},{"$f":"IF(A543=\"\",\"\",VLOOKUP(B543,[2]語言配置表!$A:$B,2,FALSE))","v":""},{"$f":"IF(A543=\"\",\"\",VLOOKUP(C543,[2]語言配置表!$A:$B,2,FALSE))","v":""}]
[{"$f":"IF([1]ItemConfig!$A547=\"\",\"\",[1]ItemConfig!$A547)","v":""},{"$f":"IF(A544=\"\",\"\",VLOOKUP(A544,[1]ItemConfig!$A:$B,2,FALSE))","v":""},{"$f":"IF(A544=\"\",\"\",VLOOKUP(A544,[1]ItemConfig!$A:$D,4,FALSE))","v":""},{"$f":"IF(A544=\"\",\"\",VLOOKUP(A544,[1]ItemConfig!$A:$C,3,FALSE))","v":""},{"$f":"IF(A544=\"\",\"\",VLOOKUP(B544,[2]語言配置表!$A:$B,2,FALSE))","v":""},{"$f":"IF(A544=\"\",\"\",VLOOKUP(C544,[2]語言配置表!$A:$B,2,FALSE))","v":""}]
[{"$f":"IF([1]ItemConfig!$A548=\"\",\"\",[1]ItemConfig!$A548)","v":""},{"$f":"IF(A545=\"\",\"\",VLOOKUP(A545,[1]ItemConfig!$A:$B,2,FALSE))","v":""},{"$f":"IF(A545=\"\",\"\",VLOOKUP(A545,[1]ItemConfig!$A:$D,4,FALSE))","v":""},{"$f":"IF(A545=\"\",\"\",VLOOKUP(A545,[1]ItemConfig!$A:$C,3,FALSE))","v":""},{"$f":"IF(A545=\"\",\"\",VLOOKUP(B545,[2]語言配置表!$A:$B,2,FALSE))","v":""},{"$f":"IF(A545=\"\",\"\",VLOOKUP(C545,[2]語言配置表!$A:$B,2,FALSE))","v":""}]
[{"$f":"IF([1]ItemConfig!$A549=\"\",\"\",[1]ItemConfig!$A549)","v":""},{"$f":"IF(A546=\"\",\"\",VLOOKUP(A546,[1]ItemConfig!$A:$B,2,FALSE))","v":""},{"$f":"IF(A546=\"\",\"\",VLOOKUP(A546,[1]ItemConfig!$A:$D,4,FALSE))","v":""},{"$f":"IF(A546=\"\",\"\",VLOOKUP(A546,[1]ItemConfig!$A:$C,3,FALSE))","v":""},{"$f":"IF(A546=\"\",\"\",VLOOKUP(B546,[2]語言配置表!$A:$B,2,FALSE))","v":""},{"$f":"IF(A546=\"\",\"\",VLOOKUP(C546,[2]語言配置表!$A:$B,2,FALSE))","v":""}]
[{"$f":"IF([1]ItemConfig!$A550=\"\",\"\",[1]ItemConfig!$A550)","v":""},{"$f":"IF(A547=\"\",\"\",VLOOKUP(A547,[1]ItemConfig!$A:$B,2,FALSE))","v":""},{"$f":"IF(A547=\"\",\"\",VLOOKUP(A547,[1]ItemConfig!$A:$D,4,FALSE))","v":""},{"$f":"IF(A547=\"\",\"\",VLOOKUP(A547,[1]ItemConfig!$A:$C,3,FALSE))","v":""},{"$f":"IF(A547=\"\",\"\",VLOOKUP(B547,[2]語言配置表!$A:$B,2,FALSE))","v":""},{"$f":"IF(A547=\"\",\"\",VLOOKUP(C547,[2]語言配置表!$A:$B,2,FALSE))","v":""}]
[{"$f":"IF([1]ItemConfig!$A551=\"\",\"\",[1]ItemConfig!$A551)","v":""},{"$f":"IF(A548=\"\",\"\",VLOOKUP(A548,[1]ItemConfig!$A:$B,2,FALSE))","v":""},{"$f":"IF(A548=\"\",\"\",VLOOKUP(A548,[1]ItemConfig!$A:$D,4,FALSE))","v":""},{"$f":"IF(A548=\"\",\"\",VLOOKUP(A548,[1]ItemConfig!$A:$C,3,FALSE))","v":""},{"$f":"IF(A548=\"\",\"\",VLOOKUP(B548,[2]語言配置表!$A:$B,2,FALSE))","v":""},{"$f":"IF(A548=\"\",\"\",VLOOKUP(C548,[2]語言配置表!$A:$B,2,FALSE))","v":""}]
[{"$f":"IF([1]ItemConfig!$A552=\"\",\"\",[1]ItemConfig!$A552)","v":""},{"$f":"IF(A549=\"\",\"\",VLOOKUP(A549,[1]ItemConfig!$A:$B,2,FALSE))","v":""},{"$f":"IF(A549=\"\",\"\",VLOOKUP(A549,[1]ItemConfig!$A:$D,4,FALSE))","v":""},{"$f":"IF(A549=\"\",\"\",VLOOKUP(A549,[1]ItemConfig!$A:$C,3,FALSE))","v":""},{"$f":"IF(A549=\"\",\"\",VLOOKUP(B549,[2]語言配置表!$A:$B,2,FALSE))","v":""},{"$f":"IF(A549=\"\",\"\",VLOOKUP(C549,[2]語言配置表!$A:$B,2,FALSE))","v":""}]
[{"$f":"IF([1]ItemConfig!$A553=\"\",\"\",[1]ItemConfig!$A553)","v":""},{"$f":"IF(A550=\"\",\"\",VLOOKUP(A550,[1]ItemConfig!$A:$B,2,FALSE))","v":""},{"$f":"IF(A550=\"\",\"\",VLOOKUP(A550,[1]ItemConfig!$A:$D,4,FALSE))","v":""},{"$f":"IF(A550=\"\",\"\",VLOOKUP(A550,[1]ItemConfig!$A:$C,3,FALSE))","v":""},{"$f":"IF(A550=\"\",\"\",VLOOKUP(B550,[2]語言配置表!$A:$B,2,FALSE))","v":""},{"$f":"IF(A550=\"\",\"\",VLOOKUP(C550,[2]語言配置表!$A:$B,2,FALSE))","v":""}]
[{"$f":"IF([1]ItemConfig!$A554=\"\",\"\",[1]ItemConfig!$A554)","v":""},{"$f":"IF(A551=\"\",\"\",VLOOKUP(A551,[1]ItemConfig!$A:$B,2,FALSE))","v":""},{"$f":"IF(A551=\"\",\"\",VLOOKUP(A551,[1]ItemConfig!$A:$D,4,FALSE))","v":""},{"$f":"IF(A551=\"\",\"\",VLOOKUP(A551,[1]ItemConfig!$A:$C,3,FALSE))","v":""},{"$f":"IF(A551=\"\",\"\",VLOOKUP(B551,[2]語言配置表!$A:$B,2,FALSE))","v":""},{"$f":"IF(A551=\"\",\"\",VLOOKUP(C551,[2]語言配置表!$A:$B,2,FALSE))","v":""}]
[{"$f":"IF([1]ItemConfig!$A555=\"\",\"\",[1]ItemConfig!$A555)","v":""},{"$f":"IF(A552=\"\",\"\",VLOOKUP(A552,[1]ItemConfig!$A:$B,2,FALSE))","v":""},{"$f":"IF(A552=\"\",\"\",VLOOKUP(A552,[1]ItemConfig!$A:$D,4,FALSE))","v":""},{"$f":"IF(A552=\"\",\"\",VLOOKUP(A552,[1]ItemConfig!$A:$C,3,FALSE))","v":""},{"$f":"IF(A552=\"\",\"\",VLOOKUP(B552,[2]語言配置表!$A:$B,2,FALSE))","v":""},{"$f":"IF(A552=\"\",\"\",VLOOKUP(C552,[2]語言配置表!$A:$B,2,FALSE))","v":""}]
[{"$f":"IF([1]ItemConfig!$A556=\"\",\"\",[1]ItemConfig!$A556)","v":""},{"$f":"IF(A553=\"\",\"\",VLOOKUP(A553,[1]ItemConfig!$A:$B,2,FALSE))","v":""},{"$f":"IF(A553=\"\",\"\",VLOOKUP(A553,[1]ItemConfig!$A:$D,4,FALSE))","v":""},{"$f":"IF(A553=\"\",\"\",VLOOKUP(A553,[1]ItemConfig!$A:$C,3,FALSE))","v":""},{"$f":"IF(A553=\"\",\"\",VLOOKUP(B553,[2]語言配置表!$A:$B,2,FALSE))","v":""},{"$f":"IF(A553=\"\",\"\",VLOOKUP(C553,[2]語言配置表!$A:$B,2,FALSE))","v":""}]
[{"$f":"IF([1]ItemConfig!$A557=\"\",\"\",[1]ItemConfig!$A557)","v":""},{"$f":"IF(A554=\"\",\"\",VLOOKUP(A554,[1]ItemConfig!$A:$B,2,FALSE))","v":""},{"$f":"IF(A554=\"\",\"\",VLOOKUP(A554,[1]ItemConfig!$A:$D,4,FALSE))","v":""},{"$f":"IF(A554=\"\",\"\",VLOOKUP(A554,[1]ItemConfig!$A:$C,3,FALSE))","v":""},{"$f":"IF(A554=\"\",\"\",VLOOKUP(B554,[2]語言配置表!$A:$B,2,FALSE))","v":""},{"$f":"IF(A554=\"\",\"\",VLOOKUP(C554,[2]語言配置表!$A:$B,2,FALSE))","v":""}]
[{"$f":"IF([1]ItemConfig!$A558=\"\",\"\",[1]ItemConfig!$A558)","v":""},{"$f":"IF(A555=\"\",\"\",VLOOKUP(A555,[1]ItemConfig!$A:$B,2,FALSE))","v":""},{"$f":"IF(A555=\"\",\"\",VLOOKUP(A555,[1]ItemConfig!$A:$D,4,FALSE))","v":""},{"$f":"IF(A555=\"\",\"\",VLOOKUP(A555,[1]ItemConfig!$A:$C,3,FALSE))","v":""},{"$f":"IF(A555=\"\",\"\",VLOOKUP(B555,[2]語言配置表!$A:$B,2,FALSE))","v":""},{"$f":"IF(A555=\"\",\"\",VLOOKUP(C555,[2]語言配置表!$A:$B,2,FALSE))","v":""}]
[{"$f":"IF([1]ItemConfig!$A559=\"\",\"\",[1]ItemConfig!$A559)","v":""},{"$f":"IF(A556=\"\",\"\",VLOOKUP(A556,[1]ItemConfig!$A:$B,2,FALSE))","v":""},{"$f":"IF(A556=\"\",\"\",VLOOKUP(A556,[1]ItemConfig!$A:$D,4,FALSE))","v":""},{"$f":"IF(A556=\"\",\"\",VLOOKUP(A556,[1]ItemConfig!$A:$C,3,FALSE))","v":""},{"$f":"IF(A556=\"\",\"\",VLOOKUP(B556,[2]語言配置表!$A:$B,2,FALSE))","v":""},{"$f":"IF(A556=\"\",\"\",VLOOKUP(C556,[2]語言配置表!$A:$B,2,FALSE))","v":""}]
[{"$f":"IF([1]ItemConfig!$A560=\"\",\"\",[1]ItemConfig!$A560)","v":""},{"$f":"IF(A557=\"\",\"\",VLOOKUP(A557,[1]ItemConfig!$A:$B,2,FALSE))","v":""},{"$f":"IF(A557=\"\",\"\",VLOOKUP(A557,[1]ItemConfig!$A:$D,4,FALSE))","v":""},{"$f":"IF(A557=\"\",\"\",VLOOKUP(A557,[1]ItemConfig!$A:$C,3,FALSE))","v":""},{"$f":"IF(A557=\"\",\"\",VLOOKUP(B557,[2]語言配置表!$A:$B,2,FALSE))","v":""},{"$f":"IF(A557=\"\",\"\",VLOOKUP(C557,[2]語言配置表!$A:$B,2,FALSE))","v":""}]
[{"$f":"IF([1]ItemConfig!$A561=\"\",\"\",[1]ItemConfig!$A561)","v":""},{"$f":"IF(A558=\"\",\"\",VLOOKUP(A558,[1]ItemConfig!$A:$B,2,FALSE))","v":""},{"$f":"IF(A558=\"\",\"\",VLOOKUP(A558,[1]ItemConfig!$A:$D,4,FALSE))","v":""},{"$f":"IF(A558=\"\",\"\",VLOOKUP(A558,[1]ItemConfig!$A:$C,3,FALSE))","v":""},{"$f":"IF(A558=\"\",\"\",VLOOKUP(B558,[2]語言配置表!$A:$B,2,FALSE))","v":""},{"$f":"IF(A558=\"\",\"\",VLOOKUP(C558,[2]語言配置表!$A:$B,2,FALSE))","v":""}]
[{"$f":"IF([1]ItemConfig!$A562=\"\",\"\",[1]ItemConfig!$A562)","v":""},{"$f":"IF(A559=\"\",\"\",VLOOKUP(A559,[1]ItemConfig!$A:$B,2,FALSE))","v":""},{"$f":"IF(A559=\"\",\"\",VLOOKUP(A559,[1]ItemConfig!$A:$D,4,FALSE))","v":""},{"$f":"IF(A559=\"\",\"\",VLOOKUP(A559,[1]ItemConfig!$A:$C,3,FALSE))","v":""},{"$f":"IF(A559=\"\",\"\",VLOOKUP(B559,[2]語言配置表!$A:$B,2,FALSE))","v":""},{"$f":"IF(A559=\"\",\"\",VLOOKUP(C559,[2]語言配置表!$A:$B,2,FALSE))","v":""}]
[{"$f":"IF([1]ItemConfig!$A563=\"\",\"\",[1]ItemConfig!$A563)","v":""},{"$f":"IF(A560=\"\",\"\",VLOOKUP(A560,[1]ItemConfig!$A:$B,2,FALSE))","v":""},{"$f":"IF(A560=\"\",\"\",VLOOKUP(A560,[1]ItemConfig!$A:$D,4,FALSE))","v":""},{"$f":"IF(A560=\"\",\"\",VLOOKUP(A560,[1]ItemConfig!$A:$C,3,FALSE))","v":""},{"$f":"IF(A560=\"\",\"\",VLOOKUP(B560,[2]語言配置表!$A:$B,2,FALSE))","v":""},{"$f":"IF(A560=\"\",\"\",VLOOKUP(C560,[2]語言配置表!$A:$B,2,FALSE))","v":""}]
[{"$f":"IF([1]ItemConfig!$A564=\"\",\"\",[1]ItemConfig!$A564)","v":""},{"$f":"IF(A561=\"\",\"\",VLOOKUP(A561,[1]ItemConfig!$A:$B,2,FALSE))","v":""},{"$f":"IF(A561=\"\",\"\",VLOOKUP(A561,[1]ItemConfig!$A:$D,4,FALSE))","v":""},{"$f":"IF(A561=\"\",\"\",VLOOKUP(A561,[1]ItemConfig!$A:$C,3,FALSE))","v":""},{"$f":"IF(A561=\"\",\"\",VLOOKUP(B561,[2]語言配置表!$A:$B,2,FALSE))","v":""},{"$f":"IF(A561=\"\",\"\",VLOOKUP(C561,[2]語言配置表!$A:$B,2,FALSE))","v":""}]
[{"$f":"IF([1]ItemConfig!$A565=\"\",\"\",[1]ItemConfig!$A565)","v":""},{"$f":"IF(A562=\"\",\"\",VLOOKUP(A562,[1]ItemConfig!$A:$B,2,FALSE))","v":""},{"$f":"IF(A562=\"\",\"\",VLOOKUP(A562,[1]ItemConfig!$A:$D,4,FALSE))","v":""},{"$f":"IF(A562=\"\",\"\",VLOOKUP(A562,[1]ItemConfig!$A:$C,3,FALSE))","v":""},{"$f":"IF(A562=\"\",\"\",VLOOKUP(B562,[2]語言配置表!$A:$B,2,FALSE))","v":""},{"$f":"IF(A562=\"\",\"\",VLOOKUP(C562,[2]語言配置表!$A:$B,2,FALSE))","v":""}]
[{"$f":"IF([1]ItemConfig!$A566=\"\",\"\",[1]ItemConfig!$A566)","v":""},{"$f":"IF(A563=\"\",\"\",VLOOKUP(A563,[1]ItemConfig!$A:$B,2,FALSE))","v":""},{"$f":"IF(A563=\"\",\"\",VLOOKUP(A563,[1]ItemConfig!$A:$D,4,FALSE))","v":""},{"$f":"IF(A563=\"\",\"\",VLOOKUP(A563,[1]ItemConfig!$A:$C,3,FALSE))","v":""},{"$f":"IF(A563=\"\",\"\",VLOOKUP(B563,[2]語言配置表!$A:$B,2,FALSE))","v":""},{"$f":"IF(A563=\"\",\"\",VLOOKUP(C563,[2]語言配置表!$A:$B,2,FALSE))","v":""}]
[{"$f":"IF([1]ItemConfig!$A567=\"\",\"\",[1]ItemConfig!$A567)","v":""},{"$f":"IF(A564=\"\",\"\",VLOOKUP(A564,[1]ItemConfig!$A:$B,2,FALSE))","v":""},{"$f":"IF(A564=\"\",\"\",VLOOKUP(A564,[1]ItemConfig!$A:$D,4,FALSE))","v":""},{"$f":"IF(A564=\"\",\"\",VLOOKUP(A564,[1]ItemConfig!$A:$C,3,FALSE))","v":""},{"$f":"IF(A564=\"\",\"\",VLOOKUP(B564,[2]語言配置表!$A:$B,2,FALSE))","v":""},{"$f":"IF(A564=\"\",\"\",VLOOKUP(C564,[2]語言配置表!$A:$B,2,FALSE))","v":""}]
[{"$f":"IF([1]ItemConfig!$A568=\"\",\"\",[1]ItemConfig!$A568)","v":""},{"$f":"IF(A565=\"\",\"\",VLOOKUP(A565,[1]ItemConfig!$A:$B,2,FALSE))","v":""},{"$f":"IF(A565=\"\",\"\",VLOOKUP(A565,[1]ItemConfig!$A:$D,4,FALSE))","v":""},{"$f":"IF(A565=\"\",\"\",VLOOKUP(A565,[1]ItemConfig!$A:$C,3,FALSE))","v":""},{"$f":"IF(A565=\"\",\"\",VLOOKUP(B565,[2]語言配置表!$A:$B,2,FALSE))","v":""},{"$f":"IF(A565=\"\",\"\",VLOOKUP(C565,[2]語言配置表!$A:$B,2,FALSE))","v":""}]
[{"$f":"IF([1]ItemConfig!$A569=\"\",\"\",[1]ItemConfig!$A569)","v":""},{"$f":"IF(A566=\"\",\"\",VLOOKUP(A566,[1]ItemConfig!$A:$B,2,FALSE))","v":""},{"$f":"IF(A566=\"\",\"\",VLOOKUP(A566,[1]ItemConfig!$A:$D,4,FALSE))","v":""},{"$f":"IF(A566=\"\",\"\",VLOOKUP(A566,[1]ItemConfig!$A:$C,3,FALSE))","v":""},{"$f":"IF(A566=\"\",\"\",VLOOKUP(B566,[2]語言配置表!$A:$B,2,FALSE))","v":""},{"$f":"IF(A566=\"\",\"\",VLOOKUP(C566,[2]語言配置表!$A:$B,2,FALSE))","v":""}]
[{"$f":"IF([1]ItemConfig!$A570=\"\",\"\",[1]ItemConfig!$A570)","v":""},{"$f":"IF(A567=\"\",\"\",VLOOKUP(A567,[1]ItemConfig!$A:$B,2,FALSE))","v":""},{"$f":"IF(A567=\"\",\"\",VLOOKUP(A567,[1]ItemConfig!$A:$D,4,FALSE))","v":""},{"$f":"IF(A567=\"\",\"\",VLOOKUP(A567,[1]ItemConfig!$A:$C,3,FALSE))","v":""},{"$f":"IF(A567=\"\",\"\",VLOOKUP(B567,[2]語言配置表!$A:$B,2,FALSE))","v":""},{"$f":"IF(A567=\"\",\"\",VLOOKUP(C567,[2]語言配置表!$A:$B,2,FALSE))","v":""}]
[{"$f":"IF([1]ItemConfig!$A571=\"\",\"\",[1]ItemConfig!$A571)","v":""},{"$f":"IF(A568=\"\",\"\",VLOOKUP(A568,[1]ItemConfig!$A:$B,2,FALSE))","v":""},{"$f":"IF(A568=\"\",\"\",VLOOKUP(A568,[1]ItemConfig!$A:$D,4,FALSE))","v":""},{"$f":"IF(A568=\"\",\"\",VLOOKUP(A568,[1]ItemConfig!$A:$C,3,FALSE))","v":""},{"$f":"IF(A568=\"\",\"\",VLOOKUP(B568,[2]語言配置表!$A:$B,2,FALSE))","v":""},{"$f":"IF(A568=\"\",\"\",VLOOKUP(C568,[2]語言配置表!$A:$B,2,FALSE))","v":""}]
[{"$f":"IF([1]ItemConfig!$A572=\"\",\"\",[1]ItemConfig!$A572)","v":""},{"$f":"IF(A569=\"\",\"\",VLOOKUP(A569,[1]ItemConfig!$A:$B,2,FALSE))","v":""},{"$f":"IF(A569=\"\",\"\",VLOOKUP(A569,[1]ItemConfig!$A:$D,4,FALSE))","v":""},{"$f":"IF(A569=\"\",\"\",VLOOKUP(A569,[1]ItemConfig!$A:$C,3,FALSE))","v":""},{"$f":"IF(A569=\"\",\"\",VLOOKUP(B569,[2]語言配置表!$A:$B,2,FALSE))","v":""},{"$f":"IF(A569=\"\",\"\",VLOOKUP(C569,[2]語言配置表!$A:$B,2,FALSE))","v":""}]
[{"$f":"IF([1]ItemConfig!$A573=\"\",\"\",[1]ItemConfig!$A573)","v":""},{"$f":"IF(A570=\"\",\"\",VLOOKUP(A570,[1]ItemConfig!$A:$B,2,FALSE))","v":""},{"$f":"IF(A570=\"\",\"\",VLOOKUP(A570,[1]ItemConfig!$A:$D,4,FALSE))","v":""},{"$f":"IF(A570=\"\",\"\",VLOOKUP(A570,[1]ItemConfig!$A:$C,3,FALSE))","v":""},{"$f":"IF(A570=\"\",\"\",VLOOKUP(B570,[2]語言配置表!$A:$B,2,FALSE))","v":""},{"$f":"IF(A570=\"\",\"\",VLOOKUP(C570,[2]語言配置表!$A:$B,2,FALSE))","v":""}]
[{"$f":"IF([1]ItemConfig!$A574=\"\",\"\",[1]ItemConfig!$A574)","v":""},{"$f":"IF(A571=\"\",\"\",VLOOKUP(A571,[1]ItemConfig!$A:$B,2,FALSE))","v":""},{"$f":"IF(A571=\"\",\"\",VLOOKUP(A571,[1]ItemConfig!$A:$D,4,FALSE))","v":""},{"$f":"IF(A571=\"\",\"\",VLOOKUP(A571,[1]ItemConfig!$A:$C,3,FALSE))","v":""},{"$f":"IF(A571=\"\",\"\",VLOOKUP(B571,[2]語言配置表!$A:$B,2,FALSE))","v":""},{"$f":"IF(A571=\"\",\"\",VLOOKUP(C571,[2]語言配置表!$A:$B,2,FALSE))","v":""}]
[{"$f":"IF([1]ItemConfig!$A575=\"\",\"\",[1]ItemConfig!$A575)","v":""},{"$f":"IF(A572=\"\",\"\",VLOOKUP(A572,[1]ItemConfig!$A:$B,2,FALSE))","v":""},{"$f":"IF(A572=\"\",\"\",VLOOKUP(A572,[1]ItemConfig!$A:$D,4,FALSE))","v":""},{"$f":"IF(A572=\"\",\"\",VLOOKUP(A572,[1]ItemConfig!$A:$C,3,FALSE))","v":""},{"$f":"IF(A572=\"\",\"\",VLOOKUP(B572,[2]語言配置表!$A:$B,2,FALSE))","v":""},{"$f":"IF(A572=\"\",\"\",VLOOKUP(C572,[2]語言配置表!$A:$B,2,FALSE))","v":""}]
[{"$f":"IF([1]ItemConfig!$A576=\"\",\"\",[1]ItemConfig!$A576)","v":""},{"$f":"IF(A573=\"\",\"\",VLOOKUP(A573,[1]ItemConfig!$A:$B,2,FALSE))","v":""},{"$f":"IF(A573=\"\",\"\",VLOOKUP(A573,[1]ItemConfig!$A:$D,4,FALSE))","v":""},{"$f":"IF(A573=\"\",\"\",VLOOKUP(A573,[1]ItemConfig!$A:$C,3,FALSE))","v":""},{"$f":"IF(A573=\"\",\"\",VLOOKUP(B573,[2]語言配置表!$A:$B,2,FALSE))","v":""},{"$f":"IF(A573=\"\",\"\",VLOOKUP(C573,[2]語言配置表!$A:$B,2,FALSE))","v":""}]
[{"$f":"IF([1]ItemConfig!$A577=\"\",\"\",[1]ItemConfig!$A577)","v":""},{"$f":"IF(A574=\"\",\"\",VLOOKUP(A574,[1]ItemConfig!$A:$B,2,FALSE))","v":""},{"$f":"IF(A574=\"\",\"\",VLOOKUP(A574,[1]ItemConfig!$A:$D,4,FALSE))","v":""},{"$f":"IF(A574=\"\",\"\",VLOOKUP(A574,[1]ItemConfig!$A:$C,3,FALSE))","v":""},{"$f":"IF(A574=\"\",\"\",VLOOKUP(B574,[2]語言配置表!$A:$B,2,FALSE))","v":""},{"$f":"IF(A574=\"\",\"\",VLOOKUP(C574,[2]語言配置表!$A:$B,2,FALSE))","v":""}]
[{"$f":"IF([1]ItemConfig!$A578=\"\",\"\",[1]ItemConfig!$A578)","v":""},{"$f":"IF(A575=\"\",\"\",VLOOKUP(A575,[1]ItemConfig!$A:$B,2,FALSE))","v":""},{"$f":"IF(A575=\"\",\"\",VLOOKUP(A575,[1]ItemConfig!$A:$D,4,FALSE))","v":""},{"$f":"IF(A575=\"\",\"\",VLOOKUP(A575,[1]ItemConfig!$A:$C,3,FALSE))","v":""},{"$f":"IF(A575=\"\",\"\",VLOOKUP(B575,[2]語言配置表!$A:$B,2,FALSE))","v":""},{"$f":"IF(A575=\"\",\"\",VLOOKUP(C575,[2]語言配置表!$A:$B,2,FALSE))","v":""}]
[{"$f":"IF([1]ItemConfig!$A579=\"\",\"\",[1]ItemConfig!$A579)","v":""},{"$f":"IF(A576=\"\",\"\",VLOOKUP(A576,[1]ItemConfig!$A:$B,2,FALSE))","v":""},{"$f":"IF(A576=\"\",\"\",VLOOKUP(A576,[1]ItemConfig!$A:$D,4,FALSE))","v":""},{"$f":"IF(A576=\"\",\"\",VLOOKUP(A576,[1]ItemConfig!$A:$C,3,FALSE))","v":""},{"$f":"IF(A576=\"\",\"\",VLOOKUP(B576,[2]語言配置表!$A:$B,2,FALSE))","v":""},{"$f":"IF(A576=\"\",\"\",VLOOKUP(C576,[2]語言配置表!$A:$B,2,FALSE))","v":""}]
[{"$f":"IF([1]ItemConfig!$A580=\"\",\"\",[1]ItemConfig!$A580)","v":""},{"$f":"IF(A577=\"\",\"\",VLOOKUP(A577,[1]ItemConfig!$A:$B,2,FALSE))","v":""},{"$f":"IF(A577=\"\",\"\",VLOOKUP(A577,[1]ItemConfig!$A:$D,4,FALSE))","v":""},{"$f":"IF(A577=\"\",\"\",VLOOKUP(A577,[1]ItemConfig!$A:$C,3,FALSE))","v":""},{"$f":"IF(A577=\"\",\"\",VLOOKUP(B577,[2]語言配置表!$A:$B,2,FALSE))","v":""},{"$f":"IF(A577=\"\",\"\",VLOOKUP(C577,[2]語言配置表!$A:$B,2,FALSE))","v":""}]
[{"$f":"IF([1]ItemConfig!$A581=\"\",\"\",[1]ItemConfig!$A581)","v":""},{"$f":"IF(A578=\"\",\"\",VLOOKUP(A578,[1]ItemConfig!$A:$B,2,FALSE))","v":""},{"$f":"IF(A578=\"\",\"\",VLOOKUP(A578,[1]ItemConfig!$A:$D,4,FALSE))","v":""},{"$f":"IF(A578=\"\",\"\",VLOOKUP(A578,[1]ItemConfig!$A:$C,3,FALSE))","v":""},{"$f":"IF(A578=\"\",\"\",VLOOKUP(B578,[2]語言配置表!$A:$B,2,FALSE))","v":""},{"$f":"IF(A578=\"\",\"\",VLOOKUP(C578,[2]語言配置表!$A:$B,2,FALSE))","v":""}]
[{"$f":"IF([1]ItemConfig!$A582=\"\",\"\",[1]ItemConfig!$A582)","v":""},{"$f":"IF(A579=\"\",\"\",VLOOKUP(A579,[1]ItemConfig!$A:$B,2,FALSE))","v":""},{"$f":"IF(A579=\"\",\"\",VLOOKUP(A579,[1]ItemConfig!$A:$D,4,FALSE))","v":""},{"$f":"IF(A579=\"\",\"\",VLOOKUP(A579,[1]ItemConfig!$A:$C,3,FALSE))","v":""},{"$f":"IF(A579=\"\",\"\",VLOOKUP(B579,[2]語言配置表!$A:$B,2,FALSE))","v":""},{"$f":"IF(A579=\"\",\"\",VLOOKUP(C579,[2]語言配置表!$A:$B,2,FALSE))","v":""}]
[{"$f":"IF([1]ItemConfig!$A583=\"\",\"\",[1]ItemConfig!$A583)","v":""},{"$f":"IF(A580=\"\",\"\",VLOOKUP(A580,[1]ItemConfig!$A:$B,2,FALSE))","v":""},{"$f":"IF(A580=\"\",\"\",VLOOKUP(A580,[1]ItemConfig!$A:$D,4,FALSE))","v":""},{"$f":"IF(A580=\"\",\"\",VLOOKUP(A580,[1]ItemConfig!$A:$C,3,FALSE))","v":""},{"$f":"IF(A580=\"\",\"\",VLOOKUP(B580,[2]語言配置表!$A:$B,2,FALSE))","v":""},{"$f":"IF(A580=\"\",\"\",VLOOKUP(C580,[2]語言配置表!$A:$B,2,FALSE))","v":""}]
[{"$f":"IF([1]ItemConfig!$A584=\"\",\"\",[1]ItemConfig!$A584)","v":""},{"$f":"IF(A581=\"\",\"\",VLOOKUP(A581,[1]ItemConfig!$A:$B,2,FALSE))","v":""},{"$f":"IF(A581=\"\",\"\",VLOOKUP(A581,[1]ItemConfig!$A:$D,4,FALSE))","v":""},{"$f":"IF(A581=\"\",\"\",VLOOKUP(A581,[1]ItemConfig!$A:$C,3,FALSE))","v":""},{"$f":"IF(A581=\"\",\"\",VLOOKUP(B581,[2]語言配置表!$A:$B,2,FALSE))","v":""},{"$f":"IF(A581=\"\",\"\",VLOOKUP(C581,[2]語言配置表!$A:$B,2,FALSE))","v":""}]
[{"$f":"IF([1]ItemConfig!$A585=\"\",\"\",[1]ItemConfig!$A585)","v":""},{"$f":"IF(A582=\"\",\"\",VLOOKUP(A582,[1]ItemConfig!$A:$B,2,FALSE))","v":""},{"$f":"IF(A582=\"\",\"\",VLOOKUP(A582,[1]ItemConfig!$A:$D,4,FALSE))","v":""},{"$f":"IF(A582=\"\",\"\",VLOOKUP(A582,[1]ItemConfig!$A:$C,3,FALSE))","v":""},{"$f":"IF(A582=\"\",\"\",VLOOKUP(B582,[2]語言配置表!$A:$B,2,FALSE))","v":""},{"$f":"IF(A582=\"\",\"\",VLOOKUP(C582,[2]語言配置表!$A:$B,2,FALSE))","v":""}]
[{"$f":"IF([1]ItemConfig!$A586=\"\",\"\",[1]ItemConfig!$A586)","v":""},{"$f":"IF(A583=\"\",\"\",VLOOKUP(A583,[1]ItemConfig!$A:$B,2,FALSE))","v":""},{"$f":"IF(A583=\"\",\"\",VLOOKUP(A583,[1]ItemConfig!$A:$D,4,FALSE))","v":""},{"$f":"IF(A583=\"\",\"\",VLOOKUP(A583,[1]ItemConfig!$A:$C,3,FALSE))","v":""},{"$f":"IF(A583=\"\",\"\",VLOOKUP(B583,[2]語言配置表!$A:$B,2,FALSE))","v":""},{"$f":"IF(A583=\"\",\"\",VLOOKUP(C583,[2]語言配置表!$A:$B,2,FALSE))","v":""}]
[{"$f":"IF([1]ItemConfig!$A587=\"\",\"\",[1]ItemConfig!$A587)","v":""},{"$f":"IF(A584=\"\",\"\",VLOOKUP(A584,[1]ItemConfig!$A:$B,2,FALSE))","v":""},{"$f":"IF(A584=\"\",\"\",VLOOKUP(A584,[1]ItemConfig!$A:$D,4,FALSE))","v":""},{"$f":"IF(A584=\"\",\"\",VLOOKUP(A584,[1]ItemConfig!$A:$C,3,FALSE))","v":""},{"$f":"IF(A584=\"\",\"\",VLOOKUP(B584,[2]語言配置表!$A:$B,2,FALSE))","v":""},{"$f":"IF(A584=\"\",\"\",VLOOKUP(C584,[2]語言配置表!$A:$B,2,FALSE))","v":""}]
[{"$f":"IF([1]ItemConfig!$A588=\"\",\"\",[1]ItemConfig!$A588)","v":""},{"$f":"IF(A585=\"\",\"\",VLOOKUP(A585,[1]ItemConfig!$A:$B,2,FALSE))","v":""},{"$f":"IF(A585=\"\",\"\",VLOOKUP(A585,[1]ItemConfig!$A:$D,4,FALSE))","v":""},{"$f":"IF(A585=\"\",\"\",VLOOKUP(A585,[1]ItemConfig!$A:$C,3,FALSE))","v":""},{"$f":"IF(A585=\"\",\"\",VLOOKUP(B585,[2]語言配置表!$A:$B,2,FALSE))","v":""},{"$f":"IF(A585=\"\",\"\",VLOOKUP(C585,[2]語言配置表!$A:$B,2,FALSE))","v":""}]
[{"$f":"IF([1]ItemConfig!$A589=\"\",\"\",[1]ItemConfig!$A589)","v":""},{"$f":"IF(A586=\"\",\"\",VLOOKUP(A586,[1]ItemConfig!$A:$B,2,FALSE))","v":""},{"$f":"IF(A586=\"\",\"\",VLOOKUP(A586,[1]ItemConfig!$A:$D,4,FALSE))","v":""},{"$f":"IF(A586=\"\",\"\",VLOOKUP(A586,[1]ItemConfig!$A:$C,3,FALSE))","v":""},{"$f":"IF(A586=\"\",\"\",VLOOKUP(B586,[2]語言配置表!$A:$B,2,FALSE))","v":""},{"$f":"IF(A586=\"\",\"\",VLOOKUP(C586,[2]語言配置表!$A:$B,2,FALSE))","v":""}]
[{"$f":"IF([1]ItemConfig!$A590=\"\",\"\",[1]ItemConfig!$A590)","v":""},{"$f":"IF(A587=\"\",\"\",VLOOKUP(A587,[1]ItemConfig!$A:$B,2,FALSE))","v":""},{"$f":"IF(A587=\"\",\"\",VLOOKUP(A587,[1]ItemConfig!$A:$D,4,FALSE))","v":""},{"$f":"IF(A587=\"\",\"\",VLOOKUP(A587,[1]ItemConfig!$A:$C,3,FALSE))","v":""},{"$f":"IF(A587=\"\",\"\",VLOOKUP(B587,[2]語言配置表!$A:$B,2,FALSE))","v":""},{"$f":"IF(A587=\"\",\"\",VLOOKUP(C587,[2]語言配置表!$A:$B,2,FALSE))","v":""}]
[{"$f":"IF([1]ItemConfig!$A591=\"\",\"\",[1]ItemConfig!$A591)","v":""},{"$f":"IF(A588=\"\",\"\",VLOOKUP(A588,[1]ItemConfig!$A:$B,2,FALSE))","v":""},{"$f":"IF(A588=\"\",\"\",VLOOKUP(A588,[1]ItemConfig!$A:$D,4,FALSE))","v":""},{"$f":"IF(A588=\"\",\"\",VLOOKUP(A588,[1]ItemConfig!$A:$C,3,FALSE))","v":""},{"$f":"IF(A588=\"\",\"\",VLOOKUP(B588,[2]語言配置表!$A:$B,2,FALSE))","v":""},{"$f":"IF(A588=\"\",\"\",VLOOKUP(C588,[2]語言配置表!$A:$B,2,FALSE))","v":""}]
[{"$f":"IF([1]ItemConfig!$A592=\"\",\"\",[1]ItemConfig!$A592)","v":""},{"$f":"IF(A589=\"\",\"\",VLOOKUP(A589,[1]ItemConfig!$A:$B,2,FALSE))","v":""},{"$f":"IF(A589=\"\",\"\",VLOOKUP(A589,[1]ItemConfig!$A:$D,4,FALSE))","v":""},{"$f":"IF(A589=\"\",\"\",VLOOKUP(A589,[1]ItemConfig!$A:$C,3,FALSE))","v":""},{"$f":"IF(A589=\"\",\"\",VLOOKUP(B589,[2]語言配置表!$A:$B,2,FALSE))","v":""},{"$f":"IF(A589=\"\",\"\",VLOOKUP(C589,[2]語言配置表!$A:$B,2,FALSE))","v":""}]
[{"$f":"IF([1]ItemConfig!$A593=\"\",\"\",[1]ItemConfig!$A593)","v":""},{"$f":"IF(A590=\"\",\"\",VLOOKUP(A590,[1]ItemConfig!$A:$B,2,FALSE))","v":""},{"$f":"IF(A590=\"\",\"\",VLOOKUP(A590,[1]ItemConfig!$A:$D,4,FALSE))","v":""},{"$f":"IF(A590=\"\",\"\",VLOOKUP(A590,[1]ItemConfig!$A:$C,3,FALSE))","v":""},{"$f":"IF(A590=\"\",\"\",VLOOKUP(B590,[2]語言配置表!$A:$B,2,FALSE))","v":""},{"$f":"IF(A590=\"\",\"\",VLOOKUP(C590,[2]語言配置表!$A:$B,2,FALSE))","v":""}]
[{"$f":"IF([1]ItemConfig!$A594=\"\",\"\",[1]ItemConfig!$A594)","v":""},{"$f":"IF(A591=\"\",\"\",VLOOKUP(A591,[1]ItemConfig!$A:$B,2,FALSE))","v":""},{"$f":"IF(A591=\"\",\"\",VLOOKUP(A591,[1]ItemConfig!$A:$D,4,FALSE))","v":""},{"$f":"IF(A591=\"\",\"\",VLOOKUP(A591,[1]ItemConfig!$A:$C,3,FALSE))","v":""},{"$f":"IF(A591=\"\",\"\",VLOOKUP(B591,[2]語言配置表!$A:$B,2,FALSE))","v":""},{"$f":"IF(A591=\"\",\"\",VLOOKUP(C591,[2]語言配置表!$A:$B,2,FALSE))","v":""}]
[{"$f":"IF([1]ItemConfig!$A595=\"\",\"\",[1]ItemConfig!$A595)","v":""},{"$f":"IF(A592=\"\",\"\",VLOOKUP(A592,[1]ItemConfig!$A:$B,2,FALSE))","v":""},{"$f":"IF(A592=\"\",\"\",VLOOKUP(A592,[1]ItemConfig!$A:$D,4,FALSE))","v":""},{"$f":"IF(A592=\"\",\"\",VLOOKUP(A592,[1]ItemConfig!$A:$C,3,FALSE))","v":""},{"$f":"IF(A592=\"\",\"\",VLOOKUP(B592,[2]語言配置表!$A:$B,2,FALSE))","v":""},{"$f":"IF(A592=\"\",\"\",VLOOKUP(C592,[2]語言配置表!$A:$B,2,FALSE))","v":""}]
[{"$f":"IF([1]ItemConfig!$A596=\"\",\"\",[1]ItemConfig!$A596)","v":""},{"$f":"IF(A593=\"\",\"\",VLOOKUP(A593,[1]ItemConfig!$A:$B,2,FALSE))","v":""},{"$f":"IF(A593=\"\",\"\",VLOOKUP(A593,[1]ItemConfig!$A:$D,4,FALSE))","v":""},{"$f":"IF(A593=\"\",\"\",VLOOKUP(A593,[1]ItemConfig!$A:$C,3,FALSE))","v":""},{"$f":"IF(A593=\"\",\"\",VLOOKUP(B593,[2]語言配置表!$A:$B,2,FALSE))","v":""},{"$f":"IF(A593=\"\",\"\",VLOOKUP(C593,[2]語言配置表!$A:$B,2,FALSE))","v":""}]
[{"$f":"IF([1]ItemConfig!$A597=\"\",\"\",[1]ItemConfig!$A597)","v":""},{"$f":"IF(A594=\"\",\"\",VLOOKUP(A594,[1]ItemConfig!$A:$B,2,FALSE))","v":""},{"$f":"IF(A594=\"\",\"\",VLOOKUP(A594,[1]ItemConfig!$A:$D,4,FALSE))","v":""},{"$f":"IF(A594=\"\",\"\",VLOOKUP(A594,[1]ItemConfig!$A:$C,3,FALSE))","v":""},{"$f":"IF(A594=\"\",\"\",VLOOKUP(B594,[2]語言配置表!$A:$B,2,FALSE))","v":""},{"$f":"IF(A594=\"\",\"\",VLOOKUP(C594,[2]語言配置表!$A:$B,2,FALSE))","v":""}]
[{"$f":"IF([1]ItemConfig!$A598=\"\",\"\",[1]ItemConfig!$A598)","v":""},{"$f":"IF(A595=\"\",\"\",VLOOKUP(A595,[1]ItemConfig!$A:$B,2,FALSE))","v":""},{"$f":"IF(A595=\"\",\"\",VLOOKUP(A595,[1]ItemConfig!$A:$D,4,FALSE))","v":""},{"$f":"IF(A595=\"\",\"\",VLOOKUP(A595,[1]ItemConfig!$A:$C,3,FALSE))","v":""},{"$f":"IF(A595=\"\",\"\",VLOOKUP(B595,[2]語言配置表!$A:$B,2,FALSE))","v":""},{"$f":"IF(A595=\"\",\"\",VLOOKUP(C595,[2]語言配置表!$A:$B,2,FALSE))","v":""}]
[{"$f":"IF([1]ItemConfig!$A599=\"\",\"\",[1]ItemConfig!$A599)","v":""},{"$f":"IF(A596=\"\",\"\",VLOOKUP(A596,[1]ItemConfig!$A:$B,2,FALSE))","v":""},{"$f":"IF(A596=\"\",\"\",VLOOKUP(A596,[1]ItemConfig!$A:$D,4,FALSE))","v":""},{"$f":"IF(A596=\"\",\"\",VLOOKUP(A596,[1]ItemConfig!$A:$C,3,FALSE))","v":""},{"$f":"IF(A596=\"\",\"\",VLOOKUP(B596,[2]語言配置表!$A:$B,2,FALSE))","v":""},{"$f":"IF(A596=\"\",\"\",VLOOKUP(C596,[2]語言配置表!$A:$B,2,FALSE))","v":""}]
[{"$f":"IF([1]ItemConfig!$A600=\"\",\"\",[1]ItemConfig!$A600)","v":""},{"$f":"IF(A597=\"\",\"\",VLOOKUP(A597,[1]ItemConfig!$A:$B,2,FALSE))","v":""},{"$f":"IF(A597=\"\",\"\",VLOOKUP(A597,[1]ItemConfig!$A:$D,4,FALSE))","v":""},{"$f":"IF(A597=\"\",\"\",VLOOKUP(A597,[1]ItemConfig!$A:$C,3,FALSE))","v":""},{"$f":"IF(A597=\"\",\"\",VLOOKUP(B597,[2]語言配置表!$A:$B,2,FALSE))","v":""},{"$f":"IF(A597=\"\",\"\",VLOOKUP(C597,[2]語言配置表!$A:$B,2,FALSE))","v":""}]
[{"$f":"IF([1]ItemConfig!$A601=\"\",\"\",[1]ItemConfig!$A601)","v":""},{"$f":"IF(A598=\"\",\"\",VLOOKUP(A598,[1]ItemConfig!$A:$B,2,FALSE))","v":""},{"$f":"IF(A598=\"\",\"\",VLOOKUP(A598,[1]ItemConfig!$A:$D,4,FALSE))","v":""},{"$f":"IF(A598=\"\",\"\",VLOOKUP(A598,[1]ItemConfig!$A:$C,3,FALSE))","v":""},{"$f":"IF(A598=\"\",\"\",VLOOKUP(B598,[2]語言配置表!$A:$B,2,FALSE))","v":""},{"$f":"IF(A598=\"\",\"\",VLOOKUP(C598,[2]語言配置表!$A:$B,2,FALSE))","v":""}]
[{"$f":"IF([1]ItemConfig!$A602=\"\",\"\",[1]ItemConfig!$A602)","v":""},{"$f":"IF(A599=\"\",\"\",VLOOKUP(A599,[1]ItemConfig!$A:$B,2,FALSE))","v":""},{"$f":"IF(A599=\"\",\"\",VLOOKUP(A599,[1]ItemConfig!$A:$D,4,FALSE))","v":""},{"$f":"IF(A599=\"\",\"\",VLOOKUP(A599,[1]ItemConfig!$A:$C,3,FALSE))","v":""},{"$f":"IF(A599=\"\",\"\",VLOOKUP(B599,[2]語言配置表!$A:$B,2,FALSE))","v":""},{"$f":"IF(A599=\"\",\"\",VLOOKUP(C599,[2]語言配置表!$A:$B,2,FALSE))","v":""}]
[{"$f":"IF([1]ItemConfig!$A603=\"\",\"\",[1]ItemConfig!$A603)","v":""},{"$f":"IF(A600=\"\",\"\",VLOOKUP(A600,[1]ItemConfig!$A:$B,2,FALSE))","v":""},{"$f":"IF(A600=\"\",\"\",VLOOKUP(A600,[1]ItemConfig!$A:$D,4,FALSE))","v":""},{"$f":"IF(A600=\"\",\"\",VLOOKUP(A600,[1]ItemConfig!$A:$C,3,FALSE))","v":""},{"$f":"IF(A600=\"\",\"\",VLOOKUP(B600,[2]語言配置表!$A:$B,2,FALSE))","v":""},{"$f":"IF(A600=\"\",\"\",VLOOKUP(C600,[2]語言配置表!$A:$B,2,FALSE))","v":""}]
[{"$f":"IF([1]ItemConfig!$A604=\"\",\"\",[1]ItemConfig!$A604)","v":""},{"$f":"IF(A601=\"\",\"\",VLOOKUP(A601,[1]ItemConfig!$A:$B,2,FALSE))","v":""},{"$f":"IF(A601=\"\",\"\",VLOOKUP(A601,[1]ItemConfig!$A:$D,4,FALSE))","v":""},{"$f":"IF(A601=\"\",\"\",VLOOKUP(A601,[1]ItemConfig!$A:$C,3,FALSE))","v":""},{"$f":"IF(A601=\"\",\"\",VLOOKUP(B601,[2]語言配置表!$A:$B,2,FALSE))","v":""},{"$f":"IF(A601=\"\",\"\",VLOOKUP(C601,[2]語言配置表!$A:$B,2,FALSE))","v":""}]
[{"$f":"IF([1]ItemConfig!$A605=\"\",\"\",[1]ItemConfig!$A605)","v":""},{"$f":"IF(A602=\"\",\"\",VLOOKUP(A602,[1]ItemConfig!$A:$B,2,FALSE))","v":""},{"$f":"IF(A602=\"\",\"\",VLOOKUP(A602,[1]ItemConfig!$A:$D,4,FALSE))","v":""},{"$f":"IF(A602=\"\",\"\",VLOOKUP(A602,[1]ItemConfig!$A:$C,3,FALSE))","v":""},{"$f":"IF(A602=\"\",\"\",VLOOKUP(B602,[2]語言配置表!$A:$B,2,FALSE))","v":""},{"$f":"IF(A602=\"\",\"\",VLOOKUP(C602,[2]語言配置表!$A:$B,2,FALSE))","v":""}]
[{"$f":"IF([1]ItemConfig!$A606=\"\",\"\",[1]ItemConfig!$A606)","v":""},{"$f":"IF(A603=\"\",\"\",VLOOKUP(A603,[1]ItemConfig!$A:$B,2,FALSE))","v":""},{"$f":"IF(A603=\"\",\"\",VLOOKUP(A603,[1]ItemConfig!$A:$D,4,FALSE))","v":""},{"$f":"IF(A603=\"\",\"\",VLOOKUP(A603,[1]ItemConfig!$A:$C,3,FALSE))","v":""},{"$f":"IF(A603=\"\",\"\",VLOOKUP(B603,[2]語言配置表!$A:$B,2,FALSE))","v":""},{"$f":"IF(A603=\"\",\"\",VLOOKUP(C603,[2]語言配置表!$A:$B,2,FALSE))","v":""}]
[{"$f":"IF([1]ItemConfig!$A607=\"\",\"\",[1]ItemConfig!$A607)","v":""},{"$f":"IF(A604=\"\",\"\",VLOOKUP(A604,[1]ItemConfig!$A:$B,2,FALSE))","v":""},{"$f":"IF(A604=\"\",\"\",VLOOKUP(A604,[1]ItemConfig!$A:$D,4,FALSE))","v":""},{"$f":"IF(A604=\"\",\"\",VLOOKUP(A604,[1]ItemConfig!$A:$C,3,FALSE))","v":""},{"$f":"IF(A604=\"\",\"\",VLOOKUP(B604,[2]語言配置表!$A:$B,2,FALSE))","v":""},{"$f":"IF(A604=\"\",\"\",VLOOKUP(C604,[2]語言配置表!$A:$B,2,FALSE))","v":""}]
[{"$f":"IF([1]ItemConfig!$A608=\"\",\"\",[1]ItemConfig!$A608)","v":""},{"$f":"IF(A605=\"\",\"\",VLOOKUP(A605,[1]ItemConfig!$A:$B,2,FALSE))","v":""},{"$f":"IF(A605=\"\",\"\",VLOOKUP(A605,[1]ItemConfig!$A:$D,4,FALSE))","v":""},{"$f":"IF(A605=\"\",\"\",VLOOKUP(A605,[1]ItemConfig!$A:$C,3,FALSE))","v":""},{"$f":"IF(A605=\"\",\"\",VLOOKUP(B605,[2]語言配置表!$A:$B,2,FALSE))","v":""},{"$f":"IF(A605=\"\",\"\",VLOOKUP(C605,[2]語言配置表!$A:$B,2,FALSE))","v":""}]
[{"$f":"IF([1]ItemConfig!$A609=\"\",\"\",[1]ItemConfig!$A609)","v":""},{"$f":"IF(A606=\"\",\"\",VLOOKUP(A606,[1]ItemConfig!$A:$B,2,FALSE))","v":""},{"$f":"IF(A606=\"\",\"\",VLOOKUP(A606,[1]ItemConfig!$A:$D,4,FALSE))","v":""},{"$f":"IF(A606=\"\",\"\",VLOOKUP(A606,[1]ItemConfig!$A:$C,3,FALSE))","v":""},{"$f":"IF(A606=\"\",\"\",VLOOKUP(B606,[2]語言配置表!$A:$B,2,FALSE))","v":""},{"$f":"IF(A606=\"\",\"\",VLOOKUP(C606,[2]語言配置表!$A:$B,2,FALSE))","v":""}]
[{"$f":"IF([1]ItemConfig!$A610=\"\",\"\",[1]ItemConfig!$A610)","v":""},{"$f":"IF(A607=\"\",\"\",VLOOKUP(A607,[1]ItemConfig!$A:$B,2,FALSE))","v":""},{"$f":"IF(A607=\"\",\"\",VLOOKUP(A607,[1]ItemConfig!$A:$D,4,FALSE))","v":""},{"$f":"IF(A607=\"\",\"\",VLOOKUP(A607,[1]ItemConfig!$A:$C,3,FALSE))","v":""},{"$f":"IF(A607=\"\",\"\",VLOOKUP(B607,[2]語言配置表!$A:$B,2,FALSE))","v":""},{"$f":"IF(A607=\"\",\"\",VLOOKUP(C607,[2]語言配置表!$A:$B,2,FALSE))","v":""}]
[{"$f":"IF([1]ItemConfig!$A611=\"\",\"\",[1]ItemConfig!$A611)","v":""},{"$f":"IF(A608=\"\",\"\",VLOOKUP(A608,[1]ItemConfig!$A:$B,2,FALSE))","v":""},{"$f":"IF(A608=\"\",\"\",VLOOKUP(A608,[1]ItemConfig!$A:$D,4,FALSE))","v":""},{"$f":"IF(A608=\"\",\"\",VLOOKUP(A608,[1]ItemConfig!$A:$C,3,FALSE))","v":""},{"$f":"IF(A608=\"\",\"\",VLOOKUP(B608,[2]語言配置表!$A:$B,2,FALSE))","v":""},{"$f":"IF(A608=\"\",\"\",VLOOKUP(C608,[2]語言配置表!$A:$B,2,FALSE))","v":""}]
[{"$f":"IF([1]ItemConfig!$A612=\"\",\"\",[1]ItemConfig!$A612)","v":""},{"$f":"IF(A609=\"\",\"\",VLOOKUP(A609,[1]ItemConfig!$A:$B,2,FALSE))","v":""},{"$f":"IF(A609=\"\",\"\",VLOOKUP(A609,[1]ItemConfig!$A:$D,4,FALSE))","v":""},{"$f":"IF(A609=\"\",\"\",VLOOKUP(A609,[1]ItemConfig!$A:$C,3,FALSE))","v":""},{"$f":"IF(A609=\"\",\"\",VLOOKUP(B609,[2]語言配置表!$A:$B,2,FALSE))","v":""},{"$f":"IF(A609=\"\",\"\",VLOOKUP(C609,[2]語言配置表!$A:$B,2,FALSE))","v":""}]
[{"$f":"IF([1]ItemConfig!$A613=\"\",\"\",[1]ItemConfig!$A613)","v":""},{"$f":"IF(A610=\"\",\"\",VLOOKUP(A610,[1]ItemConfig!$A:$B,2,FALSE))","v":""},{"$f":"IF(A610=\"\",\"\",VLOOKUP(A610,[1]ItemConfig!$A:$D,4,FALSE))","v":""},{"$f":"IF(A610=\"\",\"\",VLOOKUP(A610,[1]ItemConfig!$A:$C,3,FALSE))","v":""},{"$f":"IF(A610=\"\",\"\",VLOOKUP(B610,[2]語言配置表!$A:$B,2,FALSE))","v":""},{"$f":"IF(A610=\"\",\"\",VLOOKUP(C610,[2]語言配置表!$A:$B,2,FALSE))","v":""}]
[{"$f":"IF([1]ItemConfig!$A614=\"\",\"\",[1]ItemConfig!$A614)","v":""},{"$f":"IF(A611=\"\",\"\",VLOOKUP(A611,[1]ItemConfig!$A:$B,2,FALSE))","v":""},{"$f":"IF(A611=\"\",\"\",VLOOKUP(A611,[1]ItemConfig!$A:$D,4,FALSE))","v":""},{"$f":"IF(A611=\"\",\"\",VLOOKUP(A611,[1]ItemConfig!$A:$C,3,FALSE))","v":""},{"$f":"IF(A611=\"\",\"\",VLOOKUP(B611,[2]語言配置表!$A:$B,2,FALSE))","v":""},{"$f":"IF(A611=\"\",\"\",VLOOKUP(C611,[2]語言配置表!$A:$B,2,FALSE))","v":""}]
[{"$f":"IF([1]ItemConfig!$A615=\"\",\"\",[1]ItemConfig!$A615)","v":""},{"$f":"IF(A612=\"\",\"\",VLOOKUP(A612,[1]ItemConfig!$A:$B,2,FALSE))","v":""},{"$f":"IF(A612=\"\",\"\",VLOOKUP(A612,[1]ItemConfig!$A:$D,4,FALSE))","v":""},{"$f":"IF(A612=\"\",\"\",VLOOKUP(A612,[1]ItemConfig!$A:$C,3,FALSE))","v":""},{"$f":"IF(A612=\"\",\"\",VLOOKUP(B612,[2]語言配置表!$A:$B,2,FALSE))","v":""},{"$f":"IF(A612=\"\",\"\",VLOOKUP(C612,[2]語言配置表!$A:$B,2,FALSE))","v":""}]
[{"$f":"IF([1]ItemConfig!$A616=\"\",\"\",[1]ItemConfig!$A616)","v":""},{"$f":"IF(A613=\"\",\"\",VLOOKUP(A613,[1]ItemConfig!$A:$B,2,FALSE))","v":""},{"$f":"IF(A613=\"\",\"\",VLOOKUP(A613,[1]ItemConfig!$A:$D,4,FALSE))","v":""},{"$f":"IF(A613=\"\",\"\",VLOOKUP(A613,[1]ItemConfig!$A:$C,3,FALSE))","v":""},{"$f":"IF(A613=\"\",\"\",VLOOKUP(B613,[2]語言配置表!$A:$B,2,FALSE))","v":""},{"$f":"IF(A613=\"\",\"\",VLOOKUP(C613,[2]語言配置表!$A:$B,2,FALSE))","v":""}]
[{"$f":"IF([1]ItemConfig!$A617=\"\",\"\",[1]ItemConfig!$A617)","v":""},{"$f":"IF(A614=\"\",\"\",VLOOKUP(A614,[1]ItemConfig!$A:$B,2,FALSE))","v":""},{"$f":"IF(A614=\"\",\"\",VLOOKUP(A614,[1]ItemConfig!$A:$D,4,FALSE))","v":""},{"$f":"IF(A614=\"\",\"\",VLOOKUP(A614,[1]ItemConfig!$A:$C,3,FALSE))","v":""},{"$f":"IF(A614=\"\",\"\",VLOOKUP(B614,[2]語言配置表!$A:$B,2,FALSE))","v":""},{"$f":"IF(A614=\"\",\"\",VLOOKUP(C614,[2]語言配置表!$A:$B,2,FALSE))","v":""}]
[{"$f":"IF([1]ItemConfig!$A618=\"\",\"\",[1]ItemConfig!$A618)","v":""},{"$f":"IF(A615=\"\",\"\",VLOOKUP(A615,[1]ItemConfig!$A:$B,2,FALSE))","v":""},{"$f":"IF(A615=\"\",\"\",VLOOKUP(A615,[1]ItemConfig!$A:$D,4,FALSE))","v":""},{"$f":"IF(A615=\"\",\"\",VLOOKUP(A615,[1]ItemConfig!$A:$C,3,FALSE))","v":""},{"$f":"IF(A615=\"\",\"\",VLOOKUP(B615,[2]語言配置表!$A:$B,2,FALSE))","v":""},{"$f":"IF(A615=\"\",\"\",VLOOKUP(C615,[2]語言配置表!$A:$B,2,FALSE))","v":""}]
[{"$f":"IF([1]ItemConfig!$A619=\"\",\"\",[1]ItemConfig!$A619)","v":""},{"$f":"IF(A616=\"\",\"\",VLOOKUP(A616,[1]ItemConfig!$A:$B,2,FALSE))","v":""},{"$f":"IF(A616=\"\",\"\",VLOOKUP(A616,[1]ItemConfig!$A:$D,4,FALSE))","v":""},{"$f":"IF(A616=\"\",\"\",VLOOKUP(A616,[1]ItemConfig!$A:$C,3,FALSE))","v":""},{"$f":"IF(A616=\"\",\"\",VLOOKUP(B616,[2]語言配置表!$A:$B,2,FALSE))","v":""},{"$f":"IF(A616=\"\",\"\",VLOOKUP(C616,[2]語言配置表!$A:$B,2,FALSE))","v":""}]
[{"$f":"IF([1]ItemConfig!$A620=\"\",\"\",[1]ItemConfig!$A620)","v":""},{"$f":"IF(A617=\"\",\"\",VLOOKUP(A617,[1]ItemConfig!$A:$B,2,FALSE))","v":""},{"$f":"IF(A617=\"\",\"\",VLOOKUP(A617,[1]ItemConfig!$A:$D,4,FALSE))","v":""},{"$f":"IF(A617=\"\",\"\",VLOOKUP(A617,[1]ItemConfig!$A:$C,3,FALSE))","v":""},{"$f":"IF(A617=\"\",\"\",VLOOKUP(B617,[2]語言配置表!$A:$B,2,FALSE))","v":""},{"$f":"IF(A617=\"\",\"\",VLOOKUP(C617,[2]語言配置表!$A:$B,2,FALSE))","v":""}]
[{"$f":"IF([1]ItemConfig!$A621=\"\",\"\",[1]ItemConfig!$A621)","v":""},{"$f":"IF(A618=\"\",\"\",VLOOKUP(A618,[1]ItemConfig!$A:$B,2,FALSE))","v":""},{"$f":"IF(A618=\"\",\"\",VLOOKUP(A618,[1]ItemConfig!$A:$D,4,FALSE))","v":""},{"$f":"IF(A618=\"\",\"\",VLOOKUP(A618,[1]ItemConfig!$A:$C,3,FALSE))","v":""},{"$f":"IF(A618=\"\",\"\",VLOOKUP(B618,[2]語言配置表!$A:$B,2,FALSE))","v":""},{"$f":"IF(A618=\"\",\"\",VLOOKUP(C618,[2]語言配置表!$A:$B,2,FALSE))","v":""}]
[{"$f":"IF([1]ItemConfig!$A622=\"\",\"\",[1]ItemConfig!$A622)","v":""},{"$f":"IF(A619=\"\",\"\",VLOOKUP(A619,[1]ItemConfig!$A:$B,2,FALSE))","v":""},{"$f":"IF(A619=\"\",\"\",VLOOKUP(A619,[1]ItemConfig!$A:$D,4,FALSE))","v":""},{"$f":"IF(A619=\"\",\"\",VLOOKUP(A619,[1]ItemConfig!$A:$C,3,FALSE))","v":""},{"$f":"IF(A619=\"\",\"\",VLOOKUP(B619,[2]語言配置表!$A:$B,2,FALSE))","v":""},{"$f":"IF(A619=\"\",\"\",VLOOKUP(C619,[2]語言配置表!$A:$B,2,FALSE))","v":""}]
[{"$f":"IF([1]ItemConfig!$A623=\"\",\"\",[1]ItemConfig!$A623)","v":""},{"$f":"IF(A620=\"\",\"\",VLOOKUP(A620,[1]ItemConfig!$A:$B,2,FALSE))","v":""},{"$f":"IF(A620=\"\",\"\",VLOOKUP(A620,[1]ItemConfig!$A:$D,4,FALSE))","v":""},{"$f":"IF(A620=\"\",\"\",VLOOKUP(A620,[1]ItemConfig!$A:$C,3,FALSE))","v":""},{"$f":"IF(A620=\"\",\"\",VLOOKUP(B620,[2]語言配置表!$A:$B,2,FALSE))","v":""},{"$f":"IF(A620=\"\",\"\",VLOOKUP(C620,[2]語言配置表!$A:$B,2,FALSE))","v":""}]
[{"$f":"IF([1]ItemConfig!$A624=\"\",\"\",[1]ItemConfig!$A624)","v":""},{"$f":"IF(A621=\"\",\"\",VLOOKUP(A621,[1]ItemConfig!$A:$B,2,FALSE))","v":""},{"$f":"IF(A621=\"\",\"\",VLOOKUP(A621,[1]ItemConfig!$A:$D,4,FALSE))","v":""},{"$f":"IF(A621=\"\",\"\",VLOOKUP(A621,[1]ItemConfig!$A:$C,3,FALSE))","v":""},{"$f":"IF(A621=\"\",\"\",VLOOKUP(B621,[2]語言配置表!$A:$B,2,FALSE))","v":""},{"$f":"IF(A621=\"\",\"\",VLOOKUP(C621,[2]語言配置表!$A:$B,2,FALSE))","v":""}]
[{"$f":"IF([1]ItemConfig!$A625=\"\",\"\",[1]ItemConfig!$A625)","v":""},{"$f":"IF(A622=\"\",\"\",VLOOKUP(A622,[1]ItemConfig!$A:$B,2,FALSE))","v":""},{"$f":"IF(A622=\"\",\"\",VLOOKUP(A622,[1]ItemConfig!$A:$D,4,FALSE))","v":""},{"$f":"IF(A622=\"\",\"\",VLOOKUP(A622,[1]ItemConfig!$A:$C,3,FALSE))","v":""},{"$f":"IF(A622=\"\",\"\",VLOOKUP(B622,[2]語言配置表!$A:$B,2,FALSE))","v":""},{"$f":"IF(A622=\"\",\"\",VLOOKUP(C622,[2]語言配置表!$A:$B,2,FALSE))","v":""}]
[{"$f":"IF([1]ItemConfig!$A626=\"\",\"\",[1]ItemConfig!$A626)","v":""},{"$f":"IF(A623=\"\",\"\",VLOOKUP(A623,[1]ItemConfig!$A:$B,2,FALSE))","v":""},{"$f":"IF(A623=\"\",\"\",VLOOKUP(A623,[1]ItemConfig!$A:$D,4,FALSE))","v":""},{"$f":"IF(A623=\"\",\"\",VLOOKUP(A623,[1]ItemConfig!$A:$C,3,FALSE))","v":""},{"$f":"IF(A623=\"\",\"\",VLOOKUP(B623,[2]語言配置表!$A:$B,2,FALSE))","v":""},{"$f":"IF(A623=\"\",\"\",VLOOKUP(C623,[2]語言配置表!$A:$B,2,FALSE))","v":""}]
[{"$f":"IF([1]ItemConfig!$A627=\"\",\"\",[1]ItemConfig!$A627)","v":""},{"$f":"IF(A624=\"\",\"\",VLOOKUP(A624,[1]ItemConfig!$A:$B,2,FALSE))","v":""},{"$f":"IF(A624=\"\",\"\",VLOOKUP(A624,[1]ItemConfig!$A:$D,4,FALSE))","v":""},{"$f":"IF(A624=\"\",\"\",VLOOKUP(A624,[1]ItemConfig!$A:$C,3,FALSE))","v":""},{"$f":"IF(A624=\"\",\"\",VLOOKUP(B624,[2]語言配置表!$A:$B,2,FALSE))","v":""},{"$f":"IF(A624=\"\",\"\",VLOOKUP(C624,[2]語言配置表!$A:$B,2,FALSE))","v":""}]
[{"$f":"IF([1]ItemConfig!$A628=\"\",\"\",[1]ItemConfig!$A628)","v":""},{"$f":"IF(A625=\"\",\"\",VLOOKUP(A625,[1]ItemConfig!$A:$B,2,FALSE))","v":""},{"$f":"IF(A625=\"\",\"\",VLOOKUP(A625,[1]ItemConfig!$A:$D,4,FALSE))","v":""},{"$f":"IF(A625=\"\",\"\",VLOOKUP(A625,[1]ItemConfig!$A:$C,3,FALSE))","v":""},{"$f":"IF(A625=\"\",\"\",VLOOKUP(B625,[2]語言配置表!$A:$B,2,FALSE))","v":""},{"$f":"IF(A625=\"\",\"\",VLOOKUP(C625,[2]語言配置表!$A:$B,2,FALSE))","v":""}]
[{"$f":"IF([1]ItemConfig!$A629=\"\",\"\",[1]ItemConfig!$A629)","v":""},{"$f":"IF(A626=\"\",\"\",VLOOKUP(A626,[1]ItemConfig!$A:$B,2,FALSE))","v":""},{"$f":"IF(A626=\"\",\"\",VLOOKUP(A626,[1]ItemConfig!$A:$D,4,FALSE))","v":""},{"$f":"IF(A626=\"\",\"\",VLOOKUP(A626,[1]ItemConfig!$A:$C,3,FALSE))","v":""},{"$f":"IF(A626=\"\",\"\",VLOOKUP(B626,[2]語言配置表!$A:$B,2,FALSE))","v":""},{"$f":"IF(A626=\"\",\"\",VLOOKUP(C626,[2]語言配置表!$A:$B,2,FALSE))","v":""}]
[{"$f":"IF([1]ItemConfig!$A630=\"\",\"\",[1]ItemConfig!$A630)","v":""},{"$f":"IF(A627=\"\",\"\",VLOOKUP(A627,[1]ItemConfig!$A:$B,2,FALSE))","v":""},{"$f":"IF(A627=\"\",\"\",VLOOKUP(A627,[1]ItemConfig!$A:$D,4,FALSE))","v":""},{"$f":"IF(A627=\"\",\"\",VLOOKUP(A627,[1]ItemConfig!$A:$C,3,FALSE))","v":""},{"$f":"IF(A627=\"\",\"\",VLOOKUP(B627,[2]語言配置表!$A:$B,2,FALSE))","v":""},{"$f":"IF(A627=\"\",\"\",VLOOKUP(C627,[2]語言配置表!$A:$B,2,FALSE))","v":""}]
[{"$f":"IF([1]ItemConfig!$A631=\"\",\"\",[1]ItemConfig!$A631)","v":""},{"$f":"IF(A628=\"\",\"\",VLOOKUP(A628,[1]ItemConfig!$A:$B,2,FALSE))","v":""},{"$f":"IF(A628=\"\",\"\",VLOOKUP(A628,[1]ItemConfig!$A:$D,4,FALSE))","v":""},{"$f":"IF(A628=\"\",\"\",VLOOKUP(A628,[1]ItemConfig!$A:$C,3,FALSE))","v":""},{"$f":"IF(A628=\"\",\"\",VLOOKUP(B628,[2]語言配置表!$A:$B,2,FALSE))","v":""},{"$f":"IF(A628=\"\",\"\",VLOOKUP(C628,[2]語言配置表!$A:$B,2,FALSE))","v":""}]
[{"$f":"IF([1]ItemConfig!$A632=\"\",\"\",[1]ItemConfig!$A632)","v":""},{"$f":"IF(A629=\"\",\"\",VLOOKUP(A629,[1]ItemConfig!$A:$B,2,FALSE))","v":""},{"$f":"IF(A629=\"\",\"\",VLOOKUP(A629,[1]ItemConfig!$A:$D,4,FALSE))","v":""},{"$f":"IF(A629=\"\",\"\",VLOOKUP(A629,[1]ItemConfig!$A:$C,3,FALSE))","v":""},{"$f":"IF(A629=\"\",\"\",VLOOKUP(B629,[2]語言配置表!$A:$B,2,FALSE))","v":""},{"$f":"IF(A629=\"\",\"\",VLOOKUP(C629,[2]語言配置表!$A:$B,2,FALSE))","v":""}]
[{"$f":"IF([1]ItemConfig!$A633=\"\",\"\",[1]ItemConfig!$A633)","v":""},{"$f":"IF(A630=\"\",\"\",VLOOKUP(A630,[1]ItemConfig!$A:$B,2,FALSE))","v":""},{"$f":"IF(A630=\"\",\"\",VLOOKUP(A630,[1]ItemConfig!$A:$D,4,FALSE))","v":""},{"$f":"IF(A630=\"\",\"\",VLOOKUP(A630,[1]ItemConfig!$A:$C,3,FALSE))","v":""},{"$f":"IF(A630=\"\",\"\",VLOOKUP(B630,[2]語言配置表!$A:$B,2,FALSE))","v":""},{"$f":"IF(A630=\"\",\"\",VLOOKUP(C630,[2]語言配置表!$A:$B,2,FALSE))","v":""}]
[{"$f":"IF([1]ItemConfig!$A634=\"\",\"\",[1]ItemConfig!$A634)","v":""},{"$f":"IF(A631=\"\",\"\",VLOOKUP(A631,[1]ItemConfig!$A:$B,2,FALSE))","v":""},{"$f":"IF(A631=\"\",\"\",VLOOKUP(A631,[1]ItemConfig!$A:$D,4,FALSE))","v":""},{"$f":"IF(A631=\"\",\"\",VLOOKUP(A631,[1]ItemConfig!$A:$C,3,FALSE))","v":""},{"$f":"IF(A631=\"\",\"\",VLOOKUP(B631,[2]語言配置表!$A:$B,2,FALSE))","v":""},{"$f":"IF(A631=\"\",\"\",VLOOKUP(C631,[2]語言配置表!$A:$B,2,FALSE))","v":""}]
[{"$f":"IF([1]ItemConfig!$A635=\"\",\"\",[1]ItemConfig!$A635)","v":""},{"$f":"IF(A632=\"\",\"\",VLOOKUP(A632,[1]ItemConfig!$A:$B,2,FALSE))","v":""},{"$f":"IF(A632=\"\",\"\",VLOOKUP(A632,[1]ItemConfig!$A:$D,4,FALSE))","v":""},{"$f":"IF(A632=\"\",\"\",VLOOKUP(A632,[1]ItemConfig!$A:$C,3,FALSE))","v":""},{"$f":"IF(A632=\"\",\"\",VLOOKUP(B632,[2]語言配置表!$A:$B,2,FALSE))","v":""},{"$f":"IF(A632=\"\",\"\",VLOOKUP(C632,[2]語言配置表!$A:$B,2,FALSE))","v":""}]
[{"$f":"IF([1]ItemConfig!$A636=\"\",\"\",[1]ItemConfig!$A636)","v":""},{"$f":"IF(A633=\"\",\"\",VLOOKUP(A633,[1]ItemConfig!$A:$B,2,FALSE))","v":""},{"$f":"IF(A633=\"\",\"\",VLOOKUP(A633,[1]ItemConfig!$A:$D,4,FALSE))","v":""},{"$f":"IF(A633=\"\",\"\",VLOOKUP(A633,[1]ItemConfig!$A:$C,3,FALSE))","v":""},{"$f":"IF(A633=\"\",\"\",VLOOKUP(B633,[2]語言配置表!$A:$B,2,FALSE))","v":""},{"$f":"IF(A633=\"\",\"\",VLOOKUP(C633,[2]語言配置表!$A:$B,2,FALSE))","v":""}]
[{"$f":"IF([1]ItemConfig!$A637=\"\",\"\",[1]ItemConfig!$A637)","v":""},{"$f":"IF(A634=\"\",\"\",VLOOKUP(A634,[1]ItemConfig!$A:$B,2,FALSE))","v":""},{"$f":"IF(A634=\"\",\"\",VLOOKUP(A634,[1]ItemConfig!$A:$D,4,FALSE))","v":""},{"$f":"IF(A634=\"\",\"\",VLOOKUP(A634,[1]ItemConfig!$A:$C,3,FALSE))","v":""},{"$f":"IF(A634=\"\",\"\",VLOOKUP(B634,[2]語言配置表!$A:$B,2,FALSE))","v":""},{"$f":"IF(A634=\"\",\"\",VLOOKUP(C634,[2]語言配置表!$A:$B,2,FALSE))","v":""}]
[{"$f":"IF([1]ItemConfig!$A638=\"\",\"\",[1]ItemConfig!$A638)","v":""},{"$f":"IF(A635=\"\",\"\",VLOOKUP(A635,[1]ItemConfig!$A:$B,2,FALSE))","v":""},{"$f":"IF(A635=\"\",\"\",VLOOKUP(A635,[1]ItemConfig!$A:$D,4,FALSE))","v":""},{"$f":"IF(A635=\"\",\"\",VLOOKUP(A635,[1]ItemConfig!$A:$C,3,FALSE))","v":""},{"$f":"IF(A635=\"\",\"\",VLOOKUP(B635,[2]語言配置表!$A:$B,2,FALSE))","v":""},{"$f":"IF(A635=\"\",\"\",VLOOKUP(C635,[2]語言配置表!$A:$B,2,FALSE))","v":""}]
[{"$f":"IF([1]ItemConfig!$A639=\"\",\"\",[1]ItemConfig!$A639)","v":""},{"$f":"IF(A636=\"\",\"\",VLOOKUP(A636,[1]ItemConfig!$A:$B,2,FALSE))","v":""},{"$f":"IF(A636=\"\",\"\",VLOOKUP(A636,[1]ItemConfig!$A:$D,4,FALSE))","v":""},{"$f":"IF(A636=\"\",\"\",VLOOKUP(A636,[1]ItemConfig!$A:$C,3,FALSE))","v":""},{"$f":"IF(A636=\"\",\"\",VLOOKUP(B636,[2]語言配置表!$A:$B,2,FALSE))","v":""},{"$f":"IF(A636=\"\",\"\",VLOOKUP(C636,[2]語言配置表!$A:$B,2,FALSE))","v":""}]
[{"$f":"IF([1]ItemConfig!$A640=\"\",\"\",[1]ItemConfig!$A640)","v":""},{"$f":"IF(A637=\"\",\"\",VLOOKUP(A637,[1]ItemConfig!$A:$B,2,FALSE))","v":""},{"$f":"IF(A637=\"\",\"\",VLOOKUP(A637,[1]ItemConfig!$A:$D,4,FALSE))","v":""},{"$f":"IF(A637=\"\",\"\",VLOOKUP(A637,[1]ItemConfig!$A:$C,3,FALSE))","v":""},{"$f":"IF(A637=\"\",\"\",VLOOKUP(B637,[2]語言配置表!$A:$B,2,FALSE))","v":""},{"$f":"IF(A637=\"\",\"\",VLOOKUP(C637,[2]語言配置表!$A:$B,2,FALSE))","v":""}]
[{"$f":"IF([1]ItemConfig!$A641=\"\",\"\",[1]ItemConfig!$A641)","v":""},{"$f":"IF(A638=\"\",\"\",VLOOKUP(A638,[1]ItemConfig!$A:$B,2,FALSE))","v":""},{"$f":"IF(A638=\"\",\"\",VLOOKUP(A638,[1]ItemConfig!$A:$D,4,FALSE))","v":""},{"$f":"IF(A638=\"\",\"\",VLOOKUP(A638,[1]ItemConfig!$A:$C,3,FALSE))","v":""},{"$f":"IF(A638=\"\",\"\",VLOOKUP(B638,[2]語言配置表!$A:$B,2,FALSE))","v":""},{"$f":"IF(A638=\"\",\"\",VLOOKUP(C638,[2]語言配置表!$A:$B,2,FALSE))","v":""}]
[{"$f":"IF([1]ItemConfig!$A642=\"\",\"\",[1]ItemConfig!$A642)","v":""},{"$f":"IF(A639=\"\",\"\",VLOOKUP(A639,[1]ItemConfig!$A:$B,2,FALSE))","v":""},{"$f":"IF(A639=\"\",\"\",VLOOKUP(A639,[1]ItemConfig!$A:$D,4,FALSE))","v":""},{"$f":"IF(A639=\"\",\"\",VLOOKUP(A639,[1]ItemConfig!$A:$C,3,FALSE))","v":""},{"$f":"IF(A639=\"\",\"\",VLOOKUP(B639,[2]語言配置表!$A:$B,2,FALSE))","v":""},{"$f":"IF(A639=\"\",\"\",VLOOKUP(C639,[2]語言配置表!$A:$B,2,FALSE))","v":""}]
[{"$f":"IF([1]ItemConfig!$A643=\"\",\"\",[1]ItemConfig!$A643)","v":""},{"$f":"IF(A640=\"\",\"\",VLOOKUP(A640,[1]ItemConfig!$A:$B,2,FALSE))","v":""},{"$f":"IF(A640=\"\",\"\",VLOOKUP(A640,[1]ItemConfig!$A:$D,4,FALSE))","v":""},{"$f":"IF(A640=\"\",\"\",VLOOKUP(A640,[1]ItemConfig!$A:$C,3,FALSE))","v":""},{"$f":"IF(A640=\"\",\"\",VLOOKUP(B640,[2]語言配置表!$A:$B,2,FALSE))","v":""},{"$f":"IF(A640=\"\",\"\",VLOOKUP(C640,[2]語言配置表!$A:$B,2,FALSE))","v":""}]
[{"$f":"IF([1]ItemConfig!$A644=\"\",\"\",[1]ItemConfig!$A644)","v":""},{"$f":"IF(A641=\"\",\"\",VLOOKUP(A641,[1]ItemConfig!$A:$B,2,FALSE))","v":""},{"$f":"IF(A641=\"\",\"\",VLOOKUP(A641,[1]ItemConfig!$A:$D,4,FALSE))","v":""},{"$f":"IF(A641=\"\",\"\",VLOOKUP(A641,[1]ItemConfig!$A:$C,3,FALSE))","v":""},{"$f":"IF(A641=\"\",\"\",VLOOKUP(B641,[2]語言配置表!$A:$B,2,FALSE))","v":""},{"$f":"IF(A641=\"\",\"\",VLOOKUP(C641,[2]語言配置表!$A:$B,2,FALSE))","v":""}]
[{"$f":"IF([1]ItemConfig!$A645=\"\",\"\",[1]ItemConfig!$A645)","v":""},{"$f":"IF(A642=\"\",\"\",VLOOKUP(A642,[1]ItemConfig!$A:$B,2,FALSE))","v":""},{"$f":"IF(A642=\"\",\"\",VLOOKUP(A642,[1]ItemConfig!$A:$D,4,FALSE))","v":""},{"$f":"IF(A642=\"\",\"\",VLOOKUP(A642,[1]ItemConfig!$A:$C,3,FALSE))","v":""},{"$f":"IF(A642=\"\",\"\",VLOOKUP(B642,[2]語言配置表!$A:$B,2,FALSE))","v":""},{"$f":"IF(A642=\"\",\"\",VLOOKUP(C642,[2]語言配置表!$A:$B,2,FALSE))","v":""}]
[{"$f":"IF([1]ItemConfig!$A646=\"\",\"\",[1]ItemConfig!$A646)","v":""},{"$f":"IF(A643=\"\",\"\",VLOOKUP(A643,[1]ItemConfig!$A:$B,2,FALSE))","v":""},{"$f":"IF(A643=\"\",\"\",VLOOKUP(A643,[1]ItemConfig!$A:$D,4,FALSE))","v":""},{"$f":"IF(A643=\"\",\"\",VLOOKUP(A643,[1]ItemConfig!$A:$C,3,FALSE))","v":""},{"$f":"IF(A643=\"\",\"\",VLOOKUP(B643,[2]語言配置表!$A:$B,2,FALSE))","v":""},{"$f":"IF(A643=\"\",\"\",VLOOKUP(C643,[2]語言配置表!$A:$B,2,FALSE))","v":""}]
[{"$f":"IF([1]ItemConfig!$A647=\"\",\"\",[1]ItemConfig!$A647)","v":""},{"$f":"IF(A644=\"\",\"\",VLOOKUP(A644,[1]ItemConfig!$A:$B,2,FALSE))","v":""},{"$f":"IF(A644=\"\",\"\",VLOOKUP(A644,[1]ItemConfig!$A:$D,4,FALSE))","v":""},{"$f":"IF(A644=\"\",\"\",VLOOKUP(A644,[1]ItemConfig!$A:$C,3,FALSE))","v":""},{"$f":"IF(A644=\"\",\"\",VLOOKUP(B644,[2]語言配置表!$A:$B,2,FALSE))","v":""},{"$f":"IF(A644=\"\",\"\",VLOOKUP(C644,[2]語言配置表!$A:$B,2,FALSE))","v":""}]
[{"$f":"IF([1]ItemConfig!$A648=\"\",\"\",[1]ItemConfig!$A648)","v":""},{"$f":"IF(A645=\"\",\"\",VLOOKUP(A645,[1]ItemConfig!$A:$B,2,FALSE))","v":""},{"$f":"IF(A645=\"\",\"\",VLOOKUP(A645,[1]ItemConfig!$A:$D,4,FALSE))","v":""},{"$f":"IF(A645=\"\",\"\",VLOOKUP(A645,[1]ItemConfig!$A:$C,3,FALSE))","v":""},{"$f":"IF(A645=\"\",\"\",VLOOKUP(B645,[2]語言配置表!$A:$B,2,FALSE))","v":""},{"$f":"IF(A645=\"\",\"\",VLOOKUP(C645,[2]語言配置表!$A:$B,2,FALSE))","v":""}]
[{"$f":"IF([1]ItemConfig!$A649=\"\",\"\",[1]ItemConfig!$A649)","v":""},{"$f":"IF(A646=\"\",\"\",VLOOKUP(A646,[1]ItemConfig!$A:$B,2,FALSE))","v":""},{"$f":"IF(A646=\"\",\"\",VLOOKUP(A646,[1]ItemConfig!$A:$D,4,FALSE))","v":""},{"$f":"IF(A646=\"\",\"\",VLOOKUP(A646,[1]ItemConfig!$A:$C,3,FALSE))","v":""},{"$f":"IF(A646=\"\",\"\",VLOOKUP(B646,[2]語言配置表!$A:$B,2,FALSE))","v":""},{"$f":"IF(A646=\"\",\"\",VLOOKUP(C646,[2]語言配置表!$A:$B,2,FALSE))","v":""}]
[{"$f":"IF([1]ItemConfig!$A650=\"\",\"\",[1]ItemConfig!$A650)","v":""},{"$f":"IF(A647=\"\",\"\",VLOOKUP(A647,[1]ItemConfig!$A:$B,2,FALSE))","v":""},{"$f":"IF(A647=\"\",\"\",VLOOKUP(A647,[1]ItemConfig!$A:$D,4,FALSE))","v":""},{"$f":"IF(A647=\"\",\"\",VLOOKUP(A647,[1]ItemConfig!$A:$C,3,FALSE))","v":""},{"$f":"IF(A647=\"\",\"\",VLOOKUP(B647,[2]語言配置表!$A:$B,2,FALSE))","v":""},{"$f":"IF(A647=\"\",\"\",VLOOKUP(C647,[2]語言配置表!$A:$B,2,FALSE))","v":""}]
[{"$f":"IF([1]ItemConfig!$A651=\"\",\"\",[1]ItemConfig!$A651)","v":""},{"$f":"IF(A648=\"\",\"\",VLOOKUP(A648,[1]ItemConfig!$A:$B,2,FALSE))","v":""},{"$f":"IF(A648=\"\",\"\",VLOOKUP(A648,[1]ItemConfig!$A:$D,4,FALSE))","v":""},{"$f":"IF(A648=\"\",\"\",VLOOKUP(A648,[1]ItemConfig!$A:$C,3,FALSE))","v":""},{"$f":"IF(A648=\"\",\"\",VLOOKUP(B648,[2]語言配置表!$A:$B,2,FALSE))","v":""},{"$f":"IF(A648=\"\",\"\",VLOOKUP(C648,[2]語言配置表!$A:$B,2,FALSE))","v":""}]
[{"$f":"IF([1]ItemConfig!$A652=\"\",\"\",[1]ItemConfig!$A652)","v":""},{"$f":"IF(A649=\"\",\"\",VLOOKUP(A649,[1]ItemConfig!$A:$B,2,FALSE))","v":""},{"$f":"IF(A649=\"\",\"\",VLOOKUP(A649,[1]ItemConfig!$A:$D,4,FALSE))","v":""},{"$f":"IF(A649=\"\",\"\",VLOOKUP(A649,[1]ItemConfig!$A:$C,3,FALSE))","v":""},{"$f":"IF(A649=\"\",\"\",VLOOKUP(B649,[2]語言配置表!$A:$B,2,FALSE))","v":""},{"$f":"IF(A649=\"\",\"\",VLOOKUP(C649,[2]語言配置表!$A:$B,2,FALSE))","v":""}]
[{"$f":"IF([1]ItemConfig!$A653=\"\",\"\",[1]ItemConfig!$A653)","v":""},{"$f":"IF(A650=\"\",\"\",VLOOKUP(A650,[1]ItemConfig!$A:$B,2,FALSE))","v":""},{"$f":"IF(A650=\"\",\"\",VLOOKUP(A650,[1]ItemConfig!$A:$D,4,FALSE))","v":""},{"$f":"IF(A650=\"\",\"\",VLOOKUP(A650,[1]ItemConfig!$A:$C,3,FALSE))","v":""},{"$f":"IF(A650=\"\",\"\",VLOOKUP(B650,[2]語言配置表!$A:$B,2,FALSE))","v":""},{"$f":"IF(A650=\"\",\"\",VLOOKUP(C650,[2]語言配置表!$A:$B,2,FALSE))","v":""}]
[{"$f":"IF([1]ItemConfig!$A654=\"\",\"\",[1]ItemConfig!$A654)","v":""},{"$f":"IF(A651=\"\",\"\",VLOOKUP(A651,[1]ItemConfig!$A:$B,2,FALSE))","v":""},{"$f":"IF(A651=\"\",\"\",VLOOKUP(A651,[1]ItemConfig!$A:$D,4,FALSE))","v":""},{"$f":"IF(A651=\"\",\"\",VLOOKUP(A651,[1]ItemConfig!$A:$C,3,FALSE))","v":""},{"$f":"IF(A651=\"\",\"\",VLOOKUP(B651,[2]語言配置表!$A:$B,2,FALSE))","v":""},{"$f":"IF(A651=\"\",\"\",VLOOKUP(C651,[2]語言配置表!$A:$B,2,FALSE))","v":""}]
[{"$f":"IF([1]ItemConfig!$A655=\"\",\"\",[1]ItemConfig!$A655)","v":""},{"$f":"IF(A652=\"\",\"\",VLOOKUP(A652,[1]ItemConfig!$A:$B,2,FALSE))","v":""},{"$f":"IF(A652=\"\",\"\",VLOOKUP(A652,[1]ItemConfig!$A:$D,4,FALSE))","v":""},{"$f":"IF(A652=\"\",\"\",VLOOKUP(A652,[1]ItemConfig!$A:$C,3,FALSE))","v":""},{"$f":"IF(A652=\"\",\"\",VLOOKUP(B652,[2]語言配置表!$A:$B,2,FALSE))","v":""},{"$f":"IF(A652=\"\",\"\",VLOOKUP(C652,[2]語言配置表!$A:$B,2,FALSE))","v":""}]
[{"$f":"IF([1]ItemConfig!$A656=\"\",\"\",[1]ItemConfig!$A656)","v":""},{"$f":"IF(A653=\"\",\"\",VLOOKUP(A653,[1]ItemConfig!$A:$B,2,FALSE))","v":""},{"$f":"IF(A653=\"\",\"\",VLOOKUP(A653,[1]ItemConfig!$A:$D,4,FALSE))","v":""},{"$f":"IF(A653=\"\",\"\",VLOOKUP(A653,[1]ItemConfig!$A:$C,3,FALSE))","v":""},{"$f":"IF(A653=\"\",\"\",VLOOKUP(B653,[2]語言配置表!$A:$B,2,FALSE))","v":""},{"$f":"IF(A653=\"\",\"\",VLOOKUP(C653,[2]語言配置表!$A:$B,2,FALSE))","v":""}]
[{"$f":"IF([1]ItemConfig!$A657=\"\",\"\",[1]ItemConfig!$A657)","v":""},{"$f":"IF(A654=\"\",\"\",VLOOKUP(A654,[1]ItemConfig!$A:$B,2,FALSE))","v":""},{"$f":"IF(A654=\"\",\"\",VLOOKUP(A654,[1]ItemConfig!$A:$D,4,FALSE))","v":""},{"$f":"IF(A654=\"\",\"\",VLOOKUP(A654,[1]ItemConfig!$A:$C,3,FALSE))","v":""},{"$f":"IF(A654=\"\",\"\",VLOOKUP(B654,[2]語言配置表!$A:$B,2,FALSE))","v":""},{"$f":"IF(A654=\"\",\"\",VLOOKUP(C654,[2]語言配置表!$A:$B,2,FALSE))","v":""}]
[{"$f":"IF([1]ItemConfig!$A658=\"\",\"\",[1]ItemConfig!$A658)","v":""},{"$f":"IF(A655=\"\",\"\",VLOOKUP(A655,[1]ItemConfig!$A:$B,2,FALSE))","v":""},{"$f":"IF(A655=\"\",\"\",VLOOKUP(A655,[1]ItemConfig!$A:$D,4,FALSE))","v":""},{"$f":"IF(A655=\"\",\"\",VLOOKUP(A655,[1]ItemConfig!$A:$C,3,FALSE))","v":""},{"$f":"IF(A655=\"\",\"\",VLOOKUP(B655,[2]語言配置表!$A:$B,2,FALSE))","v":""},{"$f":"IF(A655=\"\",\"\",VLOOKUP(C655,[2]語言配置表!$A:$B,2,FALSE))","v":""}]
[{"$f":"IF([1]ItemConfig!$A659=\"\",\"\",[1]ItemConfig!$A659)","v":""},{"$f":"IF(A656=\"\",\"\",VLOOKUP(A656,[1]ItemConfig!$A:$B,2,FALSE))","v":""},{"$f":"IF(A656=\"\",\"\",VLOOKUP(A656,[1]ItemConfig!$A:$D,4,FALSE))","v":""},{"$f":"IF(A656=\"\",\"\",VLOOKUP(A656,[1]ItemConfig!$A:$C,3,FALSE))","v":""},{"$f":"IF(A656=\"\",\"\",VLOOKUP(B656,[2]語言配置表!$A:$B,2,FALSE))","v":""},{"$f":"IF(A656=\"\",\"\",VLOOKUP(C656,[2]語言配置表!$A:$B,2,FALSE))","v":""}]
[{"$f":"IF([1]ItemConfig!$A660=\"\",\"\",[1]ItemConfig!$A660)","v":""},{"$f":"IF(A657=\"\",\"\",VLOOKUP(A657,[1]ItemConfig!$A:$B,2,FALSE))","v":""},{"$f":"IF(A657=\"\",\"\",VLOOKUP(A657,[1]ItemConfig!$A:$D,4,FALSE))","v":""},{"$f":"IF(A657=\"\",\"\",VLOOKUP(A657,[1]ItemConfig!$A:$C,3,FALSE))","v":""},{"$f":"IF(A657=\"\",\"\",VLOOKUP(B657,[2]語言配置表!$A:$B,2,FALSE))","v":""},{"$f":"IF(A657=\"\",\"\",VLOOKUP(C657,[2]語言配置表!$A:$B,2,FALSE))","v":""}]
[{"$f":"IF([1]ItemConfig!$A661=\"\",\"\",[1]ItemConfig!$A661)","v":""},{"$f":"IF(A658=\"\",\"\",VLOOKUP(A658,[1]ItemConfig!$A:$B,2,FALSE))","v":""},{"$f":"IF(A658=\"\",\"\",VLOOKUP(A658,[1]ItemConfig!$A:$D,4,FALSE))","v":""},{"$f":"IF(A658=\"\",\"\",VLOOKUP(A658,[1]ItemConfig!$A:$C,3,FALSE))","v":""},{"$f":"IF(A658=\"\",\"\",VLOOKUP(B658,[2]語言配置表!$A:$B,2,FALSE))","v":""},{"$f":"IF(A658=\"\",\"\",VLOOKUP(C658,[2]語言配置表!$A:$B,2,FALSE))","v":""}]
[{"$f":"IF([1]ItemConfig!$A662=\"\",\"\",[1]ItemConfig!$A662)","v":""},{"$f":"IF(A659=\"\",\"\",VLOOKUP(A659,[1]ItemConfig!$A:$B,2,FALSE))","v":""},{"$f":"IF(A659=\"\",\"\",VLOOKUP(A659,[1]ItemConfig!$A:$D,4,FALSE))","v":""},{"$f":"IF(A659=\"\",\"\",VLOOKUP(A659,[1]ItemConfig!$A:$C,3,FALSE))","v":""},{"$f":"IF(A659=\"\",\"\",VLOOKUP(B659,[2]語言配置表!$A:$B,2,FALSE))","v":""},{"$f":"IF(A659=\"\",\"\",VLOOKUP(C659,[2]語言配置表!$A:$B,2,FALSE))","v":""}]
[{"$f":"IF([1]ItemConfig!$A663=\"\",\"\",[1]ItemConfig!$A663)","v":""},{"$f":"IF(A660=\"\",\"\",VLOOKUP(A660,[1]ItemConfig!$A:$B,2,FALSE))","v":""},{"$f":"IF(A660=\"\",\"\",VLOOKUP(A660,[1]ItemConfig!$A:$D,4,FALSE))","v":""},{"$f":"IF(A660=\"\",\"\",VLOOKUP(A660,[1]ItemConfig!$A:$C,3,FALSE))","v":""},{"$f":"IF(A660=\"\",\"\",VLOOKUP(B660,[2]語言配置表!$A:$B,2,FALSE))","v":""},{"$f":"IF(A660=\"\",\"\",VLOOKUP(C660,[2]語言配置表!$A:$B,2,FALSE))","v":""}]
[{"$f":"IF([1]ItemConfig!$A664=\"\",\"\",[1]ItemConfig!$A664)","v":""},{"$f":"IF(A661=\"\",\"\",VLOOKUP(A661,[1]ItemConfig!$A:$B,2,FALSE))","v":""},{"$f":"IF(A661=\"\",\"\",VLOOKUP(A661,[1]ItemConfig!$A:$D,4,FALSE))","v":""},{"$f":"IF(A661=\"\",\"\",VLOOKUP(A661,[1]ItemConfig!$A:$C,3,FALSE))","v":""},{"$f":"IF(A661=\"\",\"\",VLOOKUP(B661,[2]語言配置表!$A:$B,2,FALSE))","v":""},{"$f":"IF(A661=\"\",\"\",VLOOKUP(C661,[2]語言配置表!$A:$B,2,FALSE))","v":""}]
[{"$f":"IF([1]ItemConfig!$A665=\"\",\"\",[1]ItemConfig!$A665)","v":""},{"$f":"IF(A662=\"\",\"\",VLOOKUP(A662,[1]ItemConfig!$A:$B,2,FALSE))","v":""},{"$f":"IF(A662=\"\",\"\",VLOOKUP(A662,[1]ItemConfig!$A:$D,4,FALSE))","v":""},{"$f":"IF(A662=\"\",\"\",VLOOKUP(A662,[1]ItemConfig!$A:$C,3,FALSE))","v":""},{"$f":"IF(A662=\"\",\"\",VLOOKUP(B662,[2]語言配置表!$A:$B,2,FALSE))","v":""},{"$f":"IF(A662=\"\",\"\",VLOOKUP(C662,[2]語言配置表!$A:$B,2,FALSE))","v":""}]
[{"$f":"IF([1]ItemConfig!$A666=\"\",\"\",[1]ItemConfig!$A666)","v":""},{"$f":"IF(A663=\"\",\"\",VLOOKUP(A663,[1]ItemConfig!$A:$B,2,FALSE))","v":""},{"$f":"IF(A663=\"\",\"\",VLOOKUP(A663,[1]ItemConfig!$A:$D,4,FALSE))","v":""},{"$f":"IF(A663=\"\",\"\",VLOOKUP(A663,[1]ItemConfig!$A:$C,3,FALSE))","v":""},{"$f":"IF(A663=\"\",\"\",VLOOKUP(B663,[2]語言配置表!$A:$B,2,FALSE))","v":""},{"$f":"IF(A663=\"\",\"\",VLOOKUP(C663,[2]語言配置表!$A:$B,2,FALSE))","v":""}]
[{"$f":"IF([1]ItemConfig!$A667=\"\",\"\",[1]ItemConfig!$A667)","v":""},{"$f":"IF(A664=\"\",\"\",VLOOKUP(A664,[1]ItemConfig!$A:$B,2,FALSE))","v":""},{"$f":"IF(A664=\"\",\"\",VLOOKUP(A664,[1]ItemConfig!$A:$D,4,FALSE))","v":""},{"$f":"IF(A664=\"\",\"\",VLOOKUP(A664,[1]ItemConfig!$A:$C,3,FALSE))","v":""},{"$f":"IF(A664=\"\",\"\",VLOOKUP(B664,[2]語言配置表!$A:$B,2,FALSE))","v":""},{"$f":"IF(A664=\"\",\"\",VLOOKUP(C664,[2]語言配置表!$A:$B,2,FALSE))","v":""}]
[{"$f":"IF([1]ItemConfig!$A668=\"\",\"\",[1]ItemConfig!$A668)","v":""},{"$f":"IF(A665=\"\",\"\",VLOOKUP(A665,[1]ItemConfig!$A:$B,2,FALSE))","v":""},{"$f":"IF(A665=\"\",\"\",VLOOKUP(A665,[1]ItemConfig!$A:$D,4,FALSE))","v":""},{"$f":"IF(A665=\"\",\"\",VLOOKUP(A665,[1]ItemConfig!$A:$C,3,FALSE))","v":""},{"$f":"IF(A665=\"\",\"\",VLOOKUP(B665,[2]語言配置表!$A:$B,2,FALSE))","v":""},{"$f":"IF(A665=\"\",\"\",VLOOKUP(C665,[2]語言配置表!$A:$B,2,FALSE))","v":""}]
[{"$f":"IF([1]ItemConfig!$A669=\"\",\"\",[1]ItemConfig!$A669)","v":""},{"$f":"IF(A666=\"\",\"\",VLOOKUP(A666,[1]ItemConfig!$A:$B,2,FALSE))","v":""},{"$f":"IF(A666=\"\",\"\",VLOOKUP(A666,[1]ItemConfig!$A:$D,4,FALSE))","v":""},{"$f":"IF(A666=\"\",\"\",VLOOKUP(A666,[1]ItemConfig!$A:$C,3,FALSE))","v":""},{"$f":"IF(A666=\"\",\"\",VLOOKUP(B666,[2]語言配置表!$A:$B,2,FALSE))","v":""},{"$f":"IF(A666=\"\",\"\",VLOOKUP(C666,[2]語言配置表!$A:$B,2,FALSE))","v":""}]
[{"$f":"IF([1]ItemConfig!$A670=\"\",\"\",[1]ItemConfig!$A670)","v":""},{"$f":"IF(A667=\"\",\"\",VLOOKUP(A667,[1]ItemConfig!$A:$B,2,FALSE))","v":""},{"$f":"IF(A667=\"\",\"\",VLOOKUP(A667,[1]ItemConfig!$A:$D,4,FALSE))","v":""},{"$f":"IF(A667=\"\",\"\",VLOOKUP(A667,[1]ItemConfig!$A:$C,3,FALSE))","v":""},{"$f":"IF(A667=\"\",\"\",VLOOKUP(B667,[2]語言配置表!$A:$B,2,FALSE))","v":""},{"$f":"IF(A667=\"\",\"\",VLOOKUP(C667,[2]語言配置表!$A:$B,2,FALSE))","v":""}]
[{"$f":"IF([1]ItemConfig!$A671=\"\",\"\",[1]ItemConfig!$A671)","v":""},{"$f":"IF(A668=\"\",\"\",VLOOKUP(A668,[1]ItemConfig!$A:$B,2,FALSE))","v":""},{"$f":"IF(A668=\"\",\"\",VLOOKUP(A668,[1]ItemConfig!$A:$D,4,FALSE))","v":""},{"$f":"IF(A668=\"\",\"\",VLOOKUP(A668,[1]ItemConfig!$A:$C,3,FALSE))","v":""},{"$f":"IF(A668=\"\",\"\",VLOOKUP(B668,[2]語言配置表!$A:$B,2,FALSE))","v":""},{"$f":"IF(A668=\"\",\"\",VLOOKUP(C668,[2]語言配置表!$A:$B,2,FALSE))","v":""}]
[{"$f":"IF([1]ItemConfig!$A672=\"\",\"\",[1]ItemConfig!$A672)","v":""},{"$f":"IF(A669=\"\",\"\",VLOOKUP(A669,[1]ItemConfig!$A:$B,2,FALSE))","v":""},{"$f":"IF(A669=\"\",\"\",VLOOKUP(A669,[1]ItemConfig!$A:$D,4,FALSE))","v":""},{"$f":"IF(A669=\"\",\"\",VLOOKUP(A669,[1]ItemConfig!$A:$C,3,FALSE))","v":""},{"$f":"IF(A669=\"\",\"\",VLOOKUP(B669,[2]語言配置表!$A:$B,2,FALSE))","v":""},{"$f":"IF(A669=\"\",\"\",VLOOKUP(C669,[2]語言配置表!$A:$B,2,FALSE))","v":""}]
[{"$f":"IF([1]ItemConfig!$A673=\"\",\"\",[1]ItemConfig!$A673)","v":""},{"$f":"IF(A670=\"\",\"\",VLOOKUP(A670,[1]ItemConfig!$A:$B,2,FALSE))","v":""},{"$f":"IF(A670=\"\",\"\",VLOOKUP(A670,[1]ItemConfig!$A:$D,4,FALSE))","v":""},{"$f":"IF(A670=\"\",\"\",VLOOKUP(A670,[1]ItemConfig!$A:$C,3,FALSE))","v":""},{"$f":"IF(A670=\"\",\"\",VLOOKUP(B670,[2]語言配置表!$A:$B,2,FALSE))","v":""},{"$f":"IF(A670=\"\",\"\",VLOOKUP(C670,[2]語言配置表!$A:$B,2,FALSE))","v":""}]
[{"$f":"IF([1]ItemConfig!$A674=\"\",\"\",[1]ItemConfig!$A674)","v":""},{"$f":"IF(A671=\"\",\"\",VLOOKUP(A671,[1]ItemConfig!$A:$B,2,FALSE))","v":""},{"$f":"IF(A671=\"\",\"\",VLOOKUP(A671,[1]ItemConfig!$A:$D,4,FALSE))","v":""},{"$f":"IF(A671=\"\",\"\",VLOOKUP(A671,[1]ItemConfig!$A:$C,3,FALSE))","v":""},{"$f":"IF(A671=\"\",\"\",VLOOKUP(B671,[2]語言配置表!$A:$B,2,FALSE))","v":""},{"$f":"IF(A671=\"\",\"\",VLOOKUP(C671,[2]語言配置表!$A:$B,2,FALSE))","v":""}]
[{"$f":"IF([1]ItemConfig!$A675=\"\",\"\",[1]ItemConfig!$A675)","v":""},{"$f":"IF(A672=\"\",\"\",VLOOKUP(A672,[1]ItemConfig!$A:$B,2,FALSE))","v":""},{"$f":"IF(A672=\"\",\"\",VLOOKUP(A672,[1]ItemConfig!$A:$D,4,FALSE))","v":""},{"$f":"IF(A672=\"\",\"\",VLOOKUP(A672,[1]ItemConfig!$A:$C,3,FALSE))","v":""},{"$f":"IF(A672=\"\",\"\",VLOOKUP(B672,[2]語言配置表!$A:$B,2,FALSE))","v":""},{"$f":"IF(A672=\"\",\"\",VLOOKUP(C672,[2]語言配置表!$A:$B,2,FALSE))","v":""}]
[{"$f":"IF([1]ItemConfig!$A676=\"\",\"\",[1]ItemConfig!$A676)","v":""},{"$f":"IF(A673=\"\",\"\",VLOOKUP(A673,[1]ItemConfig!$A:$B,2,FALSE))","v":""},{"$f":"IF(A673=\"\",\"\",VLOOKUP(A673,[1]ItemConfig!$A:$D,4,FALSE))","v":""},{"$f":"IF(A673=\"\",\"\",VLOOKUP(A673,[1]ItemConfig!$A:$C,3,FALSE))","v":""},{"$f":"IF(A673=\"\",\"\",VLOOKUP(B673,[2]語言配置表!$A:$B,2,FALSE))","v":""},{"$f":"IF(A673=\"\",\"\",VLOOKUP(C673,[2]語言配置表!$A:$B,2,FALSE))","v":""}]
[{"$f":"IF([1]ItemConfig!$A677=\"\",\"\",[1]ItemConfig!$A677)","v":""},{"$f":"IF(A674=\"\",\"\",VLOOKUP(A674,[1]ItemConfig!$A:$B,2,FALSE))","v":""},{"$f":"IF(A674=\"\",\"\",VLOOKUP(A674,[1]ItemConfig!$A:$D,4,FALSE))","v":""},{"$f":"IF(A674=\"\",\"\",VLOOKUP(A674,[1]ItemConfig!$A:$C,3,FALSE))","v":""},{"$f":"IF(A674=\"\",\"\",VLOOKUP(B674,[2]語言配置表!$A:$B,2,FALSE))","v":""},{"$f":"IF(A674=\"\",\"\",VLOOKUP(C674,[2]語言配置表!$A:$B,2,FALSE))","v":""}]
[{"$f":"IF([1]ItemConfig!$A678=\"\",\"\",[1]ItemConfig!$A678)","v":""},{"$f":"IF(A675=\"\",\"\",VLOOKUP(A675,[1]ItemConfig!$A:$B,2,FALSE))","v":""},{"$f":"IF(A675=\"\",\"\",VLOOKUP(A675,[1]ItemConfig!$A:$D,4,FALSE))","v":""},{"$f":"IF(A675=\"\",\"\",VLOOKUP(A675,[1]ItemConfig!$A:$C,3,FALSE))","v":""},{"$f":"IF(A675=\"\",\"\",VLOOKUP(B675,[2]語言配置表!$A:$B,2,FALSE))","v":""},{"$f":"IF(A675=\"\",\"\",VLOOKUP(C675,[2]語言配置表!$A:$B,2,FALSE))","v":""}]
[{"$f":"IF([1]ItemConfig!$A679=\"\",\"\",[1]ItemConfig!$A679)","v":""},{"$f":"IF(A676=\"\",\"\",VLOOKUP(A676,[1]ItemConfig!$A:$B,2,FALSE))","v":""},{"$f":"IF(A676=\"\",\"\",VLOOKUP(A676,[1]ItemConfig!$A:$D,4,FALSE))","v":""},{"$f":"IF(A676=\"\",\"\",VLOOKUP(A676,[1]ItemConfig!$A:$C,3,FALSE))","v":""},{"$f":"IF(A676=\"\",\"\",VLOOKUP(B676,[2]語言配置表!$A:$B,2,FALSE))","v":""},{"$f":"IF(A676=\"\",\"\",VLOOKUP(C676,[2]語言配置表!$A:$B,2,FALSE))","v":""}]
[{"$f":"IF([1]ItemConfig!$A680=\"\",\"\",[1]ItemConfig!$A680)","v":""},{"$f":"IF(A677=\"\",\"\",VLOOKUP(A677,[1]ItemConfig!$A:$B,2,FALSE))","v":""},{"$f":"IF(A677=\"\",\"\",VLOOKUP(A677,[1]ItemConfig!$A:$D,4,FALSE))","v":""},{"$f":"IF(A677=\"\",\"\",VLOOKUP(A677,[1]ItemConfig!$A:$C,3,FALSE))","v":""},{"$f":"IF(A677=\"\",\"\",VLOOKUP(B677,[2]語言配置表!$A:$B,2,FALSE))","v":""},{"$f":"IF(A677=\"\",\"\",VLOOKUP(C677,[2]語言配置表!$A:$B,2,FALSE))","v":""}]
[{"$f":"IF([1]ItemConfig!$A681=\"\",\"\",[1]ItemConfig!$A681)","v":""},{"$f":"IF(A678=\"\",\"\",VLOOKUP(A678,[1]ItemConfig!$A:$B,2,FALSE))","v":""},{"$f":"IF(A678=\"\",\"\",VLOOKUP(A678,[1]ItemConfig!$A:$D,4,FALSE))","v":""},{"$f":"IF(A678=\"\",\"\",VLOOKUP(A678,[1]ItemConfig!$A:$C,3,FALSE))","v":""},{"$f":"IF(A678=\"\",\"\",VLOOKUP(B678,[2]語言配置表!$A:$B,2,FALSE))","v":""},{"$f":"IF(A678=\"\",\"\",VLOOKUP(C678,[2]語言配置表!$A:$B,2,FALSE))","v":""}]
[{"$f":"IF([1]ItemConfig!$A682=\"\",\"\",[1]ItemConfig!$A682)","v":""},{"$f":"IF(A679=\"\",\"\",VLOOKUP(A679,[1]ItemConfig!$A:$B,2,FALSE))","v":""},{"$f":"IF(A679=\"\",\"\",VLOOKUP(A679,[1]ItemConfig!$A:$D,4,FALSE))","v":""},{"$f":"IF(A679=\"\",\"\",VLOOKUP(A679,[1]ItemConfig!$A:$C,3,FALSE))","v":""},{"$f":"IF(A679=\"\",\"\",VLOOKUP(B679,[2]語言配置表!$A:$B,2,FALSE))","v":""},{"$f":"IF(A679=\"\",\"\",VLOOKUP(C679,[2]語言配置表!$A:$B,2,FALSE))","v":""}]
[{"$f":"IF([1]ItemConfig!$A683=\"\",\"\",[1]ItemConfig!$A683)","v":""},{"$f":"IF(A680=\"\",\"\",VLOOKUP(A680,[1]ItemConfig!$A:$B,2,FALSE))","v":""},{"$f":"IF(A680=\"\",\"\",VLOOKUP(A680,[1]ItemConfig!$A:$D,4,FALSE))","v":""},{"$f":"IF(A680=\"\",\"\",VLOOKUP(A680,[1]ItemConfig!$A:$C,3,FALSE))","v":""},{"$f":"IF(A680=\"\",\"\",VLOOKUP(B680,[2]語言配置表!$A:$B,2,FALSE))","v":""},{"$f":"IF(A680=\"\",\"\",VLOOKUP(C680,[2]語言配置表!$A:$B,2,FALSE))","v":""}]
[{"$f":"IF([1]ItemConfig!$A684=\"\",\"\",[1]ItemConfig!$A684)","v":""},{"$f":"IF(A681=\"\",\"\",VLOOKUP(A681,[1]ItemConfig!$A:$B,2,FALSE))","v":""},{"$f":"IF(A681=\"\",\"\",VLOOKUP(A681,[1]ItemConfig!$A:$D,4,FALSE))","v":""},{"$f":"IF(A681=\"\",\"\",VLOOKUP(A681,[1]ItemConfig!$A:$C,3,FALSE))","v":""},{"$f":"IF(A681=\"\",\"\",VLOOKUP(B681,[2]語言配置表!$A:$B,2,FALSE))","v":""},{"$f":"IF(A681=\"\",\"\",VLOOKUP(C681,[2]語言配置表!$A:$B,2,FALSE))","v":""}]
[{"$f":"IF([1]ItemConfig!$A685=\"\",\"\",[1]ItemConfig!$A685)","v":""},{"$f":"IF(A682=\"\",\"\",VLOOKUP(A682,[1]ItemConfig!$A:$B,2,FALSE))","v":""},{"$f":"IF(A682=\"\",\"\",VLOOKUP(A682,[1]ItemConfig!$A:$D,4,FALSE))","v":""},{"$f":"IF(A682=\"\",\"\",VLOOKUP(A682,[1]ItemConfig!$A:$C,3,FALSE))","v":""},{"$f":"IF(A682=\"\",\"\",VLOOKUP(B682,[2]語言配置表!$A:$B,2,FALSE))","v":""},{"$f":"IF(A682=\"\",\"\",VLOOKUP(C682,[2]語言配置表!$A:$B,2,FALSE))","v":""}]
[{"$f":"IF([1]ItemConfig!$A686=\"\",\"\",[1]ItemConfig!$A686)","v":""},{"$f":"IF(A683=\"\",\"\",VLOOKUP(A683,[1]ItemConfig!$A:$B,2,FALSE))","v":""},{"$f":"IF(A683=\"\",\"\",VLOOKUP(A683,[1]ItemConfig!$A:$D,4,FALSE))","v":""},{"$f":"IF(A683=\"\",\"\",VLOOKUP(A683,[1]ItemConfig!$A:$C,3,FALSE))","v":""},{"$f":"IF(A683=\"\",\"\",VLOOKUP(B683,[2]語言配置表!$A:$B,2,FALSE))","v":""},{"$f":"IF(A683=\"\",\"\",VLOOKUP(C683,[2]語言配置表!$A:$B,2,FALSE))","v":""}]
[{"$f":"IF([1]ItemConfig!$A687=\"\",\"\",[1]ItemConfig!$A687)","v":""},{"$f":"IF(A684=\"\",\"\",VLOOKUP(A684,[1]ItemConfig!$A:$B,2,FALSE))","v":""},{"$f":"IF(A684=\"\",\"\",VLOOKUP(A684,[1]ItemConfig!$A:$D,4,FALSE))","v":""},{"$f":"IF(A684=\"\",\"\",VLOOKUP(A684,[1]ItemConfig!$A:$C,3,FALSE))","v":""},{"$f":"IF(A684=\"\",\"\",VLOOKUP(B684,[2]語言配置表!$A:$B,2,FALSE))","v":""},{"$f":"IF(A684=\"\",\"\",VLOOKUP(C684,[2]語言配置表!$A:$B,2,FALSE))","v":""}]
[{"$f":"IF([1]ItemConfig!$A688=\"\",\"\",[1]ItemConfig!$A688)","v":""},{"$f":"IF(A685=\"\",\"\",VLOOKUP(A685,[1]ItemConfig!$A:$B,2,FALSE))","v":""},{"$f":"IF(A685=\"\",\"\",VLOOKUP(A685,[1]ItemConfig!$A:$D,4,FALSE))","v":""},{"$f":"IF(A685=\"\",\"\",VLOOKUP(A685,[1]ItemConfig!$A:$C,3,FALSE))","v":""},{"$f":"IF(A685=\"\",\"\",VLOOKUP(B685,[2]語言配置表!$A:$B,2,FALSE))","v":""},{"$f":"IF(A685=\"\",\"\",VLOOKUP(C685,[2]語言配置表!$A:$B,2,FALSE))","v":""}]
[{"$f":"IF([1]ItemConfig!$A689=\"\",\"\",[1]ItemConfig!$A689)","v":""},{"$f":"IF(A686=\"\",\"\",VLOOKUP(A686,[1]ItemConfig!$A:$B,2,FALSE))","v":""},{"$f":"IF(A686=\"\",\"\",VLOOKUP(A686,[1]ItemConfig!$A:$D,4,FALSE))","v":""},{"$f":"IF(A686=\"\",\"\",VLOOKUP(A686,[1]ItemConfig!$A:$C,3,FALSE))","v":""},{"$f":"IF(A686=\"\",\"\",VLOOKUP(B686,[2]語言配置表!$A:$B,2,FALSE))","v":""},{"$f":"IF(A686=\"\",\"\",VLOOKUP(C686,[2]語言配置表!$A:$B,2,FALSE))","v":""}]
[{"$f":"IF([1]ItemConfig!$A690=\"\",\"\",[1]ItemConfig!$A690)","v":""},{"$f":"IF(A687=\"\",\"\",VLOOKUP(A687,[1]ItemConfig!$A:$B,2,FALSE))","v":""},{"$f":"IF(A687=\"\",\"\",VLOOKUP(A687,[1]ItemConfig!$A:$D,4,FALSE))","v":""},{"$f":"IF(A687=\"\",\"\",VLOOKUP(A687,[1]ItemConfig!$A:$C,3,FALSE))","v":""},{"$f":"IF(A687=\"\",\"\",VLOOKUP(B687,[2]語言配置表!$A:$B,2,FALSE))","v":""},{"$f":"IF(A687=\"\",\"\",VLOOKUP(C687,[2]語言配置表!$A:$B,2,FALSE))","v":""}]
[{"$f":"IF([1]ItemConfig!$A691=\"\",\"\",[1]ItemConfig!$A691)","v":""},{"$f":"IF(A688=\"\",\"\",VLOOKUP(A688,[1]ItemConfig!$A:$B,2,FALSE))","v":""},{"$f":"IF(A688=\"\",\"\",VLOOKUP(A688,[1]ItemConfig!$A:$D,4,FALSE))","v":""},{"$f":"IF(A688=\"\",\"\",VLOOKUP(A688,[1]ItemConfig!$A:$C,3,FALSE))","v":""},{"$f":"IF(A688=\"\",\"\",VLOOKUP(B688,[2]語言配置表!$A:$B,2,FALSE))","v":""},{"$f":"IF(A688=\"\",\"\",VLOOKUP(C688,[2]語言配置表!$A:$B,2,FALSE))","v":""}]
[{"$f":"IF([1]ItemConfig!$A692=\"\",\"\",[1]ItemConfig!$A692)","v":""},{"$f":"IF(A689=\"\",\"\",VLOOKUP(A689,[1]ItemConfig!$A:$B,2,FALSE))","v":""},{"$f":"IF(A689=\"\",\"\",VLOOKUP(A689,[1]ItemConfig!$A:$D,4,FALSE))","v":""},{"$f":"IF(A689=\"\",\"\",VLOOKUP(A689,[1]ItemConfig!$A:$C,3,FALSE))","v":""},{"$f":"IF(A689=\"\",\"\",VLOOKUP(B689,[2]語言配置表!$A:$B,2,FALSE))","v":""},{"$f":"IF(A689=\"\",\"\",VLOOKUP(C689,[2]語言配置表!$A:$B,2,FALSE))","v":""}]
[{"$f":"IF([1]ItemConfig!$A693=\"\",\"\",[1]ItemConfig!$A693)","v":""},{"$f":"IF(A690=\"\",\"\",VLOOKUP(A690,[1]ItemConfig!$A:$B,2,FALSE))","v":""},{"$f":"IF(A690=\"\",\"\",VLOOKUP(A690,[1]ItemConfig!$A:$D,4,FALSE))","v":""},{"$f":"IF(A690=\"\",\"\",VLOOKUP(A690,[1]ItemConfig!$A:$C,3,FALSE))","v":""},{"$f":"IF(A690=\"\",\"\",VLOOKUP(B690,[2]語言配置表!$A:$B,2,FALSE))","v":""},{"$f":"IF(A690=\"\",\"\",VLOOKUP(C690,[2]語言配置表!$A:$B,2,FALSE))","v":""}]
[{"$f":"IF([1]ItemConfig!$A694=\"\",\"\",[1]ItemConfig!$A694)","v":""},{"$f":"IF(A691=\"\",\"\",VLOOKUP(A691,[1]ItemConfig!$A:$B,2,FALSE))","v":""},{"$f":"IF(A691=\"\",\"\",VLOOKUP(A691,[1]ItemConfig!$A:$D,4,FALSE))","v":""},{"$f":"IF(A691=\"\",\"\",VLOOKUP(A691,[1]ItemConfig!$A:$C,3,FALSE))","v":""},{"$f":"IF(A691=\"\",\"\",VLOOKUP(B691,[2]語言配置表!$A:$B,2,FALSE))","v":""},{"$f":"IF(A691=\"\",\"\",VLOOKUP(C691,[2]語言配置表!$A:$B,2,FALSE))","v":""}]
[{"$f":"IF([1]ItemConfig!$A695=\"\",\"\",[1]ItemConfig!$A695)","v":""},{"$f":"IF(A692=\"\",\"\",VLOOKUP(A692,[1]ItemConfig!$A:$B,2,FALSE))","v":""},{"$f":"IF(A692=\"\",\"\",VLOOKUP(A692,[1]ItemConfig!$A:$D,4,FALSE))","v":""},{"$f":"IF(A692=\"\",\"\",VLOOKUP(A692,[1]ItemConfig!$A:$C,3,FALSE))","v":""},{"$f":"IF(A692=\"\",\"\",VLOOKUP(B692,[2]語言配置表!$A:$B,2,FALSE))","v":""},{"$f":"IF(A692=\"\",\"\",VLOOKUP(C692,[2]語言配置表!$A:$B,2,FALSE))","v":""}]
[{"$f":"IF([1]ItemConfig!$A696=\"\",\"\",[1]ItemConfig!$A696)","v":""},{"$f":"IF(A693=\"\",\"\",VLOOKUP(A693,[1]ItemConfig!$A:$B,2,FALSE))","v":""},{"$f":"IF(A693=\"\",\"\",VLOOKUP(A693,[1]ItemConfig!$A:$D,4,FALSE))","v":""},{"$f":"IF(A693=\"\",\"\",VLOOKUP(A693,[1]ItemConfig!$A:$C,3,FALSE))","v":""},{"$f":"IF(A693=\"\",\"\",VLOOKUP(B693,[2]語言配置表!$A:$B,2,FALSE))","v":""},{"$f":"IF(A693=\"\",\"\",VLOOKUP(C693,[2]語言配置表!$A:$B,2,FALSE))","v":""}]
[{"$f":"IF([1]ItemConfig!$A697=\"\",\"\",[1]ItemConfig!$A697)","v":""},{"$f":"IF(A694=\"\",\"\",VLOOKUP(A694,[1]ItemConfig!$A:$B,2,FALSE))","v":""},{"$f":"IF(A694=\"\",\"\",VLOOKUP(A694,[1]ItemConfig!$A:$D,4,FALSE))","v":""},{"$f":"IF(A694=\"\",\"\",VLOOKUP(A694,[1]ItemConfig!$A:$C,3,FALSE))","v":""},{"$f":"IF(A694=\"\",\"\",VLOOKUP(B694,[2]語言配置表!$A:$B,2,FALSE))","v":""},{"$f":"IF(A694=\"\",\"\",VLOOKUP(C694,[2]語言配置表!$A:$B,2,FALSE))","v":""}]
[{"$f":"IF([1]ItemConfig!$A698=\"\",\"\",[1]ItemConfig!$A698)","v":""},{"$f":"IF(A695=\"\",\"\",VLOOKUP(A695,[1]ItemConfig!$A:$B,2,FALSE))","v":""},{"$f":"IF(A695=\"\",\"\",VLOOKUP(A695,[1]ItemConfig!$A:$D,4,FALSE))","v":""},{"$f":"IF(A695=\"\",\"\",VLOOKUP(A695,[1]ItemConfig!$A:$C,3,FALSE))","v":""},{"$f":"IF(A695=\"\",\"\",VLOOKUP(B695,[2]語言配置表!$A:$B,2,FALSE))","v":""},{"$f":"IF(A695=\"\",\"\",VLOOKUP(C695,[2]語言配置表!$A:$B,2,FALSE))","v":""}]
[{"$f":"IF([1]ItemConfig!$A699=\"\",\"\",[1]ItemConfig!$A699)","v":""},{"$f":"IF(A696=\"\",\"\",VLOOKUP(A696,[1]ItemConfig!$A:$B,2,FALSE))","v":""},{"$f":"IF(A696=\"\",\"\",VLOOKUP(A696,[1]ItemConfig!$A:$D,4,FALSE))","v":""},{"$f":"IF(A696=\"\",\"\",VLOOKUP(A696,[1]ItemConfig!$A:$C,3,FALSE))","v":""},{"$f":"IF(A696=\"\",\"\",VLOOKUP(B696,[2]語言配置表!$A:$B,2,FALSE))","v":""},{"$f":"IF(A696=\"\",\"\",VLOOKUP(C696,[2]語言配置表!$A:$B,2,FALSE))","v":""}]
[{"$f":"IF([1]ItemConfig!$A700=\"\",\"\",[1]ItemConfig!$A700)","v":""},{"$f":"IF(A697=\"\",\"\",VLOOKUP(A697,[1]ItemConfig!$A:$B,2,FALSE))","v":""},{"$f":"IF(A697=\"\",\"\",VLOOKUP(A697,[1]ItemConfig!$A:$D,4,FALSE))","v":""},{"$f":"IF(A697=\"\",\"\",VLOOKUP(A697,[1]ItemConfig!$A:$C,3,FALSE))","v":""},{"$f":"IF(A697=\"\",\"\",VLOOKUP(B697,[2]語言配置表!$A:$B,2,FALSE))","v":""},{"$f":"IF(A697=\"\",\"\",VLOOKUP(C697,[2]語言配置表!$A:$B,2,FALSE))","v":""}]
[{"$f":"IF([1]ItemConfig!$A701=\"\",\"\",[1]ItemConfig!$A701)","v":""},{"$f":"IF(A698=\"\",\"\",VLOOKUP(A698,[1]ItemConfig!$A:$B,2,FALSE))","v":""},{"$f":"IF(A698=\"\",\"\",VLOOKUP(A698,[1]ItemConfig!$A:$D,4,FALSE))","v":""},{"$f":"IF(A698=\"\",\"\",VLOOKUP(A698,[1]ItemConfig!$A:$C,3,FALSE))","v":""},{"$f":"IF(A698=\"\",\"\",VLOOKUP(B698,[2]語言配置表!$A:$B,2,FALSE))","v":""},{"$f":"IF(A698=\"\",\"\",VLOOKUP(C698,[2]語言配置表!$A:$B,2,FALSE))","v":""}]
[{"$f":"IF([1]ItemConfig!$A702=\"\",\"\",[1]ItemConfig!$A702)","v":""},{"$f":"IF(A699=\"\",\"\",VLOOKUP(A699,[1]ItemConfig!$A:$B,2,FALSE))","v":""},{"$f":"IF(A699=\"\",\"\",VLOOKUP(A699,[1]ItemConfig!$A:$D,4,FALSE))","v":""},{"$f":"IF(A699=\"\",\"\",VLOOKUP(A699,[1]ItemConfig!$A:$C,3,FALSE))","v":""},{"$f":"IF(A699=\"\",\"\",VLOOKUP(B699,[2]語言配置表!$A:$B,2,FALSE))","v":""},{"$f":"IF(A699=\"\",\"\",VLOOKUP(C699,[2]語言配置表!$A:$B,2,FALSE))","v":""}]
[{"$f":"IF([1]ItemConfig!$A703=\"\",\"\",[1]ItemConfig!$A703)","v":""},{"$f":"IF(A700=\"\",\"\",VLOOKUP(A700,[1]ItemConfig!$A:$B,2,FALSE))","v":""},{"$f":"IF(A700=\"\",\"\",VLOOKUP(A700,[1]ItemConfig!$A:$D,4,FALSE))","v":""},{"$f":"IF(A700=\"\",\"\",VLOOKUP(A700,[1]ItemConfig!$A:$C,3,FALSE))","v":""},{"$f":"IF(A700=\"\",\"\",VLOOKUP(B700,[2]語言配置表!$A:$B,2,FALSE))","v":""},{"$f":"IF(A700=\"\",\"\",VLOOKUP(C700,[2]語言配置表!$A:$B,2,FALSE))","v":""}]
[{"$f":"IF([1]ItemConfig!$A704=\"\",\"\",[1]ItemConfig!$A704)","v":""},{"$f":"IF(A701=\"\",\"\",VLOOKUP(A701,[1]ItemConfig!$A:$B,2,FALSE))","v":""},{"$f":"IF(A701=\"\",\"\",VLOOKUP(A701,[1]ItemConfig!$A:$D,4,FALSE))","v":""},{"$f":"IF(A701=\"\",\"\",VLOOKUP(A701,[1]ItemConfig!$A:$C,3,FALSE))","v":""},{"$f":"IF(A701=\"\",\"\",VLOOKUP(B701,[2]語言配置表!$A:$B,2,FALSE))","v":""},{"$f":"IF(A701=\"\",\"\",VLOOKUP(C701,[2]語言配置表!$A:$B,2,FALSE))","v":""}]
[{"$f":"IF([1]ItemConfig!$A705=\"\",\"\",[1]ItemConfig!$A705)","v":""},{"$f":"IF(A702=\"\",\"\",VLOOKUP(A702,[1]ItemConfig!$A:$B,2,FALSE))","v":""},{"$f":"IF(A702=\"\",\"\",VLOOKUP(A702,[1]ItemConfig!$A:$D,4,FALSE))","v":""},{"$f":"IF(A702=\"\",\"\",VLOOKUP(A702,[1]ItemConfig!$A:$C,3,FALSE))","v":""},{"$f":"IF(A702=\"\",\"\",VLOOKUP(B702,[2]語言配置表!$A:$B,2,FALSE))","v":""},{"$f":"IF(A702=\"\",\"\",VLOOKUP(C702,[2]語言配置表!$A:$B,2,FALSE))","v":""}]
[{"$f":"IF([1]ItemConfig!$A706=\"\",\"\",[1]ItemConfig!$A706)","v":""},{"$f":"IF(A703=\"\",\"\",VLOOKUP(A703,[1]ItemConfig!$A:$B,2,FALSE))","v":""},{"$f":"IF(A703=\"\",\"\",VLOOKUP(A703,[1]ItemConfig!$A:$D,4,FALSE))","v":""},{"$f":"IF(A703=\"\",\"\",VLOOKUP(A703,[1]ItemConfig!$A:$C,3,FALSE))","v":""},{"$f":"IF(A703=\"\",\"\",VLOOKUP(B703,[2]語言配置表!$A:$B,2,FALSE))","v":""},{"$f":"IF(A703=\"\",\"\",VLOOKUP(C703,[2]語言配置表!$A:$B,2,FALSE))","v":""}]
[{"$f":"IF([1]ItemConfig!$A707=\"\",\"\",[1]ItemConfig!$A707)","v":""},{"$f":"IF(A704=\"\",\"\",VLOOKUP(A704,[1]ItemConfig!$A:$B,2,FALSE))","v":""},{"$f":"IF(A704=\"\",\"\",VLOOKUP(A704,[1]ItemConfig!$A:$D,4,FALSE))","v":""},{"$f":"IF(A704=\"\",\"\",VLOOKUP(A704,[1]ItemConfig!$A:$C,3,FALSE))","v":""},{"$f":"IF(A704=\"\",\"\",VLOOKUP(B704,[2]語言配置表!$A:$B,2,FALSE))","v":""},{"$f":"IF(A704=\"\",\"\",VLOOKUP(C704,[2]語言配置表!$A:$B,2,FALSE))","v":""}]
[{"$f":"IF([1]ItemConfig!$A708=\"\",\"\",[1]ItemConfig!$A708)","v":""},{"$f":"IF(A705=\"\",\"\",VLOOKUP(A705,[1]ItemConfig!$A:$B,2,FALSE))","v":""},{"$f":"IF(A705=\"\",\"\",VLOOKUP(A705,[1]ItemConfig!$A:$D,4,FALSE))","v":""},{"$f":"IF(A705=\"\",\"\",VLOOKUP(A705,[1]ItemConfig!$A:$C,3,FALSE))","v":""},{"$f":"IF(A705=\"\",\"\",VLOOKUP(B705,[2]語言配置表!$A:$B,2,FALSE))","v":""},{"$f":"IF(A705=\"\",\"\",VLOOKUP(C705,[2]語言配置表!$A:$B,2,FALSE))","v":""}]
[{"$f":"IF([1]ItemConfig!$A709=\"\",\"\",[1]ItemConfig!$A709)","v":""},{"$f":"IF(A706=\"\",\"\",VLOOKUP(A706,[1]ItemConfig!$A:$B,2,FALSE))","v":""},{"$f":"IF(A706=\"\",\"\",VLOOKUP(A706,[1]ItemConfig!$A:$D,4,FALSE))","v":""},{"$f":"IF(A706=\"\",\"\",VLOOKUP(A706,[1]ItemConfig!$A:$C,3,FALSE))","v":""},{"$f":"IF(A706=\"\",\"\",VLOOKUP(B706,[2]語言配置表!$A:$B,2,FALSE))","v":""},{"$f":"IF(A706=\"\",\"\",VLOOKUP(C706,[2]語言配置表!$A:$B,2,FALSE))","v":""}]
[{"$f":"IF([1]ItemConfig!$A710=\"\",\"\",[1]ItemConfig!$A710)","v":""},{"$f":"IF(A707=\"\",\"\",VLOOKUP(A707,[1]ItemConfig!$A:$B,2,FALSE))","v":""},{"$f":"IF(A707=\"\",\"\",VLOOKUP(A707,[1]ItemConfig!$A:$D,4,FALSE))","v":""},{"$f":"IF(A707=\"\",\"\",VLOOKUP(A707,[1]ItemConfig!$A:$C,3,FALSE))","v":""},{"$f":"IF(A707=\"\",\"\",VLOOKUP(B707,[2]語言配置表!$A:$B,2,FALSE))","v":""},{"$f":"IF(A707=\"\",\"\",VLOOKUP(C707,[2]語言配置表!$A:$B,2,FALSE))","v":""}]
[{"$f":"IF([1]ItemConfig!$A711=\"\",\"\",[1]ItemConfig!$A711)","v":""},{"$f":"IF(A708=\"\",\"\",VLOOKUP(A708,[1]ItemConfig!$A:$B,2,FALSE))","v":""},{"$f":"IF(A708=\"\",\"\",VLOOKUP(A708,[1]ItemConfig!$A:$D,4,FALSE))","v":""},{"$f":"IF(A708=\"\",\"\",VLOOKUP(A708,[1]ItemConfig!$A:$C,3,FALSE))","v":""},{"$f":"IF(A708=\"\",\"\",VLOOKUP(B708,[2]語言配置表!$A:$B,2,FALSE))","v":""},{"$f":"IF(A708=\"\",\"\",VLOOKUP(C708,[2]語言配置表!$A:$B,2,FALSE))","v":""}]
[{"$f":"IF([1]ItemConfig!$A712=\"\",\"\",[1]ItemConfig!$A712)","v":""},{"$f":"IF(A709=\"\",\"\",VLOOKUP(A709,[1]ItemConfig!$A:$B,2,FALSE))","v":""},{"$f":"IF(A709=\"\",\"\",VLOOKUP(A709,[1]ItemConfig!$A:$D,4,FALSE))","v":""},{"$f":"IF(A709=\"\",\"\",VLOOKUP(A709,[1]ItemConfig!$A:$C,3,FALSE))","v":""},{"$f":"IF(A709=\"\",\"\",VLOOKUP(B709,[2]語言配置表!$A:$B,2,FALSE))","v":""},{"$f":"IF(A709=\"\",\"\",VLOOKUP(C709,[2]語言配置表!$A:$B,2,FALSE))","v":""}]
[{"$f":"IF([1]ItemConfig!$A713=\"\",\"\",[1]ItemConfig!$A713)","v":""},{"$f":"IF(A710=\"\",\"\",VLOOKUP(A710,[1]ItemConfig!$A:$B,2,FALSE))","v":""},{"$f":"IF(A710=\"\",\"\",VLOOKUP(A710,[1]ItemConfig!$A:$D,4,FALSE))","v":""},{"$f":"IF(A710=\"\",\"\",VLOOKUP(A710,[1]ItemConfig!$A:$C,3,FALSE))","v":""},{"$f":"IF(A710=\"\",\"\",VLOOKUP(B710,[2]語言配置表!$A:$B,2,FALSE))","v":""},{"$f":"IF(A710=\"\",\"\",VLOOKUP(C710,[2]語言配置表!$A:$B,2,FALSE))","v":""}]
[{"$f":"IF([1]ItemConfig!$A714=\"\",\"\",[1]ItemConfig!$A714)","v":""},{"$f":"IF(A711=\"\",\"\",VLOOKUP(A711,[1]ItemConfig!$A:$B,2,FALSE))","v":""},{"$f":"IF(A711=\"\",\"\",VLOOKUP(A711,[1]ItemConfig!$A:$D,4,FALSE))","v":""},{"$f":"IF(A711=\"\",\"\",VLOOKUP(A711,[1]ItemConfig!$A:$C,3,FALSE))","v":""},{"$f":"IF(A711=\"\",\"\",VLOOKUP(B711,[2]語言配置表!$A:$B,2,FALSE))","v":""},{"$f":"IF(A711=\"\",\"\",VLOOKUP(C711,[2]語言配置表!$A:$B,2,FALSE))","v":""}]
[{"$f":"IF([1]ItemConfig!$A715=\"\",\"\",[1]ItemConfig!$A715)","v":""},{"$f":"IF(A712=\"\",\"\",VLOOKUP(A712,[1]ItemConfig!$A:$B,2,FALSE))","v":""},{"$f":"IF(A712=\"\",\"\",VLOOKUP(A712,[1]ItemConfig!$A:$D,4,FALSE))","v":""},{"$f":"IF(A712=\"\",\"\",VLOOKUP(A712,[1]ItemConfig!$A:$C,3,FALSE))","v":""},{"$f":"IF(A712=\"\",\"\",VLOOKUP(B712,[2]語言配置表!$A:$B,2,FALSE))","v":""},{"$f":"IF(A712=\"\",\"\",VLOOKUP(C712,[2]語言配置表!$A:$B,2,FALSE))","v":""}]
[{"$f":"IF([1]ItemConfig!$A716=\"\",\"\",[1]ItemConfig!$A716)","v":""},{"$f":"IF(A713=\"\",\"\",VLOOKUP(A713,[1]ItemConfig!$A:$B,2,FALSE))","v":""},{"$f":"IF(A713=\"\",\"\",VLOOKUP(A713,[1]ItemConfig!$A:$D,4,FALSE))","v":""},{"$f":"IF(A713=\"\",\"\",VLOOKUP(A713,[1]ItemConfig!$A:$C,3,FALSE))","v":""},{"$f":"IF(A713=\"\",\"\",VLOOKUP(B713,[2]語言配置表!$A:$B,2,FALSE))","v":""},{"$f":"IF(A713=\"\",\"\",VLOOKUP(C713,[2]語言配置表!$A:$B,2,FALSE))","v":""}]
[{"$f":"IF([1]ItemConfig!$A717=\"\",\"\",[1]ItemConfig!$A717)","v":""},{"$f":"IF(A714=\"\",\"\",VLOOKUP(A714,[1]ItemConfig!$A:$B,2,FALSE))","v":""},{"$f":"IF(A714=\"\",\"\",VLOOKUP(A714,[1]ItemConfig!$A:$D,4,FALSE))","v":""},{"$f":"IF(A714=\"\",\"\",VLOOKUP(A714,[1]ItemConfig!$A:$C,3,FALSE))","v":""},{"$f":"IF(A714=\"\",\"\",VLOOKUP(B714,[2]語言配置表!$A:$B,2,FALSE))","v":""},{"$f":"IF(A714=\"\",\"\",VLOOKUP(C714,[2]語言配置表!$A:$B,2,FALSE))","v":""}]
[{"$f":"IF([1]ItemConfig!$A718=\"\",\"\",[1]ItemConfig!$A718)","v":""},{"$f":"IF(A715=\"\",\"\",VLOOKUP(A715,[1]ItemConfig!$A:$B,2,FALSE))","v":""},{"$f":"IF(A715=\"\",\"\",VLOOKUP(A715,[1]ItemConfig!$A:$D,4,FALSE))","v":""},{"$f":"IF(A715=\"\",\"\",VLOOKUP(A715,[1]ItemConfig!$A:$C,3,FALSE))","v":""},{"$f":"IF(A715=\"\",\"\",VLOOKUP(B715,[2]語言配置表!$A:$B,2,FALSE))","v":""},{"$f":"IF(A715=\"\",\"\",VLOOKUP(C715,[2]語言配置表!$A:$B,2,FALSE))","v":""}]
[{"$f":"IF([1]ItemConfig!$A719=\"\",\"\",[1]ItemConfig!$A719)","v":""},{"$f":"IF(A716=\"\",\"\",VLOOKUP(A716,[1]ItemConfig!$A:$B,2,FALSE))","v":""},{"$f":"IF(A716=\"\",\"\",VLOOKUP(A716,[1]ItemConfig!$A:$D,4,FALSE))","v":""},{"$f":"IF(A716=\"\",\"\",VLOOKUP(A716,[1]ItemConfig!$A:$C,3,FALSE))","v":""},{"$f":"IF(A716=\"\",\"\",VLOOKUP(B716,[2]語言配置表!$A:$B,2,FALSE))","v":""},{"$f":"IF(A716=\"\",\"\",VLOOKUP(C716,[2]語言配置表!$A:$B,2,FALSE))","v":""}]
[{"$f":"IF([1]ItemConfig!$A720=\"\",\"\",[1]ItemConfig!$A720)","v":""},{"$f":"IF(A717=\"\",\"\",VLOOKUP(A717,[1]ItemConfig!$A:$B,2,FALSE))","v":""},{"$f":"IF(A717=\"\",\"\",VLOOKUP(A717,[1]ItemConfig!$A:$D,4,FALSE))","v":""},{"$f":"IF(A717=\"\",\"\",VLOOKUP(A717,[1]ItemConfig!$A:$C,3,FALSE))","v":""},{"$f":"IF(A717=\"\",\"\",VLOOKUP(B717,[2]語言配置表!$A:$B,2,FALSE))","v":""},{"$f":"IF(A717=\"\",\"\",VLOOKUP(C717,[2]語言配置表!$A:$B,2,FALSE))","v":""}]
[{"$f":"IF([1]ItemConfig!$A721=\"\",\"\",[1]ItemConfig!$A721)","v":""},{"$f":"IF(A718=\"\",\"\",VLOOKUP(A718,[1]ItemConfig!$A:$B,2,FALSE))","v":""},{"$f":"IF(A718=\"\",\"\",VLOOKUP(A718,[1]ItemConfig!$A:$D,4,FALSE))","v":""},{"$f":"IF(A718=\"\",\"\",VLOOKUP(A718,[1]ItemConfig!$A:$C,3,FALSE))","v":""},{"$f":"IF(A718=\"\",\"\",VLOOKUP(B718,[2]語言配置表!$A:$B,2,FALSE))","v":""},{"$f":"IF(A718=\"\",\"\",VLOOKUP(C718,[2]語言配置表!$A:$B,2,FALSE))","v":""}]
[{"$f":"IF([1]ItemConfig!$A722=\"\",\"\",[1]ItemConfig!$A722)","v":""},{"$f":"IF(A719=\"\",\"\",VLOOKUP(A719,[1]ItemConfig!$A:$B,2,FALSE))","v":""},{"$f":"IF(A719=\"\",\"\",VLOOKUP(A719,[1]ItemConfig!$A:$D,4,FALSE))","v":""},{"$f":"IF(A719=\"\",\"\",VLOOKUP(A719,[1]ItemConfig!$A:$C,3,FALSE))","v":""},{"$f":"IF(A719=\"\",\"\",VLOOKUP(B719,[2]語言配置表!$A:$B,2,FALSE))","v":""},{"$f":"IF(A719=\"\",\"\",VLOOKUP(C719,[2]語言配置表!$A:$B,2,FALSE))","v":""}]
[{"$f":"IF([1]ItemConfig!$A723=\"\",\"\",[1]ItemConfig!$A723)","v":""},{"$f":"IF(A720=\"\",\"\",VLOOKUP(A720,[1]ItemConfig!$A:$B,2,FALSE))","v":""},{"$f":"IF(A720=\"\",\"\",VLOOKUP(A720,[1]ItemConfig!$A:$D,4,FALSE))","v":""},{"$f":"IF(A720=\"\",\"\",VLOOKUP(A720,[1]ItemConfig!$A:$C,3,FALSE))","v":""},{"$f":"IF(A720=\"\",\"\",VLOOKUP(B720,[2]語言配置表!$A:$B,2,FALSE))","v":""},{"$f":"IF(A720=\"\",\"\",VLOOKUP(C720,[2]語言配置表!$A:$B,2,FALSE))","v":""}]
[{"$f":"IF([1]ItemConfig!$A724=\"\",\"\",[1]ItemConfig!$A724)","v":""},{"$f":"IF(A721=\"\",\"\",VLOOKUP(A721,[1]ItemConfig!$A:$B,2,FALSE))","v":""},{"$f":"IF(A721=\"\",\"\",VLOOKUP(A721,[1]ItemConfig!$A:$D,4,FALSE))","v":""},{"$f":"IF(A721=\"\",\"\",VLOOKUP(A721,[1]ItemConfig!$A:$C,3,FALSE))","v":""},{"$f":"IF(A721=\"\",\"\",VLOOKUP(B721,[2]語言配置表!$A:$B,2,FALSE))","v":""},{"$f":"IF(A721=\"\",\"\",VLOOKUP(C721,[2]語言配置表!$A:$B,2,FALSE))","v":""}]
[{"$f":"IF([1]ItemConfig!$A725=\"\",\"\",[1]ItemConfig!$A725)","v":""},{"$f":"IF(A722=\"\",\"\",VLOOKUP(A722,[1]ItemConfig!$A:$B,2,FALSE))","v":""},{"$f":"IF(A722=\"\",\"\",VLOOKUP(A722,[1]ItemConfig!$A:$D,4,FALSE))","v":""},{"$f":"IF(A722=\"\",\"\",VLOOKUP(A722,[1]ItemConfig!$A:$C,3,FALSE))","v":""},{"$f":"IF(A722=\"\",\"\",VLOOKUP(B722,[2]語言配置表!$A:$B,2,FALSE))","v":""},{"$f":"IF(A722=\"\",\"\",VLOOKUP(C722,[2]語言配置表!$A:$B,2,FALSE))","v":""}]
[{"$f":"IF([1]ItemConfig!$A726=\"\",\"\",[1]ItemConfig!$A726)","v":""},{"$f":"IF(A723=\"\",\"\",VLOOKUP(A723,[1]ItemConfig!$A:$B,2,FALSE))","v":""},{"$f":"IF(A723=\"\",\"\",VLOOKUP(A723,[1]ItemConfig!$A:$D,4,FALSE))","v":""},{"$f":"IF(A723=\"\",\"\",VLOOKUP(A723,[1]ItemConfig!$A:$C,3,FALSE))","v":""},{"$f":"IF(A723=\"\",\"\",VLOOKUP(B723,[2]語言配置表!$A:$B,2,FALSE))","v":""},{"$f":"IF(A723=\"\",\"\",VLOOKUP(C723,[2]語言配置表!$A:$B,2,FALSE))","v":""}]
[{"$f":"IF([1]ItemConfig!$A727=\"\",\"\",[1]ItemConfig!$A727)","v":""},{"$f":"IF(A724=\"\",\"\",VLOOKUP(A724,[1]ItemConfig!$A:$B,2,FALSE))","v":""},{"$f":"IF(A724=\"\",\"\",VLOOKUP(A724,[1]ItemConfig!$A:$D,4,FALSE))","v":""},{"$f":"IF(A724=\"\",\"\",VLOOKUP(A724,[1]ItemConfig!$A:$C,3,FALSE))","v":""},{"$f":"IF(A724=\"\",\"\",VLOOKUP(B724,[2]語言配置表!$A:$B,2,FALSE))","v":""},{"$f":"IF(A724=\"\",\"\",VLOOKUP(C724,[2]語言配置表!$A:$B,2,FALSE))","v":""}]
[{"$f":"IF([1]ItemConfig!$A728=\"\",\"\",[1]ItemConfig!$A728)","v":""},{"$f":"IF(A725=\"\",\"\",VLOOKUP(A725,[1]ItemConfig!$A:$B,2,FALSE))","v":""},{"$f":"IF(A725=\"\",\"\",VLOOKUP(A725,[1]ItemConfig!$A:$D,4,FALSE))","v":""},{"$f":"IF(A725=\"\",\"\",VLOOKUP(A725,[1]ItemConfig!$A:$C,3,FALSE))","v":""},{"$f":"IF(A725=\"\",\"\",VLOOKUP(B725,[2]語言配置表!$A:$B,2,FALSE))","v":""},{"$f":"IF(A725=\"\",\"\",VLOOKUP(C725,[2]語言配置表!$A:$B,2,FALSE))","v":""}]
[{"$f":"IF([1]ItemConfig!$A729=\"\",\"\",[1]ItemConfig!$A729)","v":""},{"$f":"IF(A726=\"\",\"\",VLOOKUP(A726,[1]ItemConfig!$A:$B,2,FALSE))","v":""},{"$f":"IF(A726=\"\",\"\",VLOOKUP(A726,[1]ItemConfig!$A:$D,4,FALSE))","v":""},{"$f":"IF(A726=\"\",\"\",VLOOKUP(A726,[1]ItemConfig!$A:$C,3,FALSE))","v":""},{"$f":"IF(A726=\"\",\"\",VLOOKUP(B726,[2]語言配置表!$A:$B,2,FALSE))","v":""},{"$f":"IF(A726=\"\",\"\",VLOOKUP(C726,[2]語言配置表!$A:$B,2,FALSE))","v":""}]
[{"$f":"IF([1]ItemConfig!$A730=\"\",\"\",[1]ItemConfig!$A730)","v":""},{"$f":"IF(A727=\"\",\"\",VLOOKUP(A727,[1]ItemConfig!$A:$B,2,FALSE))","v":""},{"$f":"IF(A727=\"\",\"\",VLOOKUP(A727,[1]ItemConfig!$A:$D,4,FALSE))","v":""},{"$f":"IF(A727=\"\",\"\",VLOOKUP(A727,[1]ItemConfig!$A:$C,3,FALSE))","v":""},{"$f":"IF(A727=\"\",\"\",VLOOKUP(B727,[2]語言配置表!$A:$B,2,FALSE))","v":""},{"$f":"IF(A727=\"\",\"\",VLOOKUP(C727,[2]語言配置表!$A:$B,2,FALSE))","v":""}]
[{"$f":"IF([1]ItemConfig!$A731=\"\",\"\",[1]ItemConfig!$A731)","v":""},{"$f":"IF(A728=\"\",\"\",VLOOKUP(A728,[1]ItemConfig!$A:$B,2,FALSE))","v":""},{"$f":"IF(A728=\"\",\"\",VLOOKUP(A728,[1]ItemConfig!$A:$D,4,FALSE))","v":""},{"$f":"IF(A728=\"\",\"\",VLOOKUP(A728,[1]ItemConfig!$A:$C,3,FALSE))","v":""},{"$f":"IF(A728=\"\",\"\",VLOOKUP(B728,[2]語言配置表!$A:$B,2,FALSE))","v":""},{"$f":"IF(A728=\"\",\"\",VLOOKUP(C728,[2]語言配置表!$A:$B,2,FALSE))","v":""}]
[{"$f":"IF([1]ItemConfig!$A732=\"\",\"\",[1]ItemConfig!$A732)","v":""},{"$f":"IF(A729=\"\",\"\",VLOOKUP(A729,[1]ItemConfig!$A:$B,2,FALSE))","v":""},{"$f":"IF(A729=\"\",\"\",VLOOKUP(A729,[1]ItemConfig!$A:$D,4,FALSE))","v":""},{"$f":"IF(A729=\"\",\"\",VLOOKUP(A729,[1]ItemConfig!$A:$C,3,FALSE))","v":""},{"$f":"IF(A729=\"\",\"\",VLOOKUP(B729,[2]語言配置表!$A:$B,2,FALSE))","v":""},{"$f":"IF(A729=\"\",\"\",VLOOKUP(C729,[2]語言配置表!$A:$B,2,FALSE))","v":""}]
[{"$f":"IF([1]ItemConfig!$A733=\"\",\"\",[1]ItemConfig!$A733)","v":""},{"$f":"IF(A730=\"\",\"\",VLOOKUP(A730,[1]ItemConfig!$A:$B,2,FALSE))","v":""},{"$f":"IF(A730=\"\",\"\",VLOOKUP(A730,[1]ItemConfig!$A:$D,4,FALSE))","v":""},{"$f":"IF(A730=\"\",\"\",VLOOKUP(A730,[1]ItemConfig!$A:$C,3,FALSE))","v":""},{"$f":"IF(A730=\"\",\"\",VLOOKUP(B730,[2]語言配置表!$A:$B,2,FALSE))","v":""},{"$f":"IF(A730=\"\",\"\",VLOOKUP(C730,[2]語言配置表!$A:$B,2,FALSE))","v":""}]
[{"$f":"IF([1]ItemConfig!$A734=\"\",\"\",[1]ItemConfig!$A734)","v":""},{"$f":"IF(A731=\"\",\"\",VLOOKUP(A731,[1]ItemConfig!$A:$B,2,FALSE))","v":""},{"$f":"IF(A731=\"\",\"\",VLOOKUP(A731,[1]ItemConfig!$A:$D,4,FALSE))","v":""},{"$f":"IF(A731=\"\",\"\",VLOOKUP(A731,[1]ItemConfig!$A:$C,3,FALSE))","v":""},{"$f":"IF(A731=\"\",\"\",VLOOKUP(B731,[2]語言配置表!$A:$B,2,FALSE))","v":""},{"$f":"IF(A731=\"\",\"\",VLOOKUP(C731,[2]語言配置表!$A:$B,2,FALSE))","v":""}]
[{"$f":"IF([1]ItemConfig!$A735=\"\",\"\",[1]ItemConfig!$A735)","v":""},{"$f":"IF(A732=\"\",\"\",VLOOKUP(A732,[1]ItemConfig!$A:$B,2,FALSE))","v":""},{"$f":"IF(A732=\"\",\"\",VLOOKUP(A732,[1]ItemConfig!$A:$D,4,FALSE))","v":""},{"$f":"IF(A732=\"\",\"\",VLOOKUP(A732,[1]ItemConfig!$A:$C,3,FALSE))","v":""},{"$f":"IF(A732=\"\",\"\",VLOOKUP(B732,[2]語言配置表!$A:$B,2,FALSE))","v":""},{"$f":"IF(A732=\"\",\"\",VLOOKUP(C732,[2]語言配置表!$A:$B,2,FALSE))","v":""}]
[{"$f":"IF([1]ItemConfig!$A736=\"\",\"\",[1]ItemConfig!$A736)","v":""},{"$f":"IF(A733=\"\",\"\",VLOOKUP(A733,[1]ItemConfig!$A:$B,2,FALSE))","v":""},{"$f":"IF(A733=\"\",\"\",VLOOKUP(A733,[1]ItemConfig!$A:$D,4,FALSE))","v":""},{"$f":"IF(A733=\"\",\"\",VLOOKUP(A733,[1]ItemConfig!$A:$C,3,FALSE))","v":""},{"$f":"IF(A733=\"\",\"\",VLOOKUP(B733,[2]語言配置表!$A:$B,2,FALSE))","v":""},{"$f":"IF(A733=\"\",\"\",VLOOKUP(C733,[2]語言配置表!$A:$B,2,FALSE))","v":""}]
[{"$f":"IF([1]ItemConfig!$A737=\"\",\"\",[1]ItemConfig!$A737)","v":""},{"$f":"IF(A734=\"\",\"\",VLOOKUP(A734,[1]ItemConfig!$A:$B,2,FALSE))","v":""},{"$f":"IF(A734=\"\",\"\",VLOOKUP(A734,[1]ItemConfig!$A:$D,4,FALSE))","v":""},{"$f":"IF(A734=\"\",\"\",VLOOKUP(A734,[1]ItemConfig!$A:$C,3,FALSE))","v":""},{"$f":"IF(A734=\"\",\"\",VLOOKUP(B734,[2]語言配置表!$A:$B,2,FALSE))","v":""},{"$f":"IF(A734=\"\",\"\",VLOOKUP(C734,[2]語言配置表!$A:$B,2,FALSE))","v":""}]
[{"$f":"IF([1]ItemConfig!$A738=\"\",\"\",[1]ItemConfig!$A738)","v":""},{"$f":"IF(A735=\"\",\"\",VLOOKUP(A735,[1]ItemConfig!$A:$B,2,FALSE))","v":""},{"$f":"IF(A735=\"\",\"\",VLOOKUP(A735,[1]ItemConfig!$A:$D,4,FALSE))","v":""},{"$f":"IF(A735=\"\",\"\",VLOOKUP(A735,[1]ItemConfig!$A:$C,3,FALSE))","v":""},{"$f":"IF(A735=\"\",\"\",VLOOKUP(B735,[2]語言配置表!$A:$B,2,FALSE))","v":""},{"$f":"IF(A735=\"\",\"\",VLOOKUP(C735,[2]語言配置表!$A:$B,2,FALSE))","v":""}]
[{"$f":"IF([1]ItemConfig!$A739=\"\",\"\",[1]ItemConfig!$A739)","v":""},{"$f":"IF(A736=\"\",\"\",VLOOKUP(A736,[1]ItemConfig!$A:$B,2,FALSE))","v":""},{"$f":"IF(A736=\"\",\"\",VLOOKUP(A736,[1]ItemConfig!$A:$D,4,FALSE))","v":""},{"$f":"IF(A736=\"\",\"\",VLOOKUP(A736,[1]ItemConfig!$A:$C,3,FALSE))","v":""},{"$f":"IF(A736=\"\",\"\",VLOOKUP(B736,[2]語言配置表!$A:$B,2,FALSE))","v":""},{"$f":"IF(A736=\"\",\"\",VLOOKUP(C736,[2]語言配置表!$A:$B,2,FALSE))","v":""}]
[{"$f":"IF([1]ItemConfig!$A740=\"\",\"\",[1]ItemConfig!$A740)","v":""},{"$f":"IF(A737=\"\",\"\",VLOOKUP(A737,[1]ItemConfig!$A:$B,2,FALSE))","v":""},{"$f":"IF(A737=\"\",\"\",VLOOKUP(A737,[1]ItemConfig!$A:$D,4,FALSE))","v":""},{"$f":"IF(A737=\"\",\"\",VLOOKUP(A737,[1]ItemConfig!$A:$C,3,FALSE))","v":""},{"$f":"IF(A737=\"\",\"\",VLOOKUP(B737,[2]語言配置表!$A:$B,2,FALSE))","v":""},{"$f":"IF(A737=\"\",\"\",VLOOKUP(C737,[2]語言配置表!$A:$B,2,FALSE))","v":""}]
[{"$f":"IF([1]ItemConfig!$A741=\"\",\"\",[1]ItemConfig!$A741)","v":""},{"$f":"IF(A738=\"\",\"\",VLOOKUP(A738,[1]ItemConfig!$A:$B,2,FALSE))","v":""},{"$f":"IF(A738=\"\",\"\",VLOOKUP(A738,[1]ItemConfig!$A:$D,4,FALSE))","v":""},{"$f":"IF(A738=\"\",\"\",VLOOKUP(A738,[1]ItemConfig!$A:$C,3,FALSE))","v":""},{"$f":"IF(A738=\"\",\"\",VLOOKUP(B738,[2]語言配置表!$A:$B,2,FALSE))","v":""},{"$f":"IF(A738=\"\",\"\",VLOOKUP(C738,[2]語言配置表!$A:$B,2,FALSE))","v":""}]
[{"$f":"IF([1]ItemConfig!$A742=\"\",\"\",[1]ItemConfig!$A742)","v":""},{"$f":"IF(A739=\"\",\"\",VLOOKUP(A739,[1]ItemConfig!$A:$B,2,FALSE))","v":""},{"$f":"IF(A739=\"\",\"\",VLOOKUP(A739,[1]ItemConfig!$A:$D,4,FALSE))","v":""},{"$f":"IF(A739=\"\",\"\",VLOOKUP(A739,[1]ItemConfig!$A:$C,3,FALSE))","v":""},{"$f":"IF(A739=\"\",\"\",VLOOKUP(B739,[2]語言配置表!$A:$B,2,FALSE))","v":""},{"$f":"IF(A739=\"\",\"\",VLOOKUP(C739,[2]語言配置表!$A:$B,2,FALSE))","v":""}]
[{"$f":"IF([1]ItemConfig!$A743=\"\",\"\",[1]ItemConfig!$A743)","v":""},{"$f":"IF(A740=\"\",\"\",VLOOKUP(A740,[1]ItemConfig!$A:$B,2,FALSE))","v":""},{"$f":"IF(A740=\"\",\"\",VLOOKUP(A740,[1]ItemConfig!$A:$D,4,FALSE))","v":""},{"$f":"IF(A740=\"\",\"\",VLOOKUP(A740,[1]ItemConfig!$A:$C,3,FALSE))","v":""},{"$f":"IF(A740=\"\",\"\",VLOOKUP(B740,[2]語言配置表!$A:$B,2,FALSE))","v":""},{"$f":"IF(A740=\"\",\"\",VLOOKUP(C740,[2]語言配置表!$A:$B,2,FALSE))","v":""}]
[{"$f":"IF([1]ItemConfig!$A744=\"\",\"\",[1]ItemConfig!$A744)","v":""},{"$f":"IF(A741=\"\",\"\",VLOOKUP(A741,[1]ItemConfig!$A:$B,2,FALSE))","v":""},{"$f":"IF(A741=\"\",\"\",VLOOKUP(A741,[1]ItemConfig!$A:$D,4,FALSE))","v":""},{"$f":"IF(A741=\"\",\"\",VLOOKUP(A741,[1]ItemConfig!$A:$C,3,FALSE))","v":""},{"$f":"IF(A741=\"\",\"\",VLOOKUP(B741,[2]語言配置表!$A:$B,2,FALSE))","v":""},{"$f":"IF(A741=\"\",\"\",VLOOKUP(C741,[2]語言配置表!$A:$B,2,FALSE))","v":""}]
[{"$f":"IF([1]ItemConfig!$A745=\"\",\"\",[1]ItemConfig!$A745)","v":""},{"$f":"IF(A742=\"\",\"\",VLOOKUP(A742,[1]ItemConfig!$A:$B,2,FALSE))","v":""},{"$f":"IF(A742=\"\",\"\",VLOOKUP(A742,[1]ItemConfig!$A:$D,4,FALSE))","v":""},{"$f":"IF(A742=\"\",\"\",VLOOKUP(A742,[1]ItemConfig!$A:$C,3,FALSE))","v":""},{"$f":"IF(A742=\"\",\"\",VLOOKUP(B742,[2]語言配置表!$A:$B,2,FALSE))","v":""},{"$f":"IF(A742=\"\",\"\",VLOOKUP(C742,[2]語言配置表!$A:$B,2,FALSE))","v":""}]
[{"$f":"IF([1]ItemConfig!$A746=\"\",\"\",[1]ItemConfig!$A746)","v":""},{"$f":"IF(A743=\"\",\"\",VLOOKUP(A743,[1]ItemConfig!$A:$B,2,FALSE))","v":""},{"$f":"IF(A743=\"\",\"\",VLOOKUP(A743,[1]ItemConfig!$A:$D,4,FALSE))","v":""},{"$f":"IF(A743=\"\",\"\",VLOOKUP(A743,[1]ItemConfig!$A:$C,3,FALSE))","v":""},{"$f":"IF(A743=\"\",\"\",VLOOKUP(B743,[2]語言配置表!$A:$B,2,FALSE))","v":""},{"$f":"IF(A743=\"\",\"\",VLOOKUP(C743,[2]語言配置表!$A:$B,2,FALSE))","v":""}]
[{"$f":"IF([1]ItemConfig!$A747=\"\",\"\",[1]ItemConfig!$A747)","v":""},{"$f":"IF(A744=\"\",\"\",VLOOKUP(A744,[1]ItemConfig!$A:$B,2,FALSE))","v":""},{"$f":"IF(A744=\"\",\"\",VLOOKUP(A744,[1]ItemConfig!$A:$D,4,FALSE))","v":""},{"$f":"IF(A744=\"\",\"\",VLOOKUP(A744,[1]ItemConfig!$A:$C,3,FALSE))","v":""},{"$f":"IF(A744=\"\",\"\",VLOOKUP(B744,[2]語言配置表!$A:$B,2,FALSE))","v":""},{"$f":"IF(A744=\"\",\"\",VLOOKUP(C744,[2]語言配置表!$A:$B,2,FALSE))","v":""}]
[{"$f":"IF([1]ItemConfig!$A748=\"\",\"\",[1]ItemConfig!$A748)","v":""},{"$f":"IF(A745=\"\",\"\",VLOOKUP(A745,[1]ItemConfig!$A:$B,2,FALSE))","v":""},{"$f":"IF(A745=\"\",\"\",VLOOKUP(A745,[1]ItemConfig!$A:$D,4,FALSE))","v":""},{"$f":"IF(A745=\"\",\"\",VLOOKUP(A745,[1]ItemConfig!$A:$C,3,FALSE))","v":""},{"$f":"IF(A745=\"\",\"\",VLOOKUP(B745,[2]語言配置表!$A:$B,2,FALSE))","v":""},{"$f":"IF(A745=\"\",\"\",VLOOKUP(C745,[2]語言配置表!$A:$B,2,FALSE))","v":""}]
[{"$f":"IF([1]ItemConfig!$A749=\"\",\"\",[1]ItemConfig!$A749)","v":""},{"$f":"IF(A746=\"\",\"\",VLOOKUP(A746,[1]ItemConfig!$A:$B,2,FALSE))","v":""},{"$f":"IF(A746=\"\",\"\",VLOOKUP(A746,[1]ItemConfig!$A:$D,4,FALSE))","v":""},{"$f":"IF(A746=\"\",\"\",VLOOKUP(A746,[1]ItemConfig!$A:$C,3,FALSE))","v":""},{"$f":"IF(A746=\"\",\"\",VLOOKUP(B746,[2]語言配置表!$A:$B,2,FALSE))","v":""},{"$f":"IF(A746=\"\",\"\",VLOOKUP(C746,[2]語言配置表!$A:$B,2,FALSE))","v":""}]
[{"$f":"IF([1]ItemConfig!$A750=\"\",\"\",[1]ItemConfig!$A750)","v":""},{"$f":"IF(A747=\"\",\"\",VLOOKUP(A747,[1]ItemConfig!$A:$B,2,FALSE))","v":""},{"$f":"IF(A747=\"\",\"\",VLOOKUP(A747,[1]ItemConfig!$A:$D,4,FALSE))","v":""},{"$f":"IF(A747=\"\",\"\",VLOOKUP(A747,[1]ItemConfig!$A:$C,3,FALSE))","v":""},{"$f":"IF(A747=\"\",\"\",VLOOKUP(B747,[2]語言配置表!$A:$B,2,FALSE))","v":""},{"$f":"IF(A747=\"\",\"\",VLOOKUP(C747,[2]語言配置表!$A:$B,2,FALSE))","v":""}]
[{"$f":"IF([1]ItemConfig!$A751=\"\",\"\",[1]ItemConfig!$A751)","v":""},{"$f":"IF(A748=\"\",\"\",VLOOKUP(A748,[1]ItemConfig!$A:$B,2,FALSE))","v":""},{"$f":"IF(A748=\"\",\"\",VLOOKUP(A748,[1]ItemConfig!$A:$D,4,FALSE))","v":""},{"$f":"IF(A748=\"\",\"\",VLOOKUP(A748,[1]ItemConfig!$A:$C,3,FALSE))","v":""},{"$f":"IF(A748=\"\",\"\",VLOOKUP(B748,[2]語言配置表!$A:$B,2,FALSE))","v":""},{"$f":"IF(A748=\"\",\"\",VLOOKUP(C748,[2]語言配置表!$A:$B,2,FALSE))","v":""}]
[{"$f":"IF([1]ItemConfig!$A752=\"\",\"\",[1]ItemConfig!$A752)","v":""},{"$f":"IF(A749=\"\",\"\",VLOOKUP(A749,[1]ItemConfig!$A:$B,2,FALSE))","v":""},{"$f":"IF(A749=\"\",\"\",VLOOKUP(A749,[1]ItemConfig!$A:$D,4,FALSE))","v":""},{"$f":"IF(A749=\"\",\"\",VLOOKUP(A749,[1]ItemConfig!$A:$C,3,FALSE))","v":""},{"$f":"IF(A749=\"\",\"\",VLOOKUP(B749,[2]語言配置表!$A:$B,2,FALSE))","v":""},{"$f":"IF(A749=\"\",\"\",VLOOKUP(C749,[2]語言配置表!$A:$B,2,FALSE))","v":""}]
[{"$f":"IF([1]ItemConfig!$A753=\"\",\"\",[1]ItemConfig!$A753)","v":""},{"$f":"IF(A750=\"\",\"\",VLOOKUP(A750,[1]ItemConfig!$A:$B,2,FALSE))","v":""},{"$f":"IF(A750=\"\",\"\",VLOOKUP(A750,[1]ItemConfig!$A:$D,4,FALSE))","v":""},{"$f":"IF(A750=\"\",\"\",VLOOKUP(A750,[1]ItemConfig!$A:$C,3,FALSE))","v":""},{"$f":"IF(A750=\"\",\"\",VLOOKUP(B750,[2]語言配置表!$A:$B,2,FALSE))","v":""},{"$f":"IF(A750=\"\",\"\",VLOOKUP(C750,[2]語言配置表!$A:$B,2,FALSE))","v":""}]
[{"$f":"IF([1]ItemConfig!$A754=\"\",\"\",[1]ItemConfig!$A754)","v":""},{"$f":"IF(A751=\"\",\"\",VLOOKUP(A751,[1]ItemConfig!$A:$B,2,FALSE))","v":""},{"$f":"IF(A751=\"\",\"\",VLOOKUP(A751,[1]ItemConfig!$A:$D,4,FALSE))","v":""},{"$f":"IF(A751=\"\",\"\",VLOOKUP(A751,[1]ItemConfig!$A:$C,3,FALSE))","v":""},{"$f":"IF(A751=\"\",\"\",VLOOKUP(B751,[2]語言配置表!$A:$B,2,FALSE))","v":""},{"$f":"IF(A751=\"\",\"\",VLOOKUP(C751,[2]語言配置表!$A:$B,2,FALSE))","v":""}]
[{"$f":"IF([1]ItemConfig!$A755=\"\",\"\",[1]ItemConfig!$A755)","v":""},{"$f":"IF(A752=\"\",\"\",VLOOKUP(A752,[1]ItemConfig!$A:$B,2,FALSE))","v":""},{"$f":"IF(A752=\"\",\"\",VLOOKUP(A752,[1]ItemConfig!$A:$D,4,FALSE))","v":""},{"$f":"IF(A752=\"\",\"\",VLOOKUP(A752,[1]ItemConfig!$A:$C,3,FALSE))","v":""},{"$f":"IF(A752=\"\",\"\",VLOOKUP(B752,[2]語言配置表!$A:$B,2,FALSE))","v":""},{"$f":"IF(A752=\"\",\"\",VLOOKUP(C752,[2]語言配置表!$A:$B,2,FALSE))","v":""}]
[{"$f":"IF([1]ItemConfig!$A756=\"\",\"\",[1]ItemConfig!$A756)","v":""},{"$f":"IF(A753=\"\",\"\",VLOOKUP(A753,[1]ItemConfig!$A:$B,2,FALSE))","v":""},{"$f":"IF(A753=\"\",\"\",VLOOKUP(A753,[1]ItemConfig!$A:$D,4,FALSE))","v":""},{"$f":"IF(A753=\"\",\"\",VLOOKUP(A753,[1]ItemConfig!$A:$C,3,FALSE))","v":""},{"$f":"IF(A753=\"\",\"\",VLOOKUP(B753,[2]語言配置表!$A:$B,2,FALSE))","v":""},{"$f":"IF(A753=\"\",\"\",VLOOKUP(C753,[2]語言配置表!$A:$B,2,FALSE))","v":""}]
[{"$f":"IF([1]ItemConfig!$A757=\"\",\"\",[1]ItemConfig!$A757)","v":""},{"$f":"IF(A754=\"\",\"\",VLOOKUP(A754,[1]ItemConfig!$A:$B,2,FALSE))","v":""},{"$f":"IF(A754=\"\",\"\",VLOOKUP(A754,[1]ItemConfig!$A:$D,4,FALSE))","v":""},{"$f":"IF(A754=\"\",\"\",VLOOKUP(A754,[1]ItemConfig!$A:$C,3,FALSE))","v":""},{"$f":"IF(A754=\"\",\"\",VLOOKUP(B754,[2]語言配置表!$A:$B,2,FALSE))","v":""},{"$f":"IF(A754=\"\",\"\",VLOOKUP(C754,[2]語言配置表!$A:$B,2,FALSE))","v":""}]
[{"$f":"IF([1]ItemConfig!$A758=\"\",\"\",[1]ItemConfig!$A758)","v":""},{"$f":"IF(A755=\"\",\"\",VLOOKUP(A755,[1]ItemConfig!$A:$B,2,FALSE))","v":""},{"$f":"IF(A755=\"\",\"\",VLOOKUP(A755,[1]ItemConfig!$A:$D,4,FALSE))","v":""},{"$f":"IF(A755=\"\",\"\",VLOOKUP(A755,[1]ItemConfig!$A:$C,3,FALSE))","v":""},{"$f":"IF(A755=\"\",\"\",VLOOKUP(B755,[2]語言配置表!$A:$B,2,FALSE))","v":""},{"$f":"IF(A755=\"\",\"\",VLOOKUP(C755,[2]語言配置表!$A:$B,2,FALSE))","v":""}]
[{"$f":"IF([1]ItemConfig!$A759=\"\",\"\",[1]ItemConfig!$A759)","v":""},{"$f":"IF(A756=\"\",\"\",VLOOKUP(A756,[1]ItemConfig!$A:$B,2,FALSE))","v":""},{"$f":"IF(A756=\"\",\"\",VLOOKUP(A756,[1]ItemConfig!$A:$D,4,FALSE))","v":""},{"$f":"IF(A756=\"\",\"\",VLOOKUP(A756,[1]ItemConfig!$A:$C,3,FALSE))","v":""},{"$f":"IF(A756=\"\",\"\",VLOOKUP(B756,[2]語言配置表!$A:$B,2,FALSE))","v":""},{"$f":"IF(A756=\"\",\"\",VLOOKUP(C756,[2]語言配置表!$A:$B,2,FALSE))","v":""}]
[{"$f":"IF([1]ItemConfig!$A760=\"\",\"\",[1]ItemConfig!$A760)","v":""},{"$f":"IF(A757=\"\",\"\",VLOOKUP(A757,[1]ItemConfig!$A:$B,2,FALSE))","v":""},{"$f":"IF(A757=\"\",\"\",VLOOKUP(A757,[1]ItemConfig!$A:$D,4,FALSE))","v":""},{"$f":"IF(A757=\"\",\"\",VLOOKUP(A757,[1]ItemConfig!$A:$C,3,FALSE))","v":""},{"$f":"IF(A757=\"\",\"\",VLOOKUP(B757,[2]語言配置表!$A:$B,2,FALSE))","v":""},{"$f":"IF(A757=\"\",\"\",VLOOKUP(C757,[2]語言配置表!$A:$B,2,FALSE))","v":""}]
[{"$f":"IF([1]ItemConfig!$A761=\"\",\"\",[1]ItemConfig!$A761)","v":""},{"$f":"IF(A758=\"\",\"\",VLOOKUP(A758,[1]ItemConfig!$A:$B,2,FALSE))","v":""},{"$f":"IF(A758=\"\",\"\",VLOOKUP(A758,[1]ItemConfig!$A:$D,4,FALSE))","v":""},{"$f":"IF(A758=\"\",\"\",VLOOKUP(A758,[1]ItemConfig!$A:$C,3,FALSE))","v":""},{"$f":"IF(A758=\"\",\"\",VLOOKUP(B758,[2]語言配置表!$A:$B,2,FALSE))","v":""},{"$f":"IF(A758=\"\",\"\",VLOOKUP(C758,[2]語言配置表!$A:$B,2,FALSE))","v":""}]
[{"$f":"IF([1]ItemConfig!$A762=\"\",\"\",[1]ItemConfig!$A762)","v":""},{"$f":"IF(A759=\"\",\"\",VLOOKUP(A759,[1]ItemConfig!$A:$B,2,FALSE))","v":""},{"$f":"IF(A759=\"\",\"\",VLOOKUP(A759,[1]ItemConfig!$A:$D,4,FALSE))","v":""},{"$f":"IF(A759=\"\",\"\",VLOOKUP(A759,[1]ItemConfig!$A:$C,3,FALSE))","v":""},{"$f":"IF(A759=\"\",\"\",VLOOKUP(B759,[2]語言配置表!$A:$B,2,FALSE))","v":""},{"$f":"IF(A759=\"\",\"\",VLOOKUP(C759,[2]語言配置表!$A:$B,2,FALSE))","v":""}]
[{"$f":"IF([1]ItemConfig!$A763=\"\",\"\",[1]ItemConfig!$A763)","v":""},{"$f":"IF(A760=\"\",\"\",VLOOKUP(A760,[1]ItemConfig!$A:$B,2,FALSE))","v":""},{"$f":"IF(A760=\"\",\"\",VLOOKUP(A760,[1]ItemConfig!$A:$D,4,FALSE))","v":""},{"$f":"IF(A760=\"\",\"\",VLOOKUP(A760,[1]ItemConfig!$A:$C,3,FALSE))","v":""},{"$f":"IF(A760=\"\",\"\",VLOOKUP(B760,[2]語言配置表!$A:$B,2,FALSE))","v":""},{"$f":"IF(A760=\"\",\"\",VLOOKUP(C760,[2]語言配置表!$A:$B,2,FALSE))","v":""}]
[{"$f":"IF([1]ItemConfig!$A764=\"\",\"\",[1]ItemConfig!$A764)","v":""},{"$f":"IF(A761=\"\",\"\",VLOOKUP(A761,[1]ItemConfig!$A:$B,2,FALSE))","v":""},{"$f":"IF(A761=\"\",\"\",VLOOKUP(A761,[1]ItemConfig!$A:$D,4,FALSE))","v":""},{"$f":"IF(A761=\"\",\"\",VLOOKUP(A761,[1]ItemConfig!$A:$C,3,FALSE))","v":""},{"$f":"IF(A761=\"\",\"\",VLOOKUP(B761,[2]語言配置表!$A:$B,2,FALSE))","v":""},{"$f":"IF(A761=\"\",\"\",VLOOKUP(C761,[2]語言配置表!$A:$B,2,FALSE))","v":""}]
[{"$f":"IF([1]ItemConfig!$A765=\"\",\"\",[1]ItemConfig!$A765)","v":""},{"$f":"IF(A762=\"\",\"\",VLOOKUP(A762,[1]ItemConfig!$A:$B,2,FALSE))","v":""},{"$f":"IF(A762=\"\",\"\",VLOOKUP(A762,[1]ItemConfig!$A:$D,4,FALSE))","v":""},{"$f":"IF(A762=\"\",\"\",VLOOKUP(A762,[1]ItemConfig!$A:$C,3,FALSE))","v":""},{"$f":"IF(A762=\"\",\"\",VLOOKUP(B762,[2]語言配置表!$A:$B,2,FALSE))","v":""},{"$f":"IF(A762=\"\",\"\",VLOOKUP(C762,[2]語言配置表!$A:$B,2,FALSE))","v":""}]
[{"$f":"IF([1]ItemConfig!$A766=\"\",\"\",[1]ItemConfig!$A766)","v":""},{"$f":"IF(A763=\"\",\"\",VLOOKUP(A763,[1]ItemConfig!$A:$B,2,FALSE))","v":""},{"$f":"IF(A763=\"\",\"\",VLOOKUP(A763,[1]ItemConfig!$A:$D,4,FALSE))","v":""},{"$f":"IF(A763=\"\",\"\",VLOOKUP(A763,[1]ItemConfig!$A:$C,3,FALSE))","v":""},{"$f":"IF(A763=\"\",\"\",VLOOKUP(B763,[2]語言配置表!$A:$B,2,FALSE))","v":""},{"$f":"IF(A763=\"\",\"\",VLOOKUP(C763,[2]語言配置表!$A:$B,2,FALSE))","v":""}]
[{"$f":"IF([1]ItemConfig!$A767=\"\",\"\",[1]ItemConfig!$A767)","v":""},{"$f":"IF(A764=\"\",\"\",VLOOKUP(A764,[1]ItemConfig!$A:$B,2,FALSE))","v":""},{"$f":"IF(A764=\"\",\"\",VLOOKUP(A764,[1]ItemConfig!$A:$D,4,FALSE))","v":""},{"$f":"IF(A764=\"\",\"\",VLOOKUP(A764,[1]ItemConfig!$A:$C,3,FALSE))","v":""},{"$f":"IF(A764=\"\",\"\",VLOOKUP(B764,[2]語言配置表!$A:$B,2,FALSE))","v":""},{"$f":"IF(A764=\"\",\"\",VLOOKUP(C764,[2]語言配置表!$A:$B,2,FALSE))","v":""}]
[{"$f":"IF([1]ItemConfig!$A768=\"\",\"\",[1]ItemConfig!$A768)","v":""},{"$f":"IF(A765=\"\",\"\",VLOOKUP(A765,[1]ItemConfig!$A:$B,2,FALSE))","v":""},{"$f":"IF(A765=\"\",\"\",VLOOKUP(A765,[1]ItemConfig!$A:$D,4,FALSE))","v":""},{"$f":"IF(A765=\"\",\"\",VLOOKUP(A765,[1]ItemConfig!$A:$C,3,FALSE))","v":""},{"$f":"IF(A765=\"\",\"\",VLOOKUP(B765,[2]語言配置表!$A:$B,2,FALSE))","v":""},{"$f":"IF(A765=\"\",\"\",VLOOKUP(C765,[2]語言配置表!$A:$B,2,FALSE))","v":""}]
[{"$f":"IF([1]ItemConfig!$A769=\"\",\"\",[1]ItemConfig!$A769)","v":""},{"$f":"IF(A766=\"\",\"\",VLOOKUP(A766,[1]ItemConfig!$A:$B,2,FALSE))","v":""},{"$f":"IF(A766=\"\",\"\",VLOOKUP(A766,[1]ItemConfig!$A:$D,4,FALSE))","v":""},{"$f":"IF(A766=\"\",\"\",VLOOKUP(A766,[1]ItemConfig!$A:$C,3,FALSE))","v":""},{"$f":"IF(A766=\"\",\"\",VLOOKUP(B766,[2]語言配置表!$A:$B,2,FALSE))","v":""},{"$f":"IF(A766=\"\",\"\",VLOOKUP(C766,[2]語言配置表!$A:$B,2,FALSE))","v":""}]
[{"$f":"IF([1]ItemConfig!$A770=\"\",\"\",[1]ItemConfig!$A770)","v":""},{"$f":"IF(A767=\"\",\"\",VLOOKUP(A767,[1]ItemConfig!$A:$B,2,FALSE))","v":""},{"$f":"IF(A767=\"\",\"\",VLOOKUP(A767,[1]ItemConfig!$A:$D,4,FALSE))","v":""},{"$f":"IF(A767=\"\",\"\",VLOOKUP(A767,[1]ItemConfig!$A:$C,3,FALSE))","v":""},{"$f":"IF(A767=\"\",\"\",VLOOKUP(B767,[2]語言配置表!$A:$B,2,FALSE))","v":""},{"$f":"IF(A767=\"\",\"\",VLOOKUP(C767,[2]語言配置表!$A:$B,2,FALSE))","v":""}]
[{"$f":"IF([1]ItemConfig!$A771=\"\",\"\",[1]ItemConfig!$A771)","v":""},{"$f":"IF(A768=\"\",\"\",VLOOKUP(A768,[1]ItemConfig!$A:$B,2,FALSE))","v":""},{"$f":"IF(A768=\"\",\"\",VLOOKUP(A768,[1]ItemConfig!$A:$D,4,FALSE))","v":""},{"$f":"IF(A768=\"\",\"\",VLOOKUP(A768,[1]ItemConfig!$A:$C,3,FALSE))","v":""},{"$f":"IF(A768=\"\",\"\",VLOOKUP(B768,[2]語言配置表!$A:$B,2,FALSE))","v":""},{"$f":"IF(A768=\"\",\"\",VLOOKUP(C768,[2]語言配置表!$A:$B,2,FALSE))","v":""}]
[{"$f":"IF([1]ItemConfig!$A772=\"\",\"\",[1]ItemConfig!$A772)","v":""},{"$f":"IF(A769=\"\",\"\",VLOOKUP(A769,[1]ItemConfig!$A:$B,2,FALSE))","v":""},{"$f":"IF(A769=\"\",\"\",VLOOKUP(A769,[1]ItemConfig!$A:$D,4,FALSE))","v":""},{"$f":"IF(A769=\"\",\"\",VLOOKUP(A769,[1]ItemConfig!$A:$C,3,FALSE))","v":""},{"$f":"IF(A769=\"\",\"\",VLOOKUP(B769,[2]語言配置表!$A:$B,2,FALSE))","v":""},{"$f":"IF(A769=\"\",\"\",VLOOKUP(C769,[2]語言配置表!$A:$B,2,FALSE))","v":""}]
[{"$f":"IF([1]ItemConfig!$A773=\"\",\"\",[1]ItemConfig!$A773)","v":""},{"$f":"IF(A770=\"\",\"\",VLOOKUP(A770,[1]ItemConfig!$A:$B,2,FALSE))","v":""},{"$f":"IF(A770=\"\",\"\",VLOOKUP(A770,[1]ItemConfig!$A:$D,4,FALSE))","v":""},{"$f":"IF(A770=\"\",\"\",VLOOKUP(A770,[1]ItemConfig!$A:$C,3,FALSE))","v":""},{"$f":"IF(A770=\"\",\"\",VLOOKUP(B770,[2]語言配置表!$A:$B,2,FALSE))","v":""},{"$f":"IF(A770=\"\",\"\",VLOOKUP(C770,[2]語言配置表!$A:$B,2,FALSE))","v":""}]
[{"$f":"IF([1]ItemConfig!$A774=\"\",\"\",[1]ItemConfig!$A774)","v":""},{"$f":"IF(A771=\"\",\"\",VLOOKUP(A771,[1]ItemConfig!$A:$B,2,FALSE))","v":""},{"$f":"IF(A771=\"\",\"\",VLOOKUP(A771,[1]ItemConfig!$A:$D,4,FALSE))","v":""},{"$f":"IF(A771=\"\",\"\",VLOOKUP(A771,[1]ItemConfig!$A:$C,3,FALSE))","v":""},{"$f":"IF(A771=\"\",\"\",VLOOKUP(B771,[2]語言配置表!$A:$B,2,FALSE))","v":""},{"$f":"IF(A771=\"\",\"\",VLOOKUP(C771,[2]語言配置表!$A:$B,2,FALSE))","v":""}]
[{"$f":"IF([1]ItemConfig!$A775=\"\",\"\",[1]ItemConfig!$A775)","v":""},{"$f":"IF(A772=\"\",\"\",VLOOKUP(A772,[1]ItemConfig!$A:$B,2,FALSE))","v":""},{"$f":"IF(A772=\"\",\"\",VLOOKUP(A772,[1]ItemConfig!$A:$D,4,FALSE))","v":""},{"$f":"IF(A772=\"\",\"\",VLOOKUP(A772,[1]ItemConfig!$A:$C,3,FALSE))","v":""},{"$f":"IF(A772=\"\",\"\",VLOOKUP(B772,[2]語言配置表!$A:$B,2,FALSE))","v":""},{"$f":"IF(A772=\"\",\"\",VLOOKUP(C772,[2]語言配置表!$A:$B,2,FALSE))","v":""}]
[{"$f":"IF([1]ItemConfig!$A776=\"\",\"\",[1]ItemConfig!$A776)","v":""},{"$f":"IF(A773=\"\",\"\",VLOOKUP(A773,[1]ItemConfig!$A:$B,2,FALSE))","v":""},{"$f":"IF(A773=\"\",\"\",VLOOKUP(A773,[1]ItemConfig!$A:$D,4,FALSE))","v":""},{"$f":"IF(A773=\"\",\"\",VLOOKUP(A773,[1]ItemConfig!$A:$C,3,FALSE))","v":""},{"$f":"IF(A773=\"\",\"\",VLOOKUP(B773,[2]語言配置表!$A:$B,2,FALSE))","v":""},{"$f":"IF(A773=\"\",\"\",VLOOKUP(C773,[2]語言配置表!$A:$B,2,FALSE))","v":""}]
[{"$f":"IF([1]ItemConfig!$A777=\"\",\"\",[1]ItemConfig!$A777)","v":""},{"$f":"IF(A774=\"\",\"\",VLOOKUP(A774,[1]ItemConfig!$A:$B,2,FALSE))","v":""},{"$f":"IF(A774=\"\",\"\",VLOOKUP(A774,[1]ItemConfig!$A:$D,4,FALSE))","v":""},{"$f":"IF(A774=\"\",\"\",VLOOKUP(A774,[1]ItemConfig!$A:$C,3,FALSE))","v":""},{"$f":"IF(A774=\"\",\"\",VLOOKUP(B774,[2]語言配置表!$A:$B,2,FALSE))","v":""},{"$f":"IF(A774=\"\",\"\",VLOOKUP(C774,[2]語言配置表!$A:$B,2,FALSE))","v":""}]
[{"$f":"IF([1]ItemConfig!$A778=\"\",\"\",[1]ItemConfig!$A778)","v":""},{"$f":"IF(A775=\"\",\"\",VLOOKUP(A775,[1]ItemConfig!$A:$B,2,FALSE))","v":""},{"$f":"IF(A775=\"\",\"\",VLOOKUP(A775,[1]ItemConfig!$A:$D,4,FALSE))","v":""},{"$f":"IF(A775=\"\",\"\",VLOOKUP(A775,[1]ItemConfig!$A:$C,3,FALSE))","v":""},{"$f":"IF(A775=\"\",\"\",VLOOKUP(B775,[2]語言配置表!$A:$B,2,FALSE))","v":""},{"$f":"IF(A775=\"\",\"\",VLOOKUP(C775,[2]語言配置表!$A:$B,2,FALSE))","v":""}]
[{"$f":"IF([1]ItemConfig!$A779=\"\",\"\",[1]ItemConfig!$A779)","v":""},{"$f":"IF(A776=\"\",\"\",VLOOKUP(A776,[1]ItemConfig!$A:$B,2,FALSE))","v":""},{"$f":"IF(A776=\"\",\"\",VLOOKUP(A776,[1]ItemConfig!$A:$D,4,FALSE))","v":""},{"$f":"IF(A776=\"\",\"\",VLOOKUP(A776,[1]ItemConfig!$A:$C,3,FALSE))","v":""},{"$f":"IF(A776=\"\",\"\",VLOOKUP(B776,[2]語言配置表!$A:$B,2,FALSE))","v":""},{"$f":"IF(A776=\"\",\"\",VLOOKUP(C776,[2]語言配置表!$A:$B,2,FALSE))","v":""}]
[{"$f":"IF([1]ItemConfig!$A780=\"\",\"\",[1]ItemConfig!$A780)","v":""},{"$f":"IF(A777=\"\",\"\",VLOOKUP(A777,[1]ItemConfig!$A:$B,2,FALSE))","v":""},{"$f":"IF(A777=\"\",\"\",VLOOKUP(A777,[1]ItemConfig!$A:$D,4,FALSE))","v":""},{"$f":"IF(A777=\"\",\"\",VLOOKUP(A777,[1]ItemConfig!$A:$C,3,FALSE))","v":""},{"$f":"IF(A777=\"\",\"\",VLOOKUP(B777,[2]語言配置表!$A:$B,2,FALSE))","v":""},{"$f":"IF(A777=\"\",\"\",VLOOKUP(C777,[2]語言配置表!$A:$B,2,FALSE))","v":""}]
[{"$f":"IF([1]ItemConfig!$A781=\"\",\"\",[1]ItemConfig!$A781)","v":""},{"$f":"IF(A778=\"\",\"\",VLOOKUP(A778,[1]ItemConfig!$A:$B,2,FALSE))","v":""},{"$f":"IF(A778=\"\",\"\",VLOOKUP(A778,[1]ItemConfig!$A:$D,4,FALSE))","v":""},{"$f":"IF(A778=\"\",\"\",VLOOKUP(A778,[1]ItemConfig!$A:$C,3,FALSE))","v":""},{"$f":"IF(A778=\"\",\"\",VLOOKUP(B778,[2]語言配置表!$A:$B,2,FALSE))","v":""},{"$f":"IF(A778=\"\",\"\",VLOOKUP(C778,[2]語言配置表!$A:$B,2,FALSE))","v":""}]
[{"$f":"IF([1]ItemConfig!$A782=\"\",\"\",[1]ItemConfig!$A782)","v":""},{"$f":"IF(A779=\"\",\"\",VLOOKUP(A779,[1]ItemConfig!$A:$B,2,FALSE))","v":""},{"$f":"IF(A779=\"\",\"\",VLOOKUP(A779,[1]ItemConfig!$A:$D,4,FALSE))","v":""},{"$f":"IF(A779=\"\",\"\",VLOOKUP(A779,[1]ItemConfig!$A:$C,3,FALSE))","v":""},{"$f":"IF(A779=\"\",\"\",VLOOKUP(B779,[2]語言配置表!$A:$B,2,FALSE))","v":""},{"$f":"IF(A779=\"\",\"\",VLOOKUP(C779,[2]語言配置表!$A:$B,2,FALSE))","v":""}]
[{"$f":"IF([1]ItemConfig!$A783=\"\",\"\",[1]ItemConfig!$A783)","v":""},{"$f":"IF(A780=\"\",\"\",VLOOKUP(A780,[1]ItemConfig!$A:$B,2,FALSE))","v":""},{"$f":"IF(A780=\"\",\"\",VLOOKUP(A780,[1]ItemConfig!$A:$D,4,FALSE))","v":""},{"$f":"IF(A780=\"\",\"\",VLOOKUP(A780,[1]ItemConfig!$A:$C,3,FALSE))","v":""},{"$f":"IF(A780=\"\",\"\",VLOOKUP(B780,[2]語言配置表!$A:$B,2,FALSE))","v":""},{"$f":"IF(A780=\"\",\"\",VLOOKUP(C780,[2]語言配置表!$A:$B,2,FALSE))","v":""}]
[{"$f":"IF([1]ItemConfig!$A784=\"\",\"\",[1]ItemConfig!$A784)","v":""},{"$f":"IF(A781=\"\",\"\",VLOOKUP(A781,[1]ItemConfig!$A:$B,2,FALSE))","v":""},{"$f":"IF(A781=\"\",\"\",VLOOKUP(A781,[1]ItemConfig!$A:$D,4,FALSE))","v":""},{"$f":"IF(A781=\"\",\"\",VLOOKUP(A781,[1]ItemConfig!$A:$C,3,FALSE))","v":""},{"$f":"IF(A781=\"\",\"\",VLOOKUP(B781,[2]語言配置表!$A:$B,2,FALSE))","v":""},{"$f":"IF(A781=\"\",\"\",VLOOKUP(C781,[2]語言配置表!$A:$B,2,FALSE))","v":""}]
[{"$f":"IF([1]ItemConfig!$A785=\"\",\"\",[1]ItemConfig!$A785)","v":""},{"$f":"IF(A782=\"\",\"\",VLOOKUP(A782,[1]ItemConfig!$A:$B,2,FALSE))","v":""},{"$f":"IF(A782=\"\",\"\",VLOOKUP(A782,[1]ItemConfig!$A:$D,4,FALSE))","v":""},{"$f":"IF(A782=\"\",\"\",VLOOKUP(A782,[1]ItemConfig!$A:$C,3,FALSE))","v":""},{"$f":"IF(A782=\"\",\"\",VLOOKUP(B782,[2]語言配置表!$A:$B,2,FALSE))","v":""},{"$f":"IF(A782=\"\",\"\",VLOOKUP(C782,[2]語言配置表!$A:$B,2,FALSE))","v":""}]
[{"$f":"IF([1]ItemConfig!$A786=\"\",\"\",[1]ItemConfig!$A786)","v":""},{"$f":"IF(A783=\"\",\"\",VLOOKUP(A783,[1]ItemConfig!$A:$B,2,FALSE))","v":""},{"$f":"IF(A783=\"\",\"\",VLOOKUP(A783,[1]ItemConfig!$A:$D,4,FALSE))","v":""},{"$f":"IF(A783=\"\",\"\",VLOOKUP(A783,[1]ItemConfig!$A:$C,3,FALSE))","v":""},{"$f":"IF(A783=\"\",\"\",VLOOKUP(B783,[2]語言配置表!$A:$B,2,FALSE))","v":""},{"$f":"IF(A783=\"\",\"\",VLOOKUP(C783,[2]語言配置表!$A:$B,2,FALSE))","v":""}]
[{"$f":"IF([1]ItemConfig!$A787=\"\",\"\",[1]ItemConfig!$A787)","v":""},{"$f":"IF(A784=\"\",\"\",VLOOKUP(A784,[1]ItemConfig!$A:$B,2,FALSE))","v":""},{"$f":"IF(A784=\"\",\"\",VLOOKUP(A784,[1]ItemConfig!$A:$D,4,FALSE))","v":""},{"$f":"IF(A784=\"\",\"\",VLOOKUP(A784,[1]ItemConfig!$A:$C,3,FALSE))","v":""},{"$f":"IF(A784=\"\",\"\",VLOOKUP(B784,[2]語言配置表!$A:$B,2,FALSE))","v":""},{"$f":"IF(A784=\"\",\"\",VLOOKUP(C784,[2]語言配置表!$A:$B,2,FALSE))","v":""}]
[{"$f":"IF([1]ItemConfig!$A788=\"\",\"\",[1]ItemConfig!$A788)","v":""},{"$f":"IF(A785=\"\",\"\",VLOOKUP(A785,[1]ItemConfig!$A:$B,2,FALSE))","v":""},{"$f":"IF(A785=\"\",\"\",VLOOKUP(A785,[1]ItemConfig!$A:$D,4,FALSE))","v":""},{"$f":"IF(A785=\"\",\"\",VLOOKUP(A785,[1]ItemConfig!$A:$C,3,FALSE))","v":""},{"$f":"IF(A785=\"\",\"\",VLOOKUP(B785,[2]語言配置表!$A:$B,2,FALSE))","v":""},{"$f":"IF(A785=\"\",\"\",VLOOKUP(C785,[2]語言配置表!$A:$B,2,FALSE))","v":""}]
[{"$f":"IF([1]ItemConfig!$A789=\"\",\"\",[1]ItemConfig!$A789)","v":""},{"$f":"IF(A786=\"\",\"\",VLOOKUP(A786,[1]ItemConfig!$A:$B,2,FALSE))","v":""},{"$f":"IF(A786=\"\",\"\",VLOOKUP(A786,[1]ItemConfig!$A:$D,4,FALSE))","v":""},{"$f":"IF(A786=\"\",\"\",VLOOKUP(A786,[1]ItemConfig!$A:$C,3,FALSE))","v":""},{"$f":"IF(A786=\"\",\"\",VLOOKUP(B786,[2]語言配置表!$A:$B,2,FALSE))","v":""},{"$f":"IF(A786=\"\",\"\",VLOOKUP(C786,[2]語言配置表!$A:$B,2,FALSE))","v":""}]
[{"$f":"IF([1]ItemConfig!$A790=\"\",\"\",[1]ItemConfig!$A790)","v":""},{"$f":"IF(A787=\"\",\"\",VLOOKUP(A787,[1]ItemConfig!$A:$B,2,FALSE))","v":""},{"$f":"IF(A787=\"\",\"\",VLOOKUP(A787,[1]ItemConfig!$A:$D,4,FALSE))","v":""},{"$f":"IF(A787=\"\",\"\",VLOOKUP(A787,[1]ItemConfig!$A:$C,3,FALSE))","v":""},{"$f":"IF(A787=\"\",\"\",VLOOKUP(B787,[2]語言配置表!$A:$B,2,FALSE))","v":""},{"$f":"IF(A787=\"\",\"\",VLOOKUP(C787,[2]語言配置表!$A:$B,2,FALSE))","v":""}]
[{"$f":"IF([1]ItemConfig!$A791=\"\",\"\",[1]ItemConfig!$A791)","v":""},{"$f":"IF(A788=\"\",\"\",VLOOKUP(A788,[1]ItemConfig!$A:$B,2,FALSE))","v":""},{"$f":"IF(A788=\"\",\"\",VLOOKUP(A788,[1]ItemConfig!$A:$D,4,FALSE))","v":""},{"$f":"IF(A788=\"\",\"\",VLOOKUP(A788,[1]ItemConfig!$A:$C,3,FALSE))","v":""},{"$f":"IF(A788=\"\",\"\",VLOOKUP(B788,[2]語言配置表!$A:$B,2,FALSE))","v":""},{"$f":"IF(A788=\"\",\"\",VLOOKUP(C788,[2]語言配置表!$A:$B,2,FALSE))","v":""}]
[{"$f":"IF([1]ItemConfig!$A792=\"\",\"\",[1]ItemConfig!$A792)","v":""},{"$f":"IF(A789=\"\",\"\",VLOOKUP(A789,[1]ItemConfig!$A:$B,2,FALSE))","v":""},{"$f":"IF(A789=\"\",\"\",VLOOKUP(A789,[1]ItemConfig!$A:$D,4,FALSE))","v":""},{"$f":"IF(A789=\"\",\"\",VLOOKUP(A789,[1]ItemConfig!$A:$C,3,FALSE))","v":""},{"$f":"IF(A789=\"\",\"\",VLOOKUP(B789,[2]語言配置表!$A:$B,2,FALSE))","v":""},{"$f":"IF(A789=\"\",\"\",VLOOKUP(C789,[2]語言配置表!$A:$B,2,FALSE))","v":""}]
[{"$f":"IF([1]ItemConfig!$A793=\"\",\"\",[1]ItemConfig!$A793)","v":""},{"$f":"IF(A790=\"\",\"\",VLOOKUP(A790,[1]ItemConfig!$A:$B,2,FALSE))","v":""},{"$f":"IF(A790=\"\",\"\",VLOOKUP(A790,[1]ItemConfig!$A:$D,4,FALSE))","v":""},{"$f":"IF(A790=\"\",\"\",VLOOKUP(A790,[1]ItemConfig!$A:$C,3,FALSE))","v":""},{"$f":"IF(A790=\"\",\"\",VLOOKUP(B790,[2]語言配置表!$A:$B,2,FALSE))","v":""},{"$f":"IF(A790=\"\",\"\",VLOOKUP(C790,[2]語言配置表!$A:$B,2,FALSE))","v":""}]
[{"$f":"IF([1]ItemConfig!$A794=\"\",\"\",[1]ItemConfig!$A794)","v":""},{"$f":"IF(A791=\"\",\"\",VLOOKUP(A791,[1]ItemConfig!$A:$B,2,FALSE))","v":""},{"$f":"IF(A791=\"\",\"\",VLOOKUP(A791,[1]ItemConfig!$A:$D,4,FALSE))","v":""},{"$f":"IF(A791=\"\",\"\",VLOOKUP(A791,[1]ItemConfig!$A:$C,3,FALSE))","v":""},{"$f":"IF(A791=\"\",\"\",VLOOKUP(B791,[2]語言配置表!$A:$B,2,FALSE))","v":""},{"$f":"IF(A791=\"\",\"\",VLOOKUP(C791,[2]語言配置表!$A:$B,2,FALSE))","v":""}]
[{"$f":"IF([1]ItemConfig!$A795=\"\",\"\",[1]ItemConfig!$A795)","v":""},{"$f":"IF(A792=\"\",\"\",VLOOKUP(A792,[1]ItemConfig!$A:$B,2,FALSE))","v":""},{"$f":"IF(A792=\"\",\"\",VLOOKUP(A792,[1]ItemConfig!$A:$D,4,FALSE))","v":""},{"$f":"IF(A792=\"\",\"\",VLOOKUP(A792,[1]ItemConfig!$A:$C,3,FALSE))","v":""},{"$f":"IF(A792=\"\",\"\",VLOOKUP(B792,[2]語言配置表!$A:$B,2,FALSE))","v":""},{"$f":"IF(A792=\"\",\"\",VLOOKUP(C792,[2]語言配置表!$A:$B,2,FALSE))","v":""}]
[{"$f":"IF([1]ItemConfig!$A796=\"\",\"\",[1]ItemConfig!$A796)","v":""},{"$f":"IF(A793=\"\",\"\",VLOOKUP(A793,[1]ItemConfig!$A:$B,2,FALSE))","v":""},{"$f":"IF(A793=\"\",\"\",VLOOKUP(A793,[1]ItemConfig!$A:$D,4,FALSE))","v":""},{"$f":"IF(A793=\"\",\"\",VLOOKUP(A793,[1]ItemConfig!$A:$C,3,FALSE))","v":""},{"$f":"IF(A793=\"\",\"\",VLOOKUP(B793,[2]語言配置表!$A:$B,2,FALSE))","v":""},{"$f":"IF(A793=\"\",\"\",VLOOKUP(C793,[2]語言配置表!$A:$B,2,FALSE))","v":""}]
[{"$f":"IF([1]ItemConfig!$A797=\"\",\"\",[1]ItemConfig!$A797)","v":""},{"$f":"IF(A794=\"\",\"\",VLOOKUP(A794,[1]ItemConfig!$A:$B,2,FALSE))","v":""},{"$f":"IF(A794=\"\",\"\",VLOOKUP(A794,[1]ItemConfig!$A:$D,4,FALSE))","v":""},{"$f":"IF(A794=\"\",\"\",VLOOKUP(A794,[1]ItemConfig!$A:$C,3,FALSE))","v":""},{"$f":"IF(A794=\"\",\"\",VLOOKUP(B794,[2]語言配置表!$A:$B,2,FALSE))","v":""},{"$f":"IF(A794=\"\",\"\",VLOOKUP(C794,[2]語言配置表!$A:$B,2,FALSE))","v":""}]
[{"$f":"IF([1]ItemConfig!$A798=\"\",\"\",[1]ItemConfig!$A798)","v":""},{"$f":"IF(A795=\"\",\"\",VLOOKUP(A795,[1]ItemConfig!$A:$B,2,FALSE))","v":""},{"$f":"IF(A795=\"\",\"\",VLOOKUP(A795,[1]ItemConfig!$A:$D,4,FALSE))","v":""},{"$f":"IF(A795=\"\",\"\",VLOOKUP(A795,[1]ItemConfig!$A:$C,3,FALSE))","v":""},{"$f":"IF(A795=\"\",\"\",VLOOKUP(B795,[2]語言配置表!$A:$B,2,FALSE))","v":""},{"$f":"IF(A795=\"\",\"\",VLOOKUP(C795,[2]語言配置表!$A:$B,2,FALSE))","v":""}]
[{"$f":"IF([1]ItemConfig!$A799=\"\",\"\",[1]ItemConfig!$A799)","v":""},{"$f":"IF(A796=\"\",\"\",VLOOKUP(A796,[1]ItemConfig!$A:$B,2,FALSE))","v":""},{"$f":"IF(A796=\"\",\"\",VLOOKUP(A796,[1]ItemConfig!$A:$D,4,FALSE))","v":""},{"$f":"IF(A796=\"\",\"\",VLOOKUP(A796,[1]ItemConfig!$A:$C,3,FALSE))","v":""},{"$f":"IF(A796=\"\",\"\",VLOOKUP(B796,[2]語言配置表!$A:$B,2,FALSE))","v":""},{"$f":"IF(A796=\"\",\"\",VLOOKUP(C796,[2]語言配置表!$A:$B,2,FALSE))","v":""}]
[{"$f":"IF([1]ItemConfig!$A800=\"\",\"\",[1]ItemConfig!$A800)","v":""},{"$f":"IF(A797=\"\",\"\",VLOOKUP(A797,[1]ItemConfig!$A:$B,2,FALSE))","v":""},{"$f":"IF(A797=\"\",\"\",VLOOKUP(A797,[1]ItemConfig!$A:$D,4,FALSE))","v":""},{"$f":"IF(A797=\"\",\"\",VLOOKUP(A797,[1]ItemConfig!$A:$C,3,FALSE))","v":""},{"$f":"IF(A797=\"\",\"\",VLOOKUP(B797,[2]語言配置表!$A:$B,2,FALSE))","v":""},{"$f":"IF(A797=\"\",\"\",VLOOKUP(C797,[2]語言配置表!$A:$B,2,FALSE))","v":""}]
[{"$f":"IF([1]ItemConfig!$A801=\"\",\"\",[1]ItemConfig!$A801)","v":""},{"$f":"IF(A798=\"\",\"\",VLOOKUP(A798,[1]ItemConfig!$A:$B,2,FALSE))","v":""},{"$f":"IF(A798=\"\",\"\",VLOOKUP(A798,[1]ItemConfig!$A:$D,4,FALSE))","v":""},{"$f":"IF(A798=\"\",\"\",VLOOKUP(A798,[1]ItemConfig!$A:$C,3,FALSE))","v":""},{"$f":"IF(A798=\"\",\"\",VLOOKUP(B798,[2]語言配置表!$A:$B,2,FALSE))","v":""},{"$f":"IF(A798=\"\",\"\",VLOOKUP(C798,[2]語言配置表!$A:$B,2,FALSE))","v":""}]
[{"$f":"IF([1]ItemConfig!$A802=\"\",\"\",[1]ItemConfig!$A802)","v":""},{"$f":"IF(A799=\"\",\"\",VLOOKUP(A799,[1]ItemConfig!$A:$B,2,FALSE))","v":""},{"$f":"IF(A799=\"\",\"\",VLOOKUP(A799,[1]ItemConfig!$A:$D,4,FALSE))","v":""},{"$f":"IF(A799=\"\",\"\",VLOOKUP(A799,[1]ItemConfig!$A:$C,3,FALSE))","v":""},{"$f":"IF(A799=\"\",\"\",VLOOKUP(B799,[2]語言配置表!$A:$B,2,FALSE))","v":""},{"$f":"IF(A799=\"\",\"\",VLOOKUP(C799,[2]語言配置表!$A:$B,2,FALSE))","v":""}]
[{"$f":"IF([1]ItemConfig!$A803=\"\",\"\",[1]ItemConfig!$A803)","v":""},{"$f":"IF(A800=\"\",\"\",VLOOKUP(A800,[1]ItemConfig!$A:$B,2,FALSE))","v":""},{"$f":"IF(A800=\"\",\"\",VLOOKUP(A800,[1]ItemConfig!$A:$D,4,FALSE))","v":""},{"$f":"IF(A800=\"\",\"\",VLOOKUP(A800,[1]ItemConfig!$A:$C,3,FALSE))","v":""},{"$f":"IF(A800=\"\",\"\",VLOOKUP(B800,[2]語言配置表!$A:$B,2,FALSE))","v":""},{"$f":"IF(A800=\"\",\"\",VLOOKUP(C800,[2]語言配置表!$A:$B,2,FALSE))","v":""}]
[{"$f":"IF([1]ItemConfig!$A804=\"\",\"\",[1]ItemConfig!$A804)","v":""},{"$f":"IF(A801=\"\",\"\",VLOOKUP(A801,[1]ItemConfig!$A:$B,2,FALSE))","v":""},{"$f":"IF(A801=\"\",\"\",VLOOKUP(A801,[1]ItemConfig!$A:$D,4,FALSE))","v":""},{"$f":"IF(A801=\"\",\"\",VLOOKUP(A801,[1]ItemConfig!$A:$C,3,FALSE))","v":""},{"$f":"IF(A801=\"\",\"\",VLOOKUP(B801,[2]語言配置表!$A:$B,2,FALSE))","v":""},{"$f":"IF(A801=\"\",\"\",VLOOKUP(C801,[2]語言配置表!$A:$B,2,FALSE))","v":""}]
[{"$f":"IF([1]ItemConfig!$A805=\"\",\"\",[1]ItemConfig!$A805)","v":""},{"$f":"IF(A802=\"\",\"\",VLOOKUP(A802,[1]ItemConfig!$A:$B,2,FALSE))","v":""},{"$f":"IF(A802=\"\",\"\",VLOOKUP(A802,[1]ItemConfig!$A:$D,4,FALSE))","v":""},{"$f":"IF(A802=\"\",\"\",VLOOKUP(A802,[1]ItemConfig!$A:$C,3,FALSE))","v":""},{"$f":"IF(A802=\"\",\"\",VLOOKUP(B802,[2]語言配置表!$A:$B,2,FALSE))","v":""},{"$f":"IF(A802=\"\",\"\",VLOOKUP(C802,[2]語言配置表!$A:$B,2,FALSE))","v":""}]
[{"$f":"IF([1]ItemConfig!$A806=\"\",\"\",[1]ItemConfig!$A806)","v":""},{"$f":"IF(A803=\"\",\"\",VLOOKUP(A803,[1]ItemConfig!$A:$B,2,FALSE))","v":""},{"$f":"IF(A803=\"\",\"\",VLOOKUP(A803,[1]ItemConfig!$A:$D,4,FALSE))","v":""},{"$f":"IF(A803=\"\",\"\",VLOOKUP(A803,[1]ItemConfig!$A:$C,3,FALSE))","v":""},{"$f":"IF(A803=\"\",\"\",VLOOKUP(B803,[2]語言配置表!$A:$B,2,FALSE))","v":""},{"$f":"IF(A803=\"\",\"\",VLOOKUP(C803,[2]語言配置表!$A:$B,2,FALSE))","v":""}]
[{"$f":"IF([1]ItemConfig!$A807=\"\",\"\",[1]ItemConfig!$A807)","v":""},{"$f":"IF(A804=\"\",\"\",VLOOKUP(A804,[1]ItemConfig!$A:$B,2,FALSE))","v":""},{"$f":"IF(A804=\"\",\"\",VLOOKUP(A804,[1]ItemConfig!$A:$D,4,FALSE))","v":""},{"$f":"IF(A804=\"\",\"\",VLOOKUP(A804,[1]ItemConfig!$A:$C,3,FALSE))","v":""},{"$f":"IF(A804=\"\",\"\",VLOOKUP(B804,[2]語言配置表!$A:$B,2,FALSE))","v":""},{"$f":"IF(A804=\"\",\"\",VLOOKUP(C804,[2]語言配置表!$A:$B,2,FALSE))","v":""}]
[{"$f":"IF([1]ItemConfig!$A808=\"\",\"\",[1]ItemConfig!$A808)","v":""},{"$f":"IF(A805=\"\",\"\",VLOOKUP(A805,[1]ItemConfig!$A:$B,2,FALSE))","v":""},{"$f":"IF(A805=\"\",\"\",VLOOKUP(A805,[1]ItemConfig!$A:$D,4,FALSE))","v":""},{"$f":"IF(A805=\"\",\"\",VLOOKUP(A805,[1]ItemConfig!$A:$C,3,FALSE))","v":""},{"$f":"IF(A805=\"\",\"\",VLOOKUP(B805,[2]語言配置表!$A:$B,2,FALSE))","v":""},{"$f":"IF(A805=\"\",\"\",VLOOKUP(C805,[2]語言配置表!$A:$B,2,FALSE))","v":""}]
[{"$f":"IF([1]ItemConfig!$A809=\"\",\"\",[1]ItemConfig!$A809)","v":""},{"$f":"IF(A806=\"\",\"\",VLOOKUP(A806,[1]ItemConfig!$A:$B,2,FALSE))","v":""},{"$f":"IF(A806=\"\",\"\",VLOOKUP(A806,[1]ItemConfig!$A:$D,4,FALSE))","v":""},{"$f":"IF(A806=\"\",\"\",VLOOKUP(A806,[1]ItemConfig!$A:$C,3,FALSE))","v":""},{"$f":"IF(A806=\"\",\"\",VLOOKUP(B806,[2]語言配置表!$A:$B,2,FALSE))","v":""},{"$f":"IF(A806=\"\",\"\",VLOOKUP(C806,[2]語言配置表!$A:$B,2,FALSE))","v":""}]
[{"$f":"IF([1]ItemConfig!$A810=\"\",\"\",[1]ItemConfig!$A810)","v":""},{"$f":"IF(A807=\"\",\"\",VLOOKUP(A807,[1]ItemConfig!$A:$B,2,FALSE))","v":""},{"$f":"IF(A807=\"\",\"\",VLOOKUP(A807,[1]ItemConfig!$A:$D,4,FALSE))","v":""},{"$f":"IF(A807=\"\",\"\",VLOOKUP(A807,[1]ItemConfig!$A:$C,3,FALSE))","v":""},{"$f":"IF(A807=\"\",\"\",VLOOKUP(B807,[2]語言配置表!$A:$B,2,FALSE))","v":""},{"$f":"IF(A807=\"\",\"\",VLOOKUP(C807,[2]語言配置表!$A:$B,2,FALSE))","v":""}]
[{"$f":"IF([1]ItemConfig!$A811=\"\",\"\",[1]ItemConfig!$A811)","v":""},{"$f":"IF(A808=\"\",\"\",VLOOKUP(A808,[1]ItemConfig!$A:$B,2,FALSE))","v":""},{"$f":"IF(A808=\"\",\"\",VLOOKUP(A808,[1]ItemConfig!$A:$D,4,FALSE))","v":""},{"$f":"IF(A808=\"\",\"\",VLOOKUP(A808,[1]ItemConfig!$A:$C,3,FALSE))","v":""},{"$f":"IF(A808=\"\",\"\",VLOOKUP(B808,[2]語言配置表!$A:$B,2,FALSE))","v":""},{"$f":"IF(A808=\"\",\"\",VLOOKUP(C808,[2]語言配置表!$A:$B,2,FALSE))","v":""}]
[{"$f":"IF([1]ItemConfig!$A812=\"\",\"\",[1]ItemConfig!$A812)","v":""},{"$f":"IF(A809=\"\",\"\",VLOOKUP(A809,[1]ItemConfig!$A:$B,2,FALSE))","v":""},{"$f":"IF(A809=\"\",\"\",VLOOKUP(A809,[1]ItemConfig!$A:$D,4,FALSE))","v":""},{"$f":"IF(A809=\"\",\"\",VLOOKUP(A809,[1]ItemConfig!$A:$C,3,FALSE))","v":""},{"$f":"IF(A809=\"\",\"\",VLOOKUP(B809,[2]語言配置表!$A:$B,2,FALSE))","v":""},{"$f":"IF(A809=\"\",\"\",VLOOKUP(C809,[2]語言配置表!$A:$B,2,FALSE))","v":""}]
[{"$f":"IF([1]ItemConfig!$A813=\"\",\"\",[1]ItemConfig!$A813)","v":""},{"$f":"IF(A810=\"\",\"\",VLOOKUP(A810,[1]ItemConfig!$A:$B,2,FALSE))","v":""},{"$f":"IF(A810=\"\",\"\",VLOOKUP(A810,[1]ItemConfig!$A:$D,4,FALSE))","v":""},{"$f":"IF(A810=\"\",\"\",VLOOKUP(A810,[1]ItemConfig!$A:$C,3,FALSE))","v":""},{"$f":"IF(A810=\"\",\"\",VLOOKUP(B810,[2]語言配置表!$A:$B,2,FALSE))","v":""},{"$f":"IF(A810=\"\",\"\",VLOOKUP(C810,[2]語言配置表!$A:$B,2,FALSE))","v":""}]
[{"$f":"IF([1]ItemConfig!$A814=\"\",\"\",[1]ItemConfig!$A814)","v":""},{"$f":"IF(A811=\"\",\"\",VLOOKUP(A811,[1]ItemConfig!$A:$B,2,FALSE))","v":""},{"$f":"IF(A811=\"\",\"\",VLOOKUP(A811,[1]ItemConfig!$A:$D,4,FALSE))","v":""},{"$f":"IF(A811=\"\",\"\",VLOOKUP(A811,[1]ItemConfig!$A:$C,3,FALSE))","v":""},{"$f":"IF(A811=\"\",\"\",VLOOKUP(B811,[2]語言配置表!$A:$B,2,FALSE))","v":""},{"$f":"IF(A811=\"\",\"\",VLOOKUP(C811,[2]語言配置表!$A:$B,2,FALSE))","v":""}]
[{"$f":"IF([1]ItemConfig!$A815=\"\",\"\",[1]ItemConfig!$A815)","v":""},{"$f":"IF(A812=\"\",\"\",VLOOKUP(A812,[1]ItemConfig!$A:$B,2,FALSE))","v":""},{"$f":"IF(A812=\"\",\"\",VLOOKUP(A812,[1]ItemConfig!$A:$D,4,FALSE))","v":""},{"$f":"IF(A812=\"\",\"\",VLOOKUP(A812,[1]ItemConfig!$A:$C,3,FALSE))","v":""},{"$f":"IF(A812=\"\",\"\",VLOOKUP(B812,[2]語言配置表!$A:$B,2,FALSE))","v":""},{"$f":"IF(A812=\"\",\"\",VLOOKUP(C812,[2]語言配置表!$A:$B,2,FALSE))","v":""}]
[{"$f":"IF([1]ItemConfig!$A816=\"\",\"\",[1]ItemConfig!$A816)","v":""},{"$f":"IF(A813=\"\",\"\",VLOOKUP(A813,[1]ItemConfig!$A:$B,2,FALSE))","v":""},{"$f":"IF(A813=\"\",\"\",VLOOKUP(A813,[1]ItemConfig!$A:$D,4,FALSE))","v":""},{"$f":"IF(A813=\"\",\"\",VLOOKUP(A813,[1]ItemConfig!$A:$C,3,FALSE))","v":""},{"$f":"IF(A813=\"\",\"\",VLOOKUP(B813,[2]語言配置表!$A:$B,2,FALSE))","v":""},{"$f":"IF(A813=\"\",\"\",VLOOKUP(C813,[2]語言配置表!$A:$B,2,FALSE))","v":""}]
[{"$f":"IF([1]ItemConfig!$A817=\"\",\"\",[1]ItemConfig!$A817)","v":""},{"$f":"IF(A814=\"\",\"\",VLOOKUP(A814,[1]ItemConfig!$A:$B,2,FALSE))","v":""},{"$f":"IF(A814=\"\",\"\",VLOOKUP(A814,[1]ItemConfig!$A:$D,4,FALSE))","v":""},{"$f":"IF(A814=\"\",\"\",VLOOKUP(A814,[1]ItemConfig!$A:$C,3,FALSE))","v":""},{"$f":"IF(A814=\"\",\"\",VLOOKUP(B814,[2]語言配置表!$A:$B,2,FALSE))","v":""},{"$f":"IF(A814=\"\",\"\",VLOOKUP(C814,[2]語言配置表!$A:$B,2,FALSE))","v":""}]
[{"$f":"IF([1]ItemConfig!$A818=\"\",\"\",[1]ItemConfig!$A818)","v":""},{"$f":"IF(A815=\"\",\"\",VLOOKUP(A815,[1]ItemConfig!$A:$B,2,FALSE))","v":""},{"$f":"IF(A815=\"\",\"\",VLOOKUP(A815,[1]ItemConfig!$A:$D,4,FALSE))","v":""},{"$f":"IF(A815=\"\",\"\",VLOOKUP(A815,[1]ItemConfig!$A:$C,3,FALSE))","v":""},{"$f":"IF(A815=\"\",\"\",VLOOKUP(B815,[2]語言配置表!$A:$B,2,FALSE))","v":""},{"$f":"IF(A815=\"\",\"\",VLOOKUP(C815,[2]語言配置表!$A:$B,2,FALSE))","v":""}]
[{"$f":"IF([1]ItemConfig!$A819=\"\",\"\",[1]ItemConfig!$A819)","v":""},{"$f":"IF(A816=\"\",\"\",VLOOKUP(A816,[1]ItemConfig!$A:$B,2,FALSE))","v":""},{"$f":"IF(A816=\"\",\"\",VLOOKUP(A816,[1]ItemConfig!$A:$D,4,FALSE))","v":""},{"$f":"IF(A816=\"\",\"\",VLOOKUP(A816,[1]ItemConfig!$A:$C,3,FALSE))","v":""},{"$f":"IF(A816=\"\",\"\",VLOOKUP(B816,[2]語言配置表!$A:$B,2,FALSE))","v":""},{"$f":"IF(A816=\"\",\"\",VLOOKUP(C816,[2]語言配置表!$A:$B,2,FALSE))","v":""}]
[{"$f":"IF([1]ItemConfig!$A820=\"\",\"\",[1]ItemConfig!$A820)","v":""},{"$f":"IF(A817=\"\",\"\",VLOOKUP(A817,[1]ItemConfig!$A:$B,2,FALSE))","v":""},{"$f":"IF(A817=\"\",\"\",VLOOKUP(A817,[1]ItemConfig!$A:$D,4,FALSE))","v":""},{"$f":"IF(A817=\"\",\"\",VLOOKUP(A817,[1]ItemConfig!$A:$C,3,FALSE))","v":""},{"$f":"IF(A817=\"\",\"\",VLOOKUP(B817,[2]語言配置表!$A:$B,2,FALSE))","v":""},{"$f":"IF(A817=\"\",\"\",VLOOKUP(C817,[2]語言配置表!$A:$B,2,FALSE))","v":""}]
[{"$f":"IF([1]ItemConfig!$A821=\"\",\"\",[1]ItemConfig!$A821)","v":""},{"$f":"IF(A818=\"\",\"\",VLOOKUP(A818,[1]ItemConfig!$A:$B,2,FALSE))","v":""},{"$f":"IF(A818=\"\",\"\",VLOOKUP(A818,[1]ItemConfig!$A:$D,4,FALSE))","v":""},{"$f":"IF(A818=\"\",\"\",VLOOKUP(A818,[1]ItemConfig!$A:$C,3,FALSE))","v":""},{"$f":"IF(A818=\"\",\"\",VLOOKUP(B818,[2]語言配置表!$A:$B,2,FALSE))","v":""},{"$f":"IF(A818=\"\",\"\",VLOOKUP(C818,[2]語言配置表!$A:$B,2,FALSE))","v":""}]
[{"$f":"IF([1]ItemConfig!$A822=\"\",\"\",[1]ItemConfig!$A822)","v":""},{"$f":"IF(A819=\"\",\"\",VLOOKUP(A819,[1]ItemConfig!$A:$B,2,FALSE))","v":""},{"$f":"IF(A819=\"\",\"\",VLOOKUP(A819,[1]ItemConfig!$A:$D,4,FALSE))","v":""},{"$f":"IF(A819=\"\",\"\",VLOOKUP(A819,[1]ItemConfig!$A:$C,3,FALSE))","v":""},{"$f":"IF(A819=\"\",\"\",VLOOKUP(B819,[2]語言配置表!$A:$B,2,FALSE))","v":""},{"$f":"IF(A819=\"\",\"\",VLOOKUP(C819,[2]語言配置表!$A:$B,2,FALSE))","v":""}]
[{"$f":"IF([1]ItemConfig!$A823=\"\",\"\",[1]ItemConfig!$A823)","v":""},{"$f":"IF(A820=\"\",\"\",VLOOKUP(A820,[1]ItemConfig!$A:$B,2,FALSE))","v":""},{"$f":"IF(A820=\"\",\"\",VLOOKUP(A820,[1]ItemConfig!$A:$D,4,FALSE))","v":""},{"$f":"IF(A820=\"\",\"\",VLOOKUP(A820,[1]ItemConfig!$A:$C,3,FALSE))","v":""},{"$f":"IF(A820=\"\",\"\",VLOOKUP(B820,[2]語言配置表!$A:$B,2,FALSE))","v":""},{"$f":"IF(A820=\"\",\"\",VLOOKUP(C820,[2]語言配置表!$A:$B,2,FALSE))","v":""}]
[{"$f":"IF([1]ItemConfig!$A824=\"\",\"\",[1]ItemConfig!$A824)","v":""},{"$f":"IF(A821=\"\",\"\",VLOOKUP(A821,[1]ItemConfig!$A:$B,2,FALSE))","v":""},{"$f":"IF(A821=\"\",\"\",VLOOKUP(A821,[1]ItemConfig!$A:$D,4,FALSE))","v":""},{"$f":"IF(A821=\"\",\"\",VLOOKUP(A821,[1]ItemConfig!$A:$C,3,FALSE))","v":""},{"$f":"IF(A821=\"\",\"\",VLOOKUP(B821,[2]語言配置表!$A:$B,2,FALSE))","v":""},{"$f":"IF(A821=\"\",\"\",VLOOKUP(C821,[2]語言配置表!$A:$B,2,FALSE))","v":""}]
[{"$f":"IF([1]ItemConfig!$A825=\"\",\"\",[1]ItemConfig!$A825)","v":""},{"$f":"IF(A822=\"\",\"\",VLOOKUP(A822,[1]ItemConfig!$A:$B,2,FALSE))","v":""},{"$f":"IF(A822=\"\",\"\",VLOOKUP(A822,[1]ItemConfig!$A:$D,4,FALSE))","v":""},{"$f":"IF(A822=\"\",\"\",VLOOKUP(A822,[1]ItemConfig!$A:$C,3,FALSE))","v":""},{"$f":"IF(A822=\"\",\"\",VLOOKUP(B822,[2]語言配置表!$A:$B,2,FALSE))","v":""},{"$f":"IF(A822=\"\",\"\",VLOOKUP(C822,[2]語言配置表!$A:$B,2,FALSE))","v":""}]
[{"$f":"IF([1]ItemConfig!$A826=\"\",\"\",[1]ItemConfig!$A826)","v":""},{"$f":"IF(A823=\"\",\"\",VLOOKUP(A823,[1]ItemConfig!$A:$B,2,FALSE))","v":""},{"$f":"IF(A823=\"\",\"\",VLOOKUP(A823,[1]ItemConfig!$A:$D,4,FALSE))","v":""},{"$f":"IF(A823=\"\",\"\",VLOOKUP(A823,[1]ItemConfig!$A:$C,3,FALSE))","v":""},{"$f":"IF(A823=\"\",\"\",VLOOKUP(B823,[2]語言配置表!$A:$B,2,FALSE))","v":""},{"$f":"IF(A823=\"\",\"\",VLOOKUP(C823,[2]語言配置表!$A:$B,2,FALSE))","v":""}]
[{"$f":"IF([1]ItemConfig!$A827=\"\",\"\",[1]ItemConfig!$A827)","v":""},{"$f":"IF(A824=\"\",\"\",VLOOKUP(A824,[1]ItemConfig!$A:$B,2,FALSE))","v":""},{"$f":"IF(A824=\"\",\"\",VLOOKUP(A824,[1]ItemConfig!$A:$D,4,FALSE))","v":""},{"$f":"IF(A824=\"\",\"\",VLOOKUP(A824,[1]ItemConfig!$A:$C,3,FALSE))","v":""},{"$f":"IF(A824=\"\",\"\",VLOOKUP(B824,[2]語言配置表!$A:$B,2,FALSE))","v":""},{"$f":"IF(A824=\"\",\"\",VLOOKUP(C824,[2]語言配置表!$A:$B,2,FALSE))","v":""}]
[{"$f":"IF([1]ItemConfig!$A828=\"\",\"\",[1]ItemConfig!$A828)","v":""},{"$f":"IF(A825=\"\",\"\",VLOOKUP(A825,[1]ItemConfig!$A:$B,2,FALSE))","v":""},{"$f":"IF(A825=\"\",\"\",VLOOKUP(A825,[1]ItemConfig!$A:$D,4,FALSE))","v":""},{"$f":"IF(A825=\"\",\"\",VLOOKUP(A825,[1]ItemConfig!$A:$C,3,FALSE))","v":""},{"$f":"IF(A825=\"\",\"\",VLOOKUP(B825,[2]語言配置表!$A:$B,2,FALSE))","v":""},{"$f":"IF(A825=\"\",\"\",VLOOKUP(C825,[2]語言配置表!$A:$B,2,FALSE))","v":""}]
[{"$f":"IF([1]ItemConfig!$A829=\"\",\"\",[1]ItemConfig!$A829)","v":""},{"$f":"IF(A826=\"\",\"\",VLOOKUP(A826,[1]ItemConfig!$A:$B,2,FALSE))","v":""},{"$f":"IF(A826=\"\",\"\",VLOOKUP(A826,[1]ItemConfig!$A:$D,4,FALSE))","v":""},{"$f":"IF(A826=\"\",\"\",VLOOKUP(A826,[1]ItemConfig!$A:$C,3,FALSE))","v":""},{"$f":"IF(A826=\"\",\"\",VLOOKUP(B826,[2]語言配置表!$A:$B,2,FALSE))","v":""},{"$f":"IF(A826=\"\",\"\",VLOOKUP(C826,[2]語言配置表!$A:$B,2,FALSE))","v":""}]
[{"$f":"IF([1]ItemConfig!$A830=\"\",\"\",[1]ItemConfig!$A830)","v":""},{"$f":"IF(A827=\"\",\"\",VLOOKUP(A827,[1]ItemConfig!$A:$B,2,FALSE))","v":""},{"$f":"IF(A827=\"\",\"\",VLOOKUP(A827,[1]ItemConfig!$A:$D,4,FALSE))","v":""},{"$f":"IF(A827=\"\",\"\",VLOOKUP(A827,[1]ItemConfig!$A:$C,3,FALSE))","v":""},{"$f":"IF(A827=\"\",\"\",VLOOKUP(B827,[2]語言配置表!$A:$B,2,FALSE))","v":""},{"$f":"IF(A827=\"\",\"\",VLOOKUP(C827,[2]語言配置表!$A:$B,2,FALSE))","v":""}]
[{"$f":"IF([1]ItemConfig!$A831=\"\",\"\",[1]ItemConfig!$A831)","v":""},{"$f":"IF(A828=\"\",\"\",VLOOKUP(A828,[1]ItemConfig!$A:$B,2,FALSE))","v":""},{"$f":"IF(A828=\"\",\"\",VLOOKUP(A828,[1]ItemConfig!$A:$D,4,FALSE))","v":""},{"$f":"IF(A828=\"\",\"\",VLOOKUP(A828,[1]ItemConfig!$A:$C,3,FALSE))","v":""},{"$f":"IF(A828=\"\",\"\",VLOOKUP(B828,[2]語言配置表!$A:$B,2,FALSE))","v":""},{"$f":"IF(A828=\"\",\"\",VLOOKUP(C828,[2]語言配置表!$A:$B,2,FALSE))","v":""}]
[{"$f":"IF([1]ItemConfig!$A832=\"\",\"\",[1]ItemConfig!$A832)","v":""},{"$f":"IF(A829=\"\",\"\",VLOOKUP(A829,[1]ItemConfig!$A:$B,2,FALSE))","v":""},{"$f":"IF(A829=\"\",\"\",VLOOKUP(A829,[1]ItemConfig!$A:$D,4,FALSE))","v":""},{"$f":"IF(A829=\"\",\"\",VLOOKUP(A829,[1]ItemConfig!$A:$C,3,FALSE))","v":""},{"$f":"IF(A829=\"\",\"\",VLOOKUP(B829,[2]語言配置表!$A:$B,2,FALSE))","v":""},{"$f":"IF(A829=\"\",\"\",VLOOKUP(C829,[2]語言配置表!$A:$B,2,FALSE))","v":""}]
[{"$f":"IF([1]ItemConfig!$A833=\"\",\"\",[1]ItemConfig!$A833)","v":""},{"$f":"IF(A830=\"\",\"\",VLOOKUP(A830,[1]ItemConfig!$A:$B,2,FALSE))","v":""},{"$f":"IF(A830=\"\",\"\",VLOOKUP(A830,[1]ItemConfig!$A:$D,4,FALSE))","v":""},{"$f":"IF(A830=\"\",\"\",VLOOKUP(A830,[1]ItemConfig!$A:$C,3,FALSE))","v":""},{"$f":"IF(A830=\"\",\"\",VLOOKUP(B830,[2]語言配置表!$A:$B,2,FALSE))","v":""},{"$f":"IF(A830=\"\",\"\",VLOOKUP(C830,[2]語言配置表!$A:$B,2,FALSE))","v":""}]
[{"$f":"IF([1]ItemConfig!$A834=\"\",\"\",[1]ItemConfig!$A834)","v":""},{"$f":"IF(A831=\"\",\"\",VLOOKUP(A831,[1]ItemConfig!$A:$B,2,FALSE))","v":""},{"$f":"IF(A831=\"\",\"\",VLOOKUP(A831,[1]ItemConfig!$A:$D,4,FALSE))","v":""},{"$f":"IF(A831=\"\",\"\",VLOOKUP(A831,[1]ItemConfig!$A:$C,3,FALSE))","v":""},{"$f":"IF(A831=\"\",\"\",VLOOKUP(B831,[2]語言配置表!$A:$B,2,FALSE))","v":""},{"$f":"IF(A831=\"\",\"\",VLOOKUP(C831,[2]語言配置表!$A:$B,2,FALSE))","v":""}]
[{"$f":"IF([1]ItemConfig!$A835=\"\",\"\",[1]ItemConfig!$A835)","v":""},{"$f":"IF(A832=\"\",\"\",VLOOKUP(A832,[1]ItemConfig!$A:$B,2,FALSE))","v":""},{"$f":"IF(A832=\"\",\"\",VLOOKUP(A832,[1]ItemConfig!$A:$D,4,FALSE))","v":""},{"$f":"IF(A832=\"\",\"\",VLOOKUP(A832,[1]ItemConfig!$A:$C,3,FALSE))","v":""},{"$f":"IF(A832=\"\",\"\",VLOOKUP(B832,[2]語言配置表!$A:$B,2,FALSE))","v":""},{"$f":"IF(A832=\"\",\"\",VLOOKUP(C832,[2]語言配置表!$A:$B,2,FALSE))","v":""}]
[{"$f":"IF([1]ItemConfig!$A836=\"\",\"\",[1]ItemConfig!$A836)","v":""},{"$f":"IF(A833=\"\",\"\",VLOOKUP(A833,[1]ItemConfig!$A:$B,2,FALSE))","v":""},{"$f":"IF(A833=\"\",\"\",VLOOKUP(A833,[1]ItemConfig!$A:$D,4,FALSE))","v":""},{"$f":"IF(A833=\"\",\"\",VLOOKUP(A833,[1]ItemConfig!$A:$C,3,FALSE))","v":""},{"$f":"IF(A833=\"\",\"\",VLOOKUP(B833,[2]語言配置表!$A:$B,2,FALSE))","v":""},{"$f":"IF(A833=\"\",\"\",VLOOKUP(C833,[2]語言配置表!$A:$B,2,FALSE))","v":""}]
[{"$f":"IF([1]ItemConfig!$A837=\"\",\"\",[1]ItemConfig!$A837)","v":""},{"$f":"IF(A834=\"\",\"\",VLOOKUP(A834,[1]ItemConfig!$A:$B,2,FALSE))","v":""},{"$f":"IF(A834=\"\",\"\",VLOOKUP(A834,[1]ItemConfig!$A:$D,4,FALSE))","v":""},{"$f":"IF(A834=\"\",\"\",VLOOKUP(A834,[1]ItemConfig!$A:$C,3,FALSE))","v":""},{"$f":"IF(A834=\"\",\"\",VLOOKUP(B834,[2]語言配置表!$A:$B,2,FALSE))","v":""},{"$f":"IF(A834=\"\",\"\",VLOOKUP(C834,[2]語言配置表!$A:$B,2,FALSE))","v":""}]
[{"$f":"IF([1]ItemConfig!$A838=\"\",\"\",[1]ItemConfig!$A838)","v":""},{"$f":"IF(A835=\"\",\"\",VLOOKUP(A835,[1]ItemConfig!$A:$B,2,FALSE))","v":""},{"$f":"IF(A835=\"\",\"\",VLOOKUP(A835,[1]ItemConfig!$A:$D,4,FALSE))","v":""},{"$f":"IF(A835=\"\",\"\",VLOOKUP(A835,[1]ItemConfig!$A:$C,3,FALSE))","v":""},{"$f":"IF(A835=\"\",\"\",VLOOKUP(B835,[2]語言配置表!$A:$B,2,FALSE))","v":""},{"$f":"IF(A835=\"\",\"\",VLOOKUP(C835,[2]語言配置表!$A:$B,2,FALSE))","v":""}]
[{"$f":"IF([1]ItemConfig!$A839=\"\",\"\",[1]ItemConfig!$A839)","v":""},{"$f":"IF(A836=\"\",\"\",VLOOKUP(A836,[1]ItemConfig!$A:$B,2,FALSE))","v":""},{"$f":"IF(A836=\"\",\"\",VLOOKUP(A836,[1]ItemConfig!$A:$D,4,FALSE))","v":""},{"$f":"IF(A836=\"\",\"\",VLOOKUP(A836,[1]ItemConfig!$A:$C,3,FALSE))","v":""},{"$f":"IF(A836=\"\",\"\",VLOOKUP(B836,[2]語言配置表!$A:$B,2,FALSE))","v":""},{"$f":"IF(A836=\"\",\"\",VLOOKUP(C836,[2]語言配置表!$A:$B,2,FALSE))","v":""}]
[{"$f":"IF([1]ItemConfig!$A840=\"\",\"\",[1]ItemConfig!$A840)","v":""},{"$f":"IF(A837=\"\",\"\",VLOOKUP(A837,[1]ItemConfig!$A:$B,2,FALSE))","v":""},{"$f":"IF(A837=\"\",\"\",VLOOKUP(A837,[1]ItemConfig!$A:$D,4,FALSE))","v":""},{"$f":"IF(A837=\"\",\"\",VLOOKUP(A837,[1]ItemConfig!$A:$C,3,FALSE))","v":""},{"$f":"IF(A837=\"\",\"\",VLOOKUP(B837,[2]語言配置表!$A:$B,2,FALSE))","v":""},{"$f":"IF(A837=\"\",\"\",VLOOKUP(C837,[2]語言配置表!$A:$B,2,FALSE))","v":""}]
[{"$f":"IF([1]ItemConfig!$A841=\"\",\"\",[1]ItemConfig!$A841)","v":""},{"$f":"IF(A838=\"\",\"\",VLOOKUP(A838,[1]ItemConfig!$A:$B,2,FALSE))","v":""},{"$f":"IF(A838=\"\",\"\",VLOOKUP(A838,[1]ItemConfig!$A:$D,4,FALSE))","v":""},{"$f":"IF(A838=\"\",\"\",VLOOKUP(A838,[1]ItemConfig!$A:$C,3,FALSE))","v":""},{"$f":"IF(A838=\"\",\"\",VLOOKUP(B838,[2]語言配置表!$A:$B,2,FALSE))","v":""},{"$f":"IF(A838=\"\",\"\",VLOOKUP(C838,[2]語言配置表!$A:$B,2,FALSE))","v":""}]
[{"$f":"IF([1]ItemConfig!$A842=\"\",\"\",[1]ItemConfig!$A842)","v":""},{"$f":"IF(A839=\"\",\"\",VLOOKUP(A839,[1]ItemConfig!$A:$B,2,FALSE))","v":""},{"$f":"IF(A839=\"\",\"\",VLOOKUP(A839,[1]ItemConfig!$A:$D,4,FALSE))","v":""},{"$f":"IF(A839=\"\",\"\",VLOOKUP(A839,[1]ItemConfig!$A:$C,3,FALSE))","v":""},{"$f":"IF(A839=\"\",\"\",VLOOKUP(B839,[2]語言配置表!$A:$B,2,FALSE))","v":""},{"$f":"IF(A839=\"\",\"\",VLOOKUP(C839,[2]語言配置表!$A:$B,2,FALSE))","v":""}]
[{"$f":"IF([1]ItemConfig!$A843=\"\",\"\",[1]ItemConfig!$A843)","v":""},{"$f":"IF(A840=\"\",\"\",VLOOKUP(A840,[1]ItemConfig!$A:$B,2,FALSE))","v":""},{"$f":"IF(A840=\"\",\"\",VLOOKUP(A840,[1]ItemConfig!$A:$D,4,FALSE))","v":""},{"$f":"IF(A840=\"\",\"\",VLOOKUP(A840,[1]ItemConfig!$A:$C,3,FALSE))","v":""},{"$f":"IF(A840=\"\",\"\",VLOOKUP(B840,[2]語言配置表!$A:$B,2,FALSE))","v":""},{"$f":"IF(A840=\"\",\"\",VLOOKUP(C840,[2]語言配置表!$A:$B,2,FALSE))","v":""}]
[{"$f":"IF([1]ItemConfig!$A844=\"\",\"\",[1]ItemConfig!$A844)","v":""},{"$f":"IF(A841=\"\",\"\",VLOOKUP(A841,[1]ItemConfig!$A:$B,2,FALSE))","v":""},{"$f":"IF(A841=\"\",\"\",VLOOKUP(A841,[1]ItemConfig!$A:$D,4,FALSE))","v":""},{"$f":"IF(A841=\"\",\"\",VLOOKUP(A841,[1]ItemConfig!$A:$C,3,FALSE))","v":""},{"$f":"IF(A841=\"\",\"\",VLOOKUP(B841,[2]語言配置表!$A:$B,2,FALSE))","v":""},{"$f":"IF(A841=\"\",\"\",VLOOKUP(C841,[2]語言配置表!$A:$B,2,FALSE))","v":""}]
[{"$f":"IF([1]ItemConfig!$A845=\"\",\"\",[1]ItemConfig!$A845)","v":""},{"$f":"IF(A842=\"\",\"\",VLOOKUP(A842,[1]ItemConfig!$A:$B,2,FALSE))","v":""},{"$f":"IF(A842=\"\",\"\",VLOOKUP(A842,[1]ItemConfig!$A:$D,4,FALSE))","v":""},{"$f":"IF(A842=\"\",\"\",VLOOKUP(A842,[1]ItemConfig!$A:$C,3,FALSE))","v":""},{"$f":"IF(A842=\"\",\"\",VLOOKUP(B842,[2]語言配置表!$A:$B,2,FALSE))","v":""},{"$f":"IF(A842=\"\",\"\",VLOOKUP(C842,[2]語言配置表!$A:$B,2,FALSE))","v":""}]
[{"$f":"IF([1]ItemConfig!$A846=\"\",\"\",[1]ItemConfig!$A846)","v":""},{"$f":"IF(A843=\"\",\"\",VLOOKUP(A843,[1]ItemConfig!$A:$B,2,FALSE))","v":""},{"$f":"IF(A843=\"\",\"\",VLOOKUP(A843,[1]ItemConfig!$A:$D,4,FALSE))","v":""},{"$f":"IF(A843=\"\",\"\",VLOOKUP(A843,[1]ItemConfig!$A:$C,3,FALSE))","v":""},{"$f":"IF(A843=\"\",\"\",VLOOKUP(B843,[2]語言配置表!$A:$B,2,FALSE))","v":""},{"$f":"IF(A843=\"\",\"\",VLOOKUP(C843,[2]語言配置表!$A:$B,2,FALSE))","v":""}]
[{"$f":"IF([1]ItemConfig!$A847=\"\",\"\",[1]ItemConfig!$A847)","v":""},{"$f":"IF(A844=\"\",\"\",VLOOKUP(A844,[1]ItemConfig!$A:$B,2,FALSE))","v":""},{"$f":"IF(A844=\"\",\"\",VLOOKUP(A844,[1]ItemConfig!$A:$D,4,FALSE))","v":""},{"$f":"IF(A844=\"\",\"\",VLOOKUP(A844,[1]ItemConfig!$A:$C,3,FALSE))","v":""},{"$f":"IF(A844=\"\",\"\",VLOOKUP(B844,[2]語言配置表!$A:$B,2,FALSE))","v":""},{"$f":"IF(A844=\"\",\"\",VLOOKUP(C844,[2]語言配置表!$A:$B,2,FALSE))","v":""}]
[{"$f":"IF([1]ItemConfig!$A848=\"\",\"\",[1]ItemConfig!$A848)","v":""},{"$f":"IF(A845=\"\",\"\",VLOOKUP(A845,[1]ItemConfig!$A:$B,2,FALSE))","v":""},{"$f":"IF(A845=\"\",\"\",VLOOKUP(A845,[1]ItemConfig!$A:$D,4,FALSE))","v":""},{"$f":"IF(A845=\"\",\"\",VLOOKUP(A845,[1]ItemConfig!$A:$C,3,FALSE))","v":""},{"$f":"IF(A845=\"\",\"\",VLOOKUP(B845,[2]語言配置表!$A:$B,2,FALSE))","v":""},{"$f":"IF(A845=\"\",\"\",VLOOKUP(C845,[2]語言配置表!$A:$B,2,FALSE))","v":""}]
[{"$f":"IF([1]ItemConfig!$A849=\"\",\"\",[1]ItemConfig!$A849)","v":""},{"$f":"IF(A846=\"\",\"\",VLOOKUP(A846,[1]ItemConfig!$A:$B,2,FALSE))","v":""},{"$f":"IF(A846=\"\",\"\",VLOOKUP(A846,[1]ItemConfig!$A:$D,4,FALSE))","v":""},{"$f":"IF(A846=\"\",\"\",VLOOKUP(A846,[1]ItemConfig!$A:$C,3,FALSE))","v":""},{"$f":"IF(A846=\"\",\"\",VLOOKUP(B846,[2]語言配置表!$A:$B,2,FALSE))","v":""},{"$f":"IF(A846=\"\",\"\",VLOOKUP(C846,[2]語言配置表!$A:$B,2,FALSE))","v":""}]
[{"$f":"IF([1]ItemConfig!$A850=\"\",\"\",[1]ItemConfig!$A850)","v":""},{"$f":"IF(A847=\"\",\"\",VLOOKUP(A847,[1]ItemConfig!$A:$B,2,FALSE))","v":""},{"$f":"IF(A847=\"\",\"\",VLOOKUP(A847,[1]ItemConfig!$A:$D,4,FALSE))","v":""},{"$f":"IF(A847=\"\",\"\",VLOOKUP(A847,[1]ItemConfig!$A:$C,3,FALSE))","v":""},{"$f":"IF(A847=\"\",\"\",VLOOKUP(B847,[2]語言配置表!$A:$B,2,FALSE))","v":""},{"$f":"IF(A847=\"\",\"\",VLOOKUP(C847,[2]語言配置表!$A:$B,2,FALSE))","v":""}]
[{"$f":"IF([1]ItemConfig!$A851=\"\",\"\",[1]ItemConfig!$A851)","v":""},{"$f":"IF(A848=\"\",\"\",VLOOKUP(A848,[1]ItemConfig!$A:$B,2,FALSE))","v":""},{"$f":"IF(A848=\"\",\"\",VLOOKUP(A848,[1]ItemConfig!$A:$D,4,FALSE))","v":""},{"$f":"IF(A848=\"\",\"\",VLOOKUP(A848,[1]ItemConfig!$A:$C,3,FALSE))","v":""},{"$f":"IF(A848=\"\",\"\",VLOOKUP(B848,[2]語言配置表!$A:$B,2,FALSE))","v":""},{"$f":"IF(A848=\"\",\"\",VLOOKUP(C848,[2]語言配置表!$A:$B,2,FALSE))","v":""}]
[{"$f":"IF([1]ItemConfig!$A852=\"\",\"\",[1]ItemConfig!$A852)","v":""},{"$f":"IF(A849=\"\",\"\",VLOOKUP(A849,[1]ItemConfig!$A:$B,2,FALSE))","v":""},{"$f":"IF(A849=\"\",\"\",VLOOKUP(A849,[1]ItemConfig!$A:$D,4,FALSE))","v":""},{"$f":"IF(A849=\"\",\"\",VLOOKUP(A849,[1]ItemConfig!$A:$C,3,FALSE))","v":""},{"$f":"IF(A849=\"\",\"\",VLOOKUP(B849,[2]語言配置表!$A:$B,2,FALSE))","v":""},{"$f":"IF(A849=\"\",\"\",VLOOKUP(C849,[2]語言配置表!$A:$B,2,FALSE))","v":""}]
[{"$f":"IF([1]ItemConfig!$A853=\"\",\"\",[1]ItemConfig!$A853)","v":""},{"$f":"IF(A850=\"\",\"\",VLOOKUP(A850,[1]ItemConfig!$A:$B,2,FALSE))","v":""},{"$f":"IF(A850=\"\",\"\",VLOOKUP(A850,[1]ItemConfig!$A:$D,4,FALSE))","v":""},{"$f":"IF(A850=\"\",\"\",VLOOKUP(A850,[1]ItemConfig!$A:$C,3,FALSE))","v":""},{"$f":"IF(A850=\"\",\"\",VLOOKUP(B850,[2]語言配置表!$A:$B,2,FALSE))","v":""},{"$f":"IF(A850=\"\",\"\",VLOOKUP(C850,[2]語言配置表!$A:$B,2,FALSE))","v":""}]
[{"$f":"IF([1]ItemConfig!$A854=\"\",\"\",[1]ItemConfig!$A854)","v":""},{"$f":"IF(A851=\"\",\"\",VLOOKUP(A851,[1]ItemConfig!$A:$B,2,FALSE))","v":""},{"$f":"IF(A851=\"\",\"\",VLOOKUP(A851,[1]ItemConfig!$A:$D,4,FALSE))","v":""},{"$f":"IF(A851=\"\",\"\",VLOOKUP(A851,[1]ItemConfig!$A:$C,3,FALSE))","v":""},{"$f":"IF(A851=\"\",\"\",VLOOKUP(B851,[2]語言配置表!$A:$B,2,FALSE))","v":""},{"$f":"IF(A851=\"\",\"\",VLOOKUP(C851,[2]語言配置表!$A:$B,2,FALSE))","v":""}]
[{"$f":"IF([1]ItemConfig!$A855=\"\",\"\",[1]ItemConfig!$A855)","v":""},{"$f":"IF(A852=\"\",\"\",VLOOKUP(A852,[1]ItemConfig!$A:$B,2,FALSE))","v":""},{"$f":"IF(A852=\"\",\"\",VLOOKUP(A852,[1]ItemConfig!$A:$D,4,FALSE))","v":""},{"$f":"IF(A852=\"\",\"\",VLOOKUP(A852,[1]ItemConfig!$A:$C,3,FALSE))","v":""},{"$f":"IF(A852=\"\",\"\",VLOOKUP(B852,[2]語言配置表!$A:$B,2,FALSE))","v":""},{"$f":"IF(A852=\"\",\"\",VLOOKUP(C852,[2]語言配置表!$A:$B,2,FALSE))","v":""}]
[{"$f":"IF([1]ItemConfig!$A856=\"\",\"\",[1]ItemConfig!$A856)","v":""},{"$f":"IF(A853=\"\",\"\",VLOOKUP(A853,[1]ItemConfig!$A:$B,2,FALSE))","v":""},{"$f":"IF(A853=\"\",\"\",VLOOKUP(A853,[1]ItemConfig!$A:$D,4,FALSE))","v":""},{"$f":"IF(A853=\"\",\"\",VLOOKUP(A853,[1]ItemConfig!$A:$C,3,FALSE))","v":""},{"$f":"IF(A853=\"\",\"\",VLOOKUP(B853,[2]語言配置表!$A:$B,2,FALSE))","v":""},{"$f":"IF(A853=\"\",\"\",VLOOKUP(C853,[2]語言配置表!$A:$B,2,FALSE))","v":""}]
[{"$f":"IF([1]ItemConfig!$A857=\"\",\"\",[1]ItemConfig!$A857)","v":""},{"$f":"IF(A854=\"\",\"\",VLOOKUP(A854,[1]ItemConfig!$A:$B,2,FALSE))","v":""},{"$f":"IF(A854=\"\",\"\",VLOOKUP(A854,[1]ItemConfig!$A:$D,4,FALSE))","v":""},{"$f":"IF(A854=\"\",\"\",VLOOKUP(A854,[1]ItemConfig!$A:$C,3,FALSE))","v":""},{"$f":"IF(A854=\"\",\"\",VLOOKUP(B854,[2]語言配置表!$A:$B,2,FALSE))","v":""},{"$f":"IF(A854=\"\",\"\",VLOOKUP(C854,[2]語言配置表!$A:$B,2,FALSE))","v":""}]
[{"$f":"IF([1]ItemConfig!$A858=\"\",\"\",[1]ItemConfig!$A858)","v":""},{"$f":"IF(A855=\"\",\"\",VLOOKUP(A855,[1]ItemConfig!$A:$B,2,FALSE))","v":""},{"$f":"IF(A855=\"\",\"\",VLOOKUP(A855,[1]ItemConfig!$A:$D,4,FALSE))","v":""},{"$f":"IF(A855=\"\",\"\",VLOOKUP(A855,[1]ItemConfig!$A:$C,3,FALSE))","v":""},{"$f":"IF(A855=\"\",\"\",VLOOKUP(B855,[2]語言配置表!$A:$B,2,FALSE))","v":""},{"$f":"IF(A855=\"\",\"\",VLOOKUP(C855,[2]語言配置表!$A:$B,2,FALSE))","v":""}]
[{"$f":"IF([1]ItemConfig!$A859=\"\",\"\",[1]ItemConfig!$A859)","v":""},{"$f":"IF(A856=\"\",\"\",VLOOKUP(A856,[1]ItemConfig!$A:$B,2,FALSE))","v":""},{"$f":"IF(A856=\"\",\"\",VLOOKUP(A856,[1]ItemConfig!$A:$D,4,FALSE))","v":""},{"$f":"IF(A856=\"\",\"\",VLOOKUP(A856,[1]ItemConfig!$A:$C,3,FALSE))","v":""},{"$f":"IF(A856=\"\",\"\",VLOOKUP(B856,[2]語言配置表!$A:$B,2,FALSE))","v":""},{"$f":"IF(A856=\"\",\"\",VLOOKUP(C856,[2]語言配置表!$A:$B,2,FALSE))","v":""}]
[{"$f":"IF([1]ItemConfig!$A860=\"\",\"\",[1]ItemConfig!$A860)","v":""},{"$f":"IF(A857=\"\",\"\",VLOOKUP(A857,[1]ItemConfig!$A:$B,2,FALSE))","v":""},{"$f":"IF(A857=\"\",\"\",VLOOKUP(A857,[1]ItemConfig!$A:$D,4,FALSE))","v":""},{"$f":"IF(A857=\"\",\"\",VLOOKUP(A857,[1]ItemConfig!$A:$C,3,FALSE))","v":""},{"$f":"IF(A857=\"\",\"\",VLOOKUP(B857,[2]語言配置表!$A:$B,2,FALSE))","v":""},{"$f":"IF(A857=\"\",\"\",VLOOKUP(C857,[2]語言配置表!$A:$B,2,FALSE))","v":""}]
[{"$f":"IF([1]ItemConfig!$A861=\"\",\"\",[1]ItemConfig!$A861)","v":""},{"$f":"IF(A858=\"\",\"\",VLOOKUP(A858,[1]ItemConfig!$A:$B,2,FALSE))","v":""},{"$f":"IF(A858=\"\",\"\",VLOOKUP(A858,[1]ItemConfig!$A:$D,4,FALSE))","v":""},{"$f":"IF(A858=\"\",\"\",VLOOKUP(A858,[1]ItemConfig!$A:$C,3,FALSE))","v":""},{"$f":"IF(A858=\"\",\"\",VLOOKUP(B858,[2]語言配置表!$A:$B,2,FALSE))","v":""},{"$f":"IF(A858=\"\",\"\",VLOOKUP(C858,[2]語言配置表!$A:$B,2,FALSE))","v":""}]
[{"$f":"IF([1]ItemConfig!$A862=\"\",\"\",[1]ItemConfig!$A862)","v":""},{"$f":"IF(A859=\"\",\"\",VLOOKUP(A859,[1]ItemConfig!$A:$B,2,FALSE))","v":""},{"$f":"IF(A859=\"\",\"\",VLOOKUP(A859,[1]ItemConfig!$A:$D,4,FALSE))","v":""},{"$f":"IF(A859=\"\",\"\",VLOOKUP(A859,[1]ItemConfig!$A:$C,3,FALSE))","v":""},{"$f":"IF(A859=\"\",\"\",VLOOKUP(B859,[2]語言配置表!$A:$B,2,FALSE))","v":""},{"$f":"IF(A859=\"\",\"\",VLOOKUP(C859,[2]語言配置表!$A:$B,2,FALSE))","v":""}]
[{"$f":"IF([1]ItemConfig!$A863=\"\",\"\",[1]ItemConfig!$A863)","v":""},{"$f":"IF(A860=\"\",\"\",VLOOKUP(A860,[1]ItemConfig!$A:$B,2,FALSE))","v":""},{"$f":"IF(A860=\"\",\"\",VLOOKUP(A860,[1]ItemConfig!$A:$D,4,FALSE))","v":""},{"$f":"IF(A860=\"\",\"\",VLOOKUP(A860,[1]ItemConfig!$A:$C,3,FALSE))","v":""},{"$f":"IF(A860=\"\",\"\",VLOOKUP(B860,[2]語言配置表!$A:$B,2,FALSE))","v":""},{"$f":"IF(A860=\"\",\"\",VLOOKUP(C860,[2]語言配置表!$A:$B,2,FALSE))","v":""}]
[{"$f":"IF([1]ItemConfig!$A864=\"\",\"\",[1]ItemConfig!$A864)","v":""},{"$f":"IF(A861=\"\",\"\",VLOOKUP(A861,[1]ItemConfig!$A:$B,2,FALSE))","v":""},{"$f":"IF(A861=\"\",\"\",VLOOKUP(A861,[1]ItemConfig!$A:$D,4,FALSE))","v":""},{"$f":"IF(A861=\"\",\"\",VLOOKUP(A861,[1]ItemConfig!$A:$C,3,FALSE))","v":""},{"$f":"IF(A861=\"\",\"\",VLOOKUP(B861,[2]語言配置表!$A:$B,2,FALSE))","v":""},{"$f":"IF(A861=\"\",\"\",VLOOKUP(C861,[2]語言配置表!$A:$B,2,FALSE))","v":""}]
[{"$f":"IF([1]ItemConfig!$A865=\"\",\"\",[1]ItemConfig!$A865)","v":""},{"$f":"IF(A862=\"\",\"\",VLOOKUP(A862,[1]ItemConfig!$A:$B,2,FALSE))","v":""},{"$f":"IF(A862=\"\",\"\",VLOOKUP(A862,[1]ItemConfig!$A:$D,4,FALSE))","v":""},{"$f":"IF(A862=\"\",\"\",VLOOKUP(A862,[1]ItemConfig!$A:$C,3,FALSE))","v":""},{"$f":"IF(A862=\"\",\"\",VLOOKUP(B862,[2]語言配置表!$A:$B,2,FALSE))","v":""},{"$f":"IF(A862=\"\",\"\",VLOOKUP(C862,[2]語言配置表!$A:$B,2,FALSE))","v":""}]
[{"$f":"IF([1]ItemConfig!$A866=\"\",\"\",[1]ItemConfig!$A866)","v":""},{"$f":"IF(A863=\"\",\"\",VLOOKUP(A863,[1]ItemConfig!$A:$B,2,FALSE))","v":""},{"$f":"IF(A863=\"\",\"\",VLOOKUP(A863,[1]ItemConfig!$A:$D,4,FALSE))","v":""},{"$f":"IF(A863=\"\",\"\",VLOOKUP(A863,[1]ItemConfig!$A:$C,3,FALSE))","v":""},{"$f":"IF(A863=\"\",\"\",VLOOKUP(B863,[2]語言配置表!$A:$B,2,FALSE))","v":""},{"$f":"IF(A863=\"\",\"\",VLOOKUP(C863,[2]語言配置表!$A:$B,2,FALSE))","v":""}]
[{"$f":"IF([1]ItemConfig!$A867=\"\",\"\",[1]ItemConfig!$A867)","v":""},{"$f":"IF(A864=\"\",\"\",VLOOKUP(A864,[1]ItemConfig!$A:$B,2,FALSE))","v":""},{"$f":"IF(A864=\"\",\"\",VLOOKUP(A864,[1]ItemConfig!$A:$D,4,FALSE))","v":""},{"$f":"IF(A864=\"\",\"\",VLOOKUP(A864,[1]ItemConfig!$A:$C,3,FALSE))","v":""},{"$f":"IF(A864=\"\",\"\",VLOOKUP(B864,[2]語言配置表!$A:$B,2,FALSE))","v":""},{"$f":"IF(A864=\"\",\"\",VLOOKUP(C864,[2]語言配置表!$A:$B,2,FALSE))","v":""}]
[{"$f":"IF([1]ItemConfig!$A868=\"\",\"\",[1]ItemConfig!$A868)","v":""},{"$f":"IF(A865=\"\",\"\",VLOOKUP(A865,[1]ItemConfig!$A:$B,2,FALSE))","v":""},{"$f":"IF(A865=\"\",\"\",VLOOKUP(A865,[1]ItemConfig!$A:$D,4,FALSE))","v":""},{"$f":"IF(A865=\"\",\"\",VLOOKUP(A865,[1]ItemConfig!$A:$C,3,FALSE))","v":""},{"$f":"IF(A865=\"\",\"\",VLOOKUP(B865,[2]語言配置表!$A:$B,2,FALSE))","v":""},{"$f":"IF(A865=\"\",\"\",VLOOKUP(C865,[2]語言配置表!$A:$B,2,FALSE))","v":""}]
[{"$f":"IF([1]ItemConfig!$A869=\"\",\"\",[1]ItemConfig!$A869)","v":""},{"$f":"IF(A866=\"\",\"\",VLOOKUP(A866,[1]ItemConfig!$A:$B,2,FALSE))","v":""},{"$f":"IF(A866=\"\",\"\",VLOOKUP(A866,[1]ItemConfig!$A:$D,4,FALSE))","v":""},{"$f":"IF(A866=\"\",\"\",VLOOKUP(A866,[1]ItemConfig!$A:$C,3,FALSE))","v":""},{"$f":"IF(A866=\"\",\"\",VLOOKUP(B866,[2]語言配置表!$A:$B,2,FALSE))","v":""},{"$f":"IF(A866=\"\",\"\",VLOOKUP(C866,[2]語言配置表!$A:$B,2,FALSE))","v":""}]
[{"$f":"IF([1]ItemConfig!$A870=\"\",\"\",[1]ItemConfig!$A870)","v":""},{"$f":"IF(A867=\"\",\"\",VLOOKUP(A867,[1]ItemConfig!$A:$B,2,FALSE))","v":""},{"$f":"IF(A867=\"\",\"\",VLOOKUP(A867,[1]ItemConfig!$A:$D,4,FALSE))","v":""},{"$f":"IF(A867=\"\",\"\",VLOOKUP(A867,[1]ItemConfig!$A:$C,3,FALSE))","v":""},{"$f":"IF(A867=\"\",\"\",VLOOKUP(B867,[2]語言配置表!$A:$B,2,FALSE))","v":""},{"$f":"IF(A867=\"\",\"\",VLOOKUP(C867,[2]語言配置表!$A:$B,2,FALSE))","v":""}]
[{"$f":"IF([1]ItemConfig!$A871=\"\",\"\",[1]ItemConfig!$A871)","v":""},{"$f":"IF(A868=\"\",\"\",VLOOKUP(A868,[1]ItemConfig!$A:$B,2,FALSE))","v":""},{"$f":"IF(A868=\"\",\"\",VLOOKUP(A868,[1]ItemConfig!$A:$D,4,FALSE))","v":""},{"$f":"IF(A868=\"\",\"\",VLOOKUP(A868,[1]ItemConfig!$A:$C,3,FALSE))","v":""},{"$f":"IF(A868=\"\",\"\",VLOOKUP(B868,[2]語言配置表!$A:$B,2,FALSE))","v":""},{"$f":"IF(A868=\"\",\"\",VLOOKUP(C868,[2]語言配置表!$A:$B,2,FALSE))","v":""}]
[{"$f":"IF([1]ItemConfig!$A872=\"\",\"\",[1]ItemConfig!$A872)","v":""},{"$f":"IF(A869=\"\",\"\",VLOOKUP(A869,[1]ItemConfig!$A:$B,2,FALSE))","v":""},{"$f":"IF(A869=\"\",\"\",VLOOKUP(A869,[1]ItemConfig!$A:$D,4,FALSE))","v":""},{"$f":"IF(A869=\"\",\"\",VLOOKUP(A869,[1]ItemConfig!$A:$C,3,FALSE))","v":""},{"$f":"IF(A869=\"\",\"\",VLOOKUP(B869,[2]語言配置表!$A:$B,2,FALSE))","v":""},{"$f":"IF(A869=\"\",\"\",VLOOKUP(C869,[2]語言配置表!$A:$B,2,FALSE))","v":""}]
[{"$f":"IF([1]ItemConfig!$A873=\"\",\"\",[1]ItemConfig!$A873)","v":""},{"$f":"IF(A870=\"\",\"\",VLOOKUP(A870,[1]ItemConfig!$A:$B,2,FALSE))","v":""},{"$f":"IF(A870=\"\",\"\",VLOOKUP(A870,[1]ItemConfig!$A:$D,4,FALSE))","v":""},{"$f":"IF(A870=\"\",\"\",VLOOKUP(A870,[1]ItemConfig!$A:$C,3,FALSE))","v":""},{"$f":"IF(A870=\"\",\"\",VLOOKUP(B870,[2]語言配置表!$A:$B,2,FALSE))","v":""},{"$f":"IF(A870=\"\",\"\",VLOOKUP(C870,[2]語言配置表!$A:$B,2,FALSE))","v":""}]
[{"$f":"IF([1]ItemConfig!$A874=\"\",\"\",[1]ItemConfig!$A874)","v":""},{"$f":"IF(A871=\"\",\"\",VLOOKUP(A871,[1]ItemConfig!$A:$B,2,FALSE))","v":""},{"$f":"IF(A871=\"\",\"\",VLOOKUP(A871,[1]ItemConfig!$A:$D,4,FALSE))","v":""},{"$f":"IF(A871=\"\",\"\",VLOOKUP(A871,[1]ItemConfig!$A:$C,3,FALSE))","v":""},{"$f":"IF(A871=\"\",\"\",VLOOKUP(B871,[2]語言配置表!$A:$B,2,FALSE))","v":""},{"$f":"IF(A871=\"\",\"\",VLOOKUP(C871,[2]語言配置表!$A:$B,2,FALSE))","v":""}]
[{"$f":"IF([1]ItemConfig!$A875=\"\",\"\",[1]ItemConfig!$A875)","v":""},{"$f":"IF(A872=\"\",\"\",VLOOKUP(A872,[1]ItemConfig!$A:$B,2,FALSE))","v":""},{"$f":"IF(A872=\"\",\"\",VLOOKUP(A872,[1]ItemConfig!$A:$D,4,FALSE))","v":""},{"$f":"IF(A872=\"\",\"\",VLOOKUP(A872,[1]ItemConfig!$A:$C,3,FALSE))","v":""},{"$f":"IF(A872=\"\",\"\",VLOOKUP(B872,[2]語言配置表!$A:$B,2,FALSE))","v":""},{"$f":"IF(A872=\"\",\"\",VLOOKUP(C872,[2]語言配置表!$A:$B,2,FALSE))","v":""}]