{"text_format":"2","workbook":"xlsx","n_sheets":2,"sheets":["FabaoConfig","FabaoPowerupConfig"],"not_rendered":{"charts":0,"images":0,"macros":0,"external_links":1,"defined_names":2,"comments":0,"pivot_tables":0},"unopened":[],"bounds":{"document_bytes":16777216,"sheet_cells":100000,"run_cost":"one","rows_first":2000,"rows_last":500,"rows_between":2000,"halvings":0,"cell_chars":16384,"cell_head_chars":4096},"cells_cut":0,"cells_raw":0,"read":"whole","date_system":"1900"}

{"sheet":"FabaoConfig","index":0,"n_rows":15,"n_cols":14,"rows_kept":15,"cut":false,"hidden":false,"merged":[]}
["ID","ItemID","name","Type","magicAttribute","model","fragmentID",null,"ShuxingIDs","ShuxingPara","SkillGroupID"]
["int","int","string","int","int","string","int",null,"int[]","int[]","int"]
[]
[null,"法宝对应道具ID","法宝名称","法宝类型\n1攻击型\n2防御型","法宝类型\n1=金\n2=木\n4=水\n8=火\n16=土","模型名称","法宝对应碎片道具ID","法宝默认星级","法宝基础属性类型","法宝基础属性倍率","法宝技能ID组","生命","防御","攻击"]
[10001,10001,"神龙鼎",1,1,"fb_ding1",11001,1,{"$f":"_xlfn.TEXTJOIN(\";\",1,IF(L5=\"\",\"\",1),IF(M5=\"\",\"\",2),IF(N5=\"\",\"\",3))","v":"2;3"},{"$f":"_xlfn.TEXTJOIN(\";\",1,L5:N5)","v":"50;50"},3101,null,50,50]
[null,10002,"破天斧",1,1,"fb_xuanguidun",11002,1,{"$f":"_xlfn.TEXTJOIN(\";\",1,IF(L6=\"\",\"\",1),IF(M6=\"\",\"\",2),IF(N6=\"\",\"\",3))","v":""},{"$f":"_xlfn.TEXTJOIN(\";\",1,L6:N6)","v":""},3102]
[10003,10003,"翡翠葫芦",1,2,"fb_feicuihulu",11003,1,"1;2","75;25",3201,75,25]
[10004,10004,"混沌珠",1,2,"fb_3202",11004,1,"1;3","25;75",3202,25,null,75]
[null,10005,"琉璃宝塔",1,2,"fb_linglongta",11005,1,"","",3203]
[10006,10006,"九幽镇魂瓶",1,4,"fb_BossPing",11006,1,"1;3","50;50",3301,50,null,50]
[null,10007,"玉莲守心灯",1,4,"fb_3302",11007,1,"","",3302]
[10008,10008,"融灵塔",1,8,"fb_3401",11008,1,"2;3","75;25",3401,null,75,25]
[null,10009,"禁元珠",1,8,"fb_BossPing",11009,1,"","",3402]
[10010,10010,"玄龟盾",1,16,"fb_xuanguidun",11010,1,"1;2","25;75",3501,25,75]
[null,10011,"天殇血刃剑",1,16,"fb_ding1",11011,1,"","",3502]

{"sheet":"FabaoPowerupConfig","index":1,"n_rows":35,"n_cols":21,"rows_kept":35,"cut":false,"hidden":false,"merged":[]}
["ID","Power","HP","DEF","ATK",null,"NeedLv","PowerupItemIDs","PowerupItemCosts",{"$nulls":4},"PromotePieceNum","SkillLevel"]
["int","int","float","float","float",null,"int","int[]","int[]",{"$nulls":4},"int[]","int"]
[]
["ID序列","法宝的基础强度成长","法宝的生命标准成长1","法宝的防御标准成长2","法宝的攻击标准成长3","实力等级","升级所需修为等级","强化所需道具ID","强化所需道具数量","道具1","数量1","道具2","数量2","突破所需对应碎片数量","对应的技能等级",1.26]
[1,100,{"$f":"E5*20*(1+VLOOKUP(F5,[1]主表!$A:$F,6,FALSE))","v":301},{"$f":"E5*0.5","v":7.5},{"$f":"VLOOKUP(F5,[1]主表!$A:$B,2,FALSE)*[1]主表!$D$1","v":15},1,11,{"$f":"_xlfn.TEXTJOIN(\";\",1,J5,L5)","v":"1001;1006"},{"$f":"_xlfn.TEXTJOIN(\";\",1,K5,M5)","v":"100;100"},1001,100,1006,100,-1,1]
[2,{"$f":"ROUND(B5*P$4,0)","v":126},{"$f":"E6*20*(1+VLOOKUP(F6,[1]主表!$A:$F,6,FALSE))","v":378.20000000000005},{"$f":"E6*0.5","v":9.15},{"$f":"VLOOKUP(F6,[1]主表!$A:$B,2,FALSE)*[1]主表!$D$1","v":18.3},10,21,{"$f":"_xlfn.TEXTJOIN(\";\",1,J6,L6)","v":"1001;1006"},{"$f":"_xlfn.TEXTJOIN(\";\",1,K6,M6)","v":"100;100"},1001,100,1006,100,-1,1]
[3,{"$f":"ROUND(B6*P$4,0)","v":159},{"$f":"E7*20*(1+VLOOKUP(F7,[1]主表!$A:$F,6,FALSE))","v":480},11.25,{"$f":"VLOOKUP(F7,[1]主表!$A:$B,2,FALSE)*[1]主表!$D$1","v":22.5},20,31,"1001;1006","100;100",1001,100,1006,100,10,1]
[4,200,{"$f":"E8*20*(1+VLOOKUP(F8,[1]主表!$A:$F,6,FALSE))","v":646.80000000000007},14.7,{"$f":"VLOOKUP(F8,[1]主表!$A:$B,2,FALSE)*[1]主表!$D$1","v":29.4},30,41,"1001;1006","100;100",1001,100,1006,100,-1,1]
[5,252,{"$f":"E9*20*(1+VLOOKUP(F9,[1]主表!$A:$F,6,FALSE))","v":822.8},18.149999999999999,{"$f":"VLOOKUP(F9,[1]主表!$A:$B,2,FALSE)*[1]主表!$D$1","v":36.299999999999997},40,51,"1001;1006","100;100",1001,100,1006,100,-1,1,null,null,null,200,150,{"$f":"S9/T9","v":1.3333333333333333}]
[6,318,{"$f":"E10*20*(1+VLOOKUP(F10,[1]主表!$A:$F,6,FALSE))","v":1050},22.5,{"$f":"VLOOKUP(F10,[1]主表!$A:$B,2,FALSE)*[1]主表!$D$1","v":45},50,61,"1001;1006","100;100",1001,100,1006,100,10,1,null,null,null,16,9,{"$f":"S10/T10","v":1.7777777777777777}]
[7,401,{"$f":"E11*20*(1+VLOOKUP(F11,[1]主表!$A:$F,6,FALSE))","v":1411.2},29.4,{"$f":"VLOOKUP(F11,[1]主表!$A:$B,2,FALSE)*[1]主表!$D$1","v":58.8},60,71,"1001;1006","100;100",1001,100,1006,100,-1,1]
[8,505,{"$f":"E12*20*(1+VLOOKUP(F12,[1]主表!$A:$F,6,FALSE))","v":1798.1999999999998},36.449999999999996,{"$f":"VLOOKUP(F12,[1]主表!$A:$B,2,FALSE)*[1]主表!$D$1","v":72.899999999999991},70,81,"1001;1006","100;100",1001,100,1006,100,-1,1]
[9,636,{"$f":"E13*20*(1+VLOOKUP(F13,[1]主表!$A:$F,6,FALSE))","v":2280},45,{"$f":"VLOOKUP(F13,[1]主表!$A:$B,2,FALSE)*[1]主表!$D$1","v":90},80,91,"1001;1006","100;100",1001,100,1006,100,10,1]
[10,801,{"$f":"E14*20*(1+VLOOKUP(F14,[1]主表!$A:$F,6,FALSE))","v":3065.4},58.949999999999996,{"$f":"VLOOKUP(F14,[1]主表!$A:$B,2,FALSE)*[1]主表!$D$1","v":117.89999999999999},90,101,"1001;1006","100;100",1001,100,1006,100,-1,1]
[11,1009,{"$f":"E15*20*(1+VLOOKUP(F15,[1]主表!$A:$F,6,FALSE))","v":3880},72.75,{"$f":"VLOOKUP(F15,[1]主表!$A:$B,2,FALSE)*[1]主表!$D$1","v":145.5},100,111,"1001;1006","100;100",1001,100,1006,100,-1,1]
[12,1271,{"$f":"E16*20*(1+VLOOKUP(F16,[1]主表!$A:$F,6,FALSE))","v":4911.8},89.85,{"$f":"VLOOKUP(F16,[1]主表!$A:$B,2,FALSE)*[1]主表!$D$1","v":179.7},110,121,"1001;1006","100;100",1001,100,1006,100,10,1]
[13,1601,{"$f":"E17*20*(1+VLOOKUP(F17,[1]主表!$A:$F,6,FALSE))","v":6594},117.75,{"$f":"VLOOKUP(F17,[1]主表!$A:$B,2,FALSE)*[1]主表!$D$1","v":235.5},120,131,"1001;1006","100;100",1001,100,1006,100,-1,1]
[14,2017,{"$f":"E18*20*(1+VLOOKUP(F18,[1]主表!$A:$F,6,FALSE))","v":8333.4},145.35,{"$f":"VLOOKUP(F18,[1]主表!$A:$B,2,FALSE)*[1]主表!$D$1","v":290.7},130,141,"1001;1006","100;100",1001,100,1006,100,-1,1]
[15,2541,{"$f":"E19*20*(1+VLOOKUP(F19,[1]主表!$A:$F,6,FALSE))","v":10524.800000000001},179.4,{"$f":"VLOOKUP(F19,[1]主表!$A:$B,2,FALSE)*[1]主表!$D$1","v":358.8},140,151,"1001;1006","100;100",1001,100,1006,100,10,1]
[16,3202,{"$f":"E20*20*(1+VLOOKUP(F20,[1]主表!$A:$F,6,FALSE))","v":14112},235.2,{"$f":"VLOOKUP(F20,[1]主表!$A:$B,2,FALSE)*[1]主表!$D$1","v":470.4},150,161,"1001;1006","100;100",1001,100,1006,100,-1,1]
[17,4035,{"$f":"E21*20*(1+VLOOKUP(F21,[1]主表!$A:$F,6,FALSE))","v":17811.199999999997},290.39999999999998,{"$f":"VLOOKUP(F21,[1]主表!$A:$B,2,FALSE)*[1]主表!$D$1","v":580.79999999999995},160,171,"1001;1006","100;100",1001,100,1006,100,-1,1]
[18,5084,{"$f":"E22*20*(1+VLOOKUP(F22,[1]主表!$A:$F,6,FALSE))","v":22475.4},358.65,{"$f":"VLOOKUP(F22,[1]主表!$A:$B,2,FALSE)*[1]主表!$D$1","v":717.3},170,181,"1001;1006","100;100",1001,100,1006,100,10,1]
[19,6406,{"$f":"E23*20*(1+VLOOKUP(F23,[1]主表!$A:$F,6,FALSE))","v":30086.400000000001},470.09999999999997,{"$f":"VLOOKUP(F23,[1]主表!$A:$B,2,FALSE)*[1]主表!$D$1","v":940.19999999999993},180,191,"1001;1006","100;100",1001,100,1006,100,-1,1]
[20,8072,{"$f":"E24*20*(1+VLOOKUP(F24,[1]主表!$A:$F,6,FALSE))","v":37926},580.5,{"$f":"VLOOKUP(F24,[1]主表!$A:$B,2,FALSE)*[1]主表!$D$1","v":1161},190,201,"1001;1006","100;100",1001,100,1006,100,-1,1]
[21,10171,{"$f":"E25*20*(1+VLOOKUP(F25,[1]主表!$A:$F,6,FALSE))","v":47779.999999999993},716.69999999999993,{"$f":"VLOOKUP(F25,[1]主表!$A:$B,2,FALSE)*[1]主表!$D$1","v":1433.3999999999999},200,211,"1001;1006","100;100",1001,100,1006,100,10,1]
[22,12815,{"$f":"E26*20*(1+VLOOKUP(F26,[1]主表!$A:$F,6,FALSE))","v":63892.799999999996},939.59999999999991,{"$f":"VLOOKUP(F26,[1]主表!$A:$B,2,FALSE)*[1]主表!$D$1","v":1879.1999999999998},210,221,"1001;1006","100;100",1001,100,1006,100,-1,1]
[23,16147,{"$f":"E27*20*(1+VLOOKUP(F27,[1]主表!$A:$F,6,FALSE))","v":80433.600000000006},1160.0999999999999,{"$f":"VLOOKUP(F27,[1]主表!$A:$B,2,FALSE)*[1]主表!$D$1","v":2320.1999999999998},220,231,"1001;1006","100;100",1001,100,1006,100,-1,1]
[24,20345,{"$f":"E28*20*(1+VLOOKUP(F28,[1]主表!$A:$F,6,FALSE))","v":101219.4},1432.35,{"$f":"VLOOKUP(F28,[1]主表!$A:$B,2,FALSE)*[1]主表!$D$1","v":2864.7},230,241,"1001;1006","100;100",1001,100,1006,100,10,1]
[25,25635,{"$f":"E29*20*(1+VLOOKUP(F29,[1]主表!$A:$F,6,FALSE))","v":135194.4},1877.6999999999998,{"$f":"VLOOKUP(F29,[1]主表!$A:$B,2,FALSE)*[1]主表!$D$1","v":3755.3999999999996},240,251,"1001;1006","100;100",1001,100,1006,100,-1,1]
[26,32300,{"$f":"E30*20*(1+VLOOKUP(F30,[1]主表!$A:$F,6,FALSE))","v":170016},2318.4,{"$f":"VLOOKUP(F30,[1]主表!$A:$B,2,FALSE)*[1]主表!$D$1","v":4636.8},250,261,"1001;1006","100;100",1001,100,1006,100,-1,1]
[27,40698,{"$f":"E31*20*(1+VLOOKUP(F31,[1]主表!$A:$F,6,FALSE))","v":213740.80000000002},2862.6,{"$f":"VLOOKUP(F31,[1]主表!$A:$B,2,FALSE)*[1]主表!$D$1","v":5725.2},260,271,"1001;1006","100;100",1001,100,1006,100,10,1]
[28,51279,{"$f":"E32*20*(1+VLOOKUP(F32,[1]主表!$A:$F,6,FALSE))","v":285205.2},3752.7,{"$f":"VLOOKUP(F32,[1]主表!$A:$B,2,FALSE)*[1]主表!$D$1","v":7505.4},270,281,"1001;1006","100;100",1001,100,1006,100,-1,1]
[29,64612,{"$f":"E33*20*(1+VLOOKUP(F33,[1]主表!$A:$F,6,FALSE))","v":358324},4633.5,{"$f":"VLOOKUP(F33,[1]主表!$A:$B,2,FALSE)*[1]主表!$D$1","v":9267},280,291,"1001;1006","100;100",1001,100,1006,100,-1,1]
[30,81411,{"$f":"E34*20*(1+VLOOKUP(F34,[1]主表!$A:$F,6,FALSE))","v":450040.19999999995},5720.8499999999995,{"$f":"VLOOKUP(F34,[1]主表!$A:$B,2,FALSE)*[1]主表!$D$1","v":11441.699999999999},290,300,"1001;1006","100;100",1001,100,1006,100,10,1]
[31,102578,{"$f":"E35*20*(1+VLOOKUP(F35,[1]主表!$A:$F,6,FALSE))","v":600000},7500,{"$f":"VLOOKUP(F35,[1]主表!$A:$B,2,FALSE)*[1]主表!$D$1","v":15000},300,310,{"$f":"_xlfn.TEXTJOIN(\";\",1,J35,L35)","v":"1001;1006"},{"$f":"_xlfn.TEXTJOIN(\";\",1,K35,M35)","v":"100;100"},1001,100,1006,100,-1,1]