{"text_format":"2","workbook":"xlsx","n_sheets":3,"sheets":["ShopGroupConfig","ShopConfig","ShopItemConfig"],"not_rendered":{"charts":0,"images":0,"macros":0,"external_links":2,"defined_names":3,"comments":0,"pivot_tables":0},"unopened":[],"bounds":{"document_bytes":16777216,"sheet_cells":100000,"run_cost":"one","rows_first":2000,"rows_last":500,"rows_between":2000,"halvings":0,"cell_chars":16384,"cell_head_chars":4096},"cells_cut":0,"cells_raw":0,"read":"whole","date_system":"1900"}

{"sheet":"ShopGroupConfig","index":0,"n_rows":7,"n_cols":3,"rows_kept":7,"cut":false,"hidden":false,"merged":[]}
["ID",null,"shopName"]
["int",null,"int"]
[]
["ID","商店名（策划用）","商店名\n（顶部名字）"]
[1,{"$f":"VLOOKUP(C5,[1]語言配置表!$A:$B,2,FALSE)","v":"GM商店"},1900]
[2,{"$f":"VLOOKUP(C6,[1]語言配置表!$A:$B,2,FALSE)","v":"法宝商店"},1904]
[3,{"$f":"VLOOKUP(C7,[1]語言配置表!$A:$B,2,FALSE)","v":"功法商店"},1905]

{"sheet":"ShopConfig","index":1,"n_rows":7,"n_cols":9,"rows_kept":7,"cut":false,"hidden":false,"merged":[]}
["ID",null,"shopGroup","shopItemGroup","pageSortNum","RefreshType","refreshCostItemId","refreshCost","refreshLimit"]
["int",null,"int","int","int","int","int","int[]","int"]
[]
["ID","商店名\n（策划用）","页签所属商店","每个页面的商品shopitemID组","页签排序\n（小的在前面）","刷新类型\n0=不刷新\n1=每日自动刷新\n2=每周自动刷新\n3=每月自动刷新\n4=按开启时间固定间隔自动刷新\n","刷新消耗道具ID\n（此列不为-1时，可以手动刷新）","刷新消耗道具数量\n（刷新次数增加消耗会改变，0表示免费)","周期内刷新次数上限（如果有手动刷新，必须要填次数）"]
[1,null,1,1,1,1,-1,-1,-1]
[2,null,2,2,2,1,-1,-1,-1]
[3,null,3,3,3,1,-1,-1,-1]

{"sheet":"ShopItemConfig","index":2,"n_rows":73,"n_cols":16,"rows_kept":73,"cut":false,"hidden":false,"merged":[]}
["ID","giftID","itemId","itemCount","costItemId","price","oldPrice","buyCount","maxBuyCount",null,"shopItemGroup","continueTime","shopName","shopDesc","shopShowTemplate","shopShowTemplateParm"]
["int","string","int[]","int[]","int","int","int","int","int",null,"int","int","int","int","int","string[]"]
[]
["ID","分发ID\n（appstore等分发礼包时使用）","包含道具ID","道具数量","消耗道具ID\n\n0 = 免费\n1032 = 广告","现价\n（玩家购买价）","原价","可买次数\n(当期)\n-1=不限制","最大购买次数\n(全局)\n-1=不限制",null,"商品所属分页\n（shopConfig中ID）","持续时间（分钟）\n(-1永久)","品名","商品介绍","商品表现的模板","商品表现的模板de参数"]
[1,null,1001,999999,1001,0,1,-1,-1,{"$f":"CONCATENATE(VLOOKUP(C5,[2]ItemConfig!$A:$C,3,FALSE),\" × \",D5)","v":"灵石 × 999999"},1,-1,null,null,3,"icon_Coin"]
[2,null,1002,9999,1001,1,1,-1,-1,{"$f":"CONCATENATE(VLOOKUP(C6,[2]ItemConfig!$A:$C,3,FALSE),\" × \",D6)","v":"妖丹 × 9999"},1,-1,null,null,3,"icon_Coin"]
[3,null,1003,9999,1001,1,1,-1,-1,{"$f":"CONCATENATE(VLOOKUP(C7,[2]ItemConfig!$A:$C,3,FALSE),\" × \",D7)","v":"修为 × 9999"},1,-1,null,null,3,"icon_Coin"]
[4,null,1004,9999,1001,1,1,-1,-1,{"$f":"CONCATENATE(VLOOKUP(C8,[2]ItemConfig!$A:$C,3,FALSE),\" × \",D8)","v":"妖王丹 × 9999"},1,-1,null,null,3,"icon_Coin"]
[5,null,1005,99999,1001,1,1,-1,-1,{"$f":"CONCATENATE(VLOOKUP(C9,[2]ItemConfig!$A:$C,3,FALSE),\" × \",D9)","v":"灵气 × 99999"},1,-1,null,null,3,"icon_Coin"]
[6,null,1006,99999,1001,1,1,-1,-1,{"$f":"CONCATENATE(VLOOKUP(C10,[2]ItemConfig!$A:$C,3,FALSE),\" × \",D10)","v":"玄晶 × 99999"},1,-1,null,null,3,"icon_Coin"]
[7,null,1301,999,1001,1,1,-1,-1,{"$f":"CONCATENATE(VLOOKUP(C11,[2]ItemConfig!$A:$C,3,FALSE),\" × \",D11)","v":"天材地宝1 × 999"},1,-1,null,null,3,"icon_Coin"]
[8,null,1302,999,1001,1,1,-1,-1,{"$f":"CONCATENATE(VLOOKUP(C12,[2]ItemConfig!$A:$C,3,FALSE),\" × \",D12)","v":"天材地宝2 × 999"},1,-1,null,null,3,"icon_Coin"]
[9,null,1303,999,1001,1,1,-1,-1,{"$f":"CONCATENATE(VLOOKUP(C13,[2]ItemConfig!$A:$C,3,FALSE),\" × \",D13)","v":"天材地宝3 × 999"},1,-1,null,null,3,"icon_Coin"]
[10,null,1304,999,1001,1,1,-1,-1,{"$f":"CONCATENATE(VLOOKUP(C14,[2]ItemConfig!$A:$C,3,FALSE),\" × \",D14)","v":"天材地宝4 × 999"},1,-1,null,null,3,"icon_Coin"]
[11,null,21001,99,1001,1,1,-1,-1,{"$f":"CONCATENATE(VLOOKUP(C15,[2]ItemConfig!$A:$C,3,FALSE),\" × \",D15)","v":"神识符-灵石 × 99"},1,-1,null,null,3,"icon_Coin"]
[12,null,21002,99,1001,1,1,-1,-1,{"$f":"CONCATENATE(VLOOKUP(C16,[2]ItemConfig!$A:$C,3,FALSE),\" × \",D16)","v":"神识符-修为 × 99"},1,-1,null,null,3,"icon_Coin"]
[13,null,21003,99,1001,1,1,-1,-1,{"$f":"CONCATENATE(VLOOKUP(C17,[2]ItemConfig!$A:$C,3,FALSE),\" × \",D17)","v":"神识符-灵气 × 99"},1,-1,null,null,3,"icon_Coin"]
[14,null,21004,99,1001,1,1,-1,-1,{"$f":"CONCATENATE(VLOOKUP(C18,[2]ItemConfig!$A:$C,3,FALSE),\" × \",D18)","v":"神识符-玄晶 × 99"},1,-1,null,null,3,"icon_Coin"]
[15,null,21005,99,1001,1,1,-1,-1,{"$f":"CONCATENATE(VLOOKUP(C19,[2]ItemConfig!$A:$C,3,FALSE),\" × \",D19)","v":"神识符-功法碎片 × 99"},1,-1,null,null,3,"icon_Coin"]
[16,null,21006,99,1001,1,1,-1,-1,{"$f":"CONCATENATE(VLOOKUP(C20,[2]ItemConfig!$A:$C,3,FALSE),\" × \",D20)","v":"神识符-法宝碎片 × 99"},1,-1,null,null,3,"icon_Coin"]
[17,null,21007,99,1001,1,1,-1,-1,{"$f":"CONCATENATE(VLOOKUP(C21,[2]ItemConfig!$A:$C,3,FALSE),\" × \",D21)","v":"神识符-修为丹 × 99"},1,-1,null,null,3,"icon_Coin"]
[18,null,21008,99,1001,1,1,-1,-1,{"$f":"CONCATENATE(VLOOKUP(C22,[2]ItemConfig!$A:$C,3,FALSE),\" × \",D22)","v":"神识符-天材地宝 × 99"},1,-1,null,null,3,"icon_Coin"]
[19,null,21009,99,1001,1,1,-1,-1,{"$f":"CONCATENATE(VLOOKUP(C23,[2]ItemConfig!$A:$C,3,FALSE),\" × \",D23)","v":"神识符-渡劫丹 × 99"},1,-1,null,null,3,"icon_Coin"]
[20,null,21010,99,1001,1,1,-1,-1,{"$f":"CONCATENATE(VLOOKUP(C24,[2]ItemConfig!$A:$C,3,FALSE),\" × \",D24)","v":"神识符-好感度礼物 × 99"},1,-1,null,null,3,"icon_Coin"]
[21,null,21011,99,1001,1,1,-1,-1,{"$f":"CONCATENATE(VLOOKUP(C25,[2]ItemConfig!$A:$C,3,FALSE),\" × \",D25)","v":"神识符-心情礼物 × 99"},1,-1,null,null,3,"icon_Coin"]
[22,null,21012,99,1001,1,1,-1,-1,{"$f":"CONCATENATE(VLOOKUP(C26,[2]ItemConfig!$A:$C,3,FALSE),\" × \",D26)","v":"紫色神识提升符 × 99"},1,-1,null,null,3,"icon_Coin"]
[23,null,21013,99,1001,1,1,-1,-1,{"$f":"CONCATENATE(VLOOKUP(C27,[2]ItemConfig!$A:$C,3,FALSE),\" × \",D27)","v":"橙色神识提升符 × 99"},1,-1,null,null,3,"icon_Coin"]
[]
[101,null,11001,100,1001,1,1,-1,-1,{"$f":"CONCATENATE(VLOOKUP(C29,[2]ItemConfig!$A:$C,3,FALSE),\" × \",D29)","v":"神龙鼎碎片 × 100"},2,-1,null,null,3,"icon_Coins_s"]
[102,null,11002,100,1001,1,1,-1,-1,{"$f":"CONCATENATE(VLOOKUP(C30,[2]ItemConfig!$A:$C,3,FALSE),\" × \",D30)","v":"破天斧碎片 × 100"},2,-1,null,null,3,"icon_Coins_s"]
[103,null,11003,100,1001,1,1,-1,-1,{"$f":"CONCATENATE(VLOOKUP(C31,[2]ItemConfig!$A:$C,3,FALSE),\" × \",D31)","v":"翡翠葫芦碎片 × 100"},2,-1,null,null,3,"icon_Coins_s"]
[104,null,11004,100,1001,1,1,-1,-1,{"$f":"CONCATENATE(VLOOKUP(C32,[2]ItemConfig!$A:$C,3,FALSE),\" × \",D32)","v":"混沌珠碎片 × 100"},2,-1,null,null,3,"icon_Coins_s"]
[105,null,11005,100,1001,1,1,-1,-1,{"$f":"CONCATENATE(VLOOKUP(C33,[2]ItemConfig!$A:$C,3,FALSE),\" × \",D33)","v":"琉璃宝塔碎片 × 100"},2,-1,null,null,3,"icon_Coins_s"]
[106,null,11006,100,1001,1,1,-1,-1,{"$f":"CONCATENATE(VLOOKUP(C34,[2]ItemConfig!$A:$C,3,FALSE),\" × \",D34)","v":"九幽镇魂瓶碎片 × 100"},2,-1,null,null,3,"icon_Coins_s"]
[107,null,11007,100,1001,1,1,-1,-1,{"$f":"CONCATENATE(VLOOKUP(C35,[2]ItemConfig!$A:$C,3,FALSE),\" × \",D35)","v":"玉莲守心灯碎片 × 100"},2,-1,null,null,3,"icon_Coins_s"]
[108,null,11008,100,1001,1,1,-1,-1,{"$f":"CONCATENATE(VLOOKUP(C36,[2]ItemConfig!$A:$C,3,FALSE),\" × \",D36)","v":"融灵塔碎片 × 100"},2,-1,null,null,3,"icon_Coins_s"]
[109,null,11009,100,1001,1,1,-1,-1,{"$f":"CONCATENATE(VLOOKUP(C37,[2]ItemConfig!$A:$C,3,FALSE),\" × \",D37)","v":"禁元珠碎片 × 100"},2,-1,null,null,3,"icon_Coins_s"]
[110,null,11010,100,1001,1,1,-1,-1,{"$f":"CONCATENATE(VLOOKUP(C38,[2]ItemConfig!$A:$C,3,FALSE),\" × \",D38)","v":"玄龟盾碎片 × 100"},2,-1,null,null,3,"icon_Coins_s"]
[111,null,11011,100,1001,1,1,-1,-1,{"$f":"CONCATENATE(VLOOKUP(C39,[2]ItemConfig!$A:$C,3,FALSE),\" × \",D39)","v":"天殇血刃剑碎片 × 100"},2,-1,null,null,3,"icon_Coins_s"]
[]
[201,null,13001,100,1001,1,1,-1,-1,{"$f":"CONCATENATE(VLOOKUP(C41,[2]ItemConfig!$A:$C,3,FALSE),\" × \",D41)","v":"太虚幻剑经碎片 × 100"},3,-1,null,null,3,"icon_Gem_Star_Blue"]
[202,null,13002,100,1001,1,1,-1,-1,{"$f":"CONCATENATE(VLOOKUP(C42,[2]ItemConfig!$A:$C,3,FALSE),\" × \",D42)","v":"天罡剑气诀碎片 × 100"},3,-1,null,null,3,"icon_Gem_Star_Blue"]
[203,null,13003,100,1001,1,1,-1,-1,{"$f":"CONCATENATE(VLOOKUP(C43,[2]ItemConfig!$A:$C,3,FALSE),\" × \",D43)","v":"血刃金煌功碎片 × 100"},3,-1,null,null,3,"icon_Gem_Star_Blue"]
[204,null,13004,100,1001,1,1,-1,-1,{"$f":"CONCATENATE(VLOOKUP(C44,[2]ItemConfig!$A:$C,3,FALSE),\" × \",D44)","v":"飞刃碎片 × 100"},3,-1,null,null,3,"icon_Gem_Star_Blue"]
[205,null,13005,100,1001,1,1,-1,-1,{"$f":"CONCATENATE(VLOOKUP(C45,[2]ItemConfig!$A:$C,3,FALSE),\" × \",D45)","v":"金针碎片 × 100"},3,-1,null,null,3,"icon_Gem_Star_Blue"]
[206,null,13006,100,1001,1,1,-1,-1,{"$f":"CONCATENATE(VLOOKUP(C46,[2]ItemConfig!$A:$C,3,FALSE),\" × \",D46)","v":"碧落幽冥劲碎片 × 100"},3,-1,null,null,3,"icon_Gem_Star_Blue"]
[207,null,13007,100,1001,1,1,-1,-1,{"$f":"CONCATENATE(VLOOKUP(C47,[2]ItemConfig!$A:$C,3,FALSE),\" × \",D47)","v":"雾隐千流法碎片 × 100"},3,-1,null,null,3,"icon_Gem_Star_Blue"]
[208,null,13008,100,1001,1,1,-1,-1,{"$f":"CONCATENATE(VLOOKUP(C48,[2]ItemConfig!$A:$C,3,FALSE),\" × \",D48)","v":"功法-水3碎片 × 100"},3,-1,null,null,3,"icon_Gem_Star_Blue"]
[209,null,13009,100,1001,1,1,-1,-1,{"$f":"CONCATENATE(VLOOKUP(C49,[2]ItemConfig!$A:$C,3,FALSE),\" × \",D49)","v":"水球碎片 × 100"},3,-1,null,null,3,"icon_Gem_Star_Blue"]
[210,null,13010,100,1001,1,1,-1,-1,{"$f":"CONCATENATE(VLOOKUP(C50,[2]ItemConfig!$A:$C,3,FALSE),\" × \",D50)","v":"冰刀碎片 × 100"},3,-1,null,null,3,"icon_Gem_Star_Blue"]
[211,null,13011,100,1001,1,1,-1,-1,{"$f":"CONCATENATE(VLOOKUP(C51,[2]ItemConfig!$A:$C,3,FALSE),\" × \",D51)","v":"瘴影千丝术碎片 × 100"},3,-1,null,null,3,"icon_Gem_Star_Blue"]
[212,null,13012,100,1001,1,1,-1,-1,{"$f":"CONCATENATE(VLOOKUP(C52,[2]ItemConfig!$A:$C,3,FALSE),\" × \",D52)","v":"蚀骨腐血掌碎片 × 100"},3,-1,null,null,3,"icon_Gem_Star_Blue"]
[213,null,13013,100,1001,1,1,-1,-1,{"$f":"CONCATENATE(VLOOKUP(C53,[2]ItemConfig!$A:$C,3,FALSE),\" × \",D53)","v":"功法-木3碎片 × 100"},3,-1,null,null,3,"icon_Gem_Star_Blue"]
[214,null,13014,100,1001,1,1,-1,-1,{"$f":"CONCATENATE(VLOOKUP(C54,[2]ItemConfig!$A:$C,3,FALSE),\" × \",D54)","v":"竹刺碎片 × 100"},3,-1,null,null,3,"icon_Gem_Star_Blue"]
[215,null,13015,100,1001,1,1,-1,-1,{"$f":"CONCATENATE(VLOOKUP(C55,[2]ItemConfig!$A:$C,3,FALSE),\" × \",D55)","v":"飞叶碎片 × 100"},3,-1,null,null,3,"icon_Gem_Star_Blue"]
[216,null,13016,100,1001,1,1,-1,-1,{"$f":"CONCATENATE(VLOOKUP(C56,[2]ItemConfig!$A:$C,3,FALSE),\" × \",D56)","v":"烈焰剑碎片 × 100"},3,-1,null,null,3,"icon_Gem_Star_Blue"]
[217,null,13017,100,1001,1,1,-1,-1,{"$f":"CONCATENATE(VLOOKUP(C57,[2]ItemConfig!$A:$C,3,FALSE),\" × \",D57)","v":"赤焰龙吟功碎片 × 100"},3,-1,null,null,3,"icon_Gem_Star_Blue"]
[218,null,13018,100,1001,1,1,-1,-1,{"$f":"CONCATENATE(VLOOKUP(C58,[2]ItemConfig!$A:$C,3,FALSE),\" × \",D58)","v":"朱雀燎原指碎片 × 100"},3,-1,null,null,3,"icon_Gem_Star_Blue"]
[219,null,13019,100,1001,1,1,-1,-1,{"$f":"CONCATENATE(VLOOKUP(C59,[2]ItemConfig!$A:$C,3,FALSE),\" × \",D59)","v":"火球碎片 × 100"},3,-1,null,null,3,"icon_Gem_Star_Blue"]
[220,null,13020,100,1001,1,1,-1,-1,{"$f":"CONCATENATE(VLOOKUP(C60,[2]ItemConfig!$A:$C,3,FALSE),\" × \",D60)","v":"火刀碎片 × 100"},3,-1,null,null,3,"icon_Gem_Star_Blue"]
[221,null,13021,100,1001,1,1,-1,-1,{"$f":"CONCATENATE(VLOOKUP(C61,[2]ItemConfig!$A:$C,3,FALSE),\" × \",D61)","v":"黄尘灭魂刺碎片 × 100"},3,-1,null,null,3,"icon_Gem_Star_Blue"]
[222,null,13022,100,1001,1,1,-1,-1,{"$f":"CONCATENATE(VLOOKUP(C62,[2]ItemConfig!$A:$C,3,FALSE),\" × \",D62)","v":"地裂屠龙斩碎片 × 100"},3,-1,null,null,3,"icon_Gem_Star_Blue"]
[223,null,13023,100,1001,1,1,-1,-1,{"$f":"CONCATENATE(VLOOKUP(C63,[2]ItemConfig!$A:$C,3,FALSE),\" × \",D63)","v":"功法-土3碎片 × 100"},3,-1,null,null,3,"icon_Gem_Star_Blue"]
[224,null,13024,100,1001,1,1,-1,-1,{"$f":"CONCATENATE(VLOOKUP(C64,[2]ItemConfig!$A:$C,3,FALSE),\" × \",D64)","v":"落石碎片 × 100"},3,-1,null,null,3,"icon_Gem_Star_Blue"]
[225,null,13025,100,1001,1,1,-1,-1,{"$f":"CONCATENATE(VLOOKUP(C65,[2]ItemConfig!$A:$C,3,FALSE),\" × \",D65)","v":"小石头碎片 × 100"},3,-1,null,null,3,"icon_Gem_Star_Blue"]
[226,null,13501,100,1001,1,1,-1,-1,{"$f":"CONCATENATE(VLOOKUP(C66,[2]ItemConfig!$A:$C,3,FALSE),\" × \",D66)","v":"天衍星辰诀碎片 × 100"},3,-1,null,null,3,"icon_Gem_Star_Blue"]
[227,null,13502,100,1001,1,1,-1,-1,{"$f":"CONCATENATE(VLOOKUP(C67,[2]ItemConfig!$A:$C,3,FALSE),\" × \",D67)","v":"法宝秘籍碎片 × 100"},3,-1,null,null,3,"icon_Gem_Star_Blue"]
[228,null,13503,100,1001,1,1,-1,-1,{"$f":"CONCATENATE(VLOOKUP(C68,[2]ItemConfig!$A:$C,3,FALSE),\" × \",D68)","v":"崩脉决碎片 × 100"},3,-1,null,null,3,"icon_Gem_Star_Blue"]
[229,null,13504,100,1001,1,1,-1,-1,{"$f":"CONCATENATE(VLOOKUP(C69,[2]ItemConfig!$A:$C,3,FALSE),\" × \",D69)","v":"两仪决碎片 × 100"},3,-1,null,null,3,"icon_Gem_Star_Blue"]
[230,null,13505,100,1001,1,1,-1,-1,{"$f":"CONCATENATE(VLOOKUP(C70,[2]ItemConfig!$A:$C,3,FALSE),\" × \",D70)","v":"火焰决碎片 × 100"},3,-1,null,null,3,"icon_Gem_Star_Blue"]
[231,null,13506,100,1001,1,1,-1,-1,{"$f":"CONCATENATE(VLOOKUP(C71,[2]ItemConfig!$A:$C,3,FALSE),\" × \",D71)","v":"乾坤巨灵诀碎片 × 100"},3,-1,null,null,3,"icon_Gem_Star_Blue"]
[232,null,13507,100,1001,1,1,-1,-1,{"$f":"CONCATENATE(VLOOKUP(C72,[2]ItemConfig!$A:$C,3,FALSE),\" × \",D72)","v":"极速齿轮碎片 × 100"},3,-1,null,null,3,"icon_Gem_Star_Blue"]
[233,null,13508,100,1001,1,1,-1,-1,{"$f":"CONCATENATE(VLOOKUP(C73,[2]ItemConfig!$A:$C,3,FALSE),\" × \",D73)","v":"太虚剑意碎片 × 100"},3,-1,null,null,3,"icon_Gem_Star_Blue"]