{"text_format":"2","workbook":"xlsx","n_sheets":2,"sheets":["HeroPowerUpConfig","HeroQiangDuAddConfig"],"not_rendered":{"charts":0,"images":0,"macros":0,"external_links":5,"defined_names":1,"comments":0,"pivot_tables":0},"unopened":[],"bounds":{"document_bytes":16777216,"sheet_cells":100000,"run_cost":"one","rows_first":2000,"rows_last":500,"rows_between":2000,"halvings":0,"cell_chars":16384,"cell_head_chars":4096},"cells_cut":0,"cells_raw":0,"read":"whole","date_system":"1900"}

{"sheet":"HeroPowerUpConfig","index":0,"n_rows":304,"n_cols":55,"rows_kept":304,"cut":false,"hidden":false,"merged":[]}
["ID","HeroLevel","jingjie1","jingjie2","jingjie3","jingjieLanIDs",{"$nulls":6},"levelUpExp","DujieLevelbattleID","DujieRateviaBattle","DujieMustItemIDs","DujieMustItemValues","DujieItemIDs","DujieItemValues","LeijieDamages","HPFactor","ATKFactor","DEFFactor","HudunFactor","defK","ShenshiMax","AutoXiuwei","FailureExpReduce","MaxActiveGongfaNum","MaxPassiveGongfaNum","MaxFabaoNum",{"$nulls":4},"MPFactor","DaoyouCount"]
["int","int","int","int","int","int[]",{"$nulls":6},"int","int","int","int[]","int[]","int[]","int[]","int[]","float","float","float","float","int","int","float","int","int","int","int",{"$nulls":4},"float","int"]
[{"$nulls":31},{"$f":"SUM(AF5:AF304)","v":1229974},{"$f":"AF3/60","v":20499.566666666666},{"$f":"AG3/60","v":341.65944444444443},{"$f":"AH3/12","v":28.471620370370371}]
["ID","玩家修为境界（等级）","大境界ID","中境界ID","小境界ID","境界语言表ID","境界名称1","境界名称2","境界名称3",null,null,null,"升级所需修为值\n（-1代表最大等级)","渡劫必须战斗ID","战斗增加渡劫几率","渡劫必需道具ID","渡劫必需道具数量","渡劫选有道具IDs","渡劫选有道具数量","雷劫伤害\n要填下限和上限","生命倍率","攻击倍率","防御倍率","护盾倍率","防御系数K","神识上限","每秒获得的修为值","雷劫失败扣除的当前等级修为百分比","主动功法可配置上限","被动功法可配置上限","法宝可配置上限","吐纳时长(s)","分钟","小时","天（每天12小时）","法力倍率","允许出现的最大挂机道友数量",null,"战斗","必须","数量","选有1","数量1","选有2","数量2","选有3","数量3","选有4","数量4","基础概率","概率1","概率2","概率3","概率4","总概率"]
[1,1,1,1,{"$f":"I5","v":1},{"$f":"_xlfn.TEXTJOIN(\";\",1,J5:L5)","v":"225;235;238"},"练气期","前",1,225,235,238,{"$f":"ROUND([1]ResourceLevelConfig!$E5*[1]ResourceLevelConfig!$L5*0.1,0)*10","v":500},{"$f":"IF(I5=10,100004,-1)","v":-1},{"$f":"IF(N5=-1,-1,20)","v":-1},-1,-1,{"$f":"IF(I5=10,\"1204;1203;1202;1201\",-1)","v":-1},{"$f":"IF(R5=-1,-1,\"1;1;1;1\")","v":-1},{"$f":"IF(G5=G6,0,CONCATENATE(80*ROUND(VLOOKUP(B5,[2]MonsterPowerUpConfig!$A:$I,9,FALSE),0),\";\",120*ROUND(VLOOKUP(B5,[2]MonsterPowerUpConfig!$A:$I,9,FALSE),0)))","v":0},{"$f":"[3]主表!K3","v":6},{"$f":"[3]主表!L3","v":1},{"$f":"[3]主表!M3","v":1},{"$f":"[3]主表!N3","v":0},{"$f":"[3]主表!$G3","v":105},{"$f":"[3]升级!$H3","v":1000},{"$f":"MAX(1,ROUND(100/(24*3600)*VLOOKUP(B5,[1]ResourceLevelConfig!$A:$E,5,FALSE),2))","v":1.1599999999999999},-1,2,1,1,{"$f":"ROUND(10^(B5*0.01+2.07),0)","v":120},null,{"$f":"50*W5","v":50},null,1,1,1]
[2,2,1,1,{"$f":"I6","v":2},{"$f":"_xlfn.TEXTJOIN(\";\",1,J6:L6)","v":"225;235;239"},"练气期","前",2,225,235,239,{"$f":"ROUND([1]ResourceLevelConfig!$E6*[1]ResourceLevelConfig!$L6*0.1,0)*10","v":520},{"$f":"IF(I6=10,100004,-1)","v":-1},{"$f":"IF(N6=-1,-1,20)","v":-1},-1,-1,{"$f":"IF(I6=10,\"1204;1203;1202;1201\",-1)","v":-1},{"$f":"IF(R6=-1,-1,\"1;1;1;1\")","v":-1},{"$f":"IF(G6=G7,0,CONCATENATE(80*ROUND(VLOOKUP(B6,[2]MonsterPowerUpConfig!$A:$I,9,FALSE),0),\";\",120*ROUND(VLOOKUP(B6,[2]MonsterPowerUpConfig!$A:$I,9,FALSE),0)))","v":0},{"$f":"[3]主表!K4","v":6.1714715719063538},{"$f":"[3]主表!L4","v":1.0149999999999999},{"$f":"[3]主表!M4","v":1.0149999999999999},{"$f":"[3]主表!N4","v":0},{"$f":"[3]主表!$G4","v":107},{"$f":"[3]升级!$H4","v":1000},{"$f":"MAX(1,ROUND(100/(24*3600)*VLOOKUP(B6,[1]ResourceLevelConfig!$A:$E,5,FALSE),2))","v":1.17},-1,{"$f":"AC5","v":2},{"$f":"AD5","v":1},1,{"$f":"MAX(AF5+10,ROUND(10^(B6*0.01+1.405),0))","v":130},null,50.749999999999993,null,1,1,2]
[3,3,1,1,3,"225;235;240","练气期","前",3,225,235,240,{"$f":"ROUND([1]ResourceLevelConfig!$E7*[1]ResourceLevelConfig!$L7*0.1,0)*10","v":530},-1,-1,-1,-1,-1,-1,{"$f":"IF(G7=G8,0,CONCATENATE(80*ROUND(VLOOKUP(B7,[2]MonsterPowerUpConfig!$A:$I,9,FALSE),0),\";\",120*ROUND(VLOOKUP(B7,[2]MonsterPowerUpConfig!$A:$I,9,FALSE),0)))","v":0},{"$f":"[3]主表!K5","v":6.346737290969898},{"$f":"[3]主表!L5","v":1.0302249999999997},{"$f":"[3]主表!M5","v":1.0302249999999997},{"$f":"[3]主表!N5","v":0},{"$f":"[3]主表!$G5","v":108},{"$f":"[3]升级!$H5","v":1000},{"$f":"MAX(1,ROUND(100/(24*3600)*VLOOKUP(B7,[1]ResourceLevelConfig!$A:$E,5,FALSE),2))","v":1.18},-1,{"$f":"AC6","v":2},{"$f":"AD6","v":1},{"$f":"AE6","v":1},140,null,51.51124999999999,null,1,1,3]
[4,4,1,1,4,"225;235;241","练气期","前",4,225,235,241,{"$f":"ROUND([1]ResourceLevelConfig!$E8*[1]ResourceLevelConfig!$L8*0.1,0)*10","v":550},-1,-1,-1,-1,-1,-1,{"$f":"IF(G8=G9,0,CONCATENATE(80*ROUND(VLOOKUP(B8,[2]MonsterPowerUpConfig!$A:$I,9,FALSE),0),\";\",120*ROUND(VLOOKUP(B8,[2]MonsterPowerUpConfig!$A:$I,9,FALSE),0)))","v":0},{"$f":"[3]主表!K6","v":6.5258724005016688},{"$f":"[3]主表!L6","v":1.0456783749999996},{"$f":"[3]主表!M6","v":1.0456783749999996},{"$f":"[3]主表!N6","v":0},{"$f":"[3]主表!$G6","v":110},{"$f":"[3]升级!$H6","v":1000},{"$f":"MAX(1,ROUND(100/(24*3600)*VLOOKUP(B8,[1]ResourceLevelConfig!$A:$E,5,FALSE),2))","v":1.19},-1,2,1,1,150,null,52.283918749999984,null,1,1,4]
[5,5,1,1,5,"225;235;242","练气期","前",5,225,235,242,{"$f":"ROUND([1]ResourceLevelConfig!$E9*[1]ResourceLevelConfig!$L9*0.1,0)*10","v":560},-1,-1,-1,-1,-1,-1,{"$f":"IF(G9=G10,0,CONCATENATE(80*ROUND(VLOOKUP(B9,[2]MonsterPowerUpConfig!$A:$I,9,FALSE),0),\";\",120*ROUND(VLOOKUP(B9,[2]MonsterPowerUpConfig!$A:$I,9,FALSE),0)))","v":0},{"$f":"[3]主表!K7","v":6.7089535474289264},{"$f":"[3]主表!L7","v":1.0613635506249997},{"$f":"[3]主表!M7","v":1.0613635506249997},{"$f":"[3]主表!N7","v":0},{"$f":"[3]主表!$G7","v":111},{"$f":"[3]升级!$H7","v":1000},{"$f":"MAX(1,ROUND(100/(24*3600)*VLOOKUP(B9,[1]ResourceLevelConfig!$A:$E,5,FALSE),2))","v":1.2},-1,2,1,1,160,null,53.068177531249979,null,1,1,5]
[6,6,1,1,6,"225;235;243","练气期","前",6,225,235,243,{"$f":"ROUND([1]ResourceLevelConfig!$E10*[1]ResourceLevelConfig!$L10*0.1,0)*10","v":580},-1,-1,-1,-1,-1,-1,{"$f":"IF(G10=G11,0,CONCATENATE(80*ROUND(VLOOKUP(B10,[2]MonsterPowerUpConfig!$A:$I,9,FALSE),0),\";\",120*ROUND(VLOOKUP(B10,[2]MonsterPowerUpConfig!$A:$I,9,FALSE),0)))","v":0},{"$f":"[3]主表!K8","v":6.8960588074738887},{"$f":"[3]主表!L8","v":1.0772840038843745},{"$f":"[3]主表!M8","v":1.0772840038843745},{"$f":"[3]主表!N8","v":0},{"$f":"[3]主表!$G8","v":113},{"$f":"[3]升级!$H8","v":1000},{"$f":"MAX(1,ROUND(100/(24*3600)*VLOOKUP(B10,[1]ResourceLevelConfig!$A:$E,5,FALSE),2))","v":1.22},-1,2,1,1,170,null,53.864200194218725,null,1,1,6]
[7,7,1,1,7,"225;235;244","练气期","前",7,225,235,244,{"$f":"ROUND([1]ResourceLevelConfig!$E11*[1]ResourceLevelConfig!$L11*0.1,0)*10","v":590},-1,-1,-1,-1,-1,-1,{"$f":"IF(G11=G12,0,CONCATENATE(80*ROUND(VLOOKUP(B11,[2]MonsterPowerUpConfig!$A:$I,9,FALSE),0),\";\",120*ROUND(VLOOKUP(B11,[2]MonsterPowerUpConfig!$A:$I,9,FALSE),0)))","v":0},{"$f":"[3]主表!K9","v":7.0872677107720268},{"$f":"[3]主表!L9","v":1.0934432639426399},{"$f":"[3]主表!M9","v":1.0934432639426399},{"$f":"[3]主表!N9","v":0},{"$f":"[3]主表!$G9","v":114},{"$f":"[3]升级!$H9","v":1000},{"$f":"MAX(1,ROUND(100/(24*3600)*VLOOKUP(B11,[1]ResourceLevelConfig!$A:$E,5,FALSE),2))","v":1.23},-1,2,1,1,180,null,54.672163197131994,null,1,1,7]
[8,8,1,1,8,"225;235;245","练气期","前",8,225,235,245,{"$f":"ROUND([1]ResourceLevelConfig!$E12*[1]ResourceLevelConfig!$L12*0.1,0)*10","v":610},-1,-1,-1,-1,-1,-1,{"$f":"IF(G12=G13,0,CONCATENATE(80*ROUND(VLOOKUP(B12,[2]MonsterPowerUpConfig!$A:$I,9,FALSE),0),\";\",120*ROUND(VLOOKUP(B12,[2]MonsterPowerUpConfig!$A:$I,9,FALSE),0)))","v":0},{"$f":"[3]主表!K10","v":7.2826612679374287},{"$f":"[3]主表!L10","v":1.1098449129017796},{"$f":"[3]主表!M10","v":1.1098449129017796},{"$f":"[3]主表!N10","v":0},{"$f":"[3]主表!$G10","v":116},{"$f":"[3]升级!$H10","v":1000},{"$f":"MAX(1,ROUND(100/(24*3600)*VLOOKUP(B12,[1]ResourceLevelConfig!$A:$E,5,FALSE),2))","v":1.24},-1,2,1,1,190,null,55.492245645088978,null,1,1,8]
[9,9,1,1,9,"225;235;246","练气期","前",9,225,235,246,{"$f":"ROUND([1]ResourceLevelConfig!$E13*[1]ResourceLevelConfig!$L13*0.1,0)*10","v":630},-1,-1,-1,-1,-1,-1,{"$f":"IF(G13=G14,0,CONCATENATE(80*ROUND(VLOOKUP(B13,[2]MonsterPowerUpConfig!$A:$I,9,FALSE),0),\";\",120*ROUND(VLOOKUP(B13,[2]MonsterPowerUpConfig!$A:$I,9,FALSE),0)))","v":0},{"$f":"[3]主表!K11","v":7.4823219965828702},{"$f":"[3]主表!L11","v":1.1264925865953062},{"$f":"[3]主表!M11","v":1.1264925865953062},{"$f":"[3]主表!N11","v":0},{"$f":"[3]主表!$G11","v":118},{"$f":"[3]升级!$H11","v":1000},{"$f":"MAX(1,ROUND(100/(24*3600)*VLOOKUP(B13,[1]ResourceLevelConfig!$A:$E,5,FALSE),2))","v":1.25},-1,2,1,1,200,null,56.324629329765308,null,1,1,9]
[10,10,1,1,10,"225;235;247","练气期","前",10,225,235,247,{"$f":"ROUND([1]ResourceLevelConfig!$E14*[1]ResourceLevelConfig!$L14*0.1,0)*10","v":640},100004,{"$f":"AM14","v":45},{"$f":"AN14","v":1201},{"$f":"AO14","v":1},{"$f":"_xlfn.TEXTJOIN(\";\",1,AP14,AR14,AT14,AV14)","v":"1202;1201;1201;1201"},{"$f":"_xlfn.TEXTJOIN(\";\",1,AQ14,AS14,AU14,AW14)","v":"1;1;1;1"},{"$f":"IF(G14=G15,0,CONCATENATE(80*ROUND(VLOOKUP(B14,[2]MonsterPowerUpConfig!$A:$I,9,FALSE),0),\";\",120*ROUND(VLOOKUP(B14,[2]MonsterPowerUpConfig!$A:$I,9,FALSE),0)))","v":0},{"$f":"[3]主表!K12","v":7.6863339483023854},{"$f":"[3]主表!L12","v":1.1433899753942356},{"$f":"[3]主表!M12","v":1.1433899753942356},{"$f":"[3]主表!N12","v":0},{"$f":"[3]主表!$G12","v":120},{"$f":"[3]升级!$H12","v":1000},{"$f":"MAX(1,ROUND(100/(24*3600)*VLOOKUP(B14,[1]ResourceLevelConfig!$A:$E,5,FALSE),2))","v":1.26},20,2,1,1,210,null,57.16949876971178,null,1,1,10,45,1201,1,1202,1,1201,1,1201,1,1201,1,{"$f":"VLOOKUP(AN14,[4]ItemConfig!$A:$AC,29,FALSE)*AO14+AM14","v":55},{"$f":"VLOOKUP(AP14,[4]ItemConfig!$A:$AC,29,FALSE)*AQ14","v":15},{"$f":"VLOOKUP(AR14,[4]ItemConfig!$A:$AC,29,FALSE)*AS14","v":10},{"$f":"VLOOKUP(AT14,[4]ItemConfig!$A:$AC,29,FALSE)*AU14","v":10},{"$f":"VLOOKUP(AV14,[4]ItemConfig!$A:$AC,29,FALSE)*AW14","v":10},{"$f":"CONCATENATE(AX14,\" + \",SUM(AY14:BB14))","v":"55 + 45"}]
[11,11,1,2,1,"225;236;238","练气期","中",1,225,236,238,{"$f":"ROUND([1]ResourceLevelConfig!$E15*[1]ResourceLevelConfig!$L15*0.1,0)*10","v":670},-1,-1,-1,-1,-1,-1,{"$f":"IF(G15=G16,0,CONCATENATE(80*ROUND(VLOOKUP(B15,[2]MonsterPowerUpConfig!$A:$I,9,FALSE),0),\";\",120*ROUND(VLOOKUP(B15,[2]MonsterPowerUpConfig!$A:$I,9,FALSE),0)))","v":0},{"$f":"[3]主表!K13","v":8.5559221770804772},{"$f":"[3]主表!L13","v":1.2577289729336594},{"$f":"[3]主表!M13","v":1.2577289729336594},{"$f":"[3]主表!N13","v":0},{"$f":"[3]主表!$G13","v":133},{"$f":"[3]升级!$H13","v":1000},{"$f":"MAX(1,ROUND(100/(24*3600)*VLOOKUP(B15,[1]ResourceLevelConfig!$A:$E,5,FALSE),2))","v":1.28},-1,2,1,1,220,null,null,null,1,1,11]
[12,12,1,2,2,"225;236;239","练气期","中",2,225,236,239,{"$f":"ROUND([1]ResourceLevelConfig!$E16*[1]ResourceLevelConfig!$L16*0.1,0)*10","v":680},-1,-1,-1,-1,-1,-1,{"$f":"IF(G16=G17,0,CONCATENATE(80*ROUND(VLOOKUP(B16,[2]MonsterPowerUpConfig!$A:$I,9,FALSE),0),\";\",120*ROUND(VLOOKUP(B16,[2]MonsterPowerUpConfig!$A:$I,9,FALSE),0)))","v":0},{"$f":"[3]主表!K14","v":8.7867301661937525},{"$f":"[3]主表!L14","v":1.2765949075276639},{"$f":"[3]主表!M14","v":1.2765949075276639},{"$f":"[3]主表!N14","v":0},{"$f":"[3]主表!$G14","v":135},{"$f":"[3]升级!$H14","v":1000},{"$f":"MAX(1,ROUND(100/(24*3600)*VLOOKUP(B16,[1]ResourceLevelConfig!$A:$E,5,FALSE),2))","v":1.3},-1,{"$f":"AC15","v":2},{"$f":"AD15","v":1},1,230,null,null,null,1,1,12]
[13,13,1,2,3,"225;236;240","练气期","中",3,225,236,240,{"$f":"ROUND([1]ResourceLevelConfig!$E17*[1]ResourceLevelConfig!$L17*0.1,0)*10","v":700},-1,-1,-1,-1,-1,-1,{"$f":"IF(G17=G18,0,CONCATENATE(80*ROUND(VLOOKUP(B17,[2]MonsterPowerUpConfig!$A:$I,9,FALSE),0),\";\",120*ROUND(VLOOKUP(B17,[2]MonsterPowerUpConfig!$A:$I,9,FALSE),0)))","v":0},{"$f":"[3]主表!K15","v":9.0225373124905843},{"$f":"[3]主表!L15","v":1.2957438311405789},{"$f":"[3]主表!M15","v":1.2957438311405789},{"$f":"[3]主表!N15","v":0},{"$f":"[3]主表!$G15","v":137},{"$f":"[3]升级!$H15","v":1000},{"$f":"MAX(1,ROUND(100/(24*3600)*VLOOKUP(B17,[1]ResourceLevelConfig!$A:$E,5,FALSE),2))","v":1.31},-1,{"$f":"AC16","v":2},{"$f":"AD16","v":1},{"$f":"AE16","v":1},240,null,null,null,1,1,13]
[14,14,1,2,4,"225;236;241","练气期","中",4,225,236,241,{"$f":"ROUND([1]ResourceLevelConfig!$E18*[1]ResourceLevelConfig!$L18*0.1,0)*10","v":720},-1,-1,-1,-1,-1,-1,{"$f":"IF(G18=G19,0,CONCATENATE(80*ROUND(VLOOKUP(B18,[2]MonsterPowerUpConfig!$A:$I,9,FALSE),0),\";\",120*ROUND(VLOOKUP(B18,[2]MonsterPowerUpConfig!$A:$I,9,FALSE),0)))","v":0},{"$f":"[3]主表!K16","v":9.2634416588889295},{"$f":"[3]主表!L16","v":1.3151799886076876},{"$f":"[3]主表!M16","v":1.3151799886076876},{"$f":"[3]主表!N16","v":0},{"$f":"[3]主表!$G16","v":139},{"$f":"[3]升级!$H16","v":1000},{"$f":"MAX(1,ROUND(100/(24*3600)*VLOOKUP(B18,[1]ResourceLevelConfig!$A:$E,5,FALSE),2))","v":1.32},-1,2,1,1,250,null,null,null,1,1,14]
[15,15,1,2,5,"225;236;242","练气期","中",5,225,236,242,{"$f":"ROUND([1]ResourceLevelConfig!$E19*[1]ResourceLevelConfig!$L19*0.1,0)*10","v":740},-1,-1,-1,-1,-1,-1,{"$f":"IF(G19=G20,0,CONCATENATE(80*ROUND(VLOOKUP(B19,[2]MonsterPowerUpConfig!$A:$I,9,FALSE),0),\";\",120*ROUND(VLOOKUP(B19,[2]MonsterPowerUpConfig!$A:$I,9,FALSE),0)))","v":0},{"$f":"[3]主表!K17","v":9.5095430647839123},{"$f":"[3]主表!L17","v":1.334907688436803},{"$f":"[3]主表!M17","v":1.334907688436803},{"$f":"[3]主表!N17","v":0},{"$f":"[3]主表!$G17","v":141},{"$f":"[3]升级!$H17","v":1000},{"$f":"MAX(1,ROUND(100/(24*3600)*VLOOKUP(B19,[1]ResourceLevelConfig!$A:$E,5,FALSE),2))","v":1.33},-1,2,1,1,260,null,null,null,1,1,15]
[16,16,1,2,6,"225;236;243","练气期","中",6,225,236,243,{"$f":"ROUND([1]ResourceLevelConfig!$E20*[1]ResourceLevelConfig!$L20*0.1,0)*10","v":750},-1,-1,-1,-1,-1,-1,{"$f":"IF(G20=G21,0,CONCATENATE(80*ROUND(VLOOKUP(B20,[2]MonsterPowerUpConfig!$A:$I,9,FALSE),0),\";\",120*ROUND(VLOOKUP(B20,[2]MonsterPowerUpConfig!$A:$I,9,FALSE),0)))","v":0},{"$f":"[3]主表!K18","v":9.760943238482497},{"$f":"[3]主表!L18","v":1.3549313037633548},{"$f":"[3]主表!M18","v":1.3549313037633548},{"$f":"[3]主表!N18","v":0},{"$f":"[3]主表!$G18","v":143},{"$f":"[3]升级!$H18","v":1000},{"$f":"MAX(1,ROUND(100/(24*3600)*VLOOKUP(B20,[1]ResourceLevelConfig!$A:$E,5,FALSE),2))","v":1.34},-1,2,1,1,270,null,null,null,1,1,16]
[17,17,1,2,7,"225;236;244","练气期","中",7,225,236,244,{"$f":"ROUND([1]ResourceLevelConfig!$E21*[1]ResourceLevelConfig!$L21*0.1,0)*10","v":770},-1,-1,-1,-1,-1,-1,{"$f":"IF(G21=G22,0,CONCATENATE(80*ROUND(VLOOKUP(B21,[2]MonsterPowerUpConfig!$A:$I,9,FALSE),0),\";\",120*ROUND(VLOOKUP(B21,[2]MonsterPowerUpConfig!$A:$I,9,FALSE),0)))","v":0},{"$f":"[3]主表!K19","v":10.01774577020246},{"$f":"[3]主表!L19","v":1.3752552733198049},{"$f":"[3]主表!M19","v":1.3752552733198049},{"$f":"[3]主表!N19","v":0},{"$f":"[3]主表!$G19","v":146},{"$f":"[3]升级!$H19","v":1000},{"$f":"MAX(1,ROUND(100/(24*3600)*VLOOKUP(B21,[1]ResourceLevelConfig!$A:$E,5,FALSE),2))","v":1.35},-1,2,1,1,280,null,null,null,1,1,17]
[18,18,1,2,8,"225;236;245","练气期","中",8,225,236,245,{"$f":"ROUND([1]ResourceLevelConfig!$E22*[1]ResourceLevelConfig!$L22*0.1,0)*10","v":800},-1,-1,-1,-1,-1,-1,{"$f":"IF(G22=G23,0,CONCATENATE(80*ROUND(VLOOKUP(B22,[2]MonsterPowerUpConfig!$A:$I,9,FALSE),0),\";\",120*ROUND(VLOOKUP(B22,[2]MonsterPowerUpConfig!$A:$I,9,FALSE),0)))","v":0},{"$f":"[3]主表!K20","v":10.280056165645362},{"$f":"[3]主表!L20","v":1.3958841024196018},{"$f":"[3]主表!M20","v":1.3958841024196018},{"$f":"[3]主表!N20","v":0},{"$f":"[3]主表!$G20","v":148},{"$f":"[3]升级!$H20","v":1000},{"$f":"MAX(1,ROUND(100/(24*3600)*VLOOKUP(B22,[1]ResourceLevelConfig!$A:$E,5,FALSE),2))","v":1.38},-1,2,1,1,290,null,null,null,1,1,18]
[19,19,1,2,9,"225;236;246","练气期","中",9,225,236,246,{"$f":"ROUND([1]ResourceLevelConfig!$E23*[1]ResourceLevelConfig!$L23*0.1,0)*10","v":820},-1,-1,-1,-1,-1,-1,{"$f":"IF(G23=G24,0,CONCATENATE(80*ROUND(VLOOKUP(B23,[2]MonsterPowerUpConfig!$A:$I,9,FALSE),0),\";\",120*ROUND(VLOOKUP(B23,[2]MonsterPowerUpConfig!$A:$I,9,FALSE),0)))","v":0},{"$f":"[3]主表!K21","v":10.547981880153257},{"$f":"[3]主表!L21","v":1.4168223639558957},{"$f":"[3]主表!M21","v":1.4168223639558957},{"$f":"[3]主表!N21","v":0},{"$f":"[3]主表!$G21","v":150},{"$f":"[3]升级!$H21","v":1000},{"$f":"MAX(1,ROUND(100/(24*3600)*VLOOKUP(B23,[1]ResourceLevelConfig!$A:$E,5,FALSE),2))","v":1.39},-1,2,1,1,300,null,null,null,1,1,19]
[20,20,1,2,10,"225;236;247","练气期","中",10,225,236,247,{"$f":"ROUND([1]ResourceLevelConfig!$E24*[1]ResourceLevelConfig!$L24*0.1,0)*10","v":830},100004,{"$f":"AM24","v":45},{"$f":"AN24","v":1201},{"$f":"AO24","v":1},{"$f":"_xlfn.TEXTJOIN(\";\",1,AP24,AR24,AT24,AV24)","v":"1202;1201;1201;1201"},{"$f":"_xlfn.TEXTJOIN(\";\",1,AQ24,AS24,AU24,AW24)","v":"1;1;1;1"},{"$f":"IF(G24=G25,0,CONCATENATE(80*ROUND(VLOOKUP(B24,[2]MonsterPowerUpConfig!$A:$I,9,FALSE),0),\";\",120*ROUND(VLOOKUP(B24,[2]MonsterPowerUpConfig!$A:$I,9,FALSE),0)))","v":0},{"$f":"[3]主表!K22","v":10.821632353459119},{"$f":"[3]主表!L22","v":1.438074699415234},{"$f":"[3]主表!M22","v":1.438074699415234},{"$f":"[3]主表!N22","v":0},{"$f":"[3]主表!$G22","v":153},{"$f":"[3]升级!$H22","v":1000},{"$f":"MAX(1,ROUND(100/(24*3600)*VLOOKUP(B24,[1]ResourceLevelConfig!$A:$E,5,FALSE),2))","v":1.4},20,2,1,1,310,null,null,null,1,1,20,45,1201,1,1202,1,1201,1,1201,1,1201,1,{"$f":"VLOOKUP(AN24,[4]ItemConfig!$A:$AC,29,FALSE)*AO24+AM24","v":55},{"$f":"VLOOKUP(AP24,[4]ItemConfig!$A:$AC,29,FALSE)*AQ24","v":15},{"$f":"VLOOKUP(AR24,[4]ItemConfig!$A:$AC,29,FALSE)*AS24","v":10},{"$f":"VLOOKUP(AT24,[4]ItemConfig!$A:$AC,29,FALSE)*AU24","v":10},{"$f":"VLOOKUP(AV24,[4]ItemConfig!$A:$AC,29,FALSE)*AW24","v":10},{"$f":"CONCATENATE(AX24,\" + \",SUM(AY24:BB24))","v":"55 + 45"}]
[21,21,1,3,1,"225;237;238","练气期","后",1,225,237,238,{"$f":"ROUND([1]ResourceLevelConfig!$E25*[1]ResourceLevelConfig!$L25*0.1,0)*10","v":850},-1,-1,-1,-1,-1,-1,{"$f":"IF(G25=G26,0,CONCATENATE(80*ROUND(VLOOKUP(B25,[2]MonsterPowerUpConfig!$A:$I,9,FALSE),0),\";\",120*ROUND(VLOOKUP(B25,[2]MonsterPowerUpConfig!$A:$I,9,FALSE),0)))","v":0},{"$f":"[3]主表!K23","v":12.030769408418955},{"$f":"[3]主表!L23","v":1.5818821693567577},{"$f":"[3]主表!M23","v":1.5818821693567577},{"$f":"[3]主表!N23","v":0},{"$f":"[3]主表!$G23","v":178},{"$f":"[3]升级!$H23","v":1000},{"$f":"MAX(1,ROUND(100/(24*3600)*VLOOKUP(B25,[1]ResourceLevelConfig!$A:$E,5,FALSE),2))","v":1.41},-1,3,1,1,320,null,null,null,1,1,21]
[22,22,1,3,2,"225;237;239","练气期","后",2,225,237,239,{"$f":"ROUND([1]ResourceLevelConfig!$E26*[1]ResourceLevelConfig!$L26*0.1,0)*10","v":870},-1,-1,-1,-1,-1,-1,{"$f":"IF(G26=G27,0,CONCATENATE(80*ROUND(VLOOKUP(B26,[2]MonsterPowerUpConfig!$A:$I,9,FALSE),0),\";\",120*ROUND(VLOOKUP(B26,[2]MonsterPowerUpConfig!$A:$I,9,FALSE),0)))","v":0},{"$f":"[3]主表!K24","v":12.340109376453366},{"$f":"[3]主表!L24","v":1.6056104018971089},{"$f":"[3]主表!M24","v":1.6056104018971089},{"$f":"[3]主表!N24","v":0},{"$f":"[3]主表!$G24","v":180},{"$f":"[3]升级!$H24","v":1000},{"$f":"MAX(1,ROUND(100/(24*3600)*VLOOKUP(B26,[1]ResourceLevelConfig!$A:$E,5,FALSE),2))","v":1.42},-1,{"$f":"AC25","v":3},{"$f":"AD25","v":1},{"$f":"AE25","v":1},330,null,null,null,1,1,22]
[23,23,1,3,3,"225;237;240","练气期","后",3,225,237,240,{"$f":"ROUND([1]ResourceLevelConfig!$E27*[1]ResourceLevelConfig!$L27*0.1,0)*10","v":900},-1,-1,-1,-1,-1,-1,{"$f":"IF(G27=G28,0,CONCATENATE(80*ROUND(VLOOKUP(B27,[2]MonsterPowerUpConfig!$A:$I,9,FALSE),0),\";\",120*ROUND(VLOOKUP(B27,[2]MonsterPowerUpConfig!$A:$I,9,FALSE),0)))","v":0},{"$f":"[3]主表!K25","v":12.656022620411918},{"$f":"[3]主表!L25","v":1.6296945579255655},{"$f":"[3]主表!M25","v":1.6296945579255655},{"$f":"[3]主表!N25","v":0},{"$f":"[3]主表!$G25","v":183},{"$f":"[3]升级!$H25","v":1000},{"$f":"MAX(1,ROUND(100/(24*3600)*VLOOKUP(B27,[1]ResourceLevelConfig!$A:$E,5,FALSE),2))","v":1.45},-1,{"$f":"AC26","v":3},1,1,340,null,null,null,1,1,23]
[24,24,1,3,4,"225;237;241","练气期","后",4,225,237,241,{"$f":"ROUND([1]ResourceLevelConfig!$E28*[1]ResourceLevelConfig!$L28*0.1,0)*10","v":920},-1,-1,-1,-1,-1,-1,{"$f":"IF(G28=G29,0,CONCATENATE(80*ROUND(VLOOKUP(B28,[2]MonsterPowerUpConfig!$A:$I,9,FALSE),0),\";\",120*ROUND(VLOOKUP(B28,[2]MonsterPowerUpConfig!$A:$I,9,FALSE),0)))","v":0},{"$f":"[3]主表!K26","v":12.978636737079523},{"$f":"[3]主表!L26","v":1.6541399762944489},{"$f":"[3]主表!M26","v":1.6541399762944489},{"$f":"[3]主表!N26","v":0},{"$f":"[3]主表!$G26","v":186},{"$f":"[3]升级!$H26","v":1000},{"$f":"MAX(1,ROUND(100/(24*3600)*VLOOKUP(B28,[1]ResourceLevelConfig!$A:$E,5,FALSE),2))","v":1.46},-1,3,1,1,350,null,null,null,1,1,24]
[25,25,1,3,5,"225;237;242","练气期","后",5,225,237,242,{"$f":"ROUND([1]ResourceLevelConfig!$E29*[1]ResourceLevelConfig!$L29*0.1,0)*10","v":940},-1,-1,-1,-1,-1,-1,{"$f":"IF(G29=G30,0,CONCATENATE(80*ROUND(VLOOKUP(B29,[2]MonsterPowerUpConfig!$A:$I,9,FALSE),0),\";\",120*ROUND(VLOOKUP(B29,[2]MonsterPowerUpConfig!$A:$I,9,FALSE),0)))","v":0},{"$f":"[3]主表!K27","v":13.308081672157563},{"$f":"[3]主表!L27","v":1.6789520759388654},{"$f":"[3]主表!M27","v":1.6789520759388654},{"$f":"[3]主表!N27","v":0},{"$f":"[3]主表!$G27","v":189},{"$f":"[3]升级!$H27","v":1000},{"$f":"MAX(1,ROUND(100/(24*3600)*VLOOKUP(B29,[1]ResourceLevelConfig!$A:$E,5,FALSE),2))","v":1.47},-1,3,1,1,360,null,null,null,1,1,25]
[26,26,1,3,6,"225;237;243","练气期","后",6,225,237,243,{"$f":"ROUND([1]ResourceLevelConfig!$E30*[1]ResourceLevelConfig!$L30*0.1,0)*10","v":960},-1,-1,-1,-1,-1,-1,{"$f":"IF(G30=G31,0,CONCATENATE(80*ROUND(VLOOKUP(B30,[2]MonsterPowerUpConfig!$A:$I,9,FALSE),0),\";\",120*ROUND(VLOOKUP(B30,[2]MonsterPowerUpConfig!$A:$I,9,FALSE),0)))","v":0},{"$f":"[3]主表!K28","v":13.644489762022101},{"$f":"[3]主表!L28","v":1.7041363570779482},{"$f":"[3]主表!M28","v":1.7041363570779482},{"$f":"[3]主表!N28","v":0},{"$f":"[3]主表!$G28","v":192},{"$f":"[3]升级!$H28","v":1000},{"$f":"MAX(1,ROUND(100/(24*3600)*VLOOKUP(B30,[1]ResourceLevelConfig!$A:$E,5,FALSE),2))","v":1.48},-1,3,1,1,370,null,null,null,1,1,26]
[27,27,1,3,7,"225;237;244","练气期","后",7,225,237,244,{"$f":"ROUND([1]ResourceLevelConfig!$E31*[1]ResourceLevelConfig!$L31*0.1,0)*10","v":990},-1,-1,-1,-1,-1,-1,{"$f":"IF(G31=G32,0,CONCATENATE(80*ROUND(VLOOKUP(B31,[2]MonsterPowerUpConfig!$A:$I,9,FALSE),0),\";\",120*ROUND(VLOOKUP(B31,[2]MonsterPowerUpConfig!$A:$I,9,FALSE),0)))","v":0},{"$f":"[3]主表!K29","v":13.987995776206338},{"$f":"[3]主表!L29","v":1.7296984024341171},{"$f":"[3]主表!M29","v":1.7296984024341171},{"$f":"[3]主表!N29","v":0},{"$f":"[3]主表!$G29","v":196},{"$f":"[3]升级!$H29","v":1000},{"$f":"MAX(1,ROUND(100/(24*3600)*VLOOKUP(B31,[1]ResourceLevelConfig!$A:$E,5,FALSE),2))","v":1.5},-1,3,1,1,380,null,null,null,1,1,27]
[28,28,1,3,8,"225;237;245","练气期","后",8,225,237,245,{"$f":"ROUND([1]ResourceLevelConfig!$E32*[1]ResourceLevelConfig!$L32*0.1,0)*10","v":1010},-1,-1,-1,-1,-1,-1,{"$f":"IF(G32=G33,0,CONCATENATE(80*ROUND(VLOOKUP(B32,[2]MonsterPowerUpConfig!$A:$I,9,FALSE),0),\";\",120*ROUND(VLOOKUP(B32,[2]MonsterPowerUpConfig!$A:$I,9,FALSE),0)))","v":0},{"$f":"[3]主表!K30","v":14.33873696061965},{"$f":"[3]主表!L30","v":1.7556438784706287},{"$f":"[3]主表!M30","v":1.7556438784706287},{"$f":"[3]主表!N30","v":0},{"$f":"[3]主表!$G30","v":199},{"$f":"[3]升级!$H30","v":1000},{"$f":"MAX(1,ROUND(100/(24*3600)*VLOOKUP(B32,[1]ResourceLevelConfig!$A:$E,5,FALSE),2))","v":1.52},-1,3,1,1,390,null,null,null,1,1,28]
[29,29,1,3,9,"225;237;246","练气期","后",9,225,237,246,{"$f":"ROUND([1]ResourceLevelConfig!$E33*[1]ResourceLevelConfig!$L33*0.1,0)*10","v":1030},-1,-1,-1,-1,-1,-1,{"$f":"IF(G33=G34,0,CONCATENATE(80*ROUND(VLOOKUP(B33,[2]MonsterPowerUpConfig!$A:$I,9,FALSE),0),\";\",120*ROUND(VLOOKUP(B33,[2]MonsterPowerUpConfig!$A:$I,9,FALSE),0)))","v":0},{"$f":"[3]主表!K31","v":14.696853081515716},{"$f":"[3]主表!L31","v":1.7819785366476881},{"$f":"[3]主表!M31","v":1.7819785366476881},{"$f":"[3]主表!N31","v":0},{"$f":"[3]主表!$G31","v":202},{"$f":"[3]升级!$H31","v":1000},{"$f":"MAX(1,ROUND(100/(24*3600)*VLOOKUP(B33,[1]ResourceLevelConfig!$A:$E,5,FALSE),2))","v":1.53},-1,3,1,1,400,null,null,null,1,1,29]
[30,30,1,3,10,"225;237;247","练气期","后",10,225,237,247,{"$f":"ROUND([1]ResourceLevelConfig!$E34*[1]ResourceLevelConfig!$L34*0.1,0)*10","v":1060},100004,{"$f":"AM34","v":45},{"$f":"AN34","v":1301},{"$f":"AO34","v":1},{"$f":"_xlfn.TEXTJOIN(\";\",1,AP34,AR34,AT34,AV34)","v":"1204;1203;1202;1201"},{"$f":"_xlfn.TEXTJOIN(\";\",1,AQ34,AS34,AU34,AW34)","v":"1;1;1;1"},{"$f":"CONCATENATE(ROUND(0.8*VLOOKUP(A34,[3]主表!$A:$P,16,FALSE)*[5]HeroModelConfig!$Q$5,0),\";\",ROUND(1.2*VLOOKUP(A34,[3]主表!$A:$P,16,FALSE)*[5]HeroModelConfig!$Q$5,0))","v":"3431;5147"},{"$f":"[3]主表!K32","v":15.062486470222522},{"$f":"[3]主表!L32","v":1.8087082146974032},{"$f":"[3]主表!M32","v":1.8087082146974032},{"$f":"[3]主表!N32","v":0},{"$f":"[3]主表!$G32","v":206},{"$f":"[3]升级!$H32","v":1000},{"$f":"MAX(1,ROUND(100/(24*3600)*VLOOKUP(B34,[1]ResourceLevelConfig!$A:$E,5,FALSE),2))","v":1.55},50,3,1,1,410,null,null,null,1,1,30,45,1301,1,1204,1,1203,1,1202,1,1201,1,{"$f":"VLOOKUP(AN34,[4]ItemConfig!$A:$AC,29,FALSE)*AO34+AM34","v":90},{"$f":"VLOOKUP(AP34,[4]ItemConfig!$A:$AC,29,FALSE)*AQ34","v":40},{"$f":"VLOOKUP(AR34,[4]ItemConfig!$A:$AC,29,FALSE)*AS34","v":25},{"$f":"VLOOKUP(AT34,[4]ItemConfig!$A:$AC,29,FALSE)*AU34","v":15},{"$f":"VLOOKUP(AV34,[4]ItemConfig!$A:$AC,29,FALSE)*AW34","v":10},{"$f":"CONCATENATE(AX34,\" + \",SUM(AY34:BB34))","v":"90 + 90"}]
[31,31,2,4,1,"226;235;238","筑基期","前",1,226,235,238,{"$f":"ROUND([1]ResourceLevelConfig!$E35*[1]ResourceLevelConfig!$L35*0.1,0)*10","v":1080},-1,-1,-1,-1,{"$f":"IF(I35=10,\"1001;1002;1004\",-1)","v":-1},{"$f":"IF(R35=-1,-1,\"100;200;300\")","v":-1},{"$f":"IF(G35=G36,0,CONCATENATE(\"1;1\"))","v":0},{"$f":"[3]主表!K33","v":22.81150059405989},{"$f":"[3]主表!L33","v":2.7130623220461048},{"$f":"[3]主表!M33","v":2.7130623220461048},{"$f":"[3]主表!N33","v":0},{"$f":"[3]主表!$G33","v":313},{"$f":"[3]升级!$H33","v":1100},{"$f":"MAX(1,ROUND(100/(24*3600)*VLOOKUP(B35,[1]ResourceLevelConfig!$A:$E,5,FALSE),2))","v":1.56},-1,3,2,1,420,null,null,null,1,1,31]
[32,32,2,4,2,"226;235;239","筑基期","前",2,226,235,239,{"$f":"ROUND([1]ResourceLevelConfig!$E36*[1]ResourceLevelConfig!$L36*0.1,0)*10","v":1100},-1,-1,-1,-1,{"$f":"IF(I36=10,\"1001;1002;1004\",-1)","v":-1},{"$f":"IF(R36=-1,-1,\"100;200;300\")","v":-1},0,{"$f":"[3]主表!K34","v":23.374710555027782},{"$f":"[3]主表!L34","v":2.7537582568767958},{"$f":"[3]主表!M34","v":2.7537582568767958},{"$f":"[3]主表!N34","v":0},{"$f":"[3]主表!$G34","v":318},{"$f":"[3]升级!$H34","v":1100},{"$f":"MAX(1,ROUND(100/(24*3600)*VLOOKUP(B36,[1]ResourceLevelConfig!$A:$E,5,FALSE),2))","v":1.57},-1,{"$f":"AC35","v":3},{"$f":"AD35","v":2},{"$f":"AE35","v":1},430,null,null,null,1,1,32]
[33,33,2,4,3,"226;235;240","筑基期","前",3,226,235,240,{"$f":"ROUND([1]ResourceLevelConfig!$E37*[1]ResourceLevelConfig!$L37*0.1,0)*10","v":1130},-1,-1,-1,-1,-1,-1,0,{"$f":"[3]主表!K35","v":23.949684227191053},{"$f":"[3]主表!L35","v":2.7950646307299474},{"$f":"[3]主表!M35","v":2.7950646307299474},{"$f":"[3]主表!N35","v":0},{"$f":"[3]主表!$G35","v":324},{"$f":"[3]升级!$H35","v":1100},{"$f":"MAX(1,ROUND(100/(24*3600)*VLOOKUP(B37,[1]ResourceLevelConfig!$A:$E,5,FALSE),2))","v":1.6},-1,{"$f":"AC36","v":3},2,1,440,null,null,null,1,1,33]
[34,34,2,4,4,"226;235;241","筑基期","前",4,226,235,241,{"$f":"ROUND([1]ResourceLevelConfig!$E38*[1]ResourceLevelConfig!$L38*0.1,0)*10","v":1150},-1,-1,-1,-1,-1,-1,0,{"$f":"[3]主表!K36","v":24.536647799644335},{"$f":"[3]主表!L36","v":2.8369906001908962},{"$f":"[3]主表!M36","v":2.8369906001908962},{"$f":"[3]主表!N36","v":0},{"$f":"[3]主表!$G36","v":329},{"$f":"[3]升级!$H36","v":1100},{"$f":"MAX(1,ROUND(100/(24*3600)*VLOOKUP(B38,[1]ResourceLevelConfig!$A:$E,5,FALSE),2))","v":1.61},-1,3,2,1,450,null,null,null,1,1,34]
[35,35,2,4,5,"226;235;242","筑基期","前",5,226,235,242,{"$f":"ROUND([1]ResourceLevelConfig!$E39*[1]ResourceLevelConfig!$L39*0.1,0)*10","v":1180},-1,-1,-1,-1,-1,-1,0,{"$f":"[3]主表!K37","v":25.135831600320106},{"$f":"[3]主表!L37","v":2.8795454591937597},{"$f":"[3]主表!M37","v":2.8795454591937597},{"$f":"[3]主表!N37","v":0},{"$f":"[3]主表!$G37","v":335},{"$f":"[3]升级!$H37","v":1100},{"$f":"MAX(1,ROUND(100/(24*3600)*VLOOKUP(B39,[1]ResourceLevelConfig!$A:$E,5,FALSE),2))","v":1.63},-1,3,2,1,460,null,null,null,1,1,35]
[36,36,2,4,6,"226;235;243","筑基期","前",6,226,235,243,{"$f":"ROUND([1]ResourceLevelConfig!$E40*[1]ResourceLevelConfig!$L40*0.1,0)*10","v":1210},-1,-1,-1,-1,-1,-1,0,{"$f":"[3]主表!K38","v":25.747470169261227},{"$f":"[3]主表!L38","v":2.9227386410816654},{"$f":"[3]主表!M38","v":2.9227386410816654},{"$f":"[3]主表!N38","v":0},{"$f":"[3]主表!$G38","v":341},{"$f":"[3]升级!$H38","v":1100},{"$f":"MAX(1,ROUND(100/(24*3600)*VLOOKUP(B40,[1]ResourceLevelConfig!$A:$E,5,FALSE),2))","v":1.64},-1,3,2,1,470,null,null,null,1,1,36]
[37,37,2,4,7,"226;235;244","筑基期","前",7,226,235,244,{"$f":"ROUND([1]ResourceLevelConfig!$E41*[1]ResourceLevelConfig!$L41*0.1,0)*10","v":1230},-1,-1,-1,-1,-1,-1,0,{"$f":"[3]主表!K39","v":26.37180233316051},{"$f":"[3]主表!L39","v":2.9665797206978901},{"$f":"[3]主表!M39","v":2.9665797206978901},{"$f":"[3]主表!N39","v":0},{"$f":"[3]主表!$G39","v":347},{"$f":"[3]升级!$H39","v":1100},{"$f":"MAX(1,ROUND(100/(24*3600)*VLOOKUP(B41,[1]ResourceLevelConfig!$A:$E,5,FALSE),2))","v":1.66},-1,3,2,1,480,null,null,null,1,1,37]
[38,38,2,4,8,"226;235;245","筑基期","前",8,226,235,245,{"$f":"ROUND([1]ResourceLevelConfig!$E42*[1]ResourceLevelConfig!$L42*0.1,0)*10","v":1260},-1,-1,-1,-1,-1,-1,0,{"$f":"[3]主表!K40","v":27.009071281188689},{"$f":"[3]主表!L40","v":3.0110784165083584},{"$f":"[3]主表!M40","v":3.0110784165083584},{"$f":"[3]主表!N40","v":0},{"$f":"[3]主表!$G40","v":353},{"$f":"[3]升级!$H40","v":1100},{"$f":"MAX(1,ROUND(100/(24*3600)*VLOOKUP(B42,[1]ResourceLevelConfig!$A:$E,5,FALSE),2))","v":1.68},-1,3,2,1,490,null,null,null,1,1,38]
[39,39,2,4,9,"226;235;246","筑基期","前",9,226,235,246,{"$f":"ROUND([1]ResourceLevelConfig!$E43*[1]ResourceLevelConfig!$L43*0.1,0)*10","v":1280},-1,-1,-1,-1,-1,-1,0,{"$f":"[3]主表!K41","v":27.659524642132745},{"$f":"[3]主表!L41","v":3.0562445927559834},{"$f":"[3]主表!M41","v":3.0562445927559834},{"$f":"[3]主表!N41","v":0},{"$f":"[3]主表!$G41","v":360},{"$f":"[3]升级!$H41","v":1100},{"$f":"MAX(1,ROUND(100/(24*3600)*VLOOKUP(B43,[1]ResourceLevelConfig!$A:$E,5,FALSE),2))","v":1.69},-1,3,2,1,500,null,null,null,1,1,39]
[40,40,2,4,10,"226;235;247","筑基期","前",10,226,235,247,{"$f":"ROUND([1]ResourceLevelConfig!$E44*[1]ResourceLevelConfig!$L44*0.1,0)*10","v":1320},100004,{"$f":"AM44","v":40},{"$f":"AN44","v":1202},{"$f":"AO44","v":1},{"$f":"_xlfn.TEXTJOIN(\";\",1,AP44,AR44,AT44,AV44)","v":"1202;1201;1201;1201"},{"$f":"_xlfn.TEXTJOIN(\";\",1,AQ44,AS44,AU44,AW44)","v":"1;1;1;1"},0,{"$f":"[3]主表!K42","v":28.323414562866859},{"$f":"[3]主表!L42","v":3.1020882616473227},{"$f":"[3]主表!M42","v":3.1020882616473227},{"$f":"[3]主表!N42","v":0},{"$f":"[3]主表!$G42","v":366},{"$f":"[3]升级!$H42","v":1100},{"$f":"MAX(1,ROUND(100/(24*3600)*VLOOKUP(B44,[1]ResourceLevelConfig!$A:$E,5,FALSE),2))","v":1.71},20,3,2,1,510,null,null,null,1,1,40,40,1202,1,1202,1,1201,1,1201,1,1201,1,{"$f":"VLOOKUP(AN44,[4]ItemConfig!$A:$AC,29,FALSE)*AO44+AM44","v":55},{"$f":"VLOOKUP(AP44,[4]ItemConfig!$A:$AC,29,FALSE)*AQ44","v":15},{"$f":"VLOOKUP(AR44,[4]ItemConfig!$A:$AC,29,FALSE)*AS44","v":10},{"$f":"VLOOKUP(AT44,[4]ItemConfig!$A:$AC,29,FALSE)*AU44","v":10},{"$f":"VLOOKUP(AV44,[4]ItemConfig!$A:$AC,29,FALSE)*AW44","v":10},{"$f":"CONCATENATE(AX44,\" + \",SUM(AY44:BB44))","v":"55 + 45"}]
[41,41,2,5,1,"226;236;238","筑基期","中",1,226,236,238,{"$f":"ROUND([1]ResourceLevelConfig!$E45*[1]ResourceLevelConfig!$L45*0.1,0)*10","v":1340},-1,-1,-1,-1,{"$f":"IF(I45=10,\"1001;1002;1004\",-1)","v":-1},-1,0,{"$f":"[3]主表!K43","v":31.429652775365895},{"$f":"[3]主表!L43","v":3.4122970878120555},{"$f":"[3]主表!M43","v":3.4122970878120555},{"$f":"[3]主表!N43","v":0},{"$f":"[3]主表!$G43","v":409},{"$f":"[3]升级!$H43","v":1100},{"$f":"MAX(1,ROUND(100/(24*3600)*VLOOKUP(B45,[1]ResourceLevelConfig!$A:$E,5,FALSE),2))","v":1.72},-1,3,2,2,520,null,null,null,1,1,41]
[42,42,2,5,2,"226;236;239","筑基期","中",2,226,236,239,{"$f":"ROUND([1]ResourceLevelConfig!$E46*[1]ResourceLevelConfig!$L46*0.1,0)*10","v":1370},-1,-1,-1,-1,-1,-1,0,{"$f":"[3]主表!K44","v":32.179102774551893},{"$f":"[3]主表!L44","v":3.4634815441292357},{"$f":"[3]主表!M44","v":3.4634815441292357},{"$f":"[3]主表!N44","v":0},{"$f":"[3]主表!$G44","v":416},{"$f":"[3]升级!$H44","v":1100},{"$f":"MAX(1,ROUND(100/(24*3600)*VLOOKUP(B46,[1]ResourceLevelConfig!$A:$E,5,FALSE),2))","v":1.75},-1,{"$f":"AC45","v":3},{"$f":"AD45","v":2},{"$f":"AE45","v":2},530,null,null,null,1,1,42]
[43,43,2,5,3,"226;236;240","筑基期","中",3,226,236,240,{"$f":"ROUND([1]ResourceLevelConfig!$E47*[1]ResourceLevelConfig!$L47*0.1,0)*10","v":1400},-1,-1,-1,-1,-1,-1,0,{"$f":"[3]主表!K45","v":32.943964601839028},{"$f":"[3]主表!L45","v":3.5154337672911735},{"$f":"[3]主表!M45","v":3.5154337672911735},{"$f":"[3]主表!N45","v":0},{"$f":"[3]主表!$G45","v":424},{"$f":"[3]升级!$H45","v":1100},{"$f":"MAX(1,ROUND(100/(24*3600)*VLOOKUP(B47,[1]ResourceLevelConfig!$A:$E,5,FALSE),2))","v":1.76},-1,{"$f":"AC46","v":3},{"$f":"AD46","v":2},{"$f":"AE46","v":2},540,null,null,null,1,1,43]
[44,44,2,5,4,"226;236;241","筑基期","中",4,226,236,241,{"$f":"ROUND([1]ResourceLevelConfig!$E48*[1]ResourceLevelConfig!$L48*0.1,0)*10","v":1430},-1,-1,-1,-1,-1,-1,0,{"$f":"[3]主表!K46","v":33.724531985820498},{"$f":"[3]主表!L46","v":3.5681652738005409},{"$f":"[3]主表!M46","v":3.5681652738005409},{"$f":"[3]主表!N46","v":0},{"$f":"[3]主表!$G46","v":432},{"$f":"[3]升级!$H46","v":1100},{"$f":"MAX(1,ROUND(100/(24*3600)*VLOOKUP(B48,[1]ResourceLevelConfig!$A:$E,5,FALSE),2))","v":1.78},-1,3,2,2,550,null,null,null,1,1,44]
[45,45,2,5,5,"226;236;242","筑基期","中",5,226,236,242,{"$f":"ROUND([1]ResourceLevelConfig!$E49*[1]ResourceLevelConfig!$L49*0.1,0)*10","v":1460},-1,-1,-1,-1,-1,-1,0,{"$f":"[3]主表!K47","v":34.521103999286005},{"$f":"[3]主表!L47","v":3.6216877529075489},{"$f":"[3]主表!M47","v":3.6216877529075489},{"$f":"[3]主表!N47","v":0},{"$f":"[3]主表!$G47","v":440},{"$f":"[3]升级!$H47","v":1100},{"$f":"MAX(1,ROUND(100/(24*3600)*VLOOKUP(B49,[1]ResourceLevelConfig!$A:$E,5,FALSE),2))","v":1.79},-1,3,2,2,560,null,null,null,1,1,45]
[46,46,2,5,6,"226;236;243","筑基期","中",6,226,236,243,{"$f":"ROUND([1]ResourceLevelConfig!$E50*[1]ResourceLevelConfig!$L50*0.1,0)*10","v":1490},-1,-1,-1,-1,-1,-1,0,{"$f":"[3]主表!K48","v":35.333985153458656},{"$f":"[3]主表!L48","v":3.6760130692011614},{"$f":"[3]主表!M48","v":3.6760130692011614},{"$f":"[3]主表!N48","v":0},{"$f":"[3]主表!$G48","v":448},{"$f":"[3]升级!$H48","v":1100},{"$f":"MAX(1,ROUND(100/(24*3600)*VLOOKUP(B50,[1]ResourceLevelConfig!$A:$E,5,FALSE),2))","v":1.82},-1,3,2,2,570,null,null,null,1,1,46]
[47,47,2,5,7,"226;236;244","筑基期","中",7,226,236,244,{"$f":"ROUND([1]ResourceLevelConfig!$E51*[1]ResourceLevelConfig!$L51*0.1,0)*10","v":1530},-1,-1,-1,-1,-1,-1,0,{"$f":"[3]主表!K49","v":36.163485493856655},{"$f":"[3]主表!L49","v":3.7311532652391786},{"$f":"[3]主表!M49","v":3.7311532652391786},{"$f":"[3]主表!N49","v":0},{"$f":"[3]主表!$G49","v":456},{"$f":"[3]升级!$H49","v":1100},{"$f":"MAX(1,ROUND(100/(24*3600)*VLOOKUP(B51,[1]ResourceLevelConfig!$A:$E,5,FALSE),2))","v":1.84},-1,3,2,2,580,null,null,null,1,1,47]
[48,48,2,5,8,"226;236;245","筑基期","中",8,226,236,245,{"$f":"ROUND([1]ResourceLevelConfig!$E52*[1]ResourceLevelConfig!$L52*0.1,0)*10","v":1550},-1,-1,-1,-1,-1,-1,0,{"$f":"[3]主表!K50","v":37.009920697807068},{"$f":"[3]主表!L50","v":3.7871205642177661},{"$f":"[3]主表!M50","v":3.7871205642177661},{"$f":"[3]主表!N50","v":0},{"$f":"[3]主表!$G50","v":465},{"$f":"[3]升级!$H50","v":1100},{"$f":"MAX(1,ROUND(100/(24*3600)*VLOOKUP(B52,[1]ResourceLevelConfig!$A:$E,5,FALSE),2))","v":1.85},-1,3,2,2,590,null,null,null,1,1,48]
[49,49,2,5,9,"226;236;246","筑基期","中",9,226,236,246,{"$f":"ROUND([1]ResourceLevelConfig!$E53*[1]ResourceLevelConfig!$L53*0.1,0)*10","v":1590},-1,-1,-1,-1,-1,-1,0,{"$f":"[3]主表!K51","v":37.873612173639863},{"$f":"[3]主表!L51","v":3.8439273726810317},{"$f":"[3]主表!M51","v":3.8439273726810317},{"$f":"[3]主表!N51","v":0},{"$f":"[3]主表!$G51","v":473},{"$f":"[3]升级!$H51","v":1100},{"$f":"MAX(1,ROUND(100/(24*3600)*VLOOKUP(B53,[1]ResourceLevelConfig!$A:$E,5,FALSE),2))","v":1.88},-1,3,2,2,600,null,null,null,1,1,49]
[50,50,2,5,10,"226;236;247","筑基期","中",10,226,236,247,{"$f":"ROUND([1]ResourceLevelConfig!$E54*[1]ResourceLevelConfig!$L54*0.1,0)*10","v":1610},100004,{"$f":"AM54","v":40},{"$f":"AN54","v":1202},{"$f":"AO54","v":1},{"$f":"_xlfn.TEXTJOIN(\";\",1,AP54,AR54,AT54,AV54)","v":"1202;1201;1201;1201"},{"$f":"_xlfn.TEXTJOIN(\";\",1,AQ54,AS54,AU54,AW54)","v":"1;1;1;1"},0,{"$f":"[3]主表!K52","v":38.754887161590645},{"$f":"[3]主表!L52","v":3.9015862832712469},{"$f":"[3]主表!M52","v":3.9015862832712469},{"$f":"[3]主表!N52","v":0},{"$f":"[3]主表!$G52","v":482},{"$f":"[3]升级!$H52","v":1100},{"$f":"MAX(1,ROUND(100/(24*3600)*VLOOKUP(B54,[1]ResourceLevelConfig!$A:$E,5,FALSE),2))","v":1.89},20,3,2,2,610,null,null,null,1,1,50,40,1202,1,1202,1,1201,1,1201,1,1201,1,{"$f":"VLOOKUP(AN54,[4]ItemConfig!$A:$AC,29,FALSE)*AO54+AM54","v":55},{"$f":"VLOOKUP(AP54,[4]ItemConfig!$A:$AC,29,FALSE)*AQ54","v":15},{"$f":"VLOOKUP(AR54,[4]ItemConfig!$A:$AC,29,FALSE)*AS54","v":10},{"$f":"VLOOKUP(AT54,[4]ItemConfig!$A:$AC,29,FALSE)*AU54","v":10},{"$f":"VLOOKUP(AV54,[4]ItemConfig!$A:$AC,29,FALSE)*AW54","v":10},{"$f":"CONCATENATE(AX54,\" + \",SUM(AY54:BB54))","v":"55 + 45"}]
[51,51,2,6,1,"226;237;238","筑基期","后",1,226,237,238,{"$f":"ROUND([1]ResourceLevelConfig!$E55*[1]ResourceLevelConfig!$L55*0.1,0)*10","v":1650},-1,-1,-1,-1,{"$f":"IF(I55=10,\"1001;1002;1004\",-1)","v":-1},-1,0,{"$f":"[3]主表!K53","v":42.974863763630523},{"$f":"[3]主表!L53","v":4.2917449115983723},{"$f":"[3]主表!M53","v":4.2917449115983723},{"$f":"[3]主表!N53","v":0},{"$f":"[3]主表!$G53","v":564},{"$f":"[3]升级!$H53","v":1100},{"$f":"MAX(1,ROUND(100/(24*3600)*VLOOKUP(B55,[1]ResourceLevelConfig!$A:$E,5,FALSE),2))","v":1.91},-1,4,2,2,620,null,null,null,1,1,51]
[52,52,2,6,2,"226;237;239","筑基期","后",2,226,237,239,{"$f":"ROUND([1]ResourceLevelConfig!$E56*[1]ResourceLevelConfig!$L56*0.1,0)*10","v":1690},-1,-1,-1,-1,-1,-1,0,{"$f":"[3]主表!K54","v":43.969141924253996},{"$f":"[3]主表!L54","v":4.3561210852723473},{"$f":"[3]主表!M54","v":4.3561210852723473},{"$f":"[3]主表!N54","v":0},{"$f":"[3]主表!$G54","v":574},{"$f":"[3]升级!$H54","v":1100},{"$f":"MAX(1,ROUND(100/(24*3600)*VLOOKUP(B56,[1]ResourceLevelConfig!$A:$E,5,FALSE),2))","v":1.93},-1,{"$f":"AC55","v":4},{"$f":"AD55","v":2},{"$f":"AE55","v":2},630,null,null,null,1,1,52]
[53,53,2,6,3,"226;237;240","筑基期","后",3,226,237,240,{"$f":"ROUND([1]ResourceLevelConfig!$E57*[1]ResourceLevelConfig!$L57*0.1,0)*10","v":1710},-1,-1,-1,-1,-1,-1,0,{"$f":"[3]主表!K55","v":44.983579085349362},{"$f":"[3]主表!L55","v":4.4214629015514326},{"$f":"[3]主表!M55","v":4.4214629015514326},{"$f":"[3]主表!N55","v":0},{"$f":"[3]主表!$G55","v":585},{"$f":"[3]升级!$H55","v":1100},{"$f":"MAX(1,ROUND(100/(24*3600)*VLOOKUP(B57,[1]ResourceLevelConfig!$A:$E,5,FALSE),2))","v":1.94},-1,4,2,2,640,null,null,null,1,1,53]
[54,54,2,6,4,"226;237;241","筑基期","后",4,226,237,241,{"$f":"ROUND([1]ResourceLevelConfig!$E58*[1]ResourceLevelConfig!$L58*0.1,0)*10","v":1750},-1,-1,-1,-1,-1,-1,0,{"$f":"[3]主表!K56","v":46.018556304344614},{"$f":"[3]主表!L56","v":4.4877848450747031},{"$f":"[3]主表!M56","v":4.4877848450747031},{"$f":"[3]主表!N56","v":0},{"$f":"[3]主表!$G56","v":595},{"$f":"[3]升级!$H56","v":1100},{"$f":"MAX(1,ROUND(100/(24*3600)*VLOOKUP(B58,[1]ResourceLevelConfig!$A:$E,5,FALSE),2))","v":1.97},-1,4,2,2,650,null,null,null,1,1,54]
[55,55,2,6,5,"226;237;242","筑基期","后",5,226,237,242,{"$f":"ROUND([1]ResourceLevelConfig!$E59*[1]ResourceLevelConfig!$L59*0.1,0)*10","v":1790},-1,-1,-1,-1,-1,-1,0,{"$f":"[3]主表!K57","v":47.07446153461553},{"$f":"[3]主表!L57","v":4.5551016177508235},{"$f":"[3]主表!M57","v":4.5551016177508235},{"$f":"[3]主表!N57","v":0},{"$f":"[3]主表!$G57","v":607},{"$f":"[3]升级!$H57","v":1100},{"$f":"MAX(1,ROUND(100/(24*3600)*VLOOKUP(B59,[1]ResourceLevelConfig!$A:$E,5,FALSE),2))","v":1.99},-1,4,2,2,660,null,null,null,1,1,55]
[56,56,2,6,6,"226;237;243","筑基期","后",6,226,237,243,{"$f":"ROUND([1]ResourceLevelConfig!$E60*[1]ResourceLevelConfig!$L60*0.1,0)*10","v":1830},-1,-1,-1,-1,-1,-1,0,{"$f":"[3]主表!K58","v":48.15168974662609},{"$f":"[3]主表!L58","v":4.6234281420170849},{"$f":"[3]主表!M58","v":4.6234281420170849},{"$f":"[3]主表!N58","v":0},{"$f":"[3]主表!$G58","v":618},{"$f":"[3]升级!$H58","v":1100},{"$f":"MAX(1,ROUND(100/(24*3600)*VLOOKUP(B60,[1]ResourceLevelConfig!$A:$E,5,FALSE),2))","v":2.0099999999999998},-1,4,2,2,670,null,null,null,1,1,56]
[57,57,2,6,7,"226;237;244","筑基期","后",7,226,237,244,{"$f":"ROUND([1]ResourceLevelConfig!$E61*[1]ResourceLevelConfig!$L61*0.1,0)*10","v":1860},-1,-1,-1,-1,-1,-1,0,{"$f":"[3]主表!K59","v":49.250643051151691},{"$f":"[3]主表!L59","v":4.6927795641473411},{"$f":"[3]主表!M59","v":4.6927795641473411},{"$f":"[3]主表!N59","v":0},{"$f":"[3]主表!$G59","v":630},{"$f":"[3]升级!$H59","v":1100},{"$f":"MAX(1,ROUND(100/(24*3600)*VLOOKUP(B61,[1]ResourceLevelConfig!$A:$E,5,FALSE),2))","v":2.0299999999999998},-1,4,2,2,680,null,null,null,1,1,57]
[58,58,2,6,8,"226;237;245","筑基期","后",8,226,237,245,{"$f":"ROUND([1]ResourceLevelConfig!$E62*[1]ResourceLevelConfig!$L62*0.1,0)*10","v":1890},-1,-1,-1,-1,-1,-1,0,{"$f":"[3]主表!K60","v":50.371730824620059},{"$f":"[3]主表!L60","v":4.7631712576095504},{"$f":"[3]主表!M60","v":4.7631712576095504},{"$f":"[3]主表!N60","v":0},{"$f":"[3]主表!$G60","v":641},{"$f":"[3]升级!$H60","v":1100},{"$f":"MAX(1,ROUND(100/(24*3600)*VLOOKUP(B62,[1]ResourceLevelConfig!$A:$E,5,FALSE),2))","v":2.0499999999999998},-1,4,2,2,690,null,null,null,1,1,58]
[59,59,2,6,9,"226;237;246","筑基期","后",9,226,237,246,{"$f":"ROUND([1]ResourceLevelConfig!$E63*[1]ResourceLevelConfig!$L63*0.1,0)*10","v":1930},-1,-1,-1,-1,-1,-1,0,{"$f":"[3]主表!K61","v":51.51536983660597},{"$f":"[3]主表!L61","v":4.8346188264736929},{"$f":"[3]主表!M61","v":4.8346188264736929},{"$f":"[3]主表!N61","v":0},{"$f":"[3]主表!$G61","v":654},{"$f":"[3]升级!$H61","v":1100},{"$f":"MAX(1,ROUND(100/(24*3600)*VLOOKUP(B63,[1]ResourceLevelConfig!$A:$E,5,FALSE),2))","v":2.0699999999999998},-1,4,2,2,700,null,null,null,1,1,59]
[60,60,2,6,10,"226;237;247","筑基期","后",10,226,237,247,{"$f":"ROUND([1]ResourceLevelConfig!$E64*[1]ResourceLevelConfig!$L64*0.1,0)*10","v":1970},100004,{"$f":"AM64","v":40},{"$f":"AN64","v":1302},{"$f":"AO64","v":1},{"$f":"_xlfn.TEXTJOIN(\";\",1,AP64,AR64,AT64,AV64)","v":"1204;1203;1202;1201"},{"$f":"_xlfn.TEXTJOIN(\";\",1,AQ64,AS64,AU64,AW64)","v":"1;1;1;1"},{"$f":"CONCATENATE(ROUND(0.8*VLOOKUP(A64,[3]主表!$A:$P,16,FALSE)*[5]HeroModelConfig!$Q$5,0),\";\",ROUND(1.2*VLOOKUP(A64,[3]主表!$A:$P,16,FALSE)*[5]HeroModelConfig!$Q$5,0))","v":"14300;21450"},{"$f":"[3]主表!K62","v":52.68198437951591},{"$f":"[3]主表!L62","v":4.9071381088707975},{"$f":"[3]主表!M62","v":4.9071381088707975},{"$f":"[3]主表!N62","v":0},{"$f":"[3]主表!$G62","v":666},{"$f":"[3]升级!$H62","v":1100},{"$f":"MAX(1,ROUND(100/(24*3600)*VLOOKUP(B64,[1]ResourceLevelConfig!$A:$E,5,FALSE),2))","v":2.09},50,4,2,2,710,null,null,null,1,1,60,40,1302,1,1204,1,1203,1,1202,1,1201,1,{"$f":"VLOOKUP(AN64,[4]ItemConfig!$A:$AC,29,FALSE)*AO64+AM64","v":80},{"$f":"VLOOKUP(AP64,[4]ItemConfig!$A:$AC,29,FALSE)*AQ64","v":40},{"$f":"VLOOKUP(AR64,[4]ItemConfig!$A:$AC,29,FALSE)*AS64","v":25},{"$f":"VLOOKUP(AT64,[4]ItemConfig!$A:$AC,29,FALSE)*AU64","v":15},{"$f":"VLOOKUP(AV64,[4]ItemConfig!$A:$AC,29,FALSE)*AW64","v":10},{"$f":"CONCATENATE(AX64,\" + \",SUM(AY64:BB64))","v":"80 + 90"}]
[61,61,3,7,1,"227;235;238","结丹期","前",1,227,235,238,{"$f":"ROUND([1]ResourceLevelConfig!$E65*[1]ResourceLevelConfig!$L65*0.1,0)*10","v":2000},-1,-1,-1,-1,{"$f":"IF(I65=10,\"1001;1002;1004\",-1)","v":-1},{"$f":"IF(R65=-1,-1,\"100;200;300\")","v":-1},0,{"$f":"[3]主表!K63","v":79.613802562315172},{"$f":"[3]主表!L63","v":7.3607071633061967},{"$f":"[3]主表!M63","v":7.3607071633061967},{"$f":"[3]主表!N63","v":0},{"$f":"[3]主表!$G63","v":1022},{"$f":"[3]升级!$H63","v":1200},{"$f":"MAX(1,ROUND(100/(24*3600)*VLOOKUP(B65,[1]ResourceLevelConfig!$A:$E,5,FALSE),2))","v":2.11},-1,4,3,2,720,null,null,null,1,2,61]
[62,62,3,7,2,"227;235;239","结丹期","前",2,227,235,239,{"$f":"ROUND([1]ResourceLevelConfig!$E66*[1]ResourceLevelConfig!$L66*0.1,0)*10","v":2040},-1,-1,-1,-1,{"$f":"IF(I66=10,\"1001;1002;1004\",-1)","v":-1},-1,0,{"$f":"[3]主表!K64","v":81.407697983686816},{"$f":"[3]主表!L64","v":7.4711177707557885},{"$f":"[3]主表!M64","v":7.4711177707557885},{"$f":"[3]主表!N64","v":0},{"$f":"[3]主表!$G64","v":1042},{"$f":"[3]升级!$H64","v":1200},{"$f":"MAX(1,ROUND(100/(24*3600)*VLOOKUP(B66,[1]ResourceLevelConfig!$A:$E,5,FALSE),2))","v":2.13},-1,{"$f":"AC65","v":4},{"$f":"AD65","v":3},2,730,null,null,null,1,2,62]
[63,63,3,7,3,"227;235;240","结丹期","前",3,227,235,240,{"$f":"ROUND([1]ResourceLevelConfig!$E67*[1]ResourceLevelConfig!$L67*0.1,0)*10","v":2080},-1,-1,-1,-1,-1,-1,0,{"$f":"[3]主表!K65","v":83.237497162123077},{"$f":"[3]主表!L65","v":7.5831845373171243},{"$f":"[3]主表!M65","v":7.5831845373171243},{"$f":"[3]主表!N65","v":0},{"$f":"[3]主表!$G65","v":1063},{"$f":"[3]升级!$H65","v":1200},{"$f":"MAX(1,ROUND(100/(24*3600)*VLOOKUP(B67,[1]ResourceLevelConfig!$A:$E,5,FALSE),2))","v":2.15},-1,{"$f":"AC66","v":4},{"$f":"AD66","v":3},{"$f":"AE66","v":2},740,null,null,null,1,2,63]
[64,64,3,7,4,"227;235;241","结丹期","前",4,227,235,241,{"$f":"ROUND([1]ResourceLevelConfig!$E68*[1]ResourceLevelConfig!$L68*0.1,0)*10","v":2120},-1,-1,-1,-1,-1,-1,0,{"$f":"[3]主表!K66","v":85.10387358386609},{"$f":"[3]主表!L66","v":7.6969323053768797},{"$f":"[3]主表!M66","v":7.6969323053768797},{"$f":"[3]主表!N66","v":0},{"$f":"[3]主表!$G66","v":1084},{"$f":"[3]升级!$H66","v":1200},{"$f":"MAX(1,ROUND(100/(24*3600)*VLOOKUP(B68,[1]ResourceLevelConfig!$A:$E,5,FALSE),2))","v":2.1800000000000002},-1,4,3,2,750,null,null,null,1,2,64]
[65,65,3,7,5,"227;235;242","结丹期","前",5,227,235,242,{"$f":"ROUND([1]ResourceLevelConfig!$E69*[1]ResourceLevelConfig!$L69*0.1,0)*10","v":2170},-1,-1,-1,-1,-1,-1,0,{"$f":"[3]主表!K67","v":87.007512861399931},{"$f":"[3]主表!L67","v":7.8123862899575327},{"$f":"[3]主表!M67","v":7.8123862899575327},{"$f":"[3]主表!N67","v":0},{"$f":"[3]主表!$G67","v":1106},{"$f":"[3]升级!$H67","v":1200},{"$f":"MAX(1,ROUND(100/(24*3600)*VLOOKUP(B69,[1]ResourceLevelConfig!$A:$E,5,FALSE),2))","v":2.2000000000000002},-1,4,3,2,760,null,null,null,1,2,65]
[66,66,3,7,{"$f":"I70","v":6},{"$f":"_xlfn.TEXTJOIN(\";\",1,J70:L70)","v":"227;235;243"},"结丹期","前",6,227,235,243,{"$f":"ROUND([1]ResourceLevelConfig!$E70*[1]ResourceLevelConfig!$L70*0.1,0)*10","v":2210},{"$f":"IF(I70=10,100004,-1)","v":-1},{"$f":"IF(N70=-1,-1,20)","v":-1},-1,-1,-1,{"$f":"IF(R70=-1,-1,\"100;200;300\")","v":-1},0,{"$f":"[3]主表!K68","v":88.949112945703433},{"$f":"[3]主表!L68","v":7.9295720843068951},{"$f":"[3]主表!M68","v":7.9295720843068951},{"$f":"[3]主表!N68","v":0},{"$f":"[3]主表!$G68","v":1130},{"$f":"[3]升级!$H68","v":1200},{"$f":"MAX(1,ROUND(100/(24*3600)*VLOOKUP(B70,[1]ResourceLevelConfig!$A:$E,5,FALSE),2))","v":2.2200000000000002},-1,4,3,2,{"$f":"MAX(AF69+10,ROUND(10^(B70*0.01+1.405),0))","v":770},null,null,null,1,2,66]
[67,67,3,7,7,"227;235;244","结丹期","前",7,227,235,244,{"$f":"ROUND([1]ResourceLevelConfig!$E71*[1]ResourceLevelConfig!$L71*0.1,0)*10","v":2250},-1,-1,-1,-1,-1,-1,0,{"$f":"[3]主表!K69","v":90.9293843421422},{"$f":"[3]主表!L69","v":8.0485156655714984},{"$f":"[3]主表!M69","v":8.0485156655714984},{"$f":"[3]主表!N69","v":0},{"$f":"[3]主表!$G69","v":1155},{"$f":"[3]升级!$H69","v":1200},{"$f":"MAX(1,ROUND(100/(24*3600)*VLOOKUP(B71,[1]ResourceLevelConfig!$A:$E,5,FALSE),2))","v":2.25},-1,4,3,2,780,null,null,null,1,2,67]
[68,68,3,7,8,"227;235;245","结丹期","前",8,227,235,245,{"$f":"ROUND([1]ResourceLevelConfig!$E72*[1]ResourceLevelConfig!$L72*0.1,0)*10","v":2290},-1,-1,-1,-1,-1,-1,0,{"$f":"[3]主表!K70","v":92.949050330061354},{"$f":"[3]主表!L70","v":8.1692434005550698},{"$f":"[3]主表!M70","v":8.1692434005550698},{"$f":"[3]主表!N70","v":0},{"$f":"[3]主表!$G70","v":1180},{"$f":"[3]升级!$H70","v":1200},{"$f":"MAX(1,ROUND(100/(24*3600)*VLOOKUP(B72,[1]ResourceLevelConfig!$A:$E,5,FALSE),2))","v":2.27},-1,4,3,2,790,null,null,null,1,2,68]
[69,69,3,7,9,"227;235;246","结丹期","前",9,227,235,246,{"$f":"ROUND([1]ResourceLevelConfig!$E73*[1]ResourceLevelConfig!$L73*0.1,0)*10","v":2340},-1,-1,-1,-1,-1,-1,0,{"$f":"[3]主表!K71","v":95.008847186141111},{"$f":"[3]主表!L71","v":8.2917820515633949},{"$f":"[3]主表!M71","v":8.2917820515633949},{"$f":"[3]主表!N71","v":0},{"$f":"[3]主表!$G71","v":1206},{"$f":"[3]升级!$H71","v":1200},{"$f":"MAX(1,ROUND(100/(24*3600)*VLOOKUP(B73,[1]ResourceLevelConfig!$A:$E,5,FALSE),2))","v":2.29},-1,4,3,2,800,null,null,null,1,2,69]
[70,70,3,7,10,"227;235;247","结丹期","前",10,227,235,247,{"$f":"ROUND([1]ResourceLevelConfig!$E74*[1]ResourceLevelConfig!$L74*0.1,0)*10","v":2380},100004,{"$f":"AM74","v":35},{"$f":"AN74","v":1202},{"$f":"AO74","v":1},{"$f":"_xlfn.TEXTJOIN(\";\",1,AP74,AR74,AT74,AV74)","v":"1202;1202;1201;1201"},{"$f":"_xlfn.TEXTJOIN(\";\",1,AQ74,AS74,AU74,AW74)","v":"1;1;1;1"},0,{"$f":"[3]主表!K72","v":97.109524411579002},{"$f":"[3]主表!L72","v":8.4161587823368453},{"$f":"[3]主表!M72","v":8.4161587823368453},{"$f":"[3]主表!N72","v":0},{"$f":"[3]主表!$G72","v":1233},{"$f":"[3]升级!$H72","v":1200},{"$f":"MAX(1,ROUND(100/(24*3600)*VLOOKUP(B74,[1]ResourceLevelConfig!$A:$E,5,FALSE),2))","v":2.31},20,4,3,2,810,null,null,null,1,2,70,35,1202,1,1202,1,1202,1,1201,1,1201,1,{"$f":"VLOOKUP(AN74,[4]ItemConfig!$A:$AC,29,FALSE)*AO74+AM74","v":50},{"$f":"VLOOKUP(AP74,[4]ItemConfig!$A:$AC,29,FALSE)*AQ74","v":15},{"$f":"VLOOKUP(AR74,[4]ItemConfig!$A:$AC,29,FALSE)*AS74","v":15},{"$f":"VLOOKUP(AT74,[4]ItemConfig!$A:$AC,29,FALSE)*AU74","v":10},{"$f":"VLOOKUP(AV74,[4]ItemConfig!$A:$AC,29,FALSE)*AW74","v":10},{"$f":"CONCATENATE(AX74,\" + \",SUM(AY74:BB74))","v":"50 + 50"}]
[71,71,3,8,1,"227;236;238","结丹期","中",1,227,236,238,{"$f":"ROUND([1]ResourceLevelConfig!$E75*[1]ResourceLevelConfig!$L75*0.1,0)*10","v":2420},-1,-1,-1,-1,{"$f":"IF(I75=10,\"1001;1002;1004\",-1)","v":-1},-1,0,{"$f":"[3]主表!K73","v":107.56357582214724},{"$f":"[3]主表!L73","v":9.2577746605705311},{"$f":"[3]主表!M73","v":9.2577746605705311},{"$f":"[3]主表!N73","v":0},{"$f":"[3]主表!$G73","v":1392},{"$f":"[3]升级!$H73","v":1200},{"$f":"MAX(1,ROUND(100/(24*3600)*VLOOKUP(B75,[1]ResourceLevelConfig!$A:$E,5,FALSE),2))","v":2.34},-1,4,3,3,820,null,null,null,1,2,71]
[72,72,3,8,2,"227;236;239","结丹期","中",2,227,236,239,{"$f":"ROUND([1]ResourceLevelConfig!$E76*[1]ResourceLevelConfig!$L76*0.1,0)*10","v":2470},-1,-1,-1,-1,-1,-1,0,{"$f":"[3]主表!K74","v":109.93127491343093},{"$f":"[3]主表!L74","v":9.3966412804790878},{"$f":"[3]主表!M74","v":9.3966412804790878},{"$f":"[3]主表!N74","v":0},{"$f":"[3]主表!$G74","v":1423},{"$f":"[3]升级!$H74","v":1200},{"$f":"MAX(1,ROUND(100/(24*3600)*VLOOKUP(B76,[1]ResourceLevelConfig!$A:$E,5,FALSE),2))","v":2.36},-1,4,3,3,830,null,null,null,1,2,72]
[73,73,3,8,3,"227;236;240","结丹期","中",3,227,236,240,{"$f":"ROUND([1]ResourceLevelConfig!$E77*[1]ResourceLevelConfig!$L77*0.1,0)*10","v":2510},-1,-1,-1,-1,-1,-1,0,{"$f":"[3]主表!K75","v":112.34580317289316},{"$f":"[3]主表!L75","v":9.5375908996862737},{"$f":"[3]主表!M75","v":9.5375908996862737},{"$f":"[3]主表!N75","v":0},{"$f":"[3]主表!$G75","v":1455},{"$f":"[3]升级!$H75","v":1200},{"$f":"MAX(1,ROUND(100/(24*3600)*VLOOKUP(B77,[1]ResourceLevelConfig!$A:$E,5,FALSE),2))","v":2.38},-1,4,3,3,840,null,null,null,1,2,73]
[74,74,3,8,4,"227;236;241","结丹期","中",4,227,236,241,{"$f":"ROUND([1]ResourceLevelConfig!$E78*[1]ResourceLevelConfig!$L78*0.1,0)*10","v":2560},-1,-1,-1,-1,-1,-1,0,{"$f":"[3]主表!K76","v":114.80803274328375},{"$f":"[3]主表!L76","v":9.6806547631815665},{"$f":"[3]主表!M76","v":9.6806547631815665},{"$f":"[3]主表!N76","v":0},{"$f":"[3]主表!$G76","v":1487},{"$f":"[3]升级!$H76","v":1200},{"$f":"MAX(1,ROUND(100/(24*3600)*VLOOKUP(B78,[1]ResourceLevelConfig!$A:$E,5,FALSE),2))","v":2.41},-1,4,3,3,850,null,null,null,1,2,74]
[75,75,3,8,5,"227;236;242","结丹期","中",5,227,236,242,{"$f":"ROUND([1]ResourceLevelConfig!$E79*[1]ResourceLevelConfig!$L79*0.1,0)*10","v":2600},-1,-1,-1,-1,-1,-1,0,{"$f":"[3]主表!K77","v":117.31885139507213},{"$f":"[3]主表!L77","v":9.82586458462929},{"$f":"[3]主表!M77","v":9.82586458462929},{"$f":"[3]主表!N77","v":0},{"$f":"[3]主表!$G77","v":1521},{"$f":"[3]升级!$H77","v":1200},{"$f":"MAX(1,ROUND(100/(24*3600)*VLOOKUP(B79,[1]ResourceLevelConfig!$A:$E,5,FALSE),2))","v":2.4300000000000002},-1,4,3,3,860,null,null,null,1,2,75]
[76,76,3,8,6,"227;236;243","结丹期","中",6,227,236,243,{"$f":"ROUND([1]ResourceLevelConfig!$E80*[1]ResourceLevelConfig!$L80*0.1,0)*10","v":2650},-1,-1,-1,-1,-1,-1,0,{"$f":"[3]主表!K78","v":119.87916279904694},{"$f":"[3]主表!L78","v":9.9732525533987282},{"$f":"[3]主表!M78","v":9.9732525533987282},{"$f":"[3]主表!N78","v":0},{"$f":"[3]主表!$G78","v":1556},{"$f":"[3]升级!$H78","v":1200},{"$f":"MAX(1,ROUND(100/(24*3600)*VLOOKUP(B80,[1]ResourceLevelConfig!$A:$E,5,FALSE),2))","v":2.4500000000000002},-1,4,3,3,870,null,null,null,1,2,76]
[77,77,3,8,7,"227;236;244","结丹期","中",7,227,236,244,{"$f":"ROUND([1]ResourceLevelConfig!$E81*[1]ResourceLevelConfig!$L81*0.1,0)*10","v":2700},-1,-1,-1,-1,-1,-1,0,{"$f":"[3]主表!K79","v":122.48988680357706},{"$f":"[3]主表!L79","v":10.122851341699707},{"$f":"[3]主表!M79","v":10.122851341699707},{"$f":"[3]主表!N79","v":0},{"$f":"[3]主表!$G79","v":1591},{"$f":"[3]升级!$H79","v":1200},{"$f":"MAX(1,ROUND(100/(24*3600)*VLOOKUP(B81,[1]ResourceLevelConfig!$A:$E,5,FALSE),2))","v":2.48},-1,4,3,3,880,null,null,null,1,2,77]
[78,78,3,8,8,"227;236;245","结丹期","中",8,227,236,245,{"$f":"ROUND([1]ResourceLevelConfig!$E82*[1]ResourceLevelConfig!$L82*0.1,0)*10","v":2740},-1,-1,-1,-1,-1,-1,0,{"$f":"[3]主表!K80","v":125.15195971661333},{"$f":"[3]主表!L80","v":10.274694111825202},{"$f":"[3]主表!M80","v":10.274694111825202},{"$f":"[3]主表!N80","v":0},{"$f":"[3]主表!$G80","v":1627},{"$f":"[3]升级!$H80","v":1200},{"$f":"MAX(1,ROUND(100/(24*3600)*VLOOKUP(B82,[1]ResourceLevelConfig!$A:$E,5,FALSE),2))","v":2.5},-1,4,3,3,890,null,null,null,1,2,78]
[79,79,3,8,9,"227;236;246","结丹期","中",9,227,236,246,{"$f":"ROUND([1]ResourceLevelConfig!$E83*[1]ResourceLevelConfig!$L83*0.1,0)*10","v":2790},-1,-1,-1,-1,-1,-1,0,{"$f":"[3]主表!K81","v":127.8663345925099},{"$f":"[3]主表!L81","v":10.428814523502579},{"$f":"[3]主表!M81","v":10.428814523502579},{"$f":"[3]主表!N81","v":0},{"$f":"[3]主表!$G81","v":1665},{"$f":"[3]升级!$H81","v":1200},{"$f":"MAX(1,ROUND(100/(24*3600)*VLOOKUP(B83,[1]ResourceLevelConfig!$A:$E,5,FALSE),2))","v":2.52},-1,4,3,3,900,null,null,null,1,2,79]
[80,80,3,8,10,"227;236;247","结丹期","中",10,227,236,247,{"$f":"ROUND([1]ResourceLevelConfig!$E84*[1]ResourceLevelConfig!$L84*0.1,0)*10","v":2850},100004,{"$f":"AM84","v":35},{"$f":"AN84","v":1202},{"$f":"AO84","v":1},{"$f":"_xlfn.TEXTJOIN(\";\",1,AP84,AR84,AT84,AV84)","v":"1202;1202;1201;1201"},{"$f":"_xlfn.TEXTJOIN(\";\",1,AQ84,AS84,AU84,AW84)","v":"1;1;1;1"},0,{"$f":"[3]主表!K82","v":130.63398152374708},{"$f":"[3]主表!L82","v":10.585246741355116},{"$f":"[3]主表!M82","v":10.585246741355116},{"$f":"[3]主表!N82","v":0},{"$f":"[3]主表!$G82","v":1703},{"$f":"[3]升级!$H82","v":1200},{"$f":"MAX(1,ROUND(100/(24*3600)*VLOOKUP(B84,[1]ResourceLevelConfig!$A:$E,5,FALSE),2))","v":2.56},20,4,3,3,910,null,null,null,1,2,80,35,1202,1,1202,1,1202,1,1201,1,1201,1,{"$f":"VLOOKUP(AN84,[4]ItemConfig!$A:$AC,29,FALSE)*AO84+AM84","v":50},{"$f":"VLOOKUP(AP84,[4]ItemConfig!$A:$AC,29,FALSE)*AQ84","v":15},{"$f":"VLOOKUP(AR84,[4]ItemConfig!$A:$AC,29,FALSE)*AS84","v":15},{"$f":"VLOOKUP(AT84,[4]ItemConfig!$A:$AC,29,FALSE)*AU84","v":10},{"$f":"VLOOKUP(AV84,[4]ItemConfig!$A:$AC,29,FALSE)*AW84","v":10},{"$f":"CONCATENATE(AX84,\" + \",SUM(AY84:BB84))","v":"50 + 50"}]
[81,81,3,9,1,"227;237;238","结丹期","后",1,227,237,238,{"$f":"ROUND([1]ResourceLevelConfig!$E85*[1]ResourceLevelConfig!$L85*0.1,0)*10","v":2900},-1,-1,-1,-1,{"$f":"IF(I85=10,\"1001;1002;1004\",-1)","v":-1},-1,0,{"$f":"[3]主表!K83","v":144.63199677970636},{"$f":"[3]主表!L83","v":11.643771415490628},{"$f":"[3]主表!M83","v":11.643771415490628},{"$f":"[3]主表!N83","v":0},{"$f":"[3]主表!$G83","v":2007},{"$f":"[3]升级!$H83","v":1200},{"$f":"MAX(1,ROUND(100/(24*3600)*VLOOKUP(B85,[1]ResourceLevelConfig!$A:$E,5,FALSE),2))","v":2.58},-1,4,4,3,920,null,null,null,1,2,81]
[82,82,3,9,2,"227;237;239","结丹期","后",2,227,237,239,{"$f":"ROUND([1]ResourceLevelConfig!$E86*[1]ResourceLevelConfig!$L86*0.1,0)*10","v":2950},-1,-1,-1,-1,-1,-1,0,{"$f":"[3]主表!K84","v":147.75011309154021},{"$f":"[3]主表!L84","v":11.818427986722986},{"$f":"[3]主表!M84","v":11.818427986722986},{"$f":"[3]主表!N84","v":0},{"$f":"[3]主表!$G84","v":2052},{"$f":"[3]升级!$H84","v":1200},{"$f":"MAX(1,ROUND(100/(24*3600)*VLOOKUP(B86,[1]ResourceLevelConfig!$A:$E,5,FALSE),2))","v":2.6},-1,4,4,3,930,null,null,null,1,2,82]
[83,83,3,9,3,"227;237;240","结丹期","后",3,227,237,240,{"$f":"ROUND([1]ResourceLevelConfig!$E87*[1]ResourceLevelConfig!$L87*0.1,0)*10","v":3000},-1,-1,-1,-1,-1,-1,0,{"$f":"[3]主表!K85","v":150.92923069345369},{"$f":"[3]主表!L85","v":11.99570440652383},{"$f":"[3]主表!M85","v":11.99570440652383},{"$f":"[3]主表!N85","v":0},{"$f":"[3]主表!$G85","v":2098},{"$f":"[3]升级!$H85","v":1200},{"$f":"MAX(1,ROUND(100/(24*3600)*VLOOKUP(B87,[1]ResourceLevelConfig!$A:$E,5,FALSE),2))","v":2.63},-1,4,4,3,940,null,null,null,1,2,83]
[84,84,3,9,4,"227;237;241","结丹期","后",4,227,237,241,{"$f":"ROUND([1]ResourceLevelConfig!$E88*[1]ResourceLevelConfig!$L88*0.1,0)*10","v":3060},-1,-1,-1,-1,-1,-1,0,{"$f":"[3]主表!K86","v":154.17047804797895},{"$f":"[3]主表!L86","v":12.175639972621687},{"$f":"[3]主表!M86","v":12.175639972621687},{"$f":"[3]主表!N86","v":0},{"$f":"[3]主表!$G86","v":2145},{"$f":"[3]升级!$H86","v":1200},{"$f":"MAX(1,ROUND(100/(24*3600)*VLOOKUP(B88,[1]ResourceLevelConfig!$A:$E,5,FALSE),2))","v":2.66},-1,4,4,3,950,null,null,null,1,2,84]
[85,85,3,9,5,"227;237;242","结丹期","后",5,227,237,242,{"$f":"ROUND([1]ResourceLevelConfig!$E89*[1]ResourceLevelConfig!$L89*0.1,0)*10","v":3110},-1,-1,-1,-1,-1,-1,0,{"$f":"[3]主表!K87","v":157.47500374623394},{"$f":"[3]主表!L87","v":12.358274572211009},{"$f":"[3]主表!M87","v":12.358274572211009},{"$f":"[3]主表!N87","v":0},{"$f":"[3]主表!$G87","v":2194},{"$f":"[3]升级!$H87","v":1200},{"$f":"MAX(1,ROUND(100/(24*3600)*VLOOKUP(B89,[1]ResourceLevelConfig!$A:$E,5,FALSE),2))","v":2.69},-1,4,4,3,960,null,null,null,1,2,85]
[86,86,3,9,6,"227;237;243","结丹期","后",6,227,237,243,{"$f":"ROUND([1]ResourceLevelConfig!$E90*[1]ResourceLevelConfig!$L90*0.1,0)*10","v":3160},-1,-1,-1,-1,-1,-1,0,{"$f":"[3]主表!K88","v":160.84397685787579},{"$f":"[3]主表!L88","v":12.543648690794173},{"$f":"[3]主表!M88","v":12.543648690794173},{"$f":"[3]主表!N88","v":0},{"$f":"[3]主表!$G88","v":2244},{"$f":"[3]升级!$H88","v":1200},{"$f":"MAX(1,ROUND(100/(24*3600)*VLOOKUP(B90,[1]ResourceLevelConfig!$A:$E,5,FALSE),2))","v":2.71},-1,4,4,3,970,null,null,null,1,2,86]
[87,87,3,9,7,"227;237;244","结丹期","后",7,227,237,244,{"$f":"ROUND([1]ResourceLevelConfig!$E91*[1]ResourceLevelConfig!$L91*0.1,0)*10","v":3220},-1,-1,-1,-1,-1,-1,0,{"$f":"[3]主表!K89","v":164.27858728702401},{"$f":"[3]主表!L89","v":12.731803421156085},{"$f":"[3]主表!M89","v":12.731803421156085},{"$f":"[3]主表!N89","v":0},{"$f":"[3]主表!$G89","v":2295},{"$f":"[3]升级!$H89","v":1200},{"$f":"MAX(1,ROUND(100/(24*3600)*VLOOKUP(B91,[1]ResourceLevelConfig!$A:$E,5,FALSE),2))","v":2.74},-1,4,4,3,980,null,null,null,1,2,87]
[88,88,3,9,8,"227;237;245","结丹期","后",8,227,237,245,{"$f":"ROUND([1]ResourceLevelConfig!$E92*[1]ResourceLevelConfig!$L92*0.1,0)*10","v":3270},-1,-1,-1,-1,-1,-1,0,{"$f":"[3]主表!K90","v":167.78004613425367},{"$f":"[3]主表!L90","v":12.922780472473425},{"$f":"[3]主表!M90","v":12.922780472473425},{"$f":"[3]主表!N90","v":0},{"$f":"[3]主表!$G90","v":2348},{"$f":"[3]升级!$H90","v":1200},{"$f":"MAX(1,ROUND(100/(24*3600)*VLOOKUP(B92,[1]ResourceLevelConfig!$A:$E,5,FALSE),2))","v":2.77},-1,4,4,3,990,null,null,null,1,2,88]
[89,89,3,9,9,"227;237;246","结丹期","后",9,227,237,246,{"$f":"ROUND([1]ResourceLevelConfig!$E93*[1]ResourceLevelConfig!$L93*0.1,0)*10","v":3330},-1,-1,-1,-1,-1,-1,0,{"$f":"[3]主表!K91","v":171.34958606476056},{"$f":"[3]主表!L91","v":13.116622179560524},{"$f":"[3]主表!M91","v":13.116622179560524},{"$f":"[3]主表!N91","v":0},{"$f":"[3]主表!$G91","v":2402},{"$f":"[3]升级!$H91","v":1200},{"$f":"MAX(1,ROUND(100/(24*3600)*VLOOKUP(B93,[1]ResourceLevelConfig!$A:$E,5,FALSE),2))","v":2.79},-1,4,4,3,1000,null,null,null,1,2,89]
[90,90,3,9,10,"227;237;247","结丹期","后",10,227,237,247,{"$f":"ROUND([1]ResourceLevelConfig!$E94*[1]ResourceLevelConfig!$L94*0.1,0)*10","v":3390},100004,{"$f":"AM94","v":35},{"$f":"AN94","v":1303},{"$f":"AO94","v":1},{"$f":"_xlfn.TEXTJOIN(\";\",1,AP94,AR94,AT94,AV94)","v":"1204;1203;1202;1201"},{"$f":"_xlfn.TEXTJOIN(\";\",1,AQ94,AS94,AU94,AW94)","v":"1;1;1;1"},{"$f":"CONCATENATE(ROUND(0.8*VLOOKUP(A94,[3]主表!$A:$P,16,FALSE)*[5]HeroModelConfig!$Q$5,0),\";\",ROUND(1.2*VLOOKUP(A94,[3]主表!$A:$P,16,FALSE)*[5]HeroModelConfig!$Q$5,0))","v":"64589;96883"},{"$f":"[3]主表!K92","v":174.98846168280252},{"$f":"[3]主表!L92","v":13.313371512253932},{"$f":"[3]主表!M92","v":13.313371512253932},{"$f":"[3]主表!N92","v":0},{"$f":"[3]主表!$G92","v":2457},{"$f":"[3]升级!$H92","v":1200},{"$f":"MAX(1,ROUND(100/(24*3600)*VLOOKUP(B94,[1]ResourceLevelConfig!$A:$E,5,FALSE),2))","v":2.82},50,4,4,3,1010,null,null,null,1,2,90,35,1303,1,1204,1,1203,1,1202,1,1201,1,{"$f":"VLOOKUP(AN94,[4]ItemConfig!$A:$AC,29,FALSE)*AO94+AM94","v":70},{"$f":"VLOOKUP(AP94,[4]ItemConfig!$A:$AC,29,FALSE)*AQ94","v":40},{"$f":"VLOOKUP(AR94,[4]ItemConfig!$A:$AC,29,FALSE)*AS94","v":25},{"$f":"VLOOKUP(AT94,[4]ItemConfig!$A:$AC,29,FALSE)*AU94","v":15},{"$f":"VLOOKUP(AV94,[4]ItemConfig!$A:$AC,29,FALSE)*AW94","v":10},{"$f":"CONCATENATE(AX94,\" + \",SUM(AY94:BB94))","v":"70 + 90"}]
[91,91,4,10,1,"228;235;238","元婴期","前",1,228,235,238,{"$f":"ROUND([1]ResourceLevelConfig!$E95*[1]ResourceLevelConfig!$L95*0.1,0)*10","v":3440},-1,-1,-1,-1,{"$f":"IF(I95=10,\"1001;1002;1004\",-1)","v":-1},{"$f":"IF(R95=-1,-1,\"100;200;300\")","v":-1},0,{"$f":"[3]主表!K93","v":264.08564026480963},{"$f":"[3]主表!L93","v":19.970057268380899},{"$f":"[3]主表!M93","v":19.970057268380899},{"$f":"[3]主表!N93","v":0},{"$f":"[3]主表!$G93","v":3802},{"$f":"[3]升级!$H93","v":1300},{"$f":"MAX(1,ROUND(100/(24*3600)*VLOOKUP(B95,[1]ResourceLevelConfig!$A:$E,5,FALSE),2))","v":2.85},-1,4,4,4,1020,null,null,null,1,2,91]
[92,92,4,10,2,"228;235;239","元婴期","前",2,228,235,239,{"$f":"ROUND([1]ResourceLevelConfig!$E96*[1]ResourceLevelConfig!$L96*0.1,0)*10","v":3510},-1,-1,-1,-1,{"$f":"IF(I96=10,\"1001;1002;1004\",-1)","v":-1},{"$f":"IF(R96=-1,-1,\"100;200;300\")","v":-1},0,{"$f":"[3]主表!K94","v":269.67391682549663},{"$f":"[3]主表!L94","v":20.26960812740661},{"$f":"[3]主表!M94","v":20.26960812740661},{"$f":"[3]主表!N94","v":0},{"$f":"[3]主表!$G94","v":3889},{"$f":"[3]升级!$H94","v":1300},{"$f":"MAX(1,ROUND(100/(24*3600)*VLOOKUP(B96,[1]ResourceLevelConfig!$A:$E,5,FALSE),2))","v":2.88},-1,4,4,4,1030,null,null,null,1,2,92]
[93,93,4,10,3,"228;235;240","元婴期","前",3,228,235,240,{"$f":"ROUND([1]ResourceLevelConfig!$E97*[1]ResourceLevelConfig!$L97*0.1,0)*10","v":3560},-1,-1,-1,-1,-1,-1,0,{"$f":"[3]主表!K95","v":275.37042241394471},{"$f":"[3]主表!L95","v":20.573652249317707},{"$f":"[3]主表!M95","v":20.573652249317707},{"$f":"[3]主表!N95","v":0},{"$f":"[3]主表!$G95","v":3978},{"$f":"[3]升级!$H95","v":1300},{"$f":"MAX(1,ROUND(100/(24*3600)*VLOOKUP(B97,[1]ResourceLevelConfig!$A:$E,5,FALSE),2))","v":2.91},-1,4,4,4,1040,null,null,null,1,2,93]
[94,94,4,10,4,"228;235;241","元婴期","前",4,228,235,241,{"$f":"ROUND([1]ResourceLevelConfig!$E98*[1]ResourceLevelConfig!$L98*0.1,0)*10","v":3630},-1,-1,-1,-1,-1,-1,0,{"$f":"[3]主表!K96","v":281.1771465387605},{"$f":"[3]主表!L96","v":20.882257033057471},{"$f":"[3]主表!M96","v":20.882257033057471},{"$f":"[3]主表!N96","v":0},{"$f":"[3]主表!$G96","v":4069},{"$f":"[3]升级!$H96","v":1300},{"$f":"MAX(1,ROUND(100/(24*3600)*VLOOKUP(B98,[1]ResourceLevelConfig!$A:$E,5,FALSE),2))","v":2.94},-1,4,4,4,1050,null,null,null,1,2,94]
[95,95,4,10,5,"228;235;242","元婴期","前",5,228,235,242,{"$f":"ROUND([1]ResourceLevelConfig!$E99*[1]ResourceLevelConfig!$L99*0.1,0)*10","v":3690},-1,-1,-1,-1,-1,-1,{"$f":"IF(G99=G100,0,CONCATENATE(\"1;1\"))","v":0},{"$f":"[3]主表!K97","v":287.09611404227752},{"$f":"[3]主表!L97","v":21.19549088855333},{"$f":"[3]主表!M97","v":21.19549088855333},{"$f":"[3]主表!N97","v":0},{"$f":"[3]主表!$G97","v":4163},{"$f":"[3]升级!$H97","v":1300},{"$f":"MAX(1,ROUND(100/(24*3600)*VLOOKUP(B99,[1]ResourceLevelConfig!$A:$E,5,FALSE),2))","v":2.96},-1,4,4,4,1060,null,null,null,1,2,95]
[96,96,4,10,6,"228;235;243","元婴期","前",6,228,235,243,{"$f":"ROUND([1]ResourceLevelConfig!$E100*[1]ResourceLevelConfig!$L100*0.1,0)*10","v":3760},-1,-1,-1,-1,-1,-1,0,{"$f":"[3]主表!K98","v":293.12938571292892},{"$f":"[3]主表!L98","v":21.513423251881626},{"$f":"[3]主表!M98","v":21.513423251881626},{"$f":"[3]主表!N98","v":0},{"$f":"[3]主表!$G98","v":4259},{"$f":"[3]升级!$H98","v":1300},{"$f":"MAX(1,ROUND(100/(24*3600)*VLOOKUP(B100,[1]ResourceLevelConfig!$A:$E,5,FALSE),2))","v":3},-1,4,4,4,1070,null,null,null,1,2,96]
[97,97,4,10,7,"228;235;244","元婴期","前",7,228,235,244,{"$f":"ROUND([1]ResourceLevelConfig!$E101*[1]ResourceLevelConfig!$L101*0.1,0)*10","v":3830},-1,-1,-1,-1,-1,-1,0,{"$f":"[3]主表!K99","v":299.27905890804038},{"$f":"[3]主表!L99","v":21.836124600659851},{"$f":"[3]主表!M99","v":21.836124600659851},{"$f":"[3]主表!N99","v":0},{"$f":"[3]主表!$G99","v":4357},{"$f":"[3]升级!$H99","v":1300},{"$f":"MAX(1,ROUND(100/(24*3600)*VLOOKUP(B101,[1]ResourceLevelConfig!$A:$E,5,FALSE),2))","v":3.03},-1,4,4,4,1080,null,null,null,1,2,97]
[98,98,4,10,8,"228;235;245","元婴期","前",8,228,235,245,{"$f":"ROUND([1]ResourceLevelConfig!$E102*[1]ResourceLevelConfig!$L102*0.1,0)*10","v":3880},-1,-1,-1,-1,-1,-1,0,{"$f":"[3]主表!K100","v":305.54726818721974},{"$f":"[3]主表!L100","v":22.163666469669746},{"$f":"[3]主表!M100","v":22.163666469669746},{"$f":"[3]主表!N100","v":0},{"$f":"[3]主表!$G100","v":4458},{"$f":"[3]升级!$H100","v":1300},{"$f":"MAX(1,ROUND(100/(24*3600)*VLOOKUP(B102,[1]ResourceLevelConfig!$A:$E,5,FALSE),2))","v":3.06},-1,4,4,4,1090,null,null,null,1,2,98]
[99,99,4,10,9,"228;235;246","元婴期","前",9,228,235,246,{"$f":"ROUND([1]ResourceLevelConfig!$E103*[1]ResourceLevelConfig!$L103*0.1,0)*10","v":3950},-1,-1,-1,-1,-1,-1,0,{"$f":"[3]主表!K101","v":311.93618595652015},{"$f":"[3]主表!L101","v":22.49612146671479},{"$f":"[3]主表!M101","v":22.49612146671479},{"$f":"[3]主表!N101","v":0},{"$f":"[3]主表!$G101","v":4562},{"$f":"[3]升级!$H101","v":1300},{"$f":"MAX(1,ROUND(100/(24*3600)*VLOOKUP(B103,[1]ResourceLevelConfig!$A:$E,5,FALSE),2))","v":3.09},-1,4,4,4,1100,null,null,null,1,2,99]
[100,100,4,10,10,"228;235;247","元婴期","前",10,228,235,247,{"$f":"ROUND([1]ResourceLevelConfig!$E104*[1]ResourceLevelConfig!$L104*0.1,0)*10","v":4020},100004,{"$f":"AM104","v":30},{"$f":"AN104","v":1202},{"$f":"AO104","v":2},{"$f":"_xlfn.TEXTJOIN(\";\",1,AP104,AR104,AT104,AV104)","v":"1201;1201;1201;1201"},{"$f":"_xlfn.TEXTJOIN(\";\",1,AQ104,AS104,AU104,AW104)","v":"1;1;1;1"},0,{"$f":"[3]主表!K102","v":318.44802312355745},{"$f":"[3]主表!L102","v":22.83356328871551},{"$f":"[3]主表!M102","v":22.83356328871551},{"$f":"[3]主表!N102","v":0},{"$f":"[3]主表!$G102","v":4668},{"$f":"[3]升级!$H102","v":1300},{"$f":"MAX(1,ROUND(100/(24*3600)*VLOOKUP(B104,[1]ResourceLevelConfig!$A:$E,5,FALSE),2))","v":3.13},20,4,4,4,1110,null,null,null,1,2,100,30,1202,2,1201,1,1201,1,1201,1,1201,1,{"$f":"VLOOKUP(AN104,[4]ItemConfig!$A:$AC,29,FALSE)*AO104+AM104","v":60},{"$f":"VLOOKUP(AP104,[4]ItemConfig!$A:$AC,29,FALSE)*AQ104","v":10},{"$f":"VLOOKUP(AR104,[4]ItemConfig!$A:$AC,29,FALSE)*AS104","v":10},{"$f":"VLOOKUP(AT104,[4]ItemConfig!$A:$AC,29,FALSE)*AU104","v":10},{"$f":"VLOOKUP(AV104,[4]ItemConfig!$A:$AC,29,FALSE)*AW104","v":10},{"$f":"CONCATENATE(AX104,\" + \",SUM(AY104:BB104))","v":"60 + 40"}]
[101,101,4,11,1,"228;236;238","元婴期","中",1,228,236,238,{"$f":"ROUND([1]ResourceLevelConfig!$E105*[1]ResourceLevelConfig!$L105*0.1,0)*10","v":4080},-1,-1,-1,-1,{"$f":"IF(I105=10,\"1001;1002;1004\",-1)","v":-1},-1,0,{"$f":"[3]主表!K103","v":352.30889925137177},{"$f":"[3]主表!L103","v":25.116919617587065},{"$f":"[3]主表!M103","v":25.116919617587065},{"$f":"[3]主表!N103","v":0},{"$f":"[3]主表!$G103","v":5276},{"$f":"[3]升级!$H103","v":1300},{"$f":"MAX(1,ROUND(100/(24*3600)*VLOOKUP(B105,[1]ResourceLevelConfig!$A:$E,5,FALSE),2))","v":3.15},-1,4,4,4,1120,null,null,null,1,2,101]
[102,102,4,11,2,"228;236;239","元婴期","中",2,228,236,239,{"$f":"ROUND([1]ResourceLevelConfig!$E106*[1]ResourceLevelConfig!$L106*0.1,0)*10","v":4130},-1,-1,-1,-1,-1,-1,0,{"$f":"[3]主表!K104","v":359.63984766283261},{"$f":"[3]主表!L104","v":25.493673411850867},{"$f":"[3]主表!M104","v":25.493673411850867},{"$f":"[3]主表!N104","v":0},{"$f":"[3]主表!$G104","v":5375},{"$f":"[3]升级!$H104","v":1300},{"$f":"MAX(1,ROUND(100/(24*3600)*VLOOKUP(B106,[1]ResourceLevelConfig!$A:$E,5,FALSE),2))","v":3.18},-1,4,4,4,1130,null,null,null,1,2,102]
[103,103,4,11,3,"228;236;240","元婴期","中",3,228,236,240,{"$f":"ROUND([1]ResourceLevelConfig!$E107*[1]ResourceLevelConfig!$L107*0.1,0)*10","v":4170},-1,-1,-1,-1,-1,-1,0,{"$f":"[3]主表!K105","v":367.11145502430583},{"$f":"[3]主表!L105","v":25.876078513028627},{"$f":"[3]主表!M105","v":25.876078513028627},{"$f":"[3]主表!N105","v":0},{"$f":"[3]主表!$G105","v":5475},{"$f":"[3]升级!$H105","v":1300},{"$f":"MAX(1,ROUND(100/(24*3600)*VLOOKUP(B107,[1]ResourceLevelConfig!$A:$E,5,FALSE),2))","v":3.22},-1,4,4,4,1140,null,null,null,1,2,103]
[104,104,4,11,4,"228;236;241","元婴期","中",4,228,236,241,{"$f":"ROUND([1]ResourceLevelConfig!$E108*[1]ResourceLevelConfig!$L108*0.1,0)*10","v":4220},-1,-1,-1,-1,-1,-1,0,{"$f":"[3]主表!K106","v":374.72629164089903},{"$f":"[3]主表!L106","v":26.264219690724055},{"$f":"[3]主表!M106","v":26.264219690724055},{"$f":"[3]主表!N106","v":0},{"$f":"[3]主表!$G106","v":5577},{"$f":"[3]升级!$H106","v":1300},{"$f":"MAX(1,ROUND(100/(24*3600)*VLOOKUP(B108,[1]ResourceLevelConfig!$A:$E,5,FALSE),2))","v":3.25},-1,4,4,4,1150,null,null,null,1,2,104]
[105,105,4,11,5,"228;236;242","元婴期","中",5,228,236,242,{"$f":"ROUND([1]ResourceLevelConfig!$E109*[1]ResourceLevelConfig!$L109*0.1,0)*10","v":4250},-1,-1,-1,-1,-1,-1,0,{"$f":"[3]主表!K107","v":382.48697327860964},{"$f":"[3]主表!L107","v":26.658182986084913},{"$f":"[3]主表!M107","v":26.658182986084913},{"$f":"[3]主表!N107","v":0},{"$f":"[3]主表!$G107","v":5681},{"$f":"[3]升级!$H107","v":1300},{"$f":"MAX(1,ROUND(100/(24*3600)*VLOOKUP(B109,[1]ResourceLevelConfig!$A:$E,5,FALSE),2))","v":3.28},-1,4,4,4,1160,null,null,null,1,2,105]
[106,106,4,11,6,"228;236;243","元婴期","中",6,228,236,243,{"$f":"ROUND([1]ResourceLevelConfig!$E110*[1]ResourceLevelConfig!$L110*0.1,0)*10","v":4290},-1,-1,-1,-1,-1,-1,0,{"$f":"[3]主表!K108","v":390.39616194983228},{"$f":"[3]主表!L108","v":27.05805573087618},{"$f":"[3]主表!M108","v":27.05805573087618},{"$f":"[3]主表!N108","v":0},{"$f":"[3]主表!$G108","v":5786},{"$f":"[3]升级!$H108","v":1300},{"$f":"MAX(1,ROUND(100/(24*3600)*VLOOKUP(B110,[1]ResourceLevelConfig!$A:$E,5,FALSE),2))","v":3.31},-1,4,4,4,1170,null,null,null,1,2,106]
[107,107,4,11,7,"228;236;244","元婴期","中",7,228,236,244,{"$f":"ROUND([1]ResourceLevelConfig!$E111*[1]ResourceLevelConfig!$L111*0.1,0)*10","v":4340},-1,-1,-1,-1,-1,-1,0,{"$f":"[3]主表!K109","v":398.45656671220399},{"$f":"[3]主表!L109","v":27.463926566839323},{"$f":"[3]主表!M109","v":27.463926566839323},{"$f":"[3]主表!N109","v":0},{"$f":"[3]主表!$G109","v":5894},{"$f":"[3]升级!$H109","v":1300},{"$f":"MAX(1,ROUND(100/(24*3600)*VLOOKUP(B111,[1]ResourceLevelConfig!$A:$E,5,FALSE),2))","v":3.34},-1,4,4,4,1180,null,null,null,1,2,107]
[108,108,4,11,8,"228;236;245","元婴期","中",8,228,236,245,{"$f":"ROUND([1]ResourceLevelConfig!$E112*[1]ResourceLevelConfig!$L112*0.1,0)*10","v":4380},-1,-1,-1,-1,-1,-1,0,{"$f":"[3]主表!K110","v":406.67094448100806},{"$f":"[3]主表!L110","v":27.875885465341913},{"$f":"[3]主表!M110","v":27.875885465341913},{"$f":"[3]主表!N110","v":0},{"$f":"[3]主表!$G110","v":6003},{"$f":"[3]升级!$H110","v":1300},{"$f":"MAX(1,ROUND(100/(24*3600)*VLOOKUP(B112,[1]ResourceLevelConfig!$A:$E,5,FALSE),2))","v":3.38},-1,4,4,4,1190,null,null,null,1,2,108]
[109,109,4,11,9,"228;236;246","元婴期","中",9,228,236,246,{"$f":"ROUND([1]ResourceLevelConfig!$E113*[1]ResourceLevelConfig!$L113*0.1,0)*10","v":4430},-1,-1,-1,-1,-1,-1,0,{"$f":"[3]主表!K111","v":415.04210085536613},{"$f":"[3]主表!L111","v":28.29402374732204},{"$f":"[3]主表!M111","v":28.29402374732204},{"$f":"[3]主表!N111","v":0},{"$f":"[3]主表!$G111","v":6115},{"$f":"[3]升级!$H111","v":1300},{"$f":"MAX(1,ROUND(100/(24*3600)*VLOOKUP(B113,[1]ResourceLevelConfig!$A:$E,5,FALSE),2))","v":3.41},-1,4,4,4,1200,null,null,null,1,2,109]
[110,110,4,11,10,"228;236;247","元婴期","中",10,228,236,247,{"$f":"ROUND([1]ResourceLevelConfig!$E114*[1]ResourceLevelConfig!$L114*0.1,0)*10","v":4470},100004,{"$f":"AM114","v":30},{"$f":"AN114","v":1202},{"$f":"AO114","v":2},{"$f":"_xlfn.TEXTJOIN(\";\",1,AP114,AR114,AT114,AV114)","v":"1201;1201;1201;1201"},{"$f":"_xlfn.TEXTJOIN(\";\",1,AQ114,AS114,AU114,AW114)","v":"1;1;1;1"},0,{"$f":"[3]主表!K112","v":423.57289095844658},{"$f":"[3]主表!L112","v":28.718434103531866},{"$f":"[3]主表!M112","v":28.718434103531866},{"$f":"[3]主表!N112","v":0},{"$f":"[3]主表!$G112","v":6229},{"$f":"[3]升级!$H112","v":1300},{"$f":"MAX(1,ROUND(100/(24*3600)*VLOOKUP(B114,[1]ResourceLevelConfig!$A:$E,5,FALSE),2))","v":3.45},20,4,4,4,1210,null,null,null,1,2,110,30,1202,2,1201,1,1201,1,1201,1,1201,1,{"$f":"VLOOKUP(AN114,[4]ItemConfig!$A:$AC,29,FALSE)*AO114+AM114","v":60},{"$f":"VLOOKUP(AP114,[4]ItemConfig!$A:$AC,29,FALSE)*AQ114","v":10},{"$f":"VLOOKUP(AR114,[4]ItemConfig!$A:$AC,29,FALSE)*AS114","v":10},{"$f":"VLOOKUP(AT114,[4]ItemConfig!$A:$AC,29,FALSE)*AU114","v":10},{"$f":"VLOOKUP(AV114,[4]ItemConfig!$A:$AC,29,FALSE)*AW114","v":10},{"$f":"CONCATENATE(AX114,\" + \",SUM(AY114:BB114))","v":"60 + 40"}]
[111,111,4,12,1,"228;237;238","元婴期","后",1,228,237,238,{"$f":"ROUND([1]ResourceLevelConfig!$E115*[1]ResourceLevelConfig!$L115*0.1,0)*10","v":4520},-1,-1,-1,-1,{"$f":"IF(I115=10,\"1001;1002;1004\",-1)","v":-1},-1,0,{"$f":"[3]主表!K113","v":468.46585450356633},{"$f":"[3]主表!L113","v":31.590277513885056},{"$f":"[3]主表!M113","v":31.590277513885056},{"$f":"[3]主表!N113","v":0},{"$f":"[3]主表!$G113","v":7038},{"$f":"[3]升级!$H113","v":1300},{"$f":"MAX(1,ROUND(100/(24*3600)*VLOOKUP(B115,[1]ResourceLevelConfig!$A:$E,5,FALSE),2))","v":3.48},-1,4,4,4,1220,null,null,null,1,2,111]
[112,112,4,12,2,"228;237;239","元婴期","后",2,228,237,239,{"$f":"ROUND([1]ResourceLevelConfig!$E116*[1]ResourceLevelConfig!$L116*0.1,0)*10","v":4560},-1,-1,-1,-1,-1,-1,0,{"$f":"[3]主表!K114","v":478.06655188713393},{"$f":"[3]主表!L114","v":32.064131676593327},{"$f":"[3]主表!M114","v":32.064131676593327},{"$f":"[3]主表!N114","v":0},{"$f":"[3]主表!$G114","v":7167},{"$f":"[3]升级!$H114","v":1300},{"$f":"MAX(1,ROUND(100/(24*3600)*VLOOKUP(B116,[1]ResourceLevelConfig!$A:$E,5,FALSE),2))","v":3.52},-1,4,4,4,1230,null,null,null,1,2,112]
[113,113,4,12,3,"228;237;240","元婴期","后",3,228,237,240,{"$f":"ROUND([1]ResourceLevelConfig!$E117*[1]ResourceLevelConfig!$L117*0.1,0)*10","v":4610},-1,-1,-1,-1,-1,-1,0,{"$f":"[3]主表!K115","v":487.84986537494535},{"$f":"[3]主表!L115","v":32.545093651742228},{"$f":"[3]主表!M115","v":32.545093651742228},{"$f":"[3]主表!N115","v":0},{"$f":"[3]主表!$G115","v":7298},{"$f":"[3]升级!$H115","v":1300},{"$f":"MAX(1,ROUND(100/(24*3600)*VLOOKUP(B117,[1]ResourceLevelConfig!$A:$E,5,FALSE),2))","v":3.55},-1,4,4,4,1240,null,null,null,1,2,113]
[114,114,4,12,4,"228;237;241","元婴期","后",4,228,237,241,{"$f":"ROUND([1]ResourceLevelConfig!$E118*[1]ResourceLevelConfig!$L118*0.1,0)*10","v":4650},-1,-1,-1,-1,-1,-1,0,{"$f":"[3]主表!K116","v":497.81911329321645},{"$f":"[3]主表!L116","v":33.033270056518361},{"$f":"[3]主表!M116","v":33.033270056518361},{"$f":"[3]主表!N116","v":0},{"$f":"[3]主表!$G116","v":7431},{"$f":"[3]升级!$H116","v":1300},{"$f":"MAX(1,ROUND(100/(24*3600)*VLOOKUP(B118,[1]ResourceLevelConfig!$A:$E,5,FALSE),2))","v":3.59},-1,4,4,4,1250,null,null,null,1,2,114]
[115,115,4,12,5,"228;237;242","元婴期","后",5,228,237,242,{"$f":"ROUND([1]ResourceLevelConfig!$E119*[1]ResourceLevelConfig!$L119*0.1,0)*10","v":4700},-1,-1,-1,-1,-1,-1,0,{"$f":"[3]主表!K117","v":507.97767242932633},{"$f":"[3]主表!L117","v":33.528769107366131},{"$f":"[3]主表!M117","v":33.528769107366131},{"$f":"[3]主表!N117","v":0},{"$f":"[3]主表!$G117","v":7567},{"$f":"[3]升级!$H117","v":1300},{"$f":"MAX(1,ROUND(100/(24*3600)*VLOOKUP(B119,[1]ResourceLevelConfig!$A:$E,5,FALSE),2))","v":3.62},-1,4,4,4,1260,null,null,null,1,2,115]
[116,116,4,12,6,"228;237;243","元婴期","后",6,228,237,243,{"$f":"ROUND([1]ResourceLevelConfig!$E120*[1]ResourceLevelConfig!$L120*0.1,0)*10","v":4760},-1,-1,-1,-1,-1,-1,0,{"$f":"[3]主表!K118","v":518.32897903902858},{"$f":"[3]主表!L118","v":34.03170064397662},{"$f":"[3]主表!M118","v":34.03170064397662},{"$f":"[3]主表!N118","v":0},{"$f":"[3]主表!$G118","v":7705},{"$f":"[3]升级!$H118","v":1300},{"$f":"MAX(1,ROUND(100/(24*3600)*VLOOKUP(B120,[1]ResourceLevelConfig!$A:$E,5,FALSE),2))","v":3.67},-1,4,4,4,1270,null,null,null,1,2,116]
[117,117,4,12,7,"228;237;244","元婴期","后",7,228,237,244,{"$f":"ROUND([1]ResourceLevelConfig!$E121*[1]ResourceLevelConfig!$L121*0.1,0)*10","v":4800},-1,-1,-1,-1,-1,-1,0,{"$f":"[3]主表!K119","v":528.87652987072511},{"$f":"[3]主表!L119","v":34.542176153636262},{"$f":"[3]主表!M119","v":34.542176153636262},{"$f":"[3]主表!N119","v":0},{"$f":"[3]主表!$G119","v":7846},{"$f":"[3]升级!$H119","v":1300},{"$f":"MAX(1,ROUND(100/(24*3600)*VLOOKUP(B121,[1]ResourceLevelConfig!$A:$E,5,FALSE),2))","v":3.7},-1,4,4,4,1280,null,null,null,1,2,117]
[118,118,4,12,8,"228;237;245","元婴期","后",8,228,237,245,{"$f":"ROUND([1]ResourceLevelConfig!$E122*[1]ResourceLevelConfig!$L122*0.1,0)*10","v":4850},-1,-1,-1,-1,-1,-1,0,{"$f":"[3]主表!K120","v":539.62388320708885},{"$f":"[3]主表!L120","v":35.060308795940806},{"$f":"[3]主表!M120","v":35.060308795940806},{"$f":"[3]主表!N120","v":0},{"$f":"[3]主表!$G120","v":7989},{"$f":"[3]升级!$H120","v":1300},{"$f":"MAX(1,ROUND(100/(24*3600)*VLOOKUP(B122,[1]ResourceLevelConfig!$A:$E,5,FALSE),2))","v":3.74},-1,4,4,4,1290,null,null,null,1,2,118]
[119,119,4,12,9,"228;237;246","元婴期","后",9,228,237,246,{"$f":"ROUND([1]ResourceLevelConfig!$E123*[1]ResourceLevelConfig!$L123*0.1,0)*10","v":4890},-1,-1,-1,-1,-1,-1,0,{"$f":"[3]主表!K121","v":550.57465992432276},{"$f":"[3]主表!L121","v":35.586213427879919},{"$f":"[3]主表!M121","v":35.586213427879919},{"$f":"[3]主表!N121","v":0},{"$f":"[3]主表!$G121","v":8135},{"$f":"[3]升级!$H121","v":1300},{"$f":"MAX(1,ROUND(100/(24*3600)*VLOOKUP(B123,[1]ResourceLevelConfig!$A:$E,5,FALSE),2))","v":3.77},-1,4,4,4,1300,null,null,null,1,2,119]
[120,120,4,12,10,"228;237;247","元婴期","后",10,228,237,247,{"$f":"ROUND([1]ResourceLevelConfig!$E124*[1]ResourceLevelConfig!$L124*0.1,0)*10","v":4940},100004,{"$f":"AM124","v":30},{"$f":"AN124","v":1304},{"$f":"AO124","v":1},{"$f":"_xlfn.TEXTJOIN(\";\",1,AP124,AR124,AT124,AV124)","v":"1204;1203;1202;1201"},{"$f":"_xlfn.TEXTJOIN(\";\",1,AQ124,AS124,AU124,AW124)","v":"1;1;1;1"},{"$f":"CONCATENATE(ROUND(0.8*VLOOKUP(A124,[3]主表!$A:$P,16,FALSE)*[5]HeroModelConfig!$Q$5,0),\";\",ROUND(1.2*VLOOKUP(A124,[3]主表!$A:$P,16,FALSE)*[5]HeroModelConfig!$Q$5,0))","v":"257663;386494"},{"$f":"[3]主表!K122","v":561.73254456935183},{"$f":"[3]主表!L122","v":36.120006629298111},{"$f":"[3]主表!M122","v":36.120006629298111},{"$f":"[3]主表!N122","v":0},{"$f":"[3]主表!$G122","v":8284},{"$f":"[3]升级!$H122","v":1300},{"$f":"MAX(1,ROUND(100/(24*3600)*VLOOKUP(B124,[1]ResourceLevelConfig!$A:$E,5,FALSE),2))","v":3.81},50,4,4,4,1310,null,null,null,1,2,120,30,1304,1,1204,1,1203,1,1202,1,1201,1,{"$f":"VLOOKUP(AN124,[4]ItemConfig!$A:$AC,29,FALSE)*AO124+AM124","v":60},{"$f":"VLOOKUP(AP124,[4]ItemConfig!$A:$AC,29,FALSE)*AQ124","v":40},{"$f":"VLOOKUP(AR124,[4]ItemConfig!$A:$AC,29,FALSE)*AS124","v":25},{"$f":"VLOOKUP(AT124,[4]ItemConfig!$A:$AC,29,FALSE)*AU124","v":15},{"$f":"VLOOKUP(AV124,[4]ItemConfig!$A:$AC,29,FALSE)*AW124","v":10},{"$f":"CONCATENATE(AX124,\" + \",SUM(AY124:BB124))","v":"60 + 90"}]
[121,121,5,13,1,"229;235;238","化神期","前",1,229,235,238,{"$f":"ROUND([1]ResourceLevelConfig!$E125*[1]ResourceLevelConfig!$L125*0.1,0)*10","v":5000},-1,-1,-1,-1,{"$f":"IF(I125=10,\"1001;1002;1004\",-1)","v":-1},{"$f":"IF(R125=-1,-1,\"100;200;300\")","v":-1},0,{"$f":"[3]主表!K123","v":846.94771397327429},{"$f":"[3]主表!L123","v":54.180009943947162},{"$f":"[3]主表!M123","v":54.180009943947162},{"$f":"[3]主表!N123","v":0},{"$f":"[3]主表!$G123","v":12748},{"$f":"[3]升级!$H123","v":1400},{"$f":"MAX(1,ROUND(100/(24*3600)*VLOOKUP(B125,[1]ResourceLevelConfig!$A:$E,5,FALSE),2))","v":3.85},-1,4,4,4,1320,null,null,null,1,3,121]
[122,122,5,13,2,"229;235;239","化神期","前",2,229,235,239,{"$f":"ROUND([1]ResourceLevelConfig!$E126*[1]ResourceLevelConfig!$L126*0.1,0)*10","v":5040},-1,-1,-1,-1,{"$f":"IF(I126=10,\"1001;1002;1004\",-1)","v":-1},{"$f":"IF(R126=-1,-1,\"100;200;300\")","v":-1},0,{"$f":"[3]主表!K124","v":864.06606025890858},{"$f":"[3]主表!L124","v":54.992710093106361},{"$f":"[3]主表!M124","v":54.992710093106361},{"$f":"[3]主表!N124","v":0},{"$f":"[3]主表!$G124","v":12966},{"$f":"[3]升级!$H124","v":1400},{"$f":"MAX(1,ROUND(100/(24*3600)*VLOOKUP(B126,[1]ResourceLevelConfig!$A:$E,5,FALSE),2))","v":3.89},-1,4,4,4,1330,null,null,null,1,3,122]
[123,123,5,13,3,"229;235;240","化神期","前",3,229,235,240,{"$f":"ROUND([1]ResourceLevelConfig!$E127*[1]ResourceLevelConfig!$L127*0.1,0)*10","v":5100},-1,-1,-1,-1,-1,-1,0,{"$f":"[3]主表!K125","v":881.50739369746793},{"$f":"[3]主表!L125","v":55.817600744502954},{"$f":"[3]主表!M125","v":55.817600744502954},{"$f":"[3]主表!N125","v":0},{"$f":"[3]主表!$G125","v":13188},{"$f":"[3]升级!$H125","v":1400},{"$f":"MAX(1,ROUND(100/(24*3600)*VLOOKUP(B127,[1]ResourceLevelConfig!$A:$E,5,FALSE),2))","v":3.94},-1,4,4,4,1340,null,null,null,1,3,123]
[124,124,5,13,4,"229;235;241","化神期","前",4,229,235,241,{"$f":"ROUND([1]ResourceLevelConfig!$E128*[1]ResourceLevelConfig!$L128*0.1,0)*10","v":5150},-1,-1,-1,-1,-1,-1,0,{"$f":"[3]主表!K126","v":899.27755227562579},{"$f":"[3]主表!L126","v":56.654864755670488},{"$f":"[3]主表!M126","v":56.654864755670488},{"$f":"[3]主表!N126","v":0},{"$f":"[3]主表!$G126","v":13413},{"$f":"[3]升级!$H126","v":1400},{"$f":"MAX(1,ROUND(100/(24*3600)*VLOOKUP(B128,[1]ResourceLevelConfig!$A:$E,5,FALSE),2))","v":3.97},-1,4,4,4,1350,null,null,null,1,3,124]
[125,125,5,13,5,"229;235;242","化神期","前",5,229,235,242,{"$f":"ROUND([1]ResourceLevelConfig!$E129*[1]ResourceLevelConfig!$L129*0.1,0)*10","v":5190},-1,-1,-1,-1,-1,-1,0,{"$f":"[3]主表!K127","v":917.38247644754654},{"$f":"[3]主表!L127","v":57.504687727005539},{"$f":"[3]主表!M127","v":57.504687727005539},{"$f":"[3]主表!N127","v":0},{"$f":"[3]主表!$G127","v":13643},{"$f":"[3]升级!$H127","v":1400},{"$f":"MAX(1,ROUND(100/(24*3600)*VLOOKUP(B129,[1]ResourceLevelConfig!$A:$E,5,FALSE),2))","v":4},-1,4,4,4,1360,null,null,null,1,3,125]
[126,126,5,13,6,"229;235;243","化神期","前",6,229,235,243,{"$f":"ROUND([1]ResourceLevelConfig!$E130*[1]ResourceLevelConfig!$L130*0.1,0)*10","v":5250},-1,-1,-1,-1,-1,-1,0,{"$f":"[3]主表!K128","v":935.82821089536264},{"$f":"[3]主表!L128","v":58.367258042910613},{"$f":"[3]主表!M128","v":58.367258042910613},{"$f":"[3]主表!N128","v":0},{"$f":"[3]主表!$G128","v":13863},{"$f":"[3]升级!$H128","v":1400},{"$f":"MAX(1,ROUND(100/(24*3600)*VLOOKUP(B130,[1]ResourceLevelConfig!$A:$E,5,FALSE),2))","v":4.05},-1,4,4,4,1370,null,null,null,1,3,126]
[127,127,5,13,7,"229;235;244","化神期","前",7,229,235,244,{"$f":"ROUND([1]ResourceLevelConfig!$E131*[1]ResourceLevelConfig!$L131*0.1,0)*10","v":5300},-1,-1,-1,-1,-1,-1,0,{"$f":"[3]主表!K129","v":954.62090631941294},{"$f":"[3]主表!L129","v":59.24276691355427},{"$f":"[3]主表!M129","v":59.24276691355427},{"$f":"[3]主表!N129","v":0},{"$f":"[3]主表!$G129","v":14086},{"$f":"[3]升级!$H129","v":1400},{"$f":"MAX(1,ROUND(100/(24*3600)*VLOOKUP(B131,[1]ResourceLevelConfig!$A:$E,5,FALSE),2))","v":4.09},-1,{"$f":"AC130","v":4},{"$f":"AD130","v":4},{"$f":"AE130","v":4},1380,null,null,null,1,3,127]
[128,128,5,13,8,"229;235;245","化神期","前",8,229,235,245,{"$f":"ROUND([1]ResourceLevelConfig!$E132*[1]ResourceLevelConfig!$L132*0.1,0)*10","v":5360},-1,-1,-1,-1,-1,-1,0,{"$f":"[3]主表!K130","v":973.76682125873299},{"$f":"[3]主表!L130","v":60.131408417257582},{"$f":"[3]主表!M130","v":60.131408417257582},{"$f":"[3]主表!N130","v":0},{"$f":"[3]主表!$G130","v":14314},{"$f":"[3]升级!$H130","v":1400},{"$f":"MAX(1,ROUND(100/(24*3600)*VLOOKUP(B132,[1]ResourceLevelConfig!$A:$E,5,FALSE),2))","v":4.13},-1,4,4,4,1390,null,null,null,1,3,128]
[129,129,5,13,9,"229;235;246","化神期","前",9,229,235,246,{"$f":"ROUND([1]ResourceLevelConfig!$E133*[1]ResourceLevelConfig!$L133*0.1,0)*10","v":5420},-1,-1,-1,-1,-1,-1,0,{"$f":"[3]主表!K131","v":993.27232394231078},{"$f":"[3]主表!L131","v":61.033379543516439},{"$f":"[3]主表!M131","v":61.033379543516439},{"$f":"[3]主表!N131","v":0},{"$f":"[3]主表!$G131","v":14546},{"$f":"[3]升级!$H131","v":1400},{"$f":"MAX(1,ROUND(100/(24*3600)*VLOOKUP(B133,[1]ResourceLevelConfig!$A:$E,5,FALSE),2))","v":4.18},-1,4,4,4,1400,null,null,null,1,3,129]
[130,130,5,13,{"$f":"I134","v":10},{"$f":"_xlfn.TEXTJOIN(\";\",1,J134:L134)","v":"229;235;247"},"化神期","前",10,229,235,247,{"$f":"ROUND([1]ResourceLevelConfig!$E134*[1]ResourceLevelConfig!$L134*0.1,0)*10","v":5460},{"$f":"IF(I134=10,100004,-1)","v":100004},{"$f":"AM134","v":25},{"$f":"AN134","v":1202},{"$f":"AO134","v":2},{"$f":"_xlfn.TEXTJOIN(\";\",1,AP134,AR134,AT134,AV134)","v":"1202;1201;1201;1201"},{"$f":"_xlfn.TEXTJOIN(\";\",1,AQ134,AS134,AU134,AW134)","v":"1;1;1;1"},0,{"$f":"[3]主表!K132","v":1013.1438941716129},{"$f":"[3]主表!L132","v":61.948880236669183},{"$f":"[3]主表!M132","v":61.948880236669183},{"$f":"[3]主表!N132","v":0},{"$f":"[3]主表!$G132","v":14781},{"$f":"[3]升级!$H132","v":1400},{"$f":"MAX(1,ROUND(100/(24*3600)*VLOOKUP(B134,[1]ResourceLevelConfig!$A:$E,5,FALSE),2))","v":4.21},20,4,4,4,{"$f":"MAX(AF133+10,ROUND(10^(B134*0.01+1.405),0))","v":1410},null,null,null,1,3,130,25,1202,2,1202,1,1201,1,1201,1,1201,1,{"$f":"VLOOKUP(AN134,[4]ItemConfig!$A:$AC,29,FALSE)*AO134+AM134","v":55},{"$f":"VLOOKUP(AP134,[4]ItemConfig!$A:$AC,29,FALSE)*AQ134","v":15},{"$f":"VLOOKUP(AR134,[4]ItemConfig!$A:$AC,29,FALSE)*AS134","v":10},{"$f":"VLOOKUP(AT134,[4]ItemConfig!$A:$AC,29,FALSE)*AU134","v":10},{"$f":"VLOOKUP(AV134,[4]ItemConfig!$A:$AC,29,FALSE)*AW134","v":10},{"$f":"CONCATENATE(AX134,\" + \",SUM(AY134:BB134))","v":"55 + 45"}]
[131,131,5,14,1,"229;236;238","化神期","中",1,229,236,238,{"$f":"ROUND([1]ResourceLevelConfig!$E135*[1]ResourceLevelConfig!$L135*0.1,0)*10","v":5520},-1,{"$f":"IF(N135=-1,-1,20)","v":-1},-1,-1,{"$f":"IF(I135=10,\"1001;1002;1004\",-1)","v":-1},-1,0,{"$f":"[3]主表!K133","v":1119.9280174959586},{"$f":"[3]主表!L133","v":68.143768260336117},{"$f":"[3]主表!M133","v":68.143768260336117},{"$f":"[3]主表!N133","v":0},{"$f":"[3]主表!$G133","v":16663},{"$f":"[3]升级!$H133","v":1400},{"$f":"MAX(1,ROUND(100/(24*3600)*VLOOKUP(B135,[1]ResourceLevelConfig!$A:$E,5,FALSE),2))","v":4.26},-1,4,4,4,1420,null,null,null,1,3,131]
[132,132,5,14,2,"229;236;239","化神期","中",2,229,236,239,{"$f":"ROUND([1]ResourceLevelConfig!$E136*[1]ResourceLevelConfig!$L136*0.1,0)*10","v":5580},-1,-1,-1,-1,-1,-1,0,{"$f":"[3]主表!K134","v":1142.2787176741897},{"$f":"[3]主表!L134","v":69.165924784241142},{"$f":"[3]主表!M134","v":69.165924784241142},{"$f":"[3]主表!N134","v":0},{"$f":"[3]主表!$G134","v":16929},{"$f":"[3]升级!$H134","v":1400},{"$f":"MAX(1,ROUND(100/(24*3600)*VLOOKUP(B136,[1]ResourceLevelConfig!$A:$E,5,FALSE),2))","v":4.3099999999999996},-1,4,4,4,1430,null,null,null,1,3,132]
[133,133,5,14,3,"229;236;240","化神期","中",3,229,236,240,{"$f":"ROUND([1]ResourceLevelConfig!$E137*[1]ResourceLevelConfig!$L137*0.1,0)*10","v":5630},-1,-1,-1,-1,-1,-1,0,{"$f":"[3]主表!K135","v":1165.0479550538312},{"$f":"[3]主表!L135","v":70.203413656004756},{"$f":"[3]主表!M135","v":70.203413656004756},{"$f":"[3]主表!N135","v":0},{"$f":"[3]主表!$G135","v":17199},{"$f":"[3]升级!$H135","v":1400},{"$f":"MAX(1,ROUND(100/(24*3600)*VLOOKUP(B137,[1]ResourceLevelConfig!$A:$E,5,FALSE),2))","v":4.34},-1,4,4,4,1440,null,null,null,1,3,133]
[134,134,5,14,4,"229;236;241","化神期","中",4,229,236,241,{"$f":"ROUND([1]ResourceLevelConfig!$E138*[1]ResourceLevelConfig!$L138*0.1,0)*10","v":5690},-1,-1,-1,-1,-1,-1,0,{"$f":"[3]主表!K136","v":1188.2432568433853},{"$f":"[3]主表!L136","v":71.256464860844815},{"$f":"[3]主表!M136","v":71.256464860844815},{"$f":"[3]主表!N136","v":0},{"$f":"[3]主表!$G136","v":17474},{"$f":"[3]升级!$H136","v":1400},{"$f":"MAX(1,ROUND(100/(24*3600)*VLOOKUP(B138,[1]ResourceLevelConfig!$A:$E,5,FALSE),2))","v":4.3899999999999997},-1,4,4,4,1450,null,null,null,1,3,134]
[135,135,5,14,5,"229;236;242","化神期","中",5,229,236,242,{"$f":"ROUND([1]ResourceLevelConfig!$E139*[1]ResourceLevelConfig!$L139*0.1,0)*10","v":5750},-1,-1,-1,-1,-1,-1,0,{"$f":"[3]主表!K137","v":1211.872281896739},{"$f":"[3]主表!L137","v":72.325311833757482},{"$f":"[3]主表!M137","v":72.325311833757482},{"$f":"[3]主表!N137","v":0},{"$f":"[3]主表!$G137","v":17753},{"$f":"[3]升级!$H137","v":1400},{"$f":"MAX(1,ROUND(100/(24*3600)*VLOOKUP(B139,[1]ResourceLevelConfig!$A:$E,5,FALSE),2))","v":4.43},-1,4,4,4,1460,null,null,null,1,3,135]
[136,136,5,14,6,"229;236;243","化神期","中",6,229,236,243,{"$f":"ROUND([1]ResourceLevelConfig!$E140*[1]ResourceLevelConfig!$L140*0.1,0)*10","v":5810},-1,-1,-1,-1,-1,-1,0,{"$f":"[3]主表!K138","v":1235.9428229689033},{"$f":"[3]主表!L138","v":73.410191511263832},{"$f":"[3]主表!M138","v":73.410191511263832},{"$f":"[3]主表!N138","v":0},{"$f":"[3]主表!$G138","v":18037},{"$f":"[3]升级!$H138","v":1400},{"$f":"MAX(1,ROUND(100/(24*3600)*VLOOKUP(B140,[1]ResourceLevelConfig!$A:$E,5,FALSE),2))","v":4.4800000000000004},-1,4,4,4,1470,null,null,null,1,3,136]
[137,137,5,14,7,"229;236;244","化神期","中",7,229,236,244,{"$f":"ROUND([1]ResourceLevelConfig!$E141*[1]ResourceLevelConfig!$L141*0.1,0)*10","v":5870},-1,-1,-1,-1,-1,-1,0,{"$f":"[3]主表!K139","v":1260.4628090098058},{"$f":"[3]主表!L139","v":74.51134438393278},{"$f":"[3]主表!M139","v":74.51134438393278},{"$f":"[3]主表!N139","v":0},{"$f":"[3]主表!$G139","v":18326},{"$f":"[3]升级!$H139","v":1400},{"$f":"MAX(1,ROUND(100/(24*3600)*VLOOKUP(B141,[1]ResourceLevelConfig!$A:$E,5,FALSE),2))","v":4.53},-1,4,4,4,1480,null,null,null,1,3,137]
[138,138,5,14,8,"229;236;245","化神期","中",8,229,236,245,{"$f":"ROUND([1]ResourceLevelConfig!$E142*[1]ResourceLevelConfig!$L142*0.1,0)*10","v":5930},-1,-1,-1,-1,-1,-1,0,{"$f":"[3]主表!K140","v":1285.4403074967677},{"$f":"[3]主表!L140","v":75.62901454969176},{"$f":"[3]主表!M140","v":75.62901454969176},{"$f":"[3]主表!N140","v":0},{"$f":"[3]主表!$G140","v":18620},{"$f":"[3]升级!$H140","v":1400},{"$f":"MAX(1,ROUND(100/(24*3600)*VLOOKUP(B142,[1]ResourceLevelConfig!$A:$E,5,FALSE),2))","v":4.57},-1,4,4,4,1490,null,null,null,1,3,138]
[139,139,5,14,9,"229;236;246","化神期","中",9,229,236,246,{"$f":"ROUND([1]ResourceLevelConfig!$E143*[1]ResourceLevelConfig!$L143*0.1,0)*10","v":5990},-1,-1,-1,-1,-1,-1,0,{"$f":"[3]主表!K141","v":1310.8835268063112},{"$f":"[3]主表!L141","v":76.763449767937132},{"$f":"[3]主表!M141","v":76.763449767937132},{"$f":"[3]主表!N141","v":0},{"$f":"[3]主表!$G141","v":18920},{"$f":"[3]升级!$H141","v":1400},{"$f":"MAX(1,ROUND(100/(24*3600)*VLOOKUP(B143,[1]ResourceLevelConfig!$A:$E,5,FALSE),2))","v":4.62},-1,4,4,4,1500,null,null,null,1,3,139]
[140,140,5,14,10,"229;236;247","化神期","中",10,229,236,247,{"$f":"ROUND([1]ResourceLevelConfig!$E144*[1]ResourceLevelConfig!$L144*0.1,0)*10","v":6050},100004,{"$f":"AM144","v":25},{"$f":"AN144","v":1202},{"$f":"AO144","v":2},{"$f":"_xlfn.TEXTJOIN(\";\",1,AP144,AR144,AT144,AV144)","v":"1202;1201;1201;1201"},{"$f":"_xlfn.TEXTJOIN(\";\",1,AQ144,AS144,AU144,AW144)","v":"1;1;1;1"},0,{"$f":"[3]主表!K142","v":1336.800818625954},{"$f":"[3]主表!L142","v":77.91490151445619},{"$f":"[3]主表!M142","v":77.91490151445619},{"$f":"[3]主表!N142","v":0},{"$f":"[3]主表!$G142","v":19224},{"$f":"[3]升级!$H142","v":1400},{"$f":"MAX(1,ROUND(100/(24*3600)*VLOOKUP(B144,[1]ResourceLevelConfig!$A:$E,5,FALSE),2))","v":4.66},20,4,4,4,1510,null,null,null,1,3,140,25,1202,2,1202,1,1201,1,1201,1,1201,1,{"$f":"VLOOKUP(AN144,[4]ItemConfig!$A:$AC,29,FALSE)*AO144+AM144","v":55},{"$f":"VLOOKUP(AP144,[4]ItemConfig!$A:$AC,29,FALSE)*AQ144","v":15},{"$f":"VLOOKUP(AR144,[4]ItemConfig!$A:$AC,29,FALSE)*AS144","v":10},{"$f":"VLOOKUP(AT144,[4]ItemConfig!$A:$AC,29,FALSE)*AU144","v":10},{"$f":"VLOOKUP(AV144,[4]ItemConfig!$A:$AC,29,FALSE)*AW144","v":10},{"$f":"CONCATENATE(AX144,\" + \",SUM(AY144:BB144))","v":"55 + 45"}]
[141,141,5,15,1,"229;237;238","化神期","后",1,229,237,238,{"$f":"ROUND([1]ResourceLevelConfig!$E145*[1]ResourceLevelConfig!$L145*0.1,0)*10","v":6110},-1,-1,-1,-1,{"$f":"IF(I145=10,\"1001;1002;1004\",-1)","v":-1},-1,0,{"$f":"[3]主表!K143","v":1477.3603432978525},{"$f":"[3]主表!L143","v":85.706391665901805},{"$f":"[3]主表!M143","v":85.706391665901805},{"$f":"[3]主表!N143","v":0},{"$f":"[3]主表!$G143","v":21669},{"$f":"[3]升级!$H143","v":1400},{"$f":"MAX(1,ROUND(100/(24*3600)*VLOOKUP(B145,[1]ResourceLevelConfig!$A:$E,5,FALSE),2))","v":4.71},-1,4,4,4,1520,null,null,null,1,3,141]
[142,142,5,15,2,"229;237;239","化神期","后",2,229,237,239,{"$f":"ROUND([1]ResourceLevelConfig!$E146*[1]ResourceLevelConfig!$L146*0.1,0)*10","v":6170},-1,-1,-1,-1,-1,-1,0,{"$f":"[3]主表!K144","v":1506.503382898763},{"$f":"[3]主表!L144","v":86.991987540890335},{"$f":"[3]主表!M144","v":86.991987540890335},{"$f":"[3]主表!N144","v":0},{"$f":"[3]主表!$G144","v":22012},{"$f":"[3]升级!$H144","v":1400},{"$f":"MAX(1,ROUND(100/(24*3600)*VLOOKUP(B146,[1]ResourceLevelConfig!$A:$E,5,FALSE),2))","v":4.76},-1,4,4,4,1530,null,null,null,1,3,142]
[143,143,5,15,3,"229;237;240","化神期","后",3,229,237,240,{"$f":"ROUND([1]ResourceLevelConfig!$E147*[1]ResourceLevelConfig!$L147*0.1,0)*10","v":6230},-1,-1,-1,-1,-1,-1,0,{"$f":"[3]主表!K145","v":1536.1883076104587},{"$f":"[3]主表!L145","v":88.29686735400368},{"$f":"[3]主表!M145","v":88.29686735400368},{"$f":"[3]主表!N145","v":0},{"$f":"[3]主表!$G145","v":22360},{"$f":"[3]升级!$H145","v":1400},{"$f":"MAX(1,ROUND(100/(24*3600)*VLOOKUP(B147,[1]ResourceLevelConfig!$A:$E,5,FALSE),2))","v":4.8},-1,4,4,4,1540,null,null,null,1,3,143]
[144,144,5,15,4,"229;237;241","化神期","后",4,229,237,241,{"$f":"ROUND([1]ResourceLevelConfig!$E148*[1]ResourceLevelConfig!$L148*0.1,0)*10","v":6290},-1,-1,-1,-1,-1,-1,0,{"$f":"[3]主表!K146","v":1566.4248168023528},{"$f":"[3]主表!L146","v":89.621320364313718},{"$f":"[3]主表!M146","v":89.621320364313718},{"$f":"[3]主表!N146","v":0},{"$f":"[3]主表!$G146","v":22715},{"$f":"[3]升级!$H146","v":1400},{"$f":"MAX(1,ROUND(100/(24*3600)*VLOOKUP(B148,[1]ResourceLevelConfig!$A:$E,5,FALSE),2))","v":4.8499999999999996},-1,4,4,4,1550,null,null,null,1,3,144]
[145,145,5,15,5,"229;237;242","化神期","后",5,229,237,242,{"$f":"ROUND([1]ResourceLevelConfig!$E149*[1]ResourceLevelConfig!$L149*0.1,0)*10","v":6350},-1,-1,-1,-1,-1,-1,0,{"$f":"[3]主表!K147","v":1597.2227789007914},{"$f":"[3]主表!L147","v":90.96564016977841},{"$f":"[3]主表!M147","v":90.96564016977841},{"$f":"[3]主表!N147","v":0},{"$f":"[3]主表!$G147","v":23076},{"$f":"[3]升级!$H147","v":1400},{"$f":"MAX(1,ROUND(100/(24*3600)*VLOOKUP(B149,[1]ResourceLevelConfig!$A:$E,5,FALSE),2))","v":4.9000000000000004},-1,4,4,4,1560,null,null,null,1,3,145]
[146,146,5,15,6,"229;237;243","化神期","后",6,229,237,243,{"$f":"ROUND([1]ResourceLevelConfig!$E150*[1]ResourceLevelConfig!$L150*0.1,0)*10","v":6410},-1,-1,-1,-1,-1,-1,0,{"$f":"[3]主表!K148","v":1628.5922342784031},{"$f":"[3]主表!L148","v":92.330124772325092},{"$f":"[3]主表!M148","v":92.330124772325092},{"$f":"[3]主表!N148","v":0},{"$f":"[3]主表!$G148","v":23443},{"$f":"[3]升级!$H148","v":1400},{"$f":"MAX(1,ROUND(100/(24*3600)*VLOOKUP(B150,[1]ResourceLevelConfig!$A:$E,5,FALSE),2))","v":4.9400000000000004},-1,4,4,4,1570,null,null,null,1,3,146]
[147,147,5,15,7,"229;237;244","化神期","后",7,229,237,244,{"$f":"ROUND([1]ResourceLevelConfig!$E151*[1]ResourceLevelConfig!$L151*0.1,0)*10","v":6480},-1,-1,-1,-1,-1,-1,0,{"$f":"[3]主表!K149","v":1660.5433981920903},{"$f":"[3]主表!L149","v":93.715076643909967},{"$f":"[3]主表!M149","v":93.715076643909967},{"$f":"[3]主表!N149","v":0},{"$f":"[3]主表!$G149","v":23816},{"$f":"[3]升级!$H149","v":1400},{"$f":"MAX(1,ROUND(100/(24*3600)*VLOOKUP(B151,[1]ResourceLevelConfig!$A:$E,5,FALSE),2))","v":5},-1,4,4,4,1580,null,null,null,1,3,147]
[148,148,5,15,8,"229;237;245","化神期","后",8,229,237,245,{"$f":"ROUND([1]ResourceLevelConfig!$E152*[1]ResourceLevelConfig!$L152*0.1,0)*10","v":6540},-1,-1,-1,-1,-1,-1,0,{"$f":"[3]主表!K150","v":1693.0866637704751},{"$f":"[3]主表!L150","v":95.1208027935686},{"$f":"[3]主表!M150","v":95.1208027935686},{"$f":"[3]主表!N150","v":0},{"$f":"[3]主表!$G150","v":24196},{"$f":"[3]升级!$H150","v":1400},{"$f":"MAX(1,ROUND(100/(24*3600)*VLOOKUP(B152,[1]ResourceLevelConfig!$A:$E,5,FALSE),2))","v":5.05},-1,4,4,4,1590,null,null,null,1,3,148]
[149,149,5,15,9,"229;237;246","化神期","后",9,229,237,246,{"$f":"ROUND([1]ResourceLevelConfig!$E153*[1]ResourceLevelConfig!$L153*0.1,0)*10","v":6620},-1,-1,-1,-1,-1,-1,0,{"$f":"[3]主表!K151","v":1726.2326050516185},{"$f":"[3]主表!L151","v":96.547614835472118},{"$f":"[3]主表!M151","v":96.547614835472118},{"$f":"[3]主表!N151","v":0},{"$f":"[3]主表!$G151","v":24582},{"$f":"[3]升级!$H151","v":1400},{"$f":"MAX(1,ROUND(100/(24*3600)*VLOOKUP(B153,[1]ResourceLevelConfig!$A:$E,5,FALSE),2))","v":5.0999999999999996},-1,4,4,4,1600,null,null,null,1,3,149]
[150,150,5,15,10,"229;237;247","化神期","后",10,229,237,247,{"$f":"ROUND([1]ResourceLevelConfig!$E154*[1]ResourceLevelConfig!$L154*0.1,0)*10","v":6680},100004,{"$f":"AM154","v":25},{"$f":"AN154","v":1305},{"$f":"AO154","v":1},{"$f":"_xlfn.TEXTJOIN(\";\",1,AP154,AR154,AT154,AV154)","v":"1204;1203;1202;1201"},{"$f":"_xlfn.TEXTJOIN(\";\",1,AQ154,AS154,AU154,AW154)","v":"1;1;1;1"},{"$f":"CONCATENATE(ROUND(0.8*VLOOKUP(A154,[3]主表!$A:$P,16,FALSE)*[5]HeroModelConfig!$Q$5,0),\";\",ROUND(1.2*VLOOKUP(A154,[3]主表!$A:$P,16,FALSE)*[5]HeroModelConfig!$Q$5,0))","v":"897059;1345589"},{"$f":"[3]主表!K152","v":1759.991980071848},{"$f":"[3]主表!L152","v":97.995829058004205},{"$f":"[3]主表!M152","v":97.995829058004205},{"$f":"[3]主表!N152","v":0},{"$f":"[3]主表!$G152","v":24974},{"$f":"[3]升级!$H152","v":1400},{"$f":"MAX(1,ROUND(100/(24*3600)*VLOOKUP(B154,[1]ResourceLevelConfig!$A:$E,5,FALSE),2))","v":5.15},50,4,4,4,1610,null,null,null,1,3,150,25,1305,1,1204,1,1203,1,1202,1,1201,1,{"$f":"VLOOKUP(AN154,[4]ItemConfig!$A:$AC,29,FALSE)*AO154+AM154","v":50},{"$f":"VLOOKUP(AP154,[4]ItemConfig!$A:$AC,29,FALSE)*AQ154","v":40},{"$f":"VLOOKUP(AR154,[4]ItemConfig!$A:$AC,29,FALSE)*AS154","v":25},{"$f":"VLOOKUP(AT154,[4]ItemConfig!$A:$AC,29,FALSE)*AU154","v":15},{"$f":"VLOOKUP(AV154,[4]ItemConfig!$A:$AC,29,FALSE)*AW154","v":10},{"$f":"CONCATENATE(AX154,\" + \",SUM(AY154:BB154))","v":"50 + 90"}]
[151,151,6,16,1,"230;235;238","炼虚期","前",1,230,235,238,{"$f":"ROUND([1]ResourceLevelConfig!$E155*[1]ResourceLevelConfig!$L155*0.1,0)*10","v":6740},-1,-1,-1,-1,{"$f":"IF(I155=10,\"1001;1002;1004\",-1)","v":-1},{"$f":"IF(R155=-1,-1,\"100;200;300\")","v":-1},0,{"$f":"[3]主表!K153","v":2651.7867990244549},{"$f":"[3]主表!L153","v":146.99374358700629},{"$f":"[3]主表!M153","v":146.99374358700629},{"$f":"[3]主表!N153","v":0},{"$f":"[3]主表!$G153","v":38383},{"$f":"[3]升级!$H153","v":1500},{"$f":"MAX(1,ROUND(100/(24*3600)*VLOOKUP(B155,[1]ResourceLevelConfig!$A:$E,5,FALSE),2))","v":5.2},-1,4,4,4,1620,null,null,null,1,3,151]
[152,152,6,16,2,"230;235;239","炼虚期","前",2,230,235,239,{"$f":"ROUND([1]ResourceLevelConfig!$E156*[1]ResourceLevelConfig!$L156*0.1,0)*10","v":6810},-1,-1,-1,-1,{"$f":"IF(I156=10,\"1001;1002;1004\",-1)","v":-1},{"$f":"IF(R156=-1,-1,\"100;200;300\")","v":-1},0,{"$f":"[3]主表!K154","v":2703.5394123602546},{"$f":"[3]主表!L154","v":149.19864974081139},{"$f":"[3]主表!M154","v":149.19864974081139},{"$f":"[3]主表!N154","v":0},{"$f":"[3]主表!$G154","v":38987},{"$f":"[3]升级!$H154","v":1500},{"$f":"MAX(1,ROUND(100/(24*3600)*VLOOKUP(B156,[1]ResourceLevelConfig!$A:$E,5,FALSE),2))","v":5.25},-1,4,4,4,1630,null,null,null,1,3,152]
[153,153,6,16,3,"230;235;240","炼虚期","前",3,230,235,240,{"$f":"ROUND([1]ResourceLevelConfig!$E157*[1]ResourceLevelConfig!$L157*0.1,0)*10","v":6890},-1,-1,-1,-1,-1,-1,0,{"$f":"[3]主表!K155","v":2756.2479520663474},{"$f":"[3]主表!L155","v":151.43662948692355},{"$f":"[3]主表!M155","v":151.43662948692355},{"$f":"[3]主表!N155","v":0},{"$f":"[3]主表!$G155","v":39600},{"$f":"[3]升级!$H155","v":1500},{"$f":"MAX(1,ROUND(100/(24*3600)*VLOOKUP(B157,[1]ResourceLevelConfig!$A:$E,5,FALSE),2))","v":5.31},-1,4,4,4,1640,null,null,null,1,3,153]
[154,154,6,16,4,"230;235;241","炼虚期","前",4,230,235,241,{"$f":"ROUND([1]ResourceLevelConfig!$E158*[1]ResourceLevelConfig!$L158*0.1,0)*10","v":6950},-1,-1,-1,-1,-1,-1,0,{"$f":"[3]主表!K156","v":2809.9294515958427},{"$f":"[3]主表!L156","v":153.70817892922739},{"$f":"[3]主表!M156","v":153.70817892922739},{"$f":"[3]主表!N156","v":0},{"$f":"[3]主表!$G156","v":40224},{"$f":"[3]升级!$H156","v":1500},{"$f":"MAX(1,ROUND(100/(24*3600)*VLOOKUP(B158,[1]ResourceLevelConfig!$A:$E,5,FALSE),2))","v":5.36},-1,4,4,4,1650,null,null,null,1,3,154]
[155,155,6,16,5,"230;235;242","炼虚期","前",5,230,235,242,{"$f":"ROUND([1]ResourceLevelConfig!$E159*[1]ResourceLevelConfig!$L159*0.1,0)*10","v":7020},-1,-1,-1,-1,-1,-1,0,{"$f":"[3]主表!K157","v":2864.601240322007},{"$f":"[3]主表!L157","v":156.01380161316578},{"$f":"[3]主表!M157","v":156.01380161316578},{"$f":"[3]主表!N157","v":0},{"$f":"[3]主表!$G157","v":40859},{"$f":"[3]升级!$H157","v":1500},{"$f":"MAX(1,ROUND(100/(24*3600)*VLOOKUP(B159,[1]ResourceLevelConfig!$A:$E,5,FALSE),2))","v":5.42},-1,4,4,4,1660,null,null,null,1,3,155]
[156,156,6,16,6,"230;235;243","炼虚期","前",6,230,235,243,{"$f":"ROUND([1]ResourceLevelConfig!$E160*[1]ResourceLevelConfig!$L160*0.1,0)*10","v":7100},-1,-1,-1,-1,-1,-1,0,{"$f":"[3]主表!K158","v":2920.2809485833477},{"$f":"[3]主表!L158","v":158.35400863736325},{"$f":"[3]主表!M158","v":158.35400863736325},{"$f":"[3]主表!N158","v":0},{"$f":"[3]主表!$G158","v":41504},{"$f":"[3]升级!$H158","v":1500},{"$f":"MAX(1,ROUND(100/(24*3600)*VLOOKUP(B160,[1]ResourceLevelConfig!$A:$E,5,FALSE),2))","v":5.47},-1,4,4,4,1670,null,null,null,1,3,156]
[157,157,6,16,7,"230;235;244","炼虚期","前",7,230,235,244,{"$f":"ROUND([1]ResourceLevelConfig!$E161*[1]ResourceLevelConfig!$L161*0.1,0)*10","v":7160},-1,-1,-1,-1,-1,-1,0,{"$f":"[3]主表!K159","v":2976.9865128134566},{"$f":"[3]主表!L159","v":160.72931876692371},{"$f":"[3]主表!M159","v":160.72931876692371},{"$f":"[3]主表!N159","v":0},{"$f":"[3]主表!$G159","v":42161},{"$f":"[3]升级!$H159","v":1500},{"$f":"MAX(1,ROUND(100/(24*3600)*VLOOKUP(B161,[1]ResourceLevelConfig!$A:$E,5,FALSE),2))","v":5.52},-1,4,4,4,1680,null,null,null,1,3,157]
[158,158,6,16,8,"230;235;245","炼虚期","前",8,230,235,245,{"$f":"ROUND([1]ResourceLevelConfig!$E162*[1]ResourceLevelConfig!$L162*0.1,0)*10","v":7230},-1,-1,-1,-1,-1,-1,0,{"$f":"[3]主表!K160","v":3034.7361807570364},{"$f":"[3]主表!L160","v":163.14025854842754},{"$f":"[3]主表!M160","v":163.14025854842754},{"$f":"[3]主表!N160","v":0},{"$f":"[3]主表!$G160","v":42829},{"$f":"[3]升级!$H160","v":1500},{"$f":"MAX(1,ROUND(100/(24*3600)*VLOOKUP(B162,[1]ResourceLevelConfig!$A:$E,5,FALSE),2))","v":5.58},-1,4,4,4,1690,null,null,null,1,3,158]
[159,159,6,16,9,"230;235;246","炼虚期","前",9,230,235,246,{"$f":"ROUND([1]ResourceLevelConfig!$E163*[1]ResourceLevelConfig!$L163*0.1,0)*10","v":7310},-1,-1,-1,-1,-1,-1,{"$f":"IF(G163=G164,0,CONCATENATE(\"1;1\"))","v":0},{"$f":"[3]主表!K161","v":3093.5485167735415},{"$f":"[3]主表!L161","v":165.58736242665393},{"$f":"[3]主表!M161","v":165.58736242665393},{"$f":"[3]主表!N161","v":0},{"$f":"[3]主表!$G161","v":43508},{"$f":"[3]升级!$H161","v":1500},{"$f":"MAX(1,ROUND(100/(24*3600)*VLOOKUP(B163,[1]ResourceLevelConfig!$A:$E,5,FALSE),2))","v":5.64},-1,4,4,4,1700,null,null,null,1,3,159]
[160,160,6,16,10,"230;235;247","炼虚期","前",10,230,235,247,{"$f":"ROUND([1]ResourceLevelConfig!$E164*[1]ResourceLevelConfig!$L164*0.1,0)*10","v":7380},100004,{"$f":"AM164","v":20},{"$f":"AN164","v":1202},{"$f":"AO164","v":3},{"$f":"_xlfn.TEXTJOIN(\";\",1,AP164,AR164,AT164,AV164)","v":"1201;1201;1201;1201"},{"$f":"_xlfn.TEXTJOIN(\";\",1,AQ164,AS164,AU164,AW164)","v":"1;1;1;1"},0,{"$f":"[3]主表!K162","v":3153.4424072298707},{"$f":"[3]主表!L162","v":168.07117286305373},{"$f":"[3]主表!M162","v":168.07117286305373},{"$f":"[3]主表!N162","v":0},{"$f":"[3]主表!$G162","v":44198},{"$f":"[3]升级!$H162","v":1500},{"$f":"MAX(1,ROUND(100/(24*3600)*VLOOKUP(B164,[1]ResourceLevelConfig!$A:$E,5,FALSE),2))","v":5.69},20,4,4,4,1710,null,null,null,1,3,160,20,1202,3,1201,1,1201,1,1201,1,1201,1,{"$f":"VLOOKUP(AN164,[4]ItemConfig!$A:$AC,29,FALSE)*AO164+AM164","v":65},{"$f":"VLOOKUP(AP164,[4]ItemConfig!$A:$AC,29,FALSE)*AQ164","v":10},{"$f":"VLOOKUP(AR164,[4]ItemConfig!$A:$AC,29,FALSE)*AS164","v":10},{"$f":"VLOOKUP(AT164,[4]ItemConfig!$A:$AC,29,FALSE)*AU164","v":10},{"$f":"VLOOKUP(AV164,[4]ItemConfig!$A:$AC,29,FALSE)*AW164","v":10},{"$f":"CONCATENATE(AX164,\" + \",SUM(AY164:BB164))","v":"65 + 40"}]
[161,161,6,17,1,"230;236;238","炼虚期","中",1,230,236,238,{"$f":"ROUND([1]ResourceLevelConfig!$E165*[1]ResourceLevelConfig!$L165*0.1,0)*10","v":7460},-1,-1,-1,-1,{"$f":"IF(I165=10,\"1001;1002;1004\",-1)","v":-1},-1,0,{"$f":"[3]主表!K163","v":3483.6263769280577},{"$f":"[3]主表!L163","v":184.87829014935912},{"$f":"[3]主表!M163","v":184.87829014935912},{"$f":"[3]主表!N163","v":0},{"$f":"[3]主表!$G163","v":49809},{"$f":"[3]升级!$H163","v":1500},{"$f":"MAX(1,ROUND(100/(24*3600)*VLOOKUP(B165,[1]ResourceLevelConfig!$A:$E,5,FALSE),2))","v":5.75},-1,4,4,4,1720,null,null,null,1,3,161]
[162,162,6,17,2,"230;236;239","炼虚期","中",2,230,236,239,{"$f":"ROUND([1]ResourceLevelConfig!$E166*[1]ResourceLevelConfig!$L166*0.1,0)*10","v":7530},-1,-1,-1,-1,-1,-1,0,{"$f":"[3]主表!K164","v":3550.9430974918059},{"$f":"[3]主表!L164","v":187.65146450159952},{"$f":"[3]主表!M164","v":187.65146450159952},{"$f":"[3]主表!N164","v":0},{"$f":"[3]主表!$G164","v":50587},{"$f":"[3]升级!$H164","v":1500},{"$f":"MAX(1,ROUND(100/(24*3600)*VLOOKUP(B166,[1]ResourceLevelConfig!$A:$E,5,FALSE),2))","v":5.81},-1,4,4,4,1730,null,null,null,1,3,162]
[163,163,6,17,3,"230;236;240","炼虚期","中",3,230,236,240,{"$f":"ROUND([1]ResourceLevelConfig!$E167*[1]ResourceLevelConfig!$L167*0.1,0)*10","v":7610},-1,-1,-1,-1,-1,-1,0,{"$f":"[3]主表!K165","v":3619.4955037376576},{"$f":"[3]主表!L165","v":190.46623646912346},{"$f":"[3]主表!M165","v":190.46623646912346},{"$f":"[3]主表!N165","v":0},{"$f":"[3]主表!$G165","v":51379},{"$f":"[3]升级!$H165","v":1500},{"$f":"MAX(1,ROUND(100/(24*3600)*VLOOKUP(B167,[1]ResourceLevelConfig!$A:$E,5,FALSE),2))","v":5.87},-1,4,4,4,1740,null,null,null,1,3,163]
[164,164,6,17,4,"230;236;241","炼虚期","中",4,230,236,241,{"$f":"ROUND([1]ResourceLevelConfig!$E168*[1]ResourceLevelConfig!$L168*0.1,0)*10","v":7680},-1,-1,-1,-1,-1,-1,0,{"$f":"[3]主表!K166","v":3689.3055199739488},{"$f":"[3]主表!L166","v":193.3232300161603},{"$f":"[3]主表!M166","v":193.3232300161603},{"$f":"[3]主表!N166","v":0},{"$f":"[3]主表!$G166","v":52183},{"$f":"[3]升级!$H166","v":1500},{"$f":"MAX(1,ROUND(100/(24*3600)*VLOOKUP(B168,[1]ResourceLevelConfig!$A:$E,5,FALSE),2))","v":5.93},-1,4,4,4,1750,null,null,null,1,3,164]
[165,165,6,17,5,"230;236;242","炼虚期","中",5,230,236,242,{"$f":"ROUND([1]ResourceLevelConfig!$E169*[1]ResourceLevelConfig!$L169*0.1,0)*10","v":7760},-1,-1,-1,-1,-1,-1,0,{"$f":"[3]主表!K167","v":3760.3954502089873},{"$f":"[3]主表!L167","v":196.22307846640268},{"$f":"[3]主表!M167","v":196.22307846640268},{"$f":"[3]主表!N167","v":0},{"$f":"[3]主表!$G167","v":53001},{"$f":"[3]升级!$H167","v":1500},{"$f":"MAX(1,ROUND(100/(24*3600)*VLOOKUP(B169,[1]ResourceLevelConfig!$A:$E,5,FALSE),2))","v":5.98},-1,4,4,4,1760,null,null,null,1,3,165]
[166,166,6,17,6,"230;236;243","炼虚期","中",6,230,236,243,{"$f":"ROUND([1]ResourceLevelConfig!$E170*[1]ResourceLevelConfig!$L170*0.1,0)*10","v":7830},-1,-1,-1,-1,-1,-1,0,{"$f":"[3]主表!K168","v":3832.7879846090846},{"$f":"[3]主表!L168","v":199.16642464339873},{"$f":"[3]主表!M168","v":199.16642464339873},{"$f":"[3]主表!N168","v":0},{"$f":"[3]主表!$G168","v":53834},{"$f":"[3]升级!$H168","v":1500},{"$f":"MAX(1,ROUND(100/(24*3600)*VLOOKUP(B170,[1]ResourceLevelConfig!$A:$E,5,FALSE),2))","v":6.04},-1,4,4,4,1770,null,null,null,1,3,166]
[167,167,6,17,7,"230;236;244","炼虚期","中",7,230,236,244,{"$f":"ROUND([1]ResourceLevelConfig!$E171*[1]ResourceLevelConfig!$L171*0.1,0)*10","v":7920},-1,-1,-1,-1,-1,-1,0,{"$f":"[3]主表!K169","v":3906.5062060648856},{"$f":"[3]主表!L169","v":202.15392101304965},{"$f":"[3]主表!M169","v":202.15392101304965},{"$f":"[3]主表!N169","v":0},{"$f":"[3]主表!$G169","v":54680},{"$f":"[3]升级!$H169","v":1500},{"$f":"MAX(1,ROUND(100/(24*3600)*VLOOKUP(B171,[1]ResourceLevelConfig!$A:$E,5,FALSE),2))","v":6.11},-1,4,4,4,1780,null,null,null,1,3,167]
[168,168,6,17,8,"230;236;245","炼虚期","中",8,230,236,245,{"$f":"ROUND([1]ResourceLevelConfig!$E172*[1]ResourceLevelConfig!$L172*0.1,0)*10","v":8000},-1,-1,-1,-1,-1,-1,0,{"$f":"[3]主表!K170","v":3981.573596867825},{"$f":"[3]主表!L170","v":205.18622982824539},{"$f":"[3]主表!M170","v":205.18622982824539},{"$f":"[3]主表!N170","v":0},{"$f":"[3]主表!$G170","v":55541},{"$f":"[3]升级!$H170","v":1500},{"$f":"MAX(1,ROUND(100/(24*3600)*VLOOKUP(B172,[1]ResourceLevelConfig!$A:$E,5,FALSE),2))","v":6.17},-1,4,4,4,1790,null,null,null,1,3,168]
[169,169,6,17,9,"230;236;246","炼虚期","中",9,230,236,246,{"$f":"ROUND([1]ResourceLevelConfig!$E173*[1]ResourceLevelConfig!$L173*0.1,0)*10","v":8070},-1,-1,-1,-1,-1,-1,0,{"$f":"[3]主表!K171","v":4058.0140454984871},{"$f":"[3]主表!L171","v":208.26402327566902},{"$f":"[3]主表!M171","v":208.26402327566902},{"$f":"[3]主表!N171","v":0},{"$f":"[3]主表!$G171","v":56416},{"$f":"[3]升级!$H171","v":1500},{"$f":"MAX(1,ROUND(100/(24*3600)*VLOOKUP(B173,[1]ResourceLevelConfig!$A:$E,5,FALSE),2))","v":6.23},-1,4,4,4,1800,null,null,null,1,3,169]
[170,170,6,17,10,"230;236;247","炼虚期","中",10,230,236,247,{"$f":"ROUND([1]ResourceLevelConfig!$E174*[1]ResourceLevelConfig!$L174*0.1,0)*10","v":8160},100004,{"$f":"AM174","v":20},{"$f":"AN174","v":1202},{"$f":"AO174","v":3},{"$f":"_xlfn.TEXTJOIN(\";\",1,AP174,AR174,AT174,AV174)","v":"1201;1201;1201;1201"},{"$f":"_xlfn.TEXTJOIN(\";\",1,AQ174,AS174,AU174,AW174)","v":"1;1;1;1"},0,{"$f":"[3]主表!K172","v":4135.851853528774},{"$f":"[3]主表!L172","v":211.38798362480404},{"$f":"[3]主表!M172","v":211.38798362480404},{"$f":"[3]主表!N172","v":0},{"$f":"[3]主表!$G172","v":57307},{"$f":"[3]升级!$H172","v":1500},{"$f":"MAX(1,ROUND(100/(24*3600)*VLOOKUP(B174,[1]ResourceLevelConfig!$A:$E,5,FALSE),2))","v":6.3},20,4,4,4,1810,null,null,null,1,3,170,20,1202,3,1201,1,1201,1,1201,1,1201,1,{"$f":"VLOOKUP(AN174,[4]ItemConfig!$A:$AC,29,FALSE)*AO174+AM174","v":65},{"$f":"VLOOKUP(AP174,[4]ItemConfig!$A:$AC,29,FALSE)*AQ174","v":10},{"$f":"VLOOKUP(AR174,[4]ItemConfig!$A:$AC,29,FALSE)*AS174","v":10},{"$f":"VLOOKUP(AT174,[4]ItemConfig!$A:$AC,29,FALSE)*AU174","v":10},{"$f":"VLOOKUP(AV174,[4]ItemConfig!$A:$AC,29,FALSE)*AW174","v":10},{"$f":"CONCATENATE(AX174,\" + \",SUM(AY174:BB174))","v":"65 + 40"}]
[171,171,6,18,1,"230;237;238","炼虚期","后",1,230,237,238,{"$f":"ROUND([1]ResourceLevelConfig!$E175*[1]ResourceLevelConfig!$L175*0.1,0)*10","v":8240},-1,-1,-1,-1,{"$f":"IF(I175=10,\"1001;1002;1004\",-1)","v":-1},-1,0,{"$f":"[3]主表!K173","v":4568.1013959642432},{"$f":"[3]主表!L173","v":232.52678198728444},{"$f":"[3]主表!M173","v":232.52678198728444},{"$f":"[3]主表!N173","v":0},{"$f":"[3]主表!$G173","v":64576},{"$f":"[3]升级!$H173","v":1500},{"$f":"MAX(1,ROUND(100/(24*3600)*VLOOKUP(B175,[1]ResourceLevelConfig!$A:$E,5,FALSE),2))","v":6.35},-1,4,4,4,1820,null,null,null,1,3,171]
[172,172,6,18,2,"230;237;239","炼虚期","后",2,230,237,239,{"$f":"ROUND([1]ResourceLevelConfig!$E176*[1]ResourceLevelConfig!$L176*0.1,0)*10","v":8330},-1,-1,-1,-1,-1,-1,0,{"$f":"[3]主表!K174","v":4655.5672393425366},{"$f":"[3]主表!L174","v":236.01468371709367},{"$f":"[3]主表!M174","v":236.01468371709367},{"$f":"[3]主表!N174","v":0},{"$f":"[3]主表!$G174","v":65578},{"$f":"[3]升级!$H174","v":1500},{"$f":"MAX(1,ROUND(100/(24*3600)*VLOOKUP(B176,[1]ResourceLevelConfig!$A:$E,5,FALSE),2))","v":6.42},-1,4,4,4,1830,null,null,null,1,3,172]
[173,173,6,18,3,"230;237;240","炼虚期","后",3,230,237,240,{"$f":"ROUND([1]ResourceLevelConfig!$E177*[1]ResourceLevelConfig!$L177*0.1,0)*10","v":8400},-1,-1,-1,-1,-1,-1,0,{"$f":"[3]主表!K175","v":4744.6292352080873},{"$f":"[3]主表!L175","v":239.55490397285007},{"$f":"[3]主表!M175","v":239.55490397285007},{"$f":"[3]主表!N175","v":0},{"$f":"[3]主表!$G175","v":66598},{"$f":"[3]升级!$H175","v":1500},{"$f":"MAX(1,ROUND(100/(24*3600)*VLOOKUP(B177,[1]ResourceLevelConfig!$A:$E,5,FALSE),2))","v":6.48},-1,4,4,4,1840,null,null,null,1,3,173]
[174,174,6,18,4,"230;237;241","炼虚期","后",4,230,237,241,{"$f":"ROUND([1]ResourceLevelConfig!$E178*[1]ResourceLevelConfig!$L178*0.1,0)*10","v":8490},-1,-1,-1,-1,-1,-1,0,{"$f":"[3]主表!K176","v":4835.3155883207519},{"$f":"[3]主表!L176","v":243.1482275324428},{"$f":"[3]主表!M176","v":243.1482275324428},{"$f":"[3]主表!N176","v":0},{"$f":"[3]主表!$G176","v":67635},{"$f":"[3]升级!$H176","v":1500},{"$f":"MAX(1,ROUND(100/(24*3600)*VLOOKUP(B178,[1]ResourceLevelConfig!$A:$E,5,FALSE),2))","v":6.55},-1,4,4,4,1850,null,null,null,1,3,174]
[175,175,6,18,5,"230;237;242","炼虚期","后",5,230,237,242,{"$f":"ROUND([1]ResourceLevelConfig!$E179*[1]ResourceLevelConfig!$L179*0.1,0)*10","v":8580},-1,-1,-1,-1,-1,-1,0,{"$f":"[3]主表!K177","v":4927.6549904488738},{"$f":"[3]主表!L177","v":246.79545094542939},{"$f":"[3]主表!M177","v":246.79545094542939},{"$f":"[3]主表!N177","v":0},{"$f":"[3]主表!$G177","v":68689},{"$f":"[3]升级!$H177","v":1500},{"$f":"MAX(1,ROUND(100/(24*3600)*VLOOKUP(B179,[1]ResourceLevelConfig!$A:$E,5,FALSE),2))","v":6.62},-1,4,4,4,1860,null,null,null,1,3,175]
[176,176,6,18,6,"230;237;243","炼虚期","后",6,230,237,243,{"$f":"ROUND([1]ResourceLevelConfig!$E180*[1]ResourceLevelConfig!$L180*0.1,0)*10","v":8660},-1,-1,-1,-1,-1,-1,0,{"$f":"[3]主表!K178","v":5021.6766286334696},{"$f":"[3]主表!L178","v":250.49738270961083},{"$f":"[3]主表!M178","v":250.49738270961083},{"$f":"[3]主表!N178","v":0},{"$f":"[3]主表!$G178","v":69761},{"$f":"[3]升级!$H178","v":1500},{"$f":"MAX(1,ROUND(100/(24*3600)*VLOOKUP(B180,[1]ResourceLevelConfig!$A:$E,5,FALSE),2))","v":6.68},-1,4,4,4,1870,null,null,null,1,3,176]
[177,177,6,18,7,"230;237;244","炼虚期","后",7,230,237,244,{"$f":"ROUND([1]ResourceLevelConfig!$E181*[1]ResourceLevelConfig!$L181*0.1,0)*10","v":8750},-1,-1,-1,-1,-1,-1,0,{"$f":"[3]主表!K179","v":5117.4101935907511},{"$f":"[3]主表!L179","v":254.25484345025495},{"$f":"[3]主表!M179","v":254.25484345025495},{"$f":"[3]主表!N179","v":0},{"$f":"[3]主表!$G179","v":70852},{"$f":"[3]升级!$H179","v":1500},{"$f":"MAX(1,ROUND(100/(24*3600)*VLOOKUP(B181,[1]ResourceLevelConfig!$A:$E,5,FALSE),2))","v":6.75},-1,4,4,4,1880,null,null,null,1,3,177]
[178,178,6,18,8,"230;237;245","炼虚期","后",8,230,237,245,{"$f":"ROUND([1]ResourceLevelConfig!$E182*[1]ResourceLevelConfig!$L182*0.1,0)*10","v":8840},-1,-1,-1,-1,-1,-1,0,{"$f":"[3]主表!K180","v":5214.8858882553077},{"$f":"[3]主表!L180","v":258.06866610200876},{"$f":"[3]主表!M180","v":258.06866610200876},{"$f":"[3]主表!N180","v":0},{"$f":"[3]主表!$G180","v":71961},{"$f":"[3]升级!$H180","v":1500},{"$f":"MAX(1,ROUND(100/(24*3600)*VLOOKUP(B182,[1]ResourceLevelConfig!$A:$E,5,FALSE),2))","v":6.82},-1,4,4,4,1890,null,null,null,1,3,178]
[179,179,6,18,9,"230;237;246","炼虚期","后",9,230,237,246,{"$f":"ROUND([1]ResourceLevelConfig!$E183*[1]ResourceLevelConfig!$L183*0.1,0)*10","v":8930},-1,-1,-1,-1,-1,-1,0,{"$f":"[3]主表!K181","v":5314.1344364662436},{"$f":"[3]主表!L181","v":261.93969609353888},{"$f":"[3]主表!M181","v":261.93969609353888},{"$f":"[3]主表!N181","v":0},{"$f":"[3]主表!$G181","v":73089},{"$f":"[3]升级!$H181","v":1500},{"$f":"MAX(1,ROUND(100/(24*3600)*VLOOKUP(B183,[1]ResourceLevelConfig!$A:$E,5,FALSE),2))","v":6.89},-1,4,4,4,1900,null,null,null,1,3,179]
[180,180,6,18,10,"230;237;247","炼虚期","后",10,230,237,247,{"$f":"ROUND([1]ResourceLevelConfig!$E184*[1]ResourceLevelConfig!$L184*0.1,0)*10","v":9020},100004,{"$f":"AM184","v":20},{"$f":"AN184","v":1306},{"$f":"AO184","v":1},{"$f":"_xlfn.TEXTJOIN(\";\",1,AP184,AR184,AT184,AV184)","v":"1204;1203;1202;1201"},{"$f":"_xlfn.TEXTJOIN(\";\",1,AQ184,AS184,AU184,AW184)","v":"1;1;1;1"},{"$f":"CONCATENATE(ROUND(0.8*VLOOKUP(A184,[3]主表!$A:$P,16,FALSE)*[5]HeroModelConfig!$Q$5,0),\";\",ROUND(1.2*VLOOKUP(A184,[3]主表!$A:$P,16,FALSE)*[5]HeroModelConfig!$Q$5,0))","v":"3024062;4536093"},{"$f":"[3]主表!K182","v":5415.1870917986498},{"$f":"[3]主表!L182","v":265.86879153494192},{"$f":"[3]主表!M182","v":265.86879153494192},{"$f":"[3]主表!N182","v":0},{"$f":"[3]主表!$G182","v":74236},{"$f":"[3]升级!$H182","v":1500},{"$f":"MAX(1,ROUND(100/(24*3600)*VLOOKUP(B184,[1]ResourceLevelConfig!$A:$E,5,FALSE),2))","v":6.96},50,4,4,4,1910,null,null,null,1,3,180,20,1306,1,1204,1,1203,1,1202,1,1201,1,{"$f":"VLOOKUP(AN184,[4]ItemConfig!$A:$AC,29,FALSE)*AO184+AM184","v":40},{"$f":"VLOOKUP(AP184,[4]ItemConfig!$A:$AC,29,FALSE)*AQ184","v":40},{"$f":"VLOOKUP(AR184,[4]ItemConfig!$A:$AC,29,FALSE)*AS184","v":25},{"$f":"VLOOKUP(AT184,[4]ItemConfig!$A:$AC,29,FALSE)*AU184","v":15},{"$f":"VLOOKUP(AV184,[4]ItemConfig!$A:$AC,29,FALSE)*AW184","v":10},{"$f":"CONCATENATE(AX184,\" + \",SUM(AY184:BB184))","v":"40 + 90"}]
[181,181,7,19,1,"231;235;238","大乘期","前",1,231,235,238,{"$f":"ROUND([1]ResourceLevelConfig!$E185*[1]ResourceLevelConfig!$L185*0.1,0)*10","v":9110},-1,-1,-1,-1,{"$f":"IF(I185=10,\"1001;1002;1004\",-1)","v":-1},{"$f":"IF(R185=-1,-1,\"100;200;300\")","v":-1},0,{"$f":"[3]主表!K183","v":8154.7915958760941},{"$f":"[3]主表!L183","v":398.80318730241282},{"$f":"[3]主表!M183","v":398.80318730241282},{"$f":"[3]主表!N183","v":0},{"$f":"[3]主表!$G183","v":114176},{"$f":"[3]升级!$H183","v":1600},{"$f":"MAX(1,ROUND(100/(24*3600)*VLOOKUP(B185,[1]ResourceLevelConfig!$A:$E,5,FALSE),2))","v":7.03},-1,4,4,4,1920,null,null,null,1,4,181]
[182,182,7,19,2,"231;235;239","大乘期","前",2,231,235,239,{"$f":"ROUND([1]ResourceLevelConfig!$E186*[1]ResourceLevelConfig!$L186*0.1,0)*10","v":9200},-1,-1,-1,-1,{"$f":"IF(I186=10,\"1001;1002;1004\",-1)","v":-1},{"$f":"IF(R186=-1,-1,\"100;200;300\")","v":-1},0,{"$f":"[3]主表!K184","v":8309.6045923650272},{"$f":"[3]主表!L184","v":404.78523511194902},{"$f":"[3]主表!M184","v":404.78523511194902},{"$f":"[3]主表!N184","v":0},{"$f":"[3]主表!$G184","v":116055},{"$f":"[3]升级!$H184","v":1600},{"$f":"MAX(1,ROUND(100/(24*3600)*VLOOKUP(B186,[1]ResourceLevelConfig!$A:$E,5,FALSE),2))","v":7.09},-1,4,4,4,1930,null,null,null,1,4,182]
[183,183,7,19,3,"231;235;240","大乘期","前",3,231,235,240,{"$f":"ROUND([1]ResourceLevelConfig!$E187*[1]ResourceLevelConfig!$L187*0.1,0)*10","v":9290},-1,-1,-1,-1,-1,-1,0,{"$f":"[3]主表!K185","v":8467.2271506395555},{"$f":"[3]主表!L185","v":410.85701363862819},{"$f":"[3]主表!M185","v":410.85701363862819},{"$f":"[3]主表!N185","v":0},{"$f":"[3]主表!$G185","v":117966},{"$f":"[3]升级!$H185","v":1600},{"$f":"MAX(1,ROUND(100/(24*3600)*VLOOKUP(B187,[1]ResourceLevelConfig!$A:$E,5,FALSE),2))","v":7.16},-1,4,4,4,1940,null,null,null,1,4,183]
[184,184,7,19,4,"231;235;241","大乘期","前",4,231,235,241,{"$f":"ROUND([1]ResourceLevelConfig!$E188*[1]ResourceLevelConfig!$L188*0.1,0)*10","v":9390},-1,-1,-1,-1,-1,-1,0,{"$f":"[3]主表!K186","v":8627.7087246290375},{"$f":"[3]主表!L186","v":417.01986884320758},{"$f":"[3]主表!M186","v":417.01986884320758},{"$f":"[3]主表!N186","v":0},{"$f":"[3]主表!$G186","v":119911},{"$f":"[3]升级!$H186","v":1600},{"$f":"MAX(1,ROUND(100/(24*3600)*VLOOKUP(B188,[1]ResourceLevelConfig!$A:$E,5,FALSE),2))","v":7.25},-1,4,4,4,1950,null,null,null,1,4,184]
[185,185,7,19,5,"231;235;242","大乘期","前",5,231,235,242,{"$f":"ROUND([1]ResourceLevelConfig!$E189*[1]ResourceLevelConfig!$L189*0.1,0)*10","v":9480},-1,-1,-1,-1,-1,-1,0,{"$f":"[3]主表!K187","v":8791.0996197293098},{"$f":"[3]主表!L187","v":423.27516687585563},{"$f":"[3]主表!M187","v":423.27516687585563},{"$f":"[3]主表!N187","v":0},{"$f":"[3]主表!$G187","v":121889},{"$f":"[3]升级!$H187","v":1600},{"$f":"MAX(1,ROUND(100/(24*3600)*VLOOKUP(B189,[1]ResourceLevelConfig!$A:$E,5,FALSE),2))","v":7.31},-1,4,4,4,1960,null,null,null,1,4,185]
[186,186,7,19,6,"231;235;243","大乘期","前",6,231,235,243,{"$f":"ROUND([1]ResourceLevelConfig!$E190*[1]ResourceLevelConfig!$L190*0.1,0)*10","v":9570},-1,-1,-1,-1,-1,-1,0,{"$f":"[3]主表!K188","v":8957.4510072195499},{"$f":"[3]主表!L188","v":429.62429437899345},{"$f":"[3]主表!M188","v":429.62429437899345},{"$f":"[3]主表!N188","v":0},{"$f":"[3]主表!$G188","v":123953},{"$f":"[3]升级!$H188","v":1600},{"$f":"MAX(1,ROUND(100/(24*3600)*VLOOKUP(B190,[1]ResourceLevelConfig!$A:$E,5,FALSE),2))","v":7.38},-1,4,4,4,1970,null,null,null,1,4,186]
[187,187,7,19,7,"231;235;244","大乘期","前",7,231,235,244,{"$f":"ROUND([1]ResourceLevelConfig!$E191*[1]ResourceLevelConfig!$L191*0.1,0)*10","v":9680},-1,-1,-1,-1,-1,-1,0,{"$f":"[3]主表!K189","v":9126.8149389200553},{"$f":"[3]主表!L189","v":436.06865879467824},{"$f":"[3]主表!M189","v":436.06865879467824},{"$f":"[3]主表!N189","v":0},{"$f":"[3]主表!$G189","v":126053},{"$f":"[3]升级!$H189","v":1600},{"$f":"MAX(1,ROUND(100/(24*3600)*VLOOKUP(B191,[1]ResourceLevelConfig!$A:$E,5,FALSE),2))","v":7.47},-1,4,4,4,1980,null,null,null,1,4,187]
[188,188,7,19,8,"231;235;245","大乘期","前",8,231,235,245,{"$f":"ROUND([1]ResourceLevelConfig!$E192*[1]ResourceLevelConfig!$L192*0.1,0)*10","v":9770},-1,-1,-1,-1,-1,-1,0,{"$f":"[3]主表!K190","v":9299.2443620949525},{"$f":"[3]主表!L190","v":442.60968867659835},{"$f":"[3]主表!M190","v":442.60968867659835},{"$f":"[3]主表!N190","v":0},{"$f":"[3]主表!$G190","v":128190},{"$f":"[3]升级!$H190","v":1600},{"$f":"MAX(1,ROUND(100/(24*3600)*VLOOKUP(B192,[1]ResourceLevelConfig!$A:$E,5,FALSE),2))","v":7.53},-1,4,4,4,1990,null,null,null,1,4,188]
[189,189,7,19,9,"231;235;246","大乘期","前",9,231,235,246,{"$f":"ROUND([1]ResourceLevelConfig!$E193*[1]ResourceLevelConfig!$L193*0.1,0)*10","v":9870},-1,-1,-1,-1,-1,-1,0,{"$f":"[3]主表!K191","v":9474.7931346038422},{"$f":"[3]主表!L191","v":449.24883400674736},{"$f":"[3]主表!M191","v":449.24883400674736},{"$f":"[3]主表!N191","v":0},{"$f":"[3]主表!$G191","v":130365},{"$f":"[3]升级!$H191","v":1600},{"$f":"MAX(1,ROUND(100/(24*3600)*VLOOKUP(B193,[1]ResourceLevelConfig!$A:$E,5,FALSE),2))","v":7.62},-1,4,4,4,2000,null,null,null,1,4,189]
[190,190,7,19,10,"231;235;247","大乘期","前",10,231,235,247,{"$f":"ROUND([1]ResourceLevelConfig!$E194*[1]ResourceLevelConfig!$L194*0.1,0)*10","v":9960},100004,{"$f":"AM194","v":15},{"$f":"AN194","v":1202},{"$f":"AO194","v":3},{"$f":"_xlfn.TEXTJOIN(\";\",1,AP194,AR194,AT194,AV194)","v":"1201;1201;1201;1201"},{"$f":"_xlfn.TEXTJOIN(\";\",1,AQ194,AS194,AU194,AW194)","v":"1;1;1;1"},0,{"$f":"[3]主表!K192","v":9653.5160403065256},{"$f":"[3]主表!L192","v":455.98756651684852},{"$f":"[3]主表!M192","v":455.98756651684852},{"$f":"[3]主表!N192","v":0},{"$f":"[3]主表!$G192","v":132578},{"$f":"[3]升级!$H192","v":1600},{"$f":"MAX(1,ROUND(100/(24*3600)*VLOOKUP(B194,[1]ResourceLevelConfig!$A:$E,5,FALSE),2))","v":7.69},20,4,4,4,2018,null,null,null,1,4,190,15,1202,3,1201,1,1201,1,1201,1,1201,1,{"$f":"VLOOKUP(AN194,[4]ItemConfig!$A:$AC,29,FALSE)*AO194+AM194","v":60},{"$f":"VLOOKUP(AP194,[4]ItemConfig!$A:$AC,29,FALSE)*AQ194","v":10},{"$f":"VLOOKUP(AR194,[4]ItemConfig!$A:$AC,29,FALSE)*AS194","v":10},{"$f":"VLOOKUP(AT194,[4]ItemConfig!$A:$AC,29,FALSE)*AU194","v":10},{"$f":"VLOOKUP(AV194,[4]ItemConfig!$A:$AC,29,FALSE)*AW194","v":10},{"$f":"CONCATENATE(AX194,\" + \",SUM(AY194:BB194))","v":"60 + 40"}]
[191,191,7,20,1,"231;236;238","大乘期","中",1,231,236,238,{"$f":"ROUND([1]ResourceLevelConfig!$E195*[1]ResourceLevelConfig!$L195*0.1,0)*10","v":10070},-1,-1,-1,-1,{"$f":"IF(I195=10,\"1001;1002;1004\",-1)","v":-1},-1,0,{"$f":"[3]主表!K193","v":10659.128753889168},{"$f":"[3]主表!L193","v":501.5863231685334},{"$f":"[3]主表!M193","v":501.5863231685334},{"$f":"[3]主表!N193","v":0},{"$f":"[3]主表!$G193","v":149570},{"$f":"[3]升级!$H193","v":1600},{"$f":"MAX(1,ROUND(100/(24*3600)*VLOOKUP(B195,[1]ResourceLevelConfig!$A:$E,5,FALSE),2))","v":7.77},-1,{"$f":"AC194","v":4},{"$f":"AD194","v":4},{"$f":"AE194","v":4},2065,null,null,null,1,4,191]
[192,192,7,20,2,"231;236;239","大乘期","中",2,231,236,239,{"$f":"ROUND([1]ResourceLevelConfig!$E196*[1]ResourceLevelConfig!$L196*0.1,0)*10","v":10170},-1,-1,-1,-1,-1,-1,0,{"$f":"[3]主表!K194","v":10859.880711392774},{"$f":"[3]主表!L194","v":509.11011801606139},{"$f":"[3]主表!M194","v":509.11011801606139},{"$f":"[3]主表!N194","v":0},{"$f":"[3]主表!$G194","v":152068},{"$f":"[3]升级!$H194","v":1600},{"$f":"MAX(1,ROUND(100/(24*3600)*VLOOKUP(B196,[1]ResourceLevelConfig!$A:$E,5,FALSE),2))","v":7.85},-1,4,4,4,2113,null,null,null,1,4,192]
[193,193,7,20,3,"231;236;240","大乘期","中",3,231,236,240,{"$f":"ROUND([1]ResourceLevelConfig!$E197*[1]ResourceLevelConfig!$L197*0.1,0)*10","v":10280},-1,-1,-1,-1,-1,-1,0,{"$f":"[3]主表!K195","v":11064.256923651863},{"$f":"[3]主表!L195","v":516.74676978630225},{"$f":"[3]主表!M195","v":516.74676978630225},{"$f":"[3]主表!N195","v":0},{"$f":"[3]主表!$G195","v":154610},{"$f":"[3]升级!$H195","v":1600},{"$f":"MAX(1,ROUND(100/(24*3600)*VLOOKUP(B197,[1]ResourceLevelConfig!$A:$E,5,FALSE),2))","v":7.93},-1,4,4,4,2163,null,null,null,1,4,193]
[194,194,7,20,{"$f":"I198","v":4},{"$f":"_xlfn.TEXTJOIN(\";\",1,J198:L198)","v":"231;236;241"},"大乘期","中",4,231,236,241,{"$f":"ROUND([1]ResourceLevelConfig!$E198*[1]ResourceLevelConfig!$L198*0.1,0)*10","v":10380},{"$f":"IF(I198=10,100004,-1)","v":-1},{"$f":"IF(N198=-1,-1,20)","v":-1},-1,-1,-1,-1,0,{"$f":"[3]主表!K196","v":11272.320949118661},{"$f":"[3]主表!L196","v":524.49797133309676},{"$f":"[3]主表!M196","v":524.49797133309676},{"$f":"[3]主表!N196","v":0},{"$f":"[3]主表!$G196","v":157196},{"$f":"[3]升级!$H196","v":1600},{"$f":"MAX(1,ROUND(100/(24*3600)*VLOOKUP(B198,[1]ResourceLevelConfig!$A:$E,5,FALSE),2))","v":8.01},-1,4,4,4,{"$f":"MAX(AF197+10,ROUND(10^(B198*0.01+1.405),0))","v":2213},null,null,null,1,4,194]
[195,195,7,20,5,"231;236;242","大乘期","中",5,231,236,242,{"$f":"ROUND([1]ResourceLevelConfig!$E199*[1]ResourceLevelConfig!$L199*0.1,0)*10","v":10470},-1,-1,-1,-1,-1,-1,0,{"$f":"[3]主表!K197","v":11484.137437541642},{"$f":"[3]主表!L197","v":532.36544090309314},{"$f":"[3]主表!M197","v":532.36544090309314},{"$f":"[3]主表!N197","v":0},{"$f":"[3]主表!$G197","v":159828},{"$f":"[3]升级!$H197","v":1600},{"$f":"MAX(1,ROUND(100/(24*3600)*VLOOKUP(B199,[1]ResourceLevelConfig!$A:$E,5,FALSE),2))","v":8.08},-1,4,4,4,2265,null,null,null,1,4,195]
[196,196,7,20,6,"231;236;243","大乘期","中",6,231,236,243,{"$f":"ROUND([1]ResourceLevelConfig!$E200*[1]ResourceLevelConfig!$L200*0.1,0)*10","v":10590},-1,-1,-1,-1,-1,-1,0,{"$f":"[3]主表!K198","v":11699.772148403759},{"$f":"[3]主表!L198","v":540.35092251663946},{"$f":"[3]主表!M198","v":540.35092251663946},{"$f":"[3]主表!N198","v":0},{"$f":"[3]主表!$G198","v":162506},{"$f":"[3]升级!$H198","v":1600},{"$f":"MAX(1,ROUND(100/(24*3600)*VLOOKUP(B200,[1]ResourceLevelConfig!$A:$E,5,FALSE),2))","v":8.17},-1,4,4,4,2317,null,null,null,1,4,196]
[197,197,7,20,7,"231;236;244","大乘期","中",7,231,236,244,{"$f":"ROUND([1]ResourceLevelConfig!$E201*[1]ResourceLevelConfig!$L201*0.1,0)*10","v":10700},-1,-1,-1,-1,-1,-1,0,{"$f":"[3]主表!K199","v":11919.291969668295},{"$f":"[3]主表!L199","v":548.45618635438905},{"$f":"[3]主表!M199","v":548.45618635438905},{"$f":"[3]主表!N199","v":0},{"$f":"[3]主表!$G199","v":165231},{"$f":"[3]升级!$H199","v":1600},{"$f":"MAX(1,ROUND(100/(24*3600)*VLOOKUP(B201,[1]ResourceLevelConfig!$A:$E,5,FALSE),2))","v":8.25},-1,4,4,4,2371,null,null,null,1,4,197]
[198,198,7,20,8,"231;236;245","大乘期","中",8,231,236,245,{"$f":"ROUND([1]ResourceLevelConfig!$E202*[1]ResourceLevelConfig!$L202*0.1,0)*10","v":10800},-1,-1,-1,-1,-1,-1,0,{"$f":"[3]主表!K200","v":12142.764936837375},{"$f":"[3]主表!L200","v":556.68302914970479},{"$f":"[3]主表!M200","v":556.68302914970479},{"$f":"[3]主表!N200","v":0},{"$f":"[3]主表!$G200","v":168004},{"$f":"[3]升级!$H200","v":1600},{"$f":"MAX(1,ROUND(100/(24*3600)*VLOOKUP(B202,[1]ResourceLevelConfig!$A:$E,5,FALSE),2))","v":8.33},-1,4,4,4,2427,null,null,null,1,4,198]
[199,199,7,20,9,"231;236;246","大乘期","中",9,231,236,246,{"$f":"ROUND([1]ResourceLevelConfig!$E203*[1]ResourceLevelConfig!$L203*0.1,0)*10","v":10910},-1,-1,-1,-1,-1,-1,0,{"$f":"[3]主表!K201","v":12370.260252328349},{"$f":"[3]主表!L201","v":565.03327458695026},{"$f":"[3]主表!M201","v":565.03327458695026},{"$f":"[3]主表!N201","v":0},{"$f":"[3]主表!$G201","v":170826},{"$f":"[3]升级!$H201","v":1600},{"$f":"MAX(1,ROUND(100/(24*3600)*VLOOKUP(B203,[1]ResourceLevelConfig!$A:$E,5,FALSE),2))","v":8.41},-1,4,4,4,2483,null,null,null,1,4,199]
[200,200,7,20,10,"231;236;247","大乘期","中",10,231,236,247,{"$f":"ROUND([1]ResourceLevelConfig!$E204*[1]ResourceLevelConfig!$L204*0.1,0)*10","v":11010},100004,{"$f":"AM204","v":15},{"$f":"AN204","v":1202},{"$f":"AO204","v":3},{"$f":"_xlfn.TEXTJOIN(\";\",1,AP204,AR204,AT204,AV204)","v":"1201;1201;1201;1201"},{"$f":"_xlfn.TEXTJOIN(\";\",1,AQ204,AS204,AU204,AW204)","v":"1;1;1;1"},0,{"$f":"[3]主表!K202","v":12601.848305173266},{"$f":"[3]主表!L202","v":573.50877370575449},{"$f":"[3]主表!M202","v":573.50877370575449},{"$f":"[3]主表!N202","v":0},{"$f":"[3]主表!$G202","v":173697},{"$f":"[3]升级!$H202","v":1600},{"$f":"MAX(1,ROUND(100/(24*3600)*VLOOKUP(B204,[1]ResourceLevelConfig!$A:$E,5,FALSE),2))","v":8.5},20,4,4,4,2541,null,null,null,1,4,200,15,1202,3,1201,1,1201,1,1201,1,1201,1,{"$f":"VLOOKUP(AN204,[4]ItemConfig!$A:$AC,29,FALSE)*AO204+AM204","v":60},{"$f":"VLOOKUP(AP204,[4]ItemConfig!$A:$AC,29,FALSE)*AQ204","v":10},{"$f":"VLOOKUP(AR204,[4]ItemConfig!$A:$AC,29,FALSE)*AS204","v":10},{"$f":"VLOOKUP(AT204,[4]ItemConfig!$A:$AC,29,FALSE)*AU204","v":10},{"$f":"VLOOKUP(AV204,[4]ItemConfig!$A:$AC,29,FALSE)*AW204","v":10},{"$f":"CONCATENATE(AX204,\" + \",SUM(AY204:BB204))","v":"60 + 40"}]
[201,201,7,21,1,"231;237;238","大乘期","后",1,231,237,238,{"$f":"ROUND([1]ResourceLevelConfig!$E205*[1]ResourceLevelConfig!$L205*0.1,0)*10","v":11130},-1,-1,-1,-1,{"$f":"IF(I205=10,\"1001;1002;1004\",-1)","v":-1},-1,0,{"$f":"[3]主表!K203","v":13912.670699656588},{"$f":"[3]主表!L203","v":630.85965107633001},{"$f":"[3]主表!M203","v":630.85965107633001},{"$f":"[3]主表!N203","v":0},{"$f":"[3]主表!$G203","v":195926},{"$f":"[3]升级!$H203","v":1600},{"$f":"MAX(1,ROUND(100/(24*3600)*VLOOKUP(B205,[1]ResourceLevelConfig!$A:$E,5,FALSE),2))","v":8.59},-1,4,4,4,2600,null,null,null,1,4,201]
[202,202,7,21,2,"231;237;239","大乘期","后",2,231,237,239,{"$f":"ROUND([1]ResourceLevelConfig!$E206*[1]ResourceLevelConfig!$L206*0.1,0)*10","v":11240},-1,-1,-1,-1,-1,-1,0,{"$f":"[3]主表!K204","v":14172.757887576918},{"$f":"[3]主表!L204","v":640.32254584247482},{"$f":"[3]主表!M204","v":640.32254584247482},{"$f":"[3]主表!N204","v":0},{"$f":"[3]主表!$G204","v":199165},{"$f":"[3]升级!$H204","v":1600},{"$f":"MAX(1,ROUND(100/(24*3600)*VLOOKUP(B206,[1]ResourceLevelConfig!$A:$E,5,FALSE),2))","v":8.67},-1,4,4,4,2661,null,null,null,1,4,202]
[203,203,7,21,3,"231;237;240","大乘期","后",3,231,237,240,{"$f":"ROUND([1]ResourceLevelConfig!$E207*[1]ResourceLevelConfig!$L207*0.1,0)*10","v":11360},-1,-1,-1,-1,-1,-1,0,{"$f":"[3]主表!K205","v":14437.517340227438},{"$f":"[3]主表!L205","v":649.92738403011197},{"$f":"[3]主表!M205","v":649.92738403011197},{"$f":"[3]主表!N205","v":0},{"$f":"[3]主表!$G205","v":202462},{"$f":"[3]升级!$H205","v":1600},{"$f":"MAX(1,ROUND(100/(24*3600)*VLOOKUP(B207,[1]ResourceLevelConfig!$A:$E,5,FALSE),2))","v":8.76},-1,4,4,4,2723,null,null,null,1,4,203]
[204,204,7,21,4,"231;237;241","大乘期","后",4,231,237,241,{"$f":"ROUND([1]ResourceLevelConfig!$E208*[1]ResourceLevelConfig!$L208*0.1,0)*10","v":11460},-1,-1,-1,-1,-1,-1,0,{"$f":"[3]主表!K206","v":14707.030705932766},{"$f":"[3]主表!L206","v":659.67629479056359},{"$f":"[3]主表!M206","v":659.67629479056359},{"$f":"[3]主表!N206","v":0},{"$f":"[3]主表!$G206","v":205815},{"$f":"[3]升级!$H206","v":1600},{"$f":"MAX(1,ROUND(100/(24*3600)*VLOOKUP(B208,[1]ResourceLevelConfig!$A:$E,5,FALSE),2))","v":8.84},-1,4,4,4,2786,null,null,null,1,4,204]
[205,205,7,21,5,"231;237;242","大乘期","后",5,231,237,242,{"$f":"ROUND([1]ResourceLevelConfig!$E209*[1]ResourceLevelConfig!$L209*0.1,0)*10","v":11580},-1,-1,-1,-1,-1,-1,0,{"$f":"[3]主表!K207","v":14981.381031207702},{"$f":"[3]主表!L207","v":669.57143921242198},{"$f":"[3]主表!M207","v":669.57143921242198},{"$f":"[3]主表!N207","v":0},{"$f":"[3]主表!$G207","v":209227},{"$f":"[3]升级!$H207","v":1600},{"$f":"MAX(1,ROUND(100/(24*3600)*VLOOKUP(B209,[1]ResourceLevelConfig!$A:$E,5,FALSE),2))","v":8.94},-1,4,4,4,2851,null,null,null,1,4,205]
[206,206,7,21,6,"231;237;243","大乘期","后",6,231,237,243,{"$f":"ROUND([1]ResourceLevelConfig!$E210*[1]ResourceLevelConfig!$L210*0.1,0)*10","v":11700},-1,-1,-1,-1,-1,-1,0,{"$f":"[3]主表!K208","v":15260.652784332051},{"$f":"[3]主表!L208","v":679.61501080060827},{"$f":"[3]主表!M208","v":679.61501080060827},{"$f":"[3]主表!N208","v":0},{"$f":"[3]主表!$G208","v":212699},{"$f":"[3]升级!$H208","v":1600},{"$f":"MAX(1,ROUND(100/(24*3600)*VLOOKUP(B210,[1]ResourceLevelConfig!$A:$E,5,FALSE),2))","v":9.0299999999999994},-1,4,4,4,2917,null,null,null,1,4,206]
[207,207,7,21,7,"231;237;244","大乘期","后",7,231,237,244,{"$f":"ROUND([1]ResourceLevelConfig!$E211*[1]ResourceLevelConfig!$L211*0.1,0)*10","v":11820},-1,-1,-1,-1,-1,-1,0,{"$f":"[3]主表!K209","v":15544.931879318116},{"$f":"[3]主表!L209","v":689.80923596261744},{"$f":"[3]主表!M209","v":689.80923596261744},{"$f":"[3]主表!N209","v":0},{"$f":"[3]主表!$G209","v":216232},{"$f":"[3]升级!$H209","v":1600},{"$f":"MAX(1,ROUND(100/(24*3600)*VLOOKUP(B211,[1]ResourceLevelConfig!$A:$E,5,FALSE),2))","v":9.1199999999999992},-1,4,4,4,2985,null,null,null,1,4,207]
[208,208,7,21,8,"231;237;245","大乘期","后",8,231,237,245,{"$f":"ROUND([1]ResourceLevelConfig!$E212*[1]ResourceLevelConfig!$L212*0.1,0)*10","v":11940},-1,-1,-1,-1,-1,-1,0,{"$f":"[3]主表!K210","v":15834.305700277278},{"$f":"[3]主表!L210","v":700.15637450205656},{"$f":"[3]主表!M210","v":700.15637450205656},{"$f":"[3]主表!N210","v":0},{"$f":"[3]主表!$G210","v":219826},{"$f":"[3]升级!$H210","v":1600},{"$f":"MAX(1,ROUND(100/(24*3600)*VLOOKUP(B212,[1]ResourceLevelConfig!$A:$E,5,FALSE),2))","v":9.2100000000000009},-1,4,4,4,3055,null,null,null,1,4,208]
[209,209,7,21,9,"231;237;246","大乘期","后",9,231,237,246,{"$f":"ROUND([1]ResourceLevelConfig!$E213*[1]ResourceLevelConfig!$L213*0.1,0)*10","v":12060},-1,-1,-1,-1,-1,-1,0,{"$f":"[3]主表!K211","v":16128.863126192375},{"$f":"[3]主表!L211","v":710.65872011958743},{"$f":"[3]主表!M211","v":710.65872011958743},{"$f":"[3]主表!N211","v":0},{"$f":"[3]主表!$G211","v":223483},{"$f":"[3]升级!$H211","v":1600},{"$f":"MAX(1,ROUND(100/(24*3600)*VLOOKUP(B213,[1]ResourceLevelConfig!$A:$E,5,FALSE),2))","v":9.31},-1,4,4,4,3126,null,null,null,1,4,209]
[210,210,7,21,10,"231;237;247","大乘期","后",10,231,237,247,{"$f":"ROUND([1]ResourceLevelConfig!$E214*[1]ResourceLevelConfig!$L214*0.1,0)*10","v":12180},100004,{"$f":"AM214","v":15},{"$f":"AN214","v":1307},{"$f":"AO214","v":1},{"$f":"_xlfn.TEXTJOIN(\";\",1,AP214,AR214,AT214,AV214)","v":"1204;1203;1202;1201"},{"$f":"_xlfn.TEXTJOIN(\";\",1,AQ214,AS214,AU214,AW214)","v":"1;1;1;1"},{"$f":"CONCATENATE(ROUND(0.8*VLOOKUP(A214,[3]主表!$A:$P,16,FALSE)*[5]HeroModelConfig!$Q$5,0),\";\",ROUND(1.2*VLOOKUP(A214,[3]主表!$A:$P,16,FALSE)*[5]HeroModelConfig!$Q$5,0))","v":"10349560;15524340"},{"$f":"[3]主表!K212","v":16428.69455610236},{"$f":"[3]主表!L212","v":721.31860092138118},{"$f":"[3]主表!M212","v":721.31860092138118},{"$f":"[3]主表!N212","v":0},{"$f":"[3]主表!$G212","v":227204},{"$f":"[3]升级!$H212","v":1600},{"$f":"MAX(1,ROUND(100/(24*3600)*VLOOKUP(B214,[1]ResourceLevelConfig!$A:$E,5,FALSE),2))","v":9.4},50,4,4,4,3199,null,null,null,1,4,210,15,1307,1,1204,1,1203,1,1202,1,1201,1,{"$f":"VLOOKUP(AN214,[4]ItemConfig!$A:$AC,29,FALSE)*AO214+AM214","v":30},{"$f":"VLOOKUP(AP214,[4]ItemConfig!$A:$AC,29,FALSE)*AQ214","v":40},{"$f":"VLOOKUP(AR214,[4]ItemConfig!$A:$AC,29,FALSE)*AS214","v":25},{"$f":"VLOOKUP(AT214,[4]ItemConfig!$A:$AC,29,FALSE)*AU214","v":15},{"$f":"VLOOKUP(AV214,[4]ItemConfig!$A:$AC,29,FALSE)*AW214","v":10},{"$f":"CONCATENATE(AX214,\" + \",SUM(AY214:BB214))","v":"30 + 90"}]
[211,211,7,19,1,"232;235;238","飞升期","前",1,232,235,238,{"$f":"ROUND([1]ResourceLevelConfig!$E215*[1]ResourceLevelConfig!$L215*0.1,0)*10","v":12300},-1,-1,-1,-1,{"$f":"IF(I215=10,\"1001;1002;1004\",-1)","v":-1},{"$f":"IF(R215=-1,-1,\"100;200;300\")","v":-1},0,{"$f":"[3]主表!K213","v":24729.889558679191},{"$f":"[3]主表!L213","v":1081.9779013820717},{"$f":"[3]主表!M213","v":1081.9779013820717},{"$f":"[3]主表!N213","v":0},{"$f":"[3]主表!$G213","v":349420},{"$f":"[3]升级!$H213","v":1700},{"$f":"MAX(1,ROUND(100/(24*3600)*VLOOKUP(B215,[1]ResourceLevelConfig!$A:$E,5,FALSE),2))","v":9.49},-1,4,4,4,3273,null,null,null,1,4,211]
[212,212,7,19,2,"232;235;239","飞升期","前",2,232,235,239,{"$f":"ROUND([1]ResourceLevelConfig!$E216*[1]ResourceLevelConfig!$L216*0.1,0)*10","v":12420},-1,-1,-1,-1,{"$f":"IF(I216=10,\"1001;1002;1004\",-1)","v":-1},{"$f":"IF(R216=-1,-1,\"100;200;300\")","v":-1},0,{"$f":"[3]主表!K214","v":25188.988342452907},{"$f":"[3]主表!L214","v":1098.2075699028026},{"$f":"[3]主表!M214","v":1098.2075699028026},{"$f":"[3]主表!N214","v":0},{"$f":"[3]主表!$G214","v":355144},{"$f":"[3]升级!$H214","v":1700},{"$f":"MAX(1,ROUND(100/(24*3600)*VLOOKUP(B216,[1]ResourceLevelConfig!$A:$E,5,FALSE),2))","v":9.58},-1,4,4,4,3350,null,null,null,1,4,212]
[213,213,7,19,3,"232;235;240","飞升期","前",3,232,235,240,{"$f":"ROUND([1]ResourceLevelConfig!$E217*[1]ResourceLevelConfig!$L217*0.1,0)*10","v":12560},-1,-1,-1,-1,-1,-1,0,{"$f":"[3]主表!K215","v":25656.295864589138},{"$f":"[3]主表!L215","v":1114.6806834513445},{"$f":"[3]主表!M215","v":1114.6806834513445},{"$f":"[3]主表!N215","v":0},{"$f":"[3]主表!$G215","v":360967},{"$f":"[3]升级!$H215","v":1700},{"$f":"MAX(1,ROUND(100/(24*3600)*VLOOKUP(B217,[1]ResourceLevelConfig!$A:$E,5,FALSE),2))","v":9.69},-1,4,4,4,3428,null,null,null,1,4,213]
[214,214,7,19,4,"232;235;241","飞升期","前",4,232,235,241,{"$f":"ROUND([1]ResourceLevelConfig!$E218*[1]ResourceLevelConfig!$L218*0.1,0)*10","v":12680},-1,-1,-1,-1,-1,-1,0,{"$f":"[3]主表!K216","v":26131.955090012409},{"$f":"[3]主表!L216","v":1131.4008937031147},{"$f":"[3]主表!M216","v":1131.4008937031147},{"$f":"[3]主表!N216","v":0},{"$f":"[3]主表!$G216","v":366891},{"$f":"[3]升级!$H216","v":1700},{"$f":"MAX(1,ROUND(100/(24*3600)*VLOOKUP(B218,[1]ResourceLevelConfig!$A:$E,5,FALSE),2))","v":9.7799999999999994},-1,4,4,4,3508,null,null,null,1,4,214]
[215,215,7,19,5,"232;235;242","飞升期","前",5,232,235,242,{"$f":"ROUND([1]ResourceLevelConfig!$E219*[1]ResourceLevelConfig!$L219*0.1,0)*10","v":12800},-1,-1,-1,-1,-1,-1,0,{"$f":"[3]主表!K217","v":26616.111425628835},{"$f":"[3]主表!L217","v":1148.3719071086612},{"$f":"[3]主表!M217","v":1148.3719071086612},{"$f":"[3]主表!N217","v":0},{"$f":"[3]主表!$G217","v":372918},{"$f":"[3]升级!$H217","v":1700},{"$f":"MAX(1,ROUND(100/(24*3600)*VLOOKUP(B219,[1]ResourceLevelConfig!$A:$E,5,FALSE),2))","v":9.8699999999999992},-1,4,4,4,3589,null,null,null,1,4,215]
[216,216,7,19,6,"232;235;243","飞升期","前",6,232,235,243,{"$f":"ROUND([1]ResourceLevelConfig!$E220*[1]ResourceLevelConfig!$L220*0.1,0)*10","v":12930},-1,-1,-1,-1,-1,-1,0,{"$f":"[3]主表!K218","v":27108.912761418505},{"$f":"[3]主表!L218","v":1165.597485715291},{"$f":"[3]主表!M218","v":1165.597485715291},{"$f":"[3]主表!N218","v":0},{"$f":"[3]主表!$G218","v":379050},{"$f":"[3]升级!$H218","v":1700},{"$f":"MAX(1,ROUND(100/(24*3600)*VLOOKUP(B220,[1]ResourceLevelConfig!$A:$E,5,FALSE),2))","v":9.98},-1,4,4,4,3673,null,null,null,1,4,216]
[217,217,7,19,7,"232;235;244","飞升期","前",7,232,235,244,{"$f":"ROUND([1]ResourceLevelConfig!$E221*[1]ResourceLevelConfig!$L221*0.1,0)*10","v":13070},-1,-1,-1,-1,-1,-1,0,{"$f":"[3]主表!K219","v":27610.509512211098},{"$f":"[3]主表!L219","v":1183.0814480010201},{"$f":"[3]主表!M219","v":1183.0814480010201},{"$f":"[3]主表!N219","v":0},{"$f":"[3]主表!$G219","v":385289},{"$f":"[3]升级!$H219","v":1700},{"$f":"MAX(1,ROUND(100/(24*3600)*VLOOKUP(B221,[1]ResourceLevelConfig!$A:$E,5,FALSE),2))","v":10.08},-1,4,4,4,3758,null,null,null,1,4,217]
[218,218,7,19,8,"232;235;245","飞升期","前",8,232,235,245,{"$f":"ROUND([1]ResourceLevelConfig!$E222*[1]ResourceLevelConfig!$L222*0.1,0)*10","v":13190},-1,-1,-1,-1,-1,-1,0,{"$f":"[3]主表!K220","v":28121.054660156151},{"$f":"[3]主表!L220","v":1200.8276697210354},{"$f":"[3]主表!M220","v":1200.8276697210354},{"$f":"[3]主表!N220","v":0},{"$f":"[3]主表!$G220","v":391636},{"$f":"[3]升级!$H220","v":1700},{"$f":"MAX(1,ROUND(100/(24*3600)*VLOOKUP(B222,[1]ResourceLevelConfig!$A:$E,5,FALSE),2))","v":10.17},-1,4,4,4,3846,null,null,null,1,4,218]
[219,219,7,19,9,"232;235;246","飞升期","前",9,232,235,246,{"$f":"ROUND([1]ResourceLevelConfig!$E223*[1]ResourceLevelConfig!$L223*0.1,0)*10","v":13320},-1,-1,-1,-1,-1,-1,0,{"$f":"[3]主表!K221","v":28640.70379789931},{"$f":"[3]主表!L221","v":1218.8400847668509},{"$f":"[3]主表!M221","v":1218.8400847668509},{"$f":"[3]主表!N221","v":0},{"$f":"[3]主表!$G221","v":398094},{"$f":"[3]升级!$H221","v":1700},{"$f":"MAX(1,ROUND(100/(24*3600)*VLOOKUP(B223,[1]ResourceLevelConfig!$A:$E,5,FALSE),2))","v":10.28},-1,4,4,4,3936,null,null,null,1,4,219]
[220,220,7,19,10,"232;235;247","飞升期","前",10,232,235,247,{"$f":"ROUND([1]ResourceLevelConfig!$E224*[1]ResourceLevelConfig!$L224*0.1,0)*10","v":13460},100004,{"$f":"AM224","v":10},{"$f":"AN224","v":1202},{"$f":"AO224","v":3},{"$f":"_xlfn.TEXTJOIN(\";\",1,AP224,AR224,AT224,AV224)","v":"1202;1201;1201;1201"},{"$f":"_xlfn.TEXTJOIN(\";\",1,AQ224,AS224,AU224,AW224)","v":"1;1;1;1"},0,{"$f":"[3]主表!K222","v":29169.615172476224},{"$f":"[3]主表!L222","v":1237.1226860383533},{"$f":"[3]主表!M222","v":1237.1226860383533},{"$f":"[3]主表!N222","v":0},{"$f":"[3]主表!$G222","v":404664},{"$f":"[3]升级!$H222","v":1700},{"$f":"MAX(1,ROUND(100/(24*3600)*VLOOKUP(B224,[1]ResourceLevelConfig!$A:$E,5,FALSE),2))","v":10.38},20,4,4,4,4027,null,null,null,1,4,220,10,1202,3,1202,1,1201,1,1201,1,1201,1,{"$f":"VLOOKUP(AN224,[4]ItemConfig!$A:$AC,29,FALSE)*AO224+AM224","v":55},{"$f":"VLOOKUP(AP224,[4]ItemConfig!$A:$AC,29,FALSE)*AQ224","v":15},{"$f":"VLOOKUP(AR224,[4]ItemConfig!$A:$AC,29,FALSE)*AS224","v":10},{"$f":"VLOOKUP(AT224,[4]ItemConfig!$A:$AC,29,FALSE)*AU224","v":10},{"$f":"VLOOKUP(AV224,[4]ItemConfig!$A:$AC,29,FALSE)*AW224","v":10},{"$f":"CONCATENATE(AX224,\" + \",SUM(AY224:BB224))","v":"55 + 45"}]
[221,221,7,20,1,"232;236;238","飞升期","中",1,232,236,238,{"$f":"ROUND([1]ResourceLevelConfig!$E225*[1]ResourceLevelConfig!$L225*0.1,0)*10","v":13590},-1,-1,-1,-1,{"$f":"IF(I225=10,\"1001;1002;1004\",-1)","v":-1},{"$f":"IF(R225=-1,-1,\"100;200;300\")","v":-1},0,{"$f":"[3]主表!K223","v":32195.807589093125},{"$f":"[3]主表!L223","v":1360.8349546421889},{"$f":"[3]主表!M223","v":1360.8349546421889},{"$f":"[3]主表!N223","v":0},{"$f":"[3]主表!$G223","v":456317},{"$f":"[3]升级!$H223","v":1700},{"$f":"MAX(1,ROUND(100/(24*3600)*VLOOKUP(B225,[1]ResourceLevelConfig!$A:$E,5,FALSE),2))","v":10.49},-1,4,4,4,4121,null,null,null,1,4,221]
[222,222,7,20,2,"232;236;239","飞升期","中",2,232,236,239,{"$f":"ROUND([1]ResourceLevelConfig!$E226*[1]ResourceLevelConfig!$L226*0.1,0)*10","v":13730},-1,-1,-1,-1,-1,-1,0,{"$f":"[3]主表!K224","v":32789.614065789334},{"$f":"[3]主表!L224","v":1381.2474789618218},{"$f":"[3]主表!M224","v":1381.2474789618218},{"$f":"[3]主表!N224","v":0},{"$f":"[3]主表!$G224","v":463727},{"$f":"[3]升级!$H224","v":1700},{"$f":"MAX(1,ROUND(100/(24*3600)*VLOOKUP(B226,[1]ResourceLevelConfig!$A:$E,5,FALSE),2))","v":10.59},-1,4,4,4,4217,null,null,null,1,4,222]
[223,223,7,20,3,"232;236;240","飞升期","中",3,232,236,240,{"$f":"ROUND([1]ResourceLevelConfig!$E227*[1]ResourceLevelConfig!$L227*0.1,0)*10","v":13880},-1,-1,-1,-1,-1,-1,{"$f":"IF(G227=G228,0,CONCATENATE(\"1;1\"))","v":0},{"$f":"[3]主表!K225","v":33393.990680078881},{"$f":"[3]主表!L225","v":1401.966191146249},{"$f":"[3]主表!M225","v":1401.966191146249},{"$f":"[3]主表!N225","v":0},{"$f":"[3]主表!$G225","v":471264},{"$f":"[3]升级!$H225","v":1700},{"$f":"MAX(1,ROUND(100/(24*3600)*VLOOKUP(B227,[1]ResourceLevelConfig!$A:$E,5,FALSE),2))","v":10.71},-1,4,4,4,4315,null,null,null,1,4,223]
[224,224,7,20,{"$f":"I228","v":4},"232;236;241","飞升期","中",4,232,236,241,{"$f":"ROUND([1]ResourceLevelConfig!$E228*[1]ResourceLevelConfig!$L228*0.1,0)*10","v":14010},-1,{"$f":"IF(N228=-1,-1,20)","v":-1},-1,-1,-1,-1,0,{"$f":"[3]主表!K226","v":34009.1209296323},{"$f":"[3]主表!L226","v":1422.9956840134423},{"$f":"[3]主表!M226","v":1422.9956840134423},{"$f":"[3]主表!N226","v":0},{"$f":"[3]主表!$G226","v":478932},{"$f":"[3]升级!$H226","v":1700},{"$f":"MAX(1,ROUND(100/(24*3600)*VLOOKUP(B228,[1]ResourceLevelConfig!$A:$E,5,FALSE),2))","v":10.81},-1,4,4,4,4416,null,null,null,1,4,224]
[225,225,7,20,5,"232;236;242","飞升期","中",5,232,236,242,{"$f":"ROUND([1]ResourceLevelConfig!$E229*[1]ResourceLevelConfig!$L229*0.1,0)*10","v":14150},-1,-1,-1,-1,-1,-1,0,{"$f":"[3]主表!K227","v":34635.19143876931},{"$f":"[3]主表!L227","v":1444.3406192736438},{"$f":"[3]主表!M227","v":1444.3406192736438},{"$f":"[3]主表!N227","v":0},{"$f":"[3]主表!$G227","v":486733},{"$f":"[3]升级!$H227","v":1700},{"$f":"MAX(1,ROUND(100/(24*3600)*VLOOKUP(B229,[1]ResourceLevelConfig!$A:$E,5,FALSE),2))","v":10.91},-1,4,4,4,4519,null,null,null,1,4,225]
[226,226,7,20,6,"232;236;243","飞升期","中",6,232,236,243,{"$f":"ROUND([1]ResourceLevelConfig!$E230*[1]ResourceLevelConfig!$L230*0.1,0)*10","v":14300},-1,-1,-1,-1,-1,-1,0,{"$f":"[3]主表!K228","v":35272.392010971285},{"$f":"[3]主表!L228","v":1466.0057285627483},{"$f":"[3]主表!M228","v":1466.0057285627483},{"$f":"[3]主表!N228","v":0},{"$f":"[3]主表!$G228","v":494669},{"$f":"[3]升级!$H228","v":1700},{"$f":"MAX(1,ROUND(100/(24*3600)*VLOOKUP(B230,[1]ResourceLevelConfig!$A:$E,5,FALSE),2))","v":11.03},-1,4,4,4,4624,null,null,null,1,4,226]
[227,227,7,20,7,"232;236;244","飞升期","中",7,232,236,244,{"$f":"ROUND([1]ResourceLevelConfig!$E231*[1]ResourceLevelConfig!$L231*0.1,0)*10","v":14430},-1,-1,-1,-1,-1,-1,0,{"$f":"[3]主表!K229","v":35920.915682265564},{"$f":"[3]主表!L229","v":1487.9958144911893},{"$f":"[3]主表!M229","v":1487.9958144911893},{"$f":"[3]主表!N229","v":0},{"$f":"[3]主表!$G229","v":502742},{"$f":"[3]升级!$H229","v":1700},{"$f":"MAX(1,ROUND(100/(24*3600)*VLOOKUP(B231,[1]ResourceLevelConfig!$A:$E,5,FALSE),2))","v":11.13},-1,4,4,4,4732,null,null,null,1,4,227]
[228,228,7,20,8,"232;236;245","飞升期","中",8,232,236,245,{"$f":"ROUND([1]ResourceLevelConfig!$E232*[1]ResourceLevelConfig!$L232*0.1,0)*10","v":14580},-1,-1,-1,-1,-1,-1,0,{"$f":"[3]主表!K230","v":36580.958775496227},{"$f":"[3]主表!L230","v":1510.3157517085572},{"$f":"[3]主表!M230","v":1510.3157517085572},{"$f":"[3]主表!N230","v":0},{"$f":"[3]主表!$G230","v":510956},{"$f":"[3]升级!$H230","v":1700},{"$f":"MAX(1,ROUND(100/(24*3600)*VLOOKUP(B232,[1]ResourceLevelConfig!$A:$E,5,FALSE),2))","v":11.25},-1,4,4,4,4842,null,null,null,1,4,228]
[229,229,7,20,9,"232;236;246","飞升期","中",9,232,236,246,{"$f":"ROUND([1]ResourceLevelConfig!$E233*[1]ResourceLevelConfig!$L233*0.1,0)*10","v":14730},-1,-1,-1,-1,-1,-1,0,{"$f":"[3]主表!K231","v":37252.720955495286},{"$f":"[3]主表!L231","v":1532.9704879841852},{"$f":"[3]主表!M231","v":1532.9704879841852},{"$f":"[3]主表!N231","v":0},{"$f":"[3]主表!$G231","v":519312},{"$f":"[3]升级!$H231","v":1700},{"$f":"MAX(1,ROUND(100/(24*3600)*VLOOKUP(B233,[1]ResourceLevelConfig!$A:$E,5,FALSE),2))","v":11.37},-1,4,4,4,4955,null,null,null,1,4,229]
[230,230,7,20,10,"232;236;247","飞升期","中",10,232,236,247,{"$f":"ROUND([1]ResourceLevelConfig!$E234*[1]ResourceLevelConfig!$L234*0.1,0)*10","v":14880},100004,{"$f":"AM234","v":10},{"$f":"AN234","v":1202},{"$f":"AO234","v":3},{"$f":"_xlfn.TEXTJOIN(\";\",1,AP234,AR234,AT234,AV234)","v":"1202;1201;1201;1201"},{"$f":"_xlfn.TEXTJOIN(\";\",1,AQ234,AS234,AU234,AW234)","v":"1;1;1;1"},0,{"$f":"[3]主表!K232","v":37936.405285169836},{"$f":"[3]主表!L232","v":1555.9650453039476},{"$f":"[3]主表!M232","v":1555.9650453039476},{"$f":"[3]主表!N232","v":0},{"$f":"[3]主表!$G232","v":527812},{"$f":"[3]升级!$H232","v":1700},{"$f":"MAX(1,ROUND(100/(24*3600)*VLOOKUP(B234,[1]ResourceLevelConfig!$A:$E,5,FALSE),2))","v":11.48},20,4,4,4,5070,null,null,null,1,4,230,10,1202,3,1202,1,1201,1,1201,1,1201,1,{"$f":"VLOOKUP(AN234,[4]ItemConfig!$A:$AC,29,FALSE)*AO234+AM234","v":55},{"$f":"VLOOKUP(AP234,[4]ItemConfig!$A:$AC,29,FALSE)*AQ234","v":15},{"$f":"VLOOKUP(AR234,[4]ItemConfig!$A:$AC,29,FALSE)*AS234","v":10},{"$f":"VLOOKUP(AT234,[4]ItemConfig!$A:$AC,29,FALSE)*AU234","v":10},{"$f":"VLOOKUP(AV234,[4]ItemConfig!$A:$AC,29,FALSE)*AW234","v":10},{"$f":"CONCATENATE(AX234,\" + \",SUM(AY234:BB234))","v":"55 + 45"}]
[231,231,7,21,1,"232;237;238","飞升期","后",1,232,237,238,{"$f":"ROUND([1]ResourceLevelConfig!$E235*[1]ResourceLevelConfig!$L235*0.1,0)*10","v":15030},-1,-1,-1,-1,{"$f":"IF(I235=10,\"1001;1002;1004\",-1)","v":-1},{"$f":"IF(R235=-1,-1,\"100;200;300\")","v":-1},0,{"$f":"[3]主表!K233","v":41867.428680563149},{"$f":"[3]主表!L233","v":1711.5615498343427},{"$f":"[3]主表!M233","v":1711.5615498343427},{"$f":"[3]主表!N233","v":0},{"$f":"[3]主表!$G233","v":595106},{"$f":"[3]升级!$H233","v":1700},{"$f":"MAX(1,ROUND(100/(24*3600)*VLOOKUP(B235,[1]ResourceLevelConfig!$A:$E,5,FALSE),2))","v":11.6},-1,4,4,4,5188,null,null,null,1,4,231]
[232,232,7,21,2,"232;237;239","飞升期","后",2,232,237,239,{"$f":"ROUND([1]ResourceLevelConfig!$E236*[1]ResourceLevelConfig!$L236*0.1,0)*10","v":15180},-1,-1,-1,-1,-1,-1,0,{"$f":"[3]主表!K234","v":42634.88372065108},{"$f":"[3]主表!L234","v":1737.2349730818576},{"$f":"[3]主表!M234","v":1737.2349730818576},{"$f":"[3]主表!N234","v":0},{"$f":"[3]主表!$G234","v":604689},{"$f":"[3]升级!$H234","v":1700},{"$f":"MAX(1,ROUND(100/(24*3600)*VLOOKUP(B236,[1]ResourceLevelConfig!$A:$E,5,FALSE),2))","v":11.71},-1,4,4,4,5309,null,null,null,1,4,232]
[233,233,7,21,3,"232;237;240","飞升期","后",3,232,237,240,{"$f":"ROUND([1]ResourceLevelConfig!$E237*[1]ResourceLevelConfig!$L237*0.1,0)*10","v":15330},-1,-1,-1,-1,-1,-1,0,{"$f":"[3]主表!K235","v":43415.942240488512},{"$f":"[3]主表!L235","v":1763.2934976780855},{"$f":"[3]主表!M235","v":1763.2934976780855},{"$f":"[3]主表!N235","v":0},{"$f":"[3]主表!$G235","v":614438},{"$f":"[3]升级!$H235","v":1700},{"$f":"MAX(1,ROUND(100/(24*3600)*VLOOKUP(B237,[1]ResourceLevelConfig!$A:$E,5,FALSE),2))","v":11.83},-1,4,4,4,5433,null,null,null,1,4,233]
[234,234,7,21,4,"232;237;241","飞升期","后",4,232,237,241,{"$f":"ROUND([1]ResourceLevelConfig!$E238*[1]ResourceLevelConfig!$L238*0.1,0)*10","v":15480},-1,-1,-1,-1,-1,-1,0,{"$f":"[3]主表!K236","v":44210.839667083928},{"$f":"[3]主表!L236","v":1789.7429001432565},{"$f":"[3]主表!M236","v":1789.7429001432565},{"$f":"[3]主表!N236","v":0},{"$f":"[3]主表!$G236","v":624355},{"$f":"[3]升级!$H236","v":1700},{"$f":"MAX(1,ROUND(100/(24*3600)*VLOOKUP(B238,[1]ResourceLevelConfig!$A:$E,5,FALSE),2))","v":11.94},-1,4,4,4,5559,null,null,null,1,4,234]
[235,235,7,21,5,"232;237;242","飞升期","后",5,232,237,242,{"$f":"ROUND([1]ResourceLevelConfig!$E239*[1]ResourceLevelConfig!$L239*0.1,0)*10","v":15650},-1,-1,-1,-1,-1,-1,0,{"$f":"[3]主表!K237","v":45019.815429473078},{"$f":"[3]主表!L237","v":1816.5890436454051},{"$f":"[3]主表!M237","v":1816.5890436454051},{"$f":"[3]主表!N237","v":0},{"$f":"[3]主表!$G237","v":634444},{"$f":"[3]升级!$H237","v":1700},{"$f":"MAX(1,ROUND(100/(24*3600)*VLOOKUP(B239,[1]ResourceLevelConfig!$A:$E,5,FALSE),2))","v":12.07},-1,4,4,4,5689,null,null,null,1,4,235]
[236,236,7,21,6,"232;237;243","飞升期","后",6,232,237,243,{"$f":"ROUND([1]ResourceLevelConfig!$E240*[1]ResourceLevelConfig!$L240*0.1,0)*10","v":15800},-1,-1,-1,-1,-1,-1,0,{"$f":"[3]主表!K238","v":45843.113025808838},{"$f":"[3]主表!L238","v":1843.8378793000861},{"$f":"[3]主表!M238","v":1843.8378793000861},{"$f":"[3]主表!N238","v":0},{"$f":"[3]主表!$G238","v":644706},{"$f":"[3]升级!$H238","v":1700},{"$f":"MAX(1,ROUND(100/(24*3600)*VLOOKUP(B240,[1]ResourceLevelConfig!$A:$E,5,FALSE),2))","v":12.19},-1,4,4,4,5821,null,null,null,1,4,236]
[237,237,7,21,7,"232;237;244","飞升期","后",7,232,237,244,{"$f":"ROUND([1]ResourceLevelConfig!$E241*[1]ResourceLevelConfig!$L241*0.1,0)*10","v":15960},-1,-1,-1,-1,-1,-1,0,{"$f":"[3]主表!K239","v":46680.980091563004},{"$f":"[3]主表!L239","v":1871.4954474895871},{"$f":"[3]主表!M239","v":1871.4954474895871},{"$f":"[3]主表!N239","v":0},{"$f":"[3]主表!$G239","v":655145},{"$f":"[3]升级!$H239","v":1700},{"$f":"MAX(1,ROUND(100/(24*3600)*VLOOKUP(B241,[1]ResourceLevelConfig!$A:$E,5,FALSE),2))","v":12.31},-1,4,4,4,5957,null,null,null,1,4,237]
[238,238,7,21,8,"232;237;245","飞升期","后",8,232,237,245,{"$f":"ROUND([1]ResourceLevelConfig!$E242*[1]ResourceLevelConfig!$L242*0.1,0)*10","v":16130},-1,-1,-1,-1,-1,-1,0,{"$f":"[3]主表!K240","v":47533.668468859018},{"$f":"[3]主表!L240","v":1899.5678792019307},{"$f":"[3]主表!M240","v":1899.5678792019307},{"$f":"[3]主表!N240","v":0},{"$f":"[3]主表!$G240","v":665765},{"$f":"[3]升级!$H240","v":1700},{"$f":"MAX(1,ROUND(100/(24*3600)*VLOOKUP(B242,[1]ResourceLevelConfig!$A:$E,5,FALSE),2))","v":12.44},-1,4,4,4,6095,null,null,null,1,4,238]
[239,239,7,21,9,"232;237;246","飞升期","后",9,232,237,246,{"$f":"ROUND([1]ResourceLevelConfig!$E243*[1]ResourceLevelConfig!$L243*0.1,0)*10","v":16280},-1,-1,-1,-1,-1,-1,0,{"$f":"[3]主表!K241","v":48401.434276953296},{"$f":"[3]主表!L241","v":1928.0613973899597},{"$f":"[3]主表!M241","v":1928.0613973899597},{"$f":"[3]主表!N241","v":0},{"$f":"[3]主表!$G241","v":676568},{"$f":"[3]升级!$H241","v":1700},{"$f":"MAX(1,ROUND(100/(24*3600)*VLOOKUP(B243,[1]ResourceLevelConfig!$A:$E,5,FALSE),2))","v":12.56},-1,4,4,4,6237,null,null,null,1,4,239]
[240,240,7,21,10,"232;237;247","飞升期","后",10,232,237,247,{"$f":"ROUND([1]ResourceLevelConfig!$E244*[1]ResourceLevelConfig!$L244*0.1,0)*10","v":16440},100004,{"$f":"AM244","v":10},{"$f":"AN244","v":1308},{"$f":"AO244","v":1},{"$f":"_xlfn.TEXTJOIN(\";\",1,AP244,AR244,AT244,AV244)","v":"1204;1203;1202;1201"},{"$f":"_xlfn.TEXTJOIN(\";\",1,AQ244,AS244,AU244,AW244)","v":"1;1;1;1"},{"$f":"CONCATENATE(ROUND(0.8*VLOOKUP(A244,[3]主表!$A:$P,16,FALSE)*[5]HeroModelConfig!$Q$5,0),\";\",ROUND(1.2*VLOOKUP(A244,[3]主表!$A:$P,16,FALSE)*[5]HeroModelConfig!$Q$5,0))","v":"34630848;51946272"},{"$f":"[3]主表!K242","v":49284.537983884933},{"$f":"[3]主表!L242","v":1956.982318350809},{"$f":"[3]主表!M242","v":1956.982318350809},{"$f":"[3]主表!N242","v":0},{"$f":"[3]主表!$G242","v":687558},{"$f":"[3]升级!$H242","v":1700},{"$f":"MAX(1,ROUND(100/(24*3600)*VLOOKUP(B244,[1]ResourceLevelConfig!$A:$E,5,FALSE),2))","v":12.69},50,4,4,4,6383,null,null,null,1,4,240,10,1308,1,1204,1,1203,1,1202,1,1201,1,{"$f":"VLOOKUP(AN244,[4]ItemConfig!$A:$AC,29,FALSE)*AO244+AM244","v":20},{"$f":"VLOOKUP(AP244,[4]ItemConfig!$A:$AC,29,FALSE)*AQ244","v":40},{"$f":"VLOOKUP(AR244,[4]ItemConfig!$A:$AC,29,FALSE)*AS244","v":25},{"$f":"VLOOKUP(AT244,[4]ItemConfig!$A:$AC,29,FALSE)*AU244","v":15},{"$f":"VLOOKUP(AV244,[4]ItemConfig!$A:$AC,29,FALSE)*AW244","v":10},{"$f":"CONCATENATE(AX244,\" + \",SUM(AY244:BB244))","v":"20 + 90"}]
[241,241,7,19,1,"233;235;238","逍遥期","前",1,233,235,238,{"$f":"ROUND([1]ResourceLevelConfig!$E245*[1]ResourceLevelConfig!$L245*0.1,0)*10","v":16610},-1,-1,-1,-1,{"$f":"IF(I245=10,\"1001;1002;1004\",-1)","v":-1},{"$f":"IF(R245=-1,-1,\"100;200;300\")","v":-1},0,{"$f":"[3]主表!K243","v":74162.430264993352},{"$f":"[3]主表!L243","v":2935.4734775262132},{"$f":"[3]主表!M243","v":2935.4734775262132},{"$f":"[3]主表!N243","v":0},{"$f":"[3]主表!$G243","v":1054507},{"$f":"[3]升级!$H243","v":1800},{"$f":"MAX(1,ROUND(100/(24*3600)*VLOOKUP(B245,[1]ResourceLevelConfig!$A:$E,5,FALSE),2))","v":12.81},-1,4,4,4,6531,null,null,null,1,5,241]
[242,242,7,19,2,"233;235;239","逍遥期","前",2,233,235,239,{"$f":"ROUND([1]ResourceLevelConfig!$E246*[1]ResourceLevelConfig!$L246*0.1,0)*10","v":16790},-1,-1,-1,-1,{"$f":"IF(I246=10,\"1001;1002;1004\",-1)","v":-1},{"$f":"IF(R246=-1,-1,\"100;200;300\")","v":-1},0,{"$f":"[3]主表!K244","v":75514.024357471731},{"$f":"[3]主表!L244","v":2979.5055796891061},{"$f":"[3]主表!M244","v":2979.5055796891061},{"$f":"[3]主表!N244","v":0},{"$f":"[3]主表!$G244","v":1068855},{"$f":"[3]升级!$H244","v":1800},{"$f":"MAX(1,ROUND(100/(24*3600)*VLOOKUP(B246,[1]ResourceLevelConfig!$A:$E,5,FALSE),2))","v":12.95},-1,4,4,4,6683,null,null,null,1,5,242]
[243,243,7,19,3,"233;235;240","逍遥期","前",3,233,235,240,{"$f":"ROUND([1]ResourceLevelConfig!$E247*[1]ResourceLevelConfig!$L247*0.1,0)*10","v":16950},-1,-1,-1,-1,-1,-1,0,{"$f":"[3]主表!K245","v":76889.479725914818},{"$f":"[3]主表!L245","v":3024.1981633844425},{"$f":"[3]主表!M245","v":3024.1981633844425},{"$f":"[3]主表!N245","v":0},{"$f":"[3]主表!$G245","v":1083431},{"$f":"[3]升级!$H245","v":1800},{"$f":"MAX(1,ROUND(100/(24*3600)*VLOOKUP(B247,[1]ResourceLevelConfig!$A:$E,5,FALSE),2))","v":13.08},-1,4,4,4,6839,null,null,null,1,5,243]
[244,244,7,19,4,"233;235;241","逍遥期","前",4,233,235,241,{"$f":"ROUND([1]ResourceLevelConfig!$E248*[1]ResourceLevelConfig!$L248*0.1,0)*10","v":17120},-1,-1,-1,-1,-1,-1,0,{"$f":"[3]主表!K246","v":78289.208099930795},{"$f":"[3]主表!L246","v":3069.5611358352089},{"$f":"[3]主表!M246","v":3069.5611358352089},{"$f":"[3]主表!N246","v":0},{"$f":"[3]主表!$G246","v":1098238},{"$f":"[3]升级!$H246","v":1800},{"$f":"MAX(1,ROUND(100/(24*3600)*VLOOKUP(B248,[1]ResourceLevelConfig!$A:$E,5,FALSE),2))","v":13.21},-1,4,4,4,6998,null,null,null,1,5,244]
[245,245,7,19,5,"233;235;242","逍遥期","前",5,233,235,242,{"$f":"ROUND([1]ResourceLevelConfig!$E249*[1]ResourceLevelConfig!$L249*0.1,0)*10","v":17300},-1,-1,-1,-1,-1,-1,0,{"$f":"[3]主表!K247","v":79713.628192228862},{"$f":"[3]主表!L247","v":3115.6045528727363},{"$f":"[3]主表!M247","v":3115.6045528727363},{"$f":"[3]主表!N247","v":0},{"$f":"[3]主表!$G247","v":1113278},{"$f":"[3]升级!$H247","v":1800},{"$f":"MAX(1,ROUND(100/(24*3600)*VLOOKUP(B249,[1]ResourceLevelConfig!$A:$E,5,FALSE),2))","v":13.34},-1,4,4,4,7161,null,null,null,1,5,245]
[246,246,7,19,6,"233;235;243","逍遥期","前",6,233,235,243,{"$f":"ROUND([1]ResourceLevelConfig!$E250*[1]ResourceLevelConfig!$L250*0.1,0)*10","v":17460},-1,-1,-1,-1,-1,-1,0,{"$f":"[3]主表!K248","v":81163.165815473447},{"$f":"[3]主表!L248","v":3162.3386211658271},{"$f":"[3]主表!M248","v":3162.3386211658271},{"$f":"[3]主表!N248","v":0},{"$f":"[3]主表!$G248","v":1128392},{"$f":"[3]升级!$H248","v":1800},{"$f":"MAX(1,ROUND(100/(24*3600)*VLOOKUP(B250,[1]ResourceLevelConfig!$A:$E,5,FALSE),2))","v":13.47},-1,4,4,4,7328,null,null,null,1,5,246]
[247,247,7,19,7,"233;235;244","逍遥期","前",7,233,235,244,{"$f":"ROUND([1]ResourceLevelConfig!$E251*[1]ResourceLevelConfig!$L251*0.1,0)*10","v":17640},-1,-1,-1,-1,-1,-1,0,{"$f":"[3]主表!K249","v":82638.254001072055},{"$f":"[3]主表!L249","v":3209.7737004833139},{"$f":"[3]主表!M249","v":3209.7737004833139},{"$f":"[3]主表!N249","v":0},{"$f":"[3]主表!$G249","v":1143743},{"$f":"[3]升级!$H249","v":1800},{"$f":"MAX(1,ROUND(100/(24*3600)*VLOOKUP(B251,[1]ResourceLevelConfig!$A:$E,5,FALSE),2))","v":13.61},-1,4,4,4,7499,null,null,null,1,5,247]
[248,248,7,19,8,"233;235;245","逍遥期","前",8,233,235,245,{"$f":"ROUND([1]ResourceLevelConfig!$E252*[1]ResourceLevelConfig!$L252*0.1,0)*10","v":17820},-1,-1,-1,-1,-1,-1,0,{"$f":"[3]主表!K250","v":84139.333119930205},{"$f":"[3]主表!L250","v":3257.9203059905635},{"$f":"[3]主表!M250","v":3257.9203059905635},{"$f":"[3]主表!N250","v":0},{"$f":"[3]主表!$G250","v":1159336},{"$f":"[3]升级!$H250","v":1800},{"$f":"MAX(1,ROUND(100/(24*3600)*VLOOKUP(B252,[1]ResourceLevelConfig!$A:$E,5,FALSE),2))","v":13.75},-1,4,4,4,7674,null,null,null,1,5,248]
[249,249,7,19,9,"233;235;246","逍遥期","前",9,233,235,246,{"$f":"ROUND([1]ResourceLevelConfig!$E253*[1]ResourceLevelConfig!$L253*0.1,0)*10","v":18000},-1,-1,-1,-1,-1,-1,0,{"$f":"[3]主表!K251","v":85666.851005203818},{"$f":"[3]主表!L251","v":3306.7891105804215},{"$f":"[3]主表!M251","v":3306.7891105804215},{"$f":"[3]主表!N251","v":0},{"$f":"[3]主表!$G251","v":1175174},{"$f":"[3]升级!$H251","v":1800},{"$f":"MAX(1,ROUND(100/(24*3600)*VLOOKUP(B253,[1]ResourceLevelConfig!$A:$E,5,FALSE),2))","v":13.89},-1,4,4,4,7852,null,null,null,1,5,249]
[250,250,7,19,10,"233;235;247","逍遥期","前",10,233,235,247,{"$f":"ROUND([1]ResourceLevelConfig!$E254*[1]ResourceLevelConfig!$L254*0.1,0)*10","v":18180},100004,{"$f":"AM254","v":5},{"$f":"AN254","v":1202},{"$f":"AO254","v":3},{"$f":"_xlfn.TEXTJOIN(\";\",1,AP254,AR254,AT254,AV254)","v":"1202;1202;1201;1201"},{"$f":"_xlfn.TEXTJOIN(\";\",1,AQ254,AS254,AU254,AW254)","v":"1;1;1;1"},0,{"$f":"[3]主表!K252","v":87221.263077083669},{"$f":"[3]主表!L252","v":3356.3909472391269},{"$f":"[3]主表!M252","v":3356.3909472391269},{"$f":"[3]主表!N252","v":0},{"$f":"[3]主表!$G252","v":1191261},{"$f":"[3]升级!$H252","v":1800},{"$f":"MAX(1,ROUND(100/(24*3600)*VLOOKUP(B254,[1]ResourceLevelConfig!$A:$E,5,FALSE),2))","v":14.03},20,4,4,4,8035,null,null,null,1,5,250,5,1202,3,1202,1,1202,1,1201,1,1201,1,{"$f":"VLOOKUP(AN254,[4]ItemConfig!$A:$AC,29,FALSE)*AO254+AM254","v":50},{"$f":"VLOOKUP(AP254,[4]ItemConfig!$A:$AC,29,FALSE)*AQ254","v":15},{"$f":"VLOOKUP(AR254,[4]ItemConfig!$A:$AC,29,FALSE)*AS254","v":15},{"$f":"VLOOKUP(AT254,[4]ItemConfig!$A:$AC,29,FALSE)*AU254","v":10},{"$f":"VLOOKUP(AV254,[4]ItemConfig!$A:$AC,29,FALSE)*AW254","v":10},{"$f":"CONCATENATE(AX254,\" + \",SUM(AY254:BB254))","v":"50 + 50"}]
[251,251,7,20,1,"233;236;238","逍遥期","中",1,233,236,238,{"$f":"ROUND([1]ResourceLevelConfig!$E255*[1]ResourceLevelConfig!$L255*0.1,0)*10","v":18360},-1,-1,-1,-1,{"$f":"IF(I255=10,\"1001;1002;1004\",-1)","v":-1},{"$f":"IF(R255=-1,-1,\"100;200;300\")","v":-1},0,{"$f":"[3]主表!K253","v":96239.739622274021},{"$f":"[3]主表!L253","v":3692.0300419630403},{"$f":"[3]主表!M253","v":3692.0300419630403},{"$f":"[3]主表!N253","v":0},{"$f":"[3]主表!$G253","v":1339616},{"$f":"[3]升级!$H253","v":1800},{"$f":"MAX(1,ROUND(100/(24*3600)*VLOOKUP(B255,[1]ResourceLevelConfig!$A:$E,5,FALSE),2))","v":14.17},-1,4,4,4,8222,null,null,null,1,5,251]
[252,252,7,20,2,"233;236;239","逍遥期","中",2,233,236,239,{"$f":"ROUND([1]ResourceLevelConfig!$E256*[1]ResourceLevelConfig!$L256*0.1,0)*10","v":18540},-1,-1,-1,-1,-1,-1,0,{"$f":"[3]主表!K254","v":97984.131207652361},{"$f":"[3]主表!L254","v":3747.4104925924853},{"$f":"[3]主表!M254","v":3747.4104925924853},{"$f":"[3]主表!N254","v":0},{"$f":"[3]主表!$G254","v":1357632},{"$f":"[3]升级!$H254","v":1800},{"$f":"MAX(1,ROUND(100/(24*3600)*VLOOKUP(B256,[1]ResourceLevelConfig!$A:$E,5,FALSE),2))","v":14.31},-1,4,4,4,8414,null,null,null,1,5,252]
[253,253,7,20,3,"233;236;240","逍遥期","中",3,233,236,240,{"$f":"ROUND([1]ResourceLevelConfig!$E257*[1]ResourceLevelConfig!$L257*0.1,0)*10","v":18740},-1,-1,-1,-1,-1,-1,0,{"$f":"[3]主表!K255","v":99759.200599176984},{"$f":"[3]主表!L255","v":3803.6216499813722},{"$f":"[3]主表!M255","v":3803.6216499813722},{"$f":"[3]主表!N255","v":0},{"$f":"[3]主表!$G255","v":1375932},{"$f":"[3]升级!$H255","v":1800},{"$f":"MAX(1,ROUND(100/(24*3600)*VLOOKUP(B257,[1]ResourceLevelConfig!$A:$E,5,FALSE),2))","v":14.46},-1,4,4,4,8610,null,null,null,1,5,253]
[254,254,7,20,{"$f":"I258","v":4},"233;236;241","逍遥期","中",4,233,236,241,{"$f":"ROUND([1]ResourceLevelConfig!$E258*[1]ResourceLevelConfig!$L258*0.1,0)*10","v":18920},-1,{"$f":"IF(N258=-1,-1,20)","v":-1},-1,-1,-1,-1,0,{"$f":"[3]主表!K256","v":101565.47564292568},{"$f":"[3]主表!L256","v":3860.6759747310925},{"$f":"[3]主表!M256","v":3860.6759747310925},{"$f":"[3]主表!N256","v":0},{"$f":"[3]主表!$G256","v":1394518},{"$f":"[3]升级!$H256","v":1800},{"$f":"MAX(1,ROUND(100/(24*3600)*VLOOKUP(B258,[1]ResourceLevelConfig!$A:$E,5,FALSE),2))","v":14.59},-1,4,4,4,8810,null,null,null,1,5,254]
[255,255,7,20,5,"233;236;242","逍遥期","中",5,233,236,242,{"$f":"ROUND([1]ResourceLevelConfig!$E259*[1]ResourceLevelConfig!$L259*0.1,0)*10","v":19110},-1,-1,-1,-1,-1,-1,0,{"$f":"[3]主表!K257","v":103403.49311785196},{"$f":"[3]主表!L257","v":3918.5861143520583},{"$f":"[3]主表!M257","v":3918.5861143520583},{"$f":"[3]主表!N257","v":0},{"$f":"[3]主表!$G257","v":1413397},{"$f":"[3]升级!$H257","v":1800},{"$f":"MAX(1,ROUND(100/(24*3600)*VLOOKUP(B259,[1]ResourceLevelConfig!$A:$E,5,FALSE),2))","v":14.75},-1,{"$f":"AC258","v":4},{"$f":"AD258","v":4},{"$f":"AE258","v":4},9016,null,null,null,1,5,255]
[256,256,7,20,6,"233;236;243","逍遥期","中",6,233,236,243,{"$f":"ROUND([1]ResourceLevelConfig!$E260*[1]ResourceLevelConfig!$L260*0.1,0)*10","v":19310},-1,-1,-1,-1,-1,-1,0,{"$f":"[3]主表!K258","v":105273.79888500643},{"$f":"[3]主表!L258","v":3977.3649060673388},{"$f":"[3]主表!M258","v":3977.3649060673388},{"$f":"[3]主表!N258","v":0},{"$f":"[3]主表!$G258","v":1432573},{"$f":"[3]升级!$H258","v":1800},{"$f":"MAX(1,ROUND(100/(24*3600)*VLOOKUP(B260,[1]ResourceLevelConfig!$A:$E,5,FALSE),2))","v":14.9},-1,4,4,4,9226,null,null,null,1,5,256]
[257,257,7,20,7,"233;236;244","逍遥期","中",7,233,236,244,{"$f":"ROUND([1]ResourceLevelConfig!$E261*[1]ResourceLevelConfig!$L261*0.1,0)*10","v":19500},-1,-1,-1,-1,-1,-1,0,{"$f":"[3]主表!K259","v":107176.94803922396},{"$f":"[3]主表!L259","v":4037.0253796583484},{"$f":"[3]主表!M259","v":4037.0253796583484},{"$f":"[3]主表!N259","v":0},{"$f":"[3]主表!$G259","v":1452050},{"$f":"[3]升级!$H259","v":1800},{"$f":"MAX(1,ROUND(100/(24*3600)*VLOOKUP(B261,[1]ResourceLevelConfig!$A:$E,5,FALSE),2))","v":15.05},-1,4,4,4,9441,null,null,null,1,5,257]
[258,258,7,20,8,{"$f":"_xlfn.TEXTJOIN(\";\",1,J262:L262)","v":"233;236;245"},"逍遥期","中",8,233,236,245,{"$f":"ROUND([1]ResourceLevelConfig!$E262*[1]ResourceLevelConfig!$L262*0.1,0)*10","v":19700},{"$f":"IF(I262=10,100004,-1)","v":-1},-1,-1,-1,-1,-1,0,{"$f":"[3]主表!K260","v":109113.50506331895},{"$f":"[3]主表!L260","v":4097.580760353223},{"$f":"[3]主表!M260","v":4097.580760353223},{"$f":"[3]主表!N260","v":0},{"$f":"[3]主表!$G260","v":1471833},{"$f":"[3]升级!$H260","v":1800},{"$f":"MAX(1,ROUND(100/(24*3600)*VLOOKUP(B262,[1]ResourceLevelConfig!$A:$E,5,FALSE),2))","v":15.2},-1,4,4,4,{"$f":"MAX(AF261+10,ROUND(10^(B262*0.01+1.405),0))","v":9661},null,null,null,1,5,258]
[259,259,7,20,9,"233;236;246","逍遥期","中",9,233,236,246,{"$f":"ROUND([1]ResourceLevelConfig!$E263*[1]ResourceLevelConfig!$L263*0.1,0)*10","v":19890},-1,-1,-1,-1,-1,-1,0,{"$f":"[3]主表!K261","v":111084.04398482791},{"$f":"[3]主表!L261","v":4159.0444717585215},{"$f":"[3]主表!M261","v":4159.0444717585215},{"$f":"[3]主表!N261","v":0},{"$f":"[3]主表!$G261","v":1491927},{"$f":"[3]升级!$H261","v":1800},{"$f":"MAX(1,ROUND(100/(24*3600)*VLOOKUP(B263,[1]ResourceLevelConfig!$A:$E,5,FALSE),2))","v":15.35},-1,4,4,4,9886,null,null,null,1,5,259]
[260,260,7,20,10,"233;236;247","逍遥期","中",10,233,236,247,{"$f":"ROUND([1]ResourceLevelConfig!$E264*[1]ResourceLevelConfig!$L264*0.1,0)*10","v":20100},100004,{"$f":"AM264","v":5},{"$f":"AN264","v":1202},{"$f":"AO264","v":3},{"$f":"_xlfn.TEXTJOIN(\";\",1,AP264,AR264,AT264,AV264)","v":"1202;1202;1201;1201"},{"$f":"_xlfn.TEXTJOIN(\";\",1,AQ264,AS264,AU264,AW264)","v":"1;1;1;1"},0,{"$f":"[3]主表!K262","v":113089.14853534295},{"$f":"[3]主表!L262","v":4221.4301388348986},{"$f":"[3]主表!M262","v":4221.4301388348986},{"$f":"[3]主表!N262","v":0},{"$f":"[3]主表!$G262","v":1512337},{"$f":"[3]升级!$H262","v":1800},{"$f":"MAX(1,ROUND(100/(24*3600)*VLOOKUP(B264,[1]ResourceLevelConfig!$A:$E,5,FALSE),2))","v":15.51},20,4,4,4,10116,null,null,null,1,5,260,5,1202,3,1202,1,1202,1,1201,1,1201,1,{"$f":"VLOOKUP(AN264,[4]ItemConfig!$A:$AC,29,FALSE)*AO264+AM264","v":50},{"$f":"VLOOKUP(AP264,[4]ItemConfig!$A:$AC,29,FALSE)*AQ264","v":15},{"$f":"VLOOKUP(AR264,[4]ItemConfig!$A:$AC,29,FALSE)*AS264","v":15},{"$f":"VLOOKUP(AT264,[4]ItemConfig!$A:$AC,29,FALSE)*AU264","v":10},{"$f":"VLOOKUP(AV264,[4]ItemConfig!$A:$AC,29,FALSE)*AW264","v":10},{"$f":"CONCATENATE(AX264,\" + \",SUM(AY264:BB264))","v":"50 + 50"}]
[261,261,7,21,1,"233;237;238","逍遥期","后",1,233,237,238,{"$f":"ROUND([1]ResourceLevelConfig!$E265*[1]ResourceLevelConfig!$L265*0.1,0)*10","v":20300},-1,-1,-1,-1,{"$f":"IF(I265=10,\"1001;1002;1004\",-1)","v":-1},{"$f":"IF(R265=-1,-1,\"100;200;300\")","v":-1},0,{"$f":"[3]主表!K263","v":124770.79166869409},{"$f":"[3]主表!L263","v":4643.5731527183889},{"$f":"[3]主表!M263","v":4643.5731527183889},{"$f":"[3]主表!N263","v":0},{"$f":"[3]主表!$G263","v":1700662},{"$f":"[3]升级!$H263","v":1800},{"$f":"MAX(1,ROUND(100/(24*3600)*VLOOKUP(B265,[1]ResourceLevelConfig!$A:$E,5,FALSE),2))","v":15.66},-1,4,4,4,10351,null,null,null,1,5,261]
[262,262,7,21,2,"233;237;239","逍遥期","后",2,233,237,239,{"$f":"ROUND([1]ResourceLevelConfig!$E266*[1]ResourceLevelConfig!$L266*0.1,0)*10","v":20510},-1,-1,-1,-1,-1,-1,0,{"$f":"[3]主表!K264","v":127020.67274773863},{"$f":"[3]主表!L264","v":4713.2267500091648},{"$f":"[3]主表!M264","v":4713.2267500091648},{"$f":"[3]主表!N264","v":0},{"$f":"[3]主表!$G264","v":1723519},{"$f":"[3]升级!$H264","v":1800},{"$f":"MAX(1,ROUND(100/(24*3600)*VLOOKUP(B266,[1]ResourceLevelConfig!$A:$E,5,FALSE),2))","v":15.82},-1,4,4,4,10593,null,null,null,1,5,262]
[263,263,7,21,3,"233;237;240","逍遥期","后",3,233,237,240,{"$f":"ROUND([1]ResourceLevelConfig!$E267*[1]ResourceLevelConfig!$L267*0.1,0)*10","v":20700},-1,-1,-1,-1,-1,-1,0,{"$f":"[3]主表!K265","v":129309.97683102901},{"$f":"[3]主表!L265","v":4783.9251512593019},{"$f":"[3]主表!M265","v":4783.9251512593019},{"$f":"[3]主表!N265","v":0},{"$f":"[3]主表!$G265","v":1746735},{"$f":"[3]升级!$H265","v":1800},{"$f":"MAX(1,ROUND(100/(24*3600)*VLOOKUP(B267,[1]ResourceLevelConfig!$A:$E,5,FALSE),2))","v":15.97},-1,4,4,4,10839,null,null,null,1,5,263]
[264,264,7,21,4,"233;237;241","逍遥期","后",4,233,237,241,{"$f":"ROUND([1]ResourceLevelConfig!$E268*[1]ResourceLevelConfig!$L268*0.1,0)*10","v":20910},-1,-1,-1,-1,-1,-1,0,{"$f":"[3]主表!K266","v":131639.38038544991},{"$f":"[3]主表!L266","v":4855.6840285281914},{"$f":"[3]主表!M266","v":4855.6840285281914},{"$f":"[3]主表!N266","v":0},{"$f":"[3]主表!$G266","v":1770315},{"$f":"[3]升级!$H266","v":1800},{"$f":"MAX(1,ROUND(100/(24*3600)*VLOOKUP(B268,[1]ResourceLevelConfig!$A:$E,5,FALSE),2))","v":16.13},-1,4,4,4,11092,null,null,null,1,5,264]
[265,265,7,21,5,"233;237;242","逍遥期","后",5,233,237,242,{"$f":"ROUND([1]ResourceLevelConfig!$E269*[1]ResourceLevelConfig!$L269*0.1,0)*10","v":21120},-1,-1,-1,-1,-1,-1,0,{"$f":"[3]主表!K267","v":134009.57130171638},{"$f":"[3]主表!L267","v":4928.519288956114},{"$f":"[3]主表!M267","v":4928.519288956114},{"$f":"[3]主表!N267","v":0},{"$f":"[3]主表!$G267","v":1794266},{"$f":"[3]升级!$H267","v":1800},{"$f":"MAX(1,ROUND(100/(24*3600)*VLOOKUP(B269,[1]ResourceLevelConfig!$A:$E,5,FALSE),2))","v":16.3},-1,4,4,4,11350,null,null,null,1,5,265]
[266,266,7,21,6,"233;237;243","逍遥期","后",6,233,237,243,{"$f":"ROUND([1]ResourceLevelConfig!$E270*[1]ResourceLevelConfig!$L270*0.1,0)*10","v":21350},-1,-1,-1,-1,-1,-1,0,{"$f":"[3]主表!K268","v":136421.24908488418},{"$f":"[3]主表!L268","v":5002.4470782904546},{"$f":"[3]主表!M268","v":5002.4470782904546},{"$f":"[3]主表!N268","v":0},{"$f":"[3]主表!$G268","v":1818593},{"$f":"[3]升级!$H268","v":1800},{"$f":"MAX(1,ROUND(100/(24*3600)*VLOOKUP(B270,[1]ResourceLevelConfig!$A:$E,5,FALSE),2))","v":16.47},-1,4,4,4,11614,null,null,null,1,5,266]
[267,267,7,21,7,"233;237;244","逍遥期","后",7,233,237,244,{"$f":"ROUND([1]ResourceLevelConfig!$E271*[1]ResourceLevelConfig!$L271*0.1,0)*10","v":21560},-1,-1,-1,-1,-1,-1,0,{"$f":"[3]主表!K269","v":138875.12504800409},{"$f":"[3]主表!L269","v":5077.4837844648109},{"$f":"[3]主表!M269","v":5077.4837844648109},{"$f":"[3]主表!N269","v":0},{"$f":"[3]主表!$G269","v":1843302},{"$f":"[3]升级!$H269","v":1800},{"$f":"MAX(1,ROUND(100/(24*3600)*VLOOKUP(B271,[1]ResourceLevelConfig!$A:$E,5,FALSE),2))","v":16.63},-1,4,4,4,11885,null,null,null,1,5,267]
[268,268,7,21,8,"233;237;245","逍遥期","后",8,233,237,245,{"$f":"ROUND([1]ResourceLevelConfig!$E272*[1]ResourceLevelConfig!$L272*0.1,0)*10","v":21770},-1,-1,-1,-1,-1,-1,0,{"$f":"[3]主表!K270","v":141371.92250897351},{"$f":"[3]主表!L270","v":5153.6460412317829},{"$f":"[3]主表!M270","v":5153.6460412317829},{"$f":"[3]主表!N270","v":0},{"$f":"[3]主表!$G270","v":1868400},{"$f":"[3]升级!$H270","v":1800},{"$f":"MAX(1,ROUND(100/(24*3600)*VLOOKUP(B272,[1]ResourceLevelConfig!$A:$E,5,FALSE),2))","v":16.79},-1,4,4,4,12162,null,null,null,1,5,268]
[269,269,7,21,9,"233;237;246","逍遥期","后",9,233,237,246,{"$f":"ROUND([1]ResourceLevelConfig!$E273*[1]ResourceLevelConfig!$L273*0.1,0)*10","v":21990},-1,-1,-1,-1,-1,-1,0,{"$f":"[3]主表!K271","v":143912.3769906362},{"$f":"[3]主表!L271","v":5230.9507318502592},{"$f":"[3]主表!M271","v":5230.9507318502592},{"$f":"[3]主表!N271","v":0},{"$f":"[3]主表!$G271","v":1893892},{"$f":"[3]升级!$H271","v":1800},{"$f":"MAX(1,ROUND(100/(24*3600)*VLOOKUP(B273,[1]ResourceLevelConfig!$A:$E,5,FALSE),2))","v":16.97},-1,4,4,4,12445,null,null,null,1,5,269]
[270,270,7,21,10,"233;237;247","逍遥期","后",10,233,237,247,{"$f":"ROUND([1]ResourceLevelConfig!$E274*[1]ResourceLevelConfig!$L274*0.1,0)*10","v":22220},100004,{"$f":"AM274","v":5},{"$f":"AN274","v":1309},{"$f":"AO274","v":1},{"$f":"_xlfn.TEXTJOIN(\";\",1,AP274,AR274,AT274,AV274)","v":"1204;1203;1202;1201"},{"$f":"_xlfn.TEXTJOIN(\";\",1,AQ274,AS274,AU274,AW274)","v":"1;1;1;1"},{"$f":"CONCATENATE(ROUND(0.8*VLOOKUP(A274,[3]主表!$A:$P,16,FALSE)*[5]HeroModelConfig!$Q$5,0),\";\",ROUND(1.2*VLOOKUP(A274,[3]主表!$A:$P,16,FALSE)*[5]HeroModelConfig!$Q$5,0))","v":"105941258;158911886"},{"$f":"[3]主表!K272","v":146497.23642418429},{"$f":"[3]主表!L272","v":5309.4149928280121},{"$f":"[3]主表!M272","v":5309.4149928280121},{"$f":"[3]主表!N272","v":0},{"$f":"[3]主表!$G272","v":1919784},{"$f":"[3]升级!$H272","v":1800},{"$f":"MAX(1,ROUND(100/(24*3600)*VLOOKUP(B274,[1]ResourceLevelConfig!$A:$E,5,FALSE),2))","v":17.14},50,4,4,4,12735,null,null,null,1,5,270,5,1309,1,1204,1,1203,1,1202,1,1201,1,{"$f":"VLOOKUP(AN274,[4]ItemConfig!$A:$AC,29,FALSE)*AO274+AM274","v":10},{"$f":"VLOOKUP(AP274,[4]ItemConfig!$A:$AC,29,FALSE)*AQ274","v":40},{"$f":"VLOOKUP(AR274,[4]ItemConfig!$A:$AC,29,FALSE)*AS274","v":25},{"$f":"VLOOKUP(AT274,[4]ItemConfig!$A:$AC,29,FALSE)*AU274","v":15},{"$f":"VLOOKUP(AV274,[4]ItemConfig!$A:$AC,29,FALSE)*AW274","v":10},{"$f":"CONCATENATE(AX274,\" + \",SUM(AY274:BB274))","v":"10 + 90"}]
[271,271,7,19,1,"234;235;238","真神期","前",1,234,235,238,{"$f":"ROUND([1]ResourceLevelConfig!$E275*[1]ResourceLevelConfig!$L275*0.1,0)*10","v":22440},-1,-1,-1,-1,{"$f":"IF(I275=10,\"1001;1002;1004\",-1)","v":-1},{"$f":"IF(R275=-1,-1,\"100;200;300\")","v":-1},0,{"$f":"[3]主表!K273","v":220385.11530430918},{"$f":"[3]主表!L273","v":7964.1224892420178},{"$f":"[3]主表!M273","v":7964.1224892420178},{"$f":"[3]主表!N273","v":0},{"$f":"[3]主表!$G273","v":2943858},{"$f":"[3]升级!$H273","v":1900},{"$f":"MAX(1,ROUND(100/(24*3600)*VLOOKUP(B275,[1]ResourceLevelConfig!$A:$E,5,FALSE),2))","v":17.309999999999999},-1,4,4,4,13032,null,null,null,1,5,271]
[272,272,7,19,2,"234;235;239","真神期","前",2,234,235,239,{"$f":"ROUND([1]ResourceLevelConfig!$E276*[1]ResourceLevelConfig!$L276*0.1,0)*10","v":22670},-1,-1,-1,-1,{"$f":"IF(I276=10,\"1001;1002;1004\",-1)","v":-1},{"$f":"IF(R276=-1,-1,\"100;200;300\")","v":-1},0,{"$f":"[3]主表!K274","v":224339.74161192717},{"$f":"[3]主表!L274","v":8083.5843265806479},{"$f":"[3]主表!M274","v":8083.5843265806479},{"$f":"[3]主表!N274","v":0},{"$f":"[3]主表!$G274","v":2983398},{"$f":"[3]升级!$H274","v":1900},{"$f":"MAX(1,ROUND(100/(24*3600)*VLOOKUP(B276,[1]ResourceLevelConfig!$A:$E,5,FALSE),2))","v":17.489999999999998},-1,4,4,4,13335,null,null,null,1,5,272]
[273,273,7,19,3,"234;235;240","真神期","前",3,234,235,240,{"$f":"ROUND([1]ResourceLevelConfig!$E277*[1]ResourceLevelConfig!$L277*0.1,0)*10","v":22890},-1,-1,-1,-1,-1,-1,0,{"$f":"[3]主表!K275","v":228363.42005783011},{"$f":"[3]主表!L275","v":8204.8380914793579},{"$f":"[3]主表!M275","v":8204.8380914793579},{"$f":"[3]主表!N275","v":0},{"$f":"[3]主表!$G275","v":3023559},{"$f":"[3]升级!$H275","v":1900},{"$f":"MAX(1,ROUND(100/(24*3600)*VLOOKUP(B277,[1]ResourceLevelConfig!$A:$E,5,FALSE),2))","v":17.66},-1,4,4,4,13646,null,null,null,1,5,273]
[274,274,7,19,4,"234;235;241","真神期","前",4,234,235,241,{"$f":"ROUND([1]ResourceLevelConfig!$E278*[1]ResourceLevelConfig!$L278*0.1,0)*10","v":23120},-1,-1,-1,-1,-1,-1,0,{"$f":"[3]主表!K276","v":232457.33241524757},{"$f":"[3]主表!L276","v":8327.9106628515474},{"$f":"[3]主表!M276","v":8327.9106628515474},{"$f":"[3]主表!N276","v":0},{"$f":"[3]主表!$G276","v":3064350},{"$f":"[3]升级!$H276","v":1900},{"$f":"MAX(1,ROUND(100/(24*3600)*VLOOKUP(B278,[1]ResourceLevelConfig!$A:$E,5,FALSE),2))","v":17.84},-1,4,4,4,13964,null,null,null,1,5,274]
[275,275,7,19,5,"234;235;242","真神期","前",5,234,235,242,{"$f":"ROUND([1]ResourceLevelConfig!$E279*[1]ResourceLevelConfig!$L279*0.1,0)*10","v":23360},-1,-1,-1,-1,-1,-1,0,{"$f":"[3]主表!K277","v":236622.68037387441},{"$f":"[3]主表!L277","v":8452.8293227943195},{"$f":"[3]主表!M277","v":8452.8293227943195},{"$f":"[3]主表!N277","v":0},{"$f":"[3]主表!$G277","v":3105781},{"$f":"[3]升级!$H277","v":1900},{"$f":"MAX(1,ROUND(100/(24*3600)*VLOOKUP(B279,[1]ResourceLevelConfig!$A:$E,5,FALSE),2))","v":18.02},-1,4,4,4,14289,null,null,null,1,5,275]
[276,276,7,19,6,"234;235;243","真神期","前",6,234,235,243,{"$f":"ROUND([1]ResourceLevelConfig!$E280*[1]ResourceLevelConfig!$L280*0.1,0)*10","v":23600},-1,-1,-1,-1,-1,-1,0,{"$f":"[3]主表!K278","v":240860.68587146676},{"$f":"[3]主表!L278","v":8579.6217626362341},{"$f":"[3]主表!M278","v":8579.6217626362341},{"$f":"[3]主表!N278","v":0},{"$f":"[3]主表!$G278","v":3147863},{"$f":"[3]升级!$H278","v":1900},{"$f":"MAX(1,ROUND(100/(24*3600)*VLOOKUP(B280,[1]ResourceLevelConfig!$A:$E,5,FALSE),2))","v":18.21},-1,4,4,4,14622,null,null,null,1,5,276]
[277,277,7,19,7,"234;235;244","真神期","前",7,234,235,244,{"$f":"ROUND([1]ResourceLevelConfig!$E281*[1]ResourceLevelConfig!$L281*0.1,0)*10","v":23820},-1,-1,-1,-1,-1,-1,0,{"$f":"[3]主表!K279","v":245172.59143090266},{"$f":"[3]主表!L279","v":8708.3160890757772},{"$f":"[3]主表!M279","v":8708.3160890757772},{"$f":"[3]主表!N279","v":0},{"$f":"[3]主表!$G279","v":3190607},{"$f":"[3]升级!$H279","v":1900},{"$f":"MAX(1,ROUND(100/(24*3600)*VLOOKUP(B281,[1]ResourceLevelConfig!$A:$E,5,FALSE),2))","v":18.38},-1,4,4,4,14962,null,null,null,1,5,277]
[278,278,7,19,8,"234;235;245","真神期","前",8,234,235,245,{"$f":"ROUND([1]ResourceLevelConfig!$E282*[1]ResourceLevelConfig!$L282*0.1,0)*10","v":24060},-1,-1,-1,-1,-1,-1,0,{"$f":"[3]主表!K280","v":249559.6605028006},{"$f":"[3]主表!L280","v":8838.9408304119133},{"$f":"[3]主表!M280","v":8838.9408304119133},{"$f":"[3]主表!N280","v":0},{"$f":"[3]主表!$G280","v":3234021},{"$f":"[3]升级!$H280","v":1900},{"$f":"MAX(1,ROUND(100/(24*3600)*VLOOKUP(B282,[1]ResourceLevelConfig!$A:$E,5,FALSE),2))","v":18.559999999999999},-1,4,4,4,15311,null,null,null,1,5,278]
[279,279,7,19,9,"234;235;246","真神期","前",9,234,235,246,{"$f":"ROUND([1]ResourceLevelConfig!$E283*[1]ResourceLevelConfig!$L283*0.1,0)*10","v":24320},-1,-1,-1,-1,-1,-1,0,{"$f":"[3]主表!K281","v":254023.17781378349},{"$f":"[3]主表!L281","v":8971.5249428680909},{"$f":"[3]主表!M281","v":8971.5249428680909},{"$f":"[3]主表!N281","v":0},{"$f":"[3]主表!$G281","v":3278118},{"$f":"[3]升级!$H281","v":1900},{"$f":"MAX(1,ROUND(100/(24*3600)*VLOOKUP(B283,[1]ResourceLevelConfig!$A:$E,5,FALSE),2))","v":18.760000000000002},-1,4,4,4,15668,null,null,null,1,5,279]
[280,280,7,19,10,"234;235;247","真神期","前",10,234,235,247,{"$f":"ROUND([1]ResourceLevelConfig!$E284*[1]ResourceLevelConfig!$L284*0.1,0)*10","v":24560},100004,{"$f":"AM284","v":5},{"$f":"AN284","v":1203},{"$f":"AO284","v":2},{"$f":"_xlfn.TEXTJOIN(\";\",1,AP284,AR284,AT284,AV284)","v":"1202;1201;1201;1201"},{"$f":"_xlfn.TEXTJOIN(\";\",1,AQ284,AS284,AU284,AW284)","v":"1;1;1;1"},0,{"$f":"[3]主表!K282","v":258564.44972048275},{"$f":"[3]主表!L282","v":9106.0978170111121},{"$f":"[3]主表!M282","v":9106.0978170111121},{"$f":"[3]主表!N282","v":0},{"$f":"[3]主表!$G282","v":3322907},{"$f":"[3]升级!$H282","v":1900},{"$f":"MAX(1,ROUND(100/(24*3600)*VLOOKUP(B284,[1]ResourceLevelConfig!$A:$E,5,FALSE),2))","v":18.95},20,4,4,4,16032,null,null,null,1,5,280,5,1203,2,1202,1,1201,1,1201,1,1201,1,{"$f":"VLOOKUP(AN284,[4]ItemConfig!$A:$AC,29,FALSE)*AO284+AM284","v":55},{"$f":"VLOOKUP(AP284,[4]ItemConfig!$A:$AC,29,FALSE)*AQ284","v":15},{"$f":"VLOOKUP(AR284,[4]ItemConfig!$A:$AC,29,FALSE)*AS284","v":10},{"$f":"VLOOKUP(AT284,[4]ItemConfig!$A:$AC,29,FALSE)*AU284","v":10},{"$f":"VLOOKUP(AV284,[4]ItemConfig!$A:$AC,29,FALSE)*AW284","v":10},{"$f":"CONCATENATE(AX284,\" + \",SUM(AY284:BB284))","v":"55 + 45"}]
[281,281,7,20,1,"234;236;238","真神期","中",1,234,236,238,{"$f":"ROUND([1]ResourceLevelConfig!$E285*[1]ResourceLevelConfig!$L285*0.1,0)*10","v":24800},-1,-1,-1,-1,{"$f":"IF(I285=10,\"1001;1002;1004\",-1)","v":-1},{"$f":"IF(R285=-1,-1,\"100;200;300\")","v":-1},0,{"$f":"[3]主表!K283","v":285224.91135597276},{"$f":"[3]主表!L283","v":10016.707598712223},{"$f":"[3]主表!M283","v":10016.707598712223},{"$f":"[3]主表!N283","v":0},{"$f":"[3]主表!$G283","v":3736633},{"$f":"[3]升级!$H283","v":1900},{"$f":"MAX(1,ROUND(100/(24*3600)*VLOOKUP(B285,[1]ResourceLevelConfig!$A:$E,5,FALSE),2))","v":19.13},-1,4,4,4,16406,null,null,null,1,5,281]
[282,282,7,20,2,"234;236;239","真神期","中",2,234,236,239,{"$f":"ROUND([1]ResourceLevelConfig!$E286*[1]ResourceLevelConfig!$L286*0.1,0)*10","v":25050},-1,-1,-1,-1,-1,-1,0,{"$f":"[3]主表!K284","v":290319.36193970579},{"$f":"[3]主表!L284","v":10166.958212692905},{"$f":"[3]主表!M284","v":10166.958212692905},{"$f":"[3]主表!N284","v":0},{"$f":"[3]主表!$G284","v":3786789},{"$f":"[3]升级!$H284","v":1900},{"$f":"MAX(1,ROUND(100/(24*3600)*VLOOKUP(B286,[1]ResourceLevelConfig!$A:$E,5,FALSE),2))","v":19.329999999999998},-1,4,4,4,16788,null,null,null,1,5,282]
[283,283,7,20,3,"234;236;240","真神期","中",3,234,236,240,{"$f":"ROUND([1]ResourceLevelConfig!$E287*[1]ResourceLevelConfig!$L287*0.1,0)*10","v":25310},-1,-1,-1,-1,-1,-1,0,{"$f":"[3]主表!K285","v":295502.47043589561},{"$f":"[3]主表!L285","v":10319.462585883297},{"$f":"[3]主表!M285","v":10319.462585883297},{"$f":"[3]主表!N285","v":0},{"$f":"[3]主表!$G285","v":3837732},{"$f":"[3]升级!$H285","v":1900},{"$f":"MAX(1,ROUND(100/(24*3600)*VLOOKUP(B287,[1]ResourceLevelConfig!$A:$E,5,FALSE),2))","v":19.53},-1,4,4,4,17179,null,null,null,1,5,283]
[284,284,7,20,{"$f":"I288","v":4},"234;236;241","真神期","中",4,234,236,241,{"$f":"ROUND([1]ResourceLevelConfig!$E288*[1]ResourceLevelConfig!$L288*0.1,0)*10","v":25560},-1,{"$f":"IF(N288=-1,-1,20)","v":-1},-1,-1,-1,-1,0,{"$f":"[3]主表!K286","v":300775.75033053476},{"$f":"[3]主表!L286","v":10474.254524671545},{"$f":"[3]主表!M286","v":10474.254524671545},{"$f":"[3]主表!N286","v":0},{"$f":"[3]主表!$G286","v":3889475},{"$f":"[3]升级!$H286","v":1900},{"$f":"MAX(1,ROUND(100/(24*3600)*VLOOKUP(B288,[1]ResourceLevelConfig!$A:$E,5,FALSE),2))","v":19.72},-1,4,4,4,17579,null,null,null,1,5,284]
[285,285,7,20,5,"234;236;242","真神期","中",5,234,236,242,{"$f":"ROUND([1]ResourceLevelConfig!$E289*[1]ResourceLevelConfig!$L289*0.1,0)*10","v":25820},-1,-1,-1,-1,-1,-1,0,{"$f":"[3]主表!K287","v":306140.74056616501},{"$f":"[3]主表!L287","v":10631.368342541618},{"$f":"[3]主表!M287","v":10631.368342541618},{"$f":"[3]主表!N287","v":0},{"$f":"[3]主表!$G287","v":3942029},{"$f":"[3]升级!$H287","v":1900},{"$f":"MAX(1,ROUND(100/(24*3600)*VLOOKUP(B289,[1]ResourceLevelConfig!$A:$E,5,FALSE),2))","v":19.920000000000002},-1,4,4,4,17989,null,null,null,1,5,285]
[286,286,7,20,6,"234;236;243","真神期","中",6,234,236,243,{"$f":"ROUND([1]ResourceLevelConfig!$E290*[1]ResourceLevelConfig!$L290*0.1,0)*10","v":26070},-1,-1,-1,-1,-1,-1,0,{"$f":"[3]主表!K288","v":311599.00596503983},{"$f":"[3]主表!L288","v":10790.838867679744},{"$f":"[3]主表!M288","v":10790.838867679744},{"$f":"[3]主表!N288","v":0},{"$f":"[3]主表!$G288","v":3995409},{"$f":"[3]升级!$H288","v":1900},{"$f":"MAX(1,ROUND(100/(24*3600)*VLOOKUP(B290,[1]ResourceLevelConfig!$A:$E,5,FALSE),2))","v":20.12},-1,4,4,4,18408,null,null,null,1,5,286]
[287,287,7,20,7,"234;236;244","真神期","中",7,234,236,244,{"$f":"ROUND([1]ResourceLevelConfig!$E291*[1]ResourceLevelConfig!$L291*0.1,0)*10","v":26340},-1,-1,-1,-1,-1,-1,{"$f":"IF(G291=G292,0,CONCATENATE(\"1;1\"))","v":0},{"$f":"[3]主表!K289","v":317152.13765925349},{"$f":"[3]主表!L289","v":10952.70145069494},{"$f":"[3]主表!M289","v":10952.70145069494},{"$f":"[3]主表!N289","v":0},{"$f":"[3]主表!$G289","v":4049627},{"$f":"[3]升级!$H289","v":1900},{"$f":"MAX(1,ROUND(100/(24*3600)*VLOOKUP(B291,[1]ResourceLevelConfig!$A:$E,5,FALSE),2))","v":20.32},-1,4,4,4,18836,null,null,null,1,5,287]
[288,288,7,20,8,"234;236;245","真神期","中",8,234,236,245,{"$f":"ROUND([1]ResourceLevelConfig!$E292*[1]ResourceLevelConfig!$L292*0.1,0)*10","v":26600},-1,-1,-1,-1,-1,-1,0,{"$f":"[3]主表!K290","v":322801.75352795137},{"$f":"[3]主表!L290","v":11116.991972455362},{"$f":"[3]主表!M290","v":11116.991972455362},{"$f":"[3]主表!N290","v":0},{"$f":"[3]主表!$G290","v":4104696},{"$f":"[3]升级!$H290","v":1900},{"$f":"MAX(1,ROUND(100/(24*3600)*VLOOKUP(B292,[1]ResourceLevelConfig!$A:$E,5,FALSE),2))","v":20.52},-1,4,4,4,19275,null,null,null,1,5,288]
[289,289,7,20,9,"234;236;246","真神期","中",9,234,236,246,{"$f":"ROUND([1]ResourceLevelConfig!$E293*[1]ResourceLevelConfig!$L293*0.1,0)*10","v":26870},-1,-1,-1,-1,-1,-1,0,{"$f":"[3]主表!K291","v":328549.49864173681},{"$f":"[3]主表!L291","v":11283.74685204219},{"$f":"[3]主表!M291","v":11283.74685204219},{"$f":"[3]主表!N291","v":0},{"$f":"[3]主表!$G291","v":4160630},{"$f":"[3]升级!$H291","v":1900},{"$f":"MAX(1,ROUND(100/(24*3600)*VLOOKUP(B293,[1]ResourceLevelConfig!$A:$E,5,FALSE),2))","v":20.73},-1,4,4,4,19724,null,null,null,1,5,289]
[290,290,7,20,10,"234;236;247","真神期","中",10,234,236,247,{"$f":"ROUND([1]ResourceLevelConfig!$E294*[1]ResourceLevelConfig!$L294*0.1,0)*10","v":27140},100004,{"$f":"AM294","v":5},{"$f":"AN294","v":1203},{"$f":"AO294","v":2},{"$f":"_xlfn.TEXTJOIN(\";\",1,AP294,AR294,AT294,AV294)","v":"1202;1201;1201;1201"},{"$f":"_xlfn.TEXTJOIN(\";\",1,AQ294,AS294,AU294,AW294)","v":"1;1;1;1"},0,{"$f":"[3]主表!K292","v":334397.04571439209},{"$f":"[3]主表!L292","v":11453.003054822822},{"$f":"[3]主表!M292","v":11453.003054822822},{"$f":"[3]主表!N292","v":0},{"$f":"[3]主表!$G292","v":4217443},{"$f":"[3]升级!$H292","v":1900},{"$f":"MAX(1,ROUND(100/(24*3600)*VLOOKUP(B294,[1]ResourceLevelConfig!$A:$E,5,FALSE),2))","v":20.94},20,4,4,4,20184,null,null,null,1,5,290,5,1203,2,1202,1,1201,1,1201,1,1201,1,{"$f":"VLOOKUP(AN294,[4]ItemConfig!$A:$AC,29,FALSE)*AO294+AM294","v":55},{"$f":"VLOOKUP(AP294,[4]ItemConfig!$A:$AC,29,FALSE)*AQ294","v":15},{"$f":"VLOOKUP(AR294,[4]ItemConfig!$A:$AC,29,FALSE)*AS294","v":10},{"$f":"VLOOKUP(AT294,[4]ItemConfig!$A:$AC,29,FALSE)*AU294","v":10},{"$f":"VLOOKUP(AV294,[4]ItemConfig!$A:$AC,29,FALSE)*AW294","v":10},{"$f":"CONCATENATE(AX294,\" + \",SUM(AY294:BB294))","v":"55 + 45"}]
[291,291,7,21,1,"234;237;238","真神期","后",1,234,237,238,{"$f":"ROUND([1]ResourceLevelConfig!$E295*[1]ResourceLevelConfig!$L295*0.1,0)*10","v":27420},-1,-1,-1,-1,{"$f":"IF(I295=10,\"1001;1002;1004\",-1)","v":-1},{"$f":"IF(R295=-1,-1,\"100;200;300\")","v":-1},0,{"$f":"[3]主表!K293","v":368847.98533816362},{"$f":"[3]主表!L293","v":12598.303360305108},{"$f":"[3]主表!M293","v":12598.303360305108},{"$f":"[3]主表!N293","v":0},{"$f":"[3]主表!$G293","v":4742505},{"$f":"[3]升级!$H293","v":1900},{"$f":"MAX(1,ROUND(100/(24*3600)*VLOOKUP(B295,[1]ResourceLevelConfig!$A:$E,5,FALSE),2))","v":21.16},-1,4,4,4,20654,null,null,null,1,5,291]
[292,292,7,21,2,"234;237;239","真神期","后",2,234,237,239,{"$f":"ROUND([1]ResourceLevelConfig!$E296*[1]ResourceLevelConfig!$L296*0.1,0)*10","v":27690},-1,-1,-1,-1,-1,-1,0,{"$f":"[3]主表!K294","v":375407.10869635316},{"$f":"[3]主表!L294","v":12787.277910709681},{"$f":"[3]主表!M294","v":12787.277910709681},{"$f":"[3]主表!N294","v":0},{"$f":"[3]主表!$G294","v":4806124},{"$f":"[3]升级!$H294","v":1900},{"$f":"MAX(1,ROUND(100/(24*3600)*VLOOKUP(B296,[1]ResourceLevelConfig!$A:$E,5,FALSE),2))","v":21.37},-1,4,4,4,21135,null,null,null,1,5,292]
[293,293,7,21,3,"234;237;240","真神期","后",3,234,237,240,{"$f":"ROUND([1]ResourceLevelConfig!$E297*[1]ResourceLevelConfig!$L297*0.1,0)*10","v":27980},-1,-1,-1,-1,-1,-1,0,{"$f":"[3]主表!K295","v":382080.0149585873},{"$f":"[3]主表!L295","v":12979.087079370325},{"$f":"[3]主表!M295","v":12979.087079370325},{"$f":"[3]主表!N295","v":0},{"$f":"[3]主表!$G295","v":4870740},{"$f":"[3]升级!$H295","v":1900},{"$f":"MAX(1,ROUND(100/(24*3600)*VLOOKUP(B297,[1]ResourceLevelConfig!$A:$E,5,FALSE),2))","v":21.59},-1,4,4,4,21627,null,null,null,1,5,293]
[294,294,7,21,4,"234;237;241","真神期","后",4,234,237,241,{"$f":"ROUND([1]ResourceLevelConfig!$E298*[1]ResourceLevelConfig!$L298*0.1,0)*10","v":28250},-1,-1,-1,-1,-1,-1,0,{"$f":"[3]主表!K296","v":388868.64180923183},{"$f":"[3]主表!L296","v":13173.773385560879},{"$f":"[3]主表!M296","v":13173.773385560879},{"$f":"[3]主表!N296","v":0},{"$f":"[3]主表!$G296","v":4936370},{"$f":"[3]升级!$H296","v":1900},{"$f":"MAX(1,ROUND(100/(24*3600)*VLOOKUP(B298,[1]ResourceLevelConfig!$A:$E,5,FALSE),2))","v":21.79},-1,4,4,4,22131,null,null,null,1,5,294]
[295,295,7,21,5,"234;237;242","真神期","后",5,234,237,242,{"$f":"ROUND([1]ResourceLevelConfig!$E299*[1]ResourceLevelConfig!$L299*0.1,0)*10","v":28530},-1,-1,-1,-1,-1,-1,0,{"$f":"[3]主表!K297","v":395774.95946202998},{"$f":"[3]主表!L297","v":13371.379986344289},{"$f":"[3]主表!M297","v":13371.379986344289},{"$f":"[3]主表!N297","v":0},{"$f":"[3]主表!$G297","v":5003029},{"$f":"[3]升级!$H297","v":1900},{"$f":"MAX(1,ROUND(100/(24*3600)*VLOOKUP(B299,[1]ResourceLevelConfig!$A:$E,5,FALSE),2))","v":22.01},-1,4,4,4,22646,null,null,null,1,5,295]
[296,296,7,21,6,"234;237;243","真神期","后",6,234,237,243,{"$f":"ROUND([1]ResourceLevelConfig!$E300*[1]ResourceLevelConfig!$L300*0.1,0)*10","v":28820},-1,-1,-1,-1,-1,-1,0,{"$f":"[3]主表!K298","v":402800.97120000503},{"$f":"[3]主表!L298","v":13571.950686139453},{"$f":"[3]主表!M298","v":13571.950686139453},{"$f":"[3]主表!N298","v":0},{"$f":"[3]主表!$G298","v":5069930},{"$f":"[3]升级!$H298","v":1900},{"$f":"MAX(1,ROUND(100/(24*3600)*VLOOKUP(B300,[1]ResourceLevelConfig!$A:$E,5,FALSE),2))","v":22.23},-1,4,4,4,23174,null,null,null,1,5,296]
[297,297,7,21,7,"234;237;244","真神期","后",7,234,237,244,{"$f":"ROUND([1]ResourceLevelConfig!$E301*[1]ResourceLevelConfig!$L301*0.1,0)*10","v":29120},-1,-1,-1,-1,-1,-1,0,{"$f":"[3]主表!K299","v":409948.71392424044},{"$f":"[3]主表!L299","v":13775.529946431543},{"$f":"[3]主表!M299","v":13775.529946431543},{"$f":"[3]主表!N299","v":0},{"$f":"[3]主表!$G299","v":5137874},{"$f":"[3]升级!$H299","v":1900},{"$f":"MAX(1,ROUND(100/(24*3600)*VLOOKUP(B301,[1]ResourceLevelConfig!$A:$E,5,FALSE),2))","v":22.47},-1,4,4,4,23714,null,null,null,1,5,297]
[298,298,7,21,8,"234;237;245","真神期","后",8,234,237,245,{"$f":"ROUND([1]ResourceLevelConfig!$E302*[1]ResourceLevelConfig!$L302*0.1,0)*10","v":29400},-1,-1,-1,-1,-1,-1,0,{"$f":"[3]主表!K300","v":417220.25871168287},{"$f":"[3]主表!L300","v":13982.162895628016},{"$f":"[3]主表!M300","v":13982.162895628016},{"$f":"[3]主表!N300","v":0},{"$f":"[3]主表!$G300","v":5206875},{"$f":"[3]升级!$H300","v":1900},{"$f":"MAX(1,ROUND(100/(24*3600)*VLOOKUP(B302,[1]ResourceLevelConfig!$A:$E,5,FALSE),2))","v":22.69},-1,4,4,4,24266,null,null,null,1,5,298]
[299,299,7,21,9,"234;237;246","真神期","后",9,234,237,246,{"$f":"ROUND([1]ResourceLevelConfig!$E303*[1]ResourceLevelConfig!$L303*0.1,0)*10","v":29700},-1,-1,-1,-1,-1,-1,0,{"$f":"[3]主表!K301","v":424617.71138211561},{"$f":"[3]主表!L301","v":14191.895339062436},{"$f":"[3]主表!M301","v":14191.895339062436},{"$f":"[3]主表!N301","v":0},{"$f":"[3]主表!$G301","v":5276952},{"$f":"[3]升级!$H301","v":1900},{"$f":"MAX(1,ROUND(100/(24*3600)*VLOOKUP(B303,[1]ResourceLevelConfig!$A:$E,5,FALSE),2))","v":22.92},-1,4,4,4,24831,null,null,null,1,5,299]
[300,300,7,21,10,"234;237;247","真神期","后",10,234,237,247,{"$f":"ROUND([1]ResourceLevelConfig!$E304*[1]ResourceLevelConfig!$L304*0.1,0)*10","v":30000},100004,{"$f":"AM304","v":5},-1,1,{"$f":"_xlfn.TEXTJOIN(\";\",1,AP304,AR304,AT304,AV304)","v":"1202;1201;1201;1201"},{"$f":"_xlfn.TEXTJOIN(\";\",1,AQ304,AS304,AU304,AW304)","v":"1;1;1;1"},{"$f":"CONCATENATE(ROUND(0.8*VLOOKUP(A304,[3]主表!$A:$P,16,FALSE)*[5]HeroModelConfig!$Q$5,0),\";\",ROUND(1.2*VLOOKUP(A304,[3]主表!$A:$P,16,FALSE)*[5]HeroModelConfig!$Q$5,0))","v":"327737400;491606100"},{"$f":"[3]主表!K302","v":432143.21307445108},{"$f":"[3]主表!L302","v":14404.773769148369},{"$f":"[3]主表!M302","v":14404.773769148369},{"$f":"[3]主表!N302","v":0},{"$f":"[3]主表!$G302","v":5462290},{"$f":"[3]升级!$H302","v":1900},{"$f":"MAX(1,ROUND(100/(24*3600)*VLOOKUP(B304,[1]ResourceLevelConfig!$A:$E,5,FALSE),2))","v":23.15},50,4,4,4,25410,null,null,null,1,5,300,5,1203,2,1202,1,1201,1,1201,1,1201,1,{"$f":"VLOOKUP(AN304,[4]ItemConfig!$A:$AC,29,FALSE)*AO304+AM304","v":55},{"$f":"VLOOKUP(AP304,[4]ItemConfig!$A:$AC,29,FALSE)*AQ304","v":15},{"$f":"VLOOKUP(AR304,[4]ItemConfig!$A:$AC,29,FALSE)*AS304","v":10},{"$f":"VLOOKUP(AT304,[4]ItemConfig!$A:$AC,29,FALSE)*AU304","v":10},{"$f":"VLOOKUP(AV304,[4]ItemConfig!$A:$AC,29,FALSE)*AW304","v":10},{"$f":"CONCATENATE(AX304,\" + \",SUM(AY304:BB304))","v":"55 + 45"}]

{"sheet":"HeroQiangDuAddConfig","index":1,"n_rows":64,"n_cols":2,"rows_kept":64,"cut":false,"hidden":false,"merged":[]}
["ID","qiangDuZhi"]
["int","float"]
[]
["ID","玩家修为境界（等级）"]
[1,1]
[2,1.085]
[3,1.17]
[4,1.2549999999999999]
[5,1.34]
[6,1.425]
[7,1.51]
[8,1.595]
[9,1.68]
[10,1.7649999999999999]
[11,1.85]
[12,1.9350000000000001]
[13,2.02]
[14,2.105]
[15,2.19]
[16,2.2749999999999999]
[17,2.36]
[18,2.4449999999999998]
[19,2.5299999999999998]
[20,2.6150000000000002]
[21,2.7]
[22,2.7850000000000001]
[23,2.87]
[24,2.9550000000000001]
[25,3.04]
[26,3.125]
[27,3.21]
[28,3.2949999999999999]
[29,3.38]
[30,3.4649999999999999]
[31,3.55]
[32,3.6349999999999998]
[33,3.72]
[34,3.8050000000000002]
[35,3.89]
[36,3.9750000000000001]
[37,4.0599999999999996]
[38,4.1449999999999996]
[39,4.2300000000000004]
[40,4.3150000000000004]
[41,4.4000000000000004]
[42,4.4850000000000003]
[43,4.57]
[44,4.6550000000000002]
[45,4.74]
[46,4.8250000000000002]
[47,4.91]
[48,4.9950000000000001]
[49,5.08]
[50,5.165]
[51,5.25]
[52,5.335]
[53,5.42]
[54,5.5049999999999999]
[55,5.59]
[56,5.6749999999999998]
[57,5.76]
[58,5.8449999999999998]
[59,5.93]
[60,6]