{"text_format":"2","workbook":"xlsx","n_sheets":6,"sheets":["EventConfig","EventLinkConfig","EventConditionConfig","条件类型查询","EventNPC","XianTuLogConfig"],"not_rendered":{"charts":0,"images":0,"macros":0,"external_links":0,"defined_names":4,"comments":0,"pivot_tables":0},"unopened":[],"bounds":{"document_bytes":16777216,"sheet_cells":100000,"run_cost":"one","rows_first":2000,"rows_last":500,"rows_between":2000,"halvings":0,"cell_chars":16384,"cell_head_chars":4096},"cells_cut":0,"cells_raw":0,"read":"whole","date_system":"1900"}

{"sheet":"EventConfig","index":0,"n_rows":84,"n_cols":44,"rows_kept":84,"cut":false,"hidden":false,"merged":[]}
["ID","EventLinksId","EventTriggerType","EventTag","EventType","Score","EventQuality",null,"PrizeIDs","PrizeNums","RelatedEvents","RefreshProbability","RefreshCount","placeID","XiantuID",null,"EventConditionId","EventValue","EventCount","EventName","Description"]
["int","int[]","int","int","int","int","int",null,"int[]","int[]","int[]","int","int","int","int",null,"int","int[]","int","int","int"]
[{"$nulls":24},1,2,3,4,5,6,7,8,9,10,11,12,13,14,15,16,17,18,19,20]
["ID","事件包含的ID","事件类型：\n1.通用事件\n2.挂机事件\n4.主线任务\n5.仙山探险\n6.支线事件\n99.无标记\n","tag\n1主线2支线\n3通用\n4地图通用\n5道友6任务\n7资源","1.正常触发\n2.直接结算","增加进度值","事件品质",null,"事件结局奖励","事件结局奖励数量","关联的事件Id","刷新的概率\n（100=100%）","最大刷新数量","属于哪张地图","仙途日志ID","触发条件","触发条件类型\n只能配处于什么状态和数值，不能配变化的数值","触发效果值","触发判定数量or次数","任务标题","任务详情界面的总描述","标题","整体描述","总步数","步骤1","步骤2","步骤3","步骤4","步骤5","步骤6","步骤7","步骤8","步骤9","步骤10","步骤11","步骤12","步骤13","步骤14","步骤15","步骤16","步骤17","步骤18","步骤19","步骤20"]
[1,{"$f":"_xlfn.TEXTJOIN(\";\",1,Y5:AN5)","v":"1001;1002;1003;1004;1005"},1,3,1,0,1,null,1001,10,null,null,null,8,4,{"$f":"IF(Q5=\"\",\"\",VLOOKUP(Q5,条件类型查询!A:B,2,FALSE))","v":"境界判断"},3,5,null,174,1936,"受伤的狼","你发现一只奄奄一息的狼，决定上前一探究竟。",null,1001,1002,1003,1004,1005]
[2,{"$f":"_xlfn.TEXTJOIN(\";\",1,Y6:AN6)","v":"1010;1011;1012;1013;1014;1015;1016"},1,3,1,0,1,null,1001,10,null,null,null,9,4,{"$f":"IF(Q6=\"\",\"\",VLOOKUP(Q6,条件类型查询!A:B,2,FALSE))","v":""},null,null,null,175,1937,"鹬蚌相争","附近的小树林闹的不可开交，你决定去看看怎么回事。",null,1010,1011,1012,1013,1014,1015,1016]
[3,"1020;1021;1022;1023;1024;1025;1026",99,2,1,10,1,null,1001,10,null,null,null,10,4,{"$f":"IF(Q7=\"\",\"\",VLOOKUP(Q7,条件类型查询!A:B,2,FALSE))","v":"拥有特定道具"},1,1004,1,176,1938,"鹬蚌相争2","附近的小树林闹的不可开交，你决定去看看怎么回事。",null,1020,1021,1022,1023,1024,1025,1026]
[null,"",{"$nulls":13},{"$f":"IF(Q8=\"\",\"\",VLOOKUP(Q8,条件类型查询!A:B,2,FALSE))","v":""}]
[4,"1030",1,1,2,0,1,null,1001,10,null,null,null,5,3,{"$f":"IF(Q9=\"\",\"\",VLOOKUP(Q9,条件类型查询!A:B,2,FALSE))","v":"触发概率"},7,500,null,217,1939,"溅血背包","不远处有一个小红点，走近一看你发现是一个带血的背包。",null,1030]
[5,"1040",1,1,2,0,1,null,1001,10,null,null,null,5,3,{"$f":"IF(Q10=\"\",\"\",VLOOKUP(Q10,条件类型查询!A:B,2,FALSE))","v":""},null,null,null,218,1940,"废弃矿山","底下一座矿山甚是磅礴雄伟，走，去看一看。",null,1040]
[6,"1050",1,1,2,0,1,null,1001,10,null,null,null,6,3,{"$f":"IF(Q11=\"\",\"\",VLOOKUP(Q11,条件类型查询!A:B,2,FALSE))","v":""},null,null,null,219,1941,"吵架声","你被一男一女的吵架声吸引。",null,1050]
[7,"1060",1,1,2,0,1,null,1001,10,null,null,null,7,3,{"$f":"IF(Q12=\"\",\"\",VLOOKUP(Q12,条件类型查询!A:B,2,FALSE))","v":""},null,null,null,220,1942,"一座道观","远处一座道观仙气缭绕，似有仙人在此。",null,1060]
[null,"",{"$nulls":13},{"$f":"IF(Q13=\"\",\"\",VLOOKUP(Q13,条件类型查询!A:B,2,FALSE))","v":""}]
[11,"1101;1102",2,null,1,0,1,null,1001,10,{"$nulls":5},{"$f":"IF(Q14=\"\",\"\",VLOOKUP(Q14,条件类型查询!A:B,2,FALSE))","v":""},{"$nulls":5},"遇到怪物1-修为",null,{"$f":"COUNTIF(EventLinkConfig!O:O,EventConfig!A14)","v":2},{"$f":"IF($X14>=Y$3,$A14*100+Y$3,\"\")","v":1101},{"$f":"IF($X14>=Z$3,$A14*100+Z$3,\"\")","v":1102},"","","","","","","","","",""]
[12,"1201;1202;1203",2,null,1,0,1,null,1001,10,{"$nulls":5},{"$f":"IF(Q15=\"\",\"\",VLOOKUP(Q15,条件类型查询!A:B,2,FALSE))","v":""},{"$nulls":5},"对话-功法灵气",null,{"$f":"COUNTIF(EventLinkConfig!O:O,EventConfig!A15)","v":3},{"$f":"IF($X15>=Y$3,$A15*100+Y$3,\"\")","v":1201},1202,1203,"","","","","","","","",""]
[13,"1301;1302;1303;1304",2,null,1,0,1,null,1001,10,{"$nulls":5},{"$f":"IF(Q16=\"\",\"\",VLOOKUP(Q16,条件类型查询!A:B,2,FALSE))","v":""},{"$nulls":5},"对话-法宝灵韵",null,{"$f":"COUNTIF(EventLinkConfig!O:O,EventConfig!A16)","v":4},{"$f":"IF($X16>=Y$3,$A16*100+Y$3,\"\")","v":1301},1302,1303,1304,"","","","","","","",""]
[14,"1401;1402",2,null,1,0,1,null,1001,10,{"$nulls":5},{"$f":"IF(Q17=\"\",\"\",VLOOKUP(Q17,条件类型查询!A:B,2,FALSE))","v":""},{"$nulls":5},"遇到怪物2-修为",null,{"$f":"COUNTIF(EventLinkConfig!O:O,EventConfig!A17)","v":2},{"$f":"IF($X17>=Y$3,$A17*100+Y$3,\"\")","v":1401},1402,"","","","","","","","","",""]
[15,"1501;1502",2,null,1,0,1,null,1001,10,{"$nulls":5},{"$f":"IF(Q18=\"\",\"\",VLOOKUP(Q18,条件类型查询!A:B,2,FALSE))","v":""},{"$nulls":5},"遇到怪物3-修为",null,{"$f":"COUNTIF(EventLinkConfig!O:O,EventConfig!A18)","v":2},{"$f":"IF($X18>=Y$3,$A18*100+Y$3,\"\")","v":1501},1502,"","","","","","","","","",""]
[null,"",{"$nulls":13},{"$f":"IF(Q19=\"\",\"\",VLOOKUP(Q19,条件类型查询!A:B,2,FALSE))","v":""}]
[null,"",{"$nulls":13},{"$f":"IF(Q20=\"\",\"\",VLOOKUP(Q20,条件类型查询!A:B,2,FALSE))","v":""}]
[10001,"1000101;1000102;1000103;1000104",4,1,1,10,1,null,1001,10,null,null,null,1,1,{"$f":"IF(Q21=\"\",\"\",VLOOKUP(Q21,条件类型查询!A:B,2,FALSE))","v":""},null,null,null,1906,1914,"鲲鹏何在","神识未灭",{"$f":"COUNTIF(EventLinkConfig!O:O,EventConfig!A21)","v":4},{"$f":"IF($X21>=Y$3,$A21*100+Y$3,\"\")","v":1000101},{"$f":"IF($X21>=Z$3,$A21*100+Z$3,\"\")","v":1000102},1000103,1000104,"","","","","","","","","","","",""]
[10002,"1000201;1000202;1000203",4,1,1,10,1,null,1001,10,null,null,null,1,1,{"$f":"IF(Q22=\"\",\"\",VLOOKUP(Q22,条件类型查询!A:B,2,FALSE))","v":""},null,null,null,1907,1915,"北海迷径1","御剑而行",{"$f":"COUNTIF(EventLinkConfig!O:O,EventConfig!A22)","v":3},{"$f":"IF($X22>=Y$3,$A22*100+Y$3,\"\")","v":1000201},1000202,1000203,"","","","","","","","","","","","",""]
[10003,"1000301;1000302;1000303;1000304;1000305;1000306;1000307;1000308;1000309",4,1,1,10,1,null,1001,10,null,null,null,1,1,{"$f":"IF(Q23=\"\",\"\",VLOOKUP(Q23,条件类型查询!A:B,2,FALSE))","v":""},null,null,null,1908,1916,"北海迷径2","雀笑大鹏",{"$f":"COUNTIF(EventLinkConfig!O:O,EventConfig!A23)","v":9},1000301,1000302,1000303,1000304,1000305,1000306,1000307,1000308,1000309,"","","","","","",""]
[10004,"1000401;1000402;1000403;1000404",4,1,1,10,1,null,1001,10,null,null,null,1,1,{"$f":"IF(Q24=\"\",\"\",VLOOKUP(Q24,条件类型查询!A:B,2,FALSE))","v":""},null,null,null,1909,1917,"古径阵法","击败结界兽",{"$f":"COUNTIF(EventLinkConfig!O:O,EventConfig!A24)","v":4},1000401,1000402,1000403,1000404,"","","","","","","","","","","",""]
[10005,"1000501;1000502;1000503;1000504;1000505;1000506;1000507;1000508;1000509;1000510;1000511;1000512;1000513;1000514",4,1,1,10,1,null,1001,10,null,null,null,1,1,{"$f":"IF(Q25=\"\",\"\",VLOOKUP(Q25,条件类型查询!A:B,2,FALSE))","v":""},null,null,null,2135,2137,"浮空之岛1","初见疯道人",{"$f":"COUNTIF(EventLinkConfig!O:O,EventConfig!A25)","v":14},1000501,1000502,1000503,1000504,1000505,1000506,1000507,1000508,1000509,1000510,1000511,1000512,1000513,1000514,"",""]
[10006,"1000601;1000602;1000603;1000604;1000605;1000606",4,1,1,10,1,null,1001,10,null,null,null,1,1,{"$f":"IF(Q26=\"\",\"\",VLOOKUP(Q26,条件类型查询!A:B,2,FALSE))","v":""},null,null,null,2136,2138,"浮空之岛2","筑基中期",{"$f":"COUNTIF(EventLinkConfig!O:O,EventConfig!A26)","v":6},1000601,1000602,1000603,1000604,1000605,1000606,"","","","","","","","","",""]
[10007,"1000701;1000702;1000703;1000704;1000705",4,1,1,10,1,null,1001,10,null,null,null,1,1,{"$f":"IF(Q27=\"\",\"\",VLOOKUP(Q27,条件类型查询!A:B,2,FALSE))","v":""},null,null,null,2801,2822,"风中洞府1","击败痴道人",{"$f":"COUNTIF(EventLinkConfig!O:O,EventConfig!A27)","v":5},{"$f":"IF($X27>=Y$3,$A27*100+Y$3,\"\")","v":1000701},1000702,1000703,1000704,1000705,"","","","","","","","","","",""]
[10008,"1000801;1000802;1000803;1000804;1000805;1000806;1000807;1000808;1000809;1000810;1000811;1000812;1000813;1000814",4,1,1,10,1,null,1001,10,null,null,null,1,1,{"$f":"IF(Q28=\"\",\"\",VLOOKUP(Q28,条件类型查询!A:B,2,FALSE))","v":""},null,null,null,2802,2823,"风中洞府2","疯痴相聚",{"$f":"COUNTIF(EventLinkConfig!O:O,EventConfig!A28)","v":14},1000801,1000802,1000803,1000804,1000805,1000806,1000807,1000808,1000809,1000810,1000811,1000812,1000813,1000814,"",""]
[10009,"1000901;1000902;1000903",4,1,1,10,1,null,1001,10,null,null,null,1,1,{"$f":"IF(Q29=\"\",\"\",VLOOKUP(Q29,条件类型查询!A:B,2,FALSE))","v":""},null,null,null,2803,2824,"风灵之力","筑基后期",{"$f":"COUNTIF(EventLinkConfig!O:O,EventConfig!A29)","v":3},1000901,1000902,1000903,"","","","","","","","","","","","",""]
[10010,"1001001",4,1,1,10,1,null,1001,10,30003,null,null,1,1,{"$f":"IF(Q30=\"\",\"\",VLOOKUP(Q30,条件类型查询!A:B,2,FALSE))","v":""},null,null,null,2804,2825,"北海深处1","妖兽横行",{"$f":"COUNTIF(EventLinkConfig!O:O,EventConfig!A30)","v":1},1001001,"","","","","","","","","","","","","","",""]
[10011,"1001101",4,1,1,10,1,null,1001,10,null,null,null,1,1,{"$f":"IF(Q31=\"\",\"\",VLOOKUP(Q31,条件类型查询!A:B,2,FALSE))","v":""},null,null,null,2805,2826,"北海深处2","遇见鲲鹏",{"$f":"COUNTIF(EventLinkConfig!O:O,EventConfig!A31)","v":1},1001101,"","","","","","","","","","","","","","",""]
[10012,"1001201;1001202;1001203;1001204;1001205;1001206;1001207;1001208;1001209;1001210;1001211;1001212",4,1,1,10,1,null,1001,10,null,null,null,2,1,{"$f":"IF(Q32=\"\",\"\",VLOOKUP(Q32,条件类型查询!A:B,2,FALSE))","v":""},null,null,null,2806,2827,"尧之都","尧让天下",{"$f":"COUNTIF(EventLinkConfig!O:O,EventConfig!A32)","v":12},{"$f":"IF($X32>=Y$3,$A32*100+Y$3,\"\")","v":1001201},1001202,1001203,1001204,1001205,1001206,1001207,1001208,1001209,1001210,1001211,1001212,"","","",""]
[10013,"1001301;1001302;1001303;1001304;1001305;1001306;1001307;1001308;1001309;1001310;1001311;1001312;1001313;1001314;1001315;1001316",4,1,1,10,1,null,1001,10,null,null,null,2,1,{"$f":"IF(Q33=\"\",\"\",VLOOKUP(Q33,条件类型查询!A:B,2,FALSE))","v":""},null,null,null,2807,2828,"山林清音","访贤许由",{"$f":"COUNTIF(EventLinkConfig!O:O,EventConfig!A33)","v":16},1001301,1001302,1001303,1001304,1001305,1001306,1001307,1001308,1001309,1001310,1001311,1001312,1001313,1001314,1001315,1001316]
[10014,"1001401;1001402;1001403;1001404;1001405;1001406;1001407;1001408",4,1,1,10,1,null,1001,10,30004,null,null,2,1,{"$f":"IF(Q34=\"\",\"\",VLOOKUP(Q34,条件类型查询!A:B,2,FALSE))","v":""},null,null,null,2808,2829,"山中劳作","割草喝茶",{"$f":"COUNTIF(EventLinkConfig!O:O,EventConfig!A34)","v":8},1001401,1001402,1001403,1001404,1001405,1001406,1001407,1001408,"","","","","","","",""]
[10015,"1001501;1001502;1001503;1001504;1001505;1001506;1001507;1001508",4,1,1,10,1,null,1001,10,30005,null,null,2,1,{"$f":"IF(Q35=\"\",\"\",VLOOKUP(Q35,条件类型查询!A:B,2,FALSE))","v":""},null,null,null,2809,2830,"风起夜战","再来一杯",{"$f":"COUNTIF(EventLinkConfig!O:O,EventConfig!A35)","v":8},1001501,1001502,1001503,1001504,1001505,1001506,1001507,1001508,"","","","","","","",""]
[10016,"1001601;1001602;1001603;1001604;1001605;1001606;1001607;1001608;1001609;1001610;1001611;1001612;1001613",4,1,1,10,1,null,1001,10,30006,null,null,2,1,{"$f":"IF(Q36=\"\",\"\",VLOOKUP(Q36,条件类型查询!A:B,2,FALSE))","v":""},null,null,null,2810,2831,"吃茶三问","战胜妖王",{"$f":"COUNTIF(EventLinkConfig!O:O,EventConfig!A36)","v":13},1001601,1001602,1001603,1001604,1001605,1001606,1001607,1001608,1001609,1001610,1001611,1001612,1001613,"","",""]
[10017,"1001701;1001702;1001703;1001704;1001705;1001706;1001707;1001708;1001709;1001710",4,1,1,10,1,null,1001,10,null,null,null,2,1,{"$f":"IF(Q37=\"\",\"\",VLOOKUP(Q37,条件类型查询!A:B,2,FALSE))","v":""},null,null,null,2811,2832,"尧让天下","复命尧帝",{"$f":"COUNTIF(EventLinkConfig!O:O,EventConfig!A37)","v":10},{"$f":"IF($X37>=Y$3,$A37*100+Y$3,\"\")","v":1001701},{"$f":"IF($X37>=Z$3,$A37*100+Z$3,\"\")","v":1001702},1001703,1001704,1001705,1001706,1001707,1001708,1001709,1001710,"","","","","",""]
[10018,"1001801;1001802;1001803;1001804;1001805;1001806;1001807;1001808;1001809;1001810;1001811;1001812;1001813;1001814;1001815;1001816",4,1,1,10,1,null,1001,10,null,null,null,2,1,{"$f":"IF(Q38=\"\",\"\",VLOOKUP(Q38,条件类型查询!A:B,2,FALSE))","v":""},null,null,null,2812,2833,"无用之树","树下闲话",{"$f":"COUNTIF(EventLinkConfig!O:O,EventConfig!A38)","v":20},{"$f":"IF($X38>=Y$3,$A38*100+Y$3,\"\")","v":1001801},1001802,1001803,1001804,1001805,1001806,1001807,1001808,1001809,1001810,1001811,1001812,1001813,1001814,1001815,{"$f":"IF($X38>=AN$3,$A38*100+AN$3,\"\")","v":1001816},{"$f":"IF($X38>=AO$3,$A38*100+AO$3,\"\")","v":1001817},{"$f":"IF($X38>=AP$3,$A38*100+AP$3,\"\")","v":1001818},{"$f":"IF($X38>=AQ$3,$A38*100+AQ$3,\"\")","v":1001819},{"$f":"IF($X38>=AR$3,$A38*100+AR$3,\"\")","v":1001820}]
[10019,"1001901;1001902",4,1,1,10,1,null,1001,10,null,null,null,2,1,{"$f":"IF(Q39=\"\",\"\",VLOOKUP(Q39,条件类型查询!A:B,2,FALSE))","v":""},null,null,null,2813,2834,"樗木之灵","切磋切磋",{"$f":"COUNTIF(EventLinkConfig!O:O,EventConfig!A39)","v":2},{"$f":"IF($X39>=Y$3,$A39*100+Y$3,\"\")","v":1001901},1001902,"","","","","","","","","","","","","",""]
[10020,"1002001;1002002;1002003;1002004",4,1,1,10,1,null,1001,10,null,null,null,2,1,{"$f":"IF(Q40=\"\",\"\",VLOOKUP(Q40,条件类型查询!A:B,2,FALSE))","v":""},null,null,null,2814,2835,"游尧都","金丹前期",{"$f":"COUNTIF(EventLinkConfig!O:O,EventConfig!A40)","v":4},1002001,1002002,1002003,1002004,"","","","","","","","","","","",""]
[10021,"1002101;1002102;1002103;1002104;1002105;1002106;1002107;1002108;1002109;1002110;1002111;1002112",4,1,1,10,1,null,1001,10,null,null,null,2,1,{"$f":"IF(Q41=\"\",\"\",VLOOKUP(Q41,条件类型查询!A:B,2,FALSE))","v":""},null,null,null,2815,2836,"再见尧帝","仙山传说",{"$f":"COUNTIF(EventLinkConfig!O:O,EventConfig!A41)","v":12},1002101,1002102,1002103,1002104,1002105,1002106,1002107,1002108,1002109,1002110,1002111,1002112,{"$f":"IF($X41>=AK$3,$A41*100+AK$3,\"\")","v":""},"","",""]
[10022,"1002201;1002202;1002203",4,1,1,10,1,null,1001,10,30007,null,null,3,1,{"$f":"IF(Q42=\"\",\"\",VLOOKUP(Q42,条件类型查询!A:B,2,FALSE))","v":""},null,null,null,2816,2837,"云海漫行","入山幻阵",{"$f":"COUNTIF(EventLinkConfig!O:O,EventConfig!A42)","v":3},1002201,1002202,1002203,"","","","","","","","","","","","",""]
[10023,"1002301;1002302;1002303;1002304;1002305;1002306;1002307;1002308;1002309;1002310;1002311;1002312",4,1,1,10,1,null,1001,10,null,null,null,3,1,{"$f":"IF(Q43=\"\",\"\",VLOOKUP(Q43,条件类型查询!A:B,2,FALSE))","v":""},null,null,null,2817,2838,"初见惠子","葫芦种子",{"$f":"COUNTIF(EventLinkConfig!O:O,EventConfig!A43)","v":12},{"$f":"IF($X43>=Y$3,$A43*100+Y$3,\"\")","v":1002301},1002302,1002303,1002304,1002305,1002306,1002307,1002308,1002309,1002310,1002311,1002312,"","","",""]
[10024,"1002401;1002402;1002403;1002404;1002405;1002406;1002407",4,1,1,10,1,null,1001,10,30008,null,null,3,1,{"$f":"IF(Q44=\"\",\"\",VLOOKUP(Q44,条件类型查询!A:B,2,FALSE))","v":""},null,null,null,2818,2839,"葫芦肥料","天肥地肥",{"$f":"COUNTIF(EventLinkConfig!O:O,EventConfig!A44)","v":7},1002401,1002402,1002403,1002404,1002405,1002406,1002407,"","","","","","","","",""]
[10025,"1002501;1002502;1002503;1002504;1002505;1002506;1002507;1002508;1002509",4,1,1,10,1,null,1001,10,null,null,null,3,1,{"$f":"IF(Q45=\"\",\"\",VLOOKUP(Q45,条件类型查询!A:B,2,FALSE))","v":""},null,null,null,2819,2840,"藐姑射山","登山",{"$f":"COUNTIF(EventLinkConfig!O:O,EventConfig!A45)","v":9},1002501,1002502,1002503,1002504,1002505,1002506,1002507,1002508,1002509,"","","","","","",""]
[10026,"",4,1,1,10,1,null,1001,10,null,null,null,3,1,{"$f":"IF(Q46=\"\",\"\",VLOOKUP(Q46,条件类型查询!A:B,2,FALSE))","v":""},null,null,null,2820,2841,"炼器师","重铸忘火剑",{"$f":"COUNTIF(EventLinkConfig!O:O,EventConfig!A46)","v":0},"","","","","","","","","","","","","","","",""]
[10027,"",4,1,1,10,1,null,1001,10,null,null,null,3,1,{"$f":"IF(Q47=\"\",\"\",VLOOKUP(Q47,条件类型查询!A:B,2,FALSE))","v":""},null,null,null,2821,2842,"忘火剑","护法",{"$f":"COUNTIF(EventLinkConfig!O:O,EventConfig!A47)","v":0},"","","","","","","","","","","","","","","",""]
[null,""]
[1001,"1001;1002;1003;1004;1005",99,4,1,10,1,null,1001,10,{"$nulls":9},1943,1944,"受伤的鸟","你发现一只奄奄一息的鸟，决定上前一探究竟。",null,1001,1002,1003,1004,1005]
[1011,"101101",1,7,1,0,1,null,1401,1,{"$nulls":9},3017,3018,"药田","神识探索至一处山洞之中，似乎别有洞天",{"$f":"COUNTIF(EventLinkConfig!O:O,EventConfig!A50)","v":1},{"$f":"IF($X50>=Y$3,$A50*100+Y$3,\"\")","v":101101},"","","","","","","","","","","","","","",""]
[1012,"101201",1,7,1,0,3,null,1401,1,{"$nulls":9},3038,3039,"矿井","神识探索至一处矿井之中，此处灵气氤氲",{"$f":"COUNTIF(EventLinkConfig!O:O,EventConfig!A51)","v":1},{"$f":"IF($X51>=Y$3,$A51*100+Y$3,\"\")","v":101201},{"$f":"IF($X51>=Z$3,$A51*100+Z$3,\"\")","v":""},{"$f":"IF($X51>=AA$3,$A51*100+AA$3,\"\")","v":""},{"$f":"IF($X51>=AB$3,$A51*100+AB$3,\"\")","v":""},{"$f":"IF($X51>=AC$3,$A51*100+AC$3,\"\")","v":""},{"$f":"IF($X51>=AD$3,$A51*100+AD$3,\"\")","v":""},{"$f":"IF($X51>=AE$3,$A51*100+AE$3,\"\")","v":""},{"$f":"IF($X51>=AF$3,$A51*100+AF$3,\"\")","v":""},{"$f":"IF($X51>=AG$3,$A51*100+AG$3,\"\")","v":""},{"$f":"IF($X51>=AH$3,$A51*100+AH$3,\"\")","v":""},{"$f":"IF($X51>=AI$3,$A51*100+AI$3,\"\")","v":""},{"$f":"IF($X51>=AJ$3,$A51*100+AJ$3,\"\")","v":""},{"$f":"IF($X51>=AK$3,$A51*100+AK$3,\"\")","v":""},{"$f":"IF($X51>=AL$3,$A51*100+AL$3,\"\")","v":""},{"$f":"IF($X51>=AM$3,$A51*100+AM$3,\"\")","v":""},{"$f":"IF($X51>=AN$3,$A51*100+AN$3,\"\")","v":""}]
[1013,"101301",1,7,1,0,3,null,1401,1,{"$nulls":9},3040,3041,"寺庙","神识经过一处荒废寺庙之外，寺庙之中似乎有不同寻常之物",{"$f":"COUNTIF(EventLinkConfig!O:O,EventConfig!A52)","v":1},{"$f":"IF($X52>=Y$3,$A52*100+Y$3,\"\")","v":101301},{"$f":"IF($X52>=Z$3,$A52*100+Z$3,\"\")","v":""},{"$f":"IF($X52>=AA$3,$A52*100+AA$3,\"\")","v":""},{"$f":"IF($X52>=AB$3,$A52*100+AB$3,\"\")","v":""},{"$f":"IF($X52>=AC$3,$A52*100+AC$3,\"\")","v":""},{"$f":"IF($X52>=AD$3,$A52*100+AD$3,\"\")","v":""},{"$f":"IF($X52>=AE$3,$A52*100+AE$3,\"\")","v":""},{"$f":"IF($X52>=AF$3,$A52*100+AF$3,\"\")","v":""},{"$f":"IF($X52>=AG$3,$A52*100+AG$3,\"\")","v":""},{"$f":"IF($X52>=AH$3,$A52*100+AH$3,\"\")","v":""},{"$f":"IF($X52>=AI$3,$A52*100+AI$3,\"\")","v":""},{"$f":"IF($X52>=AJ$3,$A52*100+AJ$3,\"\")","v":""},{"$f":"IF($X52>=AK$3,$A52*100+AK$3,\"\")","v":""},{"$f":"IF($X52>=AL$3,$A52*100+AL$3,\"\")","v":""},{"$f":"IF($X52>=AM$3,$A52*100+AM$3,\"\")","v":""},{"$f":"IF($X52>=AN$3,$A52*100+AN$3,\"\")","v":""}]
[1014,"101401",1,7,1,0,3,null,1401,1,{"$nulls":9},3042,3043,"洞府遗址","神识至一处灵气充盈之地，似乎是处洞府",{"$f":"COUNTIF(EventLinkConfig!O:O,EventConfig!A53)","v":1},{"$f":"IF($X53>=Y$3,$A53*100+Y$3,\"\")","v":101401},{"$f":"IF($X53>=Z$3,$A53*100+Z$3,\"\")","v":""},{"$f":"IF($X53>=AA$3,$A53*100+AA$3,\"\")","v":""},{"$f":"IF($X53>=AB$3,$A53*100+AB$3,\"\")","v":""},{"$f":"IF($X53>=AC$3,$A53*100+AC$3,\"\")","v":""},{"$f":"IF($X53>=AD$3,$A53*100+AD$3,\"\")","v":""},{"$f":"IF($X53>=AE$3,$A53*100+AE$3,\"\")","v":""},{"$f":"IF($X53>=AF$3,$A53*100+AF$3,\"\")","v":""},{"$f":"IF($X53>=AG$3,$A53*100+AG$3,\"\")","v":""},{"$f":"IF($X53>=AH$3,$A53*100+AH$3,\"\")","v":""},{"$f":"IF($X53>=AI$3,$A53*100+AI$3,\"\")","v":""},{"$f":"IF($X53>=AJ$3,$A53*100+AJ$3,\"\")","v":""},{"$f":"IF($X53>=AK$3,$A53*100+AK$3,\"\")","v":""},{"$f":"IF($X53>=AL$3,$A53*100+AL$3,\"\")","v":""},{"$f":"IF($X53>=AM$3,$A53*100+AM$3,\"\")","v":""},{"$f":"IF($X53>=AN$3,$A53*100+AN$3,\"\")","v":""}]
[1015,"101501;101502",1,7,1,0,1,null,1401,1,{"$nulls":9},3046,3047,"拦路山贼","一个不知好歹的山贼拦住了你的去路",{"$f":"COUNTIF(EventLinkConfig!O:O,EventConfig!A54)","v":2},{"$f":"IF($X54>=Y$3,$A54*100+Y$3,\"\")","v":101501},{"$f":"IF($X54>=Z$3,$A54*100+Z$3,\"\")","v":101502},{"$f":"IF($X54>=AA$3,$A54*100+AA$3,\"\")","v":""},{"$f":"IF($X54>=AB$3,$A54*100+AB$3,\"\")","v":""},{"$f":"IF($X54>=AC$3,$A54*100+AC$3,\"\")","v":""},{"$f":"IF($X54>=AD$3,$A54*100+AD$3,\"\")","v":""},{"$f":"IF($X54>=AE$3,$A54*100+AE$3,\"\")","v":""},{"$f":"IF($X54>=AF$3,$A54*100+AF$3,\"\")","v":""},{"$f":"IF($X54>=AG$3,$A54*100+AG$3,\"\")","v":""},{"$f":"IF($X54>=AH$3,$A54*100+AH$3,\"\")","v":""},{"$f":"IF($X54>=AI$3,$A54*100+AI$3,\"\")","v":""},{"$f":"IF($X54>=AJ$3,$A54*100+AJ$3,\"\")","v":""},{"$f":"IF($X54>=AK$3,$A54*100+AK$3,\"\")","v":""},{"$f":"IF($X54>=AL$3,$A54*100+AL$3,\"\")","v":""},{"$f":"IF($X54>=AM$3,$A54*100+AM$3,\"\")","v":""},{"$f":"IF($X54>=AN$3,$A54*100+AN$3,\"\")","v":""}]
[1016,"101601;101602",1,7,1,0,1,null,1401,1,30009,{"$nulls":8},3048,3049,"丢袈裟的和尚","一位和尚叫住了你，似乎有什么急事",{"$f":"COUNTIF(EventLinkConfig!O:O,EventConfig!A55)","v":2},{"$f":"IF($X55>=Y$3,$A55*100+Y$3,\"\")","v":101601},{"$f":"IF($X55>=Z$3,$A55*100+Z$3,\"\")","v":101602},{"$f":"IF($X55>=AA$3,$A55*100+AA$3,\"\")","v":""},{"$f":"IF($X55>=AB$3,$A55*100+AB$3,\"\")","v":""},{"$f":"IF($X55>=AC$3,$A55*100+AC$3,\"\")","v":""},{"$f":"IF($X55>=AD$3,$A55*100+AD$3,\"\")","v":""},{"$f":"IF($X55>=AE$3,$A55*100+AE$3,\"\")","v":""},{"$f":"IF($X55>=AF$3,$A55*100+AF$3,\"\")","v":""},{"$f":"IF($X55>=AG$3,$A55*100+AG$3,\"\")","v":""},{"$f":"IF($X55>=AH$3,$A55*100+AH$3,\"\")","v":""},{"$f":"IF($X55>=AI$3,$A55*100+AI$3,\"\")","v":""},{"$f":"IF($X55>=AJ$3,$A55*100+AJ$3,\"\")","v":""},{"$f":"IF($X55>=AK$3,$A55*100+AK$3,\"\")","v":""},{"$f":"IF($X55>=AL$3,$A55*100+AL$3,\"\")","v":""},{"$f":"IF($X55>=AM$3,$A55*100+AM$3,\"\")","v":""},{"$f":"IF($X55>=AN$3,$A55*100+AN$3,\"\")","v":""}]
[1017,"101701",1,7,1,0,1,null,1401,1,null,100,{"$nulls":4},10,30009,null,3048,3050,"丢袈裟的和尚","将袈裟还给和尚",{"$f":"COUNTIF(EventLinkConfig!O:O,EventConfig!A56)","v":1},{"$f":"IF($X56>=Y$3,$A56*100+Y$3,\"\")","v":101701},{"$f":"IF($X56>=Z$3,$A56*100+Z$3,\"\")","v":""},{"$f":"IF($X56>=AA$3,$A56*100+AA$3,\"\")","v":""},{"$f":"IF($X56>=AB$3,$A56*100+AB$3,\"\")","v":""},{"$f":"IF($X56>=AC$3,$A56*100+AC$3,\"\")","v":""},{"$f":"IF($X56>=AD$3,$A56*100+AD$3,\"\")","v":""},{"$f":"IF($X56>=AE$3,$A56*100+AE$3,\"\")","v":""},{"$f":"IF($X56>=AF$3,$A56*100+AF$3,\"\")","v":""},{"$f":"IF($X56>=AG$3,$A56*100+AG$3,\"\")","v":""},{"$f":"IF($X56>=AH$3,$A56*100+AH$3,\"\")","v":""},{"$f":"IF($X56>=AI$3,$A56*100+AI$3,\"\")","v":""},{"$f":"IF($X56>=AJ$3,$A56*100+AJ$3,\"\")","v":""},{"$f":"IF($X56>=AK$3,$A56*100+AK$3,\"\")","v":""},{"$f":"IF($X56>=AL$3,$A56*100+AL$3,\"\")","v":""},{"$f":"IF($X56>=AM$3,$A56*100+AM$3,\"\")","v":""},{"$f":"IF($X56>=AN$3,$A56*100+AN$3,\"\")","v":""}]
[1018,"101801;101802;101803;101804",1,7,1,0,1,null,1201,1,{"$nulls":9},3051,3052,"云游修士","一名云游修士前来问道",{"$f":"COUNTIF(EventLinkConfig!O:O,EventConfig!A57)","v":4},{"$f":"IF($X57>=Y$3,$A57*100+Y$3,\"\")","v":101801},{"$f":"IF($X57>=Z$3,$A57*100+Z$3,\"\")","v":101802},{"$f":"IF($X57>=AA$3,$A57*100+AA$3,\"\")","v":101803},{"$f":"IF($X57>=AB$3,$A57*100+AB$3,\"\")","v":101804},{"$f":"IF($X57>=AC$3,$A57*100+AC$3,\"\")","v":""},{"$f":"IF($X57>=AD$3,$A57*100+AD$3,\"\")","v":""},{"$f":"IF($X57>=AE$3,$A57*100+AE$3,\"\")","v":""},{"$f":"IF($X57>=AF$3,$A57*100+AF$3,\"\")","v":""},{"$f":"IF($X57>=AG$3,$A57*100+AG$3,\"\")","v":""},{"$f":"IF($X57>=AH$3,$A57*100+AH$3,\"\")","v":""},{"$f":"IF($X57>=AI$3,$A57*100+AI$3,\"\")","v":""},{"$f":"IF($X57>=AJ$3,$A57*100+AJ$3,\"\")","v":""},{"$f":"IF($X57>=AK$3,$A57*100+AK$3,\"\")","v":""},{"$f":"IF($X57>=AL$3,$A57*100+AL$3,\"\")","v":""},{"$f":"IF($X57>=AM$3,$A57*100+AM$3,\"\")","v":""},{"$f":"IF($X57>=AN$3,$A57*100+AN$3,\"\")","v":""}]
[1019,"101901;101902;101903",1,7,1,0,1,null,1201,1,{"$nulls":9},3053,3054,"镇压妖王","逍遥宗长老前来求教",{"$f":"COUNTIF(EventLinkConfig!O:O,EventConfig!A58)","v":3},{"$f":"IF($X58>=Y$3,$A58*100+Y$3,\"\")","v":101901},{"$f":"IF($X58>=Z$3,$A58*100+Z$3,\"\")","v":101902},{"$f":"IF($X58>=AA$3,$A58*100+AA$3,\"\")","v":101903},{"$f":"IF($X58>=AB$3,$A58*100+AB$3,\"\")","v":""},{"$f":"IF($X58>=AC$3,$A58*100+AC$3,\"\")","v":""},{"$f":"IF($X58>=AD$3,$A58*100+AD$3,\"\")","v":""},{"$f":"IF($X58>=AE$3,$A58*100+AE$3,\"\")","v":""},{"$f":"IF($X58>=AF$3,$A58*100+AF$3,\"\")","v":""},{"$f":"IF($X58>=AG$3,$A58*100+AG$3,\"\")","v":""},{"$f":"IF($X58>=AH$3,$A58*100+AH$3,\"\")","v":""},{"$f":"IF($X58>=AI$3,$A58*100+AI$3,\"\")","v":""},{"$f":"IF($X58>=AJ$3,$A58*100+AJ$3,\"\")","v":""},{"$f":"IF($X58>=AK$3,$A58*100+AK$3,\"\")","v":""},{"$f":"IF($X58>=AL$3,$A58*100+AL$3,\"\")","v":""},{"$f":"IF($X58>=AM$3,$A58*100+AM$3,\"\")","v":""},{"$f":"IF($X58>=AN$3,$A58*100+AN$3,\"\")","v":""}]
[1020,"102001;102002",1,7,1,0,1,null,1203,1,{"$nulls":9},3055,3056,"清剿妖兽","妖兽入侵了村子，消灭掉它们",{"$f":"COUNTIF(EventLinkConfig!O:O,EventConfig!A59)","v":2},{"$f":"IF($X59>=Y$3,$A59*100+Y$3,\"\")","v":102001},{"$f":"IF($X59>=Z$3,$A59*100+Z$3,\"\")","v":102002},{"$f":"IF($X59>=AA$3,$A59*100+AA$3,\"\")","v":""},{"$f":"IF($X59>=AB$3,$A59*100+AB$3,\"\")","v":""},{"$f":"IF($X59>=AC$3,$A59*100+AC$3,\"\")","v":""},{"$f":"IF($X59>=AD$3,$A59*100+AD$3,\"\")","v":""},{"$f":"IF($X59>=AE$3,$A59*100+AE$3,\"\")","v":""},{"$f":"IF($X59>=AF$3,$A59*100+AF$3,\"\")","v":""},{"$f":"IF($X59>=AG$3,$A59*100+AG$3,\"\")","v":""},{"$f":"IF($X59>=AH$3,$A59*100+AH$3,\"\")","v":""},{"$f":"IF($X59>=AI$3,$A59*100+AI$3,\"\")","v":""},{"$f":"IF($X59>=AJ$3,$A59*100+AJ$3,\"\")","v":""},{"$f":"IF($X59>=AK$3,$A59*100+AK$3,\"\")","v":""},{"$f":"IF($X59>=AL$3,$A59*100+AL$3,\"\")","v":""},{"$f":"IF($X59>=AM$3,$A59*100+AM$3,\"\")","v":""},{"$f":"IF($X59>=AN$3,$A59*100+AN$3,\"\")","v":""}]
[null,{"$f":"_xlfn.TEXTJOIN(\";\",1,Y60:AN60)","v":""}]
[20001,"1001;1002;1003;1004;1005",5,null,1,0,1,null,1001,10,{"$nulls":9},174,1936,"受伤的狼","你发现一只奄奄一息的狼，决定上前一探究竟。",null,1001,1002,1003,1004,1005]
[20002,"1010;1011;1012;1013;1014;1015;1016",5,null,1,0,1,null,1001,10,{"$nulls":5},{"$f":"IF(Q62=\"\",\"\",VLOOKUP(Q62,条件类型查询!A:B,2,FALSE))","v":""},null,null,null,175,1937,"鹬蚌相争","附近的小树林闹的不可开交，你决定去看看怎么回事。",null,1010,1011,1012,1013,1014,1015,1016]
[20003,"1001;1002;1003;1004;1005",5,null,1,0,1,null,1001,10,{"$nulls":9},1943,1944,"受伤的鸟","你发现一只奄奄一息的鸟，决定上前一探究竟。",null,1001,1002,1003,1004,1005]
[null,""]
[9001,"1001;1002;1003;1004;1005",6,3,1,0,1,null,1001,10,{"$nulls":9},174,1936,"受伤的狼","你发现一只奄奄一息的狼，决定上前一探究竟。",null,1001,1002,1003,1004,1005]
[9002,"1010;1011;1012;1013;1014;1015;1016",6,3,1,0,1,null,1001,10,{"$nulls":5},{"$f":"IF(Q66=\"\",\"\",VLOOKUP(Q66,条件类型查询!A:B,2,FALSE))","v":""},null,null,null,175,1937,"鹬蚌相争","附近的小树林闹的不可开交，你决定去看看怎么回事。",null,1010,1011,1012,1013,1014,1015,1016]
[9003,"9003;9004;9005;9006;9007;9008",6,5,1,0,1,null,1001,10,{"$nulls":9},2035,2036,"幽谷剑鸣","你在闭关修炼时，感受到一股凌厉的剑意波动。深入探查，发现一名白衣剑修“清霜”盘坐于谷中，周围剑气环绕，正与一柄散发不祥气息的灵剑对峙。她似在参悟剑诀，却灵气不足，剑灵桀骜。",null,9003,9004,9005,9006,9007,9008]
[9025,"",6,3,1,0,1,null,1001,10,null,null,null,1,2,{"$nulls":4},2067,2068,"惠子.没用的大葫芦","惠子种的葫芦没用，他非常生气"]
[9014,"9014",6,3,1,0,1,null,1001,10,9031,null,null,2,2,{"$nulls":4},2069,2070,"发现魔修","发现一群魔修，正在夺人钱财",null,9014]
[9031,"9031",6,3,1,0,1,null,1001,10,null,30,2,3,2,{"$nulls":4},2071,2072,"魔修","打败魔休",null,9031]
[]
[30001,{"$f":"_xlfn.TEXTJOIN(\";\",1,Y72:AN72)","v":""},99,6,1,0,1,{"$nulls":4},50,5,{"$nulls":10},{"$f":"COUNTIF(EventLinkConfig!O:O,EventConfig!A72)","v":0},{"$f":"IF($X72>=Y$3,$A72*100+Y$3,\"\")","v":""},"","","","","","","","","","","","","","",""]
[30002,"",99,6,1,0,1,{"$nulls":4},50,1,{"$nulls":10},{"$f":"COUNTIF(EventLinkConfig!O:O,EventConfig!A73)","v":0},"","","","","","","","","","","","","","","",""]
[30003,"3000301",99,6,1,0,1,{"$nulls":4},50,1,1,{"$nulls":9},{"$f":"COUNTIF(EventLinkConfig!O:O,EventConfig!A74)","v":1},3000301,"","","","","","","","","","","","","","",""]
[30004,"3000401",99,6,1,0,1,{"$nulls":4},50,3,2,{"$nulls":9},{"$f":"COUNTIF(EventLinkConfig!O:O,EventConfig!A75)","v":1},3000401,"","","","","","","","","","","","","","",""]
[30005,"3000501",99,6,1,0,1,{"$nulls":4},50,1,2,{"$nulls":9},{"$f":"COUNTIF(EventLinkConfig!O:O,EventConfig!A76)","v":1},3000501,"","","","","","","","","","","","","","",""]
[30006,"3000601",99,6,1,0,1,{"$nulls":4},50,1,2,{"$nulls":9},{"$f":"COUNTIF(EventLinkConfig!O:O,EventConfig!A77)","v":1},3000601,"","","","","","","","","","","","","","",""]
[30007,"3000701",99,6,1,0,1,{"$nulls":4},50,1,3,{"$nulls":9},{"$f":"COUNTIF(EventLinkConfig!O:O,EventConfig!A78)","v":1},3000701,"","","","","","","","","","","","","","",""]
[30008,"3000801",99,6,1,0,1,{"$nulls":4},15,1,3,{"$nulls":9},{"$f":"COUNTIF(EventLinkConfig!O:O,EventConfig!A79)","v":1},3000801,"","","","","","","","","","","","","","",""]
[30009,"3000901",99,6,1,0,1,null,1301,1,1017,100,1,3,{"$nulls":9},{"$f":"COUNTIF(EventLinkConfig!O:O,EventConfig!A80)","v":1},{"$f":"IF($X80>=Y$3,$A80*100+Y$3,\"\")","v":3000901},{"$f":"IF($X80>=Z$3,$A80*100+Z$3,\"\")","v":""},{"$f":"IF($X80>=AA$3,$A80*100+AA$3,\"\")","v":""},{"$f":"IF($X80>=AB$3,$A80*100+AB$3,\"\")","v":""},{"$f":"IF($X80>=AC$3,$A80*100+AC$3,\"\")","v":""},{"$f":"IF($X80>=AD$3,$A80*100+AD$3,\"\")","v":""},{"$f":"IF($X80>=AE$3,$A80*100+AE$3,\"\")","v":""},{"$f":"IF($X80>=AF$3,$A80*100+AF$3,\"\")","v":""},{"$f":"IF($X80>=AG$3,$A80*100+AG$3,\"\")","v":""},{"$f":"IF($X80>=AH$3,$A80*100+AH$3,\"\")","v":""},{"$f":"IF($X80>=AI$3,$A80*100+AI$3,\"\")","v":""},{"$f":"IF($X80>=AJ$3,$A80*100+AJ$3,\"\")","v":""},{"$f":"IF($X80>=AK$3,$A80*100+AK$3,\"\")","v":""},{"$f":"IF($X80>=AL$3,$A80*100+AL$3,\"\")","v":""},{"$f":"IF($X80>=AM$3,$A80*100+AM$3,\"\")","v":""},{"$f":"IF($X80>=AN$3,$A80*100+AN$3,\"\")","v":""}]
[]
[5001,{"$f":"_xlfn.TEXTJOIN(\";\",1,Y82:AR82)","v":"500101;500102;500103;500104;500105;500106;500107;500108;500109;500110;500111;500112;500113;500114;500115;500116;500117;500118;500119"},1,5,1,10,1,null,1401,1,null,null,null,1,1,{"$nulls":4},3019,3020,"风影为二","风影为二详情占位",{"$f":"COUNTIF(EventLinkConfig!O:O,EventConfig!A82)","v":19},{"$f":"IF($X82>=Y$3,$A82*100+Y$3,\"\")","v":500101},{"$f":"IF($X82>=Z$3,$A82*100+Z$3,\"\")","v":500102},{"$f":"IF($X82>=AA$3,$A82*100+AA$3,\"\")","v":500103},{"$f":"IF($X82>=AB$3,$A82*100+AB$3,\"\")","v":500104},{"$f":"IF($X82>=AC$3,$A82*100+AC$3,\"\")","v":500105},{"$f":"IF($X82>=AD$3,$A82*100+AD$3,\"\")","v":500106},{"$f":"IF($X82>=AE$3,$A82*100+AE$3,\"\")","v":500107},{"$f":"IF($X82>=AF$3,$A82*100+AF$3,\"\")","v":500108},{"$f":"IF($X82>=AG$3,$A82*100+AG$3,\"\")","v":500109},{"$f":"IF($X82>=AH$3,$A82*100+AH$3,\"\")","v":500110},{"$f":"IF($X82>=AI$3,$A82*100+AI$3,\"\")","v":500111},{"$f":"IF($X82>=AJ$3,$A82*100+AJ$3,\"\")","v":500112},{"$f":"IF($X82>=AK$3,$A82*100+AK$3,\"\")","v":500113},{"$f":"IF($X82>=AL$3,$A82*100+AL$3,\"\")","v":500114},{"$f":"IF($X82>=AM$3,$A82*100+AM$3,\"\")","v":500115},{"$f":"IF($X82>=AN$3,$A82*100+AN$3,\"\")","v":500116},{"$f":"IF($X82>=AO$3,$A82*100+AO$3,\"\")","v":500117},{"$f":"IF($X82>=AP$3,$A82*100+AP$3,\"\")","v":500118},{"$f":"IF($X82>=AQ$3,$A82*100+AQ$3,\"\")","v":500119},{"$f":"IF($X82>=AR$3,$A82*100+AR$3,\"\")","v":""}]
[5002,"500201;500202;500203;500204;500205;500206;500207;500208;500209;500210;500211;500212;500213;500214;500215;500216",1,5,1,10,1,null,1401,1,null,null,null,1,1,null,10,5001,null,3036,3037,"风影合一","风影合一详情占位",{"$f":"COUNTIF(EventLinkConfig!O:O,EventConfig!A83)","v":16},{"$f":"IF($X83>=Y$3,$A83*100+Y$3,\"\")","v":500201},{"$f":"IF($X83>=Z$3,$A83*100+Z$3,\"\")","v":500202},{"$f":"IF($X83>=AA$3,$A83*100+AA$3,\"\")","v":500203},{"$f":"IF($X83>=AB$3,$A83*100+AB$3,\"\")","v":500204},{"$f":"IF($X83>=AC$3,$A83*100+AC$3,\"\")","v":500205},{"$f":"IF($X83>=AD$3,$A83*100+AD$3,\"\")","v":500206},{"$f":"IF($X83>=AE$3,$A83*100+AE$3,\"\")","v":500207},{"$f":"IF($X83>=AF$3,$A83*100+AF$3,\"\")","v":500208},{"$f":"IF($X83>=AG$3,$A83*100+AG$3,\"\")","v":500209},{"$f":"IF($X83>=AH$3,$A83*100+AH$3,\"\")","v":500210},{"$f":"IF($X83>=AI$3,$A83*100+AI$3,\"\")","v":500211},{"$f":"IF($X83>=AJ$3,$A83*100+AJ$3,\"\")","v":500212},{"$f":"IF($X83>=AK$3,$A83*100+AK$3,\"\")","v":500213},{"$f":"IF($X83>=AL$3,$A83*100+AL$3,\"\")","v":500214},{"$f":"IF($X83>=AM$3,$A83*100+AM$3,\"\")","v":500215},{"$f":"IF($X83>=AN$3,$A83*100+AN$3,\"\")","v":500216},{"$f":"IF($X83>=AO$3,$A83*100+AO$3,\"\")","v":""},{"$f":"IF($X83>=AP$3,$A83*100+AP$3,\"\")","v":""},{"$f":"IF($X83>=AQ$3,$A83*100+AQ$3,\"\")","v":""},{"$f":"IF($X83>=AR$3,$A83*100+AR$3,\"\")","v":""}]
[5003,"500301;500302;500303;500304;500305;500306;500307;500308;500309;500310;500311;500312;500313;500314;500315;500316;500317;500318;500319;500320",1,2,1,10,1,null,1401,1,null,null,null,1,1,{"$nulls":4},3034,3035,"北海剑妖","百年化妖为红颜，一剑焚海断孽缘",{"$f":"COUNTIF(EventLinkConfig!O:O,EventConfig!A84)","v":20},{"$f":"IF($X84>=Y$3,$A84*100+Y$3,\"\")","v":500301},{"$f":"IF($X84>=Z$3,$A84*100+Z$3,\"\")","v":500302},{"$f":"IF($X84>=AA$3,$A84*100+AA$3,\"\")","v":500303},{"$f":"IF($X84>=AB$3,$A84*100+AB$3,\"\")","v":500304},{"$f":"IF($X84>=AC$3,$A84*100+AC$3,\"\")","v":500305},{"$f":"IF($X84>=AD$3,$A84*100+AD$3,\"\")","v":500306},{"$f":"IF($X84>=AE$3,$A84*100+AE$3,\"\")","v":500307},{"$f":"IF($X84>=AF$3,$A84*100+AF$3,\"\")","v":500308},{"$f":"IF($X84>=AG$3,$A84*100+AG$3,\"\")","v":500309},{"$f":"IF($X84>=AH$3,$A84*100+AH$3,\"\")","v":500310},{"$f":"IF($X84>=AI$3,$A84*100+AI$3,\"\")","v":500311},{"$f":"IF($X84>=AJ$3,$A84*100+AJ$3,\"\")","v":500312},{"$f":"IF($X84>=AK$3,$A84*100+AK$3,\"\")","v":500313},{"$f":"IF($X84>=AL$3,$A84*100+AL$3,\"\")","v":500314},{"$f":"IF($X84>=AM$3,$A84*100+AM$3,\"\")","v":500315},{"$f":"IF($X84>=AN$3,$A84*100+AN$3,\"\")","v":500316},{"$f":"IF($X84>=AO$3,$A84*100+AO$3,\"\")","v":500317},{"$f":"IF($X84>=AP$3,$A84*100+AP$3,\"\")","v":500318},{"$f":"IF($X84>=AQ$3,$A84*100+AQ$3,\"\")","v":500319},{"$f":"IF($X84>=AR$3,$A84*100+AR$3,\"\")","v":500320}]

{"sheet":"EventLinkConfig","index":1,"n_rows":401,"n_cols":37,"rows_kept":401,"cut":false,"hidden":false,"merged":[]}
["ID","conciseEventMessage",null,"EventConditionMessage",null,null,"PreShow","PreShowPar",null,"NPCID",null,"LanID",null,"DialogueType","EventID",null,"ConditionId",null,null,null,"optionType","optionPara1","optionPara2",{"$nulls":6},"PrizeIDs","PrizeNums","ResultType","ResultOptions"]
["int","int",null,"int",null,null,"int","int",null,"int",null,"int[]",null,"int","int",null,"int[]",null,null,null,"int","int[]","int[]",{"$nulls":6},"int[]","int[]","int","int[]"]
[]
["ID","任务列表中的简洁描述","任务列表中的简洁描述","无任务目标时的补充文本","无任务目标时的补充文本",null,"前置表现\n","前置表现参数\n",null,"对话NPCID","NPC","对话","对话1","对话框类型","属于哪个事件","步骤","条件判断类型","任务目标1","任务目标2","条件判断内容","步骤类型\n1=提供选项\n2=进入战斗\n5=自动退出\n3=获得奖励\n4=扣除道具","事件常量1\n1=步骤IDs\n2=战斗ID","事件常量2\n1=事件文本","选择1","选择1\n步骤：填选项文本1\n战斗：填战斗ID","选择1\n步骤1：跳转到哪一步\n不填默认跳转到下一步","选择2","选择2\n步骤：填选项文本2","选择1\n步骤2：跳转到哪一步\n不填默认跳转到下一步","事件结局奖励","事件结局奖励数量","事件结束类型\n1：跳转步骤\n2：根据战斗结果跳转\n3.触发新事件","事件结局后提供的选项\n1.EventLinkId\n2.胜利id;失败id\n3.EventConfigId","1.步骤ID（不填默认为下一个步骤ID）\n2.胜利ID（不填默认为下一个步骤ID）\n3.事件ID（不填默认为下一个事件ID）","语言表最大值"]
[100,{"$nulls":10},216,"你被怪物击败，神识也随之消散了。",null,null,null,{"$f":"_xlfn.TEXTJOIN(\";\",1,R5:S5)","v":""},null,null,{"$f":"IF(R5=\"\",\"\",\"-\"&VLOOKUP(R5,EventConditionConfig!A:C,3,FALSE)&IF(S5=\"\",\"\",CHAR(10)&\"-\"&VLOOKUP(S5,EventConditionConfig!A:C,3,FALSE)))","v":""},{"$nulls":14},{"$f":"IF(A5=\"\",\"\",MAX(B5,D5,L5,X5,AA5))","v":216}]
[101,{"$nulls":10},3011,"你败下阵来，感到头晕目眩，试图努力回忆起刚才发生的事情。(回到主界面重新触发剧情）",null,null,null,{"$f":"_xlfn.TEXTJOIN(\";\",1,R6:S6)","v":""},null,null,{"$f":"IF(R6=\"\",\"\",\"-\"&VLOOKUP(R6,EventConditionConfig!A:C,3,FALSE)&IF(S6=\"\",\"\",CHAR(10)&\"-\"&VLOOKUP(S6,EventConditionConfig!A:C,3,FALSE)))","v":""},{"$nulls":14},{"$f":"IF(A6=\"\",\"\",MAX(B6,D6,L6,X6,AA6))","v":3011}]
[102,{"$nulls":10},3012,"战斗胜利，你的任务进度增加了。",{"$nulls":21},3012]
[{"$nulls":16},"",null,null,{"$f":"IF(R8=\"\",\"\",\"-\"&VLOOKUP(R8,EventConditionConfig!A:C,3,FALSE)&IF(S8=\"\",\"\",CHAR(10)&\"-\"&VLOOKUP(S8,EventConditionConfig!A:C,3,FALSE)))","v":""},{"$nulls":14},""]
[1001,177,{"$nulls":7},2,null,177,"你遇到一只奄奄一息的野狼，从周围四散的血迹来看，想必它刚才经历了一场恶战。",null,null,null,"",null,null,{"$f":"IF(R9=\"\",\"\",\"-\"&VLOOKUP(R9,EventConditionConfig!A:C,3,FALSE)&IF(S9=\"\",\"\",CHAR(10)&\"-\"&VLOOKUP(S9,EventConditionConfig!A:C,3,FALSE)))","v":""},1,"1002;1003","198;199",null,"趁它虚弱赶紧除掉它！",null,null,"你不忍见它受苦，选择帮它减轻痛苦。",{"$nulls":6},177]
[1002,178,{"$nulls":9},178,"野狼用它最后一口气，朝你扑了过来！",null,null,null,"",null,null,{"$f":"IF(R10=\"\",\"\",\"-\"&VLOOKUP(R10,EventConditionConfig!A:C,3,FALSE)&IF(S10=\"\",\"\",CHAR(10)&\"-\"&VLOOKUP(S10,EventConditionConfig!A:C,3,FALSE)))","v":""},2,100001,{"$nulls":9},2,"1004;100",null,178]
[1003,179,{"$nulls":9},179,"你抽出匕首准备了结它的生命，却发现怀中还躺着一只刚出生的狼崽。",null,null,null,"",null,null,{"$f":"IF(R11=\"\",\"\",\"-\"&VLOOKUP(R11,EventConditionConfig!A:C,3,FALSE)&IF(S11=\"\",\"\",CHAR(10)&\"-\"&VLOOKUP(S11,EventConditionConfig!A:C,3,FALSE)))","v":""},1,1005,200,{"$nulls":11},179]
[1004,180,{"$nulls":9},180,"随着你的最后一击，野狼应声倒下，你罔顾它幽怨的眼神，从它怀中拿走了一些财物。",null,null,null,"",null,null,{"$f":"IF(R12=\"\",\"\",\"-\"&VLOOKUP(R12,EventConditionConfig!A:C,3,FALSE)&IF(S12=\"\",\"\",CHAR(10)&\"-\"&VLOOKUP(S12,EventConditionConfig!A:C,3,FALSE)))","v":""},3,{"$nulls":8},1002,100,null,null,null,180]
[1005,181,{"$nulls":9},181,"母狼似乎懂你要做什么，眼神归于平静。你终结了她，决定收养这只小狼仔。",null,null,null,"",null,null,{"$f":"IF(R13=\"\",\"\",\"-\"&VLOOKUP(R13,EventConditionConfig!A:C,3,FALSE)&IF(S13=\"\",\"\",CHAR(10)&\"-\"&VLOOKUP(S13,EventConditionConfig!A:C,3,FALSE)))","v":""},3,{"$nulls":8},1001,50,null,null,null,181]
[{"$nulls":16},"",null,null,{"$f":"IF(R14=\"\",\"\",\"-\"&VLOOKUP(R14,EventConditionConfig!A:C,3,FALSE)&IF(S14=\"\",\"\",CHAR(10)&\"-\"&VLOOKUP(S14,EventConditionConfig!A:C,3,FALSE)))","v":""},{"$nulls":14},""]
[1010,182,{"$nulls":9},182,"从不远处传来刀剑声，听起来双方已经精疲力尽了。",null,null,null,"",null,null,{"$f":"IF(R15=\"\",\"\",\"-\"&VLOOKUP(R15,EventConditionConfig!A:C,3,FALSE)&IF(S15=\"\",\"\",CHAR(10)&\"-\"&VLOOKUP(S15,EventConditionConfig!A:C,3,FALSE)))","v":""},1,"1011;1012","201;202",null,"去看看",null,null,"(需拥有法宝凝神珠）听起来都是鸡毛蒜皮的小摩擦，你选择祭出凝神珠化解他们的怨气。",{"$nulls":6},182]
[1011,183,{"$nulls":9},183,"你走进一看，原来是一伙山贼分赃不均内讧了起来。你看着旁边被砍的七零八落的轿子和这群山贼，选择怎么做呢：",null,null,null,"",null,null,{"$f":"IF(R16=\"\",\"\",\"-\"&VLOOKUP(R16,EventConditionConfig!A:C,3,FALSE)&IF(S16=\"\",\"\",CHAR(10)&\"-\"&VLOOKUP(S16,EventConditionConfig!A:C,3,FALSE)))","v":""},1,"1014;1015","203;204",null,"你顿时杀心四起，决定杀了贼寇，救出轿中之人",null,null,"盗贼们个个双眼杀的通红，你决定来个渔翁得利。",{"$nulls":6},183]
[1012,184,{"$nulls":9},"184;187","法宝现身，效果立竿见影，刀剑声逐渐消失，这个世界安静了。",null,null,null,"",null,null,{"$f":"IF(R17=\"\",\"\",\"-\"&VLOOKUP(R17,EventConditionConfig!A:C,3,FALSE)&IF(S17=\"\",\"\",CHAR(10)&\"-\"&VLOOKUP(S17,EventConditionConfig!A:C,3,FALSE)))","v":""},3,{"$nulls":8},1001,10,null,null,null,184,1,"1001;1"]
[1014,185,{"$nulls":9},185,"你怒斥贼寇的恶行，贼寇们被你激怒了，准备迎战！",null,null,null,"",null,null,{"$f":"IF(R18=\"\",\"\",\"-\"&VLOOKUP(R18,EventConditionConfig!A:C,3,FALSE)&IF(S18=\"\",\"\",CHAR(10)&\"-\"&VLOOKUP(S18,EventConditionConfig!A:C,3,FALSE)))","v":""},2,100002,{"$nulls":9},2,"1016;100",null,185,2,"4;150"]
[1015,186,{"$nulls":9},"186;189","你趁人不备顺走了轿内主人的包裹，任留轿内人痛苦的挣扎。",null,null,null,"",null,null,{"$f":"IF(R19=\"\",\"\",\"-\"&VLOOKUP(R19,EventConditionConfig!A:C,3,FALSE)&IF(S19=\"\",\"\",CHAR(10)&\"-\"&VLOOKUP(S19,EventConditionConfig!A:C,3,FALSE)))","v":""},3,{"$nulls":8},1003,1000,null,null,null,186]
[1016,188,{"$nulls":9},188,"杀退贼寇，你上演了一出英雄救美的桥段。姑娘为了答谢你的救命之恩，将藏在贴身处的珍贵首饰赠与你作为定情信物。",null,null,null,"",null,null,{"$f":"IF(R20=\"\",\"\",\"-\"&VLOOKUP(R20,EventConditionConfig!A:C,3,FALSE)&IF(S20=\"\",\"\",CHAR(10)&\"-\"&VLOOKUP(S20,EventConditionConfig!A:C,3,FALSE)))","v":""},{"$nulls":9},1001,200,null,null,null,188]
[{"$nulls":16},"",null,null,{"$f":"IF(R21=\"\",\"\",\"-\"&VLOOKUP(R21,EventConditionConfig!A:C,3,FALSE)&IF(S21=\"\",\"\",CHAR(10)&\"-\"&VLOOKUP(S21,EventConditionConfig!A:C,3,FALSE)))","v":""},{"$nulls":14},""]
[1020,190,{"$nulls":9},190,"从不远处传来刀剑声，听起来双方已经精疲力尽了。",null,null,null,"",null,null,{"$f":"IF(R22=\"\",\"\",\"-\"&VLOOKUP(R22,EventConditionConfig!A:C,3,FALSE)&IF(S22=\"\",\"\",CHAR(10)&\"-\"&VLOOKUP(S22,EventConditionConfig!A:C,3,FALSE)))","v":""},1,"1021;1022","201;202",null,"去看看",null,null,"使用法宝息事宁人",{"$nulls":6},190]
[1021,191,{"$nulls":9},191,"你走进一看，原来是一伙山贼抢了一名坐在官轿内的女子，因分赃不均内讧了起来。山贼二话不说就朝你冲了过来！",null,null,null,"",null,null,{"$f":"IF(R23=\"\",\"\",\"-\"&VLOOKUP(R23,EventConditionConfig!A:C,3,FALSE)&IF(S23=\"\",\"\",CHAR(10)&\"-\"&VLOOKUP(S23,EventConditionConfig!A:C,3,FALSE)))","v":""},2,100003,{"$nulls":7},1002,100,2,"1026;100",null,191]
[1022,192,{"$nulls":9},192,"法宝现身，效果立竿见影，刀剑声逐渐消失，这个世界安静了。",null,null,null,"",null,null,{"$f":"IF(R24=\"\",\"\",\"-\"&VLOOKUP(R24,EventConditionConfig!A:C,3,FALSE)&IF(S24=\"\",\"\",CHAR(10)&\"-\"&VLOOKUP(S24,EventConditionConfig!A:C,3,FALSE)))","v":""},4,{"$nulls":8},1002,10,null,null,null,192,1,"1001;1"]
[1024,193,{"$nulls":9},"193;196","你大声怒斥贼寇的恶行，贼首发现你了，准备迎战！",null,null,null,"",null,null,{"$f":"IF(R25=\"\",\"\",\"-\"&VLOOKUP(R25,EventConditionConfig!A:C,3,FALSE)&IF(S25=\"\",\"\",CHAR(10)&\"-\"&VLOOKUP(S25,EventConditionConfig!A:C,3,FALSE)))","v":""},2,100004,{"$nulls":7},1004,100,2,"1016;100",null,193,2,"4;150"]
[1025,194,{"$nulls":9},"194;197","你趁人不备顺走了轿内主人的包裹，任留轿内人痛苦的挣扎。",null,null,null,"",null,null,{"$f":"IF(R26=\"\",\"\",\"-\"&VLOOKUP(R26,EventConditionConfig!A:C,3,FALSE)&IF(S26=\"\",\"\",CHAR(10)&\"-\"&VLOOKUP(S26,EventConditionConfig!A:C,3,FALSE)))","v":""},3,{"$nulls":8},1002,1000,null,null,null,194]
[1026,207,{"$nulls":9},207,"你将山贼们打的落花流水，成功吸引了山贼头子的注意。",null,null,null,"",null,null,{"$f":"IF(R27=\"\",\"\",\"-\"&VLOOKUP(R27,EventConditionConfig!A:C,3,FALSE)&IF(S27=\"\",\"\",CHAR(10)&\"-\"&VLOOKUP(S27,EventConditionConfig!A:C,3,FALSE)))","v":""},1,"1024;1025","205;206",null,"选择正面迎战山贼头领（困难）",null,null,"你决定避开山贼头领的视线，来个渔翁得利。",{"$nulls":6},207]
[{"$nulls":16},"",null,null,{"$f":"IF(R28=\"\",\"\",\"-\"&VLOOKUP(R28,EventConditionConfig!A:C,3,FALSE)&IF(S28=\"\",\"\",CHAR(10)&\"-\"&VLOOKUP(S28,EventConditionConfig!A:C,3,FALSE)))","v":""},{"$nulls":14},""]
[1030,221,{"$nulls":9},221,"发现一个血迹斑斑的背包，好像刚刚发生了战斗，我翻翻背包...",null,null,null,"",null,null,{"$f":"IF(R29=\"\",\"\",\"-\"&VLOOKUP(R29,EventConditionConfig!A:C,3,FALSE)&IF(S29=\"\",\"\",CHAR(10)&\"-\"&VLOOKUP(S29,EventConditionConfig!A:C,3,FALSE)))","v":""},3,{"$nulls":8},1002,10,null,null,null,221]
[{"$nulls":16},"",null,null,{"$f":"IF(R30=\"\",\"\",\"-\"&VLOOKUP(R30,EventConditionConfig!A:C,3,FALSE)&IF(S30=\"\",\"\",CHAR(10)&\"-\"&VLOOKUP(S30,EventConditionConfig!A:C,3,FALSE)))","v":""},{"$nulls":14},""]
[1040,222,{"$nulls":9},222,"啥也没有....除了钱",null,null,null,"",null,null,{"$f":"IF(R31=\"\",\"\",\"-\"&VLOOKUP(R31,EventConditionConfig!A:C,3,FALSE)&IF(S31=\"\",\"\",CHAR(10)&\"-\"&VLOOKUP(S31,EventConditionConfig!A:C,3,FALSE)))","v":""},3,{"$nulls":8},1002,10,null,null,null,222]
[{"$nulls":16},"",null,null,{"$f":"IF(R32=\"\",\"\",\"-\"&VLOOKUP(R32,EventConditionConfig!A:C,3,FALSE)&IF(S32=\"\",\"\",CHAR(10)&\"-\"&VLOOKUP(S32,EventConditionConfig!A:C,3,FALSE)))","v":""},{"$nulls":14},""]
[1050,223,{"$nulls":9},223,"两夫妻在吵架，似乎为了一件大事..",null,null,null,"",null,null,{"$f":"IF(R33=\"\",\"\",\"-\"&VLOOKUP(R33,EventConditionConfig!A:C,3,FALSE)&IF(S33=\"\",\"\",CHAR(10)&\"-\"&VLOOKUP(S33,EventConditionConfig!A:C,3,FALSE)))","v":""},3,{"$nulls":8},"1002;1001","10;20",null,null,null,223]
[{"$nulls":16},"",null,null,{"$f":"IF(R34=\"\",\"\",\"-\"&VLOOKUP(R34,EventConditionConfig!A:C,3,FALSE)&IF(S34=\"\",\"\",CHAR(10)&\"-\"&VLOOKUP(S34,EventConditionConfig!A:C,3,FALSE)))","v":""},{"$nulls":14},""]
[1060,224,{"$nulls":9},224,"没有任何发现，但感觉空气很好....下次有空再来看看",null,null,null,"",null,null,{"$f":"IF(R35=\"\",\"\",\"-\"&VLOOKUP(R35,EventConditionConfig!A:C,3,FALSE)&IF(S35=\"\",\"\",CHAR(10)&\"-\"&VLOOKUP(S35,EventConditionConfig!A:C,3,FALSE)))","v":""},{"$nulls":14},224]
[{"$nulls":16},"",null,null,{"$f":"IF(R36=\"\",\"\",\"-\"&VLOOKUP(R36,EventConditionConfig!A:C,3,FALSE)&IF(S36=\"\",\"\",CHAR(10)&\"-\"&VLOOKUP(S36,EventConditionConfig!A:C,3,FALSE)))","v":""},{"$nulls":14},""]
[{"$nulls":16},"",null,null,{"$f":"IF(R37=\"\",\"\",\"-\"&VLOOKUP(R37,EventConditionConfig!A:C,3,FALSE)&IF(S37=\"\",\"\",CHAR(10)&\"-\"&VLOOKUP(S37,EventConditionConfig!A:C,3,FALSE)))","v":""},{"$nulls":14},""]
[{"$nulls":16},"",null,null,{"$f":"IF(R38=\"\",\"\",\"-\"&VLOOKUP(R38,EventConditionConfig!A:C,3,FALSE)&IF(S38=\"\",\"\",CHAR(10)&\"-\"&VLOOKUP(S38,EventConditionConfig!A:C,3,FALSE)))","v":""},{"$nulls":14},""]
[{"$f":"O39*100+P39","v":1101},{"$nulls":10},208,"事件10001：一只[怪物1]袭击了你，准备迎战",null,11,{"$f":"IF(O39=O38,P38+1,1)","v":1},"",null,null,{"$f":"IF(R39=\"\",\"\",\"-\"&VLOOKUP(R39,EventConditionConfig!A:C,3,FALSE)&IF(S39=\"\",\"\",CHAR(10)&\"-\"&VLOOKUP(S39,EventConditionConfig!A:C,3,FALSE)))","v":""},2,100001,{"$nulls":9},2,"1102;100",null,208]
[{"$f":"O40*100+P40","v":1102},{"$nulls":10},209,"你击败了怪物，并从它身上吸取了一些修为",null,11,{"$f":"IF(O40=O39,P39+1,1)","v":2},"",null,null,{"$f":"IF(R40=\"\",\"\",\"-\"&VLOOKUP(R40,EventConditionConfig!A:C,3,FALSE)&IF(S40=\"\",\"\",CHAR(10)&\"-\"&VLOOKUP(S40,EventConditionConfig!A:C,3,FALSE)))","v":""},3,{"$nulls":8},1003,3000,null,null,null,209]
[{"$nulls":16},"",null,null,{"$f":"IF(R41=\"\",\"\",\"-\"&VLOOKUP(R41,EventConditionConfig!A:C,3,FALSE)&IF(S41=\"\",\"\",CHAR(10)&\"-\"&VLOOKUP(S41,EventConditionConfig!A:C,3,FALSE)))","v":""},{"$nulls":14},""]
[{"$f":"O42*100+P42","v":1201},{"$nulls":10},210,"你偶遇一处仙气四溢无人生活的洞穴",null,12,{"$f":"IF(O42=O41,P41+1,1)","v":1},"",null,null,{"$f":"IF(R42=\"\",\"\",\"-\"&VLOOKUP(R42,EventConditionConfig!A:C,3,FALSE)&IF(S42=\"\",\"\",CHAR(10)&\"-\"&VLOOKUP(S42,EventConditionConfig!A:C,3,FALSE)))","v":""},{"$nulls":11},1,{"$f":"A43","v":1202},null,210]
[{"$f":"O43*100+P43","v":1202},{"$nulls":10},211,"不知哪位高人在洞穴内壁留下绝世秘籍",null,12,{"$f":"IF(O43=O42,P42+1,1)","v":2},"",null,null,{"$f":"IF(R43=\"\",\"\",\"-\"&VLOOKUP(R43,EventConditionConfig!A:C,3,FALSE)&IF(S43=\"\",\"\",CHAR(10)&\"-\"&VLOOKUP(S43,EventConditionConfig!A:C,3,FALSE)))","v":""},{"$nulls":11},1,{"$f":"A44","v":1203},null,211]
[{"$f":"O44*100+P44","v":1203},{"$nulls":10},1903,"你仔细研读后，功法得到精进",null,12,{"$f":"IF(O44=O43,P43+1,1)","v":3},"",null,null,{"$f":"IF(R44=\"\",\"\",\"-\"&VLOOKUP(R44,EventConditionConfig!A:C,3,FALSE)&IF(S44=\"\",\"\",CHAR(10)&\"-\"&VLOOKUP(S44,EventConditionConfig!A:C,3,FALSE)))","v":""},3,{"$nulls":8},1005,500,null,null,null,1903]
[{"$nulls":16},"",null,null,{"$f":"IF(R45=\"\",\"\",\"-\"&VLOOKUP(R45,EventConditionConfig!A:C,3,FALSE)&IF(S45=\"\",\"\",CHAR(10)&\"-\"&VLOOKUP(S45,EventConditionConfig!A:C,3,FALSE)))","v":""},{"$nulls":14},""]
[{"$f":"O46*100+P46","v":1301},{"$nulls":10},212,"你在飞行途中不慎滑倒",null,13,{"$f":"IF(O46=O45,P45+1,1)","v":1},"",null,null,{"$f":"IF(R46=\"\",\"\",\"-\"&VLOOKUP(R46,EventConditionConfig!A:C,3,FALSE)&IF(S46=\"\",\"\",CHAR(10)&\"-\"&VLOOKUP(S46,EventConditionConfig!A:C,3,FALSE)))","v":""},{"$nulls":11},1,{"$f":"A47","v":1302},null,212]
[{"$f":"O47*100+P47","v":1302},{"$nulls":10},213,"原来是脚下有一块圆润的微微发光的石头",null,13,{"$f":"IF(O47=O46,P46+1,1)","v":2},"",null,null,{"$f":"IF(R47=\"\",\"\",\"-\"&VLOOKUP(R47,EventConditionConfig!A:C,3,FALSE)&IF(S47=\"\",\"\",CHAR(10)&\"-\"&VLOOKUP(S47,EventConditionConfig!A:C,3,FALSE)))","v":""},{"$nulls":11},1,{"$f":"A48","v":1303},null,213]
[1303,{"$nulls":10},214,"你拾起来一看，原来它蕴含了丰富的法宝灵韵",null,13,3,"",null,null,{"$f":"IF(R48=\"\",\"\",\"-\"&VLOOKUP(R48,EventConditionConfig!A:C,3,FALSE)&IF(S48=\"\",\"\",CHAR(10)&\"-\"&VLOOKUP(S48,EventConditionConfig!A:C,3,FALSE)))","v":""},{"$nulls":11},1,{"$f":"A49","v":1304},null,214]
[1304,{"$nulls":10},215,"原本郁闷的心情，突然变的好了起来，哈哈~",null,13,4,"",null,null,{"$f":"IF(R49=\"\",\"\",\"-\"&VLOOKUP(R49,EventConditionConfig!A:C,3,FALSE)&IF(S49=\"\",\"\",CHAR(10)&\"-\"&VLOOKUP(S49,EventConditionConfig!A:C,3,FALSE)))","v":""},3,{"$nulls":8},1006,500,null,null,null,215]
[{"$nulls":16},"",null,null,{"$f":"IF(R50=\"\",\"\",\"-\"&VLOOKUP(R50,EventConditionConfig!A:C,3,FALSE)&IF(S50=\"\",\"\",CHAR(10)&\"-\"&VLOOKUP(S50,EventConditionConfig!A:C,3,FALSE)))","v":""},{"$nulls":14},""]
[1401,{"$nulls":10},1901,"事件10005：一只[怪物2]袭击了你，准备迎战",null,14,{"$f":"IF(O51=O50,P50+1,1)","v":1},"",null,null,{"$f":"IF(R51=\"\",\"\",\"-\"&VLOOKUP(R51,EventConditionConfig!A:C,3,FALSE)&IF(S51=\"\",\"\",CHAR(10)&\"-\"&VLOOKUP(S51,EventConditionConfig!A:C,3,FALSE)))","v":""},2,100002,{"$nulls":9},2,"1402;100",null,1901]
[1402,{"$nulls":10},209,"你击败了怪物，并从它身上吸取了一些修为",null,14,{"$f":"IF(O52=O51,P51+1,1)","v":2},"",null,null,{"$f":"IF(R52=\"\",\"\",\"-\"&VLOOKUP(R52,EventConditionConfig!A:C,3,FALSE)&IF(S52=\"\",\"\",CHAR(10)&\"-\"&VLOOKUP(S52,EventConditionConfig!A:C,3,FALSE)))","v":""},3,{"$nulls":8},1003,3000,null,null,null,209]
[{"$nulls":16},"",null,null,{"$f":"IF(R53=\"\",\"\",\"-\"&VLOOKUP(R53,EventConditionConfig!A:C,3,FALSE)&IF(S53=\"\",\"\",CHAR(10)&\"-\"&VLOOKUP(S53,EventConditionConfig!A:C,3,FALSE)))","v":""},{"$nulls":14},""]
[1501,{"$nulls":10},1902,"事件10006：一只[怪物3]袭击了你，准备迎战",null,15,{"$f":"IF(O54=O53,P53+1,1)","v":1},"",null,null,{"$f":"IF(R54=\"\",\"\",\"-\"&VLOOKUP(R54,EventConditionConfig!A:C,3,FALSE)&IF(S54=\"\",\"\",CHAR(10)&\"-\"&VLOOKUP(S54,EventConditionConfig!A:C,3,FALSE)))","v":""},2,100003,{"$nulls":9},2,"1502;100",null,1902]
[1502,{"$nulls":10},209,"你击败了怪物，并从它身上吸取了一些修为",null,15,{"$f":"IF(O55=O54,P54+1,1)","v":2},"",null,null,{"$f":"IF(R55=\"\",\"\",\"-\"&VLOOKUP(R55,EventConditionConfig!A:C,3,FALSE)&IF(S55=\"\",\"\",CHAR(10)&\"-\"&VLOOKUP(S55,EventConditionConfig!A:C,3,FALSE)))","v":""},3,{"$nulls":8},1003,3000,null,null,null,209]
[{"$nulls":16},"",null,null,{"$f":"IF(R56=\"\",\"\",\"-\"&VLOOKUP(R56,EventConditionConfig!A:C,3,FALSE)&IF(S56=\"\",\"\",CHAR(10)&\"-\"&VLOOKUP(S56,EventConditionConfig!A:C,3,FALSE)))","v":""},{"$nulls":14},""]
[9003,2036,{"$nulls":9},2036,"你在闭关修炼时，感受到一股凌厉的剑意波动。深入探查，发现一名白衣剑修“清霜”盘坐于谷中，周围剑气环绕，正与一柄散发不祥气息的灵剑对峙。她似在参悟剑诀，却灵气不足，剑灵桀骜。",null,null,null,"",null,null,{"$f":"IF(R57=\"\",\"\",\"-\"&VLOOKUP(R57,EventConditionConfig!A:C,3,FALSE)&IF(S57=\"\",\"\",CHAR(10)&\"-\"&VLOOKUP(S57,EventConditionConfig!A:C,3,FALSE)))","v":""},1,"9004;9006","2041;2042",{"$nulls":11},2036]
[9004,2037,{"$nulls":9},2037,"你上前以剑意对抗剑灵",null,null,null,"",null,null,{"$f":"IF(R58=\"\",\"\",\"-\"&VLOOKUP(R58,EventConditionConfig!A:C,3,FALSE)&IF(S58=\"\",\"\",CHAR(10)&\"-\"&VLOOKUP(S58,EventConditionConfig!A:C,3,FALSE)))","v":""},2,100001,{"$nulls":9},2,"9005;100",null,2037]
[9005,2038,{"$nulls":9},2038,"成功压制剑灵，清霜赠你“霜华剑符”并结下道友之谊",null,null,null,"",null,null,{"$f":"IF(R59=\"\",\"\",\"-\"&VLOOKUP(R59,EventConditionConfig!A:C,3,FALSE)&IF(S59=\"\",\"\",CHAR(10)&\"-\"&VLOOKUP(S59,EventConditionConfig!A:C,3,FALSE)))","v":""},{"$nulls":14},2038]
[9006,2039,{"$nulls":9},2039,"你察觉谷中灵气匮乏，清霜剑意凝滞。神识探查得知，附近秘境可采集“玄冰花”",null,null,null,"",null,null,{"$f":"IF(R60=\"\",\"\",\"-\"&VLOOKUP(R60,EventConditionConfig!A:C,3,FALSE)&IF(S60=\"\",\"\",CHAR(10)&\"-\"&VLOOKUP(S60,EventConditionConfig!A:C,3,FALSE)))","v":""},{"$nulls":14},2039]
[9007,2040,{"$nulls":9},2040,"献上玄冰花，清霜炼化灵气突破瓶颈，赠你“玄霜剑意”",null,null,null,"",null,null,{"$f":"IF(R61=\"\",\"\",\"-\"&VLOOKUP(R61,EventConditionConfig!A:C,3,FALSE)&IF(S61=\"\",\"\",CHAR(10)&\"-\"&VLOOKUP(S61,EventConditionConfig!A:C,3,FALSE)))","v":""},4,{"$nulls":10},1,9007,null,2040]
[9008,{"$nulls":15},"",null,null,{"$f":"IF(R62=\"\",\"\",\"-\"&VLOOKUP(R62,EventConditionConfig!A:C,3,FALSE)&IF(S62=\"\",\"\",CHAR(10)&\"-\"&VLOOKUP(S62,EventConditionConfig!A:C,3,FALSE)))","v":""},3,{"$nulls":8},1001,999,null,null,null,0]
[{"$nulls":16},"",null,null,{"$f":"IF(R63=\"\",\"\",\"-\"&VLOOKUP(R63,EventConditionConfig!A:C,3,FALSE)&IF(S63=\"\",\"\",CHAR(10)&\"-\"&VLOOKUP(S63,EventConditionConfig!A:C,3,FALSE)))","v":""},{"$nulls":14},""]
[{"$nulls":16},"",null,null,{"$f":"IF(R64=\"\",\"\",\"-\"&VLOOKUP(R64,EventConditionConfig!A:C,3,FALSE)&IF(S64=\"\",\"\",CHAR(10)&\"-\"&VLOOKUP(S64,EventConditionConfig!A:C,3,FALSE)))","v":""},{"$nulls":14},""]
[{"$nulls":16},"",null,null,{"$f":"IF(R65=\"\",\"\",\"-\"&VLOOKUP(R65,EventConditionConfig!A:C,3,FALSE)&IF(S65=\"\",\"\",CHAR(10)&\"-\"&VLOOKUP(S65,EventConditionConfig!A:C,3,FALSE)))","v":""},{"$nulls":14},""]
[9025,2074,null,2073,"和惠子交谈",{"$nulls":6},2074,"惠子种的葫芦没用，他非常生气，需要打败魔休",null,null,null,"",null,null,{"$f":"IF(R66=\"\",\"\",\"-\"&VLOOKUP(R66,EventConditionConfig!A:C,3,FALSE)&IF(S66=\"\",\"\",CHAR(10)&\"-\"&VLOOKUP(S66,EventConditionConfig!A:C,3,FALSE)))","v":""},1,9026,2075,{"$nulls":11},2074]
[9026,{"$nulls":11},"选择后接新的事件",null,null,null,"",null,null,{"$f":"IF(R67=\"\",\"\",\"-\"&VLOOKUP(R67,EventConditionConfig!A:C,3,FALSE)&IF(S67=\"\",\"\",CHAR(10)&\"-\"&VLOOKUP(S67,EventConditionConfig!A:C,3,FALSE)))","v":""},{"$nulls":4},"接受任务",{"$nulls":6},3,9014,null,0]
[{"$nulls":16},"",null,null,{"$f":"IF(R68=\"\",\"\",\"-\"&VLOOKUP(R68,EventConditionConfig!A:C,3,FALSE)&IF(S68=\"\",\"\",CHAR(10)&\"-\"&VLOOKUP(S68,EventConditionConfig!A:C,3,FALSE)))","v":""},{"$nulls":14},""]
[{"$nulls":16},"",null,null,{"$f":"IF(R69=\"\",\"\",\"-\"&VLOOKUP(R69,EventConditionConfig!A:C,3,FALSE)&IF(S69=\"\",\"\",CHAR(10)&\"-\"&VLOOKUP(S69,EventConditionConfig!A:C,3,FALSE)))","v":""},{"$nulls":14},""]
[9014,2070,null,null,"击杀魔休",{"$nulls":11},"3",3,null,{"$f":"IF(R70=\"\",\"\",\"-\"&VLOOKUP(R70,EventConditionConfig!A:C,3,FALSE)&IF(S70=\"\",\"\",CHAR(10)&\"-\"&VLOOKUP(S70,EventConditionConfig!A:C,3,FALSE)))","v":"-击杀魔休"},{"$nulls":14},{"$f":"IF(A70=\"\",\"\",MAX(B70,D70,L70,X70,AA70))","v":2070}]
[{"$nulls":16},{"$f":"_xlfn.TEXTJOIN(\";\",1,R71:S71)","v":""},null,null,{"$f":"IF(R71=\"\",\"\",\"-\"&VLOOKUP(R71,EventConditionConfig!A:C,3,FALSE)&IF(S71=\"\",\"\",CHAR(10)&\"-\"&VLOOKUP(S71,EventConditionConfig!A:C,3,FALSE)))","v":""},{"$nulls":14},""]
[{"$nulls":16},"",null,null,{"$f":"IF(R72=\"\",\"\",\"-\"&VLOOKUP(R72,EventConditionConfig!A:C,3,FALSE)&IF(S72=\"\",\"\",CHAR(10)&\"-\"&VLOOKUP(S72,EventConditionConfig!A:C,3,FALSE)))","v":""},{"$nulls":14},""]
[9031,2076,"出现Boss魔修",2077,"打败魔修",{"$nulls":11},"",null,null,{"$f":"IF(R73=\"\",\"\",\"-\"&VLOOKUP(R73,EventConditionConfig!A:C,3,FALSE)&IF(S73=\"\",\"\",CHAR(10)&\"-\"&VLOOKUP(S73,EventConditionConfig!A:C,3,FALSE)))","v":""},2,100001,{"$nulls":12},2077]
[{"$nulls":16},"",null,null,{"$f":"IF(R74=\"\",\"\",\"-\"&VLOOKUP(R74,EventConditionConfig!A:C,3,FALSE)&IF(S74=\"\",\"\",CHAR(10)&\"-\"&VLOOKUP(S74,EventConditionConfig!A:C,3,FALSE)))","v":""},{"$nulls":14},""]
[{"$f":"O75*100+P75","v":1000101},2086,"使用风铃唤醒还未泯灭的神识",{"$nulls":8},2083,"北冥有鱼，其名为鲲……",2,10001,{"$f":"IF(O75=O74,P74+1,1)","v":1},"",null,null,{"$f":"IF(R75=\"\",\"\",\"-\"&VLOOKUP(R75,EventConditionConfig!A:C,3,FALSE)&IF(S75=\"\",\"\",CHAR(10)&\"-\"&VLOOKUP(S75,EventConditionConfig!A:C,3,FALSE)))","v":""},{"$nulls":11},{"$f":"IF(A75=\"\",\"\",IF(U75=1,\"\",IF(A76=\"\",3,1)))","v":1},{"$f":"IF(AF75=1,A76,IF(AF75=3,LEFT(A75,5)+1,\"\"))","v":1000102},null,2086]
[{"$f":"O76*100+P76","v":1000102},2086,"使用风铃唤醒还未泯灭的神识",{"$nulls":8},2084,"不过北海遥远，何时能寻得鲲鹏的踪迹。",2,10001,{"$f":"IF(O76=O75,P75+1,1)","v":2},"",null,null,{"$f":"IF(R76=\"\",\"\",\"-\"&VLOOKUP(R76,EventConditionConfig!A:C,3,FALSE)&IF(S76=\"\",\"\",CHAR(10)&\"-\"&VLOOKUP(S76,EventConditionConfig!A:C,3,FALSE)))","v":""},{"$nulls":11},{"$f":"IF(A76=\"\",\"\",IF(U76=1,\"\",IF(A77=\"\",3,1)))","v":1},{"$f":"IF(AF76=1,A77,IF(AF76=3,LEFT(A76,5)+1,\"\"))","v":1000103},null,2086]
[{"$f":"O77*100+P77","v":1000103},2086,"使用风铃唤醒还未泯灭的神识",{"$nulls":8},2085,"好在我的神识尚在，可探天地，再加上刚刚的风铃，或许能寻得前路线索。",2,10001,3,"",null,null,{"$f":"IF(R77=\"\",\"\",\"-\"&VLOOKUP(R77,EventConditionConfig!A:C,3,FALSE)&IF(S77=\"\",\"\",CHAR(10)&\"-\"&VLOOKUP(S77,EventConditionConfig!A:C,3,FALSE)))","v":""},{"$nulls":11},1,1000104,null,2086]
[{"$f":"O78*100+P78","v":1000104},2086,"使用风铃唤醒还未泯灭的神识",{"$nulls":11},10001,4,"5",5,null,{"$f":"IF(R78=\"\",\"\",\"-\"&VLOOKUP(R78,EventConditionConfig!A:C,3,FALSE)&IF(S78=\"\",\"\",CHAR(10)&\"-\"&VLOOKUP(S78,EventConditionConfig!A:C,3,FALSE)))","v":"-使用神识"},{"$nulls":11},3,10002,null,2086]
[{"$nulls":16},"",null,null,{"$f":"IF(R79=\"\",\"\",\"-\"&VLOOKUP(R79,EventConditionConfig!A:C,3,FALSE)&IF(S79=\"\",\"\",CHAR(10)&\"-\"&VLOOKUP(S79,EventConditionConfig!A:C,3,FALSE)))","v":""},{"$nulls":11},"","",null,""]
[{"$f":"O80*100+P80","v":1000201},2091,"前往妖兽盘踞的地方",{"$nulls":8},2092,"神识发现有一条古径，隐于云山之间，不过似乎有妖兽盘踞。",3,10002,1,"",null,null,{"$f":"IF(R80=\"\",\"\",\"-\"&VLOOKUP(R80,EventConditionConfig!A:C,3,FALSE)&IF(S80=\"\",\"\",CHAR(10)&\"-\"&VLOOKUP(S80,EventConditionConfig!A:C,3,FALSE)))","v":""},{"$nulls":11},1,{"$f":"IF(AF80=1,A81,IF(AF80=3,LEFT(A80,5)+1,\"\"))","v":1000202},null,2092]
[{"$f":"O81*100+P81","v":1000202},2091,"前往妖兽盘踞的地方",{"$nulls":8},2093,"没其他办法了，过去看看吧。",3,10002,2,"",null,null,{"$f":"IF(R81=\"\",\"\",\"-\"&VLOOKUP(R81,EventConditionConfig!A:C,3,FALSE)&IF(S81=\"\",\"\",CHAR(10)&\"-\"&VLOOKUP(S81,EventConditionConfig!A:C,3,FALSE)))","v":""},{"$nulls":11},1,1000203,null,2093]
[{"$f":"O82*100+P82","v":1000203},2091,"前往妖兽盘踞的地方",2094,"继续飞行一段时间",{"$nulls":9},10002,3,"",null,null,{"$f":"IF(R82=\"\",\"\",\"-\"&VLOOKUP(R82,EventConditionConfig!A:C,3,FALSE)&IF(S82=\"\",\"\",CHAR(10)&\"-\"&VLOOKUP(S82,EventConditionConfig!A:C,3,FALSE)))","v":""},{"$nulls":11},3,10003,null,2094]
[{"$nulls":16},"",null,null,{"$f":"IF(R83=\"\",\"\",\"-\"&VLOOKUP(R83,EventConditionConfig!A:C,3,FALSE)&IF(S83=\"\",\"\",CHAR(10)&\"-\"&VLOOKUP(S83,EventConditionConfig!A:C,3,FALSE)))","v":""},{"$nulls":11},"","",null,""]
[1000301,2095,"蜩鸟和小麻雀对你的到来很好奇",{"$nulls":7},{"$f":"IF(J84=\"\",\"\",VLOOKUP(J84,EventNPC!A:E,5,FALSE))","v":""},2096,"应该就是这里了，似乎有古老的阵法挡住了去路",null,10003,1,"",null,null,{"$f":"IF(R84=\"\",\"\",\"-\"&VLOOKUP(R84,EventConditionConfig!A:C,3,FALSE)&IF(S84=\"\",\"\",CHAR(10)&\"-\"&VLOOKUP(S84,EventConditionConfig!A:C,3,FALSE)))","v":""},{"$nulls":11},1,1000302,null,2096]
[{"$f":"O85*100+P85","v":1000302},2095,"蜩鸟和小麻雀对你的到来很好奇",{"$nulls":7},{"$f":"IF(J85=\"\",\"\",VLOOKUP(J85,EventNPC!A:E,5,FALSE))","v":""},2097,"（结界门前，三只小鸟飞来，落在一旁古松上）",null,10003,2,"",null,null,{"$f":"IF(R85=\"\",\"\",\"-\"&VLOOKUP(R85,EventConditionConfig!A:C,3,FALSE)&IF(S85=\"\",\"\",CHAR(10)&\"-\"&VLOOKUP(S85,EventConditionConfig!A:C,3,FALSE)))","v":""},{"$nulls":11},1,1000303,null,2097]
[{"$f":"O86*100+P86","v":1000303},2095,"蜩鸟和小麻雀对你的到来很好奇",{"$nulls":6},101,{"$f":"IF(J86=\"\",\"\",VLOOKUP(J86,EventNPC!A:E,5,FALSE))","v":"蜩鸟"},2098,"（拍翅）：“咦？又是妄图穿行北海之人？”",null,10003,{"$f":"IF(O86=O85,P85+1,1)","v":3},"",null,null,{"$f":"IF(R86=\"\",\"\",\"-\"&VLOOKUP(R86,EventConditionConfig!A:C,3,FALSE)&IF(S86=\"\",\"\",CHAR(10)&\"-\"&VLOOKUP(S86,EventConditionConfig!A:C,3,FALSE)))","v":""},1,{"$f":"A87","v":1000304},{"$f":"_xlfn.TEXTJOIN(\";\",1,X86,AA86)","v":"2099"},2099,"我在寻找鲲鹏，你们知道它在哪里吗？",{"$nulls":6},"","",null,2099]
[{"$f":"O87*100+P87","v":1000304},2095,"蜩鸟和小麻雀对你的到来很好奇",{"$nulls":6},102,{"$f":"IF(J87=\"\",\"\",VLOOKUP(J87,EventNPC!A:E,5,FALSE))","v":"小麻雀"},2100,"（扑棱翅膀）是想要从北海飞往南海的超级大鸟吧？",null,10003,{"$f":"IF(O87=O86,P86+1,1)","v":4},"",null,null,{"$f":"IF(R87=\"\",\"\",\"-\"&VLOOKUP(R87,EventConditionConfig!A:C,3,FALSE)&IF(S87=\"\",\"\",CHAR(10)&\"-\"&VLOOKUP(S87,EventConditionConfig!A:C,3,FALSE)))","v":""},null,null,"",{"$nulls":8},1,1000305,null,2100]
[{"$f":"O88*100+P88","v":1000305},2095,"蜩鸟和小麻雀对你的到来很好奇",{"$nulls":6},102,{"$f":"IF(J88=\"\",\"\",VLOOKUP(J88,EventNPC!A:E,5,FALSE))","v":"小麻雀"},2101,"我就想不明白，她为何要飞如此之远，太奇怪啦！",null,10003,{"$f":"IF(O88=O87,P87+1,1)","v":5},"",null,null,{"$f":"IF(R88=\"\",\"\",\"-\"&VLOOKUP(R88,EventConditionConfig!A:C,3,FALSE)&IF(S88=\"\",\"\",CHAR(10)&\"-\"&VLOOKUP(S88,EventConditionConfig!A:C,3,FALSE)))","v":""},1,{"$f":"A89","v":1000306},"2102",2102,"鲲鹏是在追求心中的目标吧。",{"$nulls":6},"","",null,2102]
[{"$f":"O89*100+P89","v":1000306},2095,"蜩鸟和小麻雀对你的到来很好奇",{"$nulls":6},102,{"$f":"IF(J89=\"\",\"\",VLOOKUP(J89,EventNPC!A:E,5,FALSE))","v":"小麻雀"},2103,"（偏头想了想）目标？我天天在这里上蹿下跳，在附近树林飞来飞去，就已经很幸福啦。",null,10003,{"$f":"IF(O89=O88,P88+1,1)","v":6},"",null,null,{"$f":"IF(R89=\"\",\"\",\"-\"&VLOOKUP(R89,EventConditionConfig!A:C,3,FALSE)&IF(S89=\"\",\"\",CHAR(10)&\"-\"&VLOOKUP(S89,EventConditionConfig!A:C,3,FALSE)))","v":""},null,null,"",{"$nulls":8},1,1000307,null,2103]
[{"$f":"O90*100+P90","v":1000307},2095,"蜩鸟和小麻雀对你的到来很好奇",{"$nulls":6},102,{"$f":"IF(J90=\"\",\"\",VLOOKUP(J90,EventNPC!A:E,5,FALSE))","v":"小麻雀"},2104,"就那大傻鸟，非要飞那么远，又笨又蠢...真没意思。",null,10003,{"$f":"IF(O90=O89,P89+1,1)","v":7},"",null,null,{"$f":"IF(R90=\"\",\"\",\"-\"&VLOOKUP(R90,EventConditionConfig!A:C,3,FALSE)&IF(S90=\"\",\"\",CHAR(10)&\"-\"&VLOOKUP(S90,EventConditionConfig!A:C,3,FALSE)))","v":""},1,{"$f":"A91","v":1000308},"2105;2106",2105,"你说得也有一定道理…",null,2106,"你懂什么..这大鹏鸟可比你更有志向多了。",null,null,null,"","",null,2106]
[{"$f":"O91*100+P91","v":1000308},2095,"蜩鸟和小麻雀对你的到来很好奇",{"$nulls":6},101,{"$f":"IF(J91=\"\",\"\",VLOOKUP(J91,EventNPC!A:E,5,FALSE))","v":"蜩鸟"},2107,"（翻飞一圈）志向有什么用？到头来还不是风停了就落地。",null,10003,{"$f":"IF(O91=O90,P90+1,1)","v":8},"",null,null,{"$f":"IF(R91=\"\",\"\",\"-\"&VLOOKUP(R91,EventConditionConfig!A:C,3,FALSE)&IF(S91=\"\",\"\",CHAR(10)&\"-\"&VLOOKUP(S91,EventConditionConfig!A:C,3,FALSE)))","v":""},1,{"$f":"A92","v":1000309},"2108",2108,"......",{"$nulls":6},"","",null,2108]
[{"$f":"O92*100+P92","v":1000309},2095,"蜩鸟和小麻雀对你的到来很好奇",{"$nulls":7},{"$f":"IF(J92=\"\",\"\",VLOOKUP(J92,EventNPC!A:E,5,FALSE))","v":""},2109,"（此时，结界微动，一缕风穿林而过，古径阵法竟有一丝松动）",null,10003,{"$f":"IF(O92=O91,P91+1,1)","v":9},"",null,null,{"$f":"IF(R92=\"\",\"\",\"-\"&VLOOKUP(R92,EventConditionConfig!A:C,3,FALSE)&IF(S92=\"\",\"\",CHAR(10)&\"-\"&VLOOKUP(S92,EventConditionConfig!A:C,3,FALSE)))","v":""},null,null,"",{"$nulls":8},3,10004,null,2109]
[{"$nulls":16},"",null,null,{"$f":"IF(R93=\"\",\"\",\"-\"&VLOOKUP(R93,EventConditionConfig!A:C,3,FALSE)&IF(S93=\"\",\"\",CHAR(10)&\"-\"&VLOOKUP(S93,EventConditionConfig!A:C,3,FALSE)))","v":""},{"$nulls":11},"","",null,""]
[{"$f":"O94*100+P94","v":1000401},2110,"原来它们就是镇守阵法的结界兽",2115,"击败结界兽",{"$nulls":4},101,{"$f":"IF(J94=\"\",\"\",VLOOKUP(J94,EventNPC!A:E,5,FALSE))","v":"蜩鸟"},2111,"这结界似乎有所反应…",null,10004,{"$f":"IF(O94=O93,P93+1,1)","v":1},"",null,null,{"$f":"IF(R94=\"\",\"\",\"-\"&VLOOKUP(R94,EventConditionConfig!A:C,3,FALSE)&IF(S94=\"\",\"\",CHAR(10)&\"-\"&VLOOKUP(S94,EventConditionConfig!A:C,3,FALSE)))","v":""},1,{"$f":"A95","v":1000402},{"$f":"_xlfn.TEXTJOIN(\";\",1,X94,AA94)","v":"2112"},2112,"与你们聊天很有意思，不过今天我是非过去不可，没人能阻止我重返仙途！",{"$nulls":6},"","",null,2115]
[{"$f":"O95*100+P95","v":1000402},2110,"原来它们就是镇守阵法的结界兽",2115,"击败结界兽",{"$nulls":4},102,{"$f":"IF(J95=\"\",\"\",VLOOKUP(J95,EventNPC!A:E,5,FALSE))","v":"小麻雀"},2113,"\"小鸟..\"现身吧！",null,10004,{"$f":"IF(O95=O94,P94+1,1)","v":2},"",null,null,{"$f":"IF(R95=\"\",\"\",\"-\"&VLOOKUP(R95,EventConditionConfig!A:C,3,FALSE)&IF(S95=\"\",\"\",CHAR(10)&\"-\"&VLOOKUP(S95,EventConditionConfig!A:C,3,FALSE)))","v":""},null,null,{"$f":"_xlfn.TEXTJOIN(\";\",1,X95,AA95)","v":""},{"$nulls":8},{"$f":"IF(A95=\"\",\"\",IF(U95=1,\"\",IF(A96=\"\",3,1)))","v":1},{"$f":"IF(AF95=1,A96,IF(AF95=3,LEFT(A95,5)+1,\"\"))","v":1000403},null,2115]
[{"$f":"O96*100+P96","v":1000403},2110,"原来它们就是镇守阵法的结界兽",2115,"击败结界兽",{"$nulls":4},101,{"$f":"IF(J96=\"\",\"\",VLOOKUP(J96,EventNPC!A:E,5,FALSE))","v":"蜩鸟"},2114,"（轻轻飞下来..）又来...来吧来吧..",null,10004,{"$f":"IF(O96=O95,P95+1,1)","v":3},"",null,null,{"$f":"IF(R96=\"\",\"\",\"-\"&VLOOKUP(R96,EventConditionConfig!A:C,3,FALSE)&IF(S96=\"\",\"\",CHAR(10)&\"-\"&VLOOKUP(S96,EventConditionConfig!A:C,3,FALSE)))","v":""},2,100001,{"$f":"_xlfn.TEXTJOIN(\";\",1,X96,AA96)","v":""},{"$nulls":8},2,"1000404;101",null,2115]
[{"$f":"O97*100+P97","v":1000404},2110,"原来它们就是镇守阵法的结界兽",{"$nulls":6},102,{"$f":"IF(J97=\"\",\"\",VLOOKUP(J97,EventNPC!A:E,5,FALSE))","v":"小麻雀"},2115,"怎么想过去，就去吧..",null,10004,{"$f":"IF(O97=O96,P96+1,1)","v":4},"",null,null,{"$f":"IF(R97=\"\",\"\",\"-\"&VLOOKUP(R97,EventConditionConfig!A:C,3,FALSE)&IF(S97=\"\",\"\",CHAR(10)&\"-\"&VLOOKUP(S97,EventConditionConfig!A:C,3,FALSE)))","v":""},null,null,{"$f":"_xlfn.TEXTJOIN(\";\",1,X97,AA97)","v":""},{"$nulls":8},{"$f":"IF(A97=\"\",\"\",IF(U97=1,\"\",IF(A98=\"\",3,1)))","v":3},{"$f":"IF(AF97=1,A98,IF(AF97=3,LEFT(A97,5)+1,\"\"))","v":10005},null,2115]
[{"$nulls":16},"",null,null,{"$f":"IF(R98=\"\",\"\",\"-\"&VLOOKUP(R98,EventConditionConfig!A:C,3,FALSE)&IF(S98=\"\",\"\",CHAR(10)&\"-\"&VLOOKUP(S98,EventConditionConfig!A:C,3,FALSE)))","v":""},{"$nulls":14},""]
[{"$f":"O99*100+P99","v":1000501},2151,"初见疯道人",{"$nulls":7},{"$f":"IF(J99=\"\",\"\",VLOOKUP(J99,EventNPC!A:E,5,FALSE))","v":""},2116,"你穿过古径结界，来到一片被风托起的浮空灵岛群。",null,10005,{"$f":"IF(O99=O98,P98+1,1)","v":1},"",null,null,{"$f":"IF(R99=\"\",\"\",\"-\"&VLOOKUP(R99,EventConditionConfig!A:C,3,FALSE)&IF(S99=\"\",\"\",CHAR(10)&\"-\"&VLOOKUP(S99,EventConditionConfig!A:C,3,FALSE)))","v":""},null,null,{"$f":"_xlfn.TEXTJOIN(\";\",1,X99,AA99)","v":""},{"$nulls":8},{"$f":"IF(A99=\"\",\"\",IF(U99=1,\"\",IF(A100=\"\",3,1)))","v":1},{"$f":"IF(AF99=1,A100,IF(AF99=3,LEFT(A99,5)+1,\"\"))","v":1000502},null,2151]
[{"$f":"O100*100+P100","v":1000502},2151,"初见疯道人",{"$nulls":7},{"$f":"IF(J100=\"\",\"\",VLOOKUP(J100,EventNPC!A:E,5,FALSE))","v":""},2117,"风势强劲，岛与岛之间缝隙深不见底，无桥无梯。",null,10005,{"$f":"IF(O100=O99,P99+1,1)","v":2},"",null,null,{"$f":"IF(R100=\"\",\"\",\"-\"&VLOOKUP(R100,EventConditionConfig!A:C,3,FALSE)&IF(S100=\"\",\"\",CHAR(10)&\"-\"&VLOOKUP(S100,EventConditionConfig!A:C,3,FALSE)))","v":""},null,null,"",{"$nulls":8},{"$f":"IF(A100=\"\",\"\",IF(U100=1,\"\",IF(A101=\"\",3,1)))","v":1},{"$f":"IF(AF100=1,A101,IF(AF100=3,LEFT(A100,5)+1,\"\"))","v":1000503},null,2151]
[{"$f":"O101*100+P101","v":1000503},2151,"初见疯道人",{"$nulls":7},{"$f":"IF(J101=\"\",\"\",VLOOKUP(J101,EventNPC!A:E,5,FALSE))","v":""},2118,"此处盘踞一位神秘道人，常独自站在岛边望风，仿佛等待什么。",null,10005,{"$f":"IF(O101=O100,P100+1,1)","v":3},"",null,null,{"$f":"IF(R101=\"\",\"\",\"-\"&VLOOKUP(R101,EventConditionConfig!A:C,3,FALSE)&IF(S101=\"\",\"\",CHAR(10)&\"-\"&VLOOKUP(S101,EventConditionConfig!A:C,3,FALSE)))","v":""},null,null,"",{"$nulls":8},{"$f":"IF(A101=\"\",\"\",IF(U101=1,\"\",IF(A102=\"\",3,1)))","v":1},{"$f":"IF(AF101=1,A102,IF(AF101=3,LEFT(A101,5)+1,\"\"))","v":1000504},null,2151]
[{"$f":"O102*100+P102","v":1000504},2151,"初见疯道人",{"$nulls":7},{"$f":"IF(J102=\"\",\"\",VLOOKUP(J102,EventNPC!A:E,5,FALSE))","v":""},2119,"（你尝试御剑，却在风中打转，被吹回原地）",null,10005,{"$f":"IF(O102=O101,P101+1,1)","v":4},"",null,null,{"$f":"IF(R102=\"\",\"\",\"-\"&VLOOKUP(R102,EventConditionConfig!A:C,3,FALSE)&IF(S102=\"\",\"\",CHAR(10)&\"-\"&VLOOKUP(S102,EventConditionConfig!A:C,3,FALSE)))","v":""},1,{"$f":"A103","v":1000505},"2120",2120,"前辈，这里的风太大，我无法飞行，请教如何才能通过？",{"$nulls":6},{"$f":"IF(A102=\"\",\"\",IF(U102=1,\"\",IF(A103=\"\",3,1)))","v":""},{"$f":"IF(AF102=1,A103,IF(AF102=3,LEFT(A102,5)+1,\"\"))","v":""},null,2151]
[1000505,2151,"初见疯道人",{"$nulls":6},103,{"$f":"IF(J103=\"\",\"\",VLOOKUP(J103,EventNPC!A:E,5,FALSE))","v":"疯道人"},2121,"......",null,10005,5,"",null,null,{"$f":"IF(R103=\"\",\"\",\"-\"&VLOOKUP(R103,EventConditionConfig!A:C,3,FALSE)&IF(S103=\"\",\"\",CHAR(10)&\"-\"&VLOOKUP(S103,EventConditionConfig!A:C,3,FALSE)))","v":""},1,{"$f":"A104","v":1000506},"2122",2122,"前辈，我准备前往北海深处，寻鲲鹏。",{"$nulls":6},"","",null,2151]
[1000506,2151,"初见疯道人",{"$nulls":6},103,{"$f":"IF(J104=\"\",\"\",VLOOKUP(J104,EventNPC!A:E,5,FALSE))","v":"疯道人"},2123,"鲲鹏？……世间竟还有人记得它。",null,10005,6,"",null,null,{"$f":"IF(R104=\"\",\"\",\"-\"&VLOOKUP(R104,EventConditionConfig!A:C,3,FALSE)&IF(S104=\"\",\"\",CHAR(10)&\"-\"&VLOOKUP(S104,EventConditionConfig!A:C,3,FALSE)))","v":""},null,null,"",{"$nulls":8},1,1000507,null,2151]
[{"$f":"O105*100+P105","v":1000507},2151,"初见疯道人",{"$nulls":6},103,{"$f":"IF(J105=\"\",\"\",VLOOKUP(J105,EventNPC!A:E,5,FALSE))","v":"疯道人"},2124,"（说着从手中掏出一个碎片，往空中一震，瞬间风停）过来吧。",null,10005,{"$f":"IF(O105=O104,P104+1,1)","v":7},"",null,null,{"$f":"IF(R105=\"\",\"\",\"-\"&VLOOKUP(R105,EventConditionConfig!A:C,3,FALSE)&IF(S105=\"\",\"\",CHAR(10)&\"-\"&VLOOKUP(S105,EventConditionConfig!A:C,3,FALSE)))","v":""},null,null,"",{"$nulls":8},{"$f":"IF(A105=\"\",\"\",IF(U105=1,\"\",IF(A106=\"\",3,1)))","v":1},{"$f":"IF(AF105=1,A106,IF(AF105=3,LEFT(A105,5)+1,\"\"))","v":1000508},null,2151]
[{"$f":"O106*100+P106","v":1000508},2151,"初见疯道人",{"$nulls":6},103,{"$f":"IF(J106=\"\",\"\",VLOOKUP(J106,EventNPC!A:E,5,FALSE))","v":"疯道人"},2125,"说吧，为何寻那鲲鹏？",null,10005,{"$f":"IF(O106=O105,P105+1,1)","v":8},"",null,null,{"$f":"IF(R106=\"\",\"\",\"-\"&VLOOKUP(R106,EventConditionConfig!A:C,3,FALSE)&IF(S106=\"\",\"\",CHAR(10)&\"-\"&VLOOKUP(S106,EventConditionConfig!A:C,3,FALSE)))","v":""},1,{"$f":"A107","v":1000509},"2126;2127",2126,"冲虚真人让我去的",null,2127,"我只是好奇..",null,null,null,{"$f":"IF(A106=\"\",\"\",IF(U106=1,\"\",IF(A107=\"\",3,1)))","v":""},{"$f":"IF(AF106=1,A107,IF(AF106=3,LEFT(A106,5)+1,\"\"))","v":""},null,2151]
[1000509,2151,"初见疯道人",{"$nulls":6},103,{"$f":"IF(J107=\"\",\"\",VLOOKUP(J107,EventNPC!A:E,5,FALSE))","v":"疯道人"},2128,"你可知鹏飞九万里，需凭借龙卷风，才可达成？",null,10005,9,"",null,null,{"$f":"IF(R107=\"\",\"\",\"-\"&VLOOKUP(R107,EventConditionConfig!A:C,3,FALSE)&IF(S107=\"\",\"\",CHAR(10)&\"-\"&VLOOKUP(S107,EventConditionConfig!A:C,3,FALSE)))","v":""},1,{"$f":"A108","v":1000510},"2129",2129,"请前辈赐教......",{"$nulls":6},"","",null,2151]
[1000510,2151,"初见疯道人",{"$nulls":6},103,{"$f":"IF(J108=\"\",\"\",VLOOKUP(J108,EventNPC!A:E,5,FALSE))","v":"疯道人"},2130,"看你修为尚浅，跟你说多了也无用。",null,10005,10,"",null,null,{"$f":"IF(R108=\"\",\"\",\"-\"&VLOOKUP(R108,EventConditionConfig!A:C,3,FALSE)&IF(S108=\"\",\"\",CHAR(10)&\"-\"&VLOOKUP(S108,EventConditionConfig!A:C,3,FALSE)))","v":""},null,null,"",{"$nulls":8},1,1000511,null,2151]
[{"$f":"O109*100+P109","v":1000511},2151,"初见疯道人",{"$nulls":6},103,{"$f":"IF(J109=\"\",\"\",VLOOKUP(J109,EventNPC!A:E,5,FALSE))","v":"疯道人"},2131,"再往前是我师弟的洞府了，他可不好说话。",null,10005,{"$f":"IF(O109=O108,P108+1,1)","v":11},"",null,null,{"$f":"IF(R109=\"\",\"\",\"-\"&VLOOKUP(R109,EventConditionConfig!A:C,3,FALSE)&IF(S109=\"\",\"\",CHAR(10)&\"-\"&VLOOKUP(S109,EventConditionConfig!A:C,3,FALSE)))","v":""},null,null,"",{"$nulls":8},{"$f":"IF(A109=\"\",\"\",IF(U109=1,\"\",IF(A110=\"\",3,1)))","v":1},{"$f":"IF(AF109=1,A110,IF(AF109=3,LEFT(A109,5)+1,\"\"))","v":1000512},null,2151]
[{"$f":"O110*100+P110","v":1000512},2151,"初见疯道人",{"$nulls":6},103,{"$f":"IF(J110=\"\",\"\",VLOOKUP(J110,EventNPC!A:E,5,FALSE))","v":"疯道人"},2132,"就在我这附近好好修炼吧，至少提升至筑基修为。",null,10005,{"$f":"IF(O110=O109,P109+1,1)","v":12},"",null,null,{"$f":"IF(R110=\"\",\"\",\"-\"&VLOOKUP(R110,EventConditionConfig!A:C,3,FALSE)&IF(S110=\"\",\"\",CHAR(10)&\"-\"&VLOOKUP(S110,EventConditionConfig!A:C,3,FALSE)))","v":""},1,{"$f":"A111","v":1000513},"2133",2133,"前辈为何如此助我？",{"$nulls":6},{"$f":"IF(A110=\"\",\"\",IF(U110=1,\"\",IF(A111=\"\",3,1)))","v":""},{"$f":"IF(AF110=1,A111,IF(AF110=3,LEFT(A110,5)+1,\"\"))","v":""},null,2151]
[1000513,2151,"初见疯道人",{"$nulls":6},103,{"$f":"IF(J111=\"\",\"\",VLOOKUP(J111,EventNPC!A:E,5,FALSE))","v":"疯道人"},2134,"（疯道人望你一眼，没有回答，但丢过来一本功法）修到[筑基-中期]再来找我。",null,10005,13,"",null,null,{"$f":"IF(R111=\"\",\"\",\"-\"&VLOOKUP(R111,EventConditionConfig!A:C,3,FALSE)&IF(S111=\"\",\"\",CHAR(10)&\"-\"&VLOOKUP(S111,EventConditionConfig!A:C,3,FALSE)))","v":""},null,null,"",{"$nulls":8},1,1000514,null,2151]
[{"$f":"O112*100+P112","v":1000514},2151,"初见疯道人",{"$nulls":7},{"$f":"IF(J112=\"\",\"\",VLOOKUP(J112,EventNPC!A:E,5,FALSE))","v":""},null,null,null,10005,{"$f":"IF(O112=O111,P111+1,1)","v":14},"2",2,null,{"$f":"IF(R112=\"\",\"\",\"-\"&VLOOKUP(R112,EventConditionConfig!A:C,3,FALSE)&IF(S112=\"\",\"\",CHAR(10)&\"-\"&VLOOKUP(S112,EventConditionConfig!A:C,3,FALSE)))","v":"-达到境界：筑基-中期"},null,null,"",{"$nulls":8},{"$f":"IF(A112=\"\",\"\",IF(U112=1,\"\",IF(A113=\"\",3,1)))","v":3},{"$f":"IF(AF112=1,A113,IF(AF112=3,LEFT(A112,5)+1,\"\"))","v":10006},null,2151]
[{"$nulls":16},"",null,null,{"$f":"IF(R113=\"\",\"\",\"-\"&VLOOKUP(R113,EventConditionConfig!A:C,3,FALSE)&IF(S113=\"\",\"\",CHAR(10)&\"-\"&VLOOKUP(S113,EventConditionConfig!A:C,3,FALSE)))","v":""},{"$nulls":14},""]
[{"$f":"O114*100+P114","v":1000601},2152,"疯道人赠与一半风灵珠",{"$nulls":6},103,{"$f":"IF(J114=\"\",\"\",VLOOKUP(J114,EventNPC!A:E,5,FALSE))","v":"疯道人"},2139,"你已突破筑基前期达到中期，灵力通畅，是时候去会一会我的师弟了。",null,10006,{"$f":"IF(O114=O113,P113+1,1)","v":1},"",null,null,{"$f":"IF(R114=\"\",\"\",\"-\"&VLOOKUP(R114,EventConditionConfig!A:C,3,FALSE)&IF(S114=\"\",\"\",CHAR(10)&\"-\"&VLOOKUP(S114,EventConditionConfig!A:C,3,FALSE)))","v":""},1,"1000603;1000602",{"$f":"_xlfn.TEXTJOIN(\";\",1,X114,AA114)","v":"2140;2141"},2140,"是的。鲲鹏之行，志在必达。",null,2141,"看看风的尽头到底有什么。",null,null,null,{"$f":"IF(A114=\"\",\"\",IF(U114=1,\"\",IF(A115=\"\",3,1)))","v":""},{"$f":"IF(AF114=1,A115,IF(AF114=3,LEFT(A114,5)+1,\"\"))","v":""},null,2152]
[{"$f":"O115*100+P115","v":1000602},2152,"疯道人赠与一半风灵珠",{"$nulls":6},103,{"$f":"IF(J115=\"\",\"\",VLOOKUP(J115,EventNPC!A:E,5,FALSE))","v":"疯道人"},2142,"（轻轻一笑）你说风的尽头……我也曾想看。\n（他望向远处翻涌的云海）",null,10006,{"$f":"IF(O115=O114,P114+1,1)","v":2},"",null,null,{"$f":"IF(R115=\"\",\"\",\"-\"&VLOOKUP(R115,EventConditionConfig!A:C,3,FALSE)&IF(S115=\"\",\"\",CHAR(10)&\"-\"&VLOOKUP(S115,EventConditionConfig!A:C,3,FALSE)))","v":""},1,{"$f":"A116","v":1000603},2140,2140,"是的。鲲鹏之行，志在必达。",{"$nulls":6},{"$f":"IF(A115=\"\",\"\",IF(U115=1,\"\",IF(A116=\"\",3,1)))","v":""},{"$f":"IF(AF115=1,A116,IF(AF115=3,LEFT(A115,5)+1,\"\"))","v":""},null,2152]
[{"$f":"O116*100+P116","v":1000603},2152,"疯道人赠与一半风灵珠",{"$nulls":6},103,{"$f":"IF(J116=\"\",\"\",VLOOKUP(J116,EventNPC!A:E,5,FALSE))","v":"疯道人"},2143,"我和师弟，共守这处风眼多年。我想出去，他却偏要留。",null,10006,{"$f":"IF(O116=O115,P115+1,1)","v":3},"",null,null,{"$f":"IF(R116=\"\",\"\",\"-\"&VLOOKUP(R116,EventConditionConfig!A:C,3,FALSE)&IF(S116=\"\",\"\",CHAR(10)&\"-\"&VLOOKUP(S116,EventConditionConfig!A:C,3,FALSE)))","v":""},null,null,"",{"$nulls":8},{"$f":"IF(A116=\"\",\"\",IF(U116=1,\"\",IF(A117=\"\",3,1)))","v":1},{"$f":"IF(AF116=1,A117,IF(AF116=3,LEFT(A116,5)+1,\"\"))","v":1000604},null,2152]
[{"$f":"O117*100+P117","v":1000604},2152,"疯道人赠与一半风灵珠",{"$nulls":6},103,{"$f":"IF(J117=\"\",\"\",VLOOKUP(J117,EventNPC!A:E,5,FALSE))","v":"疯道人"},2144,"风灵珠碎成两半，一半在我这里，另一半……在他洞府中。",null,10006,{"$f":"IF(O117=O116,P116+1,1)","v":4},"",null,null,{"$f":"IF(R117=\"\",\"\",\"-\"&VLOOKUP(R117,EventConditionConfig!A:C,3,FALSE)&IF(S117=\"\",\"\",CHAR(10)&\"-\"&VLOOKUP(S117,EventConditionConfig!A:C,3,FALSE)))","v":""},null,null,"",{"$nulls":8},{"$f":"IF(A117=\"\",\"\",IF(U117=1,\"\",IF(A118=\"\",3,1)))","v":1},{"$f":"IF(AF117=1,A118,IF(AF117=3,LEFT(A117,5)+1,\"\"))","v":1000605},null,2152]
[{"$f":"O118*100+P118","v":1000605},2152,"疯道人赠与一半风灵珠",{"$nulls":6},103,{"$f":"IF(J118=\"\",\"\",VLOOKUP(J118,EventNPC!A:E,5,FALSE))","v":"疯道人"},2145,"你若想见鲲鹏，必须要集齐整个风灵珠。",null,10006,{"$f":"IF(O118=O117,P117+1,1)","v":5},"",null,null,{"$f":"IF(R118=\"\",\"\",\"-\"&VLOOKUP(R118,EventConditionConfig!A:C,3,FALSE)&IF(S118=\"\",\"\",CHAR(10)&\"-\"&VLOOKUP(S118,EventConditionConfig!A:C,3,FALSE)))","v":""},null,null,"",{"$nulls":8},{"$f":"IF(A118=\"\",\"\",IF(U118=1,\"\",IF(A119=\"\",3,1)))","v":1},{"$f":"IF(AF118=1,A119,IF(AF118=3,LEFT(A118,5)+1,\"\"))","v":1000606},null,2152]
[{"$f":"O119*100+P119","v":1000606},2152,"疯道人赠与一半风灵珠",{"$nulls":6},103,{"$f":"IF(J119=\"\",\"\",VLOOKUP(J119,EventNPC!A:E,5,FALSE))","v":"疯道人"},2146,"我这一半给你，可助你在大风中，来去自如。",null,10006,{"$f":"IF(O119=O118,P118+1,1)","v":6},"",null,null,{"$f":"IF(R119=\"\",\"\",\"-\"&VLOOKUP(R119,EventConditionConfig!A:C,3,FALSE)&IF(S119=\"\",\"\",CHAR(10)&\"-\"&VLOOKUP(S119,EventConditionConfig!A:C,3,FALSE)))","v":""},null,null,"",{"$nulls":8},{"$f":"IF(A119=\"\",\"\",IF(U119=1,\"\",IF(A120=\"\",3,1)))","v":3},{"$f":"IF(AF119=1,A120,IF(AF119=3,LEFT(A119,5)+1,\"\"))","v":10007},null,2152]
[{"$nulls":16},"",null,null,{"$f":"IF(R120=\"\",\"\",\"-\"&VLOOKUP(R120,EventConditionConfig!A:C,3,FALSE)&IF(S120=\"\",\"\",CHAR(10)&\"-\"&VLOOKUP(S120,EventConditionConfig!A:C,3,FALSE)))","v":""},{"$nulls":14},""]
[{"$f":"O121*100+P121","v":1000701},2153,"没想到痴道人一来就要与你交手",{"$nulls":7},{"$f":"IF(J121=\"\",\"\",VLOOKUP(J121,EventNPC!A:E,5,FALSE))","v":""},2147,"你获得了疯道人的半颗风灵珠，在狂风中自由飞行，好不自在。",null,10007,{"$f":"IF(O121=O120,P120+1,1)","v":1},"",null,null,{"$f":"IF(R121=\"\",\"\",\"-\"&VLOOKUP(R121,EventConditionConfig!A:C,3,FALSE)&IF(S121=\"\",\"\",CHAR(10)&\"-\"&VLOOKUP(S121,EventConditionConfig!A:C,3,FALSE)))","v":""},null,null,{"$f":"_xlfn.TEXTJOIN(\";\",1,X121,AA121)","v":""},{"$nulls":8},{"$f":"IF(A121=\"\",\"\",IF(U121=1,\"\",IF(A122=\"\",3,1)))","v":1},{"$f":"IF(AF121=1,A122,IF(AF121=3,LEFT(A121,5)+1,\"\"))","v":1000702},null,2153]
[{"$f":"O122*100+P122","v":1000702},2153,"没想到痴道人一来就要与你交手",{"$nulls":7},{"$f":"IF(J122=\"\",\"\",VLOOKUP(J122,EventNPC!A:E,5,FALSE))","v":""},2148,"这......就是逍遥游吗？",null,10007,{"$f":"IF(O122=O121,P121+1,1)","v":2},"",null,null,{"$f":"IF(R122=\"\",\"\",\"-\"&VLOOKUP(R122,EventConditionConfig!A:C,3,FALSE)&IF(S122=\"\",\"\",CHAR(10)&\"-\"&VLOOKUP(S122,EventConditionConfig!A:C,3,FALSE)))","v":""},null,null,{"$f":"_xlfn.TEXTJOIN(\";\",1,X122,AA122)","v":""},{"$nulls":8},{"$f":"IF(A122=\"\",\"\",IF(U122=1,\"\",IF(A123=\"\",3,1)))","v":1},{"$f":"IF(AF122=1,A123,IF(AF122=3,LEFT(A122,5)+1,\"\"))","v":1000703},null,2153]
[{"$f":"O123*100+P123","v":1000703},2153,"没想到痴道人一来就要与你交手",{"$nulls":6},104,{"$f":"IF(J123=\"\",\"\",VLOOKUP(J123,EventNPC!A:E,5,FALSE))","v":"痴道人"},2149,"你终于来了......",null,10007,{"$f":"IF(O123=O122,P122+1,1)","v":3},"",null,null,{"$f":"IF(R123=\"\",\"\",\"-\"&VLOOKUP(R123,EventConditionConfig!A:C,3,FALSE)&IF(S123=\"\",\"\",CHAR(10)&\"-\"&VLOOKUP(S123,EventConditionConfig!A:C,3,FALSE)))","v":""},1,{"$f":"A124","v":1000704},{"$f":"_xlfn.TEXTJOIN(\";\",1,X123,AA123)","v":"2150"},2150,"你知道我要来？",{"$nulls":6},{"$f":"IF(A123=\"\",\"\",IF(U123=1,\"\",IF(A124=\"\",3,1)))","v":""},{"$f":"IF(AF123=1,A124,IF(AF123=3,LEFT(A123,5)+1,\"\"))","v":""},null,2153]
[{"$f":"O124*100+P124","v":1000704},2153,"没想到痴道人一来就要与你交手",{"$nulls":6},104,{"$f":"IF(J124=\"\",\"\",VLOOKUP(J124,EventNPC!A:E,5,FALSE))","v":"痴道人"},2154,"多说无益，我早已感应到你身上的半颗风灵珠。必是那疯老头让来的。出手吧！",null,10007,{"$f":"IF(O124=O123,P123+1,1)","v":4},"",null,null,{"$f":"IF(R124=\"\",\"\",\"-\"&VLOOKUP(R124,EventConditionConfig!A:C,3,FALSE)&IF(S124=\"\",\"\",CHAR(10)&\"-\"&VLOOKUP(S124,EventConditionConfig!A:C,3,FALSE)))","v":""},2,100004,{"$f":"_xlfn.TEXTJOIN(\";\",1,X124,AA124)","v":""},{"$nulls":8},2,"1000705;101",null,2154]
[1000705,2153,"没想到痴道人一来就要与你交手",{"$nulls":6},104,{"$f":"IF(J125=\"\",\"\",VLOOKUP(J125,EventNPC!A:E,5,FALSE))","v":"痴道人"},2155,"（被击倒在一边）够了！",null,10007,5,"",null,null,{"$f":"IF(R125=\"\",\"\",\"-\"&VLOOKUP(R125,EventConditionConfig!A:C,3,FALSE)&IF(S125=\"\",\"\",CHAR(10)&\"-\"&VLOOKUP(S125,EventConditionConfig!A:C,3,FALSE)))","v":""},null,null,{"$f":"_xlfn.TEXTJOIN(\";\",1,X125,AA125)","v":""},{"$nulls":8},{"$f":"IF(A125=\"\",\"\",IF(U125=1,\"\",IF(A126=\"\",3,1)))","v":3},{"$f":"IF(AF125=1,A126,IF(AF125=3,LEFT(A125,5)+1,\"\"))","v":10008},null,2155]
[{"$nulls":16},"",null,null,{"$f":"IF(R126=\"\",\"\",\"-\"&VLOOKUP(R126,EventConditionConfig!A:C,3,FALSE)&IF(S126=\"\",\"\",CHAR(10)&\"-\"&VLOOKUP(S126,EventConditionConfig!A:C,3,FALSE)))","v":""},{"$nulls":14},""]
[{"$f":"O127*100+P127","v":1000801},2156,"疯痴相聚",{"$nulls":6},104,{"$f":"IF(J127=\"\",\"\",VLOOKUP(J127,EventNPC!A:E,5,FALSE))","v":"痴道人"},2157,"......",null,10008,{"$f":"IF(O127=O126,P126+1,1)","v":1},"",null,null,{"$f":"IF(R127=\"\",\"\",\"-\"&VLOOKUP(R127,EventConditionConfig!A:C,3,FALSE)&IF(S127=\"\",\"\",CHAR(10)&\"-\"&VLOOKUP(S127,EventConditionConfig!A:C,3,FALSE)))","v":""},1,{"$f":"A128","v":1000802},{"$f":"_xlfn.TEXTJOIN(\";\",1,X127,AA127)","v":"2158"},2158,"（你靠近痴道人）你真的想一直留在这里？你师兄说你不肯走。",{"$nulls":6},{"$f":"IF(A127=\"\",\"\",IF(U127=1,\"\",IF(A128=\"\",3,1)))","v":""},{"$f":"IF(AF127=1,A128,IF(AF127=3,LEFT(A127,5)+1,\"\"))","v":""},null,2158]
[1000802,2156,"疯痴相聚",{"$nulls":6},104,{"$f":"IF(J128=\"\",\"\",VLOOKUP(J128,EventNPC!A:E,5,FALSE))","v":"痴道人"},2159,"你修炼的时候，有没有过那种感觉——身边的人都在往前走，只有你还在原地。",null,10008,2,"",null,null,{"$f":"IF(R128=\"\",\"\",\"-\"&VLOOKUP(R128,EventConditionConfig!A:C,3,FALSE)&IF(S128=\"\",\"\",CHAR(10)&\"-\"&VLOOKUP(S128,EventConditionConfig!A:C,3,FALSE)))","v":""},null,null,"",{"$nulls":8},1,1000803,null,2159]
[{"$f":"O129*100+P129","v":1000803},2156,"疯痴相聚",{"$nulls":6},104,{"$f":"IF(J129=\"\",\"\",VLOOKUP(J129,EventNPC!A:E,5,FALSE))","v":"痴道人"},2160,"我师兄，他悟性极高，一年就能走我三年的路。我不服气，想努力赶上他。",null,10008,{"$f":"IF(O129=O128,P128+1,1)","v":3},"",null,null,{"$f":"IF(R129=\"\",\"\",\"-\"&VLOOKUP(R129,EventConditionConfig!A:C,3,FALSE)&IF(S129=\"\",\"\",CHAR(10)&\"-\"&VLOOKUP(S129,EventConditionConfig!A:C,3,FALSE)))","v":""},1,{"$f":"A130","v":1000804},"2161",2161,"然后呢？",{"$nulls":6},{"$f":"IF(A129=\"\",\"\",IF(U129=1,\"\",IF(A130=\"\",3,1)))","v":""},{"$f":"IF(AF129=1,A130,IF(AF129=3,LEFT(A129,5)+1,\"\"))","v":""},null,2161]
[{"$f":"O130*100+P130","v":1000804},2156,"疯痴相聚",{"$nulls":6},104,{"$f":"IF(J130=\"\",\"\",VLOOKUP(J130,EventNPC!A:E,5,FALSE))","v":"痴道人"},2162,"我一直苦心修炼，可人也困在这儿了……越修炼，越困难，修不动了。",null,10008,{"$f":"IF(O130=O129,P129+1,1)","v":4},"",null,null,{"$f":"IF(R130=\"\",\"\",\"-\"&VLOOKUP(R130,EventConditionConfig!A:C,3,FALSE)&IF(S130=\"\",\"\",CHAR(10)&\"-\"&VLOOKUP(S130,EventConditionConfig!A:C,3,FALSE)))","v":""},null,null,"",{"$nulls":8},{"$f":"IF(A130=\"\",\"\",IF(U130=1,\"\",IF(A131=\"\",3,1)))","v":1},{"$f":"IF(AF130=1,A131,IF(AF130=3,LEFT(A130,5)+1,\"\"))","v":1000805},null,2162]
[{"$f":"O131*100+P131","v":1000805},2156,"疯痴相聚",{"$nulls":7},{"$f":"IF(J131=\"\",\"\",VLOOKUP(J131,EventNPC!A:E,5,FALSE))","v":""},2163,"[此时，疯道人踏风而至，就在几步之外]",null,10008,{"$f":"IF(O131=O130,P130+1,1)","v":5},"",null,null,{"$f":"IF(R131=\"\",\"\",\"-\"&VLOOKUP(R131,EventConditionConfig!A:C,3,FALSE)&IF(S131=\"\",\"\",CHAR(10)&\"-\"&VLOOKUP(S131,EventConditionConfig!A:C,3,FALSE)))","v":""},null,null,"",{"$nulls":8},{"$f":"IF(A131=\"\",\"\",IF(U131=1,\"\",IF(A132=\"\",3,1)))","v":1},{"$f":"IF(AF131=1,A132,IF(AF131=3,LEFT(A131,5)+1,\"\"))","v":1000806},null,2163]
[{"$f":"O132*100+P132","v":1000806},2156,"疯痴相聚",{"$nulls":6},103,{"$f":"IF(J132=\"\",\"\",VLOOKUP(J132,EventNPC!A:E,5,FALSE))","v":"疯道人"},2164,"师弟，你修着修着，就不记得一开始，是为了什么而修行。",null,10008,{"$f":"IF(O132=O131,P131+1,1)","v":6},"",null,null,{"$f":"IF(R132=\"\",\"\",\"-\"&VLOOKUP(R132,EventConditionConfig!A:C,3,FALSE)&IF(S132=\"\",\"\",CHAR(10)&\"-\"&VLOOKUP(S132,EventConditionConfig!A:C,3,FALSE)))","v":""},null,null,"",{"$nulls":8},{"$f":"IF(A132=\"\",\"\",IF(U132=1,\"\",IF(A133=\"\",3,1)))","v":1},{"$f":"IF(AF132=1,A133,IF(AF132=3,LEFT(A132,5)+1,\"\"))","v":1000807},null,2164]
[{"$f":"O133*100+P133","v":1000807},2156,"疯痴相聚",{"$nulls":6},104,{"$f":"IF(J133=\"\",\"\",VLOOKUP(J133,EventNPC!A:E,5,FALSE))","v":"痴道人"},2165,"（抬头）......我，我真的不记得了。",null,10008,{"$f":"IF(O133=O132,P132+1,1)","v":7},"",null,null,{"$f":"IF(R133=\"\",\"\",\"-\"&VLOOKUP(R133,EventConditionConfig!A:C,3,FALSE)&IF(S133=\"\",\"\",CHAR(10)&\"-\"&VLOOKUP(S133,EventConditionConfig!A:C,3,FALSE)))","v":""},null,null,"",{"$nulls":8},{"$f":"IF(A133=\"\",\"\",IF(U133=1,\"\",IF(A134=\"\",3,1)))","v":1},{"$f":"IF(AF133=1,A134,IF(AF133=3,LEFT(A133,5)+1,\"\"))","v":1000808},null,2165]
[{"$f":"O134*100+P134","v":1000808},2156,"疯痴相聚",{"$nulls":6},103,{"$f":"IF(J134=\"\",\"\",VLOOKUP(J134,EventNPC!A:E,5,FALSE))","v":"疯道人"},2166,"那就放下风灵珠，和我出去走走。",null,10008,{"$f":"IF(O134=O133,P133+1,1)","v":8},"",null,null,{"$f":"IF(R134=\"\",\"\",\"-\"&VLOOKUP(R134,EventConditionConfig!A:C,3,FALSE)&IF(S134=\"\",\"\",CHAR(10)&\"-\"&VLOOKUP(S134,EventConditionConfig!A:C,3,FALSE)))","v":""},null,null,"",{"$nulls":8},{"$f":"IF(A134=\"\",\"\",IF(U134=1,\"\",IF(A135=\"\",3,1)))","v":1},{"$f":"IF(AF134=1,A135,IF(AF134=3,LEFT(A134,5)+1,\"\"))","v":1000809},null,{"$f":"IF(A134=\"\",\"\",MAX(B134,D134,L134,X134,AA134))","v":2166}]
[{"$f":"O135*100+P135","v":1000809},2156,"疯痴相聚",{"$nulls":6},103,{"$f":"IF(J135=\"\",\"\",VLOOKUP(J135,EventNPC!A:E,5,FALSE))","v":"疯道人"},2167,"[痴道人楞了一下，片刻后轻轻点头]",null,10008,{"$f":"IF(O135=O134,P134+1,1)","v":9},{"$f":"_xlfn.TEXTJOIN(\";\",1,R135:S135)","v":""},null,null,{"$f":"IF(R135=\"\",\"\",\"-\"&VLOOKUP(R135,EventConditionConfig!A:C,3,FALSE)&IF(S135=\"\",\"\",CHAR(10)&\"-\"&VLOOKUP(S135,EventConditionConfig!A:C,3,FALSE)))","v":""},null,null,"",{"$nulls":8},{"$f":"IF(A135=\"\",\"\",IF(U135=1,\"\",IF(A136=\"\",3,1)))","v":1},{"$f":"IF(AF135=1,A136,IF(AF135=3,LEFT(A135,5)+1,\"\"))","v":1000810},null,2167]
[{"$f":"O136*100+P136","v":1000810},2156,"疯痴相聚",{"$nulls":7},{"$f":"IF(J136=\"\",\"\",VLOOKUP(J136,EventNPC!A:E,5,FALSE))","v":""},2168,"[突然..洞府周围灵气汇聚，快速涌入痴道人的身体.]",null,10008,{"$f":"IF(O136=O135,P135+1,1)","v":10},"",null,null,{"$f":"IF(R136=\"\",\"\",\"-\"&VLOOKUP(R136,EventConditionConfig!A:C,3,FALSE)&IF(S136=\"\",\"\",CHAR(10)&\"-\"&VLOOKUP(S136,EventConditionConfig!A:C,3,FALSE)))","v":""},1,{"$f":"A137","v":1000811},"2169",2169,"前辈，为何灵气会动！",{"$nulls":6},{"$f":"IF(A136=\"\",\"\",IF(U136=1,\"\",IF(A137=\"\",3,1)))","v":""},{"$f":"IF(AF136=1,A137,IF(AF136=3,LEFT(A136,5)+1,\"\"))","v":""},null,2169]
[{"$f":"O137*100+P137","v":1000811},2156,"疯痴相聚",{"$nulls":6},103,{"$f":"IF(J137=\"\",\"\",VLOOKUP(J137,EventNPC!A:E,5,FALSE))","v":"疯道人"},2170,"恭喜师弟，突破心魔。",null,10008,{"$f":"IF(O137=O136,P136+1,1)","v":11},"",null,null,{"$f":"IF(R137=\"\",\"\",\"-\"&VLOOKUP(R137,EventConditionConfig!A:C,3,FALSE)&IF(S137=\"\",\"\",CHAR(10)&\"-\"&VLOOKUP(S137,EventConditionConfig!A:C,3,FALSE)))","v":""},null,null,"",{"$nulls":8},{"$f":"IF(A137=\"\",\"\",IF(U137=1,\"\",IF(A138=\"\",3,1)))","v":1},{"$f":"IF(AF137=1,A138,IF(AF137=3,LEFT(A137,5)+1,\"\"))","v":1000812},null,2170]
[{"$f":"O138*100+P138","v":1000812},2156,"疯痴相聚",{"$nulls":6},104,{"$f":"IF(J138=\"\",\"\",VLOOKUP(J138,EventNPC!A:E,5,FALSE))","v":"痴道人"},{"$f":"MAX(B137,L137,D137,X137,AA137)+1","v":2171},"多谢师兄！",null,10008,{"$f":"IF(O138=O137,P137+1,1)","v":12},"",null,null,{"$f":"IF(R138=\"\",\"\",\"-\"&VLOOKUP(R138,EventConditionConfig!A:C,3,FALSE)&IF(S138=\"\",\"\",CHAR(10)&\"-\"&VLOOKUP(S138,EventConditionConfig!A:C,3,FALSE)))","v":""},1,{"$f":"A139","v":1000813},"2172;2173",{"$f":"L138+1","v":2172},"原来如此…",null,{"$f":"X138+1","v":2173},"请前辈赐我风灵珠。",null,null,null,{"$f":"IF(A138=\"\",\"\",IF(U138=1,\"\",IF(A139=\"\",3,1)))","v":""},{"$f":"IF(AF138=1,A139,IF(AF138=3,LEFT(A138,5)+1,\"\"))","v":""},null,2173]
[{"$f":"O139*100+P139","v":1000813},2156,"疯痴相聚",{"$nulls":6},104,{"$f":"IF(J139=\"\",\"\",VLOOKUP(J139,EventNPC!A:E,5,FALSE))","v":"痴道人"},{"$f":"MAX(B138,L138,D138,X138,AA138)+1","v":2174},"小友莫急… (说罢，痴道人将风灵珠的碎片合成了一颗完整的风灵珠)",null,10008,{"$f":"IF(O139=O138,P138+1,1)","v":13},"",null,null,{"$f":"IF(R139=\"\",\"\",\"-\"&VLOOKUP(R139,EventConditionConfig!A:C,3,FALSE)&IF(S139=\"\",\"\",CHAR(10)&\"-\"&VLOOKUP(S139,EventConditionConfig!A:C,3,FALSE)))","v":""},null,null,"",{"$nulls":8},{"$f":"IF(A139=\"\",\"\",IF(U139=1,\"\",IF(A140=\"\",3,1)))","v":1},{"$f":"IF(AF139=1,A140,IF(AF139=3,LEFT(A139,5)+1,\"\"))","v":1000814},null,2174]
[{"$f":"O140*100+P140","v":1000814},2156,"疯痴相聚",{"$nulls":6},104,{"$f":"IF(J140=\"\",\"\",VLOOKUP(J140,EventNPC!A:E,5,FALSE))","v":"痴道人"},{"$f":"MAX(B139,L139,D139,X139,AA139)+1","v":2175},"拿好了，这风啊……来一回，不容易。",null,10008,{"$f":"IF(O140=O139,P139+1,1)","v":14},"",null,null,{"$f":"IF(R140=\"\",\"\",\"-\"&VLOOKUP(R140,EventConditionConfig!A:C,3,FALSE)&IF(S140=\"\",\"\",CHAR(10)&\"-\"&VLOOKUP(S140,EventConditionConfig!A:C,3,FALSE)))","v":""},null,null,"",{"$nulls":8},{"$f":"IF(A140=\"\",\"\",IF(U140=1,\"\",IF(A141=\"\",3,1)))","v":3},{"$f":"IF(AF140=1,A141,IF(AF140=3,LEFT(A140,5)+1,\"\"))","v":10009},null,2175]
[{"$nulls":16},"",null,null,{"$f":"IF(R141=\"\",\"\",\"-\"&VLOOKUP(R141,EventConditionConfig!A:C,3,FALSE)&IF(S141=\"\",\"\",CHAR(10)&\"-\"&VLOOKUP(S141,EventConditionConfig!A:C,3,FALSE)))","v":""},{"$nulls":14},""]
[{"$f":"O142*100+P142","v":1000901},{"$f":"IF(B141=\"\",MAX(AA140,X140,L140)+1,B141)","v":2176},"达到筑基后期",{"$nulls":6},100,{"$f":"IF(J142=\"\",\"\",VLOOKUP(J142,EventNPC!A:E,5,FALSE))","v":"玩家"},{"$f":"IF(P142=1,B142+1,MAX(B141,L141,D141,X141,AA141)+1)","v":2177},"完整的风灵珠果然不同凡响，我可以更大的狂风中穿行了。",null,10009,{"$f":"IF(O142=O141,P141+1,1)","v":1},"",null,null,{"$f":"IF(R142=\"\",\"\",\"-\"&VLOOKUP(R142,EventConditionConfig!A:C,3,FALSE)&IF(S142=\"\",\"\",CHAR(10)&\"-\"&VLOOKUP(S142,EventConditionConfig!A:C,3,FALSE)))","v":""},null,null,{"$f":"_xlfn.TEXTJOIN(\";\",1,X142,AA142)","v":""},{"$nulls":8},{"$f":"IF(A142=\"\",\"\",IF(U142=1,\"\",IF(A143=\"\",3,1)))","v":1},{"$f":"IF(AF142=1,A143,IF(AF142=3,LEFT(A142,5)+1,\"\"))","v":1000902},null,2177]
[{"$f":"O143*100+P143","v":1000902},{"$f":"IF(B142=\"\",MAX(AA141,X141,L141)+1,B142)","v":2176},"达到筑基后期",{"$nulls":6},100,{"$f":"IF(J143=\"\",\"\",VLOOKUP(J143,EventNPC!A:E,5,FALSE))","v":"玩家"},{"$f":"IF(P143=1,B143+1,MAX(B142,L142,D142,X142,AA142)+1)","v":2178},"前方似乎有不少高阶妖兽，我先在此地提升一些修为吧。",null,10009,{"$f":"IF(O143=O142,P142+1,1)","v":2},"",null,null,{"$f":"IF(R143=\"\",\"\",\"-\"&VLOOKUP(R143,EventConditionConfig!A:C,3,FALSE)&IF(S143=\"\",\"\",CHAR(10)&\"-\"&VLOOKUP(S143,EventConditionConfig!A:C,3,FALSE)))","v":""},null,null,{"$f":"_xlfn.TEXTJOIN(\";\",1,X143,AA143)","v":""},{"$nulls":8},{"$f":"IF(A143=\"\",\"\",IF(U143=1,\"\",IF(A144=\"\",3,1)))","v":1},{"$f":"IF(AF143=1,A144,IF(AF143=3,LEFT(A143,5)+1,\"\"))","v":1000903},null,2178]
[{"$f":"O144*100+P144","v":1000903},{"$f":"IF(B143=\"\",MAX(AA142,X142,L142)+1,B143)","v":2176},"达到筑基后期",{"$nulls":6},100,{"$f":"IF(J144=\"\",\"\",VLOOKUP(J144,EventNPC!A:E,5,FALSE))","v":"玩家"},{"$f":"IF(P144=1,B144+1,MAX(B143,L143,D143,X143,AA143)+1)","v":2179},"终于筑基中期了，继续寻找冲虚提到的“七道心境”吧，不知鲲鹏是否会给我答案。",null,10009,{"$f":"IF(O144=O143,P143+1,1)","v":3},"8",8,null,{"$f":"IF(R144=\"\",\"\",\"-\"&VLOOKUP(R144,EventConditionConfig!A:C,3,FALSE)&IF(S144=\"\",\"\",CHAR(10)&\"-\"&VLOOKUP(S144,EventConditionConfig!A:C,3,FALSE)))","v":"-达到境界：筑基-后期"},null,null,{"$f":"_xlfn.TEXTJOIN(\";\",1,X144,AA144)","v":""},{"$nulls":8},{"$f":"IF(A144=\"\",\"\",IF(U144=1,\"\",IF(A145=\"\",3,1)))","v":3},{"$f":"IF(AF144=1,A145,IF(AF144=3,LEFT(A144,5)+1,\"\"))","v":10010},null,2179]
[{"$nulls":16},"",null,null,{"$f":"IF(R145=\"\",\"\",\"-\"&VLOOKUP(R145,EventConditionConfig!A:C,3,FALSE)&IF(S145=\"\",\"\",CHAR(10)&\"-\"&VLOOKUP(S145,EventConditionConfig!A:C,3,FALSE)))","v":""},{"$nulls":14},""]
[{"$f":"O146*100+P146","v":1001001},{"$f":"IF(B145=\"\",MAX(AA144,X144,L144)+1,B145)","v":2180},"妖兽横行",{"$nulls":7},{"$f":"IF(J146=\"\",\"\",VLOOKUP(J146,EventNPC!A:E,5,FALSE))","v":""},null,null,null,{"$f":"IF(O145=\"\",O144+1,O145)","v":10010},{"$f":"IF(O146=O145,P145+1,1)","v":1},"9",9,null,{"$f":"IF(R146=\"\",\"\",\"-\"&VLOOKUP(R146,EventConditionConfig!A:C,3,FALSE)&IF(S146=\"\",\"\",CHAR(10)&\"-\"&VLOOKUP(S146,EventConditionConfig!A:C,3,FALSE)))","v":"-击杀妖兽"},null,null,{"$f":"_xlfn.TEXTJOIN(\";\",1,X146,AA146)","v":""},{"$nulls":8},{"$f":"IF(A146=\"\",\"\",IF(U146=1,\"\",IF(A147=\"\",3,1)))","v":3},{"$f":"IF(AF146=1,A147,IF(AF146=3,LEFT(A146,5)+1,\"\"))","v":10011},null,2180]
[{"$nulls":16},"",null,null,{"$f":"IF(R147=\"\",\"\",\"-\"&VLOOKUP(R147,EventConditionConfig!A:C,3,FALSE)&IF(S147=\"\",\"\",CHAR(10)&\"-\"&VLOOKUP(S147,EventConditionConfig!A:C,3,FALSE)))","v":""},{"$nulls":14},""]
[{"$f":"O148*100+P148","v":1001101},{"$f":"IF(B147=\"\",MAX(AA146,X146,L146,B146,D146)+1,B147)","v":2181},"遇见鲲鹏",{"$nulls":7},{"$f":"IF(J148=\"\",\"\",VLOOKUP(J148,EventNPC!A:E,5,FALSE))","v":""},{"$f":"IF(P148=1,B148+1,MAX(B147,L147,D147,X147,AA147)+1)","v":2182},"鲲鹏需要去南海最深处的天池，可缺少龙卷风，没有大风，大鹏无法飞起来",null,{"$f":"IF(O147=\"\",O146+1,O147)","v":10011},{"$f":"IF(O148=O147,P147+1,1)","v":1},"",null,null,{"$f":"IF(R148=\"\",\"\",\"-\"&VLOOKUP(R148,EventConditionConfig!A:C,3,FALSE)&IF(S148=\"\",\"\",CHAR(10)&\"-\"&VLOOKUP(S148,EventConditionConfig!A:C,3,FALSE)))","v":""},null,null,{"$f":"_xlfn.TEXTJOIN(\";\",1,X148,AA148)","v":""},{"$nulls":8},{"$f":"IF(A148=\"\",\"\",IF(U148=1,\"\",IF(A149=\"\",3,1)))","v":3},{"$f":"IF(AF148=1,A149,IF(AF148=3,LEFT(A148,5)+1,\"\"))","v":10012},null,2182]
[{"$nulls":16},"",null,null,{"$f":"IF(R149=\"\",\"\",\"-\"&VLOOKUP(R149,EventConditionConfig!A:C,3,FALSE)&IF(S149=\"\",\"\",CHAR(10)&\"-\"&VLOOKUP(S149,EventConditionConfig!A:C,3,FALSE)))","v":""},{"$nulls":14},""]
[{"$f":"O150*100+P150","v":1001201},{"$f":"IF(B149=\"\",MAX(AA148,X148,L148,B148,D148)+1,B149)","v":2183},"尧让天下",{"$f":"IF(E150=\"\",\"\",B150+1)","v":2184},"倾听尧帝的烦恼",{"$nulls":5},{"$f":"IF(J150=\"\",\"\",VLOOKUP(J150,EventNPC!A:E,5,FALSE))","v":""},{"$f":"IF(M150=\"\",\"\",IF(P150=1,MAX(D150,B150)+1,MAX(B149,L149,D149,X149,AA149)+1))","v":2185},"你踏入帝尧治下的仙域——一片祥和之地，灵气充沛，民众安居，仿佛世外桃源。",null,{"$f":"IF(O149=\"\",O148+1,O149)","v":10012},{"$f":"IF(O150=O149,P149+1,1)","v":1},"",null,null,{"$f":"IF(R150=\"\",\"\",\"-\"&VLOOKUP(R150,EventConditionConfig!A:C,3,FALSE)&IF(S150=\"\",\"\",CHAR(10)&\"-\"&VLOOKUP(S150,EventConditionConfig!A:C,3,FALSE)))","v":""},null,null,{"$f":"_xlfn.TEXTJOIN(\";\",1,X150,AA150)","v":""},{"$nulls":8},{"$f":"IF(A150=\"\",\"\",IF(U150=1,\"\",IF(A151=\"\",3,1)))","v":1},{"$f":"IF(AF150=1,A151,IF(AF150=3,LEFT(A150,5)+1,\"\"))","v":1001202},null,2185]
[{"$f":"O151*100+P151","v":1001202},2183,"尧让天下",{"$f":"IF(E151=\"\",\"\",B151+1)","v":2184},"倾听尧帝的烦恼",{"$nulls":5},{"$f":"IF(J151=\"\",\"\",VLOOKUP(J151,EventNPC!A:E,5,FALSE))","v":""},{"$f":"IF(M151=\"\",\"\",IF(P151=1,MAX(D151,B151)+1,MAX(B150,L150,D150,X150,AA150)+1))","v":2186},"然而，这位千年帝君，却眉宇间有难掩的忧色。",null,10012,{"$f":"IF(O151=O150,P150+1,1)","v":2},"",null,null,{"$f":"IF(R151=\"\",\"\",\"-\"&VLOOKUP(R151,EventConditionConfig!A:C,3,FALSE)&IF(S151=\"\",\"\",CHAR(10)&\"-\"&VLOOKUP(S151,EventConditionConfig!A:C,3,FALSE)))","v":""},null,null,"",{"$nulls":8},{"$f":"IF(A151=\"\",\"\",IF(U151=1,\"\",IF(A152=\"\",3,1)))","v":1},{"$f":"IF(AF151=1,A152,IF(AF151=3,LEFT(A151,5)+1,\"\"))","v":1001203},null,2186]
[{"$f":"O152*100+P152","v":1001203},2183,"尧让天下",2184,"倾听尧帝的烦恼",{"$nulls":5},{"$f":"IF(J152=\"\",\"\",VLOOKUP(J152,EventNPC!A:E,5,FALSE))","v":""},2187,"（你根据逍遥铃的指引，找到了尧）",null,10012,{"$f":"IF(O152=O151,P151+1,1)","v":3},"",null,null,{"$f":"IF(R152=\"\",\"\",\"-\"&VLOOKUP(R152,EventConditionConfig!A:C,3,FALSE)&IF(S152=\"\",\"\",CHAR(10)&\"-\"&VLOOKUP(S152,EventConditionConfig!A:C,3,FALSE)))","v":""},1,{"$f":"A153","v":1001204},"2188",{"$f":"IF(Y152=\"\",\"\",L152+1)","v":2188},"拜见帝尧，晚辈受冲虚真人的指引，游历到此处。",{"$nulls":6},{"$f":"IF(A152=\"\",\"\",IF(U152=1,\"\",IF(A153=\"\",3,1)))","v":""},{"$f":"IF(AF152=1,A153,IF(AF152=3,LEFT(A152,5)+1,\"\"))","v":""},null,2188]
[{"$f":"O153*100+P153","v":1001204},2183,"尧让天下",2184,"倾听尧帝的烦恼",{"$nulls":4},105,{"$f":"IF(J153=\"\",\"\",VLOOKUP(J153,EventNPC!A:E,5,FALSE))","v":"尧帝"},2189,"（缓缓回头，脸上带着淡淡忧虑）冲虚真人吗？我也许久没见了..",null,10012,{"$f":"IF(O153=O152,P152+1,1)","v":4},"",null,null,{"$f":"IF(R153=\"\",\"\",\"-\"&VLOOKUP(R153,EventConditionConfig!A:C,3,FALSE)&IF(S153=\"\",\"\",CHAR(10)&\"-\"&VLOOKUP(S153,EventConditionConfig!A:C,3,FALSE)))","v":""},null,null,"","",{"$nulls":7},{"$f":"IF(A153=\"\",\"\",IF(U153=1,\"\",IF(A154=\"\",3,1)))","v":1},{"$f":"IF(AF153=1,A154,IF(AF153=3,LEFT(A153,5)+1,\"\"))","v":1001205},null,2189]
[{"$f":"O154*100+P154","v":1001205},2183,"尧让天下",2184,"倾听尧帝的烦恼",{"$nulls":4},105,{"$f":"IF(J154=\"\",\"\",VLOOKUP(J154,EventNPC!A:E,5,FALSE))","v":"尧帝"},2190,"(尧帝邀你来到一高处)\n小友，你看此处景致如何？",null,10012,{"$f":"IF(O154=O153,P153+1,1)","v":5},"",null,null,{"$f":"IF(R154=\"\",\"\",\"-\"&VLOOKUP(R154,EventConditionConfig!A:C,3,FALSE)&IF(S154=\"\",\"\",CHAR(10)&\"-\"&VLOOKUP(S154,EventConditionConfig!A:C,3,FALSE)))","v":""},1,{"$f":"A155","v":1001206},"2191;2192",2191,"万象更新，灵气环绕，是修行的福地。",null,{"$f":"IF(AB154=\"\",\"\",X154+1)","v":2192},"国泰民安，仙人治理，世间罕见。",null,null,null,{"$f":"IF(A154=\"\",\"\",IF(U154=1,\"\",IF(A155=\"\",3,1)))","v":""},{"$f":"IF(AF154=1,A155,IF(AF154=3,LEFT(A154,5)+1,\"\"))","v":""},null,2192]
[{"$f":"O155*100+P155","v":1001206},2183,"尧让天下",2184,"倾听尧帝的烦恼",{"$nulls":4},105,{"$f":"IF(J155=\"\",\"\",VLOOKUP(J155,EventNPC!A:E,5,FALSE))","v":"尧帝"},2193,"（叹息）是啊，人人自在，唯我不自在。这些年来，我境界难以寸进，已有百年。",null,10012,{"$f":"IF(O155=O154,P154+1,1)","v":6},"",null,null,{"$f":"IF(R155=\"\",\"\",\"-\"&VLOOKUP(R155,EventConditionConfig!A:C,3,FALSE)&IF(S155=\"\",\"\",CHAR(10)&\"-\"&VLOOKUP(S155,EventConditionConfig!A:C,3,FALSE)))","v":""},1,{"$f":"A156","v":1001207},"2194",2194,"帝尧何出此言？",null,"",{"$nulls":4},{"$f":"IF(A155=\"\",\"\",IF(U155=1,\"\",IF(A156=\"\",3,1)))","v":""},{"$f":"IF(AF155=1,A156,IF(AF155=3,LEFT(A155,5)+1,\"\"))","v":""},null,2194]
[{"$f":"O156*100+P156","v":1001207},2183,"尧让天下",2184,"倾听尧帝的烦恼",{"$nulls":4},105,{"$f":"IF(J156=\"\",\"\",VLOOKUP(J156,EventNPC!A:E,5,FALSE))","v":"尧帝"},2195,"你等散修，自由自在，来去如风，可曾体会过身负重任的滋味？",null,10012,{"$f":"IF(O156=O155,P155+1,1)","v":7},"",null,null,{"$f":"IF(R156=\"\",\"\",\"-\"&VLOOKUP(R156,EventConditionConfig!A:C,3,FALSE)&IF(S156=\"\",\"\",CHAR(10)&\"-\"&VLOOKUP(S156,EventConditionConfig!A:C,3,FALSE)))","v":""},1,{"$f":"A157","v":1001208},"2196",2196,"也有重担，却未必如帝尧这样复杂。",null,"",{"$nulls":4},{"$f":"IF(A156=\"\",\"\",IF(U156=1,\"\",IF(A157=\"\",3,1)))","v":""},{"$f":"IF(AF156=1,A157,IF(AF156=3,LEFT(A156,5)+1,\"\"))","v":""},null,2196]
[{"$f":"O157*100+P157","v":1001208},2183,"尧让天下",2184,"倾听尧帝的烦恼",{"$nulls":4},105,{"$f":"IF(J157=\"\",\"\",VLOOKUP(J157,EventNPC!A:E,5,FALSE))","v":"尧帝"},2197,"（微微一笑，摇头）天下如画卷，画卷再美，日夜背负，也终是负担。",null,10012,{"$f":"IF(O157=O156,P156+1,1)","v":8},"",null,null,{"$f":"IF(R157=\"\",\"\",\"-\"&VLOOKUP(R157,EventConditionConfig!A:C,3,FALSE)&IF(S157=\"\",\"\",CHAR(10)&\"-\"&VLOOKUP(S157,EventConditionConfig!A:C,3,FALSE)))","v":""},1,{"$f":"A158","v":1001209},"2198",2198,"......",null,"",{"$nulls":4},{"$f":"IF(A157=\"\",\"\",IF(U157=1,\"\",IF(A158=\"\",3,1)))","v":""},{"$f":"IF(AF157=1,A158,IF(AF157=3,LEFT(A157,5)+1,\"\"))","v":""},null,2198]
[{"$f":"O158*100+P158","v":1001209},2183,"尧让天下",2184,"倾听尧帝的烦恼",{"$nulls":4},105,{"$f":"IF(J158=\"\",\"\",VLOOKUP(J158,EventNPC!A:E,5,FALSE))","v":"尧帝"},2199,"（凝望远方云海）深山之中有位贤士，名为许由，素有盛名，我曾多次请他出山，但未成如愿。",null,10012,{"$f":"IF(O158=O157,P157+1,1)","v":9},"",null,null,{"$f":"IF(R158=\"\",\"\",\"-\"&VLOOKUP(R158,EventConditionConfig!A:C,3,FALSE)&IF(S158=\"\",\"\",CHAR(10)&\"-\"&VLOOKUP(S158,EventConditionConfig!A:C,3,FALSE)))","v":""},null,null,"","",null,null,"",{"$nulls":4},{"$f":"IF(A158=\"\",\"\",IF(U158=1,\"\",IF(A159=\"\",3,1)))","v":1},{"$f":"IF(AF158=1,A159,IF(AF158=3,LEFT(A158,5)+1,\"\"))","v":1001210},null,2199]
[{"$f":"O159*100+P159","v":1001210},2183,"尧让天下",2184,"倾听尧帝的烦恼",{"$nulls":4},105,{"$f":"IF(J159=\"\",\"\",VLOOKUP(J159,EventNPC!A:E,5,FALSE))","v":"尧帝"},2200,"我甚至提出让天下于他，他也不为所动。",null,10012,{"$f":"IF(O159=O158,P158+1,1)","v":10},"",null,null,{"$f":"IF(R159=\"\",\"\",\"-\"&VLOOKUP(R159,EventConditionConfig!A:C,3,FALSE)&IF(S159=\"\",\"\",CHAR(10)&\"-\"&VLOOKUP(S159,EventConditionConfig!A:C,3,FALSE)))","v":""},1,{"$f":"A160","v":1001211},"2201",2201,"世间竟然有此奇人？",null,"",{"$nulls":4},{"$f":"IF(A159=\"\",\"\",IF(U159=1,\"\",IF(A160=\"\",3,1)))","v":""},{"$f":"IF(AF159=1,A160,IF(AF159=3,LEFT(A159,5)+1,\"\"))","v":""},null,2201]
[{"$f":"O160*100+P160","v":1001211},2183,"尧让天下",2184,"倾听尧帝的烦恼",{"$nulls":4},105,{"$f":"IF(J160=\"\",\"\",VLOOKUP(J160,EventNPC!A:E,5,FALSE))","v":"尧帝"},2202,"（凝望远方云海）若小友有空，帮我再请许由出山，我定当感谢。",null,10012,{"$f":"IF(O160=O159,P159+1,1)","v":11},"",null,null,{"$f":"IF(R160=\"\",\"\",\"-\"&VLOOKUP(R160,EventConditionConfig!A:C,3,FALSE)&IF(S160=\"\",\"\",CHAR(10)&\"-\"&VLOOKUP(S160,EventConditionConfig!A:C,3,FALSE)))","v":""},1,{"$f":"A161","v":1001212},"2203",2203,"好的，既然来了，我就走一趟。",null,"",{"$nulls":4},{"$f":"IF(A160=\"\",\"\",IF(U160=1,\"\",IF(A161=\"\",3,1)))","v":""},{"$f":"IF(AF160=1,A161,IF(AF160=3,LEFT(A160,5)+1,\"\"))","v":""},null,2203]
[{"$f":"O161*100+P161","v":1001212},2183,"尧让天下",2184,"倾听尧帝的烦恼",{"$nulls":5},{"$f":"IF(J161=\"\",\"\",VLOOKUP(J161,EventNPC!A:E,5,FALSE))","v":""},"",null,null,10012,{"$f":"IF(O161=O160,P160+1,1)","v":12},"",null,null,{"$f":"IF(R161=\"\",\"\",\"-\"&VLOOKUP(R161,EventConditionConfig!A:C,3,FALSE)&IF(S161=\"\",\"\",CHAR(10)&\"-\"&VLOOKUP(S161,EventConditionConfig!A:C,3,FALSE)))","v":""},null,null,"","",null,null,"",{"$nulls":4},{"$f":"IF(A161=\"\",\"\",IF(U161=1,\"\",IF(A162=\"\",3,1)))","v":3},{"$f":"IF(AF161=1,A162,IF(AF161=3,LEFT(A161,5)+1,\"\"))","v":10013},null,2184]
[{"$nulls":16},"",null,null,{"$f":"IF(R162=\"\",\"\",\"-\"&VLOOKUP(R162,EventConditionConfig!A:C,3,FALSE)&IF(S162=\"\",\"\",CHAR(10)&\"-\"&VLOOKUP(S162,EventConditionConfig!A:C,3,FALSE)))","v":""},{"$nulls":14},""]
[{"$f":"O163*100+P163","v":1001301},{"$f":"IF(B162=\"\",MAX(AA161,X161,L161,B161,D161,AA160,X160,L160)+1,B162)","v":2204},"访贤许由",{"$f":"IF(E163=\"\",\"\",B163+1)","v":2205},"听一听这位尧帝口中的贤士有何说法",{"$nulls":5},{"$f":"IF(J163=\"\",\"\",VLOOKUP(J163,EventNPC!A:E,5,FALSE))","v":""},{"$f":"IF(M163=\"\",\"\",IF(P163=1,MAX(D163,B163)+1,MAX(B162,L162,D162,X162,AA162)+1))","v":2206},"你循帝尧所言，御剑前往幽山秘境。此处灵气绵长，古木参天，溪水潺潺。",null,{"$f":"IF(O162=\"\",O161+1,O162)","v":10013},{"$f":"IF(O163=O162,P162+1,1)","v":1},"",null,null,{"$f":"IF(R163=\"\",\"\",\"-\"&VLOOKUP(R163,EventConditionConfig!A:C,3,FALSE)&IF(S163=\"\",\"\",CHAR(10)&\"-\"&VLOOKUP(S163,EventConditionConfig!A:C,3,FALSE)))","v":""},null,null,{"$f":"_xlfn.TEXTJOIN(\";\",1,X163,AA163)","v":""},{"$f":"IF(Y163=\"\",\"\",L163+1)","v":""},null,null,{"$f":"IF(AB163=\"\",\"\",X163+1)","v":""},{"$nulls":4},{"$f":"IF(A163=\"\",\"\",IF(U163=1,\"\",IF(A164=\"\",3,1)))","v":1},{"$f":"IF(AF163=1,A164,IF(AF163=3,LEFT(A163,5)+1,\"\"))","v":1001302},null,2206]
[{"$f":"O164*100+P164","v":1001302},2204,"访贤许由",{"$f":"IF(E164=\"\",\"\",B164+1)","v":2205},"听一听这位尧帝口中的贤士有何说法",{"$nulls":5},{"$f":"IF(J164=\"\",\"\",VLOOKUP(J164,EventNPC!A:E,5,FALSE))","v":""},{"$f":"IF(M164=\"\",\"\",IF(P164=1,MAX(D164,B164)+1,MAX(B163,L163,D163,X163,AA163)+1))","v":2207},"据说，许由栖身于此，绝迹尘世，已有数百年。",null,10013,{"$f":"IF(O164=O163,P163+1,1)","v":2},"",null,null,{"$f":"IF(R164=\"\",\"\",\"-\"&VLOOKUP(R164,EventConditionConfig!A:C,3,FALSE)&IF(S164=\"\",\"\",CHAR(10)&\"-\"&VLOOKUP(S164,EventConditionConfig!A:C,3,FALSE)))","v":""},null,null,"","",null,null,"",{"$nulls":4},{"$f":"IF(A164=\"\",\"\",IF(U164=1,\"\",IF(A165=\"\",3,1)))","v":1},{"$f":"IF(AF164=1,A165,IF(AF164=3,LEFT(A164,5)+1,\"\"))","v":1001303},null,2207]
[{"$f":"O165*100+P165","v":1001303},2204,"访贤许由",{"$f":"IF(E165=\"\",\"\",B165+1)","v":2205},"听一听这位尧帝口中的贤士有何说法",{"$nulls":5},{"$f":"IF(J165=\"\",\"\",VLOOKUP(J165,EventNPC!A:E,5,FALSE))","v":""},{"$f":"IF(M165=\"\",\"\",IF(P165=1,MAX(D165,B165)+1,MAX(B164,L164,D164,X164,AA164)+1))","v":2208},"山风徐徐，水声如琴，你踏过青石小径，看见一位白衣道人正倚石观水。",null,10013,{"$f":"IF(O165=O164,P164+1,1)","v":3},"",null,null,{"$f":"IF(R165=\"\",\"\",\"-\"&VLOOKUP(R165,EventConditionConfig!A:C,3,FALSE)&IF(S165=\"\",\"\",CHAR(10)&\"-\"&VLOOKUP(S165,EventConditionConfig!A:C,3,FALSE)))","v":""},1,{"$f":"A166","v":1001304},"2209",2209,"前辈可是许由？",null,"",{"$nulls":4},{"$f":"IF(A165=\"\",\"\",IF(U165=1,\"\",IF(A166=\"\",3,1)))","v":""},{"$f":"IF(AF165=1,A166,IF(AF165=3,LEFT(A165,5)+1,\"\"))","v":""},null,2209]
[{"$f":"O166*100+P166","v":1001304},2204,"访贤许由",{"$f":"IF(E166=\"\",\"\",B166+1)","v":2205},"听一听这位尧帝口中的贤士有何说法",{"$nulls":4},106,{"$f":"IF(J166=\"\",\"\",VLOOKUP(J166,EventNPC!A:E,5,FALSE))","v":"许由"},{"$f":"IF(M166=\"\",\"\",IF(P166=1,MAX(D166,B166)+1,MAX(B165,L165,D165,X165,AA165)+1))","v":2210},"正是，小友何事？",null,10013,{"$f":"IF(O166=O165,P165+1,1)","v":4},"",null,null,{"$f":"IF(R166=\"\",\"\",\"-\"&VLOOKUP(R166,EventConditionConfig!A:C,3,FALSE)&IF(S166=\"\",\"\",CHAR(10)&\"-\"&VLOOKUP(S166,EventConditionConfig!A:C,3,FALSE)))","v":""},null,null,"","",null,null,"",{"$nulls":4},{"$f":"IF(A166=\"\",\"\",IF(U166=1,\"\",IF(A167=\"\",3,1)))","v":1},{"$f":"IF(AF166=1,A167,IF(AF166=3,LEFT(A166,5)+1,\"\"))","v":1001305},null,2210]
[{"$f":"O167*100+P167","v":1001305},2204,"访贤许由",{"$f":"IF(E167=\"\",\"\",B167+1)","v":2205},"听一听这位尧帝口中的贤士有何说法",{"$nulls":4},100,{"$f":"IF(J167=\"\",\"\",VLOOKUP(J167,EventNPC!A:E,5,FALSE))","v":"玩家"},{"$f":"IF(M167=\"\",\"\",IF(P167=1,MAX(D167,B167)+1,MAX(B166,L166,D166,X166,AA166)+1))","v":2211},"帝尧欲专心修行，求道问玄，又怕耽误世事，特托我前来相请，欲让天下于你。",null,10013,{"$f":"IF(O167=O166,P166+1,1)","v":5},"",null,null,{"$f":"IF(R167=\"\",\"\",\"-\"&VLOOKUP(R167,EventConditionConfig!A:C,3,FALSE)&IF(S167=\"\",\"\",CHAR(10)&\"-\"&VLOOKUP(S167,EventConditionConfig!A:C,3,FALSE)))","v":""},null,null,"","",null,null,"",{"$nulls":4},{"$f":"IF(A167=\"\",\"\",IF(U167=1,\"\",IF(A168=\"\",3,1)))","v":1},{"$f":"IF(AF167=1,A168,IF(AF167=3,LEFT(A167,5)+1,\"\"))","v":1001306},null,2211]
[{"$f":"O168*100+P168","v":1001306},2204,"访贤许由",{"$f":"IF(E168=\"\",\"\",B168+1)","v":2205},"听一听这位尧帝口中的贤士有何说法",{"$nulls":4},106,{"$f":"IF(J168=\"\",\"\",VLOOKUP(J168,EventNPC!A:E,5,FALSE))","v":"许由"},{"$f":"IF(M168=\"\",\"\",IF(P168=1,MAX(D168,B168)+1,MAX(B167,L167,D167,X167,AA167)+1))","v":2212},"（静默片刻）昔日帝尧就提过此事，我已辞之。",null,10013,{"$f":"IF(O168=O167,P167+1,1)","v":6},"",null,null,{"$f":"IF(R168=\"\",\"\",\"-\"&VLOOKUP(R168,EventConditionConfig!A:C,3,FALSE)&IF(S168=\"\",\"\",CHAR(10)&\"-\"&VLOOKUP(S168,EventConditionConfig!A:C,3,FALSE)))","v":""},null,null,"","",null,null,"",{"$nulls":4},{"$f":"IF(A168=\"\",\"\",IF(U168=1,\"\",IF(A169=\"\",3,1)))","v":1},{"$f":"IF(AF168=1,A169,IF(AF168=3,LEFT(A168,5)+1,\"\"))","v":1001307},null,2212]
[{"$f":"O169*100+P169","v":1001307},2204,"访贤许由",{"$f":"IF(E169=\"\",\"\",B169+1)","v":2205},"听一听这位尧帝口中的贤士有何说法",{"$nulls":4},106,{"$f":"IF(J169=\"\",\"\",VLOOKUP(J169,EventNPC!A:E,5,FALSE))","v":"许由"},{"$f":"IF(M169=\"\",\"\",IF(P169=1,MAX(D169,B169)+1,MAX(B168,L168,D168,X168,AA168)+1))","v":2213},"今日又来，想是道心不定，执念未除。",null,10013,{"$f":"IF(O169=O168,P168+1,1)","v":7},"",null,null,{"$f":"IF(R169=\"\",\"\",\"-\"&VLOOKUP(R169,EventConditionConfig!A:C,3,FALSE)&IF(S169=\"\",\"\",CHAR(10)&\"-\"&VLOOKUP(S169,EventConditionConfig!A:C,3,FALSE)))","v":""},1,{"$f":"A170","v":1001308},"2214",2214,"请前辈出山。",null,"",{"$nulls":4},{"$f":"IF(A169=\"\",\"\",IF(U169=1,\"\",IF(A170=\"\",3,1)))","v":""},{"$f":"IF(AF169=1,A170,IF(AF169=3,LEFT(A169,5)+1,\"\"))","v":""},null,2214]
[1001308,2204,"访贤许由",2205,"听一听这位尧帝口中的贤士有何说法",{"$nulls":4},106,{"$f":"IF(J170=\"\",\"\",VLOOKUP(J170,EventNPC!A:E,5,FALSE))","v":"许由"},2215,"哼，让我去？",null,10013,8,"",null,null,{"$f":"IF(R170=\"\",\"\",\"-\"&VLOOKUP(R170,EventConditionConfig!A:C,3,FALSE)&IF(S170=\"\",\"\",CHAR(10)&\"-\"&VLOOKUP(S170,EventConditionConfig!A:C,3,FALSE)))","v":""},null,null,"","",null,null,"",{"$nulls":4},1,1001309,null,2215]
[{"$f":"O171*100+P171","v":1001309},2204,"访贤许由",{"$f":"IF(E171=\"\",\"\",B171+1)","v":2205},"听一听这位尧帝口中的贤士有何说法",{"$nulls":4},106,{"$f":"IF(J171=\"\",\"\",VLOOKUP(J171,EventNPC!A:E,5,FALSE))","v":"许由"},{"$f":"IF(M171=\"\",\"\",IF(P171=1,MAX(D171,B171)+1,MAX(B170,L170,D170,X170,AA170)+1))","v":2216},"那我问你，日月升天，照耀四方。若这时有人手举火把照路，岂不徒劳？",null,10013,{"$f":"IF(O171=O170,P170+1,1)","v":9},"",null,null,{"$f":"IF(R171=\"\",\"\",\"-\"&VLOOKUP(R171,EventConditionConfig!A:C,3,FALSE)&IF(S171=\"\",\"\",CHAR(10)&\"-\"&VLOOKUP(S171,EventConditionConfig!A:C,3,FALSE)))","v":""},null,null,"","",null,null,"",{"$nulls":4},{"$f":"IF(A171=\"\",\"\",IF(U171=1,\"\",IF(A172=\"\",3,1)))","v":1},{"$f":"IF(AF171=1,A172,IF(AF171=3,LEFT(A171,5)+1,\"\"))","v":1001310},null,2216]
[{"$f":"O172*100+P172","v":1001310},2204,"访贤许由",{"$f":"IF(E172=\"\",\"\",B172+1)","v":2205},"听一听这位尧帝口中的贤士有何说法",{"$nulls":4},106,{"$f":"IF(J172=\"\",\"\",VLOOKUP(J172,EventNPC!A:E,5,FALSE))","v":"许由"},{"$f":"IF(M172=\"\",\"\",IF(P172=1,MAX(D172,B172)+1,MAX(B171,L171,D171,X171,AA171)+1))","v":2217},"那我再问你，斜风细雨，滋养万物。若这时有人用水桶来灌溉，岂不可笑？",null,10013,{"$f":"IF(O172=O171,P171+1,1)","v":10},"",null,null,{"$f":"IF(R172=\"\",\"\",\"-\"&VLOOKUP(R172,EventConditionConfig!A:C,3,FALSE)&IF(S172=\"\",\"\",CHAR(10)&\"-\"&VLOOKUP(S172,EventConditionConfig!A:C,3,FALSE)))","v":""},null,null,"","",null,null,"",{"$nulls":4},{"$f":"IF(A172=\"\",\"\",IF(U172=1,\"\",IF(A173=\"\",3,1)))","v":1},{"$f":"IF(AF172=1,A173,IF(AF172=3,LEFT(A172,5)+1,\"\"))","v":1001311},null,2217]
[{"$f":"O173*100+P173","v":1001311},2204,"访贤许由",{"$f":"IF(E173=\"\",\"\",B173+1)","v":2205},"听一听这位尧帝口中的贤士有何说法",{"$nulls":4},106,{"$f":"IF(J173=\"\",\"\",VLOOKUP(J173,EventNPC!A:E,5,FALSE))","v":"许由"},{"$f":"IF(M173=\"\",\"\",IF(P173=1,MAX(D173,B173)+1,MAX(B172,L172,D172,X172,AA172)+1))","v":2218},"天下在尧的带领下，已经治理得很好了，又何必要我，我是要去混个功成名就吗？",null,10013,{"$f":"IF(O173=O172,P172+1,1)","v":11},"",null,null,{"$f":"IF(R173=\"\",\"\",\"-\"&VLOOKUP(R173,EventConditionConfig!A:C,3,FALSE)&IF(S173=\"\",\"\",CHAR(10)&\"-\"&VLOOKUP(S173,EventConditionConfig!A:C,3,FALSE)))","v":""},null,null,"","",null,null,"",{"$nulls":4},{"$f":"IF(A173=\"\",\"\",IF(U173=1,\"\",IF(A174=\"\",3,1)))","v":1},{"$f":"IF(AF173=1,A174,IF(AF173=3,LEFT(A173,5)+1,\"\"))","v":1001312},null,2218]
[{"$f":"O174*100+P174","v":1001312},2204,"访贤许由",{"$f":"IF(E174=\"\",\"\",B174+1)","v":2205},"听一听这位尧帝口中的贤士有何说法",{"$nulls":4},106,{"$f":"IF(J174=\"\",\"\",VLOOKUP(J174,EventNPC!A:E,5,FALSE))","v":"许由"},{"$f":"IF(M174=\"\",\"\",IF(P174=1,MAX(D174,B174)+1,MAX(B173,L173,D173,X173,AA173)+1))","v":2219},"回答我？",null,10013,{"$f":"IF(O174=O173,P173+1,1)","v":12},"",null,null,{"$f":"IF(R174=\"\",\"\",\"-\"&VLOOKUP(R174,EventConditionConfig!A:C,3,FALSE)&IF(S174=\"\",\"\",CHAR(10)&\"-\"&VLOOKUP(S174,EventConditionConfig!A:C,3,FALSE)))","v":""},1,{"$f":"A175","v":1001313},"2220",2220,"就算只得功成名就也不错。",null,"",{"$nulls":4},{"$f":"IF(A174=\"\",\"\",IF(U174=1,\"\",IF(A175=\"\",3,1)))","v":""},{"$f":"IF(AF174=1,A175,IF(AF174=3,LEFT(A174,5)+1,\"\"))","v":""},null,2220]
[1001313,2204,"访贤许由",2205,"听一听这位尧帝口中的贤士有何说法",{"$nulls":4},106,{"$f":"IF(J175=\"\",\"\",VLOOKUP(J175,EventNPC!A:E,5,FALSE))","v":"许由"},2221,"小友，名就像宾客一样，难道我们的一生是为了宾客吗？",null,10013,13,"",null,null,{"$f":"IF(R175=\"\",\"\",\"-\"&VLOOKUP(R175,EventConditionConfig!A:C,3,FALSE)&IF(S175=\"\",\"\",CHAR(10)&\"-\"&VLOOKUP(S175,EventConditionConfig!A:C,3,FALSE)))","v":""},1,{"$f":"A176","v":1001314},"2222",2222,"（愣住）......",null,"",{"$nulls":4},"","",null,2222]
[{"$f":"O176*100+P176","v":1001314},2204,"访贤许由",{"$f":"IF(E176=\"\",\"\",B176+1)","v":2205},"听一听这位尧帝口中的贤士有何说法",{"$nulls":4},106,{"$f":"IF(J176=\"\",\"\",VLOOKUP(J176,EventNPC!A:E,5,FALSE))","v":"许由"},{"$f":"IF(M176=\"\",\"\",IF(P176=1,MAX(D176,B176)+1,MAX(B175,L175,D175,X175,AA175)+1))","v":2223},"他若真想修道，便该知“道不碍政，心自碍道”。",null,10013,{"$f":"IF(O176=O175,P175+1,1)","v":14},"",null,null,{"$f":"IF(R176=\"\",\"\",\"-\"&VLOOKUP(R176,EventConditionConfig!A:C,3,FALSE)&IF(S176=\"\",\"\",CHAR(10)&\"-\"&VLOOKUP(S176,EventConditionConfig!A:C,3,FALSE)))","v":""},{"$nulls":6},"",{"$nulls":4},{"$f":"IF(A176=\"\",\"\",IF(U176=1,\"\",IF(A177=\"\",3,1)))","v":1},{"$f":"IF(AF176=1,A177,IF(AF176=3,LEFT(A176,5)+1,\"\"))","v":1001315},null,2223]
[1001315,2204,"访贤许由",2205,"听一听这位尧帝口中的贤士有何说法",{"$nulls":4},106,{"$f":"IF(J177=\"\",\"\",VLOOKUP(J177,EventNPC!A:E,5,FALSE))","v":"许由"},2224,"若心不净，纵避千山万水，又有何用。",null,10013,15,"",null,null,{"$f":"IF(R177=\"\",\"\",\"-\"&VLOOKUP(R177,EventConditionConfig!A:C,3,FALSE)&IF(S177=\"\",\"\",CHAR(10)&\"-\"&VLOOKUP(S177,EventConditionConfig!A:C,3,FALSE)))","v":""},1,{"$f":"A178","v":1001316},{"$f":"_xlfn.TEXTJOIN(\";\",1,X177,AA177)","v":"2225"},{"$f":"IF(Y177=\"\",\"\",L177+1)","v":2225},"（愣住）......",null,"",{"$nulls":4},"","",null,2225]
[1001316,2204,"访贤许由",2205,"听一听这位尧帝口中的贤士有何说法",{"$nulls":5},{"$f":"IF(J178=\"\",\"\",VLOOKUP(J178,EventNPC!A:E,5,FALSE))","v":""},"",null,null,10013,16,"",null,null,{"$f":"IF(R178=\"\",\"\",\"-\"&VLOOKUP(R178,EventConditionConfig!A:C,3,FALSE)&IF(S178=\"\",\"\",CHAR(10)&\"-\"&VLOOKUP(S178,EventConditionConfig!A:C,3,FALSE)))","v":""},null,null,{"$f":"_xlfn.TEXTJOIN(\";\",1,X178,AA178)","v":""},{"$f":"IF(Y178=\"\",\"\",L178+1)","v":""},null,null,"",{"$nulls":4},3,10014,null,2205]
[{"$nulls":16},"",null,null,{"$f":"IF(R179=\"\",\"\",\"-\"&VLOOKUP(R179,EventConditionConfig!A:C,3,FALSE)&IF(S179=\"\",\"\",CHAR(10)&\"-\"&VLOOKUP(S179,EventConditionConfig!A:C,3,FALSE)))","v":""},{"$nulls":14},""]
[{"$f":"O180*100+P180","v":1001401},{"$f":"IF(B179=\"\",MAX(AA178,X178,L178,B178,D178,AA177,X177,L177)+1,B179)","v":2226},"割草喝茶",{"$f":"IF(E180=\"\",\"\",B180+1)","v":""},{"$nulls":5},106,{"$f":"IF(J180=\"\",\"\",VLOOKUP(J180,EventNPC!A:E,5,FALSE))","v":"许由"},{"$f":"IF(M180=\"\",\"\",IF(P180=1,MAX(D180,B180)+1,MAX(B179,L179,D179,X179,AA179)+1))","v":2227},"（转身望向屋后的山坡）你来得也巧，我正想在开辟一块新药田。",null,{"$f":"IF(O179=\"\",O178+1,O179)","v":10014},{"$f":"IF(O180=O179,P179+1,1)","v":1},"",null,null,{"$f":"IF(R180=\"\",\"\",\"-\"&VLOOKUP(R180,EventConditionConfig!A:C,3,FALSE)&IF(S180=\"\",\"\",CHAR(10)&\"-\"&VLOOKUP(S180,EventConditionConfig!A:C,3,FALSE)))","v":""},null,null,{"$f":"_xlfn.TEXTJOIN(\";\",1,X180,AA180)","v":""},{"$f":"IF(Y180=\"\",\"\",L180+1)","v":""},null,null,{"$f":"IF(AB180=\"\",\"\",X180+1)","v":""},{"$nulls":4},{"$f":"IF(A180=\"\",\"\",IF(U180=1,\"\",IF(A181=\"\",3,1)))","v":1},{"$f":"IF(AF180=1,A181,IF(AF180=3,LEFT(A180,5)+1,\"\"))","v":1001402},null,2227]
[{"$f":"O181*100+P181","v":1001402},2226,"割草喝茶",{"$f":"IF(E181=\"\",\"\",B181+1)","v":""},{"$nulls":5},106,{"$f":"IF(J181=\"\",\"\",VLOOKUP(J181,EventNPC!A:E,5,FALSE))","v":"许由"},{"$f":"IF(M181=\"\",\"\",IF(P181=1,MAX(D181,B181)+1,MAX(B180,L180,D180,X180,AA180)+1))","v":2228},"后山有一块不错的地，离家有一点远平时我也懒得去打理，正好你来了帮我开辟出来吧。",null,10014,{"$f":"IF(O181=O180,P180+1,1)","v":2},"",null,null,{"$f":"IF(R181=\"\",\"\",\"-\"&VLOOKUP(R181,EventConditionConfig!A:C,3,FALSE)&IF(S181=\"\",\"\",CHAR(10)&\"-\"&VLOOKUP(S181,EventConditionConfig!A:C,3,FALSE)))","v":""},1,{"$f":"A182","v":1001403},"2229",2229,"……前辈是让我干农活吗",null,"",{"$nulls":4},{"$f":"IF(A181=\"\",\"\",IF(U181=1,\"\",IF(A182=\"\",3,1)))","v":""},{"$f":"IF(AF181=1,A182,IF(AF181=3,LEFT(A181,5)+1,\"\"))","v":""},null,2229]
[1001403,2226,"割草喝茶","",{"$nulls":5},106,{"$f":"IF(J182=\"\",\"\",VLOOKUP(J182,EventNPC!A:E,5,FALSE))","v":"许由"},2230,"（笑）哈哈，正是，帮我清理一下灵田，回来请你喝茶。",null,10014,3,{"$f":"_xlfn.TEXTJOIN(\";\",1,R182:S182)","v":""},null,null,{"$f":"IF(R182=\"\",\"\",\"-\"&VLOOKUP(R182,EventConditionConfig!A:C,3,FALSE)&IF(S182=\"\",\"\",CHAR(10)&\"-\"&VLOOKUP(S182,EventConditionConfig!A:C,3,FALSE)))","v":""},null,null,"","",null,null,"",{"$nulls":4},1,1001404,null,2230]
[{"$f":"O183*100+P183","v":1001404},2226,"割草喝茶",{"$f":"IF(E183=\"\",\"\",B183+1)","v":""},{"$nulls":5},106,{"$f":"IF(J183=\"\",\"\",VLOOKUP(J183,EventNPC!A:E,5,FALSE))","v":"许由"},{"$f":"IF(M183=\"\",\"\",IF(P183=1,MAX(D183,B183)+1,MAX(B182,L182,D182,X182,AA182)+1))","v":2231},"对了，在哪些杂草中不也会生长着一些药效不错的药草，这些药草在杂草中没有更好的成长起来，如果发现了药草帮我收集一些药草的种子回来。",null,10014,{"$f":"IF(O183=O182,P182+1,1)","v":4},{"$f":"_xlfn.TEXTJOIN(\";\",1,R183:S183)","v":""},null,null,{"$f":"IF(R183=\"\",\"\",\"-\"&VLOOKUP(R183,EventConditionConfig!A:C,3,FALSE)&IF(S183=\"\",\"\",CHAR(10)&\"-\"&VLOOKUP(S183,EventConditionConfig!A:C,3,FALSE)))","v":""},null,null,"","",null,null,"",{"$nulls":4},{"$f":"IF(A183=\"\",\"\",IF(U183=1,\"\",IF(A184=\"\",3,1)))","v":1},{"$f":"IF(AF183=1,A184,IF(AF183=3,LEFT(A183,5)+1,\"\"))","v":1001405},null,2231]
[{"$f":"O184*100+P184","v":1001405},2226,"割草喝茶",{"$f":"IF(E184=\"\",\"\",B184+1)","v":""},{"$nulls":5},106,{"$f":"IF(J184=\"\",\"\",VLOOKUP(J184,EventNPC!A:E,5,FALSE))","v":"许由"},{"$f":"IF(M184=\"\",\"\",IF(P184=1,MAX(D184,B184)+1,MAX(B183,L183,D183,X183,AA183)+1))","v":2232},"在开辟的过程中也请小心一点，后山也经常有妖怪出没。",null,10014,{"$f":"IF(O184=O183,P183+1,1)","v":5},{"$f":"_xlfn.TEXTJOIN(\";\",1,R184:S184)","v":"10;11"},10,11,{"$f":"IF(R184=\"\",\"\",\"-\"&VLOOKUP(R184,EventConditionConfig!A:C,3,FALSE)&IF(S184=\"\",\"\",CHAR(10)&\"-\"&VLOOKUP(S184,EventConditionConfig!A:C,3,FALSE)))","v":"-击败后山小妖\n-收集灵草种子"},null,null,"","",null,null,"",{"$nulls":4},{"$f":"IF(A184=\"\",\"\",IF(U184=1,\"\",IF(A185=\"\",3,1)))","v":1},{"$f":"IF(AF184=1,A185,IF(AF184=3,LEFT(A184,5)+1,\"\"))","v":1001406},null,2232]
[1001406,2226,"割草喝茶","",{"$nulls":6},{"$f":"IF(J185=\"\",\"\",VLOOKUP(J185,EventNPC!A:E,5,FALSE))","v":""},2233,"（你回到屋前，满身草屑与泥土，许由在烧水，煮茶）",null,10014,6,"",null,null,{"$f":"IF(R185=\"\",\"\",\"-\"&VLOOKUP(R185,EventConditionConfig!A:C,3,FALSE)&IF(S185=\"\",\"\",CHAR(10)&\"-\"&VLOOKUP(S185,EventConditionConfig!A:C,3,FALSE)))","v":""},null,null,"","",null,null,"",{"$nulls":4},1,1001407,null,2233]
[{"$f":"O186*100+P186","v":1001407},2226,"割草喝茶",{"$f":"IF(E186=\"\",\"\",B186+1)","v":""},{"$nulls":5},106,{"$f":"IF(J186=\"\",\"\",VLOOKUP(J186,EventNPC!A:E,5,FALSE))","v":"许由"},{"$f":"IF(M186=\"\",\"\",IF(P186=1,MAX(D186,B186)+1,MAX(B185,L185,D185,X185,AA185)+1))","v":2234},"动得挺快。坐，喝口茶。",null,10014,{"$f":"IF(O186=O185,P185+1,1)","v":7},{"$f":"_xlfn.TEXTJOIN(\";\",1,R186:S186)","v":""},null,null,{"$f":"IF(R186=\"\",\"\",\"-\"&VLOOKUP(R186,EventConditionConfig!A:C,3,FALSE)&IF(S186=\"\",\"\",CHAR(10)&\"-\"&VLOOKUP(S186,EventConditionConfig!A:C,3,FALSE)))","v":""},{"$f":"IF(Y186=\"\",\"\",1)","v":1},{"$f":"IF(U186=1,A187,\"\")","v":1001408},"2235",2235,"多谢前辈。",null,"",{"$nulls":4},{"$f":"IF(A186=\"\",\"\",IF(U186=1,\"\",IF(A187=\"\",3,1)))","v":""},{"$f":"IF(AF186=1,A187,IF(AF186=3,LEFT(A186,5)+1,\"\"))","v":""},null,2235]
[{"$f":"O187*100+P187","v":1001408},2226,"割草喝茶",{"$f":"IF(E187=\"\",\"\",B187+1)","v":""},{"$nulls":6},{"$f":"IF(J187=\"\",\"\",VLOOKUP(J187,EventNPC!A:E,5,FALSE))","v":""},{"$f":"IF(M187=\"\",\"\",IF(P187=1,MAX(D187,B187)+1,MAX(B186,L186,D186,X186,AA186)+1))","v":2236},"（你获得了永久属性提升）（此处需要进一步处理）",null,10014,{"$f":"IF(O187=O186,P186+1,1)","v":8},{"$f":"_xlfn.TEXTJOIN(\";\",1,R187:S187)","v":""},null,null,{"$f":"IF(R187=\"\",\"\",\"-\"&VLOOKUP(R187,EventConditionConfig!A:C,3,FALSE)&IF(S187=\"\",\"\",CHAR(10)&\"-\"&VLOOKUP(S187,EventConditionConfig!A:C,3,FALSE)))","v":""},{"$f":"IF(Y187=\"\",\"\",1)","v":""},{"$f":"IF(U187=1,A188,\"\")","v":""},"","",null,null,"",{"$nulls":4},{"$f":"IF(A187=\"\",\"\",IF(U187=1,\"\",IF(A188=\"\",3,1)))","v":3},{"$f":"IF(AF187=1,A188,IF(AF187=3,LEFT(A187,5)+1,\"\"))","v":10015},null,2236]
[{"$nulls":34},""]
[{"$f":"O189*100+P189","v":1001501},{"$f":"IF(B188=\"\",MAX(AA187,X187,L187,B187,D187,AA186,X186,L186)+1,B188)","v":2237},"再来一杯",{"$f":"IF(E189=\"\",\"\",B189+1)","v":""},{"$nulls":5},106,{"$f":"IF(J189=\"\",\"\",VLOOKUP(J189,EventNPC!A:E,5,FALSE))","v":"许由"},{"$f":"IF(M189=\"\",\"\",IF(P189=1,MAX(D189,B189)+1,MAX(B188,L188,D188,X188,AA188)+1))","v":2238},"今天的风有点不对，开来昨日你在后山的动静不小呀，山那头怕是要来些不速之客。",null,{"$f":"IF(O188=\"\",O187+1,O188)","v":10015},{"$f":"IF(O189=O188,P188+1,1)","v":1},{"$f":"_xlfn.TEXTJOIN(\";\",1,R189:S189)","v":""},null,null,{"$f":"IF(R189=\"\",\"\",\"-\"&VLOOKUP(R189,EventConditionConfig!A:C,3,FALSE)&IF(S189=\"\",\"\",CHAR(10)&\"-\"&VLOOKUP(S189,EventConditionConfig!A:C,3,FALSE)))","v":""},{"$f":"IF(Y189=\"\",\"\",1)","v":""},{"$f":"IF(U189=1,A190,\"\")","v":""},{"$f":"_xlfn.TEXTJOIN(\";\",1,X189,AA189)","v":""},{"$f":"IF(Y189=\"\",\"\",L189+1)","v":""},null,null,{"$f":"IF(AB189=\"\",\"\",X189+1)","v":""},{"$nulls":4},{"$f":"IF(A189=\"\",\"\",IF(U189=1,\"\",IF(A190=\"\",3,1)))","v":1},{"$f":"IF(AF189=1,A190,IF(AF189=3,LEFT(A189,5)+1,\"\"))","v":1001502},null,2238]
[{"$f":"O190*100+P190","v":1001502},2237,"再来一杯",{"$f":"IF(E190=\"\",\"\",B190+1)","v":""},{"$nulls":5},106,{"$f":"IF(J190=\"\",\"\",VLOOKUP(J190,EventNPC!A:E,5,FALSE))","v":"许由"},{"$f":"IF(M190=\"\",\"\",IF(P190=1,MAX(D190,B190)+1,MAX(B189,L189,D189,X189,AA189)+1))","v":2239},"你才帮我弄好灵草种子和灵田，别让妖兽给毁了。",null,10015,{"$f":"IF(O190=O189,P189+1,1)","v":2},{"$f":"_xlfn.TEXTJOIN(\";\",1,R190:S190)","v":""},null,null,{"$f":"IF(R190=\"\",\"\",\"-\"&VLOOKUP(R190,EventConditionConfig!A:C,3,FALSE)&IF(S190=\"\",\"\",CHAR(10)&\"-\"&VLOOKUP(S190,EventConditionConfig!A:C,3,FALSE)))","v":""},"","","","",null,null,"",{"$nulls":4},{"$f":"IF(A190=\"\",\"\",IF(U190=1,\"\",IF(A191=\"\",3,1)))","v":1},{"$f":"IF(AF190=1,A191,IF(AF190=3,LEFT(A190,5)+1,\"\"))","v":1001503},null,2239]
[{"$f":"O191*100+P191","v":1001503},2237,"再来一杯",{"$f":"IF(E191=\"\",\"\",B191+1)","v":""},{"$nulls":5},106,{"$f":"IF(J191=\"\",\"\",VLOOKUP(J191,EventNPC!A:E,5,FALSE))","v":"许由"},{"$f":"IF(M191=\"\",\"\",IF(P191=1,MAX(D191,B191)+1,MAX(B190,L190,D190,X190,AA190)+1))","v":2240},"你去走一趟。",null,10015,{"$f":"IF(O191=O190,P190+1,1)","v":3},{"$f":"_xlfn.TEXTJOIN(\";\",1,R191:S191)","v":""},null,null,{"$f":"IF(R191=\"\",\"\",\"-\"&VLOOKUP(R191,EventConditionConfig!A:C,3,FALSE)&IF(S191=\"\",\"\",CHAR(10)&\"-\"&VLOOKUP(S191,EventConditionConfig!A:C,3,FALSE)))","v":""},1,1001504,"2241",2241,"好的......",null,"",{"$nulls":4},{"$f":"IF(A191=\"\",\"\",IF(U191=1,\"\",IF(A192=\"\",3,1)))","v":""},{"$f":"IF(AF191=1,A192,IF(AF191=3,LEFT(A191,5)+1,\"\"))","v":""},null,2241]
[1001504,2237,"再来一杯","",{"$nulls":6},{"$f":"IF(J192=\"\",\"\",VLOOKUP(J192,EventNPC!A:E,5,FALSE))","v":""},"",null,null,10015,4,"12",12,null,{"$f":"IF(R192=\"\",\"\",\"-\"&VLOOKUP(R192,EventConditionConfig!A:C,3,FALSE)&IF(S192=\"\",\"\",CHAR(10)&\"-\"&VLOOKUP(S192,EventConditionConfig!A:C,3,FALSE)))","v":"-击败夜袭的妖兽"},"","","","",null,null,"",{"$nulls":4},1,1001505,null,2237]
[1001505,2237,"再来一杯","",{"$nulls":6},{"$f":"IF(J193=\"\",\"\",VLOOKUP(J193,EventNPC!A:E,5,FALSE))","v":""},2238,"（回到屋前，看到许由又在烧水，煮茶，和上次一样）",null,10015,5,"",null,null,{"$f":"IF(R193=\"\",\"\",\"-\"&VLOOKUP(R193,EventConditionConfig!A:C,3,FALSE)&IF(S193=\"\",\"\",CHAR(10)&\"-\"&VLOOKUP(S193,EventConditionConfig!A:C,3,FALSE)))","v":""},"","","","",null,null,"",{"$nulls":4},1,1001506,null,2238]
[{"$f":"O194*100+P194","v":1001506},2237,"再来一杯",{"$f":"IF(E194=\"\",\"\",B194+1)","v":""},{"$nulls":5},106,{"$f":"IF(J194=\"\",\"\",VLOOKUP(J194,EventNPC!A:E,5,FALSE))","v":"许由"},{"$f":"IF(M194=\"\",\"\",IF(P194=1,MAX(D194,B194)+1,MAX(B193,L193,D193,X193,AA193)+1))","v":2239},"来，喝茶。",null,10015,{"$f":"IF(O194=O193,P193+1,1)","v":6},{"$f":"_xlfn.TEXTJOIN(\";\",1,R194:S194)","v":""},null,null,{"$f":"IF(R194=\"\",\"\",\"-\"&VLOOKUP(R194,EventConditionConfig!A:C,3,FALSE)&IF(S194=\"\",\"\",CHAR(10)&\"-\"&VLOOKUP(S194,EventConditionConfig!A:C,3,FALSE)))","v":""},"","","","",null,null,"",{"$nulls":4},{"$f":"IF(A194=\"\",\"\",IF(U194=1,\"\",IF(A195=\"\",3,1)))","v":1},{"$f":"IF(AF194=1,A195,IF(AF194=3,LEFT(A194,5)+1,\"\"))","v":1001507},null,2239]
[{"$f":"O195*100+P195","v":1001507},2237,"再来一杯",{"$f":"IF(E195=\"\",\"\",B195+1)","v":""},{"$nulls":5},100,{"$f":"IF(J195=\"\",\"\",VLOOKUP(J195,EventNPC!A:E,5,FALSE))","v":"玩家"},{"$f":"IF(M195=\"\",\"\",IF(P195=1,MAX(D195,B195)+1,MAX(B194,L194,D194,X194,AA194)+1))","v":2240},"（心中默念...这个精英妖兽，可费我一些功夫，怎么又是茶？）",null,10015,{"$f":"IF(O195=O194,P194+1,1)","v":7},{"$f":"_xlfn.TEXTJOIN(\";\",1,R195:S195)","v":""},null,null,{"$f":"IF(R195=\"\",\"\",\"-\"&VLOOKUP(R195,EventConditionConfig!A:C,3,FALSE)&IF(S195=\"\",\"\",CHAR(10)&\"-\"&VLOOKUP(S195,EventConditionConfig!A:C,3,FALSE)))","v":""},1,1001508,"2241",2241,"（你没说话，默默喝下）",null,"",{"$nulls":4},{"$f":"IF(A195=\"\",\"\",IF(U195=1,\"\",IF(A196=\"\",3,1)))","v":""},{"$f":"IF(AF195=1,A196,IF(AF195=3,LEFT(A195,5)+1,\"\"))","v":""},null,2241]
[1001508,2237,"再来一杯","",{"$nulls":6},{"$f":"IF(J196=\"\",\"\",VLOOKUP(J196,EventNPC!A:E,5,FALSE))","v":""},2242,"（你获得了永久属性提升）（此处需要进一步处理）",null,10015,8,"",null,null,{"$f":"IF(R196=\"\",\"\",\"-\"&VLOOKUP(R196,EventConditionConfig!A:C,3,FALSE)&IF(S196=\"\",\"\",CHAR(10)&\"-\"&VLOOKUP(S196,EventConditionConfig!A:C,3,FALSE)))","v":""},"","","","",null,null,"",{"$nulls":4},3,10016,null,2242]
[{"$nulls":34},""]
[{"$f":"O198*100+P198","v":1001601},{"$f":"IF(B197=\"\",MAX(AA196,X196,L196,B196,D196,AA195,X195,L195)+1,B197)","v":2243},"战胜妖王",{"$f":"IF(E198=\"\",\"\",B198+1)","v":""},{"$nulls":6},{"$f":"IF(J198=\"\",\"\",VLOOKUP(J198,EventNPC!A:E,5,FALSE))","v":""},{"$f":"IF(M198=\"\",\"\",IF(P198=1,MAX(D198,B198)+1,MAX(B197,L197,D197,X197,AA197)+1))","v":2244},"（次日清晨，山顶云气升腾，许由站在灵田边，看着远山）",null,{"$f":"IF(O197=\"\",O196+1,O197)","v":10016},{"$f":"IF(O198=O197,P197+1,1)","v":1},{"$f":"_xlfn.TEXTJOIN(\";\",1,R198:S198)","v":""},null,null,{"$f":"IF(R198=\"\",\"\",\"-\"&VLOOKUP(R198,EventConditionConfig!A:C,3,FALSE)&IF(S198=\"\",\"\",CHAR(10)&\"-\"&VLOOKUP(S198,EventConditionConfig!A:C,3,FALSE)))","v":""},{"$f":"IF(Y198=\"\",\"\",1)","v":""},{"$f":"IF(U198=1,A199,\"\")","v":""},{"$f":"_xlfn.TEXTJOIN(\";\",1,X198,AA198)","v":""},{"$f":"IF(Y198=\"\",\"\",L198+1)","v":""},null,null,{"$f":"IF(AB198=\"\",\"\",X198+1)","v":""},{"$nulls":4},{"$f":"IF(A198=\"\",\"\",IF(U198=1,\"\",IF(A199=\"\",3,1)))","v":1},{"$f":"IF(AF198=1,A199,IF(AF198=3,LEFT(A198,5)+1,\"\"))","v":1001602},null,{"$f":"IF(A198=\"\",\"\",MAX(B198,D198,L198,X198,AA198))","v":2244}]
[{"$f":"O199*100+P199","v":1001602},2243,"战胜妖王",{"$f":"IF(E199=\"\",\"\",B199+1)","v":""},{"$nulls":6},{"$f":"IF(J199=\"\",\"\",VLOOKUP(J199,EventNPC!A:E,5,FALSE))","v":""},{"$f":"IF(M199=\"\",\"\",IF(P199=1,MAX(D199,B199)+1,MAX(B198,L198,D198,X198,AA198)+1))","v":2245}," 先前的妖兽，被你压了下去。可峰顶还有一头老家伙，脾气大。",null,10016,{"$f":"IF(O199=O198,P198+1,1)","v":2},{"$f":"_xlfn.TEXTJOIN(\";\",1,R199:S199)","v":""},null,null,{"$f":"IF(R199=\"\",\"\",\"-\"&VLOOKUP(R199,EventConditionConfig!A:C,3,FALSE)&IF(S199=\"\",\"\",CHAR(10)&\"-\"&VLOOKUP(S199,EventConditionConfig!A:C,3,FALSE)))","v":""},1,1001603,"2246",2246,"前辈可是希望我去处理？",null,"",{"$nulls":4},{"$f":"IF(A199=\"\",\"\",IF(U199=1,\"\",IF(A200=\"\",3,1)))","v":""},{"$f":"IF(AF199=1,A200,IF(AF199=3,LEFT(A199,5)+1,\"\"))","v":""},null,2246]
[1001603,2243,"战胜妖王","",{"$nulls":5},106,{"$f":"IF(J200=\"\",\"\",VLOOKUP(J200,EventNPC!A:E,5,FALSE))","v":"许由"},2247,"（淡笑）去吧，你可以应付的。",null,10016,3,"",null,null,{"$f":"IF(R200=\"\",\"\",\"-\"&VLOOKUP(R200,EventConditionConfig!A:C,3,FALSE)&IF(S200=\"\",\"\",CHAR(10)&\"-\"&VLOOKUP(S200,EventConditionConfig!A:C,3,FALSE)))","v":""},"","","","",null,null,"",{"$nulls":4},1,1001604,null,2247]
[1001604,2243,"战胜妖王",{"$f":"IF(E201=\"\",\"\",B201+1)","v":""},{"$nulls":6},{"$f":"IF(J201=\"\",\"\",VLOOKUP(J201,EventNPC!A:E,5,FALSE))","v":""},{"$f":"IF(M201=\"\",\"\",IF(P201=1,MAX(D201,B201)+1,MAX(B200,L200,D200,X200,AA200)+1))","v":""},null,null,10016,{"$f":"IF(O201=O200,P200+1,1)","v":4},{"$f":"_xlfn.TEXTJOIN(\";\",1,R201:S201)","v":"13"},13,null,{"$f":"IF(R201=\"\",\"\",\"-\"&VLOOKUP(R201,EventConditionConfig!A:C,3,FALSE)&IF(S201=\"\",\"\",CHAR(10)&\"-\"&VLOOKUP(S201,EventConditionConfig!A:C,3,FALSE)))","v":"-击败峰顶的妖王"},"","","","",null,null,"",{"$nulls":4},{"$f":"IF(A201=\"\",\"\",IF(U201=1,\"\",IF(A202=\"\",3,1)))","v":1},{"$f":"IF(AF201=1,A202,IF(AF201=3,LEFT(A201,5)+1,\"\"))","v":1001605},null,2243]
[{"$f":"O202*100+P202","v":1001605},2243,"战胜妖王","",{"$nulls":6},{"$f":"IF(J202=\"\",\"\",VLOOKUP(J202,EventNPC!A:E,5,FALSE))","v":""},2244,"（你回到屋前，略显疲惫，许由依然在烧水，煮茶）",null,10016,5,"",null,null,{"$f":"IF(R202=\"\",\"\",\"-\"&VLOOKUP(R202,EventConditionConfig!A:C,3,FALSE)&IF(S202=\"\",\"\",CHAR(10)&\"-\"&VLOOKUP(S202,EventConditionConfig!A:C,3,FALSE)))","v":""},"","","","",null,null,"",{"$nulls":4},1,1001606,null,2244]
[{"$f":"O203*100+P203","v":1001606},2243,"战胜妖王",{"$f":"IF(E203=\"\",\"\",B203+1)","v":""},{"$nulls":5},106,{"$f":"IF(J203=\"\",\"\",VLOOKUP(J203,EventNPC!A:E,5,FALSE))","v":"许由"},{"$f":"IF(M203=\"\",\"\",IF(P203=1,MAX(D203,B203)+1,MAX(B202,L202,D202,X202,AA202)+1))","v":2245},"（不动声色，递茶）喝吧。",null,10016,{"$f":"IF(O203=O202,P202+1,1)","v":6},{"$f":"_xlfn.TEXTJOIN(\";\",1,R203:S203)","v":""},null,null,{"$f":"IF(R203=\"\",\"\",\"-\"&VLOOKUP(R203,EventConditionConfig!A:C,3,FALSE)&IF(S203=\"\",\"\",CHAR(10)&\"-\"&VLOOKUP(S203,EventConditionConfig!A:C,3,FALSE)))","v":""},"","","","",null,null,"",{"$nulls":4},{"$f":"IF(A203=\"\",\"\",IF(U203=1,\"\",IF(A204=\"\",3,1)))","v":1},{"$f":"IF(AF203=1,A204,IF(AF203=3,LEFT(A203,5)+1,\"\"))","v":1001607},null,2245]
[{"$f":"O204*100+P204","v":1001607},2243,"战胜妖王",{"$f":"IF(E204=\"\",\"\",B204+1)","v":""},{"$nulls":5},100,{"$f":"IF(J204=\"\",\"\",VLOOKUP(J204,EventNPC!A:E,5,FALSE))","v":"玩家"},{"$f":"IF(M204=\"\",\"\",IF(P204=1,MAX(D204,B204)+1,MAX(B203,L203,D203,X203,AA203)+1))","v":2246},"（低声）……前辈，我做了怎么多事，一次比一次难。为何每次都让我喝茶？",null,10016,{"$f":"IF(O204=O203,P203+1,1)","v":7},{"$f":"_xlfn.TEXTJOIN(\";\",1,R204:S204)","v":""},null,null,{"$f":"IF(R204=\"\",\"\",\"-\"&VLOOKUP(R204,EventConditionConfig!A:C,3,FALSE)&IF(S204=\"\",\"\",CHAR(10)&\"-\"&VLOOKUP(S204,EventConditionConfig!A:C,3,FALSE)))","v":""},"","","","",null,null,"",{"$nulls":4},{"$f":"IF(A204=\"\",\"\",IF(U204=1,\"\",IF(A205=\"\",3,1)))","v":1},{"$f":"IF(AF204=1,A205,IF(AF204=3,LEFT(A204,5)+1,\"\"))","v":1001608},null,2246]
[{"$f":"O205*100+P205","v":1001608},2243,"战胜妖王",{"$f":"IF(E205=\"\",\"\",B205+1)","v":""},{"$nulls":5},106,{"$f":"IF(J205=\"\",\"\",VLOOKUP(J205,EventNPC!A:E,5,FALSE))","v":"许由"},{"$f":"IF(M205=\"\",\"\",IF(P205=1,MAX(D205,B205)+1,MAX(B204,L204,D204,X204,AA204)+1))","v":2247},"哈哈哈，小友.你赢得越来越多，喝得却越来越不甘心。",null,10016,{"$f":"IF(O205=O204,P204+1,1)","v":8},{"$f":"_xlfn.TEXTJOIN(\";\",1,R205:S205)","v":""},null,null,{"$f":"IF(R205=\"\",\"\",\"-\"&VLOOKUP(R205,EventConditionConfig!A:C,3,FALSE)&IF(S205=\"\",\"\",CHAR(10)&\"-\"&VLOOKUP(S205,EventConditionConfig!A:C,3,FALSE)))","v":""},"","","","",null,null,"",{"$nulls":4},{"$f":"IF(A205=\"\",\"\",IF(U205=1,\"\",IF(A206=\"\",3,1)))","v":1},{"$f":"IF(AF205=1,A206,IF(AF205=3,LEFT(A205,5)+1,\"\"))","v":1001609},null,2247]
[{"$f":"O206*100+P206","v":1001609},2243,"战胜妖王",{"$f":"IF(E206=\"\",\"\",B206+1)","v":""},{"$nulls":5},106,{"$f":"IF(J206=\"\",\"\",VLOOKUP(J206,EventNPC!A:E,5,FALSE))","v":"许由"},{"$f":"IF(M206=\"\",\"\",IF(P206=1,MAX(D206,B206)+1,MAX(B205,L205,D205,X205,AA205)+1))","v":2248},"尧现在，或许也是这个心情吧。一路赢到底，却再没能静下心来，喝一杯茶。",null,10016,{"$f":"IF(O206=O205,P205+1,1)","v":9},{"$f":"_xlfn.TEXTJOIN(\";\",1,R206:S206)","v":""},null,null,{"$f":"IF(R206=\"\",\"\",\"-\"&VLOOKUP(R206,EventConditionConfig!A:C,3,FALSE)&IF(S206=\"\",\"\",CHAR(10)&\"-\"&VLOOKUP(S206,EventConditionConfig!A:C,3,FALSE)))","v":""},"","","","",null,null,"",{"$nulls":4},{"$f":"IF(A206=\"\",\"\",IF(U206=1,\"\",IF(A207=\"\",3,1)))","v":1},{"$f":"IF(AF206=1,A207,IF(AF206=3,LEFT(A206,5)+1,\"\"))","v":1001610},null,2248]
[{"$f":"O207*100+P207","v":1001610},2243,"战胜妖王",{"$f":"IF(E207=\"\",\"\",B207+1)","v":""},{"$nulls":5},106,{"$f":"IF(J207=\"\",\"\",VLOOKUP(J207,EventNPC!A:E,5,FALSE))","v":"许由"},{"$f":"IF(M207=\"\",\"\",IF(P207=1,MAX(D207,B207)+1,MAX(B206,L206,D206,X206,AA206)+1))","v":2249},"好了，你回去吧。",null,10016,{"$f":"IF(O207=O206,P206+1,1)","v":10},{"$f":"_xlfn.TEXTJOIN(\";\",1,R207:S207)","v":""},null,null,{"$f":"IF(R207=\"\",\"\",\"-\"&VLOOKUP(R207,EventConditionConfig!A:C,3,FALSE)&IF(S207=\"\",\"\",CHAR(10)&\"-\"&VLOOKUP(S207,EventConditionConfig!A:C,3,FALSE)))","v":""},1,"1001611;1001612","2250;2251",2250,"我该如何回复尧帝？",null,2251,"多谢前辈提醒。",null,null,null,{"$f":"IF(A207=\"\",\"\",IF(U207=1,\"\",IF(A208=\"\",3,1)))","v":""},{"$f":"IF(AF207=1,A208,IF(AF207=3,LEFT(A207,5)+1,\"\"))","v":""},null,2251]
[1001611,2243,"战胜妖王","",{"$nulls":5},106,{"$f":"IF(J208=\"\",\"\",VLOOKUP(J208,EventNPC!A:E,5,FALSE))","v":"许由"},2252,"“道不碍政，心自碍道”。若心不净，纵避千山万水，又有何用。",null,10016,11,"",null,null,{"$f":"IF(R208=\"\",\"\",\"-\"&VLOOKUP(R208,EventConditionConfig!A:C,3,FALSE)&IF(S208=\"\",\"\",CHAR(10)&\"-\"&VLOOKUP(S208,EventConditionConfig!A:C,3,FALSE)))","v":""},"",{"$f":"IF(U208=1,A209,\"\")","v":""},"","",null,null,"",{"$nulls":4},1,1001612,null,2252]
[{"$f":"O209*100+P209","v":1001612},2243,"战胜妖王",{"$f":"IF(E209=\"\",\"\",B209+1)","v":""},{"$nulls":6},{"$f":"IF(J209=\"\",\"\",VLOOKUP(J209,EventNPC!A:E,5,FALSE))","v":""},{"$f":"IF(M209=\"\",\"\",IF(P209=1,MAX(D209,B209)+1,MAX(B208,L208,D208,X208,AA208)+1))","v":2253},"（你低头，看着杯中微动的茶水）\n（喝下第三杯茶，觉得一身轻松）",null,10016,{"$f":"IF(O209=O208,P208+1,1)","v":12},{"$f":"_xlfn.TEXTJOIN(\";\",1,R209:S209)","v":""},null,null,{"$f":"IF(R209=\"\",\"\",\"-\"&VLOOKUP(R209,EventConditionConfig!A:C,3,FALSE)&IF(S209=\"\",\"\",CHAR(10)&\"-\"&VLOOKUP(S209,EventConditionConfig!A:C,3,FALSE)))","v":""},"",{"$f":"IF(U209=1,A210,\"\")","v":""},"","",null,null,"",{"$nulls":4},{"$f":"IF(A209=\"\",\"\",IF(U209=1,\"\",IF(A210=\"\",3,1)))","v":1},{"$f":"IF(AF209=1,A210,IF(AF209=3,LEFT(A209,5)+1,\"\"))","v":1001613},null,2253]
[1001613,2243,"战胜妖王","",{"$nulls":6},{"$f":"IF(J210=\"\",\"\",VLOOKUP(J210,EventNPC!A:E,5,FALSE))","v":""},2254,"（你获得了永久属性提升）（此处需要进一步处理）",null,10016,13,"",null,null,{"$f":"IF(R210=\"\",\"\",\"-\"&VLOOKUP(R210,EventConditionConfig!A:C,3,FALSE)&IF(S210=\"\",\"\",CHAR(10)&\"-\"&VLOOKUP(S210,EventConditionConfig!A:C,3,FALSE)))","v":""},"",{"$f":"IF(U210=1,A211,\"\")","v":""},"","",null,null,"",{"$nulls":4},3,10017,null,2254]
[{"$nulls":34},""]
[{"$f":"O212*100+P212","v":1001701},{"$f":"IF(B211=\"\",MAX(AA210,X210,L210,B210,D210,AA209,X209,L209)+1,B211)","v":2255},"回尧城与帝尧对话，复述许由之言",{"$f":"IF(E212=\"\",\"\",B212+1)","v":""},{"$nulls":5},100,{"$f":"IF(J212=\"\",\"\",VLOOKUP(J212,EventNPC!A:E,5,FALSE))","v":"玩家"},{"$f":"IF(M212=\"\",\"\",IF(P212=1,MAX(D212,B212)+1,MAX(B211,L211,D211,X211,AA211)+1))","v":2256},"前辈，晚辈已往访许由，将事情告知他。",null,{"$f":"IF(O211=\"\",O210+1,O211)","v":10017},{"$f":"IF(O212=O211,P211+1,1)","v":1},{"$f":"_xlfn.TEXTJOIN(\";\",1,R212:S212)","v":""},null,null,{"$f":"IF(R212=\"\",\"\",\"-\"&VLOOKUP(R212,EventConditionConfig!A:C,3,FALSE)&IF(S212=\"\",\"\",CHAR(10)&\"-\"&VLOOKUP(S212,EventConditionConfig!A:C,3,FALSE)))","v":""},{"$f":"IF(Y212=\"\",\"\",1)","v":""},{"$f":"IF(U212=1,A213,\"\")","v":""},{"$f":"_xlfn.TEXTJOIN(\";\",1,X212,AA212)","v":""},{"$f":"IF(Y212=\"\",\"\",L212+1)","v":""},null,null,{"$f":"IF(AB212=\"\",\"\",X212+1)","v":""},{"$nulls":4},{"$f":"IF(A212=\"\",\"\",IF(U212=1,\"\",IF(A213=\"\",3,1)))","v":1},{"$f":"IF(AF212=1,A213,IF(AF212=3,LEFT(A212,5)+1,\"\"))","v":1001702},null,2256]
[{"$f":"O213*100+P213","v":1001702},2255,"回尧城与帝尧对话，复述许由之言",{"$f":"IF(E213=\"\",\"\",B213+1)","v":""},{"$nulls":5},105,{"$f":"IF(J213=\"\",\"\",VLOOKUP(J213,EventNPC!A:E,5,FALSE))","v":"尧帝"},{"$f":"IF(M213=\"\",\"\",IF(P213=1,MAX(D213,B213)+1,MAX(B212,L212,D212,X212,AA212)+1))","v":2257},"他如何说？",null,10017,{"$f":"IF(O213=O212,P212+1,1)","v":2},{"$f":"_xlfn.TEXTJOIN(\";\",1,R213:S213)","v":""},null,null,{"$f":"IF(R213=\"\",\"\",\"-\"&VLOOKUP(R213,EventConditionConfig!A:C,3,FALSE)&IF(S213=\"\",\"\",CHAR(10)&\"-\"&VLOOKUP(S213,EventConditionConfig!A:C,3,FALSE)))","v":""},"","","","",null,null,"",{"$nulls":4},{"$f":"IF(A213=\"\",\"\",IF(U213=1,\"\",IF(A214=\"\",3,1)))","v":1},{"$f":"IF(AF213=1,A214,IF(AF213=3,LEFT(A213,5)+1,\"\"))","v":1001703},null,2257]
[{"$f":"O214*100+P214","v":1001703},2255,"回尧城与帝尧对话，复述许由之言",{"$f":"IF(E214=\"\",\"\",B214+1)","v":""},{"$nulls":5},100,{"$f":"IF(J214=\"\",\"\",VLOOKUP(J214,EventNPC!A:E,5,FALSE))","v":"玩家"},{"$f":"IF(M214=\"\",\"\",IF(P214=1,MAX(D214,B214)+1,MAX(B213,L213,D213,X213,AA213)+1))","v":2258},"许由不愿出山，让我转告您一句话。\n“道不碍政，心自碍道。”\n若心不净，纵避千山万水，又有何用。”",null,10017,{"$f":"IF(O214=O213,P213+1,1)","v":3},{"$f":"_xlfn.TEXTJOIN(\";\",1,R214:S214)","v":""},null,null,{"$f":"IF(R214=\"\",\"\",\"-\"&VLOOKUP(R214,EventConditionConfig!A:C,3,FALSE)&IF(S214=\"\",\"\",CHAR(10)&\"-\"&VLOOKUP(S214,EventConditionConfig!A:C,3,FALSE)))","v":""},"","","","",null,null,"",{"$nulls":4},{"$f":"IF(A214=\"\",\"\",IF(U214=1,\"\",IF(A215=\"\",3,1)))","v":1},{"$f":"IF(AF214=1,A215,IF(AF214=3,LEFT(A214,5)+1,\"\"))","v":1001704},null,2258]
[1001704,2255,"回尧城与帝尧对话，复述许由之言",{"$f":"IF(E215=\"\",\"\",B215+1)","v":""},{"$nulls":5},105,{"$f":"IF(J215=\"\",\"\",VLOOKUP(J215,EventNPC!A:E,5,FALSE))","v":"尧帝"},{"$f":"IF(M215=\"\",\"\",IF(P215=1,MAX(D215,B215)+1,MAX(B214,L214,D214,X214,AA214)+1))","v":2259},"（帝尧沉默，良久，轻轻点头）他还是那副模样……不肯出山。",null,10017,{"$f":"IF(O215=O214,P214+1,1)","v":4},{"$f":"_xlfn.TEXTJOIN(\";\",1,R215:S215)","v":""},null,null,{"$f":"IF(R215=\"\",\"\",\"-\"&VLOOKUP(R215,EventConditionConfig!A:C,3,FALSE)&IF(S215=\"\",\"\",CHAR(10)&\"-\"&VLOOKUP(S215,EventConditionConfig!A:C,3,FALSE)))","v":""},"","","","",null,null,"",{"$nulls":4},{"$f":"IF(A215=\"\",\"\",IF(U215=1,\"\",IF(A216=\"\",3,1)))","v":1},{"$f":"IF(AF215=1,A216,IF(AF215=3,LEFT(A215,5)+1,\"\"))","v":1001705},null,2259]
[1001705,2255,"回尧城与帝尧对话，复述许由之言",{"$f":"IF(E216=\"\",\"\",B216+1)","v":""},{"$nulls":5},105,{"$f":"IF(J216=\"\",\"\",VLOOKUP(J216,EventNPC!A:E,5,FALSE))","v":"尧帝"},{"$f":"IF(M216=\"\",\"\",IF(P216=1,MAX(D216,B216)+1,MAX(B215,L215,D215,X215,AA215)+1))","v":2260},"（抬眼望你）不过，他说得也有几分道理。",null,10017,{"$f":"IF(O216=O215,P215+1,1)","v":5},{"$f":"_xlfn.TEXTJOIN(\";\",1,R216:S216)","v":""},null,null,{"$f":"IF(R216=\"\",\"\",\"-\"&VLOOKUP(R216,EventConditionConfig!A:C,3,FALSE)&IF(S216=\"\",\"\",CHAR(10)&\"-\"&VLOOKUP(S216,EventConditionConfig!A:C,3,FALSE)))","v":""},"","","","",null,null,"",{"$nulls":4},{"$f":"IF(A216=\"\",\"\",IF(U216=1,\"\",IF(A217=\"\",3,1)))","v":1},{"$f":"IF(AF216=1,A217,IF(AF216=3,LEFT(A216,5)+1,\"\"))","v":1001706},null,2260]
[1001706,2255,"回尧城与帝尧对话，复述许由之言",{"$f":"IF(E217=\"\",\"\",B217+1)","v":""},{"$nulls":5},105,{"$f":"IF(J217=\"\",\"\",VLOOKUP(J217,EventNPC!A:E,5,FALSE))","v":"尧帝"},{"$f":"IF(M217=\"\",\"\",IF(P217=1,MAX(D217,B217)+1,MAX(B216,L216,D216,X216,AA216)+1))","v":2261},"我以为，是天下扰我修行，难道是我自己扰了自己？我再想想吧。（轻叹）",null,10017,{"$f":"IF(O217=O216,P216+1,1)","v":6},{"$f":"_xlfn.TEXTJOIN(\";\",1,R217:S217)","v":""},null,null,{"$f":"IF(R217=\"\",\"\",\"-\"&VLOOKUP(R217,EventConditionConfig!A:C,3,FALSE)&IF(S217=\"\",\"\",CHAR(10)&\"-\"&VLOOKUP(S217,EventConditionConfig!A:C,3,FALSE)))","v":""},"","","","",null,null,"",{"$nulls":4},{"$f":"IF(A217=\"\",\"\",IF(U217=1,\"\",IF(A218=\"\",3,1)))","v":1},{"$f":"IF(AF217=1,A218,IF(AF217=3,LEFT(A217,5)+1,\"\"))","v":1001707},null,2261]
[1001707,2255,"回尧城与帝尧对话，复述许由之言",{"$f":"IF(E218=\"\",\"\",B218+1)","v":""},{"$nulls":5},105,{"$f":"IF(J218=\"\",\"\",VLOOKUP(J218,EventNPC!A:E,5,FALSE))","v":"尧帝"},{"$f":"IF(M218=\"\",\"\",IF(P218=1,MAX(D218,B218)+1,MAX(B217,L217,D217,X217,AA217)+1))","v":2262},"小友，辛苦你这一趟。",null,10017,{"$f":"IF(O218=O217,P217+1,1)","v":7},{"$f":"_xlfn.TEXTJOIN(\";\",1,R218:S218)","v":""},null,null,{"$f":"IF(R218=\"\",\"\",\"-\"&VLOOKUP(R218,EventConditionConfig!A:C,3,FALSE)&IF(S218=\"\",\"\",CHAR(10)&\"-\"&VLOOKUP(S218,EventConditionConfig!A:C,3,FALSE)))","v":""},"","","","",null,null,"",{"$nulls":4},{"$f":"IF(A218=\"\",\"\",IF(U218=1,\"\",IF(A219=\"\",3,1)))","v":1},{"$f":"IF(AF218=1,A219,IF(AF218=3,LEFT(A218,5)+1,\"\"))","v":1001708},null,2262]
[1001708,2255,"回尧城与帝尧对话，复述许由之言",{"$f":"IF(E219=\"\",\"\",B219+1)","v":""},{"$nulls":5},105,{"$f":"IF(J219=\"\",\"\",VLOOKUP(J219,EventNPC!A:E,5,FALSE))","v":"尧帝"},{"$f":"IF(M219=\"\",\"\",IF(P219=1,MAX(D219,B219)+1,MAX(B218,L218,D218,X218,AA218)+1))","v":2263},"你让我想起，我当年初修时，也常在山野之间，与人论道、与妖兽斗法……",null,10017,{"$f":"IF(O219=O218,P218+1,1)","v":8},{"$f":"_xlfn.TEXTJOIN(\";\",1,R219:S219)","v":""},null,null,{"$f":"IF(R219=\"\",\"\",\"-\"&VLOOKUP(R219,EventConditionConfig!A:C,3,FALSE)&IF(S219=\"\",\"\",CHAR(10)&\"-\"&VLOOKUP(S219,EventConditionConfig!A:C,3,FALSE)))","v":""},"","","","",null,null,"",{"$nulls":4},{"$f":"IF(A219=\"\",\"\",IF(U219=1,\"\",IF(A220=\"\",3,1)))","v":1},{"$f":"IF(AF219=1,A220,IF(AF219=3,LEFT(A219,5)+1,\"\"))","v":1001709},null,2263]
[1001709,2255,"回尧城与帝尧对话，复述许由之言",{"$f":"IF(E220=\"\",\"\",B220+1)","v":""},{"$nulls":5},105,{"$f":"IF(J220=\"\",\"\",VLOOKUP(J220,EventNPC!A:E,5,FALSE))","v":"尧帝"},{"$f":"IF(M220=\"\",\"\",IF(P220=1,MAX(D220,B220)+1,MAX(B219,L219,D219,X219,AA219)+1))","v":2264},"（转身，望向殿后灵山）我这里灵气充沛，古迹亦多，不妨在此逗留几日，四处看看。",null,10017,{"$f":"IF(O220=O219,P219+1,1)","v":9},{"$f":"_xlfn.TEXTJOIN(\";\",1,R220:S220)","v":""},null,null,{"$f":"IF(R220=\"\",\"\",\"-\"&VLOOKUP(R220,EventConditionConfig!A:C,3,FALSE)&IF(S220=\"\",\"\",CHAR(10)&\"-\"&VLOOKUP(S220,EventConditionConfig!A:C,3,FALSE)))","v":""},"","","","",null,null,"",{"$nulls":4},{"$f":"IF(A220=\"\",\"\",IF(U220=1,\"\",IF(A221=\"\",3,1)))","v":1},{"$f":"IF(AF220=1,A221,IF(AF220=3,LEFT(A220,5)+1,\"\"))","v":1001710},null,2264]
[1001710,2255,"回尧城与帝尧对话，复述许由之言",{"$f":"IF(E221=\"\",\"\",B221+1)","v":""},{"$nulls":5},105,{"$f":"IF(J221=\"\",\"\",VLOOKUP(J221,EventNPC!A:E,5,FALSE))","v":"尧帝"},{"$f":"IF(M221=\"\",\"\",IF(P221=1,MAX(D221,B221)+1,MAX(B220,L220,D220,X220,AA220)+1))","v":2265},"或许这也是冲虚真人引你来的真正用意。",null,10017,{"$f":"IF(O221=O220,P220+1,1)","v":10},{"$f":"_xlfn.TEXTJOIN(\";\",1,R221:S221)","v":""},null,null,{"$f":"IF(R221=\"\",\"\",\"-\"&VLOOKUP(R221,EventConditionConfig!A:C,3,FALSE)&IF(S221=\"\",\"\",CHAR(10)&\"-\"&VLOOKUP(S221,EventConditionConfig!A:C,3,FALSE)))","v":""},"","","","",null,null,"",{"$nulls":4},{"$f":"IF(A221=\"\",\"\",IF(U221=1,\"\",IF(A222=\"\",3,1)))","v":3},{"$f":"IF(AF221=1,A222,IF(AF221=3,LEFT(A221,5)+1,\"\"))","v":10018},null,2265]
[{"$nulls":34},""]
[{"$f":"O223*100+P223","v":1001801},{"$f":"IF(B222=\"\",MAX(AA221,X221,L221,B221,D221,AA220,X220,L220)+1,B222)","v":2266},"和村民对话",{"$f":"IF(E223=\"\",\"\",B223+1)","v":""},{"$nulls":5},107,{"$f":"IF(J223=\"\",\"\",VLOOKUP(J223,EventNPC!A:E,5,FALSE))","v":"村名甲"},{"$f":"IF(M223=\"\",\"\",IF(P223=1,MAX(D223,B223)+1,MAX(B222,L222,D222,X222,AA222)+1))","v":2267},"（抬头看树）啧，这棵老怪树，又矮又歪，枝杈乱伸，挡着田，碍着路。",null,{"$f":"IF(O222=\"\",O221+1,O222)","v":10018},{"$f":"IF(O223=O222,P222+1,1)","v":1},{"$f":"_xlfn.TEXTJOIN(\";\",1,R223:S223)","v":""},null,null,{"$f":"IF(R223=\"\",\"\",\"-\"&VLOOKUP(R223,EventConditionConfig!A:C,3,FALSE)&IF(S223=\"\",\"\",CHAR(10)&\"-\"&VLOOKUP(S223,EventConditionConfig!A:C,3,FALSE)))","v":""},{"$f":"IF(Y223=\"\",\"\",1)","v":""},{"$f":"IF(U223=1,A224,\"\")","v":""},{"$f":"_xlfn.TEXTJOIN(\";\",1,X223,AA223)","v":""},{"$f":"IF(Y223=\"\",\"\",L223+1)","v":""},null,null,{"$f":"IF(AB223=\"\",\"\",X223+1)","v":""},{"$nulls":4},{"$f":"IF(A223=\"\",\"\",IF(U223=1,\"\",IF(A224=\"\",3,1)))","v":1},{"$f":"IF(AF223=1,A224,IF(AF223=3,LEFT(A223,5)+1,\"\"))","v":1001802},null,2267]
[1001802,2266,"和村民对话",{"$f":"IF(E224=\"\",\"\",B224+1)","v":""},{"$nulls":5},108,{"$f":"IF(J224=\"\",\"\",VLOOKUP(J224,EventNPC!A:E,5,FALSE))","v":"村名乙"},{"$f":"IF(M224=\"\",\"\",IF(P224=1,MAX(D224,B224)+1,MAX(B223,L223,D223,X223,AA223)+1))","v":2268},"（叹气）啊，对对对。\n长得歪七扭八的，根还凸出土，差点把我家牛绊了。",null,10018,{"$f":"IF(O224=O223,P223+1,1)","v":2},{"$f":"_xlfn.TEXTJOIN(\";\",1,R224:S224)","v":""},null,null,{"$f":"IF(R224=\"\",\"\",\"-\"&VLOOKUP(R224,EventConditionConfig!A:C,3,FALSE)&IF(S224=\"\",\"\",CHAR(10)&\"-\"&VLOOKUP(S224,EventConditionConfig!A:C,3,FALSE)))","v":""},"","","","",null,null,"",{"$nulls":4},{"$f":"IF(A224=\"\",\"\",IF(U224=1,\"\",IF(A225=\"\",3,1)))","v":1},{"$f":"IF(AF224=1,A225,IF(AF224=3,LEFT(A224,5)+1,\"\"))","v":1001803},null,2268]
[1001803,2266,"和村民对话",{"$f":"IF(E225=\"\",\"\",B225+1)","v":""},{"$nulls":5},109,{"$f":"IF(J225=\"\",\"\",VLOOKUP(J225,EventNPC!A:E,5,FALSE))","v":"村名丙"},{"$f":"IF(M225=\"\",\"\",IF(P225=1,MAX(D225,B225)+1,MAX(B224,L224,D224,X224,AA224)+1))","v":2269},"对对对，要是没有这棵树就好了，空占这么大块好地。",null,10018,{"$f":"IF(O225=O224,P224+1,1)","v":3},{"$f":"_xlfn.TEXTJOIN(\";\",1,R225:S225)","v":""},null,null,{"$f":"IF(R225=\"\",\"\",\"-\"&VLOOKUP(R225,EventConditionConfig!A:C,3,FALSE)&IF(S225=\"\",\"\",CHAR(10)&\"-\"&VLOOKUP(S225,EventConditionConfig!A:C,3,FALSE)))","v":""},"","","","",null,null,"",{"$nulls":4},{"$f":"IF(A225=\"\",\"\",IF(U225=1,\"\",IF(A226=\"\",3,1)))","v":1},{"$f":"IF(AF225=1,A226,IF(AF225=3,LEFT(A225,5)+1,\"\"))","v":1001804},null,2269]
[1001804,2266,"和村民对话","",{"$nulls":5},107,{"$f":"IF(J226=\"\",\"\",VLOOKUP(J226,EventNPC!A:E,5,FALSE))","v":"村名甲"},2270,"这树是真没用，连个树荫都没，晴天底下站着热，雨天底下水多。",null,10018,4,"",null,null,{"$f":"IF(R226=\"\",\"\",\"-\"&VLOOKUP(R226,EventConditionConfig!A:C,3,FALSE)&IF(S226=\"\",\"\",CHAR(10)&\"-\"&VLOOKUP(S226,EventConditionConfig!A:C,3,FALSE)))","v":""},"","","","",null,null,"",{"$nulls":4},1,1001805,null,2270]
[1001805,2266,"和村民对话","",{"$nulls":5},108,{"$f":"IF(J227=\"\",\"\",VLOOKUP(J227,EventNPC!A:E,5,FALSE))","v":"村名乙"},2271,"就是啊，想在树下歇个脚都不行。",null,10018,5,"",null,null,{"$f":"IF(R227=\"\",\"\",\"-\"&VLOOKUP(R227,EventConditionConfig!A:C,3,FALSE)&IF(S227=\"\",\"\",CHAR(10)&\"-\"&VLOOKUP(S227,EventConditionConfig!A:C,3,FALSE)))","v":""},1,1001806,"2272",2272,"（环顾左右）是吗，我就不信，这棵树没有用…",null,"",{"$nulls":4},"","",null,2272]
[1001806,2266,"和村民对话",{"$f":"IF(E228=\"\",\"\",B228+1)","v":""},{"$nulls":5},109,{"$f":"IF(J228=\"\",\"\",VLOOKUP(J228,EventNPC!A:E,5,FALSE))","v":"村名丙"},{"$f":"IF(M228=\"\",\"\",IF(P228=1,MAX(D228,B228)+1,MAX(B227,L227,D227,X227,AA227)+1))","v":2273},"这位仙长，那你说说看，这树能干什么？",null,10018,{"$f":"IF(O228=O227,P227+1,1)","v":6},{"$f":"_xlfn.TEXTJOIN(\";\",1,R228:S228)","v":""},null,null,{"$f":"IF(R228=\"\",\"\",\"-\"&VLOOKUP(R228,EventConditionConfig!A:C,3,FALSE)&IF(S228=\"\",\"\",CHAR(10)&\"-\"&VLOOKUP(S228,EventConditionConfig!A:C,3,FALSE)))","v":""},1,1001807,"2274",2274,"劈了当柴烧。",null,"",{"$nulls":4},{"$f":"IF(A228=\"\",\"\",IF(U228=1,\"\",IF(A229=\"\",3,1)))","v":""},{"$f":"IF(AF228=1,A229,IF(AF228=3,LEFT(A228,5)+1,\"\"))","v":""},null,2274]
[1001807,2266,"和村民对话","",{"$nulls":5},107,{"$f":"IF(J229=\"\",\"\",VLOOKUP(J229,EventNPC!A:E,5,FALSE))","v":"村名甲"},2275,"这位仙长，你有所不知，这树又大又硬，根本没法劈。",null,10018,7,"",null,null,{"$f":"IF(R229=\"\",\"\",\"-\"&VLOOKUP(R229,EventConditionConfig!A:C,3,FALSE)&IF(S229=\"\",\"\",CHAR(10)&\"-\"&VLOOKUP(S229,EventConditionConfig!A:C,3,FALSE)))","v":""},1,1001808,"2276",2276,"劈了做家具。",null,"",{"$nulls":4},"","",null,2276]
[1001808,2266,"和村民对话","",{"$nulls":5},108,{"$f":"IF(J230=\"\",\"\",VLOOKUP(J230,EventNPC!A:E,5,FALSE))","v":"村名乙"},2277,"我就是匠人，这树一看就不中用。",null,10018,8,"",null,null,{"$f":"IF(R230=\"\",\"\",\"-\"&VLOOKUP(R230,EventConditionConfig!A:C,3,FALSE)&IF(S230=\"\",\"\",CHAR(10)&\"-\"&VLOOKUP(S230,EventConditionConfig!A:C,3,FALSE)))","v":""},"","","","",null,null,"",{"$nulls":4},1,1001809,null,2277]
[1001809,2266,"和村民对话",{"$f":"IF(E231=\"\",\"\",B231+1)","v":""},{"$nulls":5},108,{"$f":"IF(J231=\"\",\"\",VLOOKUP(J231,EventNPC!A:E,5,FALSE))","v":"村名乙"},{"$f":"IF(M231=\"\",\"\",IF(P231=1,MAX(D231,B231)+1,MAX(B230,L230,D230,X230,AA230)+1))","v":2278},"锯下来的木头，绳墨拉不直，做不了梁柱，做不了门板，更别说其他家具了。",null,10018,{"$f":"IF(O231=O230,P230+1,1)","v":9},{"$f":"_xlfn.TEXTJOIN(\";\",1,R231:S231)","v":""},null,null,{"$f":"IF(R231=\"\",\"\",\"-\"&VLOOKUP(R231,EventConditionConfig!A:C,3,FALSE)&IF(S231=\"\",\"\",CHAR(10)&\"-\"&VLOOKUP(S231,EventConditionConfig!A:C,3,FALSE)))","v":""},"","","","",null,null,"",{"$nulls":4},{"$f":"IF(A231=\"\",\"\",IF(U231=1,\"\",IF(A232=\"\",3,1)))","v":1},{"$f":"IF(AF231=1,A232,IF(AF231=3,LEFT(A231,5)+1,\"\"))","v":1001810},null,2278]
[1001810,2266,"和村民对话","",{"$nulls":5},109,{"$f":"IF(J232=\"\",\"\",VLOOKUP(J232,EventNPC!A:E,5,FALSE))","v":"村名丙"},2279,"没错，我是木匠，此树木质发涩发腥，连漆都涂不上，当真无用。",null,10018,10,"",null,null,{"$f":"IF(R232=\"\",\"\",\"-\"&VLOOKUP(R232,EventConditionConfig!A:C,3,FALSE)&IF(S232=\"\",\"\",CHAR(10)&\"-\"&VLOOKUP(S232,EventConditionConfig!A:C,3,FALSE)))","v":""},"","","","",null,null,"",{"$nulls":4},1,1001811,null,2279]
[1001811,2266,"和村民对话",{"$f":"IF(E233=\"\",\"\",B233+1)","v":""},{"$nulls":5},100,{"$f":"IF(J233=\"\",\"\",VLOOKUP(J233,EventNPC!A:E,5,FALSE))","v":"玩家"},{"$f":"IF(M233=\"\",\"\",IF(P233=1,MAX(D233,B233)+1,MAX(B232,L232,D232,X232,AA232)+1))","v":2280},"此树如此之大，真的毫无用处吗？\n此树看起来有数千年了。",null,10018,{"$f":"IF(O233=O232,P232+1,1)","v":11},{"$f":"_xlfn.TEXTJOIN(\";\",1,R233:S233)","v":""},null,null,{"$f":"IF(R233=\"\",\"\",\"-\"&VLOOKUP(R233,EventConditionConfig!A:C,3,FALSE)&IF(S233=\"\",\"\",CHAR(10)&\"-\"&VLOOKUP(S233,EventConditionConfig!A:C,3,FALSE)))","v":""},"","","","",null,null,"",{"$nulls":4},{"$f":"IF(A233=\"\",\"\",IF(U233=1,\"\",IF(A234=\"\",3,1)))","v":1},{"$f":"IF(AF233=1,A234,IF(AF233=3,LEFT(A233,5)+1,\"\"))","v":1001812},null,2280]
[1001812,2266,"和村民对话",{"$f":"IF(E234=\"\",\"\",B234+1)","v":""},{"$nulls":5},100,{"$f":"IF(J234=\"\",\"\",VLOOKUP(J234,EventNPC!A:E,5,FALSE))","v":"玩家"},{"$f":"IF(M234=\"\",\"\",IF(P234=1,MAX(D234,B234)+1,MAX(B233,L233,D233,X233,AA233)+1))","v":2281},"（见村民纷纷离开了，你靠近大树）",null,10018,{"$f":"IF(O234=O233,P233+1,1)","v":12},{"$f":"_xlfn.TEXTJOIN(\";\",1,R234:S234)","v":""},null,null,{"$f":"IF(R234=\"\",\"\",\"-\"&VLOOKUP(R234,EventConditionConfig!A:C,3,FALSE)&IF(S234=\"\",\"\",CHAR(10)&\"-\"&VLOOKUP(S234,EventConditionConfig!A:C,3,FALSE)))","v":""},"","","","",null,null,"",{"$nulls":4},{"$f":"IF(A234=\"\",\"\",IF(U234=1,\"\",IF(A235=\"\",3,1)))","v":1},{"$f":"IF(AF234=1,A235,IF(AF234=3,LEFT(A234,5)+1,\"\"))","v":1001813},null,2281]
[1001813,2266,"和村民对话",{"$f":"IF(E235=\"\",\"\",B235+1)","v":""},{"$nulls":5},110,{"$f":"IF(J235=\"\",\"\",VLOOKUP(J235,EventNPC!A:E,5,FALSE))","v":"樗木之灵"},{"$f":"IF(M235=\"\",\"\",IF(P235=1,MAX(D235,B235)+1,MAX(B234,L234,D234,X234,AA234)+1))","v":2282},"（低沉悠远的声音）我是樗。\n世人见我歪斜，粗大，笑我无用……",null,10018,{"$f":"IF(O235=O234,P234+1,1)","v":13},{"$f":"_xlfn.TEXTJOIN(\";\",1,R235:S235)","v":""},null,null,{"$f":"IF(R235=\"\",\"\",\"-\"&VLOOKUP(R235,EventConditionConfig!A:C,3,FALSE)&IF(S235=\"\",\"\",CHAR(10)&\"-\"&VLOOKUP(S235,EventConditionConfig!A:C,3,FALSE)))","v":""},"","","","",null,null,"",{"$nulls":4},{"$f":"IF(A235=\"\",\"\",IF(U235=1,\"\",IF(A236=\"\",3,1)))","v":1},{"$f":"IF(AF235=1,A236,IF(AF235=3,LEFT(A235,5)+1,\"\"))","v":1001814},null,2282]
[1001814,2266,"和村民对话",{"$f":"IF(E236=\"\",\"\",B236+1)","v":""},{"$nulls":5},110,{"$f":"IF(J236=\"\",\"\",VLOOKUP(J236,EventNPC!A:E,5,FALSE))","v":"樗木之灵"},{"$f":"IF(M236=\"\",\"\",IF(P236=1,MAX(D236,B236)+1,MAX(B235,L235,D235,X235,AA235)+1))","v":2283},"可他们不知，正是这‘无用’，让我活过三千年。",null,10018,{"$f":"IF(O236=O235,P235+1,1)","v":14},{"$f":"_xlfn.TEXTJOIN(\";\",1,R236:S236)","v":""},null,null,{"$f":"IF(R236=\"\",\"\",\"-\"&VLOOKUP(R236,EventConditionConfig!A:C,3,FALSE)&IF(S236=\"\",\"\",CHAR(10)&\"-\"&VLOOKUP(S236,EventConditionConfig!A:C,3,FALSE)))","v":""},1,1001815,"2284",2284,"那你可曾遗憾？毕竟无人欣赏你。",null,"",{"$nulls":4},{"$f":"IF(A236=\"\",\"\",IF(U236=1,\"\",IF(A237=\"\",3,1)))","v":""},{"$f":"IF(AF236=1,A237,IF(AF236=3,LEFT(A236,5)+1,\"\"))","v":""},null,2284]
[1001815,2266,"和村民对话","",{"$nulls":5},110,{"$f":"IF(J237=\"\",\"\",VLOOKUP(J237,EventNPC!A:E,5,FALSE))","v":"樗木之灵"},2285,"（枝叶轻摇）欣赏？那些笔直的楠木，被伐去做梁柱，不过百年；",null,10018,15,"",null,null,{"$f":"IF(R237=\"\",\"\",\"-\"&VLOOKUP(R237,EventConditionConfig!A:C,3,FALSE)&IF(S237=\"\",\"\",CHAR(10)&\"-\"&VLOOKUP(S237,EventConditionConfig!A:C,3,FALSE)))","v":""},"","","","",null,null,"",{"$nulls":4},1,1001816,null,2285]
[1001816,2266,"和村民对话",{"$f":"IF(E238=\"\",\"\",B238+1)","v":""},{"$nulls":5},110,{"$f":"IF(J238=\"\",\"\",VLOOKUP(J238,EventNPC!A:E,5,FALSE))","v":"樗木之灵"},{"$f":"IF(M238=\"\",\"\",IF(P238=1,MAX(D238,B238)+1,MAX(B237,L237,D237,X237,AA237)+1))","v":2286},"那些秀美的花树，被移栽进庭院，也不过百年。",null,10018,{"$f":"IF(O238=O237,P237+1,1)","v":16},{"$f":"_xlfn.TEXTJOIN(\";\",1,R238:S238)","v":""},null,null,{"$f":"IF(R238=\"\",\"\",\"-\"&VLOOKUP(R238,EventConditionConfig!A:C,3,FALSE)&IF(S238=\"\",\"\",CHAR(10)&\"-\"&VLOOKUP(S238,EventConditionConfig!A:C,3,FALSE)))","v":""},"","","","",null,null,"",{"$nulls":4},{"$f":"IF(A238=\"\",\"\",IF(U238=1,\"\",IF(A239=\"\",3,1)))","v":1},{"$f":"IF(AF238=1,A239,IF(AF238=3,LEFT(A238,5)+1,\"\"))","v":1001817},null,2286]
[1001817,2266,"和村民对话",{"$f":"IF(E239=\"\",\"\",B239+1)","v":""},{"$nulls":5},110,{"$f":"IF(J239=\"\",\"\",VLOOKUP(J239,EventNPC!A:E,5,FALSE))","v":"樗木之灵"},{"$f":"IF(M239=\"\",\"\",IF(P239=1,MAX(D239,B239)+1,MAX(B238,L238,D238,X238,AA238)+1))","v":2287},"而我，仍在此处，看春去秋来，听风过林梢，不亦乐乎？",null,10018,{"$f":"IF(O239=O238,P238+1,1)","v":17},{"$f":"_xlfn.TEXTJOIN(\";\",1,R239:S239)","v":""},null,null,{"$f":"IF(R239=\"\",\"\",\"-\"&VLOOKUP(R239,EventConditionConfig!A:C,3,FALSE)&IF(S239=\"\",\"\",CHAR(10)&\"-\"&VLOOKUP(S239,EventConditionConfig!A:C,3,FALSE)))","v":""},1,1001818,"2288",2288,"可你终究只是一棵树，不能动，不能说话",null,"",{"$nulls":4},{"$f":"IF(A239=\"\",\"\",IF(U239=1,\"\",IF(A240=\"\",3,1)))","v":""},{"$f":"IF(AF239=1,A240,IF(AF239=3,LEFT(A239,5)+1,\"\"))","v":""},null,2288]
[1001818,2266,"和村民对话","",{"$nulls":5},110,{"$f":"IF(J240=\"\",\"\",VLOOKUP(J240,EventNPC!A:E,5,FALSE))","v":"樗木之灵"},2289,"（树皮浮现苍老面容）动？说话？\n数千年过去，我早已有灵智，可以说话。",null,10018,18,"",null,null,{"$f":"IF(R240=\"\",\"\",\"-\"&VLOOKUP(R240,EventConditionConfig!A:C,3,FALSE)&IF(S240=\"\",\"\",CHAR(10)&\"-\"&VLOOKUP(S240,EventConditionConfig!A:C,3,FALSE)))","v":""},"","","","",null,null,"",{"$nulls":4},1,1001819,null,2289]
[1001819,2266,"和村民对话",{"$f":"IF(E241=\"\",\"\",B241+1)","v":""},{"$nulls":5},110,{"$f":"IF(J241=\"\",\"\",VLOOKUP(J241,EventNPC!A:E,5,FALSE))","v":"樗木之灵"},{"$f":"IF(M241=\"\",\"\",IF(P241=1,MAX(D241,B241)+1,MAX(B240,L240,D240,X240,AA240)+1))","v":2290},"不过我确实好久没动过了，小友，今日与你有缘，不如陪我动一动。",null,10018,{"$f":"IF(O241=O240,P240+1,1)","v":19},{"$f":"_xlfn.TEXTJOIN(\";\",1,R241:S241)","v":""},null,null,{"$f":"IF(R241=\"\",\"\",\"-\"&VLOOKUP(R241,EventConditionConfig!A:C,3,FALSE)&IF(S241=\"\",\"\",CHAR(10)&\"-\"&VLOOKUP(S241,EventConditionConfig!A:C,3,FALSE)))","v":""},1,1001820,"2291",2291,"不好...这是要找我打架..",null,"",{"$nulls":4},{"$f":"IF(A241=\"\",\"\",IF(U241=1,\"\",IF(A242=\"\",3,1)))","v":""},{"$f":"IF(AF241=1,A242,IF(AF241=3,LEFT(A241,5)+1,\"\"))","v":""},null,2291]
[1001820,2266,"和村民对话","",{"$nulls":6},{"$f":"IF(J242=\"\",\"\",VLOOKUP(J242,EventNPC!A:E,5,FALSE))","v":""},"",null,null,10018,20,"",null,null,{"$f":"IF(R242=\"\",\"\",\"-\"&VLOOKUP(R242,EventConditionConfig!A:C,3,FALSE)&IF(S242=\"\",\"\",CHAR(10)&\"-\"&VLOOKUP(S242,EventConditionConfig!A:C,3,FALSE)))","v":""},"","","","",null,null,"",{"$nulls":4},3,10019,null,2266]
[{"$nulls":34},""]
[{"$f":"O244*100+P244","v":1001901},{"$f":"IF(B243=\"\",MAX(AA242,X242,L242,B242,D242,AA241,X241,L241)+1,B243)","v":2292},"击败樗木之灵",{"$f":"IF(E244=\"\",\"\",B244+1)","v":2293},"击败樗木之灵",{"$nulls":5},{"$f":"IF(J244=\"\",\"\",VLOOKUP(J244,EventNPC!A:E,5,FALSE))","v":""},{"$f":"IF(M244=\"\",\"\",IF(P244=1,MAX(D244,B244)+1,MAX(B243,L243,D243,X243,AA243)+1))","v":""},null,null,{"$f":"IF(O243=\"\",O242+1,O243)","v":10019},{"$f":"IF(O244=O243,P243+1,1)","v":1},{"$f":"_xlfn.TEXTJOIN(\";\",1,R244:S244)","v":""},null,null,{"$f":"IF(R244=\"\",\"\",\"-\"&VLOOKUP(R244,EventConditionConfig!A:C,3,FALSE)&IF(S244=\"\",\"\",CHAR(10)&\"-\"&VLOOKUP(S244,EventConditionConfig!A:C,3,FALSE)))","v":""},2,100004,{"$f":"_xlfn.TEXTJOIN(\";\",1,X244,AA244)","v":""},{"$f":"IF(Y244=\"\",\"\",L244+1)","v":""},null,null,{"$f":"IF(AB244=\"\",\"\",X244+1)","v":""},{"$nulls":4},{"$f":"IF(U244=2,2,IF(A244=\"\",\"\",IF(U244=1,\"\",IF(A245=\"\",3,1))))","v":2},{"$f":"IF(AF244=2,A245&\";101\",IF(AF244=1,A245,IF(AF244=3,LEFT(A244,5)+1,\"\")))","v":"1001902;101"},null,2293]
[{"$f":"O245*100+P245","v":1001902},{"$f":"IF(B244=\"\",MAX(AA243,X243,L243,B243,D243,AA242,X242,L242)+1,B244)","v":2292},"击败樗木之灵",2293,"击败樗木之灵",{"$nulls":5},{"$f":"IF(J245=\"\",\"\",VLOOKUP(J245,EventNPC!A:E,5,FALSE))","v":""},"",null,null,{"$f":"IF(O244=\"\",O243+1,O244)","v":10019},2,"",null,null,{"$f":"IF(R245=\"\",\"\",\"-\"&VLOOKUP(R245,EventConditionConfig!A:C,3,FALSE)&IF(S245=\"\",\"\",CHAR(10)&\"-\"&VLOOKUP(S245,EventConditionConfig!A:C,3,FALSE)))","v":""},{"$f":"IF(Y245=\"\",\"\",1)","v":""},{"$f":"IF(U245=1,A246,\"\")","v":""},{"$f":"_xlfn.TEXTJOIN(\";\",1,X245,AA245)","v":""},{"$f":"IF(Y245=\"\",\"\",L245+1)","v":""},null,null,{"$f":"IF(AB245=\"\",\"\",X245+1)","v":""},{"$nulls":4},{"$f":"IF(U245=2,2,IF(A245=\"\",\"\",IF(U245=1,\"\",IF(A246=\"\",3,1))))","v":3},{"$f":"IF(AF245=1,A246,IF(AF245=3,LEFT(A245,5)+1,\"\"))","v":10020},null,2293]
[{"$nulls":34},""]
[{"$f":"O247*100+P247","v":1002001},{"$f":"IF(B246=\"\",MAX(AA245,X245,L245,B245,D245,AA244,X244,L244)+1,B246)","v":2294},"境界达到[金丹-前期]",{"$f":"IF(E247=\"\",\"\",B247+1)","v":""},{"$nulls":5},100,{"$f":"IF(J247=\"\",\"\",VLOOKUP(J247,EventNPC!A:E,5,FALSE))","v":"玩家"},{"$f":"IF(M247=\"\",\"\",IF(P247=1,MAX(D247,B247)+1,MAX(B246,L246,D246,X246,AA246)+1))","v":2295},"此处奇遇众多，灵气充裕，就留在此处修行，达到筑基巅峰吧。",null,{"$f":"IF(O246=\"\",O245+1,O246)","v":10020},{"$f":"IF(O247=O246,P246+1,1)","v":1},{"$f":"_xlfn.TEXTJOIN(\";\",1,R247:S247)","v":""},null,null,{"$f":"IF(R247=\"\",\"\",\"-\"&VLOOKUP(R247,EventConditionConfig!A:C,3,FALSE)&IF(S247=\"\",\"\",CHAR(10)&\"-\"&VLOOKUP(S247,EventConditionConfig!A:C,3,FALSE)))","v":""},{"$f":"IF(Y247=\"\",\"\",1)","v":""},{"$f":"IF(U247=1,A248,\"\")","v":""},{"$f":"_xlfn.TEXTJOIN(\";\",1,X247,AA247)","v":""},{"$f":"IF(Y247=\"\",\"\",L247+1)","v":""},null,null,{"$f":"IF(AB247=\"\",\"\",X247+1)","v":""},{"$nulls":4},{"$f":"IF(U247=2,2,IF(A247=\"\",\"\",IF(U247=1,\"\",IF(A248=\"\",3,1))))","v":1},{"$f":"IF(AF247=1,A248,IF(AF247=3,LEFT(A247,5)+1,\"\"))","v":1002002},null,2295]
[{"$f":"O248*100+P248","v":1002002},{"$f":"IF(B247=\"\",MAX(AA246,X246,L246,B246,D246,AA245,X245,L245)+1,B247)","v":2294},"境界达到[金丹-前期]",{"$f":"IF(E248=\"\",\"\",B248+1)","v":""},{"$nulls":5},100,{"$f":"IF(J248=\"\",\"\",VLOOKUP(J248,EventNPC!A:E,5,FALSE))","v":"玩家"},{"$f":"IF(M248=\"\",\"\",IF(P248=1,MAX(D248,B248)+1,MAX(B247,L247,D247,X247,AA247)+1))","v":2296},"此地果真是好地方，修为又有精进。",null,{"$f":"IF(O247=\"\",O246+1,O247)","v":10020},{"$f":"IF(O248=O247,P247+1,1)","v":2},{"$f":"_xlfn.TEXTJOIN(\";\",1,R248:S248)","v":"14"},14,null,{"$f":"IF(R248=\"\",\"\",\"-\"&VLOOKUP(R248,EventConditionConfig!A:C,3,FALSE)&IF(S248=\"\",\"\",CHAR(10)&\"-\"&VLOOKUP(S248,EventConditionConfig!A:C,3,FALSE)))","v":"-境界达到[金丹-前期]"},{"$f":"IF(Y248=\"\",\"\",1)","v":""},{"$f":"IF(U248=1,A249,\"\")","v":""},{"$f":"_xlfn.TEXTJOIN(\";\",1,X248,AA248)","v":""},{"$f":"IF(Y248=\"\",\"\",L248+1)","v":""},null,null,{"$f":"IF(AB248=\"\",\"\",X248+1)","v":""},{"$nulls":4},{"$f":"IF(U248=2,2,IF(A248=\"\",\"\",IF(U248=1,\"\",IF(A249=\"\",3,1))))","v":1},{"$f":"IF(AF248=1,A249,IF(AF248=3,LEFT(A248,5)+1,\"\"))","v":1002003},null,2296]
[{"$f":"O249*100+P249","v":1002003},{"$f":"IF(B248=\"\",MAX(AA247,X247,L247,B247,D247,AA246,X246,L246)+1,B248)","v":2294},"境界达到[金丹-前期]","",{"$nulls":5},100,{"$f":"IF(J249=\"\",\"\",VLOOKUP(J249,EventNPC!A:E,5,FALSE))","v":"玩家"},2297,"不过想要达到更高的境界，突破冲虚说的什么心境，还需继续修行。",null,{"$f":"IF(O248=\"\",O247+1,O248)","v":10020},3,"",null,null,{"$f":"IF(R249=\"\",\"\",\"-\"&VLOOKUP(R249,EventConditionConfig!A:C,3,FALSE)&IF(S249=\"\",\"\",CHAR(10)&\"-\"&VLOOKUP(S249,EventConditionConfig!A:C,3,FALSE)))","v":""},{"$f":"IF(Y249=\"\",\"\",1)","v":""},{"$f":"IF(U249=1,A250,\"\")","v":""},{"$f":"_xlfn.TEXTJOIN(\";\",1,X249,AA249)","v":""},{"$f":"IF(Y249=\"\",\"\",L249+1)","v":""},null,null,{"$f":"IF(AB249=\"\",\"\",X249+1)","v":""},{"$nulls":4},{"$f":"IF(U249=2,2,IF(A249=\"\",\"\",IF(U249=1,\"\",IF(A250=\"\",3,1))))","v":1},1002004,null,2297]
[{"$f":"O250*100+P250","v":1002004},{"$f":"IF(B249=\"\",MAX(AA248,X248,L248,B248,D248,AA247,X247,L247)+1,B249)","v":2294},"境界达到[金丹-前期]",{"$f":"IF(E250=\"\",\"\",B250+1)","v":""},{"$nulls":5},100,{"$f":"IF(J250=\"\",\"\",VLOOKUP(J250,EventNPC!A:E,5,FALSE))","v":"玩家"},{"$f":"IF(M250=\"\",\"\",IF(P250=1,MAX(D250,B250)+1,MAX(B249,L249,D249,X249,AA249)+1))","v":2298},"是时候离开了，去问问尧帝有何建议。",null,{"$f":"IF(O249=\"\",O248+1,O249)","v":10020},{"$f":"IF(O250=O249,P249+1,1)","v":4},{"$f":"_xlfn.TEXTJOIN(\";\",1,R250:S250)","v":""},null,null,{"$f":"IF(R250=\"\",\"\",\"-\"&VLOOKUP(R250,EventConditionConfig!A:C,3,FALSE)&IF(S250=\"\",\"\",CHAR(10)&\"-\"&VLOOKUP(S250,EventConditionConfig!A:C,3,FALSE)))","v":""},{"$f":"IF(Y250=\"\",\"\",1)","v":""},{"$f":"IF(U250=1,A251,\"\")","v":""},{"$f":"_xlfn.TEXTJOIN(\";\",1,X250,AA250)","v":""},{"$f":"IF(Y250=\"\",\"\",L250+1)","v":""},null,null,{"$f":"IF(AB250=\"\",\"\",X250+1)","v":""},{"$nulls":4},{"$f":"IF(U250=2,2,IF(A250=\"\",\"\",IF(U250=1,\"\",IF(A251=\"\",3,1))))","v":3},{"$f":"IF(AF250=1,A251,IF(AF250=3,LEFT(A250,5)+1,\"\"))","v":10021},null,2298]
[{"$nulls":34},""]
[{"$f":"O252*100+P252","v":1002101},{"$f":"IF(B251=\"\",MAX(AA250,X250,L250,B250,D250,AA249,X249,L249)+1,B251)","v":2299},"仙山传说",{"$f":"IF(E252=\"\",\"\",B252+1)","v":""},{"$nulls":5},105,{"$f":"IF(J252=\"\",\"\",VLOOKUP(J252,EventNPC!A:E,5,FALSE))","v":"尧帝"},{"$f":"IF(M252=\"\",\"\",IF(P252=1,MAX(D252,B252)+1,MAX(B251,L251,D251,X251,AA251)+1))","v":2300},"（高兴）小友，你来了。",null,{"$f":"IF(O251=\"\",O250+1,O251)","v":10021},{"$f":"IF(O252=O251,P251+1,1)","v":1},{"$f":"_xlfn.TEXTJOIN(\";\",1,R252:S252)","v":""},null,null,{"$f":"IF(R252=\"\",\"\",\"-\"&VLOOKUP(R252,EventConditionConfig!A:C,3,FALSE)&IF(S252=\"\",\"\",CHAR(10)&\"-\"&VLOOKUP(S252,EventConditionConfig!A:C,3,FALSE)))","v":""},{"$f":"IF(Y252=\"\",\"\",1)","v":""},{"$f":"IF(U252=1,A253,\"\")","v":""},{"$f":"_xlfn.TEXTJOIN(\";\",1,X252,AA252)","v":""},{"$f":"IF(Y252=\"\",\"\",L252+1)","v":""},null,null,{"$f":"IF(AB252=\"\",\"\",X252+1)","v":""},{"$nulls":4},{"$f":"IF(U252=2,2,IF(A252=\"\",\"\",IF(U252=1,\"\",IF(A253=\"\",3,1))))","v":1},{"$f":"IF(AF252=1,A253,IF(AF252=3,LEFT(A252,5)+1,\"\"))","v":1002102},null,2300]
[1002102,2299,"仙山传说",{"$f":"IF(E253=\"\",\"\",B253+1)","v":""},{"$nulls":5},105,{"$f":"IF(J253=\"\",\"\",VLOOKUP(J253,EventNPC!A:E,5,FALSE))","v":"尧帝"},{"$f":"IF(M253=\"\",\"\",IF(P253=1,MAX(D253,B253)+1,MAX(B252,L252,D252,X252,AA252)+1))","v":2301},"数月不见，你已入筑基巅峰，距离结丹，也是指日可待！",null,10021,{"$f":"IF(O253=O252,P252+1,1)","v":2},{"$f":"_xlfn.TEXTJOIN(\";\",1,R253:S253)","v":""},null,null,{"$f":"IF(R253=\"\",\"\",\"-\"&VLOOKUP(R253,EventConditionConfig!A:C,3,FALSE)&IF(S253=\"\",\"\",CHAR(10)&\"-\"&VLOOKUP(S253,EventConditionConfig!A:C,3,FALSE)))","v":""},"",{"$f":"IF(U253=1,A254,\"\")","v":""},"","",null,null,"",{"$nulls":4},1,{"$f":"IF(AF253=1,A254,IF(AF253=3,LEFT(A253,5)+1,\"\"))","v":1002103},null,2301]
[1002103,2299,"仙山传说",{"$f":"IF(E254=\"\",\"\",B254+1)","v":""},{"$nulls":5},100,{"$f":"IF(J254=\"\",\"\",VLOOKUP(J254,EventNPC!A:E,5,FALSE))","v":"玩家"},{"$f":"IF(M254=\"\",\"\",IF(P254=1,MAX(D254,B254)+1,MAX(B253,L253,D253,X253,AA253)+1))","v":2302},"多谢尧帝，我是来辞行的，也想打听一下，关于“七道心境”的更多线索",null,10021,{"$f":"IF(O254=O253,P253+1,1)","v":3},{"$f":"_xlfn.TEXTJOIN(\";\",1,R254:S254)","v":""},null,null,{"$f":"IF(R254=\"\",\"\",\"-\"&VLOOKUP(R254,EventConditionConfig!A:C,3,FALSE)&IF(S254=\"\",\"\",CHAR(10)&\"-\"&VLOOKUP(S254,EventConditionConfig!A:C,3,FALSE)))","v":""},"",{"$f":"IF(U254=1,A255,\"\")","v":""},"","",null,null,"",{"$nulls":4},1,{"$f":"IF(AF254=1,A255,IF(AF254=3,LEFT(A254,5)+1,\"\"))","v":1002104},null,2302]
[1002104,2299,"仙山传说",{"$f":"IF(E255=\"\",\"\",B255+1)","v":""},{"$nulls":5},105,{"$f":"IF(J255=\"\",\"\",VLOOKUP(J255,EventNPC!A:E,5,FALSE))","v":"尧帝"},{"$f":"IF(M255=\"\",\"\",IF(P255=1,MAX(D255,B255)+1,MAX(B254,L254,D254,X254,AA254)+1))","v":2303},"小友，你可曾听过‘藐姑射山’",null,10021,{"$f":"IF(O255=O254,P254+1,1)","v":4},{"$f":"_xlfn.TEXTJOIN(\";\",1,R255:S255)","v":""},null,null,{"$f":"IF(R255=\"\",\"\",\"-\"&VLOOKUP(R255,EventConditionConfig!A:C,3,FALSE)&IF(S255=\"\",\"\",CHAR(10)&\"-\"&VLOOKUP(S255,EventConditionConfig!A:C,3,FALSE)))","v":""},1,"1002105;1002109","2304;2305",2304,"未曾听闻，请前辈指点。",null,2305,"莫非是传说中的仙人居所？",null,null,null,"",{"$f":"IF(AF255=1,A256,IF(AF255=3,LEFT(A255,5)+1,\"\"))","v":""},null,2305]
[1002105,2299,"仙山传说","",{"$nulls":5},105,{"$f":"IF(J256=\"\",\"\",VLOOKUP(J256,EventNPC!A:E,5,FALSE))","v":"尧帝"},2306,"此山在尧都之北，云雾缭绕，凡人难见。当年我巡狩天下，偶遇山中神人……\n（尧帝眼神恍惚，似陷入回忆）",null,10021,5,"",null,null,{"$f":"IF(R256=\"\",\"\",\"-\"&VLOOKUP(R256,EventConditionConfig!A:C,3,FALSE)&IF(S256=\"\",\"\",CHAR(10)&\"-\"&VLOOKUP(S256,EventConditionConfig!A:C,3,FALSE)))","v":""},"",{"$f":"IF(U256=1,A257,\"\")","v":""},"","",null,null,"",{"$nulls":4},1,1002106,null,2306]
[1002106,2299,"仙山传说",{"$f":"IF(E257=\"\",\"\",B257+1)","v":""},{"$nulls":5},105,{"$f":"IF(J257=\"\",\"\",VLOOKUP(J257,EventNPC!A:E,5,FALSE))","v":"尧帝"},{"$f":"IF(M257=\"\",\"\",IF(P257=1,MAX(D257,B257)+1,MAX(B256,L256,D256,X256,AA256)+1))","v":2307},"不错。山中神人，她皮肤润白像冰雪，体态柔美如年轻的女子，不食五谷，吸清风饮甘露，乘云气驾飞龙，遨游于四海之外。",null,10021,{"$f":"IF(O257=O256,P256+1,1)","v":6},{"$f":"_xlfn.TEXTJOIN(\";\",1,R257:S257)","v":""},null,null,{"$f":"IF(R257=\"\",\"\",\"-\"&VLOOKUP(R257,EventConditionConfig!A:C,3,FALSE)&IF(S257=\"\",\"\",CHAR(10)&\"-\"&VLOOKUP(S257,EventConditionConfig!A:C,3,FALSE)))","v":""},"","","","",null,null,"",{"$nulls":4},1,{"$f":"IF(AF257=1,A258,IF(AF257=3,LEFT(A257,5)+1,\"\"))","v":1002107},null,2307]
[1002107,2299,"仙山传说",{"$f":"IF(E258=\"\",\"\",B258+1)","v":""},{"$nulls":5},105,{"$f":"IF(J258=\"\",\"\",VLOOKUP(J258,EventNPC!A:E,5,FALSE))","v":"尧帝"},{"$f":"IF(M258=\"\",\"\",IF(P258=1,MAX(D258,B258)+1,MAX(B257,L257,D257,X257,AA257)+1))","v":2308},"当年见到神人时，我已是一都之君。可在她面前，自觉渺小如尘沙，治理的天下如同儿戏一般。",null,10021,{"$f":"IF(O258=O257,P257+1,1)","v":7},{"$f":"_xlfn.TEXTJOIN(\";\",1,R258:S258)","v":""},null,null,{"$f":"IF(R258=\"\",\"\",\"-\"&VLOOKUP(R258,EventConditionConfig!A:C,3,FALSE)&IF(S258=\"\",\"\",CHAR(10)&\"-\"&VLOOKUP(S258,EventConditionConfig!A:C,3,FALSE)))","v":""},"","","","",null,null,"",{"$nulls":4},1,{"$f":"IF(AF258=1,A259,IF(AF258=3,LEFT(A258,5)+1,\"\"))","v":1002108},null,2308]
[1002108,2299,"仙山传说",{"$f":"IF(E259=\"\",\"\",B259+1)","v":""},{"$nulls":5},105,{"$f":"IF(J259=\"\",\"\",VLOOKUP(J259,EventNPC!A:E,5,FALSE))","v":"尧帝"},{"$f":"IF(M259=\"\",\"\",IF(P259=1,MAX(D259,B259)+1,MAX(B258,L258,D258,X258,AA258)+1))","v":2309},"甚至连开口说话，都没有勇气…",null,10021,{"$f":"IF(O259=O258,P258+1,1)","v":8},{"$f":"_xlfn.TEXTJOIN(\";\",1,R259:S259)","v":""},null,null,{"$f":"IF(R259=\"\",\"\",\"-\"&VLOOKUP(R259,EventConditionConfig!A:C,3,FALSE)&IF(S259=\"\",\"\",CHAR(10)&\"-\"&VLOOKUP(S259,EventConditionConfig!A:C,3,FALSE)))","v":""},"","","","",null,null,"",{"$nulls":4},1,{"$f":"IF(AF259=1,A260,IF(AF259=3,LEFT(A259,5)+1,\"\"))","v":1002109},null,2309]
[1002109,2299,"仙山传说",{"$f":"IF(E260=\"\",\"\",B260+1)","v":""},{"$nulls":5},100,{"$f":"IF(J260=\"\",\"\",VLOOKUP(J260,EventNPC!A:E,5,FALSE))","v":"玩家"},{"$f":"IF(M260=\"\",\"\",IF(P260=1,MAX(D260,B260)+1,MAX(B259,L259,D259,X259,AA259)+1))","v":2310},"......",null,10021,{"$f":"IF(O260=O259,P259+1,1)","v":9},{"$f":"_xlfn.TEXTJOIN(\";\",1,R260:S260)","v":""},null,null,{"$f":"IF(R260=\"\",\"\",\"-\"&VLOOKUP(R260,EventConditionConfig!A:C,3,FALSE)&IF(S260=\"\",\"\",CHAR(10)&\"-\"&VLOOKUP(S260,EventConditionConfig!A:C,3,FALSE)))","v":""},1,1002110,"2311",2311,"连尧帝都如此敬畏，那神人究竟何等境界？",null,"",{"$nulls":4},"",{"$f":"IF(AF260=1,A261,IF(AF260=3,LEFT(A260,5)+1,\"\"))","v":""},null,2311]
[1002110,2299,"仙山传说","",{"$nulls":5},105,{"$f":"IF(J261=\"\",\"\",VLOOKUP(J261,EventNPC!A:E,5,FALSE))","v":"尧帝"},2312,"我也不知..你可前去寻觅，如有缘遇见，定能提升修为，突破心境。",null,10021,10,"",null,null,{"$f":"IF(R261=\"\",\"\",\"-\"&VLOOKUP(R261,EventConditionConfig!A:C,3,FALSE)&IF(S261=\"\",\"\",CHAR(10)&\"-\"&VLOOKUP(S261,EventConditionConfig!A:C,3,FALSE)))","v":""},"","","","",null,null,"",{"$nulls":4},1,1002111,null,2312]
[1002111,2299,"仙山传说",{"$f":"IF(E262=\"\",\"\",B262+1)","v":""},{"$nulls":5},105,{"$f":"IF(J262=\"\",\"\",VLOOKUP(J262,EventNPC!A:E,5,FALSE))","v":"尧帝"},{"$f":"IF(M262=\"\",\"\",IF(P262=1,MAX(D262,B262)+1,MAX(B261,L261,D261,X261,AA261)+1))","v":2313},"你手中的逍遥铃，绝非凡物，跟着它的指引，应该能找到藐姑射山。",null,10021,{"$f":"IF(O262=O261,P261+1,1)","v":11},{"$f":"_xlfn.TEXTJOIN(\";\",1,R262:S262)","v":""},null,null,{"$f":"IF(R262=\"\",\"\",\"-\"&VLOOKUP(R262,EventConditionConfig!A:C,3,FALSE)&IF(S262=\"\",\"\",CHAR(10)&\"-\"&VLOOKUP(S262,EventConditionConfig!A:C,3,FALSE)))","v":""},1,1002112,"2314",2314,"多谢前辈。",null,"",{"$nulls":4},"",{"$f":"IF(AF262=1,A263,IF(AF262=3,LEFT(A262,5)+1,\"\"))","v":""},null,{"$f":"IF(A262=\"\",\"\",MAX(B262,D262,L262,X262,AA262))","v":2314}]
[1002112,2299,"仙山传说",{"$f":"IF(E263=\"\",\"\",B263+1)","v":""},{"$nulls":6},{"$f":"IF(J263=\"\",\"\",VLOOKUP(J263,EventNPC!A:E,5,FALSE))","v":""},{"$f":"IF(M263=\"\",\"\",IF(P263=1,MAX(D263,B263)+1,MAX(B262,L262,D262,X262,AA262)+1))","v":""},null,null,10021,{"$f":"IF(O263=O262,P262+1,1)","v":12},{"$f":"_xlfn.TEXTJOIN(\";\",1,R263:S263)","v":""},null,null,{"$f":"IF(R263=\"\",\"\",\"-\"&VLOOKUP(R263,EventConditionConfig!A:C,3,FALSE)&IF(S263=\"\",\"\",CHAR(10)&\"-\"&VLOOKUP(S263,EventConditionConfig!A:C,3,FALSE)))","v":""},"","","","",null,null,"",{"$nulls":4},3,{"$f":"IF(AF263=1,A264,IF(AF263=3,LEFT(A263,5)+1,\"\"))","v":10022},null,2299]
[{"$nulls":34},""]
[{"$f":"O265*100+P265","v":1002201},{"$f":"IF(B264=\"\",MAX(AA263,X263,L263,B263,D263,AA262,X262,L262)+1,B264)","v":2315},"入山幻阵",{"$f":"IF(E265=\"\",\"\",B265+1)","v":""},{"$nulls":6},{"$f":"IF(J265=\"\",\"\",VLOOKUP(J265,EventNPC!A:E,5,FALSE))","v":""},{"$f":"IF(M265=\"\",\"\",IF(P265=1,MAX(D265,B265)+1,MAX(B264,L264,D264,X264,AA264)+1))","v":2316},"仙山被五行阵笼罩，需要击败阵眼方可破除（细节待设计）",null,{"$f":"IF(O264=\"\",O263+1,O264)","v":10022},{"$f":"IF(O265=O264,P264+1,1)","v":1},{"$f":"_xlfn.TEXTJOIN(\";\",1,R265:S265)","v":""},null,null,{"$f":"IF(R265=\"\",\"\",\"-\"&VLOOKUP(R265,EventConditionConfig!A:C,3,FALSE)&IF(S265=\"\",\"\",CHAR(10)&\"-\"&VLOOKUP(S265,EventConditionConfig!A:C,3,FALSE)))","v":""},{"$f":"IF(Y265=\"\",\"\",1)","v":""},{"$f":"IF(U265=1,A266,\"\")","v":""},{"$f":"_xlfn.TEXTJOIN(\";\",1,X265,AA265)","v":""},{"$f":"IF(Y265=\"\",\"\",L265+1)","v":""},null,null,{"$f":"IF(AB265=\"\",\"\",X265+1)","v":""},{"$nulls":4},{"$f":"IF(U265=2,2,IF(A265=\"\",\"\",IF(U265=1,\"\",IF(A266=\"\",3,1))))","v":1},{"$f":"IF(AF265=1,A266,IF(AF265=3,LEFT(A265,5)+1,\"\"))","v":1002202},null,2316]
[{"$f":"O266*100+P266","v":1002202},{"$f":"IF(B265=\"\",MAX(AA264,X264,L264,B264,D264,AA263,X263,L263)+1,B265)","v":2315},"入山幻阵",{"$f":"IF(E266=\"\",\"\",B266+1)","v":""},{"$nulls":6},{"$f":"IF(J266=\"\",\"\",VLOOKUP(J266,EventNPC!A:E,5,FALSE))","v":""},{"$f":"IF(M266=\"\",\"\",IF(P266=1,MAX(D266,B266)+1,MAX(B265,L265,D265,X265,AA265)+1))","v":2317},"阵眼妖兽被击败，仙山现在可以进入了（细节待设计）",null,{"$f":"IF(O265=\"\",O264+1,O265)","v":10022},{"$f":"IF(O266=O265,P265+1,1)","v":2},{"$f":"_xlfn.TEXTJOIN(\";\",1,R266:S266)","v":"15"},15,null,{"$f":"IF(R266=\"\",\"\",\"-\"&VLOOKUP(R266,EventConditionConfig!A:C,3,FALSE)&IF(S266=\"\",\"\",CHAR(10)&\"-\"&VLOOKUP(S266,EventConditionConfig!A:C,3,FALSE)))","v":"-击败仙山的阵眼妖兽"},{"$f":"IF(Y266=\"\",\"\",1)","v":""},{"$f":"IF(U266=1,A267,\"\")","v":""},{"$f":"_xlfn.TEXTJOIN(\";\",1,X266,AA266)","v":""},{"$f":"IF(Y266=\"\",\"\",L266+1)","v":""},null,null,{"$f":"IF(AB266=\"\",\"\",X266+1)","v":""},{"$nulls":4},{"$f":"IF(U266=2,2,IF(A266=\"\",\"\",IF(U266=1,\"\",IF(A267=\"\",3,1))))","v":1},{"$f":"IF(AF266=1,A267,IF(AF266=3,LEFT(A266,5)+1,\"\"))","v":1002203},null,2317]
[{"$f":"O267*100+P267","v":1002203},{"$f":"IF(B266=\"\",MAX(AA265,X265,L265,B265,D265,AA264,X264,L264)+1,B266)","v":2315},"入山幻阵","",{"$nulls":6},{"$f":"IF(J267=\"\",\"\",VLOOKUP(J267,EventNPC!A:E,5,FALSE))","v":""},"",null,null,{"$f":"IF(O266=\"\",O265+1,O266)","v":10022},3,"",null,null,{"$f":"IF(R267=\"\",\"\",\"-\"&VLOOKUP(R267,EventConditionConfig!A:C,3,FALSE)&IF(S267=\"\",\"\",CHAR(10)&\"-\"&VLOOKUP(S267,EventConditionConfig!A:C,3,FALSE)))","v":""},{"$f":"IF(Y267=\"\",\"\",1)","v":""},{"$f":"IF(U267=1,A268,\"\")","v":""},{"$f":"_xlfn.TEXTJOIN(\";\",1,X267,AA267)","v":""},{"$f":"IF(Y267=\"\",\"\",L267+1)","v":""},null,null,{"$f":"IF(AB267=\"\",\"\",X267+1)","v":""},{"$nulls":4},{"$f":"IF(U267=2,2,IF(A267=\"\",\"\",IF(U267=1,\"\",IF(A268=\"\",3,1))))","v":3},10023,null,2315]
[{"$nulls":34},""]
[{"$f":"O269*100+P269","v":1002301},{"$f":"IF(B268=\"\",MAX(AA267,X267,L267,B267,D267,AA266,X266,L266)+1,B268)","v":2318},"听惠子吹嘘种子来历，并答应帮他种葫芦",{"$f":"IF(E269=\"\",\"\",B269+1)","v":""},{"$nulls":5},111,{"$f":"IF(J269=\"\",\"\",VLOOKUP(J269,EventNPC!A:E,5,FALSE))","v":"惠子"},{"$f":"IF(M269=\"\",\"\",IF(P269=1,MAX(D269,B269)+1,MAX(B268,L268,D268,X268,AA268)+1))","v":2319},"（惠子手持一颗七彩流光的种子，满脸得意）\n“小友！来得正好！瞧我这宝贝——”",null,{"$f":"IF(O268=\"\",O267+1,O268)","v":10023},{"$f":"IF(O269=O268,P268+1,1)","v":1},{"$f":"_xlfn.TEXTJOIN(\";\",1,R269:S269)","v":""},null,null,{"$f":"IF(R269=\"\",\"\",\"-\"&VLOOKUP(R269,EventConditionConfig!A:C,3,FALSE)&IF(S269=\"\",\"\",CHAR(10)&\"-\"&VLOOKUP(S269,EventConditionConfig!A:C,3,FALSE)))","v":""},{"$f":"IF(Y269=\"\",\"\",1)","v":""},{"$f":"IF(U269=1,A270,\"\")","v":""},{"$f":"_xlfn.TEXTJOIN(\";\",1,X269,AA269)","v":""},{"$f":"IF(Y269=\"\",\"\",L269+1)","v":""},null,null,{"$f":"IF(AB269=\"\",\"\",X269+1)","v":""},{"$nulls":4},{"$f":"IF(U269=2,2,IF(A269=\"\",\"\",IF(U269=1,\"\",IF(A270=\"\",3,1))))","v":1},{"$f":"IF(AF269=1,A270,IF(AF269=3,LEFT(A269,5)+1,\"\"))","v":1002302},null,2319]
[1002302,2318,"听惠子吹嘘种子来历，并答应帮他种葫芦",{"$f":"IF(E270=\"\",\"\",B270+1)","v":""},{"$nulls":5},111,{"$f":"IF(J270=\"\",\"\",VLOOKUP(J270,EventNPC!A:E,5,FALSE))","v":"惠子"},{"$f":"IF(M270=\"\",\"\",IF(P270=1,MAX(D270,B270)+1,MAX(B269,L269,D269,X269,AA269)+1))","v":2320},"（惠子举起一颗种子，阳光照射下熠熠生辉）\n“此乃‘五石葫芦’之种！虽然我也不知道能种出来什么，但绝非凡品，一定大有用处！”",null,10023,{"$f":"IF(O270=O269,P269+1,1)","v":2},{"$f":"_xlfn.TEXTJOIN(\";\",1,R270:S270)","v":""},null,null,{"$f":"IF(R270=\"\",\"\",\"-\"&VLOOKUP(R270,EventConditionConfig!A:C,3,FALSE)&IF(S270=\"\",\"\",CHAR(10)&\"-\"&VLOOKUP(S270,EventConditionConfig!A:C,3,FALSE)))","v":""},1,1002303,"2321",2321,"这么厉害？哪来的？",null,"",{"$nulls":4},"",{"$f":"IF(AF270=1,A271,IF(AF270=3,LEFT(A270,5)+1,\"\"))","v":""},null,2321]
[1002303,2318,"听惠子吹嘘种子来历，并答应帮他种葫芦",{"$f":"IF(E271=\"\",\"\",B271+1)","v":""},{"$nulls":5},111,{"$f":"IF(J271=\"\",\"\",VLOOKUP(J271,EventNPC!A:E,5,FALSE))","v":"惠子"},{"$f":"IF(M271=\"\",\"\",IF(P271=1,MAX(D271,B271)+1,MAX(B270,L270,D270,X270,AA270)+1))","v":2322},"这是我的好朋友庄子送我的，给的时候，还神神秘秘的，说种出来的东西很好玩。",null,10023,{"$f":"IF(O271=O270,P270+1,1)","v":3},{"$f":"_xlfn.TEXTJOIN(\";\",1,R271:S271)","v":""},null,null,{"$f":"IF(R271=\"\",\"\",\"-\"&VLOOKUP(R271,EventConditionConfig!A:C,3,FALSE)&IF(S271=\"\",\"\",CHAR(10)&\"-\"&VLOOKUP(S271,EventConditionConfig!A:C,3,FALSE)))","v":""},"","","","",null,null,"",{"$nulls":4},1,{"$f":"IF(AF271=1,A272,IF(AF271=3,LEFT(A271,5)+1,\"\"))","v":1002304},null,2322]
[1002304,2318,"听惠子吹嘘种子来历，并答应帮他种葫芦",{"$f":"IF(E272=\"\",\"\",B272+1)","v":""},{"$nulls":5},100,{"$f":"IF(J272=\"\",\"\",VLOOKUP(J272,EventNPC!A:E,5,FALSE))","v":"玩家"},{"$f":"IF(M272=\"\",\"\",IF(P272=1,MAX(D272,B272)+1,MAX(B271,L271,D271,X271,AA271)+1))","v":2323},"原来如此。\n我游历到这里，是想拜访山中神仙，请道友指路。",null,10023,{"$f":"IF(O272=O271,P271+1,1)","v":4},{"$f":"_xlfn.TEXTJOIN(\";\",1,R272:S272)","v":""},null,null,{"$f":"IF(R272=\"\",\"\",\"-\"&VLOOKUP(R272,EventConditionConfig!A:C,3,FALSE)&IF(S272=\"\",\"\",CHAR(10)&\"-\"&VLOOKUP(S272,EventConditionConfig!A:C,3,FALSE)))","v":""},"","","","",null,null,"",{"$nulls":4},1,{"$f":"IF(AF272=1,A273,IF(AF272=3,LEFT(A272,5)+1,\"\"))","v":1002305},null,2323]
[1002305,2318,"听惠子吹嘘种子来历，并答应帮他种葫芦",{"$f":"IF(E273=\"\",\"\",B273+1)","v":""},{"$nulls":5},111,{"$f":"IF(J273=\"\",\"\",VLOOKUP(J273,EventNPC!A:E,5,FALSE))","v":"惠子"},{"$f":"IF(M273=\"\",\"\",IF(P273=1,MAX(D273,B273)+1,MAX(B272,L272,D272,X272,AA272)+1))","v":2324},"又是来找神仙的？\n帮你也不是不行，但是你得先帮我，帮我种葫芦！",null,10023,{"$f":"IF(O273=O272,P272+1,1)","v":5},{"$f":"_xlfn.TEXTJOIN(\";\",1,R273:S273)","v":""},null,null,{"$f":"IF(R273=\"\",\"\",\"-\"&VLOOKUP(R273,EventConditionConfig!A:C,3,FALSE)&IF(S273=\"\",\"\",CHAR(10)&\"-\"&VLOOKUP(S273,EventConditionConfig!A:C,3,FALSE)))","v":""},1,1002306,"2325",2325,"我不擅长种植",null,"",{"$nulls":4},"",{"$f":"IF(AF273=1,A274,IF(AF273=3,LEFT(A273,5)+1,\"\"))","v":""},null,2325]
[1002306,2318,"听惠子吹嘘种子来历，并答应帮他种葫芦","",{"$nulls":5},111,{"$f":"IF(J274=\"\",\"\",VLOOKUP(J274,EventNPC!A:E,5,FALSE))","v":"惠子"},2326,"没事，我非常擅长，哈哈。\n道友只需要帮我找几种肥料即可。",null,10023,6,"",null,null,{"$f":"IF(R274=\"\",\"\",\"-\"&VLOOKUP(R274,EventConditionConfig!A:C,3,FALSE)&IF(S274=\"\",\"\",CHAR(10)&\"-\"&VLOOKUP(S274,EventConditionConfig!A:C,3,FALSE)))","v":""},1,1002307,"2327",2327,"道友请讲…",null,"",{"$nulls":4},"","",null,2327]
[1002307,2318,"听惠子吹嘘种子来历，并答应帮他种葫芦","",{"$nulls":5},111,{"$f":"IF(J275=\"\",\"\",VLOOKUP(J275,EventNPC!A:E,5,FALSE))","v":"惠子"},2328,"此葫芦种子，需要2种肥料：“天肥”和“地肥”。",null,10023,7,"",null,null,{"$f":"IF(R275=\"\",\"\",\"-\"&VLOOKUP(R275,EventConditionConfig!A:C,3,FALSE)&IF(S275=\"\",\"\",CHAR(10)&\"-\"&VLOOKUP(S275,EventConditionConfig!A:C,3,FALSE)))","v":""},"","","","",null,null,"",{"$nulls":4},1,1002308,null,2328]
[1002308,2318,"听惠子吹嘘种子来历，并答应帮他种葫芦",{"$f":"IF(E276=\"\",\"\",B276+1)","v":""},{"$nulls":5},100,{"$f":"IF(J276=\"\",\"\",VLOOKUP(J276,EventNPC!A:E,5,FALSE))","v":"玩家"},{"$f":"IF(M276=\"\",\"\",IF(P276=1,MAX(D276,B276)+1,MAX(B275,L275,D275,X275,AA275)+1))","v":2329},"....未曾听闻…",null,10023,{"$f":"IF(O276=O275,P275+1,1)","v":8},{"$f":"_xlfn.TEXTJOIN(\";\",1,R276:S276)","v":""},null,null,{"$f":"IF(R276=\"\",\"\",\"-\"&VLOOKUP(R276,EventConditionConfig!A:C,3,FALSE)&IF(S276=\"\",\"\",CHAR(10)&\"-\"&VLOOKUP(S276,EventConditionConfig!A:C,3,FALSE)))","v":""},1,1002309,"2330",2330,"何为“天肥”",null,"",{"$nulls":4},"",{"$f":"IF(AF276=1,A277,IF(AF276=3,LEFT(A276,5)+1,\"\"))","v":""},null,2330]
[1002309,2318,"听惠子吹嘘种子来历，并答应帮他种葫芦","",{"$nulls":5},111,{"$f":"IF(J277=\"\",\"\",VLOOKUP(J277,EventNPC!A:E,5,FALSE))","v":"惠子"},2331,"天肥很简单，你往上看\n（惠子把手指向云端）",null,10023,9,"",null,null,{"$f":"IF(R277=\"\",\"\",\"-\"&VLOOKUP(R277,EventConditionConfig!A:C,3,FALSE)&IF(S277=\"\",\"\",CHAR(10)&\"-\"&VLOOKUP(S277,EventConditionConfig!A:C,3,FALSE)))","v":""},"","","","",null,null,"",{"$nulls":4},1,1002310,null,2331]
[1002310,2318,"听惠子吹嘘种子来历，并答应帮他种葫芦",{"$f":"IF(E278=\"\",\"\",B278+1)","v":""},{"$nulls":5},111,{"$f":"IF(J278=\"\",\"\",VLOOKUP(J278,EventNPC!A:E,5,FALSE))","v":"惠子"},{"$f":"IF(M278=\"\",\"\",IF(P278=1,MAX(D278,B278)+1,MAX(B277,L277,D277,X277,AA277)+1))","v":2332},"此山附近有许多飞行的灵兽围绕，你去击败几只飞行的灵兽，就有机会拿到了。",null,10023,{"$f":"IF(O278=O277,P277+1,1)","v":10},{"$f":"_xlfn.TEXTJOIN(\";\",1,R278:S278)","v":""},null,null,{"$f":"IF(R278=\"\",\"\",\"-\"&VLOOKUP(R278,EventConditionConfig!A:C,3,FALSE)&IF(S278=\"\",\"\",CHAR(10)&\"-\"&VLOOKUP(S278,EventConditionConfig!A:C,3,FALSE)))","v":""},1,1002311,"2333",2333,"何为“地肥”",null,"",{"$nulls":4},"",{"$f":"IF(AF278=1,A279,IF(AF278=3,LEFT(A278,5)+1,\"\"))","v":""},null,2333]
[1002311,2318,"听惠子吹嘘种子来历，并答应帮他种葫芦",{"$f":"IF(E279=\"\",\"\",B279+1)","v":""},{"$nulls":5},111,{"$f":"IF(J279=\"\",\"\",VLOOKUP(J279,EventNPC!A:E,5,FALSE))","v":"惠子"},{"$f":"IF(M279=\"\",\"\",IF(P279=1,MAX(D279,B279)+1,MAX(B278,L278,D278,X278,AA278)+1))","v":2334},"这地肥就比较麻烦了，需要2000年以上的灵木树枝才能当“地肥”",null,10023,{"$f":"IF(O279=O278,P278+1,1)","v":11},{"$f":"_xlfn.TEXTJOIN(\";\",1,R279:S279)","v":""},null,null,{"$f":"IF(R279=\"\",\"\",\"-\"&VLOOKUP(R279,EventConditionConfig!A:C,3,FALSE)&IF(S279=\"\",\"\",CHAR(10)&\"-\"&VLOOKUP(S279,EventConditionConfig!A:C,3,FALSE)))","v":""},"","","","",null,null,"",{"$nulls":4},1,{"$f":"IF(AF279=1,A280,IF(AF279=3,LEFT(A279,5)+1,\"\"))","v":1002312},null,2334]
[1002312,2318,"听惠子吹嘘种子来历，并答应帮他种葫芦",{"$f":"IF(E280=\"\",\"\",B280+1)","v":""},{"$nulls":5},111,{"$f":"IF(J280=\"\",\"\",VLOOKUP(J280,EventNPC!A:E,5,FALSE))","v":"惠子"},{"$f":"IF(M280=\"\",\"\",IF(P280=1,MAX(D280,B280)+1,MAX(B279,L279,D279,X279,AA279)+1))","v":2335},"不过，这千年以上的树木，都会化形，不好找啊，不好找。",null,10023,{"$f":"IF(O280=O279,P279+1,1)","v":12},{"$f":"_xlfn.TEXTJOIN(\";\",1,R280:S280)","v":""},null,null,{"$f":"IF(R280=\"\",\"\",\"-\"&VLOOKUP(R280,EventConditionConfig!A:C,3,FALSE)&IF(S280=\"\",\"\",CHAR(10)&\"-\"&VLOOKUP(S280,EventConditionConfig!A:C,3,FALSE)))","v":""},1,0,"2336",2336,"好的道友，那我这就去寻。",null,"",{"$nulls":4},"",{"$f":"IF(AF280=1,A281,IF(AF280=3,LEFT(A280,5)+1,\"\"))","v":""},null,2336]
[{"$nulls":34},""]
[{"$f":"O282*100+P282","v":1002401},{"$f":"IF(B281=\"\",MAX(AA280,X280,L280,B280,D280,AA279,X279,L279)+1,B281)","v":2337},"天肥地肥",{"$f":"IF(E282=\"\",\"\",B282+1)","v":""},{"$nulls":6},{"$f":"IF(J282=\"\",\"\",VLOOKUP(J282,EventNPC!A:E,5,FALSE))","v":""},{"$f":"IF(M282=\"\",\"\",IF(P282=1,MAX(D282,B282)+1,MAX(B281,L281,D281,X281,AA281)+1))","v":2338},"你来到飞行的灵兽周围，碰碰运气吧。",null,{"$f":"IF(O281=\"\",O280+1,O281)","v":10024},{"$f":"IF(O282=O281,P281+1,1)","v":1},{"$f":"_xlfn.TEXTJOIN(\";\",1,R282:S282)","v":""},null,null,{"$f":"IF(R282=\"\",\"\",\"-\"&VLOOKUP(R282,EventConditionConfig!A:C,3,FALSE)&IF(S282=\"\",\"\",CHAR(10)&\"-\"&VLOOKUP(S282,EventConditionConfig!A:C,3,FALSE)))","v":""},{"$f":"IF(Y282=\"\",\"\",1)","v":""},{"$f":"IF(U282=1,A283,\"\")","v":""},{"$f":"_xlfn.TEXTJOIN(\";\",1,X282,AA282)","v":""},{"$f":"IF(Y282=\"\",\"\",L282+1)","v":""},null,null,{"$f":"IF(AB282=\"\",\"\",X282+1)","v":""},{"$nulls":4},{"$f":"IF(U282=2,2,IF(A282=\"\",\"\",IF(U282=1,\"\",IF(A283=\"\",3,1))))","v":1},{"$f":"IF(AF282=1,A283,IF(AF282=3,LEFT(A282,5)+1,\"\"))","v":1002402},null,2338]
[1002402,2337,"天肥地肥",{"$f":"IF(E283=\"\",\"\",B283+1)","v":""},{"$nulls":6},{"$f":"IF(J283=\"\",\"\",VLOOKUP(J283,EventNPC!A:E,5,FALSE))","v":""},{"$f":"IF(M283=\"\",\"\",IF(P283=1,MAX(D283,B283)+1,MAX(B282,L282,D282,X282,AA282)+1))","v":2339},"天肥搜集到了，关于地肥，你突然想到之前碰到的樗木之灵",null,10024,{"$f":"IF(O283=O282,P282+1,1)","v":2},{"$f":"_xlfn.TEXTJOIN(\";\",1,R283:S283)","v":"17"},17,null,{"$f":"IF(R283=\"\",\"\",\"-\"&VLOOKUP(R283,EventConditionConfig!A:C,3,FALSE)&IF(S283=\"\",\"\",CHAR(10)&\"-\"&VLOOKUP(S283,EventConditionConfig!A:C,3,FALSE)))","v":"-击杀灵兽获得天肥"},"","","","",null,null,"",{"$nulls":4},1,{"$f":"IF(AF283=1,A284,IF(AF283=3,LEFT(A283,5)+1,\"\"))","v":1002403},null,2339]
[1002403,2337,"天肥地肥","",{"$nulls":5},100,{"$f":"IF(J284=\"\",\"\",VLOOKUP(J284,EventNPC!A:E,5,FALSE))","v":"玩家"},2340,"前辈，我有一事相求。",null,10024,3,"",null,null,{"$f":"IF(R284=\"\",\"\",\"-\"&VLOOKUP(R284,EventConditionConfig!A:C,3,FALSE)&IF(S284=\"\",\"\",CHAR(10)&\"-\"&VLOOKUP(S284,EventConditionConfig!A:C,3,FALSE)))","v":""},"","","","",null,null,"",{"$nulls":4},1,1002404,null,2340]
[1002404,2337,"天肥地肥",{"$f":"IF(E285=\"\",\"\",B285+1)","v":""},{"$nulls":5},110,{"$f":"IF(J285=\"\",\"\",VLOOKUP(J285,EventNPC!A:E,5,FALSE))","v":"樗木之灵"},{"$f":"IF(M285=\"\",\"\",IF(P285=1,MAX(D285,B285)+1,MAX(B284,L284,D284,X284,AA284)+1))","v":2341},"小友请说",null,10024,{"$f":"IF(O285=O284,P284+1,1)","v":4},{"$f":"_xlfn.TEXTJOIN(\";\",1,R285:S285)","v":""},null,null,{"$f":"IF(R285=\"\",\"\",\"-\"&VLOOKUP(R285,EventConditionConfig!A:C,3,FALSE)&IF(S285=\"\",\"\",CHAR(10)&\"-\"&VLOOKUP(S285,EventConditionConfig!A:C,3,FALSE)))","v":""},"","","","",null,null,"",{"$nulls":4},1,{"$f":"IF(AF285=1,A286,IF(AF285=3,LEFT(A285,5)+1,\"\"))","v":1002405},null,2341]
[1002405,2337,"天肥地肥",{"$f":"IF(E286=\"\",\"\",B286+1)","v":""},{"$nulls":5},100,{"$f":"IF(J286=\"\",\"\",VLOOKUP(J286,EventNPC!A:E,5,FALSE))","v":"玩家"},{"$f":"IF(M286=\"\",\"\",IF(P286=1,MAX(D286,B286)+1,MAX(B285,L285,D285,X285,AA285)+1))","v":2342},"我在藐姑射山时，遇到有位道友让我帮他找“地肥”来种葫芦...\n不止前辈可否借我一点点树枝。",null,10024,{"$f":"IF(O286=O285,P285+1,1)","v":5},{"$f":"_xlfn.TEXTJOIN(\";\",1,R286:S286)","v":""},null,null,{"$f":"IF(R286=\"\",\"\",\"-\"&VLOOKUP(R286,EventConditionConfig!A:C,3,FALSE)&IF(S286=\"\",\"\",CHAR(10)&\"-\"&VLOOKUP(S286,EventConditionConfig!A:C,3,FALSE)))","v":""},"","","","",null,null,"",{"$nulls":4},1,{"$f":"IF(AF286=1,A287,IF(AF286=3,LEFT(A286,5)+1,\"\"))","v":1002406},null,2342]
[1002406,2337,"天肥地肥","",{"$nulls":5},110,{"$f":"IF(J287=\"\",\"\",VLOOKUP(J287,EventNPC!A:E,5,FALSE))","v":"樗木之灵"},2343,"好说好说，以后多来陪我聊聊天就好。",null,10024,6,"",null,null,{"$f":"IF(R287=\"\",\"\",\"-\"&VLOOKUP(R287,EventConditionConfig!A:C,3,FALSE)&IF(S287=\"\",\"\",CHAR(10)&\"-\"&VLOOKUP(S287,EventConditionConfig!A:C,3,FALSE)))","v":""},"","","","",null,null,"",{"$nulls":4},1,1002407,null,2343]
[1002407,2337,"天肥地肥",{"$f":"IF(E288=\"\",\"\",B288+1)","v":""},{"$nulls":5},100,{"$f":"IF(J288=\"\",\"\",VLOOKUP(J288,EventNPC!A:E,5,FALSE))","v":"玩家"},{"$f":"IF(M288=\"\",\"\",IF(P288=1,MAX(D288,B288)+1,MAX(B287,L287,D287,X287,AA287)+1))","v":2344},"多谢前辈！  （得到樗木的树枝）",null,10024,{"$f":"IF(O288=O287,P287+1,1)","v":7},{"$f":"_xlfn.TEXTJOIN(\";\",1,R288:S288)","v":""},null,null,{"$f":"IF(R288=\"\",\"\",\"-\"&VLOOKUP(R288,EventConditionConfig!A:C,3,FALSE)&IF(S288=\"\",\"\",CHAR(10)&\"-\"&VLOOKUP(S288,EventConditionConfig!A:C,3,FALSE)))","v":""},"","","","",null,null,"",null,null,20001,1,3,{"$f":"IF(AF288=1,A289,IF(AF288=3,LEFT(A288,5)+1,\"\"))","v":10025},null,2344]
[{"$nulls":34},""]
[{"$f":"O290*100+P290","v":1002501},{"$f":"IF(B289=\"\",MAX(AA288,X288,L288,B288,D288,AA287,X287,L287)+1,B289)","v":2345},"登山",{"$f":"IF(E290=\"\",\"\",B290+1)","v":""},{"$nulls":5},111,{"$f":"IF(J290=\"\",\"\",VLOOKUP(J290,EventNPC!A:E,5,FALSE))","v":"惠子"},{"$f":"IF(M290=\"\",\"\",IF(P290=1,MAX(D290,B290)+1,MAX(B289,L289,D289,X289,AA289)+1))","v":2346},"（眼睛一亮）好好好！\n这位道友果然好手段！竟真能找到“地肥”！",null,{"$f":"IF(O289=\"\",O288+1,O289)","v":10025},{"$f":"IF(O290=O289,P289+1,1)","v":1},{"$f":"_xlfn.TEXTJOIN(\";\",1,R290:S290)","v":""},null,null,{"$f":"IF(R290=\"\",\"\",\"-\"&VLOOKUP(R290,EventConditionConfig!A:C,3,FALSE)&IF(S290=\"\",\"\",CHAR(10)&\"-\"&VLOOKUP(S290,EventConditionConfig!A:C,3,FALSE)))","v":""},{"$f":"IF(Y290=\"\",\"\",1)","v":""},{"$f":"IF(U290=1,A291,\"\")","v":""},{"$f":"_xlfn.TEXTJOIN(\";\",1,X290,AA290)","v":""},{"$f":"IF(Y290=\"\",\"\",L290+1)","v":""},null,null,{"$f":"IF(AB290=\"\",\"\",X290+1)","v":""},{"$nulls":4},{"$f":"IF(U290=2,2,IF(A290=\"\",\"\",IF(U290=1,\"\",IF(A291=\"\",3,1))))","v":1},{"$f":"IF(AF290=1,A291,IF(AF290=3,LEFT(A290,5)+1,\"\"))","v":1002502},null,2346]
[1002502,2345,"登山",{"$f":"IF(E291=\"\",\"\",B291+1)","v":""},{"$nulls":5},100,{"$f":"IF(J291=\"\",\"\",VLOOKUP(J291,EventNPC!A:E,5,FALSE))","v":"玩家"},{"$f":"IF(M291=\"\",\"\",IF(P291=1,MAX(D291,B291)+1,MAX(B290,L290,D290,X290,AA290)+1))","v":2347},"（谁管你的葫芦....）\n请道友告知，哪里可以见到神仙，我有事相求。",null,10025,{"$f":"IF(O291=O290,P290+1,1)","v":2},{"$f":"_xlfn.TEXTJOIN(\";\",1,R291:S291)","v":""},null,null,{"$f":"IF(R291=\"\",\"\",\"-\"&VLOOKUP(R291,EventConditionConfig!A:C,3,FALSE)&IF(S291=\"\",\"\",CHAR(10)&\"-\"&VLOOKUP(S291,EventConditionConfig!A:C,3,FALSE)))","v":""},{"$f":"IF(Y291=\"\",\"\",1)","v":""},{"$f":"IF(U291=1,A292,\"\")","v":""},"","",null,null,"",{"$nulls":4},1,{"$f":"IF(AF291=1,A292,IF(AF291=3,LEFT(A291,5)+1,\"\"))","v":1002503},null,2347]
[1002503,2345,"登山",{"$f":"IF(E292=\"\",\"\",B292+1)","v":""},{"$nulls":5},111,{"$f":"IF(J292=\"\",\"\",VLOOKUP(J292,EventNPC!A:E,5,FALSE))","v":"惠子"},{"$f":"IF(M292=\"\",\"\",IF(P292=1,MAX(D292,B292)+1,MAX(B291,L291,D291,X291,AA291)+1))","v":2348},"不瞒道友，我在这藐姑射山的山脚生活多年，并未见过神仙。\n来找神仙的倒是多…",null,10025,{"$f":"IF(O292=O291,P291+1,1)","v":3},{"$f":"_xlfn.TEXTJOIN(\";\",1,R292:S292)","v":""},null,null,{"$f":"IF(R292=\"\",\"\",\"-\"&VLOOKUP(R292,EventConditionConfig!A:C,3,FALSE)&IF(S292=\"\",\"\",CHAR(10)&\"-\"&VLOOKUP(S292,EventConditionConfig!A:C,3,FALSE)))","v":""},{"$f":"IF(Y292=\"\",\"\",1)","v":1},{"$f":"IF(U292=1,A293,\"\")","v":1002504},"2349",2349,"…",null,"",{"$nulls":4},"",{"$f":"IF(AF292=1,A293,IF(AF292=3,LEFT(A292,5)+1,\"\"))","v":""},null,2349]
[1002504,2345,"登山","",{"$nulls":5},111,{"$f":"IF(J293=\"\",\"\",VLOOKUP(J293,EventNPC!A:E,5,FALSE))","v":"惠子"},2350,"不过道友也不要急，我确实听庄子提过，此山有神仙的事迹。",null,10025,4,"",null,null,{"$f":"IF(R293=\"\",\"\",\"-\"&VLOOKUP(R293,EventConditionConfig!A:C,3,FALSE)&IF(S293=\"\",\"\",CHAR(10)&\"-\"&VLOOKUP(S293,EventConditionConfig!A:C,3,FALSE)))","v":""},{"$f":"IF(Y293=\"\",\"\",1)","v":""},{"$f":"IF(U293=1,A294,\"\")","v":""},"","",null,null,"",{"$nulls":4},1,1002505,null,2350]
[1002505,2345,"登山",{"$f":"IF(E294=\"\",\"\",B294+1)","v":""},{"$nulls":5},111,{"$f":"IF(J294=\"\",\"\",VLOOKUP(J294,EventNPC!A:E,5,FALSE))","v":"惠子"},{"$f":"IF(M294=\"\",\"\",IF(P294=1,MAX(D294,B294)+1,MAX(B293,L293,D293,X293,AA293)+1))","v":2351},"我屋后设有一阵法，隐藏了上山的小路，我一会开启法阵，你从那边上山吧。",null,10025,{"$f":"IF(O294=O293,P293+1,1)","v":5},{"$f":"_xlfn.TEXTJOIN(\";\",1,R294:S294)","v":""},null,null,{"$f":"IF(R294=\"\",\"\",\"-\"&VLOOKUP(R294,EventConditionConfig!A:C,3,FALSE)&IF(S294=\"\",\"\",CHAR(10)&\"-\"&VLOOKUP(S294,EventConditionConfig!A:C,3,FALSE)))","v":""},{"$f":"IF(Y294=\"\",\"\",1)","v":1},"1002506;1002507","2352;2353",2352,"我这就启程登山！",null,2353,"道友竟然精通阵法？",null,null,null,"",{"$f":"IF(AF294=1,A295,IF(AF294=3,LEFT(A294,5)+1,\"\"))","v":""},null,2353]
[1002506,2345,"登山","",{"$nulls":5},111,{"$f":"IF(J295=\"\",\"\",VLOOKUP(J295,EventNPC!A:E,5,FALSE))","v":"惠子"},2354,"去吧，登上山顶，也许能找到你想要的。",null,10025,6,"",null,null,{"$f":"IF(R295=\"\",\"\",\"-\"&VLOOKUP(R295,EventConditionConfig!A:C,3,FALSE)&IF(S295=\"\",\"\",CHAR(10)&\"-\"&VLOOKUP(S295,EventConditionConfig!A:C,3,FALSE)))","v":""},1,{"$f":"A298","v":1002509},"","",null,null,"",{"$nulls":4},"","",null,2354]
[1002507,2345,"登山",{"$f":"IF(E296=\"\",\"\",B296+1)","v":""},{"$nulls":5},111,{"$f":"IF(J296=\"\",\"\",VLOOKUP(J296,EventNPC!A:E,5,FALSE))","v":"惠子"},{"$f":"IF(M296=\"\",\"\",IF(P296=1,MAX(D296,B296)+1,MAX(B295,L295,D295,X295,AA295)+1))","v":2355},"好说好说，我确实无心修炼，也对神仙没兴趣。",null,10025,{"$f":"IF(O296=O295,P295+1,1)","v":7},{"$f":"_xlfn.TEXTJOIN(\";\",1,R296:S296)","v":""},null,null,{"$f":"IF(R296=\"\",\"\",\"-\"&VLOOKUP(R296,EventConditionConfig!A:C,3,FALSE)&IF(S296=\"\",\"\",CHAR(10)&\"-\"&VLOOKUP(S296,EventConditionConfig!A:C,3,FALSE)))","v":""},{"$f":"IF(Y296=\"\",\"\",1)","v":""},{"$f":"IF(U296=1,A297,\"\")","v":""},"","",null,null,"",{"$nulls":4},1,{"$f":"IF(AF296=1,A297,IF(AF296=3,LEFT(A296,5)+1,\"\"))","v":1002508},null,2355]
[1002508,2345,"登山",{"$f":"IF(E297=\"\",\"\",B297+1)","v":""},{"$nulls":5},111,{"$f":"IF(J297=\"\",\"\",VLOOKUP(J297,EventNPC!A:E,5,FALSE))","v":"惠子"},{"$f":"IF(M297=\"\",\"\",IF(P297=1,MAX(D297,B297)+1,MAX(B296,L296,D296,X296,AA296)+1))","v":2356},"闲来无事，种种花草，研究研究阵法。\n如果道友有兴趣，可以随时交流。",null,10025,{"$f":"IF(O297=O296,P296+1,1)","v":8},{"$f":"_xlfn.TEXTJOIN(\";\",1,R297:S297)","v":""},null,null,{"$f":"IF(R297=\"\",\"\",\"-\"&VLOOKUP(R297,EventConditionConfig!A:C,3,FALSE)&IF(S297=\"\",\"\",CHAR(10)&\"-\"&VLOOKUP(S297,EventConditionConfig!A:C,3,FALSE)))","v":""},{"$f":"IF(Y297=\"\",\"\",1)","v":""},{"$f":"IF(U297=1,A298,\"\")","v":""},"","",null,null,"",{"$nulls":4},1,{"$f":"IF(AF297=1,A298,IF(AF297=3,LEFT(A297,5)+1,\"\"))","v":1002509},null,2356]
[1002509,2345,"登山",{"$f":"IF(E298=\"\",\"\",B298+1)","v":""},{"$nulls":6},{"$f":"IF(J298=\"\",\"\",VLOOKUP(J298,EventNPC!A:E,5,FALSE))","v":""},{"$f":"IF(M298=\"\",\"\",IF(P298=1,MAX(D298,B298)+1,MAX(B297,L297,D297,X297,AA297)+1))","v":""},null,null,10025,{"$f":"IF(O298=O297,P297+1,1)","v":9},{"$f":"_xlfn.TEXTJOIN(\";\",1,R298:S298)","v":""},null,null,{"$f":"IF(R298=\"\",\"\",\"-\"&VLOOKUP(R298,EventConditionConfig!A:C,3,FALSE)&IF(S298=\"\",\"\",CHAR(10)&\"-\"&VLOOKUP(S298,EventConditionConfig!A:C,3,FALSE)))","v":""},{"$f":"IF(Y298=\"\",\"\",1)","v":""},{"$f":"IF(U298=1,A299,\"\")","v":""},"","",null,null,"",{"$nulls":4},3,{"$f":"IF(AF298=1,A299,IF(AF298=3,LEFT(A298,5)+1,\"\"))","v":10026},null,2345]
[{"$nulls":34},""]
[{"$f":"O300*100+P300","v":3000301},{"$f":"IF(B299=\"\",MAX(AA298,X298,L298,B298,D298,AA297,X297,L297)+1,B299)","v":2357},"击杀妖兽",{"$f":"IF(E300=\"\",\"\",B300+1)","v":""},{"$nulls":6},{"$f":"IF(J300=\"\",\"\",VLOOKUP(J300,EventNPC!A:E,5,FALSE))","v":""},{"$f":"IF(M300=\"\",\"\",IF(P300=1,MAX(D300,B300)+1,MAX(B299,L299,D299,X299,AA299)+1))","v":""},null,null,30003,{"$f":"IF(O300=O299,P299+1,1)","v":1},{"$f":"_xlfn.TEXTJOIN(\";\",1,R300:S300)","v":""},null,null,{"$f":"IF(R300=\"\",\"\",\"-\"&VLOOKUP(R300,EventConditionConfig!A:C,3,FALSE)&IF(S300=\"\",\"\",CHAR(10)&\"-\"&VLOOKUP(S300,EventConditionConfig!A:C,3,FALSE)))","v":""},2,1003,{"$f":"_xlfn.TEXTJOIN(\";\",1,X300,AA300)","v":""},{"$f":"IF(Y300=\"\",\"\",L300+1)","v":""},null,null,{"$f":"IF(AB300=\"\",\"\",X300+1)","v":""},{"$nulls":4},{"$f":"IF(U300=2,2,IF(A300=\"\",\"\",IF(U300=1,\"\",IF(A301=\"\",3,1))))","v":2},"102;101",null,2357]
[{"$nulls":34},""]
[{"$f":"O302*100+P302","v":3000401},{"$f":"IF(B301=\"\",MAX(AA300,X300,L300,B300,D300,AA299,X299,L299)+1,B301)","v":2358},"击败后山小妖",{"$f":"IF(E302=\"\",\"\",B302+1)","v":""},{"$nulls":6},{"$f":"IF(J302=\"\",\"\",VLOOKUP(J302,EventNPC!A:E,5,FALSE))","v":""},{"$f":"IF(M302=\"\",\"\",IF(P302=1,MAX(D302,B302)+1,MAX(B301,L301,D301,X301,AA301)+1))","v":""},null,null,30004,{"$f":"IF(O302=O301,P301+1,1)","v":1},{"$f":"_xlfn.TEXTJOIN(\";\",1,R302:S302)","v":""},null,null,{"$f":"IF(R302=\"\",\"\",\"-\"&VLOOKUP(R302,EventConditionConfig!A:C,3,FALSE)&IF(S302=\"\",\"\",CHAR(10)&\"-\"&VLOOKUP(S302,EventConditionConfig!A:C,3,FALSE)))","v":""},2,1004,{"$f":"_xlfn.TEXTJOIN(\";\",1,X302,AA302)","v":""},{"$f":"IF(Y302=\"\",\"\",L302+1)","v":""},null,null,{"$f":"IF(AB302=\"\",\"\",X302+1)","v":""},{"$nulls":4},{"$f":"IF(U302=2,2,IF(A302=\"\",\"\",IF(U302=1,\"\",IF(A303=\"\",3,1))))","v":2},"102;101",null,2358]
[{"$nulls":34},""]
[{"$f":"O304*100+P304","v":3000501},{"$f":"IF(B303=\"\",MAX(AA302,X302,L302,B302,D302,AA301,X301,L301)+1,B303)","v":2359},"击败夜袭的妖兽",{"$f":"IF(E304=\"\",\"\",B304+1)","v":""},{"$nulls":6},{"$f":"IF(J304=\"\",\"\",VLOOKUP(J304,EventNPC!A:E,5,FALSE))","v":""},{"$f":"IF(M304=\"\",\"\",IF(P304=1,MAX(D304,B304)+1,MAX(B303,L303,D303,X303,AA303)+1))","v":""},null,null,30005,{"$f":"IF(O304=O303,P303+1,1)","v":1},{"$f":"_xlfn.TEXTJOIN(\";\",1,R304:S304)","v":""},null,null,{"$f":"IF(R304=\"\",\"\",\"-\"&VLOOKUP(R304,EventConditionConfig!A:C,3,FALSE)&IF(S304=\"\",\"\",CHAR(10)&\"-\"&VLOOKUP(S304,EventConditionConfig!A:C,3,FALSE)))","v":""},2,1005,{"$f":"_xlfn.TEXTJOIN(\";\",1,X304,AA304)","v":""},{"$f":"IF(Y304=\"\",\"\",L304+1)","v":""},null,null,{"$f":"IF(AB304=\"\",\"\",X304+1)","v":""},{"$nulls":4},{"$f":"IF(U304=2,2,IF(A304=\"\",\"\",IF(U304=1,\"\",IF(A305=\"\",3,1))))","v":2},"102;101",null,2359]
[{"$nulls":34},""]
[{"$f":"O306*100+P306","v":3000601},{"$f":"IF(B305=\"\",MAX(AA304,X304,L304,B304,D304,AA303,X303,L303)+1,B305)","v":2360},"击败峰顶的妖王",{"$f":"IF(E306=\"\",\"\",B306+1)","v":""},{"$nulls":6},{"$f":"IF(J306=\"\",\"\",VLOOKUP(J306,EventNPC!A:E,5,FALSE))","v":""},{"$f":"IF(M306=\"\",\"\",IF(P306=1,MAX(D306,B306)+1,MAX(B305,L305,D305,X305,AA305)+1))","v":""},null,null,30006,{"$f":"IF(O306=O305,P305+1,1)","v":1},{"$f":"_xlfn.TEXTJOIN(\";\",1,R306:S306)","v":""},null,null,{"$f":"IF(R306=\"\",\"\",\"-\"&VLOOKUP(R306,EventConditionConfig!A:C,3,FALSE)&IF(S306=\"\",\"\",CHAR(10)&\"-\"&VLOOKUP(S306,EventConditionConfig!A:C,3,FALSE)))","v":""},2,1006,{"$f":"_xlfn.TEXTJOIN(\";\",1,X306,AA306)","v":""},{"$f":"IF(Y306=\"\",\"\",L306+1)","v":""},null,null,{"$f":"IF(AB306=\"\",\"\",X306+1)","v":""},{"$nulls":4},{"$f":"IF(U306=2,2,IF(A306=\"\",\"\",IF(U306=1,\"\",IF(A307=\"\",3,1))))","v":2},"102;101",null,2360]
[{"$nulls":34},""]
[{"$f":"O308*100+P308","v":3000701},{"$f":"IF(B307=\"\",MAX(AA306,X306,L306,B306,D306,AA305,X305,L305)+1,B307)","v":2361},"击败仙山的阵眼妖兽",{"$f":"IF(E308=\"\",\"\",B308+1)","v":""},{"$nulls":6},{"$f":"IF(J308=\"\",\"\",VLOOKUP(J308,EventNPC!A:E,5,FALSE))","v":""},{"$f":"IF(M308=\"\",\"\",IF(P308=1,MAX(D308,B308)+1,MAX(B307,L307,D307,X307,AA307)+1))","v":""},null,null,30007,{"$f":"IF(O308=O307,P307+1,1)","v":1},{"$f":"_xlfn.TEXTJOIN(\";\",1,R308:S308)","v":""},null,null,{"$f":"IF(R308=\"\",\"\",\"-\"&VLOOKUP(R308,EventConditionConfig!A:C,3,FALSE)&IF(S308=\"\",\"\",CHAR(10)&\"-\"&VLOOKUP(S308,EventConditionConfig!A:C,3,FALSE)))","v":""},2,1007,{"$f":"_xlfn.TEXTJOIN(\";\",1,X308,AA308)","v":""},{"$f":"IF(Y308=\"\",\"\",L308+1)","v":""},null,null,{"$f":"IF(AB308=\"\",\"\",X308+1)","v":""},{"$nulls":4},{"$f":"IF(U308=2,2,IF(A308=\"\",\"\",IF(U308=1,\"\",IF(A309=\"\",3,1))))","v":2},"102;101",null,2361]
[{"$nulls":34},""]
[3000801,2362,"击杀灵兽获得天肥",{"$f":"IF(E310=\"\",\"\",B310+1)","v":""},{"$nulls":6},{"$f":"IF(J310=\"\",\"\",VLOOKUP(J310,EventNPC!A:E,5,FALSE))","v":""},{"$f":"IF(M310=\"\",\"\",IF(P310=1,MAX(D310,B310)+1,MAX(B309,L309,D309,X309,AA309)+1))","v":""},null,null,30008,{"$f":"IF(O310=O309,P309+1,1)","v":1},{"$f":"_xlfn.TEXTJOIN(\";\",1,R310:S310)","v":""},null,null,{"$f":"IF(R310=\"\",\"\",\"-\"&VLOOKUP(R310,EventConditionConfig!A:C,3,FALSE)&IF(S310=\"\",\"\",CHAR(10)&\"-\"&VLOOKUP(S310,EventConditionConfig!A:C,3,FALSE)))","v":""},2,1008,"","",null,null,"",null,null,20002,1,{"$f":"IF(U310=2,2,IF(A310=\"\",\"\",IF(U310=1,\"\",IF(A313=\"\",3,1))))","v":2},"102;101",null,2362]
[{"$nulls":34},""]
[{"$nulls":34},""]
[{"$nulls":34},""]
[{"$f":"O314*100+P314","v":101101},{"$f":"IF(B313=\"\",MAX(AA310,X310,L310,B310,D310,AA309,X309,L309)+1,B313)","v":2363},"神识探索至一处山洞之中，似乎别有洞天",{"$f":"IF(E314=\"\",\"\",B314+1)","v":""},{"$nulls":6},{"$f":"IF(J314=\"\",\"\",VLOOKUP(J314,EventNPC!A:E,5,FALSE))","v":""},{"$f":"IF(M314=\"\",\"\",IF(P314=1,MAX(D314,B314)+1,MAX(B313,L313,D313,X313,AA313)+1))","v":2364},"前往山洞之中收集药材",null,1011,{"$f":"IF(O314=O313,P313+1,1)","v":1},{"$f":"_xlfn.TEXTJOIN(\";\",1,R314:S314)","v":""},null,null,{"$f":"IF(R314=\"\",\"\",\"-\"&VLOOKUP(R314,EventConditionConfig!A:C,3,FALSE)&IF(S314=\"\",\"\",CHAR(10)&\"-\"&VLOOKUP(S314,EventConditionConfig!A:C,3,FALSE)))","v":""},{"$f":"IF(Y314=\"\",\"\",1)","v":""},{"$f":"IF(U314=1,A315,\"\")","v":""},{"$f":"_xlfn.TEXTJOIN(\";\",1,X314,AA314)","v":""},{"$f":"IF(Y314=\"\",\"\",L314+1)","v":""},null,null,{"$f":"IF(AB314=\"\",\"\",X314+1)","v":""},{"$nulls":7},2364]
[{"$nulls":34},""]
[{"$f":"O316*100+P316","v":500101},{"$f":"IF(C316=\"\",\"\",IF(C316=C315,B315,MAX(AI314,AI315)+1))","v":2365},"受疯道人所托，追查《御风化影诀》的下落",{"$f":"IF(E316=\"\",\"\",IF(P316=1,B316+1,IF(E316=E315,D315,MAX(AI315,B316)+1)))","v":2366},"与疯道人对话(0/1)",{"$nulls":4},103,{"$f":"IF(J316=\"\",\"\",VLOOKUP(J316,EventNPC!A:E,5,FALSE))","v":"疯道人"},{"$f":"IF(M316=\"\",\"\",MAX(AI315,B316,D316)+1)","v":2367},"小友留步，老夫有一事相求",null,5001,{"$f":"IF(O316=O315,P315+1,1)","v":1},{"$f":"_xlfn.TEXTJOIN(\";\",1,R316:S316)","v":""},null,null,{"$f":"IF(R316=\"\",\"\",\"-\"&VLOOKUP(R316,EventConditionConfig!A:C,3,FALSE)&IF(S316=\"\",\"\",CHAR(10)&\"-\"&VLOOKUP(S316,EventConditionConfig!A:C,3,FALSE)))","v":""},{"$f":"IF(Y316=\"\",\"\",IF(ISTEXT(Y316),1,2))","v":""},{"$f":"IF(U316=1,_xlfn.TEXTJOIN(\";\",1,IF(Z316=\"\",A316+1,Z316),IF(AND(AA316<>\"\",AC316=\"\"),A316+1,AC316)),IF(U316=2,Y316,\"\"))","v":""},{"$f":"_xlfn.TEXTJOIN(\";\",1,X316,AA316)","v":""},{"$f":"IF(OR(ISNUMBER(Y316),Y316=\"\"),\"\",L316+1)","v":""},null,null,{"$f":"IF(AB316=\"\",\"\",X316+1)","v":""},{"$nulls":4},{"$f":"IF(A317=\"\",IF(OR(AH316>0,VLOOKUP(O316,EventConfig!A:C,3,FALSE)=4),3,\"\"),IF(ISNUMBER(Y316),2,1))","v":1},{"$f":"IF(AF316=\"\",\"\",CHOOSE(AF316,IF(AH316=\"\",A316+1,AH316),CONCATENATE(IF(AH316=\"\",A316+1,AH316),\";101\"),IF(AH316=\"\",O316+1,AH316)))","v":500102},null,2367]
[500102,{"$f":"IF(C317=\"\",\"\",IF(C317=C316,B316,MAX(AI315,AI316)+1))","v":2365},"受疯道人所托，追查《御风化影诀》的下落",{"$f":"IF(E317=\"\",\"\",IF(P317=1,B317+1,IF(E317=E316,D316,MAX(AI316,B317)+1)))","v":2366},"与疯道人对话(0/1)",{"$nulls":4},103,{"$f":"IF(J317=\"\",\"\",VLOOKUP(J317,EventNPC!A:E,5,FALSE))","v":"疯道人"},{"$f":"IF(M317=\"\",\"\",MAX(AI316,B317,D317)+1)","v":2368},"三十年前北海妖族来犯，击退妖族后老夫捡到个被妖兽重伤的娃娃。",null,5001,2,"",null,null,{"$f":"IF(R317=\"\",\"\",\"-\"&VLOOKUP(R317,EventConditionConfig!A:C,3,FALSE)&IF(S317=\"\",\"\",CHAR(10)&\"-\"&VLOOKUP(S317,EventConditionConfig!A:C,3,FALSE)))","v":""},{"$f":"IF(Y317=\"\",\"\",IF(ISTEXT(Y317),1,2))","v":""},{"$f":"IF(U317=1,_xlfn.TEXTJOIN(\";\",1,IF(Z317=\"\",A317+1,Z317),IF(AND(AA317<>\"\",AC317=\"\"),A317+1,AC317)),IF(U317=2,Y317,\"\"))","v":""},{"$f":"_xlfn.TEXTJOIN(\";\",1,X317,AA317)","v":""},{"$f":"IF(OR(ISNUMBER(Y317),Y317=\"\"),\"\",L317+1)","v":""},null,null,"",{"$nulls":4},{"$f":"IF(A318=\"\",IF(OR(AH317>0,VLOOKUP(O317,EventConfig!A:C,3,FALSE)=4),3,\"\"),IF(ISNUMBER(Y317),2,1))","v":1},{"$f":"IF(AF317=\"\",\"\",CHOOSE(AF317,IF(AH317=\"\",A317+1,AH317),CONCATENATE(IF(AH317=\"\",A317+1,AH317),\";101\"),IF(AH317=\"\",O317+1,AH317)))","v":500103},null,2368]
[500103,2365,"受疯道人所托，追查《御风化影诀》的下落",2366,"与疯道人对话(0/1)",{"$nulls":4},103,{"$f":"IF(J318=\"\",\"\",VLOOKUP(J318,EventNPC!A:E,5,FALSE))","v":"疯道人"},2369,"他心口妖气汇聚，周身却萦绕着纯净的风灵根。这般矛盾体质，注定要卷入因果轮回。",null,5001,3,"",null,null,{"$f":"IF(R318=\"\",\"\",\"-\"&VLOOKUP(R318,EventConditionConfig!A:C,3,FALSE)&IF(S318=\"\",\"\",CHAR(10)&\"-\"&VLOOKUP(S318,EventConditionConfig!A:C,3,FALSE)))","v":""},"","","","",null,null,"",{"$nulls":4},{"$f":"IF(A319=\"\",IF(OR(AH318>0,VLOOKUP(O318,EventConfig!A:C,3,FALSE)=4),3,\"\"),IF(ISNUMBER(Y318),2,1))","v":1},500104,null,2369]
[500104,2365,"受疯道人所托，追查《御风化影诀》的下落",2366,"与疯道人对话(0/1)",{"$nulls":4},103,{"$f":"IF(J319=\"\",\"\",VLOOKUP(J319,EventNPC!A:E,5,FALSE))","v":"疯道人"},2370,"于是老夫收留他在门下修养",null,5001,4,"",null,null,{"$f":"IF(R319=\"\",\"\",\"-\"&VLOOKUP(R319,EventConditionConfig!A:C,3,FALSE)&IF(S319=\"\",\"\",CHAR(10)&\"-\"&VLOOKUP(S319,EventConditionConfig!A:C,3,FALSE)))","v":""},"","","","",null,null,"",{"$nulls":4},{"$f":"IF(A320=\"\",IF(OR(AH319>0,VLOOKUP(O319,EventConfig!A:C,3,FALSE)=4),3,\"\"),IF(ISNUMBER(Y319),2,1))","v":1},500105,null,2370]
[500105,2365,"受疯道人所托，追查《御风化影诀》的下落",2366,"与疯道人对话(0/1)",{"$nulls":4},103,{"$f":"IF(J320=\"\",\"\",VLOOKUP(J320,EventNPC!A:E,5,FALSE))","v":"疯道人"},2371,"但他心智被妖气所蛊惑一心只想报仇，整日念叨着要杀尽北海妖族。",null,5001,5,"",null,null,{"$f":"IF(R320=\"\",\"\",\"-\"&VLOOKUP(R320,EventConditionConfig!A:C,3,FALSE)&IF(S320=\"\",\"\",CHAR(10)&\"-\"&VLOOKUP(S320,EventConditionConfig!A:C,3,FALSE)))","v":""},"","","","",null,null,"",{"$nulls":4},{"$f":"IF(A321=\"\",IF(OR(AH320>0,VLOOKUP(O320,EventConfig!A:C,3,FALSE)=4),3,\"\"),IF(ISNUMBER(Y320),2,1))","v":1},500106,null,2371]
[500106,2365,"受疯道人所托，追查《御风化影诀》的下落",2366,"与疯道人对话(0/1)",{"$nulls":4},103,{"$f":"IF(J321=\"\",\"\",VLOOKUP(J321,EventNPC!A:E,5,FALSE))","v":"疯道人"},2372,"但十年的相处老夫早就把他当做亲人看待，为了断掉念想，只得让他离去，他离开之时盗走了洞府中的禁书《御风化影诀》。",null,5001,6,"",null,null,{"$f":"IF(R321=\"\",\"\",\"-\"&VLOOKUP(R321,EventConditionConfig!A:C,3,FALSE)&IF(S321=\"\",\"\",CHAR(10)&\"-\"&VLOOKUP(S321,EventConditionConfig!A:C,3,FALSE)))","v":""},"","","","",null,null,"",{"$nulls":4},{"$f":"IF(A322=\"\",IF(OR(AH321>0,VLOOKUP(O321,EventConfig!A:C,3,FALSE)=4),3,\"\"),IF(ISNUMBER(Y321),2,1))","v":1},500107,null,2372]
[{"$f":"O322*100+P322","v":500107},2365,"受疯道人所托，追查《御风化影诀》的下落",2366,"与疯道人对话(0/1)",{"$nulls":4},100,{"$f":"IF(J322=\"\",\"\",VLOOKUP(J322,EventNPC!A:E,5,FALSE))","v":"玩家"},2373,"\"\"",null,5001,{"$f":"IF(O322=O321,P321+1,1)","v":7},{"$f":"_xlfn.TEXTJOIN(\";\",1,R322:S322)","v":""},null,null,{"$f":"IF(R322=\"\",\"\",\"-\"&VLOOKUP(R322,EventConditionConfig!A:C,3,FALSE)&IF(S322=\"\",\"\",CHAR(10)&\"-\"&VLOOKUP(S322,EventConditionConfig!A:C,3,FALSE)))","v":""},1,"500108;500108","2374;2375",2374,"前辈为何不追",null,{"$f":"IF(AB322=\"\",\"\",X322+1)","v":2375},"他怎会轻易盗走此书",null,null,null,{"$f":"IF(A323=\"\",IF(OR(AH322>0,VLOOKUP(O322,EventConfig!A:C,3,FALSE)=4),3,\"\"),IF(ISNUMBER(Y322),2,1))","v":1},500108,null,2375]
[500108,2365,"受疯道人所托，追查《御风化影诀》的下落",2366,"与疯道人对话(0/1)",{"$nulls":4},103,{"$f":"IF(J323=\"\",\"\",VLOOKUP(J323,EventNPC!A:E,5,FALSE))","v":"疯道人"},2376,"那孩子恐是为了给爹妈寻仇，也是看往日情面，老夫不想亲自动手。",null,5001,8,"",null,null,{"$f":"IF(R323=\"\",\"\",\"-\"&VLOOKUP(R323,EventConditionConfig!A:C,3,FALSE)&IF(S323=\"\",\"\",CHAR(10)&\"-\"&VLOOKUP(S323,EventConditionConfig!A:C,3,FALSE)))","v":""},"","","","",null,null,"",{"$nulls":4},{"$f":"IF(A324=\"\",IF(OR(AH323>0,VLOOKUP(O323,EventConfig!A:C,3,FALSE)=4),3,\"\"),IF(ISNUMBER(Y323),2,1))","v":1},500109,null,2376]
[500109,2365,"受疯道人所托，追查《御风化影诀》的下落",2366,"与疯道人对话(0/1)",{"$nulls":4},103,{"$f":"IF(J324=\"\",\"\",VLOOKUP(J324,EventNPC!A:E,5,FALSE))","v":"疯道人"},2377,"现如今老夫发现山中的生灵会莫名消失，村中孩童也是被神秘的妖气所卷走，这和书中的血肉炼化的方法一模一样，老夫断定是那孩子所为。",null,5001,9,"",null,null,{"$f":"IF(R324=\"\",\"\",\"-\"&VLOOKUP(R324,EventConditionConfig!A:C,3,FALSE)&IF(S324=\"\",\"\",CHAR(10)&\"-\"&VLOOKUP(S324,EventConditionConfig!A:C,3,FALSE)))","v":""},"","","","",null,null,"",{"$nulls":4},{"$f":"IF(A325=\"\",IF(OR(AH324>0,VLOOKUP(O324,EventConfig!A:C,3,FALSE)=4),3,\"\"),IF(ISNUMBER(Y324),2,1))","v":1},500110,null,2377]
[500110,2365,"受疯道人所托，追查《御风化影诀》的下落",2366,"与疯道人对话(0/1)",{"$nulls":4},103,{"$f":"IF(J325=\"\",\"\",VLOOKUP(J325,EventNPC!A:E,5,FALSE))","v":"疯道人"},2378,"小友，我追踪妖气波动，他就在西边的树林之中！",null,5001,10,"",null,null,{"$f":"IF(R325=\"\",\"\",\"-\"&VLOOKUP(R325,EventConditionConfig!A:C,3,FALSE)&IF(S325=\"\",\"\",CHAR(10)&\"-\"&VLOOKUP(S325,EventConditionConfig!A:C,3,FALSE)))","v":""},5,"","","",null,null,"",{"$nulls":4},{"$f":"IF(A326=\"\",IF(OR(AH325>0,VLOOKUP(O325,EventConfig!A:C,3,FALSE)=4),3,\"\"),IF(ISNUMBER(Y325),2,1))","v":1},500111,null,2378]
[500111,2365,"受疯道人所托，追查《御风化影诀》的下落",2379,"追查风无咎(0/1)",{"$nulls":5},{"$f":"IF(J326=\"\",\"\",VLOOKUP(J326,EventNPC!A:E,5,FALSE))","v":""},2380,"（枯叶居然无风漂浮在空中，地面残留着扭曲的符文刻痕，见风无咎在地上刻画着什么）",null,5001,11,"",null,null,{"$f":"IF(R326=\"\",\"\",\"-\"&VLOOKUP(R326,EventConditionConfig!A:C,3,FALSE)&IF(S326=\"\",\"\",CHAR(10)&\"-\"&VLOOKUP(S326,EventConditionConfig!A:C,3,FALSE)))","v":""},{"$f":"IF(Y326=\"\",\"\",IF(ISTEXT(Y326),1,2))","v":""},"","","",null,null,"",{"$nulls":4},{"$f":"IF(A327=\"\",IF(OR(AH326>0,VLOOKUP(O326,EventConfig!A:C,3,FALSE)=4),3,\"\"),IF(ISNUMBER(Y326),2,1))","v":1},500112,null,{"$f":"IF(A326=\"\",\"\",MAX(B326,D326,L326,X326,AA326))","v":2380}]
[500112,2365,"受疯道人所托，追查《御风化影诀》的下落",2379,"追查风无咎(0/1)",{"$nulls":4},112,{"$f":"IF(J327=\"\",\"\",VLOOKUP(J327,EventNPC!A:E,5,FALSE))","v":"风无咎"},2381,"(看见主角到来)你小子身上怎会有老疯子的气，是那老头让你来抓我的吗。",null,5001,12,"",null,null,{"$f":"IF(R327=\"\",\"\",\"-\"&VLOOKUP(R327,EventConditionConfig!A:C,3,FALSE)&IF(S327=\"\",\"\",CHAR(10)&\"-\"&VLOOKUP(S327,EventConditionConfig!A:C,3,FALSE)))","v":""},"","","","",null,null,"",{"$nulls":4},{"$f":"IF(A328=\"\",IF(OR(AH327>0,VLOOKUP(O327,EventConfig!A:C,3,FALSE)=4),3,\"\"),IF(ISNUMBER(Y327),2,1))","v":1},500113,null,{"$f":"IF(A327=\"\",\"\",MAX(B327,D327,L327,X327,AA327))","v":2381}]
[500113,2365,"受疯道人所托，追查《御风化影诀》的下落",2379,"追查风无咎(0/1)",{"$nulls":4},100,{"$f":"IF(J328=\"\",\"\",VLOOKUP(J328,EventNPC!A:E,5,FALSE))","v":"玩家"},2382,"前辈见往日情面不愿亲自动手，我一人足以",null,5001,13,"",null,null,{"$f":"IF(R328=\"\",\"\",\"-\"&VLOOKUP(R328,EventConditionConfig!A:C,3,FALSE)&IF(S328=\"\",\"\",CHAR(10)&\"-\"&VLOOKUP(S328,EventConditionConfig!A:C,3,FALSE)))","v":""},"","","","",null,null,"",{"$nulls":4},{"$f":"IF(A329=\"\",IF(OR(AH328>0,VLOOKUP(O328,EventConfig!A:C,3,FALSE)=4),3,\"\"),IF(ISNUMBER(Y328),2,1))","v":1},500114,null,{"$f":"IF(A328=\"\",\"\",MAX(B328,D328,L328,X328,AA328))","v":2382}]
[500114,2365,"受疯道人所托，追查《御风化影诀》的下落",2379,"追查风无咎(0/1)",{"$nulls":5},{"$f":"IF(J329=\"\",\"\",VLOOKUP(J329,EventNPC!A:E,5,FALSE))","v":""},2383,"（说罢，风无咎的影子化形，为了一妖，顿时煞气暴涨）",null,5001,14,"",null,null,{"$f":"IF(R329=\"\",\"\",\"-\"&VLOOKUP(R329,EventConditionConfig!A:C,3,FALSE)&IF(S329=\"\",\"\",CHAR(10)&\"-\"&VLOOKUP(S329,EventConditionConfig!A:C,3,FALSE)))","v":""},"","","","",null,null,"",{"$nulls":4},{"$f":"IF(A330=\"\",IF(OR(AH329>0,VLOOKUP(O329,EventConfig!A:C,3,FALSE)=4),3,\"\"),IF(ISNUMBER(Y329),2,1))","v":1},500115,null,2383]
[500115,2365,"受疯道人所托，追查《御风化影诀》的下落",2379,"追查风无咎(0/1)",{"$nulls":4},112,{"$f":"IF(J330=\"\",\"\",VLOOKUP(J330,EventNPC!A:E,5,FALSE))","v":"风无咎"},2384,"如今我自断妖魂炼出影身，正好今天拿你试试！",null,5001,15,"",null,null,{"$f":"IF(R330=\"\",\"\",\"-\"&VLOOKUP(R330,EventConditionConfig!A:C,3,FALSE)&IF(S330=\"\",\"\",CHAR(10)&\"-\"&VLOOKUP(S330,EventConditionConfig!A:C,3,FALSE)))","v":""},2,100001,"","",100001,null,"",{"$nulls":4},{"$f":"IF(A331=\"\",IF(OR(AH330>0,VLOOKUP(O330,EventConfig!A:C,3,FALSE)=4),3,\"\"),IF(ISNUMBER(Y330),2,1))","v":2},"500116;101",null,2384]
[500116,2365,"受疯道人所托，追查《御风化影诀》的下落",2379,"追查风无咎(0/1)",{"$nulls":4},112,{"$f":"IF(J331=\"\",\"\",VLOOKUP(J331,EventNPC!A:E,5,FALSE))","v":"风无咎"},2385,"岂会如此！",null,5001,16,"",null,null,{"$f":"IF(R331=\"\",\"\",\"-\"&VLOOKUP(R331,EventConditionConfig!A:C,3,FALSE)&IF(S331=\"\",\"\",CHAR(10)&\"-\"&VLOOKUP(S331,EventConditionConfig!A:C,3,FALSE)))","v":""},1,"500117","2386",2386,"交还书页，我可留你魂魄入轮回。",null,"",{"$nulls":4},{"$f":"IF(A332=\"\",IF(OR(AH331>0,VLOOKUP(O331,EventConfig!A:C,3,FALSE)=4),3,\"\"),IF(ISNUMBER(Y331),2,1))","v":1},500117,null,2386]
[500117,2365,"受疯道人所托，追查《御风化影诀》的下落",2379,"追查风无咎(0/1)",{"$nulls":4},112,{"$f":"IF(J332=\"\",\"\",VLOOKUP(J332,EventNPC!A:E,5,FALSE))","v":"风无咎"},2387,"轮回？今日是我大意了！老东西还有你，给我等着！（化作一震妖风带着《御风化影诀》逃往远方",null,5001,17,"",null,null,{"$f":"IF(R332=\"\",\"\",\"-\"&VLOOKUP(R332,EventConditionConfig!A:C,3,FALSE)&IF(S332=\"\",\"\",CHAR(10)&\"-\"&VLOOKUP(S332,EventConditionConfig!A:C,3,FALSE)))","v":""},"","","","",null,null,"",{"$nulls":4},{"$f":"IF(A333=\"\",IF(OR(AH332>0,VLOOKUP(O332,EventConfig!A:C,3,FALSE)=4),3,\"\"),IF(ISNUMBER(Y332),2,1))","v":1},500118,null,2387]
[500118,2365,"受疯道人所托，追查《御风化影诀》的下落",2379,"追查风无咎(0/1)",{"$nulls":4},103,{"$f":"IF(J333=\"\",\"\",VLOOKUP(J333,EventNPC!A:E,5,FALSE))","v":"疯道人"},2388,"这孩子天资聪颖，短短二十年就能参悟书中所写。",null,5001,18,"",null,null,{"$f":"IF(R333=\"\",\"\",\"-\"&VLOOKUP(R333,EventConditionConfig!A:C,3,FALSE)&IF(S333=\"\",\"\",CHAR(10)&\"-\"&VLOOKUP(S333,EventConditionConfig!A:C,3,FALSE)))","v":""},"","","","",null,null,"",{"$nulls":4},{"$f":"IF(A334=\"\",IF(OR(AH333>0,VLOOKUP(O333,EventConfig!A:C,3,FALSE)=4),3,\"\"),IF(ISNUMBER(Y333),2,1))","v":1},500119,null,2388]
[500119,2365,"受疯道人所托，追查《御风化影诀》的下落",2379,"追查风无咎(0/1)",{"$nulls":4},103,{"$f":"IF(J334=\"\",\"\",VLOOKUP(J334,EventNPC!A:E,5,FALSE))","v":"疯道人"},2389,"无妨，此法需要大量血肉献祭，如此规模的法术定会妖气四散，找到他也是迟早之事。",null,5001,19,"",null,null,{"$f":"IF(R334=\"\",\"\",\"-\"&VLOOKUP(R334,EventConditionConfig!A:C,3,FALSE)&IF(S334=\"\",\"\",CHAR(10)&\"-\"&VLOOKUP(S334,EventConditionConfig!A:C,3,FALSE)))","v":""},"","","","",null,null,"",{"$nulls":4},{"$f":"IF(A335=\"\",IF(OR(AH334>0,VLOOKUP(O334,EventConfig!A:C,3,FALSE)=4),3,\"\"),IF(ISNUMBER(Y334),2,1))","v":""},{"$f":"IF(AF334=\"\",\"\",CHOOSE(AF334,IF(AH334=\"\",A334+1,AH334),CONCATENATE(IF(AH334=\"\",A334+1,AH334),\";101\"),IF(AH334=\"\",O334+1,AH334)))","v":""},null,{"$f":"IF(A334=\"\",\"\",MAX(B334,D334,L334,X334,AA334))","v":2389}]
[]
[{"$f":"O336*100+P336","v":500301},2412,"受化妖剑士所托，帮助他消灭藏匿北海的海妖",{"$f":"IF(E336=\"\",\"\",IF(P336=1,B336+1,IF(E336=E335,D335,MAX(AI335,B336)+1)))","v":2413},"与化妖剑士对话",{"$nulls":5},{"$f":"IF(J336=\"\",\"\",VLOOKUP(J336,EventNPC!A:E,5,FALSE))","v":""},{"$f":"IF(M336=\"\",\"\",MAX(AI335,B336,D336)+1)","v":2414},"咸腥的海风中，你看见礁石上蜷缩着人形怪物——它的脊椎刺破皮肤形成剑鞘，一柄生满红锈的巨剑就背在嵴骨之间。当它转头看向你时，你不由得心底生寒。",null,5003,{"$f":"IF(O336=O335,P335+1,1)","v":1},{"$f":"_xlfn.TEXTJOIN(\";\",1,R336:S336)","v":""},null,null,{"$f":"IF(R336=\"\",\"\",\"-\"&VLOOKUP(R336,EventConditionConfig!A:C,3,FALSE)&IF(S336=\"\",\"\",CHAR(10)&\"-\"&VLOOKUP(S336,EventConditionConfig!A:C,3,FALSE)))","v":""},{"$f":"IF(Y336=\"\",\"\",IF(ISTEXT(Y336),1,2))","v":""},{"$f":"IF(U336=1,_xlfn.TEXTJOIN(\";\",1,IF(Z336=\"\",A336+1,Z336),IF(AND(AA336<>\"\",AC336=\"\"),A336+1,AC336)),IF(U336=2,Y336,\"\"))","v":""},{"$f":"_xlfn.TEXTJOIN(\";\",1,X336,AA336)","v":""},{"$f":"IF(OR(ISNUMBER(Y336),Y336=\"\"),\"\",L336+1)","v":""},null,null,{"$f":"IF(AB336=\"\",\"\",X336+1)","v":""},{"$nulls":4},{"$f":"IF(A337=\"\",IF(OR(AH336>0,VLOOKUP(O336,EventConfig!A:C,3,FALSE)=4),3,\"\"),IF(ISNUMBER(Y336),2,1))","v":1},{"$f":"IF(AF336=\"\",\"\",CHOOSE(AF336,IF(AH336=\"\",A336+1,AH336),CONCATENATE(IF(AH336=\"\",A336+1,AH336),\";101\"),IF(AH336=\"\",O336+1,AH336)))","v":500302},null,{"$f":"IF(A336=\"\",\"\",MAX(B336,D336,L336,X336,AA336))","v":2414}]
[500302,{"$f":"IF(C337=\"\",\"\",IF(C337=C336,B336,MAX(AI335,AI336)+1))","v":2412},"受化妖剑士所托，帮助他消灭藏匿北海的海妖",2413,"与化妖剑士对话",{"$nulls":4},113,{"$f":"IF(J337=\"\",\"\",VLOOKUP(J337,EventNPC!A:E,5,FALSE))","v":"北海剑妖"},2415,"你闻到了吗...海里的血锈味。那厮海妖在这片海滩卷走阿蘅时的这种味道",null,5003,2,"",null,null,{"$f":"IF(R337=\"\",\"\",\"-\"&VLOOKUP(R337,EventConditionConfig!A:C,3,FALSE)&IF(S337=\"\",\"\",CHAR(10)&\"-\"&VLOOKUP(S337,EventConditionConfig!A:C,3,FALSE)))","v":""},"","","","",null,null,"",{"$nulls":4},{"$f":"IF(A338=\"\",IF(OR(AH337>0,VLOOKUP(O337,EventConfig!A:C,3,FALSE)=4),3,\"\"),IF(ISNUMBER(Y337),2,1))","v":1},500303,null,2415]
[500303,{"$f":"IF(C338=\"\",\"\",IF(C338=C337,B337,MAX(AI336,AI337)+1))","v":2412},"受化妖剑士所托，帮助他消灭藏匿北海的海妖",2413,"与化妖剑士对话",{"$nulls":4},100,{"$f":"IF(J338=\"\",\"\",VLOOKUP(J338,EventNPC!A:E,5,FALSE))","v":"玩家"},2416,"什么血锈味，我闻不见，你口中的阿蘅是？",null,5003,3,"",null,null,{"$f":"IF(R338=\"\",\"\",\"-\"&VLOOKUP(R338,EventConditionConfig!A:C,3,FALSE)&IF(S338=\"\",\"\",CHAR(10)&\"-\"&VLOOKUP(S338,EventConditionConfig!A:C,3,FALSE)))","v":""},"","","","",null,null,"",{"$nulls":4},{"$f":"IF(A339=\"\",IF(OR(AH338>0,VLOOKUP(O338,EventConfig!A:C,3,FALSE)=4),3,\"\"),IF(ISNUMBER(Y338),2,1))","v":1},500304,null,2416]
[500304,2412,"受化妖剑士所托，帮助他消灭藏匿北海的海妖",2413,"与化妖剑士对话",{"$nulls":4},113,{"$f":"IF(J339=\"\",\"\",VLOOKUP(J339,EventNPC!A:E,5,FALSE))","v":"北海剑妖"},2417,"我的妻子。",null,5003,4,"",null,null,{"$f":"IF(R339=\"\",\"\",\"-\"&VLOOKUP(R339,EventConditionConfig!A:C,3,FALSE)&IF(S339=\"\",\"\",CHAR(10)&\"-\"&VLOOKUP(S339,EventConditionConfig!A:C,3,FALSE)))","v":""},"","","","",null,null,"",{"$nulls":4},{"$f":"IF(A340=\"\",IF(OR(AH339>0,VLOOKUP(O339,EventConfig!A:C,3,FALSE)=4),3,\"\"),IF(ISNUMBER(Y339),2,1))","v":1},500305,null,2417]
[500305,2412,"受化妖剑士所托，帮助他消灭藏匿北海的海妖",2413,"与化妖剑士对话",{"$nulls":4},100,{"$f":"IF(J340=\"\",\"\",VLOOKUP(J340,EventNPC!A:E,5,FALSE))","v":"玩家"},2418,"妖怪还有妻子，还挺稀奇。",null,5003,5,"",null,null,{"$f":"IF(R340=\"\",\"\",\"-\"&VLOOKUP(R340,EventConditionConfig!A:C,3,FALSE)&IF(S340=\"\",\"\",CHAR(10)&\"-\"&VLOOKUP(S340,EventConditionConfig!A:C,3,FALSE)))","v":""},"","","","",null,null,"",{"$nulls":4},{"$f":"IF(A341=\"\",IF(OR(AH340>0,VLOOKUP(O340,EventConfig!A:C,3,FALSE)=4),3,\"\"),IF(ISNUMBER(Y340),2,1))","v":1},500306,null,2418]
[500306,2412,"受化妖剑士所托，帮助他消灭藏匿北海的海妖",2413,"与化妖剑士对话",{"$nulls":4},113,{"$f":"IF(J341=\"\",\"\",VLOOKUP(J341,EventNPC!A:E,5,FALSE))","v":"北海剑妖"},2419,"当年我可是和你一样的修士，但从那之后一切都变了",null,5003,6,"",null,null,{"$f":"IF(R341=\"\",\"\",\"-\"&VLOOKUP(R341,EventConditionConfig!A:C,3,FALSE)&IF(S341=\"\",\"\",CHAR(10)&\"-\"&VLOOKUP(S341,EventConditionConfig!A:C,3,FALSE)))","v":""},"","","","",null,null,"",{"$nulls":4},{"$f":"IF(A342=\"\",IF(OR(AH341>0,VLOOKUP(O341,EventConfig!A:C,3,FALSE)=4),3,\"\"),IF(ISNUMBER(Y341),2,1))","v":1},500307,null,2419]
[500307,2412,"受化妖剑士所托，帮助他消灭藏匿北海的海妖",2413,"与化妖剑士对话",{"$nulls":4},113,{"$f":"IF(J342=\"\",\"\",VLOOKUP(J342,EventNPC!A:E,5,FALSE))","v":"北海剑妖"},2420,"百余年我送给阿蘅的定情信物贝壳项链，被阿蘅不慎遗失在这片海滩，她于是在这苦苦寻找。可突然间一头妖兽现身，将她拖入了海中！",null,5003,7,"",null,null,{"$f":"IF(R342=\"\",\"\",\"-\"&VLOOKUP(R342,EventConditionConfig!A:C,3,FALSE)&IF(S342=\"\",\"\",CHAR(10)&\"-\"&VLOOKUP(S342,EventConditionConfig!A:C,3,FALSE)))","v":""},"","","","",null,null,"",{"$nulls":4},{"$f":"IF(A343=\"\",IF(OR(AH342>0,VLOOKUP(O342,EventConfig!A:C,3,FALSE)=4),3,\"\"),IF(ISNUMBER(Y342),2,1))","v":1},500308,null,2420]
[500308,2412,"受化妖剑士所托，帮助他消灭藏匿北海的海妖",2413,"与化妖剑士对话",{"$nulls":4},113,{"$f":"IF(J343=\"\",\"\",VLOOKUP(J343,EventNPC!A:E,5,FALSE))","v":"北海剑妖"},2421,"得知此事后一直守在这，等着那厮妖兽从海中现身。",null,5003,8,"",null,null,{"$f":"IF(R343=\"\",\"\",\"-\"&VLOOKUP(R343,EventConditionConfig!A:C,3,FALSE)&IF(S343=\"\",\"\",CHAR(10)&\"-\"&VLOOKUP(S343,EventConditionConfig!A:C,3,FALSE)))","v":""},"","","","",null,null,"",{"$nulls":4},{"$f":"IF(A344=\"\",IF(OR(AH343>0,VLOOKUP(O343,EventConfig!A:C,3,FALSE)=4),3,\"\"),IF(ISNUMBER(Y343),2,1))","v":1},500309,null,2421]
[500309,2412,"受化妖剑士所托，帮助他消灭藏匿北海的海妖",2413,"与化妖剑士对话",{"$nulls":4},113,{"$f":"IF(J344=\"\",\"\",VLOOKUP(J344,EventNPC!A:E,5,FALSE))","v":"北海剑妖"},2422,"我在这片海滩终于等到那厮妖兽从海中出现，我便提剑向其冲去，我的剑深深刺入了妖兽的身体，它一吃痛逃入了这片海中，空中忽然刮起了狂风，被狂风阻拦无法进入海中追寻，妖兽也被狂风困在了海中",null,5003,9,"",null,null,{"$f":"IF(R344=\"\",\"\",\"-\"&VLOOKUP(R344,EventConditionConfig!A:C,3,FALSE)&IF(S344=\"\",\"\",CHAR(10)&\"-\"&VLOOKUP(S344,EventConditionConfig!A:C,3,FALSE)))","v":""},"","","","",null,null,"",{"$nulls":4},{"$f":"IF(A345=\"\",IF(OR(AH344>0,VLOOKUP(O344,EventConfig!A:C,3,FALSE)=4),3,\"\"),IF(ISNUMBER(Y344),2,1))","v":1},500310,null,2422]
[500310,2412,"受化妖剑士所托，帮助他消灭藏匿北海的海妖",2413,"与化妖剑士对话",{"$nulls":4},113,{"$f":"IF(J345=\"\",\"\",VLOOKUP(J345,EventNPC!A:E,5,FALSE))","v":"北海剑妖"},2423,"那你为何会变成了妖",null,5003,10,"",null,null,{"$f":"IF(R345=\"\",\"\",\"-\"&VLOOKUP(R345,EventConditionConfig!A:C,3,FALSE)&IF(S345=\"\",\"\",CHAR(10)&\"-\"&VLOOKUP(S345,EventConditionConfig!A:C,3,FALSE)))","v":""},"","","","",null,null,"",{"$nulls":4},{"$f":"IF(A346=\"\",IF(OR(AH345>0,VLOOKUP(O345,EventConfig!A:C,3,FALSE)=4),3,\"\"),IF(ISNUMBER(Y345),2,1))","v":1},500311,null,2423]
[500311,2412,"受化妖剑士所托，帮助他消灭藏匿北海的海妖",2413,"与化妖剑士对话",{"$nulls":4},113,{"$f":"IF(J346=\"\",\"\",VLOOKUP(J346,EventNPC!A:E,5,FALSE))","v":"北海剑妖"},2424,"因北海妖气横行，我被妖气入体，身体慢慢发生了变化，不妨这也算北海对我的恩赐，妻子死后我日以继日的待在这里等着复仇，等着斩杀掉那只吞掉我妻子的妖兽。",null,5003,11,"",null,null,{"$f":"IF(R346=\"\",\"\",\"-\"&VLOOKUP(R346,EventConditionConfig!A:C,3,FALSE)&IF(S346=\"\",\"\",CHAR(10)&\"-\"&VLOOKUP(S346,EventConditionConfig!A:C,3,FALSE)))","v":""},"","","","",null,null,"",{"$nulls":4},{"$f":"IF(A347=\"\",IF(OR(AH346>0,VLOOKUP(O346,EventConfig!A:C,3,FALSE)=4),3,\"\"),IF(ISNUMBER(Y346),2,1))","v":1},500312,null,2424]
[500312,2412,"受化妖剑士所托，帮助他消灭藏匿北海的海妖",2413,"与化妖剑士对话",{"$nulls":4},113,{"$f":"IF(J347=\"\",\"\",VLOOKUP(J347,EventNPC!A:E,5,FALSE))","v":"北海剑妖"},2425,"我有办法驱散狂风",null,5003,12,"",null,null,{"$f":"IF(R347=\"\",\"\",\"-\"&VLOOKUP(R347,EventConditionConfig!A:C,3,FALSE)&IF(S347=\"\",\"\",CHAR(10)&\"-\"&VLOOKUP(S347,EventConditionConfig!A:C,3,FALSE)))","v":""},"","","","",null,null,"",{"$nulls":4},{"$f":"IF(A348=\"\",IF(OR(AH347>0,VLOOKUP(O347,EventConfig!A:C,3,FALSE)=4),3,\"\"),IF(ISNUMBER(Y347),2,1))","v":1},500313,null,2425]
[500313,2412,"受化妖剑士所托，帮助他消灭藏匿北海的海妖",2413,"与化妖剑士对话",{"$nulls":5},{"$f":"IF(J348=\"\",\"\",VLOOKUP(J348,EventNPC!A:E,5,FALSE))","v":""},2426,"（拿出风灵珠驱散海面狂风）（瞬间海面变的不平，一头妖力浑厚的妖兽从海面中跃出）",null,5003,13,"",null,null,{"$f":"IF(R348=\"\",\"\",\"-\"&VLOOKUP(R348,EventConditionConfig!A:C,3,FALSE)&IF(S348=\"\",\"\",CHAR(10)&\"-\"&VLOOKUP(S348,EventConditionConfig!A:C,3,FALSE)))","v":""},"","","","",null,null,"",{"$nulls":4},{"$f":"IF(A349=\"\",IF(OR(AH348>0,VLOOKUP(O348,EventConfig!A:C,3,FALSE)=4),3,\"\"),IF(ISNUMBER(Y348),2,1))","v":1},500314,null,2426]
[500314,2412,"受化妖剑士所托，帮助他消灭藏匿北海的海妖",2427,"追查海妖(0/1)",{"$nulls":4},113,{"$f":"IF(J349=\"\",\"\",VLOOKUP(J349,EventNPC!A:E,5,FALSE))","v":"北海剑妖"},2428,"小友有如此绝技，当斩杀那厮妖兽后定当好好报答你！",null,5003,14,"",null,null,{"$f":"IF(R349=\"\",\"\",\"-\"&VLOOKUP(R349,EventConditionConfig!A:C,3,FALSE)&IF(S349=\"\",\"\",CHAR(10)&\"-\"&VLOOKUP(S349,EventConditionConfig!A:C,3,FALSE)))","v":""},2,100001,"","",100001,null,"",{"$nulls":4},{"$f":"IF(A350=\"\",IF(OR(AH349>0,VLOOKUP(O349,EventConfig!A:C,3,FALSE)=4),3,\"\"),IF(ISNUMBER(Y349),2,1))","v":2},"500315;101",null,2428]
[500315,2412,"受化妖剑士所托，帮助他消灭藏匿北海的海妖",2427,"追查海妖(0/1)",{"$nulls":4},113,{"$f":"IF(J350=\"\",\"\",VLOOKUP(J350,EventNPC!A:E,5,FALSE))","v":"北海剑妖"},2429,"小友你快躲开，无论如何我也要这妖兽葬身于此！即便魂飞魄散永世不得轮回也无所谓！阿蘅，我来见你了！",null,5003,15,"",null,null,{"$f":"IF(R350=\"\",\"\",\"-\"&VLOOKUP(R350,EventConditionConfig!A:C,3,FALSE)&IF(S350=\"\",\"\",CHAR(10)&\"-\"&VLOOKUP(S350,EventConditionConfig!A:C,3,FALSE)))","v":""},"","","","",null,null,"",{"$nulls":4},{"$f":"IF(A351=\"\",IF(OR(AH350>0,VLOOKUP(O350,EventConfig!A:C,3,FALSE)=4),3,\"\"),IF(ISNUMBER(Y350),2,1))","v":1},500316,null,2429]
[500316,2412,"受化妖剑士所托，帮助他消灭藏匿北海的海妖",2427,"追查海妖(0/1)",{"$nulls":5},{"$f":"IF(J351=\"\",\"\",VLOOKUP(J351,EventNPC!A:E,5,FALSE))","v":""},2430,"海面沸腾，妖兽嘶吼着掀起滔天巨浪，触须如铁鞭般抽向你。剑妖猛地推开你，他脊骨间的锈剑剧烈震颤，裂纹中迸发出刺目的血光。",null,5003,16,"",null,null,{"$f":"IF(R351=\"\",\"\",\"-\"&VLOOKUP(R351,EventConditionConfig!A:C,3,FALSE)&IF(S351=\"\",\"\",CHAR(10)&\"-\"&VLOOKUP(S351,EventConditionConfig!A:C,3,FALSE)))","v":""},"","","","",null,null,"",{"$nulls":4},{"$f":"IF(A352=\"\",IF(OR(AH351>0,VLOOKUP(O351,EventConfig!A:C,3,FALSE)=4),3,\"\"),IF(ISNUMBER(Y351),2,1))","v":1},500317,null,2430]
[500317,2412,"受化妖剑士所托，帮助他消灭藏匿北海的海妖",2427,"追查海妖(0/1)",{"$nulls":4},113,{"$f":"IF(J352=\"\",\"\",VLOOKUP(J352,EventNPC!A:E,5,FALSE))","v":"北海剑妖"},2431,"百年的执念……今日，该了结了！",null,5003,17,"",null,null,{"$f":"IF(R352=\"\",\"\",\"-\"&VLOOKUP(R352,EventConditionConfig!A:C,3,FALSE)&IF(S352=\"\",\"\",CHAR(10)&\"-\"&VLOOKUP(S352,EventConditionConfig!A:C,3,FALSE)))","v":""},"","","","",null,null,"",{"$nulls":4},{"$f":"IF(A353=\"\",IF(OR(AH352>0,VLOOKUP(O352,EventConfig!A:C,3,FALSE)=4),3,\"\"),IF(ISNUMBER(Y352),2,1))","v":1},500318,null,2431]
[500318,2412,"受化妖剑士所托，帮助他消灭藏匿北海的海妖",2427,"追查海妖(0/1)",{"$nulls":5},{"$f":"IF(J353=\"\",\"\",VLOOKUP(J353,EventNPC!A:E,5,FALSE))","v":""},2432,"剑妖的身体开始崩解，血肉化作赤红的火焰，缠绕着锈剑熊熊燃烧。那半枚嵌在脸上的银簪突然亮起幽蓝的光，与妖兽颅骨中的另半枚遥相呼应。",null,5003,18,"",null,null,{"$f":"IF(R353=\"\",\"\",\"-\"&VLOOKUP(R353,EventConditionConfig!A:C,3,FALSE)&IF(S353=\"\",\"\",CHAR(10)&\"-\"&VLOOKUP(S353,EventConditionConfig!A:C,3,FALSE)))","v":""},"","","","",null,null,"",{"$nulls":4},{"$f":"IF(A354=\"\",IF(OR(AH353>0,VLOOKUP(O353,EventConfig!A:C,3,FALSE)=4),3,\"\"),IF(ISNUMBER(Y353),2,1))","v":1},500319,null,2432]
[500319,2412,"受化妖剑士所托，帮助他消灭藏匿北海的海妖",2427,"追查海妖(0/1)",{"$nulls":4},113,{"$f":"IF(J354=\"\",\"\",VLOOKUP(J354,EventNPC!A:E,5,FALSE))","v":"北海剑妖"},2433,"阿蘅……你看到了吗？我终于……能带你回家了！",null,5003,19,"",null,null,{"$f":"IF(R354=\"\",\"\",\"-\"&VLOOKUP(R354,EventConditionConfig!A:C,3,FALSE)&IF(S354=\"\",\"\",CHAR(10)&\"-\"&VLOOKUP(S354,EventConditionConfig!A:C,3,FALSE)))","v":""},"","","","",null,null,"",{"$nulls":4},{"$f":"IF(A355=\"\",IF(OR(AH354>0,VLOOKUP(O354,EventConfig!A:C,3,FALSE)=4),3,\"\"),IF(ISNUMBER(Y354),2,1))","v":1},500320,null,2433]
[500320,2412,"受化妖剑士所托，帮助他消灭藏匿北海的海妖",2427,"追查海妖(0/1)",{"$nulls":5},{"$f":"IF(J355=\"\",\"\",VLOOKUP(J355,EventNPC!A:E,5,FALSE))","v":""},2434,"他化作一道血色，贯穿妖兽的头颅。银簪在爆炸的强光中被蹦飞，妖兽发出凄厉的哀嚎，庞大的身躯寸寸瓦解，化作漫天荧光。",null,5003,20,"",null,null,{"$f":"IF(R355=\"\",\"\",\"-\"&VLOOKUP(R355,EventConditionConfig!A:C,3,FALSE)&IF(S355=\"\",\"\",CHAR(10)&\"-\"&VLOOKUP(S355,EventConditionConfig!A:C,3,FALSE)))","v":""},"","","","",null,null,"",{"$nulls":7},2434]
[]
[{"$f":"O357*100+P357","v":500201},{"$f":"IF(C357=\"\",\"\",IF(C357=C356,B356,MAX(AI355,AI356)+1))","v":2435},"受疯道人所托，追查《御风化影诀》的下落",{"$f":"IF(E357=\"\",\"\",IF(P357=1,B357+1,IF(E357=E356,D356,MAX(AI356,B357)+1)))","v":2436},"与疯道人对话(0/1)",{"$nulls":4},103,{"$f":"IF(J357=\"\",\"\",VLOOKUP(J357,EventNPC!A:E,5,FALSE))","v":"疯道人"},{"$f":"IF(M357=\"\",\"\",MAX(AI356,B357,D357)+1)","v":2437},"小友，可曾记得风无咎",null,5002,{"$f":"IF(O357=O356,P356+1,1)","v":1},{"$f":"_xlfn.TEXTJOIN(\";\",1,R357:S357)","v":""},null,null,{"$f":"IF(R357=\"\",\"\",\"-\"&VLOOKUP(R357,EventConditionConfig!A:C,3,FALSE)&IF(S357=\"\",\"\",CHAR(10)&\"-\"&VLOOKUP(S357,EventConditionConfig!A:C,3,FALSE)))","v":""},{"$f":"IF(Y357=\"\",\"\",IF(ISTEXT(Y357),1,2))","v":""},{"$f":"IF(U357=1,_xlfn.TEXTJOIN(\";\",1,IF(Z357=\"\",A357+1,Z357),IF(AND(AA357<>\"\",AC357=\"\"),A357+1,AC357)),IF(U357=2,Y357,\"\"))","v":""},{"$f":"_xlfn.TEXTJOIN(\";\",1,X357,AA357)","v":""},{"$f":"IF(OR(ISNUMBER(Y357),Y357=\"\"),\"\",L357+1)","v":""},null,null,{"$f":"IF(AB357=\"\",\"\",X357+1)","v":""},{"$nulls":4},{"$f":"IF(A358=\"\",IF(OR(AH357>0,VLOOKUP(O357,EventConfig!A:C,3,FALSE)=4),3,\"\"),IF(ISNUMBER(Y357),2,1))","v":1},{"$f":"IF(AF357=\"\",\"\",CHOOSE(AF357,IF(AH357=\"\",A357+1,AH357),CONCATENATE(IF(AH357=\"\",A357+1,AH357),\";101\"),IF(AH357=\"\",O357+1,AH357)))","v":500202},null,{"$f":"IF(A357=\"\",\"\",MAX(B357,D357,L357,X357,AA357))","v":2437}]
[500202,2435,"受疯道人所托，追查《御风化影诀》的下落",2436,"与疯道人对话(0/1)",{"$nulls":4},103,{"$f":"IF(J358=\"\",\"\",VLOOKUP(J358,EventNPC!A:E,5,FALSE))","v":"疯道人"},2438,"老夫感受到了风无咎的藏匿之地。",null,5002,2,"",null,null,{"$f":"IF(R358=\"\",\"\",\"-\"&VLOOKUP(R358,EventConditionConfig!A:C,3,FALSE)&IF(S358=\"\",\"\",CHAR(10)&\"-\"&VLOOKUP(S358,EventConditionConfig!A:C,3,FALSE)))","v":""},"","","","",null,null,"",{"$nulls":4},{"$f":"IF(A359=\"\",IF(OR(AH358>0,VLOOKUP(O358,EventConfig!A:C,3,FALSE)=4),3,\"\"),IF(ISNUMBER(Y358),2,1))","v":1},500203,null,2438]
[500203,2435,"受疯道人所托，追查《御风化影诀》的下落",2436,"与疯道人对话(0/1)",{"$nulls":4},100,{"$f":"IF(J359=\"\",\"\",VLOOKUP(J359,EventNPC!A:E,5,FALSE))","v":"玩家"},2439,"前辈我这就赶去。",null,5002,3,"",null,null,{"$f":"IF(R359=\"\",\"\",\"-\"&VLOOKUP(R359,EventConditionConfig!A:C,3,FALSE)&IF(S359=\"\",\"\",CHAR(10)&\"-\"&VLOOKUP(S359,EventConditionConfig!A:C,3,FALSE)))","v":""},"","","","",null,null,"",{"$nulls":4},{"$f":"IF(A360=\"\",IF(OR(AH359>0,VLOOKUP(O359,EventConfig!A:C,3,FALSE)=4),3,\"\"),IF(ISNUMBER(Y359),2,1))","v":1},500204,null,2439]
[500204,2435,"受疯道人所托，追查《御风化影诀》的下落",2436,"与疯道人对话(0/1)",{"$nulls":5},{"$f":"IF(J360=\"\",\"\",VLOOKUP(J360,EventNPC!A:E,5,FALSE))","v":""},2440,"（风无咎在一血池之中打坐，身旁妖气环绕，一眼望去全是生灵血肉）",null,5002,4,"",null,null,{"$f":"IF(R360=\"\",\"\",\"-\"&VLOOKUP(R360,EventConditionConfig!A:C,3,FALSE)&IF(S360=\"\",\"\",CHAR(10)&\"-\"&VLOOKUP(S360,EventConditionConfig!A:C,3,FALSE)))","v":""},"","","","",null,null,"",{"$nulls":4},{"$f":"IF(A361=\"\",IF(OR(AH360>0,VLOOKUP(O360,EventConfig!A:C,3,FALSE)=4),3,\"\"),IF(ISNUMBER(Y360),2,1))","v":1},500205,null,2440]
[500205,2435,"受疯道人所托，追查《御风化影诀》的下落",2436,"与疯道人对话(0/1)",{"$nulls":4},103,{"$f":"IF(J361=\"\",\"\",VLOOKUP(J361,EventNPC!A:E,5,FALSE))","v":"疯道人"},2441,"竟用生魂喂养功法...小友当心！",null,5002,5,"",null,null,{"$f":"IF(R361=\"\",\"\",\"-\"&VLOOKUP(R361,EventConditionConfig!A:C,3,FALSE)&IF(S361=\"\",\"\",CHAR(10)&\"-\"&VLOOKUP(S361,EventConditionConfig!A:C,3,FALSE)))","v":""},"","","","",null,null,"",{"$nulls":4},{"$f":"IF(A362=\"\",IF(OR(AH361>0,VLOOKUP(O361,EventConfig!A:C,3,FALSE)=4),3,\"\"),IF(ISNUMBER(Y361),2,1))","v":1},500206,null,2441]
[500206,2435,"受疯道人所托，追查《御风化影诀》的下落",2436,"与疯道人对话(0/1)",{"$nulls":5},{"$f":"IF(J362=\"\",\"\",VLOOKUP(J362,EventNPC!A:E,5,FALSE))","v":""},2442,"（血池突然炸开，风妖与影妖完全融合，妖躯浮现古魔纹路）",null,5002,6,"",null,null,{"$f":"IF(R362=\"\",\"\",\"-\"&VLOOKUP(R362,EventConditionConfig!A:C,3,FALSE)&IF(S362=\"\",\"\",CHAR(10)&\"-\"&VLOOKUP(S362,EventConditionConfig!A:C,3,FALSE)))","v":""},"","","","",null,null,"",{"$nulls":4},{"$f":"IF(A363=\"\",IF(OR(AH362>0,VLOOKUP(O362,EventConfig!A:C,3,FALSE)=4),3,\"\"),IF(ISNUMBER(Y362),2,1))","v":1},500207,null,2442]
[500207,2435,"受疯道人所托，追查《御风化影诀》的下落",2436,"与疯道人对话(0/1)",{"$nulls":4},112,{"$f":"IF(J363=\"\",\"\",VLOOKUP(J363,EventNPC!A:E,5,FALSE))","v":"风无咎"},2443,"那日是我疏忽大意，这《御风化影诀》留给你们也是暴殄天物，如今在我手上才能发挥它的用处，多说无益既然你们追来了就留下给我当做丹引让我的功力更上一步吧！",null,5002,7,"",null,null,{"$f":"IF(R363=\"\",\"\",\"-\"&VLOOKUP(R363,EventConditionConfig!A:C,3,FALSE)&IF(S363=\"\",\"\",CHAR(10)&\"-\"&VLOOKUP(S363,EventConditionConfig!A:C,3,FALSE)))","v":""},"","","","",null,null,"",{"$nulls":4},1,500208,null,2443]
[500208,2435,"受疯道人所托，追查《御风化影诀》的下落",2444,"击败风无咎(0/1)",{"$nulls":4},100,{"$f":"IF(J364=\"\",\"\",VLOOKUP(J364,EventNPC!A:E,5,FALSE))","v":"玩家"},2445,"大胆邪修，今日就让你魂飞魄散。",null,5002,8,"",null,null,{"$f":"IF(R364=\"\",\"\",\"-\"&VLOOKUP(R364,EventConditionConfig!A:C,3,FALSE)&IF(S364=\"\",\"\",CHAR(10)&\"-\"&VLOOKUP(S364,EventConditionConfig!A:C,3,FALSE)))","v":""},2,100001,"","",100001,null,"",{"$nulls":4},{"$f":"IF(A365=\"\",IF(OR(AH364>0,VLOOKUP(O364,EventConfig!A:C,3,FALSE)=4),3,\"\"),IF(ISNUMBER(Y364),2,1))","v":2},"500209;101",null,2445]
[500209,2435,"受疯道人所托，追查《御风化影诀》的下落",2444,"击败风无咎(0/1)",{"$nulls":4},103,{"$f":"IF(J365=\"\",\"\",VLOOKUP(J365,EventNPC!A:E,5,FALSE))","v":"疯道人"},2446,"妖族灭我父母，修道的也要杀了我，我究竟做错了什么！",null,5002,9,"",null,null,{"$f":"IF(R365=\"\",\"\",\"-\"&VLOOKUP(R365,EventConditionConfig!A:C,3,FALSE)&IF(S365=\"\",\"\",CHAR(10)&\"-\"&VLOOKUP(S365,EventConditionConfig!A:C,3,FALSE)))","v":""},"","","","",null,null,"",{"$nulls":4},{"$f":"IF(A366=\"\",IF(OR(AH365>0,VLOOKUP(O365,EventConfig!A:C,3,FALSE)=4),3,\"\"),IF(ISNUMBER(Y365),2,1))","v":1},500210,null,2446]
[500210,2435,"受疯道人所托，追查《御风化影诀》的下落",2444,"击败风无咎(0/1)",{"$nulls":5},{"$f":"IF(J366=\"\",\"\",VLOOKUP(J366,EventNPC!A:E,5,FALSE))","v":""},2447,"疯道人赶来后醉醺醺的说道",null,5002,10,"",null,null,{"$f":"IF(R366=\"\",\"\",\"-\"&VLOOKUP(R366,EventConditionConfig!A:C,3,FALSE)&IF(S366=\"\",\"\",CHAR(10)&\"-\"&VLOOKUP(S366,EventConditionConfig!A:C,3,FALSE)))","v":""},"","","","",null,null,"",{"$nulls":4},{"$f":"IF(A367=\"\",IF(OR(AH366>0,VLOOKUP(O366,EventConfig!A:C,3,FALSE)=4),3,\"\"),IF(ISNUMBER(Y366),2,1))","v":1},500211,null,2447]
[500211,2435,"受疯道人所托，追查《御风化影诀》的下落",2444,"击败风无咎(0/1)",{"$nulls":4},103,{"$f":"IF(J367=\"\",\"\",VLOOKUP(J367,EventNPC!A:E,5,FALSE))","v":"疯道人"},2448,"小友还请留手。",null,5002,11,"",null,null,{"$f":"IF(R367=\"\",\"\",\"-\"&VLOOKUP(R367,EventConditionConfig!A:C,3,FALSE)&IF(S367=\"\",\"\",CHAR(10)&\"-\"&VLOOKUP(S367,EventConditionConfig!A:C,3,FALSE)))","v":""},"","","","",null,null,"",{"$nulls":4},{"$f":"IF(A368=\"\",IF(OR(AH367>0,VLOOKUP(O367,EventConfig!A:C,3,FALSE)=4),3,\"\"),IF(ISNUMBER(Y367),2,1))","v":1},500212,null,2448]
[500212,2435,"受疯道人所托，追查《御风化影诀》的下落",2444,"击败风无咎(0/1)",{"$nulls":4},100,{"$f":"IF(J368=\"\",\"\",VLOOKUP(J368,EventNPC!A:E,5,FALSE))","v":"玩家"},2449,"\"\"",null,5002,12,"",null,null,{"$f":"IF(R368=\"\",\"\",\"-\"&VLOOKUP(R368,EventConditionConfig!A:C,3,FALSE)&IF(S368=\"\",\"\",CHAR(10)&\"-\"&VLOOKUP(S368,EventConditionConfig!A:C,3,FALSE)))","v":""},1,"500213;500213","2450;2451",2450,"前辈这种时刻还有心思喝酒",null,2451,"这步入邪道之人留着为何",null,null,null,{"$f":"IF(A369=\"\",IF(OR(AH368>0,VLOOKUP(O368,EventConfig!A:C,3,FALSE)=4),3,\"\"),IF(ISNUMBER(Y368),2,1))","v":1},500213,null,2451]
[500213,2435,"受疯道人所托，追查《御风化影诀》的下落",2444,"击败风无咎(0/1)",{"$nulls":4},103,{"$f":"IF(J369=\"\",\"\",VLOOKUP(J369,EventNPC!A:E,5,FALSE))","v":"疯道人"},2452,"所谓《御风化影诀》凡人无法驾驭，老夫念他风灵根强大便想着拿去便是",null,5002,13,"",null,null,{"$f":"IF(R369=\"\",\"\",\"-\"&VLOOKUP(R369,EventConditionConfig!A:C,3,FALSE)&IF(S369=\"\",\"\",CHAR(10)&\"-\"&VLOOKUP(S369,EventConditionConfig!A:C,3,FALSE)))","v":""},"","","","",null,null,"",{"$nulls":4},{"$f":"IF(A370=\"\",IF(OR(AH369>0,VLOOKUP(O369,EventConfig!A:C,3,FALSE)=4),3,\"\"),IF(ISNUMBER(Y369),2,1))","v":1},500214,null,2452]
[500214,2435,"受疯道人所托，追查《御风化影诀》的下落",2444,"击败风无咎(0/1)",{"$nulls":4},103,{"$f":"IF(J370=\"\",\"\",VLOOKUP(J370,EventNPC!A:E,5,FALSE))","v":"疯道人"},2453,"没想到你以魂为薪...以血为引...强行修炼",null,5002,14,"",null,null,{"$f":"IF(R370=\"\",\"\",\"-\"&VLOOKUP(R370,EventConditionConfig!A:C,3,FALSE)&IF(S370=\"\",\"\",CHAR(10)&\"-\"&VLOOKUP(S370,EventConditionConfig!A:C,3,FALSE)))","v":""},"","","","",null,null,"",{"$nulls":4},{"$f":"IF(A371=\"\",IF(OR(AH370>0,VLOOKUP(O370,EventConfig!A:C,3,FALSE)=4),3,\"\"),IF(ISNUMBER(Y370),2,1))","v":1},500215,null,2453]
[500215,2435,"受疯道人所托，追查《御风化影诀》的下落",2444,"击败风无咎(0/1)",{"$nulls":4},103,{"$f":"IF(J371=\"\",\"\",VLOOKUP(J371,EventNPC!A:E,5,FALSE))","v":"疯道人"},2454,"今日放你一马，去洗涤魔气后还能拜入我的门下",null,5002,15,"",null,null,{"$f":"IF(R371=\"\",\"\",\"-\"&VLOOKUP(R371,EventConditionConfig!A:C,3,FALSE)&IF(S371=\"\",\"\",CHAR(10)&\"-\"&VLOOKUP(S371,EventConditionConfig!A:C,3,FALSE)))","v":""},"","","","",null,null,"",{"$nulls":4},{"$f":"IF(A372=\"\",IF(OR(AH371>0,VLOOKUP(O371,EventConfig!A:C,3,FALSE)=4),3,\"\"),IF(ISNUMBER(Y371),2,1))","v":1},500216,null,2454]
[500216,2435,"受疯道人所托，追查《御风化影诀》的下落",2444,"击败风无咎(0/1)",{"$nulls":4},103,{"$f":"IF(J372=\"\",\"\",VLOOKUP(J372,EventNPC!A:E,5,FALSE))","v":"疯道人"},2455,"记住，靠吞噬得来的力量，终有一日会反噬其主。",null,5002,16,"",null,null,{"$f":"IF(R372=\"\",\"\",\"-\"&VLOOKUP(R372,EventConditionConfig!A:C,3,FALSE)&IF(S372=\"\",\"\",CHAR(10)&\"-\"&VLOOKUP(S372,EventConditionConfig!A:C,3,FALSE)))","v":""},"","","","",null,null,"",{"$nulls":4},{"$f":"IF(A373=\"\",IF(OR(AH372>0,VLOOKUP(O372,EventConfig!A:C,3,FALSE)=4),3,\"\"),IF(ISNUMBER(Y372),2,1))","v":""},"",null,2455]
[]
[]
[{"$f":"O375*100+P375","v":101201},{"$f":"IF(B374=\"\",MAX(AA373,X373,L373,B373,D373,AA372,X372,L372)+1,B374)","v":2456},"神识探索至一处矿井之中，此处灵气氤氲",{"$f":"IF(E375=\"\",\"\",B375+1)","v":""},{"$nulls":6},{"$f":"IF(J375=\"\",\"\",VLOOKUP(J375,EventNPC!A:E,5,FALSE))","v":""},{"$f":"IF(M375=\"\",\"\",IF(P375=1,MAX(D375,B375)+1,MAX(B374,L374,D374,X374,AA374)+1))","v":2457},"前往矿井采集灵矿",null,1012,{"$f":"IF(O375=O374,P374+1,1)","v":1},{"$f":"_xlfn.TEXTJOIN(\";\",1,R375:S375)","v":""},null,null,{"$f":"IF(R375=\"\",\"\",\"-\"&VLOOKUP(R375,EventConditionConfig!A:C,3,FALSE)&IF(S375=\"\",\"\",CHAR(10)&\"-\"&VLOOKUP(S375,EventConditionConfig!A:C,3,FALSE)))","v":""},{"$f":"IF(Y375=\"\",\"\",1)","v":""},{"$f":"IF(U375=1,A376,\"\")","v":""},{"$f":"_xlfn.TEXTJOIN(\";\",1,X375,AA375)","v":""},{"$f":"IF(Y375=\"\",\"\",L375+1)","v":""},null,null,{"$f":"IF(AB375=\"\",\"\",X375+1)","v":""},{"$nulls":7},{"$f":"IF(A375=\"\",\"\",MAX(B375,D375,L375,X375,AA375))","v":2457}]
[]
[101301,2458,"神识经过一处荒废寺庙之外，寺庙之中似乎有不同寻常之物","",{"$nulls":6},{"$f":"IF(J377=\"\",\"\",VLOOKUP(J377,EventNPC!A:E,5,FALSE))","v":""},2459,"进入寺庙找寻散发灵气的修为丹",null,1013,1,"",null,null,{"$f":"IF(R377=\"\",\"\",\"-\"&VLOOKUP(R377,EventConditionConfig!A:C,3,FALSE)&IF(S377=\"\",\"\",CHAR(10)&\"-\"&VLOOKUP(S377,EventConditionConfig!A:C,3,FALSE)))","v":""},"","","","",null,null,"",{"$nulls":7},2459]
[]
[101401,2460,"神识至一处灵气充盈之地，似乎是处洞府","",{"$nulls":6},{"$f":"IF(J379=\"\",\"\",VLOOKUP(J379,EventNPC!A:E,5,FALSE))","v":""},2461,"进入洞府收集可用之物",null,1014,1,"",null,null,{"$f":"IF(R379=\"\",\"\",\"-\"&VLOOKUP(R379,EventConditionConfig!A:C,3,FALSE)&IF(S379=\"\",\"\",CHAR(10)&\"-\"&VLOOKUP(S379,EventConditionConfig!A:C,3,FALSE)))","v":""},"","","","",null,null,"",{"$nulls":7},2461]
[]
[{"$f":"O381*100+P381","v":101501},{"$f":"IF(B380=\"\",MAX(AA379,X379,L379,B379,D379,AA378,X378,L378)+1,B380)","v":2462},"一个不知好歹的邪修拦住了你的去路！",{"$f":"IF(E381=\"\",\"\",B381+1)","v":2463},"击败山贼（0/1)",{"$nulls":4},107,{"$f":"IF(J381=\"\",\"\",VLOOKUP(J381,EventNPC!A:E,5,FALSE))","v":"村名甲"},{"$f":"IF(M381=\"\",\"\",IF(P381=1,MAX(D381,B381)+1,MAX(B380,L380,D380,X380,AA380)+1))","v":2464},"此路是我开，此树是我栽，要想从此过，留下买命财！",null,1015,{"$f":"IF(O381=O380,P380+1,1)","v":1},{"$f":"_xlfn.TEXTJOIN(\";\",1,R381:S381)","v":""},null,null,{"$f":"IF(R381=\"\",\"\",\"-\"&VLOOKUP(R381,EventConditionConfig!A:C,3,FALSE)&IF(S381=\"\",\"\",CHAR(10)&\"-\"&VLOOKUP(S381,EventConditionConfig!A:C,3,FALSE)))","v":""},{"$f":"IF(Y381=\"\",\"\",IF(ISTEXT(Y381),1,2))","v":""},{"$f":"IF(U381=1,_xlfn.TEXTJOIN(\";\",1,IF(Z381=\"\",A381+1,Z381),IF(AND(AA381<>\"\",AC381=\"\"),A381+1,AC381)),IF(U381=2,Y381,\"\"))","v":""},{"$f":"_xlfn.TEXTJOIN(\";\",1,X381,AA381)","v":""},{"$f":"IF(OR(ISNUMBER(Y381),Y381=\"\"),\"\",L381+1)","v":""},null,null,{"$f":"IF(AB381=\"\",\"\",X381+1)","v":""},{"$nulls":4},{"$f":"IF(A382=\"\",IF(OR(AH381>0,VLOOKUP(O381,EventConfig!A:C,3,FALSE)=4),3,\"\"),IF(ISNUMBER(Y381),2,1))","v":1},{"$f":"IF(AF381=\"\",\"\",CHOOSE(AF381,IF(AH381=\"\",A381+1,AH381),CONCATENATE(IF(AH381=\"\",A381+1,AH381),\";101\"),IF(AH381=\"\",O381+1,AH381)))","v":101502},null,{"$f":"IF(A381=\"\",\"\",MAX(B381,D381,L381,X381,AA381))","v":2464}]
[101502,2462,"一个不知好歹的邪修拦住了你的去路！",2463,"击败山贼（1/1)",{"$nulls":4},107,{"$f":"IF(J382=\"\",\"\",VLOOKUP(J382,EventNPC!A:E,5,FALSE))","v":"村名甲"},2465,"大胆山贼，拿命来！",null,1015,2,"",null,null,{"$f":"IF(R382=\"\",\"\",\"-\"&VLOOKUP(R382,EventConditionConfig!A:C,3,FALSE)&IF(S382=\"\",\"\",CHAR(10)&\"-\"&VLOOKUP(S382,EventConditionConfig!A:C,3,FALSE)))","v":""},2,100001,"","",100001,null,"",{"$nulls":4},2,"101503;101",null,2465]
[]
[{"$f":"O384*100+P384","v":101601},2466,"一位和尚叫住了你，貌似有什么急事",2467,"找到袈裟",{"$nulls":4},108,{"$f":"IF(J384=\"\",\"\",VLOOKUP(J384,EventNPC!A:E,5,FALSE))","v":"村名乙"},2468,"仙长，我的袈裟被可恶的妖兽夺走了，还请为老僧主持公道啊",null,1016,{"$f":"IF(O384=O383,P383+1,1)","v":1},{"$f":"_xlfn.TEXTJOIN(\";\",1,R384:S384)","v":""},null,null,{"$f":"IF(R384=\"\",\"\",\"-\"&VLOOKUP(R384,EventConditionConfig!A:C,3,FALSE)&IF(S384=\"\",\"\",CHAR(10)&\"-\"&VLOOKUP(S384,EventConditionConfig!A:C,3,FALSE)))","v":""},"","",{"$f":"_xlfn.TEXTJOIN(\";\",1,X384,AA384)","v":""},{"$f":"IF(OR(ISNUMBER(Y384),Y384=\"\"),\"\",L384+1)","v":""},null,null,{"$f":"IF(AB384=\"\",\"\",X384+1)","v":""},{"$nulls":4},{"$f":"IF(A385=\"\",IF(OR(AH384>0,VLOOKUP(O384,EventConfig!A:C,3,FALSE)=4),3,\"\"),IF(ISNUMBER(Y384),2,1))","v":1},{"$f":"IF(AF384=\"\",\"\",CHOOSE(AF384,IF(AH384=\"\",A384+1,AH384),CONCATENATE(IF(AH384=\"\",A384+1,AH384),\";101\"),IF(AH384=\"\",O384+1,AH384)))","v":101602},null,{"$f":"IF(A384=\"\",\"\",MAX(B384,D384,L384,X384,AA384))","v":2468}]
[101602,2466,"一位和尚叫住了你，貌似有什么急事",2467,"使用神识寻找袈裟",{"$nulls":4},100,{"$f":"IF(J385=\"\",\"\",VLOOKUP(J385,EventNPC!A:E,5,FALSE))","v":"玩家"},2469,"在此等待即可",null,1016,2,"18",18,null,{"$f":"IF(R385=\"\",\"\",\"-\"&VLOOKUP(R385,EventConditionConfig!A:C,3,FALSE)&IF(S385=\"\",\"\",CHAR(10)&\"-\"&VLOOKUP(S385,EventConditionConfig!A:C,3,FALSE)))","v":"-获得一件袈裟"},"","","","",null,null,"",{"$nulls":4},{"$f":"IF(A386=\"\",IF(OR(AH385>0,VLOOKUP(O385,EventConfig!A:C,3,FALSE)=4),3,\"\"),IF(ISNUMBER(Y385),2,1))","v":3},{"$f":"IF(AF385=\"\",\"\",CHOOSE(AF385,IF(AH385=\"\",A385+1,AH385),CONCATENATE(IF(AH385=\"\",A385+1,AH385),\";101\"),IF(AH385=\"\",O385+1,AH385)))","v":30009},30009,2469]
[]
[101701,{"$f":"IF(B386=\"\",MAX(AA385,X385,L385,B385,D385,AA384,X384,L384)+1,B386)","v":2470},"一位和尚叫住了你，貌似有什么急事",{"$f":"IF(E387=\"\",\"\",B387+1)","v":2471},"找到袈裟",{"$nulls":4},108,{"$f":"IF(J387=\"\",\"\",VLOOKUP(J387,EventNPC!A:E,5,FALSE))","v":"村名乙"},{"$f":"IF(M387=\"\",\"\",IF(P387=1,MAX(D387,B387)+1,MAX(B386,L386,D386,X386,AA386)+1))","v":2472},"感谢仙长帮我寻回这件袈裟！",null,1017,1,"",null,null,{"$f":"IF(R387=\"\",\"\",\"-\"&VLOOKUP(R387,EventConditionConfig!A:C,3,FALSE)&IF(S387=\"\",\"\",CHAR(10)&\"-\"&VLOOKUP(S387,EventConditionConfig!A:C,3,FALSE)))","v":""},{"$f":"IF(Y387=\"\",\"\",IF(ISTEXT(Y387),1,2))","v":""},{"$f":"IF(U387=1,_xlfn.TEXTJOIN(\";\",1,IF(Z387=\"\",A387+1,Z387),IF(AND(AA387<>\"\",AC387=\"\"),A387+1,AC387)),IF(U387=2,Y387,\"\"))","v":""},"","",null,null,"",{"$nulls":7},2472]
[]
[{"$f":"O389*100+P389","v":3000901},2473,"击杀灵兽获得袈裟","",{"$nulls":6},{"$f":"IF(J389=\"\",\"\",VLOOKUP(J389,EventNPC!A:E,5,FALSE))","v":""},"",null,null,30009,{"$f":"IF(O389=O388,P388+1,1)","v":1},{"$f":"_xlfn.TEXTJOIN(\";\",1,R389:S389)","v":""},null,null,{"$f":"IF(R389=\"\",\"\",\"-\"&VLOOKUP(R389,EventConditionConfig!A:C,3,FALSE)&IF(S389=\"\",\"\",CHAR(10)&\"-\"&VLOOKUP(S389,EventConditionConfig!A:C,3,FALSE)))","v":""},2,100001,{"$f":"_xlfn.TEXTJOIN(\";\",1,X389,AA389)","v":""},{"$f":"IF(Y389=\"\",\"\",L389+1)","v":""},null,null,{"$f":"IF(AB389=\"\",\"\",X389+1)","v":""},null,null,1301,1,{"$f":"IF(U389=2,2,IF(A389=\"\",\"\",IF(U389=1,\"\",IF(A392=\"\",3,1))))","v":2},"102;101",null,{"$f":"IF(A389=\"\",\"\",MAX(B389,D389,L389,X389,AA389))","v":2473}]
[]
[101801,2474,"云游修士历练在即，急待前辈指点一二",2475,"指引云游修士",{"$nulls":4},107,{"$f":"IF(J391=\"\",\"\",VLOOKUP(J391,EventNPC!A:E,5,FALSE))","v":"村名甲"},2476,"前辈还请赐教一二",null,1018,1,"",null,null,{"$f":"IF(R391=\"\",\"\",\"-\"&VLOOKUP(R391,EventConditionConfig!A:C,3,FALSE)&IF(S391=\"\",\"\",CHAR(10)&\"-\"&VLOOKUP(S391,EventConditionConfig!A:C,3,FALSE)))","v":""},"","","",{"$f":"IF(OR(ISNUMBER(Y391),Y391=\"\"),\"\",L391+1)","v":""},null,null,"",{"$nulls":7},2476]
[101802,2474,"云游修士历练在即，急待前辈指点一二",2475,"指引云游修士",{"$nulls":4},100,{"$f":"IF(J392=\"\",\"\",VLOOKUP(J392,EventNPC!A:E,5,FALSE))","v":"玩家"},2477,"“”",null,1018,2,"",null,null,{"$f":"IF(R392=\"\",\"\",\"-\"&VLOOKUP(R392,EventConditionConfig!A:C,3,FALSE)&IF(S392=\"\",\"\",CHAR(10)&\"-\"&VLOOKUP(S392,EventConditionConfig!A:C,3,FALSE)))","v":""},1,"101806;101803","2478;2479",2478,"不予理睬直接离开",101806,2479,"指导云游修士进行修炼",{"$nulls":6},2479]
[101803,2474,"云游修士历练在即，急待前辈指点一二",2475,"指引云游修士",{"$nulls":4},107,{"$f":"IF(J393=\"\",\"\",VLOOKUP(J393,EventNPC!A:E,5,FALSE))","v":"村名甲"},2480,"多谢前辈！",null,1018,3,"",null,null,{"$f":"IF(R393=\"\",\"\",\"-\"&VLOOKUP(R393,EventConditionConfig!A:C,3,FALSE)&IF(S393=\"\",\"\",CHAR(10)&\"-\"&VLOOKUP(S393,EventConditionConfig!A:C,3,FALSE)))","v":""},"","","","",null,null,"",null,null,1202,1,null,null,null,2480]
[101804,2474,"云游修士历练在即，急待前辈指点一二",2475,"指引云游修士",{"$nulls":5},{"$f":"IF(J394=\"\",\"\",VLOOKUP(J394,EventNPC!A:E,5,FALSE))","v":""},2481,"云游修士见你不愿教导便离开了",null,1018,4,"",null,null,{"$f":"IF(R394=\"\",\"\",\"-\"&VLOOKUP(R394,EventConditionConfig!A:C,3,FALSE)&IF(S394=\"\",\"\",CHAR(10)&\"-\"&VLOOKUP(S394,EventConditionConfig!A:C,3,FALSE)))","v":""},"","","","",null,null,"",null,null,1201,1,null,null,null,2481]
[]
[{"$f":"O396*100+P396","v":101901},{"$f":"IF(B395=\"\",MAX(AA394,X394,L394,B394,D394,AA393,X393,L393)+1,B395)","v":2482},"逍遥宗的长老似乎有事找你",{"$f":"IF(E396=\"\",\"\",B396+1)","v":2483},"???",{"$nulls":4},108,{"$f":"IF(J396=\"\",\"\",VLOOKUP(J396,EventNPC!A:E,5,FALSE))","v":"村名乙"},{"$f":"IF(M396=\"\",\"\",IF(P396=1,MAX(D396,B396)+1,MAX(B395,L395,D395,X395,AA395)+1))","v":2484},"今日我宗弟子发现云海妖气冲天，怕是有妖兽来临。还望小友走一趟，消灭那的妖王",null,1019,{"$f":"IF(O396=O395,P395+1,1)","v":1},{"$f":"_xlfn.TEXTJOIN(\";\",1,R396:S396)","v":""},null,null,null,{"$f":"IF(Y396=\"\",\"\",IF(ISTEXT(Y396),1,2))","v":""},{"$f":"IF(U396=1,_xlfn.TEXTJOIN(\";\",1,IF(Z396=\"\",A396+1,Z396),IF(AND(AA396<>\"\",AC396=\"\"),A396+1,AC396)),IF(U396=2,Y396,\"\"))","v":""},{"$f":"_xlfn.TEXTJOIN(\";\",1,X396,AA396)","v":""},{"$f":"IF(OR(ISNUMBER(Y396),Y396=\"\"),\"\",L396+1)","v":""},null,null,{"$f":"IF(AB396=\"\",\"\",X396+1)","v":""},{"$nulls":7},{"$f":"IF(A396=\"\",\"\",MAX(B396,D396,L396,X396,AA396))","v":2484}]
[101902,2482,"逍遥宗的长老似乎有事找你",2483,"清剿妖王（0/1）",{"$nulls":4},100,{"$f":"IF(J397=\"\",\"\",VLOOKUP(J397,EventNPC!A:E,5,FALSE))","v":"玩家"},2485,"小事一桩",null,1019,2,"",null,null,{"$f":"IF(R397=\"\",\"\",\"-\"&VLOOKUP(R397,EventConditionConfig!A:C,3,FALSE)&IF(S397=\"\",\"\",CHAR(10)&\"-\"&VLOOKUP(S397,EventConditionConfig!A:C,3,FALSE)))","v":""},5,"","","",null,null,"",{"$nulls":7},2485]
[101903,2482,"前往清剿妖王",2483,"清剿妖王（0/1）",{"$nulls":5},{"$f":"IF(J398=\"\",\"\",VLOOKUP(J398,EventNPC!A:E,5,FALSE))","v":""},"",null,null,1019,3,"",null,null,{"$f":"IF(R398=\"\",\"\",\"-\"&VLOOKUP(R398,EventConditionConfig!A:C,3,FALSE)&IF(S398=\"\",\"\",CHAR(10)&\"-\"&VLOOKUP(S398,EventConditionConfig!A:C,3,FALSE)))","v":""},{"$f":"IF(Y398=\"\",\"\",IF(ISTEXT(Y398),1,2))","v":2},{"$f":"IF(U398=1,_xlfn.TEXTJOIN(\";\",1,IF(Z398=\"\",A398+1,Z398),IF(AND(AA398<>\"\",AC398=\"\"),A398+1,AC398)),IF(U398=2,Y398,\"\"))","v":100001},"","",100001,null,"",{"$nulls":4},2,{"$f":"IF(AF398=\"\",\"\",CHOOSE(AF398,IF(AH398=\"\",A398+1,AH398),CONCATENATE(IF(AH398=\"\",A398+1,AH398),\";101\"),IF(AH398=\"\",O398+1,AH398)))","v":"101904;101"},null,2483]
[]
[{"$f":"O400*100+P400","v":102001},{"$f":"IF(B399=\"\",MAX(AA398,X398,L398,B398,D398,AA397,X397,L397)+1,B399)","v":2486},"村民急匆匆的前来找你",{"$f":"IF(E400=\"\",\"\",B400+1)","v":2487},"清剿妖兽（0/1）",{"$nulls":4},108,{"$f":"IF(J400=\"\",\"\",VLOOKUP(J400,EventNPC!A:E,5,FALSE))","v":"村名乙"},{"$f":"IF(M400=\"\",\"\",IF(P400=1,MAX(D400,B400)+1,MAX(B399,L399,D399,X399,AA399)+1))","v":2488},"仙长，村中有妖兽闹事，还请出手解决！",null,1020,{"$f":"IF(O400=O399,P399+1,1)","v":1},{"$f":"_xlfn.TEXTJOIN(\";\",1,R400:S400)","v":""},null,null,null,1,"102002;102002",{"$f":"_xlfn.TEXTJOIN(\";\",1,X400,AA400)","v":"2489;2490"},{"$f":"IF(OR(ISNUMBER(Y400),Y400=\"\"),\"\",L400+1)","v":2489},"区区妖兽，灭掉便是",null,{"$f":"IF(AB400=\"\",\"\",X400+1)","v":2490},"我可是要酬劳的",{"$nulls":6},{"$f":"IF(A400=\"\",\"\",MAX(B400,D400,L400,X400,AA400))","v":2490}]
[{"$f":"O401*100+P401","v":102002},{"$f":"IF(B400=\"\",MAX(AA399,X399,L399,B399,D399,AA398,X398,L398)+1,B400)","v":2486},"村民急匆匆的前来找你",{"$f":"IF(E401=\"\",\"\",B401+1)","v":2487},"清剿妖兽（0/1）",{"$nulls":4},108,{"$f":"IF(J401=\"\",\"\",VLOOKUP(J401,EventNPC!A:E,5,FALSE))","v":"村名乙"},{"$f":"IF(M401=\"\",\"\",IF(P401=1,MAX(D401,B401)+1,MAX(B400,L400,D400,X400,AA400)+1))","v":2491},"多谢仙长相救!报酬好说",null,1020,{"$f":"IF(O401=O400,P400+1,1)","v":2},{"$f":"_xlfn.TEXTJOIN(\";\",1,R401:S401)","v":""},null,null,null,{"$f":"IF(Y401=\"\",\"\",IF(ISTEXT(Y401),1,2))","v":2},{"$f":"IF(U401=1,_xlfn.TEXTJOIN(\";\",1,IF(Z401=\"\",A401+1,Z401),IF(AND(AA401<>\"\",AC401=\"\"),A401+1,AC401)),IF(U401=2,Y401,\"\"))","v":100001},{"$f":"_xlfn.TEXTJOIN(\";\",1,X401,AA401)","v":""},{"$f":"IF(OR(ISNUMBER(Y401),Y401=\"\"),\"\",L401+1)","v":""},100001,null,{"$f":"IF(AB401=\"\",\"\",X401+1)","v":""},null,null,1203,1,2,{"$f":"IF(AF401=\"\",\"\",CHOOSE(AF401,IF(AH401=\"\",A401+1,AH401),CONCATENATE(IF(AH401=\"\",A401+1,AH401),\";101\"),IF(AH401=\"\",O401+1,AH401)))","v":"102003;101"},null,{"$f":"IF(A401=\"\",\"\",MAX(B401,D401,L401,X401,AA401))","v":2491}]

{"sheet":"EventConditionConfig","index":2,"n_rows":21,"n_cols":11,"rows_kept":21,"cut":false,"hidden":false,"merged":[]}
["ID","message",null,null,"Operation",null,"ConditionType","ConditionPara","finishCount"]
["int","int",null,null,"int",null,"int","int[]","int"]
[]
["ID","描述",null,null,"与0\n或1",null,"条件判断类型","条件判断值","条件完成次数or数量","提示","跳转"]
[1,2078,"拥有金币",{"$f":"CONCATENATE(\"- \",C5,\"{0}/{1}\")","v":"- 拥有金币{0}/{1}"},null,null,1,1001,10]
[2,2079,"达到境界：筑基-中期",{"$f":"CONCATENATE(\"- \",C6,\"{0}/{1}\")","v":"- 达到境界：筑基-中期{0}/{1}"},null,null,3,11,1]
[3,2080,"击杀魔休","- 击杀魔休{0}/{1}",null,null,5,1001,5]
[4,2081,"获得钻石","- 获得钻石{0}/{1}",null,null,6,1002,10]
[5,2082,"使用神识","- 使用神识{0}/{1}",null,null,8,null,1]
[6,2094,"继续飞行一段时间","- 继续飞行一段时间{0}/{1}",null,null,9,null,6]
[7,2843,"击败结界兽","- 击败结界兽{0}/{1}",null,null,5,1002,1]
[8,2844,"达到境界：筑基-后期","- 达到境界：筑基-后期{0}/{1}",null,null,3,21,1]
[9,2845,"击杀妖兽","- 击杀妖兽{0}/{1}",null,null,5,1003,1]
[10,2846,"击败后山小妖","- 击败后山小妖{0}/{1}",null,null,5,1004,3]
[11,2847,"收集灵草种子","- 收集灵草种子{0}/{1}",null,null,6,1002,3]
[12,2848,"击败夜袭的妖兽","- 击败夜袭的妖兽{0}/{1}",null,null,5,1005,1]
[13,2849,"击败峰顶的妖王","- 击败峰顶的妖王{0}/{1}",null,null,5,1006,1]
[14,2850,"境界达到[金丹-前期]","- 境界达到[金丹-前期]{0}/{1}",null,null,3,31,1]
[15,2851,"击败仙山的阵眼妖兽","- 击败仙山的阵眼妖兽{0}/{1}",null,null,5,1007,1]
[17,2852,"击杀灵兽获得天肥",{"$f":"CONCATENATE(\"- \",C20,\"{0}/{1}\")","v":"- 击杀灵兽获得天肥{0}/{1}"},null,null,5,1008,1]
[18,2853,"获得一件袈裟","- 获得一件袈裟{0}/{1}",null,null,1,1301,1]

{"sheet":"条件类型查询","index":3,"n_rows":10,"n_cols":7,"rows_kept":10,"cut":false,"hidden":false,"merged":[]}
["ID","条件判断类型","条件判断值","条件完成次数or数量","额外文本","不可用","是否可用于事件"]
[1,"拥有特定道具","道具ID","数量≥","检测背包道具",null,1]
[2,"灵根判定","哪个灵根","灵根值≥",null,1]
[3,"境界判断","境界id",null,null,null,1]
[5,"战斗胜利","战斗组ID","胜利次数≥"]
[6,"获得道具","道具的ID","数量≥","探测出事件才开始检测"]
[7,"触发概率","概率值 1000=100%",null,null,null,1]
[8,"使用神识",null,"数量≥"]
[9,"游戏在线多少时长（秒）",null,"时间≥（秒）",null,null,1]
[10,"前置事件","事件ID",null,null,null,1]

{"sheet":"EventNPC","index":4,"n_rows":30,"n_cols":5,"rows_kept":30,"cut":false,"hidden":false,"merged":[]}
["ID","name","ID","DaoyouID"]
["int","int","int","int"]
[]
["ID","名字","半身像icon","道友ID","名称"]
[1,null,null,null,"玩家"]
[2,null,null,1,"道友1"]
[3,null,null,2,"道友2"]
[4,null,null,3,"道友3"]
[5,null,null,4,"道友4"]
[6,null,null,5,"道友5"]
[7,null,null,6,"道友6"]
[8,null,null,7,"道友7"]
[9,null,null,8,"道友8"]
[10,null,null,9,"道友9"]
[11,null,null,10,"道友10"]
[]
[100,3000,null,null,"玩家"]
[101,3001,null,null,"蜩鸟"]
[102,3002,null,null,"小麻雀"]
[103,3003,null,null,"疯道人"]
[104,3004,null,null,"痴道人"]
[105,3005,null,null,"尧帝"]
[106,3006,null,null,"许由"]
[107,3007,null,null,"村名甲"]
[108,3008,null,null,"村名乙"]
[109,3009,null,null,"村名丙"]
[110,3010,null,null,"樗木之灵"]
[111,null,null,null,"惠子"]
[112,3021,null,null,"风无咎"]
[113,3034,null,null,"北海剑妖"]

{"sheet":"XianTuLogConfig","index":5,"n_rows":8,"n_cols":7,"rows_kept":8,"cut":false,"hidden":false,"merged":[]}
["ID","EventType","Title","Desc","BigMapID"]
["int","int","int","int","int"]
[]
["ID","1主线\n2事件","名称","描述","属于哪个章节"]
[1,1,2087,2089,1,"第一章.逍遥游","多次渡劫失败的你，误入“无何有之乡”，在这里受到了列子的指引，踏上了寻找七道心境的修仙之路。"]
[2,2,2088,2090,1,"无用的大葫芦","惠子种出了巨大葫芦，他觉得毫无用处，非常生气！"]
[3,2,2088,2090,2,"无用的大葫芦","惠子种出了巨大葫芦，他觉得毫无用处，非常生气！"]
[4,2,2088,2090,3,"无用的大葫芦","惠子种出了巨大葫芦，他觉得毫无用处，非常生气！"]