{"text_format":"2","workbook":"xlsx","n_sheets":3,"sheets":["LevelbattleConfig","GroupConfig","强度验算"],"not_rendered":{"charts":0,"images":0,"macros":0,"external_links":0,"defined_names":2,"comments":0,"pivot_tables":0},"unopened":[],"bounds":{"document_bytes":16777216,"sheet_cells":100000,"run_cost":"one","rows_first":2000,"rows_last":500,"rows_between":2000,"halvings":0,"cell_chars":16384,"cell_head_chars":4096},"cells_cut":0,"cells_raw":0,"read":"whole","date_system":"1900"}

{"sheet":"LevelbattleConfig","index":0,"n_rows":74,"n_cols":16,"rows_kept":74,"cut":false,"hidden":false,"merged":[]}
["ID",null,"Group","awardDrop","awardNum","combatTime","combatType","MonsterGroupTruePower","MonsterGroupPower"]
["int",null,"int[]","int[]","int[]","float","int","int","int"]
[]
["战斗组ID","使用位置","包含的组ID\n（就是第二页的ID)","奖励随机掉落组","奖励道具数量","用时(秒）","玩法类型\n1.正常\n2.追逐\n3.站桩\n4.保卫水晶\n5.至少完成x波 （406260）\n6.至少坚持x秒 （406261）","怪物战斗组修为（实际）","怪物战斗组修为（表现）","评分修正\n例如3人参战填75%",null,"怪物等级上浮"]
[100001,"主线1-1",{"$f":"A5","v":100001},-1,-1,120,1,100,100,null,"1-1"]
[100002,"主线1-1",{"$f":"A6","v":100002},-1,-1,120,1,100,100,null,"1-1"]
[100003,"主线1-1",{"$f":"A7","v":100003},-1,-1,120,1,100,100,null,"1-1",1]
[100004,"boss",{"$f":"A8","v":100004},-1,-1,120,1,100,100,null,"1-1",1]
[]
[]
[1002,{"$f":"_xlfn.TEXTJOIN(\"-\",1,M11:N11)","v":"主线-击败结界兽"},1002,-1,-1,120,1,100,100,null,null,null,"主线","击败结界兽",10004,5]
[{"$f":"A11+1","v":1003},"主线-击败痴道人",1003,-1,-1,120,1,100,100,null,null,null,"主线","击败痴道人",10007,15]
[1004,"主线-妖兽横行",1004,-1,-1,120,1,100,100,null,null,null,"主线","妖兽横行",10010,25]
[1005,"主线-击败后山小妖",1005,-1,-1,120,1,100,100,null,null,null,"主线","击败后山小妖",10015,45]
[1006,"主线-击败夜袭的妖兽",1006,-1,-1,120,1,100,100,null,null,null,"主线","击败夜袭的妖兽",10016,50]
[1007,"主线-击败峰顶的妖王",1007,-1,-1,120,1,100,100,null,null,null,"主线","击败峰顶的妖王",10017,55]
[1008,"主线-击败仙山的阵眼妖兽",1008,-1,-1,120,1,100,100,null,null,null,"主线","击败仙山的阵眼妖兽",10023,85]
[1009,"主线-击杀灵兽获得天肥",1009,-1,-1,120,1,100,100,null,null,null,"主线","击杀灵兽获得天肥",10025,95]
[1010,{"$f":"_xlfn.TEXTJOIN(\"-\",1,M19:N19)","v":"主线-击败小麻雀的幻影"},{"$f":"A19","v":1010},-1,-1,120,1,100,100,null,null,null,"主线","击败小麻雀的幻影",10027,100]
[1011,{"$f":"_xlfn.TEXTJOIN(\"-\",1,M20:N20)","v":"主线-击败痴道人的幻影"},{"$f":"A20","v":1011},-1,-1,120,1,100,100,null,null,null,"主线","击败痴道人的幻影",10027,110]
[1012,{"$f":"_xlfn.TEXTJOIN(\"-\",1,M21:N21)","v":"主线-樗木之灵的幻影"},{"$f":"A21","v":1012},-1,-1,120,1,100,100,null,null,null,"主线","樗木之灵的幻影",10027,120]
[1013,{"$f":"_xlfn.TEXTJOIN(\"-\",1,M22:N22)","v":"主线-击败心魔"},{"$f":"A22","v":1013},-1,-1,120,1,100,100,null,null,null,"主线","击败心魔",10030,140]
[1014,"主线-击败北海妖兽2",1014,-1,-1,120,1,100,100,null,null,null,"主线","击败北海妖兽2",10031,150]
[1015,{"$f":"_xlfn.TEXTJOIN(\"-\",1,M24:N24)","v":"主线-击败北海妖兽1"},{"$f":"A24","v":1015},-1,-1,120,1,100,100,null,null,null,"主线","击败北海妖兽1",1010,25]
[1016,{"$f":"_xlfn.TEXTJOIN(\"-\",1,M25:N25)","v":"主线-与樗木之灵切磋"},{"$f":"A25","v":1016},-1,-1,120,1,100,100,null,null,null,"主线","与樗木之灵切磋",10020,65]
[]
[2001,"命运峰-第1层",{"$f":"A27","v":2001},-1,-1,120,1,100,100]
[2002,"命运峰-第2层",{"$f":"A28","v":2002},-1,-1,120,1,100,100]
[2003,"命运峰-第3层",2003,-1,-1,120,1,100,100]
[2004,"命运峰-第4层",2004,-1,-1,120,1,100,100]
[2005,"命运峰-第5层",2005,-1,-1,120,1,100,100]
[2006,"命运峰-第6层",2006,-1,-1,120,1,100,100]
[2007,"命运峰-第7层",2007,-1,-1,120,1,100,100]
[2008,"命运峰-第8层",2008,-1,-1,120,1,100,100]
[2009,"命运峰-第9层",2009,-1,-1,120,1,100,100]
[2010,"命运峰-第10层",2010,-1,-1,120,1,100,100]
[2011,"命运峰-第11层",2011,-1,-1,120,1,100,100]
[2012,"命运峰-第12层",2012,-1,-1,120,1,100,100]
[2013,"命运峰-第13层",2013,-1,-1,120,1,100,100]
[2014,"命运峰-第14层",2014,-1,-1,120,1,100,100]
[2015,"命运峰-第15层",2015,-1,-1,120,1,100,100]
[2016,"命运峰-第16层",2016,-1,-1,120,1,100,100]
[2017,"命运峰-第17层",2017,-1,-1,120,1,100,100]
[2018,"命运峰-第18层",2018,-1,-1,120,1,100,100]
[2019,"命运峰-第19层",2019,-1,-1,120,1,100,100]
[2020,"命运峰-第20层",2020,-1,-1,120,1,100,100]
[]
[3001,{"$f":"_xlfn.TEXTJOIN(\"-\",1,M48:N48)","v":"道侣雀灵儿-击败风妖"},{"$f":"A48","v":3001},-1,-1,120,1,100,100,null,null,null,"道侣雀灵儿","击败风妖",6003,40]
[3002,{"$f":"_xlfn.TEXTJOIN(\"-\",1,M49:N49)","v":"道侣雀灵儿-击败大风妖兽"},{"$f":"A49","v":3002},-1,-1,120,1,100,100,null,null,null,"道侣雀灵儿","击败大风妖兽",6003,60]
[{"$f":"A49+1","v":3003},{"$f":"_xlfn.TEXTJOIN(\"-\",1,M50:N50)","v":"道侣云枝-击败风妖"},{"$f":"A50","v":3003},-1,-1,120,1,100,100,null,null,null,"道侣云枝","击败风妖",6011,40]
[3004,{"$f":"_xlfn.TEXTJOIN(\"-\",1,M51:N51)","v":"道侣云枝-击败风妖2"},{"$f":"A51","v":3004},-1,-1,120,1,100,100,null,null,null,"道侣云枝","击败风妖2",6012,50]
[3005,{"$f":"_xlfn.TEXTJOIN(\"-\",1,M52:N52)","v":"道侣云枝-击败风妖3"},{"$f":"A52","v":3005},-1,-1,120,1,100,100,null,null,null,"道侣云枝","击败风妖3",6013,60]
[3006,{"$f":"_xlfn.TEXTJOIN(\"-\",1,M53:N53)","v":"道侣云枝-击败风妖4"},{"$f":"A53","v":3006},-1,-1,120,1,100,100,null,null,null,"道侣云枝","击败风妖4",6013,70]
[3007,{"$f":"_xlfn.TEXTJOIN(\"-\",1,M54:N54)","v":"道侣云枝-击败风妖4"},{"$f":"A54","v":3007},-1,-1,120,1,100,100,null,null,null,"道侣云枝","击败风妖4",6015,80]
[3008,{"$f":"_xlfn.TEXTJOIN(\"-\",1,M55:N55)","v":"道侣云枝-击败风妖5"},{"$f":"A55","v":3008},-1,-1,120,1,100,100,null,null,null,"道侣云枝","击败风妖5",6015,90]
[3009,{"$f":"_xlfn.TEXTJOIN(\"-\",1,M56:N56)","v":"道侣婉溪-击败抢走玉佩的小妖"},{"$f":"A56","v":3009},-1,-1,120,1,100,100,null,null,null,"道侣婉溪","击败抢走玉佩的小妖",6015,100]
[3010,{"$f":"_xlfn.TEXTJOIN(\"-\",1,M57:N57)","v":"道侣婉溪-击败溪边水灵"},{"$f":"A57","v":3010},-1,-1,120,1,100,100,null,null,null,"道侣婉溪","击败溪边水灵",6015,120]
[3011,{"$f":"_xlfn.TEXTJOIN(\"-\",1,M58:N58)","v":"道侣许由-击败守护灵草的小妖"},{"$f":"A58","v":3011},-1,-1,120,1,100,100,null,null,null,"道侣许由","击败守护灵草的小妖",6015,80]
[3012,{"$f":"_xlfn.TEXTJOIN(\"-\",1,M59:N59)","v":"道侣许由-击败秘境灵草守卫"},{"$f":"A59","v":3012},-1,-1,120,1,100,100,null,null,null,"道侣许由","击败秘境灵草守卫",6015,100]
[3013,{"$f":"_xlfn.TEXTJOIN(\"-\",1,M60:N60)","v":"道侣疯道人-击败果园守卫"},{"$f":"A60","v":3013},-1,-1,120,1,100,100,null,null,null,"道侣疯道人","击败果园守卫",6015,140]
[3014,{"$f":"_xlfn.TEXTJOIN(\"-\",1,M61:N61)","v":"道侣疯道人-帮助疯道人驱妖"},{"$f":"A61","v":3014},-1,-1,120,1,100,100,null,null,null,"道侣疯道人","帮助疯道人驱妖",6015,150]
[3015,{"$f":"_xlfn.TEXTJOIN(\"-\",1,M62:N62)","v":"道侣疯道人-击败疯道人"},{"$f":"A62","v":3015},-1,-1,120,1,100,100,null,null,null,"道侣疯道人","击败疯道人",6015,151]
[]
[10001,{"$f":"_xlfn.TEXTJOIN(\"-\",1,M64:N64)","v":"引导 -开局第一场战斗"},10001,-1,-1,120,1,100,100,null,null,null,"引导 ","开局第一场战斗",10004,5]
[]
[4001,{"$f":"_xlfn.TEXTJOIN(\"-\",1,M66:N66)","v":"支线-海岸异象-妖物调查"},{"$f":"A66","v":4001},-1,-1,120,1,100,100,null,null,null,"支线-海岸异象","妖物调查",null,30]
[4002,"支线-幽魂-幽魂石守护兽",4002,-1,-1,120,1,100,100,null,null,null,"支线-幽魂","幽魂石守护兽",null,60]
[4003,"支线-馨儿-迷雾妖怪",4003,-1,-1,120,1,100,100,null,null,null,"支线-馨儿","迷雾妖怪",null,90]
[4004,"支线-馨儿-发现信使",4004,-1,-1,120,1,100,100,null,null,null,"支线-馨儿","发现信使",null,110]
[4005,"支线-馨儿-发现信使",4005,-1,-1,120,1,100,100,null,null,null,"支线-馨儿","发现信使",null,120]
[4006,"支线-馨儿-风灵鸟的宝藏",4006,-1,-1,120,1,100,100,null,null,null,"支线-馨儿","风灵鸟的宝藏",null,130]
[4007,"支线-馨儿-浮岛灵泉的净化",4007,-1,-1,120,1,100,100,null,null,null,"支线-馨儿","浮岛灵泉的净化",null,140]
[4008,"支线-馨儿-浮岛盗修的阴谋",4008,-1,-1,120,1,100,100,null,null,null,"支线-馨儿","浮岛盗修的阴谋",null,150]
[4009,"支线-柳轻烟-找到血海宗的人",4009,-1,-1,120,1,100,100,null,null,null,"支线-柳轻烟","找到血海宗的人",null,160]

{"sheet":"GroupConfig","index":1,"n_rows":78,"n_cols":28,"rows_kept":78,"cut":false,"hidden":false,"merged":[]}
["ID",null,"GroupMonsterLevel","GroupMonster","hpQiangDu","attQiangDu","duipingQiangDu","levelAdd"]
["int",null,"int[]","int[]","int[]","int[]","int[]","int[]"]
[]
["组ID","常用阵容ID","具体怪物等级\n-1代表跟随玩家等级\n-1后面可填动态修正等级","每组具体怪","每个怪的比例强度\n一个都不填就是默认强度","攻击强度","对拼强度","等级额外添加值","怪物1","怪物2","怪物3","怪物1生存强度","怪物2生存强度","怪物3生存强度","怪物1攻击强度","怪物2攻击强度","怪物3攻击强度","怪物1对拼强度","怪物2对拼强度","怪物3对拼强度","怪物1等级降低","怪物2等级降低","怪物3等级降低"]
[100001,100001,-1,{"$f":"_xlfn.TEXTJOIN(\";\",1,I5:K5)","v":"1002"},{"$f":"_xlfn.TEXTJOIN(\";\",1,L5:N5)","v":""},{"$f":"_xlfn.TEXTJOIN(\";\",1,O5:Q5)","v":""},{"$f":"_xlfn.TEXTJOIN(\";\",1,R5:T5)","v":""},{"$f":"_xlfn.TEXTJOIN(\";\",1,U5:W5)","v":""},1002]
[100002,100002,-1,{"$f":"_xlfn.TEXTJOIN(\";\",1,I6:K6)","v":"1006"},{"$f":"_xlfn.TEXTJOIN(\";\",1,L6:N6)","v":""},{"$f":"_xlfn.TEXTJOIN(\";\",1,O6:Q6)","v":""},{"$f":"_xlfn.TEXTJOIN(\";\",1,R6:T6)","v":""},{"$f":"_xlfn.TEXTJOIN(\";\",1,U6:W6)","v":""},1006]
[100003,100003,-1,"1003","","","","",1003]
[100004,100004,-1,"1004","","","","",1004,{"$nulls":17},"等模型来了再配置"]
[100005,100005,-1,"1005","","","","",1005,{"$nulls":17},9002]
[100006,100006,-1,"1002","","","","",1002,{"$nulls":17},9001]
[100007,100007,-1,"1003;1002","90;30","77;26","75;25","0;0",1003,1002,null,90,30,null,77,26,null,75,25,null,0,0,{"$nulls":4},9003]
[100008,100008,-1,"1004;1006","90;30","77;26","75;25","0;0",1004,1006,null,90,30,null,77,26,null,75,25,null,0,0,{"$nulls":4},1001,1002]
[100009,100009,-1,"1005","","","","",1005,{"$nulls":17},5006]
[null,null,null,"","","","","",{"$nulls":18},5007]
[1002,{"$f":"LevelbattleConfig!B11","v":"主线-击败结界兽"},{"$f":"VLOOKUP(A15,LevelbattleConfig!A:P,16,FALSE)","v":5},"9002","","","","",9002,{"$nulls":17},9006]
[{"$f":"A15+1","v":1003},{"$f":"LevelbattleConfig!B12","v":"主线-击败痴道人"},{"$f":"VLOOKUP(A16,LevelbattleConfig!A:P,16,FALSE)","v":15},"9001","","","","",9001,{"$nulls":17},9004]
[{"$f":"A16+1","v":1004},{"$f":"LevelbattleConfig!B13","v":"主线-妖兽横行"},{"$f":"VLOOKUP(A17,LevelbattleConfig!A:P,16,FALSE)","v":25},"1008","","","","",1008]
[1005,{"$f":"LevelbattleConfig!B14","v":"主线-击败后山小妖"},{"$f":"VLOOKUP(A18,LevelbattleConfig!A:P,16,FALSE)","v":45},"1008","","","","",1008]
[1006,{"$f":"LevelbattleConfig!B15","v":"主线-击败夜袭的妖兽"},{"$f":"VLOOKUP(A19,LevelbattleConfig!A:P,16,FALSE)","v":50},"5006","","","","",5006]
[1007,{"$f":"LevelbattleConfig!B16","v":"主线-击败峰顶的妖王"},{"$f":"VLOOKUP(A20,LevelbattleConfig!A:P,16,FALSE)","v":55},"5007","","","","",5007]
[1008,{"$f":"LevelbattleConfig!B17","v":"主线-击败仙山的阵眼妖兽"},{"$f":"VLOOKUP(A21,LevelbattleConfig!A:P,16,FALSE)","v":85},"","","","",""]
[1009,{"$f":"LevelbattleConfig!B18","v":"主线-击杀灵兽获得天肥"},{"$f":"VLOOKUP(A22,LevelbattleConfig!A:P,16,FALSE)","v":95},"9002","","","","",9002]
[1010,{"$f":"LevelbattleConfig!B19","v":"主线-击败小麻雀的幻影"},{"$f":"VLOOKUP(A23,LevelbattleConfig!A:P,16,FALSE)","v":100},"9002","","","","",9002]
[{"$f":"A23+1","v":1011},{"$f":"LevelbattleConfig!B20","v":"主线-击败痴道人的幻影"},{"$f":"VLOOKUP(A24,LevelbattleConfig!A:P,16,FALSE)","v":110},"9001","","","","",9001]
[1012,{"$f":"LevelbattleConfig!B21","v":"主线-樗木之灵的幻影"},{"$f":"VLOOKUP(A25,LevelbattleConfig!A:P,16,FALSE)","v":120},"9004","","","","",9004]
[1013,{"$f":"LevelbattleConfig!B22","v":"主线-击败心魔"},{"$f":"VLOOKUP(A26,LevelbattleConfig!A:P,16,FALSE)","v":140},"5007","","","","",5007]
[1014,{"$f":"LevelbattleConfig!B23","v":"主线-击败北海妖兽2"},{"$f":"VLOOKUP(A27,LevelbattleConfig!A:P,16,FALSE)","v":150},"1008;1006","80;40","72;36","67;33","0;0",1008,1006,null,80,40,null,72,36,null,67,33,null,0,0]
[1015,{"$f":"LevelbattleConfig!B24","v":"主线-击败北海妖兽1"},{"$f":"VLOOKUP(A28,LevelbattleConfig!A:P,16,FALSE)","v":25},{"$f":"_xlfn.TEXTJOIN(\";\",1,I28:K28)","v":"1008;1006"},{"$f":"_xlfn.TEXTJOIN(\";\",1,L28:N28)","v":"80;40"},{"$f":"_xlfn.TEXTJOIN(\";\",1,O28:Q28)","v":"72;36"},{"$f":"_xlfn.TEXTJOIN(\";\",1,R28:T28)","v":"67;33"},{"$f":"_xlfn.TEXTJOIN(\";\",1,U28:W28)","v":"0;0"},1008,1006,null,80,40,null,72,36,null,67,33,null,0,0]
[1016,{"$f":"LevelbattleConfig!B25","v":"主线-与樗木之灵切磋"},{"$f":"VLOOKUP(A29,LevelbattleConfig!A:P,16,FALSE)","v":65},{"$f":"_xlfn.TEXTJOIN(\";\",1,I29:K29)","v":"9004"},{"$f":"_xlfn.TEXTJOIN(\";\",1,L29:N29)","v":""},{"$f":"_xlfn.TEXTJOIN(\";\",1,O29:Q29)","v":""},{"$f":"_xlfn.TEXTJOIN(\";\",1,R29:T29)","v":""},{"$f":"_xlfn.TEXTJOIN(\";\",1,U29:W29)","v":""},9004]
[null,null,null,"","","","",""]
[2001,"命运峰-第1层","40;40","5001;1001","70;30","","","70;30",5001,1001,null,70,30,{"$nulls":7},70,30]
[2002,"命运峰-第2层","50;50","5002;1002","70;30","","","70;30",5002,1002,null,70,30,{"$nulls":7},70,30]
[2003,"命运峰-第3层","60;60","5003;1003","70;30","","","70;30",5003,1003,null,70,30,{"$nulls":7},70,30]
[2004,"命运峰-第4层","70;70","5004;1004","70;30","","","70;30",5004,1004,null,70,30,{"$nulls":7},70,30]
[2005,"命运峰-第5层","80;80","5005;1005","70;30","","","70;30",5005,1005,null,70,30,{"$nulls":7},70,30]
[2006,"命运峰-第6层",90,"5001;1001","70;30","","","70;30",5001,1001,null,70,30,{"$nulls":7},70,30]
[2007,"命运峰-第7层",100,"5002;1002","70;30","","","70;30",5002,1002,null,70,30,{"$nulls":7},70,30]
[2008,"命运峰-第8层",110,"5003;1003","70;30","","","70;30",5003,1003,null,70,30,{"$nulls":7},70,30]
[2009,"命运峰-第9层",120,"5004;1004","70;30","","","70;30",5004,1004,null,70,30,{"$nulls":7},70,30]
[2010,"命运峰-第10层",130,"5005;1005","70;30","","","70;30",5005,1005,null,70,30,{"$nulls":7},70,30]
[2011,"命运峰-第11层",140,"5001;1001","70;30","","","70;30",5001,1001,null,70,30,{"$nulls":7},70,30]
[2012,"命运峰-第12层",150,"5002;1002","70;30","","","70;30",5002,1002,null,70,30,{"$nulls":7},70,30]
[2013,"命运峰-第13层",160,"5003;1003","70;30","","","70;30",5003,1003,null,70,30,{"$nulls":7},70,30]
[2014,"命运峰-第14层",170,"5004;1004","70;30","","","70;30",5004,1004,null,70,30,{"$nulls":7},70,30]
[2015,"命运峰-第15层",180,"5005;1005","70;30","","","70;30",5005,1005,null,70,30,{"$nulls":7},70,30]
[2016,"命运峰-第16层",190,"5001;1001","70;30","","","70;30",5001,1001,null,70,30,{"$nulls":7},70,30]
[2017,"命运峰-第17层",200,"5002;1002","70;30","","","70;30",5002,1002,null,70,30,{"$nulls":7},70,30]
[2018,"命运峰-第18层",210,"5003;1003","70;30","","","70;30",5003,1003,null,70,30,{"$nulls":7},70,30]
[2019,"命运峰-第19层",220,"5004;1004","70;30","","","70;30",5004,1004,null,70,30,{"$nulls":7},70,30]
[2020,"命运峰-第20层",230,"5005;1005","70;30","","","70;30",5005,1005,null,70,30,{"$nulls":7},70,30]
[]
[3001,{"$f":"LevelbattleConfig!B48","v":"道侣雀灵儿-击败风妖"},{"$f":"LevelbattleConfig!P48","v":40},{"$f":"_xlfn.TEXTJOIN(\";\",1,I52:K52)","v":"1005"},{"$f":"_xlfn.TEXTJOIN(\";\",1,L52:N52)","v":""},{"$f":"_xlfn.TEXTJOIN(\";\",1,O52:Q52)","v":""},{"$f":"_xlfn.TEXTJOIN(\";\",1,R52:T52)","v":""},{"$f":"_xlfn.TEXTJOIN(\";\",1,U52:W52)","v":""},1005]
[3002,{"$f":"LevelbattleConfig!B49","v":"道侣雀灵儿-击败大风妖兽"},{"$f":"LevelbattleConfig!P49","v":60},{"$f":"_xlfn.TEXTJOIN(\";\",1,I53:K53)","v":"9006"},{"$f":"_xlfn.TEXTJOIN(\";\",1,L53:N53)","v":""},{"$f":"_xlfn.TEXTJOIN(\";\",1,O53:Q53)","v":""},{"$f":"_xlfn.TEXTJOIN(\";\",1,R53:T53)","v":""},{"$f":"_xlfn.TEXTJOIN(\";\",1,U53:W53)","v":""},9006]
[{"$f":"A53+1","v":3003},{"$f":"LevelbattleConfig!B50","v":"道侣云枝-击败风妖"},{"$f":"LevelbattleConfig!P50","v":40},{"$f":"_xlfn.TEXTJOIN(\";\",1,I54:K54)","v":"1005"},{"$f":"_xlfn.TEXTJOIN(\";\",1,L54:N54)","v":""},{"$f":"_xlfn.TEXTJOIN(\";\",1,O54:Q54)","v":""},{"$f":"_xlfn.TEXTJOIN(\";\",1,R54:T54)","v":""},{"$f":"_xlfn.TEXTJOIN(\";\",1,U54:W54)","v":""},1005]
[3004,{"$f":"LevelbattleConfig!B51","v":"道侣云枝-击败风妖2"},{"$f":"LevelbattleConfig!P51","v":50},{"$f":"_xlfn.TEXTJOIN(\";\",1,I55:K55)","v":"1005"},{"$f":"_xlfn.TEXTJOIN(\";\",1,L55:N55)","v":""},{"$f":"_xlfn.TEXTJOIN(\";\",1,O55:Q55)","v":""},{"$f":"_xlfn.TEXTJOIN(\";\",1,R55:T55)","v":""},{"$f":"_xlfn.TEXTJOIN(\";\",1,U55:W55)","v":""},1005]
[3005,{"$f":"LevelbattleConfig!B52","v":"道侣云枝-击败风妖3"},{"$f":"LevelbattleConfig!P52","v":60},"5003","","","","",5003]
[3006,{"$f":"LevelbattleConfig!B53","v":"道侣云枝-击败风妖4"},{"$f":"LevelbattleConfig!P53","v":70},{"$f":"_xlfn.TEXTJOIN(\";\",1,I57:K57)","v":"5003"},{"$f":"_xlfn.TEXTJOIN(\";\",1,L57:N57)","v":""},{"$f":"_xlfn.TEXTJOIN(\";\",1,O57:Q57)","v":""},{"$f":"_xlfn.TEXTJOIN(\";\",1,R57:T57)","v":""},{"$f":"_xlfn.TEXTJOIN(\";\",1,U57:W57)","v":""},5003]
[3007,{"$f":"LevelbattleConfig!B54","v":"道侣云枝-击败风妖4"},{"$f":"LevelbattleConfig!P54","v":80},{"$f":"_xlfn.TEXTJOIN(\";\",1,I58:K58)","v":"5003"},{"$f":"_xlfn.TEXTJOIN(\";\",1,L58:N58)","v":""},{"$f":"_xlfn.TEXTJOIN(\";\",1,O58:Q58)","v":""},{"$f":"_xlfn.TEXTJOIN(\";\",1,R58:T58)","v":""},{"$f":"_xlfn.TEXTJOIN(\";\",1,U58:W58)","v":""},5003]
[3008,{"$f":"LevelbattleConfig!B55","v":"道侣云枝-击败风妖5"},{"$f":"LevelbattleConfig!P55","v":90},{"$f":"_xlfn.TEXTJOIN(\";\",1,I59:K59)","v":"9002"},{"$f":"_xlfn.TEXTJOIN(\";\",1,L59:N59)","v":""},{"$f":"_xlfn.TEXTJOIN(\";\",1,O59:Q59)","v":""},{"$f":"_xlfn.TEXTJOIN(\";\",1,R59:T59)","v":""},{"$f":"_xlfn.TEXTJOIN(\";\",1,U59:W59)","v":""},9002]
[3009,{"$f":"LevelbattleConfig!B56","v":"道侣婉溪-击败抢走玉佩的小妖"},{"$f":"LevelbattleConfig!P56","v":100},{"$f":"_xlfn.TEXTJOIN(\";\",1,I60:K60)","v":"5003"},{"$f":"_xlfn.TEXTJOIN(\";\",1,L60:N60)","v":""},{"$f":"_xlfn.TEXTJOIN(\";\",1,O60:Q60)","v":""},{"$f":"_xlfn.TEXTJOIN(\";\",1,R60:T60)","v":""},{"$f":"_xlfn.TEXTJOIN(\";\",1,U60:W60)","v":""},5003]
[3010,{"$f":"LevelbattleConfig!B57","v":"道侣婉溪-击败溪边水灵"},{"$f":"LevelbattleConfig!P57","v":120},{"$f":"_xlfn.TEXTJOIN(\";\",1,I61:K61)","v":"5002"},{"$f":"_xlfn.TEXTJOIN(\";\",1,L61:N61)","v":""},{"$f":"_xlfn.TEXTJOIN(\";\",1,O61:Q61)","v":""},{"$f":"_xlfn.TEXTJOIN(\";\",1,R61:T61)","v":""},{"$f":"_xlfn.TEXTJOIN(\";\",1,U61:W61)","v":""},5002]
[3011,{"$f":"LevelbattleConfig!B58","v":"道侣许由-击败守护灵草的小妖"},{"$f":"LevelbattleConfig!P58","v":80},{"$f":"_xlfn.TEXTJOIN(\";\",1,I62:K62)","v":"1006"},{"$f":"_xlfn.TEXTJOIN(\";\",1,L62:N62)","v":""},{"$f":"_xlfn.TEXTJOIN(\";\",1,O62:Q62)","v":""},{"$f":"_xlfn.TEXTJOIN(\";\",1,R62:T62)","v":""},{"$f":"_xlfn.TEXTJOIN(\";\",1,U62:W62)","v":""},1006]
[3012,{"$f":"LevelbattleConfig!B59","v":"道侣许由-击败秘境灵草守卫"},{"$f":"LevelbattleConfig!P59","v":100},"5005","","","","",5005]
[3013,{"$f":"LevelbattleConfig!B60","v":"道侣疯道人-击败果园守卫"},{"$f":"LevelbattleConfig!P60","v":140},{"$f":"_xlfn.TEXTJOIN(\";\",1,I64:K64)","v":"5001"},{"$f":"_xlfn.TEXTJOIN(\";\",1,L64:N64)","v":""},{"$f":"_xlfn.TEXTJOIN(\";\",1,O64:Q64)","v":""},{"$f":"_xlfn.TEXTJOIN(\";\",1,R64:T64)","v":""},{"$f":"_xlfn.TEXTJOIN(\";\",1,U64:W64)","v":""},5001]
[3014,{"$f":"LevelbattleConfig!B61","v":"道侣疯道人-帮助疯道人驱妖"},{"$f":"LevelbattleConfig!P61","v":150},{"$f":"_xlfn.TEXTJOIN(\";\",1,I65:K65)","v":"5004"},{"$f":"_xlfn.TEXTJOIN(\";\",1,L65:N65)","v":""},{"$f":"_xlfn.TEXTJOIN(\";\",1,O65:Q65)","v":""},{"$f":"_xlfn.TEXTJOIN(\";\",1,R65:T65)","v":""},{"$f":"_xlfn.TEXTJOIN(\";\",1,U65:W65)","v":""},5004]
[3015,{"$f":"LevelbattleConfig!B62","v":"道侣疯道人-击败疯道人"},{"$f":"LevelbattleConfig!P62","v":151},{"$f":"_xlfn.TEXTJOIN(\";\",1,I66:K66)","v":"9001"},{"$f":"_xlfn.TEXTJOIN(\";\",1,L66:N66)","v":""},{"$f":"_xlfn.TEXTJOIN(\";\",1,O66:Q66)","v":""},{"$f":"_xlfn.TEXTJOIN(\";\",1,R66:T66)","v":""},{"$f":"_xlfn.TEXTJOIN(\";\",1,U66:W66)","v":""},9001]
[]
[10001,{"$f":"LevelbattleConfig!B64","v":"引导 -开局第一场战斗"},200,{"$f":"_xlfn.TEXTJOIN(\";\",1,I68:K68)","v":"9005"},{"$f":"_xlfn.TEXTJOIN(\";\",1,L68:N68)","v":""},{"$f":"_xlfn.TEXTJOIN(\";\",1,O68:Q68)","v":""},{"$f":"_xlfn.TEXTJOIN(\";\",1,R68:T68)","v":""},{"$f":"_xlfn.TEXTJOIN(\";\",1,U68:W68)","v":""},9005,{"$nulls":17},9006]
[]
[4001,{"$f":"VLOOKUP(A70,LevelbattleConfig!A:B,2,FALSE)","v":"支线-海岸异象-妖物调查"},{"$f":"VLOOKUP(A70,LevelbattleConfig!A:P,16,FALSE)","v":30},{"$f":"_xlfn.TEXTJOIN(\";\",1,I70:K70)","v":"9001"},{"$f":"_xlfn.TEXTJOIN(\";\",1,L70:N70)","v":""},{"$f":"_xlfn.TEXTJOIN(\";\",1,O70:Q70)","v":""},{"$f":"_xlfn.TEXTJOIN(\";\",1,R70:T70)","v":""},{"$f":"_xlfn.TEXTJOIN(\";\",1,U70:W70)","v":""},9001]
[4002,{"$f":"VLOOKUP(A71,LevelbattleConfig!A:B,2,FALSE)","v":"支线-幽魂-幽魂石守护兽"},{"$f":"VLOOKUP(A71,LevelbattleConfig!A:P,16,FALSE)","v":60},{"$f":"_xlfn.TEXTJOIN(\";\",1,I71:K71)","v":"9001"},{"$f":"_xlfn.TEXTJOIN(\";\",1,L71:N71)","v":""},{"$f":"_xlfn.TEXTJOIN(\";\",1,O71:Q71)","v":""},{"$f":"_xlfn.TEXTJOIN(\";\",1,R71:T71)","v":""},{"$f":"_xlfn.TEXTJOIN(\";\",1,U71:W71)","v":""},9001]
[4003,{"$f":"VLOOKUP(A72,LevelbattleConfig!A:B,2,FALSE)","v":"支线-馨儿-迷雾妖怪"},{"$f":"VLOOKUP(A72,LevelbattleConfig!A:P,16,FALSE)","v":90},"9001","","","","",9001]
[4004,{"$f":"VLOOKUP(A73,LevelbattleConfig!A:B,2,FALSE)","v":"支线-馨儿-发现信使"},{"$f":"VLOOKUP(A73,LevelbattleConfig!A:P,16,FALSE)","v":110},{"$f":"_xlfn.TEXTJOIN(\";\",1,I73:K73)","v":"9001"},{"$f":"_xlfn.TEXTJOIN(\";\",1,L73:N73)","v":""},{"$f":"_xlfn.TEXTJOIN(\";\",1,O73:Q73)","v":""},{"$f":"_xlfn.TEXTJOIN(\";\",1,R73:T73)","v":""},{"$f":"_xlfn.TEXTJOIN(\";\",1,U73:W73)","v":""},9001]
[4005,{"$f":"VLOOKUP(A74,LevelbattleConfig!A:B,2,FALSE)","v":"支线-馨儿-发现信使"},{"$f":"VLOOKUP(A74,LevelbattleConfig!A:P,16,FALSE)","v":120},"9001","","","","",9001]
[4006,{"$f":"VLOOKUP(A75,LevelbattleConfig!A:B,2,FALSE)","v":"支线-馨儿-风灵鸟的宝藏"},{"$f":"VLOOKUP(A75,LevelbattleConfig!A:P,16,FALSE)","v":130},"9001","","","","",9001]
[4007,{"$f":"VLOOKUP(A76,LevelbattleConfig!A:B,2,FALSE)","v":"支线-馨儿-浮岛灵泉的净化"},{"$f":"VLOOKUP(A76,LevelbattleConfig!A:P,16,FALSE)","v":140},"9001","","","","",9001]
[4008,{"$f":"VLOOKUP(A77,LevelbattleConfig!A:B,2,FALSE)","v":"支线-馨儿-浮岛盗修的阴谋"},{"$f":"VLOOKUP(A77,LevelbattleConfig!A:P,16,FALSE)","v":150},"9001","","","","",9001]
[4009,{"$f":"VLOOKUP(A78,LevelbattleConfig!A:B,2,FALSE)","v":"支线-柳轻烟-找到血海宗的人"},{"$f":"VLOOKUP(A78,LevelbattleConfig!A:P,16,FALSE)","v":160},"9001","","","","",9001]

{"sheet":"强度验算","index":2,"n_rows":38,"n_cols":14,"rows_kept":38,"cut":false,"hidden":false,"merged":[]}
[null,"生存修正","生命","攻击修正","对拼修正","秒伤","怪物存活时间",null,"玩家打怪物",null,null,"怪物打玩家"]
[{"$nulls":8},"阶段1","阶段2",null,"阶段1","阶段2"]
["怪物1",null,2000,null,null,100,{"$f":"C3/100","v":20},null,{"$f":"G3*F3","v":2000}]
[]
[{"$nulls":6},1.2,null,{"$f":"SUM(I6:I7)","v":1800},{"$f":"SUM(J6:J7)","v":600},null,{"$f":"SUM(L6:L7)","v":1846.05},{"$f":"SUM(M6:M7)","v":153.95},{"$f":"SUM(L5:M5)","v":2000}]
["主怪",0.9,{"$f":"C$3*$B6","v":1800},0.769,{"$f":"B6/SUM(B$6:B$7)","v":0.75},{"$f":"F$3*$D6","v":76.9},{"$f":"C6/F$3","v":18},{"$f":"B6/D6","v":1.1703511053316},{"$f":"G6*F$3","v":1800},null,null,{"$f":"F6*G6","v":1384.2}]
["辅怪1",{"$f":"C7/C$3","v":0.3},{"$f":"J7","v":600},{"$f":"F7/F$3","v":0.256583333333333},{"$f":"B7/SUM(B$6:B$7)","v":0.25},{"$f":"(C$3-L6)/G7","v":25.6583333333333},{"$f":"G$3*G5","v":24},{"$f":"B7/D7","v":1.16921078272166},null,{"$f":"F$3*(G7-G6)","v":600},null,{"$f":"F7*G6","v":461.85},{"$f":"C$3-L5","v":153.95}]
[]
[{"$nulls":6},{"$f":"G5","v":1.2},null,{"$f":"SUM(I10:I11)","v":1600},{"$f":"SUM(J10:J11)","v":800},null,{"$f":"SUM(L10:L11)","v":1714.13333333333},{"$f":"SUM(M10:M11)","v":285.866666666667},{"$f":"SUM(L9:M9)","v":2000}]
["主怪",0.8,{"$f":"C$3*$B10","v":1600},0.714,{"$f":"B10/SUM(B$10:B$11)","v":0.666666666666667},{"$f":"F$3*$D10","v":71.4},{"$f":"C10/F$3","v":16},{"$f":"B10/D10","v":1.12044817927171},{"$f":"G10*F$3","v":1600},null,null,{"$f":"F10*G10","v":1142.4}]
["辅怪1",{"$f":"C11/C$3","v":0.4},{"$f":"J11","v":800},{"$f":"F11/F$3","v":0.357333333333333},{"$f":"B11/SUM(B$10:B$11)","v":0.333333333333333},{"$f":"(C$3-L10)/G11","v":35.7333333333333},{"$f":"G$3*G9","v":24},{"$f":"B11/D11","v":1.11940298507463},null,{"$f":"F$3*(G11-G10)","v":800},null,{"$f":"F11*G10","v":571.733333333333},{"$f":"C$3-L9","v":285.866666666667}]
[]
[{"$nulls":6},{"$f":"G5","v":1.2},null,{"$f":"SUM(I14:I15)","v":1400},{"$f":"SUM(J14:J15)","v":1000},null,{"$f":"SUM(L14:L15)","v":1541.16666666667},{"$f":"SUM(M14:M15)","v":458.833333333333},{"$f":"SUM(L13:M13)","v":2000}]
["主怪",0.7,{"$f":"C$3*$B14","v":1400},0.642,{"$f":"B14/SUM(B$14:B$15)","v":0.583333333333333},{"$f":"F$3*$D14","v":64.2},{"$f":"C14/F$3","v":14},{"$f":"B14/D14","v":1.09034267912773},{"$f":"G14*F$3","v":1400},null,null,{"$f":"F14*G14","v":898.8}]
["辅怪1",{"$f":"C15/C$3","v":0.5},{"$f":"J15","v":1000},{"$f":"F15/F$3","v":0.458833333333333},{"$f":"B15/SUM(B$14:B$15)","v":0.416666666666667},{"$f":"(C$3-L14)/G15","v":45.8833333333333},{"$f":"G$3*G13","v":24},{"$f":"B15/D15","v":1.08972030512169},null,{"$f":"F$3*(G15-G14)","v":1000},null,{"$f":"F15*G14","v":642.366666666667},{"$f":"C$3-L13","v":458.833333333333}]
[]
[{"$nulls":6},{"$f":"G5","v":1.2},null,{"$f":"SUM(I18:I19)","v":1200},{"$f":"SUM(J18:J19)","v":1200},null,{"$f":"SUM(L18:L19)","v":1333.6},{"$f":"SUM(M18:M19)","v":666.4},{"$f":"SUM(L17:M17)","v":2000}]
["主怪",0.6,{"$f":"C$3*$B18","v":1200},0.556,{"$f":"B18/SUM(B$18:B$19)","v":0.5},{"$f":"F$3*$D18","v":55.6},{"$f":"C18/F$3","v":12},{"$f":"B18/D18","v":1.07913669064748},{"$f":"G18*F$3","v":1200},null,null,{"$f":"F18*G18","v":667.2}]
["辅怪1",{"$f":"C19/C$3","v":0.6},{"$f":"J19","v":1200},{"$f":"F19/F$3","v":0.555333333333333},{"$f":"B19/SUM(B$18:B$19)","v":0.5},{"$f":"(C$3-L18)/G19","v":55.5333333333333},{"$f":"G$3*G17","v":24},{"$f":"B19/D19","v":1.08043217286915},null,{"$f":"F$3*(G19-G18)","v":1200},null,{"$f":"F19*G18","v":666.4},{"$f":"C$3-L17","v":666.4}]
[]
[]
[]
[]
[{"$nulls":6},1.3,null,{"$f":"SUM(I25:I26)","v":1800},{"$f":"SUM(J25:J26)","v":800},null,{"$f":"SUM(L25:L26)","v":1810.52307692308},{"$f":"SUM(M25:M26)","v":189.476923076923},{"$f":"SUM(L24:M24)","v":2000}]
["主怪",0.9,{"$f":"C$3*$B25","v":1800},0.769,null,{"$f":"F$3*$D25","v":76.9},{"$f":"C25/F$3","v":18},{"$f":"B25/D25","v":1.1703511053316},{"$f":"G25*F$3","v":1800},null,null,{"$f":"F25*G25","v":1384.2}]
["辅怪1",{"$f":"C26/C$3","v":0.4},{"$f":"J26","v":800},{"$f":"F26/F$3","v":0.236846153846154},null,{"$f":"(C$3-L25)/G26","v":23.6846153846154},{"$f":"G$3*G24","v":26},{"$f":"B26/D26","v":1.68886001948685},null,{"$f":"F$3*(G26-G25)","v":800},null,{"$f":"F26*G25","v":426.323076923077},{"$f":"C$3-L24","v":189.476923076923}]
[]
[{"$nulls":6},{"$f":"G24","v":1.3},null,{"$f":"SUM(I29:I30)","v":1600},{"$f":"SUM(J29:J30)","v":1000},null,{"$f":"SUM(L29:L30)","v":1670.15384615385},{"$f":"SUM(M29:M30)","v":329.846153846154},{"$f":"SUM(L28:M28)","v":2000}]
["主怪",0.8,{"$f":"C$3*$B29","v":1600},0.714,null,{"$f":"F$3*$D29","v":71.4},{"$f":"C29/F$3","v":16},{"$f":"B29/D29","v":1.12044817927171},{"$f":"G29*F$3","v":1600},null,null,{"$f":"F29*G29","v":1142.4}]
["辅怪1",{"$f":"C30/C$3","v":0.5},{"$f":"J30","v":1000},{"$f":"F30/F$3","v":0.329846153846154},null,{"$f":"(C$3-L29)/G30","v":32.9846153846154},{"$f":"G$3*G28","v":26},{"$f":"B30/D30","v":1.51585820895522},null,{"$f":"F$3*(G30-G29)","v":1000},null,{"$f":"F30*G29","v":527.753846153846},{"$f":"C$3-L28","v":329.846153846154}]
[]
[{"$nulls":6},{"$f":"G24","v":1.3},null,{"$f":"SUM(I33:I34)","v":1400},{"$f":"SUM(J33:J34)","v":1200},null,{"$f":"SUM(L33:L34)","v":1491.75384615385},{"$f":"SUM(M33:M34)","v":508.246153846154},{"$f":"SUM(L32:M32)","v":2000}]
["主怪",0.7,{"$f":"C$3*$B33","v":1400},0.642,null,{"$f":"F$3*$D33","v":64.2},{"$f":"C33/F$3","v":14},{"$f":"B33/D33","v":1.09034267912773},{"$f":"G33*F$3","v":1400},null,null,{"$f":"F33*G33","v":898.8}]
["辅怪1",{"$f":"C34/C$3","v":0.6},{"$f":"J34","v":1200},{"$f":"F34/F$3","v":0.423538461538461},null,{"$f":"(C$3-L33)/G34","v":42.3538461538461},{"$f":"G$3*G32","v":26},{"$f":"B34/D34","v":1.41663639665819},null,{"$f":"F$3*(G34-G33)","v":1200},null,{"$f":"F34*G33","v":592.953846153846},{"$f":"C$3-L32","v":508.246153846154}]
[]
[{"$nulls":6},{"$f":"G24","v":1.3},null,{"$f":"SUM(I37:I38)","v":1200},{"$f":"SUM(J37:J38)","v":1400},null,{"$f":"SUM(L37:L38)","v":1282.33846153846},{"$f":"SUM(M37:M38)","v":717.661538461538},{"$f":"SUM(L36:M36)","v":2000}]
["主怪",0.6,{"$f":"C$3*$B37","v":1200},0.556,null,{"$f":"F$3*$D37","v":55.6},{"$f":"C37/F$3","v":12},{"$f":"B37/D37","v":1.07913669064748},{"$f":"G37*F$3","v":1200},null,null,{"$f":"F37*G37","v":667.2}]
["辅怪1",{"$f":"C38/C$3","v":0.7},{"$f":"J38","v":1400},{"$f":"F38/F$3","v":0.512615384615385},null,{"$f":"(C$3-L37)/G38","v":51.2615384615385},{"$f":"G$3*G36","v":26},{"$f":"B38/D38","v":1.36554621848739},null,{"$f":"F$3*(G38-G37)","v":1400},null,{"$f":"F38*G37","v":615.138461538461},{"$f":"C$3-L36","v":717.661538461538}]