{"text_format":"2","workbook":"xlsx","n_sheets":1,"sheets":["HeroModelConfig"],"not_rendered":{"charts":0,"images":0,"macros":0,"external_links":1,"defined_names":1,"comments":0,"pivot_tables":0},"unopened":[],"bounds":{"document_bytes":16777216,"sheet_cells":100000,"run_cost":"one","rows_first":2000,"rows_last":500,"rows_between":2000,"halvings":0,"cell_chars":16384,"cell_head_chars":4096},"cells_cut":0,"cells_raw":0,"read":"whole","date_system":"1900"}

{"sheet":"HeroModelConfig","index":0,"n_rows":34,"n_cols":73,"rows_kept":34,"cut":false,"hidden":false,"merged":[]}
["ID","nickName","name",null,"headicon","model","isUseGpu","heroType",{"$nulls":7},"attack","hp","def","shield",{"$nulls":9},"speed_atk","Linggen","skillID","skillActiveLv","fa_bao_id","fabaoActiveLv","heroStory"]
["int","int","int",null,"string","string","bool","int",null,"英雄","小怪","精英","首领",null,null,"int","int","int","int",{"$nulls":9},"float","int[]","int[]","int[]","int[]","int[]","int"]
[{"$nulls":9},1,{"$f":"0.95*0.95","v":0.90249999999999997},{"$f":"1.03*1.03","v":1.0609},{"$f":"1.1*1.1","v":1.2100000000000002}]
["modelID","称号","名字","名字预览","头像素材名","模型名称",null,"1. 英雄\n2. 小怪\n3. 精英\n4. BOSS",null,"攻击力\n倍率","护盾/生命比例\n不填=30%","防御力\n倍率","护盾\n倍率","生命值\n倍率",null,"攻击力","生命值","防御力","护盾",null,"攻击修正","生命修正","防御修正","护盾修正",null,"总能力","攻击能力","生存能力","攻击速度\nX秒/圈","灵根初值\n金-水-木-火-土","功法序列\n主动≤4\n被动≤3","功法最低出现等级","角色自带的法宝（最多4个）","法宝最低出现等级","英雄故事文本",null,"功法1\n","功法2","功法3","功法4","功法5","功法6","功法7","功法8","功法9","功法10",null,"功法1\n出现等级","功法2\n出现等级","功法3\n出现等级","功法4\n出现等级","功法5\n出现等级","功法6\n出现等级","功法7\n出现等级","功法8\n出现等级","功法9\n出现等级","功法10\n出现等级",null,"法宝1","法宝2","法宝3","法宝4",null,"法宝1\n出现等级","法宝2\n出现等级","法宝3\n出现等级","法宝4\n出现等级",null,"灵根\n金","灵根\n水","灵根\n木","灵根\n火","灵根\n土"]
[101,-1,1,"主角",{"$f":"CONCATENATE(\"icon_tx\",A5)","v":"icon_tx101"},"Nanzhu",0,1,null,1,null,1,{"$f":"((CHOOSE(H5,J$3,K$3,L$3,M$3)^0.5*100/(AA5*L5)*1.3)-N5)/0.3","v":1.0000000000000002},{"$f":"(100/(AA5*L5)*1.3/(1+IF(K5=\"\",0.3,K5)))*CHOOSE(H5,J$3,K$3,L$3,M$3)^0.5","v":1},null,{"$f":"ROUND(J5*[1]升级!$C$3*CHOOSE(H5,J$3,K$3,L$3,M$3)^0.5*IF(U5=\"\",1,U5),0)","v":100},{"$f":"ROUND(N5*[1]升级!$B$3/[1]升级!$D$1*CHOOSE(H5,J$3,K$3,L$3,M$3)^0.5*IF(V5=\"\",1,V5),0)","v":100},{"$f":"ROUND(L5*[1]升级!$D$3,0)*IF(W5=\"\",1,W5)","v":100},{"$f":"ROUND(CHOOSE(H5,J$3,K$3,L$3,M$3)^0.5*M5*[1]升级!$B$3/[1]升级!$D$1*IF(X5=\"\",1,X5),0)","v":100},{"$nulls":6},{"$f":"(AA5*AB5)/100","v":100},{"$f":"J5*100*CHOOSE(H5,J$3,K$3,L$3,M$3)^0.5","v":100},{"$f":"(N5+M5*0.3)/1.3*L5*100*CHOOSE(H5,J$3,K$3,L$3,M$3)^0.5","v":100},0,{"$f":"_xlfn.TEXTJOIN(\";\",1,BQ5:BU5)","v":"100;100;100;100;100"},{"$f":"_xlfn.TEXTJOIN(\";\",1,AK5:AT5)","v":"-1;-1;-1;-1;-1;-1;-1;-1;-1;-1"},{"$f":"_xlfn.TEXTJOIN(\";\",1,AV5:BE5)","v":"-1;-1;-1;-1;-1;-1;-1;-1;-1;-1"},{"$f":"_xlfn.TEXTJOIN(\";\",1,BG5:BJ5)","v":"-1;-1;-1;-1"},{"$f":"_xlfn.TEXTJOIN(\";\",1,BL5:BO5)","v":"-1;-1;-1;-1"},null,null,-1,-1,-1,-1,-1,-1,-1,-1,-1,-1,null,-1,-1,-1,-1,-1,-1,-1,-1,-1,-1,null,-1,-1,-1,-1,null,-1,-1,-1,-1,null,100,100,100,100,100]
[102,-1,1,"第一场战斗中的主角",{"$f":"CONCATENATE(\"icon_tx\",A6)","v":"icon_tx102"},"Nanzhu",0,1,null,1,null,1,{"$f":"((CHOOSE(H6,J$3,K$3,L$3,M$3)^0.5*100/(AA6*L6)*1.3)-N6)/0.3","v":1.0000000000000002},{"$f":"(100/(AA6*L6)*1.3/(1+IF(K6=\"\",0.3,K6)))*CHOOSE(H6,J$3,K$3,L$3,M$3)^0.5","v":1},null,{"$f":"ROUND(J6*[1]升级!$C$3*CHOOSE(H6,J$3,K$3,L$3,M$3)^0.5*IF(U6=\"\",1,U6),0)","v":100},{"$f":"ROUND(N6*[1]升级!$B$3/[1]升级!$D$1*CHOOSE(H6,J$3,K$3,L$3,M$3)^0.5*IF(V6=\"\",1,V6),0)","v":100},{"$f":"ROUND(L6*[1]升级!$D$3,0)*IF(W6=\"\",1,W6)","v":100},{"$f":"ROUND(CHOOSE(H6,J$3,K$3,L$3,M$3)^0.5*M6*[1]升级!$B$3/[1]升级!$D$1*IF(X6=\"\",1,X6),0)","v":100},{"$nulls":6},{"$f":"(AA6*AB6)/100","v":100},{"$f":"J6*100*CHOOSE(H6,J$3,K$3,L$3,M$3)^0.5","v":100},{"$f":"(N6+M6*0.3)/1.3*L6*100*CHOOSE(H6,J$3,K$3,L$3,M$3)^0.5","v":100},0,{"$f":"_xlfn.TEXTJOIN(\";\",1,BQ6:BU6)","v":"100;100;100;100;100"},{"$f":"_xlfn.TEXTJOIN(\";\",1,AK6:AT6)","v":"2006;1103;-1;2011;1105;-1;2003;1101;2012;1102"},{"$f":"_xlfn.TEXTJOIN(\";\",1,AV6:BE6)","v":"-1;-1;-1;-1;-1;-1;-1;-1;-1;-1"},{"$f":"_xlfn.TEXTJOIN(\";\",1,BG6:BJ6)","v":"10010;10001;10006;10002"},{"$f":"_xlfn.TEXTJOIN(\";\",1,BL6:BO6)","v":"-1;-1;-1;-1"},null,null,2006,1103,-1,2011,1105,-1,2003,1101,2012,1102,null,-1,-1,-1,-1,-1,-1,-1,-1,-1,-1,null,10010,10001,10006,10002,null,-1,-1,-1,-1,null,100,100,100,100,100]
[null,null,null,"小怪"]
[1001,-1,2,"蒙面男子",{"$f":"CONCATENATE(\"icon_tx\",A8)","v":"icon_tx1001"},"Gw_Man",0,2,null,1.1499999999999999,null,1,{"$f":"((CHOOSE(H8,J$3,K$3,L$3,M$3)^0.5*100/(AA8*L8)*1.3)-N8)/0.3","v":0.86956521739130488},{"$f":"(100/(AA8*L8)*1.3/(1+IF(K8=\"\",0.3,K8)))*CHOOSE(H8,J$3,K$3,L$3,M$3)^0.5","v":0.86956521739130432},null,{"$f":"ROUND(J8*[1]升级!$C$3*CHOOSE(H8,J$3,K$3,L$3,M$3)^0.5*IF(U8=\"\",1,U8),0)","v":109},{"$f":"ROUND(N8*[1]升级!$B$3/[1]升级!$D$1*CHOOSE(H8,J$3,K$3,L$3,M$3)^0.5*IF(V8=\"\",1,V8),0)","v":83},{"$f":"ROUND(L8*[1]升级!$D$3,0)*IF(W8=\"\",1,W8)","v":100},{"$f":"ROUND(CHOOSE(H8,J$3,K$3,L$3,M$3)^0.5*M8*[1]升级!$B$3/[1]升级!$D$1*IF(X8=\"\",1,X8),0)","v":83},{"$nulls":6},{"$f":"(AA8*AB8)/100","v":90.249999999999986},{"$f":"J8*100*CHOOSE(H8,J$3,K$3,L$3,M$3)^0.5","v":109.24999999999999},{"$f":"(N8+M8*0.3)/1.3*L8*100*CHOOSE(H8,J$3,K$3,L$3,M$3)^0.5","v":82.608695652173907},0,{"$f":"_xlfn.TEXTJOIN(\";\",1,BQ8:BU8)","v":"100;100;100;100;100"},{"$f":"_xlfn.TEXTJOIN(\";\",1,AK8:AT8)","v":"1201;-1;1301;-1;1401;-1;-1;-1;1101;-1"},{"$f":"_xlfn.TEXTJOIN(\";\",1,AV8:BD8)","v":"1;-1;5;-1;20;-1;-1;-1;50"},{"$f":"_xlfn.TEXTJOIN(\";\",1,BG8:BJ8)","v":"10010;-1;-1;-1"},{"$f":"_xlfn.TEXTJOIN(\";\",1,BL8:BO8)","v":"1;20;50;80"},null,null,1201,-1,1301,-1,1401,-1,-1,-1,1101,-1,null,1,-1,5,-1,20,-1,-1,-1,50,-1,null,10010,-1,-1,-1,null,1,20,50,80,null,100,100,100,100,100]
[1002,-1,3,"蒙面男子","icon_tx1001","Gw_Man",0,2,null,1.05,null,1,{"$f":"((CHOOSE(H9,J$3,K$3,L$3,M$3)^0.5*100/(AA9*L9)*1.3)-N9)/0.3","v":0.95238095238095277},{"$f":"(100/(AA9*L9)*1.3/(1+IF(K9=\"\",0.3,K9)))*CHOOSE(H9,J$3,K$3,L$3,M$3)^0.5","v":0.95238095238095233},null,{"$f":"ROUND(J9*[1]升级!$C$3*CHOOSE(H9,J$3,K$3,L$3,M$3)^0.5*IF(U9=\"\",1,U9),0)","v":100},{"$f":"ROUND(N9*[1]升级!$B$3/[1]升级!$D$1*CHOOSE(H9,J$3,K$3,L$3,M$3)^0.5*IF(V9=\"\",1,V9),0)","v":90},{"$f":"ROUND(L9*[1]升级!$D$3,0)*IF(W9=\"\",1,W9)","v":100},{"$f":"ROUND(CHOOSE(H9,J$3,K$3,L$3,M$3)^0.5*M9*[1]升级!$B$3/[1]升级!$D$1*IF(X9=\"\",1,X9),0)","v":90},{"$nulls":6},{"$f":"(AA9*AB9)/100","v":90.25},{"$f":"J9*100*CHOOSE(H9,J$3,K$3,L$3,M$3)^0.5","v":99.75},{"$f":"(N9+M9*0.3)/1.3*L9*100*CHOOSE(H9,J$3,K$3,L$3,M$3)^0.5","v":90.476190476190467},0,"100;100;100;100;100","1202;-1;1301;-1;1402;-1;-1;-1;1102;-1",{"$f":"_xlfn.TEXTJOIN(\";\",1,AV9:BD9)","v":"1;-1;5;-1;20;-1;-1;-1;50"},"10010;-1;-1;-1","1;20;50;80",null,null,1202,-1,1301,-1,1402,-1,-1,-1,1102,-1,null,1,-1,5,-1,20,-1,-1,-1,50,-1,null,10010,-1,-1,-1,null,1,20,50,80,null,100,100,100,100,100]
[1003,-1,4,"蒙面女子","icon_tx1003","Gw_Woman",0,2,null,0.95,null,1,1.0526315789473688,1.0526315789473684,null,{"$f":"ROUND(J10*[1]升级!$C$3*CHOOSE(H10,J$3,K$3,L$3,M$3)^0.5*IF(U10=\"\",1,U10),0)","v":90},{"$f":"ROUND(N10*[1]升级!$B$3/[1]升级!$D$1*CHOOSE(H10,J$3,K$3,L$3,M$3)^0.5*IF(V10=\"\",1,V10),0)","v":100},{"$f":"ROUND(L10*[1]升级!$D$3,0)*IF(W10=\"\",1,W10)","v":100},{"$f":"ROUND(CHOOSE(H10,J$3,K$3,L$3,M$3)^0.5*M10*[1]升级!$B$3/[1]升级!$D$1*IF(X10=\"\",1,X10),0)","v":100},{"$nulls":6},90.249999999999986,90.25,99.999999999999986,0,"100;100;100;100;100","1201;-1;1301;-1;1403;-1;-1;-1;1103;-1",{"$f":"_xlfn.TEXTJOIN(\";\",1,AV10:BE10)","v":"1;-1;5;-1;20;-1;-1;-1;50;-1"},"10010;-1;-1;-1","1;20;50;80",null,null,1201,-1,1301,-1,1403,-1,-1,-1,1103,-1,null,1,-1,5,-1,20,-1,-1,-1,50,-1,null,10010,-1,-1,-1,null,1,20,50,80,null,100,100,100,100,100]
[1004,-1,5,"蒙面女子","icon_tx1003","Gw_Woman",0,2,null,0.85,null,1,1.1764705882352944,1.1764705882352942,null,{"$f":"ROUND(J11*[1]升级!$C$3*CHOOSE(H11,J$3,K$3,L$3,M$3)^0.5*IF(U11=\"\",1,U11),0)","v":81},{"$f":"ROUND(N11*[1]升级!$B$3/[1]升级!$D$1*CHOOSE(H11,J$3,K$3,L$3,M$3)^0.5*IF(V11=\"\",1,V11),0)","v":112},{"$f":"ROUND(L11*[1]升级!$D$3,0)*IF(W11=\"\",1,W11)","v":100},{"$f":"ROUND(CHOOSE(H11,J$3,K$3,L$3,M$3)^0.5*M11*[1]升级!$B$3/[1]升级!$D$1*IF(X11=\"\",1,X11),0)","v":112},{"$nulls":6},90.25,80.75,111.76470588235294,0,"100;100;100;100;100","1301;-1;1304;-1;1305;-1;-1;1304;-1;-1","1;-1;5;-1;20;-1;-1;50;-1;-1","10010;-1;-1;-1","1;20;50;80",null,null,1301,-1,1304,-1,1305,-1,-1,1304,-1,-1,null,1,-1,5,-1,20,-1,-1,50,-1,-1,null,10010,-1,-1,-1,null,1,20,50,80,null,100,100,100,100,100]
[1005,-1,6,"树精","icon_tx1005","Boss_Tree_xiao",0,2,null,0.7,null,1,1.4285714285714295,1.4285714285714284,null,{"$f":"ROUND(J12*[1]升级!$C$3*CHOOSE(H12,J$3,K$3,L$3,M$3)^0.5*IF(U12=\"\",1,U12),0)","v":67},{"$f":"ROUND(N12*[1]升级!$B$3/[1]升级!$D$1*CHOOSE(H12,J$3,K$3,L$3,M$3)^0.5*IF(V12=\"\",1,V12),0)","v":136},{"$f":"ROUND(L12*[1]升级!$D$3,0)*IF(W12=\"\",1,W12)","v":100},{"$f":"ROUND(CHOOSE(H12,J$3,K$3,L$3,M$3)^0.5*M12*[1]升级!$B$3/[1]升级!$D$1*IF(X12=\"\",1,X12),0)","v":136},{"$nulls":6},90.25,66.5,135.71428571428572,0,"100;100;100;100;100","9071;-1;-1;-1;9071;-1;-1;-1;9071;-1","1;-1;-1;-1;20;-1;-1;-1;50;-1","-1;-1;-1;-1","1;20;50;80",null,null,9071,-1,-1,-1,9071,-1,-1,-1,9071,-1,null,1,-1,-1,-1,20,-1,-1,-1,50,-1,null,-1,-1,-1,-1,null,1,20,50,80,null,100,100,100,100,100]
[1006,-1,7,"飞鹤","icon_tx1006","gw_xianhe",0,2,null,0.9,null,1,1.1111111111111125,1.1111111111111109,null,{"$f":"ROUND(J13*[1]升级!$C$3*CHOOSE(H13,J$3,K$3,L$3,M$3)^0.5*IF(U13=\"\",1,U13),0)","v":86},{"$f":"ROUND(N13*[1]升级!$B$3/[1]升级!$D$1*CHOOSE(H13,J$3,K$3,L$3,M$3)^0.5*IF(V13=\"\",1,V13),0)","v":106},{"$f":"ROUND(L13*[1]升级!$D$3,0)*IF(W13=\"\",1,W13)","v":100},{"$f":"ROUND(CHOOSE(H13,J$3,K$3,L$3,M$3)^0.5*M13*[1]升级!$B$3/[1]升级!$D$1*IF(X13=\"\",1,X13),0)","v":106},{"$nulls":6},90.25,85.5,105.55555555555556,0,"100;100;100;100;100","9091;-1;-1;9091;-1;-1;9092;9091;-1;-1","1;-1;-1;5;-1;-1;50;50;-1;-1","-1;-1;-1;-1","1;20;50;80",null,null,9091,-1,-1,9091,-1,-1,9092,9091,-1,-1,null,1,-1,-1,5,-1,-1,50,50,-1,-1,null,-1,-1,-1,-1,null,1,20,50,80,null,100,100,100,100,100]
[1007,-1,8,"灵狐","icon_tx1007","gw_huli",0,2,null,1.1000000000000001,null,1,0.90909090909090906,0.90909090909090895,null,{"$f":"ROUND(J14*[1]升级!$C$3*CHOOSE(H14,J$3,K$3,L$3,M$3)^0.5*IF(U14=\"\",1,U14),0)","v":105},{"$f":"ROUND(N14*[1]升级!$B$3/[1]升级!$D$1*CHOOSE(H14,J$3,K$3,L$3,M$3)^0.5*IF(V14=\"\",1,V14),0)","v":86},{"$f":"ROUND(L14*[1]升级!$D$3,0)*IF(W14=\"\",1,W14)","v":100},{"$f":"ROUND(CHOOSE(H14,J$3,K$3,L$3,M$3)^0.5*M14*[1]升级!$B$3/[1]升级!$D$1*IF(X14=\"\",1,X14),0)","v":86},{"$nulls":6},90.25,104.50000000000001,86.363636363636346,0,"100;100;100;100;100","9101;-1;-1;9101;-1;9102;-1;9101;-1;-1","1;-1;-1;5;-1;20;-1;50;-1;-1","-1;-1;-1;-1","1;20;50;80",null,null,9101,-1,-1,9101,-1,9102,-1,9101,-1,-1,null,1,-1,-1,5,-1,20,-1,50,-1,-1,null,-1,-1,-1,-1,null,1,20,50,80,null,100,100,100,100,100]
[1008,-1,9,"蜘蛛","icon_tx1008","Gw_zhizhu",0,2,null,1.3,null,1,0.7692307692307695,0.76923076923076916,null,{"$f":"ROUND(J15*[1]升级!$C$3*CHOOSE(H15,J$3,K$3,L$3,M$3)^0.5*IF(U15=\"\",1,U15),0)","v":124},{"$f":"ROUND(N15*[1]升级!$B$3/[1]升级!$D$1*CHOOSE(H15,J$3,K$3,L$3,M$3)^0.5*IF(V15=\"\",1,V15),0)","v":73},{"$f":"ROUND(L15*[1]升级!$D$3,0)*IF(W15=\"\",1,W15)","v":100},{"$f":"ROUND(CHOOSE(H15,J$3,K$3,L$3,M$3)^0.5*M15*[1]升级!$B$3/[1]升级!$D$1*IF(X15=\"\",1,X15),0)","v":73},{"$nulls":6},90.249999999999986,123.5,73.076923076923066,0,"100;100;100;100;100","9031;-1;-1;9033;-1;-1;-1;9032;-1;-1","1;-1;-1;5;-1;-1;-1;50;-1;-1","-1;-1;-1;-1","1;20;50;80",null,null,9031,-1,-1,9033,-1,-1,-1,9032,-1,-1,null,1,-1,-1,5,-1,-1,-1,50,-1,-1,null,-1,-1,-1,-1,null,1,20,50,80,null,100,100,100,100,100]
[null,null,null,"5001精英怪"]
[5001,-1,10,"金修精英","icon_tx1001","Gw_Man",0,3,null,1.1000000000000001,null,1,{"$f":"((CHOOSE(H17,J$3,K$3,L$3,M$3)^0.5*100/(AA17*L17)*1.3)-N17)/0.3","v":0.90909090909090873},{"$f":"(100/(AA17*L17)*1.3/(1+IF(K17=\"\",0.3,K17)))*CHOOSE(H17,J$3,K$3,L$3,M$3)^0.5","v":0.90909090909090906},null,{"$f":"ROUND(J17*[1]升级!$C$3*CHOOSE(H17,J$3,K$3,L$3,M$3)^0.5*IF(U17=\"\",1,U17),0)","v":113},{"$f":"ROUND(N17*[1]升级!$B$3/[1]升级!$D$1*CHOOSE(H17,J$3,K$3,L$3,M$3)^0.5*IF(V17=\"\",1,V17),0)","v":94},{"$f":"ROUND(L17*[1]升级!$D$3,0)*IF(W17=\"\",1,W17)","v":100},{"$f":"ROUND(CHOOSE(H17,J$3,K$3,L$3,M$3)^0.5*M17*[1]升级!$B$3/[1]升级!$D$1*IF(X17=\"\",1,X17),0)","v":94},{"$nulls":6},{"$f":"(AA17*AB17)/100","v":106.09},{"$f":"J17*100*CHOOSE(H17,J$3,K$3,L$3,M$3)^0.5","v":113.30000000000001},{"$f":"(N17+M17*0.3)/1.3*L17*100*CHOOSE(H17,J$3,K$3,L$3,M$3)^0.5","v":93.636363636363626},0,{"$f":"_xlfn.TEXTJOIN(\";\",1,BQ17:BU17)","v":"100;100;100;100;100"},{"$f":"_xlfn.TEXTJOIN(\";\",1,AK17:AT17)","v":"-1;-1;1105;-1;1104;-1;1101;-1;1103;-1"},{"$f":"_xlfn.TEXTJOIN(\";\",1,AV17:BE17)","v":"-1;-1;1;-1;5;-1;20;-1;50;-1"},{"$f":"_xlfn.TEXTJOIN(\";\",1,BG17:BJ17)","v":"10002;10001;-1;-1"},{"$f":"_xlfn.TEXTJOIN(\";\",1,BL17:BO17)","v":"1;20;50;80"},null,null,-1,-1,1105,-1,1104,-1,1101,-1,1103,-1,null,-1,-1,1,-1,5,-1,20,-1,50,-1,null,10002,10001,-1,-1,null,1,20,50,80,null,100,100,100,100,100]
[5002,-1,11,"水修精英","icon_tx1001","Gw_Man",0,3,null,0.9,null,1,{"$f":"((CHOOSE(H18,J$3,K$3,L$3,M$3)^0.5*100/(AA18*L18)*1.3)-N18)/0.3","v":1.1111111111111116},{"$f":"(100/(AA18*L18)*1.3/(1+IF(K18=\"\",0.3,K18)))*CHOOSE(H18,J$3,K$3,L$3,M$3)^0.5","v":1.1111111111111112},null,{"$f":"ROUND(J18*[1]升级!$C$3*CHOOSE(H18,J$3,K$3,L$3,M$3)^0.5*IF(U18=\"\",1,U18),0)","v":93},{"$f":"ROUND(N18*[1]升级!$B$3/[1]升级!$D$1*CHOOSE(H18,J$3,K$3,L$3,M$3)^0.5*IF(V18=\"\",1,V18),0)","v":114},{"$f":"ROUND(L18*[1]升级!$D$3,0)*IF(W18=\"\",1,W18)","v":100},{"$f":"ROUND(CHOOSE(H18,J$3,K$3,L$3,M$3)^0.5*M18*[1]升级!$B$3/[1]升级!$D$1*IF(X18=\"\",1,X18),0)","v":114},{"$nulls":6},{"$f":"(AA18*AB18)/100","v":106.09000000000002},{"$f":"J18*100*CHOOSE(H18,J$3,K$3,L$3,M$3)^0.5","v":92.7},{"$f":"(N18+M18*0.3)/1.3*L18*100*CHOOSE(H18,J$3,K$3,L$3,M$3)^0.5","v":114.44444444444446},0,"100;100;100;100;100","1201;-1;-1;-1;1205;-1;1204;-1;1202;-1","1;-1;-1;-1;5;-1;20;-1;50;-1","10002;10005;-1;-1","1;20;50;80",null,null,1201,-1,-1,-1,1205,-1,1204,-1,1202,-1,null,1,-1,-1,-1,5,-1,20,-1,50,-1,null,10002,10005,-1,-1,null,1,20,50,80,null,100,100,100,100,100]
[5003,-1,12,"木修精英","icon_tx1003","Gw_Woman",0,3,null,1,null,1,1.0000000000000002,1,null,{"$f":"ROUND(J19*[1]升级!$C$3*CHOOSE(H19,J$3,K$3,L$3,M$3)^0.5*IF(U19=\"\",1,U19),0)","v":103},{"$f":"ROUND(N19*[1]升级!$B$3/[1]升级!$D$1*CHOOSE(H19,J$3,K$3,L$3,M$3)^0.5*IF(V19=\"\",1,V19),0)","v":103},{"$f":"ROUND(L19*[1]升级!$D$3,0)*IF(W19=\"\",1,W19)","v":100},{"$f":"ROUND(CHOOSE(H19,J$3,K$3,L$3,M$3)^0.5*M19*[1]升级!$B$3/[1]升级!$D$1*IF(X19=\"\",1,X19),0)","v":103},{"$nulls":6},106.09,103,103,0,"100;100;100;100;100","-1;1301;-1;-1;1305;-1;1304;-1;-1;1302","-1;1;-1;-1;5;-1;20;-1;1;50","10010;10007;-1;-1","1;20;50;80",null,null,-1,1301,-1,-1,1305,-1,1304,-1,-1,1302,null,-1,1,-1,-1,5,-1,20,-1,1,50,null,10010,10007,-1,-1,null,1,20,50,80,null,100,100,100,100,100]
[5004,-1,13,"火修精英","icon_tx1003","Gw_Woman",0,3,null,1.2,null,1,0.83333333333333304,0.83333333333333337,null,{"$f":"ROUND(J20*[1]升级!$C$3*CHOOSE(H20,J$3,K$3,L$3,M$3)^0.5*IF(U20=\"\",1,U20),0)","v":124},{"$f":"ROUND(N20*[1]升级!$B$3/[1]升级!$D$1*CHOOSE(H20,J$3,K$3,L$3,M$3)^0.5*IF(V20=\"\",1,V20),0)","v":86},{"$f":"ROUND(L20*[1]升级!$D$3,0)*IF(W20=\"\",1,W20)","v":100},{"$f":"ROUND(CHOOSE(H20,J$3,K$3,L$3,M$3)^0.5*M20*[1]升级!$B$3/[1]升级!$D$1*IF(X20=\"\",1,X20),0)","v":86},{"$nulls":6},106.09,123.60000000000001,85.833333333333329,0,"100;100;100;100;100","-1;1404;-1;1401;-1;-1;-1;1402;-1;1403","-1;1;-1;5;-1;-1;-1;20;1;50","10002;10010;-1;-1","1;20;50;80",null,null,-1,1404,-1,1401,-1,-1,-1,1402,-1,1403,null,-1,1,-1,5,-1,-1,-1,20,1,50,null,10002,10010,-1,-1,null,1,20,50,80,null,100,100,100,100,100]
[5005,-1,14,"土系怪","icon_tx1001","Gw_Man",0,3,null,0.8,null,1,1.25,1.25,null,{"$f":"ROUND(J21*[1]升级!$C$3*CHOOSE(H21,J$3,K$3,L$3,M$3)^0.5*IF(U21=\"\",1,U21),0)","v":82},{"$f":"ROUND(N21*[1]升级!$B$3/[1]升级!$D$1*CHOOSE(H21,J$3,K$3,L$3,M$3)^0.5*IF(V21=\"\",1,V21),0)","v":129},{"$f":"ROUND(L21*[1]升级!$D$3,0)*IF(W21=\"\",1,W21)","v":100},{"$f":"ROUND(CHOOSE(H21,J$3,K$3,L$3,M$3)^0.5*M21*[1]升级!$B$3/[1]升级!$D$1*IF(X21=\"\",1,X21),0)","v":129},{"$nulls":6},106.09,82.4,128.75,0,"100;100;100;100;100","-1;1501;-1;1502;-1;-1;-1;1504;-1;1505","-1;1;-1;5;-1;-1;-1;20;1;50","10010;10001;-1;-1","1;20;50;80",null,null,-1,1501,-1,1502,-1,-1,-1,1504,-1,1505,null,-1,1,-1,5,-1,-1,-1,20,1,50,null,10010,10001,-1,-1,null,1,20,50,80,null,100,100,100,100,100]
[5006,-1,15,"鼠先锋 ",{"$f":"CONCATENATE(\"icon_tx\",A22)","v":"icon_tx5006"},"Boss_ShuGuai",0,3,null,1.1499999999999999,null,1,0.86956521739130421,0.86956521739130455,null,{"$f":"ROUND(J22*[1]升级!$C$3*CHOOSE(H22,J$3,K$3,L$3,M$3)^0.5*IF(U22=\"\",1,U22),0)","v":118},{"$f":"ROUND(N22*[1]升级!$B$3/[1]升级!$D$1*CHOOSE(H22,J$3,K$3,L$3,M$3)^0.5*IF(V22=\"\",1,V22),0)","v":90},{"$f":"ROUND(L22*[1]升级!$D$3,0)*IF(W22=\"\",1,W22)","v":100},{"$f":"ROUND(CHOOSE(H22,J$3,K$3,L$3,M$3)^0.5*M22*[1]升级!$B$3/[1]升级!$D$1*IF(X22=\"\",1,X22),0)","v":90},{"$nulls":6},106.09,118.44999999999999,89.565217391304358,0,"100;100;100;100;100","-1;9041;-1;9042;-1;-1;9043;-1;-1;9044","-1;1;-1;5;-1;-1;20;-1;1;50","-1;-1;-1;-1","1;20;50;80",null,null,-1,9041,-1,9042,-1,-1,9043,-1,-1,9044,null,-1,1,-1,5,-1,-1,20,-1,1,50,null,-1,-1,-1,-1,null,1,20,50,80,null,100,100,100,100,100]
[5007,-1,16,"穷奇","icon_tx5007","Boss_QiongQi",0,3,null,1.05,null,1,0.95238095238095277,0.95238095238095233,null,{"$f":"ROUND(J23*[1]升级!$C$3*CHOOSE(H23,J$3,K$3,L$3,M$3)^0.5*IF(U23=\"\",1,U23),0)","v":108},{"$f":"ROUND(N23*[1]升级!$B$3/[1]升级!$D$1*CHOOSE(H23,J$3,K$3,L$3,M$3)^0.5*IF(V23=\"\",1,V23),0)","v":98},{"$f":"ROUND(L23*[1]升级!$D$3,0)*IF(W23=\"\",1,W23)","v":100},{"$f":"ROUND(CHOOSE(H23,J$3,K$3,L$3,M$3)^0.5*M23*[1]升级!$B$3/[1]升级!$D$1*IF(X23=\"\",1,X23),0)","v":98},{"$nulls":6},106.09,108.15,98.095238095238088,0,"100;100;100;100;100","-1;9051;-1;9052;-1;-1;9053;-1;-1;9054","-1;1;-1;5;-1;-1;20;-1;1;50","-1;-1;-1;-1","1;20;50;80",null,null,-1,9051,-1,9052,-1,-1,9053,-1,-1,9054,null,-1,1,-1,5,-1,-1,20,-1,1,50,null,-1,-1,-1,-1,null,1,20,50,80,null,100,100,100,100,100]
[null,null,null,"boss怪"]
[9001,-1,17,"boss",{"$f":"CONCATENATE(\"icon_tx\",A25)","v":"icon_tx9001"},"Boss01",0,4,null,1,null,1,{"$f":"((CHOOSE(H25,J$3,K$3,L$3,M$3)^0.5*100/(AA25*L25)*1.3)-N25)/0.3","v":1.0000000000000004},{"$f":"(100/(AA25*L25)*1.3/(1+IF(K25=\"\",0.3,K25)))*CHOOSE(H25,J$3,K$3,L$3,M$3)^0.5","v":0.99999999999999989},null,{"$f":"ROUND(J25*[1]升级!$C$3*CHOOSE(H25,J$3,K$3,L$3,M$3)^0.5*IF(U25=\"\",1,U25),0)","v":110},{"$f":"ROUND(N25*[1]升级!$B$3/[1]升级!$D$1*CHOOSE(H25,J$3,K$3,L$3,M$3)^0.5*IF(V25=\"\",1,V25),0)","v":77},{"$f":"ROUND(L25*[1]升级!$D$3,0)*IF(W25=\"\",1,W25)","v":100},{"$f":"ROUND(CHOOSE(H25,J$3,K$3,L$3,M$3)^0.5*M25*[1]升级!$B$3/[1]升级!$D$1*IF(X25=\"\",1,X25),0)","v":110},null,null,0.7,null,null,null,{"$f":"(AA25*AB25)/100","v":121.00000000000004},{"$f":"J25*100*CHOOSE(H25,J$3,K$3,L$3,M$3)^0.5","v":110.00000000000001},{"$f":"(N25+M25*0.3)/1.3*L25*100*CHOOSE(H25,J$3,K$3,L$3,M$3)^0.5","v":110.00000000000001},0,{"$f":"_xlfn.TEXTJOIN(\";\",1,BQ25:BU25)","v":"100;100;100;100;100"},{"$f":"_xlfn.TEXTJOIN(\";\",1,AK25:AT25)","v":"9003;-1;9005;-1;9005;-1;9004;-1;9001;9002"},{"$f":"_xlfn.TEXTJOIN(\";\",1,AV25:BE25)","v":"1;1;1;-1;-1;-1;-1;-1;1;1"},{"$f":"_xlfn.TEXTJOIN(\";\",1,BG25:BJ25)","v":"10001;-1;10006;-1"},{"$f":"_xlfn.TEXTJOIN(\";\",1,BL25:BO25)","v":"30;-1;1;-1"},null,null,9003,-1,9005,-1,9005,-1,9004,-1,9001,9002,null,1,1,1,-1,-1,-1,-1,-1,1,1,null,10001,-1,10006,-1,null,30,-1,1,-1,null,100,100,100,100,100]
[9002,-1,18,"凤凰","icon_tx9002","Boss_fenghuang",0,4,null,1,null,1,{"$f":"((CHOOSE(H26,J$3,K$3,L$3,M$3)^0.5*100/(AA26*L26)*1.3)-N26)/0.3","v":1.0000000000000004},{"$f":"(100/(AA26*L26)*1.3/(1+IF(K26=\"\",0.3,K26)))*CHOOSE(H26,J$3,K$3,L$3,M$3)^0.5","v":0.99999999999999989},null,{"$f":"ROUND(J26*[1]升级!$C$3*CHOOSE(H26,J$3,K$3,L$3,M$3)^0.5*IF(U26=\"\",1,U26),0)","v":110},{"$f":"ROUND(N26*[1]升级!$B$3/[1]升级!$D$1*CHOOSE(H26,J$3,K$3,L$3,M$3)^0.5*IF(V26=\"\",1,V26),0)","v":55},{"$f":"ROUND(L26*[1]升级!$D$3,0)*IF(W26=\"\",1,W26)","v":100},{"$f":"ROUND(CHOOSE(H26,J$3,K$3,L$3,M$3)^0.5*M26*[1]升级!$B$3/[1]升级!$D$1*IF(X26=\"\",1,X26),0)","v":110},null,null,0.5,null,null,null,{"$f":"(AA26*AB26)/100","v":121.00000000000004},110.00000000000001,110.00000000000001,2,"100;100;100;100;100","9011;-1;9013;9014;-1;9012;-1;-1;9015;9015","1;1;1;-1;-1;-1;-1;-1;1;1","-1;-1;-1;-1","1;-1;1;-1",null,null,9011,-1,9013,9014,-1,9012,-1,-1,9015,9015,null,1,1,1,-1,-1,-1,-1,-1,1,1,null,-1,-1,-1,-1,null,1,-1,1,-1,null,100,100,100,100,100]
[9003,-1,19,"北海神龟","icon_tx9003","Boss_BeiHaiGui",0,4,null,0.8,null,1,1.2500000000000009,1.2500000000000002,null,{"$f":"ROUND(J27*[1]升级!$C$3*CHOOSE(H27,J$3,K$3,L$3,M$3)^0.5*IF(U27=\"\",1,U27),0)","v":88},{"$f":"ROUND(N27*[1]升级!$B$3/[1]升级!$D$1*CHOOSE(H27,J$3,K$3,L$3,M$3)^0.5*IF(V27=\"\",1,V27),0)","v":138},{"$f":"ROUND(L27*[1]升级!$D$3,0)*IF(W27=\"\",1,W27)","v":100},{"$f":"ROUND(CHOOSE(H27,J$3,K$3,L$3,M$3)^0.5*M27*[1]升级!$B$3/[1]升级!$D$1*IF(X27=\"\",1,X27),0)","v":138},{"$nulls":6},121.00000000000001,88,137.50000000000003,0,"100;100;100;100;100","9021;-1;-1;9022;9023;-1;-1;-1;9024;9023","1;1;1;-1;-1;-1;-1;-1;1;1","-1;-1;-1;-1","1;-1;1;-1",null,null,9021,-1,-1,9022,9023,-1,-1,-1,9024,9023,null,1,1,1,-1,-1,-1,-1,-1,1,1,null,-1,-1,-1,-1,null,1,-1,1,-1,null,100,100,100,100,100]
[9004,-1,20,"樗木之灵","icon_tx9004","Boss_Tree",0,4,null,1,null,1,1.0000000000000004,0.99999999999999989,null,{"$f":"ROUND(J28*[1]升级!$C$3*CHOOSE(H28,J$3,K$3,L$3,M$3)^0.5*IF(U28=\"\",1,U28),0)","v":110},{"$f":"ROUND(N28*[1]升级!$B$3/[1]升级!$D$1*CHOOSE(H28,J$3,K$3,L$3,M$3)^0.5*IF(V28=\"\",1,V28),0)","v":110},{"$f":"ROUND(L28*[1]升级!$D$3,0)*IF(W28=\"\",1,W28)","v":100},{"$f":"ROUND(CHOOSE(H28,J$3,K$3,L$3,M$3)^0.5*M28*[1]升级!$B$3/[1]升级!$D$1*IF(X28=\"\",1,X28),0)","v":110},{"$nulls":6},121.00000000000004,110.00000000000001,110.00000000000001,0,"100;100;100;100;100","-1;9061;9063;9064;9062;9063;-1;-1;-1;9063","1;1;1;-1;-1;-1;-1;-1;1;1","-1;-1;-1;-1","1;-1;1;-1",null,null,-1,9061,9063,9064,9062,9063,-1,-1,-1,9063,null,1,1,1,-1,-1,-1,-1,-1,1,1,null,-1,-1,-1,-1,null,1,-1,1,-1,null,100,100,100,100,100]
[9005,-1,21,"心魔","icon_tx101","Nanzhu",0,4,null,1,null,1,1.0000000000000004,0.99999999999999989,null,{"$f":"ROUND(J29*[1]升级!$C$3*CHOOSE(H29,J$3,K$3,L$3,M$3)^0.5*IF(U29=\"\",1,U29),0)","v":110},{"$f":"ROUND(N29*[1]升级!$B$3/[1]升级!$D$1*CHOOSE(H29,J$3,K$3,L$3,M$3)^0.5*IF(V29=\"\",1,V29),0)","v":110},{"$f":"ROUND(L29*[1]升级!$D$3,0)*IF(W29=\"\",1,W29)","v":100},{"$f":"ROUND(CHOOSE(H29,J$3,K$3,L$3,M$3)^0.5*M29*[1]升级!$B$3/[1]升级!$D$1*IF(X29=\"\",1,X29),0)","v":110},{"$nulls":6},121.00000000000004,110.00000000000001,110.00000000000001,0,"100;100;100;100;100","2005;1404;2006;1401;2007;-1;1402;2017;1403;-1","1;1;1;-1;-1;-1;-1;-1;1;1","10002;10010;10007;10004","1;-1;1;-1",null,null,2005,1404,2006,1401,2007,-1,1402,2017,1403,-1,null,1,1,1,-1,-1,-1,-1,-1,1,1,null,10002,10010,10007,10004,null,1,-1,1,-1,null,100,100,100,100,100]
[9006,-1,22,"仙山飞鸟","icon_tx9006","Boss_fenghuang",0,4,null,1.2,null,1,0.8333333333333337,0.83333333333333337,null,{"$f":"ROUND(J30*[1]升级!$C$3*CHOOSE(H30,J$3,K$3,L$3,M$3)^0.5*IF(U30=\"\",1,U30),0)","v":132},{"$f":"ROUND(N30*[1]升级!$B$3/[1]升级!$D$1*CHOOSE(H30,J$3,K$3,L$3,M$3)^0.5*IF(V30=\"\",1,V30),0)","v":92},{"$f":"ROUND(L30*[1]升级!$D$3,0)*IF(W30=\"\",1,W30)","v":100},{"$f":"ROUND(CHOOSE(H30,J$3,K$3,L$3,M$3)^0.5*M30*[1]升级!$B$3/[1]升级!$D$1*IF(X30=\"\",1,X30),0)","v":92},{"$nulls":6},121.00000000000001,132,91.666666666666686,0,"100;100;100;100;100","-1;9081;-1;9082;9084;9083;-1;9085;-1;9084","1;1;1;-1;-1;-1;-1;-1;1;1","-1;-1;-1;-1","1;-1;1;-1",null,null,-1,9081,-1,9082,9084,9083,-1,9085,-1,9084,null,1,1,1,-1,-1,-1,-1,-1,1,1,null,-1,-1,-1,-1,null,1,-1,1,-1,null,100,100,100,100,100]
[{"$nulls":36},-1,-1,-1,-1,-1,-1,-1,-1,-1,-1,null,-1,-1,-1,-1,-1,-1,-1,-1,-1,-1,null,-1,-1,-1,-1,null,-1,-1,-1,-1]
[7001,-1,18,"凤凰",{"$f":"E26","v":"icon_tx9002"},"Boss_fenghuang",0,2,null,1,null,1,{"$f":"((CHOOSE(H32,J$3,K$3,L$3,M$3)^0.5*100/(AA32*L32)*1.3)-N32)/0.3","v":1.0000000000000004},{"$f":"(100/(AA32*L32)*1.3/(1+IF(K32=\"\",0.3,K32)))*CHOOSE(H32,J$3,K$3,L$3,M$3)^0.5","v":0.99999999999999989},null,{"$f":"ROUND(J32*[1]升级!$C$3*CHOOSE(H32,J$3,K$3,L$3,M$3)^0.5*IF(U32=\"\",1,U32),0)","v":95},{"$f":"ROUND(N32*[1]升级!$B$3/[1]升级!$D$1*CHOOSE(H32,J$3,K$3,L$3,M$3)^0.5*IF(V32=\"\",1,V32),0)","v":48},{"$f":"ROUND(L32*[1]升级!$D$3,0)*IF(W32=\"\",1,W32)","v":100},{"$f":"ROUND(CHOOSE(H32,J$3,K$3,L$3,M$3)^0.5*M32*[1]升级!$B$3/[1]升级!$D$1*IF(X32=\"\",1,X32),0)","v":95},null,null,0.5,null,null,null,{"$f":"(AA32*AB32)/100","v":90.25},{"$f":"J32*100*CHOOSE(H32,J$3,K$3,L$3,M$3)^0.5","v":95},{"$f":"(N32+M32*0.3)/1.3*L32*100*CHOOSE(H32,J$3,K$3,L$3,M$3)^0.5","v":95},2,{"$f":"_xlfn.TEXTJOIN(\";\",1,BQ32:BU32)","v":"100;100;100;100;100"},{"$f":"_xlfn.TEXTJOIN(\";\",1,AK32:AT32)","v":"9011;-1;9013;9014;-1;9012;-1;-1;9015;9015"},{"$f":"_xlfn.TEXTJOIN(\";\",1,AV32:BE32)","v":"1;1;1;-1;-1;-1;-1;-1;1;1"},{"$f":"_xlfn.TEXTJOIN(\";\",1,BG32:BJ32)","v":"-1;-1;-1;-1"},{"$f":"_xlfn.TEXTJOIN(\";\",1,BL32:BO32)","v":"1;-1;1;-1"},null,null,9011,-1,9013,9014,-1,9012,-1,-1,9015,9015,null,1,1,1,-1,-1,-1,-1,-1,1,1,null,-1,-1,-1,-1,null,1,-1,1,-1,null,100,100,100,100,100]
[{"$nulls":36},-1,-1,-1,-1,-1,-1,-1,-1,-1,-1,null,-1,-1,-1,-1,-1,-1,-1,-1,-1,-1,null,-1,-1,-1,-1,null,-1,-1,-1,-1]
[{"$nulls":36},-1,-1,-1,-1,-1,-1,-1,-1,-1,-1,null,-1,-1,-1,-1,-1,-1,-1,-1,-1,-1,null,-1,-1,-1,-1,null,-1,-1,-1,-1]