{"text_format":"2","workbook":"xlsx","n_sheets":2,"sheets":["語言配置表","LanguageChineseConfig"],"not_rendered":{"charts":0,"images":0,"macros":0,"external_links":3,"defined_names":1,"comments":0,"pivot_tables":0},"unopened":[],"bounds":{"document_bytes":16777216,"sheet_cells":100000,"run_cost":"one","rows_first":2000,"rows_last":500,"rows_between":2000,"halvings":0,"cell_chars":16384,"cell_head_chars":4096},"cells_cut":0,"cells_raw":0,"read":"whole","date_system":"1900"}

{"sheet":"語言配置表","index":0,"n_rows":3059,"n_cols":17,"rows_kept":3059,"cut":false,"hidden":false,"merged":[]}
["序列","內容","注釋","類別/模組","序列"]
[]
[{"$nulls":5},"辅助1","辅助2"]
[1,"-李逍遥",null,"英雄名",{"$f":"A4","v":1}]
[2,"-小怪1",null,"英雄名",{"$f":"A5","v":2}]
[3,"-小怪2",null,"英雄名",3]
[4,"-小怪3",null,"英雄名",4]
[5,"-BOSS1",null,"英雄名",5]
[6,"伊莉莎白·月影",null,"英雄名",6]
[7,"馬修·星辰",null,"英雄名",7]
[8,"卡特琳娜·霜語",null,"英雄名",8]
[9,"西蒙·玄光",null,"英雄名",9]
[10,"艾琳娜·靈風",null,"英雄名",10]
[11,"加百利·聖心",null,"英雄名",11]
[12,"索菲亞·慈恩",null,"英雄名",12]
[13,"盧克·淨魂",null,"英雄名",13]
[14,"安娜貝爾·光耀",null,"英雄名",14]
[15,"伊莎貝拉·恩典",null,"英雄名",15]
[16,"萊恩·影蹤",null,"英雄名",16]
[17,"艾米麗·翠羽",null,"英雄名",17]
[18,"德裏克·疾風",null,"英雄名",18]
[19,"維多利亞·夜刃",null,"英雄名",19]
[20,"諾亞·林蹤",null,"英雄名",20]
[21,"生命值",null,"英雄名",21]
[22,"攻擊力",null,"英雄名",22]
[23,"防禦力",null,"英雄名",23]
[24,"攻擊速度",null,"英雄名",24]
[25,"暴擊幾率",null,"英雄名",25]
[26,"暴擊傷害",null,"英雄名",26]
[27,"閃避幾率",null,"英雄名",27]
[28,"命中",null,"英雄名",28]
[29,"吸血",null,"英雄名",29]
[30,"傳說",null,null,30]
[31,"史詩",null,null,31]
[32,"精英",null,null,32]
[33,"向前方釋放1道劍氣，造成<color=#7AC180>{0}%</color>攻擊力的傷害。",null,null,33]
[34,"造成的傷害提升至<color=#7AC180>{0}%</color>。",null,null,34]
[35,"造成的傷害提升至<color=#7AC180>{0}%</color>。",null,null,35]
[36,"造成的傷害提升至<color=#7AC180>{0}%</color>。",null,null,36]
[37,"英雄提升至{0}級強化該技能",null,null,37]
[38,"英雄提升至{0}級解鎖該技能",null,null,38]
[39,"英雄提升至{0}星強化該技能",null,null,39]
[40,"英雄提升至{0}星解鎖該技能",null,null,40]
[41,"{0}級：",null,null,41]
[42,"({0}級解鎖)",null,null,42]
[43,"({0}星解鎖)",null,null,43]
[44,"技能已達最高等級",null,null,44]
[45,"旋風斬",null,null,45]
[46,"對前方範圍釋放火焰，對範圍內的敵人進行多次灼燒，每次造成<color=#7AC180>{0}%</color>攻擊力的傷害，持續<color=#7AC180>{1}秒</color>",null,null,46]
[47,"每次造成的傷害提升至<color=#7AC180>{0}%</color>。",null,null,47]
[48,"每次造成的傷害提升至<color=#7AC180>{0}%</color>。",null,null,48]
[49,"持續時間提升至<color=#7AC180>{1}秒</color>。",null,null,49]
[50,"烈焰噴湧",null,null,50]
[51,"對生命值最低的英雄，恢復<color=#7AC180>{0}%</color>攻擊力的血量。",null,null,51]
[52,"恢復的血量提升至<color=#7AC180>{0}%</color>。",null,null,52]
[53,"恢復的血量提升至<color=#7AC180>{0}%</color>。",null,null,53]
[54,"恢復的血量提升至<color=#7AC180>{0}%</color>。",null,null,54]
[55,"光輝治癒",null,null,55]
[56,"向前方連續射出多支魔法箭，造成<color=#7AC180>{0}%</color>攻擊力的傷害。",null,null,56]
[57,"造成的傷害提升至<color=#7AC180>{0}%</color>。",null,null,57]
[58,"造成的傷害提升至<color=#7AC180>{0}%</color>。",null,null,58]
[59,"造成的傷害提升至<color=#7AC180>{0}%</color>。",null,null,59]
[60,"箭羽風暴",null,null,60]
[61,"解鎖",null,null,61]
[62,"等級{0}>>{1}",null,null,62]
[63,"主力英雄等級差不得超過10級",null,null,63]
[64,"主力英雄等級：{0}",null,null,64]
[65,"生命之力",null,null,65]
[66,"鋼鐵意志",null,null,{"$f":"A69","v":66}]
[67,"斬風之力",null,null,67]
[68,"抗暴之力",null,null,68]
[69,"提高<color=#7AC180>{0}%</color>%的生命值",null,null,69]
[70,"提高<color=#7AC180>{0}%</color>%的防禦值",null,null,70]
[71,"額外釋放<color=#7AC180>{0}</color>道[旋風斬]的劍氣",null,null,71]
[72,"降低<color=#7AC180>{0}%</color>的暴擊傷害",null,null,72]
[73,"提升<color=#7AC180>{0}%</color>%的攻擊力",null,null,73]
[74,"提高<color=#7AC180>{0}%</color>%的生命值",null,null,74]
[75,"延長<color=#7AC180>{0}</color>秒[烈焰噴湧]的持續時間",null,null,75]
[76,"提升<color=#7AC180>{0}%</color>%的技能暴擊率",null,null,76]
[77,"神聖力量",null,null,77]
[78,"生命之力",null,null,78]
[79,"急救之光",null,null,79]
[80,"光輝復蘇",null,null,80]
[81,"提升<color=#7AC180>{0}%</color>%的攻擊力",null,null,81]
[82,"提高<color=#7AC180>{0}%</color>%的生命值",null,null,82]
[83,"對生命值低於<color=#7AC180>{0}%</color>%的英雄，額外提高<color=#7AC180>{0}%</color>%的治療量",null,null,83]
[84,"同時治療<color=#7AC180>{0}</color>名英雄",null,null,84]
[85,"弓箭精通",null,null,85]
[86,"生命之力",null,null,86]
[87,"無盡射擊",null,null,87]
[88,"終結射擊",null,null,88]
[89,"提升<color=#7AC180>{0}%</color>%的攻擊力",null,null,89]
[90,"提高<color=#7AC180>{0}%</color>%的生命值",null,null,90]
[91,"增加<color=#7AC180>{0}</color>支[連續射擊]的魔法箭",null,null,91]
[92,"對生命值低於<color=#7AC180>{0}%</color>的敵人，額外造成<color=#7AC180>{0}%</color>傷害",null,null,92]
[93,"智者之力",null,null,93]
[94,"生命之力",null,null,94]
[95,"烈焰持續",null,null,95]
[96,"超凡暴擊",null,null,96]
[97,"戰士裝備",null,null,97]
[98,"法師裝備",null,null,98]
[99,"牧師裝備",null,null,99]
[100,"遊俠裝備",null,null,100]
[101,"專屬裝備（敬請期待）",null,null,101]
[102,"金幣不足",null,null,102]
[103,"資源不足",null,null,103]
[104,"英雄經驗，可用於升級英雄等級<color=#ff0000>（每殺死一個小怪能獲得經驗，擊殺boss能獲得大量經驗）</color>",null,null,104]
[105,"金幣，用於抽取英雄寶箱<color=#ff0000>（每殺死一個小怪有幾率獲得金幣，擊殺boss能獲得大量金幣）</color>",null,null,105]
[106,"紫鑽（敬請期待）",null,null,106]
[107,"點擊螢幕空白處從天空中召喚一個隕石，對怪物造成1點傷害，並有<color=#ff0000>30%</color>概率獲得1枚金幣（boss怪<color=#ff0000>40%</color>掉落，金幣數量<color=#ff0000>+2</color>）",null,null,107]
[108,"裝備",null,null,108]
[109,"替補英雄",null,null,109]
[110,"主力英雄",null,null,110]
[111,"英雄背包",null,null,111]
[112,"大自然的恩惠.寶箱",null,null,112]
[113,"消耗對應的金幣開啟寶箱，獲得大自然的恩惠，有概率能獲得以下物品（英雄進階材料、 各種品質的武器）",null,null,113]
[114,"友情提示10連抽更划算",null,null,114]
[115,"失 敗",null,null,115]
[116,"你太弱了，請提升實力再來挑戰",null,null,116]
[117,"重新開始",null,null,117]
[118,".....",null,null,118]
[119,"發生了什麼事....",null,null,119]
[120,"前方好像出現了超強怪物，大家做好準備。",null,null,120]
[121,"越往深林深處走怪物越強大了，這裏的怪我有點招架不足了，我能不能加入你們一起探險？",null,null,121]
[122,"沒問題，我們正缺你這樣的勇士。",null,null,122]
[123,"歡迎加入我們的隊伍，讓我們一起看看深林深處是什麼在作怪。",null,null,123]
[124,"（喘息著）這該死的怪物怎麼殺也殺不完！",null,null,124]
[125,"怎麼辦要先回村莊嗎？",null,null,125]
[126,"救命呀~",null,null,126]
[127,"救命~~~",null,null,127]
[128,"我名艾爾溫。這裏充滿了黑暗的氣息，我無法袖手旁觀.",null,null,128]
[129,"讓它們試試我的火焰~",null,null,129]
[130,"太好了艾爾溫，感謝你的加入！",null,null,{"$f":"A133","v":130}]
[131,"兄弟們，我堅持不住了，這一波怪物太猛了！",null,null,131]
[132,"天空中突然閃出一個人影。",null,null,132]
[133,"我是來自教堂的牧師，我來為你治療！",null,null,133]
[134,"裝備回收",null,null,134]
[135,"僅分解低級裝備，放心使用",null,null,135]
[136,"回收獎勵",null,null,136]
[137,"確認回收",null,null,137]
[138,"升級",null,null,138]
[139,"升星",null,null,139]
[140,"生命",null,null,140]
[141,"攻擊",null,null,141]
[142,"防禦",null,null,142]
[143,"等級",null,null,143]
[144,"本次升級將大幅提升屬性",null,null,144]
[145,"解鎖",null,null,145]
[146,"冷卻{0}秒",null,null,146]
[147,"職業裝備",null,null,147]
[148,"戰士",null,null,148]
[149,"法師",null,null,149]
[150,"牧師",null,null,150]
[151,"遊俠",null,null,151]
[152,"獲得獎勵",null,null,152]
[153,"一鍵裝備",null,null,153]
[154,"點這裏, 提升英雄",null,null,154]
[155,"技能",null,null,155]
[156,"鞋子",null,null,156]
[157,"衣服",null,null,157]
[158,"手套",null,null,158]
[159,"帽子",null,null,159]
[160,"項鏈",null,null,160]
[161,"{0}級",null,null,161]
[162,"金幣，可用於開寶箱",null,null,162]
[163,"鑽石，後續開放（敬請期待）",null,null,163]
[164,"經驗，用於英雄升級",null,null,164]
[165,"英雄碎片，用於提升星級",null,null,165]
[166,"英雄碎片，用於提升星級",null,null,166]
[167,"英雄碎片，用於提升星級",null,null,167]
[168,"英雄碎片，用於提升星級",null,null,168]
[169,"金幣",null,null,169]
[170,"鑽石",null,null,170]
[171,"英雄經驗",null,null,171]
[172,"领取挂机收益",null,null,172]
[173,"离线收益",null,null,173]
[174,"受伤的狼",null,null,174]
[175,"鹬蚌相争",null,null,175]
[176,"鹬蚌相争2",null,null,176]
[177,"你遇到一只奄奄一息的野狼，从周围四散的血迹来看，想必它刚才经历了一场恶战。",null,null,177]
[178,"野狼用它最后一口气，朝你扑了过来！",null,null,178]
[179,"你抽出匕首准备了结它的生命，却发现怀中还躺着一只刚出生的狼崽。",null,null,179]
[180,"随着你的最后一击，野狼应声倒下，你罔顾它幽怨的眼神，从它怀中拿走了一些财物。",null,null,180]
[181,"母狼似乎懂你要做什么，眼神归于平静。你终结了她，决定收养这只小狼仔。",null,null,181]
[182,"从不远处传来刀剑声，听起来双方已经精疲力尽了。",null,null,182]
[183,"你走进一看，原来是一伙山贼分赃不均内讧了起来。你看着旁边被砍的七零八落的轿子和这群山贼，选择怎么做呢：",null,null,183]
[184,"法宝现身，效果立竿见影，刀剑声逐渐消失，这个世界安静了。",null,null,184]
[185,"你怒斥贼寇的恶行，贼寇们被你激怒了，准备迎战！",null,null,185]
[186,"你趁人不备顺走了轿内主人的包裹，任留轿内人痛苦的挣扎。",null,null,186]
[187,"法宝也得到些许历练。",null,null,187]
[188,"杀退贼寇，你上演了一出英雄救美的桥段。姑娘为了答谢你的救命之恩，将藏在贴身处的珍贵首饰赠与你作为定情信物。",null,null,188]
[189,"你打开包裹，赫然出现一大堆财宝，这次你发了哈哈！",null,null,189]
[190,"从不远处传来刀剑声，听起来双方已经精疲力尽了。",null,null,190]
[191,"你走进一看，原来是一伙山贼抢了一名坐在官轿内的女子，因分赃不均内讧了起来。山贼二话不说就朝你冲了过来！",null,null,191]
[192,"法宝现身，效果立竿见影，刀剑声逐渐消失，这个世界安静了。",null,null,192]
[193,"你大声怒斥贼寇的恶行，贼首发现你了，准备迎战！",null,null,193]
[194,"你趁人不备顺走了轿内主人的包裹，任留轿内人痛苦的挣扎。",null,null,{"$f":"A197","v":194}]
[195,"法宝也得到些许历练。",null,null,195]
[196,"杀退贼寇，你上演了一出英雄救美的桥段。姑娘为了答谢你的救命之恩，将藏在贴身处的珍贵首饰赠与你作为定情信物。",null,null,196]
[197,"你打开包裹，赫然出现一大堆财宝，这次你发了哈哈！",null,null,197]
[198,"趁它虚弱赶紧除掉它！",null,null,198]
[199,"你不忍见它受苦，选择帮它减轻痛苦。",null,null,199]
[200,"终结它",null,null,200]
[201,"去看看",null,null,201]
[202,"(需拥有法宝凝神珠）听起来都是鸡毛蒜皮的小摩擦，你选择祭出凝神珠化解他们的怨气。",null,null,202]
[203,"你顿时杀心四起，决定杀了贼寇，救出轿中之人",null,null,203]
[204,"盗贼们个个双眼杀的通红，你决定来个渔翁得利。",null,null,204]
[205,"选择正面迎战山贼头领（困难）",null,null,205]
[206,"你决定避开山贼头领的视线，来个渔翁得利。",null,null,206]
[207,"你将山贼们打的落花流水，成功吸引了山贼头子的注意。",null,null,207]
[208,{"$f":"_xlfn.TEXTJOIN(\"\",1,IFERROR(VLOOKUP(A211,[1]EventLinkConfig!$B:$C,2,FALSE),\"\"),IFERROR(VLOOKUP(A211,[1]EventLinkConfig!$D:$E,2,FALSE),\"\"),IFERROR(VLOOKUP(A211,[1]EventLinkConfig!$H:$I,2,FALSE),\"\"),IFERROR(VLOOKUP(A211,[1]EventConfig!$S:$U,3,FALSE),\"\"),IFERROR(VLOOKUP(A211,[1]EventConfig!$T:$V,3,FALSE),\"\"),IFERROR(VLOOKUP(A211,[1]EventConditionConfig!$B:$D,3,FALSE),\"\"),IFERROR(VLOOKUP(A211,[1]EventLinkConfig!$T:$U,2,FALSE),\"\"),IFERROR(VLOOKUP(A211,[1]EventLinkConfig!$V:$W,2,FALSE),\"\"),IFERROR(VLOOKUP(A211,[1]EventConfig!$U:$W,3,FALSE),\"\"))","v":""},"神识事件文本",null,208]
[209,{"$f":"_xlfn.TEXTJOIN(\"\",1,IFERROR(VLOOKUP(A212,[1]EventLinkConfig!$B:$C,2,FALSE),\"\"),IFERROR(VLOOKUP(A212,[1]EventLinkConfig!$D:$E,2,FALSE),\"\"),IFERROR(VLOOKUP(A212,[1]EventLinkConfig!$H:$I,2,FALSE),\"\"),IFERROR(VLOOKUP(A212,[1]EventConfig!$S:$U,3,FALSE),\"\"),IFERROR(VLOOKUP(A212,[1]EventConfig!$T:$V,3,FALSE),\"\"),IFERROR(VLOOKUP(A212,[1]EventConditionConfig!$B:$D,3,FALSE),\"\"),IFERROR(VLOOKUP(A212,[1]EventLinkConfig!$T:$U,2,FALSE),\"\"),IFERROR(VLOOKUP(A212,[1]EventLinkConfig!$V:$W,2,FALSE),\"\"),IFERROR(VLOOKUP(A212,[1]EventConfig!$U:$W,3,FALSE),\"\"))","v":""},"神识事件文本",null,209]
[210,{"$f":"_xlfn.TEXTJOIN(\"\",1,IFERROR(VLOOKUP(A213,[1]EventLinkConfig!$B:$C,2,FALSE),\"\"),IFERROR(VLOOKUP(A213,[1]EventLinkConfig!$D:$E,2,FALSE),\"\"),IFERROR(VLOOKUP(A213,[1]EventLinkConfig!$H:$I,2,FALSE),\"\"),IFERROR(VLOOKUP(A213,[1]EventConfig!$S:$U,3,FALSE),\"\"),IFERROR(VLOOKUP(A213,[1]EventConfig!$T:$V,3,FALSE),\"\"),IFERROR(VLOOKUP(A213,[1]EventConditionConfig!$B:$D,3,FALSE),\"\"),IFERROR(VLOOKUP(A213,[1]EventLinkConfig!$T:$U,2,FALSE),\"\"),IFERROR(VLOOKUP(A213,[1]EventLinkConfig!$V:$W,2,FALSE),\"\"),IFERROR(VLOOKUP(A213,[1]EventConfig!$U:$W,3,FALSE),\"\"))","v":""},"神识事件文本",null,210]
[211,{"$f":"_xlfn.TEXTJOIN(\"\",1,IFERROR(VLOOKUP(A214,[1]EventLinkConfig!$B:$C,2,FALSE),\"\"),IFERROR(VLOOKUP(A214,[1]EventLinkConfig!$D:$E,2,FALSE),\"\"),IFERROR(VLOOKUP(A214,[1]EventLinkConfig!$H:$I,2,FALSE),\"\"),IFERROR(VLOOKUP(A214,[1]EventConfig!$S:$U,3,FALSE),\"\"),IFERROR(VLOOKUP(A214,[1]EventConfig!$T:$V,3,FALSE),\"\"),IFERROR(VLOOKUP(A214,[1]EventConditionConfig!$B:$D,3,FALSE),\"\"),IFERROR(VLOOKUP(A214,[1]EventLinkConfig!$T:$U,2,FALSE),\"\"),IFERROR(VLOOKUP(A214,[1]EventLinkConfig!$V:$W,2,FALSE),\"\"),IFERROR(VLOOKUP(A214,[1]EventConfig!$U:$W,3,FALSE),\"\"))","v":""},"神识事件文本",null,211]
[212,{"$f":"_xlfn.TEXTJOIN(\"\",1,IFERROR(VLOOKUP(A215,[1]EventLinkConfig!$B:$C,2,FALSE),\"\"),IFERROR(VLOOKUP(A215,[1]EventLinkConfig!$D:$E,2,FALSE),\"\"),IFERROR(VLOOKUP(A215,[1]EventLinkConfig!$H:$I,2,FALSE),\"\"),IFERROR(VLOOKUP(A215,[1]EventConfig!$S:$U,3,FALSE),\"\"),IFERROR(VLOOKUP(A215,[1]EventConfig!$T:$V,3,FALSE),\"\"),IFERROR(VLOOKUP(A215,[1]EventConditionConfig!$B:$D,3,FALSE),\"\"),IFERROR(VLOOKUP(A215,[1]EventLinkConfig!$T:$U,2,FALSE),\"\"),IFERROR(VLOOKUP(A215,[1]EventLinkConfig!$V:$W,2,FALSE),\"\"),IFERROR(VLOOKUP(A215,[1]EventConfig!$U:$W,3,FALSE),\"\"))","v":""},"神识事件文本",null,212]
[213,{"$f":"_xlfn.TEXTJOIN(\"\",1,IFERROR(VLOOKUP(A216,[1]EventLinkConfig!$B:$C,2,FALSE),\"\"),IFERROR(VLOOKUP(A216,[1]EventLinkConfig!$D:$E,2,FALSE),\"\"),IFERROR(VLOOKUP(A216,[1]EventLinkConfig!$H:$I,2,FALSE),\"\"),IFERROR(VLOOKUP(A216,[1]EventConfig!$S:$U,3,FALSE),\"\"),IFERROR(VLOOKUP(A216,[1]EventConfig!$T:$V,3,FALSE),\"\"),IFERROR(VLOOKUP(A216,[1]EventConditionConfig!$B:$D,3,FALSE),\"\"),IFERROR(VLOOKUP(A216,[1]EventLinkConfig!$T:$U,2,FALSE),\"\"),IFERROR(VLOOKUP(A216,[1]EventLinkConfig!$V:$W,2,FALSE),\"\"),IFERROR(VLOOKUP(A216,[1]EventConfig!$U:$W,3,FALSE),\"\"))","v":""},"神识事件文本",null,213]
[214,{"$f":"_xlfn.TEXTJOIN(\"\",1,IFERROR(VLOOKUP(A217,[1]EventLinkConfig!$B:$C,2,FALSE),\"\"),IFERROR(VLOOKUP(A217,[1]EventLinkConfig!$D:$E,2,FALSE),\"\"),IFERROR(VLOOKUP(A217,[1]EventLinkConfig!$H:$I,2,FALSE),\"\"),IFERROR(VLOOKUP(A217,[1]EventConfig!$S:$U,3,FALSE),\"\"),IFERROR(VLOOKUP(A217,[1]EventConfig!$T:$V,3,FALSE),\"\"),IFERROR(VLOOKUP(A217,[1]EventConditionConfig!$B:$D,3,FALSE),\"\"),IFERROR(VLOOKUP(A217,[1]EventLinkConfig!$T:$U,2,FALSE),\"\"),IFERROR(VLOOKUP(A217,[1]EventLinkConfig!$V:$W,2,FALSE),\"\"),IFERROR(VLOOKUP(A217,[1]EventConfig!$U:$W,3,FALSE),\"\"))","v":""},"神识事件文本",null,214]
[215,{"$f":"_xlfn.TEXTJOIN(\"\",1,IFERROR(VLOOKUP(A218,[1]EventLinkConfig!$B:$C,2,FALSE),\"\"),IFERROR(VLOOKUP(A218,[1]EventLinkConfig!$D:$E,2,FALSE),\"\"),IFERROR(VLOOKUP(A218,[1]EventLinkConfig!$H:$I,2,FALSE),\"\"),IFERROR(VLOOKUP(A218,[1]EventConfig!$S:$U,3,FALSE),\"\"),IFERROR(VLOOKUP(A218,[1]EventConfig!$T:$V,3,FALSE),\"\"),IFERROR(VLOOKUP(A218,[1]EventConditionConfig!$B:$D,3,FALSE),\"\"),IFERROR(VLOOKUP(A218,[1]EventLinkConfig!$T:$U,2,FALSE),\"\"),IFERROR(VLOOKUP(A218,[1]EventLinkConfig!$V:$W,2,FALSE),\"\"),IFERROR(VLOOKUP(A218,[1]EventConfig!$U:$W,3,FALSE),\"\"))","v":""},"神识事件文本",null,215]
[216,{"$f":"_xlfn.TEXTJOIN(\"\",1,IFERROR(VLOOKUP(A219,[1]EventLinkConfig!$B:$C,2,FALSE),\"\"),IFERROR(VLOOKUP(A219,[1]EventLinkConfig!$D:$E,2,FALSE),\"\"),IFERROR(VLOOKUP(A219,[1]EventLinkConfig!$H:$I,2,FALSE),\"\"),IFERROR(VLOOKUP(A219,[1]EventConfig!$S:$U,3,FALSE),\"\"),IFERROR(VLOOKUP(A219,[1]EventConfig!$T:$V,3,FALSE),\"\"),IFERROR(VLOOKUP(A219,[1]EventConditionConfig!$B:$D,3,FALSE),\"\"),IFERROR(VLOOKUP(A219,[1]EventLinkConfig!$T:$U,2,FALSE),\"\"),IFERROR(VLOOKUP(A219,[1]EventLinkConfig!$V:$W,2,FALSE),\"\"),IFERROR(VLOOKUP(A219,[1]EventConfig!$U:$W,3,FALSE),\"\"))","v":""},"神识事件文本",null,216]
[217,"溅血背包",null,null,217]
[218,"废弃矿山",null,null,218]
[219,"吵架声",null,null,219]
[220,"一座道观",null,null,220]
[221,"发现一个血迹斑斑的背包，好像刚刚发生了战斗，我翻翻背包...",null,null,221]
[222,"啥也没有....除了钱",null,null,222]
[223,"两夫妻在吵架，似乎为了一件大事..",null,null,223]
[224,"没有任何发现，但感觉空气很好....下次有空再来看看",null,null,224]
[225,"筑基期",null,null,225]
[226,"金丹期",null,null,226]
[227,"元婴期",null,null,227]
[228,"化神期",null,null,228]
[229,"炼虚期",null,null,229]
[230,"合体期",null,null,230]
[231,"大乘期",null,null,231]
[232,"飞升期",null,null,232]
[233,"逍遥期",null,null,233]
[234,"真神期",null,null,234]
[235,"前",null,null,235]
[236,"中",null,null,236]
[237,"后",null,null,237]
[238,1,null,null,238]
[239,2,null,null,239]
[240,3,null,null,240]
[241,4,null,null,241]
[242,5,null,null,242]
[243,6,null,null,243]
[244,7,null,null,244]
[245,8,null,null,245]
[246,9,null,null,246]
[247,10,null,null,247]
[248,"金锭",null,null,248]
[249,"最稀有的货币",null,null,249]
[250,"渡劫丹-A1",null,null,250]
[251,"渡劫丹-A2",null,null,251]
[252,"渡劫丹-A3",null,null,252]
[253,"渡劫丹-B1",null,null,253]
[254,"渡劫丹-B2",null,null,254]
[255,"渡劫丹-B3",null,null,255]
[256,"渡劫丹-C1",null,null,256]
[257,"渡劫丹-C2",null,null,257]
[258,"渡劫丹-C3",null,null,{"$f":"A261","v":258}]
[259,{"$f":"C262&\"描述\"","v":"渡劫丹-A1描述"},"渡劫丹-A1",null,259]
[260,{"$f":"C263&\"描述\"","v":"渡劫丹-A2描述"},"渡劫丹-A2",null,260]
[261,"渡劫丹-A3描述","渡劫丹-A3",null,261]
[262,"渡劫丹-B1描述","渡劫丹-B1",null,262]
[263,"渡劫丹-B2描述","渡劫丹-B2",null,263]
[264,"渡劫丹-B3描述","渡劫丹-B3",null,264]
[265,"渡劫丹-C1描述","渡劫丹-C1",null,265]
[266,"渡劫丹-C2描述","渡劫丹-C2",null,266]
[267,"渡劫丹-C3描述","渡劫丹-C3",null,267]
[268,"天材地宝1",null,null,268]
[269,"天材地宝2",null,null,269]
[270,"天材地宝3",null,null,270]
[271,"天材地宝4",null,null,271]
[272,{"$f":"C275&\"描述\"","v":"天材地宝1描述"},"天材地宝1",null,272]
[273,"天材地宝2描述","天材地宝2",null,273]
[274,"天材地宝3描述","天材地宝3",null,274]
[275,"天材地宝4描述","天材地宝4",null,275]
[276,"修为丹1",null,null,276]
[277,"修为丹2",null,null,277]
[278,"修为丹3",null,null,278]
[279,"修为丹4",null,null,279]
[280,{"$f":"C283&\"描述\"","v":"修为丹1描述"},"修为丹1",null,280]
[281,"修为丹2描述","修为丹2",null,281]
[282,"修为丹3描述","修为丹3",null,282]
[283,"修为丹4描述","修为丹4",null,283]
[284,"神龙鼎",null,null,284]
[285,"破天斧",null,null,285]
[286,"翡翠葫芦",null,null,286]
[287,"混沌珠",null,null,287]
[288,"琉璃宝塔",null,null,288]
[289,"九幽镇魂瓶",null,null,289]
[290,"玉莲守心灯",null,null,290]
[291,"融灵塔",null,null,291]
[292,{"$f":"C295&\"描述\"","v":"法宝1描述"},"法宝1",null,292]
[293,"法宝2描述","法宝2",null,293]
[294,"法宝3描述","法宝3",null,294]
[295,"法宝4描述","法宝4",null,295]
[296,"法宝5描述","法宝5",null,296]
[297,"法宝6描述","法宝6",null,297]
[298,"法宝7描述","法宝7",null,298]
[299,"法宝8描述","法宝8",null,299]
[300,"神龙鼎碎片",null,null,300]
[301,"破天斧碎片",null,null,301]
[302,"翡翠葫芦碎片",null,null,302]
[303,"混沌珠碎片",null,null,303]
[304,"琉璃宝塔碎片",null,null,304]
[305,"九幽镇魂瓶碎片",null,null,305]
[306,"玉莲守心灯碎片",null,null,306]
[307,"融灵塔碎片",null,null,307]
[308,{"$f":"C311&\"描述\"","v":"法宝1碎片描述"},"法宝1碎片",null,308]
[309,"法宝2碎片描述","法宝2碎片",null,309]
[310,"法宝3碎片描述","法宝3碎片",null,310]
[311,"法宝4碎片描述","法宝4碎片",null,311]
[312,"法宝5碎片描述","法宝5碎片",null,312]
[313,"法宝6碎片描述","法宝6碎片",null,313]
[314,"法宝7碎片描述","法宝7碎片",null,314]
[315,"法宝8碎片描述","法宝8碎片",null,315]
[316,{"$f":"VLOOKUP(A319,[2]SkillConfig!$D:$AE,3,FALSE)","v":"太虚幻剑经"},"技能名称",null,316]
[317,{"$f":"VLOOKUP(A320,[2]SkillConfig!$D:$AE,3,FALSE)","v":"太虚幻剑经"},"技能名称",null,317]
[318,{"$f":"VLOOKUP(A321,[2]SkillConfig!$D:$AE,3,FALSE)","v":"太虚幻剑经"},"技能名称",null,318]
[319,{"$f":"VLOOKUP(A322,[2]SkillConfig!$D:$AE,3,FALSE)","v":"太虚幻剑经"},"技能名称",null,319]
[320,{"$f":"VLOOKUP(A323,[2]SkillConfig!$D:$AE,3,FALSE)","v":"太虚幻剑经"},"技能名称",null,320]
[321,{"$f":"VLOOKUP(A324,[2]SkillConfig!$D:$AE,3,FALSE)","v":"太虚幻剑经"},"技能名称",null,321]
[322,{"$f":"VLOOKUP(A325,[2]SkillConfig!$D:$AE,3,FALSE)","v":"天罡剑气诀"},"技能名称",null,{"$f":"A325","v":322}]
[323,{"$f":"VLOOKUP(A326,[2]SkillConfig!$D:$AE,3,FALSE)","v":"天罡剑气诀"},"技能名称",null,323]
[324,{"$f":"VLOOKUP(A327,[2]SkillConfig!$D:$AE,3,FALSE)","v":"天罡剑气诀"},"技能名称",null,324]
[325,{"$f":"VLOOKUP(A328,[2]SkillConfig!$D:$AE,3,FALSE)","v":"天罡剑气诀"},"技能名称",null,325]
[326,{"$f":"VLOOKUP(A329,[2]SkillConfig!$D:$AE,3,FALSE)","v":"天罡剑气诀"},"技能名称",null,326]
[327,{"$f":"VLOOKUP(A330,[2]SkillConfig!$D:$AE,3,FALSE)","v":"天罡剑气诀"},"技能名称",null,327]
[328,{"$f":"VLOOKUP(A331,[2]SkillConfig!$D:$AE,3,FALSE)","v":"血刃金煌功"},"技能名称",null,328]
[329,{"$f":"VLOOKUP(A332,[2]SkillConfig!$D:$AE,3,FALSE)","v":"血刃金煌功"},"技能名称",null,329]
[330,{"$f":"VLOOKUP(A333,[2]SkillConfig!$D:$AE,3,FALSE)","v":"血刃金煌功"},"技能名称",null,330]
[331,{"$f":"VLOOKUP(A334,[2]SkillConfig!$D:$AE,3,FALSE)","v":"血刃金煌功"},"技能名称",null,331]
[332,{"$f":"VLOOKUP(A335,[2]SkillConfig!$D:$AE,3,FALSE)","v":"血刃金煌功"},"技能名称",null,332]
[333,{"$f":"VLOOKUP(A336,[2]SkillConfig!$D:$AE,3,FALSE)","v":"血刃金煌功"},"技能名称",null,333]
[334,{"$f":"VLOOKUP(A337,[2]SkillConfig!$D:$AE,3,FALSE)","v":"飞刃"},"技能名称",null,334]
[335,{"$f":"VLOOKUP(A338,[2]SkillConfig!$D:$AE,3,FALSE)","v":"飞刃"},"技能名称",null,335]
[336,{"$f":"VLOOKUP(A339,[2]SkillConfig!$D:$AE,3,FALSE)","v":"飞刃"},"技能名称",null,336]
[337,{"$f":"VLOOKUP(A340,[2]SkillConfig!$D:$AE,3,FALSE)","v":"飞刃"},"技能名称",null,337]
[338,{"$f":"VLOOKUP(A341,[2]SkillConfig!$D:$AE,3,FALSE)","v":"飞刃"},"技能名称",null,338]
[339,{"$f":"VLOOKUP(A342,[2]SkillConfig!$D:$AE,3,FALSE)","v":"飞刃"},"技能名称",null,339]
[340,{"$f":"VLOOKUP(A343,[2]SkillConfig!$D:$AE,3,FALSE)","v":"金针"},"技能名称",null,340]
[341,{"$f":"VLOOKUP(A344,[2]SkillConfig!$D:$AE,3,FALSE)","v":"金针"},"技能名称",null,341]
[342,{"$f":"VLOOKUP(A345,[2]SkillConfig!$D:$AE,3,FALSE)","v":"金针"},"技能名称",null,342]
[343,{"$f":"VLOOKUP(A346,[2]SkillConfig!$D:$AE,3,FALSE)","v":"金针"},"技能名称",null,343]
[344,{"$f":"VLOOKUP(A347,[2]SkillConfig!$D:$AE,3,FALSE)","v":"金针"},"技能名称",null,344]
[345,{"$f":"VLOOKUP(A348,[2]SkillConfig!$D:$AE,3,FALSE)","v":"金针"},"技能名称",null,345]
[346,{"$f":"VLOOKUP(A349,[2]SkillConfig!$D:$AE,3,FALSE)","v":"碧落幽冥劲"},"技能名称",null,346]
[347,{"$f":"VLOOKUP(A350,[2]SkillConfig!$D:$AE,3,FALSE)","v":"碧落幽冥劲"},"技能名称",null,347]
[348,{"$f":"VLOOKUP(A351,[2]SkillConfig!$D:$AE,3,FALSE)","v":"碧落幽冥劲"},"技能名称",null,348]
[349,{"$f":"VLOOKUP(A352,[2]SkillConfig!$D:$AE,3,FALSE)","v":"碧落幽冥劲"},"技能名称",null,349]
[350,{"$f":"VLOOKUP(A353,[2]SkillConfig!$D:$AE,3,FALSE)","v":"碧落幽冥劲"},"技能名称",null,350]
[351,{"$f":"VLOOKUP(A354,[2]SkillConfig!$D:$AE,3,FALSE)","v":"碧落幽冥劲"},"技能名称",null,351]
[352,{"$f":"VLOOKUP(A355,[2]SkillConfig!$D:$AE,3,FALSE)","v":"雾隐千流法"},"技能名称",null,352]
[353,{"$f":"VLOOKUP(A356,[2]SkillConfig!$D:$AE,3,FALSE)","v":"雾隐千流法"},"技能名称",null,353]
[354,{"$f":"VLOOKUP(A357,[2]SkillConfig!$D:$AE,3,FALSE)","v":"雾隐千流法"},"技能名称",null,354]
[355,{"$f":"VLOOKUP(A358,[2]SkillConfig!$D:$AE,3,FALSE)","v":"雾隐千流法"},"技能名称",null,355]
[356,{"$f":"VLOOKUP(A359,[2]SkillConfig!$D:$AE,3,FALSE)","v":"雾隐千流法"},"技能名称",null,356]
[357,{"$f":"VLOOKUP(A360,[2]SkillConfig!$D:$AE,3,FALSE)","v":"雾隐千流法"},"技能名称",null,357]
[358,{"$f":"VLOOKUP(A361,[2]SkillConfig!$D:$AE,3,FALSE)","v":0},"技能名称",null,358]
[359,{"$f":"VLOOKUP(A362,[2]SkillConfig!$D:$AE,3,FALSE)","v":0},"技能名称",null,359]
[360,{"$f":"VLOOKUP(A363,[2]SkillConfig!$D:$AE,3,FALSE)","v":0},"技能名称",null,360]
[361,{"$f":"VLOOKUP(A364,[2]SkillConfig!$D:$AE,3,FALSE)","v":0},"技能名称",null,361]
[362,{"$f":"VLOOKUP(A365,[2]SkillConfig!$D:$AE,3,FALSE)","v":0},"技能名称",null,362]
[363,{"$f":"VLOOKUP(A366,[2]SkillConfig!$D:$AE,3,FALSE)","v":0},"技能名称",null,363]
[364,{"$f":"VLOOKUP(A367,[2]SkillConfig!$D:$AE,3,FALSE)","v":"冰刀"},"技能名称",null,364]
[365,{"$f":"VLOOKUP(A368,[2]SkillConfig!$D:$AE,3,FALSE)","v":"冰刀"},"技能名称",null,365]
[366,{"$f":"VLOOKUP(A369,[2]SkillConfig!$D:$AE,3,FALSE)","v":"冰刀"},"技能名称",null,366]
[367,{"$f":"VLOOKUP(A370,[2]SkillConfig!$D:$AE,3,FALSE)","v":"冰刀"},"技能名称",null,367]
[368,{"$f":"VLOOKUP(A371,[2]SkillConfig!$D:$AE,3,FALSE)","v":"冰刀"},"技能名称",null,368]
[369,{"$f":"VLOOKUP(A372,[2]SkillConfig!$D:$AE,3,FALSE)","v":"冰刀"},"技能名称",null,369]
[370,{"$f":"VLOOKUP(A373,[2]SkillConfig!$D:$AE,3,FALSE)","v":"瘴影千丝术"},"技能名称",null,370]
[371,{"$f":"VLOOKUP(A374,[2]SkillConfig!$D:$AE,3,FALSE)","v":"瘴影千丝术"},"技能名称",null,371]
[372,{"$f":"VLOOKUP(A375,[2]SkillConfig!$D:$AE,3,FALSE)","v":"瘴影千丝术"},"技能名称",null,372]
[373,{"$f":"VLOOKUP(A376,[2]SkillConfig!$D:$AE,3,FALSE)","v":"瘴影千丝术"},"技能名称",null,373]
[374,{"$f":"VLOOKUP(A377,[2]SkillConfig!$D:$AE,3,FALSE)","v":"瘴影千丝术"},"技能名称",null,374]
[375,{"$f":"VLOOKUP(A378,[2]SkillConfig!$D:$AE,3,FALSE)","v":"瘴影千丝术"},"技能名称",null,375]
[376,{"$f":"VLOOKUP(A379,[2]SkillConfig!$D:$AE,3,FALSE)","v":"蚀骨腐血掌"},"技能名称",null,376]
[377,{"$f":"VLOOKUP(A380,[2]SkillConfig!$D:$AE,3,FALSE)","v":"蚀骨腐血掌"},"技能名称",null,377]
[378,{"$f":"VLOOKUP(A381,[2]SkillConfig!$D:$AE,3,FALSE)","v":"蚀骨腐血掌"},"技能名称",null,378]
[379,{"$f":"VLOOKUP(A382,[2]SkillConfig!$D:$AE,3,FALSE)","v":"蚀骨腐血掌"},"技能名称",null,379]
[380,{"$f":"VLOOKUP(A383,[2]SkillConfig!$D:$AE,3,FALSE)","v":"蚀骨腐血掌"},"技能名称",null,380]
[381,{"$f":"VLOOKUP(A384,[2]SkillConfig!$D:$AE,3,FALSE)","v":"蚀骨腐血掌"},"技能名称",null,381]
[382,{"$f":"VLOOKUP(A385,[2]SkillConfig!$D:$AE,3,FALSE)","v":0},"技能名称",null,382]
[383,{"$f":"VLOOKUP(A386,[2]SkillConfig!$D:$AE,3,FALSE)","v":0},"技能名称",null,383]
[384,{"$f":"VLOOKUP(A387,[2]SkillConfig!$D:$AE,3,FALSE)","v":0},"技能名称",null,384]
[385,{"$f":"VLOOKUP(A388,[2]SkillConfig!$D:$AE,3,FALSE)","v":0},"技能名称",null,385]
[386,{"$f":"VLOOKUP(A389,[2]SkillConfig!$D:$AE,3,FALSE)","v":0},"技能名称",null,{"$f":"A389","v":386}]
[387,{"$f":"VLOOKUP(A390,[2]SkillConfig!$D:$AE,3,FALSE)","v":0},"技能名称",null,387]
[388,{"$f":"VLOOKUP(A391,[2]SkillConfig!$D:$AE,3,FALSE)","v":"飞叶"},"技能名称",null,388]
[389,{"$f":"VLOOKUP(A392,[2]SkillConfig!$D:$AE,3,FALSE)","v":"飞叶"},"技能名称",null,389]
[390,{"$f":"VLOOKUP(A393,[2]SkillConfig!$D:$AE,3,FALSE)","v":"飞叶"},"技能名称",null,390]
[391,{"$f":"VLOOKUP(A394,[2]SkillConfig!$D:$AE,3,FALSE)","v":"飞叶"},"技能名称",null,391]
[392,{"$f":"VLOOKUP(A395,[2]SkillConfig!$D:$AE,3,FALSE)","v":"飞叶"},"技能名称",null,392]
[393,{"$f":"VLOOKUP(A396,[2]SkillConfig!$D:$AE,3,FALSE)","v":"飞叶"},"技能名称",null,393]
[394,{"$f":"VLOOKUP(A397,[2]SkillConfig!$D:$AE,3,FALSE)","v":"烈焰剑"},"技能名称",null,394]
[395,{"$f":"VLOOKUP(A398,[2]SkillConfig!$D:$AE,3,FALSE)","v":"烈焰剑"},"技能名称",null,395]
[396,{"$f":"VLOOKUP(A399,[2]SkillConfig!$D:$AE,3,FALSE)","v":"烈焰剑"},"技能名称",null,396]
[397,{"$f":"VLOOKUP(A400,[2]SkillConfig!$D:$AE,3,FALSE)","v":"烈焰剑"},"技能名称",null,397]
[398,{"$f":"VLOOKUP(A401,[2]SkillConfig!$D:$AE,3,FALSE)","v":"烈焰剑"},"技能名称",null,398]
[399,{"$f":"VLOOKUP(A402,[2]SkillConfig!$D:$AE,3,FALSE)","v":"烈焰剑"},"技能名称",null,399]
[400,{"$f":"VLOOKUP(A403,[2]SkillConfig!$D:$AE,3,FALSE)","v":"赤焰龙吟功"},"技能名称",null,400]
[401,{"$f":"VLOOKUP(A404,[2]SkillConfig!$D:$AE,3,FALSE)","v":"赤焰龙吟功"},"技能名称",null,401]
[402,{"$f":"VLOOKUP(A405,[2]SkillConfig!$D:$AE,3,FALSE)","v":"赤焰龙吟功"},"技能名称",null,402]
[403,{"$f":"VLOOKUP(A406,[2]SkillConfig!$D:$AE,3,FALSE)","v":"赤焰龙吟功"},"技能名称",null,403]
[404,{"$f":"VLOOKUP(A407,[2]SkillConfig!$D:$AE,3,FALSE)","v":"赤焰龙吟功"},"技能名称",null,404]
[405,{"$f":"VLOOKUP(A408,[2]SkillConfig!$D:$AE,3,FALSE)","v":"赤焰龙吟功"},"技能名称",null,405]
[406,{"$f":"VLOOKUP(A409,[2]SkillConfig!$D:$AE,3,FALSE)","v":"朱雀燎原指"},"技能名称",null,406]
[407,{"$f":"VLOOKUP(A410,[2]SkillConfig!$D:$AE,3,FALSE)","v":"朱雀燎原指"},"技能名称",null,407]
[408,{"$f":"VLOOKUP(A411,[2]SkillConfig!$D:$AE,3,FALSE)","v":"朱雀燎原指"},"技能名称",null,408]
[409,{"$f":"VLOOKUP(A412,[2]SkillConfig!$D:$AE,3,FALSE)","v":"朱雀燎原指"},"技能名称",null,409]
[410,{"$f":"VLOOKUP(A413,[2]SkillConfig!$D:$AE,3,FALSE)","v":"朱雀燎原指"},"技能名称",null,410]
[411,{"$f":"VLOOKUP(A414,[2]SkillConfig!$D:$AE,3,FALSE)","v":"朱雀燎原指"},"技能名称",null,411]
[412,{"$f":"VLOOKUP(A415,[2]SkillConfig!$D:$AE,3,FALSE)","v":"火球"},"技能名称",null,412]
[413,{"$f":"VLOOKUP(A416,[2]SkillConfig!$D:$AE,3,FALSE)","v":"火球"},"技能名称",null,413]
[414,{"$f":"VLOOKUP(A417,[2]SkillConfig!$D:$AE,3,FALSE)","v":"火球"},"技能名称",null,414]
[415,{"$f":"VLOOKUP(A418,[2]SkillConfig!$D:$AE,3,FALSE)","v":"火球"},"技能名称",null,415]
[416,{"$f":"VLOOKUP(A419,[2]SkillConfig!$D:$AE,3,FALSE)","v":"火球"},"技能名称",null,416]
[417,{"$f":"VLOOKUP(A420,[2]SkillConfig!$D:$AE,3,FALSE)","v":"火球"},"技能名称",null,417]
[418,{"$f":"VLOOKUP(A421,[2]SkillConfig!$D:$AE,3,FALSE)","v":"火刀"},"技能名称",null,418]
[419,{"$f":"VLOOKUP(A422,[2]SkillConfig!$D:$AE,3,FALSE)","v":"火刀"},"技能名称",null,419]
[420,{"$f":"VLOOKUP(A423,[2]SkillConfig!$D:$AE,3,FALSE)","v":"火刀"},"技能名称",null,420]
[421,{"$f":"VLOOKUP(A424,[2]SkillConfig!$D:$AE,3,FALSE)","v":"火刀"},"技能名称",null,421]
[422,{"$f":"VLOOKUP(A425,[2]SkillConfig!$D:$AE,3,FALSE)","v":"火刀"},"技能名称",null,422]
[423,{"$f":"VLOOKUP(A426,[2]SkillConfig!$D:$AE,3,FALSE)","v":"火刀"},"技能名称",null,423]
[424,{"$f":"VLOOKUP(A427,[2]SkillConfig!$D:$AE,3,FALSE)","v":"黄尘灭魂刺"},"技能名称",null,424]
[425,{"$f":"VLOOKUP(A428,[2]SkillConfig!$D:$AE,3,FALSE)","v":"黄尘灭魂刺"},"技能名称",null,425]
[426,{"$f":"VLOOKUP(A429,[2]SkillConfig!$D:$AE,3,FALSE)","v":"黄尘灭魂刺"},"技能名称",null,426]
[427,{"$f":"VLOOKUP(A430,[2]SkillConfig!$D:$AE,3,FALSE)","v":"黄尘灭魂刺"},"技能名称",null,427]
[428,{"$f":"VLOOKUP(A431,[2]SkillConfig!$D:$AE,3,FALSE)","v":"黄尘灭魂刺"},"技能名称",null,428]
[429,{"$f":"VLOOKUP(A432,[2]SkillConfig!$D:$AE,3,FALSE)","v":"黄尘灭魂刺"},"技能名称",null,429]
[430,{"$f":"VLOOKUP(A433,[2]SkillConfig!$D:$AE,3,FALSE)","v":"地裂屠龙斩"},"技能名称",null,430]
[431,{"$f":"VLOOKUP(A434,[2]SkillConfig!$D:$AE,3,FALSE)","v":"地裂屠龙斩"},"技能名称",null,431]
[432,{"$f":"VLOOKUP(A435,[2]SkillConfig!$D:$AE,3,FALSE)","v":"地裂屠龙斩"},"技能名称",null,432]
[433,{"$f":"VLOOKUP(A436,[2]SkillConfig!$D:$AE,3,FALSE)","v":"地裂屠龙斩"},"技能名称",null,433]
[434,{"$f":"VLOOKUP(A437,[2]SkillConfig!$D:$AE,3,FALSE)","v":"地裂屠龙斩"},"技能名称",null,434]
[435,{"$f":"VLOOKUP(A438,[2]SkillConfig!$D:$AE,3,FALSE)","v":"地裂屠龙斩"},"技能名称",null,435]
[436,{"$f":"VLOOKUP(A439,[2]SkillConfig!$D:$AE,3,FALSE)","v":0},"技能名称",null,436]
[437,{"$f":"VLOOKUP(A440,[2]SkillConfig!$D:$AE,3,FALSE)","v":0},"技能名称",null,437]
[438,{"$f":"VLOOKUP(A441,[2]SkillConfig!$D:$AE,3,FALSE)","v":0},"技能名称",null,438]
[439,{"$f":"VLOOKUP(A442,[2]SkillConfig!$D:$AE,3,FALSE)","v":0},"技能名称",null,439]
[440,{"$f":"VLOOKUP(A443,[2]SkillConfig!$D:$AE,3,FALSE)","v":0},"技能名称",null,440]
[441,{"$f":"VLOOKUP(A444,[2]SkillConfig!$D:$AE,3,FALSE)","v":0},"技能名称",null,441]
[442,{"$f":"VLOOKUP(A445,[2]SkillConfig!$D:$AE,3,FALSE)","v":"小石头"},"技能名称",null,442]
[443,{"$f":"VLOOKUP(A446,[2]SkillConfig!$D:$AE,3,FALSE)","v":"小石头"},"技能名称",null,443]
[444,{"$f":"VLOOKUP(A447,[2]SkillConfig!$D:$AE,3,FALSE)","v":"小石头"},"技能名称",null,444]
[445,{"$f":"VLOOKUP(A448,[2]SkillConfig!$D:$AE,3,FALSE)","v":"小石头"},"技能名称",null,445]
[446,{"$f":"VLOOKUP(A449,[2]SkillConfig!$D:$AE,3,FALSE)","v":"小石头"},"技能名称",null,446]
[447,{"$f":"VLOOKUP(A450,[2]SkillConfig!$D:$AE,3,FALSE)","v":"小石头"},"技能名称",null,447]
[448,{"$f":"VLOOKUP(A451,[2]SkillConfig!$D:$AE,3,FALSE)","v":"天衍星辰诀"},"技能名称",null,448]
[449,{"$f":"VLOOKUP(A452,[2]SkillConfig!$D:$AE,3,FALSE)","v":"天衍星辰诀"},"技能名称",null,449]
[450,{"$f":"VLOOKUP(A453,[2]SkillConfig!$D:$AE,3,FALSE)","v":"天衍星辰诀"},"技能名称",null,{"$f":"A453","v":450}]
[451,{"$f":"VLOOKUP(A454,[2]SkillConfig!$D:$AE,3,FALSE)","v":"天衍星辰诀"},"技能名称",null,451]
[452,{"$f":"VLOOKUP(A455,[2]SkillConfig!$D:$AE,3,FALSE)","v":"天衍星辰诀"},"技能名称",null,452]
[453,{"$f":"VLOOKUP(A456,[2]SkillConfig!$D:$AE,3,FALSE)","v":"天衍星辰诀"},"技能名称",null,453]
[454,{"$f":"VLOOKUP(A457,[2]SkillConfig!$D:$AE,3,FALSE)","v":"法宝秘籍"},"技能名称",null,454]
[455,{"$f":"VLOOKUP(A458,[2]SkillConfig!$D:$AE,3,FALSE)","v":"法宝秘籍"},"技能名称",null,455]
[456,{"$f":"VLOOKUP(A459,[2]SkillConfig!$D:$AE,3,FALSE)","v":"法宝秘籍"},"技能名称",null,456]
[457,{"$f":"VLOOKUP(A460,[2]SkillConfig!$D:$AE,3,FALSE)","v":"法宝秘籍"},"技能名称",null,457]
[458,{"$f":"VLOOKUP(A461,[2]SkillConfig!$D:$AE,3,FALSE)","v":"法宝秘籍"},"技能名称",null,458]
[459,{"$f":"VLOOKUP(A462,[2]SkillConfig!$D:$AE,3,FALSE)","v":"法宝秘籍"},"技能名称",null,459]
[460,{"$f":"VLOOKUP(A463,[2]SkillConfig!$D:$AE,3,FALSE)","v":"崩脉决"},"技能名称",null,460]
[461,{"$f":"VLOOKUP(A464,[2]SkillConfig!$D:$AE,3,FALSE)","v":"崩脉决"},"技能名称",null,461]
[462,{"$f":"VLOOKUP(A465,[2]SkillConfig!$D:$AE,3,FALSE)","v":"崩脉决"},"技能名称",null,462]
[463,{"$f":"VLOOKUP(A466,[2]SkillConfig!$D:$AE,3,FALSE)","v":"崩脉决"},"技能名称",null,463]
[464,{"$f":"VLOOKUP(A467,[2]SkillConfig!$D:$AE,3,FALSE)","v":"崩脉决"},"技能名称",null,464]
[465,{"$f":"VLOOKUP(A468,[2]SkillConfig!$D:$AE,3,FALSE)","v":"崩脉决"},"技能名称",null,465]
[466,{"$f":"VLOOKUP(A469,[2]SkillConfig!$D:$AE,3,FALSE)","v":"两仪决"},"技能名称",null,466]
[467,{"$f":"VLOOKUP(A470,[2]SkillConfig!$D:$AE,3,FALSE)","v":"两仪决"},"技能名称",null,467]
[468,{"$f":"VLOOKUP(A471,[2]SkillConfig!$D:$AE,3,FALSE)","v":"两仪决"},"技能名称",null,468]
[469,{"$f":"VLOOKUP(A472,[2]SkillConfig!$D:$AE,3,FALSE)","v":"两仪决"},"技能名称",null,469]
[470,{"$f":"VLOOKUP(A473,[2]SkillConfig!$D:$AE,3,FALSE)","v":"两仪决"},"技能名称",null,470]
[471,{"$f":"VLOOKUP(A474,[2]SkillConfig!$D:$AE,3,FALSE)","v":"两仪决"},"技能名称",null,471]
[472,{"$f":"VLOOKUP(A475,[2]SkillConfig!$D:$AE,3,FALSE)","v":"火焰决"},"技能名称",null,472]
[473,{"$f":"VLOOKUP(A476,[2]SkillConfig!$D:$AE,3,FALSE)","v":"火焰决"},"技能名称",null,473]
[474,{"$f":"VLOOKUP(A477,[2]SkillConfig!$D:$AE,3,FALSE)","v":"火焰决"},"技能名称",null,474]
[475,{"$f":"VLOOKUP(A478,[2]SkillConfig!$D:$AE,3,FALSE)","v":"火焰决"},"技能名称",null,475]
[476,{"$f":"VLOOKUP(A479,[2]SkillConfig!$D:$AE,3,FALSE)","v":"火焰决"},"技能名称",null,476]
[477,{"$f":"VLOOKUP(A480,[2]SkillConfig!$D:$AE,3,FALSE)","v":"火焰决"},"技能名称",null,477]
[478,{"$f":"VLOOKUP(A481,[2]SkillConfig!$D:$AE,3,FALSE)","v":"乾坤巨灵诀"},"技能名称",null,478]
[479,{"$f":"VLOOKUP(A482,[2]SkillConfig!$D:$AE,3,FALSE)","v":"乾坤巨灵诀"},"技能名称",null,479]
[480,{"$f":"VLOOKUP(A483,[2]SkillConfig!$D:$AE,3,FALSE)","v":"乾坤巨灵诀"},"技能名称",null,480]
[481,{"$f":"VLOOKUP(A484,[2]SkillConfig!$D:$AE,3,FALSE)","v":"乾坤巨灵诀"},"技能名称",null,481]
[482,{"$f":"VLOOKUP(A485,[2]SkillConfig!$D:$AE,3,FALSE)","v":"乾坤巨灵诀"},"技能名称",null,482]
[483,{"$f":"VLOOKUP(A486,[2]SkillConfig!$D:$AE,3,FALSE)","v":"乾坤巨灵诀"},"技能名称",null,483]
[484,{"$f":"VLOOKUP(A487,[2]SkillConfig!$D:$AE,3,FALSE)","v":"极速齿轮"},"技能名称",null,484]
[485,{"$f":"VLOOKUP(A488,[2]SkillConfig!$D:$AE,3,FALSE)","v":"极速齿轮"},"技能名称",null,485]
[486,{"$f":"VLOOKUP(A489,[2]SkillConfig!$D:$AE,3,FALSE)","v":"极速齿轮"},"技能名称",null,486]
[487,{"$f":"VLOOKUP(A490,[2]SkillConfig!$D:$AE,3,FALSE)","v":"极速齿轮"},"技能名称",null,487]
[488,{"$f":"VLOOKUP(A491,[2]SkillConfig!$D:$AE,3,FALSE)","v":"极速齿轮"},"技能名称",null,488]
[489,{"$f":"VLOOKUP(A492,[2]SkillConfig!$D:$AE,3,FALSE)","v":"极速齿轮"},"技能名称",null,489]
[490,{"$f":"VLOOKUP(A493,[2]SkillConfig!$D:$AE,3,FALSE)","v":"太虚剑意"},"技能名称",null,490]
[491,{"$f":"VLOOKUP(A494,[2]SkillConfig!$D:$AE,3,FALSE)","v":"太虚剑意"},"技能名称",null,491]
[492,{"$f":"VLOOKUP(A495,[2]SkillConfig!$D:$AE,3,FALSE)","v":"太虚剑意"},"技能名称",null,492]
[493,{"$f":"VLOOKUP(A496,[2]SkillConfig!$D:$AE,3,FALSE)","v":"太虚剑意"},"技能名称",null,493]
[494,{"$f":"VLOOKUP(A497,[2]SkillConfig!$D:$AE,3,FALSE)","v":"太虚剑意"},"技能名称",null,494]
[495,{"$f":"VLOOKUP(A498,[2]SkillConfig!$D:$AE,3,FALSE)","v":"太虚剑意"},"技能名称",null,495]
[496,{"$f":"VLOOKUP(A499,[2]SkillConfig!$D:$AE,3,FALSE)","v":"神龙鼎"},"技能名称",null,496]
[497,{"$f":"VLOOKUP(A500,[2]SkillConfig!$D:$AE,3,FALSE)","v":"神龙鼎"},"技能名称",null,497]
[498,{"$f":"VLOOKUP(A501,[2]SkillConfig!$D:$AE,3,FALSE)","v":"神龙鼎"},"技能名称",null,498]
[499,{"$f":"VLOOKUP(A502,[2]SkillConfig!$D:$AE,3,FALSE)","v":"神龙鼎"},"技能名称",null,499]
[500,{"$f":"VLOOKUP(A503,[2]SkillConfig!$D:$AE,3,FALSE)","v":"神龙鼎"},"技能名称",null,500]
[501,{"$f":"VLOOKUP(A504,[2]SkillConfig!$D:$AE,3,FALSE)","v":"神龙鼎"},"技能名称",null,501]
[502,{"$f":"VLOOKUP(A505,[2]SkillConfig!$D:$AE,3,FALSE)","v":"破天斧"},"技能名称",null,502]
[503,{"$f":"VLOOKUP(A506,[2]SkillConfig!$D:$AE,3,FALSE)","v":"破天斧"},"技能名称",null,503]
[504,{"$f":"VLOOKUP(A507,[2]SkillConfig!$D:$AE,3,FALSE)","v":"破天斧"},"技能名称",null,504]
[505,{"$f":"VLOOKUP(A508,[2]SkillConfig!$D:$AE,3,FALSE)","v":"破天斧"},"技能名称",null,505]
[506,{"$f":"VLOOKUP(A509,[2]SkillConfig!$D:$AE,3,FALSE)","v":"破天斧"},"技能名称",null,506]
[507,{"$f":"VLOOKUP(A510,[2]SkillConfig!$D:$AE,3,FALSE)","v":"破天斧"},"技能名称",null,507]
[508,{"$f":"VLOOKUP(A511,[2]SkillConfig!$D:$AE,3,FALSE)","v":"翡翠葫芦"},"技能名称",null,508]
[509,{"$f":"VLOOKUP(A512,[2]SkillConfig!$D:$AE,3,FALSE)","v":"翡翠葫芦"},"技能名称",null,509]
[510,{"$f":"VLOOKUP(A513,[2]SkillConfig!$D:$AE,3,FALSE)","v":"翡翠葫芦"},"技能名称",null,510]
[511,{"$f":"VLOOKUP(A514,[2]SkillConfig!$D:$AE,3,FALSE)","v":"翡翠葫芦"},"技能名称",null,511]
[512,{"$f":"VLOOKUP(A515,[2]SkillConfig!$D:$AE,3,FALSE)","v":"翡翠葫芦"},"技能名称",null,512]
[513,{"$f":"VLOOKUP(A516,[2]SkillConfig!$D:$AE,3,FALSE)","v":"翡翠葫芦"},"技能名称",null,513]
[514,{"$f":"VLOOKUP(A517,[2]SkillConfig!$D:$AE,3,FALSE)","v":"混沌珠"},"技能名称",null,{"$f":"A517","v":514}]
[515,{"$f":"VLOOKUP(A518,[2]SkillConfig!$D:$AE,3,FALSE)","v":"混沌珠"},"技能名称",null,515]
[516,{"$f":"VLOOKUP(A519,[2]SkillConfig!$D:$AE,3,FALSE)","v":"混沌珠"},"技能名称",null,516]
[517,{"$f":"VLOOKUP(A520,[2]SkillConfig!$D:$AE,3,FALSE)","v":"混沌珠"},"技能名称",null,517]
[518,{"$f":"VLOOKUP(A521,[2]SkillConfig!$D:$AE,3,FALSE)","v":"混沌珠"},"技能名称",null,518]
[519,{"$f":"VLOOKUP(A522,[2]SkillConfig!$D:$AE,3,FALSE)","v":"混沌珠"},"技能名称",null,519]
[520,{"$f":"VLOOKUP(A523,[2]SkillConfig!$D:$AE,3,FALSE)","v":"琉璃宝塔"},"技能名称",null,520]
[521,{"$f":"VLOOKUP(A524,[2]SkillConfig!$D:$AE,3,FALSE)","v":"琉璃宝塔"},"技能名称",null,521]
[522,{"$f":"VLOOKUP(A525,[2]SkillConfig!$D:$AE,3,FALSE)","v":"琉璃宝塔"},"技能名称",null,522]
[523,{"$f":"VLOOKUP(A526,[2]SkillConfig!$D:$AE,3,FALSE)","v":"琉璃宝塔"},"技能名称",null,523]
[524,{"$f":"VLOOKUP(A527,[2]SkillConfig!$D:$AE,3,FALSE)","v":"琉璃宝塔"},"技能名称",null,524]
[525,{"$f":"VLOOKUP(A528,[2]SkillConfig!$D:$AE,3,FALSE)","v":"琉璃宝塔"},"技能名称",null,525]
[526,{"$f":"VLOOKUP(A529,[2]SkillConfig!$D:$AE,3,FALSE)","v":"九幽镇魂瓶"},"技能名称",null,526]
[527,{"$f":"VLOOKUP(A530,[2]SkillConfig!$D:$AE,3,FALSE)","v":"九幽镇魂瓶"},"技能名称",null,527]
[528,{"$f":"VLOOKUP(A531,[2]SkillConfig!$D:$AE,3,FALSE)","v":"九幽镇魂瓶"},"技能名称",null,528]
[529,{"$f":"VLOOKUP(A532,[2]SkillConfig!$D:$AE,3,FALSE)","v":"九幽镇魂瓶"},"技能名称",null,529]
[530,{"$f":"VLOOKUP(A533,[2]SkillConfig!$D:$AE,3,FALSE)","v":"九幽镇魂瓶"},"技能名称",null,530]
[531,{"$f":"VLOOKUP(A534,[2]SkillConfig!$D:$AE,3,FALSE)","v":"九幽镇魂瓶"},"技能名称",null,531]
[532,{"$f":"VLOOKUP(A535,[2]SkillConfig!$D:$AE,3,FALSE)","v":"玉莲守心灯"},"技能名称",null,532]
[533,{"$f":"VLOOKUP(A536,[2]SkillConfig!$D:$AE,3,FALSE)","v":"玉莲守心灯"},"技能名称",null,533]
[534,{"$f":"VLOOKUP(A537,[2]SkillConfig!$D:$AE,3,FALSE)","v":"玉莲守心灯"},"技能名称",null,534]
[535,{"$f":"VLOOKUP(A538,[2]SkillConfig!$D:$AE,3,FALSE)","v":"玉莲守心灯"},"技能名称",null,535]
[536,{"$f":"VLOOKUP(A539,[2]SkillConfig!$D:$AE,3,FALSE)","v":"玉莲守心灯"},"技能名称",null,536]
[537,{"$f":"VLOOKUP(A540,[2]SkillConfig!$D:$AE,3,FALSE)","v":"玉莲守心灯"},"技能名称",null,537]
[538,{"$f":"VLOOKUP(A541,[2]SkillConfig!$D:$AE,3,FALSE)","v":"融灵塔"},"技能名称",null,538]
[539,{"$f":"VLOOKUP(A542,[2]SkillConfig!$D:$AE,3,FALSE)","v":"融灵塔"},"技能名称",null,539]
[540,{"$f":"VLOOKUP(A543,[2]SkillConfig!$D:$AE,3,FALSE)","v":"融灵塔"},"技能名称",null,540]
[541,{"$f":"VLOOKUP(A544,[2]SkillConfig!$D:$AE,3,FALSE)","v":"融灵塔"},"技能名称",null,541]
[542,{"$f":"VLOOKUP(A545,[2]SkillConfig!$D:$AE,3,FALSE)","v":"融灵塔"},"技能名称",null,542]
[543,{"$f":"VLOOKUP(A546,[2]SkillConfig!$D:$AE,3,FALSE)","v":"融灵塔"},"技能名称",null,543]
[544,{"$f":"VLOOKUP(A547,[2]SkillConfig!$D:$AE,3,FALSE)","v":"禁元珠"},"技能名称",null,544]
[545,{"$f":"VLOOKUP(A548,[2]SkillConfig!$D:$AE,3,FALSE)","v":"禁元珠"},"技能名称",null,545]
[546,{"$f":"VLOOKUP(A549,[2]SkillConfig!$D:$AE,3,FALSE)","v":"禁元珠"},"技能名称",null,546]
[547,{"$f":"VLOOKUP(A550,[2]SkillConfig!$D:$AE,3,FALSE)","v":"禁元珠"},"技能名称",null,547]
[548,{"$f":"VLOOKUP(A551,[2]SkillConfig!$D:$AE,3,FALSE)","v":"禁元珠"},"技能名称",null,548]
[549,{"$f":"VLOOKUP(A552,[2]SkillConfig!$D:$AE,3,FALSE)","v":"禁元珠"},"技能名称",null,549]
[550,{"$f":"VLOOKUP(A553,[2]SkillConfig!$D:$AE,3,FALSE)","v":"玄龟盾"},"技能名称",null,550]
[551,{"$f":"VLOOKUP(A554,[2]SkillConfig!$D:$AE,3,FALSE)","v":"玄龟盾"},"技能名称",null,551]
[552,{"$f":"VLOOKUP(A555,[2]SkillConfig!$D:$AE,3,FALSE)","v":"玄龟盾"},"技能名称",null,552]
[553,{"$f":"VLOOKUP(A556,[2]SkillConfig!$D:$AE,3,FALSE)","v":"玄龟盾"},"技能名称",null,553]
[554,{"$f":"VLOOKUP(A557,[2]SkillConfig!$D:$AE,3,FALSE)","v":"玄龟盾"},"技能名称",null,554]
[555,{"$f":"VLOOKUP(A558,[2]SkillConfig!$D:$AE,3,FALSE)","v":"玄龟盾"},"技能名称",null,555]
[556,{"$f":"VLOOKUP(A559,[2]SkillConfig!$D:$AE,3,FALSE)","v":"天殇血刃剑"},"技能名称",null,556]
[557,{"$f":"VLOOKUP(A560,[2]SkillConfig!$D:$AE,3,FALSE)","v":"天殇血刃剑"},"技能名称",null,557]
[558,{"$f":"VLOOKUP(A561,[2]SkillConfig!$D:$AE,3,FALSE)","v":"天殇血刃剑"},"技能名称",null,558]
[559,{"$f":"VLOOKUP(A562,[2]SkillConfig!$D:$AE,3,FALSE)","v":"天殇血刃剑"},"技能名称",null,559]
[560,{"$f":"VLOOKUP(A563,[2]SkillConfig!$D:$AE,3,FALSE)","v":"天殇血刃剑"},"技能名称",null,560]
[561,{"$f":"VLOOKUP(A564,[2]SkillConfig!$D:$AE,3,FALSE)","v":"天殇血刃剑"},"技能名称",null,561]
[562,"技能名称预留，勿占","技能名称",null,562]
[563,"技能名称预留，勿占","技能名称",null,563]
[564,"技能名称预留，勿占","技能名称",null,564]
[565,"技能名称预留，勿占","技能名称",null,565]
[566,"技能名称预留，勿占","技能名称",null,566]
[567,"技能名称预留，勿占","技能名称",null,567]
[568,"技能名称预留，勿占","技能名称",null,568]
[569,"技能名称预留，勿占","技能名称",null,569]
[570,"技能名称预留，勿占","技能名称",null,570]
[571,"技能名称预留，勿占","技能名称",null,571]
[572,"技能名称预留，勿占","技能名称",null,572]
[573,"技能名称预留，勿占","技能名称",null,573]
[574,"技能名称预留，勿占","技能名称",null,574]
[575,"技能名称预留，勿占","技能名称",null,575]
[576,"技能名称预留，勿占","技能名称",null,576]
[577,"技能名称预留，勿占","技能名称",null,577]
[578,"技能名称预留，勿占","技能名称",null,{"$f":"A581","v":578}]
[579,"技能名称预留，勿占","技能名称",null,579]
[580,"技能名称预留，勿占","技能名称",null,580]
[581,"技能名称预留，勿占","技能名称",null,581]
[582,"技能名称预留，勿占","技能名称",null,582]
[583,"技能名称预留，勿占","技能名称",null,583]
[584,"技能名称预留，勿占","技能名称",null,584]
[585,"技能名称预留，勿占","技能名称",null,585]
[586,"技能名称预留，勿占","技能名称",null,586]
[587,"技能名称预留，勿占","技能名称",null,587]
[588,"技能名称预留，勿占","技能名称",null,588]
[589,"技能名称预留，勿占","技能名称",null,589]
[590,"技能名称预留，勿占","技能名称",null,590]
[591,"技能名称预留，勿占","技能名称",null,591]
[592,"技能名称预留，勿占","技能名称",null,592]
[593,"技能名称预留，勿占","技能名称",null,593]
[594,"技能名称预留，勿占","技能名称",null,594]
[595,"技能名称预留，勿占","技能名称",null,595]
[596,"技能名称预留，勿占","技能名称",null,596]
[597,"技能名称预留，勿占","技能名称",null,597]
[598,"技能名称预留，勿占","技能名称",null,598]
[599,"技能名称预留，勿占","技能名称",null,599]
[600,"技能名称预留，勿占","技能名称",null,600]
[601,"技能名称预留，勿占","技能名称",null,601]
[602,"技能名称预留，勿占","技能名称",null,602]
[603,"技能名称预留，勿占","技能名称",null,603]
[604,"技能名称预留，勿占","技能名称",null,604]
[605,"技能名称预留，勿占","技能名称",null,605]
[606,"技能名称预留，勿占","技能名称",null,606]
[607,"技能名称预留，勿占","技能名称",null,607]
[608,"技能名称预留，勿占","技能名称",null,608]
[609,"技能名称预留，勿占","技能名称",null,609]
[610,"技能名称预留，勿占","技能名称",null,610]
[611,"技能名称预留，勿占","技能名称",null,611]
[612,"技能名称预留，勿占","技能名称",null,612]
[613,"技能名称预留，勿占","技能名称",null,613]
[614,"技能名称预留，勿占","技能名称",null,614]
[615,"技能名称预留，勿占","技能名称",null,615]
[616,"技能名称预留，勿占","技能名称",null,616]
[617,"技能名称预留，勿占","技能名称",null,617]
[618,"技能名称预留，勿占","技能名称",null,618]
[619,"技能名称预留，勿占","技能名称",null,619]
[620,"技能名称预留，勿占","技能名称",null,620]
[621,"技能名称预留，勿占","技能名称",null,621]
[622,"技能名称预留，勿占","技能名称",null,622]
[623,"技能名称预留，勿占","技能名称",null,623]
[624,"技能名称预留，勿占","技能名称",null,624]
[625,"技能名称预留，勿占","技能名称",null,625]
[626,"技能名称预留，勿占","技能名称",null,626]
[627,"技能名称预留，勿占","技能名称",null,627]
[628,"技能名称预留，勿占","技能名称",null,628]
[629,"技能名称预留，勿占","技能名称",null,629]
[630,"技能名称预留，勿占","技能名称",null,630]
[631,"技能名称预留，勿占","技能名称",null,631]
[632,"技能名称预留，勿占","技能名称",null,632]
[633,"技能名称预留，勿占","技能名称",null,633]
[634,"技能名称预留，勿占","技能名称",null,634]
[635,"技能名称预留，勿占","技能名称",null,635]
[636,"技能名称预留，勿占","技能名称",null,636]
[637,"技能名称预留，勿占","技能名称",null,637]
[638,"技能名称预留，勿占","技能名称",null,638]
[639,"技能名称预留，勿占","技能名称",null,639]
[640,"技能名称预留，勿占","技能名称",null,640]
[641,"技能名称预留，勿占","技能名称",null,641]
[642,"技能名称预留，勿占","技能名称",null,{"$f":"A645","v":642}]
[643,"技能名称预留，勿占","技能名称",null,643]
[644,"技能名称预留，勿占","技能名称",null,644]
[645,"技能名称预留，勿占","技能名称",null,645]
[646,"技能名称预留，勿占","技能名称",null,646]
[647,"技能名称预留，勿占","技能名称",null,647]
[648,"技能名称预留，勿占","技能名称",null,648]
[649,"技能名称预留，勿占","技能名称",null,649]
[650,"技能名称预留，勿占","技能名称",null,650]
[651,"技能名称预留，勿占","技能名称",null,651]
[652,"技能名称预留，勿占","技能名称",null,652]
[653,"技能名称预留，勿占","技能名称",null,653]
[654,"技能名称预留，勿占","技能名称",null,654]
[655,"技能名称预留，勿占","技能名称",null,655]
[656,"技能名称预留，勿占","技能名称",null,656]
[657,"技能名称预留，勿占","技能名称",null,657]
[658,"技能名称预留，勿占","技能名称",null,658]
[659,"技能名称预留，勿占","技能名称",null,659]
[660,"技能名称预留，勿占","技能名称",null,660]
[661,"技能名称预留，勿占","技能名称",null,661]
[662,"技能名称预留，勿占","技能名称",null,662]
[663,"技能名称预留，勿占","技能名称",null,663]
[664,"技能名称预留，勿占","技能名称",null,664]
[665,"技能名称预留，勿占","技能名称",null,665]
[666,"技能名称预留，勿占","技能名称",null,666]
[667,"技能名称预留，勿占","技能名称",null,667]
[668,"技能名称预留，勿占","技能名称",null,668]
[669,"技能名称预留，勿占","技能名称",null,669]
[670,"技能名称预留，勿占","技能名称",null,670]
[671,"技能名称预留，勿占","技能名称",null,671]
[672,"技能名称预留，勿占","技能名称",null,672]
[673,"技能名称预留，勿占","技能名称",null,673]
[674,"技能名称预留，勿占","技能名称",null,674]
[675,"技能名称预留，勿占","技能名称",null,675]
[676,"技能名称预留，勿占","技能名称",null,676]
[677,"技能名称预留，勿占","技能名称",null,677]
[678,"技能名称预留，勿占","技能名称",null,678]
[679,"技能名称预留，勿占","技能名称",null,679]
[680,"技能名称预留，勿占","技能名称",null,680]
[681,"技能名称预留，勿占","技能名称",null,681]
[682,"技能名称预留，勿占","技能名称",null,682]
[683,"技能名称预留，勿占","技能名称",null,683]
[684,"技能名称预留，勿占","技能名称",null,684]
[685,"技能名称预留，勿占","技能名称",null,685]
[686,"技能名称预留，勿占","技能名称",null,686]
[687,"技能名称预留，勿占","技能名称",null,687]
[688,"技能名称预留，勿占","技能名称",null,688]
[689,"技能名称预留，勿占","技能名称",null,689]
[690,"技能名称预留，勿占","技能名称",null,690]
[691,"技能名称预留，勿占","技能名称",null,691]
[692,"技能名称预留，勿占","技能名称",null,692]
[693,"技能名称预留，勿占","技能名称",null,693]
[694,"技能名称预留，勿占","技能名称",null,694]
[695,"技能名称预留，勿占","技能名称",null,695]
[696,"星辰道",null,null,696]
[697,"生衍道",null,null,697]
[698,"玄黄道 ",null,null,698]
[699,"每次释放功法时获得{0}点能量，{1}点能量后提升{2}%转盘速度和{3}%攻击速度，持续{4}秒。",null,null,699]
[700,"功法拥有生息之能，每次使用功法能获得1对应属性的充能，充能满后获得对应属性的加成 \n{0}金：提升{1}%攻击力 ,最大{2}%\n{0}木：恢复{3}%生命 \n{0}水：治疗最严重的伤势，使其伤势-{4} \n{0}火：功法强度提升{5}%，最大{6}%\n{0}土：玩家防御提升{7}%，最大{8}%",null,null,700]
[701,"每次使用功法时在当前位置留下一道属性印记，下一个放上来的功法如果和以前功法相生则功法效果提升{0}%，每次使用功法时都会治疗对应相生属性的{1}伤势。（均衡性功法搭配，转盘改变，变为金、水、木、火、土）\n",null,null,701]
[702,"怪物技能1",null,null,702]
[703,"怪物技能1",null,null,703]
[704,"怪物技能1",null,null,704]
[705,"怪物技能1",null,null,705]
[706,"怪物技能1",null,null,{"$f":"A709","v":706}]
[707,"boss第一个技能",null,null,707]
[708,"boss第一个技能",null,null,708]
[709,"boss第一个技能",null,null,709]
[710,"boss第一个技能",null,null,710]
[711,"boss第一个技能",null,null,711]
[712,null,null,null,712]
[713,null,null,null,713]
[714,null,null,null,714]
[715,null,null,null,715]
[716,null,null,null,716]
[717,"伤害很高）(前摇时间长)：很多剑从远处汇聚到boss周围，然后以一字行快速贯穿目标对目标照成{0}伤害，每命中目标肉体{1}次防御削减{2}%，目标肉体{3}次所有伤势+{4}  \n,如果目标上有剑毅，每丙剑消耗{5}层剑毅让敌人受到{6}额外的伤害",null,null,717]
[718,"（2转，防御型技能）：身体周围围绕多丙剑飞行，可以阻挡敌人的功法.抵挡{0}最大生命值的伤害",null,null,718]
[719,"剑祖的攻击会让目标受到一层剑毅",null,null,719]
[720,"发射2丙剑，对敌人照成{0}伤害",null,null,720]
[721,"发射2丙剑，对敌人照成{0}伤害",null,null,721]
[722,"最终生命+{0}%",null,null,722]
[723,"最终攻击+{0}%",null,null,723]
[724,"最终防御+{0}%",null,null,724]
[725,"功法灵气",null,null,725]
[726,"[临]灵气的描述",null,null,726]
[727,"剑诀碎片",null,null,727]
[728,"烈焰斩碎片",null,null,728]
[729,"瘴影千丝术碎片",null,null,729]
[730,"雾隐千流法碎片",null,null,730]
[731,"碧落幽冥劲碎片",null,null,731]
[732,"法宝秘籍碎片",null,null,732]
[733,"双生面具碎片",null,null,733]
[734,"火灵丹碎片",null,null,734]
[735,"巨大化碎片",null,null,735]
[736,"极速齿轮碎片",null,null,736]
[737,"崩脉决碎片",null,null,737]
[738,"用于对应功法的升星",null,null,738]
[739,{"$f":"VLOOKUP(A742,[2]SkillConfig!$E:$G,3,FALSE)","v":"身体周围幻化出{0}柄细剑，每柄细剑对敌人造成{1}%伤害，并有{2}几率对敌人造成1层流血。"},"技能描述",null,739]
[740,{"$f":"VLOOKUP(A743,[2]SkillConfig!$E:$G,3,FALSE)","v":"身体周围幻化出{0}柄细剑，每柄细剑对敌人造成{1}%伤害，并有{2}几率对敌人造成1层流血。"},"技能描述",null,740]
[741,{"$f":"VLOOKUP(A744,[2]SkillConfig!$E:$G,3,FALSE)","v":"身体周围幻化出{0}柄细剑，每柄细剑对敌人造成{1}%伤害，并有{2}几率对敌人造成1层流血。"},"技能描述",null,741]
[742,{"$f":"VLOOKUP(A745,[2]SkillConfig!$E:$G,3,FALSE)","v":"身体周围幻化出{0}柄细剑，每柄细剑对敌人造成{1}%伤害，并有{2}几率对敌人造成1层流血。\n如果敌人有减益状态，则虚剑伤害提升{3}%。"},"技能描述",null,742]
[743,{"$f":"VLOOKUP(A746,[2]SkillConfig!$E:$G,3,FALSE)","v":"身体周围幻化出{0}柄细剑，每柄细剑对敌人造成{1}%伤害，并有{2}几率对敌人造成1层流血。\n如果敌人有减益状态，则虚剑伤害提升{3}%。"},"技能描述",null,743]
[744,{"$f":"VLOOKUP(A747,[2]SkillConfig!$E:$G,3,FALSE)","v":"身体周围幻化出{0}柄更大体型的虚剑，每柄虚剑对敌人造成{1}%伤害，并有{2}几率对敌人造成1层流血。\n如果敌人有减益状态，则虚剑伤害提升{3}%。"},"技能描述",null,744]
[745,{"$f":"VLOOKUP(A748,[2]SkillConfig!$E:$G,3,FALSE)","v":"吸收自身灵气凝聚{0}柄大剑，大剑旋转快速穿透敌人对敌人照成{1}%伤害"},"技能描述",null,745]
[746,{"$f":"VLOOKUP(A749,[2]SkillConfig!$E:$G,3,FALSE)","v":"吸收自身灵气凝聚{0}柄大剑，大剑旋转快速穿透敌人对敌人照成{1}%伤害\n敌人如果在流血或放血状态，对敌人造成的伤害+{2}%"},"技能描述",null,746]
[747,{"$f":"VLOOKUP(A750,[2]SkillConfig!$E:$G,3,FALSE)","v":"吸收自身灵气凝聚{0}柄大剑，大剑旋转快速穿透敌人对敌人照成{1}%伤害\n敌人如果在流血或放血状态，对敌人造成的伤害+{2}%"},"技能描述",null,747]
[748,{"$f":"VLOOKUP(A751,[2]SkillConfig!$E:$G,3,FALSE)","v":"吸收自身灵气凝聚{0}柄大剑，大剑旋转快速穿透敌人对敌人照成{1}%伤害\n敌人如果在流血或放血状态，对敌人造成的伤害+{2}%\n重伤敌人后，如果目标没在放血状态，直接放血且不消耗流血层数"},"技能描述",null,748]
[749,{"$f":"VLOOKUP(A752,[2]SkillConfig!$E:$G,3,FALSE)","v":"吸收自身灵气凝聚{0}柄大剑，大剑旋转快速穿透敌人对敌人照成{1}%伤害\n敌人如果在流血或放血状态，对敌人造成的伤害+{2}%\n重伤敌人后，如果目标没在放血状态，直接放血且不消耗流血层数"},"技能描述",null,749]
[750,{"$f":"VLOOKUP(A753,[2]SkillConfig!$E:$G,3,FALSE)","v":"吸收自身灵气凝聚{0}柄大剑，大剑旋转快速穿透敌人对敌人照成{1}%伤害\n敌人如果在流血或放血状态，对敌人造成的伤害+{2}%\n重伤敌人后，如果目标没在放血状态，直接放血且不消耗流血层数\n全盛状态，剑的体型变大，对拼强度+{3}%，伤害提升{4}%"},"技能描述",null,750]
[751,{"$f":"VLOOKUP(A754,[2]SkillConfig!$E:$G,3,FALSE)","v":"向前方挥动{0}次，每次挥动形成一道血刃刀气，对敌人{1}造成伤害，并有{2}%概率对敌人造成流血。"},"技能描述",null,751]
[752,{"$f":"VLOOKUP(A755,[2]SkillConfig!$E:$G,3,FALSE)","v":"向前方挥动{0}次，每次挥动形成一道血刃刀气，对敌人{1}造成伤害，并有{2}%概率对敌人造成流血。\n刀气命中目标后，恢复本次伤害{3}%的生命。"},"技能描述",null,752]
[753,{"$f":"VLOOKUP(A756,[2]SkillConfig!$E:$G,3,FALSE)","v":"向前方挥动{0}次，每次挥动形成一道血刃刀气，对敌人{1}造成伤害，并有{2}%概率对敌人造成流血。\n刀气命中目标后，恢复本次伤害{3}%的生命。"},"技能描述",null,753]
[754,{"$f":"VLOOKUP(A757,[2]SkillConfig!$E:$G,3,FALSE)","v":"向前方挥动{0}次，每次挥动形成一道血刃刀气，对敌人{1}造成伤害，并有{2}%概率对敌人造成流血。\n刀气命中目标后，恢复本次伤害{3}%的生命。"},"技能描述",null,754]
[755,{"$f":"VLOOKUP(A758,[2]SkillConfig!$E:$G,3,FALSE)","v":"向前方挥动{0}次，每次挥动形成一道血刃刀气，对敌人{1}造成伤害，并有{2}%概率对敌人造成流血。\n刀气命中目标后，恢复本次伤害{3}%的生命。"},"技能描述",null,755]
[756,{"$f":"VLOOKUP(A759,[2]SkillConfig!$E:$G,3,FALSE)","v":"向前方挥动{0}次，每次挥动形成一道血刃刀气，对敌人{1}造成伤害，并有{2}%概率对敌人造成流血。\n刀气命中目标后，恢复本次伤害{3}%的生命。\n刀气对流血的敌人额外造成{4}%伤害，且再施加1层流血。"},"技能描述",null,756]
[757,{"$f":"VLOOKUP(A760,[2]SkillConfig!$E:$G,3,FALSE)","v":"发射{0}枚飞刀，对敌人造成{1}%伤害。"},"技能描述",null,757]
[758,{"$f":"VLOOKUP(A761,[2]SkillConfig!$E:$G,3,FALSE)","v":"发射{0}枚飞刀，对敌人造成{1}%伤害。"},"技能描述",null,758]
[759,{"$f":"VLOOKUP(A762,[2]SkillConfig!$E:$G,3,FALSE)","v":"发射{0}枚飞刀，对敌人造成{1}%伤害。"},"技能描述",null,759]
[760,{"$f":"VLOOKUP(A763,[2]SkillConfig!$E:$G,3,FALSE)","v":"发射{0}枚飞刀，对敌人造成{1}%伤害。"},"技能描述",null,760]
[761,{"$f":"VLOOKUP(A764,[2]SkillConfig!$E:$G,3,FALSE)","v":"发射{0}枚飞刀，对敌人造成{1}%伤害。"},"技能描述",null,761]
[762,{"$f":"VLOOKUP(A765,[2]SkillConfig!$E:$G,3,FALSE)","v":"发射{0}枚飞刀，对敌人造成{1}%伤害。"},"技能描述",null,762]
[763,{"$f":"VLOOKUP(A766,[2]SkillConfig!$E:$G,3,FALSE)","v":"手中快速发射{0}%枚金针，对敌人造成{1}%伤害，并有{2}%概率施加1层流血。"},"技能描述",null,763]
[764,{"$f":"VLOOKUP(A767,[2]SkillConfig!$E:$G,3,FALSE)","v":"手中快速发射{0}%枚金针，对敌人造成{1}%伤害，并有{2}%概率施加1层流血。"},"技能描述",null,764]
[765,{"$f":"VLOOKUP(A768,[2]SkillConfig!$E:$G,3,FALSE)","v":"手中快速发射{0}%枚金针，对敌人造成{1}%伤害，并有{2}%概率施加1层流血。"},"技能描述",null,765]
[766,{"$f":"VLOOKUP(A769,[2]SkillConfig!$E:$G,3,FALSE)","v":"手中快速发射{0}%枚金针，对敌人造成{1}%伤害，并有{2}%概率施加1层流血。"},"技能描述",null,766]
[767,{"$f":"VLOOKUP(A770,[2]SkillConfig!$E:$G,3,FALSE)","v":"手中快速发射{0}%枚金针，对敌人造成{1}%伤害，并有{2}%概率施加1层流血。"},"技能描述",null,767]
[768,{"$f":"VLOOKUP(A771,[2]SkillConfig!$E:$G,3,FALSE)","v":"手中快速发射{0}%枚金针，对敌人造成{1}%伤害，并有{2}%概率施加1层流血。"},"技能描述",null,768]
[769,{"$f":"VLOOKUP(A772,[2]SkillConfig!$E:$G,3,FALSE)","v":"发出{0}道寒气冰锥，对敌人照成{1}%伤害，每到冰锥有{2}%概率对敌人施加1层寒气"},"技能描述",null,769]
[770,{"$f":"VLOOKUP(A773,[2]SkillConfig!$E:$G,3,FALSE)","v":"发出{0}道寒气冰锥，对敌人照成{1}%伤害，每到冰锥有{2}%概率对敌人施加1层寒气"},"技能描述",null,{"$f":"A773","v":770}]
[771,{"$f":"VLOOKUP(A774,[2]SkillConfig!$E:$G,3,FALSE)","v":"发出{0}道寒气冰锥，对敌人照成{1}%伤害，每到冰锥有{2}%概率对敌人施加1层寒气"},"技能描述",null,771]
[772,{"$f":"VLOOKUP(A775,[2]SkillConfig!$E:$G,3,FALSE)","v":"发出{0}道寒气冰锥，对敌人照成{1}%伤害，每到冰锥有{2}%概率对敌人施加1层寒气"},"技能描述",null,772]
[773,{"$f":"VLOOKUP(A776,[2]SkillConfig!$E:$G,3,FALSE)","v":"发出{0}道寒气冰锥，对敌人照成{1}%伤害，每到冰锥有{2}%概率对敌人施加1层寒气"},"技能描述",null,773]
[774,{"$f":"VLOOKUP(A777,[2]SkillConfig!$E:$G,3,FALSE)","v":"发出{0}道寒气冰锥，对敌人照成{1}%伤害，每到冰锥有{2}%概率对敌人施加1层寒气"},"技能描述",null,774]
[775,{"$f":"VLOOKUP(A778,[2]SkillConfig!$E:$G,3,FALSE)","v":"身体散发出一团迷雾。从迷雾中飞出{0}个冰球，每个冰球对敌人照成{1}%伤害，并有{2}%概率施加1层寒气"},"技能描述",null,775]
[776,{"$f":"VLOOKUP(A779,[2]SkillConfig!$E:$G,3,FALSE)","v":"身体散发出一团迷雾。从迷雾中飞出{0}个冰球，每个冰球对敌人照成{1}%伤害，并有{2}%概率施加1层寒气"},"技能描述",null,776]
[777,{"$f":"VLOOKUP(A780,[2]SkillConfig!$E:$G,3,FALSE)","v":"身体散发出一团迷雾。从迷雾中飞出{0}个冰球，每个冰球对敌人照成{1}%伤害，并有{2}%概率施加1层寒气"},"技能描述",null,777]
[778,{"$f":"VLOOKUP(A781,[2]SkillConfig!$E:$G,3,FALSE)","v":"身体散发出一团迷雾。从迷雾中飞出{0}个冰球，每个冰球对敌人照成{1}%伤害，并有{2}%概率施加1层寒气"},"技能描述",null,778]
[779,{"$f":"VLOOKUP(A782,[2]SkillConfig!$E:$G,3,FALSE)","v":"身体散发出一团迷雾。从迷雾中飞出{0}个冰球，每个冰球对敌人照成{1}%伤害，并有{2}%概率施加1层寒气"},"技能描述",null,779]
[780,{"$f":"VLOOKUP(A783,[2]SkillConfig!$E:$G,3,FALSE)","v":"身体散发出一团迷雾。从迷雾中飞出{0}个冰球，每个冰球对敌人照成{1}%伤害，并有{2}%概率施加1层寒气"},"技能描述",null,780]
[781,{"$f":"VLOOKUP(A784,[2]SkillConfig!$E:$G,3,FALSE)","v":"占位"},"技能描述",null,781]
[782,{"$f":"VLOOKUP(A785,[2]SkillConfig!$E:$G,3,FALSE)","v":"占位"},"技能描述",null,782]
[783,{"$f":"VLOOKUP(A786,[2]SkillConfig!$E:$G,3,FALSE)","v":"占位"},"技能描述",null,783]
[784,{"$f":"VLOOKUP(A787,[2]SkillConfig!$E:$G,3,FALSE)","v":"占位"},"技能描述",null,784]
[785,{"$f":"VLOOKUP(A788,[2]SkillConfig!$E:$G,3,FALSE)","v":"占位"},"技能描述",null,785]
[786,{"$f":"VLOOKUP(A789,[2]SkillConfig!$E:$G,3,FALSE)","v":"占位"},"技能描述",null,786]
[787,{"$f":"VLOOKUP(A790,[2]SkillConfig!$E:$G,3,FALSE)","v":"发射{0}枚冰刀，对敌人造成{1}%伤害。"},"技能描述",null,787]
[788,{"$f":"VLOOKUP(A791,[2]SkillConfig!$E:$G,3,FALSE)","v":"发射{0}枚冰刀，对敌人造成{1}%伤害。"},"技能描述",null,788]
[789,{"$f":"VLOOKUP(A792,[2]SkillConfig!$E:$G,3,FALSE)","v":"发射{0}枚冰刀，对敌人造成{1}%伤害。"},"技能描述",null,789]
[790,{"$f":"VLOOKUP(A793,[2]SkillConfig!$E:$G,3,FALSE)","v":"发射{0}枚冰刀，对敌人造成{1}%伤害。"},"技能描述",null,790]
[791,{"$f":"VLOOKUP(A794,[2]SkillConfig!$E:$G,3,FALSE)","v":"发射{0}枚冰刀，对敌人造成{1}%伤害。"},"技能描述",null,791]
[792,{"$f":"VLOOKUP(A795,[2]SkillConfig!$E:$G,3,FALSE)","v":"发射{0}枚冰刀，对敌人造成{1}%伤害。"},"技能描述",null,792]
[793,{"$f":"VLOOKUP(A796,[2]SkillConfig!$E:$G,3,FALSE)","v":"发出{0}条细细的毒针，每颗针对敌人照成{1}%金系伤害，每颗针有{2}%概率施加1层毒"},"技能描述",null,793]
[794,{"$f":"VLOOKUP(A797,[2]SkillConfig!$E:$G,3,FALSE)","v":"发出{0}条细细的毒针，每颗针对敌人照成{1}%金系伤害，每颗针有{2}%概率施加1层毒"},"技能描述",null,794]
[795,{"$f":"VLOOKUP(A798,[2]SkillConfig!$E:$G,3,FALSE)","v":"发出{0}条细细的毒针，每颗针对敌人照成{1}%金系伤害，每颗针有{2}%概率施加1层毒"},"技能描述",null,795]
[796,{"$f":"VLOOKUP(A799,[2]SkillConfig!$E:$G,3,FALSE)","v":"发出{0}条细细的毒针，每颗针对敌人照成{1}%金系伤害，每颗针有{2}%概率施加1层毒"},"技能描述",null,796]
[797,{"$f":"VLOOKUP(A800,[2]SkillConfig!$E:$G,3,FALSE)","v":"发出{0}条细细的毒针，每颗针对敌人照成{1}%金系伤害，每颗针有{2}%概率施加1层毒"},"技能描述",null,797]
[798,{"$f":"VLOOKUP(A801,[2]SkillConfig!$E:$G,3,FALSE)","v":"发出{0}条细细的毒针，每颗针对敌人照成{1}%金系伤害，每颗针有{2}%概率施加1层毒"},"技能描述",null,798]
[799,{"$f":"VLOOKUP(A802,[2]SkillConfig!$E:$G,3,FALSE)","v":"快手释放{0}掌，对敌人造成{1}%伤害，并有{2}%几率对敌人施加1层毒，如果敌人毒超过{3}层，则每层毒对敌人的伤害提升{4}%，并有{5}%几率施加一层噬魂。"},"技能描述",null,799]
[800,{"$f":"VLOOKUP(A803,[2]SkillConfig!$E:$G,3,FALSE)","v":"快手释放{0}掌，对敌人造成{1}%伤害，并有{2}%几率对敌人施加1层毒，如果敌人毒超过{3}层，则每层毒对敌人的伤害提升{4}%，并有{5}%几率施加一层噬魂。"},"技能描述",null,800]
[801,{"$f":"VLOOKUP(A804,[2]SkillConfig!$E:$G,3,FALSE)","v":"快手释放{0}掌，对敌人造成{1}%伤害，并有{2}%几率对敌人施加1层毒，如果敌人毒超过{3}层，则每层毒对敌人的伤害提升{4}%，并有{5}%几率施加一层噬魂。"},"技能描述",null,801]
[802,{"$f":"VLOOKUP(A805,[2]SkillConfig!$E:$G,3,FALSE)","v":"快手释放{0}掌，对敌人造成{1}%伤害，并有{2}%几率对敌人施加1层毒，如果敌人毒超过{3}层，则每层毒对敌人的伤害提升{4}%，并有{5}%几率施加一层噬魂。"},"技能描述",null,802]
[803,{"$f":"VLOOKUP(A806,[2]SkillConfig!$E:$G,3,FALSE)","v":"快手释放{0}掌，对敌人造成{1}%伤害，并有{2}%几率对敌人施加1层毒，如果敌人毒超过{3}层，则每层毒对敌人的伤害提升{4}%，并有{5}%几率施加一层噬魂。"},"技能描述",null,803]
[804,{"$f":"VLOOKUP(A807,[2]SkillConfig!$E:$G,3,FALSE)","v":"快手释放{0}掌，对敌人造成{1}%伤害，并有{2}%几率对敌人施加1层毒，如果敌人毒超过{3}层，则每层毒对敌人的伤害提升{4}%，并有{5}%几率施加一层噬魂。"},"技能描述",null,804]
[805,{"$f":"VLOOKUP(A808,[2]SkillConfig!$E:$G,3,FALSE)","v":"占位"},"技能描述",null,805]
[806,{"$f":"VLOOKUP(A809,[2]SkillConfig!$E:$G,3,FALSE)","v":"占位"},"技能描述",null,806]
[807,{"$f":"VLOOKUP(A810,[2]SkillConfig!$E:$G,3,FALSE)","v":"占位"},"技能描述",null,807]
[808,{"$f":"VLOOKUP(A811,[2]SkillConfig!$E:$G,3,FALSE)","v":"占位"},"技能描述",null,808]
[809,{"$f":"VLOOKUP(A812,[2]SkillConfig!$E:$G,3,FALSE)","v":"占位"},"技能描述",null,809]
[810,{"$f":"VLOOKUP(A813,[2]SkillConfig!$E:$G,3,FALSE)","v":"占位"},"技能描述",null,810]
[811,{"$f":"VLOOKUP(A814,[2]SkillConfig!$E:$G,3,FALSE)","v":"发射{0}枚飞叶，对敌人造成{1}%伤害。"},"技能描述",null,811]
[812,{"$f":"VLOOKUP(A815,[2]SkillConfig!$E:$G,3,FALSE)","v":"发射{0}枚飞叶，对敌人造成{1}%伤害。"},"技能描述",null,812]
[813,{"$f":"VLOOKUP(A816,[2]SkillConfig!$E:$G,3,FALSE)","v":"发射{0}枚飞叶，对敌人造成{1}%伤害。"},"技能描述",null,813]
[814,{"$f":"VLOOKUP(A817,[2]SkillConfig!$E:$G,3,FALSE)","v":"发射{0}枚飞叶，对敌人造成{1}%伤害。"},"技能描述",null,814]
[815,{"$f":"VLOOKUP(A818,[2]SkillConfig!$E:$G,3,FALSE)","v":"发射{0}枚飞叶，对敌人造成{1}%伤害。"},"技能描述",null,815]
[816,{"$f":"VLOOKUP(A819,[2]SkillConfig!$E:$G,3,FALSE)","v":"发射{0}枚飞叶，对敌人造成{1}%伤害。"},"技能描述",null,816]
[817,{"$f":"VLOOKUP(A820,[2]SkillConfig!$E:$G,3,FALSE)","v":"向前方发出{0}柄剑，对敌人造成{1}%火系伤害，并有{2}%的概率施加1层灼烧。"},"技能描述",null,817]
[818,{"$f":"VLOOKUP(A821,[2]SkillConfig!$E:$G,3,FALSE)","v":"向前方发出{0}柄剑，对敌人造成{1}%火系伤害，并有{2}%的概率施加1层灼烧。"},"技能描述",null,818]
[819,{"$f":"VLOOKUP(A822,[2]SkillConfig!$E:$G,3,FALSE)","v":"向前方发出{0}柄剑，对敌人造成{1}%火系伤害，并有{2}%的概率施加1层灼烧。"},"技能描述",null,819]
[820,{"$f":"VLOOKUP(A823,[2]SkillConfig!$E:$G,3,FALSE)","v":"向前方发出{0}柄剑，对敌人造成{1}%火系伤害，并有{2}%的概率施加1层灼烧。"},"技能描述",null,820]
[821,{"$f":"VLOOKUP(A824,[2]SkillConfig!$E:$G,3,FALSE)","v":"向前方发出{0}柄剑，对敌人造成{1}%火系伤害，并有{2}%的概率施加1层灼烧。"},"技能描述",null,821]
[822,{"$f":"VLOOKUP(A825,[2]SkillConfig!$E:$G,3,FALSE)","v":"向前方发出{0}柄剑，对敌人造成{1}%火系伤害，并有{2}%的概率施加1层灼烧。\n每柄烈焰剑将会对敌人照成爆燃，爆燃额外受到{3}%伤害"},"技能描述",null,822]
[823,{"$f":"VLOOKUP(A826,[2]SkillConfig!$E:$G,3,FALSE)","v":"飞出{0}道巨龙，对敌人造成{1}火系伤害。"},"技能描述",null,823]
[824,{"$f":"VLOOKUP(A827,[2]SkillConfig!$E:$G,3,FALSE)","v":"飞出{0}道巨龙，对敌人造成{1}火系伤害。\n如果敌人处于灼烧中对其造成胆摄，眩晕敌人{2}秒。"},"技能描述",null,824]
[825,{"$f":"VLOOKUP(A828,[2]SkillConfig!$E:$G,3,FALSE)","v":"飞出{0}道巨龙，对敌人造成{1}火系伤害。\n如果敌人处于灼烧中对其造成胆摄，眩晕敌人{2}秒。"},"技能描述",null,825]
[826,{"$f":"VLOOKUP(A829,[2]SkillConfig!$E:$G,3,FALSE)","v":"飞出{0}道巨龙，对敌人造成{1}火系伤害并{3}%施加1层灼烧。\n如果敌人处于灼烧中对其造成胆摄，眩晕敌人{2}秒。"},"技能描述",null,826]
[827,{"$f":"VLOOKUP(A830,[2]SkillConfig!$E:$G,3,FALSE)","v":"飞出{0}道巨龙，对敌人造成{1}火系伤害并{3}%施加1层灼烧。\n如果敌人处于灼烧中对其造成胆摄，眩晕敌人{2}秒。"},"技能描述",null,827]
[828,{"$f":"VLOOKUP(A831,[2]SkillConfig!$E:$G,3,FALSE)","v":"飞出{0}道巨龙，对敌人造成{1}火系伤害并{3}%施加1层灼烧。\n如果敌人处于灼烧中对其造成胆摄，眩晕敌人{2}秒。\n飞龙命中目标后引发天雷，对敌人额外造成{4}%伤害。"},"技能描述",null,828]
[829,{"$f":"VLOOKUP(A832,[2]SkillConfig!$E:$G,3,FALSE)","v":"身后出现一只大手，每个手指发射{0}道烈焰，对敌人照成{1}伤害同时{2}%概率施加1层灼烧。"},"技能描述",null,829]
[830,{"$f":"VLOOKUP(A833,[2]SkillConfig!$E:$G,3,FALSE)","v":"身后出现一只大手，每个手指发射{0}道烈焰，对敌人照成{1}伤害同时{2}%概率施加1层灼烧。\n对有灼烧的敌人额外造成{3}%最终伤害。"},"技能描述",null,830]
[831,{"$f":"VLOOKUP(A834,[2]SkillConfig!$E:$G,3,FALSE)","v":"身后出现一只大手，每个手指发射{0}道烈焰，对敌人照成{1}伤害同时{2}%概率施加1层灼烧。\n对有灼烧的敌人额外造成{3}%最终伤害。"},"技能描述",null,831]
[832,{"$f":"VLOOKUP(A835,[2]SkillConfig!$E:$G,3,FALSE)","v":"身后出现一只大手，每个手指发射{0}道烈焰，对敌人照成{1}伤害同时{2}%概率施加1层灼烧。\n对有灼烧的敌人额外造成{3}%最终伤害。"},"技能描述",null,832]
[833,{"$f":"VLOOKUP(A836,[2]SkillConfig!$E:$G,3,FALSE)","v":"身后出现一只大手，每个手指发射{0}道烈焰，对敌人照成{1}伤害同时{2}%概率施加1层灼烧。\n对有灼烧的敌人额外造成{3}%最终伤害。"},"技能描述",null,833]
[834,{"$f":"VLOOKUP(A837,[2]SkillConfig!$E:$G,3,FALSE)","v":"身后出现一只大手，每个手指发射{0}道烈焰，对敌人照成{1}伤害同时{2}%概率施加1层灼烧。\n对有灼烧的敌人额外造成{3}%最终伤害。\n在左右各出现一只大手发射烈焰，但每道烈焰伤害降低{4}%。"},"技能描述",null,{"$f":"A837","v":834}]
[835,{"$f":"VLOOKUP(A838,[2]SkillConfig!$E:$G,3,FALSE)","v":"发射{0}枚火球，对敌人造成{1}%伤害。又{2}概率对敌人施加1成灼烧"},"技能描述",null,835]
[836,{"$f":"VLOOKUP(A839,[2]SkillConfig!$E:$G,3,FALSE)","v":"发射{0}枚火球，对敌人造成{1}%伤害。又{2}概率对敌人施加1成灼烧"},"技能描述",null,836]
[837,{"$f":"VLOOKUP(A840,[2]SkillConfig!$E:$G,3,FALSE)","v":"发射{0}枚火球，对敌人造成{1}%伤害。又{2}概率对敌人施加1成灼烧"},"技能描述",null,837]
[838,{"$f":"VLOOKUP(A841,[2]SkillConfig!$E:$G,3,FALSE)","v":"发射{0}枚火球，对敌人造成{1}%伤害。又{2}概率对敌人施加1成灼烧"},"技能描述",null,838]
[839,{"$f":"VLOOKUP(A842,[2]SkillConfig!$E:$G,3,FALSE)","v":"发射{0}枚火球，对敌人造成{1}%伤害。又{2}概率对敌人施加1成灼烧"},"技能描述",null,839]
[840,{"$f":"VLOOKUP(A843,[2]SkillConfig!$E:$G,3,FALSE)","v":"发射{0}枚火球，对敌人造成{1}%伤害。又{2}概率对敌人施加1成灼烧"},"技能描述",null,840]
[841,{"$f":"VLOOKUP(A844,[2]SkillConfig!$E:$G,3,FALSE)","v":"发射{0}枚火刃，对敌人造成{1}%伤害。"},"技能描述",null,841]
[842,{"$f":"VLOOKUP(A845,[2]SkillConfig!$E:$G,3,FALSE)","v":"发射{0}枚火刃，对敌人造成{1}%伤害。"},"技能描述",null,842]
[843,{"$f":"VLOOKUP(A846,[2]SkillConfig!$E:$G,3,FALSE)","v":"发射{0}枚火刃，对敌人造成{1}%伤害。"},"技能描述",null,843]
[844,{"$f":"VLOOKUP(A847,[2]SkillConfig!$E:$G,3,FALSE)","v":"发射{0}枚火刃，对敌人造成{1}%伤害。"},"技能描述",null,844]
[845,{"$f":"VLOOKUP(A848,[2]SkillConfig!$E:$G,3,FALSE)","v":"发射{0}枚火刃，对敌人造成{1}%伤害。"},"技能描述",null,845]
[846,{"$f":"VLOOKUP(A849,[2]SkillConfig!$E:$G,3,FALSE)","v":"发射{0}枚火刃，对敌人造成{1}%伤害。"},"技能描述",null,846]
[847,{"$f":"VLOOKUP(A850,[2]SkillConfig!$E:$G,3,FALSE)","v":"沙尘汇聚成{0}枚土刺，对敌人造成{1}%伤害，并有{2}%概率施加1层细尘。"},"技能描述",null,847]
[848,{"$f":"VLOOKUP(A851,[2]SkillConfig!$E:$G,3,FALSE)","v":"沙尘汇聚成{0}枚土刺，对敌人造成{1}%伤害，并有{2}%概率施加1层细尘。"},"技能描述",null,848]
[849,{"$f":"VLOOKUP(A852,[2]SkillConfig!$E:$G,3,FALSE)","v":"沙尘汇聚成{0}枚土刺，对敌人造成{1}%伤害，并有{2}%概率施加1层细尘。"},"技能描述",null,849]
[850,{"$f":"VLOOKUP(A853,[2]SkillConfig!$E:$G,3,FALSE)","v":"沙尘汇聚成{0}枚土刺，对敌人造成{1}%伤害，并有{2}%概率施加1层细尘。"},"技能描述",null,850]
[851,{"$f":"VLOOKUP(A854,[2]SkillConfig!$E:$G,3,FALSE)","v":"沙尘汇聚成{0}枚土刺，对敌人造成{1}%伤害，并有{2}%概率施加1层细尘。"},"技能描述",null,851]
[852,{"$f":"VLOOKUP(A855,[2]SkillConfig!$E:$G,3,FALSE)","v":"沙尘汇聚成{0}枚土刺，对敌人造成{1}%伤害，并有{2}%概率施加1层细尘。"},"技能描述",null,852]
[853,{"$f":"VLOOKUP(A856,[2]SkillConfig!$E:$G,3,FALSE)","v":"一柄虚空形成的大刀，横空挥砍形成{0}个刀气，对敌人造成{1}%伤害，并有{2}%概率叠加1层破甲"},"技能描述",null,853]
[854,{"$f":"VLOOKUP(A857,[2]SkillConfig!$E:$G,3,FALSE)","v":"一柄虚空形成的大刀，横空挥砍形成{0}个刀气，对敌人造成{1}%伤害，并有{2}%概率叠加1层破甲"},"技能描述",null,854]
[855,{"$f":"VLOOKUP(A858,[2]SkillConfig!$E:$G,3,FALSE)","v":"一柄虚空形成的大刀，横空挥砍形成{0}个刀气，对敌人造成{1}%伤害，并有{2}%概率叠加1层破甲"},"技能描述",null,855]
[856,{"$f":"VLOOKUP(A859,[2]SkillConfig!$E:$G,3,FALSE)","v":"一柄虚空形成的大刀，横空挥砍形成{0}个刀气，对敌人造成{1}%伤害，并有{2}%概率叠加1层破甲"},"技能描述",null,856]
[857,{"$f":"VLOOKUP(A860,[2]SkillConfig!$E:$G,3,FALSE)","v":"一柄虚空形成的大刀，横空挥砍形成{0}个刀气，对敌人造成{1}%伤害，并有{2}%概率叠加1层破甲"},"技能描述",null,857]
[858,{"$f":"VLOOKUP(A861,[2]SkillConfig!$E:$G,3,FALSE)","v":"一柄虚空形成的大刀，横空挥砍形成{0}个刀气，对敌人造成{1}%伤害，并有{2}%概率叠加1层破甲"},"技能描述",null,858]
[859,{"$f":"VLOOKUP(A862,[2]SkillConfig!$E:$G,3,FALSE)","v":"占位"},"技能描述",null,859]
[860,{"$f":"VLOOKUP(A863,[2]SkillConfig!$E:$G,3,FALSE)","v":"占位"},"技能描述",null,860]
[861,{"$f":"VLOOKUP(A864,[2]SkillConfig!$E:$G,3,FALSE)","v":"占位"},"技能描述",null,861]
[862,{"$f":"VLOOKUP(A865,[2]SkillConfig!$E:$G,3,FALSE)","v":"占位"},"技能描述",null,862]
[863,{"$f":"VLOOKUP(A866,[2]SkillConfig!$E:$G,3,FALSE)","v":"占位"},"技能描述",null,863]
[864,{"$f":"VLOOKUP(A867,[2]SkillConfig!$E:$G,3,FALSE)","v":"占位"},"技能描述",null,864]
[865,{"$f":"VLOOKUP(A868,[2]SkillConfig!$E:$G,3,FALSE)","v":"发射{0}枚小石头，对敌人造成{1}%伤害。"},"技能描述",null,865]
[866,{"$f":"VLOOKUP(A869,[2]SkillConfig!$E:$G,3,FALSE)","v":"发射{0}枚小石头，对敌人造成{1}%伤害。"},"技能描述",null,866]
[867,{"$f":"VLOOKUP(A870,[2]SkillConfig!$E:$G,3,FALSE)","v":"发射{0}枚小石头，对敌人造成{1}%伤害。"},"技能描述",null,867]
[868,{"$f":"VLOOKUP(A871,[2]SkillConfig!$E:$G,3,FALSE)","v":"发射{0}枚小石头，对敌人造成{1}%伤害。"},"技能描述",null,868]
[869,{"$f":"VLOOKUP(A872,[2]SkillConfig!$E:$G,3,FALSE)","v":"发射{0}枚小石头，对敌人造成{1}%伤害。"},"技能描述",null,869]
[870,{"$f":"VLOOKUP(A873,[2]SkillConfig!$E:$G,3,FALSE)","v":"发射{0}枚小石头，对敌人造成{1}%伤害。"},"技能描述",null,870]
[871,{"$f":"VLOOKUP(A874,[2]SkillConfig!$E:$G,3,FALSE)","v":"引星辰之力入体，增强玩家体魄，\n让后方槽位的功法无视防御性护盾（功法法宝带来的防护罩、自身护盾）"},"技能描述",null,871]
[872,{"$f":"VLOOKUP(A875,[2]SkillConfig!$E:$G,3,FALSE)","v":"引星辰之力入体，增强玩家体魄，\n让后方槽位的功法无视防御性护盾（功法法宝带来的防护罩、自身护盾）"},"技能描述",null,872]
[873,{"$f":"VLOOKUP(A876,[2]SkillConfig!$E:$G,3,FALSE)","v":"引星辰之力入体，增强玩家体魄，\n让后方槽位的功法无视防御性护盾（功法法宝带来的防护罩、自身护盾）"},"技能描述",null,873]
[874,{"$f":"VLOOKUP(A877,[2]SkillConfig!$E:$G,3,FALSE)","v":"引星辰之力入体，增强玩家体魄，\n让后方槽位的功法无视防御性护盾（功法法宝带来的防护罩、自身护盾）"},"技能描述",null,874]
[875,{"$f":"VLOOKUP(A878,[2]SkillConfig!$E:$G,3,FALSE)","v":"引星辰之力入体，增强玩家体魄，\n让后方槽位的功法无视防御性护盾（功法法宝带来的防护罩、自身护盾）"},"技能描述",null,875]
[876,{"$f":"VLOOKUP(A879,[2]SkillConfig!$E:$G,3,FALSE)","v":"引星辰之力入体，增强玩家体魄，\n让后方槽位的功法无视防御性护盾（功法法宝带来的防护罩、自身护盾）"},"技能描述",null,876]
[877,{"$f":"VLOOKUP(A880,[2]SkillConfig!$E:$G,3,FALSE)","v":"后方槽位技能在击中目标时，为法宝提供{0}%充能"},"技能描述",null,877]
[878,{"$f":"VLOOKUP(A881,[2]SkillConfig!$E:$G,3,FALSE)","v":"后方槽位技能在击中目标时，为法宝提供{0}%充能"},"技能描述",null,878]
[879,{"$f":"VLOOKUP(A882,[2]SkillConfig!$E:$G,3,FALSE)","v":"后方槽位技能在击中目标时，为法宝提供{0}%充能"},"技能描述",null,879]
[880,{"$f":"VLOOKUP(A883,[2]SkillConfig!$E:$G,3,FALSE)","v":"后方槽位技能在击中目标时，为法宝提供{0}%充能"},"技能描述",null,880]
[881,{"$f":"VLOOKUP(A884,[2]SkillConfig!$E:$G,3,FALSE)","v":"后方槽位技能在击中目标时，为法宝提供{0}%充能"},"技能描述",null,881]
[882,{"$f":"VLOOKUP(A885,[2]SkillConfig!$E:$G,3,FALSE)","v":"后方槽位技能在击中目标时，为法宝提供{0}%充能。\n法宝可以瞬间施放，且规避法宝对拼。"},"技能描述",null,882]
[883,{"$f":"VLOOKUP(A886,[2]SkillConfig!$E:$G,3,FALSE)","v":"前方功法造成伤害时有{0}%概率施加一层对应属性的伤势"},"技能描述",null,883]
[884,{"$f":"VLOOKUP(A887,[2]SkillConfig!$E:$G,3,FALSE)","v":"前方功法造成伤害时有{0}%概率施加一层对应属性的伤势"},"技能描述",null,884]
[885,{"$f":"VLOOKUP(A888,[2]SkillConfig!$E:$G,3,FALSE)","v":"前方功法造成伤害时有{0}%概率施加一层对应属性的伤势"},"技能描述",null,885]
[886,{"$f":"VLOOKUP(A889,[2]SkillConfig!$E:$G,3,FALSE)","v":"前方功法造成伤害时有{0}%概率施加一层对应属性的伤势"},"技能描述",null,886]
[887,{"$f":"VLOOKUP(A890,[2]SkillConfig!$E:$G,3,FALSE)","v":"前方功法造成伤害时有{0}%概率施加一层对应属性的伤势"},"技能描述",null,887]
[888,{"$f":"VLOOKUP(A891,[2]SkillConfig!$E:$G,3,FALSE)","v":"前方功法造成伤害时有{0}%概率施加一层对应属性的伤势"},"技能描述",null,888]
[889,{"$f":"VLOOKUP(A892,[2]SkillConfig!$E:$G,3,FALSE)","v":"前后方法宝如果相生则双生效果增强{0}%"},"技能描述",null,889]
[890,{"$f":"VLOOKUP(A893,[2]SkillConfig!$E:$G,3,FALSE)","v":"前后方法宝如果相生则双生效果增强{0}%"},"技能描述",null,890]
[891,{"$f":"VLOOKUP(A894,[2]SkillConfig!$E:$G,3,FALSE)","v":"前后方法宝如果相生则双生效果增强{0}%"},"技能描述",null,891]
[892,{"$f":"VLOOKUP(A895,[2]SkillConfig!$E:$G,3,FALSE)","v":"前后方法宝如果相生则双生效果增强{0}%"},"技能描述",null,892]
[893,{"$f":"VLOOKUP(A896,[2]SkillConfig!$E:$G,3,FALSE)","v":"前后方法宝如果相生则双生效果增强{0}%"},"技能描述",null,893]
[894,{"$f":"VLOOKUP(A897,[2]SkillConfig!$E:$G,3,FALSE)","v":"前后方法宝如果相生则双生效果增强{0}%。\n前后方法宝如果不相生则双生效果增加{1}%。\n前方后法宝如果相克则双生效果增强{2}%。"},"技能描述",null,894]
[895,{"$f":"VLOOKUP(A898,[2]SkillConfig!$E:$G,3,FALSE)","v":"每层经过火经脉时使火系功法伤害提升{0}%，最多叠加{1}层"},"技能描述",null,895]
[896,{"$f":"VLOOKUP(A899,[2]SkillConfig!$E:$G,3,FALSE)","v":"每层经过火经脉时使火系功法伤害提升{0}%，最多叠加{1}层"},"技能描述",null,896]
[897,{"$f":"VLOOKUP(A900,[2]SkillConfig!$E:$G,3,FALSE)","v":"每层经过火经脉时使火系功法伤害提升{0}%，最多叠加{1}层"},"技能描述",null,897]
[898,{"$f":"VLOOKUP(A901,[2]SkillConfig!$E:$G,3,FALSE)","v":"每层经过火经脉时使火系功法伤害提升{0}%，最多叠加{1}层"},"技能描述",null,{"$f":"A901","v":898}]
[899,{"$f":"VLOOKUP(A902,[2]SkillConfig!$E:$G,3,FALSE)","v":"每层经过火经脉时使火系功法伤害提升{0}%，最多叠加{1}层"},"技能描述",null,899]
[900,{"$f":"VLOOKUP(A903,[2]SkillConfig!$E:$G,3,FALSE)","v":"每层经过火经脉时使火系功法伤害提升{0}%，最多叠加{1}层。\n当达到满层后，任何火系功法命中时都会施加{1}层灼烧。"},"技能描述",null,900]
[901,{"$f":"VLOOKUP(A904,[2]SkillConfig!$E:$G,3,FALSE)","v":"后方槽位第一个技能体型巨大化，且在对碰中强度增加{0}%"},"技能描述",null,901]
[902,{"$f":"VLOOKUP(A905,[2]SkillConfig!$E:$G,3,FALSE)","v":"后方槽位第一个技能体型巨大化，且在对碰中强度增加{0}%"},"技能描述",null,902]
[903,{"$f":"VLOOKUP(A906,[2]SkillConfig!$E:$G,3,FALSE)","v":"后方槽位第一个技能体型巨大化，且在对碰中强度增加{0}%"},"技能描述",null,903]
[904,{"$f":"VLOOKUP(A907,[2]SkillConfig!$E:$G,3,FALSE)","v":"后方槽位第一个技能体型巨大化，且在对碰中强度增加{0}%"},"技能描述",null,904]
[905,{"$f":"VLOOKUP(A908,[2]SkillConfig!$E:$G,3,FALSE)","v":"后方槽位第一个技能体型巨大化，且在对碰中强度增加{0}%"},"技能描述",null,905]
[906,{"$f":"VLOOKUP(A909,[2]SkillConfig!$E:$G,3,FALSE)","v":"后方槽位第一个技能体型巨大化，且在对碰中强度增加{0}%\n巨大化的功法对拼耗尽不再消失，而是恢复{1}%强度"},"技能描述",null,906]
[907,{"$f":"VLOOKUP(A910,[2]SkillConfig!$E:$G,3,FALSE)","v":"后槽位技能在催动时获得转盘加速{0}%,持续{1}秒"},"技能描述",null,907]
[908,{"$f":"VLOOKUP(A911,[2]SkillConfig!$E:$G,3,FALSE)","v":"后槽位技能在催动时获得转盘加速{0}%,持续{1}秒"},"技能描述",null,908]
[909,{"$f":"VLOOKUP(A912,[2]SkillConfig!$E:$G,3,FALSE)","v":"后槽位技能在催动时获得转盘加速{0}%,持续{1}秒"},"技能描述",null,909]
[910,{"$f":"VLOOKUP(A913,[2]SkillConfig!$E:$G,3,FALSE)","v":"后槽位技能在催动时获得转盘加速{0}%,持续{1}秒"},"技能描述",null,910]
[911,{"$f":"VLOOKUP(A914,[2]SkillConfig!$E:$G,3,FALSE)","v":"后槽位技能在催动时获得转盘加速{0}%,持续{1}秒"},"技能描述",null,911]
[912,{"$f":"VLOOKUP(A915,[2]SkillConfig!$E:$G,3,FALSE)","v":"后槽位技能在催动时获得转盘加速{0}%,持续{1}秒\n加速期间，伤害提升{1}%"},"技能描述",null,912]
[913,{"$f":"VLOOKUP(A916,[2]SkillConfig!$E:$G,3,FALSE)","v":"后方槽位如果是剑功法，在释放功法时额外释放{0}道剑气，对敌人造成{1}%伤害，并无视护盾类效果"},"技能描述",null,913]
[914,{"$f":"VLOOKUP(A917,[2]SkillConfig!$E:$G,3,FALSE)","v":"后方槽位如果是剑功法，在释放功法时额外释放{0}道剑气，对敌人造成{1}%伤害，并无视护盾类效果"},"技能描述",null,914]
[915,{"$f":"VLOOKUP(A918,[2]SkillConfig!$E:$G,3,FALSE)","v":"后方槽位如果是剑功法，在释放功法时额外释放{0}道剑气，对敌人造成{1}%伤害，并无视护盾类效果"},"技能描述",null,915]
[916,{"$f":"VLOOKUP(A919,[2]SkillConfig!$E:$G,3,FALSE)","v":"后方槽位如果是剑功法，在释放功法时额外释放{0}道剑气，对敌人造成{1}%伤害，并无视护盾类效果"},"技能描述",null,916]
[917,{"$f":"VLOOKUP(A920,[2]SkillConfig!$E:$G,3,FALSE)","v":"后方槽位如果是剑功法，在释放功法时额外释放{0}道剑气，对敌人造成{1}%伤害，并无视护盾类效果"},"技能描述",null,917]
[918,{"$f":"VLOOKUP(A921,[2]SkillConfig!$E:$G,3,FALSE)","v":"前方和后方槽位如果是剑功法，在释放功法时额外释放{0}道剑气，对敌人造成{0}%伤害，并无视护盾类效果\n该剑气会对敌人施加{2}层流血"},"技能描述",null,918]
[919,{"$f":"VLOOKUP(A922,[2]SkillConfig!$E:$G,3,FALSE)","v":"对敌人照成伤害，使敌人五行混乱。敌人的功法每次使用功法都将使用最低灵根属性作为伤害计算，持续{0}秒"},"技能描述",null,919]
[920,{"$f":"VLOOKUP(A923,[2]SkillConfig!$E:$G,3,FALSE)","v":"对敌人照成伤害，使敌人五行混乱。敌人的功法每次使用功法都将使用最低灵根属性作为伤害计算，持续{0}秒"},"技能描述",null,920]
[921,{"$f":"VLOOKUP(A924,[2]SkillConfig!$E:$G,3,FALSE)","v":"对敌人照成伤害，使敌人五行混乱。敌人的功法每次使用功法都将使用最低灵根属性作为伤害计算，持续{0}秒"},"技能描述",null,921]
[922,{"$f":"VLOOKUP(A925,[2]SkillConfig!$E:$G,3,FALSE)","v":"对敌人照成伤害，使敌人五行混乱。敌人的功法每次使用功法都将使用最低灵根属性作为伤害计算，持续{0}秒"},"技能描述",null,922]
[923,{"$f":"VLOOKUP(A926,[2]SkillConfig!$E:$G,3,FALSE)","v":"对敌人照成伤害，使敌人五行混乱。敌人的功法每次使用功法都将使用最低灵根属性作为伤害计算，持续{0}秒"},"技能描述",null,923]
[924,{"$f":"VLOOKUP(A927,[2]SkillConfig!$E:$G,3,FALSE)","v":"对敌人照成伤害，使敌人五行混乱。敌人的功法每次使用功法都将使用最低灵根属性作为伤害计算，持续{0}秒\n神农鼎生效期间，使敌人的所有灵根降低{1}%。"},"技能描述",null,924]
[925,{"$f":"VLOOKUP(A928,[2]SkillConfig!$E:$G,3,FALSE)","v":"无视敌人灵根，对敌人造成大量伤害，同时让五行伤势+1"},"技能描述",null,925]
[926,{"$f":"VLOOKUP(A929,[2]SkillConfig!$E:$G,3,FALSE)","v":"无视敌人灵根，对敌人造成大量伤害，同时让五行伤势+1"},"技能描述",null,926]
[927,{"$f":"VLOOKUP(A930,[2]SkillConfig!$E:$G,3,FALSE)","v":"无视敌人灵根，对敌人造成大量伤害，同时让五行伤势+1"},"技能描述",null,927]
[928,{"$f":"VLOOKUP(A931,[2]SkillConfig!$E:$G,3,FALSE)","v":"无视敌人灵根，对敌人造成大量伤害，同时让五行伤势+1"},"技能描述",null,928]
[929,{"$f":"VLOOKUP(A932,[2]SkillConfig!$E:$G,3,FALSE)","v":"无视敌人灵根，对敌人造成大量伤害，同时让五行伤势+1"},"技能描述",null,929]
[930,{"$f":"VLOOKUP(A933,[2]SkillConfig!$E:$G,3,FALSE)","v":"无视敌人灵根，对敌人造成大量伤害，同时让五行伤势+1"},"技能描述",null,930]
[931,{"$f":"VLOOKUP(A934,[2]SkillConfig!$E:$G,3,FALSE)","v":"战场区域形成一个域。敌人的功法弹道进入域后将降低敌人{0}%的功法弹道速度，持续{1}秒"},"技能描述",null,931]
[932,{"$f":"VLOOKUP(A935,[2]SkillConfig!$E:$G,3,FALSE)","v":"战场区域形成一个域。敌人的功法弹道进入域后将降低敌人{0}%的功法弹道速度，持续{1}秒"},"技能描述",null,932]
[933,{"$f":"VLOOKUP(A936,[2]SkillConfig!$E:$G,3,FALSE)","v":"战场区域形成一个域。敌人的功法弹道进入域后将降低敌人{0}%的功法弹道速度，持续{1}秒"},"技能描述",null,933]
[934,{"$f":"VLOOKUP(A937,[2]SkillConfig!$E:$G,3,FALSE)","v":"战场区域形成一个域。敌人的功法弹道进入域后将降低敌人{0}%的功法弹道速度，持续{1}秒"},"技能描述",null,934]
[935,{"$f":"VLOOKUP(A938,[2]SkillConfig!$E:$G,3,FALSE)","v":"战场区域形成一个域。敌人的功法弹道进入域后将降低敌人{0}%的功法弹道速度，持续{1}秒"},"技能描述",null,935]
[936,{"$f":"VLOOKUP(A939,[2]SkillConfig!$E:$G,3,FALSE)","v":"战场区域形成一个域。敌人的功法弹道进入域后将降低敌人{0}%的功法弹道速度，持续{1}秒\n受影响的敌方功法强度降低{2}%"},"技能描述",null,936]
[937,{"$f":"VLOOKUP(A940,[2]SkillConfig!$E:$G,3,FALSE)","v":"用后{2}秒内大幅提升所有灵根{0}%，一场战斗可使用{1}次"},"技能描述",null,937]
[938,{"$f":"VLOOKUP(A941,[2]SkillConfig!$E:$G,3,FALSE)","v":"用后{2}秒内大幅提升所有灵根{0}%，一场战斗可使用{1}次"},"技能描述",null,938]
[939,{"$f":"VLOOKUP(A942,[2]SkillConfig!$E:$G,3,FALSE)","v":"用后{2}秒内大幅提升所有灵根{0}%，一场战斗可使用{1}次"},"技能描述",null,939]
[940,{"$f":"VLOOKUP(A943,[2]SkillConfig!$E:$G,3,FALSE)","v":"用后{2}秒内大幅提升所有灵根{0}%，一场战斗可使用{1}次"},"技能描述",null,940]
[941,{"$f":"VLOOKUP(A944,[2]SkillConfig!$E:$G,3,FALSE)","v":"用后{2}秒内大幅提升所有灵根{0}%，一场战斗可使用{1}次"},"技能描述",null,941]
[942,{"$f":"VLOOKUP(A945,[2]SkillConfig!$E:$G,3,FALSE)","v":"用后{2}秒内大幅提升所有灵根{0}%，一场战斗可使用{1}次\n混沌珠生效期间，己方所有功法额外增伤{3}%"},"技能描述",null,942]
[943,{"$f":"VLOOKUP(A946,[2]SkillConfig!$E:$G,3,FALSE)","v":"对敌人照成水系伤害，封锁敌人筋脉随机{0}个格子流动{1}秒"},"技能描述",null,943]
[944,{"$f":"VLOOKUP(A947,[2]SkillConfig!$E:$G,3,FALSE)","v":"对敌人照成水系伤害，封锁敌人筋脉随机{0}个格子流动{1}秒"},"技能描述",null,944]
[945,{"$f":"VLOOKUP(A948,[2]SkillConfig!$E:$G,3,FALSE)","v":"对敌人照成水系伤害，封锁敌人筋脉随机{0}个格子流动{1}秒"},"技能描述",null,945]
[946,{"$f":"VLOOKUP(A949,[2]SkillConfig!$E:$G,3,FALSE)","v":"对敌人照成水系伤害，封锁敌人筋脉随机{0}个格子流动{1}秒"},"技能描述",null,946]
[947,{"$f":"VLOOKUP(A950,[2]SkillConfig!$E:$G,3,FALSE)","v":"对敌人照成水系伤害，封锁敌人筋脉随机{0}个格子流动{1}秒"},"技能描述",null,947]
[948,{"$f":"VLOOKUP(A951,[2]SkillConfig!$E:$G,3,FALSE)","v":"对敌人照成水系伤害，封锁敌人筋脉随机{0}个格子流动{1}秒"},"技能描述",null,948]
[949,{"$f":"VLOOKUP(A952,[2]SkillConfig!$E:$G,3,FALSE)","v":"对敌人造成{2}%伤害，并随机封锁敌人{0}个法宝，让其{1}秒内不能使用"},"技能描述",null,949]
[950,{"$f":"VLOOKUP(A953,[2]SkillConfig!$E:$G,3,FALSE)","v":"对敌人造成{2}%伤害，并随机封锁敌人{0}个法宝，让其{1}秒内不能使用"},"技能描述",null,950]
[951,{"$f":"VLOOKUP(A954,[2]SkillConfig!$E:$G,3,FALSE)","v":"对敌人造成{2}%伤害，并随机封锁敌人{0}个法宝，让其{1}秒内不能使用"},"技能描述",null,951]
[952,{"$f":"VLOOKUP(A955,[2]SkillConfig!$E:$G,3,FALSE)","v":"对敌人造成{2}%伤害，并随机封锁敌人{0}个法宝，让其{1}秒内不能使用\n如果影响的法宝是相生法宝，则使其充能时间延长{3}%直至战斗结束"},"技能描述",null,952]
[953,{"$f":"VLOOKUP(A956,[2]SkillConfig!$E:$G,3,FALSE)","v":"对敌人造成{2}%伤害，并随机封锁敌人{0}个法宝，让其{1}秒内不能使用\n如果影响的法宝是相生法宝，则使其充能时间延长{3}%直至战斗结束"},"技能描述",null,953]
[954,{"$f":"VLOOKUP(A957,[2]SkillConfig!$E:$G,3,FALSE)","v":"对敌人造成{2}%伤害，并随机封锁敌人{0}个法宝，让其{1}秒内不能使用\n如果影响的法宝是相生法宝，则使其充能时间延长{3}%直至战斗结束"},"技能描述",null,954]
[955,{"$f":"VLOOKUP(A958,[2]SkillConfig!$E:$G,3,FALSE)","v":"一盏明灯围绕玩家，{0}秒内抵消所有负面效果，每{1}秒触发1次。"},"技能描述",null,955]
[956,{"$f":"VLOOKUP(A959,[2]SkillConfig!$E:$G,3,FALSE)","v":"一盏明灯围绕玩家，{0}秒内抵消所有负面效果，每{1}秒触发1次。"},"技能描述",null,956]
[957,{"$f":"VLOOKUP(A960,[2]SkillConfig!$E:$G,3,FALSE)","v":"一盏明灯围绕玩家，{0}秒内抵消所有负面效果，每{1}秒触发1次。"},"技能描述",null,957]
[958,{"$f":"VLOOKUP(A961,[2]SkillConfig!$E:$G,3,FALSE)","v":"一盏明灯围绕玩家，{0}秒内抵消所有负面效果，每{1}秒触发1次。"},"技能描述",null,958]
[959,{"$f":"VLOOKUP(A962,[2]SkillConfig!$E:$G,3,FALSE)","v":"一盏明灯围绕玩家，{0}秒内抵消所有负面效果，每{1}秒触发1次。"},"技能描述",null,959]
[960,{"$f":"VLOOKUP(A963,[2]SkillConfig!$E:$G,3,FALSE)","v":"一盏明灯围绕玩家，{0}秒内抵消所有负面效果，每{1}秒触发1次。"},"技能描述",null,960]
[961,{"$f":"VLOOKUP(A964,[2]SkillConfig!$E:$G,3,FALSE)","v":"宝塔在英雄的头顶前往位置旋转，形成一个扇形区域，敌人的功法如果进入这个扇形区域有{0}%概率被法宝吸收，持续{1}秒"},"技能描述",null,961]
[962,{"$f":"VLOOKUP(A965,[2]SkillConfig!$E:$G,3,FALSE)","v":"宝塔在英雄的头顶前往位置旋转，形成一个扇形区域，敌人的功法如果进入这个扇形区域有{0}%概率被法宝吸收，持续{1}秒"},"技能描述",null,{"$f":"A965","v":962}]
[963,{"$f":"VLOOKUP(A966,[2]SkillConfig!$E:$G,3,FALSE)","v":"宝塔在英雄的头顶前往位置旋转，形成一个扇形区域，敌人的功法如果进入这个扇形区域有{0}%概率被法宝吸收，持续{1}秒"},"技能描述",null,963]
[964,{"$f":"VLOOKUP(A967,[2]SkillConfig!$E:$G,3,FALSE)","v":"宝塔在英雄的头顶前往位置旋转，形成一个扇形区域，敌人的功法如果进入这个扇形区域有{0}%概率被法宝吸收，持续{1}秒"},"技能描述",null,964]
[965,{"$f":"VLOOKUP(A968,[2]SkillConfig!$E:$G,3,FALSE)","v":"宝塔在英雄的头顶前往位置旋转，形成一个扇形区域，敌人的功法如果进入这个扇形区域有{0}%概率被法宝吸收，持续{1}秒"},"技能描述",null,965]
[966,{"$f":"VLOOKUP(A969,[2]SkillConfig!$E:$G,3,FALSE)","v":"宝塔在英雄的头顶前往位置旋转，形成一个扇形区域，敌人的功法如果进入这个扇形区域有{0}%概率被法宝吸收，持续{1}秒\n敌方功法被吸收后，己方英雄临时增加{2}点对应五行灵根，持续{3}秒"},"技能描述",null,966]
[967,{"$f":"VLOOKUP(A970,[2]SkillConfig!$E:$G,3,FALSE)","v":"打断对手当前正在生效中的法宝"},"技能描述",null,967]
[968,{"$f":"VLOOKUP(A971,[2]SkillConfig!$E:$G,3,FALSE)","v":"打断对手当前正在生效中的法宝\n可以打断准备生效中的法宝，且避免己方法宝进入对拼状态，持续{0}秒"},"技能描述",null,968]
[969,{"$f":"VLOOKUP(A972,[2]SkillConfig!$E:$G,3,FALSE)","v":"打断对手当前正在生效中的法宝\n可以打断准备生效中的法宝，且避免己方法宝进入对拼状态，持续{0}秒"},"技能描述",null,969]
[970,{"$f":"VLOOKUP(A973,[2]SkillConfig!$E:$G,3,FALSE)","v":"打断对手当前正在生效中的法宝\n可以打断准备生效中的法宝，且避免己方法宝进入对拼状态，持续{0}秒"},"技能描述",null,970]
[971,{"$f":"VLOOKUP(A974,[2]SkillConfig!$E:$G,3,FALSE)","v":"打断对手当前正在生效中的法宝\n可以打断准备生效中的法宝，且避免己方法宝进入对拼状态，持续{0}秒"},"技能描述",null,971]
[972,{"$f":"VLOOKUP(A975,[2]SkillConfig!$E:$G,3,FALSE)","v":"打断对手当前正在生效中的法宝\n可以打断准备生效中的法宝，且避免己方法宝进入对拼状态，持续{0}秒\n每打断一次法宝，使禁元珠的冷却时间缩减{1}%，最多{2}次"},"技能描述",null,972]
[973,{"$f":"VLOOKUP(A976,[2]SkillConfig!$E:$G,3,FALSE)","v":"前方形成土系防御盾，抵挡相当于自身生命上限{0}%的伤害，持续{1}秒"},"技能描述",null,973]
[974,{"$f":"VLOOKUP(A977,[2]SkillConfig!$E:$G,3,FALSE)","v":"前方形成土系防御盾，抵挡相当于自身生命上限{0}%的伤害，持续{1}秒"},"技能描述",null,974]
[975,{"$f":"VLOOKUP(A978,[2]SkillConfig!$E:$G,3,FALSE)","v":"前方形成土系防御盾，抵挡相当于自身生命上限{0}%的伤害，持续{1}秒"},"技能描述",null,975]
[976,{"$f":"VLOOKUP(A979,[2]SkillConfig!$E:$G,3,FALSE)","v":"前方形成土系防御盾，抵挡相当于自身生命上限{0}%的伤害，持续{1}秒"},"技能描述",null,976]
[977,{"$f":"VLOOKUP(A980,[2]SkillConfig!$E:$G,3,FALSE)","v":"前方形成土系防御盾，抵挡相当于自身生命上限{0}%的伤害，持续{1}秒"},"技能描述",null,977]
[978,{"$f":"VLOOKUP(A981,[2]SkillConfig!$E:$G,3,FALSE)","v":"前方形成土系防御盾，抵挡相当于自身生命上限{0}%的伤害，持续{1}秒"},"技能描述",null,978]
[979,{"$f":"VLOOKUP(A982,[2]SkillConfig!$E:$G,3,FALSE)","v":"对敌人照成土属性伤害，并封锁敌人土系经络6秒"},"技能描述",null,979]
[980,{"$f":"VLOOKUP(A983,[2]SkillConfig!$E:$G,3,FALSE)","v":"对敌人照成土属性伤害，并封锁敌人土系经络6秒"},"技能描述",null,980]
[981,{"$f":"VLOOKUP(A984,[2]SkillConfig!$E:$G,3,FALSE)","v":"对敌人照成土属性伤害，并封锁敌人土系经络6秒"},"技能描述",null,981]
[982,{"$f":"VLOOKUP(A985,[2]SkillConfig!$E:$G,3,FALSE)","v":"对敌人照成土属性伤害，并封锁敌人土系经络6秒"},"技能描述",null,982]
[983,{"$f":"VLOOKUP(A986,[2]SkillConfig!$E:$G,3,FALSE)","v":"对敌人照成土属性伤害，并封锁敌人土系经络6秒"},"技能描述",null,983]
[984,{"$f":"VLOOKUP(A987,[2]SkillConfig!$E:$G,3,FALSE)","v":"对敌人照成土属性伤害，并封锁敌人土系经络6秒"},"技能描述",null,984]
[985,"技能描述占位，勿占","技能描述",null,985]
[986,"技能描述占位，勿占","技能描述",null,986]
[987,"技能描述占位，勿占","技能描述",null,987]
[988,"技能描述占位，勿占","技能描述",null,988]
[989,"技能描述占位，勿占","技能描述",null,989]
[990,"技能描述占位，勿占","技能描述",null,990]
[991,"技能描述占位，勿占","技能描述",null,991]
[992,"技能描述占位，勿占","技能描述",null,992]
[993,"技能描述占位，勿占","技能描述",null,993]
[994,"技能描述占位，勿占","技能描述",null,994]
[995,"技能描述占位，勿占","技能描述",null,995]
[996,"技能描述占位，勿占","技能描述",null,996]
[997,"技能描述占位，勿占","技能描述",null,997]
[998,"技能描述占位，勿占","技能描述",null,998]
[999,"技能描述占位，勿占","技能描述",null,999]
[1000,"技能描述占位，勿占","技能描述",null,1000]
[1001,"技能描述占位，勿占","技能描述",null,1001]
[1002,"技能描述占位，勿占","技能描述",null,1002]
[1003,"技能描述占位，勿占","技能描述",null,1003]
[1004,"技能描述占位，勿占","技能描述",null,1004]
[1005,"技能描述占位，勿占","技能描述",null,1005]
[1006,"技能描述占位，勿占","技能描述",null,1006]
[1007,"技能描述占位，勿占","技能描述",null,1007]
[1008,"技能描述占位，勿占","技能描述",null,1008]
[1009,"技能描述占位，勿占","技能描述",null,1009]
[1010,"技能描述占位，勿占","技能描述",null,1010]
[1011,"技能描述占位，勿占","技能描述",null,1011]
[1012,"技能描述占位，勿占","技能描述",null,1012]
[1013,"技能描述占位，勿占","技能描述",null,1013]
[1014,"技能描述占位，勿占","技能描述",null,1014]
[1015,"技能描述占位，勿占","技能描述",null,1015]
[1016,"技能描述占位，勿占","技能描述",null,1016]
[1017,"技能描述占位，勿占","技能描述",null,1017]
[1018,"技能描述占位，勿占","技能描述",null,1018]
[1019,"技能描述占位，勿占","技能描述",null,1019]
[1020,"技能描述占位，勿占","技能描述",null,1020]
[1021,"技能描述占位，勿占","技能描述",null,1021]
[1022,"技能描述占位，勿占","技能描述",null,1022]
[1023,"技能描述占位，勿占","技能描述",null,1023]
[1024,"技能描述占位，勿占","技能描述",null,1024]
[1025,"技能描述占位，勿占","技能描述",null,1025]
[1026,"技能描述占位，勿占","技能描述",null,{"$f":"A1029","v":1026}]
[1027,"技能描述占位，勿占","技能描述",null,1027]
[1028,"技能描述占位，勿占","技能描述",null,1028]
[1029,"技能描述占位，勿占","技能描述",null,1029]
[1030,"技能描述占位，勿占","技能描述",null,1030]
[1031,"技能描述占位，勿占","技能描述",null,1031]
[1032,"技能描述占位，勿占","技能描述",null,1032]
[1033,"技能描述占位，勿占","技能描述",null,1033]
[1034,"技能描述占位，勿占","技能描述",null,1034]
[1035,"技能描述占位，勿占","技能描述",null,1035]
[1036,"技能描述占位，勿占","技能描述",null,1036]
[1037,"技能描述占位，勿占","技能描述",null,1037]
[1038,"技能描述占位，勿占","技能描述",null,1038]
[1039,"技能描述占位，勿占","技能描述",null,1039]
[1040,"技能描述占位，勿占","技能描述",null,1040]
[1041,"技能描述占位，勿占","技能描述",null,1041]
[1042,"技能描述占位，勿占","技能描述",null,1042]
[1043,"技能描述占位，勿占","技能描述",null,1043]
[1044,"技能描述占位，勿占","技能描述",null,1044]
[1045,"技能描述占位，勿占","技能描述",null,1045]
[1046,"技能描述占位，勿占","技能描述",null,1046]
[1047,"技能描述占位，勿占","技能描述",null,1047]
[1048,"技能描述占位，勿占","技能描述",null,1048]
[1049,"技能描述占位，勿占","技能描述",null,1049]
[1050,"技能描述占位，勿占","技能描述",null,1050]
[1051,"技能描述占位，勿占","技能描述",null,1051]
[1052,"技能描述占位，勿占","技能描述",null,1052]
[1053,"技能描述占位，勿占","技能描述",null,1053]
[1054,"技能描述占位，勿占","技能描述",null,1054]
[1055,"技能描述占位，勿占","技能描述",null,1055]
[1056,"技能描述占位，勿占","技能描述",null,1056]
[1057,"技能描述占位，勿占","技能描述",null,1057]
[1058,"技能描述占位，勿占","技能描述",null,1058]
[1059,"技能描述占位，勿占","技能描述",null,1059]
[1060,"技能描述占位，勿占","技能描述",null,1060]
[1061,"技能描述占位，勿占","技能描述",null,1061]
[1062,"技能描述占位，勿占","技能描述",null,1062]
[1063,"技能描述占位，勿占","技能描述",null,1063]
[1064,"技能描述占位，勿占","技能描述",null,1064]
[1065,"技能描述占位，勿占","技能描述",null,1065]
[1066,"技能描述占位，勿占","技能描述",null,1066]
[1067,"技能描述占位，勿占","技能描述",null,1067]
[1068,"技能描述占位，勿占","技能描述",null,1068]
[1069,"技能描述占位，勿占","技能描述",null,1069]
[1070,"技能描述占位，勿占","技能描述",null,1070]
[1071,"技能描述占位，勿占","技能描述",null,1071]
[1072,"技能描述占位，勿占","技能描述",null,1072]
[1073,"技能描述占位，勿占","技能描述",null,1073]
[1074,"技能描述占位，勿占","技能描述",null,1074]
[1075,"技能描述占位，勿占","技能描述",null,1075]
[1076,"技能描述占位，勿占","技能描述",null,1076]
[1077,"技能描述占位，勿占","技能描述",null,1077]
[1078,"技能描述占位，勿占","技能描述",null,1078]
[1079,"技能描述占位，勿占","技能描述",null,1079]
[1080,"技能描述占位，勿占","技能描述",null,1080]
[1081,"技能描述占位，勿占","技能描述",null,1081]
[1082,"技能描述占位，勿占","技能描述",null,1082]
[1083,"技能描述占位，勿占","技能描述",null,1083]
[1084,"技能描述占位，勿占","技能描述",null,1084]
[1085,"技能描述占位，勿占","技能描述",null,1085]
[1086,"技能描述占位，勿占","技能描述",null,1086]
[1087,"技能描述占位，勿占","技能描述",null,1087]
[1088,"技能描述占位，勿占","技能描述",null,1088]
[1089,"技能描述占位，勿占","技能描述",null,1089]
[1090,"技能描述占位，勿占","技能描述",null,{"$f":"A1093","v":1090}]
[1091,"技能描述占位，勿占","技能描述",null,1091]
[1092,"技能描述占位，勿占","技能描述",null,1092]
[1093,"技能描述占位，勿占","技能描述",null,1093]
[1094,"技能描述占位，勿占","技能描述",null,1094]
[1095,"技能描述占位，勿占","技能描述",null,1095]
[1096,"技能描述占位，勿占","技能描述",null,1096]
[1097,"技能描述占位，勿占","技能描述",null,1097]
[1098,"技能描述占位，勿占","技能描述",null,1098]
[1099,"技能描述占位，勿占","技能描述",null,1099]
[1100,{"$f":"VLOOKUP(A1103,[2]SkillConfig!$U:$AE,11,FALSE)","v":"飞剑数量+2"},"技能升星描述",null,1100]
[1101,{"$f":"VLOOKUP(A1104,[2]SkillConfig!$U:$AE,11,FALSE)","v":"生命+10%"},"技能升星描述",null,1101]
[1102,{"$f":"VLOOKUP(A1105,[2]SkillConfig!$U:$AE,11,FALSE)","v":"飞剑数量+1，对带减益的敌人增伤"},"技能升星描述",null,1102]
[1103,{"$f":"VLOOKUP(A1106,[2]SkillConfig!$U:$AE,11,FALSE)","v":"生命+10%"},"技能升星描述",null,1103]
[1104,{"$f":"VLOOKUP(A1107,[2]SkillConfig!$U:$AE,11,FALSE)","v":"发射伤害更高的幻剑"},"技能升星描述",null,1104]
[1105,{"$f":"VLOOKUP(A1108,[2]SkillConfig!$U:$AE,11,FALSE)","v":"对流血或放血敌人增伤"},"技能升星描述",null,1105]
[1106,{"$f":"VLOOKUP(A1109,[2]SkillConfig!$U:$AE,11,FALSE)","v":"攻击+10%"},"技能升星描述",null,1106]
[1107,{"$f":"VLOOKUP(A1110,[2]SkillConfig!$U:$AE,11,FALSE)","v":"无条件放血"},"技能升星描述",null,1107]
[1108,{"$f":"VLOOKUP(A1111,[2]SkillConfig!$U:$AE,11,FALSE)","v":"攻击+10%"},"技能升星描述",null,1108]
[1109,{"$f":"VLOOKUP(A1112,[2]SkillConfig!$U:$AE,11,FALSE)","v":"对拼强度和伤害提升"},"技能升星描述",null,1109]
[1110,{"$f":"VLOOKUP(A1113,[2]SkillConfig!$U:$AE,11,FALSE)","v":"刀气命中回血"},"技能升星描述",null,1110]
[1111,{"$f":"VLOOKUP(A1114,[2]SkillConfig!$U:$AE,11,FALSE)","v":"防御+10%"},"技能升星描述",null,1111]
[1112,{"$f":"VLOOKUP(A1115,[2]SkillConfig!$U:$AE,11,FALSE)","v":"刀气+2"},"技能升星描述",null,1112]
[1113,{"$f":"VLOOKUP(A1116,[2]SkillConfig!$U:$AE,11,FALSE)","v":"防御+10%"},"技能升星描述",null,1113]
[1114,{"$f":"VLOOKUP(A1117,[2]SkillConfig!$U:$AE,11,FALSE)","v":"对流血目标增伤，再次放血"},"技能升星描述",null,1114]
[1115,{"$f":"VLOOKUP(A1118,[2]SkillConfig!$U:$AE,11,FALSE)","v":"攻击+5%"},"技能升星描述",null,1115]
[1116,{"$f":"VLOOKUP(A1119,[2]SkillConfig!$U:$AE,11,FALSE)","v":"飞刀数量+2"},"技能升星描述",null,1116]
[1117,{"$f":"VLOOKUP(A1120,[2]SkillConfig!$U:$AE,11,FALSE)","v":"攻击+5%"},"技能升星描述",null,1117]
[1118,{"$f":"VLOOKUP(A1121,[2]SkillConfig!$U:$AE,11,FALSE)","v":"飞刀数量+2"},"技能升星描述",null,1118]
[1119,{"$f":"VLOOKUP(A1122,[2]SkillConfig!$U:$AE,11,FALSE)","v":"攻击+5%"},"技能升星描述",null,1119]
[1120,{"$f":"VLOOKUP(A1123,[2]SkillConfig!$U:$AE,11,FALSE)","v":"防御+5%"},"技能升星描述",null,1120]
[1121,{"$f":"VLOOKUP(A1124,[2]SkillConfig!$U:$AE,11,FALSE)","v":"金针数量+1"},"技能升星描述",null,1121]
[1122,{"$f":"VLOOKUP(A1125,[2]SkillConfig!$U:$AE,11,FALSE)","v":"防御+5%"},"技能升星描述",null,1122]
[1123,{"$f":"VLOOKUP(A1126,[2]SkillConfig!$U:$AE,11,FALSE)","v":"金针数量+1"},"技能升星描述",null,1123]
[1124,{"$f":"VLOOKUP(A1127,[2]SkillConfig!$U:$AE,11,FALSE)","v":"防御+5%"},"技能升星描述",null,1124]
[1125,{"$f":"VLOOKUP(A1128,[2]SkillConfig!$U:$AE,11,FALSE)","v":"冰锥数量+1"},"技能升星描述",null,1125]
[1126,{"$f":"VLOOKUP(A1129,[2]SkillConfig!$U:$AE,11,FALSE)","v":"生命+10%"},"技能升星描述",null,1126]
[1127,{"$f":"VLOOKUP(A1130,[2]SkillConfig!$U:$AE,11,FALSE)","v":"冰锥数量+1"},"技能升星描述",null,1127]
[1128,{"$f":"VLOOKUP(A1131,[2]SkillConfig!$U:$AE,11,FALSE)","v":"生命+10%"},"技能升星描述",null,1128]
[1129,{"$f":"VLOOKUP(A1132,[2]SkillConfig!$U:$AE,11,FALSE)","v":"冰锥数量+1"},"技能升星描述",null,1129]
[1130,{"$f":"VLOOKUP(A1133,[2]SkillConfig!$U:$AE,11,FALSE)","v":"冰球数量+1"},"技能升星描述",null,1130]
[1131,{"$f":"VLOOKUP(A1134,[2]SkillConfig!$U:$AE,11,FALSE)","v":"防御+10%"},"技能升星描述",null,1131]
[1132,{"$f":"VLOOKUP(A1135,[2]SkillConfig!$U:$AE,11,FALSE)","v":"冰球数量+1"},"技能升星描述",null,1132]
[1133,{"$f":"VLOOKUP(A1136,[2]SkillConfig!$U:$AE,11,FALSE)","v":"防御+10%"},"技能升星描述",null,1133]
[1134,{"$f":"VLOOKUP(A1137,[2]SkillConfig!$U:$AE,11,FALSE)","v":"冰球数量+1"},"技能升星描述",null,1134]
[1135,{"$f":"VLOOKUP(A1138,[2]SkillConfig!$U:$AE,11,FALSE)","v":"冰球数量+1"},"技能升星描述",null,1135]
[1136,{"$f":"VLOOKUP(A1139,[2]SkillConfig!$U:$AE,11,FALSE)","v":"攻击+10%"},"技能升星描述",null,1136]
[1137,{"$f":"VLOOKUP(A1140,[2]SkillConfig!$U:$AE,11,FALSE)","v":"冰球数量+1"},"技能升星描述",null,1137]
[1138,{"$f":"VLOOKUP(A1141,[2]SkillConfig!$U:$AE,11,FALSE)","v":"攻击+10%"},"技能升星描述",null,1138]
[1139,{"$f":"VLOOKUP(A1142,[2]SkillConfig!$U:$AE,11,FALSE)","v":"冰球数量+1"},"技能升星描述",null,1139]
[1140,{"$f":"VLOOKUP(A1143,[2]SkillConfig!$U:$AE,11,FALSE)","v":"攻击+5%"},"技能升星描述",null,1140]
[1141,{"$f":"VLOOKUP(A1144,[2]SkillConfig!$U:$AE,11,FALSE)","v":"水波数量+1"},"技能升星描述",null,1141]
[1142,{"$f":"VLOOKUP(A1145,[2]SkillConfig!$U:$AE,11,FALSE)","v":"攻击+10%"},"技能升星描述",null,1142]
[1143,{"$f":"VLOOKUP(A1146,[2]SkillConfig!$U:$AE,11,FALSE)","v":"水波数量+1"},"技能升星描述",null,1143]
[1144,{"$f":"VLOOKUP(A1147,[2]SkillConfig!$U:$AE,11,FALSE)","v":"攻击+15%"},"技能升星描述",null,1144]
[1145,{"$f":"VLOOKUP(A1148,[2]SkillConfig!$U:$AE,11,FALSE)","v":"防御+5%"},"技能升星描述",null,1145]
[1146,{"$f":"VLOOKUP(A1149,[2]SkillConfig!$U:$AE,11,FALSE)","v":"冰刀数量+2"},"技能升星描述",null,1146]
[1147,{"$f":"VLOOKUP(A1150,[2]SkillConfig!$U:$AE,11,FALSE)","v":"防御+5%"},"技能升星描述",null,1147]
[1148,{"$f":"VLOOKUP(A1151,[2]SkillConfig!$U:$AE,11,FALSE)","v":"冰刀数量+2"},"技能升星描述",null,1148]
[1149,{"$f":"VLOOKUP(A1152,[2]SkillConfig!$U:$AE,11,FALSE)","v":"防御+5%"},"技能升星描述",null,1149]
[1150,{"$f":"VLOOKUP(A1153,[2]SkillConfig!$U:$AE,11,FALSE)","v":"毒针数量+1"},"技能升星描述",null,1150]
[1151,{"$f":"VLOOKUP(A1154,[2]SkillConfig!$U:$AE,11,FALSE)","v":"生命+10%"},"技能升星描述",null,1151]
[1152,{"$f":"VLOOKUP(A1155,[2]SkillConfig!$U:$AE,11,FALSE)","v":"毒针数量+1"},"技能升星描述",null,1152]
[1153,{"$f":"VLOOKUP(A1156,[2]SkillConfig!$U:$AE,11,FALSE)","v":"生命+10%"},"技能升星描述",null,1153]
[1154,{"$f":"VLOOKUP(A1157,[2]SkillConfig!$U:$AE,11,FALSE)","v":"毒针数量+1"},"技能升星描述",null,{"$f":"A1157","v":1154}]
[1155,{"$f":"VLOOKUP(A1158,[2]SkillConfig!$U:$AE,11,FALSE)","v":"手掌数量+1"},"技能升星描述",null,1155]
[1156,{"$f":"VLOOKUP(A1159,[2]SkillConfig!$U:$AE,11,FALSE)","v":"防御+10%"},"技能升星描述",null,1156]
[1157,{"$f":"VLOOKUP(A1160,[2]SkillConfig!$U:$AE,11,FALSE)","v":"手掌数量+1"},"技能升星描述",null,1157]
[1158,{"$f":"VLOOKUP(A1161,[2]SkillConfig!$U:$AE,11,FALSE)","v":"防御+10%"},"技能升星描述",null,1158]
[1159,{"$f":"VLOOKUP(A1162,[2]SkillConfig!$U:$AE,11,FALSE)","v":"手掌数量+1"},"技能升星描述",null,1159]
[1160,{"$f":"VLOOKUP(A1163,[2]SkillConfig!$U:$AE,11,FALSE)","v":"手掌数量+1"},"技能升星描述",null,1160]
[1161,{"$f":"VLOOKUP(A1164,[2]SkillConfig!$U:$AE,11,FALSE)","v":"攻击+10%"},"技能升星描述",null,1161]
[1162,{"$f":"VLOOKUP(A1165,[2]SkillConfig!$U:$AE,11,FALSE)","v":"手掌数量+2"},"技能升星描述",null,1162]
[1163,{"$f":"VLOOKUP(A1166,[2]SkillConfig!$U:$AE,11,FALSE)","v":"攻击+10%"},"技能升星描述",null,1163]
[1164,{"$f":"VLOOKUP(A1167,[2]SkillConfig!$U:$AE,11,FALSE)","v":"手掌数量+3"},"技能升星描述",null,1164]
[1165,{"$f":"VLOOKUP(A1168,[2]SkillConfig!$U:$AE,11,FALSE)","v":"生命+5%"},"技能升星描述",null,1165]
[1166,{"$f":"VLOOKUP(A1169,[2]SkillConfig!$U:$AE,11,FALSE)","v":"竹刺数量+2"},"技能升星描述",null,1166]
[1167,{"$f":"VLOOKUP(A1170,[2]SkillConfig!$U:$AE,11,FALSE)","v":"生命+5%"},"技能升星描述",null,1167]
[1168,{"$f":"VLOOKUP(A1171,[2]SkillConfig!$U:$AE,11,FALSE)","v":"竹刺数量+2"},"技能升星描述",null,1168]
[1169,{"$f":"VLOOKUP(A1172,[2]SkillConfig!$U:$AE,11,FALSE)","v":"生命+5%"},"技能升星描述",null,1169]
[1170,{"$f":"VLOOKUP(A1173,[2]SkillConfig!$U:$AE,11,FALSE)","v":"攻击+5%"},"技能升星描述",null,1170]
[1171,{"$f":"VLOOKUP(A1174,[2]SkillConfig!$U:$AE,11,FALSE)","v":"飞叶数量+3"},"技能升星描述",null,1171]
[1172,{"$f":"VLOOKUP(A1175,[2]SkillConfig!$U:$AE,11,FALSE)","v":"攻击+5%"},"技能升星描述",null,1172]
[1173,{"$f":"VLOOKUP(A1176,[2]SkillConfig!$U:$AE,11,FALSE)","v":"飞叶数量+3"},"技能升星描述",null,1173]
[1174,{"$f":"VLOOKUP(A1177,[2]SkillConfig!$U:$AE,11,FALSE)","v":"攻击+5%"},"技能升星描述",null,1174]
[1175,{"$f":"VLOOKUP(A1178,[2]SkillConfig!$U:$AE,11,FALSE)","v":"剑柄数量+2"},"技能升星描述",null,1175]
[1176,{"$f":"VLOOKUP(A1179,[2]SkillConfig!$U:$AE,11,FALSE)","v":"生命+10%"},"技能升星描述",null,1176]
[1177,{"$f":"VLOOKUP(A1180,[2]SkillConfig!$U:$AE,11,FALSE)","v":"剑柄数量+4"},"技能升星描述",null,1177]
[1178,{"$f":"VLOOKUP(A1181,[2]SkillConfig!$U:$AE,11,FALSE)","v":"生命+10%"},"技能升星描述",null,1178]
[1179,{"$f":"VLOOKUP(A1182,[2]SkillConfig!$U:$AE,11,FALSE)","v":"额外造成爆燃伤害"},"技能升星描述",null,1179]
[1180,{"$f":"VLOOKUP(A1183,[2]SkillConfig!$U:$AE,11,FALSE)","v":"眩晕处于灼烧中的敌人"},"技能升星描述",null,1180]
[1181,{"$f":"VLOOKUP(A1184,[2]SkillConfig!$U:$AE,11,FALSE)","v":"攻击+10%"},"技能升星描述",null,1181]
[1182,{"$f":"VLOOKUP(A1185,[2]SkillConfig!$U:$AE,11,FALSE)","v":"飞龙数量+1，额外造成灼烧"},"技能升星描述",null,1182]
[1183,{"$f":"VLOOKUP(A1186,[2]SkillConfig!$U:$AE,11,FALSE)","v":"攻击+10%"},"技能升星描述",null,1183]
[1184,{"$f":"VLOOKUP(A1187,[2]SkillConfig!$U:$AE,11,FALSE)","v":"额外引发天雷伤害"},"技能升星描述",null,1184]
[1185,{"$f":"VLOOKUP(A1188,[2]SkillConfig!$U:$AE,11,FALSE)","v":"对灼烧的敌人额外增伤"},"技能升星描述",null,1185]
[1186,{"$f":"VLOOKUP(A1189,[2]SkillConfig!$U:$AE,11,FALSE)","v":"防御+10%"},"技能升星描述",null,1186]
[1187,{"$f":"VLOOKUP(A1190,[2]SkillConfig!$U:$AE,11,FALSE)","v":"烈焰伤害提升"},"技能升星描述",null,1187]
[1188,{"$f":"VLOOKUP(A1191,[2]SkillConfig!$U:$AE,11,FALSE)","v":"防御+10%"},"技能升星描述",null,1188]
[1189,{"$f":"VLOOKUP(A1192,[2]SkillConfig!$U:$AE,11,FALSE)","v":"出现2只大手但单发伤害降低"},"技能升星描述",null,1189]
[1190,{"$f":"VLOOKUP(A1193,[2]SkillConfig!$U:$AE,11,FALSE)","v":"防御+5%"},"技能升星描述",null,1190]
[1191,{"$f":"VLOOKUP(A1194,[2]SkillConfig!$U:$AE,11,FALSE)","v":"火球数量+1"},"技能升星描述",null,1191]
[1192,{"$f":"VLOOKUP(A1195,[2]SkillConfig!$U:$AE,11,FALSE)","v":"防御+5%"},"技能升星描述",null,1192]
[1193,{"$f":"VLOOKUP(A1196,[2]SkillConfig!$U:$AE,11,FALSE)","v":"火球数量+2"},"技能升星描述",null,1193]
[1194,{"$f":"VLOOKUP(A1197,[2]SkillConfig!$U:$AE,11,FALSE)","v":"防御+5%"},"技能升星描述",null,1194]
[1195,{"$f":"VLOOKUP(A1198,[2]SkillConfig!$U:$AE,11,FALSE)","v":"生命+5%"},"技能升星描述",null,1195]
[1196,{"$f":"VLOOKUP(A1199,[2]SkillConfig!$U:$AE,11,FALSE)","v":"火刃数量+2"},"技能升星描述",null,1196]
[1197,{"$f":"VLOOKUP(A1200,[2]SkillConfig!$U:$AE,11,FALSE)","v":"生命+5%"},"技能升星描述",null,1197]
[1198,{"$f":"VLOOKUP(A1201,[2]SkillConfig!$U:$AE,11,FALSE)","v":"火刃数量+2"},"技能升星描述",null,1198]
[1199,{"$f":"VLOOKUP(A1202,[2]SkillConfig!$U:$AE,11,FALSE)","v":"生命+5%"},"技能升星描述",null,1199]
[1200,{"$f":"VLOOKUP(A1203,[2]SkillConfig!$U:$AE,11,FALSE)","v":"土刺数量+2"},"技能升星描述",null,1200]
[1201,{"$f":"VLOOKUP(A1204,[2]SkillConfig!$U:$AE,11,FALSE)","v":"生命+10%"},"技能升星描述",null,1201]
[1202,{"$f":"VLOOKUP(A1205,[2]SkillConfig!$U:$AE,11,FALSE)","v":"土刺数量+2"},"技能升星描述",null,1202]
[1203,{"$f":"VLOOKUP(A1206,[2]SkillConfig!$U:$AE,11,FALSE)","v":"生命+10%"},"技能升星描述",null,1203]
[1204,{"$f":"VLOOKUP(A1207,[2]SkillConfig!$U:$AE,11,FALSE)","v":"土刺数量+2"},"技能升星描述",null,1204]
[1205,{"$f":"VLOOKUP(A1208,[2]SkillConfig!$U:$AE,11,FALSE)","v":"刀气数量+1"},"技能升星描述",null,1205]
[1206,{"$f":"VLOOKUP(A1209,[2]SkillConfig!$U:$AE,11,FALSE)","v":"攻击+10%"},"技能升星描述",null,1206]
[1207,{"$f":"VLOOKUP(A1210,[2]SkillConfig!$U:$AE,11,FALSE)","v":"刀气数量+1"},"技能升星描述",null,1207]
[1208,{"$f":"VLOOKUP(A1211,[2]SkillConfig!$U:$AE,11,FALSE)","v":"攻击+10%"},"技能升星描述",null,1208]
[1209,{"$f":"VLOOKUP(A1212,[2]SkillConfig!$U:$AE,11,FALSE)","v":"刀气数量+1"},"技能升星描述",null,1209]
[1210,{"$f":"VLOOKUP(A1213,[2]SkillConfig!$U:$AE,11,FALSE)","v":"刀气数量+1"},"技能升星描述",null,1210]
[1211,{"$f":"VLOOKUP(A1214,[2]SkillConfig!$U:$AE,11,FALSE)","v":"防御+10%"},"技能升星描述",null,1211]
[1212,{"$f":"VLOOKUP(A1215,[2]SkillConfig!$U:$AE,11,FALSE)","v":"刀气数量+2"},"技能升星描述",null,1212]
[1213,{"$f":"VLOOKUP(A1216,[2]SkillConfig!$U:$AE,11,FALSE)","v":"防御+10%"},"技能升星描述",null,1213]
[1214,{"$f":"VLOOKUP(A1217,[2]SkillConfig!$U:$AE,11,FALSE)","v":"刀气数量+3"},"技能升星描述",null,1214]
[1215,{"$f":"VLOOKUP(A1218,[2]SkillConfig!$U:$AE,11,FALSE)","v":"攻击+5%"},"技能升星描述",null,1215]
[1216,{"$f":"VLOOKUP(A1219,[2]SkillConfig!$U:$AE,11,FALSE)","v":"落石数量+1"},"技能升星描述",null,1216]
[1217,{"$f":"VLOOKUP(A1220,[2]SkillConfig!$U:$AE,11,FALSE)","v":"攻击+5%"},"技能升星描述",null,1217]
[1218,{"$f":"VLOOKUP(A1221,[2]SkillConfig!$U:$AE,11,FALSE)","v":"落石数量+1"},"技能升星描述",null,{"$f":"A1221","v":1218}]
[1219,{"$f":"VLOOKUP(A1222,[2]SkillConfig!$U:$AE,11,FALSE)","v":"攻击+5%"},"技能升星描述",null,1219]
[1220,{"$f":"VLOOKUP(A1223,[2]SkillConfig!$U:$AE,11,FALSE)","v":"生命+5%"},"技能升星描述",null,1220]
[1221,{"$f":"VLOOKUP(A1224,[2]SkillConfig!$U:$AE,11,FALSE)","v":"小石头数量+3"},"技能升星描述",null,1221]
[1222,{"$f":"VLOOKUP(A1225,[2]SkillConfig!$U:$AE,11,FALSE)","v":"生命+5%"},"技能升星描述",null,1222]
[1223,{"$f":"VLOOKUP(A1226,[2]SkillConfig!$U:$AE,11,FALSE)","v":"小石头数量+3"},"技能升星描述",null,1223]
[1224,{"$f":"VLOOKUP(A1227,[2]SkillConfig!$U:$AE,11,FALSE)","v":"生命+5%"},"技能升星描述",null,1224]
[1225,{"$f":"VLOOKUP(A1228,[2]SkillConfig!$U:$AE,11,FALSE)","v":"防御+3%"},"技能升星描述",null,1225]
[1226,{"$f":"VLOOKUP(A1229,[2]SkillConfig!$U:$AE,11,FALSE)","v":"防御+3%"},"技能升星描述",null,1226]
[1227,{"$f":"VLOOKUP(A1230,[2]SkillConfig!$U:$AE,11,FALSE)","v":"防御+3%"},"技能升星描述",null,1227]
[1228,{"$f":"VLOOKUP(A1231,[2]SkillConfig!$U:$AE,11,FALSE)","v":"防御+3%"},"技能升星描述",null,1228]
[1229,{"$f":"VLOOKUP(A1232,[2]SkillConfig!$U:$AE,11,FALSE)","v":"穿过护盾时额外对护盾照成等额伤害"},"技能升星描述",null,1229]
[1230,{"$f":"VLOOKUP(A1233,[2]SkillConfig!$U:$AE,11,FALSE)","v":"攻击+3%"},"技能升星描述",null,1230]
[1231,{"$f":"VLOOKUP(A1234,[2]SkillConfig!$U:$AE,11,FALSE)","v":"攻击+3%"},"技能升星描述",null,1231]
[1232,{"$f":"VLOOKUP(A1235,[2]SkillConfig!$U:$AE,11,FALSE)","v":"攻击+3%"},"技能升星描述",null,1232]
[1233,{"$f":"VLOOKUP(A1236,[2]SkillConfig!$U:$AE,11,FALSE)","v":"攻击+3%"},"技能升星描述",null,1233]
[1234,{"$f":"VLOOKUP(A1237,[2]SkillConfig!$U:$AE,11,FALSE)","v":"充能增效，法宝瞬发且不对拼"},"技能升星描述",null,1234]
[1235,{"$f":"VLOOKUP(A1238,[2]SkillConfig!$U:$AE,11,FALSE)","v":"防御+3%"},"技能升星描述",null,1235]
[1236,{"$f":"VLOOKUP(A1239,[2]SkillConfig!$U:$AE,11,FALSE)","v":"防御+3%"},"技能升星描述",null,1236]
[1237,{"$f":"VLOOKUP(A1240,[2]SkillConfig!$U:$AE,11,FALSE)","v":"防御+3%"},"技能升星描述",null,1237]
[1238,{"$f":"VLOOKUP(A1241,[2]SkillConfig!$U:$AE,11,FALSE)","v":"防御+3%"},"技能升星描述",null,1238]
[1239,{"$f":"VLOOKUP(A1242,[2]SkillConfig!$U:$AE,11,FALSE)","v":"触发概率提升"},"技能升星描述",null,1239]
[1240,{"$f":"VLOOKUP(A1243,[2]SkillConfig!$U:$AE,11,FALSE)","v":"生命+3%"},"技能升星描述",null,1240]
[1241,{"$f":"VLOOKUP(A1244,[2]SkillConfig!$U:$AE,11,FALSE)","v":"生命+3%"},"技能升星描述",null,1241]
[1242,{"$f":"VLOOKUP(A1245,[2]SkillConfig!$U:$AE,11,FALSE)","v":"生命+3%"},"技能升星描述",null,1242]
[1243,{"$f":"VLOOKUP(A1246,[2]SkillConfig!$U:$AE,11,FALSE)","v":"生命+3%"},"技能升星描述",null,1243]
[1244,{"$f":"VLOOKUP(A1247,[2]SkillConfig!$U:$AE,11,FALSE)","v":"不相生甚至相克功法也生效"},"技能升星描述",null,1244]
[1245,{"$f":"VLOOKUP(A1248,[2]SkillConfig!$U:$AE,11,FALSE)","v":"攻击+3%"},"技能升星描述",null,1245]
[1246,{"$f":"VLOOKUP(A1249,[2]SkillConfig!$U:$AE,11,FALSE)","v":"攻击+3%"},"技能升星描述",null,1246]
[1247,{"$f":"VLOOKUP(A1250,[2]SkillConfig!$U:$AE,11,FALSE)","v":"攻击+3%"},"技能升星描述",null,1247]
[1248,{"$f":"VLOOKUP(A1251,[2]SkillConfig!$U:$AE,11,FALSE)","v":"攻击+3%"},"技能升星描述",null,1248]
[1249,{"$f":"VLOOKUP(A1252,[2]SkillConfig!$U:$AE,11,FALSE)","v":"满层时施加灼烧"},"技能升星描述",null,1249]
[1250,{"$f":"VLOOKUP(A1253,[2]SkillConfig!$U:$AE,11,FALSE)","v":"防御+3%"},"技能升星描述",null,1250]
[1251,{"$f":"VLOOKUP(A1254,[2]SkillConfig!$U:$AE,11,FALSE)","v":"防御+3%"},"技能升星描述",null,1251]
[1252,{"$f":"VLOOKUP(A1255,[2]SkillConfig!$U:$AE,11,FALSE)","v":"防御+3%"},"技能升星描述",null,1252]
[1253,{"$f":"VLOOKUP(A1256,[2]SkillConfig!$U:$AE,11,FALSE)","v":"防御+3%"},"技能升星描述",null,1253]
[1254,{"$f":"VLOOKUP(A1257,[2]SkillConfig!$U:$AE,11,FALSE)","v":"对拼时重生"},"技能升星描述",null,1254]
[1255,{"$f":"VLOOKUP(A1258,[2]SkillConfig!$U:$AE,11,FALSE)","v":"生命+3%"},"技能升星描述",null,1255]
[1256,{"$f":"VLOOKUP(A1259,[2]SkillConfig!$U:$AE,11,FALSE)","v":"生命+3%"},"技能升星描述",null,1256]
[1257,{"$f":"VLOOKUP(A1260,[2]SkillConfig!$U:$AE,11,FALSE)","v":"生命+3%"},"技能升星描述",null,1257]
[1258,{"$f":"VLOOKUP(A1261,[2]SkillConfig!$U:$AE,11,FALSE)","v":"生命+3%"},"技能升星描述",null,1258]
[1259,{"$f":"VLOOKUP(A1262,[2]SkillConfig!$U:$AE,11,FALSE)","v":"加速时伤害提升"},"技能升星描述",null,1259]
[1260,{"$f":"VLOOKUP(A1263,[2]SkillConfig!$U:$AE,11,FALSE)","v":"攻击+3%"},"技能升星描述",null,1260]
[1261,{"$f":"VLOOKUP(A1264,[2]SkillConfig!$U:$AE,11,FALSE)","v":"攻击+3%"},"技能升星描述",null,1261]
[1262,{"$f":"VLOOKUP(A1265,[2]SkillConfig!$U:$AE,11,FALSE)","v":"攻击+3%"},"技能升星描述",null,1262]
[1263,{"$f":"VLOOKUP(A1266,[2]SkillConfig!$U:$AE,11,FALSE)","v":"攻击+3%"},"技能升星描述",null,1263]
[1264,{"$f":"VLOOKUP(A1267,[2]SkillConfig!$U:$AE,11,FALSE)","v":"前槽位也生效，剑气增强"},"技能升星描述",null,1264]
[1265,{"$f":"VLOOKUP(A1268,[2]SkillConfig!$U:$AE,11,FALSE)","v":"金灵根+5"},"技能升星描述",null,1265]
[1266,{"$f":"VLOOKUP(A1269,[2]SkillConfig!$U:$AE,11,FALSE)","v":"攻击+5%"},"技能升星描述",null,1266]
[1267,{"$f":"VLOOKUP(A1270,[2]SkillConfig!$U:$AE,11,FALSE)","v":"金灵根+5"},"技能升星描述",null,1267]
[1268,{"$f":"VLOOKUP(A1271,[2]SkillConfig!$U:$AE,11,FALSE)","v":"攻击+5%"},"技能升星描述",null,1268]
[1269,{"$f":"VLOOKUP(A1272,[2]SkillConfig!$U:$AE,11,FALSE)","v":"降低敌人灵根"},"技能升星描述",null,1269]
[1270,{"$f":"VLOOKUP(A1273,[2]SkillConfig!$U:$AE,11,FALSE)","v":0},"技能升星描述",null,1270]
[1271,{"$f":"VLOOKUP(A1274,[2]SkillConfig!$U:$AE,11,FALSE)","v":0},"技能升星描述",null,1271]
[1272,{"$f":"VLOOKUP(A1275,[2]SkillConfig!$U:$AE,11,FALSE)","v":0},"技能升星描述",null,1272]
[1273,{"$f":"VLOOKUP(A1276,[2]SkillConfig!$U:$AE,11,FALSE)","v":0},"技能升星描述",null,1273]
[1274,{"$f":"VLOOKUP(A1277,[2]SkillConfig!$U:$AE,11,FALSE)","v":0},"技能升星描述",null,1274]
[1275,{"$f":"VLOOKUP(A1278,[2]SkillConfig!$U:$AE,11,FALSE)","v":"降速效果提升"},"技能升星描述",null,1275]
[1276,{"$f":"VLOOKUP(A1279,[2]SkillConfig!$U:$AE,11,FALSE)","v":"水灵根+5"},"技能升星描述",null,1276]
[1277,{"$f":"VLOOKUP(A1280,[2]SkillConfig!$U:$AE,11,FALSE)","v":"生命+5%"},"技能升星描述",null,1277]
[1278,{"$f":"VLOOKUP(A1281,[2]SkillConfig!$U:$AE,11,FALSE)","v":"水灵根+5"},"技能升星描述",null,1278]
[1279,{"$f":"VLOOKUP(A1282,[2]SkillConfig!$U:$AE,11,FALSE)","v":"降低被影响功法的强度"},"技能升星描述",null,1279]
[1280,{"$f":"VLOOKUP(A1283,[2]SkillConfig!$U:$AE,11,FALSE)","v":"水灵根+5"},"技能升星描述",null,1280]
[1281,{"$f":"VLOOKUP(A1284,[2]SkillConfig!$U:$AE,11,FALSE)","v":"防御+5%"},"技能升星描述",null,1281]
[1282,{"$f":"VLOOKUP(A1285,[2]SkillConfig!$U:$AE,11,FALSE)","v":"可使用次数增加"},"技能升星描述",null,{"$f":"A1285","v":1282}]
[1283,{"$f":"VLOOKUP(A1286,[2]SkillConfig!$U:$AE,11,FALSE)","v":"水灵根+5"},"技能升星描述",null,1283]
[1284,{"$f":"VLOOKUP(A1287,[2]SkillConfig!$U:$AE,11,FALSE)","v":"功法额外增伤"},"技能升星描述",null,1284]
[1285,{"$f":"VLOOKUP(A1288,[2]SkillConfig!$U:$AE,11,FALSE)","v":0},"技能升星描述",null,1285]
[1286,{"$f":"VLOOKUP(A1289,[2]SkillConfig!$U:$AE,11,FALSE)","v":0},"技能升星描述",null,1286]
[1287,{"$f":"VLOOKUP(A1290,[2]SkillConfig!$U:$AE,11,FALSE)","v":0},"技能升星描述",null,1287]
[1288,{"$f":"VLOOKUP(A1291,[2]SkillConfig!$U:$AE,11,FALSE)","v":0},"技能升星描述",null,1288]
[1289,{"$f":"VLOOKUP(A1292,[2]SkillConfig!$U:$AE,11,FALSE)","v":0},"技能升星描述",null,1289]
[1290,{"$f":"VLOOKUP(A1293,[2]SkillConfig!$U:$AE,11,FALSE)","v":"封印法宝数量增加"},"技能升星描述",null,1290]
[1291,{"$f":"VLOOKUP(A1294,[2]SkillConfig!$U:$AE,11,FALSE)","v":"木灵根+5"},"技能升星描述",null,1291]
[1292,{"$f":"VLOOKUP(A1295,[2]SkillConfig!$U:$AE,11,FALSE)","v":"减缓相生法宝充能"},"技能升星描述",null,1292]
[1293,{"$f":"VLOOKUP(A1296,[2]SkillConfig!$U:$AE,11,FALSE)","v":"木灵根+5"},"技能升星描述",null,1293]
[1294,{"$f":"VLOOKUP(A1297,[2]SkillConfig!$U:$AE,11,FALSE)","v":"大幅减缓相生法宝充能"},"技能升星描述",null,1294]
[1295,{"$f":"VLOOKUP(A1298,[2]SkillConfig!$U:$AE,11,FALSE)","v":0},"技能升星描述",null,1295]
[1296,{"$f":"VLOOKUP(A1299,[2]SkillConfig!$U:$AE,11,FALSE)","v":0},"技能升星描述",null,1296]
[1297,{"$f":"VLOOKUP(A1300,[2]SkillConfig!$U:$AE,11,FALSE)","v":0},"技能升星描述",null,1297]
[1298,{"$f":"VLOOKUP(A1301,[2]SkillConfig!$U:$AE,11,FALSE)","v":0},"技能升星描述",null,1298]
[1299,{"$f":"VLOOKUP(A1302,[2]SkillConfig!$U:$AE,11,FALSE)","v":0},"技能升星描述",null,1299]
[1300,{"$f":"VLOOKUP(A1303,[2]SkillConfig!$U:$AE,11,FALSE)","v":"火灵根+5"},"技能升星描述",null,1300]
[1301,{"$f":"VLOOKUP(A1304,[2]SkillConfig!$U:$AE,11,FALSE)","v":"增加吸收几率"},"技能升星描述",null,1301]
[1302,{"$f":"VLOOKUP(A1305,[2]SkillConfig!$U:$AE,11,FALSE)","v":"攻击+5%"},"技能升星描述",null,1302]
[1303,{"$f":"VLOOKUP(A1306,[2]SkillConfig!$U:$AE,11,FALSE)","v":"火灵根+5"},"技能升星描述",null,1303]
[1304,{"$f":"VLOOKUP(A1307,[2]SkillConfig!$U:$AE,11,FALSE)","v":"完全吸收，临时加灵根"},"技能升星描述",null,1304]
[1305,{"$f":"VLOOKUP(A1308,[2]SkillConfig!$U:$AE,11,FALSE)","v":"打断增强，避免对拼"},"技能升星描述",null,1305]
[1306,{"$f":"VLOOKUP(A1309,[2]SkillConfig!$U:$AE,11,FALSE)","v":"火灵根+5"},"技能升星描述",null,1306]
[1307,{"$f":"VLOOKUP(A1310,[2]SkillConfig!$U:$AE,11,FALSE)","v":"攻击+%"},"技能升星描述",null,1307]
[1308,{"$f":"VLOOKUP(A1311,[2]SkillConfig!$U:$AE,11,FALSE)","v":"火灵根+5"},"技能升星描述",null,1308]
[1309,{"$f":"VLOOKUP(A1312,[2]SkillConfig!$U:$AE,11,FALSE)","v":"成功打断后加速冷却"},"技能升星描述",null,1309]
[1310,{"$f":"VLOOKUP(A1313,[2]SkillConfig!$U:$AE,11,FALSE)","v":"盾强度提升"},"技能升星描述",null,1310]
[1311,{"$f":"VLOOKUP(A1314,[2]SkillConfig!$U:$AE,11,FALSE)","v":"土灵根+5"},"技能升星描述",null,1311]
[1312,{"$f":"VLOOKUP(A1315,[2]SkillConfig!$U:$AE,11,FALSE)","v":"盾强度提升"},"技能升星描述",null,1312]
[1313,{"$f":"VLOOKUP(A1316,[2]SkillConfig!$U:$AE,11,FALSE)","v":"土灵根+5"},"技能升星描述",null,1313]
[1314,{"$f":"VLOOKUP(A1317,[2]SkillConfig!$U:$AE,11,FALSE)","v":"盾强度提升"},"技能升星描述",null,1314]
[1315,{"$f":"VLOOKUP(A1318,[2]SkillConfig!$U:$AE,11,FALSE)","v":0},"技能升星描述",null,1315]
[1316,{"$f":"VLOOKUP(A1319,[2]SkillConfig!$U:$AE,11,FALSE)","v":0},"技能升星描述",null,1316]
[1317,{"$f":"VLOOKUP(A1320,[2]SkillConfig!$U:$AE,11,FALSE)","v":0},"技能升星描述",null,1317]
[1318,{"$f":"VLOOKUP(A1321,[2]SkillConfig!$U:$AE,11,FALSE)","v":0},"技能升星描述",null,1318]
[1319,{"$f":"VLOOKUP(A1322,[2]SkillConfig!$U:$AE,11,FALSE)","v":0},"技能升星描述",null,1319]
[1320,"技能升星描述占位，勿占","技能升星描述",null,1320]
[1321,"技能升星描述占位，勿占","技能升星描述",null,1321]
[1322,"技能升星描述占位，勿占","技能升星描述",null,1322]
[1323,"技能升星描述占位，勿占","技能升星描述",null,1323]
[1324,"技能升星描述占位，勿占","技能升星描述",null,1324]
[1325,"技能升星描述占位，勿占","技能升星描述",null,1325]
[1326,"技能升星描述占位，勿占","技能升星描述",null,1326]
[1327,"技能升星描述占位，勿占","技能升星描述",null,1327]
[1328,"技能升星描述占位，勿占","技能升星描述",null,1328]
[1329,"技能升星描述占位，勿占","技能升星描述",null,1329]
[1330,"技能升星描述占位，勿占","技能升星描述",null,1330]
[1331,"技能升星描述占位，勿占","技能升星描述",null,1331]
[1332,"技能升星描述占位，勿占","技能升星描述",null,1332]
[1333,"技能升星描述占位，勿占","技能升星描述",null,1333]
[1334,"技能升星描述占位，勿占","技能升星描述",null,1334]
[1335,"技能升星描述占位，勿占","技能升星描述",null,1335]
[1336,"技能升星描述占位，勿占","技能升星描述",null,1336]
[1337,"技能升星描述占位，勿占","技能升星描述",null,1337]
[1338,"技能升星描述占位，勿占","技能升星描述",null,1338]
[1339,"技能升星描述占位，勿占","技能升星描述",null,1339]
[1340,"技能升星描述占位，勿占","技能升星描述",null,1340]
[1341,"技能升星描述占位，勿占","技能升星描述",null,1341]
[1342,"技能升星描述占位，勿占","技能升星描述",null,1342]
[1343,"技能升星描述占位，勿占","技能升星描述",null,1343]
[1344,"技能升星描述占位，勿占","技能升星描述",null,1344]
[1345,"技能升星描述占位，勿占","技能升星描述",null,1345]
[1346,"技能升星描述占位，勿占","技能升星描述",null,{"$f":"A1349","v":1346}]
[1347,"技能升星描述占位，勿占","技能升星描述",null,1347]
[1348,"技能升星描述占位，勿占","技能升星描述",null,1348]
[1349,"技能升星描述占位，勿占","技能升星描述",null,1349]
[1350,"技能升星描述占位，勿占","技能升星描述",null,1350]
[1351,"技能升星描述占位，勿占","技能升星描述",null,1351]
[1352,"技能升星描述占位，勿占","技能升星描述",null,1352]
[1353,"技能升星描述占位，勿占","技能升星描述",null,1353]
[1354,"技能升星描述占位，勿占","技能升星描述",null,1354]
[1355,"技能升星描述占位，勿占","技能升星描述",null,1355]
[1356,"技能升星描述占位，勿占","技能升星描述",null,1356]
[1357,"技能升星描述占位，勿占","技能升星描述",null,1357]
[1358,"技能升星描述占位，勿占","技能升星描述",null,1358]
[1359,"技能升星描述占位，勿占","技能升星描述",null,1359]
[1360,"技能升星描述占位，勿占","技能升星描述",null,1360]
[1361,"技能升星描述占位，勿占","技能升星描述",null,1361]
[1362,"技能升星描述占位，勿占","技能升星描述",null,1362]
[1363,"技能升星描述占位，勿占","技能升星描述",null,1363]
[1364,"技能升星描述占位，勿占","技能升星描述",null,1364]
[1365,"技能升星描述占位，勿占","技能升星描述",null,1365]
[1366,"技能升星描述占位，勿占","技能升星描述",null,1366]
[1367,"技能升星描述占位，勿占","技能升星描述",null,1367]
[1368,"技能升星描述占位，勿占","技能升星描述",null,1368]
[1369,"技能升星描述占位，勿占","技能升星描述",null,1369]
[1370,"技能升星描述占位，勿占","技能升星描述",null,1370]
[1371,"技能升星描述占位，勿占","技能升星描述",null,1371]
[1372,"技能升星描述占位，勿占","技能升星描述",null,1372]
[1373,"技能升星描述占位，勿占","技能升星描述",null,1373]
[1374,"技能升星描述占位，勿占","技能升星描述",null,1374]
[1375,"技能升星描述占位，勿占","技能升星描述",null,1375]
[1376,"技能升星描述占位，勿占","技能升星描述",null,1376]
[1377,"技能升星描述占位，勿占","技能升星描述",null,1377]
[1378,"技能升星描述占位，勿占","技能升星描述",null,1378]
[1379,"技能升星描述占位，勿占","技能升星描述",null,1379]
[1380,"技能升星描述占位，勿占","技能升星描述",null,1380]
[1381,"技能升星描述占位，勿占","技能升星描述",null,1381]
[1382,"技能升星描述占位，勿占","技能升星描述",null,1382]
[1383,"技能升星描述占位，勿占","技能升星描述",null,1383]
[1384,"技能升星描述占位，勿占","技能升星描述",null,1384]
[1385,"技能升星描述占位，勿占","技能升星描述",null,1385]
[1386,"技能升星描述占位，勿占","技能升星描述",null,1386]
[1387,"技能升星描述占位，勿占","技能升星描述",null,1387]
[1388,"技能升星描述占位，勿占","技能升星描述",null,1388]
[1389,"技能升星描述占位，勿占","技能升星描述",null,1389]
[1390,"技能升星描述占位，勿占","技能升星描述",null,1390]
[1391,"技能升星描述占位，勿占","技能升星描述",null,1391]
[1392,"技能升星描述占位，勿占","技能升星描述",null,1392]
[1393,"技能升星描述占位，勿占","技能升星描述",null,1393]
[1394,"技能升星描述占位，勿占","技能升星描述",null,1394]
[1395,"技能升星描述占位，勿占","技能升星描述",null,1395]
[1396,"技能升星描述占位，勿占","技能升星描述",null,1396]
[1397,"技能升星描述占位，勿占","技能升星描述",null,1397]
[1398,"技能升星描述占位，勿占","技能升星描述",null,1398]
[1399,"技能升星描述占位，勿占","技能升星描述",null,1399]
[1400,"法宝灵韵",null,null,1400]
[1401,"用于提升法宝的等级",null,null,1401]
[1402,"禁元珠",null,null,1402]
[1403,"玄龟盾",null,null,1403]
[1404,"天殇血刃剑",null,null,1404]
[1405,"禁元珠描述",null,null,1405]
[1406,"玄龟盾描述",null,null,1406]
[1407,"天殇血刃剑描述",null,null,1407]
[1408,"禁元珠碎片",null,null,1408]
[1409,"玄龟盾碎片",null,null,1409]
[1410,"天殇血刃剑碎片",null,null,{"$f":"A1413","v":1410}]
[1411,"禁元珠碎片描述",null,null,1411]
[1412,"玄龟盾碎片描述",null,null,1412]
[1413,"天殇血刃剑碎片描述",null,null,1413]
[1414,{"$f":"VLOOKUP(A1417,[3]ItemConfig!$B:$C,2,FALSE)","v":"太虚幻剑经"},"道具-功法名称",null,1414]
[1415,{"$f":"VLOOKUP(A1418,[3]ItemConfig!$B:$C,2,FALSE)","v":"天罡剑气诀"},"道具-功法名称",null,1415]
[1416,{"$f":"VLOOKUP(A1419,[3]ItemConfig!$B:$C,2,FALSE)","v":"血刃金煌功"},"道具-功法名称",null,1416]
[1417,{"$f":"VLOOKUP(A1420,[3]ItemConfig!$B:$C,2,FALSE)","v":"飞刃"},"道具-功法名称",null,1417]
[1418,{"$f":"VLOOKUP(A1421,[3]ItemConfig!$B:$C,2,FALSE)","v":"金针"},"道具-功法名称",null,1418]
[1419,{"$f":"VLOOKUP(A1422,[3]ItemConfig!$B:$C,2,FALSE)","v":"碧落幽冥劲"},"道具-功法名称",null,1419]
[1420,{"$f":"VLOOKUP(A1423,[3]ItemConfig!$B:$C,2,FALSE)","v":"雾隐千流法"},"道具-功法名称",null,1420]
[1421,{"$f":"VLOOKUP(A1424,[3]ItemConfig!$B:$C,2,FALSE)","v":"功法-水3"},"道具-功法名称",null,1421]
[1422,{"$f":"VLOOKUP(A1425,[3]ItemConfig!$B:$C,2,FALSE)","v":"水球"},"道具-功法名称",null,1422]
[1423,{"$f":"VLOOKUP(A1426,[3]ItemConfig!$B:$C,2,FALSE)","v":"冰刀"},"道具-功法名称",null,1423]
[1424,{"$f":"VLOOKUP(A1427,[3]ItemConfig!$B:$C,2,FALSE)","v":"瘴影千丝术"},"道具-功法名称",null,1424]
[1425,{"$f":"VLOOKUP(A1428,[3]ItemConfig!$B:$C,2,FALSE)","v":"蚀骨腐血掌"},"道具-功法名称",null,1425]
[1426,{"$f":"VLOOKUP(A1429,[3]ItemConfig!$B:$C,2,FALSE)","v":"功法-木3"},"道具-功法名称",null,1426]
[1427,{"$f":"VLOOKUP(A1430,[3]ItemConfig!$B:$C,2,FALSE)","v":"竹刺"},"道具-功法名称",null,1427]
[1428,{"$f":"VLOOKUP(A1431,[3]ItemConfig!$B:$C,2,FALSE)","v":"飞叶"},"道具-功法名称",null,1428]
[1429,{"$f":"VLOOKUP(A1432,[3]ItemConfig!$B:$C,2,FALSE)","v":"烈焰剑"},"道具-功法名称",null,1429]
[1430,{"$f":"VLOOKUP(A1433,[3]ItemConfig!$B:$C,2,FALSE)","v":"赤焰龙吟功"},"道具-功法名称",null,1430]
[1431,{"$f":"VLOOKUP(A1434,[3]ItemConfig!$B:$C,2,FALSE)","v":"朱雀燎原指"},"道具-功法名称",null,1431]
[1432,{"$f":"VLOOKUP(A1435,[3]ItemConfig!$B:$C,2,FALSE)","v":"火球"},"道具-功法名称",null,1432]
[1433,{"$f":"VLOOKUP(A1436,[3]ItemConfig!$B:$C,2,FALSE)","v":"火刀"},"道具-功法名称",null,1433]
[1434,{"$f":"VLOOKUP(A1437,[3]ItemConfig!$B:$C,2,FALSE)","v":"黄尘灭魂刺"},"道具-功法名称",null,1434]
[1435,{"$f":"VLOOKUP(A1438,[3]ItemConfig!$B:$C,2,FALSE)","v":"地裂屠龙斩"},"道具-功法名称",null,1435]
[1436,{"$f":"VLOOKUP(A1439,[3]ItemConfig!$B:$C,2,FALSE)","v":"功法-土3"},"道具-功法名称",null,1436]
[1437,{"$f":"VLOOKUP(A1440,[3]ItemConfig!$B:$C,2,FALSE)","v":"落石"},"道具-功法名称",null,1437]
[1438,{"$f":"VLOOKUP(A1441,[3]ItemConfig!$B:$C,2,FALSE)","v":"小石头"},"道具-功法名称",null,1438]
[1439,"道具-功法名称-占位","道具-功法名称",null,1439]
[1440,"道具-功法名称-占位","道具-功法名称",null,1440]
[1441,"道具-功法名称-占位","道具-功法名称",null,1441]
[1442,"道具-功法名称-占位","道具-功法名称",null,1442]
[1443,"道具-功法名称-占位","道具-功法名称",null,1443]
[1444,"道具-功法名称-占位","道具-功法名称",null,1444]
[1445,"道具-功法名称-占位","道具-功法名称",null,1445]
[1446,"道具-功法名称-占位","道具-功法名称",null,1446]
[1447,"道具-功法名称-占位","道具-功法名称",null,1447]
[1448,"道具-功法名称-占位","道具-功法名称",null,1448]
[1449,"道具-功法名称-占位","道具-功法名称",null,1449]
[1450,"道具-功法名称-占位","道具-功法名称",null,1450]
[1451,"道具-功法名称-占位","道具-功法名称",null,1451]
[1452,"道具-功法名称-占位","道具-功法名称",null,1452]
[1453,"道具-功法名称-占位","道具-功法名称",null,1453]
[1454,"道具-功法名称-占位","道具-功法名称",null,1454]
[1455,"道具-功法名称-占位","道具-功法名称",null,1455]
[1456,"道具-功法名称-占位","道具-功法名称",null,1456]
[1457,"道具-功法名称-占位","道具-功法名称",null,1457]
[1458,"道具-功法名称-占位","道具-功法名称",null,1458]
[1459,"道具-功法名称-占位","道具-功法名称",null,1459]
[1460,"道具-功法名称-占位","道具-功法名称",null,1460]
[1461,"道具-功法名称-占位","道具-功法名称",null,1461]
[1462,"道具-功法名称-占位","道具-功法名称",null,1462]
[1463,"道具-功法名称-占位","道具-功法名称",null,1463]
[1464,"道具-功法名称-占位","道具-功法名称",null,1464]
[1465,"道具-功法名称-占位","道具-功法名称",null,1465]
[1466,"道具-功法名称-占位","道具-功法名称",null,1466]
[1467,"道具-功法名称-占位","道具-功法名称",null,1467]
[1468,"道具-功法名称-占位","道具-功法名称",null,1468]
[1469,"道具-功法名称-占位","道具-功法名称",null,1469]
[1470,"道具-功法名称-占位","道具-功法名称",null,1470]
[1471,"道具-功法名称-占位","道具-功法名称",null,1471]
[1472,"道具-功法名称-占位","道具-功法名称",null,1472]
[1473,"道具-功法名称-占位","道具-功法名称",null,1473]
[1474,"道具-功法名称-占位","道具-功法名称",null,{"$f":"A1477","v":1474}]
[1475,"道具-功法名称-占位","道具-功法名称",null,1475]
[1476,"道具-功法名称-占位","道具-功法名称",null,1476]
[1477,"道具-功法名称-占位","道具-功法名称",null,1477]
[1478,"道具-功法名称-占位","道具-功法名称",null,1478]
[1479,"道具-功法名称-占位","道具-功法名称",null,1479]
[1480,"道具-功法名称-占位","道具-功法名称",null,1480]
[1481,"道具-功法名称-占位","道具-功法名称",null,1481]
[1482,"道具-功法名称-占位","道具-功法名称",null,1482]
[1483,"道具-功法名称-占位","道具-功法名称",null,1483]
[1484,"道具-功法名称-占位","道具-功法名称",null,1484]
[1485,"道具-功法名称-占位","道具-功法名称",null,1485]
[1486,"道具-功法名称-占位","道具-功法名称",null,1486]
[1487,"道具-功法名称-占位","道具-功法名称",null,1487]
[1488,"道具-功法名称-占位","道具-功法名称",null,1488]
[1489,"道具-功法名称-占位","道具-功法名称",null,1489]
[1490,"道具-功法名称-占位","道具-功法名称",null,1490]
[1491,"道具-功法名称-占位","道具-功法名称",null,1491]
[1492,"道具-功法名称-占位","道具-功法名称",null,1492]
[1493,"道具-功法名称-占位","道具-功法名称",null,1493]
[1494,"道具-功法名称-占位","道具-功法名称",null,1494]
[1495,"道具-功法名称-占位","道具-功法名称",null,1495]
[1496,"道具-功法名称-占位","道具-功法名称",null,1496]
[1497,"道具-功法名称-占位","道具-功法名称",null,1497]
[1498,"道具-功法名称-占位","道具-功法名称",null,1498]
[1499,"道具-功法名称-占位","道具-功法名称",null,1499]
[1500,{"$f":"CONCATENATE(D1503,\"---功法道具描述占位\")","v":"太虚幻剑经---功法道具描述占位"},"道具-功法描述","太虚幻剑经",1500]
[1501,{"$f":"CONCATENATE(D1504,\"---功法道具描述占位\")","v":"天罡剑气诀---功法道具描述占位"},"道具-功法描述","天罡剑气诀",1501]
[1502,"血刃金煌功---功法道具描述占位","道具-功法描述","血刃金煌功",1502]
[1503,"飞刃---功法道具描述占位","道具-功法描述","飞刃",1503]
[1504,"金针---功法道具描述占位","道具-功法描述","金针",1504]
[1505,"碧落幽冥劲---功法道具描述占位","道具-功法描述","碧落幽冥劲",1505]
[1506,"雾隐千流法---功法道具描述占位","道具-功法描述","雾隐千流法",1506]
[1507,"功法-水3---功法道具描述占位","道具-功法描述","功法-水3",1507]
[1508,"水球---功法道具描述占位","道具-功法描述","水球",1508]
[1509,"冰刀---功法道具描述占位","道具-功法描述","冰刀",1509]
[1510,"瘴影千丝术---功法道具描述占位","道具-功法描述","瘴影千丝术",1510]
[1511,"蚀骨腐血掌---功法道具描述占位","道具-功法描述","蚀骨腐血掌",1511]
[1512,"功法-木3---功法道具描述占位","道具-功法描述","功法-木3",1512]
[1513,"竹刺---功法道具描述占位","道具-功法描述","竹刺",1513]
[1514,"飞叶---功法道具描述占位","道具-功法描述","飞叶",1514]
[1515,"烈焰剑---功法道具描述占位","道具-功法描述","烈焰剑",1515]
[1516,"赤焰龙吟功---功法道具描述占位","道具-功法描述","赤焰龙吟功",1516]
[1517,"朱雀燎原指---功法道具描述占位","道具-功法描述","朱雀燎原指",1517]
[1518,"火球---功法道具描述占位","道具-功法描述","火球",1518]
[1519,"火刀---功法道具描述占位","道具-功法描述","火刀",1519]
[1520,"黄尘灭魂刺---功法道具描述占位","道具-功法描述","黄尘灭魂刺",1520]
[1521,"地裂屠龙斩---功法道具描述占位","道具-功法描述","地裂屠龙斩",1521]
[1522,"功法-土3---功法道具描述占位","道具-功法描述","功法-土3",1522]
[1523,"落石---功法道具描述占位","道具-功法描述","落石",1523]
[1524,"小石头---功法道具描述占位","道具-功法描述","小石头",1524]
[1525,{"$f":"CONCATENATE(D1528,\"---功法道具描述占位\")","v":"---功法道具描述占位"},"道具-功法描述",null,1525]
[1526,"---功法道具描述占位","道具-功法描述",null,1526]
[1527,"---功法道具描述占位","道具-功法描述",null,1527]
[1528,"---功法道具描述占位","道具-功法描述",null,1528]
[1529,"---功法道具描述占位","道具-功法描述",null,1529]
[1530,"---功法道具描述占位","道具-功法描述",null,1530]
[1531,"---功法道具描述占位","道具-功法描述",null,1531]
[1532,"---功法道具描述占位","道具-功法描述",null,1532]
[1533,"---功法道具描述占位","道具-功法描述",null,1533]
[1534,"---功法道具描述占位","道具-功法描述",null,1534]
[1535,"---功法道具描述占位","道具-功法描述",null,1535]
[1536,"---功法道具描述占位","道具-功法描述",null,1536]
[1537,"---功法道具描述占位","道具-功法描述",null,1537]
[1538,"---功法道具描述占位","道具-功法描述",null,{"$f":"A1541","v":1538}]
[1539,"---功法道具描述占位","道具-功法描述",null,1539]
[1540,"---功法道具描述占位","道具-功法描述",null,1540]
[1541,"---功法道具描述占位","道具-功法描述",null,1541]
[1542,"---功法道具描述占位","道具-功法描述",null,1542]
[1543,"---功法道具描述占位","道具-功法描述",null,1543]
[1544,"---功法道具描述占位","道具-功法描述",null,1544]
[1545,"---功法道具描述占位","道具-功法描述",null,1545]
[1546,"---功法道具描述占位","道具-功法描述",null,1546]
[1547,"---功法道具描述占位","道具-功法描述",null,1547]
[1548,"---功法道具描述占位","道具-功法描述",null,1548]
[1549,"---功法道具描述占位","道具-功法描述",null,1549]
[1550,"---功法道具描述占位","道具-功法描述",null,1550]
[1551,"---功法道具描述占位","道具-功法描述",null,1551]
[1552,"---功法道具描述占位","道具-功法描述",null,1552]
[1553,"---功法道具描述占位","道具-功法描述",null,1553]
[1554,"---功法道具描述占位","道具-功法描述",null,1554]
[1555,"---功法道具描述占位","道具-功法描述",null,1555]
[1556,"---功法道具描述占位","道具-功法描述",null,1556]
[1557,"---功法道具描述占位","道具-功法描述",null,1557]
[1558,"---功法道具描述占位","道具-功法描述",null,1558]
[1559,"---功法道具描述占位","道具-功法描述",null,1559]
[1560,"---功法道具描述占位","道具-功法描述",null,1560]
[1561,"---功法道具描述占位","道具-功法描述",null,1561]
[1562,"---功法道具描述占位","道具-功法描述",null,1562]
[1563,"---功法道具描述占位","道具-功法描述",null,1563]
[1564,"---功法道具描述占位","道具-功法描述",null,1564]
[1565,"---功法道具描述占位","道具-功法描述",null,1565]
[1566,"---功法道具描述占位","道具-功法描述",null,1566]
[1567,"---功法道具描述占位","道具-功法描述",null,1567]
[1568,"---功法道具描述占位","道具-功法描述",null,1568]
[1569,"---功法道具描述占位","道具-功法描述",null,1569]
[1570,"---功法道具描述占位","道具-功法描述",null,1570]
[1571,"---功法道具描述占位","道具-功法描述",null,1571]
[1572,"---功法道具描述占位","道具-功法描述",null,1572]
[1573,"---功法道具描述占位","道具-功法描述",null,1573]
[1574,"---功法道具描述占位","道具-功法描述",null,1574]
[1575,"---功法道具描述占位","道具-功法描述",null,1575]
[1576,"---功法道具描述占位","道具-功法描述",null,1576]
[1577,"---功法道具描述占位","道具-功法描述",null,1577]
[1578,"---功法道具描述占位","道具-功法描述",null,1578]
[1579,"---功法道具描述占位","道具-功法描述",null,1579]
[1580,"---功法道具描述占位","道具-功法描述",null,1580]
[1581,"---功法道具描述占位","道具-功法描述",null,1581]
[1582,"---功法道具描述占位","道具-功法描述",null,1582]
[1583,"---功法道具描述占位","道具-功法描述",null,1583]
[1584,"---功法道具描述占位","道具-功法描述",null,1584]
[1585,"---功法道具描述占位","道具-功法描述",null,1585]
[1586,"---功法道具描述占位","道具-功法描述",null,1586]
[1587,"---功法道具描述占位","道具-功法描述",null,1587]
[1588,"---功法道具描述占位","道具-功法描述",null,1588]
[1589,{"$f":"CONCATENATE(D1592,\"---功法道具描述占位\")","v":"---功法道具描述占位"},"道具-功法描述",null,1589]
[1590,"---功法道具描述占位","道具-功法描述",null,1590]
[1591,"---功法道具描述占位","道具-功法描述",null,1591]
[1592,"---功法道具描述占位","道具-功法描述",null,1592]
[1593,"---功法道具描述占位","道具-功法描述",null,1593]
[1594,"---功法道具描述占位","道具-功法描述",null,1594]
[1595,"---功法道具描述占位","道具-功法描述",null,1595]
[1596,"---功法道具描述占位","道具-功法描述",null,1596]
[1597,"---功法道具描述占位","道具-功法描述",null,1597]
[1598,"---功法道具描述占位","道具-功法描述",null,1598]
[1599,"---功法道具描述占位","道具-功法描述",null,1599]
[1600,{"$f":"VLOOKUP(A1603,[3]ItemConfig!$B:$C,2,FALSE)","v":"太虚幻剑经碎片"},"道具-功法碎片名称",null,1600]
[1601,{"$f":"VLOOKUP(A1604,[3]ItemConfig!$B:$C,2,FALSE)","v":"天罡剑气诀碎片"},"道具-功法碎片名称",null,1601]
[1602,{"$f":"VLOOKUP(A1605,[3]ItemConfig!$B:$C,2,FALSE)","v":"血刃金煌功碎片"},"道具-功法碎片名称",null,{"$f":"A1605","v":1602}]
[1603,{"$f":"VLOOKUP(A1606,[3]ItemConfig!$B:$C,2,FALSE)","v":"飞刃碎片"},"道具-功法碎片名称",null,1603]
[1604,{"$f":"VLOOKUP(A1607,[3]ItemConfig!$B:$C,2,FALSE)","v":"金针碎片"},"道具-功法碎片名称",null,1604]
[1605,{"$f":"VLOOKUP(A1608,[3]ItemConfig!$B:$C,2,FALSE)","v":"碧落幽冥劲碎片"},"道具-功法碎片名称",null,1605]
[1606,{"$f":"VLOOKUP(A1609,[3]ItemConfig!$B:$C,2,FALSE)","v":"雾隐千流法碎片"},"道具-功法碎片名称",null,1606]
[1607,{"$f":"VLOOKUP(A1610,[3]ItemConfig!$B:$C,2,FALSE)","v":"功法-水3碎片"},"道具-功法碎片名称",null,1607]
[1608,{"$f":"VLOOKUP(A1611,[3]ItemConfig!$B:$C,2,FALSE)","v":"水球碎片"},"道具-功法碎片名称",null,1608]
[1609,{"$f":"VLOOKUP(A1612,[3]ItemConfig!$B:$C,2,FALSE)","v":"冰刀碎片"},"道具-功法碎片名称",null,1609]
[1610,{"$f":"VLOOKUP(A1613,[3]ItemConfig!$B:$C,2,FALSE)","v":"瘴影千丝术碎片"},"道具-功法碎片名称",null,1610]
[1611,{"$f":"VLOOKUP(A1614,[3]ItemConfig!$B:$C,2,FALSE)","v":"蚀骨腐血掌碎片"},"道具-功法碎片名称",null,1611]
[1612,{"$f":"VLOOKUP(A1615,[3]ItemConfig!$B:$C,2,FALSE)","v":"功法-木3碎片"},"道具-功法碎片名称",null,1612]
[1613,{"$f":"VLOOKUP(A1616,[3]ItemConfig!$B:$C,2,FALSE)","v":"竹刺碎片"},"道具-功法碎片名称",null,1613]
[1614,{"$f":"VLOOKUP(A1617,[3]ItemConfig!$B:$C,2,FALSE)","v":"飞叶碎片"},"道具-功法碎片名称",null,1614]
[1615,{"$f":"VLOOKUP(A1618,[3]ItemConfig!$B:$C,2,FALSE)","v":"烈焰剑碎片"},"道具-功法碎片名称",null,1615]
[1616,{"$f":"VLOOKUP(A1619,[3]ItemConfig!$B:$C,2,FALSE)","v":"赤焰龙吟功碎片"},"道具-功法碎片名称",null,1616]
[1617,{"$f":"VLOOKUP(A1620,[3]ItemConfig!$B:$C,2,FALSE)","v":"朱雀燎原指碎片"},"道具-功法碎片名称",null,1617]
[1618,{"$f":"VLOOKUP(A1621,[3]ItemConfig!$B:$C,2,FALSE)","v":"火球碎片"},"道具-功法碎片名称",null,1618]
[1619,{"$f":"VLOOKUP(A1622,[3]ItemConfig!$B:$C,2,FALSE)","v":"火刀碎片"},"道具-功法碎片名称",null,1619]
[1620,{"$f":"VLOOKUP(A1623,[3]ItemConfig!$B:$C,2,FALSE)","v":"黄尘灭魂刺碎片"},"道具-功法碎片名称",null,1620]
[1621,{"$f":"VLOOKUP(A1624,[3]ItemConfig!$B:$C,2,FALSE)","v":"地裂屠龙斩碎片"},"道具-功法碎片名称",null,1621]
[1622,{"$f":"VLOOKUP(A1625,[3]ItemConfig!$B:$C,2,FALSE)","v":"功法-土3碎片"},"道具-功法碎片名称",null,1622]
[1623,{"$f":"VLOOKUP(A1626,[3]ItemConfig!$B:$C,2,FALSE)","v":"落石碎片"},"道具-功法碎片名称",null,1623]
[1624,{"$f":"VLOOKUP(A1627,[3]ItemConfig!$B:$C,2,FALSE)","v":"小石头碎片"},"道具-功法碎片名称",null,1624]
[1625,{"$f":"VLOOKUP(A1628,[3]ItemConfig!$B:$C,2,FALSE)","v":"天衍星辰诀碎片"},"道具-功法碎片名称",null,1625]
[1626,{"$f":"VLOOKUP(A1629,[3]ItemConfig!$B:$C,2,FALSE)","v":"法宝秘籍碎片"},"道具-功法碎片名称",null,1626]
[1627,{"$f":"VLOOKUP(A1630,[3]ItemConfig!$B:$C,2,FALSE)","v":"崩脉决碎片"},"道具-功法碎片名称",null,1627]
[1628,{"$f":"VLOOKUP(A1631,[3]ItemConfig!$B:$C,2,FALSE)","v":"两仪决碎片"},"道具-功法碎片名称",null,1628]
[1629,{"$f":"VLOOKUP(A1632,[3]ItemConfig!$B:$C,2,FALSE)","v":"火焰决碎片"},"道具-功法碎片名称",null,1629]
[1630,{"$f":"VLOOKUP(A1633,[3]ItemConfig!$B:$C,2,FALSE)","v":"乾坤巨灵诀碎片"},"道具-功法碎片名称",null,1630]
[1631,{"$f":"VLOOKUP(A1634,[3]ItemConfig!$B:$C,2,FALSE)","v":"极速齿轮碎片"},"道具-功法碎片名称",null,1631]
[1632,{"$f":"VLOOKUP(A1635,[3]ItemConfig!$B:$C,2,FALSE)","v":"太虚剑意碎片"},"道具-功法碎片名称",null,1632]
[1633,{"$f":"VLOOKUP(A1636,[3]ItemConfig!$B:$C,2,FALSE)","v":"青莲净体诀碎片"},"道具-功法碎片名称",null,1633]
[1634,{"$f":"VLOOKUP(A1637,[3]ItemConfig!$B:$C,2,FALSE)","v":"碧霄回春术碎片"},"道具-功法碎片名称",null,1634]
[1635,"功法碎片名称占位----------------","道具-功法碎片名称",null,1635]
[1636,"功法碎片名称占位----------------","道具-功法碎片名称",null,1636]
[1637,"功法碎片名称占位----------------","道具-功法碎片名称",null,1637]
[1638,"功法碎片名称占位----------------","道具-功法碎片名称",null,1638]
[1639,"功法碎片名称占位----------------","道具-功法碎片名称",null,1639]
[1640,"功法碎片名称占位----------------","道具-功法碎片名称",null,1640]
[1641,"功法碎片名称占位----------------","道具-功法碎片名称",null,1641]
[1642,"功法碎片名称占位----------------","道具-功法碎片名称",null,1642]
[1643,"功法碎片名称占位----------------","道具-功法碎片名称",null,1643]
[1644,"功法碎片名称占位----------------","道具-功法碎片名称",null,1644]
[1645,"功法碎片名称占位----------------","道具-功法碎片名称",null,1645]
[1646,"功法碎片名称占位----------------","道具-功法碎片名称",null,1646]
[1647,"功法碎片名称占位----------------","道具-功法碎片名称",null,1647]
[1648,"功法碎片名称占位----------------","道具-功法碎片名称",null,1648]
[1649,"功法碎片名称占位----------------","道具-功法碎片名称",null,1649]
[1650,"功法碎片名称占位----------------","道具-功法碎片名称",null,1650]
[1651,"功法碎片名称占位----------------","道具-功法碎片名称",null,1651]
[1652,"功法碎片名称占位----------------","道具-功法碎片名称",null,1652]
[1653,"功法碎片名称占位----------------","道具-功法碎片名称",null,1653]
[1654,"功法碎片名称占位----------------","道具-功法碎片名称",null,1654]
[1655,"功法碎片名称占位----------------","道具-功法碎片名称",null,1655]
[1656,"功法碎片名称占位----------------","道具-功法碎片名称",null,1656]
[1657,"功法碎片名称占位----------------","道具-功法碎片名称",null,1657]
[1658,"功法碎片名称占位----------------","道具-功法碎片名称",null,1658]
[1659,"功法碎片名称占位----------------","道具-功法碎片名称",null,1659]
[1660,"功法碎片名称占位----------------","道具-功法碎片名称",null,1660]
[1661,"功法碎片名称占位----------------","道具-功法碎片名称",null,1661]
[1662,"功法碎片名称占位----------------","道具-功法碎片名称",null,1662]
[1663,"功法碎片名称占位----------------","道具-功法碎片名称",null,1663]
[1664,"功法碎片名称占位----------------","道具-功法碎片名称",null,1664]
[1665,"功法碎片名称占位----------------","道具-功法碎片名称",null,1665]
[1666,"功法碎片名称占位----------------","道具-功法碎片名称",null,{"$f":"A1669","v":1666}]
[1667,"功法碎片名称占位----------------","道具-功法碎片名称",null,1667]
[1668,"功法碎片名称占位----------------","道具-功法碎片名称",null,1668]
[1669,"功法碎片名称占位----------------","道具-功法碎片名称",null,1669]
[1670,"功法碎片名称占位----------------","道具-功法碎片名称",null,1670]
[1671,"功法碎片名称占位----------------","道具-功法碎片名称",null,1671]
[1672,"功法碎片名称占位----------------","道具-功法碎片名称",null,1672]
[1673,"功法碎片名称占位----------------","道具-功法碎片名称",null,1673]
[1674,"功法碎片名称占位----------------","道具-功法碎片名称",null,1674]
[1675,"功法碎片名称占位----------------","道具-功法碎片名称",null,1675]
[1676,"功法碎片名称占位----------------","道具-功法碎片名称",null,1676]
[1677,"功法碎片名称占位----------------","道具-功法碎片名称",null,1677]
[1678,"功法碎片名称占位----------------","道具-功法碎片名称",null,1678]
[1679,"功法碎片名称占位----------------","道具-功法碎片名称",null,1679]
[1680,"功法碎片名称占位----------------","道具-功法碎片名称",null,1680]
[1681,"功法碎片名称占位----------------","道具-功法碎片名称",null,1681]
[1682,"功法碎片名称占位----------------","道具-功法碎片名称",null,1682]
[1683,"功法碎片名称占位----------------","道具-功法碎片名称",null,1683]
[1684,"功法碎片名称占位----------------","道具-功法碎片名称",null,1684]
[1685,"功法碎片名称占位----------------","道具-功法碎片名称",null,1685]
[1686,"功法碎片名称占位----------------","道具-功法碎片名称",null,1686]
[1687,"功法碎片名称占位----------------","道具-功法碎片名称",null,1687]
[1688,"功法碎片名称占位----------------","道具-功法碎片名称",null,1688]
[1689,"功法碎片名称占位----------------","道具-功法碎片名称",null,1689]
[1690,"功法碎片名称占位----------------","道具-功法碎片名称",null,1690]
[1691,"功法碎片名称占位----------------","道具-功法碎片名称",null,1691]
[1692,"功法碎片名称占位----------------","道具-功法碎片名称",null,1692]
[1693,"功法碎片名称占位----------------","道具-功法碎片名称",null,1693]
[1694,"功法碎片名称占位----------------","道具-功法碎片名称",null,1694]
[1695,"功法碎片名称占位----------------","道具-功法碎片名称",null,1695]
[1696,"功法碎片名称占位----------------","道具-功法碎片名称",null,1696]
[1697,"功法碎片名称占位----------------","道具-功法碎片名称",null,1697]
[1698,"功法碎片名称占位----------------","道具-功法碎片名称",null,1698]
[1699,"功法碎片名称占位----------------","道具-功法碎片名称",null,1699]
[1700,{"$f":"CONCATENATE(\"用于功法-\",D1703,\"-的升星\")","v":"用于功法-太虚幻剑经-的升星"},"道具-功法碎片描述","太虚幻剑经",1700]
[1701,{"$f":"CONCATENATE(\"用于功法-\",D1704,\"-的升星\")","v":"用于功法-天罡剑气诀-的升星"},"道具-功法碎片描述","天罡剑气诀",1701]
[1702,"用于功法-血刃金煌功-的升星","道具-功法碎片描述","血刃金煌功",1702]
[1703,"用于功法-飞刃-的升星","道具-功法碎片描述","飞刃",1703]
[1704,"用于功法-金针-的升星","道具-功法碎片描述","金针",1704]
[1705,"用于功法-碧落幽冥劲-的升星","道具-功法碎片描述","碧落幽冥劲",1705]
[1706,"用于功法-雾隐千流法-的升星","道具-功法碎片描述","雾隐千流法",1706]
[1707,"用于功法-功法-水3-的升星","道具-功法碎片描述","功法-水3",1707]
[1708,"用于功法-水球-的升星","道具-功法碎片描述","水球",1708]
[1709,"用于功法-冰刀-的升星","道具-功法碎片描述","冰刀",1709]
[1710,"用于功法-瘴影千丝术-的升星","道具-功法碎片描述","瘴影千丝术",1710]
[1711,"用于功法-蚀骨腐血掌-的升星","道具-功法碎片描述","蚀骨腐血掌",1711]
[1712,"用于功法-功法-木3-的升星","道具-功法碎片描述","功法-木3",1712]
[1713,"用于功法-竹刺-的升星","道具-功法碎片描述","竹刺",1713]
[1714,"用于功法-飞叶-的升星","道具-功法碎片描述","飞叶",1714]
[1715,"用于功法-烈焰剑-的升星","道具-功法碎片描述","烈焰剑",1715]
[1716,"用于功法-赤焰龙吟功-的升星","道具-功法碎片描述","赤焰龙吟功",1716]
[1717,"用于功法-朱雀燎原指-的升星","道具-功法碎片描述","朱雀燎原指",1717]
[1718,"用于功法-火球-的升星","道具-功法碎片描述","火球",1718]
[1719,"用于功法-火刀-的升星","道具-功法碎片描述","火刀",1719]
[1720,"用于功法-黄尘灭魂刺-的升星","道具-功法碎片描述","黄尘灭魂刺",1720]
[1721,"用于功法-地裂屠龙斩-的升星","道具-功法碎片描述","地裂屠龙斩",1721]
[1722,"用于功法-功法-土3-的升星","道具-功法碎片描述","功法-土3",1722]
[1723,"用于功法-落石-的升星","道具-功法碎片描述","落石",1723]
[1724,"用于功法-小石头-的升星","道具-功法碎片描述","小石头",1724]
[1725,{"$f":"CONCATENATE(\"用于功法-\",D1728,\"-的升星\")","v":"用于功法-天衍星辰诀-的升星"},"道具-功法碎片描述","天衍星辰诀",1725]
[1726,"用于功法-法宝秘籍-的升星","道具-功法碎片描述","法宝秘籍",1726]
[1727,"用于功法-崩脉决-的升星","道具-功法碎片描述","崩脉决",1727]
[1728,"用于功法-两仪决-的升星","道具-功法碎片描述","两仪决",1728]
[1729,"用于功法-火焰决-的升星","道具-功法碎片描述","火焰决",1729]
[1730,"用于功法-乾坤巨灵诀-的升星","道具-功法碎片描述","乾坤巨灵诀",{"$f":"A1733","v":1730}]
[1731,"用于功法-极速齿轮-的升星","道具-功法碎片描述","极速齿轮",1731]
[1732,"用于功法-太虚剑意-的升星","道具-功法碎片描述","太虚剑意",1732]
[1733,"用于功法-青莲净体诀-的升星","道具-功法碎片描述","青莲净体诀",1733]
[1734,"用于功法-碧霄回春术-的升星","道具-功法碎片描述","碧霄回春术",1734]
[1735,"用于功法--的升星","道具-功法碎片描述",null,1735]
[1736,"用于功法--的升星","道具-功法碎片描述",null,1736]
[1737,"用于功法--的升星","道具-功法碎片描述",null,1737]
[1738,"用于功法--的升星","道具-功法碎片描述",null,1738]
[1739,"用于功法--的升星","道具-功法碎片描述",null,1739]
[1740,"用于功法--的升星","道具-功法碎片描述",null,1740]
[1741,"用于功法--的升星","道具-功法碎片描述",null,1741]
[1742,"用于功法--的升星","道具-功法碎片描述",null,1742]
[1743,"用于功法--的升星","道具-功法碎片描述",null,1743]
[1744,"用于功法--的升星","道具-功法碎片描述",null,1744]
[1745,"用于功法--的升星","道具-功法碎片描述",null,1745]
[1746,"用于功法--的升星","道具-功法碎片描述",null,1746]
[1747,{"$f":"CONCATENATE(\"用于功法-\",D1750,\"-的升星\")","v":"用于功法--的升星"},"道具-功法碎片描述",null,1747]
[1748,"用于功法--的升星","道具-功法碎片描述",null,1748]
[1749,"用于功法--的升星","道具-功法碎片描述",null,1749]
[1750,"用于功法--的升星","道具-功法碎片描述",null,1750]
[1751,"用于功法--的升星","道具-功法碎片描述",null,1751]
[1752,"用于功法--的升星","道具-功法碎片描述",null,1752]
[1753,"用于功法--的升星","道具-功法碎片描述",null,1753]
[1754,"用于功法--的升星","道具-功法碎片描述",null,1754]
[1755,"用于功法--的升星","道具-功法碎片描述",null,1755]
[1756,"用于功法--的升星","道具-功法碎片描述",null,1756]
[1757,"用于功法--的升星","道具-功法碎片描述",null,1757]
[1758,"用于功法--的升星","道具-功法碎片描述",null,1758]
[1759,"用于功法--的升星","道具-功法碎片描述",null,1759]
[1760,"用于功法--的升星","道具-功法碎片描述",null,1760]
[1761,"用于功法--的升星","道具-功法碎片描述",null,1761]
[1762,"用于功法--的升星","道具-功法碎片描述",null,1762]
[1763,"用于功法--的升星","道具-功法碎片描述",null,1763]
[1764,"用于功法--的升星","道具-功法碎片描述",null,1764]
[1765,"用于功法--的升星","道具-功法碎片描述",null,1765]
[1766,"用于功法--的升星","道具-功法碎片描述",null,1766]
[1767,"用于功法--的升星","道具-功法碎片描述",null,1767]
[1768,"用于功法--的升星","道具-功法碎片描述",null,1768]
[1769,"用于功法--的升星","道具-功法碎片描述",null,1769]
[1770,"用于功法--的升星","道具-功法碎片描述",null,1770]
[1771,"用于功法--的升星","道具-功法碎片描述",null,1771]
[1772,"用于功法--的升星","道具-功法碎片描述",null,1772]
[1773,"用于功法--的升星","道具-功法碎片描述",null,1773]
[1774,"用于功法--的升星","道具-功法碎片描述",null,1774]
[1775,"用于功法--的升星","道具-功法碎片描述",null,1775]
[1776,"用于功法--的升星","道具-功法碎片描述",null,1776]
[1777,"用于功法--的升星","道具-功法碎片描述",null,1777]
[1778,"用于功法--的升星","道具-功法碎片描述",null,1778]
[1779,"用于功法--的升星","道具-功法碎片描述",null,1779]
[1780,"用于功法--的升星","道具-功法碎片描述",null,1780]
[1781,"用于功法--的升星","道具-功法碎片描述",null,1781]
[1782,"用于功法--的升星","道具-功法碎片描述",null,1782]
[1783,"用于功法--的升星","道具-功法碎片描述",null,1783]
[1784,"用于功法--的升星","道具-功法碎片描述",null,1784]
[1785,"用于功法--的升星","道具-功法碎片描述",null,1785]
[1786,"用于功法--的升星","道具-功法碎片描述",null,1786]
[1787,"用于功法--的升星","道具-功法碎片描述",null,1787]
[1788,"用于功法--的升星","道具-功法碎片描述",null,1788]
[1789,"用于功法--的升星","道具-功法碎片描述",null,1789]
[1790,"用于功法--的升星","道具-功法碎片描述",null,1790]
[1791,"用于功法--的升星","道具-功法碎片描述",null,1791]
[1792,"用于功法--的升星","道具-功法碎片描述",null,1792]
[1793,"用于功法--的升星","道具-功法碎片描述",null,1793]
[1794,"用于功法--的升星","道具-功法碎片描述",null,{"$f":"A1797","v":1794}]
[1795,"用于功法--的升星","道具-功法碎片描述",null,1795]
[1796,"用于功法--的升星","道具-功法碎片描述",null,1796]
[1797,"用于功法--的升星","道具-功法碎片描述",null,1797]
[1798,"用于功法--的升星","道具-功法碎片描述",null,1798]
[1799,"用于功法--的升星","道具-功法碎片描述",null,1799]
[1800,{"$f":"VLOOKUP(A1803,[3]ItemConfig!$B:$C,2,FALSE)","v":"天衍星辰诀"},"道具-被动功法名称",null,1800]
[1801,{"$f":"VLOOKUP(A1804,[3]ItemConfig!$B:$C,2,FALSE)","v":"法宝秘籍"},"道具-被动功法名称",null,1801]
[1802,{"$f":"VLOOKUP(A1805,[3]ItemConfig!$B:$C,2,FALSE)","v":"崩脉决"},"道具-被动功法名称",null,1802]
[1803,{"$f":"VLOOKUP(A1806,[3]ItemConfig!$B:$C,2,FALSE)","v":"两仪决"},"道具-被动功法名称",null,1803]
[1804,{"$f":"VLOOKUP(A1807,[3]ItemConfig!$B:$C,2,FALSE)","v":"火焰决"},"道具-被动功法名称",null,1804]
[1805,{"$f":"VLOOKUP(A1808,[3]ItemConfig!$B:$C,2,FALSE)","v":"乾坤巨灵诀"},"道具-被动功法名称",null,1805]
[1806,{"$f":"VLOOKUP(A1809,[3]ItemConfig!$B:$C,2,FALSE)","v":"极速齿轮"},"道具-被动功法名称",null,1806]
[1807,{"$f":"VLOOKUP(A1810,[3]ItemConfig!$B:$C,2,FALSE)","v":"太虚剑意"},"道具-被动功法名称",null,1807]
[1808,{"$f":"VLOOKUP(A1811,[3]ItemConfig!$B:$C,2,FALSE)","v":"青莲净体诀"},"道具-被动功法名称",null,1808]
[1809,{"$f":"VLOOKUP(A1812,[3]ItemConfig!$B:$C,2,FALSE)","v":"碧霄回春术"},"道具-被动功法名称",null,1809]
[1810,"被动功法名称------占位","道具-被动功法名称",null,1810]
[1811,"被动功法名称------占位","道具-被动功法名称",null,1811]
[1812,"被动功法名称------占位","道具-被动功法名称",null,1812]
[1813,"被动功法名称------占位","道具-被动功法名称",null,1813]
[1814,"被动功法名称------占位","道具-被动功法名称",null,1814]
[1815,"被动功法名称------占位","道具-被动功法名称",null,1815]
[1816,"被动功法名称------占位","道具-被动功法名称",null,1816]
[1817,"被动功法名称------占位","道具-被动功法名称",null,1817]
[1818,"被动功法名称------占位","道具-被动功法名称",null,1818]
[1819,"被动功法名称------占位","道具-被动功法名称",null,1819]
[1820,"被动功法名称------占位","道具-被动功法名称",null,1820]
[1821,"被动功法名称------占位","道具-被动功法名称",null,1821]
[1822,"被动功法名称------占位","道具-被动功法名称",null,1822]
[1823,"被动功法名称------占位","道具-被动功法名称",null,1823]
[1824,"被动功法名称------占位","道具-被动功法名称",null,1824]
[1825,"被动功法名称------占位","道具-被动功法名称",null,1825]
[1826,"被动功法名称------占位","道具-被动功法名称",null,1826]
[1827,"被动功法名称------占位","道具-被动功法名称",null,1827]
[1828,"被动功法名称------占位","道具-被动功法名称",null,1828]
[1829,"被动功法名称------占位","道具-被动功法名称",null,1829]
[1830,"被动功法名称------占位","道具-被动功法名称",null,1830]
[1831,"被动功法名称------占位","道具-被动功法名称",null,1831]
[1832,"被动功法名称------占位","道具-被动功法名称",null,1832]
[1833,"被动功法名称------占位","道具-被动功法名称",null,1833]
[1834,"被动功法名称------占位","道具-被动功法名称",null,1834]
[1835,"被动功法名称------占位","道具-被动功法名称",null,1835]
[1836,"被动功法名称------占位","道具-被动功法名称",null,1836]
[1837,"被动功法名称------占位","道具-被动功法名称",null,1837]
[1838,"被动功法名称------占位","道具-被动功法名称",null,1838]
[1839,"被动功法名称------占位","道具-被动功法名称",null,1839]
[1840,"被动功法名称------占位","道具-被动功法名称",null,1840]
[1841,"被动功法名称------占位","道具-被动功法名称",null,1841]
[1842,"被动功法名称------占位","道具-被动功法名称",null,1842]
[1843,"被动功法名称------占位","道具-被动功法名称",null,1843]
[1844,"被动功法名称------占位","道具-被动功法名称",null,1844]
[1845,"被动功法名称------占位","道具-被动功法名称",null,1845]
[1846,"被动功法名称------占位","道具-被动功法名称",null,1846]
[1847,"被动功法名称------占位","道具-被动功法名称",null,1847]
[1848,"被动功法名称------占位","道具-被动功法名称",null,1848]
[1849,"被动功法名称------占位","道具-被动功法名称",null,1849]
[1850,{"$f":"CONCATENATE(\"使用后获得被动功法-\",D1853)","v":"使用后获得被动功法-天衍星辰诀"},"道具-被动功法描述","天衍星辰诀",1850]
[1851,{"$f":"CONCATENATE(\"使用后获得被动功法-\",D1854)","v":"使用后获得被动功法-法宝秘籍"},"道具-被动功法描述","法宝秘籍",1851]
[1852,"使用后获得被动功法-崩脉决","道具-被动功法描述","崩脉决",1852]
[1853,"使用后获得被动功法-两仪决","道具-被动功法描述","两仪决",1853]
[1854,"使用后获得被动功法-火焰决","道具-被动功法描述","火焰决",1854]
[1855,"使用后获得被动功法-乾坤巨灵诀","道具-被动功法描述","乾坤巨灵诀",1855]
[1856,"使用后获得被动功法-极速齿轮","道具-被动功法描述","极速齿轮",1856]
[1857,"使用后获得被动功法-太虚剑意","道具-被动功法描述","太虚剑意",1857]
[1858,"使用后获得被动功法-青莲净体诀","道具-被动功法描述","青莲净体诀",{"$f":"A1861","v":1858}]
[1859,"使用后获得被动功法-碧霄回春术","道具-被动功法描述","碧霄回春术",1859]
[1860,{"$f":"CONCATENATE(\"使用后获得被动功法-\",D1863)","v":"使用后获得被动功法-"},"道具-被动功法描述",null,1860]
[1861,"使用后获得被动功法-","道具-被动功法描述",null,1861]
[1862,"使用后获得被动功法-","道具-被动功法描述",null,1862]
[1863,"使用后获得被动功法-","道具-被动功法描述",null,1863]
[1864,"使用后获得被动功法-","道具-被动功法描述",null,1864]
[1865,"使用后获得被动功法-","道具-被动功法描述",null,1865]
[1866,"使用后获得被动功法-","道具-被动功法描述",null,1866]
[1867,"使用后获得被动功法-","道具-被动功法描述",null,1867]
[1868,"使用后获得被动功法-","道具-被动功法描述",null,1868]
[1869,"使用后获得被动功法-","道具-被动功法描述",null,1869]
[1870,"使用后获得被动功法-","道具-被动功法描述",null,1870]
[1871,"使用后获得被动功法-","道具-被动功法描述",null,1871]
[1872,"使用后获得被动功法-","道具-被动功法描述",null,1872]
[1873,"使用后获得被动功法-","道具-被动功法描述",null,1873]
[1874,"使用后获得被动功法-","道具-被动功法描述",null,1874]
[1875,"使用后获得被动功法-","道具-被动功法描述",null,1875]
[1876,"使用后获得被动功法-","道具-被动功法描述",null,1876]
[1877,"使用后获得被动功法-","道具-被动功法描述",null,1877]
[1878,"使用后获得被动功法-","道具-被动功法描述",null,1878]
[1879,"使用后获得被动功法-","道具-被动功法描述",null,1879]
[1880,"使用后获得被动功法-","道具-被动功法描述",null,1880]
[1881,"使用后获得被动功法-","道具-被动功法描述",null,1881]
[1882,"使用后获得被动功法-","道具-被动功法描述",null,1882]
[1883,"使用后获得被动功法-","道具-被动功法描述",null,1883]
[1884,"使用后获得被动功法-","道具-被动功法描述",null,1884]
[1885,"使用后获得被动功法-","道具-被动功法描述",null,1885]
[1886,"使用后获得被动功法-","道具-被动功法描述",null,1886]
[1887,"使用后获得被动功法-","道具-被动功法描述",null,1887]
[1888,"使用后获得被动功法-","道具-被动功法描述",null,1888]
[1889,"使用后获得被动功法-","道具-被动功法描述",null,1889]
[1890,"使用后获得被动功法-","道具-被动功法描述",null,1890]
[1891,"使用后获得被动功法-","道具-被动功法描述",null,1891]
[1892,"使用后获得被动功法-","道具-被动功法描述",null,1892]
[1893,"使用后获得被动功法-","道具-被动功法描述",null,1893]
[1894,"使用后获得被动功法-","道具-被动功法描述",null,1894]
[1895,"使用后获得被动功法-","道具-被动功法描述",null,1895]
[1896,"使用后获得被动功法-","道具-被动功法描述",null,1896]
[1897,"使用后获得被动功法-","道具-被动功法描述",null,1897]
[1898,"使用后获得被动功法-","道具-被动功法描述",null,1898]
[1899,"使用后获得被动功法-","道具-被动功法描述",null,1899]
[1900,"GM商店",null,null,1900]
[1901,{"$f":"_xlfn.TEXTJOIN(\"\",1,IFERROR(VLOOKUP(A1904,[1]EventConfig!$T:$V,3,FALSE),\"\"),IFERROR(VLOOKUP(A1904,[1]EventConfig!$U:$W,3,FALSE),\"\"),IFERROR(VLOOKUP(A1904,[1]EventLinkConfig!$B:$C,2,FALSE),\"\"),IFERROR(VLOOKUP(A1904,[1]EventLinkConfig!$D:$E,2,FALSE),\"\"),IFERROR(VLOOKUP(A1904,[1]EventLinkConfig!$L:$M,2,FALSE),\"\"),IFERROR(VLOOKUP(A1904,[1]EventLinkConfig!$X:$Y,2,FALSE),\"\"),IFERROR(VLOOKUP(A1904,[1]EventLinkConfig!$AA:$AB,2,FALSE),\"\"),IFERROR(VLOOKUP(A1904,[1]EventConditionConfig!$B:$D,3,FALSE),\"\"))","v":"事件10005：一只[怪物2]袭击了你，准备迎战"},"神识事件文本",null,1901]
[1902,{"$f":"_xlfn.TEXTJOIN(\"\",1,IFERROR(VLOOKUP(A1905,[1]EventConfig!$T:$V,3,FALSE),\"\"),IFERROR(VLOOKUP(A1905,[1]EventConfig!$U:$W,3,FALSE),\"\"),IFERROR(VLOOKUP(A1905,[1]EventLinkConfig!$B:$C,2,FALSE),\"\"),IFERROR(VLOOKUP(A1905,[1]EventLinkConfig!$D:$E,2,FALSE),\"\"),IFERROR(VLOOKUP(A1905,[1]EventLinkConfig!$L:$M,2,FALSE),\"\"),IFERROR(VLOOKUP(A1905,[1]EventLinkConfig!$X:$Y,2,FALSE),\"\"),IFERROR(VLOOKUP(A1905,[1]EventLinkConfig!$AA:$AB,2,FALSE),\"\"),IFERROR(VLOOKUP(A1905,[1]EventConditionConfig!$B:$D,3,FALSE),\"\"))","v":"事件10006：一只[怪物3]袭击了你，准备迎战"},"神识事件文本",null,1902]
[1903,{"$f":"_xlfn.TEXTJOIN(\"\",1,IFERROR(VLOOKUP(A1906,[1]EventConfig!$T:$V,3,FALSE),\"\"),IFERROR(VLOOKUP(A1906,[1]EventConfig!$U:$W,3,FALSE),\"\"),IFERROR(VLOOKUP(A1906,[1]EventLinkConfig!$B:$C,2,FALSE),\"\"),IFERROR(VLOOKUP(A1906,[1]EventLinkConfig!$D:$E,2,FALSE),\"\"),IFERROR(VLOOKUP(A1906,[1]EventLinkConfig!$L:$M,2,FALSE),\"\"),IFERROR(VLOOKUP(A1906,[1]EventLinkConfig!$X:$Y,2,FALSE),\"\"),IFERROR(VLOOKUP(A1906,[1]EventLinkConfig!$AA:$AB,2,FALSE),\"\"),IFERROR(VLOOKUP(A1906,[1]EventConditionConfig!$B:$D,3,FALSE),\"\"))","v":"你仔细研读后，功法得到精进"},"神识事件文本",null,1903]
[1904,"法宝商店",null,null,1904]
[1905,"功法商店",null,null,1905]
[1906,{"$f":"_xlfn.TEXTJOIN(\"\",1,IFERROR(VLOOKUP(A1909,[1]EventConfig!$T:$V,3,FALSE),\"\"),IFERROR(VLOOKUP(A1909,[1]EventConfig!$U:$W,3,FALSE),\"\"),IFERROR(VLOOKUP(A1909,[1]EventLinkConfig!$B:$C,2,FALSE),\"\"),IFERROR(VLOOKUP(A1909,[1]EventLinkConfig!$D:$E,2,FALSE),\"\"),IFERROR(VLOOKUP(A1909,[1]EventLinkConfig!$L:$M,2,FALSE),\"\"),IFERROR(VLOOKUP(A1909,[1]EventLinkConfig!$X:$Y,2,FALSE),\"\"),IFERROR(VLOOKUP(A1909,[1]EventLinkConfig!$AA:$AB,2,FALSE),\"\"),IFERROR(VLOOKUP(A1909,[1]EventConditionConfig!$B:$D,3,FALSE),\"\"))","v":"鲲鹏何在"},"任务&事件文本",null,1906]
[1907,{"$f":"_xlfn.TEXTJOIN(\"\",1,IFERROR(VLOOKUP(A1910,[1]EventConfig!$T:$V,3,FALSE),\"\"),IFERROR(VLOOKUP(A1910,[1]EventConfig!$U:$W,3,FALSE),\"\"),IFERROR(VLOOKUP(A1910,[1]EventLinkConfig!$B:$C,2,FALSE),\"\"),IFERROR(VLOOKUP(A1910,[1]EventLinkConfig!$D:$E,2,FALSE),\"\"),IFERROR(VLOOKUP(A1910,[1]EventLinkConfig!$L:$M,2,FALSE),\"\"),IFERROR(VLOOKUP(A1910,[1]EventLinkConfig!$X:$Y,2,FALSE),\"\"),IFERROR(VLOOKUP(A1910,[1]EventLinkConfig!$AA:$AB,2,FALSE),\"\"),IFERROR(VLOOKUP(A1910,[1]EventConditionConfig!$B:$D,3,FALSE),\"\"))","v":"北海迷径1"},"任务&事件文本",null,1907]
[1908,{"$f":"_xlfn.TEXTJOIN(\"\",1,IFERROR(VLOOKUP(A1911,[1]EventConfig!$T:$V,3,FALSE),\"\"),IFERROR(VLOOKUP(A1911,[1]EventConfig!$U:$W,3,FALSE),\"\"),IFERROR(VLOOKUP(A1911,[1]EventLinkConfig!$B:$C,2,FALSE),\"\"),IFERROR(VLOOKUP(A1911,[1]EventLinkConfig!$D:$E,2,FALSE),\"\"),IFERROR(VLOOKUP(A1911,[1]EventLinkConfig!$L:$M,2,FALSE),\"\"),IFERROR(VLOOKUP(A1911,[1]EventLinkConfig!$X:$Y,2,FALSE),\"\"),IFERROR(VLOOKUP(A1911,[1]EventLinkConfig!$AA:$AB,2,FALSE),\"\"),IFERROR(VLOOKUP(A1911,[1]EventConditionConfig!$B:$D,3,FALSE),\"\"))","v":"北海迷径2"},"任务&事件文本",null,1908]
[1909,{"$f":"_xlfn.TEXTJOIN(\"\",1,IFERROR(VLOOKUP(A1912,[1]EventConfig!$T:$V,3,FALSE),\"\"),IFERROR(VLOOKUP(A1912,[1]EventConfig!$U:$W,3,FALSE),\"\"),IFERROR(VLOOKUP(A1912,[1]EventLinkConfig!$B:$C,2,FALSE),\"\"),IFERROR(VLOOKUP(A1912,[1]EventLinkConfig!$D:$E,2,FALSE),\"\"),IFERROR(VLOOKUP(A1912,[1]EventLinkConfig!$L:$M,2,FALSE),\"\"),IFERROR(VLOOKUP(A1912,[1]EventLinkConfig!$X:$Y,2,FALSE),\"\"),IFERROR(VLOOKUP(A1912,[1]EventLinkConfig!$AA:$AB,2,FALSE),\"\"),IFERROR(VLOOKUP(A1912,[1]EventConditionConfig!$B:$D,3,FALSE),\"\"))","v":"古径阵法"},"任务&事件文本",null,1909]
[1910,"找寻去北海的线索",null,null,1910]
[1911,"击杀妖兽{0}/{1}",null,null,1911]
[1912,"找到风灵珠{0}/{1}",null,null,1912]
[1913,"达到境界{0}",null,null,1913]
[1914,{"$f":"_xlfn.TEXTJOIN(\"\",1,IFERROR(VLOOKUP(A1917,[1]EventConfig!$T:$V,3,FALSE),\"\"),IFERROR(VLOOKUP(A1917,[1]EventConfig!$U:$W,3,FALSE),\"\"),IFERROR(VLOOKUP(A1917,[1]EventLinkConfig!$B:$C,2,FALSE),\"\"),IFERROR(VLOOKUP(A1917,[1]EventLinkConfig!$D:$E,2,FALSE),\"\"),IFERROR(VLOOKUP(A1917,[1]EventLinkConfig!$L:$M,2,FALSE),\"\"),IFERROR(VLOOKUP(A1917,[1]EventLinkConfig!$X:$Y,2,FALSE),\"\"),IFERROR(VLOOKUP(A1917,[1]EventLinkConfig!$AA:$AB,2,FALSE),\"\"),IFERROR(VLOOKUP(A1917,[1]EventConditionConfig!$B:$D,3,FALSE),\"\"))","v":"神识未灭"},"任务&事件文本",null,1914]
[1915,{"$f":"_xlfn.TEXTJOIN(\"\",1,IFERROR(VLOOKUP(A1918,[1]EventConfig!$T:$V,3,FALSE),\"\"),IFERROR(VLOOKUP(A1918,[1]EventConfig!$U:$W,3,FALSE),\"\"),IFERROR(VLOOKUP(A1918,[1]EventLinkConfig!$B:$C,2,FALSE),\"\"),IFERROR(VLOOKUP(A1918,[1]EventLinkConfig!$D:$E,2,FALSE),\"\"),IFERROR(VLOOKUP(A1918,[1]EventLinkConfig!$L:$M,2,FALSE),\"\"),IFERROR(VLOOKUP(A1918,[1]EventLinkConfig!$X:$Y,2,FALSE),\"\"),IFERROR(VLOOKUP(A1918,[1]EventLinkConfig!$AA:$AB,2,FALSE),\"\"),IFERROR(VLOOKUP(A1918,[1]EventConditionConfig!$B:$D,3,FALSE),\"\"))","v":"御剑而行"},"任务&事件文本",null,1915]
[1916,{"$f":"_xlfn.TEXTJOIN(\"\",1,IFERROR(VLOOKUP(A1919,[1]EventConfig!$T:$V,3,FALSE),\"\"),IFERROR(VLOOKUP(A1919,[1]EventConfig!$U:$W,3,FALSE),\"\"),IFERROR(VLOOKUP(A1919,[1]EventLinkConfig!$B:$C,2,FALSE),\"\"),IFERROR(VLOOKUP(A1919,[1]EventLinkConfig!$D:$E,2,FALSE),\"\"),IFERROR(VLOOKUP(A1919,[1]EventLinkConfig!$L:$M,2,FALSE),\"\"),IFERROR(VLOOKUP(A1919,[1]EventLinkConfig!$X:$Y,2,FALSE),\"\"),IFERROR(VLOOKUP(A1919,[1]EventLinkConfig!$AA:$AB,2,FALSE),\"\"),IFERROR(VLOOKUP(A1919,[1]EventConditionConfig!$B:$D,3,FALSE),\"\"))","v":"雀笑大鹏"},"任务&事件文本",null,1916]
[1917,{"$f":"_xlfn.TEXTJOIN(\"\",1,IFERROR(VLOOKUP(A1920,[1]EventConfig!$T:$V,3,FALSE),\"\"),IFERROR(VLOOKUP(A1920,[1]EventConfig!$U:$W,3,FALSE),\"\"),IFERROR(VLOOKUP(A1920,[1]EventLinkConfig!$B:$C,2,FALSE),\"\"),IFERROR(VLOOKUP(A1920,[1]EventLinkConfig!$D:$E,2,FALSE),\"\"),IFERROR(VLOOKUP(A1920,[1]EventLinkConfig!$L:$M,2,FALSE),\"\"),IFERROR(VLOOKUP(A1920,[1]EventLinkConfig!$X:$Y,2,FALSE),\"\"),IFERROR(VLOOKUP(A1920,[1]EventLinkConfig!$AA:$AB,2,FALSE),\"\"),IFERROR(VLOOKUP(A1920,[1]EventConditionConfig!$B:$D,3,FALSE),\"\"))","v":"击败结界兽"},"任务&事件文本",null,1917]
[1918,"人界",null,null,1918]
[1919,"仙界",null,null,1919]
[1920,"魔界",null,null,1920]
[1921,"蓬莱岛",null,null,1921]
[1922,"东海",null,null,{"$f":"A1925","v":1922}]
[1923,"无量界",null,null,1923]
[1924,"碧霞仙屿",null,null,1924]
[1925,"云渺港",null,null,1925]
[1926,"青莲峰",null,null,1926]
[1927,"月隐谷",null,null,1927]
[1928,"龙吟渊",null,null,1928]
[1929,"珊瑚灵礁",null,null,1929]
[1930,"玄波岛",null,null,1930]
[1931,"天心湖",null,null,1931]
[1932,"翠微山",null,null,1932]
[1933,"星落平原",null,null,1933]
[1934,"无垢城",null,null,1934]
[1935,"寂光林",null,null,1935]
[1936,{"$f":"VLOOKUP(A1939,[1]EventConfig!$L:$Q,3,FALSE)","v":{"$error":"#N/A"}},"事件主体描述",null,1936]
[1937,{"$f":"VLOOKUP(A1940,[1]EventConfig!$L:$Q,3,FALSE)","v":{"$error":"#N/A"}},"事件主体描述",null,1937]
[1938,{"$f":"VLOOKUP(A1941,[1]EventConfig!$L:$Q,3,FALSE)","v":{"$error":"#N/A"}},"事件主体描述",null,1938]
[1939,{"$f":"VLOOKUP(A1942,[1]EventConfig!$L:$Q,3,FALSE)","v":{"$error":"#N/A"}},"事件主体描述",null,1939]
[1940,{"$f":"VLOOKUP(A1943,[1]EventConfig!$L:$Q,3,FALSE)","v":{"$error":"#N/A"}},"事件主体描述",null,1940]
[1941,{"$f":"VLOOKUP(A1944,[1]EventConfig!$L:$Q,3,FALSE)","v":{"$error":"#N/A"}},"事件主体描述",null,1941]
[1942,{"$f":"VLOOKUP(A1945,[1]EventConfig!$L:$Q,3,FALSE)","v":{"$error":"#N/A"}},"事件主体描述",null,1942]
[1943,{"$f":"VLOOKUP(A1946,[1]EventConfig!$K:$M,3,FALSE)","v":{"$error":"#N/A"}},"事件名称",null,1943]
[1944,{"$f":"VLOOKUP(A1947,[1]EventConfig!$L:$Q,3,FALSE)","v":{"$error":"#N/A"}},"事件主体描述",null,1944]
[1945,"论道大会",null,null,1945]
[1946,"仙山探险",null,null,1946]
[1947,"好感度礼物1",null,null,1947]
[1948,"好感度礼物2",null,null,1948]
[1949,"道具描述_好感度礼物1",null,null,1949]
[1950,"道具描述_好感度礼物2",null,null,1950]
[1951,"心情礼物",null,null,1951]
[1952,"道具描述_心情礼物",null,null,1952]
[1953,"道友1",null,null,1953]
[1954,"道友2",null,null,1954]
[1955,"道友3",null,null,1955]
[1956,"道友4",null,null,1956]
[1957,"道友5",null,null,1957]
[1958,"道友6",null,null,1958]
[1959,"道友7",null,null,1959]
[1960,"道友8",null,null,1960]
[1961,"道友9",null,null,1961]
[1962,"道友10",null,null,1962]
[1963,{"$f":"_xlfn.TEXTJOIN(\"_\",1,\"道友\",F1966:G1966)","v":"道友_1_介绍文本1"},null,null,1963,1,"介绍文本1"]
[1964,{"$f":"_xlfn.TEXTJOIN(\"_\",1,\"道友\",F1967:G1967)","v":"道友_1_介绍文本2"},null,null,1964,1,"介绍文本2"]
[1965,"道友_1_介绍文本3",null,null,1965,1,"介绍文本3"]
[1966,"道友_2_介绍文本1",null,null,1966,{"$f":"F1966+1","v":2},"介绍文本1"]
[1967,"道友_2_介绍文本2",null,null,1967,{"$f":"F1967+1","v":2},"介绍文本2"]
[1968,"道友_2_介绍文本3",null,null,1968,2,"介绍文本3"]
[1969,"道友_3_介绍文本1",null,null,1969,3,"介绍文本1"]
[1970,"道友_3_介绍文本2",null,null,1970,3,"介绍文本2"]
[1971,"道友_3_介绍文本3",null,null,1971,3,"介绍文本3"]
[1972,"道友_4_介绍文本1",null,null,1972,4,"介绍文本1"]
[1973,"道友_4_介绍文本2",null,null,1973,4,"介绍文本2"]
[1974,"道友_4_介绍文本3",null,null,1974,4,"介绍文本3"]
[1975,"道友_5_介绍文本1",null,null,1975,5,"介绍文本1"]
[1976,"道友_5_介绍文本2",null,null,1976,5,"介绍文本2"]
[1977,"道友_5_介绍文本3",null,null,1977,5,"介绍文本3"]
[1978,"道友_6_介绍文本1",null,null,1978,6,"介绍文本1"]
[1979,"道友_6_介绍文本2",null,null,1979,6,"介绍文本2"]
[1980,"道友_6_介绍文本3",null,null,1980,6,"介绍文本3"]
[1981,"道友_7_介绍文本1",null,null,1981,7,"介绍文本1"]
[1982,"道友_7_介绍文本2",null,null,1982,7,"介绍文本2"]
[1983,"道友_7_介绍文本3",null,null,1983,7,"介绍文本3"]
[1984,"道友_8_介绍文本1",null,null,1984,8,"介绍文本1"]
[1985,"道友_8_介绍文本2",null,null,1985,8,"介绍文本2"]
[1986,"道友_8_介绍文本3",null,null,{"$f":"A1989","v":1986},8,"介绍文本3"]
[1987,"道友_9_介绍文本1",null,null,1987,9,"介绍文本1"]
[1988,"道友_9_介绍文本2",null,null,1988,9,"介绍文本2"]
[1989,"道友_9_介绍文本3",null,null,1989,9,"介绍文本3"]
[1990,"道友_10_介绍文本1",null,null,1990,10,"介绍文本1"]
[1991,"道友_10_介绍文本2",null,null,1991,10,"介绍文本2"]
[1992,"道友_10_介绍文本3",null,null,1992,10,"介绍文本3"]
[1993,"赠送修为",null,"道友-加成-名称",1993]
[1994,"赠送修为",null,"道友-加成-名称",1994]
[1995,"赠送修为",null,"道友-加成-名称",1995]
[1996,"赠送修为",null,"道友-加成-名称",1996]
[1997,"赠送铜钱",null,"道友-加成-名称",1997]
[1998,"赠送铜钱",null,"道友-加成-名称",1998]
[1999,"赠送铜钱",null,"道友-加成-名称",1999]
[2000,"赠送铜钱",null,"道友-加成-名称",2000]
[2001,"赠送灵气",null,"道友-加成-名称",2001]
[2002,"赠送灵气",null,"道友-加成-名称",2002]
[2003,"赠送灵气",null,"道友-加成-名称",2003]
[2004,"赠送灵气",null,"道友-加成-名称",2004]
[2005,"赠送灵韵",null,"道友-加成-名称",2005]
[2006,"赠送灵韵",null,"道友-加成-名称",2006]
[2007,"赠送灵韵",null,"道友-加成-名称",2007]
[2008,"赠送灵韵",null,"道友-加成-名称",2008]
[2009,"这位道友离开时会给与玩家少量修为奖励",null,null,2009]
[2010,"这位道友离开时会给与玩家一些修为奖励",null,null,2010]
[2011,"这位道友离开时会给与玩家很多修为奖励",null,null,2011]
[2012,"这位道友离开时会给与玩家丰厚修为奖励",null,null,2012]
[2013,"这位道友离开时会给与玩家少量铜钱奖励",null,null,2013]
[2014,"这位道友离开时会给与玩家一些铜钱奖励",null,null,2014]
[2015,"这位道友离开时会给与玩家很多铜钱奖励",null,null,2015]
[2016,"这位道友离开时会给与玩家丰厚铜钱奖励",null,null,2016]
[2017,"这位道友离开时会给与玩家少量功法灵气奖励",null,null,2017]
[2018,"这位道友离开时会给与玩家一些功法灵气奖励",null,null,2018]
[2019,"这位道友离开时会给与玩家很多功法灵气奖励",null,null,2019]
[2020,"这位道友离开时会给与玩家丰厚功法灵气奖励",null,null,2020]
[2021,"这位道友离开时会给与玩家少量法宝灵韵奖励",null,null,2021]
[2022,"这位道友离开时会给与玩家一些法宝灵韵奖励",null,null,2022]
[2023,"这位道友离开时会给与玩家很多法宝灵韵奖励",null,null,2023]
[2024,"这位道友离开时会给与玩家丰厚法宝灵韵奖励",null,null,2024]
[2025,"好感度1",null,null,2025]
[2026,"好感度2",null,null,2026]
[2027,"好感度3",null,null,2027]
[2028,"好感度4",null,null,2028]
[2029,"好感度5",null,null,2029]
[2030,"好感度6",null,null,2030]
[2031,"好感度7",null,null,2031]
[2032,"好感度8",null,null,2032]
[2033,"好感度9",null,null,2033]
[2034,"好感度10",null,null,2034]
[2035,"幽谷剑鸣",null,null,2035]
[2036,"你在闭关修炼时，感受到一股凌厉的剑意波动。深入探查，发现一名白衣剑修“清霜”盘坐于谷中，周围剑气环绕，正与一柄散发不祥气息的灵剑对峙。她似在参悟剑诀，却灵气不足，剑灵桀骜。",null,null,2036]
[2037,"你上前以剑意对抗剑灵",null,null,2037]
[2038,"成功压制剑灵，清霜赠你“霜华剑符”并结下道友之谊",null,null,2038]
[2039,"你察觉谷中灵气匮乏，清霜剑意凝滞。神识探查得知，附近秘境可采集“玄冰花”",null,null,2039]
[2040,"献上玄冰花，清霜炼化灵气突破瓶颈，赠你“玄霜剑意”",null,null,2040]
[2041,"挑战剑灵",null,null,2041]
[2042,"收集灵材",null,null,2042]
[2043,"开心",null,null,2043]
[2044,"一般",null,null,2044]
[2045,"失落",null,null,2045]
[2046,"生命增幅",null,null,2046]
[2047,"攻击增幅",null,null,2047]
[2048,"防御增幅",null,null,2048]
[2049,"金之灵根",null,null,2049]
[2050,"水之灵根",null,null,{"$f":"A2053","v":2050}]
[2051,"木之灵根",null,null,2051]
[2052,"火之灵根",null,null,2052]
[2053,"土之灵根",null,null,2053]
[2054,"玩家生命+{0}%",null,null,2054]
[2055,"玩家攻击+{0}%",null,null,2055]
[2056,"玩家防御+{0}%",null,null,2056]
[2057,"玩家金灵根+{0}",null,null,2057]
[2058,"玩家水灵根+{0}",null,null,2058]
[2059,"玩家木灵根+{0}",null,null,2059]
[2060,"玩家火灵根+{0}",null,null,2060]
[2061,"玩家土灵根+{0}",null,null,2061]
[2062,"这位道友离开时有{0}%概率赠与玩家奖励",null,null,2062]
[2063,"赠送概率",null,null,2063]
[2064,"赠送概率",null,null,2064]
[2065,"赠送概率",null,null,2065]
[2066,"赠送概率",null,null,2066]
[2067,"惠子.没用的大葫芦",null,null,2067]
[2068,"惠子种的葫芦没用，他非常生气",null,null,2068]
[2069,"发现魔修",null,null,2069]
[2070,"发现一群魔修，正在夺人钱财",null,null,2070]
[2071,"魔修",null,null,2071]
[2072,"打败魔休",null,null,2072]
[2073,"和惠子交谈",null,null,2073]
[2074,"惠子种的葫芦没用，他非常生气，需要打败魔休",null,null,2074]
[2075,"接受任务",null,null,2075]
[2076,"出现Boss魔修",null,null,2076]
[2077,"打败魔修",null,null,2077,{"$nulls":5},1,{"$f":"LOOKUP(K2080,N$2080:Q$2081)","v":5},null,1,2,3,4]
[2078,{"$f":"_xlfn.TEXTJOIN(\"\",1,IFERROR(VLOOKUP(A2081,[1]EventConfig!$T:$V,3,FALSE),\"\"),IFERROR(VLOOKUP(A2081,[1]EventConfig!$U:$W,3,FALSE),\"\"),IFERROR(VLOOKUP(A2081,[1]EventLinkConfig!$B:$C,2,FALSE),\"\"),IFERROR(VLOOKUP(A2081,[1]EventLinkConfig!$D:$E,2,FALSE),\"\"),IFERROR(VLOOKUP(A2081,[1]EventLinkConfig!$L:$M,2,FALSE),\"\"),IFERROR(VLOOKUP(A2081,[1]EventLinkConfig!$X:$Y,2,FALSE),\"\"),IFERROR(VLOOKUP(A2081,[1]EventLinkConfig!$AA:$AB,2,FALSE),\"\"),IFERROR(VLOOKUP(A2081,[1]EventConditionConfig!$B:$D,3,FALSE),\"\"))","v":"- 拥有金币{0}/{1}"},"任务&事件文本",null,2078,{"$nulls":5},2,{"$f":"LOOKUP(K2081,N$2080:Q$2081)","v":6},null,5,6,7,8]
[2079,{"$f":"_xlfn.TEXTJOIN(\"\",1,IFERROR(VLOOKUP(A2082,[1]EventConfig!$T:$V,3,FALSE),\"\"),IFERROR(VLOOKUP(A2082,[1]EventConfig!$U:$W,3,FALSE),\"\"),IFERROR(VLOOKUP(A2082,[1]EventLinkConfig!$B:$C,2,FALSE),\"\"),IFERROR(VLOOKUP(A2082,[1]EventLinkConfig!$D:$E,2,FALSE),\"\"),IFERROR(VLOOKUP(A2082,[1]EventLinkConfig!$L:$M,2,FALSE),\"\"),IFERROR(VLOOKUP(A2082,[1]EventLinkConfig!$X:$Y,2,FALSE),\"\"),IFERROR(VLOOKUP(A2082,[1]EventLinkConfig!$AA:$AB,2,FALSE),\"\"),IFERROR(VLOOKUP(A2082,[1]EventConditionConfig!$B:$D,3,FALSE),\"\"))","v":"- 达到境界：筑基-中期{0}/{1}"},"任务&事件文本",null,2079,{"$nulls":5},3,7]
[2080,{"$f":"_xlfn.TEXTJOIN(\"\",1,IFERROR(VLOOKUP(A2083,[1]EventConfig!$T:$V,3,FALSE),\"\"),IFERROR(VLOOKUP(A2083,[1]EventConfig!$U:$W,3,FALSE),\"\"),IFERROR(VLOOKUP(A2083,[1]EventLinkConfig!$B:$C,2,FALSE),\"\"),IFERROR(VLOOKUP(A2083,[1]EventLinkConfig!$D:$E,2,FALSE),\"\"),IFERROR(VLOOKUP(A2083,[1]EventLinkConfig!$L:$M,2,FALSE),\"\"),IFERROR(VLOOKUP(A2083,[1]EventLinkConfig!$X:$Y,2,FALSE),\"\"),IFERROR(VLOOKUP(A2083,[1]EventLinkConfig!$AA:$AB,2,FALSE),\"\"),IFERROR(VLOOKUP(A2083,[1]EventConditionConfig!$B:$D,3,FALSE),\"\"))","v":"- 击杀魔休{0}/{1}"},"任务&事件文本",null,2080,{"$nulls":5},4,8]
[2081,{"$f":"_xlfn.TEXTJOIN(\"\",1,IFERROR(VLOOKUP(A2084,[1]EventConfig!$T:$V,3,FALSE),\"\"),IFERROR(VLOOKUP(A2084,[1]EventConfig!$U:$W,3,FALSE),\"\"),IFERROR(VLOOKUP(A2084,[1]EventLinkConfig!$B:$C,2,FALSE),\"\"),IFERROR(VLOOKUP(A2084,[1]EventLinkConfig!$D:$E,2,FALSE),\"\"),IFERROR(VLOOKUP(A2084,[1]EventLinkConfig!$L:$M,2,FALSE),\"\"),IFERROR(VLOOKUP(A2084,[1]EventLinkConfig!$X:$Y,2,FALSE),\"\"),IFERROR(VLOOKUP(A2084,[1]EventLinkConfig!$AA:$AB,2,FALSE),\"\"),IFERROR(VLOOKUP(A2084,[1]EventConditionConfig!$B:$D,3,FALSE),\"\"))","v":"- 获得钻石{0}/{1}"},"任务&事件文本",null,2081,{"$nulls":5},5,8]
[2082,{"$f":"_xlfn.TEXTJOIN(\"\",1,IFERROR(VLOOKUP(A2085,[1]EventConfig!$T:$V,3,FALSE),\"\"),IFERROR(VLOOKUP(A2085,[1]EventConfig!$U:$W,3,FALSE),\"\"),IFERROR(VLOOKUP(A2085,[1]EventLinkConfig!$B:$C,2,FALSE),\"\"),IFERROR(VLOOKUP(A2085,[1]EventLinkConfig!$D:$E,2,FALSE),\"\"),IFERROR(VLOOKUP(A2085,[1]EventLinkConfig!$L:$M,2,FALSE),\"\"),IFERROR(VLOOKUP(A2085,[1]EventLinkConfig!$X:$Y,2,FALSE),\"\"),IFERROR(VLOOKUP(A2085,[1]EventLinkConfig!$AA:$AB,2,FALSE),\"\"),IFERROR(VLOOKUP(A2085,[1]EventConditionConfig!$B:$D,3,FALSE),\"\"))","v":"- 使用神识{0}/{1}"},"任务&事件文本",null,2082,{"$nulls":5},6,8]
[2083,{"$f":"_xlfn.TEXTJOIN(\"\",1,IFERROR(VLOOKUP(A2086,[1]EventConfig!$T:$V,3,FALSE),\"\"),IFERROR(VLOOKUP(A2086,[1]EventConfig!$U:$W,3,FALSE),\"\"),IFERROR(VLOOKUP(A2086,[1]EventLinkConfig!$B:$C,2,FALSE),\"\"),IFERROR(VLOOKUP(A2086,[1]EventLinkConfig!$D:$E,2,FALSE),\"\"),IFERROR(VLOOKUP(A2086,[1]EventLinkConfig!$L:$M,2,FALSE),\"\"),IFERROR(VLOOKUP(A2086,[1]EventLinkConfig!$X:$Y,2,FALSE),\"\"),IFERROR(VLOOKUP(A2086,[1]EventLinkConfig!$AA:$AB,2,FALSE),\"\"),IFERROR(VLOOKUP(A2086,[1]EventConditionConfig!$B:$D,3,FALSE),\"\"))","v":"北冥有鱼，其名为鲲……"},"任务&事件文本",null,2083,{"$nulls":5},7,8]
[2084,{"$f":"_xlfn.TEXTJOIN(\"\",1,IFERROR(VLOOKUP(A2087,[1]EventConfig!$T:$V,3,FALSE),\"\"),IFERROR(VLOOKUP(A2087,[1]EventConfig!$U:$W,3,FALSE),\"\"),IFERROR(VLOOKUP(A2087,[1]EventLinkConfig!$B:$C,2,FALSE),\"\"),IFERROR(VLOOKUP(A2087,[1]EventLinkConfig!$D:$E,2,FALSE),\"\"),IFERROR(VLOOKUP(A2087,[1]EventLinkConfig!$L:$M,2,FALSE),\"\"),IFERROR(VLOOKUP(A2087,[1]EventLinkConfig!$X:$Y,2,FALSE),\"\"),IFERROR(VLOOKUP(A2087,[1]EventLinkConfig!$AA:$AB,2,FALSE),\"\"),IFERROR(VLOOKUP(A2087,[1]EventConditionConfig!$B:$D,3,FALSE),\"\"))","v":"不过北海遥远，何时能寻得鲲鹏的踪迹。"},"任务&事件文本",null,2084,{"$nulls":5},8,8]
[2085,{"$f":"_xlfn.TEXTJOIN(\"\",1,IFERROR(VLOOKUP(A2088,[1]EventConfig!$T:$V,3,FALSE),\"\"),IFERROR(VLOOKUP(A2088,[1]EventConfig!$U:$W,3,FALSE),\"\"),IFERROR(VLOOKUP(A2088,[1]EventLinkConfig!$B:$C,2,FALSE),\"\"),IFERROR(VLOOKUP(A2088,[1]EventLinkConfig!$D:$E,2,FALSE),\"\"),IFERROR(VLOOKUP(A2088,[1]EventLinkConfig!$L:$M,2,FALSE),\"\"),IFERROR(VLOOKUP(A2088,[1]EventLinkConfig!$X:$Y,2,FALSE),\"\"),IFERROR(VLOOKUP(A2088,[1]EventLinkConfig!$AA:$AB,2,FALSE),\"\"),IFERROR(VLOOKUP(A2088,[1]EventConditionConfig!$B:$D,3,FALSE),\"\"))","v":"好在我的神识尚在，可探天地，再加上刚刚的风铃，或许能寻得前路线索。"},"任务&事件文本",null,2085]
[2086,{"$f":"_xlfn.TEXTJOIN(\"\",1,IFERROR(VLOOKUP(A2089,[1]EventConfig!$T:$V,3,FALSE),\"\"),IFERROR(VLOOKUP(A2089,[1]EventConfig!$U:$W,3,FALSE),\"\"),IFERROR(VLOOKUP(A2089,[1]EventLinkConfig!$B:$C,2,FALSE),\"\"),IFERROR(VLOOKUP(A2089,[1]EventLinkConfig!$D:$E,2,FALSE),\"\"),IFERROR(VLOOKUP(A2089,[1]EventLinkConfig!$L:$M,2,FALSE),\"\"),IFERROR(VLOOKUP(A2089,[1]EventLinkConfig!$X:$Y,2,FALSE),\"\"),IFERROR(VLOOKUP(A2089,[1]EventLinkConfig!$AA:$AB,2,FALSE),\"\"),IFERROR(VLOOKUP(A2089,[1]EventConditionConfig!$B:$D,3,FALSE),\"\"))","v":"使用风铃唤醒还未泯灭的神识"},"任务&事件文本",null,2086]
[2087,"第一章.逍遥游",null,null,2087]
[2088,"无用的大葫芦",null,null,2088]
[2089,"多次渡劫失败的你，误入“无何有之乡”，在这里受到了列子的指引，踏上了寻找七道心境的修仙之路。",null,null,2089]
[2090,"惠子种出了巨大葫芦，他觉得毫无用处，非常生气！",null,null,2090]
[2091,{"$f":"_xlfn.TEXTJOIN(\"\",1,IFERROR(VLOOKUP(A2094,[1]EventConfig!$T:$V,3,FALSE),\"\"),IFERROR(VLOOKUP(A2094,[1]EventConfig!$U:$W,3,FALSE),\"\"),IFERROR(VLOOKUP(A2094,[1]EventLinkConfig!$B:$C,2,FALSE),\"\"),IFERROR(VLOOKUP(A2094,[1]EventLinkConfig!$D:$E,2,FALSE),\"\"),IFERROR(VLOOKUP(A2094,[1]EventLinkConfig!$L:$M,2,FALSE),\"\"),IFERROR(VLOOKUP(A2094,[1]EventLinkConfig!$X:$Y,2,FALSE),\"\"),IFERROR(VLOOKUP(A2094,[1]EventLinkConfig!$AA:$AB,2,FALSE),\"\"),IFERROR(VLOOKUP(A2094,[1]EventConditionConfig!$B:$D,3,FALSE),\"\"))","v":"前往妖兽盘踞的地方"},"任务&事件文本",null,2091]
[2092,{"$f":"_xlfn.TEXTJOIN(\"\",1,IFERROR(VLOOKUP(A2095,[1]EventConfig!$T:$V,3,FALSE),\"\"),IFERROR(VLOOKUP(A2095,[1]EventConfig!$U:$W,3,FALSE),\"\"),IFERROR(VLOOKUP(A2095,[1]EventLinkConfig!$B:$C,2,FALSE),\"\"),IFERROR(VLOOKUP(A2095,[1]EventLinkConfig!$D:$E,2,FALSE),\"\"),IFERROR(VLOOKUP(A2095,[1]EventLinkConfig!$L:$M,2,FALSE),\"\"),IFERROR(VLOOKUP(A2095,[1]EventLinkConfig!$X:$Y,2,FALSE),\"\"),IFERROR(VLOOKUP(A2095,[1]EventLinkConfig!$AA:$AB,2,FALSE),\"\"),IFERROR(VLOOKUP(A2095,[1]EventConditionConfig!$B:$D,3,FALSE),\"\"))","v":"神识发现有一条古径，隐于云山之间，不过似乎有妖兽盘踞。"},"任务&事件文本",null,2092]
[2093,{"$f":"_xlfn.TEXTJOIN(\"\",1,IFERROR(VLOOKUP(A2096,[1]EventConfig!$T:$V,3,FALSE),\"\"),IFERROR(VLOOKUP(A2096,[1]EventConfig!$U:$W,3,FALSE),\"\"),IFERROR(VLOOKUP(A2096,[1]EventLinkConfig!$B:$C,2,FALSE),\"\"),IFERROR(VLOOKUP(A2096,[1]EventLinkConfig!$D:$E,2,FALSE),\"\"),IFERROR(VLOOKUP(A2096,[1]EventLinkConfig!$L:$M,2,FALSE),\"\"),IFERROR(VLOOKUP(A2096,[1]EventLinkConfig!$X:$Y,2,FALSE),\"\"),IFERROR(VLOOKUP(A2096,[1]EventLinkConfig!$AA:$AB,2,FALSE),\"\"),IFERROR(VLOOKUP(A2096,[1]EventConditionConfig!$B:$D,3,FALSE),\"\"))","v":"没其他办法了，过去看看吧。"},"任务&事件文本",null,2093]
[2094,{"$f":"_xlfn.TEXTJOIN(\"\",1,IFERROR(VLOOKUP(A2097,[1]EventConfig!$T:$V,3,FALSE),\"\"),IFERROR(VLOOKUP(A2097,[1]EventConfig!$U:$W,3,FALSE),\"\"),IFERROR(VLOOKUP(A2097,[1]EventLinkConfig!$B:$C,2,FALSE),\"\"),IFERROR(VLOOKUP(A2097,[1]EventLinkConfig!$D:$E,2,FALSE),\"\"),IFERROR(VLOOKUP(A2097,[1]EventLinkConfig!$L:$M,2,FALSE),\"\"),IFERROR(VLOOKUP(A2097,[1]EventLinkConfig!$X:$Y,2,FALSE),\"\"),IFERROR(VLOOKUP(A2097,[1]EventLinkConfig!$AA:$AB,2,FALSE),\"\"),IFERROR(VLOOKUP(A2097,[1]EventConditionConfig!$B:$D,3,FALSE),\"\"))","v":"继续飞行一段时间- 继续飞行一段时间{0}/{1}"},"任务&事件文本",null,2094]
[2095,{"$f":"_xlfn.TEXTJOIN(\"\",1,IFERROR(VLOOKUP(A2098,[1]EventConfig!$T:$V,3,FALSE),\"\"),IFERROR(VLOOKUP(A2098,[1]EventConfig!$U:$W,3,FALSE),\"\"),IFERROR(VLOOKUP(A2098,[1]EventLinkConfig!$B:$C,2,FALSE),\"\"),IFERROR(VLOOKUP(A2098,[1]EventLinkConfig!$D:$E,2,FALSE),\"\"),IFERROR(VLOOKUP(A2098,[1]EventLinkConfig!$L:$M,2,FALSE),\"\"),IFERROR(VLOOKUP(A2098,[1]EventLinkConfig!$X:$Y,2,FALSE),\"\"),IFERROR(VLOOKUP(A2098,[1]EventLinkConfig!$AA:$AB,2,FALSE),\"\"),IFERROR(VLOOKUP(A2098,[1]EventConditionConfig!$B:$D,3,FALSE),\"\"))","v":"蜩鸟和小麻雀对你的到来很好奇"},"任务&事件文本",null,2095]
[2096,{"$f":"_xlfn.TEXTJOIN(\"\",1,IFERROR(VLOOKUP(A2099,[1]EventConfig!$T:$V,3,FALSE),\"\"),IFERROR(VLOOKUP(A2099,[1]EventConfig!$U:$W,3,FALSE),\"\"),IFERROR(VLOOKUP(A2099,[1]EventLinkConfig!$B:$C,2,FALSE),\"\"),IFERROR(VLOOKUP(A2099,[1]EventLinkConfig!$D:$E,2,FALSE),\"\"),IFERROR(VLOOKUP(A2099,[1]EventLinkConfig!$L:$M,2,FALSE),\"\"),IFERROR(VLOOKUP(A2099,[1]EventLinkConfig!$X:$Y,2,FALSE),\"\"),IFERROR(VLOOKUP(A2099,[1]EventLinkConfig!$AA:$AB,2,FALSE),\"\"),IFERROR(VLOOKUP(A2099,[1]EventConditionConfig!$B:$D,3,FALSE),\"\"))","v":"应该就是这里了，似乎有古老的阵法挡住了去路"},"任务&事件文本",null,2096]
[2097,{"$f":"_xlfn.TEXTJOIN(\"\",1,IFERROR(VLOOKUP(A2100,[1]EventConfig!$T:$V,3,FALSE),\"\"),IFERROR(VLOOKUP(A2100,[1]EventConfig!$U:$W,3,FALSE),\"\"),IFERROR(VLOOKUP(A2100,[1]EventLinkConfig!$B:$C,2,FALSE),\"\"),IFERROR(VLOOKUP(A2100,[1]EventLinkConfig!$D:$E,2,FALSE),\"\"),IFERROR(VLOOKUP(A2100,[1]EventLinkConfig!$L:$M,2,FALSE),\"\"),IFERROR(VLOOKUP(A2100,[1]EventLinkConfig!$X:$Y,2,FALSE),\"\"),IFERROR(VLOOKUP(A2100,[1]EventLinkConfig!$AA:$AB,2,FALSE),\"\"),IFERROR(VLOOKUP(A2100,[1]EventConditionConfig!$B:$D,3,FALSE),\"\"))","v":"（结界门前，三只小鸟飞来，落在一旁古松上）"},"任务&事件文本",null,2097]
[2098,{"$f":"_xlfn.TEXTJOIN(\"\",1,IFERROR(VLOOKUP(A2101,[1]EventConfig!$T:$V,3,FALSE),\"\"),IFERROR(VLOOKUP(A2101,[1]EventConfig!$U:$W,3,FALSE),\"\"),IFERROR(VLOOKUP(A2101,[1]EventLinkConfig!$B:$C,2,FALSE),\"\"),IFERROR(VLOOKUP(A2101,[1]EventLinkConfig!$D:$E,2,FALSE),\"\"),IFERROR(VLOOKUP(A2101,[1]EventLinkConfig!$L:$M,2,FALSE),\"\"),IFERROR(VLOOKUP(A2101,[1]EventLinkConfig!$X:$Y,2,FALSE),\"\"),IFERROR(VLOOKUP(A2101,[1]EventLinkConfig!$AA:$AB,2,FALSE),\"\"),IFERROR(VLOOKUP(A2101,[1]EventConditionConfig!$B:$D,3,FALSE),\"\"))","v":"（拍翅）：“咦？又是妄图穿行北海之人？”"},"任务&事件文本",null,2098]
[2099,{"$f":"_xlfn.TEXTJOIN(\"\",1,IFERROR(VLOOKUP(A2102,[1]EventConfig!$T:$V,3,FALSE),\"\"),IFERROR(VLOOKUP(A2102,[1]EventConfig!$U:$W,3,FALSE),\"\"),IFERROR(VLOOKUP(A2102,[1]EventLinkConfig!$B:$C,2,FALSE),\"\"),IFERROR(VLOOKUP(A2102,[1]EventLinkConfig!$D:$E,2,FALSE),\"\"),IFERROR(VLOOKUP(A2102,[1]EventLinkConfig!$L:$M,2,FALSE),\"\"),IFERROR(VLOOKUP(A2102,[1]EventLinkConfig!$X:$Y,2,FALSE),\"\"),IFERROR(VLOOKUP(A2102,[1]EventLinkConfig!$AA:$AB,2,FALSE),\"\"),IFERROR(VLOOKUP(A2102,[1]EventConditionConfig!$B:$D,3,FALSE),\"\"))","v":"我在寻找鲲鹏，你们知道它在哪里吗？"},"任务&事件文本",null,2099]
[2100,{"$f":"_xlfn.TEXTJOIN(\"\",1,IFERROR(VLOOKUP(A2103,[1]EventConfig!$T:$V,3,FALSE),\"\"),IFERROR(VLOOKUP(A2103,[1]EventConfig!$U:$W,3,FALSE),\"\"),IFERROR(VLOOKUP(A2103,[1]EventLinkConfig!$B:$C,2,FALSE),\"\"),IFERROR(VLOOKUP(A2103,[1]EventLinkConfig!$D:$E,2,FALSE),\"\"),IFERROR(VLOOKUP(A2103,[1]EventLinkConfig!$L:$M,2,FALSE),\"\"),IFERROR(VLOOKUP(A2103,[1]EventLinkConfig!$X:$Y,2,FALSE),\"\"),IFERROR(VLOOKUP(A2103,[1]EventLinkConfig!$AA:$AB,2,FALSE),\"\"),IFERROR(VLOOKUP(A2103,[1]EventConditionConfig!$B:$D,3,FALSE),\"\"))","v":"（扑棱翅膀）是想要从北海飞往南海的超级大鸟吧？"},"任务&事件文本",null,2100]
[2101,{"$f":"_xlfn.TEXTJOIN(\"\",1,IFERROR(VLOOKUP(A2104,[1]EventConfig!$T:$V,3,FALSE),\"\"),IFERROR(VLOOKUP(A2104,[1]EventConfig!$U:$W,3,FALSE),\"\"),IFERROR(VLOOKUP(A2104,[1]EventLinkConfig!$B:$C,2,FALSE),\"\"),IFERROR(VLOOKUP(A2104,[1]EventLinkConfig!$D:$E,2,FALSE),\"\"),IFERROR(VLOOKUP(A2104,[1]EventLinkConfig!$L:$M,2,FALSE),\"\"),IFERROR(VLOOKUP(A2104,[1]EventLinkConfig!$X:$Y,2,FALSE),\"\"),IFERROR(VLOOKUP(A2104,[1]EventLinkConfig!$AA:$AB,2,FALSE),\"\"),IFERROR(VLOOKUP(A2104,[1]EventConditionConfig!$B:$D,3,FALSE),\"\"))","v":"我就想不明白，她为何要飞如此之远，太奇怪啦！"},"任务&事件文本",null,2101]
[2102,{"$f":"_xlfn.TEXTJOIN(\"\",1,IFERROR(VLOOKUP(A2105,[1]EventConfig!$T:$V,3,FALSE),\"\"),IFERROR(VLOOKUP(A2105,[1]EventConfig!$U:$W,3,FALSE),\"\"),IFERROR(VLOOKUP(A2105,[1]EventLinkConfig!$B:$C,2,FALSE),\"\"),IFERROR(VLOOKUP(A2105,[1]EventLinkConfig!$D:$E,2,FALSE),\"\"),IFERROR(VLOOKUP(A2105,[1]EventLinkConfig!$L:$M,2,FALSE),\"\"),IFERROR(VLOOKUP(A2105,[1]EventLinkConfig!$X:$Y,2,FALSE),\"\"),IFERROR(VLOOKUP(A2105,[1]EventLinkConfig!$AA:$AB,2,FALSE),\"\"),IFERROR(VLOOKUP(A2105,[1]EventConditionConfig!$B:$D,3,FALSE),\"\"))","v":"鲲鹏是在追求心中的目标吧。"},"任务&事件文本",null,2102]
[2103,{"$f":"_xlfn.TEXTJOIN(\"\",1,IFERROR(VLOOKUP(A2106,[1]EventConfig!$T:$V,3,FALSE),\"\"),IFERROR(VLOOKUP(A2106,[1]EventConfig!$U:$W,3,FALSE),\"\"),IFERROR(VLOOKUP(A2106,[1]EventLinkConfig!$B:$C,2,FALSE),\"\"),IFERROR(VLOOKUP(A2106,[1]EventLinkConfig!$D:$E,2,FALSE),\"\"),IFERROR(VLOOKUP(A2106,[1]EventLinkConfig!$L:$M,2,FALSE),\"\"),IFERROR(VLOOKUP(A2106,[1]EventLinkConfig!$X:$Y,2,FALSE),\"\"),IFERROR(VLOOKUP(A2106,[1]EventLinkConfig!$AA:$AB,2,FALSE),\"\"),IFERROR(VLOOKUP(A2106,[1]EventConditionConfig!$B:$D,3,FALSE),\"\"))","v":"（偏头想了想）目标？我天天在这里上蹿下跳，在附近树林飞来飞去，就已经很幸福啦。"},"任务&事件文本",null,2103]
[2104,{"$f":"_xlfn.TEXTJOIN(\"\",1,IFERROR(VLOOKUP(A2107,[1]EventConfig!$T:$V,3,FALSE),\"\"),IFERROR(VLOOKUP(A2107,[1]EventConfig!$U:$W,3,FALSE),\"\"),IFERROR(VLOOKUP(A2107,[1]EventLinkConfig!$B:$C,2,FALSE),\"\"),IFERROR(VLOOKUP(A2107,[1]EventLinkConfig!$D:$E,2,FALSE),\"\"),IFERROR(VLOOKUP(A2107,[1]EventLinkConfig!$L:$M,2,FALSE),\"\"),IFERROR(VLOOKUP(A2107,[1]EventLinkConfig!$X:$Y,2,FALSE),\"\"),IFERROR(VLOOKUP(A2107,[1]EventLinkConfig!$AA:$AB,2,FALSE),\"\"),IFERROR(VLOOKUP(A2107,[1]EventConditionConfig!$B:$D,3,FALSE),\"\"))","v":"就那大傻鸟，非要飞那么远，又笨又蠢...真没意思。"},"任务&事件文本",null,2104]
[2105,{"$f":"_xlfn.TEXTJOIN(\"\",1,IFERROR(VLOOKUP(A2108,[1]EventConfig!$T:$V,3,FALSE),\"\"),IFERROR(VLOOKUP(A2108,[1]EventConfig!$U:$W,3,FALSE),\"\"),IFERROR(VLOOKUP(A2108,[1]EventLinkConfig!$B:$C,2,FALSE),\"\"),IFERROR(VLOOKUP(A2108,[1]EventLinkConfig!$D:$E,2,FALSE),\"\"),IFERROR(VLOOKUP(A2108,[1]EventLinkConfig!$L:$M,2,FALSE),\"\"),IFERROR(VLOOKUP(A2108,[1]EventLinkConfig!$X:$Y,2,FALSE),\"\"),IFERROR(VLOOKUP(A2108,[1]EventLinkConfig!$AA:$AB,2,FALSE),\"\"),IFERROR(VLOOKUP(A2108,[1]EventConditionConfig!$B:$D,3,FALSE),\"\"))","v":"你说得也有一定道理…"},"任务&事件文本",null,2105]
[2106,{"$f":"_xlfn.TEXTJOIN(\"\",1,IFERROR(VLOOKUP(A2109,[1]EventConfig!$T:$V,3,FALSE),\"\"),IFERROR(VLOOKUP(A2109,[1]EventConfig!$U:$W,3,FALSE),\"\"),IFERROR(VLOOKUP(A2109,[1]EventLinkConfig!$B:$C,2,FALSE),\"\"),IFERROR(VLOOKUP(A2109,[1]EventLinkConfig!$D:$E,2,FALSE),\"\"),IFERROR(VLOOKUP(A2109,[1]EventLinkConfig!$L:$M,2,FALSE),\"\"),IFERROR(VLOOKUP(A2109,[1]EventLinkConfig!$X:$Y,2,FALSE),\"\"),IFERROR(VLOOKUP(A2109,[1]EventLinkConfig!$AA:$AB,2,FALSE),\"\"),IFERROR(VLOOKUP(A2109,[1]EventConditionConfig!$B:$D,3,FALSE),\"\"))","v":"你懂什么..这大鹏鸟可比你更有志向多了。"},"任务&事件文本",null,2106]
[2107,{"$f":"_xlfn.TEXTJOIN(\"\",1,IFERROR(VLOOKUP(A2110,[1]EventConfig!$T:$V,3,FALSE),\"\"),IFERROR(VLOOKUP(A2110,[1]EventConfig!$U:$W,3,FALSE),\"\"),IFERROR(VLOOKUP(A2110,[1]EventLinkConfig!$B:$C,2,FALSE),\"\"),IFERROR(VLOOKUP(A2110,[1]EventLinkConfig!$D:$E,2,FALSE),\"\"),IFERROR(VLOOKUP(A2110,[1]EventLinkConfig!$L:$M,2,FALSE),\"\"),IFERROR(VLOOKUP(A2110,[1]EventLinkConfig!$X:$Y,2,FALSE),\"\"),IFERROR(VLOOKUP(A2110,[1]EventLinkConfig!$AA:$AB,2,FALSE),\"\"),IFERROR(VLOOKUP(A2110,[1]EventConditionConfig!$B:$D,3,FALSE),\"\"))","v":"（翻飞一圈）志向有什么用？到头来还不是风停了就落地。"},"任务&事件文本",null,2107]
[2108,{"$f":"_xlfn.TEXTJOIN(\"\",1,IFERROR(VLOOKUP(A2111,[1]EventConfig!$T:$V,3,FALSE),\"\"),IFERROR(VLOOKUP(A2111,[1]EventConfig!$U:$W,3,FALSE),\"\"),IFERROR(VLOOKUP(A2111,[1]EventLinkConfig!$B:$C,2,FALSE),\"\"),IFERROR(VLOOKUP(A2111,[1]EventLinkConfig!$D:$E,2,FALSE),\"\"),IFERROR(VLOOKUP(A2111,[1]EventLinkConfig!$L:$M,2,FALSE),\"\"),IFERROR(VLOOKUP(A2111,[1]EventLinkConfig!$X:$Y,2,FALSE),\"\"),IFERROR(VLOOKUP(A2111,[1]EventLinkConfig!$AA:$AB,2,FALSE),\"\"),IFERROR(VLOOKUP(A2111,[1]EventConditionConfig!$B:$D,3,FALSE),\"\"))","v":"......"},"任务&事件文本",null,2108]
[2109,{"$f":"_xlfn.TEXTJOIN(\"\",1,IFERROR(VLOOKUP(A2112,[1]EventConfig!$T:$V,3,FALSE),\"\"),IFERROR(VLOOKUP(A2112,[1]EventConfig!$U:$W,3,FALSE),\"\"),IFERROR(VLOOKUP(A2112,[1]EventLinkConfig!$B:$C,2,FALSE),\"\"),IFERROR(VLOOKUP(A2112,[1]EventLinkConfig!$D:$E,2,FALSE),\"\"),IFERROR(VLOOKUP(A2112,[1]EventLinkConfig!$L:$M,2,FALSE),\"\"),IFERROR(VLOOKUP(A2112,[1]EventLinkConfig!$X:$Y,2,FALSE),\"\"),IFERROR(VLOOKUP(A2112,[1]EventLinkConfig!$AA:$AB,2,FALSE),\"\"),IFERROR(VLOOKUP(A2112,[1]EventConditionConfig!$B:$D,3,FALSE),\"\"))","v":"（此时，结界微动，一缕风穿林而过，古径阵法竟有一丝松动）"},"任务&事件文本",null,2109]
[2110,{"$f":"_xlfn.TEXTJOIN(\"\",1,IFERROR(VLOOKUP(A2113,[1]EventConfig!$T:$V,3,FALSE),\"\"),IFERROR(VLOOKUP(A2113,[1]EventConfig!$U:$W,3,FALSE),\"\"),IFERROR(VLOOKUP(A2113,[1]EventLinkConfig!$B:$C,2,FALSE),\"\"),IFERROR(VLOOKUP(A2113,[1]EventLinkConfig!$D:$E,2,FALSE),\"\"),IFERROR(VLOOKUP(A2113,[1]EventLinkConfig!$L:$M,2,FALSE),\"\"),IFERROR(VLOOKUP(A2113,[1]EventLinkConfig!$X:$Y,2,FALSE),\"\"),IFERROR(VLOOKUP(A2113,[1]EventLinkConfig!$AA:$AB,2,FALSE),\"\"),IFERROR(VLOOKUP(A2113,[1]EventConditionConfig!$B:$D,3,FALSE),\"\"))","v":"原来它们就是镇守阵法的结界兽"},"任务&事件文本",null,2110]
[2111,{"$f":"_xlfn.TEXTJOIN(\"\",1,IFERROR(VLOOKUP(A2114,[1]EventConfig!$T:$V,3,FALSE),\"\"),IFERROR(VLOOKUP(A2114,[1]EventConfig!$U:$W,3,FALSE),\"\"),IFERROR(VLOOKUP(A2114,[1]EventLinkConfig!$B:$C,2,FALSE),\"\"),IFERROR(VLOOKUP(A2114,[1]EventLinkConfig!$D:$E,2,FALSE),\"\"),IFERROR(VLOOKUP(A2114,[1]EventLinkConfig!$L:$M,2,FALSE),\"\"),IFERROR(VLOOKUP(A2114,[1]EventLinkConfig!$X:$Y,2,FALSE),\"\"),IFERROR(VLOOKUP(A2114,[1]EventLinkConfig!$AA:$AB,2,FALSE),\"\"),IFERROR(VLOOKUP(A2114,[1]EventConditionConfig!$B:$D,3,FALSE),\"\"))","v":"这结界似乎有所反应…"},"任务&事件文本",null,2111]
[2112,{"$f":"_xlfn.TEXTJOIN(\"\",1,IFERROR(VLOOKUP(A2115,[1]EventConfig!$T:$V,3,FALSE),\"\"),IFERROR(VLOOKUP(A2115,[1]EventConfig!$U:$W,3,FALSE),\"\"),IFERROR(VLOOKUP(A2115,[1]EventLinkConfig!$B:$C,2,FALSE),\"\"),IFERROR(VLOOKUP(A2115,[1]EventLinkConfig!$D:$E,2,FALSE),\"\"),IFERROR(VLOOKUP(A2115,[1]EventLinkConfig!$L:$M,2,FALSE),\"\"),IFERROR(VLOOKUP(A2115,[1]EventLinkConfig!$X:$Y,2,FALSE),\"\"),IFERROR(VLOOKUP(A2115,[1]EventLinkConfig!$AA:$AB,2,FALSE),\"\"),IFERROR(VLOOKUP(A2115,[1]EventConditionConfig!$B:$D,3,FALSE),\"\"))","v":"与你们聊天很有意思，不过今天我是非过去不可，没人能阻止我重返仙途！"},"任务&事件文本",null,2112]
[2113,{"$f":"_xlfn.TEXTJOIN(\"\",1,IFERROR(VLOOKUP(A2116,[1]EventConfig!$T:$V,3,FALSE),\"\"),IFERROR(VLOOKUP(A2116,[1]EventConfig!$U:$W,3,FALSE),\"\"),IFERROR(VLOOKUP(A2116,[1]EventLinkConfig!$B:$C,2,FALSE),\"\"),IFERROR(VLOOKUP(A2116,[1]EventLinkConfig!$D:$E,2,FALSE),\"\"),IFERROR(VLOOKUP(A2116,[1]EventLinkConfig!$L:$M,2,FALSE),\"\"),IFERROR(VLOOKUP(A2116,[1]EventLinkConfig!$X:$Y,2,FALSE),\"\"),IFERROR(VLOOKUP(A2116,[1]EventLinkConfig!$AA:$AB,2,FALSE),\"\"),IFERROR(VLOOKUP(A2116,[1]EventConditionConfig!$B:$D,3,FALSE),\"\"))","v":"\"小鸟..\"现身吧！"},"任务&事件文本",null,2113]
[2114,{"$f":"_xlfn.TEXTJOIN(\"\",1,IFERROR(VLOOKUP(A2117,[1]EventConfig!$T:$V,3,FALSE),\"\"),IFERROR(VLOOKUP(A2117,[1]EventConfig!$U:$W,3,FALSE),\"\"),IFERROR(VLOOKUP(A2117,[1]EventLinkConfig!$B:$C,2,FALSE),\"\"),IFERROR(VLOOKUP(A2117,[1]EventLinkConfig!$D:$E,2,FALSE),\"\"),IFERROR(VLOOKUP(A2117,[1]EventLinkConfig!$L:$M,2,FALSE),\"\"),IFERROR(VLOOKUP(A2117,[1]EventLinkConfig!$X:$Y,2,FALSE),\"\"),IFERROR(VLOOKUP(A2117,[1]EventLinkConfig!$AA:$AB,2,FALSE),\"\"),IFERROR(VLOOKUP(A2117,[1]EventConditionConfig!$B:$D,3,FALSE),\"\"))","v":"（轻轻飞下来..）又来...来吧来吧.."},"任务&事件文本",null,{"$f":"A2117","v":2114}]
[2115,{"$f":"_xlfn.TEXTJOIN(\"\",1,IFERROR(VLOOKUP(A2118,[1]EventConfig!$T:$V,3,FALSE),\"\"),IFERROR(VLOOKUP(A2118,[1]EventConfig!$U:$W,3,FALSE),\"\"),IFERROR(VLOOKUP(A2118,[1]EventLinkConfig!$B:$C,2,FALSE),\"\"),IFERROR(VLOOKUP(A2118,[1]EventLinkConfig!$D:$E,2,FALSE),\"\"),IFERROR(VLOOKUP(A2118,[1]EventLinkConfig!$L:$M,2,FALSE),\"\"),IFERROR(VLOOKUP(A2118,[1]EventLinkConfig!$X:$Y,2,FALSE),\"\"),IFERROR(VLOOKUP(A2118,[1]EventLinkConfig!$AA:$AB,2,FALSE),\"\"),IFERROR(VLOOKUP(A2118,[1]EventConditionConfig!$B:$D,3,FALSE),\"\"))","v":"击败结界兽怎么想过去，就去吧.."},"任务&事件文本",null,2115]
[2116,{"$f":"_xlfn.TEXTJOIN(\"\",1,IFERROR(VLOOKUP(A2119,[1]EventConfig!$T:$V,3,FALSE),\"\"),IFERROR(VLOOKUP(A2119,[1]EventConfig!$U:$W,3,FALSE),\"\"),IFERROR(VLOOKUP(A2119,[1]EventLinkConfig!$B:$C,2,FALSE),\"\"),IFERROR(VLOOKUP(A2119,[1]EventLinkConfig!$D:$E,2,FALSE),\"\"),IFERROR(VLOOKUP(A2119,[1]EventLinkConfig!$L:$M,2,FALSE),\"\"),IFERROR(VLOOKUP(A2119,[1]EventLinkConfig!$X:$Y,2,FALSE),\"\"),IFERROR(VLOOKUP(A2119,[1]EventLinkConfig!$AA:$AB,2,FALSE),\"\"),IFERROR(VLOOKUP(A2119,[1]EventConditionConfig!$B:$D,3,FALSE),\"\"))","v":"你穿过古径结界，来到一片被风托起的浮空灵岛群。"},"任务&事件文本",null,2116]
[2117,{"$f":"_xlfn.TEXTJOIN(\"\",1,IFERROR(VLOOKUP(A2120,[1]EventConfig!$T:$V,3,FALSE),\"\"),IFERROR(VLOOKUP(A2120,[1]EventConfig!$U:$W,3,FALSE),\"\"),IFERROR(VLOOKUP(A2120,[1]EventLinkConfig!$B:$C,2,FALSE),\"\"),IFERROR(VLOOKUP(A2120,[1]EventLinkConfig!$D:$E,2,FALSE),\"\"),IFERROR(VLOOKUP(A2120,[1]EventLinkConfig!$L:$M,2,FALSE),\"\"),IFERROR(VLOOKUP(A2120,[1]EventLinkConfig!$X:$Y,2,FALSE),\"\"),IFERROR(VLOOKUP(A2120,[1]EventLinkConfig!$AA:$AB,2,FALSE),\"\"),IFERROR(VLOOKUP(A2120,[1]EventConditionConfig!$B:$D,3,FALSE),\"\"))","v":"风势强劲，岛与岛之间缝隙深不见底，无桥无梯。"},"任务&事件文本",null,2117]
[2118,{"$f":"_xlfn.TEXTJOIN(\"\",1,IFERROR(VLOOKUP(A2121,[1]EventConfig!$T:$V,3,FALSE),\"\"),IFERROR(VLOOKUP(A2121,[1]EventConfig!$U:$W,3,FALSE),\"\"),IFERROR(VLOOKUP(A2121,[1]EventLinkConfig!$B:$C,2,FALSE),\"\"),IFERROR(VLOOKUP(A2121,[1]EventLinkConfig!$D:$E,2,FALSE),\"\"),IFERROR(VLOOKUP(A2121,[1]EventLinkConfig!$L:$M,2,FALSE),\"\"),IFERROR(VLOOKUP(A2121,[1]EventLinkConfig!$X:$Y,2,FALSE),\"\"),IFERROR(VLOOKUP(A2121,[1]EventLinkConfig!$AA:$AB,2,FALSE),\"\"),IFERROR(VLOOKUP(A2121,[1]EventConditionConfig!$B:$D,3,FALSE),\"\"))","v":"此处盘踞一位神秘道人，常独自站在岛边望风，仿佛等待什么。"},"任务&事件文本",null,2118]
[2119,{"$f":"_xlfn.TEXTJOIN(\"\",1,IFERROR(VLOOKUP(A2122,[1]EventConfig!$T:$V,3,FALSE),\"\"),IFERROR(VLOOKUP(A2122,[1]EventConfig!$U:$W,3,FALSE),\"\"),IFERROR(VLOOKUP(A2122,[1]EventLinkConfig!$B:$C,2,FALSE),\"\"),IFERROR(VLOOKUP(A2122,[1]EventLinkConfig!$D:$E,2,FALSE),\"\"),IFERROR(VLOOKUP(A2122,[1]EventLinkConfig!$L:$M,2,FALSE),\"\"),IFERROR(VLOOKUP(A2122,[1]EventLinkConfig!$X:$Y,2,FALSE),\"\"),IFERROR(VLOOKUP(A2122,[1]EventLinkConfig!$AA:$AB,2,FALSE),\"\"),IFERROR(VLOOKUP(A2122,[1]EventConditionConfig!$B:$D,3,FALSE),\"\"))","v":"（你尝试御剑，却在风中打转，被吹回原地）"},"任务&事件文本",null,2119]
[2120,{"$f":"_xlfn.TEXTJOIN(\"\",1,IFERROR(VLOOKUP(A2123,[1]EventConfig!$T:$V,3,FALSE),\"\"),IFERROR(VLOOKUP(A2123,[1]EventConfig!$U:$W,3,FALSE),\"\"),IFERROR(VLOOKUP(A2123,[1]EventLinkConfig!$B:$C,2,FALSE),\"\"),IFERROR(VLOOKUP(A2123,[1]EventLinkConfig!$D:$E,2,FALSE),\"\"),IFERROR(VLOOKUP(A2123,[1]EventLinkConfig!$L:$M,2,FALSE),\"\"),IFERROR(VLOOKUP(A2123,[1]EventLinkConfig!$X:$Y,2,FALSE),\"\"),IFERROR(VLOOKUP(A2123,[1]EventLinkConfig!$AA:$AB,2,FALSE),\"\"),IFERROR(VLOOKUP(A2123,[1]EventConditionConfig!$B:$D,3,FALSE),\"\"))","v":"前辈，这里的风太大，我无法飞行，请教如何才能通过？"},"任务&事件文本",null,2120]
[2121,{"$f":"_xlfn.TEXTJOIN(\"\",1,IFERROR(VLOOKUP(A2124,[1]EventConfig!$T:$V,3,FALSE),\"\"),IFERROR(VLOOKUP(A2124,[1]EventConfig!$U:$W,3,FALSE),\"\"),IFERROR(VLOOKUP(A2124,[1]EventLinkConfig!$B:$C,2,FALSE),\"\"),IFERROR(VLOOKUP(A2124,[1]EventLinkConfig!$D:$E,2,FALSE),\"\"),IFERROR(VLOOKUP(A2124,[1]EventLinkConfig!$L:$M,2,FALSE),\"\"),IFERROR(VLOOKUP(A2124,[1]EventLinkConfig!$X:$Y,2,FALSE),\"\"),IFERROR(VLOOKUP(A2124,[1]EventLinkConfig!$AA:$AB,2,FALSE),\"\"),IFERROR(VLOOKUP(A2124,[1]EventConditionConfig!$B:$D,3,FALSE),\"\"))","v":"......"},"任务&事件文本",null,2121]
[2122,{"$f":"_xlfn.TEXTJOIN(\"\",1,IFERROR(VLOOKUP(A2125,[1]EventConfig!$T:$V,3,FALSE),\"\"),IFERROR(VLOOKUP(A2125,[1]EventConfig!$U:$W,3,FALSE),\"\"),IFERROR(VLOOKUP(A2125,[1]EventLinkConfig!$B:$C,2,FALSE),\"\"),IFERROR(VLOOKUP(A2125,[1]EventLinkConfig!$D:$E,2,FALSE),\"\"),IFERROR(VLOOKUP(A2125,[1]EventLinkConfig!$L:$M,2,FALSE),\"\"),IFERROR(VLOOKUP(A2125,[1]EventLinkConfig!$X:$Y,2,FALSE),\"\"),IFERROR(VLOOKUP(A2125,[1]EventLinkConfig!$AA:$AB,2,FALSE),\"\"),IFERROR(VLOOKUP(A2125,[1]EventConditionConfig!$B:$D,3,FALSE),\"\"))","v":"前辈，我准备前往北海深处，寻鲲鹏。"},"任务&事件文本",null,2122]
[2123,{"$f":"_xlfn.TEXTJOIN(\"\",1,IFERROR(VLOOKUP(A2126,[1]EventConfig!$T:$V,3,FALSE),\"\"),IFERROR(VLOOKUP(A2126,[1]EventConfig!$U:$W,3,FALSE),\"\"),IFERROR(VLOOKUP(A2126,[1]EventLinkConfig!$B:$C,2,FALSE),\"\"),IFERROR(VLOOKUP(A2126,[1]EventLinkConfig!$D:$E,2,FALSE),\"\"),IFERROR(VLOOKUP(A2126,[1]EventLinkConfig!$L:$M,2,FALSE),\"\"),IFERROR(VLOOKUP(A2126,[1]EventLinkConfig!$X:$Y,2,FALSE),\"\"),IFERROR(VLOOKUP(A2126,[1]EventLinkConfig!$AA:$AB,2,FALSE),\"\"),IFERROR(VLOOKUP(A2126,[1]EventConditionConfig!$B:$D,3,FALSE),\"\"))","v":"鲲鹏？……世间竟还有人记得它。"},"任务&事件文本",null,2123]
[2124,{"$f":"_xlfn.TEXTJOIN(\"\",1,IFERROR(VLOOKUP(A2127,[1]EventConfig!$T:$V,3,FALSE),\"\"),IFERROR(VLOOKUP(A2127,[1]EventConfig!$U:$W,3,FALSE),\"\"),IFERROR(VLOOKUP(A2127,[1]EventLinkConfig!$B:$C,2,FALSE),\"\"),IFERROR(VLOOKUP(A2127,[1]EventLinkConfig!$D:$E,2,FALSE),\"\"),IFERROR(VLOOKUP(A2127,[1]EventLinkConfig!$L:$M,2,FALSE),\"\"),IFERROR(VLOOKUP(A2127,[1]EventLinkConfig!$X:$Y,2,FALSE),\"\"),IFERROR(VLOOKUP(A2127,[1]EventLinkConfig!$AA:$AB,2,FALSE),\"\"),IFERROR(VLOOKUP(A2127,[1]EventConditionConfig!$B:$D,3,FALSE),\"\"))","v":"（说着从手中掏出一个碎片，往空中一震，瞬间风停）过来吧。"},"任务&事件文本",null,2124]
[2125,{"$f":"_xlfn.TEXTJOIN(\"\",1,IFERROR(VLOOKUP(A2128,[1]EventConfig!$T:$V,3,FALSE),\"\"),IFERROR(VLOOKUP(A2128,[1]EventConfig!$U:$W,3,FALSE),\"\"),IFERROR(VLOOKUP(A2128,[1]EventLinkConfig!$B:$C,2,FALSE),\"\"),IFERROR(VLOOKUP(A2128,[1]EventLinkConfig!$D:$E,2,FALSE),\"\"),IFERROR(VLOOKUP(A2128,[1]EventLinkConfig!$L:$M,2,FALSE),\"\"),IFERROR(VLOOKUP(A2128,[1]EventLinkConfig!$X:$Y,2,FALSE),\"\"),IFERROR(VLOOKUP(A2128,[1]EventLinkConfig!$AA:$AB,2,FALSE),\"\"),IFERROR(VLOOKUP(A2128,[1]EventConditionConfig!$B:$D,3,FALSE),\"\"))","v":"说吧，为何寻那鲲鹏？"},"任务&事件文本",null,2125]
[2126,{"$f":"_xlfn.TEXTJOIN(\"\",1,IFERROR(VLOOKUP(A2129,[1]EventConfig!$T:$V,3,FALSE),\"\"),IFERROR(VLOOKUP(A2129,[1]EventConfig!$U:$W,3,FALSE),\"\"),IFERROR(VLOOKUP(A2129,[1]EventLinkConfig!$B:$C,2,FALSE),\"\"),IFERROR(VLOOKUP(A2129,[1]EventLinkConfig!$D:$E,2,FALSE),\"\"),IFERROR(VLOOKUP(A2129,[1]EventLinkConfig!$L:$M,2,FALSE),\"\"),IFERROR(VLOOKUP(A2129,[1]EventLinkConfig!$X:$Y,2,FALSE),\"\"),IFERROR(VLOOKUP(A2129,[1]EventLinkConfig!$AA:$AB,2,FALSE),\"\"),IFERROR(VLOOKUP(A2129,[1]EventConditionConfig!$B:$D,3,FALSE),\"\"))","v":"冲虚真人让我去的"},"任务&事件文本",null,2126]
[2127,{"$f":"_xlfn.TEXTJOIN(\"\",1,IFERROR(VLOOKUP(A2130,[1]EventConfig!$T:$V,3,FALSE),\"\"),IFERROR(VLOOKUP(A2130,[1]EventConfig!$U:$W,3,FALSE),\"\"),IFERROR(VLOOKUP(A2130,[1]EventLinkConfig!$B:$C,2,FALSE),\"\"),IFERROR(VLOOKUP(A2130,[1]EventLinkConfig!$D:$E,2,FALSE),\"\"),IFERROR(VLOOKUP(A2130,[1]EventLinkConfig!$L:$M,2,FALSE),\"\"),IFERROR(VLOOKUP(A2130,[1]EventLinkConfig!$X:$Y,2,FALSE),\"\"),IFERROR(VLOOKUP(A2130,[1]EventLinkConfig!$AA:$AB,2,FALSE),\"\"),IFERROR(VLOOKUP(A2130,[1]EventConditionConfig!$B:$D,3,FALSE),\"\"))","v":"我只是好奇.."},"任务&事件文本",null,2127]
[2128,{"$f":"_xlfn.TEXTJOIN(\"\",1,IFERROR(VLOOKUP(A2131,[1]EventConfig!$T:$V,3,FALSE),\"\"),IFERROR(VLOOKUP(A2131,[1]EventConfig!$U:$W,3,FALSE),\"\"),IFERROR(VLOOKUP(A2131,[1]EventLinkConfig!$B:$C,2,FALSE),\"\"),IFERROR(VLOOKUP(A2131,[1]EventLinkConfig!$D:$E,2,FALSE),\"\"),IFERROR(VLOOKUP(A2131,[1]EventLinkConfig!$L:$M,2,FALSE),\"\"),IFERROR(VLOOKUP(A2131,[1]EventLinkConfig!$X:$Y,2,FALSE),\"\"),IFERROR(VLOOKUP(A2131,[1]EventLinkConfig!$AA:$AB,2,FALSE),\"\"),IFERROR(VLOOKUP(A2131,[1]EventConditionConfig!$B:$D,3,FALSE),\"\"))","v":"你可知鹏飞九万里，需凭借龙卷风，才可达成？"},"任务&事件文本",null,2128]
[2129,{"$f":"_xlfn.TEXTJOIN(\"\",1,IFERROR(VLOOKUP(A2132,[1]EventConfig!$T:$V,3,FALSE),\"\"),IFERROR(VLOOKUP(A2132,[1]EventConfig!$U:$W,3,FALSE),\"\"),IFERROR(VLOOKUP(A2132,[1]EventLinkConfig!$B:$C,2,FALSE),\"\"),IFERROR(VLOOKUP(A2132,[1]EventLinkConfig!$D:$E,2,FALSE),\"\"),IFERROR(VLOOKUP(A2132,[1]EventLinkConfig!$L:$M,2,FALSE),\"\"),IFERROR(VLOOKUP(A2132,[1]EventLinkConfig!$X:$Y,2,FALSE),\"\"),IFERROR(VLOOKUP(A2132,[1]EventLinkConfig!$AA:$AB,2,FALSE),\"\"),IFERROR(VLOOKUP(A2132,[1]EventConditionConfig!$B:$D,3,FALSE),\"\"))","v":"请前辈赐教......"},"任务&事件文本",null,2129]
[2130,{"$f":"_xlfn.TEXTJOIN(\"\",1,IFERROR(VLOOKUP(A2133,[1]EventConfig!$T:$V,3,FALSE),\"\"),IFERROR(VLOOKUP(A2133,[1]EventConfig!$U:$W,3,FALSE),\"\"),IFERROR(VLOOKUP(A2133,[1]EventLinkConfig!$B:$C,2,FALSE),\"\"),IFERROR(VLOOKUP(A2133,[1]EventLinkConfig!$D:$E,2,FALSE),\"\"),IFERROR(VLOOKUP(A2133,[1]EventLinkConfig!$L:$M,2,FALSE),\"\"),IFERROR(VLOOKUP(A2133,[1]EventLinkConfig!$X:$Y,2,FALSE),\"\"),IFERROR(VLOOKUP(A2133,[1]EventLinkConfig!$AA:$AB,2,FALSE),\"\"),IFERROR(VLOOKUP(A2133,[1]EventConditionConfig!$B:$D,3,FALSE),\"\"))","v":"看你修为尚浅，跟你说多了也无用。"},"任务&事件文本",null,2130]
[2131,{"$f":"_xlfn.TEXTJOIN(\"\",1,IFERROR(VLOOKUP(A2134,[1]EventConfig!$T:$V,3,FALSE),\"\"),IFERROR(VLOOKUP(A2134,[1]EventConfig!$U:$W,3,FALSE),\"\"),IFERROR(VLOOKUP(A2134,[1]EventLinkConfig!$B:$C,2,FALSE),\"\"),IFERROR(VLOOKUP(A2134,[1]EventLinkConfig!$D:$E,2,FALSE),\"\"),IFERROR(VLOOKUP(A2134,[1]EventLinkConfig!$L:$M,2,FALSE),\"\"),IFERROR(VLOOKUP(A2134,[1]EventLinkConfig!$X:$Y,2,FALSE),\"\"),IFERROR(VLOOKUP(A2134,[1]EventLinkConfig!$AA:$AB,2,FALSE),\"\"),IFERROR(VLOOKUP(A2134,[1]EventConditionConfig!$B:$D,3,FALSE),\"\"))","v":"再往前是我师弟的洞府了，他可不好说话。"},"任务&事件文本",null,2131]
[2132,{"$f":"_xlfn.TEXTJOIN(\"\",1,IFERROR(VLOOKUP(A2135,[1]EventConfig!$T:$V,3,FALSE),\"\"),IFERROR(VLOOKUP(A2135,[1]EventConfig!$U:$W,3,FALSE),\"\"),IFERROR(VLOOKUP(A2135,[1]EventLinkConfig!$B:$C,2,FALSE),\"\"),IFERROR(VLOOKUP(A2135,[1]EventLinkConfig!$D:$E,2,FALSE),\"\"),IFERROR(VLOOKUP(A2135,[1]EventLinkConfig!$L:$M,2,FALSE),\"\"),IFERROR(VLOOKUP(A2135,[1]EventLinkConfig!$X:$Y,2,FALSE),\"\"),IFERROR(VLOOKUP(A2135,[1]EventLinkConfig!$AA:$AB,2,FALSE),\"\"),IFERROR(VLOOKUP(A2135,[1]EventConditionConfig!$B:$D,3,FALSE),\"\"))","v":"就在我这附近好好修炼吧，至少提升至筑基修为。"},"任务&事件文本",null,2132]
[2133,{"$f":"_xlfn.TEXTJOIN(\"\",1,IFERROR(VLOOKUP(A2136,[1]EventConfig!$T:$V,3,FALSE),\"\"),IFERROR(VLOOKUP(A2136,[1]EventConfig!$U:$W,3,FALSE),\"\"),IFERROR(VLOOKUP(A2136,[1]EventLinkConfig!$B:$C,2,FALSE),\"\"),IFERROR(VLOOKUP(A2136,[1]EventLinkConfig!$D:$E,2,FALSE),\"\"),IFERROR(VLOOKUP(A2136,[1]EventLinkConfig!$L:$M,2,FALSE),\"\"),IFERROR(VLOOKUP(A2136,[1]EventLinkConfig!$X:$Y,2,FALSE),\"\"),IFERROR(VLOOKUP(A2136,[1]EventLinkConfig!$AA:$AB,2,FALSE),\"\"),IFERROR(VLOOKUP(A2136,[1]EventConditionConfig!$B:$D,3,FALSE),\"\"))","v":"前辈为何如此助我？"},"任务&事件文本",null,2133]
[2134,{"$f":"_xlfn.TEXTJOIN(\"\",1,IFERROR(VLOOKUP(A2137,[1]EventConfig!$T:$V,3,FALSE),\"\"),IFERROR(VLOOKUP(A2137,[1]EventConfig!$U:$W,3,FALSE),\"\"),IFERROR(VLOOKUP(A2137,[1]EventLinkConfig!$B:$C,2,FALSE),\"\"),IFERROR(VLOOKUP(A2137,[1]EventLinkConfig!$D:$E,2,FALSE),\"\"),IFERROR(VLOOKUP(A2137,[1]EventLinkConfig!$L:$M,2,FALSE),\"\"),IFERROR(VLOOKUP(A2137,[1]EventLinkConfig!$X:$Y,2,FALSE),\"\"),IFERROR(VLOOKUP(A2137,[1]EventLinkConfig!$AA:$AB,2,FALSE),\"\"),IFERROR(VLOOKUP(A2137,[1]EventConditionConfig!$B:$D,3,FALSE),\"\"))","v":"（疯道人望你一眼，没有回答，但丢过来一本功法）修到[筑基-中期]再来找我。"},"任务&事件文本",null,2134]
[2135,{"$f":"_xlfn.TEXTJOIN(\"\",1,IFERROR(VLOOKUP(A2138,[1]EventConfig!$T:$V,3,FALSE),\"\"),IFERROR(VLOOKUP(A2138,[1]EventConfig!$U:$W,3,FALSE),\"\"),IFERROR(VLOOKUP(A2138,[1]EventLinkConfig!$B:$C,2,FALSE),\"\"),IFERROR(VLOOKUP(A2138,[1]EventLinkConfig!$D:$E,2,FALSE),\"\"),IFERROR(VLOOKUP(A2138,[1]EventLinkConfig!$L:$M,2,FALSE),\"\"),IFERROR(VLOOKUP(A2138,[1]EventLinkConfig!$X:$Y,2,FALSE),\"\"),IFERROR(VLOOKUP(A2138,[1]EventLinkConfig!$AA:$AB,2,FALSE),\"\"),IFERROR(VLOOKUP(A2138,[1]EventConditionConfig!$B:$D,3,FALSE),\"\"))","v":"浮空之岛1"},"任务&事件文本",null,2135]
[2136,{"$f":"_xlfn.TEXTJOIN(\"\",1,IFERROR(VLOOKUP(A2139,[1]EventConfig!$T:$V,3,FALSE),\"\"),IFERROR(VLOOKUP(A2139,[1]EventConfig!$U:$W,3,FALSE),\"\"),IFERROR(VLOOKUP(A2139,[1]EventLinkConfig!$B:$C,2,FALSE),\"\"),IFERROR(VLOOKUP(A2139,[1]EventLinkConfig!$D:$E,2,FALSE),\"\"),IFERROR(VLOOKUP(A2139,[1]EventLinkConfig!$L:$M,2,FALSE),\"\"),IFERROR(VLOOKUP(A2139,[1]EventLinkConfig!$X:$Y,2,FALSE),\"\"),IFERROR(VLOOKUP(A2139,[1]EventLinkConfig!$AA:$AB,2,FALSE),\"\"),IFERROR(VLOOKUP(A2139,[1]EventConditionConfig!$B:$D,3,FALSE),\"\"))","v":"浮空之岛2"},"任务&事件文本",null,2136]
[2137,{"$f":"_xlfn.TEXTJOIN(\"\",1,IFERROR(VLOOKUP(A2140,[1]EventConfig!$T:$V,3,FALSE),\"\"),IFERROR(VLOOKUP(A2140,[1]EventConfig!$U:$W,3,FALSE),\"\"),IFERROR(VLOOKUP(A2140,[1]EventLinkConfig!$B:$C,2,FALSE),\"\"),IFERROR(VLOOKUP(A2140,[1]EventLinkConfig!$D:$E,2,FALSE),\"\"),IFERROR(VLOOKUP(A2140,[1]EventLinkConfig!$L:$M,2,FALSE),\"\"),IFERROR(VLOOKUP(A2140,[1]EventLinkConfig!$X:$Y,2,FALSE),\"\"),IFERROR(VLOOKUP(A2140,[1]EventLinkConfig!$AA:$AB,2,FALSE),\"\"),IFERROR(VLOOKUP(A2140,[1]EventConditionConfig!$B:$D,3,FALSE),\"\"))","v":"初见疯道人"},"任务&事件文本",null,2137]
[2138,{"$f":"_xlfn.TEXTJOIN(\"\",1,IFERROR(VLOOKUP(A2141,[1]EventConfig!$T:$V,3,FALSE),\"\"),IFERROR(VLOOKUP(A2141,[1]EventConfig!$U:$W,3,FALSE),\"\"),IFERROR(VLOOKUP(A2141,[1]EventLinkConfig!$B:$C,2,FALSE),\"\"),IFERROR(VLOOKUP(A2141,[1]EventLinkConfig!$D:$E,2,FALSE),\"\"),IFERROR(VLOOKUP(A2141,[1]EventLinkConfig!$L:$M,2,FALSE),\"\"),IFERROR(VLOOKUP(A2141,[1]EventLinkConfig!$X:$Y,2,FALSE),\"\"),IFERROR(VLOOKUP(A2141,[1]EventLinkConfig!$AA:$AB,2,FALSE),\"\"),IFERROR(VLOOKUP(A2141,[1]EventConditionConfig!$B:$D,3,FALSE),\"\"))","v":"筑基中期"},"任务&事件文本",null,2138]
[2139,{"$f":"_xlfn.TEXTJOIN(\"\",1,IFERROR(VLOOKUP(A2142,[1]EventConfig!$T:$V,3,FALSE),\"\"),IFERROR(VLOOKUP(A2142,[1]EventConfig!$U:$W,3,FALSE),\"\"),IFERROR(VLOOKUP(A2142,[1]EventLinkConfig!$B:$C,2,FALSE),\"\"),IFERROR(VLOOKUP(A2142,[1]EventLinkConfig!$D:$E,2,FALSE),\"\"),IFERROR(VLOOKUP(A2142,[1]EventLinkConfig!$L:$M,2,FALSE),\"\"),IFERROR(VLOOKUP(A2142,[1]EventLinkConfig!$X:$Y,2,FALSE),\"\"),IFERROR(VLOOKUP(A2142,[1]EventLinkConfig!$AA:$AB,2,FALSE),\"\"),IFERROR(VLOOKUP(A2142,[1]EventConditionConfig!$B:$D,3,FALSE),\"\"))","v":"你已突破筑基前期达到中期，灵力通畅，是时候去会一会我的师弟了。"},"任务&事件文本",null,2139]
[2140,{"$f":"_xlfn.TEXTJOIN(\"\",1,IFERROR(VLOOKUP(A2143,[1]EventConfig!$T:$V,3,FALSE),\"\"),IFERROR(VLOOKUP(A2143,[1]EventConfig!$U:$W,3,FALSE),\"\"),IFERROR(VLOOKUP(A2143,[1]EventLinkConfig!$B:$C,2,FALSE),\"\"),IFERROR(VLOOKUP(A2143,[1]EventLinkConfig!$D:$E,2,FALSE),\"\"),IFERROR(VLOOKUP(A2143,[1]EventLinkConfig!$L:$M,2,FALSE),\"\"),IFERROR(VLOOKUP(A2143,[1]EventLinkConfig!$X:$Y,2,FALSE),\"\"),IFERROR(VLOOKUP(A2143,[1]EventLinkConfig!$AA:$AB,2,FALSE),\"\"),IFERROR(VLOOKUP(A2143,[1]EventConditionConfig!$B:$D,3,FALSE),\"\"))","v":"是的。鲲鹏之行，志在必达。"},"任务&事件文本",null,2140]
[2141,{"$f":"_xlfn.TEXTJOIN(\"\",1,IFERROR(VLOOKUP(A2144,[1]EventConfig!$T:$V,3,FALSE),\"\"),IFERROR(VLOOKUP(A2144,[1]EventConfig!$U:$W,3,FALSE),\"\"),IFERROR(VLOOKUP(A2144,[1]EventLinkConfig!$B:$C,2,FALSE),\"\"),IFERROR(VLOOKUP(A2144,[1]EventLinkConfig!$D:$E,2,FALSE),\"\"),IFERROR(VLOOKUP(A2144,[1]EventLinkConfig!$L:$M,2,FALSE),\"\"),IFERROR(VLOOKUP(A2144,[1]EventLinkConfig!$X:$Y,2,FALSE),\"\"),IFERROR(VLOOKUP(A2144,[1]EventLinkConfig!$AA:$AB,2,FALSE),\"\"),IFERROR(VLOOKUP(A2144,[1]EventConditionConfig!$B:$D,3,FALSE),\"\"))","v":"看看风的尽头到底有什么。"},"任务&事件文本",null,2141]
[2142,{"$f":"_xlfn.TEXTJOIN(\"\",1,IFERROR(VLOOKUP(A2145,[1]EventConfig!$T:$V,3,FALSE),\"\"),IFERROR(VLOOKUP(A2145,[1]EventConfig!$U:$W,3,FALSE),\"\"),IFERROR(VLOOKUP(A2145,[1]EventLinkConfig!$B:$C,2,FALSE),\"\"),IFERROR(VLOOKUP(A2145,[1]EventLinkConfig!$D:$E,2,FALSE),\"\"),IFERROR(VLOOKUP(A2145,[1]EventLinkConfig!$L:$M,2,FALSE),\"\"),IFERROR(VLOOKUP(A2145,[1]EventLinkConfig!$X:$Y,2,FALSE),\"\"),IFERROR(VLOOKUP(A2145,[1]EventLinkConfig!$AA:$AB,2,FALSE),\"\"),IFERROR(VLOOKUP(A2145,[1]EventConditionConfig!$B:$D,3,FALSE),\"\"))","v":"（轻轻一笑）你说风的尽头……我也曾想看。\n（他望向远处翻涌的云海）"},"任务&事件文本",null,2142]
[2143,{"$f":"_xlfn.TEXTJOIN(\"\",1,IFERROR(VLOOKUP(A2146,[1]EventConfig!$T:$V,3,FALSE),\"\"),IFERROR(VLOOKUP(A2146,[1]EventConfig!$U:$W,3,FALSE),\"\"),IFERROR(VLOOKUP(A2146,[1]EventLinkConfig!$B:$C,2,FALSE),\"\"),IFERROR(VLOOKUP(A2146,[1]EventLinkConfig!$D:$E,2,FALSE),\"\"),IFERROR(VLOOKUP(A2146,[1]EventLinkConfig!$L:$M,2,FALSE),\"\"),IFERROR(VLOOKUP(A2146,[1]EventLinkConfig!$X:$Y,2,FALSE),\"\"),IFERROR(VLOOKUP(A2146,[1]EventLinkConfig!$AA:$AB,2,FALSE),\"\"),IFERROR(VLOOKUP(A2146,[1]EventConditionConfig!$B:$D,3,FALSE),\"\"))","v":"我和师弟，共守这处风眼多年。我想出去，他却偏要留。"},"任务&事件文本",null,2143]
[2144,{"$f":"_xlfn.TEXTJOIN(\"\",1,IFERROR(VLOOKUP(A2147,[1]EventConfig!$T:$V,3,FALSE),\"\"),IFERROR(VLOOKUP(A2147,[1]EventConfig!$U:$W,3,FALSE),\"\"),IFERROR(VLOOKUP(A2147,[1]EventLinkConfig!$B:$C,2,FALSE),\"\"),IFERROR(VLOOKUP(A2147,[1]EventLinkConfig!$D:$E,2,FALSE),\"\"),IFERROR(VLOOKUP(A2147,[1]EventLinkConfig!$L:$M,2,FALSE),\"\"),IFERROR(VLOOKUP(A2147,[1]EventLinkConfig!$X:$Y,2,FALSE),\"\"),IFERROR(VLOOKUP(A2147,[1]EventLinkConfig!$AA:$AB,2,FALSE),\"\"),IFERROR(VLOOKUP(A2147,[1]EventConditionConfig!$B:$D,3,FALSE),\"\"))","v":"风灵珠碎成两半，一半在我这里，另一半……在他洞府中。"},"任务&事件文本",null,2144]
[2145,{"$f":"_xlfn.TEXTJOIN(\"\",1,IFERROR(VLOOKUP(A2148,[1]EventConfig!$T:$V,3,FALSE),\"\"),IFERROR(VLOOKUP(A2148,[1]EventConfig!$U:$W,3,FALSE),\"\"),IFERROR(VLOOKUP(A2148,[1]EventLinkConfig!$B:$C,2,FALSE),\"\"),IFERROR(VLOOKUP(A2148,[1]EventLinkConfig!$D:$E,2,FALSE),\"\"),IFERROR(VLOOKUP(A2148,[1]EventLinkConfig!$L:$M,2,FALSE),\"\"),IFERROR(VLOOKUP(A2148,[1]EventLinkConfig!$X:$Y,2,FALSE),\"\"),IFERROR(VLOOKUP(A2148,[1]EventLinkConfig!$AA:$AB,2,FALSE),\"\"),IFERROR(VLOOKUP(A2148,[1]EventConditionConfig!$B:$D,3,FALSE),\"\"))","v":"你若想见鲲鹏，必须要集齐整个风灵珠。"},"任务&事件文本",null,2145]
[2146,{"$f":"_xlfn.TEXTJOIN(\"\",1,IFERROR(VLOOKUP(A2149,[1]EventConfig!$T:$V,3,FALSE),\"\"),IFERROR(VLOOKUP(A2149,[1]EventConfig!$U:$W,3,FALSE),\"\"),IFERROR(VLOOKUP(A2149,[1]EventLinkConfig!$B:$C,2,FALSE),\"\"),IFERROR(VLOOKUP(A2149,[1]EventLinkConfig!$D:$E,2,FALSE),\"\"),IFERROR(VLOOKUP(A2149,[1]EventLinkConfig!$L:$M,2,FALSE),\"\"),IFERROR(VLOOKUP(A2149,[1]EventLinkConfig!$X:$Y,2,FALSE),\"\"),IFERROR(VLOOKUP(A2149,[1]EventLinkConfig!$AA:$AB,2,FALSE),\"\"),IFERROR(VLOOKUP(A2149,[1]EventConditionConfig!$B:$D,3,FALSE),\"\"))","v":"我这一半给你，可助你在大风中，来去自如。"},"任务&事件文本",null,2146]
[2147,{"$f":"_xlfn.TEXTJOIN(\"\",1,IFERROR(VLOOKUP(A2150,[1]EventConfig!$T:$V,3,FALSE),\"\"),IFERROR(VLOOKUP(A2150,[1]EventConfig!$U:$W,3,FALSE),\"\"),IFERROR(VLOOKUP(A2150,[1]EventLinkConfig!$B:$C,2,FALSE),\"\"),IFERROR(VLOOKUP(A2150,[1]EventLinkConfig!$D:$E,2,FALSE),\"\"),IFERROR(VLOOKUP(A2150,[1]EventLinkConfig!$L:$M,2,FALSE),\"\"),IFERROR(VLOOKUP(A2150,[1]EventLinkConfig!$X:$Y,2,FALSE),\"\"),IFERROR(VLOOKUP(A2150,[1]EventLinkConfig!$AA:$AB,2,FALSE),\"\"),IFERROR(VLOOKUP(A2150,[1]EventConditionConfig!$B:$D,3,FALSE),\"\"))","v":"你获得了疯道人的半颗风灵珠，在狂风中自由飞行，好不自在。"},"任务&事件文本",null,2147]
[2148,{"$f":"_xlfn.TEXTJOIN(\"\",1,IFERROR(VLOOKUP(A2151,[1]EventConfig!$T:$V,3,FALSE),\"\"),IFERROR(VLOOKUP(A2151,[1]EventConfig!$U:$W,3,FALSE),\"\"),IFERROR(VLOOKUP(A2151,[1]EventLinkConfig!$B:$C,2,FALSE),\"\"),IFERROR(VLOOKUP(A2151,[1]EventLinkConfig!$D:$E,2,FALSE),\"\"),IFERROR(VLOOKUP(A2151,[1]EventLinkConfig!$L:$M,2,FALSE),\"\"),IFERROR(VLOOKUP(A2151,[1]EventLinkConfig!$X:$Y,2,FALSE),\"\"),IFERROR(VLOOKUP(A2151,[1]EventLinkConfig!$AA:$AB,2,FALSE),\"\"),IFERROR(VLOOKUP(A2151,[1]EventConditionConfig!$B:$D,3,FALSE),\"\"))","v":"这......就是逍遥游吗？"},"任务&事件文本",null,2148]
[2149,{"$f":"_xlfn.TEXTJOIN(\"\",1,IFERROR(VLOOKUP(A2152,[1]EventConfig!$T:$V,3,FALSE),\"\"),IFERROR(VLOOKUP(A2152,[1]EventConfig!$U:$W,3,FALSE),\"\"),IFERROR(VLOOKUP(A2152,[1]EventLinkConfig!$B:$C,2,FALSE),\"\"),IFERROR(VLOOKUP(A2152,[1]EventLinkConfig!$D:$E,2,FALSE),\"\"),IFERROR(VLOOKUP(A2152,[1]EventLinkConfig!$L:$M,2,FALSE),\"\"),IFERROR(VLOOKUP(A2152,[1]EventLinkConfig!$X:$Y,2,FALSE),\"\"),IFERROR(VLOOKUP(A2152,[1]EventLinkConfig!$AA:$AB,2,FALSE),\"\"),IFERROR(VLOOKUP(A2152,[1]EventConditionConfig!$B:$D,3,FALSE),\"\"))","v":"你终于来了......"},"任务&事件文本",null,2149]
[2150,{"$f":"_xlfn.TEXTJOIN(\"\",1,IFERROR(VLOOKUP(A2153,[1]EventConfig!$T:$V,3,FALSE),\"\"),IFERROR(VLOOKUP(A2153,[1]EventConfig!$U:$W,3,FALSE),\"\"),IFERROR(VLOOKUP(A2153,[1]EventLinkConfig!$B:$C,2,FALSE),\"\"),IFERROR(VLOOKUP(A2153,[1]EventLinkConfig!$D:$E,2,FALSE),\"\"),IFERROR(VLOOKUP(A2153,[1]EventLinkConfig!$L:$M,2,FALSE),\"\"),IFERROR(VLOOKUP(A2153,[1]EventLinkConfig!$X:$Y,2,FALSE),\"\"),IFERROR(VLOOKUP(A2153,[1]EventLinkConfig!$AA:$AB,2,FALSE),\"\"),IFERROR(VLOOKUP(A2153,[1]EventConditionConfig!$B:$D,3,FALSE),\"\"))","v":"你知道我要来？"},"任务&事件文本",null,2150]
[2151,{"$f":"_xlfn.TEXTJOIN(\"\",1,IFERROR(VLOOKUP(A2154,[1]EventConfig!$T:$V,3,FALSE),\"\"),IFERROR(VLOOKUP(A2154,[1]EventConfig!$U:$W,3,FALSE),\"\"),IFERROR(VLOOKUP(A2154,[1]EventLinkConfig!$B:$C,2,FALSE),\"\"),IFERROR(VLOOKUP(A2154,[1]EventLinkConfig!$D:$E,2,FALSE),\"\"),IFERROR(VLOOKUP(A2154,[1]EventLinkConfig!$L:$M,2,FALSE),\"\"),IFERROR(VLOOKUP(A2154,[1]EventLinkConfig!$X:$Y,2,FALSE),\"\"),IFERROR(VLOOKUP(A2154,[1]EventLinkConfig!$AA:$AB,2,FALSE),\"\"),IFERROR(VLOOKUP(A2154,[1]EventConditionConfig!$B:$D,3,FALSE),\"\"))","v":"初见疯道人"},"任务&事件文本",null,2151]
[2152,{"$f":"_xlfn.TEXTJOIN(\"\",1,IFERROR(VLOOKUP(A2155,[1]EventConfig!$T:$V,3,FALSE),\"\"),IFERROR(VLOOKUP(A2155,[1]EventConfig!$U:$W,3,FALSE),\"\"),IFERROR(VLOOKUP(A2155,[1]EventLinkConfig!$B:$C,2,FALSE),\"\"),IFERROR(VLOOKUP(A2155,[1]EventLinkConfig!$D:$E,2,FALSE),\"\"),IFERROR(VLOOKUP(A2155,[1]EventLinkConfig!$L:$M,2,FALSE),\"\"),IFERROR(VLOOKUP(A2155,[1]EventLinkConfig!$X:$Y,2,FALSE),\"\"),IFERROR(VLOOKUP(A2155,[1]EventLinkConfig!$AA:$AB,2,FALSE),\"\"),IFERROR(VLOOKUP(A2155,[1]EventConditionConfig!$B:$D,3,FALSE),\"\"))","v":"疯道人赠与一半风灵珠"},"任务&事件文本",null,2152]
[2153,{"$f":"_xlfn.TEXTJOIN(\"\",1,IFERROR(VLOOKUP(A2156,[1]EventConfig!$T:$V,3,FALSE),\"\"),IFERROR(VLOOKUP(A2156,[1]EventConfig!$U:$W,3,FALSE),\"\"),IFERROR(VLOOKUP(A2156,[1]EventLinkConfig!$B:$C,2,FALSE),\"\"),IFERROR(VLOOKUP(A2156,[1]EventLinkConfig!$D:$E,2,FALSE),\"\"),IFERROR(VLOOKUP(A2156,[1]EventLinkConfig!$L:$M,2,FALSE),\"\"),IFERROR(VLOOKUP(A2156,[1]EventLinkConfig!$X:$Y,2,FALSE),\"\"),IFERROR(VLOOKUP(A2156,[1]EventLinkConfig!$AA:$AB,2,FALSE),\"\"),IFERROR(VLOOKUP(A2156,[1]EventConditionConfig!$B:$D,3,FALSE),\"\"))","v":"没想到痴道人一来就要与你交手"},"任务&事件文本",null,2153]
[2154,{"$f":"_xlfn.TEXTJOIN(\"\",1,IFERROR(VLOOKUP(A2157,[1]EventConfig!$T:$V,3,FALSE),\"\"),IFERROR(VLOOKUP(A2157,[1]EventConfig!$U:$W,3,FALSE),\"\"),IFERROR(VLOOKUP(A2157,[1]EventLinkConfig!$B:$C,2,FALSE),\"\"),IFERROR(VLOOKUP(A2157,[1]EventLinkConfig!$D:$E,2,FALSE),\"\"),IFERROR(VLOOKUP(A2157,[1]EventLinkConfig!$L:$M,2,FALSE),\"\"),IFERROR(VLOOKUP(A2157,[1]EventLinkConfig!$X:$Y,2,FALSE),\"\"),IFERROR(VLOOKUP(A2157,[1]EventLinkConfig!$AA:$AB,2,FALSE),\"\"),IFERROR(VLOOKUP(A2157,[1]EventConditionConfig!$B:$D,3,FALSE),\"\"))","v":"多说无益，我早已感应到你身上的半颗风灵珠。必是那疯老头让来的。出手吧！"},"任务&事件文本",null,2154]
[2155,{"$f":"_xlfn.TEXTJOIN(\"\",1,IFERROR(VLOOKUP(A2158,[1]EventConfig!$T:$V,3,FALSE),\"\"),IFERROR(VLOOKUP(A2158,[1]EventConfig!$U:$W,3,FALSE),\"\"),IFERROR(VLOOKUP(A2158,[1]EventLinkConfig!$B:$C,2,FALSE),\"\"),IFERROR(VLOOKUP(A2158,[1]EventLinkConfig!$D:$E,2,FALSE),\"\"),IFERROR(VLOOKUP(A2158,[1]EventLinkConfig!$L:$M,2,FALSE),\"\"),IFERROR(VLOOKUP(A2158,[1]EventLinkConfig!$X:$Y,2,FALSE),\"\"),IFERROR(VLOOKUP(A2158,[1]EventLinkConfig!$AA:$AB,2,FALSE),\"\"),IFERROR(VLOOKUP(A2158,[1]EventConditionConfig!$B:$D,3,FALSE),\"\"))","v":"（被击倒在一边）够了！"},"任务&事件文本",null,2155]
[2156,{"$f":"_xlfn.TEXTJOIN(\"\",1,IFERROR(VLOOKUP(A2159,[1]EventConfig!$T:$V,3,FALSE),\"\"),IFERROR(VLOOKUP(A2159,[1]EventConfig!$U:$W,3,FALSE),\"\"),IFERROR(VLOOKUP(A2159,[1]EventLinkConfig!$B:$C,2,FALSE),\"\"),IFERROR(VLOOKUP(A2159,[1]EventLinkConfig!$D:$E,2,FALSE),\"\"),IFERROR(VLOOKUP(A2159,[1]EventLinkConfig!$L:$M,2,FALSE),\"\"),IFERROR(VLOOKUP(A2159,[1]EventLinkConfig!$X:$Y,2,FALSE),\"\"),IFERROR(VLOOKUP(A2159,[1]EventLinkConfig!$AA:$AB,2,FALSE),\"\"),IFERROR(VLOOKUP(A2159,[1]EventConditionConfig!$B:$D,3,FALSE),\"\"))","v":"疯痴相聚"},"任务&事件文本",null,2156]
[2157,{"$f":"_xlfn.TEXTJOIN(\"\",1,IFERROR(VLOOKUP(A2160,[1]EventConfig!$T:$V,3,FALSE),\"\"),IFERROR(VLOOKUP(A2160,[1]EventConfig!$U:$W,3,FALSE),\"\"),IFERROR(VLOOKUP(A2160,[1]EventLinkConfig!$B:$C,2,FALSE),\"\"),IFERROR(VLOOKUP(A2160,[1]EventLinkConfig!$D:$E,2,FALSE),\"\"),IFERROR(VLOOKUP(A2160,[1]EventLinkConfig!$L:$M,2,FALSE),\"\"),IFERROR(VLOOKUP(A2160,[1]EventLinkConfig!$X:$Y,2,FALSE),\"\"),IFERROR(VLOOKUP(A2160,[1]EventLinkConfig!$AA:$AB,2,FALSE),\"\"),IFERROR(VLOOKUP(A2160,[1]EventConditionConfig!$B:$D,3,FALSE),\"\"))","v":"......"},"任务&事件文本",null,2157]
[2158,{"$f":"_xlfn.TEXTJOIN(\"\",1,IFERROR(VLOOKUP(A2161,[1]EventConfig!$T:$V,3,FALSE),\"\"),IFERROR(VLOOKUP(A2161,[1]EventConfig!$U:$W,3,FALSE),\"\"),IFERROR(VLOOKUP(A2161,[1]EventLinkConfig!$B:$C,2,FALSE),\"\"),IFERROR(VLOOKUP(A2161,[1]EventLinkConfig!$D:$E,2,FALSE),\"\"),IFERROR(VLOOKUP(A2161,[1]EventLinkConfig!$L:$M,2,FALSE),\"\"),IFERROR(VLOOKUP(A2161,[1]EventLinkConfig!$X:$Y,2,FALSE),\"\"),IFERROR(VLOOKUP(A2161,[1]EventLinkConfig!$AA:$AB,2,FALSE),\"\"),IFERROR(VLOOKUP(A2161,[1]EventConditionConfig!$B:$D,3,FALSE),\"\"))","v":"（你靠近痴道人）你真的想一直留在这里？你师兄说你不肯走。"},"任务&事件文本",null,2158]
[2159,{"$f":"_xlfn.TEXTJOIN(\"\",1,IFERROR(VLOOKUP(A2162,[1]EventConfig!$T:$V,3,FALSE),\"\"),IFERROR(VLOOKUP(A2162,[1]EventConfig!$U:$W,3,FALSE),\"\"),IFERROR(VLOOKUP(A2162,[1]EventLinkConfig!$B:$C,2,FALSE),\"\"),IFERROR(VLOOKUP(A2162,[1]EventLinkConfig!$D:$E,2,FALSE),\"\"),IFERROR(VLOOKUP(A2162,[1]EventLinkConfig!$L:$M,2,FALSE),\"\"),IFERROR(VLOOKUP(A2162,[1]EventLinkConfig!$X:$Y,2,FALSE),\"\"),IFERROR(VLOOKUP(A2162,[1]EventLinkConfig!$AA:$AB,2,FALSE),\"\"),IFERROR(VLOOKUP(A2162,[1]EventConditionConfig!$B:$D,3,FALSE),\"\"))","v":"你修炼的时候，有没有过那种感觉——身边的人都在往前走，只有你还在原地。"},"任务&事件文本",null,2159]
[2160,{"$f":"_xlfn.TEXTJOIN(\"\",1,IFERROR(VLOOKUP(A2163,[1]EventConfig!$T:$V,3,FALSE),\"\"),IFERROR(VLOOKUP(A2163,[1]EventConfig!$U:$W,3,FALSE),\"\"),IFERROR(VLOOKUP(A2163,[1]EventLinkConfig!$B:$C,2,FALSE),\"\"),IFERROR(VLOOKUP(A2163,[1]EventLinkConfig!$D:$E,2,FALSE),\"\"),IFERROR(VLOOKUP(A2163,[1]EventLinkConfig!$L:$M,2,FALSE),\"\"),IFERROR(VLOOKUP(A2163,[1]EventLinkConfig!$X:$Y,2,FALSE),\"\"),IFERROR(VLOOKUP(A2163,[1]EventLinkConfig!$AA:$AB,2,FALSE),\"\"),IFERROR(VLOOKUP(A2163,[1]EventConditionConfig!$B:$D,3,FALSE),\"\"))","v":"我师兄，他悟性极高，一年就能走我三年的路。我不服气，想努力赶上他。"},"任务&事件文本",null,2160]
[2161,{"$f":"_xlfn.TEXTJOIN(\"\",1,IFERROR(VLOOKUP(A2164,[1]EventConfig!$T:$V,3,FALSE),\"\"),IFERROR(VLOOKUP(A2164,[1]EventConfig!$U:$W,3,FALSE),\"\"),IFERROR(VLOOKUP(A2164,[1]EventLinkConfig!$B:$C,2,FALSE),\"\"),IFERROR(VLOOKUP(A2164,[1]EventLinkConfig!$D:$E,2,FALSE),\"\"),IFERROR(VLOOKUP(A2164,[1]EventLinkConfig!$L:$M,2,FALSE),\"\"),IFERROR(VLOOKUP(A2164,[1]EventLinkConfig!$X:$Y,2,FALSE),\"\"),IFERROR(VLOOKUP(A2164,[1]EventLinkConfig!$AA:$AB,2,FALSE),\"\"),IFERROR(VLOOKUP(A2164,[1]EventConditionConfig!$B:$D,3,FALSE),\"\"))","v":"然后呢？"},"任务&事件文本",null,2161]
[2162,{"$f":"_xlfn.TEXTJOIN(\"\",1,IFERROR(VLOOKUP(A2165,[1]EventConfig!$T:$V,3,FALSE),\"\"),IFERROR(VLOOKUP(A2165,[1]EventConfig!$U:$W,3,FALSE),\"\"),IFERROR(VLOOKUP(A2165,[1]EventLinkConfig!$B:$C,2,FALSE),\"\"),IFERROR(VLOOKUP(A2165,[1]EventLinkConfig!$D:$E,2,FALSE),\"\"),IFERROR(VLOOKUP(A2165,[1]EventLinkConfig!$L:$M,2,FALSE),\"\"),IFERROR(VLOOKUP(A2165,[1]EventLinkConfig!$X:$Y,2,FALSE),\"\"),IFERROR(VLOOKUP(A2165,[1]EventLinkConfig!$AA:$AB,2,FALSE),\"\"),IFERROR(VLOOKUP(A2165,[1]EventConditionConfig!$B:$D,3,FALSE),\"\"))","v":"我一直苦心修炼，可人也困在这儿了……越修炼，越困难，修不动了。"},"任务&事件文本",null,2162]
[2163,{"$f":"_xlfn.TEXTJOIN(\"\",1,IFERROR(VLOOKUP(A2166,[1]EventConfig!$T:$V,3,FALSE),\"\"),IFERROR(VLOOKUP(A2166,[1]EventConfig!$U:$W,3,FALSE),\"\"),IFERROR(VLOOKUP(A2166,[1]EventLinkConfig!$B:$C,2,FALSE),\"\"),IFERROR(VLOOKUP(A2166,[1]EventLinkConfig!$D:$E,2,FALSE),\"\"),IFERROR(VLOOKUP(A2166,[1]EventLinkConfig!$L:$M,2,FALSE),\"\"),IFERROR(VLOOKUP(A2166,[1]EventLinkConfig!$X:$Y,2,FALSE),\"\"),IFERROR(VLOOKUP(A2166,[1]EventLinkConfig!$AA:$AB,2,FALSE),\"\"),IFERROR(VLOOKUP(A2166,[1]EventConditionConfig!$B:$D,3,FALSE),\"\"))","v":"[此时，疯道人踏风而至，就在几步之外]"},"任务&事件文本",null,2163]
[2164,{"$f":"_xlfn.TEXTJOIN(\"\",1,IFERROR(VLOOKUP(A2167,[1]EventConfig!$T:$V,3,FALSE),\"\"),IFERROR(VLOOKUP(A2167,[1]EventConfig!$U:$W,3,FALSE),\"\"),IFERROR(VLOOKUP(A2167,[1]EventLinkConfig!$B:$C,2,FALSE),\"\"),IFERROR(VLOOKUP(A2167,[1]EventLinkConfig!$D:$E,2,FALSE),\"\"),IFERROR(VLOOKUP(A2167,[1]EventLinkConfig!$L:$M,2,FALSE),\"\"),IFERROR(VLOOKUP(A2167,[1]EventLinkConfig!$X:$Y,2,FALSE),\"\"),IFERROR(VLOOKUP(A2167,[1]EventLinkConfig!$AA:$AB,2,FALSE),\"\"),IFERROR(VLOOKUP(A2167,[1]EventConditionConfig!$B:$D,3,FALSE),\"\"))","v":"师弟，你修着修着，就不记得一开始，是为了什么而修行。"},"任务&事件文本",null,2164]
[2165,{"$f":"_xlfn.TEXTJOIN(\"\",1,IFERROR(VLOOKUP(A2168,[1]EventConfig!$T:$V,3,FALSE),\"\"),IFERROR(VLOOKUP(A2168,[1]EventConfig!$U:$W,3,FALSE),\"\"),IFERROR(VLOOKUP(A2168,[1]EventLinkConfig!$B:$C,2,FALSE),\"\"),IFERROR(VLOOKUP(A2168,[1]EventLinkConfig!$D:$E,2,FALSE),\"\"),IFERROR(VLOOKUP(A2168,[1]EventLinkConfig!$L:$M,2,FALSE),\"\"),IFERROR(VLOOKUP(A2168,[1]EventLinkConfig!$X:$Y,2,FALSE),\"\"),IFERROR(VLOOKUP(A2168,[1]EventLinkConfig!$AA:$AB,2,FALSE),\"\"),IFERROR(VLOOKUP(A2168,[1]EventConditionConfig!$B:$D,3,FALSE),\"\"))","v":"（抬头）......我，我真的不记得了。"},"任务&事件文本",null,2165]
[2166,{"$f":"_xlfn.TEXTJOIN(\"\",1,IFERROR(VLOOKUP(A2169,[1]EventConfig!$T:$V,3,FALSE),\"\"),IFERROR(VLOOKUP(A2169,[1]EventConfig!$U:$W,3,FALSE),\"\"),IFERROR(VLOOKUP(A2169,[1]EventLinkConfig!$B:$C,2,FALSE),\"\"),IFERROR(VLOOKUP(A2169,[1]EventLinkConfig!$D:$E,2,FALSE),\"\"),IFERROR(VLOOKUP(A2169,[1]EventLinkConfig!$L:$M,2,FALSE),\"\"),IFERROR(VLOOKUP(A2169,[1]EventLinkConfig!$X:$Y,2,FALSE),\"\"),IFERROR(VLOOKUP(A2169,[1]EventLinkConfig!$AA:$AB,2,FALSE),\"\"),IFERROR(VLOOKUP(A2169,[1]EventConditionConfig!$B:$D,3,FALSE),\"\"))","v":"那就放下风灵珠，和我出去走走。"},"任务&事件文本",null,2166]
[2167,{"$f":"_xlfn.TEXTJOIN(\"\",1,IFERROR(VLOOKUP(A2170,[1]EventConfig!$T:$V,3,FALSE),\"\"),IFERROR(VLOOKUP(A2170,[1]EventConfig!$U:$W,3,FALSE),\"\"),IFERROR(VLOOKUP(A2170,[1]EventLinkConfig!$B:$C,2,FALSE),\"\"),IFERROR(VLOOKUP(A2170,[1]EventLinkConfig!$D:$E,2,FALSE),\"\"),IFERROR(VLOOKUP(A2170,[1]EventLinkConfig!$L:$M,2,FALSE),\"\"),IFERROR(VLOOKUP(A2170,[1]EventLinkConfig!$X:$Y,2,FALSE),\"\"),IFERROR(VLOOKUP(A2170,[1]EventLinkConfig!$AA:$AB,2,FALSE),\"\"),IFERROR(VLOOKUP(A2170,[1]EventConditionConfig!$B:$D,3,FALSE),\"\"))","v":"[痴道人楞了一下，片刻后轻轻点头]"},"任务&事件文本",null,2167]
[2168,{"$f":"_xlfn.TEXTJOIN(\"\",1,IFERROR(VLOOKUP(A2171,[1]EventConfig!$T:$V,3,FALSE),\"\"),IFERROR(VLOOKUP(A2171,[1]EventConfig!$U:$W,3,FALSE),\"\"),IFERROR(VLOOKUP(A2171,[1]EventLinkConfig!$B:$C,2,FALSE),\"\"),IFERROR(VLOOKUP(A2171,[1]EventLinkConfig!$D:$E,2,FALSE),\"\"),IFERROR(VLOOKUP(A2171,[1]EventLinkConfig!$L:$M,2,FALSE),\"\"),IFERROR(VLOOKUP(A2171,[1]EventLinkConfig!$X:$Y,2,FALSE),\"\"),IFERROR(VLOOKUP(A2171,[1]EventLinkConfig!$AA:$AB,2,FALSE),\"\"),IFERROR(VLOOKUP(A2171,[1]EventConditionConfig!$B:$D,3,FALSE),\"\"))","v":"[突然..洞府周围灵气汇聚，快速涌入痴道人的身体.]"},"任务&事件文本",null,2168]
[2169,{"$f":"_xlfn.TEXTJOIN(\"\",1,IFERROR(VLOOKUP(A2172,[1]EventConfig!$T:$V,3,FALSE),\"\"),IFERROR(VLOOKUP(A2172,[1]EventConfig!$U:$W,3,FALSE),\"\"),IFERROR(VLOOKUP(A2172,[1]EventLinkConfig!$B:$C,2,FALSE),\"\"),IFERROR(VLOOKUP(A2172,[1]EventLinkConfig!$D:$E,2,FALSE),\"\"),IFERROR(VLOOKUP(A2172,[1]EventLinkConfig!$L:$M,2,FALSE),\"\"),IFERROR(VLOOKUP(A2172,[1]EventLinkConfig!$X:$Y,2,FALSE),\"\"),IFERROR(VLOOKUP(A2172,[1]EventLinkConfig!$AA:$AB,2,FALSE),\"\"),IFERROR(VLOOKUP(A2172,[1]EventConditionConfig!$B:$D,3,FALSE),\"\"))","v":"前辈，为何灵气会动！"},"任务&事件文本",null,2169]
[2170,{"$f":"_xlfn.TEXTJOIN(\"\",1,IFERROR(VLOOKUP(A2173,[1]EventConfig!$T:$V,3,FALSE),\"\"),IFERROR(VLOOKUP(A2173,[1]EventConfig!$U:$W,3,FALSE),\"\"),IFERROR(VLOOKUP(A2173,[1]EventLinkConfig!$B:$C,2,FALSE),\"\"),IFERROR(VLOOKUP(A2173,[1]EventLinkConfig!$D:$E,2,FALSE),\"\"),IFERROR(VLOOKUP(A2173,[1]EventLinkConfig!$L:$M,2,FALSE),\"\"),IFERROR(VLOOKUP(A2173,[1]EventLinkConfig!$X:$Y,2,FALSE),\"\"),IFERROR(VLOOKUP(A2173,[1]EventLinkConfig!$AA:$AB,2,FALSE),\"\"),IFERROR(VLOOKUP(A2173,[1]EventConditionConfig!$B:$D,3,FALSE),\"\"))","v":"恭喜师弟，突破心魔。"},"任务&事件文本",null,2170]
[2171,{"$f":"_xlfn.TEXTJOIN(\"\",1,IFERROR(VLOOKUP(A2174,[1]EventConfig!$T:$V,3,FALSE),\"\"),IFERROR(VLOOKUP(A2174,[1]EventConfig!$U:$W,3,FALSE),\"\"),IFERROR(VLOOKUP(A2174,[1]EventLinkConfig!$B:$C,2,FALSE),\"\"),IFERROR(VLOOKUP(A2174,[1]EventLinkConfig!$D:$E,2,FALSE),\"\"),IFERROR(VLOOKUP(A2174,[1]EventLinkConfig!$L:$M,2,FALSE),\"\"),IFERROR(VLOOKUP(A2174,[1]EventLinkConfig!$X:$Y,2,FALSE),\"\"),IFERROR(VLOOKUP(A2174,[1]EventLinkConfig!$AA:$AB,2,FALSE),\"\"),IFERROR(VLOOKUP(A2174,[1]EventConditionConfig!$B:$D,3,FALSE),\"\"))","v":"多谢师兄！"},"任务&事件文本",null,2171]
[2172,{"$f":"_xlfn.TEXTJOIN(\"\",1,IFERROR(VLOOKUP(A2175,[1]EventConfig!$T:$V,3,FALSE),\"\"),IFERROR(VLOOKUP(A2175,[1]EventConfig!$U:$W,3,FALSE),\"\"),IFERROR(VLOOKUP(A2175,[1]EventLinkConfig!$B:$C,2,FALSE),\"\"),IFERROR(VLOOKUP(A2175,[1]EventLinkConfig!$D:$E,2,FALSE),\"\"),IFERROR(VLOOKUP(A2175,[1]EventLinkConfig!$L:$M,2,FALSE),\"\"),IFERROR(VLOOKUP(A2175,[1]EventLinkConfig!$X:$Y,2,FALSE),\"\"),IFERROR(VLOOKUP(A2175,[1]EventLinkConfig!$AA:$AB,2,FALSE),\"\"),IFERROR(VLOOKUP(A2175,[1]EventConditionConfig!$B:$D,3,FALSE),\"\"))","v":"原来如此…"},"任务&事件文本",null,2172]
[2173,{"$f":"_xlfn.TEXTJOIN(\"\",1,IFERROR(VLOOKUP(A2176,[1]EventConfig!$T:$V,3,FALSE),\"\"),IFERROR(VLOOKUP(A2176,[1]EventConfig!$U:$W,3,FALSE),\"\"),IFERROR(VLOOKUP(A2176,[1]EventLinkConfig!$B:$C,2,FALSE),\"\"),IFERROR(VLOOKUP(A2176,[1]EventLinkConfig!$D:$E,2,FALSE),\"\"),IFERROR(VLOOKUP(A2176,[1]EventLinkConfig!$L:$M,2,FALSE),\"\"),IFERROR(VLOOKUP(A2176,[1]EventLinkConfig!$X:$Y,2,FALSE),\"\"),IFERROR(VLOOKUP(A2176,[1]EventLinkConfig!$AA:$AB,2,FALSE),\"\"),IFERROR(VLOOKUP(A2176,[1]EventConditionConfig!$B:$D,3,FALSE),\"\"))","v":"请前辈赐我风灵珠。"},"任务&事件文本",null,2173]
[2174,{"$f":"_xlfn.TEXTJOIN(\"\",1,IFERROR(VLOOKUP(A2177,[1]EventConfig!$T:$V,3,FALSE),\"\"),IFERROR(VLOOKUP(A2177,[1]EventConfig!$U:$W,3,FALSE),\"\"),IFERROR(VLOOKUP(A2177,[1]EventLinkConfig!$B:$C,2,FALSE),\"\"),IFERROR(VLOOKUP(A2177,[1]EventLinkConfig!$D:$E,2,FALSE),\"\"),IFERROR(VLOOKUP(A2177,[1]EventLinkConfig!$L:$M,2,FALSE),\"\"),IFERROR(VLOOKUP(A2177,[1]EventLinkConfig!$X:$Y,2,FALSE),\"\"),IFERROR(VLOOKUP(A2177,[1]EventLinkConfig!$AA:$AB,2,FALSE),\"\"),IFERROR(VLOOKUP(A2177,[1]EventConditionConfig!$B:$D,3,FALSE),\"\"))","v":"小友莫急… (说罢，痴道人将风灵珠的碎片合成了一颗完整的风灵珠)"},"任务&事件文本",null,2174]
[2175,{"$f":"_xlfn.TEXTJOIN(\"\",1,IFERROR(VLOOKUP(A2178,[1]EventConfig!$T:$V,3,FALSE),\"\"),IFERROR(VLOOKUP(A2178,[1]EventConfig!$U:$W,3,FALSE),\"\"),IFERROR(VLOOKUP(A2178,[1]EventLinkConfig!$B:$C,2,FALSE),\"\"),IFERROR(VLOOKUP(A2178,[1]EventLinkConfig!$D:$E,2,FALSE),\"\"),IFERROR(VLOOKUP(A2178,[1]EventLinkConfig!$L:$M,2,FALSE),\"\"),IFERROR(VLOOKUP(A2178,[1]EventLinkConfig!$X:$Y,2,FALSE),\"\"),IFERROR(VLOOKUP(A2178,[1]EventLinkConfig!$AA:$AB,2,FALSE),\"\"),IFERROR(VLOOKUP(A2178,[1]EventConditionConfig!$B:$D,3,FALSE),\"\"))","v":"拿好了，这风啊……来一回，不容易。"},"任务&事件文本",null,2175]
[2176,{"$f":"_xlfn.TEXTJOIN(\"\",1,IFERROR(VLOOKUP(A2179,[1]EventConfig!$T:$V,3,FALSE),\"\"),IFERROR(VLOOKUP(A2179,[1]EventConfig!$U:$W,3,FALSE),\"\"),IFERROR(VLOOKUP(A2179,[1]EventLinkConfig!$B:$C,2,FALSE),\"\"),IFERROR(VLOOKUP(A2179,[1]EventLinkConfig!$D:$E,2,FALSE),\"\"),IFERROR(VLOOKUP(A2179,[1]EventLinkConfig!$L:$M,2,FALSE),\"\"),IFERROR(VLOOKUP(A2179,[1]EventLinkConfig!$X:$Y,2,FALSE),\"\"),IFERROR(VLOOKUP(A2179,[1]EventLinkConfig!$AA:$AB,2,FALSE),\"\"),IFERROR(VLOOKUP(A2179,[1]EventConditionConfig!$B:$D,3,FALSE),\"\"))","v":"达到筑基后期"},"任务&事件文本",null,2176]
[2177,{"$f":"_xlfn.TEXTJOIN(\"\",1,IFERROR(VLOOKUP(A2180,[1]EventConfig!$T:$V,3,FALSE),\"\"),IFERROR(VLOOKUP(A2180,[1]EventConfig!$U:$W,3,FALSE),\"\"),IFERROR(VLOOKUP(A2180,[1]EventLinkConfig!$B:$C,2,FALSE),\"\"),IFERROR(VLOOKUP(A2180,[1]EventLinkConfig!$D:$E,2,FALSE),\"\"),IFERROR(VLOOKUP(A2180,[1]EventLinkConfig!$L:$M,2,FALSE),\"\"),IFERROR(VLOOKUP(A2180,[1]EventLinkConfig!$X:$Y,2,FALSE),\"\"),IFERROR(VLOOKUP(A2180,[1]EventLinkConfig!$AA:$AB,2,FALSE),\"\"),IFERROR(VLOOKUP(A2180,[1]EventConditionConfig!$B:$D,3,FALSE),\"\"))","v":"完整的风灵珠果然不同凡响，我可以更大的狂风中穿行了。"},"任务&事件文本",null,2177]
[2178,{"$f":"_xlfn.TEXTJOIN(\"\",1,IFERROR(VLOOKUP(A2181,[1]EventConfig!$T:$V,3,FALSE),\"\"),IFERROR(VLOOKUP(A2181,[1]EventConfig!$U:$W,3,FALSE),\"\"),IFERROR(VLOOKUP(A2181,[1]EventLinkConfig!$B:$C,2,FALSE),\"\"),IFERROR(VLOOKUP(A2181,[1]EventLinkConfig!$D:$E,2,FALSE),\"\"),IFERROR(VLOOKUP(A2181,[1]EventLinkConfig!$L:$M,2,FALSE),\"\"),IFERROR(VLOOKUP(A2181,[1]EventLinkConfig!$X:$Y,2,FALSE),\"\"),IFERROR(VLOOKUP(A2181,[1]EventLinkConfig!$AA:$AB,2,FALSE),\"\"),IFERROR(VLOOKUP(A2181,[1]EventConditionConfig!$B:$D,3,FALSE),\"\"))","v":"前方似乎有不少高阶妖兽，我先在此地提升一些修为吧。"},"任务&事件文本",null,{"$f":"A2181","v":2178}]
[2179,{"$f":"_xlfn.TEXTJOIN(\"\",1,IFERROR(VLOOKUP(A2182,[1]EventConfig!$T:$V,3,FALSE),\"\"),IFERROR(VLOOKUP(A2182,[1]EventConfig!$U:$W,3,FALSE),\"\"),IFERROR(VLOOKUP(A2182,[1]EventLinkConfig!$B:$C,2,FALSE),\"\"),IFERROR(VLOOKUP(A2182,[1]EventLinkConfig!$D:$E,2,FALSE),\"\"),IFERROR(VLOOKUP(A2182,[1]EventLinkConfig!$L:$M,2,FALSE),\"\"),IFERROR(VLOOKUP(A2182,[1]EventLinkConfig!$X:$Y,2,FALSE),\"\"),IFERROR(VLOOKUP(A2182,[1]EventLinkConfig!$AA:$AB,2,FALSE),\"\"),IFERROR(VLOOKUP(A2182,[1]EventConditionConfig!$B:$D,3,FALSE),\"\"))","v":"终于筑基中期了，继续寻找冲虚提到的“七道心境”吧，不知鲲鹏是否会给我答案。"},"任务&事件文本",null,2179]
[2180,{"$f":"_xlfn.TEXTJOIN(\"\",1,IFERROR(VLOOKUP(A2183,[1]EventConfig!$T:$V,3,FALSE),\"\"),IFERROR(VLOOKUP(A2183,[1]EventConfig!$U:$W,3,FALSE),\"\"),IFERROR(VLOOKUP(A2183,[1]EventLinkConfig!$B:$C,2,FALSE),\"\"),IFERROR(VLOOKUP(A2183,[1]EventLinkConfig!$D:$E,2,FALSE),\"\"),IFERROR(VLOOKUP(A2183,[1]EventLinkConfig!$L:$M,2,FALSE),\"\"),IFERROR(VLOOKUP(A2183,[1]EventLinkConfig!$X:$Y,2,FALSE),\"\"),IFERROR(VLOOKUP(A2183,[1]EventLinkConfig!$AA:$AB,2,FALSE),\"\"),IFERROR(VLOOKUP(A2183,[1]EventConditionConfig!$B:$D,3,FALSE),\"\"))","v":"妖兽横行"},"任务&事件文本",null,2180]
[2181,{"$f":"_xlfn.TEXTJOIN(\"\",1,IFERROR(VLOOKUP(A2184,[1]EventConfig!$T:$V,3,FALSE),\"\"),IFERROR(VLOOKUP(A2184,[1]EventConfig!$U:$W,3,FALSE),\"\"),IFERROR(VLOOKUP(A2184,[1]EventLinkConfig!$B:$C,2,FALSE),\"\"),IFERROR(VLOOKUP(A2184,[1]EventLinkConfig!$D:$E,2,FALSE),\"\"),IFERROR(VLOOKUP(A2184,[1]EventLinkConfig!$L:$M,2,FALSE),\"\"),IFERROR(VLOOKUP(A2184,[1]EventLinkConfig!$X:$Y,2,FALSE),\"\"),IFERROR(VLOOKUP(A2184,[1]EventLinkConfig!$AA:$AB,2,FALSE),\"\"),IFERROR(VLOOKUP(A2184,[1]EventConditionConfig!$B:$D,3,FALSE),\"\"))","v":"遇见鲲鹏"},"任务&事件文本",null,2181]
[2182,{"$f":"_xlfn.TEXTJOIN(\"\",1,IFERROR(VLOOKUP(A2185,[1]EventConfig!$T:$V,3,FALSE),\"\"),IFERROR(VLOOKUP(A2185,[1]EventConfig!$U:$W,3,FALSE),\"\"),IFERROR(VLOOKUP(A2185,[1]EventLinkConfig!$B:$C,2,FALSE),\"\"),IFERROR(VLOOKUP(A2185,[1]EventLinkConfig!$D:$E,2,FALSE),\"\"),IFERROR(VLOOKUP(A2185,[1]EventLinkConfig!$L:$M,2,FALSE),\"\"),IFERROR(VLOOKUP(A2185,[1]EventLinkConfig!$X:$Y,2,FALSE),\"\"),IFERROR(VLOOKUP(A2185,[1]EventLinkConfig!$AA:$AB,2,FALSE),\"\"),IFERROR(VLOOKUP(A2185,[1]EventConditionConfig!$B:$D,3,FALSE),\"\"))","v":"鲲鹏需要去南海最深处的天池，可缺少龙卷风，没有大风，大鹏无法飞起来"},"任务&事件文本",null,2182]
[2183,{"$f":"_xlfn.TEXTJOIN(\"\",1,IFERROR(VLOOKUP(A2186,[1]EventConfig!$T:$V,3,FALSE),\"\"),IFERROR(VLOOKUP(A2186,[1]EventConfig!$U:$W,3,FALSE),\"\"),IFERROR(VLOOKUP(A2186,[1]EventLinkConfig!$B:$C,2,FALSE),\"\"),IFERROR(VLOOKUP(A2186,[1]EventLinkConfig!$D:$E,2,FALSE),\"\"),IFERROR(VLOOKUP(A2186,[1]EventLinkConfig!$L:$M,2,FALSE),\"\"),IFERROR(VLOOKUP(A2186,[1]EventLinkConfig!$X:$Y,2,FALSE),\"\"),IFERROR(VLOOKUP(A2186,[1]EventLinkConfig!$AA:$AB,2,FALSE),\"\"),IFERROR(VLOOKUP(A2186,[1]EventConditionConfig!$B:$D,3,FALSE),\"\"))","v":"尧让天下"},"任务&事件文本",null,2183]
[2184,{"$f":"_xlfn.TEXTJOIN(\"\",1,IFERROR(VLOOKUP(A2187,[1]EventConfig!$T:$V,3,FALSE),\"\"),IFERROR(VLOOKUP(A2187,[1]EventConfig!$U:$W,3,FALSE),\"\"),IFERROR(VLOOKUP(A2187,[1]EventLinkConfig!$B:$C,2,FALSE),\"\"),IFERROR(VLOOKUP(A2187,[1]EventLinkConfig!$D:$E,2,FALSE),\"\"),IFERROR(VLOOKUP(A2187,[1]EventLinkConfig!$L:$M,2,FALSE),\"\"),IFERROR(VLOOKUP(A2187,[1]EventLinkConfig!$X:$Y,2,FALSE),\"\"),IFERROR(VLOOKUP(A2187,[1]EventLinkConfig!$AA:$AB,2,FALSE),\"\"),IFERROR(VLOOKUP(A2187,[1]EventConditionConfig!$B:$D,3,FALSE),\"\"))","v":"倾听尧帝的烦恼"},"任务&事件文本",null,2184]
[2185,{"$f":"_xlfn.TEXTJOIN(\"\",1,IFERROR(VLOOKUP(A2188,[1]EventConfig!$T:$V,3,FALSE),\"\"),IFERROR(VLOOKUP(A2188,[1]EventConfig!$U:$W,3,FALSE),\"\"),IFERROR(VLOOKUP(A2188,[1]EventLinkConfig!$B:$C,2,FALSE),\"\"),IFERROR(VLOOKUP(A2188,[1]EventLinkConfig!$D:$E,2,FALSE),\"\"),IFERROR(VLOOKUP(A2188,[1]EventLinkConfig!$L:$M,2,FALSE),\"\"),IFERROR(VLOOKUP(A2188,[1]EventLinkConfig!$X:$Y,2,FALSE),\"\"),IFERROR(VLOOKUP(A2188,[1]EventLinkConfig!$AA:$AB,2,FALSE),\"\"),IFERROR(VLOOKUP(A2188,[1]EventConditionConfig!$B:$D,3,FALSE),\"\"))","v":"你踏入帝尧治下的仙域——一片祥和之地，灵气充沛，民众安居，仿佛世外桃源。"},"任务&事件文本",null,2185]
[2186,{"$f":"_xlfn.TEXTJOIN(\"\",1,IFERROR(VLOOKUP(A2189,[1]EventConfig!$T:$V,3,FALSE),\"\"),IFERROR(VLOOKUP(A2189,[1]EventConfig!$U:$W,3,FALSE),\"\"),IFERROR(VLOOKUP(A2189,[1]EventLinkConfig!$B:$C,2,FALSE),\"\"),IFERROR(VLOOKUP(A2189,[1]EventLinkConfig!$D:$E,2,FALSE),\"\"),IFERROR(VLOOKUP(A2189,[1]EventLinkConfig!$L:$M,2,FALSE),\"\"),IFERROR(VLOOKUP(A2189,[1]EventLinkConfig!$X:$Y,2,FALSE),\"\"),IFERROR(VLOOKUP(A2189,[1]EventLinkConfig!$AA:$AB,2,FALSE),\"\"),IFERROR(VLOOKUP(A2189,[1]EventConditionConfig!$B:$D,3,FALSE),\"\"))","v":"然而，这位千年帝君，却眉宇间有难掩的忧色。"},"任务&事件文本",null,2186]
[2187,{"$f":"_xlfn.TEXTJOIN(\"\",1,IFERROR(VLOOKUP(A2190,[1]EventConfig!$T:$V,3,FALSE),\"\"),IFERROR(VLOOKUP(A2190,[1]EventConfig!$U:$W,3,FALSE),\"\"),IFERROR(VLOOKUP(A2190,[1]EventLinkConfig!$B:$C,2,FALSE),\"\"),IFERROR(VLOOKUP(A2190,[1]EventLinkConfig!$D:$E,2,FALSE),\"\"),IFERROR(VLOOKUP(A2190,[1]EventLinkConfig!$L:$M,2,FALSE),\"\"),IFERROR(VLOOKUP(A2190,[1]EventLinkConfig!$X:$Y,2,FALSE),\"\"),IFERROR(VLOOKUP(A2190,[1]EventLinkConfig!$AA:$AB,2,FALSE),\"\"),IFERROR(VLOOKUP(A2190,[1]EventConditionConfig!$B:$D,3,FALSE),\"\"))","v":"（你根据逍遥铃的指引，找到了尧）"},"任务&事件文本",null,2187]
[2188,{"$f":"_xlfn.TEXTJOIN(\"\",1,IFERROR(VLOOKUP(A2191,[1]EventConfig!$T:$V,3,FALSE),\"\"),IFERROR(VLOOKUP(A2191,[1]EventConfig!$U:$W,3,FALSE),\"\"),IFERROR(VLOOKUP(A2191,[1]EventLinkConfig!$B:$C,2,FALSE),\"\"),IFERROR(VLOOKUP(A2191,[1]EventLinkConfig!$D:$E,2,FALSE),\"\"),IFERROR(VLOOKUP(A2191,[1]EventLinkConfig!$L:$M,2,FALSE),\"\"),IFERROR(VLOOKUP(A2191,[1]EventLinkConfig!$X:$Y,2,FALSE),\"\"),IFERROR(VLOOKUP(A2191,[1]EventLinkConfig!$AA:$AB,2,FALSE),\"\"),IFERROR(VLOOKUP(A2191,[1]EventConditionConfig!$B:$D,3,FALSE),\"\"))","v":"拜见帝尧，晚辈受冲虚真人的指引，游历到此处。"},"任务&事件文本",null,2188]
[2189,{"$f":"_xlfn.TEXTJOIN(\"\",1,IFERROR(VLOOKUP(A2192,[1]EventConfig!$T:$V,3,FALSE),\"\"),IFERROR(VLOOKUP(A2192,[1]EventConfig!$U:$W,3,FALSE),\"\"),IFERROR(VLOOKUP(A2192,[1]EventLinkConfig!$B:$C,2,FALSE),\"\"),IFERROR(VLOOKUP(A2192,[1]EventLinkConfig!$D:$E,2,FALSE),\"\"),IFERROR(VLOOKUP(A2192,[1]EventLinkConfig!$L:$M,2,FALSE),\"\"),IFERROR(VLOOKUP(A2192,[1]EventLinkConfig!$X:$Y,2,FALSE),\"\"),IFERROR(VLOOKUP(A2192,[1]EventLinkConfig!$AA:$AB,2,FALSE),\"\"),IFERROR(VLOOKUP(A2192,[1]EventConditionConfig!$B:$D,3,FALSE),\"\"))","v":"（缓缓回头，脸上带着淡淡忧虑）冲虚真人吗？我也许久没见了.."},"任务&事件文本",null,2189]
[2190,{"$f":"_xlfn.TEXTJOIN(\"\",1,IFERROR(VLOOKUP(A2193,[1]EventConfig!$T:$V,3,FALSE),\"\"),IFERROR(VLOOKUP(A2193,[1]EventConfig!$U:$W,3,FALSE),\"\"),IFERROR(VLOOKUP(A2193,[1]EventLinkConfig!$B:$C,2,FALSE),\"\"),IFERROR(VLOOKUP(A2193,[1]EventLinkConfig!$D:$E,2,FALSE),\"\"),IFERROR(VLOOKUP(A2193,[1]EventLinkConfig!$L:$M,2,FALSE),\"\"),IFERROR(VLOOKUP(A2193,[1]EventLinkConfig!$X:$Y,2,FALSE),\"\"),IFERROR(VLOOKUP(A2193,[1]EventLinkConfig!$AA:$AB,2,FALSE),\"\"),IFERROR(VLOOKUP(A2193,[1]EventConditionConfig!$B:$D,3,FALSE),\"\"))","v":"(尧帝邀你来到一高处)\n小友，你看此处景致如何？"},"任务&事件文本",null,2190]
[2191,{"$f":"_xlfn.TEXTJOIN(\"\",1,IFERROR(VLOOKUP(A2194,[1]EventConfig!$T:$V,3,FALSE),\"\"),IFERROR(VLOOKUP(A2194,[1]EventConfig!$U:$W,3,FALSE),\"\"),IFERROR(VLOOKUP(A2194,[1]EventLinkConfig!$B:$C,2,FALSE),\"\"),IFERROR(VLOOKUP(A2194,[1]EventLinkConfig!$D:$E,2,FALSE),\"\"),IFERROR(VLOOKUP(A2194,[1]EventLinkConfig!$L:$M,2,FALSE),\"\"),IFERROR(VLOOKUP(A2194,[1]EventLinkConfig!$X:$Y,2,FALSE),\"\"),IFERROR(VLOOKUP(A2194,[1]EventLinkConfig!$AA:$AB,2,FALSE),\"\"),IFERROR(VLOOKUP(A2194,[1]EventConditionConfig!$B:$D,3,FALSE),\"\"))","v":"万象更新，灵气环绕，是修行的福地。"},"任务&事件文本",null,2191]
[2192,{"$f":"_xlfn.TEXTJOIN(\"\",1,IFERROR(VLOOKUP(A2195,[1]EventConfig!$T:$V,3,FALSE),\"\"),IFERROR(VLOOKUP(A2195,[1]EventConfig!$U:$W,3,FALSE),\"\"),IFERROR(VLOOKUP(A2195,[1]EventLinkConfig!$B:$C,2,FALSE),\"\"),IFERROR(VLOOKUP(A2195,[1]EventLinkConfig!$D:$E,2,FALSE),\"\"),IFERROR(VLOOKUP(A2195,[1]EventLinkConfig!$L:$M,2,FALSE),\"\"),IFERROR(VLOOKUP(A2195,[1]EventLinkConfig!$X:$Y,2,FALSE),\"\"),IFERROR(VLOOKUP(A2195,[1]EventLinkConfig!$AA:$AB,2,FALSE),\"\"),IFERROR(VLOOKUP(A2195,[1]EventConditionConfig!$B:$D,3,FALSE),\"\"))","v":"国泰民安，仙人治理，世间罕见。"},"任务&事件文本",null,2192]
[2193,{"$f":"_xlfn.TEXTJOIN(\"\",1,IFERROR(VLOOKUP(A2196,[1]EventConfig!$T:$V,3,FALSE),\"\"),IFERROR(VLOOKUP(A2196,[1]EventConfig!$U:$W,3,FALSE),\"\"),IFERROR(VLOOKUP(A2196,[1]EventLinkConfig!$B:$C,2,FALSE),\"\"),IFERROR(VLOOKUP(A2196,[1]EventLinkConfig!$D:$E,2,FALSE),\"\"),IFERROR(VLOOKUP(A2196,[1]EventLinkConfig!$L:$M,2,FALSE),\"\"),IFERROR(VLOOKUP(A2196,[1]EventLinkConfig!$X:$Y,2,FALSE),\"\"),IFERROR(VLOOKUP(A2196,[1]EventLinkConfig!$AA:$AB,2,FALSE),\"\"),IFERROR(VLOOKUP(A2196,[1]EventConditionConfig!$B:$D,3,FALSE),\"\"))","v":"（叹息）是啊，人人自在，唯我不自在。这些年来，我境界难以寸进，已有百年。"},"任务&事件文本",null,2193]
[2194,{"$f":"_xlfn.TEXTJOIN(\"\",1,IFERROR(VLOOKUP(A2197,[1]EventConfig!$T:$V,3,FALSE),\"\"),IFERROR(VLOOKUP(A2197,[1]EventConfig!$U:$W,3,FALSE),\"\"),IFERROR(VLOOKUP(A2197,[1]EventLinkConfig!$B:$C,2,FALSE),\"\"),IFERROR(VLOOKUP(A2197,[1]EventLinkConfig!$D:$E,2,FALSE),\"\"),IFERROR(VLOOKUP(A2197,[1]EventLinkConfig!$L:$M,2,FALSE),\"\"),IFERROR(VLOOKUP(A2197,[1]EventLinkConfig!$X:$Y,2,FALSE),\"\"),IFERROR(VLOOKUP(A2197,[1]EventLinkConfig!$AA:$AB,2,FALSE),\"\"),IFERROR(VLOOKUP(A2197,[1]EventConditionConfig!$B:$D,3,FALSE),\"\"))","v":"帝尧何出此言？"},"任务&事件文本",null,2194]
[2195,{"$f":"_xlfn.TEXTJOIN(\"\",1,IFERROR(VLOOKUP(A2198,[1]EventConfig!$T:$V,3,FALSE),\"\"),IFERROR(VLOOKUP(A2198,[1]EventConfig!$U:$W,3,FALSE),\"\"),IFERROR(VLOOKUP(A2198,[1]EventLinkConfig!$B:$C,2,FALSE),\"\"),IFERROR(VLOOKUP(A2198,[1]EventLinkConfig!$D:$E,2,FALSE),\"\"),IFERROR(VLOOKUP(A2198,[1]EventLinkConfig!$L:$M,2,FALSE),\"\"),IFERROR(VLOOKUP(A2198,[1]EventLinkConfig!$X:$Y,2,FALSE),\"\"),IFERROR(VLOOKUP(A2198,[1]EventLinkConfig!$AA:$AB,2,FALSE),\"\"),IFERROR(VLOOKUP(A2198,[1]EventConditionConfig!$B:$D,3,FALSE),\"\"))","v":"你等散修，自由自在，来去如风，可曾体会过身负重任的滋味？"},"任务&事件文本",null,2195]
[2196,{"$f":"_xlfn.TEXTJOIN(\"\",1,IFERROR(VLOOKUP(A2199,[1]EventConfig!$T:$V,3,FALSE),\"\"),IFERROR(VLOOKUP(A2199,[1]EventConfig!$U:$W,3,FALSE),\"\"),IFERROR(VLOOKUP(A2199,[1]EventLinkConfig!$B:$C,2,FALSE),\"\"),IFERROR(VLOOKUP(A2199,[1]EventLinkConfig!$D:$E,2,FALSE),\"\"),IFERROR(VLOOKUP(A2199,[1]EventLinkConfig!$L:$M,2,FALSE),\"\"),IFERROR(VLOOKUP(A2199,[1]EventLinkConfig!$X:$Y,2,FALSE),\"\"),IFERROR(VLOOKUP(A2199,[1]EventLinkConfig!$AA:$AB,2,FALSE),\"\"),IFERROR(VLOOKUP(A2199,[1]EventConditionConfig!$B:$D,3,FALSE),\"\"))","v":"也有重担，却未必如帝尧这样复杂。"},"任务&事件文本",null,2196]
[2197,{"$f":"_xlfn.TEXTJOIN(\"\",1,IFERROR(VLOOKUP(A2200,[1]EventConfig!$T:$V,3,FALSE),\"\"),IFERROR(VLOOKUP(A2200,[1]EventConfig!$U:$W,3,FALSE),\"\"),IFERROR(VLOOKUP(A2200,[1]EventLinkConfig!$B:$C,2,FALSE),\"\"),IFERROR(VLOOKUP(A2200,[1]EventLinkConfig!$D:$E,2,FALSE),\"\"),IFERROR(VLOOKUP(A2200,[1]EventLinkConfig!$L:$M,2,FALSE),\"\"),IFERROR(VLOOKUP(A2200,[1]EventLinkConfig!$X:$Y,2,FALSE),\"\"),IFERROR(VLOOKUP(A2200,[1]EventLinkConfig!$AA:$AB,2,FALSE),\"\"),IFERROR(VLOOKUP(A2200,[1]EventConditionConfig!$B:$D,3,FALSE),\"\"))","v":"（微微一笑，摇头）天下如画卷，画卷再美，日夜背负，也终是负担。"},"任务&事件文本",null,2197]
[2198,{"$f":"_xlfn.TEXTJOIN(\"\",1,IFERROR(VLOOKUP(A2201,[1]EventConfig!$T:$V,3,FALSE),\"\"),IFERROR(VLOOKUP(A2201,[1]EventConfig!$U:$W,3,FALSE),\"\"),IFERROR(VLOOKUP(A2201,[1]EventLinkConfig!$B:$C,2,FALSE),\"\"),IFERROR(VLOOKUP(A2201,[1]EventLinkConfig!$D:$E,2,FALSE),\"\"),IFERROR(VLOOKUP(A2201,[1]EventLinkConfig!$L:$M,2,FALSE),\"\"),IFERROR(VLOOKUP(A2201,[1]EventLinkConfig!$X:$Y,2,FALSE),\"\"),IFERROR(VLOOKUP(A2201,[1]EventLinkConfig!$AA:$AB,2,FALSE),\"\"),IFERROR(VLOOKUP(A2201,[1]EventConditionConfig!$B:$D,3,FALSE),\"\"))","v":"......"},"任务&事件文本",null,2198]
[2199,{"$f":"_xlfn.TEXTJOIN(\"\",1,IFERROR(VLOOKUP(A2202,[1]EventConfig!$T:$V,3,FALSE),\"\"),IFERROR(VLOOKUP(A2202,[1]EventConfig!$U:$W,3,FALSE),\"\"),IFERROR(VLOOKUP(A2202,[1]EventLinkConfig!$B:$C,2,FALSE),\"\"),IFERROR(VLOOKUP(A2202,[1]EventLinkConfig!$D:$E,2,FALSE),\"\"),IFERROR(VLOOKUP(A2202,[1]EventLinkConfig!$L:$M,2,FALSE),\"\"),IFERROR(VLOOKUP(A2202,[1]EventLinkConfig!$X:$Y,2,FALSE),\"\"),IFERROR(VLOOKUP(A2202,[1]EventLinkConfig!$AA:$AB,2,FALSE),\"\"),IFERROR(VLOOKUP(A2202,[1]EventConditionConfig!$B:$D,3,FALSE),\"\"))","v":"（凝望远方云海）深山之中有位贤士，名为许由，素有盛名，我曾多次请他出山，但未成如愿。"},"任务&事件文本",null,2199]
[2200,{"$f":"_xlfn.TEXTJOIN(\"\",1,IFERROR(VLOOKUP(A2203,[1]EventConfig!$T:$V,3,FALSE),\"\"),IFERROR(VLOOKUP(A2203,[1]EventConfig!$U:$W,3,FALSE),\"\"),IFERROR(VLOOKUP(A2203,[1]EventLinkConfig!$B:$C,2,FALSE),\"\"),IFERROR(VLOOKUP(A2203,[1]EventLinkConfig!$D:$E,2,FALSE),\"\"),IFERROR(VLOOKUP(A2203,[1]EventLinkConfig!$L:$M,2,FALSE),\"\"),IFERROR(VLOOKUP(A2203,[1]EventLinkConfig!$X:$Y,2,FALSE),\"\"),IFERROR(VLOOKUP(A2203,[1]EventLinkConfig!$AA:$AB,2,FALSE),\"\"),IFERROR(VLOOKUP(A2203,[1]EventConditionConfig!$B:$D,3,FALSE),\"\"))","v":"我甚至提出让天下于他，他也不为所动。"},"任务&事件文本",null,2200]
[2201,{"$f":"_xlfn.TEXTJOIN(\"\",1,IFERROR(VLOOKUP(A2204,[1]EventConfig!$T:$V,3,FALSE),\"\"),IFERROR(VLOOKUP(A2204,[1]EventConfig!$U:$W,3,FALSE),\"\"),IFERROR(VLOOKUP(A2204,[1]EventLinkConfig!$B:$C,2,FALSE),\"\"),IFERROR(VLOOKUP(A2204,[1]EventLinkConfig!$D:$E,2,FALSE),\"\"),IFERROR(VLOOKUP(A2204,[1]EventLinkConfig!$L:$M,2,FALSE),\"\"),IFERROR(VLOOKUP(A2204,[1]EventLinkConfig!$X:$Y,2,FALSE),\"\"),IFERROR(VLOOKUP(A2204,[1]EventLinkConfig!$AA:$AB,2,FALSE),\"\"),IFERROR(VLOOKUP(A2204,[1]EventConditionConfig!$B:$D,3,FALSE),\"\"))","v":"世间竟然有此奇人？"},"任务&事件文本",null,2201]
[2202,{"$f":"_xlfn.TEXTJOIN(\"\",1,IFERROR(VLOOKUP(A2205,[1]EventConfig!$T:$V,3,FALSE),\"\"),IFERROR(VLOOKUP(A2205,[1]EventConfig!$U:$W,3,FALSE),\"\"),IFERROR(VLOOKUP(A2205,[1]EventLinkConfig!$B:$C,2,FALSE),\"\"),IFERROR(VLOOKUP(A2205,[1]EventLinkConfig!$D:$E,2,FALSE),\"\"),IFERROR(VLOOKUP(A2205,[1]EventLinkConfig!$L:$M,2,FALSE),\"\"),IFERROR(VLOOKUP(A2205,[1]EventLinkConfig!$X:$Y,2,FALSE),\"\"),IFERROR(VLOOKUP(A2205,[1]EventLinkConfig!$AA:$AB,2,FALSE),\"\"),IFERROR(VLOOKUP(A2205,[1]EventConditionConfig!$B:$D,3,FALSE),\"\"))","v":"（凝望远方云海）若小友有空，帮我再请许由出山，我定当感谢。"},"任务&事件文本",null,2202]
[2203,{"$f":"_xlfn.TEXTJOIN(\"\",1,IFERROR(VLOOKUP(A2206,[1]EventConfig!$T:$V,3,FALSE),\"\"),IFERROR(VLOOKUP(A2206,[1]EventConfig!$U:$W,3,FALSE),\"\"),IFERROR(VLOOKUP(A2206,[1]EventLinkConfig!$B:$C,2,FALSE),\"\"),IFERROR(VLOOKUP(A2206,[1]EventLinkConfig!$D:$E,2,FALSE),\"\"),IFERROR(VLOOKUP(A2206,[1]EventLinkConfig!$L:$M,2,FALSE),\"\"),IFERROR(VLOOKUP(A2206,[1]EventLinkConfig!$X:$Y,2,FALSE),\"\"),IFERROR(VLOOKUP(A2206,[1]EventLinkConfig!$AA:$AB,2,FALSE),\"\"),IFERROR(VLOOKUP(A2206,[1]EventConditionConfig!$B:$D,3,FALSE),\"\"))","v":"好的，既然来了，我就走一趟。"},"任务&事件文本",null,2203]
[2204,{"$f":"_xlfn.TEXTJOIN(\"\",1,IFERROR(VLOOKUP(A2207,[1]EventConfig!$T:$V,3,FALSE),\"\"),IFERROR(VLOOKUP(A2207,[1]EventConfig!$U:$W,3,FALSE),\"\"),IFERROR(VLOOKUP(A2207,[1]EventLinkConfig!$B:$C,2,FALSE),\"\"),IFERROR(VLOOKUP(A2207,[1]EventLinkConfig!$D:$E,2,FALSE),\"\"),IFERROR(VLOOKUP(A2207,[1]EventLinkConfig!$L:$M,2,FALSE),\"\"),IFERROR(VLOOKUP(A2207,[1]EventLinkConfig!$X:$Y,2,FALSE),\"\"),IFERROR(VLOOKUP(A2207,[1]EventLinkConfig!$AA:$AB,2,FALSE),\"\"),IFERROR(VLOOKUP(A2207,[1]EventConditionConfig!$B:$D,3,FALSE),\"\"))","v":"访贤许由"},"任务&事件文本",null,2204]
[2205,{"$f":"_xlfn.TEXTJOIN(\"\",1,IFERROR(VLOOKUP(A2208,[1]EventConfig!$T:$V,3,FALSE),\"\"),IFERROR(VLOOKUP(A2208,[1]EventConfig!$U:$W,3,FALSE),\"\"),IFERROR(VLOOKUP(A2208,[1]EventLinkConfig!$B:$C,2,FALSE),\"\"),IFERROR(VLOOKUP(A2208,[1]EventLinkConfig!$D:$E,2,FALSE),\"\"),IFERROR(VLOOKUP(A2208,[1]EventLinkConfig!$L:$M,2,FALSE),\"\"),IFERROR(VLOOKUP(A2208,[1]EventLinkConfig!$X:$Y,2,FALSE),\"\"),IFERROR(VLOOKUP(A2208,[1]EventLinkConfig!$AA:$AB,2,FALSE),\"\"),IFERROR(VLOOKUP(A2208,[1]EventConditionConfig!$B:$D,3,FALSE),\"\"))","v":"听一听这位尧帝口中的贤士有何说法"},"任务&事件文本",null,2205]
[2206,{"$f":"_xlfn.TEXTJOIN(\"\",1,IFERROR(VLOOKUP(A2209,[1]EventConfig!$T:$V,3,FALSE),\"\"),IFERROR(VLOOKUP(A2209,[1]EventConfig!$U:$W,3,FALSE),\"\"),IFERROR(VLOOKUP(A2209,[1]EventLinkConfig!$B:$C,2,FALSE),\"\"),IFERROR(VLOOKUP(A2209,[1]EventLinkConfig!$D:$E,2,FALSE),\"\"),IFERROR(VLOOKUP(A2209,[1]EventLinkConfig!$L:$M,2,FALSE),\"\"),IFERROR(VLOOKUP(A2209,[1]EventLinkConfig!$X:$Y,2,FALSE),\"\"),IFERROR(VLOOKUP(A2209,[1]EventLinkConfig!$AA:$AB,2,FALSE),\"\"),IFERROR(VLOOKUP(A2209,[1]EventConditionConfig!$B:$D,3,FALSE),\"\"))","v":"你循帝尧所言，御剑前往幽山秘境。此处灵气绵长，古木参天，溪水潺潺。"},"任务&事件文本",null,2206]
[2207,{"$f":"_xlfn.TEXTJOIN(\"\",1,IFERROR(VLOOKUP(A2210,[1]EventConfig!$T:$V,3,FALSE),\"\"),IFERROR(VLOOKUP(A2210,[1]EventConfig!$U:$W,3,FALSE),\"\"),IFERROR(VLOOKUP(A2210,[1]EventLinkConfig!$B:$C,2,FALSE),\"\"),IFERROR(VLOOKUP(A2210,[1]EventLinkConfig!$D:$E,2,FALSE),\"\"),IFERROR(VLOOKUP(A2210,[1]EventLinkConfig!$L:$M,2,FALSE),\"\"),IFERROR(VLOOKUP(A2210,[1]EventLinkConfig!$X:$Y,2,FALSE),\"\"),IFERROR(VLOOKUP(A2210,[1]EventLinkConfig!$AA:$AB,2,FALSE),\"\"),IFERROR(VLOOKUP(A2210,[1]EventConditionConfig!$B:$D,3,FALSE),\"\"))","v":"据说，许由栖身于此，绝迹尘世，已有数百年。"},"任务&事件文本",null,2207]
[2208,{"$f":"_xlfn.TEXTJOIN(\"\",1,IFERROR(VLOOKUP(A2211,[1]EventConfig!$T:$V,3,FALSE),\"\"),IFERROR(VLOOKUP(A2211,[1]EventConfig!$U:$W,3,FALSE),\"\"),IFERROR(VLOOKUP(A2211,[1]EventLinkConfig!$B:$C,2,FALSE),\"\"),IFERROR(VLOOKUP(A2211,[1]EventLinkConfig!$D:$E,2,FALSE),\"\"),IFERROR(VLOOKUP(A2211,[1]EventLinkConfig!$L:$M,2,FALSE),\"\"),IFERROR(VLOOKUP(A2211,[1]EventLinkConfig!$X:$Y,2,FALSE),\"\"),IFERROR(VLOOKUP(A2211,[1]EventLinkConfig!$AA:$AB,2,FALSE),\"\"),IFERROR(VLOOKUP(A2211,[1]EventConditionConfig!$B:$D,3,FALSE),\"\"))","v":"山风徐徐，水声如琴，你踏过青石小径，看见一位白衣道人正倚石观水。"},"任务&事件文本",null,2208]
[2209,{"$f":"_xlfn.TEXTJOIN(\"\",1,IFERROR(VLOOKUP(A2212,[1]EventConfig!$T:$V,3,FALSE),\"\"),IFERROR(VLOOKUP(A2212,[1]EventConfig!$U:$W,3,FALSE),\"\"),IFERROR(VLOOKUP(A2212,[1]EventLinkConfig!$B:$C,2,FALSE),\"\"),IFERROR(VLOOKUP(A2212,[1]EventLinkConfig!$D:$E,2,FALSE),\"\"),IFERROR(VLOOKUP(A2212,[1]EventLinkConfig!$L:$M,2,FALSE),\"\"),IFERROR(VLOOKUP(A2212,[1]EventLinkConfig!$X:$Y,2,FALSE),\"\"),IFERROR(VLOOKUP(A2212,[1]EventLinkConfig!$AA:$AB,2,FALSE),\"\"),IFERROR(VLOOKUP(A2212,[1]EventConditionConfig!$B:$D,3,FALSE),\"\"))","v":"前辈可是许由？"},"任务&事件文本",null,2209]
[2210,{"$f":"_xlfn.TEXTJOIN(\"\",1,IFERROR(VLOOKUP(A2213,[1]EventConfig!$T:$V,3,FALSE),\"\"),IFERROR(VLOOKUP(A2213,[1]EventConfig!$U:$W,3,FALSE),\"\"),IFERROR(VLOOKUP(A2213,[1]EventLinkConfig!$B:$C,2,FALSE),\"\"),IFERROR(VLOOKUP(A2213,[1]EventLinkConfig!$D:$E,2,FALSE),\"\"),IFERROR(VLOOKUP(A2213,[1]EventLinkConfig!$L:$M,2,FALSE),\"\"),IFERROR(VLOOKUP(A2213,[1]EventLinkConfig!$X:$Y,2,FALSE),\"\"),IFERROR(VLOOKUP(A2213,[1]EventLinkConfig!$AA:$AB,2,FALSE),\"\"),IFERROR(VLOOKUP(A2213,[1]EventConditionConfig!$B:$D,3,FALSE),\"\"))","v":"正是，小友何事？"},"任务&事件文本",null,2210]
[2211,{"$f":"_xlfn.TEXTJOIN(\"\",1,IFERROR(VLOOKUP(A2214,[1]EventConfig!$T:$V,3,FALSE),\"\"),IFERROR(VLOOKUP(A2214,[1]EventConfig!$U:$W,3,FALSE),\"\"),IFERROR(VLOOKUP(A2214,[1]EventLinkConfig!$B:$C,2,FALSE),\"\"),IFERROR(VLOOKUP(A2214,[1]EventLinkConfig!$D:$E,2,FALSE),\"\"),IFERROR(VLOOKUP(A2214,[1]EventLinkConfig!$L:$M,2,FALSE),\"\"),IFERROR(VLOOKUP(A2214,[1]EventLinkConfig!$X:$Y,2,FALSE),\"\"),IFERROR(VLOOKUP(A2214,[1]EventLinkConfig!$AA:$AB,2,FALSE),\"\"),IFERROR(VLOOKUP(A2214,[1]EventConditionConfig!$B:$D,3,FALSE),\"\"))","v":"帝尧欲专心修行，求道问玄，又怕耽误世事，特托我前来相请，欲让天下于你。"},"任务&事件文本",null,2211]
[2212,{"$f":"_xlfn.TEXTJOIN(\"\",1,IFERROR(VLOOKUP(A2215,[1]EventConfig!$T:$V,3,FALSE),\"\"),IFERROR(VLOOKUP(A2215,[1]EventConfig!$U:$W,3,FALSE),\"\"),IFERROR(VLOOKUP(A2215,[1]EventLinkConfig!$B:$C,2,FALSE),\"\"),IFERROR(VLOOKUP(A2215,[1]EventLinkConfig!$D:$E,2,FALSE),\"\"),IFERROR(VLOOKUP(A2215,[1]EventLinkConfig!$L:$M,2,FALSE),\"\"),IFERROR(VLOOKUP(A2215,[1]EventLinkConfig!$X:$Y,2,FALSE),\"\"),IFERROR(VLOOKUP(A2215,[1]EventLinkConfig!$AA:$AB,2,FALSE),\"\"),IFERROR(VLOOKUP(A2215,[1]EventConditionConfig!$B:$D,3,FALSE),\"\"))","v":"（静默片刻）昔日帝尧就提过此事，我已辞之。"},"任务&事件文本",null,2212]
[2213,{"$f":"_xlfn.TEXTJOIN(\"\",1,IFERROR(VLOOKUP(A2216,[1]EventConfig!$T:$V,3,FALSE),\"\"),IFERROR(VLOOKUP(A2216,[1]EventConfig!$U:$W,3,FALSE),\"\"),IFERROR(VLOOKUP(A2216,[1]EventLinkConfig!$B:$C,2,FALSE),\"\"),IFERROR(VLOOKUP(A2216,[1]EventLinkConfig!$D:$E,2,FALSE),\"\"),IFERROR(VLOOKUP(A2216,[1]EventLinkConfig!$L:$M,2,FALSE),\"\"),IFERROR(VLOOKUP(A2216,[1]EventLinkConfig!$X:$Y,2,FALSE),\"\"),IFERROR(VLOOKUP(A2216,[1]EventLinkConfig!$AA:$AB,2,FALSE),\"\"),IFERROR(VLOOKUP(A2216,[1]EventConditionConfig!$B:$D,3,FALSE),\"\"))","v":"今日又来，想是道心不定，执念未除。"},"任务&事件文本",null,2213]
[2214,{"$f":"_xlfn.TEXTJOIN(\"\",1,IFERROR(VLOOKUP(A2217,[1]EventConfig!$T:$V,3,FALSE),\"\"),IFERROR(VLOOKUP(A2217,[1]EventConfig!$U:$W,3,FALSE),\"\"),IFERROR(VLOOKUP(A2217,[1]EventLinkConfig!$B:$C,2,FALSE),\"\"),IFERROR(VLOOKUP(A2217,[1]EventLinkConfig!$D:$E,2,FALSE),\"\"),IFERROR(VLOOKUP(A2217,[1]EventLinkConfig!$L:$M,2,FALSE),\"\"),IFERROR(VLOOKUP(A2217,[1]EventLinkConfig!$X:$Y,2,FALSE),\"\"),IFERROR(VLOOKUP(A2217,[1]EventLinkConfig!$AA:$AB,2,FALSE),\"\"),IFERROR(VLOOKUP(A2217,[1]EventConditionConfig!$B:$D,3,FALSE),\"\"))","v":"请前辈出山。"},"任务&事件文本",null,2214]
[2215,{"$f":"_xlfn.TEXTJOIN(\"\",1,IFERROR(VLOOKUP(A2218,[1]EventConfig!$T:$V,3,FALSE),\"\"),IFERROR(VLOOKUP(A2218,[1]EventConfig!$U:$W,3,FALSE),\"\"),IFERROR(VLOOKUP(A2218,[1]EventLinkConfig!$B:$C,2,FALSE),\"\"),IFERROR(VLOOKUP(A2218,[1]EventLinkConfig!$D:$E,2,FALSE),\"\"),IFERROR(VLOOKUP(A2218,[1]EventLinkConfig!$L:$M,2,FALSE),\"\"),IFERROR(VLOOKUP(A2218,[1]EventLinkConfig!$X:$Y,2,FALSE),\"\"),IFERROR(VLOOKUP(A2218,[1]EventLinkConfig!$AA:$AB,2,FALSE),\"\"),IFERROR(VLOOKUP(A2218,[1]EventConditionConfig!$B:$D,3,FALSE),\"\"))","v":"哼，让我去？"},"任务&事件文本",null,2215]
[2216,{"$f":"_xlfn.TEXTJOIN(\"\",1,IFERROR(VLOOKUP(A2219,[1]EventConfig!$T:$V,3,FALSE),\"\"),IFERROR(VLOOKUP(A2219,[1]EventConfig!$U:$W,3,FALSE),\"\"),IFERROR(VLOOKUP(A2219,[1]EventLinkConfig!$B:$C,2,FALSE),\"\"),IFERROR(VLOOKUP(A2219,[1]EventLinkConfig!$D:$E,2,FALSE),\"\"),IFERROR(VLOOKUP(A2219,[1]EventLinkConfig!$L:$M,2,FALSE),\"\"),IFERROR(VLOOKUP(A2219,[1]EventLinkConfig!$X:$Y,2,FALSE),\"\"),IFERROR(VLOOKUP(A2219,[1]EventLinkConfig!$AA:$AB,2,FALSE),\"\"),IFERROR(VLOOKUP(A2219,[1]EventConditionConfig!$B:$D,3,FALSE),\"\"))","v":"那我问你，日月升天，照耀四方。若这时有人手举火把照路，岂不徒劳？"},"任务&事件文本",null,2216]
[2217,{"$f":"_xlfn.TEXTJOIN(\"\",1,IFERROR(VLOOKUP(A2220,[1]EventConfig!$T:$V,3,FALSE),\"\"),IFERROR(VLOOKUP(A2220,[1]EventConfig!$U:$W,3,FALSE),\"\"),IFERROR(VLOOKUP(A2220,[1]EventLinkConfig!$B:$C,2,FALSE),\"\"),IFERROR(VLOOKUP(A2220,[1]EventLinkConfig!$D:$E,2,FALSE),\"\"),IFERROR(VLOOKUP(A2220,[1]EventLinkConfig!$L:$M,2,FALSE),\"\"),IFERROR(VLOOKUP(A2220,[1]EventLinkConfig!$X:$Y,2,FALSE),\"\"),IFERROR(VLOOKUP(A2220,[1]EventLinkConfig!$AA:$AB,2,FALSE),\"\"),IFERROR(VLOOKUP(A2220,[1]EventConditionConfig!$B:$D,3,FALSE),\"\"))","v":"那我再问你，斜风细雨，滋养万物。若这时有人用水桶来灌溉，岂不可笑？"},"任务&事件文本",null,2217]
[2218,{"$f":"_xlfn.TEXTJOIN(\"\",1,IFERROR(VLOOKUP(A2221,[1]EventConfig!$T:$V,3,FALSE),\"\"),IFERROR(VLOOKUP(A2221,[1]EventConfig!$U:$W,3,FALSE),\"\"),IFERROR(VLOOKUP(A2221,[1]EventLinkConfig!$B:$C,2,FALSE),\"\"),IFERROR(VLOOKUP(A2221,[1]EventLinkConfig!$D:$E,2,FALSE),\"\"),IFERROR(VLOOKUP(A2221,[1]EventLinkConfig!$L:$M,2,FALSE),\"\"),IFERROR(VLOOKUP(A2221,[1]EventLinkConfig!$X:$Y,2,FALSE),\"\"),IFERROR(VLOOKUP(A2221,[1]EventLinkConfig!$AA:$AB,2,FALSE),\"\"),IFERROR(VLOOKUP(A2221,[1]EventConditionConfig!$B:$D,3,FALSE),\"\"))","v":"天下在尧的带领下，已经治理得很好了，又何必要我，我是要去混个功成名就吗？"},"任务&事件文本",null,2218]
[2219,{"$f":"_xlfn.TEXTJOIN(\"\",1,IFERROR(VLOOKUP(A2222,[1]EventConfig!$T:$V,3,FALSE),\"\"),IFERROR(VLOOKUP(A2222,[1]EventConfig!$U:$W,3,FALSE),\"\"),IFERROR(VLOOKUP(A2222,[1]EventLinkConfig!$B:$C,2,FALSE),\"\"),IFERROR(VLOOKUP(A2222,[1]EventLinkConfig!$D:$E,2,FALSE),\"\"),IFERROR(VLOOKUP(A2222,[1]EventLinkConfig!$L:$M,2,FALSE),\"\"),IFERROR(VLOOKUP(A2222,[1]EventLinkConfig!$X:$Y,2,FALSE),\"\"),IFERROR(VLOOKUP(A2222,[1]EventLinkConfig!$AA:$AB,2,FALSE),\"\"),IFERROR(VLOOKUP(A2222,[1]EventConditionConfig!$B:$D,3,FALSE),\"\"))","v":"回答我？"},"任务&事件文本",null,2219]
[2220,{"$f":"_xlfn.TEXTJOIN(\"\",1,IFERROR(VLOOKUP(A2223,[1]EventConfig!$T:$V,3,FALSE),\"\"),IFERROR(VLOOKUP(A2223,[1]EventConfig!$U:$W,3,FALSE),\"\"),IFERROR(VLOOKUP(A2223,[1]EventLinkConfig!$B:$C,2,FALSE),\"\"),IFERROR(VLOOKUP(A2223,[1]EventLinkConfig!$D:$E,2,FALSE),\"\"),IFERROR(VLOOKUP(A2223,[1]EventLinkConfig!$L:$M,2,FALSE),\"\"),IFERROR(VLOOKUP(A2223,[1]EventLinkConfig!$X:$Y,2,FALSE),\"\"),IFERROR(VLOOKUP(A2223,[1]EventLinkConfig!$AA:$AB,2,FALSE),\"\"),IFERROR(VLOOKUP(A2223,[1]EventConditionConfig!$B:$D,3,FALSE),\"\"))","v":"就算只得功成名就也不错。"},"任务&事件文本",null,2220]
[2221,{"$f":"_xlfn.TEXTJOIN(\"\",1,IFERROR(VLOOKUP(A2224,[1]EventConfig!$T:$V,3,FALSE),\"\"),IFERROR(VLOOKUP(A2224,[1]EventConfig!$U:$W,3,FALSE),\"\"),IFERROR(VLOOKUP(A2224,[1]EventLinkConfig!$B:$C,2,FALSE),\"\"),IFERROR(VLOOKUP(A2224,[1]EventLinkConfig!$D:$E,2,FALSE),\"\"),IFERROR(VLOOKUP(A2224,[1]EventLinkConfig!$L:$M,2,FALSE),\"\"),IFERROR(VLOOKUP(A2224,[1]EventLinkConfig!$X:$Y,2,FALSE),\"\"),IFERROR(VLOOKUP(A2224,[1]EventLinkConfig!$AA:$AB,2,FALSE),\"\"),IFERROR(VLOOKUP(A2224,[1]EventConditionConfig!$B:$D,3,FALSE),\"\"))","v":"小友，名就像宾客一样，难道我们的一生是为了宾客吗？"},"任务&事件文本",null,2221]
[2222,{"$f":"_xlfn.TEXTJOIN(\"\",1,IFERROR(VLOOKUP(A2225,[1]EventConfig!$T:$V,3,FALSE),\"\"),IFERROR(VLOOKUP(A2225,[1]EventConfig!$U:$W,3,FALSE),\"\"),IFERROR(VLOOKUP(A2225,[1]EventLinkConfig!$B:$C,2,FALSE),\"\"),IFERROR(VLOOKUP(A2225,[1]EventLinkConfig!$D:$E,2,FALSE),\"\"),IFERROR(VLOOKUP(A2225,[1]EventLinkConfig!$L:$M,2,FALSE),\"\"),IFERROR(VLOOKUP(A2225,[1]EventLinkConfig!$X:$Y,2,FALSE),\"\"),IFERROR(VLOOKUP(A2225,[1]EventLinkConfig!$AA:$AB,2,FALSE),\"\"),IFERROR(VLOOKUP(A2225,[1]EventConditionConfig!$B:$D,3,FALSE),\"\"))","v":"（愣住）......"},"任务&事件文本",null,2222]
[2223,{"$f":"_xlfn.TEXTJOIN(\"\",1,IFERROR(VLOOKUP(A2226,[1]EventConfig!$T:$V,3,FALSE),\"\"),IFERROR(VLOOKUP(A2226,[1]EventConfig!$U:$W,3,FALSE),\"\"),IFERROR(VLOOKUP(A2226,[1]EventLinkConfig!$B:$C,2,FALSE),\"\"),IFERROR(VLOOKUP(A2226,[1]EventLinkConfig!$D:$E,2,FALSE),\"\"),IFERROR(VLOOKUP(A2226,[1]EventLinkConfig!$L:$M,2,FALSE),\"\"),IFERROR(VLOOKUP(A2226,[1]EventLinkConfig!$X:$Y,2,FALSE),\"\"),IFERROR(VLOOKUP(A2226,[1]EventLinkConfig!$AA:$AB,2,FALSE),\"\"),IFERROR(VLOOKUP(A2226,[1]EventConditionConfig!$B:$D,3,FALSE),\"\"))","v":"他若真想修道，便该知“道不碍政，心自碍道”。"},"任务&事件文本",null,2223]
[2224,{"$f":"_xlfn.TEXTJOIN(\"\",1,IFERROR(VLOOKUP(A2227,[1]EventConfig!$T:$V,3,FALSE),\"\"),IFERROR(VLOOKUP(A2227,[1]EventConfig!$U:$W,3,FALSE),\"\"),IFERROR(VLOOKUP(A2227,[1]EventLinkConfig!$B:$C,2,FALSE),\"\"),IFERROR(VLOOKUP(A2227,[1]EventLinkConfig!$D:$E,2,FALSE),\"\"),IFERROR(VLOOKUP(A2227,[1]EventLinkConfig!$L:$M,2,FALSE),\"\"),IFERROR(VLOOKUP(A2227,[1]EventLinkConfig!$X:$Y,2,FALSE),\"\"),IFERROR(VLOOKUP(A2227,[1]EventLinkConfig!$AA:$AB,2,FALSE),\"\"),IFERROR(VLOOKUP(A2227,[1]EventConditionConfig!$B:$D,3,FALSE),\"\"))","v":"若心不净，纵避千山万水，又有何用。"},"任务&事件文本",null,2224]
[2225,{"$f":"_xlfn.TEXTJOIN(\"\",1,IFERROR(VLOOKUP(A2228,[1]EventConfig!$T:$V,3,FALSE),\"\"),IFERROR(VLOOKUP(A2228,[1]EventConfig!$U:$W,3,FALSE),\"\"),IFERROR(VLOOKUP(A2228,[1]EventLinkConfig!$B:$C,2,FALSE),\"\"),IFERROR(VLOOKUP(A2228,[1]EventLinkConfig!$D:$E,2,FALSE),\"\"),IFERROR(VLOOKUP(A2228,[1]EventLinkConfig!$L:$M,2,FALSE),\"\"),IFERROR(VLOOKUP(A2228,[1]EventLinkConfig!$X:$Y,2,FALSE),\"\"),IFERROR(VLOOKUP(A2228,[1]EventLinkConfig!$AA:$AB,2,FALSE),\"\"),IFERROR(VLOOKUP(A2228,[1]EventConditionConfig!$B:$D,3,FALSE),\"\"))","v":"（愣住）......"},"任务&事件文本",null,2225]
[2226,{"$f":"_xlfn.TEXTJOIN(\"\",1,IFERROR(VLOOKUP(A2229,[1]EventConfig!$T:$V,3,FALSE),\"\"),IFERROR(VLOOKUP(A2229,[1]EventConfig!$U:$W,3,FALSE),\"\"),IFERROR(VLOOKUP(A2229,[1]EventLinkConfig!$B:$C,2,FALSE),\"\"),IFERROR(VLOOKUP(A2229,[1]EventLinkConfig!$D:$E,2,FALSE),\"\"),IFERROR(VLOOKUP(A2229,[1]EventLinkConfig!$L:$M,2,FALSE),\"\"),IFERROR(VLOOKUP(A2229,[1]EventLinkConfig!$X:$Y,2,FALSE),\"\"),IFERROR(VLOOKUP(A2229,[1]EventLinkConfig!$AA:$AB,2,FALSE),\"\"),IFERROR(VLOOKUP(A2229,[1]EventConditionConfig!$B:$D,3,FALSE),\"\"))","v":"割草喝茶"},"任务&事件文本",null,2226]
[2227,{"$f":"_xlfn.TEXTJOIN(\"\",1,IFERROR(VLOOKUP(A2230,[1]EventConfig!$T:$V,3,FALSE),\"\"),IFERROR(VLOOKUP(A2230,[1]EventConfig!$U:$W,3,FALSE),\"\"),IFERROR(VLOOKUP(A2230,[1]EventLinkConfig!$B:$C,2,FALSE),\"\"),IFERROR(VLOOKUP(A2230,[1]EventLinkConfig!$D:$E,2,FALSE),\"\"),IFERROR(VLOOKUP(A2230,[1]EventLinkConfig!$L:$M,2,FALSE),\"\"),IFERROR(VLOOKUP(A2230,[1]EventLinkConfig!$X:$Y,2,FALSE),\"\"),IFERROR(VLOOKUP(A2230,[1]EventLinkConfig!$AA:$AB,2,FALSE),\"\"),IFERROR(VLOOKUP(A2230,[1]EventConditionConfig!$B:$D,3,FALSE),\"\"))","v":"（转身望向屋后的山坡）你来得也巧，我正想在开辟一块新药田。"},"任务&事件文本",null,2227]
[2228,{"$f":"_xlfn.TEXTJOIN(\"\",1,IFERROR(VLOOKUP(A2231,[1]EventConfig!$T:$V,3,FALSE),\"\"),IFERROR(VLOOKUP(A2231,[1]EventConfig!$U:$W,3,FALSE),\"\"),IFERROR(VLOOKUP(A2231,[1]EventLinkConfig!$B:$C,2,FALSE),\"\"),IFERROR(VLOOKUP(A2231,[1]EventLinkConfig!$D:$E,2,FALSE),\"\"),IFERROR(VLOOKUP(A2231,[1]EventLinkConfig!$L:$M,2,FALSE),\"\"),IFERROR(VLOOKUP(A2231,[1]EventLinkConfig!$X:$Y,2,FALSE),\"\"),IFERROR(VLOOKUP(A2231,[1]EventLinkConfig!$AA:$AB,2,FALSE),\"\"),IFERROR(VLOOKUP(A2231,[1]EventConditionConfig!$B:$D,3,FALSE),\"\"))","v":"后山有一块不错的地，离家有一点远平时我也懒得去打理，正好你来了帮我开辟出来吧。"},"任务&事件文本",null,2228]
[2229,{"$f":"_xlfn.TEXTJOIN(\"\",1,IFERROR(VLOOKUP(A2232,[1]EventConfig!$T:$V,3,FALSE),\"\"),IFERROR(VLOOKUP(A2232,[1]EventConfig!$U:$W,3,FALSE),\"\"),IFERROR(VLOOKUP(A2232,[1]EventLinkConfig!$B:$C,2,FALSE),\"\"),IFERROR(VLOOKUP(A2232,[1]EventLinkConfig!$D:$E,2,FALSE),\"\"),IFERROR(VLOOKUP(A2232,[1]EventLinkConfig!$L:$M,2,FALSE),\"\"),IFERROR(VLOOKUP(A2232,[1]EventLinkConfig!$X:$Y,2,FALSE),\"\"),IFERROR(VLOOKUP(A2232,[1]EventLinkConfig!$AA:$AB,2,FALSE),\"\"),IFERROR(VLOOKUP(A2232,[1]EventConditionConfig!$B:$D,3,FALSE),\"\"))","v":"……前辈是让我干农活吗"},"任务&事件文本",null,2229]
[2230,{"$f":"_xlfn.TEXTJOIN(\"\",1,IFERROR(VLOOKUP(A2233,[1]EventConfig!$T:$V,3,FALSE),\"\"),IFERROR(VLOOKUP(A2233,[1]EventConfig!$U:$W,3,FALSE),\"\"),IFERROR(VLOOKUP(A2233,[1]EventLinkConfig!$B:$C,2,FALSE),\"\"),IFERROR(VLOOKUP(A2233,[1]EventLinkConfig!$D:$E,2,FALSE),\"\"),IFERROR(VLOOKUP(A2233,[1]EventLinkConfig!$L:$M,2,FALSE),\"\"),IFERROR(VLOOKUP(A2233,[1]EventLinkConfig!$X:$Y,2,FALSE),\"\"),IFERROR(VLOOKUP(A2233,[1]EventLinkConfig!$AA:$AB,2,FALSE),\"\"),IFERROR(VLOOKUP(A2233,[1]EventConditionConfig!$B:$D,3,FALSE),\"\"))","v":"（笑）哈哈，正是，帮我清理一下灵田，回来请你喝茶。"},"任务&事件文本",null,2230]
[2231,{"$f":"_xlfn.TEXTJOIN(\"\",1,IFERROR(VLOOKUP(A2234,[1]EventConfig!$T:$V,3,FALSE),\"\"),IFERROR(VLOOKUP(A2234,[1]EventConfig!$U:$W,3,FALSE),\"\"),IFERROR(VLOOKUP(A2234,[1]EventLinkConfig!$B:$C,2,FALSE),\"\"),IFERROR(VLOOKUP(A2234,[1]EventLinkConfig!$D:$E,2,FALSE),\"\"),IFERROR(VLOOKUP(A2234,[1]EventLinkConfig!$L:$M,2,FALSE),\"\"),IFERROR(VLOOKUP(A2234,[1]EventLinkConfig!$X:$Y,2,FALSE),\"\"),IFERROR(VLOOKUP(A2234,[1]EventLinkConfig!$AA:$AB,2,FALSE),\"\"),IFERROR(VLOOKUP(A2234,[1]EventConditionConfig!$B:$D,3,FALSE),\"\"))","v":"对了，在哪些杂草中不也会生长着一些药效不错的药草，这些药草在杂草中没有更好的成长起来，如果发现了药草帮我收集一些药草的种子回来。"},"任务&事件文本",null,2231]
[2232,{"$f":"_xlfn.TEXTJOIN(\"\",1,IFERROR(VLOOKUP(A2235,[1]EventConfig!$T:$V,3,FALSE),\"\"),IFERROR(VLOOKUP(A2235,[1]EventConfig!$U:$W,3,FALSE),\"\"),IFERROR(VLOOKUP(A2235,[1]EventLinkConfig!$B:$C,2,FALSE),\"\"),IFERROR(VLOOKUP(A2235,[1]EventLinkConfig!$D:$E,2,FALSE),\"\"),IFERROR(VLOOKUP(A2235,[1]EventLinkConfig!$L:$M,2,FALSE),\"\"),IFERROR(VLOOKUP(A2235,[1]EventLinkConfig!$X:$Y,2,FALSE),\"\"),IFERROR(VLOOKUP(A2235,[1]EventLinkConfig!$AA:$AB,2,FALSE),\"\"),IFERROR(VLOOKUP(A2235,[1]EventConditionConfig!$B:$D,3,FALSE),\"\"))","v":"在开辟的过程中也请小心一点，后山也经常有妖怪出没。"},"任务&事件文本",null,2232]
[2233,{"$f":"_xlfn.TEXTJOIN(\"\",1,IFERROR(VLOOKUP(A2236,[1]EventConfig!$T:$V,3,FALSE),\"\"),IFERROR(VLOOKUP(A2236,[1]EventConfig!$U:$W,3,FALSE),\"\"),IFERROR(VLOOKUP(A2236,[1]EventLinkConfig!$B:$C,2,FALSE),\"\"),IFERROR(VLOOKUP(A2236,[1]EventLinkConfig!$D:$E,2,FALSE),\"\"),IFERROR(VLOOKUP(A2236,[1]EventLinkConfig!$L:$M,2,FALSE),\"\"),IFERROR(VLOOKUP(A2236,[1]EventLinkConfig!$X:$Y,2,FALSE),\"\"),IFERROR(VLOOKUP(A2236,[1]EventLinkConfig!$AA:$AB,2,FALSE),\"\"),IFERROR(VLOOKUP(A2236,[1]EventConditionConfig!$B:$D,3,FALSE),\"\"))","v":"（你回到屋前，满身草屑与泥土，许由在烧水，煮茶）"},"任务&事件文本",null,2233]
[2234,{"$f":"_xlfn.TEXTJOIN(\"\",1,IFERROR(VLOOKUP(A2237,[1]EventConfig!$T:$V,3,FALSE),\"\"),IFERROR(VLOOKUP(A2237,[1]EventConfig!$U:$W,3,FALSE),\"\"),IFERROR(VLOOKUP(A2237,[1]EventLinkConfig!$B:$C,2,FALSE),\"\"),IFERROR(VLOOKUP(A2237,[1]EventLinkConfig!$D:$E,2,FALSE),\"\"),IFERROR(VLOOKUP(A2237,[1]EventLinkConfig!$L:$M,2,FALSE),\"\"),IFERROR(VLOOKUP(A2237,[1]EventLinkConfig!$X:$Y,2,FALSE),\"\"),IFERROR(VLOOKUP(A2237,[1]EventLinkConfig!$AA:$AB,2,FALSE),\"\"),IFERROR(VLOOKUP(A2237,[1]EventConditionConfig!$B:$D,3,FALSE),\"\"))","v":"动得挺快。坐，喝口茶。"},"任务&事件文本",null,2234]
[2235,{"$f":"_xlfn.TEXTJOIN(\"\",1,IFERROR(VLOOKUP(A2238,[1]EventConfig!$T:$V,3,FALSE),\"\"),IFERROR(VLOOKUP(A2238,[1]EventConfig!$U:$W,3,FALSE),\"\"),IFERROR(VLOOKUP(A2238,[1]EventLinkConfig!$B:$C,2,FALSE),\"\"),IFERROR(VLOOKUP(A2238,[1]EventLinkConfig!$D:$E,2,FALSE),\"\"),IFERROR(VLOOKUP(A2238,[1]EventLinkConfig!$L:$M,2,FALSE),\"\"),IFERROR(VLOOKUP(A2238,[1]EventLinkConfig!$X:$Y,2,FALSE),\"\"),IFERROR(VLOOKUP(A2238,[1]EventLinkConfig!$AA:$AB,2,FALSE),\"\"),IFERROR(VLOOKUP(A2238,[1]EventConditionConfig!$B:$D,3,FALSE),\"\"))","v":"多谢前辈。"},"任务&事件文本",null,2235]
[2236,{"$f":"_xlfn.TEXTJOIN(\"\",1,IFERROR(VLOOKUP(A2239,[1]EventConfig!$T:$V,3,FALSE),\"\"),IFERROR(VLOOKUP(A2239,[1]EventConfig!$U:$W,3,FALSE),\"\"),IFERROR(VLOOKUP(A2239,[1]EventLinkConfig!$B:$C,2,FALSE),\"\"),IFERROR(VLOOKUP(A2239,[1]EventLinkConfig!$D:$E,2,FALSE),\"\"),IFERROR(VLOOKUP(A2239,[1]EventLinkConfig!$L:$M,2,FALSE),\"\"),IFERROR(VLOOKUP(A2239,[1]EventLinkConfig!$X:$Y,2,FALSE),\"\"),IFERROR(VLOOKUP(A2239,[1]EventLinkConfig!$AA:$AB,2,FALSE),\"\"),IFERROR(VLOOKUP(A2239,[1]EventConditionConfig!$B:$D,3,FALSE),\"\"))","v":"（你获得了永久属性提升）（此处需要进一步处理）"},"任务&事件文本",null,2236]
[2237,{"$f":"_xlfn.TEXTJOIN(\"\",1,IFERROR(VLOOKUP(A2240,[1]EventConfig!$T:$V,3,FALSE),\"\"),IFERROR(VLOOKUP(A2240,[1]EventConfig!$U:$W,3,FALSE),\"\"),IFERROR(VLOOKUP(A2240,[1]EventLinkConfig!$B:$C,2,FALSE),\"\"),IFERROR(VLOOKUP(A2240,[1]EventLinkConfig!$D:$E,2,FALSE),\"\"),IFERROR(VLOOKUP(A2240,[1]EventLinkConfig!$L:$M,2,FALSE),\"\"),IFERROR(VLOOKUP(A2240,[1]EventLinkConfig!$X:$Y,2,FALSE),\"\"),IFERROR(VLOOKUP(A2240,[1]EventLinkConfig!$AA:$AB,2,FALSE),\"\"),IFERROR(VLOOKUP(A2240,[1]EventConditionConfig!$B:$D,3,FALSE),\"\"))","v":"再来一杯"},"任务&事件文本",null,2237]
[2238,{"$f":"_xlfn.TEXTJOIN(\"\",1,IFERROR(VLOOKUP(A2241,[1]EventConfig!$T:$V,3,FALSE),\"\"),IFERROR(VLOOKUP(A2241,[1]EventConfig!$U:$W,3,FALSE),\"\"),IFERROR(VLOOKUP(A2241,[1]EventLinkConfig!$B:$C,2,FALSE),\"\"),IFERROR(VLOOKUP(A2241,[1]EventLinkConfig!$D:$E,2,FALSE),\"\"),IFERROR(VLOOKUP(A2241,[1]EventLinkConfig!$L:$M,2,FALSE),\"\"),IFERROR(VLOOKUP(A2241,[1]EventLinkConfig!$X:$Y,2,FALSE),\"\"),IFERROR(VLOOKUP(A2241,[1]EventLinkConfig!$AA:$AB,2,FALSE),\"\"),IFERROR(VLOOKUP(A2241,[1]EventConditionConfig!$B:$D,3,FALSE),\"\"))","v":"今天的风有点不对，开来昨日你在后山的动静不小呀，山那头怕是要来些不速之客。"},"任务&事件文本",null,2238]
[2239,{"$f":"_xlfn.TEXTJOIN(\"\",1,IFERROR(VLOOKUP(A2242,[1]EventConfig!$T:$V,3,FALSE),\"\"),IFERROR(VLOOKUP(A2242,[1]EventConfig!$U:$W,3,FALSE),\"\"),IFERROR(VLOOKUP(A2242,[1]EventLinkConfig!$B:$C,2,FALSE),\"\"),IFERROR(VLOOKUP(A2242,[1]EventLinkConfig!$D:$E,2,FALSE),\"\"),IFERROR(VLOOKUP(A2242,[1]EventLinkConfig!$L:$M,2,FALSE),\"\"),IFERROR(VLOOKUP(A2242,[1]EventLinkConfig!$X:$Y,2,FALSE),\"\"),IFERROR(VLOOKUP(A2242,[1]EventLinkConfig!$AA:$AB,2,FALSE),\"\"),IFERROR(VLOOKUP(A2242,[1]EventConditionConfig!$B:$D,3,FALSE),\"\"))","v":"你才帮我弄好灵草种子和灵田，别让妖兽给毁了。"},"任务&事件文本",null,2239]
[2240,{"$f":"_xlfn.TEXTJOIN(\"\",1,IFERROR(VLOOKUP(A2243,[1]EventConfig!$T:$V,3,FALSE),\"\"),IFERROR(VLOOKUP(A2243,[1]EventConfig!$U:$W,3,FALSE),\"\"),IFERROR(VLOOKUP(A2243,[1]EventLinkConfig!$B:$C,2,FALSE),\"\"),IFERROR(VLOOKUP(A2243,[1]EventLinkConfig!$D:$E,2,FALSE),\"\"),IFERROR(VLOOKUP(A2243,[1]EventLinkConfig!$L:$M,2,FALSE),\"\"),IFERROR(VLOOKUP(A2243,[1]EventLinkConfig!$X:$Y,2,FALSE),\"\"),IFERROR(VLOOKUP(A2243,[1]EventLinkConfig!$AA:$AB,2,FALSE),\"\"),IFERROR(VLOOKUP(A2243,[1]EventConditionConfig!$B:$D,3,FALSE),\"\"))","v":"你去走一趟。"},"任务&事件文本",null,2240]
[2241,{"$f":"_xlfn.TEXTJOIN(\"\",1,IFERROR(VLOOKUP(A2244,[1]EventConfig!$T:$V,3,FALSE),\"\"),IFERROR(VLOOKUP(A2244,[1]EventConfig!$U:$W,3,FALSE),\"\"),IFERROR(VLOOKUP(A2244,[1]EventLinkConfig!$B:$C,2,FALSE),\"\"),IFERROR(VLOOKUP(A2244,[1]EventLinkConfig!$D:$E,2,FALSE),\"\"),IFERROR(VLOOKUP(A2244,[1]EventLinkConfig!$L:$M,2,FALSE),\"\"),IFERROR(VLOOKUP(A2244,[1]EventLinkConfig!$X:$Y,2,FALSE),\"\"),IFERROR(VLOOKUP(A2244,[1]EventLinkConfig!$AA:$AB,2,FALSE),\"\"),IFERROR(VLOOKUP(A2244,[1]EventConditionConfig!$B:$D,3,FALSE),\"\"))","v":"好的......"},"任务&事件文本",null,2241]
[2242,{"$f":"_xlfn.TEXTJOIN(\"\",1,IFERROR(VLOOKUP(A2245,[1]EventConfig!$T:$V,3,FALSE),\"\"),IFERROR(VLOOKUP(A2245,[1]EventConfig!$U:$W,3,FALSE),\"\"),IFERROR(VLOOKUP(A2245,[1]EventLinkConfig!$B:$C,2,FALSE),\"\"),IFERROR(VLOOKUP(A2245,[1]EventLinkConfig!$D:$E,2,FALSE),\"\"),IFERROR(VLOOKUP(A2245,[1]EventLinkConfig!$L:$M,2,FALSE),\"\"),IFERROR(VLOOKUP(A2245,[1]EventLinkConfig!$X:$Y,2,FALSE),\"\"),IFERROR(VLOOKUP(A2245,[1]EventLinkConfig!$AA:$AB,2,FALSE),\"\"),IFERROR(VLOOKUP(A2245,[1]EventConditionConfig!$B:$D,3,FALSE),\"\"))","v":"（你获得了永久属性提升）（此处需要进一步处理）"},"任务&事件文本",null,{"$f":"A2245","v":2242}]
[2243,{"$f":"_xlfn.TEXTJOIN(\"\",1,IFERROR(VLOOKUP(A2246,[1]EventConfig!$T:$V,3,FALSE),\"\"),IFERROR(VLOOKUP(A2246,[1]EventConfig!$U:$W,3,FALSE),\"\"),IFERROR(VLOOKUP(A2246,[1]EventLinkConfig!$B:$C,2,FALSE),\"\"),IFERROR(VLOOKUP(A2246,[1]EventLinkConfig!$D:$E,2,FALSE),\"\"),IFERROR(VLOOKUP(A2246,[1]EventLinkConfig!$L:$M,2,FALSE),\"\"),IFERROR(VLOOKUP(A2246,[1]EventLinkConfig!$X:$Y,2,FALSE),\"\"),IFERROR(VLOOKUP(A2246,[1]EventLinkConfig!$AA:$AB,2,FALSE),\"\"),IFERROR(VLOOKUP(A2246,[1]EventConditionConfig!$B:$D,3,FALSE),\"\"))","v":"战胜妖王"},"任务&事件文本",null,2243]
[2244,{"$f":"_xlfn.TEXTJOIN(\"\",1,IFERROR(VLOOKUP(A2247,[1]EventConfig!$T:$V,3,FALSE),\"\"),IFERROR(VLOOKUP(A2247,[1]EventConfig!$U:$W,3,FALSE),\"\"),IFERROR(VLOOKUP(A2247,[1]EventLinkConfig!$B:$C,2,FALSE),\"\"),IFERROR(VLOOKUP(A2247,[1]EventLinkConfig!$D:$E,2,FALSE),\"\"),IFERROR(VLOOKUP(A2247,[1]EventLinkConfig!$L:$M,2,FALSE),\"\"),IFERROR(VLOOKUP(A2247,[1]EventLinkConfig!$X:$Y,2,FALSE),\"\"),IFERROR(VLOOKUP(A2247,[1]EventLinkConfig!$AA:$AB,2,FALSE),\"\"),IFERROR(VLOOKUP(A2247,[1]EventConditionConfig!$B:$D,3,FALSE),\"\"))","v":"（次日清晨，山顶云气升腾，许由站在灵田边，看着远山）"},"任务&事件文本",null,2244]
[2245,{"$f":"_xlfn.TEXTJOIN(\"\",1,IFERROR(VLOOKUP(A2248,[1]EventConfig!$T:$V,3,FALSE),\"\"),IFERROR(VLOOKUP(A2248,[1]EventConfig!$U:$W,3,FALSE),\"\"),IFERROR(VLOOKUP(A2248,[1]EventLinkConfig!$B:$C,2,FALSE),\"\"),IFERROR(VLOOKUP(A2248,[1]EventLinkConfig!$D:$E,2,FALSE),\"\"),IFERROR(VLOOKUP(A2248,[1]EventLinkConfig!$L:$M,2,FALSE),\"\"),IFERROR(VLOOKUP(A2248,[1]EventLinkConfig!$X:$Y,2,FALSE),\"\"),IFERROR(VLOOKUP(A2248,[1]EventLinkConfig!$AA:$AB,2,FALSE),\"\"),IFERROR(VLOOKUP(A2248,[1]EventConditionConfig!$B:$D,3,FALSE),\"\"))","v":" 先前的妖兽，被你压了下去。可峰顶还有一头老家伙，脾气大。"},"任务&事件文本",null,2245]
[2246,{"$f":"_xlfn.TEXTJOIN(\"\",1,IFERROR(VLOOKUP(A2249,[1]EventConfig!$T:$V,3,FALSE),\"\"),IFERROR(VLOOKUP(A2249,[1]EventConfig!$U:$W,3,FALSE),\"\"),IFERROR(VLOOKUP(A2249,[1]EventLinkConfig!$B:$C,2,FALSE),\"\"),IFERROR(VLOOKUP(A2249,[1]EventLinkConfig!$D:$E,2,FALSE),\"\"),IFERROR(VLOOKUP(A2249,[1]EventLinkConfig!$L:$M,2,FALSE),\"\"),IFERROR(VLOOKUP(A2249,[1]EventLinkConfig!$X:$Y,2,FALSE),\"\"),IFERROR(VLOOKUP(A2249,[1]EventLinkConfig!$AA:$AB,2,FALSE),\"\"),IFERROR(VLOOKUP(A2249,[1]EventConditionConfig!$B:$D,3,FALSE),\"\"))","v":"（低声）……前辈，我做了怎么多事，一次比一次难。为何每次都让我喝茶？前辈可是希望我去处理？"},"任务&事件文本",null,2246]
[2247,{"$f":"_xlfn.TEXTJOIN(\"\",1,IFERROR(VLOOKUP(A2250,[1]EventConfig!$T:$V,3,FALSE),\"\"),IFERROR(VLOOKUP(A2250,[1]EventConfig!$U:$W,3,FALSE),\"\"),IFERROR(VLOOKUP(A2250,[1]EventLinkConfig!$B:$C,2,FALSE),\"\"),IFERROR(VLOOKUP(A2250,[1]EventLinkConfig!$D:$E,2,FALSE),\"\"),IFERROR(VLOOKUP(A2250,[1]EventLinkConfig!$L:$M,2,FALSE),\"\"),IFERROR(VLOOKUP(A2250,[1]EventLinkConfig!$X:$Y,2,FALSE),\"\"),IFERROR(VLOOKUP(A2250,[1]EventLinkConfig!$AA:$AB,2,FALSE),\"\"),IFERROR(VLOOKUP(A2250,[1]EventConditionConfig!$B:$D,3,FALSE),\"\"))","v":"（淡笑）去吧，你可以应付的。"},"任务&事件文本",null,2247]
[2248,{"$f":"_xlfn.TEXTJOIN(\"\",1,IFERROR(VLOOKUP(A2251,[1]EventConfig!$T:$V,3,FALSE),\"\"),IFERROR(VLOOKUP(A2251,[1]EventConfig!$U:$W,3,FALSE),\"\"),IFERROR(VLOOKUP(A2251,[1]EventLinkConfig!$B:$C,2,FALSE),\"\"),IFERROR(VLOOKUP(A2251,[1]EventLinkConfig!$D:$E,2,FALSE),\"\"),IFERROR(VLOOKUP(A2251,[1]EventLinkConfig!$L:$M,2,FALSE),\"\"),IFERROR(VLOOKUP(A2251,[1]EventLinkConfig!$X:$Y,2,FALSE),\"\"),IFERROR(VLOOKUP(A2251,[1]EventLinkConfig!$AA:$AB,2,FALSE),\"\"),IFERROR(VLOOKUP(A2251,[1]EventConditionConfig!$B:$D,3,FALSE),\"\"))","v":"尧现在，或许也是这个心情吧。一路赢到底，却再没能静下心来，喝一杯茶。"},"任务&事件文本",null,2248]
[2249,{"$f":"_xlfn.TEXTJOIN(\"\",1,IFERROR(VLOOKUP(A2252,[1]EventConfig!$T:$V,3,FALSE),\"\"),IFERROR(VLOOKUP(A2252,[1]EventConfig!$U:$W,3,FALSE),\"\"),IFERROR(VLOOKUP(A2252,[1]EventLinkConfig!$B:$C,2,FALSE),\"\"),IFERROR(VLOOKUP(A2252,[1]EventLinkConfig!$D:$E,2,FALSE),\"\"),IFERROR(VLOOKUP(A2252,[1]EventLinkConfig!$L:$M,2,FALSE),\"\"),IFERROR(VLOOKUP(A2252,[1]EventLinkConfig!$X:$Y,2,FALSE),\"\"),IFERROR(VLOOKUP(A2252,[1]EventLinkConfig!$AA:$AB,2,FALSE),\"\"),IFERROR(VLOOKUP(A2252,[1]EventConditionConfig!$B:$D,3,FALSE),\"\"))","v":"好了，你回去吧。"},"任务&事件文本",null,2249]
[2250,{"$f":"_xlfn.TEXTJOIN(\"\",1,IFERROR(VLOOKUP(A2253,[1]EventConfig!$T:$V,3,FALSE),\"\"),IFERROR(VLOOKUP(A2253,[1]EventConfig!$U:$W,3,FALSE),\"\"),IFERROR(VLOOKUP(A2253,[1]EventLinkConfig!$B:$C,2,FALSE),\"\"),IFERROR(VLOOKUP(A2253,[1]EventLinkConfig!$D:$E,2,FALSE),\"\"),IFERROR(VLOOKUP(A2253,[1]EventLinkConfig!$L:$M,2,FALSE),\"\"),IFERROR(VLOOKUP(A2253,[1]EventLinkConfig!$X:$Y,2,FALSE),\"\"),IFERROR(VLOOKUP(A2253,[1]EventLinkConfig!$AA:$AB,2,FALSE),\"\"),IFERROR(VLOOKUP(A2253,[1]EventConditionConfig!$B:$D,3,FALSE),\"\"))","v":"我该如何回复尧帝？"},"任务&事件文本",null,2250]
[2251,{"$f":"_xlfn.TEXTJOIN(\"\",1,IFERROR(VLOOKUP(A2254,[1]EventConfig!$T:$V,3,FALSE),\"\"),IFERROR(VLOOKUP(A2254,[1]EventConfig!$U:$W,3,FALSE),\"\"),IFERROR(VLOOKUP(A2254,[1]EventLinkConfig!$B:$C,2,FALSE),\"\"),IFERROR(VLOOKUP(A2254,[1]EventLinkConfig!$D:$E,2,FALSE),\"\"),IFERROR(VLOOKUP(A2254,[1]EventLinkConfig!$L:$M,2,FALSE),\"\"),IFERROR(VLOOKUP(A2254,[1]EventLinkConfig!$X:$Y,2,FALSE),\"\"),IFERROR(VLOOKUP(A2254,[1]EventLinkConfig!$AA:$AB,2,FALSE),\"\"),IFERROR(VLOOKUP(A2254,[1]EventConditionConfig!$B:$D,3,FALSE),\"\"))","v":"多谢前辈提醒。"},"任务&事件文本",null,2251]
[2252,{"$f":"_xlfn.TEXTJOIN(\"\",1,IFERROR(VLOOKUP(A2255,[1]EventConfig!$T:$V,3,FALSE),\"\"),IFERROR(VLOOKUP(A2255,[1]EventConfig!$U:$W,3,FALSE),\"\"),IFERROR(VLOOKUP(A2255,[1]EventLinkConfig!$B:$C,2,FALSE),\"\"),IFERROR(VLOOKUP(A2255,[1]EventLinkConfig!$D:$E,2,FALSE),\"\"),IFERROR(VLOOKUP(A2255,[1]EventLinkConfig!$L:$M,2,FALSE),\"\"),IFERROR(VLOOKUP(A2255,[1]EventLinkConfig!$X:$Y,2,FALSE),\"\"),IFERROR(VLOOKUP(A2255,[1]EventLinkConfig!$AA:$AB,2,FALSE),\"\"),IFERROR(VLOOKUP(A2255,[1]EventConditionConfig!$B:$D,3,FALSE),\"\"))","v":"“道不碍政，心自碍道”。若心不净，纵避千山万水，又有何用。"},"任务&事件文本",null,2252]
[2253,{"$f":"_xlfn.TEXTJOIN(\"\",1,IFERROR(VLOOKUP(A2256,[1]EventConfig!$T:$V,3,FALSE),\"\"),IFERROR(VLOOKUP(A2256,[1]EventConfig!$U:$W,3,FALSE),\"\"),IFERROR(VLOOKUP(A2256,[1]EventLinkConfig!$B:$C,2,FALSE),\"\"),IFERROR(VLOOKUP(A2256,[1]EventLinkConfig!$D:$E,2,FALSE),\"\"),IFERROR(VLOOKUP(A2256,[1]EventLinkConfig!$L:$M,2,FALSE),\"\"),IFERROR(VLOOKUP(A2256,[1]EventLinkConfig!$X:$Y,2,FALSE),\"\"),IFERROR(VLOOKUP(A2256,[1]EventLinkConfig!$AA:$AB,2,FALSE),\"\"),IFERROR(VLOOKUP(A2256,[1]EventConditionConfig!$B:$D,3,FALSE),\"\"))","v":"（你低头，看着杯中微动的茶水）\n（喝下第三杯茶，觉得一身轻松）"},"任务&事件文本",null,2253]
[2254,{"$f":"_xlfn.TEXTJOIN(\"\",1,IFERROR(VLOOKUP(A2257,[1]EventConfig!$T:$V,3,FALSE),\"\"),IFERROR(VLOOKUP(A2257,[1]EventConfig!$U:$W,3,FALSE),\"\"),IFERROR(VLOOKUP(A2257,[1]EventLinkConfig!$B:$C,2,FALSE),\"\"),IFERROR(VLOOKUP(A2257,[1]EventLinkConfig!$D:$E,2,FALSE),\"\"),IFERROR(VLOOKUP(A2257,[1]EventLinkConfig!$L:$M,2,FALSE),\"\"),IFERROR(VLOOKUP(A2257,[1]EventLinkConfig!$X:$Y,2,FALSE),\"\"),IFERROR(VLOOKUP(A2257,[1]EventLinkConfig!$AA:$AB,2,FALSE),\"\"),IFERROR(VLOOKUP(A2257,[1]EventConditionConfig!$B:$D,3,FALSE),\"\"))","v":"（你获得了永久属性提升）（此处需要进一步处理）"},"任务&事件文本",null,2254]
[2255,{"$f":"_xlfn.TEXTJOIN(\"\",1,IFERROR(VLOOKUP(A2258,[1]EventConfig!$T:$V,3,FALSE),\"\"),IFERROR(VLOOKUP(A2258,[1]EventConfig!$U:$W,3,FALSE),\"\"),IFERROR(VLOOKUP(A2258,[1]EventLinkConfig!$B:$C,2,FALSE),\"\"),IFERROR(VLOOKUP(A2258,[1]EventLinkConfig!$D:$E,2,FALSE),\"\"),IFERROR(VLOOKUP(A2258,[1]EventLinkConfig!$L:$M,2,FALSE),\"\"),IFERROR(VLOOKUP(A2258,[1]EventLinkConfig!$X:$Y,2,FALSE),\"\"),IFERROR(VLOOKUP(A2258,[1]EventLinkConfig!$AA:$AB,2,FALSE),\"\"),IFERROR(VLOOKUP(A2258,[1]EventConditionConfig!$B:$D,3,FALSE),\"\"))","v":"回尧城与帝尧对话，复述许由之言"},"任务&事件文本",null,2255]
[2256,{"$f":"_xlfn.TEXTJOIN(\"\",1,IFERROR(VLOOKUP(A2259,[1]EventConfig!$T:$V,3,FALSE),\"\"),IFERROR(VLOOKUP(A2259,[1]EventConfig!$U:$W,3,FALSE),\"\"),IFERROR(VLOOKUP(A2259,[1]EventLinkConfig!$B:$C,2,FALSE),\"\"),IFERROR(VLOOKUP(A2259,[1]EventLinkConfig!$D:$E,2,FALSE),\"\"),IFERROR(VLOOKUP(A2259,[1]EventLinkConfig!$L:$M,2,FALSE),\"\"),IFERROR(VLOOKUP(A2259,[1]EventLinkConfig!$X:$Y,2,FALSE),\"\"),IFERROR(VLOOKUP(A2259,[1]EventLinkConfig!$AA:$AB,2,FALSE),\"\"),IFERROR(VLOOKUP(A2259,[1]EventConditionConfig!$B:$D,3,FALSE),\"\"))","v":"前辈，晚辈已往访许由，将事情告知他。"},"任务&事件文本",null,2256]
[2257,{"$f":"_xlfn.TEXTJOIN(\"\",1,IFERROR(VLOOKUP(A2260,[1]EventConfig!$T:$V,3,FALSE),\"\"),IFERROR(VLOOKUP(A2260,[1]EventConfig!$U:$W,3,FALSE),\"\"),IFERROR(VLOOKUP(A2260,[1]EventLinkConfig!$B:$C,2,FALSE),\"\"),IFERROR(VLOOKUP(A2260,[1]EventLinkConfig!$D:$E,2,FALSE),\"\"),IFERROR(VLOOKUP(A2260,[1]EventLinkConfig!$L:$M,2,FALSE),\"\"),IFERROR(VLOOKUP(A2260,[1]EventLinkConfig!$X:$Y,2,FALSE),\"\"),IFERROR(VLOOKUP(A2260,[1]EventLinkConfig!$AA:$AB,2,FALSE),\"\"),IFERROR(VLOOKUP(A2260,[1]EventConditionConfig!$B:$D,3,FALSE),\"\"))","v":"他如何说？"},"任务&事件文本",null,2257]
[2258,{"$f":"_xlfn.TEXTJOIN(\"\",1,IFERROR(VLOOKUP(A2261,[1]EventConfig!$T:$V,3,FALSE),\"\"),IFERROR(VLOOKUP(A2261,[1]EventConfig!$U:$W,3,FALSE),\"\"),IFERROR(VLOOKUP(A2261,[1]EventLinkConfig!$B:$C,2,FALSE),\"\"),IFERROR(VLOOKUP(A2261,[1]EventLinkConfig!$D:$E,2,FALSE),\"\"),IFERROR(VLOOKUP(A2261,[1]EventLinkConfig!$L:$M,2,FALSE),\"\"),IFERROR(VLOOKUP(A2261,[1]EventLinkConfig!$X:$Y,2,FALSE),\"\"),IFERROR(VLOOKUP(A2261,[1]EventLinkConfig!$AA:$AB,2,FALSE),\"\"),IFERROR(VLOOKUP(A2261,[1]EventConditionConfig!$B:$D,3,FALSE),\"\"))","v":"许由不愿出山，让我转告您一句话。\n“道不碍政，心自碍道。”\n若心不净，纵避千山万水，又有何用。”"},"任务&事件文本",null,2258]
[2259,{"$f":"_xlfn.TEXTJOIN(\"\",1,IFERROR(VLOOKUP(A2262,[1]EventConfig!$T:$V,3,FALSE),\"\"),IFERROR(VLOOKUP(A2262,[1]EventConfig!$U:$W,3,FALSE),\"\"),IFERROR(VLOOKUP(A2262,[1]EventLinkConfig!$B:$C,2,FALSE),\"\"),IFERROR(VLOOKUP(A2262,[1]EventLinkConfig!$D:$E,2,FALSE),\"\"),IFERROR(VLOOKUP(A2262,[1]EventLinkConfig!$L:$M,2,FALSE),\"\"),IFERROR(VLOOKUP(A2262,[1]EventLinkConfig!$X:$Y,2,FALSE),\"\"),IFERROR(VLOOKUP(A2262,[1]EventLinkConfig!$AA:$AB,2,FALSE),\"\"),IFERROR(VLOOKUP(A2262,[1]EventConditionConfig!$B:$D,3,FALSE),\"\"))","v":"（帝尧沉默，良久，轻轻点头）他还是那副模样……不肯出山。"},"任务&事件文本",null,2259]
[2260,{"$f":"_xlfn.TEXTJOIN(\"\",1,IFERROR(VLOOKUP(A2263,[1]EventConfig!$T:$V,3,FALSE),\"\"),IFERROR(VLOOKUP(A2263,[1]EventConfig!$U:$W,3,FALSE),\"\"),IFERROR(VLOOKUP(A2263,[1]EventLinkConfig!$B:$C,2,FALSE),\"\"),IFERROR(VLOOKUP(A2263,[1]EventLinkConfig!$D:$E,2,FALSE),\"\"),IFERROR(VLOOKUP(A2263,[1]EventLinkConfig!$L:$M,2,FALSE),\"\"),IFERROR(VLOOKUP(A2263,[1]EventLinkConfig!$X:$Y,2,FALSE),\"\"),IFERROR(VLOOKUP(A2263,[1]EventLinkConfig!$AA:$AB,2,FALSE),\"\"),IFERROR(VLOOKUP(A2263,[1]EventConditionConfig!$B:$D,3,FALSE),\"\"))","v":"（抬眼望你）不过，他说得也有几分道理。"},"任务&事件文本",null,2260]
[2261,{"$f":"_xlfn.TEXTJOIN(\"\",1,IFERROR(VLOOKUP(A2264,[1]EventConfig!$T:$V,3,FALSE),\"\"),IFERROR(VLOOKUP(A2264,[1]EventConfig!$U:$W,3,FALSE),\"\"),IFERROR(VLOOKUP(A2264,[1]EventLinkConfig!$B:$C,2,FALSE),\"\"),IFERROR(VLOOKUP(A2264,[1]EventLinkConfig!$D:$E,2,FALSE),\"\"),IFERROR(VLOOKUP(A2264,[1]EventLinkConfig!$L:$M,2,FALSE),\"\"),IFERROR(VLOOKUP(A2264,[1]EventLinkConfig!$X:$Y,2,FALSE),\"\"),IFERROR(VLOOKUP(A2264,[1]EventLinkConfig!$AA:$AB,2,FALSE),\"\"),IFERROR(VLOOKUP(A2264,[1]EventConditionConfig!$B:$D,3,FALSE),\"\"))","v":"我以为，是天下扰我修行，难道是我自己扰了自己？我再想想吧。（轻叹）"},"任务&事件文本",null,2261]
[2262,{"$f":"_xlfn.TEXTJOIN(\"\",1,IFERROR(VLOOKUP(A2265,[1]EventConfig!$T:$V,3,FALSE),\"\"),IFERROR(VLOOKUP(A2265,[1]EventConfig!$U:$W,3,FALSE),\"\"),IFERROR(VLOOKUP(A2265,[1]EventLinkConfig!$B:$C,2,FALSE),\"\"),IFERROR(VLOOKUP(A2265,[1]EventLinkConfig!$D:$E,2,FALSE),\"\"),IFERROR(VLOOKUP(A2265,[1]EventLinkConfig!$L:$M,2,FALSE),\"\"),IFERROR(VLOOKUP(A2265,[1]EventLinkConfig!$X:$Y,2,FALSE),\"\"),IFERROR(VLOOKUP(A2265,[1]EventLinkConfig!$AA:$AB,2,FALSE),\"\"),IFERROR(VLOOKUP(A2265,[1]EventConditionConfig!$B:$D,3,FALSE),\"\"))","v":"小友，辛苦你这一趟。"},"任务&事件文本",null,2262]
[2263,{"$f":"_xlfn.TEXTJOIN(\"\",1,IFERROR(VLOOKUP(A2266,[1]EventConfig!$T:$V,3,FALSE),\"\"),IFERROR(VLOOKUP(A2266,[1]EventConfig!$U:$W,3,FALSE),\"\"),IFERROR(VLOOKUP(A2266,[1]EventLinkConfig!$B:$C,2,FALSE),\"\"),IFERROR(VLOOKUP(A2266,[1]EventLinkConfig!$D:$E,2,FALSE),\"\"),IFERROR(VLOOKUP(A2266,[1]EventLinkConfig!$L:$M,2,FALSE),\"\"),IFERROR(VLOOKUP(A2266,[1]EventLinkConfig!$X:$Y,2,FALSE),\"\"),IFERROR(VLOOKUP(A2266,[1]EventLinkConfig!$AA:$AB,2,FALSE),\"\"),IFERROR(VLOOKUP(A2266,[1]EventConditionConfig!$B:$D,3,FALSE),\"\"))","v":"你让我想起，我当年初修时，也常在山野之间，与人论道、与妖兽斗法……"},"任务&事件文本",null,2263]
[2264,{"$f":"_xlfn.TEXTJOIN(\"\",1,IFERROR(VLOOKUP(A2267,[1]EventConfig!$T:$V,3,FALSE),\"\"),IFERROR(VLOOKUP(A2267,[1]EventConfig!$U:$W,3,FALSE),\"\"),IFERROR(VLOOKUP(A2267,[1]EventLinkConfig!$B:$C,2,FALSE),\"\"),IFERROR(VLOOKUP(A2267,[1]EventLinkConfig!$D:$E,2,FALSE),\"\"),IFERROR(VLOOKUP(A2267,[1]EventLinkConfig!$L:$M,2,FALSE),\"\"),IFERROR(VLOOKUP(A2267,[1]EventLinkConfig!$X:$Y,2,FALSE),\"\"),IFERROR(VLOOKUP(A2267,[1]EventLinkConfig!$AA:$AB,2,FALSE),\"\"),IFERROR(VLOOKUP(A2267,[1]EventConditionConfig!$B:$D,3,FALSE),\"\"))","v":"（转身，望向殿后灵山）我这里灵气充沛，古迹亦多，不妨在此逗留几日，四处看看。"},"任务&事件文本",null,2264]
[2265,{"$f":"_xlfn.TEXTJOIN(\"\",1,IFERROR(VLOOKUP(A2268,[1]EventConfig!$T:$V,3,FALSE),\"\"),IFERROR(VLOOKUP(A2268,[1]EventConfig!$U:$W,3,FALSE),\"\"),IFERROR(VLOOKUP(A2268,[1]EventLinkConfig!$B:$C,2,FALSE),\"\"),IFERROR(VLOOKUP(A2268,[1]EventLinkConfig!$D:$E,2,FALSE),\"\"),IFERROR(VLOOKUP(A2268,[1]EventLinkConfig!$L:$M,2,FALSE),\"\"),IFERROR(VLOOKUP(A2268,[1]EventLinkConfig!$X:$Y,2,FALSE),\"\"),IFERROR(VLOOKUP(A2268,[1]EventLinkConfig!$AA:$AB,2,FALSE),\"\"),IFERROR(VLOOKUP(A2268,[1]EventConditionConfig!$B:$D,3,FALSE),\"\"))","v":"或许这也是冲虚真人引你来的真正用意。"},"任务&事件文本",null,2265]
[2266,{"$f":"_xlfn.TEXTJOIN(\"\",1,IFERROR(VLOOKUP(A2269,[1]EventConfig!$T:$V,3,FALSE),\"\"),IFERROR(VLOOKUP(A2269,[1]EventConfig!$U:$W,3,FALSE),\"\"),IFERROR(VLOOKUP(A2269,[1]EventLinkConfig!$B:$C,2,FALSE),\"\"),IFERROR(VLOOKUP(A2269,[1]EventLinkConfig!$D:$E,2,FALSE),\"\"),IFERROR(VLOOKUP(A2269,[1]EventLinkConfig!$L:$M,2,FALSE),\"\"),IFERROR(VLOOKUP(A2269,[1]EventLinkConfig!$X:$Y,2,FALSE),\"\"),IFERROR(VLOOKUP(A2269,[1]EventLinkConfig!$AA:$AB,2,FALSE),\"\"),IFERROR(VLOOKUP(A2269,[1]EventConditionConfig!$B:$D,3,FALSE),\"\"))","v":"和村民对话"},"任务&事件文本",null,2266]
[2267,{"$f":"_xlfn.TEXTJOIN(\"\",1,IFERROR(VLOOKUP(A2270,[1]EventConfig!$T:$V,3,FALSE),\"\"),IFERROR(VLOOKUP(A2270,[1]EventConfig!$U:$W,3,FALSE),\"\"),IFERROR(VLOOKUP(A2270,[1]EventLinkConfig!$B:$C,2,FALSE),\"\"),IFERROR(VLOOKUP(A2270,[1]EventLinkConfig!$D:$E,2,FALSE),\"\"),IFERROR(VLOOKUP(A2270,[1]EventLinkConfig!$L:$M,2,FALSE),\"\"),IFERROR(VLOOKUP(A2270,[1]EventLinkConfig!$X:$Y,2,FALSE),\"\"),IFERROR(VLOOKUP(A2270,[1]EventLinkConfig!$AA:$AB,2,FALSE),\"\"),IFERROR(VLOOKUP(A2270,[1]EventConditionConfig!$B:$D,3,FALSE),\"\"))","v":"（抬头看树）啧，这棵老怪树，又矮又歪，枝杈乱伸，挡着田，碍着路。"},"任务&事件文本",null,2267]
[2268,{"$f":"_xlfn.TEXTJOIN(\"\",1,IFERROR(VLOOKUP(A2271,[1]EventConfig!$T:$V,3,FALSE),\"\"),IFERROR(VLOOKUP(A2271,[1]EventConfig!$U:$W,3,FALSE),\"\"),IFERROR(VLOOKUP(A2271,[1]EventLinkConfig!$B:$C,2,FALSE),\"\"),IFERROR(VLOOKUP(A2271,[1]EventLinkConfig!$D:$E,2,FALSE),\"\"),IFERROR(VLOOKUP(A2271,[1]EventLinkConfig!$L:$M,2,FALSE),\"\"),IFERROR(VLOOKUP(A2271,[1]EventLinkConfig!$X:$Y,2,FALSE),\"\"),IFERROR(VLOOKUP(A2271,[1]EventLinkConfig!$AA:$AB,2,FALSE),\"\"),IFERROR(VLOOKUP(A2271,[1]EventConditionConfig!$B:$D,3,FALSE),\"\"))","v":"（叹气）啊，对对对。\n长得歪七扭八的，根还凸出土，差点把我家牛绊了。"},"任务&事件文本",null,2268]
[2269,{"$f":"_xlfn.TEXTJOIN(\"\",1,IFERROR(VLOOKUP(A2272,[1]EventConfig!$T:$V,3,FALSE),\"\"),IFERROR(VLOOKUP(A2272,[1]EventConfig!$U:$W,3,FALSE),\"\"),IFERROR(VLOOKUP(A2272,[1]EventLinkConfig!$B:$C,2,FALSE),\"\"),IFERROR(VLOOKUP(A2272,[1]EventLinkConfig!$D:$E,2,FALSE),\"\"),IFERROR(VLOOKUP(A2272,[1]EventLinkConfig!$L:$M,2,FALSE),\"\"),IFERROR(VLOOKUP(A2272,[1]EventLinkConfig!$X:$Y,2,FALSE),\"\"),IFERROR(VLOOKUP(A2272,[1]EventLinkConfig!$AA:$AB,2,FALSE),\"\"),IFERROR(VLOOKUP(A2272,[1]EventConditionConfig!$B:$D,3,FALSE),\"\"))","v":"对对对，要是没有这棵树就好了，空占这么大块好地。"},"任务&事件文本",null,2269]
[2270,{"$f":"_xlfn.TEXTJOIN(\"\",1,IFERROR(VLOOKUP(A2273,[1]EventConfig!$T:$V,3,FALSE),\"\"),IFERROR(VLOOKUP(A2273,[1]EventConfig!$U:$W,3,FALSE),\"\"),IFERROR(VLOOKUP(A2273,[1]EventLinkConfig!$B:$C,2,FALSE),\"\"),IFERROR(VLOOKUP(A2273,[1]EventLinkConfig!$D:$E,2,FALSE),\"\"),IFERROR(VLOOKUP(A2273,[1]EventLinkConfig!$L:$M,2,FALSE),\"\"),IFERROR(VLOOKUP(A2273,[1]EventLinkConfig!$X:$Y,2,FALSE),\"\"),IFERROR(VLOOKUP(A2273,[1]EventLinkConfig!$AA:$AB,2,FALSE),\"\"),IFERROR(VLOOKUP(A2273,[1]EventConditionConfig!$B:$D,3,FALSE),\"\"))","v":"这树是真没用，连个树荫都没，晴天底下站着热，雨天底下水多。"},"任务&事件文本",null,2270]
[2271,{"$f":"_xlfn.TEXTJOIN(\"\",1,IFERROR(VLOOKUP(A2274,[1]EventConfig!$T:$V,3,FALSE),\"\"),IFERROR(VLOOKUP(A2274,[1]EventConfig!$U:$W,3,FALSE),\"\"),IFERROR(VLOOKUP(A2274,[1]EventLinkConfig!$B:$C,2,FALSE),\"\"),IFERROR(VLOOKUP(A2274,[1]EventLinkConfig!$D:$E,2,FALSE),\"\"),IFERROR(VLOOKUP(A2274,[1]EventLinkConfig!$L:$M,2,FALSE),\"\"),IFERROR(VLOOKUP(A2274,[1]EventLinkConfig!$X:$Y,2,FALSE),\"\"),IFERROR(VLOOKUP(A2274,[1]EventLinkConfig!$AA:$AB,2,FALSE),\"\"),IFERROR(VLOOKUP(A2274,[1]EventConditionConfig!$B:$D,3,FALSE),\"\"))","v":"就是啊，想在树下歇个脚都不行。"},"任务&事件文本",null,2271]
[2272,{"$f":"_xlfn.TEXTJOIN(\"\",1,IFERROR(VLOOKUP(A2275,[1]EventConfig!$T:$V,3,FALSE),\"\"),IFERROR(VLOOKUP(A2275,[1]EventConfig!$U:$W,3,FALSE),\"\"),IFERROR(VLOOKUP(A2275,[1]EventLinkConfig!$B:$C,2,FALSE),\"\"),IFERROR(VLOOKUP(A2275,[1]EventLinkConfig!$D:$E,2,FALSE),\"\"),IFERROR(VLOOKUP(A2275,[1]EventLinkConfig!$L:$M,2,FALSE),\"\"),IFERROR(VLOOKUP(A2275,[1]EventLinkConfig!$X:$Y,2,FALSE),\"\"),IFERROR(VLOOKUP(A2275,[1]EventLinkConfig!$AA:$AB,2,FALSE),\"\"),IFERROR(VLOOKUP(A2275,[1]EventConditionConfig!$B:$D,3,FALSE),\"\"))","v":"（环顾左右）是吗，我就不信，这棵树没有用…"},"任务&事件文本",null,2272]
[2273,{"$f":"_xlfn.TEXTJOIN(\"\",1,IFERROR(VLOOKUP(A2276,[1]EventConfig!$T:$V,3,FALSE),\"\"),IFERROR(VLOOKUP(A2276,[1]EventConfig!$U:$W,3,FALSE),\"\"),IFERROR(VLOOKUP(A2276,[1]EventLinkConfig!$B:$C,2,FALSE),\"\"),IFERROR(VLOOKUP(A2276,[1]EventLinkConfig!$D:$E,2,FALSE),\"\"),IFERROR(VLOOKUP(A2276,[1]EventLinkConfig!$L:$M,2,FALSE),\"\"),IFERROR(VLOOKUP(A2276,[1]EventLinkConfig!$X:$Y,2,FALSE),\"\"),IFERROR(VLOOKUP(A2276,[1]EventLinkConfig!$AA:$AB,2,FALSE),\"\"),IFERROR(VLOOKUP(A2276,[1]EventConditionConfig!$B:$D,3,FALSE),\"\"))","v":"这位仙长，那你说说看，这树能干什么？"},"任务&事件文本",null,2273]
[2274,{"$f":"_xlfn.TEXTJOIN(\"\",1,IFERROR(VLOOKUP(A2277,[1]EventConfig!$T:$V,3,FALSE),\"\"),IFERROR(VLOOKUP(A2277,[1]EventConfig!$U:$W,3,FALSE),\"\"),IFERROR(VLOOKUP(A2277,[1]EventLinkConfig!$B:$C,2,FALSE),\"\"),IFERROR(VLOOKUP(A2277,[1]EventLinkConfig!$D:$E,2,FALSE),\"\"),IFERROR(VLOOKUP(A2277,[1]EventLinkConfig!$L:$M,2,FALSE),\"\"),IFERROR(VLOOKUP(A2277,[1]EventLinkConfig!$X:$Y,2,FALSE),\"\"),IFERROR(VLOOKUP(A2277,[1]EventLinkConfig!$AA:$AB,2,FALSE),\"\"),IFERROR(VLOOKUP(A2277,[1]EventConditionConfig!$B:$D,3,FALSE),\"\"))","v":"劈了当柴烧。"},"任务&事件文本",null,2274]
[2275,{"$f":"_xlfn.TEXTJOIN(\"\",1,IFERROR(VLOOKUP(A2278,[1]EventConfig!$T:$V,3,FALSE),\"\"),IFERROR(VLOOKUP(A2278,[1]EventConfig!$U:$W,3,FALSE),\"\"),IFERROR(VLOOKUP(A2278,[1]EventLinkConfig!$B:$C,2,FALSE),\"\"),IFERROR(VLOOKUP(A2278,[1]EventLinkConfig!$D:$E,2,FALSE),\"\"),IFERROR(VLOOKUP(A2278,[1]EventLinkConfig!$L:$M,2,FALSE),\"\"),IFERROR(VLOOKUP(A2278,[1]EventLinkConfig!$X:$Y,2,FALSE),\"\"),IFERROR(VLOOKUP(A2278,[1]EventLinkConfig!$AA:$AB,2,FALSE),\"\"),IFERROR(VLOOKUP(A2278,[1]EventConditionConfig!$B:$D,3,FALSE),\"\"))","v":"这位仙长，你有所不知，这树又大又硬，根本没法劈。"},"任务&事件文本",null,2275]
[2276,{"$f":"_xlfn.TEXTJOIN(\"\",1,IFERROR(VLOOKUP(A2279,[1]EventConfig!$T:$V,3,FALSE),\"\"),IFERROR(VLOOKUP(A2279,[1]EventConfig!$U:$W,3,FALSE),\"\"),IFERROR(VLOOKUP(A2279,[1]EventLinkConfig!$B:$C,2,FALSE),\"\"),IFERROR(VLOOKUP(A2279,[1]EventLinkConfig!$D:$E,2,FALSE),\"\"),IFERROR(VLOOKUP(A2279,[1]EventLinkConfig!$L:$M,2,FALSE),\"\"),IFERROR(VLOOKUP(A2279,[1]EventLinkConfig!$X:$Y,2,FALSE),\"\"),IFERROR(VLOOKUP(A2279,[1]EventLinkConfig!$AA:$AB,2,FALSE),\"\"),IFERROR(VLOOKUP(A2279,[1]EventConditionConfig!$B:$D,3,FALSE),\"\"))","v":"劈了做家具。"},"任务&事件文本",null,2276]
[2277,{"$f":"_xlfn.TEXTJOIN(\"\",1,IFERROR(VLOOKUP(A2280,[1]EventConfig!$T:$V,3,FALSE),\"\"),IFERROR(VLOOKUP(A2280,[1]EventConfig!$U:$W,3,FALSE),\"\"),IFERROR(VLOOKUP(A2280,[1]EventLinkConfig!$B:$C,2,FALSE),\"\"),IFERROR(VLOOKUP(A2280,[1]EventLinkConfig!$D:$E,2,FALSE),\"\"),IFERROR(VLOOKUP(A2280,[1]EventLinkConfig!$L:$M,2,FALSE),\"\"),IFERROR(VLOOKUP(A2280,[1]EventLinkConfig!$X:$Y,2,FALSE),\"\"),IFERROR(VLOOKUP(A2280,[1]EventLinkConfig!$AA:$AB,2,FALSE),\"\"),IFERROR(VLOOKUP(A2280,[1]EventConditionConfig!$B:$D,3,FALSE),\"\"))","v":"我就是匠人，这树一看就不中用。"},"任务&事件文本",null,2277]
[2278,{"$f":"_xlfn.TEXTJOIN(\"\",1,IFERROR(VLOOKUP(A2281,[1]EventConfig!$T:$V,3,FALSE),\"\"),IFERROR(VLOOKUP(A2281,[1]EventConfig!$U:$W,3,FALSE),\"\"),IFERROR(VLOOKUP(A2281,[1]EventLinkConfig!$B:$C,2,FALSE),\"\"),IFERROR(VLOOKUP(A2281,[1]EventLinkConfig!$D:$E,2,FALSE),\"\"),IFERROR(VLOOKUP(A2281,[1]EventLinkConfig!$L:$M,2,FALSE),\"\"),IFERROR(VLOOKUP(A2281,[1]EventLinkConfig!$X:$Y,2,FALSE),\"\"),IFERROR(VLOOKUP(A2281,[1]EventLinkConfig!$AA:$AB,2,FALSE),\"\"),IFERROR(VLOOKUP(A2281,[1]EventConditionConfig!$B:$D,3,FALSE),\"\"))","v":"锯下来的木头，绳墨拉不直，做不了梁柱，做不了门板，更别说其他家具了。"},"任务&事件文本",null,2278]
[2279,{"$f":"_xlfn.TEXTJOIN(\"\",1,IFERROR(VLOOKUP(A2282,[1]EventConfig!$T:$V,3,FALSE),\"\"),IFERROR(VLOOKUP(A2282,[1]EventConfig!$U:$W,3,FALSE),\"\"),IFERROR(VLOOKUP(A2282,[1]EventLinkConfig!$B:$C,2,FALSE),\"\"),IFERROR(VLOOKUP(A2282,[1]EventLinkConfig!$D:$E,2,FALSE),\"\"),IFERROR(VLOOKUP(A2282,[1]EventLinkConfig!$L:$M,2,FALSE),\"\"),IFERROR(VLOOKUP(A2282,[1]EventLinkConfig!$X:$Y,2,FALSE),\"\"),IFERROR(VLOOKUP(A2282,[1]EventLinkConfig!$AA:$AB,2,FALSE),\"\"),IFERROR(VLOOKUP(A2282,[1]EventConditionConfig!$B:$D,3,FALSE),\"\"))","v":"没错，我是木匠，此树木质发涩发腥，连漆都涂不上，当真无用。"},"任务&事件文本",null,2279]
[2280,{"$f":"_xlfn.TEXTJOIN(\"\",1,IFERROR(VLOOKUP(A2283,[1]EventConfig!$T:$V,3,FALSE),\"\"),IFERROR(VLOOKUP(A2283,[1]EventConfig!$U:$W,3,FALSE),\"\"),IFERROR(VLOOKUP(A2283,[1]EventLinkConfig!$B:$C,2,FALSE),\"\"),IFERROR(VLOOKUP(A2283,[1]EventLinkConfig!$D:$E,2,FALSE),\"\"),IFERROR(VLOOKUP(A2283,[1]EventLinkConfig!$L:$M,2,FALSE),\"\"),IFERROR(VLOOKUP(A2283,[1]EventLinkConfig!$X:$Y,2,FALSE),\"\"),IFERROR(VLOOKUP(A2283,[1]EventLinkConfig!$AA:$AB,2,FALSE),\"\"),IFERROR(VLOOKUP(A2283,[1]EventConditionConfig!$B:$D,3,FALSE),\"\"))","v":"此树如此之大，真的毫无用处吗？\n此树看起来有数千年了。"},"任务&事件文本",null,2280]
[2281,{"$f":"_xlfn.TEXTJOIN(\"\",1,IFERROR(VLOOKUP(A2284,[1]EventConfig!$T:$V,3,FALSE),\"\"),IFERROR(VLOOKUP(A2284,[1]EventConfig!$U:$W,3,FALSE),\"\"),IFERROR(VLOOKUP(A2284,[1]EventLinkConfig!$B:$C,2,FALSE),\"\"),IFERROR(VLOOKUP(A2284,[1]EventLinkConfig!$D:$E,2,FALSE),\"\"),IFERROR(VLOOKUP(A2284,[1]EventLinkConfig!$L:$M,2,FALSE),\"\"),IFERROR(VLOOKUP(A2284,[1]EventLinkConfig!$X:$Y,2,FALSE),\"\"),IFERROR(VLOOKUP(A2284,[1]EventLinkConfig!$AA:$AB,2,FALSE),\"\"),IFERROR(VLOOKUP(A2284,[1]EventConditionConfig!$B:$D,3,FALSE),\"\"))","v":"（见村民纷纷离开了，你靠近大树）"},"任务&事件文本",null,2281]
[2282,{"$f":"_xlfn.TEXTJOIN(\"\",1,IFERROR(VLOOKUP(A2285,[1]EventConfig!$T:$V,3,FALSE),\"\"),IFERROR(VLOOKUP(A2285,[1]EventConfig!$U:$W,3,FALSE),\"\"),IFERROR(VLOOKUP(A2285,[1]EventLinkConfig!$B:$C,2,FALSE),\"\"),IFERROR(VLOOKUP(A2285,[1]EventLinkConfig!$D:$E,2,FALSE),\"\"),IFERROR(VLOOKUP(A2285,[1]EventLinkConfig!$L:$M,2,FALSE),\"\"),IFERROR(VLOOKUP(A2285,[1]EventLinkConfig!$X:$Y,2,FALSE),\"\"),IFERROR(VLOOKUP(A2285,[1]EventLinkConfig!$AA:$AB,2,FALSE),\"\"),IFERROR(VLOOKUP(A2285,[1]EventConditionConfig!$B:$D,3,FALSE),\"\"))","v":"（低沉悠远的声音）我是樗。\n世人见我歪斜，粗大，笑我无用……"},"任务&事件文本",null,2282]
[2283,{"$f":"_xlfn.TEXTJOIN(\"\",1,IFERROR(VLOOKUP(A2286,[1]EventConfig!$T:$V,3,FALSE),\"\"),IFERROR(VLOOKUP(A2286,[1]EventConfig!$U:$W,3,FALSE),\"\"),IFERROR(VLOOKUP(A2286,[1]EventLinkConfig!$B:$C,2,FALSE),\"\"),IFERROR(VLOOKUP(A2286,[1]EventLinkConfig!$D:$E,2,FALSE),\"\"),IFERROR(VLOOKUP(A2286,[1]EventLinkConfig!$L:$M,2,FALSE),\"\"),IFERROR(VLOOKUP(A2286,[1]EventLinkConfig!$X:$Y,2,FALSE),\"\"),IFERROR(VLOOKUP(A2286,[1]EventLinkConfig!$AA:$AB,2,FALSE),\"\"),IFERROR(VLOOKUP(A2286,[1]EventConditionConfig!$B:$D,3,FALSE),\"\"))","v":"可他们不知，正是这‘无用’，让我活过三千年。"},"任务&事件文本",null,2283]
[2284,{"$f":"_xlfn.TEXTJOIN(\"\",1,IFERROR(VLOOKUP(A2287,[1]EventConfig!$T:$V,3,FALSE),\"\"),IFERROR(VLOOKUP(A2287,[1]EventConfig!$U:$W,3,FALSE),\"\"),IFERROR(VLOOKUP(A2287,[1]EventLinkConfig!$B:$C,2,FALSE),\"\"),IFERROR(VLOOKUP(A2287,[1]EventLinkConfig!$D:$E,2,FALSE),\"\"),IFERROR(VLOOKUP(A2287,[1]EventLinkConfig!$L:$M,2,FALSE),\"\"),IFERROR(VLOOKUP(A2287,[1]EventLinkConfig!$X:$Y,2,FALSE),\"\"),IFERROR(VLOOKUP(A2287,[1]EventLinkConfig!$AA:$AB,2,FALSE),\"\"),IFERROR(VLOOKUP(A2287,[1]EventConditionConfig!$B:$D,3,FALSE),\"\"))","v":"那你可曾遗憾？毕竟无人欣赏你。"},"任务&事件文本",null,2284]
[2285,{"$f":"_xlfn.TEXTJOIN(\"\",1,IFERROR(VLOOKUP(A2288,[1]EventConfig!$T:$V,3,FALSE),\"\"),IFERROR(VLOOKUP(A2288,[1]EventConfig!$U:$W,3,FALSE),\"\"),IFERROR(VLOOKUP(A2288,[1]EventLinkConfig!$B:$C,2,FALSE),\"\"),IFERROR(VLOOKUP(A2288,[1]EventLinkConfig!$D:$E,2,FALSE),\"\"),IFERROR(VLOOKUP(A2288,[1]EventLinkConfig!$L:$M,2,FALSE),\"\"),IFERROR(VLOOKUP(A2288,[1]EventLinkConfig!$X:$Y,2,FALSE),\"\"),IFERROR(VLOOKUP(A2288,[1]EventLinkConfig!$AA:$AB,2,FALSE),\"\"),IFERROR(VLOOKUP(A2288,[1]EventConditionConfig!$B:$D,3,FALSE),\"\"))","v":"（枝叶轻摇）欣赏？那些笔直的楠木，被伐去做梁柱，不过百年；"},"任务&事件文本",null,2285]
[2286,{"$f":"_xlfn.TEXTJOIN(\"\",1,IFERROR(VLOOKUP(A2289,[1]EventConfig!$T:$V,3,FALSE),\"\"),IFERROR(VLOOKUP(A2289,[1]EventConfig!$U:$W,3,FALSE),\"\"),IFERROR(VLOOKUP(A2289,[1]EventLinkConfig!$B:$C,2,FALSE),\"\"),IFERROR(VLOOKUP(A2289,[1]EventLinkConfig!$D:$E,2,FALSE),\"\"),IFERROR(VLOOKUP(A2289,[1]EventLinkConfig!$L:$M,2,FALSE),\"\"),IFERROR(VLOOKUP(A2289,[1]EventLinkConfig!$X:$Y,2,FALSE),\"\"),IFERROR(VLOOKUP(A2289,[1]EventLinkConfig!$AA:$AB,2,FALSE),\"\"),IFERROR(VLOOKUP(A2289,[1]EventConditionConfig!$B:$D,3,FALSE),\"\"))","v":"那些秀美的花树，被移栽进庭院，也不过百年。"},"任务&事件文本",null,2286]
[2287,{"$f":"_xlfn.TEXTJOIN(\"\",1,IFERROR(VLOOKUP(A2290,[1]EventConfig!$T:$V,3,FALSE),\"\"),IFERROR(VLOOKUP(A2290,[1]EventConfig!$U:$W,3,FALSE),\"\"),IFERROR(VLOOKUP(A2290,[1]EventLinkConfig!$B:$C,2,FALSE),\"\"),IFERROR(VLOOKUP(A2290,[1]EventLinkConfig!$D:$E,2,FALSE),\"\"),IFERROR(VLOOKUP(A2290,[1]EventLinkConfig!$L:$M,2,FALSE),\"\"),IFERROR(VLOOKUP(A2290,[1]EventLinkConfig!$X:$Y,2,FALSE),\"\"),IFERROR(VLOOKUP(A2290,[1]EventLinkConfig!$AA:$AB,2,FALSE),\"\"),IFERROR(VLOOKUP(A2290,[1]EventConditionConfig!$B:$D,3,FALSE),\"\"))","v":"而我，仍在此处，看春去秋来，听风过林梢，不亦乐乎？"},"任务&事件文本",null,2287]
[2288,{"$f":"_xlfn.TEXTJOIN(\"\",1,IFERROR(VLOOKUP(A2291,[1]EventConfig!$T:$V,3,FALSE),\"\"),IFERROR(VLOOKUP(A2291,[1]EventConfig!$U:$W,3,FALSE),\"\"),IFERROR(VLOOKUP(A2291,[1]EventLinkConfig!$B:$C,2,FALSE),\"\"),IFERROR(VLOOKUP(A2291,[1]EventLinkConfig!$D:$E,2,FALSE),\"\"),IFERROR(VLOOKUP(A2291,[1]EventLinkConfig!$L:$M,2,FALSE),\"\"),IFERROR(VLOOKUP(A2291,[1]EventLinkConfig!$X:$Y,2,FALSE),\"\"),IFERROR(VLOOKUP(A2291,[1]EventLinkConfig!$AA:$AB,2,FALSE),\"\"),IFERROR(VLOOKUP(A2291,[1]EventConditionConfig!$B:$D,3,FALSE),\"\"))","v":"可你终究只是一棵树，不能动，不能说话"},"任务&事件文本",null,2288]
[2289,{"$f":"_xlfn.TEXTJOIN(\"\",1,IFERROR(VLOOKUP(A2292,[1]EventConfig!$T:$V,3,FALSE),\"\"),IFERROR(VLOOKUP(A2292,[1]EventConfig!$U:$W,3,FALSE),\"\"),IFERROR(VLOOKUP(A2292,[1]EventLinkConfig!$B:$C,2,FALSE),\"\"),IFERROR(VLOOKUP(A2292,[1]EventLinkConfig!$D:$E,2,FALSE),\"\"),IFERROR(VLOOKUP(A2292,[1]EventLinkConfig!$L:$M,2,FALSE),\"\"),IFERROR(VLOOKUP(A2292,[1]EventLinkConfig!$X:$Y,2,FALSE),\"\"),IFERROR(VLOOKUP(A2292,[1]EventLinkConfig!$AA:$AB,2,FALSE),\"\"),IFERROR(VLOOKUP(A2292,[1]EventConditionConfig!$B:$D,3,FALSE),\"\"))","v":"（树皮浮现苍老面容）动？说话？\n数千年过去，我早已有灵智，可以说话。"},"任务&事件文本",null,2289]
[2290,{"$f":"_xlfn.TEXTJOIN(\"\",1,IFERROR(VLOOKUP(A2293,[1]EventConfig!$T:$V,3,FALSE),\"\"),IFERROR(VLOOKUP(A2293,[1]EventConfig!$U:$W,3,FALSE),\"\"),IFERROR(VLOOKUP(A2293,[1]EventLinkConfig!$B:$C,2,FALSE),\"\"),IFERROR(VLOOKUP(A2293,[1]EventLinkConfig!$D:$E,2,FALSE),\"\"),IFERROR(VLOOKUP(A2293,[1]EventLinkConfig!$L:$M,2,FALSE),\"\"),IFERROR(VLOOKUP(A2293,[1]EventLinkConfig!$X:$Y,2,FALSE),\"\"),IFERROR(VLOOKUP(A2293,[1]EventLinkConfig!$AA:$AB,2,FALSE),\"\"),IFERROR(VLOOKUP(A2293,[1]EventConditionConfig!$B:$D,3,FALSE),\"\"))","v":"不过我确实好久没动过了，小友，今日与你有缘，不如陪我动一动。"},"任务&事件文本",null,2290]
[2291,{"$f":"_xlfn.TEXTJOIN(\"\",1,IFERROR(VLOOKUP(A2294,[1]EventConfig!$T:$V,3,FALSE),\"\"),IFERROR(VLOOKUP(A2294,[1]EventConfig!$U:$W,3,FALSE),\"\"),IFERROR(VLOOKUP(A2294,[1]EventLinkConfig!$B:$C,2,FALSE),\"\"),IFERROR(VLOOKUP(A2294,[1]EventLinkConfig!$D:$E,2,FALSE),\"\"),IFERROR(VLOOKUP(A2294,[1]EventLinkConfig!$L:$M,2,FALSE),\"\"),IFERROR(VLOOKUP(A2294,[1]EventLinkConfig!$X:$Y,2,FALSE),\"\"),IFERROR(VLOOKUP(A2294,[1]EventLinkConfig!$AA:$AB,2,FALSE),\"\"),IFERROR(VLOOKUP(A2294,[1]EventConditionConfig!$B:$D,3,FALSE),\"\"))","v":"不好...这是要找我打架.."},"任务&事件文本",null,2291]
[2292,{"$f":"_xlfn.TEXTJOIN(\"\",1,IFERROR(VLOOKUP(A2295,[1]EventConfig!$T:$V,3,FALSE),\"\"),IFERROR(VLOOKUP(A2295,[1]EventConfig!$U:$W,3,FALSE),\"\"),IFERROR(VLOOKUP(A2295,[1]EventLinkConfig!$B:$C,2,FALSE),\"\"),IFERROR(VLOOKUP(A2295,[1]EventLinkConfig!$D:$E,2,FALSE),\"\"),IFERROR(VLOOKUP(A2295,[1]EventLinkConfig!$L:$M,2,FALSE),\"\"),IFERROR(VLOOKUP(A2295,[1]EventLinkConfig!$X:$Y,2,FALSE),\"\"),IFERROR(VLOOKUP(A2295,[1]EventLinkConfig!$AA:$AB,2,FALSE),\"\"),IFERROR(VLOOKUP(A2295,[1]EventConditionConfig!$B:$D,3,FALSE),\"\"))","v":"击败樗木之灵"},"任务&事件文本",null,2292]
[2293,{"$f":"_xlfn.TEXTJOIN(\"\",1,IFERROR(VLOOKUP(A2296,[1]EventConfig!$T:$V,3,FALSE),\"\"),IFERROR(VLOOKUP(A2296,[1]EventConfig!$U:$W,3,FALSE),\"\"),IFERROR(VLOOKUP(A2296,[1]EventLinkConfig!$B:$C,2,FALSE),\"\"),IFERROR(VLOOKUP(A2296,[1]EventLinkConfig!$D:$E,2,FALSE),\"\"),IFERROR(VLOOKUP(A2296,[1]EventLinkConfig!$L:$M,2,FALSE),\"\"),IFERROR(VLOOKUP(A2296,[1]EventLinkConfig!$X:$Y,2,FALSE),\"\"),IFERROR(VLOOKUP(A2296,[1]EventLinkConfig!$AA:$AB,2,FALSE),\"\"),IFERROR(VLOOKUP(A2296,[1]EventConditionConfig!$B:$D,3,FALSE),\"\"))","v":"击败樗木之灵"},"任务&事件文本",null,2293]
[2294,{"$f":"_xlfn.TEXTJOIN(\"\",1,IFERROR(VLOOKUP(A2297,[1]EventConfig!$T:$V,3,FALSE),\"\"),IFERROR(VLOOKUP(A2297,[1]EventConfig!$U:$W,3,FALSE),\"\"),IFERROR(VLOOKUP(A2297,[1]EventLinkConfig!$B:$C,2,FALSE),\"\"),IFERROR(VLOOKUP(A2297,[1]EventLinkConfig!$D:$E,2,FALSE),\"\"),IFERROR(VLOOKUP(A2297,[1]EventLinkConfig!$L:$M,2,FALSE),\"\"),IFERROR(VLOOKUP(A2297,[1]EventLinkConfig!$X:$Y,2,FALSE),\"\"),IFERROR(VLOOKUP(A2297,[1]EventLinkConfig!$AA:$AB,2,FALSE),\"\"),IFERROR(VLOOKUP(A2297,[1]EventConditionConfig!$B:$D,3,FALSE),\"\"))","v":"境界达到[金丹-前期]"},"任务&事件文本",null,2294]
[2295,{"$f":"_xlfn.TEXTJOIN(\"\",1,IFERROR(VLOOKUP(A2298,[1]EventConfig!$T:$V,3,FALSE),\"\"),IFERROR(VLOOKUP(A2298,[1]EventConfig!$U:$W,3,FALSE),\"\"),IFERROR(VLOOKUP(A2298,[1]EventLinkConfig!$B:$C,2,FALSE),\"\"),IFERROR(VLOOKUP(A2298,[1]EventLinkConfig!$D:$E,2,FALSE),\"\"),IFERROR(VLOOKUP(A2298,[1]EventLinkConfig!$L:$M,2,FALSE),\"\"),IFERROR(VLOOKUP(A2298,[1]EventLinkConfig!$X:$Y,2,FALSE),\"\"),IFERROR(VLOOKUP(A2298,[1]EventLinkConfig!$AA:$AB,2,FALSE),\"\"),IFERROR(VLOOKUP(A2298,[1]EventConditionConfig!$B:$D,3,FALSE),\"\"))","v":"此处奇遇众多，灵气充裕，就留在此处修行，达到筑基巅峰吧。"},"任务&事件文本",null,2295]
[2296,{"$f":"_xlfn.TEXTJOIN(\"\",1,IFERROR(VLOOKUP(A2299,[1]EventConfig!$T:$V,3,FALSE),\"\"),IFERROR(VLOOKUP(A2299,[1]EventConfig!$U:$W,3,FALSE),\"\"),IFERROR(VLOOKUP(A2299,[1]EventLinkConfig!$B:$C,2,FALSE),\"\"),IFERROR(VLOOKUP(A2299,[1]EventLinkConfig!$D:$E,2,FALSE),\"\"),IFERROR(VLOOKUP(A2299,[1]EventLinkConfig!$L:$M,2,FALSE),\"\"),IFERROR(VLOOKUP(A2299,[1]EventLinkConfig!$X:$Y,2,FALSE),\"\"),IFERROR(VLOOKUP(A2299,[1]EventLinkConfig!$AA:$AB,2,FALSE),\"\"),IFERROR(VLOOKUP(A2299,[1]EventConditionConfig!$B:$D,3,FALSE),\"\"))","v":"此地果真是好地方，修为又有精进。"},"任务&事件文本",null,2296]
[2297,{"$f":"_xlfn.TEXTJOIN(\"\",1,IFERROR(VLOOKUP(A2300,[1]EventConfig!$T:$V,3,FALSE),\"\"),IFERROR(VLOOKUP(A2300,[1]EventConfig!$U:$W,3,FALSE),\"\"),IFERROR(VLOOKUP(A2300,[1]EventLinkConfig!$B:$C,2,FALSE),\"\"),IFERROR(VLOOKUP(A2300,[1]EventLinkConfig!$D:$E,2,FALSE),\"\"),IFERROR(VLOOKUP(A2300,[1]EventLinkConfig!$L:$M,2,FALSE),\"\"),IFERROR(VLOOKUP(A2300,[1]EventLinkConfig!$X:$Y,2,FALSE),\"\"),IFERROR(VLOOKUP(A2300,[1]EventLinkConfig!$AA:$AB,2,FALSE),\"\"),IFERROR(VLOOKUP(A2300,[1]EventConditionConfig!$B:$D,3,FALSE),\"\"))","v":"不过想要达到更高的境界，突破冲虚说的什么心境，还需继续修行。"},"任务&事件文本",null,2297]
[2298,{"$f":"_xlfn.TEXTJOIN(\"\",1,IFERROR(VLOOKUP(A2301,[1]EventConfig!$T:$V,3,FALSE),\"\"),IFERROR(VLOOKUP(A2301,[1]EventConfig!$U:$W,3,FALSE),\"\"),IFERROR(VLOOKUP(A2301,[1]EventLinkConfig!$B:$C,2,FALSE),\"\"),IFERROR(VLOOKUP(A2301,[1]EventLinkConfig!$D:$E,2,FALSE),\"\"),IFERROR(VLOOKUP(A2301,[1]EventLinkConfig!$L:$M,2,FALSE),\"\"),IFERROR(VLOOKUP(A2301,[1]EventLinkConfig!$X:$Y,2,FALSE),\"\"),IFERROR(VLOOKUP(A2301,[1]EventLinkConfig!$AA:$AB,2,FALSE),\"\"),IFERROR(VLOOKUP(A2301,[1]EventConditionConfig!$B:$D,3,FALSE),\"\"))","v":"是时候离开了，去问问尧帝有何建议。"},"任务&事件文本",null,2298]
[2299,{"$f":"_xlfn.TEXTJOIN(\"\",1,IFERROR(VLOOKUP(A2302,[1]EventConfig!$T:$V,3,FALSE),\"\"),IFERROR(VLOOKUP(A2302,[1]EventConfig!$U:$W,3,FALSE),\"\"),IFERROR(VLOOKUP(A2302,[1]EventLinkConfig!$B:$C,2,FALSE),\"\"),IFERROR(VLOOKUP(A2302,[1]EventLinkConfig!$D:$E,2,FALSE),\"\"),IFERROR(VLOOKUP(A2302,[1]EventLinkConfig!$L:$M,2,FALSE),\"\"),IFERROR(VLOOKUP(A2302,[1]EventLinkConfig!$X:$Y,2,FALSE),\"\"),IFERROR(VLOOKUP(A2302,[1]EventLinkConfig!$AA:$AB,2,FALSE),\"\"),IFERROR(VLOOKUP(A2302,[1]EventConditionConfig!$B:$D,3,FALSE),\"\"))","v":"仙山传说"},"任务&事件文本",null,2299]
[2300,{"$f":"_xlfn.TEXTJOIN(\"\",1,IFERROR(VLOOKUP(A2303,[1]EventConfig!$T:$V,3,FALSE),\"\"),IFERROR(VLOOKUP(A2303,[1]EventConfig!$U:$W,3,FALSE),\"\"),IFERROR(VLOOKUP(A2303,[1]EventLinkConfig!$B:$C,2,FALSE),\"\"),IFERROR(VLOOKUP(A2303,[1]EventLinkConfig!$D:$E,2,FALSE),\"\"),IFERROR(VLOOKUP(A2303,[1]EventLinkConfig!$L:$M,2,FALSE),\"\"),IFERROR(VLOOKUP(A2303,[1]EventLinkConfig!$X:$Y,2,FALSE),\"\"),IFERROR(VLOOKUP(A2303,[1]EventLinkConfig!$AA:$AB,2,FALSE),\"\"),IFERROR(VLOOKUP(A2303,[1]EventConditionConfig!$B:$D,3,FALSE),\"\"))","v":"（高兴）小友，你来了。"},"任务&事件文本",null,2300]
[2301,{"$f":"_xlfn.TEXTJOIN(\"\",1,IFERROR(VLOOKUP(A2304,[1]EventConfig!$T:$V,3,FALSE),\"\"),IFERROR(VLOOKUP(A2304,[1]EventConfig!$U:$W,3,FALSE),\"\"),IFERROR(VLOOKUP(A2304,[1]EventLinkConfig!$B:$C,2,FALSE),\"\"),IFERROR(VLOOKUP(A2304,[1]EventLinkConfig!$D:$E,2,FALSE),\"\"),IFERROR(VLOOKUP(A2304,[1]EventLinkConfig!$L:$M,2,FALSE),\"\"),IFERROR(VLOOKUP(A2304,[1]EventLinkConfig!$X:$Y,2,FALSE),\"\"),IFERROR(VLOOKUP(A2304,[1]EventLinkConfig!$AA:$AB,2,FALSE),\"\"),IFERROR(VLOOKUP(A2304,[1]EventConditionConfig!$B:$D,3,FALSE),\"\"))","v":"数月不见，你已入筑基巅峰，距离结丹，也是指日可待！"},"任务&事件文本",null,2301]
[2302,{"$f":"_xlfn.TEXTJOIN(\"\",1,IFERROR(VLOOKUP(A2305,[1]EventConfig!$T:$V,3,FALSE),\"\"),IFERROR(VLOOKUP(A2305,[1]EventConfig!$U:$W,3,FALSE),\"\"),IFERROR(VLOOKUP(A2305,[1]EventLinkConfig!$B:$C,2,FALSE),\"\"),IFERROR(VLOOKUP(A2305,[1]EventLinkConfig!$D:$E,2,FALSE),\"\"),IFERROR(VLOOKUP(A2305,[1]EventLinkConfig!$L:$M,2,FALSE),\"\"),IFERROR(VLOOKUP(A2305,[1]EventLinkConfig!$X:$Y,2,FALSE),\"\"),IFERROR(VLOOKUP(A2305,[1]EventLinkConfig!$AA:$AB,2,FALSE),\"\"),IFERROR(VLOOKUP(A2305,[1]EventConditionConfig!$B:$D,3,FALSE),\"\"))","v":"多谢尧帝，我是来辞行的，也想打听一下，关于“七道心境”的更多线索"},"任务&事件文本",null,2302]
[2303,{"$f":"_xlfn.TEXTJOIN(\"\",1,IFERROR(VLOOKUP(A2306,[1]EventConfig!$T:$V,3,FALSE),\"\"),IFERROR(VLOOKUP(A2306,[1]EventConfig!$U:$W,3,FALSE),\"\"),IFERROR(VLOOKUP(A2306,[1]EventLinkConfig!$B:$C,2,FALSE),\"\"),IFERROR(VLOOKUP(A2306,[1]EventLinkConfig!$D:$E,2,FALSE),\"\"),IFERROR(VLOOKUP(A2306,[1]EventLinkConfig!$L:$M,2,FALSE),\"\"),IFERROR(VLOOKUP(A2306,[1]EventLinkConfig!$X:$Y,2,FALSE),\"\"),IFERROR(VLOOKUP(A2306,[1]EventLinkConfig!$AA:$AB,2,FALSE),\"\"),IFERROR(VLOOKUP(A2306,[1]EventConditionConfig!$B:$D,3,FALSE),\"\"))","v":"小友，你可曾听过‘藐姑射山’"},"任务&事件文本",null,2303]
[2304,{"$f":"_xlfn.TEXTJOIN(\"\",1,IFERROR(VLOOKUP(A2307,[1]EventConfig!$T:$V,3,FALSE),\"\"),IFERROR(VLOOKUP(A2307,[1]EventConfig!$U:$W,3,FALSE),\"\"),IFERROR(VLOOKUP(A2307,[1]EventLinkConfig!$B:$C,2,FALSE),\"\"),IFERROR(VLOOKUP(A2307,[1]EventLinkConfig!$D:$E,2,FALSE),\"\"),IFERROR(VLOOKUP(A2307,[1]EventLinkConfig!$L:$M,2,FALSE),\"\"),IFERROR(VLOOKUP(A2307,[1]EventLinkConfig!$X:$Y,2,FALSE),\"\"),IFERROR(VLOOKUP(A2307,[1]EventLinkConfig!$AA:$AB,2,FALSE),\"\"),IFERROR(VLOOKUP(A2307,[1]EventConditionConfig!$B:$D,3,FALSE),\"\"))","v":"未曾听闻，请前辈指点。"},"任务&事件文本",null,2304]
[2305,{"$f":"_xlfn.TEXTJOIN(\"\",1,IFERROR(VLOOKUP(A2308,[1]EventConfig!$T:$V,3,FALSE),\"\"),IFERROR(VLOOKUP(A2308,[1]EventConfig!$U:$W,3,FALSE),\"\"),IFERROR(VLOOKUP(A2308,[1]EventLinkConfig!$B:$C,2,FALSE),\"\"),IFERROR(VLOOKUP(A2308,[1]EventLinkConfig!$D:$E,2,FALSE),\"\"),IFERROR(VLOOKUP(A2308,[1]EventLinkConfig!$L:$M,2,FALSE),\"\"),IFERROR(VLOOKUP(A2308,[1]EventLinkConfig!$X:$Y,2,FALSE),\"\"),IFERROR(VLOOKUP(A2308,[1]EventLinkConfig!$AA:$AB,2,FALSE),\"\"),IFERROR(VLOOKUP(A2308,[1]EventConditionConfig!$B:$D,3,FALSE),\"\"))","v":"莫非是传说中的仙人居所？"},"任务&事件文本",null,2305]
[2306,{"$f":"_xlfn.TEXTJOIN(\"\",1,IFERROR(VLOOKUP(A2309,[1]EventConfig!$T:$V,3,FALSE),\"\"),IFERROR(VLOOKUP(A2309,[1]EventConfig!$U:$W,3,FALSE),\"\"),IFERROR(VLOOKUP(A2309,[1]EventLinkConfig!$B:$C,2,FALSE),\"\"),IFERROR(VLOOKUP(A2309,[1]EventLinkConfig!$D:$E,2,FALSE),\"\"),IFERROR(VLOOKUP(A2309,[1]EventLinkConfig!$L:$M,2,FALSE),\"\"),IFERROR(VLOOKUP(A2309,[1]EventLinkConfig!$X:$Y,2,FALSE),\"\"),IFERROR(VLOOKUP(A2309,[1]EventLinkConfig!$AA:$AB,2,FALSE),\"\"),IFERROR(VLOOKUP(A2309,[1]EventConditionConfig!$B:$D,3,FALSE),\"\"))","v":"此山在尧都之北，云雾缭绕，凡人难见。当年我巡狩天下，偶遇山中神人……\n（尧帝眼神恍惚，似陷入回忆）"},"任务&事件文本",null,{"$f":"A2309","v":2306}]
[2307,{"$f":"_xlfn.TEXTJOIN(\"\",1,IFERROR(VLOOKUP(A2310,[1]EventConfig!$T:$V,3,FALSE),\"\"),IFERROR(VLOOKUP(A2310,[1]EventConfig!$U:$W,3,FALSE),\"\"),IFERROR(VLOOKUP(A2310,[1]EventLinkConfig!$B:$C,2,FALSE),\"\"),IFERROR(VLOOKUP(A2310,[1]EventLinkConfig!$D:$E,2,FALSE),\"\"),IFERROR(VLOOKUP(A2310,[1]EventLinkConfig!$L:$M,2,FALSE),\"\"),IFERROR(VLOOKUP(A2310,[1]EventLinkConfig!$X:$Y,2,FALSE),\"\"),IFERROR(VLOOKUP(A2310,[1]EventLinkConfig!$AA:$AB,2,FALSE),\"\"),IFERROR(VLOOKUP(A2310,[1]EventConditionConfig!$B:$D,3,FALSE),\"\"))","v":"不错。山中神人，她皮肤润白像冰雪，体态柔美如年轻的女子，不食五谷，吸清风饮甘露，乘云气驾飞龙，遨游于四海之外。"},"任务&事件文本",null,2307]
[2308,{"$f":"_xlfn.TEXTJOIN(\"\",1,IFERROR(VLOOKUP(A2311,[1]EventConfig!$T:$V,3,FALSE),\"\"),IFERROR(VLOOKUP(A2311,[1]EventConfig!$U:$W,3,FALSE),\"\"),IFERROR(VLOOKUP(A2311,[1]EventLinkConfig!$B:$C,2,FALSE),\"\"),IFERROR(VLOOKUP(A2311,[1]EventLinkConfig!$D:$E,2,FALSE),\"\"),IFERROR(VLOOKUP(A2311,[1]EventLinkConfig!$L:$M,2,FALSE),\"\"),IFERROR(VLOOKUP(A2311,[1]EventLinkConfig!$X:$Y,2,FALSE),\"\"),IFERROR(VLOOKUP(A2311,[1]EventLinkConfig!$AA:$AB,2,FALSE),\"\"),IFERROR(VLOOKUP(A2311,[1]EventConditionConfig!$B:$D,3,FALSE),\"\"))","v":"当年见到神人时，我已是一都之君。可在她面前，自觉渺小如尘沙，治理的天下如同儿戏一般。"},"任务&事件文本",null,2308]
[2309,{"$f":"_xlfn.TEXTJOIN(\"\",1,IFERROR(VLOOKUP(A2312,[1]EventConfig!$T:$V,3,FALSE),\"\"),IFERROR(VLOOKUP(A2312,[1]EventConfig!$U:$W,3,FALSE),\"\"),IFERROR(VLOOKUP(A2312,[1]EventLinkConfig!$B:$C,2,FALSE),\"\"),IFERROR(VLOOKUP(A2312,[1]EventLinkConfig!$D:$E,2,FALSE),\"\"),IFERROR(VLOOKUP(A2312,[1]EventLinkConfig!$L:$M,2,FALSE),\"\"),IFERROR(VLOOKUP(A2312,[1]EventLinkConfig!$X:$Y,2,FALSE),\"\"),IFERROR(VLOOKUP(A2312,[1]EventLinkConfig!$AA:$AB,2,FALSE),\"\"),IFERROR(VLOOKUP(A2312,[1]EventConditionConfig!$B:$D,3,FALSE),\"\"))","v":"甚至连开口说话，都没有勇气…"},"任务&事件文本",null,2309]
[2310,{"$f":"_xlfn.TEXTJOIN(\"\",1,IFERROR(VLOOKUP(A2313,[1]EventConfig!$T:$V,3,FALSE),\"\"),IFERROR(VLOOKUP(A2313,[1]EventConfig!$U:$W,3,FALSE),\"\"),IFERROR(VLOOKUP(A2313,[1]EventLinkConfig!$B:$C,2,FALSE),\"\"),IFERROR(VLOOKUP(A2313,[1]EventLinkConfig!$D:$E,2,FALSE),\"\"),IFERROR(VLOOKUP(A2313,[1]EventLinkConfig!$L:$M,2,FALSE),\"\"),IFERROR(VLOOKUP(A2313,[1]EventLinkConfig!$X:$Y,2,FALSE),\"\"),IFERROR(VLOOKUP(A2313,[1]EventLinkConfig!$AA:$AB,2,FALSE),\"\"),IFERROR(VLOOKUP(A2313,[1]EventConditionConfig!$B:$D,3,FALSE),\"\"))","v":"......"},"任务&事件文本",null,2310]
[2311,{"$f":"_xlfn.TEXTJOIN(\"\",1,IFERROR(VLOOKUP(A2314,[1]EventConfig!$T:$V,3,FALSE),\"\"),IFERROR(VLOOKUP(A2314,[1]EventConfig!$U:$W,3,FALSE),\"\"),IFERROR(VLOOKUP(A2314,[1]EventLinkConfig!$B:$C,2,FALSE),\"\"),IFERROR(VLOOKUP(A2314,[1]EventLinkConfig!$D:$E,2,FALSE),\"\"),IFERROR(VLOOKUP(A2314,[1]EventLinkConfig!$L:$M,2,FALSE),\"\"),IFERROR(VLOOKUP(A2314,[1]EventLinkConfig!$X:$Y,2,FALSE),\"\"),IFERROR(VLOOKUP(A2314,[1]EventLinkConfig!$AA:$AB,2,FALSE),\"\"),IFERROR(VLOOKUP(A2314,[1]EventConditionConfig!$B:$D,3,FALSE),\"\"))","v":"连尧帝都如此敬畏，那神人究竟何等境界？"},"任务&事件文本",null,2311]
[2312,{"$f":"_xlfn.TEXTJOIN(\"\",1,IFERROR(VLOOKUP(A2315,[1]EventConfig!$T:$V,3,FALSE),\"\"),IFERROR(VLOOKUP(A2315,[1]EventConfig!$U:$W,3,FALSE),\"\"),IFERROR(VLOOKUP(A2315,[1]EventLinkConfig!$B:$C,2,FALSE),\"\"),IFERROR(VLOOKUP(A2315,[1]EventLinkConfig!$D:$E,2,FALSE),\"\"),IFERROR(VLOOKUP(A2315,[1]EventLinkConfig!$L:$M,2,FALSE),\"\"),IFERROR(VLOOKUP(A2315,[1]EventLinkConfig!$X:$Y,2,FALSE),\"\"),IFERROR(VLOOKUP(A2315,[1]EventLinkConfig!$AA:$AB,2,FALSE),\"\"),IFERROR(VLOOKUP(A2315,[1]EventConditionConfig!$B:$D,3,FALSE),\"\"))","v":"我也不知..你可前去寻觅，如有缘遇见，定能提升修为，突破心境。"},"任务&事件文本",null,2312]
[2313,{"$f":"_xlfn.TEXTJOIN(\"\",1,IFERROR(VLOOKUP(A2316,[1]EventConfig!$T:$V,3,FALSE),\"\"),IFERROR(VLOOKUP(A2316,[1]EventConfig!$U:$W,3,FALSE),\"\"),IFERROR(VLOOKUP(A2316,[1]EventLinkConfig!$B:$C,2,FALSE),\"\"),IFERROR(VLOOKUP(A2316,[1]EventLinkConfig!$D:$E,2,FALSE),\"\"),IFERROR(VLOOKUP(A2316,[1]EventLinkConfig!$L:$M,2,FALSE),\"\"),IFERROR(VLOOKUP(A2316,[1]EventLinkConfig!$X:$Y,2,FALSE),\"\"),IFERROR(VLOOKUP(A2316,[1]EventLinkConfig!$AA:$AB,2,FALSE),\"\"),IFERROR(VLOOKUP(A2316,[1]EventConditionConfig!$B:$D,3,FALSE),\"\"))","v":"你手中的逍遥铃，绝非凡物，跟着它的指引，应该能找到藐姑射山。"},"任务&事件文本",null,2313]
[2314,{"$f":"_xlfn.TEXTJOIN(\"\",1,IFERROR(VLOOKUP(A2317,[1]EventConfig!$T:$V,3,FALSE),\"\"),IFERROR(VLOOKUP(A2317,[1]EventConfig!$U:$W,3,FALSE),\"\"),IFERROR(VLOOKUP(A2317,[1]EventLinkConfig!$B:$C,2,FALSE),\"\"),IFERROR(VLOOKUP(A2317,[1]EventLinkConfig!$D:$E,2,FALSE),\"\"),IFERROR(VLOOKUP(A2317,[1]EventLinkConfig!$L:$M,2,FALSE),\"\"),IFERROR(VLOOKUP(A2317,[1]EventLinkConfig!$X:$Y,2,FALSE),\"\"),IFERROR(VLOOKUP(A2317,[1]EventLinkConfig!$AA:$AB,2,FALSE),\"\"),IFERROR(VLOOKUP(A2317,[1]EventConditionConfig!$B:$D,3,FALSE),\"\"))","v":"多谢前辈。"},"任务&事件文本",null,2314]
[2315,{"$f":"_xlfn.TEXTJOIN(\"\",1,IFERROR(VLOOKUP(A2318,[1]EventConfig!$T:$V,3,FALSE),\"\"),IFERROR(VLOOKUP(A2318,[1]EventConfig!$U:$W,3,FALSE),\"\"),IFERROR(VLOOKUP(A2318,[1]EventLinkConfig!$B:$C,2,FALSE),\"\"),IFERROR(VLOOKUP(A2318,[1]EventLinkConfig!$D:$E,2,FALSE),\"\"),IFERROR(VLOOKUP(A2318,[1]EventLinkConfig!$L:$M,2,FALSE),\"\"),IFERROR(VLOOKUP(A2318,[1]EventLinkConfig!$X:$Y,2,FALSE),\"\"),IFERROR(VLOOKUP(A2318,[1]EventLinkConfig!$AA:$AB,2,FALSE),\"\"),IFERROR(VLOOKUP(A2318,[1]EventConditionConfig!$B:$D,3,FALSE),\"\"))","v":"入山幻阵"},"任务&事件文本",null,2315]
[2316,{"$f":"_xlfn.TEXTJOIN(\"\",1,IFERROR(VLOOKUP(A2319,[1]EventConfig!$T:$V,3,FALSE),\"\"),IFERROR(VLOOKUP(A2319,[1]EventConfig!$U:$W,3,FALSE),\"\"),IFERROR(VLOOKUP(A2319,[1]EventLinkConfig!$B:$C,2,FALSE),\"\"),IFERROR(VLOOKUP(A2319,[1]EventLinkConfig!$D:$E,2,FALSE),\"\"),IFERROR(VLOOKUP(A2319,[1]EventLinkConfig!$L:$M,2,FALSE),\"\"),IFERROR(VLOOKUP(A2319,[1]EventLinkConfig!$X:$Y,2,FALSE),\"\"),IFERROR(VLOOKUP(A2319,[1]EventLinkConfig!$AA:$AB,2,FALSE),\"\"),IFERROR(VLOOKUP(A2319,[1]EventConditionConfig!$B:$D,3,FALSE),\"\"))","v":"仙山被五行阵笼罩，需要击败阵眼方可破除（细节待设计）"},"任务&事件文本",null,2316]
[2317,{"$f":"_xlfn.TEXTJOIN(\"\",1,IFERROR(VLOOKUP(A2320,[1]EventConfig!$T:$V,3,FALSE),\"\"),IFERROR(VLOOKUP(A2320,[1]EventConfig!$U:$W,3,FALSE),\"\"),IFERROR(VLOOKUP(A2320,[1]EventLinkConfig!$B:$C,2,FALSE),\"\"),IFERROR(VLOOKUP(A2320,[1]EventLinkConfig!$D:$E,2,FALSE),\"\"),IFERROR(VLOOKUP(A2320,[1]EventLinkConfig!$L:$M,2,FALSE),\"\"),IFERROR(VLOOKUP(A2320,[1]EventLinkConfig!$X:$Y,2,FALSE),\"\"),IFERROR(VLOOKUP(A2320,[1]EventLinkConfig!$AA:$AB,2,FALSE),\"\"),IFERROR(VLOOKUP(A2320,[1]EventConditionConfig!$B:$D,3,FALSE),\"\"))","v":"阵眼妖兽被击败，仙山现在可以进入了（细节待设计）"},"任务&事件文本",null,2317]
[2318,{"$f":"_xlfn.TEXTJOIN(\"\",1,IFERROR(VLOOKUP(A2321,[1]EventConfig!$T:$V,3,FALSE),\"\"),IFERROR(VLOOKUP(A2321,[1]EventConfig!$U:$W,3,FALSE),\"\"),IFERROR(VLOOKUP(A2321,[1]EventLinkConfig!$B:$C,2,FALSE),\"\"),IFERROR(VLOOKUP(A2321,[1]EventLinkConfig!$D:$E,2,FALSE),\"\"),IFERROR(VLOOKUP(A2321,[1]EventLinkConfig!$L:$M,2,FALSE),\"\"),IFERROR(VLOOKUP(A2321,[1]EventLinkConfig!$X:$Y,2,FALSE),\"\"),IFERROR(VLOOKUP(A2321,[1]EventLinkConfig!$AA:$AB,2,FALSE),\"\"),IFERROR(VLOOKUP(A2321,[1]EventConditionConfig!$B:$D,3,FALSE),\"\"))","v":"听惠子吹嘘种子来历，并答应帮他种葫芦"},"任务&事件文本",null,2318]
[2319,{"$f":"_xlfn.TEXTJOIN(\"\",1,IFERROR(VLOOKUP(A2322,[1]EventConfig!$T:$V,3,FALSE),\"\"),IFERROR(VLOOKUP(A2322,[1]EventConfig!$U:$W,3,FALSE),\"\"),IFERROR(VLOOKUP(A2322,[1]EventLinkConfig!$B:$C,2,FALSE),\"\"),IFERROR(VLOOKUP(A2322,[1]EventLinkConfig!$D:$E,2,FALSE),\"\"),IFERROR(VLOOKUP(A2322,[1]EventLinkConfig!$L:$M,2,FALSE),\"\"),IFERROR(VLOOKUP(A2322,[1]EventLinkConfig!$X:$Y,2,FALSE),\"\"),IFERROR(VLOOKUP(A2322,[1]EventLinkConfig!$AA:$AB,2,FALSE),\"\"),IFERROR(VLOOKUP(A2322,[1]EventConditionConfig!$B:$D,3,FALSE),\"\"))","v":"（惠子手持一颗七彩流光的种子，满脸得意）\n“小友！来得正好！瞧我这宝贝——”"},"任务&事件文本",null,2319]
[2320,{"$f":"_xlfn.TEXTJOIN(\"\",1,IFERROR(VLOOKUP(A2323,[1]EventConfig!$T:$V,3,FALSE),\"\"),IFERROR(VLOOKUP(A2323,[1]EventConfig!$U:$W,3,FALSE),\"\"),IFERROR(VLOOKUP(A2323,[1]EventLinkConfig!$B:$C,2,FALSE),\"\"),IFERROR(VLOOKUP(A2323,[1]EventLinkConfig!$D:$E,2,FALSE),\"\"),IFERROR(VLOOKUP(A2323,[1]EventLinkConfig!$L:$M,2,FALSE),\"\"),IFERROR(VLOOKUP(A2323,[1]EventLinkConfig!$X:$Y,2,FALSE),\"\"),IFERROR(VLOOKUP(A2323,[1]EventLinkConfig!$AA:$AB,2,FALSE),\"\"),IFERROR(VLOOKUP(A2323,[1]EventConditionConfig!$B:$D,3,FALSE),\"\"))","v":"（惠子举起一颗种子，阳光照射下熠熠生辉）\n“此乃‘五石葫芦’之种！虽然我也不知道能种出来什么，但绝非凡品，一定大有用处！”"},"任务&事件文本",null,2320]
[2321,{"$f":"_xlfn.TEXTJOIN(\"\",1,IFERROR(VLOOKUP(A2324,[1]EventConfig!$T:$V,3,FALSE),\"\"),IFERROR(VLOOKUP(A2324,[1]EventConfig!$U:$W,3,FALSE),\"\"),IFERROR(VLOOKUP(A2324,[1]EventLinkConfig!$B:$C,2,FALSE),\"\"),IFERROR(VLOOKUP(A2324,[1]EventLinkConfig!$D:$E,2,FALSE),\"\"),IFERROR(VLOOKUP(A2324,[1]EventLinkConfig!$L:$M,2,FALSE),\"\"),IFERROR(VLOOKUP(A2324,[1]EventLinkConfig!$X:$Y,2,FALSE),\"\"),IFERROR(VLOOKUP(A2324,[1]EventLinkConfig!$AA:$AB,2,FALSE),\"\"),IFERROR(VLOOKUP(A2324,[1]EventConditionConfig!$B:$D,3,FALSE),\"\"))","v":"这么厉害？哪来的？"},"任务&事件文本",null,2321]
[2322,{"$f":"_xlfn.TEXTJOIN(\"\",1,IFERROR(VLOOKUP(A2325,[1]EventConfig!$T:$V,3,FALSE),\"\"),IFERROR(VLOOKUP(A2325,[1]EventConfig!$U:$W,3,FALSE),\"\"),IFERROR(VLOOKUP(A2325,[1]EventLinkConfig!$B:$C,2,FALSE),\"\"),IFERROR(VLOOKUP(A2325,[1]EventLinkConfig!$D:$E,2,FALSE),\"\"),IFERROR(VLOOKUP(A2325,[1]EventLinkConfig!$L:$M,2,FALSE),\"\"),IFERROR(VLOOKUP(A2325,[1]EventLinkConfig!$X:$Y,2,FALSE),\"\"),IFERROR(VLOOKUP(A2325,[1]EventLinkConfig!$AA:$AB,2,FALSE),\"\"),IFERROR(VLOOKUP(A2325,[1]EventConditionConfig!$B:$D,3,FALSE),\"\"))","v":"这是我的好朋友庄子送我的，给的时候，还神神秘秘的，说种出来的东西很好玩。"},"任务&事件文本",null,2322]
[2323,{"$f":"_xlfn.TEXTJOIN(\"\",1,IFERROR(VLOOKUP(A2326,[1]EventConfig!$T:$V,3,FALSE),\"\"),IFERROR(VLOOKUP(A2326,[1]EventConfig!$U:$W,3,FALSE),\"\"),IFERROR(VLOOKUP(A2326,[1]EventLinkConfig!$B:$C,2,FALSE),\"\"),IFERROR(VLOOKUP(A2326,[1]EventLinkConfig!$D:$E,2,FALSE),\"\"),IFERROR(VLOOKUP(A2326,[1]EventLinkConfig!$L:$M,2,FALSE),\"\"),IFERROR(VLOOKUP(A2326,[1]EventLinkConfig!$X:$Y,2,FALSE),\"\"),IFERROR(VLOOKUP(A2326,[1]EventLinkConfig!$AA:$AB,2,FALSE),\"\"),IFERROR(VLOOKUP(A2326,[1]EventConditionConfig!$B:$D,3,FALSE),\"\"))","v":"原来如此。\n我游历到这里，是想拜访山中神仙，请道友指路。"},"任务&事件文本",null,2323]
[2324,{"$f":"_xlfn.TEXTJOIN(\"\",1,IFERROR(VLOOKUP(A2327,[1]EventConfig!$T:$V,3,FALSE),\"\"),IFERROR(VLOOKUP(A2327,[1]EventConfig!$U:$W,3,FALSE),\"\"),IFERROR(VLOOKUP(A2327,[1]EventLinkConfig!$B:$C,2,FALSE),\"\"),IFERROR(VLOOKUP(A2327,[1]EventLinkConfig!$D:$E,2,FALSE),\"\"),IFERROR(VLOOKUP(A2327,[1]EventLinkConfig!$L:$M,2,FALSE),\"\"),IFERROR(VLOOKUP(A2327,[1]EventLinkConfig!$X:$Y,2,FALSE),\"\"),IFERROR(VLOOKUP(A2327,[1]EventLinkConfig!$AA:$AB,2,FALSE),\"\"),IFERROR(VLOOKUP(A2327,[1]EventConditionConfig!$B:$D,3,FALSE),\"\"))","v":"又是来找神仙的？\n帮你也不是不行，但是你得先帮我，帮我种葫芦！"},"任务&事件文本",null,2324]
[2325,{"$f":"_xlfn.TEXTJOIN(\"\",1,IFERROR(VLOOKUP(A2328,[1]EventConfig!$T:$V,3,FALSE),\"\"),IFERROR(VLOOKUP(A2328,[1]EventConfig!$U:$W,3,FALSE),\"\"),IFERROR(VLOOKUP(A2328,[1]EventLinkConfig!$B:$C,2,FALSE),\"\"),IFERROR(VLOOKUP(A2328,[1]EventLinkConfig!$D:$E,2,FALSE),\"\"),IFERROR(VLOOKUP(A2328,[1]EventLinkConfig!$L:$M,2,FALSE),\"\"),IFERROR(VLOOKUP(A2328,[1]EventLinkConfig!$X:$Y,2,FALSE),\"\"),IFERROR(VLOOKUP(A2328,[1]EventLinkConfig!$AA:$AB,2,FALSE),\"\"),IFERROR(VLOOKUP(A2328,[1]EventConditionConfig!$B:$D,3,FALSE),\"\"))","v":"我不擅长种植"},"任务&事件文本",null,2325]
[2326,{"$f":"_xlfn.TEXTJOIN(\"\",1,IFERROR(VLOOKUP(A2329,[1]EventConfig!$T:$V,3,FALSE),\"\"),IFERROR(VLOOKUP(A2329,[1]EventConfig!$U:$W,3,FALSE),\"\"),IFERROR(VLOOKUP(A2329,[1]EventLinkConfig!$B:$C,2,FALSE),\"\"),IFERROR(VLOOKUP(A2329,[1]EventLinkConfig!$D:$E,2,FALSE),\"\"),IFERROR(VLOOKUP(A2329,[1]EventLinkConfig!$L:$M,2,FALSE),\"\"),IFERROR(VLOOKUP(A2329,[1]EventLinkConfig!$X:$Y,2,FALSE),\"\"),IFERROR(VLOOKUP(A2329,[1]EventLinkConfig!$AA:$AB,2,FALSE),\"\"),IFERROR(VLOOKUP(A2329,[1]EventConditionConfig!$B:$D,3,FALSE),\"\"))","v":"没事，我非常擅长，哈哈。\n道友只需要帮我找几种肥料即可。"},"任务&事件文本",null,2326]
[2327,{"$f":"_xlfn.TEXTJOIN(\"\",1,IFERROR(VLOOKUP(A2330,[1]EventConfig!$T:$V,3,FALSE),\"\"),IFERROR(VLOOKUP(A2330,[1]EventConfig!$U:$W,3,FALSE),\"\"),IFERROR(VLOOKUP(A2330,[1]EventLinkConfig!$B:$C,2,FALSE),\"\"),IFERROR(VLOOKUP(A2330,[1]EventLinkConfig!$D:$E,2,FALSE),\"\"),IFERROR(VLOOKUP(A2330,[1]EventLinkConfig!$L:$M,2,FALSE),\"\"),IFERROR(VLOOKUP(A2330,[1]EventLinkConfig!$X:$Y,2,FALSE),\"\"),IFERROR(VLOOKUP(A2330,[1]EventLinkConfig!$AA:$AB,2,FALSE),\"\"),IFERROR(VLOOKUP(A2330,[1]EventConditionConfig!$B:$D,3,FALSE),\"\"))","v":"道友请讲…"},"任务&事件文本",null,2327]
[2328,{"$f":"_xlfn.TEXTJOIN(\"\",1,IFERROR(VLOOKUP(A2331,[1]EventConfig!$T:$V,3,FALSE),\"\"),IFERROR(VLOOKUP(A2331,[1]EventConfig!$U:$W,3,FALSE),\"\"),IFERROR(VLOOKUP(A2331,[1]EventLinkConfig!$B:$C,2,FALSE),\"\"),IFERROR(VLOOKUP(A2331,[1]EventLinkConfig!$D:$E,2,FALSE),\"\"),IFERROR(VLOOKUP(A2331,[1]EventLinkConfig!$L:$M,2,FALSE),\"\"),IFERROR(VLOOKUP(A2331,[1]EventLinkConfig!$X:$Y,2,FALSE),\"\"),IFERROR(VLOOKUP(A2331,[1]EventLinkConfig!$AA:$AB,2,FALSE),\"\"),IFERROR(VLOOKUP(A2331,[1]EventConditionConfig!$B:$D,3,FALSE),\"\"))","v":"此葫芦种子，需要2种肥料：“天肥”和“地肥”。"},"任务&事件文本",null,2328]
[2329,{"$f":"_xlfn.TEXTJOIN(\"\",1,IFERROR(VLOOKUP(A2332,[1]EventConfig!$T:$V,3,FALSE),\"\"),IFERROR(VLOOKUP(A2332,[1]EventConfig!$U:$W,3,FALSE),\"\"),IFERROR(VLOOKUP(A2332,[1]EventLinkConfig!$B:$C,2,FALSE),\"\"),IFERROR(VLOOKUP(A2332,[1]EventLinkConfig!$D:$E,2,FALSE),\"\"),IFERROR(VLOOKUP(A2332,[1]EventLinkConfig!$L:$M,2,FALSE),\"\"),IFERROR(VLOOKUP(A2332,[1]EventLinkConfig!$X:$Y,2,FALSE),\"\"),IFERROR(VLOOKUP(A2332,[1]EventLinkConfig!$AA:$AB,2,FALSE),\"\"),IFERROR(VLOOKUP(A2332,[1]EventConditionConfig!$B:$D,3,FALSE),\"\"))","v":"....未曾听闻…"},"任务&事件文本",null,2329]
[2330,{"$f":"_xlfn.TEXTJOIN(\"\",1,IFERROR(VLOOKUP(A2333,[1]EventConfig!$T:$V,3,FALSE),\"\"),IFERROR(VLOOKUP(A2333,[1]EventConfig!$U:$W,3,FALSE),\"\"),IFERROR(VLOOKUP(A2333,[1]EventLinkConfig!$B:$C,2,FALSE),\"\"),IFERROR(VLOOKUP(A2333,[1]EventLinkConfig!$D:$E,2,FALSE),\"\"),IFERROR(VLOOKUP(A2333,[1]EventLinkConfig!$L:$M,2,FALSE),\"\"),IFERROR(VLOOKUP(A2333,[1]EventLinkConfig!$X:$Y,2,FALSE),\"\"),IFERROR(VLOOKUP(A2333,[1]EventLinkConfig!$AA:$AB,2,FALSE),\"\"),IFERROR(VLOOKUP(A2333,[1]EventConditionConfig!$B:$D,3,FALSE),\"\"))","v":"何为“天肥”"},"任务&事件文本",null,2330]
[2331,{"$f":"_xlfn.TEXTJOIN(\"\",1,IFERROR(VLOOKUP(A2334,[1]EventConfig!$T:$V,3,FALSE),\"\"),IFERROR(VLOOKUP(A2334,[1]EventConfig!$U:$W,3,FALSE),\"\"),IFERROR(VLOOKUP(A2334,[1]EventLinkConfig!$B:$C,2,FALSE),\"\"),IFERROR(VLOOKUP(A2334,[1]EventLinkConfig!$D:$E,2,FALSE),\"\"),IFERROR(VLOOKUP(A2334,[1]EventLinkConfig!$L:$M,2,FALSE),\"\"),IFERROR(VLOOKUP(A2334,[1]EventLinkConfig!$X:$Y,2,FALSE),\"\"),IFERROR(VLOOKUP(A2334,[1]EventLinkConfig!$AA:$AB,2,FALSE),\"\"),IFERROR(VLOOKUP(A2334,[1]EventConditionConfig!$B:$D,3,FALSE),\"\"))","v":"天肥很简单，你往上看\n（惠子把手指向云端）"},"任务&事件文本",null,2331]
[2332,{"$f":"_xlfn.TEXTJOIN(\"\",1,IFERROR(VLOOKUP(A2335,[1]EventConfig!$T:$V,3,FALSE),\"\"),IFERROR(VLOOKUP(A2335,[1]EventConfig!$U:$W,3,FALSE),\"\"),IFERROR(VLOOKUP(A2335,[1]EventLinkConfig!$B:$C,2,FALSE),\"\"),IFERROR(VLOOKUP(A2335,[1]EventLinkConfig!$D:$E,2,FALSE),\"\"),IFERROR(VLOOKUP(A2335,[1]EventLinkConfig!$L:$M,2,FALSE),\"\"),IFERROR(VLOOKUP(A2335,[1]EventLinkConfig!$X:$Y,2,FALSE),\"\"),IFERROR(VLOOKUP(A2335,[1]EventLinkConfig!$AA:$AB,2,FALSE),\"\"),IFERROR(VLOOKUP(A2335,[1]EventConditionConfig!$B:$D,3,FALSE),\"\"))","v":"此山附近有许多飞行的灵兽围绕，你去击败几只飞行的灵兽，就有机会拿到了。"},"任务&事件文本",null,2332]
[2333,{"$f":"_xlfn.TEXTJOIN(\"\",1,IFERROR(VLOOKUP(A2336,[1]EventConfig!$T:$V,3,FALSE),\"\"),IFERROR(VLOOKUP(A2336,[1]EventConfig!$U:$W,3,FALSE),\"\"),IFERROR(VLOOKUP(A2336,[1]EventLinkConfig!$B:$C,2,FALSE),\"\"),IFERROR(VLOOKUP(A2336,[1]EventLinkConfig!$D:$E,2,FALSE),\"\"),IFERROR(VLOOKUP(A2336,[1]EventLinkConfig!$L:$M,2,FALSE),\"\"),IFERROR(VLOOKUP(A2336,[1]EventLinkConfig!$X:$Y,2,FALSE),\"\"),IFERROR(VLOOKUP(A2336,[1]EventLinkConfig!$AA:$AB,2,FALSE),\"\"),IFERROR(VLOOKUP(A2336,[1]EventConditionConfig!$B:$D,3,FALSE),\"\"))","v":"何为“地肥”"},"任务&事件文本",null,2333]
[2334,{"$f":"_xlfn.TEXTJOIN(\"\",1,IFERROR(VLOOKUP(A2337,[1]EventConfig!$T:$V,3,FALSE),\"\"),IFERROR(VLOOKUP(A2337,[1]EventConfig!$U:$W,3,FALSE),\"\"),IFERROR(VLOOKUP(A2337,[1]EventLinkConfig!$B:$C,2,FALSE),\"\"),IFERROR(VLOOKUP(A2337,[1]EventLinkConfig!$D:$E,2,FALSE),\"\"),IFERROR(VLOOKUP(A2337,[1]EventLinkConfig!$L:$M,2,FALSE),\"\"),IFERROR(VLOOKUP(A2337,[1]EventLinkConfig!$X:$Y,2,FALSE),\"\"),IFERROR(VLOOKUP(A2337,[1]EventLinkConfig!$AA:$AB,2,FALSE),\"\"),IFERROR(VLOOKUP(A2337,[1]EventConditionConfig!$B:$D,3,FALSE),\"\"))","v":"这地肥就比较麻烦了，需要2000年以上的灵木树枝才能当“地肥”"},"任务&事件文本",null,2334]
[2335,{"$f":"_xlfn.TEXTJOIN(\"\",1,IFERROR(VLOOKUP(A2338,[1]EventConfig!$T:$V,3,FALSE),\"\"),IFERROR(VLOOKUP(A2338,[1]EventConfig!$U:$W,3,FALSE),\"\"),IFERROR(VLOOKUP(A2338,[1]EventLinkConfig!$B:$C,2,FALSE),\"\"),IFERROR(VLOOKUP(A2338,[1]EventLinkConfig!$D:$E,2,FALSE),\"\"),IFERROR(VLOOKUP(A2338,[1]EventLinkConfig!$L:$M,2,FALSE),\"\"),IFERROR(VLOOKUP(A2338,[1]EventLinkConfig!$X:$Y,2,FALSE),\"\"),IFERROR(VLOOKUP(A2338,[1]EventLinkConfig!$AA:$AB,2,FALSE),\"\"),IFERROR(VLOOKUP(A2338,[1]EventConditionConfig!$B:$D,3,FALSE),\"\"))","v":"不过，这千年以上的树木，都会化形，不好找啊，不好找。"},"任务&事件文本",null,2335]
[2336,{"$f":"_xlfn.TEXTJOIN(\"\",1,IFERROR(VLOOKUP(A2339,[1]EventConfig!$T:$V,3,FALSE),\"\"),IFERROR(VLOOKUP(A2339,[1]EventConfig!$U:$W,3,FALSE),\"\"),IFERROR(VLOOKUP(A2339,[1]EventLinkConfig!$B:$C,2,FALSE),\"\"),IFERROR(VLOOKUP(A2339,[1]EventLinkConfig!$D:$E,2,FALSE),\"\"),IFERROR(VLOOKUP(A2339,[1]EventLinkConfig!$L:$M,2,FALSE),\"\"),IFERROR(VLOOKUP(A2339,[1]EventLinkConfig!$X:$Y,2,FALSE),\"\"),IFERROR(VLOOKUP(A2339,[1]EventLinkConfig!$AA:$AB,2,FALSE),\"\"),IFERROR(VLOOKUP(A2339,[1]EventConditionConfig!$B:$D,3,FALSE),\"\"))","v":"好的道友，那我这就去寻。"},"任务&事件文本",null,2336]
[2337,{"$f":"_xlfn.TEXTJOIN(\"\",1,IFERROR(VLOOKUP(A2340,[1]EventConfig!$T:$V,3,FALSE),\"\"),IFERROR(VLOOKUP(A2340,[1]EventConfig!$U:$W,3,FALSE),\"\"),IFERROR(VLOOKUP(A2340,[1]EventLinkConfig!$B:$C,2,FALSE),\"\"),IFERROR(VLOOKUP(A2340,[1]EventLinkConfig!$D:$E,2,FALSE),\"\"),IFERROR(VLOOKUP(A2340,[1]EventLinkConfig!$L:$M,2,FALSE),\"\"),IFERROR(VLOOKUP(A2340,[1]EventLinkConfig!$X:$Y,2,FALSE),\"\"),IFERROR(VLOOKUP(A2340,[1]EventLinkConfig!$AA:$AB,2,FALSE),\"\"),IFERROR(VLOOKUP(A2340,[1]EventConditionConfig!$B:$D,3,FALSE),\"\"))","v":"天肥地肥"},"任务&事件文本",null,2337]
[2338,{"$f":"_xlfn.TEXTJOIN(\"\",1,IFERROR(VLOOKUP(A2341,[1]EventConfig!$T:$V,3,FALSE),\"\"),IFERROR(VLOOKUP(A2341,[1]EventConfig!$U:$W,3,FALSE),\"\"),IFERROR(VLOOKUP(A2341,[1]EventLinkConfig!$B:$C,2,FALSE),\"\"),IFERROR(VLOOKUP(A2341,[1]EventLinkConfig!$D:$E,2,FALSE),\"\"),IFERROR(VLOOKUP(A2341,[1]EventLinkConfig!$L:$M,2,FALSE),\"\"),IFERROR(VLOOKUP(A2341,[1]EventLinkConfig!$X:$Y,2,FALSE),\"\"),IFERROR(VLOOKUP(A2341,[1]EventLinkConfig!$AA:$AB,2,FALSE),\"\"),IFERROR(VLOOKUP(A2341,[1]EventConditionConfig!$B:$D,3,FALSE),\"\"))","v":"你来到飞行的灵兽周围，碰碰运气吧。"},"任务&事件文本",null,2338]
[2339,{"$f":"_xlfn.TEXTJOIN(\"\",1,IFERROR(VLOOKUP(A2342,[1]EventConfig!$T:$V,3,FALSE),\"\"),IFERROR(VLOOKUP(A2342,[1]EventConfig!$U:$W,3,FALSE),\"\"),IFERROR(VLOOKUP(A2342,[1]EventLinkConfig!$B:$C,2,FALSE),\"\"),IFERROR(VLOOKUP(A2342,[1]EventLinkConfig!$D:$E,2,FALSE),\"\"),IFERROR(VLOOKUP(A2342,[1]EventLinkConfig!$L:$M,2,FALSE),\"\"),IFERROR(VLOOKUP(A2342,[1]EventLinkConfig!$X:$Y,2,FALSE),\"\"),IFERROR(VLOOKUP(A2342,[1]EventLinkConfig!$AA:$AB,2,FALSE),\"\"),IFERROR(VLOOKUP(A2342,[1]EventConditionConfig!$B:$D,3,FALSE),\"\"))","v":"天肥搜集到了，关于地肥，你突然想到之前碰到的樗木之灵"},"任务&事件文本",null,2339]
[2340,{"$f":"_xlfn.TEXTJOIN(\"\",1,IFERROR(VLOOKUP(A2343,[1]EventConfig!$T:$V,3,FALSE),\"\"),IFERROR(VLOOKUP(A2343,[1]EventConfig!$U:$W,3,FALSE),\"\"),IFERROR(VLOOKUP(A2343,[1]EventLinkConfig!$B:$C,2,FALSE),\"\"),IFERROR(VLOOKUP(A2343,[1]EventLinkConfig!$D:$E,2,FALSE),\"\"),IFERROR(VLOOKUP(A2343,[1]EventLinkConfig!$L:$M,2,FALSE),\"\"),IFERROR(VLOOKUP(A2343,[1]EventLinkConfig!$X:$Y,2,FALSE),\"\"),IFERROR(VLOOKUP(A2343,[1]EventLinkConfig!$AA:$AB,2,FALSE),\"\"),IFERROR(VLOOKUP(A2343,[1]EventConditionConfig!$B:$D,3,FALSE),\"\"))","v":"前辈，我有一事相求。"},"任务&事件文本",null,2340]
[2341,{"$f":"_xlfn.TEXTJOIN(\"\",1,IFERROR(VLOOKUP(A2344,[1]EventConfig!$T:$V,3,FALSE),\"\"),IFERROR(VLOOKUP(A2344,[1]EventConfig!$U:$W,3,FALSE),\"\"),IFERROR(VLOOKUP(A2344,[1]EventLinkConfig!$B:$C,2,FALSE),\"\"),IFERROR(VLOOKUP(A2344,[1]EventLinkConfig!$D:$E,2,FALSE),\"\"),IFERROR(VLOOKUP(A2344,[1]EventLinkConfig!$L:$M,2,FALSE),\"\"),IFERROR(VLOOKUP(A2344,[1]EventLinkConfig!$X:$Y,2,FALSE),\"\"),IFERROR(VLOOKUP(A2344,[1]EventLinkConfig!$AA:$AB,2,FALSE),\"\"),IFERROR(VLOOKUP(A2344,[1]EventConditionConfig!$B:$D,3,FALSE),\"\"))","v":"小友请说"},"任务&事件文本",null,2341]
[2342,{"$f":"_xlfn.TEXTJOIN(\"\",1,IFERROR(VLOOKUP(A2345,[1]EventConfig!$T:$V,3,FALSE),\"\"),IFERROR(VLOOKUP(A2345,[1]EventConfig!$U:$W,3,FALSE),\"\"),IFERROR(VLOOKUP(A2345,[1]EventLinkConfig!$B:$C,2,FALSE),\"\"),IFERROR(VLOOKUP(A2345,[1]EventLinkConfig!$D:$E,2,FALSE),\"\"),IFERROR(VLOOKUP(A2345,[1]EventLinkConfig!$L:$M,2,FALSE),\"\"),IFERROR(VLOOKUP(A2345,[1]EventLinkConfig!$X:$Y,2,FALSE),\"\"),IFERROR(VLOOKUP(A2345,[1]EventLinkConfig!$AA:$AB,2,FALSE),\"\"),IFERROR(VLOOKUP(A2345,[1]EventConditionConfig!$B:$D,3,FALSE),\"\"))","v":"我在藐姑射山时，遇到有位道友让我帮他找“地肥”来种葫芦...\n不止前辈可否借我一点点树枝。"},"任务&事件文本",null,2342]
[2343,{"$f":"_xlfn.TEXTJOIN(\"\",1,IFERROR(VLOOKUP(A2346,[1]EventConfig!$T:$V,3,FALSE),\"\"),IFERROR(VLOOKUP(A2346,[1]EventConfig!$U:$W,3,FALSE),\"\"),IFERROR(VLOOKUP(A2346,[1]EventLinkConfig!$B:$C,2,FALSE),\"\"),IFERROR(VLOOKUP(A2346,[1]EventLinkConfig!$D:$E,2,FALSE),\"\"),IFERROR(VLOOKUP(A2346,[1]EventLinkConfig!$L:$M,2,FALSE),\"\"),IFERROR(VLOOKUP(A2346,[1]EventLinkConfig!$X:$Y,2,FALSE),\"\"),IFERROR(VLOOKUP(A2346,[1]EventLinkConfig!$AA:$AB,2,FALSE),\"\"),IFERROR(VLOOKUP(A2346,[1]EventConditionConfig!$B:$D,3,FALSE),\"\"))","v":"好说好说，以后多来陪我聊聊天就好。"},"任务&事件文本",null,2343]
[2344,{"$f":"_xlfn.TEXTJOIN(\"\",1,IFERROR(VLOOKUP(A2347,[1]EventConfig!$T:$V,3,FALSE),\"\"),IFERROR(VLOOKUP(A2347,[1]EventConfig!$U:$W,3,FALSE),\"\"),IFERROR(VLOOKUP(A2347,[1]EventLinkConfig!$B:$C,2,FALSE),\"\"),IFERROR(VLOOKUP(A2347,[1]EventLinkConfig!$D:$E,2,FALSE),\"\"),IFERROR(VLOOKUP(A2347,[1]EventLinkConfig!$L:$M,2,FALSE),\"\"),IFERROR(VLOOKUP(A2347,[1]EventLinkConfig!$X:$Y,2,FALSE),\"\"),IFERROR(VLOOKUP(A2347,[1]EventLinkConfig!$AA:$AB,2,FALSE),\"\"),IFERROR(VLOOKUP(A2347,[1]EventConditionConfig!$B:$D,3,FALSE),\"\"))","v":"多谢前辈！  （得到樗木的树枝）"},"任务&事件文本",null,2344]
[2345,{"$f":"_xlfn.TEXTJOIN(\"\",1,IFERROR(VLOOKUP(A2348,[1]EventConfig!$T:$V,3,FALSE),\"\"),IFERROR(VLOOKUP(A2348,[1]EventConfig!$U:$W,3,FALSE),\"\"),IFERROR(VLOOKUP(A2348,[1]EventLinkConfig!$B:$C,2,FALSE),\"\"),IFERROR(VLOOKUP(A2348,[1]EventLinkConfig!$D:$E,2,FALSE),\"\"),IFERROR(VLOOKUP(A2348,[1]EventLinkConfig!$L:$M,2,FALSE),\"\"),IFERROR(VLOOKUP(A2348,[1]EventLinkConfig!$X:$Y,2,FALSE),\"\"),IFERROR(VLOOKUP(A2348,[1]EventLinkConfig!$AA:$AB,2,FALSE),\"\"),IFERROR(VLOOKUP(A2348,[1]EventConditionConfig!$B:$D,3,FALSE),\"\"))","v":"登山"},"任务&事件文本",null,2345]
[2346,{"$f":"_xlfn.TEXTJOIN(\"\",1,IFERROR(VLOOKUP(A2349,[1]EventConfig!$T:$V,3,FALSE),\"\"),IFERROR(VLOOKUP(A2349,[1]EventConfig!$U:$W,3,FALSE),\"\"),IFERROR(VLOOKUP(A2349,[1]EventLinkConfig!$B:$C,2,FALSE),\"\"),IFERROR(VLOOKUP(A2349,[1]EventLinkConfig!$D:$E,2,FALSE),\"\"),IFERROR(VLOOKUP(A2349,[1]EventLinkConfig!$L:$M,2,FALSE),\"\"),IFERROR(VLOOKUP(A2349,[1]EventLinkConfig!$X:$Y,2,FALSE),\"\"),IFERROR(VLOOKUP(A2349,[1]EventLinkConfig!$AA:$AB,2,FALSE),\"\"),IFERROR(VLOOKUP(A2349,[1]EventConditionConfig!$B:$D,3,FALSE),\"\"))","v":"（眼睛一亮）好好好！\n这位道友果然好手段！竟真能找到“地肥”！"},"任务&事件文本",null,2346]
[2347,{"$f":"_xlfn.TEXTJOIN(\"\",1,IFERROR(VLOOKUP(A2350,[1]EventConfig!$T:$V,3,FALSE),\"\"),IFERROR(VLOOKUP(A2350,[1]EventConfig!$U:$W,3,FALSE),\"\"),IFERROR(VLOOKUP(A2350,[1]EventLinkConfig!$B:$C,2,FALSE),\"\"),IFERROR(VLOOKUP(A2350,[1]EventLinkConfig!$D:$E,2,FALSE),\"\"),IFERROR(VLOOKUP(A2350,[1]EventLinkConfig!$L:$M,2,FALSE),\"\"),IFERROR(VLOOKUP(A2350,[1]EventLinkConfig!$X:$Y,2,FALSE),\"\"),IFERROR(VLOOKUP(A2350,[1]EventLinkConfig!$AA:$AB,2,FALSE),\"\"),IFERROR(VLOOKUP(A2350,[1]EventConditionConfig!$B:$D,3,FALSE),\"\"))","v":"（谁管你的葫芦....）\n请道友告知，哪里可以见到神仙，我有事相求。"},"任务&事件文本",null,2347]
[2348,{"$f":"_xlfn.TEXTJOIN(\"\",1,IFERROR(VLOOKUP(A2351,[1]EventConfig!$T:$V,3,FALSE),\"\"),IFERROR(VLOOKUP(A2351,[1]EventConfig!$U:$W,3,FALSE),\"\"),IFERROR(VLOOKUP(A2351,[1]EventLinkConfig!$B:$C,2,FALSE),\"\"),IFERROR(VLOOKUP(A2351,[1]EventLinkConfig!$D:$E,2,FALSE),\"\"),IFERROR(VLOOKUP(A2351,[1]EventLinkConfig!$L:$M,2,FALSE),\"\"),IFERROR(VLOOKUP(A2351,[1]EventLinkConfig!$X:$Y,2,FALSE),\"\"),IFERROR(VLOOKUP(A2351,[1]EventLinkConfig!$AA:$AB,2,FALSE),\"\"),IFERROR(VLOOKUP(A2351,[1]EventConditionConfig!$B:$D,3,FALSE),\"\"))","v":"不瞒道友，我在这藐姑射山的山脚生活多年，并未见过神仙。\n来找神仙的倒是多…"},"任务&事件文本",null,2348]
[2349,{"$f":"_xlfn.TEXTJOIN(\"\",1,IFERROR(VLOOKUP(A2352,[1]EventConfig!$T:$V,3,FALSE),\"\"),IFERROR(VLOOKUP(A2352,[1]EventConfig!$U:$W,3,FALSE),\"\"),IFERROR(VLOOKUP(A2352,[1]EventLinkConfig!$B:$C,2,FALSE),\"\"),IFERROR(VLOOKUP(A2352,[1]EventLinkConfig!$D:$E,2,FALSE),\"\"),IFERROR(VLOOKUP(A2352,[1]EventLinkConfig!$L:$M,2,FALSE),\"\"),IFERROR(VLOOKUP(A2352,[1]EventLinkConfig!$X:$Y,2,FALSE),\"\"),IFERROR(VLOOKUP(A2352,[1]EventLinkConfig!$AA:$AB,2,FALSE),\"\"),IFERROR(VLOOKUP(A2352,[1]EventConditionConfig!$B:$D,3,FALSE),\"\"))","v":"…"},"任务&事件文本",null,2349]
[2350,{"$f":"_xlfn.TEXTJOIN(\"\",1,IFERROR(VLOOKUP(A2353,[1]EventConfig!$T:$V,3,FALSE),\"\"),IFERROR(VLOOKUP(A2353,[1]EventConfig!$U:$W,3,FALSE),\"\"),IFERROR(VLOOKUP(A2353,[1]EventLinkConfig!$B:$C,2,FALSE),\"\"),IFERROR(VLOOKUP(A2353,[1]EventLinkConfig!$D:$E,2,FALSE),\"\"),IFERROR(VLOOKUP(A2353,[1]EventLinkConfig!$L:$M,2,FALSE),\"\"),IFERROR(VLOOKUP(A2353,[1]EventLinkConfig!$X:$Y,2,FALSE),\"\"),IFERROR(VLOOKUP(A2353,[1]EventLinkConfig!$AA:$AB,2,FALSE),\"\"),IFERROR(VLOOKUP(A2353,[1]EventConditionConfig!$B:$D,3,FALSE),\"\"))","v":"不过道友也不要急，我确实听庄子提过，此山有神仙的事迹。"},"任务&事件文本",null,2350]
[2351,{"$f":"_xlfn.TEXTJOIN(\"\",1,IFERROR(VLOOKUP(A2354,[1]EventConfig!$T:$V,3,FALSE),\"\"),IFERROR(VLOOKUP(A2354,[1]EventConfig!$U:$W,3,FALSE),\"\"),IFERROR(VLOOKUP(A2354,[1]EventLinkConfig!$B:$C,2,FALSE),\"\"),IFERROR(VLOOKUP(A2354,[1]EventLinkConfig!$D:$E,2,FALSE),\"\"),IFERROR(VLOOKUP(A2354,[1]EventLinkConfig!$L:$M,2,FALSE),\"\"),IFERROR(VLOOKUP(A2354,[1]EventLinkConfig!$X:$Y,2,FALSE),\"\"),IFERROR(VLOOKUP(A2354,[1]EventLinkConfig!$AA:$AB,2,FALSE),\"\"),IFERROR(VLOOKUP(A2354,[1]EventConditionConfig!$B:$D,3,FALSE),\"\"))","v":"我屋后设有一阵法，隐藏了上山的小路，我一会开启法阵，你从那边上山吧。"},"任务&事件文本",null,2351]
[2352,{"$f":"_xlfn.TEXTJOIN(\"\",1,IFERROR(VLOOKUP(A2355,[1]EventConfig!$T:$V,3,FALSE),\"\"),IFERROR(VLOOKUP(A2355,[1]EventConfig!$U:$W,3,FALSE),\"\"),IFERROR(VLOOKUP(A2355,[1]EventLinkConfig!$B:$C,2,FALSE),\"\"),IFERROR(VLOOKUP(A2355,[1]EventLinkConfig!$D:$E,2,FALSE),\"\"),IFERROR(VLOOKUP(A2355,[1]EventLinkConfig!$L:$M,2,FALSE),\"\"),IFERROR(VLOOKUP(A2355,[1]EventLinkConfig!$X:$Y,2,FALSE),\"\"),IFERROR(VLOOKUP(A2355,[1]EventLinkConfig!$AA:$AB,2,FALSE),\"\"),IFERROR(VLOOKUP(A2355,[1]EventConditionConfig!$B:$D,3,FALSE),\"\"))","v":"我这就启程登山！"},"任务&事件文本",null,2352]
[2353,{"$f":"_xlfn.TEXTJOIN(\"\",1,IFERROR(VLOOKUP(A2356,[1]EventConfig!$T:$V,3,FALSE),\"\"),IFERROR(VLOOKUP(A2356,[1]EventConfig!$U:$W,3,FALSE),\"\"),IFERROR(VLOOKUP(A2356,[1]EventLinkConfig!$B:$C,2,FALSE),\"\"),IFERROR(VLOOKUP(A2356,[1]EventLinkConfig!$D:$E,2,FALSE),\"\"),IFERROR(VLOOKUP(A2356,[1]EventLinkConfig!$L:$M,2,FALSE),\"\"),IFERROR(VLOOKUP(A2356,[1]EventLinkConfig!$X:$Y,2,FALSE),\"\"),IFERROR(VLOOKUP(A2356,[1]EventLinkConfig!$AA:$AB,2,FALSE),\"\"),IFERROR(VLOOKUP(A2356,[1]EventConditionConfig!$B:$D,3,FALSE),\"\"))","v":"道友竟然精通阵法？"},"任务&事件文本",null,2353]
[2354,{"$f":"_xlfn.TEXTJOIN(\"\",1,IFERROR(VLOOKUP(A2357,[1]EventConfig!$T:$V,3,FALSE),\"\"),IFERROR(VLOOKUP(A2357,[1]EventConfig!$U:$W,3,FALSE),\"\"),IFERROR(VLOOKUP(A2357,[1]EventLinkConfig!$B:$C,2,FALSE),\"\"),IFERROR(VLOOKUP(A2357,[1]EventLinkConfig!$D:$E,2,FALSE),\"\"),IFERROR(VLOOKUP(A2357,[1]EventLinkConfig!$L:$M,2,FALSE),\"\"),IFERROR(VLOOKUP(A2357,[1]EventLinkConfig!$X:$Y,2,FALSE),\"\"),IFERROR(VLOOKUP(A2357,[1]EventLinkConfig!$AA:$AB,2,FALSE),\"\"),IFERROR(VLOOKUP(A2357,[1]EventConditionConfig!$B:$D,3,FALSE),\"\"))","v":"去吧，登上山顶，也许能找到你想要的。"},"任务&事件文本",null,2354]
[2355,{"$f":"_xlfn.TEXTJOIN(\"\",1,IFERROR(VLOOKUP(A2358,[1]EventConfig!$T:$V,3,FALSE),\"\"),IFERROR(VLOOKUP(A2358,[1]EventConfig!$U:$W,3,FALSE),\"\"),IFERROR(VLOOKUP(A2358,[1]EventLinkConfig!$B:$C,2,FALSE),\"\"),IFERROR(VLOOKUP(A2358,[1]EventLinkConfig!$D:$E,2,FALSE),\"\"),IFERROR(VLOOKUP(A2358,[1]EventLinkConfig!$L:$M,2,FALSE),\"\"),IFERROR(VLOOKUP(A2358,[1]EventLinkConfig!$X:$Y,2,FALSE),\"\"),IFERROR(VLOOKUP(A2358,[1]EventLinkConfig!$AA:$AB,2,FALSE),\"\"),IFERROR(VLOOKUP(A2358,[1]EventConditionConfig!$B:$D,3,FALSE),\"\"))","v":"好说好说，我确实无心修炼，也对神仙没兴趣。"},"任务&事件文本",null,2355]
[2356,{"$f":"_xlfn.TEXTJOIN(\"\",1,IFERROR(VLOOKUP(A2359,[1]EventConfig!$T:$V,3,FALSE),\"\"),IFERROR(VLOOKUP(A2359,[1]EventConfig!$U:$W,3,FALSE),\"\"),IFERROR(VLOOKUP(A2359,[1]EventLinkConfig!$B:$C,2,FALSE),\"\"),IFERROR(VLOOKUP(A2359,[1]EventLinkConfig!$D:$E,2,FALSE),\"\"),IFERROR(VLOOKUP(A2359,[1]EventLinkConfig!$L:$M,2,FALSE),\"\"),IFERROR(VLOOKUP(A2359,[1]EventLinkConfig!$X:$Y,2,FALSE),\"\"),IFERROR(VLOOKUP(A2359,[1]EventLinkConfig!$AA:$AB,2,FALSE),\"\"),IFERROR(VLOOKUP(A2359,[1]EventConditionConfig!$B:$D,3,FALSE),\"\"))","v":"闲来无事，种种花草，研究研究阵法。\n如果道友有兴趣，可以随时交流。"},"任务&事件文本",null,2356]
[2357,{"$f":"_xlfn.TEXTJOIN(\"\",1,IFERROR(VLOOKUP(A2360,[1]EventConfig!$T:$V,3,FALSE),\"\"),IFERROR(VLOOKUP(A2360,[1]EventConfig!$U:$W,3,FALSE),\"\"),IFERROR(VLOOKUP(A2360,[1]EventLinkConfig!$B:$C,2,FALSE),\"\"),IFERROR(VLOOKUP(A2360,[1]EventLinkConfig!$D:$E,2,FALSE),\"\"),IFERROR(VLOOKUP(A2360,[1]EventLinkConfig!$L:$M,2,FALSE),\"\"),IFERROR(VLOOKUP(A2360,[1]EventLinkConfig!$X:$Y,2,FALSE),\"\"),IFERROR(VLOOKUP(A2360,[1]EventLinkConfig!$AA:$AB,2,FALSE),\"\"),IFERROR(VLOOKUP(A2360,[1]EventConditionConfig!$B:$D,3,FALSE),\"\"))","v":"击杀妖兽"},"任务&事件文本",null,2357]
[2358,{"$f":"_xlfn.TEXTJOIN(\"\",1,IFERROR(VLOOKUP(A2361,[1]EventConfig!$T:$V,3,FALSE),\"\"),IFERROR(VLOOKUP(A2361,[1]EventConfig!$U:$W,3,FALSE),\"\"),IFERROR(VLOOKUP(A2361,[1]EventLinkConfig!$B:$C,2,FALSE),\"\"),IFERROR(VLOOKUP(A2361,[1]EventLinkConfig!$D:$E,2,FALSE),\"\"),IFERROR(VLOOKUP(A2361,[1]EventLinkConfig!$L:$M,2,FALSE),\"\"),IFERROR(VLOOKUP(A2361,[1]EventLinkConfig!$X:$Y,2,FALSE),\"\"),IFERROR(VLOOKUP(A2361,[1]EventLinkConfig!$AA:$AB,2,FALSE),\"\"),IFERROR(VLOOKUP(A2361,[1]EventConditionConfig!$B:$D,3,FALSE),\"\"))","v":"击败后山小妖"},"任务&事件文本",null,2358]
[2359,{"$f":"_xlfn.TEXTJOIN(\"\",1,IFERROR(VLOOKUP(A2362,[1]EventConfig!$T:$V,3,FALSE),\"\"),IFERROR(VLOOKUP(A2362,[1]EventConfig!$U:$W,3,FALSE),\"\"),IFERROR(VLOOKUP(A2362,[1]EventLinkConfig!$B:$C,2,FALSE),\"\"),IFERROR(VLOOKUP(A2362,[1]EventLinkConfig!$D:$E,2,FALSE),\"\"),IFERROR(VLOOKUP(A2362,[1]EventLinkConfig!$L:$M,2,FALSE),\"\"),IFERROR(VLOOKUP(A2362,[1]EventLinkConfig!$X:$Y,2,FALSE),\"\"),IFERROR(VLOOKUP(A2362,[1]EventLinkConfig!$AA:$AB,2,FALSE),\"\"),IFERROR(VLOOKUP(A2362,[1]EventConditionConfig!$B:$D,3,FALSE),\"\"))","v":"击败夜袭的妖兽"},"任务&事件文本",null,2359]
[2360,{"$f":"_xlfn.TEXTJOIN(\"\",1,IFERROR(VLOOKUP(A2363,[1]EventConfig!$T:$V,3,FALSE),\"\"),IFERROR(VLOOKUP(A2363,[1]EventConfig!$U:$W,3,FALSE),\"\"),IFERROR(VLOOKUP(A2363,[1]EventLinkConfig!$B:$C,2,FALSE),\"\"),IFERROR(VLOOKUP(A2363,[1]EventLinkConfig!$D:$E,2,FALSE),\"\"),IFERROR(VLOOKUP(A2363,[1]EventLinkConfig!$L:$M,2,FALSE),\"\"),IFERROR(VLOOKUP(A2363,[1]EventLinkConfig!$X:$Y,2,FALSE),\"\"),IFERROR(VLOOKUP(A2363,[1]EventLinkConfig!$AA:$AB,2,FALSE),\"\"),IFERROR(VLOOKUP(A2363,[1]EventConditionConfig!$B:$D,3,FALSE),\"\"))","v":"击败峰顶的妖王"},"任务&事件文本",null,2360]
[2361,{"$f":"_xlfn.TEXTJOIN(\"\",1,IFERROR(VLOOKUP(A2364,[1]EventConfig!$T:$V,3,FALSE),\"\"),IFERROR(VLOOKUP(A2364,[1]EventConfig!$U:$W,3,FALSE),\"\"),IFERROR(VLOOKUP(A2364,[1]EventLinkConfig!$B:$C,2,FALSE),\"\"),IFERROR(VLOOKUP(A2364,[1]EventLinkConfig!$D:$E,2,FALSE),\"\"),IFERROR(VLOOKUP(A2364,[1]EventLinkConfig!$L:$M,2,FALSE),\"\"),IFERROR(VLOOKUP(A2364,[1]EventLinkConfig!$X:$Y,2,FALSE),\"\"),IFERROR(VLOOKUP(A2364,[1]EventLinkConfig!$AA:$AB,2,FALSE),\"\"),IFERROR(VLOOKUP(A2364,[1]EventConditionConfig!$B:$D,3,FALSE),\"\"))","v":"击败仙山的阵眼妖兽"},"任务&事件文本",null,2361]
[2362,{"$f":"_xlfn.TEXTJOIN(\"\",1,IFERROR(VLOOKUP(A2365,[1]EventConfig!$T:$V,3,FALSE),\"\"),IFERROR(VLOOKUP(A2365,[1]EventConfig!$U:$W,3,FALSE),\"\"),IFERROR(VLOOKUP(A2365,[1]EventLinkConfig!$B:$C,2,FALSE),\"\"),IFERROR(VLOOKUP(A2365,[1]EventLinkConfig!$D:$E,2,FALSE),\"\"),IFERROR(VLOOKUP(A2365,[1]EventLinkConfig!$L:$M,2,FALSE),\"\"),IFERROR(VLOOKUP(A2365,[1]EventLinkConfig!$X:$Y,2,FALSE),\"\"),IFERROR(VLOOKUP(A2365,[1]EventLinkConfig!$AA:$AB,2,FALSE),\"\"),IFERROR(VLOOKUP(A2365,[1]EventConditionConfig!$B:$D,3,FALSE),\"\"))","v":"击杀灵兽获得天肥"},"任务&事件文本",null,2362]
[2363,{"$f":"_xlfn.TEXTJOIN(\"\",1,IFERROR(VLOOKUP(A2366,[1]EventConfig!$T:$V,3,FALSE),\"\"),IFERROR(VLOOKUP(A2366,[1]EventConfig!$U:$W,3,FALSE),\"\"),IFERROR(VLOOKUP(A2366,[1]EventLinkConfig!$B:$C,2,FALSE),\"\"),IFERROR(VLOOKUP(A2366,[1]EventLinkConfig!$D:$E,2,FALSE),\"\"),IFERROR(VLOOKUP(A2366,[1]EventLinkConfig!$L:$M,2,FALSE),\"\"),IFERROR(VLOOKUP(A2366,[1]EventLinkConfig!$X:$Y,2,FALSE),\"\"),IFERROR(VLOOKUP(A2366,[1]EventLinkConfig!$AA:$AB,2,FALSE),\"\"),IFERROR(VLOOKUP(A2366,[1]EventConditionConfig!$B:$D,3,FALSE),\"\"))","v":"神识探索至一处山洞之中，似乎别有洞天"},"任务&事件文本",null,2363]
[2364,{"$f":"_xlfn.TEXTJOIN(\"\",1,IFERROR(VLOOKUP(A2367,[1]EventConfig!$T:$V,3,FALSE),\"\"),IFERROR(VLOOKUP(A2367,[1]EventConfig!$U:$W,3,FALSE),\"\"),IFERROR(VLOOKUP(A2367,[1]EventLinkConfig!$B:$C,2,FALSE),\"\"),IFERROR(VLOOKUP(A2367,[1]EventLinkConfig!$D:$E,2,FALSE),\"\"),IFERROR(VLOOKUP(A2367,[1]EventLinkConfig!$L:$M,2,FALSE),\"\"),IFERROR(VLOOKUP(A2367,[1]EventLinkConfig!$X:$Y,2,FALSE),\"\"),IFERROR(VLOOKUP(A2367,[1]EventLinkConfig!$AA:$AB,2,FALSE),\"\"),IFERROR(VLOOKUP(A2367,[1]EventConditionConfig!$B:$D,3,FALSE),\"\"))","v":"前往山洞之中收集药材"},"任务&事件文本",null,2364]
[2365,{"$f":"_xlfn.TEXTJOIN(\"\",1,IFERROR(VLOOKUP(A2368,[1]EventConfig!$T:$V,3,FALSE),\"\"),IFERROR(VLOOKUP(A2368,[1]EventConfig!$U:$W,3,FALSE),\"\"),IFERROR(VLOOKUP(A2368,[1]EventLinkConfig!$B:$C,2,FALSE),\"\"),IFERROR(VLOOKUP(A2368,[1]EventLinkConfig!$D:$E,2,FALSE),\"\"),IFERROR(VLOOKUP(A2368,[1]EventLinkConfig!$L:$M,2,FALSE),\"\"),IFERROR(VLOOKUP(A2368,[1]EventLinkConfig!$X:$Y,2,FALSE),\"\"),IFERROR(VLOOKUP(A2368,[1]EventLinkConfig!$AA:$AB,2,FALSE),\"\"),IFERROR(VLOOKUP(A2368,[1]EventConditionConfig!$B:$D,3,FALSE),\"\"))","v":"受疯道人所托，追查《御风化影诀》的下落"},"任务&事件文本",null,2365]
[2366,{"$f":"_xlfn.TEXTJOIN(\"\",1,IFERROR(VLOOKUP(A2369,[1]EventConfig!$T:$V,3,FALSE),\"\"),IFERROR(VLOOKUP(A2369,[1]EventConfig!$U:$W,3,FALSE),\"\"),IFERROR(VLOOKUP(A2369,[1]EventLinkConfig!$B:$C,2,FALSE),\"\"),IFERROR(VLOOKUP(A2369,[1]EventLinkConfig!$D:$E,2,FALSE),\"\"),IFERROR(VLOOKUP(A2369,[1]EventLinkConfig!$L:$M,2,FALSE),\"\"),IFERROR(VLOOKUP(A2369,[1]EventLinkConfig!$X:$Y,2,FALSE),\"\"),IFERROR(VLOOKUP(A2369,[1]EventLinkConfig!$AA:$AB,2,FALSE),\"\"),IFERROR(VLOOKUP(A2369,[1]EventConditionConfig!$B:$D,3,FALSE),\"\"))","v":"与疯道人对话(0/1)"},"任务&事件文本",null,2366]
[2367,{"$f":"_xlfn.TEXTJOIN(\"\",1,IFERROR(VLOOKUP(A2370,[1]EventConfig!$T:$V,3,FALSE),\"\"),IFERROR(VLOOKUP(A2370,[1]EventConfig!$U:$W,3,FALSE),\"\"),IFERROR(VLOOKUP(A2370,[1]EventLinkConfig!$B:$C,2,FALSE),\"\"),IFERROR(VLOOKUP(A2370,[1]EventLinkConfig!$D:$E,2,FALSE),\"\"),IFERROR(VLOOKUP(A2370,[1]EventLinkConfig!$L:$M,2,FALSE),\"\"),IFERROR(VLOOKUP(A2370,[1]EventLinkConfig!$X:$Y,2,FALSE),\"\"),IFERROR(VLOOKUP(A2370,[1]EventLinkConfig!$AA:$AB,2,FALSE),\"\"),IFERROR(VLOOKUP(A2370,[1]EventConditionConfig!$B:$D,3,FALSE),\"\"))","v":"小友留步，老夫有一事相求"},"任务&事件文本",null,2367]
[2368,{"$f":"_xlfn.TEXTJOIN(\"\",1,IFERROR(VLOOKUP(A2371,[1]EventConfig!$T:$V,3,FALSE),\"\"),IFERROR(VLOOKUP(A2371,[1]EventConfig!$U:$W,3,FALSE),\"\"),IFERROR(VLOOKUP(A2371,[1]EventLinkConfig!$B:$C,2,FALSE),\"\"),IFERROR(VLOOKUP(A2371,[1]EventLinkConfig!$D:$E,2,FALSE),\"\"),IFERROR(VLOOKUP(A2371,[1]EventLinkConfig!$L:$M,2,FALSE),\"\"),IFERROR(VLOOKUP(A2371,[1]EventLinkConfig!$X:$Y,2,FALSE),\"\"),IFERROR(VLOOKUP(A2371,[1]EventLinkConfig!$AA:$AB,2,FALSE),\"\"),IFERROR(VLOOKUP(A2371,[1]EventConditionConfig!$B:$D,3,FALSE),\"\"))","v":"三十年前北海妖族来犯，击退妖族后老夫捡到个被妖兽重伤的娃娃。"},"任务&事件文本",null,2368]
[2369,{"$f":"_xlfn.TEXTJOIN(\"\",1,IFERROR(VLOOKUP(A2372,[1]EventConfig!$T:$V,3,FALSE),\"\"),IFERROR(VLOOKUP(A2372,[1]EventConfig!$U:$W,3,FALSE),\"\"),IFERROR(VLOOKUP(A2372,[1]EventLinkConfig!$B:$C,2,FALSE),\"\"),IFERROR(VLOOKUP(A2372,[1]EventLinkConfig!$D:$E,2,FALSE),\"\"),IFERROR(VLOOKUP(A2372,[1]EventLinkConfig!$L:$M,2,FALSE),\"\"),IFERROR(VLOOKUP(A2372,[1]EventLinkConfig!$X:$Y,2,FALSE),\"\"),IFERROR(VLOOKUP(A2372,[1]EventLinkConfig!$AA:$AB,2,FALSE),\"\"),IFERROR(VLOOKUP(A2372,[1]EventConditionConfig!$B:$D,3,FALSE),\"\"))","v":"他心口妖气汇聚，周身却萦绕着纯净的风灵根。这般矛盾体质，注定要卷入因果轮回。"},"任务&事件文本",null,2369]
[2370,{"$f":"_xlfn.TEXTJOIN(\"\",1,IFERROR(VLOOKUP(A2373,[1]EventConfig!$T:$V,3,FALSE),\"\"),IFERROR(VLOOKUP(A2373,[1]EventConfig!$U:$W,3,FALSE),\"\"),IFERROR(VLOOKUP(A2373,[1]EventLinkConfig!$B:$C,2,FALSE),\"\"),IFERROR(VLOOKUP(A2373,[1]EventLinkConfig!$D:$E,2,FALSE),\"\"),IFERROR(VLOOKUP(A2373,[1]EventLinkConfig!$L:$M,2,FALSE),\"\"),IFERROR(VLOOKUP(A2373,[1]EventLinkConfig!$X:$Y,2,FALSE),\"\"),IFERROR(VLOOKUP(A2373,[1]EventLinkConfig!$AA:$AB,2,FALSE),\"\"),IFERROR(VLOOKUP(A2373,[1]EventConditionConfig!$B:$D,3,FALSE),\"\"))","v":"于是老夫收留他在门下修养"},"任务&事件文本",null,{"$f":"A2373","v":2370}]
[2371,{"$f":"_xlfn.TEXTJOIN(\"\",1,IFERROR(VLOOKUP(A2374,[1]EventConfig!$T:$V,3,FALSE),\"\"),IFERROR(VLOOKUP(A2374,[1]EventConfig!$U:$W,3,FALSE),\"\"),IFERROR(VLOOKUP(A2374,[1]EventLinkConfig!$B:$C,2,FALSE),\"\"),IFERROR(VLOOKUP(A2374,[1]EventLinkConfig!$D:$E,2,FALSE),\"\"),IFERROR(VLOOKUP(A2374,[1]EventLinkConfig!$L:$M,2,FALSE),\"\"),IFERROR(VLOOKUP(A2374,[1]EventLinkConfig!$X:$Y,2,FALSE),\"\"),IFERROR(VLOOKUP(A2374,[1]EventLinkConfig!$AA:$AB,2,FALSE),\"\"),IFERROR(VLOOKUP(A2374,[1]EventConditionConfig!$B:$D,3,FALSE),\"\"))","v":"但他心智被妖气所蛊惑一心只想报仇，整日念叨着要杀尽北海妖族。"},"任务&事件文本",null,2371]
[2372,{"$f":"_xlfn.TEXTJOIN(\"\",1,IFERROR(VLOOKUP(A2375,[1]EventConfig!$T:$V,3,FALSE),\"\"),IFERROR(VLOOKUP(A2375,[1]EventConfig!$U:$W,3,FALSE),\"\"),IFERROR(VLOOKUP(A2375,[1]EventLinkConfig!$B:$C,2,FALSE),\"\"),IFERROR(VLOOKUP(A2375,[1]EventLinkConfig!$D:$E,2,FALSE),\"\"),IFERROR(VLOOKUP(A2375,[1]EventLinkConfig!$L:$M,2,FALSE),\"\"),IFERROR(VLOOKUP(A2375,[1]EventLinkConfig!$X:$Y,2,FALSE),\"\"),IFERROR(VLOOKUP(A2375,[1]EventLinkConfig!$AA:$AB,2,FALSE),\"\"),IFERROR(VLOOKUP(A2375,[1]EventConditionConfig!$B:$D,3,FALSE),\"\"))","v":"但十年的相处老夫早就把他当做亲人看待，为了断掉念想，只得让他离去，他离开之时盗走了洞府中的禁书《御风化影诀》。"},"任务&事件文本",null,2372]
[2373,{"$f":"_xlfn.TEXTJOIN(\"\",1,IFERROR(VLOOKUP(A2376,[1]EventConfig!$T:$V,3,FALSE),\"\"),IFERROR(VLOOKUP(A2376,[1]EventConfig!$U:$W,3,FALSE),\"\"),IFERROR(VLOOKUP(A2376,[1]EventLinkConfig!$B:$C,2,FALSE),\"\"),IFERROR(VLOOKUP(A2376,[1]EventLinkConfig!$D:$E,2,FALSE),\"\"),IFERROR(VLOOKUP(A2376,[1]EventLinkConfig!$L:$M,2,FALSE),\"\"),IFERROR(VLOOKUP(A2376,[1]EventLinkConfig!$X:$Y,2,FALSE),\"\"),IFERROR(VLOOKUP(A2376,[1]EventLinkConfig!$AA:$AB,2,FALSE),\"\"),IFERROR(VLOOKUP(A2376,[1]EventConditionConfig!$B:$D,3,FALSE),\"\"))","v":"\"\""},"任务&事件文本",null,2373]
[2374,{"$f":"_xlfn.TEXTJOIN(\"\",1,IFERROR(VLOOKUP(A2377,[1]EventConfig!$T:$V,3,FALSE),\"\"),IFERROR(VLOOKUP(A2377,[1]EventConfig!$U:$W,3,FALSE),\"\"),IFERROR(VLOOKUP(A2377,[1]EventLinkConfig!$B:$C,2,FALSE),\"\"),IFERROR(VLOOKUP(A2377,[1]EventLinkConfig!$D:$E,2,FALSE),\"\"),IFERROR(VLOOKUP(A2377,[1]EventLinkConfig!$L:$M,2,FALSE),\"\"),IFERROR(VLOOKUP(A2377,[1]EventLinkConfig!$X:$Y,2,FALSE),\"\"),IFERROR(VLOOKUP(A2377,[1]EventLinkConfig!$AA:$AB,2,FALSE),\"\"),IFERROR(VLOOKUP(A2377,[1]EventConditionConfig!$B:$D,3,FALSE),\"\"))","v":"前辈为何不追"},"任务&事件文本",null,2374]
[2375,{"$f":"_xlfn.TEXTJOIN(\"\",1,IFERROR(VLOOKUP(A2378,[1]EventConfig!$T:$V,3,FALSE),\"\"),IFERROR(VLOOKUP(A2378,[1]EventConfig!$U:$W,3,FALSE),\"\"),IFERROR(VLOOKUP(A2378,[1]EventLinkConfig!$B:$C,2,FALSE),\"\"),IFERROR(VLOOKUP(A2378,[1]EventLinkConfig!$D:$E,2,FALSE),\"\"),IFERROR(VLOOKUP(A2378,[1]EventLinkConfig!$L:$M,2,FALSE),\"\"),IFERROR(VLOOKUP(A2378,[1]EventLinkConfig!$X:$Y,2,FALSE),\"\"),IFERROR(VLOOKUP(A2378,[1]EventLinkConfig!$AA:$AB,2,FALSE),\"\"),IFERROR(VLOOKUP(A2378,[1]EventConditionConfig!$B:$D,3,FALSE),\"\"))","v":"他怎会轻易盗走此书"},"任务&事件文本",null,2375]
[2376,{"$f":"_xlfn.TEXTJOIN(\"\",1,IFERROR(VLOOKUP(A2379,[1]EventConfig!$T:$V,3,FALSE),\"\"),IFERROR(VLOOKUP(A2379,[1]EventConfig!$U:$W,3,FALSE),\"\"),IFERROR(VLOOKUP(A2379,[1]EventLinkConfig!$B:$C,2,FALSE),\"\"),IFERROR(VLOOKUP(A2379,[1]EventLinkConfig!$D:$E,2,FALSE),\"\"),IFERROR(VLOOKUP(A2379,[1]EventLinkConfig!$L:$M,2,FALSE),\"\"),IFERROR(VLOOKUP(A2379,[1]EventLinkConfig!$X:$Y,2,FALSE),\"\"),IFERROR(VLOOKUP(A2379,[1]EventLinkConfig!$AA:$AB,2,FALSE),\"\"),IFERROR(VLOOKUP(A2379,[1]EventConditionConfig!$B:$D,3,FALSE),\"\"))","v":"那孩子恐是为了给爹妈寻仇，也是看往日情面，老夫不想亲自动手。"},"任务&事件文本",null,2376]
[2377,{"$f":"_xlfn.TEXTJOIN(\"\",1,IFERROR(VLOOKUP(A2380,[1]EventConfig!$T:$V,3,FALSE),\"\"),IFERROR(VLOOKUP(A2380,[1]EventConfig!$U:$W,3,FALSE),\"\"),IFERROR(VLOOKUP(A2380,[1]EventLinkConfig!$B:$C,2,FALSE),\"\"),IFERROR(VLOOKUP(A2380,[1]EventLinkConfig!$D:$E,2,FALSE),\"\"),IFERROR(VLOOKUP(A2380,[1]EventLinkConfig!$L:$M,2,FALSE),\"\"),IFERROR(VLOOKUP(A2380,[1]EventLinkConfig!$X:$Y,2,FALSE),\"\"),IFERROR(VLOOKUP(A2380,[1]EventLinkConfig!$AA:$AB,2,FALSE),\"\"),IFERROR(VLOOKUP(A2380,[1]EventConditionConfig!$B:$D,3,FALSE),\"\"))","v":"现如今老夫发现山中的生灵会莫名消失，村中孩童也是被神秘的妖气所卷走，这和书中的血肉炼化的方法一模一样，老夫断定是那孩子所为。"},"任务&事件文本",null,2377]
[2378,{"$f":"_xlfn.TEXTJOIN(\"\",1,IFERROR(VLOOKUP(A2381,[1]EventConfig!$T:$V,3,FALSE),\"\"),IFERROR(VLOOKUP(A2381,[1]EventConfig!$U:$W,3,FALSE),\"\"),IFERROR(VLOOKUP(A2381,[1]EventLinkConfig!$B:$C,2,FALSE),\"\"),IFERROR(VLOOKUP(A2381,[1]EventLinkConfig!$D:$E,2,FALSE),\"\"),IFERROR(VLOOKUP(A2381,[1]EventLinkConfig!$L:$M,2,FALSE),\"\"),IFERROR(VLOOKUP(A2381,[1]EventLinkConfig!$X:$Y,2,FALSE),\"\"),IFERROR(VLOOKUP(A2381,[1]EventLinkConfig!$AA:$AB,2,FALSE),\"\"),IFERROR(VLOOKUP(A2381,[1]EventConditionConfig!$B:$D,3,FALSE),\"\"))","v":"小友，我追踪妖气波动，他就在西边的树林之中！"},"任务&事件文本",null,2378]
[2379,{"$f":"_xlfn.TEXTJOIN(\"\",1,IFERROR(VLOOKUP(A2382,[1]EventConfig!$T:$V,3,FALSE),\"\"),IFERROR(VLOOKUP(A2382,[1]EventConfig!$U:$W,3,FALSE),\"\"),IFERROR(VLOOKUP(A2382,[1]EventLinkConfig!$B:$C,2,FALSE),\"\"),IFERROR(VLOOKUP(A2382,[1]EventLinkConfig!$D:$E,2,FALSE),\"\"),IFERROR(VLOOKUP(A2382,[1]EventLinkConfig!$L:$M,2,FALSE),\"\"),IFERROR(VLOOKUP(A2382,[1]EventLinkConfig!$X:$Y,2,FALSE),\"\"),IFERROR(VLOOKUP(A2382,[1]EventLinkConfig!$AA:$AB,2,FALSE),\"\"),IFERROR(VLOOKUP(A2382,[1]EventConditionConfig!$B:$D,3,FALSE),\"\"))","v":"追查风无咎(0/1)"},"任务&事件文本",null,2379]
[2380,{"$f":"_xlfn.TEXTJOIN(\"\",1,IFERROR(VLOOKUP(A2383,[1]EventConfig!$T:$V,3,FALSE),\"\"),IFERROR(VLOOKUP(A2383,[1]EventConfig!$U:$W,3,FALSE),\"\"),IFERROR(VLOOKUP(A2383,[1]EventLinkConfig!$B:$C,2,FALSE),\"\"),IFERROR(VLOOKUP(A2383,[1]EventLinkConfig!$D:$E,2,FALSE),\"\"),IFERROR(VLOOKUP(A2383,[1]EventLinkConfig!$L:$M,2,FALSE),\"\"),IFERROR(VLOOKUP(A2383,[1]EventLinkConfig!$X:$Y,2,FALSE),\"\"),IFERROR(VLOOKUP(A2383,[1]EventLinkConfig!$AA:$AB,2,FALSE),\"\"),IFERROR(VLOOKUP(A2383,[1]EventConditionConfig!$B:$D,3,FALSE),\"\"))","v":"（枯叶居然无风漂浮在空中，地面残留着扭曲的符文刻痕，见风无咎在地上刻画着什么）"},"任务&事件文本",null,2380]
[2381,{"$f":"_xlfn.TEXTJOIN(\"\",1,IFERROR(VLOOKUP(A2384,[1]EventConfig!$T:$V,3,FALSE),\"\"),IFERROR(VLOOKUP(A2384,[1]EventConfig!$U:$W,3,FALSE),\"\"),IFERROR(VLOOKUP(A2384,[1]EventLinkConfig!$B:$C,2,FALSE),\"\"),IFERROR(VLOOKUP(A2384,[1]EventLinkConfig!$D:$E,2,FALSE),\"\"),IFERROR(VLOOKUP(A2384,[1]EventLinkConfig!$L:$M,2,FALSE),\"\"),IFERROR(VLOOKUP(A2384,[1]EventLinkConfig!$X:$Y,2,FALSE),\"\"),IFERROR(VLOOKUP(A2384,[1]EventLinkConfig!$AA:$AB,2,FALSE),\"\"),IFERROR(VLOOKUP(A2384,[1]EventConditionConfig!$B:$D,3,FALSE),\"\"))","v":"(看见主角到来)你小子身上怎会有老疯子的气，是那老头让你来抓我的吗。"},"任务&事件文本",null,2381]
[2382,{"$f":"_xlfn.TEXTJOIN(\"\",1,IFERROR(VLOOKUP(A2385,[1]EventConfig!$T:$V,3,FALSE),\"\"),IFERROR(VLOOKUP(A2385,[1]EventConfig!$U:$W,3,FALSE),\"\"),IFERROR(VLOOKUP(A2385,[1]EventLinkConfig!$B:$C,2,FALSE),\"\"),IFERROR(VLOOKUP(A2385,[1]EventLinkConfig!$D:$E,2,FALSE),\"\"),IFERROR(VLOOKUP(A2385,[1]EventLinkConfig!$L:$M,2,FALSE),\"\"),IFERROR(VLOOKUP(A2385,[1]EventLinkConfig!$X:$Y,2,FALSE),\"\"),IFERROR(VLOOKUP(A2385,[1]EventLinkConfig!$AA:$AB,2,FALSE),\"\"),IFERROR(VLOOKUP(A2385,[1]EventConditionConfig!$B:$D,3,FALSE),\"\"))","v":"前辈见往日情面不愿亲自动手，我一人足以"},"任务&事件文本",null,2382]
[2383,{"$f":"_xlfn.TEXTJOIN(\"\",1,IFERROR(VLOOKUP(A2386,[1]EventConfig!$T:$V,3,FALSE),\"\"),IFERROR(VLOOKUP(A2386,[1]EventConfig!$U:$W,3,FALSE),\"\"),IFERROR(VLOOKUP(A2386,[1]EventLinkConfig!$B:$C,2,FALSE),\"\"),IFERROR(VLOOKUP(A2386,[1]EventLinkConfig!$D:$E,2,FALSE),\"\"),IFERROR(VLOOKUP(A2386,[1]EventLinkConfig!$L:$M,2,FALSE),\"\"),IFERROR(VLOOKUP(A2386,[1]EventLinkConfig!$X:$Y,2,FALSE),\"\"),IFERROR(VLOOKUP(A2386,[1]EventLinkConfig!$AA:$AB,2,FALSE),\"\"),IFERROR(VLOOKUP(A2386,[1]EventConditionConfig!$B:$D,3,FALSE),\"\"))","v":"（说罢，风无咎的影子化形，为了一妖，顿时煞气暴涨）"},"任务&事件文本",null,2383]
[2384,{"$f":"_xlfn.TEXTJOIN(\"\",1,IFERROR(VLOOKUP(A2387,[1]EventConfig!$T:$V,3,FALSE),\"\"),IFERROR(VLOOKUP(A2387,[1]EventConfig!$U:$W,3,FALSE),\"\"),IFERROR(VLOOKUP(A2387,[1]EventLinkConfig!$B:$C,2,FALSE),\"\"),IFERROR(VLOOKUP(A2387,[1]EventLinkConfig!$D:$E,2,FALSE),\"\"),IFERROR(VLOOKUP(A2387,[1]EventLinkConfig!$L:$M,2,FALSE),\"\"),IFERROR(VLOOKUP(A2387,[1]EventLinkConfig!$X:$Y,2,FALSE),\"\"),IFERROR(VLOOKUP(A2387,[1]EventLinkConfig!$AA:$AB,2,FALSE),\"\"),IFERROR(VLOOKUP(A2387,[1]EventConditionConfig!$B:$D,3,FALSE),\"\"))","v":"如今我自断妖魂炼出影身，正好今天拿你试试！"},"任务&事件文本",null,2384]
[2385,{"$f":"_xlfn.TEXTJOIN(\"\",1,IFERROR(VLOOKUP(A2388,[1]EventConfig!$T:$V,3,FALSE),\"\"),IFERROR(VLOOKUP(A2388,[1]EventConfig!$U:$W,3,FALSE),\"\"),IFERROR(VLOOKUP(A2388,[1]EventLinkConfig!$B:$C,2,FALSE),\"\"),IFERROR(VLOOKUP(A2388,[1]EventLinkConfig!$D:$E,2,FALSE),\"\"),IFERROR(VLOOKUP(A2388,[1]EventLinkConfig!$L:$M,2,FALSE),\"\"),IFERROR(VLOOKUP(A2388,[1]EventLinkConfig!$X:$Y,2,FALSE),\"\"),IFERROR(VLOOKUP(A2388,[1]EventLinkConfig!$AA:$AB,2,FALSE),\"\"),IFERROR(VLOOKUP(A2388,[1]EventConditionConfig!$B:$D,3,FALSE),\"\"))","v":"岂会如此！"},"任务&事件文本",null,2385]
[2386,{"$f":"_xlfn.TEXTJOIN(\"\",1,IFERROR(VLOOKUP(A2389,[1]EventConfig!$T:$V,3,FALSE),\"\"),IFERROR(VLOOKUP(A2389,[1]EventConfig!$U:$W,3,FALSE),\"\"),IFERROR(VLOOKUP(A2389,[1]EventLinkConfig!$B:$C,2,FALSE),\"\"),IFERROR(VLOOKUP(A2389,[1]EventLinkConfig!$D:$E,2,FALSE),\"\"),IFERROR(VLOOKUP(A2389,[1]EventLinkConfig!$L:$M,2,FALSE),\"\"),IFERROR(VLOOKUP(A2389,[1]EventLinkConfig!$X:$Y,2,FALSE),\"\"),IFERROR(VLOOKUP(A2389,[1]EventLinkConfig!$AA:$AB,2,FALSE),\"\"),IFERROR(VLOOKUP(A2389,[1]EventConditionConfig!$B:$D,3,FALSE),\"\"))","v":"交还书页，我可留你魂魄入轮回。"},"任务&事件文本",null,2386]
[2387,{"$f":"_xlfn.TEXTJOIN(\"\",1,IFERROR(VLOOKUP(A2390,[1]EventConfig!$T:$V,3,FALSE),\"\"),IFERROR(VLOOKUP(A2390,[1]EventConfig!$U:$W,3,FALSE),\"\"),IFERROR(VLOOKUP(A2390,[1]EventLinkConfig!$B:$C,2,FALSE),\"\"),IFERROR(VLOOKUP(A2390,[1]EventLinkConfig!$D:$E,2,FALSE),\"\"),IFERROR(VLOOKUP(A2390,[1]EventLinkConfig!$L:$M,2,FALSE),\"\"),IFERROR(VLOOKUP(A2390,[1]EventLinkConfig!$X:$Y,2,FALSE),\"\"),IFERROR(VLOOKUP(A2390,[1]EventLinkConfig!$AA:$AB,2,FALSE),\"\"),IFERROR(VLOOKUP(A2390,[1]EventConditionConfig!$B:$D,3,FALSE),\"\"))","v":"轮回？今日是我大意了！老东西还有你，给我等着！（化作一震妖风带着《御风化影诀》逃往远方"},"任务&事件文本",null,2387]
[2388,{"$f":"_xlfn.TEXTJOIN(\"\",1,IFERROR(VLOOKUP(A2391,[1]EventConfig!$T:$V,3,FALSE),\"\"),IFERROR(VLOOKUP(A2391,[1]EventConfig!$U:$W,3,FALSE),\"\"),IFERROR(VLOOKUP(A2391,[1]EventLinkConfig!$B:$C,2,FALSE),\"\"),IFERROR(VLOOKUP(A2391,[1]EventLinkConfig!$D:$E,2,FALSE),\"\"),IFERROR(VLOOKUP(A2391,[1]EventLinkConfig!$L:$M,2,FALSE),\"\"),IFERROR(VLOOKUP(A2391,[1]EventLinkConfig!$X:$Y,2,FALSE),\"\"),IFERROR(VLOOKUP(A2391,[1]EventLinkConfig!$AA:$AB,2,FALSE),\"\"),IFERROR(VLOOKUP(A2391,[1]EventConditionConfig!$B:$D,3,FALSE),\"\"))","v":"这孩子天资聪颖，短短二十年就能参悟书中所写。"},"任务&事件文本",null,2388]
[2389,{"$f":"_xlfn.TEXTJOIN(\"\",1,IFERROR(VLOOKUP(A2392,[1]EventConfig!$T:$V,3,FALSE),\"\"),IFERROR(VLOOKUP(A2392,[1]EventConfig!$U:$W,3,FALSE),\"\"),IFERROR(VLOOKUP(A2392,[1]EventLinkConfig!$B:$C,2,FALSE),\"\"),IFERROR(VLOOKUP(A2392,[1]EventLinkConfig!$D:$E,2,FALSE),\"\"),IFERROR(VLOOKUP(A2392,[1]EventLinkConfig!$L:$M,2,FALSE),\"\"),IFERROR(VLOOKUP(A2392,[1]EventLinkConfig!$X:$Y,2,FALSE),\"\"),IFERROR(VLOOKUP(A2392,[1]EventLinkConfig!$AA:$AB,2,FALSE),\"\"),IFERROR(VLOOKUP(A2392,[1]EventConditionConfig!$B:$D,3,FALSE),\"\"))","v":"无妨，此法需要大量血肉献祭，如此规模的法术定会妖气四散，找到他也是迟早之事。"},"任务&事件文本",null,2389]
[2390,{"$f":"_xlfn.TEXTJOIN(\"\",1,IFERROR(VLOOKUP(A2393,[1]EventConfig!$T:$V,3,FALSE),\"\"),IFERROR(VLOOKUP(A2393,[1]EventConfig!$U:$W,3,FALSE),\"\"),IFERROR(VLOOKUP(A2393,[1]EventLinkConfig!$B:$C,2,FALSE),\"\"),IFERROR(VLOOKUP(A2393,[1]EventLinkConfig!$D:$E,2,FALSE),\"\"),IFERROR(VLOOKUP(A2393,[1]EventLinkConfig!$L:$M,2,FALSE),\"\"),IFERROR(VLOOKUP(A2393,[1]EventLinkConfig!$X:$Y,2,FALSE),\"\"),IFERROR(VLOOKUP(A2393,[1]EventLinkConfig!$AA:$AB,2,FALSE),\"\"),IFERROR(VLOOKUP(A2393,[1]EventConditionConfig!$B:$D,3,FALSE),\"\"))","v":""},"任务&事件文本",null,2390]
[2391,{"$f":"_xlfn.TEXTJOIN(\"\",1,IFERROR(VLOOKUP(A2394,[1]EventConfig!$T:$V,3,FALSE),\"\"),IFERROR(VLOOKUP(A2394,[1]EventConfig!$U:$W,3,FALSE),\"\"),IFERROR(VLOOKUP(A2394,[1]EventLinkConfig!$B:$C,2,FALSE),\"\"),IFERROR(VLOOKUP(A2394,[1]EventLinkConfig!$D:$E,2,FALSE),\"\"),IFERROR(VLOOKUP(A2394,[1]EventLinkConfig!$L:$M,2,FALSE),\"\"),IFERROR(VLOOKUP(A2394,[1]EventLinkConfig!$X:$Y,2,FALSE),\"\"),IFERROR(VLOOKUP(A2394,[1]EventLinkConfig!$AA:$AB,2,FALSE),\"\"),IFERROR(VLOOKUP(A2394,[1]EventConditionConfig!$B:$D,3,FALSE),\"\"))","v":""},"任务&事件文本",null,2391]
[2392,{"$f":"_xlfn.TEXTJOIN(\"\",1,IFERROR(VLOOKUP(A2395,[1]EventConfig!$T:$V,3,FALSE),\"\"),IFERROR(VLOOKUP(A2395,[1]EventConfig!$U:$W,3,FALSE),\"\"),IFERROR(VLOOKUP(A2395,[1]EventLinkConfig!$B:$C,2,FALSE),\"\"),IFERROR(VLOOKUP(A2395,[1]EventLinkConfig!$D:$E,2,FALSE),\"\"),IFERROR(VLOOKUP(A2395,[1]EventLinkConfig!$L:$M,2,FALSE),\"\"),IFERROR(VLOOKUP(A2395,[1]EventLinkConfig!$X:$Y,2,FALSE),\"\"),IFERROR(VLOOKUP(A2395,[1]EventLinkConfig!$AA:$AB,2,FALSE),\"\"),IFERROR(VLOOKUP(A2395,[1]EventConditionConfig!$B:$D,3,FALSE),\"\"))","v":""},"任务&事件文本",null,2392]
[2393,{"$f":"_xlfn.TEXTJOIN(\"\",1,IFERROR(VLOOKUP(A2396,[1]EventConfig!$T:$V,3,FALSE),\"\"),IFERROR(VLOOKUP(A2396,[1]EventConfig!$U:$W,3,FALSE),\"\"),IFERROR(VLOOKUP(A2396,[1]EventLinkConfig!$B:$C,2,FALSE),\"\"),IFERROR(VLOOKUP(A2396,[1]EventLinkConfig!$D:$E,2,FALSE),\"\"),IFERROR(VLOOKUP(A2396,[1]EventLinkConfig!$L:$M,2,FALSE),\"\"),IFERROR(VLOOKUP(A2396,[1]EventLinkConfig!$X:$Y,2,FALSE),\"\"),IFERROR(VLOOKUP(A2396,[1]EventLinkConfig!$AA:$AB,2,FALSE),\"\"),IFERROR(VLOOKUP(A2396,[1]EventConditionConfig!$B:$D,3,FALSE),\"\"))","v":""},"任务&事件文本",null,2393]
[2394,{"$f":"_xlfn.TEXTJOIN(\"\",1,IFERROR(VLOOKUP(A2397,[1]EventConfig!$T:$V,3,FALSE),\"\"),IFERROR(VLOOKUP(A2397,[1]EventConfig!$U:$W,3,FALSE),\"\"),IFERROR(VLOOKUP(A2397,[1]EventLinkConfig!$B:$C,2,FALSE),\"\"),IFERROR(VLOOKUP(A2397,[1]EventLinkConfig!$D:$E,2,FALSE),\"\"),IFERROR(VLOOKUP(A2397,[1]EventLinkConfig!$L:$M,2,FALSE),\"\"),IFERROR(VLOOKUP(A2397,[1]EventLinkConfig!$X:$Y,2,FALSE),\"\"),IFERROR(VLOOKUP(A2397,[1]EventLinkConfig!$AA:$AB,2,FALSE),\"\"),IFERROR(VLOOKUP(A2397,[1]EventConditionConfig!$B:$D,3,FALSE),\"\"))","v":""},"任务&事件文本",null,2394]
[2395,{"$f":"_xlfn.TEXTJOIN(\"\",1,IFERROR(VLOOKUP(A2398,[1]EventConfig!$T:$V,3,FALSE),\"\"),IFERROR(VLOOKUP(A2398,[1]EventConfig!$U:$W,3,FALSE),\"\"),IFERROR(VLOOKUP(A2398,[1]EventLinkConfig!$B:$C,2,FALSE),\"\"),IFERROR(VLOOKUP(A2398,[1]EventLinkConfig!$D:$E,2,FALSE),\"\"),IFERROR(VLOOKUP(A2398,[1]EventLinkConfig!$L:$M,2,FALSE),\"\"),IFERROR(VLOOKUP(A2398,[1]EventLinkConfig!$X:$Y,2,FALSE),\"\"),IFERROR(VLOOKUP(A2398,[1]EventLinkConfig!$AA:$AB,2,FALSE),\"\"),IFERROR(VLOOKUP(A2398,[1]EventConditionConfig!$B:$D,3,FALSE),\"\"))","v":""},"任务&事件文本",null,2395]
[2396,{"$f":"_xlfn.TEXTJOIN(\"\",1,IFERROR(VLOOKUP(A2399,[1]EventConfig!$T:$V,3,FALSE),\"\"),IFERROR(VLOOKUP(A2399,[1]EventConfig!$U:$W,3,FALSE),\"\"),IFERROR(VLOOKUP(A2399,[1]EventLinkConfig!$B:$C,2,FALSE),\"\"),IFERROR(VLOOKUP(A2399,[1]EventLinkConfig!$D:$E,2,FALSE),\"\"),IFERROR(VLOOKUP(A2399,[1]EventLinkConfig!$L:$M,2,FALSE),\"\"),IFERROR(VLOOKUP(A2399,[1]EventLinkConfig!$X:$Y,2,FALSE),\"\"),IFERROR(VLOOKUP(A2399,[1]EventLinkConfig!$AA:$AB,2,FALSE),\"\"),IFERROR(VLOOKUP(A2399,[1]EventConditionConfig!$B:$D,3,FALSE),\"\"))","v":""},"任务&事件文本",null,2396]
[2397,{"$f":"_xlfn.TEXTJOIN(\"\",1,IFERROR(VLOOKUP(A2400,[1]EventConfig!$T:$V,3,FALSE),\"\"),IFERROR(VLOOKUP(A2400,[1]EventConfig!$U:$W,3,FALSE),\"\"),IFERROR(VLOOKUP(A2400,[1]EventLinkConfig!$B:$C,2,FALSE),\"\"),IFERROR(VLOOKUP(A2400,[1]EventLinkConfig!$D:$E,2,FALSE),\"\"),IFERROR(VLOOKUP(A2400,[1]EventLinkConfig!$L:$M,2,FALSE),\"\"),IFERROR(VLOOKUP(A2400,[1]EventLinkConfig!$X:$Y,2,FALSE),\"\"),IFERROR(VLOOKUP(A2400,[1]EventLinkConfig!$AA:$AB,2,FALSE),\"\"),IFERROR(VLOOKUP(A2400,[1]EventConditionConfig!$B:$D,3,FALSE),\"\"))","v":""},"任务&事件文本",null,2397]
[2398,{"$f":"_xlfn.TEXTJOIN(\"\",1,IFERROR(VLOOKUP(A2401,[1]EventConfig!$T:$V,3,FALSE),\"\"),IFERROR(VLOOKUP(A2401,[1]EventConfig!$U:$W,3,FALSE),\"\"),IFERROR(VLOOKUP(A2401,[1]EventLinkConfig!$B:$C,2,FALSE),\"\"),IFERROR(VLOOKUP(A2401,[1]EventLinkConfig!$D:$E,2,FALSE),\"\"),IFERROR(VLOOKUP(A2401,[1]EventLinkConfig!$L:$M,2,FALSE),\"\"),IFERROR(VLOOKUP(A2401,[1]EventLinkConfig!$X:$Y,2,FALSE),\"\"),IFERROR(VLOOKUP(A2401,[1]EventLinkConfig!$AA:$AB,2,FALSE),\"\"),IFERROR(VLOOKUP(A2401,[1]EventConditionConfig!$B:$D,3,FALSE),\"\"))","v":""},"任务&事件文本",null,2398]
[2399,{"$f":"_xlfn.TEXTJOIN(\"\",1,IFERROR(VLOOKUP(A2402,[1]EventConfig!$T:$V,3,FALSE),\"\"),IFERROR(VLOOKUP(A2402,[1]EventConfig!$U:$W,3,FALSE),\"\"),IFERROR(VLOOKUP(A2402,[1]EventLinkConfig!$B:$C,2,FALSE),\"\"),IFERROR(VLOOKUP(A2402,[1]EventLinkConfig!$D:$E,2,FALSE),\"\"),IFERROR(VLOOKUP(A2402,[1]EventLinkConfig!$L:$M,2,FALSE),\"\"),IFERROR(VLOOKUP(A2402,[1]EventLinkConfig!$X:$Y,2,FALSE),\"\"),IFERROR(VLOOKUP(A2402,[1]EventLinkConfig!$AA:$AB,2,FALSE),\"\"),IFERROR(VLOOKUP(A2402,[1]EventConditionConfig!$B:$D,3,FALSE),\"\"))","v":""},"任务&事件文本",null,2399]
[2400,{"$f":"_xlfn.TEXTJOIN(\"\",1,IFERROR(VLOOKUP(A2403,[1]EventConfig!$T:$V,3,FALSE),\"\"),IFERROR(VLOOKUP(A2403,[1]EventConfig!$U:$W,3,FALSE),\"\"),IFERROR(VLOOKUP(A2403,[1]EventLinkConfig!$B:$C,2,FALSE),\"\"),IFERROR(VLOOKUP(A2403,[1]EventLinkConfig!$D:$E,2,FALSE),\"\"),IFERROR(VLOOKUP(A2403,[1]EventLinkConfig!$L:$M,2,FALSE),\"\"),IFERROR(VLOOKUP(A2403,[1]EventLinkConfig!$X:$Y,2,FALSE),\"\"),IFERROR(VLOOKUP(A2403,[1]EventLinkConfig!$AA:$AB,2,FALSE),\"\"),IFERROR(VLOOKUP(A2403,[1]EventConditionConfig!$B:$D,3,FALSE),\"\"))","v":""},"任务&事件文本",null,2400]
[2401,{"$f":"_xlfn.TEXTJOIN(\"\",1,IFERROR(VLOOKUP(A2404,[1]EventConfig!$T:$V,3,FALSE),\"\"),IFERROR(VLOOKUP(A2404,[1]EventConfig!$U:$W,3,FALSE),\"\"),IFERROR(VLOOKUP(A2404,[1]EventLinkConfig!$B:$C,2,FALSE),\"\"),IFERROR(VLOOKUP(A2404,[1]EventLinkConfig!$D:$E,2,FALSE),\"\"),IFERROR(VLOOKUP(A2404,[1]EventLinkConfig!$L:$M,2,FALSE),\"\"),IFERROR(VLOOKUP(A2404,[1]EventLinkConfig!$X:$Y,2,FALSE),\"\"),IFERROR(VLOOKUP(A2404,[1]EventLinkConfig!$AA:$AB,2,FALSE),\"\"),IFERROR(VLOOKUP(A2404,[1]EventConditionConfig!$B:$D,3,FALSE),\"\"))","v":""},"任务&事件文本",null,2401]
[2402,{"$f":"_xlfn.TEXTJOIN(\"\",1,IFERROR(VLOOKUP(A2405,[1]EventConfig!$T:$V,3,FALSE),\"\"),IFERROR(VLOOKUP(A2405,[1]EventConfig!$U:$W,3,FALSE),\"\"),IFERROR(VLOOKUP(A2405,[1]EventLinkConfig!$B:$C,2,FALSE),\"\"),IFERROR(VLOOKUP(A2405,[1]EventLinkConfig!$D:$E,2,FALSE),\"\"),IFERROR(VLOOKUP(A2405,[1]EventLinkConfig!$L:$M,2,FALSE),\"\"),IFERROR(VLOOKUP(A2405,[1]EventLinkConfig!$X:$Y,2,FALSE),\"\"),IFERROR(VLOOKUP(A2405,[1]EventLinkConfig!$AA:$AB,2,FALSE),\"\"),IFERROR(VLOOKUP(A2405,[1]EventConditionConfig!$B:$D,3,FALSE),\"\"))","v":""},"任务&事件文本",null,2402]
[2403,{"$f":"_xlfn.TEXTJOIN(\"\",1,IFERROR(VLOOKUP(A2406,[1]EventConfig!$T:$V,3,FALSE),\"\"),IFERROR(VLOOKUP(A2406,[1]EventConfig!$U:$W,3,FALSE),\"\"),IFERROR(VLOOKUP(A2406,[1]EventLinkConfig!$B:$C,2,FALSE),\"\"),IFERROR(VLOOKUP(A2406,[1]EventLinkConfig!$D:$E,2,FALSE),\"\"),IFERROR(VLOOKUP(A2406,[1]EventLinkConfig!$L:$M,2,FALSE),\"\"),IFERROR(VLOOKUP(A2406,[1]EventLinkConfig!$X:$Y,2,FALSE),\"\"),IFERROR(VLOOKUP(A2406,[1]EventLinkConfig!$AA:$AB,2,FALSE),\"\"),IFERROR(VLOOKUP(A2406,[1]EventConditionConfig!$B:$D,3,FALSE),\"\"))","v":""},"任务&事件文本",null,2403]
[2404,{"$f":"_xlfn.TEXTJOIN(\"\",1,IFERROR(VLOOKUP(A2407,[1]EventConfig!$T:$V,3,FALSE),\"\"),IFERROR(VLOOKUP(A2407,[1]EventConfig!$U:$W,3,FALSE),\"\"),IFERROR(VLOOKUP(A2407,[1]EventLinkConfig!$B:$C,2,FALSE),\"\"),IFERROR(VLOOKUP(A2407,[1]EventLinkConfig!$D:$E,2,FALSE),\"\"),IFERROR(VLOOKUP(A2407,[1]EventLinkConfig!$L:$M,2,FALSE),\"\"),IFERROR(VLOOKUP(A2407,[1]EventLinkConfig!$X:$Y,2,FALSE),\"\"),IFERROR(VLOOKUP(A2407,[1]EventLinkConfig!$AA:$AB,2,FALSE),\"\"),IFERROR(VLOOKUP(A2407,[1]EventConditionConfig!$B:$D,3,FALSE),\"\"))","v":""},"任务&事件文本",null,2404]
[2405,{"$f":"_xlfn.TEXTJOIN(\"\",1,IFERROR(VLOOKUP(A2408,[1]EventConfig!$T:$V,3,FALSE),\"\"),IFERROR(VLOOKUP(A2408,[1]EventConfig!$U:$W,3,FALSE),\"\"),IFERROR(VLOOKUP(A2408,[1]EventLinkConfig!$B:$C,2,FALSE),\"\"),IFERROR(VLOOKUP(A2408,[1]EventLinkConfig!$D:$E,2,FALSE),\"\"),IFERROR(VLOOKUP(A2408,[1]EventLinkConfig!$L:$M,2,FALSE),\"\"),IFERROR(VLOOKUP(A2408,[1]EventLinkConfig!$X:$Y,2,FALSE),\"\"),IFERROR(VLOOKUP(A2408,[1]EventLinkConfig!$AA:$AB,2,FALSE),\"\"),IFERROR(VLOOKUP(A2408,[1]EventConditionConfig!$B:$D,3,FALSE),\"\"))","v":""},"任务&事件文本",null,2405]
[2406,{"$f":"_xlfn.TEXTJOIN(\"\",1,IFERROR(VLOOKUP(A2409,[1]EventConfig!$T:$V,3,FALSE),\"\"),IFERROR(VLOOKUP(A2409,[1]EventConfig!$U:$W,3,FALSE),\"\"),IFERROR(VLOOKUP(A2409,[1]EventLinkConfig!$B:$C,2,FALSE),\"\"),IFERROR(VLOOKUP(A2409,[1]EventLinkConfig!$D:$E,2,FALSE),\"\"),IFERROR(VLOOKUP(A2409,[1]EventLinkConfig!$L:$M,2,FALSE),\"\"),IFERROR(VLOOKUP(A2409,[1]EventLinkConfig!$X:$Y,2,FALSE),\"\"),IFERROR(VLOOKUP(A2409,[1]EventLinkConfig!$AA:$AB,2,FALSE),\"\"),IFERROR(VLOOKUP(A2409,[1]EventConditionConfig!$B:$D,3,FALSE),\"\"))","v":""},"任务&事件文本",null,2406]
[2407,{"$f":"_xlfn.TEXTJOIN(\"\",1,IFERROR(VLOOKUP(A2410,[1]EventConfig!$T:$V,3,FALSE),\"\"),IFERROR(VLOOKUP(A2410,[1]EventConfig!$U:$W,3,FALSE),\"\"),IFERROR(VLOOKUP(A2410,[1]EventLinkConfig!$B:$C,2,FALSE),\"\"),IFERROR(VLOOKUP(A2410,[1]EventLinkConfig!$D:$E,2,FALSE),\"\"),IFERROR(VLOOKUP(A2410,[1]EventLinkConfig!$L:$M,2,FALSE),\"\"),IFERROR(VLOOKUP(A2410,[1]EventLinkConfig!$X:$Y,2,FALSE),\"\"),IFERROR(VLOOKUP(A2410,[1]EventLinkConfig!$AA:$AB,2,FALSE),\"\"),IFERROR(VLOOKUP(A2410,[1]EventConditionConfig!$B:$D,3,FALSE),\"\"))","v":""},"任务&事件文本",null,2407]
[2408,{"$f":"_xlfn.TEXTJOIN(\"\",1,IFERROR(VLOOKUP(A2411,[1]EventConfig!$T:$V,3,FALSE),\"\"),IFERROR(VLOOKUP(A2411,[1]EventConfig!$U:$W,3,FALSE),\"\"),IFERROR(VLOOKUP(A2411,[1]EventLinkConfig!$B:$C,2,FALSE),\"\"),IFERROR(VLOOKUP(A2411,[1]EventLinkConfig!$D:$E,2,FALSE),\"\"),IFERROR(VLOOKUP(A2411,[1]EventLinkConfig!$L:$M,2,FALSE),\"\"),IFERROR(VLOOKUP(A2411,[1]EventLinkConfig!$X:$Y,2,FALSE),\"\"),IFERROR(VLOOKUP(A2411,[1]EventLinkConfig!$AA:$AB,2,FALSE),\"\"),IFERROR(VLOOKUP(A2411,[1]EventConditionConfig!$B:$D,3,FALSE),\"\"))","v":""},"任务&事件文本",null,2408]
[2409,{"$f":"_xlfn.TEXTJOIN(\"\",1,IFERROR(VLOOKUP(A2412,[1]EventConfig!$T:$V,3,FALSE),\"\"),IFERROR(VLOOKUP(A2412,[1]EventConfig!$U:$W,3,FALSE),\"\"),IFERROR(VLOOKUP(A2412,[1]EventLinkConfig!$B:$C,2,FALSE),\"\"),IFERROR(VLOOKUP(A2412,[1]EventLinkConfig!$D:$E,2,FALSE),\"\"),IFERROR(VLOOKUP(A2412,[1]EventLinkConfig!$L:$M,2,FALSE),\"\"),IFERROR(VLOOKUP(A2412,[1]EventLinkConfig!$X:$Y,2,FALSE),\"\"),IFERROR(VLOOKUP(A2412,[1]EventLinkConfig!$AA:$AB,2,FALSE),\"\"),IFERROR(VLOOKUP(A2412,[1]EventConditionConfig!$B:$D,3,FALSE),\"\"))","v":""},"任务&事件文本",null,2409]
[2410,{"$f":"_xlfn.TEXTJOIN(\"\",1,IFERROR(VLOOKUP(A2413,[1]EventConfig!$T:$V,3,FALSE),\"\"),IFERROR(VLOOKUP(A2413,[1]EventConfig!$U:$W,3,FALSE),\"\"),IFERROR(VLOOKUP(A2413,[1]EventLinkConfig!$B:$C,2,FALSE),\"\"),IFERROR(VLOOKUP(A2413,[1]EventLinkConfig!$D:$E,2,FALSE),\"\"),IFERROR(VLOOKUP(A2413,[1]EventLinkConfig!$L:$M,2,FALSE),\"\"),IFERROR(VLOOKUP(A2413,[1]EventLinkConfig!$X:$Y,2,FALSE),\"\"),IFERROR(VLOOKUP(A2413,[1]EventLinkConfig!$AA:$AB,2,FALSE),\"\"),IFERROR(VLOOKUP(A2413,[1]EventConditionConfig!$B:$D,3,FALSE),\"\"))","v":""},"任务&事件文本",null,2410]
[2411,{"$f":"_xlfn.TEXTJOIN(\"\",1,IFERROR(VLOOKUP(A2414,[1]EventConfig!$T:$V,3,FALSE),\"\"),IFERROR(VLOOKUP(A2414,[1]EventConfig!$U:$W,3,FALSE),\"\"),IFERROR(VLOOKUP(A2414,[1]EventLinkConfig!$B:$C,2,FALSE),\"\"),IFERROR(VLOOKUP(A2414,[1]EventLinkConfig!$D:$E,2,FALSE),\"\"),IFERROR(VLOOKUP(A2414,[1]EventLinkConfig!$L:$M,2,FALSE),\"\"),IFERROR(VLOOKUP(A2414,[1]EventLinkConfig!$X:$Y,2,FALSE),\"\"),IFERROR(VLOOKUP(A2414,[1]EventLinkConfig!$AA:$AB,2,FALSE),\"\"),IFERROR(VLOOKUP(A2414,[1]EventConditionConfig!$B:$D,3,FALSE),\"\"))","v":""},"任务&事件文本",null,2411]
[2412,{"$f":"_xlfn.TEXTJOIN(\"\",1,IFERROR(VLOOKUP(A2415,[1]EventConfig!$T:$V,3,FALSE),\"\"),IFERROR(VLOOKUP(A2415,[1]EventConfig!$U:$W,3,FALSE),\"\"),IFERROR(VLOOKUP(A2415,[1]EventLinkConfig!$B:$C,2,FALSE),\"\"),IFERROR(VLOOKUP(A2415,[1]EventLinkConfig!$D:$E,2,FALSE),\"\"),IFERROR(VLOOKUP(A2415,[1]EventLinkConfig!$L:$M,2,FALSE),\"\"),IFERROR(VLOOKUP(A2415,[1]EventLinkConfig!$X:$Y,2,FALSE),\"\"),IFERROR(VLOOKUP(A2415,[1]EventLinkConfig!$AA:$AB,2,FALSE),\"\"),IFERROR(VLOOKUP(A2415,[1]EventConditionConfig!$B:$D,3,FALSE),\"\"))","v":"受化妖剑士所托，帮助他消灭藏匿北海的海妖"},"任务&事件文本",null,2412]
[2413,{"$f":"_xlfn.TEXTJOIN(\"\",1,IFERROR(VLOOKUP(A2416,[1]EventConfig!$T:$V,3,FALSE),\"\"),IFERROR(VLOOKUP(A2416,[1]EventConfig!$U:$W,3,FALSE),\"\"),IFERROR(VLOOKUP(A2416,[1]EventLinkConfig!$B:$C,2,FALSE),\"\"),IFERROR(VLOOKUP(A2416,[1]EventLinkConfig!$D:$E,2,FALSE),\"\"),IFERROR(VLOOKUP(A2416,[1]EventLinkConfig!$L:$M,2,FALSE),\"\"),IFERROR(VLOOKUP(A2416,[1]EventLinkConfig!$X:$Y,2,FALSE),\"\"),IFERROR(VLOOKUP(A2416,[1]EventLinkConfig!$AA:$AB,2,FALSE),\"\"),IFERROR(VLOOKUP(A2416,[1]EventConditionConfig!$B:$D,3,FALSE),\"\"))","v":"与化妖剑士对话"},"任务&事件文本",null,2413]
[2414,{"$f":"_xlfn.TEXTJOIN(\"\",1,IFERROR(VLOOKUP(A2417,[1]EventConfig!$T:$V,3,FALSE),\"\"),IFERROR(VLOOKUP(A2417,[1]EventConfig!$U:$W,3,FALSE),\"\"),IFERROR(VLOOKUP(A2417,[1]EventLinkConfig!$B:$C,2,FALSE),\"\"),IFERROR(VLOOKUP(A2417,[1]EventLinkConfig!$D:$E,2,FALSE),\"\"),IFERROR(VLOOKUP(A2417,[1]EventLinkConfig!$L:$M,2,FALSE),\"\"),IFERROR(VLOOKUP(A2417,[1]EventLinkConfig!$X:$Y,2,FALSE),\"\"),IFERROR(VLOOKUP(A2417,[1]EventLinkConfig!$AA:$AB,2,FALSE),\"\"),IFERROR(VLOOKUP(A2417,[1]EventConditionConfig!$B:$D,3,FALSE),\"\"))","v":"咸腥的海风中，你看见礁石上蜷缩着人形怪物——它的脊椎刺破皮肤形成剑鞘，一柄生满红锈的巨剑就背在嵴骨之间。当它转头看向你时，你不由得心底生寒。"},"任务&事件文本",null,2414]
[2415,{"$f":"_xlfn.TEXTJOIN(\"\",1,IFERROR(VLOOKUP(A2418,[1]EventConfig!$T:$V,3,FALSE),\"\"),IFERROR(VLOOKUP(A2418,[1]EventConfig!$U:$W,3,FALSE),\"\"),IFERROR(VLOOKUP(A2418,[1]EventLinkConfig!$B:$C,2,FALSE),\"\"),IFERROR(VLOOKUP(A2418,[1]EventLinkConfig!$D:$E,2,FALSE),\"\"),IFERROR(VLOOKUP(A2418,[1]EventLinkConfig!$L:$M,2,FALSE),\"\"),IFERROR(VLOOKUP(A2418,[1]EventLinkConfig!$X:$Y,2,FALSE),\"\"),IFERROR(VLOOKUP(A2418,[1]EventLinkConfig!$AA:$AB,2,FALSE),\"\"),IFERROR(VLOOKUP(A2418,[1]EventConditionConfig!$B:$D,3,FALSE),\"\"))","v":"你闻到了吗...海里的血锈味。那厮海妖在这片海滩卷走阿蘅时的这种味道"},"任务&事件文本",null,2415]
[2416,{"$f":"_xlfn.TEXTJOIN(\"\",1,IFERROR(VLOOKUP(A2419,[1]EventConfig!$T:$V,3,FALSE),\"\"),IFERROR(VLOOKUP(A2419,[1]EventConfig!$U:$W,3,FALSE),\"\"),IFERROR(VLOOKUP(A2419,[1]EventLinkConfig!$B:$C,2,FALSE),\"\"),IFERROR(VLOOKUP(A2419,[1]EventLinkConfig!$D:$E,2,FALSE),\"\"),IFERROR(VLOOKUP(A2419,[1]EventLinkConfig!$L:$M,2,FALSE),\"\"),IFERROR(VLOOKUP(A2419,[1]EventLinkConfig!$X:$Y,2,FALSE),\"\"),IFERROR(VLOOKUP(A2419,[1]EventLinkConfig!$AA:$AB,2,FALSE),\"\"),IFERROR(VLOOKUP(A2419,[1]EventConditionConfig!$B:$D,3,FALSE),\"\"))","v":"什么血锈味，我闻不见，你口中的阿蘅是？"},"任务&事件文本",null,2416]
[2417,{"$f":"_xlfn.TEXTJOIN(\"\",1,IFERROR(VLOOKUP(A2420,[1]EventConfig!$T:$V,3,FALSE),\"\"),IFERROR(VLOOKUP(A2420,[1]EventConfig!$U:$W,3,FALSE),\"\"),IFERROR(VLOOKUP(A2420,[1]EventLinkConfig!$B:$C,2,FALSE),\"\"),IFERROR(VLOOKUP(A2420,[1]EventLinkConfig!$D:$E,2,FALSE),\"\"),IFERROR(VLOOKUP(A2420,[1]EventLinkConfig!$L:$M,2,FALSE),\"\"),IFERROR(VLOOKUP(A2420,[1]EventLinkConfig!$X:$Y,2,FALSE),\"\"),IFERROR(VLOOKUP(A2420,[1]EventLinkConfig!$AA:$AB,2,FALSE),\"\"),IFERROR(VLOOKUP(A2420,[1]EventConditionConfig!$B:$D,3,FALSE),\"\"))","v":"我的妻子。"},"任务&事件文本",null,2417]
[2418,{"$f":"_xlfn.TEXTJOIN(\"\",1,IFERROR(VLOOKUP(A2421,[1]EventConfig!$T:$V,3,FALSE),\"\"),IFERROR(VLOOKUP(A2421,[1]EventConfig!$U:$W,3,FALSE),\"\"),IFERROR(VLOOKUP(A2421,[1]EventLinkConfig!$B:$C,2,FALSE),\"\"),IFERROR(VLOOKUP(A2421,[1]EventLinkConfig!$D:$E,2,FALSE),\"\"),IFERROR(VLOOKUP(A2421,[1]EventLinkConfig!$L:$M,2,FALSE),\"\"),IFERROR(VLOOKUP(A2421,[1]EventLinkConfig!$X:$Y,2,FALSE),\"\"),IFERROR(VLOOKUP(A2421,[1]EventLinkConfig!$AA:$AB,2,FALSE),\"\"),IFERROR(VLOOKUP(A2421,[1]EventConditionConfig!$B:$D,3,FALSE),\"\"))","v":"妖怪还有妻子，还挺稀奇。"},"任务&事件文本",null,2418]
[2419,{"$f":"_xlfn.TEXTJOIN(\"\",1,IFERROR(VLOOKUP(A2422,[1]EventConfig!$T:$V,3,FALSE),\"\"),IFERROR(VLOOKUP(A2422,[1]EventConfig!$U:$W,3,FALSE),\"\"),IFERROR(VLOOKUP(A2422,[1]EventLinkConfig!$B:$C,2,FALSE),\"\"),IFERROR(VLOOKUP(A2422,[1]EventLinkConfig!$D:$E,2,FALSE),\"\"),IFERROR(VLOOKUP(A2422,[1]EventLinkConfig!$L:$M,2,FALSE),\"\"),IFERROR(VLOOKUP(A2422,[1]EventLinkConfig!$X:$Y,2,FALSE),\"\"),IFERROR(VLOOKUP(A2422,[1]EventLinkConfig!$AA:$AB,2,FALSE),\"\"),IFERROR(VLOOKUP(A2422,[1]EventConditionConfig!$B:$D,3,FALSE),\"\"))","v":"当年我可是和你一样的修士，但从那之后一切都变了"},"任务&事件文本",null,2419]
[2420,{"$f":"_xlfn.TEXTJOIN(\"\",1,IFERROR(VLOOKUP(A2423,[1]EventConfig!$T:$V,3,FALSE),\"\"),IFERROR(VLOOKUP(A2423,[1]EventConfig!$U:$W,3,FALSE),\"\"),IFERROR(VLOOKUP(A2423,[1]EventLinkConfig!$B:$C,2,FALSE),\"\"),IFERROR(VLOOKUP(A2423,[1]EventLinkConfig!$D:$E,2,FALSE),\"\"),IFERROR(VLOOKUP(A2423,[1]EventLinkConfig!$L:$M,2,FALSE),\"\"),IFERROR(VLOOKUP(A2423,[1]EventLinkConfig!$X:$Y,2,FALSE),\"\"),IFERROR(VLOOKUP(A2423,[1]EventLinkConfig!$AA:$AB,2,FALSE),\"\"),IFERROR(VLOOKUP(A2423,[1]EventConditionConfig!$B:$D,3,FALSE),\"\"))","v":"百余年我送给阿蘅的定情信物贝壳项链，被阿蘅不慎遗失在这片海滩，她于是在这苦苦寻找。可突然间一头妖兽现身，将她拖入了海中！"},"任务&事件文本",null,2420]
[2421,{"$f":"_xlfn.TEXTJOIN(\"\",1,IFERROR(VLOOKUP(A2424,[1]EventConfig!$T:$V,3,FALSE),\"\"),IFERROR(VLOOKUP(A2424,[1]EventConfig!$U:$W,3,FALSE),\"\"),IFERROR(VLOOKUP(A2424,[1]EventLinkConfig!$B:$C,2,FALSE),\"\"),IFERROR(VLOOKUP(A2424,[1]EventLinkConfig!$D:$E,2,FALSE),\"\"),IFERROR(VLOOKUP(A2424,[1]EventLinkConfig!$L:$M,2,FALSE),\"\"),IFERROR(VLOOKUP(A2424,[1]EventLinkConfig!$X:$Y,2,FALSE),\"\"),IFERROR(VLOOKUP(A2424,[1]EventLinkConfig!$AA:$AB,2,FALSE),\"\"),IFERROR(VLOOKUP(A2424,[1]EventConditionConfig!$B:$D,3,FALSE),\"\"))","v":"得知此事后一直守在这，等着那厮妖兽从海中现身。"},"任务&事件文本",null,2421]
[2422,{"$f":"_xlfn.TEXTJOIN(\"\",1,IFERROR(VLOOKUP(A2425,[1]EventConfig!$T:$V,3,FALSE),\"\"),IFERROR(VLOOKUP(A2425,[1]EventConfig!$U:$W,3,FALSE),\"\"),IFERROR(VLOOKUP(A2425,[1]EventLinkConfig!$B:$C,2,FALSE),\"\"),IFERROR(VLOOKUP(A2425,[1]EventLinkConfig!$D:$E,2,FALSE),\"\"),IFERROR(VLOOKUP(A2425,[1]EventLinkConfig!$L:$M,2,FALSE),\"\"),IFERROR(VLOOKUP(A2425,[1]EventLinkConfig!$X:$Y,2,FALSE),\"\"),IFERROR(VLOOKUP(A2425,[1]EventLinkConfig!$AA:$AB,2,FALSE),\"\"),IFERROR(VLOOKUP(A2425,[1]EventConditionConfig!$B:$D,3,FALSE),\"\"))","v":"我在这片海滩终于等到那厮妖兽从海中出现，我便提剑向其冲去，我的剑深深刺入了妖兽的身体，它一吃痛逃入了这片海中，空中忽然刮起了狂风，被狂风阻拦无法进入海中追寻，妖兽也被狂风困在了海中"},"任务&事件文本",null,2422]
[2423,{"$f":"_xlfn.TEXTJOIN(\"\",1,IFERROR(VLOOKUP(A2426,[1]EventConfig!$T:$V,3,FALSE),\"\"),IFERROR(VLOOKUP(A2426,[1]EventConfig!$U:$W,3,FALSE),\"\"),IFERROR(VLOOKUP(A2426,[1]EventLinkConfig!$B:$C,2,FALSE),\"\"),IFERROR(VLOOKUP(A2426,[1]EventLinkConfig!$D:$E,2,FALSE),\"\"),IFERROR(VLOOKUP(A2426,[1]EventLinkConfig!$L:$M,2,FALSE),\"\"),IFERROR(VLOOKUP(A2426,[1]EventLinkConfig!$X:$Y,2,FALSE),\"\"),IFERROR(VLOOKUP(A2426,[1]EventLinkConfig!$AA:$AB,2,FALSE),\"\"),IFERROR(VLOOKUP(A2426,[1]EventConditionConfig!$B:$D,3,FALSE),\"\"))","v":"那你为何会变成了妖"},"任务&事件文本",null,2423]
[2424,{"$f":"_xlfn.TEXTJOIN(\"\",1,IFERROR(VLOOKUP(A2427,[1]EventConfig!$T:$V,3,FALSE),\"\"),IFERROR(VLOOKUP(A2427,[1]EventConfig!$U:$W,3,FALSE),\"\"),IFERROR(VLOOKUP(A2427,[1]EventLinkConfig!$B:$C,2,FALSE),\"\"),IFERROR(VLOOKUP(A2427,[1]EventLinkConfig!$D:$E,2,FALSE),\"\"),IFERROR(VLOOKUP(A2427,[1]EventLinkConfig!$L:$M,2,FALSE),\"\"),IFERROR(VLOOKUP(A2427,[1]EventLinkConfig!$X:$Y,2,FALSE),\"\"),IFERROR(VLOOKUP(A2427,[1]EventLinkConfig!$AA:$AB,2,FALSE),\"\"),IFERROR(VLOOKUP(A2427,[1]EventConditionConfig!$B:$D,3,FALSE),\"\"))","v":"因北海妖气横行，我被妖气入体，身体慢慢发生了变化，不妨这也算北海对我的恩赐，妻子死后我日以继日的待在这里等着复仇，等着斩杀掉那只吞掉我妻子的妖兽。"},"任务&事件文本",null,2424]
[2425,{"$f":"_xlfn.TEXTJOIN(\"\",1,IFERROR(VLOOKUP(A2428,[1]EventConfig!$T:$V,3,FALSE),\"\"),IFERROR(VLOOKUP(A2428,[1]EventConfig!$U:$W,3,FALSE),\"\"),IFERROR(VLOOKUP(A2428,[1]EventLinkConfig!$B:$C,2,FALSE),\"\"),IFERROR(VLOOKUP(A2428,[1]EventLinkConfig!$D:$E,2,FALSE),\"\"),IFERROR(VLOOKUP(A2428,[1]EventLinkConfig!$L:$M,2,FALSE),\"\"),IFERROR(VLOOKUP(A2428,[1]EventLinkConfig!$X:$Y,2,FALSE),\"\"),IFERROR(VLOOKUP(A2428,[1]EventLinkConfig!$AA:$AB,2,FALSE),\"\"),IFERROR(VLOOKUP(A2428,[1]EventConditionConfig!$B:$D,3,FALSE),\"\"))","v":"我有办法驱散狂风"},"任务&事件文本",null,2425]
[2426,{"$f":"_xlfn.TEXTJOIN(\"\",1,IFERROR(VLOOKUP(A2429,[1]EventConfig!$T:$V,3,FALSE),\"\"),IFERROR(VLOOKUP(A2429,[1]EventConfig!$U:$W,3,FALSE),\"\"),IFERROR(VLOOKUP(A2429,[1]EventLinkConfig!$B:$C,2,FALSE),\"\"),IFERROR(VLOOKUP(A2429,[1]EventLinkConfig!$D:$E,2,FALSE),\"\"),IFERROR(VLOOKUP(A2429,[1]EventLinkConfig!$L:$M,2,FALSE),\"\"),IFERROR(VLOOKUP(A2429,[1]EventLinkConfig!$X:$Y,2,FALSE),\"\"),IFERROR(VLOOKUP(A2429,[1]EventLinkConfig!$AA:$AB,2,FALSE),\"\"),IFERROR(VLOOKUP(A2429,[1]EventConditionConfig!$B:$D,3,FALSE),\"\"))","v":"（拿出风灵珠驱散海面狂风）（瞬间海面变的不平，一头妖力浑厚的妖兽从海面中跃出）"},"任务&事件文本",null,2426]
[2427,{"$f":"_xlfn.TEXTJOIN(\"\",1,IFERROR(VLOOKUP(A2430,[1]EventConfig!$T:$V,3,FALSE),\"\"),IFERROR(VLOOKUP(A2430,[1]EventConfig!$U:$W,3,FALSE),\"\"),IFERROR(VLOOKUP(A2430,[1]EventLinkConfig!$B:$C,2,FALSE),\"\"),IFERROR(VLOOKUP(A2430,[1]EventLinkConfig!$D:$E,2,FALSE),\"\"),IFERROR(VLOOKUP(A2430,[1]EventLinkConfig!$L:$M,2,FALSE),\"\"),IFERROR(VLOOKUP(A2430,[1]EventLinkConfig!$X:$Y,2,FALSE),\"\"),IFERROR(VLOOKUP(A2430,[1]EventLinkConfig!$AA:$AB,2,FALSE),\"\"),IFERROR(VLOOKUP(A2430,[1]EventConditionConfig!$B:$D,3,FALSE),\"\"))","v":"追查海妖(0/1)"},"任务&事件文本",null,2427]
[2428,{"$f":"_xlfn.TEXTJOIN(\"\",1,IFERROR(VLOOKUP(A2431,[1]EventConfig!$T:$V,3,FALSE),\"\"),IFERROR(VLOOKUP(A2431,[1]EventConfig!$U:$W,3,FALSE),\"\"),IFERROR(VLOOKUP(A2431,[1]EventLinkConfig!$B:$C,2,FALSE),\"\"),IFERROR(VLOOKUP(A2431,[1]EventLinkConfig!$D:$E,2,FALSE),\"\"),IFERROR(VLOOKUP(A2431,[1]EventLinkConfig!$L:$M,2,FALSE),\"\"),IFERROR(VLOOKUP(A2431,[1]EventLinkConfig!$X:$Y,2,FALSE),\"\"),IFERROR(VLOOKUP(A2431,[1]EventLinkConfig!$AA:$AB,2,FALSE),\"\"),IFERROR(VLOOKUP(A2431,[1]EventConditionConfig!$B:$D,3,FALSE),\"\"))","v":"小友有如此绝技，当斩杀那厮妖兽后定当好好报答你！"},"任务&事件文本",null,2428]
[2429,{"$f":"_xlfn.TEXTJOIN(\"\",1,IFERROR(VLOOKUP(A2432,[1]EventConfig!$T:$V,3,FALSE),\"\"),IFERROR(VLOOKUP(A2432,[1]EventConfig!$U:$W,3,FALSE),\"\"),IFERROR(VLOOKUP(A2432,[1]EventLinkConfig!$B:$C,2,FALSE),\"\"),IFERROR(VLOOKUP(A2432,[1]EventLinkConfig!$D:$E,2,FALSE),\"\"),IFERROR(VLOOKUP(A2432,[1]EventLinkConfig!$L:$M,2,FALSE),\"\"),IFERROR(VLOOKUP(A2432,[1]EventLinkConfig!$X:$Y,2,FALSE),\"\"),IFERROR(VLOOKUP(A2432,[1]EventLinkConfig!$AA:$AB,2,FALSE),\"\"),IFERROR(VLOOKUP(A2432,[1]EventConditionConfig!$B:$D,3,FALSE),\"\"))","v":"小友你快躲开，无论如何我也要这妖兽葬身于此！即便魂飞魄散永世不得轮回也无所谓！阿蘅，我来见你了！"},"任务&事件文本",null,2429]
[2430,{"$f":"_xlfn.TEXTJOIN(\"\",1,IFERROR(VLOOKUP(A2433,[1]EventConfig!$T:$V,3,FALSE),\"\"),IFERROR(VLOOKUP(A2433,[1]EventConfig!$U:$W,3,FALSE),\"\"),IFERROR(VLOOKUP(A2433,[1]EventLinkConfig!$B:$C,2,FALSE),\"\"),IFERROR(VLOOKUP(A2433,[1]EventLinkConfig!$D:$E,2,FALSE),\"\"),IFERROR(VLOOKUP(A2433,[1]EventLinkConfig!$L:$M,2,FALSE),\"\"),IFERROR(VLOOKUP(A2433,[1]EventLinkConfig!$X:$Y,2,FALSE),\"\"),IFERROR(VLOOKUP(A2433,[1]EventLinkConfig!$AA:$AB,2,FALSE),\"\"),IFERROR(VLOOKUP(A2433,[1]EventConditionConfig!$B:$D,3,FALSE),\"\"))","v":"海面沸腾，妖兽嘶吼着掀起滔天巨浪，触须如铁鞭般抽向你。剑妖猛地推开你，他脊骨间的锈剑剧烈震颤，裂纹中迸发出刺目的血光。"},"任务&事件文本",null,2430]
[2431,{"$f":"_xlfn.TEXTJOIN(\"\",1,IFERROR(VLOOKUP(A2434,[1]EventConfig!$T:$V,3,FALSE),\"\"),IFERROR(VLOOKUP(A2434,[1]EventConfig!$U:$W,3,FALSE),\"\"),IFERROR(VLOOKUP(A2434,[1]EventLinkConfig!$B:$C,2,FALSE),\"\"),IFERROR(VLOOKUP(A2434,[1]EventLinkConfig!$D:$E,2,FALSE),\"\"),IFERROR(VLOOKUP(A2434,[1]EventLinkConfig!$L:$M,2,FALSE),\"\"),IFERROR(VLOOKUP(A2434,[1]EventLinkConfig!$X:$Y,2,FALSE),\"\"),IFERROR(VLOOKUP(A2434,[1]EventLinkConfig!$AA:$AB,2,FALSE),\"\"),IFERROR(VLOOKUP(A2434,[1]EventConditionConfig!$B:$D,3,FALSE),\"\"))","v":"百年的执念……今日，该了结了！"},"任务&事件文本",null,2431]
[2432,{"$f":"_xlfn.TEXTJOIN(\"\",1,IFERROR(VLOOKUP(A2435,[1]EventConfig!$T:$V,3,FALSE),\"\"),IFERROR(VLOOKUP(A2435,[1]EventConfig!$U:$W,3,FALSE),\"\"),IFERROR(VLOOKUP(A2435,[1]EventLinkConfig!$B:$C,2,FALSE),\"\"),IFERROR(VLOOKUP(A2435,[1]EventLinkConfig!$D:$E,2,FALSE),\"\"),IFERROR(VLOOKUP(A2435,[1]EventLinkConfig!$L:$M,2,FALSE),\"\"),IFERROR(VLOOKUP(A2435,[1]EventLinkConfig!$X:$Y,2,FALSE),\"\"),IFERROR(VLOOKUP(A2435,[1]EventLinkConfig!$AA:$AB,2,FALSE),\"\"),IFERROR(VLOOKUP(A2435,[1]EventConditionConfig!$B:$D,3,FALSE),\"\"))","v":"剑妖的身体开始崩解，血肉化作赤红的火焰，缠绕着锈剑熊熊燃烧。那半枚嵌在脸上的银簪突然亮起幽蓝的光，与妖兽颅骨中的另半枚遥相呼应。"},"任务&事件文本",null,2432]
[2433,{"$f":"_xlfn.TEXTJOIN(\"\",1,IFERROR(VLOOKUP(A2436,[1]EventConfig!$T:$V,3,FALSE),\"\"),IFERROR(VLOOKUP(A2436,[1]EventConfig!$U:$W,3,FALSE),\"\"),IFERROR(VLOOKUP(A2436,[1]EventLinkConfig!$B:$C,2,FALSE),\"\"),IFERROR(VLOOKUP(A2436,[1]EventLinkConfig!$D:$E,2,FALSE),\"\"),IFERROR(VLOOKUP(A2436,[1]EventLinkConfig!$L:$M,2,FALSE),\"\"),IFERROR(VLOOKUP(A2436,[1]EventLinkConfig!$X:$Y,2,FALSE),\"\"),IFERROR(VLOOKUP(A2436,[1]EventLinkConfig!$AA:$AB,2,FALSE),\"\"),IFERROR(VLOOKUP(A2436,[1]EventConditionConfig!$B:$D,3,FALSE),\"\"))","v":"阿蘅……你看到了吗？我终于……能带你回家了！"},"任务&事件文本",null,2433]
[2434,{"$f":"_xlfn.TEXTJOIN(\"\",1,IFERROR(VLOOKUP(A2437,[1]EventConfig!$T:$V,3,FALSE),\"\"),IFERROR(VLOOKUP(A2437,[1]EventConfig!$U:$W,3,FALSE),\"\"),IFERROR(VLOOKUP(A2437,[1]EventLinkConfig!$B:$C,2,FALSE),\"\"),IFERROR(VLOOKUP(A2437,[1]EventLinkConfig!$D:$E,2,FALSE),\"\"),IFERROR(VLOOKUP(A2437,[1]EventLinkConfig!$L:$M,2,FALSE),\"\"),IFERROR(VLOOKUP(A2437,[1]EventLinkConfig!$X:$Y,2,FALSE),\"\"),IFERROR(VLOOKUP(A2437,[1]EventLinkConfig!$AA:$AB,2,FALSE),\"\"),IFERROR(VLOOKUP(A2437,[1]EventConditionConfig!$B:$D,3,FALSE),\"\"))","v":"他化作一道血色，贯穿妖兽的头颅。银簪在爆炸的强光中被蹦飞，妖兽发出凄厉的哀嚎，庞大的身躯寸寸瓦解，化作漫天荧光。"},"任务&事件文本",null,{"$f":"A2437","v":2434}]
[2435,{"$f":"_xlfn.TEXTJOIN(\"\",1,IFERROR(VLOOKUP(A2438,[1]EventConfig!$T:$V,3,FALSE),\"\"),IFERROR(VLOOKUP(A2438,[1]EventConfig!$U:$W,3,FALSE),\"\"),IFERROR(VLOOKUP(A2438,[1]EventLinkConfig!$B:$C,2,FALSE),\"\"),IFERROR(VLOOKUP(A2438,[1]EventLinkConfig!$D:$E,2,FALSE),\"\"),IFERROR(VLOOKUP(A2438,[1]EventLinkConfig!$L:$M,2,FALSE),\"\"),IFERROR(VLOOKUP(A2438,[1]EventLinkConfig!$X:$Y,2,FALSE),\"\"),IFERROR(VLOOKUP(A2438,[1]EventLinkConfig!$AA:$AB,2,FALSE),\"\"),IFERROR(VLOOKUP(A2438,[1]EventConditionConfig!$B:$D,3,FALSE),\"\"))","v":"受疯道人所托，追查《御风化影诀》的下落"},"任务&事件文本",null,2435]
[2436,{"$f":"_xlfn.TEXTJOIN(\"\",1,IFERROR(VLOOKUP(A2439,[1]EventConfig!$T:$V,3,FALSE),\"\"),IFERROR(VLOOKUP(A2439,[1]EventConfig!$U:$W,3,FALSE),\"\"),IFERROR(VLOOKUP(A2439,[1]EventLinkConfig!$B:$C,2,FALSE),\"\"),IFERROR(VLOOKUP(A2439,[1]EventLinkConfig!$D:$E,2,FALSE),\"\"),IFERROR(VLOOKUP(A2439,[1]EventLinkConfig!$L:$M,2,FALSE),\"\"),IFERROR(VLOOKUP(A2439,[1]EventLinkConfig!$X:$Y,2,FALSE),\"\"),IFERROR(VLOOKUP(A2439,[1]EventLinkConfig!$AA:$AB,2,FALSE),\"\"),IFERROR(VLOOKUP(A2439,[1]EventConditionConfig!$B:$D,3,FALSE),\"\"))","v":"与疯道人对话(0/1)"},"任务&事件文本",null,2436]
[2437,{"$f":"_xlfn.TEXTJOIN(\"\",1,IFERROR(VLOOKUP(A2440,[1]EventConfig!$T:$V,3,FALSE),\"\"),IFERROR(VLOOKUP(A2440,[1]EventConfig!$U:$W,3,FALSE),\"\"),IFERROR(VLOOKUP(A2440,[1]EventLinkConfig!$B:$C,2,FALSE),\"\"),IFERROR(VLOOKUP(A2440,[1]EventLinkConfig!$D:$E,2,FALSE),\"\"),IFERROR(VLOOKUP(A2440,[1]EventLinkConfig!$L:$M,2,FALSE),\"\"),IFERROR(VLOOKUP(A2440,[1]EventLinkConfig!$X:$Y,2,FALSE),\"\"),IFERROR(VLOOKUP(A2440,[1]EventLinkConfig!$AA:$AB,2,FALSE),\"\"),IFERROR(VLOOKUP(A2440,[1]EventConditionConfig!$B:$D,3,FALSE),\"\"))","v":"小友，可曾记得风无咎"},"任务&事件文本",null,2437]
[2438,{"$f":"_xlfn.TEXTJOIN(\"\",1,IFERROR(VLOOKUP(A2441,[1]EventConfig!$T:$V,3,FALSE),\"\"),IFERROR(VLOOKUP(A2441,[1]EventConfig!$U:$W,3,FALSE),\"\"),IFERROR(VLOOKUP(A2441,[1]EventLinkConfig!$B:$C,2,FALSE),\"\"),IFERROR(VLOOKUP(A2441,[1]EventLinkConfig!$D:$E,2,FALSE),\"\"),IFERROR(VLOOKUP(A2441,[1]EventLinkConfig!$L:$M,2,FALSE),\"\"),IFERROR(VLOOKUP(A2441,[1]EventLinkConfig!$X:$Y,2,FALSE),\"\"),IFERROR(VLOOKUP(A2441,[1]EventLinkConfig!$AA:$AB,2,FALSE),\"\"),IFERROR(VLOOKUP(A2441,[1]EventConditionConfig!$B:$D,3,FALSE),\"\"))","v":"老夫感受到了风无咎的藏匿之地。"},"任务&事件文本",null,2438]
[2439,{"$f":"_xlfn.TEXTJOIN(\"\",1,IFERROR(VLOOKUP(A2442,[1]EventConfig!$T:$V,3,FALSE),\"\"),IFERROR(VLOOKUP(A2442,[1]EventConfig!$U:$W,3,FALSE),\"\"),IFERROR(VLOOKUP(A2442,[1]EventLinkConfig!$B:$C,2,FALSE),\"\"),IFERROR(VLOOKUP(A2442,[1]EventLinkConfig!$D:$E,2,FALSE),\"\"),IFERROR(VLOOKUP(A2442,[1]EventLinkConfig!$L:$M,2,FALSE),\"\"),IFERROR(VLOOKUP(A2442,[1]EventLinkConfig!$X:$Y,2,FALSE),\"\"),IFERROR(VLOOKUP(A2442,[1]EventLinkConfig!$AA:$AB,2,FALSE),\"\"),IFERROR(VLOOKUP(A2442,[1]EventConditionConfig!$B:$D,3,FALSE),\"\"))","v":"前辈我这就赶去。"},"任务&事件文本",null,2439]
[2440,{"$f":"_xlfn.TEXTJOIN(\"\",1,IFERROR(VLOOKUP(A2443,[1]EventConfig!$T:$V,3,FALSE),\"\"),IFERROR(VLOOKUP(A2443,[1]EventConfig!$U:$W,3,FALSE),\"\"),IFERROR(VLOOKUP(A2443,[1]EventLinkConfig!$B:$C,2,FALSE),\"\"),IFERROR(VLOOKUP(A2443,[1]EventLinkConfig!$D:$E,2,FALSE),\"\"),IFERROR(VLOOKUP(A2443,[1]EventLinkConfig!$L:$M,2,FALSE),\"\"),IFERROR(VLOOKUP(A2443,[1]EventLinkConfig!$X:$Y,2,FALSE),\"\"),IFERROR(VLOOKUP(A2443,[1]EventLinkConfig!$AA:$AB,2,FALSE),\"\"),IFERROR(VLOOKUP(A2443,[1]EventConditionConfig!$B:$D,3,FALSE),\"\"))","v":"（风无咎在一血池之中打坐，身旁妖气环绕，一眼望去全是生灵血肉）"},"任务&事件文本",null,2440]
[2441,{"$f":"_xlfn.TEXTJOIN(\"\",1,IFERROR(VLOOKUP(A2444,[1]EventConfig!$T:$V,3,FALSE),\"\"),IFERROR(VLOOKUP(A2444,[1]EventConfig!$U:$W,3,FALSE),\"\"),IFERROR(VLOOKUP(A2444,[1]EventLinkConfig!$B:$C,2,FALSE),\"\"),IFERROR(VLOOKUP(A2444,[1]EventLinkConfig!$D:$E,2,FALSE),\"\"),IFERROR(VLOOKUP(A2444,[1]EventLinkConfig!$L:$M,2,FALSE),\"\"),IFERROR(VLOOKUP(A2444,[1]EventLinkConfig!$X:$Y,2,FALSE),\"\"),IFERROR(VLOOKUP(A2444,[1]EventLinkConfig!$AA:$AB,2,FALSE),\"\"),IFERROR(VLOOKUP(A2444,[1]EventConditionConfig!$B:$D,3,FALSE),\"\"))","v":"竟用生魂喂养功法...小友当心！"},"任务&事件文本",null,2441]
[2442,{"$f":"_xlfn.TEXTJOIN(\"\",1,IFERROR(VLOOKUP(A2445,[1]EventConfig!$T:$V,3,FALSE),\"\"),IFERROR(VLOOKUP(A2445,[1]EventConfig!$U:$W,3,FALSE),\"\"),IFERROR(VLOOKUP(A2445,[1]EventLinkConfig!$B:$C,2,FALSE),\"\"),IFERROR(VLOOKUP(A2445,[1]EventLinkConfig!$D:$E,2,FALSE),\"\"),IFERROR(VLOOKUP(A2445,[1]EventLinkConfig!$L:$M,2,FALSE),\"\"),IFERROR(VLOOKUP(A2445,[1]EventLinkConfig!$X:$Y,2,FALSE),\"\"),IFERROR(VLOOKUP(A2445,[1]EventLinkConfig!$AA:$AB,2,FALSE),\"\"),IFERROR(VLOOKUP(A2445,[1]EventConditionConfig!$B:$D,3,FALSE),\"\"))","v":"（血池突然炸开，风妖与影妖完全融合，妖躯浮现古魔纹路）"},"任务&事件文本",null,2442]
[2443,{"$f":"_xlfn.TEXTJOIN(\"\",1,IFERROR(VLOOKUP(A2446,[1]EventConfig!$T:$V,3,FALSE),\"\"),IFERROR(VLOOKUP(A2446,[1]EventConfig!$U:$W,3,FALSE),\"\"),IFERROR(VLOOKUP(A2446,[1]EventLinkConfig!$B:$C,2,FALSE),\"\"),IFERROR(VLOOKUP(A2446,[1]EventLinkConfig!$D:$E,2,FALSE),\"\"),IFERROR(VLOOKUP(A2446,[1]EventLinkConfig!$L:$M,2,FALSE),\"\"),IFERROR(VLOOKUP(A2446,[1]EventLinkConfig!$X:$Y,2,FALSE),\"\"),IFERROR(VLOOKUP(A2446,[1]EventLinkConfig!$AA:$AB,2,FALSE),\"\"),IFERROR(VLOOKUP(A2446,[1]EventConditionConfig!$B:$D,3,FALSE),\"\"))","v":"那日是我疏忽大意，这《御风化影诀》留给你们也是暴殄天物，如今在我手上才能发挥它的用处，多说无益既然你们追来了就留下给我当做丹引让我的功力更上一步吧！"},"任务&事件文本",null,2443]
[2444,{"$f":"_xlfn.TEXTJOIN(\"\",1,IFERROR(VLOOKUP(A2447,[1]EventConfig!$T:$V,3,FALSE),\"\"),IFERROR(VLOOKUP(A2447,[1]EventConfig!$U:$W,3,FALSE),\"\"),IFERROR(VLOOKUP(A2447,[1]EventLinkConfig!$B:$C,2,FALSE),\"\"),IFERROR(VLOOKUP(A2447,[1]EventLinkConfig!$D:$E,2,FALSE),\"\"),IFERROR(VLOOKUP(A2447,[1]EventLinkConfig!$L:$M,2,FALSE),\"\"),IFERROR(VLOOKUP(A2447,[1]EventLinkConfig!$X:$Y,2,FALSE),\"\"),IFERROR(VLOOKUP(A2447,[1]EventLinkConfig!$AA:$AB,2,FALSE),\"\"),IFERROR(VLOOKUP(A2447,[1]EventConditionConfig!$B:$D,3,FALSE),\"\"))","v":"击败风无咎(0/1)"},"任务&事件文本",null,2444]
[2445,{"$f":"_xlfn.TEXTJOIN(\"\",1,IFERROR(VLOOKUP(A2448,[1]EventConfig!$T:$V,3,FALSE),\"\"),IFERROR(VLOOKUP(A2448,[1]EventConfig!$U:$W,3,FALSE),\"\"),IFERROR(VLOOKUP(A2448,[1]EventLinkConfig!$B:$C,2,FALSE),\"\"),IFERROR(VLOOKUP(A2448,[1]EventLinkConfig!$D:$E,2,FALSE),\"\"),IFERROR(VLOOKUP(A2448,[1]EventLinkConfig!$L:$M,2,FALSE),\"\"),IFERROR(VLOOKUP(A2448,[1]EventLinkConfig!$X:$Y,2,FALSE),\"\"),IFERROR(VLOOKUP(A2448,[1]EventLinkConfig!$AA:$AB,2,FALSE),\"\"),IFERROR(VLOOKUP(A2448,[1]EventConditionConfig!$B:$D,3,FALSE),\"\"))","v":"大胆邪修，今日就让你魂飞魄散。"},"任务&事件文本",null,2445]
[2446,{"$f":"_xlfn.TEXTJOIN(\"\",1,IFERROR(VLOOKUP(A2449,[1]EventConfig!$T:$V,3,FALSE),\"\"),IFERROR(VLOOKUP(A2449,[1]EventConfig!$U:$W,3,FALSE),\"\"),IFERROR(VLOOKUP(A2449,[1]EventLinkConfig!$B:$C,2,FALSE),\"\"),IFERROR(VLOOKUP(A2449,[1]EventLinkConfig!$D:$E,2,FALSE),\"\"),IFERROR(VLOOKUP(A2449,[1]EventLinkConfig!$L:$M,2,FALSE),\"\"),IFERROR(VLOOKUP(A2449,[1]EventLinkConfig!$X:$Y,2,FALSE),\"\"),IFERROR(VLOOKUP(A2449,[1]EventLinkConfig!$AA:$AB,2,FALSE),\"\"),IFERROR(VLOOKUP(A2449,[1]EventConditionConfig!$B:$D,3,FALSE),\"\"))","v":"妖族灭我父母，修道的也要杀了我，我究竟做错了什么！"},"任务&事件文本",null,2446]
[2447,{"$f":"_xlfn.TEXTJOIN(\"\",1,IFERROR(VLOOKUP(A2450,[1]EventConfig!$T:$V,3,FALSE),\"\"),IFERROR(VLOOKUP(A2450,[1]EventConfig!$U:$W,3,FALSE),\"\"),IFERROR(VLOOKUP(A2450,[1]EventLinkConfig!$B:$C,2,FALSE),\"\"),IFERROR(VLOOKUP(A2450,[1]EventLinkConfig!$D:$E,2,FALSE),\"\"),IFERROR(VLOOKUP(A2450,[1]EventLinkConfig!$L:$M,2,FALSE),\"\"),IFERROR(VLOOKUP(A2450,[1]EventLinkConfig!$X:$Y,2,FALSE),\"\"),IFERROR(VLOOKUP(A2450,[1]EventLinkConfig!$AA:$AB,2,FALSE),\"\"),IFERROR(VLOOKUP(A2450,[1]EventConditionConfig!$B:$D,3,FALSE),\"\"))","v":"疯道人赶来后醉醺醺的说道"},"任务&事件文本",null,2447]
[2448,{"$f":"_xlfn.TEXTJOIN(\"\",1,IFERROR(VLOOKUP(A2451,[1]EventConfig!$T:$V,3,FALSE),\"\"),IFERROR(VLOOKUP(A2451,[1]EventConfig!$U:$W,3,FALSE),\"\"),IFERROR(VLOOKUP(A2451,[1]EventLinkConfig!$B:$C,2,FALSE),\"\"),IFERROR(VLOOKUP(A2451,[1]EventLinkConfig!$D:$E,2,FALSE),\"\"),IFERROR(VLOOKUP(A2451,[1]EventLinkConfig!$L:$M,2,FALSE),\"\"),IFERROR(VLOOKUP(A2451,[1]EventLinkConfig!$X:$Y,2,FALSE),\"\"),IFERROR(VLOOKUP(A2451,[1]EventLinkConfig!$AA:$AB,2,FALSE),\"\"),IFERROR(VLOOKUP(A2451,[1]EventConditionConfig!$B:$D,3,FALSE),\"\"))","v":"小友还请留手。"},"任务&事件文本",null,2448]
[2449,{"$f":"_xlfn.TEXTJOIN(\"\",1,IFERROR(VLOOKUP(A2452,[1]EventConfig!$T:$V,3,FALSE),\"\"),IFERROR(VLOOKUP(A2452,[1]EventConfig!$U:$W,3,FALSE),\"\"),IFERROR(VLOOKUP(A2452,[1]EventLinkConfig!$B:$C,2,FALSE),\"\"),IFERROR(VLOOKUP(A2452,[1]EventLinkConfig!$D:$E,2,FALSE),\"\"),IFERROR(VLOOKUP(A2452,[1]EventLinkConfig!$L:$M,2,FALSE),\"\"),IFERROR(VLOOKUP(A2452,[1]EventLinkConfig!$X:$Y,2,FALSE),\"\"),IFERROR(VLOOKUP(A2452,[1]EventLinkConfig!$AA:$AB,2,FALSE),\"\"),IFERROR(VLOOKUP(A2452,[1]EventConditionConfig!$B:$D,3,FALSE),\"\"))","v":"\"\""},"任务&事件文本",null,2449]
[2450,{"$f":"_xlfn.TEXTJOIN(\"\",1,IFERROR(VLOOKUP(A2453,[1]EventConfig!$T:$V,3,FALSE),\"\"),IFERROR(VLOOKUP(A2453,[1]EventConfig!$U:$W,3,FALSE),\"\"),IFERROR(VLOOKUP(A2453,[1]EventLinkConfig!$B:$C,2,FALSE),\"\"),IFERROR(VLOOKUP(A2453,[1]EventLinkConfig!$D:$E,2,FALSE),\"\"),IFERROR(VLOOKUP(A2453,[1]EventLinkConfig!$L:$M,2,FALSE),\"\"),IFERROR(VLOOKUP(A2453,[1]EventLinkConfig!$X:$Y,2,FALSE),\"\"),IFERROR(VLOOKUP(A2453,[1]EventLinkConfig!$AA:$AB,2,FALSE),\"\"),IFERROR(VLOOKUP(A2453,[1]EventConditionConfig!$B:$D,3,FALSE),\"\"))","v":"前辈这种时刻还有心思喝酒"},"任务&事件文本",null,2450]
[2451,{"$f":"_xlfn.TEXTJOIN(\"\",1,IFERROR(VLOOKUP(A2454,[1]EventConfig!$T:$V,3,FALSE),\"\"),IFERROR(VLOOKUP(A2454,[1]EventConfig!$U:$W,3,FALSE),\"\"),IFERROR(VLOOKUP(A2454,[1]EventLinkConfig!$B:$C,2,FALSE),\"\"),IFERROR(VLOOKUP(A2454,[1]EventLinkConfig!$D:$E,2,FALSE),\"\"),IFERROR(VLOOKUP(A2454,[1]EventLinkConfig!$L:$M,2,FALSE),\"\"),IFERROR(VLOOKUP(A2454,[1]EventLinkConfig!$X:$Y,2,FALSE),\"\"),IFERROR(VLOOKUP(A2454,[1]EventLinkConfig!$AA:$AB,2,FALSE),\"\"),IFERROR(VLOOKUP(A2454,[1]EventConditionConfig!$B:$D,3,FALSE),\"\"))","v":"这步入邪道之人留着为何"},"任务&事件文本",null,2451]
[2452,{"$f":"_xlfn.TEXTJOIN(\"\",1,IFERROR(VLOOKUP(A2455,[1]EventConfig!$T:$V,3,FALSE),\"\"),IFERROR(VLOOKUP(A2455,[1]EventConfig!$U:$W,3,FALSE),\"\"),IFERROR(VLOOKUP(A2455,[1]EventLinkConfig!$B:$C,2,FALSE),\"\"),IFERROR(VLOOKUP(A2455,[1]EventLinkConfig!$D:$E,2,FALSE),\"\"),IFERROR(VLOOKUP(A2455,[1]EventLinkConfig!$L:$M,2,FALSE),\"\"),IFERROR(VLOOKUP(A2455,[1]EventLinkConfig!$X:$Y,2,FALSE),\"\"),IFERROR(VLOOKUP(A2455,[1]EventLinkConfig!$AA:$AB,2,FALSE),\"\"),IFERROR(VLOOKUP(A2455,[1]EventConditionConfig!$B:$D,3,FALSE),\"\"))","v":"所谓《御风化影诀》凡人无法驾驭，老夫念他风灵根强大便想着拿去便是"},"任务&事件文本",null,2452]
[2453,{"$f":"_xlfn.TEXTJOIN(\"\",1,IFERROR(VLOOKUP(A2456,[1]EventConfig!$T:$V,3,FALSE),\"\"),IFERROR(VLOOKUP(A2456,[1]EventConfig!$U:$W,3,FALSE),\"\"),IFERROR(VLOOKUP(A2456,[1]EventLinkConfig!$B:$C,2,FALSE),\"\"),IFERROR(VLOOKUP(A2456,[1]EventLinkConfig!$D:$E,2,FALSE),\"\"),IFERROR(VLOOKUP(A2456,[1]EventLinkConfig!$L:$M,2,FALSE),\"\"),IFERROR(VLOOKUP(A2456,[1]EventLinkConfig!$X:$Y,2,FALSE),\"\"),IFERROR(VLOOKUP(A2456,[1]EventLinkConfig!$AA:$AB,2,FALSE),\"\"),IFERROR(VLOOKUP(A2456,[1]EventConditionConfig!$B:$D,3,FALSE),\"\"))","v":"没想到你以魂为薪...以血为引...强行修炼"},"任务&事件文本",null,2453]
[2454,{"$f":"_xlfn.TEXTJOIN(\"\",1,IFERROR(VLOOKUP(A2457,[1]EventConfig!$T:$V,3,FALSE),\"\"),IFERROR(VLOOKUP(A2457,[1]EventConfig!$U:$W,3,FALSE),\"\"),IFERROR(VLOOKUP(A2457,[1]EventLinkConfig!$B:$C,2,FALSE),\"\"),IFERROR(VLOOKUP(A2457,[1]EventLinkConfig!$D:$E,2,FALSE),\"\"),IFERROR(VLOOKUP(A2457,[1]EventLinkConfig!$L:$M,2,FALSE),\"\"),IFERROR(VLOOKUP(A2457,[1]EventLinkConfig!$X:$Y,2,FALSE),\"\"),IFERROR(VLOOKUP(A2457,[1]EventLinkConfig!$AA:$AB,2,FALSE),\"\"),IFERROR(VLOOKUP(A2457,[1]EventConditionConfig!$B:$D,3,FALSE),\"\"))","v":"今日放你一马，去洗涤魔气后还能拜入我的门下"},"任务&事件文本",null,2454]
[2455,{"$f":"_xlfn.TEXTJOIN(\"\",1,IFERROR(VLOOKUP(A2458,[1]EventConfig!$T:$V,3,FALSE),\"\"),IFERROR(VLOOKUP(A2458,[1]EventConfig!$U:$W,3,FALSE),\"\"),IFERROR(VLOOKUP(A2458,[1]EventLinkConfig!$B:$C,2,FALSE),\"\"),IFERROR(VLOOKUP(A2458,[1]EventLinkConfig!$D:$E,2,FALSE),\"\"),IFERROR(VLOOKUP(A2458,[1]EventLinkConfig!$L:$M,2,FALSE),\"\"),IFERROR(VLOOKUP(A2458,[1]EventLinkConfig!$X:$Y,2,FALSE),\"\"),IFERROR(VLOOKUP(A2458,[1]EventLinkConfig!$AA:$AB,2,FALSE),\"\"),IFERROR(VLOOKUP(A2458,[1]EventConditionConfig!$B:$D,3,FALSE),\"\"))","v":"记住，靠吞噬得来的力量，终有一日会反噬其主。"},"任务&事件文本",null,2455]
[2456,{"$f":"_xlfn.TEXTJOIN(\"\",1,IFERROR(VLOOKUP(A2459,[1]EventConfig!$T:$V,3,FALSE),\"\"),IFERROR(VLOOKUP(A2459,[1]EventConfig!$U:$W,3,FALSE),\"\"),IFERROR(VLOOKUP(A2459,[1]EventLinkConfig!$B:$C,2,FALSE),\"\"),IFERROR(VLOOKUP(A2459,[1]EventLinkConfig!$D:$E,2,FALSE),\"\"),IFERROR(VLOOKUP(A2459,[1]EventLinkConfig!$L:$M,2,FALSE),\"\"),IFERROR(VLOOKUP(A2459,[1]EventLinkConfig!$X:$Y,2,FALSE),\"\"),IFERROR(VLOOKUP(A2459,[1]EventLinkConfig!$AA:$AB,2,FALSE),\"\"),IFERROR(VLOOKUP(A2459,[1]EventConditionConfig!$B:$D,3,FALSE),\"\"))","v":"神识探索至一处矿井之中，此处灵气氤氲"},"任务&事件文本",null,2456]
[2457,{"$f":"_xlfn.TEXTJOIN(\"\",1,IFERROR(VLOOKUP(A2460,[1]EventConfig!$T:$V,3,FALSE),\"\"),IFERROR(VLOOKUP(A2460,[1]EventConfig!$U:$W,3,FALSE),\"\"),IFERROR(VLOOKUP(A2460,[1]EventLinkConfig!$B:$C,2,FALSE),\"\"),IFERROR(VLOOKUP(A2460,[1]EventLinkConfig!$D:$E,2,FALSE),\"\"),IFERROR(VLOOKUP(A2460,[1]EventLinkConfig!$L:$M,2,FALSE),\"\"),IFERROR(VLOOKUP(A2460,[1]EventLinkConfig!$X:$Y,2,FALSE),\"\"),IFERROR(VLOOKUP(A2460,[1]EventLinkConfig!$AA:$AB,2,FALSE),\"\"),IFERROR(VLOOKUP(A2460,[1]EventConditionConfig!$B:$D,3,FALSE),\"\"))","v":"前往矿井采集灵矿"},"任务&事件文本",null,2457]
[2458,{"$f":"_xlfn.TEXTJOIN(\"\",1,IFERROR(VLOOKUP(A2461,[1]EventConfig!$T:$V,3,FALSE),\"\"),IFERROR(VLOOKUP(A2461,[1]EventConfig!$U:$W,3,FALSE),\"\"),IFERROR(VLOOKUP(A2461,[1]EventLinkConfig!$B:$C,2,FALSE),\"\"),IFERROR(VLOOKUP(A2461,[1]EventLinkConfig!$D:$E,2,FALSE),\"\"),IFERROR(VLOOKUP(A2461,[1]EventLinkConfig!$L:$M,2,FALSE),\"\"),IFERROR(VLOOKUP(A2461,[1]EventLinkConfig!$X:$Y,2,FALSE),\"\"),IFERROR(VLOOKUP(A2461,[1]EventLinkConfig!$AA:$AB,2,FALSE),\"\"),IFERROR(VLOOKUP(A2461,[1]EventConditionConfig!$B:$D,3,FALSE),\"\"))","v":"神识经过一处荒废寺庙之外，寺庙之中似乎有不同寻常之物"},"任务&事件文本",null,2458]
[2459,{"$f":"_xlfn.TEXTJOIN(\"\",1,IFERROR(VLOOKUP(A2462,[1]EventConfig!$T:$V,3,FALSE),\"\"),IFERROR(VLOOKUP(A2462,[1]EventConfig!$U:$W,3,FALSE),\"\"),IFERROR(VLOOKUP(A2462,[1]EventLinkConfig!$B:$C,2,FALSE),\"\"),IFERROR(VLOOKUP(A2462,[1]EventLinkConfig!$D:$E,2,FALSE),\"\"),IFERROR(VLOOKUP(A2462,[1]EventLinkConfig!$L:$M,2,FALSE),\"\"),IFERROR(VLOOKUP(A2462,[1]EventLinkConfig!$X:$Y,2,FALSE),\"\"),IFERROR(VLOOKUP(A2462,[1]EventLinkConfig!$AA:$AB,2,FALSE),\"\"),IFERROR(VLOOKUP(A2462,[1]EventConditionConfig!$B:$D,3,FALSE),\"\"))","v":"进入寺庙找寻散发灵气的修为丹"},"任务&事件文本",null,2459]
[2460,{"$f":"_xlfn.TEXTJOIN(\"\",1,IFERROR(VLOOKUP(A2463,[1]EventConfig!$T:$V,3,FALSE),\"\"),IFERROR(VLOOKUP(A2463,[1]EventConfig!$U:$W,3,FALSE),\"\"),IFERROR(VLOOKUP(A2463,[1]EventLinkConfig!$B:$C,2,FALSE),\"\"),IFERROR(VLOOKUP(A2463,[1]EventLinkConfig!$D:$E,2,FALSE),\"\"),IFERROR(VLOOKUP(A2463,[1]EventLinkConfig!$L:$M,2,FALSE),\"\"),IFERROR(VLOOKUP(A2463,[1]EventLinkConfig!$X:$Y,2,FALSE),\"\"),IFERROR(VLOOKUP(A2463,[1]EventLinkConfig!$AA:$AB,2,FALSE),\"\"),IFERROR(VLOOKUP(A2463,[1]EventConditionConfig!$B:$D,3,FALSE),\"\"))","v":"神识至一处灵气充盈之地，似乎是处洞府"},"任务&事件文本",null,2460]
[2461,{"$f":"_xlfn.TEXTJOIN(\"\",1,IFERROR(VLOOKUP(A2464,[1]EventConfig!$T:$V,3,FALSE),\"\"),IFERROR(VLOOKUP(A2464,[1]EventConfig!$U:$W,3,FALSE),\"\"),IFERROR(VLOOKUP(A2464,[1]EventLinkConfig!$B:$C,2,FALSE),\"\"),IFERROR(VLOOKUP(A2464,[1]EventLinkConfig!$D:$E,2,FALSE),\"\"),IFERROR(VLOOKUP(A2464,[1]EventLinkConfig!$L:$M,2,FALSE),\"\"),IFERROR(VLOOKUP(A2464,[1]EventLinkConfig!$X:$Y,2,FALSE),\"\"),IFERROR(VLOOKUP(A2464,[1]EventLinkConfig!$AA:$AB,2,FALSE),\"\"),IFERROR(VLOOKUP(A2464,[1]EventConditionConfig!$B:$D,3,FALSE),\"\"))","v":"进入洞府收集可用之物"},"任务&事件文本",null,2461]
[2462,{"$f":"_xlfn.TEXTJOIN(\"\",1,IFERROR(VLOOKUP(A2465,[1]EventConfig!$T:$V,3,FALSE),\"\"),IFERROR(VLOOKUP(A2465,[1]EventConfig!$U:$W,3,FALSE),\"\"),IFERROR(VLOOKUP(A2465,[1]EventLinkConfig!$B:$C,2,FALSE),\"\"),IFERROR(VLOOKUP(A2465,[1]EventLinkConfig!$D:$E,2,FALSE),\"\"),IFERROR(VLOOKUP(A2465,[1]EventLinkConfig!$L:$M,2,FALSE),\"\"),IFERROR(VLOOKUP(A2465,[1]EventLinkConfig!$X:$Y,2,FALSE),\"\"),IFERROR(VLOOKUP(A2465,[1]EventLinkConfig!$AA:$AB,2,FALSE),\"\"),IFERROR(VLOOKUP(A2465,[1]EventConditionConfig!$B:$D,3,FALSE),\"\"))","v":"一个不知好歹的邪修拦住了你的去路！"},"任务&事件文本",null,2462]
[2463,{"$f":"_xlfn.TEXTJOIN(\"\",1,IFERROR(VLOOKUP(A2466,[1]EventConfig!$T:$V,3,FALSE),\"\"),IFERROR(VLOOKUP(A2466,[1]EventConfig!$U:$W,3,FALSE),\"\"),IFERROR(VLOOKUP(A2466,[1]EventLinkConfig!$B:$C,2,FALSE),\"\"),IFERROR(VLOOKUP(A2466,[1]EventLinkConfig!$D:$E,2,FALSE),\"\"),IFERROR(VLOOKUP(A2466,[1]EventLinkConfig!$L:$M,2,FALSE),\"\"),IFERROR(VLOOKUP(A2466,[1]EventLinkConfig!$X:$Y,2,FALSE),\"\"),IFERROR(VLOOKUP(A2466,[1]EventLinkConfig!$AA:$AB,2,FALSE),\"\"),IFERROR(VLOOKUP(A2466,[1]EventConditionConfig!$B:$D,3,FALSE),\"\"))","v":"击败山贼（0/1)"},"任务&事件文本",null,2463]
[2464,{"$f":"_xlfn.TEXTJOIN(\"\",1,IFERROR(VLOOKUP(A2467,[1]EventConfig!$T:$V,3,FALSE),\"\"),IFERROR(VLOOKUP(A2467,[1]EventConfig!$U:$W,3,FALSE),\"\"),IFERROR(VLOOKUP(A2467,[1]EventLinkConfig!$B:$C,2,FALSE),\"\"),IFERROR(VLOOKUP(A2467,[1]EventLinkConfig!$D:$E,2,FALSE),\"\"),IFERROR(VLOOKUP(A2467,[1]EventLinkConfig!$L:$M,2,FALSE),\"\"),IFERROR(VLOOKUP(A2467,[1]EventLinkConfig!$X:$Y,2,FALSE),\"\"),IFERROR(VLOOKUP(A2467,[1]EventLinkConfig!$AA:$AB,2,FALSE),\"\"),IFERROR(VLOOKUP(A2467,[1]EventConditionConfig!$B:$D,3,FALSE),\"\"))","v":"此路是我开，此树是我栽，要想从此过，留下买命财！"},"任务&事件文本",null,2464]
[2465,{"$f":"_xlfn.TEXTJOIN(\"\",1,IFERROR(VLOOKUP(A2468,[1]EventConfig!$T:$V,3,FALSE),\"\"),IFERROR(VLOOKUP(A2468,[1]EventConfig!$U:$W,3,FALSE),\"\"),IFERROR(VLOOKUP(A2468,[1]EventLinkConfig!$B:$C,2,FALSE),\"\"),IFERROR(VLOOKUP(A2468,[1]EventLinkConfig!$D:$E,2,FALSE),\"\"),IFERROR(VLOOKUP(A2468,[1]EventLinkConfig!$L:$M,2,FALSE),\"\"),IFERROR(VLOOKUP(A2468,[1]EventLinkConfig!$X:$Y,2,FALSE),\"\"),IFERROR(VLOOKUP(A2468,[1]EventLinkConfig!$AA:$AB,2,FALSE),\"\"),IFERROR(VLOOKUP(A2468,[1]EventConditionConfig!$B:$D,3,FALSE),\"\"))","v":"大胆山贼，拿命来！"},"任务&事件文本",null,2465]
[2466,{"$f":"_xlfn.TEXTJOIN(\"\",1,IFERROR(VLOOKUP(A2469,[1]EventConfig!$T:$V,3,FALSE),\"\"),IFERROR(VLOOKUP(A2469,[1]EventConfig!$U:$W,3,FALSE),\"\"),IFERROR(VLOOKUP(A2469,[1]EventLinkConfig!$B:$C,2,FALSE),\"\"),IFERROR(VLOOKUP(A2469,[1]EventLinkConfig!$D:$E,2,FALSE),\"\"),IFERROR(VLOOKUP(A2469,[1]EventLinkConfig!$L:$M,2,FALSE),\"\"),IFERROR(VLOOKUP(A2469,[1]EventLinkConfig!$X:$Y,2,FALSE),\"\"),IFERROR(VLOOKUP(A2469,[1]EventLinkConfig!$AA:$AB,2,FALSE),\"\"),IFERROR(VLOOKUP(A2469,[1]EventConditionConfig!$B:$D,3,FALSE),\"\"))","v":"一位和尚叫住了你，貌似有什么急事"},"任务&事件文本",null,2466]
[2467,{"$f":"_xlfn.TEXTJOIN(\"\",1,IFERROR(VLOOKUP(A2470,[1]EventConfig!$T:$V,3,FALSE),\"\"),IFERROR(VLOOKUP(A2470,[1]EventConfig!$U:$W,3,FALSE),\"\"),IFERROR(VLOOKUP(A2470,[1]EventLinkConfig!$B:$C,2,FALSE),\"\"),IFERROR(VLOOKUP(A2470,[1]EventLinkConfig!$D:$E,2,FALSE),\"\"),IFERROR(VLOOKUP(A2470,[1]EventLinkConfig!$L:$M,2,FALSE),\"\"),IFERROR(VLOOKUP(A2470,[1]EventLinkConfig!$X:$Y,2,FALSE),\"\"),IFERROR(VLOOKUP(A2470,[1]EventLinkConfig!$AA:$AB,2,FALSE),\"\"),IFERROR(VLOOKUP(A2470,[1]EventConditionConfig!$B:$D,3,FALSE),\"\"))","v":"找到袈裟"},"任务&事件文本",null,2467]
[2468,{"$f":"_xlfn.TEXTJOIN(\"\",1,IFERROR(VLOOKUP(A2471,[1]EventConfig!$T:$V,3,FALSE),\"\"),IFERROR(VLOOKUP(A2471,[1]EventConfig!$U:$W,3,FALSE),\"\"),IFERROR(VLOOKUP(A2471,[1]EventLinkConfig!$B:$C,2,FALSE),\"\"),IFERROR(VLOOKUP(A2471,[1]EventLinkConfig!$D:$E,2,FALSE),\"\"),IFERROR(VLOOKUP(A2471,[1]EventLinkConfig!$L:$M,2,FALSE),\"\"),IFERROR(VLOOKUP(A2471,[1]EventLinkConfig!$X:$Y,2,FALSE),\"\"),IFERROR(VLOOKUP(A2471,[1]EventLinkConfig!$AA:$AB,2,FALSE),\"\"),IFERROR(VLOOKUP(A2471,[1]EventConditionConfig!$B:$D,3,FALSE),\"\"))","v":"仙长，我的袈裟被可恶的妖兽夺走了，还请为老僧主持公道啊"},"任务&事件文本",null,2468]
[2469,{"$f":"_xlfn.TEXTJOIN(\"\",1,IFERROR(VLOOKUP(A2472,[1]EventConfig!$T:$V,3,FALSE),\"\"),IFERROR(VLOOKUP(A2472,[1]EventConfig!$U:$W,3,FALSE),\"\"),IFERROR(VLOOKUP(A2472,[1]EventLinkConfig!$B:$C,2,FALSE),\"\"),IFERROR(VLOOKUP(A2472,[1]EventLinkConfig!$D:$E,2,FALSE),\"\"),IFERROR(VLOOKUP(A2472,[1]EventLinkConfig!$L:$M,2,FALSE),\"\"),IFERROR(VLOOKUP(A2472,[1]EventLinkConfig!$X:$Y,2,FALSE),\"\"),IFERROR(VLOOKUP(A2472,[1]EventLinkConfig!$AA:$AB,2,FALSE),\"\"),IFERROR(VLOOKUP(A2472,[1]EventConditionConfig!$B:$D,3,FALSE),\"\"))","v":"在此等待即可"},"任务&事件文本",null,2469]
[2470,{"$f":"_xlfn.TEXTJOIN(\"\",1,IFERROR(VLOOKUP(A2473,[1]EventConfig!$T:$V,3,FALSE),\"\"),IFERROR(VLOOKUP(A2473,[1]EventConfig!$U:$W,3,FALSE),\"\"),IFERROR(VLOOKUP(A2473,[1]EventLinkConfig!$B:$C,2,FALSE),\"\"),IFERROR(VLOOKUP(A2473,[1]EventLinkConfig!$D:$E,2,FALSE),\"\"),IFERROR(VLOOKUP(A2473,[1]EventLinkConfig!$L:$M,2,FALSE),\"\"),IFERROR(VLOOKUP(A2473,[1]EventLinkConfig!$X:$Y,2,FALSE),\"\"),IFERROR(VLOOKUP(A2473,[1]EventLinkConfig!$AA:$AB,2,FALSE),\"\"),IFERROR(VLOOKUP(A2473,[1]EventConditionConfig!$B:$D,3,FALSE),\"\"))","v":"一位和尚叫住了你，貌似有什么急事"},"任务&事件文本",null,2470]
[2471,{"$f":"_xlfn.TEXTJOIN(\"\",1,IFERROR(VLOOKUP(A2474,[1]EventConfig!$T:$V,3,FALSE),\"\"),IFERROR(VLOOKUP(A2474,[1]EventConfig!$U:$W,3,FALSE),\"\"),IFERROR(VLOOKUP(A2474,[1]EventLinkConfig!$B:$C,2,FALSE),\"\"),IFERROR(VLOOKUP(A2474,[1]EventLinkConfig!$D:$E,2,FALSE),\"\"),IFERROR(VLOOKUP(A2474,[1]EventLinkConfig!$L:$M,2,FALSE),\"\"),IFERROR(VLOOKUP(A2474,[1]EventLinkConfig!$X:$Y,2,FALSE),\"\"),IFERROR(VLOOKUP(A2474,[1]EventLinkConfig!$AA:$AB,2,FALSE),\"\"),IFERROR(VLOOKUP(A2474,[1]EventConditionConfig!$B:$D,3,FALSE),\"\"))","v":"找到袈裟"},"任务&事件文本",null,2471]
[2472,{"$f":"_xlfn.TEXTJOIN(\"\",1,IFERROR(VLOOKUP(A2475,[1]EventConfig!$T:$V,3,FALSE),\"\"),IFERROR(VLOOKUP(A2475,[1]EventConfig!$U:$W,3,FALSE),\"\"),IFERROR(VLOOKUP(A2475,[1]EventLinkConfig!$B:$C,2,FALSE),\"\"),IFERROR(VLOOKUP(A2475,[1]EventLinkConfig!$D:$E,2,FALSE),\"\"),IFERROR(VLOOKUP(A2475,[1]EventLinkConfig!$L:$M,2,FALSE),\"\"),IFERROR(VLOOKUP(A2475,[1]EventLinkConfig!$X:$Y,2,FALSE),\"\"),IFERROR(VLOOKUP(A2475,[1]EventLinkConfig!$AA:$AB,2,FALSE),\"\"),IFERROR(VLOOKUP(A2475,[1]EventConditionConfig!$B:$D,3,FALSE),\"\"))","v":"感谢仙长帮我寻回这件袈裟！"},"任务&事件文本",null,2472]
[2473,{"$f":"_xlfn.TEXTJOIN(\"\",1,IFERROR(VLOOKUP(A2476,[1]EventConfig!$T:$V,3,FALSE),\"\"),IFERROR(VLOOKUP(A2476,[1]EventConfig!$U:$W,3,FALSE),\"\"),IFERROR(VLOOKUP(A2476,[1]EventLinkConfig!$B:$C,2,FALSE),\"\"),IFERROR(VLOOKUP(A2476,[1]EventLinkConfig!$D:$E,2,FALSE),\"\"),IFERROR(VLOOKUP(A2476,[1]EventLinkConfig!$L:$M,2,FALSE),\"\"),IFERROR(VLOOKUP(A2476,[1]EventLinkConfig!$X:$Y,2,FALSE),\"\"),IFERROR(VLOOKUP(A2476,[1]EventLinkConfig!$AA:$AB,2,FALSE),\"\"),IFERROR(VLOOKUP(A2476,[1]EventConditionConfig!$B:$D,3,FALSE),\"\"))","v":"击杀灵兽获得袈裟"},"任务&事件文本",null,2473]
[2474,{"$f":"_xlfn.TEXTJOIN(\"\",1,IFERROR(VLOOKUP(A2477,[1]EventConfig!$T:$V,3,FALSE),\"\"),IFERROR(VLOOKUP(A2477,[1]EventConfig!$U:$W,3,FALSE),\"\"),IFERROR(VLOOKUP(A2477,[1]EventLinkConfig!$B:$C,2,FALSE),\"\"),IFERROR(VLOOKUP(A2477,[1]EventLinkConfig!$D:$E,2,FALSE),\"\"),IFERROR(VLOOKUP(A2477,[1]EventLinkConfig!$L:$M,2,FALSE),\"\"),IFERROR(VLOOKUP(A2477,[1]EventLinkConfig!$X:$Y,2,FALSE),\"\"),IFERROR(VLOOKUP(A2477,[1]EventLinkConfig!$AA:$AB,2,FALSE),\"\"),IFERROR(VLOOKUP(A2477,[1]EventConditionConfig!$B:$D,3,FALSE),\"\"))","v":"云游修士历练在即，急待前辈指点一二"},"任务&事件文本",null,2474]
[2475,{"$f":"_xlfn.TEXTJOIN(\"\",1,IFERROR(VLOOKUP(A2478,[1]EventConfig!$T:$V,3,FALSE),\"\"),IFERROR(VLOOKUP(A2478,[1]EventConfig!$U:$W,3,FALSE),\"\"),IFERROR(VLOOKUP(A2478,[1]EventLinkConfig!$B:$C,2,FALSE),\"\"),IFERROR(VLOOKUP(A2478,[1]EventLinkConfig!$D:$E,2,FALSE),\"\"),IFERROR(VLOOKUP(A2478,[1]EventLinkConfig!$L:$M,2,FALSE),\"\"),IFERROR(VLOOKUP(A2478,[1]EventLinkConfig!$X:$Y,2,FALSE),\"\"),IFERROR(VLOOKUP(A2478,[1]EventLinkConfig!$AA:$AB,2,FALSE),\"\"),IFERROR(VLOOKUP(A2478,[1]EventConditionConfig!$B:$D,3,FALSE),\"\"))","v":"指引云游修士"},"任务&事件文本",null,2475]
[2476,{"$f":"_xlfn.TEXTJOIN(\"\",1,IFERROR(VLOOKUP(A2479,[1]EventConfig!$T:$V,3,FALSE),\"\"),IFERROR(VLOOKUP(A2479,[1]EventConfig!$U:$W,3,FALSE),\"\"),IFERROR(VLOOKUP(A2479,[1]EventLinkConfig!$B:$C,2,FALSE),\"\"),IFERROR(VLOOKUP(A2479,[1]EventLinkConfig!$D:$E,2,FALSE),\"\"),IFERROR(VLOOKUP(A2479,[1]EventLinkConfig!$L:$M,2,FALSE),\"\"),IFERROR(VLOOKUP(A2479,[1]EventLinkConfig!$X:$Y,2,FALSE),\"\"),IFERROR(VLOOKUP(A2479,[1]EventLinkConfig!$AA:$AB,2,FALSE),\"\"),IFERROR(VLOOKUP(A2479,[1]EventConditionConfig!$B:$D,3,FALSE),\"\"))","v":"前辈还请赐教一二"},"任务&事件文本",null,2476]
[2477,{"$f":"_xlfn.TEXTJOIN(\"\",1,IFERROR(VLOOKUP(A2480,[1]EventConfig!$T:$V,3,FALSE),\"\"),IFERROR(VLOOKUP(A2480,[1]EventConfig!$U:$W,3,FALSE),\"\"),IFERROR(VLOOKUP(A2480,[1]EventLinkConfig!$B:$C,2,FALSE),\"\"),IFERROR(VLOOKUP(A2480,[1]EventLinkConfig!$D:$E,2,FALSE),\"\"),IFERROR(VLOOKUP(A2480,[1]EventLinkConfig!$L:$M,2,FALSE),\"\"),IFERROR(VLOOKUP(A2480,[1]EventLinkConfig!$X:$Y,2,FALSE),\"\"),IFERROR(VLOOKUP(A2480,[1]EventLinkConfig!$AA:$AB,2,FALSE),\"\"),IFERROR(VLOOKUP(A2480,[1]EventConditionConfig!$B:$D,3,FALSE),\"\"))","v":"“”"},"任务&事件文本",null,2477]
[2478,{"$f":"_xlfn.TEXTJOIN(\"\",1,IFERROR(VLOOKUP(A2481,[1]EventConfig!$T:$V,3,FALSE),\"\"),IFERROR(VLOOKUP(A2481,[1]EventConfig!$U:$W,3,FALSE),\"\"),IFERROR(VLOOKUP(A2481,[1]EventLinkConfig!$B:$C,2,FALSE),\"\"),IFERROR(VLOOKUP(A2481,[1]EventLinkConfig!$D:$E,2,FALSE),\"\"),IFERROR(VLOOKUP(A2481,[1]EventLinkConfig!$L:$M,2,FALSE),\"\"),IFERROR(VLOOKUP(A2481,[1]EventLinkConfig!$X:$Y,2,FALSE),\"\"),IFERROR(VLOOKUP(A2481,[1]EventLinkConfig!$AA:$AB,2,FALSE),\"\"),IFERROR(VLOOKUP(A2481,[1]EventConditionConfig!$B:$D,3,FALSE),\"\"))","v":"不予理睬直接离开"},"任务&事件文本",null,2478]
[2479,{"$f":"_xlfn.TEXTJOIN(\"\",1,IFERROR(VLOOKUP(A2482,[1]EventConfig!$T:$V,3,FALSE),\"\"),IFERROR(VLOOKUP(A2482,[1]EventConfig!$U:$W,3,FALSE),\"\"),IFERROR(VLOOKUP(A2482,[1]EventLinkConfig!$B:$C,2,FALSE),\"\"),IFERROR(VLOOKUP(A2482,[1]EventLinkConfig!$D:$E,2,FALSE),\"\"),IFERROR(VLOOKUP(A2482,[1]EventLinkConfig!$L:$M,2,FALSE),\"\"),IFERROR(VLOOKUP(A2482,[1]EventLinkConfig!$X:$Y,2,FALSE),\"\"),IFERROR(VLOOKUP(A2482,[1]EventLinkConfig!$AA:$AB,2,FALSE),\"\"),IFERROR(VLOOKUP(A2482,[1]EventConditionConfig!$B:$D,3,FALSE),\"\"))","v":"指导云游修士进行修炼"},"任务&事件文本",null,2479]
[2480,{"$f":"_xlfn.TEXTJOIN(\"\",1,IFERROR(VLOOKUP(A2483,[1]EventConfig!$T:$V,3,FALSE),\"\"),IFERROR(VLOOKUP(A2483,[1]EventConfig!$U:$W,3,FALSE),\"\"),IFERROR(VLOOKUP(A2483,[1]EventLinkConfig!$B:$C,2,FALSE),\"\"),IFERROR(VLOOKUP(A2483,[1]EventLinkConfig!$D:$E,2,FALSE),\"\"),IFERROR(VLOOKUP(A2483,[1]EventLinkConfig!$L:$M,2,FALSE),\"\"),IFERROR(VLOOKUP(A2483,[1]EventLinkConfig!$X:$Y,2,FALSE),\"\"),IFERROR(VLOOKUP(A2483,[1]EventLinkConfig!$AA:$AB,2,FALSE),\"\"),IFERROR(VLOOKUP(A2483,[1]EventConditionConfig!$B:$D,3,FALSE),\"\"))","v":"多谢前辈！"},"任务&事件文本",null,2480]
[2481,{"$f":"_xlfn.TEXTJOIN(\"\",1,IFERROR(VLOOKUP(A2484,[1]EventConfig!$T:$V,3,FALSE),\"\"),IFERROR(VLOOKUP(A2484,[1]EventConfig!$U:$W,3,FALSE),\"\"),IFERROR(VLOOKUP(A2484,[1]EventLinkConfig!$B:$C,2,FALSE),\"\"),IFERROR(VLOOKUP(A2484,[1]EventLinkConfig!$D:$E,2,FALSE),\"\"),IFERROR(VLOOKUP(A2484,[1]EventLinkConfig!$L:$M,2,FALSE),\"\"),IFERROR(VLOOKUP(A2484,[1]EventLinkConfig!$X:$Y,2,FALSE),\"\"),IFERROR(VLOOKUP(A2484,[1]EventLinkConfig!$AA:$AB,2,FALSE),\"\"),IFERROR(VLOOKUP(A2484,[1]EventConditionConfig!$B:$D,3,FALSE),\"\"))","v":"云游修士见你不愿教导便离开了"},"任务&事件文本",null,2481]
[2482,{"$f":"_xlfn.TEXTJOIN(\"\",1,IFERROR(VLOOKUP(A2485,[1]EventConfig!$T:$V,3,FALSE),\"\"),IFERROR(VLOOKUP(A2485,[1]EventConfig!$U:$W,3,FALSE),\"\"),IFERROR(VLOOKUP(A2485,[1]EventLinkConfig!$B:$C,2,FALSE),\"\"),IFERROR(VLOOKUP(A2485,[1]EventLinkConfig!$D:$E,2,FALSE),\"\"),IFERROR(VLOOKUP(A2485,[1]EventLinkConfig!$L:$M,2,FALSE),\"\"),IFERROR(VLOOKUP(A2485,[1]EventLinkConfig!$X:$Y,2,FALSE),\"\"),IFERROR(VLOOKUP(A2485,[1]EventLinkConfig!$AA:$AB,2,FALSE),\"\"),IFERROR(VLOOKUP(A2485,[1]EventConditionConfig!$B:$D,3,FALSE),\"\"))","v":"逍遥宗的长老似乎有事找你"},"任务&事件文本",null,2482]
[2483,{"$f":"_xlfn.TEXTJOIN(\"\",1,IFERROR(VLOOKUP(A2486,[1]EventConfig!$T:$V,3,FALSE),\"\"),IFERROR(VLOOKUP(A2486,[1]EventConfig!$U:$W,3,FALSE),\"\"),IFERROR(VLOOKUP(A2486,[1]EventLinkConfig!$B:$C,2,FALSE),\"\"),IFERROR(VLOOKUP(A2486,[1]EventLinkConfig!$D:$E,2,FALSE),\"\"),IFERROR(VLOOKUP(A2486,[1]EventLinkConfig!$L:$M,2,FALSE),\"\"),IFERROR(VLOOKUP(A2486,[1]EventLinkConfig!$X:$Y,2,FALSE),\"\"),IFERROR(VLOOKUP(A2486,[1]EventLinkConfig!$AA:$AB,2,FALSE),\"\"),IFERROR(VLOOKUP(A2486,[1]EventConditionConfig!$B:$D,3,FALSE),\"\"))","v":"???"},"任务&事件文本",null,2483]
[2484,{"$f":"_xlfn.TEXTJOIN(\"\",1,IFERROR(VLOOKUP(A2487,[1]EventConfig!$T:$V,3,FALSE),\"\"),IFERROR(VLOOKUP(A2487,[1]EventConfig!$U:$W,3,FALSE),\"\"),IFERROR(VLOOKUP(A2487,[1]EventLinkConfig!$B:$C,2,FALSE),\"\"),IFERROR(VLOOKUP(A2487,[1]EventLinkConfig!$D:$E,2,FALSE),\"\"),IFERROR(VLOOKUP(A2487,[1]EventLinkConfig!$L:$M,2,FALSE),\"\"),IFERROR(VLOOKUP(A2487,[1]EventLinkConfig!$X:$Y,2,FALSE),\"\"),IFERROR(VLOOKUP(A2487,[1]EventLinkConfig!$AA:$AB,2,FALSE),\"\"),IFERROR(VLOOKUP(A2487,[1]EventConditionConfig!$B:$D,3,FALSE),\"\"))","v":"今日我宗弟子发现云海妖气冲天，怕是有妖兽来临。还望小友走一趟，消灭那的妖王"},"任务&事件文本",null,2484]
[2485,{"$f":"_xlfn.TEXTJOIN(\"\",1,IFERROR(VLOOKUP(A2488,[1]EventConfig!$T:$V,3,FALSE),\"\"),IFERROR(VLOOKUP(A2488,[1]EventConfig!$U:$W,3,FALSE),\"\"),IFERROR(VLOOKUP(A2488,[1]EventLinkConfig!$B:$C,2,FALSE),\"\"),IFERROR(VLOOKUP(A2488,[1]EventLinkConfig!$D:$E,2,FALSE),\"\"),IFERROR(VLOOKUP(A2488,[1]EventLinkConfig!$L:$M,2,FALSE),\"\"),IFERROR(VLOOKUP(A2488,[1]EventLinkConfig!$X:$Y,2,FALSE),\"\"),IFERROR(VLOOKUP(A2488,[1]EventLinkConfig!$AA:$AB,2,FALSE),\"\"),IFERROR(VLOOKUP(A2488,[1]EventConditionConfig!$B:$D,3,FALSE),\"\"))","v":"小事一桩"},"任务&事件文本",null,2485]
[2486,{"$f":"_xlfn.TEXTJOIN(\"\",1,IFERROR(VLOOKUP(A2489,[1]EventConfig!$T:$V,3,FALSE),\"\"),IFERROR(VLOOKUP(A2489,[1]EventConfig!$U:$W,3,FALSE),\"\"),IFERROR(VLOOKUP(A2489,[1]EventLinkConfig!$B:$C,2,FALSE),\"\"),IFERROR(VLOOKUP(A2489,[1]EventLinkConfig!$D:$E,2,FALSE),\"\"),IFERROR(VLOOKUP(A2489,[1]EventLinkConfig!$L:$M,2,FALSE),\"\"),IFERROR(VLOOKUP(A2489,[1]EventLinkConfig!$X:$Y,2,FALSE),\"\"),IFERROR(VLOOKUP(A2489,[1]EventLinkConfig!$AA:$AB,2,FALSE),\"\"),IFERROR(VLOOKUP(A2489,[1]EventConditionConfig!$B:$D,3,FALSE),\"\"))","v":"村民急匆匆的前来找你"},"任务&事件文本",null,2486]
[2487,{"$f":"_xlfn.TEXTJOIN(\"\",1,IFERROR(VLOOKUP(A2490,[1]EventConfig!$T:$V,3,FALSE),\"\"),IFERROR(VLOOKUP(A2490,[1]EventConfig!$U:$W,3,FALSE),\"\"),IFERROR(VLOOKUP(A2490,[1]EventLinkConfig!$B:$C,2,FALSE),\"\"),IFERROR(VLOOKUP(A2490,[1]EventLinkConfig!$D:$E,2,FALSE),\"\"),IFERROR(VLOOKUP(A2490,[1]EventLinkConfig!$L:$M,2,FALSE),\"\"),IFERROR(VLOOKUP(A2490,[1]EventLinkConfig!$X:$Y,2,FALSE),\"\"),IFERROR(VLOOKUP(A2490,[1]EventLinkConfig!$AA:$AB,2,FALSE),\"\"),IFERROR(VLOOKUP(A2490,[1]EventConditionConfig!$B:$D,3,FALSE),\"\"))","v":"清剿妖兽（0/1）"},"任务&事件文本",null,2487]
[2488,{"$f":"_xlfn.TEXTJOIN(\"\",1,IFERROR(VLOOKUP(A2491,[1]EventConfig!$T:$V,3,FALSE),\"\"),IFERROR(VLOOKUP(A2491,[1]EventConfig!$U:$W,3,FALSE),\"\"),IFERROR(VLOOKUP(A2491,[1]EventLinkConfig!$B:$C,2,FALSE),\"\"),IFERROR(VLOOKUP(A2491,[1]EventLinkConfig!$D:$E,2,FALSE),\"\"),IFERROR(VLOOKUP(A2491,[1]EventLinkConfig!$L:$M,2,FALSE),\"\"),IFERROR(VLOOKUP(A2491,[1]EventLinkConfig!$X:$Y,2,FALSE),\"\"),IFERROR(VLOOKUP(A2491,[1]EventLinkConfig!$AA:$AB,2,FALSE),\"\"),IFERROR(VLOOKUP(A2491,[1]EventConditionConfig!$B:$D,3,FALSE),\"\"))","v":"仙长，村中有妖兽闹事，还请出手解决！"},"任务&事件文本",null,2488]
[2489,{"$f":"_xlfn.TEXTJOIN(\"\",1,IFERROR(VLOOKUP(A2492,[1]EventConfig!$T:$V,3,FALSE),\"\"),IFERROR(VLOOKUP(A2492,[1]EventConfig!$U:$W,3,FALSE),\"\"),IFERROR(VLOOKUP(A2492,[1]EventLinkConfig!$B:$C,2,FALSE),\"\"),IFERROR(VLOOKUP(A2492,[1]EventLinkConfig!$D:$E,2,FALSE),\"\"),IFERROR(VLOOKUP(A2492,[1]EventLinkConfig!$L:$M,2,FALSE),\"\"),IFERROR(VLOOKUP(A2492,[1]EventLinkConfig!$X:$Y,2,FALSE),\"\"),IFERROR(VLOOKUP(A2492,[1]EventLinkConfig!$AA:$AB,2,FALSE),\"\"),IFERROR(VLOOKUP(A2492,[1]EventConditionConfig!$B:$D,3,FALSE),\"\"))","v":"区区妖兽，灭掉便是"},"任务&事件文本",null,2489]
[2490,{"$f":"_xlfn.TEXTJOIN(\"\",1,IFERROR(VLOOKUP(A2493,[1]EventConfig!$T:$V,3,FALSE),\"\"),IFERROR(VLOOKUP(A2493,[1]EventConfig!$U:$W,3,FALSE),\"\"),IFERROR(VLOOKUP(A2493,[1]EventLinkConfig!$B:$C,2,FALSE),\"\"),IFERROR(VLOOKUP(A2493,[1]EventLinkConfig!$D:$E,2,FALSE),\"\"),IFERROR(VLOOKUP(A2493,[1]EventLinkConfig!$L:$M,2,FALSE),\"\"),IFERROR(VLOOKUP(A2493,[1]EventLinkConfig!$X:$Y,2,FALSE),\"\"),IFERROR(VLOOKUP(A2493,[1]EventLinkConfig!$AA:$AB,2,FALSE),\"\"),IFERROR(VLOOKUP(A2493,[1]EventConditionConfig!$B:$D,3,FALSE),\"\"))","v":"我可是要酬劳的"},"任务&事件文本",null,2490]
[2491,{"$f":"_xlfn.TEXTJOIN(\"\",1,IFERROR(VLOOKUP(A2494,[1]EventConfig!$T:$V,3,FALSE),\"\"),IFERROR(VLOOKUP(A2494,[1]EventConfig!$U:$W,3,FALSE),\"\"),IFERROR(VLOOKUP(A2494,[1]EventLinkConfig!$B:$C,2,FALSE),\"\"),IFERROR(VLOOKUP(A2494,[1]EventLinkConfig!$D:$E,2,FALSE),\"\"),IFERROR(VLOOKUP(A2494,[1]EventLinkConfig!$L:$M,2,FALSE),\"\"),IFERROR(VLOOKUP(A2494,[1]EventLinkConfig!$X:$Y,2,FALSE),\"\"),IFERROR(VLOOKUP(A2494,[1]EventLinkConfig!$AA:$AB,2,FALSE),\"\"),IFERROR(VLOOKUP(A2494,[1]EventConditionConfig!$B:$D,3,FALSE),\"\"))","v":"多谢仙长相救!报酬好说"},"任务&事件文本",null,2491]
[2492,{"$f":"_xlfn.TEXTJOIN(\"\",1,IFERROR(VLOOKUP(A2495,[1]EventConfig!$T:$V,3,FALSE),\"\"),IFERROR(VLOOKUP(A2495,[1]EventConfig!$U:$W,3,FALSE),\"\"),IFERROR(VLOOKUP(A2495,[1]EventLinkConfig!$B:$C,2,FALSE),\"\"),IFERROR(VLOOKUP(A2495,[1]EventLinkConfig!$D:$E,2,FALSE),\"\"),IFERROR(VLOOKUP(A2495,[1]EventLinkConfig!$L:$M,2,FALSE),\"\"),IFERROR(VLOOKUP(A2495,[1]EventLinkConfig!$X:$Y,2,FALSE),\"\"),IFERROR(VLOOKUP(A2495,[1]EventLinkConfig!$AA:$AB,2,FALSE),\"\"),IFERROR(VLOOKUP(A2495,[1]EventConditionConfig!$B:$D,3,FALSE),\"\"))","v":"一个和尚急匆匆的叫住了你"},"任务&事件文本",null,2492]
[2493,{"$f":"_xlfn.TEXTJOIN(\"\",1,IFERROR(VLOOKUP(A2496,[1]EventConfig!$T:$V,3,FALSE),\"\"),IFERROR(VLOOKUP(A2496,[1]EventConfig!$U:$W,3,FALSE),\"\"),IFERROR(VLOOKUP(A2496,[1]EventLinkConfig!$B:$C,2,FALSE),\"\"),IFERROR(VLOOKUP(A2496,[1]EventLinkConfig!$D:$E,2,FALSE),\"\"),IFERROR(VLOOKUP(A2496,[1]EventLinkConfig!$L:$M,2,FALSE),\"\"),IFERROR(VLOOKUP(A2496,[1]EventLinkConfig!$X:$Y,2,FALSE),\"\"),IFERROR(VLOOKUP(A2496,[1]EventLinkConfig!$AA:$AB,2,FALSE),\"\"),IFERROR(VLOOKUP(A2496,[1]EventConditionConfig!$B:$D,3,FALSE),\"\"))","v":"与和尚对话"},"任务&事件文本",null,2493]
[2494,{"$f":"_xlfn.TEXTJOIN(\"\",1,IFERROR(VLOOKUP(A2497,[1]EventConfig!$T:$V,3,FALSE),\"\"),IFERROR(VLOOKUP(A2497,[1]EventConfig!$U:$W,3,FALSE),\"\"),IFERROR(VLOOKUP(A2497,[1]EventLinkConfig!$B:$C,2,FALSE),\"\"),IFERROR(VLOOKUP(A2497,[1]EventLinkConfig!$D:$E,2,FALSE),\"\"),IFERROR(VLOOKUP(A2497,[1]EventLinkConfig!$L:$M,2,FALSE),\"\"),IFERROR(VLOOKUP(A2497,[1]EventLinkConfig!$X:$Y,2,FALSE),\"\"),IFERROR(VLOOKUP(A2497,[1]EventLinkConfig!$AA:$AB,2,FALSE),\"\"),IFERROR(VLOOKUP(A2497,[1]EventConditionConfig!$B:$D,3,FALSE),\"\"))","v":"前些日子有妖兽在寺中大闹，盗走了琉璃盏，还请仙长出手相助"},"任务&事件文本",null,2494]
[2495,{"$f":"_xlfn.TEXTJOIN(\"\",1,IFERROR(VLOOKUP(A2498,[1]EventConfig!$T:$V,3,FALSE),\"\"),IFERROR(VLOOKUP(A2498,[1]EventConfig!$U:$W,3,FALSE),\"\"),IFERROR(VLOOKUP(A2498,[1]EventLinkConfig!$B:$C,2,FALSE),\"\"),IFERROR(VLOOKUP(A2498,[1]EventLinkConfig!$D:$E,2,FALSE),\"\"),IFERROR(VLOOKUP(A2498,[1]EventLinkConfig!$L:$M,2,FALSE),\"\"),IFERROR(VLOOKUP(A2498,[1]EventLinkConfig!$X:$Y,2,FALSE),\"\"),IFERROR(VLOOKUP(A2498,[1]EventLinkConfig!$AA:$AB,2,FALSE),\"\"),IFERROR(VLOOKUP(A2498,[1]EventConditionConfig!$B:$D,3,FALSE),\"\"))","v":"感谢仙长相助。"},"任务&事件文本",null,2495]
[2496,{"$f":"_xlfn.TEXTJOIN(\"\",1,IFERROR(VLOOKUP(A2499,[1]EventConfig!$T:$V,3,FALSE),\"\"),IFERROR(VLOOKUP(A2499,[1]EventConfig!$U:$W,3,FALSE),\"\"),IFERROR(VLOOKUP(A2499,[1]EventLinkConfig!$B:$C,2,FALSE),\"\"),IFERROR(VLOOKUP(A2499,[1]EventLinkConfig!$D:$E,2,FALSE),\"\"),IFERROR(VLOOKUP(A2499,[1]EventLinkConfig!$L:$M,2,FALSE),\"\"),IFERROR(VLOOKUP(A2499,[1]EventLinkConfig!$X:$Y,2,FALSE),\"\"),IFERROR(VLOOKUP(A2499,[1]EventLinkConfig!$AA:$AB,2,FALSE),\"\"),IFERROR(VLOOKUP(A2499,[1]EventConditionConfig!$B:$D,3,FALSE),\"\"))","v":"击败盗走琉璃盏的妖兽"},"任务&事件文本",null,2496]
[2497,{"$f":"_xlfn.TEXTJOIN(\"\",1,IFERROR(VLOOKUP(A2500,[1]EventConfig!$T:$V,3,FALSE),\"\"),IFERROR(VLOOKUP(A2500,[1]EventConfig!$U:$W,3,FALSE),\"\"),IFERROR(VLOOKUP(A2500,[1]EventLinkConfig!$B:$C,2,FALSE),\"\"),IFERROR(VLOOKUP(A2500,[1]EventLinkConfig!$D:$E,2,FALSE),\"\"),IFERROR(VLOOKUP(A2500,[1]EventLinkConfig!$L:$M,2,FALSE),\"\"),IFERROR(VLOOKUP(A2500,[1]EventLinkConfig!$X:$Y,2,FALSE),\"\"),IFERROR(VLOOKUP(A2500,[1]EventLinkConfig!$AA:$AB,2,FALSE),\"\"),IFERROR(VLOOKUP(A2500,[1]EventConditionConfig!$B:$D,3,FALSE),\"\"))","v":"与和尚对话"},"任务&事件文本",null,2497]
[2498,{"$f":"_xlfn.TEXTJOIN(\"\",1,IFERROR(VLOOKUP(A2501,[1]EventConfig!$T:$V,3,FALSE),\"\"),IFERROR(VLOOKUP(A2501,[1]EventConfig!$U:$W,3,FALSE),\"\"),IFERROR(VLOOKUP(A2501,[1]EventLinkConfig!$B:$C,2,FALSE),\"\"),IFERROR(VLOOKUP(A2501,[1]EventLinkConfig!$D:$E,2,FALSE),\"\"),IFERROR(VLOOKUP(A2501,[1]EventLinkConfig!$L:$M,2,FALSE),\"\"),IFERROR(VLOOKUP(A2501,[1]EventLinkConfig!$X:$Y,2,FALSE),\"\"),IFERROR(VLOOKUP(A2501,[1]EventLinkConfig!$AA:$AB,2,FALSE),\"\"),IFERROR(VLOOKUP(A2501,[1]EventConditionConfig!$B:$D,3,FALSE),\"\"))","v":"好一个妖兽竟敢盗走琉璃盏！"},"任务&事件文本",null,{"$f":"A2501","v":2498}]
[2499,{"$f":"_xlfn.TEXTJOIN(\"\",1,IFERROR(VLOOKUP(A2502,[1]EventConfig!$T:$V,3,FALSE),\"\"),IFERROR(VLOOKUP(A2502,[1]EventConfig!$U:$W,3,FALSE),\"\"),IFERROR(VLOOKUP(A2502,[1]EventLinkConfig!$B:$C,2,FALSE),\"\"),IFERROR(VLOOKUP(A2502,[1]EventLinkConfig!$D:$E,2,FALSE),\"\"),IFERROR(VLOOKUP(A2502,[1]EventLinkConfig!$L:$M,2,FALSE),\"\"),IFERROR(VLOOKUP(A2502,[1]EventLinkConfig!$X:$Y,2,FALSE),\"\"),IFERROR(VLOOKUP(A2502,[1]EventLinkConfig!$AA:$AB,2,FALSE),\"\"),IFERROR(VLOOKUP(A2502,[1]EventConditionConfig!$B:$D,3,FALSE),\"\"))","v":""},"任务&事件文本",null,2499]
[2500,{"$f":"_xlfn.TEXTJOIN(\"\",1,IFERROR(VLOOKUP(A2503,[1]EventConfig!$T:$V,3,FALSE),\"\"),IFERROR(VLOOKUP(A2503,[1]EventConfig!$U:$W,3,FALSE),\"\"),IFERROR(VLOOKUP(A2503,[1]EventLinkConfig!$B:$C,2,FALSE),\"\"),IFERROR(VLOOKUP(A2503,[1]EventLinkConfig!$D:$E,2,FALSE),\"\"),IFERROR(VLOOKUP(A2503,[1]EventLinkConfig!$L:$M,2,FALSE),\"\"),IFERROR(VLOOKUP(A2503,[1]EventLinkConfig!$X:$Y,2,FALSE),\"\"),IFERROR(VLOOKUP(A2503,[1]EventLinkConfig!$AA:$AB,2,FALSE),\"\"),IFERROR(VLOOKUP(A2503,[1]EventConditionConfig!$B:$D,3,FALSE),\"\"))","v":""},"任务&事件文本",null,2500]
[2501,{"$f":"_xlfn.TEXTJOIN(\"\",1,IFERROR(VLOOKUP(A2504,[1]EventConfig!$T:$V,3,FALSE),\"\"),IFERROR(VLOOKUP(A2504,[1]EventConfig!$U:$W,3,FALSE),\"\"),IFERROR(VLOOKUP(A2504,[1]EventLinkConfig!$B:$C,2,FALSE),\"\"),IFERROR(VLOOKUP(A2504,[1]EventLinkConfig!$D:$E,2,FALSE),\"\"),IFERROR(VLOOKUP(A2504,[1]EventLinkConfig!$L:$M,2,FALSE),\"\"),IFERROR(VLOOKUP(A2504,[1]EventLinkConfig!$X:$Y,2,FALSE),\"\"),IFERROR(VLOOKUP(A2504,[1]EventLinkConfig!$AA:$AB,2,FALSE),\"\"),IFERROR(VLOOKUP(A2504,[1]EventConditionConfig!$B:$D,3,FALSE),\"\"))","v":""},"任务&事件文本",null,2501]
[2502,{"$f":"_xlfn.TEXTJOIN(\"\",1,IFERROR(VLOOKUP(A2505,[1]EventConfig!$T:$V,3,FALSE),\"\"),IFERROR(VLOOKUP(A2505,[1]EventConfig!$U:$W,3,FALSE),\"\"),IFERROR(VLOOKUP(A2505,[1]EventLinkConfig!$B:$C,2,FALSE),\"\"),IFERROR(VLOOKUP(A2505,[1]EventLinkConfig!$D:$E,2,FALSE),\"\"),IFERROR(VLOOKUP(A2505,[1]EventLinkConfig!$L:$M,2,FALSE),\"\"),IFERROR(VLOOKUP(A2505,[1]EventLinkConfig!$X:$Y,2,FALSE),\"\"),IFERROR(VLOOKUP(A2505,[1]EventLinkConfig!$AA:$AB,2,FALSE),\"\"),IFERROR(VLOOKUP(A2505,[1]EventConditionConfig!$B:$D,3,FALSE),\"\"))","v":""},"任务&事件文本",null,2502]
[2503,{"$f":"_xlfn.TEXTJOIN(\"\",1,IFERROR(VLOOKUP(A2506,[1]EventConfig!$T:$V,3,FALSE),\"\"),IFERROR(VLOOKUP(A2506,[1]EventConfig!$U:$W,3,FALSE),\"\"),IFERROR(VLOOKUP(A2506,[1]EventLinkConfig!$B:$C,2,FALSE),\"\"),IFERROR(VLOOKUP(A2506,[1]EventLinkConfig!$D:$E,2,FALSE),\"\"),IFERROR(VLOOKUP(A2506,[1]EventLinkConfig!$L:$M,2,FALSE),\"\"),IFERROR(VLOOKUP(A2506,[1]EventLinkConfig!$X:$Y,2,FALSE),\"\"),IFERROR(VLOOKUP(A2506,[1]EventLinkConfig!$AA:$AB,2,FALSE),\"\"),IFERROR(VLOOKUP(A2506,[1]EventConditionConfig!$B:$D,3,FALSE),\"\"))","v":""},"任务&事件文本",null,2503]
[2504,{"$f":"_xlfn.TEXTJOIN(\"\",1,IFERROR(VLOOKUP(A2507,[1]EventConfig!$T:$V,3,FALSE),\"\"),IFERROR(VLOOKUP(A2507,[1]EventConfig!$U:$W,3,FALSE),\"\"),IFERROR(VLOOKUP(A2507,[1]EventLinkConfig!$B:$C,2,FALSE),\"\"),IFERROR(VLOOKUP(A2507,[1]EventLinkConfig!$D:$E,2,FALSE),\"\"),IFERROR(VLOOKUP(A2507,[1]EventLinkConfig!$L:$M,2,FALSE),\"\"),IFERROR(VLOOKUP(A2507,[1]EventLinkConfig!$X:$Y,2,FALSE),\"\"),IFERROR(VLOOKUP(A2507,[1]EventLinkConfig!$AA:$AB,2,FALSE),\"\"),IFERROR(VLOOKUP(A2507,[1]EventConditionConfig!$B:$D,3,FALSE),\"\"))","v":""},"任务&事件文本",null,2504]
[2505,{"$f":"_xlfn.TEXTJOIN(\"\",1,IFERROR(VLOOKUP(A2508,[1]EventConfig!$T:$V,3,FALSE),\"\"),IFERROR(VLOOKUP(A2508,[1]EventConfig!$U:$W,3,FALSE),\"\"),IFERROR(VLOOKUP(A2508,[1]EventLinkConfig!$B:$C,2,FALSE),\"\"),IFERROR(VLOOKUP(A2508,[1]EventLinkConfig!$D:$E,2,FALSE),\"\"),IFERROR(VLOOKUP(A2508,[1]EventLinkConfig!$L:$M,2,FALSE),\"\"),IFERROR(VLOOKUP(A2508,[1]EventLinkConfig!$X:$Y,2,FALSE),\"\"),IFERROR(VLOOKUP(A2508,[1]EventLinkConfig!$AA:$AB,2,FALSE),\"\"),IFERROR(VLOOKUP(A2508,[1]EventConditionConfig!$B:$D,3,FALSE),\"\"))","v":""},"任务&事件文本",null,2505]
[2506,{"$f":"_xlfn.TEXTJOIN(\"\",1,IFERROR(VLOOKUP(A2509,[1]EventConfig!$T:$V,3,FALSE),\"\"),IFERROR(VLOOKUP(A2509,[1]EventConfig!$U:$W,3,FALSE),\"\"),IFERROR(VLOOKUP(A2509,[1]EventLinkConfig!$B:$C,2,FALSE),\"\"),IFERROR(VLOOKUP(A2509,[1]EventLinkConfig!$D:$E,2,FALSE),\"\"),IFERROR(VLOOKUP(A2509,[1]EventLinkConfig!$L:$M,2,FALSE),\"\"),IFERROR(VLOOKUP(A2509,[1]EventLinkConfig!$X:$Y,2,FALSE),\"\"),IFERROR(VLOOKUP(A2509,[1]EventLinkConfig!$AA:$AB,2,FALSE),\"\"),IFERROR(VLOOKUP(A2509,[1]EventConditionConfig!$B:$D,3,FALSE),\"\"))","v":""},"任务&事件文本",null,2506]
[2507,{"$f":"_xlfn.TEXTJOIN(\"\",1,IFERROR(VLOOKUP(A2510,[1]EventConfig!$T:$V,3,FALSE),\"\"),IFERROR(VLOOKUP(A2510,[1]EventConfig!$U:$W,3,FALSE),\"\"),IFERROR(VLOOKUP(A2510,[1]EventLinkConfig!$B:$C,2,FALSE),\"\"),IFERROR(VLOOKUP(A2510,[1]EventLinkConfig!$D:$E,2,FALSE),\"\"),IFERROR(VLOOKUP(A2510,[1]EventLinkConfig!$L:$M,2,FALSE),\"\"),IFERROR(VLOOKUP(A2510,[1]EventLinkConfig!$X:$Y,2,FALSE),\"\"),IFERROR(VLOOKUP(A2510,[1]EventLinkConfig!$AA:$AB,2,FALSE),\"\"),IFERROR(VLOOKUP(A2510,[1]EventConditionConfig!$B:$D,3,FALSE),\"\"))","v":""},"任务&事件文本",null,2507]
[2508,{"$f":"_xlfn.TEXTJOIN(\"\",1,IFERROR(VLOOKUP(A2511,[1]EventConfig!$T:$V,3,FALSE),\"\"),IFERROR(VLOOKUP(A2511,[1]EventConfig!$U:$W,3,FALSE),\"\"),IFERROR(VLOOKUP(A2511,[1]EventLinkConfig!$B:$C,2,FALSE),\"\"),IFERROR(VLOOKUP(A2511,[1]EventLinkConfig!$D:$E,2,FALSE),\"\"),IFERROR(VLOOKUP(A2511,[1]EventLinkConfig!$L:$M,2,FALSE),\"\"),IFERROR(VLOOKUP(A2511,[1]EventLinkConfig!$X:$Y,2,FALSE),\"\"),IFERROR(VLOOKUP(A2511,[1]EventLinkConfig!$AA:$AB,2,FALSE),\"\"),IFERROR(VLOOKUP(A2511,[1]EventConditionConfig!$B:$D,3,FALSE),\"\"))","v":""},"任务&事件文本",null,2508]
[2509,{"$f":"_xlfn.TEXTJOIN(\"\",1,IFERROR(VLOOKUP(A2512,[1]EventConfig!$T:$V,3,FALSE),\"\"),IFERROR(VLOOKUP(A2512,[1]EventConfig!$U:$W,3,FALSE),\"\"),IFERROR(VLOOKUP(A2512,[1]EventLinkConfig!$B:$C,2,FALSE),\"\"),IFERROR(VLOOKUP(A2512,[1]EventLinkConfig!$D:$E,2,FALSE),\"\"),IFERROR(VLOOKUP(A2512,[1]EventLinkConfig!$L:$M,2,FALSE),\"\"),IFERROR(VLOOKUP(A2512,[1]EventLinkConfig!$X:$Y,2,FALSE),\"\"),IFERROR(VLOOKUP(A2512,[1]EventLinkConfig!$AA:$AB,2,FALSE),\"\"),IFERROR(VLOOKUP(A2512,[1]EventConditionConfig!$B:$D,3,FALSE),\"\"))","v":""},"任务&事件文本",null,2509]
[2510,{"$f":"_xlfn.TEXTJOIN(\"\",1,IFERROR(VLOOKUP(A2513,[1]EventConfig!$T:$V,3,FALSE),\"\"),IFERROR(VLOOKUP(A2513,[1]EventConfig!$U:$W,3,FALSE),\"\"),IFERROR(VLOOKUP(A2513,[1]EventLinkConfig!$B:$C,2,FALSE),\"\"),IFERROR(VLOOKUP(A2513,[1]EventLinkConfig!$D:$E,2,FALSE),\"\"),IFERROR(VLOOKUP(A2513,[1]EventLinkConfig!$L:$M,2,FALSE),\"\"),IFERROR(VLOOKUP(A2513,[1]EventLinkConfig!$X:$Y,2,FALSE),\"\"),IFERROR(VLOOKUP(A2513,[1]EventLinkConfig!$AA:$AB,2,FALSE),\"\"),IFERROR(VLOOKUP(A2513,[1]EventConditionConfig!$B:$D,3,FALSE),\"\"))","v":""},"任务&事件文本",null,2510]
[2511,{"$f":"_xlfn.TEXTJOIN(\"\",1,IFERROR(VLOOKUP(A2514,[1]EventConfig!$T:$V,3,FALSE),\"\"),IFERROR(VLOOKUP(A2514,[1]EventConfig!$U:$W,3,FALSE),\"\"),IFERROR(VLOOKUP(A2514,[1]EventLinkConfig!$B:$C,2,FALSE),\"\"),IFERROR(VLOOKUP(A2514,[1]EventLinkConfig!$D:$E,2,FALSE),\"\"),IFERROR(VLOOKUP(A2514,[1]EventLinkConfig!$L:$M,2,FALSE),\"\"),IFERROR(VLOOKUP(A2514,[1]EventLinkConfig!$X:$Y,2,FALSE),\"\"),IFERROR(VLOOKUP(A2514,[1]EventLinkConfig!$AA:$AB,2,FALSE),\"\"),IFERROR(VLOOKUP(A2514,[1]EventConditionConfig!$B:$D,3,FALSE),\"\"))","v":""},"任务&事件文本",null,2511]
[2512,{"$f":"_xlfn.TEXTJOIN(\"\",1,IFERROR(VLOOKUP(A2515,[1]EventConfig!$T:$V,3,FALSE),\"\"),IFERROR(VLOOKUP(A2515,[1]EventConfig!$U:$W,3,FALSE),\"\"),IFERROR(VLOOKUP(A2515,[1]EventLinkConfig!$B:$C,2,FALSE),\"\"),IFERROR(VLOOKUP(A2515,[1]EventLinkConfig!$D:$E,2,FALSE),\"\"),IFERROR(VLOOKUP(A2515,[1]EventLinkConfig!$L:$M,2,FALSE),\"\"),IFERROR(VLOOKUP(A2515,[1]EventLinkConfig!$X:$Y,2,FALSE),\"\"),IFERROR(VLOOKUP(A2515,[1]EventLinkConfig!$AA:$AB,2,FALSE),\"\"),IFERROR(VLOOKUP(A2515,[1]EventConditionConfig!$B:$D,3,FALSE),\"\"))","v":""},"任务&事件文本",null,2512]
[2513,{"$f":"_xlfn.TEXTJOIN(\"\",1,IFERROR(VLOOKUP(A2516,[1]EventConfig!$T:$V,3,FALSE),\"\"),IFERROR(VLOOKUP(A2516,[1]EventConfig!$U:$W,3,FALSE),\"\"),IFERROR(VLOOKUP(A2516,[1]EventLinkConfig!$B:$C,2,FALSE),\"\"),IFERROR(VLOOKUP(A2516,[1]EventLinkConfig!$D:$E,2,FALSE),\"\"),IFERROR(VLOOKUP(A2516,[1]EventLinkConfig!$L:$M,2,FALSE),\"\"),IFERROR(VLOOKUP(A2516,[1]EventLinkConfig!$X:$Y,2,FALSE),\"\"),IFERROR(VLOOKUP(A2516,[1]EventLinkConfig!$AA:$AB,2,FALSE),\"\"),IFERROR(VLOOKUP(A2516,[1]EventConditionConfig!$B:$D,3,FALSE),\"\"))","v":""},"任务&事件文本",null,2513]
[2514,{"$f":"_xlfn.TEXTJOIN(\"\",1,IFERROR(VLOOKUP(A2517,[1]EventConfig!$T:$V,3,FALSE),\"\"),IFERROR(VLOOKUP(A2517,[1]EventConfig!$U:$W,3,FALSE),\"\"),IFERROR(VLOOKUP(A2517,[1]EventLinkConfig!$B:$C,2,FALSE),\"\"),IFERROR(VLOOKUP(A2517,[1]EventLinkConfig!$D:$E,2,FALSE),\"\"),IFERROR(VLOOKUP(A2517,[1]EventLinkConfig!$L:$M,2,FALSE),\"\"),IFERROR(VLOOKUP(A2517,[1]EventLinkConfig!$X:$Y,2,FALSE),\"\"),IFERROR(VLOOKUP(A2517,[1]EventLinkConfig!$AA:$AB,2,FALSE),\"\"),IFERROR(VLOOKUP(A2517,[1]EventConditionConfig!$B:$D,3,FALSE),\"\"))","v":""},"任务&事件文本",null,2514]
[2515,{"$f":"_xlfn.TEXTJOIN(\"\",1,IFERROR(VLOOKUP(A2518,[1]EventConfig!$T:$V,3,FALSE),\"\"),IFERROR(VLOOKUP(A2518,[1]EventConfig!$U:$W,3,FALSE),\"\"),IFERROR(VLOOKUP(A2518,[1]EventLinkConfig!$B:$C,2,FALSE),\"\"),IFERROR(VLOOKUP(A2518,[1]EventLinkConfig!$D:$E,2,FALSE),\"\"),IFERROR(VLOOKUP(A2518,[1]EventLinkConfig!$L:$M,2,FALSE),\"\"),IFERROR(VLOOKUP(A2518,[1]EventLinkConfig!$X:$Y,2,FALSE),\"\"),IFERROR(VLOOKUP(A2518,[1]EventLinkConfig!$AA:$AB,2,FALSE),\"\"),IFERROR(VLOOKUP(A2518,[1]EventConditionConfig!$B:$D,3,FALSE),\"\"))","v":""},"任务&事件文本",null,2515]
[2516,{"$f":"_xlfn.TEXTJOIN(\"\",1,IFERROR(VLOOKUP(A2519,[1]EventConfig!$T:$V,3,FALSE),\"\"),IFERROR(VLOOKUP(A2519,[1]EventConfig!$U:$W,3,FALSE),\"\"),IFERROR(VLOOKUP(A2519,[1]EventLinkConfig!$B:$C,2,FALSE),\"\"),IFERROR(VLOOKUP(A2519,[1]EventLinkConfig!$D:$E,2,FALSE),\"\"),IFERROR(VLOOKUP(A2519,[1]EventLinkConfig!$L:$M,2,FALSE),\"\"),IFERROR(VLOOKUP(A2519,[1]EventLinkConfig!$X:$Y,2,FALSE),\"\"),IFERROR(VLOOKUP(A2519,[1]EventLinkConfig!$AA:$AB,2,FALSE),\"\"),IFERROR(VLOOKUP(A2519,[1]EventConditionConfig!$B:$D,3,FALSE),\"\"))","v":""},"任务&事件文本",null,2516]
[2517,{"$f":"_xlfn.TEXTJOIN(\"\",1,IFERROR(VLOOKUP(A2520,[1]EventConfig!$T:$V,3,FALSE),\"\"),IFERROR(VLOOKUP(A2520,[1]EventConfig!$U:$W,3,FALSE),\"\"),IFERROR(VLOOKUP(A2520,[1]EventLinkConfig!$B:$C,2,FALSE),\"\"),IFERROR(VLOOKUP(A2520,[1]EventLinkConfig!$D:$E,2,FALSE),\"\"),IFERROR(VLOOKUP(A2520,[1]EventLinkConfig!$L:$M,2,FALSE),\"\"),IFERROR(VLOOKUP(A2520,[1]EventLinkConfig!$X:$Y,2,FALSE),\"\"),IFERROR(VLOOKUP(A2520,[1]EventLinkConfig!$AA:$AB,2,FALSE),\"\"),IFERROR(VLOOKUP(A2520,[1]EventConditionConfig!$B:$D,3,FALSE),\"\"))","v":""},"任务&事件文本",null,2517]
[2518,{"$f":"_xlfn.TEXTJOIN(\"\",1,IFERROR(VLOOKUP(A2521,[1]EventConfig!$T:$V,3,FALSE),\"\"),IFERROR(VLOOKUP(A2521,[1]EventConfig!$U:$W,3,FALSE),\"\"),IFERROR(VLOOKUP(A2521,[1]EventLinkConfig!$B:$C,2,FALSE),\"\"),IFERROR(VLOOKUP(A2521,[1]EventLinkConfig!$D:$E,2,FALSE),\"\"),IFERROR(VLOOKUP(A2521,[1]EventLinkConfig!$L:$M,2,FALSE),\"\"),IFERROR(VLOOKUP(A2521,[1]EventLinkConfig!$X:$Y,2,FALSE),\"\"),IFERROR(VLOOKUP(A2521,[1]EventLinkConfig!$AA:$AB,2,FALSE),\"\"),IFERROR(VLOOKUP(A2521,[1]EventConditionConfig!$B:$D,3,FALSE),\"\"))","v":""},"任务&事件文本",null,2518]
[2519,{"$f":"_xlfn.TEXTJOIN(\"\",1,IFERROR(VLOOKUP(A2522,[1]EventConfig!$T:$V,3,FALSE),\"\"),IFERROR(VLOOKUP(A2522,[1]EventConfig!$U:$W,3,FALSE),\"\"),IFERROR(VLOOKUP(A2522,[1]EventLinkConfig!$B:$C,2,FALSE),\"\"),IFERROR(VLOOKUP(A2522,[1]EventLinkConfig!$D:$E,2,FALSE),\"\"),IFERROR(VLOOKUP(A2522,[1]EventLinkConfig!$L:$M,2,FALSE),\"\"),IFERROR(VLOOKUP(A2522,[1]EventLinkConfig!$X:$Y,2,FALSE),\"\"),IFERROR(VLOOKUP(A2522,[1]EventLinkConfig!$AA:$AB,2,FALSE),\"\"),IFERROR(VLOOKUP(A2522,[1]EventConditionConfig!$B:$D,3,FALSE),\"\"))","v":""},"任务&事件文本",null,2519]
[2520,{"$f":"_xlfn.TEXTJOIN(\"\",1,IFERROR(VLOOKUP(A2523,[1]EventConfig!$T:$V,3,FALSE),\"\"),IFERROR(VLOOKUP(A2523,[1]EventConfig!$U:$W,3,FALSE),\"\"),IFERROR(VLOOKUP(A2523,[1]EventLinkConfig!$B:$C,2,FALSE),\"\"),IFERROR(VLOOKUP(A2523,[1]EventLinkConfig!$D:$E,2,FALSE),\"\"),IFERROR(VLOOKUP(A2523,[1]EventLinkConfig!$L:$M,2,FALSE),\"\"),IFERROR(VLOOKUP(A2523,[1]EventLinkConfig!$X:$Y,2,FALSE),\"\"),IFERROR(VLOOKUP(A2523,[1]EventLinkConfig!$AA:$AB,2,FALSE),\"\"),IFERROR(VLOOKUP(A2523,[1]EventConditionConfig!$B:$D,3,FALSE),\"\"))","v":""},"任务&事件文本",null,2520]
[2521,{"$f":"_xlfn.TEXTJOIN(\"\",1,IFERROR(VLOOKUP(A2524,[1]EventConfig!$T:$V,3,FALSE),\"\"),IFERROR(VLOOKUP(A2524,[1]EventConfig!$U:$W,3,FALSE),\"\"),IFERROR(VLOOKUP(A2524,[1]EventLinkConfig!$B:$C,2,FALSE),\"\"),IFERROR(VLOOKUP(A2524,[1]EventLinkConfig!$D:$E,2,FALSE),\"\"),IFERROR(VLOOKUP(A2524,[1]EventLinkConfig!$L:$M,2,FALSE),\"\"),IFERROR(VLOOKUP(A2524,[1]EventLinkConfig!$X:$Y,2,FALSE),\"\"),IFERROR(VLOOKUP(A2524,[1]EventLinkConfig!$AA:$AB,2,FALSE),\"\"),IFERROR(VLOOKUP(A2524,[1]EventConditionConfig!$B:$D,3,FALSE),\"\"))","v":""},"任务&事件文本",null,2521]
[2522,{"$f":"_xlfn.TEXTJOIN(\"\",1,IFERROR(VLOOKUP(A2525,[1]EventConfig!$T:$V,3,FALSE),\"\"),IFERROR(VLOOKUP(A2525,[1]EventConfig!$U:$W,3,FALSE),\"\"),IFERROR(VLOOKUP(A2525,[1]EventLinkConfig!$B:$C,2,FALSE),\"\"),IFERROR(VLOOKUP(A2525,[1]EventLinkConfig!$D:$E,2,FALSE),\"\"),IFERROR(VLOOKUP(A2525,[1]EventLinkConfig!$L:$M,2,FALSE),\"\"),IFERROR(VLOOKUP(A2525,[1]EventLinkConfig!$X:$Y,2,FALSE),\"\"),IFERROR(VLOOKUP(A2525,[1]EventLinkConfig!$AA:$AB,2,FALSE),\"\"),IFERROR(VLOOKUP(A2525,[1]EventConditionConfig!$B:$D,3,FALSE),\"\"))","v":""},"任务&事件文本",null,2522]
[2523,{"$f":"_xlfn.TEXTJOIN(\"\",1,IFERROR(VLOOKUP(A2526,[1]EventConfig!$T:$V,3,FALSE),\"\"),IFERROR(VLOOKUP(A2526,[1]EventConfig!$U:$W,3,FALSE),\"\"),IFERROR(VLOOKUP(A2526,[1]EventLinkConfig!$B:$C,2,FALSE),\"\"),IFERROR(VLOOKUP(A2526,[1]EventLinkConfig!$D:$E,2,FALSE),\"\"),IFERROR(VLOOKUP(A2526,[1]EventLinkConfig!$L:$M,2,FALSE),\"\"),IFERROR(VLOOKUP(A2526,[1]EventLinkConfig!$X:$Y,2,FALSE),\"\"),IFERROR(VLOOKUP(A2526,[1]EventLinkConfig!$AA:$AB,2,FALSE),\"\"),IFERROR(VLOOKUP(A2526,[1]EventConditionConfig!$B:$D,3,FALSE),\"\"))","v":""},"任务&事件文本",null,2523]
[2524,{"$f":"_xlfn.TEXTJOIN(\"\",1,IFERROR(VLOOKUP(A2527,[1]EventConfig!$T:$V,3,FALSE),\"\"),IFERROR(VLOOKUP(A2527,[1]EventConfig!$U:$W,3,FALSE),\"\"),IFERROR(VLOOKUP(A2527,[1]EventLinkConfig!$B:$C,2,FALSE),\"\"),IFERROR(VLOOKUP(A2527,[1]EventLinkConfig!$D:$E,2,FALSE),\"\"),IFERROR(VLOOKUP(A2527,[1]EventLinkConfig!$L:$M,2,FALSE),\"\"),IFERROR(VLOOKUP(A2527,[1]EventLinkConfig!$X:$Y,2,FALSE),\"\"),IFERROR(VLOOKUP(A2527,[1]EventLinkConfig!$AA:$AB,2,FALSE),\"\"),IFERROR(VLOOKUP(A2527,[1]EventConditionConfig!$B:$D,3,FALSE),\"\"))","v":""},"任务&事件文本",null,2524]
[2525,{"$f":"_xlfn.TEXTJOIN(\"\",1,IFERROR(VLOOKUP(A2528,[1]EventConfig!$T:$V,3,FALSE),\"\"),IFERROR(VLOOKUP(A2528,[1]EventConfig!$U:$W,3,FALSE),\"\"),IFERROR(VLOOKUP(A2528,[1]EventLinkConfig!$B:$C,2,FALSE),\"\"),IFERROR(VLOOKUP(A2528,[1]EventLinkConfig!$D:$E,2,FALSE),\"\"),IFERROR(VLOOKUP(A2528,[1]EventLinkConfig!$L:$M,2,FALSE),\"\"),IFERROR(VLOOKUP(A2528,[1]EventLinkConfig!$X:$Y,2,FALSE),\"\"),IFERROR(VLOOKUP(A2528,[1]EventLinkConfig!$AA:$AB,2,FALSE),\"\"),IFERROR(VLOOKUP(A2528,[1]EventConditionConfig!$B:$D,3,FALSE),\"\"))","v":""},"任务&事件文本",null,2525]
[2526,{"$f":"_xlfn.TEXTJOIN(\"\",1,IFERROR(VLOOKUP(A2529,[1]EventConfig!$T:$V,3,FALSE),\"\"),IFERROR(VLOOKUP(A2529,[1]EventConfig!$U:$W,3,FALSE),\"\"),IFERROR(VLOOKUP(A2529,[1]EventLinkConfig!$B:$C,2,FALSE),\"\"),IFERROR(VLOOKUP(A2529,[1]EventLinkConfig!$D:$E,2,FALSE),\"\"),IFERROR(VLOOKUP(A2529,[1]EventLinkConfig!$L:$M,2,FALSE),\"\"),IFERROR(VLOOKUP(A2529,[1]EventLinkConfig!$X:$Y,2,FALSE),\"\"),IFERROR(VLOOKUP(A2529,[1]EventLinkConfig!$AA:$AB,2,FALSE),\"\"),IFERROR(VLOOKUP(A2529,[1]EventConditionConfig!$B:$D,3,FALSE),\"\"))","v":""},"任务&事件文本",null,2526]
[2527,{"$f":"_xlfn.TEXTJOIN(\"\",1,IFERROR(VLOOKUP(A2530,[1]EventConfig!$T:$V,3,FALSE),\"\"),IFERROR(VLOOKUP(A2530,[1]EventConfig!$U:$W,3,FALSE),\"\"),IFERROR(VLOOKUP(A2530,[1]EventLinkConfig!$B:$C,2,FALSE),\"\"),IFERROR(VLOOKUP(A2530,[1]EventLinkConfig!$D:$E,2,FALSE),\"\"),IFERROR(VLOOKUP(A2530,[1]EventLinkConfig!$L:$M,2,FALSE),\"\"),IFERROR(VLOOKUP(A2530,[1]EventLinkConfig!$X:$Y,2,FALSE),\"\"),IFERROR(VLOOKUP(A2530,[1]EventLinkConfig!$AA:$AB,2,FALSE),\"\"),IFERROR(VLOOKUP(A2530,[1]EventConditionConfig!$B:$D,3,FALSE),\"\"))","v":""},"任务&事件文本",null,2527]
[2528,{"$f":"_xlfn.TEXTJOIN(\"\",1,IFERROR(VLOOKUP(A2531,[1]EventConfig!$T:$V,3,FALSE),\"\"),IFERROR(VLOOKUP(A2531,[1]EventConfig!$U:$W,3,FALSE),\"\"),IFERROR(VLOOKUP(A2531,[1]EventLinkConfig!$B:$C,2,FALSE),\"\"),IFERROR(VLOOKUP(A2531,[1]EventLinkConfig!$D:$E,2,FALSE),\"\"),IFERROR(VLOOKUP(A2531,[1]EventLinkConfig!$L:$M,2,FALSE),\"\"),IFERROR(VLOOKUP(A2531,[1]EventLinkConfig!$X:$Y,2,FALSE),\"\"),IFERROR(VLOOKUP(A2531,[1]EventLinkConfig!$AA:$AB,2,FALSE),\"\"),IFERROR(VLOOKUP(A2531,[1]EventConditionConfig!$B:$D,3,FALSE),\"\"))","v":""},"任务&事件文本",null,2528]
[2529,{"$f":"_xlfn.TEXTJOIN(\"\",1,IFERROR(VLOOKUP(A2532,[1]EventConfig!$T:$V,3,FALSE),\"\"),IFERROR(VLOOKUP(A2532,[1]EventConfig!$U:$W,3,FALSE),\"\"),IFERROR(VLOOKUP(A2532,[1]EventLinkConfig!$B:$C,2,FALSE),\"\"),IFERROR(VLOOKUP(A2532,[1]EventLinkConfig!$D:$E,2,FALSE),\"\"),IFERROR(VLOOKUP(A2532,[1]EventLinkConfig!$L:$M,2,FALSE),\"\"),IFERROR(VLOOKUP(A2532,[1]EventLinkConfig!$X:$Y,2,FALSE),\"\"),IFERROR(VLOOKUP(A2532,[1]EventLinkConfig!$AA:$AB,2,FALSE),\"\"),IFERROR(VLOOKUP(A2532,[1]EventConditionConfig!$B:$D,3,FALSE),\"\"))","v":""},"任务&事件文本",null,2529]
[2530,{"$f":"_xlfn.TEXTJOIN(\"\",1,IFERROR(VLOOKUP(A2533,[1]EventConfig!$T:$V,3,FALSE),\"\"),IFERROR(VLOOKUP(A2533,[1]EventConfig!$U:$W,3,FALSE),\"\"),IFERROR(VLOOKUP(A2533,[1]EventLinkConfig!$B:$C,2,FALSE),\"\"),IFERROR(VLOOKUP(A2533,[1]EventLinkConfig!$D:$E,2,FALSE),\"\"),IFERROR(VLOOKUP(A2533,[1]EventLinkConfig!$L:$M,2,FALSE),\"\"),IFERROR(VLOOKUP(A2533,[1]EventLinkConfig!$X:$Y,2,FALSE),\"\"),IFERROR(VLOOKUP(A2533,[1]EventLinkConfig!$AA:$AB,2,FALSE),\"\"),IFERROR(VLOOKUP(A2533,[1]EventConditionConfig!$B:$D,3,FALSE),\"\"))","v":""},"任务&事件文本"]
[2531,{"$f":"_xlfn.TEXTJOIN(\"\",1,IFERROR(VLOOKUP(A2534,[1]EventConfig!$T:$V,3,FALSE),\"\"),IFERROR(VLOOKUP(A2534,[1]EventConfig!$U:$W,3,FALSE),\"\"),IFERROR(VLOOKUP(A2534,[1]EventLinkConfig!$B:$C,2,FALSE),\"\"),IFERROR(VLOOKUP(A2534,[1]EventLinkConfig!$D:$E,2,FALSE),\"\"),IFERROR(VLOOKUP(A2534,[1]EventLinkConfig!$L:$M,2,FALSE),\"\"),IFERROR(VLOOKUP(A2534,[1]EventLinkConfig!$X:$Y,2,FALSE),\"\"),IFERROR(VLOOKUP(A2534,[1]EventLinkConfig!$AA:$AB,2,FALSE),\"\"),IFERROR(VLOOKUP(A2534,[1]EventConditionConfig!$B:$D,3,FALSE),\"\"))","v":""},"任务&事件文本"]
[2532,{"$f":"_xlfn.TEXTJOIN(\"\",1,IFERROR(VLOOKUP(A2535,[1]EventConfig!$T:$V,3,FALSE),\"\"),IFERROR(VLOOKUP(A2535,[1]EventConfig!$U:$W,3,FALSE),\"\"),IFERROR(VLOOKUP(A2535,[1]EventLinkConfig!$B:$C,2,FALSE),\"\"),IFERROR(VLOOKUP(A2535,[1]EventLinkConfig!$D:$E,2,FALSE),\"\"),IFERROR(VLOOKUP(A2535,[1]EventLinkConfig!$L:$M,2,FALSE),\"\"),IFERROR(VLOOKUP(A2535,[1]EventLinkConfig!$X:$Y,2,FALSE),\"\"),IFERROR(VLOOKUP(A2535,[1]EventLinkConfig!$AA:$AB,2,FALSE),\"\"),IFERROR(VLOOKUP(A2535,[1]EventConditionConfig!$B:$D,3,FALSE),\"\"))","v":""},"任务&事件文本"]
[2533,{"$f":"_xlfn.TEXTJOIN(\"\",1,IFERROR(VLOOKUP(A2536,[1]EventConfig!$T:$V,3,FALSE),\"\"),IFERROR(VLOOKUP(A2536,[1]EventConfig!$U:$W,3,FALSE),\"\"),IFERROR(VLOOKUP(A2536,[1]EventLinkConfig!$B:$C,2,FALSE),\"\"),IFERROR(VLOOKUP(A2536,[1]EventLinkConfig!$D:$E,2,FALSE),\"\"),IFERROR(VLOOKUP(A2536,[1]EventLinkConfig!$L:$M,2,FALSE),\"\"),IFERROR(VLOOKUP(A2536,[1]EventLinkConfig!$X:$Y,2,FALSE),\"\"),IFERROR(VLOOKUP(A2536,[1]EventLinkConfig!$AA:$AB,2,FALSE),\"\"),IFERROR(VLOOKUP(A2536,[1]EventConditionConfig!$B:$D,3,FALSE),\"\"))","v":""},"任务&事件文本"]
[2534,{"$f":"_xlfn.TEXTJOIN(\"\",1,IFERROR(VLOOKUP(A2537,[1]EventConfig!$T:$V,3,FALSE),\"\"),IFERROR(VLOOKUP(A2537,[1]EventConfig!$U:$W,3,FALSE),\"\"),IFERROR(VLOOKUP(A2537,[1]EventLinkConfig!$B:$C,2,FALSE),\"\"),IFERROR(VLOOKUP(A2537,[1]EventLinkConfig!$D:$E,2,FALSE),\"\"),IFERROR(VLOOKUP(A2537,[1]EventLinkConfig!$L:$M,2,FALSE),\"\"),IFERROR(VLOOKUP(A2537,[1]EventLinkConfig!$X:$Y,2,FALSE),\"\"),IFERROR(VLOOKUP(A2537,[1]EventLinkConfig!$AA:$AB,2,FALSE),\"\"),IFERROR(VLOOKUP(A2537,[1]EventConditionConfig!$B:$D,3,FALSE),\"\"))","v":""},"任务&事件文本"]
[2535,{"$f":"_xlfn.TEXTJOIN(\"\",1,IFERROR(VLOOKUP(A2538,[1]EventConfig!$T:$V,3,FALSE),\"\"),IFERROR(VLOOKUP(A2538,[1]EventConfig!$U:$W,3,FALSE),\"\"),IFERROR(VLOOKUP(A2538,[1]EventLinkConfig!$B:$C,2,FALSE),\"\"),IFERROR(VLOOKUP(A2538,[1]EventLinkConfig!$D:$E,2,FALSE),\"\"),IFERROR(VLOOKUP(A2538,[1]EventLinkConfig!$L:$M,2,FALSE),\"\"),IFERROR(VLOOKUP(A2538,[1]EventLinkConfig!$X:$Y,2,FALSE),\"\"),IFERROR(VLOOKUP(A2538,[1]EventLinkConfig!$AA:$AB,2,FALSE),\"\"),IFERROR(VLOOKUP(A2538,[1]EventConditionConfig!$B:$D,3,FALSE),\"\"))","v":""},"任务&事件文本"]
[2536,{"$f":"_xlfn.TEXTJOIN(\"\",1,IFERROR(VLOOKUP(A2539,[1]EventConfig!$T:$V,3,FALSE),\"\"),IFERROR(VLOOKUP(A2539,[1]EventConfig!$U:$W,3,FALSE),\"\"),IFERROR(VLOOKUP(A2539,[1]EventLinkConfig!$B:$C,2,FALSE),\"\"),IFERROR(VLOOKUP(A2539,[1]EventLinkConfig!$D:$E,2,FALSE),\"\"),IFERROR(VLOOKUP(A2539,[1]EventLinkConfig!$L:$M,2,FALSE),\"\"),IFERROR(VLOOKUP(A2539,[1]EventLinkConfig!$X:$Y,2,FALSE),\"\"),IFERROR(VLOOKUP(A2539,[1]EventLinkConfig!$AA:$AB,2,FALSE),\"\"),IFERROR(VLOOKUP(A2539,[1]EventConditionConfig!$B:$D,3,FALSE),\"\"))","v":""},"任务&事件文本"]
[2537,{"$f":"_xlfn.TEXTJOIN(\"\",1,IFERROR(VLOOKUP(A2540,[1]EventConfig!$T:$V,3,FALSE),\"\"),IFERROR(VLOOKUP(A2540,[1]EventConfig!$U:$W,3,FALSE),\"\"),IFERROR(VLOOKUP(A2540,[1]EventLinkConfig!$B:$C,2,FALSE),\"\"),IFERROR(VLOOKUP(A2540,[1]EventLinkConfig!$D:$E,2,FALSE),\"\"),IFERROR(VLOOKUP(A2540,[1]EventLinkConfig!$L:$M,2,FALSE),\"\"),IFERROR(VLOOKUP(A2540,[1]EventLinkConfig!$X:$Y,2,FALSE),\"\"),IFERROR(VLOOKUP(A2540,[1]EventLinkConfig!$AA:$AB,2,FALSE),\"\"),IFERROR(VLOOKUP(A2540,[1]EventConditionConfig!$B:$D,3,FALSE),\"\"))","v":""},"任务&事件文本"]
[2538,{"$f":"_xlfn.TEXTJOIN(\"\",1,IFERROR(VLOOKUP(A2541,[1]EventConfig!$T:$V,3,FALSE),\"\"),IFERROR(VLOOKUP(A2541,[1]EventConfig!$U:$W,3,FALSE),\"\"),IFERROR(VLOOKUP(A2541,[1]EventLinkConfig!$B:$C,2,FALSE),\"\"),IFERROR(VLOOKUP(A2541,[1]EventLinkConfig!$D:$E,2,FALSE),\"\"),IFERROR(VLOOKUP(A2541,[1]EventLinkConfig!$L:$M,2,FALSE),\"\"),IFERROR(VLOOKUP(A2541,[1]EventLinkConfig!$X:$Y,2,FALSE),\"\"),IFERROR(VLOOKUP(A2541,[1]EventLinkConfig!$AA:$AB,2,FALSE),\"\"),IFERROR(VLOOKUP(A2541,[1]EventConditionConfig!$B:$D,3,FALSE),\"\"))","v":""},"任务&事件文本"]
[2539,{"$f":"_xlfn.TEXTJOIN(\"\",1,IFERROR(VLOOKUP(A2542,[1]EventConfig!$T:$V,3,FALSE),\"\"),IFERROR(VLOOKUP(A2542,[1]EventConfig!$U:$W,3,FALSE),\"\"),IFERROR(VLOOKUP(A2542,[1]EventLinkConfig!$B:$C,2,FALSE),\"\"),IFERROR(VLOOKUP(A2542,[1]EventLinkConfig!$D:$E,2,FALSE),\"\"),IFERROR(VLOOKUP(A2542,[1]EventLinkConfig!$L:$M,2,FALSE),\"\"),IFERROR(VLOOKUP(A2542,[1]EventLinkConfig!$X:$Y,2,FALSE),\"\"),IFERROR(VLOOKUP(A2542,[1]EventLinkConfig!$AA:$AB,2,FALSE),\"\"),IFERROR(VLOOKUP(A2542,[1]EventConditionConfig!$B:$D,3,FALSE),\"\"))","v":""},"任务&事件文本"]
[2540,{"$f":"_xlfn.TEXTJOIN(\"\",1,IFERROR(VLOOKUP(A2543,[1]EventConfig!$T:$V,3,FALSE),\"\"),IFERROR(VLOOKUP(A2543,[1]EventConfig!$U:$W,3,FALSE),\"\"),IFERROR(VLOOKUP(A2543,[1]EventLinkConfig!$B:$C,2,FALSE),\"\"),IFERROR(VLOOKUP(A2543,[1]EventLinkConfig!$D:$E,2,FALSE),\"\"),IFERROR(VLOOKUP(A2543,[1]EventLinkConfig!$L:$M,2,FALSE),\"\"),IFERROR(VLOOKUP(A2543,[1]EventLinkConfig!$X:$Y,2,FALSE),\"\"),IFERROR(VLOOKUP(A2543,[1]EventLinkConfig!$AA:$AB,2,FALSE),\"\"),IFERROR(VLOOKUP(A2543,[1]EventConditionConfig!$B:$D,3,FALSE),\"\"))","v":""},"任务&事件文本"]
[2541,{"$f":"_xlfn.TEXTJOIN(\"\",1,IFERROR(VLOOKUP(A2544,[1]EventConfig!$T:$V,3,FALSE),\"\"),IFERROR(VLOOKUP(A2544,[1]EventConfig!$U:$W,3,FALSE),\"\"),IFERROR(VLOOKUP(A2544,[1]EventLinkConfig!$B:$C,2,FALSE),\"\"),IFERROR(VLOOKUP(A2544,[1]EventLinkConfig!$D:$E,2,FALSE),\"\"),IFERROR(VLOOKUP(A2544,[1]EventLinkConfig!$L:$M,2,FALSE),\"\"),IFERROR(VLOOKUP(A2544,[1]EventLinkConfig!$X:$Y,2,FALSE),\"\"),IFERROR(VLOOKUP(A2544,[1]EventLinkConfig!$AA:$AB,2,FALSE),\"\"),IFERROR(VLOOKUP(A2544,[1]EventConditionConfig!$B:$D,3,FALSE),\"\"))","v":""},"任务&事件文本"]
[2542,{"$f":"_xlfn.TEXTJOIN(\"\",1,IFERROR(VLOOKUP(A2545,[1]EventConfig!$T:$V,3,FALSE),\"\"),IFERROR(VLOOKUP(A2545,[1]EventConfig!$U:$W,3,FALSE),\"\"),IFERROR(VLOOKUP(A2545,[1]EventLinkConfig!$B:$C,2,FALSE),\"\"),IFERROR(VLOOKUP(A2545,[1]EventLinkConfig!$D:$E,2,FALSE),\"\"),IFERROR(VLOOKUP(A2545,[1]EventLinkConfig!$L:$M,2,FALSE),\"\"),IFERROR(VLOOKUP(A2545,[1]EventLinkConfig!$X:$Y,2,FALSE),\"\"),IFERROR(VLOOKUP(A2545,[1]EventLinkConfig!$AA:$AB,2,FALSE),\"\"),IFERROR(VLOOKUP(A2545,[1]EventConditionConfig!$B:$D,3,FALSE),\"\"))","v":""},"任务&事件文本"]
[2543,{"$f":"_xlfn.TEXTJOIN(\"\",1,IFERROR(VLOOKUP(A2546,[1]EventConfig!$T:$V,3,FALSE),\"\"),IFERROR(VLOOKUP(A2546,[1]EventConfig!$U:$W,3,FALSE),\"\"),IFERROR(VLOOKUP(A2546,[1]EventLinkConfig!$B:$C,2,FALSE),\"\"),IFERROR(VLOOKUP(A2546,[1]EventLinkConfig!$D:$E,2,FALSE),\"\"),IFERROR(VLOOKUP(A2546,[1]EventLinkConfig!$L:$M,2,FALSE),\"\"),IFERROR(VLOOKUP(A2546,[1]EventLinkConfig!$X:$Y,2,FALSE),\"\"),IFERROR(VLOOKUP(A2546,[1]EventLinkConfig!$AA:$AB,2,FALSE),\"\"),IFERROR(VLOOKUP(A2546,[1]EventConditionConfig!$B:$D,3,FALSE),\"\"))","v":""},"任务&事件文本"]
[2544,{"$f":"_xlfn.TEXTJOIN(\"\",1,IFERROR(VLOOKUP(A2547,[1]EventConfig!$T:$V,3,FALSE),\"\"),IFERROR(VLOOKUP(A2547,[1]EventConfig!$U:$W,3,FALSE),\"\"),IFERROR(VLOOKUP(A2547,[1]EventLinkConfig!$B:$C,2,FALSE),\"\"),IFERROR(VLOOKUP(A2547,[1]EventLinkConfig!$D:$E,2,FALSE),\"\"),IFERROR(VLOOKUP(A2547,[1]EventLinkConfig!$L:$M,2,FALSE),\"\"),IFERROR(VLOOKUP(A2547,[1]EventLinkConfig!$X:$Y,2,FALSE),\"\"),IFERROR(VLOOKUP(A2547,[1]EventLinkConfig!$AA:$AB,2,FALSE),\"\"),IFERROR(VLOOKUP(A2547,[1]EventConditionConfig!$B:$D,3,FALSE),\"\"))","v":""},"任务&事件文本"]
[2545,{"$f":"_xlfn.TEXTJOIN(\"\",1,IFERROR(VLOOKUP(A2548,[1]EventConfig!$T:$V,3,FALSE),\"\"),IFERROR(VLOOKUP(A2548,[1]EventConfig!$U:$W,3,FALSE),\"\"),IFERROR(VLOOKUP(A2548,[1]EventLinkConfig!$B:$C,2,FALSE),\"\"),IFERROR(VLOOKUP(A2548,[1]EventLinkConfig!$D:$E,2,FALSE),\"\"),IFERROR(VLOOKUP(A2548,[1]EventLinkConfig!$L:$M,2,FALSE),\"\"),IFERROR(VLOOKUP(A2548,[1]EventLinkConfig!$X:$Y,2,FALSE),\"\"),IFERROR(VLOOKUP(A2548,[1]EventLinkConfig!$AA:$AB,2,FALSE),\"\"),IFERROR(VLOOKUP(A2548,[1]EventConditionConfig!$B:$D,3,FALSE),\"\"))","v":""},"任务&事件文本"]
[2546,{"$f":"_xlfn.TEXTJOIN(\"\",1,IFERROR(VLOOKUP(A2549,[1]EventConfig!$T:$V,3,FALSE),\"\"),IFERROR(VLOOKUP(A2549,[1]EventConfig!$U:$W,3,FALSE),\"\"),IFERROR(VLOOKUP(A2549,[1]EventLinkConfig!$B:$C,2,FALSE),\"\"),IFERROR(VLOOKUP(A2549,[1]EventLinkConfig!$D:$E,2,FALSE),\"\"),IFERROR(VLOOKUP(A2549,[1]EventLinkConfig!$L:$M,2,FALSE),\"\"),IFERROR(VLOOKUP(A2549,[1]EventLinkConfig!$X:$Y,2,FALSE),\"\"),IFERROR(VLOOKUP(A2549,[1]EventLinkConfig!$AA:$AB,2,FALSE),\"\"),IFERROR(VLOOKUP(A2549,[1]EventConditionConfig!$B:$D,3,FALSE),\"\"))","v":""},"任务&事件文本"]
[2547,{"$f":"_xlfn.TEXTJOIN(\"\",1,IFERROR(VLOOKUP(A2550,[1]EventConfig!$T:$V,3,FALSE),\"\"),IFERROR(VLOOKUP(A2550,[1]EventConfig!$U:$W,3,FALSE),\"\"),IFERROR(VLOOKUP(A2550,[1]EventLinkConfig!$B:$C,2,FALSE),\"\"),IFERROR(VLOOKUP(A2550,[1]EventLinkConfig!$D:$E,2,FALSE),\"\"),IFERROR(VLOOKUP(A2550,[1]EventLinkConfig!$L:$M,2,FALSE),\"\"),IFERROR(VLOOKUP(A2550,[1]EventLinkConfig!$X:$Y,2,FALSE),\"\"),IFERROR(VLOOKUP(A2550,[1]EventLinkConfig!$AA:$AB,2,FALSE),\"\"),IFERROR(VLOOKUP(A2550,[1]EventConditionConfig!$B:$D,3,FALSE),\"\"))","v":""},"任务&事件文本"]
[2548,{"$f":"_xlfn.TEXTJOIN(\"\",1,IFERROR(VLOOKUP(A2551,[1]EventConfig!$T:$V,3,FALSE),\"\"),IFERROR(VLOOKUP(A2551,[1]EventConfig!$U:$W,3,FALSE),\"\"),IFERROR(VLOOKUP(A2551,[1]EventLinkConfig!$B:$C,2,FALSE),\"\"),IFERROR(VLOOKUP(A2551,[1]EventLinkConfig!$D:$E,2,FALSE),\"\"),IFERROR(VLOOKUP(A2551,[1]EventLinkConfig!$L:$M,2,FALSE),\"\"),IFERROR(VLOOKUP(A2551,[1]EventLinkConfig!$X:$Y,2,FALSE),\"\"),IFERROR(VLOOKUP(A2551,[1]EventLinkConfig!$AA:$AB,2,FALSE),\"\"),IFERROR(VLOOKUP(A2551,[1]EventConditionConfig!$B:$D,3,FALSE),\"\"))","v":""},"任务&事件文本"]
[2549,{"$f":"_xlfn.TEXTJOIN(\"\",1,IFERROR(VLOOKUP(A2552,[1]EventConfig!$T:$V,3,FALSE),\"\"),IFERROR(VLOOKUP(A2552,[1]EventConfig!$U:$W,3,FALSE),\"\"),IFERROR(VLOOKUP(A2552,[1]EventLinkConfig!$B:$C,2,FALSE),\"\"),IFERROR(VLOOKUP(A2552,[1]EventLinkConfig!$D:$E,2,FALSE),\"\"),IFERROR(VLOOKUP(A2552,[1]EventLinkConfig!$L:$M,2,FALSE),\"\"),IFERROR(VLOOKUP(A2552,[1]EventLinkConfig!$X:$Y,2,FALSE),\"\"),IFERROR(VLOOKUP(A2552,[1]EventLinkConfig!$AA:$AB,2,FALSE),\"\"),IFERROR(VLOOKUP(A2552,[1]EventConditionConfig!$B:$D,3,FALSE),\"\"))","v":""},"任务&事件文本"]
[2550,{"$f":"_xlfn.TEXTJOIN(\"\",1,IFERROR(VLOOKUP(A2553,[1]EventConfig!$T:$V,3,FALSE),\"\"),IFERROR(VLOOKUP(A2553,[1]EventConfig!$U:$W,3,FALSE),\"\"),IFERROR(VLOOKUP(A2553,[1]EventLinkConfig!$B:$C,2,FALSE),\"\"),IFERROR(VLOOKUP(A2553,[1]EventLinkConfig!$D:$E,2,FALSE),\"\"),IFERROR(VLOOKUP(A2553,[1]EventLinkConfig!$L:$M,2,FALSE),\"\"),IFERROR(VLOOKUP(A2553,[1]EventLinkConfig!$X:$Y,2,FALSE),\"\"),IFERROR(VLOOKUP(A2553,[1]EventLinkConfig!$AA:$AB,2,FALSE),\"\"),IFERROR(VLOOKUP(A2553,[1]EventConditionConfig!$B:$D,3,FALSE),\"\"))","v":""},"任务&事件文本"]
[2551,{"$f":"_xlfn.TEXTJOIN(\"\",1,IFERROR(VLOOKUP(A2554,[1]EventConfig!$T:$V,3,FALSE),\"\"),IFERROR(VLOOKUP(A2554,[1]EventConfig!$U:$W,3,FALSE),\"\"),IFERROR(VLOOKUP(A2554,[1]EventLinkConfig!$B:$C,2,FALSE),\"\"),IFERROR(VLOOKUP(A2554,[1]EventLinkConfig!$D:$E,2,FALSE),\"\"),IFERROR(VLOOKUP(A2554,[1]EventLinkConfig!$L:$M,2,FALSE),\"\"),IFERROR(VLOOKUP(A2554,[1]EventLinkConfig!$X:$Y,2,FALSE),\"\"),IFERROR(VLOOKUP(A2554,[1]EventLinkConfig!$AA:$AB,2,FALSE),\"\"),IFERROR(VLOOKUP(A2554,[1]EventConditionConfig!$B:$D,3,FALSE),\"\"))","v":""},"任务&事件文本"]
[2552,{"$f":"_xlfn.TEXTJOIN(\"\",1,IFERROR(VLOOKUP(A2555,[1]EventConfig!$T:$V,3,FALSE),\"\"),IFERROR(VLOOKUP(A2555,[1]EventConfig!$U:$W,3,FALSE),\"\"),IFERROR(VLOOKUP(A2555,[1]EventLinkConfig!$B:$C,2,FALSE),\"\"),IFERROR(VLOOKUP(A2555,[1]EventLinkConfig!$D:$E,2,FALSE),\"\"),IFERROR(VLOOKUP(A2555,[1]EventLinkConfig!$L:$M,2,FALSE),\"\"),IFERROR(VLOOKUP(A2555,[1]EventLinkConfig!$X:$Y,2,FALSE),\"\"),IFERROR(VLOOKUP(A2555,[1]EventLinkConfig!$AA:$AB,2,FALSE),\"\"),IFERROR(VLOOKUP(A2555,[1]EventConditionConfig!$B:$D,3,FALSE),\"\"))","v":""},"任务&事件文本"]
[2553,{"$f":"_xlfn.TEXTJOIN(\"\",1,IFERROR(VLOOKUP(A2556,[1]EventConfig!$T:$V,3,FALSE),\"\"),IFERROR(VLOOKUP(A2556,[1]EventConfig!$U:$W,3,FALSE),\"\"),IFERROR(VLOOKUP(A2556,[1]EventLinkConfig!$B:$C,2,FALSE),\"\"),IFERROR(VLOOKUP(A2556,[1]EventLinkConfig!$D:$E,2,FALSE),\"\"),IFERROR(VLOOKUP(A2556,[1]EventLinkConfig!$L:$M,2,FALSE),\"\"),IFERROR(VLOOKUP(A2556,[1]EventLinkConfig!$X:$Y,2,FALSE),\"\"),IFERROR(VLOOKUP(A2556,[1]EventLinkConfig!$AA:$AB,2,FALSE),\"\"),IFERROR(VLOOKUP(A2556,[1]EventConditionConfig!$B:$D,3,FALSE),\"\"))","v":""},"任务&事件文本"]
[2554,{"$f":"_xlfn.TEXTJOIN(\"\",1,IFERROR(VLOOKUP(A2557,[1]EventConfig!$T:$V,3,FALSE),\"\"),IFERROR(VLOOKUP(A2557,[1]EventConfig!$U:$W,3,FALSE),\"\"),IFERROR(VLOOKUP(A2557,[1]EventLinkConfig!$B:$C,2,FALSE),\"\"),IFERROR(VLOOKUP(A2557,[1]EventLinkConfig!$D:$E,2,FALSE),\"\"),IFERROR(VLOOKUP(A2557,[1]EventLinkConfig!$L:$M,2,FALSE),\"\"),IFERROR(VLOOKUP(A2557,[1]EventLinkConfig!$X:$Y,2,FALSE),\"\"),IFERROR(VLOOKUP(A2557,[1]EventLinkConfig!$AA:$AB,2,FALSE),\"\"),IFERROR(VLOOKUP(A2557,[1]EventConditionConfig!$B:$D,3,FALSE),\"\"))","v":""},"任务&事件文本"]
[2555,{"$f":"_xlfn.TEXTJOIN(\"\",1,IFERROR(VLOOKUP(A2558,[1]EventConfig!$T:$V,3,FALSE),\"\"),IFERROR(VLOOKUP(A2558,[1]EventConfig!$U:$W,3,FALSE),\"\"),IFERROR(VLOOKUP(A2558,[1]EventLinkConfig!$B:$C,2,FALSE),\"\"),IFERROR(VLOOKUP(A2558,[1]EventLinkConfig!$D:$E,2,FALSE),\"\"),IFERROR(VLOOKUP(A2558,[1]EventLinkConfig!$L:$M,2,FALSE),\"\"),IFERROR(VLOOKUP(A2558,[1]EventLinkConfig!$X:$Y,2,FALSE),\"\"),IFERROR(VLOOKUP(A2558,[1]EventLinkConfig!$AA:$AB,2,FALSE),\"\"),IFERROR(VLOOKUP(A2558,[1]EventConditionConfig!$B:$D,3,FALSE),\"\"))","v":""},"任务&事件文本"]
[2556,{"$f":"_xlfn.TEXTJOIN(\"\",1,IFERROR(VLOOKUP(A2559,[1]EventConfig!$T:$V,3,FALSE),\"\"),IFERROR(VLOOKUP(A2559,[1]EventConfig!$U:$W,3,FALSE),\"\"),IFERROR(VLOOKUP(A2559,[1]EventLinkConfig!$B:$C,2,FALSE),\"\"),IFERROR(VLOOKUP(A2559,[1]EventLinkConfig!$D:$E,2,FALSE),\"\"),IFERROR(VLOOKUP(A2559,[1]EventLinkConfig!$L:$M,2,FALSE),\"\"),IFERROR(VLOOKUP(A2559,[1]EventLinkConfig!$X:$Y,2,FALSE),\"\"),IFERROR(VLOOKUP(A2559,[1]EventLinkConfig!$AA:$AB,2,FALSE),\"\"),IFERROR(VLOOKUP(A2559,[1]EventConditionConfig!$B:$D,3,FALSE),\"\"))","v":""},"任务&事件文本"]
[2557,{"$f":"_xlfn.TEXTJOIN(\"\",1,IFERROR(VLOOKUP(A2560,[1]EventConfig!$T:$V,3,FALSE),\"\"),IFERROR(VLOOKUP(A2560,[1]EventConfig!$U:$W,3,FALSE),\"\"),IFERROR(VLOOKUP(A2560,[1]EventLinkConfig!$B:$C,2,FALSE),\"\"),IFERROR(VLOOKUP(A2560,[1]EventLinkConfig!$D:$E,2,FALSE),\"\"),IFERROR(VLOOKUP(A2560,[1]EventLinkConfig!$L:$M,2,FALSE),\"\"),IFERROR(VLOOKUP(A2560,[1]EventLinkConfig!$X:$Y,2,FALSE),\"\"),IFERROR(VLOOKUP(A2560,[1]EventLinkConfig!$AA:$AB,2,FALSE),\"\"),IFERROR(VLOOKUP(A2560,[1]EventConditionConfig!$B:$D,3,FALSE),\"\"))","v":""},"任务&事件文本"]
[2558,{"$f":"_xlfn.TEXTJOIN(\"\",1,IFERROR(VLOOKUP(A2561,[1]EventConfig!$T:$V,3,FALSE),\"\"),IFERROR(VLOOKUP(A2561,[1]EventConfig!$U:$W,3,FALSE),\"\"),IFERROR(VLOOKUP(A2561,[1]EventLinkConfig!$B:$C,2,FALSE),\"\"),IFERROR(VLOOKUP(A2561,[1]EventLinkConfig!$D:$E,2,FALSE),\"\"),IFERROR(VLOOKUP(A2561,[1]EventLinkConfig!$L:$M,2,FALSE),\"\"),IFERROR(VLOOKUP(A2561,[1]EventLinkConfig!$X:$Y,2,FALSE),\"\"),IFERROR(VLOOKUP(A2561,[1]EventLinkConfig!$AA:$AB,2,FALSE),\"\"),IFERROR(VLOOKUP(A2561,[1]EventConditionConfig!$B:$D,3,FALSE),\"\"))","v":""},"任务&事件文本"]
[2559,{"$f":"_xlfn.TEXTJOIN(\"\",1,IFERROR(VLOOKUP(A2562,[1]EventConfig!$T:$V,3,FALSE),\"\"),IFERROR(VLOOKUP(A2562,[1]EventConfig!$U:$W,3,FALSE),\"\"),IFERROR(VLOOKUP(A2562,[1]EventLinkConfig!$B:$C,2,FALSE),\"\"),IFERROR(VLOOKUP(A2562,[1]EventLinkConfig!$D:$E,2,FALSE),\"\"),IFERROR(VLOOKUP(A2562,[1]EventLinkConfig!$L:$M,2,FALSE),\"\"),IFERROR(VLOOKUP(A2562,[1]EventLinkConfig!$X:$Y,2,FALSE),\"\"),IFERROR(VLOOKUP(A2562,[1]EventLinkConfig!$AA:$AB,2,FALSE),\"\"),IFERROR(VLOOKUP(A2562,[1]EventConditionConfig!$B:$D,3,FALSE),\"\"))","v":""},"任务&事件文本"]
[2560,{"$f":"_xlfn.TEXTJOIN(\"\",1,IFERROR(VLOOKUP(A2563,[1]EventConfig!$T:$V,3,FALSE),\"\"),IFERROR(VLOOKUP(A2563,[1]EventConfig!$U:$W,3,FALSE),\"\"),IFERROR(VLOOKUP(A2563,[1]EventLinkConfig!$B:$C,2,FALSE),\"\"),IFERROR(VLOOKUP(A2563,[1]EventLinkConfig!$D:$E,2,FALSE),\"\"),IFERROR(VLOOKUP(A2563,[1]EventLinkConfig!$L:$M,2,FALSE),\"\"),IFERROR(VLOOKUP(A2563,[1]EventLinkConfig!$X:$Y,2,FALSE),\"\"),IFERROR(VLOOKUP(A2563,[1]EventLinkConfig!$AA:$AB,2,FALSE),\"\"),IFERROR(VLOOKUP(A2563,[1]EventConditionConfig!$B:$D,3,FALSE),\"\"))","v":""},"任务&事件文本"]
[2561,{"$f":"_xlfn.TEXTJOIN(\"\",1,IFERROR(VLOOKUP(A2564,[1]EventConfig!$T:$V,3,FALSE),\"\"),IFERROR(VLOOKUP(A2564,[1]EventConfig!$U:$W,3,FALSE),\"\"),IFERROR(VLOOKUP(A2564,[1]EventLinkConfig!$B:$C,2,FALSE),\"\"),IFERROR(VLOOKUP(A2564,[1]EventLinkConfig!$D:$E,2,FALSE),\"\"),IFERROR(VLOOKUP(A2564,[1]EventLinkConfig!$L:$M,2,FALSE),\"\"),IFERROR(VLOOKUP(A2564,[1]EventLinkConfig!$X:$Y,2,FALSE),\"\"),IFERROR(VLOOKUP(A2564,[1]EventLinkConfig!$AA:$AB,2,FALSE),\"\"),IFERROR(VLOOKUP(A2564,[1]EventConditionConfig!$B:$D,3,FALSE),\"\"))","v":""},"任务&事件文本"]
[2562,{"$f":"_xlfn.TEXTJOIN(\"\",1,IFERROR(VLOOKUP(A2565,[1]EventConfig!$T:$V,3,FALSE),\"\"),IFERROR(VLOOKUP(A2565,[1]EventConfig!$U:$W,3,FALSE),\"\"),IFERROR(VLOOKUP(A2565,[1]EventLinkConfig!$B:$C,2,FALSE),\"\"),IFERROR(VLOOKUP(A2565,[1]EventLinkConfig!$D:$E,2,FALSE),\"\"),IFERROR(VLOOKUP(A2565,[1]EventLinkConfig!$L:$M,2,FALSE),\"\"),IFERROR(VLOOKUP(A2565,[1]EventLinkConfig!$X:$Y,2,FALSE),\"\"),IFERROR(VLOOKUP(A2565,[1]EventLinkConfig!$AA:$AB,2,FALSE),\"\"),IFERROR(VLOOKUP(A2565,[1]EventConditionConfig!$B:$D,3,FALSE),\"\"))","v":""},"任务&事件文本"]
[2563,{"$f":"_xlfn.TEXTJOIN(\"\",1,IFERROR(VLOOKUP(A2566,[1]EventConfig!$T:$V,3,FALSE),\"\"),IFERROR(VLOOKUP(A2566,[1]EventConfig!$U:$W,3,FALSE),\"\"),IFERROR(VLOOKUP(A2566,[1]EventLinkConfig!$B:$C,2,FALSE),\"\"),IFERROR(VLOOKUP(A2566,[1]EventLinkConfig!$D:$E,2,FALSE),\"\"),IFERROR(VLOOKUP(A2566,[1]EventLinkConfig!$L:$M,2,FALSE),\"\"),IFERROR(VLOOKUP(A2566,[1]EventLinkConfig!$X:$Y,2,FALSE),\"\"),IFERROR(VLOOKUP(A2566,[1]EventLinkConfig!$AA:$AB,2,FALSE),\"\"),IFERROR(VLOOKUP(A2566,[1]EventConditionConfig!$B:$D,3,FALSE),\"\"))","v":""},"任务&事件文本"]
[2564,{"$f":"_xlfn.TEXTJOIN(\"\",1,IFERROR(VLOOKUP(A2567,[1]EventConfig!$T:$V,3,FALSE),\"\"),IFERROR(VLOOKUP(A2567,[1]EventConfig!$U:$W,3,FALSE),\"\"),IFERROR(VLOOKUP(A2567,[1]EventLinkConfig!$B:$C,2,FALSE),\"\"),IFERROR(VLOOKUP(A2567,[1]EventLinkConfig!$D:$E,2,FALSE),\"\"),IFERROR(VLOOKUP(A2567,[1]EventLinkConfig!$L:$M,2,FALSE),\"\"),IFERROR(VLOOKUP(A2567,[1]EventLinkConfig!$X:$Y,2,FALSE),\"\"),IFERROR(VLOOKUP(A2567,[1]EventLinkConfig!$AA:$AB,2,FALSE),\"\"),IFERROR(VLOOKUP(A2567,[1]EventConditionConfig!$B:$D,3,FALSE),\"\"))","v":""},"任务&事件文本"]
[2565,{"$f":"_xlfn.TEXTJOIN(\"\",1,IFERROR(VLOOKUP(A2568,[1]EventConfig!$T:$V,3,FALSE),\"\"),IFERROR(VLOOKUP(A2568,[1]EventConfig!$U:$W,3,FALSE),\"\"),IFERROR(VLOOKUP(A2568,[1]EventLinkConfig!$B:$C,2,FALSE),\"\"),IFERROR(VLOOKUP(A2568,[1]EventLinkConfig!$D:$E,2,FALSE),\"\"),IFERROR(VLOOKUP(A2568,[1]EventLinkConfig!$L:$M,2,FALSE),\"\"),IFERROR(VLOOKUP(A2568,[1]EventLinkConfig!$X:$Y,2,FALSE),\"\"),IFERROR(VLOOKUP(A2568,[1]EventLinkConfig!$AA:$AB,2,FALSE),\"\"),IFERROR(VLOOKUP(A2568,[1]EventConditionConfig!$B:$D,3,FALSE),\"\"))","v":""},"任务&事件文本"]
[2566,{"$f":"_xlfn.TEXTJOIN(\"\",1,IFERROR(VLOOKUP(A2569,[1]EventConfig!$T:$V,3,FALSE),\"\"),IFERROR(VLOOKUP(A2569,[1]EventConfig!$U:$W,3,FALSE),\"\"),IFERROR(VLOOKUP(A2569,[1]EventLinkConfig!$B:$C,2,FALSE),\"\"),IFERROR(VLOOKUP(A2569,[1]EventLinkConfig!$D:$E,2,FALSE),\"\"),IFERROR(VLOOKUP(A2569,[1]EventLinkConfig!$L:$M,2,FALSE),\"\"),IFERROR(VLOOKUP(A2569,[1]EventLinkConfig!$X:$Y,2,FALSE),\"\"),IFERROR(VLOOKUP(A2569,[1]EventLinkConfig!$AA:$AB,2,FALSE),\"\"),IFERROR(VLOOKUP(A2569,[1]EventConditionConfig!$B:$D,3,FALSE),\"\"))","v":""},"任务&事件文本"]
[2567,{"$f":"_xlfn.TEXTJOIN(\"\",1,IFERROR(VLOOKUP(A2570,[1]EventConfig!$T:$V,3,FALSE),\"\"),IFERROR(VLOOKUP(A2570,[1]EventConfig!$U:$W,3,FALSE),\"\"),IFERROR(VLOOKUP(A2570,[1]EventLinkConfig!$B:$C,2,FALSE),\"\"),IFERROR(VLOOKUP(A2570,[1]EventLinkConfig!$D:$E,2,FALSE),\"\"),IFERROR(VLOOKUP(A2570,[1]EventLinkConfig!$L:$M,2,FALSE),\"\"),IFERROR(VLOOKUP(A2570,[1]EventLinkConfig!$X:$Y,2,FALSE),\"\"),IFERROR(VLOOKUP(A2570,[1]EventLinkConfig!$AA:$AB,2,FALSE),\"\"),IFERROR(VLOOKUP(A2570,[1]EventConditionConfig!$B:$D,3,FALSE),\"\"))","v":""},"任务&事件文本"]
[2568,{"$f":"_xlfn.TEXTJOIN(\"\",1,IFERROR(VLOOKUP(A2571,[1]EventConfig!$T:$V,3,FALSE),\"\"),IFERROR(VLOOKUP(A2571,[1]EventConfig!$U:$W,3,FALSE),\"\"),IFERROR(VLOOKUP(A2571,[1]EventLinkConfig!$B:$C,2,FALSE),\"\"),IFERROR(VLOOKUP(A2571,[1]EventLinkConfig!$D:$E,2,FALSE),\"\"),IFERROR(VLOOKUP(A2571,[1]EventLinkConfig!$L:$M,2,FALSE),\"\"),IFERROR(VLOOKUP(A2571,[1]EventLinkConfig!$X:$Y,2,FALSE),\"\"),IFERROR(VLOOKUP(A2571,[1]EventLinkConfig!$AA:$AB,2,FALSE),\"\"),IFERROR(VLOOKUP(A2571,[1]EventConditionConfig!$B:$D,3,FALSE),\"\"))","v":""},"任务&事件文本"]
[2569,{"$f":"_xlfn.TEXTJOIN(\"\",1,IFERROR(VLOOKUP(A2572,[1]EventConfig!$T:$V,3,FALSE),\"\"),IFERROR(VLOOKUP(A2572,[1]EventConfig!$U:$W,3,FALSE),\"\"),IFERROR(VLOOKUP(A2572,[1]EventLinkConfig!$B:$C,2,FALSE),\"\"),IFERROR(VLOOKUP(A2572,[1]EventLinkConfig!$D:$E,2,FALSE),\"\"),IFERROR(VLOOKUP(A2572,[1]EventLinkConfig!$L:$M,2,FALSE),\"\"),IFERROR(VLOOKUP(A2572,[1]EventLinkConfig!$X:$Y,2,FALSE),\"\"),IFERROR(VLOOKUP(A2572,[1]EventLinkConfig!$AA:$AB,2,FALSE),\"\"),IFERROR(VLOOKUP(A2572,[1]EventConditionConfig!$B:$D,3,FALSE),\"\"))","v":""},"任务&事件文本"]
[2570,{"$f":"_xlfn.TEXTJOIN(\"\",1,IFERROR(VLOOKUP(A2573,[1]EventConfig!$T:$V,3,FALSE),\"\"),IFERROR(VLOOKUP(A2573,[1]EventConfig!$U:$W,3,FALSE),\"\"),IFERROR(VLOOKUP(A2573,[1]EventLinkConfig!$B:$C,2,FALSE),\"\"),IFERROR(VLOOKUP(A2573,[1]EventLinkConfig!$D:$E,2,FALSE),\"\"),IFERROR(VLOOKUP(A2573,[1]EventLinkConfig!$L:$M,2,FALSE),\"\"),IFERROR(VLOOKUP(A2573,[1]EventLinkConfig!$X:$Y,2,FALSE),\"\"),IFERROR(VLOOKUP(A2573,[1]EventLinkConfig!$AA:$AB,2,FALSE),\"\"),IFERROR(VLOOKUP(A2573,[1]EventConditionConfig!$B:$D,3,FALSE),\"\"))","v":""},"任务&事件文本"]
[2571,{"$f":"_xlfn.TEXTJOIN(\"\",1,IFERROR(VLOOKUP(A2574,[1]EventConfig!$T:$V,3,FALSE),\"\"),IFERROR(VLOOKUP(A2574,[1]EventConfig!$U:$W,3,FALSE),\"\"),IFERROR(VLOOKUP(A2574,[1]EventLinkConfig!$B:$C,2,FALSE),\"\"),IFERROR(VLOOKUP(A2574,[1]EventLinkConfig!$D:$E,2,FALSE),\"\"),IFERROR(VLOOKUP(A2574,[1]EventLinkConfig!$L:$M,2,FALSE),\"\"),IFERROR(VLOOKUP(A2574,[1]EventLinkConfig!$X:$Y,2,FALSE),\"\"),IFERROR(VLOOKUP(A2574,[1]EventLinkConfig!$AA:$AB,2,FALSE),\"\"),IFERROR(VLOOKUP(A2574,[1]EventConditionConfig!$B:$D,3,FALSE),\"\"))","v":""},"任务&事件文本"]
[2572,{"$f":"_xlfn.TEXTJOIN(\"\",1,IFERROR(VLOOKUP(A2575,[1]EventConfig!$T:$V,3,FALSE),\"\"),IFERROR(VLOOKUP(A2575,[1]EventConfig!$U:$W,3,FALSE),\"\"),IFERROR(VLOOKUP(A2575,[1]EventLinkConfig!$B:$C,2,FALSE),\"\"),IFERROR(VLOOKUP(A2575,[1]EventLinkConfig!$D:$E,2,FALSE),\"\"),IFERROR(VLOOKUP(A2575,[1]EventLinkConfig!$L:$M,2,FALSE),\"\"),IFERROR(VLOOKUP(A2575,[1]EventLinkConfig!$X:$Y,2,FALSE),\"\"),IFERROR(VLOOKUP(A2575,[1]EventLinkConfig!$AA:$AB,2,FALSE),\"\"),IFERROR(VLOOKUP(A2575,[1]EventConditionConfig!$B:$D,3,FALSE),\"\"))","v":""},"任务&事件文本"]
[2573,{"$f":"_xlfn.TEXTJOIN(\"\",1,IFERROR(VLOOKUP(A2576,[1]EventConfig!$T:$V,3,FALSE),\"\"),IFERROR(VLOOKUP(A2576,[1]EventConfig!$U:$W,3,FALSE),\"\"),IFERROR(VLOOKUP(A2576,[1]EventLinkConfig!$B:$C,2,FALSE),\"\"),IFERROR(VLOOKUP(A2576,[1]EventLinkConfig!$D:$E,2,FALSE),\"\"),IFERROR(VLOOKUP(A2576,[1]EventLinkConfig!$L:$M,2,FALSE),\"\"),IFERROR(VLOOKUP(A2576,[1]EventLinkConfig!$X:$Y,2,FALSE),\"\"),IFERROR(VLOOKUP(A2576,[1]EventLinkConfig!$AA:$AB,2,FALSE),\"\"),IFERROR(VLOOKUP(A2576,[1]EventConditionConfig!$B:$D,3,FALSE),\"\"))","v":""},"任务&事件文本"]
[2574,{"$f":"_xlfn.TEXTJOIN(\"\",1,IFERROR(VLOOKUP(A2577,[1]EventConfig!$T:$V,3,FALSE),\"\"),IFERROR(VLOOKUP(A2577,[1]EventConfig!$U:$W,3,FALSE),\"\"),IFERROR(VLOOKUP(A2577,[1]EventLinkConfig!$B:$C,2,FALSE),\"\"),IFERROR(VLOOKUP(A2577,[1]EventLinkConfig!$D:$E,2,FALSE),\"\"),IFERROR(VLOOKUP(A2577,[1]EventLinkConfig!$L:$M,2,FALSE),\"\"),IFERROR(VLOOKUP(A2577,[1]EventLinkConfig!$X:$Y,2,FALSE),\"\"),IFERROR(VLOOKUP(A2577,[1]EventLinkConfig!$AA:$AB,2,FALSE),\"\"),IFERROR(VLOOKUP(A2577,[1]EventConditionConfig!$B:$D,3,FALSE),\"\"))","v":""},"任务&事件文本"]
[2575,{"$f":"_xlfn.TEXTJOIN(\"\",1,IFERROR(VLOOKUP(A2578,[1]EventConfig!$T:$V,3,FALSE),\"\"),IFERROR(VLOOKUP(A2578,[1]EventConfig!$U:$W,3,FALSE),\"\"),IFERROR(VLOOKUP(A2578,[1]EventLinkConfig!$B:$C,2,FALSE),\"\"),IFERROR(VLOOKUP(A2578,[1]EventLinkConfig!$D:$E,2,FALSE),\"\"),IFERROR(VLOOKUP(A2578,[1]EventLinkConfig!$L:$M,2,FALSE),\"\"),IFERROR(VLOOKUP(A2578,[1]EventLinkConfig!$X:$Y,2,FALSE),\"\"),IFERROR(VLOOKUP(A2578,[1]EventLinkConfig!$AA:$AB,2,FALSE),\"\"),IFERROR(VLOOKUP(A2578,[1]EventConditionConfig!$B:$D,3,FALSE),\"\"))","v":""},"任务&事件文本"]
[2576,{"$f":"_xlfn.TEXTJOIN(\"\",1,IFERROR(VLOOKUP(A2579,[1]EventConfig!$T:$V,3,FALSE),\"\"),IFERROR(VLOOKUP(A2579,[1]EventConfig!$U:$W,3,FALSE),\"\"),IFERROR(VLOOKUP(A2579,[1]EventLinkConfig!$B:$C,2,FALSE),\"\"),IFERROR(VLOOKUP(A2579,[1]EventLinkConfig!$D:$E,2,FALSE),\"\"),IFERROR(VLOOKUP(A2579,[1]EventLinkConfig!$L:$M,2,FALSE),\"\"),IFERROR(VLOOKUP(A2579,[1]EventLinkConfig!$X:$Y,2,FALSE),\"\"),IFERROR(VLOOKUP(A2579,[1]EventLinkConfig!$AA:$AB,2,FALSE),\"\"),IFERROR(VLOOKUP(A2579,[1]EventConditionConfig!$B:$D,3,FALSE),\"\"))","v":""},"任务&事件文本"]
[2577,{"$f":"_xlfn.TEXTJOIN(\"\",1,IFERROR(VLOOKUP(A2580,[1]EventConfig!$T:$V,3,FALSE),\"\"),IFERROR(VLOOKUP(A2580,[1]EventConfig!$U:$W,3,FALSE),\"\"),IFERROR(VLOOKUP(A2580,[1]EventLinkConfig!$B:$C,2,FALSE),\"\"),IFERROR(VLOOKUP(A2580,[1]EventLinkConfig!$D:$E,2,FALSE),\"\"),IFERROR(VLOOKUP(A2580,[1]EventLinkConfig!$L:$M,2,FALSE),\"\"),IFERROR(VLOOKUP(A2580,[1]EventLinkConfig!$X:$Y,2,FALSE),\"\"),IFERROR(VLOOKUP(A2580,[1]EventLinkConfig!$AA:$AB,2,FALSE),\"\"),IFERROR(VLOOKUP(A2580,[1]EventConditionConfig!$B:$D,3,FALSE),\"\"))","v":""},"任务&事件文本"]
[2578,{"$f":"_xlfn.TEXTJOIN(\"\",1,IFERROR(VLOOKUP(A2581,[1]EventConfig!$T:$V,3,FALSE),\"\"),IFERROR(VLOOKUP(A2581,[1]EventConfig!$U:$W,3,FALSE),\"\"),IFERROR(VLOOKUP(A2581,[1]EventLinkConfig!$B:$C,2,FALSE),\"\"),IFERROR(VLOOKUP(A2581,[1]EventLinkConfig!$D:$E,2,FALSE),\"\"),IFERROR(VLOOKUP(A2581,[1]EventLinkConfig!$L:$M,2,FALSE),\"\"),IFERROR(VLOOKUP(A2581,[1]EventLinkConfig!$X:$Y,2,FALSE),\"\"),IFERROR(VLOOKUP(A2581,[1]EventLinkConfig!$AA:$AB,2,FALSE),\"\"),IFERROR(VLOOKUP(A2581,[1]EventConditionConfig!$B:$D,3,FALSE),\"\"))","v":""},"任务&事件文本"]
[2579,{"$f":"_xlfn.TEXTJOIN(\"\",1,IFERROR(VLOOKUP(A2582,[1]EventConfig!$T:$V,3,FALSE),\"\"),IFERROR(VLOOKUP(A2582,[1]EventConfig!$U:$W,3,FALSE),\"\"),IFERROR(VLOOKUP(A2582,[1]EventLinkConfig!$B:$C,2,FALSE),\"\"),IFERROR(VLOOKUP(A2582,[1]EventLinkConfig!$D:$E,2,FALSE),\"\"),IFERROR(VLOOKUP(A2582,[1]EventLinkConfig!$L:$M,2,FALSE),\"\"),IFERROR(VLOOKUP(A2582,[1]EventLinkConfig!$X:$Y,2,FALSE),\"\"),IFERROR(VLOOKUP(A2582,[1]EventLinkConfig!$AA:$AB,2,FALSE),\"\"),IFERROR(VLOOKUP(A2582,[1]EventConditionConfig!$B:$D,3,FALSE),\"\"))","v":""},"任务&事件文本"]
[2580,{"$f":"_xlfn.TEXTJOIN(\"\",1,IFERROR(VLOOKUP(A2583,[1]EventConfig!$T:$V,3,FALSE),\"\"),IFERROR(VLOOKUP(A2583,[1]EventConfig!$U:$W,3,FALSE),\"\"),IFERROR(VLOOKUP(A2583,[1]EventLinkConfig!$B:$C,2,FALSE),\"\"),IFERROR(VLOOKUP(A2583,[1]EventLinkConfig!$D:$E,2,FALSE),\"\"),IFERROR(VLOOKUP(A2583,[1]EventLinkConfig!$L:$M,2,FALSE),\"\"),IFERROR(VLOOKUP(A2583,[1]EventLinkConfig!$X:$Y,2,FALSE),\"\"),IFERROR(VLOOKUP(A2583,[1]EventLinkConfig!$AA:$AB,2,FALSE),\"\"),IFERROR(VLOOKUP(A2583,[1]EventConditionConfig!$B:$D,3,FALSE),\"\"))","v":""},"任务&事件文本"]
[2581,{"$f":"_xlfn.TEXTJOIN(\"\",1,IFERROR(VLOOKUP(A2584,[1]EventConfig!$T:$V,3,FALSE),\"\"),IFERROR(VLOOKUP(A2584,[1]EventConfig!$U:$W,3,FALSE),\"\"),IFERROR(VLOOKUP(A2584,[1]EventLinkConfig!$B:$C,2,FALSE),\"\"),IFERROR(VLOOKUP(A2584,[1]EventLinkConfig!$D:$E,2,FALSE),\"\"),IFERROR(VLOOKUP(A2584,[1]EventLinkConfig!$L:$M,2,FALSE),\"\"),IFERROR(VLOOKUP(A2584,[1]EventLinkConfig!$X:$Y,2,FALSE),\"\"),IFERROR(VLOOKUP(A2584,[1]EventLinkConfig!$AA:$AB,2,FALSE),\"\"),IFERROR(VLOOKUP(A2584,[1]EventConditionConfig!$B:$D,3,FALSE),\"\"))","v":""},"任务&事件文本"]
[2582,{"$f":"_xlfn.TEXTJOIN(\"\",1,IFERROR(VLOOKUP(A2585,[1]EventConfig!$T:$V,3,FALSE),\"\"),IFERROR(VLOOKUP(A2585,[1]EventConfig!$U:$W,3,FALSE),\"\"),IFERROR(VLOOKUP(A2585,[1]EventLinkConfig!$B:$C,2,FALSE),\"\"),IFERROR(VLOOKUP(A2585,[1]EventLinkConfig!$D:$E,2,FALSE),\"\"),IFERROR(VLOOKUP(A2585,[1]EventLinkConfig!$L:$M,2,FALSE),\"\"),IFERROR(VLOOKUP(A2585,[1]EventLinkConfig!$X:$Y,2,FALSE),\"\"),IFERROR(VLOOKUP(A2585,[1]EventLinkConfig!$AA:$AB,2,FALSE),\"\"),IFERROR(VLOOKUP(A2585,[1]EventConditionConfig!$B:$D,3,FALSE),\"\"))","v":""},"任务&事件文本"]
[2583,{"$f":"_xlfn.TEXTJOIN(\"\",1,IFERROR(VLOOKUP(A2586,[1]EventConfig!$T:$V,3,FALSE),\"\"),IFERROR(VLOOKUP(A2586,[1]EventConfig!$U:$W,3,FALSE),\"\"),IFERROR(VLOOKUP(A2586,[1]EventLinkConfig!$B:$C,2,FALSE),\"\"),IFERROR(VLOOKUP(A2586,[1]EventLinkConfig!$D:$E,2,FALSE),\"\"),IFERROR(VLOOKUP(A2586,[1]EventLinkConfig!$L:$M,2,FALSE),\"\"),IFERROR(VLOOKUP(A2586,[1]EventLinkConfig!$X:$Y,2,FALSE),\"\"),IFERROR(VLOOKUP(A2586,[1]EventLinkConfig!$AA:$AB,2,FALSE),\"\"),IFERROR(VLOOKUP(A2586,[1]EventConditionConfig!$B:$D,3,FALSE),\"\"))","v":""},"任务&事件文本"]
[2584,{"$f":"_xlfn.TEXTJOIN(\"\",1,IFERROR(VLOOKUP(A2587,[1]EventConfig!$T:$V,3,FALSE),\"\"),IFERROR(VLOOKUP(A2587,[1]EventConfig!$U:$W,3,FALSE),\"\"),IFERROR(VLOOKUP(A2587,[1]EventLinkConfig!$B:$C,2,FALSE),\"\"),IFERROR(VLOOKUP(A2587,[1]EventLinkConfig!$D:$E,2,FALSE),\"\"),IFERROR(VLOOKUP(A2587,[1]EventLinkConfig!$L:$M,2,FALSE),\"\"),IFERROR(VLOOKUP(A2587,[1]EventLinkConfig!$X:$Y,2,FALSE),\"\"),IFERROR(VLOOKUP(A2587,[1]EventLinkConfig!$AA:$AB,2,FALSE),\"\"),IFERROR(VLOOKUP(A2587,[1]EventConditionConfig!$B:$D,3,FALSE),\"\"))","v":""},"任务&事件文本"]
[2585,{"$f":"_xlfn.TEXTJOIN(\"\",1,IFERROR(VLOOKUP(A2588,[1]EventConfig!$T:$V,3,FALSE),\"\"),IFERROR(VLOOKUP(A2588,[1]EventConfig!$U:$W,3,FALSE),\"\"),IFERROR(VLOOKUP(A2588,[1]EventLinkConfig!$B:$C,2,FALSE),\"\"),IFERROR(VLOOKUP(A2588,[1]EventLinkConfig!$D:$E,2,FALSE),\"\"),IFERROR(VLOOKUP(A2588,[1]EventLinkConfig!$L:$M,2,FALSE),\"\"),IFERROR(VLOOKUP(A2588,[1]EventLinkConfig!$X:$Y,2,FALSE),\"\"),IFERROR(VLOOKUP(A2588,[1]EventLinkConfig!$AA:$AB,2,FALSE),\"\"),IFERROR(VLOOKUP(A2588,[1]EventConditionConfig!$B:$D,3,FALSE),\"\"))","v":""},"任务&事件文本"]
[2586,{"$f":"_xlfn.TEXTJOIN(\"\",1,IFERROR(VLOOKUP(A2589,[1]EventConfig!$T:$V,3,FALSE),\"\"),IFERROR(VLOOKUP(A2589,[1]EventConfig!$U:$W,3,FALSE),\"\"),IFERROR(VLOOKUP(A2589,[1]EventLinkConfig!$B:$C,2,FALSE),\"\"),IFERROR(VLOOKUP(A2589,[1]EventLinkConfig!$D:$E,2,FALSE),\"\"),IFERROR(VLOOKUP(A2589,[1]EventLinkConfig!$L:$M,2,FALSE),\"\"),IFERROR(VLOOKUP(A2589,[1]EventLinkConfig!$X:$Y,2,FALSE),\"\"),IFERROR(VLOOKUP(A2589,[1]EventLinkConfig!$AA:$AB,2,FALSE),\"\"),IFERROR(VLOOKUP(A2589,[1]EventConditionConfig!$B:$D,3,FALSE),\"\"))","v":""},"任务&事件文本"]
[2587,{"$f":"_xlfn.TEXTJOIN(\"\",1,IFERROR(VLOOKUP(A2590,[1]EventConfig!$T:$V,3,FALSE),\"\"),IFERROR(VLOOKUP(A2590,[1]EventConfig!$U:$W,3,FALSE),\"\"),IFERROR(VLOOKUP(A2590,[1]EventLinkConfig!$B:$C,2,FALSE),\"\"),IFERROR(VLOOKUP(A2590,[1]EventLinkConfig!$D:$E,2,FALSE),\"\"),IFERROR(VLOOKUP(A2590,[1]EventLinkConfig!$L:$M,2,FALSE),\"\"),IFERROR(VLOOKUP(A2590,[1]EventLinkConfig!$X:$Y,2,FALSE),\"\"),IFERROR(VLOOKUP(A2590,[1]EventLinkConfig!$AA:$AB,2,FALSE),\"\"),IFERROR(VLOOKUP(A2590,[1]EventConditionConfig!$B:$D,3,FALSE),\"\"))","v":""},"任务&事件文本"]
[2588,{"$f":"_xlfn.TEXTJOIN(\"\",1,IFERROR(VLOOKUP(A2591,[1]EventConfig!$T:$V,3,FALSE),\"\"),IFERROR(VLOOKUP(A2591,[1]EventConfig!$U:$W,3,FALSE),\"\"),IFERROR(VLOOKUP(A2591,[1]EventLinkConfig!$B:$C,2,FALSE),\"\"),IFERROR(VLOOKUP(A2591,[1]EventLinkConfig!$D:$E,2,FALSE),\"\"),IFERROR(VLOOKUP(A2591,[1]EventLinkConfig!$L:$M,2,FALSE),\"\"),IFERROR(VLOOKUP(A2591,[1]EventLinkConfig!$X:$Y,2,FALSE),\"\"),IFERROR(VLOOKUP(A2591,[1]EventLinkConfig!$AA:$AB,2,FALSE),\"\"),IFERROR(VLOOKUP(A2591,[1]EventConditionConfig!$B:$D,3,FALSE),\"\"))","v":""},"任务&事件文本"]
[2589,{"$f":"_xlfn.TEXTJOIN(\"\",1,IFERROR(VLOOKUP(A2592,[1]EventConfig!$T:$V,3,FALSE),\"\"),IFERROR(VLOOKUP(A2592,[1]EventConfig!$U:$W,3,FALSE),\"\"),IFERROR(VLOOKUP(A2592,[1]EventLinkConfig!$B:$C,2,FALSE),\"\"),IFERROR(VLOOKUP(A2592,[1]EventLinkConfig!$D:$E,2,FALSE),\"\"),IFERROR(VLOOKUP(A2592,[1]EventLinkConfig!$L:$M,2,FALSE),\"\"),IFERROR(VLOOKUP(A2592,[1]EventLinkConfig!$X:$Y,2,FALSE),\"\"),IFERROR(VLOOKUP(A2592,[1]EventLinkConfig!$AA:$AB,2,FALSE),\"\"),IFERROR(VLOOKUP(A2592,[1]EventConditionConfig!$B:$D,3,FALSE),\"\"))","v":""},"任务&事件文本"]
[2590,{"$f":"_xlfn.TEXTJOIN(\"\",1,IFERROR(VLOOKUP(A2593,[1]EventConfig!$T:$V,3,FALSE),\"\"),IFERROR(VLOOKUP(A2593,[1]EventConfig!$U:$W,3,FALSE),\"\"),IFERROR(VLOOKUP(A2593,[1]EventLinkConfig!$B:$C,2,FALSE),\"\"),IFERROR(VLOOKUP(A2593,[1]EventLinkConfig!$D:$E,2,FALSE),\"\"),IFERROR(VLOOKUP(A2593,[1]EventLinkConfig!$L:$M,2,FALSE),\"\"),IFERROR(VLOOKUP(A2593,[1]EventLinkConfig!$X:$Y,2,FALSE),\"\"),IFERROR(VLOOKUP(A2593,[1]EventLinkConfig!$AA:$AB,2,FALSE),\"\"),IFERROR(VLOOKUP(A2593,[1]EventConditionConfig!$B:$D,3,FALSE),\"\"))","v":""},"任务&事件文本"]
[2591,{"$f":"_xlfn.TEXTJOIN(\"\",1,IFERROR(VLOOKUP(A2594,[1]EventConfig!$T:$V,3,FALSE),\"\"),IFERROR(VLOOKUP(A2594,[1]EventConfig!$U:$W,3,FALSE),\"\"),IFERROR(VLOOKUP(A2594,[1]EventLinkConfig!$B:$C,2,FALSE),\"\"),IFERROR(VLOOKUP(A2594,[1]EventLinkConfig!$D:$E,2,FALSE),\"\"),IFERROR(VLOOKUP(A2594,[1]EventLinkConfig!$L:$M,2,FALSE),\"\"),IFERROR(VLOOKUP(A2594,[1]EventLinkConfig!$X:$Y,2,FALSE),\"\"),IFERROR(VLOOKUP(A2594,[1]EventLinkConfig!$AA:$AB,2,FALSE),\"\"),IFERROR(VLOOKUP(A2594,[1]EventConditionConfig!$B:$D,3,FALSE),\"\"))","v":""},"任务&事件文本"]
[2592,{"$f":"_xlfn.TEXTJOIN(\"\",1,IFERROR(VLOOKUP(A2595,[1]EventConfig!$T:$V,3,FALSE),\"\"),IFERROR(VLOOKUP(A2595,[1]EventConfig!$U:$W,3,FALSE),\"\"),IFERROR(VLOOKUP(A2595,[1]EventLinkConfig!$B:$C,2,FALSE),\"\"),IFERROR(VLOOKUP(A2595,[1]EventLinkConfig!$D:$E,2,FALSE),\"\"),IFERROR(VLOOKUP(A2595,[1]EventLinkConfig!$L:$M,2,FALSE),\"\"),IFERROR(VLOOKUP(A2595,[1]EventLinkConfig!$X:$Y,2,FALSE),\"\"),IFERROR(VLOOKUP(A2595,[1]EventLinkConfig!$AA:$AB,2,FALSE),\"\"),IFERROR(VLOOKUP(A2595,[1]EventConditionConfig!$B:$D,3,FALSE),\"\"))","v":""},"任务&事件文本"]
[2593,{"$f":"_xlfn.TEXTJOIN(\"\",1,IFERROR(VLOOKUP(A2596,[1]EventConfig!$T:$V,3,FALSE),\"\"),IFERROR(VLOOKUP(A2596,[1]EventConfig!$U:$W,3,FALSE),\"\"),IFERROR(VLOOKUP(A2596,[1]EventLinkConfig!$B:$C,2,FALSE),\"\"),IFERROR(VLOOKUP(A2596,[1]EventLinkConfig!$D:$E,2,FALSE),\"\"),IFERROR(VLOOKUP(A2596,[1]EventLinkConfig!$L:$M,2,FALSE),\"\"),IFERROR(VLOOKUP(A2596,[1]EventLinkConfig!$X:$Y,2,FALSE),\"\"),IFERROR(VLOOKUP(A2596,[1]EventLinkConfig!$AA:$AB,2,FALSE),\"\"),IFERROR(VLOOKUP(A2596,[1]EventConditionConfig!$B:$D,3,FALSE),\"\"))","v":""},"任务&事件文本"]
[2594,{"$f":"_xlfn.TEXTJOIN(\"\",1,IFERROR(VLOOKUP(A2597,[1]EventConfig!$T:$V,3,FALSE),\"\"),IFERROR(VLOOKUP(A2597,[1]EventConfig!$U:$W,3,FALSE),\"\"),IFERROR(VLOOKUP(A2597,[1]EventLinkConfig!$B:$C,2,FALSE),\"\"),IFERROR(VLOOKUP(A2597,[1]EventLinkConfig!$D:$E,2,FALSE),\"\"),IFERROR(VLOOKUP(A2597,[1]EventLinkConfig!$L:$M,2,FALSE),\"\"),IFERROR(VLOOKUP(A2597,[1]EventLinkConfig!$X:$Y,2,FALSE),\"\"),IFERROR(VLOOKUP(A2597,[1]EventLinkConfig!$AA:$AB,2,FALSE),\"\"),IFERROR(VLOOKUP(A2597,[1]EventConditionConfig!$B:$D,3,FALSE),\"\"))","v":""},"任务&事件文本"]
[2595,{"$f":"_xlfn.TEXTJOIN(\"\",1,IFERROR(VLOOKUP(A2598,[1]EventConfig!$T:$V,3,FALSE),\"\"),IFERROR(VLOOKUP(A2598,[1]EventConfig!$U:$W,3,FALSE),\"\"),IFERROR(VLOOKUP(A2598,[1]EventLinkConfig!$B:$C,2,FALSE),\"\"),IFERROR(VLOOKUP(A2598,[1]EventLinkConfig!$D:$E,2,FALSE),\"\"),IFERROR(VLOOKUP(A2598,[1]EventLinkConfig!$L:$M,2,FALSE),\"\"),IFERROR(VLOOKUP(A2598,[1]EventLinkConfig!$X:$Y,2,FALSE),\"\"),IFERROR(VLOOKUP(A2598,[1]EventLinkConfig!$AA:$AB,2,FALSE),\"\"),IFERROR(VLOOKUP(A2598,[1]EventConditionConfig!$B:$D,3,FALSE),\"\"))","v":""},"任务&事件文本"]
[2596,{"$f":"_xlfn.TEXTJOIN(\"\",1,IFERROR(VLOOKUP(A2599,[1]EventConfig!$T:$V,3,FALSE),\"\"),IFERROR(VLOOKUP(A2599,[1]EventConfig!$U:$W,3,FALSE),\"\"),IFERROR(VLOOKUP(A2599,[1]EventLinkConfig!$B:$C,2,FALSE),\"\"),IFERROR(VLOOKUP(A2599,[1]EventLinkConfig!$D:$E,2,FALSE),\"\"),IFERROR(VLOOKUP(A2599,[1]EventLinkConfig!$L:$M,2,FALSE),\"\"),IFERROR(VLOOKUP(A2599,[1]EventLinkConfig!$X:$Y,2,FALSE),\"\"),IFERROR(VLOOKUP(A2599,[1]EventLinkConfig!$AA:$AB,2,FALSE),\"\"),IFERROR(VLOOKUP(A2599,[1]EventConditionConfig!$B:$D,3,FALSE),\"\"))","v":""},"任务&事件文本"]
[2597,{"$f":"_xlfn.TEXTJOIN(\"\",1,IFERROR(VLOOKUP(A2600,[1]EventConfig!$T:$V,3,FALSE),\"\"),IFERROR(VLOOKUP(A2600,[1]EventConfig!$U:$W,3,FALSE),\"\"),IFERROR(VLOOKUP(A2600,[1]EventLinkConfig!$B:$C,2,FALSE),\"\"),IFERROR(VLOOKUP(A2600,[1]EventLinkConfig!$D:$E,2,FALSE),\"\"),IFERROR(VLOOKUP(A2600,[1]EventLinkConfig!$L:$M,2,FALSE),\"\"),IFERROR(VLOOKUP(A2600,[1]EventLinkConfig!$X:$Y,2,FALSE),\"\"),IFERROR(VLOOKUP(A2600,[1]EventLinkConfig!$AA:$AB,2,FALSE),\"\"),IFERROR(VLOOKUP(A2600,[1]EventConditionConfig!$B:$D,3,FALSE),\"\"))","v":""},"任务&事件文本"]
[2598,{"$f":"_xlfn.TEXTJOIN(\"\",1,IFERROR(VLOOKUP(A2601,[1]EventConfig!$T:$V,3,FALSE),\"\"),IFERROR(VLOOKUP(A2601,[1]EventConfig!$U:$W,3,FALSE),\"\"),IFERROR(VLOOKUP(A2601,[1]EventLinkConfig!$B:$C,2,FALSE),\"\"),IFERROR(VLOOKUP(A2601,[1]EventLinkConfig!$D:$E,2,FALSE),\"\"),IFERROR(VLOOKUP(A2601,[1]EventLinkConfig!$L:$M,2,FALSE),\"\"),IFERROR(VLOOKUP(A2601,[1]EventLinkConfig!$X:$Y,2,FALSE),\"\"),IFERROR(VLOOKUP(A2601,[1]EventLinkConfig!$AA:$AB,2,FALSE),\"\"),IFERROR(VLOOKUP(A2601,[1]EventConditionConfig!$B:$D,3,FALSE),\"\"))","v":""},"任务&事件文本"]
[2599,{"$f":"_xlfn.TEXTJOIN(\"\",1,IFERROR(VLOOKUP(A2602,[1]EventConfig!$T:$V,3,FALSE),\"\"),IFERROR(VLOOKUP(A2602,[1]EventConfig!$U:$W,3,FALSE),\"\"),IFERROR(VLOOKUP(A2602,[1]EventLinkConfig!$B:$C,2,FALSE),\"\"),IFERROR(VLOOKUP(A2602,[1]EventLinkConfig!$D:$E,2,FALSE),\"\"),IFERROR(VLOOKUP(A2602,[1]EventLinkConfig!$L:$M,2,FALSE),\"\"),IFERROR(VLOOKUP(A2602,[1]EventLinkConfig!$X:$Y,2,FALSE),\"\"),IFERROR(VLOOKUP(A2602,[1]EventLinkConfig!$AA:$AB,2,FALSE),\"\"),IFERROR(VLOOKUP(A2602,[1]EventConditionConfig!$B:$D,3,FALSE),\"\"))","v":""},"任务&事件文本"]
[2600,{"$f":"_xlfn.TEXTJOIN(\"\",1,IFERROR(VLOOKUP(A2603,[1]EventConfig!$T:$V,3,FALSE),\"\"),IFERROR(VLOOKUP(A2603,[1]EventConfig!$U:$W,3,FALSE),\"\"),IFERROR(VLOOKUP(A2603,[1]EventLinkConfig!$B:$C,2,FALSE),\"\"),IFERROR(VLOOKUP(A2603,[1]EventLinkConfig!$D:$E,2,FALSE),\"\"),IFERROR(VLOOKUP(A2603,[1]EventLinkConfig!$L:$M,2,FALSE),\"\"),IFERROR(VLOOKUP(A2603,[1]EventLinkConfig!$X:$Y,2,FALSE),\"\"),IFERROR(VLOOKUP(A2603,[1]EventLinkConfig!$AA:$AB,2,FALSE),\"\"),IFERROR(VLOOKUP(A2603,[1]EventConditionConfig!$B:$D,3,FALSE),\"\"))","v":""},"任务&事件文本"]
[2601,{"$f":"_xlfn.TEXTJOIN(\"\",1,IFERROR(VLOOKUP(A2604,[1]EventConfig!$T:$V,3,FALSE),\"\"),IFERROR(VLOOKUP(A2604,[1]EventConfig!$U:$W,3,FALSE),\"\"),IFERROR(VLOOKUP(A2604,[1]EventLinkConfig!$B:$C,2,FALSE),\"\"),IFERROR(VLOOKUP(A2604,[1]EventLinkConfig!$D:$E,2,FALSE),\"\"),IFERROR(VLOOKUP(A2604,[1]EventLinkConfig!$L:$M,2,FALSE),\"\"),IFERROR(VLOOKUP(A2604,[1]EventLinkConfig!$X:$Y,2,FALSE),\"\"),IFERROR(VLOOKUP(A2604,[1]EventLinkConfig!$AA:$AB,2,FALSE),\"\"),IFERROR(VLOOKUP(A2604,[1]EventConditionConfig!$B:$D,3,FALSE),\"\"))","v":""},"任务&事件文本"]
[2602,{"$f":"_xlfn.TEXTJOIN(\"\",1,IFERROR(VLOOKUP(A2605,[1]EventConfig!$T:$V,3,FALSE),\"\"),IFERROR(VLOOKUP(A2605,[1]EventConfig!$U:$W,3,FALSE),\"\"),IFERROR(VLOOKUP(A2605,[1]EventLinkConfig!$B:$C,2,FALSE),\"\"),IFERROR(VLOOKUP(A2605,[1]EventLinkConfig!$D:$E,2,FALSE),\"\"),IFERROR(VLOOKUP(A2605,[1]EventLinkConfig!$L:$M,2,FALSE),\"\"),IFERROR(VLOOKUP(A2605,[1]EventLinkConfig!$X:$Y,2,FALSE),\"\"),IFERROR(VLOOKUP(A2605,[1]EventLinkConfig!$AA:$AB,2,FALSE),\"\"),IFERROR(VLOOKUP(A2605,[1]EventConditionConfig!$B:$D,3,FALSE),\"\"))","v":""},"任务&事件文本"]
[2603,{"$f":"_xlfn.TEXTJOIN(\"\",1,IFERROR(VLOOKUP(A2606,[1]EventConfig!$T:$V,3,FALSE),\"\"),IFERROR(VLOOKUP(A2606,[1]EventConfig!$U:$W,3,FALSE),\"\"),IFERROR(VLOOKUP(A2606,[1]EventLinkConfig!$B:$C,2,FALSE),\"\"),IFERROR(VLOOKUP(A2606,[1]EventLinkConfig!$D:$E,2,FALSE),\"\"),IFERROR(VLOOKUP(A2606,[1]EventLinkConfig!$L:$M,2,FALSE),\"\"),IFERROR(VLOOKUP(A2606,[1]EventLinkConfig!$X:$Y,2,FALSE),\"\"),IFERROR(VLOOKUP(A2606,[1]EventLinkConfig!$AA:$AB,2,FALSE),\"\"),IFERROR(VLOOKUP(A2606,[1]EventConditionConfig!$B:$D,3,FALSE),\"\"))","v":""},"任务&事件文本"]
[2604,{"$f":"_xlfn.TEXTJOIN(\"\",1,IFERROR(VLOOKUP(A2607,[1]EventConfig!$T:$V,3,FALSE),\"\"),IFERROR(VLOOKUP(A2607,[1]EventConfig!$U:$W,3,FALSE),\"\"),IFERROR(VLOOKUP(A2607,[1]EventLinkConfig!$B:$C,2,FALSE),\"\"),IFERROR(VLOOKUP(A2607,[1]EventLinkConfig!$D:$E,2,FALSE),\"\"),IFERROR(VLOOKUP(A2607,[1]EventLinkConfig!$L:$M,2,FALSE),\"\"),IFERROR(VLOOKUP(A2607,[1]EventLinkConfig!$X:$Y,2,FALSE),\"\"),IFERROR(VLOOKUP(A2607,[1]EventLinkConfig!$AA:$AB,2,FALSE),\"\"),IFERROR(VLOOKUP(A2607,[1]EventConditionConfig!$B:$D,3,FALSE),\"\"))","v":""},"任务&事件文本"]
[2605,{"$f":"_xlfn.TEXTJOIN(\"\",1,IFERROR(VLOOKUP(A2608,[1]EventConfig!$T:$V,3,FALSE),\"\"),IFERROR(VLOOKUP(A2608,[1]EventConfig!$U:$W,3,FALSE),\"\"),IFERROR(VLOOKUP(A2608,[1]EventLinkConfig!$B:$C,2,FALSE),\"\"),IFERROR(VLOOKUP(A2608,[1]EventLinkConfig!$D:$E,2,FALSE),\"\"),IFERROR(VLOOKUP(A2608,[1]EventLinkConfig!$L:$M,2,FALSE),\"\"),IFERROR(VLOOKUP(A2608,[1]EventLinkConfig!$X:$Y,2,FALSE),\"\"),IFERROR(VLOOKUP(A2608,[1]EventLinkConfig!$AA:$AB,2,FALSE),\"\"),IFERROR(VLOOKUP(A2608,[1]EventConditionConfig!$B:$D,3,FALSE),\"\"))","v":""},"任务&事件文本"]
[2606,{"$f":"_xlfn.TEXTJOIN(\"\",1,IFERROR(VLOOKUP(A2609,[1]EventConfig!$T:$V,3,FALSE),\"\"),IFERROR(VLOOKUP(A2609,[1]EventConfig!$U:$W,3,FALSE),\"\"),IFERROR(VLOOKUP(A2609,[1]EventLinkConfig!$B:$C,2,FALSE),\"\"),IFERROR(VLOOKUP(A2609,[1]EventLinkConfig!$D:$E,2,FALSE),\"\"),IFERROR(VLOOKUP(A2609,[1]EventLinkConfig!$L:$M,2,FALSE),\"\"),IFERROR(VLOOKUP(A2609,[1]EventLinkConfig!$X:$Y,2,FALSE),\"\"),IFERROR(VLOOKUP(A2609,[1]EventLinkConfig!$AA:$AB,2,FALSE),\"\"),IFERROR(VLOOKUP(A2609,[1]EventConditionConfig!$B:$D,3,FALSE),\"\"))","v":""},"任务&事件文本"]
[2607,{"$f":"_xlfn.TEXTJOIN(\"\",1,IFERROR(VLOOKUP(A2610,[1]EventConfig!$T:$V,3,FALSE),\"\"),IFERROR(VLOOKUP(A2610,[1]EventConfig!$U:$W,3,FALSE),\"\"),IFERROR(VLOOKUP(A2610,[1]EventLinkConfig!$B:$C,2,FALSE),\"\"),IFERROR(VLOOKUP(A2610,[1]EventLinkConfig!$D:$E,2,FALSE),\"\"),IFERROR(VLOOKUP(A2610,[1]EventLinkConfig!$L:$M,2,FALSE),\"\"),IFERROR(VLOOKUP(A2610,[1]EventLinkConfig!$X:$Y,2,FALSE),\"\"),IFERROR(VLOOKUP(A2610,[1]EventLinkConfig!$AA:$AB,2,FALSE),\"\"),IFERROR(VLOOKUP(A2610,[1]EventConditionConfig!$B:$D,3,FALSE),\"\"))","v":""},"任务&事件文本"]
[2608,{"$f":"_xlfn.TEXTJOIN(\"\",1,IFERROR(VLOOKUP(A2611,[1]EventConfig!$T:$V,3,FALSE),\"\"),IFERROR(VLOOKUP(A2611,[1]EventConfig!$U:$W,3,FALSE),\"\"),IFERROR(VLOOKUP(A2611,[1]EventLinkConfig!$B:$C,2,FALSE),\"\"),IFERROR(VLOOKUP(A2611,[1]EventLinkConfig!$D:$E,2,FALSE),\"\"),IFERROR(VLOOKUP(A2611,[1]EventLinkConfig!$L:$M,2,FALSE),\"\"),IFERROR(VLOOKUP(A2611,[1]EventLinkConfig!$X:$Y,2,FALSE),\"\"),IFERROR(VLOOKUP(A2611,[1]EventLinkConfig!$AA:$AB,2,FALSE),\"\"),IFERROR(VLOOKUP(A2611,[1]EventConditionConfig!$B:$D,3,FALSE),\"\"))","v":""},"任务&事件文本"]
[2609,{"$f":"_xlfn.TEXTJOIN(\"\",1,IFERROR(VLOOKUP(A2612,[1]EventConfig!$T:$V,3,FALSE),\"\"),IFERROR(VLOOKUP(A2612,[1]EventConfig!$U:$W,3,FALSE),\"\"),IFERROR(VLOOKUP(A2612,[1]EventLinkConfig!$B:$C,2,FALSE),\"\"),IFERROR(VLOOKUP(A2612,[1]EventLinkConfig!$D:$E,2,FALSE),\"\"),IFERROR(VLOOKUP(A2612,[1]EventLinkConfig!$L:$M,2,FALSE),\"\"),IFERROR(VLOOKUP(A2612,[1]EventLinkConfig!$X:$Y,2,FALSE),\"\"),IFERROR(VLOOKUP(A2612,[1]EventLinkConfig!$AA:$AB,2,FALSE),\"\"),IFERROR(VLOOKUP(A2612,[1]EventConditionConfig!$B:$D,3,FALSE),\"\"))","v":""},"任务&事件文本"]
[2610,{"$f":"_xlfn.TEXTJOIN(\"\",1,IFERROR(VLOOKUP(A2613,[1]EventConfig!$T:$V,3,FALSE),\"\"),IFERROR(VLOOKUP(A2613,[1]EventConfig!$U:$W,3,FALSE),\"\"),IFERROR(VLOOKUP(A2613,[1]EventLinkConfig!$B:$C,2,FALSE),\"\"),IFERROR(VLOOKUP(A2613,[1]EventLinkConfig!$D:$E,2,FALSE),\"\"),IFERROR(VLOOKUP(A2613,[1]EventLinkConfig!$L:$M,2,FALSE),\"\"),IFERROR(VLOOKUP(A2613,[1]EventLinkConfig!$X:$Y,2,FALSE),\"\"),IFERROR(VLOOKUP(A2613,[1]EventLinkConfig!$AA:$AB,2,FALSE),\"\"),IFERROR(VLOOKUP(A2613,[1]EventConditionConfig!$B:$D,3,FALSE),\"\"))","v":""},"任务&事件文本"]
[2611,{"$f":"_xlfn.TEXTJOIN(\"\",1,IFERROR(VLOOKUP(A2614,[1]EventConfig!$T:$V,3,FALSE),\"\"),IFERROR(VLOOKUP(A2614,[1]EventConfig!$U:$W,3,FALSE),\"\"),IFERROR(VLOOKUP(A2614,[1]EventLinkConfig!$B:$C,2,FALSE),\"\"),IFERROR(VLOOKUP(A2614,[1]EventLinkConfig!$D:$E,2,FALSE),\"\"),IFERROR(VLOOKUP(A2614,[1]EventLinkConfig!$L:$M,2,FALSE),\"\"),IFERROR(VLOOKUP(A2614,[1]EventLinkConfig!$X:$Y,2,FALSE),\"\"),IFERROR(VLOOKUP(A2614,[1]EventLinkConfig!$AA:$AB,2,FALSE),\"\"),IFERROR(VLOOKUP(A2614,[1]EventConditionConfig!$B:$D,3,FALSE),\"\"))","v":""},"任务&事件文本"]
[2612,{"$f":"_xlfn.TEXTJOIN(\"\",1,IFERROR(VLOOKUP(A2615,[1]EventConfig!$T:$V,3,FALSE),\"\"),IFERROR(VLOOKUP(A2615,[1]EventConfig!$U:$W,3,FALSE),\"\"),IFERROR(VLOOKUP(A2615,[1]EventLinkConfig!$B:$C,2,FALSE),\"\"),IFERROR(VLOOKUP(A2615,[1]EventLinkConfig!$D:$E,2,FALSE),\"\"),IFERROR(VLOOKUP(A2615,[1]EventLinkConfig!$L:$M,2,FALSE),\"\"),IFERROR(VLOOKUP(A2615,[1]EventLinkConfig!$X:$Y,2,FALSE),\"\"),IFERROR(VLOOKUP(A2615,[1]EventLinkConfig!$AA:$AB,2,FALSE),\"\"),IFERROR(VLOOKUP(A2615,[1]EventConditionConfig!$B:$D,3,FALSE),\"\"))","v":""},"任务&事件文本"]
[2613,{"$f":"_xlfn.TEXTJOIN(\"\",1,IFERROR(VLOOKUP(A2616,[1]EventConfig!$T:$V,3,FALSE),\"\"),IFERROR(VLOOKUP(A2616,[1]EventConfig!$U:$W,3,FALSE),\"\"),IFERROR(VLOOKUP(A2616,[1]EventLinkConfig!$B:$C,2,FALSE),\"\"),IFERROR(VLOOKUP(A2616,[1]EventLinkConfig!$D:$E,2,FALSE),\"\"),IFERROR(VLOOKUP(A2616,[1]EventLinkConfig!$L:$M,2,FALSE),\"\"),IFERROR(VLOOKUP(A2616,[1]EventLinkConfig!$X:$Y,2,FALSE),\"\"),IFERROR(VLOOKUP(A2616,[1]EventLinkConfig!$AA:$AB,2,FALSE),\"\"),IFERROR(VLOOKUP(A2616,[1]EventConditionConfig!$B:$D,3,FALSE),\"\"))","v":""},"任务&事件文本"]
[2614,{"$f":"_xlfn.TEXTJOIN(\"\",1,IFERROR(VLOOKUP(A2617,[1]EventConfig!$T:$V,3,FALSE),\"\"),IFERROR(VLOOKUP(A2617,[1]EventConfig!$U:$W,3,FALSE),\"\"),IFERROR(VLOOKUP(A2617,[1]EventLinkConfig!$B:$C,2,FALSE),\"\"),IFERROR(VLOOKUP(A2617,[1]EventLinkConfig!$D:$E,2,FALSE),\"\"),IFERROR(VLOOKUP(A2617,[1]EventLinkConfig!$L:$M,2,FALSE),\"\"),IFERROR(VLOOKUP(A2617,[1]EventLinkConfig!$X:$Y,2,FALSE),\"\"),IFERROR(VLOOKUP(A2617,[1]EventLinkConfig!$AA:$AB,2,FALSE),\"\"),IFERROR(VLOOKUP(A2617,[1]EventConditionConfig!$B:$D,3,FALSE),\"\"))","v":""},"任务&事件文本"]
[2615,{"$f":"_xlfn.TEXTJOIN(\"\",1,IFERROR(VLOOKUP(A2618,[1]EventConfig!$T:$V,3,FALSE),\"\"),IFERROR(VLOOKUP(A2618,[1]EventConfig!$U:$W,3,FALSE),\"\"),IFERROR(VLOOKUP(A2618,[1]EventLinkConfig!$B:$C,2,FALSE),\"\"),IFERROR(VLOOKUP(A2618,[1]EventLinkConfig!$D:$E,2,FALSE),\"\"),IFERROR(VLOOKUP(A2618,[1]EventLinkConfig!$L:$M,2,FALSE),\"\"),IFERROR(VLOOKUP(A2618,[1]EventLinkConfig!$X:$Y,2,FALSE),\"\"),IFERROR(VLOOKUP(A2618,[1]EventLinkConfig!$AA:$AB,2,FALSE),\"\"),IFERROR(VLOOKUP(A2618,[1]EventConditionConfig!$B:$D,3,FALSE),\"\"))","v":""},"任务&事件文本"]
[2616,{"$f":"_xlfn.TEXTJOIN(\"\",1,IFERROR(VLOOKUP(A2619,[1]EventConfig!$T:$V,3,FALSE),\"\"),IFERROR(VLOOKUP(A2619,[1]EventConfig!$U:$W,3,FALSE),\"\"),IFERROR(VLOOKUP(A2619,[1]EventLinkConfig!$B:$C,2,FALSE),\"\"),IFERROR(VLOOKUP(A2619,[1]EventLinkConfig!$D:$E,2,FALSE),\"\"),IFERROR(VLOOKUP(A2619,[1]EventLinkConfig!$L:$M,2,FALSE),\"\"),IFERROR(VLOOKUP(A2619,[1]EventLinkConfig!$X:$Y,2,FALSE),\"\"),IFERROR(VLOOKUP(A2619,[1]EventLinkConfig!$AA:$AB,2,FALSE),\"\"),IFERROR(VLOOKUP(A2619,[1]EventConditionConfig!$B:$D,3,FALSE),\"\"))","v":""},"任务&事件文本"]
[2617,{"$f":"_xlfn.TEXTJOIN(\"\",1,IFERROR(VLOOKUP(A2620,[1]EventConfig!$T:$V,3,FALSE),\"\"),IFERROR(VLOOKUP(A2620,[1]EventConfig!$U:$W,3,FALSE),\"\"),IFERROR(VLOOKUP(A2620,[1]EventLinkConfig!$B:$C,2,FALSE),\"\"),IFERROR(VLOOKUP(A2620,[1]EventLinkConfig!$D:$E,2,FALSE),\"\"),IFERROR(VLOOKUP(A2620,[1]EventLinkConfig!$L:$M,2,FALSE),\"\"),IFERROR(VLOOKUP(A2620,[1]EventLinkConfig!$X:$Y,2,FALSE),\"\"),IFERROR(VLOOKUP(A2620,[1]EventLinkConfig!$AA:$AB,2,FALSE),\"\"),IFERROR(VLOOKUP(A2620,[1]EventConditionConfig!$B:$D,3,FALSE),\"\"))","v":""},"任务&事件文本"]
[2618,{"$f":"_xlfn.TEXTJOIN(\"\",1,IFERROR(VLOOKUP(A2621,[1]EventConfig!$T:$V,3,FALSE),\"\"),IFERROR(VLOOKUP(A2621,[1]EventConfig!$U:$W,3,FALSE),\"\"),IFERROR(VLOOKUP(A2621,[1]EventLinkConfig!$B:$C,2,FALSE),\"\"),IFERROR(VLOOKUP(A2621,[1]EventLinkConfig!$D:$E,2,FALSE),\"\"),IFERROR(VLOOKUP(A2621,[1]EventLinkConfig!$L:$M,2,FALSE),\"\"),IFERROR(VLOOKUP(A2621,[1]EventLinkConfig!$X:$Y,2,FALSE),\"\"),IFERROR(VLOOKUP(A2621,[1]EventLinkConfig!$AA:$AB,2,FALSE),\"\"),IFERROR(VLOOKUP(A2621,[1]EventConditionConfig!$B:$D,3,FALSE),\"\"))","v":""},"任务&事件文本"]
[2619,{"$f":"_xlfn.TEXTJOIN(\"\",1,IFERROR(VLOOKUP(A2622,[1]EventConfig!$T:$V,3,FALSE),\"\"),IFERROR(VLOOKUP(A2622,[1]EventConfig!$U:$W,3,FALSE),\"\"),IFERROR(VLOOKUP(A2622,[1]EventLinkConfig!$B:$C,2,FALSE),\"\"),IFERROR(VLOOKUP(A2622,[1]EventLinkConfig!$D:$E,2,FALSE),\"\"),IFERROR(VLOOKUP(A2622,[1]EventLinkConfig!$L:$M,2,FALSE),\"\"),IFERROR(VLOOKUP(A2622,[1]EventLinkConfig!$X:$Y,2,FALSE),\"\"),IFERROR(VLOOKUP(A2622,[1]EventLinkConfig!$AA:$AB,2,FALSE),\"\"),IFERROR(VLOOKUP(A2622,[1]EventConditionConfig!$B:$D,3,FALSE),\"\"))","v":""},"任务&事件文本"]
[2620,{"$f":"_xlfn.TEXTJOIN(\"\",1,IFERROR(VLOOKUP(A2623,[1]EventConfig!$T:$V,3,FALSE),\"\"),IFERROR(VLOOKUP(A2623,[1]EventConfig!$U:$W,3,FALSE),\"\"),IFERROR(VLOOKUP(A2623,[1]EventLinkConfig!$B:$C,2,FALSE),\"\"),IFERROR(VLOOKUP(A2623,[1]EventLinkConfig!$D:$E,2,FALSE),\"\"),IFERROR(VLOOKUP(A2623,[1]EventLinkConfig!$L:$M,2,FALSE),\"\"),IFERROR(VLOOKUP(A2623,[1]EventLinkConfig!$X:$Y,2,FALSE),\"\"),IFERROR(VLOOKUP(A2623,[1]EventLinkConfig!$AA:$AB,2,FALSE),\"\"),IFERROR(VLOOKUP(A2623,[1]EventConditionConfig!$B:$D,3,FALSE),\"\"))","v":""},"任务&事件文本"]
[2621,{"$f":"_xlfn.TEXTJOIN(\"\",1,IFERROR(VLOOKUP(A2624,[1]EventConfig!$T:$V,3,FALSE),\"\"),IFERROR(VLOOKUP(A2624,[1]EventConfig!$U:$W,3,FALSE),\"\"),IFERROR(VLOOKUP(A2624,[1]EventLinkConfig!$B:$C,2,FALSE),\"\"),IFERROR(VLOOKUP(A2624,[1]EventLinkConfig!$D:$E,2,FALSE),\"\"),IFERROR(VLOOKUP(A2624,[1]EventLinkConfig!$L:$M,2,FALSE),\"\"),IFERROR(VLOOKUP(A2624,[1]EventLinkConfig!$X:$Y,2,FALSE),\"\"),IFERROR(VLOOKUP(A2624,[1]EventLinkConfig!$AA:$AB,2,FALSE),\"\"),IFERROR(VLOOKUP(A2624,[1]EventConditionConfig!$B:$D,3,FALSE),\"\"))","v":""},"任务&事件文本"]
[2622,{"$f":"_xlfn.TEXTJOIN(\"\",1,IFERROR(VLOOKUP(A2625,[1]EventConfig!$T:$V,3,FALSE),\"\"),IFERROR(VLOOKUP(A2625,[1]EventConfig!$U:$W,3,FALSE),\"\"),IFERROR(VLOOKUP(A2625,[1]EventLinkConfig!$B:$C,2,FALSE),\"\"),IFERROR(VLOOKUP(A2625,[1]EventLinkConfig!$D:$E,2,FALSE),\"\"),IFERROR(VLOOKUP(A2625,[1]EventLinkConfig!$L:$M,2,FALSE),\"\"),IFERROR(VLOOKUP(A2625,[1]EventLinkConfig!$X:$Y,2,FALSE),\"\"),IFERROR(VLOOKUP(A2625,[1]EventLinkConfig!$AA:$AB,2,FALSE),\"\"),IFERROR(VLOOKUP(A2625,[1]EventConditionConfig!$B:$D,3,FALSE),\"\"))","v":""},"任务&事件文本"]
[2623,{"$f":"_xlfn.TEXTJOIN(\"\",1,IFERROR(VLOOKUP(A2626,[1]EventConfig!$T:$V,3,FALSE),\"\"),IFERROR(VLOOKUP(A2626,[1]EventConfig!$U:$W,3,FALSE),\"\"),IFERROR(VLOOKUP(A2626,[1]EventLinkConfig!$B:$C,2,FALSE),\"\"),IFERROR(VLOOKUP(A2626,[1]EventLinkConfig!$D:$E,2,FALSE),\"\"),IFERROR(VLOOKUP(A2626,[1]EventLinkConfig!$L:$M,2,FALSE),\"\"),IFERROR(VLOOKUP(A2626,[1]EventLinkConfig!$X:$Y,2,FALSE),\"\"),IFERROR(VLOOKUP(A2626,[1]EventLinkConfig!$AA:$AB,2,FALSE),\"\"),IFERROR(VLOOKUP(A2626,[1]EventConditionConfig!$B:$D,3,FALSE),\"\"))","v":""},"任务&事件文本"]
[2624,{"$f":"_xlfn.TEXTJOIN(\"\",1,IFERROR(VLOOKUP(A2627,[1]EventConfig!$T:$V,3,FALSE),\"\"),IFERROR(VLOOKUP(A2627,[1]EventConfig!$U:$W,3,FALSE),\"\"),IFERROR(VLOOKUP(A2627,[1]EventLinkConfig!$B:$C,2,FALSE),\"\"),IFERROR(VLOOKUP(A2627,[1]EventLinkConfig!$D:$E,2,FALSE),\"\"),IFERROR(VLOOKUP(A2627,[1]EventLinkConfig!$L:$M,2,FALSE),\"\"),IFERROR(VLOOKUP(A2627,[1]EventLinkConfig!$X:$Y,2,FALSE),\"\"),IFERROR(VLOOKUP(A2627,[1]EventLinkConfig!$AA:$AB,2,FALSE),\"\"),IFERROR(VLOOKUP(A2627,[1]EventConditionConfig!$B:$D,3,FALSE),\"\"))","v":""},"任务&事件文本"]
[2625,{"$f":"_xlfn.TEXTJOIN(\"\",1,IFERROR(VLOOKUP(A2628,[1]EventConfig!$T:$V,3,FALSE),\"\"),IFERROR(VLOOKUP(A2628,[1]EventConfig!$U:$W,3,FALSE),\"\"),IFERROR(VLOOKUP(A2628,[1]EventLinkConfig!$B:$C,2,FALSE),\"\"),IFERROR(VLOOKUP(A2628,[1]EventLinkConfig!$D:$E,2,FALSE),\"\"),IFERROR(VLOOKUP(A2628,[1]EventLinkConfig!$L:$M,2,FALSE),\"\"),IFERROR(VLOOKUP(A2628,[1]EventLinkConfig!$X:$Y,2,FALSE),\"\"),IFERROR(VLOOKUP(A2628,[1]EventLinkConfig!$AA:$AB,2,FALSE),\"\"),IFERROR(VLOOKUP(A2628,[1]EventConditionConfig!$B:$D,3,FALSE),\"\"))","v":""},"任务&事件文本"]
[2626,{"$f":"_xlfn.TEXTJOIN(\"\",1,IFERROR(VLOOKUP(A2629,[1]EventConfig!$T:$V,3,FALSE),\"\"),IFERROR(VLOOKUP(A2629,[1]EventConfig!$U:$W,3,FALSE),\"\"),IFERROR(VLOOKUP(A2629,[1]EventLinkConfig!$B:$C,2,FALSE),\"\"),IFERROR(VLOOKUP(A2629,[1]EventLinkConfig!$D:$E,2,FALSE),\"\"),IFERROR(VLOOKUP(A2629,[1]EventLinkConfig!$L:$M,2,FALSE),\"\"),IFERROR(VLOOKUP(A2629,[1]EventLinkConfig!$X:$Y,2,FALSE),\"\"),IFERROR(VLOOKUP(A2629,[1]EventLinkConfig!$AA:$AB,2,FALSE),\"\"),IFERROR(VLOOKUP(A2629,[1]EventConditionConfig!$B:$D,3,FALSE),\"\"))","v":""},"任务&事件文本"]
[2627,{"$f":"_xlfn.TEXTJOIN(\"\",1,IFERROR(VLOOKUP(A2630,[1]EventConfig!$T:$V,3,FALSE),\"\"),IFERROR(VLOOKUP(A2630,[1]EventConfig!$U:$W,3,FALSE),\"\"),IFERROR(VLOOKUP(A2630,[1]EventLinkConfig!$B:$C,2,FALSE),\"\"),IFERROR(VLOOKUP(A2630,[1]EventLinkConfig!$D:$E,2,FALSE),\"\"),IFERROR(VLOOKUP(A2630,[1]EventLinkConfig!$L:$M,2,FALSE),\"\"),IFERROR(VLOOKUP(A2630,[1]EventLinkConfig!$X:$Y,2,FALSE),\"\"),IFERROR(VLOOKUP(A2630,[1]EventLinkConfig!$AA:$AB,2,FALSE),\"\"),IFERROR(VLOOKUP(A2630,[1]EventConditionConfig!$B:$D,3,FALSE),\"\"))","v":""},"任务&事件文本"]
[2628,{"$f":"_xlfn.TEXTJOIN(\"\",1,IFERROR(VLOOKUP(A2631,[1]EventConfig!$T:$V,3,FALSE),\"\"),IFERROR(VLOOKUP(A2631,[1]EventConfig!$U:$W,3,FALSE),\"\"),IFERROR(VLOOKUP(A2631,[1]EventLinkConfig!$B:$C,2,FALSE),\"\"),IFERROR(VLOOKUP(A2631,[1]EventLinkConfig!$D:$E,2,FALSE),\"\"),IFERROR(VLOOKUP(A2631,[1]EventLinkConfig!$L:$M,2,FALSE),\"\"),IFERROR(VLOOKUP(A2631,[1]EventLinkConfig!$X:$Y,2,FALSE),\"\"),IFERROR(VLOOKUP(A2631,[1]EventLinkConfig!$AA:$AB,2,FALSE),\"\"),IFERROR(VLOOKUP(A2631,[1]EventConditionConfig!$B:$D,3,FALSE),\"\"))","v":""},"任务&事件文本"]
[2629,{"$f":"_xlfn.TEXTJOIN(\"\",1,IFERROR(VLOOKUP(A2632,[1]EventConfig!$T:$V,3,FALSE),\"\"),IFERROR(VLOOKUP(A2632,[1]EventConfig!$U:$W,3,FALSE),\"\"),IFERROR(VLOOKUP(A2632,[1]EventLinkConfig!$B:$C,2,FALSE),\"\"),IFERROR(VLOOKUP(A2632,[1]EventLinkConfig!$D:$E,2,FALSE),\"\"),IFERROR(VLOOKUP(A2632,[1]EventLinkConfig!$L:$M,2,FALSE),\"\"),IFERROR(VLOOKUP(A2632,[1]EventLinkConfig!$X:$Y,2,FALSE),\"\"),IFERROR(VLOOKUP(A2632,[1]EventLinkConfig!$AA:$AB,2,FALSE),\"\"),IFERROR(VLOOKUP(A2632,[1]EventConditionConfig!$B:$D,3,FALSE),\"\"))","v":""},"任务&事件文本"]
[2630,{"$f":"_xlfn.TEXTJOIN(\"\",1,IFERROR(VLOOKUP(A2633,[1]EventConfig!$T:$V,3,FALSE),\"\"),IFERROR(VLOOKUP(A2633,[1]EventConfig!$U:$W,3,FALSE),\"\"),IFERROR(VLOOKUP(A2633,[1]EventLinkConfig!$B:$C,2,FALSE),\"\"),IFERROR(VLOOKUP(A2633,[1]EventLinkConfig!$D:$E,2,FALSE),\"\"),IFERROR(VLOOKUP(A2633,[1]EventLinkConfig!$L:$M,2,FALSE),\"\"),IFERROR(VLOOKUP(A2633,[1]EventLinkConfig!$X:$Y,2,FALSE),\"\"),IFERROR(VLOOKUP(A2633,[1]EventLinkConfig!$AA:$AB,2,FALSE),\"\"),IFERROR(VLOOKUP(A2633,[1]EventConditionConfig!$B:$D,3,FALSE),\"\"))","v":""},"任务&事件文本"]
[2631,{"$f":"_xlfn.TEXTJOIN(\"\",1,IFERROR(VLOOKUP(A2634,[1]EventConfig!$T:$V,3,FALSE),\"\"),IFERROR(VLOOKUP(A2634,[1]EventConfig!$U:$W,3,FALSE),\"\"),IFERROR(VLOOKUP(A2634,[1]EventLinkConfig!$B:$C,2,FALSE),\"\"),IFERROR(VLOOKUP(A2634,[1]EventLinkConfig!$D:$E,2,FALSE),\"\"),IFERROR(VLOOKUP(A2634,[1]EventLinkConfig!$L:$M,2,FALSE),\"\"),IFERROR(VLOOKUP(A2634,[1]EventLinkConfig!$X:$Y,2,FALSE),\"\"),IFERROR(VLOOKUP(A2634,[1]EventLinkConfig!$AA:$AB,2,FALSE),\"\"),IFERROR(VLOOKUP(A2634,[1]EventConditionConfig!$B:$D,3,FALSE),\"\"))","v":""},"任务&事件文本"]
[2632,{"$f":"_xlfn.TEXTJOIN(\"\",1,IFERROR(VLOOKUP(A2635,[1]EventConfig!$T:$V,3,FALSE),\"\"),IFERROR(VLOOKUP(A2635,[1]EventConfig!$U:$W,3,FALSE),\"\"),IFERROR(VLOOKUP(A2635,[1]EventLinkConfig!$B:$C,2,FALSE),\"\"),IFERROR(VLOOKUP(A2635,[1]EventLinkConfig!$D:$E,2,FALSE),\"\"),IFERROR(VLOOKUP(A2635,[1]EventLinkConfig!$L:$M,2,FALSE),\"\"),IFERROR(VLOOKUP(A2635,[1]EventLinkConfig!$X:$Y,2,FALSE),\"\"),IFERROR(VLOOKUP(A2635,[1]EventLinkConfig!$AA:$AB,2,FALSE),\"\"),IFERROR(VLOOKUP(A2635,[1]EventConditionConfig!$B:$D,3,FALSE),\"\"))","v":""},"任务&事件文本"]
[2633,{"$f":"_xlfn.TEXTJOIN(\"\",1,IFERROR(VLOOKUP(A2636,[1]EventConfig!$T:$V,3,FALSE),\"\"),IFERROR(VLOOKUP(A2636,[1]EventConfig!$U:$W,3,FALSE),\"\"),IFERROR(VLOOKUP(A2636,[1]EventLinkConfig!$B:$C,2,FALSE),\"\"),IFERROR(VLOOKUP(A2636,[1]EventLinkConfig!$D:$E,2,FALSE),\"\"),IFERROR(VLOOKUP(A2636,[1]EventLinkConfig!$L:$M,2,FALSE),\"\"),IFERROR(VLOOKUP(A2636,[1]EventLinkConfig!$X:$Y,2,FALSE),\"\"),IFERROR(VLOOKUP(A2636,[1]EventLinkConfig!$AA:$AB,2,FALSE),\"\"),IFERROR(VLOOKUP(A2636,[1]EventConditionConfig!$B:$D,3,FALSE),\"\"))","v":""},"任务&事件文本"]
[2634,{"$f":"_xlfn.TEXTJOIN(\"\",1,IFERROR(VLOOKUP(A2637,[1]EventConfig!$T:$V,3,FALSE),\"\"),IFERROR(VLOOKUP(A2637,[1]EventConfig!$U:$W,3,FALSE),\"\"),IFERROR(VLOOKUP(A2637,[1]EventLinkConfig!$B:$C,2,FALSE),\"\"),IFERROR(VLOOKUP(A2637,[1]EventLinkConfig!$D:$E,2,FALSE),\"\"),IFERROR(VLOOKUP(A2637,[1]EventLinkConfig!$L:$M,2,FALSE),\"\"),IFERROR(VLOOKUP(A2637,[1]EventLinkConfig!$X:$Y,2,FALSE),\"\"),IFERROR(VLOOKUP(A2637,[1]EventLinkConfig!$AA:$AB,2,FALSE),\"\"),IFERROR(VLOOKUP(A2637,[1]EventConditionConfig!$B:$D,3,FALSE),\"\"))","v":""},"任务&事件文本"]
[2635,{"$f":"_xlfn.TEXTJOIN(\"\",1,IFERROR(VLOOKUP(A2638,[1]EventConfig!$T:$V,3,FALSE),\"\"),IFERROR(VLOOKUP(A2638,[1]EventConfig!$U:$W,3,FALSE),\"\"),IFERROR(VLOOKUP(A2638,[1]EventLinkConfig!$B:$C,2,FALSE),\"\"),IFERROR(VLOOKUP(A2638,[1]EventLinkConfig!$D:$E,2,FALSE),\"\"),IFERROR(VLOOKUP(A2638,[1]EventLinkConfig!$L:$M,2,FALSE),\"\"),IFERROR(VLOOKUP(A2638,[1]EventLinkConfig!$X:$Y,2,FALSE),\"\"),IFERROR(VLOOKUP(A2638,[1]EventLinkConfig!$AA:$AB,2,FALSE),\"\"),IFERROR(VLOOKUP(A2638,[1]EventConditionConfig!$B:$D,3,FALSE),\"\"))","v":""},"任务&事件文本"]
[2636,{"$f":"_xlfn.TEXTJOIN(\"\",1,IFERROR(VLOOKUP(A2639,[1]EventConfig!$T:$V,3,FALSE),\"\"),IFERROR(VLOOKUP(A2639,[1]EventConfig!$U:$W,3,FALSE),\"\"),IFERROR(VLOOKUP(A2639,[1]EventLinkConfig!$B:$C,2,FALSE),\"\"),IFERROR(VLOOKUP(A2639,[1]EventLinkConfig!$D:$E,2,FALSE),\"\"),IFERROR(VLOOKUP(A2639,[1]EventLinkConfig!$L:$M,2,FALSE),\"\"),IFERROR(VLOOKUP(A2639,[1]EventLinkConfig!$X:$Y,2,FALSE),\"\"),IFERROR(VLOOKUP(A2639,[1]EventLinkConfig!$AA:$AB,2,FALSE),\"\"),IFERROR(VLOOKUP(A2639,[1]EventConditionConfig!$B:$D,3,FALSE),\"\"))","v":""},"任务&事件文本"]
[2637,{"$f":"_xlfn.TEXTJOIN(\"\",1,IFERROR(VLOOKUP(A2640,[1]EventConfig!$T:$V,3,FALSE),\"\"),IFERROR(VLOOKUP(A2640,[1]EventConfig!$U:$W,3,FALSE),\"\"),IFERROR(VLOOKUP(A2640,[1]EventLinkConfig!$B:$C,2,FALSE),\"\"),IFERROR(VLOOKUP(A2640,[1]EventLinkConfig!$D:$E,2,FALSE),\"\"),IFERROR(VLOOKUP(A2640,[1]EventLinkConfig!$L:$M,2,FALSE),\"\"),IFERROR(VLOOKUP(A2640,[1]EventLinkConfig!$X:$Y,2,FALSE),\"\"),IFERROR(VLOOKUP(A2640,[1]EventLinkConfig!$AA:$AB,2,FALSE),\"\"),IFERROR(VLOOKUP(A2640,[1]EventConditionConfig!$B:$D,3,FALSE),\"\"))","v":""},"任务&事件文本"]
[2638,{"$f":"_xlfn.TEXTJOIN(\"\",1,IFERROR(VLOOKUP(A2641,[1]EventConfig!$T:$V,3,FALSE),\"\"),IFERROR(VLOOKUP(A2641,[1]EventConfig!$U:$W,3,FALSE),\"\"),IFERROR(VLOOKUP(A2641,[1]EventLinkConfig!$B:$C,2,FALSE),\"\"),IFERROR(VLOOKUP(A2641,[1]EventLinkConfig!$D:$E,2,FALSE),\"\"),IFERROR(VLOOKUP(A2641,[1]EventLinkConfig!$L:$M,2,FALSE),\"\"),IFERROR(VLOOKUP(A2641,[1]EventLinkConfig!$X:$Y,2,FALSE),\"\"),IFERROR(VLOOKUP(A2641,[1]EventLinkConfig!$AA:$AB,2,FALSE),\"\"),IFERROR(VLOOKUP(A2641,[1]EventConditionConfig!$B:$D,3,FALSE),\"\"))","v":""},"任务&事件文本"]
[2639,{"$f":"_xlfn.TEXTJOIN(\"\",1,IFERROR(VLOOKUP(A2642,[1]EventConfig!$T:$V,3,FALSE),\"\"),IFERROR(VLOOKUP(A2642,[1]EventConfig!$U:$W,3,FALSE),\"\"),IFERROR(VLOOKUP(A2642,[1]EventLinkConfig!$B:$C,2,FALSE),\"\"),IFERROR(VLOOKUP(A2642,[1]EventLinkConfig!$D:$E,2,FALSE),\"\"),IFERROR(VLOOKUP(A2642,[1]EventLinkConfig!$L:$M,2,FALSE),\"\"),IFERROR(VLOOKUP(A2642,[1]EventLinkConfig!$X:$Y,2,FALSE),\"\"),IFERROR(VLOOKUP(A2642,[1]EventLinkConfig!$AA:$AB,2,FALSE),\"\"),IFERROR(VLOOKUP(A2642,[1]EventConditionConfig!$B:$D,3,FALSE),\"\"))","v":""},"任务&事件文本"]
[2640,{"$f":"_xlfn.TEXTJOIN(\"\",1,IFERROR(VLOOKUP(A2643,[1]EventConfig!$T:$V,3,FALSE),\"\"),IFERROR(VLOOKUP(A2643,[1]EventConfig!$U:$W,3,FALSE),\"\"),IFERROR(VLOOKUP(A2643,[1]EventLinkConfig!$B:$C,2,FALSE),\"\"),IFERROR(VLOOKUP(A2643,[1]EventLinkConfig!$D:$E,2,FALSE),\"\"),IFERROR(VLOOKUP(A2643,[1]EventLinkConfig!$L:$M,2,FALSE),\"\"),IFERROR(VLOOKUP(A2643,[1]EventLinkConfig!$X:$Y,2,FALSE),\"\"),IFERROR(VLOOKUP(A2643,[1]EventLinkConfig!$AA:$AB,2,FALSE),\"\"),IFERROR(VLOOKUP(A2643,[1]EventConditionConfig!$B:$D,3,FALSE),\"\"))","v":""},"任务&事件文本"]
[2641,{"$f":"_xlfn.TEXTJOIN(\"\",1,IFERROR(VLOOKUP(A2644,[1]EventConfig!$T:$V,3,FALSE),\"\"),IFERROR(VLOOKUP(A2644,[1]EventConfig!$U:$W,3,FALSE),\"\"),IFERROR(VLOOKUP(A2644,[1]EventLinkConfig!$B:$C,2,FALSE),\"\"),IFERROR(VLOOKUP(A2644,[1]EventLinkConfig!$D:$E,2,FALSE),\"\"),IFERROR(VLOOKUP(A2644,[1]EventLinkConfig!$L:$M,2,FALSE),\"\"),IFERROR(VLOOKUP(A2644,[1]EventLinkConfig!$X:$Y,2,FALSE),\"\"),IFERROR(VLOOKUP(A2644,[1]EventLinkConfig!$AA:$AB,2,FALSE),\"\"),IFERROR(VLOOKUP(A2644,[1]EventConditionConfig!$B:$D,3,FALSE),\"\"))","v":""},"任务&事件文本"]
[2642,{"$f":"_xlfn.TEXTJOIN(\"\",1,IFERROR(VLOOKUP(A2645,[1]EventConfig!$T:$V,3,FALSE),\"\"),IFERROR(VLOOKUP(A2645,[1]EventConfig!$U:$W,3,FALSE),\"\"),IFERROR(VLOOKUP(A2645,[1]EventLinkConfig!$B:$C,2,FALSE),\"\"),IFERROR(VLOOKUP(A2645,[1]EventLinkConfig!$D:$E,2,FALSE),\"\"),IFERROR(VLOOKUP(A2645,[1]EventLinkConfig!$L:$M,2,FALSE),\"\"),IFERROR(VLOOKUP(A2645,[1]EventLinkConfig!$X:$Y,2,FALSE),\"\"),IFERROR(VLOOKUP(A2645,[1]EventLinkConfig!$AA:$AB,2,FALSE),\"\"),IFERROR(VLOOKUP(A2645,[1]EventConditionConfig!$B:$D,3,FALSE),\"\"))","v":""},"任务&事件文本"]
[2643,{"$f":"_xlfn.TEXTJOIN(\"\",1,IFERROR(VLOOKUP(A2646,[1]EventConfig!$T:$V,3,FALSE),\"\"),IFERROR(VLOOKUP(A2646,[1]EventConfig!$U:$W,3,FALSE),\"\"),IFERROR(VLOOKUP(A2646,[1]EventLinkConfig!$B:$C,2,FALSE),\"\"),IFERROR(VLOOKUP(A2646,[1]EventLinkConfig!$D:$E,2,FALSE),\"\"),IFERROR(VLOOKUP(A2646,[1]EventLinkConfig!$L:$M,2,FALSE),\"\"),IFERROR(VLOOKUP(A2646,[1]EventLinkConfig!$X:$Y,2,FALSE),\"\"),IFERROR(VLOOKUP(A2646,[1]EventLinkConfig!$AA:$AB,2,FALSE),\"\"),IFERROR(VLOOKUP(A2646,[1]EventConditionConfig!$B:$D,3,FALSE),\"\"))","v":""},"任务&事件文本"]
[2644,{"$f":"_xlfn.TEXTJOIN(\"\",1,IFERROR(VLOOKUP(A2647,[1]EventConfig!$T:$V,3,FALSE),\"\"),IFERROR(VLOOKUP(A2647,[1]EventConfig!$U:$W,3,FALSE),\"\"),IFERROR(VLOOKUP(A2647,[1]EventLinkConfig!$B:$C,2,FALSE),\"\"),IFERROR(VLOOKUP(A2647,[1]EventLinkConfig!$D:$E,2,FALSE),\"\"),IFERROR(VLOOKUP(A2647,[1]EventLinkConfig!$L:$M,2,FALSE),\"\"),IFERROR(VLOOKUP(A2647,[1]EventLinkConfig!$X:$Y,2,FALSE),\"\"),IFERROR(VLOOKUP(A2647,[1]EventLinkConfig!$AA:$AB,2,FALSE),\"\"),IFERROR(VLOOKUP(A2647,[1]EventConditionConfig!$B:$D,3,FALSE),\"\"))","v":""},"任务&事件文本"]
[2645,{"$f":"_xlfn.TEXTJOIN(\"\",1,IFERROR(VLOOKUP(A2648,[1]EventConfig!$T:$V,3,FALSE),\"\"),IFERROR(VLOOKUP(A2648,[1]EventConfig!$U:$W,3,FALSE),\"\"),IFERROR(VLOOKUP(A2648,[1]EventLinkConfig!$B:$C,2,FALSE),\"\"),IFERROR(VLOOKUP(A2648,[1]EventLinkConfig!$D:$E,2,FALSE),\"\"),IFERROR(VLOOKUP(A2648,[1]EventLinkConfig!$L:$M,2,FALSE),\"\"),IFERROR(VLOOKUP(A2648,[1]EventLinkConfig!$X:$Y,2,FALSE),\"\"),IFERROR(VLOOKUP(A2648,[1]EventLinkConfig!$AA:$AB,2,FALSE),\"\"),IFERROR(VLOOKUP(A2648,[1]EventConditionConfig!$B:$D,3,FALSE),\"\"))","v":""},"任务&事件文本"]
[2646,{"$f":"_xlfn.TEXTJOIN(\"\",1,IFERROR(VLOOKUP(A2649,[1]EventConfig!$T:$V,3,FALSE),\"\"),IFERROR(VLOOKUP(A2649,[1]EventConfig!$U:$W,3,FALSE),\"\"),IFERROR(VLOOKUP(A2649,[1]EventLinkConfig!$B:$C,2,FALSE),\"\"),IFERROR(VLOOKUP(A2649,[1]EventLinkConfig!$D:$E,2,FALSE),\"\"),IFERROR(VLOOKUP(A2649,[1]EventLinkConfig!$L:$M,2,FALSE),\"\"),IFERROR(VLOOKUP(A2649,[1]EventLinkConfig!$X:$Y,2,FALSE),\"\"),IFERROR(VLOOKUP(A2649,[1]EventLinkConfig!$AA:$AB,2,FALSE),\"\"),IFERROR(VLOOKUP(A2649,[1]EventConditionConfig!$B:$D,3,FALSE),\"\"))","v":""},"任务&事件文本"]
[2647,{"$f":"_xlfn.TEXTJOIN(\"\",1,IFERROR(VLOOKUP(A2650,[1]EventConfig!$T:$V,3,FALSE),\"\"),IFERROR(VLOOKUP(A2650,[1]EventConfig!$U:$W,3,FALSE),\"\"),IFERROR(VLOOKUP(A2650,[1]EventLinkConfig!$B:$C,2,FALSE),\"\"),IFERROR(VLOOKUP(A2650,[1]EventLinkConfig!$D:$E,2,FALSE),\"\"),IFERROR(VLOOKUP(A2650,[1]EventLinkConfig!$L:$M,2,FALSE),\"\"),IFERROR(VLOOKUP(A2650,[1]EventLinkConfig!$X:$Y,2,FALSE),\"\"),IFERROR(VLOOKUP(A2650,[1]EventLinkConfig!$AA:$AB,2,FALSE),\"\"),IFERROR(VLOOKUP(A2650,[1]EventConditionConfig!$B:$D,3,FALSE),\"\"))","v":""},"任务&事件文本"]
[2648,{"$f":"_xlfn.TEXTJOIN(\"\",1,IFERROR(VLOOKUP(A2651,[1]EventConfig!$T:$V,3,FALSE),\"\"),IFERROR(VLOOKUP(A2651,[1]EventConfig!$U:$W,3,FALSE),\"\"),IFERROR(VLOOKUP(A2651,[1]EventLinkConfig!$B:$C,2,FALSE),\"\"),IFERROR(VLOOKUP(A2651,[1]EventLinkConfig!$D:$E,2,FALSE),\"\"),IFERROR(VLOOKUP(A2651,[1]EventLinkConfig!$L:$M,2,FALSE),\"\"),IFERROR(VLOOKUP(A2651,[1]EventLinkConfig!$X:$Y,2,FALSE),\"\"),IFERROR(VLOOKUP(A2651,[1]EventLinkConfig!$AA:$AB,2,FALSE),\"\"),IFERROR(VLOOKUP(A2651,[1]EventConditionConfig!$B:$D,3,FALSE),\"\"))","v":""},"任务&事件文本"]
[2649,{"$f":"_xlfn.TEXTJOIN(\"\",1,IFERROR(VLOOKUP(A2652,[1]EventConfig!$T:$V,3,FALSE),\"\"),IFERROR(VLOOKUP(A2652,[1]EventConfig!$U:$W,3,FALSE),\"\"),IFERROR(VLOOKUP(A2652,[1]EventLinkConfig!$B:$C,2,FALSE),\"\"),IFERROR(VLOOKUP(A2652,[1]EventLinkConfig!$D:$E,2,FALSE),\"\"),IFERROR(VLOOKUP(A2652,[1]EventLinkConfig!$L:$M,2,FALSE),\"\"),IFERROR(VLOOKUP(A2652,[1]EventLinkConfig!$X:$Y,2,FALSE),\"\"),IFERROR(VLOOKUP(A2652,[1]EventLinkConfig!$AA:$AB,2,FALSE),\"\"),IFERROR(VLOOKUP(A2652,[1]EventConditionConfig!$B:$D,3,FALSE),\"\"))","v":""},"任务&事件文本"]
[2650,{"$f":"_xlfn.TEXTJOIN(\"\",1,IFERROR(VLOOKUP(A2653,[1]EventConfig!$T:$V,3,FALSE),\"\"),IFERROR(VLOOKUP(A2653,[1]EventConfig!$U:$W,3,FALSE),\"\"),IFERROR(VLOOKUP(A2653,[1]EventLinkConfig!$B:$C,2,FALSE),\"\"),IFERROR(VLOOKUP(A2653,[1]EventLinkConfig!$D:$E,2,FALSE),\"\"),IFERROR(VLOOKUP(A2653,[1]EventLinkConfig!$L:$M,2,FALSE),\"\"),IFERROR(VLOOKUP(A2653,[1]EventLinkConfig!$X:$Y,2,FALSE),\"\"),IFERROR(VLOOKUP(A2653,[1]EventLinkConfig!$AA:$AB,2,FALSE),\"\"),IFERROR(VLOOKUP(A2653,[1]EventConditionConfig!$B:$D,3,FALSE),\"\"))","v":""},"任务&事件文本"]
[2651,{"$f":"_xlfn.TEXTJOIN(\"\",1,IFERROR(VLOOKUP(A2654,[1]EventConfig!$T:$V,3,FALSE),\"\"),IFERROR(VLOOKUP(A2654,[1]EventConfig!$U:$W,3,FALSE),\"\"),IFERROR(VLOOKUP(A2654,[1]EventLinkConfig!$B:$C,2,FALSE),\"\"),IFERROR(VLOOKUP(A2654,[1]EventLinkConfig!$D:$E,2,FALSE),\"\"),IFERROR(VLOOKUP(A2654,[1]EventLinkConfig!$L:$M,2,FALSE),\"\"),IFERROR(VLOOKUP(A2654,[1]EventLinkConfig!$X:$Y,2,FALSE),\"\"),IFERROR(VLOOKUP(A2654,[1]EventLinkConfig!$AA:$AB,2,FALSE),\"\"),IFERROR(VLOOKUP(A2654,[1]EventConditionConfig!$B:$D,3,FALSE),\"\"))","v":""},"任务&事件文本"]
[2652,{"$f":"_xlfn.TEXTJOIN(\"\",1,IFERROR(VLOOKUP(A2655,[1]EventConfig!$T:$V,3,FALSE),\"\"),IFERROR(VLOOKUP(A2655,[1]EventConfig!$U:$W,3,FALSE),\"\"),IFERROR(VLOOKUP(A2655,[1]EventLinkConfig!$B:$C,2,FALSE),\"\"),IFERROR(VLOOKUP(A2655,[1]EventLinkConfig!$D:$E,2,FALSE),\"\"),IFERROR(VLOOKUP(A2655,[1]EventLinkConfig!$L:$M,2,FALSE),\"\"),IFERROR(VLOOKUP(A2655,[1]EventLinkConfig!$X:$Y,2,FALSE),\"\"),IFERROR(VLOOKUP(A2655,[1]EventLinkConfig!$AA:$AB,2,FALSE),\"\"),IFERROR(VLOOKUP(A2655,[1]EventConditionConfig!$B:$D,3,FALSE),\"\"))","v":""},"任务&事件文本"]
[2653,{"$f":"_xlfn.TEXTJOIN(\"\",1,IFERROR(VLOOKUP(A2656,[1]EventConfig!$T:$V,3,FALSE),\"\"),IFERROR(VLOOKUP(A2656,[1]EventConfig!$U:$W,3,FALSE),\"\"),IFERROR(VLOOKUP(A2656,[1]EventLinkConfig!$B:$C,2,FALSE),\"\"),IFERROR(VLOOKUP(A2656,[1]EventLinkConfig!$D:$E,2,FALSE),\"\"),IFERROR(VLOOKUP(A2656,[1]EventLinkConfig!$L:$M,2,FALSE),\"\"),IFERROR(VLOOKUP(A2656,[1]EventLinkConfig!$X:$Y,2,FALSE),\"\"),IFERROR(VLOOKUP(A2656,[1]EventLinkConfig!$AA:$AB,2,FALSE),\"\"),IFERROR(VLOOKUP(A2656,[1]EventConditionConfig!$B:$D,3,FALSE),\"\"))","v":""},"任务&事件文本"]
[2654,{"$f":"_xlfn.TEXTJOIN(\"\",1,IFERROR(VLOOKUP(A2657,[1]EventConfig!$T:$V,3,FALSE),\"\"),IFERROR(VLOOKUP(A2657,[1]EventConfig!$U:$W,3,FALSE),\"\"),IFERROR(VLOOKUP(A2657,[1]EventLinkConfig!$B:$C,2,FALSE),\"\"),IFERROR(VLOOKUP(A2657,[1]EventLinkConfig!$D:$E,2,FALSE),\"\"),IFERROR(VLOOKUP(A2657,[1]EventLinkConfig!$L:$M,2,FALSE),\"\"),IFERROR(VLOOKUP(A2657,[1]EventLinkConfig!$X:$Y,2,FALSE),\"\"),IFERROR(VLOOKUP(A2657,[1]EventLinkConfig!$AA:$AB,2,FALSE),\"\"),IFERROR(VLOOKUP(A2657,[1]EventConditionConfig!$B:$D,3,FALSE),\"\"))","v":""},"任务&事件文本"]
[2655,{"$f":"_xlfn.TEXTJOIN(\"\",1,IFERROR(VLOOKUP(A2658,[1]EventConfig!$T:$V,3,FALSE),\"\"),IFERROR(VLOOKUP(A2658,[1]EventConfig!$U:$W,3,FALSE),\"\"),IFERROR(VLOOKUP(A2658,[1]EventLinkConfig!$B:$C,2,FALSE),\"\"),IFERROR(VLOOKUP(A2658,[1]EventLinkConfig!$D:$E,2,FALSE),\"\"),IFERROR(VLOOKUP(A2658,[1]EventLinkConfig!$L:$M,2,FALSE),\"\"),IFERROR(VLOOKUP(A2658,[1]EventLinkConfig!$X:$Y,2,FALSE),\"\"),IFERROR(VLOOKUP(A2658,[1]EventLinkConfig!$AA:$AB,2,FALSE),\"\"),IFERROR(VLOOKUP(A2658,[1]EventConditionConfig!$B:$D,3,FALSE),\"\"))","v":""},"任务&事件文本"]
[2656,{"$f":"_xlfn.TEXTJOIN(\"\",1,IFERROR(VLOOKUP(A2659,[1]EventConfig!$T:$V,3,FALSE),\"\"),IFERROR(VLOOKUP(A2659,[1]EventConfig!$U:$W,3,FALSE),\"\"),IFERROR(VLOOKUP(A2659,[1]EventLinkConfig!$B:$C,2,FALSE),\"\"),IFERROR(VLOOKUP(A2659,[1]EventLinkConfig!$D:$E,2,FALSE),\"\"),IFERROR(VLOOKUP(A2659,[1]EventLinkConfig!$L:$M,2,FALSE),\"\"),IFERROR(VLOOKUP(A2659,[1]EventLinkConfig!$X:$Y,2,FALSE),\"\"),IFERROR(VLOOKUP(A2659,[1]EventLinkConfig!$AA:$AB,2,FALSE),\"\"),IFERROR(VLOOKUP(A2659,[1]EventConditionConfig!$B:$D,3,FALSE),\"\"))","v":""},"任务&事件文本"]
[2657,{"$f":"_xlfn.TEXTJOIN(\"\",1,IFERROR(VLOOKUP(A2660,[1]EventConfig!$T:$V,3,FALSE),\"\"),IFERROR(VLOOKUP(A2660,[1]EventConfig!$U:$W,3,FALSE),\"\"),IFERROR(VLOOKUP(A2660,[1]EventLinkConfig!$B:$C,2,FALSE),\"\"),IFERROR(VLOOKUP(A2660,[1]EventLinkConfig!$D:$E,2,FALSE),\"\"),IFERROR(VLOOKUP(A2660,[1]EventLinkConfig!$L:$M,2,FALSE),\"\"),IFERROR(VLOOKUP(A2660,[1]EventLinkConfig!$X:$Y,2,FALSE),\"\"),IFERROR(VLOOKUP(A2660,[1]EventLinkConfig!$AA:$AB,2,FALSE),\"\"),IFERROR(VLOOKUP(A2660,[1]EventConditionConfig!$B:$D,3,FALSE),\"\"))","v":""},"任务&事件文本"]
[2658,{"$f":"_xlfn.TEXTJOIN(\"\",1,IFERROR(VLOOKUP(A2661,[1]EventConfig!$T:$V,3,FALSE),\"\"),IFERROR(VLOOKUP(A2661,[1]EventConfig!$U:$W,3,FALSE),\"\"),IFERROR(VLOOKUP(A2661,[1]EventLinkConfig!$B:$C,2,FALSE),\"\"),IFERROR(VLOOKUP(A2661,[1]EventLinkConfig!$D:$E,2,FALSE),\"\"),IFERROR(VLOOKUP(A2661,[1]EventLinkConfig!$L:$M,2,FALSE),\"\"),IFERROR(VLOOKUP(A2661,[1]EventLinkConfig!$X:$Y,2,FALSE),\"\"),IFERROR(VLOOKUP(A2661,[1]EventLinkConfig!$AA:$AB,2,FALSE),\"\"),IFERROR(VLOOKUP(A2661,[1]EventConditionConfig!$B:$D,3,FALSE),\"\"))","v":""},"任务&事件文本"]
[2659,{"$f":"_xlfn.TEXTJOIN(\"\",1,IFERROR(VLOOKUP(A2662,[1]EventConfig!$T:$V,3,FALSE),\"\"),IFERROR(VLOOKUP(A2662,[1]EventConfig!$U:$W,3,FALSE),\"\"),IFERROR(VLOOKUP(A2662,[1]EventLinkConfig!$B:$C,2,FALSE),\"\"),IFERROR(VLOOKUP(A2662,[1]EventLinkConfig!$D:$E,2,FALSE),\"\"),IFERROR(VLOOKUP(A2662,[1]EventLinkConfig!$L:$M,2,FALSE),\"\"),IFERROR(VLOOKUP(A2662,[1]EventLinkConfig!$X:$Y,2,FALSE),\"\"),IFERROR(VLOOKUP(A2662,[1]EventLinkConfig!$AA:$AB,2,FALSE),\"\"),IFERROR(VLOOKUP(A2662,[1]EventConditionConfig!$B:$D,3,FALSE),\"\"))","v":""},"任务&事件文本"]
[2660,{"$f":"_xlfn.TEXTJOIN(\"\",1,IFERROR(VLOOKUP(A2663,[1]EventConfig!$T:$V,3,FALSE),\"\"),IFERROR(VLOOKUP(A2663,[1]EventConfig!$U:$W,3,FALSE),\"\"),IFERROR(VLOOKUP(A2663,[1]EventLinkConfig!$B:$C,2,FALSE),\"\"),IFERROR(VLOOKUP(A2663,[1]EventLinkConfig!$D:$E,2,FALSE),\"\"),IFERROR(VLOOKUP(A2663,[1]EventLinkConfig!$L:$M,2,FALSE),\"\"),IFERROR(VLOOKUP(A2663,[1]EventLinkConfig!$X:$Y,2,FALSE),\"\"),IFERROR(VLOOKUP(A2663,[1]EventLinkConfig!$AA:$AB,2,FALSE),\"\"),IFERROR(VLOOKUP(A2663,[1]EventConditionConfig!$B:$D,3,FALSE),\"\"))","v":""},"任务&事件文本"]
[2661,{"$f":"_xlfn.TEXTJOIN(\"\",1,IFERROR(VLOOKUP(A2664,[1]EventConfig!$T:$V,3,FALSE),\"\"),IFERROR(VLOOKUP(A2664,[1]EventConfig!$U:$W,3,FALSE),\"\"),IFERROR(VLOOKUP(A2664,[1]EventLinkConfig!$B:$C,2,FALSE),\"\"),IFERROR(VLOOKUP(A2664,[1]EventLinkConfig!$D:$E,2,FALSE),\"\"),IFERROR(VLOOKUP(A2664,[1]EventLinkConfig!$L:$M,2,FALSE),\"\"),IFERROR(VLOOKUP(A2664,[1]EventLinkConfig!$X:$Y,2,FALSE),\"\"),IFERROR(VLOOKUP(A2664,[1]EventLinkConfig!$AA:$AB,2,FALSE),\"\"),IFERROR(VLOOKUP(A2664,[1]EventConditionConfig!$B:$D,3,FALSE),\"\"))","v":""},"任务&事件文本"]
[2662,{"$f":"_xlfn.TEXTJOIN(\"\",1,IFERROR(VLOOKUP(A2665,[1]EventConfig!$T:$V,3,FALSE),\"\"),IFERROR(VLOOKUP(A2665,[1]EventConfig!$U:$W,3,FALSE),\"\"),IFERROR(VLOOKUP(A2665,[1]EventLinkConfig!$B:$C,2,FALSE),\"\"),IFERROR(VLOOKUP(A2665,[1]EventLinkConfig!$D:$E,2,FALSE),\"\"),IFERROR(VLOOKUP(A2665,[1]EventLinkConfig!$L:$M,2,FALSE),\"\"),IFERROR(VLOOKUP(A2665,[1]EventLinkConfig!$X:$Y,2,FALSE),\"\"),IFERROR(VLOOKUP(A2665,[1]EventLinkConfig!$AA:$AB,2,FALSE),\"\"),IFERROR(VLOOKUP(A2665,[1]EventConditionConfig!$B:$D,3,FALSE),\"\"))","v":""},"任务&事件文本"]
[2663,{"$f":"_xlfn.TEXTJOIN(\"\",1,IFERROR(VLOOKUP(A2666,[1]EventConfig!$T:$V,3,FALSE),\"\"),IFERROR(VLOOKUP(A2666,[1]EventConfig!$U:$W,3,FALSE),\"\"),IFERROR(VLOOKUP(A2666,[1]EventLinkConfig!$B:$C,2,FALSE),\"\"),IFERROR(VLOOKUP(A2666,[1]EventLinkConfig!$D:$E,2,FALSE),\"\"),IFERROR(VLOOKUP(A2666,[1]EventLinkConfig!$L:$M,2,FALSE),\"\"),IFERROR(VLOOKUP(A2666,[1]EventLinkConfig!$X:$Y,2,FALSE),\"\"),IFERROR(VLOOKUP(A2666,[1]EventLinkConfig!$AA:$AB,2,FALSE),\"\"),IFERROR(VLOOKUP(A2666,[1]EventConditionConfig!$B:$D,3,FALSE),\"\"))","v":""},"任务&事件文本"]
[2664,{"$f":"_xlfn.TEXTJOIN(\"\",1,IFERROR(VLOOKUP(A2667,[1]EventConfig!$T:$V,3,FALSE),\"\"),IFERROR(VLOOKUP(A2667,[1]EventConfig!$U:$W,3,FALSE),\"\"),IFERROR(VLOOKUP(A2667,[1]EventLinkConfig!$B:$C,2,FALSE),\"\"),IFERROR(VLOOKUP(A2667,[1]EventLinkConfig!$D:$E,2,FALSE),\"\"),IFERROR(VLOOKUP(A2667,[1]EventLinkConfig!$L:$M,2,FALSE),\"\"),IFERROR(VLOOKUP(A2667,[1]EventLinkConfig!$X:$Y,2,FALSE),\"\"),IFERROR(VLOOKUP(A2667,[1]EventLinkConfig!$AA:$AB,2,FALSE),\"\"),IFERROR(VLOOKUP(A2667,[1]EventConditionConfig!$B:$D,3,FALSE),\"\"))","v":""},"任务&事件文本"]
[2665,{"$f":"_xlfn.TEXTJOIN(\"\",1,IFERROR(VLOOKUP(A2668,[1]EventConfig!$T:$V,3,FALSE),\"\"),IFERROR(VLOOKUP(A2668,[1]EventConfig!$U:$W,3,FALSE),\"\"),IFERROR(VLOOKUP(A2668,[1]EventLinkConfig!$B:$C,2,FALSE),\"\"),IFERROR(VLOOKUP(A2668,[1]EventLinkConfig!$D:$E,2,FALSE),\"\"),IFERROR(VLOOKUP(A2668,[1]EventLinkConfig!$L:$M,2,FALSE),\"\"),IFERROR(VLOOKUP(A2668,[1]EventLinkConfig!$X:$Y,2,FALSE),\"\"),IFERROR(VLOOKUP(A2668,[1]EventLinkConfig!$AA:$AB,2,FALSE),\"\"),IFERROR(VLOOKUP(A2668,[1]EventConditionConfig!$B:$D,3,FALSE),\"\"))","v":""},"任务&事件文本"]
[2666,{"$f":"_xlfn.TEXTJOIN(\"\",1,IFERROR(VLOOKUP(A2669,[1]EventConfig!$T:$V,3,FALSE),\"\"),IFERROR(VLOOKUP(A2669,[1]EventConfig!$U:$W,3,FALSE),\"\"),IFERROR(VLOOKUP(A2669,[1]EventLinkConfig!$B:$C,2,FALSE),\"\"),IFERROR(VLOOKUP(A2669,[1]EventLinkConfig!$D:$E,2,FALSE),\"\"),IFERROR(VLOOKUP(A2669,[1]EventLinkConfig!$L:$M,2,FALSE),\"\"),IFERROR(VLOOKUP(A2669,[1]EventLinkConfig!$X:$Y,2,FALSE),\"\"),IFERROR(VLOOKUP(A2669,[1]EventLinkConfig!$AA:$AB,2,FALSE),\"\"),IFERROR(VLOOKUP(A2669,[1]EventConditionConfig!$B:$D,3,FALSE),\"\"))","v":""},"任务&事件文本"]
[2667,{"$f":"_xlfn.TEXTJOIN(\"\",1,IFERROR(VLOOKUP(A2670,[1]EventConfig!$T:$V,3,FALSE),\"\"),IFERROR(VLOOKUP(A2670,[1]EventConfig!$U:$W,3,FALSE),\"\"),IFERROR(VLOOKUP(A2670,[1]EventLinkConfig!$B:$C,2,FALSE),\"\"),IFERROR(VLOOKUP(A2670,[1]EventLinkConfig!$D:$E,2,FALSE),\"\"),IFERROR(VLOOKUP(A2670,[1]EventLinkConfig!$L:$M,2,FALSE),\"\"),IFERROR(VLOOKUP(A2670,[1]EventLinkConfig!$X:$Y,2,FALSE),\"\"),IFERROR(VLOOKUP(A2670,[1]EventLinkConfig!$AA:$AB,2,FALSE),\"\"),IFERROR(VLOOKUP(A2670,[1]EventConditionConfig!$B:$D,3,FALSE),\"\"))","v":""},"任务&事件文本"]
[2668,{"$f":"_xlfn.TEXTJOIN(\"\",1,IFERROR(VLOOKUP(A2671,[1]EventConfig!$T:$V,3,FALSE),\"\"),IFERROR(VLOOKUP(A2671,[1]EventConfig!$U:$W,3,FALSE),\"\"),IFERROR(VLOOKUP(A2671,[1]EventLinkConfig!$B:$C,2,FALSE),\"\"),IFERROR(VLOOKUP(A2671,[1]EventLinkConfig!$D:$E,2,FALSE),\"\"),IFERROR(VLOOKUP(A2671,[1]EventLinkConfig!$L:$M,2,FALSE),\"\"),IFERROR(VLOOKUP(A2671,[1]EventLinkConfig!$X:$Y,2,FALSE),\"\"),IFERROR(VLOOKUP(A2671,[1]EventLinkConfig!$AA:$AB,2,FALSE),\"\"),IFERROR(VLOOKUP(A2671,[1]EventConditionConfig!$B:$D,3,FALSE),\"\"))","v":""},"任务&事件文本"]
[2669,{"$f":"_xlfn.TEXTJOIN(\"\",1,IFERROR(VLOOKUP(A2672,[1]EventConfig!$T:$V,3,FALSE),\"\"),IFERROR(VLOOKUP(A2672,[1]EventConfig!$U:$W,3,FALSE),\"\"),IFERROR(VLOOKUP(A2672,[1]EventLinkConfig!$B:$C,2,FALSE),\"\"),IFERROR(VLOOKUP(A2672,[1]EventLinkConfig!$D:$E,2,FALSE),\"\"),IFERROR(VLOOKUP(A2672,[1]EventLinkConfig!$L:$M,2,FALSE),\"\"),IFERROR(VLOOKUP(A2672,[1]EventLinkConfig!$X:$Y,2,FALSE),\"\"),IFERROR(VLOOKUP(A2672,[1]EventLinkConfig!$AA:$AB,2,FALSE),\"\"),IFERROR(VLOOKUP(A2672,[1]EventConditionConfig!$B:$D,3,FALSE),\"\"))","v":""},"任务&事件文本"]
[2670,{"$f":"_xlfn.TEXTJOIN(\"\",1,IFERROR(VLOOKUP(A2673,[1]EventConfig!$T:$V,3,FALSE),\"\"),IFERROR(VLOOKUP(A2673,[1]EventConfig!$U:$W,3,FALSE),\"\"),IFERROR(VLOOKUP(A2673,[1]EventLinkConfig!$B:$C,2,FALSE),\"\"),IFERROR(VLOOKUP(A2673,[1]EventLinkConfig!$D:$E,2,FALSE),\"\"),IFERROR(VLOOKUP(A2673,[1]EventLinkConfig!$L:$M,2,FALSE),\"\"),IFERROR(VLOOKUP(A2673,[1]EventLinkConfig!$X:$Y,2,FALSE),\"\"),IFERROR(VLOOKUP(A2673,[1]EventLinkConfig!$AA:$AB,2,FALSE),\"\"),IFERROR(VLOOKUP(A2673,[1]EventConditionConfig!$B:$D,3,FALSE),\"\"))","v":""},"任务&事件文本"]
[2671,{"$f":"_xlfn.TEXTJOIN(\"\",1,IFERROR(VLOOKUP(A2674,[1]EventConfig!$T:$V,3,FALSE),\"\"),IFERROR(VLOOKUP(A2674,[1]EventConfig!$U:$W,3,FALSE),\"\"),IFERROR(VLOOKUP(A2674,[1]EventLinkConfig!$B:$C,2,FALSE),\"\"),IFERROR(VLOOKUP(A2674,[1]EventLinkConfig!$D:$E,2,FALSE),\"\"),IFERROR(VLOOKUP(A2674,[1]EventLinkConfig!$L:$M,2,FALSE),\"\"),IFERROR(VLOOKUP(A2674,[1]EventLinkConfig!$X:$Y,2,FALSE),\"\"),IFERROR(VLOOKUP(A2674,[1]EventLinkConfig!$AA:$AB,2,FALSE),\"\"),IFERROR(VLOOKUP(A2674,[1]EventConditionConfig!$B:$D,3,FALSE),\"\"))","v":""},"任务&事件文本"]
[2672,{"$f":"_xlfn.TEXTJOIN(\"\",1,IFERROR(VLOOKUP(A2675,[1]EventConfig!$T:$V,3,FALSE),\"\"),IFERROR(VLOOKUP(A2675,[1]EventConfig!$U:$W,3,FALSE),\"\"),IFERROR(VLOOKUP(A2675,[1]EventLinkConfig!$B:$C,2,FALSE),\"\"),IFERROR(VLOOKUP(A2675,[1]EventLinkConfig!$D:$E,2,FALSE),\"\"),IFERROR(VLOOKUP(A2675,[1]EventLinkConfig!$L:$M,2,FALSE),\"\"),IFERROR(VLOOKUP(A2675,[1]EventLinkConfig!$X:$Y,2,FALSE),\"\"),IFERROR(VLOOKUP(A2675,[1]EventLinkConfig!$AA:$AB,2,FALSE),\"\"),IFERROR(VLOOKUP(A2675,[1]EventConditionConfig!$B:$D,3,FALSE),\"\"))","v":""},"任务&事件文本"]
[2673,{"$f":"_xlfn.TEXTJOIN(\"\",1,IFERROR(VLOOKUP(A2676,[1]EventConfig!$T:$V,3,FALSE),\"\"),IFERROR(VLOOKUP(A2676,[1]EventConfig!$U:$W,3,FALSE),\"\"),IFERROR(VLOOKUP(A2676,[1]EventLinkConfig!$B:$C,2,FALSE),\"\"),IFERROR(VLOOKUP(A2676,[1]EventLinkConfig!$D:$E,2,FALSE),\"\"),IFERROR(VLOOKUP(A2676,[1]EventLinkConfig!$L:$M,2,FALSE),\"\"),IFERROR(VLOOKUP(A2676,[1]EventLinkConfig!$X:$Y,2,FALSE),\"\"),IFERROR(VLOOKUP(A2676,[1]EventLinkConfig!$AA:$AB,2,FALSE),\"\"),IFERROR(VLOOKUP(A2676,[1]EventConditionConfig!$B:$D,3,FALSE),\"\"))","v":""},"任务&事件文本"]
[2674,{"$f":"_xlfn.TEXTJOIN(\"\",1,IFERROR(VLOOKUP(A2677,[1]EventConfig!$T:$V,3,FALSE),\"\"),IFERROR(VLOOKUP(A2677,[1]EventConfig!$U:$W,3,FALSE),\"\"),IFERROR(VLOOKUP(A2677,[1]EventLinkConfig!$B:$C,2,FALSE),\"\"),IFERROR(VLOOKUP(A2677,[1]EventLinkConfig!$D:$E,2,FALSE),\"\"),IFERROR(VLOOKUP(A2677,[1]EventLinkConfig!$L:$M,2,FALSE),\"\"),IFERROR(VLOOKUP(A2677,[1]EventLinkConfig!$X:$Y,2,FALSE),\"\"),IFERROR(VLOOKUP(A2677,[1]EventLinkConfig!$AA:$AB,2,FALSE),\"\"),IFERROR(VLOOKUP(A2677,[1]EventConditionConfig!$B:$D,3,FALSE),\"\"))","v":""},"任务&事件文本"]
[2675,{"$f":"_xlfn.TEXTJOIN(\"\",1,IFERROR(VLOOKUP(A2678,[1]EventConfig!$T:$V,3,FALSE),\"\"),IFERROR(VLOOKUP(A2678,[1]EventConfig!$U:$W,3,FALSE),\"\"),IFERROR(VLOOKUP(A2678,[1]EventLinkConfig!$B:$C,2,FALSE),\"\"),IFERROR(VLOOKUP(A2678,[1]EventLinkConfig!$D:$E,2,FALSE),\"\"),IFERROR(VLOOKUP(A2678,[1]EventLinkConfig!$L:$M,2,FALSE),\"\"),IFERROR(VLOOKUP(A2678,[1]EventLinkConfig!$X:$Y,2,FALSE),\"\"),IFERROR(VLOOKUP(A2678,[1]EventLinkConfig!$AA:$AB,2,FALSE),\"\"),IFERROR(VLOOKUP(A2678,[1]EventConditionConfig!$B:$D,3,FALSE),\"\"))","v":""},"任务&事件文本"]
[2676,{"$f":"_xlfn.TEXTJOIN(\"\",1,IFERROR(VLOOKUP(A2679,[1]EventConfig!$T:$V,3,FALSE),\"\"),IFERROR(VLOOKUP(A2679,[1]EventConfig!$U:$W,3,FALSE),\"\"),IFERROR(VLOOKUP(A2679,[1]EventLinkConfig!$B:$C,2,FALSE),\"\"),IFERROR(VLOOKUP(A2679,[1]EventLinkConfig!$D:$E,2,FALSE),\"\"),IFERROR(VLOOKUP(A2679,[1]EventLinkConfig!$L:$M,2,FALSE),\"\"),IFERROR(VLOOKUP(A2679,[1]EventLinkConfig!$X:$Y,2,FALSE),\"\"),IFERROR(VLOOKUP(A2679,[1]EventLinkConfig!$AA:$AB,2,FALSE),\"\"),IFERROR(VLOOKUP(A2679,[1]EventConditionConfig!$B:$D,3,FALSE),\"\"))","v":""},"任务&事件文本"]
[2677,{"$f":"_xlfn.TEXTJOIN(\"\",1,IFERROR(VLOOKUP(A2680,[1]EventConfig!$T:$V,3,FALSE),\"\"),IFERROR(VLOOKUP(A2680,[1]EventConfig!$U:$W,3,FALSE),\"\"),IFERROR(VLOOKUP(A2680,[1]EventLinkConfig!$B:$C,2,FALSE),\"\"),IFERROR(VLOOKUP(A2680,[1]EventLinkConfig!$D:$E,2,FALSE),\"\"),IFERROR(VLOOKUP(A2680,[1]EventLinkConfig!$L:$M,2,FALSE),\"\"),IFERROR(VLOOKUP(A2680,[1]EventLinkConfig!$X:$Y,2,FALSE),\"\"),IFERROR(VLOOKUP(A2680,[1]EventLinkConfig!$AA:$AB,2,FALSE),\"\"),IFERROR(VLOOKUP(A2680,[1]EventConditionConfig!$B:$D,3,FALSE),\"\"))","v":""},"任务&事件文本"]
[2678,{"$f":"_xlfn.TEXTJOIN(\"\",1,IFERROR(VLOOKUP(A2681,[1]EventConfig!$T:$V,3,FALSE),\"\"),IFERROR(VLOOKUP(A2681,[1]EventConfig!$U:$W,3,FALSE),\"\"),IFERROR(VLOOKUP(A2681,[1]EventLinkConfig!$B:$C,2,FALSE),\"\"),IFERROR(VLOOKUP(A2681,[1]EventLinkConfig!$D:$E,2,FALSE),\"\"),IFERROR(VLOOKUP(A2681,[1]EventLinkConfig!$L:$M,2,FALSE),\"\"),IFERROR(VLOOKUP(A2681,[1]EventLinkConfig!$X:$Y,2,FALSE),\"\"),IFERROR(VLOOKUP(A2681,[1]EventLinkConfig!$AA:$AB,2,FALSE),\"\"),IFERROR(VLOOKUP(A2681,[1]EventConditionConfig!$B:$D,3,FALSE),\"\"))","v":""},"任务&事件文本"]
[2679,{"$f":"_xlfn.TEXTJOIN(\"\",1,IFERROR(VLOOKUP(A2682,[1]EventConfig!$T:$V,3,FALSE),\"\"),IFERROR(VLOOKUP(A2682,[1]EventConfig!$U:$W,3,FALSE),\"\"),IFERROR(VLOOKUP(A2682,[1]EventLinkConfig!$B:$C,2,FALSE),\"\"),IFERROR(VLOOKUP(A2682,[1]EventLinkConfig!$D:$E,2,FALSE),\"\"),IFERROR(VLOOKUP(A2682,[1]EventLinkConfig!$L:$M,2,FALSE),\"\"),IFERROR(VLOOKUP(A2682,[1]EventLinkConfig!$X:$Y,2,FALSE),\"\"),IFERROR(VLOOKUP(A2682,[1]EventLinkConfig!$AA:$AB,2,FALSE),\"\"),IFERROR(VLOOKUP(A2682,[1]EventConditionConfig!$B:$D,3,FALSE),\"\"))","v":""},"任务&事件文本"]
[2680,{"$f":"_xlfn.TEXTJOIN(\"\",1,IFERROR(VLOOKUP(A2683,[1]EventConfig!$T:$V,3,FALSE),\"\"),IFERROR(VLOOKUP(A2683,[1]EventConfig!$U:$W,3,FALSE),\"\"),IFERROR(VLOOKUP(A2683,[1]EventLinkConfig!$B:$C,2,FALSE),\"\"),IFERROR(VLOOKUP(A2683,[1]EventLinkConfig!$D:$E,2,FALSE),\"\"),IFERROR(VLOOKUP(A2683,[1]EventLinkConfig!$L:$M,2,FALSE),\"\"),IFERROR(VLOOKUP(A2683,[1]EventLinkConfig!$X:$Y,2,FALSE),\"\"),IFERROR(VLOOKUP(A2683,[1]EventLinkConfig!$AA:$AB,2,FALSE),\"\"),IFERROR(VLOOKUP(A2683,[1]EventConditionConfig!$B:$D,3,FALSE),\"\"))","v":""},"任务&事件文本"]
[2681,{"$f":"_xlfn.TEXTJOIN(\"\",1,IFERROR(VLOOKUP(A2684,[1]EventConfig!$T:$V,3,FALSE),\"\"),IFERROR(VLOOKUP(A2684,[1]EventConfig!$U:$W,3,FALSE),\"\"),IFERROR(VLOOKUP(A2684,[1]EventLinkConfig!$B:$C,2,FALSE),\"\"),IFERROR(VLOOKUP(A2684,[1]EventLinkConfig!$D:$E,2,FALSE),\"\"),IFERROR(VLOOKUP(A2684,[1]EventLinkConfig!$L:$M,2,FALSE),\"\"),IFERROR(VLOOKUP(A2684,[1]EventLinkConfig!$X:$Y,2,FALSE),\"\"),IFERROR(VLOOKUP(A2684,[1]EventLinkConfig!$AA:$AB,2,FALSE),\"\"),IFERROR(VLOOKUP(A2684,[1]EventConditionConfig!$B:$D,3,FALSE),\"\"))","v":""},"任务&事件文本"]
[2682,{"$f":"_xlfn.TEXTJOIN(\"\",1,IFERROR(VLOOKUP(A2685,[1]EventConfig!$T:$V,3,FALSE),\"\"),IFERROR(VLOOKUP(A2685,[1]EventConfig!$U:$W,3,FALSE),\"\"),IFERROR(VLOOKUP(A2685,[1]EventLinkConfig!$B:$C,2,FALSE),\"\"),IFERROR(VLOOKUP(A2685,[1]EventLinkConfig!$D:$E,2,FALSE),\"\"),IFERROR(VLOOKUP(A2685,[1]EventLinkConfig!$L:$M,2,FALSE),\"\"),IFERROR(VLOOKUP(A2685,[1]EventLinkConfig!$X:$Y,2,FALSE),\"\"),IFERROR(VLOOKUP(A2685,[1]EventLinkConfig!$AA:$AB,2,FALSE),\"\"),IFERROR(VLOOKUP(A2685,[1]EventConditionConfig!$B:$D,3,FALSE),\"\"))","v":""},"任务&事件文本"]
[2683,{"$f":"_xlfn.TEXTJOIN(\"\",1,IFERROR(VLOOKUP(A2686,[1]EventConfig!$T:$V,3,FALSE),\"\"),IFERROR(VLOOKUP(A2686,[1]EventConfig!$U:$W,3,FALSE),\"\"),IFERROR(VLOOKUP(A2686,[1]EventLinkConfig!$B:$C,2,FALSE),\"\"),IFERROR(VLOOKUP(A2686,[1]EventLinkConfig!$D:$E,2,FALSE),\"\"),IFERROR(VLOOKUP(A2686,[1]EventLinkConfig!$L:$M,2,FALSE),\"\"),IFERROR(VLOOKUP(A2686,[1]EventLinkConfig!$X:$Y,2,FALSE),\"\"),IFERROR(VLOOKUP(A2686,[1]EventLinkConfig!$AA:$AB,2,FALSE),\"\"),IFERROR(VLOOKUP(A2686,[1]EventConditionConfig!$B:$D,3,FALSE),\"\"))","v":""},"任务&事件文本"]
[2684,{"$f":"_xlfn.TEXTJOIN(\"\",1,IFERROR(VLOOKUP(A2687,[1]EventConfig!$T:$V,3,FALSE),\"\"),IFERROR(VLOOKUP(A2687,[1]EventConfig!$U:$W,3,FALSE),\"\"),IFERROR(VLOOKUP(A2687,[1]EventLinkConfig!$B:$C,2,FALSE),\"\"),IFERROR(VLOOKUP(A2687,[1]EventLinkConfig!$D:$E,2,FALSE),\"\"),IFERROR(VLOOKUP(A2687,[1]EventLinkConfig!$L:$M,2,FALSE),\"\"),IFERROR(VLOOKUP(A2687,[1]EventLinkConfig!$X:$Y,2,FALSE),\"\"),IFERROR(VLOOKUP(A2687,[1]EventLinkConfig!$AA:$AB,2,FALSE),\"\"),IFERROR(VLOOKUP(A2687,[1]EventConditionConfig!$B:$D,3,FALSE),\"\"))","v":""},"任务&事件文本"]
[2685,{"$f":"_xlfn.TEXTJOIN(\"\",1,IFERROR(VLOOKUP(A2688,[1]EventConfig!$T:$V,3,FALSE),\"\"),IFERROR(VLOOKUP(A2688,[1]EventConfig!$U:$W,3,FALSE),\"\"),IFERROR(VLOOKUP(A2688,[1]EventLinkConfig!$B:$C,2,FALSE),\"\"),IFERROR(VLOOKUP(A2688,[1]EventLinkConfig!$D:$E,2,FALSE),\"\"),IFERROR(VLOOKUP(A2688,[1]EventLinkConfig!$L:$M,2,FALSE),\"\"),IFERROR(VLOOKUP(A2688,[1]EventLinkConfig!$X:$Y,2,FALSE),\"\"),IFERROR(VLOOKUP(A2688,[1]EventLinkConfig!$AA:$AB,2,FALSE),\"\"),IFERROR(VLOOKUP(A2688,[1]EventConditionConfig!$B:$D,3,FALSE),\"\"))","v":""},"任务&事件文本"]
[2686,{"$f":"_xlfn.TEXTJOIN(\"\",1,IFERROR(VLOOKUP(A2689,[1]EventConfig!$T:$V,3,FALSE),\"\"),IFERROR(VLOOKUP(A2689,[1]EventConfig!$U:$W,3,FALSE),\"\"),IFERROR(VLOOKUP(A2689,[1]EventLinkConfig!$B:$C,2,FALSE),\"\"),IFERROR(VLOOKUP(A2689,[1]EventLinkConfig!$D:$E,2,FALSE),\"\"),IFERROR(VLOOKUP(A2689,[1]EventLinkConfig!$L:$M,2,FALSE),\"\"),IFERROR(VLOOKUP(A2689,[1]EventLinkConfig!$X:$Y,2,FALSE),\"\"),IFERROR(VLOOKUP(A2689,[1]EventLinkConfig!$AA:$AB,2,FALSE),\"\"),IFERROR(VLOOKUP(A2689,[1]EventConditionConfig!$B:$D,3,FALSE),\"\"))","v":""},"任务&事件文本"]
[2687,{"$f":"_xlfn.TEXTJOIN(\"\",1,IFERROR(VLOOKUP(A2690,[1]EventConfig!$T:$V,3,FALSE),\"\"),IFERROR(VLOOKUP(A2690,[1]EventConfig!$U:$W,3,FALSE),\"\"),IFERROR(VLOOKUP(A2690,[1]EventLinkConfig!$B:$C,2,FALSE),\"\"),IFERROR(VLOOKUP(A2690,[1]EventLinkConfig!$D:$E,2,FALSE),\"\"),IFERROR(VLOOKUP(A2690,[1]EventLinkConfig!$L:$M,2,FALSE),\"\"),IFERROR(VLOOKUP(A2690,[1]EventLinkConfig!$X:$Y,2,FALSE),\"\"),IFERROR(VLOOKUP(A2690,[1]EventLinkConfig!$AA:$AB,2,FALSE),\"\"),IFERROR(VLOOKUP(A2690,[1]EventConditionConfig!$B:$D,3,FALSE),\"\"))","v":""},"任务&事件文本"]
[2688,{"$f":"_xlfn.TEXTJOIN(\"\",1,IFERROR(VLOOKUP(A2691,[1]EventConfig!$T:$V,3,FALSE),\"\"),IFERROR(VLOOKUP(A2691,[1]EventConfig!$U:$W,3,FALSE),\"\"),IFERROR(VLOOKUP(A2691,[1]EventLinkConfig!$B:$C,2,FALSE),\"\"),IFERROR(VLOOKUP(A2691,[1]EventLinkConfig!$D:$E,2,FALSE),\"\"),IFERROR(VLOOKUP(A2691,[1]EventLinkConfig!$L:$M,2,FALSE),\"\"),IFERROR(VLOOKUP(A2691,[1]EventLinkConfig!$X:$Y,2,FALSE),\"\"),IFERROR(VLOOKUP(A2691,[1]EventLinkConfig!$AA:$AB,2,FALSE),\"\"),IFERROR(VLOOKUP(A2691,[1]EventConditionConfig!$B:$D,3,FALSE),\"\"))","v":""},"任务&事件文本"]
[2689,{"$f":"_xlfn.TEXTJOIN(\"\",1,IFERROR(VLOOKUP(A2692,[1]EventConfig!$T:$V,3,FALSE),\"\"),IFERROR(VLOOKUP(A2692,[1]EventConfig!$U:$W,3,FALSE),\"\"),IFERROR(VLOOKUP(A2692,[1]EventLinkConfig!$B:$C,2,FALSE),\"\"),IFERROR(VLOOKUP(A2692,[1]EventLinkConfig!$D:$E,2,FALSE),\"\"),IFERROR(VLOOKUP(A2692,[1]EventLinkConfig!$L:$M,2,FALSE),\"\"),IFERROR(VLOOKUP(A2692,[1]EventLinkConfig!$X:$Y,2,FALSE),\"\"),IFERROR(VLOOKUP(A2692,[1]EventLinkConfig!$AA:$AB,2,FALSE),\"\"),IFERROR(VLOOKUP(A2692,[1]EventConditionConfig!$B:$D,3,FALSE),\"\"))","v":""},"任务&事件文本"]
[2690,{"$f":"_xlfn.TEXTJOIN(\"\",1,IFERROR(VLOOKUP(A2693,[1]EventConfig!$T:$V,3,FALSE),\"\"),IFERROR(VLOOKUP(A2693,[1]EventConfig!$U:$W,3,FALSE),\"\"),IFERROR(VLOOKUP(A2693,[1]EventLinkConfig!$B:$C,2,FALSE),\"\"),IFERROR(VLOOKUP(A2693,[1]EventLinkConfig!$D:$E,2,FALSE),\"\"),IFERROR(VLOOKUP(A2693,[1]EventLinkConfig!$L:$M,2,FALSE),\"\"),IFERROR(VLOOKUP(A2693,[1]EventLinkConfig!$X:$Y,2,FALSE),\"\"),IFERROR(VLOOKUP(A2693,[1]EventLinkConfig!$AA:$AB,2,FALSE),\"\"),IFERROR(VLOOKUP(A2693,[1]EventConditionConfig!$B:$D,3,FALSE),\"\"))","v":""},"任务&事件文本"]
[2691,{"$f":"_xlfn.TEXTJOIN(\"\",1,IFERROR(VLOOKUP(A2694,[1]EventConfig!$T:$V,3,FALSE),\"\"),IFERROR(VLOOKUP(A2694,[1]EventConfig!$U:$W,3,FALSE),\"\"),IFERROR(VLOOKUP(A2694,[1]EventLinkConfig!$B:$C,2,FALSE),\"\"),IFERROR(VLOOKUP(A2694,[1]EventLinkConfig!$D:$E,2,FALSE),\"\"),IFERROR(VLOOKUP(A2694,[1]EventLinkConfig!$L:$M,2,FALSE),\"\"),IFERROR(VLOOKUP(A2694,[1]EventLinkConfig!$X:$Y,2,FALSE),\"\"),IFERROR(VLOOKUP(A2694,[1]EventLinkConfig!$AA:$AB,2,FALSE),\"\"),IFERROR(VLOOKUP(A2694,[1]EventConditionConfig!$B:$D,3,FALSE),\"\"))","v":""},"任务&事件文本"]
[2692,{"$f":"_xlfn.TEXTJOIN(\"\",1,IFERROR(VLOOKUP(A2695,[1]EventConfig!$T:$V,3,FALSE),\"\"),IFERROR(VLOOKUP(A2695,[1]EventConfig!$U:$W,3,FALSE),\"\"),IFERROR(VLOOKUP(A2695,[1]EventLinkConfig!$B:$C,2,FALSE),\"\"),IFERROR(VLOOKUP(A2695,[1]EventLinkConfig!$D:$E,2,FALSE),\"\"),IFERROR(VLOOKUP(A2695,[1]EventLinkConfig!$L:$M,2,FALSE),\"\"),IFERROR(VLOOKUP(A2695,[1]EventLinkConfig!$X:$Y,2,FALSE),\"\"),IFERROR(VLOOKUP(A2695,[1]EventLinkConfig!$AA:$AB,2,FALSE),\"\"),IFERROR(VLOOKUP(A2695,[1]EventConditionConfig!$B:$D,3,FALSE),\"\"))","v":""},"任务&事件文本"]
[2693,{"$f":"_xlfn.TEXTJOIN(\"\",1,IFERROR(VLOOKUP(A2696,[1]EventConfig!$T:$V,3,FALSE),\"\"),IFERROR(VLOOKUP(A2696,[1]EventConfig!$U:$W,3,FALSE),\"\"),IFERROR(VLOOKUP(A2696,[1]EventLinkConfig!$B:$C,2,FALSE),\"\"),IFERROR(VLOOKUP(A2696,[1]EventLinkConfig!$D:$E,2,FALSE),\"\"),IFERROR(VLOOKUP(A2696,[1]EventLinkConfig!$L:$M,2,FALSE),\"\"),IFERROR(VLOOKUP(A2696,[1]EventLinkConfig!$X:$Y,2,FALSE),\"\"),IFERROR(VLOOKUP(A2696,[1]EventLinkConfig!$AA:$AB,2,FALSE),\"\"),IFERROR(VLOOKUP(A2696,[1]EventConditionConfig!$B:$D,3,FALSE),\"\"))","v":""},"任务&事件文本"]
[2694,{"$f":"_xlfn.TEXTJOIN(\"\",1,IFERROR(VLOOKUP(A2697,[1]EventConfig!$T:$V,3,FALSE),\"\"),IFERROR(VLOOKUP(A2697,[1]EventConfig!$U:$W,3,FALSE),\"\"),IFERROR(VLOOKUP(A2697,[1]EventLinkConfig!$B:$C,2,FALSE),\"\"),IFERROR(VLOOKUP(A2697,[1]EventLinkConfig!$D:$E,2,FALSE),\"\"),IFERROR(VLOOKUP(A2697,[1]EventLinkConfig!$L:$M,2,FALSE),\"\"),IFERROR(VLOOKUP(A2697,[1]EventLinkConfig!$X:$Y,2,FALSE),\"\"),IFERROR(VLOOKUP(A2697,[1]EventLinkConfig!$AA:$AB,2,FALSE),\"\"),IFERROR(VLOOKUP(A2697,[1]EventConditionConfig!$B:$D,3,FALSE),\"\"))","v":""},"任务&事件文本"]
[2695,{"$f":"_xlfn.TEXTJOIN(\"\",1,IFERROR(VLOOKUP(A2698,[1]EventConfig!$T:$V,3,FALSE),\"\"),IFERROR(VLOOKUP(A2698,[1]EventConfig!$U:$W,3,FALSE),\"\"),IFERROR(VLOOKUP(A2698,[1]EventLinkConfig!$B:$C,2,FALSE),\"\"),IFERROR(VLOOKUP(A2698,[1]EventLinkConfig!$D:$E,2,FALSE),\"\"),IFERROR(VLOOKUP(A2698,[1]EventLinkConfig!$L:$M,2,FALSE),\"\"),IFERROR(VLOOKUP(A2698,[1]EventLinkConfig!$X:$Y,2,FALSE),\"\"),IFERROR(VLOOKUP(A2698,[1]EventLinkConfig!$AA:$AB,2,FALSE),\"\"),IFERROR(VLOOKUP(A2698,[1]EventConditionConfig!$B:$D,3,FALSE),\"\"))","v":""},"任务&事件文本"]
[2696,{"$f":"_xlfn.TEXTJOIN(\"\",1,IFERROR(VLOOKUP(A2699,[1]EventConfig!$T:$V,3,FALSE),\"\"),IFERROR(VLOOKUP(A2699,[1]EventConfig!$U:$W,3,FALSE),\"\"),IFERROR(VLOOKUP(A2699,[1]EventLinkConfig!$B:$C,2,FALSE),\"\"),IFERROR(VLOOKUP(A2699,[1]EventLinkConfig!$D:$E,2,FALSE),\"\"),IFERROR(VLOOKUP(A2699,[1]EventLinkConfig!$L:$M,2,FALSE),\"\"),IFERROR(VLOOKUP(A2699,[1]EventLinkConfig!$X:$Y,2,FALSE),\"\"),IFERROR(VLOOKUP(A2699,[1]EventLinkConfig!$AA:$AB,2,FALSE),\"\"),IFERROR(VLOOKUP(A2699,[1]EventConditionConfig!$B:$D,3,FALSE),\"\"))","v":""},"任务&事件文本"]
[2697,{"$f":"_xlfn.TEXTJOIN(\"\",1,IFERROR(VLOOKUP(A2700,[1]EventConfig!$T:$V,3,FALSE),\"\"),IFERROR(VLOOKUP(A2700,[1]EventConfig!$U:$W,3,FALSE),\"\"),IFERROR(VLOOKUP(A2700,[1]EventLinkConfig!$B:$C,2,FALSE),\"\"),IFERROR(VLOOKUP(A2700,[1]EventLinkConfig!$D:$E,2,FALSE),\"\"),IFERROR(VLOOKUP(A2700,[1]EventLinkConfig!$L:$M,2,FALSE),\"\"),IFERROR(VLOOKUP(A2700,[1]EventLinkConfig!$X:$Y,2,FALSE),\"\"),IFERROR(VLOOKUP(A2700,[1]EventLinkConfig!$AA:$AB,2,FALSE),\"\"),IFERROR(VLOOKUP(A2700,[1]EventConditionConfig!$B:$D,3,FALSE),\"\"))","v":""},"任务&事件文本"]
[2698,{"$f":"_xlfn.TEXTJOIN(\"\",1,IFERROR(VLOOKUP(A2701,[1]EventConfig!$T:$V,3,FALSE),\"\"),IFERROR(VLOOKUP(A2701,[1]EventConfig!$U:$W,3,FALSE),\"\"),IFERROR(VLOOKUP(A2701,[1]EventLinkConfig!$B:$C,2,FALSE),\"\"),IFERROR(VLOOKUP(A2701,[1]EventLinkConfig!$D:$E,2,FALSE),\"\"),IFERROR(VLOOKUP(A2701,[1]EventLinkConfig!$L:$M,2,FALSE),\"\"),IFERROR(VLOOKUP(A2701,[1]EventLinkConfig!$X:$Y,2,FALSE),\"\"),IFERROR(VLOOKUP(A2701,[1]EventLinkConfig!$AA:$AB,2,FALSE),\"\"),IFERROR(VLOOKUP(A2701,[1]EventConditionConfig!$B:$D,3,FALSE),\"\"))","v":""},"任务&事件文本"]
[2699,{"$f":"_xlfn.TEXTJOIN(\"\",1,IFERROR(VLOOKUP(A2702,[1]EventConfig!$T:$V,3,FALSE),\"\"),IFERROR(VLOOKUP(A2702,[1]EventConfig!$U:$W,3,FALSE),\"\"),IFERROR(VLOOKUP(A2702,[1]EventLinkConfig!$B:$C,2,FALSE),\"\"),IFERROR(VLOOKUP(A2702,[1]EventLinkConfig!$D:$E,2,FALSE),\"\"),IFERROR(VLOOKUP(A2702,[1]EventLinkConfig!$L:$M,2,FALSE),\"\"),IFERROR(VLOOKUP(A2702,[1]EventLinkConfig!$X:$Y,2,FALSE),\"\"),IFERROR(VLOOKUP(A2702,[1]EventLinkConfig!$AA:$AB,2,FALSE),\"\"),IFERROR(VLOOKUP(A2702,[1]EventConditionConfig!$B:$D,3,FALSE),\"\"))","v":""},"任务&事件文本"]
[2700,{"$f":"_xlfn.TEXTJOIN(\"\",1,IFERROR(VLOOKUP(A2703,[1]EventConfig!$T:$V,3,FALSE),\"\"),IFERROR(VLOOKUP(A2703,[1]EventConfig!$U:$W,3,FALSE),\"\"),IFERROR(VLOOKUP(A2703,[1]EventLinkConfig!$B:$C,2,FALSE),\"\"),IFERROR(VLOOKUP(A2703,[1]EventLinkConfig!$D:$E,2,FALSE),\"\"),IFERROR(VLOOKUP(A2703,[1]EventLinkConfig!$L:$M,2,FALSE),\"\"),IFERROR(VLOOKUP(A2703,[1]EventLinkConfig!$X:$Y,2,FALSE),\"\"),IFERROR(VLOOKUP(A2703,[1]EventLinkConfig!$AA:$AB,2,FALSE),\"\"),IFERROR(VLOOKUP(A2703,[1]EventConditionConfig!$B:$D,3,FALSE),\"\"))","v":""},"任务&事件文本"]
[2701,{"$f":"_xlfn.TEXTJOIN(\"\",1,IFERROR(VLOOKUP(A2704,[1]EventConfig!$T:$V,3,FALSE),\"\"),IFERROR(VLOOKUP(A2704,[1]EventConfig!$U:$W,3,FALSE),\"\"),IFERROR(VLOOKUP(A2704,[1]EventLinkConfig!$B:$C,2,FALSE),\"\"),IFERROR(VLOOKUP(A2704,[1]EventLinkConfig!$D:$E,2,FALSE),\"\"),IFERROR(VLOOKUP(A2704,[1]EventLinkConfig!$L:$M,2,FALSE),\"\"),IFERROR(VLOOKUP(A2704,[1]EventLinkConfig!$X:$Y,2,FALSE),\"\"),IFERROR(VLOOKUP(A2704,[1]EventLinkConfig!$AA:$AB,2,FALSE),\"\"),IFERROR(VLOOKUP(A2704,[1]EventConditionConfig!$B:$D,3,FALSE),\"\"))","v":""},"任务&事件文本"]
[2702,{"$f":"_xlfn.TEXTJOIN(\"\",1,IFERROR(VLOOKUP(A2705,[1]EventConfig!$T:$V,3,FALSE),\"\"),IFERROR(VLOOKUP(A2705,[1]EventConfig!$U:$W,3,FALSE),\"\"),IFERROR(VLOOKUP(A2705,[1]EventLinkConfig!$B:$C,2,FALSE),\"\"),IFERROR(VLOOKUP(A2705,[1]EventLinkConfig!$D:$E,2,FALSE),\"\"),IFERROR(VLOOKUP(A2705,[1]EventLinkConfig!$L:$M,2,FALSE),\"\"),IFERROR(VLOOKUP(A2705,[1]EventLinkConfig!$X:$Y,2,FALSE),\"\"),IFERROR(VLOOKUP(A2705,[1]EventLinkConfig!$AA:$AB,2,FALSE),\"\"),IFERROR(VLOOKUP(A2705,[1]EventConditionConfig!$B:$D,3,FALSE),\"\"))","v":""},"任务&事件文本"]
[2703,{"$f":"_xlfn.TEXTJOIN(\"\",1,IFERROR(VLOOKUP(A2706,[1]EventConfig!$T:$V,3,FALSE),\"\"),IFERROR(VLOOKUP(A2706,[1]EventConfig!$U:$W,3,FALSE),\"\"),IFERROR(VLOOKUP(A2706,[1]EventLinkConfig!$B:$C,2,FALSE),\"\"),IFERROR(VLOOKUP(A2706,[1]EventLinkConfig!$D:$E,2,FALSE),\"\"),IFERROR(VLOOKUP(A2706,[1]EventLinkConfig!$L:$M,2,FALSE),\"\"),IFERROR(VLOOKUP(A2706,[1]EventLinkConfig!$X:$Y,2,FALSE),\"\"),IFERROR(VLOOKUP(A2706,[1]EventLinkConfig!$AA:$AB,2,FALSE),\"\"),IFERROR(VLOOKUP(A2706,[1]EventConditionConfig!$B:$D,3,FALSE),\"\"))","v":""},"任务&事件文本"]
[2704,{"$f":"_xlfn.TEXTJOIN(\"\",1,IFERROR(VLOOKUP(A2707,[1]EventConfig!$T:$V,3,FALSE),\"\"),IFERROR(VLOOKUP(A2707,[1]EventConfig!$U:$W,3,FALSE),\"\"),IFERROR(VLOOKUP(A2707,[1]EventLinkConfig!$B:$C,2,FALSE),\"\"),IFERROR(VLOOKUP(A2707,[1]EventLinkConfig!$D:$E,2,FALSE),\"\"),IFERROR(VLOOKUP(A2707,[1]EventLinkConfig!$L:$M,2,FALSE),\"\"),IFERROR(VLOOKUP(A2707,[1]EventLinkConfig!$X:$Y,2,FALSE),\"\"),IFERROR(VLOOKUP(A2707,[1]EventLinkConfig!$AA:$AB,2,FALSE),\"\"),IFERROR(VLOOKUP(A2707,[1]EventConditionConfig!$B:$D,3,FALSE),\"\"))","v":""},"任务&事件文本"]
[2705,{"$f":"_xlfn.TEXTJOIN(\"\",1,IFERROR(VLOOKUP(A2708,[1]EventConfig!$T:$V,3,FALSE),\"\"),IFERROR(VLOOKUP(A2708,[1]EventConfig!$U:$W,3,FALSE),\"\"),IFERROR(VLOOKUP(A2708,[1]EventLinkConfig!$B:$C,2,FALSE),\"\"),IFERROR(VLOOKUP(A2708,[1]EventLinkConfig!$D:$E,2,FALSE),\"\"),IFERROR(VLOOKUP(A2708,[1]EventLinkConfig!$L:$M,2,FALSE),\"\"),IFERROR(VLOOKUP(A2708,[1]EventLinkConfig!$X:$Y,2,FALSE),\"\"),IFERROR(VLOOKUP(A2708,[1]EventLinkConfig!$AA:$AB,2,FALSE),\"\"),IFERROR(VLOOKUP(A2708,[1]EventConditionConfig!$B:$D,3,FALSE),\"\"))","v":""},"任务&事件文本"]
[2706,{"$f":"_xlfn.TEXTJOIN(\"\",1,IFERROR(VLOOKUP(A2709,[1]EventConfig!$T:$V,3,FALSE),\"\"),IFERROR(VLOOKUP(A2709,[1]EventConfig!$U:$W,3,FALSE),\"\"),IFERROR(VLOOKUP(A2709,[1]EventLinkConfig!$B:$C,2,FALSE),\"\"),IFERROR(VLOOKUP(A2709,[1]EventLinkConfig!$D:$E,2,FALSE),\"\"),IFERROR(VLOOKUP(A2709,[1]EventLinkConfig!$L:$M,2,FALSE),\"\"),IFERROR(VLOOKUP(A2709,[1]EventLinkConfig!$X:$Y,2,FALSE),\"\"),IFERROR(VLOOKUP(A2709,[1]EventLinkConfig!$AA:$AB,2,FALSE),\"\"),IFERROR(VLOOKUP(A2709,[1]EventConditionConfig!$B:$D,3,FALSE),\"\"))","v":""},"任务&事件文本"]
[2707,{"$f":"_xlfn.TEXTJOIN(\"\",1,IFERROR(VLOOKUP(A2710,[1]EventConfig!$T:$V,3,FALSE),\"\"),IFERROR(VLOOKUP(A2710,[1]EventConfig!$U:$W,3,FALSE),\"\"),IFERROR(VLOOKUP(A2710,[1]EventLinkConfig!$B:$C,2,FALSE),\"\"),IFERROR(VLOOKUP(A2710,[1]EventLinkConfig!$D:$E,2,FALSE),\"\"),IFERROR(VLOOKUP(A2710,[1]EventLinkConfig!$L:$M,2,FALSE),\"\"),IFERROR(VLOOKUP(A2710,[1]EventLinkConfig!$X:$Y,2,FALSE),\"\"),IFERROR(VLOOKUP(A2710,[1]EventLinkConfig!$AA:$AB,2,FALSE),\"\"),IFERROR(VLOOKUP(A2710,[1]EventConditionConfig!$B:$D,3,FALSE),\"\"))","v":""},"任务&事件文本"]
[2708,{"$f":"_xlfn.TEXTJOIN(\"\",1,IFERROR(VLOOKUP(A2711,[1]EventConfig!$T:$V,3,FALSE),\"\"),IFERROR(VLOOKUP(A2711,[1]EventConfig!$U:$W,3,FALSE),\"\"),IFERROR(VLOOKUP(A2711,[1]EventLinkConfig!$B:$C,2,FALSE),\"\"),IFERROR(VLOOKUP(A2711,[1]EventLinkConfig!$D:$E,2,FALSE),\"\"),IFERROR(VLOOKUP(A2711,[1]EventLinkConfig!$L:$M,2,FALSE),\"\"),IFERROR(VLOOKUP(A2711,[1]EventLinkConfig!$X:$Y,2,FALSE),\"\"),IFERROR(VLOOKUP(A2711,[1]EventLinkConfig!$AA:$AB,2,FALSE),\"\"),IFERROR(VLOOKUP(A2711,[1]EventConditionConfig!$B:$D,3,FALSE),\"\"))","v":""},"任务&事件文本"]
[2709,{"$f":"_xlfn.TEXTJOIN(\"\",1,IFERROR(VLOOKUP(A2712,[1]EventConfig!$T:$V,3,FALSE),\"\"),IFERROR(VLOOKUP(A2712,[1]EventConfig!$U:$W,3,FALSE),\"\"),IFERROR(VLOOKUP(A2712,[1]EventLinkConfig!$B:$C,2,FALSE),\"\"),IFERROR(VLOOKUP(A2712,[1]EventLinkConfig!$D:$E,2,FALSE),\"\"),IFERROR(VLOOKUP(A2712,[1]EventLinkConfig!$L:$M,2,FALSE),\"\"),IFERROR(VLOOKUP(A2712,[1]EventLinkConfig!$X:$Y,2,FALSE),\"\"),IFERROR(VLOOKUP(A2712,[1]EventLinkConfig!$AA:$AB,2,FALSE),\"\"),IFERROR(VLOOKUP(A2712,[1]EventConditionConfig!$B:$D,3,FALSE),\"\"))","v":""},"任务&事件文本"]
[2710,{"$f":"_xlfn.TEXTJOIN(\"\",1,IFERROR(VLOOKUP(A2713,[1]EventConfig!$T:$V,3,FALSE),\"\"),IFERROR(VLOOKUP(A2713,[1]EventConfig!$U:$W,3,FALSE),\"\"),IFERROR(VLOOKUP(A2713,[1]EventLinkConfig!$B:$C,2,FALSE),\"\"),IFERROR(VLOOKUP(A2713,[1]EventLinkConfig!$D:$E,2,FALSE),\"\"),IFERROR(VLOOKUP(A2713,[1]EventLinkConfig!$L:$M,2,FALSE),\"\"),IFERROR(VLOOKUP(A2713,[1]EventLinkConfig!$X:$Y,2,FALSE),\"\"),IFERROR(VLOOKUP(A2713,[1]EventLinkConfig!$AA:$AB,2,FALSE),\"\"),IFERROR(VLOOKUP(A2713,[1]EventConditionConfig!$B:$D,3,FALSE),\"\"))","v":""},"任务&事件文本"]
[2711,{"$f":"_xlfn.TEXTJOIN(\"\",1,IFERROR(VLOOKUP(A2714,[1]EventConfig!$T:$V,3,FALSE),\"\"),IFERROR(VLOOKUP(A2714,[1]EventConfig!$U:$W,3,FALSE),\"\"),IFERROR(VLOOKUP(A2714,[1]EventLinkConfig!$B:$C,2,FALSE),\"\"),IFERROR(VLOOKUP(A2714,[1]EventLinkConfig!$D:$E,2,FALSE),\"\"),IFERROR(VLOOKUP(A2714,[1]EventLinkConfig!$L:$M,2,FALSE),\"\"),IFERROR(VLOOKUP(A2714,[1]EventLinkConfig!$X:$Y,2,FALSE),\"\"),IFERROR(VLOOKUP(A2714,[1]EventLinkConfig!$AA:$AB,2,FALSE),\"\"),IFERROR(VLOOKUP(A2714,[1]EventConditionConfig!$B:$D,3,FALSE),\"\"))","v":""},"任务&事件文本"]
[2712,{"$f":"_xlfn.TEXTJOIN(\"\",1,IFERROR(VLOOKUP(A2715,[1]EventConfig!$T:$V,3,FALSE),\"\"),IFERROR(VLOOKUP(A2715,[1]EventConfig!$U:$W,3,FALSE),\"\"),IFERROR(VLOOKUP(A2715,[1]EventLinkConfig!$B:$C,2,FALSE),\"\"),IFERROR(VLOOKUP(A2715,[1]EventLinkConfig!$D:$E,2,FALSE),\"\"),IFERROR(VLOOKUP(A2715,[1]EventLinkConfig!$L:$M,2,FALSE),\"\"),IFERROR(VLOOKUP(A2715,[1]EventLinkConfig!$X:$Y,2,FALSE),\"\"),IFERROR(VLOOKUP(A2715,[1]EventLinkConfig!$AA:$AB,2,FALSE),\"\"),IFERROR(VLOOKUP(A2715,[1]EventConditionConfig!$B:$D,3,FALSE),\"\"))","v":""},"任务&事件文本"]
[2713,{"$f":"_xlfn.TEXTJOIN(\"\",1,IFERROR(VLOOKUP(A2716,[1]EventConfig!$T:$V,3,FALSE),\"\"),IFERROR(VLOOKUP(A2716,[1]EventConfig!$U:$W,3,FALSE),\"\"),IFERROR(VLOOKUP(A2716,[1]EventLinkConfig!$B:$C,2,FALSE),\"\"),IFERROR(VLOOKUP(A2716,[1]EventLinkConfig!$D:$E,2,FALSE),\"\"),IFERROR(VLOOKUP(A2716,[1]EventLinkConfig!$L:$M,2,FALSE),\"\"),IFERROR(VLOOKUP(A2716,[1]EventLinkConfig!$X:$Y,2,FALSE),\"\"),IFERROR(VLOOKUP(A2716,[1]EventLinkConfig!$AA:$AB,2,FALSE),\"\"),IFERROR(VLOOKUP(A2716,[1]EventConditionConfig!$B:$D,3,FALSE),\"\"))","v":""},"任务&事件文本"]
[2714,{"$f":"_xlfn.TEXTJOIN(\"\",1,IFERROR(VLOOKUP(A2717,[1]EventConfig!$T:$V,3,FALSE),\"\"),IFERROR(VLOOKUP(A2717,[1]EventConfig!$U:$W,3,FALSE),\"\"),IFERROR(VLOOKUP(A2717,[1]EventLinkConfig!$B:$C,2,FALSE),\"\"),IFERROR(VLOOKUP(A2717,[1]EventLinkConfig!$D:$E,2,FALSE),\"\"),IFERROR(VLOOKUP(A2717,[1]EventLinkConfig!$L:$M,2,FALSE),\"\"),IFERROR(VLOOKUP(A2717,[1]EventLinkConfig!$X:$Y,2,FALSE),\"\"),IFERROR(VLOOKUP(A2717,[1]EventLinkConfig!$AA:$AB,2,FALSE),\"\"),IFERROR(VLOOKUP(A2717,[1]EventConditionConfig!$B:$D,3,FALSE),\"\"))","v":""},"任务&事件文本"]
[2715,{"$f":"_xlfn.TEXTJOIN(\"\",1,IFERROR(VLOOKUP(A2718,[1]EventConfig!$T:$V,3,FALSE),\"\"),IFERROR(VLOOKUP(A2718,[1]EventConfig!$U:$W,3,FALSE),\"\"),IFERROR(VLOOKUP(A2718,[1]EventLinkConfig!$B:$C,2,FALSE),\"\"),IFERROR(VLOOKUP(A2718,[1]EventLinkConfig!$D:$E,2,FALSE),\"\"),IFERROR(VLOOKUP(A2718,[1]EventLinkConfig!$L:$M,2,FALSE),\"\"),IFERROR(VLOOKUP(A2718,[1]EventLinkConfig!$X:$Y,2,FALSE),\"\"),IFERROR(VLOOKUP(A2718,[1]EventLinkConfig!$AA:$AB,2,FALSE),\"\"),IFERROR(VLOOKUP(A2718,[1]EventConditionConfig!$B:$D,3,FALSE),\"\"))","v":""},"任务&事件文本"]
[2716,{"$f":"_xlfn.TEXTJOIN(\"\",1,IFERROR(VLOOKUP(A2719,[1]EventConfig!$T:$V,3,FALSE),\"\"),IFERROR(VLOOKUP(A2719,[1]EventConfig!$U:$W,3,FALSE),\"\"),IFERROR(VLOOKUP(A2719,[1]EventLinkConfig!$B:$C,2,FALSE),\"\"),IFERROR(VLOOKUP(A2719,[1]EventLinkConfig!$D:$E,2,FALSE),\"\"),IFERROR(VLOOKUP(A2719,[1]EventLinkConfig!$L:$M,2,FALSE),\"\"),IFERROR(VLOOKUP(A2719,[1]EventLinkConfig!$X:$Y,2,FALSE),\"\"),IFERROR(VLOOKUP(A2719,[1]EventLinkConfig!$AA:$AB,2,FALSE),\"\"),IFERROR(VLOOKUP(A2719,[1]EventConditionConfig!$B:$D,3,FALSE),\"\"))","v":""},"任务&事件文本"]
[2717,{"$f":"_xlfn.TEXTJOIN(\"\",1,IFERROR(VLOOKUP(A2720,[1]EventConfig!$T:$V,3,FALSE),\"\"),IFERROR(VLOOKUP(A2720,[1]EventConfig!$U:$W,3,FALSE),\"\"),IFERROR(VLOOKUP(A2720,[1]EventLinkConfig!$B:$C,2,FALSE),\"\"),IFERROR(VLOOKUP(A2720,[1]EventLinkConfig!$D:$E,2,FALSE),\"\"),IFERROR(VLOOKUP(A2720,[1]EventLinkConfig!$L:$M,2,FALSE),\"\"),IFERROR(VLOOKUP(A2720,[1]EventLinkConfig!$X:$Y,2,FALSE),\"\"),IFERROR(VLOOKUP(A2720,[1]EventLinkConfig!$AA:$AB,2,FALSE),\"\"),IFERROR(VLOOKUP(A2720,[1]EventConditionConfig!$B:$D,3,FALSE),\"\"))","v":""},"任务&事件文本"]
[2718,{"$f":"_xlfn.TEXTJOIN(\"\",1,IFERROR(VLOOKUP(A2721,[1]EventConfig!$T:$V,3,FALSE),\"\"),IFERROR(VLOOKUP(A2721,[1]EventConfig!$U:$W,3,FALSE),\"\"),IFERROR(VLOOKUP(A2721,[1]EventLinkConfig!$B:$C,2,FALSE),\"\"),IFERROR(VLOOKUP(A2721,[1]EventLinkConfig!$D:$E,2,FALSE),\"\"),IFERROR(VLOOKUP(A2721,[1]EventLinkConfig!$L:$M,2,FALSE),\"\"),IFERROR(VLOOKUP(A2721,[1]EventLinkConfig!$X:$Y,2,FALSE),\"\"),IFERROR(VLOOKUP(A2721,[1]EventLinkConfig!$AA:$AB,2,FALSE),\"\"),IFERROR(VLOOKUP(A2721,[1]EventConditionConfig!$B:$D,3,FALSE),\"\"))","v":""},"任务&事件文本"]
[2719,{"$f":"_xlfn.TEXTJOIN(\"\",1,IFERROR(VLOOKUP(A2722,[1]EventConfig!$T:$V,3,FALSE),\"\"),IFERROR(VLOOKUP(A2722,[1]EventConfig!$U:$W,3,FALSE),\"\"),IFERROR(VLOOKUP(A2722,[1]EventLinkConfig!$B:$C,2,FALSE),\"\"),IFERROR(VLOOKUP(A2722,[1]EventLinkConfig!$D:$E,2,FALSE),\"\"),IFERROR(VLOOKUP(A2722,[1]EventLinkConfig!$L:$M,2,FALSE),\"\"),IFERROR(VLOOKUP(A2722,[1]EventLinkConfig!$X:$Y,2,FALSE),\"\"),IFERROR(VLOOKUP(A2722,[1]EventLinkConfig!$AA:$AB,2,FALSE),\"\"),IFERROR(VLOOKUP(A2722,[1]EventConditionConfig!$B:$D,3,FALSE),\"\"))","v":""},"任务&事件文本"]
[2720,{"$f":"_xlfn.TEXTJOIN(\"\",1,IFERROR(VLOOKUP(A2723,[1]EventConfig!$T:$V,3,FALSE),\"\"),IFERROR(VLOOKUP(A2723,[1]EventConfig!$U:$W,3,FALSE),\"\"),IFERROR(VLOOKUP(A2723,[1]EventLinkConfig!$B:$C,2,FALSE),\"\"),IFERROR(VLOOKUP(A2723,[1]EventLinkConfig!$D:$E,2,FALSE),\"\"),IFERROR(VLOOKUP(A2723,[1]EventLinkConfig!$L:$M,2,FALSE),\"\"),IFERROR(VLOOKUP(A2723,[1]EventLinkConfig!$X:$Y,2,FALSE),\"\"),IFERROR(VLOOKUP(A2723,[1]EventLinkConfig!$AA:$AB,2,FALSE),\"\"),IFERROR(VLOOKUP(A2723,[1]EventConditionConfig!$B:$D,3,FALSE),\"\"))","v":""},"任务&事件文本"]
[2721,{"$f":"_xlfn.TEXTJOIN(\"\",1,IFERROR(VLOOKUP(A2724,[1]EventConfig!$T:$V,3,FALSE),\"\"),IFERROR(VLOOKUP(A2724,[1]EventConfig!$U:$W,3,FALSE),\"\"),IFERROR(VLOOKUP(A2724,[1]EventLinkConfig!$B:$C,2,FALSE),\"\"),IFERROR(VLOOKUP(A2724,[1]EventLinkConfig!$D:$E,2,FALSE),\"\"),IFERROR(VLOOKUP(A2724,[1]EventLinkConfig!$L:$M,2,FALSE),\"\"),IFERROR(VLOOKUP(A2724,[1]EventLinkConfig!$X:$Y,2,FALSE),\"\"),IFERROR(VLOOKUP(A2724,[1]EventLinkConfig!$AA:$AB,2,FALSE),\"\"),IFERROR(VLOOKUP(A2724,[1]EventConditionConfig!$B:$D,3,FALSE),\"\"))","v":""},"任务&事件文本"]
[2722,{"$f":"_xlfn.TEXTJOIN(\"\",1,IFERROR(VLOOKUP(A2725,[1]EventConfig!$T:$V,3,FALSE),\"\"),IFERROR(VLOOKUP(A2725,[1]EventConfig!$U:$W,3,FALSE),\"\"),IFERROR(VLOOKUP(A2725,[1]EventLinkConfig!$B:$C,2,FALSE),\"\"),IFERROR(VLOOKUP(A2725,[1]EventLinkConfig!$D:$E,2,FALSE),\"\"),IFERROR(VLOOKUP(A2725,[1]EventLinkConfig!$L:$M,2,FALSE),\"\"),IFERROR(VLOOKUP(A2725,[1]EventLinkConfig!$X:$Y,2,FALSE),\"\"),IFERROR(VLOOKUP(A2725,[1]EventLinkConfig!$AA:$AB,2,FALSE),\"\"),IFERROR(VLOOKUP(A2725,[1]EventConditionConfig!$B:$D,3,FALSE),\"\"))","v":""},"任务&事件文本"]
[2723,{"$f":"_xlfn.TEXTJOIN(\"\",1,IFERROR(VLOOKUP(A2726,[1]EventConfig!$T:$V,3,FALSE),\"\"),IFERROR(VLOOKUP(A2726,[1]EventConfig!$U:$W,3,FALSE),\"\"),IFERROR(VLOOKUP(A2726,[1]EventLinkConfig!$B:$C,2,FALSE),\"\"),IFERROR(VLOOKUP(A2726,[1]EventLinkConfig!$D:$E,2,FALSE),\"\"),IFERROR(VLOOKUP(A2726,[1]EventLinkConfig!$L:$M,2,FALSE),\"\"),IFERROR(VLOOKUP(A2726,[1]EventLinkConfig!$X:$Y,2,FALSE),\"\"),IFERROR(VLOOKUP(A2726,[1]EventLinkConfig!$AA:$AB,2,FALSE),\"\"),IFERROR(VLOOKUP(A2726,[1]EventConditionConfig!$B:$D,3,FALSE),\"\"))","v":""},"任务&事件文本"]
[2724,{"$f":"_xlfn.TEXTJOIN(\"\",1,IFERROR(VLOOKUP(A2727,[1]EventConfig!$T:$V,3,FALSE),\"\"),IFERROR(VLOOKUP(A2727,[1]EventConfig!$U:$W,3,FALSE),\"\"),IFERROR(VLOOKUP(A2727,[1]EventLinkConfig!$B:$C,2,FALSE),\"\"),IFERROR(VLOOKUP(A2727,[1]EventLinkConfig!$D:$E,2,FALSE),\"\"),IFERROR(VLOOKUP(A2727,[1]EventLinkConfig!$L:$M,2,FALSE),\"\"),IFERROR(VLOOKUP(A2727,[1]EventLinkConfig!$X:$Y,2,FALSE),\"\"),IFERROR(VLOOKUP(A2727,[1]EventLinkConfig!$AA:$AB,2,FALSE),\"\"),IFERROR(VLOOKUP(A2727,[1]EventConditionConfig!$B:$D,3,FALSE),\"\"))","v":""},"任务&事件文本"]
[2725,{"$f":"_xlfn.TEXTJOIN(\"\",1,IFERROR(VLOOKUP(A2728,[1]EventConfig!$T:$V,3,FALSE),\"\"),IFERROR(VLOOKUP(A2728,[1]EventConfig!$U:$W,3,FALSE),\"\"),IFERROR(VLOOKUP(A2728,[1]EventLinkConfig!$B:$C,2,FALSE),\"\"),IFERROR(VLOOKUP(A2728,[1]EventLinkConfig!$D:$E,2,FALSE),\"\"),IFERROR(VLOOKUP(A2728,[1]EventLinkConfig!$L:$M,2,FALSE),\"\"),IFERROR(VLOOKUP(A2728,[1]EventLinkConfig!$X:$Y,2,FALSE),\"\"),IFERROR(VLOOKUP(A2728,[1]EventLinkConfig!$AA:$AB,2,FALSE),\"\"),IFERROR(VLOOKUP(A2728,[1]EventConditionConfig!$B:$D,3,FALSE),\"\"))","v":""},"任务&事件文本"]
[2726,{"$f":"_xlfn.TEXTJOIN(\"\",1,IFERROR(VLOOKUP(A2729,[1]EventConfig!$T:$V,3,FALSE),\"\"),IFERROR(VLOOKUP(A2729,[1]EventConfig!$U:$W,3,FALSE),\"\"),IFERROR(VLOOKUP(A2729,[1]EventLinkConfig!$B:$C,2,FALSE),\"\"),IFERROR(VLOOKUP(A2729,[1]EventLinkConfig!$D:$E,2,FALSE),\"\"),IFERROR(VLOOKUP(A2729,[1]EventLinkConfig!$L:$M,2,FALSE),\"\"),IFERROR(VLOOKUP(A2729,[1]EventLinkConfig!$X:$Y,2,FALSE),\"\"),IFERROR(VLOOKUP(A2729,[1]EventLinkConfig!$AA:$AB,2,FALSE),\"\"),IFERROR(VLOOKUP(A2729,[1]EventConditionConfig!$B:$D,3,FALSE),\"\"))","v":""},"任务&事件文本"]
[2727,{"$f":"_xlfn.TEXTJOIN(\"\",1,IFERROR(VLOOKUP(A2730,[1]EventConfig!$T:$V,3,FALSE),\"\"),IFERROR(VLOOKUP(A2730,[1]EventConfig!$U:$W,3,FALSE),\"\"),IFERROR(VLOOKUP(A2730,[1]EventLinkConfig!$B:$C,2,FALSE),\"\"),IFERROR(VLOOKUP(A2730,[1]EventLinkConfig!$D:$E,2,FALSE),\"\"),IFERROR(VLOOKUP(A2730,[1]EventLinkConfig!$L:$M,2,FALSE),\"\"),IFERROR(VLOOKUP(A2730,[1]EventLinkConfig!$X:$Y,2,FALSE),\"\"),IFERROR(VLOOKUP(A2730,[1]EventLinkConfig!$AA:$AB,2,FALSE),\"\"),IFERROR(VLOOKUP(A2730,[1]EventConditionConfig!$B:$D,3,FALSE),\"\"))","v":""},"任务&事件文本"]
[2728,{"$f":"_xlfn.TEXTJOIN(\"\",1,IFERROR(VLOOKUP(A2731,[1]EventConfig!$T:$V,3,FALSE),\"\"),IFERROR(VLOOKUP(A2731,[1]EventConfig!$U:$W,3,FALSE),\"\"),IFERROR(VLOOKUP(A2731,[1]EventLinkConfig!$B:$C,2,FALSE),\"\"),IFERROR(VLOOKUP(A2731,[1]EventLinkConfig!$D:$E,2,FALSE),\"\"),IFERROR(VLOOKUP(A2731,[1]EventLinkConfig!$L:$M,2,FALSE),\"\"),IFERROR(VLOOKUP(A2731,[1]EventLinkConfig!$X:$Y,2,FALSE),\"\"),IFERROR(VLOOKUP(A2731,[1]EventLinkConfig!$AA:$AB,2,FALSE),\"\"),IFERROR(VLOOKUP(A2731,[1]EventConditionConfig!$B:$D,3,FALSE),\"\"))","v":""},"任务&事件文本"]
[2729,{"$f":"_xlfn.TEXTJOIN(\"\",1,IFERROR(VLOOKUP(A2732,[1]EventConfig!$T:$V,3,FALSE),\"\"),IFERROR(VLOOKUP(A2732,[1]EventConfig!$U:$W,3,FALSE),\"\"),IFERROR(VLOOKUP(A2732,[1]EventLinkConfig!$B:$C,2,FALSE),\"\"),IFERROR(VLOOKUP(A2732,[1]EventLinkConfig!$D:$E,2,FALSE),\"\"),IFERROR(VLOOKUP(A2732,[1]EventLinkConfig!$L:$M,2,FALSE),\"\"),IFERROR(VLOOKUP(A2732,[1]EventLinkConfig!$X:$Y,2,FALSE),\"\"),IFERROR(VLOOKUP(A2732,[1]EventLinkConfig!$AA:$AB,2,FALSE),\"\"),IFERROR(VLOOKUP(A2732,[1]EventConditionConfig!$B:$D,3,FALSE),\"\"))","v":""},"任务&事件文本"]
[2730,{"$f":"_xlfn.TEXTJOIN(\"\",1,IFERROR(VLOOKUP(A2733,[1]EventConfig!$T:$V,3,FALSE),\"\"),IFERROR(VLOOKUP(A2733,[1]EventConfig!$U:$W,3,FALSE),\"\"),IFERROR(VLOOKUP(A2733,[1]EventLinkConfig!$B:$C,2,FALSE),\"\"),IFERROR(VLOOKUP(A2733,[1]EventLinkConfig!$D:$E,2,FALSE),\"\"),IFERROR(VLOOKUP(A2733,[1]EventLinkConfig!$L:$M,2,FALSE),\"\"),IFERROR(VLOOKUP(A2733,[1]EventLinkConfig!$X:$Y,2,FALSE),\"\"),IFERROR(VLOOKUP(A2733,[1]EventLinkConfig!$AA:$AB,2,FALSE),\"\"),IFERROR(VLOOKUP(A2733,[1]EventConditionConfig!$B:$D,3,FALSE),\"\"))","v":""},"任务&事件文本"]
[2731,{"$f":"_xlfn.TEXTJOIN(\"\",1,IFERROR(VLOOKUP(A2734,[1]EventConfig!$T:$V,3,FALSE),\"\"),IFERROR(VLOOKUP(A2734,[1]EventConfig!$U:$W,3,FALSE),\"\"),IFERROR(VLOOKUP(A2734,[1]EventLinkConfig!$B:$C,2,FALSE),\"\"),IFERROR(VLOOKUP(A2734,[1]EventLinkConfig!$D:$E,2,FALSE),\"\"),IFERROR(VLOOKUP(A2734,[1]EventLinkConfig!$L:$M,2,FALSE),\"\"),IFERROR(VLOOKUP(A2734,[1]EventLinkConfig!$X:$Y,2,FALSE),\"\"),IFERROR(VLOOKUP(A2734,[1]EventLinkConfig!$AA:$AB,2,FALSE),\"\"),IFERROR(VLOOKUP(A2734,[1]EventConditionConfig!$B:$D,3,FALSE),\"\"))","v":""},"任务&事件文本"]
[2732,{"$f":"_xlfn.TEXTJOIN(\"\",1,IFERROR(VLOOKUP(A2735,[1]EventConfig!$T:$V,3,FALSE),\"\"),IFERROR(VLOOKUP(A2735,[1]EventConfig!$U:$W,3,FALSE),\"\"),IFERROR(VLOOKUP(A2735,[1]EventLinkConfig!$B:$C,2,FALSE),\"\"),IFERROR(VLOOKUP(A2735,[1]EventLinkConfig!$D:$E,2,FALSE),\"\"),IFERROR(VLOOKUP(A2735,[1]EventLinkConfig!$L:$M,2,FALSE),\"\"),IFERROR(VLOOKUP(A2735,[1]EventLinkConfig!$X:$Y,2,FALSE),\"\"),IFERROR(VLOOKUP(A2735,[1]EventLinkConfig!$AA:$AB,2,FALSE),\"\"),IFERROR(VLOOKUP(A2735,[1]EventConditionConfig!$B:$D,3,FALSE),\"\"))","v":""},"任务&事件文本"]
[2733,{"$f":"_xlfn.TEXTJOIN(\"\",1,IFERROR(VLOOKUP(A2736,[1]EventConfig!$T:$V,3,FALSE),\"\"),IFERROR(VLOOKUP(A2736,[1]EventConfig!$U:$W,3,FALSE),\"\"),IFERROR(VLOOKUP(A2736,[1]EventLinkConfig!$B:$C,2,FALSE),\"\"),IFERROR(VLOOKUP(A2736,[1]EventLinkConfig!$D:$E,2,FALSE),\"\"),IFERROR(VLOOKUP(A2736,[1]EventLinkConfig!$L:$M,2,FALSE),\"\"),IFERROR(VLOOKUP(A2736,[1]EventLinkConfig!$X:$Y,2,FALSE),\"\"),IFERROR(VLOOKUP(A2736,[1]EventLinkConfig!$AA:$AB,2,FALSE),\"\"),IFERROR(VLOOKUP(A2736,[1]EventConditionConfig!$B:$D,3,FALSE),\"\"))","v":""},"任务&事件文本"]
[2734,{"$f":"_xlfn.TEXTJOIN(\"\",1,IFERROR(VLOOKUP(A2737,[1]EventConfig!$T:$V,3,FALSE),\"\"),IFERROR(VLOOKUP(A2737,[1]EventConfig!$U:$W,3,FALSE),\"\"),IFERROR(VLOOKUP(A2737,[1]EventLinkConfig!$B:$C,2,FALSE),\"\"),IFERROR(VLOOKUP(A2737,[1]EventLinkConfig!$D:$E,2,FALSE),\"\"),IFERROR(VLOOKUP(A2737,[1]EventLinkConfig!$L:$M,2,FALSE),\"\"),IFERROR(VLOOKUP(A2737,[1]EventLinkConfig!$X:$Y,2,FALSE),\"\"),IFERROR(VLOOKUP(A2737,[1]EventLinkConfig!$AA:$AB,2,FALSE),\"\"),IFERROR(VLOOKUP(A2737,[1]EventConditionConfig!$B:$D,3,FALSE),\"\"))","v":""},"任务&事件文本"]
[2735,{"$f":"_xlfn.TEXTJOIN(\"\",1,IFERROR(VLOOKUP(A2738,[1]EventConfig!$T:$V,3,FALSE),\"\"),IFERROR(VLOOKUP(A2738,[1]EventConfig!$U:$W,3,FALSE),\"\"),IFERROR(VLOOKUP(A2738,[1]EventLinkConfig!$B:$C,2,FALSE),\"\"),IFERROR(VLOOKUP(A2738,[1]EventLinkConfig!$D:$E,2,FALSE),\"\"),IFERROR(VLOOKUP(A2738,[1]EventLinkConfig!$L:$M,2,FALSE),\"\"),IFERROR(VLOOKUP(A2738,[1]EventLinkConfig!$X:$Y,2,FALSE),\"\"),IFERROR(VLOOKUP(A2738,[1]EventLinkConfig!$AA:$AB,2,FALSE),\"\"),IFERROR(VLOOKUP(A2738,[1]EventConditionConfig!$B:$D,3,FALSE),\"\"))","v":""},"任务&事件文本"]
[2736,{"$f":"_xlfn.TEXTJOIN(\"\",1,IFERROR(VLOOKUP(A2739,[1]EventConfig!$T:$V,3,FALSE),\"\"),IFERROR(VLOOKUP(A2739,[1]EventConfig!$U:$W,3,FALSE),\"\"),IFERROR(VLOOKUP(A2739,[1]EventLinkConfig!$B:$C,2,FALSE),\"\"),IFERROR(VLOOKUP(A2739,[1]EventLinkConfig!$D:$E,2,FALSE),\"\"),IFERROR(VLOOKUP(A2739,[1]EventLinkConfig!$L:$M,2,FALSE),\"\"),IFERROR(VLOOKUP(A2739,[1]EventLinkConfig!$X:$Y,2,FALSE),\"\"),IFERROR(VLOOKUP(A2739,[1]EventLinkConfig!$AA:$AB,2,FALSE),\"\"),IFERROR(VLOOKUP(A2739,[1]EventConditionConfig!$B:$D,3,FALSE),\"\"))","v":""},"任务&事件文本"]
[2737,{"$f":"_xlfn.TEXTJOIN(\"\",1,IFERROR(VLOOKUP(A2740,[1]EventConfig!$T:$V,3,FALSE),\"\"),IFERROR(VLOOKUP(A2740,[1]EventConfig!$U:$W,3,FALSE),\"\"),IFERROR(VLOOKUP(A2740,[1]EventLinkConfig!$B:$C,2,FALSE),\"\"),IFERROR(VLOOKUP(A2740,[1]EventLinkConfig!$D:$E,2,FALSE),\"\"),IFERROR(VLOOKUP(A2740,[1]EventLinkConfig!$L:$M,2,FALSE),\"\"),IFERROR(VLOOKUP(A2740,[1]EventLinkConfig!$X:$Y,2,FALSE),\"\"),IFERROR(VLOOKUP(A2740,[1]EventLinkConfig!$AA:$AB,2,FALSE),\"\"),IFERROR(VLOOKUP(A2740,[1]EventConditionConfig!$B:$D,3,FALSE),\"\"))","v":""},"任务&事件文本"]
[2738,{"$f":"_xlfn.TEXTJOIN(\"\",1,IFERROR(VLOOKUP(A2741,[1]EventConfig!$T:$V,3,FALSE),\"\"),IFERROR(VLOOKUP(A2741,[1]EventConfig!$U:$W,3,FALSE),\"\"),IFERROR(VLOOKUP(A2741,[1]EventLinkConfig!$B:$C,2,FALSE),\"\"),IFERROR(VLOOKUP(A2741,[1]EventLinkConfig!$D:$E,2,FALSE),\"\"),IFERROR(VLOOKUP(A2741,[1]EventLinkConfig!$L:$M,2,FALSE),\"\"),IFERROR(VLOOKUP(A2741,[1]EventLinkConfig!$X:$Y,2,FALSE),\"\"),IFERROR(VLOOKUP(A2741,[1]EventLinkConfig!$AA:$AB,2,FALSE),\"\"),IFERROR(VLOOKUP(A2741,[1]EventConditionConfig!$B:$D,3,FALSE),\"\"))","v":""},"任务&事件文本"]
[2739,{"$f":"_xlfn.TEXTJOIN(\"\",1,IFERROR(VLOOKUP(A2742,[1]EventConfig!$T:$V,3,FALSE),\"\"),IFERROR(VLOOKUP(A2742,[1]EventConfig!$U:$W,3,FALSE),\"\"),IFERROR(VLOOKUP(A2742,[1]EventLinkConfig!$B:$C,2,FALSE),\"\"),IFERROR(VLOOKUP(A2742,[1]EventLinkConfig!$D:$E,2,FALSE),\"\"),IFERROR(VLOOKUP(A2742,[1]EventLinkConfig!$L:$M,2,FALSE),\"\"),IFERROR(VLOOKUP(A2742,[1]EventLinkConfig!$X:$Y,2,FALSE),\"\"),IFERROR(VLOOKUP(A2742,[1]EventLinkConfig!$AA:$AB,2,FALSE),\"\"),IFERROR(VLOOKUP(A2742,[1]EventConditionConfig!$B:$D,3,FALSE),\"\"))","v":""},"任务&事件文本"]
[2740,{"$f":"_xlfn.TEXTJOIN(\"\",1,IFERROR(VLOOKUP(A2743,[1]EventConfig!$T:$V,3,FALSE),\"\"),IFERROR(VLOOKUP(A2743,[1]EventConfig!$U:$W,3,FALSE),\"\"),IFERROR(VLOOKUP(A2743,[1]EventLinkConfig!$B:$C,2,FALSE),\"\"),IFERROR(VLOOKUP(A2743,[1]EventLinkConfig!$D:$E,2,FALSE),\"\"),IFERROR(VLOOKUP(A2743,[1]EventLinkConfig!$L:$M,2,FALSE),\"\"),IFERROR(VLOOKUP(A2743,[1]EventLinkConfig!$X:$Y,2,FALSE),\"\"),IFERROR(VLOOKUP(A2743,[1]EventLinkConfig!$AA:$AB,2,FALSE),\"\"),IFERROR(VLOOKUP(A2743,[1]EventConditionConfig!$B:$D,3,FALSE),\"\"))","v":""},"任务&事件文本"]
[2741,{"$f":"_xlfn.TEXTJOIN(\"\",1,IFERROR(VLOOKUP(A2744,[1]EventConfig!$T:$V,3,FALSE),\"\"),IFERROR(VLOOKUP(A2744,[1]EventConfig!$U:$W,3,FALSE),\"\"),IFERROR(VLOOKUP(A2744,[1]EventLinkConfig!$B:$C,2,FALSE),\"\"),IFERROR(VLOOKUP(A2744,[1]EventLinkConfig!$D:$E,2,FALSE),\"\"),IFERROR(VLOOKUP(A2744,[1]EventLinkConfig!$L:$M,2,FALSE),\"\"),IFERROR(VLOOKUP(A2744,[1]EventLinkConfig!$X:$Y,2,FALSE),\"\"),IFERROR(VLOOKUP(A2744,[1]EventLinkConfig!$AA:$AB,2,FALSE),\"\"),IFERROR(VLOOKUP(A2744,[1]EventConditionConfig!$B:$D,3,FALSE),\"\"))","v":""},"任务&事件文本"]
[2742,{"$f":"_xlfn.TEXTJOIN(\"\",1,IFERROR(VLOOKUP(A2745,[1]EventConfig!$T:$V,3,FALSE),\"\"),IFERROR(VLOOKUP(A2745,[1]EventConfig!$U:$W,3,FALSE),\"\"),IFERROR(VLOOKUP(A2745,[1]EventLinkConfig!$B:$C,2,FALSE),\"\"),IFERROR(VLOOKUP(A2745,[1]EventLinkConfig!$D:$E,2,FALSE),\"\"),IFERROR(VLOOKUP(A2745,[1]EventLinkConfig!$L:$M,2,FALSE),\"\"),IFERROR(VLOOKUP(A2745,[1]EventLinkConfig!$X:$Y,2,FALSE),\"\"),IFERROR(VLOOKUP(A2745,[1]EventLinkConfig!$AA:$AB,2,FALSE),\"\"),IFERROR(VLOOKUP(A2745,[1]EventConditionConfig!$B:$D,3,FALSE),\"\"))","v":""},"任务&事件文本"]
[2743,{"$f":"_xlfn.TEXTJOIN(\"\",1,IFERROR(VLOOKUP(A2746,[1]EventConfig!$T:$V,3,FALSE),\"\"),IFERROR(VLOOKUP(A2746,[1]EventConfig!$U:$W,3,FALSE),\"\"),IFERROR(VLOOKUP(A2746,[1]EventLinkConfig!$B:$C,2,FALSE),\"\"),IFERROR(VLOOKUP(A2746,[1]EventLinkConfig!$D:$E,2,FALSE),\"\"),IFERROR(VLOOKUP(A2746,[1]EventLinkConfig!$L:$M,2,FALSE),\"\"),IFERROR(VLOOKUP(A2746,[1]EventLinkConfig!$X:$Y,2,FALSE),\"\"),IFERROR(VLOOKUP(A2746,[1]EventLinkConfig!$AA:$AB,2,FALSE),\"\"),IFERROR(VLOOKUP(A2746,[1]EventConditionConfig!$B:$D,3,FALSE),\"\"))","v":""},"任务&事件文本"]
[2744,{"$f":"_xlfn.TEXTJOIN(\"\",1,IFERROR(VLOOKUP(A2747,[1]EventConfig!$T:$V,3,FALSE),\"\"),IFERROR(VLOOKUP(A2747,[1]EventConfig!$U:$W,3,FALSE),\"\"),IFERROR(VLOOKUP(A2747,[1]EventLinkConfig!$B:$C,2,FALSE),\"\"),IFERROR(VLOOKUP(A2747,[1]EventLinkConfig!$D:$E,2,FALSE),\"\"),IFERROR(VLOOKUP(A2747,[1]EventLinkConfig!$L:$M,2,FALSE),\"\"),IFERROR(VLOOKUP(A2747,[1]EventLinkConfig!$X:$Y,2,FALSE),\"\"),IFERROR(VLOOKUP(A2747,[1]EventLinkConfig!$AA:$AB,2,FALSE),\"\"),IFERROR(VLOOKUP(A2747,[1]EventConditionConfig!$B:$D,3,FALSE),\"\"))","v":""},"任务&事件文本"]
[2745,{"$f":"_xlfn.TEXTJOIN(\"\",1,IFERROR(VLOOKUP(A2748,[1]EventConfig!$T:$V,3,FALSE),\"\"),IFERROR(VLOOKUP(A2748,[1]EventConfig!$U:$W,3,FALSE),\"\"),IFERROR(VLOOKUP(A2748,[1]EventLinkConfig!$B:$C,2,FALSE),\"\"),IFERROR(VLOOKUP(A2748,[1]EventLinkConfig!$D:$E,2,FALSE),\"\"),IFERROR(VLOOKUP(A2748,[1]EventLinkConfig!$L:$M,2,FALSE),\"\"),IFERROR(VLOOKUP(A2748,[1]EventLinkConfig!$X:$Y,2,FALSE),\"\"),IFERROR(VLOOKUP(A2748,[1]EventLinkConfig!$AA:$AB,2,FALSE),\"\"),IFERROR(VLOOKUP(A2748,[1]EventConditionConfig!$B:$D,3,FALSE),\"\"))","v":""},"任务&事件文本"]
[2746,{"$f":"_xlfn.TEXTJOIN(\"\",1,IFERROR(VLOOKUP(A2749,[1]EventConfig!$T:$V,3,FALSE),\"\"),IFERROR(VLOOKUP(A2749,[1]EventConfig!$U:$W,3,FALSE),\"\"),IFERROR(VLOOKUP(A2749,[1]EventLinkConfig!$B:$C,2,FALSE),\"\"),IFERROR(VLOOKUP(A2749,[1]EventLinkConfig!$D:$E,2,FALSE),\"\"),IFERROR(VLOOKUP(A2749,[1]EventLinkConfig!$L:$M,2,FALSE),\"\"),IFERROR(VLOOKUP(A2749,[1]EventLinkConfig!$X:$Y,2,FALSE),\"\"),IFERROR(VLOOKUP(A2749,[1]EventLinkConfig!$AA:$AB,2,FALSE),\"\"),IFERROR(VLOOKUP(A2749,[1]EventConditionConfig!$B:$D,3,FALSE),\"\"))","v":""},"任务&事件文本"]
[2747,{"$f":"_xlfn.TEXTJOIN(\"\",1,IFERROR(VLOOKUP(A2750,[1]EventConfig!$T:$V,3,FALSE),\"\"),IFERROR(VLOOKUP(A2750,[1]EventConfig!$U:$W,3,FALSE),\"\"),IFERROR(VLOOKUP(A2750,[1]EventLinkConfig!$B:$C,2,FALSE),\"\"),IFERROR(VLOOKUP(A2750,[1]EventLinkConfig!$D:$E,2,FALSE),\"\"),IFERROR(VLOOKUP(A2750,[1]EventLinkConfig!$L:$M,2,FALSE),\"\"),IFERROR(VLOOKUP(A2750,[1]EventLinkConfig!$X:$Y,2,FALSE),\"\"),IFERROR(VLOOKUP(A2750,[1]EventLinkConfig!$AA:$AB,2,FALSE),\"\"),IFERROR(VLOOKUP(A2750,[1]EventConditionConfig!$B:$D,3,FALSE),\"\"))","v":""},"任务&事件文本"]
[2748,{"$f":"_xlfn.TEXTJOIN(\"\",1,IFERROR(VLOOKUP(A2751,[1]EventConfig!$T:$V,3,FALSE),\"\"),IFERROR(VLOOKUP(A2751,[1]EventConfig!$U:$W,3,FALSE),\"\"),IFERROR(VLOOKUP(A2751,[1]EventLinkConfig!$B:$C,2,FALSE),\"\"),IFERROR(VLOOKUP(A2751,[1]EventLinkConfig!$D:$E,2,FALSE),\"\"),IFERROR(VLOOKUP(A2751,[1]EventLinkConfig!$L:$M,2,FALSE),\"\"),IFERROR(VLOOKUP(A2751,[1]EventLinkConfig!$X:$Y,2,FALSE),\"\"),IFERROR(VLOOKUP(A2751,[1]EventLinkConfig!$AA:$AB,2,FALSE),\"\"),IFERROR(VLOOKUP(A2751,[1]EventConditionConfig!$B:$D,3,FALSE),\"\"))","v":""},"任务&事件文本"]
[2749,{"$f":"_xlfn.TEXTJOIN(\"\",1,IFERROR(VLOOKUP(A2752,[1]EventConfig!$T:$V,3,FALSE),\"\"),IFERROR(VLOOKUP(A2752,[1]EventConfig!$U:$W,3,FALSE),\"\"),IFERROR(VLOOKUP(A2752,[1]EventLinkConfig!$B:$C,2,FALSE),\"\"),IFERROR(VLOOKUP(A2752,[1]EventLinkConfig!$D:$E,2,FALSE),\"\"),IFERROR(VLOOKUP(A2752,[1]EventLinkConfig!$L:$M,2,FALSE),\"\"),IFERROR(VLOOKUP(A2752,[1]EventLinkConfig!$X:$Y,2,FALSE),\"\"),IFERROR(VLOOKUP(A2752,[1]EventLinkConfig!$AA:$AB,2,FALSE),\"\"),IFERROR(VLOOKUP(A2752,[1]EventConditionConfig!$B:$D,3,FALSE),\"\"))","v":""},"任务&事件文本"]
[2750,{"$f":"_xlfn.TEXTJOIN(\"\",1,IFERROR(VLOOKUP(A2753,[1]EventConfig!$T:$V,3,FALSE),\"\"),IFERROR(VLOOKUP(A2753,[1]EventConfig!$U:$W,3,FALSE),\"\"),IFERROR(VLOOKUP(A2753,[1]EventLinkConfig!$B:$C,2,FALSE),\"\"),IFERROR(VLOOKUP(A2753,[1]EventLinkConfig!$D:$E,2,FALSE),\"\"),IFERROR(VLOOKUP(A2753,[1]EventLinkConfig!$L:$M,2,FALSE),\"\"),IFERROR(VLOOKUP(A2753,[1]EventLinkConfig!$X:$Y,2,FALSE),\"\"),IFERROR(VLOOKUP(A2753,[1]EventLinkConfig!$AA:$AB,2,FALSE),\"\"),IFERROR(VLOOKUP(A2753,[1]EventConditionConfig!$B:$D,3,FALSE),\"\"))","v":""},"任务&事件文本"]
[2751,{"$f":"_xlfn.TEXTJOIN(\"\",1,IFERROR(VLOOKUP(A2754,[1]EventConfig!$T:$V,3,FALSE),\"\"),IFERROR(VLOOKUP(A2754,[1]EventConfig!$U:$W,3,FALSE),\"\"),IFERROR(VLOOKUP(A2754,[1]EventLinkConfig!$B:$C,2,FALSE),\"\"),IFERROR(VLOOKUP(A2754,[1]EventLinkConfig!$D:$E,2,FALSE),\"\"),IFERROR(VLOOKUP(A2754,[1]EventLinkConfig!$L:$M,2,FALSE),\"\"),IFERROR(VLOOKUP(A2754,[1]EventLinkConfig!$X:$Y,2,FALSE),\"\"),IFERROR(VLOOKUP(A2754,[1]EventLinkConfig!$AA:$AB,2,FALSE),\"\"),IFERROR(VLOOKUP(A2754,[1]EventConditionConfig!$B:$D,3,FALSE),\"\"))","v":""},"任务&事件文本"]
[2752,{"$f":"_xlfn.TEXTJOIN(\"\",1,IFERROR(VLOOKUP(A2755,[1]EventConfig!$T:$V,3,FALSE),\"\"),IFERROR(VLOOKUP(A2755,[1]EventConfig!$U:$W,3,FALSE),\"\"),IFERROR(VLOOKUP(A2755,[1]EventLinkConfig!$B:$C,2,FALSE),\"\"),IFERROR(VLOOKUP(A2755,[1]EventLinkConfig!$D:$E,2,FALSE),\"\"),IFERROR(VLOOKUP(A2755,[1]EventLinkConfig!$L:$M,2,FALSE),\"\"),IFERROR(VLOOKUP(A2755,[1]EventLinkConfig!$X:$Y,2,FALSE),\"\"),IFERROR(VLOOKUP(A2755,[1]EventLinkConfig!$AA:$AB,2,FALSE),\"\"),IFERROR(VLOOKUP(A2755,[1]EventConditionConfig!$B:$D,3,FALSE),\"\"))","v":""},"任务&事件文本"]
[2753,{"$f":"_xlfn.TEXTJOIN(\"\",1,IFERROR(VLOOKUP(A2756,[1]EventConfig!$T:$V,3,FALSE),\"\"),IFERROR(VLOOKUP(A2756,[1]EventConfig!$U:$W,3,FALSE),\"\"),IFERROR(VLOOKUP(A2756,[1]EventLinkConfig!$B:$C,2,FALSE),\"\"),IFERROR(VLOOKUP(A2756,[1]EventLinkConfig!$D:$E,2,FALSE),\"\"),IFERROR(VLOOKUP(A2756,[1]EventLinkConfig!$L:$M,2,FALSE),\"\"),IFERROR(VLOOKUP(A2756,[1]EventLinkConfig!$X:$Y,2,FALSE),\"\"),IFERROR(VLOOKUP(A2756,[1]EventLinkConfig!$AA:$AB,2,FALSE),\"\"),IFERROR(VLOOKUP(A2756,[1]EventConditionConfig!$B:$D,3,FALSE),\"\"))","v":""},"任务&事件文本"]
[2754,{"$f":"_xlfn.TEXTJOIN(\"\",1,IFERROR(VLOOKUP(A2757,[1]EventConfig!$T:$V,3,FALSE),\"\"),IFERROR(VLOOKUP(A2757,[1]EventConfig!$U:$W,3,FALSE),\"\"),IFERROR(VLOOKUP(A2757,[1]EventLinkConfig!$B:$C,2,FALSE),\"\"),IFERROR(VLOOKUP(A2757,[1]EventLinkConfig!$D:$E,2,FALSE),\"\"),IFERROR(VLOOKUP(A2757,[1]EventLinkConfig!$L:$M,2,FALSE),\"\"),IFERROR(VLOOKUP(A2757,[1]EventLinkConfig!$X:$Y,2,FALSE),\"\"),IFERROR(VLOOKUP(A2757,[1]EventLinkConfig!$AA:$AB,2,FALSE),\"\"),IFERROR(VLOOKUP(A2757,[1]EventConditionConfig!$B:$D,3,FALSE),\"\"))","v":""},"任务&事件文本"]
[2755,{"$f":"_xlfn.TEXTJOIN(\"\",1,IFERROR(VLOOKUP(A2758,[1]EventConfig!$T:$V,3,FALSE),\"\"),IFERROR(VLOOKUP(A2758,[1]EventConfig!$U:$W,3,FALSE),\"\"),IFERROR(VLOOKUP(A2758,[1]EventLinkConfig!$B:$C,2,FALSE),\"\"),IFERROR(VLOOKUP(A2758,[1]EventLinkConfig!$D:$E,2,FALSE),\"\"),IFERROR(VLOOKUP(A2758,[1]EventLinkConfig!$L:$M,2,FALSE),\"\"),IFERROR(VLOOKUP(A2758,[1]EventLinkConfig!$X:$Y,2,FALSE),\"\"),IFERROR(VLOOKUP(A2758,[1]EventLinkConfig!$AA:$AB,2,FALSE),\"\"),IFERROR(VLOOKUP(A2758,[1]EventConditionConfig!$B:$D,3,FALSE),\"\"))","v":""},"任务&事件文本"]
[2756,{"$f":"_xlfn.TEXTJOIN(\"\",1,IFERROR(VLOOKUP(A2759,[1]EventConfig!$T:$V,3,FALSE),\"\"),IFERROR(VLOOKUP(A2759,[1]EventConfig!$U:$W,3,FALSE),\"\"),IFERROR(VLOOKUP(A2759,[1]EventLinkConfig!$B:$C,2,FALSE),\"\"),IFERROR(VLOOKUP(A2759,[1]EventLinkConfig!$D:$E,2,FALSE),\"\"),IFERROR(VLOOKUP(A2759,[1]EventLinkConfig!$L:$M,2,FALSE),\"\"),IFERROR(VLOOKUP(A2759,[1]EventLinkConfig!$X:$Y,2,FALSE),\"\"),IFERROR(VLOOKUP(A2759,[1]EventLinkConfig!$AA:$AB,2,FALSE),\"\"),IFERROR(VLOOKUP(A2759,[1]EventConditionConfig!$B:$D,3,FALSE),\"\"))","v":""},"任务&事件文本"]
[2757,{"$f":"_xlfn.TEXTJOIN(\"\",1,IFERROR(VLOOKUP(A2760,[1]EventConfig!$T:$V,3,FALSE),\"\"),IFERROR(VLOOKUP(A2760,[1]EventConfig!$U:$W,3,FALSE),\"\"),IFERROR(VLOOKUP(A2760,[1]EventLinkConfig!$B:$C,2,FALSE),\"\"),IFERROR(VLOOKUP(A2760,[1]EventLinkConfig!$D:$E,2,FALSE),\"\"),IFERROR(VLOOKUP(A2760,[1]EventLinkConfig!$L:$M,2,FALSE),\"\"),IFERROR(VLOOKUP(A2760,[1]EventLinkConfig!$X:$Y,2,FALSE),\"\"),IFERROR(VLOOKUP(A2760,[1]EventLinkConfig!$AA:$AB,2,FALSE),\"\"),IFERROR(VLOOKUP(A2760,[1]EventConditionConfig!$B:$D,3,FALSE),\"\"))","v":""},"任务&事件文本"]
[2758,{"$f":"_xlfn.TEXTJOIN(\"\",1,IFERROR(VLOOKUP(A2761,[1]EventConfig!$T:$V,3,FALSE),\"\"),IFERROR(VLOOKUP(A2761,[1]EventConfig!$U:$W,3,FALSE),\"\"),IFERROR(VLOOKUP(A2761,[1]EventLinkConfig!$B:$C,2,FALSE),\"\"),IFERROR(VLOOKUP(A2761,[1]EventLinkConfig!$D:$E,2,FALSE),\"\"),IFERROR(VLOOKUP(A2761,[1]EventLinkConfig!$L:$M,2,FALSE),\"\"),IFERROR(VLOOKUP(A2761,[1]EventLinkConfig!$X:$Y,2,FALSE),\"\"),IFERROR(VLOOKUP(A2761,[1]EventLinkConfig!$AA:$AB,2,FALSE),\"\"),IFERROR(VLOOKUP(A2761,[1]EventConditionConfig!$B:$D,3,FALSE),\"\"))","v":""},"任务&事件文本"]
[2759,{"$f":"_xlfn.TEXTJOIN(\"\",1,IFERROR(VLOOKUP(A2762,[1]EventConfig!$T:$V,3,FALSE),\"\"),IFERROR(VLOOKUP(A2762,[1]EventConfig!$U:$W,3,FALSE),\"\"),IFERROR(VLOOKUP(A2762,[1]EventLinkConfig!$B:$C,2,FALSE),\"\"),IFERROR(VLOOKUP(A2762,[1]EventLinkConfig!$D:$E,2,FALSE),\"\"),IFERROR(VLOOKUP(A2762,[1]EventLinkConfig!$L:$M,2,FALSE),\"\"),IFERROR(VLOOKUP(A2762,[1]EventLinkConfig!$X:$Y,2,FALSE),\"\"),IFERROR(VLOOKUP(A2762,[1]EventLinkConfig!$AA:$AB,2,FALSE),\"\"),IFERROR(VLOOKUP(A2762,[1]EventConditionConfig!$B:$D,3,FALSE),\"\"))","v":""},"任务&事件文本"]
[2760,{"$f":"_xlfn.TEXTJOIN(\"\",1,IFERROR(VLOOKUP(A2763,[1]EventConfig!$T:$V,3,FALSE),\"\"),IFERROR(VLOOKUP(A2763,[1]EventConfig!$U:$W,3,FALSE),\"\"),IFERROR(VLOOKUP(A2763,[1]EventLinkConfig!$B:$C,2,FALSE),\"\"),IFERROR(VLOOKUP(A2763,[1]EventLinkConfig!$D:$E,2,FALSE),\"\"),IFERROR(VLOOKUP(A2763,[1]EventLinkConfig!$L:$M,2,FALSE),\"\"),IFERROR(VLOOKUP(A2763,[1]EventLinkConfig!$X:$Y,2,FALSE),\"\"),IFERROR(VLOOKUP(A2763,[1]EventLinkConfig!$AA:$AB,2,FALSE),\"\"),IFERROR(VLOOKUP(A2763,[1]EventConditionConfig!$B:$D,3,FALSE),\"\"))","v":""},"任务&事件文本"]
[2761,{"$f":"_xlfn.TEXTJOIN(\"\",1,IFERROR(VLOOKUP(A2764,[1]EventConfig!$T:$V,3,FALSE),\"\"),IFERROR(VLOOKUP(A2764,[1]EventConfig!$U:$W,3,FALSE),\"\"),IFERROR(VLOOKUP(A2764,[1]EventLinkConfig!$B:$C,2,FALSE),\"\"),IFERROR(VLOOKUP(A2764,[1]EventLinkConfig!$D:$E,2,FALSE),\"\"),IFERROR(VLOOKUP(A2764,[1]EventLinkConfig!$L:$M,2,FALSE),\"\"),IFERROR(VLOOKUP(A2764,[1]EventLinkConfig!$X:$Y,2,FALSE),\"\"),IFERROR(VLOOKUP(A2764,[1]EventLinkConfig!$AA:$AB,2,FALSE),\"\"),IFERROR(VLOOKUP(A2764,[1]EventConditionConfig!$B:$D,3,FALSE),\"\"))","v":""},"任务&事件文本"]
[2762,{"$f":"_xlfn.TEXTJOIN(\"\",1,IFERROR(VLOOKUP(A2765,[1]EventConfig!$T:$V,3,FALSE),\"\"),IFERROR(VLOOKUP(A2765,[1]EventConfig!$U:$W,3,FALSE),\"\"),IFERROR(VLOOKUP(A2765,[1]EventLinkConfig!$B:$C,2,FALSE),\"\"),IFERROR(VLOOKUP(A2765,[1]EventLinkConfig!$D:$E,2,FALSE),\"\"),IFERROR(VLOOKUP(A2765,[1]EventLinkConfig!$L:$M,2,FALSE),\"\"),IFERROR(VLOOKUP(A2765,[1]EventLinkConfig!$X:$Y,2,FALSE),\"\"),IFERROR(VLOOKUP(A2765,[1]EventLinkConfig!$AA:$AB,2,FALSE),\"\"),IFERROR(VLOOKUP(A2765,[1]EventConditionConfig!$B:$D,3,FALSE),\"\"))","v":""},"任务&事件文本"]
[2763,{"$f":"_xlfn.TEXTJOIN(\"\",1,IFERROR(VLOOKUP(A2766,[1]EventConfig!$T:$V,3,FALSE),\"\"),IFERROR(VLOOKUP(A2766,[1]EventConfig!$U:$W,3,FALSE),\"\"),IFERROR(VLOOKUP(A2766,[1]EventLinkConfig!$B:$C,2,FALSE),\"\"),IFERROR(VLOOKUP(A2766,[1]EventLinkConfig!$D:$E,2,FALSE),\"\"),IFERROR(VLOOKUP(A2766,[1]EventLinkConfig!$L:$M,2,FALSE),\"\"),IFERROR(VLOOKUP(A2766,[1]EventLinkConfig!$X:$Y,2,FALSE),\"\"),IFERROR(VLOOKUP(A2766,[1]EventLinkConfig!$AA:$AB,2,FALSE),\"\"),IFERROR(VLOOKUP(A2766,[1]EventConditionConfig!$B:$D,3,FALSE),\"\"))","v":""},"任务&事件文本"]
[2764,{"$f":"_xlfn.TEXTJOIN(\"\",1,IFERROR(VLOOKUP(A2767,[1]EventConfig!$T:$V,3,FALSE),\"\"),IFERROR(VLOOKUP(A2767,[1]EventConfig!$U:$W,3,FALSE),\"\"),IFERROR(VLOOKUP(A2767,[1]EventLinkConfig!$B:$C,2,FALSE),\"\"),IFERROR(VLOOKUP(A2767,[1]EventLinkConfig!$D:$E,2,FALSE),\"\"),IFERROR(VLOOKUP(A2767,[1]EventLinkConfig!$L:$M,2,FALSE),\"\"),IFERROR(VLOOKUP(A2767,[1]EventLinkConfig!$X:$Y,2,FALSE),\"\"),IFERROR(VLOOKUP(A2767,[1]EventLinkConfig!$AA:$AB,2,FALSE),\"\"),IFERROR(VLOOKUP(A2767,[1]EventConditionConfig!$B:$D,3,FALSE),\"\"))","v":""},"任务&事件文本"]
[2765,{"$f":"_xlfn.TEXTJOIN(\"\",1,IFERROR(VLOOKUP(A2768,[1]EventConfig!$T:$V,3,FALSE),\"\"),IFERROR(VLOOKUP(A2768,[1]EventConfig!$U:$W,3,FALSE),\"\"),IFERROR(VLOOKUP(A2768,[1]EventLinkConfig!$B:$C,2,FALSE),\"\"),IFERROR(VLOOKUP(A2768,[1]EventLinkConfig!$D:$E,2,FALSE),\"\"),IFERROR(VLOOKUP(A2768,[1]EventLinkConfig!$L:$M,2,FALSE),\"\"),IFERROR(VLOOKUP(A2768,[1]EventLinkConfig!$X:$Y,2,FALSE),\"\"),IFERROR(VLOOKUP(A2768,[1]EventLinkConfig!$AA:$AB,2,FALSE),\"\"),IFERROR(VLOOKUP(A2768,[1]EventConditionConfig!$B:$D,3,FALSE),\"\"))","v":""},"任务&事件文本"]
[2766,{"$f":"_xlfn.TEXTJOIN(\"\",1,IFERROR(VLOOKUP(A2769,[1]EventConfig!$T:$V,3,FALSE),\"\"),IFERROR(VLOOKUP(A2769,[1]EventConfig!$U:$W,3,FALSE),\"\"),IFERROR(VLOOKUP(A2769,[1]EventLinkConfig!$B:$C,2,FALSE),\"\"),IFERROR(VLOOKUP(A2769,[1]EventLinkConfig!$D:$E,2,FALSE),\"\"),IFERROR(VLOOKUP(A2769,[1]EventLinkConfig!$L:$M,2,FALSE),\"\"),IFERROR(VLOOKUP(A2769,[1]EventLinkConfig!$X:$Y,2,FALSE),\"\"),IFERROR(VLOOKUP(A2769,[1]EventLinkConfig!$AA:$AB,2,FALSE),\"\"),IFERROR(VLOOKUP(A2769,[1]EventConditionConfig!$B:$D,3,FALSE),\"\"))","v":""},"任务&事件文本"]
[2767,{"$f":"_xlfn.TEXTJOIN(\"\",1,IFERROR(VLOOKUP(A2770,[1]EventConfig!$T:$V,3,FALSE),\"\"),IFERROR(VLOOKUP(A2770,[1]EventConfig!$U:$W,3,FALSE),\"\"),IFERROR(VLOOKUP(A2770,[1]EventLinkConfig!$B:$C,2,FALSE),\"\"),IFERROR(VLOOKUP(A2770,[1]EventLinkConfig!$D:$E,2,FALSE),\"\"),IFERROR(VLOOKUP(A2770,[1]EventLinkConfig!$L:$M,2,FALSE),\"\"),IFERROR(VLOOKUP(A2770,[1]EventLinkConfig!$X:$Y,2,FALSE),\"\"),IFERROR(VLOOKUP(A2770,[1]EventLinkConfig!$AA:$AB,2,FALSE),\"\"),IFERROR(VLOOKUP(A2770,[1]EventConditionConfig!$B:$D,3,FALSE),\"\"))","v":""},"任务&事件文本"]
[2768,{"$f":"_xlfn.TEXTJOIN(\"\",1,IFERROR(VLOOKUP(A2771,[1]EventConfig!$T:$V,3,FALSE),\"\"),IFERROR(VLOOKUP(A2771,[1]EventConfig!$U:$W,3,FALSE),\"\"),IFERROR(VLOOKUP(A2771,[1]EventLinkConfig!$B:$C,2,FALSE),\"\"),IFERROR(VLOOKUP(A2771,[1]EventLinkConfig!$D:$E,2,FALSE),\"\"),IFERROR(VLOOKUP(A2771,[1]EventLinkConfig!$L:$M,2,FALSE),\"\"),IFERROR(VLOOKUP(A2771,[1]EventLinkConfig!$X:$Y,2,FALSE),\"\"),IFERROR(VLOOKUP(A2771,[1]EventLinkConfig!$AA:$AB,2,FALSE),\"\"),IFERROR(VLOOKUP(A2771,[1]EventConditionConfig!$B:$D,3,FALSE),\"\"))","v":""},"任务&事件文本"]
[2769,{"$f":"_xlfn.TEXTJOIN(\"\",1,IFERROR(VLOOKUP(A2772,[1]EventConfig!$T:$V,3,FALSE),\"\"),IFERROR(VLOOKUP(A2772,[1]EventConfig!$U:$W,3,FALSE),\"\"),IFERROR(VLOOKUP(A2772,[1]EventLinkConfig!$B:$C,2,FALSE),\"\"),IFERROR(VLOOKUP(A2772,[1]EventLinkConfig!$D:$E,2,FALSE),\"\"),IFERROR(VLOOKUP(A2772,[1]EventLinkConfig!$L:$M,2,FALSE),\"\"),IFERROR(VLOOKUP(A2772,[1]EventLinkConfig!$X:$Y,2,FALSE),\"\"),IFERROR(VLOOKUP(A2772,[1]EventLinkConfig!$AA:$AB,2,FALSE),\"\"),IFERROR(VLOOKUP(A2772,[1]EventConditionConfig!$B:$D,3,FALSE),\"\"))","v":""},"任务&事件文本"]
[2770,{"$f":"_xlfn.TEXTJOIN(\"\",1,IFERROR(VLOOKUP(A2773,[1]EventConfig!$T:$V,3,FALSE),\"\"),IFERROR(VLOOKUP(A2773,[1]EventConfig!$U:$W,3,FALSE),\"\"),IFERROR(VLOOKUP(A2773,[1]EventLinkConfig!$B:$C,2,FALSE),\"\"),IFERROR(VLOOKUP(A2773,[1]EventLinkConfig!$D:$E,2,FALSE),\"\"),IFERROR(VLOOKUP(A2773,[1]EventLinkConfig!$L:$M,2,FALSE),\"\"),IFERROR(VLOOKUP(A2773,[1]EventLinkConfig!$X:$Y,2,FALSE),\"\"),IFERROR(VLOOKUP(A2773,[1]EventLinkConfig!$AA:$AB,2,FALSE),\"\"),IFERROR(VLOOKUP(A2773,[1]EventConditionConfig!$B:$D,3,FALSE),\"\"))","v":""},"任务&事件文本"]
[2771,{"$f":"_xlfn.TEXTJOIN(\"\",1,IFERROR(VLOOKUP(A2774,[1]EventConfig!$T:$V,3,FALSE),\"\"),IFERROR(VLOOKUP(A2774,[1]EventConfig!$U:$W,3,FALSE),\"\"),IFERROR(VLOOKUP(A2774,[1]EventLinkConfig!$B:$C,2,FALSE),\"\"),IFERROR(VLOOKUP(A2774,[1]EventLinkConfig!$D:$E,2,FALSE),\"\"),IFERROR(VLOOKUP(A2774,[1]EventLinkConfig!$L:$M,2,FALSE),\"\"),IFERROR(VLOOKUP(A2774,[1]EventLinkConfig!$X:$Y,2,FALSE),\"\"),IFERROR(VLOOKUP(A2774,[1]EventLinkConfig!$AA:$AB,2,FALSE),\"\"),IFERROR(VLOOKUP(A2774,[1]EventConditionConfig!$B:$D,3,FALSE),\"\"))","v":""},"任务&事件文本"]
[2772,{"$f":"_xlfn.TEXTJOIN(\"\",1,IFERROR(VLOOKUP(A2775,[1]EventConfig!$T:$V,3,FALSE),\"\"),IFERROR(VLOOKUP(A2775,[1]EventConfig!$U:$W,3,FALSE),\"\"),IFERROR(VLOOKUP(A2775,[1]EventLinkConfig!$B:$C,2,FALSE),\"\"),IFERROR(VLOOKUP(A2775,[1]EventLinkConfig!$D:$E,2,FALSE),\"\"),IFERROR(VLOOKUP(A2775,[1]EventLinkConfig!$L:$M,2,FALSE),\"\"),IFERROR(VLOOKUP(A2775,[1]EventLinkConfig!$X:$Y,2,FALSE),\"\"),IFERROR(VLOOKUP(A2775,[1]EventLinkConfig!$AA:$AB,2,FALSE),\"\"),IFERROR(VLOOKUP(A2775,[1]EventConditionConfig!$B:$D,3,FALSE),\"\"))","v":""},"任务&事件文本"]
[2773,{"$f":"_xlfn.TEXTJOIN(\"\",1,IFERROR(VLOOKUP(A2776,[1]EventConfig!$T:$V,3,FALSE),\"\"),IFERROR(VLOOKUP(A2776,[1]EventConfig!$U:$W,3,FALSE),\"\"),IFERROR(VLOOKUP(A2776,[1]EventLinkConfig!$B:$C,2,FALSE),\"\"),IFERROR(VLOOKUP(A2776,[1]EventLinkConfig!$D:$E,2,FALSE),\"\"),IFERROR(VLOOKUP(A2776,[1]EventLinkConfig!$L:$M,2,FALSE),\"\"),IFERROR(VLOOKUP(A2776,[1]EventLinkConfig!$X:$Y,2,FALSE),\"\"),IFERROR(VLOOKUP(A2776,[1]EventLinkConfig!$AA:$AB,2,FALSE),\"\"),IFERROR(VLOOKUP(A2776,[1]EventConditionConfig!$B:$D,3,FALSE),\"\"))","v":""},"任务&事件文本"]
[2774,{"$f":"_xlfn.TEXTJOIN(\"\",1,IFERROR(VLOOKUP(A2777,[1]EventConfig!$T:$V,3,FALSE),\"\"),IFERROR(VLOOKUP(A2777,[1]EventConfig!$U:$W,3,FALSE),\"\"),IFERROR(VLOOKUP(A2777,[1]EventLinkConfig!$B:$C,2,FALSE),\"\"),IFERROR(VLOOKUP(A2777,[1]EventLinkConfig!$D:$E,2,FALSE),\"\"),IFERROR(VLOOKUP(A2777,[1]EventLinkConfig!$L:$M,2,FALSE),\"\"),IFERROR(VLOOKUP(A2777,[1]EventLinkConfig!$X:$Y,2,FALSE),\"\"),IFERROR(VLOOKUP(A2777,[1]EventLinkConfig!$AA:$AB,2,FALSE),\"\"),IFERROR(VLOOKUP(A2777,[1]EventConditionConfig!$B:$D,3,FALSE),\"\"))","v":""},"任务&事件文本"]
[2775,{"$f":"_xlfn.TEXTJOIN(\"\",1,IFERROR(VLOOKUP(A2778,[1]EventConfig!$T:$V,3,FALSE),\"\"),IFERROR(VLOOKUP(A2778,[1]EventConfig!$U:$W,3,FALSE),\"\"),IFERROR(VLOOKUP(A2778,[1]EventLinkConfig!$B:$C,2,FALSE),\"\"),IFERROR(VLOOKUP(A2778,[1]EventLinkConfig!$D:$E,2,FALSE),\"\"),IFERROR(VLOOKUP(A2778,[1]EventLinkConfig!$L:$M,2,FALSE),\"\"),IFERROR(VLOOKUP(A2778,[1]EventLinkConfig!$X:$Y,2,FALSE),\"\"),IFERROR(VLOOKUP(A2778,[1]EventLinkConfig!$AA:$AB,2,FALSE),\"\"),IFERROR(VLOOKUP(A2778,[1]EventConditionConfig!$B:$D,3,FALSE),\"\"))","v":""},"任务&事件文本"]
[2776,{"$f":"_xlfn.TEXTJOIN(\"\",1,IFERROR(VLOOKUP(A2779,[1]EventConfig!$T:$V,3,FALSE),\"\"),IFERROR(VLOOKUP(A2779,[1]EventConfig!$U:$W,3,FALSE),\"\"),IFERROR(VLOOKUP(A2779,[1]EventLinkConfig!$B:$C,2,FALSE),\"\"),IFERROR(VLOOKUP(A2779,[1]EventLinkConfig!$D:$E,2,FALSE),\"\"),IFERROR(VLOOKUP(A2779,[1]EventLinkConfig!$L:$M,2,FALSE),\"\"),IFERROR(VLOOKUP(A2779,[1]EventLinkConfig!$X:$Y,2,FALSE),\"\"),IFERROR(VLOOKUP(A2779,[1]EventLinkConfig!$AA:$AB,2,FALSE),\"\"),IFERROR(VLOOKUP(A2779,[1]EventConditionConfig!$B:$D,3,FALSE),\"\"))","v":""},"任务&事件文本"]
[2777,{"$f":"_xlfn.TEXTJOIN(\"\",1,IFERROR(VLOOKUP(A2780,[1]EventConfig!$T:$V,3,FALSE),\"\"),IFERROR(VLOOKUP(A2780,[1]EventConfig!$U:$W,3,FALSE),\"\"),IFERROR(VLOOKUP(A2780,[1]EventLinkConfig!$B:$C,2,FALSE),\"\"),IFERROR(VLOOKUP(A2780,[1]EventLinkConfig!$D:$E,2,FALSE),\"\"),IFERROR(VLOOKUP(A2780,[1]EventLinkConfig!$L:$M,2,FALSE),\"\"),IFERROR(VLOOKUP(A2780,[1]EventLinkConfig!$X:$Y,2,FALSE),\"\"),IFERROR(VLOOKUP(A2780,[1]EventLinkConfig!$AA:$AB,2,FALSE),\"\"),IFERROR(VLOOKUP(A2780,[1]EventConditionConfig!$B:$D,3,FALSE),\"\"))","v":""},"任务&事件文本"]
[2778,{"$f":"_xlfn.TEXTJOIN(\"\",1,IFERROR(VLOOKUP(A2781,[1]EventConfig!$T:$V,3,FALSE),\"\"),IFERROR(VLOOKUP(A2781,[1]EventConfig!$U:$W,3,FALSE),\"\"),IFERROR(VLOOKUP(A2781,[1]EventLinkConfig!$B:$C,2,FALSE),\"\"),IFERROR(VLOOKUP(A2781,[1]EventLinkConfig!$D:$E,2,FALSE),\"\"),IFERROR(VLOOKUP(A2781,[1]EventLinkConfig!$L:$M,2,FALSE),\"\"),IFERROR(VLOOKUP(A2781,[1]EventLinkConfig!$X:$Y,2,FALSE),\"\"),IFERROR(VLOOKUP(A2781,[1]EventLinkConfig!$AA:$AB,2,FALSE),\"\"),IFERROR(VLOOKUP(A2781,[1]EventConditionConfig!$B:$D,3,FALSE),\"\"))","v":""},"任务&事件文本"]
[2779,{"$f":"_xlfn.TEXTJOIN(\"\",1,IFERROR(VLOOKUP(A2782,[1]EventConfig!$T:$V,3,FALSE),\"\"),IFERROR(VLOOKUP(A2782,[1]EventConfig!$U:$W,3,FALSE),\"\"),IFERROR(VLOOKUP(A2782,[1]EventLinkConfig!$B:$C,2,FALSE),\"\"),IFERROR(VLOOKUP(A2782,[1]EventLinkConfig!$D:$E,2,FALSE),\"\"),IFERROR(VLOOKUP(A2782,[1]EventLinkConfig!$L:$M,2,FALSE),\"\"),IFERROR(VLOOKUP(A2782,[1]EventLinkConfig!$X:$Y,2,FALSE),\"\"),IFERROR(VLOOKUP(A2782,[1]EventLinkConfig!$AA:$AB,2,FALSE),\"\"),IFERROR(VLOOKUP(A2782,[1]EventConditionConfig!$B:$D,3,FALSE),\"\"))","v":""},"任务&事件文本"]
[2780,{"$f":"_xlfn.TEXTJOIN(\"\",1,IFERROR(VLOOKUP(A2783,[1]EventConfig!$T:$V,3,FALSE),\"\"),IFERROR(VLOOKUP(A2783,[1]EventConfig!$U:$W,3,FALSE),\"\"),IFERROR(VLOOKUP(A2783,[1]EventLinkConfig!$B:$C,2,FALSE),\"\"),IFERROR(VLOOKUP(A2783,[1]EventLinkConfig!$D:$E,2,FALSE),\"\"),IFERROR(VLOOKUP(A2783,[1]EventLinkConfig!$L:$M,2,FALSE),\"\"),IFERROR(VLOOKUP(A2783,[1]EventLinkConfig!$X:$Y,2,FALSE),\"\"),IFERROR(VLOOKUP(A2783,[1]EventLinkConfig!$AA:$AB,2,FALSE),\"\"),IFERROR(VLOOKUP(A2783,[1]EventConditionConfig!$B:$D,3,FALSE),\"\"))","v":""},"任务&事件文本"]
[2781,{"$f":"_xlfn.TEXTJOIN(\"\",1,IFERROR(VLOOKUP(A2784,[1]EventConfig!$T:$V,3,FALSE),\"\"),IFERROR(VLOOKUP(A2784,[1]EventConfig!$U:$W,3,FALSE),\"\"),IFERROR(VLOOKUP(A2784,[1]EventLinkConfig!$B:$C,2,FALSE),\"\"),IFERROR(VLOOKUP(A2784,[1]EventLinkConfig!$D:$E,2,FALSE),\"\"),IFERROR(VLOOKUP(A2784,[1]EventLinkConfig!$L:$M,2,FALSE),\"\"),IFERROR(VLOOKUP(A2784,[1]EventLinkConfig!$X:$Y,2,FALSE),\"\"),IFERROR(VLOOKUP(A2784,[1]EventLinkConfig!$AA:$AB,2,FALSE),\"\"),IFERROR(VLOOKUP(A2784,[1]EventConditionConfig!$B:$D,3,FALSE),\"\"))","v":""},"任务&事件文本"]
[2782,{"$f":"_xlfn.TEXTJOIN(\"\",1,IFERROR(VLOOKUP(A2785,[1]EventConfig!$T:$V,3,FALSE),\"\"),IFERROR(VLOOKUP(A2785,[1]EventConfig!$U:$W,3,FALSE),\"\"),IFERROR(VLOOKUP(A2785,[1]EventLinkConfig!$B:$C,2,FALSE),\"\"),IFERROR(VLOOKUP(A2785,[1]EventLinkConfig!$D:$E,2,FALSE),\"\"),IFERROR(VLOOKUP(A2785,[1]EventLinkConfig!$L:$M,2,FALSE),\"\"),IFERROR(VLOOKUP(A2785,[1]EventLinkConfig!$X:$Y,2,FALSE),\"\"),IFERROR(VLOOKUP(A2785,[1]EventLinkConfig!$AA:$AB,2,FALSE),\"\"),IFERROR(VLOOKUP(A2785,[1]EventConditionConfig!$B:$D,3,FALSE),\"\"))","v":""},"任务&事件文本"]
[2783,{"$f":"_xlfn.TEXTJOIN(\"\",1,IFERROR(VLOOKUP(A2786,[1]EventConfig!$T:$V,3,FALSE),\"\"),IFERROR(VLOOKUP(A2786,[1]EventConfig!$U:$W,3,FALSE),\"\"),IFERROR(VLOOKUP(A2786,[1]EventLinkConfig!$B:$C,2,FALSE),\"\"),IFERROR(VLOOKUP(A2786,[1]EventLinkConfig!$D:$E,2,FALSE),\"\"),IFERROR(VLOOKUP(A2786,[1]EventLinkConfig!$L:$M,2,FALSE),\"\"),IFERROR(VLOOKUP(A2786,[1]EventLinkConfig!$X:$Y,2,FALSE),\"\"),IFERROR(VLOOKUP(A2786,[1]EventLinkConfig!$AA:$AB,2,FALSE),\"\"),IFERROR(VLOOKUP(A2786,[1]EventConditionConfig!$B:$D,3,FALSE),\"\"))","v":""},"任务&事件文本"]
[2784,{"$f":"_xlfn.TEXTJOIN(\"\",1,IFERROR(VLOOKUP(A2787,[1]EventConfig!$T:$V,3,FALSE),\"\"),IFERROR(VLOOKUP(A2787,[1]EventConfig!$U:$W,3,FALSE),\"\"),IFERROR(VLOOKUP(A2787,[1]EventLinkConfig!$B:$C,2,FALSE),\"\"),IFERROR(VLOOKUP(A2787,[1]EventLinkConfig!$D:$E,2,FALSE),\"\"),IFERROR(VLOOKUP(A2787,[1]EventLinkConfig!$L:$M,2,FALSE),\"\"),IFERROR(VLOOKUP(A2787,[1]EventLinkConfig!$X:$Y,2,FALSE),\"\"),IFERROR(VLOOKUP(A2787,[1]EventLinkConfig!$AA:$AB,2,FALSE),\"\"),IFERROR(VLOOKUP(A2787,[1]EventConditionConfig!$B:$D,3,FALSE),\"\"))","v":""},"任务&事件文本"]
[2785,{"$f":"_xlfn.TEXTJOIN(\"\",1,IFERROR(VLOOKUP(A2788,[1]EventConfig!$T:$V,3,FALSE),\"\"),IFERROR(VLOOKUP(A2788,[1]EventConfig!$U:$W,3,FALSE),\"\"),IFERROR(VLOOKUP(A2788,[1]EventLinkConfig!$B:$C,2,FALSE),\"\"),IFERROR(VLOOKUP(A2788,[1]EventLinkConfig!$D:$E,2,FALSE),\"\"),IFERROR(VLOOKUP(A2788,[1]EventLinkConfig!$L:$M,2,FALSE),\"\"),IFERROR(VLOOKUP(A2788,[1]EventLinkConfig!$X:$Y,2,FALSE),\"\"),IFERROR(VLOOKUP(A2788,[1]EventLinkConfig!$AA:$AB,2,FALSE),\"\"),IFERROR(VLOOKUP(A2788,[1]EventConditionConfig!$B:$D,3,FALSE),\"\"))","v":""},"任务&事件文本"]
[2786,{"$f":"_xlfn.TEXTJOIN(\"\",1,IFERROR(VLOOKUP(A2789,[1]EventConfig!$T:$V,3,FALSE),\"\"),IFERROR(VLOOKUP(A2789,[1]EventConfig!$U:$W,3,FALSE),\"\"),IFERROR(VLOOKUP(A2789,[1]EventLinkConfig!$B:$C,2,FALSE),\"\"),IFERROR(VLOOKUP(A2789,[1]EventLinkConfig!$D:$E,2,FALSE),\"\"),IFERROR(VLOOKUP(A2789,[1]EventLinkConfig!$L:$M,2,FALSE),\"\"),IFERROR(VLOOKUP(A2789,[1]EventLinkConfig!$X:$Y,2,FALSE),\"\"),IFERROR(VLOOKUP(A2789,[1]EventLinkConfig!$AA:$AB,2,FALSE),\"\"),IFERROR(VLOOKUP(A2789,[1]EventConditionConfig!$B:$D,3,FALSE),\"\"))","v":""},"任务&事件文本"]
[2787,{"$f":"_xlfn.TEXTJOIN(\"\",1,IFERROR(VLOOKUP(A2790,[1]EventConfig!$T:$V,3,FALSE),\"\"),IFERROR(VLOOKUP(A2790,[1]EventConfig!$U:$W,3,FALSE),\"\"),IFERROR(VLOOKUP(A2790,[1]EventLinkConfig!$B:$C,2,FALSE),\"\"),IFERROR(VLOOKUP(A2790,[1]EventLinkConfig!$D:$E,2,FALSE),\"\"),IFERROR(VLOOKUP(A2790,[1]EventLinkConfig!$L:$M,2,FALSE),\"\"),IFERROR(VLOOKUP(A2790,[1]EventLinkConfig!$X:$Y,2,FALSE),\"\"),IFERROR(VLOOKUP(A2790,[1]EventLinkConfig!$AA:$AB,2,FALSE),\"\"),IFERROR(VLOOKUP(A2790,[1]EventConditionConfig!$B:$D,3,FALSE),\"\"))","v":""},"任务&事件文本"]
[2788,{"$f":"_xlfn.TEXTJOIN(\"\",1,IFERROR(VLOOKUP(A2791,[1]EventConfig!$T:$V,3,FALSE),\"\"),IFERROR(VLOOKUP(A2791,[1]EventConfig!$U:$W,3,FALSE),\"\"),IFERROR(VLOOKUP(A2791,[1]EventLinkConfig!$B:$C,2,FALSE),\"\"),IFERROR(VLOOKUP(A2791,[1]EventLinkConfig!$D:$E,2,FALSE),\"\"),IFERROR(VLOOKUP(A2791,[1]EventLinkConfig!$L:$M,2,FALSE),\"\"),IFERROR(VLOOKUP(A2791,[1]EventLinkConfig!$X:$Y,2,FALSE),\"\"),IFERROR(VLOOKUP(A2791,[1]EventLinkConfig!$AA:$AB,2,FALSE),\"\"),IFERROR(VLOOKUP(A2791,[1]EventConditionConfig!$B:$D,3,FALSE),\"\"))","v":""},"任务&事件文本"]
[2789,{"$f":"_xlfn.TEXTJOIN(\"\",1,IFERROR(VLOOKUP(A2792,[1]EventConfig!$T:$V,3,FALSE),\"\"),IFERROR(VLOOKUP(A2792,[1]EventConfig!$U:$W,3,FALSE),\"\"),IFERROR(VLOOKUP(A2792,[1]EventLinkConfig!$B:$C,2,FALSE),\"\"),IFERROR(VLOOKUP(A2792,[1]EventLinkConfig!$D:$E,2,FALSE),\"\"),IFERROR(VLOOKUP(A2792,[1]EventLinkConfig!$L:$M,2,FALSE),\"\"),IFERROR(VLOOKUP(A2792,[1]EventLinkConfig!$X:$Y,2,FALSE),\"\"),IFERROR(VLOOKUP(A2792,[1]EventLinkConfig!$AA:$AB,2,FALSE),\"\"),IFERROR(VLOOKUP(A2792,[1]EventConditionConfig!$B:$D,3,FALSE),\"\"))","v":""},"任务&事件文本"]
[2790,{"$f":"_xlfn.TEXTJOIN(\"\",1,IFERROR(VLOOKUP(A2793,[1]EventConfig!$T:$V,3,FALSE),\"\"),IFERROR(VLOOKUP(A2793,[1]EventConfig!$U:$W,3,FALSE),\"\"),IFERROR(VLOOKUP(A2793,[1]EventLinkConfig!$B:$C,2,FALSE),\"\"),IFERROR(VLOOKUP(A2793,[1]EventLinkConfig!$D:$E,2,FALSE),\"\"),IFERROR(VLOOKUP(A2793,[1]EventLinkConfig!$L:$M,2,FALSE),\"\"),IFERROR(VLOOKUP(A2793,[1]EventLinkConfig!$X:$Y,2,FALSE),\"\"),IFERROR(VLOOKUP(A2793,[1]EventLinkConfig!$AA:$AB,2,FALSE),\"\"),IFERROR(VLOOKUP(A2793,[1]EventConditionConfig!$B:$D,3,FALSE),\"\"))","v":""},"任务&事件文本"]
[2791,{"$f":"_xlfn.TEXTJOIN(\"\",1,IFERROR(VLOOKUP(A2794,[1]EventConfig!$T:$V,3,FALSE),\"\"),IFERROR(VLOOKUP(A2794,[1]EventConfig!$U:$W,3,FALSE),\"\"),IFERROR(VLOOKUP(A2794,[1]EventLinkConfig!$B:$C,2,FALSE),\"\"),IFERROR(VLOOKUP(A2794,[1]EventLinkConfig!$D:$E,2,FALSE),\"\"),IFERROR(VLOOKUP(A2794,[1]EventLinkConfig!$L:$M,2,FALSE),\"\"),IFERROR(VLOOKUP(A2794,[1]EventLinkConfig!$X:$Y,2,FALSE),\"\"),IFERROR(VLOOKUP(A2794,[1]EventLinkConfig!$AA:$AB,2,FALSE),\"\"),IFERROR(VLOOKUP(A2794,[1]EventConditionConfig!$B:$D,3,FALSE),\"\"))","v":""},"任务&事件文本"]
[2792,{"$f":"_xlfn.TEXTJOIN(\"\",1,IFERROR(VLOOKUP(A2795,[1]EventConfig!$T:$V,3,FALSE),\"\"),IFERROR(VLOOKUP(A2795,[1]EventConfig!$U:$W,3,FALSE),\"\"),IFERROR(VLOOKUP(A2795,[1]EventLinkConfig!$B:$C,2,FALSE),\"\"),IFERROR(VLOOKUP(A2795,[1]EventLinkConfig!$D:$E,2,FALSE),\"\"),IFERROR(VLOOKUP(A2795,[1]EventLinkConfig!$L:$M,2,FALSE),\"\"),IFERROR(VLOOKUP(A2795,[1]EventLinkConfig!$X:$Y,2,FALSE),\"\"),IFERROR(VLOOKUP(A2795,[1]EventLinkConfig!$AA:$AB,2,FALSE),\"\"),IFERROR(VLOOKUP(A2795,[1]EventConditionConfig!$B:$D,3,FALSE),\"\"))","v":""},"任务&事件文本"]
[2793,{"$f":"_xlfn.TEXTJOIN(\"\",1,IFERROR(VLOOKUP(A2796,[1]EventConfig!$T:$V,3,FALSE),\"\"),IFERROR(VLOOKUP(A2796,[1]EventConfig!$U:$W,3,FALSE),\"\"),IFERROR(VLOOKUP(A2796,[1]EventLinkConfig!$B:$C,2,FALSE),\"\"),IFERROR(VLOOKUP(A2796,[1]EventLinkConfig!$D:$E,2,FALSE),\"\"),IFERROR(VLOOKUP(A2796,[1]EventLinkConfig!$L:$M,2,FALSE),\"\"),IFERROR(VLOOKUP(A2796,[1]EventLinkConfig!$X:$Y,2,FALSE),\"\"),IFERROR(VLOOKUP(A2796,[1]EventLinkConfig!$AA:$AB,2,FALSE),\"\"),IFERROR(VLOOKUP(A2796,[1]EventConditionConfig!$B:$D,3,FALSE),\"\"))","v":""},"任务&事件文本"]
[2794,{"$f":"_xlfn.TEXTJOIN(\"\",1,IFERROR(VLOOKUP(A2797,[1]EventConfig!$T:$V,3,FALSE),\"\"),IFERROR(VLOOKUP(A2797,[1]EventConfig!$U:$W,3,FALSE),\"\"),IFERROR(VLOOKUP(A2797,[1]EventLinkConfig!$B:$C,2,FALSE),\"\"),IFERROR(VLOOKUP(A2797,[1]EventLinkConfig!$D:$E,2,FALSE),\"\"),IFERROR(VLOOKUP(A2797,[1]EventLinkConfig!$L:$M,2,FALSE),\"\"),IFERROR(VLOOKUP(A2797,[1]EventLinkConfig!$X:$Y,2,FALSE),\"\"),IFERROR(VLOOKUP(A2797,[1]EventLinkConfig!$AA:$AB,2,FALSE),\"\"),IFERROR(VLOOKUP(A2797,[1]EventConditionConfig!$B:$D,3,FALSE),\"\"))","v":""},"任务&事件文本"]
[2795,{"$f":"_xlfn.TEXTJOIN(\"\",1,IFERROR(VLOOKUP(A2798,[1]EventConfig!$T:$V,3,FALSE),\"\"),IFERROR(VLOOKUP(A2798,[1]EventConfig!$U:$W,3,FALSE),\"\"),IFERROR(VLOOKUP(A2798,[1]EventLinkConfig!$B:$C,2,FALSE),\"\"),IFERROR(VLOOKUP(A2798,[1]EventLinkConfig!$D:$E,2,FALSE),\"\"),IFERROR(VLOOKUP(A2798,[1]EventLinkConfig!$L:$M,2,FALSE),\"\"),IFERROR(VLOOKUP(A2798,[1]EventLinkConfig!$X:$Y,2,FALSE),\"\"),IFERROR(VLOOKUP(A2798,[1]EventLinkConfig!$AA:$AB,2,FALSE),\"\"),IFERROR(VLOOKUP(A2798,[1]EventConditionConfig!$B:$D,3,FALSE),\"\"))","v":""},"任务&事件文本"]
[2796,{"$f":"_xlfn.TEXTJOIN(\"\",1,IFERROR(VLOOKUP(A2799,[1]EventConfig!$T:$V,3,FALSE),\"\"),IFERROR(VLOOKUP(A2799,[1]EventConfig!$U:$W,3,FALSE),\"\"),IFERROR(VLOOKUP(A2799,[1]EventLinkConfig!$B:$C,2,FALSE),\"\"),IFERROR(VLOOKUP(A2799,[1]EventLinkConfig!$D:$E,2,FALSE),\"\"),IFERROR(VLOOKUP(A2799,[1]EventLinkConfig!$L:$M,2,FALSE),\"\"),IFERROR(VLOOKUP(A2799,[1]EventLinkConfig!$X:$Y,2,FALSE),\"\"),IFERROR(VLOOKUP(A2799,[1]EventLinkConfig!$AA:$AB,2,FALSE),\"\"),IFERROR(VLOOKUP(A2799,[1]EventConditionConfig!$B:$D,3,FALSE),\"\"))","v":""},"任务&事件文本"]
[2797,{"$f":"_xlfn.TEXTJOIN(\"\",1,IFERROR(VLOOKUP(A2800,[1]EventConfig!$T:$V,3,FALSE),\"\"),IFERROR(VLOOKUP(A2800,[1]EventConfig!$U:$W,3,FALSE),\"\"),IFERROR(VLOOKUP(A2800,[1]EventLinkConfig!$B:$C,2,FALSE),\"\"),IFERROR(VLOOKUP(A2800,[1]EventLinkConfig!$D:$E,2,FALSE),\"\"),IFERROR(VLOOKUP(A2800,[1]EventLinkConfig!$L:$M,2,FALSE),\"\"),IFERROR(VLOOKUP(A2800,[1]EventLinkConfig!$X:$Y,2,FALSE),\"\"),IFERROR(VLOOKUP(A2800,[1]EventLinkConfig!$AA:$AB,2,FALSE),\"\"),IFERROR(VLOOKUP(A2800,[1]EventConditionConfig!$B:$D,3,FALSE),\"\"))","v":""},"任务&事件文本"]
[2798,{"$f":"_xlfn.TEXTJOIN(\"\",1,IFERROR(VLOOKUP(A2801,[1]EventConfig!$T:$V,3,FALSE),\"\"),IFERROR(VLOOKUP(A2801,[1]EventConfig!$U:$W,3,FALSE),\"\"),IFERROR(VLOOKUP(A2801,[1]EventLinkConfig!$B:$C,2,FALSE),\"\"),IFERROR(VLOOKUP(A2801,[1]EventLinkConfig!$D:$E,2,FALSE),\"\"),IFERROR(VLOOKUP(A2801,[1]EventLinkConfig!$L:$M,2,FALSE),\"\"),IFERROR(VLOOKUP(A2801,[1]EventLinkConfig!$X:$Y,2,FALSE),\"\"),IFERROR(VLOOKUP(A2801,[1]EventLinkConfig!$AA:$AB,2,FALSE),\"\"),IFERROR(VLOOKUP(A2801,[1]EventConditionConfig!$B:$D,3,FALSE),\"\"))","v":""},"任务&事件文本"]
[2799,{"$f":"_xlfn.TEXTJOIN(\"\",1,IFERROR(VLOOKUP(A2802,[1]EventConfig!$T:$V,3,FALSE),\"\"),IFERROR(VLOOKUP(A2802,[1]EventConfig!$U:$W,3,FALSE),\"\"),IFERROR(VLOOKUP(A2802,[1]EventLinkConfig!$B:$C,2,FALSE),\"\"),IFERROR(VLOOKUP(A2802,[1]EventLinkConfig!$D:$E,2,FALSE),\"\"),IFERROR(VLOOKUP(A2802,[1]EventLinkConfig!$L:$M,2,FALSE),\"\"),IFERROR(VLOOKUP(A2802,[1]EventLinkConfig!$X:$Y,2,FALSE),\"\"),IFERROR(VLOOKUP(A2802,[1]EventLinkConfig!$AA:$AB,2,FALSE),\"\"),IFERROR(VLOOKUP(A2802,[1]EventConditionConfig!$B:$D,3,FALSE),\"\"))","v":""},"任务&事件文本"]
[2800,{"$f":"_xlfn.TEXTJOIN(\"\",1,IFERROR(VLOOKUP(A2803,[1]EventConfig!$T:$V,3,FALSE),\"\"),IFERROR(VLOOKUP(A2803,[1]EventConfig!$U:$W,3,FALSE),\"\"),IFERROR(VLOOKUP(A2803,[1]EventLinkConfig!$B:$C,2,FALSE),\"\"),IFERROR(VLOOKUP(A2803,[1]EventLinkConfig!$D:$E,2,FALSE),\"\"),IFERROR(VLOOKUP(A2803,[1]EventLinkConfig!$L:$M,2,FALSE),\"\"),IFERROR(VLOOKUP(A2803,[1]EventLinkConfig!$X:$Y,2,FALSE),\"\"),IFERROR(VLOOKUP(A2803,[1]EventLinkConfig!$AA:$AB,2,FALSE),\"\"),IFERROR(VLOOKUP(A2803,[1]EventConditionConfig!$B:$D,3,FALSE),\"\"))","v":""},"任务&事件文本"]
[2801,{"$f":"_xlfn.TEXTJOIN(\"\",1,IFERROR(VLOOKUP(A2804,[1]EventConfig!$T:$V,3,FALSE),\"\"),IFERROR(VLOOKUP(A2804,[1]EventConfig!$U:$W,3,FALSE),\"\"),IFERROR(VLOOKUP(A2804,[1]EventLinkConfig!$B:$C,2,FALSE),\"\"),IFERROR(VLOOKUP(A2804,[1]EventLinkConfig!$D:$E,2,FALSE),\"\"),IFERROR(VLOOKUP(A2804,[1]EventLinkConfig!$L:$M,2,FALSE),\"\"),IFERROR(VLOOKUP(A2804,[1]EventLinkConfig!$X:$Y,2,FALSE),\"\"),IFERROR(VLOOKUP(A2804,[1]EventLinkConfig!$AA:$AB,2,FALSE),\"\"),IFERROR(VLOOKUP(A2804,[1]EventConditionConfig!$B:$D,3,FALSE),\"\"))","v":"风中洞府1"},"任务&事件文本"]
[2802,{"$f":"_xlfn.TEXTJOIN(\"\",1,IFERROR(VLOOKUP(A2805,[1]EventConfig!$T:$V,3,FALSE),\"\"),IFERROR(VLOOKUP(A2805,[1]EventConfig!$U:$W,3,FALSE),\"\"),IFERROR(VLOOKUP(A2805,[1]EventLinkConfig!$B:$C,2,FALSE),\"\"),IFERROR(VLOOKUP(A2805,[1]EventLinkConfig!$D:$E,2,FALSE),\"\"),IFERROR(VLOOKUP(A2805,[1]EventLinkConfig!$L:$M,2,FALSE),\"\"),IFERROR(VLOOKUP(A2805,[1]EventLinkConfig!$X:$Y,2,FALSE),\"\"),IFERROR(VLOOKUP(A2805,[1]EventLinkConfig!$AA:$AB,2,FALSE),\"\"),IFERROR(VLOOKUP(A2805,[1]EventConditionConfig!$B:$D,3,FALSE),\"\"))","v":"风中洞府2"},"任务&事件文本"]
[2803,{"$f":"_xlfn.TEXTJOIN(\"\",1,IFERROR(VLOOKUP(A2806,[1]EventConfig!$T:$V,3,FALSE),\"\"),IFERROR(VLOOKUP(A2806,[1]EventConfig!$U:$W,3,FALSE),\"\"),IFERROR(VLOOKUP(A2806,[1]EventLinkConfig!$B:$C,2,FALSE),\"\"),IFERROR(VLOOKUP(A2806,[1]EventLinkConfig!$D:$E,2,FALSE),\"\"),IFERROR(VLOOKUP(A2806,[1]EventLinkConfig!$L:$M,2,FALSE),\"\"),IFERROR(VLOOKUP(A2806,[1]EventLinkConfig!$X:$Y,2,FALSE),\"\"),IFERROR(VLOOKUP(A2806,[1]EventLinkConfig!$AA:$AB,2,FALSE),\"\"),IFERROR(VLOOKUP(A2806,[1]EventConditionConfig!$B:$D,3,FALSE),\"\"))","v":"风灵之力"},"任务&事件文本"]
[2804,{"$f":"_xlfn.TEXTJOIN(\"\",1,IFERROR(VLOOKUP(A2807,[1]EventConfig!$T:$V,3,FALSE),\"\"),IFERROR(VLOOKUP(A2807,[1]EventConfig!$U:$W,3,FALSE),\"\"),IFERROR(VLOOKUP(A2807,[1]EventLinkConfig!$B:$C,2,FALSE),\"\"),IFERROR(VLOOKUP(A2807,[1]EventLinkConfig!$D:$E,2,FALSE),\"\"),IFERROR(VLOOKUP(A2807,[1]EventLinkConfig!$L:$M,2,FALSE),\"\"),IFERROR(VLOOKUP(A2807,[1]EventLinkConfig!$X:$Y,2,FALSE),\"\"),IFERROR(VLOOKUP(A2807,[1]EventLinkConfig!$AA:$AB,2,FALSE),\"\"),IFERROR(VLOOKUP(A2807,[1]EventConditionConfig!$B:$D,3,FALSE),\"\"))","v":"北海深处1"},"任务&事件文本"]
[2805,{"$f":"_xlfn.TEXTJOIN(\"\",1,IFERROR(VLOOKUP(A2808,[1]EventConfig!$T:$V,3,FALSE),\"\"),IFERROR(VLOOKUP(A2808,[1]EventConfig!$U:$W,3,FALSE),\"\"),IFERROR(VLOOKUP(A2808,[1]EventLinkConfig!$B:$C,2,FALSE),\"\"),IFERROR(VLOOKUP(A2808,[1]EventLinkConfig!$D:$E,2,FALSE),\"\"),IFERROR(VLOOKUP(A2808,[1]EventLinkConfig!$L:$M,2,FALSE),\"\"),IFERROR(VLOOKUP(A2808,[1]EventLinkConfig!$X:$Y,2,FALSE),\"\"),IFERROR(VLOOKUP(A2808,[1]EventLinkConfig!$AA:$AB,2,FALSE),\"\"),IFERROR(VLOOKUP(A2808,[1]EventConditionConfig!$B:$D,3,FALSE),\"\"))","v":"北海深处2"},"任务&事件文本"]
[2806,{"$f":"_xlfn.TEXTJOIN(\"\",1,IFERROR(VLOOKUP(A2809,[1]EventConfig!$T:$V,3,FALSE),\"\"),IFERROR(VLOOKUP(A2809,[1]EventConfig!$U:$W,3,FALSE),\"\"),IFERROR(VLOOKUP(A2809,[1]EventLinkConfig!$B:$C,2,FALSE),\"\"),IFERROR(VLOOKUP(A2809,[1]EventLinkConfig!$D:$E,2,FALSE),\"\"),IFERROR(VLOOKUP(A2809,[1]EventLinkConfig!$L:$M,2,FALSE),\"\"),IFERROR(VLOOKUP(A2809,[1]EventLinkConfig!$X:$Y,2,FALSE),\"\"),IFERROR(VLOOKUP(A2809,[1]EventLinkConfig!$AA:$AB,2,FALSE),\"\"),IFERROR(VLOOKUP(A2809,[1]EventConditionConfig!$B:$D,3,FALSE),\"\"))","v":"尧之都"},"任务&事件文本"]
[2807,{"$f":"_xlfn.TEXTJOIN(\"\",1,IFERROR(VLOOKUP(A2810,[1]EventConfig!$T:$V,3,FALSE),\"\"),IFERROR(VLOOKUP(A2810,[1]EventConfig!$U:$W,3,FALSE),\"\"),IFERROR(VLOOKUP(A2810,[1]EventLinkConfig!$B:$C,2,FALSE),\"\"),IFERROR(VLOOKUP(A2810,[1]EventLinkConfig!$D:$E,2,FALSE),\"\"),IFERROR(VLOOKUP(A2810,[1]EventLinkConfig!$L:$M,2,FALSE),\"\"),IFERROR(VLOOKUP(A2810,[1]EventLinkConfig!$X:$Y,2,FALSE),\"\"),IFERROR(VLOOKUP(A2810,[1]EventLinkConfig!$AA:$AB,2,FALSE),\"\"),IFERROR(VLOOKUP(A2810,[1]EventConditionConfig!$B:$D,3,FALSE),\"\"))","v":"山林清音"},"任务&事件文本"]
[2808,{"$f":"_xlfn.TEXTJOIN(\"\",1,IFERROR(VLOOKUP(A2811,[1]EventConfig!$T:$V,3,FALSE),\"\"),IFERROR(VLOOKUP(A2811,[1]EventConfig!$U:$W,3,FALSE),\"\"),IFERROR(VLOOKUP(A2811,[1]EventLinkConfig!$B:$C,2,FALSE),\"\"),IFERROR(VLOOKUP(A2811,[1]EventLinkConfig!$D:$E,2,FALSE),\"\"),IFERROR(VLOOKUP(A2811,[1]EventLinkConfig!$L:$M,2,FALSE),\"\"),IFERROR(VLOOKUP(A2811,[1]EventLinkConfig!$X:$Y,2,FALSE),\"\"),IFERROR(VLOOKUP(A2811,[1]EventLinkConfig!$AA:$AB,2,FALSE),\"\"),IFERROR(VLOOKUP(A2811,[1]EventConditionConfig!$B:$D,3,FALSE),\"\"))","v":"山中劳作"},"任务&事件文本"]
[2809,{"$f":"_xlfn.TEXTJOIN(\"\",1,IFERROR(VLOOKUP(A2812,[1]EventConfig!$T:$V,3,FALSE),\"\"),IFERROR(VLOOKUP(A2812,[1]EventConfig!$U:$W,3,FALSE),\"\"),IFERROR(VLOOKUP(A2812,[1]EventLinkConfig!$B:$C,2,FALSE),\"\"),IFERROR(VLOOKUP(A2812,[1]EventLinkConfig!$D:$E,2,FALSE),\"\"),IFERROR(VLOOKUP(A2812,[1]EventLinkConfig!$L:$M,2,FALSE),\"\"),IFERROR(VLOOKUP(A2812,[1]EventLinkConfig!$X:$Y,2,FALSE),\"\"),IFERROR(VLOOKUP(A2812,[1]EventLinkConfig!$AA:$AB,2,FALSE),\"\"),IFERROR(VLOOKUP(A2812,[1]EventConditionConfig!$B:$D,3,FALSE),\"\"))","v":"风起夜战"},"任务&事件文本"]
[2810,{"$f":"_xlfn.TEXTJOIN(\"\",1,IFERROR(VLOOKUP(A2813,[1]EventConfig!$T:$V,3,FALSE),\"\"),IFERROR(VLOOKUP(A2813,[1]EventConfig!$U:$W,3,FALSE),\"\"),IFERROR(VLOOKUP(A2813,[1]EventLinkConfig!$B:$C,2,FALSE),\"\"),IFERROR(VLOOKUP(A2813,[1]EventLinkConfig!$D:$E,2,FALSE),\"\"),IFERROR(VLOOKUP(A2813,[1]EventLinkConfig!$L:$M,2,FALSE),\"\"),IFERROR(VLOOKUP(A2813,[1]EventLinkConfig!$X:$Y,2,FALSE),\"\"),IFERROR(VLOOKUP(A2813,[1]EventLinkConfig!$AA:$AB,2,FALSE),\"\"),IFERROR(VLOOKUP(A2813,[1]EventConditionConfig!$B:$D,3,FALSE),\"\"))","v":"吃茶三问"},"任务&事件文本"]
[2811,{"$f":"_xlfn.TEXTJOIN(\"\",1,IFERROR(VLOOKUP(A2814,[1]EventConfig!$T:$V,3,FALSE),\"\"),IFERROR(VLOOKUP(A2814,[1]EventConfig!$U:$W,3,FALSE),\"\"),IFERROR(VLOOKUP(A2814,[1]EventLinkConfig!$B:$C,2,FALSE),\"\"),IFERROR(VLOOKUP(A2814,[1]EventLinkConfig!$D:$E,2,FALSE),\"\"),IFERROR(VLOOKUP(A2814,[1]EventLinkConfig!$L:$M,2,FALSE),\"\"),IFERROR(VLOOKUP(A2814,[1]EventLinkConfig!$X:$Y,2,FALSE),\"\"),IFERROR(VLOOKUP(A2814,[1]EventLinkConfig!$AA:$AB,2,FALSE),\"\"),IFERROR(VLOOKUP(A2814,[1]EventConditionConfig!$B:$D,3,FALSE),\"\"))","v":"尧让天下"},"任务&事件文本"]
[2812,{"$f":"_xlfn.TEXTJOIN(\"\",1,IFERROR(VLOOKUP(A2815,[1]EventConfig!$T:$V,3,FALSE),\"\"),IFERROR(VLOOKUP(A2815,[1]EventConfig!$U:$W,3,FALSE),\"\"),IFERROR(VLOOKUP(A2815,[1]EventLinkConfig!$B:$C,2,FALSE),\"\"),IFERROR(VLOOKUP(A2815,[1]EventLinkConfig!$D:$E,2,FALSE),\"\"),IFERROR(VLOOKUP(A2815,[1]EventLinkConfig!$L:$M,2,FALSE),\"\"),IFERROR(VLOOKUP(A2815,[1]EventLinkConfig!$X:$Y,2,FALSE),\"\"),IFERROR(VLOOKUP(A2815,[1]EventLinkConfig!$AA:$AB,2,FALSE),\"\"),IFERROR(VLOOKUP(A2815,[1]EventConditionConfig!$B:$D,3,FALSE),\"\"))","v":"无用之树"},"任务&事件文本"]
[2813,{"$f":"_xlfn.TEXTJOIN(\"\",1,IFERROR(VLOOKUP(A2816,[1]EventConfig!$T:$V,3,FALSE),\"\"),IFERROR(VLOOKUP(A2816,[1]EventConfig!$U:$W,3,FALSE),\"\"),IFERROR(VLOOKUP(A2816,[1]EventLinkConfig!$B:$C,2,FALSE),\"\"),IFERROR(VLOOKUP(A2816,[1]EventLinkConfig!$D:$E,2,FALSE),\"\"),IFERROR(VLOOKUP(A2816,[1]EventLinkConfig!$L:$M,2,FALSE),\"\"),IFERROR(VLOOKUP(A2816,[1]EventLinkConfig!$X:$Y,2,FALSE),\"\"),IFERROR(VLOOKUP(A2816,[1]EventLinkConfig!$AA:$AB,2,FALSE),\"\"),IFERROR(VLOOKUP(A2816,[1]EventConditionConfig!$B:$D,3,FALSE),\"\"))","v":"樗木之灵"},"任务&事件文本"]
[2814,{"$f":"_xlfn.TEXTJOIN(\"\",1,IFERROR(VLOOKUP(A2817,[1]EventConfig!$T:$V,3,FALSE),\"\"),IFERROR(VLOOKUP(A2817,[1]EventConfig!$U:$W,3,FALSE),\"\"),IFERROR(VLOOKUP(A2817,[1]EventLinkConfig!$B:$C,2,FALSE),\"\"),IFERROR(VLOOKUP(A2817,[1]EventLinkConfig!$D:$E,2,FALSE),\"\"),IFERROR(VLOOKUP(A2817,[1]EventLinkConfig!$L:$M,2,FALSE),\"\"),IFERROR(VLOOKUP(A2817,[1]EventLinkConfig!$X:$Y,2,FALSE),\"\"),IFERROR(VLOOKUP(A2817,[1]EventLinkConfig!$AA:$AB,2,FALSE),\"\"),IFERROR(VLOOKUP(A2817,[1]EventConditionConfig!$B:$D,3,FALSE),\"\"))","v":"游尧都"},"任务&事件文本"]
[2815,{"$f":"_xlfn.TEXTJOIN(\"\",1,IFERROR(VLOOKUP(A2818,[1]EventConfig!$T:$V,3,FALSE),\"\"),IFERROR(VLOOKUP(A2818,[1]EventConfig!$U:$W,3,FALSE),\"\"),IFERROR(VLOOKUP(A2818,[1]EventLinkConfig!$B:$C,2,FALSE),\"\"),IFERROR(VLOOKUP(A2818,[1]EventLinkConfig!$D:$E,2,FALSE),\"\"),IFERROR(VLOOKUP(A2818,[1]EventLinkConfig!$L:$M,2,FALSE),\"\"),IFERROR(VLOOKUP(A2818,[1]EventLinkConfig!$X:$Y,2,FALSE),\"\"),IFERROR(VLOOKUP(A2818,[1]EventLinkConfig!$AA:$AB,2,FALSE),\"\"),IFERROR(VLOOKUP(A2818,[1]EventConditionConfig!$B:$D,3,FALSE),\"\"))","v":"再见尧帝"},"任务&事件文本"]
[2816,{"$f":"_xlfn.TEXTJOIN(\"\",1,IFERROR(VLOOKUP(A2819,[1]EventConfig!$T:$V,3,FALSE),\"\"),IFERROR(VLOOKUP(A2819,[1]EventConfig!$U:$W,3,FALSE),\"\"),IFERROR(VLOOKUP(A2819,[1]EventLinkConfig!$B:$C,2,FALSE),\"\"),IFERROR(VLOOKUP(A2819,[1]EventLinkConfig!$D:$E,2,FALSE),\"\"),IFERROR(VLOOKUP(A2819,[1]EventLinkConfig!$L:$M,2,FALSE),\"\"),IFERROR(VLOOKUP(A2819,[1]EventLinkConfig!$X:$Y,2,FALSE),\"\"),IFERROR(VLOOKUP(A2819,[1]EventLinkConfig!$AA:$AB,2,FALSE),\"\"),IFERROR(VLOOKUP(A2819,[1]EventConditionConfig!$B:$D,3,FALSE),\"\"))","v":"云海漫行"},"任务&事件文本"]
[2817,{"$f":"_xlfn.TEXTJOIN(\"\",1,IFERROR(VLOOKUP(A2820,[1]EventConfig!$T:$V,3,FALSE),\"\"),IFERROR(VLOOKUP(A2820,[1]EventConfig!$U:$W,3,FALSE),\"\"),IFERROR(VLOOKUP(A2820,[1]EventLinkConfig!$B:$C,2,FALSE),\"\"),IFERROR(VLOOKUP(A2820,[1]EventLinkConfig!$D:$E,2,FALSE),\"\"),IFERROR(VLOOKUP(A2820,[1]EventLinkConfig!$L:$M,2,FALSE),\"\"),IFERROR(VLOOKUP(A2820,[1]EventLinkConfig!$X:$Y,2,FALSE),\"\"),IFERROR(VLOOKUP(A2820,[1]EventLinkConfig!$AA:$AB,2,FALSE),\"\"),IFERROR(VLOOKUP(A2820,[1]EventConditionConfig!$B:$D,3,FALSE),\"\"))","v":"初见惠子"},"任务&事件文本"]
[2818,{"$f":"_xlfn.TEXTJOIN(\"\",1,IFERROR(VLOOKUP(A2821,[1]EventConfig!$T:$V,3,FALSE),\"\"),IFERROR(VLOOKUP(A2821,[1]EventConfig!$U:$W,3,FALSE),\"\"),IFERROR(VLOOKUP(A2821,[1]EventLinkConfig!$B:$C,2,FALSE),\"\"),IFERROR(VLOOKUP(A2821,[1]EventLinkConfig!$D:$E,2,FALSE),\"\"),IFERROR(VLOOKUP(A2821,[1]EventLinkConfig!$L:$M,2,FALSE),\"\"),IFERROR(VLOOKUP(A2821,[1]EventLinkConfig!$X:$Y,2,FALSE),\"\"),IFERROR(VLOOKUP(A2821,[1]EventLinkConfig!$AA:$AB,2,FALSE),\"\"),IFERROR(VLOOKUP(A2821,[1]EventConditionConfig!$B:$D,3,FALSE),\"\"))","v":"葫芦肥料"},"任务&事件文本"]
[2819,{"$f":"_xlfn.TEXTJOIN(\"\",1,IFERROR(VLOOKUP(A2822,[1]EventConfig!$T:$V,3,FALSE),\"\"),IFERROR(VLOOKUP(A2822,[1]EventConfig!$U:$W,3,FALSE),\"\"),IFERROR(VLOOKUP(A2822,[1]EventLinkConfig!$B:$C,2,FALSE),\"\"),IFERROR(VLOOKUP(A2822,[1]EventLinkConfig!$D:$E,2,FALSE),\"\"),IFERROR(VLOOKUP(A2822,[1]EventLinkConfig!$L:$M,2,FALSE),\"\"),IFERROR(VLOOKUP(A2822,[1]EventLinkConfig!$X:$Y,2,FALSE),\"\"),IFERROR(VLOOKUP(A2822,[1]EventLinkConfig!$AA:$AB,2,FALSE),\"\"),IFERROR(VLOOKUP(A2822,[1]EventConditionConfig!$B:$D,3,FALSE),\"\"))","v":"藐姑射山"},"任务&事件文本"]
[2820,{"$f":"_xlfn.TEXTJOIN(\"\",1,IFERROR(VLOOKUP(A2823,[1]EventConfig!$T:$V,3,FALSE),\"\"),IFERROR(VLOOKUP(A2823,[1]EventConfig!$U:$W,3,FALSE),\"\"),IFERROR(VLOOKUP(A2823,[1]EventLinkConfig!$B:$C,2,FALSE),\"\"),IFERROR(VLOOKUP(A2823,[1]EventLinkConfig!$D:$E,2,FALSE),\"\"),IFERROR(VLOOKUP(A2823,[1]EventLinkConfig!$L:$M,2,FALSE),\"\"),IFERROR(VLOOKUP(A2823,[1]EventLinkConfig!$X:$Y,2,FALSE),\"\"),IFERROR(VLOOKUP(A2823,[1]EventLinkConfig!$AA:$AB,2,FALSE),\"\"),IFERROR(VLOOKUP(A2823,[1]EventConditionConfig!$B:$D,3,FALSE),\"\"))","v":"炼器师"},"任务&事件文本"]
[2821,{"$f":"_xlfn.TEXTJOIN(\"\",1,IFERROR(VLOOKUP(A2824,[1]EventConfig!$T:$V,3,FALSE),\"\"),IFERROR(VLOOKUP(A2824,[1]EventConfig!$U:$W,3,FALSE),\"\"),IFERROR(VLOOKUP(A2824,[1]EventLinkConfig!$B:$C,2,FALSE),\"\"),IFERROR(VLOOKUP(A2824,[1]EventLinkConfig!$D:$E,2,FALSE),\"\"),IFERROR(VLOOKUP(A2824,[1]EventLinkConfig!$L:$M,2,FALSE),\"\"),IFERROR(VLOOKUP(A2824,[1]EventLinkConfig!$X:$Y,2,FALSE),\"\"),IFERROR(VLOOKUP(A2824,[1]EventLinkConfig!$AA:$AB,2,FALSE),\"\"),IFERROR(VLOOKUP(A2824,[1]EventConditionConfig!$B:$D,3,FALSE),\"\"))","v":"忘火剑"},"任务&事件文本"]
[2822,{"$f":"_xlfn.TEXTJOIN(\"\",1,IFERROR(VLOOKUP(A2825,[1]EventConfig!$T:$V,3,FALSE),\"\"),IFERROR(VLOOKUP(A2825,[1]EventConfig!$U:$W,3,FALSE),\"\"),IFERROR(VLOOKUP(A2825,[1]EventLinkConfig!$B:$C,2,FALSE),\"\"),IFERROR(VLOOKUP(A2825,[1]EventLinkConfig!$D:$E,2,FALSE),\"\"),IFERROR(VLOOKUP(A2825,[1]EventLinkConfig!$L:$M,2,FALSE),\"\"),IFERROR(VLOOKUP(A2825,[1]EventLinkConfig!$X:$Y,2,FALSE),\"\"),IFERROR(VLOOKUP(A2825,[1]EventLinkConfig!$AA:$AB,2,FALSE),\"\"),IFERROR(VLOOKUP(A2825,[1]EventConditionConfig!$B:$D,3,FALSE),\"\"))","v":"击败痴道人"},"任务&事件文本"]
[2823,{"$f":"_xlfn.TEXTJOIN(\"\",1,IFERROR(VLOOKUP(A2826,[1]EventConfig!$T:$V,3,FALSE),\"\"),IFERROR(VLOOKUP(A2826,[1]EventConfig!$U:$W,3,FALSE),\"\"),IFERROR(VLOOKUP(A2826,[1]EventLinkConfig!$B:$C,2,FALSE),\"\"),IFERROR(VLOOKUP(A2826,[1]EventLinkConfig!$D:$E,2,FALSE),\"\"),IFERROR(VLOOKUP(A2826,[1]EventLinkConfig!$L:$M,2,FALSE),\"\"),IFERROR(VLOOKUP(A2826,[1]EventLinkConfig!$X:$Y,2,FALSE),\"\"),IFERROR(VLOOKUP(A2826,[1]EventLinkConfig!$AA:$AB,2,FALSE),\"\"),IFERROR(VLOOKUP(A2826,[1]EventConditionConfig!$B:$D,3,FALSE),\"\"))","v":"疯痴相聚"},"任务&事件文本"]
[2824,{"$f":"_xlfn.TEXTJOIN(\"\",1,IFERROR(VLOOKUP(A2827,[1]EventConfig!$T:$V,3,FALSE),\"\"),IFERROR(VLOOKUP(A2827,[1]EventConfig!$U:$W,3,FALSE),\"\"),IFERROR(VLOOKUP(A2827,[1]EventLinkConfig!$B:$C,2,FALSE),\"\"),IFERROR(VLOOKUP(A2827,[1]EventLinkConfig!$D:$E,2,FALSE),\"\"),IFERROR(VLOOKUP(A2827,[1]EventLinkConfig!$L:$M,2,FALSE),\"\"),IFERROR(VLOOKUP(A2827,[1]EventLinkConfig!$X:$Y,2,FALSE),\"\"),IFERROR(VLOOKUP(A2827,[1]EventLinkConfig!$AA:$AB,2,FALSE),\"\"),IFERROR(VLOOKUP(A2827,[1]EventConditionConfig!$B:$D,3,FALSE),\"\"))","v":"筑基后期"},"任务&事件文本"]
[2825,{"$f":"_xlfn.TEXTJOIN(\"\",1,IFERROR(VLOOKUP(A2828,[1]EventConfig!$T:$V,3,FALSE),\"\"),IFERROR(VLOOKUP(A2828,[1]EventConfig!$U:$W,3,FALSE),\"\"),IFERROR(VLOOKUP(A2828,[1]EventLinkConfig!$B:$C,2,FALSE),\"\"),IFERROR(VLOOKUP(A2828,[1]EventLinkConfig!$D:$E,2,FALSE),\"\"),IFERROR(VLOOKUP(A2828,[1]EventLinkConfig!$L:$M,2,FALSE),\"\"),IFERROR(VLOOKUP(A2828,[1]EventLinkConfig!$X:$Y,2,FALSE),\"\"),IFERROR(VLOOKUP(A2828,[1]EventLinkConfig!$AA:$AB,2,FALSE),\"\"),IFERROR(VLOOKUP(A2828,[1]EventConditionConfig!$B:$D,3,FALSE),\"\"))","v":"妖兽横行"},"任务&事件文本"]
[2826,{"$f":"_xlfn.TEXTJOIN(\"\",1,IFERROR(VLOOKUP(A2829,[1]EventConfig!$T:$V,3,FALSE),\"\"),IFERROR(VLOOKUP(A2829,[1]EventConfig!$U:$W,3,FALSE),\"\"),IFERROR(VLOOKUP(A2829,[1]EventLinkConfig!$B:$C,2,FALSE),\"\"),IFERROR(VLOOKUP(A2829,[1]EventLinkConfig!$D:$E,2,FALSE),\"\"),IFERROR(VLOOKUP(A2829,[1]EventLinkConfig!$L:$M,2,FALSE),\"\"),IFERROR(VLOOKUP(A2829,[1]EventLinkConfig!$X:$Y,2,FALSE),\"\"),IFERROR(VLOOKUP(A2829,[1]EventLinkConfig!$AA:$AB,2,FALSE),\"\"),IFERROR(VLOOKUP(A2829,[1]EventConditionConfig!$B:$D,3,FALSE),\"\"))","v":"遇见鲲鹏"},"任务&事件文本"]
[2827,{"$f":"_xlfn.TEXTJOIN(\"\",1,IFERROR(VLOOKUP(A2830,[1]EventConfig!$T:$V,3,FALSE),\"\"),IFERROR(VLOOKUP(A2830,[1]EventConfig!$U:$W,3,FALSE),\"\"),IFERROR(VLOOKUP(A2830,[1]EventLinkConfig!$B:$C,2,FALSE),\"\"),IFERROR(VLOOKUP(A2830,[1]EventLinkConfig!$D:$E,2,FALSE),\"\"),IFERROR(VLOOKUP(A2830,[1]EventLinkConfig!$L:$M,2,FALSE),\"\"),IFERROR(VLOOKUP(A2830,[1]EventLinkConfig!$X:$Y,2,FALSE),\"\"),IFERROR(VLOOKUP(A2830,[1]EventLinkConfig!$AA:$AB,2,FALSE),\"\"),IFERROR(VLOOKUP(A2830,[1]EventConditionConfig!$B:$D,3,FALSE),\"\"))","v":"尧让天下"},"任务&事件文本"]
[2828,{"$f":"_xlfn.TEXTJOIN(\"\",1,IFERROR(VLOOKUP(A2831,[1]EventConfig!$T:$V,3,FALSE),\"\"),IFERROR(VLOOKUP(A2831,[1]EventConfig!$U:$W,3,FALSE),\"\"),IFERROR(VLOOKUP(A2831,[1]EventLinkConfig!$B:$C,2,FALSE),\"\"),IFERROR(VLOOKUP(A2831,[1]EventLinkConfig!$D:$E,2,FALSE),\"\"),IFERROR(VLOOKUP(A2831,[1]EventLinkConfig!$L:$M,2,FALSE),\"\"),IFERROR(VLOOKUP(A2831,[1]EventLinkConfig!$X:$Y,2,FALSE),\"\"),IFERROR(VLOOKUP(A2831,[1]EventLinkConfig!$AA:$AB,2,FALSE),\"\"),IFERROR(VLOOKUP(A2831,[1]EventConditionConfig!$B:$D,3,FALSE),\"\"))","v":"访贤许由"},"任务&事件文本"]
[2829,{"$f":"_xlfn.TEXTJOIN(\"\",1,IFERROR(VLOOKUP(A2832,[1]EventConfig!$T:$V,3,FALSE),\"\"),IFERROR(VLOOKUP(A2832,[1]EventConfig!$U:$W,3,FALSE),\"\"),IFERROR(VLOOKUP(A2832,[1]EventLinkConfig!$B:$C,2,FALSE),\"\"),IFERROR(VLOOKUP(A2832,[1]EventLinkConfig!$D:$E,2,FALSE),\"\"),IFERROR(VLOOKUP(A2832,[1]EventLinkConfig!$L:$M,2,FALSE),\"\"),IFERROR(VLOOKUP(A2832,[1]EventLinkConfig!$X:$Y,2,FALSE),\"\"),IFERROR(VLOOKUP(A2832,[1]EventLinkConfig!$AA:$AB,2,FALSE),\"\"),IFERROR(VLOOKUP(A2832,[1]EventConditionConfig!$B:$D,3,FALSE),\"\"))","v":"割草喝茶"},"任务&事件文本"]
[2830,{"$f":"_xlfn.TEXTJOIN(\"\",1,IFERROR(VLOOKUP(A2833,[1]EventConfig!$T:$V,3,FALSE),\"\"),IFERROR(VLOOKUP(A2833,[1]EventConfig!$U:$W,3,FALSE),\"\"),IFERROR(VLOOKUP(A2833,[1]EventLinkConfig!$B:$C,2,FALSE),\"\"),IFERROR(VLOOKUP(A2833,[1]EventLinkConfig!$D:$E,2,FALSE),\"\"),IFERROR(VLOOKUP(A2833,[1]EventLinkConfig!$L:$M,2,FALSE),\"\"),IFERROR(VLOOKUP(A2833,[1]EventLinkConfig!$X:$Y,2,FALSE),\"\"),IFERROR(VLOOKUP(A2833,[1]EventLinkConfig!$AA:$AB,2,FALSE),\"\"),IFERROR(VLOOKUP(A2833,[1]EventConditionConfig!$B:$D,3,FALSE),\"\"))","v":"再来一杯"},"任务&事件文本"]
[2831,{"$f":"_xlfn.TEXTJOIN(\"\",1,IFERROR(VLOOKUP(A2834,[1]EventConfig!$T:$V,3,FALSE),\"\"),IFERROR(VLOOKUP(A2834,[1]EventConfig!$U:$W,3,FALSE),\"\"),IFERROR(VLOOKUP(A2834,[1]EventLinkConfig!$B:$C,2,FALSE),\"\"),IFERROR(VLOOKUP(A2834,[1]EventLinkConfig!$D:$E,2,FALSE),\"\"),IFERROR(VLOOKUP(A2834,[1]EventLinkConfig!$L:$M,2,FALSE),\"\"),IFERROR(VLOOKUP(A2834,[1]EventLinkConfig!$X:$Y,2,FALSE),\"\"),IFERROR(VLOOKUP(A2834,[1]EventLinkConfig!$AA:$AB,2,FALSE),\"\"),IFERROR(VLOOKUP(A2834,[1]EventConditionConfig!$B:$D,3,FALSE),\"\"))","v":"战胜妖王"},"任务&事件文本"]
[2832,{"$f":"_xlfn.TEXTJOIN(\"\",1,IFERROR(VLOOKUP(A2835,[1]EventConfig!$T:$V,3,FALSE),\"\"),IFERROR(VLOOKUP(A2835,[1]EventConfig!$U:$W,3,FALSE),\"\"),IFERROR(VLOOKUP(A2835,[1]EventLinkConfig!$B:$C,2,FALSE),\"\"),IFERROR(VLOOKUP(A2835,[1]EventLinkConfig!$D:$E,2,FALSE),\"\"),IFERROR(VLOOKUP(A2835,[1]EventLinkConfig!$L:$M,2,FALSE),\"\"),IFERROR(VLOOKUP(A2835,[1]EventLinkConfig!$X:$Y,2,FALSE),\"\"),IFERROR(VLOOKUP(A2835,[1]EventLinkConfig!$AA:$AB,2,FALSE),\"\"),IFERROR(VLOOKUP(A2835,[1]EventConditionConfig!$B:$D,3,FALSE),\"\"))","v":"复命尧帝"},"任务&事件文本"]
[2833,{"$f":"_xlfn.TEXTJOIN(\"\",1,IFERROR(VLOOKUP(A2836,[1]EventConfig!$T:$V,3,FALSE),\"\"),IFERROR(VLOOKUP(A2836,[1]EventConfig!$U:$W,3,FALSE),\"\"),IFERROR(VLOOKUP(A2836,[1]EventLinkConfig!$B:$C,2,FALSE),\"\"),IFERROR(VLOOKUP(A2836,[1]EventLinkConfig!$D:$E,2,FALSE),\"\"),IFERROR(VLOOKUP(A2836,[1]EventLinkConfig!$L:$M,2,FALSE),\"\"),IFERROR(VLOOKUP(A2836,[1]EventLinkConfig!$X:$Y,2,FALSE),\"\"),IFERROR(VLOOKUP(A2836,[1]EventLinkConfig!$AA:$AB,2,FALSE),\"\"),IFERROR(VLOOKUP(A2836,[1]EventConditionConfig!$B:$D,3,FALSE),\"\"))","v":"树下闲话"},"任务&事件文本"]
[2834,{"$f":"_xlfn.TEXTJOIN(\"\",1,IFERROR(VLOOKUP(A2837,[1]EventConfig!$T:$V,3,FALSE),\"\"),IFERROR(VLOOKUP(A2837,[1]EventConfig!$U:$W,3,FALSE),\"\"),IFERROR(VLOOKUP(A2837,[1]EventLinkConfig!$B:$C,2,FALSE),\"\"),IFERROR(VLOOKUP(A2837,[1]EventLinkConfig!$D:$E,2,FALSE),\"\"),IFERROR(VLOOKUP(A2837,[1]EventLinkConfig!$L:$M,2,FALSE),\"\"),IFERROR(VLOOKUP(A2837,[1]EventLinkConfig!$X:$Y,2,FALSE),\"\"),IFERROR(VLOOKUP(A2837,[1]EventLinkConfig!$AA:$AB,2,FALSE),\"\"),IFERROR(VLOOKUP(A2837,[1]EventConditionConfig!$B:$D,3,FALSE),\"\"))","v":"切磋切磋"},"任务&事件文本"]
[2835,{"$f":"_xlfn.TEXTJOIN(\"\",1,IFERROR(VLOOKUP(A2838,[1]EventConfig!$T:$V,3,FALSE),\"\"),IFERROR(VLOOKUP(A2838,[1]EventConfig!$U:$W,3,FALSE),\"\"),IFERROR(VLOOKUP(A2838,[1]EventLinkConfig!$B:$C,2,FALSE),\"\"),IFERROR(VLOOKUP(A2838,[1]EventLinkConfig!$D:$E,2,FALSE),\"\"),IFERROR(VLOOKUP(A2838,[1]EventLinkConfig!$L:$M,2,FALSE),\"\"),IFERROR(VLOOKUP(A2838,[1]EventLinkConfig!$X:$Y,2,FALSE),\"\"),IFERROR(VLOOKUP(A2838,[1]EventLinkConfig!$AA:$AB,2,FALSE),\"\"),IFERROR(VLOOKUP(A2838,[1]EventConditionConfig!$B:$D,3,FALSE),\"\"))","v":"金丹前期"},"任务&事件文本"]
[2836,{"$f":"_xlfn.TEXTJOIN(\"\",1,IFERROR(VLOOKUP(A2839,[1]EventConfig!$T:$V,3,FALSE),\"\"),IFERROR(VLOOKUP(A2839,[1]EventConfig!$U:$W,3,FALSE),\"\"),IFERROR(VLOOKUP(A2839,[1]EventLinkConfig!$B:$C,2,FALSE),\"\"),IFERROR(VLOOKUP(A2839,[1]EventLinkConfig!$D:$E,2,FALSE),\"\"),IFERROR(VLOOKUP(A2839,[1]EventLinkConfig!$L:$M,2,FALSE),\"\"),IFERROR(VLOOKUP(A2839,[1]EventLinkConfig!$X:$Y,2,FALSE),\"\"),IFERROR(VLOOKUP(A2839,[1]EventLinkConfig!$AA:$AB,2,FALSE),\"\"),IFERROR(VLOOKUP(A2839,[1]EventConditionConfig!$B:$D,3,FALSE),\"\"))","v":"仙山传说"},"任务&事件文本"]
[2837,{"$f":"_xlfn.TEXTJOIN(\"\",1,IFERROR(VLOOKUP(A2840,[1]EventConfig!$T:$V,3,FALSE),\"\"),IFERROR(VLOOKUP(A2840,[1]EventConfig!$U:$W,3,FALSE),\"\"),IFERROR(VLOOKUP(A2840,[1]EventLinkConfig!$B:$C,2,FALSE),\"\"),IFERROR(VLOOKUP(A2840,[1]EventLinkConfig!$D:$E,2,FALSE),\"\"),IFERROR(VLOOKUP(A2840,[1]EventLinkConfig!$L:$M,2,FALSE),\"\"),IFERROR(VLOOKUP(A2840,[1]EventLinkConfig!$X:$Y,2,FALSE),\"\"),IFERROR(VLOOKUP(A2840,[1]EventLinkConfig!$AA:$AB,2,FALSE),\"\"),IFERROR(VLOOKUP(A2840,[1]EventConditionConfig!$B:$D,3,FALSE),\"\"))","v":"入山幻阵"},"任务&事件文本"]
[2838,{"$f":"_xlfn.TEXTJOIN(\"\",1,IFERROR(VLOOKUP(A2841,[1]EventConfig!$T:$V,3,FALSE),\"\"),IFERROR(VLOOKUP(A2841,[1]EventConfig!$U:$W,3,FALSE),\"\"),IFERROR(VLOOKUP(A2841,[1]EventLinkConfig!$B:$C,2,FALSE),\"\"),IFERROR(VLOOKUP(A2841,[1]EventLinkConfig!$D:$E,2,FALSE),\"\"),IFERROR(VLOOKUP(A2841,[1]EventLinkConfig!$L:$M,2,FALSE),\"\"),IFERROR(VLOOKUP(A2841,[1]EventLinkConfig!$X:$Y,2,FALSE),\"\"),IFERROR(VLOOKUP(A2841,[1]EventLinkConfig!$AA:$AB,2,FALSE),\"\"),IFERROR(VLOOKUP(A2841,[1]EventConditionConfig!$B:$D,3,FALSE),\"\"))","v":"葫芦种子"},"任务&事件文本"]
[2839,{"$f":"_xlfn.TEXTJOIN(\"\",1,IFERROR(VLOOKUP(A2842,[1]EventConfig!$T:$V,3,FALSE),\"\"),IFERROR(VLOOKUP(A2842,[1]EventConfig!$U:$W,3,FALSE),\"\"),IFERROR(VLOOKUP(A2842,[1]EventLinkConfig!$B:$C,2,FALSE),\"\"),IFERROR(VLOOKUP(A2842,[1]EventLinkConfig!$D:$E,2,FALSE),\"\"),IFERROR(VLOOKUP(A2842,[1]EventLinkConfig!$L:$M,2,FALSE),\"\"),IFERROR(VLOOKUP(A2842,[1]EventLinkConfig!$X:$Y,2,FALSE),\"\"),IFERROR(VLOOKUP(A2842,[1]EventLinkConfig!$AA:$AB,2,FALSE),\"\"),IFERROR(VLOOKUP(A2842,[1]EventConditionConfig!$B:$D,3,FALSE),\"\"))","v":"天肥地肥"},"任务&事件文本"]
[2840,{"$f":"_xlfn.TEXTJOIN(\"\",1,IFERROR(VLOOKUP(A2843,[1]EventConfig!$T:$V,3,FALSE),\"\"),IFERROR(VLOOKUP(A2843,[1]EventConfig!$U:$W,3,FALSE),\"\"),IFERROR(VLOOKUP(A2843,[1]EventLinkConfig!$B:$C,2,FALSE),\"\"),IFERROR(VLOOKUP(A2843,[1]EventLinkConfig!$D:$E,2,FALSE),\"\"),IFERROR(VLOOKUP(A2843,[1]EventLinkConfig!$L:$M,2,FALSE),\"\"),IFERROR(VLOOKUP(A2843,[1]EventLinkConfig!$X:$Y,2,FALSE),\"\"),IFERROR(VLOOKUP(A2843,[1]EventLinkConfig!$AA:$AB,2,FALSE),\"\"),IFERROR(VLOOKUP(A2843,[1]EventConditionConfig!$B:$D,3,FALSE),\"\"))","v":"登山"},"任务&事件文本"]
[2841,{"$f":"_xlfn.TEXTJOIN(\"\",1,IFERROR(VLOOKUP(A2844,[1]EventConfig!$T:$V,3,FALSE),\"\"),IFERROR(VLOOKUP(A2844,[1]EventConfig!$U:$W,3,FALSE),\"\"),IFERROR(VLOOKUP(A2844,[1]EventLinkConfig!$B:$C,2,FALSE),\"\"),IFERROR(VLOOKUP(A2844,[1]EventLinkConfig!$D:$E,2,FALSE),\"\"),IFERROR(VLOOKUP(A2844,[1]EventLinkConfig!$L:$M,2,FALSE),\"\"),IFERROR(VLOOKUP(A2844,[1]EventLinkConfig!$X:$Y,2,FALSE),\"\"),IFERROR(VLOOKUP(A2844,[1]EventLinkConfig!$AA:$AB,2,FALSE),\"\"),IFERROR(VLOOKUP(A2844,[1]EventConditionConfig!$B:$D,3,FALSE),\"\"))","v":"重铸忘火剑"},"任务&事件文本"]
[2842,{"$f":"_xlfn.TEXTJOIN(\"\",1,IFERROR(VLOOKUP(A2845,[1]EventConfig!$T:$V,3,FALSE),\"\"),IFERROR(VLOOKUP(A2845,[1]EventConfig!$U:$W,3,FALSE),\"\"),IFERROR(VLOOKUP(A2845,[1]EventLinkConfig!$B:$C,2,FALSE),\"\"),IFERROR(VLOOKUP(A2845,[1]EventLinkConfig!$D:$E,2,FALSE),\"\"),IFERROR(VLOOKUP(A2845,[1]EventLinkConfig!$L:$M,2,FALSE),\"\"),IFERROR(VLOOKUP(A2845,[1]EventLinkConfig!$X:$Y,2,FALSE),\"\"),IFERROR(VLOOKUP(A2845,[1]EventLinkConfig!$AA:$AB,2,FALSE),\"\"),IFERROR(VLOOKUP(A2845,[1]EventConditionConfig!$B:$D,3,FALSE),\"\"))","v":"护法"},"任务&事件文本"]
[2843,{"$f":"_xlfn.TEXTJOIN(\"\",1,IFERROR(VLOOKUP(A2846,[1]EventConfig!$T:$V,3,FALSE),\"\"),IFERROR(VLOOKUP(A2846,[1]EventConfig!$U:$W,3,FALSE),\"\"),IFERROR(VLOOKUP(A2846,[1]EventLinkConfig!$B:$C,2,FALSE),\"\"),IFERROR(VLOOKUP(A2846,[1]EventLinkConfig!$D:$E,2,FALSE),\"\"),IFERROR(VLOOKUP(A2846,[1]EventLinkConfig!$L:$M,2,FALSE),\"\"),IFERROR(VLOOKUP(A2846,[1]EventLinkConfig!$X:$Y,2,FALSE),\"\"),IFERROR(VLOOKUP(A2846,[1]EventLinkConfig!$AA:$AB,2,FALSE),\"\"),IFERROR(VLOOKUP(A2846,[1]EventConditionConfig!$B:$D,3,FALSE),\"\"))","v":"- 击败结界兽{0}/{1}"},"任务&事件文本"]
[2844,{"$f":"_xlfn.TEXTJOIN(\"\",1,IFERROR(VLOOKUP(A2847,[1]EventConfig!$T:$V,3,FALSE),\"\"),IFERROR(VLOOKUP(A2847,[1]EventConfig!$U:$W,3,FALSE),\"\"),IFERROR(VLOOKUP(A2847,[1]EventLinkConfig!$B:$C,2,FALSE),\"\"),IFERROR(VLOOKUP(A2847,[1]EventLinkConfig!$D:$E,2,FALSE),\"\"),IFERROR(VLOOKUP(A2847,[1]EventLinkConfig!$L:$M,2,FALSE),\"\"),IFERROR(VLOOKUP(A2847,[1]EventLinkConfig!$X:$Y,2,FALSE),\"\"),IFERROR(VLOOKUP(A2847,[1]EventLinkConfig!$AA:$AB,2,FALSE),\"\"),IFERROR(VLOOKUP(A2847,[1]EventConditionConfig!$B:$D,3,FALSE),\"\"))","v":"- 达到境界：筑基-后期{0}/{1}"},"任务&事件文本"]
[2845,{"$f":"_xlfn.TEXTJOIN(\"\",1,IFERROR(VLOOKUP(A2848,[1]EventConfig!$T:$V,3,FALSE),\"\"),IFERROR(VLOOKUP(A2848,[1]EventConfig!$U:$W,3,FALSE),\"\"),IFERROR(VLOOKUP(A2848,[1]EventLinkConfig!$B:$C,2,FALSE),\"\"),IFERROR(VLOOKUP(A2848,[1]EventLinkConfig!$D:$E,2,FALSE),\"\"),IFERROR(VLOOKUP(A2848,[1]EventLinkConfig!$L:$M,2,FALSE),\"\"),IFERROR(VLOOKUP(A2848,[1]EventLinkConfig!$X:$Y,2,FALSE),\"\"),IFERROR(VLOOKUP(A2848,[1]EventLinkConfig!$AA:$AB,2,FALSE),\"\"),IFERROR(VLOOKUP(A2848,[1]EventConditionConfig!$B:$D,3,FALSE),\"\"))","v":"- 击杀妖兽{0}/{1}"},"任务&事件文本"]
[2846,{"$f":"_xlfn.TEXTJOIN(\"\",1,IFERROR(VLOOKUP(A2849,[1]EventConfig!$T:$V,3,FALSE),\"\"),IFERROR(VLOOKUP(A2849,[1]EventConfig!$U:$W,3,FALSE),\"\"),IFERROR(VLOOKUP(A2849,[1]EventLinkConfig!$B:$C,2,FALSE),\"\"),IFERROR(VLOOKUP(A2849,[1]EventLinkConfig!$D:$E,2,FALSE),\"\"),IFERROR(VLOOKUP(A2849,[1]EventLinkConfig!$L:$M,2,FALSE),\"\"),IFERROR(VLOOKUP(A2849,[1]EventLinkConfig!$X:$Y,2,FALSE),\"\"),IFERROR(VLOOKUP(A2849,[1]EventLinkConfig!$AA:$AB,2,FALSE),\"\"),IFERROR(VLOOKUP(A2849,[1]EventConditionConfig!$B:$D,3,FALSE),\"\"))","v":"- 击败后山小妖{0}/{1}"},"任务&事件文本"]
[2847,{"$f":"_xlfn.TEXTJOIN(\"\",1,IFERROR(VLOOKUP(A2850,[1]EventConfig!$T:$V,3,FALSE),\"\"),IFERROR(VLOOKUP(A2850,[1]EventConfig!$U:$W,3,FALSE),\"\"),IFERROR(VLOOKUP(A2850,[1]EventLinkConfig!$B:$C,2,FALSE),\"\"),IFERROR(VLOOKUP(A2850,[1]EventLinkConfig!$D:$E,2,FALSE),\"\"),IFERROR(VLOOKUP(A2850,[1]EventLinkConfig!$L:$M,2,FALSE),\"\"),IFERROR(VLOOKUP(A2850,[1]EventLinkConfig!$X:$Y,2,FALSE),\"\"),IFERROR(VLOOKUP(A2850,[1]EventLinkConfig!$AA:$AB,2,FALSE),\"\"),IFERROR(VLOOKUP(A2850,[1]EventConditionConfig!$B:$D,3,FALSE),\"\"))","v":"- 收集灵草种子{0}/{1}"},"任务&事件文本"]
[2848,{"$f":"_xlfn.TEXTJOIN(\"\",1,IFERROR(VLOOKUP(A2851,[1]EventConfig!$T:$V,3,FALSE),\"\"),IFERROR(VLOOKUP(A2851,[1]EventConfig!$U:$W,3,FALSE),\"\"),IFERROR(VLOOKUP(A2851,[1]EventLinkConfig!$B:$C,2,FALSE),\"\"),IFERROR(VLOOKUP(A2851,[1]EventLinkConfig!$D:$E,2,FALSE),\"\"),IFERROR(VLOOKUP(A2851,[1]EventLinkConfig!$L:$M,2,FALSE),\"\"),IFERROR(VLOOKUP(A2851,[1]EventLinkConfig!$X:$Y,2,FALSE),\"\"),IFERROR(VLOOKUP(A2851,[1]EventLinkConfig!$AA:$AB,2,FALSE),\"\"),IFERROR(VLOOKUP(A2851,[1]EventConditionConfig!$B:$D,3,FALSE),\"\"))","v":"- 击败夜袭的妖兽{0}/{1}"},"任务&事件文本"]
[2849,{"$f":"_xlfn.TEXTJOIN(\"\",1,IFERROR(VLOOKUP(A2852,[1]EventConfig!$T:$V,3,FALSE),\"\"),IFERROR(VLOOKUP(A2852,[1]EventConfig!$U:$W,3,FALSE),\"\"),IFERROR(VLOOKUP(A2852,[1]EventLinkConfig!$B:$C,2,FALSE),\"\"),IFERROR(VLOOKUP(A2852,[1]EventLinkConfig!$D:$E,2,FALSE),\"\"),IFERROR(VLOOKUP(A2852,[1]EventLinkConfig!$L:$M,2,FALSE),\"\"),IFERROR(VLOOKUP(A2852,[1]EventLinkConfig!$X:$Y,2,FALSE),\"\"),IFERROR(VLOOKUP(A2852,[1]EventLinkConfig!$AA:$AB,2,FALSE),\"\"),IFERROR(VLOOKUP(A2852,[1]EventConditionConfig!$B:$D,3,FALSE),\"\"))","v":"- 击败峰顶的妖王{0}/{1}"},"任务&事件文本"]
[2850,{"$f":"_xlfn.TEXTJOIN(\"\",1,IFERROR(VLOOKUP(A2853,[1]EventConfig!$T:$V,3,FALSE),\"\"),IFERROR(VLOOKUP(A2853,[1]EventConfig!$U:$W,3,FALSE),\"\"),IFERROR(VLOOKUP(A2853,[1]EventLinkConfig!$B:$C,2,FALSE),\"\"),IFERROR(VLOOKUP(A2853,[1]EventLinkConfig!$D:$E,2,FALSE),\"\"),IFERROR(VLOOKUP(A2853,[1]EventLinkConfig!$L:$M,2,FALSE),\"\"),IFERROR(VLOOKUP(A2853,[1]EventLinkConfig!$X:$Y,2,FALSE),\"\"),IFERROR(VLOOKUP(A2853,[1]EventLinkConfig!$AA:$AB,2,FALSE),\"\"),IFERROR(VLOOKUP(A2853,[1]EventConditionConfig!$B:$D,3,FALSE),\"\"))","v":"- 境界达到[金丹-前期]{0}/{1}"},"任务&事件文本"]
[2851,{"$f":"_xlfn.TEXTJOIN(\"\",1,IFERROR(VLOOKUP(A2854,[1]EventConfig!$T:$V,3,FALSE),\"\"),IFERROR(VLOOKUP(A2854,[1]EventConfig!$U:$W,3,FALSE),\"\"),IFERROR(VLOOKUP(A2854,[1]EventLinkConfig!$B:$C,2,FALSE),\"\"),IFERROR(VLOOKUP(A2854,[1]EventLinkConfig!$D:$E,2,FALSE),\"\"),IFERROR(VLOOKUP(A2854,[1]EventLinkConfig!$L:$M,2,FALSE),\"\"),IFERROR(VLOOKUP(A2854,[1]EventLinkConfig!$X:$Y,2,FALSE),\"\"),IFERROR(VLOOKUP(A2854,[1]EventLinkConfig!$AA:$AB,2,FALSE),\"\"),IFERROR(VLOOKUP(A2854,[1]EventConditionConfig!$B:$D,3,FALSE),\"\"))","v":"- 击败仙山的阵眼妖兽{0}/{1}"},"任务&事件文本"]
[2852,{"$f":"_xlfn.TEXTJOIN(\"\",1,IFERROR(VLOOKUP(A2855,[1]EventConfig!$T:$V,3,FALSE),\"\"),IFERROR(VLOOKUP(A2855,[1]EventConfig!$U:$W,3,FALSE),\"\"),IFERROR(VLOOKUP(A2855,[1]EventLinkConfig!$B:$C,2,FALSE),\"\"),IFERROR(VLOOKUP(A2855,[1]EventLinkConfig!$D:$E,2,FALSE),\"\"),IFERROR(VLOOKUP(A2855,[1]EventLinkConfig!$L:$M,2,FALSE),\"\"),IFERROR(VLOOKUP(A2855,[1]EventLinkConfig!$X:$Y,2,FALSE),\"\"),IFERROR(VLOOKUP(A2855,[1]EventLinkConfig!$AA:$AB,2,FALSE),\"\"),IFERROR(VLOOKUP(A2855,[1]EventConditionConfig!$B:$D,3,FALSE),\"\"))","v":"- 击杀灵兽获得天肥{0}/{1}"},"任务&事件文本"]
[2853,{"$f":"_xlfn.TEXTJOIN(\"\",1,IFERROR(VLOOKUP(A2856,[1]EventConfig!$T:$V,3,FALSE),\"\"),IFERROR(VLOOKUP(A2856,[1]EventConfig!$U:$W,3,FALSE),\"\"),IFERROR(VLOOKUP(A2856,[1]EventLinkConfig!$B:$C,2,FALSE),\"\"),IFERROR(VLOOKUP(A2856,[1]EventLinkConfig!$D:$E,2,FALSE),\"\"),IFERROR(VLOOKUP(A2856,[1]EventLinkConfig!$L:$M,2,FALSE),\"\"),IFERROR(VLOOKUP(A2856,[1]EventLinkConfig!$X:$Y,2,FALSE),\"\"),IFERROR(VLOOKUP(A2856,[1]EventLinkConfig!$AA:$AB,2,FALSE),\"\"),IFERROR(VLOOKUP(A2856,[1]EventConditionConfig!$B:$D,3,FALSE),\"\"))","v":"- 获得一件袈裟{0}/{1}"},"任务&事件文本"]
[2854,{"$f":"_xlfn.TEXTJOIN(\"\",1,IFERROR(VLOOKUP(A2857,[1]EventConfig!$T:$V,3,FALSE),\"\"),IFERROR(VLOOKUP(A2857,[1]EventConfig!$U:$W,3,FALSE),\"\"),IFERROR(VLOOKUP(A2857,[1]EventLinkConfig!$B:$C,2,FALSE),\"\"),IFERROR(VLOOKUP(A2857,[1]EventLinkConfig!$D:$E,2,FALSE),\"\"),IFERROR(VLOOKUP(A2857,[1]EventLinkConfig!$L:$M,2,FALSE),\"\"),IFERROR(VLOOKUP(A2857,[1]EventLinkConfig!$X:$Y,2,FALSE),\"\"),IFERROR(VLOOKUP(A2857,[1]EventLinkConfig!$AA:$AB,2,FALSE),\"\"),IFERROR(VLOOKUP(A2857,[1]EventConditionConfig!$B:$D,3,FALSE),\"\"))","v":""},"任务&事件文本"]
[2855,{"$f":"_xlfn.TEXTJOIN(\"\",1,IFERROR(VLOOKUP(A2858,[1]EventConfig!$T:$V,3,FALSE),\"\"),IFERROR(VLOOKUP(A2858,[1]EventConfig!$U:$W,3,FALSE),\"\"),IFERROR(VLOOKUP(A2858,[1]EventLinkConfig!$B:$C,2,FALSE),\"\"),IFERROR(VLOOKUP(A2858,[1]EventLinkConfig!$D:$E,2,FALSE),\"\"),IFERROR(VLOOKUP(A2858,[1]EventLinkConfig!$L:$M,2,FALSE),\"\"),IFERROR(VLOOKUP(A2858,[1]EventLinkConfig!$X:$Y,2,FALSE),\"\"),IFERROR(VLOOKUP(A2858,[1]EventLinkConfig!$AA:$AB,2,FALSE),\"\"),IFERROR(VLOOKUP(A2858,[1]EventConditionConfig!$B:$D,3,FALSE),\"\"))","v":""},"任务&事件文本"]
[2856,{"$f":"_xlfn.TEXTJOIN(\"\",1,IFERROR(VLOOKUP(A2859,[1]EventConfig!$T:$V,3,FALSE),\"\"),IFERROR(VLOOKUP(A2859,[1]EventConfig!$U:$W,3,FALSE),\"\"),IFERROR(VLOOKUP(A2859,[1]EventLinkConfig!$B:$C,2,FALSE),\"\"),IFERROR(VLOOKUP(A2859,[1]EventLinkConfig!$D:$E,2,FALSE),\"\"),IFERROR(VLOOKUP(A2859,[1]EventLinkConfig!$L:$M,2,FALSE),\"\"),IFERROR(VLOOKUP(A2859,[1]EventLinkConfig!$X:$Y,2,FALSE),\"\"),IFERROR(VLOOKUP(A2859,[1]EventLinkConfig!$AA:$AB,2,FALSE),\"\"),IFERROR(VLOOKUP(A2859,[1]EventConditionConfig!$B:$D,3,FALSE),\"\"))","v":""},"任务&事件文本"]
[2857,{"$f":"_xlfn.TEXTJOIN(\"\",1,IFERROR(VLOOKUP(A2860,[1]EventConfig!$T:$V,3,FALSE),\"\"),IFERROR(VLOOKUP(A2860,[1]EventConfig!$U:$W,3,FALSE),\"\"),IFERROR(VLOOKUP(A2860,[1]EventLinkConfig!$B:$C,2,FALSE),\"\"),IFERROR(VLOOKUP(A2860,[1]EventLinkConfig!$D:$E,2,FALSE),\"\"),IFERROR(VLOOKUP(A2860,[1]EventLinkConfig!$L:$M,2,FALSE),\"\"),IFERROR(VLOOKUP(A2860,[1]EventLinkConfig!$X:$Y,2,FALSE),\"\"),IFERROR(VLOOKUP(A2860,[1]EventLinkConfig!$AA:$AB,2,FALSE),\"\"),IFERROR(VLOOKUP(A2860,[1]EventConditionConfig!$B:$D,3,FALSE),\"\"))","v":""},"任务&事件文本"]
[2858,{"$f":"_xlfn.TEXTJOIN(\"\",1,IFERROR(VLOOKUP(A2861,[1]EventConfig!$T:$V,3,FALSE),\"\"),IFERROR(VLOOKUP(A2861,[1]EventConfig!$U:$W,3,FALSE),\"\"),IFERROR(VLOOKUP(A2861,[1]EventLinkConfig!$B:$C,2,FALSE),\"\"),IFERROR(VLOOKUP(A2861,[1]EventLinkConfig!$D:$E,2,FALSE),\"\"),IFERROR(VLOOKUP(A2861,[1]EventLinkConfig!$L:$M,2,FALSE),\"\"),IFERROR(VLOOKUP(A2861,[1]EventLinkConfig!$X:$Y,2,FALSE),\"\"),IFERROR(VLOOKUP(A2861,[1]EventLinkConfig!$AA:$AB,2,FALSE),\"\"),IFERROR(VLOOKUP(A2861,[1]EventConditionConfig!$B:$D,3,FALSE),\"\"))","v":""},"任务&事件文本"]
[2859,{"$f":"_xlfn.TEXTJOIN(\"\",1,IFERROR(VLOOKUP(A2862,[1]EventConfig!$T:$V,3,FALSE),\"\"),IFERROR(VLOOKUP(A2862,[1]EventConfig!$U:$W,3,FALSE),\"\"),IFERROR(VLOOKUP(A2862,[1]EventLinkConfig!$B:$C,2,FALSE),\"\"),IFERROR(VLOOKUP(A2862,[1]EventLinkConfig!$D:$E,2,FALSE),\"\"),IFERROR(VLOOKUP(A2862,[1]EventLinkConfig!$L:$M,2,FALSE),\"\"),IFERROR(VLOOKUP(A2862,[1]EventLinkConfig!$X:$Y,2,FALSE),\"\"),IFERROR(VLOOKUP(A2862,[1]EventLinkConfig!$AA:$AB,2,FALSE),\"\"),IFERROR(VLOOKUP(A2862,[1]EventConditionConfig!$B:$D,3,FALSE),\"\"))","v":""},"任务&事件文本"]
[2860,{"$f":"_xlfn.TEXTJOIN(\"\",1,IFERROR(VLOOKUP(A2863,[1]EventConfig!$T:$V,3,FALSE),\"\"),IFERROR(VLOOKUP(A2863,[1]EventConfig!$U:$W,3,FALSE),\"\"),IFERROR(VLOOKUP(A2863,[1]EventLinkConfig!$B:$C,2,FALSE),\"\"),IFERROR(VLOOKUP(A2863,[1]EventLinkConfig!$D:$E,2,FALSE),\"\"),IFERROR(VLOOKUP(A2863,[1]EventLinkConfig!$L:$M,2,FALSE),\"\"),IFERROR(VLOOKUP(A2863,[1]EventLinkConfig!$X:$Y,2,FALSE),\"\"),IFERROR(VLOOKUP(A2863,[1]EventLinkConfig!$AA:$AB,2,FALSE),\"\"),IFERROR(VLOOKUP(A2863,[1]EventConditionConfig!$B:$D,3,FALSE),\"\"))","v":""},"任务&事件文本"]
[2861,{"$f":"_xlfn.TEXTJOIN(\"\",1,IFERROR(VLOOKUP(A2864,[1]EventConfig!$T:$V,3,FALSE),\"\"),IFERROR(VLOOKUP(A2864,[1]EventConfig!$U:$W,3,FALSE),\"\"),IFERROR(VLOOKUP(A2864,[1]EventLinkConfig!$B:$C,2,FALSE),\"\"),IFERROR(VLOOKUP(A2864,[1]EventLinkConfig!$D:$E,2,FALSE),\"\"),IFERROR(VLOOKUP(A2864,[1]EventLinkConfig!$L:$M,2,FALSE),\"\"),IFERROR(VLOOKUP(A2864,[1]EventLinkConfig!$X:$Y,2,FALSE),\"\"),IFERROR(VLOOKUP(A2864,[1]EventLinkConfig!$AA:$AB,2,FALSE),\"\"),IFERROR(VLOOKUP(A2864,[1]EventConditionConfig!$B:$D,3,FALSE),\"\"))","v":""},"任务&事件文本"]
[2862,{"$f":"_xlfn.TEXTJOIN(\"\",1,IFERROR(VLOOKUP(A2865,[1]EventConfig!$T:$V,3,FALSE),\"\"),IFERROR(VLOOKUP(A2865,[1]EventConfig!$U:$W,3,FALSE),\"\"),IFERROR(VLOOKUP(A2865,[1]EventLinkConfig!$B:$C,2,FALSE),\"\"),IFERROR(VLOOKUP(A2865,[1]EventLinkConfig!$D:$E,2,FALSE),\"\"),IFERROR(VLOOKUP(A2865,[1]EventLinkConfig!$L:$M,2,FALSE),\"\"),IFERROR(VLOOKUP(A2865,[1]EventLinkConfig!$X:$Y,2,FALSE),\"\"),IFERROR(VLOOKUP(A2865,[1]EventLinkConfig!$AA:$AB,2,FALSE),\"\"),IFERROR(VLOOKUP(A2865,[1]EventConditionConfig!$B:$D,3,FALSE),\"\"))","v":""},"任务&事件文本"]
[2863,{"$f":"_xlfn.TEXTJOIN(\"\",1,IFERROR(VLOOKUP(A2866,[1]EventConfig!$T:$V,3,FALSE),\"\"),IFERROR(VLOOKUP(A2866,[1]EventConfig!$U:$W,3,FALSE),\"\"),IFERROR(VLOOKUP(A2866,[1]EventLinkConfig!$B:$C,2,FALSE),\"\"),IFERROR(VLOOKUP(A2866,[1]EventLinkConfig!$D:$E,2,FALSE),\"\"),IFERROR(VLOOKUP(A2866,[1]EventLinkConfig!$L:$M,2,FALSE),\"\"),IFERROR(VLOOKUP(A2866,[1]EventLinkConfig!$X:$Y,2,FALSE),\"\"),IFERROR(VLOOKUP(A2866,[1]EventLinkConfig!$AA:$AB,2,FALSE),\"\"),IFERROR(VLOOKUP(A2866,[1]EventConditionConfig!$B:$D,3,FALSE),\"\"))","v":""},"任务&事件文本"]
[2864,{"$f":"_xlfn.TEXTJOIN(\"\",1,IFERROR(VLOOKUP(A2867,[1]EventConfig!$T:$V,3,FALSE),\"\"),IFERROR(VLOOKUP(A2867,[1]EventConfig!$U:$W,3,FALSE),\"\"),IFERROR(VLOOKUP(A2867,[1]EventLinkConfig!$B:$C,2,FALSE),\"\"),IFERROR(VLOOKUP(A2867,[1]EventLinkConfig!$D:$E,2,FALSE),\"\"),IFERROR(VLOOKUP(A2867,[1]EventLinkConfig!$L:$M,2,FALSE),\"\"),IFERROR(VLOOKUP(A2867,[1]EventLinkConfig!$X:$Y,2,FALSE),\"\"),IFERROR(VLOOKUP(A2867,[1]EventLinkConfig!$AA:$AB,2,FALSE),\"\"),IFERROR(VLOOKUP(A2867,[1]EventConditionConfig!$B:$D,3,FALSE),\"\"))","v":""},"任务&事件文本"]
[2865,{"$f":"_xlfn.TEXTJOIN(\"\",1,IFERROR(VLOOKUP(A2868,[1]EventConfig!$T:$V,3,FALSE),\"\"),IFERROR(VLOOKUP(A2868,[1]EventConfig!$U:$W,3,FALSE),\"\"),IFERROR(VLOOKUP(A2868,[1]EventLinkConfig!$B:$C,2,FALSE),\"\"),IFERROR(VLOOKUP(A2868,[1]EventLinkConfig!$D:$E,2,FALSE),\"\"),IFERROR(VLOOKUP(A2868,[1]EventLinkConfig!$L:$M,2,FALSE),\"\"),IFERROR(VLOOKUP(A2868,[1]EventLinkConfig!$X:$Y,2,FALSE),\"\"),IFERROR(VLOOKUP(A2868,[1]EventLinkConfig!$AA:$AB,2,FALSE),\"\"),IFERROR(VLOOKUP(A2868,[1]EventConditionConfig!$B:$D,3,FALSE),\"\"))","v":""},"任务&事件文本"]
[2866,{"$f":"_xlfn.TEXTJOIN(\"\",1,IFERROR(VLOOKUP(A2869,[1]EventConfig!$T:$V,3,FALSE),\"\"),IFERROR(VLOOKUP(A2869,[1]EventConfig!$U:$W,3,FALSE),\"\"),IFERROR(VLOOKUP(A2869,[1]EventLinkConfig!$B:$C,2,FALSE),\"\"),IFERROR(VLOOKUP(A2869,[1]EventLinkConfig!$D:$E,2,FALSE),\"\"),IFERROR(VLOOKUP(A2869,[1]EventLinkConfig!$L:$M,2,FALSE),\"\"),IFERROR(VLOOKUP(A2869,[1]EventLinkConfig!$X:$Y,2,FALSE),\"\"),IFERROR(VLOOKUP(A2869,[1]EventLinkConfig!$AA:$AB,2,FALSE),\"\"),IFERROR(VLOOKUP(A2869,[1]EventConditionConfig!$B:$D,3,FALSE),\"\"))","v":""},"任务&事件文本"]
[2867,{"$f":"_xlfn.TEXTJOIN(\"\",1,IFERROR(VLOOKUP(A2870,[1]EventConfig!$T:$V,3,FALSE),\"\"),IFERROR(VLOOKUP(A2870,[1]EventConfig!$U:$W,3,FALSE),\"\"),IFERROR(VLOOKUP(A2870,[1]EventLinkConfig!$B:$C,2,FALSE),\"\"),IFERROR(VLOOKUP(A2870,[1]EventLinkConfig!$D:$E,2,FALSE),\"\"),IFERROR(VLOOKUP(A2870,[1]EventLinkConfig!$L:$M,2,FALSE),\"\"),IFERROR(VLOOKUP(A2870,[1]EventLinkConfig!$X:$Y,2,FALSE),\"\"),IFERROR(VLOOKUP(A2870,[1]EventLinkConfig!$AA:$AB,2,FALSE),\"\"),IFERROR(VLOOKUP(A2870,[1]EventConditionConfig!$B:$D,3,FALSE),\"\"))","v":""},"任务&事件文本"]
[2868,{"$f":"_xlfn.TEXTJOIN(\"\",1,IFERROR(VLOOKUP(A2871,[1]EventConfig!$T:$V,3,FALSE),\"\"),IFERROR(VLOOKUP(A2871,[1]EventConfig!$U:$W,3,FALSE),\"\"),IFERROR(VLOOKUP(A2871,[1]EventLinkConfig!$B:$C,2,FALSE),\"\"),IFERROR(VLOOKUP(A2871,[1]EventLinkConfig!$D:$E,2,FALSE),\"\"),IFERROR(VLOOKUP(A2871,[1]EventLinkConfig!$L:$M,2,FALSE),\"\"),IFERROR(VLOOKUP(A2871,[1]EventLinkConfig!$X:$Y,2,FALSE),\"\"),IFERROR(VLOOKUP(A2871,[1]EventLinkConfig!$AA:$AB,2,FALSE),\"\"),IFERROR(VLOOKUP(A2871,[1]EventConditionConfig!$B:$D,3,FALSE),\"\"))","v":""},"任务&事件文本"]
[2869,{"$f":"_xlfn.TEXTJOIN(\"\",1,IFERROR(VLOOKUP(A2872,[1]EventConfig!$T:$V,3,FALSE),\"\"),IFERROR(VLOOKUP(A2872,[1]EventConfig!$U:$W,3,FALSE),\"\"),IFERROR(VLOOKUP(A2872,[1]EventLinkConfig!$B:$C,2,FALSE),\"\"),IFERROR(VLOOKUP(A2872,[1]EventLinkConfig!$D:$E,2,FALSE),\"\"),IFERROR(VLOOKUP(A2872,[1]EventLinkConfig!$L:$M,2,FALSE),\"\"),IFERROR(VLOOKUP(A2872,[1]EventLinkConfig!$X:$Y,2,FALSE),\"\"),IFERROR(VLOOKUP(A2872,[1]EventLinkConfig!$AA:$AB,2,FALSE),\"\"),IFERROR(VLOOKUP(A2872,[1]EventConditionConfig!$B:$D,3,FALSE),\"\"))","v":""},"任务&事件文本"]
[2870,{"$f":"_xlfn.TEXTJOIN(\"\",1,IFERROR(VLOOKUP(A2873,[1]EventConfig!$T:$V,3,FALSE),\"\"),IFERROR(VLOOKUP(A2873,[1]EventConfig!$U:$W,3,FALSE),\"\"),IFERROR(VLOOKUP(A2873,[1]EventLinkConfig!$B:$C,2,FALSE),\"\"),IFERROR(VLOOKUP(A2873,[1]EventLinkConfig!$D:$E,2,FALSE),\"\"),IFERROR(VLOOKUP(A2873,[1]EventLinkConfig!$L:$M,2,FALSE),\"\"),IFERROR(VLOOKUP(A2873,[1]EventLinkConfig!$X:$Y,2,FALSE),\"\"),IFERROR(VLOOKUP(A2873,[1]EventLinkConfig!$AA:$AB,2,FALSE),\"\"),IFERROR(VLOOKUP(A2873,[1]EventConditionConfig!$B:$D,3,FALSE),\"\"))","v":""},"任务&事件文本"]
[2871,{"$f":"_xlfn.TEXTJOIN(\"\",1,IFERROR(VLOOKUP(A2874,[1]EventConfig!$T:$V,3,FALSE),\"\"),IFERROR(VLOOKUP(A2874,[1]EventConfig!$U:$W,3,FALSE),\"\"),IFERROR(VLOOKUP(A2874,[1]EventLinkConfig!$B:$C,2,FALSE),\"\"),IFERROR(VLOOKUP(A2874,[1]EventLinkConfig!$D:$E,2,FALSE),\"\"),IFERROR(VLOOKUP(A2874,[1]EventLinkConfig!$L:$M,2,FALSE),\"\"),IFERROR(VLOOKUP(A2874,[1]EventLinkConfig!$X:$Y,2,FALSE),\"\"),IFERROR(VLOOKUP(A2874,[1]EventLinkConfig!$AA:$AB,2,FALSE),\"\"),IFERROR(VLOOKUP(A2874,[1]EventConditionConfig!$B:$D,3,FALSE),\"\"))","v":""},"任务&事件文本"]
[2872,{"$f":"_xlfn.TEXTJOIN(\"\",1,IFERROR(VLOOKUP(A2875,[1]EventConfig!$T:$V,3,FALSE),\"\"),IFERROR(VLOOKUP(A2875,[1]EventConfig!$U:$W,3,FALSE),\"\"),IFERROR(VLOOKUP(A2875,[1]EventLinkConfig!$B:$C,2,FALSE),\"\"),IFERROR(VLOOKUP(A2875,[1]EventLinkConfig!$D:$E,2,FALSE),\"\"),IFERROR(VLOOKUP(A2875,[1]EventLinkConfig!$L:$M,2,FALSE),\"\"),IFERROR(VLOOKUP(A2875,[1]EventLinkConfig!$X:$Y,2,FALSE),\"\"),IFERROR(VLOOKUP(A2875,[1]EventLinkConfig!$AA:$AB,2,FALSE),\"\"),IFERROR(VLOOKUP(A2875,[1]EventConditionConfig!$B:$D,3,FALSE),\"\"))","v":""},"任务&事件文本"]
[2873,{"$f":"_xlfn.TEXTJOIN(\"\",1,IFERROR(VLOOKUP(A2876,[1]EventConfig!$T:$V,3,FALSE),\"\"),IFERROR(VLOOKUP(A2876,[1]EventConfig!$U:$W,3,FALSE),\"\"),IFERROR(VLOOKUP(A2876,[1]EventLinkConfig!$B:$C,2,FALSE),\"\"),IFERROR(VLOOKUP(A2876,[1]EventLinkConfig!$D:$E,2,FALSE),\"\"),IFERROR(VLOOKUP(A2876,[1]EventLinkConfig!$L:$M,2,FALSE),\"\"),IFERROR(VLOOKUP(A2876,[1]EventLinkConfig!$X:$Y,2,FALSE),\"\"),IFERROR(VLOOKUP(A2876,[1]EventLinkConfig!$AA:$AB,2,FALSE),\"\"),IFERROR(VLOOKUP(A2876,[1]EventConditionConfig!$B:$D,3,FALSE),\"\"))","v":""},"任务&事件文本"]
[2874,{"$f":"_xlfn.TEXTJOIN(\"\",1,IFERROR(VLOOKUP(A2877,[1]EventConfig!$T:$V,3,FALSE),\"\"),IFERROR(VLOOKUP(A2877,[1]EventConfig!$U:$W,3,FALSE),\"\"),IFERROR(VLOOKUP(A2877,[1]EventLinkConfig!$B:$C,2,FALSE),\"\"),IFERROR(VLOOKUP(A2877,[1]EventLinkConfig!$D:$E,2,FALSE),\"\"),IFERROR(VLOOKUP(A2877,[1]EventLinkConfig!$L:$M,2,FALSE),\"\"),IFERROR(VLOOKUP(A2877,[1]EventLinkConfig!$X:$Y,2,FALSE),\"\"),IFERROR(VLOOKUP(A2877,[1]EventLinkConfig!$AA:$AB,2,FALSE),\"\"),IFERROR(VLOOKUP(A2877,[1]EventConditionConfig!$B:$D,3,FALSE),\"\"))","v":""},"任务&事件文本"]
[2875,{"$f":"_xlfn.TEXTJOIN(\"\",1,IFERROR(VLOOKUP(A2878,[1]EventConfig!$T:$V,3,FALSE),\"\"),IFERROR(VLOOKUP(A2878,[1]EventConfig!$U:$W,3,FALSE),\"\"),IFERROR(VLOOKUP(A2878,[1]EventLinkConfig!$B:$C,2,FALSE),\"\"),IFERROR(VLOOKUP(A2878,[1]EventLinkConfig!$D:$E,2,FALSE),\"\"),IFERROR(VLOOKUP(A2878,[1]EventLinkConfig!$L:$M,2,FALSE),\"\"),IFERROR(VLOOKUP(A2878,[1]EventLinkConfig!$X:$Y,2,FALSE),\"\"),IFERROR(VLOOKUP(A2878,[1]EventLinkConfig!$AA:$AB,2,FALSE),\"\"),IFERROR(VLOOKUP(A2878,[1]EventConditionConfig!$B:$D,3,FALSE),\"\"))","v":""},"任务&事件文本"]
[2876,{"$f":"_xlfn.TEXTJOIN(\"\",1,IFERROR(VLOOKUP(A2879,[1]EventConfig!$T:$V,3,FALSE),\"\"),IFERROR(VLOOKUP(A2879,[1]EventConfig!$U:$W,3,FALSE),\"\"),IFERROR(VLOOKUP(A2879,[1]EventLinkConfig!$B:$C,2,FALSE),\"\"),IFERROR(VLOOKUP(A2879,[1]EventLinkConfig!$D:$E,2,FALSE),\"\"),IFERROR(VLOOKUP(A2879,[1]EventLinkConfig!$L:$M,2,FALSE),\"\"),IFERROR(VLOOKUP(A2879,[1]EventLinkConfig!$X:$Y,2,FALSE),\"\"),IFERROR(VLOOKUP(A2879,[1]EventLinkConfig!$AA:$AB,2,FALSE),\"\"),IFERROR(VLOOKUP(A2879,[1]EventConditionConfig!$B:$D,3,FALSE),\"\"))","v":""},"任务&事件文本"]
[2877,{"$f":"_xlfn.TEXTJOIN(\"\",1,IFERROR(VLOOKUP(A2880,[1]EventConfig!$T:$V,3,FALSE),\"\"),IFERROR(VLOOKUP(A2880,[1]EventConfig!$U:$W,3,FALSE),\"\"),IFERROR(VLOOKUP(A2880,[1]EventLinkConfig!$B:$C,2,FALSE),\"\"),IFERROR(VLOOKUP(A2880,[1]EventLinkConfig!$D:$E,2,FALSE),\"\"),IFERROR(VLOOKUP(A2880,[1]EventLinkConfig!$L:$M,2,FALSE),\"\"),IFERROR(VLOOKUP(A2880,[1]EventLinkConfig!$X:$Y,2,FALSE),\"\"),IFERROR(VLOOKUP(A2880,[1]EventLinkConfig!$AA:$AB,2,FALSE),\"\"),IFERROR(VLOOKUP(A2880,[1]EventConditionConfig!$B:$D,3,FALSE),\"\"))","v":""},"任务&事件文本"]
[2878,{"$f":"_xlfn.TEXTJOIN(\"\",1,IFERROR(VLOOKUP(A2881,[1]EventConfig!$T:$V,3,FALSE),\"\"),IFERROR(VLOOKUP(A2881,[1]EventConfig!$U:$W,3,FALSE),\"\"),IFERROR(VLOOKUP(A2881,[1]EventLinkConfig!$B:$C,2,FALSE),\"\"),IFERROR(VLOOKUP(A2881,[1]EventLinkConfig!$D:$E,2,FALSE),\"\"),IFERROR(VLOOKUP(A2881,[1]EventLinkConfig!$L:$M,2,FALSE),\"\"),IFERROR(VLOOKUP(A2881,[1]EventLinkConfig!$X:$Y,2,FALSE),\"\"),IFERROR(VLOOKUP(A2881,[1]EventLinkConfig!$AA:$AB,2,FALSE),\"\"),IFERROR(VLOOKUP(A2881,[1]EventConditionConfig!$B:$D,3,FALSE),\"\"))","v":""},"任务&事件文本"]
[2879,{"$f":"_xlfn.TEXTJOIN(\"\",1,IFERROR(VLOOKUP(A2882,[1]EventConfig!$T:$V,3,FALSE),\"\"),IFERROR(VLOOKUP(A2882,[1]EventConfig!$U:$W,3,FALSE),\"\"),IFERROR(VLOOKUP(A2882,[1]EventLinkConfig!$B:$C,2,FALSE),\"\"),IFERROR(VLOOKUP(A2882,[1]EventLinkConfig!$D:$E,2,FALSE),\"\"),IFERROR(VLOOKUP(A2882,[1]EventLinkConfig!$L:$M,2,FALSE),\"\"),IFERROR(VLOOKUP(A2882,[1]EventLinkConfig!$X:$Y,2,FALSE),\"\"),IFERROR(VLOOKUP(A2882,[1]EventLinkConfig!$AA:$AB,2,FALSE),\"\"),IFERROR(VLOOKUP(A2882,[1]EventConditionConfig!$B:$D,3,FALSE),\"\"))","v":""},"任务&事件文本"]
[2880,{"$f":"_xlfn.TEXTJOIN(\"\",1,IFERROR(VLOOKUP(A2883,[1]EventConfig!$T:$V,3,FALSE),\"\"),IFERROR(VLOOKUP(A2883,[1]EventConfig!$U:$W,3,FALSE),\"\"),IFERROR(VLOOKUP(A2883,[1]EventLinkConfig!$B:$C,2,FALSE),\"\"),IFERROR(VLOOKUP(A2883,[1]EventLinkConfig!$D:$E,2,FALSE),\"\"),IFERROR(VLOOKUP(A2883,[1]EventLinkConfig!$L:$M,2,FALSE),\"\"),IFERROR(VLOOKUP(A2883,[1]EventLinkConfig!$X:$Y,2,FALSE),\"\"),IFERROR(VLOOKUP(A2883,[1]EventLinkConfig!$AA:$AB,2,FALSE),\"\"),IFERROR(VLOOKUP(A2883,[1]EventConditionConfig!$B:$D,3,FALSE),\"\"))","v":""},"任务&事件文本"]
[2881,{"$f":"_xlfn.TEXTJOIN(\"\",1,IFERROR(VLOOKUP(A2884,[1]EventConfig!$T:$V,3,FALSE),\"\"),IFERROR(VLOOKUP(A2884,[1]EventConfig!$U:$W,3,FALSE),\"\"),IFERROR(VLOOKUP(A2884,[1]EventLinkConfig!$B:$C,2,FALSE),\"\"),IFERROR(VLOOKUP(A2884,[1]EventLinkConfig!$D:$E,2,FALSE),\"\"),IFERROR(VLOOKUP(A2884,[1]EventLinkConfig!$L:$M,2,FALSE),\"\"),IFERROR(VLOOKUP(A2884,[1]EventLinkConfig!$X:$Y,2,FALSE),\"\"),IFERROR(VLOOKUP(A2884,[1]EventLinkConfig!$AA:$AB,2,FALSE),\"\"),IFERROR(VLOOKUP(A2884,[1]EventConditionConfig!$B:$D,3,FALSE),\"\"))","v":""},"任务&事件文本"]
[2882,{"$f":"_xlfn.TEXTJOIN(\"\",1,IFERROR(VLOOKUP(A2885,[1]EventConfig!$T:$V,3,FALSE),\"\"),IFERROR(VLOOKUP(A2885,[1]EventConfig!$U:$W,3,FALSE),\"\"),IFERROR(VLOOKUP(A2885,[1]EventLinkConfig!$B:$C,2,FALSE),\"\"),IFERROR(VLOOKUP(A2885,[1]EventLinkConfig!$D:$E,2,FALSE),\"\"),IFERROR(VLOOKUP(A2885,[1]EventLinkConfig!$L:$M,2,FALSE),\"\"),IFERROR(VLOOKUP(A2885,[1]EventLinkConfig!$X:$Y,2,FALSE),\"\"),IFERROR(VLOOKUP(A2885,[1]EventLinkConfig!$AA:$AB,2,FALSE),\"\"),IFERROR(VLOOKUP(A2885,[1]EventConditionConfig!$B:$D,3,FALSE),\"\"))","v":""},"任务&事件文本"]
[2883,{"$f":"_xlfn.TEXTJOIN(\"\",1,IFERROR(VLOOKUP(A2886,[1]EventConfig!$T:$V,3,FALSE),\"\"),IFERROR(VLOOKUP(A2886,[1]EventConfig!$U:$W,3,FALSE),\"\"),IFERROR(VLOOKUP(A2886,[1]EventLinkConfig!$B:$C,2,FALSE),\"\"),IFERROR(VLOOKUP(A2886,[1]EventLinkConfig!$D:$E,2,FALSE),\"\"),IFERROR(VLOOKUP(A2886,[1]EventLinkConfig!$L:$M,2,FALSE),\"\"),IFERROR(VLOOKUP(A2886,[1]EventLinkConfig!$X:$Y,2,FALSE),\"\"),IFERROR(VLOOKUP(A2886,[1]EventLinkConfig!$AA:$AB,2,FALSE),\"\"),IFERROR(VLOOKUP(A2886,[1]EventConditionConfig!$B:$D,3,FALSE),\"\"))","v":""},"任务&事件文本"]
[2884,{"$f":"_xlfn.TEXTJOIN(\"\",1,IFERROR(VLOOKUP(A2887,[1]EventConfig!$T:$V,3,FALSE),\"\"),IFERROR(VLOOKUP(A2887,[1]EventConfig!$U:$W,3,FALSE),\"\"),IFERROR(VLOOKUP(A2887,[1]EventLinkConfig!$B:$C,2,FALSE),\"\"),IFERROR(VLOOKUP(A2887,[1]EventLinkConfig!$D:$E,2,FALSE),\"\"),IFERROR(VLOOKUP(A2887,[1]EventLinkConfig!$L:$M,2,FALSE),\"\"),IFERROR(VLOOKUP(A2887,[1]EventLinkConfig!$X:$Y,2,FALSE),\"\"),IFERROR(VLOOKUP(A2887,[1]EventLinkConfig!$AA:$AB,2,FALSE),\"\"),IFERROR(VLOOKUP(A2887,[1]EventConditionConfig!$B:$D,3,FALSE),\"\"))","v":""},"任务&事件文本"]
[2885,{"$f":"_xlfn.TEXTJOIN(\"\",1,IFERROR(VLOOKUP(A2888,[1]EventConfig!$T:$V,3,FALSE),\"\"),IFERROR(VLOOKUP(A2888,[1]EventConfig!$U:$W,3,FALSE),\"\"),IFERROR(VLOOKUP(A2888,[1]EventLinkConfig!$B:$C,2,FALSE),\"\"),IFERROR(VLOOKUP(A2888,[1]EventLinkConfig!$D:$E,2,FALSE),\"\"),IFERROR(VLOOKUP(A2888,[1]EventLinkConfig!$L:$M,2,FALSE),\"\"),IFERROR(VLOOKUP(A2888,[1]EventLinkConfig!$X:$Y,2,FALSE),\"\"),IFERROR(VLOOKUP(A2888,[1]EventLinkConfig!$AA:$AB,2,FALSE),\"\"),IFERROR(VLOOKUP(A2888,[1]EventConditionConfig!$B:$D,3,FALSE),\"\"))","v":""},"任务&事件文本"]
[2886,{"$f":"_xlfn.TEXTJOIN(\"\",1,IFERROR(VLOOKUP(A2889,[1]EventConfig!$T:$V,3,FALSE),\"\"),IFERROR(VLOOKUP(A2889,[1]EventConfig!$U:$W,3,FALSE),\"\"),IFERROR(VLOOKUP(A2889,[1]EventLinkConfig!$B:$C,2,FALSE),\"\"),IFERROR(VLOOKUP(A2889,[1]EventLinkConfig!$D:$E,2,FALSE),\"\"),IFERROR(VLOOKUP(A2889,[1]EventLinkConfig!$L:$M,2,FALSE),\"\"),IFERROR(VLOOKUP(A2889,[1]EventLinkConfig!$X:$Y,2,FALSE),\"\"),IFERROR(VLOOKUP(A2889,[1]EventLinkConfig!$AA:$AB,2,FALSE),\"\"),IFERROR(VLOOKUP(A2889,[1]EventConditionConfig!$B:$D,3,FALSE),\"\"))","v":""},"任务&事件文本"]
[2887,{"$f":"_xlfn.TEXTJOIN(\"\",1,IFERROR(VLOOKUP(A2890,[1]EventConfig!$T:$V,3,FALSE),\"\"),IFERROR(VLOOKUP(A2890,[1]EventConfig!$U:$W,3,FALSE),\"\"),IFERROR(VLOOKUP(A2890,[1]EventLinkConfig!$B:$C,2,FALSE),\"\"),IFERROR(VLOOKUP(A2890,[1]EventLinkConfig!$D:$E,2,FALSE),\"\"),IFERROR(VLOOKUP(A2890,[1]EventLinkConfig!$L:$M,2,FALSE),\"\"),IFERROR(VLOOKUP(A2890,[1]EventLinkConfig!$X:$Y,2,FALSE),\"\"),IFERROR(VLOOKUP(A2890,[1]EventLinkConfig!$AA:$AB,2,FALSE),\"\"),IFERROR(VLOOKUP(A2890,[1]EventConditionConfig!$B:$D,3,FALSE),\"\"))","v":""},"任务&事件文本"]
[2888,{"$f":"_xlfn.TEXTJOIN(\"\",1,IFERROR(VLOOKUP(A2891,[1]EventConfig!$T:$V,3,FALSE),\"\"),IFERROR(VLOOKUP(A2891,[1]EventConfig!$U:$W,3,FALSE),\"\"),IFERROR(VLOOKUP(A2891,[1]EventLinkConfig!$B:$C,2,FALSE),\"\"),IFERROR(VLOOKUP(A2891,[1]EventLinkConfig!$D:$E,2,FALSE),\"\"),IFERROR(VLOOKUP(A2891,[1]EventLinkConfig!$L:$M,2,FALSE),\"\"),IFERROR(VLOOKUP(A2891,[1]EventLinkConfig!$X:$Y,2,FALSE),\"\"),IFERROR(VLOOKUP(A2891,[1]EventLinkConfig!$AA:$AB,2,FALSE),\"\"),IFERROR(VLOOKUP(A2891,[1]EventConditionConfig!$B:$D,3,FALSE),\"\"))","v":""},"任务&事件文本"]
[2889,{"$f":"_xlfn.TEXTJOIN(\"\",1,IFERROR(VLOOKUP(A2892,[1]EventConfig!$T:$V,3,FALSE),\"\"),IFERROR(VLOOKUP(A2892,[1]EventConfig!$U:$W,3,FALSE),\"\"),IFERROR(VLOOKUP(A2892,[1]EventLinkConfig!$B:$C,2,FALSE),\"\"),IFERROR(VLOOKUP(A2892,[1]EventLinkConfig!$D:$E,2,FALSE),\"\"),IFERROR(VLOOKUP(A2892,[1]EventLinkConfig!$L:$M,2,FALSE),\"\"),IFERROR(VLOOKUP(A2892,[1]EventLinkConfig!$X:$Y,2,FALSE),\"\"),IFERROR(VLOOKUP(A2892,[1]EventLinkConfig!$AA:$AB,2,FALSE),\"\"),IFERROR(VLOOKUP(A2892,[1]EventConditionConfig!$B:$D,3,FALSE),\"\"))","v":""},"任务&事件文本"]
[2890,{"$f":"_xlfn.TEXTJOIN(\"\",1,IFERROR(VLOOKUP(A2893,[1]EventConfig!$T:$V,3,FALSE),\"\"),IFERROR(VLOOKUP(A2893,[1]EventConfig!$U:$W,3,FALSE),\"\"),IFERROR(VLOOKUP(A2893,[1]EventLinkConfig!$B:$C,2,FALSE),\"\"),IFERROR(VLOOKUP(A2893,[1]EventLinkConfig!$D:$E,2,FALSE),\"\"),IFERROR(VLOOKUP(A2893,[1]EventLinkConfig!$L:$M,2,FALSE),\"\"),IFERROR(VLOOKUP(A2893,[1]EventLinkConfig!$X:$Y,2,FALSE),\"\"),IFERROR(VLOOKUP(A2893,[1]EventLinkConfig!$AA:$AB,2,FALSE),\"\"),IFERROR(VLOOKUP(A2893,[1]EventConditionConfig!$B:$D,3,FALSE),\"\"))","v":""},"任务&事件文本"]
[2891,{"$f":"_xlfn.TEXTJOIN(\"\",1,IFERROR(VLOOKUP(A2894,[1]EventConfig!$T:$V,3,FALSE),\"\"),IFERROR(VLOOKUP(A2894,[1]EventConfig!$U:$W,3,FALSE),\"\"),IFERROR(VLOOKUP(A2894,[1]EventLinkConfig!$B:$C,2,FALSE),\"\"),IFERROR(VLOOKUP(A2894,[1]EventLinkConfig!$D:$E,2,FALSE),\"\"),IFERROR(VLOOKUP(A2894,[1]EventLinkConfig!$L:$M,2,FALSE),\"\"),IFERROR(VLOOKUP(A2894,[1]EventLinkConfig!$X:$Y,2,FALSE),\"\"),IFERROR(VLOOKUP(A2894,[1]EventLinkConfig!$AA:$AB,2,FALSE),\"\"),IFERROR(VLOOKUP(A2894,[1]EventConditionConfig!$B:$D,3,FALSE),\"\"))","v":""},"任务&事件文本"]
[2892,{"$f":"_xlfn.TEXTJOIN(\"\",1,IFERROR(VLOOKUP(A2895,[1]EventConfig!$T:$V,3,FALSE),\"\"),IFERROR(VLOOKUP(A2895,[1]EventConfig!$U:$W,3,FALSE),\"\"),IFERROR(VLOOKUP(A2895,[1]EventLinkConfig!$B:$C,2,FALSE),\"\"),IFERROR(VLOOKUP(A2895,[1]EventLinkConfig!$D:$E,2,FALSE),\"\"),IFERROR(VLOOKUP(A2895,[1]EventLinkConfig!$L:$M,2,FALSE),\"\"),IFERROR(VLOOKUP(A2895,[1]EventLinkConfig!$X:$Y,2,FALSE),\"\"),IFERROR(VLOOKUP(A2895,[1]EventLinkConfig!$AA:$AB,2,FALSE),\"\"),IFERROR(VLOOKUP(A2895,[1]EventConditionConfig!$B:$D,3,FALSE),\"\"))","v":""},"任务&事件文本"]
[2893,{"$f":"_xlfn.TEXTJOIN(\"\",1,IFERROR(VLOOKUP(A2896,[1]EventConfig!$T:$V,3,FALSE),\"\"),IFERROR(VLOOKUP(A2896,[1]EventConfig!$U:$W,3,FALSE),\"\"),IFERROR(VLOOKUP(A2896,[1]EventLinkConfig!$B:$C,2,FALSE),\"\"),IFERROR(VLOOKUP(A2896,[1]EventLinkConfig!$D:$E,2,FALSE),\"\"),IFERROR(VLOOKUP(A2896,[1]EventLinkConfig!$L:$M,2,FALSE),\"\"),IFERROR(VLOOKUP(A2896,[1]EventLinkConfig!$X:$Y,2,FALSE),\"\"),IFERROR(VLOOKUP(A2896,[1]EventLinkConfig!$AA:$AB,2,FALSE),\"\"),IFERROR(VLOOKUP(A2896,[1]EventConditionConfig!$B:$D,3,FALSE),\"\"))","v":""},"任务&事件文本"]
[2894,{"$f":"_xlfn.TEXTJOIN(\"\",1,IFERROR(VLOOKUP(A2897,[1]EventConfig!$T:$V,3,FALSE),\"\"),IFERROR(VLOOKUP(A2897,[1]EventConfig!$U:$W,3,FALSE),\"\"),IFERROR(VLOOKUP(A2897,[1]EventLinkConfig!$B:$C,2,FALSE),\"\"),IFERROR(VLOOKUP(A2897,[1]EventLinkConfig!$D:$E,2,FALSE),\"\"),IFERROR(VLOOKUP(A2897,[1]EventLinkConfig!$L:$M,2,FALSE),\"\"),IFERROR(VLOOKUP(A2897,[1]EventLinkConfig!$X:$Y,2,FALSE),\"\"),IFERROR(VLOOKUP(A2897,[1]EventLinkConfig!$AA:$AB,2,FALSE),\"\"),IFERROR(VLOOKUP(A2897,[1]EventConditionConfig!$B:$D,3,FALSE),\"\"))","v":""},"任务&事件文本"]
[2895,{"$f":"_xlfn.TEXTJOIN(\"\",1,IFERROR(VLOOKUP(A2898,[1]EventConfig!$T:$V,3,FALSE),\"\"),IFERROR(VLOOKUP(A2898,[1]EventConfig!$U:$W,3,FALSE),\"\"),IFERROR(VLOOKUP(A2898,[1]EventLinkConfig!$B:$C,2,FALSE),\"\"),IFERROR(VLOOKUP(A2898,[1]EventLinkConfig!$D:$E,2,FALSE),\"\"),IFERROR(VLOOKUP(A2898,[1]EventLinkConfig!$L:$M,2,FALSE),\"\"),IFERROR(VLOOKUP(A2898,[1]EventLinkConfig!$X:$Y,2,FALSE),\"\"),IFERROR(VLOOKUP(A2898,[1]EventLinkConfig!$AA:$AB,2,FALSE),\"\"),IFERROR(VLOOKUP(A2898,[1]EventConditionConfig!$B:$D,3,FALSE),\"\"))","v":""},"任务&事件文本"]
[2896,{"$f":"_xlfn.TEXTJOIN(\"\",1,IFERROR(VLOOKUP(A2899,[1]EventConfig!$T:$V,3,FALSE),\"\"),IFERROR(VLOOKUP(A2899,[1]EventConfig!$U:$W,3,FALSE),\"\"),IFERROR(VLOOKUP(A2899,[1]EventLinkConfig!$B:$C,2,FALSE),\"\"),IFERROR(VLOOKUP(A2899,[1]EventLinkConfig!$D:$E,2,FALSE),\"\"),IFERROR(VLOOKUP(A2899,[1]EventLinkConfig!$L:$M,2,FALSE),\"\"),IFERROR(VLOOKUP(A2899,[1]EventLinkConfig!$X:$Y,2,FALSE),\"\"),IFERROR(VLOOKUP(A2899,[1]EventLinkConfig!$AA:$AB,2,FALSE),\"\"),IFERROR(VLOOKUP(A2899,[1]EventConditionConfig!$B:$D,3,FALSE),\"\"))","v":""},"任务&事件文本"]
[2897,{"$f":"_xlfn.TEXTJOIN(\"\",1,IFERROR(VLOOKUP(A2900,[1]EventConfig!$T:$V,3,FALSE),\"\"),IFERROR(VLOOKUP(A2900,[1]EventConfig!$U:$W,3,FALSE),\"\"),IFERROR(VLOOKUP(A2900,[1]EventLinkConfig!$B:$C,2,FALSE),\"\"),IFERROR(VLOOKUP(A2900,[1]EventLinkConfig!$D:$E,2,FALSE),\"\"),IFERROR(VLOOKUP(A2900,[1]EventLinkConfig!$L:$M,2,FALSE),\"\"),IFERROR(VLOOKUP(A2900,[1]EventLinkConfig!$X:$Y,2,FALSE),\"\"),IFERROR(VLOOKUP(A2900,[1]EventLinkConfig!$AA:$AB,2,FALSE),\"\"),IFERROR(VLOOKUP(A2900,[1]EventConditionConfig!$B:$D,3,FALSE),\"\"))","v":""},"任务&事件文本"]
[2898,{"$f":"_xlfn.TEXTJOIN(\"\",1,IFERROR(VLOOKUP(A2901,[1]EventConfig!$T:$V,3,FALSE),\"\"),IFERROR(VLOOKUP(A2901,[1]EventConfig!$U:$W,3,FALSE),\"\"),IFERROR(VLOOKUP(A2901,[1]EventLinkConfig!$B:$C,2,FALSE),\"\"),IFERROR(VLOOKUP(A2901,[1]EventLinkConfig!$D:$E,2,FALSE),\"\"),IFERROR(VLOOKUP(A2901,[1]EventLinkConfig!$L:$M,2,FALSE),\"\"),IFERROR(VLOOKUP(A2901,[1]EventLinkConfig!$X:$Y,2,FALSE),\"\"),IFERROR(VLOOKUP(A2901,[1]EventLinkConfig!$AA:$AB,2,FALSE),\"\"),IFERROR(VLOOKUP(A2901,[1]EventConditionConfig!$B:$D,3,FALSE),\"\"))","v":""},"任务&事件文本"]
[2899,{"$f":"_xlfn.TEXTJOIN(\"\",1,IFERROR(VLOOKUP(A2902,[1]EventConfig!$T:$V,3,FALSE),\"\"),IFERROR(VLOOKUP(A2902,[1]EventConfig!$U:$W,3,FALSE),\"\"),IFERROR(VLOOKUP(A2902,[1]EventLinkConfig!$B:$C,2,FALSE),\"\"),IFERROR(VLOOKUP(A2902,[1]EventLinkConfig!$D:$E,2,FALSE),\"\"),IFERROR(VLOOKUP(A2902,[1]EventLinkConfig!$L:$M,2,FALSE),\"\"),IFERROR(VLOOKUP(A2902,[1]EventLinkConfig!$X:$Y,2,FALSE),\"\"),IFERROR(VLOOKUP(A2902,[1]EventLinkConfig!$AA:$AB,2,FALSE),\"\"),IFERROR(VLOOKUP(A2902,[1]EventConditionConfig!$B:$D,3,FALSE),\"\"))","v":""},"任务&事件文本"]
[2900,{"$f":"_xlfn.TEXTJOIN(\"\",1,IFERROR(VLOOKUP(A2903,[1]EventConfig!$T:$V,3,FALSE),\"\"),IFERROR(VLOOKUP(A2903,[1]EventConfig!$U:$W,3,FALSE),\"\"),IFERROR(VLOOKUP(A2903,[1]EventLinkConfig!$B:$C,2,FALSE),\"\"),IFERROR(VLOOKUP(A2903,[1]EventLinkConfig!$D:$E,2,FALSE),\"\"),IFERROR(VLOOKUP(A2903,[1]EventLinkConfig!$L:$M,2,FALSE),\"\"),IFERROR(VLOOKUP(A2903,[1]EventLinkConfig!$X:$Y,2,FALSE),\"\"),IFERROR(VLOOKUP(A2903,[1]EventLinkConfig!$AA:$AB,2,FALSE),\"\"),IFERROR(VLOOKUP(A2903,[1]EventConditionConfig!$B:$D,3,FALSE),\"\"))","v":""},"任务&事件文本"]
[2901,{"$f":"_xlfn.TEXTJOIN(\"\",1,IFERROR(VLOOKUP(A2904,[1]EventConfig!$T:$V,3,FALSE),\"\"),IFERROR(VLOOKUP(A2904,[1]EventConfig!$U:$W,3,FALSE),\"\"),IFERROR(VLOOKUP(A2904,[1]EventLinkConfig!$B:$C,2,FALSE),\"\"),IFERROR(VLOOKUP(A2904,[1]EventLinkConfig!$D:$E,2,FALSE),\"\"),IFERROR(VLOOKUP(A2904,[1]EventLinkConfig!$L:$M,2,FALSE),\"\"),IFERROR(VLOOKUP(A2904,[1]EventLinkConfig!$X:$Y,2,FALSE),\"\"),IFERROR(VLOOKUP(A2904,[1]EventLinkConfig!$AA:$AB,2,FALSE),\"\"),IFERROR(VLOOKUP(A2904,[1]EventConditionConfig!$B:$D,3,FALSE),\"\"))","v":""},"任务&事件文本"]
[2902,{"$f":"_xlfn.TEXTJOIN(\"\",1,IFERROR(VLOOKUP(A2905,[1]EventConfig!$T:$V,3,FALSE),\"\"),IFERROR(VLOOKUP(A2905,[1]EventConfig!$U:$W,3,FALSE),\"\"),IFERROR(VLOOKUP(A2905,[1]EventLinkConfig!$B:$C,2,FALSE),\"\"),IFERROR(VLOOKUP(A2905,[1]EventLinkConfig!$D:$E,2,FALSE),\"\"),IFERROR(VLOOKUP(A2905,[1]EventLinkConfig!$L:$M,2,FALSE),\"\"),IFERROR(VLOOKUP(A2905,[1]EventLinkConfig!$X:$Y,2,FALSE),\"\"),IFERROR(VLOOKUP(A2905,[1]EventLinkConfig!$AA:$AB,2,FALSE),\"\"),IFERROR(VLOOKUP(A2905,[1]EventConditionConfig!$B:$D,3,FALSE),\"\"))","v":""},"任务&事件文本"]
[2903,{"$f":"_xlfn.TEXTJOIN(\"\",1,IFERROR(VLOOKUP(A2906,[1]EventConfig!$T:$V,3,FALSE),\"\"),IFERROR(VLOOKUP(A2906,[1]EventConfig!$U:$W,3,FALSE),\"\"),IFERROR(VLOOKUP(A2906,[1]EventLinkConfig!$B:$C,2,FALSE),\"\"),IFERROR(VLOOKUP(A2906,[1]EventLinkConfig!$D:$E,2,FALSE),\"\"),IFERROR(VLOOKUP(A2906,[1]EventLinkConfig!$L:$M,2,FALSE),\"\"),IFERROR(VLOOKUP(A2906,[1]EventLinkConfig!$X:$Y,2,FALSE),\"\"),IFERROR(VLOOKUP(A2906,[1]EventLinkConfig!$AA:$AB,2,FALSE),\"\"),IFERROR(VLOOKUP(A2906,[1]EventConditionConfig!$B:$D,3,FALSE),\"\"))","v":""},"任务&事件文本"]
[2904,{"$f":"_xlfn.TEXTJOIN(\"\",1,IFERROR(VLOOKUP(A2907,[1]EventConfig!$T:$V,3,FALSE),\"\"),IFERROR(VLOOKUP(A2907,[1]EventConfig!$U:$W,3,FALSE),\"\"),IFERROR(VLOOKUP(A2907,[1]EventLinkConfig!$B:$C,2,FALSE),\"\"),IFERROR(VLOOKUP(A2907,[1]EventLinkConfig!$D:$E,2,FALSE),\"\"),IFERROR(VLOOKUP(A2907,[1]EventLinkConfig!$L:$M,2,FALSE),\"\"),IFERROR(VLOOKUP(A2907,[1]EventLinkConfig!$X:$Y,2,FALSE),\"\"),IFERROR(VLOOKUP(A2907,[1]EventLinkConfig!$AA:$AB,2,FALSE),\"\"),IFERROR(VLOOKUP(A2907,[1]EventConditionConfig!$B:$D,3,FALSE),\"\"))","v":""},"任务&事件文本"]
[2905,{"$f":"_xlfn.TEXTJOIN(\"\",1,IFERROR(VLOOKUP(A2908,[1]EventConfig!$T:$V,3,FALSE),\"\"),IFERROR(VLOOKUP(A2908,[1]EventConfig!$U:$W,3,FALSE),\"\"),IFERROR(VLOOKUP(A2908,[1]EventLinkConfig!$B:$C,2,FALSE),\"\"),IFERROR(VLOOKUP(A2908,[1]EventLinkConfig!$D:$E,2,FALSE),\"\"),IFERROR(VLOOKUP(A2908,[1]EventLinkConfig!$L:$M,2,FALSE),\"\"),IFERROR(VLOOKUP(A2908,[1]EventLinkConfig!$X:$Y,2,FALSE),\"\"),IFERROR(VLOOKUP(A2908,[1]EventLinkConfig!$AA:$AB,2,FALSE),\"\"),IFERROR(VLOOKUP(A2908,[1]EventConditionConfig!$B:$D,3,FALSE),\"\"))","v":""},"任务&事件文本"]
[2906,{"$f":"_xlfn.TEXTJOIN(\"\",1,IFERROR(VLOOKUP(A2909,[1]EventConfig!$T:$V,3,FALSE),\"\"),IFERROR(VLOOKUP(A2909,[1]EventConfig!$U:$W,3,FALSE),\"\"),IFERROR(VLOOKUP(A2909,[1]EventLinkConfig!$B:$C,2,FALSE),\"\"),IFERROR(VLOOKUP(A2909,[1]EventLinkConfig!$D:$E,2,FALSE),\"\"),IFERROR(VLOOKUP(A2909,[1]EventLinkConfig!$L:$M,2,FALSE),\"\"),IFERROR(VLOOKUP(A2909,[1]EventLinkConfig!$X:$Y,2,FALSE),\"\"),IFERROR(VLOOKUP(A2909,[1]EventLinkConfig!$AA:$AB,2,FALSE),\"\"),IFERROR(VLOOKUP(A2909,[1]EventConditionConfig!$B:$D,3,FALSE),\"\"))","v":""},"任务&事件文本"]
[2907,{"$f":"_xlfn.TEXTJOIN(\"\",1,IFERROR(VLOOKUP(A2910,[1]EventConfig!$T:$V,3,FALSE),\"\"),IFERROR(VLOOKUP(A2910,[1]EventConfig!$U:$W,3,FALSE),\"\"),IFERROR(VLOOKUP(A2910,[1]EventLinkConfig!$B:$C,2,FALSE),\"\"),IFERROR(VLOOKUP(A2910,[1]EventLinkConfig!$D:$E,2,FALSE),\"\"),IFERROR(VLOOKUP(A2910,[1]EventLinkConfig!$L:$M,2,FALSE),\"\"),IFERROR(VLOOKUP(A2910,[1]EventLinkConfig!$X:$Y,2,FALSE),\"\"),IFERROR(VLOOKUP(A2910,[1]EventLinkConfig!$AA:$AB,2,FALSE),\"\"),IFERROR(VLOOKUP(A2910,[1]EventConditionConfig!$B:$D,3,FALSE),\"\"))","v":""},"任务&事件文本"]
[2908,{"$f":"_xlfn.TEXTJOIN(\"\",1,IFERROR(VLOOKUP(A2911,[1]EventConfig!$T:$V,3,FALSE),\"\"),IFERROR(VLOOKUP(A2911,[1]EventConfig!$U:$W,3,FALSE),\"\"),IFERROR(VLOOKUP(A2911,[1]EventLinkConfig!$B:$C,2,FALSE),\"\"),IFERROR(VLOOKUP(A2911,[1]EventLinkConfig!$D:$E,2,FALSE),\"\"),IFERROR(VLOOKUP(A2911,[1]EventLinkConfig!$L:$M,2,FALSE),\"\"),IFERROR(VLOOKUP(A2911,[1]EventLinkConfig!$X:$Y,2,FALSE),\"\"),IFERROR(VLOOKUP(A2911,[1]EventLinkConfig!$AA:$AB,2,FALSE),\"\"),IFERROR(VLOOKUP(A2911,[1]EventConditionConfig!$B:$D,3,FALSE),\"\"))","v":""},"任务&事件文本"]
[2909,{"$f":"_xlfn.TEXTJOIN(\"\",1,IFERROR(VLOOKUP(A2912,[1]EventConfig!$T:$V,3,FALSE),\"\"),IFERROR(VLOOKUP(A2912,[1]EventConfig!$U:$W,3,FALSE),\"\"),IFERROR(VLOOKUP(A2912,[1]EventLinkConfig!$B:$C,2,FALSE),\"\"),IFERROR(VLOOKUP(A2912,[1]EventLinkConfig!$D:$E,2,FALSE),\"\"),IFERROR(VLOOKUP(A2912,[1]EventLinkConfig!$L:$M,2,FALSE),\"\"),IFERROR(VLOOKUP(A2912,[1]EventLinkConfig!$X:$Y,2,FALSE),\"\"),IFERROR(VLOOKUP(A2912,[1]EventLinkConfig!$AA:$AB,2,FALSE),\"\"),IFERROR(VLOOKUP(A2912,[1]EventConditionConfig!$B:$D,3,FALSE),\"\"))","v":""},"任务&事件文本"]
[2910,{"$f":"_xlfn.TEXTJOIN(\"\",1,IFERROR(VLOOKUP(A2913,[1]EventConfig!$T:$V,3,FALSE),\"\"),IFERROR(VLOOKUP(A2913,[1]EventConfig!$U:$W,3,FALSE),\"\"),IFERROR(VLOOKUP(A2913,[1]EventLinkConfig!$B:$C,2,FALSE),\"\"),IFERROR(VLOOKUP(A2913,[1]EventLinkConfig!$D:$E,2,FALSE),\"\"),IFERROR(VLOOKUP(A2913,[1]EventLinkConfig!$L:$M,2,FALSE),\"\"),IFERROR(VLOOKUP(A2913,[1]EventLinkConfig!$X:$Y,2,FALSE),\"\"),IFERROR(VLOOKUP(A2913,[1]EventLinkConfig!$AA:$AB,2,FALSE),\"\"),IFERROR(VLOOKUP(A2913,[1]EventConditionConfig!$B:$D,3,FALSE),\"\"))","v":""},"任务&事件文本"]
[2911,{"$f":"_xlfn.TEXTJOIN(\"\",1,IFERROR(VLOOKUP(A2914,[1]EventConfig!$T:$V,3,FALSE),\"\"),IFERROR(VLOOKUP(A2914,[1]EventConfig!$U:$W,3,FALSE),\"\"),IFERROR(VLOOKUP(A2914,[1]EventLinkConfig!$B:$C,2,FALSE),\"\"),IFERROR(VLOOKUP(A2914,[1]EventLinkConfig!$D:$E,2,FALSE),\"\"),IFERROR(VLOOKUP(A2914,[1]EventLinkConfig!$L:$M,2,FALSE),\"\"),IFERROR(VLOOKUP(A2914,[1]EventLinkConfig!$X:$Y,2,FALSE),\"\"),IFERROR(VLOOKUP(A2914,[1]EventLinkConfig!$AA:$AB,2,FALSE),\"\"),IFERROR(VLOOKUP(A2914,[1]EventConditionConfig!$B:$D,3,FALSE),\"\"))","v":""},"任务&事件文本"]
[2912,{"$f":"_xlfn.TEXTJOIN(\"\",1,IFERROR(VLOOKUP(A2915,[1]EventConfig!$T:$V,3,FALSE),\"\"),IFERROR(VLOOKUP(A2915,[1]EventConfig!$U:$W,3,FALSE),\"\"),IFERROR(VLOOKUP(A2915,[1]EventLinkConfig!$B:$C,2,FALSE),\"\"),IFERROR(VLOOKUP(A2915,[1]EventLinkConfig!$D:$E,2,FALSE),\"\"),IFERROR(VLOOKUP(A2915,[1]EventLinkConfig!$L:$M,2,FALSE),\"\"),IFERROR(VLOOKUP(A2915,[1]EventLinkConfig!$X:$Y,2,FALSE),\"\"),IFERROR(VLOOKUP(A2915,[1]EventLinkConfig!$AA:$AB,2,FALSE),\"\"),IFERROR(VLOOKUP(A2915,[1]EventConditionConfig!$B:$D,3,FALSE),\"\"))","v":""},"任务&事件文本"]
[2913,{"$f":"_xlfn.TEXTJOIN(\"\",1,IFERROR(VLOOKUP(A2916,[1]EventConfig!$T:$V,3,FALSE),\"\"),IFERROR(VLOOKUP(A2916,[1]EventConfig!$U:$W,3,FALSE),\"\"),IFERROR(VLOOKUP(A2916,[1]EventLinkConfig!$B:$C,2,FALSE),\"\"),IFERROR(VLOOKUP(A2916,[1]EventLinkConfig!$D:$E,2,FALSE),\"\"),IFERROR(VLOOKUP(A2916,[1]EventLinkConfig!$L:$M,2,FALSE),\"\"),IFERROR(VLOOKUP(A2916,[1]EventLinkConfig!$X:$Y,2,FALSE),\"\"),IFERROR(VLOOKUP(A2916,[1]EventLinkConfig!$AA:$AB,2,FALSE),\"\"),IFERROR(VLOOKUP(A2916,[1]EventConditionConfig!$B:$D,3,FALSE),\"\"))","v":""},"任务&事件文本"]
[2914,{"$f":"_xlfn.TEXTJOIN(\"\",1,IFERROR(VLOOKUP(A2917,[1]EventConfig!$T:$V,3,FALSE),\"\"),IFERROR(VLOOKUP(A2917,[1]EventConfig!$U:$W,3,FALSE),\"\"),IFERROR(VLOOKUP(A2917,[1]EventLinkConfig!$B:$C,2,FALSE),\"\"),IFERROR(VLOOKUP(A2917,[1]EventLinkConfig!$D:$E,2,FALSE),\"\"),IFERROR(VLOOKUP(A2917,[1]EventLinkConfig!$L:$M,2,FALSE),\"\"),IFERROR(VLOOKUP(A2917,[1]EventLinkConfig!$X:$Y,2,FALSE),\"\"),IFERROR(VLOOKUP(A2917,[1]EventLinkConfig!$AA:$AB,2,FALSE),\"\"),IFERROR(VLOOKUP(A2917,[1]EventConditionConfig!$B:$D,3,FALSE),\"\"))","v":""},"任务&事件文本"]
[2915,{"$f":"_xlfn.TEXTJOIN(\"\",1,IFERROR(VLOOKUP(A2918,[1]EventConfig!$T:$V,3,FALSE),\"\"),IFERROR(VLOOKUP(A2918,[1]EventConfig!$U:$W,3,FALSE),\"\"),IFERROR(VLOOKUP(A2918,[1]EventLinkConfig!$B:$C,2,FALSE),\"\"),IFERROR(VLOOKUP(A2918,[1]EventLinkConfig!$D:$E,2,FALSE),\"\"),IFERROR(VLOOKUP(A2918,[1]EventLinkConfig!$L:$M,2,FALSE),\"\"),IFERROR(VLOOKUP(A2918,[1]EventLinkConfig!$X:$Y,2,FALSE),\"\"),IFERROR(VLOOKUP(A2918,[1]EventLinkConfig!$AA:$AB,2,FALSE),\"\"),IFERROR(VLOOKUP(A2918,[1]EventConditionConfig!$B:$D,3,FALSE),\"\"))","v":""},"任务&事件文本"]
[2916,{"$f":"_xlfn.TEXTJOIN(\"\",1,IFERROR(VLOOKUP(A2919,[1]EventConfig!$T:$V,3,FALSE),\"\"),IFERROR(VLOOKUP(A2919,[1]EventConfig!$U:$W,3,FALSE),\"\"),IFERROR(VLOOKUP(A2919,[1]EventLinkConfig!$B:$C,2,FALSE),\"\"),IFERROR(VLOOKUP(A2919,[1]EventLinkConfig!$D:$E,2,FALSE),\"\"),IFERROR(VLOOKUP(A2919,[1]EventLinkConfig!$L:$M,2,FALSE),\"\"),IFERROR(VLOOKUP(A2919,[1]EventLinkConfig!$X:$Y,2,FALSE),\"\"),IFERROR(VLOOKUP(A2919,[1]EventLinkConfig!$AA:$AB,2,FALSE),\"\"),IFERROR(VLOOKUP(A2919,[1]EventConditionConfig!$B:$D,3,FALSE),\"\"))","v":""},"任务&事件文本"]
[2917,{"$f":"_xlfn.TEXTJOIN(\"\",1,IFERROR(VLOOKUP(A2920,[1]EventConfig!$T:$V,3,FALSE),\"\"),IFERROR(VLOOKUP(A2920,[1]EventConfig!$U:$W,3,FALSE),\"\"),IFERROR(VLOOKUP(A2920,[1]EventLinkConfig!$B:$C,2,FALSE),\"\"),IFERROR(VLOOKUP(A2920,[1]EventLinkConfig!$D:$E,2,FALSE),\"\"),IFERROR(VLOOKUP(A2920,[1]EventLinkConfig!$L:$M,2,FALSE),\"\"),IFERROR(VLOOKUP(A2920,[1]EventLinkConfig!$X:$Y,2,FALSE),\"\"),IFERROR(VLOOKUP(A2920,[1]EventLinkConfig!$AA:$AB,2,FALSE),\"\"),IFERROR(VLOOKUP(A2920,[1]EventConditionConfig!$B:$D,3,FALSE),\"\"))","v":""},"任务&事件文本"]
[2918,{"$f":"_xlfn.TEXTJOIN(\"\",1,IFERROR(VLOOKUP(A2921,[1]EventConfig!$T:$V,3,FALSE),\"\"),IFERROR(VLOOKUP(A2921,[1]EventConfig!$U:$W,3,FALSE),\"\"),IFERROR(VLOOKUP(A2921,[1]EventLinkConfig!$B:$C,2,FALSE),\"\"),IFERROR(VLOOKUP(A2921,[1]EventLinkConfig!$D:$E,2,FALSE),\"\"),IFERROR(VLOOKUP(A2921,[1]EventLinkConfig!$L:$M,2,FALSE),\"\"),IFERROR(VLOOKUP(A2921,[1]EventLinkConfig!$X:$Y,2,FALSE),\"\"),IFERROR(VLOOKUP(A2921,[1]EventLinkConfig!$AA:$AB,2,FALSE),\"\"),IFERROR(VLOOKUP(A2921,[1]EventConditionConfig!$B:$D,3,FALSE),\"\"))","v":""},"任务&事件文本"]
[2919,{"$f":"_xlfn.TEXTJOIN(\"\",1,IFERROR(VLOOKUP(A2922,[1]EventConfig!$T:$V,3,FALSE),\"\"),IFERROR(VLOOKUP(A2922,[1]EventConfig!$U:$W,3,FALSE),\"\"),IFERROR(VLOOKUP(A2922,[1]EventLinkConfig!$B:$C,2,FALSE),\"\"),IFERROR(VLOOKUP(A2922,[1]EventLinkConfig!$D:$E,2,FALSE),\"\"),IFERROR(VLOOKUP(A2922,[1]EventLinkConfig!$L:$M,2,FALSE),\"\"),IFERROR(VLOOKUP(A2922,[1]EventLinkConfig!$X:$Y,2,FALSE),\"\"),IFERROR(VLOOKUP(A2922,[1]EventLinkConfig!$AA:$AB,2,FALSE),\"\"),IFERROR(VLOOKUP(A2922,[1]EventConditionConfig!$B:$D,3,FALSE),\"\"))","v":""},"任务&事件文本"]
[2920,{"$f":"_xlfn.TEXTJOIN(\"\",1,IFERROR(VLOOKUP(A2923,[1]EventConfig!$T:$V,3,FALSE),\"\"),IFERROR(VLOOKUP(A2923,[1]EventConfig!$U:$W,3,FALSE),\"\"),IFERROR(VLOOKUP(A2923,[1]EventLinkConfig!$B:$C,2,FALSE),\"\"),IFERROR(VLOOKUP(A2923,[1]EventLinkConfig!$D:$E,2,FALSE),\"\"),IFERROR(VLOOKUP(A2923,[1]EventLinkConfig!$L:$M,2,FALSE),\"\"),IFERROR(VLOOKUP(A2923,[1]EventLinkConfig!$X:$Y,2,FALSE),\"\"),IFERROR(VLOOKUP(A2923,[1]EventLinkConfig!$AA:$AB,2,FALSE),\"\"),IFERROR(VLOOKUP(A2923,[1]EventConditionConfig!$B:$D,3,FALSE),\"\"))","v":""},"任务&事件文本"]
[2921,{"$f":"_xlfn.TEXTJOIN(\"\",1,IFERROR(VLOOKUP(A2924,[1]EventConfig!$T:$V,3,FALSE),\"\"),IFERROR(VLOOKUP(A2924,[1]EventConfig!$U:$W,3,FALSE),\"\"),IFERROR(VLOOKUP(A2924,[1]EventLinkConfig!$B:$C,2,FALSE),\"\"),IFERROR(VLOOKUP(A2924,[1]EventLinkConfig!$D:$E,2,FALSE),\"\"),IFERROR(VLOOKUP(A2924,[1]EventLinkConfig!$L:$M,2,FALSE),\"\"),IFERROR(VLOOKUP(A2924,[1]EventLinkConfig!$X:$Y,2,FALSE),\"\"),IFERROR(VLOOKUP(A2924,[1]EventLinkConfig!$AA:$AB,2,FALSE),\"\"),IFERROR(VLOOKUP(A2924,[1]EventConditionConfig!$B:$D,3,FALSE),\"\"))","v":""},"任务&事件文本"]
[2922,{"$f":"_xlfn.TEXTJOIN(\"\",1,IFERROR(VLOOKUP(A2925,[1]EventConfig!$T:$V,3,FALSE),\"\"),IFERROR(VLOOKUP(A2925,[1]EventConfig!$U:$W,3,FALSE),\"\"),IFERROR(VLOOKUP(A2925,[1]EventLinkConfig!$B:$C,2,FALSE),\"\"),IFERROR(VLOOKUP(A2925,[1]EventLinkConfig!$D:$E,2,FALSE),\"\"),IFERROR(VLOOKUP(A2925,[1]EventLinkConfig!$L:$M,2,FALSE),\"\"),IFERROR(VLOOKUP(A2925,[1]EventLinkConfig!$X:$Y,2,FALSE),\"\"),IFERROR(VLOOKUP(A2925,[1]EventLinkConfig!$AA:$AB,2,FALSE),\"\"),IFERROR(VLOOKUP(A2925,[1]EventConditionConfig!$B:$D,3,FALSE),\"\"))","v":""},"任务&事件文本"]
[2923,{"$f":"_xlfn.TEXTJOIN(\"\",1,IFERROR(VLOOKUP(A2926,[1]EventConfig!$T:$V,3,FALSE),\"\"),IFERROR(VLOOKUP(A2926,[1]EventConfig!$U:$W,3,FALSE),\"\"),IFERROR(VLOOKUP(A2926,[1]EventLinkConfig!$B:$C,2,FALSE),\"\"),IFERROR(VLOOKUP(A2926,[1]EventLinkConfig!$D:$E,2,FALSE),\"\"),IFERROR(VLOOKUP(A2926,[1]EventLinkConfig!$L:$M,2,FALSE),\"\"),IFERROR(VLOOKUP(A2926,[1]EventLinkConfig!$X:$Y,2,FALSE),\"\"),IFERROR(VLOOKUP(A2926,[1]EventLinkConfig!$AA:$AB,2,FALSE),\"\"),IFERROR(VLOOKUP(A2926,[1]EventConditionConfig!$B:$D,3,FALSE),\"\"))","v":""},"任务&事件文本"]
[2924,{"$f":"_xlfn.TEXTJOIN(\"\",1,IFERROR(VLOOKUP(A2927,[1]EventConfig!$T:$V,3,FALSE),\"\"),IFERROR(VLOOKUP(A2927,[1]EventConfig!$U:$W,3,FALSE),\"\"),IFERROR(VLOOKUP(A2927,[1]EventLinkConfig!$B:$C,2,FALSE),\"\"),IFERROR(VLOOKUP(A2927,[1]EventLinkConfig!$D:$E,2,FALSE),\"\"),IFERROR(VLOOKUP(A2927,[1]EventLinkConfig!$L:$M,2,FALSE),\"\"),IFERROR(VLOOKUP(A2927,[1]EventLinkConfig!$X:$Y,2,FALSE),\"\"),IFERROR(VLOOKUP(A2927,[1]EventLinkConfig!$AA:$AB,2,FALSE),\"\"),IFERROR(VLOOKUP(A2927,[1]EventConditionConfig!$B:$D,3,FALSE),\"\"))","v":""},"任务&事件文本"]
[2925,{"$f":"_xlfn.TEXTJOIN(\"\",1,IFERROR(VLOOKUP(A2928,[1]EventConfig!$T:$V,3,FALSE),\"\"),IFERROR(VLOOKUP(A2928,[1]EventConfig!$U:$W,3,FALSE),\"\"),IFERROR(VLOOKUP(A2928,[1]EventLinkConfig!$B:$C,2,FALSE),\"\"),IFERROR(VLOOKUP(A2928,[1]EventLinkConfig!$D:$E,2,FALSE),\"\"),IFERROR(VLOOKUP(A2928,[1]EventLinkConfig!$L:$M,2,FALSE),\"\"),IFERROR(VLOOKUP(A2928,[1]EventLinkConfig!$X:$Y,2,FALSE),\"\"),IFERROR(VLOOKUP(A2928,[1]EventLinkConfig!$AA:$AB,2,FALSE),\"\"),IFERROR(VLOOKUP(A2928,[1]EventConditionConfig!$B:$D,3,FALSE),\"\"))","v":""},"任务&事件文本"]
[2926,{"$f":"_xlfn.TEXTJOIN(\"\",1,IFERROR(VLOOKUP(A2929,[1]EventConfig!$T:$V,3,FALSE),\"\"),IFERROR(VLOOKUP(A2929,[1]EventConfig!$U:$W,3,FALSE),\"\"),IFERROR(VLOOKUP(A2929,[1]EventLinkConfig!$B:$C,2,FALSE),\"\"),IFERROR(VLOOKUP(A2929,[1]EventLinkConfig!$D:$E,2,FALSE),\"\"),IFERROR(VLOOKUP(A2929,[1]EventLinkConfig!$L:$M,2,FALSE),\"\"),IFERROR(VLOOKUP(A2929,[1]EventLinkConfig!$X:$Y,2,FALSE),\"\"),IFERROR(VLOOKUP(A2929,[1]EventLinkConfig!$AA:$AB,2,FALSE),\"\"),IFERROR(VLOOKUP(A2929,[1]EventConditionConfig!$B:$D,3,FALSE),\"\"))","v":""},"任务&事件文本"]
[2927,{"$f":"_xlfn.TEXTJOIN(\"\",1,IFERROR(VLOOKUP(A2930,[1]EventConfig!$T:$V,3,FALSE),\"\"),IFERROR(VLOOKUP(A2930,[1]EventConfig!$U:$W,3,FALSE),\"\"),IFERROR(VLOOKUP(A2930,[1]EventLinkConfig!$B:$C,2,FALSE),\"\"),IFERROR(VLOOKUP(A2930,[1]EventLinkConfig!$D:$E,2,FALSE),\"\"),IFERROR(VLOOKUP(A2930,[1]EventLinkConfig!$L:$M,2,FALSE),\"\"),IFERROR(VLOOKUP(A2930,[1]EventLinkConfig!$X:$Y,2,FALSE),\"\"),IFERROR(VLOOKUP(A2930,[1]EventLinkConfig!$AA:$AB,2,FALSE),\"\"),IFERROR(VLOOKUP(A2930,[1]EventConditionConfig!$B:$D,3,FALSE),\"\"))","v":""},"任务&事件文本"]
[2928,{"$f":"_xlfn.TEXTJOIN(\"\",1,IFERROR(VLOOKUP(A2931,[1]EventConfig!$T:$V,3,FALSE),\"\"),IFERROR(VLOOKUP(A2931,[1]EventConfig!$U:$W,3,FALSE),\"\"),IFERROR(VLOOKUP(A2931,[1]EventLinkConfig!$B:$C,2,FALSE),\"\"),IFERROR(VLOOKUP(A2931,[1]EventLinkConfig!$D:$E,2,FALSE),\"\"),IFERROR(VLOOKUP(A2931,[1]EventLinkConfig!$L:$M,2,FALSE),\"\"),IFERROR(VLOOKUP(A2931,[1]EventLinkConfig!$X:$Y,2,FALSE),\"\"),IFERROR(VLOOKUP(A2931,[1]EventLinkConfig!$AA:$AB,2,FALSE),\"\"),IFERROR(VLOOKUP(A2931,[1]EventConditionConfig!$B:$D,3,FALSE),\"\"))","v":""},"任务&事件文本"]
[2929,{"$f":"_xlfn.TEXTJOIN(\"\",1,IFERROR(VLOOKUP(A2932,[1]EventConfig!$T:$V,3,FALSE),\"\"),IFERROR(VLOOKUP(A2932,[1]EventConfig!$U:$W,3,FALSE),\"\"),IFERROR(VLOOKUP(A2932,[1]EventLinkConfig!$B:$C,2,FALSE),\"\"),IFERROR(VLOOKUP(A2932,[1]EventLinkConfig!$D:$E,2,FALSE),\"\"),IFERROR(VLOOKUP(A2932,[1]EventLinkConfig!$L:$M,2,FALSE),\"\"),IFERROR(VLOOKUP(A2932,[1]EventLinkConfig!$X:$Y,2,FALSE),\"\"),IFERROR(VLOOKUP(A2932,[1]EventLinkConfig!$AA:$AB,2,FALSE),\"\"),IFERROR(VLOOKUP(A2932,[1]EventConditionConfig!$B:$D,3,FALSE),\"\"))","v":""},"任务&事件文本"]
[2930,{"$f":"_xlfn.TEXTJOIN(\"\",1,IFERROR(VLOOKUP(A2933,[1]EventConfig!$T:$V,3,FALSE),\"\"),IFERROR(VLOOKUP(A2933,[1]EventConfig!$U:$W,3,FALSE),\"\"),IFERROR(VLOOKUP(A2933,[1]EventLinkConfig!$B:$C,2,FALSE),\"\"),IFERROR(VLOOKUP(A2933,[1]EventLinkConfig!$D:$E,2,FALSE),\"\"),IFERROR(VLOOKUP(A2933,[1]EventLinkConfig!$L:$M,2,FALSE),\"\"),IFERROR(VLOOKUP(A2933,[1]EventLinkConfig!$X:$Y,2,FALSE),\"\"),IFERROR(VLOOKUP(A2933,[1]EventLinkConfig!$AA:$AB,2,FALSE),\"\"),IFERROR(VLOOKUP(A2933,[1]EventConditionConfig!$B:$D,3,FALSE),\"\"))","v":""},"任务&事件文本"]
[2931,{"$f":"_xlfn.TEXTJOIN(\"\",1,IFERROR(VLOOKUP(A2934,[1]EventConfig!$T:$V,3,FALSE),\"\"),IFERROR(VLOOKUP(A2934,[1]EventConfig!$U:$W,3,FALSE),\"\"),IFERROR(VLOOKUP(A2934,[1]EventLinkConfig!$B:$C,2,FALSE),\"\"),IFERROR(VLOOKUP(A2934,[1]EventLinkConfig!$D:$E,2,FALSE),\"\"),IFERROR(VLOOKUP(A2934,[1]EventLinkConfig!$L:$M,2,FALSE),\"\"),IFERROR(VLOOKUP(A2934,[1]EventLinkConfig!$X:$Y,2,FALSE),\"\"),IFERROR(VLOOKUP(A2934,[1]EventLinkConfig!$AA:$AB,2,FALSE),\"\"),IFERROR(VLOOKUP(A2934,[1]EventConditionConfig!$B:$D,3,FALSE),\"\"))","v":""},"任务&事件文本"]
[2932,{"$f":"_xlfn.TEXTJOIN(\"\",1,IFERROR(VLOOKUP(A2935,[1]EventConfig!$T:$V,3,FALSE),\"\"),IFERROR(VLOOKUP(A2935,[1]EventConfig!$U:$W,3,FALSE),\"\"),IFERROR(VLOOKUP(A2935,[1]EventLinkConfig!$B:$C,2,FALSE),\"\"),IFERROR(VLOOKUP(A2935,[1]EventLinkConfig!$D:$E,2,FALSE),\"\"),IFERROR(VLOOKUP(A2935,[1]EventLinkConfig!$L:$M,2,FALSE),\"\"),IFERROR(VLOOKUP(A2935,[1]EventLinkConfig!$X:$Y,2,FALSE),\"\"),IFERROR(VLOOKUP(A2935,[1]EventLinkConfig!$AA:$AB,2,FALSE),\"\"),IFERROR(VLOOKUP(A2935,[1]EventConditionConfig!$B:$D,3,FALSE),\"\"))","v":""},"任务&事件文本"]
[2933,{"$f":"_xlfn.TEXTJOIN(\"\",1,IFERROR(VLOOKUP(A2936,[1]EventConfig!$T:$V,3,FALSE),\"\"),IFERROR(VLOOKUP(A2936,[1]EventConfig!$U:$W,3,FALSE),\"\"),IFERROR(VLOOKUP(A2936,[1]EventLinkConfig!$B:$C,2,FALSE),\"\"),IFERROR(VLOOKUP(A2936,[1]EventLinkConfig!$D:$E,2,FALSE),\"\"),IFERROR(VLOOKUP(A2936,[1]EventLinkConfig!$L:$M,2,FALSE),\"\"),IFERROR(VLOOKUP(A2936,[1]EventLinkConfig!$X:$Y,2,FALSE),\"\"),IFERROR(VLOOKUP(A2936,[1]EventLinkConfig!$AA:$AB,2,FALSE),\"\"),IFERROR(VLOOKUP(A2936,[1]EventConditionConfig!$B:$D,3,FALSE),\"\"))","v":""},"任务&事件文本"]
[2934,{"$f":"_xlfn.TEXTJOIN(\"\",1,IFERROR(VLOOKUP(A2937,[1]EventConfig!$T:$V,3,FALSE),\"\"),IFERROR(VLOOKUP(A2937,[1]EventConfig!$U:$W,3,FALSE),\"\"),IFERROR(VLOOKUP(A2937,[1]EventLinkConfig!$B:$C,2,FALSE),\"\"),IFERROR(VLOOKUP(A2937,[1]EventLinkConfig!$D:$E,2,FALSE),\"\"),IFERROR(VLOOKUP(A2937,[1]EventLinkConfig!$L:$M,2,FALSE),\"\"),IFERROR(VLOOKUP(A2937,[1]EventLinkConfig!$X:$Y,2,FALSE),\"\"),IFERROR(VLOOKUP(A2937,[1]EventLinkConfig!$AA:$AB,2,FALSE),\"\"),IFERROR(VLOOKUP(A2937,[1]EventConditionConfig!$B:$D,3,FALSE),\"\"))","v":""},"任务&事件文本"]
[2935,{"$f":"_xlfn.TEXTJOIN(\"\",1,IFERROR(VLOOKUP(A2938,[1]EventConfig!$T:$V,3,FALSE),\"\"),IFERROR(VLOOKUP(A2938,[1]EventConfig!$U:$W,3,FALSE),\"\"),IFERROR(VLOOKUP(A2938,[1]EventLinkConfig!$B:$C,2,FALSE),\"\"),IFERROR(VLOOKUP(A2938,[1]EventLinkConfig!$D:$E,2,FALSE),\"\"),IFERROR(VLOOKUP(A2938,[1]EventLinkConfig!$L:$M,2,FALSE),\"\"),IFERROR(VLOOKUP(A2938,[1]EventLinkConfig!$X:$Y,2,FALSE),\"\"),IFERROR(VLOOKUP(A2938,[1]EventLinkConfig!$AA:$AB,2,FALSE),\"\"),IFERROR(VLOOKUP(A2938,[1]EventConditionConfig!$B:$D,3,FALSE),\"\"))","v":""},"任务&事件文本"]
[2936,{"$f":"_xlfn.TEXTJOIN(\"\",1,IFERROR(VLOOKUP(A2939,[1]EventConfig!$T:$V,3,FALSE),\"\"),IFERROR(VLOOKUP(A2939,[1]EventConfig!$U:$W,3,FALSE),\"\"),IFERROR(VLOOKUP(A2939,[1]EventLinkConfig!$B:$C,2,FALSE),\"\"),IFERROR(VLOOKUP(A2939,[1]EventLinkConfig!$D:$E,2,FALSE),\"\"),IFERROR(VLOOKUP(A2939,[1]EventLinkConfig!$L:$M,2,FALSE),\"\"),IFERROR(VLOOKUP(A2939,[1]EventLinkConfig!$X:$Y,2,FALSE),\"\"),IFERROR(VLOOKUP(A2939,[1]EventLinkConfig!$AA:$AB,2,FALSE),\"\"),IFERROR(VLOOKUP(A2939,[1]EventConditionConfig!$B:$D,3,FALSE),\"\"))","v":""},"任务&事件文本"]
[2937,{"$f":"_xlfn.TEXTJOIN(\"\",1,IFERROR(VLOOKUP(A2940,[1]EventConfig!$T:$V,3,FALSE),\"\"),IFERROR(VLOOKUP(A2940,[1]EventConfig!$U:$W,3,FALSE),\"\"),IFERROR(VLOOKUP(A2940,[1]EventLinkConfig!$B:$C,2,FALSE),\"\"),IFERROR(VLOOKUP(A2940,[1]EventLinkConfig!$D:$E,2,FALSE),\"\"),IFERROR(VLOOKUP(A2940,[1]EventLinkConfig!$L:$M,2,FALSE),\"\"),IFERROR(VLOOKUP(A2940,[1]EventLinkConfig!$X:$Y,2,FALSE),\"\"),IFERROR(VLOOKUP(A2940,[1]EventLinkConfig!$AA:$AB,2,FALSE),\"\"),IFERROR(VLOOKUP(A2940,[1]EventConditionConfig!$B:$D,3,FALSE),\"\"))","v":""},"任务&事件文本"]
[2938,{"$f":"_xlfn.TEXTJOIN(\"\",1,IFERROR(VLOOKUP(A2941,[1]EventConfig!$T:$V,3,FALSE),\"\"),IFERROR(VLOOKUP(A2941,[1]EventConfig!$U:$W,3,FALSE),\"\"),IFERROR(VLOOKUP(A2941,[1]EventLinkConfig!$B:$C,2,FALSE),\"\"),IFERROR(VLOOKUP(A2941,[1]EventLinkConfig!$D:$E,2,FALSE),\"\"),IFERROR(VLOOKUP(A2941,[1]EventLinkConfig!$L:$M,2,FALSE),\"\"),IFERROR(VLOOKUP(A2941,[1]EventLinkConfig!$X:$Y,2,FALSE),\"\"),IFERROR(VLOOKUP(A2941,[1]EventLinkConfig!$AA:$AB,2,FALSE),\"\"),IFERROR(VLOOKUP(A2941,[1]EventConditionConfig!$B:$D,3,FALSE),\"\"))","v":""},"任务&事件文本"]
[2939,{"$f":"_xlfn.TEXTJOIN(\"\",1,IFERROR(VLOOKUP(A2942,[1]EventConfig!$T:$V,3,FALSE),\"\"),IFERROR(VLOOKUP(A2942,[1]EventConfig!$U:$W,3,FALSE),\"\"),IFERROR(VLOOKUP(A2942,[1]EventLinkConfig!$B:$C,2,FALSE),\"\"),IFERROR(VLOOKUP(A2942,[1]EventLinkConfig!$D:$E,2,FALSE),\"\"),IFERROR(VLOOKUP(A2942,[1]EventLinkConfig!$L:$M,2,FALSE),\"\"),IFERROR(VLOOKUP(A2942,[1]EventLinkConfig!$X:$Y,2,FALSE),\"\"),IFERROR(VLOOKUP(A2942,[1]EventLinkConfig!$AA:$AB,2,FALSE),\"\"),IFERROR(VLOOKUP(A2942,[1]EventConditionConfig!$B:$D,3,FALSE),\"\"))","v":""},"任务&事件文本"]
[2940,{"$f":"_xlfn.TEXTJOIN(\"\",1,IFERROR(VLOOKUP(A2943,[1]EventConfig!$T:$V,3,FALSE),\"\"),IFERROR(VLOOKUP(A2943,[1]EventConfig!$U:$W,3,FALSE),\"\"),IFERROR(VLOOKUP(A2943,[1]EventLinkConfig!$B:$C,2,FALSE),\"\"),IFERROR(VLOOKUP(A2943,[1]EventLinkConfig!$D:$E,2,FALSE),\"\"),IFERROR(VLOOKUP(A2943,[1]EventLinkConfig!$L:$M,2,FALSE),\"\"),IFERROR(VLOOKUP(A2943,[1]EventLinkConfig!$X:$Y,2,FALSE),\"\"),IFERROR(VLOOKUP(A2943,[1]EventLinkConfig!$AA:$AB,2,FALSE),\"\"),IFERROR(VLOOKUP(A2943,[1]EventConditionConfig!$B:$D,3,FALSE),\"\"))","v":""},"任务&事件文本"]
[2941,{"$f":"_xlfn.TEXTJOIN(\"\",1,IFERROR(VLOOKUP(A2944,[1]EventConfig!$T:$V,3,FALSE),\"\"),IFERROR(VLOOKUP(A2944,[1]EventConfig!$U:$W,3,FALSE),\"\"),IFERROR(VLOOKUP(A2944,[1]EventLinkConfig!$B:$C,2,FALSE),\"\"),IFERROR(VLOOKUP(A2944,[1]EventLinkConfig!$D:$E,2,FALSE),\"\"),IFERROR(VLOOKUP(A2944,[1]EventLinkConfig!$L:$M,2,FALSE),\"\"),IFERROR(VLOOKUP(A2944,[1]EventLinkConfig!$X:$Y,2,FALSE),\"\"),IFERROR(VLOOKUP(A2944,[1]EventLinkConfig!$AA:$AB,2,FALSE),\"\"),IFERROR(VLOOKUP(A2944,[1]EventConditionConfig!$B:$D,3,FALSE),\"\"))","v":""},"任务&事件文本"]
[2942,{"$f":"_xlfn.TEXTJOIN(\"\",1,IFERROR(VLOOKUP(A2945,[1]EventConfig!$T:$V,3,FALSE),\"\"),IFERROR(VLOOKUP(A2945,[1]EventConfig!$U:$W,3,FALSE),\"\"),IFERROR(VLOOKUP(A2945,[1]EventLinkConfig!$B:$C,2,FALSE),\"\"),IFERROR(VLOOKUP(A2945,[1]EventLinkConfig!$D:$E,2,FALSE),\"\"),IFERROR(VLOOKUP(A2945,[1]EventLinkConfig!$L:$M,2,FALSE),\"\"),IFERROR(VLOOKUP(A2945,[1]EventLinkConfig!$X:$Y,2,FALSE),\"\"),IFERROR(VLOOKUP(A2945,[1]EventLinkConfig!$AA:$AB,2,FALSE),\"\"),IFERROR(VLOOKUP(A2945,[1]EventConditionConfig!$B:$D,3,FALSE),\"\"))","v":""},"任务&事件文本"]
[2943,{"$f":"_xlfn.TEXTJOIN(\"\",1,IFERROR(VLOOKUP(A2946,[1]EventConfig!$T:$V,3,FALSE),\"\"),IFERROR(VLOOKUP(A2946,[1]EventConfig!$U:$W,3,FALSE),\"\"),IFERROR(VLOOKUP(A2946,[1]EventLinkConfig!$B:$C,2,FALSE),\"\"),IFERROR(VLOOKUP(A2946,[1]EventLinkConfig!$D:$E,2,FALSE),\"\"),IFERROR(VLOOKUP(A2946,[1]EventLinkConfig!$L:$M,2,FALSE),\"\"),IFERROR(VLOOKUP(A2946,[1]EventLinkConfig!$X:$Y,2,FALSE),\"\"),IFERROR(VLOOKUP(A2946,[1]EventLinkConfig!$AA:$AB,2,FALSE),\"\"),IFERROR(VLOOKUP(A2946,[1]EventConditionConfig!$B:$D,3,FALSE),\"\"))","v":""},"任务&事件文本"]
[2944,{"$f":"_xlfn.TEXTJOIN(\"\",1,IFERROR(VLOOKUP(A2947,[1]EventConfig!$T:$V,3,FALSE),\"\"),IFERROR(VLOOKUP(A2947,[1]EventConfig!$U:$W,3,FALSE),\"\"),IFERROR(VLOOKUP(A2947,[1]EventLinkConfig!$B:$C,2,FALSE),\"\"),IFERROR(VLOOKUP(A2947,[1]EventLinkConfig!$D:$E,2,FALSE),\"\"),IFERROR(VLOOKUP(A2947,[1]EventLinkConfig!$L:$M,2,FALSE),\"\"),IFERROR(VLOOKUP(A2947,[1]EventLinkConfig!$X:$Y,2,FALSE),\"\"),IFERROR(VLOOKUP(A2947,[1]EventLinkConfig!$AA:$AB,2,FALSE),\"\"),IFERROR(VLOOKUP(A2947,[1]EventConditionConfig!$B:$D,3,FALSE),\"\"))","v":""},"任务&事件文本"]
[2945,{"$f":"_xlfn.TEXTJOIN(\"\",1,IFERROR(VLOOKUP(A2948,[1]EventConfig!$T:$V,3,FALSE),\"\"),IFERROR(VLOOKUP(A2948,[1]EventConfig!$U:$W,3,FALSE),\"\"),IFERROR(VLOOKUP(A2948,[1]EventLinkConfig!$B:$C,2,FALSE),\"\"),IFERROR(VLOOKUP(A2948,[1]EventLinkConfig!$D:$E,2,FALSE),\"\"),IFERROR(VLOOKUP(A2948,[1]EventLinkConfig!$L:$M,2,FALSE),\"\"),IFERROR(VLOOKUP(A2948,[1]EventLinkConfig!$X:$Y,2,FALSE),\"\"),IFERROR(VLOOKUP(A2948,[1]EventLinkConfig!$AA:$AB,2,FALSE),\"\"),IFERROR(VLOOKUP(A2948,[1]EventConditionConfig!$B:$D,3,FALSE),\"\"))","v":""},"任务&事件文本"]
[2946,{"$f":"_xlfn.TEXTJOIN(\"\",1,IFERROR(VLOOKUP(A2949,[1]EventConfig!$T:$V,3,FALSE),\"\"),IFERROR(VLOOKUP(A2949,[1]EventConfig!$U:$W,3,FALSE),\"\"),IFERROR(VLOOKUP(A2949,[1]EventLinkConfig!$B:$C,2,FALSE),\"\"),IFERROR(VLOOKUP(A2949,[1]EventLinkConfig!$D:$E,2,FALSE),\"\"),IFERROR(VLOOKUP(A2949,[1]EventLinkConfig!$L:$M,2,FALSE),\"\"),IFERROR(VLOOKUP(A2949,[1]EventLinkConfig!$X:$Y,2,FALSE),\"\"),IFERROR(VLOOKUP(A2949,[1]EventLinkConfig!$AA:$AB,2,FALSE),\"\"),IFERROR(VLOOKUP(A2949,[1]EventConditionConfig!$B:$D,3,FALSE),\"\"))","v":""},"任务&事件文本"]
[2947,{"$f":"_xlfn.TEXTJOIN(\"\",1,IFERROR(VLOOKUP(A2950,[1]EventConfig!$T:$V,3,FALSE),\"\"),IFERROR(VLOOKUP(A2950,[1]EventConfig!$U:$W,3,FALSE),\"\"),IFERROR(VLOOKUP(A2950,[1]EventLinkConfig!$B:$C,2,FALSE),\"\"),IFERROR(VLOOKUP(A2950,[1]EventLinkConfig!$D:$E,2,FALSE),\"\"),IFERROR(VLOOKUP(A2950,[1]EventLinkConfig!$L:$M,2,FALSE),\"\"),IFERROR(VLOOKUP(A2950,[1]EventLinkConfig!$X:$Y,2,FALSE),\"\"),IFERROR(VLOOKUP(A2950,[1]EventLinkConfig!$AA:$AB,2,FALSE),\"\"),IFERROR(VLOOKUP(A2950,[1]EventConditionConfig!$B:$D,3,FALSE),\"\"))","v":""},"任务&事件文本"]
[2948,{"$f":"_xlfn.TEXTJOIN(\"\",1,IFERROR(VLOOKUP(A2951,[1]EventConfig!$T:$V,3,FALSE),\"\"),IFERROR(VLOOKUP(A2951,[1]EventConfig!$U:$W,3,FALSE),\"\"),IFERROR(VLOOKUP(A2951,[1]EventLinkConfig!$B:$C,2,FALSE),\"\"),IFERROR(VLOOKUP(A2951,[1]EventLinkConfig!$D:$E,2,FALSE),\"\"),IFERROR(VLOOKUP(A2951,[1]EventLinkConfig!$L:$M,2,FALSE),\"\"),IFERROR(VLOOKUP(A2951,[1]EventLinkConfig!$X:$Y,2,FALSE),\"\"),IFERROR(VLOOKUP(A2951,[1]EventLinkConfig!$AA:$AB,2,FALSE),\"\"),IFERROR(VLOOKUP(A2951,[1]EventConditionConfig!$B:$D,3,FALSE),\"\"))","v":""},"任务&事件文本"]
[2949,{"$f":"_xlfn.TEXTJOIN(\"\",1,IFERROR(VLOOKUP(A2952,[1]EventConfig!$T:$V,3,FALSE),\"\"),IFERROR(VLOOKUP(A2952,[1]EventConfig!$U:$W,3,FALSE),\"\"),IFERROR(VLOOKUP(A2952,[1]EventLinkConfig!$B:$C,2,FALSE),\"\"),IFERROR(VLOOKUP(A2952,[1]EventLinkConfig!$D:$E,2,FALSE),\"\"),IFERROR(VLOOKUP(A2952,[1]EventLinkConfig!$L:$M,2,FALSE),\"\"),IFERROR(VLOOKUP(A2952,[1]EventLinkConfig!$X:$Y,2,FALSE),\"\"),IFERROR(VLOOKUP(A2952,[1]EventLinkConfig!$AA:$AB,2,FALSE),\"\"),IFERROR(VLOOKUP(A2952,[1]EventConditionConfig!$B:$D,3,FALSE),\"\"))","v":""},"任务&事件文本"]
[2950,{"$f":"_xlfn.TEXTJOIN(\"\",1,IFERROR(VLOOKUP(A2953,[1]EventConfig!$T:$V,3,FALSE),\"\"),IFERROR(VLOOKUP(A2953,[1]EventConfig!$U:$W,3,FALSE),\"\"),IFERROR(VLOOKUP(A2953,[1]EventLinkConfig!$B:$C,2,FALSE),\"\"),IFERROR(VLOOKUP(A2953,[1]EventLinkConfig!$D:$E,2,FALSE),\"\"),IFERROR(VLOOKUP(A2953,[1]EventLinkConfig!$L:$M,2,FALSE),\"\"),IFERROR(VLOOKUP(A2953,[1]EventLinkConfig!$X:$Y,2,FALSE),\"\"),IFERROR(VLOOKUP(A2953,[1]EventLinkConfig!$AA:$AB,2,FALSE),\"\"),IFERROR(VLOOKUP(A2953,[1]EventConditionConfig!$B:$D,3,FALSE),\"\"))","v":""},"任务&事件文本"]
[2951,{"$f":"_xlfn.TEXTJOIN(\"\",1,IFERROR(VLOOKUP(A2954,[1]EventConfig!$T:$V,3,FALSE),\"\"),IFERROR(VLOOKUP(A2954,[1]EventConfig!$U:$W,3,FALSE),\"\"),IFERROR(VLOOKUP(A2954,[1]EventLinkConfig!$B:$C,2,FALSE),\"\"),IFERROR(VLOOKUP(A2954,[1]EventLinkConfig!$D:$E,2,FALSE),\"\"),IFERROR(VLOOKUP(A2954,[1]EventLinkConfig!$L:$M,2,FALSE),\"\"),IFERROR(VLOOKUP(A2954,[1]EventLinkConfig!$X:$Y,2,FALSE),\"\"),IFERROR(VLOOKUP(A2954,[1]EventLinkConfig!$AA:$AB,2,FALSE),\"\"),IFERROR(VLOOKUP(A2954,[1]EventConditionConfig!$B:$D,3,FALSE),\"\"))","v":""},"任务&事件文本"]
[2952,{"$f":"_xlfn.TEXTJOIN(\"\",1,IFERROR(VLOOKUP(A2955,[1]EventConfig!$T:$V,3,FALSE),\"\"),IFERROR(VLOOKUP(A2955,[1]EventConfig!$U:$W,3,FALSE),\"\"),IFERROR(VLOOKUP(A2955,[1]EventLinkConfig!$B:$C,2,FALSE),\"\"),IFERROR(VLOOKUP(A2955,[1]EventLinkConfig!$D:$E,2,FALSE),\"\"),IFERROR(VLOOKUP(A2955,[1]EventLinkConfig!$L:$M,2,FALSE),\"\"),IFERROR(VLOOKUP(A2955,[1]EventLinkConfig!$X:$Y,2,FALSE),\"\"),IFERROR(VLOOKUP(A2955,[1]EventLinkConfig!$AA:$AB,2,FALSE),\"\"),IFERROR(VLOOKUP(A2955,[1]EventConditionConfig!$B:$D,3,FALSE),\"\"))","v":""},"任务&事件文本"]
[2953,{"$f":"_xlfn.TEXTJOIN(\"\",1,IFERROR(VLOOKUP(A2956,[1]EventConfig!$T:$V,3,FALSE),\"\"),IFERROR(VLOOKUP(A2956,[1]EventConfig!$U:$W,3,FALSE),\"\"),IFERROR(VLOOKUP(A2956,[1]EventLinkConfig!$B:$C,2,FALSE),\"\"),IFERROR(VLOOKUP(A2956,[1]EventLinkConfig!$D:$E,2,FALSE),\"\"),IFERROR(VLOOKUP(A2956,[1]EventLinkConfig!$L:$M,2,FALSE),\"\"),IFERROR(VLOOKUP(A2956,[1]EventLinkConfig!$X:$Y,2,FALSE),\"\"),IFERROR(VLOOKUP(A2956,[1]EventLinkConfig!$AA:$AB,2,FALSE),\"\"),IFERROR(VLOOKUP(A2956,[1]EventConditionConfig!$B:$D,3,FALSE),\"\"))","v":""},"任务&事件文本"]
[2954,{"$f":"_xlfn.TEXTJOIN(\"\",1,IFERROR(VLOOKUP(A2957,[1]EventConfig!$T:$V,3,FALSE),\"\"),IFERROR(VLOOKUP(A2957,[1]EventConfig!$U:$W,3,FALSE),\"\"),IFERROR(VLOOKUP(A2957,[1]EventLinkConfig!$B:$C,2,FALSE),\"\"),IFERROR(VLOOKUP(A2957,[1]EventLinkConfig!$D:$E,2,FALSE),\"\"),IFERROR(VLOOKUP(A2957,[1]EventLinkConfig!$L:$M,2,FALSE),\"\"),IFERROR(VLOOKUP(A2957,[1]EventLinkConfig!$X:$Y,2,FALSE),\"\"),IFERROR(VLOOKUP(A2957,[1]EventLinkConfig!$AA:$AB,2,FALSE),\"\"),IFERROR(VLOOKUP(A2957,[1]EventConditionConfig!$B:$D,3,FALSE),\"\"))","v":""},"任务&事件文本"]
[2955,{"$f":"_xlfn.TEXTJOIN(\"\",1,IFERROR(VLOOKUP(A2958,[1]EventConfig!$T:$V,3,FALSE),\"\"),IFERROR(VLOOKUP(A2958,[1]EventConfig!$U:$W,3,FALSE),\"\"),IFERROR(VLOOKUP(A2958,[1]EventLinkConfig!$B:$C,2,FALSE),\"\"),IFERROR(VLOOKUP(A2958,[1]EventLinkConfig!$D:$E,2,FALSE),\"\"),IFERROR(VLOOKUP(A2958,[1]EventLinkConfig!$L:$M,2,FALSE),\"\"),IFERROR(VLOOKUP(A2958,[1]EventLinkConfig!$X:$Y,2,FALSE),\"\"),IFERROR(VLOOKUP(A2958,[1]EventLinkConfig!$AA:$AB,2,FALSE),\"\"),IFERROR(VLOOKUP(A2958,[1]EventConditionConfig!$B:$D,3,FALSE),\"\"))","v":""},"任务&事件文本"]
[2956,{"$f":"_xlfn.TEXTJOIN(\"\",1,IFERROR(VLOOKUP(A2959,[1]EventConfig!$T:$V,3,FALSE),\"\"),IFERROR(VLOOKUP(A2959,[1]EventConfig!$U:$W,3,FALSE),\"\"),IFERROR(VLOOKUP(A2959,[1]EventLinkConfig!$B:$C,2,FALSE),\"\"),IFERROR(VLOOKUP(A2959,[1]EventLinkConfig!$D:$E,2,FALSE),\"\"),IFERROR(VLOOKUP(A2959,[1]EventLinkConfig!$L:$M,2,FALSE),\"\"),IFERROR(VLOOKUP(A2959,[1]EventLinkConfig!$X:$Y,2,FALSE),\"\"),IFERROR(VLOOKUP(A2959,[1]EventLinkConfig!$AA:$AB,2,FALSE),\"\"),IFERROR(VLOOKUP(A2959,[1]EventConditionConfig!$B:$D,3,FALSE),\"\"))","v":""},"任务&事件文本"]
[2957,{"$f":"_xlfn.TEXTJOIN(\"\",1,IFERROR(VLOOKUP(A2960,[1]EventConfig!$T:$V,3,FALSE),\"\"),IFERROR(VLOOKUP(A2960,[1]EventConfig!$U:$W,3,FALSE),\"\"),IFERROR(VLOOKUP(A2960,[1]EventLinkConfig!$B:$C,2,FALSE),\"\"),IFERROR(VLOOKUP(A2960,[1]EventLinkConfig!$D:$E,2,FALSE),\"\"),IFERROR(VLOOKUP(A2960,[1]EventLinkConfig!$L:$M,2,FALSE),\"\"),IFERROR(VLOOKUP(A2960,[1]EventLinkConfig!$X:$Y,2,FALSE),\"\"),IFERROR(VLOOKUP(A2960,[1]EventLinkConfig!$AA:$AB,2,FALSE),\"\"),IFERROR(VLOOKUP(A2960,[1]EventConditionConfig!$B:$D,3,FALSE),\"\"))","v":""},"任务&事件文本"]
[2958,{"$f":"_xlfn.TEXTJOIN(\"\",1,IFERROR(VLOOKUP(A2961,[1]EventConfig!$T:$V,3,FALSE),\"\"),IFERROR(VLOOKUP(A2961,[1]EventConfig!$U:$W,3,FALSE),\"\"),IFERROR(VLOOKUP(A2961,[1]EventLinkConfig!$B:$C,2,FALSE),\"\"),IFERROR(VLOOKUP(A2961,[1]EventLinkConfig!$D:$E,2,FALSE),\"\"),IFERROR(VLOOKUP(A2961,[1]EventLinkConfig!$L:$M,2,FALSE),\"\"),IFERROR(VLOOKUP(A2961,[1]EventLinkConfig!$X:$Y,2,FALSE),\"\"),IFERROR(VLOOKUP(A2961,[1]EventLinkConfig!$AA:$AB,2,FALSE),\"\"),IFERROR(VLOOKUP(A2961,[1]EventConditionConfig!$B:$D,3,FALSE),\"\"))","v":""},"任务&事件文本"]
[2959,{"$f":"_xlfn.TEXTJOIN(\"\",1,IFERROR(VLOOKUP(A2962,[1]EventConfig!$T:$V,3,FALSE),\"\"),IFERROR(VLOOKUP(A2962,[1]EventConfig!$U:$W,3,FALSE),\"\"),IFERROR(VLOOKUP(A2962,[1]EventLinkConfig!$B:$C,2,FALSE),\"\"),IFERROR(VLOOKUP(A2962,[1]EventLinkConfig!$D:$E,2,FALSE),\"\"),IFERROR(VLOOKUP(A2962,[1]EventLinkConfig!$L:$M,2,FALSE),\"\"),IFERROR(VLOOKUP(A2962,[1]EventLinkConfig!$X:$Y,2,FALSE),\"\"),IFERROR(VLOOKUP(A2962,[1]EventLinkConfig!$AA:$AB,2,FALSE),\"\"),IFERROR(VLOOKUP(A2962,[1]EventConditionConfig!$B:$D,3,FALSE),\"\"))","v":""},"任务&事件文本"]
[2960,{"$f":"_xlfn.TEXTJOIN(\"\",1,IFERROR(VLOOKUP(A2963,[1]EventConfig!$T:$V,3,FALSE),\"\"),IFERROR(VLOOKUP(A2963,[1]EventConfig!$U:$W,3,FALSE),\"\"),IFERROR(VLOOKUP(A2963,[1]EventLinkConfig!$B:$C,2,FALSE),\"\"),IFERROR(VLOOKUP(A2963,[1]EventLinkConfig!$D:$E,2,FALSE),\"\"),IFERROR(VLOOKUP(A2963,[1]EventLinkConfig!$L:$M,2,FALSE),\"\"),IFERROR(VLOOKUP(A2963,[1]EventLinkConfig!$X:$Y,2,FALSE),\"\"),IFERROR(VLOOKUP(A2963,[1]EventLinkConfig!$AA:$AB,2,FALSE),\"\"),IFERROR(VLOOKUP(A2963,[1]EventConditionConfig!$B:$D,3,FALSE),\"\"))","v":""},"任务&事件文本"]
[2961,{"$f":"_xlfn.TEXTJOIN(\"\",1,IFERROR(VLOOKUP(A2964,[1]EventConfig!$T:$V,3,FALSE),\"\"),IFERROR(VLOOKUP(A2964,[1]EventConfig!$U:$W,3,FALSE),\"\"),IFERROR(VLOOKUP(A2964,[1]EventLinkConfig!$B:$C,2,FALSE),\"\"),IFERROR(VLOOKUP(A2964,[1]EventLinkConfig!$D:$E,2,FALSE),\"\"),IFERROR(VLOOKUP(A2964,[1]EventLinkConfig!$L:$M,2,FALSE),\"\"),IFERROR(VLOOKUP(A2964,[1]EventLinkConfig!$X:$Y,2,FALSE),\"\"),IFERROR(VLOOKUP(A2964,[1]EventLinkConfig!$AA:$AB,2,FALSE),\"\"),IFERROR(VLOOKUP(A2964,[1]EventConditionConfig!$B:$D,3,FALSE),\"\"))","v":""},"任务&事件文本"]
[2962,{"$f":"_xlfn.TEXTJOIN(\"\",1,IFERROR(VLOOKUP(A2965,[1]EventConfig!$T:$V,3,FALSE),\"\"),IFERROR(VLOOKUP(A2965,[1]EventConfig!$U:$W,3,FALSE),\"\"),IFERROR(VLOOKUP(A2965,[1]EventLinkConfig!$B:$C,2,FALSE),\"\"),IFERROR(VLOOKUP(A2965,[1]EventLinkConfig!$D:$E,2,FALSE),\"\"),IFERROR(VLOOKUP(A2965,[1]EventLinkConfig!$L:$M,2,FALSE),\"\"),IFERROR(VLOOKUP(A2965,[1]EventLinkConfig!$X:$Y,2,FALSE),\"\"),IFERROR(VLOOKUP(A2965,[1]EventLinkConfig!$AA:$AB,2,FALSE),\"\"),IFERROR(VLOOKUP(A2965,[1]EventConditionConfig!$B:$D,3,FALSE),\"\"))","v":""},"任务&事件文本"]
[2963,{"$f":"_xlfn.TEXTJOIN(\"\",1,IFERROR(VLOOKUP(A2966,[1]EventConfig!$T:$V,3,FALSE),\"\"),IFERROR(VLOOKUP(A2966,[1]EventConfig!$U:$W,3,FALSE),\"\"),IFERROR(VLOOKUP(A2966,[1]EventLinkConfig!$B:$C,2,FALSE),\"\"),IFERROR(VLOOKUP(A2966,[1]EventLinkConfig!$D:$E,2,FALSE),\"\"),IFERROR(VLOOKUP(A2966,[1]EventLinkConfig!$L:$M,2,FALSE),\"\"),IFERROR(VLOOKUP(A2966,[1]EventLinkConfig!$X:$Y,2,FALSE),\"\"),IFERROR(VLOOKUP(A2966,[1]EventLinkConfig!$AA:$AB,2,FALSE),\"\"),IFERROR(VLOOKUP(A2966,[1]EventConditionConfig!$B:$D,3,FALSE),\"\"))","v":""},"任务&事件文本"]
[2964,{"$f":"_xlfn.TEXTJOIN(\"\",1,IFERROR(VLOOKUP(A2967,[1]EventConfig!$T:$V,3,FALSE),\"\"),IFERROR(VLOOKUP(A2967,[1]EventConfig!$U:$W,3,FALSE),\"\"),IFERROR(VLOOKUP(A2967,[1]EventLinkConfig!$B:$C,2,FALSE),\"\"),IFERROR(VLOOKUP(A2967,[1]EventLinkConfig!$D:$E,2,FALSE),\"\"),IFERROR(VLOOKUP(A2967,[1]EventLinkConfig!$L:$M,2,FALSE),\"\"),IFERROR(VLOOKUP(A2967,[1]EventLinkConfig!$X:$Y,2,FALSE),\"\"),IFERROR(VLOOKUP(A2967,[1]EventLinkConfig!$AA:$AB,2,FALSE),\"\"),IFERROR(VLOOKUP(A2967,[1]EventConditionConfig!$B:$D,3,FALSE),\"\"))","v":""},"任务&事件文本"]
[2965,{"$f":"_xlfn.TEXTJOIN(\"\",1,IFERROR(VLOOKUP(A2968,[1]EventConfig!$T:$V,3,FALSE),\"\"),IFERROR(VLOOKUP(A2968,[1]EventConfig!$U:$W,3,FALSE),\"\"),IFERROR(VLOOKUP(A2968,[1]EventLinkConfig!$B:$C,2,FALSE),\"\"),IFERROR(VLOOKUP(A2968,[1]EventLinkConfig!$D:$E,2,FALSE),\"\"),IFERROR(VLOOKUP(A2968,[1]EventLinkConfig!$L:$M,2,FALSE),\"\"),IFERROR(VLOOKUP(A2968,[1]EventLinkConfig!$X:$Y,2,FALSE),\"\"),IFERROR(VLOOKUP(A2968,[1]EventLinkConfig!$AA:$AB,2,FALSE),\"\"),IFERROR(VLOOKUP(A2968,[1]EventConditionConfig!$B:$D,3,FALSE),\"\"))","v":""},"任务&事件文本"]
[2966,{"$f":"_xlfn.TEXTJOIN(\"\",1,IFERROR(VLOOKUP(A2969,[1]EventConfig!$T:$V,3,FALSE),\"\"),IFERROR(VLOOKUP(A2969,[1]EventConfig!$U:$W,3,FALSE),\"\"),IFERROR(VLOOKUP(A2969,[1]EventLinkConfig!$B:$C,2,FALSE),\"\"),IFERROR(VLOOKUP(A2969,[1]EventLinkConfig!$D:$E,2,FALSE),\"\"),IFERROR(VLOOKUP(A2969,[1]EventLinkConfig!$L:$M,2,FALSE),\"\"),IFERROR(VLOOKUP(A2969,[1]EventLinkConfig!$X:$Y,2,FALSE),\"\"),IFERROR(VLOOKUP(A2969,[1]EventLinkConfig!$AA:$AB,2,FALSE),\"\"),IFERROR(VLOOKUP(A2969,[1]EventConditionConfig!$B:$D,3,FALSE),\"\"))","v":""},"任务&事件文本"]
[2967,{"$f":"_xlfn.TEXTJOIN(\"\",1,IFERROR(VLOOKUP(A2970,[1]EventConfig!$T:$V,3,FALSE),\"\"),IFERROR(VLOOKUP(A2970,[1]EventConfig!$U:$W,3,FALSE),\"\"),IFERROR(VLOOKUP(A2970,[1]EventLinkConfig!$B:$C,2,FALSE),\"\"),IFERROR(VLOOKUP(A2970,[1]EventLinkConfig!$D:$E,2,FALSE),\"\"),IFERROR(VLOOKUP(A2970,[1]EventLinkConfig!$L:$M,2,FALSE),\"\"),IFERROR(VLOOKUP(A2970,[1]EventLinkConfig!$X:$Y,2,FALSE),\"\"),IFERROR(VLOOKUP(A2970,[1]EventLinkConfig!$AA:$AB,2,FALSE),\"\"),IFERROR(VLOOKUP(A2970,[1]EventConditionConfig!$B:$D,3,FALSE),\"\"))","v":""},"任务&事件文本"]
[2968,{"$f":"_xlfn.TEXTJOIN(\"\",1,IFERROR(VLOOKUP(A2971,[1]EventConfig!$T:$V,3,FALSE),\"\"),IFERROR(VLOOKUP(A2971,[1]EventConfig!$U:$W,3,FALSE),\"\"),IFERROR(VLOOKUP(A2971,[1]EventLinkConfig!$B:$C,2,FALSE),\"\"),IFERROR(VLOOKUP(A2971,[1]EventLinkConfig!$D:$E,2,FALSE),\"\"),IFERROR(VLOOKUP(A2971,[1]EventLinkConfig!$L:$M,2,FALSE),\"\"),IFERROR(VLOOKUP(A2971,[1]EventLinkConfig!$X:$Y,2,FALSE),\"\"),IFERROR(VLOOKUP(A2971,[1]EventLinkConfig!$AA:$AB,2,FALSE),\"\"),IFERROR(VLOOKUP(A2971,[1]EventConditionConfig!$B:$D,3,FALSE),\"\"))","v":""},"任务&事件文本"]
[2969,{"$f":"_xlfn.TEXTJOIN(\"\",1,IFERROR(VLOOKUP(A2972,[1]EventConfig!$T:$V,3,FALSE),\"\"),IFERROR(VLOOKUP(A2972,[1]EventConfig!$U:$W,3,FALSE),\"\"),IFERROR(VLOOKUP(A2972,[1]EventLinkConfig!$B:$C,2,FALSE),\"\"),IFERROR(VLOOKUP(A2972,[1]EventLinkConfig!$D:$E,2,FALSE),\"\"),IFERROR(VLOOKUP(A2972,[1]EventLinkConfig!$L:$M,2,FALSE),\"\"),IFERROR(VLOOKUP(A2972,[1]EventLinkConfig!$X:$Y,2,FALSE),\"\"),IFERROR(VLOOKUP(A2972,[1]EventLinkConfig!$AA:$AB,2,FALSE),\"\"),IFERROR(VLOOKUP(A2972,[1]EventConditionConfig!$B:$D,3,FALSE),\"\"))","v":""},"任务&事件文本"]
[2970,{"$f":"_xlfn.TEXTJOIN(\"\",1,IFERROR(VLOOKUP(A2973,[1]EventConfig!$T:$V,3,FALSE),\"\"),IFERROR(VLOOKUP(A2973,[1]EventConfig!$U:$W,3,FALSE),\"\"),IFERROR(VLOOKUP(A2973,[1]EventLinkConfig!$B:$C,2,FALSE),\"\"),IFERROR(VLOOKUP(A2973,[1]EventLinkConfig!$D:$E,2,FALSE),\"\"),IFERROR(VLOOKUP(A2973,[1]EventLinkConfig!$L:$M,2,FALSE),\"\"),IFERROR(VLOOKUP(A2973,[1]EventLinkConfig!$X:$Y,2,FALSE),\"\"),IFERROR(VLOOKUP(A2973,[1]EventLinkConfig!$AA:$AB,2,FALSE),\"\"),IFERROR(VLOOKUP(A2973,[1]EventConditionConfig!$B:$D,3,FALSE),\"\"))","v":""},"任务&事件文本"]
[2971,{"$f":"_xlfn.TEXTJOIN(\"\",1,IFERROR(VLOOKUP(A2974,[1]EventConfig!$T:$V,3,FALSE),\"\"),IFERROR(VLOOKUP(A2974,[1]EventConfig!$U:$W,3,FALSE),\"\"),IFERROR(VLOOKUP(A2974,[1]EventLinkConfig!$B:$C,2,FALSE),\"\"),IFERROR(VLOOKUP(A2974,[1]EventLinkConfig!$D:$E,2,FALSE),\"\"),IFERROR(VLOOKUP(A2974,[1]EventLinkConfig!$L:$M,2,FALSE),\"\"),IFERROR(VLOOKUP(A2974,[1]EventLinkConfig!$X:$Y,2,FALSE),\"\"),IFERROR(VLOOKUP(A2974,[1]EventLinkConfig!$AA:$AB,2,FALSE),\"\"),IFERROR(VLOOKUP(A2974,[1]EventConditionConfig!$B:$D,3,FALSE),\"\"))","v":""},"任务&事件文本"]
[2972,{"$f":"_xlfn.TEXTJOIN(\"\",1,IFERROR(VLOOKUP(A2975,[1]EventConfig!$T:$V,3,FALSE),\"\"),IFERROR(VLOOKUP(A2975,[1]EventConfig!$U:$W,3,FALSE),\"\"),IFERROR(VLOOKUP(A2975,[1]EventLinkConfig!$B:$C,2,FALSE),\"\"),IFERROR(VLOOKUP(A2975,[1]EventLinkConfig!$D:$E,2,FALSE),\"\"),IFERROR(VLOOKUP(A2975,[1]EventLinkConfig!$L:$M,2,FALSE),\"\"),IFERROR(VLOOKUP(A2975,[1]EventLinkConfig!$X:$Y,2,FALSE),\"\"),IFERROR(VLOOKUP(A2975,[1]EventLinkConfig!$AA:$AB,2,FALSE),\"\"),IFERROR(VLOOKUP(A2975,[1]EventConditionConfig!$B:$D,3,FALSE),\"\"))","v":""},"任务&事件文本"]
[2973,{"$f":"_xlfn.TEXTJOIN(\"\",1,IFERROR(VLOOKUP(A2976,[1]EventConfig!$T:$V,3,FALSE),\"\"),IFERROR(VLOOKUP(A2976,[1]EventConfig!$U:$W,3,FALSE),\"\"),IFERROR(VLOOKUP(A2976,[1]EventLinkConfig!$B:$C,2,FALSE),\"\"),IFERROR(VLOOKUP(A2976,[1]EventLinkConfig!$D:$E,2,FALSE),\"\"),IFERROR(VLOOKUP(A2976,[1]EventLinkConfig!$L:$M,2,FALSE),\"\"),IFERROR(VLOOKUP(A2976,[1]EventLinkConfig!$X:$Y,2,FALSE),\"\"),IFERROR(VLOOKUP(A2976,[1]EventLinkConfig!$AA:$AB,2,FALSE),\"\"),IFERROR(VLOOKUP(A2976,[1]EventConditionConfig!$B:$D,3,FALSE),\"\"))","v":""},"任务&事件文本"]
[2974,{"$f":"_xlfn.TEXTJOIN(\"\",1,IFERROR(VLOOKUP(A2977,[1]EventConfig!$T:$V,3,FALSE),\"\"),IFERROR(VLOOKUP(A2977,[1]EventConfig!$U:$W,3,FALSE),\"\"),IFERROR(VLOOKUP(A2977,[1]EventLinkConfig!$B:$C,2,FALSE),\"\"),IFERROR(VLOOKUP(A2977,[1]EventLinkConfig!$D:$E,2,FALSE),\"\"),IFERROR(VLOOKUP(A2977,[1]EventLinkConfig!$L:$M,2,FALSE),\"\"),IFERROR(VLOOKUP(A2977,[1]EventLinkConfig!$X:$Y,2,FALSE),\"\"),IFERROR(VLOOKUP(A2977,[1]EventLinkConfig!$AA:$AB,2,FALSE),\"\"),IFERROR(VLOOKUP(A2977,[1]EventConditionConfig!$B:$D,3,FALSE),\"\"))","v":""},"任务&事件文本"]
[2975,{"$f":"_xlfn.TEXTJOIN(\"\",1,IFERROR(VLOOKUP(A2978,[1]EventConfig!$T:$V,3,FALSE),\"\"),IFERROR(VLOOKUP(A2978,[1]EventConfig!$U:$W,3,FALSE),\"\"),IFERROR(VLOOKUP(A2978,[1]EventLinkConfig!$B:$C,2,FALSE),\"\"),IFERROR(VLOOKUP(A2978,[1]EventLinkConfig!$D:$E,2,FALSE),\"\"),IFERROR(VLOOKUP(A2978,[1]EventLinkConfig!$L:$M,2,FALSE),\"\"),IFERROR(VLOOKUP(A2978,[1]EventLinkConfig!$X:$Y,2,FALSE),\"\"),IFERROR(VLOOKUP(A2978,[1]EventLinkConfig!$AA:$AB,2,FALSE),\"\"),IFERROR(VLOOKUP(A2978,[1]EventConditionConfig!$B:$D,3,FALSE),\"\"))","v":""},"任务&事件文本"]
[2976,{"$f":"_xlfn.TEXTJOIN(\"\",1,IFERROR(VLOOKUP(A2979,[1]EventConfig!$T:$V,3,FALSE),\"\"),IFERROR(VLOOKUP(A2979,[1]EventConfig!$U:$W,3,FALSE),\"\"),IFERROR(VLOOKUP(A2979,[1]EventLinkConfig!$B:$C,2,FALSE),\"\"),IFERROR(VLOOKUP(A2979,[1]EventLinkConfig!$D:$E,2,FALSE),\"\"),IFERROR(VLOOKUP(A2979,[1]EventLinkConfig!$L:$M,2,FALSE),\"\"),IFERROR(VLOOKUP(A2979,[1]EventLinkConfig!$X:$Y,2,FALSE),\"\"),IFERROR(VLOOKUP(A2979,[1]EventLinkConfig!$AA:$AB,2,FALSE),\"\"),IFERROR(VLOOKUP(A2979,[1]EventConditionConfig!$B:$D,3,FALSE),\"\"))","v":""},"任务&事件文本"]
[2977,{"$f":"_xlfn.TEXTJOIN(\"\",1,IFERROR(VLOOKUP(A2980,[1]EventConfig!$T:$V,3,FALSE),\"\"),IFERROR(VLOOKUP(A2980,[1]EventConfig!$U:$W,3,FALSE),\"\"),IFERROR(VLOOKUP(A2980,[1]EventLinkConfig!$B:$C,2,FALSE),\"\"),IFERROR(VLOOKUP(A2980,[1]EventLinkConfig!$D:$E,2,FALSE),\"\"),IFERROR(VLOOKUP(A2980,[1]EventLinkConfig!$L:$M,2,FALSE),\"\"),IFERROR(VLOOKUP(A2980,[1]EventLinkConfig!$X:$Y,2,FALSE),\"\"),IFERROR(VLOOKUP(A2980,[1]EventLinkConfig!$AA:$AB,2,FALSE),\"\"),IFERROR(VLOOKUP(A2980,[1]EventConditionConfig!$B:$D,3,FALSE),\"\"))","v":""},"任务&事件文本"]
[2978,{"$f":"_xlfn.TEXTJOIN(\"\",1,IFERROR(VLOOKUP(A2981,[1]EventConfig!$T:$V,3,FALSE),\"\"),IFERROR(VLOOKUP(A2981,[1]EventConfig!$U:$W,3,FALSE),\"\"),IFERROR(VLOOKUP(A2981,[1]EventLinkConfig!$B:$C,2,FALSE),\"\"),IFERROR(VLOOKUP(A2981,[1]EventLinkConfig!$D:$E,2,FALSE),\"\"),IFERROR(VLOOKUP(A2981,[1]EventLinkConfig!$L:$M,2,FALSE),\"\"),IFERROR(VLOOKUP(A2981,[1]EventLinkConfig!$X:$Y,2,FALSE),\"\"),IFERROR(VLOOKUP(A2981,[1]EventLinkConfig!$AA:$AB,2,FALSE),\"\"),IFERROR(VLOOKUP(A2981,[1]EventConditionConfig!$B:$D,3,FALSE),\"\"))","v":""},"任务&事件文本"]
[2979,{"$f":"_xlfn.TEXTJOIN(\"\",1,IFERROR(VLOOKUP(A2982,[1]EventConfig!$T:$V,3,FALSE),\"\"),IFERROR(VLOOKUP(A2982,[1]EventConfig!$U:$W,3,FALSE),\"\"),IFERROR(VLOOKUP(A2982,[1]EventLinkConfig!$B:$C,2,FALSE),\"\"),IFERROR(VLOOKUP(A2982,[1]EventLinkConfig!$D:$E,2,FALSE),\"\"),IFERROR(VLOOKUP(A2982,[1]EventLinkConfig!$L:$M,2,FALSE),\"\"),IFERROR(VLOOKUP(A2982,[1]EventLinkConfig!$X:$Y,2,FALSE),\"\"),IFERROR(VLOOKUP(A2982,[1]EventLinkConfig!$AA:$AB,2,FALSE),\"\"),IFERROR(VLOOKUP(A2982,[1]EventConditionConfig!$B:$D,3,FALSE),\"\"))","v":""},"任务&事件文本"]
[2980,{"$f":"_xlfn.TEXTJOIN(\"\",1,IFERROR(VLOOKUP(A2983,[1]EventConfig!$T:$V,3,FALSE),\"\"),IFERROR(VLOOKUP(A2983,[1]EventConfig!$U:$W,3,FALSE),\"\"),IFERROR(VLOOKUP(A2983,[1]EventLinkConfig!$B:$C,2,FALSE),\"\"),IFERROR(VLOOKUP(A2983,[1]EventLinkConfig!$D:$E,2,FALSE),\"\"),IFERROR(VLOOKUP(A2983,[1]EventLinkConfig!$L:$M,2,FALSE),\"\"),IFERROR(VLOOKUP(A2983,[1]EventLinkConfig!$X:$Y,2,FALSE),\"\"),IFERROR(VLOOKUP(A2983,[1]EventLinkConfig!$AA:$AB,2,FALSE),\"\"),IFERROR(VLOOKUP(A2983,[1]EventConditionConfig!$B:$D,3,FALSE),\"\"))","v":""},"任务&事件文本"]
[2981,{"$f":"_xlfn.TEXTJOIN(\"\",1,IFERROR(VLOOKUP(A2984,[1]EventConfig!$T:$V,3,FALSE),\"\"),IFERROR(VLOOKUP(A2984,[1]EventConfig!$U:$W,3,FALSE),\"\"),IFERROR(VLOOKUP(A2984,[1]EventLinkConfig!$B:$C,2,FALSE),\"\"),IFERROR(VLOOKUP(A2984,[1]EventLinkConfig!$D:$E,2,FALSE),\"\"),IFERROR(VLOOKUP(A2984,[1]EventLinkConfig!$L:$M,2,FALSE),\"\"),IFERROR(VLOOKUP(A2984,[1]EventLinkConfig!$X:$Y,2,FALSE),\"\"),IFERROR(VLOOKUP(A2984,[1]EventLinkConfig!$AA:$AB,2,FALSE),\"\"),IFERROR(VLOOKUP(A2984,[1]EventConditionConfig!$B:$D,3,FALSE),\"\"))","v":""},"任务&事件文本"]
[2982,{"$f":"_xlfn.TEXTJOIN(\"\",1,IFERROR(VLOOKUP(A2985,[1]EventConfig!$T:$V,3,FALSE),\"\"),IFERROR(VLOOKUP(A2985,[1]EventConfig!$U:$W,3,FALSE),\"\"),IFERROR(VLOOKUP(A2985,[1]EventLinkConfig!$B:$C,2,FALSE),\"\"),IFERROR(VLOOKUP(A2985,[1]EventLinkConfig!$D:$E,2,FALSE),\"\"),IFERROR(VLOOKUP(A2985,[1]EventLinkConfig!$L:$M,2,FALSE),\"\"),IFERROR(VLOOKUP(A2985,[1]EventLinkConfig!$X:$Y,2,FALSE),\"\"),IFERROR(VLOOKUP(A2985,[1]EventLinkConfig!$AA:$AB,2,FALSE),\"\"),IFERROR(VLOOKUP(A2985,[1]EventConditionConfig!$B:$D,3,FALSE),\"\"))","v":""},"任务&事件文本"]
[2983,{"$f":"_xlfn.TEXTJOIN(\"\",1,IFERROR(VLOOKUP(A2986,[1]EventConfig!$T:$V,3,FALSE),\"\"),IFERROR(VLOOKUP(A2986,[1]EventConfig!$U:$W,3,FALSE),\"\"),IFERROR(VLOOKUP(A2986,[1]EventLinkConfig!$B:$C,2,FALSE),\"\"),IFERROR(VLOOKUP(A2986,[1]EventLinkConfig!$D:$E,2,FALSE),\"\"),IFERROR(VLOOKUP(A2986,[1]EventLinkConfig!$L:$M,2,FALSE),\"\"),IFERROR(VLOOKUP(A2986,[1]EventLinkConfig!$X:$Y,2,FALSE),\"\"),IFERROR(VLOOKUP(A2986,[1]EventLinkConfig!$AA:$AB,2,FALSE),\"\"),IFERROR(VLOOKUP(A2986,[1]EventConditionConfig!$B:$D,3,FALSE),\"\"))","v":""},"任务&事件文本"]
[2984,{"$f":"_xlfn.TEXTJOIN(\"\",1,IFERROR(VLOOKUP(A2987,[1]EventConfig!$T:$V,3,FALSE),\"\"),IFERROR(VLOOKUP(A2987,[1]EventConfig!$U:$W,3,FALSE),\"\"),IFERROR(VLOOKUP(A2987,[1]EventLinkConfig!$B:$C,2,FALSE),\"\"),IFERROR(VLOOKUP(A2987,[1]EventLinkConfig!$D:$E,2,FALSE),\"\"),IFERROR(VLOOKUP(A2987,[1]EventLinkConfig!$L:$M,2,FALSE),\"\"),IFERROR(VLOOKUP(A2987,[1]EventLinkConfig!$X:$Y,2,FALSE),\"\"),IFERROR(VLOOKUP(A2987,[1]EventLinkConfig!$AA:$AB,2,FALSE),\"\"),IFERROR(VLOOKUP(A2987,[1]EventConditionConfig!$B:$D,3,FALSE),\"\"))","v":""},"任务&事件文本"]
[2985,{"$f":"_xlfn.TEXTJOIN(\"\",1,IFERROR(VLOOKUP(A2988,[1]EventConfig!$T:$V,3,FALSE),\"\"),IFERROR(VLOOKUP(A2988,[1]EventConfig!$U:$W,3,FALSE),\"\"),IFERROR(VLOOKUP(A2988,[1]EventLinkConfig!$B:$C,2,FALSE),\"\"),IFERROR(VLOOKUP(A2988,[1]EventLinkConfig!$D:$E,2,FALSE),\"\"),IFERROR(VLOOKUP(A2988,[1]EventLinkConfig!$L:$M,2,FALSE),\"\"),IFERROR(VLOOKUP(A2988,[1]EventLinkConfig!$X:$Y,2,FALSE),\"\"),IFERROR(VLOOKUP(A2988,[1]EventLinkConfig!$AA:$AB,2,FALSE),\"\"),IFERROR(VLOOKUP(A2988,[1]EventConditionConfig!$B:$D,3,FALSE),\"\"))","v":""},"任务&事件文本"]
[2986,{"$f":"_xlfn.TEXTJOIN(\"\",1,IFERROR(VLOOKUP(A2989,[1]EventConfig!$T:$V,3,FALSE),\"\"),IFERROR(VLOOKUP(A2989,[1]EventConfig!$U:$W,3,FALSE),\"\"),IFERROR(VLOOKUP(A2989,[1]EventLinkConfig!$B:$C,2,FALSE),\"\"),IFERROR(VLOOKUP(A2989,[1]EventLinkConfig!$D:$E,2,FALSE),\"\"),IFERROR(VLOOKUP(A2989,[1]EventLinkConfig!$L:$M,2,FALSE),\"\"),IFERROR(VLOOKUP(A2989,[1]EventLinkConfig!$X:$Y,2,FALSE),\"\"),IFERROR(VLOOKUP(A2989,[1]EventLinkConfig!$AA:$AB,2,FALSE),\"\"),IFERROR(VLOOKUP(A2989,[1]EventConditionConfig!$B:$D,3,FALSE),\"\"))","v":""},"任务&事件文本"]
[2987,{"$f":"_xlfn.TEXTJOIN(\"\",1,IFERROR(VLOOKUP(A2990,[1]EventConfig!$T:$V,3,FALSE),\"\"),IFERROR(VLOOKUP(A2990,[1]EventConfig!$U:$W,3,FALSE),\"\"),IFERROR(VLOOKUP(A2990,[1]EventLinkConfig!$B:$C,2,FALSE),\"\"),IFERROR(VLOOKUP(A2990,[1]EventLinkConfig!$D:$E,2,FALSE),\"\"),IFERROR(VLOOKUP(A2990,[1]EventLinkConfig!$L:$M,2,FALSE),\"\"),IFERROR(VLOOKUP(A2990,[1]EventLinkConfig!$X:$Y,2,FALSE),\"\"),IFERROR(VLOOKUP(A2990,[1]EventLinkConfig!$AA:$AB,2,FALSE),\"\"),IFERROR(VLOOKUP(A2990,[1]EventConditionConfig!$B:$D,3,FALSE),\"\"))","v":""},"任务&事件文本"]
[2988,{"$f":"_xlfn.TEXTJOIN(\"\",1,IFERROR(VLOOKUP(A2991,[1]EventConfig!$T:$V,3,FALSE),\"\"),IFERROR(VLOOKUP(A2991,[1]EventConfig!$U:$W,3,FALSE),\"\"),IFERROR(VLOOKUP(A2991,[1]EventLinkConfig!$B:$C,2,FALSE),\"\"),IFERROR(VLOOKUP(A2991,[1]EventLinkConfig!$D:$E,2,FALSE),\"\"),IFERROR(VLOOKUP(A2991,[1]EventLinkConfig!$L:$M,2,FALSE),\"\"),IFERROR(VLOOKUP(A2991,[1]EventLinkConfig!$X:$Y,2,FALSE),\"\"),IFERROR(VLOOKUP(A2991,[1]EventLinkConfig!$AA:$AB,2,FALSE),\"\"),IFERROR(VLOOKUP(A2991,[1]EventConditionConfig!$B:$D,3,FALSE),\"\"))","v":""},"任务&事件文本"]
[2989,{"$f":"_xlfn.TEXTJOIN(\"\",1,IFERROR(VLOOKUP(A2992,[1]EventConfig!$T:$V,3,FALSE),\"\"),IFERROR(VLOOKUP(A2992,[1]EventConfig!$U:$W,3,FALSE),\"\"),IFERROR(VLOOKUP(A2992,[1]EventLinkConfig!$B:$C,2,FALSE),\"\"),IFERROR(VLOOKUP(A2992,[1]EventLinkConfig!$D:$E,2,FALSE),\"\"),IFERROR(VLOOKUP(A2992,[1]EventLinkConfig!$L:$M,2,FALSE),\"\"),IFERROR(VLOOKUP(A2992,[1]EventLinkConfig!$X:$Y,2,FALSE),\"\"),IFERROR(VLOOKUP(A2992,[1]EventLinkConfig!$AA:$AB,2,FALSE),\"\"),IFERROR(VLOOKUP(A2992,[1]EventConditionConfig!$B:$D,3,FALSE),\"\"))","v":""},"任务&事件文本"]
[2990,{"$f":"_xlfn.TEXTJOIN(\"\",1,IFERROR(VLOOKUP(A2993,[1]EventConfig!$T:$V,3,FALSE),\"\"),IFERROR(VLOOKUP(A2993,[1]EventConfig!$U:$W,3,FALSE),\"\"),IFERROR(VLOOKUP(A2993,[1]EventLinkConfig!$B:$C,2,FALSE),\"\"),IFERROR(VLOOKUP(A2993,[1]EventLinkConfig!$D:$E,2,FALSE),\"\"),IFERROR(VLOOKUP(A2993,[1]EventLinkConfig!$L:$M,2,FALSE),\"\"),IFERROR(VLOOKUP(A2993,[1]EventLinkConfig!$X:$Y,2,FALSE),\"\"),IFERROR(VLOOKUP(A2993,[1]EventLinkConfig!$AA:$AB,2,FALSE),\"\"),IFERROR(VLOOKUP(A2993,[1]EventConditionConfig!$B:$D,3,FALSE),\"\"))","v":""},"任务&事件文本"]
[2991,{"$f":"_xlfn.TEXTJOIN(\"\",1,IFERROR(VLOOKUP(A2994,[1]EventConfig!$T:$V,3,FALSE),\"\"),IFERROR(VLOOKUP(A2994,[1]EventConfig!$U:$W,3,FALSE),\"\"),IFERROR(VLOOKUP(A2994,[1]EventLinkConfig!$B:$C,2,FALSE),\"\"),IFERROR(VLOOKUP(A2994,[1]EventLinkConfig!$D:$E,2,FALSE),\"\"),IFERROR(VLOOKUP(A2994,[1]EventLinkConfig!$L:$M,2,FALSE),\"\"),IFERROR(VLOOKUP(A2994,[1]EventLinkConfig!$X:$Y,2,FALSE),\"\"),IFERROR(VLOOKUP(A2994,[1]EventLinkConfig!$AA:$AB,2,FALSE),\"\"),IFERROR(VLOOKUP(A2994,[1]EventConditionConfig!$B:$D,3,FALSE),\"\"))","v":""},"任务&事件文本"]
[2992,{"$f":"_xlfn.TEXTJOIN(\"\",1,IFERROR(VLOOKUP(A2995,[1]EventConfig!$T:$V,3,FALSE),\"\"),IFERROR(VLOOKUP(A2995,[1]EventConfig!$U:$W,3,FALSE),\"\"),IFERROR(VLOOKUP(A2995,[1]EventLinkConfig!$B:$C,2,FALSE),\"\"),IFERROR(VLOOKUP(A2995,[1]EventLinkConfig!$D:$E,2,FALSE),\"\"),IFERROR(VLOOKUP(A2995,[1]EventLinkConfig!$L:$M,2,FALSE),\"\"),IFERROR(VLOOKUP(A2995,[1]EventLinkConfig!$X:$Y,2,FALSE),\"\"),IFERROR(VLOOKUP(A2995,[1]EventLinkConfig!$AA:$AB,2,FALSE),\"\"),IFERROR(VLOOKUP(A2995,[1]EventConditionConfig!$B:$D,3,FALSE),\"\"))","v":""},"任务&事件文本"]
[2993,{"$f":"_xlfn.TEXTJOIN(\"\",1,IFERROR(VLOOKUP(A2996,[1]EventConfig!$T:$V,3,FALSE),\"\"),IFERROR(VLOOKUP(A2996,[1]EventConfig!$U:$W,3,FALSE),\"\"),IFERROR(VLOOKUP(A2996,[1]EventLinkConfig!$B:$C,2,FALSE),\"\"),IFERROR(VLOOKUP(A2996,[1]EventLinkConfig!$D:$E,2,FALSE),\"\"),IFERROR(VLOOKUP(A2996,[1]EventLinkConfig!$L:$M,2,FALSE),\"\"),IFERROR(VLOOKUP(A2996,[1]EventLinkConfig!$X:$Y,2,FALSE),\"\"),IFERROR(VLOOKUP(A2996,[1]EventLinkConfig!$AA:$AB,2,FALSE),\"\"),IFERROR(VLOOKUP(A2996,[1]EventConditionConfig!$B:$D,3,FALSE),\"\"))","v":""},"任务&事件文本"]
[2994,{"$f":"_xlfn.TEXTJOIN(\"\",1,IFERROR(VLOOKUP(A2997,[1]EventConfig!$T:$V,3,FALSE),\"\"),IFERROR(VLOOKUP(A2997,[1]EventConfig!$U:$W,3,FALSE),\"\"),IFERROR(VLOOKUP(A2997,[1]EventLinkConfig!$B:$C,2,FALSE),\"\"),IFERROR(VLOOKUP(A2997,[1]EventLinkConfig!$D:$E,2,FALSE),\"\"),IFERROR(VLOOKUP(A2997,[1]EventLinkConfig!$L:$M,2,FALSE),\"\"),IFERROR(VLOOKUP(A2997,[1]EventLinkConfig!$X:$Y,2,FALSE),\"\"),IFERROR(VLOOKUP(A2997,[1]EventLinkConfig!$AA:$AB,2,FALSE),\"\"),IFERROR(VLOOKUP(A2997,[1]EventConditionConfig!$B:$D,3,FALSE),\"\"))","v":""},"任务&事件文本"]
[2995,{"$f":"_xlfn.TEXTJOIN(\"\",1,IFERROR(VLOOKUP(A2998,[1]EventConfig!$T:$V,3,FALSE),\"\"),IFERROR(VLOOKUP(A2998,[1]EventConfig!$U:$W,3,FALSE),\"\"),IFERROR(VLOOKUP(A2998,[1]EventLinkConfig!$B:$C,2,FALSE),\"\"),IFERROR(VLOOKUP(A2998,[1]EventLinkConfig!$D:$E,2,FALSE),\"\"),IFERROR(VLOOKUP(A2998,[1]EventLinkConfig!$L:$M,2,FALSE),\"\"),IFERROR(VLOOKUP(A2998,[1]EventLinkConfig!$X:$Y,2,FALSE),\"\"),IFERROR(VLOOKUP(A2998,[1]EventLinkConfig!$AA:$AB,2,FALSE),\"\"),IFERROR(VLOOKUP(A2998,[1]EventConditionConfig!$B:$D,3,FALSE),\"\"))","v":""},"任务&事件文本"]
[2996,{"$f":"_xlfn.TEXTJOIN(\"\",1,IFERROR(VLOOKUP(A2999,[1]EventConfig!$T:$V,3,FALSE),\"\"),IFERROR(VLOOKUP(A2999,[1]EventConfig!$U:$W,3,FALSE),\"\"),IFERROR(VLOOKUP(A2999,[1]EventLinkConfig!$B:$C,2,FALSE),\"\"),IFERROR(VLOOKUP(A2999,[1]EventLinkConfig!$D:$E,2,FALSE),\"\"),IFERROR(VLOOKUP(A2999,[1]EventLinkConfig!$L:$M,2,FALSE),\"\"),IFERROR(VLOOKUP(A2999,[1]EventLinkConfig!$X:$Y,2,FALSE),\"\"),IFERROR(VLOOKUP(A2999,[1]EventLinkConfig!$AA:$AB,2,FALSE),\"\"),IFERROR(VLOOKUP(A2999,[1]EventConditionConfig!$B:$D,3,FALSE),\"\"))","v":""},"任务&事件文本"]
[2997,{"$f":"_xlfn.TEXTJOIN(\"\",1,IFERROR(VLOOKUP(A3000,[1]EventConfig!$T:$V,3,FALSE),\"\"),IFERROR(VLOOKUP(A3000,[1]EventConfig!$U:$W,3,FALSE),\"\"),IFERROR(VLOOKUP(A3000,[1]EventLinkConfig!$B:$C,2,FALSE),\"\"),IFERROR(VLOOKUP(A3000,[1]EventLinkConfig!$D:$E,2,FALSE),\"\"),IFERROR(VLOOKUP(A3000,[1]EventLinkConfig!$L:$M,2,FALSE),\"\"),IFERROR(VLOOKUP(A3000,[1]EventLinkConfig!$X:$Y,2,FALSE),\"\"),IFERROR(VLOOKUP(A3000,[1]EventLinkConfig!$AA:$AB,2,FALSE),\"\"),IFERROR(VLOOKUP(A3000,[1]EventConditionConfig!$B:$D,3,FALSE),\"\"))","v":""},"任务&事件文本"]
[2998,{"$f":"_xlfn.TEXTJOIN(\"\",1,IFERROR(VLOOKUP(A3001,[1]EventConfig!$T:$V,3,FALSE),\"\"),IFERROR(VLOOKUP(A3001,[1]EventConfig!$U:$W,3,FALSE),\"\"),IFERROR(VLOOKUP(A3001,[1]EventLinkConfig!$B:$C,2,FALSE),\"\"),IFERROR(VLOOKUP(A3001,[1]EventLinkConfig!$D:$E,2,FALSE),\"\"),IFERROR(VLOOKUP(A3001,[1]EventLinkConfig!$L:$M,2,FALSE),\"\"),IFERROR(VLOOKUP(A3001,[1]EventLinkConfig!$X:$Y,2,FALSE),\"\"),IFERROR(VLOOKUP(A3001,[1]EventLinkConfig!$AA:$AB,2,FALSE),\"\"),IFERROR(VLOOKUP(A3001,[1]EventConditionConfig!$B:$D,3,FALSE),\"\"))","v":""},"任务&事件文本"]
[2999,{"$f":"_xlfn.TEXTJOIN(\"\",1,IFERROR(VLOOKUP(A3002,[1]EventConfig!$T:$V,3,FALSE),\"\"),IFERROR(VLOOKUP(A3002,[1]EventConfig!$U:$W,3,FALSE),\"\"),IFERROR(VLOOKUP(A3002,[1]EventLinkConfig!$B:$C,2,FALSE),\"\"),IFERROR(VLOOKUP(A3002,[1]EventLinkConfig!$D:$E,2,FALSE),\"\"),IFERROR(VLOOKUP(A3002,[1]EventLinkConfig!$L:$M,2,FALSE),\"\"),IFERROR(VLOOKUP(A3002,[1]EventLinkConfig!$X:$Y,2,FALSE),\"\"),IFERROR(VLOOKUP(A3002,[1]EventLinkConfig!$AA:$AB,2,FALSE),\"\"),IFERROR(VLOOKUP(A3002,[1]EventConditionConfig!$B:$D,3,FALSE),\"\"))","v":""},"任务&事件文本"]
[3000,"玩家"]
[3001,"蜩鸟"]
[3002,"小麻雀"]
[3003,"疯道人"]
[3004,"痴道人"]
[3005,"尧帝"]
[3006,"许由"]
[3007,"村名甲"]
[3008,"村名乙"]
[3009,"村名丙"]
[3010,"樗木之灵"]
[3011,"你败下阵来，感到头晕目眩，试图努力回忆起刚才发生的事情。(回到主界面重新触发剧情）"]
[3012,"战斗胜利，你的任务进度增加了。"]
[3013,"樗木之灵的树枝"]
[3014,"飞天灵兽的翅膀"]
[3015,"用于主线任务天肥地肥中的地肥材料"]
[3016,"用于主线任务天肥地肥中的天肥材料"]
[3017,"药田"]
[3018,"此乃洞天福地，此中还长了几株仙药。\n前往山洞之中收集药材。"]
[3019,"风影为二"]
[3020,"风影为二详情占位"]
[3021,"风无咎"]
[3022,"逍遥自在"]
[3023,"万法归一"]
[3024,"出神入化"]
[3025,"无我无相"]
[3026,"星辰道可以获得充能，充能满后启动星辰道，转盘速度增加{0}%"]
[3027,"攻击+{0}%"]
[3028,"最终伤害抵抗+{0}%"]
[3029,"对异常状态敌人伤害增加{0}%"]
[3030,"金木水火土任意一个属性伤害增加（后期洗点可以指定属性）"]
[3031,"火焰专精：灼烧对敌人的伤害增加{0}%"]
[3032,"毒专精：毒照成的伤害+{0}%，且蔓延速度加快{1}%"]
[3033,"怎么想过去，就去吧.."]
[3034,"北海剑妖"]
[3035,"百年化妖为红颜，一剑焚海断孽缘"]
[3036,"风影合一"]
[3037,"风影合一详情占位"]
[3038,"矿山"]
[3039,"眼前的矿井不同寻常，矿井攀附在灵脉之上，似乎有着稀世灵矿。\n前往矿井采集灵矿。"]
[3040,"寺庙"]
[3041,"荒芜的寺庙之中，却有着一丝不易查询的灵气遗存。\n进入寺庙找寻散发灵气的修为丹。"]
[3042,"洞府遗址"]
[3043,"洞府好像荒废多年，洞府之中好像还有能用的东西。\n进入洞府收集可用之物。"]
[3044,"灵泉"]
[3045,"灵气积聚在一处泉水之中，似乎藏有修行奥秘。\n吸收灵泉提升灵力。"]
[3046,"拦路山贼"]
[3047,"一个不知好歹的山贼拦住了你的去路！"]
[3048,"丢袈裟的和尚"]
[3049,"一位和尚叫住了你，貌似有什么急事"]
[3050,"将袈裟还给和尚"]
[3051,"云游修士"]
[3052,"一名云游修士前来问道"]
[3053,"镇压妖王"]
[3054,"逍遥宗长老前来求教"]
[3055,"清剿妖兽"]
[3056,"妖兽入侵了村子，消灭它们"]

{"sheet":"LanguageChineseConfig","index":1,"n_rows":3951,"n_cols":2,"rows_kept":3951,"cut":false,"hidden":false,"merged":[]}
["ID","txt"]
["int","string"]
[]
["ID","文本内容"]
[{"$f":"IF(語言配置表!A4=\"\",\"\",語言配置表!A4)","v":1},{"$f":"IF(語言配置表!A4=\"\",\"CN_待填充内容\",語言配置表!B4)","v":"-李逍遥"}]
[{"$f":"IF(語言配置表!A5=\"\",\"\",語言配置表!A5)","v":2},{"$f":"IF(語言配置表!A5=\"\",\"CN_待填充内容\",語言配置表!B5)","v":"-小怪1"}]
[{"$f":"IF(語言配置表!A6=\"\",\"\",語言配置表!A6)","v":3},{"$f":"IF(語言配置表!A6=\"\",\"CN_待填充内容\",語言配置表!B6)","v":"-小怪2"}]
[{"$f":"IF(語言配置表!A7=\"\",\"\",語言配置表!A7)","v":4},{"$f":"IF(語言配置表!A7=\"\",\"CN_待填充内容\",語言配置表!B7)","v":"-小怪3"}]
[{"$f":"IF(語言配置表!A8=\"\",\"\",語言配置表!A8)","v":5},{"$f":"IF(語言配置表!A8=\"\",\"CN_待填充内容\",語言配置表!B8)","v":"-BOSS1"}]
[{"$f":"IF(語言配置表!A9=\"\",\"\",語言配置表!A9)","v":6},{"$f":"IF(語言配置表!A9=\"\",\"CN_待填充内容\",語言配置表!B9)","v":"伊莉莎白·月影"}]
[{"$f":"IF(語言配置表!A10=\"\",\"\",語言配置表!A10)","v":7},{"$f":"IF(語言配置表!A10=\"\",\"CN_待填充内容\",語言配置表!B10)","v":"馬修·星辰"}]
[{"$f":"IF(語言配置表!A11=\"\",\"\",語言配置表!A11)","v":8},{"$f":"IF(語言配置表!A11=\"\",\"CN_待填充内容\",語言配置表!B11)","v":"卡特琳娜·霜語"}]
[{"$f":"IF(語言配置表!A12=\"\",\"\",語言配置表!A12)","v":9},{"$f":"IF(語言配置表!A12=\"\",\"CN_待填充内容\",語言配置表!B12)","v":"西蒙·玄光"}]
[{"$f":"IF(語言配置表!A13=\"\",\"\",語言配置表!A13)","v":10},{"$f":"IF(語言配置表!A13=\"\",\"CN_待填充内容\",語言配置表!B13)","v":"艾琳娜·靈風"}]
[{"$f":"IF(語言配置表!A14=\"\",\"\",語言配置表!A14)","v":11},{"$f":"IF(語言配置表!A14=\"\",\"CN_待填充内容\",語言配置表!B14)","v":"加百利·聖心"}]
[{"$f":"IF(語言配置表!A15=\"\",\"\",語言配置表!A15)","v":12},{"$f":"IF(語言配置表!A15=\"\",\"CN_待填充内容\",語言配置表!B15)","v":"索菲亞·慈恩"}]
[{"$f":"IF(語言配置表!A16=\"\",\"\",語言配置表!A16)","v":13},{"$f":"IF(語言配置表!A16=\"\",\"CN_待填充内容\",語言配置表!B16)","v":"盧克·淨魂"}]
[{"$f":"IF(語言配置表!A17=\"\",\"\",語言配置表!A17)","v":14},{"$f":"IF(語言配置表!A17=\"\",\"CN_待填充内容\",語言配置表!B17)","v":"安娜貝爾·光耀"}]
[{"$f":"IF(語言配置表!A18=\"\",\"\",語言配置表!A18)","v":15},{"$f":"IF(語言配置表!A18=\"\",\"CN_待填充内容\",語言配置表!B18)","v":"伊莎貝拉·恩典"}]
[{"$f":"IF(語言配置表!A19=\"\",\"\",語言配置表!A19)","v":16},{"$f":"IF(語言配置表!A19=\"\",\"CN_待填充内容\",語言配置表!B19)","v":"萊恩·影蹤"}]
[{"$f":"IF(語言配置表!A20=\"\",\"\",語言配置表!A20)","v":17},{"$f":"IF(語言配置表!A20=\"\",\"CN_待填充内容\",語言配置表!B20)","v":"艾米麗·翠羽"}]
[{"$f":"IF(語言配置表!A21=\"\",\"\",語言配置表!A21)","v":18},{"$f":"IF(語言配置表!A21=\"\",\"CN_待填充内容\",語言配置表!B21)","v":"德裏克·疾風"}]
[{"$f":"IF(語言配置表!A22=\"\",\"\",語言配置表!A22)","v":19},{"$f":"IF(語言配置表!A22=\"\",\"CN_待填充内容\",語言配置表!B22)","v":"維多利亞·夜刃"}]
[{"$f":"IF(語言配置表!A23=\"\",\"\",語言配置表!A23)","v":20},{"$f":"IF(語言配置表!A23=\"\",\"CN_待填充内容\",語言配置表!B23)","v":"諾亞·林蹤"}]
[{"$f":"IF(語言配置表!A24=\"\",\"\",語言配置表!A24)","v":21},{"$f":"IF(語言配置表!A24=\"\",\"CN_待填充内容\",語言配置表!B24)","v":"生命值"}]
[{"$f":"IF(語言配置表!A25=\"\",\"\",語言配置表!A25)","v":22},{"$f":"IF(語言配置表!A25=\"\",\"CN_待填充内容\",語言配置表!B25)","v":"攻擊力"}]
[{"$f":"IF(語言配置表!A26=\"\",\"\",語言配置表!A26)","v":23},{"$f":"IF(語言配置表!A26=\"\",\"CN_待填充内容\",語言配置表!B26)","v":"防禦力"}]
[{"$f":"IF(語言配置表!A27=\"\",\"\",語言配置表!A27)","v":24},{"$f":"IF(語言配置表!A27=\"\",\"CN_待填充内容\",語言配置表!B27)","v":"攻擊速度"}]
[{"$f":"IF(語言配置表!A28=\"\",\"\",語言配置表!A28)","v":25},{"$f":"IF(語言配置表!A28=\"\",\"CN_待填充内容\",語言配置表!B28)","v":"暴擊幾率"}]
[{"$f":"IF(語言配置表!A29=\"\",\"\",語言配置表!A29)","v":26},{"$f":"IF(語言配置表!A29=\"\",\"CN_待填充内容\",語言配置表!B29)","v":"暴擊傷害"}]
[{"$f":"IF(語言配置表!A30=\"\",\"\",語言配置表!A30)","v":27},{"$f":"IF(語言配置表!A30=\"\",\"CN_待填充内容\",語言配置表!B30)","v":"閃避幾率"}]
[{"$f":"IF(語言配置表!A31=\"\",\"\",語言配置表!A31)","v":28},{"$f":"IF(語言配置表!A31=\"\",\"CN_待填充内容\",語言配置表!B31)","v":"命中"}]
[{"$f":"IF(語言配置表!A32=\"\",\"\",語言配置表!A32)","v":29},{"$f":"IF(語言配置表!A32=\"\",\"CN_待填充内容\",語言配置表!B32)","v":"吸血"}]
[{"$f":"IF(語言配置表!A33=\"\",\"\",語言配置表!A33)","v":30},{"$f":"IF(語言配置表!A33=\"\",\"CN_待填充内容\",語言配置表!B33)","v":"傳說"}]
[{"$f":"IF(語言配置表!A34=\"\",\"\",語言配置表!A34)","v":31},{"$f":"IF(語言配置表!A34=\"\",\"CN_待填充内容\",語言配置表!B34)","v":"史詩"}]
[{"$f":"IF(語言配置表!A35=\"\",\"\",語言配置表!A35)","v":32},{"$f":"IF(語言配置表!A35=\"\",\"CN_待填充内容\",語言配置表!B35)","v":"精英"}]
[{"$f":"IF(語言配置表!A36=\"\",\"\",語言配置表!A36)","v":33},{"$f":"IF(語言配置表!A36=\"\",\"CN_待填充内容\",語言配置表!B36)","v":"向前方釋放1道劍氣，造成<color=#7AC180>{0}%</color>攻擊力的傷害。"}]
[{"$f":"IF(語言配置表!A37=\"\",\"\",語言配置表!A37)","v":34},{"$f":"IF(語言配置表!A37=\"\",\"CN_待填充内容\",語言配置表!B37)","v":"造成的傷害提升至<color=#7AC180>{0}%</color>。"}]
[{"$f":"IF(語言配置表!A38=\"\",\"\",語言配置表!A38)","v":35},{"$f":"IF(語言配置表!A38=\"\",\"CN_待填充内容\",語言配置表!B38)","v":"造成的傷害提升至<color=#7AC180>{0}%</color>。"}]
[{"$f":"IF(語言配置表!A39=\"\",\"\",語言配置表!A39)","v":36},{"$f":"IF(語言配置表!A39=\"\",\"CN_待填充内容\",語言配置表!B39)","v":"造成的傷害提升至<color=#7AC180>{0}%</color>。"}]
[{"$f":"IF(語言配置表!A40=\"\",\"\",語言配置表!A40)","v":37},{"$f":"IF(語言配置表!A40=\"\",\"CN_待填充内容\",語言配置表!B40)","v":"英雄提升至{0}級強化該技能"}]
[{"$f":"IF(語言配置表!A41=\"\",\"\",語言配置表!A41)","v":38},{"$f":"IF(語言配置表!A41=\"\",\"CN_待填充内容\",語言配置表!B41)","v":"英雄提升至{0}級解鎖該技能"}]
[{"$f":"IF(語言配置表!A42=\"\",\"\",語言配置表!A42)","v":39},{"$f":"IF(語言配置表!A42=\"\",\"CN_待填充内容\",語言配置表!B42)","v":"英雄提升至{0}星強化該技能"}]
[{"$f":"IF(語言配置表!A43=\"\",\"\",語言配置表!A43)","v":40},{"$f":"IF(語言配置表!A43=\"\",\"CN_待填充内容\",語言配置表!B43)","v":"英雄提升至{0}星解鎖該技能"}]
[{"$f":"IF(語言配置表!A44=\"\",\"\",語言配置表!A44)","v":41},{"$f":"IF(語言配置表!A44=\"\",\"CN_待填充内容\",語言配置表!B44)","v":"{0}級："}]
[{"$f":"IF(語言配置表!A45=\"\",\"\",語言配置表!A45)","v":42},{"$f":"IF(語言配置表!A45=\"\",\"CN_待填充内容\",語言配置表!B45)","v":"({0}級解鎖)"}]
[{"$f":"IF(語言配置表!A46=\"\",\"\",語言配置表!A46)","v":43},{"$f":"IF(語言配置表!A46=\"\",\"CN_待填充内容\",語言配置表!B46)","v":"({0}星解鎖)"}]
[{"$f":"IF(語言配置表!A47=\"\",\"\",語言配置表!A47)","v":44},{"$f":"IF(語言配置表!A47=\"\",\"CN_待填充内容\",語言配置表!B47)","v":"技能已達最高等級"}]
[{"$f":"IF(語言配置表!A48=\"\",\"\",語言配置表!A48)","v":45},{"$f":"IF(語言配置表!A48=\"\",\"CN_待填充内容\",語言配置表!B48)","v":"旋風斬"}]
[{"$f":"IF(語言配置表!A49=\"\",\"\",語言配置表!A49)","v":46},{"$f":"IF(語言配置表!A49=\"\",\"CN_待填充内容\",語言配置表!B49)","v":"對前方範圍釋放火焰，對範圍內的敵人進行多次灼燒，每次造成<color=#7AC180>{0}%</color>攻擊力的傷害，持續<color=#7AC180>{1}秒</color>"}]
[{"$f":"IF(語言配置表!A50=\"\",\"\",語言配置表!A50)","v":47},{"$f":"IF(語言配置表!A50=\"\",\"CN_待填充内容\",語言配置表!B50)","v":"每次造成的傷害提升至<color=#7AC180>{0}%</color>。"}]
[{"$f":"IF(語言配置表!A51=\"\",\"\",語言配置表!A51)","v":48},{"$f":"IF(語言配置表!A51=\"\",\"CN_待填充内容\",語言配置表!B51)","v":"每次造成的傷害提升至<color=#7AC180>{0}%</color>。"}]
[{"$f":"IF(語言配置表!A52=\"\",\"\",語言配置表!A52)","v":49},{"$f":"IF(語言配置表!A52=\"\",\"CN_待填充内容\",語言配置表!B52)","v":"持續時間提升至<color=#7AC180>{1}秒</color>。"}]
[{"$f":"IF(語言配置表!A53=\"\",\"\",語言配置表!A53)","v":50},{"$f":"IF(語言配置表!A53=\"\",\"CN_待填充内容\",語言配置表!B53)","v":"烈焰噴湧"}]
[{"$f":"IF(語言配置表!A54=\"\",\"\",語言配置表!A54)","v":51},{"$f":"IF(語言配置表!A54=\"\",\"CN_待填充内容\",語言配置表!B54)","v":"對生命值最低的英雄，恢復<color=#7AC180>{0}%</color>攻擊力的血量。"}]
[{"$f":"IF(語言配置表!A55=\"\",\"\",語言配置表!A55)","v":52},{"$f":"IF(語言配置表!A55=\"\",\"CN_待填充内容\",語言配置表!B55)","v":"恢復的血量提升至<color=#7AC180>{0}%</color>。"}]
[{"$f":"IF(語言配置表!A56=\"\",\"\",語言配置表!A56)","v":53},{"$f":"IF(語言配置表!A56=\"\",\"CN_待填充内容\",語言配置表!B56)","v":"恢復的血量提升至<color=#7AC180>{0}%</color>。"}]
[{"$f":"IF(語言配置表!A57=\"\",\"\",語言配置表!A57)","v":54},{"$f":"IF(語言配置表!A57=\"\",\"CN_待填充内容\",語言配置表!B57)","v":"恢復的血量提升至<color=#7AC180>{0}%</color>。"}]
[{"$f":"IF(語言配置表!A58=\"\",\"\",語言配置表!A58)","v":55},{"$f":"IF(語言配置表!A58=\"\",\"CN_待填充内容\",語言配置表!B58)","v":"光輝治癒"}]
[{"$f":"IF(語言配置表!A59=\"\",\"\",語言配置表!A59)","v":56},{"$f":"IF(語言配置表!A59=\"\",\"CN_待填充内容\",語言配置表!B59)","v":"向前方連續射出多支魔法箭，造成<color=#7AC180>{0}%</color>攻擊力的傷害。"}]
[{"$f":"IF(語言配置表!A60=\"\",\"\",語言配置表!A60)","v":57},{"$f":"IF(語言配置表!A60=\"\",\"CN_待填充内容\",語言配置表!B60)","v":"造成的傷害提升至<color=#7AC180>{0}%</color>。"}]
[{"$f":"IF(語言配置表!A61=\"\",\"\",語言配置表!A61)","v":58},{"$f":"IF(語言配置表!A61=\"\",\"CN_待填充内容\",語言配置表!B61)","v":"造成的傷害提升至<color=#7AC180>{0}%</color>。"}]
[{"$f":"IF(語言配置表!A62=\"\",\"\",語言配置表!A62)","v":59},{"$f":"IF(語言配置表!A62=\"\",\"CN_待填充内容\",語言配置表!B62)","v":"造成的傷害提升至<color=#7AC180>{0}%</color>。"}]
[{"$f":"IF(語言配置表!A63=\"\",\"\",語言配置表!A63)","v":60},{"$f":"IF(語言配置表!A63=\"\",\"CN_待填充内容\",語言配置表!B63)","v":"箭羽風暴"}]
[{"$f":"IF(語言配置表!A64=\"\",\"\",語言配置表!A64)","v":61},{"$f":"IF(語言配置表!A64=\"\",\"CN_待填充内容\",語言配置表!B64)","v":"解鎖"}]
[{"$f":"IF(語言配置表!A65=\"\",\"\",語言配置表!A65)","v":62},{"$f":"IF(語言配置表!A65=\"\",\"CN_待填充内容\",語言配置表!B65)","v":"等級{0}>>{1}"}]
[{"$f":"IF(語言配置表!A66=\"\",\"\",語言配置表!A66)","v":63},{"$f":"IF(語言配置表!A66=\"\",\"CN_待填充内容\",語言配置表!B66)","v":"主力英雄等級差不得超過10級"}]
[{"$f":"IF(語言配置表!A67=\"\",\"\",語言配置表!A67)","v":64},{"$f":"IF(語言配置表!A67=\"\",\"CN_待填充内容\",語言配置表!B67)","v":"主力英雄等級：{0}"}]
[{"$f":"IF(語言配置表!A68=\"\",\"\",語言配置表!A68)","v":65},{"$f":"IF(語言配置表!A68=\"\",\"CN_待填充内容\",語言配置表!B68)","v":"生命之力"}]
[{"$f":"IF(語言配置表!A69=\"\",\"\",語言配置表!A69)","v":66},{"$f":"IF(語言配置表!A69=\"\",\"CN_待填充内容\",語言配置表!B69)","v":"鋼鐵意志"}]
[{"$f":"IF(語言配置表!A70=\"\",\"\",語言配置表!A70)","v":67},{"$f":"IF(語言配置表!A70=\"\",\"CN_待填充内容\",語言配置表!B70)","v":"斬風之力"}]
[{"$f":"IF(語言配置表!A71=\"\",\"\",語言配置表!A71)","v":68},{"$f":"IF(語言配置表!A71=\"\",\"CN_待填充内容\",語言配置表!B71)","v":"抗暴之力"}]
[{"$f":"IF(語言配置表!A72=\"\",\"\",語言配置表!A72)","v":69},{"$f":"IF(語言配置表!A72=\"\",\"CN_待填充内容\",語言配置表!B72)","v":"提高<color=#7AC180>{0}%</color>%的生命值"}]
[{"$f":"IF(語言配置表!A73=\"\",\"\",語言配置表!A73)","v":70},{"$f":"IF(語言配置表!A73=\"\",\"CN_待填充内容\",語言配置表!B73)","v":"提高<color=#7AC180>{0}%</color>%的防禦值"}]
[{"$f":"IF(語言配置表!A74=\"\",\"\",語言配置表!A74)","v":71},{"$f":"IF(語言配置表!A74=\"\",\"CN_待填充内容\",語言配置表!B74)","v":"額外釋放<color=#7AC180>{0}</color>道[旋風斬]的劍氣"}]
[{"$f":"IF(語言配置表!A75=\"\",\"\",語言配置表!A75)","v":72},{"$f":"IF(語言配置表!A75=\"\",\"CN_待填充内容\",語言配置表!B75)","v":"降低<color=#7AC180>{0}%</color>的暴擊傷害"}]
[{"$f":"IF(語言配置表!A76=\"\",\"\",語言配置表!A76)","v":73},{"$f":"IF(語言配置表!A76=\"\",\"CN_待填充内容\",語言配置表!B76)","v":"提升<color=#7AC180>{0}%</color>%的攻擊力"}]
[{"$f":"IF(語言配置表!A77=\"\",\"\",語言配置表!A77)","v":74},{"$f":"IF(語言配置表!A77=\"\",\"CN_待填充内容\",語言配置表!B77)","v":"提高<color=#7AC180>{0}%</color>%的生命值"}]
[{"$f":"IF(語言配置表!A78=\"\",\"\",語言配置表!A78)","v":75},{"$f":"IF(語言配置表!A78=\"\",\"CN_待填充内容\",語言配置表!B78)","v":"延長<color=#7AC180>{0}</color>秒[烈焰噴湧]的持續時間"}]
[{"$f":"IF(語言配置表!A79=\"\",\"\",語言配置表!A79)","v":76},{"$f":"IF(語言配置表!A79=\"\",\"CN_待填充内容\",語言配置表!B79)","v":"提升<color=#7AC180>{0}%</color>%的技能暴擊率"}]
[{"$f":"IF(語言配置表!A80=\"\",\"\",語言配置表!A80)","v":77},{"$f":"IF(語言配置表!A80=\"\",\"CN_待填充内容\",語言配置表!B80)","v":"神聖力量"}]
[{"$f":"IF(語言配置表!A81=\"\",\"\",語言配置表!A81)","v":78},{"$f":"IF(語言配置表!A81=\"\",\"CN_待填充内容\",語言配置表!B81)","v":"生命之力"}]
[{"$f":"IF(語言配置表!A82=\"\",\"\",語言配置表!A82)","v":79},{"$f":"IF(語言配置表!A82=\"\",\"CN_待填充内容\",語言配置表!B82)","v":"急救之光"}]
[{"$f":"IF(語言配置表!A83=\"\",\"\",語言配置表!A83)","v":80},{"$f":"IF(語言配置表!A83=\"\",\"CN_待填充内容\",語言配置表!B83)","v":"光輝復蘇"}]
[{"$f":"IF(語言配置表!A84=\"\",\"\",語言配置表!A84)","v":81},{"$f":"IF(語言配置表!A84=\"\",\"CN_待填充内容\",語言配置表!B84)","v":"提升<color=#7AC180>{0}%</color>%的攻擊力"}]
[{"$f":"IF(語言配置表!A85=\"\",\"\",語言配置表!A85)","v":82},{"$f":"IF(語言配置表!A85=\"\",\"CN_待填充内容\",語言配置表!B85)","v":"提高<color=#7AC180>{0}%</color>%的生命值"}]
[{"$f":"IF(語言配置表!A86=\"\",\"\",語言配置表!A86)","v":83},{"$f":"IF(語言配置表!A86=\"\",\"CN_待填充内容\",語言配置表!B86)","v":"對生命值低於<color=#7AC180>{0}%</color>%的英雄，額外提高<color=#7AC180>{0}%</color>%的治療量"}]
[{"$f":"IF(語言配置表!A87=\"\",\"\",語言配置表!A87)","v":84},{"$f":"IF(語言配置表!A87=\"\",\"CN_待填充内容\",語言配置表!B87)","v":"同時治療<color=#7AC180>{0}</color>名英雄"}]
[{"$f":"IF(語言配置表!A88=\"\",\"\",語言配置表!A88)","v":85},{"$f":"IF(語言配置表!A88=\"\",\"CN_待填充内容\",語言配置表!B88)","v":"弓箭精通"}]
[{"$f":"IF(語言配置表!A89=\"\",\"\",語言配置表!A89)","v":86},{"$f":"IF(語言配置表!A89=\"\",\"CN_待填充内容\",語言配置表!B89)","v":"生命之力"}]
[{"$f":"IF(語言配置表!A90=\"\",\"\",語言配置表!A90)","v":87},{"$f":"IF(語言配置表!A90=\"\",\"CN_待填充内容\",語言配置表!B90)","v":"無盡射擊"}]
[{"$f":"IF(語言配置表!A91=\"\",\"\",語言配置表!A91)","v":88},{"$f":"IF(語言配置表!A91=\"\",\"CN_待填充内容\",語言配置表!B91)","v":"終結射擊"}]
[{"$f":"IF(語言配置表!A92=\"\",\"\",語言配置表!A92)","v":89},{"$f":"IF(語言配置表!A92=\"\",\"CN_待填充内容\",語言配置表!B92)","v":"提升<color=#7AC180>{0}%</color>%的攻擊力"}]
[{"$f":"IF(語言配置表!A93=\"\",\"\",語言配置表!A93)","v":90},{"$f":"IF(語言配置表!A93=\"\",\"CN_待填充内容\",語言配置表!B93)","v":"提高<color=#7AC180>{0}%</color>%的生命值"}]
[{"$f":"IF(語言配置表!A94=\"\",\"\",語言配置表!A94)","v":91},{"$f":"IF(語言配置表!A94=\"\",\"CN_待填充内容\",語言配置表!B94)","v":"增加<color=#7AC180>{0}</color>支[連續射擊]的魔法箭"}]
[{"$f":"IF(語言配置表!A95=\"\",\"\",語言配置表!A95)","v":92},{"$f":"IF(語言配置表!A95=\"\",\"CN_待填充内容\",語言配置表!B95)","v":"對生命值低於<color=#7AC180>{0}%</color>的敵人，額外造成<color=#7AC180>{0}%</color>傷害"}]
[{"$f":"IF(語言配置表!A96=\"\",\"\",語言配置表!A96)","v":93},{"$f":"IF(語言配置表!A96=\"\",\"CN_待填充内容\",語言配置表!B96)","v":"智者之力"}]
[{"$f":"IF(語言配置表!A97=\"\",\"\",語言配置表!A97)","v":94},{"$f":"IF(語言配置表!A97=\"\",\"CN_待填充内容\",語言配置表!B97)","v":"生命之力"}]
[{"$f":"IF(語言配置表!A98=\"\",\"\",語言配置表!A98)","v":95},{"$f":"IF(語言配置表!A98=\"\",\"CN_待填充内容\",語言配置表!B98)","v":"烈焰持續"}]
[{"$f":"IF(語言配置表!A99=\"\",\"\",語言配置表!A99)","v":96},{"$f":"IF(語言配置表!A99=\"\",\"CN_待填充内容\",語言配置表!B99)","v":"超凡暴擊"}]
[{"$f":"IF(語言配置表!A100=\"\",\"\",語言配置表!A100)","v":97},{"$f":"IF(語言配置表!A100=\"\",\"CN_待填充内容\",語言配置表!B100)","v":"戰士裝備"}]
[{"$f":"IF(語言配置表!A101=\"\",\"\",語言配置表!A101)","v":98},{"$f":"IF(語言配置表!A101=\"\",\"CN_待填充内容\",語言配置表!B101)","v":"法師裝備"}]
[{"$f":"IF(語言配置表!A102=\"\",\"\",語言配置表!A102)","v":99},{"$f":"IF(語言配置表!A102=\"\",\"CN_待填充内容\",語言配置表!B102)","v":"牧師裝備"}]
[{"$f":"IF(語言配置表!A103=\"\",\"\",語言配置表!A103)","v":100},{"$f":"IF(語言配置表!A103=\"\",\"CN_待填充内容\",語言配置表!B103)","v":"遊俠裝備"}]
[{"$f":"IF(語言配置表!A104=\"\",\"\",語言配置表!A104)","v":101},{"$f":"IF(語言配置表!A104=\"\",\"CN_待填充内容\",語言配置表!B104)","v":"專屬裝備（敬請期待）"}]
[{"$f":"IF(語言配置表!A105=\"\",\"\",語言配置表!A105)","v":102},{"$f":"IF(語言配置表!A105=\"\",\"CN_待填充内容\",語言配置表!B105)","v":"金幣不足"}]
[{"$f":"IF(語言配置表!A106=\"\",\"\",語言配置表!A106)","v":103},{"$f":"IF(語言配置表!A106=\"\",\"CN_待填充内容\",語言配置表!B106)","v":"資源不足"}]
[{"$f":"IF(語言配置表!A107=\"\",\"\",語言配置表!A107)","v":104},{"$f":"IF(語言配置表!A107=\"\",\"CN_待填充内容\",語言配置表!B107)","v":"英雄經驗，可用於升級英雄等級<color=#ff0000>（每殺死一個小怪能獲得經驗，擊殺boss能獲得大量經驗）</color>"}]
[{"$f":"IF(語言配置表!A108=\"\",\"\",語言配置表!A108)","v":105},{"$f":"IF(語言配置表!A108=\"\",\"CN_待填充内容\",語言配置表!B108)","v":"金幣，用於抽取英雄寶箱<color=#ff0000>（每殺死一個小怪有幾率獲得金幣，擊殺boss能獲得大量金幣）</color>"}]
[{"$f":"IF(語言配置表!A109=\"\",\"\",語言配置表!A109)","v":106},{"$f":"IF(語言配置表!A109=\"\",\"CN_待填充内容\",語言配置表!B109)","v":"紫鑽（敬請期待）"}]
[{"$f":"IF(語言配置表!A110=\"\",\"\",語言配置表!A110)","v":107},{"$f":"IF(語言配置表!A110=\"\",\"CN_待填充内容\",語言配置表!B110)","v":"點擊螢幕空白處從天空中召喚一個隕石，對怪物造成1點傷害，並有<color=#ff0000>30%</color>概率獲得1枚金幣（boss怪<color=#ff0000>40%</color>掉落，金幣數量<color=#ff0000>+2</color>）"}]
[{"$f":"IF(語言配置表!A111=\"\",\"\",語言配置表!A111)","v":108},{"$f":"IF(語言配置表!A111=\"\",\"CN_待填充内容\",語言配置表!B111)","v":"裝備"}]
[{"$f":"IF(語言配置表!A112=\"\",\"\",語言配置表!A112)","v":109},{"$f":"IF(語言配置表!A112=\"\",\"CN_待填充内容\",語言配置表!B112)","v":"替補英雄"}]
[{"$f":"IF(語言配置表!A113=\"\",\"\",語言配置表!A113)","v":110},{"$f":"IF(語言配置表!A113=\"\",\"CN_待填充内容\",語言配置表!B113)","v":"主力英雄"}]
[{"$f":"IF(語言配置表!A114=\"\",\"\",語言配置表!A114)","v":111},{"$f":"IF(語言配置表!A114=\"\",\"CN_待填充内容\",語言配置表!B114)","v":"英雄背包"}]
[{"$f":"IF(語言配置表!A115=\"\",\"\",語言配置表!A115)","v":112},{"$f":"IF(語言配置表!A115=\"\",\"CN_待填充内容\",語言配置表!B115)","v":"大自然的恩惠.寶箱"}]
[{"$f":"IF(語言配置表!A116=\"\",\"\",語言配置表!A116)","v":113},{"$f":"IF(語言配置表!A116=\"\",\"CN_待填充内容\",語言配置表!B116)","v":"消耗對應的金幣開啟寶箱，獲得大自然的恩惠，有概率能獲得以下物品（英雄進階材料、 各種品質的武器）"}]
[{"$f":"IF(語言配置表!A117=\"\",\"\",語言配置表!A117)","v":114},{"$f":"IF(語言配置表!A117=\"\",\"CN_待填充内容\",語言配置表!B117)","v":"友情提示10連抽更划算"}]
[{"$f":"IF(語言配置表!A118=\"\",\"\",語言配置表!A118)","v":115},{"$f":"IF(語言配置表!A118=\"\",\"CN_待填充内容\",語言配置表!B118)","v":"失 敗"}]
[{"$f":"IF(語言配置表!A119=\"\",\"\",語言配置表!A119)","v":116},{"$f":"IF(語言配置表!A119=\"\",\"CN_待填充内容\",語言配置表!B119)","v":"你太弱了，請提升實力再來挑戰"}]
[{"$f":"IF(語言配置表!A120=\"\",\"\",語言配置表!A120)","v":117},{"$f":"IF(語言配置表!A120=\"\",\"CN_待填充内容\",語言配置表!B120)","v":"重新開始"}]
[{"$f":"IF(語言配置表!A121=\"\",\"\",語言配置表!A121)","v":118},{"$f":"IF(語言配置表!A121=\"\",\"CN_待填充内容\",語言配置表!B121)","v":"....."}]
[{"$f":"IF(語言配置表!A122=\"\",\"\",語言配置表!A122)","v":119},{"$f":"IF(語言配置表!A122=\"\",\"CN_待填充内容\",語言配置表!B122)","v":"發生了什麼事...."}]
[{"$f":"IF(語言配置表!A123=\"\",\"\",語言配置表!A123)","v":120},{"$f":"IF(語言配置表!A123=\"\",\"CN_待填充内容\",語言配置表!B123)","v":"前方好像出現了超強怪物，大家做好準備。"}]
[{"$f":"IF(語言配置表!A124=\"\",\"\",語言配置表!A124)","v":121},{"$f":"IF(語言配置表!A124=\"\",\"CN_待填充内容\",語言配置表!B124)","v":"越往深林深處走怪物越強大了，這裏的怪我有點招架不足了，我能不能加入你們一起探險？"}]
[{"$f":"IF(語言配置表!A125=\"\",\"\",語言配置表!A125)","v":122},{"$f":"IF(語言配置表!A125=\"\",\"CN_待填充内容\",語言配置表!B125)","v":"沒問題，我們正缺你這樣的勇士。"}]
[{"$f":"IF(語言配置表!A126=\"\",\"\",語言配置表!A126)","v":123},{"$f":"IF(語言配置表!A126=\"\",\"CN_待填充内容\",語言配置表!B126)","v":"歡迎加入我們的隊伍，讓我們一起看看深林深處是什麼在作怪。"}]
[{"$f":"IF(語言配置表!A127=\"\",\"\",語言配置表!A127)","v":124},{"$f":"IF(語言配置表!A127=\"\",\"CN_待填充内容\",語言配置表!B127)","v":"（喘息著）這該死的怪物怎麼殺也殺不完！"}]
[{"$f":"IF(語言配置表!A128=\"\",\"\",語言配置表!A128)","v":125},{"$f":"IF(語言配置表!A128=\"\",\"CN_待填充内容\",語言配置表!B128)","v":"怎麼辦要先回村莊嗎？"}]
[{"$f":"IF(語言配置表!A129=\"\",\"\",語言配置表!A129)","v":126},{"$f":"IF(語言配置表!A129=\"\",\"CN_待填充内容\",語言配置表!B129)","v":"救命呀~"}]
[{"$f":"IF(語言配置表!A130=\"\",\"\",語言配置表!A130)","v":127},{"$f":"IF(語言配置表!A130=\"\",\"CN_待填充内容\",語言配置表!B130)","v":"救命~~~"}]
[{"$f":"IF(語言配置表!A131=\"\",\"\",語言配置表!A131)","v":128},{"$f":"IF(語言配置表!A131=\"\",\"CN_待填充内容\",語言配置表!B131)","v":"我名艾爾溫。這裏充滿了黑暗的氣息，我無法袖手旁觀."}]
[{"$f":"IF(語言配置表!A132=\"\",\"\",語言配置表!A132)","v":129},{"$f":"IF(語言配置表!A132=\"\",\"CN_待填充内容\",語言配置表!B132)","v":"讓它們試試我的火焰~"}]
[{"$f":"IF(語言配置表!A133=\"\",\"\",語言配置表!A133)","v":130},{"$f":"IF(語言配置表!A133=\"\",\"CN_待填充内容\",語言配置表!B133)","v":"太好了艾爾溫，感謝你的加入！"}]
[{"$f":"IF(語言配置表!A134=\"\",\"\",語言配置表!A134)","v":131},{"$f":"IF(語言配置表!A134=\"\",\"CN_待填充内容\",語言配置表!B134)","v":"兄弟們，我堅持不住了，這一波怪物太猛了！"}]
[{"$f":"IF(語言配置表!A135=\"\",\"\",語言配置表!A135)","v":132},{"$f":"IF(語言配置表!A135=\"\",\"CN_待填充内容\",語言配置表!B135)","v":"天空中突然閃出一個人影。"}]
[{"$f":"IF(語言配置表!A136=\"\",\"\",語言配置表!A136)","v":133},{"$f":"IF(語言配置表!A136=\"\",\"CN_待填充内容\",語言配置表!B136)","v":"我是來自教堂的牧師，我來為你治療！"}]
[{"$f":"IF(語言配置表!A137=\"\",\"\",語言配置表!A137)","v":134},{"$f":"IF(語言配置表!A137=\"\",\"CN_待填充内容\",語言配置表!B137)","v":"裝備回收"}]
[{"$f":"IF(語言配置表!A138=\"\",\"\",語言配置表!A138)","v":135},{"$f":"IF(語言配置表!A138=\"\",\"CN_待填充内容\",語言配置表!B138)","v":"僅分解低級裝備，放心使用"}]
[{"$f":"IF(語言配置表!A139=\"\",\"\",語言配置表!A139)","v":136},{"$f":"IF(語言配置表!A139=\"\",\"CN_待填充内容\",語言配置表!B139)","v":"回收獎勵"}]
[{"$f":"IF(語言配置表!A140=\"\",\"\",語言配置表!A140)","v":137},{"$f":"IF(語言配置表!A140=\"\",\"CN_待填充内容\",語言配置表!B140)","v":"確認回收"}]
[{"$f":"IF(語言配置表!A141=\"\",\"\",語言配置表!A141)","v":138},{"$f":"IF(語言配置表!A141=\"\",\"CN_待填充内容\",語言配置表!B141)","v":"升級"}]
[{"$f":"IF(語言配置表!A142=\"\",\"\",語言配置表!A142)","v":139},{"$f":"IF(語言配置表!A142=\"\",\"CN_待填充内容\",語言配置表!B142)","v":"升星"}]
[{"$f":"IF(語言配置表!A143=\"\",\"\",語言配置表!A143)","v":140},{"$f":"IF(語言配置表!A143=\"\",\"CN_待填充内容\",語言配置表!B143)","v":"生命"}]
[{"$f":"IF(語言配置表!A144=\"\",\"\",語言配置表!A144)","v":141},{"$f":"IF(語言配置表!A144=\"\",\"CN_待填充内容\",語言配置表!B144)","v":"攻擊"}]
[{"$f":"IF(語言配置表!A145=\"\",\"\",語言配置表!A145)","v":142},{"$f":"IF(語言配置表!A145=\"\",\"CN_待填充内容\",語言配置表!B145)","v":"防禦"}]
[{"$f":"IF(語言配置表!A146=\"\",\"\",語言配置表!A146)","v":143},{"$f":"IF(語言配置表!A146=\"\",\"CN_待填充内容\",語言配置表!B146)","v":"等級"}]
[{"$f":"IF(語言配置表!A147=\"\",\"\",語言配置表!A147)","v":144},{"$f":"IF(語言配置表!A147=\"\",\"CN_待填充内容\",語言配置表!B147)","v":"本次升級將大幅提升屬性"}]
[{"$f":"IF(語言配置表!A148=\"\",\"\",語言配置表!A148)","v":145},{"$f":"IF(語言配置表!A148=\"\",\"CN_待填充内容\",語言配置表!B148)","v":"解鎖"}]
[{"$f":"IF(語言配置表!A149=\"\",\"\",語言配置表!A149)","v":146},{"$f":"IF(語言配置表!A149=\"\",\"CN_待填充内容\",語言配置表!B149)","v":"冷卻{0}秒"}]
[{"$f":"IF(語言配置表!A150=\"\",\"\",語言配置表!A150)","v":147},{"$f":"IF(語言配置表!A150=\"\",\"CN_待填充内容\",語言配置表!B150)","v":"職業裝備"}]
[{"$f":"IF(語言配置表!A151=\"\",\"\",語言配置表!A151)","v":148},{"$f":"IF(語言配置表!A151=\"\",\"CN_待填充内容\",語言配置表!B151)","v":"戰士"}]
[{"$f":"IF(語言配置表!A152=\"\",\"\",語言配置表!A152)","v":149},{"$f":"IF(語言配置表!A152=\"\",\"CN_待填充内容\",語言配置表!B152)","v":"法師"}]
[{"$f":"IF(語言配置表!A153=\"\",\"\",語言配置表!A153)","v":150},{"$f":"IF(語言配置表!A153=\"\",\"CN_待填充内容\",語言配置表!B153)","v":"牧師"}]
[{"$f":"IF(語言配置表!A154=\"\",\"\",語言配置表!A154)","v":151},{"$f":"IF(語言配置表!A154=\"\",\"CN_待填充内容\",語言配置表!B154)","v":"遊俠"}]
[{"$f":"IF(語言配置表!A155=\"\",\"\",語言配置表!A155)","v":152},{"$f":"IF(語言配置表!A155=\"\",\"CN_待填充内容\",語言配置表!B155)","v":"獲得獎勵"}]
[{"$f":"IF(語言配置表!A156=\"\",\"\",語言配置表!A156)","v":153},{"$f":"IF(語言配置表!A156=\"\",\"CN_待填充内容\",語言配置表!B156)","v":"一鍵裝備"}]
[{"$f":"IF(語言配置表!A157=\"\",\"\",語言配置表!A157)","v":154},{"$f":"IF(語言配置表!A157=\"\",\"CN_待填充内容\",語言配置表!B157)","v":"點這裏, 提升英雄"}]
[{"$f":"IF(語言配置表!A158=\"\",\"\",語言配置表!A158)","v":155},{"$f":"IF(語言配置表!A158=\"\",\"CN_待填充内容\",語言配置表!B158)","v":"技能"}]
[{"$f":"IF(語言配置表!A159=\"\",\"\",語言配置表!A159)","v":156},{"$f":"IF(語言配置表!A159=\"\",\"CN_待填充内容\",語言配置表!B159)","v":"鞋子"}]
[{"$f":"IF(語言配置表!A160=\"\",\"\",語言配置表!A160)","v":157},{"$f":"IF(語言配置表!A160=\"\",\"CN_待填充内容\",語言配置表!B160)","v":"衣服"}]
[{"$f":"IF(語言配置表!A161=\"\",\"\",語言配置表!A161)","v":158},{"$f":"IF(語言配置表!A161=\"\",\"CN_待填充内容\",語言配置表!B161)","v":"手套"}]
[{"$f":"IF(語言配置表!A162=\"\",\"\",語言配置表!A162)","v":159},{"$f":"IF(語言配置表!A162=\"\",\"CN_待填充内容\",語言配置表!B162)","v":"帽子"}]
[{"$f":"IF(語言配置表!A163=\"\",\"\",語言配置表!A163)","v":160},{"$f":"IF(語言配置表!A163=\"\",\"CN_待填充内容\",語言配置表!B163)","v":"項鏈"}]
[{"$f":"IF(語言配置表!A164=\"\",\"\",語言配置表!A164)","v":161},{"$f":"IF(語言配置表!A164=\"\",\"CN_待填充内容\",語言配置表!B164)","v":"{0}級"}]
[{"$f":"IF(語言配置表!A165=\"\",\"\",語言配置表!A165)","v":162},{"$f":"IF(語言配置表!A165=\"\",\"CN_待填充内容\",語言配置表!B165)","v":"金幣，可用於開寶箱"}]
[{"$f":"IF(語言配置表!A166=\"\",\"\",語言配置表!A166)","v":163},{"$f":"IF(語言配置表!A166=\"\",\"CN_待填充内容\",語言配置表!B166)","v":"鑽石，後續開放（敬請期待）"}]
[{"$f":"IF(語言配置表!A167=\"\",\"\",語言配置表!A167)","v":164},{"$f":"IF(語言配置表!A167=\"\",\"CN_待填充内容\",語言配置表!B167)","v":"經驗，用於英雄升級"}]
[{"$f":"IF(語言配置表!A168=\"\",\"\",語言配置表!A168)","v":165},{"$f":"IF(語言配置表!A168=\"\",\"CN_待填充内容\",語言配置表!B168)","v":"英雄碎片，用於提升星級"}]
[{"$f":"IF(語言配置表!A169=\"\",\"\",語言配置表!A169)","v":166},{"$f":"IF(語言配置表!A169=\"\",\"CN_待填充内容\",語言配置表!B169)","v":"英雄碎片，用於提升星級"}]
[{"$f":"IF(語言配置表!A170=\"\",\"\",語言配置表!A170)","v":167},{"$f":"IF(語言配置表!A170=\"\",\"CN_待填充内容\",語言配置表!B170)","v":"英雄碎片，用於提升星級"}]
[{"$f":"IF(語言配置表!A171=\"\",\"\",語言配置表!A171)","v":168},{"$f":"IF(語言配置表!A171=\"\",\"CN_待填充内容\",語言配置表!B171)","v":"英雄碎片，用於提升星級"}]
[{"$f":"IF(語言配置表!A172=\"\",\"\",語言配置表!A172)","v":169},{"$f":"IF(語言配置表!A172=\"\",\"CN_待填充内容\",語言配置表!B172)","v":"金幣"}]
[{"$f":"IF(語言配置表!A173=\"\",\"\",語言配置表!A173)","v":170},{"$f":"IF(語言配置表!A173=\"\",\"CN_待填充内容\",語言配置表!B173)","v":"鑽石"}]
[{"$f":"IF(語言配置表!A174=\"\",\"\",語言配置表!A174)","v":171},{"$f":"IF(語言配置表!A174=\"\",\"CN_待填充内容\",語言配置表!B174)","v":"英雄經驗"}]
[{"$f":"IF(語言配置表!A175=\"\",\"\",語言配置表!A175)","v":172},{"$f":"IF(語言配置表!A175=\"\",\"CN_待填充内容\",語言配置表!B175)","v":"领取挂机收益"}]
[{"$f":"IF(語言配置表!A176=\"\",\"\",語言配置表!A176)","v":173},{"$f":"IF(語言配置表!A176=\"\",\"CN_待填充内容\",語言配置表!B176)","v":"离线收益"}]
[{"$f":"IF(語言配置表!A177=\"\",\"\",語言配置表!A177)","v":174},{"$f":"IF(語言配置表!A177=\"\",\"CN_待填充内容\",語言配置表!B177)","v":"受伤的狼"}]
[{"$f":"IF(語言配置表!A178=\"\",\"\",語言配置表!A178)","v":175},{"$f":"IF(語言配置表!A178=\"\",\"CN_待填充内容\",語言配置表!B178)","v":"鹬蚌相争"}]
[{"$f":"IF(語言配置表!A179=\"\",\"\",語言配置表!A179)","v":176},{"$f":"IF(語言配置表!A179=\"\",\"CN_待填充内容\",語言配置表!B179)","v":"鹬蚌相争2"}]
[{"$f":"IF(語言配置表!A180=\"\",\"\",語言配置表!A180)","v":177},{"$f":"IF(語言配置表!A180=\"\",\"CN_待填充内容\",語言配置表!B180)","v":"你遇到一只奄奄一息的野狼，从周围四散的血迹来看，想必它刚才经历了一场恶战。"}]
[{"$f":"IF(語言配置表!A181=\"\",\"\",語言配置表!A181)","v":178},{"$f":"IF(語言配置表!A181=\"\",\"CN_待填充内容\",語言配置表!B181)","v":"野狼用它最后一口气，朝你扑了过来！"}]
[{"$f":"IF(語言配置表!A182=\"\",\"\",語言配置表!A182)","v":179},{"$f":"IF(語言配置表!A182=\"\",\"CN_待填充内容\",語言配置表!B182)","v":"你抽出匕首准备了结它的生命，却发现怀中还躺着一只刚出生的狼崽。"}]
[{"$f":"IF(語言配置表!A183=\"\",\"\",語言配置表!A183)","v":180},{"$f":"IF(語言配置表!A183=\"\",\"CN_待填充内容\",語言配置表!B183)","v":"随着你的最后一击，野狼应声倒下，你罔顾它幽怨的眼神，从它怀中拿走了一些财物。"}]
[{"$f":"IF(語言配置表!A184=\"\",\"\",語言配置表!A184)","v":181},{"$f":"IF(語言配置表!A184=\"\",\"CN_待填充内容\",語言配置表!B184)","v":"母狼似乎懂你要做什么，眼神归于平静。你终结了她，决定收养这只小狼仔。"}]
[{"$f":"IF(語言配置表!A185=\"\",\"\",語言配置表!A185)","v":182},{"$f":"IF(語言配置表!A185=\"\",\"CN_待填充内容\",語言配置表!B185)","v":"从不远处传来刀剑声，听起来双方已经精疲力尽了。"}]
[{"$f":"IF(語言配置表!A186=\"\",\"\",語言配置表!A186)","v":183},{"$f":"IF(語言配置表!A186=\"\",\"CN_待填充内容\",語言配置表!B186)","v":"你走进一看，原来是一伙山贼分赃不均内讧了起来。你看着旁边被砍的七零八落的轿子和这群山贼，选择怎么做呢："}]
[{"$f":"IF(語言配置表!A187=\"\",\"\",語言配置表!A187)","v":184},{"$f":"IF(語言配置表!A187=\"\",\"CN_待填充内容\",語言配置表!B187)","v":"法宝现身，效果立竿见影，刀剑声逐渐消失，这个世界安静了。"}]
[{"$f":"IF(語言配置表!A188=\"\",\"\",語言配置表!A188)","v":185},{"$f":"IF(語言配置表!A188=\"\",\"CN_待填充内容\",語言配置表!B188)","v":"你怒斥贼寇的恶行，贼寇们被你激怒了，准备迎战！"}]
[{"$f":"IF(語言配置表!A189=\"\",\"\",語言配置表!A189)","v":186},{"$f":"IF(語言配置表!A189=\"\",\"CN_待填充内容\",語言配置表!B189)","v":"你趁人不备顺走了轿内主人的包裹，任留轿内人痛苦的挣扎。"}]
[{"$f":"IF(語言配置表!A190=\"\",\"\",語言配置表!A190)","v":187},{"$f":"IF(語言配置表!A190=\"\",\"CN_待填充内容\",語言配置表!B190)","v":"法宝也得到些许历练。"}]
[{"$f":"IF(語言配置表!A191=\"\",\"\",語言配置表!A191)","v":188},{"$f":"IF(語言配置表!A191=\"\",\"CN_待填充内容\",語言配置表!B191)","v":"杀退贼寇，你上演了一出英雄救美的桥段。姑娘为了答谢你的救命之恩，将藏在贴身处的珍贵首饰赠与你作为定情信物。"}]
[{"$f":"IF(語言配置表!A192=\"\",\"\",語言配置表!A192)","v":189},{"$f":"IF(語言配置表!A192=\"\",\"CN_待填充内容\",語言配置表!B192)","v":"你打开包裹，赫然出现一大堆财宝，这次你发了哈哈！"}]
[{"$f":"IF(語言配置表!A193=\"\",\"\",語言配置表!A193)","v":190},{"$f":"IF(語言配置表!A193=\"\",\"CN_待填充内容\",語言配置表!B193)","v":"从不远处传来刀剑声，听起来双方已经精疲力尽了。"}]
[{"$f":"IF(語言配置表!A194=\"\",\"\",語言配置表!A194)","v":191},{"$f":"IF(語言配置表!A194=\"\",\"CN_待填充内容\",語言配置表!B194)","v":"你走进一看，原来是一伙山贼抢了一名坐在官轿内的女子，因分赃不均内讧了起来。山贼二话不说就朝你冲了过来！"}]
[{"$f":"IF(語言配置表!A195=\"\",\"\",語言配置表!A195)","v":192},{"$f":"IF(語言配置表!A195=\"\",\"CN_待填充内容\",語言配置表!B195)","v":"法宝现身，效果立竿见影，刀剑声逐渐消失，这个世界安静了。"}]
[{"$f":"IF(語言配置表!A196=\"\",\"\",語言配置表!A196)","v":193},{"$f":"IF(語言配置表!A196=\"\",\"CN_待填充内容\",語言配置表!B196)","v":"你大声怒斥贼寇的恶行，贼首发现你了，准备迎战！"}]
[{"$f":"IF(語言配置表!A197=\"\",\"\",語言配置表!A197)","v":194},{"$f":"IF(語言配置表!A197=\"\",\"CN_待填充内容\",語言配置表!B197)","v":"你趁人不备顺走了轿内主人的包裹，任留轿内人痛苦的挣扎。"}]
[{"$f":"IF(語言配置表!A198=\"\",\"\",語言配置表!A198)","v":195},{"$f":"IF(語言配置表!A198=\"\",\"CN_待填充内容\",語言配置表!B198)","v":"法宝也得到些许历练。"}]
[{"$f":"IF(語言配置表!A199=\"\",\"\",語言配置表!A199)","v":196},{"$f":"IF(語言配置表!A199=\"\",\"CN_待填充内容\",語言配置表!B199)","v":"杀退贼寇，你上演了一出英雄救美的桥段。姑娘为了答谢你的救命之恩，将藏在贴身处的珍贵首饰赠与你作为定情信物。"}]
[{"$f":"IF(語言配置表!A200=\"\",\"\",語言配置表!A200)","v":197},{"$f":"IF(語言配置表!A200=\"\",\"CN_待填充内容\",語言配置表!B200)","v":"你打开包裹，赫然出现一大堆财宝，这次你发了哈哈！"}]
[{"$f":"IF(語言配置表!A201=\"\",\"\",語言配置表!A201)","v":198},{"$f":"IF(語言配置表!A201=\"\",\"CN_待填充内容\",語言配置表!B201)","v":"趁它虚弱赶紧除掉它！"}]
[{"$f":"IF(語言配置表!A202=\"\",\"\",語言配置表!A202)","v":199},{"$f":"IF(語言配置表!A202=\"\",\"CN_待填充内容\",語言配置表!B202)","v":"你不忍见它受苦，选择帮它减轻痛苦。"}]
[{"$f":"IF(語言配置表!A203=\"\",\"\",語言配置表!A203)","v":200},{"$f":"IF(語言配置表!A203=\"\",\"CN_待填充内容\",語言配置表!B203)","v":"终结它"}]
[{"$f":"IF(語言配置表!A204=\"\",\"\",語言配置表!A204)","v":201},{"$f":"IF(語言配置表!A204=\"\",\"CN_待填充内容\",語言配置表!B204)","v":"去看看"}]
[{"$f":"IF(語言配置表!A205=\"\",\"\",語言配置表!A205)","v":202},{"$f":"IF(語言配置表!A205=\"\",\"CN_待填充内容\",語言配置表!B205)","v":"(需拥有法宝凝神珠）听起来都是鸡毛蒜皮的小摩擦，你选择祭出凝神珠化解他们的怨气。"}]
[{"$f":"IF(語言配置表!A206=\"\",\"\",語言配置表!A206)","v":203},{"$f":"IF(語言配置表!A206=\"\",\"CN_待填充内容\",語言配置表!B206)","v":"你顿时杀心四起，决定杀了贼寇，救出轿中之人"}]
[{"$f":"IF(語言配置表!A207=\"\",\"\",語言配置表!A207)","v":204},{"$f":"IF(語言配置表!A207=\"\",\"CN_待填充内容\",語言配置表!B207)","v":"盗贼们个个双眼杀的通红，你决定来个渔翁得利。"}]
[{"$f":"IF(語言配置表!A208=\"\",\"\",語言配置表!A208)","v":205},{"$f":"IF(語言配置表!A208=\"\",\"CN_待填充内容\",語言配置表!B208)","v":"选择正面迎战山贼头领（困难）"}]
[{"$f":"IF(語言配置表!A209=\"\",\"\",語言配置表!A209)","v":206},{"$f":"IF(語言配置表!A209=\"\",\"CN_待填充内容\",語言配置表!B209)","v":"你决定避开山贼头领的视线，来个渔翁得利。"}]
[{"$f":"IF(語言配置表!A210=\"\",\"\",語言配置表!A210)","v":207},{"$f":"IF(語言配置表!A210=\"\",\"CN_待填充内容\",語言配置表!B210)","v":"你将山贼们打的落花流水，成功吸引了山贼头子的注意。"}]
[{"$f":"IF(語言配置表!A211=\"\",\"\",語言配置表!A211)","v":208},{"$f":"IF(語言配置表!A211=\"\",\"CN_待填充内容\",語言配置表!B211)","v":""}]
[{"$f":"IF(語言配置表!A212=\"\",\"\",語言配置表!A212)","v":209},{"$f":"IF(語言配置表!A212=\"\",\"CN_待填充内容\",語言配置表!B212)","v":""}]
[{"$f":"IF(語言配置表!A213=\"\",\"\",語言配置表!A213)","v":210},{"$f":"IF(語言配置表!A213=\"\",\"CN_待填充内容\",語言配置表!B213)","v":""}]
[{"$f":"IF(語言配置表!A214=\"\",\"\",語言配置表!A214)","v":211},{"$f":"IF(語言配置表!A214=\"\",\"CN_待填充内容\",語言配置表!B214)","v":""}]
[{"$f":"IF(語言配置表!A215=\"\",\"\",語言配置表!A215)","v":212},{"$f":"IF(語言配置表!A215=\"\",\"CN_待填充内容\",語言配置表!B215)","v":""}]
[{"$f":"IF(語言配置表!A216=\"\",\"\",語言配置表!A216)","v":213},{"$f":"IF(語言配置表!A216=\"\",\"CN_待填充内容\",語言配置表!B216)","v":""}]
[{"$f":"IF(語言配置表!A217=\"\",\"\",語言配置表!A217)","v":214},{"$f":"IF(語言配置表!A217=\"\",\"CN_待填充内容\",語言配置表!B217)","v":""}]
[{"$f":"IF(語言配置表!A218=\"\",\"\",語言配置表!A218)","v":215},{"$f":"IF(語言配置表!A218=\"\",\"CN_待填充内容\",語言配置表!B218)","v":""}]
[{"$f":"IF(語言配置表!A219=\"\",\"\",語言配置表!A219)","v":216},{"$f":"IF(語言配置表!A219=\"\",\"CN_待填充内容\",語言配置表!B219)","v":""}]
[{"$f":"IF(語言配置表!A220=\"\",\"\",語言配置表!A220)","v":217},{"$f":"IF(語言配置表!A220=\"\",\"CN_待填充内容\",語言配置表!B220)","v":"溅血背包"}]
[{"$f":"IF(語言配置表!A221=\"\",\"\",語言配置表!A221)","v":218},{"$f":"IF(語言配置表!A221=\"\",\"CN_待填充内容\",語言配置表!B221)","v":"废弃矿山"}]
[{"$f":"IF(語言配置表!A222=\"\",\"\",語言配置表!A222)","v":219},{"$f":"IF(語言配置表!A222=\"\",\"CN_待填充内容\",語言配置表!B222)","v":"吵架声"}]
[{"$f":"IF(語言配置表!A223=\"\",\"\",語言配置表!A223)","v":220},{"$f":"IF(語言配置表!A223=\"\",\"CN_待填充内容\",語言配置表!B223)","v":"一座道观"}]
[{"$f":"IF(語言配置表!A224=\"\",\"\",語言配置表!A224)","v":221},{"$f":"IF(語言配置表!A224=\"\",\"CN_待填充内容\",語言配置表!B224)","v":"发现一个血迹斑斑的背包，好像刚刚发生了战斗，我翻翻背包..."}]
[{"$f":"IF(語言配置表!A225=\"\",\"\",語言配置表!A225)","v":222},{"$f":"IF(語言配置表!A225=\"\",\"CN_待填充内容\",語言配置表!B225)","v":"啥也没有....除了钱"}]
[{"$f":"IF(語言配置表!A226=\"\",\"\",語言配置表!A226)","v":223},{"$f":"IF(語言配置表!A226=\"\",\"CN_待填充内容\",語言配置表!B226)","v":"两夫妻在吵架，似乎为了一件大事.."}]
[{"$f":"IF(語言配置表!A227=\"\",\"\",語言配置表!A227)","v":224},{"$f":"IF(語言配置表!A227=\"\",\"CN_待填充内容\",語言配置表!B227)","v":"没有任何发现，但感觉空气很好....下次有空再来看看"}]
[{"$f":"IF(語言配置表!A228=\"\",\"\",語言配置表!A228)","v":225},{"$f":"IF(語言配置表!A228=\"\",\"CN_待填充内容\",語言配置表!B228)","v":"筑基期"}]
[{"$f":"IF(語言配置表!A229=\"\",\"\",語言配置表!A229)","v":226},{"$f":"IF(語言配置表!A229=\"\",\"CN_待填充内容\",語言配置表!B229)","v":"金丹期"}]
[{"$f":"IF(語言配置表!A230=\"\",\"\",語言配置表!A230)","v":227},{"$f":"IF(語言配置表!A230=\"\",\"CN_待填充内容\",語言配置表!B230)","v":"元婴期"}]
[{"$f":"IF(語言配置表!A231=\"\",\"\",語言配置表!A231)","v":228},{"$f":"IF(語言配置表!A231=\"\",\"CN_待填充内容\",語言配置表!B231)","v":"化神期"}]
[{"$f":"IF(語言配置表!A232=\"\",\"\",語言配置表!A232)","v":229},{"$f":"IF(語言配置表!A232=\"\",\"CN_待填充内容\",語言配置表!B232)","v":"炼虚期"}]
[{"$f":"IF(語言配置表!A233=\"\",\"\",語言配置表!A233)","v":230},{"$f":"IF(語言配置表!A233=\"\",\"CN_待填充内容\",語言配置表!B233)","v":"合体期"}]
[{"$f":"IF(語言配置表!A234=\"\",\"\",語言配置表!A234)","v":231},{"$f":"IF(語言配置表!A234=\"\",\"CN_待填充内容\",語言配置表!B234)","v":"大乘期"}]
[{"$f":"IF(語言配置表!A235=\"\",\"\",語言配置表!A235)","v":232},{"$f":"IF(語言配置表!A235=\"\",\"CN_待填充内容\",語言配置表!B235)","v":"飞升期"}]
[{"$f":"IF(語言配置表!A236=\"\",\"\",語言配置表!A236)","v":233},{"$f":"IF(語言配置表!A236=\"\",\"CN_待填充内容\",語言配置表!B236)","v":"逍遥期"}]
[{"$f":"IF(語言配置表!A237=\"\",\"\",語言配置表!A237)","v":234},{"$f":"IF(語言配置表!A237=\"\",\"CN_待填充内容\",語言配置表!B237)","v":"真神期"}]
[{"$f":"IF(語言配置表!A238=\"\",\"\",語言配置表!A238)","v":235},{"$f":"IF(語言配置表!A238=\"\",\"CN_待填充内容\",語言配置表!B238)","v":"前"}]
[{"$f":"IF(語言配置表!A239=\"\",\"\",語言配置表!A239)","v":236},{"$f":"IF(語言配置表!A239=\"\",\"CN_待填充内容\",語言配置表!B239)","v":"中"}]
[{"$f":"IF(語言配置表!A240=\"\",\"\",語言配置表!A240)","v":237},{"$f":"IF(語言配置表!A240=\"\",\"CN_待填充内容\",語言配置表!B240)","v":"后"}]
[{"$f":"IF(語言配置表!A241=\"\",\"\",語言配置表!A241)","v":238},{"$f":"IF(語言配置表!A241=\"\",\"CN_待填充内容\",語言配置表!B241)","v":1}]
[{"$f":"IF(語言配置表!A242=\"\",\"\",語言配置表!A242)","v":239},{"$f":"IF(語言配置表!A242=\"\",\"CN_待填充内容\",語言配置表!B242)","v":2}]
[{"$f":"IF(語言配置表!A243=\"\",\"\",語言配置表!A243)","v":240},{"$f":"IF(語言配置表!A243=\"\",\"CN_待填充内容\",語言配置表!B243)","v":3}]
[{"$f":"IF(語言配置表!A244=\"\",\"\",語言配置表!A244)","v":241},{"$f":"IF(語言配置表!A244=\"\",\"CN_待填充内容\",語言配置表!B244)","v":4}]
[{"$f":"IF(語言配置表!A245=\"\",\"\",語言配置表!A245)","v":242},{"$f":"IF(語言配置表!A245=\"\",\"CN_待填充内容\",語言配置表!B245)","v":5}]
[{"$f":"IF(語言配置表!A246=\"\",\"\",語言配置表!A246)","v":243},{"$f":"IF(語言配置表!A246=\"\",\"CN_待填充内容\",語言配置表!B246)","v":6}]
[{"$f":"IF(語言配置表!A247=\"\",\"\",語言配置表!A247)","v":244},{"$f":"IF(語言配置表!A247=\"\",\"CN_待填充内容\",語言配置表!B247)","v":7}]
[{"$f":"IF(語言配置表!A248=\"\",\"\",語言配置表!A248)","v":245},{"$f":"IF(語言配置表!A248=\"\",\"CN_待填充内容\",語言配置表!B248)","v":8}]
[{"$f":"IF(語言配置表!A249=\"\",\"\",語言配置表!A249)","v":246},{"$f":"IF(語言配置表!A249=\"\",\"CN_待填充内容\",語言配置表!B249)","v":9}]
[{"$f":"IF(語言配置表!A250=\"\",\"\",語言配置表!A250)","v":247},{"$f":"IF(語言配置表!A250=\"\",\"CN_待填充内容\",語言配置表!B250)","v":10}]
[{"$f":"IF(語言配置表!A251=\"\",\"\",語言配置表!A251)","v":248},{"$f":"IF(語言配置表!A251=\"\",\"CN_待填充内容\",語言配置表!B251)","v":"金锭"}]
[{"$f":"IF(語言配置表!A252=\"\",\"\",語言配置表!A252)","v":249},{"$f":"IF(語言配置表!A252=\"\",\"CN_待填充内容\",語言配置表!B252)","v":"最稀有的货币"}]
[{"$f":"IF(語言配置表!A253=\"\",\"\",語言配置表!A253)","v":250},{"$f":"IF(語言配置表!A253=\"\",\"CN_待填充内容\",語言配置表!B253)","v":"渡劫丹-A1"}]
[{"$f":"IF(語言配置表!A254=\"\",\"\",語言配置表!A254)","v":251},{"$f":"IF(語言配置表!A254=\"\",\"CN_待填充内容\",語言配置表!B254)","v":"渡劫丹-A2"}]
[{"$f":"IF(語言配置表!A255=\"\",\"\",語言配置表!A255)","v":252},{"$f":"IF(語言配置表!A255=\"\",\"CN_待填充内容\",語言配置表!B255)","v":"渡劫丹-A3"}]
[{"$f":"IF(語言配置表!A256=\"\",\"\",語言配置表!A256)","v":253},{"$f":"IF(語言配置表!A256=\"\",\"CN_待填充内容\",語言配置表!B256)","v":"渡劫丹-B1"}]
[{"$f":"IF(語言配置表!A257=\"\",\"\",語言配置表!A257)","v":254},{"$f":"IF(語言配置表!A257=\"\",\"CN_待填充内容\",語言配置表!B257)","v":"渡劫丹-B2"}]
[{"$f":"IF(語言配置表!A258=\"\",\"\",語言配置表!A258)","v":255},{"$f":"IF(語言配置表!A258=\"\",\"CN_待填充内容\",語言配置表!B258)","v":"渡劫丹-B3"}]
[{"$f":"IF(語言配置表!A259=\"\",\"\",語言配置表!A259)","v":256},{"$f":"IF(語言配置表!A259=\"\",\"CN_待填充内容\",語言配置表!B259)","v":"渡劫丹-C1"}]
[{"$f":"IF(語言配置表!A260=\"\",\"\",語言配置表!A260)","v":257},{"$f":"IF(語言配置表!A260=\"\",\"CN_待填充内容\",語言配置表!B260)","v":"渡劫丹-C2"}]
[{"$f":"IF(語言配置表!A261=\"\",\"\",語言配置表!A261)","v":258},{"$f":"IF(語言配置表!A261=\"\",\"CN_待填充内容\",語言配置表!B261)","v":"渡劫丹-C3"}]
[{"$f":"IF(語言配置表!A262=\"\",\"\",語言配置表!A262)","v":259},{"$f":"IF(語言配置表!A262=\"\",\"CN_待填充内容\",語言配置表!B262)","v":"渡劫丹-A1描述"}]
[{"$f":"IF(語言配置表!A263=\"\",\"\",語言配置表!A263)","v":260},{"$f":"IF(語言配置表!A263=\"\",\"CN_待填充内容\",語言配置表!B263)","v":"渡劫丹-A2描述"}]
[{"$f":"IF(語言配置表!A264=\"\",\"\",語言配置表!A264)","v":261},{"$f":"IF(語言配置表!A264=\"\",\"CN_待填充内容\",語言配置表!B264)","v":"渡劫丹-A3描述"}]
[{"$f":"IF(語言配置表!A265=\"\",\"\",語言配置表!A265)","v":262},{"$f":"IF(語言配置表!A265=\"\",\"CN_待填充内容\",語言配置表!B265)","v":"渡劫丹-B1描述"}]
[{"$f":"IF(語言配置表!A266=\"\",\"\",語言配置表!A266)","v":263},{"$f":"IF(語言配置表!A266=\"\",\"CN_待填充内容\",語言配置表!B266)","v":"渡劫丹-B2描述"}]
[{"$f":"IF(語言配置表!A267=\"\",\"\",語言配置表!A267)","v":264},{"$f":"IF(語言配置表!A267=\"\",\"CN_待填充内容\",語言配置表!B267)","v":"渡劫丹-B3描述"}]
[{"$f":"IF(語言配置表!A268=\"\",\"\",語言配置表!A268)","v":265},{"$f":"IF(語言配置表!A268=\"\",\"CN_待填充内容\",語言配置表!B268)","v":"渡劫丹-C1描述"}]
[{"$f":"IF(語言配置表!A269=\"\",\"\",語言配置表!A269)","v":266},{"$f":"IF(語言配置表!A269=\"\",\"CN_待填充内容\",語言配置表!B269)","v":"渡劫丹-C2描述"}]
[{"$f":"IF(語言配置表!A270=\"\",\"\",語言配置表!A270)","v":267},{"$f":"IF(語言配置表!A270=\"\",\"CN_待填充内容\",語言配置表!B270)","v":"渡劫丹-C3描述"}]
[{"$f":"IF(語言配置表!A271=\"\",\"\",語言配置表!A271)","v":268},{"$f":"IF(語言配置表!A271=\"\",\"CN_待填充内容\",語言配置表!B271)","v":"天材地宝1"}]
[{"$f":"IF(語言配置表!A272=\"\",\"\",語言配置表!A272)","v":269},{"$f":"IF(語言配置表!A272=\"\",\"CN_待填充内容\",語言配置表!B272)","v":"天材地宝2"}]
[{"$f":"IF(語言配置表!A273=\"\",\"\",語言配置表!A273)","v":270},{"$f":"IF(語言配置表!A273=\"\",\"CN_待填充内容\",語言配置表!B273)","v":"天材地宝3"}]
[{"$f":"IF(語言配置表!A274=\"\",\"\",語言配置表!A274)","v":271},{"$f":"IF(語言配置表!A274=\"\",\"CN_待填充内容\",語言配置表!B274)","v":"天材地宝4"}]
[{"$f":"IF(語言配置表!A275=\"\",\"\",語言配置表!A275)","v":272},{"$f":"IF(語言配置表!A275=\"\",\"CN_待填充内容\",語言配置表!B275)","v":"天材地宝1描述"}]
[{"$f":"IF(語言配置表!A276=\"\",\"\",語言配置表!A276)","v":273},{"$f":"IF(語言配置表!A276=\"\",\"CN_待填充内容\",語言配置表!B276)","v":"天材地宝2描述"}]
[{"$f":"IF(語言配置表!A277=\"\",\"\",語言配置表!A277)","v":274},{"$f":"IF(語言配置表!A277=\"\",\"CN_待填充内容\",語言配置表!B277)","v":"天材地宝3描述"}]
[{"$f":"IF(語言配置表!A278=\"\",\"\",語言配置表!A278)","v":275},{"$f":"IF(語言配置表!A278=\"\",\"CN_待填充内容\",語言配置表!B278)","v":"天材地宝4描述"}]
[{"$f":"IF(語言配置表!A279=\"\",\"\",語言配置表!A279)","v":276},{"$f":"IF(語言配置表!A279=\"\",\"CN_待填充内容\",語言配置表!B279)","v":"修为丹1"}]
[{"$f":"IF(語言配置表!A280=\"\",\"\",語言配置表!A280)","v":277},{"$f":"IF(語言配置表!A280=\"\",\"CN_待填充内容\",語言配置表!B280)","v":"修为丹2"}]
[{"$f":"IF(語言配置表!A281=\"\",\"\",語言配置表!A281)","v":278},{"$f":"IF(語言配置表!A281=\"\",\"CN_待填充内容\",語言配置表!B281)","v":"修为丹3"}]
[{"$f":"IF(語言配置表!A282=\"\",\"\",語言配置表!A282)","v":279},{"$f":"IF(語言配置表!A282=\"\",\"CN_待填充内容\",語言配置表!B282)","v":"修为丹4"}]
[{"$f":"IF(語言配置表!A283=\"\",\"\",語言配置表!A283)","v":280},{"$f":"IF(語言配置表!A283=\"\",\"CN_待填充内容\",語言配置表!B283)","v":"修为丹1描述"}]
[{"$f":"IF(語言配置表!A284=\"\",\"\",語言配置表!A284)","v":281},{"$f":"IF(語言配置表!A284=\"\",\"CN_待填充内容\",語言配置表!B284)","v":"修为丹2描述"}]
[{"$f":"IF(語言配置表!A285=\"\",\"\",語言配置表!A285)","v":282},{"$f":"IF(語言配置表!A285=\"\",\"CN_待填充内容\",語言配置表!B285)","v":"修为丹3描述"}]
[{"$f":"IF(語言配置表!A286=\"\",\"\",語言配置表!A286)","v":283},{"$f":"IF(語言配置表!A286=\"\",\"CN_待填充内容\",語言配置表!B286)","v":"修为丹4描述"}]
[{"$f":"IF(語言配置表!A287=\"\",\"\",語言配置表!A287)","v":284},{"$f":"IF(語言配置表!A287=\"\",\"CN_待填充内容\",語言配置表!B287)","v":"神龙鼎"}]
[{"$f":"IF(語言配置表!A288=\"\",\"\",語言配置表!A288)","v":285},{"$f":"IF(語言配置表!A288=\"\",\"CN_待填充内容\",語言配置表!B288)","v":"破天斧"}]
[{"$f":"IF(語言配置表!A289=\"\",\"\",語言配置表!A289)","v":286},{"$f":"IF(語言配置表!A289=\"\",\"CN_待填充内容\",語言配置表!B289)","v":"翡翠葫芦"}]
[{"$f":"IF(語言配置表!A290=\"\",\"\",語言配置表!A290)","v":287},{"$f":"IF(語言配置表!A290=\"\",\"CN_待填充内容\",語言配置表!B290)","v":"混沌珠"}]
[{"$f":"IF(語言配置表!A291=\"\",\"\",語言配置表!A291)","v":288},{"$f":"IF(語言配置表!A291=\"\",\"CN_待填充内容\",語言配置表!B291)","v":"琉璃宝塔"}]
[{"$f":"IF(語言配置表!A292=\"\",\"\",語言配置表!A292)","v":289},{"$f":"IF(語言配置表!A292=\"\",\"CN_待填充内容\",語言配置表!B292)","v":"九幽镇魂瓶"}]
[{"$f":"IF(語言配置表!A293=\"\",\"\",語言配置表!A293)","v":290},{"$f":"IF(語言配置表!A293=\"\",\"CN_待填充内容\",語言配置表!B293)","v":"玉莲守心灯"}]
[{"$f":"IF(語言配置表!A294=\"\",\"\",語言配置表!A294)","v":291},{"$f":"IF(語言配置表!A294=\"\",\"CN_待填充内容\",語言配置表!B294)","v":"融灵塔"}]
[{"$f":"IF(語言配置表!A295=\"\",\"\",語言配置表!A295)","v":292},{"$f":"IF(語言配置表!A295=\"\",\"CN_待填充内容\",語言配置表!B295)","v":"法宝1描述"}]
[{"$f":"IF(語言配置表!A296=\"\",\"\",語言配置表!A296)","v":293},{"$f":"IF(語言配置表!A296=\"\",\"CN_待填充内容\",語言配置表!B296)","v":"法宝2描述"}]
[{"$f":"IF(語言配置表!A297=\"\",\"\",語言配置表!A297)","v":294},{"$f":"IF(語言配置表!A297=\"\",\"CN_待填充内容\",語言配置表!B297)","v":"法宝3描述"}]
[{"$f":"IF(語言配置表!A298=\"\",\"\",語言配置表!A298)","v":295},{"$f":"IF(語言配置表!A298=\"\",\"CN_待填充内容\",語言配置表!B298)","v":"法宝4描述"}]
[{"$f":"IF(語言配置表!A299=\"\",\"\",語言配置表!A299)","v":296},{"$f":"IF(語言配置表!A299=\"\",\"CN_待填充内容\",語言配置表!B299)","v":"法宝5描述"}]
[{"$f":"IF(語言配置表!A300=\"\",\"\",語言配置表!A300)","v":297},{"$f":"IF(語言配置表!A300=\"\",\"CN_待填充内容\",語言配置表!B300)","v":"法宝6描述"}]
[{"$f":"IF(語言配置表!A301=\"\",\"\",語言配置表!A301)","v":298},{"$f":"IF(語言配置表!A301=\"\",\"CN_待填充内容\",語言配置表!B301)","v":"法宝7描述"}]
[{"$f":"IF(語言配置表!A302=\"\",\"\",語言配置表!A302)","v":299},{"$f":"IF(語言配置表!A302=\"\",\"CN_待填充内容\",語言配置表!B302)","v":"法宝8描述"}]
[{"$f":"IF(語言配置表!A303=\"\",\"\",語言配置表!A303)","v":300},{"$f":"IF(語言配置表!A303=\"\",\"CN_待填充内容\",語言配置表!B303)","v":"神龙鼎碎片"}]
[{"$f":"IF(語言配置表!A304=\"\",\"\",語言配置表!A304)","v":301},{"$f":"IF(語言配置表!A304=\"\",\"CN_待填充内容\",語言配置表!B304)","v":"破天斧碎片"}]
[{"$f":"IF(語言配置表!A305=\"\",\"\",語言配置表!A305)","v":302},{"$f":"IF(語言配置表!A305=\"\",\"CN_待填充内容\",語言配置表!B305)","v":"翡翠葫芦碎片"}]
[{"$f":"IF(語言配置表!A306=\"\",\"\",語言配置表!A306)","v":303},{"$f":"IF(語言配置表!A306=\"\",\"CN_待填充内容\",語言配置表!B306)","v":"混沌珠碎片"}]
[{"$f":"IF(語言配置表!A307=\"\",\"\",語言配置表!A307)","v":304},{"$f":"IF(語言配置表!A307=\"\",\"CN_待填充内容\",語言配置表!B307)","v":"琉璃宝塔碎片"}]
[{"$f":"IF(語言配置表!A308=\"\",\"\",語言配置表!A308)","v":305},{"$f":"IF(語言配置表!A308=\"\",\"CN_待填充内容\",語言配置表!B308)","v":"九幽镇魂瓶碎片"}]
[{"$f":"IF(語言配置表!A309=\"\",\"\",語言配置表!A309)","v":306},{"$f":"IF(語言配置表!A309=\"\",\"CN_待填充内容\",語言配置表!B309)","v":"玉莲守心灯碎片"}]
[{"$f":"IF(語言配置表!A310=\"\",\"\",語言配置表!A310)","v":307},{"$f":"IF(語言配置表!A310=\"\",\"CN_待填充内容\",語言配置表!B310)","v":"融灵塔碎片"}]
[{"$f":"IF(語言配置表!A311=\"\",\"\",語言配置表!A311)","v":308},{"$f":"IF(語言配置表!A311=\"\",\"CN_待填充内容\",語言配置表!B311)","v":"法宝1碎片描述"}]
[{"$f":"IF(語言配置表!A312=\"\",\"\",語言配置表!A312)","v":309},{"$f":"IF(語言配置表!A312=\"\",\"CN_待填充内容\",語言配置表!B312)","v":"法宝2碎片描述"}]
[{"$f":"IF(語言配置表!A313=\"\",\"\",語言配置表!A313)","v":310},{"$f":"IF(語言配置表!A313=\"\",\"CN_待填充内容\",語言配置表!B313)","v":"法宝3碎片描述"}]
[{"$f":"IF(語言配置表!A314=\"\",\"\",語言配置表!A314)","v":311},{"$f":"IF(語言配置表!A314=\"\",\"CN_待填充内容\",語言配置表!B314)","v":"法宝4碎片描述"}]
[{"$f":"IF(語言配置表!A315=\"\",\"\",語言配置表!A315)","v":312},{"$f":"IF(語言配置表!A315=\"\",\"CN_待填充内容\",語言配置表!B315)","v":"法宝5碎片描述"}]
[{"$f":"IF(語言配置表!A316=\"\",\"\",語言配置表!A316)","v":313},{"$f":"IF(語言配置表!A316=\"\",\"CN_待填充内容\",語言配置表!B316)","v":"法宝6碎片描述"}]
[{"$f":"IF(語言配置表!A317=\"\",\"\",語言配置表!A317)","v":314},{"$f":"IF(語言配置表!A317=\"\",\"CN_待填充内容\",語言配置表!B317)","v":"法宝7碎片描述"}]
[{"$f":"IF(語言配置表!A318=\"\",\"\",語言配置表!A318)","v":315},{"$f":"IF(語言配置表!A318=\"\",\"CN_待填充内容\",語言配置表!B318)","v":"法宝8碎片描述"}]
[{"$f":"IF(語言配置表!A319=\"\",\"\",語言配置表!A319)","v":316},{"$f":"IF(語言配置表!A319=\"\",\"CN_待填充内容\",語言配置表!B319)","v":"太虚幻剑经"}]
[{"$f":"IF(語言配置表!A320=\"\",\"\",語言配置表!A320)","v":317},{"$f":"IF(語言配置表!A320=\"\",\"CN_待填充内容\",語言配置表!B320)","v":"太虚幻剑经"}]
[{"$f":"IF(語言配置表!A321=\"\",\"\",語言配置表!A321)","v":318},{"$f":"IF(語言配置表!A321=\"\",\"CN_待填充内容\",語言配置表!B321)","v":"太虚幻剑经"}]
[{"$f":"IF(語言配置表!A322=\"\",\"\",語言配置表!A322)","v":319},{"$f":"IF(語言配置表!A322=\"\",\"CN_待填充内容\",語言配置表!B322)","v":"太虚幻剑经"}]
[{"$f":"IF(語言配置表!A323=\"\",\"\",語言配置表!A323)","v":320},{"$f":"IF(語言配置表!A323=\"\",\"CN_待填充内容\",語言配置表!B323)","v":"太虚幻剑经"}]
[{"$f":"IF(語言配置表!A324=\"\",\"\",語言配置表!A324)","v":321},{"$f":"IF(語言配置表!A324=\"\",\"CN_待填充内容\",語言配置表!B324)","v":"太虚幻剑经"}]
[{"$f":"IF(語言配置表!A325=\"\",\"\",語言配置表!A325)","v":322},{"$f":"IF(語言配置表!A325=\"\",\"CN_待填充内容\",語言配置表!B325)","v":"天罡剑气诀"}]
[{"$f":"IF(語言配置表!A326=\"\",\"\",語言配置表!A326)","v":323},{"$f":"IF(語言配置表!A326=\"\",\"CN_待填充内容\",語言配置表!B326)","v":"天罡剑气诀"}]
[{"$f":"IF(語言配置表!A327=\"\",\"\",語言配置表!A327)","v":324},{"$f":"IF(語言配置表!A327=\"\",\"CN_待填充内容\",語言配置表!B327)","v":"天罡剑气诀"}]
[{"$f":"IF(語言配置表!A328=\"\",\"\",語言配置表!A328)","v":325},{"$f":"IF(語言配置表!A328=\"\",\"CN_待填充内容\",語言配置表!B328)","v":"天罡剑气诀"}]
[{"$f":"IF(語言配置表!A329=\"\",\"\",語言配置表!A329)","v":326},{"$f":"IF(語言配置表!A329=\"\",\"CN_待填充内容\",語言配置表!B329)","v":"天罡剑气诀"}]
[{"$f":"IF(語言配置表!A330=\"\",\"\",語言配置表!A330)","v":327},{"$f":"IF(語言配置表!A330=\"\",\"CN_待填充内容\",語言配置表!B330)","v":"天罡剑气诀"}]
[{"$f":"IF(語言配置表!A331=\"\",\"\",語言配置表!A331)","v":328},{"$f":"IF(語言配置表!A331=\"\",\"CN_待填充内容\",語言配置表!B331)","v":"血刃金煌功"}]
[{"$f":"IF(語言配置表!A332=\"\",\"\",語言配置表!A332)","v":329},{"$f":"IF(語言配置表!A332=\"\",\"CN_待填充内容\",語言配置表!B332)","v":"血刃金煌功"}]
[{"$f":"IF(語言配置表!A333=\"\",\"\",語言配置表!A333)","v":330},{"$f":"IF(語言配置表!A333=\"\",\"CN_待填充内容\",語言配置表!B333)","v":"血刃金煌功"}]
[{"$f":"IF(語言配置表!A334=\"\",\"\",語言配置表!A334)","v":331},{"$f":"IF(語言配置表!A334=\"\",\"CN_待填充内容\",語言配置表!B334)","v":"血刃金煌功"}]
[{"$f":"IF(語言配置表!A335=\"\",\"\",語言配置表!A335)","v":332},{"$f":"IF(語言配置表!A335=\"\",\"CN_待填充内容\",語言配置表!B335)","v":"血刃金煌功"}]
[{"$f":"IF(語言配置表!A336=\"\",\"\",語言配置表!A336)","v":333},{"$f":"IF(語言配置表!A336=\"\",\"CN_待填充内容\",語言配置表!B336)","v":"血刃金煌功"}]
[{"$f":"IF(語言配置表!A337=\"\",\"\",語言配置表!A337)","v":334},{"$f":"IF(語言配置表!A337=\"\",\"CN_待填充内容\",語言配置表!B337)","v":"飞刃"}]
[{"$f":"IF(語言配置表!A338=\"\",\"\",語言配置表!A338)","v":335},{"$f":"IF(語言配置表!A338=\"\",\"CN_待填充内容\",語言配置表!B338)","v":"飞刃"}]
[{"$f":"IF(語言配置表!A339=\"\",\"\",語言配置表!A339)","v":336},{"$f":"IF(語言配置表!A339=\"\",\"CN_待填充内容\",語言配置表!B339)","v":"飞刃"}]
[{"$f":"IF(語言配置表!A340=\"\",\"\",語言配置表!A340)","v":337},{"$f":"IF(語言配置表!A340=\"\",\"CN_待填充内容\",語言配置表!B340)","v":"飞刃"}]
[{"$f":"IF(語言配置表!A341=\"\",\"\",語言配置表!A341)","v":338},{"$f":"IF(語言配置表!A341=\"\",\"CN_待填充内容\",語言配置表!B341)","v":"飞刃"}]
[{"$f":"IF(語言配置表!A342=\"\",\"\",語言配置表!A342)","v":339},{"$f":"IF(語言配置表!A342=\"\",\"CN_待填充内容\",語言配置表!B342)","v":"飞刃"}]
[{"$f":"IF(語言配置表!A343=\"\",\"\",語言配置表!A343)","v":340},{"$f":"IF(語言配置表!A343=\"\",\"CN_待填充内容\",語言配置表!B343)","v":"金针"}]
[{"$f":"IF(語言配置表!A344=\"\",\"\",語言配置表!A344)","v":341},{"$f":"IF(語言配置表!A344=\"\",\"CN_待填充内容\",語言配置表!B344)","v":"金针"}]
[{"$f":"IF(語言配置表!A345=\"\",\"\",語言配置表!A345)","v":342},{"$f":"IF(語言配置表!A345=\"\",\"CN_待填充内容\",語言配置表!B345)","v":"金针"}]
[{"$f":"IF(語言配置表!A346=\"\",\"\",語言配置表!A346)","v":343},{"$f":"IF(語言配置表!A346=\"\",\"CN_待填充内容\",語言配置表!B346)","v":"金针"}]
[{"$f":"IF(語言配置表!A347=\"\",\"\",語言配置表!A347)","v":344},{"$f":"IF(語言配置表!A347=\"\",\"CN_待填充内容\",語言配置表!B347)","v":"金针"}]
[{"$f":"IF(語言配置表!A348=\"\",\"\",語言配置表!A348)","v":345},{"$f":"IF(語言配置表!A348=\"\",\"CN_待填充内容\",語言配置表!B348)","v":"金针"}]
[{"$f":"IF(語言配置表!A349=\"\",\"\",語言配置表!A349)","v":346},{"$f":"IF(語言配置表!A349=\"\",\"CN_待填充内容\",語言配置表!B349)","v":"碧落幽冥劲"}]
[{"$f":"IF(語言配置表!A350=\"\",\"\",語言配置表!A350)","v":347},{"$f":"IF(語言配置表!A350=\"\",\"CN_待填充内容\",語言配置表!B350)","v":"碧落幽冥劲"}]
[{"$f":"IF(語言配置表!A351=\"\",\"\",語言配置表!A351)","v":348},{"$f":"IF(語言配置表!A351=\"\",\"CN_待填充内容\",語言配置表!B351)","v":"碧落幽冥劲"}]
[{"$f":"IF(語言配置表!A352=\"\",\"\",語言配置表!A352)","v":349},{"$f":"IF(語言配置表!A352=\"\",\"CN_待填充内容\",語言配置表!B352)","v":"碧落幽冥劲"}]
[{"$f":"IF(語言配置表!A353=\"\",\"\",語言配置表!A353)","v":350},{"$f":"IF(語言配置表!A353=\"\",\"CN_待填充内容\",語言配置表!B353)","v":"碧落幽冥劲"}]
[{"$f":"IF(語言配置表!A354=\"\",\"\",語言配置表!A354)","v":351},{"$f":"IF(語言配置表!A354=\"\",\"CN_待填充内容\",語言配置表!B354)","v":"碧落幽冥劲"}]
[{"$f":"IF(語言配置表!A355=\"\",\"\",語言配置表!A355)","v":352},{"$f":"IF(語言配置表!A355=\"\",\"CN_待填充内容\",語言配置表!B355)","v":"雾隐千流法"}]
[{"$f":"IF(語言配置表!A356=\"\",\"\",語言配置表!A356)","v":353},{"$f":"IF(語言配置表!A356=\"\",\"CN_待填充内容\",語言配置表!B356)","v":"雾隐千流法"}]
[{"$f":"IF(語言配置表!A357=\"\",\"\",語言配置表!A357)","v":354},{"$f":"IF(語言配置表!A357=\"\",\"CN_待填充内容\",語言配置表!B357)","v":"雾隐千流法"}]
[{"$f":"IF(語言配置表!A358=\"\",\"\",語言配置表!A358)","v":355},{"$f":"IF(語言配置表!A358=\"\",\"CN_待填充内容\",語言配置表!B358)","v":"雾隐千流法"}]
[{"$f":"IF(語言配置表!A359=\"\",\"\",語言配置表!A359)","v":356},{"$f":"IF(語言配置表!A359=\"\",\"CN_待填充内容\",語言配置表!B359)","v":"雾隐千流法"}]
[{"$f":"IF(語言配置表!A360=\"\",\"\",語言配置表!A360)","v":357},{"$f":"IF(語言配置表!A360=\"\",\"CN_待填充内容\",語言配置表!B360)","v":"雾隐千流法"}]
[{"$f":"IF(語言配置表!A361=\"\",\"\",語言配置表!A361)","v":358},{"$f":"IF(語言配置表!A361=\"\",\"CN_待填充内容\",語言配置表!B361)","v":0}]
[{"$f":"IF(語言配置表!A362=\"\",\"\",語言配置表!A362)","v":359},{"$f":"IF(語言配置表!A362=\"\",\"CN_待填充内容\",語言配置表!B362)","v":0}]
[{"$f":"IF(語言配置表!A363=\"\",\"\",語言配置表!A363)","v":360},{"$f":"IF(語言配置表!A363=\"\",\"CN_待填充内容\",語言配置表!B363)","v":0}]
[{"$f":"IF(語言配置表!A364=\"\",\"\",語言配置表!A364)","v":361},{"$f":"IF(語言配置表!A364=\"\",\"CN_待填充内容\",語言配置表!B364)","v":0}]
[{"$f":"IF(語言配置表!A365=\"\",\"\",語言配置表!A365)","v":362},{"$f":"IF(語言配置表!A365=\"\",\"CN_待填充内容\",語言配置表!B365)","v":0}]
[{"$f":"IF(語言配置表!A366=\"\",\"\",語言配置表!A366)","v":363},{"$f":"IF(語言配置表!A366=\"\",\"CN_待填充内容\",語言配置表!B366)","v":0}]
[{"$f":"IF(語言配置表!A367=\"\",\"\",語言配置表!A367)","v":364},{"$f":"IF(語言配置表!A367=\"\",\"CN_待填充内容\",語言配置表!B367)","v":"冰刀"}]
[{"$f":"IF(語言配置表!A368=\"\",\"\",語言配置表!A368)","v":365},{"$f":"IF(語言配置表!A368=\"\",\"CN_待填充内容\",語言配置表!B368)","v":"冰刀"}]
[{"$f":"IF(語言配置表!A369=\"\",\"\",語言配置表!A369)","v":366},{"$f":"IF(語言配置表!A369=\"\",\"CN_待填充内容\",語言配置表!B369)","v":"冰刀"}]
[{"$f":"IF(語言配置表!A370=\"\",\"\",語言配置表!A370)","v":367},{"$f":"IF(語言配置表!A370=\"\",\"CN_待填充内容\",語言配置表!B370)","v":"冰刀"}]
[{"$f":"IF(語言配置表!A371=\"\",\"\",語言配置表!A371)","v":368},{"$f":"IF(語言配置表!A371=\"\",\"CN_待填充内容\",語言配置表!B371)","v":"冰刀"}]
[{"$f":"IF(語言配置表!A372=\"\",\"\",語言配置表!A372)","v":369},{"$f":"IF(語言配置表!A372=\"\",\"CN_待填充内容\",語言配置表!B372)","v":"冰刀"}]
[{"$f":"IF(語言配置表!A373=\"\",\"\",語言配置表!A373)","v":370},{"$f":"IF(語言配置表!A373=\"\",\"CN_待填充内容\",語言配置表!B373)","v":"瘴影千丝术"}]
[{"$f":"IF(語言配置表!A374=\"\",\"\",語言配置表!A374)","v":371},{"$f":"IF(語言配置表!A374=\"\",\"CN_待填充内容\",語言配置表!B374)","v":"瘴影千丝术"}]
[{"$f":"IF(語言配置表!A375=\"\",\"\",語言配置表!A375)","v":372},{"$f":"IF(語言配置表!A375=\"\",\"CN_待填充内容\",語言配置表!B375)","v":"瘴影千丝术"}]
[{"$f":"IF(語言配置表!A376=\"\",\"\",語言配置表!A376)","v":373},{"$f":"IF(語言配置表!A376=\"\",\"CN_待填充内容\",語言配置表!B376)","v":"瘴影千丝术"}]
[{"$f":"IF(語言配置表!A377=\"\",\"\",語言配置表!A377)","v":374},{"$f":"IF(語言配置表!A377=\"\",\"CN_待填充内容\",語言配置表!B377)","v":"瘴影千丝术"}]
[{"$f":"IF(語言配置表!A378=\"\",\"\",語言配置表!A378)","v":375},{"$f":"IF(語言配置表!A378=\"\",\"CN_待填充内容\",語言配置表!B378)","v":"瘴影千丝术"}]
[{"$f":"IF(語言配置表!A379=\"\",\"\",語言配置表!A379)","v":376},{"$f":"IF(語言配置表!A379=\"\",\"CN_待填充内容\",語言配置表!B379)","v":"蚀骨腐血掌"}]
[{"$f":"IF(語言配置表!A380=\"\",\"\",語言配置表!A380)","v":377},{"$f":"IF(語言配置表!A380=\"\",\"CN_待填充内容\",語言配置表!B380)","v":"蚀骨腐血掌"}]
[{"$f":"IF(語言配置表!A381=\"\",\"\",語言配置表!A381)","v":378},{"$f":"IF(語言配置表!A381=\"\",\"CN_待填充内容\",語言配置表!B381)","v":"蚀骨腐血掌"}]
[{"$f":"IF(語言配置表!A382=\"\",\"\",語言配置表!A382)","v":379},{"$f":"IF(語言配置表!A382=\"\",\"CN_待填充内容\",語言配置表!B382)","v":"蚀骨腐血掌"}]
[{"$f":"IF(語言配置表!A383=\"\",\"\",語言配置表!A383)","v":380},{"$f":"IF(語言配置表!A383=\"\",\"CN_待填充内容\",語言配置表!B383)","v":"蚀骨腐血掌"}]
[{"$f":"IF(語言配置表!A384=\"\",\"\",語言配置表!A384)","v":381},{"$f":"IF(語言配置表!A384=\"\",\"CN_待填充内容\",語言配置表!B384)","v":"蚀骨腐血掌"}]
[{"$f":"IF(語言配置表!A385=\"\",\"\",語言配置表!A385)","v":382},{"$f":"IF(語言配置表!A385=\"\",\"CN_待填充内容\",語言配置表!B385)","v":0}]
[{"$f":"IF(語言配置表!A386=\"\",\"\",語言配置表!A386)","v":383},{"$f":"IF(語言配置表!A386=\"\",\"CN_待填充内容\",語言配置表!B386)","v":0}]
[{"$f":"IF(語言配置表!A387=\"\",\"\",語言配置表!A387)","v":384},{"$f":"IF(語言配置表!A387=\"\",\"CN_待填充内容\",語言配置表!B387)","v":0}]
[{"$f":"IF(語言配置表!A388=\"\",\"\",語言配置表!A388)","v":385},{"$f":"IF(語言配置表!A388=\"\",\"CN_待填充内容\",語言配置表!B388)","v":0}]
[{"$f":"IF(語言配置表!A389=\"\",\"\",語言配置表!A389)","v":386},{"$f":"IF(語言配置表!A389=\"\",\"CN_待填充内容\",語言配置表!B389)","v":0}]
[{"$f":"IF(語言配置表!A390=\"\",\"\",語言配置表!A390)","v":387},{"$f":"IF(語言配置表!A390=\"\",\"CN_待填充内容\",語言配置表!B390)","v":0}]
[{"$f":"IF(語言配置表!A391=\"\",\"\",語言配置表!A391)","v":388},{"$f":"IF(語言配置表!A391=\"\",\"CN_待填充内容\",語言配置表!B391)","v":"飞叶"}]
[{"$f":"IF(語言配置表!A392=\"\",\"\",語言配置表!A392)","v":389},{"$f":"IF(語言配置表!A392=\"\",\"CN_待填充内容\",語言配置表!B392)","v":"飞叶"}]
[{"$f":"IF(語言配置表!A393=\"\",\"\",語言配置表!A393)","v":390},{"$f":"IF(語言配置表!A393=\"\",\"CN_待填充内容\",語言配置表!B393)","v":"飞叶"}]
[{"$f":"IF(語言配置表!A394=\"\",\"\",語言配置表!A394)","v":391},{"$f":"IF(語言配置表!A394=\"\",\"CN_待填充内容\",語言配置表!B394)","v":"飞叶"}]
[{"$f":"IF(語言配置表!A395=\"\",\"\",語言配置表!A395)","v":392},{"$f":"IF(語言配置表!A395=\"\",\"CN_待填充内容\",語言配置表!B395)","v":"飞叶"}]
[{"$f":"IF(語言配置表!A396=\"\",\"\",語言配置表!A396)","v":393},{"$f":"IF(語言配置表!A396=\"\",\"CN_待填充内容\",語言配置表!B396)","v":"飞叶"}]
[{"$f":"IF(語言配置表!A397=\"\",\"\",語言配置表!A397)","v":394},{"$f":"IF(語言配置表!A397=\"\",\"CN_待填充内容\",語言配置表!B397)","v":"烈焰剑"}]
[{"$f":"IF(語言配置表!A398=\"\",\"\",語言配置表!A398)","v":395},{"$f":"IF(語言配置表!A398=\"\",\"CN_待填充内容\",語言配置表!B398)","v":"烈焰剑"}]
[{"$f":"IF(語言配置表!A399=\"\",\"\",語言配置表!A399)","v":396},{"$f":"IF(語言配置表!A399=\"\",\"CN_待填充内容\",語言配置表!B399)","v":"烈焰剑"}]
[{"$f":"IF(語言配置表!A400=\"\",\"\",語言配置表!A400)","v":397},{"$f":"IF(語言配置表!A400=\"\",\"CN_待填充内容\",語言配置表!B400)","v":"烈焰剑"}]
[{"$f":"IF(語言配置表!A401=\"\",\"\",語言配置表!A401)","v":398},{"$f":"IF(語言配置表!A401=\"\",\"CN_待填充内容\",語言配置表!B401)","v":"烈焰剑"}]
[{"$f":"IF(語言配置表!A402=\"\",\"\",語言配置表!A402)","v":399},{"$f":"IF(語言配置表!A402=\"\",\"CN_待填充内容\",語言配置表!B402)","v":"烈焰剑"}]
[{"$f":"IF(語言配置表!A403=\"\",\"\",語言配置表!A403)","v":400},{"$f":"IF(語言配置表!A403=\"\",\"CN_待填充内容\",語言配置表!B403)","v":"赤焰龙吟功"}]
[{"$f":"IF(語言配置表!A404=\"\",\"\",語言配置表!A404)","v":401},{"$f":"IF(語言配置表!A404=\"\",\"CN_待填充内容\",語言配置表!B404)","v":"赤焰龙吟功"}]
[{"$f":"IF(語言配置表!A405=\"\",\"\",語言配置表!A405)","v":402},{"$f":"IF(語言配置表!A405=\"\",\"CN_待填充内容\",語言配置表!B405)","v":"赤焰龙吟功"}]
[{"$f":"IF(語言配置表!A406=\"\",\"\",語言配置表!A406)","v":403},{"$f":"IF(語言配置表!A406=\"\",\"CN_待填充内容\",語言配置表!B406)","v":"赤焰龙吟功"}]
[{"$f":"IF(語言配置表!A407=\"\",\"\",語言配置表!A407)","v":404},{"$f":"IF(語言配置表!A407=\"\",\"CN_待填充内容\",語言配置表!B407)","v":"赤焰龙吟功"}]
[{"$f":"IF(語言配置表!A408=\"\",\"\",語言配置表!A408)","v":405},{"$f":"IF(語言配置表!A408=\"\",\"CN_待填充内容\",語言配置表!B408)","v":"赤焰龙吟功"}]
[{"$f":"IF(語言配置表!A409=\"\",\"\",語言配置表!A409)","v":406},{"$f":"IF(語言配置表!A409=\"\",\"CN_待填充内容\",語言配置表!B409)","v":"朱雀燎原指"}]
[{"$f":"IF(語言配置表!A410=\"\",\"\",語言配置表!A410)","v":407},{"$f":"IF(語言配置表!A410=\"\",\"CN_待填充内容\",語言配置表!B410)","v":"朱雀燎原指"}]
[{"$f":"IF(語言配置表!A411=\"\",\"\",語言配置表!A411)","v":408},{"$f":"IF(語言配置表!A411=\"\",\"CN_待填充内容\",語言配置表!B411)","v":"朱雀燎原指"}]
[{"$f":"IF(語言配置表!A412=\"\",\"\",語言配置表!A412)","v":409},{"$f":"IF(語言配置表!A412=\"\",\"CN_待填充内容\",語言配置表!B412)","v":"朱雀燎原指"}]
[{"$f":"IF(語言配置表!A413=\"\",\"\",語言配置表!A413)","v":410},{"$f":"IF(語言配置表!A413=\"\",\"CN_待填充内容\",語言配置表!B413)","v":"朱雀燎原指"}]
[{"$f":"IF(語言配置表!A414=\"\",\"\",語言配置表!A414)","v":411},{"$f":"IF(語言配置表!A414=\"\",\"CN_待填充内容\",語言配置表!B414)","v":"朱雀燎原指"}]
[{"$f":"IF(語言配置表!A415=\"\",\"\",語言配置表!A415)","v":412},{"$f":"IF(語言配置表!A415=\"\",\"CN_待填充内容\",語言配置表!B415)","v":"火球"}]
[{"$f":"IF(語言配置表!A416=\"\",\"\",語言配置表!A416)","v":413},{"$f":"IF(語言配置表!A416=\"\",\"CN_待填充内容\",語言配置表!B416)","v":"火球"}]
[{"$f":"IF(語言配置表!A417=\"\",\"\",語言配置表!A417)","v":414},{"$f":"IF(語言配置表!A417=\"\",\"CN_待填充内容\",語言配置表!B417)","v":"火球"}]
[{"$f":"IF(語言配置表!A418=\"\",\"\",語言配置表!A418)","v":415},{"$f":"IF(語言配置表!A418=\"\",\"CN_待填充内容\",語言配置表!B418)","v":"火球"}]
[{"$f":"IF(語言配置表!A419=\"\",\"\",語言配置表!A419)","v":416},{"$f":"IF(語言配置表!A419=\"\",\"CN_待填充内容\",語言配置表!B419)","v":"火球"}]
[{"$f":"IF(語言配置表!A420=\"\",\"\",語言配置表!A420)","v":417},{"$f":"IF(語言配置表!A420=\"\",\"CN_待填充内容\",語言配置表!B420)","v":"火球"}]
[{"$f":"IF(語言配置表!A421=\"\",\"\",語言配置表!A421)","v":418},{"$f":"IF(語言配置表!A421=\"\",\"CN_待填充内容\",語言配置表!B421)","v":"火刀"}]
[{"$f":"IF(語言配置表!A422=\"\",\"\",語言配置表!A422)","v":419},{"$f":"IF(語言配置表!A422=\"\",\"CN_待填充内容\",語言配置表!B422)","v":"火刀"}]
[{"$f":"IF(語言配置表!A423=\"\",\"\",語言配置表!A423)","v":420},{"$f":"IF(語言配置表!A423=\"\",\"CN_待填充内容\",語言配置表!B423)","v":"火刀"}]
[{"$f":"IF(語言配置表!A424=\"\",\"\",語言配置表!A424)","v":421},{"$f":"IF(語言配置表!A424=\"\",\"CN_待填充内容\",語言配置表!B424)","v":"火刀"}]
[{"$f":"IF(語言配置表!A425=\"\",\"\",語言配置表!A425)","v":422},{"$f":"IF(語言配置表!A425=\"\",\"CN_待填充内容\",語言配置表!B425)","v":"火刀"}]
[{"$f":"IF(語言配置表!A426=\"\",\"\",語言配置表!A426)","v":423},{"$f":"IF(語言配置表!A426=\"\",\"CN_待填充内容\",語言配置表!B426)","v":"火刀"}]
[{"$f":"IF(語言配置表!A427=\"\",\"\",語言配置表!A427)","v":424},{"$f":"IF(語言配置表!A427=\"\",\"CN_待填充内容\",語言配置表!B427)","v":"黄尘灭魂刺"}]
[{"$f":"IF(語言配置表!A428=\"\",\"\",語言配置表!A428)","v":425},{"$f":"IF(語言配置表!A428=\"\",\"CN_待填充内容\",語言配置表!B428)","v":"黄尘灭魂刺"}]
[{"$f":"IF(語言配置表!A429=\"\",\"\",語言配置表!A429)","v":426},{"$f":"IF(語言配置表!A429=\"\",\"CN_待填充内容\",語言配置表!B429)","v":"黄尘灭魂刺"}]
[{"$f":"IF(語言配置表!A430=\"\",\"\",語言配置表!A430)","v":427},{"$f":"IF(語言配置表!A430=\"\",\"CN_待填充内容\",語言配置表!B430)","v":"黄尘灭魂刺"}]
[{"$f":"IF(語言配置表!A431=\"\",\"\",語言配置表!A431)","v":428},{"$f":"IF(語言配置表!A431=\"\",\"CN_待填充内容\",語言配置表!B431)","v":"黄尘灭魂刺"}]
[{"$f":"IF(語言配置表!A432=\"\",\"\",語言配置表!A432)","v":429},{"$f":"IF(語言配置表!A432=\"\",\"CN_待填充内容\",語言配置表!B432)","v":"黄尘灭魂刺"}]
[{"$f":"IF(語言配置表!A433=\"\",\"\",語言配置表!A433)","v":430},{"$f":"IF(語言配置表!A433=\"\",\"CN_待填充内容\",語言配置表!B433)","v":"地裂屠龙斩"}]
[{"$f":"IF(語言配置表!A434=\"\",\"\",語言配置表!A434)","v":431},{"$f":"IF(語言配置表!A434=\"\",\"CN_待填充内容\",語言配置表!B434)","v":"地裂屠龙斩"}]
[{"$f":"IF(語言配置表!A435=\"\",\"\",語言配置表!A435)","v":432},{"$f":"IF(語言配置表!A435=\"\",\"CN_待填充内容\",語言配置表!B435)","v":"地裂屠龙斩"}]
[{"$f":"IF(語言配置表!A436=\"\",\"\",語言配置表!A436)","v":433},{"$f":"IF(語言配置表!A436=\"\",\"CN_待填充内容\",語言配置表!B436)","v":"地裂屠龙斩"}]
[{"$f":"IF(語言配置表!A437=\"\",\"\",語言配置表!A437)","v":434},{"$f":"IF(語言配置表!A437=\"\",\"CN_待填充内容\",語言配置表!B437)","v":"地裂屠龙斩"}]
[{"$f":"IF(語言配置表!A438=\"\",\"\",語言配置表!A438)","v":435},{"$f":"IF(語言配置表!A438=\"\",\"CN_待填充内容\",語言配置表!B438)","v":"地裂屠龙斩"}]
[{"$f":"IF(語言配置表!A439=\"\",\"\",語言配置表!A439)","v":436},{"$f":"IF(語言配置表!A439=\"\",\"CN_待填充内容\",語言配置表!B439)","v":0}]
[{"$f":"IF(語言配置表!A440=\"\",\"\",語言配置表!A440)","v":437},{"$f":"IF(語言配置表!A440=\"\",\"CN_待填充内容\",語言配置表!B440)","v":0}]
[{"$f":"IF(語言配置表!A441=\"\",\"\",語言配置表!A441)","v":438},{"$f":"IF(語言配置表!A441=\"\",\"CN_待填充内容\",語言配置表!B441)","v":0}]
[{"$f":"IF(語言配置表!A442=\"\",\"\",語言配置表!A442)","v":439},{"$f":"IF(語言配置表!A442=\"\",\"CN_待填充内容\",語言配置表!B442)","v":0}]
[{"$f":"IF(語言配置表!A443=\"\",\"\",語言配置表!A443)","v":440},{"$f":"IF(語言配置表!A443=\"\",\"CN_待填充内容\",語言配置表!B443)","v":0}]
[{"$f":"IF(語言配置表!A444=\"\",\"\",語言配置表!A444)","v":441},{"$f":"IF(語言配置表!A444=\"\",\"CN_待填充内容\",語言配置表!B444)","v":0}]
[{"$f":"IF(語言配置表!A445=\"\",\"\",語言配置表!A445)","v":442},{"$f":"IF(語言配置表!A445=\"\",\"CN_待填充内容\",語言配置表!B445)","v":"小石头"}]
[{"$f":"IF(語言配置表!A446=\"\",\"\",語言配置表!A446)","v":443},{"$f":"IF(語言配置表!A446=\"\",\"CN_待填充内容\",語言配置表!B446)","v":"小石头"}]
[{"$f":"IF(語言配置表!A447=\"\",\"\",語言配置表!A447)","v":444},{"$f":"IF(語言配置表!A447=\"\",\"CN_待填充内容\",語言配置表!B447)","v":"小石头"}]
[{"$f":"IF(語言配置表!A448=\"\",\"\",語言配置表!A448)","v":445},{"$f":"IF(語言配置表!A448=\"\",\"CN_待填充内容\",語言配置表!B448)","v":"小石头"}]
[{"$f":"IF(語言配置表!A449=\"\",\"\",語言配置表!A449)","v":446},{"$f":"IF(語言配置表!A449=\"\",\"CN_待填充内容\",語言配置表!B449)","v":"小石头"}]
[{"$f":"IF(語言配置表!A450=\"\",\"\",語言配置表!A450)","v":447},{"$f":"IF(語言配置表!A450=\"\",\"CN_待填充内容\",語言配置表!B450)","v":"小石头"}]
[{"$f":"IF(語言配置表!A451=\"\",\"\",語言配置表!A451)","v":448},{"$f":"IF(語言配置表!A451=\"\",\"CN_待填充内容\",語言配置表!B451)","v":"天衍星辰诀"}]
[{"$f":"IF(語言配置表!A452=\"\",\"\",語言配置表!A452)","v":449},{"$f":"IF(語言配置表!A452=\"\",\"CN_待填充内容\",語言配置表!B452)","v":"天衍星辰诀"}]
[{"$f":"IF(語言配置表!A453=\"\",\"\",語言配置表!A453)","v":450},{"$f":"IF(語言配置表!A453=\"\",\"CN_待填充内容\",語言配置表!B453)","v":"天衍星辰诀"}]
[{"$f":"IF(語言配置表!A454=\"\",\"\",語言配置表!A454)","v":451},{"$f":"IF(語言配置表!A454=\"\",\"CN_待填充内容\",語言配置表!B454)","v":"天衍星辰诀"}]
[{"$f":"IF(語言配置表!A455=\"\",\"\",語言配置表!A455)","v":452},{"$f":"IF(語言配置表!A455=\"\",\"CN_待填充内容\",語言配置表!B455)","v":"天衍星辰诀"}]
[{"$f":"IF(語言配置表!A456=\"\",\"\",語言配置表!A456)","v":453},{"$f":"IF(語言配置表!A456=\"\",\"CN_待填充内容\",語言配置表!B456)","v":"天衍星辰诀"}]
[{"$f":"IF(語言配置表!A457=\"\",\"\",語言配置表!A457)","v":454},{"$f":"IF(語言配置表!A457=\"\",\"CN_待填充内容\",語言配置表!B457)","v":"法宝秘籍"}]
[{"$f":"IF(語言配置表!A458=\"\",\"\",語言配置表!A458)","v":455},{"$f":"IF(語言配置表!A458=\"\",\"CN_待填充内容\",語言配置表!B458)","v":"法宝秘籍"}]
[{"$f":"IF(語言配置表!A459=\"\",\"\",語言配置表!A459)","v":456},{"$f":"IF(語言配置表!A459=\"\",\"CN_待填充内容\",語言配置表!B459)","v":"法宝秘籍"}]
[{"$f":"IF(語言配置表!A460=\"\",\"\",語言配置表!A460)","v":457},{"$f":"IF(語言配置表!A460=\"\",\"CN_待填充内容\",語言配置表!B460)","v":"法宝秘籍"}]
[{"$f":"IF(語言配置表!A461=\"\",\"\",語言配置表!A461)","v":458},{"$f":"IF(語言配置表!A461=\"\",\"CN_待填充内容\",語言配置表!B461)","v":"法宝秘籍"}]
[{"$f":"IF(語言配置表!A462=\"\",\"\",語言配置表!A462)","v":459},{"$f":"IF(語言配置表!A462=\"\",\"CN_待填充内容\",語言配置表!B462)","v":"法宝秘籍"}]
[{"$f":"IF(語言配置表!A463=\"\",\"\",語言配置表!A463)","v":460},{"$f":"IF(語言配置表!A463=\"\",\"CN_待填充内容\",語言配置表!B463)","v":"崩脉决"}]
[{"$f":"IF(語言配置表!A464=\"\",\"\",語言配置表!A464)","v":461},{"$f":"IF(語言配置表!A464=\"\",\"CN_待填充内容\",語言配置表!B464)","v":"崩脉决"}]
[{"$f":"IF(語言配置表!A465=\"\",\"\",語言配置表!A465)","v":462},{"$f":"IF(語言配置表!A465=\"\",\"CN_待填充内容\",語言配置表!B465)","v":"崩脉决"}]
[{"$f":"IF(語言配置表!A466=\"\",\"\",語言配置表!A466)","v":463},{"$f":"IF(語言配置表!A466=\"\",\"CN_待填充内容\",語言配置表!B466)","v":"崩脉决"}]
[{"$f":"IF(語言配置表!A467=\"\",\"\",語言配置表!A467)","v":464},{"$f":"IF(語言配置表!A467=\"\",\"CN_待填充内容\",語言配置表!B467)","v":"崩脉决"}]
[{"$f":"IF(語言配置表!A468=\"\",\"\",語言配置表!A468)","v":465},{"$f":"IF(語言配置表!A468=\"\",\"CN_待填充内容\",語言配置表!B468)","v":"崩脉决"}]
[{"$f":"IF(語言配置表!A469=\"\",\"\",語言配置表!A469)","v":466},{"$f":"IF(語言配置表!A469=\"\",\"CN_待填充内容\",語言配置表!B469)","v":"两仪决"}]
[{"$f":"IF(語言配置表!A470=\"\",\"\",語言配置表!A470)","v":467},{"$f":"IF(語言配置表!A470=\"\",\"CN_待填充内容\",語言配置表!B470)","v":"两仪决"}]
[{"$f":"IF(語言配置表!A471=\"\",\"\",語言配置表!A471)","v":468},{"$f":"IF(語言配置表!A471=\"\",\"CN_待填充内容\",語言配置表!B471)","v":"两仪决"}]
[{"$f":"IF(語言配置表!A472=\"\",\"\",語言配置表!A472)","v":469},{"$f":"IF(語言配置表!A472=\"\",\"CN_待填充内容\",語言配置表!B472)","v":"两仪决"}]
[{"$f":"IF(語言配置表!A473=\"\",\"\",語言配置表!A473)","v":470},{"$f":"IF(語言配置表!A473=\"\",\"CN_待填充内容\",語言配置表!B473)","v":"两仪决"}]
[{"$f":"IF(語言配置表!A474=\"\",\"\",語言配置表!A474)","v":471},{"$f":"IF(語言配置表!A474=\"\",\"CN_待填充内容\",語言配置表!B474)","v":"两仪决"}]
[{"$f":"IF(語言配置表!A475=\"\",\"\",語言配置表!A475)","v":472},{"$f":"IF(語言配置表!A475=\"\",\"CN_待填充内容\",語言配置表!B475)","v":"火焰决"}]
[{"$f":"IF(語言配置表!A476=\"\",\"\",語言配置表!A476)","v":473},{"$f":"IF(語言配置表!A476=\"\",\"CN_待填充内容\",語言配置表!B476)","v":"火焰决"}]
[{"$f":"IF(語言配置表!A477=\"\",\"\",語言配置表!A477)","v":474},{"$f":"IF(語言配置表!A477=\"\",\"CN_待填充内容\",語言配置表!B477)","v":"火焰决"}]
[{"$f":"IF(語言配置表!A478=\"\",\"\",語言配置表!A478)","v":475},{"$f":"IF(語言配置表!A478=\"\",\"CN_待填充内容\",語言配置表!B478)","v":"火焰决"}]
[{"$f":"IF(語言配置表!A479=\"\",\"\",語言配置表!A479)","v":476},{"$f":"IF(語言配置表!A479=\"\",\"CN_待填充内容\",語言配置表!B479)","v":"火焰决"}]
[{"$f":"IF(語言配置表!A480=\"\",\"\",語言配置表!A480)","v":477},{"$f":"IF(語言配置表!A480=\"\",\"CN_待填充内容\",語言配置表!B480)","v":"火焰决"}]
[{"$f":"IF(語言配置表!A481=\"\",\"\",語言配置表!A481)","v":478},{"$f":"IF(語言配置表!A481=\"\",\"CN_待填充内容\",語言配置表!B481)","v":"乾坤巨灵诀"}]
[{"$f":"IF(語言配置表!A482=\"\",\"\",語言配置表!A482)","v":479},{"$f":"IF(語言配置表!A482=\"\",\"CN_待填充内容\",語言配置表!B482)","v":"乾坤巨灵诀"}]
[{"$f":"IF(語言配置表!A483=\"\",\"\",語言配置表!A483)","v":480},{"$f":"IF(語言配置表!A483=\"\",\"CN_待填充内容\",語言配置表!B483)","v":"乾坤巨灵诀"}]
[{"$f":"IF(語言配置表!A484=\"\",\"\",語言配置表!A484)","v":481},{"$f":"IF(語言配置表!A484=\"\",\"CN_待填充内容\",語言配置表!B484)","v":"乾坤巨灵诀"}]
[{"$f":"IF(語言配置表!A485=\"\",\"\",語言配置表!A485)","v":482},{"$f":"IF(語言配置表!A485=\"\",\"CN_待填充内容\",語言配置表!B485)","v":"乾坤巨灵诀"}]
[{"$f":"IF(語言配置表!A486=\"\",\"\",語言配置表!A486)","v":483},{"$f":"IF(語言配置表!A486=\"\",\"CN_待填充内容\",語言配置表!B486)","v":"乾坤巨灵诀"}]
[{"$f":"IF(語言配置表!A487=\"\",\"\",語言配置表!A487)","v":484},{"$f":"IF(語言配置表!A487=\"\",\"CN_待填充内容\",語言配置表!B487)","v":"极速齿轮"}]
[{"$f":"IF(語言配置表!A488=\"\",\"\",語言配置表!A488)","v":485},{"$f":"IF(語言配置表!A488=\"\",\"CN_待填充内容\",語言配置表!B488)","v":"极速齿轮"}]
[{"$f":"IF(語言配置表!A489=\"\",\"\",語言配置表!A489)","v":486},{"$f":"IF(語言配置表!A489=\"\",\"CN_待填充内容\",語言配置表!B489)","v":"极速齿轮"}]
[{"$f":"IF(語言配置表!A490=\"\",\"\",語言配置表!A490)","v":487},{"$f":"IF(語言配置表!A490=\"\",\"CN_待填充内容\",語言配置表!B490)","v":"极速齿轮"}]
[{"$f":"IF(語言配置表!A491=\"\",\"\",語言配置表!A491)","v":488},{"$f":"IF(語言配置表!A491=\"\",\"CN_待填充内容\",語言配置表!B491)","v":"极速齿轮"}]
[{"$f":"IF(語言配置表!A492=\"\",\"\",語言配置表!A492)","v":489},{"$f":"IF(語言配置表!A492=\"\",\"CN_待填充内容\",語言配置表!B492)","v":"极速齿轮"}]
[{"$f":"IF(語言配置表!A493=\"\",\"\",語言配置表!A493)","v":490},{"$f":"IF(語言配置表!A493=\"\",\"CN_待填充内容\",語言配置表!B493)","v":"太虚剑意"}]
[{"$f":"IF(語言配置表!A494=\"\",\"\",語言配置表!A494)","v":491},{"$f":"IF(語言配置表!A494=\"\",\"CN_待填充内容\",語言配置表!B494)","v":"太虚剑意"}]
[{"$f":"IF(語言配置表!A495=\"\",\"\",語言配置表!A495)","v":492},{"$f":"IF(語言配置表!A495=\"\",\"CN_待填充内容\",語言配置表!B495)","v":"太虚剑意"}]
[{"$f":"IF(語言配置表!A496=\"\",\"\",語言配置表!A496)","v":493},{"$f":"IF(語言配置表!A496=\"\",\"CN_待填充内容\",語言配置表!B496)","v":"太虚剑意"}]
[{"$f":"IF(語言配置表!A497=\"\",\"\",語言配置表!A497)","v":494},{"$f":"IF(語言配置表!A497=\"\",\"CN_待填充内容\",語言配置表!B497)","v":"太虚剑意"}]
[{"$f":"IF(語言配置表!A498=\"\",\"\",語言配置表!A498)","v":495},{"$f":"IF(語言配置表!A498=\"\",\"CN_待填充内容\",語言配置表!B498)","v":"太虚剑意"}]
[{"$f":"IF(語言配置表!A499=\"\",\"\",語言配置表!A499)","v":496},{"$f":"IF(語言配置表!A499=\"\",\"CN_待填充内容\",語言配置表!B499)","v":"神龙鼎"}]
[{"$f":"IF(語言配置表!A500=\"\",\"\",語言配置表!A500)","v":497},{"$f":"IF(語言配置表!A500=\"\",\"CN_待填充内容\",語言配置表!B500)","v":"神龙鼎"}]
[{"$f":"IF(語言配置表!A501=\"\",\"\",語言配置表!A501)","v":498},{"$f":"IF(語言配置表!A501=\"\",\"CN_待填充内容\",語言配置表!B501)","v":"神龙鼎"}]
[{"$f":"IF(語言配置表!A502=\"\",\"\",語言配置表!A502)","v":499},{"$f":"IF(語言配置表!A502=\"\",\"CN_待填充内容\",語言配置表!B502)","v":"神龙鼎"}]
[{"$f":"IF(語言配置表!A503=\"\",\"\",語言配置表!A503)","v":500},{"$f":"IF(語言配置表!A503=\"\",\"CN_待填充内容\",語言配置表!B503)","v":"神龙鼎"}]
[{"$f":"IF(語言配置表!A504=\"\",\"\",語言配置表!A504)","v":501},{"$f":"IF(語言配置表!A504=\"\",\"CN_待填充内容\",語言配置表!B504)","v":"神龙鼎"}]
[{"$f":"IF(語言配置表!A505=\"\",\"\",語言配置表!A505)","v":502},{"$f":"IF(語言配置表!A505=\"\",\"CN_待填充内容\",語言配置表!B505)","v":"破天斧"}]
[{"$f":"IF(語言配置表!A506=\"\",\"\",語言配置表!A506)","v":503},{"$f":"IF(語言配置表!A506=\"\",\"CN_待填充内容\",語言配置表!B506)","v":"破天斧"}]
[{"$f":"IF(語言配置表!A507=\"\",\"\",語言配置表!A507)","v":504},{"$f":"IF(語言配置表!A507=\"\",\"CN_待填充内容\",語言配置表!B507)","v":"破天斧"}]
[{"$f":"IF(語言配置表!A508=\"\",\"\",語言配置表!A508)","v":505},{"$f":"IF(語言配置表!A508=\"\",\"CN_待填充内容\",語言配置表!B508)","v":"破天斧"}]
[{"$f":"IF(語言配置表!A509=\"\",\"\",語言配置表!A509)","v":506},{"$f":"IF(語言配置表!A509=\"\",\"CN_待填充内容\",語言配置表!B509)","v":"破天斧"}]
[{"$f":"IF(語言配置表!A510=\"\",\"\",語言配置表!A510)","v":507},{"$f":"IF(語言配置表!A510=\"\",\"CN_待填充内容\",語言配置表!B510)","v":"破天斧"}]
[{"$f":"IF(語言配置表!A511=\"\",\"\",語言配置表!A511)","v":508},{"$f":"IF(語言配置表!A511=\"\",\"CN_待填充内容\",語言配置表!B511)","v":"翡翠葫芦"}]
[{"$f":"IF(語言配置表!A512=\"\",\"\",語言配置表!A512)","v":509},{"$f":"IF(語言配置表!A512=\"\",\"CN_待填充内容\",語言配置表!B512)","v":"翡翠葫芦"}]
[{"$f":"IF(語言配置表!A513=\"\",\"\",語言配置表!A513)","v":510},{"$f":"IF(語言配置表!A513=\"\",\"CN_待填充内容\",語言配置表!B513)","v":"翡翠葫芦"}]
[{"$f":"IF(語言配置表!A514=\"\",\"\",語言配置表!A514)","v":511},{"$f":"IF(語言配置表!A514=\"\",\"CN_待填充内容\",語言配置表!B514)","v":"翡翠葫芦"}]
[{"$f":"IF(語言配置表!A515=\"\",\"\",語言配置表!A515)","v":512},{"$f":"IF(語言配置表!A515=\"\",\"CN_待填充内容\",語言配置表!B515)","v":"翡翠葫芦"}]
[{"$f":"IF(語言配置表!A516=\"\",\"\",語言配置表!A516)","v":513},{"$f":"IF(語言配置表!A516=\"\",\"CN_待填充内容\",語言配置表!B516)","v":"翡翠葫芦"}]
[{"$f":"IF(語言配置表!A517=\"\",\"\",語言配置表!A517)","v":514},{"$f":"IF(語言配置表!A517=\"\",\"CN_待填充内容\",語言配置表!B517)","v":"混沌珠"}]
[{"$f":"IF(語言配置表!A518=\"\",\"\",語言配置表!A518)","v":515},{"$f":"IF(語言配置表!A518=\"\",\"CN_待填充内容\",語言配置表!B518)","v":"混沌珠"}]
[{"$f":"IF(語言配置表!A519=\"\",\"\",語言配置表!A519)","v":516},{"$f":"IF(語言配置表!A519=\"\",\"CN_待填充内容\",語言配置表!B519)","v":"混沌珠"}]
[{"$f":"IF(語言配置表!A520=\"\",\"\",語言配置表!A520)","v":517},{"$f":"IF(語言配置表!A520=\"\",\"CN_待填充内容\",語言配置表!B520)","v":"混沌珠"}]
[{"$f":"IF(語言配置表!A521=\"\",\"\",語言配置表!A521)","v":518},{"$f":"IF(語言配置表!A521=\"\",\"CN_待填充内容\",語言配置表!B521)","v":"混沌珠"}]
[{"$f":"IF(語言配置表!A522=\"\",\"\",語言配置表!A522)","v":519},{"$f":"IF(語言配置表!A522=\"\",\"CN_待填充内容\",語言配置表!B522)","v":"混沌珠"}]
[{"$f":"IF(語言配置表!A523=\"\",\"\",語言配置表!A523)","v":520},{"$f":"IF(語言配置表!A523=\"\",\"CN_待填充内容\",語言配置表!B523)","v":"琉璃宝塔"}]
[{"$f":"IF(語言配置表!A524=\"\",\"\",語言配置表!A524)","v":521},{"$f":"IF(語言配置表!A524=\"\",\"CN_待填充内容\",語言配置表!B524)","v":"琉璃宝塔"}]
[{"$f":"IF(語言配置表!A525=\"\",\"\",語言配置表!A525)","v":522},{"$f":"IF(語言配置表!A525=\"\",\"CN_待填充内容\",語言配置表!B525)","v":"琉璃宝塔"}]
[{"$f":"IF(語言配置表!A526=\"\",\"\",語言配置表!A526)","v":523},{"$f":"IF(語言配置表!A526=\"\",\"CN_待填充内容\",語言配置表!B526)","v":"琉璃宝塔"}]
[{"$f":"IF(語言配置表!A527=\"\",\"\",語言配置表!A527)","v":524},{"$f":"IF(語言配置表!A527=\"\",\"CN_待填充内容\",語言配置表!B527)","v":"琉璃宝塔"}]
[{"$f":"IF(語言配置表!A528=\"\",\"\",語言配置表!A528)","v":525},{"$f":"IF(語言配置表!A528=\"\",\"CN_待填充内容\",語言配置表!B528)","v":"琉璃宝塔"}]
[{"$f":"IF(語言配置表!A529=\"\",\"\",語言配置表!A529)","v":526},{"$f":"IF(語言配置表!A529=\"\",\"CN_待填充内容\",語言配置表!B529)","v":"九幽镇魂瓶"}]
[{"$f":"IF(語言配置表!A530=\"\",\"\",語言配置表!A530)","v":527},{"$f":"IF(語言配置表!A530=\"\",\"CN_待填充内容\",語言配置表!B530)","v":"九幽镇魂瓶"}]
[{"$f":"IF(語言配置表!A531=\"\",\"\",語言配置表!A531)","v":528},{"$f":"IF(語言配置表!A531=\"\",\"CN_待填充内容\",語言配置表!B531)","v":"九幽镇魂瓶"}]
[{"$f":"IF(語言配置表!A532=\"\",\"\",語言配置表!A532)","v":529},{"$f":"IF(語言配置表!A532=\"\",\"CN_待填充内容\",語言配置表!B532)","v":"九幽镇魂瓶"}]
[{"$f":"IF(語言配置表!A533=\"\",\"\",語言配置表!A533)","v":530},{"$f":"IF(語言配置表!A533=\"\",\"CN_待填充内容\",語言配置表!B533)","v":"九幽镇魂瓶"}]
[{"$f":"IF(語言配置表!A534=\"\",\"\",語言配置表!A534)","v":531},{"$f":"IF(語言配置表!A534=\"\",\"CN_待填充内容\",語言配置表!B534)","v":"九幽镇魂瓶"}]
[{"$f":"IF(語言配置表!A535=\"\",\"\",語言配置表!A535)","v":532},{"$f":"IF(語言配置表!A535=\"\",\"CN_待填充内容\",語言配置表!B535)","v":"玉莲守心灯"}]
[{"$f":"IF(語言配置表!A536=\"\",\"\",語言配置表!A536)","v":533},{"$f":"IF(語言配置表!A536=\"\",\"CN_待填充内容\",語言配置表!B536)","v":"玉莲守心灯"}]
[{"$f":"IF(語言配置表!A537=\"\",\"\",語言配置表!A537)","v":534},{"$f":"IF(語言配置表!A537=\"\",\"CN_待填充内容\",語言配置表!B537)","v":"玉莲守心灯"}]
[{"$f":"IF(語言配置表!A538=\"\",\"\",語言配置表!A538)","v":535},{"$f":"IF(語言配置表!A538=\"\",\"CN_待填充内容\",語言配置表!B538)","v":"玉莲守心灯"}]
[{"$f":"IF(語言配置表!A539=\"\",\"\",語言配置表!A539)","v":536},{"$f":"IF(語言配置表!A539=\"\",\"CN_待填充内容\",語言配置表!B539)","v":"玉莲守心灯"}]
[{"$f":"IF(語言配置表!A540=\"\",\"\",語言配置表!A540)","v":537},{"$f":"IF(語言配置表!A540=\"\",\"CN_待填充内容\",語言配置表!B540)","v":"玉莲守心灯"}]
[{"$f":"IF(語言配置表!A541=\"\",\"\",語言配置表!A541)","v":538},{"$f":"IF(語言配置表!A541=\"\",\"CN_待填充内容\",語言配置表!B541)","v":"融灵塔"}]
[{"$f":"IF(語言配置表!A542=\"\",\"\",語言配置表!A542)","v":539},{"$f":"IF(語言配置表!A542=\"\",\"CN_待填充内容\",語言配置表!B542)","v":"融灵塔"}]
[{"$f":"IF(語言配置表!A543=\"\",\"\",語言配置表!A543)","v":540},{"$f":"IF(語言配置表!A543=\"\",\"CN_待填充内容\",語言配置表!B543)","v":"融灵塔"}]
[{"$f":"IF(語言配置表!A544=\"\",\"\",語言配置表!A544)","v":541},{"$f":"IF(語言配置表!A544=\"\",\"CN_待填充内容\",語言配置表!B544)","v":"融灵塔"}]
[{"$f":"IF(語言配置表!A545=\"\",\"\",語言配置表!A545)","v":542},{"$f":"IF(語言配置表!A545=\"\",\"CN_待填充内容\",語言配置表!B545)","v":"融灵塔"}]
[{"$f":"IF(語言配置表!A546=\"\",\"\",語言配置表!A546)","v":543},{"$f":"IF(語言配置表!A546=\"\",\"CN_待填充内容\",語言配置表!B546)","v":"融灵塔"}]
[{"$f":"IF(語言配置表!A547=\"\",\"\",語言配置表!A547)","v":544},{"$f":"IF(語言配置表!A547=\"\",\"CN_待填充内容\",語言配置表!B547)","v":"禁元珠"}]
[{"$f":"IF(語言配置表!A548=\"\",\"\",語言配置表!A548)","v":545},{"$f":"IF(語言配置表!A548=\"\",\"CN_待填充内容\",語言配置表!B548)","v":"禁元珠"}]
[{"$f":"IF(語言配置表!A549=\"\",\"\",語言配置表!A549)","v":546},{"$f":"IF(語言配置表!A549=\"\",\"CN_待填充内容\",語言配置表!B549)","v":"禁元珠"}]
[{"$f":"IF(語言配置表!A550=\"\",\"\",語言配置表!A550)","v":547},{"$f":"IF(語言配置表!A550=\"\",\"CN_待填充内容\",語言配置表!B550)","v":"禁元珠"}]
[{"$f":"IF(語言配置表!A551=\"\",\"\",語言配置表!A551)","v":548},{"$f":"IF(語言配置表!A551=\"\",\"CN_待填充内容\",語言配置表!B551)","v":"禁元珠"}]
[{"$f":"IF(語言配置表!A552=\"\",\"\",語言配置表!A552)","v":549},{"$f":"IF(語言配置表!A552=\"\",\"CN_待填充内容\",語言配置表!B552)","v":"禁元珠"}]
[{"$f":"IF(語言配置表!A553=\"\",\"\",語言配置表!A553)","v":550},{"$f":"IF(語言配置表!A553=\"\",\"CN_待填充内容\",語言配置表!B553)","v":"玄龟盾"}]
[{"$f":"IF(語言配置表!A554=\"\",\"\",語言配置表!A554)","v":551},{"$f":"IF(語言配置表!A554=\"\",\"CN_待填充内容\",語言配置表!B554)","v":"玄龟盾"}]
[{"$f":"IF(語言配置表!A555=\"\",\"\",語言配置表!A555)","v":552},{"$f":"IF(語言配置表!A555=\"\",\"CN_待填充内容\",語言配置表!B555)","v":"玄龟盾"}]
[{"$f":"IF(語言配置表!A556=\"\",\"\",語言配置表!A556)","v":553},{"$f":"IF(語言配置表!A556=\"\",\"CN_待填充内容\",語言配置表!B556)","v":"玄龟盾"}]
[{"$f":"IF(語言配置表!A557=\"\",\"\",語言配置表!A557)","v":554},{"$f":"IF(語言配置表!A557=\"\",\"CN_待填充内容\",語言配置表!B557)","v":"玄龟盾"}]
[{"$f":"IF(語言配置表!A558=\"\",\"\",語言配置表!A558)","v":555},{"$f":"IF(語言配置表!A558=\"\",\"CN_待填充内容\",語言配置表!B558)","v":"玄龟盾"}]
[{"$f":"IF(語言配置表!A559=\"\",\"\",語言配置表!A559)","v":556},{"$f":"IF(語言配置表!A559=\"\",\"CN_待填充内容\",語言配置表!B559)","v":"天殇血刃剑"}]
[{"$f":"IF(語言配置表!A560=\"\",\"\",語言配置表!A560)","v":557},{"$f":"IF(語言配置表!A560=\"\",\"CN_待填充内容\",語言配置表!B560)","v":"天殇血刃剑"}]
[{"$f":"IF(語言配置表!A561=\"\",\"\",語言配置表!A561)","v":558},{"$f":"IF(語言配置表!A561=\"\",\"CN_待填充内容\",語言配置表!B561)","v":"天殇血刃剑"}]
[{"$f":"IF(語言配置表!A562=\"\",\"\",語言配置表!A562)","v":559},{"$f":"IF(語言配置表!A562=\"\",\"CN_待填充内容\",語言配置表!B562)","v":"天殇血刃剑"}]
[{"$f":"IF(語言配置表!A563=\"\",\"\",語言配置表!A563)","v":560},{"$f":"IF(語言配置表!A563=\"\",\"CN_待填充内容\",語言配置表!B563)","v":"天殇血刃剑"}]
[{"$f":"IF(語言配置表!A564=\"\",\"\",語言配置表!A564)","v":561},{"$f":"IF(語言配置表!A564=\"\",\"CN_待填充内容\",語言配置表!B564)","v":"天殇血刃剑"}]
[{"$f":"IF(語言配置表!A565=\"\",\"\",語言配置表!A565)","v":562},{"$f":"IF(語言配置表!A565=\"\",\"CN_待填充内容\",語言配置表!B565)","v":"技能名称预留，勿占"}]
[{"$f":"IF(語言配置表!A566=\"\",\"\",語言配置表!A566)","v":563},{"$f":"IF(語言配置表!A566=\"\",\"CN_待填充内容\",語言配置表!B566)","v":"技能名称预留，勿占"}]
[{"$f":"IF(語言配置表!A567=\"\",\"\",語言配置表!A567)","v":564},{"$f":"IF(語言配置表!A567=\"\",\"CN_待填充内容\",語言配置表!B567)","v":"技能名称预留，勿占"}]
[{"$f":"IF(語言配置表!A568=\"\",\"\",語言配置表!A568)","v":565},{"$f":"IF(語言配置表!A568=\"\",\"CN_待填充内容\",語言配置表!B568)","v":"技能名称预留，勿占"}]
[{"$f":"IF(語言配置表!A569=\"\",\"\",語言配置表!A569)","v":566},{"$f":"IF(語言配置表!A569=\"\",\"CN_待填充内容\",語言配置表!B569)","v":"技能名称预留，勿占"}]
[{"$f":"IF(語言配置表!A570=\"\",\"\",語言配置表!A570)","v":567},{"$f":"IF(語言配置表!A570=\"\",\"CN_待填充内容\",語言配置表!B570)","v":"技能名称预留，勿占"}]
[{"$f":"IF(語言配置表!A571=\"\",\"\",語言配置表!A571)","v":568},{"$f":"IF(語言配置表!A571=\"\",\"CN_待填充内容\",語言配置表!B571)","v":"技能名称预留，勿占"}]
[{"$f":"IF(語言配置表!A572=\"\",\"\",語言配置表!A572)","v":569},{"$f":"IF(語言配置表!A572=\"\",\"CN_待填充内容\",語言配置表!B572)","v":"技能名称预留，勿占"}]
[{"$f":"IF(語言配置表!A573=\"\",\"\",語言配置表!A573)","v":570},{"$f":"IF(語言配置表!A573=\"\",\"CN_待填充内容\",語言配置表!B573)","v":"技能名称预留，勿占"}]
[{"$f":"IF(語言配置表!A574=\"\",\"\",語言配置表!A574)","v":571},{"$f":"IF(語言配置表!A574=\"\",\"CN_待填充内容\",語言配置表!B574)","v":"技能名称预留，勿占"}]
[{"$f":"IF(語言配置表!A575=\"\",\"\",語言配置表!A575)","v":572},{"$f":"IF(語言配置表!A575=\"\",\"CN_待填充内容\",語言配置表!B575)","v":"技能名称预留，勿占"}]
[{"$f":"IF(語言配置表!A576=\"\",\"\",語言配置表!A576)","v":573},{"$f":"IF(語言配置表!A576=\"\",\"CN_待填充内容\",語言配置表!B576)","v":"技能名称预留，勿占"}]
[{"$f":"IF(語言配置表!A577=\"\",\"\",語言配置表!A577)","v":574},{"$f":"IF(語言配置表!A577=\"\",\"CN_待填充内容\",語言配置表!B577)","v":"技能名称预留，勿占"}]
[{"$f":"IF(語言配置表!A578=\"\",\"\",語言配置表!A578)","v":575},{"$f":"IF(語言配置表!A578=\"\",\"CN_待填充内容\",語言配置表!B578)","v":"技能名称预留，勿占"}]
[{"$f":"IF(語言配置表!A579=\"\",\"\",語言配置表!A579)","v":576},{"$f":"IF(語言配置表!A579=\"\",\"CN_待填充内容\",語言配置表!B579)","v":"技能名称预留，勿占"}]
[{"$f":"IF(語言配置表!A580=\"\",\"\",語言配置表!A580)","v":577},{"$f":"IF(語言配置表!A580=\"\",\"CN_待填充内容\",語言配置表!B580)","v":"技能名称预留，勿占"}]
[{"$f":"IF(語言配置表!A581=\"\",\"\",語言配置表!A581)","v":578},{"$f":"IF(語言配置表!A581=\"\",\"CN_待填充内容\",語言配置表!B581)","v":"技能名称预留，勿占"}]
[{"$f":"IF(語言配置表!A582=\"\",\"\",語言配置表!A582)","v":579},{"$f":"IF(語言配置表!A582=\"\",\"CN_待填充内容\",語言配置表!B582)","v":"技能名称预留，勿占"}]
[{"$f":"IF(語言配置表!A583=\"\",\"\",語言配置表!A583)","v":580},{"$f":"IF(語言配置表!A583=\"\",\"CN_待填充内容\",語言配置表!B583)","v":"技能名称预留，勿占"}]
[{"$f":"IF(語言配置表!A584=\"\",\"\",語言配置表!A584)","v":581},{"$f":"IF(語言配置表!A584=\"\",\"CN_待填充内容\",語言配置表!B584)","v":"技能名称预留，勿占"}]
[{"$f":"IF(語言配置表!A585=\"\",\"\",語言配置表!A585)","v":582},{"$f":"IF(語言配置表!A585=\"\",\"CN_待填充内容\",語言配置表!B585)","v":"技能名称预留，勿占"}]
[{"$f":"IF(語言配置表!A586=\"\",\"\",語言配置表!A586)","v":583},{"$f":"IF(語言配置表!A586=\"\",\"CN_待填充内容\",語言配置表!B586)","v":"技能名称预留，勿占"}]
[{"$f":"IF(語言配置表!A587=\"\",\"\",語言配置表!A587)","v":584},{"$f":"IF(語言配置表!A587=\"\",\"CN_待填充内容\",語言配置表!B587)","v":"技能名称预留，勿占"}]
[{"$f":"IF(語言配置表!A588=\"\",\"\",語言配置表!A588)","v":585},{"$f":"IF(語言配置表!A588=\"\",\"CN_待填充内容\",語言配置表!B588)","v":"技能名称预留，勿占"}]
[{"$f":"IF(語言配置表!A589=\"\",\"\",語言配置表!A589)","v":586},{"$f":"IF(語言配置表!A589=\"\",\"CN_待填充内容\",語言配置表!B589)","v":"技能名称预留，勿占"}]
[{"$f":"IF(語言配置表!A590=\"\",\"\",語言配置表!A590)","v":587},{"$f":"IF(語言配置表!A590=\"\",\"CN_待填充内容\",語言配置表!B590)","v":"技能名称预留，勿占"}]
[{"$f":"IF(語言配置表!A591=\"\",\"\",語言配置表!A591)","v":588},{"$f":"IF(語言配置表!A591=\"\",\"CN_待填充内容\",語言配置表!B591)","v":"技能名称预留，勿占"}]
[{"$f":"IF(語言配置表!A592=\"\",\"\",語言配置表!A592)","v":589},{"$f":"IF(語言配置表!A592=\"\",\"CN_待填充内容\",語言配置表!B592)","v":"技能名称预留，勿占"}]
[{"$f":"IF(語言配置表!A593=\"\",\"\",語言配置表!A593)","v":590},{"$f":"IF(語言配置表!A593=\"\",\"CN_待填充内容\",語言配置表!B593)","v":"技能名称预留，勿占"}]
[{"$f":"IF(語言配置表!A594=\"\",\"\",語言配置表!A594)","v":591},{"$f":"IF(語言配置表!A594=\"\",\"CN_待填充内容\",語言配置表!B594)","v":"技能名称预留，勿占"}]
[{"$f":"IF(語言配置表!A595=\"\",\"\",語言配置表!A595)","v":592},{"$f":"IF(語言配置表!A595=\"\",\"CN_待填充内容\",語言配置表!B595)","v":"技能名称预留，勿占"}]
[{"$f":"IF(語言配置表!A596=\"\",\"\",語言配置表!A596)","v":593},{"$f":"IF(語言配置表!A596=\"\",\"CN_待填充内容\",語言配置表!B596)","v":"技能名称预留，勿占"}]
[{"$f":"IF(語言配置表!A597=\"\",\"\",語言配置表!A597)","v":594},{"$f":"IF(語言配置表!A597=\"\",\"CN_待填充内容\",語言配置表!B597)","v":"技能名称预留，勿占"}]
[{"$f":"IF(語言配置表!A598=\"\",\"\",語言配置表!A598)","v":595},{"$f":"IF(語言配置表!A598=\"\",\"CN_待填充内容\",語言配置表!B598)","v":"技能名称预留，勿占"}]
[{"$f":"IF(語言配置表!A599=\"\",\"\",語言配置表!A599)","v":596},{"$f":"IF(語言配置表!A599=\"\",\"CN_待填充内容\",語言配置表!B599)","v":"技能名称预留，勿占"}]
[{"$f":"IF(語言配置表!A600=\"\",\"\",語言配置表!A600)","v":597},{"$f":"IF(語言配置表!A600=\"\",\"CN_待填充内容\",語言配置表!B600)","v":"技能名称预留，勿占"}]
[{"$f":"IF(語言配置表!A601=\"\",\"\",語言配置表!A601)","v":598},{"$f":"IF(語言配置表!A601=\"\",\"CN_待填充内容\",語言配置表!B601)","v":"技能名称预留，勿占"}]
[{"$f":"IF(語言配置表!A602=\"\",\"\",語言配置表!A602)","v":599},{"$f":"IF(語言配置表!A602=\"\",\"CN_待填充内容\",語言配置表!B602)","v":"技能名称预留，勿占"}]
[{"$f":"IF(語言配置表!A603=\"\",\"\",語言配置表!A603)","v":600},{"$f":"IF(語言配置表!A603=\"\",\"CN_待填充内容\",語言配置表!B603)","v":"技能名称预留，勿占"}]
[{"$f":"IF(語言配置表!A604=\"\",\"\",語言配置表!A604)","v":601},{"$f":"IF(語言配置表!A604=\"\",\"CN_待填充内容\",語言配置表!B604)","v":"技能名称预留，勿占"}]
[{"$f":"IF(語言配置表!A605=\"\",\"\",語言配置表!A605)","v":602},{"$f":"IF(語言配置表!A605=\"\",\"CN_待填充内容\",語言配置表!B605)","v":"技能名称预留，勿占"}]
[{"$f":"IF(語言配置表!A606=\"\",\"\",語言配置表!A606)","v":603},{"$f":"IF(語言配置表!A606=\"\",\"CN_待填充内容\",語言配置表!B606)","v":"技能名称预留，勿占"}]
[{"$f":"IF(語言配置表!A607=\"\",\"\",語言配置表!A607)","v":604},{"$f":"IF(語言配置表!A607=\"\",\"CN_待填充内容\",語言配置表!B607)","v":"技能名称预留，勿占"}]
[{"$f":"IF(語言配置表!A608=\"\",\"\",語言配置表!A608)","v":605},{"$f":"IF(語言配置表!A608=\"\",\"CN_待填充内容\",語言配置表!B608)","v":"技能名称预留，勿占"}]
[{"$f":"IF(語言配置表!A609=\"\",\"\",語言配置表!A609)","v":606},{"$f":"IF(語言配置表!A609=\"\",\"CN_待填充内容\",語言配置表!B609)","v":"技能名称预留，勿占"}]
[{"$f":"IF(語言配置表!A610=\"\",\"\",語言配置表!A610)","v":607},{"$f":"IF(語言配置表!A610=\"\",\"CN_待填充内容\",語言配置表!B610)","v":"技能名称预留，勿占"}]
[{"$f":"IF(語言配置表!A611=\"\",\"\",語言配置表!A611)","v":608},{"$f":"IF(語言配置表!A611=\"\",\"CN_待填充内容\",語言配置表!B611)","v":"技能名称预留，勿占"}]
[{"$f":"IF(語言配置表!A612=\"\",\"\",語言配置表!A612)","v":609},{"$f":"IF(語言配置表!A612=\"\",\"CN_待填充内容\",語言配置表!B612)","v":"技能名称预留，勿占"}]
[{"$f":"IF(語言配置表!A613=\"\",\"\",語言配置表!A613)","v":610},{"$f":"IF(語言配置表!A613=\"\",\"CN_待填充内容\",語言配置表!B613)","v":"技能名称预留，勿占"}]
[{"$f":"IF(語言配置表!A614=\"\",\"\",語言配置表!A614)","v":611},{"$f":"IF(語言配置表!A614=\"\",\"CN_待填充内容\",語言配置表!B614)","v":"技能名称预留，勿占"}]
[{"$f":"IF(語言配置表!A615=\"\",\"\",語言配置表!A615)","v":612},{"$f":"IF(語言配置表!A615=\"\",\"CN_待填充内容\",語言配置表!B615)","v":"技能名称预留，勿占"}]
[{"$f":"IF(語言配置表!A616=\"\",\"\",語言配置表!A616)","v":613},{"$f":"IF(語言配置表!A616=\"\",\"CN_待填充内容\",語言配置表!B616)","v":"技能名称预留，勿占"}]
[{"$f":"IF(語言配置表!A617=\"\",\"\",語言配置表!A617)","v":614},{"$f":"IF(語言配置表!A617=\"\",\"CN_待填充内容\",語言配置表!B617)","v":"技能名称预留，勿占"}]
[{"$f":"IF(語言配置表!A618=\"\",\"\",語言配置表!A618)","v":615},{"$f":"IF(語言配置表!A618=\"\",\"CN_待填充内容\",語言配置表!B618)","v":"技能名称预留，勿占"}]
[{"$f":"IF(語言配置表!A619=\"\",\"\",語言配置表!A619)","v":616},{"$f":"IF(語言配置表!A619=\"\",\"CN_待填充内容\",語言配置表!B619)","v":"技能名称预留，勿占"}]
[{"$f":"IF(語言配置表!A620=\"\",\"\",語言配置表!A620)","v":617},{"$f":"IF(語言配置表!A620=\"\",\"CN_待填充内容\",語言配置表!B620)","v":"技能名称预留，勿占"}]
[{"$f":"IF(語言配置表!A621=\"\",\"\",語言配置表!A621)","v":618},{"$f":"IF(語言配置表!A621=\"\",\"CN_待填充内容\",語言配置表!B621)","v":"技能名称预留，勿占"}]
[{"$f":"IF(語言配置表!A622=\"\",\"\",語言配置表!A622)","v":619},{"$f":"IF(語言配置表!A622=\"\",\"CN_待填充内容\",語言配置表!B622)","v":"技能名称预留，勿占"}]
[{"$f":"IF(語言配置表!A623=\"\",\"\",語言配置表!A623)","v":620},{"$f":"IF(語言配置表!A623=\"\",\"CN_待填充内容\",語言配置表!B623)","v":"技能名称预留，勿占"}]
[{"$f":"IF(語言配置表!A624=\"\",\"\",語言配置表!A624)","v":621},{"$f":"IF(語言配置表!A624=\"\",\"CN_待填充内容\",語言配置表!B624)","v":"技能名称预留，勿占"}]
[{"$f":"IF(語言配置表!A625=\"\",\"\",語言配置表!A625)","v":622},{"$f":"IF(語言配置表!A625=\"\",\"CN_待填充内容\",語言配置表!B625)","v":"技能名称预留，勿占"}]
[{"$f":"IF(語言配置表!A626=\"\",\"\",語言配置表!A626)","v":623},{"$f":"IF(語言配置表!A626=\"\",\"CN_待填充内容\",語言配置表!B626)","v":"技能名称预留，勿占"}]
[{"$f":"IF(語言配置表!A627=\"\",\"\",語言配置表!A627)","v":624},{"$f":"IF(語言配置表!A627=\"\",\"CN_待填充内容\",語言配置表!B627)","v":"技能名称预留，勿占"}]
[{"$f":"IF(語言配置表!A628=\"\",\"\",語言配置表!A628)","v":625},{"$f":"IF(語言配置表!A628=\"\",\"CN_待填充内容\",語言配置表!B628)","v":"技能名称预留，勿占"}]
[{"$f":"IF(語言配置表!A629=\"\",\"\",語言配置表!A629)","v":626},{"$f":"IF(語言配置表!A629=\"\",\"CN_待填充内容\",語言配置表!B629)","v":"技能名称预留，勿占"}]
[{"$f":"IF(語言配置表!A630=\"\",\"\",語言配置表!A630)","v":627},{"$f":"IF(語言配置表!A630=\"\",\"CN_待填充内容\",語言配置表!B630)","v":"技能名称预留，勿占"}]
[{"$f":"IF(語言配置表!A631=\"\",\"\",語言配置表!A631)","v":628},{"$f":"IF(語言配置表!A631=\"\",\"CN_待填充内容\",語言配置表!B631)","v":"技能名称预留，勿占"}]
[{"$f":"IF(語言配置表!A632=\"\",\"\",語言配置表!A632)","v":629},{"$f":"IF(語言配置表!A632=\"\",\"CN_待填充内容\",語言配置表!B632)","v":"技能名称预留，勿占"}]
[{"$f":"IF(語言配置表!A633=\"\",\"\",語言配置表!A633)","v":630},{"$f":"IF(語言配置表!A633=\"\",\"CN_待填充内容\",語言配置表!B633)","v":"技能名称预留，勿占"}]
[{"$f":"IF(語言配置表!A634=\"\",\"\",語言配置表!A634)","v":631},{"$f":"IF(語言配置表!A634=\"\",\"CN_待填充内容\",語言配置表!B634)","v":"技能名称预留，勿占"}]
[{"$f":"IF(語言配置表!A635=\"\",\"\",語言配置表!A635)","v":632},{"$f":"IF(語言配置表!A635=\"\",\"CN_待填充内容\",語言配置表!B635)","v":"技能名称预留，勿占"}]
[{"$f":"IF(語言配置表!A636=\"\",\"\",語言配置表!A636)","v":633},{"$f":"IF(語言配置表!A636=\"\",\"CN_待填充内容\",語言配置表!B636)","v":"技能名称预留，勿占"}]
[{"$f":"IF(語言配置表!A637=\"\",\"\",語言配置表!A637)","v":634},{"$f":"IF(語言配置表!A637=\"\",\"CN_待填充内容\",語言配置表!B637)","v":"技能名称预留，勿占"}]
[{"$f":"IF(語言配置表!A638=\"\",\"\",語言配置表!A638)","v":635},{"$f":"IF(語言配置表!A638=\"\",\"CN_待填充内容\",語言配置表!B638)","v":"技能名称预留，勿占"}]
[{"$f":"IF(語言配置表!A639=\"\",\"\",語言配置表!A639)","v":636},{"$f":"IF(語言配置表!A639=\"\",\"CN_待填充内容\",語言配置表!B639)","v":"技能名称预留，勿占"}]
[{"$f":"IF(語言配置表!A640=\"\",\"\",語言配置表!A640)","v":637},{"$f":"IF(語言配置表!A640=\"\",\"CN_待填充内容\",語言配置表!B640)","v":"技能名称预留，勿占"}]
[{"$f":"IF(語言配置表!A641=\"\",\"\",語言配置表!A641)","v":638},{"$f":"IF(語言配置表!A641=\"\",\"CN_待填充内容\",語言配置表!B641)","v":"技能名称预留，勿占"}]
[{"$f":"IF(語言配置表!A642=\"\",\"\",語言配置表!A642)","v":639},{"$f":"IF(語言配置表!A642=\"\",\"CN_待填充内容\",語言配置表!B642)","v":"技能名称预留，勿占"}]
[{"$f":"IF(語言配置表!A643=\"\",\"\",語言配置表!A643)","v":640},{"$f":"IF(語言配置表!A643=\"\",\"CN_待填充内容\",語言配置表!B643)","v":"技能名称预留，勿占"}]
[{"$f":"IF(語言配置表!A644=\"\",\"\",語言配置表!A644)","v":641},{"$f":"IF(語言配置表!A644=\"\",\"CN_待填充内容\",語言配置表!B644)","v":"技能名称预留，勿占"}]
[{"$f":"IF(語言配置表!A645=\"\",\"\",語言配置表!A645)","v":642},{"$f":"IF(語言配置表!A645=\"\",\"CN_待填充内容\",語言配置表!B645)","v":"技能名称预留，勿占"}]
[{"$f":"IF(語言配置表!A646=\"\",\"\",語言配置表!A646)","v":643},{"$f":"IF(語言配置表!A646=\"\",\"CN_待填充内容\",語言配置表!B646)","v":"技能名称预留，勿占"}]
[{"$f":"IF(語言配置表!A647=\"\",\"\",語言配置表!A647)","v":644},{"$f":"IF(語言配置表!A647=\"\",\"CN_待填充内容\",語言配置表!B647)","v":"技能名称预留，勿占"}]
[{"$f":"IF(語言配置表!A648=\"\",\"\",語言配置表!A648)","v":645},{"$f":"IF(語言配置表!A648=\"\",\"CN_待填充内容\",語言配置表!B648)","v":"技能名称预留，勿占"}]
[{"$f":"IF(語言配置表!A649=\"\",\"\",語言配置表!A649)","v":646},{"$f":"IF(語言配置表!A649=\"\",\"CN_待填充内容\",語言配置表!B649)","v":"技能名称预留，勿占"}]
[{"$f":"IF(語言配置表!A650=\"\",\"\",語言配置表!A650)","v":647},{"$f":"IF(語言配置表!A650=\"\",\"CN_待填充内容\",語言配置表!B650)","v":"技能名称预留，勿占"}]
[{"$f":"IF(語言配置表!A651=\"\",\"\",語言配置表!A651)","v":648},{"$f":"IF(語言配置表!A651=\"\",\"CN_待填充内容\",語言配置表!B651)","v":"技能名称预留，勿占"}]
[{"$f":"IF(語言配置表!A652=\"\",\"\",語言配置表!A652)","v":649},{"$f":"IF(語言配置表!A652=\"\",\"CN_待填充内容\",語言配置表!B652)","v":"技能名称预留，勿占"}]
[{"$f":"IF(語言配置表!A653=\"\",\"\",語言配置表!A653)","v":650},{"$f":"IF(語言配置表!A653=\"\",\"CN_待填充内容\",語言配置表!B653)","v":"技能名称预留，勿占"}]
[{"$f":"IF(語言配置表!A654=\"\",\"\",語言配置表!A654)","v":651},{"$f":"IF(語言配置表!A654=\"\",\"CN_待填充内容\",語言配置表!B654)","v":"技能名称预留，勿占"}]
[{"$f":"IF(語言配置表!A655=\"\",\"\",語言配置表!A655)","v":652},{"$f":"IF(語言配置表!A655=\"\",\"CN_待填充内容\",語言配置表!B655)","v":"技能名称预留，勿占"}]
[{"$f":"IF(語言配置表!A656=\"\",\"\",語言配置表!A656)","v":653},{"$f":"IF(語言配置表!A656=\"\",\"CN_待填充内容\",語言配置表!B656)","v":"技能名称预留，勿占"}]
[{"$f":"IF(語言配置表!A657=\"\",\"\",語言配置表!A657)","v":654},{"$f":"IF(語言配置表!A657=\"\",\"CN_待填充内容\",語言配置表!B657)","v":"技能名称预留，勿占"}]
[{"$f":"IF(語言配置表!A658=\"\",\"\",語言配置表!A658)","v":655},{"$f":"IF(語言配置表!A658=\"\",\"CN_待填充内容\",語言配置表!B658)","v":"技能名称预留，勿占"}]
[{"$f":"IF(語言配置表!A659=\"\",\"\",語言配置表!A659)","v":656},{"$f":"IF(語言配置表!A659=\"\",\"CN_待填充内容\",語言配置表!B659)","v":"技能名称预留，勿占"}]
[{"$f":"IF(語言配置表!A660=\"\",\"\",語言配置表!A660)","v":657},{"$f":"IF(語言配置表!A660=\"\",\"CN_待填充内容\",語言配置表!B660)","v":"技能名称预留，勿占"}]
[{"$f":"IF(語言配置表!A661=\"\",\"\",語言配置表!A661)","v":658},{"$f":"IF(語言配置表!A661=\"\",\"CN_待填充内容\",語言配置表!B661)","v":"技能名称预留，勿占"}]
[{"$f":"IF(語言配置表!A662=\"\",\"\",語言配置表!A662)","v":659},{"$f":"IF(語言配置表!A662=\"\",\"CN_待填充内容\",語言配置表!B662)","v":"技能名称预留，勿占"}]
[{"$f":"IF(語言配置表!A663=\"\",\"\",語言配置表!A663)","v":660},{"$f":"IF(語言配置表!A663=\"\",\"CN_待填充内容\",語言配置表!B663)","v":"技能名称预留，勿占"}]
[{"$f":"IF(語言配置表!A664=\"\",\"\",語言配置表!A664)","v":661},{"$f":"IF(語言配置表!A664=\"\",\"CN_待填充内容\",語言配置表!B664)","v":"技能名称预留，勿占"}]
[{"$f":"IF(語言配置表!A665=\"\",\"\",語言配置表!A665)","v":662},{"$f":"IF(語言配置表!A665=\"\",\"CN_待填充内容\",語言配置表!B665)","v":"技能名称预留，勿占"}]
[{"$f":"IF(語言配置表!A666=\"\",\"\",語言配置表!A666)","v":663},{"$f":"IF(語言配置表!A666=\"\",\"CN_待填充内容\",語言配置表!B666)","v":"技能名称预留，勿占"}]
[{"$f":"IF(語言配置表!A667=\"\",\"\",語言配置表!A667)","v":664},{"$f":"IF(語言配置表!A667=\"\",\"CN_待填充内容\",語言配置表!B667)","v":"技能名称预留，勿占"}]
[{"$f":"IF(語言配置表!A668=\"\",\"\",語言配置表!A668)","v":665},{"$f":"IF(語言配置表!A668=\"\",\"CN_待填充内容\",語言配置表!B668)","v":"技能名称预留，勿占"}]
[{"$f":"IF(語言配置表!A669=\"\",\"\",語言配置表!A669)","v":666},{"$f":"IF(語言配置表!A669=\"\",\"CN_待填充内容\",語言配置表!B669)","v":"技能名称预留，勿占"}]
[{"$f":"IF(語言配置表!A670=\"\",\"\",語言配置表!A670)","v":667},{"$f":"IF(語言配置表!A670=\"\",\"CN_待填充内容\",語言配置表!B670)","v":"技能名称预留，勿占"}]
[{"$f":"IF(語言配置表!A671=\"\",\"\",語言配置表!A671)","v":668},{"$f":"IF(語言配置表!A671=\"\",\"CN_待填充内容\",語言配置表!B671)","v":"技能名称预留，勿占"}]
[{"$f":"IF(語言配置表!A672=\"\",\"\",語言配置表!A672)","v":669},{"$f":"IF(語言配置表!A672=\"\",\"CN_待填充内容\",語言配置表!B672)","v":"技能名称预留，勿占"}]
[{"$f":"IF(語言配置表!A673=\"\",\"\",語言配置表!A673)","v":670},{"$f":"IF(語言配置表!A673=\"\",\"CN_待填充内容\",語言配置表!B673)","v":"技能名称预留，勿占"}]
[{"$f":"IF(語言配置表!A674=\"\",\"\",語言配置表!A674)","v":671},{"$f":"IF(語言配置表!A674=\"\",\"CN_待填充内容\",語言配置表!B674)","v":"技能名称预留，勿占"}]
[{"$f":"IF(語言配置表!A675=\"\",\"\",語言配置表!A675)","v":672},{"$f":"IF(語言配置表!A675=\"\",\"CN_待填充内容\",語言配置表!B675)","v":"技能名称预留，勿占"}]
[{"$f":"IF(語言配置表!A676=\"\",\"\",語言配置表!A676)","v":673},{"$f":"IF(語言配置表!A676=\"\",\"CN_待填充内容\",語言配置表!B676)","v":"技能名称预留，勿占"}]
[{"$f":"IF(語言配置表!A677=\"\",\"\",語言配置表!A677)","v":674},{"$f":"IF(語言配置表!A677=\"\",\"CN_待填充内容\",語言配置表!B677)","v":"技能名称预留，勿占"}]
[{"$f":"IF(語言配置表!A678=\"\",\"\",語言配置表!A678)","v":675},{"$f":"IF(語言配置表!A678=\"\",\"CN_待填充内容\",語言配置表!B678)","v":"技能名称预留，勿占"}]
[{"$f":"IF(語言配置表!A679=\"\",\"\",語言配置表!A679)","v":676},{"$f":"IF(語言配置表!A679=\"\",\"CN_待填充内容\",語言配置表!B679)","v":"技能名称预留，勿占"}]
[{"$f":"IF(語言配置表!A680=\"\",\"\",語言配置表!A680)","v":677},{"$f":"IF(語言配置表!A680=\"\",\"CN_待填充内容\",語言配置表!B680)","v":"技能名称预留，勿占"}]
[{"$f":"IF(語言配置表!A681=\"\",\"\",語言配置表!A681)","v":678},{"$f":"IF(語言配置表!A681=\"\",\"CN_待填充内容\",語言配置表!B681)","v":"技能名称预留，勿占"}]
[{"$f":"IF(語言配置表!A682=\"\",\"\",語言配置表!A682)","v":679},{"$f":"IF(語言配置表!A682=\"\",\"CN_待填充内容\",語言配置表!B682)","v":"技能名称预留，勿占"}]
[{"$f":"IF(語言配置表!A683=\"\",\"\",語言配置表!A683)","v":680},{"$f":"IF(語言配置表!A683=\"\",\"CN_待填充内容\",語言配置表!B683)","v":"技能名称预留，勿占"}]
[{"$f":"IF(語言配置表!A684=\"\",\"\",語言配置表!A684)","v":681},{"$f":"IF(語言配置表!A684=\"\",\"CN_待填充内容\",語言配置表!B684)","v":"技能名称预留，勿占"}]
[{"$f":"IF(語言配置表!A685=\"\",\"\",語言配置表!A685)","v":682},{"$f":"IF(語言配置表!A685=\"\",\"CN_待填充内容\",語言配置表!B685)","v":"技能名称预留，勿占"}]
[{"$f":"IF(語言配置表!A686=\"\",\"\",語言配置表!A686)","v":683},{"$f":"IF(語言配置表!A686=\"\",\"CN_待填充内容\",語言配置表!B686)","v":"技能名称预留，勿占"}]
[{"$f":"IF(語言配置表!A687=\"\",\"\",語言配置表!A687)","v":684},{"$f":"IF(語言配置表!A687=\"\",\"CN_待填充内容\",語言配置表!B687)","v":"技能名称预留，勿占"}]
[{"$f":"IF(語言配置表!A688=\"\",\"\",語言配置表!A688)","v":685},{"$f":"IF(語言配置表!A688=\"\",\"CN_待填充内容\",語言配置表!B688)","v":"技能名称预留，勿占"}]
[{"$f":"IF(語言配置表!A689=\"\",\"\",語言配置表!A689)","v":686},{"$f":"IF(語言配置表!A689=\"\",\"CN_待填充内容\",語言配置表!B689)","v":"技能名称预留，勿占"}]
[{"$f":"IF(語言配置表!A690=\"\",\"\",語言配置表!A690)","v":687},{"$f":"IF(語言配置表!A690=\"\",\"CN_待填充内容\",語言配置表!B690)","v":"技能名称预留，勿占"}]
[{"$f":"IF(語言配置表!A691=\"\",\"\",語言配置表!A691)","v":688},{"$f":"IF(語言配置表!A691=\"\",\"CN_待填充内容\",語言配置表!B691)","v":"技能名称预留，勿占"}]
[{"$f":"IF(語言配置表!A692=\"\",\"\",語言配置表!A692)","v":689},{"$f":"IF(語言配置表!A692=\"\",\"CN_待填充内容\",語言配置表!B692)","v":"技能名称预留，勿占"}]
[{"$f":"IF(語言配置表!A693=\"\",\"\",語言配置表!A693)","v":690},{"$f":"IF(語言配置表!A693=\"\",\"CN_待填充内容\",語言配置表!B693)","v":"技能名称预留，勿占"}]
[{"$f":"IF(語言配置表!A694=\"\",\"\",語言配置表!A694)","v":691},{"$f":"IF(語言配置表!A694=\"\",\"CN_待填充内容\",語言配置表!B694)","v":"技能名称预留，勿占"}]
[{"$f":"IF(語言配置表!A695=\"\",\"\",語言配置表!A695)","v":692},{"$f":"IF(語言配置表!A695=\"\",\"CN_待填充内容\",語言配置表!B695)","v":"技能名称预留，勿占"}]
[{"$f":"IF(語言配置表!A696=\"\",\"\",語言配置表!A696)","v":693},{"$f":"IF(語言配置表!A696=\"\",\"CN_待填充内容\",語言配置表!B696)","v":"技能名称预留，勿占"}]
[{"$f":"IF(語言配置表!A697=\"\",\"\",語言配置表!A697)","v":694},{"$f":"IF(語言配置表!A697=\"\",\"CN_待填充内容\",語言配置表!B697)","v":"技能名称预留，勿占"}]
[{"$f":"IF(語言配置表!A698=\"\",\"\",語言配置表!A698)","v":695},{"$f":"IF(語言配置表!A698=\"\",\"CN_待填充内容\",語言配置表!B698)","v":"技能名称预留，勿占"}]
[{"$f":"IF(語言配置表!A699=\"\",\"\",語言配置表!A699)","v":696},{"$f":"IF(語言配置表!A699=\"\",\"CN_待填充内容\",語言配置表!B699)","v":"星辰道"}]
[{"$f":"IF(語言配置表!A700=\"\",\"\",語言配置表!A700)","v":697},{"$f":"IF(語言配置表!A700=\"\",\"CN_待填充内容\",語言配置表!B700)","v":"生衍道"}]
[{"$f":"IF(語言配置表!A701=\"\",\"\",語言配置表!A701)","v":698},{"$f":"IF(語言配置表!A701=\"\",\"CN_待填充内容\",語言配置表!B701)","v":"玄黄道 "}]
[{"$f":"IF(語言配置表!A702=\"\",\"\",語言配置表!A702)","v":699},{"$f":"IF(語言配置表!A702=\"\",\"CN_待填充内容\",語言配置表!B702)","v":"每次释放功法时获得{0}点能量，{1}点能量后提升{2}%转盘速度和{3}%攻击速度，持续{4}秒。"}]
[{"$f":"IF(語言配置表!A703=\"\",\"\",語言配置表!A703)","v":700},{"$f":"IF(語言配置表!A703=\"\",\"CN_待填充内容\",語言配置表!B703)","v":"功法拥有生息之能，每次使用功法能获得1对应属性的充能，充能满后获得对应属性的加成 \n{0}金：提升{1}%攻击力 ,最大{2}%\n{0}木：恢复{3}%生命 \n{0}水：治疗最严重的伤势，使其伤势-{4} \n{0}火：功法强度提升{5}%，最大{6}%\n{0}土：玩家防御提升{7}%，最大{8}%"}]
[{"$f":"IF(語言配置表!A704=\"\",\"\",語言配置表!A704)","v":701},{"$f":"IF(語言配置表!A704=\"\",\"CN_待填充内容\",語言配置表!B704)","v":"每次使用功法时在当前位置留下一道属性印记，下一个放上来的功法如果和以前功法相生则功法效果提升{0}%，每次使用功法时都会治疗对应相生属性的{1}伤势。（均衡性功法搭配，转盘改变，变为金、水、木、火、土）\n"}]
[{"$f":"IF(語言配置表!A705=\"\",\"\",語言配置表!A705)","v":702},{"$f":"IF(語言配置表!A705=\"\",\"CN_待填充内容\",語言配置表!B705)","v":"怪物技能1"}]
[{"$f":"IF(語言配置表!A706=\"\",\"\",語言配置表!A706)","v":703},{"$f":"IF(語言配置表!A706=\"\",\"CN_待填充内容\",語言配置表!B706)","v":"怪物技能1"}]
[{"$f":"IF(語言配置表!A707=\"\",\"\",語言配置表!A707)","v":704},{"$f":"IF(語言配置表!A707=\"\",\"CN_待填充内容\",語言配置表!B707)","v":"怪物技能1"}]
[{"$f":"IF(語言配置表!A708=\"\",\"\",語言配置表!A708)","v":705},{"$f":"IF(語言配置表!A708=\"\",\"CN_待填充内容\",語言配置表!B708)","v":"怪物技能1"}]
[{"$f":"IF(語言配置表!A709=\"\",\"\",語言配置表!A709)","v":706},{"$f":"IF(語言配置表!A709=\"\",\"CN_待填充内容\",語言配置表!B709)","v":"怪物技能1"}]
[{"$f":"IF(語言配置表!A710=\"\",\"\",語言配置表!A710)","v":707},{"$f":"IF(語言配置表!A710=\"\",\"CN_待填充内容\",語言配置表!B710)","v":"boss第一个技能"}]
[{"$f":"IF(語言配置表!A711=\"\",\"\",語言配置表!A711)","v":708},{"$f":"IF(語言配置表!A711=\"\",\"CN_待填充内容\",語言配置表!B711)","v":"boss第一个技能"}]
[{"$f":"IF(語言配置表!A712=\"\",\"\",語言配置表!A712)","v":709},{"$f":"IF(語言配置表!A712=\"\",\"CN_待填充内容\",語言配置表!B712)","v":"boss第一个技能"}]
[{"$f":"IF(語言配置表!A713=\"\",\"\",語言配置表!A713)","v":710},{"$f":"IF(語言配置表!A713=\"\",\"CN_待填充内容\",語言配置表!B713)","v":"boss第一个技能"}]
[{"$f":"IF(語言配置表!A714=\"\",\"\",語言配置表!A714)","v":711},{"$f":"IF(語言配置表!A714=\"\",\"CN_待填充内容\",語言配置表!B714)","v":"boss第一个技能"}]
[{"$f":"IF(語言配置表!A715=\"\",\"\",語言配置表!A715)","v":712},{"$f":"IF(語言配置表!A715=\"\",\"CN_待填充内容\",語言配置表!B715)","v":0}]
[{"$f":"IF(語言配置表!A716=\"\",\"\",語言配置表!A716)","v":713},{"$f":"IF(語言配置表!A716=\"\",\"CN_待填充内容\",語言配置表!B716)","v":0}]
[{"$f":"IF(語言配置表!A717=\"\",\"\",語言配置表!A717)","v":714},{"$f":"IF(語言配置表!A717=\"\",\"CN_待填充内容\",語言配置表!B717)","v":0}]
[{"$f":"IF(語言配置表!A718=\"\",\"\",語言配置表!A718)","v":715},{"$f":"IF(語言配置表!A718=\"\",\"CN_待填充内容\",語言配置表!B718)","v":0}]
[{"$f":"IF(語言配置表!A719=\"\",\"\",語言配置表!A719)","v":716},{"$f":"IF(語言配置表!A719=\"\",\"CN_待填充内容\",語言配置表!B719)","v":0}]
[{"$f":"IF(語言配置表!A720=\"\",\"\",語言配置表!A720)","v":717},{"$f":"IF(語言配置表!A720=\"\",\"CN_待填充内容\",語言配置表!B720)","v":"伤害很高）(前摇时间长)：很多剑从远处汇聚到boss周围，然后以一字行快速贯穿目标对目标照成{0}伤害，每命中目标肉体{1}次防御削减{2}%，目标肉体{3}次所有伤势+{4}  \n,如果目标上有剑毅，每丙剑消耗{5}层剑毅让敌人受到{6}额外的伤害"}]
[{"$f":"IF(語言配置表!A721=\"\",\"\",語言配置表!A721)","v":718},{"$f":"IF(語言配置表!A721=\"\",\"CN_待填充内容\",語言配置表!B721)","v":"（2转，防御型技能）：身体周围围绕多丙剑飞行，可以阻挡敌人的功法.抵挡{0}最大生命值的伤害"}]
[{"$f":"IF(語言配置表!A722=\"\",\"\",語言配置表!A722)","v":719},{"$f":"IF(語言配置表!A722=\"\",\"CN_待填充内容\",語言配置表!B722)","v":"剑祖的攻击会让目标受到一层剑毅"}]
[{"$f":"IF(語言配置表!A723=\"\",\"\",語言配置表!A723)","v":720},{"$f":"IF(語言配置表!A723=\"\",\"CN_待填充内容\",語言配置表!B723)","v":"发射2丙剑，对敌人照成{0}伤害"}]
[{"$f":"IF(語言配置表!A724=\"\",\"\",語言配置表!A724)","v":721},{"$f":"IF(語言配置表!A724=\"\",\"CN_待填充内容\",語言配置表!B724)","v":"发射2丙剑，对敌人照成{0}伤害"}]
[{"$f":"IF(語言配置表!A725=\"\",\"\",語言配置表!A725)","v":722},{"$f":"IF(語言配置表!A725=\"\",\"CN_待填充内容\",語言配置表!B725)","v":"最终生命+{0}%"}]
[{"$f":"IF(語言配置表!A726=\"\",\"\",語言配置表!A726)","v":723},{"$f":"IF(語言配置表!A726=\"\",\"CN_待填充内容\",語言配置表!B726)","v":"最终攻击+{0}%"}]
[{"$f":"IF(語言配置表!A727=\"\",\"\",語言配置表!A727)","v":724},{"$f":"IF(語言配置表!A727=\"\",\"CN_待填充内容\",語言配置表!B727)","v":"最终防御+{0}%"}]
[{"$f":"IF(語言配置表!A728=\"\",\"\",語言配置表!A728)","v":725},{"$f":"IF(語言配置表!A728=\"\",\"CN_待填充内容\",語言配置表!B728)","v":"功法灵气"}]
[{"$f":"IF(語言配置表!A729=\"\",\"\",語言配置表!A729)","v":726},{"$f":"IF(語言配置表!A729=\"\",\"CN_待填充内容\",語言配置表!B729)","v":"[临]灵气的描述"}]
[{"$f":"IF(語言配置表!A730=\"\",\"\",語言配置表!A730)","v":727},{"$f":"IF(語言配置表!A730=\"\",\"CN_待填充内容\",語言配置表!B730)","v":"剑诀碎片"}]
[{"$f":"IF(語言配置表!A731=\"\",\"\",語言配置表!A731)","v":728},{"$f":"IF(語言配置表!A731=\"\",\"CN_待填充内容\",語言配置表!B731)","v":"烈焰斩碎片"}]
[{"$f":"IF(語言配置表!A732=\"\",\"\",語言配置表!A732)","v":729},{"$f":"IF(語言配置表!A732=\"\",\"CN_待填充内容\",語言配置表!B732)","v":"瘴影千丝术碎片"}]
[{"$f":"IF(語言配置表!A733=\"\",\"\",語言配置表!A733)","v":730},{"$f":"IF(語言配置表!A733=\"\",\"CN_待填充内容\",語言配置表!B733)","v":"雾隐千流法碎片"}]
[{"$f":"IF(語言配置表!A734=\"\",\"\",語言配置表!A734)","v":731},{"$f":"IF(語言配置表!A734=\"\",\"CN_待填充内容\",語言配置表!B734)","v":"碧落幽冥劲碎片"}]
[{"$f":"IF(語言配置表!A735=\"\",\"\",語言配置表!A735)","v":732},{"$f":"IF(語言配置表!A735=\"\",\"CN_待填充内容\",語言配置表!B735)","v":"法宝秘籍碎片"}]
[{"$f":"IF(語言配置表!A736=\"\",\"\",語言配置表!A736)","v":733},{"$f":"IF(語言配置表!A736=\"\",\"CN_待填充内容\",語言配置表!B736)","v":"双生面具碎片"}]
[{"$f":"IF(語言配置表!A737=\"\",\"\",語言配置表!A737)","v":734},{"$f":"IF(語言配置表!A737=\"\",\"CN_待填充内容\",語言配置表!B737)","v":"火灵丹碎片"}]
[{"$f":"IF(語言配置表!A738=\"\",\"\",語言配置表!A738)","v":735},{"$f":"IF(語言配置表!A738=\"\",\"CN_待填充内容\",語言配置表!B738)","v":"巨大化碎片"}]
[{"$f":"IF(語言配置表!A739=\"\",\"\",語言配置表!A739)","v":736},{"$f":"IF(語言配置表!A739=\"\",\"CN_待填充内容\",語言配置表!B739)","v":"极速齿轮碎片"}]
[{"$f":"IF(語言配置表!A740=\"\",\"\",語言配置表!A740)","v":737},{"$f":"IF(語言配置表!A740=\"\",\"CN_待填充内容\",語言配置表!B740)","v":"崩脉决碎片"}]
[{"$f":"IF(語言配置表!A741=\"\",\"\",語言配置表!A741)","v":738},{"$f":"IF(語言配置表!A741=\"\",\"CN_待填充内容\",語言配置表!B741)","v":"用于对应功法的升星"}]
[{"$f":"IF(語言配置表!A742=\"\",\"\",語言配置表!A742)","v":739},{"$f":"IF(語言配置表!A742=\"\",\"CN_待填充内容\",語言配置表!B742)","v":"身体周围幻化出{0}柄细剑，每柄细剑对敌人造成{1}%伤害，并有{2}几率对敌人造成1层流血。"}]
[{"$f":"IF(語言配置表!A743=\"\",\"\",語言配置表!A743)","v":740},{"$f":"IF(語言配置表!A743=\"\",\"CN_待填充内容\",語言配置表!B743)","v":"身体周围幻化出{0}柄细剑，每柄细剑对敌人造成{1}%伤害，并有{2}几率对敌人造成1层流血。"}]
[{"$f":"IF(語言配置表!A744=\"\",\"\",語言配置表!A744)","v":741},{"$f":"IF(語言配置表!A744=\"\",\"CN_待填充内容\",語言配置表!B744)","v":"身体周围幻化出{0}柄细剑，每柄细剑对敌人造成{1}%伤害，并有{2}几率对敌人造成1层流血。"}]
[{"$f":"IF(語言配置表!A745=\"\",\"\",語言配置表!A745)","v":742},{"$f":"IF(語言配置表!A745=\"\",\"CN_待填充内容\",語言配置表!B745)","v":"身体周围幻化出{0}柄细剑，每柄细剑对敌人造成{1}%伤害，并有{2}几率对敌人造成1层流血。\n如果敌人有减益状态，则虚剑伤害提升{3}%。"}]
[{"$f":"IF(語言配置表!A746=\"\",\"\",語言配置表!A746)","v":743},{"$f":"IF(語言配置表!A746=\"\",\"CN_待填充内容\",語言配置表!B746)","v":"身体周围幻化出{0}柄细剑，每柄细剑对敌人造成{1}%伤害，并有{2}几率对敌人造成1层流血。\n如果敌人有减益状态，则虚剑伤害提升{3}%。"}]
[{"$f":"IF(語言配置表!A747=\"\",\"\",語言配置表!A747)","v":744},{"$f":"IF(語言配置表!A747=\"\",\"CN_待填充内容\",語言配置表!B747)","v":"身体周围幻化出{0}柄更大体型的虚剑，每柄虚剑对敌人造成{1}%伤害，并有{2}几率对敌人造成1层流血。\n如果敌人有减益状态，则虚剑伤害提升{3}%。"}]
[{"$f":"IF(語言配置表!A748=\"\",\"\",語言配置表!A748)","v":745},{"$f":"IF(語言配置表!A748=\"\",\"CN_待填充内容\",語言配置表!B748)","v":"吸收自身灵气凝聚{0}柄大剑，大剑旋转快速穿透敌人对敌人照成{1}%伤害"}]
[{"$f":"IF(語言配置表!A749=\"\",\"\",語言配置表!A749)","v":746},{"$f":"IF(語言配置表!A749=\"\",\"CN_待填充内容\",語言配置表!B749)","v":"吸收自身灵气凝聚{0}柄大剑，大剑旋转快速穿透敌人对敌人照成{1}%伤害\n敌人如果在流血或放血状态，对敌人造成的伤害+{2}%"}]
[{"$f":"IF(語言配置表!A750=\"\",\"\",語言配置表!A750)","v":747},{"$f":"IF(語言配置表!A750=\"\",\"CN_待填充内容\",語言配置表!B750)","v":"吸收自身灵气凝聚{0}柄大剑，大剑旋转快速穿透敌人对敌人照成{1}%伤害\n敌人如果在流血或放血状态，对敌人造成的伤害+{2}%"}]
[{"$f":"IF(語言配置表!A751=\"\",\"\",語言配置表!A751)","v":748},{"$f":"IF(語言配置表!A751=\"\",\"CN_待填充内容\",語言配置表!B751)","v":"吸收自身灵气凝聚{0}柄大剑，大剑旋转快速穿透敌人对敌人照成{1}%伤害\n敌人如果在流血或放血状态，对敌人造成的伤害+{2}%\n重伤敌人后，如果目标没在放血状态，直接放血且不消耗流血层数"}]
[{"$f":"IF(語言配置表!A752=\"\",\"\",語言配置表!A752)","v":749},{"$f":"IF(語言配置表!A752=\"\",\"CN_待填充内容\",語言配置表!B752)","v":"吸收自身灵气凝聚{0}柄大剑，大剑旋转快速穿透敌人对敌人照成{1}%伤害\n敌人如果在流血或放血状态，对敌人造成的伤害+{2}%\n重伤敌人后，如果目标没在放血状态，直接放血且不消耗流血层数"}]
[{"$f":"IF(語言配置表!A753=\"\",\"\",語言配置表!A753)","v":750},{"$f":"IF(語言配置表!A753=\"\",\"CN_待填充内容\",語言配置表!B753)","v":"吸收自身灵气凝聚{0}柄大剑，大剑旋转快速穿透敌人对敌人照成{1}%伤害\n敌人如果在流血或放血状态，对敌人造成的伤害+{2}%\n重伤敌人后，如果目标没在放血状态，直接放血且不消耗流血层数\n全盛状态，剑的体型变大，对拼强度+{3}%，伤害提升{4}%"}]
[{"$f":"IF(語言配置表!A754=\"\",\"\",語言配置表!A754)","v":751},{"$f":"IF(語言配置表!A754=\"\",\"CN_待填充内容\",語言配置表!B754)","v":"向前方挥动{0}次，每次挥动形成一道血刃刀气，对敌人{1}造成伤害，并有{2}%概率对敌人造成流血。"}]
[{"$f":"IF(語言配置表!A755=\"\",\"\",語言配置表!A755)","v":752},{"$f":"IF(語言配置表!A755=\"\",\"CN_待填充内容\",語言配置表!B755)","v":"向前方挥动{0}次，每次挥动形成一道血刃刀气，对敌人{1}造成伤害，并有{2}%概率对敌人造成流血。\n刀气命中目标后，恢复本次伤害{3}%的生命。"}]
[{"$f":"IF(語言配置表!A756=\"\",\"\",語言配置表!A756)","v":753},{"$f":"IF(語言配置表!A756=\"\",\"CN_待填充内容\",語言配置表!B756)","v":"向前方挥动{0}次，每次挥动形成一道血刃刀气，对敌人{1}造成伤害，并有{2}%概率对敌人造成流血。\n刀气命中目标后，恢复本次伤害{3}%的生命。"}]
[{"$f":"IF(語言配置表!A757=\"\",\"\",語言配置表!A757)","v":754},{"$f":"IF(語言配置表!A757=\"\",\"CN_待填充内容\",語言配置表!B757)","v":"向前方挥动{0}次，每次挥动形成一道血刃刀气，对敌人{1}造成伤害，并有{2}%概率对敌人造成流血。\n刀气命中目标后，恢复本次伤害{3}%的生命。"}]
[{"$f":"IF(語言配置表!A758=\"\",\"\",語言配置表!A758)","v":755},{"$f":"IF(語言配置表!A758=\"\",\"CN_待填充内容\",語言配置表!B758)","v":"向前方挥动{0}次，每次挥动形成一道血刃刀气，对敌人{1}造成伤害，并有{2}%概率对敌人造成流血。\n刀气命中目标后，恢复本次伤害{3}%的生命。"}]
[{"$f":"IF(語言配置表!A759=\"\",\"\",語言配置表!A759)","v":756},{"$f":"IF(語言配置表!A759=\"\",\"CN_待填充内容\",語言配置表!B759)","v":"向前方挥动{0}次，每次挥动形成一道血刃刀气，对敌人{1}造成伤害，并有{2}%概率对敌人造成流血。\n刀气命中目标后，恢复本次伤害{3}%的生命。\n刀气对流血的敌人额外造成{4}%伤害，且再施加1层流血。"}]
[{"$f":"IF(語言配置表!A760=\"\",\"\",語言配置表!A760)","v":757},{"$f":"IF(語言配置表!A760=\"\",\"CN_待填充内容\",語言配置表!B760)","v":"发射{0}枚飞刀，对敌人造成{1}%伤害。"}]
[{"$f":"IF(語言配置表!A761=\"\",\"\",語言配置表!A761)","v":758},{"$f":"IF(語言配置表!A761=\"\",\"CN_待填充内容\",語言配置表!B761)","v":"发射{0}枚飞刀，对敌人造成{1}%伤害。"}]
[{"$f":"IF(語言配置表!A762=\"\",\"\",語言配置表!A762)","v":759},{"$f":"IF(語言配置表!A762=\"\",\"CN_待填充内容\",語言配置表!B762)","v":"发射{0}枚飞刀，对敌人造成{1}%伤害。"}]
[{"$f":"IF(語言配置表!A763=\"\",\"\",語言配置表!A763)","v":760},{"$f":"IF(語言配置表!A763=\"\",\"CN_待填充内容\",語言配置表!B763)","v":"发射{0}枚飞刀，对敌人造成{1}%伤害。"}]
[{"$f":"IF(語言配置表!A764=\"\",\"\",語言配置表!A764)","v":761},{"$f":"IF(語言配置表!A764=\"\",\"CN_待填充内容\",語言配置表!B764)","v":"发射{0}枚飞刀，对敌人造成{1}%伤害。"}]
[{"$f":"IF(語言配置表!A765=\"\",\"\",語言配置表!A765)","v":762},{"$f":"IF(語言配置表!A765=\"\",\"CN_待填充内容\",語言配置表!B765)","v":"发射{0}枚飞刀，对敌人造成{1}%伤害。"}]
[{"$f":"IF(語言配置表!A766=\"\",\"\",語言配置表!A766)","v":763},{"$f":"IF(語言配置表!A766=\"\",\"CN_待填充内容\",語言配置表!B766)","v":"手中快速发射{0}%枚金针，对敌人造成{1}%伤害，并有{2}%概率施加1层流血。"}]
[{"$f":"IF(語言配置表!A767=\"\",\"\",語言配置表!A767)","v":764},{"$f":"IF(語言配置表!A767=\"\",\"CN_待填充内容\",語言配置表!B767)","v":"手中快速发射{0}%枚金针，对敌人造成{1}%伤害，并有{2}%概率施加1层流血。"}]
[{"$f":"IF(語言配置表!A768=\"\",\"\",語言配置表!A768)","v":765},{"$f":"IF(語言配置表!A768=\"\",\"CN_待填充内容\",語言配置表!B768)","v":"手中快速发射{0}%枚金针，对敌人造成{1}%伤害，并有{2}%概率施加1层流血。"}]
[{"$f":"IF(語言配置表!A769=\"\",\"\",語言配置表!A769)","v":766},{"$f":"IF(語言配置表!A769=\"\",\"CN_待填充内容\",語言配置表!B769)","v":"手中快速发射{0}%枚金针，对敌人造成{1}%伤害，并有{2}%概率施加1层流血。"}]
[{"$f":"IF(語言配置表!A770=\"\",\"\",語言配置表!A770)","v":767},{"$f":"IF(語言配置表!A770=\"\",\"CN_待填充内容\",語言配置表!B770)","v":"手中快速发射{0}%枚金针，对敌人造成{1}%伤害，并有{2}%概率施加1层流血。"}]
[{"$f":"IF(語言配置表!A771=\"\",\"\",語言配置表!A771)","v":768},{"$f":"IF(語言配置表!A771=\"\",\"CN_待填充内容\",語言配置表!B771)","v":"手中快速发射{0}%枚金针，对敌人造成{1}%伤害，并有{2}%概率施加1层流血。"}]
[{"$f":"IF(語言配置表!A772=\"\",\"\",語言配置表!A772)","v":769},{"$f":"IF(語言配置表!A772=\"\",\"CN_待填充内容\",語言配置表!B772)","v":"发出{0}道寒气冰锥，对敌人照成{1}%伤害，每到冰锥有{2}%概率对敌人施加1层寒气"}]
[{"$f":"IF(語言配置表!A773=\"\",\"\",語言配置表!A773)","v":770},{"$f":"IF(語言配置表!A773=\"\",\"CN_待填充内容\",語言配置表!B773)","v":"发出{0}道寒气冰锥，对敌人照成{1}%伤害，每到冰锥有{2}%概率对敌人施加1层寒气"}]
[{"$f":"IF(語言配置表!A774=\"\",\"\",語言配置表!A774)","v":771},{"$f":"IF(語言配置表!A774=\"\",\"CN_待填充内容\",語言配置表!B774)","v":"发出{0}道寒气冰锥，对敌人照成{1}%伤害，每到冰锥有{2}%概率对敌人施加1层寒气"}]
[{"$f":"IF(語言配置表!A775=\"\",\"\",語言配置表!A775)","v":772},{"$f":"IF(語言配置表!A775=\"\",\"CN_待填充内容\",語言配置表!B775)","v":"发出{0}道寒气冰锥，对敌人照成{1}%伤害，每到冰锥有{2}%概率对敌人施加1层寒气"}]
[{"$f":"IF(語言配置表!A776=\"\",\"\",語言配置表!A776)","v":773},{"$f":"IF(語言配置表!A776=\"\",\"CN_待填充内容\",語言配置表!B776)","v":"发出{0}道寒气冰锥，对敌人照成{1}%伤害，每到冰锥有{2}%概率对敌人施加1层寒气"}]
[{"$f":"IF(語言配置表!A777=\"\",\"\",語言配置表!A777)","v":774},{"$f":"IF(語言配置表!A777=\"\",\"CN_待填充内容\",語言配置表!B777)","v":"发出{0}道寒气冰锥，对敌人照成{1}%伤害，每到冰锥有{2}%概率对敌人施加1层寒气"}]
[{"$f":"IF(語言配置表!A778=\"\",\"\",語言配置表!A778)","v":775},{"$f":"IF(語言配置表!A778=\"\",\"CN_待填充内容\",語言配置表!B778)","v":"身体散发出一团迷雾。从迷雾中飞出{0}个冰球，每个冰球对敌人照成{1}%伤害，并有{2}%概率施加1层寒气"}]
[{"$f":"IF(語言配置表!A779=\"\",\"\",語言配置表!A779)","v":776},{"$f":"IF(語言配置表!A779=\"\",\"CN_待填充内容\",語言配置表!B779)","v":"身体散发出一团迷雾。从迷雾中飞出{0}个冰球，每个冰球对敌人照成{1}%伤害，并有{2}%概率施加1层寒气"}]
[{"$f":"IF(語言配置表!A780=\"\",\"\",語言配置表!A780)","v":777},{"$f":"IF(語言配置表!A780=\"\",\"CN_待填充内容\",語言配置表!B780)","v":"身体散发出一团迷雾。从迷雾中飞出{0}个冰球，每个冰球对敌人照成{1}%伤害，并有{2}%概率施加1层寒气"}]
[{"$f":"IF(語言配置表!A781=\"\",\"\",語言配置表!A781)","v":778},{"$f":"IF(語言配置表!A781=\"\",\"CN_待填充内容\",語言配置表!B781)","v":"身体散发出一团迷雾。从迷雾中飞出{0}个冰球，每个冰球对敌人照成{1}%伤害，并有{2}%概率施加1层寒气"}]
[{"$f":"IF(語言配置表!A782=\"\",\"\",語言配置表!A782)","v":779},{"$f":"IF(語言配置表!A782=\"\",\"CN_待填充内容\",語言配置表!B782)","v":"身体散发出一团迷雾。从迷雾中飞出{0}个冰球，每个冰球对敌人照成{1}%伤害，并有{2}%概率施加1层寒气"}]
[{"$f":"IF(語言配置表!A783=\"\",\"\",語言配置表!A783)","v":780},{"$f":"IF(語言配置表!A783=\"\",\"CN_待填充内容\",語言配置表!B783)","v":"身体散发出一团迷雾。从迷雾中飞出{0}个冰球，每个冰球对敌人照成{1}%伤害，并有{2}%概率施加1层寒气"}]
[{"$f":"IF(語言配置表!A784=\"\",\"\",語言配置表!A784)","v":781},{"$f":"IF(語言配置表!A784=\"\",\"CN_待填充内容\",語言配置表!B784)","v":"占位"}]
[{"$f":"IF(語言配置表!A785=\"\",\"\",語言配置表!A785)","v":782},{"$f":"IF(語言配置表!A785=\"\",\"CN_待填充内容\",語言配置表!B785)","v":"占位"}]
[{"$f":"IF(語言配置表!A786=\"\",\"\",語言配置表!A786)","v":783},{"$f":"IF(語言配置表!A786=\"\",\"CN_待填充内容\",語言配置表!B786)","v":"占位"}]
[{"$f":"IF(語言配置表!A787=\"\",\"\",語言配置表!A787)","v":784},{"$f":"IF(語言配置表!A787=\"\",\"CN_待填充内容\",語言配置表!B787)","v":"占位"}]
[{"$f":"IF(語言配置表!A788=\"\",\"\",語言配置表!A788)","v":785},{"$f":"IF(語言配置表!A788=\"\",\"CN_待填充内容\",語言配置表!B788)","v":"占位"}]
[{"$f":"IF(語言配置表!A789=\"\",\"\",語言配置表!A789)","v":786},{"$f":"IF(語言配置表!A789=\"\",\"CN_待填充内容\",語言配置表!B789)","v":"占位"}]
[{"$f":"IF(語言配置表!A790=\"\",\"\",語言配置表!A790)","v":787},{"$f":"IF(語言配置表!A790=\"\",\"CN_待填充内容\",語言配置表!B790)","v":"发射{0}枚冰刀，对敌人造成{1}%伤害。"}]
[{"$f":"IF(語言配置表!A791=\"\",\"\",語言配置表!A791)","v":788},{"$f":"IF(語言配置表!A791=\"\",\"CN_待填充内容\",語言配置表!B791)","v":"发射{0}枚冰刀，对敌人造成{1}%伤害。"}]
[{"$f":"IF(語言配置表!A792=\"\",\"\",語言配置表!A792)","v":789},{"$f":"IF(語言配置表!A792=\"\",\"CN_待填充内容\",語言配置表!B792)","v":"发射{0}枚冰刀，对敌人造成{1}%伤害。"}]
[{"$f":"IF(語言配置表!A793=\"\",\"\",語言配置表!A793)","v":790},{"$f":"IF(語言配置表!A793=\"\",\"CN_待填充内容\",語言配置表!B793)","v":"发射{0}枚冰刀，对敌人造成{1}%伤害。"}]
[{"$f":"IF(語言配置表!A794=\"\",\"\",語言配置表!A794)","v":791},{"$f":"IF(語言配置表!A794=\"\",\"CN_待填充内容\",語言配置表!B794)","v":"发射{0}枚冰刀，对敌人造成{1}%伤害。"}]
[{"$f":"IF(語言配置表!A795=\"\",\"\",語言配置表!A795)","v":792},{"$f":"IF(語言配置表!A795=\"\",\"CN_待填充内容\",語言配置表!B795)","v":"发射{0}枚冰刀，对敌人造成{1}%伤害。"}]
[{"$f":"IF(語言配置表!A796=\"\",\"\",語言配置表!A796)","v":793},{"$f":"IF(語言配置表!A796=\"\",\"CN_待填充内容\",語言配置表!B796)","v":"发出{0}条细细的毒针，每颗针对敌人照成{1}%金系伤害，每颗针有{2}%概率施加1层毒"}]
[{"$f":"IF(語言配置表!A797=\"\",\"\",語言配置表!A797)","v":794},{"$f":"IF(語言配置表!A797=\"\",\"CN_待填充内容\",語言配置表!B797)","v":"发出{0}条细细的毒针，每颗针对敌人照成{1}%金系伤害，每颗针有{2}%概率施加1层毒"}]
[{"$f":"IF(語言配置表!A798=\"\",\"\",語言配置表!A798)","v":795},{"$f":"IF(語言配置表!A798=\"\",\"CN_待填充内容\",語言配置表!B798)","v":"发出{0}条细细的毒针，每颗针对敌人照成{1}%金系伤害，每颗针有{2}%概率施加1层毒"}]
[{"$f":"IF(語言配置表!A799=\"\",\"\",語言配置表!A799)","v":796},{"$f":"IF(語言配置表!A799=\"\",\"CN_待填充内容\",語言配置表!B799)","v":"发出{0}条细细的毒针，每颗针对敌人照成{1}%金系伤害，每颗针有{2}%概率施加1层毒"}]
[{"$f":"IF(語言配置表!A800=\"\",\"\",語言配置表!A800)","v":797},{"$f":"IF(語言配置表!A800=\"\",\"CN_待填充内容\",語言配置表!B800)","v":"发出{0}条细细的毒针，每颗针对敌人照成{1}%金系伤害，每颗针有{2}%概率施加1层毒"}]
[{"$f":"IF(語言配置表!A801=\"\",\"\",語言配置表!A801)","v":798},{"$f":"IF(語言配置表!A801=\"\",\"CN_待填充内容\",語言配置表!B801)","v":"发出{0}条细细的毒针，每颗针对敌人照成{1}%金系伤害，每颗针有{2}%概率施加1层毒"}]
[{"$f":"IF(語言配置表!A802=\"\",\"\",語言配置表!A802)","v":799},{"$f":"IF(語言配置表!A802=\"\",\"CN_待填充内容\",語言配置表!B802)","v":"快手释放{0}掌，对敌人造成{1}%伤害，并有{2}%几率对敌人施加1层毒，如果敌人毒超过{3}层，则每层毒对敌人的伤害提升{4}%，并有{5}%几率施加一层噬魂。"}]
[{"$f":"IF(語言配置表!A803=\"\",\"\",語言配置表!A803)","v":800},{"$f":"IF(語言配置表!A803=\"\",\"CN_待填充内容\",語言配置表!B803)","v":"快手释放{0}掌，对敌人造成{1}%伤害，并有{2}%几率对敌人施加1层毒，如果敌人毒超过{3}层，则每层毒对敌人的伤害提升{4}%，并有{5}%几率施加一层噬魂。"}]
[{"$f":"IF(語言配置表!A804=\"\",\"\",語言配置表!A804)","v":801},{"$f":"IF(語言配置表!A804=\"\",\"CN_待填充内容\",語言配置表!B804)","v":"快手释放{0}掌，对敌人造成{1}%伤害，并有{2}%几率对敌人施加1层毒，如果敌人毒超过{3}层，则每层毒对敌人的伤害提升{4}%，并有{5}%几率施加一层噬魂。"}]
[{"$f":"IF(語言配置表!A805=\"\",\"\",語言配置表!A805)","v":802},{"$f":"IF(語言配置表!A805=\"\",\"CN_待填充内容\",語言配置表!B805)","v":"快手释放{0}掌，对敌人造成{1}%伤害，并有{2}%几率对敌人施加1层毒，如果敌人毒超过{3}层，则每层毒对敌人的伤害提升{4}%，并有{5}%几率施加一层噬魂。"}]
[{"$f":"IF(語言配置表!A806=\"\",\"\",語言配置表!A806)","v":803},{"$f":"IF(語言配置表!A806=\"\",\"CN_待填充内容\",語言配置表!B806)","v":"快手释放{0}掌，对敌人造成{1}%伤害，并有{2}%几率对敌人施加1层毒，如果敌人毒超过{3}层，则每层毒对敌人的伤害提升{4}%，并有{5}%几率施加一层噬魂。"}]
[{"$f":"IF(語言配置表!A807=\"\",\"\",語言配置表!A807)","v":804},{"$f":"IF(語言配置表!A807=\"\",\"CN_待填充内容\",語言配置表!B807)","v":"快手释放{0}掌，对敌人造成{1}%伤害，并有{2}%几率对敌人施加1层毒，如果敌人毒超过{3}层，则每层毒对敌人的伤害提升{4}%，并有{5}%几率施加一层噬魂。"}]
[{"$f":"IF(語言配置表!A808=\"\",\"\",語言配置表!A808)","v":805},{"$f":"IF(語言配置表!A808=\"\",\"CN_待填充内容\",語言配置表!B808)","v":"占位"}]
[{"$f":"IF(語言配置表!A809=\"\",\"\",語言配置表!A809)","v":806},{"$f":"IF(語言配置表!A809=\"\",\"CN_待填充内容\",語言配置表!B809)","v":"占位"}]
[{"$f":"IF(語言配置表!A810=\"\",\"\",語言配置表!A810)","v":807},{"$f":"IF(語言配置表!A810=\"\",\"CN_待填充内容\",語言配置表!B810)","v":"占位"}]
[{"$f":"IF(語言配置表!A811=\"\",\"\",語言配置表!A811)","v":808},{"$f":"IF(語言配置表!A811=\"\",\"CN_待填充内容\",語言配置表!B811)","v":"占位"}]
[{"$f":"IF(語言配置表!A812=\"\",\"\",語言配置表!A812)","v":809},{"$f":"IF(語言配置表!A812=\"\",\"CN_待填充内容\",語言配置表!B812)","v":"占位"}]
[{"$f":"IF(語言配置表!A813=\"\",\"\",語言配置表!A813)","v":810},{"$f":"IF(語言配置表!A813=\"\",\"CN_待填充内容\",語言配置表!B813)","v":"占位"}]
[{"$f":"IF(語言配置表!A814=\"\",\"\",語言配置表!A814)","v":811},{"$f":"IF(語言配置表!A814=\"\",\"CN_待填充内容\",語言配置表!B814)","v":"发射{0}枚飞叶，对敌人造成{1}%伤害。"}]
[{"$f":"IF(語言配置表!A815=\"\",\"\",語言配置表!A815)","v":812},{"$f":"IF(語言配置表!A815=\"\",\"CN_待填充内容\",語言配置表!B815)","v":"发射{0}枚飞叶，对敌人造成{1}%伤害。"}]
[{"$f":"IF(語言配置表!A816=\"\",\"\",語言配置表!A816)","v":813},{"$f":"IF(語言配置表!A816=\"\",\"CN_待填充内容\",語言配置表!B816)","v":"发射{0}枚飞叶，对敌人造成{1}%伤害。"}]
[{"$f":"IF(語言配置表!A817=\"\",\"\",語言配置表!A817)","v":814},{"$f":"IF(語言配置表!A817=\"\",\"CN_待填充内容\",語言配置表!B817)","v":"发射{0}枚飞叶，对敌人造成{1}%伤害。"}]
[{"$f":"IF(語言配置表!A818=\"\",\"\",語言配置表!A818)","v":815},{"$f":"IF(語言配置表!A818=\"\",\"CN_待填充内容\",語言配置表!B818)","v":"发射{0}枚飞叶，对敌人造成{1}%伤害。"}]
[{"$f":"IF(語言配置表!A819=\"\",\"\",語言配置表!A819)","v":816},{"$f":"IF(語言配置表!A819=\"\",\"CN_待填充内容\",語言配置表!B819)","v":"发射{0}枚飞叶，对敌人造成{1}%伤害。"}]
[{"$f":"IF(語言配置表!A820=\"\",\"\",語言配置表!A820)","v":817},{"$f":"IF(語言配置表!A820=\"\",\"CN_待填充内容\",語言配置表!B820)","v":"向前方发出{0}柄剑，对敌人造成{1}%火系伤害，并有{2}%的概率施加1层灼烧。"}]
[{"$f":"IF(語言配置表!A821=\"\",\"\",語言配置表!A821)","v":818},{"$f":"IF(語言配置表!A821=\"\",\"CN_待填充内容\",語言配置表!B821)","v":"向前方发出{0}柄剑，对敌人造成{1}%火系伤害，并有{2}%的概率施加1层灼烧。"}]
[{"$f":"IF(語言配置表!A822=\"\",\"\",語言配置表!A822)","v":819},{"$f":"IF(語言配置表!A822=\"\",\"CN_待填充内容\",語言配置表!B822)","v":"向前方发出{0}柄剑，对敌人造成{1}%火系伤害，并有{2}%的概率施加1层灼烧。"}]
[{"$f":"IF(語言配置表!A823=\"\",\"\",語言配置表!A823)","v":820},{"$f":"IF(語言配置表!A823=\"\",\"CN_待填充内容\",語言配置表!B823)","v":"向前方发出{0}柄剑，对敌人造成{1}%火系伤害，并有{2}%的概率施加1层灼烧。"}]
[{"$f":"IF(語言配置表!A824=\"\",\"\",語言配置表!A824)","v":821},{"$f":"IF(語言配置表!A824=\"\",\"CN_待填充内容\",語言配置表!B824)","v":"向前方发出{0}柄剑，对敌人造成{1}%火系伤害，并有{2}%的概率施加1层灼烧。"}]
[{"$f":"IF(語言配置表!A825=\"\",\"\",語言配置表!A825)","v":822},{"$f":"IF(語言配置表!A825=\"\",\"CN_待填充内容\",語言配置表!B825)","v":"向前方发出{0}柄剑，对敌人造成{1}%火系伤害，并有{2}%的概率施加1层灼烧。\n每柄烈焰剑将会对敌人照成爆燃，爆燃额外受到{3}%伤害"}]
[{"$f":"IF(語言配置表!A826=\"\",\"\",語言配置表!A826)","v":823},{"$f":"IF(語言配置表!A826=\"\",\"CN_待填充内容\",語言配置表!B826)","v":"飞出{0}道巨龙，对敌人造成{1}火系伤害。"}]
[{"$f":"IF(語言配置表!A827=\"\",\"\",語言配置表!A827)","v":824},{"$f":"IF(語言配置表!A827=\"\",\"CN_待填充内容\",語言配置表!B827)","v":"飞出{0}道巨龙，对敌人造成{1}火系伤害。\n如果敌人处于灼烧中对其造成胆摄，眩晕敌人{2}秒。"}]
[{"$f":"IF(語言配置表!A828=\"\",\"\",語言配置表!A828)","v":825},{"$f":"IF(語言配置表!A828=\"\",\"CN_待填充内容\",語言配置表!B828)","v":"飞出{0}道巨龙，对敌人造成{1}火系伤害。\n如果敌人处于灼烧中对其造成胆摄，眩晕敌人{2}秒。"}]
[{"$f":"IF(語言配置表!A829=\"\",\"\",語言配置表!A829)","v":826},{"$f":"IF(語言配置表!A829=\"\",\"CN_待填充内容\",語言配置表!B829)","v":"飞出{0}道巨龙，对敌人造成{1}火系伤害并{3}%施加1层灼烧。\n如果敌人处于灼烧中对其造成胆摄，眩晕敌人{2}秒。"}]
[{"$f":"IF(語言配置表!A830=\"\",\"\",語言配置表!A830)","v":827},{"$f":"IF(語言配置表!A830=\"\",\"CN_待填充内容\",語言配置表!B830)","v":"飞出{0}道巨龙，对敌人造成{1}火系伤害并{3}%施加1层灼烧。\n如果敌人处于灼烧中对其造成胆摄，眩晕敌人{2}秒。"}]
[{"$f":"IF(語言配置表!A831=\"\",\"\",語言配置表!A831)","v":828},{"$f":"IF(語言配置表!A831=\"\",\"CN_待填充内容\",語言配置表!B831)","v":"飞出{0}道巨龙，对敌人造成{1}火系伤害并{3}%施加1层灼烧。\n如果敌人处于灼烧中对其造成胆摄，眩晕敌人{2}秒。\n飞龙命中目标后引发天雷，对敌人额外造成{4}%伤害。"}]
[{"$f":"IF(語言配置表!A832=\"\",\"\",語言配置表!A832)","v":829},{"$f":"IF(語言配置表!A832=\"\",\"CN_待填充内容\",語言配置表!B832)","v":"身后出现一只大手，每个手指发射{0}道烈焰，对敌人照成{1}伤害同时{2}%概率施加1层灼烧。"}]
[{"$f":"IF(語言配置表!A833=\"\",\"\",語言配置表!A833)","v":830},{"$f":"IF(語言配置表!A833=\"\",\"CN_待填充内容\",語言配置表!B833)","v":"身后出现一只大手，每个手指发射{0}道烈焰，对敌人照成{1}伤害同时{2}%概率施加1层灼烧。\n对有灼烧的敌人额外造成{3}%最终伤害。"}]
[{"$f":"IF(語言配置表!A834=\"\",\"\",語言配置表!A834)","v":831},{"$f":"IF(語言配置表!A834=\"\",\"CN_待填充内容\",語言配置表!B834)","v":"身后出现一只大手，每个手指发射{0}道烈焰，对敌人照成{1}伤害同时{2}%概率施加1层灼烧。\n对有灼烧的敌人额外造成{3}%最终伤害。"}]
[{"$f":"IF(語言配置表!A835=\"\",\"\",語言配置表!A835)","v":832},{"$f":"IF(語言配置表!A835=\"\",\"CN_待填充内容\",語言配置表!B835)","v":"身后出现一只大手，每个手指发射{0}道烈焰，对敌人照成{1}伤害同时{2}%概率施加1层灼烧。\n对有灼烧的敌人额外造成{3}%最终伤害。"}]
[{"$f":"IF(語言配置表!A836=\"\",\"\",語言配置表!A836)","v":833},{"$f":"IF(語言配置表!A836=\"\",\"CN_待填充内容\",語言配置表!B836)","v":"身后出现一只大手，每个手指发射{0}道烈焰，对敌人照成{1}伤害同时{2}%概率施加1层灼烧。\n对有灼烧的敌人额外造成{3}%最终伤害。"}]
[{"$f":"IF(語言配置表!A837=\"\",\"\",語言配置表!A837)","v":834},{"$f":"IF(語言配置表!A837=\"\",\"CN_待填充内容\",語言配置表!B837)","v":"身后出现一只大手，每个手指发射{0}道烈焰，对敌人照成{1}伤害同时{2}%概率施加1层灼烧。\n对有灼烧的敌人额外造成{3}%最终伤害。\n在左右各出现一只大手发射烈焰，但每道烈焰伤害降低{4}%。"}]
[{"$f":"IF(語言配置表!A838=\"\",\"\",語言配置表!A838)","v":835},{"$f":"IF(語言配置表!A838=\"\",\"CN_待填充内容\",語言配置表!B838)","v":"发射{0}枚火球，对敌人造成{1}%伤害。又{2}概率对敌人施加1成灼烧"}]
[{"$f":"IF(語言配置表!A839=\"\",\"\",語言配置表!A839)","v":836},{"$f":"IF(語言配置表!A839=\"\",\"CN_待填充内容\",語言配置表!B839)","v":"发射{0}枚火球，对敌人造成{1}%伤害。又{2}概率对敌人施加1成灼烧"}]
[{"$f":"IF(語言配置表!A840=\"\",\"\",語言配置表!A840)","v":837},{"$f":"IF(語言配置表!A840=\"\",\"CN_待填充内容\",語言配置表!B840)","v":"发射{0}枚火球，对敌人造成{1}%伤害。又{2}概率对敌人施加1成灼烧"}]
[{"$f":"IF(語言配置表!A841=\"\",\"\",語言配置表!A841)","v":838},{"$f":"IF(語言配置表!A841=\"\",\"CN_待填充内容\",語言配置表!B841)","v":"发射{0}枚火球，对敌人造成{1}%伤害。又{2}概率对敌人施加1成灼烧"}]
[{"$f":"IF(語言配置表!A842=\"\",\"\",語言配置表!A842)","v":839},{"$f":"IF(語言配置表!A842=\"\",\"CN_待填充内容\",語言配置表!B842)","v":"发射{0}枚火球，对敌人造成{1}%伤害。又{2}概率对敌人施加1成灼烧"}]
[{"$f":"IF(語言配置表!A843=\"\",\"\",語言配置表!A843)","v":840},{"$f":"IF(語言配置表!A843=\"\",\"CN_待填充内容\",語言配置表!B843)","v":"发射{0}枚火球，对敌人造成{1}%伤害。又{2}概率对敌人施加1成灼烧"}]
[{"$f":"IF(語言配置表!A844=\"\",\"\",語言配置表!A844)","v":841},{"$f":"IF(語言配置表!A844=\"\",\"CN_待填充内容\",語言配置表!B844)","v":"发射{0}枚火刃，对敌人造成{1}%伤害。"}]
[{"$f":"IF(語言配置表!A845=\"\",\"\",語言配置表!A845)","v":842},{"$f":"IF(語言配置表!A845=\"\",\"CN_待填充内容\",語言配置表!B845)","v":"发射{0}枚火刃，对敌人造成{1}%伤害。"}]
[{"$f":"IF(語言配置表!A846=\"\",\"\",語言配置表!A846)","v":843},{"$f":"IF(語言配置表!A846=\"\",\"CN_待填充内容\",語言配置表!B846)","v":"发射{0}枚火刃，对敌人造成{1}%伤害。"}]
[{"$f":"IF(語言配置表!A847=\"\",\"\",語言配置表!A847)","v":844},{"$f":"IF(語言配置表!A847=\"\",\"CN_待填充内容\",語言配置表!B847)","v":"发射{0}枚火刃，对敌人造成{1}%伤害。"}]
[{"$f":"IF(語言配置表!A848=\"\",\"\",語言配置表!A848)","v":845},{"$f":"IF(語言配置表!A848=\"\",\"CN_待填充内容\",語言配置表!B848)","v":"发射{0}枚火刃，对敌人造成{1}%伤害。"}]
[{"$f":"IF(語言配置表!A849=\"\",\"\",語言配置表!A849)","v":846},{"$f":"IF(語言配置表!A849=\"\",\"CN_待填充内容\",語言配置表!B849)","v":"发射{0}枚火刃，对敌人造成{1}%伤害。"}]
[{"$f":"IF(語言配置表!A850=\"\",\"\",語言配置表!A850)","v":847},{"$f":"IF(語言配置表!A850=\"\",\"CN_待填充内容\",語言配置表!B850)","v":"沙尘汇聚成{0}枚土刺，对敌人造成{1}%伤害，并有{2}%概率施加1层细尘。"}]
[{"$f":"IF(語言配置表!A851=\"\",\"\",語言配置表!A851)","v":848},{"$f":"IF(語言配置表!A851=\"\",\"CN_待填充内容\",語言配置表!B851)","v":"沙尘汇聚成{0}枚土刺，对敌人造成{1}%伤害，并有{2}%概率施加1层细尘。"}]
[{"$f":"IF(語言配置表!A852=\"\",\"\",語言配置表!A852)","v":849},{"$f":"IF(語言配置表!A852=\"\",\"CN_待填充内容\",語言配置表!B852)","v":"沙尘汇聚成{0}枚土刺，对敌人造成{1}%伤害，并有{2}%概率施加1层细尘。"}]
[{"$f":"IF(語言配置表!A853=\"\",\"\",語言配置表!A853)","v":850},{"$f":"IF(語言配置表!A853=\"\",\"CN_待填充内容\",語言配置表!B853)","v":"沙尘汇聚成{0}枚土刺，对敌人造成{1}%伤害，并有{2}%概率施加1层细尘。"}]
[{"$f":"IF(語言配置表!A854=\"\",\"\",語言配置表!A854)","v":851},{"$f":"IF(語言配置表!A854=\"\",\"CN_待填充内容\",語言配置表!B854)","v":"沙尘汇聚成{0}枚土刺，对敌人造成{1}%伤害，并有{2}%概率施加1层细尘。"}]
[{"$f":"IF(語言配置表!A855=\"\",\"\",語言配置表!A855)","v":852},{"$f":"IF(語言配置表!A855=\"\",\"CN_待填充内容\",語言配置表!B855)","v":"沙尘汇聚成{0}枚土刺，对敌人造成{1}%伤害，并有{2}%概率施加1层细尘。"}]
[{"$f":"IF(語言配置表!A856=\"\",\"\",語言配置表!A856)","v":853},{"$f":"IF(語言配置表!A856=\"\",\"CN_待填充内容\",語言配置表!B856)","v":"一柄虚空形成的大刀，横空挥砍形成{0}个刀气，对敌人造成{1}%伤害，并有{2}%概率叠加1层破甲"}]
[{"$f":"IF(語言配置表!A857=\"\",\"\",語言配置表!A857)","v":854},{"$f":"IF(語言配置表!A857=\"\",\"CN_待填充内容\",語言配置表!B857)","v":"一柄虚空形成的大刀，横空挥砍形成{0}个刀气，对敌人造成{1}%伤害，并有{2}%概率叠加1层破甲"}]
[{"$f":"IF(語言配置表!A858=\"\",\"\",語言配置表!A858)","v":855},{"$f":"IF(語言配置表!A858=\"\",\"CN_待填充内容\",語言配置表!B858)","v":"一柄虚空形成的大刀，横空挥砍形成{0}个刀气，对敌人造成{1}%伤害，并有{2}%概率叠加1层破甲"}]
[{"$f":"IF(語言配置表!A859=\"\",\"\",語言配置表!A859)","v":856},{"$f":"IF(語言配置表!A859=\"\",\"CN_待填充内容\",語言配置表!B859)","v":"一柄虚空形成的大刀，横空挥砍形成{0}个刀气，对敌人造成{1}%伤害，并有{2}%概率叠加1层破甲"}]
[{"$f":"IF(語言配置表!A860=\"\",\"\",語言配置表!A860)","v":857},{"$f":"IF(語言配置表!A860=\"\",\"CN_待填充内容\",語言配置表!B860)","v":"一柄虚空形成的大刀，横空挥砍形成{0}个刀气，对敌人造成{1}%伤害，并有{2}%概率叠加1层破甲"}]
[{"$f":"IF(語言配置表!A861=\"\",\"\",語言配置表!A861)","v":858},{"$f":"IF(語言配置表!A861=\"\",\"CN_待填充内容\",語言配置表!B861)","v":"一柄虚空形成的大刀，横空挥砍形成{0}个刀气，对敌人造成{1}%伤害，并有{2}%概率叠加1层破甲"}]
[{"$f":"IF(語言配置表!A862=\"\",\"\",語言配置表!A862)","v":859},{"$f":"IF(語言配置表!A862=\"\",\"CN_待填充内容\",語言配置表!B862)","v":"占位"}]
[{"$f":"IF(語言配置表!A863=\"\",\"\",語言配置表!A863)","v":860},{"$f":"IF(語言配置表!A863=\"\",\"CN_待填充内容\",語言配置表!B863)","v":"占位"}]
[{"$f":"IF(語言配置表!A864=\"\",\"\",語言配置表!A864)","v":861},{"$f":"IF(語言配置表!A864=\"\",\"CN_待填充内容\",語言配置表!B864)","v":"占位"}]
[{"$f":"IF(語言配置表!A865=\"\",\"\",語言配置表!A865)","v":862},{"$f":"IF(語言配置表!A865=\"\",\"CN_待填充内容\",語言配置表!B865)","v":"占位"}]
[{"$f":"IF(語言配置表!A866=\"\",\"\",語言配置表!A866)","v":863},{"$f":"IF(語言配置表!A866=\"\",\"CN_待填充内容\",語言配置表!B866)","v":"占位"}]
[{"$f":"IF(語言配置表!A867=\"\",\"\",語言配置表!A867)","v":864},{"$f":"IF(語言配置表!A867=\"\",\"CN_待填充内容\",語言配置表!B867)","v":"占位"}]
[{"$f":"IF(語言配置表!A868=\"\",\"\",語言配置表!A868)","v":865},{"$f":"IF(語言配置表!A868=\"\",\"CN_待填充内容\",語言配置表!B868)","v":"发射{0}枚小石头，对敌人造成{1}%伤害。"}]
[{"$f":"IF(語言配置表!A869=\"\",\"\",語言配置表!A869)","v":866},{"$f":"IF(語言配置表!A869=\"\",\"CN_待填充内容\",語言配置表!B869)","v":"发射{0}枚小石头，对敌人造成{1}%伤害。"}]
[{"$f":"IF(語言配置表!A870=\"\",\"\",語言配置表!A870)","v":867},{"$f":"IF(語言配置表!A870=\"\",\"CN_待填充内容\",語言配置表!B870)","v":"发射{0}枚小石头，对敌人造成{1}%伤害。"}]
[{"$f":"IF(語言配置表!A871=\"\",\"\",語言配置表!A871)","v":868},{"$f":"IF(語言配置表!A871=\"\",\"CN_待填充内容\",語言配置表!B871)","v":"发射{0}枚小石头，对敌人造成{1}%伤害。"}]
[{"$f":"IF(語言配置表!A872=\"\",\"\",語言配置表!A872)","v":869},{"$f":"IF(語言配置表!A872=\"\",\"CN_待填充内容\",語言配置表!B872)","v":"发射{0}枚小石头，对敌人造成{1}%伤害。"}]
[{"$f":"IF(語言配置表!A873=\"\",\"\",語言配置表!A873)","v":870},{"$f":"IF(語言配置表!A873=\"\",\"CN_待填充内容\",語言配置表!B873)","v":"发射{0}枚小石头，对敌人造成{1}%伤害。"}]
[{"$f":"IF(語言配置表!A874=\"\",\"\",語言配置表!A874)","v":871},{"$f":"IF(語言配置表!A874=\"\",\"CN_待填充内容\",語言配置表!B874)","v":"引星辰之力入体，增强玩家体魄，\n让后方槽位的功法无视防御性护盾（功法法宝带来的防护罩、自身护盾）"}]
[{"$f":"IF(語言配置表!A875=\"\",\"\",語言配置表!A875)","v":872},{"$f":"IF(語言配置表!A875=\"\",\"CN_待填充内容\",語言配置表!B875)","v":"引星辰之力入体，增强玩家体魄，\n让后方槽位的功法无视防御性护盾（功法法宝带来的防护罩、自身护盾）"}]
[{"$f":"IF(語言配置表!A876=\"\",\"\",語言配置表!A876)","v":873},{"$f":"IF(語言配置表!A876=\"\",\"CN_待填充内容\",語言配置表!B876)","v":"引星辰之力入体，增强玩家体魄，\n让后方槽位的功法无视防御性护盾（功法法宝带来的防护罩、自身护盾）"}]
[{"$f":"IF(語言配置表!A877=\"\",\"\",語言配置表!A877)","v":874},{"$f":"IF(語言配置表!A877=\"\",\"CN_待填充内容\",語言配置表!B877)","v":"引星辰之力入体，增强玩家体魄，\n让后方槽位的功法无视防御性护盾（功法法宝带来的防护罩、自身护盾）"}]
[{"$f":"IF(語言配置表!A878=\"\",\"\",語言配置表!A878)","v":875},{"$f":"IF(語言配置表!A878=\"\",\"CN_待填充内容\",語言配置表!B878)","v":"引星辰之力入体，增强玩家体魄，\n让后方槽位的功法无视防御性护盾（功法法宝带来的防护罩、自身护盾）"}]
[{"$f":"IF(語言配置表!A879=\"\",\"\",語言配置表!A879)","v":876},{"$f":"IF(語言配置表!A879=\"\",\"CN_待填充内容\",語言配置表!B879)","v":"引星辰之力入体，增强玩家体魄，\n让后方槽位的功法无视防御性护盾（功法法宝带来的防护罩、自身护盾）"}]
[{"$f":"IF(語言配置表!A880=\"\",\"\",語言配置表!A880)","v":877},{"$f":"IF(語言配置表!A880=\"\",\"CN_待填充内容\",語言配置表!B880)","v":"后方槽位技能在击中目标时，为法宝提供{0}%充能"}]
[{"$f":"IF(語言配置表!A881=\"\",\"\",語言配置表!A881)","v":878},{"$f":"IF(語言配置表!A881=\"\",\"CN_待填充内容\",語言配置表!B881)","v":"后方槽位技能在击中目标时，为法宝提供{0}%充能"}]
[{"$f":"IF(語言配置表!A882=\"\",\"\",語言配置表!A882)","v":879},{"$f":"IF(語言配置表!A882=\"\",\"CN_待填充内容\",語言配置表!B882)","v":"后方槽位技能在击中目标时，为法宝提供{0}%充能"}]
[{"$f":"IF(語言配置表!A883=\"\",\"\",語言配置表!A883)","v":880},{"$f":"IF(語言配置表!A883=\"\",\"CN_待填充内容\",語言配置表!B883)","v":"后方槽位技能在击中目标时，为法宝提供{0}%充能"}]
[{"$f":"IF(語言配置表!A884=\"\",\"\",語言配置表!A884)","v":881},{"$f":"IF(語言配置表!A884=\"\",\"CN_待填充内容\",語言配置表!B884)","v":"后方槽位技能在击中目标时，为法宝提供{0}%充能"}]
[{"$f":"IF(語言配置表!A885=\"\",\"\",語言配置表!A885)","v":882},{"$f":"IF(語言配置表!A885=\"\",\"CN_待填充内容\",語言配置表!B885)","v":"后方槽位技能在击中目标时，为法宝提供{0}%充能。\n法宝可以瞬间施放，且规避法宝对拼。"}]
[{"$f":"IF(語言配置表!A886=\"\",\"\",語言配置表!A886)","v":883},{"$f":"IF(語言配置表!A886=\"\",\"CN_待填充内容\",語言配置表!B886)","v":"前方功法造成伤害时有{0}%概率施加一层对应属性的伤势"}]
[{"$f":"IF(語言配置表!A887=\"\",\"\",語言配置表!A887)","v":884},{"$f":"IF(語言配置表!A887=\"\",\"CN_待填充内容\",語言配置表!B887)","v":"前方功法造成伤害时有{0}%概率施加一层对应属性的伤势"}]
[{"$f":"IF(語言配置表!A888=\"\",\"\",語言配置表!A888)","v":885},{"$f":"IF(語言配置表!A888=\"\",\"CN_待填充内容\",語言配置表!B888)","v":"前方功法造成伤害时有{0}%概率施加一层对应属性的伤势"}]
[{"$f":"IF(語言配置表!A889=\"\",\"\",語言配置表!A889)","v":886},{"$f":"IF(語言配置表!A889=\"\",\"CN_待填充内容\",語言配置表!B889)","v":"前方功法造成伤害时有{0}%概率施加一层对应属性的伤势"}]
[{"$f":"IF(語言配置表!A890=\"\",\"\",語言配置表!A890)","v":887},{"$f":"IF(語言配置表!A890=\"\",\"CN_待填充内容\",語言配置表!B890)","v":"前方功法造成伤害时有{0}%概率施加一层对应属性的伤势"}]
[{"$f":"IF(語言配置表!A891=\"\",\"\",語言配置表!A891)","v":888},{"$f":"IF(語言配置表!A891=\"\",\"CN_待填充内容\",語言配置表!B891)","v":"前方功法造成伤害时有{0}%概率施加一层对应属性的伤势"}]
[{"$f":"IF(語言配置表!A892=\"\",\"\",語言配置表!A892)","v":889},{"$f":"IF(語言配置表!A892=\"\",\"CN_待填充内容\",語言配置表!B892)","v":"前后方法宝如果相生则双生效果增强{0}%"}]
[{"$f":"IF(語言配置表!A893=\"\",\"\",語言配置表!A893)","v":890},{"$f":"IF(語言配置表!A893=\"\",\"CN_待填充内容\",語言配置表!B893)","v":"前后方法宝如果相生则双生效果增强{0}%"}]
[{"$f":"IF(語言配置表!A894=\"\",\"\",語言配置表!A894)","v":891},{"$f":"IF(語言配置表!A894=\"\",\"CN_待填充内容\",語言配置表!B894)","v":"前后方法宝如果相生则双生效果增强{0}%"}]
[{"$f":"IF(語言配置表!A895=\"\",\"\",語言配置表!A895)","v":892},{"$f":"IF(語言配置表!A895=\"\",\"CN_待填充内容\",語言配置表!B895)","v":"前后方法宝如果相生则双生效果增强{0}%"}]
[{"$f":"IF(語言配置表!A896=\"\",\"\",語言配置表!A896)","v":893},{"$f":"IF(語言配置表!A896=\"\",\"CN_待填充内容\",語言配置表!B896)","v":"前后方法宝如果相生则双生效果增强{0}%"}]
[{"$f":"IF(語言配置表!A897=\"\",\"\",語言配置表!A897)","v":894},{"$f":"IF(語言配置表!A897=\"\",\"CN_待填充内容\",語言配置表!B897)","v":"前后方法宝如果相生则双生效果增强{0}%。\n前后方法宝如果不相生则双生效果增加{1}%。\n前方后法宝如果相克则双生效果增强{2}%。"}]
[{"$f":"IF(語言配置表!A898=\"\",\"\",語言配置表!A898)","v":895},{"$f":"IF(語言配置表!A898=\"\",\"CN_待填充内容\",語言配置表!B898)","v":"每层经过火经脉时使火系功法伤害提升{0}%，最多叠加{1}层"}]
[{"$f":"IF(語言配置表!A899=\"\",\"\",語言配置表!A899)","v":896},{"$f":"IF(語言配置表!A899=\"\",\"CN_待填充内容\",語言配置表!B899)","v":"每层经过火经脉时使火系功法伤害提升{0}%，最多叠加{1}层"}]
[{"$f":"IF(語言配置表!A900=\"\",\"\",語言配置表!A900)","v":897},{"$f":"IF(語言配置表!A900=\"\",\"CN_待填充内容\",語言配置表!B900)","v":"每层经过火经脉时使火系功法伤害提升{0}%，最多叠加{1}层"}]
[{"$f":"IF(語言配置表!A901=\"\",\"\",語言配置表!A901)","v":898},{"$f":"IF(語言配置表!A901=\"\",\"CN_待填充内容\",語言配置表!B901)","v":"每层经过火经脉时使火系功法伤害提升{0}%，最多叠加{1}层"}]
[{"$f":"IF(語言配置表!A902=\"\",\"\",語言配置表!A902)","v":899},{"$f":"IF(語言配置表!A902=\"\",\"CN_待填充内容\",語言配置表!B902)","v":"每层经过火经脉时使火系功法伤害提升{0}%，最多叠加{1}层"}]
[{"$f":"IF(語言配置表!A903=\"\",\"\",語言配置表!A903)","v":900},{"$f":"IF(語言配置表!A903=\"\",\"CN_待填充内容\",語言配置表!B903)","v":"每层经过火经脉时使火系功法伤害提升{0}%，最多叠加{1}层。\n当达到满层后，任何火系功法命中时都会施加{1}层灼烧。"}]
[{"$f":"IF(語言配置表!A904=\"\",\"\",語言配置表!A904)","v":901},{"$f":"IF(語言配置表!A904=\"\",\"CN_待填充内容\",語言配置表!B904)","v":"后方槽位第一个技能体型巨大化，且在对碰中强度增加{0}%"}]
[{"$f":"IF(語言配置表!A905=\"\",\"\",語言配置表!A905)","v":902},{"$f":"IF(語言配置表!A905=\"\",\"CN_待填充内容\",語言配置表!B905)","v":"后方槽位第一个技能体型巨大化，且在对碰中强度增加{0}%"}]
[{"$f":"IF(語言配置表!A906=\"\",\"\",語言配置表!A906)","v":903},{"$f":"IF(語言配置表!A906=\"\",\"CN_待填充内容\",語言配置表!B906)","v":"后方槽位第一个技能体型巨大化，且在对碰中强度增加{0}%"}]
[{"$f":"IF(語言配置表!A907=\"\",\"\",語言配置表!A907)","v":904},{"$f":"IF(語言配置表!A907=\"\",\"CN_待填充内容\",語言配置表!B907)","v":"后方槽位第一个技能体型巨大化，且在对碰中强度增加{0}%"}]
[{"$f":"IF(語言配置表!A908=\"\",\"\",語言配置表!A908)","v":905},{"$f":"IF(語言配置表!A908=\"\",\"CN_待填充内容\",語言配置表!B908)","v":"后方槽位第一个技能体型巨大化，且在对碰中强度增加{0}%"}]
[{"$f":"IF(語言配置表!A909=\"\",\"\",語言配置表!A909)","v":906},{"$f":"IF(語言配置表!A909=\"\",\"CN_待填充内容\",語言配置表!B909)","v":"后方槽位第一个技能体型巨大化，且在对碰中强度增加{0}%\n巨大化的功法对拼耗尽不再消失，而是恢复{1}%强度"}]
[{"$f":"IF(語言配置表!A910=\"\",\"\",語言配置表!A910)","v":907},{"$f":"IF(語言配置表!A910=\"\",\"CN_待填充内容\",語言配置表!B910)","v":"后槽位技能在催动时获得转盘加速{0}%,持续{1}秒"}]
[{"$f":"IF(語言配置表!A911=\"\",\"\",語言配置表!A911)","v":908},{"$f":"IF(語言配置表!A911=\"\",\"CN_待填充内容\",語言配置表!B911)","v":"后槽位技能在催动时获得转盘加速{0}%,持续{1}秒"}]
[{"$f":"IF(語言配置表!A912=\"\",\"\",語言配置表!A912)","v":909},{"$f":"IF(語言配置表!A912=\"\",\"CN_待填充内容\",語言配置表!B912)","v":"后槽位技能在催动时获得转盘加速{0}%,持续{1}秒"}]
[{"$f":"IF(語言配置表!A913=\"\",\"\",語言配置表!A913)","v":910},{"$f":"IF(語言配置表!A913=\"\",\"CN_待填充内容\",語言配置表!B913)","v":"后槽位技能在催动时获得转盘加速{0}%,持续{1}秒"}]
[{"$f":"IF(語言配置表!A914=\"\",\"\",語言配置表!A914)","v":911},{"$f":"IF(語言配置表!A914=\"\",\"CN_待填充内容\",語言配置表!B914)","v":"后槽位技能在催动时获得转盘加速{0}%,持续{1}秒"}]
[{"$f":"IF(語言配置表!A915=\"\",\"\",語言配置表!A915)","v":912},{"$f":"IF(語言配置表!A915=\"\",\"CN_待填充内容\",語言配置表!B915)","v":"后槽位技能在催动时获得转盘加速{0}%,持续{1}秒\n加速期间，伤害提升{1}%"}]
[{"$f":"IF(語言配置表!A916=\"\",\"\",語言配置表!A916)","v":913},{"$f":"IF(語言配置表!A916=\"\",\"CN_待填充内容\",語言配置表!B916)","v":"后方槽位如果是剑功法，在释放功法时额外释放{0}道剑气，对敌人造成{1}%伤害，并无视护盾类效果"}]
[{"$f":"IF(語言配置表!A917=\"\",\"\",語言配置表!A917)","v":914},{"$f":"IF(語言配置表!A917=\"\",\"CN_待填充内容\",語言配置表!B917)","v":"后方槽位如果是剑功法，在释放功法时额外释放{0}道剑气，对敌人造成{1}%伤害，并无视护盾类效果"}]
[{"$f":"IF(語言配置表!A918=\"\",\"\",語言配置表!A918)","v":915},{"$f":"IF(語言配置表!A918=\"\",\"CN_待填充内容\",語言配置表!B918)","v":"后方槽位如果是剑功法，在释放功法时额外释放{0}道剑气，对敌人造成{1}%伤害，并无视护盾类效果"}]
[{"$f":"IF(語言配置表!A919=\"\",\"\",語言配置表!A919)","v":916},{"$f":"IF(語言配置表!A919=\"\",\"CN_待填充内容\",語言配置表!B919)","v":"后方槽位如果是剑功法，在释放功法时额外释放{0}道剑气，对敌人造成{1}%伤害，并无视护盾类效果"}]
[{"$f":"IF(語言配置表!A920=\"\",\"\",語言配置表!A920)","v":917},{"$f":"IF(語言配置表!A920=\"\",\"CN_待填充内容\",語言配置表!B920)","v":"后方槽位如果是剑功法，在释放功法时额外释放{0}道剑气，对敌人造成{1}%伤害，并无视护盾类效果"}]
[{"$f":"IF(語言配置表!A921=\"\",\"\",語言配置表!A921)","v":918},{"$f":"IF(語言配置表!A921=\"\",\"CN_待填充内容\",語言配置表!B921)","v":"前方和后方槽位如果是剑功法，在释放功法时额外释放{0}道剑气，对敌人造成{0}%伤害，并无视护盾类效果\n该剑气会对敌人施加{2}层流血"}]
[{"$f":"IF(語言配置表!A922=\"\",\"\",語言配置表!A922)","v":919},{"$f":"IF(語言配置表!A922=\"\",\"CN_待填充内容\",語言配置表!B922)","v":"对敌人照成伤害，使敌人五行混乱。敌人的功法每次使用功法都将使用最低灵根属性作为伤害计算，持续{0}秒"}]
[{"$f":"IF(語言配置表!A923=\"\",\"\",語言配置表!A923)","v":920},{"$f":"IF(語言配置表!A923=\"\",\"CN_待填充内容\",語言配置表!B923)","v":"对敌人照成伤害，使敌人五行混乱。敌人的功法每次使用功法都将使用最低灵根属性作为伤害计算，持续{0}秒"}]
[{"$f":"IF(語言配置表!A924=\"\",\"\",語言配置表!A924)","v":921},{"$f":"IF(語言配置表!A924=\"\",\"CN_待填充内容\",語言配置表!B924)","v":"对敌人照成伤害，使敌人五行混乱。敌人的功法每次使用功法都将使用最低灵根属性作为伤害计算，持续{0}秒"}]
[{"$f":"IF(語言配置表!A925=\"\",\"\",語言配置表!A925)","v":922},{"$f":"IF(語言配置表!A925=\"\",\"CN_待填充内容\",語言配置表!B925)","v":"对敌人照成伤害，使敌人五行混乱。敌人的功法每次使用功法都将使用最低灵根属性作为伤害计算，持续{0}秒"}]
[{"$f":"IF(語言配置表!A926=\"\",\"\",語言配置表!A926)","v":923},{"$f":"IF(語言配置表!A926=\"\",\"CN_待填充内容\",語言配置表!B926)","v":"对敌人照成伤害，使敌人五行混乱。敌人的功法每次使用功法都将使用最低灵根属性作为伤害计算，持续{0}秒"}]
[{"$f":"IF(語言配置表!A927=\"\",\"\",語言配置表!A927)","v":924},{"$f":"IF(語言配置表!A927=\"\",\"CN_待填充内容\",語言配置表!B927)","v":"对敌人照成伤害，使敌人五行混乱。敌人的功法每次使用功法都将使用最低灵根属性作为伤害计算，持续{0}秒\n神农鼎生效期间，使敌人的所有灵根降低{1}%。"}]
[{"$f":"IF(語言配置表!A928=\"\",\"\",語言配置表!A928)","v":925},{"$f":"IF(語言配置表!A928=\"\",\"CN_待填充内容\",語言配置表!B928)","v":"无视敌人灵根，对敌人造成大量伤害，同时让五行伤势+1"}]
[{"$f":"IF(語言配置表!A929=\"\",\"\",語言配置表!A929)","v":926},{"$f":"IF(語言配置表!A929=\"\",\"CN_待填充内容\",語言配置表!B929)","v":"无视敌人灵根，对敌人造成大量伤害，同时让五行伤势+1"}]
[{"$f":"IF(語言配置表!A930=\"\",\"\",語言配置表!A930)","v":927},{"$f":"IF(語言配置表!A930=\"\",\"CN_待填充内容\",語言配置表!B930)","v":"无视敌人灵根，对敌人造成大量伤害，同时让五行伤势+1"}]
[{"$f":"IF(語言配置表!A931=\"\",\"\",語言配置表!A931)","v":928},{"$f":"IF(語言配置表!A931=\"\",\"CN_待填充内容\",語言配置表!B931)","v":"无视敌人灵根，对敌人造成大量伤害，同时让五行伤势+1"}]
[{"$f":"IF(語言配置表!A932=\"\",\"\",語言配置表!A932)","v":929},{"$f":"IF(語言配置表!A932=\"\",\"CN_待填充内容\",語言配置表!B932)","v":"无视敌人灵根，对敌人造成大量伤害，同时让五行伤势+1"}]
[{"$f":"IF(語言配置表!A933=\"\",\"\",語言配置表!A933)","v":930},{"$f":"IF(語言配置表!A933=\"\",\"CN_待填充内容\",語言配置表!B933)","v":"无视敌人灵根，对敌人造成大量伤害，同时让五行伤势+1"}]
[{"$f":"IF(語言配置表!A934=\"\",\"\",語言配置表!A934)","v":931},{"$f":"IF(語言配置表!A934=\"\",\"CN_待填充内容\",語言配置表!B934)","v":"战场区域形成一个域。敌人的功法弹道进入域后将降低敌人{0}%的功法弹道速度，持续{1}秒"}]
[{"$f":"IF(語言配置表!A935=\"\",\"\",語言配置表!A935)","v":932},{"$f":"IF(語言配置表!A935=\"\",\"CN_待填充内容\",語言配置表!B935)","v":"战场区域形成一个域。敌人的功法弹道进入域后将降低敌人{0}%的功法弹道速度，持续{1}秒"}]
[{"$f":"IF(語言配置表!A936=\"\",\"\",語言配置表!A936)","v":933},{"$f":"IF(語言配置表!A936=\"\",\"CN_待填充内容\",語言配置表!B936)","v":"战场区域形成一个域。敌人的功法弹道进入域后将降低敌人{0}%的功法弹道速度，持续{1}秒"}]
[{"$f":"IF(語言配置表!A937=\"\",\"\",語言配置表!A937)","v":934},{"$f":"IF(語言配置表!A937=\"\",\"CN_待填充内容\",語言配置表!B937)","v":"战场区域形成一个域。敌人的功法弹道进入域后将降低敌人{0}%的功法弹道速度，持续{1}秒"}]
[{"$f":"IF(語言配置表!A938=\"\",\"\",語言配置表!A938)","v":935},{"$f":"IF(語言配置表!A938=\"\",\"CN_待填充内容\",語言配置表!B938)","v":"战场区域形成一个域。敌人的功法弹道进入域后将降低敌人{0}%的功法弹道速度，持续{1}秒"}]
[{"$f":"IF(語言配置表!A939=\"\",\"\",語言配置表!A939)","v":936},{"$f":"IF(語言配置表!A939=\"\",\"CN_待填充内容\",語言配置表!B939)","v":"战场区域形成一个域。敌人的功法弹道进入域后将降低敌人{0}%的功法弹道速度，持续{1}秒\n受影响的敌方功法强度降低{2}%"}]
[{"$f":"IF(語言配置表!A940=\"\",\"\",語言配置表!A940)","v":937},{"$f":"IF(語言配置表!A940=\"\",\"CN_待填充内容\",語言配置表!B940)","v":"用后{2}秒内大幅提升所有灵根{0}%，一场战斗可使用{1}次"}]
[{"$f":"IF(語言配置表!A941=\"\",\"\",語言配置表!A941)","v":938},{"$f":"IF(語言配置表!A941=\"\",\"CN_待填充内容\",語言配置表!B941)","v":"用后{2}秒内大幅提升所有灵根{0}%，一场战斗可使用{1}次"}]
[{"$f":"IF(語言配置表!A942=\"\",\"\",語言配置表!A942)","v":939},{"$f":"IF(語言配置表!A942=\"\",\"CN_待填充内容\",語言配置表!B942)","v":"用后{2}秒内大幅提升所有灵根{0}%，一场战斗可使用{1}次"}]
[{"$f":"IF(語言配置表!A943=\"\",\"\",語言配置表!A943)","v":940},{"$f":"IF(語言配置表!A943=\"\",\"CN_待填充内容\",語言配置表!B943)","v":"用后{2}秒内大幅提升所有灵根{0}%，一场战斗可使用{1}次"}]
[{"$f":"IF(語言配置表!A944=\"\",\"\",語言配置表!A944)","v":941},{"$f":"IF(語言配置表!A944=\"\",\"CN_待填充内容\",語言配置表!B944)","v":"用后{2}秒内大幅提升所有灵根{0}%，一场战斗可使用{1}次"}]
[{"$f":"IF(語言配置表!A945=\"\",\"\",語言配置表!A945)","v":942},{"$f":"IF(語言配置表!A945=\"\",\"CN_待填充内容\",語言配置表!B945)","v":"用后{2}秒内大幅提升所有灵根{0}%，一场战斗可使用{1}次\n混沌珠生效期间，己方所有功法额外增伤{3}%"}]
[{"$f":"IF(語言配置表!A946=\"\",\"\",語言配置表!A946)","v":943},{"$f":"IF(語言配置表!A946=\"\",\"CN_待填充内容\",語言配置表!B946)","v":"对敌人照成水系伤害，封锁敌人筋脉随机{0}个格子流动{1}秒"}]
[{"$f":"IF(語言配置表!A947=\"\",\"\",語言配置表!A947)","v":944},{"$f":"IF(語言配置表!A947=\"\",\"CN_待填充内容\",語言配置表!B947)","v":"对敌人照成水系伤害，封锁敌人筋脉随机{0}个格子流动{1}秒"}]
[{"$f":"IF(語言配置表!A948=\"\",\"\",語言配置表!A948)","v":945},{"$f":"IF(語言配置表!A948=\"\",\"CN_待填充内容\",語言配置表!B948)","v":"对敌人照成水系伤害，封锁敌人筋脉随机{0}个格子流动{1}秒"}]
[{"$f":"IF(語言配置表!A949=\"\",\"\",語言配置表!A949)","v":946},{"$f":"IF(語言配置表!A949=\"\",\"CN_待填充内容\",語言配置表!B949)","v":"对敌人照成水系伤害，封锁敌人筋脉随机{0}个格子流动{1}秒"}]
[{"$f":"IF(語言配置表!A950=\"\",\"\",語言配置表!A950)","v":947},{"$f":"IF(語言配置表!A950=\"\",\"CN_待填充内容\",語言配置表!B950)","v":"对敌人照成水系伤害，封锁敌人筋脉随机{0}个格子流动{1}秒"}]
[{"$f":"IF(語言配置表!A951=\"\",\"\",語言配置表!A951)","v":948},{"$f":"IF(語言配置表!A951=\"\",\"CN_待填充内容\",語言配置表!B951)","v":"对敌人照成水系伤害，封锁敌人筋脉随机{0}个格子流动{1}秒"}]
[{"$f":"IF(語言配置表!A952=\"\",\"\",語言配置表!A952)","v":949},{"$f":"IF(語言配置表!A952=\"\",\"CN_待填充内容\",語言配置表!B952)","v":"对敌人造成{2}%伤害，并随机封锁敌人{0}个法宝，让其{1}秒内不能使用"}]
[{"$f":"IF(語言配置表!A953=\"\",\"\",語言配置表!A953)","v":950},{"$f":"IF(語言配置表!A953=\"\",\"CN_待填充内容\",語言配置表!B953)","v":"对敌人造成{2}%伤害，并随机封锁敌人{0}个法宝，让其{1}秒内不能使用"}]
[{"$f":"IF(語言配置表!A954=\"\",\"\",語言配置表!A954)","v":951},{"$f":"IF(語言配置表!A954=\"\",\"CN_待填充内容\",語言配置表!B954)","v":"对敌人造成{2}%伤害，并随机封锁敌人{0}个法宝，让其{1}秒内不能使用"}]
[{"$f":"IF(語言配置表!A955=\"\",\"\",語言配置表!A955)","v":952},{"$f":"IF(語言配置表!A955=\"\",\"CN_待填充内容\",語言配置表!B955)","v":"对敌人造成{2}%伤害，并随机封锁敌人{0}个法宝，让其{1}秒内不能使用\n如果影响的法宝是相生法宝，则使其充能时间延长{3}%直至战斗结束"}]
[{"$f":"IF(語言配置表!A956=\"\",\"\",語言配置表!A956)","v":953},{"$f":"IF(語言配置表!A956=\"\",\"CN_待填充内容\",語言配置表!B956)","v":"对敌人造成{2}%伤害，并随机封锁敌人{0}个法宝，让其{1}秒内不能使用\n如果影响的法宝是相生法宝，则使其充能时间延长{3}%直至战斗结束"}]
[{"$f":"IF(語言配置表!A957=\"\",\"\",語言配置表!A957)","v":954},{"$f":"IF(語言配置表!A957=\"\",\"CN_待填充内容\",語言配置表!B957)","v":"对敌人造成{2}%伤害，并随机封锁敌人{0}个法宝，让其{1}秒内不能使用\n如果影响的法宝是相生法宝，则使其充能时间延长{3}%直至战斗结束"}]
[{"$f":"IF(語言配置表!A958=\"\",\"\",語言配置表!A958)","v":955},{"$f":"IF(語言配置表!A958=\"\",\"CN_待填充内容\",語言配置表!B958)","v":"一盏明灯围绕玩家，{0}秒内抵消所有负面效果，每{1}秒触发1次。"}]
[{"$f":"IF(語言配置表!A959=\"\",\"\",語言配置表!A959)","v":956},{"$f":"IF(語言配置表!A959=\"\",\"CN_待填充内容\",語言配置表!B959)","v":"一盏明灯围绕玩家，{0}秒内抵消所有负面效果，每{1}秒触发1次。"}]
[{"$f":"IF(語言配置表!A960=\"\",\"\",語言配置表!A960)","v":957},{"$f":"IF(語言配置表!A960=\"\",\"CN_待填充内容\",語言配置表!B960)","v":"一盏明灯围绕玩家，{0}秒内抵消所有负面效果，每{1}秒触发1次。"}]
[{"$f":"IF(語言配置表!A961=\"\",\"\",語言配置表!A961)","v":958},{"$f":"IF(語言配置表!A961=\"\",\"CN_待填充内容\",語言配置表!B961)","v":"一盏明灯围绕玩家，{0}秒内抵消所有负面效果，每{1}秒触发1次。"}]
[{"$f":"IF(語言配置表!A962=\"\",\"\",語言配置表!A962)","v":959},{"$f":"IF(語言配置表!A962=\"\",\"CN_待填充内容\",語言配置表!B962)","v":"一盏明灯围绕玩家，{0}秒内抵消所有负面效果，每{1}秒触发1次。"}]
[{"$f":"IF(語言配置表!A963=\"\",\"\",語言配置表!A963)","v":960},{"$f":"IF(語言配置表!A963=\"\",\"CN_待填充内容\",語言配置表!B963)","v":"一盏明灯围绕玩家，{0}秒内抵消所有负面效果，每{1}秒触发1次。"}]
[{"$f":"IF(語言配置表!A964=\"\",\"\",語言配置表!A964)","v":961},{"$f":"IF(語言配置表!A964=\"\",\"CN_待填充内容\",語言配置表!B964)","v":"宝塔在英雄的头顶前往位置旋转，形成一个扇形区域，敌人的功法如果进入这个扇形区域有{0}%概率被法宝吸收，持续{1}秒"}]
[{"$f":"IF(語言配置表!A965=\"\",\"\",語言配置表!A965)","v":962},{"$f":"IF(語言配置表!A965=\"\",\"CN_待填充内容\",語言配置表!B965)","v":"宝塔在英雄的头顶前往位置旋转，形成一个扇形区域，敌人的功法如果进入这个扇形区域有{0}%概率被法宝吸收，持续{1}秒"}]
[{"$f":"IF(語言配置表!A966=\"\",\"\",語言配置表!A966)","v":963},{"$f":"IF(語言配置表!A966=\"\",\"CN_待填充内容\",語言配置表!B966)","v":"宝塔在英雄的头顶前往位置旋转，形成一个扇形区域，敌人的功法如果进入这个扇形区域有{0}%概率被法宝吸收，持续{1}秒"}]
[{"$f":"IF(語言配置表!A967=\"\",\"\",語言配置表!A967)","v":964},{"$f":"IF(語言配置表!A967=\"\",\"CN_待填充内容\",語言配置表!B967)","v":"宝塔在英雄的头顶前往位置旋转，形成一个扇形区域，敌人的功法如果进入这个扇形区域有{0}%概率被法宝吸收，持续{1}秒"}]
[{"$f":"IF(語言配置表!A968=\"\",\"\",語言配置表!A968)","v":965},{"$f":"IF(語言配置表!A968=\"\",\"CN_待填充内容\",語言配置表!B968)","v":"宝塔在英雄的头顶前往位置旋转，形成一个扇形区域，敌人的功法如果进入这个扇形区域有{0}%概率被法宝吸收，持续{1}秒"}]
[{"$f":"IF(語言配置表!A969=\"\",\"\",語言配置表!A969)","v":966},{"$f":"IF(語言配置表!A969=\"\",\"CN_待填充内容\",語言配置表!B969)","v":"宝塔在英雄的头顶前往位置旋转，形成一个扇形区域，敌人的功法如果进入这个扇形区域有{0}%概率被法宝吸收，持续{1}秒\n敌方功法被吸收后，己方英雄临时增加{2}点对应五行灵根，持续{3}秒"}]
[{"$f":"IF(語言配置表!A970=\"\",\"\",語言配置表!A970)","v":967},{"$f":"IF(語言配置表!A970=\"\",\"CN_待填充内容\",語言配置表!B970)","v":"打断对手当前正在生效中的法宝"}]
[{"$f":"IF(語言配置表!A971=\"\",\"\",語言配置表!A971)","v":968},{"$f":"IF(語言配置表!A971=\"\",\"CN_待填充内容\",語言配置表!B971)","v":"打断对手当前正在生效中的法宝\n可以打断准备生效中的法宝，且避免己方法宝进入对拼状态，持续{0}秒"}]
[{"$f":"IF(語言配置表!A972=\"\",\"\",語言配置表!A972)","v":969},{"$f":"IF(語言配置表!A972=\"\",\"CN_待填充内容\",語言配置表!B972)","v":"打断对手当前正在生效中的法宝\n可以打断准备生效中的法宝，且避免己方法宝进入对拼状态，持续{0}秒"}]
[{"$f":"IF(語言配置表!A973=\"\",\"\",語言配置表!A973)","v":970},{"$f":"IF(語言配置表!A973=\"\",\"CN_待填充内容\",語言配置表!B973)","v":"打断对手当前正在生效中的法宝\n可以打断准备生效中的法宝，且避免己方法宝进入对拼状态，持续{0}秒"}]
[{"$f":"IF(語言配置表!A974=\"\",\"\",語言配置表!A974)","v":971},{"$f":"IF(語言配置表!A974=\"\",\"CN_待填充内容\",語言配置表!B974)","v":"打断对手当前正在生效中的法宝\n可以打断准备生效中的法宝，且避免己方法宝进入对拼状态，持续{0}秒"}]
[{"$f":"IF(語言配置表!A975=\"\",\"\",語言配置表!A975)","v":972},{"$f":"IF(語言配置表!A975=\"\",\"CN_待填充内容\",語言配置表!B975)","v":"打断对手当前正在生效中的法宝\n可以打断准备生效中的法宝，且避免己方法宝进入对拼状态，持续{0}秒\n每打断一次法宝，使禁元珠的冷却时间缩减{1}%，最多{2}次"}]
[{"$f":"IF(語言配置表!A976=\"\",\"\",語言配置表!A976)","v":973},{"$f":"IF(語言配置表!A976=\"\",\"CN_待填充内容\",語言配置表!B976)","v":"前方形成土系防御盾，抵挡相当于自身生命上限{0}%的伤害，持续{1}秒"}]
[{"$f":"IF(語言配置表!A977=\"\",\"\",語言配置表!A977)","v":974},{"$f":"IF(語言配置表!A977=\"\",\"CN_待填充内容\",語言配置表!B977)","v":"前方形成土系防御盾，抵挡相当于自身生命上限{0}%的伤害，持续{1}秒"}]
[{"$f":"IF(語言配置表!A978=\"\",\"\",語言配置表!A978)","v":975},{"$f":"IF(語言配置表!A978=\"\",\"CN_待填充内容\",語言配置表!B978)","v":"前方形成土系防御盾，抵挡相当于自身生命上限{0}%的伤害，持续{1}秒"}]
[{"$f":"IF(語言配置表!A979=\"\",\"\",語言配置表!A979)","v":976},{"$f":"IF(語言配置表!A979=\"\",\"CN_待填充内容\",語言配置表!B979)","v":"前方形成土系防御盾，抵挡相当于自身生命上限{0}%的伤害，持续{1}秒"}]
[{"$f":"IF(語言配置表!A980=\"\",\"\",語言配置表!A980)","v":977},{"$f":"IF(語言配置表!A980=\"\",\"CN_待填充内容\",語言配置表!B980)","v":"前方形成土系防御盾，抵挡相当于自身生命上限{0}%的伤害，持续{1}秒"}]
[{"$f":"IF(語言配置表!A981=\"\",\"\",語言配置表!A981)","v":978},{"$f":"IF(語言配置表!A981=\"\",\"CN_待填充内容\",語言配置表!B981)","v":"前方形成土系防御盾，抵挡相当于自身生命上限{0}%的伤害，持续{1}秒"}]
[{"$f":"IF(語言配置表!A982=\"\",\"\",語言配置表!A982)","v":979},{"$f":"IF(語言配置表!A982=\"\",\"CN_待填充内容\",語言配置表!B982)","v":"对敌人照成土属性伤害，并封锁敌人土系经络6秒"}]
[{"$f":"IF(語言配置表!A983=\"\",\"\",語言配置表!A983)","v":980},{"$f":"IF(語言配置表!A983=\"\",\"CN_待填充内容\",語言配置表!B983)","v":"对敌人照成土属性伤害，并封锁敌人土系经络6秒"}]
[{"$f":"IF(語言配置表!A984=\"\",\"\",語言配置表!A984)","v":981},{"$f":"IF(語言配置表!A984=\"\",\"CN_待填充内容\",語言配置表!B984)","v":"对敌人照成土属性伤害，并封锁敌人土系经络6秒"}]
[{"$f":"IF(語言配置表!A985=\"\",\"\",語言配置表!A985)","v":982},{"$f":"IF(語言配置表!A985=\"\",\"CN_待填充内容\",語言配置表!B985)","v":"对敌人照成土属性伤害，并封锁敌人土系经络6秒"}]
[{"$f":"IF(語言配置表!A986=\"\",\"\",語言配置表!A986)","v":983},{"$f":"IF(語言配置表!A986=\"\",\"CN_待填充内容\",語言配置表!B986)","v":"对敌人照成土属性伤害，并封锁敌人土系经络6秒"}]
[{"$f":"IF(語言配置表!A987=\"\",\"\",語言配置表!A987)","v":984},{"$f":"IF(語言配置表!A987=\"\",\"CN_待填充内容\",語言配置表!B987)","v":"对敌人照成土属性伤害，并封锁敌人土系经络6秒"}]
[{"$f":"IF(語言配置表!A988=\"\",\"\",語言配置表!A988)","v":985},{"$f":"IF(語言配置表!A988=\"\",\"CN_待填充内容\",語言配置表!B988)","v":"技能描述占位，勿占"}]
[{"$f":"IF(語言配置表!A989=\"\",\"\",語言配置表!A989)","v":986},{"$f":"IF(語言配置表!A989=\"\",\"CN_待填充内容\",語言配置表!B989)","v":"技能描述占位，勿占"}]
[{"$f":"IF(語言配置表!A990=\"\",\"\",語言配置表!A990)","v":987},{"$f":"IF(語言配置表!A990=\"\",\"CN_待填充内容\",語言配置表!B990)","v":"技能描述占位，勿占"}]
[{"$f":"IF(語言配置表!A991=\"\",\"\",語言配置表!A991)","v":988},{"$f":"IF(語言配置表!A991=\"\",\"CN_待填充内容\",語言配置表!B991)","v":"技能描述占位，勿占"}]
[{"$f":"IF(語言配置表!A992=\"\",\"\",語言配置表!A992)","v":989},{"$f":"IF(語言配置表!A992=\"\",\"CN_待填充内容\",語言配置表!B992)","v":"技能描述占位，勿占"}]
[{"$f":"IF(語言配置表!A993=\"\",\"\",語言配置表!A993)","v":990},{"$f":"IF(語言配置表!A993=\"\",\"CN_待填充内容\",語言配置表!B993)","v":"技能描述占位，勿占"}]
[{"$f":"IF(語言配置表!A994=\"\",\"\",語言配置表!A994)","v":991},{"$f":"IF(語言配置表!A994=\"\",\"CN_待填充内容\",語言配置表!B994)","v":"技能描述占位，勿占"}]
[{"$f":"IF(語言配置表!A995=\"\",\"\",語言配置表!A995)","v":992},{"$f":"IF(語言配置表!A995=\"\",\"CN_待填充内容\",語言配置表!B995)","v":"技能描述占位，勿占"}]
[{"$f":"IF(語言配置表!A996=\"\",\"\",語言配置表!A996)","v":993},{"$f":"IF(語言配置表!A996=\"\",\"CN_待填充内容\",語言配置表!B996)","v":"技能描述占位，勿占"}]
[{"$f":"IF(語言配置表!A997=\"\",\"\",語言配置表!A997)","v":994},{"$f":"IF(語言配置表!A997=\"\",\"CN_待填充内容\",語言配置表!B997)","v":"技能描述占位，勿占"}]
[{"$f":"IF(語言配置表!A998=\"\",\"\",語言配置表!A998)","v":995},{"$f":"IF(語言配置表!A998=\"\",\"CN_待填充内容\",語言配置表!B998)","v":"技能描述占位，勿占"}]
[{"$f":"IF(語言配置表!A999=\"\",\"\",語言配置表!A999)","v":996},{"$f":"IF(語言配置表!A999=\"\",\"CN_待填充内容\",語言配置表!B999)","v":"技能描述占位，勿占"}]
[{"$f":"IF(語言配置表!A1000=\"\",\"\",語言配置表!A1000)","v":997},{"$f":"IF(語言配置表!A1000=\"\",\"CN_待填充内容\",語言配置表!B1000)","v":"技能描述占位，勿占"}]
[{"$f":"IF(語言配置表!A1001=\"\",\"\",語言配置表!A1001)","v":998},{"$f":"IF(語言配置表!A1001=\"\",\"CN_待填充内容\",語言配置表!B1001)","v":"技能描述占位，勿占"}]
[{"$f":"IF(語言配置表!A1002=\"\",\"\",語言配置表!A1002)","v":999},{"$f":"IF(語言配置表!A1002=\"\",\"CN_待填充内容\",語言配置表!B1002)","v":"技能描述占位，勿占"}]
[{"$f":"IF(語言配置表!A1003=\"\",\"\",語言配置表!A1003)","v":1000},{"$f":"IF(語言配置表!A1003=\"\",\"CN_待填充内容\",語言配置表!B1003)","v":"技能描述占位，勿占"}]
[{"$f":"IF(語言配置表!A1004=\"\",\"\",語言配置表!A1004)","v":1001},{"$f":"IF(語言配置表!A1004=\"\",\"CN_待填充内容\",語言配置表!B1004)","v":"技能描述占位，勿占"}]
[{"$f":"IF(語言配置表!A1005=\"\",\"\",語言配置表!A1005)","v":1002},{"$f":"IF(語言配置表!A1005=\"\",\"CN_待填充内容\",語言配置表!B1005)","v":"技能描述占位，勿占"}]
[{"$f":"IF(語言配置表!A1006=\"\",\"\",語言配置表!A1006)","v":1003},{"$f":"IF(語言配置表!A1006=\"\",\"CN_待填充内容\",語言配置表!B1006)","v":"技能描述占位，勿占"}]
[{"$f":"IF(語言配置表!A1007=\"\",\"\",語言配置表!A1007)","v":1004},{"$f":"IF(語言配置表!A1007=\"\",\"CN_待填充内容\",語言配置表!B1007)","v":"技能描述占位，勿占"}]
[{"$f":"IF(語言配置表!A1008=\"\",\"\",語言配置表!A1008)","v":1005},{"$f":"IF(語言配置表!A1008=\"\",\"CN_待填充内容\",語言配置表!B1008)","v":"技能描述占位，勿占"}]
[{"$f":"IF(語言配置表!A1009=\"\",\"\",語言配置表!A1009)","v":1006},{"$f":"IF(語言配置表!A1009=\"\",\"CN_待填充内容\",語言配置表!B1009)","v":"技能描述占位，勿占"}]
[{"$f":"IF(語言配置表!A1010=\"\",\"\",語言配置表!A1010)","v":1007},{"$f":"IF(語言配置表!A1010=\"\",\"CN_待填充内容\",語言配置表!B1010)","v":"技能描述占位，勿占"}]
[{"$f":"IF(語言配置表!A1011=\"\",\"\",語言配置表!A1011)","v":1008},{"$f":"IF(語言配置表!A1011=\"\",\"CN_待填充内容\",語言配置表!B1011)","v":"技能描述占位，勿占"}]
[{"$f":"IF(語言配置表!A1012=\"\",\"\",語言配置表!A1012)","v":1009},{"$f":"IF(語言配置表!A1012=\"\",\"CN_待填充内容\",語言配置表!B1012)","v":"技能描述占位，勿占"}]
[{"$f":"IF(語言配置表!A1013=\"\",\"\",語言配置表!A1013)","v":1010},{"$f":"IF(語言配置表!A1013=\"\",\"CN_待填充内容\",語言配置表!B1013)","v":"技能描述占位，勿占"}]
[{"$f":"IF(語言配置表!A1014=\"\",\"\",語言配置表!A1014)","v":1011},{"$f":"IF(語言配置表!A1014=\"\",\"CN_待填充内容\",語言配置表!B1014)","v":"技能描述占位，勿占"}]
[{"$f":"IF(語言配置表!A1015=\"\",\"\",語言配置表!A1015)","v":1012},{"$f":"IF(語言配置表!A1015=\"\",\"CN_待填充内容\",語言配置表!B1015)","v":"技能描述占位，勿占"}]
[{"$f":"IF(語言配置表!A1016=\"\",\"\",語言配置表!A1016)","v":1013},{"$f":"IF(語言配置表!A1016=\"\",\"CN_待填充内容\",語言配置表!B1016)","v":"技能描述占位，勿占"}]
[{"$f":"IF(語言配置表!A1017=\"\",\"\",語言配置表!A1017)","v":1014},{"$f":"IF(語言配置表!A1017=\"\",\"CN_待填充内容\",語言配置表!B1017)","v":"技能描述占位，勿占"}]
[{"$f":"IF(語言配置表!A1018=\"\",\"\",語言配置表!A1018)","v":1015},{"$f":"IF(語言配置表!A1018=\"\",\"CN_待填充内容\",語言配置表!B1018)","v":"技能描述占位，勿占"}]
[{"$f":"IF(語言配置表!A1019=\"\",\"\",語言配置表!A1019)","v":1016},{"$f":"IF(語言配置表!A1019=\"\",\"CN_待填充内容\",語言配置表!B1019)","v":"技能描述占位，勿占"}]
[{"$f":"IF(語言配置表!A1020=\"\",\"\",語言配置表!A1020)","v":1017},{"$f":"IF(語言配置表!A1020=\"\",\"CN_待填充内容\",語言配置表!B1020)","v":"技能描述占位，勿占"}]
[{"$f":"IF(語言配置表!A1021=\"\",\"\",語言配置表!A1021)","v":1018},{"$f":"IF(語言配置表!A1021=\"\",\"CN_待填充内容\",語言配置表!B1021)","v":"技能描述占位，勿占"}]
[{"$f":"IF(語言配置表!A1022=\"\",\"\",語言配置表!A1022)","v":1019},{"$f":"IF(語言配置表!A1022=\"\",\"CN_待填充内容\",語言配置表!B1022)","v":"技能描述占位，勿占"}]
[{"$f":"IF(語言配置表!A1023=\"\",\"\",語言配置表!A1023)","v":1020},{"$f":"IF(語言配置表!A1023=\"\",\"CN_待填充内容\",語言配置表!B1023)","v":"技能描述占位，勿占"}]
[{"$f":"IF(語言配置表!A1024=\"\",\"\",語言配置表!A1024)","v":1021},{"$f":"IF(語言配置表!A1024=\"\",\"CN_待填充内容\",語言配置表!B1024)","v":"技能描述占位，勿占"}]
[{"$f":"IF(語言配置表!A1025=\"\",\"\",語言配置表!A1025)","v":1022},{"$f":"IF(語言配置表!A1025=\"\",\"CN_待填充内容\",語言配置表!B1025)","v":"技能描述占位，勿占"}]
[{"$f":"IF(語言配置表!A1026=\"\",\"\",語言配置表!A1026)","v":1023},{"$f":"IF(語言配置表!A1026=\"\",\"CN_待填充内容\",語言配置表!B1026)","v":"技能描述占位，勿占"}]
[{"$f":"IF(語言配置表!A1027=\"\",\"\",語言配置表!A1027)","v":1024},{"$f":"IF(語言配置表!A1027=\"\",\"CN_待填充内容\",語言配置表!B1027)","v":"技能描述占位，勿占"}]
[{"$f":"IF(語言配置表!A1028=\"\",\"\",語言配置表!A1028)","v":1025},{"$f":"IF(語言配置表!A1028=\"\",\"CN_待填充内容\",語言配置表!B1028)","v":"技能描述占位，勿占"}]
[{"$f":"IF(語言配置表!A1029=\"\",\"\",語言配置表!A1029)","v":1026},{"$f":"IF(語言配置表!A1029=\"\",\"CN_待填充内容\",語言配置表!B1029)","v":"技能描述占位，勿占"}]
[{"$f":"IF(語言配置表!A1030=\"\",\"\",語言配置表!A1030)","v":1027},{"$f":"IF(語言配置表!A1030=\"\",\"CN_待填充内容\",語言配置表!B1030)","v":"技能描述占位，勿占"}]
[{"$f":"IF(語言配置表!A1031=\"\",\"\",語言配置表!A1031)","v":1028},{"$f":"IF(語言配置表!A1031=\"\",\"CN_待填充内容\",語言配置表!B1031)","v":"技能描述占位，勿占"}]
[{"$f":"IF(語言配置表!A1032=\"\",\"\",語言配置表!A1032)","v":1029},{"$f":"IF(語言配置表!A1032=\"\",\"CN_待填充内容\",語言配置表!B1032)","v":"技能描述占位，勿占"}]
[{"$f":"IF(語言配置表!A1033=\"\",\"\",語言配置表!A1033)","v":1030},{"$f":"IF(語言配置表!A1033=\"\",\"CN_待填充内容\",語言配置表!B1033)","v":"技能描述占位，勿占"}]
[{"$f":"IF(語言配置表!A1034=\"\",\"\",語言配置表!A1034)","v":1031},{"$f":"IF(語言配置表!A1034=\"\",\"CN_待填充内容\",語言配置表!B1034)","v":"技能描述占位，勿占"}]
[{"$f":"IF(語言配置表!A1035=\"\",\"\",語言配置表!A1035)","v":1032},{"$f":"IF(語言配置表!A1035=\"\",\"CN_待填充内容\",語言配置表!B1035)","v":"技能描述占位，勿占"}]
[{"$f":"IF(語言配置表!A1036=\"\",\"\",語言配置表!A1036)","v":1033},{"$f":"IF(語言配置表!A1036=\"\",\"CN_待填充内容\",語言配置表!B1036)","v":"技能描述占位，勿占"}]
[{"$f":"IF(語言配置表!A1037=\"\",\"\",語言配置表!A1037)","v":1034},{"$f":"IF(語言配置表!A1037=\"\",\"CN_待填充内容\",語言配置表!B1037)","v":"技能描述占位，勿占"}]
[{"$f":"IF(語言配置表!A1038=\"\",\"\",語言配置表!A1038)","v":1035},{"$f":"IF(語言配置表!A1038=\"\",\"CN_待填充内容\",語言配置表!B1038)","v":"技能描述占位，勿占"}]
[{"$f":"IF(語言配置表!A1039=\"\",\"\",語言配置表!A1039)","v":1036},{"$f":"IF(語言配置表!A1039=\"\",\"CN_待填充内容\",語言配置表!B1039)","v":"技能描述占位，勿占"}]
[{"$f":"IF(語言配置表!A1040=\"\",\"\",語言配置表!A1040)","v":1037},{"$f":"IF(語言配置表!A1040=\"\",\"CN_待填充内容\",語言配置表!B1040)","v":"技能描述占位，勿占"}]
[{"$f":"IF(語言配置表!A1041=\"\",\"\",語言配置表!A1041)","v":1038},{"$f":"IF(語言配置表!A1041=\"\",\"CN_待填充内容\",語言配置表!B1041)","v":"技能描述占位，勿占"}]
[{"$f":"IF(語言配置表!A1042=\"\",\"\",語言配置表!A1042)","v":1039},{"$f":"IF(語言配置表!A1042=\"\",\"CN_待填充内容\",語言配置表!B1042)","v":"技能描述占位，勿占"}]
[{"$f":"IF(語言配置表!A1043=\"\",\"\",語言配置表!A1043)","v":1040},{"$f":"IF(語言配置表!A1043=\"\",\"CN_待填充内容\",語言配置表!B1043)","v":"技能描述占位，勿占"}]
[{"$f":"IF(語言配置表!A1044=\"\",\"\",語言配置表!A1044)","v":1041},{"$f":"IF(語言配置表!A1044=\"\",\"CN_待填充内容\",語言配置表!B1044)","v":"技能描述占位，勿占"}]
[{"$f":"IF(語言配置表!A1045=\"\",\"\",語言配置表!A1045)","v":1042},{"$f":"IF(語言配置表!A1045=\"\",\"CN_待填充内容\",語言配置表!B1045)","v":"技能描述占位，勿占"}]
[{"$f":"IF(語言配置表!A1046=\"\",\"\",語言配置表!A1046)","v":1043},{"$f":"IF(語言配置表!A1046=\"\",\"CN_待填充内容\",語言配置表!B1046)","v":"技能描述占位，勿占"}]
[{"$f":"IF(語言配置表!A1047=\"\",\"\",語言配置表!A1047)","v":1044},{"$f":"IF(語言配置表!A1047=\"\",\"CN_待填充内容\",語言配置表!B1047)","v":"技能描述占位，勿占"}]
[{"$f":"IF(語言配置表!A1048=\"\",\"\",語言配置表!A1048)","v":1045},{"$f":"IF(語言配置表!A1048=\"\",\"CN_待填充内容\",語言配置表!B1048)","v":"技能描述占位，勿占"}]
[{"$f":"IF(語言配置表!A1049=\"\",\"\",語言配置表!A1049)","v":1046},{"$f":"IF(語言配置表!A1049=\"\",\"CN_待填充内容\",語言配置表!B1049)","v":"技能描述占位，勿占"}]
[{"$f":"IF(語言配置表!A1050=\"\",\"\",語言配置表!A1050)","v":1047},{"$f":"IF(語言配置表!A1050=\"\",\"CN_待填充内容\",語言配置表!B1050)","v":"技能描述占位，勿占"}]
[{"$f":"IF(語言配置表!A1051=\"\",\"\",語言配置表!A1051)","v":1048},{"$f":"IF(語言配置表!A1051=\"\",\"CN_待填充内容\",語言配置表!B1051)","v":"技能描述占位，勿占"}]
[{"$f":"IF(語言配置表!A1052=\"\",\"\",語言配置表!A1052)","v":1049},{"$f":"IF(語言配置表!A1052=\"\",\"CN_待填充内容\",語言配置表!B1052)","v":"技能描述占位，勿占"}]
[{"$f":"IF(語言配置表!A1053=\"\",\"\",語言配置表!A1053)","v":1050},{"$f":"IF(語言配置表!A1053=\"\",\"CN_待填充内容\",語言配置表!B1053)","v":"技能描述占位，勿占"}]
[{"$f":"IF(語言配置表!A1054=\"\",\"\",語言配置表!A1054)","v":1051},{"$f":"IF(語言配置表!A1054=\"\",\"CN_待填充内容\",語言配置表!B1054)","v":"技能描述占位，勿占"}]
[{"$f":"IF(語言配置表!A1055=\"\",\"\",語言配置表!A1055)","v":1052},{"$f":"IF(語言配置表!A1055=\"\",\"CN_待填充内容\",語言配置表!B1055)","v":"技能描述占位，勿占"}]
[{"$f":"IF(語言配置表!A1056=\"\",\"\",語言配置表!A1056)","v":1053},{"$f":"IF(語言配置表!A1056=\"\",\"CN_待填充内容\",語言配置表!B1056)","v":"技能描述占位，勿占"}]
[{"$f":"IF(語言配置表!A1057=\"\",\"\",語言配置表!A1057)","v":1054},{"$f":"IF(語言配置表!A1057=\"\",\"CN_待填充内容\",語言配置表!B1057)","v":"技能描述占位，勿占"}]
[{"$f":"IF(語言配置表!A1058=\"\",\"\",語言配置表!A1058)","v":1055},{"$f":"IF(語言配置表!A1058=\"\",\"CN_待填充内容\",語言配置表!B1058)","v":"技能描述占位，勿占"}]
[{"$f":"IF(語言配置表!A1059=\"\",\"\",語言配置表!A1059)","v":1056},{"$f":"IF(語言配置表!A1059=\"\",\"CN_待填充内容\",語言配置表!B1059)","v":"技能描述占位，勿占"}]
[{"$f":"IF(語言配置表!A1060=\"\",\"\",語言配置表!A1060)","v":1057},{"$f":"IF(語言配置表!A1060=\"\",\"CN_待填充内容\",語言配置表!B1060)","v":"技能描述占位，勿占"}]
[{"$f":"IF(語言配置表!A1061=\"\",\"\",語言配置表!A1061)","v":1058},{"$f":"IF(語言配置表!A1061=\"\",\"CN_待填充内容\",語言配置表!B1061)","v":"技能描述占位，勿占"}]
[{"$f":"IF(語言配置表!A1062=\"\",\"\",語言配置表!A1062)","v":1059},{"$f":"IF(語言配置表!A1062=\"\",\"CN_待填充内容\",語言配置表!B1062)","v":"技能描述占位，勿占"}]
[{"$f":"IF(語言配置表!A1063=\"\",\"\",語言配置表!A1063)","v":1060},{"$f":"IF(語言配置表!A1063=\"\",\"CN_待填充内容\",語言配置表!B1063)","v":"技能描述占位，勿占"}]
[{"$f":"IF(語言配置表!A1064=\"\",\"\",語言配置表!A1064)","v":1061},{"$f":"IF(語言配置表!A1064=\"\",\"CN_待填充内容\",語言配置表!B1064)","v":"技能描述占位，勿占"}]
[{"$f":"IF(語言配置表!A1065=\"\",\"\",語言配置表!A1065)","v":1062},{"$f":"IF(語言配置表!A1065=\"\",\"CN_待填充内容\",語言配置表!B1065)","v":"技能描述占位，勿占"}]
[{"$f":"IF(語言配置表!A1066=\"\",\"\",語言配置表!A1066)","v":1063},{"$f":"IF(語言配置表!A1066=\"\",\"CN_待填充内容\",語言配置表!B1066)","v":"技能描述占位，勿占"}]
[{"$f":"IF(語言配置表!A1067=\"\",\"\",語言配置表!A1067)","v":1064},{"$f":"IF(語言配置表!A1067=\"\",\"CN_待填充内容\",語言配置表!B1067)","v":"技能描述占位，勿占"}]
[{"$f":"IF(語言配置表!A1068=\"\",\"\",語言配置表!A1068)","v":1065},{"$f":"IF(語言配置表!A1068=\"\",\"CN_待填充内容\",語言配置表!B1068)","v":"技能描述占位，勿占"}]
[{"$f":"IF(語言配置表!A1069=\"\",\"\",語言配置表!A1069)","v":1066},{"$f":"IF(語言配置表!A1069=\"\",\"CN_待填充内容\",語言配置表!B1069)","v":"技能描述占位，勿占"}]
[{"$f":"IF(語言配置表!A1070=\"\",\"\",語言配置表!A1070)","v":1067},{"$f":"IF(語言配置表!A1070=\"\",\"CN_待填充内容\",語言配置表!B1070)","v":"技能描述占位，勿占"}]
[{"$f":"IF(語言配置表!A1071=\"\",\"\",語言配置表!A1071)","v":1068},{"$f":"IF(語言配置表!A1071=\"\",\"CN_待填充内容\",語言配置表!B1071)","v":"技能描述占位，勿占"}]
[{"$f":"IF(語言配置表!A1072=\"\",\"\",語言配置表!A1072)","v":1069},{"$f":"IF(語言配置表!A1072=\"\",\"CN_待填充内容\",語言配置表!B1072)","v":"技能描述占位，勿占"}]
[{"$f":"IF(語言配置表!A1073=\"\",\"\",語言配置表!A1073)","v":1070},{"$f":"IF(語言配置表!A1073=\"\",\"CN_待填充内容\",語言配置表!B1073)","v":"技能描述占位，勿占"}]
[{"$f":"IF(語言配置表!A1074=\"\",\"\",語言配置表!A1074)","v":1071},{"$f":"IF(語言配置表!A1074=\"\",\"CN_待填充内容\",語言配置表!B1074)","v":"技能描述占位，勿占"}]
[{"$f":"IF(語言配置表!A1075=\"\",\"\",語言配置表!A1075)","v":1072},{"$f":"IF(語言配置表!A1075=\"\",\"CN_待填充内容\",語言配置表!B1075)","v":"技能描述占位，勿占"}]
[{"$f":"IF(語言配置表!A1076=\"\",\"\",語言配置表!A1076)","v":1073},{"$f":"IF(語言配置表!A1076=\"\",\"CN_待填充内容\",語言配置表!B1076)","v":"技能描述占位，勿占"}]
[{"$f":"IF(語言配置表!A1077=\"\",\"\",語言配置表!A1077)","v":1074},{"$f":"IF(語言配置表!A1077=\"\",\"CN_待填充内容\",語言配置表!B1077)","v":"技能描述占位，勿占"}]
[{"$f":"IF(語言配置表!A1078=\"\",\"\",語言配置表!A1078)","v":1075},{"$f":"IF(語言配置表!A1078=\"\",\"CN_待填充内容\",語言配置表!B1078)","v":"技能描述占位，勿占"}]
[{"$f":"IF(語言配置表!A1079=\"\",\"\",語言配置表!A1079)","v":1076},{"$f":"IF(語言配置表!A1079=\"\",\"CN_待填充内容\",語言配置表!B1079)","v":"技能描述占位，勿占"}]
[{"$f":"IF(語言配置表!A1080=\"\",\"\",語言配置表!A1080)","v":1077},{"$f":"IF(語言配置表!A1080=\"\",\"CN_待填充内容\",語言配置表!B1080)","v":"技能描述占位，勿占"}]
[{"$f":"IF(語言配置表!A1081=\"\",\"\",語言配置表!A1081)","v":1078},{"$f":"IF(語言配置表!A1081=\"\",\"CN_待填充内容\",語言配置表!B1081)","v":"技能描述占位，勿占"}]
[{"$f":"IF(語言配置表!A1082=\"\",\"\",語言配置表!A1082)","v":1079},{"$f":"IF(語言配置表!A1082=\"\",\"CN_待填充内容\",語言配置表!B1082)","v":"技能描述占位，勿占"}]
[{"$f":"IF(語言配置表!A1083=\"\",\"\",語言配置表!A1083)","v":1080},{"$f":"IF(語言配置表!A1083=\"\",\"CN_待填充内容\",語言配置表!B1083)","v":"技能描述占位，勿占"}]
[{"$f":"IF(語言配置表!A1084=\"\",\"\",語言配置表!A1084)","v":1081},{"$f":"IF(語言配置表!A1084=\"\",\"CN_待填充内容\",語言配置表!B1084)","v":"技能描述占位，勿占"}]
[{"$f":"IF(語言配置表!A1085=\"\",\"\",語言配置表!A1085)","v":1082},{"$f":"IF(語言配置表!A1085=\"\",\"CN_待填充内容\",語言配置表!B1085)","v":"技能描述占位，勿占"}]
[{"$f":"IF(語言配置表!A1086=\"\",\"\",語言配置表!A1086)","v":1083},{"$f":"IF(語言配置表!A1086=\"\",\"CN_待填充内容\",語言配置表!B1086)","v":"技能描述占位，勿占"}]
[{"$f":"IF(語言配置表!A1087=\"\",\"\",語言配置表!A1087)","v":1084},{"$f":"IF(語言配置表!A1087=\"\",\"CN_待填充内容\",語言配置表!B1087)","v":"技能描述占位，勿占"}]
[{"$f":"IF(語言配置表!A1088=\"\",\"\",語言配置表!A1088)","v":1085},{"$f":"IF(語言配置表!A1088=\"\",\"CN_待填充内容\",語言配置表!B1088)","v":"技能描述占位，勿占"}]
[{"$f":"IF(語言配置表!A1089=\"\",\"\",語言配置表!A1089)","v":1086},{"$f":"IF(語言配置表!A1089=\"\",\"CN_待填充内容\",語言配置表!B1089)","v":"技能描述占位，勿占"}]
[{"$f":"IF(語言配置表!A1090=\"\",\"\",語言配置表!A1090)","v":1087},{"$f":"IF(語言配置表!A1090=\"\",\"CN_待填充内容\",語言配置表!B1090)","v":"技能描述占位，勿占"}]
[{"$f":"IF(語言配置表!A1091=\"\",\"\",語言配置表!A1091)","v":1088},{"$f":"IF(語言配置表!A1091=\"\",\"CN_待填充内容\",語言配置表!B1091)","v":"技能描述占位，勿占"}]
[{"$f":"IF(語言配置表!A1092=\"\",\"\",語言配置表!A1092)","v":1089},{"$f":"IF(語言配置表!A1092=\"\",\"CN_待填充内容\",語言配置表!B1092)","v":"技能描述占位，勿占"}]
[{"$f":"IF(語言配置表!A1093=\"\",\"\",語言配置表!A1093)","v":1090},{"$f":"IF(語言配置表!A1093=\"\",\"CN_待填充内容\",語言配置表!B1093)","v":"技能描述占位，勿占"}]
[{"$f":"IF(語言配置表!A1094=\"\",\"\",語言配置表!A1094)","v":1091},{"$f":"IF(語言配置表!A1094=\"\",\"CN_待填充内容\",語言配置表!B1094)","v":"技能描述占位，勿占"}]
[{"$f":"IF(語言配置表!A1095=\"\",\"\",語言配置表!A1095)","v":1092},{"$f":"IF(語言配置表!A1095=\"\",\"CN_待填充内容\",語言配置表!B1095)","v":"技能描述占位，勿占"}]
[{"$f":"IF(語言配置表!A1096=\"\",\"\",語言配置表!A1096)","v":1093},{"$f":"IF(語言配置表!A1096=\"\",\"CN_待填充内容\",語言配置表!B1096)","v":"技能描述占位，勿占"}]
[{"$f":"IF(語言配置表!A1097=\"\",\"\",語言配置表!A1097)","v":1094},{"$f":"IF(語言配置表!A1097=\"\",\"CN_待填充内容\",語言配置表!B1097)","v":"技能描述占位，勿占"}]
[{"$f":"IF(語言配置表!A1098=\"\",\"\",語言配置表!A1098)","v":1095},{"$f":"IF(語言配置表!A1098=\"\",\"CN_待填充内容\",語言配置表!B1098)","v":"技能描述占位，勿占"}]
[{"$f":"IF(語言配置表!A1099=\"\",\"\",語言配置表!A1099)","v":1096},{"$f":"IF(語言配置表!A1099=\"\",\"CN_待填充内容\",語言配置表!B1099)","v":"技能描述占位，勿占"}]
[{"$f":"IF(語言配置表!A1100=\"\",\"\",語言配置表!A1100)","v":1097},{"$f":"IF(語言配置表!A1100=\"\",\"CN_待填充内容\",語言配置表!B1100)","v":"技能描述占位，勿占"}]
[{"$f":"IF(語言配置表!A1101=\"\",\"\",語言配置表!A1101)","v":1098},{"$f":"IF(語言配置表!A1101=\"\",\"CN_待填充内容\",語言配置表!B1101)","v":"技能描述占位，勿占"}]
[{"$f":"IF(語言配置表!A1102=\"\",\"\",語言配置表!A1102)","v":1099},{"$f":"IF(語言配置表!A1102=\"\",\"CN_待填充内容\",語言配置表!B1102)","v":"技能描述占位，勿占"}]
[{"$f":"IF(語言配置表!A1103=\"\",\"\",語言配置表!A1103)","v":1100},{"$f":"IF(語言配置表!A1103=\"\",\"CN_待填充内容\",語言配置表!B1103)","v":"飞剑数量+2"}]
[{"$f":"IF(語言配置表!A1104=\"\",\"\",語言配置表!A1104)","v":1101},{"$f":"IF(語言配置表!A1104=\"\",\"CN_待填充内容\",語言配置表!B1104)","v":"生命+10%"}]
[{"$f":"IF(語言配置表!A1105=\"\",\"\",語言配置表!A1105)","v":1102},{"$f":"IF(語言配置表!A1105=\"\",\"CN_待填充内容\",語言配置表!B1105)","v":"飞剑数量+1，对带减益的敌人增伤"}]
[{"$f":"IF(語言配置表!A1106=\"\",\"\",語言配置表!A1106)","v":1103},{"$f":"IF(語言配置表!A1106=\"\",\"CN_待填充内容\",語言配置表!B1106)","v":"生命+10%"}]
[{"$f":"IF(語言配置表!A1107=\"\",\"\",語言配置表!A1107)","v":1104},{"$f":"IF(語言配置表!A1107=\"\",\"CN_待填充内容\",語言配置表!B1107)","v":"发射伤害更高的幻剑"}]
[{"$f":"IF(語言配置表!A1108=\"\",\"\",語言配置表!A1108)","v":1105},{"$f":"IF(語言配置表!A1108=\"\",\"CN_待填充内容\",語言配置表!B1108)","v":"对流血或放血敌人增伤"}]
[{"$f":"IF(語言配置表!A1109=\"\",\"\",語言配置表!A1109)","v":1106},{"$f":"IF(語言配置表!A1109=\"\",\"CN_待填充内容\",語言配置表!B1109)","v":"攻击+10%"}]
[{"$f":"IF(語言配置表!A1110=\"\",\"\",語言配置表!A1110)","v":1107},{"$f":"IF(語言配置表!A1110=\"\",\"CN_待填充内容\",語言配置表!B1110)","v":"无条件放血"}]
[{"$f":"IF(語言配置表!A1111=\"\",\"\",語言配置表!A1111)","v":1108},{"$f":"IF(語言配置表!A1111=\"\",\"CN_待填充内容\",語言配置表!B1111)","v":"攻击+10%"}]
[{"$f":"IF(語言配置表!A1112=\"\",\"\",語言配置表!A1112)","v":1109},{"$f":"IF(語言配置表!A1112=\"\",\"CN_待填充内容\",語言配置表!B1112)","v":"对拼强度和伤害提升"}]
[{"$f":"IF(語言配置表!A1113=\"\",\"\",語言配置表!A1113)","v":1110},{"$f":"IF(語言配置表!A1113=\"\",\"CN_待填充内容\",語言配置表!B1113)","v":"刀气命中回血"}]
[{"$f":"IF(語言配置表!A1114=\"\",\"\",語言配置表!A1114)","v":1111},{"$f":"IF(語言配置表!A1114=\"\",\"CN_待填充内容\",語言配置表!B1114)","v":"防御+10%"}]
[{"$f":"IF(語言配置表!A1115=\"\",\"\",語言配置表!A1115)","v":1112},{"$f":"IF(語言配置表!A1115=\"\",\"CN_待填充内容\",語言配置表!B1115)","v":"刀气+2"}]
[{"$f":"IF(語言配置表!A1116=\"\",\"\",語言配置表!A1116)","v":1113},{"$f":"IF(語言配置表!A1116=\"\",\"CN_待填充内容\",語言配置表!B1116)","v":"防御+10%"}]
[{"$f":"IF(語言配置表!A1117=\"\",\"\",語言配置表!A1117)","v":1114},{"$f":"IF(語言配置表!A1117=\"\",\"CN_待填充内容\",語言配置表!B1117)","v":"对流血目标增伤，再次放血"}]
[{"$f":"IF(語言配置表!A1118=\"\",\"\",語言配置表!A1118)","v":1115},{"$f":"IF(語言配置表!A1118=\"\",\"CN_待填充内容\",語言配置表!B1118)","v":"攻击+5%"}]
[{"$f":"IF(語言配置表!A1119=\"\",\"\",語言配置表!A1119)","v":1116},{"$f":"IF(語言配置表!A1119=\"\",\"CN_待填充内容\",語言配置表!B1119)","v":"飞刀数量+2"}]
[{"$f":"IF(語言配置表!A1120=\"\",\"\",語言配置表!A1120)","v":1117},{"$f":"IF(語言配置表!A1120=\"\",\"CN_待填充内容\",語言配置表!B1120)","v":"攻击+5%"}]
[{"$f":"IF(語言配置表!A1121=\"\",\"\",語言配置表!A1121)","v":1118},{"$f":"IF(語言配置表!A1121=\"\",\"CN_待填充内容\",語言配置表!B1121)","v":"飞刀数量+2"}]
[{"$f":"IF(語言配置表!A1122=\"\",\"\",語言配置表!A1122)","v":1119},{"$f":"IF(語言配置表!A1122=\"\",\"CN_待填充内容\",語言配置表!B1122)","v":"攻击+5%"}]
[{"$f":"IF(語言配置表!A1123=\"\",\"\",語言配置表!A1123)","v":1120},{"$f":"IF(語言配置表!A1123=\"\",\"CN_待填充内容\",語言配置表!B1123)","v":"防御+5%"}]
[{"$f":"IF(語言配置表!A1124=\"\",\"\",語言配置表!A1124)","v":1121},{"$f":"IF(語言配置表!A1124=\"\",\"CN_待填充内容\",語言配置表!B1124)","v":"金针数量+1"}]
[{"$f":"IF(語言配置表!A1125=\"\",\"\",語言配置表!A1125)","v":1122},{"$f":"IF(語言配置表!A1125=\"\",\"CN_待填充内容\",語言配置表!B1125)","v":"防御+5%"}]
[{"$f":"IF(語言配置表!A1126=\"\",\"\",語言配置表!A1126)","v":1123},{"$f":"IF(語言配置表!A1126=\"\",\"CN_待填充内容\",語言配置表!B1126)","v":"金针数量+1"}]
[{"$f":"IF(語言配置表!A1127=\"\",\"\",語言配置表!A1127)","v":1124},{"$f":"IF(語言配置表!A1127=\"\",\"CN_待填充内容\",語言配置表!B1127)","v":"防御+5%"}]
[{"$f":"IF(語言配置表!A1128=\"\",\"\",語言配置表!A1128)","v":1125},{"$f":"IF(語言配置表!A1128=\"\",\"CN_待填充内容\",語言配置表!B1128)","v":"冰锥数量+1"}]
[{"$f":"IF(語言配置表!A1129=\"\",\"\",語言配置表!A1129)","v":1126},{"$f":"IF(語言配置表!A1129=\"\",\"CN_待填充内容\",語言配置表!B1129)","v":"生命+10%"}]
[{"$f":"IF(語言配置表!A1130=\"\",\"\",語言配置表!A1130)","v":1127},{"$f":"IF(語言配置表!A1130=\"\",\"CN_待填充内容\",語言配置表!B1130)","v":"冰锥数量+1"}]
[{"$f":"IF(語言配置表!A1131=\"\",\"\",語言配置表!A1131)","v":1128},{"$f":"IF(語言配置表!A1131=\"\",\"CN_待填充内容\",語言配置表!B1131)","v":"生命+10%"}]
[{"$f":"IF(語言配置表!A1132=\"\",\"\",語言配置表!A1132)","v":1129},{"$f":"IF(語言配置表!A1132=\"\",\"CN_待填充内容\",語言配置表!B1132)","v":"冰锥数量+1"}]
[{"$f":"IF(語言配置表!A1133=\"\",\"\",語言配置表!A1133)","v":1130},{"$f":"IF(語言配置表!A1133=\"\",\"CN_待填充内容\",語言配置表!B1133)","v":"冰球数量+1"}]
[{"$f":"IF(語言配置表!A1134=\"\",\"\",語言配置表!A1134)","v":1131},{"$f":"IF(語言配置表!A1134=\"\",\"CN_待填充内容\",語言配置表!B1134)","v":"防御+10%"}]
[{"$f":"IF(語言配置表!A1135=\"\",\"\",語言配置表!A1135)","v":1132},{"$f":"IF(語言配置表!A1135=\"\",\"CN_待填充内容\",語言配置表!B1135)","v":"冰球数量+1"}]
[{"$f":"IF(語言配置表!A1136=\"\",\"\",語言配置表!A1136)","v":1133},{"$f":"IF(語言配置表!A1136=\"\",\"CN_待填充内容\",語言配置表!B1136)","v":"防御+10%"}]
[{"$f":"IF(語言配置表!A1137=\"\",\"\",語言配置表!A1137)","v":1134},{"$f":"IF(語言配置表!A1137=\"\",\"CN_待填充内容\",語言配置表!B1137)","v":"冰球数量+1"}]
[{"$f":"IF(語言配置表!A1138=\"\",\"\",語言配置表!A1138)","v":1135},{"$f":"IF(語言配置表!A1138=\"\",\"CN_待填充内容\",語言配置表!B1138)","v":"冰球数量+1"}]
[{"$f":"IF(語言配置表!A1139=\"\",\"\",語言配置表!A1139)","v":1136},{"$f":"IF(語言配置表!A1139=\"\",\"CN_待填充内容\",語言配置表!B1139)","v":"攻击+10%"}]
[{"$f":"IF(語言配置表!A1140=\"\",\"\",語言配置表!A1140)","v":1137},{"$f":"IF(語言配置表!A1140=\"\",\"CN_待填充内容\",語言配置表!B1140)","v":"冰球数量+1"}]
[{"$f":"IF(語言配置表!A1141=\"\",\"\",語言配置表!A1141)","v":1138},{"$f":"IF(語言配置表!A1141=\"\",\"CN_待填充内容\",語言配置表!B1141)","v":"攻击+10%"}]
[{"$f":"IF(語言配置表!A1142=\"\",\"\",語言配置表!A1142)","v":1139},{"$f":"IF(語言配置表!A1142=\"\",\"CN_待填充内容\",語言配置表!B1142)","v":"冰球数量+1"}]
[{"$f":"IF(語言配置表!A1143=\"\",\"\",語言配置表!A1143)","v":1140},{"$f":"IF(語言配置表!A1143=\"\",\"CN_待填充内容\",語言配置表!B1143)","v":"攻击+5%"}]
[{"$f":"IF(語言配置表!A1144=\"\",\"\",語言配置表!A1144)","v":1141},{"$f":"IF(語言配置表!A1144=\"\",\"CN_待填充内容\",語言配置表!B1144)","v":"水波数量+1"}]
[{"$f":"IF(語言配置表!A1145=\"\",\"\",語言配置表!A1145)","v":1142},{"$f":"IF(語言配置表!A1145=\"\",\"CN_待填充内容\",語言配置表!B1145)","v":"攻击+10%"}]
[{"$f":"IF(語言配置表!A1146=\"\",\"\",語言配置表!A1146)","v":1143},{"$f":"IF(語言配置表!A1146=\"\",\"CN_待填充内容\",語言配置表!B1146)","v":"水波数量+1"}]
[{"$f":"IF(語言配置表!A1147=\"\",\"\",語言配置表!A1147)","v":1144},{"$f":"IF(語言配置表!A1147=\"\",\"CN_待填充内容\",語言配置表!B1147)","v":"攻击+15%"}]
[{"$f":"IF(語言配置表!A1148=\"\",\"\",語言配置表!A1148)","v":1145},{"$f":"IF(語言配置表!A1148=\"\",\"CN_待填充内容\",語言配置表!B1148)","v":"防御+5%"}]
[{"$f":"IF(語言配置表!A1149=\"\",\"\",語言配置表!A1149)","v":1146},{"$f":"IF(語言配置表!A1149=\"\",\"CN_待填充内容\",語言配置表!B1149)","v":"冰刀数量+2"}]
[{"$f":"IF(語言配置表!A1150=\"\",\"\",語言配置表!A1150)","v":1147},{"$f":"IF(語言配置表!A1150=\"\",\"CN_待填充内容\",語言配置表!B1150)","v":"防御+5%"}]
[{"$f":"IF(語言配置表!A1151=\"\",\"\",語言配置表!A1151)","v":1148},{"$f":"IF(語言配置表!A1151=\"\",\"CN_待填充内容\",語言配置表!B1151)","v":"冰刀数量+2"}]
[{"$f":"IF(語言配置表!A1152=\"\",\"\",語言配置表!A1152)","v":1149},{"$f":"IF(語言配置表!A1152=\"\",\"CN_待填充内容\",語言配置表!B1152)","v":"防御+5%"}]
[{"$f":"IF(語言配置表!A1153=\"\",\"\",語言配置表!A1153)","v":1150},{"$f":"IF(語言配置表!A1153=\"\",\"CN_待填充内容\",語言配置表!B1153)","v":"毒针数量+1"}]
[{"$f":"IF(語言配置表!A1154=\"\",\"\",語言配置表!A1154)","v":1151},{"$f":"IF(語言配置表!A1154=\"\",\"CN_待填充内容\",語言配置表!B1154)","v":"生命+10%"}]
[{"$f":"IF(語言配置表!A1155=\"\",\"\",語言配置表!A1155)","v":1152},{"$f":"IF(語言配置表!A1155=\"\",\"CN_待填充内容\",語言配置表!B1155)","v":"毒针数量+1"}]
[{"$f":"IF(語言配置表!A1156=\"\",\"\",語言配置表!A1156)","v":1153},{"$f":"IF(語言配置表!A1156=\"\",\"CN_待填充内容\",語言配置表!B1156)","v":"生命+10%"}]
[{"$f":"IF(語言配置表!A1157=\"\",\"\",語言配置表!A1157)","v":1154},{"$f":"IF(語言配置表!A1157=\"\",\"CN_待填充内容\",語言配置表!B1157)","v":"毒针数量+1"}]
[{"$f":"IF(語言配置表!A1158=\"\",\"\",語言配置表!A1158)","v":1155},{"$f":"IF(語言配置表!A1158=\"\",\"CN_待填充内容\",語言配置表!B1158)","v":"手掌数量+1"}]
[{"$f":"IF(語言配置表!A1159=\"\",\"\",語言配置表!A1159)","v":1156},{"$f":"IF(語言配置表!A1159=\"\",\"CN_待填充内容\",語言配置表!B1159)","v":"防御+10%"}]
[{"$f":"IF(語言配置表!A1160=\"\",\"\",語言配置表!A1160)","v":1157},{"$f":"IF(語言配置表!A1160=\"\",\"CN_待填充内容\",語言配置表!B1160)","v":"手掌数量+1"}]
[{"$f":"IF(語言配置表!A1161=\"\",\"\",語言配置表!A1161)","v":1158},{"$f":"IF(語言配置表!A1161=\"\",\"CN_待填充内容\",語言配置表!B1161)","v":"防御+10%"}]
[{"$f":"IF(語言配置表!A1162=\"\",\"\",語言配置表!A1162)","v":1159},{"$f":"IF(語言配置表!A1162=\"\",\"CN_待填充内容\",語言配置表!B1162)","v":"手掌数量+1"}]
[{"$f":"IF(語言配置表!A1163=\"\",\"\",語言配置表!A1163)","v":1160},{"$f":"IF(語言配置表!A1163=\"\",\"CN_待填充内容\",語言配置表!B1163)","v":"手掌数量+1"}]
[{"$f":"IF(語言配置表!A1164=\"\",\"\",語言配置表!A1164)","v":1161},{"$f":"IF(語言配置表!A1164=\"\",\"CN_待填充内容\",語言配置表!B1164)","v":"攻击+10%"}]
[{"$f":"IF(語言配置表!A1165=\"\",\"\",語言配置表!A1165)","v":1162},{"$f":"IF(語言配置表!A1165=\"\",\"CN_待填充内容\",語言配置表!B1165)","v":"手掌数量+2"}]
[{"$f":"IF(語言配置表!A1166=\"\",\"\",語言配置表!A1166)","v":1163},{"$f":"IF(語言配置表!A1166=\"\",\"CN_待填充内容\",語言配置表!B1166)","v":"攻击+10%"}]
[{"$f":"IF(語言配置表!A1167=\"\",\"\",語言配置表!A1167)","v":1164},{"$f":"IF(語言配置表!A1167=\"\",\"CN_待填充内容\",語言配置表!B1167)","v":"手掌数量+3"}]
[{"$f":"IF(語言配置表!A1168=\"\",\"\",語言配置表!A1168)","v":1165},{"$f":"IF(語言配置表!A1168=\"\",\"CN_待填充内容\",語言配置表!B1168)","v":"生命+5%"}]
[{"$f":"IF(語言配置表!A1169=\"\",\"\",語言配置表!A1169)","v":1166},{"$f":"IF(語言配置表!A1169=\"\",\"CN_待填充内容\",語言配置表!B1169)","v":"竹刺数量+2"}]
[{"$f":"IF(語言配置表!A1170=\"\",\"\",語言配置表!A1170)","v":1167},{"$f":"IF(語言配置表!A1170=\"\",\"CN_待填充内容\",語言配置表!B1170)","v":"生命+5%"}]
[{"$f":"IF(語言配置表!A1171=\"\",\"\",語言配置表!A1171)","v":1168},{"$f":"IF(語言配置表!A1171=\"\",\"CN_待填充内容\",語言配置表!B1171)","v":"竹刺数量+2"}]
[{"$f":"IF(語言配置表!A1172=\"\",\"\",語言配置表!A1172)","v":1169},{"$f":"IF(語言配置表!A1172=\"\",\"CN_待填充内容\",語言配置表!B1172)","v":"生命+5%"}]
[{"$f":"IF(語言配置表!A1173=\"\",\"\",語言配置表!A1173)","v":1170},{"$f":"IF(語言配置表!A1173=\"\",\"CN_待填充内容\",語言配置表!B1173)","v":"攻击+5%"}]
[{"$f":"IF(語言配置表!A1174=\"\",\"\",語言配置表!A1174)","v":1171},{"$f":"IF(語言配置表!A1174=\"\",\"CN_待填充内容\",語言配置表!B1174)","v":"飞叶数量+3"}]
[{"$f":"IF(語言配置表!A1175=\"\",\"\",語言配置表!A1175)","v":1172},{"$f":"IF(語言配置表!A1175=\"\",\"CN_待填充内容\",語言配置表!B1175)","v":"攻击+5%"}]
[{"$f":"IF(語言配置表!A1176=\"\",\"\",語言配置表!A1176)","v":1173},{"$f":"IF(語言配置表!A1176=\"\",\"CN_待填充内容\",語言配置表!B1176)","v":"飞叶数量+3"}]
[{"$f":"IF(語言配置表!A1177=\"\",\"\",語言配置表!A1177)","v":1174},{"$f":"IF(語言配置表!A1177=\"\",\"CN_待填充内容\",語言配置表!B1177)","v":"攻击+5%"}]
[{"$f":"IF(語言配置表!A1178=\"\",\"\",語言配置表!A1178)","v":1175},{"$f":"IF(語言配置表!A1178=\"\",\"CN_待填充内容\",語言配置表!B1178)","v":"剑柄数量+2"}]
[{"$f":"IF(語言配置表!A1179=\"\",\"\",語言配置表!A1179)","v":1176},{"$f":"IF(語言配置表!A1179=\"\",\"CN_待填充内容\",語言配置表!B1179)","v":"生命+10%"}]
[{"$f":"IF(語言配置表!A1180=\"\",\"\",語言配置表!A1180)","v":1177},{"$f":"IF(語言配置表!A1180=\"\",\"CN_待填充内容\",語言配置表!B1180)","v":"剑柄数量+4"}]
[{"$f":"IF(語言配置表!A1181=\"\",\"\",語言配置表!A1181)","v":1178},{"$f":"IF(語言配置表!A1181=\"\",\"CN_待填充内容\",語言配置表!B1181)","v":"生命+10%"}]
[{"$f":"IF(語言配置表!A1182=\"\",\"\",語言配置表!A1182)","v":1179},{"$f":"IF(語言配置表!A1182=\"\",\"CN_待填充内容\",語言配置表!B1182)","v":"额外造成爆燃伤害"}]
[{"$f":"IF(語言配置表!A1183=\"\",\"\",語言配置表!A1183)","v":1180},{"$f":"IF(語言配置表!A1183=\"\",\"CN_待填充内容\",語言配置表!B1183)","v":"眩晕处于灼烧中的敌人"}]
[{"$f":"IF(語言配置表!A1184=\"\",\"\",語言配置表!A1184)","v":1181},{"$f":"IF(語言配置表!A1184=\"\",\"CN_待填充内容\",語言配置表!B1184)","v":"攻击+10%"}]
[{"$f":"IF(語言配置表!A1185=\"\",\"\",語言配置表!A1185)","v":1182},{"$f":"IF(語言配置表!A1185=\"\",\"CN_待填充内容\",語言配置表!B1185)","v":"飞龙数量+1，额外造成灼烧"}]
[{"$f":"IF(語言配置表!A1186=\"\",\"\",語言配置表!A1186)","v":1183},{"$f":"IF(語言配置表!A1186=\"\",\"CN_待填充内容\",語言配置表!B1186)","v":"攻击+10%"}]
[{"$f":"IF(語言配置表!A1187=\"\",\"\",語言配置表!A1187)","v":1184},{"$f":"IF(語言配置表!A1187=\"\",\"CN_待填充内容\",語言配置表!B1187)","v":"额外引发天雷伤害"}]
[{"$f":"IF(語言配置表!A1188=\"\",\"\",語言配置表!A1188)","v":1185},{"$f":"IF(語言配置表!A1188=\"\",\"CN_待填充内容\",語言配置表!B1188)","v":"对灼烧的敌人额外增伤"}]
[{"$f":"IF(語言配置表!A1189=\"\",\"\",語言配置表!A1189)","v":1186},{"$f":"IF(語言配置表!A1189=\"\",\"CN_待填充内容\",語言配置表!B1189)","v":"防御+10%"}]
[{"$f":"IF(語言配置表!A1190=\"\",\"\",語言配置表!A1190)","v":1187},{"$f":"IF(語言配置表!A1190=\"\",\"CN_待填充内容\",語言配置表!B1190)","v":"烈焰伤害提升"}]
[{"$f":"IF(語言配置表!A1191=\"\",\"\",語言配置表!A1191)","v":1188},{"$f":"IF(語言配置表!A1191=\"\",\"CN_待填充内容\",語言配置表!B1191)","v":"防御+10%"}]
[{"$f":"IF(語言配置表!A1192=\"\",\"\",語言配置表!A1192)","v":1189},{"$f":"IF(語言配置表!A1192=\"\",\"CN_待填充内容\",語言配置表!B1192)","v":"出现2只大手但单发伤害降低"}]
[{"$f":"IF(語言配置表!A1193=\"\",\"\",語言配置表!A1193)","v":1190},{"$f":"IF(語言配置表!A1193=\"\",\"CN_待填充内容\",語言配置表!B1193)","v":"防御+5%"}]
[{"$f":"IF(語言配置表!A1194=\"\",\"\",語言配置表!A1194)","v":1191},{"$f":"IF(語言配置表!A1194=\"\",\"CN_待填充内容\",語言配置表!B1194)","v":"火球数量+1"}]
[{"$f":"IF(語言配置表!A1195=\"\",\"\",語言配置表!A1195)","v":1192},{"$f":"IF(語言配置表!A1195=\"\",\"CN_待填充内容\",語言配置表!B1195)","v":"防御+5%"}]
[{"$f":"IF(語言配置表!A1196=\"\",\"\",語言配置表!A1196)","v":1193},{"$f":"IF(語言配置表!A1196=\"\",\"CN_待填充内容\",語言配置表!B1196)","v":"火球数量+2"}]
[{"$f":"IF(語言配置表!A1197=\"\",\"\",語言配置表!A1197)","v":1194},{"$f":"IF(語言配置表!A1197=\"\",\"CN_待填充内容\",語言配置表!B1197)","v":"防御+5%"}]
[{"$f":"IF(語言配置表!A1198=\"\",\"\",語言配置表!A1198)","v":1195},{"$f":"IF(語言配置表!A1198=\"\",\"CN_待填充内容\",語言配置表!B1198)","v":"生命+5%"}]
[{"$f":"IF(語言配置表!A1199=\"\",\"\",語言配置表!A1199)","v":1196},{"$f":"IF(語言配置表!A1199=\"\",\"CN_待填充内容\",語言配置表!B1199)","v":"火刃数量+2"}]
[{"$f":"IF(語言配置表!A1200=\"\",\"\",語言配置表!A1200)","v":1197},{"$f":"IF(語言配置表!A1200=\"\",\"CN_待填充内容\",語言配置表!B1200)","v":"生命+5%"}]
[{"$f":"IF(語言配置表!A1201=\"\",\"\",語言配置表!A1201)","v":1198},{"$f":"IF(語言配置表!A1201=\"\",\"CN_待填充内容\",語言配置表!B1201)","v":"火刃数量+2"}]
[{"$f":"IF(語言配置表!A1202=\"\",\"\",語言配置表!A1202)","v":1199},{"$f":"IF(語言配置表!A1202=\"\",\"CN_待填充内容\",語言配置表!B1202)","v":"生命+5%"}]
[{"$f":"IF(語言配置表!A1203=\"\",\"\",語言配置表!A1203)","v":1200},{"$f":"IF(語言配置表!A1203=\"\",\"CN_待填充内容\",語言配置表!B1203)","v":"土刺数量+2"}]
[{"$f":"IF(語言配置表!A1204=\"\",\"\",語言配置表!A1204)","v":1201},{"$f":"IF(語言配置表!A1204=\"\",\"CN_待填充内容\",語言配置表!B1204)","v":"生命+10%"}]
[{"$f":"IF(語言配置表!A1205=\"\",\"\",語言配置表!A1205)","v":1202},{"$f":"IF(語言配置表!A1205=\"\",\"CN_待填充内容\",語言配置表!B1205)","v":"土刺数量+2"}]
[{"$f":"IF(語言配置表!A1206=\"\",\"\",語言配置表!A1206)","v":1203},{"$f":"IF(語言配置表!A1206=\"\",\"CN_待填充内容\",語言配置表!B1206)","v":"生命+10%"}]
[{"$f":"IF(語言配置表!A1207=\"\",\"\",語言配置表!A1207)","v":1204},{"$f":"IF(語言配置表!A1207=\"\",\"CN_待填充内容\",語言配置表!B1207)","v":"土刺数量+2"}]
[{"$f":"IF(語言配置表!A1208=\"\",\"\",語言配置表!A1208)","v":1205},{"$f":"IF(語言配置表!A1208=\"\",\"CN_待填充内容\",語言配置表!B1208)","v":"刀气数量+1"}]
[{"$f":"IF(語言配置表!A1209=\"\",\"\",語言配置表!A1209)","v":1206},{"$f":"IF(語言配置表!A1209=\"\",\"CN_待填充内容\",語言配置表!B1209)","v":"攻击+10%"}]
[{"$f":"IF(語言配置表!A1210=\"\",\"\",語言配置表!A1210)","v":1207},{"$f":"IF(語言配置表!A1210=\"\",\"CN_待填充内容\",語言配置表!B1210)","v":"刀气数量+1"}]
[{"$f":"IF(語言配置表!A1211=\"\",\"\",語言配置表!A1211)","v":1208},{"$f":"IF(語言配置表!A1211=\"\",\"CN_待填充内容\",語言配置表!B1211)","v":"攻击+10%"}]
[{"$f":"IF(語言配置表!A1212=\"\",\"\",語言配置表!A1212)","v":1209},{"$f":"IF(語言配置表!A1212=\"\",\"CN_待填充内容\",語言配置表!B1212)","v":"刀气数量+1"}]
[{"$f":"IF(語言配置表!A1213=\"\",\"\",語言配置表!A1213)","v":1210},{"$f":"IF(語言配置表!A1213=\"\",\"CN_待填充内容\",語言配置表!B1213)","v":"刀气数量+1"}]
[{"$f":"IF(語言配置表!A1214=\"\",\"\",語言配置表!A1214)","v":1211},{"$f":"IF(語言配置表!A1214=\"\",\"CN_待填充内容\",語言配置表!B1214)","v":"防御+10%"}]
[{"$f":"IF(語言配置表!A1215=\"\",\"\",語言配置表!A1215)","v":1212},{"$f":"IF(語言配置表!A1215=\"\",\"CN_待填充内容\",語言配置表!B1215)","v":"刀气数量+2"}]
[{"$f":"IF(語言配置表!A1216=\"\",\"\",語言配置表!A1216)","v":1213},{"$f":"IF(語言配置表!A1216=\"\",\"CN_待填充内容\",語言配置表!B1216)","v":"防御+10%"}]
[{"$f":"IF(語言配置表!A1217=\"\",\"\",語言配置表!A1217)","v":1214},{"$f":"IF(語言配置表!A1217=\"\",\"CN_待填充内容\",語言配置表!B1217)","v":"刀气数量+3"}]
[{"$f":"IF(語言配置表!A1218=\"\",\"\",語言配置表!A1218)","v":1215},{"$f":"IF(語言配置表!A1218=\"\",\"CN_待填充内容\",語言配置表!B1218)","v":"攻击+5%"}]
[{"$f":"IF(語言配置表!A1219=\"\",\"\",語言配置表!A1219)","v":1216},{"$f":"IF(語言配置表!A1219=\"\",\"CN_待填充内容\",語言配置表!B1219)","v":"落石数量+1"}]
[{"$f":"IF(語言配置表!A1220=\"\",\"\",語言配置表!A1220)","v":1217},{"$f":"IF(語言配置表!A1220=\"\",\"CN_待填充内容\",語言配置表!B1220)","v":"攻击+5%"}]
[{"$f":"IF(語言配置表!A1221=\"\",\"\",語言配置表!A1221)","v":1218},{"$f":"IF(語言配置表!A1221=\"\",\"CN_待填充内容\",語言配置表!B1221)","v":"落石数量+1"}]
[{"$f":"IF(語言配置表!A1222=\"\",\"\",語言配置表!A1222)","v":1219},{"$f":"IF(語言配置表!A1222=\"\",\"CN_待填充内容\",語言配置表!B1222)","v":"攻击+5%"}]
[{"$f":"IF(語言配置表!A1223=\"\",\"\",語言配置表!A1223)","v":1220},{"$f":"IF(語言配置表!A1223=\"\",\"CN_待填充内容\",語言配置表!B1223)","v":"生命+5%"}]
[{"$f":"IF(語言配置表!A1224=\"\",\"\",語言配置表!A1224)","v":1221},{"$f":"IF(語言配置表!A1224=\"\",\"CN_待填充内容\",語言配置表!B1224)","v":"小石头数量+3"}]
[{"$f":"IF(語言配置表!A1225=\"\",\"\",語言配置表!A1225)","v":1222},{"$f":"IF(語言配置表!A1225=\"\",\"CN_待填充内容\",語言配置表!B1225)","v":"生命+5%"}]
[{"$f":"IF(語言配置表!A1226=\"\",\"\",語言配置表!A1226)","v":1223},{"$f":"IF(語言配置表!A1226=\"\",\"CN_待填充内容\",語言配置表!B1226)","v":"小石头数量+3"}]
[{"$f":"IF(語言配置表!A1227=\"\",\"\",語言配置表!A1227)","v":1224},{"$f":"IF(語言配置表!A1227=\"\",\"CN_待填充内容\",語言配置表!B1227)","v":"生命+5%"}]
[{"$f":"IF(語言配置表!A1228=\"\",\"\",語言配置表!A1228)","v":1225},{"$f":"IF(語言配置表!A1228=\"\",\"CN_待填充内容\",語言配置表!B1228)","v":"防御+3%"}]
[{"$f":"IF(語言配置表!A1229=\"\",\"\",語言配置表!A1229)","v":1226},{"$f":"IF(語言配置表!A1229=\"\",\"CN_待填充内容\",語言配置表!B1229)","v":"防御+3%"}]
[{"$f":"IF(語言配置表!A1230=\"\",\"\",語言配置表!A1230)","v":1227},{"$f":"IF(語言配置表!A1230=\"\",\"CN_待填充内容\",語言配置表!B1230)","v":"防御+3%"}]
[{"$f":"IF(語言配置表!A1231=\"\",\"\",語言配置表!A1231)","v":1228},{"$f":"IF(語言配置表!A1231=\"\",\"CN_待填充内容\",語言配置表!B1231)","v":"防御+3%"}]
[{"$f":"IF(語言配置表!A1232=\"\",\"\",語言配置表!A1232)","v":1229},{"$f":"IF(語言配置表!A1232=\"\",\"CN_待填充内容\",語言配置表!B1232)","v":"穿过护盾时额外对护盾照成等额伤害"}]
[{"$f":"IF(語言配置表!A1233=\"\",\"\",語言配置表!A1233)","v":1230},{"$f":"IF(語言配置表!A1233=\"\",\"CN_待填充内容\",語言配置表!B1233)","v":"攻击+3%"}]
[{"$f":"IF(語言配置表!A1234=\"\",\"\",語言配置表!A1234)","v":1231},{"$f":"IF(語言配置表!A1234=\"\",\"CN_待填充内容\",語言配置表!B1234)","v":"攻击+3%"}]
[{"$f":"IF(語言配置表!A1235=\"\",\"\",語言配置表!A1235)","v":1232},{"$f":"IF(語言配置表!A1235=\"\",\"CN_待填充内容\",語言配置表!B1235)","v":"攻击+3%"}]
[{"$f":"IF(語言配置表!A1236=\"\",\"\",語言配置表!A1236)","v":1233},{"$f":"IF(語言配置表!A1236=\"\",\"CN_待填充内容\",語言配置表!B1236)","v":"攻击+3%"}]
[{"$f":"IF(語言配置表!A1237=\"\",\"\",語言配置表!A1237)","v":1234},{"$f":"IF(語言配置表!A1237=\"\",\"CN_待填充内容\",語言配置表!B1237)","v":"充能增效，法宝瞬发且不对拼"}]
[{"$f":"IF(語言配置表!A1238=\"\",\"\",語言配置表!A1238)","v":1235},{"$f":"IF(語言配置表!A1238=\"\",\"CN_待填充内容\",語言配置表!B1238)","v":"防御+3%"}]
[{"$f":"IF(語言配置表!A1239=\"\",\"\",語言配置表!A1239)","v":1236},{"$f":"IF(語言配置表!A1239=\"\",\"CN_待填充内容\",語言配置表!B1239)","v":"防御+3%"}]
[{"$f":"IF(語言配置表!A1240=\"\",\"\",語言配置表!A1240)","v":1237},{"$f":"IF(語言配置表!A1240=\"\",\"CN_待填充内容\",語言配置表!B1240)","v":"防御+3%"}]
[{"$f":"IF(語言配置表!A1241=\"\",\"\",語言配置表!A1241)","v":1238},{"$f":"IF(語言配置表!A1241=\"\",\"CN_待填充内容\",語言配置表!B1241)","v":"防御+3%"}]
[{"$f":"IF(語言配置表!A1242=\"\",\"\",語言配置表!A1242)","v":1239},{"$f":"IF(語言配置表!A1242=\"\",\"CN_待填充内容\",語言配置表!B1242)","v":"触发概率提升"}]
[{"$f":"IF(語言配置表!A1243=\"\",\"\",語言配置表!A1243)","v":1240},{"$f":"IF(語言配置表!A1243=\"\",\"CN_待填充内容\",語言配置表!B1243)","v":"生命+3%"}]
[{"$f":"IF(語言配置表!A1244=\"\",\"\",語言配置表!A1244)","v":1241},{"$f":"IF(語言配置表!A1244=\"\",\"CN_待填充内容\",語言配置表!B1244)","v":"生命+3%"}]
[{"$f":"IF(語言配置表!A1245=\"\",\"\",語言配置表!A1245)","v":1242},{"$f":"IF(語言配置表!A1245=\"\",\"CN_待填充内容\",語言配置表!B1245)","v":"生命+3%"}]
[{"$f":"IF(語言配置表!A1246=\"\",\"\",語言配置表!A1246)","v":1243},{"$f":"IF(語言配置表!A1246=\"\",\"CN_待填充内容\",語言配置表!B1246)","v":"生命+3%"}]
[{"$f":"IF(語言配置表!A1247=\"\",\"\",語言配置表!A1247)","v":1244},{"$f":"IF(語言配置表!A1247=\"\",\"CN_待填充内容\",語言配置表!B1247)","v":"不相生甚至相克功法也生效"}]
[{"$f":"IF(語言配置表!A1248=\"\",\"\",語言配置表!A1248)","v":1245},{"$f":"IF(語言配置表!A1248=\"\",\"CN_待填充内容\",語言配置表!B1248)","v":"攻击+3%"}]
[{"$f":"IF(語言配置表!A1249=\"\",\"\",語言配置表!A1249)","v":1246},{"$f":"IF(語言配置表!A1249=\"\",\"CN_待填充内容\",語言配置表!B1249)","v":"攻击+3%"}]
[{"$f":"IF(語言配置表!A1250=\"\",\"\",語言配置表!A1250)","v":1247},{"$f":"IF(語言配置表!A1250=\"\",\"CN_待填充内容\",語言配置表!B1250)","v":"攻击+3%"}]
[{"$f":"IF(語言配置表!A1251=\"\",\"\",語言配置表!A1251)","v":1248},{"$f":"IF(語言配置表!A1251=\"\",\"CN_待填充内容\",語言配置表!B1251)","v":"攻击+3%"}]
[{"$f":"IF(語言配置表!A1252=\"\",\"\",語言配置表!A1252)","v":1249},{"$f":"IF(語言配置表!A1252=\"\",\"CN_待填充内容\",語言配置表!B1252)","v":"满层时施加灼烧"}]
[{"$f":"IF(語言配置表!A1253=\"\",\"\",語言配置表!A1253)","v":1250},{"$f":"IF(語言配置表!A1253=\"\",\"CN_待填充内容\",語言配置表!B1253)","v":"防御+3%"}]
[{"$f":"IF(語言配置表!A1254=\"\",\"\",語言配置表!A1254)","v":1251},{"$f":"IF(語言配置表!A1254=\"\",\"CN_待填充内容\",語言配置表!B1254)","v":"防御+3%"}]
[{"$f":"IF(語言配置表!A1255=\"\",\"\",語言配置表!A1255)","v":1252},{"$f":"IF(語言配置表!A1255=\"\",\"CN_待填充内容\",語言配置表!B1255)","v":"防御+3%"}]
[{"$f":"IF(語言配置表!A1256=\"\",\"\",語言配置表!A1256)","v":1253},{"$f":"IF(語言配置表!A1256=\"\",\"CN_待填充内容\",語言配置表!B1256)","v":"防御+3%"}]
[{"$f":"IF(語言配置表!A1257=\"\",\"\",語言配置表!A1257)","v":1254},{"$f":"IF(語言配置表!A1257=\"\",\"CN_待填充内容\",語言配置表!B1257)","v":"对拼时重生"}]
[{"$f":"IF(語言配置表!A1258=\"\",\"\",語言配置表!A1258)","v":1255},{"$f":"IF(語言配置表!A1258=\"\",\"CN_待填充内容\",語言配置表!B1258)","v":"生命+3%"}]
[{"$f":"IF(語言配置表!A1259=\"\",\"\",語言配置表!A1259)","v":1256},{"$f":"IF(語言配置表!A1259=\"\",\"CN_待填充内容\",語言配置表!B1259)","v":"生命+3%"}]
[{"$f":"IF(語言配置表!A1260=\"\",\"\",語言配置表!A1260)","v":1257},{"$f":"IF(語言配置表!A1260=\"\",\"CN_待填充内容\",語言配置表!B1260)","v":"生命+3%"}]
[{"$f":"IF(語言配置表!A1261=\"\",\"\",語言配置表!A1261)","v":1258},{"$f":"IF(語言配置表!A1261=\"\",\"CN_待填充内容\",語言配置表!B1261)","v":"生命+3%"}]
[{"$f":"IF(語言配置表!A1262=\"\",\"\",語言配置表!A1262)","v":1259},{"$f":"IF(語言配置表!A1262=\"\",\"CN_待填充内容\",語言配置表!B1262)","v":"加速时伤害提升"}]
[{"$f":"IF(語言配置表!A1263=\"\",\"\",語言配置表!A1263)","v":1260},{"$f":"IF(語言配置表!A1263=\"\",\"CN_待填充内容\",語言配置表!B1263)","v":"攻击+3%"}]
[{"$f":"IF(語言配置表!A1264=\"\",\"\",語言配置表!A1264)","v":1261},{"$f":"IF(語言配置表!A1264=\"\",\"CN_待填充内容\",語言配置表!B1264)","v":"攻击+3%"}]
[{"$f":"IF(語言配置表!A1265=\"\",\"\",語言配置表!A1265)","v":1262},{"$f":"IF(語言配置表!A1265=\"\",\"CN_待填充内容\",語言配置表!B1265)","v":"攻击+3%"}]
[{"$f":"IF(語言配置表!A1266=\"\",\"\",語言配置表!A1266)","v":1263},{"$f":"IF(語言配置表!A1266=\"\",\"CN_待填充内容\",語言配置表!B1266)","v":"攻击+3%"}]
[{"$f":"IF(語言配置表!A1267=\"\",\"\",語言配置表!A1267)","v":1264},{"$f":"IF(語言配置表!A1267=\"\",\"CN_待填充内容\",語言配置表!B1267)","v":"前槽位也生效，剑气增强"}]
[{"$f":"IF(語言配置表!A1268=\"\",\"\",語言配置表!A1268)","v":1265},{"$f":"IF(語言配置表!A1268=\"\",\"CN_待填充内容\",語言配置表!B1268)","v":"金灵根+5"}]
[{"$f":"IF(語言配置表!A1269=\"\",\"\",語言配置表!A1269)","v":1266},{"$f":"IF(語言配置表!A1269=\"\",\"CN_待填充内容\",語言配置表!B1269)","v":"攻击+5%"}]
[{"$f":"IF(語言配置表!A1270=\"\",\"\",語言配置表!A1270)","v":1267},{"$f":"IF(語言配置表!A1270=\"\",\"CN_待填充内容\",語言配置表!B1270)","v":"金灵根+5"}]
[{"$f":"IF(語言配置表!A1271=\"\",\"\",語言配置表!A1271)","v":1268},{"$f":"IF(語言配置表!A1271=\"\",\"CN_待填充内容\",語言配置表!B1271)","v":"攻击+5%"}]
[{"$f":"IF(語言配置表!A1272=\"\",\"\",語言配置表!A1272)","v":1269},{"$f":"IF(語言配置表!A1272=\"\",\"CN_待填充内容\",語言配置表!B1272)","v":"降低敌人灵根"}]
[{"$f":"IF(語言配置表!A1273=\"\",\"\",語言配置表!A1273)","v":1270},{"$f":"IF(語言配置表!A1273=\"\",\"CN_待填充内容\",語言配置表!B1273)","v":0}]
[{"$f":"IF(語言配置表!A1274=\"\",\"\",語言配置表!A1274)","v":1271},{"$f":"IF(語言配置表!A1274=\"\",\"CN_待填充内容\",語言配置表!B1274)","v":0}]
[{"$f":"IF(語言配置表!A1275=\"\",\"\",語言配置表!A1275)","v":1272},{"$f":"IF(語言配置表!A1275=\"\",\"CN_待填充内容\",語言配置表!B1275)","v":0}]
[{"$f":"IF(語言配置表!A1276=\"\",\"\",語言配置表!A1276)","v":1273},{"$f":"IF(語言配置表!A1276=\"\",\"CN_待填充内容\",語言配置表!B1276)","v":0}]
[{"$f":"IF(語言配置表!A1277=\"\",\"\",語言配置表!A1277)","v":1274},{"$f":"IF(語言配置表!A1277=\"\",\"CN_待填充内容\",語言配置表!B1277)","v":0}]
[{"$f":"IF(語言配置表!A1278=\"\",\"\",語言配置表!A1278)","v":1275},{"$f":"IF(語言配置表!A1278=\"\",\"CN_待填充内容\",語言配置表!B1278)","v":"降速效果提升"}]
[{"$f":"IF(語言配置表!A1279=\"\",\"\",語言配置表!A1279)","v":1276},{"$f":"IF(語言配置表!A1279=\"\",\"CN_待填充内容\",語言配置表!B1279)","v":"水灵根+5"}]
[{"$f":"IF(語言配置表!A1280=\"\",\"\",語言配置表!A1280)","v":1277},{"$f":"IF(語言配置表!A1280=\"\",\"CN_待填充内容\",語言配置表!B1280)","v":"生命+5%"}]
[{"$f":"IF(語言配置表!A1281=\"\",\"\",語言配置表!A1281)","v":1278},{"$f":"IF(語言配置表!A1281=\"\",\"CN_待填充内容\",語言配置表!B1281)","v":"水灵根+5"}]
[{"$f":"IF(語言配置表!A1282=\"\",\"\",語言配置表!A1282)","v":1279},{"$f":"IF(語言配置表!A1282=\"\",\"CN_待填充内容\",語言配置表!B1282)","v":"降低被影响功法的强度"}]
[{"$f":"IF(語言配置表!A1283=\"\",\"\",語言配置表!A1283)","v":1280},{"$f":"IF(語言配置表!A1283=\"\",\"CN_待填充内容\",語言配置表!B1283)","v":"水灵根+5"}]
[{"$f":"IF(語言配置表!A1284=\"\",\"\",語言配置表!A1284)","v":1281},{"$f":"IF(語言配置表!A1284=\"\",\"CN_待填充内容\",語言配置表!B1284)","v":"防御+5%"}]
[{"$f":"IF(語言配置表!A1285=\"\",\"\",語言配置表!A1285)","v":1282},{"$f":"IF(語言配置表!A1285=\"\",\"CN_待填充内容\",語言配置表!B1285)","v":"可使用次数增加"}]
[{"$f":"IF(語言配置表!A1286=\"\",\"\",語言配置表!A1286)","v":1283},{"$f":"IF(語言配置表!A1286=\"\",\"CN_待填充内容\",語言配置表!B1286)","v":"水灵根+5"}]
[{"$f":"IF(語言配置表!A1287=\"\",\"\",語言配置表!A1287)","v":1284},{"$f":"IF(語言配置表!A1287=\"\",\"CN_待填充内容\",語言配置表!B1287)","v":"功法额外增伤"}]
[{"$f":"IF(語言配置表!A1288=\"\",\"\",語言配置表!A1288)","v":1285},{"$f":"IF(語言配置表!A1288=\"\",\"CN_待填充内容\",語言配置表!B1288)","v":0}]
[{"$f":"IF(語言配置表!A1289=\"\",\"\",語言配置表!A1289)","v":1286},{"$f":"IF(語言配置表!A1289=\"\",\"CN_待填充内容\",語言配置表!B1289)","v":0}]
[{"$f":"IF(語言配置表!A1290=\"\",\"\",語言配置表!A1290)","v":1287},{"$f":"IF(語言配置表!A1290=\"\",\"CN_待填充内容\",語言配置表!B1290)","v":0}]
[{"$f":"IF(語言配置表!A1291=\"\",\"\",語言配置表!A1291)","v":1288},{"$f":"IF(語言配置表!A1291=\"\",\"CN_待填充内容\",語言配置表!B1291)","v":0}]
[{"$f":"IF(語言配置表!A1292=\"\",\"\",語言配置表!A1292)","v":1289},{"$f":"IF(語言配置表!A1292=\"\",\"CN_待填充内容\",語言配置表!B1292)","v":0}]
[{"$f":"IF(語言配置表!A1293=\"\",\"\",語言配置表!A1293)","v":1290},{"$f":"IF(語言配置表!A1293=\"\",\"CN_待填充内容\",語言配置表!B1293)","v":"封印法宝数量增加"}]
[{"$f":"IF(語言配置表!A1294=\"\",\"\",語言配置表!A1294)","v":1291},{"$f":"IF(語言配置表!A1294=\"\",\"CN_待填充内容\",語言配置表!B1294)","v":"木灵根+5"}]
[{"$f":"IF(語言配置表!A1295=\"\",\"\",語言配置表!A1295)","v":1292},{"$f":"IF(語言配置表!A1295=\"\",\"CN_待填充内容\",語言配置表!B1295)","v":"减缓相生法宝充能"}]
[{"$f":"IF(語言配置表!A1296=\"\",\"\",語言配置表!A1296)","v":1293},{"$f":"IF(語言配置表!A1296=\"\",\"CN_待填充内容\",語言配置表!B1296)","v":"木灵根+5"}]
[{"$f":"IF(語言配置表!A1297=\"\",\"\",語言配置表!A1297)","v":1294},{"$f":"IF(語言配置表!A1297=\"\",\"CN_待填充内容\",語言配置表!B1297)","v":"大幅减缓相生法宝充能"}]
[{"$f":"IF(語言配置表!A1298=\"\",\"\",語言配置表!A1298)","v":1295},{"$f":"IF(語言配置表!A1298=\"\",\"CN_待填充内容\",語言配置表!B1298)","v":0}]
[{"$f":"IF(語言配置表!A1299=\"\",\"\",語言配置表!A1299)","v":1296},{"$f":"IF(語言配置表!A1299=\"\",\"CN_待填充内容\",語言配置表!B1299)","v":0}]
[{"$f":"IF(語言配置表!A1300=\"\",\"\",語言配置表!A1300)","v":1297},{"$f":"IF(語言配置表!A1300=\"\",\"CN_待填充内容\",語言配置表!B1300)","v":0}]
[{"$f":"IF(語言配置表!A1301=\"\",\"\",語言配置表!A1301)","v":1298},{"$f":"IF(語言配置表!A1301=\"\",\"CN_待填充内容\",語言配置表!B1301)","v":0}]
[{"$f":"IF(語言配置表!A1302=\"\",\"\",語言配置表!A1302)","v":1299},{"$f":"IF(語言配置表!A1302=\"\",\"CN_待填充内容\",語言配置表!B1302)","v":0}]
[{"$f":"IF(語言配置表!A1303=\"\",\"\",語言配置表!A1303)","v":1300},{"$f":"IF(語言配置表!A1303=\"\",\"CN_待填充内容\",語言配置表!B1303)","v":"火灵根+5"}]
[{"$f":"IF(語言配置表!A1304=\"\",\"\",語言配置表!A1304)","v":1301},{"$f":"IF(語言配置表!A1304=\"\",\"CN_待填充内容\",語言配置表!B1304)","v":"增加吸收几率"}]
[{"$f":"IF(語言配置表!A1305=\"\",\"\",語言配置表!A1305)","v":1302},{"$f":"IF(語言配置表!A1305=\"\",\"CN_待填充内容\",語言配置表!B1305)","v":"攻击+5%"}]
[{"$f":"IF(語言配置表!A1306=\"\",\"\",語言配置表!A1306)","v":1303},{"$f":"IF(語言配置表!A1306=\"\",\"CN_待填充内容\",語言配置表!B1306)","v":"火灵根+5"}]
[{"$f":"IF(語言配置表!A1307=\"\",\"\",語言配置表!A1307)","v":1304},{"$f":"IF(語言配置表!A1307=\"\",\"CN_待填充内容\",語言配置表!B1307)","v":"完全吸收，临时加灵根"}]
[{"$f":"IF(語言配置表!A1308=\"\",\"\",語言配置表!A1308)","v":1305},{"$f":"IF(語言配置表!A1308=\"\",\"CN_待填充内容\",語言配置表!B1308)","v":"打断增强，避免对拼"}]
[{"$f":"IF(語言配置表!A1309=\"\",\"\",語言配置表!A1309)","v":1306},{"$f":"IF(語言配置表!A1309=\"\",\"CN_待填充内容\",語言配置表!B1309)","v":"火灵根+5"}]
[{"$f":"IF(語言配置表!A1310=\"\",\"\",語言配置表!A1310)","v":1307},{"$f":"IF(語言配置表!A1310=\"\",\"CN_待填充内容\",語言配置表!B1310)","v":"攻击+%"}]
[{"$f":"IF(語言配置表!A1311=\"\",\"\",語言配置表!A1311)","v":1308},{"$f":"IF(語言配置表!A1311=\"\",\"CN_待填充内容\",語言配置表!B1311)","v":"火灵根+5"}]
[{"$f":"IF(語言配置表!A1312=\"\",\"\",語言配置表!A1312)","v":1309},{"$f":"IF(語言配置表!A1312=\"\",\"CN_待填充内容\",語言配置表!B1312)","v":"成功打断后加速冷却"}]
[{"$f":"IF(語言配置表!A1313=\"\",\"\",語言配置表!A1313)","v":1310},{"$f":"IF(語言配置表!A1313=\"\",\"CN_待填充内容\",語言配置表!B1313)","v":"盾强度提升"}]
[{"$f":"IF(語言配置表!A1314=\"\",\"\",語言配置表!A1314)","v":1311},{"$f":"IF(語言配置表!A1314=\"\",\"CN_待填充内容\",語言配置表!B1314)","v":"土灵根+5"}]
[{"$f":"IF(語言配置表!A1315=\"\",\"\",語言配置表!A1315)","v":1312},{"$f":"IF(語言配置表!A1315=\"\",\"CN_待填充内容\",語言配置表!B1315)","v":"盾强度提升"}]
[{"$f":"IF(語言配置表!A1316=\"\",\"\",語言配置表!A1316)","v":1313},{"$f":"IF(語言配置表!A1316=\"\",\"CN_待填充内容\",語言配置表!B1316)","v":"土灵根+5"}]
[{"$f":"IF(語言配置表!A1317=\"\",\"\",語言配置表!A1317)","v":1314},{"$f":"IF(語言配置表!A1317=\"\",\"CN_待填充内容\",語言配置表!B1317)","v":"盾强度提升"}]
[{"$f":"IF(語言配置表!A1318=\"\",\"\",語言配置表!A1318)","v":1315},{"$f":"IF(語言配置表!A1318=\"\",\"CN_待填充内容\",語言配置表!B1318)","v":0}]
[{"$f":"IF(語言配置表!A1319=\"\",\"\",語言配置表!A1319)","v":1316},{"$f":"IF(語言配置表!A1319=\"\",\"CN_待填充内容\",語言配置表!B1319)","v":0}]
[{"$f":"IF(語言配置表!A1320=\"\",\"\",語言配置表!A1320)","v":1317},{"$f":"IF(語言配置表!A1320=\"\",\"CN_待填充内容\",語言配置表!B1320)","v":0}]
[{"$f":"IF(語言配置表!A1321=\"\",\"\",語言配置表!A1321)","v":1318},{"$f":"IF(語言配置表!A1321=\"\",\"CN_待填充内容\",語言配置表!B1321)","v":0}]
[{"$f":"IF(語言配置表!A1322=\"\",\"\",語言配置表!A1322)","v":1319},{"$f":"IF(語言配置表!A1322=\"\",\"CN_待填充内容\",語言配置表!B1322)","v":0}]
[{"$f":"IF(語言配置表!A1323=\"\",\"\",語言配置表!A1323)","v":1320},{"$f":"IF(語言配置表!A1323=\"\",\"CN_待填充内容\",語言配置表!B1323)","v":"技能升星描述占位，勿占"}]
[{"$f":"IF(語言配置表!A1324=\"\",\"\",語言配置表!A1324)","v":1321},{"$f":"IF(語言配置表!A1324=\"\",\"CN_待填充内容\",語言配置表!B1324)","v":"技能升星描述占位，勿占"}]
[{"$f":"IF(語言配置表!A1325=\"\",\"\",語言配置表!A1325)","v":1322},{"$f":"IF(語言配置表!A1325=\"\",\"CN_待填充内容\",語言配置表!B1325)","v":"技能升星描述占位，勿占"}]
[{"$f":"IF(語言配置表!A1326=\"\",\"\",語言配置表!A1326)","v":1323},{"$f":"IF(語言配置表!A1326=\"\",\"CN_待填充内容\",語言配置表!B1326)","v":"技能升星描述占位，勿占"}]
[{"$f":"IF(語言配置表!A1327=\"\",\"\",語言配置表!A1327)","v":1324},{"$f":"IF(語言配置表!A1327=\"\",\"CN_待填充内容\",語言配置表!B1327)","v":"技能升星描述占位，勿占"}]
[{"$f":"IF(語言配置表!A1328=\"\",\"\",語言配置表!A1328)","v":1325},{"$f":"IF(語言配置表!A1328=\"\",\"CN_待填充内容\",語言配置表!B1328)","v":"技能升星描述占位，勿占"}]
[{"$f":"IF(語言配置表!A1329=\"\",\"\",語言配置表!A1329)","v":1326},{"$f":"IF(語言配置表!A1329=\"\",\"CN_待填充内容\",語言配置表!B1329)","v":"技能升星描述占位，勿占"}]
[{"$f":"IF(語言配置表!A1330=\"\",\"\",語言配置表!A1330)","v":1327},{"$f":"IF(語言配置表!A1330=\"\",\"CN_待填充内容\",語言配置表!B1330)","v":"技能升星描述占位，勿占"}]
[{"$f":"IF(語言配置表!A1331=\"\",\"\",語言配置表!A1331)","v":1328},{"$f":"IF(語言配置表!A1331=\"\",\"CN_待填充内容\",語言配置表!B1331)","v":"技能升星描述占位，勿占"}]
[{"$f":"IF(語言配置表!A1332=\"\",\"\",語言配置表!A1332)","v":1329},{"$f":"IF(語言配置表!A1332=\"\",\"CN_待填充内容\",語言配置表!B1332)","v":"技能升星描述占位，勿占"}]
[{"$f":"IF(語言配置表!A1333=\"\",\"\",語言配置表!A1333)","v":1330},{"$f":"IF(語言配置表!A1333=\"\",\"CN_待填充内容\",語言配置表!B1333)","v":"技能升星描述占位，勿占"}]
[{"$f":"IF(語言配置表!A1334=\"\",\"\",語言配置表!A1334)","v":1331},{"$f":"IF(語言配置表!A1334=\"\",\"CN_待填充内容\",語言配置表!B1334)","v":"技能升星描述占位，勿占"}]
[{"$f":"IF(語言配置表!A1335=\"\",\"\",語言配置表!A1335)","v":1332},{"$f":"IF(語言配置表!A1335=\"\",\"CN_待填充内容\",語言配置表!B1335)","v":"技能升星描述占位，勿占"}]
[{"$f":"IF(語言配置表!A1336=\"\",\"\",語言配置表!A1336)","v":1333},{"$f":"IF(語言配置表!A1336=\"\",\"CN_待填充内容\",語言配置表!B1336)","v":"技能升星描述占位，勿占"}]
[{"$f":"IF(語言配置表!A1337=\"\",\"\",語言配置表!A1337)","v":1334},{"$f":"IF(語言配置表!A1337=\"\",\"CN_待填充内容\",語言配置表!B1337)","v":"技能升星描述占位，勿占"}]
[{"$f":"IF(語言配置表!A1338=\"\",\"\",語言配置表!A1338)","v":1335},{"$f":"IF(語言配置表!A1338=\"\",\"CN_待填充内容\",語言配置表!B1338)","v":"技能升星描述占位，勿占"}]
[{"$f":"IF(語言配置表!A1339=\"\",\"\",語言配置表!A1339)","v":1336},{"$f":"IF(語言配置表!A1339=\"\",\"CN_待填充内容\",語言配置表!B1339)","v":"技能升星描述占位，勿占"}]
[{"$f":"IF(語言配置表!A1340=\"\",\"\",語言配置表!A1340)","v":1337},{"$f":"IF(語言配置表!A1340=\"\",\"CN_待填充内容\",語言配置表!B1340)","v":"技能升星描述占位，勿占"}]
[{"$f":"IF(語言配置表!A1341=\"\",\"\",語言配置表!A1341)","v":1338},{"$f":"IF(語言配置表!A1341=\"\",\"CN_待填充内容\",語言配置表!B1341)","v":"技能升星描述占位，勿占"}]
[{"$f":"IF(語言配置表!A1342=\"\",\"\",語言配置表!A1342)","v":1339},{"$f":"IF(語言配置表!A1342=\"\",\"CN_待填充内容\",語言配置表!B1342)","v":"技能升星描述占位，勿占"}]
[{"$f":"IF(語言配置表!A1343=\"\",\"\",語言配置表!A1343)","v":1340},{"$f":"IF(語言配置表!A1343=\"\",\"CN_待填充内容\",語言配置表!B1343)","v":"技能升星描述占位，勿占"}]
[{"$f":"IF(語言配置表!A1344=\"\",\"\",語言配置表!A1344)","v":1341},{"$f":"IF(語言配置表!A1344=\"\",\"CN_待填充内容\",語言配置表!B1344)","v":"技能升星描述占位，勿占"}]
[{"$f":"IF(語言配置表!A1345=\"\",\"\",語言配置表!A1345)","v":1342},{"$f":"IF(語言配置表!A1345=\"\",\"CN_待填充内容\",語言配置表!B1345)","v":"技能升星描述占位，勿占"}]
[{"$f":"IF(語言配置表!A1346=\"\",\"\",語言配置表!A1346)","v":1343},{"$f":"IF(語言配置表!A1346=\"\",\"CN_待填充内容\",語言配置表!B1346)","v":"技能升星描述占位，勿占"}]
[{"$f":"IF(語言配置表!A1347=\"\",\"\",語言配置表!A1347)","v":1344},{"$f":"IF(語言配置表!A1347=\"\",\"CN_待填充内容\",語言配置表!B1347)","v":"技能升星描述占位，勿占"}]
[{"$f":"IF(語言配置表!A1348=\"\",\"\",語言配置表!A1348)","v":1345},{"$f":"IF(語言配置表!A1348=\"\",\"CN_待填充内容\",語言配置表!B1348)","v":"技能升星描述占位，勿占"}]
[{"$f":"IF(語言配置表!A1349=\"\",\"\",語言配置表!A1349)","v":1346},{"$f":"IF(語言配置表!A1349=\"\",\"CN_待填充内容\",語言配置表!B1349)","v":"技能升星描述占位，勿占"}]
[{"$f":"IF(語言配置表!A1350=\"\",\"\",語言配置表!A1350)","v":1347},{"$f":"IF(語言配置表!A1350=\"\",\"CN_待填充内容\",語言配置表!B1350)","v":"技能升星描述占位，勿占"}]
[{"$f":"IF(語言配置表!A1351=\"\",\"\",語言配置表!A1351)","v":1348},{"$f":"IF(語言配置表!A1351=\"\",\"CN_待填充内容\",語言配置表!B1351)","v":"技能升星描述占位，勿占"}]
[{"$f":"IF(語言配置表!A1352=\"\",\"\",語言配置表!A1352)","v":1349},{"$f":"IF(語言配置表!A1352=\"\",\"CN_待填充内容\",語言配置表!B1352)","v":"技能升星描述占位，勿占"}]
[{"$f":"IF(語言配置表!A1353=\"\",\"\",語言配置表!A1353)","v":1350},{"$f":"IF(語言配置表!A1353=\"\",\"CN_待填充内容\",語言配置表!B1353)","v":"技能升星描述占位，勿占"}]
[{"$f":"IF(語言配置表!A1354=\"\",\"\",語言配置表!A1354)","v":1351},{"$f":"IF(語言配置表!A1354=\"\",\"CN_待填充内容\",語言配置表!B1354)","v":"技能升星描述占位，勿占"}]
[{"$f":"IF(語言配置表!A1355=\"\",\"\",語言配置表!A1355)","v":1352},{"$f":"IF(語言配置表!A1355=\"\",\"CN_待填充内容\",語言配置表!B1355)","v":"技能升星描述占位，勿占"}]
[{"$f":"IF(語言配置表!A1356=\"\",\"\",語言配置表!A1356)","v":1353},{"$f":"IF(語言配置表!A1356=\"\",\"CN_待填充内容\",語言配置表!B1356)","v":"技能升星描述占位，勿占"}]
[{"$f":"IF(語言配置表!A1357=\"\",\"\",語言配置表!A1357)","v":1354},{"$f":"IF(語言配置表!A1357=\"\",\"CN_待填充内容\",語言配置表!B1357)","v":"技能升星描述占位，勿占"}]
[{"$f":"IF(語言配置表!A1358=\"\",\"\",語言配置表!A1358)","v":1355},{"$f":"IF(語言配置表!A1358=\"\",\"CN_待填充内容\",語言配置表!B1358)","v":"技能升星描述占位，勿占"}]
[{"$f":"IF(語言配置表!A1359=\"\",\"\",語言配置表!A1359)","v":1356},{"$f":"IF(語言配置表!A1359=\"\",\"CN_待填充内容\",語言配置表!B1359)","v":"技能升星描述占位，勿占"}]
[{"$f":"IF(語言配置表!A1360=\"\",\"\",語言配置表!A1360)","v":1357},{"$f":"IF(語言配置表!A1360=\"\",\"CN_待填充内容\",語言配置表!B1360)","v":"技能升星描述占位，勿占"}]
[{"$f":"IF(語言配置表!A1361=\"\",\"\",語言配置表!A1361)","v":1358},{"$f":"IF(語言配置表!A1361=\"\",\"CN_待填充内容\",語言配置表!B1361)","v":"技能升星描述占位，勿占"}]
[{"$f":"IF(語言配置表!A1362=\"\",\"\",語言配置表!A1362)","v":1359},{"$f":"IF(語言配置表!A1362=\"\",\"CN_待填充内容\",語言配置表!B1362)","v":"技能升星描述占位，勿占"}]
[{"$f":"IF(語言配置表!A1363=\"\",\"\",語言配置表!A1363)","v":1360},{"$f":"IF(語言配置表!A1363=\"\",\"CN_待填充内容\",語言配置表!B1363)","v":"技能升星描述占位，勿占"}]
[{"$f":"IF(語言配置表!A1364=\"\",\"\",語言配置表!A1364)","v":1361},{"$f":"IF(語言配置表!A1364=\"\",\"CN_待填充内容\",語言配置表!B1364)","v":"技能升星描述占位，勿占"}]
[{"$f":"IF(語言配置表!A1365=\"\",\"\",語言配置表!A1365)","v":1362},{"$f":"IF(語言配置表!A1365=\"\",\"CN_待填充内容\",語言配置表!B1365)","v":"技能升星描述占位，勿占"}]
[{"$f":"IF(語言配置表!A1366=\"\",\"\",語言配置表!A1366)","v":1363},{"$f":"IF(語言配置表!A1366=\"\",\"CN_待填充内容\",語言配置表!B1366)","v":"技能升星描述占位，勿占"}]
[{"$f":"IF(語言配置表!A1367=\"\",\"\",語言配置表!A1367)","v":1364},{"$f":"IF(語言配置表!A1367=\"\",\"CN_待填充内容\",語言配置表!B1367)","v":"技能升星描述占位，勿占"}]
[{"$f":"IF(語言配置表!A1368=\"\",\"\",語言配置表!A1368)","v":1365},{"$f":"IF(語言配置表!A1368=\"\",\"CN_待填充内容\",語言配置表!B1368)","v":"技能升星描述占位，勿占"}]
[{"$f":"IF(語言配置表!A1369=\"\",\"\",語言配置表!A1369)","v":1366},{"$f":"IF(語言配置表!A1369=\"\",\"CN_待填充内容\",語言配置表!B1369)","v":"技能升星描述占位，勿占"}]
[{"$f":"IF(語言配置表!A1370=\"\",\"\",語言配置表!A1370)","v":1367},{"$f":"IF(語言配置表!A1370=\"\",\"CN_待填充内容\",語言配置表!B1370)","v":"技能升星描述占位，勿占"}]
[{"$f":"IF(語言配置表!A1371=\"\",\"\",語言配置表!A1371)","v":1368},{"$f":"IF(語言配置表!A1371=\"\",\"CN_待填充内容\",語言配置表!B1371)","v":"技能升星描述占位，勿占"}]
[{"$f":"IF(語言配置表!A1372=\"\",\"\",語言配置表!A1372)","v":1369},{"$f":"IF(語言配置表!A1372=\"\",\"CN_待填充内容\",語言配置表!B1372)","v":"技能升星描述占位，勿占"}]
[{"$f":"IF(語言配置表!A1373=\"\",\"\",語言配置表!A1373)","v":1370},{"$f":"IF(語言配置表!A1373=\"\",\"CN_待填充内容\",語言配置表!B1373)","v":"技能升星描述占位，勿占"}]
[{"$f":"IF(語言配置表!A1374=\"\",\"\",語言配置表!A1374)","v":1371},{"$f":"IF(語言配置表!A1374=\"\",\"CN_待填充内容\",語言配置表!B1374)","v":"技能升星描述占位，勿占"}]
[{"$f":"IF(語言配置表!A1375=\"\",\"\",語言配置表!A1375)","v":1372},{"$f":"IF(語言配置表!A1375=\"\",\"CN_待填充内容\",語言配置表!B1375)","v":"技能升星描述占位，勿占"}]
[{"$f":"IF(語言配置表!A1376=\"\",\"\",語言配置表!A1376)","v":1373},{"$f":"IF(語言配置表!A1376=\"\",\"CN_待填充内容\",語言配置表!B1376)","v":"技能升星描述占位，勿占"}]
[{"$f":"IF(語言配置表!A1377=\"\",\"\",語言配置表!A1377)","v":1374},{"$f":"IF(語言配置表!A1377=\"\",\"CN_待填充内容\",語言配置表!B1377)","v":"技能升星描述占位，勿占"}]
[{"$f":"IF(語言配置表!A1378=\"\",\"\",語言配置表!A1378)","v":1375},{"$f":"IF(語言配置表!A1378=\"\",\"CN_待填充内容\",語言配置表!B1378)","v":"技能升星描述占位，勿占"}]
[{"$f":"IF(語言配置表!A1379=\"\",\"\",語言配置表!A1379)","v":1376},{"$f":"IF(語言配置表!A1379=\"\",\"CN_待填充内容\",語言配置表!B1379)","v":"技能升星描述占位，勿占"}]
[{"$f":"IF(語言配置表!A1380=\"\",\"\",語言配置表!A1380)","v":1377},{"$f":"IF(語言配置表!A1380=\"\",\"CN_待填充内容\",語言配置表!B1380)","v":"技能升星描述占位，勿占"}]
[{"$f":"IF(語言配置表!A1381=\"\",\"\",語言配置表!A1381)","v":1378},{"$f":"IF(語言配置表!A1381=\"\",\"CN_待填充内容\",語言配置表!B1381)","v":"技能升星描述占位，勿占"}]
[{"$f":"IF(語言配置表!A1382=\"\",\"\",語言配置表!A1382)","v":1379},{"$f":"IF(語言配置表!A1382=\"\",\"CN_待填充内容\",語言配置表!B1382)","v":"技能升星描述占位，勿占"}]
[{"$f":"IF(語言配置表!A1383=\"\",\"\",語言配置表!A1383)","v":1380},{"$f":"IF(語言配置表!A1383=\"\",\"CN_待填充内容\",語言配置表!B1383)","v":"技能升星描述占位，勿占"}]
[{"$f":"IF(語言配置表!A1384=\"\",\"\",語言配置表!A1384)","v":1381},{"$f":"IF(語言配置表!A1384=\"\",\"CN_待填充内容\",語言配置表!B1384)","v":"技能升星描述占位，勿占"}]
[{"$f":"IF(語言配置表!A1385=\"\",\"\",語言配置表!A1385)","v":1382},{"$f":"IF(語言配置表!A1385=\"\",\"CN_待填充内容\",語言配置表!B1385)","v":"技能升星描述占位，勿占"}]
[{"$f":"IF(語言配置表!A1386=\"\",\"\",語言配置表!A1386)","v":1383},{"$f":"IF(語言配置表!A1386=\"\",\"CN_待填充内容\",語言配置表!B1386)","v":"技能升星描述占位，勿占"}]
[{"$f":"IF(語言配置表!A1387=\"\",\"\",語言配置表!A1387)","v":1384},{"$f":"IF(語言配置表!A1387=\"\",\"CN_待填充内容\",語言配置表!B1387)","v":"技能升星描述占位，勿占"}]
[{"$f":"IF(語言配置表!A1388=\"\",\"\",語言配置表!A1388)","v":1385},{"$f":"IF(語言配置表!A1388=\"\",\"CN_待填充内容\",語言配置表!B1388)","v":"技能升星描述占位，勿占"}]
[{"$f":"IF(語言配置表!A1389=\"\",\"\",語言配置表!A1389)","v":1386},{"$f":"IF(語言配置表!A1389=\"\",\"CN_待填充内容\",語言配置表!B1389)","v":"技能升星描述占位，勿占"}]
[{"$f":"IF(語言配置表!A1390=\"\",\"\",語言配置表!A1390)","v":1387},{"$f":"IF(語言配置表!A1390=\"\",\"CN_待填充内容\",語言配置表!B1390)","v":"技能升星描述占位，勿占"}]
[{"$f":"IF(語言配置表!A1391=\"\",\"\",語言配置表!A1391)","v":1388},{"$f":"IF(語言配置表!A1391=\"\",\"CN_待填充内容\",語言配置表!B1391)","v":"技能升星描述占位，勿占"}]
[{"$f":"IF(語言配置表!A1392=\"\",\"\",語言配置表!A1392)","v":1389},{"$f":"IF(語言配置表!A1392=\"\",\"CN_待填充内容\",語言配置表!B1392)","v":"技能升星描述占位，勿占"}]
[{"$f":"IF(語言配置表!A1393=\"\",\"\",語言配置表!A1393)","v":1390},{"$f":"IF(語言配置表!A1393=\"\",\"CN_待填充内容\",語言配置表!B1393)","v":"技能升星描述占位，勿占"}]
[{"$f":"IF(語言配置表!A1394=\"\",\"\",語言配置表!A1394)","v":1391},{"$f":"IF(語言配置表!A1394=\"\",\"CN_待填充内容\",語言配置表!B1394)","v":"技能升星描述占位，勿占"}]
[{"$f":"IF(語言配置表!A1395=\"\",\"\",語言配置表!A1395)","v":1392},{"$f":"IF(語言配置表!A1395=\"\",\"CN_待填充内容\",語言配置表!B1395)","v":"技能升星描述占位，勿占"}]
[{"$f":"IF(語言配置表!A1396=\"\",\"\",語言配置表!A1396)","v":1393},{"$f":"IF(語言配置表!A1396=\"\",\"CN_待填充内容\",語言配置表!B1396)","v":"技能升星描述占位，勿占"}]
[{"$f":"IF(語言配置表!A1397=\"\",\"\",語言配置表!A1397)","v":1394},{"$f":"IF(語言配置表!A1397=\"\",\"CN_待填充内容\",語言配置表!B1397)","v":"技能升星描述占位，勿占"}]
[{"$f":"IF(語言配置表!A1398=\"\",\"\",語言配置表!A1398)","v":1395},{"$f":"IF(語言配置表!A1398=\"\",\"CN_待填充内容\",語言配置表!B1398)","v":"技能升星描述占位，勿占"}]
[{"$f":"IF(語言配置表!A1399=\"\",\"\",語言配置表!A1399)","v":1396},{"$f":"IF(語言配置表!A1399=\"\",\"CN_待填充内容\",語言配置表!B1399)","v":"技能升星描述占位，勿占"}]
[{"$f":"IF(語言配置表!A1400=\"\",\"\",語言配置表!A1400)","v":1397},{"$f":"IF(語言配置表!A1400=\"\",\"CN_待填充内容\",語言配置表!B1400)","v":"技能升星描述占位，勿占"}]
[{"$f":"IF(語言配置表!A1401=\"\",\"\",語言配置表!A1401)","v":1398},{"$f":"IF(語言配置表!A1401=\"\",\"CN_待填充内容\",語言配置表!B1401)","v":"技能升星描述占位，勿占"}]
[{"$f":"IF(語言配置表!A1402=\"\",\"\",語言配置表!A1402)","v":1399},{"$f":"IF(語言配置表!A1402=\"\",\"CN_待填充内容\",語言配置表!B1402)","v":"技能升星描述占位，勿占"}]
[{"$f":"IF(語言配置表!A1403=\"\",\"\",語言配置表!A1403)","v":1400},{"$f":"IF(語言配置表!A1403=\"\",\"CN_待填充内容\",語言配置表!B1403)","v":"法宝灵韵"}]
[{"$f":"IF(語言配置表!A1404=\"\",\"\",語言配置表!A1404)","v":1401},{"$f":"IF(語言配置表!A1404=\"\",\"CN_待填充内容\",語言配置表!B1404)","v":"用于提升法宝的等级"}]
[{"$f":"IF(語言配置表!A1405=\"\",\"\",語言配置表!A1405)","v":1402},{"$f":"IF(語言配置表!A1405=\"\",\"CN_待填充内容\",語言配置表!B1405)","v":"禁元珠"}]
[{"$f":"IF(語言配置表!A1406=\"\",\"\",語言配置表!A1406)","v":1403},{"$f":"IF(語言配置表!A1406=\"\",\"CN_待填充内容\",語言配置表!B1406)","v":"玄龟盾"}]
[{"$f":"IF(語言配置表!A1407=\"\",\"\",語言配置表!A1407)","v":1404},{"$f":"IF(語言配置表!A1407=\"\",\"CN_待填充内容\",語言配置表!B1407)","v":"天殇血刃剑"}]
[{"$f":"IF(語言配置表!A1408=\"\",\"\",語言配置表!A1408)","v":1405},{"$f":"IF(語言配置表!A1408=\"\",\"CN_待填充内容\",語言配置表!B1408)","v":"禁元珠描述"}]
[{"$f":"IF(語言配置表!A1409=\"\",\"\",語言配置表!A1409)","v":1406},{"$f":"IF(語言配置表!A1409=\"\",\"CN_待填充内容\",語言配置表!B1409)","v":"玄龟盾描述"}]
[{"$f":"IF(語言配置表!A1410=\"\",\"\",語言配置表!A1410)","v":1407},{"$f":"IF(語言配置表!A1410=\"\",\"CN_待填充内容\",語言配置表!B1410)","v":"天殇血刃剑描述"}]
[{"$f":"IF(語言配置表!A1411=\"\",\"\",語言配置表!A1411)","v":1408},{"$f":"IF(語言配置表!A1411=\"\",\"CN_待填充内容\",語言配置表!B1411)","v":"禁元珠碎片"}]
[{"$f":"IF(語言配置表!A1412=\"\",\"\",語言配置表!A1412)","v":1409},{"$f":"IF(語言配置表!A1412=\"\",\"CN_待填充内容\",語言配置表!B1412)","v":"玄龟盾碎片"}]
[{"$f":"IF(語言配置表!A1413=\"\",\"\",語言配置表!A1413)","v":1410},{"$f":"IF(語言配置表!A1413=\"\",\"CN_待填充内容\",語言配置表!B1413)","v":"天殇血刃剑碎片"}]
[{"$f":"IF(語言配置表!A1414=\"\",\"\",語言配置表!A1414)","v":1411},{"$f":"IF(語言配置表!A1414=\"\",\"CN_待填充内容\",語言配置表!B1414)","v":"禁元珠碎片描述"}]
[{"$f":"IF(語言配置表!A1415=\"\",\"\",語言配置表!A1415)","v":1412},{"$f":"IF(語言配置表!A1415=\"\",\"CN_待填充内容\",語言配置表!B1415)","v":"玄龟盾碎片描述"}]
[{"$f":"IF(語言配置表!A1416=\"\",\"\",語言配置表!A1416)","v":1413},{"$f":"IF(語言配置表!A1416=\"\",\"CN_待填充内容\",語言配置表!B1416)","v":"天殇血刃剑碎片描述"}]
[{"$f":"IF(語言配置表!A1417=\"\",\"\",語言配置表!A1417)","v":1414},{"$f":"IF(語言配置表!A1417=\"\",\"CN_待填充内容\",語言配置表!B1417)","v":"太虚幻剑经"}]
[{"$f":"IF(語言配置表!A1418=\"\",\"\",語言配置表!A1418)","v":1415},{"$f":"IF(語言配置表!A1418=\"\",\"CN_待填充内容\",語言配置表!B1418)","v":"天罡剑气诀"}]
[{"$f":"IF(語言配置表!A1419=\"\",\"\",語言配置表!A1419)","v":1416},{"$f":"IF(語言配置表!A1419=\"\",\"CN_待填充内容\",語言配置表!B1419)","v":"血刃金煌功"}]
[{"$f":"IF(語言配置表!A1420=\"\",\"\",語言配置表!A1420)","v":1417},{"$f":"IF(語言配置表!A1420=\"\",\"CN_待填充内容\",語言配置表!B1420)","v":"飞刃"}]
[{"$f":"IF(語言配置表!A1421=\"\",\"\",語言配置表!A1421)","v":1418},{"$f":"IF(語言配置表!A1421=\"\",\"CN_待填充内容\",語言配置表!B1421)","v":"金针"}]
[{"$f":"IF(語言配置表!A1422=\"\",\"\",語言配置表!A1422)","v":1419},{"$f":"IF(語言配置表!A1422=\"\",\"CN_待填充内容\",語言配置表!B1422)","v":"碧落幽冥劲"}]
[{"$f":"IF(語言配置表!A1423=\"\",\"\",語言配置表!A1423)","v":1420},{"$f":"IF(語言配置表!A1423=\"\",\"CN_待填充内容\",語言配置表!B1423)","v":"雾隐千流法"}]
[{"$f":"IF(語言配置表!A1424=\"\",\"\",語言配置表!A1424)","v":1421},{"$f":"IF(語言配置表!A1424=\"\",\"CN_待填充内容\",語言配置表!B1424)","v":"功法-水3"}]
[{"$f":"IF(語言配置表!A1425=\"\",\"\",語言配置表!A1425)","v":1422},{"$f":"IF(語言配置表!A1425=\"\",\"CN_待填充内容\",語言配置表!B1425)","v":"水球"}]
[{"$f":"IF(語言配置表!A1426=\"\",\"\",語言配置表!A1426)","v":1423},{"$f":"IF(語言配置表!A1426=\"\",\"CN_待填充内容\",語言配置表!B1426)","v":"冰刀"}]
[{"$f":"IF(語言配置表!A1427=\"\",\"\",語言配置表!A1427)","v":1424},{"$f":"IF(語言配置表!A1427=\"\",\"CN_待填充内容\",語言配置表!B1427)","v":"瘴影千丝术"}]
[{"$f":"IF(語言配置表!A1428=\"\",\"\",語言配置表!A1428)","v":1425},{"$f":"IF(語言配置表!A1428=\"\",\"CN_待填充内容\",語言配置表!B1428)","v":"蚀骨腐血掌"}]
[{"$f":"IF(語言配置表!A1429=\"\",\"\",語言配置表!A1429)","v":1426},{"$f":"IF(語言配置表!A1429=\"\",\"CN_待填充内容\",語言配置表!B1429)","v":"功法-木3"}]
[{"$f":"IF(語言配置表!A1430=\"\",\"\",語言配置表!A1430)","v":1427},{"$f":"IF(語言配置表!A1430=\"\",\"CN_待填充内容\",語言配置表!B1430)","v":"竹刺"}]
[{"$f":"IF(語言配置表!A1431=\"\",\"\",語言配置表!A1431)","v":1428},{"$f":"IF(語言配置表!A1431=\"\",\"CN_待填充内容\",語言配置表!B1431)","v":"飞叶"}]
[{"$f":"IF(語言配置表!A1432=\"\",\"\",語言配置表!A1432)","v":1429},{"$f":"IF(語言配置表!A1432=\"\",\"CN_待填充内容\",語言配置表!B1432)","v":"烈焰剑"}]
[{"$f":"IF(語言配置表!A1433=\"\",\"\",語言配置表!A1433)","v":1430},{"$f":"IF(語言配置表!A1433=\"\",\"CN_待填充内容\",語言配置表!B1433)","v":"赤焰龙吟功"}]
[{"$f":"IF(語言配置表!A1434=\"\",\"\",語言配置表!A1434)","v":1431},{"$f":"IF(語言配置表!A1434=\"\",\"CN_待填充内容\",語言配置表!B1434)","v":"朱雀燎原指"}]
[{"$f":"IF(語言配置表!A1435=\"\",\"\",語言配置表!A1435)","v":1432},{"$f":"IF(語言配置表!A1435=\"\",\"CN_待填充内容\",語言配置表!B1435)","v":"火球"}]
[{"$f":"IF(語言配置表!A1436=\"\",\"\",語言配置表!A1436)","v":1433},{"$f":"IF(語言配置表!A1436=\"\",\"CN_待填充内容\",語言配置表!B1436)","v":"火刀"}]
[{"$f":"IF(語言配置表!A1437=\"\",\"\",語言配置表!A1437)","v":1434},{"$f":"IF(語言配置表!A1437=\"\",\"CN_待填充内容\",語言配置表!B1437)","v":"黄尘灭魂刺"}]
[{"$f":"IF(語言配置表!A1438=\"\",\"\",語言配置表!A1438)","v":1435},{"$f":"IF(語言配置表!A1438=\"\",\"CN_待填充内容\",語言配置表!B1438)","v":"地裂屠龙斩"}]
[{"$f":"IF(語言配置表!A1439=\"\",\"\",語言配置表!A1439)","v":1436},{"$f":"IF(語言配置表!A1439=\"\",\"CN_待填充内容\",語言配置表!B1439)","v":"功法-土3"}]
[{"$f":"IF(語言配置表!A1440=\"\",\"\",語言配置表!A1440)","v":1437},{"$f":"IF(語言配置表!A1440=\"\",\"CN_待填充内容\",語言配置表!B1440)","v":"落石"}]
[{"$f":"IF(語言配置表!A1441=\"\",\"\",語言配置表!A1441)","v":1438},{"$f":"IF(語言配置表!A1441=\"\",\"CN_待填充内容\",語言配置表!B1441)","v":"小石头"}]
[{"$f":"IF(語言配置表!A1442=\"\",\"\",語言配置表!A1442)","v":1439},{"$f":"IF(語言配置表!A1442=\"\",\"CN_待填充内容\",語言配置表!B1442)","v":"道具-功法名称-占位"}]
[{"$f":"IF(語言配置表!A1443=\"\",\"\",語言配置表!A1443)","v":1440},{"$f":"IF(語言配置表!A1443=\"\",\"CN_待填充内容\",語言配置表!B1443)","v":"道具-功法名称-占位"}]
[{"$f":"IF(語言配置表!A1444=\"\",\"\",語言配置表!A1444)","v":1441},{"$f":"IF(語言配置表!A1444=\"\",\"CN_待填充内容\",語言配置表!B1444)","v":"道具-功法名称-占位"}]
[{"$f":"IF(語言配置表!A1445=\"\",\"\",語言配置表!A1445)","v":1442},{"$f":"IF(語言配置表!A1445=\"\",\"CN_待填充内容\",語言配置表!B1445)","v":"道具-功法名称-占位"}]
[{"$f":"IF(語言配置表!A1446=\"\",\"\",語言配置表!A1446)","v":1443},{"$f":"IF(語言配置表!A1446=\"\",\"CN_待填充内容\",語言配置表!B1446)","v":"道具-功法名称-占位"}]
[{"$f":"IF(語言配置表!A1447=\"\",\"\",語言配置表!A1447)","v":1444},{"$f":"IF(語言配置表!A1447=\"\",\"CN_待填充内容\",語言配置表!B1447)","v":"道具-功法名称-占位"}]
[{"$f":"IF(語言配置表!A1448=\"\",\"\",語言配置表!A1448)","v":1445},{"$f":"IF(語言配置表!A1448=\"\",\"CN_待填充内容\",語言配置表!B1448)","v":"道具-功法名称-占位"}]
[{"$f":"IF(語言配置表!A1449=\"\",\"\",語言配置表!A1449)","v":1446},{"$f":"IF(語言配置表!A1449=\"\",\"CN_待填充内容\",語言配置表!B1449)","v":"道具-功法名称-占位"}]
[{"$f":"IF(語言配置表!A1450=\"\",\"\",語言配置表!A1450)","v":1447},{"$f":"IF(語言配置表!A1450=\"\",\"CN_待填充内容\",語言配置表!B1450)","v":"道具-功法名称-占位"}]
[{"$f":"IF(語言配置表!A1451=\"\",\"\",語言配置表!A1451)","v":1448},{"$f":"IF(語言配置表!A1451=\"\",\"CN_待填充内容\",語言配置表!B1451)","v":"道具-功法名称-占位"}]
[{"$f":"IF(語言配置表!A1452=\"\",\"\",語言配置表!A1452)","v":1449},{"$f":"IF(語言配置表!A1452=\"\",\"CN_待填充内容\",語言配置表!B1452)","v":"道具-功法名称-占位"}]
[{"$f":"IF(語言配置表!A1453=\"\",\"\",語言配置表!A1453)","v":1450},{"$f":"IF(語言配置表!A1453=\"\",\"CN_待填充内容\",語言配置表!B1453)","v":"道具-功法名称-占位"}]
[{"$f":"IF(語言配置表!A1454=\"\",\"\",語言配置表!A1454)","v":1451},{"$f":"IF(語言配置表!A1454=\"\",\"CN_待填充内容\",語言配置表!B1454)","v":"道具-功法名称-占位"}]
[{"$f":"IF(語言配置表!A1455=\"\",\"\",語言配置表!A1455)","v":1452},{"$f":"IF(語言配置表!A1455=\"\",\"CN_待填充内容\",語言配置表!B1455)","v":"道具-功法名称-占位"}]
[{"$f":"IF(語言配置表!A1456=\"\",\"\",語言配置表!A1456)","v":1453},{"$f":"IF(語言配置表!A1456=\"\",\"CN_待填充内容\",語言配置表!B1456)","v":"道具-功法名称-占位"}]
[{"$f":"IF(語言配置表!A1457=\"\",\"\",語言配置表!A1457)","v":1454},{"$f":"IF(語言配置表!A1457=\"\",\"CN_待填充内容\",語言配置表!B1457)","v":"道具-功法名称-占位"}]
[{"$f":"IF(語言配置表!A1458=\"\",\"\",語言配置表!A1458)","v":1455},{"$f":"IF(語言配置表!A1458=\"\",\"CN_待填充内容\",語言配置表!B1458)","v":"道具-功法名称-占位"}]
[{"$f":"IF(語言配置表!A1459=\"\",\"\",語言配置表!A1459)","v":1456},{"$f":"IF(語言配置表!A1459=\"\",\"CN_待填充内容\",語言配置表!B1459)","v":"道具-功法名称-占位"}]
[{"$f":"IF(語言配置表!A1460=\"\",\"\",語言配置表!A1460)","v":1457},{"$f":"IF(語言配置表!A1460=\"\",\"CN_待填充内容\",語言配置表!B1460)","v":"道具-功法名称-占位"}]
[{"$f":"IF(語言配置表!A1461=\"\",\"\",語言配置表!A1461)","v":1458},{"$f":"IF(語言配置表!A1461=\"\",\"CN_待填充内容\",語言配置表!B1461)","v":"道具-功法名称-占位"}]
[{"$f":"IF(語言配置表!A1462=\"\",\"\",語言配置表!A1462)","v":1459},{"$f":"IF(語言配置表!A1462=\"\",\"CN_待填充内容\",語言配置表!B1462)","v":"道具-功法名称-占位"}]
[{"$f":"IF(語言配置表!A1463=\"\",\"\",語言配置表!A1463)","v":1460},{"$f":"IF(語言配置表!A1463=\"\",\"CN_待填充内容\",語言配置表!B1463)","v":"道具-功法名称-占位"}]
[{"$f":"IF(語言配置表!A1464=\"\",\"\",語言配置表!A1464)","v":1461},{"$f":"IF(語言配置表!A1464=\"\",\"CN_待填充内容\",語言配置表!B1464)","v":"道具-功法名称-占位"}]
[{"$f":"IF(語言配置表!A1465=\"\",\"\",語言配置表!A1465)","v":1462},{"$f":"IF(語言配置表!A1465=\"\",\"CN_待填充内容\",語言配置表!B1465)","v":"道具-功法名称-占位"}]
[{"$f":"IF(語言配置表!A1466=\"\",\"\",語言配置表!A1466)","v":1463},{"$f":"IF(語言配置表!A1466=\"\",\"CN_待填充内容\",語言配置表!B1466)","v":"道具-功法名称-占位"}]
[{"$f":"IF(語言配置表!A1467=\"\",\"\",語言配置表!A1467)","v":1464},{"$f":"IF(語言配置表!A1467=\"\",\"CN_待填充内容\",語言配置表!B1467)","v":"道具-功法名称-占位"}]
[{"$f":"IF(語言配置表!A1468=\"\",\"\",語言配置表!A1468)","v":1465},{"$f":"IF(語言配置表!A1468=\"\",\"CN_待填充内容\",語言配置表!B1468)","v":"道具-功法名称-占位"}]
[{"$f":"IF(語言配置表!A1469=\"\",\"\",語言配置表!A1469)","v":1466},{"$f":"IF(語言配置表!A1469=\"\",\"CN_待填充内容\",語言配置表!B1469)","v":"道具-功法名称-占位"}]
[{"$f":"IF(語言配置表!A1470=\"\",\"\",語言配置表!A1470)","v":1467},{"$f":"IF(語言配置表!A1470=\"\",\"CN_待填充内容\",語言配置表!B1470)","v":"道具-功法名称-占位"}]
[{"$f":"IF(語言配置表!A1471=\"\",\"\",語言配置表!A1471)","v":1468},{"$f":"IF(語言配置表!A1471=\"\",\"CN_待填充内容\",語言配置表!B1471)","v":"道具-功法名称-占位"}]
[{"$f":"IF(語言配置表!A1472=\"\",\"\",語言配置表!A1472)","v":1469},{"$f":"IF(語言配置表!A1472=\"\",\"CN_待填充内容\",語言配置表!B1472)","v":"道具-功法名称-占位"}]
[{"$f":"IF(語言配置表!A1473=\"\",\"\",語言配置表!A1473)","v":1470},{"$f":"IF(語言配置表!A1473=\"\",\"CN_待填充内容\",語言配置表!B1473)","v":"道具-功法名称-占位"}]
[{"$f":"IF(語言配置表!A1474=\"\",\"\",語言配置表!A1474)","v":1471},{"$f":"IF(語言配置表!A1474=\"\",\"CN_待填充内容\",語言配置表!B1474)","v":"道具-功法名称-占位"}]
[{"$f":"IF(語言配置表!A1475=\"\",\"\",語言配置表!A1475)","v":1472},{"$f":"IF(語言配置表!A1475=\"\",\"CN_待填充内容\",語言配置表!B1475)","v":"道具-功法名称-占位"}]
[{"$f":"IF(語言配置表!A1476=\"\",\"\",語言配置表!A1476)","v":1473},{"$f":"IF(語言配置表!A1476=\"\",\"CN_待填充内容\",語言配置表!B1476)","v":"道具-功法名称-占位"}]
[{"$f":"IF(語言配置表!A1477=\"\",\"\",語言配置表!A1477)","v":1474},{"$f":"IF(語言配置表!A1477=\"\",\"CN_待填充内容\",語言配置表!B1477)","v":"道具-功法名称-占位"}]
[{"$f":"IF(語言配置表!A1478=\"\",\"\",語言配置表!A1478)","v":1475},{"$f":"IF(語言配置表!A1478=\"\",\"CN_待填充内容\",語言配置表!B1478)","v":"道具-功法名称-占位"}]
[{"$f":"IF(語言配置表!A1479=\"\",\"\",語言配置表!A1479)","v":1476},{"$f":"IF(語言配置表!A1479=\"\",\"CN_待填充内容\",語言配置表!B1479)","v":"道具-功法名称-占位"}]
[{"$f":"IF(語言配置表!A1480=\"\",\"\",語言配置表!A1480)","v":1477},{"$f":"IF(語言配置表!A1480=\"\",\"CN_待填充内容\",語言配置表!B1480)","v":"道具-功法名称-占位"}]
[{"$f":"IF(語言配置表!A1481=\"\",\"\",語言配置表!A1481)","v":1478},{"$f":"IF(語言配置表!A1481=\"\",\"CN_待填充内容\",語言配置表!B1481)","v":"道具-功法名称-占位"}]
[{"$f":"IF(語言配置表!A1482=\"\",\"\",語言配置表!A1482)","v":1479},{"$f":"IF(語言配置表!A1482=\"\",\"CN_待填充内容\",語言配置表!B1482)","v":"道具-功法名称-占位"}]
[{"$f":"IF(語言配置表!A1483=\"\",\"\",語言配置表!A1483)","v":1480},{"$f":"IF(語言配置表!A1483=\"\",\"CN_待填充内容\",語言配置表!B1483)","v":"道具-功法名称-占位"}]
[{"$f":"IF(語言配置表!A1484=\"\",\"\",語言配置表!A1484)","v":1481},{"$f":"IF(語言配置表!A1484=\"\",\"CN_待填充内容\",語言配置表!B1484)","v":"道具-功法名称-占位"}]
[{"$f":"IF(語言配置表!A1485=\"\",\"\",語言配置表!A1485)","v":1482},{"$f":"IF(語言配置表!A1485=\"\",\"CN_待填充内容\",語言配置表!B1485)","v":"道具-功法名称-占位"}]
[{"$f":"IF(語言配置表!A1486=\"\",\"\",語言配置表!A1486)","v":1483},{"$f":"IF(語言配置表!A1486=\"\",\"CN_待填充内容\",語言配置表!B1486)","v":"道具-功法名称-占位"}]
[{"$f":"IF(語言配置表!A1487=\"\",\"\",語言配置表!A1487)","v":1484},{"$f":"IF(語言配置表!A1487=\"\",\"CN_待填充内容\",語言配置表!B1487)","v":"道具-功法名称-占位"}]
[{"$f":"IF(語言配置表!A1488=\"\",\"\",語言配置表!A1488)","v":1485},{"$f":"IF(語言配置表!A1488=\"\",\"CN_待填充内容\",語言配置表!B1488)","v":"道具-功法名称-占位"}]
[{"$f":"IF(語言配置表!A1489=\"\",\"\",語言配置表!A1489)","v":1486},{"$f":"IF(語言配置表!A1489=\"\",\"CN_待填充内容\",語言配置表!B1489)","v":"道具-功法名称-占位"}]
[{"$f":"IF(語言配置表!A1490=\"\",\"\",語言配置表!A1490)","v":1487},{"$f":"IF(語言配置表!A1490=\"\",\"CN_待填充内容\",語言配置表!B1490)","v":"道具-功法名称-占位"}]
[{"$f":"IF(語言配置表!A1491=\"\",\"\",語言配置表!A1491)","v":1488},{"$f":"IF(語言配置表!A1491=\"\",\"CN_待填充内容\",語言配置表!B1491)","v":"道具-功法名称-占位"}]
[{"$f":"IF(語言配置表!A1492=\"\",\"\",語言配置表!A1492)","v":1489},{"$f":"IF(語言配置表!A1492=\"\",\"CN_待填充内容\",語言配置表!B1492)","v":"道具-功法名称-占位"}]
[{"$f":"IF(語言配置表!A1493=\"\",\"\",語言配置表!A1493)","v":1490},{"$f":"IF(語言配置表!A1493=\"\",\"CN_待填充内容\",語言配置表!B1493)","v":"道具-功法名称-占位"}]
[{"$f":"IF(語言配置表!A1494=\"\",\"\",語言配置表!A1494)","v":1491},{"$f":"IF(語言配置表!A1494=\"\",\"CN_待填充内容\",語言配置表!B1494)","v":"道具-功法名称-占位"}]
[{"$f":"IF(語言配置表!A1495=\"\",\"\",語言配置表!A1495)","v":1492},{"$f":"IF(語言配置表!A1495=\"\",\"CN_待填充内容\",語言配置表!B1495)","v":"道具-功法名称-占位"}]
[{"$f":"IF(語言配置表!A1496=\"\",\"\",語言配置表!A1496)","v":1493},{"$f":"IF(語言配置表!A1496=\"\",\"CN_待填充内容\",語言配置表!B1496)","v":"道具-功法名称-占位"}]
[{"$f":"IF(語言配置表!A1497=\"\",\"\",語言配置表!A1497)","v":1494},{"$f":"IF(語言配置表!A1497=\"\",\"CN_待填充内容\",語言配置表!B1497)","v":"道具-功法名称-占位"}]
[{"$f":"IF(語言配置表!A1498=\"\",\"\",語言配置表!A1498)","v":1495},{"$f":"IF(語言配置表!A1498=\"\",\"CN_待填充内容\",語言配置表!B1498)","v":"道具-功法名称-占位"}]
[{"$f":"IF(語言配置表!A1499=\"\",\"\",語言配置表!A1499)","v":1496},{"$f":"IF(語言配置表!A1499=\"\",\"CN_待填充内容\",語言配置表!B1499)","v":"道具-功法名称-占位"}]
[{"$f":"IF(語言配置表!A1500=\"\",\"\",語言配置表!A1500)","v":1497},{"$f":"IF(語言配置表!A1500=\"\",\"CN_待填充内容\",語言配置表!B1500)","v":"道具-功法名称-占位"}]
[{"$f":"IF(語言配置表!A1501=\"\",\"\",語言配置表!A1501)","v":1498},{"$f":"IF(語言配置表!A1501=\"\",\"CN_待填充内容\",語言配置表!B1501)","v":"道具-功法名称-占位"}]
[{"$f":"IF(語言配置表!A1502=\"\",\"\",語言配置表!A1502)","v":1499},{"$f":"IF(語言配置表!A1502=\"\",\"CN_待填充内容\",語言配置表!B1502)","v":"道具-功法名称-占位"}]
[{"$f":"IF(語言配置表!A1503=\"\",\"\",語言配置表!A1503)","v":1500},{"$f":"IF(語言配置表!A1503=\"\",\"CN_待填充内容\",語言配置表!B1503)","v":"太虚幻剑经---功法道具描述占位"}]
[{"$f":"IF(語言配置表!A1504=\"\",\"\",語言配置表!A1504)","v":1501},{"$f":"IF(語言配置表!A1504=\"\",\"CN_待填充内容\",語言配置表!B1504)","v":"天罡剑气诀---功法道具描述占位"}]
[{"$f":"IF(語言配置表!A1505=\"\",\"\",語言配置表!A1505)","v":1502},{"$f":"IF(語言配置表!A1505=\"\",\"CN_待填充内容\",語言配置表!B1505)","v":"血刃金煌功---功法道具描述占位"}]
[{"$f":"IF(語言配置表!A1506=\"\",\"\",語言配置表!A1506)","v":1503},{"$f":"IF(語言配置表!A1506=\"\",\"CN_待填充内容\",語言配置表!B1506)","v":"飞刃---功法道具描述占位"}]
[{"$f":"IF(語言配置表!A1507=\"\",\"\",語言配置表!A1507)","v":1504},{"$f":"IF(語言配置表!A1507=\"\",\"CN_待填充内容\",語言配置表!B1507)","v":"金针---功法道具描述占位"}]
[{"$f":"IF(語言配置表!A1508=\"\",\"\",語言配置表!A1508)","v":1505},{"$f":"IF(語言配置表!A1508=\"\",\"CN_待填充内容\",語言配置表!B1508)","v":"碧落幽冥劲---功法道具描述占位"}]
[{"$f":"IF(語言配置表!A1509=\"\",\"\",語言配置表!A1509)","v":1506},{"$f":"IF(語言配置表!A1509=\"\",\"CN_待填充内容\",語言配置表!B1509)","v":"雾隐千流法---功法道具描述占位"}]
[{"$f":"IF(語言配置表!A1510=\"\",\"\",語言配置表!A1510)","v":1507},{"$f":"IF(語言配置表!A1510=\"\",\"CN_待填充内容\",語言配置表!B1510)","v":"功法-水3---功法道具描述占位"}]
[{"$f":"IF(語言配置表!A1511=\"\",\"\",語言配置表!A1511)","v":1508},{"$f":"IF(語言配置表!A1511=\"\",\"CN_待填充内容\",語言配置表!B1511)","v":"水球---功法道具描述占位"}]
[{"$f":"IF(語言配置表!A1512=\"\",\"\",語言配置表!A1512)","v":1509},{"$f":"IF(語言配置表!A1512=\"\",\"CN_待填充内容\",語言配置表!B1512)","v":"冰刀---功法道具描述占位"}]
[{"$f":"IF(語言配置表!A1513=\"\",\"\",語言配置表!A1513)","v":1510},{"$f":"IF(語言配置表!A1513=\"\",\"CN_待填充内容\",語言配置表!B1513)","v":"瘴影千丝术---功法道具描述占位"}]
[{"$f":"IF(語言配置表!A1514=\"\",\"\",語言配置表!A1514)","v":1511},{"$f":"IF(語言配置表!A1514=\"\",\"CN_待填充内容\",語言配置表!B1514)","v":"蚀骨腐血掌---功法道具描述占位"}]
[{"$f":"IF(語言配置表!A1515=\"\",\"\",語言配置表!A1515)","v":1512},{"$f":"IF(語言配置表!A1515=\"\",\"CN_待填充内容\",語言配置表!B1515)","v":"功法-木3---功法道具描述占位"}]
[{"$f":"IF(語言配置表!A1516=\"\",\"\",語言配置表!A1516)","v":1513},{"$f":"IF(語言配置表!A1516=\"\",\"CN_待填充内容\",語言配置表!B1516)","v":"竹刺---功法道具描述占位"}]
[{"$f":"IF(語言配置表!A1517=\"\",\"\",語言配置表!A1517)","v":1514},{"$f":"IF(語言配置表!A1517=\"\",\"CN_待填充内容\",語言配置表!B1517)","v":"飞叶---功法道具描述占位"}]
[{"$f":"IF(語言配置表!A1518=\"\",\"\",語言配置表!A1518)","v":1515},{"$f":"IF(語言配置表!A1518=\"\",\"CN_待填充内容\",語言配置表!B1518)","v":"烈焰剑---功法道具描述占位"}]
[{"$f":"IF(語言配置表!A1519=\"\",\"\",語言配置表!A1519)","v":1516},{"$f":"IF(語言配置表!A1519=\"\",\"CN_待填充内容\",語言配置表!B1519)","v":"赤焰龙吟功---功法道具描述占位"}]
[{"$f":"IF(語言配置表!A1520=\"\",\"\",語言配置表!A1520)","v":1517},{"$f":"IF(語言配置表!A1520=\"\",\"CN_待填充内容\",語言配置表!B1520)","v":"朱雀燎原指---功法道具描述占位"}]
[{"$f":"IF(語言配置表!A1521=\"\",\"\",語言配置表!A1521)","v":1518},{"$f":"IF(語言配置表!A1521=\"\",\"CN_待填充内容\",語言配置表!B1521)","v":"火球---功法道具描述占位"}]
[{"$f":"IF(語言配置表!A1522=\"\",\"\",語言配置表!A1522)","v":1519},{"$f":"IF(語言配置表!A1522=\"\",\"CN_待填充内容\",語言配置表!B1522)","v":"火刀---功法道具描述占位"}]
[{"$f":"IF(語言配置表!A1523=\"\",\"\",語言配置表!A1523)","v":1520},{"$f":"IF(語言配置表!A1523=\"\",\"CN_待填充内容\",語言配置表!B1523)","v":"黄尘灭魂刺---功法道具描述占位"}]
[{"$f":"IF(語言配置表!A1524=\"\",\"\",語言配置表!A1524)","v":1521},{"$f":"IF(語言配置表!A1524=\"\",\"CN_待填充内容\",語言配置表!B1524)","v":"地裂屠龙斩---功法道具描述占位"}]
[{"$f":"IF(語言配置表!A1525=\"\",\"\",語言配置表!A1525)","v":1522},{"$f":"IF(語言配置表!A1525=\"\",\"CN_待填充内容\",語言配置表!B1525)","v":"功法-土3---功法道具描述占位"}]
[{"$f":"IF(語言配置表!A1526=\"\",\"\",語言配置表!A1526)","v":1523},{"$f":"IF(語言配置表!A1526=\"\",\"CN_待填充内容\",語言配置表!B1526)","v":"落石---功法道具描述占位"}]
[{"$f":"IF(語言配置表!A1527=\"\",\"\",語言配置表!A1527)","v":1524},{"$f":"IF(語言配置表!A1527=\"\",\"CN_待填充内容\",語言配置表!B1527)","v":"小石头---功法道具描述占位"}]
[{"$f":"IF(語言配置表!A1528=\"\",\"\",語言配置表!A1528)","v":1525},{"$f":"IF(語言配置表!A1528=\"\",\"CN_待填充内容\",語言配置表!B1528)","v":"---功法道具描述占位"}]
[{"$f":"IF(語言配置表!A1529=\"\",\"\",語言配置表!A1529)","v":1526},{"$f":"IF(語言配置表!A1529=\"\",\"CN_待填充内容\",語言配置表!B1529)","v":"---功法道具描述占位"}]
[{"$f":"IF(語言配置表!A1530=\"\",\"\",語言配置表!A1530)","v":1527},{"$f":"IF(語言配置表!A1530=\"\",\"CN_待填充内容\",語言配置表!B1530)","v":"---功法道具描述占位"}]
[{"$f":"IF(語言配置表!A1531=\"\",\"\",語言配置表!A1531)","v":1528},{"$f":"IF(語言配置表!A1531=\"\",\"CN_待填充内容\",語言配置表!B1531)","v":"---功法道具描述占位"}]
[{"$f":"IF(語言配置表!A1532=\"\",\"\",語言配置表!A1532)","v":1529},{"$f":"IF(語言配置表!A1532=\"\",\"CN_待填充内容\",語言配置表!B1532)","v":"---功法道具描述占位"}]
[{"$f":"IF(語言配置表!A1533=\"\",\"\",語言配置表!A1533)","v":1530},{"$f":"IF(語言配置表!A1533=\"\",\"CN_待填充内容\",語言配置表!B1533)","v":"---功法道具描述占位"}]
[{"$f":"IF(語言配置表!A1534=\"\",\"\",語言配置表!A1534)","v":1531},{"$f":"IF(語言配置表!A1534=\"\",\"CN_待填充内容\",語言配置表!B1534)","v":"---功法道具描述占位"}]
[{"$f":"IF(語言配置表!A1535=\"\",\"\",語言配置表!A1535)","v":1532},{"$f":"IF(語言配置表!A1535=\"\",\"CN_待填充内容\",語言配置表!B1535)","v":"---功法道具描述占位"}]
[{"$f":"IF(語言配置表!A1536=\"\",\"\",語言配置表!A1536)","v":1533},{"$f":"IF(語言配置表!A1536=\"\",\"CN_待填充内容\",語言配置表!B1536)","v":"---功法道具描述占位"}]
[{"$f":"IF(語言配置表!A1537=\"\",\"\",語言配置表!A1537)","v":1534},{"$f":"IF(語言配置表!A1537=\"\",\"CN_待填充内容\",語言配置表!B1537)","v":"---功法道具描述占位"}]
[{"$f":"IF(語言配置表!A1538=\"\",\"\",語言配置表!A1538)","v":1535},{"$f":"IF(語言配置表!A1538=\"\",\"CN_待填充内容\",語言配置表!B1538)","v":"---功法道具描述占位"}]
[{"$f":"IF(語言配置表!A1539=\"\",\"\",語言配置表!A1539)","v":1536},{"$f":"IF(語言配置表!A1539=\"\",\"CN_待填充内容\",語言配置表!B1539)","v":"---功法道具描述占位"}]
[{"$f":"IF(語言配置表!A1540=\"\",\"\",語言配置表!A1540)","v":1537},{"$f":"IF(語言配置表!A1540=\"\",\"CN_待填充内容\",語言配置表!B1540)","v":"---功法道具描述占位"}]
[{"$f":"IF(語言配置表!A1541=\"\",\"\",語言配置表!A1541)","v":1538},{"$f":"IF(語言配置表!A1541=\"\",\"CN_待填充内容\",語言配置表!B1541)","v":"---功法道具描述占位"}]
[{"$f":"IF(語言配置表!A1542=\"\",\"\",語言配置表!A1542)","v":1539},{"$f":"IF(語言配置表!A1542=\"\",\"CN_待填充内容\",語言配置表!B1542)","v":"---功法道具描述占位"}]
[{"$f":"IF(語言配置表!A1543=\"\",\"\",語言配置表!A1543)","v":1540},{"$f":"IF(語言配置表!A1543=\"\",\"CN_待填充内容\",語言配置表!B1543)","v":"---功法道具描述占位"}]
[{"$f":"IF(語言配置表!A1544=\"\",\"\",語言配置表!A1544)","v":1541},{"$f":"IF(語言配置表!A1544=\"\",\"CN_待填充内容\",語言配置表!B1544)","v":"---功法道具描述占位"}]
[{"$f":"IF(語言配置表!A1545=\"\",\"\",語言配置表!A1545)","v":1542},{"$f":"IF(語言配置表!A1545=\"\",\"CN_待填充内容\",語言配置表!B1545)","v":"---功法道具描述占位"}]
[{"$f":"IF(語言配置表!A1546=\"\",\"\",語言配置表!A1546)","v":1543},{"$f":"IF(語言配置表!A1546=\"\",\"CN_待填充内容\",語言配置表!B1546)","v":"---功法道具描述占位"}]
[{"$f":"IF(語言配置表!A1547=\"\",\"\",語言配置表!A1547)","v":1544},{"$f":"IF(語言配置表!A1547=\"\",\"CN_待填充内容\",語言配置表!B1547)","v":"---功法道具描述占位"}]
[{"$f":"IF(語言配置表!A1548=\"\",\"\",語言配置表!A1548)","v":1545},{"$f":"IF(語言配置表!A1548=\"\",\"CN_待填充内容\",語言配置表!B1548)","v":"---功法道具描述占位"}]
[{"$f":"IF(語言配置表!A1549=\"\",\"\",語言配置表!A1549)","v":1546},{"$f":"IF(語言配置表!A1549=\"\",\"CN_待填充内容\",語言配置表!B1549)","v":"---功法道具描述占位"}]
[{"$f":"IF(語言配置表!A1550=\"\",\"\",語言配置表!A1550)","v":1547},{"$f":"IF(語言配置表!A1550=\"\",\"CN_待填充内容\",語言配置表!B1550)","v":"---功法道具描述占位"}]
[{"$f":"IF(語言配置表!A1551=\"\",\"\",語言配置表!A1551)","v":1548},{"$f":"IF(語言配置表!A1551=\"\",\"CN_待填充内容\",語言配置表!B1551)","v":"---功法道具描述占位"}]
[{"$f":"IF(語言配置表!A1552=\"\",\"\",語言配置表!A1552)","v":1549},{"$f":"IF(語言配置表!A1552=\"\",\"CN_待填充内容\",語言配置表!B1552)","v":"---功法道具描述占位"}]
[{"$f":"IF(語言配置表!A1553=\"\",\"\",語言配置表!A1553)","v":1550},{"$f":"IF(語言配置表!A1553=\"\",\"CN_待填充内容\",語言配置表!B1553)","v":"---功法道具描述占位"}]
[{"$f":"IF(語言配置表!A1554=\"\",\"\",語言配置表!A1554)","v":1551},{"$f":"IF(語言配置表!A1554=\"\",\"CN_待填充内容\",語言配置表!B1554)","v":"---功法道具描述占位"}]
[{"$f":"IF(語言配置表!A1555=\"\",\"\",語言配置表!A1555)","v":1552},{"$f":"IF(語言配置表!A1555=\"\",\"CN_待填充内容\",語言配置表!B1555)","v":"---功法道具描述占位"}]
[{"$f":"IF(語言配置表!A1556=\"\",\"\",語言配置表!A1556)","v":1553},{"$f":"IF(語言配置表!A1556=\"\",\"CN_待填充内容\",語言配置表!B1556)","v":"---功法道具描述占位"}]
[{"$f":"IF(語言配置表!A1557=\"\",\"\",語言配置表!A1557)","v":1554},{"$f":"IF(語言配置表!A1557=\"\",\"CN_待填充内容\",語言配置表!B1557)","v":"---功法道具描述占位"}]
[{"$f":"IF(語言配置表!A1558=\"\",\"\",語言配置表!A1558)","v":1555},{"$f":"IF(語言配置表!A1558=\"\",\"CN_待填充内容\",語言配置表!B1558)","v":"---功法道具描述占位"}]
[{"$f":"IF(語言配置表!A1559=\"\",\"\",語言配置表!A1559)","v":1556},{"$f":"IF(語言配置表!A1559=\"\",\"CN_待填充内容\",語言配置表!B1559)","v":"---功法道具描述占位"}]
[{"$f":"IF(語言配置表!A1560=\"\",\"\",語言配置表!A1560)","v":1557},{"$f":"IF(語言配置表!A1560=\"\",\"CN_待填充内容\",語言配置表!B1560)","v":"---功法道具描述占位"}]
[{"$f":"IF(語言配置表!A1561=\"\",\"\",語言配置表!A1561)","v":1558},{"$f":"IF(語言配置表!A1561=\"\",\"CN_待填充内容\",語言配置表!B1561)","v":"---功法道具描述占位"}]
[{"$f":"IF(語言配置表!A1562=\"\",\"\",語言配置表!A1562)","v":1559},{"$f":"IF(語言配置表!A1562=\"\",\"CN_待填充内容\",語言配置表!B1562)","v":"---功法道具描述占位"}]
[{"$f":"IF(語言配置表!A1563=\"\",\"\",語言配置表!A1563)","v":1560},{"$f":"IF(語言配置表!A1563=\"\",\"CN_待填充内容\",語言配置表!B1563)","v":"---功法道具描述占位"}]
[{"$f":"IF(語言配置表!A1564=\"\",\"\",語言配置表!A1564)","v":1561},{"$f":"IF(語言配置表!A1564=\"\",\"CN_待填充内容\",語言配置表!B1564)","v":"---功法道具描述占位"}]
[{"$f":"IF(語言配置表!A1565=\"\",\"\",語言配置表!A1565)","v":1562},{"$f":"IF(語言配置表!A1565=\"\",\"CN_待填充内容\",語言配置表!B1565)","v":"---功法道具描述占位"}]
[{"$f":"IF(語言配置表!A1566=\"\",\"\",語言配置表!A1566)","v":1563},{"$f":"IF(語言配置表!A1566=\"\",\"CN_待填充内容\",語言配置表!B1566)","v":"---功法道具描述占位"}]
[{"$f":"IF(語言配置表!A1567=\"\",\"\",語言配置表!A1567)","v":1564},{"$f":"IF(語言配置表!A1567=\"\",\"CN_待填充内容\",語言配置表!B1567)","v":"---功法道具描述占位"}]
[{"$f":"IF(語言配置表!A1568=\"\",\"\",語言配置表!A1568)","v":1565},{"$f":"IF(語言配置表!A1568=\"\",\"CN_待填充内容\",語言配置表!B1568)","v":"---功法道具描述占位"}]
[{"$f":"IF(語言配置表!A1569=\"\",\"\",語言配置表!A1569)","v":1566},{"$f":"IF(語言配置表!A1569=\"\",\"CN_待填充内容\",語言配置表!B1569)","v":"---功法道具描述占位"}]
[{"$f":"IF(語言配置表!A1570=\"\",\"\",語言配置表!A1570)","v":1567},{"$f":"IF(語言配置表!A1570=\"\",\"CN_待填充内容\",語言配置表!B1570)","v":"---功法道具描述占位"}]
[{"$f":"IF(語言配置表!A1571=\"\",\"\",語言配置表!A1571)","v":1568},{"$f":"IF(語言配置表!A1571=\"\",\"CN_待填充内容\",語言配置表!B1571)","v":"---功法道具描述占位"}]
[{"$f":"IF(語言配置表!A1572=\"\",\"\",語言配置表!A1572)","v":1569},{"$f":"IF(語言配置表!A1572=\"\",\"CN_待填充内容\",語言配置表!B1572)","v":"---功法道具描述占位"}]
[{"$f":"IF(語言配置表!A1573=\"\",\"\",語言配置表!A1573)","v":1570},{"$f":"IF(語言配置表!A1573=\"\",\"CN_待填充内容\",語言配置表!B1573)","v":"---功法道具描述占位"}]
[{"$f":"IF(語言配置表!A1574=\"\",\"\",語言配置表!A1574)","v":1571},{"$f":"IF(語言配置表!A1574=\"\",\"CN_待填充内容\",語言配置表!B1574)","v":"---功法道具描述占位"}]
[{"$f":"IF(語言配置表!A1575=\"\",\"\",語言配置表!A1575)","v":1572},{"$f":"IF(語言配置表!A1575=\"\",\"CN_待填充内容\",語言配置表!B1575)","v":"---功法道具描述占位"}]
[{"$f":"IF(語言配置表!A1576=\"\",\"\",語言配置表!A1576)","v":1573},{"$f":"IF(語言配置表!A1576=\"\",\"CN_待填充内容\",語言配置表!B1576)","v":"---功法道具描述占位"}]
[{"$f":"IF(語言配置表!A1577=\"\",\"\",語言配置表!A1577)","v":1574},{"$f":"IF(語言配置表!A1577=\"\",\"CN_待填充内容\",語言配置表!B1577)","v":"---功法道具描述占位"}]
[{"$f":"IF(語言配置表!A1578=\"\",\"\",語言配置表!A1578)","v":1575},{"$f":"IF(語言配置表!A1578=\"\",\"CN_待填充内容\",語言配置表!B1578)","v":"---功法道具描述占位"}]
[{"$f":"IF(語言配置表!A1579=\"\",\"\",語言配置表!A1579)","v":1576},{"$f":"IF(語言配置表!A1579=\"\",\"CN_待填充内容\",語言配置表!B1579)","v":"---功法道具描述占位"}]
[{"$f":"IF(語言配置表!A1580=\"\",\"\",語言配置表!A1580)","v":1577},{"$f":"IF(語言配置表!A1580=\"\",\"CN_待填充内容\",語言配置表!B1580)","v":"---功法道具描述占位"}]
[{"$f":"IF(語言配置表!A1581=\"\",\"\",語言配置表!A1581)","v":1578},{"$f":"IF(語言配置表!A1581=\"\",\"CN_待填充内容\",語言配置表!B1581)","v":"---功法道具描述占位"}]
[{"$f":"IF(語言配置表!A1582=\"\",\"\",語言配置表!A1582)","v":1579},{"$f":"IF(語言配置表!A1582=\"\",\"CN_待填充内容\",語言配置表!B1582)","v":"---功法道具描述占位"}]
[{"$f":"IF(語言配置表!A1583=\"\",\"\",語言配置表!A1583)","v":1580},{"$f":"IF(語言配置表!A1583=\"\",\"CN_待填充内容\",語言配置表!B1583)","v":"---功法道具描述占位"}]
[{"$f":"IF(語言配置表!A1584=\"\",\"\",語言配置表!A1584)","v":1581},{"$f":"IF(語言配置表!A1584=\"\",\"CN_待填充内容\",語言配置表!B1584)","v":"---功法道具描述占位"}]
[{"$f":"IF(語言配置表!A1585=\"\",\"\",語言配置表!A1585)","v":1582},{"$f":"IF(語言配置表!A1585=\"\",\"CN_待填充内容\",語言配置表!B1585)","v":"---功法道具描述占位"}]
[{"$f":"IF(語言配置表!A1586=\"\",\"\",語言配置表!A1586)","v":1583},{"$f":"IF(語言配置表!A1586=\"\",\"CN_待填充内容\",語言配置表!B1586)","v":"---功法道具描述占位"}]
[{"$f":"IF(語言配置表!A1587=\"\",\"\",語言配置表!A1587)","v":1584},{"$f":"IF(語言配置表!A1587=\"\",\"CN_待填充内容\",語言配置表!B1587)","v":"---功法道具描述占位"}]
[{"$f":"IF(語言配置表!A1588=\"\",\"\",語言配置表!A1588)","v":1585},{"$f":"IF(語言配置表!A1588=\"\",\"CN_待填充内容\",語言配置表!B1588)","v":"---功法道具描述占位"}]
[{"$f":"IF(語言配置表!A1589=\"\",\"\",語言配置表!A1589)","v":1586},{"$f":"IF(語言配置表!A1589=\"\",\"CN_待填充内容\",語言配置表!B1589)","v":"---功法道具描述占位"}]
[{"$f":"IF(語言配置表!A1590=\"\",\"\",語言配置表!A1590)","v":1587},{"$f":"IF(語言配置表!A1590=\"\",\"CN_待填充内容\",語言配置表!B1590)","v":"---功法道具描述占位"}]
[{"$f":"IF(語言配置表!A1591=\"\",\"\",語言配置表!A1591)","v":1588},{"$f":"IF(語言配置表!A1591=\"\",\"CN_待填充内容\",語言配置表!B1591)","v":"---功法道具描述占位"}]
[{"$f":"IF(語言配置表!A1592=\"\",\"\",語言配置表!A1592)","v":1589},{"$f":"IF(語言配置表!A1592=\"\",\"CN_待填充内容\",語言配置表!B1592)","v":"---功法道具描述占位"}]
[{"$f":"IF(語言配置表!A1593=\"\",\"\",語言配置表!A1593)","v":1590},{"$f":"IF(語言配置表!A1593=\"\",\"CN_待填充内容\",語言配置表!B1593)","v":"---功法道具描述占位"}]
[{"$f":"IF(語言配置表!A1594=\"\",\"\",語言配置表!A1594)","v":1591},{"$f":"IF(語言配置表!A1594=\"\",\"CN_待填充内容\",語言配置表!B1594)","v":"---功法道具描述占位"}]
[{"$f":"IF(語言配置表!A1595=\"\",\"\",語言配置表!A1595)","v":1592},{"$f":"IF(語言配置表!A1595=\"\",\"CN_待填充内容\",語言配置表!B1595)","v":"---功法道具描述占位"}]
[{"$f":"IF(語言配置表!A1596=\"\",\"\",語言配置表!A1596)","v":1593},{"$f":"IF(語言配置表!A1596=\"\",\"CN_待填充内容\",語言配置表!B1596)","v":"---功法道具描述占位"}]
[{"$f":"IF(語言配置表!A1597=\"\",\"\",語言配置表!A1597)","v":1594},{"$f":"IF(語言配置表!A1597=\"\",\"CN_待填充内容\",語言配置表!B1597)","v":"---功法道具描述占位"}]
[{"$f":"IF(語言配置表!A1598=\"\",\"\",語言配置表!A1598)","v":1595},{"$f":"IF(語言配置表!A1598=\"\",\"CN_待填充内容\",語言配置表!B1598)","v":"---功法道具描述占位"}]
[{"$f":"IF(語言配置表!A1599=\"\",\"\",語言配置表!A1599)","v":1596},{"$f":"IF(語言配置表!A1599=\"\",\"CN_待填充内容\",語言配置表!B1599)","v":"---功法道具描述占位"}]
[{"$f":"IF(語言配置表!A1600=\"\",\"\",語言配置表!A1600)","v":1597},{"$f":"IF(語言配置表!A1600=\"\",\"CN_待填充内容\",語言配置表!B1600)","v":"---功法道具描述占位"}]
[{"$f":"IF(語言配置表!A1601=\"\",\"\",語言配置表!A1601)","v":1598},{"$f":"IF(語言配置表!A1601=\"\",\"CN_待填充内容\",語言配置表!B1601)","v":"---功法道具描述占位"}]
[{"$f":"IF(語言配置表!A1602=\"\",\"\",語言配置表!A1602)","v":1599},{"$f":"IF(語言配置表!A1602=\"\",\"CN_待填充内容\",語言配置表!B1602)","v":"---功法道具描述占位"}]
[{"$f":"IF(語言配置表!A1603=\"\",\"\",語言配置表!A1603)","v":1600},{"$f":"IF(語言配置表!A1603=\"\",\"CN_待填充内容\",語言配置表!B1603)","v":"太虚幻剑经碎片"}]
[{"$f":"IF(語言配置表!A1604=\"\",\"\",語言配置表!A1604)","v":1601},{"$f":"IF(語言配置表!A1604=\"\",\"CN_待填充内容\",語言配置表!B1604)","v":"天罡剑气诀碎片"}]
[{"$f":"IF(語言配置表!A1605=\"\",\"\",語言配置表!A1605)","v":1602},{"$f":"IF(語言配置表!A1605=\"\",\"CN_待填充内容\",語言配置表!B1605)","v":"血刃金煌功碎片"}]
[{"$f":"IF(語言配置表!A1606=\"\",\"\",語言配置表!A1606)","v":1603},{"$f":"IF(語言配置表!A1606=\"\",\"CN_待填充内容\",語言配置表!B1606)","v":"飞刃碎片"}]
[{"$f":"IF(語言配置表!A1607=\"\",\"\",語言配置表!A1607)","v":1604},{"$f":"IF(語言配置表!A1607=\"\",\"CN_待填充内容\",語言配置表!B1607)","v":"金针碎片"}]
[{"$f":"IF(語言配置表!A1608=\"\",\"\",語言配置表!A1608)","v":1605},{"$f":"IF(語言配置表!A1608=\"\",\"CN_待填充内容\",語言配置表!B1608)","v":"碧落幽冥劲碎片"}]
[{"$f":"IF(語言配置表!A1609=\"\",\"\",語言配置表!A1609)","v":1606},{"$f":"IF(語言配置表!A1609=\"\",\"CN_待填充内容\",語言配置表!B1609)","v":"雾隐千流法碎片"}]
[{"$f":"IF(語言配置表!A1610=\"\",\"\",語言配置表!A1610)","v":1607},{"$f":"IF(語言配置表!A1610=\"\",\"CN_待填充内容\",語言配置表!B1610)","v":"功法-水3碎片"}]
[{"$f":"IF(語言配置表!A1611=\"\",\"\",語言配置表!A1611)","v":1608},{"$f":"IF(語言配置表!A1611=\"\",\"CN_待填充内容\",語言配置表!B1611)","v":"水球碎片"}]
[{"$f":"IF(語言配置表!A1612=\"\",\"\",語言配置表!A1612)","v":1609},{"$f":"IF(語言配置表!A1612=\"\",\"CN_待填充内容\",語言配置表!B1612)","v":"冰刀碎片"}]
[{"$f":"IF(語言配置表!A1613=\"\",\"\",語言配置表!A1613)","v":1610},{"$f":"IF(語言配置表!A1613=\"\",\"CN_待填充内容\",語言配置表!B1613)","v":"瘴影千丝术碎片"}]
[{"$f":"IF(語言配置表!A1614=\"\",\"\",語言配置表!A1614)","v":1611},{"$f":"IF(語言配置表!A1614=\"\",\"CN_待填充内容\",語言配置表!B1614)","v":"蚀骨腐血掌碎片"}]
[{"$f":"IF(語言配置表!A1615=\"\",\"\",語言配置表!A1615)","v":1612},{"$f":"IF(語言配置表!A1615=\"\",\"CN_待填充内容\",語言配置表!B1615)","v":"功法-木3碎片"}]
[{"$f":"IF(語言配置表!A1616=\"\",\"\",語言配置表!A1616)","v":1613},{"$f":"IF(語言配置表!A1616=\"\",\"CN_待填充内容\",語言配置表!B1616)","v":"竹刺碎片"}]
[{"$f":"IF(語言配置表!A1617=\"\",\"\",語言配置表!A1617)","v":1614},{"$f":"IF(語言配置表!A1617=\"\",\"CN_待填充内容\",語言配置表!B1617)","v":"飞叶碎片"}]
[{"$f":"IF(語言配置表!A1618=\"\",\"\",語言配置表!A1618)","v":1615},{"$f":"IF(語言配置表!A1618=\"\",\"CN_待填充内容\",語言配置表!B1618)","v":"烈焰剑碎片"}]
[{"$f":"IF(語言配置表!A1619=\"\",\"\",語言配置表!A1619)","v":1616},{"$f":"IF(語言配置表!A1619=\"\",\"CN_待填充内容\",語言配置表!B1619)","v":"赤焰龙吟功碎片"}]
[{"$f":"IF(語言配置表!A1620=\"\",\"\",語言配置表!A1620)","v":1617},{"$f":"IF(語言配置表!A1620=\"\",\"CN_待填充内容\",語言配置表!B1620)","v":"朱雀燎原指碎片"}]
[{"$f":"IF(語言配置表!A1621=\"\",\"\",語言配置表!A1621)","v":1618},{"$f":"IF(語言配置表!A1621=\"\",\"CN_待填充内容\",語言配置表!B1621)","v":"火球碎片"}]
[{"$f":"IF(語言配置表!A1622=\"\",\"\",語言配置表!A1622)","v":1619},{"$f":"IF(語言配置表!A1622=\"\",\"CN_待填充内容\",語言配置表!B1622)","v":"火刀碎片"}]
[{"$f":"IF(語言配置表!A1623=\"\",\"\",語言配置表!A1623)","v":1620},{"$f":"IF(語言配置表!A1623=\"\",\"CN_待填充内容\",語言配置表!B1623)","v":"黄尘灭魂刺碎片"}]
[{"$f":"IF(語言配置表!A1624=\"\",\"\",語言配置表!A1624)","v":1621},{"$f":"IF(語言配置表!A1624=\"\",\"CN_待填充内容\",語言配置表!B1624)","v":"地裂屠龙斩碎片"}]
[{"$f":"IF(語言配置表!A1625=\"\",\"\",語言配置表!A1625)","v":1622},{"$f":"IF(語言配置表!A1625=\"\",\"CN_待填充内容\",語言配置表!B1625)","v":"功法-土3碎片"}]
[{"$f":"IF(語言配置表!A1626=\"\",\"\",語言配置表!A1626)","v":1623},{"$f":"IF(語言配置表!A1626=\"\",\"CN_待填充内容\",語言配置表!B1626)","v":"落石碎片"}]
[{"$f":"IF(語言配置表!A1627=\"\",\"\",語言配置表!A1627)","v":1624},{"$f":"IF(語言配置表!A1627=\"\",\"CN_待填充内容\",語言配置表!B1627)","v":"小石头碎片"}]
[{"$f":"IF(語言配置表!A1628=\"\",\"\",語言配置表!A1628)","v":1625},{"$f":"IF(語言配置表!A1628=\"\",\"CN_待填充内容\",語言配置表!B1628)","v":"天衍星辰诀碎片"}]
[{"$f":"IF(語言配置表!A1629=\"\",\"\",語言配置表!A1629)","v":1626},{"$f":"IF(語言配置表!A1629=\"\",\"CN_待填充内容\",語言配置表!B1629)","v":"法宝秘籍碎片"}]
[{"$f":"IF(語言配置表!A1630=\"\",\"\",語言配置表!A1630)","v":1627},{"$f":"IF(語言配置表!A1630=\"\",\"CN_待填充内容\",語言配置表!B1630)","v":"崩脉决碎片"}]
[{"$f":"IF(語言配置表!A1631=\"\",\"\",語言配置表!A1631)","v":1628},{"$f":"IF(語言配置表!A1631=\"\",\"CN_待填充内容\",語言配置表!B1631)","v":"两仪决碎片"}]
[{"$f":"IF(語言配置表!A1632=\"\",\"\",語言配置表!A1632)","v":1629},{"$f":"IF(語言配置表!A1632=\"\",\"CN_待填充内容\",語言配置表!B1632)","v":"火焰决碎片"}]
[{"$f":"IF(語言配置表!A1633=\"\",\"\",語言配置表!A1633)","v":1630},{"$f":"IF(語言配置表!A1633=\"\",\"CN_待填充内容\",語言配置表!B1633)","v":"乾坤巨灵诀碎片"}]
[{"$f":"IF(語言配置表!A1634=\"\",\"\",語言配置表!A1634)","v":1631},{"$f":"IF(語言配置表!A1634=\"\",\"CN_待填充内容\",語言配置表!B1634)","v":"极速齿轮碎片"}]
[{"$f":"IF(語言配置表!A1635=\"\",\"\",語言配置表!A1635)","v":1632},{"$f":"IF(語言配置表!A1635=\"\",\"CN_待填充内容\",語言配置表!B1635)","v":"太虚剑意碎片"}]
[{"$f":"IF(語言配置表!A1636=\"\",\"\",語言配置表!A1636)","v":1633},{"$f":"IF(語言配置表!A1636=\"\",\"CN_待填充内容\",語言配置表!B1636)","v":"青莲净体诀碎片"}]
[{"$f":"IF(語言配置表!A1637=\"\",\"\",語言配置表!A1637)","v":1634},{"$f":"IF(語言配置表!A1637=\"\",\"CN_待填充内容\",語言配置表!B1637)","v":"碧霄回春术碎片"}]
[{"$f":"IF(語言配置表!A1638=\"\",\"\",語言配置表!A1638)","v":1635},{"$f":"IF(語言配置表!A1638=\"\",\"CN_待填充内容\",語言配置表!B1638)","v":"功法碎片名称占位----------------"}]
[{"$f":"IF(語言配置表!A1639=\"\",\"\",語言配置表!A1639)","v":1636},{"$f":"IF(語言配置表!A1639=\"\",\"CN_待填充内容\",語言配置表!B1639)","v":"功法碎片名称占位----------------"}]
[{"$f":"IF(語言配置表!A1640=\"\",\"\",語言配置表!A1640)","v":1637},{"$f":"IF(語言配置表!A1640=\"\",\"CN_待填充内容\",語言配置表!B1640)","v":"功法碎片名称占位----------------"}]
[{"$f":"IF(語言配置表!A1641=\"\",\"\",語言配置表!A1641)","v":1638},{"$f":"IF(語言配置表!A1641=\"\",\"CN_待填充内容\",語言配置表!B1641)","v":"功法碎片名称占位----------------"}]
[{"$f":"IF(語言配置表!A1642=\"\",\"\",語言配置表!A1642)","v":1639},{"$f":"IF(語言配置表!A1642=\"\",\"CN_待填充内容\",語言配置表!B1642)","v":"功法碎片名称占位----------------"}]
[{"$f":"IF(語言配置表!A1643=\"\",\"\",語言配置表!A1643)","v":1640},{"$f":"IF(語言配置表!A1643=\"\",\"CN_待填充内容\",語言配置表!B1643)","v":"功法碎片名称占位----------------"}]
[{"$f":"IF(語言配置表!A1644=\"\",\"\",語言配置表!A1644)","v":1641},{"$f":"IF(語言配置表!A1644=\"\",\"CN_待填充内容\",語言配置表!B1644)","v":"功法碎片名称占位----------------"}]
[{"$f":"IF(語言配置表!A1645=\"\",\"\",語言配置表!A1645)","v":1642},{"$f":"IF(語言配置表!A1645=\"\",\"CN_待填充内容\",語言配置表!B1645)","v":"功法碎片名称占位----------------"}]
[{"$f":"IF(語言配置表!A1646=\"\",\"\",語言配置表!A1646)","v":1643},{"$f":"IF(語言配置表!A1646=\"\",\"CN_待填充内容\",語言配置表!B1646)","v":"功法碎片名称占位----------------"}]
[{"$f":"IF(語言配置表!A1647=\"\",\"\",語言配置表!A1647)","v":1644},{"$f":"IF(語言配置表!A1647=\"\",\"CN_待填充内容\",語言配置表!B1647)","v":"功法碎片名称占位----------------"}]
[{"$f":"IF(語言配置表!A1648=\"\",\"\",語言配置表!A1648)","v":1645},{"$f":"IF(語言配置表!A1648=\"\",\"CN_待填充内容\",語言配置表!B1648)","v":"功法碎片名称占位----------------"}]
[{"$f":"IF(語言配置表!A1649=\"\",\"\",語言配置表!A1649)","v":1646},{"$f":"IF(語言配置表!A1649=\"\",\"CN_待填充内容\",語言配置表!B1649)","v":"功法碎片名称占位----------------"}]
[{"$f":"IF(語言配置表!A1650=\"\",\"\",語言配置表!A1650)","v":1647},{"$f":"IF(語言配置表!A1650=\"\",\"CN_待填充内容\",語言配置表!B1650)","v":"功法碎片名称占位----------------"}]
[{"$f":"IF(語言配置表!A1651=\"\",\"\",語言配置表!A1651)","v":1648},{"$f":"IF(語言配置表!A1651=\"\",\"CN_待填充内容\",語言配置表!B1651)","v":"功法碎片名称占位----------------"}]
[{"$f":"IF(語言配置表!A1652=\"\",\"\",語言配置表!A1652)","v":1649},{"$f":"IF(語言配置表!A1652=\"\",\"CN_待填充内容\",語言配置表!B1652)","v":"功法碎片名称占位----------------"}]
[{"$f":"IF(語言配置表!A1653=\"\",\"\",語言配置表!A1653)","v":1650},{"$f":"IF(語言配置表!A1653=\"\",\"CN_待填充内容\",語言配置表!B1653)","v":"功法碎片名称占位----------------"}]
[{"$f":"IF(語言配置表!A1654=\"\",\"\",語言配置表!A1654)","v":1651},{"$f":"IF(語言配置表!A1654=\"\",\"CN_待填充内容\",語言配置表!B1654)","v":"功法碎片名称占位----------------"}]
[{"$f":"IF(語言配置表!A1655=\"\",\"\",語言配置表!A1655)","v":1652},{"$f":"IF(語言配置表!A1655=\"\",\"CN_待填充内容\",語言配置表!B1655)","v":"功法碎片名称占位----------------"}]
[{"$f":"IF(語言配置表!A1656=\"\",\"\",語言配置表!A1656)","v":1653},{"$f":"IF(語言配置表!A1656=\"\",\"CN_待填充内容\",語言配置表!B1656)","v":"功法碎片名称占位----------------"}]
[{"$f":"IF(語言配置表!A1657=\"\",\"\",語言配置表!A1657)","v":1654},{"$f":"IF(語言配置表!A1657=\"\",\"CN_待填充内容\",語言配置表!B1657)","v":"功法碎片名称占位----------------"}]
[{"$f":"IF(語言配置表!A1658=\"\",\"\",語言配置表!A1658)","v":1655},{"$f":"IF(語言配置表!A1658=\"\",\"CN_待填充内容\",語言配置表!B1658)","v":"功法碎片名称占位----------------"}]
[{"$f":"IF(語言配置表!A1659=\"\",\"\",語言配置表!A1659)","v":1656},{"$f":"IF(語言配置表!A1659=\"\",\"CN_待填充内容\",語言配置表!B1659)","v":"功法碎片名称占位----------------"}]
[{"$f":"IF(語言配置表!A1660=\"\",\"\",語言配置表!A1660)","v":1657},{"$f":"IF(語言配置表!A1660=\"\",\"CN_待填充内容\",語言配置表!B1660)","v":"功法碎片名称占位----------------"}]
[{"$f":"IF(語言配置表!A1661=\"\",\"\",語言配置表!A1661)","v":1658},{"$f":"IF(語言配置表!A1661=\"\",\"CN_待填充内容\",語言配置表!B1661)","v":"功法碎片名称占位----------------"}]
[{"$f":"IF(語言配置表!A1662=\"\",\"\",語言配置表!A1662)","v":1659},{"$f":"IF(語言配置表!A1662=\"\",\"CN_待填充内容\",語言配置表!B1662)","v":"功法碎片名称占位----------------"}]
[{"$f":"IF(語言配置表!A1663=\"\",\"\",語言配置表!A1663)","v":1660},{"$f":"IF(語言配置表!A1663=\"\",\"CN_待填充内容\",語言配置表!B1663)","v":"功法碎片名称占位----------------"}]
[{"$f":"IF(語言配置表!A1664=\"\",\"\",語言配置表!A1664)","v":1661},{"$f":"IF(語言配置表!A1664=\"\",\"CN_待填充内容\",語言配置表!B1664)","v":"功法碎片名称占位----------------"}]
[{"$f":"IF(語言配置表!A1665=\"\",\"\",語言配置表!A1665)","v":1662},{"$f":"IF(語言配置表!A1665=\"\",\"CN_待填充内容\",語言配置表!B1665)","v":"功法碎片名称占位----------------"}]
[{"$f":"IF(語言配置表!A1666=\"\",\"\",語言配置表!A1666)","v":1663},{"$f":"IF(語言配置表!A1666=\"\",\"CN_待填充内容\",語言配置表!B1666)","v":"功法碎片名称占位----------------"}]
[{"$f":"IF(語言配置表!A1667=\"\",\"\",語言配置表!A1667)","v":1664},{"$f":"IF(語言配置表!A1667=\"\",\"CN_待填充内容\",語言配置表!B1667)","v":"功法碎片名称占位----------------"}]
[{"$f":"IF(語言配置表!A1668=\"\",\"\",語言配置表!A1668)","v":1665},{"$f":"IF(語言配置表!A1668=\"\",\"CN_待填充内容\",語言配置表!B1668)","v":"功法碎片名称占位----------------"}]
[{"$f":"IF(語言配置表!A1669=\"\",\"\",語言配置表!A1669)","v":1666},{"$f":"IF(語言配置表!A1669=\"\",\"CN_待填充内容\",語言配置表!B1669)","v":"功法碎片名称占位----------------"}]
[{"$f":"IF(語言配置表!A1670=\"\",\"\",語言配置表!A1670)","v":1667},{"$f":"IF(語言配置表!A1670=\"\",\"CN_待填充内容\",語言配置表!B1670)","v":"功法碎片名称占位----------------"}]
[{"$f":"IF(語言配置表!A1671=\"\",\"\",語言配置表!A1671)","v":1668},{"$f":"IF(語言配置表!A1671=\"\",\"CN_待填充内容\",語言配置表!B1671)","v":"功法碎片名称占位----------------"}]
[{"$f":"IF(語言配置表!A1672=\"\",\"\",語言配置表!A1672)","v":1669},{"$f":"IF(語言配置表!A1672=\"\",\"CN_待填充内容\",語言配置表!B1672)","v":"功法碎片名称占位----------------"}]
[{"$f":"IF(語言配置表!A1673=\"\",\"\",語言配置表!A1673)","v":1670},{"$f":"IF(語言配置表!A1673=\"\",\"CN_待填充内容\",語言配置表!B1673)","v":"功法碎片名称占位----------------"}]
[{"$f":"IF(語言配置表!A1674=\"\",\"\",語言配置表!A1674)","v":1671},{"$f":"IF(語言配置表!A1674=\"\",\"CN_待填充内容\",語言配置表!B1674)","v":"功法碎片名称占位----------------"}]
[{"$f":"IF(語言配置表!A1675=\"\",\"\",語言配置表!A1675)","v":1672},{"$f":"IF(語言配置表!A1675=\"\",\"CN_待填充内容\",語言配置表!B1675)","v":"功法碎片名称占位----------------"}]
[{"$f":"IF(語言配置表!A1676=\"\",\"\",語言配置表!A1676)","v":1673},{"$f":"IF(語言配置表!A1676=\"\",\"CN_待填充内容\",語言配置表!B1676)","v":"功法碎片名称占位----------------"}]
[{"$f":"IF(語言配置表!A1677=\"\",\"\",語言配置表!A1677)","v":1674},{"$f":"IF(語言配置表!A1677=\"\",\"CN_待填充内容\",語言配置表!B1677)","v":"功法碎片名称占位----------------"}]
[{"$f":"IF(語言配置表!A1678=\"\",\"\",語言配置表!A1678)","v":1675},{"$f":"IF(語言配置表!A1678=\"\",\"CN_待填充内容\",語言配置表!B1678)","v":"功法碎片名称占位----------------"}]
[{"$f":"IF(語言配置表!A1679=\"\",\"\",語言配置表!A1679)","v":1676},{"$f":"IF(語言配置表!A1679=\"\",\"CN_待填充内容\",語言配置表!B1679)","v":"功法碎片名称占位----------------"}]
[{"$f":"IF(語言配置表!A1680=\"\",\"\",語言配置表!A1680)","v":1677},{"$f":"IF(語言配置表!A1680=\"\",\"CN_待填充内容\",語言配置表!B1680)","v":"功法碎片名称占位----------------"}]
[{"$f":"IF(語言配置表!A1681=\"\",\"\",語言配置表!A1681)","v":1678},{"$f":"IF(語言配置表!A1681=\"\",\"CN_待填充内容\",語言配置表!B1681)","v":"功法碎片名称占位----------------"}]
[{"$f":"IF(語言配置表!A1682=\"\",\"\",語言配置表!A1682)","v":1679},{"$f":"IF(語言配置表!A1682=\"\",\"CN_待填充内容\",語言配置表!B1682)","v":"功法碎片名称占位----------------"}]
[{"$f":"IF(語言配置表!A1683=\"\",\"\",語言配置表!A1683)","v":1680},{"$f":"IF(語言配置表!A1683=\"\",\"CN_待填充内容\",語言配置表!B1683)","v":"功法碎片名称占位----------------"}]
[{"$f":"IF(語言配置表!A1684=\"\",\"\",語言配置表!A1684)","v":1681},{"$f":"IF(語言配置表!A1684=\"\",\"CN_待填充内容\",語言配置表!B1684)","v":"功法碎片名称占位----------------"}]
[{"$f":"IF(語言配置表!A1685=\"\",\"\",語言配置表!A1685)","v":1682},{"$f":"IF(語言配置表!A1685=\"\",\"CN_待填充内容\",語言配置表!B1685)","v":"功法碎片名称占位----------------"}]
[{"$f":"IF(語言配置表!A1686=\"\",\"\",語言配置表!A1686)","v":1683},{"$f":"IF(語言配置表!A1686=\"\",\"CN_待填充内容\",語言配置表!B1686)","v":"功法碎片名称占位----------------"}]
[{"$f":"IF(語言配置表!A1687=\"\",\"\",語言配置表!A1687)","v":1684},{"$f":"IF(語言配置表!A1687=\"\",\"CN_待填充内容\",語言配置表!B1687)","v":"功法碎片名称占位----------------"}]
[{"$f":"IF(語言配置表!A1688=\"\",\"\",語言配置表!A1688)","v":1685},{"$f":"IF(語言配置表!A1688=\"\",\"CN_待填充内容\",語言配置表!B1688)","v":"功法碎片名称占位----------------"}]
[{"$f":"IF(語言配置表!A1689=\"\",\"\",語言配置表!A1689)","v":1686},{"$f":"IF(語言配置表!A1689=\"\",\"CN_待填充内容\",語言配置表!B1689)","v":"功法碎片名称占位----------------"}]
[{"$f":"IF(語言配置表!A1690=\"\",\"\",語言配置表!A1690)","v":1687},{"$f":"IF(語言配置表!A1690=\"\",\"CN_待填充内容\",語言配置表!B1690)","v":"功法碎片名称占位----------------"}]
[{"$f":"IF(語言配置表!A1691=\"\",\"\",語言配置表!A1691)","v":1688},{"$f":"IF(語言配置表!A1691=\"\",\"CN_待填充内容\",語言配置表!B1691)","v":"功法碎片名称占位----------------"}]
[{"$f":"IF(語言配置表!A1692=\"\",\"\",語言配置表!A1692)","v":1689},{"$f":"IF(語言配置表!A1692=\"\",\"CN_待填充内容\",語言配置表!B1692)","v":"功法碎片名称占位----------------"}]
[{"$f":"IF(語言配置表!A1693=\"\",\"\",語言配置表!A1693)","v":1690},{"$f":"IF(語言配置表!A1693=\"\",\"CN_待填充内容\",語言配置表!B1693)","v":"功法碎片名称占位----------------"}]
[{"$f":"IF(語言配置表!A1694=\"\",\"\",語言配置表!A1694)","v":1691},{"$f":"IF(語言配置表!A1694=\"\",\"CN_待填充内容\",語言配置表!B1694)","v":"功法碎片名称占位----------------"}]
[{"$f":"IF(語言配置表!A1695=\"\",\"\",語言配置表!A1695)","v":1692},{"$f":"IF(語言配置表!A1695=\"\",\"CN_待填充内容\",語言配置表!B1695)","v":"功法碎片名称占位----------------"}]
[{"$f":"IF(語言配置表!A1696=\"\",\"\",語言配置表!A1696)","v":1693},{"$f":"IF(語言配置表!A1696=\"\",\"CN_待填充内容\",語言配置表!B1696)","v":"功法碎片名称占位----------------"}]
[{"$f":"IF(語言配置表!A1697=\"\",\"\",語言配置表!A1697)","v":1694},{"$f":"IF(語言配置表!A1697=\"\",\"CN_待填充内容\",語言配置表!B1697)","v":"功法碎片名称占位----------------"}]
[{"$f":"IF(語言配置表!A1698=\"\",\"\",語言配置表!A1698)","v":1695},{"$f":"IF(語言配置表!A1698=\"\",\"CN_待填充内容\",語言配置表!B1698)","v":"功法碎片名称占位----------------"}]
[{"$f":"IF(語言配置表!A1699=\"\",\"\",語言配置表!A1699)","v":1696},{"$f":"IF(語言配置表!A1699=\"\",\"CN_待填充内容\",語言配置表!B1699)","v":"功法碎片名称占位----------------"}]
[{"$f":"IF(語言配置表!A1700=\"\",\"\",語言配置表!A1700)","v":1697},{"$f":"IF(語言配置表!A1700=\"\",\"CN_待填充内容\",語言配置表!B1700)","v":"功法碎片名称占位----------------"}]
[{"$f":"IF(語言配置表!A1701=\"\",\"\",語言配置表!A1701)","v":1698},{"$f":"IF(語言配置表!A1701=\"\",\"CN_待填充内容\",語言配置表!B1701)","v":"功法碎片名称占位----------------"}]
[{"$f":"IF(語言配置表!A1702=\"\",\"\",語言配置表!A1702)","v":1699},{"$f":"IF(語言配置表!A1702=\"\",\"CN_待填充内容\",語言配置表!B1702)","v":"功法碎片名称占位----------------"}]
[{"$f":"IF(語言配置表!A1703=\"\",\"\",語言配置表!A1703)","v":1700},{"$f":"IF(語言配置表!A1703=\"\",\"CN_待填充内容\",語言配置表!B1703)","v":"用于功法-太虚幻剑经-的升星"}]
[{"$f":"IF(語言配置表!A1704=\"\",\"\",語言配置表!A1704)","v":1701},{"$f":"IF(語言配置表!A1704=\"\",\"CN_待填充内容\",語言配置表!B1704)","v":"用于功法-天罡剑气诀-的升星"}]
[{"$f":"IF(語言配置表!A1705=\"\",\"\",語言配置表!A1705)","v":1702},{"$f":"IF(語言配置表!A1705=\"\",\"CN_待填充内容\",語言配置表!B1705)","v":"用于功法-血刃金煌功-的升星"}]
[{"$f":"IF(語言配置表!A1706=\"\",\"\",語言配置表!A1706)","v":1703},{"$f":"IF(語言配置表!A1706=\"\",\"CN_待填充内容\",語言配置表!B1706)","v":"用于功法-飞刃-的升星"}]
[{"$f":"IF(語言配置表!A1707=\"\",\"\",語言配置表!A1707)","v":1704},{"$f":"IF(語言配置表!A1707=\"\",\"CN_待填充内容\",語言配置表!B1707)","v":"用于功法-金针-的升星"}]
[{"$f":"IF(語言配置表!A1708=\"\",\"\",語言配置表!A1708)","v":1705},{"$f":"IF(語言配置表!A1708=\"\",\"CN_待填充内容\",語言配置表!B1708)","v":"用于功法-碧落幽冥劲-的升星"}]
[{"$f":"IF(語言配置表!A1709=\"\",\"\",語言配置表!A1709)","v":1706},{"$f":"IF(語言配置表!A1709=\"\",\"CN_待填充内容\",語言配置表!B1709)","v":"用于功法-雾隐千流法-的升星"}]
[{"$f":"IF(語言配置表!A1710=\"\",\"\",語言配置表!A1710)","v":1707},{"$f":"IF(語言配置表!A1710=\"\",\"CN_待填充内容\",語言配置表!B1710)","v":"用于功法-功法-水3-的升星"}]
[{"$f":"IF(語言配置表!A1711=\"\",\"\",語言配置表!A1711)","v":1708},{"$f":"IF(語言配置表!A1711=\"\",\"CN_待填充内容\",語言配置表!B1711)","v":"用于功法-水球-的升星"}]
[{"$f":"IF(語言配置表!A1712=\"\",\"\",語言配置表!A1712)","v":1709},{"$f":"IF(語言配置表!A1712=\"\",\"CN_待填充内容\",語言配置表!B1712)","v":"用于功法-冰刀-的升星"}]
[{"$f":"IF(語言配置表!A1713=\"\",\"\",語言配置表!A1713)","v":1710},{"$f":"IF(語言配置表!A1713=\"\",\"CN_待填充内容\",語言配置表!B1713)","v":"用于功法-瘴影千丝术-的升星"}]
[{"$f":"IF(語言配置表!A1714=\"\",\"\",語言配置表!A1714)","v":1711},{"$f":"IF(語言配置表!A1714=\"\",\"CN_待填充内容\",語言配置表!B1714)","v":"用于功法-蚀骨腐血掌-的升星"}]
[{"$f":"IF(語言配置表!A1715=\"\",\"\",語言配置表!A1715)","v":1712},{"$f":"IF(語言配置表!A1715=\"\",\"CN_待填充内容\",語言配置表!B1715)","v":"用于功法-功法-木3-的升星"}]
[{"$f":"IF(語言配置表!A1716=\"\",\"\",語言配置表!A1716)","v":1713},{"$f":"IF(語言配置表!A1716=\"\",\"CN_待填充内容\",語言配置表!B1716)","v":"用于功法-竹刺-的升星"}]
[{"$f":"IF(語言配置表!A1717=\"\",\"\",語言配置表!A1717)","v":1714},{"$f":"IF(語言配置表!A1717=\"\",\"CN_待填充内容\",語言配置表!B1717)","v":"用于功法-飞叶-的升星"}]
[{"$f":"IF(語言配置表!A1718=\"\",\"\",語言配置表!A1718)","v":1715},{"$f":"IF(語言配置表!A1718=\"\",\"CN_待填充内容\",語言配置表!B1718)","v":"用于功法-烈焰剑-的升星"}]
[{"$f":"IF(語言配置表!A1719=\"\",\"\",語言配置表!A1719)","v":1716},{"$f":"IF(語言配置表!A1719=\"\",\"CN_待填充内容\",語言配置表!B1719)","v":"用于功法-赤焰龙吟功-的升星"}]
[{"$f":"IF(語言配置表!A1720=\"\",\"\",語言配置表!A1720)","v":1717},{"$f":"IF(語言配置表!A1720=\"\",\"CN_待填充内容\",語言配置表!B1720)","v":"用于功法-朱雀燎原指-的升星"}]
[{"$f":"IF(語言配置表!A1721=\"\",\"\",語言配置表!A1721)","v":1718},{"$f":"IF(語言配置表!A1721=\"\",\"CN_待填充内容\",語言配置表!B1721)","v":"用于功法-火球-的升星"}]
[{"$f":"IF(語言配置表!A1722=\"\",\"\",語言配置表!A1722)","v":1719},{"$f":"IF(語言配置表!A1722=\"\",\"CN_待填充内容\",語言配置表!B1722)","v":"用于功法-火刀-的升星"}]
[{"$f":"IF(語言配置表!A1723=\"\",\"\",語言配置表!A1723)","v":1720},{"$f":"IF(語言配置表!A1723=\"\",\"CN_待填充内容\",語言配置表!B1723)","v":"用于功法-黄尘灭魂刺-的升星"}]
[{"$f":"IF(語言配置表!A1724=\"\",\"\",語言配置表!A1724)","v":1721},{"$f":"IF(語言配置表!A1724=\"\",\"CN_待填充内容\",語言配置表!B1724)","v":"用于功法-地裂屠龙斩-的升星"}]
[{"$f":"IF(語言配置表!A1725=\"\",\"\",語言配置表!A1725)","v":1722},{"$f":"IF(語言配置表!A1725=\"\",\"CN_待填充内容\",語言配置表!B1725)","v":"用于功法-功法-土3-的升星"}]
[{"$f":"IF(語言配置表!A1726=\"\",\"\",語言配置表!A1726)","v":1723},{"$f":"IF(語言配置表!A1726=\"\",\"CN_待填充内容\",語言配置表!B1726)","v":"用于功法-落石-的升星"}]
[{"$f":"IF(語言配置表!A1727=\"\",\"\",語言配置表!A1727)","v":1724},{"$f":"IF(語言配置表!A1727=\"\",\"CN_待填充内容\",語言配置表!B1727)","v":"用于功法-小石头-的升星"}]
[{"$f":"IF(語言配置表!A1728=\"\",\"\",語言配置表!A1728)","v":1725},{"$f":"IF(語言配置表!A1728=\"\",\"CN_待填充内容\",語言配置表!B1728)","v":"用于功法-天衍星辰诀-的升星"}]
[{"$f":"IF(語言配置表!A1729=\"\",\"\",語言配置表!A1729)","v":1726},{"$f":"IF(語言配置表!A1729=\"\",\"CN_待填充内容\",語言配置表!B1729)","v":"用于功法-法宝秘籍-的升星"}]
[{"$f":"IF(語言配置表!A1730=\"\",\"\",語言配置表!A1730)","v":1727},{"$f":"IF(語言配置表!A1730=\"\",\"CN_待填充内容\",語言配置表!B1730)","v":"用于功法-崩脉决-的升星"}]
[{"$f":"IF(語言配置表!A1731=\"\",\"\",語言配置表!A1731)","v":1728},{"$f":"IF(語言配置表!A1731=\"\",\"CN_待填充内容\",語言配置表!B1731)","v":"用于功法-两仪决-的升星"}]
[{"$f":"IF(語言配置表!A1732=\"\",\"\",語言配置表!A1732)","v":1729},{"$f":"IF(語言配置表!A1732=\"\",\"CN_待填充内容\",語言配置表!B1732)","v":"用于功法-火焰决-的升星"}]
[{"$f":"IF(語言配置表!A1733=\"\",\"\",語言配置表!A1733)","v":1730},{"$f":"IF(語言配置表!A1733=\"\",\"CN_待填充内容\",語言配置表!B1733)","v":"用于功法-乾坤巨灵诀-的升星"}]
[{"$f":"IF(語言配置表!A1734=\"\",\"\",語言配置表!A1734)","v":1731},{"$f":"IF(語言配置表!A1734=\"\",\"CN_待填充内容\",語言配置表!B1734)","v":"用于功法-极速齿轮-的升星"}]
[{"$f":"IF(語言配置表!A1735=\"\",\"\",語言配置表!A1735)","v":1732},{"$f":"IF(語言配置表!A1735=\"\",\"CN_待填充内容\",語言配置表!B1735)","v":"用于功法-太虚剑意-的升星"}]
[{"$f":"IF(語言配置表!A1736=\"\",\"\",語言配置表!A1736)","v":1733},{"$f":"IF(語言配置表!A1736=\"\",\"CN_待填充内容\",語言配置表!B1736)","v":"用于功法-青莲净体诀-的升星"}]
[{"$f":"IF(語言配置表!A1737=\"\",\"\",語言配置表!A1737)","v":1734},{"$f":"IF(語言配置表!A1737=\"\",\"CN_待填充内容\",語言配置表!B1737)","v":"用于功法-碧霄回春术-的升星"}]
[{"$f":"IF(語言配置表!A1738=\"\",\"\",語言配置表!A1738)","v":1735},{"$f":"IF(語言配置表!A1738=\"\",\"CN_待填充内容\",語言配置表!B1738)","v":"用于功法--的升星"}]
[{"$f":"IF(語言配置表!A1739=\"\",\"\",語言配置表!A1739)","v":1736},{"$f":"IF(語言配置表!A1739=\"\",\"CN_待填充内容\",語言配置表!B1739)","v":"用于功法--的升星"}]
[{"$f":"IF(語言配置表!A1740=\"\",\"\",語言配置表!A1740)","v":1737},{"$f":"IF(語言配置表!A1740=\"\",\"CN_待填充内容\",語言配置表!B1740)","v":"用于功法--的升星"}]
[{"$f":"IF(語言配置表!A1741=\"\",\"\",語言配置表!A1741)","v":1738},{"$f":"IF(語言配置表!A1741=\"\",\"CN_待填充内容\",語言配置表!B1741)","v":"用于功法--的升星"}]
[{"$f":"IF(語言配置表!A1742=\"\",\"\",語言配置表!A1742)","v":1739},{"$f":"IF(語言配置表!A1742=\"\",\"CN_待填充内容\",語言配置表!B1742)","v":"用于功法--的升星"}]
[{"$f":"IF(語言配置表!A1743=\"\",\"\",語言配置表!A1743)","v":1740},{"$f":"IF(語言配置表!A1743=\"\",\"CN_待填充内容\",語言配置表!B1743)","v":"用于功法--的升星"}]
[{"$f":"IF(語言配置表!A1744=\"\",\"\",語言配置表!A1744)","v":1741},{"$f":"IF(語言配置表!A1744=\"\",\"CN_待填充内容\",語言配置表!B1744)","v":"用于功法--的升星"}]
[{"$f":"IF(語言配置表!A1745=\"\",\"\",語言配置表!A1745)","v":1742},{"$f":"IF(語言配置表!A1745=\"\",\"CN_待填充内容\",語言配置表!B1745)","v":"用于功法--的升星"}]
[{"$f":"IF(語言配置表!A1746=\"\",\"\",語言配置表!A1746)","v":1743},{"$f":"IF(語言配置表!A1746=\"\",\"CN_待填充内容\",語言配置表!B1746)","v":"用于功法--的升星"}]
[{"$f":"IF(語言配置表!A1747=\"\",\"\",語言配置表!A1747)","v":1744},{"$f":"IF(語言配置表!A1747=\"\",\"CN_待填充内容\",語言配置表!B1747)","v":"用于功法--的升星"}]
[{"$f":"IF(語言配置表!A1748=\"\",\"\",語言配置表!A1748)","v":1745},{"$f":"IF(語言配置表!A1748=\"\",\"CN_待填充内容\",語言配置表!B1748)","v":"用于功法--的升星"}]
[{"$f":"IF(語言配置表!A1749=\"\",\"\",語言配置表!A1749)","v":1746},{"$f":"IF(語言配置表!A1749=\"\",\"CN_待填充内容\",語言配置表!B1749)","v":"用于功法--的升星"}]
[{"$f":"IF(語言配置表!A1750=\"\",\"\",語言配置表!A1750)","v":1747},{"$f":"IF(語言配置表!A1750=\"\",\"CN_待填充内容\",語言配置表!B1750)","v":"用于功法--的升星"}]
[{"$f":"IF(語言配置表!A1751=\"\",\"\",語言配置表!A1751)","v":1748},{"$f":"IF(語言配置表!A1751=\"\",\"CN_待填充内容\",語言配置表!B1751)","v":"用于功法--的升星"}]
[{"$f":"IF(語言配置表!A1752=\"\",\"\",語言配置表!A1752)","v":1749},{"$f":"IF(語言配置表!A1752=\"\",\"CN_待填充内容\",語言配置表!B1752)","v":"用于功法--的升星"}]
[{"$f":"IF(語言配置表!A1753=\"\",\"\",語言配置表!A1753)","v":1750},{"$f":"IF(語言配置表!A1753=\"\",\"CN_待填充内容\",語言配置表!B1753)","v":"用于功法--的升星"}]
[{"$f":"IF(語言配置表!A1754=\"\",\"\",語言配置表!A1754)","v":1751},{"$f":"IF(語言配置表!A1754=\"\",\"CN_待填充内容\",語言配置表!B1754)","v":"用于功法--的升星"}]
[{"$f":"IF(語言配置表!A1755=\"\",\"\",語言配置表!A1755)","v":1752},{"$f":"IF(語言配置表!A1755=\"\",\"CN_待填充内容\",語言配置表!B1755)","v":"用于功法--的升星"}]
[{"$f":"IF(語言配置表!A1756=\"\",\"\",語言配置表!A1756)","v":1753},{"$f":"IF(語言配置表!A1756=\"\",\"CN_待填充内容\",語言配置表!B1756)","v":"用于功法--的升星"}]
[{"$f":"IF(語言配置表!A1757=\"\",\"\",語言配置表!A1757)","v":1754},{"$f":"IF(語言配置表!A1757=\"\",\"CN_待填充内容\",語言配置表!B1757)","v":"用于功法--的升星"}]
[{"$f":"IF(語言配置表!A1758=\"\",\"\",語言配置表!A1758)","v":1755},{"$f":"IF(語言配置表!A1758=\"\",\"CN_待填充内容\",語言配置表!B1758)","v":"用于功法--的升星"}]
[{"$f":"IF(語言配置表!A1759=\"\",\"\",語言配置表!A1759)","v":1756},{"$f":"IF(語言配置表!A1759=\"\",\"CN_待填充内容\",語言配置表!B1759)","v":"用于功法--的升星"}]
[{"$f":"IF(語言配置表!A1760=\"\",\"\",語言配置表!A1760)","v":1757},{"$f":"IF(語言配置表!A1760=\"\",\"CN_待填充内容\",語言配置表!B1760)","v":"用于功法--的升星"}]
[{"$f":"IF(語言配置表!A1761=\"\",\"\",語言配置表!A1761)","v":1758},{"$f":"IF(語言配置表!A1761=\"\",\"CN_待填充内容\",語言配置表!B1761)","v":"用于功法--的升星"}]
[{"$f":"IF(語言配置表!A1762=\"\",\"\",語言配置表!A1762)","v":1759},{"$f":"IF(語言配置表!A1762=\"\",\"CN_待填充内容\",語言配置表!B1762)","v":"用于功法--的升星"}]
[{"$f":"IF(語言配置表!A1763=\"\",\"\",語言配置表!A1763)","v":1760},{"$f":"IF(語言配置表!A1763=\"\",\"CN_待填充内容\",語言配置表!B1763)","v":"用于功法--的升星"}]
[{"$f":"IF(語言配置表!A1764=\"\",\"\",語言配置表!A1764)","v":1761},{"$f":"IF(語言配置表!A1764=\"\",\"CN_待填充内容\",語言配置表!B1764)","v":"用于功法--的升星"}]
[{"$f":"IF(語言配置表!A1765=\"\",\"\",語言配置表!A1765)","v":1762},{"$f":"IF(語言配置表!A1765=\"\",\"CN_待填充内容\",語言配置表!B1765)","v":"用于功法--的升星"}]
[{"$f":"IF(語言配置表!A1766=\"\",\"\",語言配置表!A1766)","v":1763},{"$f":"IF(語言配置表!A1766=\"\",\"CN_待填充内容\",語言配置表!B1766)","v":"用于功法--的升星"}]
[{"$f":"IF(語言配置表!A1767=\"\",\"\",語言配置表!A1767)","v":1764},{"$f":"IF(語言配置表!A1767=\"\",\"CN_待填充内容\",語言配置表!B1767)","v":"用于功法--的升星"}]
[{"$f":"IF(語言配置表!A1768=\"\",\"\",語言配置表!A1768)","v":1765},{"$f":"IF(語言配置表!A1768=\"\",\"CN_待填充内容\",語言配置表!B1768)","v":"用于功法--的升星"}]
[{"$f":"IF(語言配置表!A1769=\"\",\"\",語言配置表!A1769)","v":1766},{"$f":"IF(語言配置表!A1769=\"\",\"CN_待填充内容\",語言配置表!B1769)","v":"用于功法--的升星"}]
[{"$f":"IF(語言配置表!A1770=\"\",\"\",語言配置表!A1770)","v":1767},{"$f":"IF(語言配置表!A1770=\"\",\"CN_待填充内容\",語言配置表!B1770)","v":"用于功法--的升星"}]
[{"$f":"IF(語言配置表!A1771=\"\",\"\",語言配置表!A1771)","v":1768},{"$f":"IF(語言配置表!A1771=\"\",\"CN_待填充内容\",語言配置表!B1771)","v":"用于功法--的升星"}]
[{"$f":"IF(語言配置表!A1772=\"\",\"\",語言配置表!A1772)","v":1769},{"$f":"IF(語言配置表!A1772=\"\",\"CN_待填充内容\",語言配置表!B1772)","v":"用于功法--的升星"}]
[{"$f":"IF(語言配置表!A1773=\"\",\"\",語言配置表!A1773)","v":1770},{"$f":"IF(語言配置表!A1773=\"\",\"CN_待填充内容\",語言配置表!B1773)","v":"用于功法--的升星"}]
[{"$f":"IF(語言配置表!A1774=\"\",\"\",語言配置表!A1774)","v":1771},{"$f":"IF(語言配置表!A1774=\"\",\"CN_待填充内容\",語言配置表!B1774)","v":"用于功法--的升星"}]
[{"$f":"IF(語言配置表!A1775=\"\",\"\",語言配置表!A1775)","v":1772},{"$f":"IF(語言配置表!A1775=\"\",\"CN_待填充内容\",語言配置表!B1775)","v":"用于功法--的升星"}]
[{"$f":"IF(語言配置表!A1776=\"\",\"\",語言配置表!A1776)","v":1773},{"$f":"IF(語言配置表!A1776=\"\",\"CN_待填充内容\",語言配置表!B1776)","v":"用于功法--的升星"}]
[{"$f":"IF(語言配置表!A1777=\"\",\"\",語言配置表!A1777)","v":1774},{"$f":"IF(語言配置表!A1777=\"\",\"CN_待填充内容\",語言配置表!B1777)","v":"用于功法--的升星"}]
[{"$f":"IF(語言配置表!A1778=\"\",\"\",語言配置表!A1778)","v":1775},{"$f":"IF(語言配置表!A1778=\"\",\"CN_待填充内容\",語言配置表!B1778)","v":"用于功法--的升星"}]
[{"$f":"IF(語言配置表!A1779=\"\",\"\",語言配置表!A1779)","v":1776},{"$f":"IF(語言配置表!A1779=\"\",\"CN_待填充内容\",語言配置表!B1779)","v":"用于功法--的升星"}]
[{"$f":"IF(語言配置表!A1780=\"\",\"\",語言配置表!A1780)","v":1777},{"$f":"IF(語言配置表!A1780=\"\",\"CN_待填充内容\",語言配置表!B1780)","v":"用于功法--的升星"}]
[{"$f":"IF(語言配置表!A1781=\"\",\"\",語言配置表!A1781)","v":1778},{"$f":"IF(語言配置表!A1781=\"\",\"CN_待填充内容\",語言配置表!B1781)","v":"用于功法--的升星"}]
[{"$f":"IF(語言配置表!A1782=\"\",\"\",語言配置表!A1782)","v":1779},{"$f":"IF(語言配置表!A1782=\"\",\"CN_待填充内容\",語言配置表!B1782)","v":"用于功法--的升星"}]
[{"$f":"IF(語言配置表!A1783=\"\",\"\",語言配置表!A1783)","v":1780},{"$f":"IF(語言配置表!A1783=\"\",\"CN_待填充内容\",語言配置表!B1783)","v":"用于功法--的升星"}]
[{"$f":"IF(語言配置表!A1784=\"\",\"\",語言配置表!A1784)","v":1781},{"$f":"IF(語言配置表!A1784=\"\",\"CN_待填充内容\",語言配置表!B1784)","v":"用于功法--的升星"}]
[{"$f":"IF(語言配置表!A1785=\"\",\"\",語言配置表!A1785)","v":1782},{"$f":"IF(語言配置表!A1785=\"\",\"CN_待填充内容\",語言配置表!B1785)","v":"用于功法--的升星"}]
[{"$f":"IF(語言配置表!A1786=\"\",\"\",語言配置表!A1786)","v":1783},{"$f":"IF(語言配置表!A1786=\"\",\"CN_待填充内容\",語言配置表!B1786)","v":"用于功法--的升星"}]
[{"$f":"IF(語言配置表!A1787=\"\",\"\",語言配置表!A1787)","v":1784},{"$f":"IF(語言配置表!A1787=\"\",\"CN_待填充内容\",語言配置表!B1787)","v":"用于功法--的升星"}]
[{"$f":"IF(語言配置表!A1788=\"\",\"\",語言配置表!A1788)","v":1785},{"$f":"IF(語言配置表!A1788=\"\",\"CN_待填充内容\",語言配置表!B1788)","v":"用于功法--的升星"}]
[{"$f":"IF(語言配置表!A1789=\"\",\"\",語言配置表!A1789)","v":1786},{"$f":"IF(語言配置表!A1789=\"\",\"CN_待填充内容\",語言配置表!B1789)","v":"用于功法--的升星"}]
[{"$f":"IF(語言配置表!A1790=\"\",\"\",語言配置表!A1790)","v":1787},{"$f":"IF(語言配置表!A1790=\"\",\"CN_待填充内容\",語言配置表!B1790)","v":"用于功法--的升星"}]
[{"$f":"IF(語言配置表!A1791=\"\",\"\",語言配置表!A1791)","v":1788},{"$f":"IF(語言配置表!A1791=\"\",\"CN_待填充内容\",語言配置表!B1791)","v":"用于功法--的升星"}]
[{"$f":"IF(語言配置表!A1792=\"\",\"\",語言配置表!A1792)","v":1789},{"$f":"IF(語言配置表!A1792=\"\",\"CN_待填充内容\",語言配置表!B1792)","v":"用于功法--的升星"}]
[{"$f":"IF(語言配置表!A1793=\"\",\"\",語言配置表!A1793)","v":1790},{"$f":"IF(語言配置表!A1793=\"\",\"CN_待填充内容\",語言配置表!B1793)","v":"用于功法--的升星"}]
[{"$f":"IF(語言配置表!A1794=\"\",\"\",語言配置表!A1794)","v":1791},{"$f":"IF(語言配置表!A1794=\"\",\"CN_待填充内容\",語言配置表!B1794)","v":"用于功法--的升星"}]
[{"$f":"IF(語言配置表!A1795=\"\",\"\",語言配置表!A1795)","v":1792},{"$f":"IF(語言配置表!A1795=\"\",\"CN_待填充内容\",語言配置表!B1795)","v":"用于功法--的升星"}]
[{"$f":"IF(語言配置表!A1796=\"\",\"\",語言配置表!A1796)","v":1793},{"$f":"IF(語言配置表!A1796=\"\",\"CN_待填充内容\",語言配置表!B1796)","v":"用于功法--的升星"}]
[{"$f":"IF(語言配置表!A1797=\"\",\"\",語言配置表!A1797)","v":1794},{"$f":"IF(語言配置表!A1797=\"\",\"CN_待填充内容\",語言配置表!B1797)","v":"用于功法--的升星"}]
[{"$f":"IF(語言配置表!A1798=\"\",\"\",語言配置表!A1798)","v":1795},{"$f":"IF(語言配置表!A1798=\"\",\"CN_待填充内容\",語言配置表!B1798)","v":"用于功法--的升星"}]
[{"$f":"IF(語言配置表!A1799=\"\",\"\",語言配置表!A1799)","v":1796},{"$f":"IF(語言配置表!A1799=\"\",\"CN_待填充内容\",語言配置表!B1799)","v":"用于功法--的升星"}]
[{"$f":"IF(語言配置表!A1800=\"\",\"\",語言配置表!A1800)","v":1797},{"$f":"IF(語言配置表!A1800=\"\",\"CN_待填充内容\",語言配置表!B1800)","v":"用于功法--的升星"}]
[{"$f":"IF(語言配置表!A1801=\"\",\"\",語言配置表!A1801)","v":1798},{"$f":"IF(語言配置表!A1801=\"\",\"CN_待填充内容\",語言配置表!B1801)","v":"用于功法--的升星"}]
[{"$f":"IF(語言配置表!A1802=\"\",\"\",語言配置表!A1802)","v":1799},{"$f":"IF(語言配置表!A1802=\"\",\"CN_待填充内容\",語言配置表!B1802)","v":"用于功法--的升星"}]
[{"$f":"IF(語言配置表!A1803=\"\",\"\",語言配置表!A1803)","v":1800},{"$f":"IF(語言配置表!A1803=\"\",\"CN_待填充内容\",語言配置表!B1803)","v":"天衍星辰诀"}]
[{"$f":"IF(語言配置表!A1804=\"\",\"\",語言配置表!A1804)","v":1801},{"$f":"IF(語言配置表!A1804=\"\",\"CN_待填充内容\",語言配置表!B1804)","v":"法宝秘籍"}]
[{"$f":"IF(語言配置表!A1805=\"\",\"\",語言配置表!A1805)","v":1802},{"$f":"IF(語言配置表!A1805=\"\",\"CN_待填充内容\",語言配置表!B1805)","v":"崩脉决"}]
[{"$f":"IF(語言配置表!A1806=\"\",\"\",語言配置表!A1806)","v":1803},{"$f":"IF(語言配置表!A1806=\"\",\"CN_待填充内容\",語言配置表!B1806)","v":"两仪决"}]
[{"$f":"IF(語言配置表!A1807=\"\",\"\",語言配置表!A1807)","v":1804},{"$f":"IF(語言配置表!A1807=\"\",\"CN_待填充内容\",語言配置表!B1807)","v":"火焰决"}]
[{"$f":"IF(語言配置表!A1808=\"\",\"\",語言配置表!A1808)","v":1805},{"$f":"IF(語言配置表!A1808=\"\",\"CN_待填充内容\",語言配置表!B1808)","v":"乾坤巨灵诀"}]
[{"$f":"IF(語言配置表!A1809=\"\",\"\",語言配置表!A1809)","v":1806},{"$f":"IF(語言配置表!A1809=\"\",\"CN_待填充内容\",語言配置表!B1809)","v":"极速齿轮"}]
[{"$f":"IF(語言配置表!A1810=\"\",\"\",語言配置表!A1810)","v":1807},{"$f":"IF(語言配置表!A1810=\"\",\"CN_待填充内容\",語言配置表!B1810)","v":"太虚剑意"}]
[{"$f":"IF(語言配置表!A1811=\"\",\"\",語言配置表!A1811)","v":1808},{"$f":"IF(語言配置表!A1811=\"\",\"CN_待填充内容\",語言配置表!B1811)","v":"青莲净体诀"}]
[{"$f":"IF(語言配置表!A1812=\"\",\"\",語言配置表!A1812)","v":1809},{"$f":"IF(語言配置表!A1812=\"\",\"CN_待填充内容\",語言配置表!B1812)","v":"碧霄回春术"}]
[{"$f":"IF(語言配置表!A1813=\"\",\"\",語言配置表!A1813)","v":1810},{"$f":"IF(語言配置表!A1813=\"\",\"CN_待填充内容\",語言配置表!B1813)","v":"被动功法名称------占位"}]
[{"$f":"IF(語言配置表!A1814=\"\",\"\",語言配置表!A1814)","v":1811},{"$f":"IF(語言配置表!A1814=\"\",\"CN_待填充内容\",語言配置表!B1814)","v":"被动功法名称------占位"}]
[{"$f":"IF(語言配置表!A1815=\"\",\"\",語言配置表!A1815)","v":1812},{"$f":"IF(語言配置表!A1815=\"\",\"CN_待填充内容\",語言配置表!B1815)","v":"被动功法名称------占位"}]
[{"$f":"IF(語言配置表!A1816=\"\",\"\",語言配置表!A1816)","v":1813},{"$f":"IF(語言配置表!A1816=\"\",\"CN_待填充内容\",語言配置表!B1816)","v":"被动功法名称------占位"}]
[{"$f":"IF(語言配置表!A1817=\"\",\"\",語言配置表!A1817)","v":1814},{"$f":"IF(語言配置表!A1817=\"\",\"CN_待填充内容\",語言配置表!B1817)","v":"被动功法名称------占位"}]
[{"$f":"IF(語言配置表!A1818=\"\",\"\",語言配置表!A1818)","v":1815},{"$f":"IF(語言配置表!A1818=\"\",\"CN_待填充内容\",語言配置表!B1818)","v":"被动功法名称------占位"}]
[{"$f":"IF(語言配置表!A1819=\"\",\"\",語言配置表!A1819)","v":1816},{"$f":"IF(語言配置表!A1819=\"\",\"CN_待填充内容\",語言配置表!B1819)","v":"被动功法名称------占位"}]
[{"$f":"IF(語言配置表!A1820=\"\",\"\",語言配置表!A1820)","v":1817},{"$f":"IF(語言配置表!A1820=\"\",\"CN_待填充内容\",語言配置表!B1820)","v":"被动功法名称------占位"}]
[{"$f":"IF(語言配置表!A1821=\"\",\"\",語言配置表!A1821)","v":1818},{"$f":"IF(語言配置表!A1821=\"\",\"CN_待填充内容\",語言配置表!B1821)","v":"被动功法名称------占位"}]
[{"$f":"IF(語言配置表!A1822=\"\",\"\",語言配置表!A1822)","v":1819},{"$f":"IF(語言配置表!A1822=\"\",\"CN_待填充内容\",語言配置表!B1822)","v":"被动功法名称------占位"}]
[{"$f":"IF(語言配置表!A1823=\"\",\"\",語言配置表!A1823)","v":1820},{"$f":"IF(語言配置表!A1823=\"\",\"CN_待填充内容\",語言配置表!B1823)","v":"被动功法名称------占位"}]
[{"$f":"IF(語言配置表!A1824=\"\",\"\",語言配置表!A1824)","v":1821},{"$f":"IF(語言配置表!A1824=\"\",\"CN_待填充内容\",語言配置表!B1824)","v":"被动功法名称------占位"}]
[{"$f":"IF(語言配置表!A1825=\"\",\"\",語言配置表!A1825)","v":1822},{"$f":"IF(語言配置表!A1825=\"\",\"CN_待填充内容\",語言配置表!B1825)","v":"被动功法名称------占位"}]
[{"$f":"IF(語言配置表!A1826=\"\",\"\",語言配置表!A1826)","v":1823},{"$f":"IF(語言配置表!A1826=\"\",\"CN_待填充内容\",語言配置表!B1826)","v":"被动功法名称------占位"}]
[{"$f":"IF(語言配置表!A1827=\"\",\"\",語言配置表!A1827)","v":1824},{"$f":"IF(語言配置表!A1827=\"\",\"CN_待填充内容\",語言配置表!B1827)","v":"被动功法名称------占位"}]
[{"$f":"IF(語言配置表!A1828=\"\",\"\",語言配置表!A1828)","v":1825},{"$f":"IF(語言配置表!A1828=\"\",\"CN_待填充内容\",語言配置表!B1828)","v":"被动功法名称------占位"}]
[{"$f":"IF(語言配置表!A1829=\"\",\"\",語言配置表!A1829)","v":1826},{"$f":"IF(語言配置表!A1829=\"\",\"CN_待填充内容\",語言配置表!B1829)","v":"被动功法名称------占位"}]
[{"$f":"IF(語言配置表!A1830=\"\",\"\",語言配置表!A1830)","v":1827},{"$f":"IF(語言配置表!A1830=\"\",\"CN_待填充内容\",語言配置表!B1830)","v":"被动功法名称------占位"}]
[{"$f":"IF(語言配置表!A1831=\"\",\"\",語言配置表!A1831)","v":1828},{"$f":"IF(語言配置表!A1831=\"\",\"CN_待填充内容\",語言配置表!B1831)","v":"被动功法名称------占位"}]
[{"$f":"IF(語言配置表!A1832=\"\",\"\",語言配置表!A1832)","v":1829},{"$f":"IF(語言配置表!A1832=\"\",\"CN_待填充内容\",語言配置表!B1832)","v":"被动功法名称------占位"}]
[{"$f":"IF(語言配置表!A1833=\"\",\"\",語言配置表!A1833)","v":1830},{"$f":"IF(語言配置表!A1833=\"\",\"CN_待填充内容\",語言配置表!B1833)","v":"被动功法名称------占位"}]
[{"$f":"IF(語言配置表!A1834=\"\",\"\",語言配置表!A1834)","v":1831},{"$f":"IF(語言配置表!A1834=\"\",\"CN_待填充内容\",語言配置表!B1834)","v":"被动功法名称------占位"}]
[{"$f":"IF(語言配置表!A1835=\"\",\"\",語言配置表!A1835)","v":1832},{"$f":"IF(語言配置表!A1835=\"\",\"CN_待填充内容\",語言配置表!B1835)","v":"被动功法名称------占位"}]
[{"$f":"IF(語言配置表!A1836=\"\",\"\",語言配置表!A1836)","v":1833},{"$f":"IF(語言配置表!A1836=\"\",\"CN_待填充内容\",語言配置表!B1836)","v":"被动功法名称------占位"}]
[{"$f":"IF(語言配置表!A1837=\"\",\"\",語言配置表!A1837)","v":1834},{"$f":"IF(語言配置表!A1837=\"\",\"CN_待填充内容\",語言配置表!B1837)","v":"被动功法名称------占位"}]
[{"$f":"IF(語言配置表!A1838=\"\",\"\",語言配置表!A1838)","v":1835},{"$f":"IF(語言配置表!A1838=\"\",\"CN_待填充内容\",語言配置表!B1838)","v":"被动功法名称------占位"}]
[{"$f":"IF(語言配置表!A1839=\"\",\"\",語言配置表!A1839)","v":1836},{"$f":"IF(語言配置表!A1839=\"\",\"CN_待填充内容\",語言配置表!B1839)","v":"被动功法名称------占位"}]
[{"$f":"IF(語言配置表!A1840=\"\",\"\",語言配置表!A1840)","v":1837},{"$f":"IF(語言配置表!A1840=\"\",\"CN_待填充内容\",語言配置表!B1840)","v":"被动功法名称------占位"}]
[{"$f":"IF(語言配置表!A1841=\"\",\"\",語言配置表!A1841)","v":1838},{"$f":"IF(語言配置表!A1841=\"\",\"CN_待填充内容\",語言配置表!B1841)","v":"被动功法名称------占位"}]
[{"$f":"IF(語言配置表!A1842=\"\",\"\",語言配置表!A1842)","v":1839},{"$f":"IF(語言配置表!A1842=\"\",\"CN_待填充内容\",語言配置表!B1842)","v":"被动功法名称------占位"}]
[{"$f":"IF(語言配置表!A1843=\"\",\"\",語言配置表!A1843)","v":1840},{"$f":"IF(語言配置表!A1843=\"\",\"CN_待填充内容\",語言配置表!B1843)","v":"被动功法名称------占位"}]
[{"$f":"IF(語言配置表!A1844=\"\",\"\",語言配置表!A1844)","v":1841},{"$f":"IF(語言配置表!A1844=\"\",\"CN_待填充内容\",語言配置表!B1844)","v":"被动功法名称------占位"}]
[{"$f":"IF(語言配置表!A1845=\"\",\"\",語言配置表!A1845)","v":1842},{"$f":"IF(語言配置表!A1845=\"\",\"CN_待填充内容\",語言配置表!B1845)","v":"被动功法名称------占位"}]
[{"$f":"IF(語言配置表!A1846=\"\",\"\",語言配置表!A1846)","v":1843},{"$f":"IF(語言配置表!A1846=\"\",\"CN_待填充内容\",語言配置表!B1846)","v":"被动功法名称------占位"}]
[{"$f":"IF(語言配置表!A1847=\"\",\"\",語言配置表!A1847)","v":1844},{"$f":"IF(語言配置表!A1847=\"\",\"CN_待填充内容\",語言配置表!B1847)","v":"被动功法名称------占位"}]
[{"$f":"IF(語言配置表!A1848=\"\",\"\",語言配置表!A1848)","v":1845},{"$f":"IF(語言配置表!A1848=\"\",\"CN_待填充内容\",語言配置表!B1848)","v":"被动功法名称------占位"}]
[{"$f":"IF(語言配置表!A1849=\"\",\"\",語言配置表!A1849)","v":1846},{"$f":"IF(語言配置表!A1849=\"\",\"CN_待填充内容\",語言配置表!B1849)","v":"被动功法名称------占位"}]
[{"$f":"IF(語言配置表!A1850=\"\",\"\",語言配置表!A1850)","v":1847},{"$f":"IF(語言配置表!A1850=\"\",\"CN_待填充内容\",語言配置表!B1850)","v":"被动功法名称------占位"}]
[{"$f":"IF(語言配置表!A1851=\"\",\"\",語言配置表!A1851)","v":1848},{"$f":"IF(語言配置表!A1851=\"\",\"CN_待填充内容\",語言配置表!B1851)","v":"被动功法名称------占位"}]
[{"$f":"IF(語言配置表!A1852=\"\",\"\",語言配置表!A1852)","v":1849},{"$f":"IF(語言配置表!A1852=\"\",\"CN_待填充内容\",語言配置表!B1852)","v":"被动功法名称------占位"}]
[{"$f":"IF(語言配置表!A1853=\"\",\"\",語言配置表!A1853)","v":1850},{"$f":"IF(語言配置表!A1853=\"\",\"CN_待填充内容\",語言配置表!B1853)","v":"使用后获得被动功法-天衍星辰诀"}]
[{"$f":"IF(語言配置表!A1854=\"\",\"\",語言配置表!A1854)","v":1851},{"$f":"IF(語言配置表!A1854=\"\",\"CN_待填充内容\",語言配置表!B1854)","v":"使用后获得被动功法-法宝秘籍"}]
[{"$f":"IF(語言配置表!A1855=\"\",\"\",語言配置表!A1855)","v":1852},{"$f":"IF(語言配置表!A1855=\"\",\"CN_待填充内容\",語言配置表!B1855)","v":"使用后获得被动功法-崩脉决"}]
[{"$f":"IF(語言配置表!A1856=\"\",\"\",語言配置表!A1856)","v":1853},{"$f":"IF(語言配置表!A1856=\"\",\"CN_待填充内容\",語言配置表!B1856)","v":"使用后获得被动功法-两仪决"}]
[{"$f":"IF(語言配置表!A1857=\"\",\"\",語言配置表!A1857)","v":1854},{"$f":"IF(語言配置表!A1857=\"\",\"CN_待填充内容\",語言配置表!B1857)","v":"使用后获得被动功法-火焰决"}]
[{"$f":"IF(語言配置表!A1858=\"\",\"\",語言配置表!A1858)","v":1855},{"$f":"IF(語言配置表!A1858=\"\",\"CN_待填充内容\",語言配置表!B1858)","v":"使用后获得被动功法-乾坤巨灵诀"}]
[{"$f":"IF(語言配置表!A1859=\"\",\"\",語言配置表!A1859)","v":1856},{"$f":"IF(語言配置表!A1859=\"\",\"CN_待填充内容\",語言配置表!B1859)","v":"使用后获得被动功法-极速齿轮"}]
[{"$f":"IF(語言配置表!A1860=\"\",\"\",語言配置表!A1860)","v":1857},{"$f":"IF(語言配置表!A1860=\"\",\"CN_待填充内容\",語言配置表!B1860)","v":"使用后获得被动功法-太虚剑意"}]
[{"$f":"IF(語言配置表!A1861=\"\",\"\",語言配置表!A1861)","v":1858},{"$f":"IF(語言配置表!A1861=\"\",\"CN_待填充内容\",語言配置表!B1861)","v":"使用后获得被动功法-青莲净体诀"}]
[{"$f":"IF(語言配置表!A1862=\"\",\"\",語言配置表!A1862)","v":1859},{"$f":"IF(語言配置表!A1862=\"\",\"CN_待填充内容\",語言配置表!B1862)","v":"使用后获得被动功法-碧霄回春术"}]
[{"$f":"IF(語言配置表!A1863=\"\",\"\",語言配置表!A1863)","v":1860},{"$f":"IF(語言配置表!A1863=\"\",\"CN_待填充内容\",語言配置表!B1863)","v":"使用后获得被动功法-"}]
[{"$f":"IF(語言配置表!A1864=\"\",\"\",語言配置表!A1864)","v":1861},{"$f":"IF(語言配置表!A1864=\"\",\"CN_待填充内容\",語言配置表!B1864)","v":"使用后获得被动功法-"}]
[{"$f":"IF(語言配置表!A1865=\"\",\"\",語言配置表!A1865)","v":1862},{"$f":"IF(語言配置表!A1865=\"\",\"CN_待填充内容\",語言配置表!B1865)","v":"使用后获得被动功法-"}]
[{"$f":"IF(語言配置表!A1866=\"\",\"\",語言配置表!A1866)","v":1863},{"$f":"IF(語言配置表!A1866=\"\",\"CN_待填充内容\",語言配置表!B1866)","v":"使用后获得被动功法-"}]
[{"$f":"IF(語言配置表!A1867=\"\",\"\",語言配置表!A1867)","v":1864},{"$f":"IF(語言配置表!A1867=\"\",\"CN_待填充内容\",語言配置表!B1867)","v":"使用后获得被动功法-"}]
[{"$f":"IF(語言配置表!A1868=\"\",\"\",語言配置表!A1868)","v":1865},{"$f":"IF(語言配置表!A1868=\"\",\"CN_待填充内容\",語言配置表!B1868)","v":"使用后获得被动功法-"}]
[{"$f":"IF(語言配置表!A1869=\"\",\"\",語言配置表!A1869)","v":1866},{"$f":"IF(語言配置表!A1869=\"\",\"CN_待填充内容\",語言配置表!B1869)","v":"使用后获得被动功法-"}]
[{"$f":"IF(語言配置表!A1870=\"\",\"\",語言配置表!A1870)","v":1867},{"$f":"IF(語言配置表!A1870=\"\",\"CN_待填充内容\",語言配置表!B1870)","v":"使用后获得被动功法-"}]
[{"$f":"IF(語言配置表!A1871=\"\",\"\",語言配置表!A1871)","v":1868},{"$f":"IF(語言配置表!A1871=\"\",\"CN_待填充内容\",語言配置表!B1871)","v":"使用后获得被动功法-"}]
[{"$f":"IF(語言配置表!A1872=\"\",\"\",語言配置表!A1872)","v":1869},{"$f":"IF(語言配置表!A1872=\"\",\"CN_待填充内容\",語言配置表!B1872)","v":"使用后获得被动功法-"}]
[{"$f":"IF(語言配置表!A1873=\"\",\"\",語言配置表!A1873)","v":1870},{"$f":"IF(語言配置表!A1873=\"\",\"CN_待填充内容\",語言配置表!B1873)","v":"使用后获得被动功法-"}]
[{"$f":"IF(語言配置表!A1874=\"\",\"\",語言配置表!A1874)","v":1871},{"$f":"IF(語言配置表!A1874=\"\",\"CN_待填充内容\",語言配置表!B1874)","v":"使用后获得被动功法-"}]
[{"$f":"IF(語言配置表!A1875=\"\",\"\",語言配置表!A1875)","v":1872},{"$f":"IF(語言配置表!A1875=\"\",\"CN_待填充内容\",語言配置表!B1875)","v":"使用后获得被动功法-"}]
[{"$f":"IF(語言配置表!A1876=\"\",\"\",語言配置表!A1876)","v":1873},{"$f":"IF(語言配置表!A1876=\"\",\"CN_待填充内容\",語言配置表!B1876)","v":"使用后获得被动功法-"}]
[{"$f":"IF(語言配置表!A1877=\"\",\"\",語言配置表!A1877)","v":1874},{"$f":"IF(語言配置表!A1877=\"\",\"CN_待填充内容\",語言配置表!B1877)","v":"使用后获得被动功法-"}]
[{"$f":"IF(語言配置表!A1878=\"\",\"\",語言配置表!A1878)","v":1875},{"$f":"IF(語言配置表!A1878=\"\",\"CN_待填充内容\",語言配置表!B1878)","v":"使用后获得被动功法-"}]
[{"$f":"IF(語言配置表!A1879=\"\",\"\",語言配置表!A1879)","v":1876},{"$f":"IF(語言配置表!A1879=\"\",\"CN_待填充内容\",語言配置表!B1879)","v":"使用后获得被动功法-"}]
[{"$f":"IF(語言配置表!A1880=\"\",\"\",語言配置表!A1880)","v":1877},{"$f":"IF(語言配置表!A1880=\"\",\"CN_待填充内容\",語言配置表!B1880)","v":"使用后获得被动功法-"}]
[{"$f":"IF(語言配置表!A1881=\"\",\"\",語言配置表!A1881)","v":1878},{"$f":"IF(語言配置表!A1881=\"\",\"CN_待填充内容\",語言配置表!B1881)","v":"使用后获得被动功法-"}]
[{"$f":"IF(語言配置表!A1882=\"\",\"\",語言配置表!A1882)","v":1879},{"$f":"IF(語言配置表!A1882=\"\",\"CN_待填充内容\",語言配置表!B1882)","v":"使用后获得被动功法-"}]
[{"$f":"IF(語言配置表!A1883=\"\",\"\",語言配置表!A1883)","v":1880},{"$f":"IF(語言配置表!A1883=\"\",\"CN_待填充内容\",語言配置表!B1883)","v":"使用后获得被动功法-"}]
[{"$f":"IF(語言配置表!A1884=\"\",\"\",語言配置表!A1884)","v":1881},{"$f":"IF(語言配置表!A1884=\"\",\"CN_待填充内容\",語言配置表!B1884)","v":"使用后获得被动功法-"}]
[{"$f":"IF(語言配置表!A1885=\"\",\"\",語言配置表!A1885)","v":1882},{"$f":"IF(語言配置表!A1885=\"\",\"CN_待填充内容\",語言配置表!B1885)","v":"使用后获得被动功法-"}]
[{"$f":"IF(語言配置表!A1886=\"\",\"\",語言配置表!A1886)","v":1883},{"$f":"IF(語言配置表!A1886=\"\",\"CN_待填充内容\",語言配置表!B1886)","v":"使用后获得被动功法-"}]
[{"$f":"IF(語言配置表!A1887=\"\",\"\",語言配置表!A1887)","v":1884},{"$f":"IF(語言配置表!A1887=\"\",\"CN_待填充内容\",語言配置表!B1887)","v":"使用后获得被动功法-"}]
[{"$f":"IF(語言配置表!A1888=\"\",\"\",語言配置表!A1888)","v":1885},{"$f":"IF(語言配置表!A1888=\"\",\"CN_待填充内容\",語言配置表!B1888)","v":"使用后获得被动功法-"}]
[{"$f":"IF(語言配置表!A1889=\"\",\"\",語言配置表!A1889)","v":1886},{"$f":"IF(語言配置表!A1889=\"\",\"CN_待填充内容\",語言配置表!B1889)","v":"使用后获得被动功法-"}]
[{"$f":"IF(語言配置表!A1890=\"\",\"\",語言配置表!A1890)","v":1887},{"$f":"IF(語言配置表!A1890=\"\",\"CN_待填充内容\",語言配置表!B1890)","v":"使用后获得被动功法-"}]
[{"$f":"IF(語言配置表!A1891=\"\",\"\",語言配置表!A1891)","v":1888},{"$f":"IF(語言配置表!A1891=\"\",\"CN_待填充内容\",語言配置表!B1891)","v":"使用后获得被动功法-"}]
[{"$f":"IF(語言配置表!A1892=\"\",\"\",語言配置表!A1892)","v":1889},{"$f":"IF(語言配置表!A1892=\"\",\"CN_待填充内容\",語言配置表!B1892)","v":"使用后获得被动功法-"}]
[{"$f":"IF(語言配置表!A1893=\"\",\"\",語言配置表!A1893)","v":1890},{"$f":"IF(語言配置表!A1893=\"\",\"CN_待填充内容\",語言配置表!B1893)","v":"使用后获得被动功法-"}]
[{"$f":"IF(語言配置表!A1894=\"\",\"\",語言配置表!A1894)","v":1891},{"$f":"IF(語言配置表!A1894=\"\",\"CN_待填充内容\",語言配置表!B1894)","v":"使用后获得被动功法-"}]
[{"$f":"IF(語言配置表!A1895=\"\",\"\",語言配置表!A1895)","v":1892},{"$f":"IF(語言配置表!A1895=\"\",\"CN_待填充内容\",語言配置表!B1895)","v":"使用后获得被动功法-"}]
[{"$f":"IF(語言配置表!A1896=\"\",\"\",語言配置表!A1896)","v":1893},{"$f":"IF(語言配置表!A1896=\"\",\"CN_待填充内容\",語言配置表!B1896)","v":"使用后获得被动功法-"}]
[{"$f":"IF(語言配置表!A1897=\"\",\"\",語言配置表!A1897)","v":1894},{"$f":"IF(語言配置表!A1897=\"\",\"CN_待填充内容\",語言配置表!B1897)","v":"使用后获得被动功法-"}]
[{"$f":"IF(語言配置表!A1898=\"\",\"\",語言配置表!A1898)","v":1895},{"$f":"IF(語言配置表!A1898=\"\",\"CN_待填充内容\",語言配置表!B1898)","v":"使用后获得被动功法-"}]
[{"$f":"IF(語言配置表!A1899=\"\",\"\",語言配置表!A1899)","v":1896},{"$f":"IF(語言配置表!A1899=\"\",\"CN_待填充内容\",語言配置表!B1899)","v":"使用后获得被动功法-"}]
[{"$f":"IF(語言配置表!A1900=\"\",\"\",語言配置表!A1900)","v":1897},{"$f":"IF(語言配置表!A1900=\"\",\"CN_待填充内容\",語言配置表!B1900)","v":"使用后获得被动功法-"}]
[{"$f":"IF(語言配置表!A1901=\"\",\"\",語言配置表!A1901)","v":1898},{"$f":"IF(語言配置表!A1901=\"\",\"CN_待填充内容\",語言配置表!B1901)","v":"使用后获得被动功法-"}]
[{"$f":"IF(語言配置表!A1902=\"\",\"\",語言配置表!A1902)","v":1899},{"$f":"IF(語言配置表!A1902=\"\",\"CN_待填充内容\",語言配置表!B1902)","v":"使用后获得被动功法-"}]
[{"$f":"IF(語言配置表!A1903=\"\",\"\",語言配置表!A1903)","v":1900},{"$f":"IF(語言配置表!A1903=\"\",\"CN_待填充内容\",語言配置表!B1903)","v":"GM商店"}]
[{"$f":"IF(語言配置表!A1904=\"\",\"\",語言配置表!A1904)","v":1901},{"$f":"IF(語言配置表!A1904=\"\",\"CN_待填充内容\",語言配置表!B1904)","v":"事件10005：一只[怪物2]袭击了你，准备迎战"}]
[{"$f":"IF(語言配置表!A1905=\"\",\"\",語言配置表!A1905)","v":1902},{"$f":"IF(語言配置表!A1905=\"\",\"CN_待填充内容\",語言配置表!B1905)","v":"事件10006：一只[怪物3]袭击了你，准备迎战"}]
[{"$f":"IF(語言配置表!A1906=\"\",\"\",語言配置表!A1906)","v":1903},{"$f":"IF(語言配置表!A1906=\"\",\"CN_待填充内容\",語言配置表!B1906)","v":"你仔细研读后，功法得到精进"}]
[{"$f":"IF(語言配置表!A1907=\"\",\"\",語言配置表!A1907)","v":1904},{"$f":"IF(語言配置表!A1907=\"\",\"CN_待填充内容\",語言配置表!B1907)","v":"法宝商店"}]
[{"$f":"IF(語言配置表!A1908=\"\",\"\",語言配置表!A1908)","v":1905},{"$f":"IF(語言配置表!A1908=\"\",\"CN_待填充内容\",語言配置表!B1908)","v":"功法商店"}]
[{"$f":"IF(語言配置表!A1909=\"\",\"\",語言配置表!A1909)","v":1906},{"$f":"IF(語言配置表!A1909=\"\",\"CN_待填充内容\",語言配置表!B1909)","v":"鲲鹏何在"}]
[{"$f":"IF(語言配置表!A1910=\"\",\"\",語言配置表!A1910)","v":1907},{"$f":"IF(語言配置表!A1910=\"\",\"CN_待填充内容\",語言配置表!B1910)","v":"北海迷径1"}]
[{"$f":"IF(語言配置表!A1911=\"\",\"\",語言配置表!A1911)","v":1908},{"$f":"IF(語言配置表!A1911=\"\",\"CN_待填充内容\",語言配置表!B1911)","v":"北海迷径2"}]
[{"$f":"IF(語言配置表!A1912=\"\",\"\",語言配置表!A1912)","v":1909},{"$f":"IF(語言配置表!A1912=\"\",\"CN_待填充内容\",語言配置表!B1912)","v":"古径阵法"}]
[{"$f":"IF(語言配置表!A1913=\"\",\"\",語言配置表!A1913)","v":1910},{"$f":"IF(語言配置表!A1913=\"\",\"CN_待填充内容\",語言配置表!B1913)","v":"找寻去北海的线索"}]
[{"$f":"IF(語言配置表!A1914=\"\",\"\",語言配置表!A1914)","v":1911},{"$f":"IF(語言配置表!A1914=\"\",\"CN_待填充内容\",語言配置表!B1914)","v":"击杀妖兽{0}/{1}"}]
[{"$f":"IF(語言配置表!A1915=\"\",\"\",語言配置表!A1915)","v":1912},{"$f":"IF(語言配置表!A1915=\"\",\"CN_待填充内容\",語言配置表!B1915)","v":"找到风灵珠{0}/{1}"}]
[{"$f":"IF(語言配置表!A1916=\"\",\"\",語言配置表!A1916)","v":1913},{"$f":"IF(語言配置表!A1916=\"\",\"CN_待填充内容\",語言配置表!B1916)","v":"达到境界{0}"}]
[{"$f":"IF(語言配置表!A1917=\"\",\"\",語言配置表!A1917)","v":1914},{"$f":"IF(語言配置表!A1917=\"\",\"CN_待填充内容\",語言配置表!B1917)","v":"神识未灭"}]
[{"$f":"IF(語言配置表!A1918=\"\",\"\",語言配置表!A1918)","v":1915},{"$f":"IF(語言配置表!A1918=\"\",\"CN_待填充内容\",語言配置表!B1918)","v":"御剑而行"}]
[{"$f":"IF(語言配置表!A1919=\"\",\"\",語言配置表!A1919)","v":1916},{"$f":"IF(語言配置表!A1919=\"\",\"CN_待填充内容\",語言配置表!B1919)","v":"雀笑大鹏"}]
[{"$f":"IF(語言配置表!A1920=\"\",\"\",語言配置表!A1920)","v":1917},{"$f":"IF(語言配置表!A1920=\"\",\"CN_待填充内容\",語言配置表!B1920)","v":"击败结界兽"}]
[{"$f":"IF(語言配置表!A1921=\"\",\"\",語言配置表!A1921)","v":1918},{"$f":"IF(語言配置表!A1921=\"\",\"CN_待填充内容\",語言配置表!B1921)","v":"人界"}]
[{"$f":"IF(語言配置表!A1922=\"\",\"\",語言配置表!A1922)","v":1919},{"$f":"IF(語言配置表!A1922=\"\",\"CN_待填充内容\",語言配置表!B1922)","v":"仙界"}]
[{"$f":"IF(語言配置表!A1923=\"\",\"\",語言配置表!A1923)","v":1920},{"$f":"IF(語言配置表!A1923=\"\",\"CN_待填充内容\",語言配置表!B1923)","v":"魔界"}]
[{"$f":"IF(語言配置表!A1924=\"\",\"\",語言配置表!A1924)","v":1921},{"$f":"IF(語言配置表!A1924=\"\",\"CN_待填充内容\",語言配置表!B1924)","v":"蓬莱岛"}]
[{"$f":"IF(語言配置表!A1925=\"\",\"\",語言配置表!A1925)","v":1922},{"$f":"IF(語言配置表!A1925=\"\",\"CN_待填充内容\",語言配置表!B1925)","v":"东海"}]
[{"$f":"IF(語言配置表!A1926=\"\",\"\",語言配置表!A1926)","v":1923},{"$f":"IF(語言配置表!A1926=\"\",\"CN_待填充内容\",語言配置表!B1926)","v":"无量界"}]
[{"$f":"IF(語言配置表!A1927=\"\",\"\",語言配置表!A1927)","v":1924},{"$f":"IF(語言配置表!A1927=\"\",\"CN_待填充内容\",語言配置表!B1927)","v":"碧霞仙屿"}]
[{"$f":"IF(語言配置表!A1928=\"\",\"\",語言配置表!A1928)","v":1925},{"$f":"IF(語言配置表!A1928=\"\",\"CN_待填充内容\",語言配置表!B1928)","v":"云渺港"}]
[{"$f":"IF(語言配置表!A1929=\"\",\"\",語言配置表!A1929)","v":1926},{"$f":"IF(語言配置表!A1929=\"\",\"CN_待填充内容\",語言配置表!B1929)","v":"青莲峰"}]
[{"$f":"IF(語言配置表!A1930=\"\",\"\",語言配置表!A1930)","v":1927},{"$f":"IF(語言配置表!A1930=\"\",\"CN_待填充内容\",語言配置表!B1930)","v":"月隐谷"}]
[{"$f":"IF(語言配置表!A1931=\"\",\"\",語言配置表!A1931)","v":1928},{"$f":"IF(語言配置表!A1931=\"\",\"CN_待填充内容\",語言配置表!B1931)","v":"龙吟渊"}]
[{"$f":"IF(語言配置表!A1932=\"\",\"\",語言配置表!A1932)","v":1929},{"$f":"IF(語言配置表!A1932=\"\",\"CN_待填充内容\",語言配置表!B1932)","v":"珊瑚灵礁"}]
[{"$f":"IF(語言配置表!A1933=\"\",\"\",語言配置表!A1933)","v":1930},{"$f":"IF(語言配置表!A1933=\"\",\"CN_待填充内容\",語言配置表!B1933)","v":"玄波岛"}]
[{"$f":"IF(語言配置表!A1934=\"\",\"\",語言配置表!A1934)","v":1931},{"$f":"IF(語言配置表!A1934=\"\",\"CN_待填充内容\",語言配置表!B1934)","v":"天心湖"}]
[{"$f":"IF(語言配置表!A1935=\"\",\"\",語言配置表!A1935)","v":1932},{"$f":"IF(語言配置表!A1935=\"\",\"CN_待填充内容\",語言配置表!B1935)","v":"翠微山"}]
[{"$f":"IF(語言配置表!A1936=\"\",\"\",語言配置表!A1936)","v":1933},{"$f":"IF(語言配置表!A1936=\"\",\"CN_待填充内容\",語言配置表!B1936)","v":"星落平原"}]
[{"$f":"IF(語言配置表!A1937=\"\",\"\",語言配置表!A1937)","v":1934},{"$f":"IF(語言配置表!A1937=\"\",\"CN_待填充内容\",語言配置表!B1937)","v":"无垢城"}]
[{"$f":"IF(語言配置表!A1938=\"\",\"\",語言配置表!A1938)","v":1935},{"$f":"IF(語言配置表!A1938=\"\",\"CN_待填充内容\",語言配置表!B1938)","v":"寂光林"}]
[{"$f":"IF(語言配置表!A1939=\"\",\"\",語言配置表!A1939)","v":1936},{"$f":"IF(語言配置表!A1939=\"\",\"CN_待填充内容\",語言配置表!B1939)","v":{"$error":"#N/A"}}]
[{"$f":"IF(語言配置表!A1940=\"\",\"\",語言配置表!A1940)","v":1937},{"$f":"IF(語言配置表!A1940=\"\",\"CN_待填充内容\",語言配置表!B1940)","v":{"$error":"#N/A"}}]
[{"$f":"IF(語言配置表!A1941=\"\",\"\",語言配置表!A1941)","v":1938},{"$f":"IF(語言配置表!A1941=\"\",\"CN_待填充内容\",語言配置表!B1941)","v":{"$error":"#N/A"}}]
[{"$f":"IF(語言配置表!A1942=\"\",\"\",語言配置表!A1942)","v":1939},{"$f":"IF(語言配置表!A1942=\"\",\"CN_待填充内容\",語言配置表!B1942)","v":{"$error":"#N/A"}}]
[{"$f":"IF(語言配置表!A1943=\"\",\"\",語言配置表!A1943)","v":1940},{"$f":"IF(語言配置表!A1943=\"\",\"CN_待填充内容\",語言配置表!B1943)","v":{"$error":"#N/A"}}]
[{"$f":"IF(語言配置表!A1944=\"\",\"\",語言配置表!A1944)","v":1941},{"$f":"IF(語言配置表!A1944=\"\",\"CN_待填充内容\",語言配置表!B1944)","v":{"$error":"#N/A"}}]
[{"$f":"IF(語言配置表!A1945=\"\",\"\",語言配置表!A1945)","v":1942},{"$f":"IF(語言配置表!A1945=\"\",\"CN_待填充内容\",語言配置表!B1945)","v":{"$error":"#N/A"}}]
[{"$f":"IF(語言配置表!A1946=\"\",\"\",語言配置表!A1946)","v":1943},{"$f":"IF(語言配置表!A1946=\"\",\"CN_待填充内容\",語言配置表!B1946)","v":{"$error":"#N/A"}}]
[{"$f":"IF(語言配置表!A1947=\"\",\"\",語言配置表!A1947)","v":1944},{"$f":"IF(語言配置表!A1947=\"\",\"CN_待填充内容\",語言配置表!B1947)","v":{"$error":"#N/A"}}]
[{"$f":"IF(語言配置表!A1948=\"\",\"\",語言配置表!A1948)","v":1945},{"$f":"IF(語言配置表!A1948=\"\",\"CN_待填充内容\",語言配置表!B1948)","v":"论道大会"}]
[{"$f":"IF(語言配置表!A1949=\"\",\"\",語言配置表!A1949)","v":1946},{"$f":"IF(語言配置表!A1949=\"\",\"CN_待填充内容\",語言配置表!B1949)","v":"仙山探险"}]
[{"$f":"IF(語言配置表!A1950=\"\",\"\",語言配置表!A1950)","v":1947},{"$f":"IF(語言配置表!A1950=\"\",\"CN_待填充内容\",語言配置表!B1950)","v":"好感度礼物1"}]
[{"$f":"IF(語言配置表!A1951=\"\",\"\",語言配置表!A1951)","v":1948},{"$f":"IF(語言配置表!A1951=\"\",\"CN_待填充内容\",語言配置表!B1951)","v":"好感度礼物2"}]
[{"$f":"IF(語言配置表!A1952=\"\",\"\",語言配置表!A1952)","v":1949},{"$f":"IF(語言配置表!A1952=\"\",\"CN_待填充内容\",語言配置表!B1952)","v":"道具描述_好感度礼物1"}]
[{"$f":"IF(語言配置表!A1953=\"\",\"\",語言配置表!A1953)","v":1950},{"$f":"IF(語言配置表!A1953=\"\",\"CN_待填充内容\",語言配置表!B1953)","v":"道具描述_好感度礼物2"}]
[{"$f":"IF(語言配置表!A1954=\"\",\"\",語言配置表!A1954)","v":1951},{"$f":"IF(語言配置表!A1954=\"\",\"CN_待填充内容\",語言配置表!B1954)","v":"心情礼物"}]
[{"$f":"IF(語言配置表!A1955=\"\",\"\",語言配置表!A1955)","v":1952},{"$f":"IF(語言配置表!A1955=\"\",\"CN_待填充内容\",語言配置表!B1955)","v":"道具描述_心情礼物"}]
[{"$f":"IF(語言配置表!A1956=\"\",\"\",語言配置表!A1956)","v":1953},{"$f":"IF(語言配置表!A1956=\"\",\"CN_待填充内容\",語言配置表!B1956)","v":"道友1"}]
[{"$f":"IF(語言配置表!A1957=\"\",\"\",語言配置表!A1957)","v":1954},{"$f":"IF(語言配置表!A1957=\"\",\"CN_待填充内容\",語言配置表!B1957)","v":"道友2"}]
[{"$f":"IF(語言配置表!A1958=\"\",\"\",語言配置表!A1958)","v":1955},{"$f":"IF(語言配置表!A1958=\"\",\"CN_待填充内容\",語言配置表!B1958)","v":"道友3"}]
[{"$f":"IF(語言配置表!A1959=\"\",\"\",語言配置表!A1959)","v":1956},{"$f":"IF(語言配置表!A1959=\"\",\"CN_待填充内容\",語言配置表!B1959)","v":"道友4"}]
[{"$f":"IF(語言配置表!A1960=\"\",\"\",語言配置表!A1960)","v":1957},{"$f":"IF(語言配置表!A1960=\"\",\"CN_待填充内容\",語言配置表!B1960)","v":"道友5"}]
[{"$f":"IF(語言配置表!A1961=\"\",\"\",語言配置表!A1961)","v":1958},{"$f":"IF(語言配置表!A1961=\"\",\"CN_待填充内容\",語言配置表!B1961)","v":"道友6"}]
[{"$f":"IF(語言配置表!A1962=\"\",\"\",語言配置表!A1962)","v":1959},{"$f":"IF(語言配置表!A1962=\"\",\"CN_待填充内容\",語言配置表!B1962)","v":"道友7"}]
[{"$f":"IF(語言配置表!A1963=\"\",\"\",語言配置表!A1963)","v":1960},{"$f":"IF(語言配置表!A1963=\"\",\"CN_待填充内容\",語言配置表!B1963)","v":"道友8"}]
[{"$f":"IF(語言配置表!A1964=\"\",\"\",語言配置表!A1964)","v":1961},{"$f":"IF(語言配置表!A1964=\"\",\"CN_待填充内容\",語言配置表!B1964)","v":"道友9"}]
[{"$f":"IF(語言配置表!A1965=\"\",\"\",語言配置表!A1965)","v":1962},{"$f":"IF(語言配置表!A1965=\"\",\"CN_待填充内容\",語言配置表!B1965)","v":"道友10"}]
[{"$f":"IF(語言配置表!A1966=\"\",\"\",語言配置表!A1966)","v":1963},{"$f":"IF(語言配置表!A1966=\"\",\"CN_待填充内容\",語言配置表!B1966)","v":"道友_1_介绍文本1"}]
[{"$f":"IF(語言配置表!A1967=\"\",\"\",語言配置表!A1967)","v":1964},{"$f":"IF(語言配置表!A1967=\"\",\"CN_待填充内容\",語言配置表!B1967)","v":"道友_1_介绍文本2"}]
[{"$f":"IF(語言配置表!A1968=\"\",\"\",語言配置表!A1968)","v":1965},{"$f":"IF(語言配置表!A1968=\"\",\"CN_待填充内容\",語言配置表!B1968)","v":"道友_1_介绍文本3"}]
[{"$f":"IF(語言配置表!A1969=\"\",\"\",語言配置表!A1969)","v":1966},{"$f":"IF(語言配置表!A1969=\"\",\"CN_待填充内容\",語言配置表!B1969)","v":"道友_2_介绍文本1"}]
[{"$f":"IF(語言配置表!A1970=\"\",\"\",語言配置表!A1970)","v":1967},{"$f":"IF(語言配置表!A1970=\"\",\"CN_待填充内容\",語言配置表!B1970)","v":"道友_2_介绍文本2"}]
[{"$f":"IF(語言配置表!A1971=\"\",\"\",語言配置表!A1971)","v":1968},{"$f":"IF(語言配置表!A1971=\"\",\"CN_待填充内容\",語言配置表!B1971)","v":"道友_2_介绍文本3"}]
[{"$f":"IF(語言配置表!A1972=\"\",\"\",語言配置表!A1972)","v":1969},{"$f":"IF(語言配置表!A1972=\"\",\"CN_待填充内容\",語言配置表!B1972)","v":"道友_3_介绍文本1"}]
[{"$f":"IF(語言配置表!A1973=\"\",\"\",語言配置表!A1973)","v":1970},{"$f":"IF(語言配置表!A1973=\"\",\"CN_待填充内容\",語言配置表!B1973)","v":"道友_3_介绍文本2"}]
[{"$f":"IF(語言配置表!A1974=\"\",\"\",語言配置表!A1974)","v":1971},{"$f":"IF(語言配置表!A1974=\"\",\"CN_待填充内容\",語言配置表!B1974)","v":"道友_3_介绍文本3"}]
[{"$f":"IF(語言配置表!A1975=\"\",\"\",語言配置表!A1975)","v":1972},{"$f":"IF(語言配置表!A1975=\"\",\"CN_待填充内容\",語言配置表!B1975)","v":"道友_4_介绍文本1"}]
[{"$f":"IF(語言配置表!A1976=\"\",\"\",語言配置表!A1976)","v":1973},{"$f":"IF(語言配置表!A1976=\"\",\"CN_待填充内容\",語言配置表!B1976)","v":"道友_4_介绍文本2"}]
[{"$f":"IF(語言配置表!A1977=\"\",\"\",語言配置表!A1977)","v":1974},{"$f":"IF(語言配置表!A1977=\"\",\"CN_待填充内容\",語言配置表!B1977)","v":"道友_4_介绍文本3"}]
[{"$f":"IF(語言配置表!A1978=\"\",\"\",語言配置表!A1978)","v":1975},{"$f":"IF(語言配置表!A1978=\"\",\"CN_待填充内容\",語言配置表!B1978)","v":"道友_5_介绍文本1"}]
[{"$f":"IF(語言配置表!A1979=\"\",\"\",語言配置表!A1979)","v":1976},{"$f":"IF(語言配置表!A1979=\"\",\"CN_待填充内容\",語言配置表!B1979)","v":"道友_5_介绍文本2"}]
[{"$f":"IF(語言配置表!A1980=\"\",\"\",語言配置表!A1980)","v":1977},{"$f":"IF(語言配置表!A1980=\"\",\"CN_待填充内容\",語言配置表!B1980)","v":"道友_5_介绍文本3"}]
[{"$f":"IF(語言配置表!A1981=\"\",\"\",語言配置表!A1981)","v":1978},{"$f":"IF(語言配置表!A1981=\"\",\"CN_待填充内容\",語言配置表!B1981)","v":"道友_6_介绍文本1"}]
[{"$f":"IF(語言配置表!A1982=\"\",\"\",語言配置表!A1982)","v":1979},{"$f":"IF(語言配置表!A1982=\"\",\"CN_待填充内容\",語言配置表!B1982)","v":"道友_6_介绍文本2"}]
[{"$f":"IF(語言配置表!A1983=\"\",\"\",語言配置表!A1983)","v":1980},{"$f":"IF(語言配置表!A1983=\"\",\"CN_待填充内容\",語言配置表!B1983)","v":"道友_6_介绍文本3"}]
[{"$f":"IF(語言配置表!A1984=\"\",\"\",語言配置表!A1984)","v":1981},{"$f":"IF(語言配置表!A1984=\"\",\"CN_待填充内容\",語言配置表!B1984)","v":"道友_7_介绍文本1"}]
[{"$f":"IF(語言配置表!A1985=\"\",\"\",語言配置表!A1985)","v":1982},{"$f":"IF(語言配置表!A1985=\"\",\"CN_待填充内容\",語言配置表!B1985)","v":"道友_7_介绍文本2"}]
[{"$f":"IF(語言配置表!A1986=\"\",\"\",語言配置表!A1986)","v":1983},{"$f":"IF(語言配置表!A1986=\"\",\"CN_待填充内容\",語言配置表!B1986)","v":"道友_7_介绍文本3"}]
[{"$f":"IF(語言配置表!A1987=\"\",\"\",語言配置表!A1987)","v":1984},{"$f":"IF(語言配置表!A1987=\"\",\"CN_待填充内容\",語言配置表!B1987)","v":"道友_8_介绍文本1"}]
[{"$f":"IF(語言配置表!A1988=\"\",\"\",語言配置表!A1988)","v":1985},{"$f":"IF(語言配置表!A1988=\"\",\"CN_待填充内容\",語言配置表!B1988)","v":"道友_8_介绍文本2"}]
[{"$f":"IF(語言配置表!A1989=\"\",\"\",語言配置表!A1989)","v":1986},{"$f":"IF(語言配置表!A1989=\"\",\"CN_待填充内容\",語言配置表!B1989)","v":"道友_8_介绍文本3"}]
[{"$f":"IF(語言配置表!A1990=\"\",\"\",語言配置表!A1990)","v":1987},{"$f":"IF(語言配置表!A1990=\"\",\"CN_待填充内容\",語言配置表!B1990)","v":"道友_9_介绍文本1"}]
[{"$f":"IF(語言配置表!A1991=\"\",\"\",語言配置表!A1991)","v":1988},{"$f":"IF(語言配置表!A1991=\"\",\"CN_待填充内容\",語言配置表!B1991)","v":"道友_9_介绍文本2"}]
[{"$f":"IF(語言配置表!A1992=\"\",\"\",語言配置表!A1992)","v":1989},{"$f":"IF(語言配置表!A1992=\"\",\"CN_待填充内容\",語言配置表!B1992)","v":"道友_9_介绍文本3"}]
[{"$f":"IF(語言配置表!A1993=\"\",\"\",語言配置表!A1993)","v":1990},{"$f":"IF(語言配置表!A1993=\"\",\"CN_待填充内容\",語言配置表!B1993)","v":"道友_10_介绍文本1"}]
[{"$f":"IF(語言配置表!A1994=\"\",\"\",語言配置表!A1994)","v":1991},{"$f":"IF(語言配置表!A1994=\"\",\"CN_待填充内容\",語言配置表!B1994)","v":"道友_10_介绍文本2"}]
[{"$f":"IF(語言配置表!A1995=\"\",\"\",語言配置表!A1995)","v":1992},{"$f":"IF(語言配置表!A1995=\"\",\"CN_待填充内容\",語言配置表!B1995)","v":"道友_10_介绍文本3"}]
[{"$f":"IF(語言配置表!A1996=\"\",\"\",語言配置表!A1996)","v":1993},{"$f":"IF(語言配置表!A1996=\"\",\"CN_待填充内容\",語言配置表!B1996)","v":"赠送修为"}]
[{"$f":"IF(語言配置表!A1997=\"\",\"\",語言配置表!A1997)","v":1994},{"$f":"IF(語言配置表!A1997=\"\",\"CN_待填充内容\",語言配置表!B1997)","v":"赠送修为"}]
[{"$f":"IF(語言配置表!A1998=\"\",\"\",語言配置表!A1998)","v":1995},{"$f":"IF(語言配置表!A1998=\"\",\"CN_待填充内容\",語言配置表!B1998)","v":"赠送修为"}]
[{"$f":"IF(語言配置表!A1999=\"\",\"\",語言配置表!A1999)","v":1996},{"$f":"IF(語言配置表!A1999=\"\",\"CN_待填充内容\",語言配置表!B1999)","v":"赠送修为"}]
[{"$f":"IF(語言配置表!A2000=\"\",\"\",語言配置表!A2000)","v":1997},{"$f":"IF(語言配置表!A2000=\"\",\"CN_待填充内容\",語言配置表!B2000)","v":"赠送铜钱"}]
[{"$f":"IF(語言配置表!A2001=\"\",\"\",語言配置表!A2001)","v":1998},{"$f":"IF(語言配置表!A2001=\"\",\"CN_待填充内容\",語言配置表!B2001)","v":"赠送铜钱"}]
[{"$f":"IF(語言配置表!A2002=\"\",\"\",語言配置表!A2002)","v":1999},{"$f":"IF(語言配置表!A2002=\"\",\"CN_待填充内容\",語言配置表!B2002)","v":"赠送铜钱"}]
[{"$f":"IF(語言配置表!A2003=\"\",\"\",語言配置表!A2003)","v":2000},{"$f":"IF(語言配置表!A2003=\"\",\"CN_待填充内容\",語言配置表!B2003)","v":"赠送铜钱"}]
[{"$f":"IF(語言配置表!A2004=\"\",\"\",語言配置表!A2004)","v":2001},{"$f":"IF(語言配置表!A2004=\"\",\"CN_待填充内容\",語言配置表!B2004)","v":"赠送灵气"}]
[{"$f":"IF(語言配置表!A2005=\"\",\"\",語言配置表!A2005)","v":2002},{"$f":"IF(語言配置表!A2005=\"\",\"CN_待填充内容\",語言配置表!B2005)","v":"赠送灵气"}]
[{"$f":"IF(語言配置表!A2006=\"\",\"\",語言配置表!A2006)","v":2003},{"$f":"IF(語言配置表!A2006=\"\",\"CN_待填充内容\",語言配置表!B2006)","v":"赠送灵气"}]
[{"$f":"IF(語言配置表!A2007=\"\",\"\",語言配置表!A2007)","v":2004},{"$f":"IF(語言配置表!A2007=\"\",\"CN_待填充内容\",語言配置表!B2007)","v":"赠送灵气"}]
[{"$f":"IF(語言配置表!A2008=\"\",\"\",語言配置表!A2008)","v":2005},{"$f":"IF(語言配置表!A2008=\"\",\"CN_待填充内容\",語言配置表!B2008)","v":"赠送灵韵"}]
[{"$f":"IF(語言配置表!A2009=\"\",\"\",語言配置表!A2009)","v":2006},{"$f":"IF(語言配置表!A2009=\"\",\"CN_待填充内容\",語言配置表!B2009)","v":"赠送灵韵"}]
[{"$f":"IF(語言配置表!A2010=\"\",\"\",語言配置表!A2010)","v":2007},{"$f":"IF(語言配置表!A2010=\"\",\"CN_待填充内容\",語言配置表!B2010)","v":"赠送灵韵"}]
[{"$f":"IF(語言配置表!A2011=\"\",\"\",語言配置表!A2011)","v":2008},{"$f":"IF(語言配置表!A2011=\"\",\"CN_待填充内容\",語言配置表!B2011)","v":"赠送灵韵"}]
[{"$f":"IF(語言配置表!A2012=\"\",\"\",語言配置表!A2012)","v":2009},{"$f":"IF(語言配置表!A2012=\"\",\"CN_待填充内容\",語言配置表!B2012)","v":"这位道友离开时会给与玩家少量修为奖励"}]
[{"$f":"IF(語言配置表!A2013=\"\",\"\",語言配置表!A2013)","v":2010},{"$f":"IF(語言配置表!A2013=\"\",\"CN_待填充内容\",語言配置表!B2013)","v":"这位道友离开时会给与玩家一些修为奖励"}]
[{"$f":"IF(語言配置表!A2014=\"\",\"\",語言配置表!A2014)","v":2011},{"$f":"IF(語言配置表!A2014=\"\",\"CN_待填充内容\",語言配置表!B2014)","v":"这位道友离开时会给与玩家很多修为奖励"}]
[{"$f":"IF(語言配置表!A2015=\"\",\"\",語言配置表!A2015)","v":2012},{"$f":"IF(語言配置表!A2015=\"\",\"CN_待填充内容\",語言配置表!B2015)","v":"这位道友离开时会给与玩家丰厚修为奖励"}]
[{"$f":"IF(語言配置表!A2016=\"\",\"\",語言配置表!A2016)","v":2013},{"$f":"IF(語言配置表!A2016=\"\",\"CN_待填充内容\",語言配置表!B2016)","v":"这位道友离开时会给与玩家少量铜钱奖励"}]
[{"$f":"IF(語言配置表!A2017=\"\",\"\",語言配置表!A2017)","v":2014},{"$f":"IF(語言配置表!A2017=\"\",\"CN_待填充内容\",語言配置表!B2017)","v":"这位道友离开时会给与玩家一些铜钱奖励"}]
[{"$f":"IF(語言配置表!A2018=\"\",\"\",語言配置表!A2018)","v":2015},{"$f":"IF(語言配置表!A2018=\"\",\"CN_待填充内容\",語言配置表!B2018)","v":"这位道友离开时会给与玩家很多铜钱奖励"}]
[{"$f":"IF(語言配置表!A2019=\"\",\"\",語言配置表!A2019)","v":2016},{"$f":"IF(語言配置表!A2019=\"\",\"CN_待填充内容\",語言配置表!B2019)","v":"这位道友离开时会给与玩家丰厚铜钱奖励"}]
[{"$f":"IF(語言配置表!A2020=\"\",\"\",語言配置表!A2020)","v":2017},{"$f":"IF(語言配置表!A2020=\"\",\"CN_待填充内容\",語言配置表!B2020)","v":"这位道友离开时会给与玩家少量功法灵气奖励"}]
[{"$f":"IF(語言配置表!A2021=\"\",\"\",語言配置表!A2021)","v":2018},{"$f":"IF(語言配置表!A2021=\"\",\"CN_待填充内容\",語言配置表!B2021)","v":"这位道友离开时会给与玩家一些功法灵气奖励"}]
[{"$f":"IF(語言配置表!A2022=\"\",\"\",語言配置表!A2022)","v":2019},{"$f":"IF(語言配置表!A2022=\"\",\"CN_待填充内容\",語言配置表!B2022)","v":"这位道友离开时会给与玩家很多功法灵气奖励"}]
[{"$f":"IF(語言配置表!A2023=\"\",\"\",語言配置表!A2023)","v":2020},{"$f":"IF(語言配置表!A2023=\"\",\"CN_待填充内容\",語言配置表!B2023)","v":"这位道友离开时会给与玩家丰厚功法灵气奖励"}]
[{"$f":"IF(語言配置表!A2024=\"\",\"\",語言配置表!A2024)","v":2021},{"$f":"IF(語言配置表!A2024=\"\",\"CN_待填充内容\",語言配置表!B2024)","v":"这位道友离开时会给与玩家少量法宝灵韵奖励"}]
[{"$f":"IF(語言配置表!A2025=\"\",\"\",語言配置表!A2025)","v":2022},{"$f":"IF(語言配置表!A2025=\"\",\"CN_待填充内容\",語言配置表!B2025)","v":"这位道友离开时会给与玩家一些法宝灵韵奖励"}]
[{"$f":"IF(語言配置表!A2026=\"\",\"\",語言配置表!A2026)","v":2023},{"$f":"IF(語言配置表!A2026=\"\",\"CN_待填充内容\",語言配置表!B2026)","v":"这位道友离开时会给与玩家很多法宝灵韵奖励"}]
[{"$f":"IF(語言配置表!A2027=\"\",\"\",語言配置表!A2027)","v":2024},{"$f":"IF(語言配置表!A2027=\"\",\"CN_待填充内容\",語言配置表!B2027)","v":"这位道友离开时会给与玩家丰厚法宝灵韵奖励"}]
[{"$f":"IF(語言配置表!A2028=\"\",\"\",語言配置表!A2028)","v":2025},{"$f":"IF(語言配置表!A2028=\"\",\"CN_待填充内容\",語言配置表!B2028)","v":"好感度1"}]
[{"$f":"IF(語言配置表!A2029=\"\",\"\",語言配置表!A2029)","v":2026},{"$f":"IF(語言配置表!A2029=\"\",\"CN_待填充内容\",語言配置表!B2029)","v":"好感度2"}]
[{"$f":"IF(語言配置表!A2030=\"\",\"\",語言配置表!A2030)","v":2027},{"$f":"IF(語言配置表!A2030=\"\",\"CN_待填充内容\",語言配置表!B2030)","v":"好感度3"}]
[{"$f":"IF(語言配置表!A2031=\"\",\"\",語言配置表!A2031)","v":2028},{"$f":"IF(語言配置表!A2031=\"\",\"CN_待填充内容\",語言配置表!B2031)","v":"好感度4"}]
[{"$f":"IF(語言配置表!A2032=\"\",\"\",語言配置表!A2032)","v":2029},{"$f":"IF(語言配置表!A2032=\"\",\"CN_待填充内容\",語言配置表!B2032)","v":"好感度5"}]
[{"$f":"IF(語言配置表!A2033=\"\",\"\",語言配置表!A2033)","v":2030},{"$f":"IF(語言配置表!A2033=\"\",\"CN_待填充内容\",語言配置表!B2033)","v":"好感度6"}]
[{"$f":"IF(語言配置表!A2034=\"\",\"\",語言配置表!A2034)","v":2031},{"$f":"IF(語言配置表!A2034=\"\",\"CN_待填充内容\",語言配置表!B2034)","v":"好感度7"}]
[{"$f":"IF(語言配置表!A2035=\"\",\"\",語言配置表!A2035)","v":2032},{"$f":"IF(語言配置表!A2035=\"\",\"CN_待填充内容\",語言配置表!B2035)","v":"好感度8"}]
[{"$f":"IF(語言配置表!A2036=\"\",\"\",語言配置表!A2036)","v":2033},{"$f":"IF(語言配置表!A2036=\"\",\"CN_待填充内容\",語言配置表!B2036)","v":"好感度9"}]
[{"$f":"IF(語言配置表!A2037=\"\",\"\",語言配置表!A2037)","v":2034},{"$f":"IF(語言配置表!A2037=\"\",\"CN_待填充内容\",語言配置表!B2037)","v":"好感度10"}]
[{"$f":"IF(語言配置表!A2038=\"\",\"\",語言配置表!A2038)","v":2035},{"$f":"IF(語言配置表!A2038=\"\",\"CN_待填充内容\",語言配置表!B2038)","v":"幽谷剑鸣"}]
[{"$f":"IF(語言配置表!A2039=\"\",\"\",語言配置表!A2039)","v":2036},{"$f":"IF(語言配置表!A2039=\"\",\"CN_待填充内容\",語言配置表!B2039)","v":"你在闭关修炼时，感受到一股凌厉的剑意波动。深入探查，发现一名白衣剑修“清霜”盘坐于谷中，周围剑气环绕，正与一柄散发不祥气息的灵剑对峙。她似在参悟剑诀，却灵气不足，剑灵桀骜。"}]
[{"$f":"IF(語言配置表!A2040=\"\",\"\",語言配置表!A2040)","v":2037},{"$f":"IF(語言配置表!A2040=\"\",\"CN_待填充内容\",語言配置表!B2040)","v":"你上前以剑意对抗剑灵"}]
[{"$f":"IF(語言配置表!A2041=\"\",\"\",語言配置表!A2041)","v":2038},{"$f":"IF(語言配置表!A2041=\"\",\"CN_待填充内容\",語言配置表!B2041)","v":"成功压制剑灵，清霜赠你“霜华剑符”并结下道友之谊"}]
[{"$f":"IF(語言配置表!A2042=\"\",\"\",語言配置表!A2042)","v":2039},{"$f":"IF(語言配置表!A2042=\"\",\"CN_待填充内容\",語言配置表!B2042)","v":"你察觉谷中灵气匮乏，清霜剑意凝滞。神识探查得知，附近秘境可采集“玄冰花”"}]
[{"$f":"IF(語言配置表!A2043=\"\",\"\",語言配置表!A2043)","v":2040},{"$f":"IF(語言配置表!A2043=\"\",\"CN_待填充内容\",語言配置表!B2043)","v":"献上玄冰花，清霜炼化灵气突破瓶颈，赠你“玄霜剑意”"}]
[{"$f":"IF(語言配置表!A2044=\"\",\"\",語言配置表!A2044)","v":2041},{"$f":"IF(語言配置表!A2044=\"\",\"CN_待填充内容\",語言配置表!B2044)","v":"挑战剑灵"}]
[{"$f":"IF(語言配置表!A2045=\"\",\"\",語言配置表!A2045)","v":2042},{"$f":"IF(語言配置表!A2045=\"\",\"CN_待填充内容\",語言配置表!B2045)","v":"收集灵材"}]
[{"$f":"IF(語言配置表!A2046=\"\",\"\",語言配置表!A2046)","v":2043},{"$f":"IF(語言配置表!A2046=\"\",\"CN_待填充内容\",語言配置表!B2046)","v":"开心"}]
[{"$f":"IF(語言配置表!A2047=\"\",\"\",語言配置表!A2047)","v":2044},{"$f":"IF(語言配置表!A2047=\"\",\"CN_待填充内容\",語言配置表!B2047)","v":"一般"}]
[{"$f":"IF(語言配置表!A2048=\"\",\"\",語言配置表!A2048)","v":2045},{"$f":"IF(語言配置表!A2048=\"\",\"CN_待填充内容\",語言配置表!B2048)","v":"失落"}]
[{"$f":"IF(語言配置表!A2049=\"\",\"\",語言配置表!A2049)","v":2046},{"$f":"IF(語言配置表!A2049=\"\",\"CN_待填充内容\",語言配置表!B2049)","v":"生命增幅"}]
[{"$f":"IF(語言配置表!A2050=\"\",\"\",語言配置表!A2050)","v":2047},{"$f":"IF(語言配置表!A2050=\"\",\"CN_待填充内容\",語言配置表!B2050)","v":"攻击增幅"}]
[{"$f":"IF(語言配置表!A2051=\"\",\"\",語言配置表!A2051)","v":2048},{"$f":"IF(語言配置表!A2051=\"\",\"CN_待填充内容\",語言配置表!B2051)","v":"防御增幅"}]
[{"$f":"IF(語言配置表!A2052=\"\",\"\",語言配置表!A2052)","v":2049},{"$f":"IF(語言配置表!A2052=\"\",\"CN_待填充内容\",語言配置表!B2052)","v":"金之灵根"}]
[{"$f":"IF(語言配置表!A2053=\"\",\"\",語言配置表!A2053)","v":2050},{"$f":"IF(語言配置表!A2053=\"\",\"CN_待填充内容\",語言配置表!B2053)","v":"水之灵根"}]
[{"$f":"IF(語言配置表!A2054=\"\",\"\",語言配置表!A2054)","v":2051},{"$f":"IF(語言配置表!A2054=\"\",\"CN_待填充内容\",語言配置表!B2054)","v":"木之灵根"}]
[{"$f":"IF(語言配置表!A2055=\"\",\"\",語言配置表!A2055)","v":2052},{"$f":"IF(語言配置表!A2055=\"\",\"CN_待填充内容\",語言配置表!B2055)","v":"火之灵根"}]
[{"$f":"IF(語言配置表!A2056=\"\",\"\",語言配置表!A2056)","v":2053},{"$f":"IF(語言配置表!A2056=\"\",\"CN_待填充内容\",語言配置表!B2056)","v":"土之灵根"}]
[{"$f":"IF(語言配置表!A2057=\"\",\"\",語言配置表!A2057)","v":2054},{"$f":"IF(語言配置表!A2057=\"\",\"CN_待填充内容\",語言配置表!B2057)","v":"玩家生命+{0}%"}]
[{"$f":"IF(語言配置表!A2058=\"\",\"\",語言配置表!A2058)","v":2055},{"$f":"IF(語言配置表!A2058=\"\",\"CN_待填充内容\",語言配置表!B2058)","v":"玩家攻击+{0}%"}]
[{"$f":"IF(語言配置表!A2059=\"\",\"\",語言配置表!A2059)","v":2056},{"$f":"IF(語言配置表!A2059=\"\",\"CN_待填充内容\",語言配置表!B2059)","v":"玩家防御+{0}%"}]
[{"$f":"IF(語言配置表!A2060=\"\",\"\",語言配置表!A2060)","v":2057},{"$f":"IF(語言配置表!A2060=\"\",\"CN_待填充内容\",語言配置表!B2060)","v":"玩家金灵根+{0}"}]
[{"$f":"IF(語言配置表!A2061=\"\",\"\",語言配置表!A2061)","v":2058},{"$f":"IF(語言配置表!A2061=\"\",\"CN_待填充内容\",語言配置表!B2061)","v":"玩家水灵根+{0}"}]
[{"$f":"IF(語言配置表!A2062=\"\",\"\",語言配置表!A2062)","v":2059},{"$f":"IF(語言配置表!A2062=\"\",\"CN_待填充内容\",語言配置表!B2062)","v":"玩家木灵根+{0}"}]
[{"$f":"IF(語言配置表!A2063=\"\",\"\",語言配置表!A2063)","v":2060},{"$f":"IF(語言配置表!A2063=\"\",\"CN_待填充内容\",語言配置表!B2063)","v":"玩家火灵根+{0}"}]
[{"$f":"IF(語言配置表!A2064=\"\",\"\",語言配置表!A2064)","v":2061},{"$f":"IF(語言配置表!A2064=\"\",\"CN_待填充内容\",語言配置表!B2064)","v":"玩家土灵根+{0}"}]
[{"$f":"IF(語言配置表!A2065=\"\",\"\",語言配置表!A2065)","v":2062},{"$f":"IF(語言配置表!A2065=\"\",\"CN_待填充内容\",語言配置表!B2065)","v":"这位道友离开时有{0}%概率赠与玩家奖励"}]
[{"$f":"IF(語言配置表!A2066=\"\",\"\",語言配置表!A2066)","v":2063},{"$f":"IF(語言配置表!A2066=\"\",\"CN_待填充内容\",語言配置表!B2066)","v":"赠送概率"}]
[{"$f":"IF(語言配置表!A2067=\"\",\"\",語言配置表!A2067)","v":2064},{"$f":"IF(語言配置表!A2067=\"\",\"CN_待填充内容\",語言配置表!B2067)","v":"赠送概率"}]
[{"$f":"IF(語言配置表!A2068=\"\",\"\",語言配置表!A2068)","v":2065},{"$f":"IF(語言配置表!A2068=\"\",\"CN_待填充内容\",語言配置表!B2068)","v":"赠送概率"}]
[{"$f":"IF(語言配置表!A2069=\"\",\"\",語言配置表!A2069)","v":2066},{"$f":"IF(語言配置表!A2069=\"\",\"CN_待填充内容\",語言配置表!B2069)","v":"赠送概率"}]
[{"$f":"IF(語言配置表!A2070=\"\",\"\",語言配置表!A2070)","v":2067},{"$f":"IF(語言配置表!A2070=\"\",\"CN_待填充内容\",語言配置表!B2070)","v":"惠子.没用的大葫芦"}]
[{"$f":"IF(語言配置表!A2071=\"\",\"\",語言配置表!A2071)","v":2068},{"$f":"IF(語言配置表!A2071=\"\",\"CN_待填充内容\",語言配置表!B2071)","v":"惠子种的葫芦没用，他非常生气"}]
[{"$f":"IF(語言配置表!A2072=\"\",\"\",語言配置表!A2072)","v":2069},{"$f":"IF(語言配置表!A2072=\"\",\"CN_待填充内容\",語言配置表!B2072)","v":"发现魔修"}]
[{"$f":"IF(語言配置表!A2073=\"\",\"\",語言配置表!A2073)","v":2070},{"$f":"IF(語言配置表!A2073=\"\",\"CN_待填充内容\",語言配置表!B2073)","v":"发现一群魔修，正在夺人钱财"}]
[{"$f":"IF(語言配置表!A2074=\"\",\"\",語言配置表!A2074)","v":2071},{"$f":"IF(語言配置表!A2074=\"\",\"CN_待填充内容\",語言配置表!B2074)","v":"魔修"}]
[{"$f":"IF(語言配置表!A2075=\"\",\"\",語言配置表!A2075)","v":2072},{"$f":"IF(語言配置表!A2075=\"\",\"CN_待填充内容\",語言配置表!B2075)","v":"打败魔休"}]
[{"$f":"IF(語言配置表!A2076=\"\",\"\",語言配置表!A2076)","v":2073},{"$f":"IF(語言配置表!A2076=\"\",\"CN_待填充内容\",語言配置表!B2076)","v":"和惠子交谈"}]
[{"$f":"IF(語言配置表!A2077=\"\",\"\",語言配置表!A2077)","v":2074},{"$f":"IF(語言配置表!A2077=\"\",\"CN_待填充内容\",語言配置表!B2077)","v":"惠子种的葫芦没用，他非常生气，需要打败魔休"}]
[{"$f":"IF(語言配置表!A2078=\"\",\"\",語言配置表!A2078)","v":2075},{"$f":"IF(語言配置表!A2078=\"\",\"CN_待填充内容\",語言配置表!B2078)","v":"接受任务"}]
[{"$f":"IF(語言配置表!A2079=\"\",\"\",語言配置表!A2079)","v":2076},{"$f":"IF(語言配置表!A2079=\"\",\"CN_待填充内容\",語言配置表!B2079)","v":"出现Boss魔修"}]
[{"$f":"IF(語言配置表!A2080=\"\",\"\",語言配置表!A2080)","v":2077},{"$f":"IF(語言配置表!A2080=\"\",\"CN_待填充内容\",語言配置表!B2080)","v":"打败魔修"}]
[{"$f":"IF(語言配置表!A2081=\"\",\"\",語言配置表!A2081)","v":2078},{"$f":"IF(語言配置表!A2081=\"\",\"CN_待填充内容\",語言配置表!B2081)","v":"- 拥有金币{0}/{1}"}]
[{"$f":"IF(語言配置表!A2082=\"\",\"\",語言配置表!A2082)","v":2079},{"$f":"IF(語言配置表!A2082=\"\",\"CN_待填充内容\",語言配置表!B2082)","v":"- 达到境界：筑基-中期{0}/{1}"}]
[{"$f":"IF(語言配置表!A2083=\"\",\"\",語言配置表!A2083)","v":2080},{"$f":"IF(語言配置表!A2083=\"\",\"CN_待填充内容\",語言配置表!B2083)","v":"- 击杀魔休{0}/{1}"}]
[{"$f":"IF(語言配置表!A2084=\"\",\"\",語言配置表!A2084)","v":2081},{"$f":"IF(語言配置表!A2084=\"\",\"CN_待填充内容\",語言配置表!B2084)","v":"- 获得钻石{0}/{1}"}]
[{"$f":"IF(語言配置表!A2085=\"\",\"\",語言配置表!A2085)","v":2082},{"$f":"IF(語言配置表!A2085=\"\",\"CN_待填充内容\",語言配置表!B2085)","v":"- 使用神识{0}/{1}"}]
[{"$f":"IF(語言配置表!A2086=\"\",\"\",語言配置表!A2086)","v":2083},{"$f":"IF(語言配置表!A2086=\"\",\"CN_待填充内容\",語言配置表!B2086)","v":"北冥有鱼，其名为鲲……"}]
[{"$f":"IF(語言配置表!A2087=\"\",\"\",語言配置表!A2087)","v":2084},{"$f":"IF(語言配置表!A2087=\"\",\"CN_待填充内容\",語言配置表!B2087)","v":"不过北海遥远，何时能寻得鲲鹏的踪迹。"}]
[{"$f":"IF(語言配置表!A2088=\"\",\"\",語言配置表!A2088)","v":2085},{"$f":"IF(語言配置表!A2088=\"\",\"CN_待填充内容\",語言配置表!B2088)","v":"好在我的神识尚在，可探天地，再加上刚刚的风铃，或许能寻得前路线索。"}]
[{"$f":"IF(語言配置表!A2089=\"\",\"\",語言配置表!A2089)","v":2086},{"$f":"IF(語言配置表!A2089=\"\",\"CN_待填充内容\",語言配置表!B2089)","v":"使用风铃唤醒还未泯灭的神识"}]
[{"$f":"IF(語言配置表!A2090=\"\",\"\",語言配置表!A2090)","v":2087},{"$f":"IF(語言配置表!A2090=\"\",\"CN_待填充内容\",語言配置表!B2090)","v":"第一章.逍遥游"}]
[{"$f":"IF(語言配置表!A2091=\"\",\"\",語言配置表!A2091)","v":2088},{"$f":"IF(語言配置表!A2091=\"\",\"CN_待填充内容\",語言配置表!B2091)","v":"无用的大葫芦"}]
[{"$f":"IF(語言配置表!A2092=\"\",\"\",語言配置表!A2092)","v":2089},{"$f":"IF(語言配置表!A2092=\"\",\"CN_待填充内容\",語言配置表!B2092)","v":"多次渡劫失败的你，误入“无何有之乡”，在这里受到了列子的指引，踏上了寻找七道心境的修仙之路。"}]
[{"$f":"IF(語言配置表!A2093=\"\",\"\",語言配置表!A2093)","v":2090},{"$f":"IF(語言配置表!A2093=\"\",\"CN_待填充内容\",語言配置表!B2093)","v":"惠子种出了巨大葫芦，他觉得毫无用处，非常生气！"}]
[{"$f":"IF(語言配置表!A2094=\"\",\"\",語言配置表!A2094)","v":2091},{"$f":"IF(語言配置表!A2094=\"\",\"CN_待填充内容\",語言配置表!B2094)","v":"前往妖兽盘踞的地方"}]
[{"$f":"IF(語言配置表!A2095=\"\",\"\",語言配置表!A2095)","v":2092},{"$f":"IF(語言配置表!A2095=\"\",\"CN_待填充内容\",語言配置表!B2095)","v":"神识发现有一条古径，隐于云山之间，不过似乎有妖兽盘踞。"}]
[{"$f":"IF(語言配置表!A2096=\"\",\"\",語言配置表!A2096)","v":2093},{"$f":"IF(語言配置表!A2096=\"\",\"CN_待填充内容\",語言配置表!B2096)","v":"没其他办法了，过去看看吧。"}]
[{"$f":"IF(語言配置表!A2097=\"\",\"\",語言配置表!A2097)","v":2094},{"$f":"IF(語言配置表!A2097=\"\",\"CN_待填充内容\",語言配置表!B2097)","v":"继续飞行一段时间- 继续飞行一段时间{0}/{1}"}]
[{"$f":"IF(語言配置表!A2098=\"\",\"\",語言配置表!A2098)","v":2095},{"$f":"IF(語言配置表!A2098=\"\",\"CN_待填充内容\",語言配置表!B2098)","v":"蜩鸟和小麻雀对你的到来很好奇"}]
[{"$f":"IF(語言配置表!A2099=\"\",\"\",語言配置表!A2099)","v":2096},{"$f":"IF(語言配置表!A2099=\"\",\"CN_待填充内容\",語言配置表!B2099)","v":"应该就是这里了，似乎有古老的阵法挡住了去路"}]
[{"$f":"IF(語言配置表!A2100=\"\",\"\",語言配置表!A2100)","v":2097},{"$f":"IF(語言配置表!A2100=\"\",\"CN_待填充内容\",語言配置表!B2100)","v":"（结界门前，三只小鸟飞来，落在一旁古松上）"}]
[{"$f":"IF(語言配置表!A2101=\"\",\"\",語言配置表!A2101)","v":2098},{"$f":"IF(語言配置表!A2101=\"\",\"CN_待填充内容\",語言配置表!B2101)","v":"（拍翅）：“咦？又是妄图穿行北海之人？”"}]
[{"$f":"IF(語言配置表!A2102=\"\",\"\",語言配置表!A2102)","v":2099},{"$f":"IF(語言配置表!A2102=\"\",\"CN_待填充内容\",語言配置表!B2102)","v":"我在寻找鲲鹏，你们知道它在哪里吗？"}]
[{"$f":"IF(語言配置表!A2103=\"\",\"\",語言配置表!A2103)","v":2100},{"$f":"IF(語言配置表!A2103=\"\",\"CN_待填充内容\",語言配置表!B2103)","v":"（扑棱翅膀）是想要从北海飞往南海的超级大鸟吧？"}]
[{"$f":"IF(語言配置表!A2104=\"\",\"\",語言配置表!A2104)","v":2101},{"$f":"IF(語言配置表!A2104=\"\",\"CN_待填充内容\",語言配置表!B2104)","v":"我就想不明白，她为何要飞如此之远，太奇怪啦！"}]
[{"$f":"IF(語言配置表!A2105=\"\",\"\",語言配置表!A2105)","v":2102},{"$f":"IF(語言配置表!A2105=\"\",\"CN_待填充内容\",語言配置表!B2105)","v":"鲲鹏是在追求心中的目标吧。"}]
[{"$f":"IF(語言配置表!A2106=\"\",\"\",語言配置表!A2106)","v":2103},{"$f":"IF(語言配置表!A2106=\"\",\"CN_待填充内容\",語言配置表!B2106)","v":"（偏头想了想）目标？我天天在这里上蹿下跳，在附近树林飞来飞去，就已经很幸福啦。"}]
[{"$f":"IF(語言配置表!A2107=\"\",\"\",語言配置表!A2107)","v":2104},{"$f":"IF(語言配置表!A2107=\"\",\"CN_待填充内容\",語言配置表!B2107)","v":"就那大傻鸟，非要飞那么远，又笨又蠢...真没意思。"}]
[{"$f":"IF(語言配置表!A2108=\"\",\"\",語言配置表!A2108)","v":2105},{"$f":"IF(語言配置表!A2108=\"\",\"CN_待填充内容\",語言配置表!B2108)","v":"你说得也有一定道理…"}]
[{"$f":"IF(語言配置表!A2109=\"\",\"\",語言配置表!A2109)","v":2106},{"$f":"IF(語言配置表!A2109=\"\",\"CN_待填充内容\",語言配置表!B2109)","v":"你懂什么..这大鹏鸟可比你更有志向多了。"}]
[{"$f":"IF(語言配置表!A2110=\"\",\"\",語言配置表!A2110)","v":2107},{"$f":"IF(語言配置表!A2110=\"\",\"CN_待填充内容\",語言配置表!B2110)","v":"（翻飞一圈）志向有什么用？到头来还不是风停了就落地。"}]
[{"$f":"IF(語言配置表!A2111=\"\",\"\",語言配置表!A2111)","v":2108},{"$f":"IF(語言配置表!A2111=\"\",\"CN_待填充内容\",語言配置表!B2111)","v":"......"}]
[{"$f":"IF(語言配置表!A2112=\"\",\"\",語言配置表!A2112)","v":2109},{"$f":"IF(語言配置表!A2112=\"\",\"CN_待填充内容\",語言配置表!B2112)","v":"（此时，结界微动，一缕风穿林而过，古径阵法竟有一丝松动）"}]
[{"$f":"IF(語言配置表!A2113=\"\",\"\",語言配置表!A2113)","v":2110},{"$f":"IF(語言配置表!A2113=\"\",\"CN_待填充内容\",語言配置表!B2113)","v":"原来它们就是镇守阵法的结界兽"}]
[{"$f":"IF(語言配置表!A2114=\"\",\"\",語言配置表!A2114)","v":2111},{"$f":"IF(語言配置表!A2114=\"\",\"CN_待填充内容\",語言配置表!B2114)","v":"这结界似乎有所反应…"}]
[{"$f":"IF(語言配置表!A2115=\"\",\"\",語言配置表!A2115)","v":2112},{"$f":"IF(語言配置表!A2115=\"\",\"CN_待填充内容\",語言配置表!B2115)","v":"与你们聊天很有意思，不过今天我是非过去不可，没人能阻止我重返仙途！"}]
[{"$f":"IF(語言配置表!A2116=\"\",\"\",語言配置表!A2116)","v":2113},{"$f":"IF(語言配置表!A2116=\"\",\"CN_待填充内容\",語言配置表!B2116)","v":"\"小鸟..\"现身吧！"}]
[{"$f":"IF(語言配置表!A2117=\"\",\"\",語言配置表!A2117)","v":2114},{"$f":"IF(語言配置表!A2117=\"\",\"CN_待填充内容\",語言配置表!B2117)","v":"（轻轻飞下来..）又来...来吧来吧.."}]
[{"$f":"IF(語言配置表!A2118=\"\",\"\",語言配置表!A2118)","v":2115},{"$f":"IF(語言配置表!A2118=\"\",\"CN_待填充内容\",語言配置表!B2118)","v":"击败结界兽怎么想过去，就去吧.."}]
[{"$f":"IF(語言配置表!A2119=\"\",\"\",語言配置表!A2119)","v":2116},{"$f":"IF(語言配置表!A2119=\"\",\"CN_待填充内容\",語言配置表!B2119)","v":"你穿过古径结界，来到一片被风托起的浮空灵岛群。"}]
[{"$f":"IF(語言配置表!A2120=\"\",\"\",語言配置表!A2120)","v":2117},{"$f":"IF(語言配置表!A2120=\"\",\"CN_待填充内容\",語言配置表!B2120)","v":"风势强劲，岛与岛之间缝隙深不见底，无桥无梯。"}]
[{"$f":"IF(語言配置表!A2121=\"\",\"\",語言配置表!A2121)","v":2118},{"$f":"IF(語言配置表!A2121=\"\",\"CN_待填充内容\",語言配置表!B2121)","v":"此处盘踞一位神秘道人，常独自站在岛边望风，仿佛等待什么。"}]
[{"$f":"IF(語言配置表!A2122=\"\",\"\",語言配置表!A2122)","v":2119},{"$f":"IF(語言配置表!A2122=\"\",\"CN_待填充内容\",語言配置表!B2122)","v":"（你尝试御剑，却在风中打转，被吹回原地）"}]
[{"$f":"IF(語言配置表!A2123=\"\",\"\",語言配置表!A2123)","v":2120},{"$f":"IF(語言配置表!A2123=\"\",\"CN_待填充内容\",語言配置表!B2123)","v":"前辈，这里的风太大，我无法飞行，请教如何才能通过？"}]
[{"$f":"IF(語言配置表!A2124=\"\",\"\",語言配置表!A2124)","v":2121},{"$f":"IF(語言配置表!A2124=\"\",\"CN_待填充内容\",語言配置表!B2124)","v":"......"}]
[{"$f":"IF(語言配置表!A2125=\"\",\"\",語言配置表!A2125)","v":2122},{"$f":"IF(語言配置表!A2125=\"\",\"CN_待填充内容\",語言配置表!B2125)","v":"前辈，我准备前往北海深处，寻鲲鹏。"}]
[{"$f":"IF(語言配置表!A2126=\"\",\"\",語言配置表!A2126)","v":2123},{"$f":"IF(語言配置表!A2126=\"\",\"CN_待填充内容\",語言配置表!B2126)","v":"鲲鹏？……世间竟还有人记得它。"}]
[{"$f":"IF(語言配置表!A2127=\"\",\"\",語言配置表!A2127)","v":2124},{"$f":"IF(語言配置表!A2127=\"\",\"CN_待填充内容\",語言配置表!B2127)","v":"（说着从手中掏出一个碎片，往空中一震，瞬间风停）过来吧。"}]
[{"$f":"IF(語言配置表!A2128=\"\",\"\",語言配置表!A2128)","v":2125},{"$f":"IF(語言配置表!A2128=\"\",\"CN_待填充内容\",語言配置表!B2128)","v":"说吧，为何寻那鲲鹏？"}]
[{"$f":"IF(語言配置表!A2129=\"\",\"\",語言配置表!A2129)","v":2126},{"$f":"IF(語言配置表!A2129=\"\",\"CN_待填充内容\",語言配置表!B2129)","v":"冲虚真人让我去的"}]
[{"$f":"IF(語言配置表!A2130=\"\",\"\",語言配置表!A2130)","v":2127},{"$f":"IF(語言配置表!A2130=\"\",\"CN_待填充内容\",語言配置表!B2130)","v":"我只是好奇.."}]
[{"$f":"IF(語言配置表!A2131=\"\",\"\",語言配置表!A2131)","v":2128},{"$f":"IF(語言配置表!A2131=\"\",\"CN_待填充内容\",語言配置表!B2131)","v":"你可知鹏飞九万里，需凭借龙卷风，才可达成？"}]
[{"$f":"IF(語言配置表!A2132=\"\",\"\",語言配置表!A2132)","v":2129},{"$f":"IF(語言配置表!A2132=\"\",\"CN_待填充内容\",語言配置表!B2132)","v":"请前辈赐教......"}]
[{"$f":"IF(語言配置表!A2133=\"\",\"\",語言配置表!A2133)","v":2130},{"$f":"IF(語言配置表!A2133=\"\",\"CN_待填充内容\",語言配置表!B2133)","v":"看你修为尚浅，跟你说多了也无用。"}]
[{"$f":"IF(語言配置表!A2134=\"\",\"\",語言配置表!A2134)","v":2131},{"$f":"IF(語言配置表!A2134=\"\",\"CN_待填充内容\",語言配置表!B2134)","v":"再往前是我师弟的洞府了，他可不好说话。"}]
[{"$f":"IF(語言配置表!A2135=\"\",\"\",語言配置表!A2135)","v":2132},{"$f":"IF(語言配置表!A2135=\"\",\"CN_待填充内容\",語言配置表!B2135)","v":"就在我这附近好好修炼吧，至少提升至筑基修为。"}]
[{"$f":"IF(語言配置表!A2136=\"\",\"\",語言配置表!A2136)","v":2133},{"$f":"IF(語言配置表!A2136=\"\",\"CN_待填充内容\",語言配置表!B2136)","v":"前辈为何如此助我？"}]
[{"$f":"IF(語言配置表!A2137=\"\",\"\",語言配置表!A2137)","v":2134},{"$f":"IF(語言配置表!A2137=\"\",\"CN_待填充内容\",語言配置表!B2137)","v":"（疯道人望你一眼，没有回答，但丢过来一本功法）修到[筑基-中期]再来找我。"}]
[{"$f":"IF(語言配置表!A2138=\"\",\"\",語言配置表!A2138)","v":2135},{"$f":"IF(語言配置表!A2138=\"\",\"CN_待填充内容\",語言配置表!B2138)","v":"浮空之岛1"}]
[{"$f":"IF(語言配置表!A2139=\"\",\"\",語言配置表!A2139)","v":2136},{"$f":"IF(語言配置表!A2139=\"\",\"CN_待填充内容\",語言配置表!B2139)","v":"浮空之岛2"}]
[{"$f":"IF(語言配置表!A2140=\"\",\"\",語言配置表!A2140)","v":2137},{"$f":"IF(語言配置表!A2140=\"\",\"CN_待填充内容\",語言配置表!B2140)","v":"初见疯道人"}]
[{"$f":"IF(語言配置表!A2141=\"\",\"\",語言配置表!A2141)","v":2138},{"$f":"IF(語言配置表!A2141=\"\",\"CN_待填充内容\",語言配置表!B2141)","v":"筑基中期"}]
[{"$f":"IF(語言配置表!A2142=\"\",\"\",語言配置表!A2142)","v":2139},{"$f":"IF(語言配置表!A2142=\"\",\"CN_待填充内容\",語言配置表!B2142)","v":"你已突破筑基前期达到中期，灵力通畅，是时候去会一会我的师弟了。"}]
[{"$f":"IF(語言配置表!A2143=\"\",\"\",語言配置表!A2143)","v":2140},{"$f":"IF(語言配置表!A2143=\"\",\"CN_待填充内容\",語言配置表!B2143)","v":"是的。鲲鹏之行，志在必达。"}]
[{"$f":"IF(語言配置表!A2144=\"\",\"\",語言配置表!A2144)","v":2141},{"$f":"IF(語言配置表!A2144=\"\",\"CN_待填充内容\",語言配置表!B2144)","v":"看看风的尽头到底有什么。"}]
[{"$f":"IF(語言配置表!A2145=\"\",\"\",語言配置表!A2145)","v":2142},{"$f":"IF(語言配置表!A2145=\"\",\"CN_待填充内容\",語言配置表!B2145)","v":"（轻轻一笑）你说风的尽头……我也曾想看。\n（他望向远处翻涌的云海）"}]
[{"$f":"IF(語言配置表!A2146=\"\",\"\",語言配置表!A2146)","v":2143},{"$f":"IF(語言配置表!A2146=\"\",\"CN_待填充内容\",語言配置表!B2146)","v":"我和师弟，共守这处风眼多年。我想出去，他却偏要留。"}]
[{"$f":"IF(語言配置表!A2147=\"\",\"\",語言配置表!A2147)","v":2144},{"$f":"IF(語言配置表!A2147=\"\",\"CN_待填充内容\",語言配置表!B2147)","v":"风灵珠碎成两半，一半在我这里，另一半……在他洞府中。"}]
[{"$f":"IF(語言配置表!A2148=\"\",\"\",語言配置表!A2148)","v":2145},{"$f":"IF(語言配置表!A2148=\"\",\"CN_待填充内容\",語言配置表!B2148)","v":"你若想见鲲鹏，必须要集齐整个风灵珠。"}]
[{"$f":"IF(語言配置表!A2149=\"\",\"\",語言配置表!A2149)","v":2146},{"$f":"IF(語言配置表!A2149=\"\",\"CN_待填充内容\",語言配置表!B2149)","v":"我这一半给你，可助你在大风中，来去自如。"}]
[{"$f":"IF(語言配置表!A2150=\"\",\"\",語言配置表!A2150)","v":2147},{"$f":"IF(語言配置表!A2150=\"\",\"CN_待填充内容\",語言配置表!B2150)","v":"你获得了疯道人的半颗风灵珠，在狂风中自由飞行，好不自在。"}]
[{"$f":"IF(語言配置表!A2151=\"\",\"\",語言配置表!A2151)","v":2148},{"$f":"IF(語言配置表!A2151=\"\",\"CN_待填充内容\",語言配置表!B2151)","v":"这......就是逍遥游吗？"}]
[{"$f":"IF(語言配置表!A2152=\"\",\"\",語言配置表!A2152)","v":2149},{"$f":"IF(語言配置表!A2152=\"\",\"CN_待填充内容\",語言配置表!B2152)","v":"你终于来了......"}]
[{"$f":"IF(語言配置表!A2153=\"\",\"\",語言配置表!A2153)","v":2150},{"$f":"IF(語言配置表!A2153=\"\",\"CN_待填充内容\",語言配置表!B2153)","v":"你知道我要来？"}]
[{"$f":"IF(語言配置表!A2154=\"\",\"\",語言配置表!A2154)","v":2151},{"$f":"IF(語言配置表!A2154=\"\",\"CN_待填充内容\",語言配置表!B2154)","v":"初见疯道人"}]
[{"$f":"IF(語言配置表!A2155=\"\",\"\",語言配置表!A2155)","v":2152},{"$f":"IF(語言配置表!A2155=\"\",\"CN_待填充内容\",語言配置表!B2155)","v":"疯道人赠与一半风灵珠"}]
[{"$f":"IF(語言配置表!A2156=\"\",\"\",語言配置表!A2156)","v":2153},{"$f":"IF(語言配置表!A2156=\"\",\"CN_待填充内容\",語言配置表!B2156)","v":"没想到痴道人一来就要与你交手"}]
[{"$f":"IF(語言配置表!A2157=\"\",\"\",語言配置表!A2157)","v":2154},{"$f":"IF(語言配置表!A2157=\"\",\"CN_待填充内容\",語言配置表!B2157)","v":"多说无益，我早已感应到你身上的半颗风灵珠。必是那疯老头让来的。出手吧！"}]
[{"$f":"IF(語言配置表!A2158=\"\",\"\",語言配置表!A2158)","v":2155},{"$f":"IF(語言配置表!A2158=\"\",\"CN_待填充内容\",語言配置表!B2158)","v":"（被击倒在一边）够了！"}]
[{"$f":"IF(語言配置表!A2159=\"\",\"\",語言配置表!A2159)","v":2156},{"$f":"IF(語言配置表!A2159=\"\",\"CN_待填充内容\",語言配置表!B2159)","v":"疯痴相聚"}]
[{"$f":"IF(語言配置表!A2160=\"\",\"\",語言配置表!A2160)","v":2157},{"$f":"IF(語言配置表!A2160=\"\",\"CN_待填充内容\",語言配置表!B2160)","v":"......"}]
[{"$f":"IF(語言配置表!A2161=\"\",\"\",語言配置表!A2161)","v":2158},{"$f":"IF(語言配置表!A2161=\"\",\"CN_待填充内容\",語言配置表!B2161)","v":"（你靠近痴道人）你真的想一直留在这里？你师兄说你不肯走。"}]
[{"$f":"IF(語言配置表!A2162=\"\",\"\",語言配置表!A2162)","v":2159},{"$f":"IF(語言配置表!A2162=\"\",\"CN_待填充内容\",語言配置表!B2162)","v":"你修炼的时候，有没有过那种感觉——身边的人都在往前走，只有你还在原地。"}]
[{"$f":"IF(語言配置表!A2163=\"\",\"\",語言配置表!A2163)","v":2160},{"$f":"IF(語言配置表!A2163=\"\",\"CN_待填充内容\",語言配置表!B2163)","v":"我师兄，他悟性极高，一年就能走我三年的路。我不服气，想努力赶上他。"}]
[{"$f":"IF(語言配置表!A2164=\"\",\"\",語言配置表!A2164)","v":2161},{"$f":"IF(語言配置表!A2164=\"\",\"CN_待填充内容\",語言配置表!B2164)","v":"然后呢？"}]
[{"$f":"IF(語言配置表!A2165=\"\",\"\",語言配置表!A2165)","v":2162},{"$f":"IF(語言配置表!A2165=\"\",\"CN_待填充内容\",語言配置表!B2165)","v":"我一直苦心修炼，可人也困在这儿了……越修炼，越困难，修不动了。"}]
[{"$f":"IF(語言配置表!A2166=\"\",\"\",語言配置表!A2166)","v":2163},{"$f":"IF(語言配置表!A2166=\"\",\"CN_待填充内容\",語言配置表!B2166)","v":"[此时，疯道人踏风而至，就在几步之外]"}]
[{"$f":"IF(語言配置表!A2167=\"\",\"\",語言配置表!A2167)","v":2164},{"$f":"IF(語言配置表!A2167=\"\",\"CN_待填充内容\",語言配置表!B2167)","v":"师弟，你修着修着，就不记得一开始，是为了什么而修行。"}]
[{"$f":"IF(語言配置表!A2168=\"\",\"\",語言配置表!A2168)","v":2165},{"$f":"IF(語言配置表!A2168=\"\",\"CN_待填充内容\",語言配置表!B2168)","v":"（抬头）......我，我真的不记得了。"}]
[{"$f":"IF(語言配置表!A2169=\"\",\"\",語言配置表!A2169)","v":2166},{"$f":"IF(語言配置表!A2169=\"\",\"CN_待填充内容\",語言配置表!B2169)","v":"那就放下风灵珠，和我出去走走。"}]
[{"$f":"IF(語言配置表!A2170=\"\",\"\",語言配置表!A2170)","v":2167},{"$f":"IF(語言配置表!A2170=\"\",\"CN_待填充内容\",語言配置表!B2170)","v":"[痴道人楞了一下，片刻后轻轻点头]"}]
[{"$f":"IF(語言配置表!A2171=\"\",\"\",語言配置表!A2171)","v":2168},{"$f":"IF(語言配置表!A2171=\"\",\"CN_待填充内容\",語言配置表!B2171)","v":"[突然..洞府周围灵气汇聚，快速涌入痴道人的身体.]"}]
[{"$f":"IF(語言配置表!A2172=\"\",\"\",語言配置表!A2172)","v":2169},{"$f":"IF(語言配置表!A2172=\"\",\"CN_待填充内容\",語言配置表!B2172)","v":"前辈，为何灵气会动！"}]
[{"$f":"IF(語言配置表!A2173=\"\",\"\",語言配置表!A2173)","v":2170},{"$f":"IF(語言配置表!A2173=\"\",\"CN_待填充内容\",語言配置表!B2173)","v":"恭喜师弟，突破心魔。"}]
[{"$f":"IF(語言配置表!A2174=\"\",\"\",語言配置表!A2174)","v":2171},{"$f":"IF(語言配置表!A2174=\"\",\"CN_待填充内容\",語言配置表!B2174)","v":"多谢师兄！"}]
[{"$f":"IF(語言配置表!A2175=\"\",\"\",語言配置表!A2175)","v":2172},{"$f":"IF(語言配置表!A2175=\"\",\"CN_待填充内容\",語言配置表!B2175)","v":"原来如此…"}]
[{"$f":"IF(語言配置表!A2176=\"\",\"\",語言配置表!A2176)","v":2173},{"$f":"IF(語言配置表!A2176=\"\",\"CN_待填充内容\",語言配置表!B2176)","v":"请前辈赐我风灵珠。"}]
[{"$f":"IF(語言配置表!A2177=\"\",\"\",語言配置表!A2177)","v":2174},{"$f":"IF(語言配置表!A2177=\"\",\"CN_待填充内容\",語言配置表!B2177)","v":"小友莫急… (说罢，痴道人将风灵珠的碎片合成了一颗完整的风灵珠)"}]
[{"$f":"IF(語言配置表!A2178=\"\",\"\",語言配置表!A2178)","v":2175},{"$f":"IF(語言配置表!A2178=\"\",\"CN_待填充内容\",語言配置表!B2178)","v":"拿好了，这风啊……来一回，不容易。"}]
[{"$f":"IF(語言配置表!A2179=\"\",\"\",語言配置表!A2179)","v":2176},{"$f":"IF(語言配置表!A2179=\"\",\"CN_待填充内容\",語言配置表!B2179)","v":"达到筑基后期"}]
[{"$f":"IF(語言配置表!A2180=\"\",\"\",語言配置表!A2180)","v":2177},{"$f":"IF(語言配置表!A2180=\"\",\"CN_待填充内容\",語言配置表!B2180)","v":"完整的风灵珠果然不同凡响，我可以更大的狂风中穿行了。"}]
[{"$f":"IF(語言配置表!A2181=\"\",\"\",語言配置表!A2181)","v":2178},{"$f":"IF(語言配置表!A2181=\"\",\"CN_待填充内容\",語言配置表!B2181)","v":"前方似乎有不少高阶妖兽，我先在此地提升一些修为吧。"}]
[{"$f":"IF(語言配置表!A2182=\"\",\"\",語言配置表!A2182)","v":2179},{"$f":"IF(語言配置表!A2182=\"\",\"CN_待填充内容\",語言配置表!B2182)","v":"终于筑基中期了，继续寻找冲虚提到的“七道心境”吧，不知鲲鹏是否会给我答案。"}]
[{"$f":"IF(語言配置表!A2183=\"\",\"\",語言配置表!A2183)","v":2180},{"$f":"IF(語言配置表!A2183=\"\",\"CN_待填充内容\",語言配置表!B2183)","v":"妖兽横行"}]
[{"$f":"IF(語言配置表!A2184=\"\",\"\",語言配置表!A2184)","v":2181},{"$f":"IF(語言配置表!A2184=\"\",\"CN_待填充内容\",語言配置表!B2184)","v":"遇见鲲鹏"}]
[{"$f":"IF(語言配置表!A2185=\"\",\"\",語言配置表!A2185)","v":2182},{"$f":"IF(語言配置表!A2185=\"\",\"CN_待填充内容\",語言配置表!B2185)","v":"鲲鹏需要去南海最深处的天池，可缺少龙卷风，没有大风，大鹏无法飞起来"}]
[{"$f":"IF(語言配置表!A2186=\"\",\"\",語言配置表!A2186)","v":2183},{"$f":"IF(語言配置表!A2186=\"\",\"CN_待填充内容\",語言配置表!B2186)","v":"尧让天下"}]
[{"$f":"IF(語言配置表!A2187=\"\",\"\",語言配置表!A2187)","v":2184},{"$f":"IF(語言配置表!A2187=\"\",\"CN_待填充内容\",語言配置表!B2187)","v":"倾听尧帝的烦恼"}]
[{"$f":"IF(語言配置表!A2188=\"\",\"\",語言配置表!A2188)","v":2185},{"$f":"IF(語言配置表!A2188=\"\",\"CN_待填充内容\",語言配置表!B2188)","v":"你踏入帝尧治下的仙域——一片祥和之地，灵气充沛，民众安居，仿佛世外桃源。"}]
[{"$f":"IF(語言配置表!A2189=\"\",\"\",語言配置表!A2189)","v":2186},{"$f":"IF(語言配置表!A2189=\"\",\"CN_待填充内容\",語言配置表!B2189)","v":"然而，这位千年帝君，却眉宇间有难掩的忧色。"}]
[{"$f":"IF(語言配置表!A2190=\"\",\"\",語言配置表!A2190)","v":2187},{"$f":"IF(語言配置表!A2190=\"\",\"CN_待填充内容\",語言配置表!B2190)","v":"（你根据逍遥铃的指引，找到了尧）"}]
[{"$f":"IF(語言配置表!A2191=\"\",\"\",語言配置表!A2191)","v":2188},{"$f":"IF(語言配置表!A2191=\"\",\"CN_待填充内容\",語言配置表!B2191)","v":"拜见帝尧，晚辈受冲虚真人的指引，游历到此处。"}]
[{"$f":"IF(語言配置表!A2192=\"\",\"\",語言配置表!A2192)","v":2189},{"$f":"IF(語言配置表!A2192=\"\",\"CN_待填充内容\",語言配置表!B2192)","v":"（缓缓回头，脸上带着淡淡忧虑）冲虚真人吗？我也许久没见了.."}]
[{"$f":"IF(語言配置表!A2193=\"\",\"\",語言配置表!A2193)","v":2190},{"$f":"IF(語言配置表!A2193=\"\",\"CN_待填充内容\",語言配置表!B2193)","v":"(尧帝邀你来到一高处)\n小友，你看此处景致如何？"}]
[{"$f":"IF(語言配置表!A2194=\"\",\"\",語言配置表!A2194)","v":2191},{"$f":"IF(語言配置表!A2194=\"\",\"CN_待填充内容\",語言配置表!B2194)","v":"万象更新，灵气环绕，是修行的福地。"}]
[{"$f":"IF(語言配置表!A2195=\"\",\"\",語言配置表!A2195)","v":2192},{"$f":"IF(語言配置表!A2195=\"\",\"CN_待填充内容\",語言配置表!B2195)","v":"国泰民安，仙人治理，世间罕见。"}]
[{"$f":"IF(語言配置表!A2196=\"\",\"\",語言配置表!A2196)","v":2193},{"$f":"IF(語言配置表!A2196=\"\",\"CN_待填充内容\",語言配置表!B2196)","v":"（叹息）是啊，人人自在，唯我不自在。这些年来，我境界难以寸进，已有百年。"}]
[{"$f":"IF(語言配置表!A2197=\"\",\"\",語言配置表!A2197)","v":2194},{"$f":"IF(語言配置表!A2197=\"\",\"CN_待填充内容\",語言配置表!B2197)","v":"帝尧何出此言？"}]
[{"$f":"IF(語言配置表!A2198=\"\",\"\",語言配置表!A2198)","v":2195},{"$f":"IF(語言配置表!A2198=\"\",\"CN_待填充内容\",語言配置表!B2198)","v":"你等散修，自由自在，来去如风，可曾体会过身负重任的滋味？"}]
[{"$f":"IF(語言配置表!A2199=\"\",\"\",語言配置表!A2199)","v":2196},{"$f":"IF(語言配置表!A2199=\"\",\"CN_待填充内容\",語言配置表!B2199)","v":"也有重担，却未必如帝尧这样复杂。"}]
[{"$f":"IF(語言配置表!A2200=\"\",\"\",語言配置表!A2200)","v":2197},{"$f":"IF(語言配置表!A2200=\"\",\"CN_待填充内容\",語言配置表!B2200)","v":"（微微一笑，摇头）天下如画卷，画卷再美，日夜背负，也终是负担。"}]
[{"$f":"IF(語言配置表!A2201=\"\",\"\",語言配置表!A2201)","v":2198},{"$f":"IF(語言配置表!A2201=\"\",\"CN_待填充内容\",語言配置表!B2201)","v":"......"}]
[{"$f":"IF(語言配置表!A2202=\"\",\"\",語言配置表!A2202)","v":2199},{"$f":"IF(語言配置表!A2202=\"\",\"CN_待填充内容\",語言配置表!B2202)","v":"（凝望远方云海）深山之中有位贤士，名为许由，素有盛名，我曾多次请他出山，但未成如愿。"}]
[{"$f":"IF(語言配置表!A2203=\"\",\"\",語言配置表!A2203)","v":2200},{"$f":"IF(語言配置表!A2203=\"\",\"CN_待填充内容\",語言配置表!B2203)","v":"我甚至提出让天下于他，他也不为所动。"}]
[{"$f":"IF(語言配置表!A2204=\"\",\"\",語言配置表!A2204)","v":2201},{"$f":"IF(語言配置表!A2204=\"\",\"CN_待填充内容\",語言配置表!B2204)","v":"世间竟然有此奇人？"}]
[{"$f":"IF(語言配置表!A2205=\"\",\"\",語言配置表!A2205)","v":2202},{"$f":"IF(語言配置表!A2205=\"\",\"CN_待填充内容\",語言配置表!B2205)","v":"（凝望远方云海）若小友有空，帮我再请许由出山，我定当感谢。"}]
[{"$f":"IF(語言配置表!A2206=\"\",\"\",語言配置表!A2206)","v":2203},{"$f":"IF(語言配置表!A2206=\"\",\"CN_待填充内容\",語言配置表!B2206)","v":"好的，既然来了，我就走一趟。"}]
[{"$f":"IF(語言配置表!A2207=\"\",\"\",語言配置表!A2207)","v":2204},{"$f":"IF(語言配置表!A2207=\"\",\"CN_待填充内容\",語言配置表!B2207)","v":"访贤许由"}]
[{"$f":"IF(語言配置表!A2208=\"\",\"\",語言配置表!A2208)","v":2205},{"$f":"IF(語言配置表!A2208=\"\",\"CN_待填充内容\",語言配置表!B2208)","v":"听一听这位尧帝口中的贤士有何说法"}]
[{"$f":"IF(語言配置表!A2209=\"\",\"\",語言配置表!A2209)","v":2206},{"$f":"IF(語言配置表!A2209=\"\",\"CN_待填充内容\",語言配置表!B2209)","v":"你循帝尧所言，御剑前往幽山秘境。此处灵气绵长，古木参天，溪水潺潺。"}]
[{"$f":"IF(語言配置表!A2210=\"\",\"\",語言配置表!A2210)","v":2207},{"$f":"IF(語言配置表!A2210=\"\",\"CN_待填充内容\",語言配置表!B2210)","v":"据说，许由栖身于此，绝迹尘世，已有数百年。"}]
[{"$f":"IF(語言配置表!A2211=\"\",\"\",語言配置表!A2211)","v":2208},{"$f":"IF(語言配置表!A2211=\"\",\"CN_待填充内容\",語言配置表!B2211)","v":"山风徐徐，水声如琴，你踏过青石小径，看见一位白衣道人正倚石观水。"}]
[{"$f":"IF(語言配置表!A2212=\"\",\"\",語言配置表!A2212)","v":2209},{"$f":"IF(語言配置表!A2212=\"\",\"CN_待填充内容\",語言配置表!B2212)","v":"前辈可是许由？"}]
[{"$f":"IF(語言配置表!A2213=\"\",\"\",語言配置表!A2213)","v":2210},{"$f":"IF(語言配置表!A2213=\"\",\"CN_待填充内容\",語言配置表!B2213)","v":"正是，小友何事？"}]
[{"$f":"IF(語言配置表!A2214=\"\",\"\",語言配置表!A2214)","v":2211},{"$f":"IF(語言配置表!A2214=\"\",\"CN_待填充内容\",語言配置表!B2214)","v":"帝尧欲专心修行，求道问玄，又怕耽误世事，特托我前来相请，欲让天下于你。"}]
[{"$f":"IF(語言配置表!A2215=\"\",\"\",語言配置表!A2215)","v":2212},{"$f":"IF(語言配置表!A2215=\"\",\"CN_待填充内容\",語言配置表!B2215)","v":"（静默片刻）昔日帝尧就提过此事，我已辞之。"}]
[{"$f":"IF(語言配置表!A2216=\"\",\"\",語言配置表!A2216)","v":2213},{"$f":"IF(語言配置表!A2216=\"\",\"CN_待填充内容\",語言配置表!B2216)","v":"今日又来，想是道心不定，执念未除。"}]
[{"$f":"IF(語言配置表!A2217=\"\",\"\",語言配置表!A2217)","v":2214},{"$f":"IF(語言配置表!A2217=\"\",\"CN_待填充内容\",語言配置表!B2217)","v":"请前辈出山。"}]
[{"$f":"IF(語言配置表!A2218=\"\",\"\",語言配置表!A2218)","v":2215},{"$f":"IF(語言配置表!A2218=\"\",\"CN_待填充内容\",語言配置表!B2218)","v":"哼，让我去？"}]
[{"$f":"IF(語言配置表!A2219=\"\",\"\",語言配置表!A2219)","v":2216},{"$f":"IF(語言配置表!A2219=\"\",\"CN_待填充内容\",語言配置表!B2219)","v":"那我问你，日月升天，照耀四方。若这时有人手举火把照路，岂不徒劳？"}]
[{"$f":"IF(語言配置表!A2220=\"\",\"\",語言配置表!A2220)","v":2217},{"$f":"IF(語言配置表!A2220=\"\",\"CN_待填充内容\",語言配置表!B2220)","v":"那我再问你，斜风细雨，滋养万物。若这时有人用水桶来灌溉，岂不可笑？"}]
[{"$f":"IF(語言配置表!A2221=\"\",\"\",語言配置表!A2221)","v":2218},{"$f":"IF(語言配置表!A2221=\"\",\"CN_待填充内容\",語言配置表!B2221)","v":"天下在尧的带领下，已经治理得很好了，又何必要我，我是要去混个功成名就吗？"}]
[{"$f":"IF(語言配置表!A2222=\"\",\"\",語言配置表!A2222)","v":2219},{"$f":"IF(語言配置表!A2222=\"\",\"CN_待填充内容\",語言配置表!B2222)","v":"回答我？"}]
[{"$f":"IF(語言配置表!A2223=\"\",\"\",語言配置表!A2223)","v":2220},{"$f":"IF(語言配置表!A2223=\"\",\"CN_待填充内容\",語言配置表!B2223)","v":"就算只得功成名就也不错。"}]
[{"$f":"IF(語言配置表!A2224=\"\",\"\",語言配置表!A2224)","v":2221},{"$f":"IF(語言配置表!A2224=\"\",\"CN_待填充内容\",語言配置表!B2224)","v":"小友，名就像宾客一样，难道我们的一生是为了宾客吗？"}]
[{"$f":"IF(語言配置表!A2225=\"\",\"\",語言配置表!A2225)","v":2222},{"$f":"IF(語言配置表!A2225=\"\",\"CN_待填充内容\",語言配置表!B2225)","v":"（愣住）......"}]
[{"$f":"IF(語言配置表!A2226=\"\",\"\",語言配置表!A2226)","v":2223},{"$f":"IF(語言配置表!A2226=\"\",\"CN_待填充内容\",語言配置表!B2226)","v":"他若真想修道，便该知“道不碍政，心自碍道”。"}]
[{"$f":"IF(語言配置表!A2227=\"\",\"\",語言配置表!A2227)","v":2224},{"$f":"IF(語言配置表!A2227=\"\",\"CN_待填充内容\",語言配置表!B2227)","v":"若心不净，纵避千山万水，又有何用。"}]
[{"$f":"IF(語言配置表!A2228=\"\",\"\",語言配置表!A2228)","v":2225},{"$f":"IF(語言配置表!A2228=\"\",\"CN_待填充内容\",語言配置表!B2228)","v":"（愣住）......"}]
[{"$f":"IF(語言配置表!A2229=\"\",\"\",語言配置表!A2229)","v":2226},{"$f":"IF(語言配置表!A2229=\"\",\"CN_待填充内容\",語言配置表!B2229)","v":"割草喝茶"}]
[{"$f":"IF(語言配置表!A2230=\"\",\"\",語言配置表!A2230)","v":2227},{"$f":"IF(語言配置表!A2230=\"\",\"CN_待填充内容\",語言配置表!B2230)","v":"（转身望向屋后的山坡）你来得也巧，我正想在开辟一块新药田。"}]
[{"$f":"IF(語言配置表!A2231=\"\",\"\",語言配置表!A2231)","v":2228},{"$f":"IF(語言配置表!A2231=\"\",\"CN_待填充内容\",語言配置表!B2231)","v":"后山有一块不错的地，离家有一点远平时我也懒得去打理，正好你来了帮我开辟出来吧。"}]
[{"$f":"IF(語言配置表!A2232=\"\",\"\",語言配置表!A2232)","v":2229},{"$f":"IF(語言配置表!A2232=\"\",\"CN_待填充内容\",語言配置表!B2232)","v":"……前辈是让我干农活吗"}]
[{"$f":"IF(語言配置表!A2233=\"\",\"\",語言配置表!A2233)","v":2230},{"$f":"IF(語言配置表!A2233=\"\",\"CN_待填充内容\",語言配置表!B2233)","v":"（笑）哈哈，正是，帮我清理一下灵田，回来请你喝茶。"}]
[{"$f":"IF(語言配置表!A2234=\"\",\"\",語言配置表!A2234)","v":2231},{"$f":"IF(語言配置表!A2234=\"\",\"CN_待填充内容\",語言配置表!B2234)","v":"对了，在哪些杂草中不也会生长着一些药效不错的药草，这些药草在杂草中没有更好的成长起来，如果发现了药草帮我收集一些药草的种子回来。"}]
[{"$f":"IF(語言配置表!A2235=\"\",\"\",語言配置表!A2235)","v":2232},{"$f":"IF(語言配置表!A2235=\"\",\"CN_待填充内容\",語言配置表!B2235)","v":"在开辟的过程中也请小心一点，后山也经常有妖怪出没。"}]
[{"$f":"IF(語言配置表!A2236=\"\",\"\",語言配置表!A2236)","v":2233},{"$f":"IF(語言配置表!A2236=\"\",\"CN_待填充内容\",語言配置表!B2236)","v":"（你回到屋前，满身草屑与泥土，许由在烧水，煮茶）"}]
[{"$f":"IF(語言配置表!A2237=\"\",\"\",語言配置表!A2237)","v":2234},{"$f":"IF(語言配置表!A2237=\"\",\"CN_待填充内容\",語言配置表!B2237)","v":"动得挺快。坐，喝口茶。"}]
[{"$f":"IF(語言配置表!A2238=\"\",\"\",語言配置表!A2238)","v":2235},{"$f":"IF(語言配置表!A2238=\"\",\"CN_待填充内容\",語言配置表!B2238)","v":"多谢前辈。"}]
[{"$f":"IF(語言配置表!A2239=\"\",\"\",語言配置表!A2239)","v":2236},{"$f":"IF(語言配置表!A2239=\"\",\"CN_待填充内容\",語言配置表!B2239)","v":"（你获得了永久属性提升）（此处需要进一步处理）"}]
[{"$f":"IF(語言配置表!A2240=\"\",\"\",語言配置表!A2240)","v":2237},{"$f":"IF(語言配置表!A2240=\"\",\"CN_待填充内容\",語言配置表!B2240)","v":"再来一杯"}]
[{"$f":"IF(語言配置表!A2241=\"\",\"\",語言配置表!A2241)","v":2238},{"$f":"IF(語言配置表!A2241=\"\",\"CN_待填充内容\",語言配置表!B2241)","v":"今天的风有点不对，开来昨日你在后山的动静不小呀，山那头怕是要来些不速之客。"}]
[{"$f":"IF(語言配置表!A2242=\"\",\"\",語言配置表!A2242)","v":2239},{"$f":"IF(語言配置表!A2242=\"\",\"CN_待填充内容\",語言配置表!B2242)","v":"你才帮我弄好灵草种子和灵田，别让妖兽给毁了。"}]
[{"$f":"IF(語言配置表!A2243=\"\",\"\",語言配置表!A2243)","v":2240},{"$f":"IF(語言配置表!A2243=\"\",\"CN_待填充内容\",語言配置表!B2243)","v":"你去走一趟。"}]
[{"$f":"IF(語言配置表!A2244=\"\",\"\",語言配置表!A2244)","v":2241},{"$f":"IF(語言配置表!A2244=\"\",\"CN_待填充内容\",語言配置表!B2244)","v":"好的......"}]
[{"$f":"IF(語言配置表!A2245=\"\",\"\",語言配置表!A2245)","v":2242},{"$f":"IF(語言配置表!A2245=\"\",\"CN_待填充内容\",語言配置表!B2245)","v":"（你获得了永久属性提升）（此处需要进一步处理）"}]
[{"$f":"IF(語言配置表!A2246=\"\",\"\",語言配置表!A2246)","v":2243},{"$f":"IF(語言配置表!A2246=\"\",\"CN_待填充内容\",語言配置表!B2246)","v":"战胜妖王"}]
[{"$f":"IF(語言配置表!A2247=\"\",\"\",語言配置表!A2247)","v":2244},{"$f":"IF(語言配置表!A2247=\"\",\"CN_待填充内容\",語言配置表!B2247)","v":"（次日清晨，山顶云气升腾，许由站在灵田边，看着远山）"}]
[{"$f":"IF(語言配置表!A2248=\"\",\"\",語言配置表!A2248)","v":2245},{"$f":"IF(語言配置表!A2248=\"\",\"CN_待填充内容\",語言配置表!B2248)","v":" 先前的妖兽，被你压了下去。可峰顶还有一头老家伙，脾气大。"}]
[{"$f":"IF(語言配置表!A2249=\"\",\"\",語言配置表!A2249)","v":2246},{"$f":"IF(語言配置表!A2249=\"\",\"CN_待填充内容\",語言配置表!B2249)","v":"（低声）……前辈，我做了怎么多事，一次比一次难。为何每次都让我喝茶？前辈可是希望我去处理？"}]
[{"$f":"IF(語言配置表!A2250=\"\",\"\",語言配置表!A2250)","v":2247},{"$f":"IF(語言配置表!A2250=\"\",\"CN_待填充内容\",語言配置表!B2250)","v":"（淡笑）去吧，你可以应付的。"}]
[{"$f":"IF(語言配置表!A2251=\"\",\"\",語言配置表!A2251)","v":2248},{"$f":"IF(語言配置表!A2251=\"\",\"CN_待填充内容\",語言配置表!B2251)","v":"尧现在，或许也是这个心情吧。一路赢到底，却再没能静下心来，喝一杯茶。"}]
[{"$f":"IF(語言配置表!A2252=\"\",\"\",語言配置表!A2252)","v":2249},{"$f":"IF(語言配置表!A2252=\"\",\"CN_待填充内容\",語言配置表!B2252)","v":"好了，你回去吧。"}]
[{"$f":"IF(語言配置表!A2253=\"\",\"\",語言配置表!A2253)","v":2250},{"$f":"IF(語言配置表!A2253=\"\",\"CN_待填充内容\",語言配置表!B2253)","v":"我该如何回复尧帝？"}]
[{"$f":"IF(語言配置表!A2254=\"\",\"\",語言配置表!A2254)","v":2251},{"$f":"IF(語言配置表!A2254=\"\",\"CN_待填充内容\",語言配置表!B2254)","v":"多谢前辈提醒。"}]
[{"$f":"IF(語言配置表!A2255=\"\",\"\",語言配置表!A2255)","v":2252},{"$f":"IF(語言配置表!A2255=\"\",\"CN_待填充内容\",語言配置表!B2255)","v":"“道不碍政，心自碍道”。若心不净，纵避千山万水，又有何用。"}]
[{"$f":"IF(語言配置表!A2256=\"\",\"\",語言配置表!A2256)","v":2253},{"$f":"IF(語言配置表!A2256=\"\",\"CN_待填充内容\",語言配置表!B2256)","v":"（你低头，看着杯中微动的茶水）\n（喝下第三杯茶，觉得一身轻松）"}]
[{"$f":"IF(語言配置表!A2257=\"\",\"\",語言配置表!A2257)","v":2254},{"$f":"IF(語言配置表!A2257=\"\",\"CN_待填充内容\",語言配置表!B2257)","v":"（你获得了永久属性提升）（此处需要进一步处理）"}]
[{"$f":"IF(語言配置表!A2258=\"\",\"\",語言配置表!A2258)","v":2255},{"$f":"IF(語言配置表!A2258=\"\",\"CN_待填充内容\",語言配置表!B2258)","v":"回尧城与帝尧对话，复述许由之言"}]
[{"$f":"IF(語言配置表!A2259=\"\",\"\",語言配置表!A2259)","v":2256},{"$f":"IF(語言配置表!A2259=\"\",\"CN_待填充内容\",語言配置表!B2259)","v":"前辈，晚辈已往访许由，将事情告知他。"}]
[{"$f":"IF(語言配置表!A2260=\"\",\"\",語言配置表!A2260)","v":2257},{"$f":"IF(語言配置表!A2260=\"\",\"CN_待填充内容\",語言配置表!B2260)","v":"他如何说？"}]
[{"$f":"IF(語言配置表!A2261=\"\",\"\",語言配置表!A2261)","v":2258},{"$f":"IF(語言配置表!A2261=\"\",\"CN_待填充内容\",語言配置表!B2261)","v":"许由不愿出山，让我转告您一句话。\n“道不碍政，心自碍道。”\n若心不净，纵避千山万水，又有何用。”"}]
[{"$f":"IF(語言配置表!A2262=\"\",\"\",語言配置表!A2262)","v":2259},{"$f":"IF(語言配置表!A2262=\"\",\"CN_待填充内容\",語言配置表!B2262)","v":"（帝尧沉默，良久，轻轻点头）他还是那副模样……不肯出山。"}]
[{"$f":"IF(語言配置表!A2263=\"\",\"\",語言配置表!A2263)","v":2260},{"$f":"IF(語言配置表!A2263=\"\",\"CN_待填充内容\",語言配置表!B2263)","v":"（抬眼望你）不过，他说得也有几分道理。"}]
[{"$f":"IF(語言配置表!A2264=\"\",\"\",語言配置表!A2264)","v":2261},{"$f":"IF(語言配置表!A2264=\"\",\"CN_待填充内容\",語言配置表!B2264)","v":"我以为，是天下扰我修行，难道是我自己扰了自己？我再想想吧。（轻叹）"}]
[{"$f":"IF(語言配置表!A2265=\"\",\"\",語言配置表!A2265)","v":2262},{"$f":"IF(語言配置表!A2265=\"\",\"CN_待填充内容\",語言配置表!B2265)","v":"小友，辛苦你这一趟。"}]
[{"$f":"IF(語言配置表!A2266=\"\",\"\",語言配置表!A2266)","v":2263},{"$f":"IF(語言配置表!A2266=\"\",\"CN_待填充内容\",語言配置表!B2266)","v":"你让我想起，我当年初修时，也常在山野之间，与人论道、与妖兽斗法……"}]
[{"$f":"IF(語言配置表!A2267=\"\",\"\",語言配置表!A2267)","v":2264},{"$f":"IF(語言配置表!A2267=\"\",\"CN_待填充内容\",語言配置表!B2267)","v":"（转身，望向殿后灵山）我这里灵气充沛，古迹亦多，不妨在此逗留几日，四处看看。"}]
[{"$f":"IF(語言配置表!A2268=\"\",\"\",語言配置表!A2268)","v":2265},{"$f":"IF(語言配置表!A2268=\"\",\"CN_待填充内容\",語言配置表!B2268)","v":"或许这也是冲虚真人引你来的真正用意。"}]
[{"$f":"IF(語言配置表!A2269=\"\",\"\",語言配置表!A2269)","v":2266},{"$f":"IF(語言配置表!A2269=\"\",\"CN_待填充内容\",語言配置表!B2269)","v":"和村民对话"}]
[{"$f":"IF(語言配置表!A2270=\"\",\"\",語言配置表!A2270)","v":2267},{"$f":"IF(語言配置表!A2270=\"\",\"CN_待填充内容\",語言配置表!B2270)","v":"（抬头看树）啧，这棵老怪树，又矮又歪，枝杈乱伸，挡着田，碍着路。"}]
[{"$f":"IF(語言配置表!A2271=\"\",\"\",語言配置表!A2271)","v":2268},{"$f":"IF(語言配置表!A2271=\"\",\"CN_待填充内容\",語言配置表!B2271)","v":"（叹气）啊，对对对。\n长得歪七扭八的，根还凸出土，差点把我家牛绊了。"}]
[{"$f":"IF(語言配置表!A2272=\"\",\"\",語言配置表!A2272)","v":2269},{"$f":"IF(語言配置表!A2272=\"\",\"CN_待填充内容\",語言配置表!B2272)","v":"对对对，要是没有这棵树就好了，空占这么大块好地。"}]
[{"$f":"IF(語言配置表!A2273=\"\",\"\",語言配置表!A2273)","v":2270},{"$f":"IF(語言配置表!A2273=\"\",\"CN_待填充内容\",語言配置表!B2273)","v":"这树是真没用，连个树荫都没，晴天底下站着热，雨天底下水多。"}]
[{"$f":"IF(語言配置表!A2274=\"\",\"\",語言配置表!A2274)","v":2271},{"$f":"IF(語言配置表!A2274=\"\",\"CN_待填充内容\",語言配置表!B2274)","v":"就是啊，想在树下歇个脚都不行。"}]
[{"$f":"IF(語言配置表!A2275=\"\",\"\",語言配置表!A2275)","v":2272},{"$f":"IF(語言配置表!A2275=\"\",\"CN_待填充内容\",語言配置表!B2275)","v":"（环顾左右）是吗，我就不信，这棵树没有用…"}]
[{"$f":"IF(語言配置表!A2276=\"\",\"\",語言配置表!A2276)","v":2273},{"$f":"IF(語言配置表!A2276=\"\",\"CN_待填充内容\",語言配置表!B2276)","v":"这位仙长，那你说说看，这树能干什么？"}]
[{"$f":"IF(語言配置表!A2277=\"\",\"\",語言配置表!A2277)","v":2274},{"$f":"IF(語言配置表!A2277=\"\",\"CN_待填充内容\",語言配置表!B2277)","v":"劈了当柴烧。"}]
[{"$f":"IF(語言配置表!A2278=\"\",\"\",語言配置表!A2278)","v":2275},{"$f":"IF(語言配置表!A2278=\"\",\"CN_待填充内容\",語言配置表!B2278)","v":"这位仙长，你有所不知，这树又大又硬，根本没法劈。"}]
[{"$f":"IF(語言配置表!A2279=\"\",\"\",語言配置表!A2279)","v":2276},{"$f":"IF(語言配置表!A2279=\"\",\"CN_待填充内容\",語言配置表!B2279)","v":"劈了做家具。"}]
[{"$f":"IF(語言配置表!A2280=\"\",\"\",語言配置表!A2280)","v":2277},{"$f":"IF(語言配置表!A2280=\"\",\"CN_待填充内容\",語言配置表!B2280)","v":"我就是匠人，这树一看就不中用。"}]
[{"$f":"IF(語言配置表!A2281=\"\",\"\",語言配置表!A2281)","v":2278},{"$f":"IF(語言配置表!A2281=\"\",\"CN_待填充内容\",語言配置表!B2281)","v":"锯下来的木头，绳墨拉不直，做不了梁柱，做不了门板，更别说其他家具了。"}]
[{"$f":"IF(語言配置表!A2282=\"\",\"\",語言配置表!A2282)","v":2279},{"$f":"IF(語言配置表!A2282=\"\",\"CN_待填充内容\",語言配置表!B2282)","v":"没错，我是木匠，此树木质发涩发腥，连漆都涂不上，当真无用。"}]
[{"$f":"IF(語言配置表!A2283=\"\",\"\",語言配置表!A2283)","v":2280},{"$f":"IF(語言配置表!A2283=\"\",\"CN_待填充内容\",語言配置表!B2283)","v":"此树如此之大，真的毫无用处吗？\n此树看起来有数千年了。"}]
[{"$f":"IF(語言配置表!A2284=\"\",\"\",語言配置表!A2284)","v":2281},{"$f":"IF(語言配置表!A2284=\"\",\"CN_待填充内容\",語言配置表!B2284)","v":"（见村民纷纷离开了，你靠近大树）"}]
[{"$f":"IF(語言配置表!A2285=\"\",\"\",語言配置表!A2285)","v":2282},{"$f":"IF(語言配置表!A2285=\"\",\"CN_待填充内容\",語言配置表!B2285)","v":"（低沉悠远的声音）我是樗。\n世人见我歪斜，粗大，笑我无用……"}]
[{"$f":"IF(語言配置表!A2286=\"\",\"\",語言配置表!A2286)","v":2283},{"$f":"IF(語言配置表!A2286=\"\",\"CN_待填充内容\",語言配置表!B2286)","v":"可他们不知，正是这‘无用’，让我活过三千年。"}]
[{"$f":"IF(語言配置表!A2287=\"\",\"\",語言配置表!A2287)","v":2284},{"$f":"IF(語言配置表!A2287=\"\",\"CN_待填充内容\",語言配置表!B2287)","v":"那你可曾遗憾？毕竟无人欣赏你。"}]
[{"$f":"IF(語言配置表!A2288=\"\",\"\",語言配置表!A2288)","v":2285},{"$f":"IF(語言配置表!A2288=\"\",\"CN_待填充内容\",語言配置表!B2288)","v":"（枝叶轻摇）欣赏？那些笔直的楠木，被伐去做梁柱，不过百年；"}]
[{"$f":"IF(語言配置表!A2289=\"\",\"\",語言配置表!A2289)","v":2286},{"$f":"IF(語言配置表!A2289=\"\",\"CN_待填充内容\",語言配置表!B2289)","v":"那些秀美的花树，被移栽进庭院，也不过百年。"}]
[{"$f":"IF(語言配置表!A2290=\"\",\"\",語言配置表!A2290)","v":2287},{"$f":"IF(語言配置表!A2290=\"\",\"CN_待填充内容\",語言配置表!B2290)","v":"而我，仍在此处，看春去秋来，听风过林梢，不亦乐乎？"}]
[{"$f":"IF(語言配置表!A2291=\"\",\"\",語言配置表!A2291)","v":2288},{"$f":"IF(語言配置表!A2291=\"\",\"CN_待填充内容\",語言配置表!B2291)","v":"可你终究只是一棵树，不能动，不能说话"}]
[{"$f":"IF(語言配置表!A2292=\"\",\"\",語言配置表!A2292)","v":2289},{"$f":"IF(語言配置表!A2292=\"\",\"CN_待填充内容\",語言配置表!B2292)","v":"（树皮浮现苍老面容）动？说话？\n数千年过去，我早已有灵智，可以说话。"}]
[{"$f":"IF(語言配置表!A2293=\"\",\"\",語言配置表!A2293)","v":2290},{"$f":"IF(語言配置表!A2293=\"\",\"CN_待填充内容\",語言配置表!B2293)","v":"不过我确实好久没动过了，小友，今日与你有缘，不如陪我动一动。"}]
[{"$f":"IF(語言配置表!A2294=\"\",\"\",語言配置表!A2294)","v":2291},{"$f":"IF(語言配置表!A2294=\"\",\"CN_待填充内容\",語言配置表!B2294)","v":"不好...这是要找我打架.."}]
[{"$f":"IF(語言配置表!A2295=\"\",\"\",語言配置表!A2295)","v":2292},{"$f":"IF(語言配置表!A2295=\"\",\"CN_待填充内容\",語言配置表!B2295)","v":"击败樗木之灵"}]
[{"$f":"IF(語言配置表!A2296=\"\",\"\",語言配置表!A2296)","v":2293},{"$f":"IF(語言配置表!A2296=\"\",\"CN_待填充内容\",語言配置表!B2296)","v":"击败樗木之灵"}]
[{"$f":"IF(語言配置表!A2297=\"\",\"\",語言配置表!A2297)","v":2294},{"$f":"IF(語言配置表!A2297=\"\",\"CN_待填充内容\",語言配置表!B2297)","v":"境界达到[金丹-前期]"}]
[{"$f":"IF(語言配置表!A2298=\"\",\"\",語言配置表!A2298)","v":2295},{"$f":"IF(語言配置表!A2298=\"\",\"CN_待填充内容\",語言配置表!B2298)","v":"此处奇遇众多，灵气充裕，就留在此处修行，达到筑基巅峰吧。"}]
[{"$f":"IF(語言配置表!A2299=\"\",\"\",語言配置表!A2299)","v":2296},{"$f":"IF(語言配置表!A2299=\"\",\"CN_待填充内容\",語言配置表!B2299)","v":"此地果真是好地方，修为又有精进。"}]
[{"$f":"IF(語言配置表!A2300=\"\",\"\",語言配置表!A2300)","v":2297},{"$f":"IF(語言配置表!A2300=\"\",\"CN_待填充内容\",語言配置表!B2300)","v":"不过想要达到更高的境界，突破冲虚说的什么心境，还需继续修行。"}]
[{"$f":"IF(語言配置表!A2301=\"\",\"\",語言配置表!A2301)","v":2298},{"$f":"IF(語言配置表!A2301=\"\",\"CN_待填充内容\",語言配置表!B2301)","v":"是时候离开了，去问问尧帝有何建议。"}]
[{"$f":"IF(語言配置表!A2302=\"\",\"\",語言配置表!A2302)","v":2299},{"$f":"IF(語言配置表!A2302=\"\",\"CN_待填充内容\",語言配置表!B2302)","v":"仙山传说"}]
[{"$f":"IF(語言配置表!A2303=\"\",\"\",語言配置表!A2303)","v":2300},{"$f":"IF(語言配置表!A2303=\"\",\"CN_待填充内容\",語言配置表!B2303)","v":"（高兴）小友，你来了。"}]
[{"$f":"IF(語言配置表!A2304=\"\",\"\",語言配置表!A2304)","v":2301},{"$f":"IF(語言配置表!A2304=\"\",\"CN_待填充内容\",語言配置表!B2304)","v":"数月不见，你已入筑基巅峰，距离结丹，也是指日可待！"}]
[{"$f":"IF(語言配置表!A2305=\"\",\"\",語言配置表!A2305)","v":2302},{"$f":"IF(語言配置表!A2305=\"\",\"CN_待填充内容\",語言配置表!B2305)","v":"多谢尧帝，我是来辞行的，也想打听一下，关于“七道心境”的更多线索"}]
[{"$f":"IF(語言配置表!A2306=\"\",\"\",語言配置表!A2306)","v":2303},{"$f":"IF(語言配置表!A2306=\"\",\"CN_待填充内容\",語言配置表!B2306)","v":"小友，你可曾听过‘藐姑射山’"}]
[{"$f":"IF(語言配置表!A2307=\"\",\"\",語言配置表!A2307)","v":2304},{"$f":"IF(語言配置表!A2307=\"\",\"CN_待填充内容\",語言配置表!B2307)","v":"未曾听闻，请前辈指点。"}]
[{"$f":"IF(語言配置表!A2308=\"\",\"\",語言配置表!A2308)","v":2305},{"$f":"IF(語言配置表!A2308=\"\",\"CN_待填充内容\",語言配置表!B2308)","v":"莫非是传说中的仙人居所？"}]
[{"$f":"IF(語言配置表!A2309=\"\",\"\",語言配置表!A2309)","v":2306},{"$f":"IF(語言配置表!A2309=\"\",\"CN_待填充内容\",語言配置表!B2309)","v":"此山在尧都之北，云雾缭绕，凡人难见。当年我巡狩天下，偶遇山中神人……\n（尧帝眼神恍惚，似陷入回忆）"}]
[{"$f":"IF(語言配置表!A2310=\"\",\"\",語言配置表!A2310)","v":2307},{"$f":"IF(語言配置表!A2310=\"\",\"CN_待填充内容\",語言配置表!B2310)","v":"不错。山中神人，她皮肤润白像冰雪，体态柔美如年轻的女子，不食五谷，吸清风饮甘露，乘云气驾飞龙，遨游于四海之外。"}]
[{"$f":"IF(語言配置表!A2311=\"\",\"\",語言配置表!A2311)","v":2308},{"$f":"IF(語言配置表!A2311=\"\",\"CN_待填充内容\",語言配置表!B2311)","v":"当年见到神人时，我已是一都之君。可在她面前，自觉渺小如尘沙，治理的天下如同儿戏一般。"}]
[{"$f":"IF(語言配置表!A2312=\"\",\"\",語言配置表!A2312)","v":2309},{"$f":"IF(語言配置表!A2312=\"\",\"CN_待填充内容\",語言配置表!B2312)","v":"甚至连开口说话，都没有勇气…"}]
[{"$f":"IF(語言配置表!A2313=\"\",\"\",語言配置表!A2313)","v":2310},{"$f":"IF(語言配置表!A2313=\"\",\"CN_待填充内容\",語言配置表!B2313)","v":"......"}]
[{"$f":"IF(語言配置表!A2314=\"\",\"\",語言配置表!A2314)","v":2311},{"$f":"IF(語言配置表!A2314=\"\",\"CN_待填充内容\",語言配置表!B2314)","v":"连尧帝都如此敬畏，那神人究竟何等境界？"}]
[{"$f":"IF(語言配置表!A2315=\"\",\"\",語言配置表!A2315)","v":2312},{"$f":"IF(語言配置表!A2315=\"\",\"CN_待填充内容\",語言配置表!B2315)","v":"我也不知..你可前去寻觅，如有缘遇见，定能提升修为，突破心境。"}]
[{"$f":"IF(語言配置表!A2316=\"\",\"\",語言配置表!A2316)","v":2313},{"$f":"IF(語言配置表!A2316=\"\",\"CN_待填充内容\",語言配置表!B2316)","v":"你手中的逍遥铃，绝非凡物，跟着它的指引，应该能找到藐姑射山。"}]
[{"$f":"IF(語言配置表!A2317=\"\",\"\",語言配置表!A2317)","v":2314},{"$f":"IF(語言配置表!A2317=\"\",\"CN_待填充内容\",語言配置表!B2317)","v":"多谢前辈。"}]
[{"$f":"IF(語言配置表!A2318=\"\",\"\",語言配置表!A2318)","v":2315},{"$f":"IF(語言配置表!A2318=\"\",\"CN_待填充内容\",語言配置表!B2318)","v":"入山幻阵"}]
[{"$f":"IF(語言配置表!A2319=\"\",\"\",語言配置表!A2319)","v":2316},{"$f":"IF(語言配置表!A2319=\"\",\"CN_待填充内容\",語言配置表!B2319)","v":"仙山被五行阵笼罩，需要击败阵眼方可破除（细节待设计）"}]
[{"$f":"IF(語言配置表!A2320=\"\",\"\",語言配置表!A2320)","v":2317},{"$f":"IF(語言配置表!A2320=\"\",\"CN_待填充内容\",語言配置表!B2320)","v":"阵眼妖兽被击败，仙山现在可以进入了（细节待设计）"}]
[{"$f":"IF(語言配置表!A2321=\"\",\"\",語言配置表!A2321)","v":2318},{"$f":"IF(語言配置表!A2321=\"\",\"CN_待填充内容\",語言配置表!B2321)","v":"听惠子吹嘘种子来历，并答应帮他种葫芦"}]
[{"$f":"IF(語言配置表!A2322=\"\",\"\",語言配置表!A2322)","v":2319},{"$f":"IF(語言配置表!A2322=\"\",\"CN_待填充内容\",語言配置表!B2322)","v":"（惠子手持一颗七彩流光的种子，满脸得意）\n“小友！来得正好！瞧我这宝贝——”"}]
[{"$f":"IF(語言配置表!A2323=\"\",\"\",語言配置表!A2323)","v":2320},{"$f":"IF(語言配置表!A2323=\"\",\"CN_待填充内容\",語言配置表!B2323)","v":"（惠子举起一颗种子，阳光照射下熠熠生辉）\n“此乃‘五石葫芦’之种！虽然我也不知道能种出来什么，但绝非凡品，一定大有用处！”"}]
[{"$f":"IF(語言配置表!A2324=\"\",\"\",語言配置表!A2324)","v":2321},{"$f":"IF(語言配置表!A2324=\"\",\"CN_待填充内容\",語言配置表!B2324)","v":"这么厉害？哪来的？"}]
[{"$f":"IF(語言配置表!A2325=\"\",\"\",語言配置表!A2325)","v":2322},{"$f":"IF(語言配置表!A2325=\"\",\"CN_待填充内容\",語言配置表!B2325)","v":"这是我的好朋友庄子送我的，给的时候，还神神秘秘的，说种出来的东西很好玩。"}]
[{"$f":"IF(語言配置表!A2326=\"\",\"\",語言配置表!A2326)","v":2323},{"$f":"IF(語言配置表!A2326=\"\",\"CN_待填充内容\",語言配置表!B2326)","v":"原来如此。\n我游历到这里，是想拜访山中神仙，请道友指路。"}]
[{"$f":"IF(語言配置表!A2327=\"\",\"\",語言配置表!A2327)","v":2324},{"$f":"IF(語言配置表!A2327=\"\",\"CN_待填充内容\",語言配置表!B2327)","v":"又是来找神仙的？\n帮你也不是不行，但是你得先帮我，帮我种葫芦！"}]
[{"$f":"IF(語言配置表!A2328=\"\",\"\",語言配置表!A2328)","v":2325},{"$f":"IF(語言配置表!A2328=\"\",\"CN_待填充内容\",語言配置表!B2328)","v":"我不擅长种植"}]
[{"$f":"IF(語言配置表!A2329=\"\",\"\",語言配置表!A2329)","v":2326},{"$f":"IF(語言配置表!A2329=\"\",\"CN_待填充内容\",語言配置表!B2329)","v":"没事，我非常擅长，哈哈。\n道友只需要帮我找几种肥料即可。"}]
[{"$f":"IF(語言配置表!A2330=\"\",\"\",語言配置表!A2330)","v":2327},{"$f":"IF(語言配置表!A2330=\"\",\"CN_待填充内容\",語言配置表!B2330)","v":"道友请讲…"}]
[{"$f":"IF(語言配置表!A2331=\"\",\"\",語言配置表!A2331)","v":2328},{"$f":"IF(語言配置表!A2331=\"\",\"CN_待填充内容\",語言配置表!B2331)","v":"此葫芦种子，需要2种肥料：“天肥”和“地肥”。"}]
[{"$f":"IF(語言配置表!A2332=\"\",\"\",語言配置表!A2332)","v":2329},{"$f":"IF(語言配置表!A2332=\"\",\"CN_待填充内容\",語言配置表!B2332)","v":"....未曾听闻…"}]
[{"$f":"IF(語言配置表!A2333=\"\",\"\",語言配置表!A2333)","v":2330},{"$f":"IF(語言配置表!A2333=\"\",\"CN_待填充内容\",語言配置表!B2333)","v":"何为“天肥”"}]
[{"$f":"IF(語言配置表!A2334=\"\",\"\",語言配置表!A2334)","v":2331},{"$f":"IF(語言配置表!A2334=\"\",\"CN_待填充内容\",語言配置表!B2334)","v":"天肥很简单，你往上看\n（惠子把手指向云端）"}]
[{"$f":"IF(語言配置表!A2335=\"\",\"\",語言配置表!A2335)","v":2332},{"$f":"IF(語言配置表!A2335=\"\",\"CN_待填充内容\",語言配置表!B2335)","v":"此山附近有许多飞行的灵兽围绕，你去击败几只飞行的灵兽，就有机会拿到了。"}]
[{"$f":"IF(語言配置表!A2336=\"\",\"\",語言配置表!A2336)","v":2333},{"$f":"IF(語言配置表!A2336=\"\",\"CN_待填充内容\",語言配置表!B2336)","v":"何为“地肥”"}]
[{"$f":"IF(語言配置表!A2337=\"\",\"\",語言配置表!A2337)","v":2334},{"$f":"IF(語言配置表!A2337=\"\",\"CN_待填充内容\",語言配置表!B2337)","v":"这地肥就比较麻烦了，需要2000年以上的灵木树枝才能当“地肥”"}]
[{"$f":"IF(語言配置表!A2338=\"\",\"\",語言配置表!A2338)","v":2335},{"$f":"IF(語言配置表!A2338=\"\",\"CN_待填充内容\",語言配置表!B2338)","v":"不过，这千年以上的树木，都会化形，不好找啊，不好找。"}]
[{"$f":"IF(語言配置表!A2339=\"\",\"\",語言配置表!A2339)","v":2336},{"$f":"IF(語言配置表!A2339=\"\",\"CN_待填充内容\",語言配置表!B2339)","v":"好的道友，那我这就去寻。"}]
[{"$f":"IF(語言配置表!A2340=\"\",\"\",語言配置表!A2340)","v":2337},{"$f":"IF(語言配置表!A2340=\"\",\"CN_待填充内容\",語言配置表!B2340)","v":"天肥地肥"}]
[{"$f":"IF(語言配置表!A2341=\"\",\"\",語言配置表!A2341)","v":2338},{"$f":"IF(語言配置表!A2341=\"\",\"CN_待填充内容\",語言配置表!B2341)","v":"你来到飞行的灵兽周围，碰碰运气吧。"}]
[{"$f":"IF(語言配置表!A2342=\"\",\"\",語言配置表!A2342)","v":2339},{"$f":"IF(語言配置表!A2342=\"\",\"CN_待填充内容\",語言配置表!B2342)","v":"天肥搜集到了，关于地肥，你突然想到之前碰到的樗木之灵"}]
[{"$f":"IF(語言配置表!A2343=\"\",\"\",語言配置表!A2343)","v":2340},{"$f":"IF(語言配置表!A2343=\"\",\"CN_待填充内容\",語言配置表!B2343)","v":"前辈，我有一事相求。"}]
[{"$f":"IF(語言配置表!A2344=\"\",\"\",語言配置表!A2344)","v":2341},{"$f":"IF(語言配置表!A2344=\"\",\"CN_待填充内容\",語言配置表!B2344)","v":"小友请说"}]
[{"$f":"IF(語言配置表!A2345=\"\",\"\",語言配置表!A2345)","v":2342},{"$f":"IF(語言配置表!A2345=\"\",\"CN_待填充内容\",語言配置表!B2345)","v":"我在藐姑射山时，遇到有位道友让我帮他找“地肥”来种葫芦...\n不止前辈可否借我一点点树枝。"}]
[{"$f":"IF(語言配置表!A2346=\"\",\"\",語言配置表!A2346)","v":2343},{"$f":"IF(語言配置表!A2346=\"\",\"CN_待填充内容\",語言配置表!B2346)","v":"好说好说，以后多来陪我聊聊天就好。"}]
[{"$f":"IF(語言配置表!A2347=\"\",\"\",語言配置表!A2347)","v":2344},{"$f":"IF(語言配置表!A2347=\"\",\"CN_待填充内容\",語言配置表!B2347)","v":"多谢前辈！  （得到樗木的树枝）"}]
[{"$f":"IF(語言配置表!A2348=\"\",\"\",語言配置表!A2348)","v":2345},{"$f":"IF(語言配置表!A2348=\"\",\"CN_待填充内容\",語言配置表!B2348)","v":"登山"}]
[{"$f":"IF(語言配置表!A2349=\"\",\"\",語言配置表!A2349)","v":2346},{"$f":"IF(語言配置表!A2349=\"\",\"CN_待填充内容\",語言配置表!B2349)","v":"（眼睛一亮）好好好！\n这位道友果然好手段！竟真能找到“地肥”！"}]
[{"$f":"IF(語言配置表!A2350=\"\",\"\",語言配置表!A2350)","v":2347},{"$f":"IF(語言配置表!A2350=\"\",\"CN_待填充内容\",語言配置表!B2350)","v":"（谁管你的葫芦....）\n请道友告知，哪里可以见到神仙，我有事相求。"}]
[{"$f":"IF(語言配置表!A2351=\"\",\"\",語言配置表!A2351)","v":2348},{"$f":"IF(語言配置表!A2351=\"\",\"CN_待填充内容\",語言配置表!B2351)","v":"不瞒道友，我在这藐姑射山的山脚生活多年，并未见过神仙。\n来找神仙的倒是多…"}]
[{"$f":"IF(語言配置表!A2352=\"\",\"\",語言配置表!A2352)","v":2349},{"$f":"IF(語言配置表!A2352=\"\",\"CN_待填充内容\",語言配置表!B2352)","v":"…"}]
[{"$f":"IF(語言配置表!A2353=\"\",\"\",語言配置表!A2353)","v":2350},{"$f":"IF(語言配置表!A2353=\"\",\"CN_待填充内容\",語言配置表!B2353)","v":"不过道友也不要急，我确实听庄子提过，此山有神仙的事迹。"}]
[{"$f":"IF(語言配置表!A2354=\"\",\"\",語言配置表!A2354)","v":2351},{"$f":"IF(語言配置表!A2354=\"\",\"CN_待填充内容\",語言配置表!B2354)","v":"我屋后设有一阵法，隐藏了上山的小路，我一会开启法阵，你从那边上山吧。"}]
[{"$f":"IF(語言配置表!A2355=\"\",\"\",語言配置表!A2355)","v":2352},{"$f":"IF(語言配置表!A2355=\"\",\"CN_待填充内容\",語言配置表!B2355)","v":"我这就启程登山！"}]
[{"$f":"IF(語言配置表!A2356=\"\",\"\",語言配置表!A2356)","v":2353},{"$f":"IF(語言配置表!A2356=\"\",\"CN_待填充内容\",語言配置表!B2356)","v":"道友竟然精通阵法？"}]
[{"$f":"IF(語言配置表!A2357=\"\",\"\",語言配置表!A2357)","v":2354},{"$f":"IF(語言配置表!A2357=\"\",\"CN_待填充内容\",語言配置表!B2357)","v":"去吧，登上山顶，也许能找到你想要的。"}]
[{"$f":"IF(語言配置表!A2358=\"\",\"\",語言配置表!A2358)","v":2355},{"$f":"IF(語言配置表!A2358=\"\",\"CN_待填充内容\",語言配置表!B2358)","v":"好说好说，我确实无心修炼，也对神仙没兴趣。"}]
[{"$f":"IF(語言配置表!A2359=\"\",\"\",語言配置表!A2359)","v":2356},{"$f":"IF(語言配置表!A2359=\"\",\"CN_待填充内容\",語言配置表!B2359)","v":"闲来无事，种种花草，研究研究阵法。\n如果道友有兴趣，可以随时交流。"}]
[{"$f":"IF(語言配置表!A2360=\"\",\"\",語言配置表!A2360)","v":2357},{"$f":"IF(語言配置表!A2360=\"\",\"CN_待填充内容\",語言配置表!B2360)","v":"击杀妖兽"}]
[{"$f":"IF(語言配置表!A2361=\"\",\"\",語言配置表!A2361)","v":2358},{"$f":"IF(語言配置表!A2361=\"\",\"CN_待填充内容\",語言配置表!B2361)","v":"击败后山小妖"}]
[{"$f":"IF(語言配置表!A2362=\"\",\"\",語言配置表!A2362)","v":2359},{"$f":"IF(語言配置表!A2362=\"\",\"CN_待填充内容\",語言配置表!B2362)","v":"击败夜袭的妖兽"}]
[{"$f":"IF(語言配置表!A2363=\"\",\"\",語言配置表!A2363)","v":2360},{"$f":"IF(語言配置表!A2363=\"\",\"CN_待填充内容\",語言配置表!B2363)","v":"击败峰顶的妖王"}]
[{"$f":"IF(語言配置表!A2364=\"\",\"\",語言配置表!A2364)","v":2361},{"$f":"IF(語言配置表!A2364=\"\",\"CN_待填充内容\",語言配置表!B2364)","v":"击败仙山的阵眼妖兽"}]
[{"$f":"IF(語言配置表!A2365=\"\",\"\",語言配置表!A2365)","v":2362},{"$f":"IF(語言配置表!A2365=\"\",\"CN_待填充内容\",語言配置表!B2365)","v":"击杀灵兽获得天肥"}]
[{"$f":"IF(語言配置表!A2366=\"\",\"\",語言配置表!A2366)","v":2363},{"$f":"IF(語言配置表!A2366=\"\",\"CN_待填充内容\",語言配置表!B2366)","v":"神识探索至一处山洞之中，似乎别有洞天"}]
[{"$f":"IF(語言配置表!A2367=\"\",\"\",語言配置表!A2367)","v":2364},{"$f":"IF(語言配置表!A2367=\"\",\"CN_待填充内容\",語言配置表!B2367)","v":"前往山洞之中收集药材"}]
[{"$f":"IF(語言配置表!A2368=\"\",\"\",語言配置表!A2368)","v":2365},{"$f":"IF(語言配置表!A2368=\"\",\"CN_待填充内容\",語言配置表!B2368)","v":"受疯道人所托，追查《御风化影诀》的下落"}]
[{"$f":"IF(語言配置表!A2369=\"\",\"\",語言配置表!A2369)","v":2366},{"$f":"IF(語言配置表!A2369=\"\",\"CN_待填充内容\",語言配置表!B2369)","v":"与疯道人对话(0/1)"}]
[{"$f":"IF(語言配置表!A2370=\"\",\"\",語言配置表!A2370)","v":2367},{"$f":"IF(語言配置表!A2370=\"\",\"CN_待填充内容\",語言配置表!B2370)","v":"小友留步，老夫有一事相求"}]
[{"$f":"IF(語言配置表!A2371=\"\",\"\",語言配置表!A2371)","v":2368},{"$f":"IF(語言配置表!A2371=\"\",\"CN_待填充内容\",語言配置表!B2371)","v":"三十年前北海妖族来犯，击退妖族后老夫捡到个被妖兽重伤的娃娃。"}]
[{"$f":"IF(語言配置表!A2372=\"\",\"\",語言配置表!A2372)","v":2369},{"$f":"IF(語言配置表!A2372=\"\",\"CN_待填充内容\",語言配置表!B2372)","v":"他心口妖气汇聚，周身却萦绕着纯净的风灵根。这般矛盾体质，注定要卷入因果轮回。"}]
[{"$f":"IF(語言配置表!A2373=\"\",\"\",語言配置表!A2373)","v":2370},{"$f":"IF(語言配置表!A2373=\"\",\"CN_待填充内容\",語言配置表!B2373)","v":"于是老夫收留他在门下修养"}]
[{"$f":"IF(語言配置表!A2374=\"\",\"\",語言配置表!A2374)","v":2371},{"$f":"IF(語言配置表!A2374=\"\",\"CN_待填充内容\",語言配置表!B2374)","v":"但他心智被妖气所蛊惑一心只想报仇，整日念叨着要杀尽北海妖族。"}]
[{"$f":"IF(語言配置表!A2375=\"\",\"\",語言配置表!A2375)","v":2372},{"$f":"IF(語言配置表!A2375=\"\",\"CN_待填充内容\",語言配置表!B2375)","v":"但十年的相处老夫早就把他当做亲人看待，为了断掉念想，只得让他离去，他离开之时盗走了洞府中的禁书《御风化影诀》。"}]
[{"$f":"IF(語言配置表!A2376=\"\",\"\",語言配置表!A2376)","v":2373},{"$f":"IF(語言配置表!A2376=\"\",\"CN_待填充内容\",語言配置表!B2376)","v":"\"\""}]
[{"$f":"IF(語言配置表!A2377=\"\",\"\",語言配置表!A2377)","v":2374},{"$f":"IF(語言配置表!A2377=\"\",\"CN_待填充内容\",語言配置表!B2377)","v":"前辈为何不追"}]
[{"$f":"IF(語言配置表!A2378=\"\",\"\",語言配置表!A2378)","v":2375},{"$f":"IF(語言配置表!A2378=\"\",\"CN_待填充内容\",語言配置表!B2378)","v":"他怎会轻易盗走此书"}]
[{"$f":"IF(語言配置表!A2379=\"\",\"\",語言配置表!A2379)","v":2376},{"$f":"IF(語言配置表!A2379=\"\",\"CN_待填充内容\",語言配置表!B2379)","v":"那孩子恐是为了给爹妈寻仇，也是看往日情面，老夫不想亲自动手。"}]
[{"$f":"IF(語言配置表!A2380=\"\",\"\",語言配置表!A2380)","v":2377},{"$f":"IF(語言配置表!A2380=\"\",\"CN_待填充内容\",語言配置表!B2380)","v":"现如今老夫发现山中的生灵会莫名消失，村中孩童也是被神秘的妖气所卷走，这和书中的血肉炼化的方法一模一样，老夫断定是那孩子所为。"}]
[{"$f":"IF(語言配置表!A2381=\"\",\"\",語言配置表!A2381)","v":2378},{"$f":"IF(語言配置表!A2381=\"\",\"CN_待填充内容\",語言配置表!B2381)","v":"小友，我追踪妖气波动，他就在西边的树林之中！"}]
[{"$f":"IF(語言配置表!A2382=\"\",\"\",語言配置表!A2382)","v":2379},{"$f":"IF(語言配置表!A2382=\"\",\"CN_待填充内容\",語言配置表!B2382)","v":"追查风无咎(0/1)"}]
[{"$f":"IF(語言配置表!A2383=\"\",\"\",語言配置表!A2383)","v":2380},{"$f":"IF(語言配置表!A2383=\"\",\"CN_待填充内容\",語言配置表!B2383)","v":"（枯叶居然无风漂浮在空中，地面残留着扭曲的符文刻痕，见风无咎在地上刻画着什么）"}]
[{"$f":"IF(語言配置表!A2384=\"\",\"\",語言配置表!A2384)","v":2381},{"$f":"IF(語言配置表!A2384=\"\",\"CN_待填充内容\",語言配置表!B2384)","v":"(看见主角到来)你小子身上怎会有老疯子的气，是那老头让你来抓我的吗。"}]
[{"$f":"IF(語言配置表!A2385=\"\",\"\",語言配置表!A2385)","v":2382},{"$f":"IF(語言配置表!A2385=\"\",\"CN_待填充内容\",語言配置表!B2385)","v":"前辈见往日情面不愿亲自动手，我一人足以"}]
[{"$f":"IF(語言配置表!A2386=\"\",\"\",語言配置表!A2386)","v":2383},{"$f":"IF(語言配置表!A2386=\"\",\"CN_待填充内容\",語言配置表!B2386)","v":"（说罢，风无咎的影子化形，为了一妖，顿时煞气暴涨）"}]
[{"$f":"IF(語言配置表!A2387=\"\",\"\",語言配置表!A2387)","v":2384},{"$f":"IF(語言配置表!A2387=\"\",\"CN_待填充内容\",語言配置表!B2387)","v":"如今我自断妖魂炼出影身，正好今天拿你试试！"}]
[{"$f":"IF(語言配置表!A2388=\"\",\"\",語言配置表!A2388)","v":2385},{"$f":"IF(語言配置表!A2388=\"\",\"CN_待填充内容\",語言配置表!B2388)","v":"岂会如此！"}]
[{"$f":"IF(語言配置表!A2389=\"\",\"\",語言配置表!A2389)","v":2386},{"$f":"IF(語言配置表!A2389=\"\",\"CN_待填充内容\",語言配置表!B2389)","v":"交还书页，我可留你魂魄入轮回。"}]
[{"$f":"IF(語言配置表!A2390=\"\",\"\",語言配置表!A2390)","v":2387},{"$f":"IF(語言配置表!A2390=\"\",\"CN_待填充内容\",語言配置表!B2390)","v":"轮回？今日是我大意了！老东西还有你，给我等着！（化作一震妖风带着《御风化影诀》逃往远方"}]
[{"$f":"IF(語言配置表!A2391=\"\",\"\",語言配置表!A2391)","v":2388},{"$f":"IF(語言配置表!A2391=\"\",\"CN_待填充内容\",語言配置表!B2391)","v":"这孩子天资聪颖，短短二十年就能参悟书中所写。"}]
[{"$f":"IF(語言配置表!A2392=\"\",\"\",語言配置表!A2392)","v":2389},{"$f":"IF(語言配置表!A2392=\"\",\"CN_待填充内容\",語言配置表!B2392)","v":"无妨，此法需要大量血肉献祭，如此规模的法术定会妖气四散，找到他也是迟早之事。"}]
[{"$f":"IF(語言配置表!A2393=\"\",\"\",語言配置表!A2393)","v":2390},{"$f":"IF(語言配置表!A2393=\"\",\"CN_待填充内容\",語言配置表!B2393)","v":""}]
[{"$f":"IF(語言配置表!A2394=\"\",\"\",語言配置表!A2394)","v":2391},{"$f":"IF(語言配置表!A2394=\"\",\"CN_待填充内容\",語言配置表!B2394)","v":""}]
[{"$f":"IF(語言配置表!A2395=\"\",\"\",語言配置表!A2395)","v":2392},{"$f":"IF(語言配置表!A2395=\"\",\"CN_待填充内容\",語言配置表!B2395)","v":""}]
[{"$f":"IF(語言配置表!A2396=\"\",\"\",語言配置表!A2396)","v":2393},{"$f":"IF(語言配置表!A2396=\"\",\"CN_待填充内容\",語言配置表!B2396)","v":""}]
[{"$f":"IF(語言配置表!A2397=\"\",\"\",語言配置表!A2397)","v":2394},{"$f":"IF(語言配置表!A2397=\"\",\"CN_待填充内容\",語言配置表!B2397)","v":""}]
[{"$f":"IF(語言配置表!A2398=\"\",\"\",語言配置表!A2398)","v":2395},{"$f":"IF(語言配置表!A2398=\"\",\"CN_待填充内容\",語言配置表!B2398)","v":""}]
[{"$f":"IF(語言配置表!A2399=\"\",\"\",語言配置表!A2399)","v":2396},{"$f":"IF(語言配置表!A2399=\"\",\"CN_待填充内容\",語言配置表!B2399)","v":""}]
[{"$f":"IF(語言配置表!A2400=\"\",\"\",語言配置表!A2400)","v":2397},{"$f":"IF(語言配置表!A2400=\"\",\"CN_待填充内容\",語言配置表!B2400)","v":""}]
[{"$f":"IF(語言配置表!A2401=\"\",\"\",語言配置表!A2401)","v":2398},{"$f":"IF(語言配置表!A2401=\"\",\"CN_待填充内容\",語言配置表!B2401)","v":""}]
[{"$f":"IF(語言配置表!A2402=\"\",\"\",語言配置表!A2402)","v":2399},{"$f":"IF(語言配置表!A2402=\"\",\"CN_待填充内容\",語言配置表!B2402)","v":""}]
[{"$f":"IF(語言配置表!A2403=\"\",\"\",語言配置表!A2403)","v":2400},{"$f":"IF(語言配置表!A2403=\"\",\"CN_待填充内容\",語言配置表!B2403)","v":""}]
[{"$f":"IF(語言配置表!A2404=\"\",\"\",語言配置表!A2404)","v":2401},{"$f":"IF(語言配置表!A2404=\"\",\"CN_待填充内容\",語言配置表!B2404)","v":""}]
[{"$f":"IF(語言配置表!A2405=\"\",\"\",語言配置表!A2405)","v":2402},{"$f":"IF(語言配置表!A2405=\"\",\"CN_待填充内容\",語言配置表!B2405)","v":""}]
[{"$f":"IF(語言配置表!A2406=\"\",\"\",語言配置表!A2406)","v":2403},{"$f":"IF(語言配置表!A2406=\"\",\"CN_待填充内容\",語言配置表!B2406)","v":""}]
[{"$f":"IF(語言配置表!A2407=\"\",\"\",語言配置表!A2407)","v":2404},{"$f":"IF(語言配置表!A2407=\"\",\"CN_待填充内容\",語言配置表!B2407)","v":""}]
[{"$f":"IF(語言配置表!A2408=\"\",\"\",語言配置表!A2408)","v":2405},{"$f":"IF(語言配置表!A2408=\"\",\"CN_待填充内容\",語言配置表!B2408)","v":""}]
[{"$f":"IF(語言配置表!A2409=\"\",\"\",語言配置表!A2409)","v":2406},{"$f":"IF(語言配置表!A2409=\"\",\"CN_待填充内容\",語言配置表!B2409)","v":""}]
[{"$f":"IF(語言配置表!A2410=\"\",\"\",語言配置表!A2410)","v":2407},{"$f":"IF(語言配置表!A2410=\"\",\"CN_待填充内容\",語言配置表!B2410)","v":""}]
[{"$f":"IF(語言配置表!A2411=\"\",\"\",語言配置表!A2411)","v":2408},{"$f":"IF(語言配置表!A2411=\"\",\"CN_待填充内容\",語言配置表!B2411)","v":""}]
[{"$f":"IF(語言配置表!A2412=\"\",\"\",語言配置表!A2412)","v":2409},{"$f":"IF(語言配置表!A2412=\"\",\"CN_待填充内容\",語言配置表!B2412)","v":""}]
[{"$f":"IF(語言配置表!A2413=\"\",\"\",語言配置表!A2413)","v":2410},{"$f":"IF(語言配置表!A2413=\"\",\"CN_待填充内容\",語言配置表!B2413)","v":""}]
[{"$f":"IF(語言配置表!A2414=\"\",\"\",語言配置表!A2414)","v":2411},{"$f":"IF(語言配置表!A2414=\"\",\"CN_待填充内容\",語言配置表!B2414)","v":""}]
[{"$f":"IF(語言配置表!A2415=\"\",\"\",語言配置表!A2415)","v":2412},{"$f":"IF(語言配置表!A2415=\"\",\"CN_待填充内容\",語言配置表!B2415)","v":"受化妖剑士所托，帮助他消灭藏匿北海的海妖"}]
[{"$f":"IF(語言配置表!A2416=\"\",\"\",語言配置表!A2416)","v":2413},{"$f":"IF(語言配置表!A2416=\"\",\"CN_待填充内容\",語言配置表!B2416)","v":"与化妖剑士对话"}]
[{"$f":"IF(語言配置表!A2417=\"\",\"\",語言配置表!A2417)","v":2414},{"$f":"IF(語言配置表!A2417=\"\",\"CN_待填充内容\",語言配置表!B2417)","v":"咸腥的海风中，你看见礁石上蜷缩着人形怪物——它的脊椎刺破皮肤形成剑鞘，一柄生满红锈的巨剑就背在嵴骨之间。当它转头看向你时，你不由得心底生寒。"}]
[{"$f":"IF(語言配置表!A2418=\"\",\"\",語言配置表!A2418)","v":2415},{"$f":"IF(語言配置表!A2418=\"\",\"CN_待填充内容\",語言配置表!B2418)","v":"你闻到了吗...海里的血锈味。那厮海妖在这片海滩卷走阿蘅时的这种味道"}]
[{"$f":"IF(語言配置表!A2419=\"\",\"\",語言配置表!A2419)","v":2416},{"$f":"IF(語言配置表!A2419=\"\",\"CN_待填充内容\",語言配置表!B2419)","v":"什么血锈味，我闻不见，你口中的阿蘅是？"}]
[{"$f":"IF(語言配置表!A2420=\"\",\"\",語言配置表!A2420)","v":2417},{"$f":"IF(語言配置表!A2420=\"\",\"CN_待填充内容\",語言配置表!B2420)","v":"我的妻子。"}]
[{"$f":"IF(語言配置表!A2421=\"\",\"\",語言配置表!A2421)","v":2418},{"$f":"IF(語言配置表!A2421=\"\",\"CN_待填充内容\",語言配置表!B2421)","v":"妖怪还有妻子，还挺稀奇。"}]
[{"$f":"IF(語言配置表!A2422=\"\",\"\",語言配置表!A2422)","v":2419},{"$f":"IF(語言配置表!A2422=\"\",\"CN_待填充内容\",語言配置表!B2422)","v":"当年我可是和你一样的修士，但从那之后一切都变了"}]
[{"$f":"IF(語言配置表!A2423=\"\",\"\",語言配置表!A2423)","v":2420},{"$f":"IF(語言配置表!A2423=\"\",\"CN_待填充内容\",語言配置表!B2423)","v":"百余年我送给阿蘅的定情信物贝壳项链，被阿蘅不慎遗失在这片海滩，她于是在这苦苦寻找。可突然间一头妖兽现身，将她拖入了海中！"}]
[{"$f":"IF(語言配置表!A2424=\"\",\"\",語言配置表!A2424)","v":2421},{"$f":"IF(語言配置表!A2424=\"\",\"CN_待填充内容\",語言配置表!B2424)","v":"得知此事后一直守在这，等着那厮妖兽从海中现身。"}]
[{"$f":"IF(語言配置表!A2425=\"\",\"\",語言配置表!A2425)","v":2422},{"$f":"IF(語言配置表!A2425=\"\",\"CN_待填充内容\",語言配置表!B2425)","v":"我在这片海滩终于等到那厮妖兽从海中出现，我便提剑向其冲去，我的剑深深刺入了妖兽的身体，它一吃痛逃入了这片海中，空中忽然刮起了狂风，被狂风阻拦无法进入海中追寻，妖兽也被狂风困在了海中"}]
[{"$f":"IF(語言配置表!A2426=\"\",\"\",語言配置表!A2426)","v":2423},{"$f":"IF(語言配置表!A2426=\"\",\"CN_待填充内容\",語言配置表!B2426)","v":"那你为何会变成了妖"}]
[{"$f":"IF(語言配置表!A2427=\"\",\"\",語言配置表!A2427)","v":2424},{"$f":"IF(語言配置表!A2427=\"\",\"CN_待填充内容\",語言配置表!B2427)","v":"因北海妖气横行，我被妖气入体，身体慢慢发生了变化，不妨这也算北海对我的恩赐，妻子死后我日以继日的待在这里等着复仇，等着斩杀掉那只吞掉我妻子的妖兽。"}]
[{"$f":"IF(語言配置表!A2428=\"\",\"\",語言配置表!A2428)","v":2425},{"$f":"IF(語言配置表!A2428=\"\",\"CN_待填充内容\",語言配置表!B2428)","v":"我有办法驱散狂风"}]
[{"$f":"IF(語言配置表!A2429=\"\",\"\",語言配置表!A2429)","v":2426},{"$f":"IF(語言配置表!A2429=\"\",\"CN_待填充内容\",語言配置表!B2429)","v":"（拿出风灵珠驱散海面狂风）（瞬间海面变的不平，一头妖力浑厚的妖兽从海面中跃出）"}]
[{"$f":"IF(語言配置表!A2430=\"\",\"\",語言配置表!A2430)","v":2427},{"$f":"IF(語言配置表!A2430=\"\",\"CN_待填充内容\",語言配置表!B2430)","v":"追查海妖(0/1)"}]
[{"$f":"IF(語言配置表!A2431=\"\",\"\",語言配置表!A2431)","v":2428},{"$f":"IF(語言配置表!A2431=\"\",\"CN_待填充内容\",語言配置表!B2431)","v":"小友有如此绝技，当斩杀那厮妖兽后定当好好报答你！"}]
[{"$f":"IF(語言配置表!A2432=\"\",\"\",語言配置表!A2432)","v":2429},{"$f":"IF(語言配置表!A2432=\"\",\"CN_待填充内容\",語言配置表!B2432)","v":"小友你快躲开，无论如何我也要这妖兽葬身于此！即便魂飞魄散永世不得轮回也无所谓！阿蘅，我来见你了！"}]
[{"$f":"IF(語言配置表!A2433=\"\",\"\",語言配置表!A2433)","v":2430},{"$f":"IF(語言配置表!A2433=\"\",\"CN_待填充内容\",語言配置表!B2433)","v":"海面沸腾，妖兽嘶吼着掀起滔天巨浪，触须如铁鞭般抽向你。剑妖猛地推开你，他脊骨间的锈剑剧烈震颤，裂纹中迸发出刺目的血光。"}]
[{"$f":"IF(語言配置表!A2434=\"\",\"\",語言配置表!A2434)","v":2431},{"$f":"IF(語言配置表!A2434=\"\",\"CN_待填充内容\",語言配置表!B2434)","v":"百年的执念……今日，该了结了！"}]
[{"$f":"IF(語言配置表!A2435=\"\",\"\",語言配置表!A2435)","v":2432},{"$f":"IF(語言配置表!A2435=\"\",\"CN_待填充内容\",語言配置表!B2435)","v":"剑妖的身体开始崩解，血肉化作赤红的火焰，缠绕着锈剑熊熊燃烧。那半枚嵌在脸上的银簪突然亮起幽蓝的光，与妖兽颅骨中的另半枚遥相呼应。"}]
[{"$f":"IF(語言配置表!A2436=\"\",\"\",語言配置表!A2436)","v":2433},{"$f":"IF(語言配置表!A2436=\"\",\"CN_待填充内容\",語言配置表!B2436)","v":"阿蘅……你看到了吗？我终于……能带你回家了！"}]
[{"$f":"IF(語言配置表!A2437=\"\",\"\",語言配置表!A2437)","v":2434},{"$f":"IF(語言配置表!A2437=\"\",\"CN_待填充内容\",語言配置表!B2437)","v":"他化作一道血色，贯穿妖兽的头颅。银簪在爆炸的强光中被蹦飞，妖兽发出凄厉的哀嚎，庞大的身躯寸寸瓦解，化作漫天荧光。"}]
[{"$f":"IF(語言配置表!A2438=\"\",\"\",語言配置表!A2438)","v":2435},{"$f":"IF(語言配置表!A2438=\"\",\"CN_待填充内容\",語言配置表!B2438)","v":"受疯道人所托，追查《御风化影诀》的下落"}]
[{"$f":"IF(語言配置表!A2439=\"\",\"\",語言配置表!A2439)","v":2436},{"$f":"IF(語言配置表!A2439=\"\",\"CN_待填充内容\",語言配置表!B2439)","v":"与疯道人对话(0/1)"}]
[{"$f":"IF(語言配置表!A2440=\"\",\"\",語言配置表!A2440)","v":2437},{"$f":"IF(語言配置表!A2440=\"\",\"CN_待填充内容\",語言配置表!B2440)","v":"小友，可曾记得风无咎"}]
[{"$f":"IF(語言配置表!A2441=\"\",\"\",語言配置表!A2441)","v":2438},{"$f":"IF(語言配置表!A2441=\"\",\"CN_待填充内容\",語言配置表!B2441)","v":"老夫感受到了风无咎的藏匿之地。"}]
[{"$f":"IF(語言配置表!A2442=\"\",\"\",語言配置表!A2442)","v":2439},{"$f":"IF(語言配置表!A2442=\"\",\"CN_待填充内容\",語言配置表!B2442)","v":"前辈我这就赶去。"}]
[{"$f":"IF(語言配置表!A2443=\"\",\"\",語言配置表!A2443)","v":2440},{"$f":"IF(語言配置表!A2443=\"\",\"CN_待填充内容\",語言配置表!B2443)","v":"（风无咎在一血池之中打坐，身旁妖气环绕，一眼望去全是生灵血肉）"}]
[{"$f":"IF(語言配置表!A2444=\"\",\"\",語言配置表!A2444)","v":2441},{"$f":"IF(語言配置表!A2444=\"\",\"CN_待填充内容\",語言配置表!B2444)","v":"竟用生魂喂养功法...小友当心！"}]
[{"$f":"IF(語言配置表!A2445=\"\",\"\",語言配置表!A2445)","v":2442},{"$f":"IF(語言配置表!A2445=\"\",\"CN_待填充内容\",語言配置表!B2445)","v":"（血池突然炸开，风妖与影妖完全融合，妖躯浮现古魔纹路）"}]
[{"$f":"IF(語言配置表!A2446=\"\",\"\",語言配置表!A2446)","v":2443},{"$f":"IF(語言配置表!A2446=\"\",\"CN_待填充内容\",語言配置表!B2446)","v":"那日是我疏忽大意，这《御风化影诀》留给你们也是暴殄天物，如今在我手上才能发挥它的用处，多说无益既然你们追来了就留下给我当做丹引让我的功力更上一步吧！"}]
[{"$f":"IF(語言配置表!A2447=\"\",\"\",語言配置表!A2447)","v":2444},{"$f":"IF(語言配置表!A2447=\"\",\"CN_待填充内容\",語言配置表!B2447)","v":"击败风无咎(0/1)"}]
[{"$f":"IF(語言配置表!A2448=\"\",\"\",語言配置表!A2448)","v":2445},{"$f":"IF(語言配置表!A2448=\"\",\"CN_待填充内容\",語言配置表!B2448)","v":"大胆邪修，今日就让你魂飞魄散。"}]
[{"$f":"IF(語言配置表!A2449=\"\",\"\",語言配置表!A2449)","v":2446},{"$f":"IF(語言配置表!A2449=\"\",\"CN_待填充内容\",語言配置表!B2449)","v":"妖族灭我父母，修道的也要杀了我，我究竟做错了什么！"}]
[{"$f":"IF(語言配置表!A2450=\"\",\"\",語言配置表!A2450)","v":2447},{"$f":"IF(語言配置表!A2450=\"\",\"CN_待填充内容\",語言配置表!B2450)","v":"疯道人赶来后醉醺醺的说道"}]
[{"$f":"IF(語言配置表!A2451=\"\",\"\",語言配置表!A2451)","v":2448},{"$f":"IF(語言配置表!A2451=\"\",\"CN_待填充内容\",語言配置表!B2451)","v":"小友还请留手。"}]
[{"$f":"IF(語言配置表!A2452=\"\",\"\",語言配置表!A2452)","v":2449},{"$f":"IF(語言配置表!A2452=\"\",\"CN_待填充内容\",語言配置表!B2452)","v":"\"\""}]
[{"$f":"IF(語言配置表!A2453=\"\",\"\",語言配置表!A2453)","v":2450},{"$f":"IF(語言配置表!A2453=\"\",\"CN_待填充内容\",語言配置表!B2453)","v":"前辈这种时刻还有心思喝酒"}]
[{"$f":"IF(語言配置表!A2454=\"\",\"\",語言配置表!A2454)","v":2451},{"$f":"IF(語言配置表!A2454=\"\",\"CN_待填充内容\",語言配置表!B2454)","v":"这步入邪道之人留着为何"}]
[{"$f":"IF(語言配置表!A2455=\"\",\"\",語言配置表!A2455)","v":2452},{"$f":"IF(語言配置表!A2455=\"\",\"CN_待填充内容\",語言配置表!B2455)","v":"所谓《御风化影诀》凡人无法驾驭，老夫念他风灵根强大便想着拿去便是"}]
[{"$f":"IF(語言配置表!A2456=\"\",\"\",語言配置表!A2456)","v":2453},{"$f":"IF(語言配置表!A2456=\"\",\"CN_待填充内容\",語言配置表!B2456)","v":"没想到你以魂为薪...以血为引...强行修炼"}]
[{"$f":"IF(語言配置表!A2457=\"\",\"\",語言配置表!A2457)","v":2454},{"$f":"IF(語言配置表!A2457=\"\",\"CN_待填充内容\",語言配置表!B2457)","v":"今日放你一马，去洗涤魔气后还能拜入我的门下"}]
[{"$f":"IF(語言配置表!A2458=\"\",\"\",語言配置表!A2458)","v":2455},{"$f":"IF(語言配置表!A2458=\"\",\"CN_待填充内容\",語言配置表!B2458)","v":"记住，靠吞噬得来的力量，终有一日会反噬其主。"}]
[{"$f":"IF(語言配置表!A2459=\"\",\"\",語言配置表!A2459)","v":2456},{"$f":"IF(語言配置表!A2459=\"\",\"CN_待填充内容\",語言配置表!B2459)","v":"神识探索至一处矿井之中，此处灵气氤氲"}]
[{"$f":"IF(語言配置表!A2460=\"\",\"\",語言配置表!A2460)","v":2457},{"$f":"IF(語言配置表!A2460=\"\",\"CN_待填充内容\",語言配置表!B2460)","v":"前往矿井采集灵矿"}]
[{"$f":"IF(語言配置表!A2461=\"\",\"\",語言配置表!A2461)","v":2458},{"$f":"IF(語言配置表!A2461=\"\",\"CN_待填充内容\",語言配置表!B2461)","v":"神识经过一处荒废寺庙之外，寺庙之中似乎有不同寻常之物"}]
[{"$f":"IF(語言配置表!A2462=\"\",\"\",語言配置表!A2462)","v":2459},{"$f":"IF(語言配置表!A2462=\"\",\"CN_待填充内容\",語言配置表!B2462)","v":"进入寺庙找寻散发灵气的修为丹"}]
[{"$f":"IF(語言配置表!A2463=\"\",\"\",語言配置表!A2463)","v":2460},{"$f":"IF(語言配置表!A2463=\"\",\"CN_待填充内容\",語言配置表!B2463)","v":"神识至一处灵气充盈之地，似乎是处洞府"}]
[{"$f":"IF(語言配置表!A2464=\"\",\"\",語言配置表!A2464)","v":2461},{"$f":"IF(語言配置表!A2464=\"\",\"CN_待填充内容\",語言配置表!B2464)","v":"进入洞府收集可用之物"}]
[{"$f":"IF(語言配置表!A2465=\"\",\"\",語言配置表!A2465)","v":2462},{"$f":"IF(語言配置表!A2465=\"\",\"CN_待填充内容\",語言配置表!B2465)","v":"一个不知好歹的邪修拦住了你的去路！"}]
[{"$f":"IF(語言配置表!A2466=\"\",\"\",語言配置表!A2466)","v":2463},{"$f":"IF(語言配置表!A2466=\"\",\"CN_待填充内容\",語言配置表!B2466)","v":"击败山贼（0/1)"}]
[{"$f":"IF(語言配置表!A2467=\"\",\"\",語言配置表!A2467)","v":2464},{"$f":"IF(語言配置表!A2467=\"\",\"CN_待填充内容\",語言配置表!B2467)","v":"此路是我开，此树是我栽，要想从此过，留下买命财！"}]
[{"$f":"IF(語言配置表!A2468=\"\",\"\",語言配置表!A2468)","v":2465},{"$f":"IF(語言配置表!A2468=\"\",\"CN_待填充内容\",語言配置表!B2468)","v":"大胆山贼，拿命来！"}]
[{"$f":"IF(語言配置表!A2469=\"\",\"\",語言配置表!A2469)","v":2466},{"$f":"IF(語言配置表!A2469=\"\",\"CN_待填充内容\",語言配置表!B2469)","v":"一位和尚叫住了你，貌似有什么急事"}]
[{"$f":"IF(語言配置表!A2470=\"\",\"\",語言配置表!A2470)","v":2467},{"$f":"IF(語言配置表!A2470=\"\",\"CN_待填充内容\",語言配置表!B2470)","v":"找到袈裟"}]
[{"$f":"IF(語言配置表!A2471=\"\",\"\",語言配置表!A2471)","v":2468},{"$f":"IF(語言配置表!A2471=\"\",\"CN_待填充内容\",語言配置表!B2471)","v":"仙长，我的袈裟被可恶的妖兽夺走了，还请为老僧主持公道啊"}]
[{"$f":"IF(語言配置表!A2472=\"\",\"\",語言配置表!A2472)","v":2469},{"$f":"IF(語言配置表!A2472=\"\",\"CN_待填充内容\",語言配置表!B2472)","v":"在此等待即可"}]
[{"$f":"IF(語言配置表!A2473=\"\",\"\",語言配置表!A2473)","v":2470},{"$f":"IF(語言配置表!A2473=\"\",\"CN_待填充内容\",語言配置表!B2473)","v":"一位和尚叫住了你，貌似有什么急事"}]
[{"$f":"IF(語言配置表!A2474=\"\",\"\",語言配置表!A2474)","v":2471},{"$f":"IF(語言配置表!A2474=\"\",\"CN_待填充内容\",語言配置表!B2474)","v":"找到袈裟"}]
[{"$f":"IF(語言配置表!A2475=\"\",\"\",語言配置表!A2475)","v":2472},{"$f":"IF(語言配置表!A2475=\"\",\"CN_待填充内容\",語言配置表!B2475)","v":"感谢仙长帮我寻回这件袈裟！"}]
[{"$f":"IF(語言配置表!A2476=\"\",\"\",語言配置表!A2476)","v":2473},{"$f":"IF(語言配置表!A2476=\"\",\"CN_待填充内容\",語言配置表!B2476)","v":"击杀灵兽获得袈裟"}]
[{"$f":"IF(語言配置表!A2477=\"\",\"\",語言配置表!A2477)","v":2474},{"$f":"IF(語言配置表!A2477=\"\",\"CN_待填充内容\",語言配置表!B2477)","v":"云游修士历练在即，急待前辈指点一二"}]
[{"$f":"IF(語言配置表!A2478=\"\",\"\",語言配置表!A2478)","v":2475},{"$f":"IF(語言配置表!A2478=\"\",\"CN_待填充内容\",語言配置表!B2478)","v":"指引云游修士"}]
[{"$f":"IF(語言配置表!A2479=\"\",\"\",語言配置表!A2479)","v":2476},{"$f":"IF(語言配置表!A2479=\"\",\"CN_待填充内容\",語言配置表!B2479)","v":"前辈还请赐教一二"}]
[{"$f":"IF(語言配置表!A2480=\"\",\"\",語言配置表!A2480)","v":2477},{"$f":"IF(語言配置表!A2480=\"\",\"CN_待填充内容\",語言配置表!B2480)","v":"“”"}]
[{"$f":"IF(語言配置表!A2481=\"\",\"\",語言配置表!A2481)","v":2478},{"$f":"IF(語言配置表!A2481=\"\",\"CN_待填充内容\",語言配置表!B2481)","v":"不予理睬直接离开"}]
[{"$f":"IF(語言配置表!A2482=\"\",\"\",語言配置表!A2482)","v":2479},{"$f":"IF(語言配置表!A2482=\"\",\"CN_待填充内容\",語言配置表!B2482)","v":"指导云游修士进行修炼"}]
[{"$f":"IF(語言配置表!A2483=\"\",\"\",語言配置表!A2483)","v":2480},{"$f":"IF(語言配置表!A2483=\"\",\"CN_待填充内容\",語言配置表!B2483)","v":"多谢前辈！"}]
[{"$f":"IF(語言配置表!A2484=\"\",\"\",語言配置表!A2484)","v":2481},{"$f":"IF(語言配置表!A2484=\"\",\"CN_待填充内容\",語言配置表!B2484)","v":"云游修士见你不愿教导便离开了"}]
[{"$f":"IF(語言配置表!A2485=\"\",\"\",語言配置表!A2485)","v":2482},{"$f":"IF(語言配置表!A2485=\"\",\"CN_待填充内容\",語言配置表!B2485)","v":"逍遥宗的长老似乎有事找你"}]
[{"$f":"IF(語言配置表!A2486=\"\",\"\",語言配置表!A2486)","v":2483},{"$f":"IF(語言配置表!A2486=\"\",\"CN_待填充内容\",語言配置表!B2486)","v":"???"}]
[{"$f":"IF(語言配置表!A2487=\"\",\"\",語言配置表!A2487)","v":2484},{"$f":"IF(語言配置表!A2487=\"\",\"CN_待填充内容\",語言配置表!B2487)","v":"今日我宗弟子发现云海妖气冲天，怕是有妖兽来临。还望小友走一趟，消灭那的妖王"}]
[{"$f":"IF(語言配置表!A2488=\"\",\"\",語言配置表!A2488)","v":2485},{"$f":"IF(語言配置表!A2488=\"\",\"CN_待填充内容\",語言配置表!B2488)","v":"小事一桩"}]
[{"$f":"IF(語言配置表!A2489=\"\",\"\",語言配置表!A2489)","v":2486},{"$f":"IF(語言配置表!A2489=\"\",\"CN_待填充内容\",語言配置表!B2489)","v":"村民急匆匆的前来找你"}]
[{"$f":"IF(語言配置表!A2490=\"\",\"\",語言配置表!A2490)","v":2487},{"$f":"IF(語言配置表!A2490=\"\",\"CN_待填充内容\",語言配置表!B2490)","v":"清剿妖兽（0/1）"}]
[{"$f":"IF(語言配置表!A2491=\"\",\"\",語言配置表!A2491)","v":2488},{"$f":"IF(語言配置表!A2491=\"\",\"CN_待填充内容\",語言配置表!B2491)","v":"仙长，村中有妖兽闹事，还请出手解决！"}]
[{"$f":"IF(語言配置表!A2492=\"\",\"\",語言配置表!A2492)","v":2489},{"$f":"IF(語言配置表!A2492=\"\",\"CN_待填充内容\",語言配置表!B2492)","v":"区区妖兽，灭掉便是"}]
[{"$f":"IF(語言配置表!A2493=\"\",\"\",語言配置表!A2493)","v":2490},{"$f":"IF(語言配置表!A2493=\"\",\"CN_待填充内容\",語言配置表!B2493)","v":"我可是要酬劳的"}]
[{"$f":"IF(語言配置表!A2494=\"\",\"\",語言配置表!A2494)","v":2491},{"$f":"IF(語言配置表!A2494=\"\",\"CN_待填充内容\",語言配置表!B2494)","v":"多谢仙长相救!报酬好说"}]
[{"$f":"IF(語言配置表!A2495=\"\",\"\",語言配置表!A2495)","v":2492},{"$f":"IF(語言配置表!A2495=\"\",\"CN_待填充内容\",語言配置表!B2495)","v":"一个和尚急匆匆的叫住了你"}]
[{"$f":"IF(語言配置表!A2496=\"\",\"\",語言配置表!A2496)","v":2493},{"$f":"IF(語言配置表!A2496=\"\",\"CN_待填充内容\",語言配置表!B2496)","v":"与和尚对话"}]
[{"$f":"IF(語言配置表!A2497=\"\",\"\",語言配置表!A2497)","v":2494},{"$f":"IF(語言配置表!A2497=\"\",\"CN_待填充内容\",語言配置表!B2497)","v":"前些日子有妖兽在寺中大闹，盗走了琉璃盏，还请仙长出手相助"}]
[{"$f":"IF(語言配置表!A2498=\"\",\"\",語言配置表!A2498)","v":2495},{"$f":"IF(語言配置表!A2498=\"\",\"CN_待填充内容\",語言配置表!B2498)","v":"感谢仙长相助。"}]
[{"$f":"IF(語言配置表!A2499=\"\",\"\",語言配置表!A2499)","v":2496},{"$f":"IF(語言配置表!A2499=\"\",\"CN_待填充内容\",語言配置表!B2499)","v":"击败盗走琉璃盏的妖兽"}]
[{"$f":"IF(語言配置表!A2500=\"\",\"\",語言配置表!A2500)","v":2497},{"$f":"IF(語言配置表!A2500=\"\",\"CN_待填充内容\",語言配置表!B2500)","v":"与和尚对话"}]
[{"$f":"IF(語言配置表!A2501=\"\",\"\",語言配置表!A2501)","v":2498},{"$f":"IF(語言配置表!A2501=\"\",\"CN_待填充内容\",語言配置表!B2501)","v":"好一个妖兽竟敢盗走琉璃盏！"}]
[{"$f":"IF(語言配置表!A2502=\"\",\"\",語言配置表!A2502)","v":2499},{"$f":"IF(語言配置表!A2502=\"\",\"CN_待填充内容\",語言配置表!B2502)","v":""}]
[{"$f":"IF(語言配置表!A2503=\"\",\"\",語言配置表!A2503)","v":2500},{"$f":"IF(語言配置表!A2503=\"\",\"CN_待填充内容\",語言配置表!B2503)","v":""}]
[{"$f":"IF(語言配置表!A2504=\"\",\"\",語言配置表!A2504)","v":2501},{"$f":"IF(語言配置表!A2504=\"\",\"CN_待填充内容\",語言配置表!B2504)","v":""}]
[{"$f":"IF(語言配置表!A2505=\"\",\"\",語言配置表!A2505)","v":2502},{"$f":"IF(語言配置表!A2505=\"\",\"CN_待填充内容\",語言配置表!B2505)","v":""}]
[{"$f":"IF(語言配置表!A2506=\"\",\"\",語言配置表!A2506)","v":2503},{"$f":"IF(語言配置表!A2506=\"\",\"CN_待填充内容\",語言配置表!B2506)","v":""}]
[{"$f":"IF(語言配置表!A2507=\"\",\"\",語言配置表!A2507)","v":2504},{"$f":"IF(語言配置表!A2507=\"\",\"CN_待填充内容\",語言配置表!B2507)","v":""}]
[{"$f":"IF(語言配置表!A2508=\"\",\"\",語言配置表!A2508)","v":2505},{"$f":"IF(語言配置表!A2508=\"\",\"CN_待填充内容\",語言配置表!B2508)","v":""}]
[{"$f":"IF(語言配置表!A2509=\"\",\"\",語言配置表!A2509)","v":2506},{"$f":"IF(語言配置表!A2509=\"\",\"CN_待填充内容\",語言配置表!B2509)","v":""}]
[{"$f":"IF(語言配置表!A2510=\"\",\"\",語言配置表!A2510)","v":2507},{"$f":"IF(語言配置表!A2510=\"\",\"CN_待填充内容\",語言配置表!B2510)","v":""}]
[{"$f":"IF(語言配置表!A2511=\"\",\"\",語言配置表!A2511)","v":2508},{"$f":"IF(語言配置表!A2511=\"\",\"CN_待填充内容\",語言配置表!B2511)","v":""}]
[{"$f":"IF(語言配置表!A2512=\"\",\"\",語言配置表!A2512)","v":2509},{"$f":"IF(語言配置表!A2512=\"\",\"CN_待填充内容\",語言配置表!B2512)","v":""}]
[{"$f":"IF(語言配置表!A2513=\"\",\"\",語言配置表!A2513)","v":2510},{"$f":"IF(語言配置表!A2513=\"\",\"CN_待填充内容\",語言配置表!B2513)","v":""}]
[{"$f":"IF(語言配置表!A2514=\"\",\"\",語言配置表!A2514)","v":2511},{"$f":"IF(語言配置表!A2514=\"\",\"CN_待填充内容\",語言配置表!B2514)","v":""}]
[{"$f":"IF(語言配置表!A2515=\"\",\"\",語言配置表!A2515)","v":2512},{"$f":"IF(語言配置表!A2515=\"\",\"CN_待填充内容\",語言配置表!B2515)","v":""}]
[{"$f":"IF(語言配置表!A2516=\"\",\"\",語言配置表!A2516)","v":2513},{"$f":"IF(語言配置表!A2516=\"\",\"CN_待填充内容\",語言配置表!B2516)","v":""}]
[{"$f":"IF(語言配置表!A2517=\"\",\"\",語言配置表!A2517)","v":2514},{"$f":"IF(語言配置表!A2517=\"\",\"CN_待填充内容\",語言配置表!B2517)","v":""}]
[{"$f":"IF(語言配置表!A2518=\"\",\"\",語言配置表!A2518)","v":2515},{"$f":"IF(語言配置表!A2518=\"\",\"CN_待填充内容\",語言配置表!B2518)","v":""}]
[{"$f":"IF(語言配置表!A2519=\"\",\"\",語言配置表!A2519)","v":2516},{"$f":"IF(語言配置表!A2519=\"\",\"CN_待填充内容\",語言配置表!B2519)","v":""}]
[{"$f":"IF(語言配置表!A2520=\"\",\"\",語言配置表!A2520)","v":2517},{"$f":"IF(語言配置表!A2520=\"\",\"CN_待填充内容\",語言配置表!B2520)","v":""}]
[{"$f":"IF(語言配置表!A2521=\"\",\"\",語言配置表!A2521)","v":2518},{"$f":"IF(語言配置表!A2521=\"\",\"CN_待填充内容\",語言配置表!B2521)","v":""}]
[{"$f":"IF(語言配置表!A2522=\"\",\"\",語言配置表!A2522)","v":2519},{"$f":"IF(語言配置表!A2522=\"\",\"CN_待填充内容\",語言配置表!B2522)","v":""}]
[{"$f":"IF(語言配置表!A2523=\"\",\"\",語言配置表!A2523)","v":2520},{"$f":"IF(語言配置表!A2523=\"\",\"CN_待填充内容\",語言配置表!B2523)","v":""}]
[{"$f":"IF(語言配置表!A2524=\"\",\"\",語言配置表!A2524)","v":2521},{"$f":"IF(語言配置表!A2524=\"\",\"CN_待填充内容\",語言配置表!B2524)","v":""}]
[{"$f":"IF(語言配置表!A2525=\"\",\"\",語言配置表!A2525)","v":2522},{"$f":"IF(語言配置表!A2525=\"\",\"CN_待填充内容\",語言配置表!B2525)","v":""}]
[{"$f":"IF(語言配置表!A2526=\"\",\"\",語言配置表!A2526)","v":2523},{"$f":"IF(語言配置表!A2526=\"\",\"CN_待填充内容\",語言配置表!B2526)","v":""}]
[{"$f":"IF(語言配置表!A2527=\"\",\"\",語言配置表!A2527)","v":2524},{"$f":"IF(語言配置表!A2527=\"\",\"CN_待填充内容\",語言配置表!B2527)","v":""}]
[{"$f":"IF(語言配置表!A2528=\"\",\"\",語言配置表!A2528)","v":2525},{"$f":"IF(語言配置表!A2528=\"\",\"CN_待填充内容\",語言配置表!B2528)","v":""}]
[{"$f":"IF(語言配置表!A2529=\"\",\"\",語言配置表!A2529)","v":2526},{"$f":"IF(語言配置表!A2529=\"\",\"CN_待填充内容\",語言配置表!B2529)","v":""}]
[{"$f":"IF(語言配置表!A2530=\"\",\"\",語言配置表!A2530)","v":2527},{"$f":"IF(語言配置表!A2530=\"\",\"CN_待填充内容\",語言配置表!B2530)","v":""}]
[{"$f":"IF(語言配置表!A2531=\"\",\"\",語言配置表!A2531)","v":2528},{"$f":"IF(語言配置表!A2531=\"\",\"CN_待填充内容\",語言配置表!B2531)","v":""}]
[{"$f":"IF(語言配置表!A2532=\"\",\"\",語言配置表!A2532)","v":2529},{"$f":"IF(語言配置表!A2532=\"\",\"CN_待填充内容\",語言配置表!B2532)","v":""}]
[{"$f":"IF(語言配置表!A2533=\"\",\"\",語言配置表!A2533)","v":2530},{"$f":"IF(語言配置表!A2533=\"\",\"CN_待填充内容\",語言配置表!B2533)","v":""}]
[{"$f":"IF(語言配置表!A2534=\"\",\"\",語言配置表!A2534)","v":2531},{"$f":"IF(語言配置表!A2534=\"\",\"CN_待填充内容\",語言配置表!B2534)","v":""}]
[{"$f":"IF(語言配置表!A2535=\"\",\"\",語言配置表!A2535)","v":2532},{"$f":"IF(語言配置表!A2535=\"\",\"CN_待填充内容\",語言配置表!B2535)","v":""}]
[{"$f":"IF(語言配置表!A2536=\"\",\"\",語言配置表!A2536)","v":2533},{"$f":"IF(語言配置表!A2536=\"\",\"CN_待填充内容\",語言配置表!B2536)","v":""}]
[{"$f":"IF(語言配置表!A2537=\"\",\"\",語言配置表!A2537)","v":2534},{"$f":"IF(語言配置表!A2537=\"\",\"CN_待填充内容\",語言配置表!B2537)","v":""}]
[{"$f":"IF(語言配置表!A2538=\"\",\"\",語言配置表!A2538)","v":2535},{"$f":"IF(語言配置表!A2538=\"\",\"CN_待填充内容\",語言配置表!B2538)","v":""}]
[{"$f":"IF(語言配置表!A2539=\"\",\"\",語言配置表!A2539)","v":2536},{"$f":"IF(語言配置表!A2539=\"\",\"CN_待填充内容\",語言配置表!B2539)","v":""}]
[{"$f":"IF(語言配置表!A2540=\"\",\"\",語言配置表!A2540)","v":2537},{"$f":"IF(語言配置表!A2540=\"\",\"CN_待填充内容\",語言配置表!B2540)","v":""}]
[{"$f":"IF(語言配置表!A2541=\"\",\"\",語言配置表!A2541)","v":2538},{"$f":"IF(語言配置表!A2541=\"\",\"CN_待填充内容\",語言配置表!B2541)","v":""}]
[{"$f":"IF(語言配置表!A2542=\"\",\"\",語言配置表!A2542)","v":2539},{"$f":"IF(語言配置表!A2542=\"\",\"CN_待填充内容\",語言配置表!B2542)","v":""}]
[{"$f":"IF(語言配置表!A2543=\"\",\"\",語言配置表!A2543)","v":2540},{"$f":"IF(語言配置表!A2543=\"\",\"CN_待填充内容\",語言配置表!B2543)","v":""}]
[{"$f":"IF(語言配置表!A2544=\"\",\"\",語言配置表!A2544)","v":2541},{"$f":"IF(語言配置表!A2544=\"\",\"CN_待填充内容\",語言配置表!B2544)","v":""}]
[{"$f":"IF(語言配置表!A2545=\"\",\"\",語言配置表!A2545)","v":2542},{"$f":"IF(語言配置表!A2545=\"\",\"CN_待填充内容\",語言配置表!B2545)","v":""}]
[{"$f":"IF(語言配置表!A2546=\"\",\"\",語言配置表!A2546)","v":2543},{"$f":"IF(語言配置表!A2546=\"\",\"CN_待填充内容\",語言配置表!B2546)","v":""}]
[{"$f":"IF(語言配置表!A2547=\"\",\"\",語言配置表!A2547)","v":2544},{"$f":"IF(語言配置表!A2547=\"\",\"CN_待填充内容\",語言配置表!B2547)","v":""}]
[{"$f":"IF(語言配置表!A2548=\"\",\"\",語言配置表!A2548)","v":2545},{"$f":"IF(語言配置表!A2548=\"\",\"CN_待填充内容\",語言配置表!B2548)","v":""}]
[{"$f":"IF(語言配置表!A2549=\"\",\"\",語言配置表!A2549)","v":2546},{"$f":"IF(語言配置表!A2549=\"\",\"CN_待填充内容\",語言配置表!B2549)","v":""}]
[{"$f":"IF(語言配置表!A2550=\"\",\"\",語言配置表!A2550)","v":2547},{"$f":"IF(語言配置表!A2550=\"\",\"CN_待填充内容\",語言配置表!B2550)","v":""}]
[{"$f":"IF(語言配置表!A2551=\"\",\"\",語言配置表!A2551)","v":2548},{"$f":"IF(語言配置表!A2551=\"\",\"CN_待填充内容\",語言配置表!B2551)","v":""}]
[{"$f":"IF(語言配置表!A2552=\"\",\"\",語言配置表!A2552)","v":2549},{"$f":"IF(語言配置表!A2552=\"\",\"CN_待填充内容\",語言配置表!B2552)","v":""}]
[{"$f":"IF(語言配置表!A2553=\"\",\"\",語言配置表!A2553)","v":2550},{"$f":"IF(語言配置表!A2553=\"\",\"CN_待填充内容\",語言配置表!B2553)","v":""}]
[{"$f":"IF(語言配置表!A2554=\"\",\"\",語言配置表!A2554)","v":2551},{"$f":"IF(語言配置表!A2554=\"\",\"CN_待填充内容\",語言配置表!B2554)","v":""}]
[{"$f":"IF(語言配置表!A2555=\"\",\"\",語言配置表!A2555)","v":2552},{"$f":"IF(語言配置表!A2555=\"\",\"CN_待填充内容\",語言配置表!B2555)","v":""}]
[{"$f":"IF(語言配置表!A2556=\"\",\"\",語言配置表!A2556)","v":2553},{"$f":"IF(語言配置表!A2556=\"\",\"CN_待填充内容\",語言配置表!B2556)","v":""}]
[{"$f":"IF(語言配置表!A2557=\"\",\"\",語言配置表!A2557)","v":2554},{"$f":"IF(語言配置表!A2557=\"\",\"CN_待填充内容\",語言配置表!B2557)","v":""}]
[{"$f":"IF(語言配置表!A2558=\"\",\"\",語言配置表!A2558)","v":2555},{"$f":"IF(語言配置表!A2558=\"\",\"CN_待填充内容\",語言配置表!B2558)","v":""}]
[{"$f":"IF(語言配置表!A2559=\"\",\"\",語言配置表!A2559)","v":2556},{"$f":"IF(語言配置表!A2559=\"\",\"CN_待填充内容\",語言配置表!B2559)","v":""}]
[{"$f":"IF(語言配置表!A2560=\"\",\"\",語言配置表!A2560)","v":2557},{"$f":"IF(語言配置表!A2560=\"\",\"CN_待填充内容\",語言配置表!B2560)","v":""}]
[{"$f":"IF(語言配置表!A2561=\"\",\"\",語言配置表!A2561)","v":2558},{"$f":"IF(語言配置表!A2561=\"\",\"CN_待填充内容\",語言配置表!B2561)","v":""}]
[{"$f":"IF(語言配置表!A2562=\"\",\"\",語言配置表!A2562)","v":2559},{"$f":"IF(語言配置表!A2562=\"\",\"CN_待填充内容\",語言配置表!B2562)","v":""}]
[{"$f":"IF(語言配置表!A2563=\"\",\"\",語言配置表!A2563)","v":2560},{"$f":"IF(語言配置表!A2563=\"\",\"CN_待填充内容\",語言配置表!B2563)","v":""}]
[{"$f":"IF(語言配置表!A2564=\"\",\"\",語言配置表!A2564)","v":2561},{"$f":"IF(語言配置表!A2564=\"\",\"CN_待填充内容\",語言配置表!B2564)","v":""}]
[{"$f":"IF(語言配置表!A2565=\"\",\"\",語言配置表!A2565)","v":2562},{"$f":"IF(語言配置表!A2565=\"\",\"CN_待填充内容\",語言配置表!B2565)","v":""}]
[{"$f":"IF(語言配置表!A2566=\"\",\"\",語言配置表!A2566)","v":2563},{"$f":"IF(語言配置表!A2566=\"\",\"CN_待填充内容\",語言配置表!B2566)","v":""}]
[{"$f":"IF(語言配置表!A2567=\"\",\"\",語言配置表!A2567)","v":2564},{"$f":"IF(語言配置表!A2567=\"\",\"CN_待填充内容\",語言配置表!B2567)","v":""}]
[{"$f":"IF(語言配置表!A2568=\"\",\"\",語言配置表!A2568)","v":2565},{"$f":"IF(語言配置表!A2568=\"\",\"CN_待填充内容\",語言配置表!B2568)","v":""}]
[{"$f":"IF(語言配置表!A2569=\"\",\"\",語言配置表!A2569)","v":2566},{"$f":"IF(語言配置表!A2569=\"\",\"CN_待填充内容\",語言配置表!B2569)","v":""}]
[{"$f":"IF(語言配置表!A2570=\"\",\"\",語言配置表!A2570)","v":2567},{"$f":"IF(語言配置表!A2570=\"\",\"CN_待填充内容\",語言配置表!B2570)","v":""}]
[{"$f":"IF(語言配置表!A2571=\"\",\"\",語言配置表!A2571)","v":2568},{"$f":"IF(語言配置表!A2571=\"\",\"CN_待填充内容\",語言配置表!B2571)","v":""}]
[{"$f":"IF(語言配置表!A2572=\"\",\"\",語言配置表!A2572)","v":2569},{"$f":"IF(語言配置表!A2572=\"\",\"CN_待填充内容\",語言配置表!B2572)","v":""}]
[{"$f":"IF(語言配置表!A2573=\"\",\"\",語言配置表!A2573)","v":2570},{"$f":"IF(語言配置表!A2573=\"\",\"CN_待填充内容\",語言配置表!B2573)","v":""}]
[{"$f":"IF(語言配置表!A2574=\"\",\"\",語言配置表!A2574)","v":2571},{"$f":"IF(語言配置表!A2574=\"\",\"CN_待填充内容\",語言配置表!B2574)","v":""}]
[{"$f":"IF(語言配置表!A2575=\"\",\"\",語言配置表!A2575)","v":2572},{"$f":"IF(語言配置表!A2575=\"\",\"CN_待填充内容\",語言配置表!B2575)","v":""}]
[{"$f":"IF(語言配置表!A2576=\"\",\"\",語言配置表!A2576)","v":2573},{"$f":"IF(語言配置表!A2576=\"\",\"CN_待填充内容\",語言配置表!B2576)","v":""}]
[{"$f":"IF(語言配置表!A2577=\"\",\"\",語言配置表!A2577)","v":2574},{"$f":"IF(語言配置表!A2577=\"\",\"CN_待填充内容\",語言配置表!B2577)","v":""}]
[{"$f":"IF(語言配置表!A2578=\"\",\"\",語言配置表!A2578)","v":2575},{"$f":"IF(語言配置表!A2578=\"\",\"CN_待填充内容\",語言配置表!B2578)","v":""}]
[{"$f":"IF(語言配置表!A2579=\"\",\"\",語言配置表!A2579)","v":2576},{"$f":"IF(語言配置表!A2579=\"\",\"CN_待填充内容\",語言配置表!B2579)","v":""}]
[{"$f":"IF(語言配置表!A2580=\"\",\"\",語言配置表!A2580)","v":2577},{"$f":"IF(語言配置表!A2580=\"\",\"CN_待填充内容\",語言配置表!B2580)","v":""}]
[{"$f":"IF(語言配置表!A2581=\"\",\"\",語言配置表!A2581)","v":2578},{"$f":"IF(語言配置表!A2581=\"\",\"CN_待填充内容\",語言配置表!B2581)","v":""}]
[{"$f":"IF(語言配置表!A2582=\"\",\"\",語言配置表!A2582)","v":2579},{"$f":"IF(語言配置表!A2582=\"\",\"CN_待填充内容\",語言配置表!B2582)","v":""}]
[{"$f":"IF(語言配置表!A2583=\"\",\"\",語言配置表!A2583)","v":2580},{"$f":"IF(語言配置表!A2583=\"\",\"CN_待填充内容\",語言配置表!B2583)","v":""}]
[{"$f":"IF(語言配置表!A2584=\"\",\"\",語言配置表!A2584)","v":2581},{"$f":"IF(語言配置表!A2584=\"\",\"CN_待填充内容\",語言配置表!B2584)","v":""}]
[{"$f":"IF(語言配置表!A2585=\"\",\"\",語言配置表!A2585)","v":2582},{"$f":"IF(語言配置表!A2585=\"\",\"CN_待填充内容\",語言配置表!B2585)","v":""}]
[{"$f":"IF(語言配置表!A2586=\"\",\"\",語言配置表!A2586)","v":2583},{"$f":"IF(語言配置表!A2586=\"\",\"CN_待填充内容\",語言配置表!B2586)","v":""}]
[{"$f":"IF(語言配置表!A2587=\"\",\"\",語言配置表!A2587)","v":2584},{"$f":"IF(語言配置表!A2587=\"\",\"CN_待填充内容\",語言配置表!B2587)","v":""}]
[{"$f":"IF(語言配置表!A2588=\"\",\"\",語言配置表!A2588)","v":2585},{"$f":"IF(語言配置表!A2588=\"\",\"CN_待填充内容\",語言配置表!B2588)","v":""}]
[{"$f":"IF(語言配置表!A2589=\"\",\"\",語言配置表!A2589)","v":2586},{"$f":"IF(語言配置表!A2589=\"\",\"CN_待填充内容\",語言配置表!B2589)","v":""}]
[{"$f":"IF(語言配置表!A2590=\"\",\"\",語言配置表!A2590)","v":2587},{"$f":"IF(語言配置表!A2590=\"\",\"CN_待填充内容\",語言配置表!B2590)","v":""}]
[{"$f":"IF(語言配置表!A2591=\"\",\"\",語言配置表!A2591)","v":2588},{"$f":"IF(語言配置表!A2591=\"\",\"CN_待填充内容\",語言配置表!B2591)","v":""}]
[{"$f":"IF(語言配置表!A2592=\"\",\"\",語言配置表!A2592)","v":2589},{"$f":"IF(語言配置表!A2592=\"\",\"CN_待填充内容\",語言配置表!B2592)","v":""}]
[{"$f":"IF(語言配置表!A2593=\"\",\"\",語言配置表!A2593)","v":2590},{"$f":"IF(語言配置表!A2593=\"\",\"CN_待填充内容\",語言配置表!B2593)","v":""}]
[{"$f":"IF(語言配置表!A2594=\"\",\"\",語言配置表!A2594)","v":2591},{"$f":"IF(語言配置表!A2594=\"\",\"CN_待填充内容\",語言配置表!B2594)","v":""}]
[{"$f":"IF(語言配置表!A2595=\"\",\"\",語言配置表!A2595)","v":2592},{"$f":"IF(語言配置表!A2595=\"\",\"CN_待填充内容\",語言配置表!B2595)","v":""}]
[{"$f":"IF(語言配置表!A2596=\"\",\"\",語言配置表!A2596)","v":2593},{"$f":"IF(語言配置表!A2596=\"\",\"CN_待填充内容\",語言配置表!B2596)","v":""}]
[{"$f":"IF(語言配置表!A2597=\"\",\"\",語言配置表!A2597)","v":2594},{"$f":"IF(語言配置表!A2597=\"\",\"CN_待填充内容\",語言配置表!B2597)","v":""}]
[{"$f":"IF(語言配置表!A2598=\"\",\"\",語言配置表!A2598)","v":2595},{"$f":"IF(語言配置表!A2598=\"\",\"CN_待填充内容\",語言配置表!B2598)","v":""}]
[{"$f":"IF(語言配置表!A2599=\"\",\"\",語言配置表!A2599)","v":2596},{"$f":"IF(語言配置表!A2599=\"\",\"CN_待填充内容\",語言配置表!B2599)","v":""}]
[{"$f":"IF(語言配置表!A2600=\"\",\"\",語言配置表!A2600)","v":2597},{"$f":"IF(語言配置表!A2600=\"\",\"CN_待填充内容\",語言配置表!B2600)","v":""}]
[{"$f":"IF(語言配置表!A2601=\"\",\"\",語言配置表!A2601)","v":2598},{"$f":"IF(語言配置表!A2601=\"\",\"CN_待填充内容\",語言配置表!B2601)","v":""}]
[{"$f":"IF(語言配置表!A2602=\"\",\"\",語言配置表!A2602)","v":2599},{"$f":"IF(語言配置表!A2602=\"\",\"CN_待填充内容\",語言配置表!B2602)","v":""}]
[{"$f":"IF(語言配置表!A2603=\"\",\"\",語言配置表!A2603)","v":2600},{"$f":"IF(語言配置表!A2603=\"\",\"CN_待填充内容\",語言配置表!B2603)","v":""}]
[{"$f":"IF(語言配置表!A2604=\"\",\"\",語言配置表!A2604)","v":2601},{"$f":"IF(語言配置表!A2604=\"\",\"CN_待填充内容\",語言配置表!B2604)","v":""}]
[{"$f":"IF(語言配置表!A2605=\"\",\"\",語言配置表!A2605)","v":2602},{"$f":"IF(語言配置表!A2605=\"\",\"CN_待填充内容\",語言配置表!B2605)","v":""}]
[{"$f":"IF(語言配置表!A2606=\"\",\"\",語言配置表!A2606)","v":2603},{"$f":"IF(語言配置表!A2606=\"\",\"CN_待填充内容\",語言配置表!B2606)","v":""}]
[{"$f":"IF(語言配置表!A2607=\"\",\"\",語言配置表!A2607)","v":2604},{"$f":"IF(語言配置表!A2607=\"\",\"CN_待填充内容\",語言配置表!B2607)","v":""}]
[{"$f":"IF(語言配置表!A2608=\"\",\"\",語言配置表!A2608)","v":2605},{"$f":"IF(語言配置表!A2608=\"\",\"CN_待填充内容\",語言配置表!B2608)","v":""}]
[{"$f":"IF(語言配置表!A2609=\"\",\"\",語言配置表!A2609)","v":2606},{"$f":"IF(語言配置表!A2609=\"\",\"CN_待填充内容\",語言配置表!B2609)","v":""}]
[{"$f":"IF(語言配置表!A2610=\"\",\"\",語言配置表!A2610)","v":2607},{"$f":"IF(語言配置表!A2610=\"\",\"CN_待填充内容\",語言配置表!B2610)","v":""}]
[{"$f":"IF(語言配置表!A2611=\"\",\"\",語言配置表!A2611)","v":2608},{"$f":"IF(語言配置表!A2611=\"\",\"CN_待填充内容\",語言配置表!B2611)","v":""}]
[{"$f":"IF(語言配置表!A2612=\"\",\"\",語言配置表!A2612)","v":2609},{"$f":"IF(語言配置表!A2612=\"\",\"CN_待填充内容\",語言配置表!B2612)","v":""}]
[{"$f":"IF(語言配置表!A2613=\"\",\"\",語言配置表!A2613)","v":2610},{"$f":"IF(語言配置表!A2613=\"\",\"CN_待填充内容\",語言配置表!B2613)","v":""}]
[{"$f":"IF(語言配置表!A2614=\"\",\"\",語言配置表!A2614)","v":2611},{"$f":"IF(語言配置表!A2614=\"\",\"CN_待填充内容\",語言配置表!B2614)","v":""}]
[{"$f":"IF(語言配置表!A2615=\"\",\"\",語言配置表!A2615)","v":2612},{"$f":"IF(語言配置表!A2615=\"\",\"CN_待填充内容\",語言配置表!B2615)","v":""}]
[{"$f":"IF(語言配置表!A2616=\"\",\"\",語言配置表!A2616)","v":2613},{"$f":"IF(語言配置表!A2616=\"\",\"CN_待填充内容\",語言配置表!B2616)","v":""}]
[{"$f":"IF(語言配置表!A2617=\"\",\"\",語言配置表!A2617)","v":2614},{"$f":"IF(語言配置表!A2617=\"\",\"CN_待填充内容\",語言配置表!B2617)","v":""}]
[{"$f":"IF(語言配置表!A2618=\"\",\"\",語言配置表!A2618)","v":2615},{"$f":"IF(語言配置表!A2618=\"\",\"CN_待填充内容\",語言配置表!B2618)","v":""}]
[{"$f":"IF(語言配置表!A2619=\"\",\"\",語言配置表!A2619)","v":2616},{"$f":"IF(語言配置表!A2619=\"\",\"CN_待填充内容\",語言配置表!B2619)","v":""}]
[{"$f":"IF(語言配置表!A2620=\"\",\"\",語言配置表!A2620)","v":2617},{"$f":"IF(語言配置表!A2620=\"\",\"CN_待填充内容\",語言配置表!B2620)","v":""}]
[{"$f":"IF(語言配置表!A2621=\"\",\"\",語言配置表!A2621)","v":2618},{"$f":"IF(語言配置表!A2621=\"\",\"CN_待填充内容\",語言配置表!B2621)","v":""}]
[{"$f":"IF(語言配置表!A2622=\"\",\"\",語言配置表!A2622)","v":2619},{"$f":"IF(語言配置表!A2622=\"\",\"CN_待填充内容\",語言配置表!B2622)","v":""}]
[{"$f":"IF(語言配置表!A2623=\"\",\"\",語言配置表!A2623)","v":2620},{"$f":"IF(語言配置表!A2623=\"\",\"CN_待填充内容\",語言配置表!B2623)","v":""}]
[{"$f":"IF(語言配置表!A2624=\"\",\"\",語言配置表!A2624)","v":2621},{"$f":"IF(語言配置表!A2624=\"\",\"CN_待填充内容\",語言配置表!B2624)","v":""}]
[{"$f":"IF(語言配置表!A2625=\"\",\"\",語言配置表!A2625)","v":2622},{"$f":"IF(語言配置表!A2625=\"\",\"CN_待填充内容\",語言配置表!B2625)","v":""}]
[{"$f":"IF(語言配置表!A2626=\"\",\"\",語言配置表!A2626)","v":2623},{"$f":"IF(語言配置表!A2626=\"\",\"CN_待填充内容\",語言配置表!B2626)","v":""}]
[{"$f":"IF(語言配置表!A2627=\"\",\"\",語言配置表!A2627)","v":2624},{"$f":"IF(語言配置表!A2627=\"\",\"CN_待填充内容\",語言配置表!B2627)","v":""}]
[{"$f":"IF(語言配置表!A2628=\"\",\"\",語言配置表!A2628)","v":2625},{"$f":"IF(語言配置表!A2628=\"\",\"CN_待填充内容\",語言配置表!B2628)","v":""}]
[{"$f":"IF(語言配置表!A2629=\"\",\"\",語言配置表!A2629)","v":2626},{"$f":"IF(語言配置表!A2629=\"\",\"CN_待填充内容\",語言配置表!B2629)","v":""}]
[{"$f":"IF(語言配置表!A2630=\"\",\"\",語言配置表!A2630)","v":2627},{"$f":"IF(語言配置表!A2630=\"\",\"CN_待填充内容\",語言配置表!B2630)","v":""}]
[{"$f":"IF(語言配置表!A2631=\"\",\"\",語言配置表!A2631)","v":2628},{"$f":"IF(語言配置表!A2631=\"\",\"CN_待填充内容\",語言配置表!B2631)","v":""}]
[{"$f":"IF(語言配置表!A2632=\"\",\"\",語言配置表!A2632)","v":2629},{"$f":"IF(語言配置表!A2632=\"\",\"CN_待填充内容\",語言配置表!B2632)","v":""}]
[{"$f":"IF(語言配置表!A2633=\"\",\"\",語言配置表!A2633)","v":2630},{"$f":"IF(語言配置表!A2633=\"\",\"CN_待填充内容\",語言配置表!B2633)","v":""}]
[{"$f":"IF(語言配置表!A2634=\"\",\"\",語言配置表!A2634)","v":2631},{"$f":"IF(語言配置表!A2634=\"\",\"CN_待填充内容\",語言配置表!B2634)","v":""}]
[{"$f":"IF(語言配置表!A2635=\"\",\"\",語言配置表!A2635)","v":2632},{"$f":"IF(語言配置表!A2635=\"\",\"CN_待填充内容\",語言配置表!B2635)","v":""}]
[{"$f":"IF(語言配置表!A2636=\"\",\"\",語言配置表!A2636)","v":2633},{"$f":"IF(語言配置表!A2636=\"\",\"CN_待填充内容\",語言配置表!B2636)","v":""}]
[{"$f":"IF(語言配置表!A2637=\"\",\"\",語言配置表!A2637)","v":2634},{"$f":"IF(語言配置表!A2637=\"\",\"CN_待填充内容\",語言配置表!B2637)","v":""}]
[{"$f":"IF(語言配置表!A2638=\"\",\"\",語言配置表!A2638)","v":2635},{"$f":"IF(語言配置表!A2638=\"\",\"CN_待填充内容\",語言配置表!B2638)","v":""}]
[{"$f":"IF(語言配置表!A2639=\"\",\"\",語言配置表!A2639)","v":2636},{"$f":"IF(語言配置表!A2639=\"\",\"CN_待填充内容\",語言配置表!B2639)","v":""}]
[{"$f":"IF(語言配置表!A2640=\"\",\"\",語言配置表!A2640)","v":2637},{"$f":"IF(語言配置表!A2640=\"\",\"CN_待填充内容\",語言配置表!B2640)","v":""}]
[{"$f":"IF(語言配置表!A2641=\"\",\"\",語言配置表!A2641)","v":2638},{"$f":"IF(語言配置表!A2641=\"\",\"CN_待填充内容\",語言配置表!B2641)","v":""}]
[{"$f":"IF(語言配置表!A2642=\"\",\"\",語言配置表!A2642)","v":2639},{"$f":"IF(語言配置表!A2642=\"\",\"CN_待填充内容\",語言配置表!B2642)","v":""}]
[{"$f":"IF(語言配置表!A2643=\"\",\"\",語言配置表!A2643)","v":2640},{"$f":"IF(語言配置表!A2643=\"\",\"CN_待填充内容\",語言配置表!B2643)","v":""}]
[{"$f":"IF(語言配置表!A2644=\"\",\"\",語言配置表!A2644)","v":2641},{"$f":"IF(語言配置表!A2644=\"\",\"CN_待填充内容\",語言配置表!B2644)","v":""}]
[{"$f":"IF(語言配置表!A2645=\"\",\"\",語言配置表!A2645)","v":2642},{"$f":"IF(語言配置表!A2645=\"\",\"CN_待填充内容\",語言配置表!B2645)","v":""}]
[{"$f":"IF(語言配置表!A2646=\"\",\"\",語言配置表!A2646)","v":2643},{"$f":"IF(語言配置表!A2646=\"\",\"CN_待填充内容\",語言配置表!B2646)","v":""}]
[{"$f":"IF(語言配置表!A2647=\"\",\"\",語言配置表!A2647)","v":2644},{"$f":"IF(語言配置表!A2647=\"\",\"CN_待填充内容\",語言配置表!B2647)","v":""}]
[{"$f":"IF(語言配置表!A2648=\"\",\"\",語言配置表!A2648)","v":2645},{"$f":"IF(語言配置表!A2648=\"\",\"CN_待填充内容\",語言配置表!B2648)","v":""}]
[{"$f":"IF(語言配置表!A2649=\"\",\"\",語言配置表!A2649)","v":2646},{"$f":"IF(語言配置表!A2649=\"\",\"CN_待填充内容\",語言配置表!B2649)","v":""}]
[{"$f":"IF(語言配置表!A2650=\"\",\"\",語言配置表!A2650)","v":2647},{"$f":"IF(語言配置表!A2650=\"\",\"CN_待填充内容\",語言配置表!B2650)","v":""}]
[{"$f":"IF(語言配置表!A2651=\"\",\"\",語言配置表!A2651)","v":2648},{"$f":"IF(語言配置表!A2651=\"\",\"CN_待填充内容\",語言配置表!B2651)","v":""}]
[{"$f":"IF(語言配置表!A2652=\"\",\"\",語言配置表!A2652)","v":2649},{"$f":"IF(語言配置表!A2652=\"\",\"CN_待填充内容\",語言配置表!B2652)","v":""}]
[{"$f":"IF(語言配置表!A2653=\"\",\"\",語言配置表!A2653)","v":2650},{"$f":"IF(語言配置表!A2653=\"\",\"CN_待填充内容\",語言配置表!B2653)","v":""}]
[{"$f":"IF(語言配置表!A2654=\"\",\"\",語言配置表!A2654)","v":2651},{"$f":"IF(語言配置表!A2654=\"\",\"CN_待填充内容\",語言配置表!B2654)","v":""}]
[{"$f":"IF(語言配置表!A2655=\"\",\"\",語言配置表!A2655)","v":2652},{"$f":"IF(語言配置表!A2655=\"\",\"CN_待填充内容\",語言配置表!B2655)","v":""}]
[{"$f":"IF(語言配置表!A2656=\"\",\"\",語言配置表!A2656)","v":2653},{"$f":"IF(語言配置表!A2656=\"\",\"CN_待填充内容\",語言配置表!B2656)","v":""}]
[{"$f":"IF(語言配置表!A2657=\"\",\"\",語言配置表!A2657)","v":2654},{"$f":"IF(語言配置表!A2657=\"\",\"CN_待填充内容\",語言配置表!B2657)","v":""}]
[{"$f":"IF(語言配置表!A2658=\"\",\"\",語言配置表!A2658)","v":2655},{"$f":"IF(語言配置表!A2658=\"\",\"CN_待填充内容\",語言配置表!B2658)","v":""}]
[{"$f":"IF(語言配置表!A2659=\"\",\"\",語言配置表!A2659)","v":2656},{"$f":"IF(語言配置表!A2659=\"\",\"CN_待填充内容\",語言配置表!B2659)","v":""}]
[{"$f":"IF(語言配置表!A2660=\"\",\"\",語言配置表!A2660)","v":2657},{"$f":"IF(語言配置表!A2660=\"\",\"CN_待填充内容\",語言配置表!B2660)","v":""}]
[{"$f":"IF(語言配置表!A2661=\"\",\"\",語言配置表!A2661)","v":2658},{"$f":"IF(語言配置表!A2661=\"\",\"CN_待填充内容\",語言配置表!B2661)","v":""}]
[{"$f":"IF(語言配置表!A2662=\"\",\"\",語言配置表!A2662)","v":2659},{"$f":"IF(語言配置表!A2662=\"\",\"CN_待填充内容\",語言配置表!B2662)","v":""}]
[{"$f":"IF(語言配置表!A2663=\"\",\"\",語言配置表!A2663)","v":2660},{"$f":"IF(語言配置表!A2663=\"\",\"CN_待填充内容\",語言配置表!B2663)","v":""}]
[{"$f":"IF(語言配置表!A2664=\"\",\"\",語言配置表!A2664)","v":2661},{"$f":"IF(語言配置表!A2664=\"\",\"CN_待填充内容\",語言配置表!B2664)","v":""}]
[{"$f":"IF(語言配置表!A2665=\"\",\"\",語言配置表!A2665)","v":2662},{"$f":"IF(語言配置表!A2665=\"\",\"CN_待填充内容\",語言配置表!B2665)","v":""}]
[{"$f":"IF(語言配置表!A2666=\"\",\"\",語言配置表!A2666)","v":2663},{"$f":"IF(語言配置表!A2666=\"\",\"CN_待填充内容\",語言配置表!B2666)","v":""}]
[{"$f":"IF(語言配置表!A2667=\"\",\"\",語言配置表!A2667)","v":2664},{"$f":"IF(語言配置表!A2667=\"\",\"CN_待填充内容\",語言配置表!B2667)","v":""}]
[{"$f":"IF(語言配置表!A2668=\"\",\"\",語言配置表!A2668)","v":2665},{"$f":"IF(語言配置表!A2668=\"\",\"CN_待填充内容\",語言配置表!B2668)","v":""}]
[{"$f":"IF(語言配置表!A2669=\"\",\"\",語言配置表!A2669)","v":2666},{"$f":"IF(語言配置表!A2669=\"\",\"CN_待填充内容\",語言配置表!B2669)","v":""}]
[{"$f":"IF(語言配置表!A2670=\"\",\"\",語言配置表!A2670)","v":2667},{"$f":"IF(語言配置表!A2670=\"\",\"CN_待填充内容\",語言配置表!B2670)","v":""}]
[{"$f":"IF(語言配置表!A2671=\"\",\"\",語言配置表!A2671)","v":2668},{"$f":"IF(語言配置表!A2671=\"\",\"CN_待填充内容\",語言配置表!B2671)","v":""}]
[{"$f":"IF(語言配置表!A2672=\"\",\"\",語言配置表!A2672)","v":2669},{"$f":"IF(語言配置表!A2672=\"\",\"CN_待填充内容\",語言配置表!B2672)","v":""}]
[{"$f":"IF(語言配置表!A2673=\"\",\"\",語言配置表!A2673)","v":2670},{"$f":"IF(語言配置表!A2673=\"\",\"CN_待填充内容\",語言配置表!B2673)","v":""}]
[{"$f":"IF(語言配置表!A2674=\"\",\"\",語言配置表!A2674)","v":2671},{"$f":"IF(語言配置表!A2674=\"\",\"CN_待填充内容\",語言配置表!B2674)","v":""}]
[{"$f":"IF(語言配置表!A2675=\"\",\"\",語言配置表!A2675)","v":2672},{"$f":"IF(語言配置表!A2675=\"\",\"CN_待填充内容\",語言配置表!B2675)","v":""}]
[{"$f":"IF(語言配置表!A2676=\"\",\"\",語言配置表!A2676)","v":2673},{"$f":"IF(語言配置表!A2676=\"\",\"CN_待填充内容\",語言配置表!B2676)","v":""}]
[{"$f":"IF(語言配置表!A2677=\"\",\"\",語言配置表!A2677)","v":2674},{"$f":"IF(語言配置表!A2677=\"\",\"CN_待填充内容\",語言配置表!B2677)","v":""}]
[{"$f":"IF(語言配置表!A2678=\"\",\"\",語言配置表!A2678)","v":2675},{"$f":"IF(語言配置表!A2678=\"\",\"CN_待填充内容\",語言配置表!B2678)","v":""}]
[{"$f":"IF(語言配置表!A2679=\"\",\"\",語言配置表!A2679)","v":2676},{"$f":"IF(語言配置表!A2679=\"\",\"CN_待填充内容\",語言配置表!B2679)","v":""}]
[{"$f":"IF(語言配置表!A2680=\"\",\"\",語言配置表!A2680)","v":2677},{"$f":"IF(語言配置表!A2680=\"\",\"CN_待填充内容\",語言配置表!B2680)","v":""}]
[{"$f":"IF(語言配置表!A2681=\"\",\"\",語言配置表!A2681)","v":2678},{"$f":"IF(語言配置表!A2681=\"\",\"CN_待填充内容\",語言配置表!B2681)","v":""}]
[{"$f":"IF(語言配置表!A2682=\"\",\"\",語言配置表!A2682)","v":2679},{"$f":"IF(語言配置表!A2682=\"\",\"CN_待填充内容\",語言配置表!B2682)","v":""}]
[{"$f":"IF(語言配置表!A2683=\"\",\"\",語言配置表!A2683)","v":2680},{"$f":"IF(語言配置表!A2683=\"\",\"CN_待填充内容\",語言配置表!B2683)","v":""}]
[{"$f":"IF(語言配置表!A2684=\"\",\"\",語言配置表!A2684)","v":2681},{"$f":"IF(語言配置表!A2684=\"\",\"CN_待填充内容\",語言配置表!B2684)","v":""}]
[{"$f":"IF(語言配置表!A2685=\"\",\"\",語言配置表!A2685)","v":2682},{"$f":"IF(語言配置表!A2685=\"\",\"CN_待填充内容\",語言配置表!B2685)","v":""}]
[{"$f":"IF(語言配置表!A2686=\"\",\"\",語言配置表!A2686)","v":2683},{"$f":"IF(語言配置表!A2686=\"\",\"CN_待填充内容\",語言配置表!B2686)","v":""}]
[{"$f":"IF(語言配置表!A2687=\"\",\"\",語言配置表!A2687)","v":2684},{"$f":"IF(語言配置表!A2687=\"\",\"CN_待填充内容\",語言配置表!B2687)","v":""}]
[{"$f":"IF(語言配置表!A2688=\"\",\"\",語言配置表!A2688)","v":2685},{"$f":"IF(語言配置表!A2688=\"\",\"CN_待填充内容\",語言配置表!B2688)","v":""}]
[{"$f":"IF(語言配置表!A2689=\"\",\"\",語言配置表!A2689)","v":2686},{"$f":"IF(語言配置表!A2689=\"\",\"CN_待填充内容\",語言配置表!B2689)","v":""}]
[{"$f":"IF(語言配置表!A2690=\"\",\"\",語言配置表!A2690)","v":2687},{"$f":"IF(語言配置表!A2690=\"\",\"CN_待填充内容\",語言配置表!B2690)","v":""}]
[{"$f":"IF(語言配置表!A2691=\"\",\"\",語言配置表!A2691)","v":2688},{"$f":"IF(語言配置表!A2691=\"\",\"CN_待填充内容\",語言配置表!B2691)","v":""}]
[{"$f":"IF(語言配置表!A2692=\"\",\"\",語言配置表!A2692)","v":2689},{"$f":"IF(語言配置表!A2692=\"\",\"CN_待填充内容\",語言配置表!B2692)","v":""}]
[{"$f":"IF(語言配置表!A2693=\"\",\"\",語言配置表!A2693)","v":2690},{"$f":"IF(語言配置表!A2693=\"\",\"CN_待填充内容\",語言配置表!B2693)","v":""}]
[{"$f":"IF(語言配置表!A2694=\"\",\"\",語言配置表!A2694)","v":2691},{"$f":"IF(語言配置表!A2694=\"\",\"CN_待填充内容\",語言配置表!B2694)","v":""}]
[{"$f":"IF(語言配置表!A2695=\"\",\"\",語言配置表!A2695)","v":2692},{"$f":"IF(語言配置表!A2695=\"\",\"CN_待填充内容\",語言配置表!B2695)","v":""}]
[{"$f":"IF(語言配置表!A2696=\"\",\"\",語言配置表!A2696)","v":2693},{"$f":"IF(語言配置表!A2696=\"\",\"CN_待填充内容\",語言配置表!B2696)","v":""}]
[{"$f":"IF(語言配置表!A2697=\"\",\"\",語言配置表!A2697)","v":2694},{"$f":"IF(語言配置表!A2697=\"\",\"CN_待填充内容\",語言配置表!B2697)","v":""}]
[{"$f":"IF(語言配置表!A2698=\"\",\"\",語言配置表!A2698)","v":2695},{"$f":"IF(語言配置表!A2698=\"\",\"CN_待填充内容\",語言配置表!B2698)","v":""}]
[{"$f":"IF(語言配置表!A2699=\"\",\"\",語言配置表!A2699)","v":2696},{"$f":"IF(語言配置表!A2699=\"\",\"CN_待填充内容\",語言配置表!B2699)","v":""}]
[{"$f":"IF(語言配置表!A2700=\"\",\"\",語言配置表!A2700)","v":2697},{"$f":"IF(語言配置表!A2700=\"\",\"CN_待填充内容\",語言配置表!B2700)","v":""}]
[{"$f":"IF(語言配置表!A2701=\"\",\"\",語言配置表!A2701)","v":2698},{"$f":"IF(語言配置表!A2701=\"\",\"CN_待填充内容\",語言配置表!B2701)","v":""}]
[{"$f":"IF(語言配置表!A2702=\"\",\"\",語言配置表!A2702)","v":2699},{"$f":"IF(語言配置表!A2702=\"\",\"CN_待填充内容\",語言配置表!B2702)","v":""}]
[{"$f":"IF(語言配置表!A2703=\"\",\"\",語言配置表!A2703)","v":2700},{"$f":"IF(語言配置表!A2703=\"\",\"CN_待填充内容\",語言配置表!B2703)","v":""}]
[{"$f":"IF(語言配置表!A2704=\"\",\"\",語言配置表!A2704)","v":2701},{"$f":"IF(語言配置表!A2704=\"\",\"CN_待填充内容\",語言配置表!B2704)","v":""}]
[{"$f":"IF(語言配置表!A2705=\"\",\"\",語言配置表!A2705)","v":2702},{"$f":"IF(語言配置表!A2705=\"\",\"CN_待填充内容\",語言配置表!B2705)","v":""}]
[{"$f":"IF(語言配置表!A2706=\"\",\"\",語言配置表!A2706)","v":2703},{"$f":"IF(語言配置表!A2706=\"\",\"CN_待填充内容\",語言配置表!B2706)","v":""}]
[{"$f":"IF(語言配置表!A2707=\"\",\"\",語言配置表!A2707)","v":2704},{"$f":"IF(語言配置表!A2707=\"\",\"CN_待填充内容\",語言配置表!B2707)","v":""}]
[{"$f":"IF(語言配置表!A2708=\"\",\"\",語言配置表!A2708)","v":2705},{"$f":"IF(語言配置表!A2708=\"\",\"CN_待填充内容\",語言配置表!B2708)","v":""}]
[{"$f":"IF(語言配置表!A2709=\"\",\"\",語言配置表!A2709)","v":2706},{"$f":"IF(語言配置表!A2709=\"\",\"CN_待填充内容\",語言配置表!B2709)","v":""}]
[{"$f":"IF(語言配置表!A2710=\"\",\"\",語言配置表!A2710)","v":2707},{"$f":"IF(語言配置表!A2710=\"\",\"CN_待填充内容\",語言配置表!B2710)","v":""}]
[{"$f":"IF(語言配置表!A2711=\"\",\"\",語言配置表!A2711)","v":2708},{"$f":"IF(語言配置表!A2711=\"\",\"CN_待填充内容\",語言配置表!B2711)","v":""}]
[{"$f":"IF(語言配置表!A2712=\"\",\"\",語言配置表!A2712)","v":2709},{"$f":"IF(語言配置表!A2712=\"\",\"CN_待填充内容\",語言配置表!B2712)","v":""}]
[{"$f":"IF(語言配置表!A2713=\"\",\"\",語言配置表!A2713)","v":2710},{"$f":"IF(語言配置表!A2713=\"\",\"CN_待填充内容\",語言配置表!B2713)","v":""}]
[{"$f":"IF(語言配置表!A2714=\"\",\"\",語言配置表!A2714)","v":2711},{"$f":"IF(語言配置表!A2714=\"\",\"CN_待填充内容\",語言配置表!B2714)","v":""}]
[{"$f":"IF(語言配置表!A2715=\"\",\"\",語言配置表!A2715)","v":2712},{"$f":"IF(語言配置表!A2715=\"\",\"CN_待填充内容\",語言配置表!B2715)","v":""}]
[{"$f":"IF(語言配置表!A2716=\"\",\"\",語言配置表!A2716)","v":2713},{"$f":"IF(語言配置表!A2716=\"\",\"CN_待填充内容\",語言配置表!B2716)","v":""}]
[{"$f":"IF(語言配置表!A2717=\"\",\"\",語言配置表!A2717)","v":2714},{"$f":"IF(語言配置表!A2717=\"\",\"CN_待填充内容\",語言配置表!B2717)","v":""}]
[{"$f":"IF(語言配置表!A2718=\"\",\"\",語言配置表!A2718)","v":2715},{"$f":"IF(語言配置表!A2718=\"\",\"CN_待填充内容\",語言配置表!B2718)","v":""}]
[{"$f":"IF(語言配置表!A2719=\"\",\"\",語言配置表!A2719)","v":2716},{"$f":"IF(語言配置表!A2719=\"\",\"CN_待填充内容\",語言配置表!B2719)","v":""}]
[{"$f":"IF(語言配置表!A2720=\"\",\"\",語言配置表!A2720)","v":2717},{"$f":"IF(語言配置表!A2720=\"\",\"CN_待填充内容\",語言配置表!B2720)","v":""}]
[{"$f":"IF(語言配置表!A2721=\"\",\"\",語言配置表!A2721)","v":2718},{"$f":"IF(語言配置表!A2721=\"\",\"CN_待填充内容\",語言配置表!B2721)","v":""}]
[{"$f":"IF(語言配置表!A2722=\"\",\"\",語言配置表!A2722)","v":2719},{"$f":"IF(語言配置表!A2722=\"\",\"CN_待填充内容\",語言配置表!B2722)","v":""}]
[{"$f":"IF(語言配置表!A2723=\"\",\"\",語言配置表!A2723)","v":2720},{"$f":"IF(語言配置表!A2723=\"\",\"CN_待填充内容\",語言配置表!B2723)","v":""}]
[{"$f":"IF(語言配置表!A2724=\"\",\"\",語言配置表!A2724)","v":2721},{"$f":"IF(語言配置表!A2724=\"\",\"CN_待填充内容\",語言配置表!B2724)","v":""}]
[{"$f":"IF(語言配置表!A2725=\"\",\"\",語言配置表!A2725)","v":2722},{"$f":"IF(語言配置表!A2725=\"\",\"CN_待填充内容\",語言配置表!B2725)","v":""}]
[{"$f":"IF(語言配置表!A2726=\"\",\"\",語言配置表!A2726)","v":2723},{"$f":"IF(語言配置表!A2726=\"\",\"CN_待填充内容\",語言配置表!B2726)","v":""}]
[{"$f":"IF(語言配置表!A2727=\"\",\"\",語言配置表!A2727)","v":2724},{"$f":"IF(語言配置表!A2727=\"\",\"CN_待填充内容\",語言配置表!B2727)","v":""}]
[{"$f":"IF(語言配置表!A2728=\"\",\"\",語言配置表!A2728)","v":2725},{"$f":"IF(語言配置表!A2728=\"\",\"CN_待填充内容\",語言配置表!B2728)","v":""}]
[{"$f":"IF(語言配置表!A2729=\"\",\"\",語言配置表!A2729)","v":2726},{"$f":"IF(語言配置表!A2729=\"\",\"CN_待填充内容\",語言配置表!B2729)","v":""}]
[{"$f":"IF(語言配置表!A2730=\"\",\"\",語言配置表!A2730)","v":2727},{"$f":"IF(語言配置表!A2730=\"\",\"CN_待填充内容\",語言配置表!B2730)","v":""}]
[{"$f":"IF(語言配置表!A2731=\"\",\"\",語言配置表!A2731)","v":2728},{"$f":"IF(語言配置表!A2731=\"\",\"CN_待填充内容\",語言配置表!B2731)","v":""}]
[{"$f":"IF(語言配置表!A2732=\"\",\"\",語言配置表!A2732)","v":2729},{"$f":"IF(語言配置表!A2732=\"\",\"CN_待填充内容\",語言配置表!B2732)","v":""}]
[{"$f":"IF(語言配置表!A2733=\"\",\"\",語言配置表!A2733)","v":2730},{"$f":"IF(語言配置表!A2733=\"\",\"CN_待填充内容\",語言配置表!B2733)","v":""}]
[{"$f":"IF(語言配置表!A2734=\"\",\"\",語言配置表!A2734)","v":2731},{"$f":"IF(語言配置表!A2734=\"\",\"CN_待填充内容\",語言配置表!B2734)","v":""}]
[{"$f":"IF(語言配置表!A2735=\"\",\"\",語言配置表!A2735)","v":2732},{"$f":"IF(語言配置表!A2735=\"\",\"CN_待填充内容\",語言配置表!B2735)","v":""}]
[{"$f":"IF(語言配置表!A2736=\"\",\"\",語言配置表!A2736)","v":2733},{"$f":"IF(語言配置表!A2736=\"\",\"CN_待填充内容\",語言配置表!B2736)","v":""}]
[{"$f":"IF(語言配置表!A2737=\"\",\"\",語言配置表!A2737)","v":2734},{"$f":"IF(語言配置表!A2737=\"\",\"CN_待填充内容\",語言配置表!B2737)","v":""}]
[{"$f":"IF(語言配置表!A2738=\"\",\"\",語言配置表!A2738)","v":2735},{"$f":"IF(語言配置表!A2738=\"\",\"CN_待填充内容\",語言配置表!B2738)","v":""}]
[{"$f":"IF(語言配置表!A2739=\"\",\"\",語言配置表!A2739)","v":2736},{"$f":"IF(語言配置表!A2739=\"\",\"CN_待填充内容\",語言配置表!B2739)","v":""}]
[{"$f":"IF(語言配置表!A2740=\"\",\"\",語言配置表!A2740)","v":2737},{"$f":"IF(語言配置表!A2740=\"\",\"CN_待填充内容\",語言配置表!B2740)","v":""}]
[{"$f":"IF(語言配置表!A2741=\"\",\"\",語言配置表!A2741)","v":2738},{"$f":"IF(語言配置表!A2741=\"\",\"CN_待填充内容\",語言配置表!B2741)","v":""}]
[{"$f":"IF(語言配置表!A2742=\"\",\"\",語言配置表!A2742)","v":2739},{"$f":"IF(語言配置表!A2742=\"\",\"CN_待填充内容\",語言配置表!B2742)","v":""}]
[{"$f":"IF(語言配置表!A2743=\"\",\"\",語言配置表!A2743)","v":2740},{"$f":"IF(語言配置表!A2743=\"\",\"CN_待填充内容\",語言配置表!B2743)","v":""}]
[{"$f":"IF(語言配置表!A2744=\"\",\"\",語言配置表!A2744)","v":2741},{"$f":"IF(語言配置表!A2744=\"\",\"CN_待填充内容\",語言配置表!B2744)","v":""}]
[{"$f":"IF(語言配置表!A2745=\"\",\"\",語言配置表!A2745)","v":2742},{"$f":"IF(語言配置表!A2745=\"\",\"CN_待填充内容\",語言配置表!B2745)","v":""}]
[{"$f":"IF(語言配置表!A2746=\"\",\"\",語言配置表!A2746)","v":2743},{"$f":"IF(語言配置表!A2746=\"\",\"CN_待填充内容\",語言配置表!B2746)","v":""}]
[{"$f":"IF(語言配置表!A2747=\"\",\"\",語言配置表!A2747)","v":2744},{"$f":"IF(語言配置表!A2747=\"\",\"CN_待填充内容\",語言配置表!B2747)","v":""}]
[{"$f":"IF(語言配置表!A2748=\"\",\"\",語言配置表!A2748)","v":2745},{"$f":"IF(語言配置表!A2748=\"\",\"CN_待填充内容\",語言配置表!B2748)","v":""}]
[{"$f":"IF(語言配置表!A2749=\"\",\"\",語言配置表!A2749)","v":2746},{"$f":"IF(語言配置表!A2749=\"\",\"CN_待填充内容\",語言配置表!B2749)","v":""}]
[{"$f":"IF(語言配置表!A2750=\"\",\"\",語言配置表!A2750)","v":2747},{"$f":"IF(語言配置表!A2750=\"\",\"CN_待填充内容\",語言配置表!B2750)","v":""}]
[{"$f":"IF(語言配置表!A2751=\"\",\"\",語言配置表!A2751)","v":2748},{"$f":"IF(語言配置表!A2751=\"\",\"CN_待填充内容\",語言配置表!B2751)","v":""}]
[{"$f":"IF(語言配置表!A2752=\"\",\"\",語言配置表!A2752)","v":2749},{"$f":"IF(語言配置表!A2752=\"\",\"CN_待填充内容\",語言配置表!B2752)","v":""}]
[{"$f":"IF(語言配置表!A2753=\"\",\"\",語言配置表!A2753)","v":2750},{"$f":"IF(語言配置表!A2753=\"\",\"CN_待填充内容\",語言配置表!B2753)","v":""}]
[{"$f":"IF(語言配置表!A2754=\"\",\"\",語言配置表!A2754)","v":2751},{"$f":"IF(語言配置表!A2754=\"\",\"CN_待填充内容\",語言配置表!B2754)","v":""}]
[{"$f":"IF(語言配置表!A2755=\"\",\"\",語言配置表!A2755)","v":2752},{"$f":"IF(語言配置表!A2755=\"\",\"CN_待填充内容\",語言配置表!B2755)","v":""}]
[{"$f":"IF(語言配置表!A2756=\"\",\"\",語言配置表!A2756)","v":2753},{"$f":"IF(語言配置表!A2756=\"\",\"CN_待填充内容\",語言配置表!B2756)","v":""}]
[{"$f":"IF(語言配置表!A2757=\"\",\"\",語言配置表!A2757)","v":2754},{"$f":"IF(語言配置表!A2757=\"\",\"CN_待填充内容\",語言配置表!B2757)","v":""}]
[{"$f":"IF(語言配置表!A2758=\"\",\"\",語言配置表!A2758)","v":2755},{"$f":"IF(語言配置表!A2758=\"\",\"CN_待填充内容\",語言配置表!B2758)","v":""}]
[{"$f":"IF(語言配置表!A2759=\"\",\"\",語言配置表!A2759)","v":2756},{"$f":"IF(語言配置表!A2759=\"\",\"CN_待填充内容\",語言配置表!B2759)","v":""}]
[{"$f":"IF(語言配置表!A2760=\"\",\"\",語言配置表!A2760)","v":2757},{"$f":"IF(語言配置表!A2760=\"\",\"CN_待填充内容\",語言配置表!B2760)","v":""}]
[{"$f":"IF(語言配置表!A2761=\"\",\"\",語言配置表!A2761)","v":2758},{"$f":"IF(語言配置表!A2761=\"\",\"CN_待填充内容\",語言配置表!B2761)","v":""}]
[{"$f":"IF(語言配置表!A2762=\"\",\"\",語言配置表!A2762)","v":2759},{"$f":"IF(語言配置表!A2762=\"\",\"CN_待填充内容\",語言配置表!B2762)","v":""}]
[{"$f":"IF(語言配置表!A2763=\"\",\"\",語言配置表!A2763)","v":2760},{"$f":"IF(語言配置表!A2763=\"\",\"CN_待填充内容\",語言配置表!B2763)","v":""}]
[{"$f":"IF(語言配置表!A2764=\"\",\"\",語言配置表!A2764)","v":2761},{"$f":"IF(語言配置表!A2764=\"\",\"CN_待填充内容\",語言配置表!B2764)","v":""}]
[{"$f":"IF(語言配置表!A2765=\"\",\"\",語言配置表!A2765)","v":2762},{"$f":"IF(語言配置表!A2765=\"\",\"CN_待填充内容\",語言配置表!B2765)","v":""}]
[{"$f":"IF(語言配置表!A2766=\"\",\"\",語言配置表!A2766)","v":2763},{"$f":"IF(語言配置表!A2766=\"\",\"CN_待填充内容\",語言配置表!B2766)","v":""}]
[{"$f":"IF(語言配置表!A2767=\"\",\"\",語言配置表!A2767)","v":2764},{"$f":"IF(語言配置表!A2767=\"\",\"CN_待填充内容\",語言配置表!B2767)","v":""}]
[{"$f":"IF(語言配置表!A2768=\"\",\"\",語言配置表!A2768)","v":2765},{"$f":"IF(語言配置表!A2768=\"\",\"CN_待填充内容\",語言配置表!B2768)","v":""}]
[{"$f":"IF(語言配置表!A2769=\"\",\"\",語言配置表!A2769)","v":2766},{"$f":"IF(語言配置表!A2769=\"\",\"CN_待填充内容\",語言配置表!B2769)","v":""}]
[{"$f":"IF(語言配置表!A2770=\"\",\"\",語言配置表!A2770)","v":2767},{"$f":"IF(語言配置表!A2770=\"\",\"CN_待填充内容\",語言配置表!B2770)","v":""}]
[{"$f":"IF(語言配置表!A2771=\"\",\"\",語言配置表!A2771)","v":2768},{"$f":"IF(語言配置表!A2771=\"\",\"CN_待填充内容\",語言配置表!B2771)","v":""}]
[{"$f":"IF(語言配置表!A2772=\"\",\"\",語言配置表!A2772)","v":2769},{"$f":"IF(語言配置表!A2772=\"\",\"CN_待填充内容\",語言配置表!B2772)","v":""}]
[{"$f":"IF(語言配置表!A2773=\"\",\"\",語言配置表!A2773)","v":2770},{"$f":"IF(語言配置表!A2773=\"\",\"CN_待填充内容\",語言配置表!B2773)","v":""}]
[{"$f":"IF(語言配置表!A2774=\"\",\"\",語言配置表!A2774)","v":2771},{"$f":"IF(語言配置表!A2774=\"\",\"CN_待填充内容\",語言配置表!B2774)","v":""}]
[{"$f":"IF(語言配置表!A2775=\"\",\"\",語言配置表!A2775)","v":2772},{"$f":"IF(語言配置表!A2775=\"\",\"CN_待填充内容\",語言配置表!B2775)","v":""}]
[{"$f":"IF(語言配置表!A2776=\"\",\"\",語言配置表!A2776)","v":2773},{"$f":"IF(語言配置表!A2776=\"\",\"CN_待填充内容\",語言配置表!B2776)","v":""}]
[{"$f":"IF(語言配置表!A2777=\"\",\"\",語言配置表!A2777)","v":2774},{"$f":"IF(語言配置表!A2777=\"\",\"CN_待填充内容\",語言配置表!B2777)","v":""}]
[{"$f":"IF(語言配置表!A2778=\"\",\"\",語言配置表!A2778)","v":2775},{"$f":"IF(語言配置表!A2778=\"\",\"CN_待填充内容\",語言配置表!B2778)","v":""}]
[{"$f":"IF(語言配置表!A2779=\"\",\"\",語言配置表!A2779)","v":2776},{"$f":"IF(語言配置表!A2779=\"\",\"CN_待填充内容\",語言配置表!B2779)","v":""}]
[{"$f":"IF(語言配置表!A2780=\"\",\"\",語言配置表!A2780)","v":2777},{"$f":"IF(語言配置表!A2780=\"\",\"CN_待填充内容\",語言配置表!B2780)","v":""}]
[{"$f":"IF(語言配置表!A2781=\"\",\"\",語言配置表!A2781)","v":2778},{"$f":"IF(語言配置表!A2781=\"\",\"CN_待填充内容\",語言配置表!B2781)","v":""}]
[{"$f":"IF(語言配置表!A2782=\"\",\"\",語言配置表!A2782)","v":2779},{"$f":"IF(語言配置表!A2782=\"\",\"CN_待填充内容\",語言配置表!B2782)","v":""}]
[{"$f":"IF(語言配置表!A2783=\"\",\"\",語言配置表!A2783)","v":2780},{"$f":"IF(語言配置表!A2783=\"\",\"CN_待填充内容\",語言配置表!B2783)","v":""}]
[{"$f":"IF(語言配置表!A2784=\"\",\"\",語言配置表!A2784)","v":2781},{"$f":"IF(語言配置表!A2784=\"\",\"CN_待填充内容\",語言配置表!B2784)","v":""}]
[{"$f":"IF(語言配置表!A2785=\"\",\"\",語言配置表!A2785)","v":2782},{"$f":"IF(語言配置表!A2785=\"\",\"CN_待填充内容\",語言配置表!B2785)","v":""}]
[{"$f":"IF(語言配置表!A2786=\"\",\"\",語言配置表!A2786)","v":2783},{"$f":"IF(語言配置表!A2786=\"\",\"CN_待填充内容\",語言配置表!B2786)","v":""}]
[{"$f":"IF(語言配置表!A2787=\"\",\"\",語言配置表!A2787)","v":2784},{"$f":"IF(語言配置表!A2787=\"\",\"CN_待填充内容\",語言配置表!B2787)","v":""}]
[{"$f":"IF(語言配置表!A2788=\"\",\"\",語言配置表!A2788)","v":2785},{"$f":"IF(語言配置表!A2788=\"\",\"CN_待填充内容\",語言配置表!B2788)","v":""}]
[{"$f":"IF(語言配置表!A2789=\"\",\"\",語言配置表!A2789)","v":2786},{"$f":"IF(語言配置表!A2789=\"\",\"CN_待填充内容\",語言配置表!B2789)","v":""}]
[{"$f":"IF(語言配置表!A2790=\"\",\"\",語言配置表!A2790)","v":2787},{"$f":"IF(語言配置表!A2790=\"\",\"CN_待填充内容\",語言配置表!B2790)","v":""}]
[{"$f":"IF(語言配置表!A2791=\"\",\"\",語言配置表!A2791)","v":2788},{"$f":"IF(語言配置表!A2791=\"\",\"CN_待填充内容\",語言配置表!B2791)","v":""}]
[{"$f":"IF(語言配置表!A2792=\"\",\"\",語言配置表!A2792)","v":2789},{"$f":"IF(語言配置表!A2792=\"\",\"CN_待填充内容\",語言配置表!B2792)","v":""}]
[{"$f":"IF(語言配置表!A2793=\"\",\"\",語言配置表!A2793)","v":2790},{"$f":"IF(語言配置表!A2793=\"\",\"CN_待填充内容\",語言配置表!B2793)","v":""}]
[{"$f":"IF(語言配置表!A2794=\"\",\"\",語言配置表!A2794)","v":2791},{"$f":"IF(語言配置表!A2794=\"\",\"CN_待填充内容\",語言配置表!B2794)","v":""}]
[{"$f":"IF(語言配置表!A2795=\"\",\"\",語言配置表!A2795)","v":2792},{"$f":"IF(語言配置表!A2795=\"\",\"CN_待填充内容\",語言配置表!B2795)","v":""}]
[{"$f":"IF(語言配置表!A2796=\"\",\"\",語言配置表!A2796)","v":2793},{"$f":"IF(語言配置表!A2796=\"\",\"CN_待填充内容\",語言配置表!B2796)","v":""}]
[{"$f":"IF(語言配置表!A2797=\"\",\"\",語言配置表!A2797)","v":2794},{"$f":"IF(語言配置表!A2797=\"\",\"CN_待填充内容\",語言配置表!B2797)","v":""}]
[{"$f":"IF(語言配置表!A2798=\"\",\"\",語言配置表!A2798)","v":2795},{"$f":"IF(語言配置表!A2798=\"\",\"CN_待填充内容\",語言配置表!B2798)","v":""}]
[{"$f":"IF(語言配置表!A2799=\"\",\"\",語言配置表!A2799)","v":2796},{"$f":"IF(語言配置表!A2799=\"\",\"CN_待填充内容\",語言配置表!B2799)","v":""}]
[{"$f":"IF(語言配置表!A2800=\"\",\"\",語言配置表!A2800)","v":2797},{"$f":"IF(語言配置表!A2800=\"\",\"CN_待填充内容\",語言配置表!B2800)","v":""}]
[{"$f":"IF(語言配置表!A2801=\"\",\"\",語言配置表!A2801)","v":2798},{"$f":"IF(語言配置表!A2801=\"\",\"CN_待填充内容\",語言配置表!B2801)","v":""}]
[{"$f":"IF(語言配置表!A2802=\"\",\"\",語言配置表!A2802)","v":2799},{"$f":"IF(語言配置表!A2802=\"\",\"CN_待填充内容\",語言配置表!B2802)","v":""}]
[{"$f":"IF(語言配置表!A2803=\"\",\"\",語言配置表!A2803)","v":2800},{"$f":"IF(語言配置表!A2803=\"\",\"CN_待填充内容\",語言配置表!B2803)","v":""}]
[{"$f":"IF(語言配置表!A2804=\"\",\"\",語言配置表!A2804)","v":2801},{"$f":"IF(語言配置表!A2804=\"\",\"CN_待填充内容\",語言配置表!B2804)","v":"风中洞府1"}]
[{"$f":"IF(語言配置表!A2805=\"\",\"\",語言配置表!A2805)","v":2802},{"$f":"IF(語言配置表!A2805=\"\",\"CN_待填充内容\",語言配置表!B2805)","v":"风中洞府2"}]
[{"$f":"IF(語言配置表!A2806=\"\",\"\",語言配置表!A2806)","v":2803},{"$f":"IF(語言配置表!A2806=\"\",\"CN_待填充内容\",語言配置表!B2806)","v":"风灵之力"}]
[{"$f":"IF(語言配置表!A2807=\"\",\"\",語言配置表!A2807)","v":2804},{"$f":"IF(語言配置表!A2807=\"\",\"CN_待填充内容\",語言配置表!B2807)","v":"北海深处1"}]
[{"$f":"IF(語言配置表!A2808=\"\",\"\",語言配置表!A2808)","v":2805},{"$f":"IF(語言配置表!A2808=\"\",\"CN_待填充内容\",語言配置表!B2808)","v":"北海深处2"}]
[{"$f":"IF(語言配置表!A2809=\"\",\"\",語言配置表!A2809)","v":2806},{"$f":"IF(語言配置表!A2809=\"\",\"CN_待填充内容\",語言配置表!B2809)","v":"尧之都"}]
[{"$f":"IF(語言配置表!A2810=\"\",\"\",語言配置表!A2810)","v":2807},{"$f":"IF(語言配置表!A2810=\"\",\"CN_待填充内容\",語言配置表!B2810)","v":"山林清音"}]
[{"$f":"IF(語言配置表!A2811=\"\",\"\",語言配置表!A2811)","v":2808},{"$f":"IF(語言配置表!A2811=\"\",\"CN_待填充内容\",語言配置表!B2811)","v":"山中劳作"}]
[{"$f":"IF(語言配置表!A2812=\"\",\"\",語言配置表!A2812)","v":2809},{"$f":"IF(語言配置表!A2812=\"\",\"CN_待填充内容\",語言配置表!B2812)","v":"风起夜战"}]
[{"$f":"IF(語言配置表!A2813=\"\",\"\",語言配置表!A2813)","v":2810},{"$f":"IF(語言配置表!A2813=\"\",\"CN_待填充内容\",語言配置表!B2813)","v":"吃茶三问"}]
[{"$f":"IF(語言配置表!A2814=\"\",\"\",語言配置表!A2814)","v":2811},{"$f":"IF(語言配置表!A2814=\"\",\"CN_待填充内容\",語言配置表!B2814)","v":"尧让天下"}]
[{"$f":"IF(語言配置表!A2815=\"\",\"\",語言配置表!A2815)","v":2812},{"$f":"IF(語言配置表!A2815=\"\",\"CN_待填充内容\",語言配置表!B2815)","v":"无用之树"}]
[{"$f":"IF(語言配置表!A2816=\"\",\"\",語言配置表!A2816)","v":2813},{"$f":"IF(語言配置表!A2816=\"\",\"CN_待填充内容\",語言配置表!B2816)","v":"樗木之灵"}]
[{"$f":"IF(語言配置表!A2817=\"\",\"\",語言配置表!A2817)","v":2814},{"$f":"IF(語言配置表!A2817=\"\",\"CN_待填充内容\",語言配置表!B2817)","v":"游尧都"}]
[{"$f":"IF(語言配置表!A2818=\"\",\"\",語言配置表!A2818)","v":2815},{"$f":"IF(語言配置表!A2818=\"\",\"CN_待填充内容\",語言配置表!B2818)","v":"再见尧帝"}]
[{"$f":"IF(語言配置表!A2819=\"\",\"\",語言配置表!A2819)","v":2816},{"$f":"IF(語言配置表!A2819=\"\",\"CN_待填充内容\",語言配置表!B2819)","v":"云海漫行"}]
[{"$f":"IF(語言配置表!A2820=\"\",\"\",語言配置表!A2820)","v":2817},{"$f":"IF(語言配置表!A2820=\"\",\"CN_待填充内容\",語言配置表!B2820)","v":"初见惠子"}]
[{"$f":"IF(語言配置表!A2821=\"\",\"\",語言配置表!A2821)","v":2818},{"$f":"IF(語言配置表!A2821=\"\",\"CN_待填充内容\",語言配置表!B2821)","v":"葫芦肥料"}]
[{"$f":"IF(語言配置表!A2822=\"\",\"\",語言配置表!A2822)","v":2819},{"$f":"IF(語言配置表!A2822=\"\",\"CN_待填充内容\",語言配置表!B2822)","v":"藐姑射山"}]
[{"$f":"IF(語言配置表!A2823=\"\",\"\",語言配置表!A2823)","v":2820},{"$f":"IF(語言配置表!A2823=\"\",\"CN_待填充内容\",語言配置表!B2823)","v":"炼器师"}]
[{"$f":"IF(語言配置表!A2824=\"\",\"\",語言配置表!A2824)","v":2821},{"$f":"IF(語言配置表!A2824=\"\",\"CN_待填充内容\",語言配置表!B2824)","v":"忘火剑"}]
[{"$f":"IF(語言配置表!A2825=\"\",\"\",語言配置表!A2825)","v":2822},{"$f":"IF(語言配置表!A2825=\"\",\"CN_待填充内容\",語言配置表!B2825)","v":"击败痴道人"}]
[{"$f":"IF(語言配置表!A2826=\"\",\"\",語言配置表!A2826)","v":2823},{"$f":"IF(語言配置表!A2826=\"\",\"CN_待填充内容\",語言配置表!B2826)","v":"疯痴相聚"}]
[{"$f":"IF(語言配置表!A2827=\"\",\"\",語言配置表!A2827)","v":2824},{"$f":"IF(語言配置表!A2827=\"\",\"CN_待填充内容\",語言配置表!B2827)","v":"筑基后期"}]
[{"$f":"IF(語言配置表!A2828=\"\",\"\",語言配置表!A2828)","v":2825},{"$f":"IF(語言配置表!A2828=\"\",\"CN_待填充内容\",語言配置表!B2828)","v":"妖兽横行"}]
[{"$f":"IF(語言配置表!A2829=\"\",\"\",語言配置表!A2829)","v":2826},{"$f":"IF(語言配置表!A2829=\"\",\"CN_待填充内容\",語言配置表!B2829)","v":"遇见鲲鹏"}]
[{"$f":"IF(語言配置表!A2830=\"\",\"\",語言配置表!A2830)","v":2827},{"$f":"IF(語言配置表!A2830=\"\",\"CN_待填充内容\",語言配置表!B2830)","v":"尧让天下"}]
[{"$f":"IF(語言配置表!A2831=\"\",\"\",語言配置表!A2831)","v":2828},{"$f":"IF(語言配置表!A2831=\"\",\"CN_待填充内容\",語言配置表!B2831)","v":"访贤许由"}]
[{"$f":"IF(語言配置表!A2832=\"\",\"\",語言配置表!A2832)","v":2829},{"$f":"IF(語言配置表!A2832=\"\",\"CN_待填充内容\",語言配置表!B2832)","v":"割草喝茶"}]
[{"$f":"IF(語言配置表!A2833=\"\",\"\",語言配置表!A2833)","v":2830},{"$f":"IF(語言配置表!A2833=\"\",\"CN_待填充内容\",語言配置表!B2833)","v":"再来一杯"}]
[{"$f":"IF(語言配置表!A2834=\"\",\"\",語言配置表!A2834)","v":2831},{"$f":"IF(語言配置表!A2834=\"\",\"CN_待填充内容\",語言配置表!B2834)","v":"战胜妖王"}]
[{"$f":"IF(語言配置表!A2835=\"\",\"\",語言配置表!A2835)","v":2832},{"$f":"IF(語言配置表!A2835=\"\",\"CN_待填充内容\",語言配置表!B2835)","v":"复命尧帝"}]
[{"$f":"IF(語言配置表!A2836=\"\",\"\",語言配置表!A2836)","v":2833},{"$f":"IF(語言配置表!A2836=\"\",\"CN_待填充内容\",語言配置表!B2836)","v":"树下闲话"}]
[{"$f":"IF(語言配置表!A2837=\"\",\"\",語言配置表!A2837)","v":2834},{"$f":"IF(語言配置表!A2837=\"\",\"CN_待填充内容\",語言配置表!B2837)","v":"切磋切磋"}]
[{"$f":"IF(語言配置表!A2838=\"\",\"\",語言配置表!A2838)","v":2835},{"$f":"IF(語言配置表!A2838=\"\",\"CN_待填充内容\",語言配置表!B2838)","v":"金丹前期"}]
[{"$f":"IF(語言配置表!A2839=\"\",\"\",語言配置表!A2839)","v":2836},{"$f":"IF(語言配置表!A2839=\"\",\"CN_待填充内容\",語言配置表!B2839)","v":"仙山传说"}]
[{"$f":"IF(語言配置表!A2840=\"\",\"\",語言配置表!A2840)","v":2837},{"$f":"IF(語言配置表!A2840=\"\",\"CN_待填充内容\",語言配置表!B2840)","v":"入山幻阵"}]
[{"$f":"IF(語言配置表!A2841=\"\",\"\",語言配置表!A2841)","v":2838},{"$f":"IF(語言配置表!A2841=\"\",\"CN_待填充内容\",語言配置表!B2841)","v":"葫芦种子"}]
[{"$f":"IF(語言配置表!A2842=\"\",\"\",語言配置表!A2842)","v":2839},{"$f":"IF(語言配置表!A2842=\"\",\"CN_待填充内容\",語言配置表!B2842)","v":"天肥地肥"}]
[{"$f":"IF(語言配置表!A2843=\"\",\"\",語言配置表!A2843)","v":2840},{"$f":"IF(語言配置表!A2843=\"\",\"CN_待填充内容\",語言配置表!B2843)","v":"登山"}]
[{"$f":"IF(語言配置表!A2844=\"\",\"\",語言配置表!A2844)","v":2841},{"$f":"IF(語言配置表!A2844=\"\",\"CN_待填充内容\",語言配置表!B2844)","v":"重铸忘火剑"}]
[{"$f":"IF(語言配置表!A2845=\"\",\"\",語言配置表!A2845)","v":2842},{"$f":"IF(語言配置表!A2845=\"\",\"CN_待填充内容\",語言配置表!B2845)","v":"护法"}]
[{"$f":"IF(語言配置表!A2846=\"\",\"\",語言配置表!A2846)","v":2843},{"$f":"IF(語言配置表!A2846=\"\",\"CN_待填充内容\",語言配置表!B2846)","v":"- 击败结界兽{0}/{1}"}]
[{"$f":"IF(語言配置表!A2847=\"\",\"\",語言配置表!A2847)","v":2844},{"$f":"IF(語言配置表!A2847=\"\",\"CN_待填充内容\",語言配置表!B2847)","v":"- 达到境界：筑基-后期{0}/{1}"}]
[{"$f":"IF(語言配置表!A2848=\"\",\"\",語言配置表!A2848)","v":2845},{"$f":"IF(語言配置表!A2848=\"\",\"CN_待填充内容\",語言配置表!B2848)","v":"- 击杀妖兽{0}/{1}"}]
[{"$f":"IF(語言配置表!A2849=\"\",\"\",語言配置表!A2849)","v":2846},{"$f":"IF(語言配置表!A2849=\"\",\"CN_待填充内容\",語言配置表!B2849)","v":"- 击败后山小妖{0}/{1}"}]
[{"$f":"IF(語言配置表!A2850=\"\",\"\",語言配置表!A2850)","v":2847},{"$f":"IF(語言配置表!A2850=\"\",\"CN_待填充内容\",語言配置表!B2850)","v":"- 收集灵草种子{0}/{1}"}]
[{"$f":"IF(語言配置表!A2851=\"\",\"\",語言配置表!A2851)","v":2848},{"$f":"IF(語言配置表!A2851=\"\",\"CN_待填充内容\",語言配置表!B2851)","v":"- 击败夜袭的妖兽{0}/{1}"}]
[{"$f":"IF(語言配置表!A2852=\"\",\"\",語言配置表!A2852)","v":2849},{"$f":"IF(語言配置表!A2852=\"\",\"CN_待填充内容\",語言配置表!B2852)","v":"- 击败峰顶的妖王{0}/{1}"}]
[{"$f":"IF(語言配置表!A2853=\"\",\"\",語言配置表!A2853)","v":2850},{"$f":"IF(語言配置表!A2853=\"\",\"CN_待填充内容\",語言配置表!B2853)","v":"- 境界达到[金丹-前期]{0}/{1}"}]
[{"$f":"IF(語言配置表!A2854=\"\",\"\",語言配置表!A2854)","v":2851},{"$f":"IF(語言配置表!A2854=\"\",\"CN_待填充内容\",語言配置表!B2854)","v":"- 击败仙山的阵眼妖兽{0}/{1}"}]
[{"$f":"IF(語言配置表!A2855=\"\",\"\",語言配置表!A2855)","v":2852},{"$f":"IF(語言配置表!A2855=\"\",\"CN_待填充内容\",語言配置表!B2855)","v":"- 击杀灵兽获得天肥{0}/{1}"}]
[{"$f":"IF(語言配置表!A2856=\"\",\"\",語言配置表!A2856)","v":2853},{"$f":"IF(語言配置表!A2856=\"\",\"CN_待填充内容\",語言配置表!B2856)","v":"- 获得一件袈裟{0}/{1}"}]
[{"$f":"IF(語言配置表!A2857=\"\",\"\",語言配置表!A2857)","v":2854},{"$f":"IF(語言配置表!A2857=\"\",\"CN_待填充内容\",語言配置表!B2857)","v":""}]
[{"$f":"IF(語言配置表!A2858=\"\",\"\",語言配置表!A2858)","v":2855},{"$f":"IF(語言配置表!A2858=\"\",\"CN_待填充内容\",語言配置表!B2858)","v":""}]
[{"$f":"IF(語言配置表!A2859=\"\",\"\",語言配置表!A2859)","v":2856},{"$f":"IF(語言配置表!A2859=\"\",\"CN_待填充内容\",語言配置表!B2859)","v":""}]
[{"$f":"IF(語言配置表!A2860=\"\",\"\",語言配置表!A2860)","v":2857},{"$f":"IF(語言配置表!A2860=\"\",\"CN_待填充内容\",語言配置表!B2860)","v":""}]
[{"$f":"IF(語言配置表!A2861=\"\",\"\",語言配置表!A2861)","v":2858},{"$f":"IF(語言配置表!A2861=\"\",\"CN_待填充内容\",語言配置表!B2861)","v":""}]
[{"$f":"IF(語言配置表!A2862=\"\",\"\",語言配置表!A2862)","v":2859},{"$f":"IF(語言配置表!A2862=\"\",\"CN_待填充内容\",語言配置表!B2862)","v":""}]
[{"$f":"IF(語言配置表!A2863=\"\",\"\",語言配置表!A2863)","v":2860},{"$f":"IF(語言配置表!A2863=\"\",\"CN_待填充内容\",語言配置表!B2863)","v":""}]
[{"$f":"IF(語言配置表!A2864=\"\",\"\",語言配置表!A2864)","v":2861},{"$f":"IF(語言配置表!A2864=\"\",\"CN_待填充内容\",語言配置表!B2864)","v":""}]
[{"$f":"IF(語言配置表!A2865=\"\",\"\",語言配置表!A2865)","v":2862},{"$f":"IF(語言配置表!A2865=\"\",\"CN_待填充内容\",語言配置表!B2865)","v":""}]
[{"$f":"IF(語言配置表!A2866=\"\",\"\",語言配置表!A2866)","v":2863},{"$f":"IF(語言配置表!A2866=\"\",\"CN_待填充内容\",語言配置表!B2866)","v":""}]
[{"$f":"IF(語言配置表!A2867=\"\",\"\",語言配置表!A2867)","v":2864},{"$f":"IF(語言配置表!A2867=\"\",\"CN_待填充内容\",語言配置表!B2867)","v":""}]
[{"$f":"IF(語言配置表!A2868=\"\",\"\",語言配置表!A2868)","v":2865},{"$f":"IF(語言配置表!A2868=\"\",\"CN_待填充内容\",語言配置表!B2868)","v":""}]
[{"$f":"IF(語言配置表!A2869=\"\",\"\",語言配置表!A2869)","v":2866},{"$f":"IF(語言配置表!A2869=\"\",\"CN_待填充内容\",語言配置表!B2869)","v":""}]
[{"$f":"IF(語言配置表!A2870=\"\",\"\",語言配置表!A2870)","v":2867},{"$f":"IF(語言配置表!A2870=\"\",\"CN_待填充内容\",語言配置表!B2870)","v":""}]
[{"$f":"IF(語言配置表!A2871=\"\",\"\",語言配置表!A2871)","v":2868},{"$f":"IF(語言配置表!A2871=\"\",\"CN_待填充内容\",語言配置表!B2871)","v":""}]
[{"$f":"IF(語言配置表!A2872=\"\",\"\",語言配置表!A2872)","v":2869},{"$f":"IF(語言配置表!A2872=\"\",\"CN_待填充内容\",語言配置表!B2872)","v":""}]
[{"$f":"IF(語言配置表!A2873=\"\",\"\",語言配置表!A2873)","v":2870},{"$f":"IF(語言配置表!A2873=\"\",\"CN_待填充内容\",語言配置表!B2873)","v":""}]
[{"$f":"IF(語言配置表!A2874=\"\",\"\",語言配置表!A2874)","v":2871},{"$f":"IF(語言配置表!A2874=\"\",\"CN_待填充内容\",語言配置表!B2874)","v":""}]
[{"$f":"IF(語言配置表!A2875=\"\",\"\",語言配置表!A2875)","v":2872},{"$f":"IF(語言配置表!A2875=\"\",\"CN_待填充内容\",語言配置表!B2875)","v":""}]
[{"$f":"IF(語言配置表!A2876=\"\",\"\",語言配置表!A2876)","v":2873},{"$f":"IF(語言配置表!A2876=\"\",\"CN_待填充内容\",語言配置表!B2876)","v":""}]
[{"$f":"IF(語言配置表!A2877=\"\",\"\",語言配置表!A2877)","v":2874},{"$f":"IF(語言配置表!A2877=\"\",\"CN_待填充内容\",語言配置表!B2877)","v":""}]
[{"$f":"IF(語言配置表!A2878=\"\",\"\",語言配置表!A2878)","v":2875},{"$f":"IF(語言配置表!A2878=\"\",\"CN_待填充内容\",語言配置表!B2878)","v":""}]
[{"$f":"IF(語言配置表!A2879=\"\",\"\",語言配置表!A2879)","v":2876},{"$f":"IF(語言配置表!A2879=\"\",\"CN_待填充内容\",語言配置表!B2879)","v":""}]
[{"$f":"IF(語言配置表!A2880=\"\",\"\",語言配置表!A2880)","v":2877},{"$f":"IF(語言配置表!A2880=\"\",\"CN_待填充内容\",語言配置表!B2880)","v":""}]
[{"$f":"IF(語言配置表!A2881=\"\",\"\",語言配置表!A2881)","v":2878},{"$f":"IF(語言配置表!A2881=\"\",\"CN_待填充内容\",語言配置表!B2881)","v":""}]
[{"$f":"IF(語言配置表!A2882=\"\",\"\",語言配置表!A2882)","v":2879},{"$f":"IF(語言配置表!A2882=\"\",\"CN_待填充内容\",語言配置表!B2882)","v":""}]
[{"$f":"IF(語言配置表!A2883=\"\",\"\",語言配置表!A2883)","v":2880},{"$f":"IF(語言配置表!A2883=\"\",\"CN_待填充内容\",語言配置表!B2883)","v":""}]
[{"$f":"IF(語言配置表!A2884=\"\",\"\",語言配置表!A2884)","v":2881},{"$f":"IF(語言配置表!A2884=\"\",\"CN_待填充内容\",語言配置表!B2884)","v":""}]
[{"$f":"IF(語言配置表!A2885=\"\",\"\",語言配置表!A2885)","v":2882},{"$f":"IF(語言配置表!A2885=\"\",\"CN_待填充内容\",語言配置表!B2885)","v":""}]
[{"$f":"IF(語言配置表!A2886=\"\",\"\",語言配置表!A2886)","v":2883},{"$f":"IF(語言配置表!A2886=\"\",\"CN_待填充内容\",語言配置表!B2886)","v":""}]
[{"$f":"IF(語言配置表!A2887=\"\",\"\",語言配置表!A2887)","v":2884},{"$f":"IF(語言配置表!A2887=\"\",\"CN_待填充内容\",語言配置表!B2887)","v":""}]
[{"$f":"IF(語言配置表!A2888=\"\",\"\",語言配置表!A2888)","v":2885},{"$f":"IF(語言配置表!A2888=\"\",\"CN_待填充内容\",語言配置表!B2888)","v":""}]
[{"$f":"IF(語言配置表!A2889=\"\",\"\",語言配置表!A2889)","v":2886},{"$f":"IF(語言配置表!A2889=\"\",\"CN_待填充内容\",語言配置表!B2889)","v":""}]
[{"$f":"IF(語言配置表!A2890=\"\",\"\",語言配置表!A2890)","v":2887},{"$f":"IF(語言配置表!A2890=\"\",\"CN_待填充内容\",語言配置表!B2890)","v":""}]
[{"$f":"IF(語言配置表!A2891=\"\",\"\",語言配置表!A2891)","v":2888},{"$f":"IF(語言配置表!A2891=\"\",\"CN_待填充内容\",語言配置表!B2891)","v":""}]
[{"$f":"IF(語言配置表!A2892=\"\",\"\",語言配置表!A2892)","v":2889},{"$f":"IF(語言配置表!A2892=\"\",\"CN_待填充内容\",語言配置表!B2892)","v":""}]
[{"$f":"IF(語言配置表!A2893=\"\",\"\",語言配置表!A2893)","v":2890},{"$f":"IF(語言配置表!A2893=\"\",\"CN_待填充内容\",語言配置表!B2893)","v":""}]
[{"$f":"IF(語言配置表!A2894=\"\",\"\",語言配置表!A2894)","v":2891},{"$f":"IF(語言配置表!A2894=\"\",\"CN_待填充内容\",語言配置表!B2894)","v":""}]
[{"$f":"IF(語言配置表!A2895=\"\",\"\",語言配置表!A2895)","v":2892},{"$f":"IF(語言配置表!A2895=\"\",\"CN_待填充内容\",語言配置表!B2895)","v":""}]
[{"$f":"IF(語言配置表!A2896=\"\",\"\",語言配置表!A2896)","v":2893},{"$f":"IF(語言配置表!A2896=\"\",\"CN_待填充内容\",語言配置表!B2896)","v":""}]
[{"$f":"IF(語言配置表!A2897=\"\",\"\",語言配置表!A2897)","v":2894},{"$f":"IF(語言配置表!A2897=\"\",\"CN_待填充内容\",語言配置表!B2897)","v":""}]
[{"$f":"IF(語言配置表!A2898=\"\",\"\",語言配置表!A2898)","v":2895},{"$f":"IF(語言配置表!A2898=\"\",\"CN_待填充内容\",語言配置表!B2898)","v":""}]
[{"$f":"IF(語言配置表!A2899=\"\",\"\",語言配置表!A2899)","v":2896},{"$f":"IF(語言配置表!A2899=\"\",\"CN_待填充内容\",語言配置表!B2899)","v":""}]
[{"$f":"IF(語言配置表!A2900=\"\",\"\",語言配置表!A2900)","v":2897},{"$f":"IF(語言配置表!A2900=\"\",\"CN_待填充内容\",語言配置表!B2900)","v":""}]
[{"$f":"IF(語言配置表!A2901=\"\",\"\",語言配置表!A2901)","v":2898},{"$f":"IF(語言配置表!A2901=\"\",\"CN_待填充内容\",語言配置表!B2901)","v":""}]
[{"$f":"IF(語言配置表!A2902=\"\",\"\",語言配置表!A2902)","v":2899},{"$f":"IF(語言配置表!A2902=\"\",\"CN_待填充内容\",語言配置表!B2902)","v":""}]
[{"$f":"IF(語言配置表!A2903=\"\",\"\",語言配置表!A2903)","v":2900},{"$f":"IF(語言配置表!A2903=\"\",\"CN_待填充内容\",語言配置表!B2903)","v":""}]
[{"$f":"IF(語言配置表!A2904=\"\",\"\",語言配置表!A2904)","v":2901},{"$f":"IF(語言配置表!A2904=\"\",\"CN_待填充内容\",語言配置表!B2904)","v":""}]
[{"$f":"IF(語言配置表!A2905=\"\",\"\",語言配置表!A2905)","v":2902},{"$f":"IF(語言配置表!A2905=\"\",\"CN_待填充内容\",語言配置表!B2905)","v":""}]
[{"$f":"IF(語言配置表!A2906=\"\",\"\",語言配置表!A2906)","v":2903},{"$f":"IF(語言配置表!A2906=\"\",\"CN_待填充内容\",語言配置表!B2906)","v":""}]
[{"$f":"IF(語言配置表!A2907=\"\",\"\",語言配置表!A2907)","v":2904},{"$f":"IF(語言配置表!A2907=\"\",\"CN_待填充内容\",語言配置表!B2907)","v":""}]
[{"$f":"IF(語言配置表!A2908=\"\",\"\",語言配置表!A2908)","v":2905},{"$f":"IF(語言配置表!A2908=\"\",\"CN_待填充内容\",語言配置表!B2908)","v":""}]
[{"$f":"IF(語言配置表!A2909=\"\",\"\",語言配置表!A2909)","v":2906},{"$f":"IF(語言配置表!A2909=\"\",\"CN_待填充内容\",語言配置表!B2909)","v":""}]
[{"$f":"IF(語言配置表!A2910=\"\",\"\",語言配置表!A2910)","v":2907},{"$f":"IF(語言配置表!A2910=\"\",\"CN_待填充内容\",語言配置表!B2910)","v":""}]
[{"$f":"IF(語言配置表!A2911=\"\",\"\",語言配置表!A2911)","v":2908},{"$f":"IF(語言配置表!A2911=\"\",\"CN_待填充内容\",語言配置表!B2911)","v":""}]
[{"$f":"IF(語言配置表!A2912=\"\",\"\",語言配置表!A2912)","v":2909},{"$f":"IF(語言配置表!A2912=\"\",\"CN_待填充内容\",語言配置表!B2912)","v":""}]
[{"$f":"IF(語言配置表!A2913=\"\",\"\",語言配置表!A2913)","v":2910},{"$f":"IF(語言配置表!A2913=\"\",\"CN_待填充内容\",語言配置表!B2913)","v":""}]
[{"$f":"IF(語言配置表!A2914=\"\",\"\",語言配置表!A2914)","v":2911},{"$f":"IF(語言配置表!A2914=\"\",\"CN_待填充内容\",語言配置表!B2914)","v":""}]
[{"$f":"IF(語言配置表!A2915=\"\",\"\",語言配置表!A2915)","v":2912},{"$f":"IF(語言配置表!A2915=\"\",\"CN_待填充内容\",語言配置表!B2915)","v":""}]
[{"$f":"IF(語言配置表!A2916=\"\",\"\",語言配置表!A2916)","v":2913},{"$f":"IF(語言配置表!A2916=\"\",\"CN_待填充内容\",語言配置表!B2916)","v":""}]
[{"$f":"IF(語言配置表!A2917=\"\",\"\",語言配置表!A2917)","v":2914},{"$f":"IF(語言配置表!A2917=\"\",\"CN_待填充内容\",語言配置表!B2917)","v":""}]
[{"$f":"IF(語言配置表!A2918=\"\",\"\",語言配置表!A2918)","v":2915},{"$f":"IF(語言配置表!A2918=\"\",\"CN_待填充内容\",語言配置表!B2918)","v":""}]
[{"$f":"IF(語言配置表!A2919=\"\",\"\",語言配置表!A2919)","v":2916},{"$f":"IF(語言配置表!A2919=\"\",\"CN_待填充内容\",語言配置表!B2919)","v":""}]
[{"$f":"IF(語言配置表!A2920=\"\",\"\",語言配置表!A2920)","v":2917},{"$f":"IF(語言配置表!A2920=\"\",\"CN_待填充内容\",語言配置表!B2920)","v":""}]
[{"$f":"IF(語言配置表!A2921=\"\",\"\",語言配置表!A2921)","v":2918},{"$f":"IF(語言配置表!A2921=\"\",\"CN_待填充内容\",語言配置表!B2921)","v":""}]
[{"$f":"IF(語言配置表!A2922=\"\",\"\",語言配置表!A2922)","v":2919},{"$f":"IF(語言配置表!A2922=\"\",\"CN_待填充内容\",語言配置表!B2922)","v":""}]
[{"$f":"IF(語言配置表!A2923=\"\",\"\",語言配置表!A2923)","v":2920},{"$f":"IF(語言配置表!A2923=\"\",\"CN_待填充内容\",語言配置表!B2923)","v":""}]
[{"$f":"IF(語言配置表!A2924=\"\",\"\",語言配置表!A2924)","v":2921},{"$f":"IF(語言配置表!A2924=\"\",\"CN_待填充内容\",語言配置表!B2924)","v":""}]
[{"$f":"IF(語言配置表!A2925=\"\",\"\",語言配置表!A2925)","v":2922},{"$f":"IF(語言配置表!A2925=\"\",\"CN_待填充内容\",語言配置表!B2925)","v":""}]
[{"$f":"IF(語言配置表!A2926=\"\",\"\",語言配置表!A2926)","v":2923},{"$f":"IF(語言配置表!A2926=\"\",\"CN_待填充内容\",語言配置表!B2926)","v":""}]
[{"$f":"IF(語言配置表!A2927=\"\",\"\",語言配置表!A2927)","v":2924},{"$f":"IF(語言配置表!A2927=\"\",\"CN_待填充内容\",語言配置表!B2927)","v":""}]
[{"$f":"IF(語言配置表!A2928=\"\",\"\",語言配置表!A2928)","v":2925},{"$f":"IF(語言配置表!A2928=\"\",\"CN_待填充内容\",語言配置表!B2928)","v":""}]
[{"$f":"IF(語言配置表!A2929=\"\",\"\",語言配置表!A2929)","v":2926},{"$f":"IF(語言配置表!A2929=\"\",\"CN_待填充内容\",語言配置表!B2929)","v":""}]
[{"$f":"IF(語言配置表!A2930=\"\",\"\",語言配置表!A2930)","v":2927},{"$f":"IF(語言配置表!A2930=\"\",\"CN_待填充内容\",語言配置表!B2930)","v":""}]
[{"$f":"IF(語言配置表!A2931=\"\",\"\",語言配置表!A2931)","v":2928},{"$f":"IF(語言配置表!A2931=\"\",\"CN_待填充内容\",語言配置表!B2931)","v":""}]
[{"$f":"IF(語言配置表!A2932=\"\",\"\",語言配置表!A2932)","v":2929},{"$f":"IF(語言配置表!A2932=\"\",\"CN_待填充内容\",語言配置表!B2932)","v":""}]
[{"$f":"IF(語言配置表!A2933=\"\",\"\",語言配置表!A2933)","v":2930},{"$f":"IF(語言配置表!A2933=\"\",\"CN_待填充内容\",語言配置表!B2933)","v":""}]
[{"$f":"IF(語言配置表!A2934=\"\",\"\",語言配置表!A2934)","v":2931},{"$f":"IF(語言配置表!A2934=\"\",\"CN_待填充内容\",語言配置表!B2934)","v":""}]
[{"$f":"IF(語言配置表!A2935=\"\",\"\",語言配置表!A2935)","v":2932},{"$f":"IF(語言配置表!A2935=\"\",\"CN_待填充内容\",語言配置表!B2935)","v":""}]
[{"$f":"IF(語言配置表!A2936=\"\",\"\",語言配置表!A2936)","v":2933},{"$f":"IF(語言配置表!A2936=\"\",\"CN_待填充内容\",語言配置表!B2936)","v":""}]
[{"$f":"IF(語言配置表!A2937=\"\",\"\",語言配置表!A2937)","v":2934},{"$f":"IF(語言配置表!A2937=\"\",\"CN_待填充内容\",語言配置表!B2937)","v":""}]
[{"$f":"IF(語言配置表!A2938=\"\",\"\",語言配置表!A2938)","v":2935},{"$f":"IF(語言配置表!A2938=\"\",\"CN_待填充内容\",語言配置表!B2938)","v":""}]
[{"$f":"IF(語言配置表!A2939=\"\",\"\",語言配置表!A2939)","v":2936},{"$f":"IF(語言配置表!A2939=\"\",\"CN_待填充内容\",語言配置表!B2939)","v":""}]
[{"$f":"IF(語言配置表!A2940=\"\",\"\",語言配置表!A2940)","v":2937},{"$f":"IF(語言配置表!A2940=\"\",\"CN_待填充内容\",語言配置表!B2940)","v":""}]
[{"$f":"IF(語言配置表!A2941=\"\",\"\",語言配置表!A2941)","v":2938},{"$f":"IF(語言配置表!A2941=\"\",\"CN_待填充内容\",語言配置表!B2941)","v":""}]
[{"$f":"IF(語言配置表!A2942=\"\",\"\",語言配置表!A2942)","v":2939},{"$f":"IF(語言配置表!A2942=\"\",\"CN_待填充内容\",語言配置表!B2942)","v":""}]
[{"$f":"IF(語言配置表!A2943=\"\",\"\",語言配置表!A2943)","v":2940},{"$f":"IF(語言配置表!A2943=\"\",\"CN_待填充内容\",語言配置表!B2943)","v":""}]
[{"$f":"IF(語言配置表!A2944=\"\",\"\",語言配置表!A2944)","v":2941},{"$f":"IF(語言配置表!A2944=\"\",\"CN_待填充内容\",語言配置表!B2944)","v":""}]
[{"$f":"IF(語言配置表!A2945=\"\",\"\",語言配置表!A2945)","v":2942},{"$f":"IF(語言配置表!A2945=\"\",\"CN_待填充内容\",語言配置表!B2945)","v":""}]
[{"$f":"IF(語言配置表!A2946=\"\",\"\",語言配置表!A2946)","v":2943},{"$f":"IF(語言配置表!A2946=\"\",\"CN_待填充内容\",語言配置表!B2946)","v":""}]
[{"$f":"IF(語言配置表!A2947=\"\",\"\",語言配置表!A2947)","v":2944},{"$f":"IF(語言配置表!A2947=\"\",\"CN_待填充内容\",語言配置表!B2947)","v":""}]
[{"$f":"IF(語言配置表!A2948=\"\",\"\",語言配置表!A2948)","v":2945},{"$f":"IF(語言配置表!A2948=\"\",\"CN_待填充内容\",語言配置表!B2948)","v":""}]
[{"$f":"IF(語言配置表!A2949=\"\",\"\",語言配置表!A2949)","v":2946},{"$f":"IF(語言配置表!A2949=\"\",\"CN_待填充内容\",語言配置表!B2949)","v":""}]
[{"$f":"IF(語言配置表!A2950=\"\",\"\",語言配置表!A2950)","v":2947},{"$f":"IF(語言配置表!A2950=\"\",\"CN_待填充内容\",語言配置表!B2950)","v":""}]
[{"$f":"IF(語言配置表!A2951=\"\",\"\",語言配置表!A2951)","v":2948},{"$f":"IF(語言配置表!A2951=\"\",\"CN_待填充内容\",語言配置表!B2951)","v":""}]
[{"$f":"IF(語言配置表!A2952=\"\",\"\",語言配置表!A2952)","v":2949},{"$f":"IF(語言配置表!A2952=\"\",\"CN_待填充内容\",語言配置表!B2952)","v":""}]
[{"$f":"IF(語言配置表!A2953=\"\",\"\",語言配置表!A2953)","v":2950},{"$f":"IF(語言配置表!A2953=\"\",\"CN_待填充内容\",語言配置表!B2953)","v":""}]
[{"$f":"IF(語言配置表!A2954=\"\",\"\",語言配置表!A2954)","v":2951},{"$f":"IF(語言配置表!A2954=\"\",\"CN_待填充内容\",語言配置表!B2954)","v":""}]
[{"$f":"IF(語言配置表!A2955=\"\",\"\",語言配置表!A2955)","v":2952},{"$f":"IF(語言配置表!A2955=\"\",\"CN_待填充内容\",語言配置表!B2955)","v":""}]
[{"$f":"IF(語言配置表!A2956=\"\",\"\",語言配置表!A2956)","v":2953},{"$f":"IF(語言配置表!A2956=\"\",\"CN_待填充内容\",語言配置表!B2956)","v":""}]
[{"$f":"IF(語言配置表!A2957=\"\",\"\",語言配置表!A2957)","v":2954},{"$f":"IF(語言配置表!A2957=\"\",\"CN_待填充内容\",語言配置表!B2957)","v":""}]
[{"$f":"IF(語言配置表!A2958=\"\",\"\",語言配置表!A2958)","v":2955},{"$f":"IF(語言配置表!A2958=\"\",\"CN_待填充内容\",語言配置表!B2958)","v":""}]
[{"$f":"IF(語言配置表!A2959=\"\",\"\",語言配置表!A2959)","v":2956},{"$f":"IF(語言配置表!A2959=\"\",\"CN_待填充内容\",語言配置表!B2959)","v":""}]
[{"$f":"IF(語言配置表!A2960=\"\",\"\",語言配置表!A2960)","v":2957},{"$f":"IF(語言配置表!A2960=\"\",\"CN_待填充内容\",語言配置表!B2960)","v":""}]
[{"$f":"IF(語言配置表!A2961=\"\",\"\",語言配置表!A2961)","v":2958},{"$f":"IF(語言配置表!A2961=\"\",\"CN_待填充内容\",語言配置表!B2961)","v":""}]
[{"$f":"IF(語言配置表!A2962=\"\",\"\",語言配置表!A2962)","v":2959},{"$f":"IF(語言配置表!A2962=\"\",\"CN_待填充内容\",語言配置表!B2962)","v":""}]
[{"$f":"IF(語言配置表!A2963=\"\",\"\",語言配置表!A2963)","v":2960},{"$f":"IF(語言配置表!A2963=\"\",\"CN_待填充内容\",語言配置表!B2963)","v":""}]
[{"$f":"IF(語言配置表!A2964=\"\",\"\",語言配置表!A2964)","v":2961},{"$f":"IF(語言配置表!A2964=\"\",\"CN_待填充内容\",語言配置表!B2964)","v":""}]
[{"$f":"IF(語言配置表!A2965=\"\",\"\",語言配置表!A2965)","v":2962},{"$f":"IF(語言配置表!A2965=\"\",\"CN_待填充内容\",語言配置表!B2965)","v":""}]
[{"$f":"IF(語言配置表!A2966=\"\",\"\",語言配置表!A2966)","v":2963},{"$f":"IF(語言配置表!A2966=\"\",\"CN_待填充内容\",語言配置表!B2966)","v":""}]
[{"$f":"IF(語言配置表!A2967=\"\",\"\",語言配置表!A2967)","v":2964},{"$f":"IF(語言配置表!A2967=\"\",\"CN_待填充内容\",語言配置表!B2967)","v":""}]
[{"$f":"IF(語言配置表!A2968=\"\",\"\",語言配置表!A2968)","v":2965},{"$f":"IF(語言配置表!A2968=\"\",\"CN_待填充内容\",語言配置表!B2968)","v":""}]
[{"$f":"IF(語言配置表!A2969=\"\",\"\",語言配置表!A2969)","v":2966},{"$f":"IF(語言配置表!A2969=\"\",\"CN_待填充内容\",語言配置表!B2969)","v":""}]
[{"$f":"IF(語言配置表!A2970=\"\",\"\",語言配置表!A2970)","v":2967},{"$f":"IF(語言配置表!A2970=\"\",\"CN_待填充内容\",語言配置表!B2970)","v":""}]
[{"$f":"IF(語言配置表!A2971=\"\",\"\",語言配置表!A2971)","v":2968},{"$f":"IF(語言配置表!A2971=\"\",\"CN_待填充内容\",語言配置表!B2971)","v":""}]
[{"$f":"IF(語言配置表!A2972=\"\",\"\",語言配置表!A2972)","v":2969},{"$f":"IF(語言配置表!A2972=\"\",\"CN_待填充内容\",語言配置表!B2972)","v":""}]
[{"$f":"IF(語言配置表!A2973=\"\",\"\",語言配置表!A2973)","v":2970},{"$f":"IF(語言配置表!A2973=\"\",\"CN_待填充内容\",語言配置表!B2973)","v":""}]
[{"$f":"IF(語言配置表!A2974=\"\",\"\",語言配置表!A2974)","v":2971},{"$f":"IF(語言配置表!A2974=\"\",\"CN_待填充内容\",語言配置表!B2974)","v":""}]
[{"$f":"IF(語言配置表!A2975=\"\",\"\",語言配置表!A2975)","v":2972},{"$f":"IF(語言配置表!A2975=\"\",\"CN_待填充内容\",語言配置表!B2975)","v":""}]
[{"$f":"IF(語言配置表!A2976=\"\",\"\",語言配置表!A2976)","v":2973},{"$f":"IF(語言配置表!A2976=\"\",\"CN_待填充内容\",語言配置表!B2976)","v":""}]
[{"$f":"IF(語言配置表!A2977=\"\",\"\",語言配置表!A2977)","v":2974},{"$f":"IF(語言配置表!A2977=\"\",\"CN_待填充内容\",語言配置表!B2977)","v":""}]
[{"$f":"IF(語言配置表!A2978=\"\",\"\",語言配置表!A2978)","v":2975},{"$f":"IF(語言配置表!A2978=\"\",\"CN_待填充内容\",語言配置表!B2978)","v":""}]
[{"$f":"IF(語言配置表!A2979=\"\",\"\",語言配置表!A2979)","v":2976},{"$f":"IF(語言配置表!A2979=\"\",\"CN_待填充内容\",語言配置表!B2979)","v":""}]
[{"$f":"IF(語言配置表!A2980=\"\",\"\",語言配置表!A2980)","v":2977},{"$f":"IF(語言配置表!A2980=\"\",\"CN_待填充内容\",語言配置表!B2980)","v":""}]
[{"$f":"IF(語言配置表!A2981=\"\",\"\",語言配置表!A2981)","v":2978},{"$f":"IF(語言配置表!A2981=\"\",\"CN_待填充内容\",語言配置表!B2981)","v":""}]
[{"$f":"IF(語言配置表!A2982=\"\",\"\",語言配置表!A2982)","v":2979},{"$f":"IF(語言配置表!A2982=\"\",\"CN_待填充内容\",語言配置表!B2982)","v":""}]
[{"$f":"IF(語言配置表!A2983=\"\",\"\",語言配置表!A2983)","v":2980},{"$f":"IF(語言配置表!A2983=\"\",\"CN_待填充内容\",語言配置表!B2983)","v":""}]
[{"$f":"IF(語言配置表!A2984=\"\",\"\",語言配置表!A2984)","v":2981},{"$f":"IF(語言配置表!A2984=\"\",\"CN_待填充内容\",語言配置表!B2984)","v":""}]
[{"$f":"IF(語言配置表!A2985=\"\",\"\",語言配置表!A2985)","v":2982},{"$f":"IF(語言配置表!A2985=\"\",\"CN_待填充内容\",語言配置表!B2985)","v":""}]
[{"$f":"IF(語言配置表!A2986=\"\",\"\",語言配置表!A2986)","v":2983},{"$f":"IF(語言配置表!A2986=\"\",\"CN_待填充内容\",語言配置表!B2986)","v":""}]
[{"$f":"IF(語言配置表!A2987=\"\",\"\",語言配置表!A2987)","v":2984},{"$f":"IF(語言配置表!A2987=\"\",\"CN_待填充内容\",語言配置表!B2987)","v":""}]
[{"$f":"IF(語言配置表!A2988=\"\",\"\",語言配置表!A2988)","v":2985},{"$f":"IF(語言配置表!A2988=\"\",\"CN_待填充内容\",語言配置表!B2988)","v":""}]
[{"$f":"IF(語言配置表!A2989=\"\",\"\",語言配置表!A2989)","v":2986},{"$f":"IF(語言配置表!A2989=\"\",\"CN_待填充内容\",語言配置表!B2989)","v":""}]
[{"$f":"IF(語言配置表!A2990=\"\",\"\",語言配置表!A2990)","v":2987},{"$f":"IF(語言配置表!A2990=\"\",\"CN_待填充内容\",語言配置表!B2990)","v":""}]
[{"$f":"IF(語言配置表!A2991=\"\",\"\",語言配置表!A2991)","v":2988},{"$f":"IF(語言配置表!A2991=\"\",\"CN_待填充内容\",語言配置表!B2991)","v":""}]
[{"$f":"IF(語言配置表!A2992=\"\",\"\",語言配置表!A2992)","v":2989},{"$f":"IF(語言配置表!A2992=\"\",\"CN_待填充内容\",語言配置表!B2992)","v":""}]
[{"$f":"IF(語言配置表!A2993=\"\",\"\",語言配置表!A2993)","v":2990},{"$f":"IF(語言配置表!A2993=\"\",\"CN_待填充内容\",語言配置表!B2993)","v":""}]
[{"$f":"IF(語言配置表!A2994=\"\",\"\",語言配置表!A2994)","v":2991},{"$f":"IF(語言配置表!A2994=\"\",\"CN_待填充内容\",語言配置表!B2994)","v":""}]
[{"$f":"IF(語言配置表!A2995=\"\",\"\",語言配置表!A2995)","v":2992},{"$f":"IF(語言配置表!A2995=\"\",\"CN_待填充内容\",語言配置表!B2995)","v":""}]
[{"$f":"IF(語言配置表!A2996=\"\",\"\",語言配置表!A2996)","v":2993},{"$f":"IF(語言配置表!A2996=\"\",\"CN_待填充内容\",語言配置表!B2996)","v":""}]
[{"$f":"IF(語言配置表!A2997=\"\",\"\",語言配置表!A2997)","v":2994},{"$f":"IF(語言配置表!A2997=\"\",\"CN_待填充内容\",語言配置表!B2997)","v":""}]
[{"$f":"IF(語言配置表!A2998=\"\",\"\",語言配置表!A2998)","v":2995},{"$f":"IF(語言配置表!A2998=\"\",\"CN_待填充内容\",語言配置表!B2998)","v":""}]
[{"$f":"IF(語言配置表!A2999=\"\",\"\",語言配置表!A2999)","v":2996},{"$f":"IF(語言配置表!A2999=\"\",\"CN_待填充内容\",語言配置表!B2999)","v":""}]
[{"$f":"IF(語言配置表!A3000=\"\",\"\",語言配置表!A3000)","v":2997},{"$f":"IF(語言配置表!A3000=\"\",\"CN_待填充内容\",語言配置表!B3000)","v":""}]
[{"$f":"IF(語言配置表!A3001=\"\",\"\",語言配置表!A3001)","v":2998},{"$f":"IF(語言配置表!A3001=\"\",\"CN_待填充内容\",語言配置表!B3001)","v":""}]
[{"$f":"IF(語言配置表!A3002=\"\",\"\",語言配置表!A3002)","v":2999},{"$f":"IF(語言配置表!A3002=\"\",\"CN_待填充内容\",語言配置表!B3002)","v":""}]
[{"$f":"IF(語言配置表!A3003=\"\",\"\",語言配置表!A3003)","v":3000},{"$f":"IF(語言配置表!A3003=\"\",\"CN_待填充内容\",語言配置表!B3003)","v":"玩家"}]
[{"$f":"IF(語言配置表!A3004=\"\",\"\",語言配置表!A3004)","v":3001},{"$f":"IF(語言配置表!A3004=\"\",\"CN_待填充内容\",語言配置表!B3004)","v":"蜩鸟"}]
[{"$f":"IF(語言配置表!A3005=\"\",\"\",語言配置表!A3005)","v":3002},{"$f":"IF(語言配置表!A3005=\"\",\"CN_待填充内容\",語言配置表!B3005)","v":"小麻雀"}]
[{"$f":"IF(語言配置表!A3006=\"\",\"\",語言配置表!A3006)","v":3003},{"$f":"IF(語言配置表!A3006=\"\",\"CN_待填充内容\",語言配置表!B3006)","v":"疯道人"}]
[{"$f":"IF(語言配置表!A3007=\"\",\"\",語言配置表!A3007)","v":3004},{"$f":"IF(語言配置表!A3007=\"\",\"CN_待填充内容\",語言配置表!B3007)","v":"痴道人"}]
[{"$f":"IF(語言配置表!A3008=\"\",\"\",語言配置表!A3008)","v":3005},{"$f":"IF(語言配置表!A3008=\"\",\"CN_待填充内容\",語言配置表!B3008)","v":"尧帝"}]
[{"$f":"IF(語言配置表!A3009=\"\",\"\",語言配置表!A3009)","v":3006},{"$f":"IF(語言配置表!A3009=\"\",\"CN_待填充内容\",語言配置表!B3009)","v":"许由"}]
[{"$f":"IF(語言配置表!A3010=\"\",\"\",語言配置表!A3010)","v":3007},{"$f":"IF(語言配置表!A3010=\"\",\"CN_待填充内容\",語言配置表!B3010)","v":"村名甲"}]
[{"$f":"IF(語言配置表!A3011=\"\",\"\",語言配置表!A3011)","v":3008},{"$f":"IF(語言配置表!A3011=\"\",\"CN_待填充内容\",語言配置表!B3011)","v":"村名乙"}]
[{"$f":"IF(語言配置表!A3012=\"\",\"\",語言配置表!A3012)","v":3009},{"$f":"IF(語言配置表!A3012=\"\",\"CN_待填充内容\",語言配置表!B3012)","v":"村名丙"}]
[{"$f":"IF(語言配置表!A3013=\"\",\"\",語言配置表!A3013)","v":3010},{"$f":"IF(語言配置表!A3013=\"\",\"CN_待填充内容\",語言配置表!B3013)","v":"樗木之灵"}]
[{"$f":"IF(語言配置表!A3014=\"\",\"\",語言配置表!A3014)","v":3011},{"$f":"IF(語言配置表!A3014=\"\",\"CN_待填充内容\",語言配置表!B3014)","v":"你败下阵来，感到头晕目眩，试图努力回忆起刚才发生的事情。(回到主界面重新触发剧情）"}]
[{"$f":"IF(語言配置表!A3015=\"\",\"\",語言配置表!A3015)","v":3012},{"$f":"IF(語言配置表!A3015=\"\",\"CN_待填充内容\",語言配置表!B3015)","v":"战斗胜利，你的任务进度增加了。"}]
[{"$f":"IF(語言配置表!A3016=\"\",\"\",語言配置表!A3016)","v":3013},{"$f":"IF(語言配置表!A3016=\"\",\"CN_待填充内容\",語言配置表!B3016)","v":"樗木之灵的树枝"}]
[{"$f":"IF(語言配置表!A3017=\"\",\"\",語言配置表!A3017)","v":3014},{"$f":"IF(語言配置表!A3017=\"\",\"CN_待填充内容\",語言配置表!B3017)","v":"飞天灵兽的翅膀"}]
[{"$f":"IF(語言配置表!A3018=\"\",\"\",語言配置表!A3018)","v":3015},{"$f":"IF(語言配置表!A3018=\"\",\"CN_待填充内容\",語言配置表!B3018)","v":"用于主线任务天肥地肥中的地肥材料"}]
[{"$f":"IF(語言配置表!A3019=\"\",\"\",語言配置表!A3019)","v":3016},{"$f":"IF(語言配置表!A3019=\"\",\"CN_待填充内容\",語言配置表!B3019)","v":"用于主线任务天肥地肥中的天肥材料"}]
[{"$f":"IF(語言配置表!A3020=\"\",\"\",語言配置表!A3020)","v":3017},{"$f":"IF(語言配置表!A3020=\"\",\"CN_待填充内容\",語言配置表!B3020)","v":"药田"}]
[{"$f":"IF(語言配置表!A3021=\"\",\"\",語言配置表!A3021)","v":3018},{"$f":"IF(語言配置表!A3021=\"\",\"CN_待填充内容\",語言配置表!B3021)","v":"此乃洞天福地，此中还长了几株仙药。\n前往山洞之中收集药材。"}]
[{"$f":"IF(語言配置表!A3022=\"\",\"\",語言配置表!A3022)","v":3019},{"$f":"IF(語言配置表!A3022=\"\",\"CN_待填充内容\",語言配置表!B3022)","v":"风影为二"}]
[{"$f":"IF(語言配置表!A3023=\"\",\"\",語言配置表!A3023)","v":3020},{"$f":"IF(語言配置表!A3023=\"\",\"CN_待填充内容\",語言配置表!B3023)","v":"风影为二详情占位"}]
[{"$f":"IF(語言配置表!A3024=\"\",\"\",語言配置表!A3024)","v":3021},{"$f":"IF(語言配置表!A3024=\"\",\"CN_待填充内容\",語言配置表!B3024)","v":"风无咎"}]
[{"$f":"IF(語言配置表!A3025=\"\",\"\",語言配置表!A3025)","v":3022},{"$f":"IF(語言配置表!A3025=\"\",\"CN_待填充内容\",語言配置表!B3025)","v":"逍遥自在"}]
[{"$f":"IF(語言配置表!A3026=\"\",\"\",語言配置表!A3026)","v":3023},{"$f":"IF(語言配置表!A3026=\"\",\"CN_待填充内容\",語言配置表!B3026)","v":"万法归一"}]
[{"$f":"IF(語言配置表!A3027=\"\",\"\",語言配置表!A3027)","v":3024},{"$f":"IF(語言配置表!A3027=\"\",\"CN_待填充内容\",語言配置表!B3027)","v":"出神入化"}]
[{"$f":"IF(語言配置表!A3028=\"\",\"\",語言配置表!A3028)","v":3025},{"$f":"IF(語言配置表!A3028=\"\",\"CN_待填充内容\",語言配置表!B3028)","v":"无我无相"}]
[{"$f":"IF(語言配置表!A3029=\"\",\"\",語言配置表!A3029)","v":3026},{"$f":"IF(語言配置表!A3029=\"\",\"CN_待填充内容\",語言配置表!B3029)","v":"星辰道可以获得充能，充能满后启动星辰道，转盘速度增加{0}%"}]
[{"$f":"IF(語言配置表!A3030=\"\",\"\",語言配置表!A3030)","v":3027},{"$f":"IF(語言配置表!A3030=\"\",\"CN_待填充内容\",語言配置表!B3030)","v":"攻击+{0}%"}]
[{"$f":"IF(語言配置表!A3031=\"\",\"\",語言配置表!A3031)","v":3028},{"$f":"IF(語言配置表!A3031=\"\",\"CN_待填充内容\",語言配置表!B3031)","v":"最终伤害抵抗+{0}%"}]
[{"$f":"IF(語言配置表!A3032=\"\",\"\",語言配置表!A3032)","v":3029},{"$f":"IF(語言配置表!A3032=\"\",\"CN_待填充内容\",語言配置表!B3032)","v":"对异常状态敌人伤害增加{0}%"}]
[{"$f":"IF(語言配置表!A3033=\"\",\"\",語言配置表!A3033)","v":3030},{"$f":"IF(語言配置表!A3033=\"\",\"CN_待填充内容\",語言配置表!B3033)","v":"金木水火土任意一个属性伤害增加（后期洗点可以指定属性）"}]
[{"$f":"IF(語言配置表!A3034=\"\",\"\",語言配置表!A3034)","v":3031},{"$f":"IF(語言配置表!A3034=\"\",\"CN_待填充内容\",語言配置表!B3034)","v":"火焰专精：灼烧对敌人的伤害增加{0}%"}]
[{"$f":"IF(語言配置表!A3035=\"\",\"\",語言配置表!A3035)","v":3032},{"$f":"IF(語言配置表!A3035=\"\",\"CN_待填充内容\",語言配置表!B3035)","v":"毒专精：毒照成的伤害+{0}%，且蔓延速度加快{1}%"}]
[{"$f":"IF(語言配置表!A3036=\"\",\"\",語言配置表!A3036)","v":3033},{"$f":"IF(語言配置表!A3036=\"\",\"CN_待填充内容\",語言配置表!B3036)","v":"怎么想过去，就去吧.."}]
[{"$f":"IF(語言配置表!A3037=\"\",\"\",語言配置表!A3037)","v":3034},{"$f":"IF(語言配置表!A3037=\"\",\"CN_待填充内容\",語言配置表!B3037)","v":"北海剑妖"}]
[{"$f":"IF(語言配置表!A3038=\"\",\"\",語言配置表!A3038)","v":3035},{"$f":"IF(語言配置表!A3038=\"\",\"CN_待填充内容\",語言配置表!B3038)","v":"百年化妖为红颜，一剑焚海断孽缘"}]
[{"$f":"IF(語言配置表!A3039=\"\",\"\",語言配置表!A3039)","v":3036},{"$f":"IF(語言配置表!A3039=\"\",\"CN_待填充内容\",語言配置表!B3039)","v":"风影合一"}]
[{"$f":"IF(語言配置表!A3040=\"\",\"\",語言配置表!A3040)","v":3037},{"$f":"IF(語言配置表!A3040=\"\",\"CN_待填充内容\",語言配置表!B3040)","v":"风影合一详情占位"}]
[{"$f":"IF(語言配置表!A3041=\"\",\"\",語言配置表!A3041)","v":3038},{"$f":"IF(語言配置表!A3041=\"\",\"CN_待填充内容\",語言配置表!B3041)","v":"矿山"}]
[{"$f":"IF(語言配置表!A3042=\"\",\"\",語言配置表!A3042)","v":3039},{"$f":"IF(語言配置表!A3042=\"\",\"CN_待填充内容\",語言配置表!B3042)","v":"眼前的矿井不同寻常，矿井攀附在灵脉之上，似乎有着稀世灵矿。\n前往矿井采集灵矿。"}]
[{"$f":"IF(語言配置表!A3043=\"\",\"\",語言配置表!A3043)","v":3040},{"$f":"IF(語言配置表!A3043=\"\",\"CN_待填充内容\",語言配置表!B3043)","v":"寺庙"}]
[{"$f":"IF(語言配置表!A3044=\"\",\"\",語言配置表!A3044)","v":3041},{"$f":"IF(語言配置表!A3044=\"\",\"CN_待填充内容\",語言配置表!B3044)","v":"荒芜的寺庙之中，却有着一丝不易查询的灵气遗存。\n进入寺庙找寻散发灵气的修为丹。"}]
[{"$f":"IF(語言配置表!A3045=\"\",\"\",語言配置表!A3045)","v":3042},{"$f":"IF(語言配置表!A3045=\"\",\"CN_待填充内容\",語言配置表!B3045)","v":"洞府遗址"}]
[{"$f":"IF(語言配置表!A3046=\"\",\"\",語言配置表!A3046)","v":3043},{"$f":"IF(語言配置表!A3046=\"\",\"CN_待填充内容\",語言配置表!B3046)","v":"洞府好像荒废多年，洞府之中好像还有能用的东西。\n进入洞府收集可用之物。"}]
[{"$f":"IF(語言配置表!A3047=\"\",\"\",語言配置表!A3047)","v":3044},{"$f":"IF(語言配置表!A3047=\"\",\"CN_待填充内容\",語言配置表!B3047)","v":"灵泉"}]
[{"$f":"IF(語言配置表!A3048=\"\",\"\",語言配置表!A3048)","v":3045},{"$f":"IF(語言配置表!A3048=\"\",\"CN_待填充内容\",語言配置表!B3048)","v":"灵气积聚在一处泉水之中，似乎藏有修行奥秘。\n吸收灵泉提升灵力。"}]
[{"$f":"IF(語言配置表!A3049=\"\",\"\",語言配置表!A3049)","v":3046},{"$f":"IF(語言配置表!A3049=\"\",\"CN_待填充内容\",語言配置表!B3049)","v":"拦路山贼"}]
[{"$f":"IF(語言配置表!A3050=\"\",\"\",語言配置表!A3050)","v":3047},{"$f":"IF(語言配置表!A3050=\"\",\"CN_待填充内容\",語言配置表!B3050)","v":"一个不知好歹的山贼拦住了你的去路！"}]
[{"$f":"IF(語言配置表!A3051=\"\",\"\",語言配置表!A3051)","v":3048},{"$f":"IF(語言配置表!A3051=\"\",\"CN_待填充内容\",語言配置表!B3051)","v":"丢袈裟的和尚"}]
[{"$f":"IF(語言配置表!A3052=\"\",\"\",語言配置表!A3052)","v":3049},{"$f":"IF(語言配置表!A3052=\"\",\"CN_待填充内容\",語言配置表!B3052)","v":"一位和尚叫住了你，貌似有什么急事"}]
[{"$f":"IF(語言配置表!A3053=\"\",\"\",語言配置表!A3053)","v":3050},{"$f":"IF(語言配置表!A3053=\"\",\"CN_待填充内容\",語言配置表!B3053)","v":"将袈裟还给和尚"}]
[{"$f":"IF(語言配置表!A3054=\"\",\"\",語言配置表!A3054)","v":3051},{"$f":"IF(語言配置表!A3054=\"\",\"CN_待填充内容\",語言配置表!B3054)","v":"云游修士"}]
[{"$f":"IF(語言配置表!A3055=\"\",\"\",語言配置表!A3055)","v":3052},{"$f":"IF(語言配置表!A3055=\"\",\"CN_待填充内容\",語言配置表!B3055)","v":"一名云游修士前来问道"}]
[{"$f":"IF(語言配置表!A3056=\"\",\"\",語言配置表!A3056)","v":3053},{"$f":"IF(語言配置表!A3056=\"\",\"CN_待填充内容\",語言配置表!B3056)","v":"镇压妖王"}]
[{"$f":"IF(語言配置表!A3057=\"\",\"\",語言配置表!A3057)","v":3054},{"$f":"IF(語言配置表!A3057=\"\",\"CN_待填充内容\",語言配置表!B3057)","v":"逍遥宗长老前来求教"}]
[{"$f":"IF(語言配置表!A3058=\"\",\"\",語言配置表!A3058)","v":3055},{"$f":"IF(語言配置表!A3058=\"\",\"CN_待填充内容\",語言配置表!B3058)","v":"清剿妖兽"}]
[{"$f":"IF(語言配置表!A3059=\"\",\"\",語言配置表!A3059)","v":3056},{"$f":"IF(語言配置表!A3059=\"\",\"CN_待填充内容\",語言配置表!B3059)","v":"妖兽入侵了村子，消灭它们"}]
[{"$f":"IF(語言配置表!A3060=\"\",\"\",語言配置表!A3060)","v":""},{"$f":"IF(語言配置表!A3060=\"\",\"CN_待填充内容\",語言配置表!B3060)","v":"CN_待填充内容"}]
[{"$f":"IF(語言配置表!A3061=\"\",\"\",語言配置表!A3061)","v":""},{"$f":"IF(語言配置表!A3061=\"\",\"CN_待填充内容\",語言配置表!B3061)","v":"CN_待填充内容"}]
[{"$f":"IF(語言配置表!A3062=\"\",\"\",語言配置表!A3062)","v":""},{"$f":"IF(語言配置表!A3062=\"\",\"CN_待填充内容\",語言配置表!B3062)","v":"CN_待填充内容"}]
[{"$f":"IF(語言配置表!A3063=\"\",\"\",語言配置表!A3063)","v":""},{"$f":"IF(語言配置表!A3063=\"\",\"CN_待填充内容\",語言配置表!B3063)","v":"CN_待填充内容"}]
[{"$f":"IF(語言配置表!A3064=\"\",\"\",語言配置表!A3064)","v":""},{"$f":"IF(語言配置表!A3064=\"\",\"CN_待填充内容\",語言配置表!B3064)","v":"CN_待填充内容"}]
[{"$f":"IF(語言配置表!A3065=\"\",\"\",語言配置表!A3065)","v":""},{"$f":"IF(語言配置表!A3065=\"\",\"CN_待填充内容\",語言配置表!B3065)","v":"CN_待填充内容"}]
[{"$f":"IF(語言配置表!A3066=\"\",\"\",語言配置表!A3066)","v":""},{"$f":"IF(語言配置表!A3066=\"\",\"CN_待填充内容\",語言配置表!B3066)","v":"CN_待填充内容"}]
[{"$f":"IF(語言配置表!A3067=\"\",\"\",語言配置表!A3067)","v":""},{"$f":"IF(語言配置表!A3067=\"\",\"CN_待填充内容\",語言配置表!B3067)","v":"CN_待填充内容"}]
[{"$f":"IF(語言配置表!A3068=\"\",\"\",語言配置表!A3068)","v":""},{"$f":"IF(語言配置表!A3068=\"\",\"CN_待填充内容\",語言配置表!B3068)","v":"CN_待填充内容"}]
[{"$f":"IF(語言配置表!A3069=\"\",\"\",語言配置表!A3069)","v":""},{"$f":"IF(語言配置表!A3069=\"\",\"CN_待填充内容\",語言配置表!B3069)","v":"CN_待填充内容"}]
[{"$f":"IF(語言配置表!A3070=\"\",\"\",語言配置表!A3070)","v":""},{"$f":"IF(語言配置表!A3070=\"\",\"CN_待填充内容\",語言配置表!B3070)","v":"CN_待填充内容"}]
[{"$f":"IF(語言配置表!A3071=\"\",\"\",語言配置表!A3071)","v":""},{"$f":"IF(語言配置表!A3071=\"\",\"CN_待填充内容\",語言配置表!B3071)","v":"CN_待填充内容"}]
[{"$f":"IF(語言配置表!A3072=\"\",\"\",語言配置表!A3072)","v":""},{"$f":"IF(語言配置表!A3072=\"\",\"CN_待填充内容\",語言配置表!B3072)","v":"CN_待填充内容"}]
[{"$f":"IF(語言配置表!A3073=\"\",\"\",語言配置表!A3073)","v":""},{"$f":"IF(語言配置表!A3073=\"\",\"CN_待填充内容\",語言配置表!B3073)","v":"CN_待填充内容"}]
[{"$f":"IF(語言配置表!A3074=\"\",\"\",語言配置表!A3074)","v":""},{"$f":"IF(語言配置表!A3074=\"\",\"CN_待填充内容\",語言配置表!B3074)","v":"CN_待填充内容"}]
[{"$f":"IF(語言配置表!A3075=\"\",\"\",語言配置表!A3075)","v":""},{"$f":"IF(語言配置表!A3075=\"\",\"CN_待填充内容\",語言配置表!B3075)","v":"CN_待填充内容"}]
[{"$f":"IF(語言配置表!A3076=\"\",\"\",語言配置表!A3076)","v":""},{"$f":"IF(語言配置表!A3076=\"\",\"CN_待填充内容\",語言配置表!B3076)","v":"CN_待填充内容"}]
[{"$f":"IF(語言配置表!A3077=\"\",\"\",語言配置表!A3077)","v":""},{"$f":"IF(語言配置表!A3077=\"\",\"CN_待填充内容\",語言配置表!B3077)","v":"CN_待填充内容"}]
[{"$f":"IF(語言配置表!A3078=\"\",\"\",語言配置表!A3078)","v":""},{"$f":"IF(語言配置表!A3078=\"\",\"CN_待填充内容\",語言配置表!B3078)","v":"CN_待填充内容"}]
[{"$f":"IF(語言配置表!A3079=\"\",\"\",語言配置表!A3079)","v":""},{"$f":"IF(語言配置表!A3079=\"\",\"CN_待填充内容\",語言配置表!B3079)","v":"CN_待填充内容"}]
[{"$f":"IF(語言配置表!A3080=\"\",\"\",語言配置表!A3080)","v":""},{"$f":"IF(語言配置表!A3080=\"\",\"CN_待填充内容\",語言配置表!B3080)","v":"CN_待填充内容"}]
[{"$f":"IF(語言配置表!A3081=\"\",\"\",語言配置表!A3081)","v":""},{"$f":"IF(語言配置表!A3081=\"\",\"CN_待填充内容\",語言配置表!B3081)","v":"CN_待填充内容"}]
[{"$f":"IF(語言配置表!A3082=\"\",\"\",語言配置表!A3082)","v":""},{"$f":"IF(語言配置表!A3082=\"\",\"CN_待填充内容\",語言配置表!B3082)","v":"CN_待填充内容"}]
[{"$f":"IF(語言配置表!A3083=\"\",\"\",語言配置表!A3083)","v":""},{"$f":"IF(語言配置表!A3083=\"\",\"CN_待填充内容\",語言配置表!B3083)","v":"CN_待填充内容"}]
[{"$f":"IF(語言配置表!A3084=\"\",\"\",語言配置表!A3084)","v":""},{"$f":"IF(語言配置表!A3084=\"\",\"CN_待填充内容\",語言配置表!B3084)","v":"CN_待填充内容"}]
[{"$f":"IF(語言配置表!A3085=\"\",\"\",語言配置表!A3085)","v":""},{"$f":"IF(語言配置表!A3085=\"\",\"CN_待填充内容\",語言配置表!B3085)","v":"CN_待填充内容"}]
[{"$f":"IF(語言配置表!A3086=\"\",\"\",語言配置表!A3086)","v":""},{"$f":"IF(語言配置表!A3086=\"\",\"CN_待填充内容\",語言配置表!B3086)","v":"CN_待填充内容"}]
[{"$f":"IF(語言配置表!A3087=\"\",\"\",語言配置表!A3087)","v":""},{"$f":"IF(語言配置表!A3087=\"\",\"CN_待填充内容\",語言配置表!B3087)","v":"CN_待填充内容"}]
[{"$f":"IF(語言配置表!A3088=\"\",\"\",語言配置表!A3088)","v":""},{"$f":"IF(語言配置表!A3088=\"\",\"CN_待填充内容\",語言配置表!B3088)","v":"CN_待填充内容"}]
[{"$f":"IF(語言配置表!A3089=\"\",\"\",語言配置表!A3089)","v":""},{"$f":"IF(語言配置表!A3089=\"\",\"CN_待填充内容\",語言配置表!B3089)","v":"CN_待填充内容"}]
[{"$f":"IF(語言配置表!A3090=\"\",\"\",語言配置表!A3090)","v":""},{"$f":"IF(語言配置表!A3090=\"\",\"CN_待填充内容\",語言配置表!B3090)","v":"CN_待填充内容"}]
[{"$f":"IF(語言配置表!A3091=\"\",\"\",語言配置表!A3091)","v":""},{"$f":"IF(語言配置表!A3091=\"\",\"CN_待填充内容\",語言配置表!B3091)","v":"CN_待填充内容"}]
[{"$f":"IF(語言配置表!A3092=\"\",\"\",語言配置表!A3092)","v":""},{"$f":"IF(語言配置表!A3092=\"\",\"CN_待填充内容\",語言配置表!B3092)","v":"CN_待填充内容"}]
[{"$f":"IF(語言配置表!A3093=\"\",\"\",語言配置表!A3093)","v":""},{"$f":"IF(語言配置表!A3093=\"\",\"CN_待填充内容\",語言配置表!B3093)","v":"CN_待填充内容"}]
[{"$f":"IF(語言配置表!A3094=\"\",\"\",語言配置表!A3094)","v":""},{"$f":"IF(語言配置表!A3094=\"\",\"CN_待填充内容\",語言配置表!B3094)","v":"CN_待填充内容"}]
[{"$f":"IF(語言配置表!A3095=\"\",\"\",語言配置表!A3095)","v":""},{"$f":"IF(語言配置表!A3095=\"\",\"CN_待填充内容\",語言配置表!B3095)","v":"CN_待填充内容"}]
[{"$f":"IF(語言配置表!A3096=\"\",\"\",語言配置表!A3096)","v":""},{"$f":"IF(語言配置表!A3096=\"\",\"CN_待填充内容\",語言配置表!B3096)","v":"CN_待填充内容"}]
[{"$f":"IF(語言配置表!A3097=\"\",\"\",語言配置表!A3097)","v":""},{"$f":"IF(語言配置表!A3097=\"\",\"CN_待填充内容\",語言配置表!B3097)","v":"CN_待填充内容"}]
[{"$f":"IF(語言配置表!A3098=\"\",\"\",語言配置表!A3098)","v":""},{"$f":"IF(語言配置表!A3098=\"\",\"CN_待填充内容\",語言配置表!B3098)","v":"CN_待填充内容"}]
[{"$f":"IF(語言配置表!A3099=\"\",\"\",語言配置表!A3099)","v":""},{"$f":"IF(語言配置表!A3099=\"\",\"CN_待填充内容\",語言配置表!B3099)","v":"CN_待填充内容"}]
[{"$f":"IF(語言配置表!A3100=\"\",\"\",語言配置表!A3100)","v":""},{"$f":"IF(語言配置表!A3100=\"\",\"CN_待填充内容\",語言配置表!B3100)","v":"CN_待填充内容"}]
[{"$f":"IF(語言配置表!A3101=\"\",\"\",語言配置表!A3101)","v":""},{"$f":"IF(語言配置表!A3101=\"\",\"CN_待填充内容\",語言配置表!B3101)","v":"CN_待填充内容"}]
[{"$f":"IF(語言配置表!A3102=\"\",\"\",語言配置表!A3102)","v":""},{"$f":"IF(語言配置表!A3102=\"\",\"CN_待填充内容\",語言配置表!B3102)","v":"CN_待填充内容"}]
[{"$f":"IF(語言配置表!A3103=\"\",\"\",語言配置表!A3103)","v":""},{"$f":"IF(語言配置表!A3103=\"\",\"CN_待填充内容\",語言配置表!B3103)","v":"CN_待填充内容"}]
[{"$f":"IF(語言配置表!A3104=\"\",\"\",語言配置表!A3104)","v":""},{"$f":"IF(語言配置表!A3104=\"\",\"CN_待填充内容\",語言配置表!B3104)","v":"CN_待填充内容"}]
[{"$f":"IF(語言配置表!A3105=\"\",\"\",語言配置表!A3105)","v":""},{"$f":"IF(語言配置表!A3105=\"\",\"CN_待填充内容\",語言配置表!B3105)","v":"CN_待填充内容"}]
[{"$f":"IF(語言配置表!A3106=\"\",\"\",語言配置表!A3106)","v":""},{"$f":"IF(語言配置表!A3106=\"\",\"CN_待填充内容\",語言配置表!B3106)","v":"CN_待填充内容"}]
[{"$f":"IF(語言配置表!A3107=\"\",\"\",語言配置表!A3107)","v":""},{"$f":"IF(語言配置表!A3107=\"\",\"CN_待填充内容\",語言配置表!B3107)","v":"CN_待填充内容"}]
[{"$f":"IF(語言配置表!A3108=\"\",\"\",語言配置表!A3108)","v":""},{"$f":"IF(語言配置表!A3108=\"\",\"CN_待填充内容\",語言配置表!B3108)","v":"CN_待填充内容"}]
[{"$f":"IF(語言配置表!A3109=\"\",\"\",語言配置表!A3109)","v":""},{"$f":"IF(語言配置表!A3109=\"\",\"CN_待填充内容\",語言配置表!B3109)","v":"CN_待填充内容"}]
[{"$f":"IF(語言配置表!A3110=\"\",\"\",語言配置表!A3110)","v":""},{"$f":"IF(語言配置表!A3110=\"\",\"CN_待填充内容\",語言配置表!B3110)","v":"CN_待填充内容"}]
[{"$f":"IF(語言配置表!A3111=\"\",\"\",語言配置表!A3111)","v":""},{"$f":"IF(語言配置表!A3111=\"\",\"CN_待填充内容\",語言配置表!B3111)","v":"CN_待填充内容"}]
[{"$f":"IF(語言配置表!A3112=\"\",\"\",語言配置表!A3112)","v":""},{"$f":"IF(語言配置表!A3112=\"\",\"CN_待填充内容\",語言配置表!B3112)","v":"CN_待填充内容"}]
[{"$f":"IF(語言配置表!A3113=\"\",\"\",語言配置表!A3113)","v":""},{"$f":"IF(語言配置表!A3113=\"\",\"CN_待填充内容\",語言配置表!B3113)","v":"CN_待填充内容"}]
[{"$f":"IF(語言配置表!A3114=\"\",\"\",語言配置表!A3114)","v":""},{"$f":"IF(語言配置表!A3114=\"\",\"CN_待填充内容\",語言配置表!B3114)","v":"CN_待填充内容"}]
[{"$f":"IF(語言配置表!A3115=\"\",\"\",語言配置表!A3115)","v":""},{"$f":"IF(語言配置表!A3115=\"\",\"CN_待填充内容\",語言配置表!B3115)","v":"CN_待填充内容"}]
[{"$f":"IF(語言配置表!A3116=\"\",\"\",語言配置表!A3116)","v":""},{"$f":"IF(語言配置表!A3116=\"\",\"CN_待填充内容\",語言配置表!B3116)","v":"CN_待填充内容"}]
[{"$f":"IF(語言配置表!A3117=\"\",\"\",語言配置表!A3117)","v":""},{"$f":"IF(語言配置表!A3117=\"\",\"CN_待填充内容\",語言配置表!B3117)","v":"CN_待填充内容"}]
[{"$f":"IF(語言配置表!A3118=\"\",\"\",語言配置表!A3118)","v":""},{"$f":"IF(語言配置表!A3118=\"\",\"CN_待填充内容\",語言配置表!B3118)","v":"CN_待填充内容"}]
[{"$f":"IF(語言配置表!A3119=\"\",\"\",語言配置表!A3119)","v":""},{"$f":"IF(語言配置表!A3119=\"\",\"CN_待填充内容\",語言配置表!B3119)","v":"CN_待填充内容"}]
[{"$f":"IF(語言配置表!A3120=\"\",\"\",語言配置表!A3120)","v":""},{"$f":"IF(語言配置表!A3120=\"\",\"CN_待填充内容\",語言配置表!B3120)","v":"CN_待填充内容"}]
[{"$f":"IF(語言配置表!A3121=\"\",\"\",語言配置表!A3121)","v":""},{"$f":"IF(語言配置表!A3121=\"\",\"CN_待填充内容\",語言配置表!B3121)","v":"CN_待填充内容"}]
[{"$f":"IF(語言配置表!A3122=\"\",\"\",語言配置表!A3122)","v":""},{"$f":"IF(語言配置表!A3122=\"\",\"CN_待填充内容\",語言配置表!B3122)","v":"CN_待填充内容"}]
[{"$f":"IF(語言配置表!A3123=\"\",\"\",語言配置表!A3123)","v":""},{"$f":"IF(語言配置表!A3123=\"\",\"CN_待填充内容\",語言配置表!B3123)","v":"CN_待填充内容"}]
[{"$f":"IF(語言配置表!A3124=\"\",\"\",語言配置表!A3124)","v":""},{"$f":"IF(語言配置表!A3124=\"\",\"CN_待填充内容\",語言配置表!B3124)","v":"CN_待填充内容"}]
[{"$f":"IF(語言配置表!A3125=\"\",\"\",語言配置表!A3125)","v":""},{"$f":"IF(語言配置表!A3125=\"\",\"CN_待填充内容\",語言配置表!B3125)","v":"CN_待填充内容"}]
[{"$f":"IF(語言配置表!A3126=\"\",\"\",語言配置表!A3126)","v":""},{"$f":"IF(語言配置表!A3126=\"\",\"CN_待填充内容\",語言配置表!B3126)","v":"CN_待填充内容"}]
[{"$f":"IF(語言配置表!A3127=\"\",\"\",語言配置表!A3127)","v":""},{"$f":"IF(語言配置表!A3127=\"\",\"CN_待填充内容\",語言配置表!B3127)","v":"CN_待填充内容"}]
[{"$f":"IF(語言配置表!A3128=\"\",\"\",語言配置表!A3128)","v":""},{"$f":"IF(語言配置表!A3128=\"\",\"CN_待填充内容\",語言配置表!B3128)","v":"CN_待填充内容"}]
[{"$f":"IF(語言配置表!A3129=\"\",\"\",語言配置表!A3129)","v":""},{"$f":"IF(語言配置表!A3129=\"\",\"CN_待填充内容\",語言配置表!B3129)","v":"CN_待填充内容"}]
[{"$f":"IF(語言配置表!A3130=\"\",\"\",語言配置表!A3130)","v":""},{"$f":"IF(語言配置表!A3130=\"\",\"CN_待填充内容\",語言配置表!B3130)","v":"CN_待填充内容"}]
[{"$f":"IF(語言配置表!A3131=\"\",\"\",語言配置表!A3131)","v":""},{"$f":"IF(語言配置表!A3131=\"\",\"CN_待填充内容\",語言配置表!B3131)","v":"CN_待填充内容"}]
[{"$f":"IF(語言配置表!A3132=\"\",\"\",語言配置表!A3132)","v":""},{"$f":"IF(語言配置表!A3132=\"\",\"CN_待填充内容\",語言配置表!B3132)","v":"CN_待填充内容"}]
[{"$f":"IF(語言配置表!A3133=\"\",\"\",語言配置表!A3133)","v":""},{"$f":"IF(語言配置表!A3133=\"\",\"CN_待填充内容\",語言配置表!B3133)","v":"CN_待填充内容"}]
[{"$f":"IF(語言配置表!A3134=\"\",\"\",語言配置表!A3134)","v":""},{"$f":"IF(語言配置表!A3134=\"\",\"CN_待填充内容\",語言配置表!B3134)","v":"CN_待填充内容"}]
[{"$f":"IF(語言配置表!A3135=\"\",\"\",語言配置表!A3135)","v":""},{"$f":"IF(語言配置表!A3135=\"\",\"CN_待填充内容\",語言配置表!B3135)","v":"CN_待填充内容"}]
[{"$f":"IF(語言配置表!A3136=\"\",\"\",語言配置表!A3136)","v":""},{"$f":"IF(語言配置表!A3136=\"\",\"CN_待填充内容\",語言配置表!B3136)","v":"CN_待填充内容"}]
[{"$f":"IF(語言配置表!A3137=\"\",\"\",語言配置表!A3137)","v":""},{"$f":"IF(語言配置表!A3137=\"\",\"CN_待填充内容\",語言配置表!B3137)","v":"CN_待填充内容"}]
[{"$f":"IF(語言配置表!A3138=\"\",\"\",語言配置表!A3138)","v":""},{"$f":"IF(語言配置表!A3138=\"\",\"CN_待填充内容\",語言配置表!B3138)","v":"CN_待填充内容"}]
[{"$f":"IF(語言配置表!A3139=\"\",\"\",語言配置表!A3139)","v":""},{"$f":"IF(語言配置表!A3139=\"\",\"CN_待填充内容\",語言配置表!B3139)","v":"CN_待填充内容"}]
[{"$f":"IF(語言配置表!A3140=\"\",\"\",語言配置表!A3140)","v":""},{"$f":"IF(語言配置表!A3140=\"\",\"CN_待填充内容\",語言配置表!B3140)","v":"CN_待填充内容"}]
[{"$f":"IF(語言配置表!A3141=\"\",\"\",語言配置表!A3141)","v":""},{"$f":"IF(語言配置表!A3141=\"\",\"CN_待填充内容\",語言配置表!B3141)","v":"CN_待填充内容"}]
[{"$f":"IF(語言配置表!A3142=\"\",\"\",語言配置表!A3142)","v":""},{"$f":"IF(語言配置表!A3142=\"\",\"CN_待填充内容\",語言配置表!B3142)","v":"CN_待填充内容"}]
[{"$f":"IF(語言配置表!A3143=\"\",\"\",語言配置表!A3143)","v":""},{"$f":"IF(語言配置表!A3143=\"\",\"CN_待填充内容\",語言配置表!B3143)","v":"CN_待填充内容"}]
[{"$f":"IF(語言配置表!A3144=\"\",\"\",語言配置表!A3144)","v":""},{"$f":"IF(語言配置表!A3144=\"\",\"CN_待填充内容\",語言配置表!B3144)","v":"CN_待填充内容"}]
[{"$f":"IF(語言配置表!A3145=\"\",\"\",語言配置表!A3145)","v":""},{"$f":"IF(語言配置表!A3145=\"\",\"CN_待填充内容\",語言配置表!B3145)","v":"CN_待填充内容"}]
[{"$f":"IF(語言配置表!A3146=\"\",\"\",語言配置表!A3146)","v":""},{"$f":"IF(語言配置表!A3146=\"\",\"CN_待填充内容\",語言配置表!B3146)","v":"CN_待填充内容"}]
[{"$f":"IF(語言配置表!A3147=\"\",\"\",語言配置表!A3147)","v":""},{"$f":"IF(語言配置表!A3147=\"\",\"CN_待填充内容\",語言配置表!B3147)","v":"CN_待填充内容"}]
[{"$f":"IF(語言配置表!A3148=\"\",\"\",語言配置表!A3148)","v":""},{"$f":"IF(語言配置表!A3148=\"\",\"CN_待填充内容\",語言配置表!B3148)","v":"CN_待填充内容"}]
[{"$f":"IF(語言配置表!A3149=\"\",\"\",語言配置表!A3149)","v":""},{"$f":"IF(語言配置表!A3149=\"\",\"CN_待填充内容\",語言配置表!B3149)","v":"CN_待填充内容"}]
[{"$f":"IF(語言配置表!A3150=\"\",\"\",語言配置表!A3150)","v":""},{"$f":"IF(語言配置表!A3150=\"\",\"CN_待填充内容\",語言配置表!B3150)","v":"CN_待填充内容"}]
[{"$f":"IF(語言配置表!A3151=\"\",\"\",語言配置表!A3151)","v":""},{"$f":"IF(語言配置表!A3151=\"\",\"CN_待填充内容\",語言配置表!B3151)","v":"CN_待填充内容"}]
[{"$f":"IF(語言配置表!A3152=\"\",\"\",語言配置表!A3152)","v":""},{"$f":"IF(語言配置表!A3152=\"\",\"CN_待填充内容\",語言配置表!B3152)","v":"CN_待填充内容"}]
[{"$f":"IF(語言配置表!A3153=\"\",\"\",語言配置表!A3153)","v":""},{"$f":"IF(語言配置表!A3153=\"\",\"CN_待填充内容\",語言配置表!B3153)","v":"CN_待填充内容"}]
[{"$f":"IF(語言配置表!A3154=\"\",\"\",語言配置表!A3154)","v":""},{"$f":"IF(語言配置表!A3154=\"\",\"CN_待填充内容\",語言配置表!B3154)","v":"CN_待填充内容"}]
[{"$f":"IF(語言配置表!A3155=\"\",\"\",語言配置表!A3155)","v":""},{"$f":"IF(語言配置表!A3155=\"\",\"CN_待填充内容\",語言配置表!B3155)","v":"CN_待填充内容"}]
[{"$f":"IF(語言配置表!A3156=\"\",\"\",語言配置表!A3156)","v":""},{"$f":"IF(語言配置表!A3156=\"\",\"CN_待填充内容\",語言配置表!B3156)","v":"CN_待填充内容"}]
[{"$f":"IF(語言配置表!A3157=\"\",\"\",語言配置表!A3157)","v":""},{"$f":"IF(語言配置表!A3157=\"\",\"CN_待填充内容\",語言配置表!B3157)","v":"CN_待填充内容"}]
[{"$f":"IF(語言配置表!A3158=\"\",\"\",語言配置表!A3158)","v":""},{"$f":"IF(語言配置表!A3158=\"\",\"CN_待填充内容\",語言配置表!B3158)","v":"CN_待填充内容"}]
[{"$f":"IF(語言配置表!A3159=\"\",\"\",語言配置表!A3159)","v":""},{"$f":"IF(語言配置表!A3159=\"\",\"CN_待填充内容\",語言配置表!B3159)","v":"CN_待填充内容"}]
[{"$f":"IF(語言配置表!A3160=\"\",\"\",語言配置表!A3160)","v":""},{"$f":"IF(語言配置表!A3160=\"\",\"CN_待填充内容\",語言配置表!B3160)","v":"CN_待填充内容"}]
[{"$f":"IF(語言配置表!A3161=\"\",\"\",語言配置表!A3161)","v":""},{"$f":"IF(語言配置表!A3161=\"\",\"CN_待填充内容\",語言配置表!B3161)","v":"CN_待填充内容"}]
[{"$f":"IF(語言配置表!A3162=\"\",\"\",語言配置表!A3162)","v":""},{"$f":"IF(語言配置表!A3162=\"\",\"CN_待填充内容\",語言配置表!B3162)","v":"CN_待填充内容"}]
[{"$f":"IF(語言配置表!A3163=\"\",\"\",語言配置表!A3163)","v":""},{"$f":"IF(語言配置表!A3163=\"\",\"CN_待填充内容\",語言配置表!B3163)","v":"CN_待填充内容"}]
[{"$f":"IF(語言配置表!A3164=\"\",\"\",語言配置表!A3164)","v":""},{"$f":"IF(語言配置表!A3164=\"\",\"CN_待填充内容\",語言配置表!B3164)","v":"CN_待填充内容"}]
[{"$f":"IF(語言配置表!A3165=\"\",\"\",語言配置表!A3165)","v":""},{"$f":"IF(語言配置表!A3165=\"\",\"CN_待填充内容\",語言配置表!B3165)","v":"CN_待填充内容"}]
[{"$f":"IF(語言配置表!A3166=\"\",\"\",語言配置表!A3166)","v":""},{"$f":"IF(語言配置表!A3166=\"\",\"CN_待填充内容\",語言配置表!B3166)","v":"CN_待填充内容"}]
[{"$f":"IF(語言配置表!A3167=\"\",\"\",語言配置表!A3167)","v":""},{"$f":"IF(語言配置表!A3167=\"\",\"CN_待填充内容\",語言配置表!B3167)","v":"CN_待填充内容"}]
[{"$f":"IF(語言配置表!A3168=\"\",\"\",語言配置表!A3168)","v":""},{"$f":"IF(語言配置表!A3168=\"\",\"CN_待填充内容\",語言配置表!B3168)","v":"CN_待填充内容"}]
[{"$f":"IF(語言配置表!A3169=\"\",\"\",語言配置表!A3169)","v":""},{"$f":"IF(語言配置表!A3169=\"\",\"CN_待填充内容\",語言配置表!B3169)","v":"CN_待填充内容"}]
[{"$f":"IF(語言配置表!A3170=\"\",\"\",語言配置表!A3170)","v":""},{"$f":"IF(語言配置表!A3170=\"\",\"CN_待填充内容\",語言配置表!B3170)","v":"CN_待填充内容"}]
[{"$f":"IF(語言配置表!A3171=\"\",\"\",語言配置表!A3171)","v":""},{"$f":"IF(語言配置表!A3171=\"\",\"CN_待填充内容\",語言配置表!B3171)","v":"CN_待填充内容"}]
[{"$f":"IF(語言配置表!A3172=\"\",\"\",語言配置表!A3172)","v":""},{"$f":"IF(語言配置表!A3172=\"\",\"CN_待填充内容\",語言配置表!B3172)","v":"CN_待填充内容"}]
[{"$f":"IF(語言配置表!A3173=\"\",\"\",語言配置表!A3173)","v":""},{"$f":"IF(語言配置表!A3173=\"\",\"CN_待填充内容\",語言配置表!B3173)","v":"CN_待填充内容"}]
[{"$f":"IF(語言配置表!A3174=\"\",\"\",語言配置表!A3174)","v":""},{"$f":"IF(語言配置表!A3174=\"\",\"CN_待填充内容\",語言配置表!B3174)","v":"CN_待填充内容"}]
[{"$f":"IF(語言配置表!A3175=\"\",\"\",語言配置表!A3175)","v":""},{"$f":"IF(語言配置表!A3175=\"\",\"CN_待填充内容\",語言配置表!B3175)","v":"CN_待填充内容"}]
[{"$f":"IF(語言配置表!A3176=\"\",\"\",語言配置表!A3176)","v":""},{"$f":"IF(語言配置表!A3176=\"\",\"CN_待填充内容\",語言配置表!B3176)","v":"CN_待填充内容"}]
[{"$f":"IF(語言配置表!A3177=\"\",\"\",語言配置表!A3177)","v":""},{"$f":"IF(語言配置表!A3177=\"\",\"CN_待填充内容\",語言配置表!B3177)","v":"CN_待填充内容"}]
[{"$f":"IF(語言配置表!A3178=\"\",\"\",語言配置表!A3178)","v":""},{"$f":"IF(語言配置表!A3178=\"\",\"CN_待填充内容\",語言配置表!B3178)","v":"CN_待填充内容"}]
[{"$f":"IF(語言配置表!A3179=\"\",\"\",語言配置表!A3179)","v":""},{"$f":"IF(語言配置表!A3179=\"\",\"CN_待填充内容\",語言配置表!B3179)","v":"CN_待填充内容"}]
[{"$f":"IF(語言配置表!A3180=\"\",\"\",語言配置表!A3180)","v":""},{"$f":"IF(語言配置表!A3180=\"\",\"CN_待填充内容\",語言配置表!B3180)","v":"CN_待填充内容"}]
[{"$f":"IF(語言配置表!A3181=\"\",\"\",語言配置表!A3181)","v":""},{"$f":"IF(語言配置表!A3181=\"\",\"CN_待填充内容\",語言配置表!B3181)","v":"CN_待填充内容"}]
[{"$f":"IF(語言配置表!A3182=\"\",\"\",語言配置表!A3182)","v":""},{"$f":"IF(語言配置表!A3182=\"\",\"CN_待填充内容\",語言配置表!B3182)","v":"CN_待填充内容"}]
[{"$f":"IF(語言配置表!A3183=\"\",\"\",語言配置表!A3183)","v":""},{"$f":"IF(語言配置表!A3183=\"\",\"CN_待填充内容\",語言配置表!B3183)","v":"CN_待填充内容"}]
[{"$f":"IF(語言配置表!A3184=\"\",\"\",語言配置表!A3184)","v":""},{"$f":"IF(語言配置表!A3184=\"\",\"CN_待填充内容\",語言配置表!B3184)","v":"CN_待填充内容"}]
[{"$f":"IF(語言配置表!A3185=\"\",\"\",語言配置表!A3185)","v":""},{"$f":"IF(語言配置表!A3185=\"\",\"CN_待填充内容\",語言配置表!B3185)","v":"CN_待填充内容"}]
[{"$f":"IF(語言配置表!A3186=\"\",\"\",語言配置表!A3186)","v":""},{"$f":"IF(語言配置表!A3186=\"\",\"CN_待填充内容\",語言配置表!B3186)","v":"CN_待填充内容"}]
[{"$f":"IF(語言配置表!A3187=\"\",\"\",語言配置表!A3187)","v":""},{"$f":"IF(語言配置表!A3187=\"\",\"CN_待填充内容\",語言配置表!B3187)","v":"CN_待填充内容"}]
[{"$f":"IF(語言配置表!A3188=\"\",\"\",語言配置表!A3188)","v":""},{"$f":"IF(語言配置表!A3188=\"\",\"CN_待填充内容\",語言配置表!B3188)","v":"CN_待填充内容"}]
[{"$f":"IF(語言配置表!A3189=\"\",\"\",語言配置表!A3189)","v":""},{"$f":"IF(語言配置表!A3189=\"\",\"CN_待填充内容\",語言配置表!B3189)","v":"CN_待填充内容"}]
[{"$f":"IF(語言配置表!A3190=\"\",\"\",語言配置表!A3190)","v":""},{"$f":"IF(語言配置表!A3190=\"\",\"CN_待填充内容\",語言配置表!B3190)","v":"CN_待填充内容"}]
[{"$f":"IF(語言配置表!A3191=\"\",\"\",語言配置表!A3191)","v":""},{"$f":"IF(語言配置表!A3191=\"\",\"CN_待填充内容\",語言配置表!B3191)","v":"CN_待填充内容"}]
[{"$f":"IF(語言配置表!A3192=\"\",\"\",語言配置表!A3192)","v":""},{"$f":"IF(語言配置表!A3192=\"\",\"CN_待填充内容\",語言配置表!B3192)","v":"CN_待填充内容"}]
[{"$f":"IF(語言配置表!A3193=\"\",\"\",語言配置表!A3193)","v":""},{"$f":"IF(語言配置表!A3193=\"\",\"CN_待填充内容\",語言配置表!B3193)","v":"CN_待填充内容"}]
[{"$f":"IF(語言配置表!A3194=\"\",\"\",語言配置表!A3194)","v":""},{"$f":"IF(語言配置表!A3194=\"\",\"CN_待填充内容\",語言配置表!B3194)","v":"CN_待填充内容"}]
[{"$f":"IF(語言配置表!A3195=\"\",\"\",語言配置表!A3195)","v":""},{"$f":"IF(語言配置表!A3195=\"\",\"CN_待填充内容\",語言配置表!B3195)","v":"CN_待填充内容"}]
[{"$f":"IF(語言配置表!A3196=\"\",\"\",語言配置表!A3196)","v":""},{"$f":"IF(語言配置表!A3196=\"\",\"CN_待填充内容\",語言配置表!B3196)","v":"CN_待填充内容"}]
[{"$f":"IF(語言配置表!A3197=\"\",\"\",語言配置表!A3197)","v":""},{"$f":"IF(語言配置表!A3197=\"\",\"CN_待填充内容\",語言配置表!B3197)","v":"CN_待填充内容"}]
[{"$f":"IF(語言配置表!A3198=\"\",\"\",語言配置表!A3198)","v":""},{"$f":"IF(語言配置表!A3198=\"\",\"CN_待填充内容\",語言配置表!B3198)","v":"CN_待填充内容"}]
[{"$f":"IF(語言配置表!A3199=\"\",\"\",語言配置表!A3199)","v":""},{"$f":"IF(語言配置表!A3199=\"\",\"CN_待填充内容\",語言配置表!B3199)","v":"CN_待填充内容"}]
[{"$f":"IF(語言配置表!A3200=\"\",\"\",語言配置表!A3200)","v":""},{"$f":"IF(語言配置表!A3200=\"\",\"CN_待填充内容\",語言配置表!B3200)","v":"CN_待填充内容"}]
[{"$f":"IF(語言配置表!A3201=\"\",\"\",語言配置表!A3201)","v":""},{"$f":"IF(語言配置表!A3201=\"\",\"CN_待填充内容\",語言配置表!B3201)","v":"CN_待填充内容"}]
[{"$f":"IF(語言配置表!A3202=\"\",\"\",語言配置表!A3202)","v":""},{"$f":"IF(語言配置表!A3202=\"\",\"CN_待填充内容\",語言配置表!B3202)","v":"CN_待填充内容"}]
[{"$f":"IF(語言配置表!A3203=\"\",\"\",語言配置表!A3203)","v":""},{"$f":"IF(語言配置表!A3203=\"\",\"CN_待填充内容\",語言配置表!B3203)","v":"CN_待填充内容"}]
[{"$f":"IF(語言配置表!A3204=\"\",\"\",語言配置表!A3204)","v":""},{"$f":"IF(語言配置表!A3204=\"\",\"CN_待填充内容\",語言配置表!B3204)","v":"CN_待填充内容"}]
[{"$f":"IF(語言配置表!A3205=\"\",\"\",語言配置表!A3205)","v":""},{"$f":"IF(語言配置表!A3205=\"\",\"CN_待填充内容\",語言配置表!B3205)","v":"CN_待填充内容"}]
[{"$f":"IF(語言配置表!A3206=\"\",\"\",語言配置表!A3206)","v":""},{"$f":"IF(語言配置表!A3206=\"\",\"CN_待填充内容\",語言配置表!B3206)","v":"CN_待填充内容"}]
[{"$f":"IF(語言配置表!A3207=\"\",\"\",語言配置表!A3207)","v":""},{"$f":"IF(語言配置表!A3207=\"\",\"CN_待填充内容\",語言配置表!B3207)","v":"CN_待填充内容"}]
[{"$f":"IF(語言配置表!A3208=\"\",\"\",語言配置表!A3208)","v":""},{"$f":"IF(語言配置表!A3208=\"\",\"CN_待填充内容\",語言配置表!B3208)","v":"CN_待填充内容"}]
[{"$f":"IF(語言配置表!A3209=\"\",\"\",語言配置表!A3209)","v":""},{"$f":"IF(語言配置表!A3209=\"\",\"CN_待填充内容\",語言配置表!B3209)","v":"CN_待填充内容"}]
[{"$f":"IF(語言配置表!A3210=\"\",\"\",語言配置表!A3210)","v":""},{"$f":"IF(語言配置表!A3210=\"\",\"CN_待填充内容\",語言配置表!B3210)","v":"CN_待填充内容"}]
[{"$f":"IF(語言配置表!A3211=\"\",\"\",語言配置表!A3211)","v":""},{"$f":"IF(語言配置表!A3211=\"\",\"CN_待填充内容\",語言配置表!B3211)","v":"CN_待填充内容"}]
[{"$f":"IF(語言配置表!A3212=\"\",\"\",語言配置表!A3212)","v":""},{"$f":"IF(語言配置表!A3212=\"\",\"CN_待填充内容\",語言配置表!B3212)","v":"CN_待填充内容"}]
[{"$f":"IF(語言配置表!A3213=\"\",\"\",語言配置表!A3213)","v":""},{"$f":"IF(語言配置表!A3213=\"\",\"CN_待填充内容\",語言配置表!B3213)","v":"CN_待填充内容"}]
[{"$f":"IF(語言配置表!A3214=\"\",\"\",語言配置表!A3214)","v":""},{"$f":"IF(語言配置表!A3214=\"\",\"CN_待填充内容\",語言配置表!B3214)","v":"CN_待填充内容"}]
[{"$f":"IF(語言配置表!A3215=\"\",\"\",語言配置表!A3215)","v":""},{"$f":"IF(語言配置表!A3215=\"\",\"CN_待填充内容\",語言配置表!B3215)","v":"CN_待填充内容"}]
[{"$f":"IF(語言配置表!A3216=\"\",\"\",語言配置表!A3216)","v":""},{"$f":"IF(語言配置表!A3216=\"\",\"CN_待填充内容\",語言配置表!B3216)","v":"CN_待填充内容"}]
[{"$f":"IF(語言配置表!A3217=\"\",\"\",語言配置表!A3217)","v":""},{"$f":"IF(語言配置表!A3217=\"\",\"CN_待填充内容\",語言配置表!B3217)","v":"CN_待填充内容"}]
[{"$f":"IF(語言配置表!A3218=\"\",\"\",語言配置表!A3218)","v":""},{"$f":"IF(語言配置表!A3218=\"\",\"CN_待填充内容\",語言配置表!B3218)","v":"CN_待填充内容"}]
[{"$f":"IF(語言配置表!A3219=\"\",\"\",語言配置表!A3219)","v":""},{"$f":"IF(語言配置表!A3219=\"\",\"CN_待填充内容\",語言配置表!B3219)","v":"CN_待填充内容"}]
[{"$f":"IF(語言配置表!A3220=\"\",\"\",語言配置表!A3220)","v":""},{"$f":"IF(語言配置表!A3220=\"\",\"CN_待填充内容\",語言配置表!B3220)","v":"CN_待填充内容"}]
[{"$f":"IF(語言配置表!A3221=\"\",\"\",語言配置表!A3221)","v":""},{"$f":"IF(語言配置表!A3221=\"\",\"CN_待填充内容\",語言配置表!B3221)","v":"CN_待填充内容"}]
[{"$f":"IF(語言配置表!A3222=\"\",\"\",語言配置表!A3222)","v":""},{"$f":"IF(語言配置表!A3222=\"\",\"CN_待填充内容\",語言配置表!B3222)","v":"CN_待填充内容"}]
[{"$f":"IF(語言配置表!A3223=\"\",\"\",語言配置表!A3223)","v":""},{"$f":"IF(語言配置表!A3223=\"\",\"CN_待填充内容\",語言配置表!B3223)","v":"CN_待填充内容"}]
[{"$f":"IF(語言配置表!A3224=\"\",\"\",語言配置表!A3224)","v":""},{"$f":"IF(語言配置表!A3224=\"\",\"CN_待填充内容\",語言配置表!B3224)","v":"CN_待填充内容"}]
[{"$f":"IF(語言配置表!A3225=\"\",\"\",語言配置表!A3225)","v":""},{"$f":"IF(語言配置表!A3225=\"\",\"CN_待填充内容\",語言配置表!B3225)","v":"CN_待填充内容"}]
[{"$f":"IF(語言配置表!A3226=\"\",\"\",語言配置表!A3226)","v":""},{"$f":"IF(語言配置表!A3226=\"\",\"CN_待填充内容\",語言配置表!B3226)","v":"CN_待填充内容"}]
[{"$f":"IF(語言配置表!A3227=\"\",\"\",語言配置表!A3227)","v":""},{"$f":"IF(語言配置表!A3227=\"\",\"CN_待填充内容\",語言配置表!B3227)","v":"CN_待填充内容"}]
[{"$f":"IF(語言配置表!A3228=\"\",\"\",語言配置表!A3228)","v":""},{"$f":"IF(語言配置表!A3228=\"\",\"CN_待填充内容\",語言配置表!B3228)","v":"CN_待填充内容"}]
[{"$f":"IF(語言配置表!A3229=\"\",\"\",語言配置表!A3229)","v":""},{"$f":"IF(語言配置表!A3229=\"\",\"CN_待填充内容\",語言配置表!B3229)","v":"CN_待填充内容"}]
[{"$f":"IF(語言配置表!A3230=\"\",\"\",語言配置表!A3230)","v":""},{"$f":"IF(語言配置表!A3230=\"\",\"CN_待填充内容\",語言配置表!B3230)","v":"CN_待填充内容"}]
[{"$f":"IF(語言配置表!A3231=\"\",\"\",語言配置表!A3231)","v":""},{"$f":"IF(語言配置表!A3231=\"\",\"CN_待填充内容\",語言配置表!B3231)","v":"CN_待填充内容"}]
[{"$f":"IF(語言配置表!A3232=\"\",\"\",語言配置表!A3232)","v":""},{"$f":"IF(語言配置表!A3232=\"\",\"CN_待填充内容\",語言配置表!B3232)","v":"CN_待填充内容"}]
[{"$f":"IF(語言配置表!A3233=\"\",\"\",語言配置表!A3233)","v":""},{"$f":"IF(語言配置表!A3233=\"\",\"CN_待填充内容\",語言配置表!B3233)","v":"CN_待填充内容"}]
[{"$f":"IF(語言配置表!A3234=\"\",\"\",語言配置表!A3234)","v":""},{"$f":"IF(語言配置表!A3234=\"\",\"CN_待填充内容\",語言配置表!B3234)","v":"CN_待填充内容"}]
[{"$f":"IF(語言配置表!A3235=\"\",\"\",語言配置表!A3235)","v":""},{"$f":"IF(語言配置表!A3235=\"\",\"CN_待填充内容\",語言配置表!B3235)","v":"CN_待填充内容"}]
[{"$f":"IF(語言配置表!A3236=\"\",\"\",語言配置表!A3236)","v":""},{"$f":"IF(語言配置表!A3236=\"\",\"CN_待填充内容\",語言配置表!B3236)","v":"CN_待填充内容"}]
[{"$f":"IF(語言配置表!A3237=\"\",\"\",語言配置表!A3237)","v":""},{"$f":"IF(語言配置表!A3237=\"\",\"CN_待填充内容\",語言配置表!B3237)","v":"CN_待填充内容"}]
[{"$f":"IF(語言配置表!A3238=\"\",\"\",語言配置表!A3238)","v":""},{"$f":"IF(語言配置表!A3238=\"\",\"CN_待填充内容\",語言配置表!B3238)","v":"CN_待填充内容"}]
[{"$f":"IF(語言配置表!A3239=\"\",\"\",語言配置表!A3239)","v":""},{"$f":"IF(語言配置表!A3239=\"\",\"CN_待填充内容\",語言配置表!B3239)","v":"CN_待填充内容"}]
[{"$f":"IF(語言配置表!A3240=\"\",\"\",語言配置表!A3240)","v":""},{"$f":"IF(語言配置表!A3240=\"\",\"CN_待填充内容\",語言配置表!B3240)","v":"CN_待填充内容"}]
[{"$f":"IF(語言配置表!A3241=\"\",\"\",語言配置表!A3241)","v":""},{"$f":"IF(語言配置表!A3241=\"\",\"CN_待填充内容\",語言配置表!B3241)","v":"CN_待填充内容"}]
[{"$f":"IF(語言配置表!A3242=\"\",\"\",語言配置表!A3242)","v":""},{"$f":"IF(語言配置表!A3242=\"\",\"CN_待填充内容\",語言配置表!B3242)","v":"CN_待填充内容"}]
[{"$f":"IF(語言配置表!A3243=\"\",\"\",語言配置表!A3243)","v":""},{"$f":"IF(語言配置表!A3243=\"\",\"CN_待填充内容\",語言配置表!B3243)","v":"CN_待填充内容"}]
[{"$f":"IF(語言配置表!A3244=\"\",\"\",語言配置表!A3244)","v":""},{"$f":"IF(語言配置表!A3244=\"\",\"CN_待填充内容\",語言配置表!B3244)","v":"CN_待填充内容"}]
[{"$f":"IF(語言配置表!A3245=\"\",\"\",語言配置表!A3245)","v":""},{"$f":"IF(語言配置表!A3245=\"\",\"CN_待填充内容\",語言配置表!B3245)","v":"CN_待填充内容"}]
[{"$f":"IF(語言配置表!A3246=\"\",\"\",語言配置表!A3246)","v":""},{"$f":"IF(語言配置表!A3246=\"\",\"CN_待填充内容\",語言配置表!B3246)","v":"CN_待填充内容"}]
[{"$f":"IF(語言配置表!A3247=\"\",\"\",語言配置表!A3247)","v":""},{"$f":"IF(語言配置表!A3247=\"\",\"CN_待填充内容\",語言配置表!B3247)","v":"CN_待填充内容"}]
[{"$f":"IF(語言配置表!A3248=\"\",\"\",語言配置表!A3248)","v":""},{"$f":"IF(語言配置表!A3248=\"\",\"CN_待填充内容\",語言配置表!B3248)","v":"CN_待填充内容"}]
[{"$f":"IF(語言配置表!A3249=\"\",\"\",語言配置表!A3249)","v":""},{"$f":"IF(語言配置表!A3249=\"\",\"CN_待填充内容\",語言配置表!B3249)","v":"CN_待填充内容"}]
[{"$f":"IF(語言配置表!A3250=\"\",\"\",語言配置表!A3250)","v":""},{"$f":"IF(語言配置表!A3250=\"\",\"CN_待填充内容\",語言配置表!B3250)","v":"CN_待填充内容"}]
[{"$f":"IF(語言配置表!A3251=\"\",\"\",語言配置表!A3251)","v":""},{"$f":"IF(語言配置表!A3251=\"\",\"CN_待填充内容\",語言配置表!B3251)","v":"CN_待填充内容"}]
[{"$f":"IF(語言配置表!A3252=\"\",\"\",語言配置表!A3252)","v":""},{"$f":"IF(語言配置表!A3252=\"\",\"CN_待填充内容\",語言配置表!B3252)","v":"CN_待填充内容"}]
[{"$f":"IF(語言配置表!A3253=\"\",\"\",語言配置表!A3253)","v":""},{"$f":"IF(語言配置表!A3253=\"\",\"CN_待填充内容\",語言配置表!B3253)","v":"CN_待填充内容"}]
[{"$f":"IF(語言配置表!A3254=\"\",\"\",語言配置表!A3254)","v":""},{"$f":"IF(語言配置表!A3254=\"\",\"CN_待填充内容\",語言配置表!B3254)","v":"CN_待填充内容"}]
[{"$f":"IF(語言配置表!A3255=\"\",\"\",語言配置表!A3255)","v":""},{"$f":"IF(語言配置表!A3255=\"\",\"CN_待填充内容\",語言配置表!B3255)","v":"CN_待填充内容"}]
[{"$f":"IF(語言配置表!A3256=\"\",\"\",語言配置表!A3256)","v":""},{"$f":"IF(語言配置表!A3256=\"\",\"CN_待填充内容\",語言配置表!B3256)","v":"CN_待填充内容"}]
[{"$f":"IF(語言配置表!A3257=\"\",\"\",語言配置表!A3257)","v":""},{"$f":"IF(語言配置表!A3257=\"\",\"CN_待填充内容\",語言配置表!B3257)","v":"CN_待填充内容"}]
[{"$f":"IF(語言配置表!A3258=\"\",\"\",語言配置表!A3258)","v":""},{"$f":"IF(語言配置表!A3258=\"\",\"CN_待填充内容\",語言配置表!B3258)","v":"CN_待填充内容"}]
[{"$f":"IF(語言配置表!A3259=\"\",\"\",語言配置表!A3259)","v":""},{"$f":"IF(語言配置表!A3259=\"\",\"CN_待填充内容\",語言配置表!B3259)","v":"CN_待填充内容"}]
[{"$f":"IF(語言配置表!A3260=\"\",\"\",語言配置表!A3260)","v":""},{"$f":"IF(語言配置表!A3260=\"\",\"CN_待填充内容\",語言配置表!B3260)","v":"CN_待填充内容"}]
[{"$f":"IF(語言配置表!A3261=\"\",\"\",語言配置表!A3261)","v":""},{"$f":"IF(語言配置表!A3261=\"\",\"CN_待填充内容\",語言配置表!B3261)","v":"CN_待填充内容"}]
[{"$f":"IF(語言配置表!A3262=\"\",\"\",語言配置表!A3262)","v":""},{"$f":"IF(語言配置表!A3262=\"\",\"CN_待填充内容\",語言配置表!B3262)","v":"CN_待填充内容"}]
[{"$f":"IF(語言配置表!A3263=\"\",\"\",語言配置表!A3263)","v":""},{"$f":"IF(語言配置表!A3263=\"\",\"CN_待填充内容\",語言配置表!B3263)","v":"CN_待填充内容"}]
[{"$f":"IF(語言配置表!A3264=\"\",\"\",語言配置表!A3264)","v":""},{"$f":"IF(語言配置表!A3264=\"\",\"CN_待填充内容\",語言配置表!B3264)","v":"CN_待填充内容"}]
[{"$f":"IF(語言配置表!A3265=\"\",\"\",語言配置表!A3265)","v":""},{"$f":"IF(語言配置表!A3265=\"\",\"CN_待填充内容\",語言配置表!B3265)","v":"CN_待填充内容"}]
[{"$f":"IF(語言配置表!A3266=\"\",\"\",語言配置表!A3266)","v":""},{"$f":"IF(語言配置表!A3266=\"\",\"CN_待填充内容\",語言配置表!B3266)","v":"CN_待填充内容"}]
[{"$f":"IF(語言配置表!A3267=\"\",\"\",語言配置表!A3267)","v":""},{"$f":"IF(語言配置表!A3267=\"\",\"CN_待填充内容\",語言配置表!B3267)","v":"CN_待填充内容"}]
[{"$f":"IF(語言配置表!A3268=\"\",\"\",語言配置表!A3268)","v":""},{"$f":"IF(語言配置表!A3268=\"\",\"CN_待填充内容\",語言配置表!B3268)","v":"CN_待填充内容"}]
[{"$f":"IF(語言配置表!A3269=\"\",\"\",語言配置表!A3269)","v":""},{"$f":"IF(語言配置表!A3269=\"\",\"CN_待填充内容\",語言配置表!B3269)","v":"CN_待填充内容"}]
[{"$f":"IF(語言配置表!A3270=\"\",\"\",語言配置表!A3270)","v":""},{"$f":"IF(語言配置表!A3270=\"\",\"CN_待填充内容\",語言配置表!B3270)","v":"CN_待填充内容"}]
[{"$f":"IF(語言配置表!A3271=\"\",\"\",語言配置表!A3271)","v":""},{"$f":"IF(語言配置表!A3271=\"\",\"CN_待填充内容\",語言配置表!B3271)","v":"CN_待填充内容"}]
[{"$f":"IF(語言配置表!A3272=\"\",\"\",語言配置表!A3272)","v":""},{"$f":"IF(語言配置表!A3272=\"\",\"CN_待填充内容\",語言配置表!B3272)","v":"CN_待填充内容"}]
[{"$f":"IF(語言配置表!A3273=\"\",\"\",語言配置表!A3273)","v":""},{"$f":"IF(語言配置表!A3273=\"\",\"CN_待填充内容\",語言配置表!B3273)","v":"CN_待填充内容"}]
[{"$f":"IF(語言配置表!A3274=\"\",\"\",語言配置表!A3274)","v":""},{"$f":"IF(語言配置表!A3274=\"\",\"CN_待填充内容\",語言配置表!B3274)","v":"CN_待填充内容"}]
[{"$f":"IF(語言配置表!A3275=\"\",\"\",語言配置表!A3275)","v":""},{"$f":"IF(語言配置表!A3275=\"\",\"CN_待填充内容\",語言配置表!B3275)","v":"CN_待填充内容"}]
[{"$f":"IF(語言配置表!A3276=\"\",\"\",語言配置表!A3276)","v":""},{"$f":"IF(語言配置表!A3276=\"\",\"CN_待填充内容\",語言配置表!B3276)","v":"CN_待填充内容"}]
[{"$f":"IF(語言配置表!A3277=\"\",\"\",語言配置表!A3277)","v":""},{"$f":"IF(語言配置表!A3277=\"\",\"CN_待填充内容\",語言配置表!B3277)","v":"CN_待填充内容"}]
[{"$f":"IF(語言配置表!A3278=\"\",\"\",語言配置表!A3278)","v":""},{"$f":"IF(語言配置表!A3278=\"\",\"CN_待填充内容\",語言配置表!B3278)","v":"CN_待填充内容"}]
[{"$f":"IF(語言配置表!A3279=\"\",\"\",語言配置表!A3279)","v":""},{"$f":"IF(語言配置表!A3279=\"\",\"CN_待填充内容\",語言配置表!B3279)","v":"CN_待填充内容"}]
[{"$f":"IF(語言配置表!A3280=\"\",\"\",語言配置表!A3280)","v":""},{"$f":"IF(語言配置表!A3280=\"\",\"CN_待填充内容\",語言配置表!B3280)","v":"CN_待填充内容"}]
[{"$f":"IF(語言配置表!A3281=\"\",\"\",語言配置表!A3281)","v":""},{"$f":"IF(語言配置表!A3281=\"\",\"CN_待填充内容\",語言配置表!B3281)","v":"CN_待填充内容"}]
[{"$f":"IF(語言配置表!A3282=\"\",\"\",語言配置表!A3282)","v":""},{"$f":"IF(語言配置表!A3282=\"\",\"CN_待填充内容\",語言配置表!B3282)","v":"CN_待填充内容"}]
[{"$f":"IF(語言配置表!A3283=\"\",\"\",語言配置表!A3283)","v":""},{"$f":"IF(語言配置表!A3283=\"\",\"CN_待填充内容\",語言配置表!B3283)","v":"CN_待填充内容"}]
[{"$f":"IF(語言配置表!A3284=\"\",\"\",語言配置表!A3284)","v":""},{"$f":"IF(語言配置表!A3284=\"\",\"CN_待填充内容\",語言配置表!B3284)","v":"CN_待填充内容"}]
[{"$f":"IF(語言配置表!A3285=\"\",\"\",語言配置表!A3285)","v":""},{"$f":"IF(語言配置表!A3285=\"\",\"CN_待填充内容\",語言配置表!B3285)","v":"CN_待填充内容"}]
[{"$f":"IF(語言配置表!A3286=\"\",\"\",語言配置表!A3286)","v":""},{"$f":"IF(語言配置表!A3286=\"\",\"CN_待填充内容\",語言配置表!B3286)","v":"CN_待填充内容"}]
[{"$f":"IF(語言配置表!A3287=\"\",\"\",語言配置表!A3287)","v":""},{"$f":"IF(語言配置表!A3287=\"\",\"CN_待填充内容\",語言配置表!B3287)","v":"CN_待填充内容"}]
[{"$f":"IF(語言配置表!A3288=\"\",\"\",語言配置表!A3288)","v":""},{"$f":"IF(語言配置表!A3288=\"\",\"CN_待填充内容\",語言配置表!B3288)","v":"CN_待填充内容"}]
[{"$f":"IF(語言配置表!A3289=\"\",\"\",語言配置表!A3289)","v":""},{"$f":"IF(語言配置表!A3289=\"\",\"CN_待填充内容\",語言配置表!B3289)","v":"CN_待填充内容"}]
[{"$f":"IF(語言配置表!A3290=\"\",\"\",語言配置表!A3290)","v":""},{"$f":"IF(語言配置表!A3290=\"\",\"CN_待填充内容\",語言配置表!B3290)","v":"CN_待填充内容"}]
[{"$f":"IF(語言配置表!A3291=\"\",\"\",語言配置表!A3291)","v":""},{"$f":"IF(語言配置表!A3291=\"\",\"CN_待填充内容\",語言配置表!B3291)","v":"CN_待填充内容"}]
[{"$f":"IF(語言配置表!A3292=\"\",\"\",語言配置表!A3292)","v":""},{"$f":"IF(語言配置表!A3292=\"\",\"CN_待填充内容\",語言配置表!B3292)","v":"CN_待填充内容"}]
[{"$f":"IF(語言配置表!A3293=\"\",\"\",語言配置表!A3293)","v":""},{"$f":"IF(語言配置表!A3293=\"\",\"CN_待填充内容\",語言配置表!B3293)","v":"CN_待填充内容"}]
[{"$f":"IF(語言配置表!A3294=\"\",\"\",語言配置表!A3294)","v":""},{"$f":"IF(語言配置表!A3294=\"\",\"CN_待填充内容\",語言配置表!B3294)","v":"CN_待填充内容"}]
[{"$f":"IF(語言配置表!A3295=\"\",\"\",語言配置表!A3295)","v":""},{"$f":"IF(語言配置表!A3295=\"\",\"CN_待填充内容\",語言配置表!B3295)","v":"CN_待填充内容"}]
[{"$f":"IF(語言配置表!A3296=\"\",\"\",語言配置表!A3296)","v":""},{"$f":"IF(語言配置表!A3296=\"\",\"CN_待填充内容\",語言配置表!B3296)","v":"CN_待填充内容"}]
[{"$f":"IF(語言配置表!A3297=\"\",\"\",語言配置表!A3297)","v":""},{"$f":"IF(語言配置表!A3297=\"\",\"CN_待填充内容\",語言配置表!B3297)","v":"CN_待填充内容"}]
[{"$f":"IF(語言配置表!A3298=\"\",\"\",語言配置表!A3298)","v":""},{"$f":"IF(語言配置表!A3298=\"\",\"CN_待填充内容\",語言配置表!B3298)","v":"CN_待填充内容"}]
[{"$f":"IF(語言配置表!A3299=\"\",\"\",語言配置表!A3299)","v":""},{"$f":"IF(語言配置表!A3299=\"\",\"CN_待填充内容\",語言配置表!B3299)","v":"CN_待填充内容"}]
[{"$f":"IF(語言配置表!A3300=\"\",\"\",語言配置表!A3300)","v":""},{"$f":"IF(語言配置表!A3300=\"\",\"CN_待填充内容\",語言配置表!B3300)","v":"CN_待填充内容"}]
[{"$f":"IF(語言配置表!A3301=\"\",\"\",語言配置表!A3301)","v":""},{"$f":"IF(語言配置表!A3301=\"\",\"CN_待填充内容\",語言配置表!B3301)","v":"CN_待填充内容"}]
[{"$f":"IF(語言配置表!A3302=\"\",\"\",語言配置表!A3302)","v":""},{"$f":"IF(語言配置表!A3302=\"\",\"CN_待填充内容\",語言配置表!B3302)","v":"CN_待填充内容"}]
[{"$f":"IF(語言配置表!A3303=\"\",\"\",語言配置表!A3303)","v":""},{"$f":"IF(語言配置表!A3303=\"\",\"CN_待填充内容\",語言配置表!B3303)","v":"CN_待填充内容"}]
[{"$f":"IF(語言配置表!A3304=\"\",\"\",語言配置表!A3304)","v":""},{"$f":"IF(語言配置表!A3304=\"\",\"CN_待填充内容\",語言配置表!B3304)","v":"CN_待填充内容"}]
[{"$f":"IF(語言配置表!A3305=\"\",\"\",語言配置表!A3305)","v":""},{"$f":"IF(語言配置表!A3305=\"\",\"CN_待填充内容\",語言配置表!B3305)","v":"CN_待填充内容"}]
[{"$f":"IF(語言配置表!A3306=\"\",\"\",語言配置表!A3306)","v":""},{"$f":"IF(語言配置表!A3306=\"\",\"CN_待填充内容\",語言配置表!B3306)","v":"CN_待填充内容"}]
[{"$f":"IF(語言配置表!A3307=\"\",\"\",語言配置表!A3307)","v":""},{"$f":"IF(語言配置表!A3307=\"\",\"CN_待填充内容\",語言配置表!B3307)","v":"CN_待填充内容"}]
[{"$f":"IF(語言配置表!A3308=\"\",\"\",語言配置表!A3308)","v":""},{"$f":"IF(語言配置表!A3308=\"\",\"CN_待填充内容\",語言配置表!B3308)","v":"CN_待填充内容"}]
[{"$f":"IF(語言配置表!A3309=\"\",\"\",語言配置表!A3309)","v":""},{"$f":"IF(語言配置表!A3309=\"\",\"CN_待填充内容\",語言配置表!B3309)","v":"CN_待填充内容"}]
[{"$f":"IF(語言配置表!A3310=\"\",\"\",語言配置表!A3310)","v":""},{"$f":"IF(語言配置表!A3310=\"\",\"CN_待填充内容\",語言配置表!B3310)","v":"CN_待填充内容"}]
[{"$f":"IF(語言配置表!A3311=\"\",\"\",語言配置表!A3311)","v":""},{"$f":"IF(語言配置表!A3311=\"\",\"CN_待填充内容\",語言配置表!B3311)","v":"CN_待填充内容"}]
[{"$f":"IF(語言配置表!A3312=\"\",\"\",語言配置表!A3312)","v":""},{"$f":"IF(語言配置表!A3312=\"\",\"CN_待填充内容\",語言配置表!B3312)","v":"CN_待填充内容"}]
[{"$f":"IF(語言配置表!A3313=\"\",\"\",語言配置表!A3313)","v":""},{"$f":"IF(語言配置表!A3313=\"\",\"CN_待填充内容\",語言配置表!B3313)","v":"CN_待填充内容"}]
[{"$f":"IF(語言配置表!A3314=\"\",\"\",語言配置表!A3314)","v":""},{"$f":"IF(語言配置表!A3314=\"\",\"CN_待填充内容\",語言配置表!B3314)","v":"CN_待填充内容"}]
[{"$f":"IF(語言配置表!A3315=\"\",\"\",語言配置表!A3315)","v":""},{"$f":"IF(語言配置表!A3315=\"\",\"CN_待填充内容\",語言配置表!B3315)","v":"CN_待填充内容"}]
[{"$f":"IF(語言配置表!A3316=\"\",\"\",語言配置表!A3316)","v":""},{"$f":"IF(語言配置表!A3316=\"\",\"CN_待填充内容\",語言配置表!B3316)","v":"CN_待填充内容"}]
[{"$f":"IF(語言配置表!A3317=\"\",\"\",語言配置表!A3317)","v":""},{"$f":"IF(語言配置表!A3317=\"\",\"CN_待填充内容\",語言配置表!B3317)","v":"CN_待填充内容"}]
[{"$f":"IF(語言配置表!A3318=\"\",\"\",語言配置表!A3318)","v":""},{"$f":"IF(語言配置表!A3318=\"\",\"CN_待填充内容\",語言配置表!B3318)","v":"CN_待填充内容"}]
[{"$f":"IF(語言配置表!A3319=\"\",\"\",語言配置表!A3319)","v":""},{"$f":"IF(語言配置表!A3319=\"\",\"CN_待填充内容\",語言配置表!B3319)","v":"CN_待填充内容"}]
[{"$f":"IF(語言配置表!A3320=\"\",\"\",語言配置表!A3320)","v":""},{"$f":"IF(語言配置表!A3320=\"\",\"CN_待填充内容\",語言配置表!B3320)","v":"CN_待填充内容"}]
[{"$f":"IF(語言配置表!A3321=\"\",\"\",語言配置表!A3321)","v":""},{"$f":"IF(語言配置表!A3321=\"\",\"CN_待填充内容\",語言配置表!B3321)","v":"CN_待填充内容"}]
[{"$f":"IF(語言配置表!A3322=\"\",\"\",語言配置表!A3322)","v":""},{"$f":"IF(語言配置表!A3322=\"\",\"CN_待填充内容\",語言配置表!B3322)","v":"CN_待填充内容"}]
[{"$f":"IF(語言配置表!A3323=\"\",\"\",語言配置表!A3323)","v":""},{"$f":"IF(語言配置表!A3323=\"\",\"CN_待填充内容\",語言配置表!B3323)","v":"CN_待填充内容"}]
[{"$f":"IF(語言配置表!A3324=\"\",\"\",語言配置表!A3324)","v":""},{"$f":"IF(語言配置表!A3324=\"\",\"CN_待填充内容\",語言配置表!B3324)","v":"CN_待填充内容"}]
[{"$f":"IF(語言配置表!A3325=\"\",\"\",語言配置表!A3325)","v":""},{"$f":"IF(語言配置表!A3325=\"\",\"CN_待填充内容\",語言配置表!B3325)","v":"CN_待填充内容"}]
[{"$f":"IF(語言配置表!A3326=\"\",\"\",語言配置表!A3326)","v":""},{"$f":"IF(語言配置表!A3326=\"\",\"CN_待填充内容\",語言配置表!B3326)","v":"CN_待填充内容"}]
[{"$f":"IF(語言配置表!A3327=\"\",\"\",語言配置表!A3327)","v":""},{"$f":"IF(語言配置表!A3327=\"\",\"CN_待填充内容\",語言配置表!B3327)","v":"CN_待填充内容"}]
[{"$f":"IF(語言配置表!A3328=\"\",\"\",語言配置表!A3328)","v":""},{"$f":"IF(語言配置表!A3328=\"\",\"CN_待填充内容\",語言配置表!B3328)","v":"CN_待填充内容"}]
[{"$f":"IF(語言配置表!A3329=\"\",\"\",語言配置表!A3329)","v":""},{"$f":"IF(語言配置表!A3329=\"\",\"CN_待填充内容\",語言配置表!B3329)","v":"CN_待填充内容"}]
[{"$f":"IF(語言配置表!A3330=\"\",\"\",語言配置表!A3330)","v":""},{"$f":"IF(語言配置表!A3330=\"\",\"CN_待填充内容\",語言配置表!B3330)","v":"CN_待填充内容"}]
[{"$f":"IF(語言配置表!A3331=\"\",\"\",語言配置表!A3331)","v":""},{"$f":"IF(語言配置表!A3331=\"\",\"CN_待填充内容\",語言配置表!B3331)","v":"CN_待填充内容"}]
[{"$f":"IF(語言配置表!A3332=\"\",\"\",語言配置表!A3332)","v":""},{"$f":"IF(語言配置表!A3332=\"\",\"CN_待填充内容\",語言配置表!B3332)","v":"CN_待填充内容"}]
[{"$f":"IF(語言配置表!A3333=\"\",\"\",語言配置表!A3333)","v":""},{"$f":"IF(語言配置表!A3333=\"\",\"CN_待填充内容\",語言配置表!B3333)","v":"CN_待填充内容"}]
[{"$f":"IF(語言配置表!A3334=\"\",\"\",語言配置表!A3334)","v":""},{"$f":"IF(語言配置表!A3334=\"\",\"CN_待填充内容\",語言配置表!B3334)","v":"CN_待填充内容"}]
[{"$f":"IF(語言配置表!A3335=\"\",\"\",語言配置表!A3335)","v":""},{"$f":"IF(語言配置表!A3335=\"\",\"CN_待填充内容\",語言配置表!B3335)","v":"CN_待填充内容"}]
[{"$f":"IF(語言配置表!A3336=\"\",\"\",語言配置表!A3336)","v":""},{"$f":"IF(語言配置表!A3336=\"\",\"CN_待填充内容\",語言配置表!B3336)","v":"CN_待填充内容"}]
[{"$f":"IF(語言配置表!A3337=\"\",\"\",語言配置表!A3337)","v":""},{"$f":"IF(語言配置表!A3337=\"\",\"CN_待填充内容\",語言配置表!B3337)","v":"CN_待填充内容"}]
[{"$f":"IF(語言配置表!A3338=\"\",\"\",語言配置表!A3338)","v":""},{"$f":"IF(語言配置表!A3338=\"\",\"CN_待填充内容\",語言配置表!B3338)","v":"CN_待填充内容"}]
[{"$f":"IF(語言配置表!A3339=\"\",\"\",語言配置表!A3339)","v":""},{"$f":"IF(語言配置表!A3339=\"\",\"CN_待填充内容\",語言配置表!B3339)","v":"CN_待填充内容"}]
[{"$f":"IF(語言配置表!A3340=\"\",\"\",語言配置表!A3340)","v":""},{"$f":"IF(語言配置表!A3340=\"\",\"CN_待填充内容\",語言配置表!B3340)","v":"CN_待填充内容"}]
[{"$f":"IF(語言配置表!A3341=\"\",\"\",語言配置表!A3341)","v":""},{"$f":"IF(語言配置表!A3341=\"\",\"CN_待填充内容\",語言配置表!B3341)","v":"CN_待填充内容"}]
[{"$f":"IF(語言配置表!A3342=\"\",\"\",語言配置表!A3342)","v":""},{"$f":"IF(語言配置表!A3342=\"\",\"CN_待填充内容\",語言配置表!B3342)","v":"CN_待填充内容"}]
[{"$f":"IF(語言配置表!A3343=\"\",\"\",語言配置表!A3343)","v":""},{"$f":"IF(語言配置表!A3343=\"\",\"CN_待填充内容\",語言配置表!B3343)","v":"CN_待填充内容"}]
[{"$f":"IF(語言配置表!A3344=\"\",\"\",語言配置表!A3344)","v":""},{"$f":"IF(語言配置表!A3344=\"\",\"CN_待填充内容\",語言配置表!B3344)","v":"CN_待填充内容"}]
[{"$f":"IF(語言配置表!A3345=\"\",\"\",語言配置表!A3345)","v":""},{"$f":"IF(語言配置表!A3345=\"\",\"CN_待填充内容\",語言配置表!B3345)","v":"CN_待填充内容"}]
[{"$f":"IF(語言配置表!A3346=\"\",\"\",語言配置表!A3346)","v":""},{"$f":"IF(語言配置表!A3346=\"\",\"CN_待填充内容\",語言配置表!B3346)","v":"CN_待填充内容"}]
[{"$f":"IF(語言配置表!A3347=\"\",\"\",語言配置表!A3347)","v":""},{"$f":"IF(語言配置表!A3347=\"\",\"CN_待填充内容\",語言配置表!B3347)","v":"CN_待填充内容"}]
[{"$f":"IF(語言配置表!A3348=\"\",\"\",語言配置表!A3348)","v":""},{"$f":"IF(語言配置表!A3348=\"\",\"CN_待填充内容\",語言配置表!B3348)","v":"CN_待填充内容"}]
[{"$f":"IF(語言配置表!A3349=\"\",\"\",語言配置表!A3349)","v":""},{"$f":"IF(語言配置表!A3349=\"\",\"CN_待填充内容\",語言配置表!B3349)","v":"CN_待填充内容"}]
[{"$f":"IF(語言配置表!A3350=\"\",\"\",語言配置表!A3350)","v":""},{"$f":"IF(語言配置表!A3350=\"\",\"CN_待填充内容\",語言配置表!B3350)","v":"CN_待填充内容"}]
[{"$f":"IF(語言配置表!A3351=\"\",\"\",語言配置表!A3351)","v":""},{"$f":"IF(語言配置表!A3351=\"\",\"CN_待填充内容\",語言配置表!B3351)","v":"CN_待填充内容"}]
[{"$f":"IF(語言配置表!A3352=\"\",\"\",語言配置表!A3352)","v":""},{"$f":"IF(語言配置表!A3352=\"\",\"CN_待填充内容\",語言配置表!B3352)","v":"CN_待填充内容"}]
[{"$f":"IF(語言配置表!A3353=\"\",\"\",語言配置表!A3353)","v":""},{"$f":"IF(語言配置表!A3353=\"\",\"CN_待填充内容\",語言配置表!B3353)","v":"CN_待填充内容"}]
[{"$f":"IF(語言配置表!A3354=\"\",\"\",語言配置表!A3354)","v":""},{"$f":"IF(語言配置表!A3354=\"\",\"CN_待填充内容\",語言配置表!B3354)","v":"CN_待填充内容"}]
[{"$f":"IF(語言配置表!A3355=\"\",\"\",語言配置表!A3355)","v":""},{"$f":"IF(語言配置表!A3355=\"\",\"CN_待填充内容\",語言配置表!B3355)","v":"CN_待填充内容"}]
[{"$f":"IF(語言配置表!A3356=\"\",\"\",語言配置表!A3356)","v":""},{"$f":"IF(語言配置表!A3356=\"\",\"CN_待填充内容\",語言配置表!B3356)","v":"CN_待填充内容"}]
[{"$f":"IF(語言配置表!A3357=\"\",\"\",語言配置表!A3357)","v":""},{"$f":"IF(語言配置表!A3357=\"\",\"CN_待填充内容\",語言配置表!B3357)","v":"CN_待填充内容"}]
[{"$f":"IF(語言配置表!A3358=\"\",\"\",語言配置表!A3358)","v":""},{"$f":"IF(語言配置表!A3358=\"\",\"CN_待填充内容\",語言配置表!B3358)","v":"CN_待填充内容"}]
[{"$f":"IF(語言配置表!A3359=\"\",\"\",語言配置表!A3359)","v":""},{"$f":"IF(語言配置表!A3359=\"\",\"CN_待填充内容\",語言配置表!B3359)","v":"CN_待填充内容"}]
[{"$f":"IF(語言配置表!A3360=\"\",\"\",語言配置表!A3360)","v":""},{"$f":"IF(語言配置表!A3360=\"\",\"CN_待填充内容\",語言配置表!B3360)","v":"CN_待填充内容"}]
[{"$f":"IF(語言配置表!A3361=\"\",\"\",語言配置表!A3361)","v":""},{"$f":"IF(語言配置表!A3361=\"\",\"CN_待填充内容\",語言配置表!B3361)","v":"CN_待填充内容"}]
[{"$f":"IF(語言配置表!A3362=\"\",\"\",語言配置表!A3362)","v":""},{"$f":"IF(語言配置表!A3362=\"\",\"CN_待填充内容\",語言配置表!B3362)","v":"CN_待填充内容"}]
[{"$f":"IF(語言配置表!A3363=\"\",\"\",語言配置表!A3363)","v":""},{"$f":"IF(語言配置表!A3363=\"\",\"CN_待填充内容\",語言配置表!B3363)","v":"CN_待填充内容"}]
[{"$f":"IF(語言配置表!A3364=\"\",\"\",語言配置表!A3364)","v":""},{"$f":"IF(語言配置表!A3364=\"\",\"CN_待填充内容\",語言配置表!B3364)","v":"CN_待填充内容"}]
[{"$f":"IF(語言配置表!A3365=\"\",\"\",語言配置表!A3365)","v":""},{"$f":"IF(語言配置表!A3365=\"\",\"CN_待填充内容\",語言配置表!B3365)","v":"CN_待填充内容"}]
[{"$f":"IF(語言配置表!A3366=\"\",\"\",語言配置表!A3366)","v":""},{"$f":"IF(語言配置表!A3366=\"\",\"CN_待填充内容\",語言配置表!B3366)","v":"CN_待填充内容"}]
[{"$f":"IF(語言配置表!A3367=\"\",\"\",語言配置表!A3367)","v":""},{"$f":"IF(語言配置表!A3367=\"\",\"CN_待填充内容\",語言配置表!B3367)","v":"CN_待填充内容"}]
[{"$f":"IF(語言配置表!A3368=\"\",\"\",語言配置表!A3368)","v":""},{"$f":"IF(語言配置表!A3368=\"\",\"CN_待填充内容\",語言配置表!B3368)","v":"CN_待填充内容"}]
[{"$f":"IF(語言配置表!A3369=\"\",\"\",語言配置表!A3369)","v":""},{"$f":"IF(語言配置表!A3369=\"\",\"CN_待填充内容\",語言配置表!B3369)","v":"CN_待填充内容"}]
[{"$f":"IF(語言配置表!A3370=\"\",\"\",語言配置表!A3370)","v":""},{"$f":"IF(語言配置表!A3370=\"\",\"CN_待填充内容\",語言配置表!B3370)","v":"CN_待填充内容"}]
[{"$f":"IF(語言配置表!A3371=\"\",\"\",語言配置表!A3371)","v":""},{"$f":"IF(語言配置表!A3371=\"\",\"CN_待填充内容\",語言配置表!B3371)","v":"CN_待填充内容"}]
[{"$f":"IF(語言配置表!A3372=\"\",\"\",語言配置表!A3372)","v":""},{"$f":"IF(語言配置表!A3372=\"\",\"CN_待填充内容\",語言配置表!B3372)","v":"CN_待填充内容"}]
[{"$f":"IF(語言配置表!A3373=\"\",\"\",語言配置表!A3373)","v":""},{"$f":"IF(語言配置表!A3373=\"\",\"CN_待填充内容\",語言配置表!B3373)","v":"CN_待填充内容"}]
[{"$f":"IF(語言配置表!A3374=\"\",\"\",語言配置表!A3374)","v":""},{"$f":"IF(語言配置表!A3374=\"\",\"CN_待填充内容\",語言配置表!B3374)","v":"CN_待填充内容"}]
[{"$f":"IF(語言配置表!A3375=\"\",\"\",語言配置表!A3375)","v":""},{"$f":"IF(語言配置表!A3375=\"\",\"CN_待填充内容\",語言配置表!B3375)","v":"CN_待填充内容"}]
[{"$f":"IF(語言配置表!A3376=\"\",\"\",語言配置表!A3376)","v":""},{"$f":"IF(語言配置表!A3376=\"\",\"CN_待填充内容\",語言配置表!B3376)","v":"CN_待填充内容"}]
[{"$f":"IF(語言配置表!A3377=\"\",\"\",語言配置表!A3377)","v":""},{"$f":"IF(語言配置表!A3377=\"\",\"CN_待填充内容\",語言配置表!B3377)","v":"CN_待填充内容"}]
[{"$f":"IF(語言配置表!A3378=\"\",\"\",語言配置表!A3378)","v":""},{"$f":"IF(語言配置表!A3378=\"\",\"CN_待填充内容\",語言配置表!B3378)","v":"CN_待填充内容"}]
[{"$f":"IF(語言配置表!A3379=\"\",\"\",語言配置表!A3379)","v":""},{"$f":"IF(語言配置表!A3379=\"\",\"CN_待填充内容\",語言配置表!B3379)","v":"CN_待填充内容"}]
[{"$f":"IF(語言配置表!A3380=\"\",\"\",語言配置表!A3380)","v":""},{"$f":"IF(語言配置表!A3380=\"\",\"CN_待填充内容\",語言配置表!B3380)","v":"CN_待填充内容"}]
[{"$f":"IF(語言配置表!A3381=\"\",\"\",語言配置表!A3381)","v":""},{"$f":"IF(語言配置表!A3381=\"\",\"CN_待填充内容\",語言配置表!B3381)","v":"CN_待填充内容"}]
[{"$f":"IF(語言配置表!A3382=\"\",\"\",語言配置表!A3382)","v":""},{"$f":"IF(語言配置表!A3382=\"\",\"CN_待填充内容\",語言配置表!B3382)","v":"CN_待填充内容"}]
[{"$f":"IF(語言配置表!A3383=\"\",\"\",語言配置表!A3383)","v":""},{"$f":"IF(語言配置表!A3383=\"\",\"CN_待填充内容\",語言配置表!B3383)","v":"CN_待填充内容"}]
[{"$f":"IF(語言配置表!A3384=\"\",\"\",語言配置表!A3384)","v":""},{"$f":"IF(語言配置表!A3384=\"\",\"CN_待填充内容\",語言配置表!B3384)","v":"CN_待填充内容"}]
[{"$f":"IF(語言配置表!A3385=\"\",\"\",語言配置表!A3385)","v":""},{"$f":"IF(語言配置表!A3385=\"\",\"CN_待填充内容\",語言配置表!B3385)","v":"CN_待填充内容"}]
[{"$f":"IF(語言配置表!A3386=\"\",\"\",語言配置表!A3386)","v":""},{"$f":"IF(語言配置表!A3386=\"\",\"CN_待填充内容\",語言配置表!B3386)","v":"CN_待填充内容"}]
[{"$f":"IF(語言配置表!A3387=\"\",\"\",語言配置表!A3387)","v":""},{"$f":"IF(語言配置表!A3387=\"\",\"CN_待填充内容\",語言配置表!B3387)","v":"CN_待填充内容"}]
[{"$f":"IF(語言配置表!A3388=\"\",\"\",語言配置表!A3388)","v":""},{"$f":"IF(語言配置表!A3388=\"\",\"CN_待填充内容\",語言配置表!B3388)","v":"CN_待填充内容"}]
[{"$f":"IF(語言配置表!A3389=\"\",\"\",語言配置表!A3389)","v":""},{"$f":"IF(語言配置表!A3389=\"\",\"CN_待填充内容\",語言配置表!B3389)","v":"CN_待填充内容"}]
[{"$f":"IF(語言配置表!A3390=\"\",\"\",語言配置表!A3390)","v":""},{"$f":"IF(語言配置表!A3390=\"\",\"CN_待填充内容\",語言配置表!B3390)","v":"CN_待填充内容"}]
[{"$f":"IF(語言配置表!A3391=\"\",\"\",語言配置表!A3391)","v":""},{"$f":"IF(語言配置表!A3391=\"\",\"CN_待填充内容\",語言配置表!B3391)","v":"CN_待填充内容"}]
[{"$f":"IF(語言配置表!A3392=\"\",\"\",語言配置表!A3392)","v":""},{"$f":"IF(語言配置表!A3392=\"\",\"CN_待填充内容\",語言配置表!B3392)","v":"CN_待填充内容"}]
[{"$f":"IF(語言配置表!A3393=\"\",\"\",語言配置表!A3393)","v":""},{"$f":"IF(語言配置表!A3393=\"\",\"CN_待填充内容\",語言配置表!B3393)","v":"CN_待填充内容"}]
[{"$f":"IF(語言配置表!A3394=\"\",\"\",語言配置表!A3394)","v":""},{"$f":"IF(語言配置表!A3394=\"\",\"CN_待填充内容\",語言配置表!B3394)","v":"CN_待填充内容"}]
[{"$f":"IF(語言配置表!A3395=\"\",\"\",語言配置表!A3395)","v":""},{"$f":"IF(語言配置表!A3395=\"\",\"CN_待填充内容\",語言配置表!B3395)","v":"CN_待填充内容"}]
[{"$f":"IF(語言配置表!A3396=\"\",\"\",語言配置表!A3396)","v":""},{"$f":"IF(語言配置表!A3396=\"\",\"CN_待填充内容\",語言配置表!B3396)","v":"CN_待填充内容"}]
[{"$f":"IF(語言配置表!A3397=\"\",\"\",語言配置表!A3397)","v":""},{"$f":"IF(語言配置表!A3397=\"\",\"CN_待填充内容\",語言配置表!B3397)","v":"CN_待填充内容"}]
[{"$f":"IF(語言配置表!A3398=\"\",\"\",語言配置表!A3398)","v":""},{"$f":"IF(語言配置表!A3398=\"\",\"CN_待填充内容\",語言配置表!B3398)","v":"CN_待填充内容"}]
[{"$f":"IF(語言配置表!A3399=\"\",\"\",語言配置表!A3399)","v":""},{"$f":"IF(語言配置表!A3399=\"\",\"CN_待填充内容\",語言配置表!B3399)","v":"CN_待填充内容"}]
[{"$f":"IF(語言配置表!A3400=\"\",\"\",語言配置表!A3400)","v":""},{"$f":"IF(語言配置表!A3400=\"\",\"CN_待填充内容\",語言配置表!B3400)","v":"CN_待填充内容"}]
[{"$f":"IF(語言配置表!A3401=\"\",\"\",語言配置表!A3401)","v":""},{"$f":"IF(語言配置表!A3401=\"\",\"CN_待填充内容\",語言配置表!B3401)","v":"CN_待填充内容"}]
[{"$f":"IF(語言配置表!A3402=\"\",\"\",語言配置表!A3402)","v":""},{"$f":"IF(語言配置表!A3402=\"\",\"CN_待填充内容\",語言配置表!B3402)","v":"CN_待填充内容"}]
[{"$f":"IF(語言配置表!A3403=\"\",\"\",語言配置表!A3403)","v":""},{"$f":"IF(語言配置表!A3403=\"\",\"CN_待填充内容\",語言配置表!B3403)","v":"CN_待填充内容"}]
[{"$f":"IF(語言配置表!A3404=\"\",\"\",語言配置表!A3404)","v":""},{"$f":"IF(語言配置表!A3404=\"\",\"CN_待填充内容\",語言配置表!B3404)","v":"CN_待填充内容"}]
[{"$f":"IF(語言配置表!A3405=\"\",\"\",語言配置表!A3405)","v":""},{"$f":"IF(語言配置表!A3405=\"\",\"CN_待填充内容\",語言配置表!B3405)","v":"CN_待填充内容"}]
[{"$f":"IF(語言配置表!A3406=\"\",\"\",語言配置表!A3406)","v":""},{"$f":"IF(語言配置表!A3406=\"\",\"CN_待填充内容\",語言配置表!B3406)","v":"CN_待填充内容"}]
[{"$f":"IF(語言配置表!A3407=\"\",\"\",語言配置表!A3407)","v":""},{"$f":"IF(語言配置表!A3407=\"\",\"CN_待填充内容\",語言配置表!B3407)","v":"CN_待填充内容"}]
[{"$f":"IF(語言配置表!A3408=\"\",\"\",語言配置表!A3408)","v":""},{"$f":"IF(語言配置表!A3408=\"\",\"CN_待填充内容\",語言配置表!B3408)","v":"CN_待填充内容"}]
[{"$f":"IF(語言配置表!A3409=\"\",\"\",語言配置表!A3409)","v":""},{"$f":"IF(語言配置表!A3409=\"\",\"CN_待填充内容\",語言配置表!B3409)","v":"CN_待填充内容"}]
[{"$f":"IF(語言配置表!A3410=\"\",\"\",語言配置表!A3410)","v":""},{"$f":"IF(語言配置表!A3410=\"\",\"CN_待填充内容\",語言配置表!B3410)","v":"CN_待填充内容"}]
[{"$f":"IF(語言配置表!A3411=\"\",\"\",語言配置表!A3411)","v":""},{"$f":"IF(語言配置表!A3411=\"\",\"CN_待填充内容\",語言配置表!B3411)","v":"CN_待填充内容"}]
[{"$f":"IF(語言配置表!A3412=\"\",\"\",語言配置表!A3412)","v":""},{"$f":"IF(語言配置表!A3412=\"\",\"CN_待填充内容\",語言配置表!B3412)","v":"CN_待填充内容"}]
[{"$f":"IF(語言配置表!A3413=\"\",\"\",語言配置表!A3413)","v":""},{"$f":"IF(語言配置表!A3413=\"\",\"CN_待填充内容\",語言配置表!B3413)","v":"CN_待填充内容"}]
[{"$f":"IF(語言配置表!A3414=\"\",\"\",語言配置表!A3414)","v":""},{"$f":"IF(語言配置表!A3414=\"\",\"CN_待填充内容\",語言配置表!B3414)","v":"CN_待填充内容"}]
[{"$f":"IF(語言配置表!A3415=\"\",\"\",語言配置表!A3415)","v":""},{"$f":"IF(語言配置表!A3415=\"\",\"CN_待填充内容\",語言配置表!B3415)","v":"CN_待填充内容"}]
[{"$f":"IF(語言配置表!A3416=\"\",\"\",語言配置表!A3416)","v":""},{"$f":"IF(語言配置表!A3416=\"\",\"CN_待填充内容\",語言配置表!B3416)","v":"CN_待填充内容"}]
[{"$f":"IF(語言配置表!A3417=\"\",\"\",語言配置表!A3417)","v":""},{"$f":"IF(語言配置表!A3417=\"\",\"CN_待填充内容\",語言配置表!B3417)","v":"CN_待填充内容"}]
[{"$f":"IF(語言配置表!A3418=\"\",\"\",語言配置表!A3418)","v":""},{"$f":"IF(語言配置表!A3418=\"\",\"CN_待填充内容\",語言配置表!B3418)","v":"CN_待填充内容"}]
[{"$f":"IF(語言配置表!A3419=\"\",\"\",語言配置表!A3419)","v":""},{"$f":"IF(語言配置表!A3419=\"\",\"CN_待填充内容\",語言配置表!B3419)","v":"CN_待填充内容"}]
[{"$f":"IF(語言配置表!A3420=\"\",\"\",語言配置表!A3420)","v":""},{"$f":"IF(語言配置表!A3420=\"\",\"CN_待填充内容\",語言配置表!B3420)","v":"CN_待填充内容"}]
[{"$f":"IF(語言配置表!A3421=\"\",\"\",語言配置表!A3421)","v":""},{"$f":"IF(語言配置表!A3421=\"\",\"CN_待填充内容\",語言配置表!B3421)","v":"CN_待填充内容"}]
[{"$f":"IF(語言配置表!A3422=\"\",\"\",語言配置表!A3422)","v":""},{"$f":"IF(語言配置表!A3422=\"\",\"CN_待填充内容\",語言配置表!B3422)","v":"CN_待填充内容"}]
[{"$f":"IF(語言配置表!A3423=\"\",\"\",語言配置表!A3423)","v":""},{"$f":"IF(語言配置表!A3423=\"\",\"CN_待填充内容\",語言配置表!B3423)","v":"CN_待填充内容"}]
[{"$f":"IF(語言配置表!A3424=\"\",\"\",語言配置表!A3424)","v":""},{"$f":"IF(語言配置表!A3424=\"\",\"CN_待填充内容\",語言配置表!B3424)","v":"CN_待填充内容"}]
[{"$f":"IF(語言配置表!A3425=\"\",\"\",語言配置表!A3425)","v":""},{"$f":"IF(語言配置表!A3425=\"\",\"CN_待填充内容\",語言配置表!B3425)","v":"CN_待填充内容"}]
[{"$f":"IF(語言配置表!A3426=\"\",\"\",語言配置表!A3426)","v":""},{"$f":"IF(語言配置表!A3426=\"\",\"CN_待填充内容\",語言配置表!B3426)","v":"CN_待填充内容"}]
[{"$f":"IF(語言配置表!A3427=\"\",\"\",語言配置表!A3427)","v":""},{"$f":"IF(語言配置表!A3427=\"\",\"CN_待填充内容\",語言配置表!B3427)","v":"CN_待填充内容"}]
[{"$f":"IF(語言配置表!A3428=\"\",\"\",語言配置表!A3428)","v":""},{"$f":"IF(語言配置表!A3428=\"\",\"CN_待填充内容\",語言配置表!B3428)","v":"CN_待填充内容"}]
[{"$f":"IF(語言配置表!A3429=\"\",\"\",語言配置表!A3429)","v":""},{"$f":"IF(語言配置表!A3429=\"\",\"CN_待填充内容\",語言配置表!B3429)","v":"CN_待填充内容"}]
[{"$f":"IF(語言配置表!A3430=\"\",\"\",語言配置表!A3430)","v":""},{"$f":"IF(語言配置表!A3430=\"\",\"CN_待填充内容\",語言配置表!B3430)","v":"CN_待填充内容"}]
[{"$f":"IF(語言配置表!A3431=\"\",\"\",語言配置表!A3431)","v":""},{"$f":"IF(語言配置表!A3431=\"\",\"CN_待填充内容\",語言配置表!B3431)","v":"CN_待填充内容"}]
[{"$f":"IF(語言配置表!A3432=\"\",\"\",語言配置表!A3432)","v":""},{"$f":"IF(語言配置表!A3432=\"\",\"CN_待填充内容\",語言配置表!B3432)","v":"CN_待填充内容"}]
[{"$f":"IF(語言配置表!A3433=\"\",\"\",語言配置表!A3433)","v":""},{"$f":"IF(語言配置表!A3433=\"\",\"CN_待填充内容\",語言配置表!B3433)","v":"CN_待填充内容"}]
[{"$f":"IF(語言配置表!A3434=\"\",\"\",語言配置表!A3434)","v":""},{"$f":"IF(語言配置表!A3434=\"\",\"CN_待填充内容\",語言配置表!B3434)","v":"CN_待填充内容"}]
[{"$f":"IF(語言配置表!A3435=\"\",\"\",語言配置表!A3435)","v":""},{"$f":"IF(語言配置表!A3435=\"\",\"CN_待填充内容\",語言配置表!B3435)","v":"CN_待填充内容"}]
[{"$f":"IF(語言配置表!A3436=\"\",\"\",語言配置表!A3436)","v":""},{"$f":"IF(語言配置表!A3436=\"\",\"CN_待填充内容\",語言配置表!B3436)","v":"CN_待填充内容"}]
[{"$f":"IF(語言配置表!A3437=\"\",\"\",語言配置表!A3437)","v":""},{"$f":"IF(語言配置表!A3437=\"\",\"CN_待填充内容\",語言配置表!B3437)","v":"CN_待填充内容"}]
[{"$f":"IF(語言配置表!A3438=\"\",\"\",語言配置表!A3438)","v":""},{"$f":"IF(語言配置表!A3438=\"\",\"CN_待填充内容\",語言配置表!B3438)","v":"CN_待填充内容"}]
[{"$f":"IF(語言配置表!A3439=\"\",\"\",語言配置表!A3439)","v":""},{"$f":"IF(語言配置表!A3439=\"\",\"CN_待填充内容\",語言配置表!B3439)","v":"CN_待填充内容"}]
[{"$f":"IF(語言配置表!A3440=\"\",\"\",語言配置表!A3440)","v":""},{"$f":"IF(語言配置表!A3440=\"\",\"CN_待填充内容\",語言配置表!B3440)","v":"CN_待填充内容"}]
[{"$f":"IF(語言配置表!A3441=\"\",\"\",語言配置表!A3441)","v":""},{"$f":"IF(語言配置表!A3441=\"\",\"CN_待填充内容\",語言配置表!B3441)","v":"CN_待填充内容"}]
[{"$f":"IF(語言配置表!A3442=\"\",\"\",語言配置表!A3442)","v":""},{"$f":"IF(語言配置表!A3442=\"\",\"CN_待填充内容\",語言配置表!B3442)","v":"CN_待填充内容"}]
[{"$f":"IF(語言配置表!A3443=\"\",\"\",語言配置表!A3443)","v":""},{"$f":"IF(語言配置表!A3443=\"\",\"CN_待填充内容\",語言配置表!B3443)","v":"CN_待填充内容"}]
[{"$f":"IF(語言配置表!A3444=\"\",\"\",語言配置表!A3444)","v":""},{"$f":"IF(語言配置表!A3444=\"\",\"CN_待填充内容\",語言配置表!B3444)","v":"CN_待填充内容"}]
[{"$f":"IF(語言配置表!A3445=\"\",\"\",語言配置表!A3445)","v":""},{"$f":"IF(語言配置表!A3445=\"\",\"CN_待填充内容\",語言配置表!B3445)","v":"CN_待填充内容"}]
[{"$f":"IF(語言配置表!A3446=\"\",\"\",語言配置表!A3446)","v":""},{"$f":"IF(語言配置表!A3446=\"\",\"CN_待填充内容\",語言配置表!B3446)","v":"CN_待填充内容"}]
[{"$f":"IF(語言配置表!A3447=\"\",\"\",語言配置表!A3447)","v":""},{"$f":"IF(語言配置表!A3447=\"\",\"CN_待填充内容\",語言配置表!B3447)","v":"CN_待填充内容"}]
[{"$f":"IF(語言配置表!A3448=\"\",\"\",語言配置表!A3448)","v":""},{"$f":"IF(語言配置表!A3448=\"\",\"CN_待填充内容\",語言配置表!B3448)","v":"CN_待填充内容"}]
[{"$f":"IF(語言配置表!A3449=\"\",\"\",語言配置表!A3449)","v":""},{"$f":"IF(語言配置表!A3449=\"\",\"CN_待填充内容\",語言配置表!B3449)","v":"CN_待填充内容"}]
[{"$f":"IF(語言配置表!A3450=\"\",\"\",語言配置表!A3450)","v":""},{"$f":"IF(語言配置表!A3450=\"\",\"CN_待填充内容\",語言配置表!B3450)","v":"CN_待填充内容"}]
[{"$f":"IF(語言配置表!A3451=\"\",\"\",語言配置表!A3451)","v":""},{"$f":"IF(語言配置表!A3451=\"\",\"CN_待填充内容\",語言配置表!B3451)","v":"CN_待填充内容"}]
[{"$f":"IF(語言配置表!A3452=\"\",\"\",語言配置表!A3452)","v":""},{"$f":"IF(語言配置表!A3452=\"\",\"CN_待填充内容\",語言配置表!B3452)","v":"CN_待填充内容"}]
[{"$f":"IF(語言配置表!A3453=\"\",\"\",語言配置表!A3453)","v":""},{"$f":"IF(語言配置表!A3453=\"\",\"CN_待填充内容\",語言配置表!B3453)","v":"CN_待填充内容"}]
[{"$f":"IF(語言配置表!A3454=\"\",\"\",語言配置表!A3454)","v":""},{"$f":"IF(語言配置表!A3454=\"\",\"CN_待填充内容\",語言配置表!B3454)","v":"CN_待填充内容"}]
[{"$f":"IF(語言配置表!A3455=\"\",\"\",語言配置表!A3455)","v":""},{"$f":"IF(語言配置表!A3455=\"\",\"CN_待填充内容\",語言配置表!B3455)","v":"CN_待填充内容"}]
[{"$f":"IF(語言配置表!A3456=\"\",\"\",語言配置表!A3456)","v":""},{"$f":"IF(語言配置表!A3456=\"\",\"CN_待填充内容\",語言配置表!B3456)","v":"CN_待填充内容"}]
[{"$f":"IF(語言配置表!A3457=\"\",\"\",語言配置表!A3457)","v":""},{"$f":"IF(語言配置表!A3457=\"\",\"CN_待填充内容\",語言配置表!B3457)","v":"CN_待填充内容"}]
[{"$f":"IF(語言配置表!A3458=\"\",\"\",語言配置表!A3458)","v":""},{"$f":"IF(語言配置表!A3458=\"\",\"CN_待填充内容\",語言配置表!B3458)","v":"CN_待填充内容"}]
[{"$f":"IF(語言配置表!A3459=\"\",\"\",語言配置表!A3459)","v":""},{"$f":"IF(語言配置表!A3459=\"\",\"CN_待填充内容\",語言配置表!B3459)","v":"CN_待填充内容"}]
[{"$f":"IF(語言配置表!A3460=\"\",\"\",語言配置表!A3460)","v":""},{"$f":"IF(語言配置表!A3460=\"\",\"CN_待填充内容\",語言配置表!B3460)","v":"CN_待填充内容"}]
[{"$f":"IF(語言配置表!A3461=\"\",\"\",語言配置表!A3461)","v":""},{"$f":"IF(語言配置表!A3461=\"\",\"CN_待填充内容\",語言配置表!B3461)","v":"CN_待填充内容"}]
[{"$f":"IF(語言配置表!A3462=\"\",\"\",語言配置表!A3462)","v":""},{"$f":"IF(語言配置表!A3462=\"\",\"CN_待填充内容\",語言配置表!B3462)","v":"CN_待填充内容"}]
[{"$f":"IF(語言配置表!A3463=\"\",\"\",語言配置表!A3463)","v":""},{"$f":"IF(語言配置表!A3463=\"\",\"CN_待填充内容\",語言配置表!B3463)","v":"CN_待填充内容"}]
[{"$f":"IF(語言配置表!A3464=\"\",\"\",語言配置表!A3464)","v":""},{"$f":"IF(語言配置表!A3464=\"\",\"CN_待填充内容\",語言配置表!B3464)","v":"CN_待填充内容"}]
[{"$f":"IF(語言配置表!A3465=\"\",\"\",語言配置表!A3465)","v":""},{"$f":"IF(語言配置表!A3465=\"\",\"CN_待填充内容\",語言配置表!B3465)","v":"CN_待填充内容"}]
[{"$f":"IF(語言配置表!A3466=\"\",\"\",語言配置表!A3466)","v":""},{"$f":"IF(語言配置表!A3466=\"\",\"CN_待填充内容\",語言配置表!B3466)","v":"CN_待填充内容"}]
[{"$f":"IF(語言配置表!A3467=\"\",\"\",語言配置表!A3467)","v":""},{"$f":"IF(語言配置表!A3467=\"\",\"CN_待填充内容\",語言配置表!B3467)","v":"CN_待填充内容"}]
[{"$f":"IF(語言配置表!A3468=\"\",\"\",語言配置表!A3468)","v":""},{"$f":"IF(語言配置表!A3468=\"\",\"CN_待填充内容\",語言配置表!B3468)","v":"CN_待填充内容"}]
[{"$f":"IF(語言配置表!A3469=\"\",\"\",語言配置表!A3469)","v":""},{"$f":"IF(語言配置表!A3469=\"\",\"CN_待填充内容\",語言配置表!B3469)","v":"CN_待填充内容"}]
[{"$f":"IF(語言配置表!A3470=\"\",\"\",語言配置表!A3470)","v":""},{"$f":"IF(語言配置表!A3470=\"\",\"CN_待填充内容\",語言配置表!B3470)","v":"CN_待填充内容"}]
[{"$f":"IF(語言配置表!A3471=\"\",\"\",語言配置表!A3471)","v":""},{"$f":"IF(語言配置表!A3471=\"\",\"CN_待填充内容\",語言配置表!B3471)","v":"CN_待填充内容"}]
[{"$f":"IF(語言配置表!A3472=\"\",\"\",語言配置表!A3472)","v":""},{"$f":"IF(語言配置表!A3472=\"\",\"CN_待填充内容\",語言配置表!B3472)","v":"CN_待填充内容"}]
[{"$f":"IF(語言配置表!A3473=\"\",\"\",語言配置表!A3473)","v":""},{"$f":"IF(語言配置表!A3473=\"\",\"CN_待填充内容\",語言配置表!B3473)","v":"CN_待填充内容"}]
[{"$f":"IF(語言配置表!A3474=\"\",\"\",語言配置表!A3474)","v":""},{"$f":"IF(語言配置表!A3474=\"\",\"CN_待填充内容\",語言配置表!B3474)","v":"CN_待填充内容"}]
[{"$f":"IF(語言配置表!A3475=\"\",\"\",語言配置表!A3475)","v":""},{"$f":"IF(語言配置表!A3475=\"\",\"CN_待填充内容\",語言配置表!B3475)","v":"CN_待填充内容"}]
[{"$f":"IF(語言配置表!A3476=\"\",\"\",語言配置表!A3476)","v":""},{"$f":"IF(語言配置表!A3476=\"\",\"CN_待填充内容\",語言配置表!B3476)","v":"CN_待填充内容"}]
[{"$f":"IF(語言配置表!A3477=\"\",\"\",語言配置表!A3477)","v":""},{"$f":"IF(語言配置表!A3477=\"\",\"CN_待填充内容\",語言配置表!B3477)","v":"CN_待填充内容"}]
[{"$f":"IF(語言配置表!A3478=\"\",\"\",語言配置表!A3478)","v":""},{"$f":"IF(語言配置表!A3478=\"\",\"CN_待填充内容\",語言配置表!B3478)","v":"CN_待填充内容"}]
[{"$f":"IF(語言配置表!A3479=\"\",\"\",語言配置表!A3479)","v":""},{"$f":"IF(語言配置表!A3479=\"\",\"CN_待填充内容\",語言配置表!B3479)","v":"CN_待填充内容"}]
[{"$f":"IF(語言配置表!A3480=\"\",\"\",語言配置表!A3480)","v":""},{"$f":"IF(語言配置表!A3480=\"\",\"CN_待填充内容\",語言配置表!B3480)","v":"CN_待填充内容"}]
[{"$f":"IF(語言配置表!A3481=\"\",\"\",語言配置表!A3481)","v":""},{"$f":"IF(語言配置表!A3481=\"\",\"CN_待填充内容\",語言配置表!B3481)","v":"CN_待填充内容"}]
[{"$f":"IF(語言配置表!A3482=\"\",\"\",語言配置表!A3482)","v":""},{"$f":"IF(語言配置表!A3482=\"\",\"CN_待填充内容\",語言配置表!B3482)","v":"CN_待填充内容"}]
[{"$f":"IF(語言配置表!A3483=\"\",\"\",語言配置表!A3483)","v":""},{"$f":"IF(語言配置表!A3483=\"\",\"CN_待填充内容\",語言配置表!B3483)","v":"CN_待填充内容"}]
[{"$f":"IF(語言配置表!A3484=\"\",\"\",語言配置表!A3484)","v":""},{"$f":"IF(語言配置表!A3484=\"\",\"CN_待填充内容\",語言配置表!B3484)","v":"CN_待填充内容"}]
[{"$f":"IF(語言配置表!A3485=\"\",\"\",語言配置表!A3485)","v":""},{"$f":"IF(語言配置表!A3485=\"\",\"CN_待填充内容\",語言配置表!B3485)","v":"CN_待填充内容"}]
[{"$f":"IF(語言配置表!A3486=\"\",\"\",語言配置表!A3486)","v":""},{"$f":"IF(語言配置表!A3486=\"\",\"CN_待填充内容\",語言配置表!B3486)","v":"CN_待填充内容"}]
[{"$f":"IF(語言配置表!A3487=\"\",\"\",語言配置表!A3487)","v":""},{"$f":"IF(語言配置表!A3487=\"\",\"CN_待填充内容\",語言配置表!B3487)","v":"CN_待填充内容"}]
[{"$f":"IF(語言配置表!A3488=\"\",\"\",語言配置表!A3488)","v":""},{"$f":"IF(語言配置表!A3488=\"\",\"CN_待填充内容\",語言配置表!B3488)","v":"CN_待填充内容"}]
[{"$f":"IF(語言配置表!A3489=\"\",\"\",語言配置表!A3489)","v":""},{"$f":"IF(語言配置表!A3489=\"\",\"CN_待填充内容\",語言配置表!B3489)","v":"CN_待填充内容"}]
[{"$f":"IF(語言配置表!A3490=\"\",\"\",語言配置表!A3490)","v":""},{"$f":"IF(語言配置表!A3490=\"\",\"CN_待填充内容\",語言配置表!B3490)","v":"CN_待填充内容"}]
[{"$f":"IF(語言配置表!A3491=\"\",\"\",語言配置表!A3491)","v":""},{"$f":"IF(語言配置表!A3491=\"\",\"CN_待填充内容\",語言配置表!B3491)","v":"CN_待填充内容"}]
[{"$f":"IF(語言配置表!A3492=\"\",\"\",語言配置表!A3492)","v":""},{"$f":"IF(語言配置表!A3492=\"\",\"CN_待填充内容\",語言配置表!B3492)","v":"CN_待填充内容"}]
[{"$f":"IF(語言配置表!A3493=\"\",\"\",語言配置表!A3493)","v":""},{"$f":"IF(語言配置表!A3493=\"\",\"CN_待填充内容\",語言配置表!B3493)","v":"CN_待填充内容"}]
[{"$f":"IF(語言配置表!A3494=\"\",\"\",語言配置表!A3494)","v":""},{"$f":"IF(語言配置表!A3494=\"\",\"CN_待填充内容\",語言配置表!B3494)","v":"CN_待填充内容"}]
[{"$f":"IF(語言配置表!A3495=\"\",\"\",語言配置表!A3495)","v":""},{"$f":"IF(語言配置表!A3495=\"\",\"CN_待填充内容\",語言配置表!B3495)","v":"CN_待填充内容"}]
[{"$f":"IF(語言配置表!A3496=\"\",\"\",語言配置表!A3496)","v":""},{"$f":"IF(語言配置表!A3496=\"\",\"CN_待填充内容\",語言配置表!B3496)","v":"CN_待填充内容"}]
[{"$f":"IF(語言配置表!A3497=\"\",\"\",語言配置表!A3497)","v":""},{"$f":"IF(語言配置表!A3497=\"\",\"CN_待填充内容\",語言配置表!B3497)","v":"CN_待填充内容"}]
[{"$f":"IF(語言配置表!A3498=\"\",\"\",語言配置表!A3498)","v":""},{"$f":"IF(語言配置表!A3498=\"\",\"CN_待填充内容\",語言配置表!B3498)","v":"CN_待填充内容"}]
[{"$f":"IF(語言配置表!A3499=\"\",\"\",語言配置表!A3499)","v":""},{"$f":"IF(語言配置表!A3499=\"\",\"CN_待填充内容\",語言配置表!B3499)","v":"CN_待填充内容"}]
[{"$f":"IF(語言配置表!A3500=\"\",\"\",語言配置表!A3500)","v":""},{"$f":"IF(語言配置表!A3500=\"\",\"CN_待填充内容\",語言配置表!B3500)","v":"CN_待填充内容"}]
[{"$f":"IF(語言配置表!A3501=\"\",\"\",語言配置表!A3501)","v":""},{"$f":"IF(語言配置表!A3501=\"\",\"CN_待填充内容\",語言配置表!B3501)","v":"CN_待填充内容"}]
[{"$f":"IF(語言配置表!A3502=\"\",\"\",語言配置表!A3502)","v":""},{"$f":"IF(語言配置表!A3502=\"\",\"CN_待填充内容\",語言配置表!B3502)","v":"CN_待填充内容"}]
[{"$f":"IF(語言配置表!A3503=\"\",\"\",語言配置表!A3503)","v":""},{"$f":"IF(語言配置表!A3503=\"\",\"CN_待填充内容\",語言配置表!B3503)","v":"CN_待填充内容"}]
[{"$f":"IF(語言配置表!A3504=\"\",\"\",語言配置表!A3504)","v":""},{"$f":"IF(語言配置表!A3504=\"\",\"CN_待填充内容\",語言配置表!B3504)","v":"CN_待填充内容"}]
[{"$f":"IF(語言配置表!A3505=\"\",\"\",語言配置表!A3505)","v":""},{"$f":"IF(語言配置表!A3505=\"\",\"CN_待填充内容\",語言配置表!B3505)","v":"CN_待填充内容"}]
[{"$f":"IF(語言配置表!A3506=\"\",\"\",語言配置表!A3506)","v":""},{"$f":"IF(語言配置表!A3506=\"\",\"CN_待填充内容\",語言配置表!B3506)","v":"CN_待填充内容"}]
[{"$f":"IF(語言配置表!A3507=\"\",\"\",語言配置表!A3507)","v":""},{"$f":"IF(語言配置表!A3507=\"\",\"CN_待填充内容\",語言配置表!B3507)","v":"CN_待填充内容"}]
[{"$f":"IF(語言配置表!A3508=\"\",\"\",語言配置表!A3508)","v":""},{"$f":"IF(語言配置表!A3508=\"\",\"CN_待填充内容\",語言配置表!B3508)","v":"CN_待填充内容"}]
[{"$f":"IF(語言配置表!A3509=\"\",\"\",語言配置表!A3509)","v":""},{"$f":"IF(語言配置表!A3509=\"\",\"CN_待填充内容\",語言配置表!B3509)","v":"CN_待填充内容"}]
[{"$f":"IF(語言配置表!A3510=\"\",\"\",語言配置表!A3510)","v":""},{"$f":"IF(語言配置表!A3510=\"\",\"CN_待填充内容\",語言配置表!B3510)","v":"CN_待填充内容"}]
[{"$f":"IF(語言配置表!A3511=\"\",\"\",語言配置表!A3511)","v":""},{"$f":"IF(語言配置表!A3511=\"\",\"CN_待填充内容\",語言配置表!B3511)","v":"CN_待填充内容"}]
[{"$f":"IF(語言配置表!A3512=\"\",\"\",語言配置表!A3512)","v":""},{"$f":"IF(語言配置表!A3512=\"\",\"CN_待填充内容\",語言配置表!B3512)","v":"CN_待填充内容"}]
[{"$f":"IF(語言配置表!A3513=\"\",\"\",語言配置表!A3513)","v":""},{"$f":"IF(語言配置表!A3513=\"\",\"CN_待填充内容\",語言配置表!B3513)","v":"CN_待填充内容"}]
[{"$f":"IF(語言配置表!A3514=\"\",\"\",語言配置表!A3514)","v":""},{"$f":"IF(語言配置表!A3514=\"\",\"CN_待填充内容\",語言配置表!B3514)","v":"CN_待填充内容"}]
[{"$f":"IF(語言配置表!A3515=\"\",\"\",語言配置表!A3515)","v":""},{"$f":"IF(語言配置表!A3515=\"\",\"CN_待填充内容\",語言配置表!B3515)","v":"CN_待填充内容"}]
[{"$f":"IF(語言配置表!A3516=\"\",\"\",語言配置表!A3516)","v":""},{"$f":"IF(語言配置表!A3516=\"\",\"CN_待填充内容\",語言配置表!B3516)","v":"CN_待填充内容"}]
[{"$f":"IF(語言配置表!A3517=\"\",\"\",語言配置表!A3517)","v":""},{"$f":"IF(語言配置表!A3517=\"\",\"CN_待填充内容\",語言配置表!B3517)","v":"CN_待填充内容"}]
[{"$f":"IF(語言配置表!A3518=\"\",\"\",語言配置表!A3518)","v":""},{"$f":"IF(語言配置表!A3518=\"\",\"CN_待填充内容\",語言配置表!B3518)","v":"CN_待填充内容"}]
[{"$f":"IF(語言配置表!A3519=\"\",\"\",語言配置表!A3519)","v":""},{"$f":"IF(語言配置表!A3519=\"\",\"CN_待填充内容\",語言配置表!B3519)","v":"CN_待填充内容"}]
[{"$f":"IF(語言配置表!A3520=\"\",\"\",語言配置表!A3520)","v":""},{"$f":"IF(語言配置表!A3520=\"\",\"CN_待填充内容\",語言配置表!B3520)","v":"CN_待填充内容"}]
[{"$f":"IF(語言配置表!A3521=\"\",\"\",語言配置表!A3521)","v":""},{"$f":"IF(語言配置表!A3521=\"\",\"CN_待填充内容\",語言配置表!B3521)","v":"CN_待填充内容"}]
[{"$f":"IF(語言配置表!A3522=\"\",\"\",語言配置表!A3522)","v":""},{"$f":"IF(語言配置表!A3522=\"\",\"CN_待填充内容\",語言配置表!B3522)","v":"CN_待填充内容"}]
[{"$f":"IF(語言配置表!A3523=\"\",\"\",語言配置表!A3523)","v":""},{"$f":"IF(語言配置表!A3523=\"\",\"CN_待填充内容\",語言配置表!B3523)","v":"CN_待填充内容"}]
[{"$f":"IF(語言配置表!A3524=\"\",\"\",語言配置表!A3524)","v":""},{"$f":"IF(語言配置表!A3524=\"\",\"CN_待填充内容\",語言配置表!B3524)","v":"CN_待填充内容"}]
[{"$f":"IF(語言配置表!A3525=\"\",\"\",語言配置表!A3525)","v":""},{"$f":"IF(語言配置表!A3525=\"\",\"CN_待填充内容\",語言配置表!B3525)","v":"CN_待填充内容"}]
[{"$f":"IF(語言配置表!A3526=\"\",\"\",語言配置表!A3526)","v":""},{"$f":"IF(語言配置表!A3526=\"\",\"CN_待填充内容\",語言配置表!B3526)","v":"CN_待填充内容"}]
[{"$f":"IF(語言配置表!A3527=\"\",\"\",語言配置表!A3527)","v":""},{"$f":"IF(語言配置表!A3527=\"\",\"CN_待填充内容\",語言配置表!B3527)","v":"CN_待填充内容"}]
[{"$f":"IF(語言配置表!A3528=\"\",\"\",語言配置表!A3528)","v":""},{"$f":"IF(語言配置表!A3528=\"\",\"CN_待填充内容\",語言配置表!B3528)","v":"CN_待填充内容"}]
[{"$f":"IF(語言配置表!A3529=\"\",\"\",語言配置表!A3529)","v":""},{"$f":"IF(語言配置表!A3529=\"\",\"CN_待填充内容\",語言配置表!B3529)","v":"CN_待填充内容"}]
[{"$f":"IF(語言配置表!A3530=\"\",\"\",語言配置表!A3530)","v":""},{"$f":"IF(語言配置表!A3530=\"\",\"CN_待填充内容\",語言配置表!B3530)","v":"CN_待填充内容"}]
[{"$f":"IF(語言配置表!A3531=\"\",\"\",語言配置表!A3531)","v":""},{"$f":"IF(語言配置表!A3531=\"\",\"CN_待填充内容\",語言配置表!B3531)","v":"CN_待填充内容"}]
[{"$f":"IF(語言配置表!A3532=\"\",\"\",語言配置表!A3532)","v":""},{"$f":"IF(語言配置表!A3532=\"\",\"CN_待填充内容\",語言配置表!B3532)","v":"CN_待填充内容"}]
[{"$f":"IF(語言配置表!A3533=\"\",\"\",語言配置表!A3533)","v":""},{"$f":"IF(語言配置表!A3533=\"\",\"CN_待填充内容\",語言配置表!B3533)","v":"CN_待填充内容"}]
[{"$f":"IF(語言配置表!A3534=\"\",\"\",語言配置表!A3534)","v":""},{"$f":"IF(語言配置表!A3534=\"\",\"CN_待填充内容\",語言配置表!B3534)","v":"CN_待填充内容"}]
[{"$f":"IF(語言配置表!A3535=\"\",\"\",語言配置表!A3535)","v":""},{"$f":"IF(語言配置表!A3535=\"\",\"CN_待填充内容\",語言配置表!B3535)","v":"CN_待填充内容"}]
[{"$f":"IF(語言配置表!A3536=\"\",\"\",語言配置表!A3536)","v":""},{"$f":"IF(語言配置表!A3536=\"\",\"CN_待填充内容\",語言配置表!B3536)","v":"CN_待填充内容"}]
[{"$f":"IF(語言配置表!A3537=\"\",\"\",語言配置表!A3537)","v":""},{"$f":"IF(語言配置表!A3537=\"\",\"CN_待填充内容\",語言配置表!B3537)","v":"CN_待填充内容"}]
[{"$f":"IF(語言配置表!A3538=\"\",\"\",語言配置表!A3538)","v":""},{"$f":"IF(語言配置表!A3538=\"\",\"CN_待填充内容\",語言配置表!B3538)","v":"CN_待填充内容"}]
[{"$f":"IF(語言配置表!A3539=\"\",\"\",語言配置表!A3539)","v":""},{"$f":"IF(語言配置表!A3539=\"\",\"CN_待填充内容\",語言配置表!B3539)","v":"CN_待填充内容"}]
[{"$f":"IF(語言配置表!A3540=\"\",\"\",語言配置表!A3540)","v":""},{"$f":"IF(語言配置表!A3540=\"\",\"CN_待填充内容\",語言配置表!B3540)","v":"CN_待填充内容"}]
[{"$f":"IF(語言配置表!A3541=\"\",\"\",語言配置表!A3541)","v":""},{"$f":"IF(語言配置表!A3541=\"\",\"CN_待填充内容\",語言配置表!B3541)","v":"CN_待填充内容"}]
[{"$f":"IF(語言配置表!A3542=\"\",\"\",語言配置表!A3542)","v":""},{"$f":"IF(語言配置表!A3542=\"\",\"CN_待填充内容\",語言配置表!B3542)","v":"CN_待填充内容"}]
[{"$f":"IF(語言配置表!A3543=\"\",\"\",語言配置表!A3543)","v":""},{"$f":"IF(語言配置表!A3543=\"\",\"CN_待填充内容\",語言配置表!B3543)","v":"CN_待填充内容"}]
[{"$f":"IF(語言配置表!A3544=\"\",\"\",語言配置表!A3544)","v":""},{"$f":"IF(語言配置表!A3544=\"\",\"CN_待填充内容\",語言配置表!B3544)","v":"CN_待填充内容"}]
[{"$f":"IF(語言配置表!A3545=\"\",\"\",語言配置表!A3545)","v":""},{"$f":"IF(語言配置表!A3545=\"\",\"CN_待填充内容\",語言配置表!B3545)","v":"CN_待填充内容"}]
[{"$f":"IF(語言配置表!A3546=\"\",\"\",語言配置表!A3546)","v":""},{"$f":"IF(語言配置表!A3546=\"\",\"CN_待填充内容\",語言配置表!B3546)","v":"CN_待填充内容"}]
[{"$f":"IF(語言配置表!A3547=\"\",\"\",語言配置表!A3547)","v":""},{"$f":"IF(語言配置表!A3547=\"\",\"CN_待填充内容\",語言配置表!B3547)","v":"CN_待填充内容"}]
[{"$f":"IF(語言配置表!A3548=\"\",\"\",語言配置表!A3548)","v":""},{"$f":"IF(語言配置表!A3548=\"\",\"CN_待填充内容\",語言配置表!B3548)","v":"CN_待填充内容"}]
[{"$f":"IF(語言配置表!A3549=\"\",\"\",語言配置表!A3549)","v":""},{"$f":"IF(語言配置表!A3549=\"\",\"CN_待填充内容\",語言配置表!B3549)","v":"CN_待填充内容"}]
[{"$f":"IF(語言配置表!A3550=\"\",\"\",語言配置表!A3550)","v":""},{"$f":"IF(語言配置表!A3550=\"\",\"CN_待填充内容\",語言配置表!B3550)","v":"CN_待填充内容"}]
[{"$f":"IF(語言配置表!A3551=\"\",\"\",語言配置表!A3551)","v":""},{"$f":"IF(語言配置表!A3551=\"\",\"CN_待填充内容\",語言配置表!B3551)","v":"CN_待填充内容"}]
[{"$f":"IF(語言配置表!A3552=\"\",\"\",語言配置表!A3552)","v":""},{"$f":"IF(語言配置表!A3552=\"\",\"CN_待填充内容\",語言配置表!B3552)","v":"CN_待填充内容"}]
[{"$f":"IF(語言配置表!A3553=\"\",\"\",語言配置表!A3553)","v":""},{"$f":"IF(語言配置表!A3553=\"\",\"CN_待填充内容\",語言配置表!B3553)","v":"CN_待填充内容"}]
[{"$f":"IF(語言配置表!A3554=\"\",\"\",語言配置表!A3554)","v":""},{"$f":"IF(語言配置表!A3554=\"\",\"CN_待填充内容\",語言配置表!B3554)","v":"CN_待填充内容"}]
[{"$f":"IF(語言配置表!A3555=\"\",\"\",語言配置表!A3555)","v":""},{"$f":"IF(語言配置表!A3555=\"\",\"CN_待填充内容\",語言配置表!B3555)","v":"CN_待填充内容"}]
[{"$f":"IF(語言配置表!A3556=\"\",\"\",語言配置表!A3556)","v":""},{"$f":"IF(語言配置表!A3556=\"\",\"CN_待填充内容\",語言配置表!B3556)","v":"CN_待填充内容"}]
[{"$f":"IF(語言配置表!A3557=\"\",\"\",語言配置表!A3557)","v":""},{"$f":"IF(語言配置表!A3557=\"\",\"CN_待填充内容\",語言配置表!B3557)","v":"CN_待填充内容"}]
[{"$f":"IF(語言配置表!A3558=\"\",\"\",語言配置表!A3558)","v":""},{"$f":"IF(語言配置表!A3558=\"\",\"CN_待填充内容\",語言配置表!B3558)","v":"CN_待填充内容"}]
[{"$f":"IF(語言配置表!A3559=\"\",\"\",語言配置表!A3559)","v":""},{"$f":"IF(語言配置表!A3559=\"\",\"CN_待填充内容\",語言配置表!B3559)","v":"CN_待填充内容"}]
[{"$f":"IF(語言配置表!A3560=\"\",\"\",語言配置表!A3560)","v":""},{"$f":"IF(語言配置表!A3560=\"\",\"CN_待填充内容\",語言配置表!B3560)","v":"CN_待填充内容"}]
[{"$f":"IF(語言配置表!A3561=\"\",\"\",語言配置表!A3561)","v":""},{"$f":"IF(語言配置表!A3561=\"\",\"CN_待填充内容\",語言配置表!B3561)","v":"CN_待填充内容"}]
[{"$f":"IF(語言配置表!A3562=\"\",\"\",語言配置表!A3562)","v":""},{"$f":"IF(語言配置表!A3562=\"\",\"CN_待填充内容\",語言配置表!B3562)","v":"CN_待填充内容"}]
[{"$f":"IF(語言配置表!A3563=\"\",\"\",語言配置表!A3563)","v":""},{"$f":"IF(語言配置表!A3563=\"\",\"CN_待填充内容\",語言配置表!B3563)","v":"CN_待填充内容"}]
[{"$f":"IF(語言配置表!A3564=\"\",\"\",語言配置表!A3564)","v":""},{"$f":"IF(語言配置表!A3564=\"\",\"CN_待填充内容\",語言配置表!B3564)","v":"CN_待填充内容"}]
[{"$f":"IF(語言配置表!A3565=\"\",\"\",語言配置表!A3565)","v":""},{"$f":"IF(語言配置表!A3565=\"\",\"CN_待填充内容\",語言配置表!B3565)","v":"CN_待填充内容"}]
[{"$f":"IF(語言配置表!A3566=\"\",\"\",語言配置表!A3566)","v":""},{"$f":"IF(語言配置表!A3566=\"\",\"CN_待填充内容\",語言配置表!B3566)","v":"CN_待填充内容"}]
[{"$f":"IF(語言配置表!A3567=\"\",\"\",語言配置表!A3567)","v":""},{"$f":"IF(語言配置表!A3567=\"\",\"CN_待填充内容\",語言配置表!B3567)","v":"CN_待填充内容"}]
[{"$f":"IF(語言配置表!A3568=\"\",\"\",語言配置表!A3568)","v":""},{"$f":"IF(語言配置表!A3568=\"\",\"CN_待填充内容\",語言配置表!B3568)","v":"CN_待填充内容"}]
[{"$f":"IF(語言配置表!A3569=\"\",\"\",語言配置表!A3569)","v":""},{"$f":"IF(語言配置表!A3569=\"\",\"CN_待填充内容\",語言配置表!B3569)","v":"CN_待填充内容"}]
[{"$f":"IF(語言配置表!A3570=\"\",\"\",語言配置表!A3570)","v":""},{"$f":"IF(語言配置表!A3570=\"\",\"CN_待填充内容\",語言配置表!B3570)","v":"CN_待填充内容"}]
[{"$f":"IF(語言配置表!A3571=\"\",\"\",語言配置表!A3571)","v":""},{"$f":"IF(語言配置表!A3571=\"\",\"CN_待填充内容\",語言配置表!B3571)","v":"CN_待填充内容"}]
[{"$f":"IF(語言配置表!A3572=\"\",\"\",語言配置表!A3572)","v":""},{"$f":"IF(語言配置表!A3572=\"\",\"CN_待填充内容\",語言配置表!B3572)","v":"CN_待填充内容"}]
[{"$f":"IF(語言配置表!A3573=\"\",\"\",語言配置表!A3573)","v":""},{"$f":"IF(語言配置表!A3573=\"\",\"CN_待填充内容\",語言配置表!B3573)","v":"CN_待填充内容"}]
[{"$f":"IF(語言配置表!A3574=\"\",\"\",語言配置表!A3574)","v":""},{"$f":"IF(語言配置表!A3574=\"\",\"CN_待填充内容\",語言配置表!B3574)","v":"CN_待填充内容"}]
[{"$f":"IF(語言配置表!A3575=\"\",\"\",語言配置表!A3575)","v":""},{"$f":"IF(語言配置表!A3575=\"\",\"CN_待填充内容\",語言配置表!B3575)","v":"CN_待填充内容"}]
[{"$f":"IF(語言配置表!A3576=\"\",\"\",語言配置表!A3576)","v":""},{"$f":"IF(語言配置表!A3576=\"\",\"CN_待填充内容\",語言配置表!B3576)","v":"CN_待填充内容"}]
[{"$f":"IF(語言配置表!A3577=\"\",\"\",語言配置表!A3577)","v":""},{"$f":"IF(語言配置表!A3577=\"\",\"CN_待填充内容\",語言配置表!B3577)","v":"CN_待填充内容"}]
[{"$f":"IF(語言配置表!A3578=\"\",\"\",語言配置表!A3578)","v":""},{"$f":"IF(語言配置表!A3578=\"\",\"CN_待填充内容\",語言配置表!B3578)","v":"CN_待填充内容"}]
[{"$f":"IF(語言配置表!A3579=\"\",\"\",語言配置表!A3579)","v":""},{"$f":"IF(語言配置表!A3579=\"\",\"CN_待填充内容\",語言配置表!B3579)","v":"CN_待填充内容"}]
[{"$f":"IF(語言配置表!A3580=\"\",\"\",語言配置表!A3580)","v":""},{"$f":"IF(語言配置表!A3580=\"\",\"CN_待填充内容\",語言配置表!B3580)","v":"CN_待填充内容"}]
[{"$f":"IF(語言配置表!A3581=\"\",\"\",語言配置表!A3581)","v":""},{"$f":"IF(語言配置表!A3581=\"\",\"CN_待填充内容\",語言配置表!B3581)","v":"CN_待填充内容"}]
[{"$f":"IF(語言配置表!A3582=\"\",\"\",語言配置表!A3582)","v":""},{"$f":"IF(語言配置表!A3582=\"\",\"CN_待填充内容\",語言配置表!B3582)","v":"CN_待填充内容"}]
[{"$f":"IF(語言配置表!A3583=\"\",\"\",語言配置表!A3583)","v":""},{"$f":"IF(語言配置表!A3583=\"\",\"CN_待填充内容\",語言配置表!B3583)","v":"CN_待填充内容"}]
[{"$f":"IF(語言配置表!A3584=\"\",\"\",語言配置表!A3584)","v":""},{"$f":"IF(語言配置表!A3584=\"\",\"CN_待填充内容\",語言配置表!B3584)","v":"CN_待填充内容"}]
[{"$f":"IF(語言配置表!A3585=\"\",\"\",語言配置表!A3585)","v":""},{"$f":"IF(語言配置表!A3585=\"\",\"CN_待填充内容\",語言配置表!B3585)","v":"CN_待填充内容"}]
[{"$f":"IF(語言配置表!A3586=\"\",\"\",語言配置表!A3586)","v":""},{"$f":"IF(語言配置表!A3586=\"\",\"CN_待填充内容\",語言配置表!B3586)","v":"CN_待填充内容"}]
[{"$f":"IF(語言配置表!A3587=\"\",\"\",語言配置表!A3587)","v":""},{"$f":"IF(語言配置表!A3587=\"\",\"CN_待填充内容\",語言配置表!B3587)","v":"CN_待填充内容"}]
[{"$f":"IF(語言配置表!A3588=\"\",\"\",語言配置表!A3588)","v":""},{"$f":"IF(語言配置表!A3588=\"\",\"CN_待填充内容\",語言配置表!B3588)","v":"CN_待填充内容"}]
[{"$f":"IF(語言配置表!A3589=\"\",\"\",語言配置表!A3589)","v":""},{"$f":"IF(語言配置表!A3589=\"\",\"CN_待填充内容\",語言配置表!B3589)","v":"CN_待填充内容"}]
[{"$f":"IF(語言配置表!A3590=\"\",\"\",語言配置表!A3590)","v":""},{"$f":"IF(語言配置表!A3590=\"\",\"CN_待填充内容\",語言配置表!B3590)","v":"CN_待填充内容"}]
[{"$f":"IF(語言配置表!A3591=\"\",\"\",語言配置表!A3591)","v":""},{"$f":"IF(語言配置表!A3591=\"\",\"CN_待填充内容\",語言配置表!B3591)","v":"CN_待填充内容"}]
[{"$f":"IF(語言配置表!A3592=\"\",\"\",語言配置表!A3592)","v":""},{"$f":"IF(語言配置表!A3592=\"\",\"CN_待填充内容\",語言配置表!B3592)","v":"CN_待填充内容"}]
[{"$f":"IF(語言配置表!A3593=\"\",\"\",語言配置表!A3593)","v":""},{"$f":"IF(語言配置表!A3593=\"\",\"CN_待填充内容\",語言配置表!B3593)","v":"CN_待填充内容"}]
[{"$f":"IF(語言配置表!A3594=\"\",\"\",語言配置表!A3594)","v":""},{"$f":"IF(語言配置表!A3594=\"\",\"CN_待填充内容\",語言配置表!B3594)","v":"CN_待填充内容"}]
[{"$f":"IF(語言配置表!A3595=\"\",\"\",語言配置表!A3595)","v":""},{"$f":"IF(語言配置表!A3595=\"\",\"CN_待填充内容\",語言配置表!B3595)","v":"CN_待填充内容"}]
[{"$f":"IF(語言配置表!A3596=\"\",\"\",語言配置表!A3596)","v":""},{"$f":"IF(語言配置表!A3596=\"\",\"CN_待填充内容\",語言配置表!B3596)","v":"CN_待填充内容"}]
[{"$f":"IF(語言配置表!A3597=\"\",\"\",語言配置表!A3597)","v":""},{"$f":"IF(語言配置表!A3597=\"\",\"CN_待填充内容\",語言配置表!B3597)","v":"CN_待填充内容"}]
[{"$f":"IF(語言配置表!A3598=\"\",\"\",語言配置表!A3598)","v":""},{"$f":"IF(語言配置表!A3598=\"\",\"CN_待填充内容\",語言配置表!B3598)","v":"CN_待填充内容"}]
[{"$f":"IF(語言配置表!A3599=\"\",\"\",語言配置表!A3599)","v":""},{"$f":"IF(語言配置表!A3599=\"\",\"CN_待填充内容\",語言配置表!B3599)","v":"CN_待填充内容"}]
[{"$f":"IF(語言配置表!A3600=\"\",\"\",語言配置表!A3600)","v":""},{"$f":"IF(語言配置表!A3600=\"\",\"CN_待填充内容\",語言配置表!B3600)","v":"CN_待填充内容"}]
[{"$f":"IF(語言配置表!A3601=\"\",\"\",語言配置表!A3601)","v":""},{"$f":"IF(語言配置表!A3601=\"\",\"CN_待填充内容\",語言配置表!B3601)","v":"CN_待填充内容"}]
[{"$f":"IF(語言配置表!A3602=\"\",\"\",語言配置表!A3602)","v":""},{"$f":"IF(語言配置表!A3602=\"\",\"CN_待填充内容\",語言配置表!B3602)","v":"CN_待填充内容"}]
[{"$f":"IF(語言配置表!A3603=\"\",\"\",語言配置表!A3603)","v":""},{"$f":"IF(語言配置表!A3603=\"\",\"CN_待填充内容\",語言配置表!B3603)","v":"CN_待填充内容"}]
[{"$f":"IF(語言配置表!A3604=\"\",\"\",語言配置表!A3604)","v":""},{"$f":"IF(語言配置表!A3604=\"\",\"CN_待填充内容\",語言配置表!B3604)","v":"CN_待填充内容"}]
[{"$f":"IF(語言配置表!A3605=\"\",\"\",語言配置表!A3605)","v":""},{"$f":"IF(語言配置表!A3605=\"\",\"CN_待填充内容\",語言配置表!B3605)","v":"CN_待填充内容"}]
[{"$f":"IF(語言配置表!A3606=\"\",\"\",語言配置表!A3606)","v":""},{"$f":"IF(語言配置表!A3606=\"\",\"CN_待填充内容\",語言配置表!B3606)","v":"CN_待填充内容"}]
[{"$f":"IF(語言配置表!A3607=\"\",\"\",語言配置表!A3607)","v":""},{"$f":"IF(語言配置表!A3607=\"\",\"CN_待填充内容\",語言配置表!B3607)","v":"CN_待填充内容"}]
[{"$f":"IF(語言配置表!A3608=\"\",\"\",語言配置表!A3608)","v":""},{"$f":"IF(語言配置表!A3608=\"\",\"CN_待填充内容\",語言配置表!B3608)","v":"CN_待填充内容"}]
[{"$f":"IF(語言配置表!A3609=\"\",\"\",語言配置表!A3609)","v":""},{"$f":"IF(語言配置表!A3609=\"\",\"CN_待填充内容\",語言配置表!B3609)","v":"CN_待填充内容"}]
[{"$f":"IF(語言配置表!A3610=\"\",\"\",語言配置表!A3610)","v":""},{"$f":"IF(語言配置表!A3610=\"\",\"CN_待填充内容\",語言配置表!B3610)","v":"CN_待填充内容"}]
[{"$f":"IF(語言配置表!A3611=\"\",\"\",語言配置表!A3611)","v":""},{"$f":"IF(語言配置表!A3611=\"\",\"CN_待填充内容\",語言配置表!B3611)","v":"CN_待填充内容"}]
[{"$f":"IF(語言配置表!A3612=\"\",\"\",語言配置表!A3612)","v":""},{"$f":"IF(語言配置表!A3612=\"\",\"CN_待填充内容\",語言配置表!B3612)","v":"CN_待填充内容"}]
[{"$f":"IF(語言配置表!A3613=\"\",\"\",語言配置表!A3613)","v":""},{"$f":"IF(語言配置表!A3613=\"\",\"CN_待填充内容\",語言配置表!B3613)","v":"CN_待填充内容"}]
[{"$f":"IF(語言配置表!A3614=\"\",\"\",語言配置表!A3614)","v":""},{"$f":"IF(語言配置表!A3614=\"\",\"CN_待填充内容\",語言配置表!B3614)","v":"CN_待填充内容"}]
[{"$f":"IF(語言配置表!A3615=\"\",\"\",語言配置表!A3615)","v":""},{"$f":"IF(語言配置表!A3615=\"\",\"CN_待填充内容\",語言配置表!B3615)","v":"CN_待填充内容"}]
[{"$f":"IF(語言配置表!A3616=\"\",\"\",語言配置表!A3616)","v":""},{"$f":"IF(語言配置表!A3616=\"\",\"CN_待填充内容\",語言配置表!B3616)","v":"CN_待填充内容"}]
[{"$f":"IF(語言配置表!A3617=\"\",\"\",語言配置表!A3617)","v":""},{"$f":"IF(語言配置表!A3617=\"\",\"CN_待填充内容\",語言配置表!B3617)","v":"CN_待填充内容"}]
[{"$f":"IF(語言配置表!A3618=\"\",\"\",語言配置表!A3618)","v":""},{"$f":"IF(語言配置表!A3618=\"\",\"CN_待填充内容\",語言配置表!B3618)","v":"CN_待填充内容"}]
[{"$f":"IF(語言配置表!A3619=\"\",\"\",語言配置表!A3619)","v":""},{"$f":"IF(語言配置表!A3619=\"\",\"CN_待填充内容\",語言配置表!B3619)","v":"CN_待填充内容"}]
[{"$f":"IF(語言配置表!A3620=\"\",\"\",語言配置表!A3620)","v":""},{"$f":"IF(語言配置表!A3620=\"\",\"CN_待填充内容\",語言配置表!B3620)","v":"CN_待填充内容"}]
[{"$f":"IF(語言配置表!A3621=\"\",\"\",語言配置表!A3621)","v":""},{"$f":"IF(語言配置表!A3621=\"\",\"CN_待填充内容\",語言配置表!B3621)","v":"CN_待填充内容"}]
[{"$f":"IF(語言配置表!A3622=\"\",\"\",語言配置表!A3622)","v":""},{"$f":"IF(語言配置表!A3622=\"\",\"CN_待填充内容\",語言配置表!B3622)","v":"CN_待填充内容"}]
[{"$f":"IF(語言配置表!A3623=\"\",\"\",語言配置表!A3623)","v":""},{"$f":"IF(語言配置表!A3623=\"\",\"CN_待填充内容\",語言配置表!B3623)","v":"CN_待填充内容"}]
[{"$f":"IF(語言配置表!A3624=\"\",\"\",語言配置表!A3624)","v":""},{"$f":"IF(語言配置表!A3624=\"\",\"CN_待填充内容\",語言配置表!B3624)","v":"CN_待填充内容"}]
[{"$f":"IF(語言配置表!A3625=\"\",\"\",語言配置表!A3625)","v":""},{"$f":"IF(語言配置表!A3625=\"\",\"CN_待填充内容\",語言配置表!B3625)","v":"CN_待填充内容"}]
[{"$f":"IF(語言配置表!A3626=\"\",\"\",語言配置表!A3626)","v":""},{"$f":"IF(語言配置表!A3626=\"\",\"CN_待填充内容\",語言配置表!B3626)","v":"CN_待填充内容"}]
[{"$f":"IF(語言配置表!A3627=\"\",\"\",語言配置表!A3627)","v":""},{"$f":"IF(語言配置表!A3627=\"\",\"CN_待填充内容\",語言配置表!B3627)","v":"CN_待填充内容"}]
[{"$f":"IF(語言配置表!A3628=\"\",\"\",語言配置表!A3628)","v":""},{"$f":"IF(語言配置表!A3628=\"\",\"CN_待填充内容\",語言配置表!B3628)","v":"CN_待填充内容"}]
[{"$f":"IF(語言配置表!A3629=\"\",\"\",語言配置表!A3629)","v":""},{"$f":"IF(語言配置表!A3629=\"\",\"CN_待填充内容\",語言配置表!B3629)","v":"CN_待填充内容"}]
[{"$f":"IF(語言配置表!A3630=\"\",\"\",語言配置表!A3630)","v":""},{"$f":"IF(語言配置表!A3630=\"\",\"CN_待填充内容\",語言配置表!B3630)","v":"CN_待填充内容"}]
[{"$f":"IF(語言配置表!A3631=\"\",\"\",語言配置表!A3631)","v":""},{"$f":"IF(語言配置表!A3631=\"\",\"CN_待填充内容\",語言配置表!B3631)","v":"CN_待填充内容"}]
[{"$f":"IF(語言配置表!A3632=\"\",\"\",語言配置表!A3632)","v":""},{"$f":"IF(語言配置表!A3632=\"\",\"CN_待填充内容\",語言配置表!B3632)","v":"CN_待填充内容"}]
[{"$f":"IF(語言配置表!A3633=\"\",\"\",語言配置表!A3633)","v":""},{"$f":"IF(語言配置表!A3633=\"\",\"CN_待填充内容\",語言配置表!B3633)","v":"CN_待填充内容"}]
[{"$f":"IF(語言配置表!A3634=\"\",\"\",語言配置表!A3634)","v":""},{"$f":"IF(語言配置表!A3634=\"\",\"CN_待填充内容\",語言配置表!B3634)","v":"CN_待填充内容"}]
[{"$f":"IF(語言配置表!A3635=\"\",\"\",語言配置表!A3635)","v":""},{"$f":"IF(語言配置表!A3635=\"\",\"CN_待填充内容\",語言配置表!B3635)","v":"CN_待填充内容"}]
[{"$f":"IF(語言配置表!A3636=\"\",\"\",語言配置表!A3636)","v":""},{"$f":"IF(語言配置表!A3636=\"\",\"CN_待填充内容\",語言配置表!B3636)","v":"CN_待填充内容"}]
[{"$f":"IF(語言配置表!A3637=\"\",\"\",語言配置表!A3637)","v":""},{"$f":"IF(語言配置表!A3637=\"\",\"CN_待填充内容\",語言配置表!B3637)","v":"CN_待填充内容"}]
[{"$f":"IF(語言配置表!A3638=\"\",\"\",語言配置表!A3638)","v":""},{"$f":"IF(語言配置表!A3638=\"\",\"CN_待填充内容\",語言配置表!B3638)","v":"CN_待填充内容"}]
[{"$f":"IF(語言配置表!A3639=\"\",\"\",語言配置表!A3639)","v":""},{"$f":"IF(語言配置表!A3639=\"\",\"CN_待填充内容\",語言配置表!B3639)","v":"CN_待填充内容"}]
[{"$f":"IF(語言配置表!A3640=\"\",\"\",語言配置表!A3640)","v":""},{"$f":"IF(語言配置表!A3640=\"\",\"CN_待填充内容\",語言配置表!B3640)","v":"CN_待填充内容"}]
[{"$f":"IF(語言配置表!A3641=\"\",\"\",語言配置表!A3641)","v":""},{"$f":"IF(語言配置表!A3641=\"\",\"CN_待填充内容\",語言配置表!B3641)","v":"CN_待填充内容"}]
[{"$f":"IF(語言配置表!A3642=\"\",\"\",語言配置表!A3642)","v":""},{"$f":"IF(語言配置表!A3642=\"\",\"CN_待填充内容\",語言配置表!B3642)","v":"CN_待填充内容"}]
[{"$f":"IF(語言配置表!A3643=\"\",\"\",語言配置表!A3643)","v":""},{"$f":"IF(語言配置表!A3643=\"\",\"CN_待填充内容\",語言配置表!B3643)","v":"CN_待填充内容"}]
[{"$f":"IF(語言配置表!A3644=\"\",\"\",語言配置表!A3644)","v":""},{"$f":"IF(語言配置表!A3644=\"\",\"CN_待填充内容\",語言配置表!B3644)","v":"CN_待填充内容"}]
[{"$f":"IF(語言配置表!A3645=\"\",\"\",語言配置表!A3645)","v":""},{"$f":"IF(語言配置表!A3645=\"\",\"CN_待填充内容\",語言配置表!B3645)","v":"CN_待填充内容"}]
[{"$f":"IF(語言配置表!A3646=\"\",\"\",語言配置表!A3646)","v":""},{"$f":"IF(語言配置表!A3646=\"\",\"CN_待填充内容\",語言配置表!B3646)","v":"CN_待填充内容"}]
[{"$f":"IF(語言配置表!A3647=\"\",\"\",語言配置表!A3647)","v":""},{"$f":"IF(語言配置表!A3647=\"\",\"CN_待填充内容\",語言配置表!B3647)","v":"CN_待填充内容"}]
[{"$f":"IF(語言配置表!A3648=\"\",\"\",語言配置表!A3648)","v":""},{"$f":"IF(語言配置表!A3648=\"\",\"CN_待填充内容\",語言配置表!B3648)","v":"CN_待填充内容"}]
[{"$f":"IF(語言配置表!A3649=\"\",\"\",語言配置表!A3649)","v":""},{"$f":"IF(語言配置表!A3649=\"\",\"CN_待填充内容\",語言配置表!B3649)","v":"CN_待填充内容"}]
[{"$f":"IF(語言配置表!A3650=\"\",\"\",語言配置表!A3650)","v":""},{"$f":"IF(語言配置表!A3650=\"\",\"CN_待填充内容\",語言配置表!B3650)","v":"CN_待填充内容"}]
[{"$f":"IF(語言配置表!A3651=\"\",\"\",語言配置表!A3651)","v":""},{"$f":"IF(語言配置表!A3651=\"\",\"CN_待填充内容\",語言配置表!B3651)","v":"CN_待填充内容"}]
[{"$f":"IF(語言配置表!A3652=\"\",\"\",語言配置表!A3652)","v":""},{"$f":"IF(語言配置表!A3652=\"\",\"CN_待填充内容\",語言配置表!B3652)","v":"CN_待填充内容"}]
[{"$f":"IF(語言配置表!A3653=\"\",\"\",語言配置表!A3653)","v":""},{"$f":"IF(語言配置表!A3653=\"\",\"CN_待填充内容\",語言配置表!B3653)","v":"CN_待填充内容"}]
[{"$f":"IF(語言配置表!A3654=\"\",\"\",語言配置表!A3654)","v":""},{"$f":"IF(語言配置表!A3654=\"\",\"CN_待填充内容\",語言配置表!B3654)","v":"CN_待填充内容"}]
[{"$f":"IF(語言配置表!A3655=\"\",\"\",語言配置表!A3655)","v":""},{"$f":"IF(語言配置表!A3655=\"\",\"CN_待填充内容\",語言配置表!B3655)","v":"CN_待填充内容"}]
[{"$f":"IF(語言配置表!A3656=\"\",\"\",語言配置表!A3656)","v":""},{"$f":"IF(語言配置表!A3656=\"\",\"CN_待填充内容\",語言配置表!B3656)","v":"CN_待填充内容"}]
[{"$f":"IF(語言配置表!A3657=\"\",\"\",語言配置表!A3657)","v":""},{"$f":"IF(語言配置表!A3657=\"\",\"CN_待填充内容\",語言配置表!B3657)","v":"CN_待填充内容"}]
[{"$f":"IF(語言配置表!A3658=\"\",\"\",語言配置表!A3658)","v":""},{"$f":"IF(語言配置表!A3658=\"\",\"CN_待填充内容\",語言配置表!B3658)","v":"CN_待填充内容"}]
[{"$f":"IF(語言配置表!A3659=\"\",\"\",語言配置表!A3659)","v":""},{"$f":"IF(語言配置表!A3659=\"\",\"CN_待填充内容\",語言配置表!B3659)","v":"CN_待填充内容"}]
[{"$f":"IF(語言配置表!A3660=\"\",\"\",語言配置表!A3660)","v":""},{"$f":"IF(語言配置表!A3660=\"\",\"CN_待填充内容\",語言配置表!B3660)","v":"CN_待填充内容"}]
[{"$f":"IF(語言配置表!A3661=\"\",\"\",語言配置表!A3661)","v":""},{"$f":"IF(語言配置表!A3661=\"\",\"CN_待填充内容\",語言配置表!B3661)","v":"CN_待填充内容"}]
[{"$f":"IF(語言配置表!A3662=\"\",\"\",語言配置表!A3662)","v":""},{"$f":"IF(語言配置表!A3662=\"\",\"CN_待填充内容\",語言配置表!B3662)","v":"CN_待填充内容"}]
[{"$f":"IF(語言配置表!A3663=\"\",\"\",語言配置表!A3663)","v":""},{"$f":"IF(語言配置表!A3663=\"\",\"CN_待填充内容\",語言配置表!B3663)","v":"CN_待填充内容"}]
[{"$f":"IF(語言配置表!A3664=\"\",\"\",語言配置表!A3664)","v":""},{"$f":"IF(語言配置表!A3664=\"\",\"CN_待填充内容\",語言配置表!B3664)","v":"CN_待填充内容"}]
[{"$f":"IF(語言配置表!A3665=\"\",\"\",語言配置表!A3665)","v":""},{"$f":"IF(語言配置表!A3665=\"\",\"CN_待填充内容\",語言配置表!B3665)","v":"CN_待填充内容"}]
[{"$f":"IF(語言配置表!A3666=\"\",\"\",語言配置表!A3666)","v":""},{"$f":"IF(語言配置表!A3666=\"\",\"CN_待填充内容\",語言配置表!B3666)","v":"CN_待填充内容"}]
[{"$f":"IF(語言配置表!A3667=\"\",\"\",語言配置表!A3667)","v":""},{"$f":"IF(語言配置表!A3667=\"\",\"CN_待填充内容\",語言配置表!B3667)","v":"CN_待填充内容"}]
[{"$f":"IF(語言配置表!A3668=\"\",\"\",語言配置表!A3668)","v":""},{"$f":"IF(語言配置表!A3668=\"\",\"CN_待填充内容\",語言配置表!B3668)","v":"CN_待填充内容"}]
[{"$f":"IF(語言配置表!A3669=\"\",\"\",語言配置表!A3669)","v":""},{"$f":"IF(語言配置表!A3669=\"\",\"CN_待填充内容\",語言配置表!B3669)","v":"CN_待填充内容"}]
[{"$f":"IF(語言配置表!A3670=\"\",\"\",語言配置表!A3670)","v":""},{"$f":"IF(語言配置表!A3670=\"\",\"CN_待填充内容\",語言配置表!B3670)","v":"CN_待填充内容"}]
[{"$f":"IF(語言配置表!A3671=\"\",\"\",語言配置表!A3671)","v":""},{"$f":"IF(語言配置表!A3671=\"\",\"CN_待填充内容\",語言配置表!B3671)","v":"CN_待填充内容"}]
[{"$f":"IF(語言配置表!A3672=\"\",\"\",語言配置表!A3672)","v":""},{"$f":"IF(語言配置表!A3672=\"\",\"CN_待填充内容\",語言配置表!B3672)","v":"CN_待填充内容"}]
[{"$f":"IF(語言配置表!A3673=\"\",\"\",語言配置表!A3673)","v":""},{"$f":"IF(語言配置表!A3673=\"\",\"CN_待填充内容\",語言配置表!B3673)","v":"CN_待填充内容"}]
[{"$f":"IF(語言配置表!A3674=\"\",\"\",語言配置表!A3674)","v":""},{"$f":"IF(語言配置表!A3674=\"\",\"CN_待填充内容\",語言配置表!B3674)","v":"CN_待填充内容"}]
[{"$f":"IF(語言配置表!A3675=\"\",\"\",語言配置表!A3675)","v":""},{"$f":"IF(語言配置表!A3675=\"\",\"CN_待填充内容\",語言配置表!B3675)","v":"CN_待填充内容"}]
[{"$f":"IF(語言配置表!A3676=\"\",\"\",語言配置表!A3676)","v":""},{"$f":"IF(語言配置表!A3676=\"\",\"CN_待填充内容\",語言配置表!B3676)","v":"CN_待填充内容"}]
[{"$f":"IF(語言配置表!A3677=\"\",\"\",語言配置表!A3677)","v":""},{"$f":"IF(語言配置表!A3677=\"\",\"CN_待填充内容\",語言配置表!B3677)","v":"CN_待填充内容"}]
[{"$f":"IF(語言配置表!A3678=\"\",\"\",語言配置表!A3678)","v":""},{"$f":"IF(語言配置表!A3678=\"\",\"CN_待填充内容\",語言配置表!B3678)","v":"CN_待填充内容"}]
[{"$f":"IF(語言配置表!A3679=\"\",\"\",語言配置表!A3679)","v":""},{"$f":"IF(語言配置表!A3679=\"\",\"CN_待填充内容\",語言配置表!B3679)","v":"CN_待填充内容"}]
[{"$f":"IF(語言配置表!A3680=\"\",\"\",語言配置表!A3680)","v":""},{"$f":"IF(語言配置表!A3680=\"\",\"CN_待填充内容\",語言配置表!B3680)","v":"CN_待填充内容"}]
[{"$f":"IF(語言配置表!A3681=\"\",\"\",語言配置表!A3681)","v":""},{"$f":"IF(語言配置表!A3681=\"\",\"CN_待填充内容\",語言配置表!B3681)","v":"CN_待填充内容"}]
[{"$f":"IF(語言配置表!A3682=\"\",\"\",語言配置表!A3682)","v":""},{"$f":"IF(語言配置表!A3682=\"\",\"CN_待填充内容\",語言配置表!B3682)","v":"CN_待填充内容"}]
[{"$f":"IF(語言配置表!A3683=\"\",\"\",語言配置表!A3683)","v":""},{"$f":"IF(語言配置表!A3683=\"\",\"CN_待填充内容\",語言配置表!B3683)","v":"CN_待填充内容"}]
[{"$f":"IF(語言配置表!A3684=\"\",\"\",語言配置表!A3684)","v":""},{"$f":"IF(語言配置表!A3684=\"\",\"CN_待填充内容\",語言配置表!B3684)","v":"CN_待填充内容"}]
[{"$f":"IF(語言配置表!A3685=\"\",\"\",語言配置表!A3685)","v":""},{"$f":"IF(語言配置表!A3685=\"\",\"CN_待填充内容\",語言配置表!B3685)","v":"CN_待填充内容"}]
[{"$f":"IF(語言配置表!A3686=\"\",\"\",語言配置表!A3686)","v":""},{"$f":"IF(語言配置表!A3686=\"\",\"CN_待填充内容\",語言配置表!B3686)","v":"CN_待填充内容"}]
[{"$f":"IF(語言配置表!A3687=\"\",\"\",語言配置表!A3687)","v":""},{"$f":"IF(語言配置表!A3687=\"\",\"CN_待填充内容\",語言配置表!B3687)","v":"CN_待填充内容"}]
[{"$f":"IF(語言配置表!A3688=\"\",\"\",語言配置表!A3688)","v":""},{"$f":"IF(語言配置表!A3688=\"\",\"CN_待填充内容\",語言配置表!B3688)","v":"CN_待填充内容"}]
[{"$f":"IF(語言配置表!A3689=\"\",\"\",語言配置表!A3689)","v":""},{"$f":"IF(語言配置表!A3689=\"\",\"CN_待填充内容\",語言配置表!B3689)","v":"CN_待填充内容"}]
[{"$f":"IF(語言配置表!A3690=\"\",\"\",語言配置表!A3690)","v":""},{"$f":"IF(語言配置表!A3690=\"\",\"CN_待填充内容\",語言配置表!B3690)","v":"CN_待填充内容"}]
[{"$f":"IF(語言配置表!A3691=\"\",\"\",語言配置表!A3691)","v":""},{"$f":"IF(語言配置表!A3691=\"\",\"CN_待填充内容\",語言配置表!B3691)","v":"CN_待填充内容"}]
[{"$f":"IF(語言配置表!A3692=\"\",\"\",語言配置表!A3692)","v":""},{"$f":"IF(語言配置表!A3692=\"\",\"CN_待填充内容\",語言配置表!B3692)","v":"CN_待填充内容"}]
[{"$f":"IF(語言配置表!A3693=\"\",\"\",語言配置表!A3693)","v":""},{"$f":"IF(語言配置表!A3693=\"\",\"CN_待填充内容\",語言配置表!B3693)","v":"CN_待填充内容"}]
[{"$f":"IF(語言配置表!A3694=\"\",\"\",語言配置表!A3694)","v":""},{"$f":"IF(語言配置表!A3694=\"\",\"CN_待填充内容\",語言配置表!B3694)","v":"CN_待填充内容"}]
[{"$f":"IF(語言配置表!A3695=\"\",\"\",語言配置表!A3695)","v":""},{"$f":"IF(語言配置表!A3695=\"\",\"CN_待填充内容\",語言配置表!B3695)","v":"CN_待填充内容"}]
[{"$f":"IF(語言配置表!A3696=\"\",\"\",語言配置表!A3696)","v":""},{"$f":"IF(語言配置表!A3696=\"\",\"CN_待填充内容\",語言配置表!B3696)","v":"CN_待填充内容"}]
[{"$f":"IF(語言配置表!A3697=\"\",\"\",語言配置表!A3697)","v":""},{"$f":"IF(語言配置表!A3697=\"\",\"CN_待填充内容\",語言配置表!B3697)","v":"CN_待填充内容"}]
[{"$f":"IF(語言配置表!A3698=\"\",\"\",語言配置表!A3698)","v":""},{"$f":"IF(語言配置表!A3698=\"\",\"CN_待填充内容\",語言配置表!B3698)","v":"CN_待填充内容"}]
[{"$f":"IF(語言配置表!A3699=\"\",\"\",語言配置表!A3699)","v":""},{"$f":"IF(語言配置表!A3699=\"\",\"CN_待填充内容\",語言配置表!B3699)","v":"CN_待填充内容"}]
[{"$f":"IF(語言配置表!A3700=\"\",\"\",語言配置表!A3700)","v":""},{"$f":"IF(語言配置表!A3700=\"\",\"CN_待填充内容\",語言配置表!B3700)","v":"CN_待填充内容"}]
[{"$f":"IF(語言配置表!A3701=\"\",\"\",語言配置表!A3701)","v":""},{"$f":"IF(語言配置表!A3701=\"\",\"CN_待填充内容\",語言配置表!B3701)","v":"CN_待填充内容"}]
[{"$f":"IF(語言配置表!A3702=\"\",\"\",語言配置表!A3702)","v":""},{"$f":"IF(語言配置表!A3702=\"\",\"CN_待填充内容\",語言配置表!B3702)","v":"CN_待填充内容"}]
[{"$f":"IF(語言配置表!A3703=\"\",\"\",語言配置表!A3703)","v":""},{"$f":"IF(語言配置表!A3703=\"\",\"CN_待填充内容\",語言配置表!B3703)","v":"CN_待填充内容"}]
[{"$f":"IF(語言配置表!A3704=\"\",\"\",語言配置表!A3704)","v":""},{"$f":"IF(語言配置表!A3704=\"\",\"CN_待填充内容\",語言配置表!B3704)","v":"CN_待填充内容"}]
[{"$f":"IF(語言配置表!A3705=\"\",\"\",語言配置表!A3705)","v":""},{"$f":"IF(語言配置表!A3705=\"\",\"CN_待填充内容\",語言配置表!B3705)","v":"CN_待填充内容"}]
[{"$f":"IF(語言配置表!A3706=\"\",\"\",語言配置表!A3706)","v":""},{"$f":"IF(語言配置表!A3706=\"\",\"CN_待填充内容\",語言配置表!B3706)","v":"CN_待填充内容"}]
[{"$f":"IF(語言配置表!A3707=\"\",\"\",語言配置表!A3707)","v":""},{"$f":"IF(語言配置表!A3707=\"\",\"CN_待填充内容\",語言配置表!B3707)","v":"CN_待填充内容"}]
[{"$f":"IF(語言配置表!A3708=\"\",\"\",語言配置表!A3708)","v":""},{"$f":"IF(語言配置表!A3708=\"\",\"CN_待填充内容\",語言配置表!B3708)","v":"CN_待填充内容"}]
[{"$f":"IF(語言配置表!A3709=\"\",\"\",語言配置表!A3709)","v":""},{"$f":"IF(語言配置表!A3709=\"\",\"CN_待填充内容\",語言配置表!B3709)","v":"CN_待填充内容"}]
[{"$f":"IF(語言配置表!A3710=\"\",\"\",語言配置表!A3710)","v":""},{"$f":"IF(語言配置表!A3710=\"\",\"CN_待填充内容\",語言配置表!B3710)","v":"CN_待填充内容"}]
[{"$f":"IF(語言配置表!A3711=\"\",\"\",語言配置表!A3711)","v":""},{"$f":"IF(語言配置表!A3711=\"\",\"CN_待填充内容\",語言配置表!B3711)","v":"CN_待填充内容"}]
[{"$f":"IF(語言配置表!A3712=\"\",\"\",語言配置表!A3712)","v":""},{"$f":"IF(語言配置表!A3712=\"\",\"CN_待填充内容\",語言配置表!B3712)","v":"CN_待填充内容"}]
[{"$f":"IF(語言配置表!A3713=\"\",\"\",語言配置表!A3713)","v":""},{"$f":"IF(語言配置表!A3713=\"\",\"CN_待填充内容\",語言配置表!B3713)","v":"CN_待填充内容"}]
[{"$f":"IF(語言配置表!A3714=\"\",\"\",語言配置表!A3714)","v":""},{"$f":"IF(語言配置表!A3714=\"\",\"CN_待填充内容\",語言配置表!B3714)","v":"CN_待填充内容"}]
[{"$f":"IF(語言配置表!A3715=\"\",\"\",語言配置表!A3715)","v":""},{"$f":"IF(語言配置表!A3715=\"\",\"CN_待填充内容\",語言配置表!B3715)","v":"CN_待填充内容"}]
[{"$f":"IF(語言配置表!A3716=\"\",\"\",語言配置表!A3716)","v":""},{"$f":"IF(語言配置表!A3716=\"\",\"CN_待填充内容\",語言配置表!B3716)","v":"CN_待填充内容"}]
[{"$f":"IF(語言配置表!A3717=\"\",\"\",語言配置表!A3717)","v":""},{"$f":"IF(語言配置表!A3717=\"\",\"CN_待填充内容\",語言配置表!B3717)","v":"CN_待填充内容"}]
[{"$f":"IF(語言配置表!A3718=\"\",\"\",語言配置表!A3718)","v":""},{"$f":"IF(語言配置表!A3718=\"\",\"CN_待填充内容\",語言配置表!B3718)","v":"CN_待填充内容"}]
[{"$f":"IF(語言配置表!A3719=\"\",\"\",語言配置表!A3719)","v":""},{"$f":"IF(語言配置表!A3719=\"\",\"CN_待填充内容\",語言配置表!B3719)","v":"CN_待填充内容"}]
[{"$f":"IF(語言配置表!A3720=\"\",\"\",語言配置表!A3720)","v":""},{"$f":"IF(語言配置表!A3720=\"\",\"CN_待填充内容\",語言配置表!B3720)","v":"CN_待填充内容"}]
[{"$f":"IF(語言配置表!A3721=\"\",\"\",語言配置表!A3721)","v":""},{"$f":"IF(語言配置表!A3721=\"\",\"CN_待填充内容\",語言配置表!B3721)","v":"CN_待填充内容"}]
[{"$f":"IF(語言配置表!A3722=\"\",\"\",語言配置表!A3722)","v":""},{"$f":"IF(語言配置表!A3722=\"\",\"CN_待填充内容\",語言配置表!B3722)","v":"CN_待填充内容"}]
[{"$f":"IF(語言配置表!A3723=\"\",\"\",語言配置表!A3723)","v":""},{"$f":"IF(語言配置表!A3723=\"\",\"CN_待填充内容\",語言配置表!B3723)","v":"CN_待填充内容"}]
[{"$f":"IF(語言配置表!A3724=\"\",\"\",語言配置表!A3724)","v":""},{"$f":"IF(語言配置表!A3724=\"\",\"CN_待填充内容\",語言配置表!B3724)","v":"CN_待填充内容"}]
[{"$f":"IF(語言配置表!A3725=\"\",\"\",語言配置表!A3725)","v":""},{"$f":"IF(語言配置表!A3725=\"\",\"CN_待填充内容\",語言配置表!B3725)","v":"CN_待填充内容"}]
[{"$f":"IF(語言配置表!A3726=\"\",\"\",語言配置表!A3726)","v":""},{"$f":"IF(語言配置表!A3726=\"\",\"CN_待填充内容\",語言配置表!B3726)","v":"CN_待填充内容"}]
[{"$f":"IF(語言配置表!A3727=\"\",\"\",語言配置表!A3727)","v":""},{"$f":"IF(語言配置表!A3727=\"\",\"CN_待填充内容\",語言配置表!B3727)","v":"CN_待填充内容"}]
[{"$f":"IF(語言配置表!A3728=\"\",\"\",語言配置表!A3728)","v":""},{"$f":"IF(語言配置表!A3728=\"\",\"CN_待填充内容\",語言配置表!B3728)","v":"CN_待填充内容"}]
[{"$f":"IF(語言配置表!A3729=\"\",\"\",語言配置表!A3729)","v":""},{"$f":"IF(語言配置表!A3729=\"\",\"CN_待填充内容\",語言配置表!B3729)","v":"CN_待填充内容"}]
[{"$f":"IF(語言配置表!A3730=\"\",\"\",語言配置表!A3730)","v":""},{"$f":"IF(語言配置表!A3730=\"\",\"CN_待填充内容\",語言配置表!B3730)","v":"CN_待填充内容"}]
[{"$f":"IF(語言配置表!A3731=\"\",\"\",語言配置表!A3731)","v":""},{"$f":"IF(語言配置表!A3731=\"\",\"CN_待填充内容\",語言配置表!B3731)","v":"CN_待填充内容"}]
[{"$f":"IF(語言配置表!A3732=\"\",\"\",語言配置表!A3732)","v":""},{"$f":"IF(語言配置表!A3732=\"\",\"CN_待填充内容\",語言配置表!B3732)","v":"CN_待填充内容"}]
[{"$f":"IF(語言配置表!A3733=\"\",\"\",語言配置表!A3733)","v":""},{"$f":"IF(語言配置表!A3733=\"\",\"CN_待填充内容\",語言配置表!B3733)","v":"CN_待填充内容"}]
[{"$f":"IF(語言配置表!A3734=\"\",\"\",語言配置表!A3734)","v":""},{"$f":"IF(語言配置表!A3734=\"\",\"CN_待填充内容\",語言配置表!B3734)","v":"CN_待填充内容"}]
[{"$f":"IF(語言配置表!A3735=\"\",\"\",語言配置表!A3735)","v":""},{"$f":"IF(語言配置表!A3735=\"\",\"CN_待填充内容\",語言配置表!B3735)","v":"CN_待填充内容"}]
[{"$f":"IF(語言配置表!A3736=\"\",\"\",語言配置表!A3736)","v":""},{"$f":"IF(語言配置表!A3736=\"\",\"CN_待填充内容\",語言配置表!B3736)","v":"CN_待填充内容"}]
[{"$f":"IF(語言配置表!A3737=\"\",\"\",語言配置表!A3737)","v":""},{"$f":"IF(語言配置表!A3737=\"\",\"CN_待填充内容\",語言配置表!B3737)","v":"CN_待填充内容"}]
[{"$f":"IF(語言配置表!A3738=\"\",\"\",語言配置表!A3738)","v":""},{"$f":"IF(語言配置表!A3738=\"\",\"CN_待填充内容\",語言配置表!B3738)","v":"CN_待填充内容"}]
[{"$f":"IF(語言配置表!A3739=\"\",\"\",語言配置表!A3739)","v":""},{"$f":"IF(語言配置表!A3739=\"\",\"CN_待填充内容\",語言配置表!B3739)","v":"CN_待填充内容"}]
[{"$f":"IF(語言配置表!A3740=\"\",\"\",語言配置表!A3740)","v":""},{"$f":"IF(語言配置表!A3740=\"\",\"CN_待填充内容\",語言配置表!B3740)","v":"CN_待填充内容"}]
[{"$f":"IF(語言配置表!A3741=\"\",\"\",語言配置表!A3741)","v":""},{"$f":"IF(語言配置表!A3741=\"\",\"CN_待填充内容\",語言配置表!B3741)","v":"CN_待填充内容"}]
[{"$f":"IF(語言配置表!A3742=\"\",\"\",語言配置表!A3742)","v":""},{"$f":"IF(語言配置表!A3742=\"\",\"CN_待填充内容\",語言配置表!B3742)","v":"CN_待填充内容"}]
[{"$f":"IF(語言配置表!A3743=\"\",\"\",語言配置表!A3743)","v":""},{"$f":"IF(語言配置表!A3743=\"\",\"CN_待填充内容\",語言配置表!B3743)","v":"CN_待填充内容"}]
[{"$f":"IF(語言配置表!A3744=\"\",\"\",語言配置表!A3744)","v":""},{"$f":"IF(語言配置表!A3744=\"\",\"CN_待填充内容\",語言配置表!B3744)","v":"CN_待填充内容"}]
[{"$f":"IF(語言配置表!A3745=\"\",\"\",語言配置表!A3745)","v":""},{"$f":"IF(語言配置表!A3745=\"\",\"CN_待填充内容\",語言配置表!B3745)","v":"CN_待填充内容"}]
[{"$f":"IF(語言配置表!A3746=\"\",\"\",語言配置表!A3746)","v":""},{"$f":"IF(語言配置表!A3746=\"\",\"CN_待填充内容\",語言配置表!B3746)","v":"CN_待填充内容"}]
[{"$f":"IF(語言配置表!A3747=\"\",\"\",語言配置表!A3747)","v":""},{"$f":"IF(語言配置表!A3747=\"\",\"CN_待填充内容\",語言配置表!B3747)","v":"CN_待填充内容"}]
[{"$f":"IF(語言配置表!A3748=\"\",\"\",語言配置表!A3748)","v":""},{"$f":"IF(語言配置表!A3748=\"\",\"CN_待填充内容\",語言配置表!B3748)","v":"CN_待填充内容"}]
[{"$f":"IF(語言配置表!A3749=\"\",\"\",語言配置表!A3749)","v":""},{"$f":"IF(語言配置表!A3749=\"\",\"CN_待填充内容\",語言配置表!B3749)","v":"CN_待填充内容"}]
[{"$f":"IF(語言配置表!A3750=\"\",\"\",語言配置表!A3750)","v":""},{"$f":"IF(語言配置表!A3750=\"\",\"CN_待填充内容\",語言配置表!B3750)","v":"CN_待填充内容"}]
[{"$f":"IF(語言配置表!A3751=\"\",\"\",語言配置表!A3751)","v":""},{"$f":"IF(語言配置表!A3751=\"\",\"CN_待填充内容\",語言配置表!B3751)","v":"CN_待填充内容"}]
[{"$f":"IF(語言配置表!A3752=\"\",\"\",語言配置表!A3752)","v":""},{"$f":"IF(語言配置表!A3752=\"\",\"CN_待填充内容\",語言配置表!B3752)","v":"CN_待填充内容"}]
[{"$f":"IF(語言配置表!A3753=\"\",\"\",語言配置表!A3753)","v":""},{"$f":"IF(語言配置表!A3753=\"\",\"CN_待填充内容\",語言配置表!B3753)","v":"CN_待填充内容"}]
[{"$f":"IF(語言配置表!A3754=\"\",\"\",語言配置表!A3754)","v":""},{"$f":"IF(語言配置表!A3754=\"\",\"CN_待填充内容\",語言配置表!B3754)","v":"CN_待填充内容"}]
[{"$f":"IF(語言配置表!A3755=\"\",\"\",語言配置表!A3755)","v":""},{"$f":"IF(語言配置表!A3755=\"\",\"CN_待填充内容\",語言配置表!B3755)","v":"CN_待填充内容"}]
[{"$f":"IF(語言配置表!A3756=\"\",\"\",語言配置表!A3756)","v":""},{"$f":"IF(語言配置表!A3756=\"\",\"CN_待填充内容\",語言配置表!B3756)","v":"CN_待填充内容"}]
[{"$f":"IF(語言配置表!A3757=\"\",\"\",語言配置表!A3757)","v":""},{"$f":"IF(語言配置表!A3757=\"\",\"CN_待填充内容\",語言配置表!B3757)","v":"CN_待填充内容"}]
[{"$f":"IF(語言配置表!A3758=\"\",\"\",語言配置表!A3758)","v":""},{"$f":"IF(語言配置表!A3758=\"\",\"CN_待填充内容\",語言配置表!B3758)","v":"CN_待填充内容"}]
[{"$f":"IF(語言配置表!A3759=\"\",\"\",語言配置表!A3759)","v":""},{"$f":"IF(語言配置表!A3759=\"\",\"CN_待填充内容\",語言配置表!B3759)","v":"CN_待填充内容"}]
[{"$f":"IF(語言配置表!A3760=\"\",\"\",語言配置表!A3760)","v":""},{"$f":"IF(語言配置表!A3760=\"\",\"CN_待填充内容\",語言配置表!B3760)","v":"CN_待填充内容"}]
[{"$f":"IF(語言配置表!A3761=\"\",\"\",語言配置表!A3761)","v":""},{"$f":"IF(語言配置表!A3761=\"\",\"CN_待填充内容\",語言配置表!B3761)","v":"CN_待填充内容"}]
[{"$f":"IF(語言配置表!A3762=\"\",\"\",語言配置表!A3762)","v":""},{"$f":"IF(語言配置表!A3762=\"\",\"CN_待填充内容\",語言配置表!B3762)","v":"CN_待填充内容"}]
[{"$f":"IF(語言配置表!A3763=\"\",\"\",語言配置表!A3763)","v":""},{"$f":"IF(語言配置表!A3763=\"\",\"CN_待填充内容\",語言配置表!B3763)","v":"CN_待填充内容"}]
[{"$f":"IF(語言配置表!A3764=\"\",\"\",語言配置表!A3764)","v":""},{"$f":"IF(語言配置表!A3764=\"\",\"CN_待填充内容\",語言配置表!B3764)","v":"CN_待填充内容"}]
[{"$f":"IF(語言配置表!A3765=\"\",\"\",語言配置表!A3765)","v":""},{"$f":"IF(語言配置表!A3765=\"\",\"CN_待填充内容\",語言配置表!B3765)","v":"CN_待填充内容"}]
[{"$f":"IF(語言配置表!A3766=\"\",\"\",語言配置表!A3766)","v":""},{"$f":"IF(語言配置表!A3766=\"\",\"CN_待填充内容\",語言配置表!B3766)","v":"CN_待填充内容"}]
[{"$f":"IF(語言配置表!A3767=\"\",\"\",語言配置表!A3767)","v":""},{"$f":"IF(語言配置表!A3767=\"\",\"CN_待填充内容\",語言配置表!B3767)","v":"CN_待填充内容"}]
[{"$f":"IF(語言配置表!A3768=\"\",\"\",語言配置表!A3768)","v":""},{"$f":"IF(語言配置表!A3768=\"\",\"CN_待填充内容\",語言配置表!B3768)","v":"CN_待填充内容"}]
[{"$f":"IF(語言配置表!A3769=\"\",\"\",語言配置表!A3769)","v":""},{"$f":"IF(語言配置表!A3769=\"\",\"CN_待填充内容\",語言配置表!B3769)","v":"CN_待填充内容"}]
[{"$f":"IF(語言配置表!A3770=\"\",\"\",語言配置表!A3770)","v":""},{"$f":"IF(語言配置表!A3770=\"\",\"CN_待填充内容\",語言配置表!B3770)","v":"CN_待填充内容"}]
[{"$f":"IF(語言配置表!A3771=\"\",\"\",語言配置表!A3771)","v":""},{"$f":"IF(語言配置表!A3771=\"\",\"CN_待填充内容\",語言配置表!B3771)","v":"CN_待填充内容"}]
[{"$f":"IF(語言配置表!A3772=\"\",\"\",語言配置表!A3772)","v":""},{"$f":"IF(語言配置表!A3772=\"\",\"CN_待填充内容\",語言配置表!B3772)","v":"CN_待填充内容"}]
[{"$f":"IF(語言配置表!A3773=\"\",\"\",語言配置表!A3773)","v":""},{"$f":"IF(語言配置表!A3773=\"\",\"CN_待填充内容\",語言配置表!B3773)","v":"CN_待填充内容"}]
[{"$f":"IF(語言配置表!A3774=\"\",\"\",語言配置表!A3774)","v":""},{"$f":"IF(語言配置表!A3774=\"\",\"CN_待填充内容\",語言配置表!B3774)","v":"CN_待填充内容"}]
[{"$f":"IF(語言配置表!A3775=\"\",\"\",語言配置表!A3775)","v":""},{"$f":"IF(語言配置表!A3775=\"\",\"CN_待填充内容\",語言配置表!B3775)","v":"CN_待填充内容"}]
[{"$f":"IF(語言配置表!A3776=\"\",\"\",語言配置表!A3776)","v":""},{"$f":"IF(語言配置表!A3776=\"\",\"CN_待填充内容\",語言配置表!B3776)","v":"CN_待填充内容"}]
[{"$f":"IF(語言配置表!A3777=\"\",\"\",語言配置表!A3777)","v":""},{"$f":"IF(語言配置表!A3777=\"\",\"CN_待填充内容\",語言配置表!B3777)","v":"CN_待填充内容"}]
[{"$f":"IF(語言配置表!A3778=\"\",\"\",語言配置表!A3778)","v":""},{"$f":"IF(語言配置表!A3778=\"\",\"CN_待填充内容\",語言配置表!B3778)","v":"CN_待填充内容"}]
[{"$f":"IF(語言配置表!A3779=\"\",\"\",語言配置表!A3779)","v":""},{"$f":"IF(語言配置表!A3779=\"\",\"CN_待填充内容\",語言配置表!B3779)","v":"CN_待填充内容"}]
[{"$f":"IF(語言配置表!A3780=\"\",\"\",語言配置表!A3780)","v":""},{"$f":"IF(語言配置表!A3780=\"\",\"CN_待填充内容\",語言配置表!B3780)","v":"CN_待填充内容"}]
[{"$f":"IF(語言配置表!A3781=\"\",\"\",語言配置表!A3781)","v":""},{"$f":"IF(語言配置表!A3781=\"\",\"CN_待填充内容\",語言配置表!B3781)","v":"CN_待填充内容"}]
[{"$f":"IF(語言配置表!A3782=\"\",\"\",語言配置表!A3782)","v":""},{"$f":"IF(語言配置表!A3782=\"\",\"CN_待填充内容\",語言配置表!B3782)","v":"CN_待填充内容"}]
[{"$f":"IF(語言配置表!A3783=\"\",\"\",語言配置表!A3783)","v":""},{"$f":"IF(語言配置表!A3783=\"\",\"CN_待填充内容\",語言配置表!B3783)","v":"CN_待填充内容"}]
[{"$f":"IF(語言配置表!A3784=\"\",\"\",語言配置表!A3784)","v":""},{"$f":"IF(語言配置表!A3784=\"\",\"CN_待填充内容\",語言配置表!B3784)","v":"CN_待填充内容"}]
[{"$f":"IF(語言配置表!A3785=\"\",\"\",語言配置表!A3785)","v":""},{"$f":"IF(語言配置表!A3785=\"\",\"CN_待填充内容\",語言配置表!B3785)","v":"CN_待填充内容"}]
[{"$f":"IF(語言配置表!A3786=\"\",\"\",語言配置表!A3786)","v":""},{"$f":"IF(語言配置表!A3786=\"\",\"CN_待填充内容\",語言配置表!B3786)","v":"CN_待填充内容"}]
[{"$f":"IF(語言配置表!A3787=\"\",\"\",語言配置表!A3787)","v":""},{"$f":"IF(語言配置表!A3787=\"\",\"CN_待填充内容\",語言配置表!B3787)","v":"CN_待填充内容"}]
[{"$f":"IF(語言配置表!A3788=\"\",\"\",語言配置表!A3788)","v":""},{"$f":"IF(語言配置表!A3788=\"\",\"CN_待填充内容\",語言配置表!B3788)","v":"CN_待填充内容"}]
[{"$f":"IF(語言配置表!A3789=\"\",\"\",語言配置表!A3789)","v":""},{"$f":"IF(語言配置表!A3789=\"\",\"CN_待填充内容\",語言配置表!B3789)","v":"CN_待填充内容"}]
[{"$f":"IF(語言配置表!A3790=\"\",\"\",語言配置表!A3790)","v":""},{"$f":"IF(語言配置表!A3790=\"\",\"CN_待填充内容\",語言配置表!B3790)","v":"CN_待填充内容"}]
[{"$f":"IF(語言配置表!A3791=\"\",\"\",語言配置表!A3791)","v":""},{"$f":"IF(語言配置表!A3791=\"\",\"CN_待填充内容\",語言配置表!B3791)","v":"CN_待填充内容"}]
[{"$f":"IF(語言配置表!A3792=\"\",\"\",語言配置表!A3792)","v":""},{"$f":"IF(語言配置表!A3792=\"\",\"CN_待填充内容\",語言配置表!B3792)","v":"CN_待填充内容"}]
[{"$f":"IF(語言配置表!A3793=\"\",\"\",語言配置表!A3793)","v":""},{"$f":"IF(語言配置表!A3793=\"\",\"CN_待填充内容\",語言配置表!B3793)","v":"CN_待填充内容"}]
[{"$f":"IF(語言配置表!A3794=\"\",\"\",語言配置表!A3794)","v":""},{"$f":"IF(語言配置表!A3794=\"\",\"CN_待填充内容\",語言配置表!B3794)","v":"CN_待填充内容"}]
[{"$f":"IF(語言配置表!A3795=\"\",\"\",語言配置表!A3795)","v":""},{"$f":"IF(語言配置表!A3795=\"\",\"CN_待填充内容\",語言配置表!B3795)","v":"CN_待填充内容"}]
[{"$f":"IF(語言配置表!A3796=\"\",\"\",語言配置表!A3796)","v":""},{"$f":"IF(語言配置表!A3796=\"\",\"CN_待填充内容\",語言配置表!B3796)","v":"CN_待填充内容"}]
[{"$f":"IF(語言配置表!A3797=\"\",\"\",語言配置表!A3797)","v":""},{"$f":"IF(語言配置表!A3797=\"\",\"CN_待填充内容\",語言配置表!B3797)","v":"CN_待填充内容"}]
[{"$f":"IF(語言配置表!A3798=\"\",\"\",語言配置表!A3798)","v":""},{"$f":"IF(語言配置表!A3798=\"\",\"CN_待填充内容\",語言配置表!B3798)","v":"CN_待填充内容"}]
[{"$f":"IF(語言配置表!A3799=\"\",\"\",語言配置表!A3799)","v":""},{"$f":"IF(語言配置表!A3799=\"\",\"CN_待填充内容\",語言配置表!B3799)","v":"CN_待填充内容"}]
[{"$f":"IF(語言配置表!A3800=\"\",\"\",語言配置表!A3800)","v":""},{"$f":"IF(語言配置表!A3800=\"\",\"CN_待填充内容\",語言配置表!B3800)","v":"CN_待填充内容"}]
[{"$f":"IF(語言配置表!A3801=\"\",\"\",語言配置表!A3801)","v":""},{"$f":"IF(語言配置表!A3801=\"\",\"CN_待填充内容\",語言配置表!B3801)","v":"CN_待填充内容"}]
[{"$f":"IF(語言配置表!A3802=\"\",\"\",語言配置表!A3802)","v":""},{"$f":"IF(語言配置表!A3802=\"\",\"CN_待填充内容\",語言配置表!B3802)","v":"CN_待填充内容"}]
[{"$f":"IF(語言配置表!A3803=\"\",\"\",語言配置表!A3803)","v":""},{"$f":"IF(語言配置表!A3803=\"\",\"CN_待填充内容\",語言配置表!B3803)","v":"CN_待填充内容"}]
[{"$f":"IF(語言配置表!A3804=\"\",\"\",語言配置表!A3804)","v":""},{"$f":"IF(語言配置表!A3804=\"\",\"CN_待填充内容\",語言配置表!B3804)","v":"CN_待填充内容"}]
[{"$f":"IF(語言配置表!A3805=\"\",\"\",語言配置表!A3805)","v":""},{"$f":"IF(語言配置表!A3805=\"\",\"CN_待填充内容\",語言配置表!B3805)","v":"CN_待填充内容"}]
[{"$f":"IF(語言配置表!A3806=\"\",\"\",語言配置表!A3806)","v":""},{"$f":"IF(語言配置表!A3806=\"\",\"CN_待填充内容\",語言配置表!B3806)","v":"CN_待填充内容"}]
[{"$f":"IF(語言配置表!A3807=\"\",\"\",語言配置表!A3807)","v":""},{"$f":"IF(語言配置表!A3807=\"\",\"CN_待填充内容\",語言配置表!B3807)","v":"CN_待填充内容"}]
[{"$f":"IF(語言配置表!A3808=\"\",\"\",語言配置表!A3808)","v":""},{"$f":"IF(語言配置表!A3808=\"\",\"CN_待填充内容\",語言配置表!B3808)","v":"CN_待填充内容"}]
[{"$f":"IF(語言配置表!A3809=\"\",\"\",語言配置表!A3809)","v":""},{"$f":"IF(語言配置表!A3809=\"\",\"CN_待填充内容\",語言配置表!B3809)","v":"CN_待填充内容"}]
[{"$f":"IF(語言配置表!A3810=\"\",\"\",語言配置表!A3810)","v":""},{"$f":"IF(語言配置表!A3810=\"\",\"CN_待填充内容\",語言配置表!B3810)","v":"CN_待填充内容"}]
[{"$f":"IF(語言配置表!A3811=\"\",\"\",語言配置表!A3811)","v":""},{"$f":"IF(語言配置表!A3811=\"\",\"CN_待填充内容\",語言配置表!B3811)","v":"CN_待填充内容"}]
[{"$f":"IF(語言配置表!A3812=\"\",\"\",語言配置表!A3812)","v":""},{"$f":"IF(語言配置表!A3812=\"\",\"CN_待填充内容\",語言配置表!B3812)","v":"CN_待填充内容"}]
[{"$f":"IF(語言配置表!A3813=\"\",\"\",語言配置表!A3813)","v":""},{"$f":"IF(語言配置表!A3813=\"\",\"CN_待填充内容\",語言配置表!B3813)","v":"CN_待填充内容"}]
[{"$f":"IF(語言配置表!A3814=\"\",\"\",語言配置表!A3814)","v":""},{"$f":"IF(語言配置表!A3814=\"\",\"CN_待填充内容\",語言配置表!B3814)","v":"CN_待填充内容"}]
[{"$f":"IF(語言配置表!A3815=\"\",\"\",語言配置表!A3815)","v":""},{"$f":"IF(語言配置表!A3815=\"\",\"CN_待填充内容\",語言配置表!B3815)","v":"CN_待填充内容"}]
[{"$f":"IF(語言配置表!A3816=\"\",\"\",語言配置表!A3816)","v":""},{"$f":"IF(語言配置表!A3816=\"\",\"CN_待填充内容\",語言配置表!B3816)","v":"CN_待填充内容"}]
[{"$f":"IF(語言配置表!A3817=\"\",\"\",語言配置表!A3817)","v":""},{"$f":"IF(語言配置表!A3817=\"\",\"CN_待填充内容\",語言配置表!B3817)","v":"CN_待填充内容"}]
[{"$f":"IF(語言配置表!A3818=\"\",\"\",語言配置表!A3818)","v":""},{"$f":"IF(語言配置表!A3818=\"\",\"CN_待填充内容\",語言配置表!B3818)","v":"CN_待填充内容"}]
[{"$f":"IF(語言配置表!A3819=\"\",\"\",語言配置表!A3819)","v":""},{"$f":"IF(語言配置表!A3819=\"\",\"CN_待填充内容\",語言配置表!B3819)","v":"CN_待填充内容"}]
[{"$f":"IF(語言配置表!A3820=\"\",\"\",語言配置表!A3820)","v":""},{"$f":"IF(語言配置表!A3820=\"\",\"CN_待填充内容\",語言配置表!B3820)","v":"CN_待填充内容"}]
[{"$f":"IF(語言配置表!A3821=\"\",\"\",語言配置表!A3821)","v":""},{"$f":"IF(語言配置表!A3821=\"\",\"CN_待填充内容\",語言配置表!B3821)","v":"CN_待填充内容"}]
[{"$f":"IF(語言配置表!A3822=\"\",\"\",語言配置表!A3822)","v":""},{"$f":"IF(語言配置表!A3822=\"\",\"CN_待填充内容\",語言配置表!B3822)","v":"CN_待填充内容"}]
[{"$f":"IF(語言配置表!A3823=\"\",\"\",語言配置表!A3823)","v":""},{"$f":"IF(語言配置表!A3823=\"\",\"CN_待填充内容\",語言配置表!B3823)","v":"CN_待填充内容"}]
[{"$f":"IF(語言配置表!A3824=\"\",\"\",語言配置表!A3824)","v":""},{"$f":"IF(語言配置表!A3824=\"\",\"CN_待填充内容\",語言配置表!B3824)","v":"CN_待填充内容"}]
[{"$f":"IF(語言配置表!A3825=\"\",\"\",語言配置表!A3825)","v":""},{"$f":"IF(語言配置表!A3825=\"\",\"CN_待填充内容\",語言配置表!B3825)","v":"CN_待填充内容"}]
[{"$f":"IF(語言配置表!A3826=\"\",\"\",語言配置表!A3826)","v":""},{"$f":"IF(語言配置表!A3826=\"\",\"CN_待填充内容\",語言配置表!B3826)","v":"CN_待填充内容"}]
[{"$f":"IF(語言配置表!A3827=\"\",\"\",語言配置表!A3827)","v":""},{"$f":"IF(語言配置表!A3827=\"\",\"CN_待填充内容\",語言配置表!B3827)","v":"CN_待填充内容"}]
[{"$f":"IF(語言配置表!A3828=\"\",\"\",語言配置表!A3828)","v":""},{"$f":"IF(語言配置表!A3828=\"\",\"CN_待填充内容\",語言配置表!B3828)","v":"CN_待填充内容"}]
[{"$f":"IF(語言配置表!A3829=\"\",\"\",語言配置表!A3829)","v":""},{"$f":"IF(語言配置表!A3829=\"\",\"CN_待填充内容\",語言配置表!B3829)","v":"CN_待填充内容"}]
[{"$f":"IF(語言配置表!A3830=\"\",\"\",語言配置表!A3830)","v":""},{"$f":"IF(語言配置表!A3830=\"\",\"CN_待填充内容\",語言配置表!B3830)","v":"CN_待填充内容"}]
[{"$f":"IF(語言配置表!A3831=\"\",\"\",語言配置表!A3831)","v":""},{"$f":"IF(語言配置表!A3831=\"\",\"CN_待填充内容\",語言配置表!B3831)","v":"CN_待填充内容"}]
[{"$f":"IF(語言配置表!A3832=\"\",\"\",語言配置表!A3832)","v":""},{"$f":"IF(語言配置表!A3832=\"\",\"CN_待填充内容\",語言配置表!B3832)","v":"CN_待填充内容"}]
[{"$f":"IF(語言配置表!A3833=\"\",\"\",語言配置表!A3833)","v":""},{"$f":"IF(語言配置表!A3833=\"\",\"CN_待填充内容\",語言配置表!B3833)","v":"CN_待填充内容"}]
[{"$f":"IF(語言配置表!A3834=\"\",\"\",語言配置表!A3834)","v":""},{"$f":"IF(語言配置表!A3834=\"\",\"CN_待填充内容\",語言配置表!B3834)","v":"CN_待填充内容"}]
[{"$f":"IF(語言配置表!A3835=\"\",\"\",語言配置表!A3835)","v":""},{"$f":"IF(語言配置表!A3835=\"\",\"CN_待填充内容\",語言配置表!B3835)","v":"CN_待填充内容"}]
[{"$f":"IF(語言配置表!A3836=\"\",\"\",語言配置表!A3836)","v":""},{"$f":"IF(語言配置表!A3836=\"\",\"CN_待填充内容\",語言配置表!B3836)","v":"CN_待填充内容"}]
[{"$f":"IF(語言配置表!A3837=\"\",\"\",語言配置表!A3837)","v":""},{"$f":"IF(語言配置表!A3837=\"\",\"CN_待填充内容\",語言配置表!B3837)","v":"CN_待填充内容"}]
[{"$f":"IF(語言配置表!A3838=\"\",\"\",語言配置表!A3838)","v":""},{"$f":"IF(語言配置表!A3838=\"\",\"CN_待填充内容\",語言配置表!B3838)","v":"CN_待填充内容"}]
[{"$f":"IF(語言配置表!A3839=\"\",\"\",語言配置表!A3839)","v":""},{"$f":"IF(語言配置表!A3839=\"\",\"CN_待填充内容\",語言配置表!B3839)","v":"CN_待填充内容"}]
[{"$f":"IF(語言配置表!A3840=\"\",\"\",語言配置表!A3840)","v":""},{"$f":"IF(語言配置表!A3840=\"\",\"CN_待填充内容\",語言配置表!B3840)","v":"CN_待填充内容"}]
[{"$f":"IF(語言配置表!A3841=\"\",\"\",語言配置表!A3841)","v":""},{"$f":"IF(語言配置表!A3841=\"\",\"CN_待填充内容\",語言配置表!B3841)","v":"CN_待填充内容"}]
[{"$f":"IF(語言配置表!A3842=\"\",\"\",語言配置表!A3842)","v":""},{"$f":"IF(語言配置表!A3842=\"\",\"CN_待填充内容\",語言配置表!B3842)","v":"CN_待填充内容"}]
[{"$f":"IF(語言配置表!A3843=\"\",\"\",語言配置表!A3843)","v":""},{"$f":"IF(語言配置表!A3843=\"\",\"CN_待填充内容\",語言配置表!B3843)","v":"CN_待填充内容"}]
[{"$f":"IF(語言配置表!A3844=\"\",\"\",語言配置表!A3844)","v":""},{"$f":"IF(語言配置表!A3844=\"\",\"CN_待填充内容\",語言配置表!B3844)","v":"CN_待填充内容"}]
[{"$f":"IF(語言配置表!A3845=\"\",\"\",語言配置表!A3845)","v":""},{"$f":"IF(語言配置表!A3845=\"\",\"CN_待填充内容\",語言配置表!B3845)","v":"CN_待填充内容"}]
[{"$f":"IF(語言配置表!A3846=\"\",\"\",語言配置表!A3846)","v":""},{"$f":"IF(語言配置表!A3846=\"\",\"CN_待填充内容\",語言配置表!B3846)","v":"CN_待填充内容"}]
[{"$f":"IF(語言配置表!A3847=\"\",\"\",語言配置表!A3847)","v":""},{"$f":"IF(語言配置表!A3847=\"\",\"CN_待填充内容\",語言配置表!B3847)","v":"CN_待填充内容"}]
[{"$f":"IF(語言配置表!A3848=\"\",\"\",語言配置表!A3848)","v":""},{"$f":"IF(語言配置表!A3848=\"\",\"CN_待填充内容\",語言配置表!B3848)","v":"CN_待填充内容"}]
[{"$f":"IF(語言配置表!A3849=\"\",\"\",語言配置表!A3849)","v":""},{"$f":"IF(語言配置表!A3849=\"\",\"CN_待填充内容\",語言配置表!B3849)","v":"CN_待填充内容"}]
[{"$f":"IF(語言配置表!A3850=\"\",\"\",語言配置表!A3850)","v":""},{"$f":"IF(語言配置表!A3850=\"\",\"CN_待填充内容\",語言配置表!B3850)","v":"CN_待填充内容"}]
[{"$f":"IF(語言配置表!A3851=\"\",\"\",語言配置表!A3851)","v":""},{"$f":"IF(語言配置表!A3851=\"\",\"CN_待填充内容\",語言配置表!B3851)","v":"CN_待填充内容"}]
[{"$f":"IF(語言配置表!A3852=\"\",\"\",語言配置表!A3852)","v":""},{"$f":"IF(語言配置表!A3852=\"\",\"CN_待填充内容\",語言配置表!B3852)","v":"CN_待填充内容"}]
[{"$f":"IF(語言配置表!A3853=\"\",\"\",語言配置表!A3853)","v":""},{"$f":"IF(語言配置表!A3853=\"\",\"CN_待填充内容\",語言配置表!B3853)","v":"CN_待填充内容"}]
[{"$f":"IF(語言配置表!A3854=\"\",\"\",語言配置表!A3854)","v":""},{"$f":"IF(語言配置表!A3854=\"\",\"CN_待填充内容\",語言配置表!B3854)","v":"CN_待填充内容"}]
[{"$f":"IF(語言配置表!A3855=\"\",\"\",語言配置表!A3855)","v":""},{"$f":"IF(語言配置表!A3855=\"\",\"CN_待填充内容\",語言配置表!B3855)","v":"CN_待填充内容"}]
[{"$f":"IF(語言配置表!A3856=\"\",\"\",語言配置表!A3856)","v":""},{"$f":"IF(語言配置表!A3856=\"\",\"CN_待填充内容\",語言配置表!B3856)","v":"CN_待填充内容"}]
[{"$f":"IF(語言配置表!A3857=\"\",\"\",語言配置表!A3857)","v":""},{"$f":"IF(語言配置表!A3857=\"\",\"CN_待填充内容\",語言配置表!B3857)","v":"CN_待填充内容"}]
[{"$f":"IF(語言配置表!A3858=\"\",\"\",語言配置表!A3858)","v":""},{"$f":"IF(語言配置表!A3858=\"\",\"CN_待填充内容\",語言配置表!B3858)","v":"CN_待填充内容"}]
[{"$f":"IF(語言配置表!A3859=\"\",\"\",語言配置表!A3859)","v":""},{"$f":"IF(語言配置表!A3859=\"\",\"CN_待填充内容\",語言配置表!B3859)","v":"CN_待填充内容"}]
[{"$f":"IF(語言配置表!A3860=\"\",\"\",語言配置表!A3860)","v":""},{"$f":"IF(語言配置表!A3860=\"\",\"CN_待填充内容\",語言配置表!B3860)","v":"CN_待填充内容"}]
[{"$f":"IF(語言配置表!A3861=\"\",\"\",語言配置表!A3861)","v":""},{"$f":"IF(語言配置表!A3861=\"\",\"CN_待填充内容\",語言配置表!B3861)","v":"CN_待填充内容"}]
[{"$f":"IF(語言配置表!A3862=\"\",\"\",語言配置表!A3862)","v":""},{"$f":"IF(語言配置表!A3862=\"\",\"CN_待填充内容\",語言配置表!B3862)","v":"CN_待填充内容"}]
[{"$f":"IF(語言配置表!A3863=\"\",\"\",語言配置表!A3863)","v":""},{"$f":"IF(語言配置表!A3863=\"\",\"CN_待填充内容\",語言配置表!B3863)","v":"CN_待填充内容"}]
[{"$f":"IF(語言配置表!A3864=\"\",\"\",語言配置表!A3864)","v":""},{"$f":"IF(語言配置表!A3864=\"\",\"CN_待填充内容\",語言配置表!B3864)","v":"CN_待填充内容"}]
[{"$f":"IF(語言配置表!A3865=\"\",\"\",語言配置表!A3865)","v":""},{"$f":"IF(語言配置表!A3865=\"\",\"CN_待填充内容\",語言配置表!B3865)","v":"CN_待填充内容"}]
[{"$f":"IF(語言配置表!A3866=\"\",\"\",語言配置表!A3866)","v":""},{"$f":"IF(語言配置表!A3866=\"\",\"CN_待填充内容\",語言配置表!B3866)","v":"CN_待填充内容"}]
[{"$f":"IF(語言配置表!A3867=\"\",\"\",語言配置表!A3867)","v":""},{"$f":"IF(語言配置表!A3867=\"\",\"CN_待填充内容\",語言配置表!B3867)","v":"CN_待填充内容"}]
[{"$f":"IF(語言配置表!A3868=\"\",\"\",語言配置表!A3868)","v":""},{"$f":"IF(語言配置表!A3868=\"\",\"CN_待填充内容\",語言配置表!B3868)","v":"CN_待填充内容"}]
[{"$f":"IF(語言配置表!A3869=\"\",\"\",語言配置表!A3869)","v":""},{"$f":"IF(語言配置表!A3869=\"\",\"CN_待填充内容\",語言配置表!B3869)","v":"CN_待填充内容"}]
[{"$f":"IF(語言配置表!A3870=\"\",\"\",語言配置表!A3870)","v":""},{"$f":"IF(語言配置表!A3870=\"\",\"CN_待填充内容\",語言配置表!B3870)","v":"CN_待填充内容"}]
[{"$f":"IF(語言配置表!A3871=\"\",\"\",語言配置表!A3871)","v":""},{"$f":"IF(語言配置表!A3871=\"\",\"CN_待填充内容\",語言配置表!B3871)","v":"CN_待填充内容"}]
[{"$f":"IF(語言配置表!A3872=\"\",\"\",語言配置表!A3872)","v":""},{"$f":"IF(語言配置表!A3872=\"\",\"CN_待填充内容\",語言配置表!B3872)","v":"CN_待填充内容"}]
[{"$f":"IF(語言配置表!A3873=\"\",\"\",語言配置表!A3873)","v":""},{"$f":"IF(語言配置表!A3873=\"\",\"CN_待填充内容\",語言配置表!B3873)","v":"CN_待填充内容"}]
[{"$f":"IF(語言配置表!A3874=\"\",\"\",語言配置表!A3874)","v":""},{"$f":"IF(語言配置表!A3874=\"\",\"CN_待填充内容\",語言配置表!B3874)","v":"CN_待填充内容"}]
[{"$f":"IF(語言配置表!A3875=\"\",\"\",語言配置表!A3875)","v":""},{"$f":"IF(語言配置表!A3875=\"\",\"CN_待填充内容\",語言配置表!B3875)","v":"CN_待填充内容"}]
[{"$f":"IF(語言配置表!A3876=\"\",\"\",語言配置表!A3876)","v":""},{"$f":"IF(語言配置表!A3876=\"\",\"CN_待填充内容\",語言配置表!B3876)","v":"CN_待填充内容"}]
[{"$f":"IF(語言配置表!A3877=\"\",\"\",語言配置表!A3877)","v":""},{"$f":"IF(語言配置表!A3877=\"\",\"CN_待填充内容\",語言配置表!B3877)","v":"CN_待填充内容"}]
[{"$f":"IF(語言配置表!A3878=\"\",\"\",語言配置表!A3878)","v":""},{"$f":"IF(語言配置表!A3878=\"\",\"CN_待填充内容\",語言配置表!B3878)","v":"CN_待填充内容"}]
[{"$f":"IF(語言配置表!A3879=\"\",\"\",語言配置表!A3879)","v":""},{"$f":"IF(語言配置表!A3879=\"\",\"CN_待填充内容\",語言配置表!B3879)","v":"CN_待填充内容"}]
[{"$f":"IF(語言配置表!A3880=\"\",\"\",語言配置表!A3880)","v":""},{"$f":"IF(語言配置表!A3880=\"\",\"CN_待填充内容\",語言配置表!B3880)","v":"CN_待填充内容"}]
[{"$f":"IF(語言配置表!A3881=\"\",\"\",語言配置表!A3881)","v":""},{"$f":"IF(語言配置表!A3881=\"\",\"CN_待填充内容\",語言配置表!B3881)","v":"CN_待填充内容"}]
[{"$f":"IF(語言配置表!A3882=\"\",\"\",語言配置表!A3882)","v":""},{"$f":"IF(語言配置表!A3882=\"\",\"CN_待填充内容\",語言配置表!B3882)","v":"CN_待填充内容"}]
[{"$f":"IF(語言配置表!A3883=\"\",\"\",語言配置表!A3883)","v":""},{"$f":"IF(語言配置表!A3883=\"\",\"CN_待填充内容\",語言配置表!B3883)","v":"CN_待填充内容"}]
[{"$f":"IF(語言配置表!A3884=\"\",\"\",語言配置表!A3884)","v":""},{"$f":"IF(語言配置表!A3884=\"\",\"CN_待填充内容\",語言配置表!B3884)","v":"CN_待填充内容"}]
[{"$f":"IF(語言配置表!A3885=\"\",\"\",語言配置表!A3885)","v":""},{"$f":"IF(語言配置表!A3885=\"\",\"CN_待填充内容\",語言配置表!B3885)","v":"CN_待填充内容"}]
[{"$f":"IF(語言配置表!A3886=\"\",\"\",語言配置表!A3886)","v":""},{"$f":"IF(語言配置表!A3886=\"\",\"CN_待填充内容\",語言配置表!B3886)","v":"CN_待填充内容"}]
[{"$f":"IF(語言配置表!A3887=\"\",\"\",語言配置表!A3887)","v":""},{"$f":"IF(語言配置表!A3887=\"\",\"CN_待填充内容\",語言配置表!B3887)","v":"CN_待填充内容"}]
[{"$f":"IF(語言配置表!A3888=\"\",\"\",語言配置表!A3888)","v":""},{"$f":"IF(語言配置表!A3888=\"\",\"CN_待填充内容\",語言配置表!B3888)","v":"CN_待填充内容"}]
[{"$f":"IF(語言配置表!A3889=\"\",\"\",語言配置表!A3889)","v":""},{"$f":"IF(語言配置表!A3889=\"\",\"CN_待填充内容\",語言配置表!B3889)","v":"CN_待填充内容"}]
[{"$f":"IF(語言配置表!A3890=\"\",\"\",語言配置表!A3890)","v":""},{"$f":"IF(語言配置表!A3890=\"\",\"CN_待填充内容\",語言配置表!B3890)","v":"CN_待填充内容"}]
[{"$f":"IF(語言配置表!A3891=\"\",\"\",語言配置表!A3891)","v":""},{"$f":"IF(語言配置表!A3891=\"\",\"CN_待填充内容\",語言配置表!B3891)","v":"CN_待填充内容"}]
[{"$f":"IF(語言配置表!A3892=\"\",\"\",語言配置表!A3892)","v":""},{"$f":"IF(語言配置表!A3892=\"\",\"CN_待填充内容\",語言配置表!B3892)","v":"CN_待填充内容"}]
[{"$f":"IF(語言配置表!A3893=\"\",\"\",語言配置表!A3893)","v":""},{"$f":"IF(語言配置表!A3893=\"\",\"CN_待填充内容\",語言配置表!B3893)","v":"CN_待填充内容"}]
[{"$f":"IF(語言配置表!A3894=\"\",\"\",語言配置表!A3894)","v":""},{"$f":"IF(語言配置表!A3894=\"\",\"CN_待填充内容\",語言配置表!B3894)","v":"CN_待填充内容"}]
[{"$f":"IF(語言配置表!A3895=\"\",\"\",語言配置表!A3895)","v":""},{"$f":"IF(語言配置表!A3895=\"\",\"CN_待填充内容\",語言配置表!B3895)","v":"CN_待填充内容"}]
[{"$f":"IF(語言配置表!A3896=\"\",\"\",語言配置表!A3896)","v":""},{"$f":"IF(語言配置表!A3896=\"\",\"CN_待填充内容\",語言配置表!B3896)","v":"CN_待填充内容"}]
[{"$f":"IF(語言配置表!A3897=\"\",\"\",語言配置表!A3897)","v":""},{"$f":"IF(語言配置表!A3897=\"\",\"CN_待填充内容\",語言配置表!B3897)","v":"CN_待填充内容"}]
[{"$f":"IF(語言配置表!A3898=\"\",\"\",語言配置表!A3898)","v":""},{"$f":"IF(語言配置表!A3898=\"\",\"CN_待填充内容\",語言配置表!B3898)","v":"CN_待填充内容"}]
[{"$f":"IF(語言配置表!A3899=\"\",\"\",語言配置表!A3899)","v":""},{"$f":"IF(語言配置表!A3899=\"\",\"CN_待填充内容\",語言配置表!B3899)","v":"CN_待填充内容"}]
[{"$f":"IF(語言配置表!A3900=\"\",\"\",語言配置表!A3900)","v":""},{"$f":"IF(語言配置表!A3900=\"\",\"CN_待填充内容\",語言配置表!B3900)","v":"CN_待填充内容"}]
[{"$f":"IF(語言配置表!A3901=\"\",\"\",語言配置表!A3901)","v":""},{"$f":"IF(語言配置表!A3901=\"\",\"CN_待填充内容\",語言配置表!B3901)","v":"CN_待填充内容"}]
[{"$f":"IF(語言配置表!A3902=\"\",\"\",語言配置表!A3902)","v":""},{"$f":"IF(語言配置表!A3902=\"\",\"CN_待填充内容\",語言配置表!B3902)","v":"CN_待填充内容"}]
[{"$f":"IF(語言配置表!A3903=\"\",\"\",語言配置表!A3903)","v":""},{"$f":"IF(語言配置表!A3903=\"\",\"CN_待填充内容\",語言配置表!B3903)","v":"CN_待填充内容"}]
[{"$f":"IF(語言配置表!A3904=\"\",\"\",語言配置表!A3904)","v":""},{"$f":"IF(語言配置表!A3904=\"\",\"CN_待填充内容\",語言配置表!B3904)","v":"CN_待填充内容"}]
[{"$f":"IF(語言配置表!A3905=\"\",\"\",語言配置表!A3905)","v":""},{"$f":"IF(語言配置表!A3905=\"\",\"CN_待填充内容\",語言配置表!B3905)","v":"CN_待填充内容"}]
[{"$f":"IF(語言配置表!A3906=\"\",\"\",語言配置表!A3906)","v":""},{"$f":"IF(語言配置表!A3906=\"\",\"CN_待填充内容\",語言配置表!B3906)","v":"CN_待填充内容"}]
[{"$f":"IF(語言配置表!A3907=\"\",\"\",語言配置表!A3907)","v":""},{"$f":"IF(語言配置表!A3907=\"\",\"CN_待填充内容\",語言配置表!B3907)","v":"CN_待填充内容"}]
[{"$f":"IF(語言配置表!A3908=\"\",\"\",語言配置表!A3908)","v":""},{"$f":"IF(語言配置表!A3908=\"\",\"CN_待填充内容\",語言配置表!B3908)","v":"CN_待填充内容"}]
[{"$f":"IF(語言配置表!A3909=\"\",\"\",語言配置表!A3909)","v":""},{"$f":"IF(語言配置表!A3909=\"\",\"CN_待填充内容\",語言配置表!B3909)","v":"CN_待填充内容"}]
[{"$f":"IF(語言配置表!A3910=\"\",\"\",語言配置表!A3910)","v":""},{"$f":"IF(語言配置表!A3910=\"\",\"CN_待填充内容\",語言配置表!B3910)","v":"CN_待填充内容"}]
[{"$f":"IF(語言配置表!A3911=\"\",\"\",語言配置表!A3911)","v":""},{"$f":"IF(語言配置表!A3911=\"\",\"CN_待填充内容\",語言配置表!B3911)","v":"CN_待填充内容"}]
[{"$f":"IF(語言配置表!A3912=\"\",\"\",語言配置表!A3912)","v":""},{"$f":"IF(語言配置表!A3912=\"\",\"CN_待填充内容\",語言配置表!B3912)","v":"CN_待填充内容"}]
[{"$f":"IF(語言配置表!A3913=\"\",\"\",語言配置表!A3913)","v":""},{"$f":"IF(語言配置表!A3913=\"\",\"CN_待填充内容\",語言配置表!B3913)","v":"CN_待填充内容"}]
[{"$f":"IF(語言配置表!A3914=\"\",\"\",語言配置表!A3914)","v":""},{"$f":"IF(語言配置表!A3914=\"\",\"CN_待填充内容\",語言配置表!B3914)","v":"CN_待填充内容"}]
[{"$f":"IF(語言配置表!A3915=\"\",\"\",語言配置表!A3915)","v":""},{"$f":"IF(語言配置表!A3915=\"\",\"CN_待填充内容\",語言配置表!B3915)","v":"CN_待填充内容"}]
[{"$f":"IF(語言配置表!A3916=\"\",\"\",語言配置表!A3916)","v":""},{"$f":"IF(語言配置表!A3916=\"\",\"CN_待填充内容\",語言配置表!B3916)","v":"CN_待填充内容"}]
[{"$f":"IF(語言配置表!A3917=\"\",\"\",語言配置表!A3917)","v":""},{"$f":"IF(語言配置表!A3917=\"\",\"CN_待填充内容\",語言配置表!B3917)","v":"CN_待填充内容"}]
[{"$f":"IF(語言配置表!A3918=\"\",\"\",語言配置表!A3918)","v":""},{"$f":"IF(語言配置表!A3918=\"\",\"CN_待填充内容\",語言配置表!B3918)","v":"CN_待填充内容"}]
[{"$f":"IF(語言配置表!A3919=\"\",\"\",語言配置表!A3919)","v":""},{"$f":"IF(語言配置表!A3919=\"\",\"CN_待填充内容\",語言配置表!B3919)","v":"CN_待填充内容"}]
[{"$f":"IF(語言配置表!A3920=\"\",\"\",語言配置表!A3920)","v":""},{"$f":"IF(語言配置表!A3920=\"\",\"CN_待填充内容\",語言配置表!B3920)","v":"CN_待填充内容"}]
[{"$f":"IF(語言配置表!A3921=\"\",\"\",語言配置表!A3921)","v":""},{"$f":"IF(語言配置表!A3921=\"\",\"CN_待填充内容\",語言配置表!B3921)","v":"CN_待填充内容"}]
[{"$f":"IF(語言配置表!A3922=\"\",\"\",語言配置表!A3922)","v":""},{"$f":"IF(語言配置表!A3922=\"\",\"CN_待填充内容\",語言配置表!B3922)","v":"CN_待填充内容"}]
[{"$f":"IF(語言配置表!A3923=\"\",\"\",語言配置表!A3923)","v":""},{"$f":"IF(語言配置表!A3923=\"\",\"CN_待填充内容\",語言配置表!B3923)","v":"CN_待填充内容"}]
[{"$f":"IF(語言配置表!A3924=\"\",\"\",語言配置表!A3924)","v":""},{"$f":"IF(語言配置表!A3924=\"\",\"CN_待填充内容\",語言配置表!B3924)","v":"CN_待填充内容"}]
[{"$f":"IF(語言配置表!A3925=\"\",\"\",語言配置表!A3925)","v":""},{"$f":"IF(語言配置表!A3925=\"\",\"CN_待填充内容\",語言配置表!B3925)","v":"CN_待填充内容"}]
[{"$f":"IF(語言配置表!A3926=\"\",\"\",語言配置表!A3926)","v":""},{"$f":"IF(語言配置表!A3926=\"\",\"CN_待填充内容\",語言配置表!B3926)","v":"CN_待填充内容"}]
[{"$f":"IF(語言配置表!A3927=\"\",\"\",語言配置表!A3927)","v":""},{"$f":"IF(語言配置表!A3927=\"\",\"CN_待填充内容\",語言配置表!B3927)","v":"CN_待填充内容"}]
[{"$f":"IF(語言配置表!A3928=\"\",\"\",語言配置表!A3928)","v":""},{"$f":"IF(語言配置表!A3928=\"\",\"CN_待填充内容\",語言配置表!B3928)","v":"CN_待填充内容"}]
[{"$f":"IF(語言配置表!A3929=\"\",\"\",語言配置表!A3929)","v":""},{"$f":"IF(語言配置表!A3929=\"\",\"CN_待填充内容\",語言配置表!B3929)","v":"CN_待填充内容"}]
[{"$f":"IF(語言配置表!A3930=\"\",\"\",語言配置表!A3930)","v":""},{"$f":"IF(語言配置表!A3930=\"\",\"CN_待填充内容\",語言配置表!B3930)","v":"CN_待填充内容"}]
[{"$f":"IF(語言配置表!A3931=\"\",\"\",語言配置表!A3931)","v":""},{"$f":"IF(語言配置表!A3931=\"\",\"CN_待填充内容\",語言配置表!B3931)","v":"CN_待填充内容"}]
[{"$f":"IF(語言配置表!A3932=\"\",\"\",語言配置表!A3932)","v":""},{"$f":"IF(語言配置表!A3932=\"\",\"CN_待填充内容\",語言配置表!B3932)","v":"CN_待填充内容"}]
[{"$f":"IF(語言配置表!A3933=\"\",\"\",語言配置表!A3933)","v":""},{"$f":"IF(語言配置表!A3933=\"\",\"CN_待填充内容\",語言配置表!B3933)","v":"CN_待填充内容"}]
[{"$f":"IF(語言配置表!A3934=\"\",\"\",語言配置表!A3934)","v":""},{"$f":"IF(語言配置表!A3934=\"\",\"CN_待填充内容\",語言配置表!B3934)","v":"CN_待填充内容"}]
[{"$f":"IF(語言配置表!A3935=\"\",\"\",語言配置表!A3935)","v":""},{"$f":"IF(語言配置表!A3935=\"\",\"CN_待填充内容\",語言配置表!B3935)","v":"CN_待填充内容"}]
[{"$f":"IF(語言配置表!A3936=\"\",\"\",語言配置表!A3936)","v":""},{"$f":"IF(語言配置表!A3936=\"\",\"CN_待填充内容\",語言配置表!B3936)","v":"CN_待填充内容"}]
[{"$f":"IF(語言配置表!A3937=\"\",\"\",語言配置表!A3937)","v":""},{"$f":"IF(語言配置表!A3937=\"\",\"CN_待填充内容\",語言配置表!B3937)","v":"CN_待填充内容"}]
[{"$f":"IF(語言配置表!A3938=\"\",\"\",語言配置表!A3938)","v":""},{"$f":"IF(語言配置表!A3938=\"\",\"CN_待填充内容\",語言配置表!B3938)","v":"CN_待填充内容"}]
[{"$f":"IF(語言配置表!A3939=\"\",\"\",語言配置表!A3939)","v":""},{"$f":"IF(語言配置表!A3939=\"\",\"CN_待填充内容\",語言配置表!B3939)","v":"CN_待填充内容"}]
[{"$f":"IF(語言配置表!A3940=\"\",\"\",語言配置表!A3940)","v":""},{"$f":"IF(語言配置表!A3940=\"\",\"CN_待填充内容\",語言配置表!B3940)","v":"CN_待填充内容"}]
[{"$f":"IF(語言配置表!A3941=\"\",\"\",語言配置表!A3941)","v":""},{"$f":"IF(語言配置表!A3941=\"\",\"CN_待填充内容\",語言配置表!B3941)","v":"CN_待填充内容"}]
[{"$f":"IF(語言配置表!A3942=\"\",\"\",語言配置表!A3942)","v":""},{"$f":"IF(語言配置表!A3942=\"\",\"CN_待填充内容\",語言配置表!B3942)","v":"CN_待填充内容"}]
[{"$f":"IF(語言配置表!A3943=\"\",\"\",語言配置表!A3943)","v":""},{"$f":"IF(語言配置表!A3943=\"\",\"CN_待填充内容\",語言配置表!B3943)","v":"CN_待填充内容"}]
[{"$f":"IF(語言配置表!A3944=\"\",\"\",語言配置表!A3944)","v":""},{"$f":"IF(語言配置表!A3944=\"\",\"CN_待填充内容\",語言配置表!B3944)","v":"CN_待填充内容"}]
[{"$f":"IF(語言配置表!A3945=\"\",\"\",語言配置表!A3945)","v":""},{"$f":"IF(語言配置表!A3945=\"\",\"CN_待填充内容\",語言配置表!B3945)","v":"CN_待填充内容"}]
[{"$f":"IF(語言配置表!A3946=\"\",\"\",語言配置表!A3946)","v":""},{"$f":"IF(語言配置表!A3946=\"\",\"CN_待填充内容\",語言配置表!B3946)","v":"CN_待填充内容"}]
[{"$f":"IF(語言配置表!A3947=\"\",\"\",語言配置表!A3947)","v":""},{"$f":"IF(語言配置表!A3947=\"\",\"CN_待填充内容\",語言配置表!B3947)","v":"CN_待填充内容"}]
[{"$f":"IF(語言配置表!A3948=\"\",\"\",語言配置表!A3948)","v":""},{"$f":"IF(語言配置表!A3948=\"\",\"CN_待填充内容\",語言配置表!B3948)","v":"CN_待填充内容"}]
[{"$f":"IF(語言配置表!A3949=\"\",\"\",語言配置表!A3949)","v":""},{"$f":"IF(語言配置表!A3949=\"\",\"CN_待填充内容\",語言配置表!B3949)","v":"CN_待填充内容"}]
[{"$f":"IF(語言配置表!A3950=\"\",\"\",語言配置表!A3950)","v":""},{"$f":"IF(語言配置表!A3950=\"\",\"CN_待填充内容\",語言配置表!B3950)","v":"CN_待填充内容"}]