{"text_format":"2","workbook":"xlsx","n_sheets":1,"sheets":["PlayerGuideConfig"],"not_rendered":{"charts":0,"images":0,"macros":0,"external_links":1,"defined_names":1,"comments":0,"pivot_tables":0},"unopened":[],"bounds":{"document_bytes":16777216,"sheet_cells":100000,"run_cost":"one","rows_first":2000,"rows_last":500,"rows_between":2000,"halvings":0,"cell_chars":16384,"cell_head_chars":4096},"cells_cut":0,"cells_raw":0,"read":"whole","date_system":"1900"}

{"sheet":"PlayerGuideConfig","index":0,"n_rows":47,"n_cols":27,"rows_kept":47,"cut":false,"hidden":false,"merged":[]}
["ID","Index","NeedLevel","groupID","FingerType","dialogPos","NpcPos","NpcSize","SpeakerName","SpeakerStyle","SpeakerImage","desc","Highlighting","AwardItem","AwardItemNum","blackAlpha","Handle","IsSkip","fingerPos","TextSize","reversalFinger","reversalBox","ForceOnclick","forceText","voiceFile"]
["int","int","int","int","int","int[]","int[]","int[]","int","int","int","int","int","int[]","int[]","float","int","int","int[]","int[]","int","int","int","int","string"]
[]
["ID","序列","需要等级","引导组ID","手指类型\n1. 手指&光圈\n2. 手指\n3. 光圈\n-1：不要特效的光圈","对话框位置\n-1：上次位置-其实是000","ncp的位置 因为灵活需要单独配置 注意和对话框的位置匹配","npc形象缩放","说话人文本ID","对话风格\n1: 仅文本框\n2: 头像+框\n3: 立绘\n4.气泡对话","说话人形象\n使用EventNpclID\n\n当SpeakerStyle=2,3生效","对话内容","高亮动效框\n0/不填：无\n1：默认动效框","奖励道具ID\n-1：无","奖励道具数量\n-1：无","黑底透明度\n0/不填：无\n0~1 透明度","异常中断\n1: 跳过\n2: 重做\n3: 续做","是否跳过\n0/不填：不跳\n1: 跳过","手指位置\n-1：上次位置","文本大小\n\nSpeakerStyle=1 or 2时\n文本框为动态大小\n","1：指左\n2：指右","1：靠左（默认）\n2：靠右","是否强制点击\n0 默认点击屏幕下一步\n1 强制点击指定区域下一步\n","是否强制对话\n1：必须对话完毕\n0：对话保留最后一句","配音文件","备注1","备注2"]
[101,1,0,1,1,"-125;-100","422;-100","500;500",null,1,"3",-1,1,-1,-1,0,1,0,"-1","1240;157",1,2,1,1,null,{"$f":"VLOOKUP(L5,[1]语言配置表!$A:$B,2,FALSE)","v":{"$error":"#N/A"}}]
[102,2,0,1,-1,"-145;92","422;-100","500;500",null,1,"3",10132,1,-1,-1,0.8,1,0,"-1","1240;157",1,2,0,1,null,{"$f":"VLOOKUP(L6,[1]语言配置表!$A:$B,2,FALSE)","v":"七道心境吗？未曾听闻...;虽只剩练气修为，不过勉强还可以御剑飞行.;风铃指向北海，那里有鲲鹏的踪迹吗，去看看吧。"}]
[103,3,0,1,1,"-328;-246","422;-100","500;500",null,1,"3",10133,0,-1,-1,0.8,1,0,"-1","1240;157",1,2,1,1,null,{"$f":"VLOOKUP(L7,[1]语言配置表!$A:$B,2,FALSE)","v":"去看看"}]
[]
[201,1,0,2,1,"-182;-564","422;-100","500;500",null,1,"3",10134,0,-1,-1,0.8,1,0,"-1","1240;157",1,2,1,1,null,{"$f":"VLOOKUP(L9,[1]语言配置表!$A:$B,2,FALSE)","v":"点击这里，使用神识"}]
[202,2,0,2,1,"-191;-424","422;-100","500;500",null,1,"3",10135,1,-1,-1,0.8,1,0,"-1","1240;157",1,2,1,1,null,{"$f":"VLOOKUP(L10,[1]语言配置表!$A:$B,2,FALSE)","v":"神识探索可以发现不同的事件，点这里开始探索"}]
[203,3,0,2,-1,"-215;-117","422;-100","500;500",null,1,"3",10136,1,-1,-1,0.8,1,0,"-1","1240;157",1,2,0,1,null,{"$f":"VLOOKUP(L11,[1]语言配置表!$A:$B,2,FALSE)","v":"这里就是仙途事件了，修仙途中的所有事件，都会显示在这里"}]
[204,4,0,2,-1,"-180;-276","422;-100","500;500",null,1,"3",10137,1,-1,-1,0.8,1,0,"-1","1240;157",1,2,0,1,null,{"$f":"VLOOKUP(L12,[1]语言配置表!$A:$B,2,FALSE)","v":"这部分是神识探索到的事件"}]
[205,5,0,2,-1,"-138;262","422;-100","500;500",null,1,"3",10138,1,-1,-1,0.8,1,0,"-1","1240;157",1,2,0,1,null,{"$f":"VLOOKUP(L13,[1]语言配置表!$A:$B,2,FALSE)","v":"上方是主线事件"}]
[206,6,0,2,1,"-174;252","422;-100","500;500",null,1,"3",10139,1,-1,-1,0.8,1,0,"-1","1240;157",1,2,1,1,null,{"$f":"VLOOKUP(L14,[1]语言配置表!$A:$B,2,FALSE)","v":"我们先完成主线吧"}]
[207,7,0,2,1,"-125;-100","422;-100","500;500",null,1,"3",-1,1,-1,-1,0.8,1,0,"-1","1240;157",1,2,1,1,null,{"$f":"VLOOKUP(L15,[1]语言配置表!$A:$B,2,FALSE)","v":{"$error":"#N/A"}}]
[{"$nulls":10},"3"]
[{"$f":"D17*100+B17","v":301},1,0,3,1,"-182;-517","422;-100","500;500",null,1,"3",10140,1,-1,-1,0.55,1,0,"-1","1240;157",1,2,1,1,null,{"$f":"VLOOKUP(L17,[1]语言配置表!$A:$B,2,FALSE)","v":"再完成{0}个神识事件，就可以发现新地点了"}]
[302,2,0,3,1,"-182;-517","422;-100","500;500",null,1,"3",-1,1,-1,-1,0.55,1,0,"-1","1240;157",1,2,1,1,null,{"$f":"VLOOKUP(L18,[1]语言配置表!$A:$B,2,FALSE)","v":{"$error":"#N/A"}}]
[303,3,0,3,-1,"-182;-517","422;-100","500;500",null,1,"3",10141,1,-1,-1,0.55,1,0,"-1","1240;157",1,2,0,1,null,{"$f":"VLOOKUP(L19,[1]语言配置表!$A:$B,2,FALSE)","v":"每完成一个神识事件，都增加当前地点的探索度;再完成{0}个事件就可以把北海.海边探索完毕了;去看看。"}]
[]
[{"$f":"D21*100+B21","v":401},1,0,4,1,"-182;-517","422;-100","500;500",null,1,"3",10142,0,-1,-1,0.55,1,0,"-1","1240;157",1,2,1,1,null,{"$f":"VLOOKUP(L21,[1]语言配置表!$A:$B,2,FALSE)","v":"刚刚得到一本新的功法，去看看"}]
[402,2,0,4,-1,"-213;-487","422;-100","500;500",null,1,"3",10143,1,-1,-1,0.55,1,0,"-1","1240;157",1,2,0,1,null,{"$f":"VLOOKUP(L22,[1]语言配置表!$A:$B,2,FALSE)","v":"这些是你拥有的功法，刚刚获得的也在这里"}]
[403,3,0,4,-1,"-182;53","422;-100","500;500",null,1,"3",10144,1,-1,-1,0.55,1,0,"-1","1240;157",1,2,0,1,null,{"$f":"VLOOKUP(L23,[1]语言配置表!$A:$B,2,FALSE)","v":"上方的功法盘，显示了正在使用的功法"}]
[404,4,0,4,1,"-336;20","422;-100","500;500",null,1,"3",10145,1,-1,-1,0.55,1,0,"-1","1240;157",1,2,1,1,null,{"$f":"VLOOKUP(L24,[1]语言配置表!$A:$B,2,FALSE)","v":"点击这里，让新的功法运行起来"}]
[405,5,0,4,1,"-336;-408","422;-100","500;500",null,1,"3",10146,1,-1,-1,0.55,1,0,"-1","1240;157",1,2,1,1,null,{"$f":"VLOOKUP(L25,[1]语言配置表!$A:$B,2,FALSE)","v":"先上一个"}]
[406,6,0,4,-1,"-182;177","422;-100","500;500",null,1,"3",10147,1,-1,-1,0.2,1,0,"-1","1240;157",1,2,0,1,null,{"$f":"VLOOKUP(L26,[1]语言配置表!$A:$B,2,FALSE)","v":"可以将功法放入功法盘的任意空位"}]
[407,7,0,4,1,"-182;177","422;-100","500;500",null,1,"3",10148,1,-1,-1,0.55,1,0,"-1","1240;157",1,2,1,1,null,{"$f":"VLOOKUP(L27,[1]语言配置表!$A:$B,2,FALSE)","v":"这是火系功法，将它放在功法盘的火属性附近"}]
[408,8,0,4,1,"-182;177","422;-100","500;500",null,1,"3",10426,1,-1,-1,0.55,1,0,"-1","1240;157",1,2,1,1,null,{"$f":"VLOOKUP(L28,[1]语言配置表!$A:$B,2,FALSE)","v":"再上阵一个辅助功法，它能加强其他功法的效果。"}]
[409,9,0,4,1,"-182;177","422;-100","500;500",null,1,"3",10427,1,-1,-1,0.55,1,0,"-1","1240;157",1,2,1,1,null,{"$f":"VLOOKUP(L29,[1]语言配置表!$A:$B,2,FALSE)","v":"放在这里，可以让旁边的功法更强！！"}]
[410,10,0,4,1,"-182;-621","422;-100","500;500",null,1,"3",10149,1,-1,-1,0.1,1,0,"-1","1240;157",1,2,1,1,null,{"$f":"VLOOKUP(L30,[1]语言配置表!$A:$B,2,FALSE)","v":"功法盘调整完毕，点这里退出调整"}]
[]
[{"$f":"D32*100+B32","v":501},1,0,5,1,"-182;-517","422;-100","500;500",null,4,"3",10150,1,-1,-1,0,1,0,"-1","1240;157",1,2,0,1,null,{"$f":"VLOOKUP(L32,[1]语言配置表!$A:$B,2,FALSE)","v":"已经失败了这么多次，我这次一定要渡劫成功！"}]
[]
[601,1,0,6,1,"-182;-517","422;-100","500;500",null,1,"3",10416,1,-1,-1,0,1,0,"-1","1240;157",1,2,1,1,null,{"$f":"VLOOKUP(L34,[1]语言配置表!$A:$B,2,FALSE)","v":"已经获得了不少修为，去洞府提升吧！"}]
[602,2,0,6,1,"-182;-517","422;-100","500;500",null,1,"3",-1,1,-1,-1,0,1,0,"-1","1240;157",1,2,1,1,null,{"$f":"VLOOKUP(L35,[1]语言配置表!$A:$B,2,FALSE)","v":{"$error":"#N/A"}}]
[603,3,0,6,1,"-182;-517","422;-100","500;500",null,1,"3",10417,1,-1,-1,0,1,0,"-1","1240;157",1,2,1,1,null,{"$f":"VLOOKUP(L36,[1]语言配置表!$A:$B,2,FALSE)","v":"点击突破并提升自己！"}]
[]
[{"$f":"D38*100+B38","v":701},1,0,7,1,"-182;-517","422;-100","500;500",null,1,"3",10418,1,-1,-1,0,1,0,"-1","1240;157",1,2,1,1,null,{"$f":"VLOOKUP(L38,[1]语言配置表!$A:$B,2,FALSE)","v":" 听说这里可以免费获得代金券？这些是可以白嫖吗？"}]
[702,2,0,7,1,"-182;-517","422;-100","500;500",null,1,"3",10419,1,-1,-1,0,1,0,"-1","1240;157",1,2,1,1,null,{"$f":"VLOOKUP(L39,[1]语言配置表!$A:$B,2,FALSE)","v":"点击这里，免费获得代金券！"}]
[703,3,0,7,1,"-182;-517","422;-100","500;500",null,1,"3",10420,1,-1,-1,0,1,0,"-1","1240;157",1,2,1,1,null,{"$f":"VLOOKUP(L40,[1]语言配置表!$A:$B,2,FALSE)","v":" 代金券可以兑换稀有资源，我们先去兑换一些妖丹。"}]
[704,4,0,7,1,"-182;-517","422;-100","500;500",null,1,"3",10421,1,-1,-1,0,1,0,"-1","1240;157",1,2,1,1,null,{"$f":"VLOOKUP(L41,[1]语言配置表!$A:$B,2,FALSE)","v":"点击这里，兑换妖丹。"}]
[705,5,0,7,1,"-182;-517","422;-100","500;500",null,1,"3",10422,1,-1,-1,0,1,0,"-1","1240;157",1,2,1,1,null,{"$f":"VLOOKUP(L42,[1]语言配置表!$A:$B,2,FALSE)","v":"先花328买3280个妖丹吧！"}]
[706,6,0,7,1,"-182;-517","422;-100","500;500",null,1,"3",10423,1,-1,-1,0,1,0,"-1","1240;157",1,2,1,1,null,{"$f":"VLOOKUP(L43,[1]语言配置表!$A:$B,2,FALSE)","v":"点这里确认购买"}]
[]
[{"$f":"D45*100+B45","v":801},1,0,8,1,"-182;-517","422;-100","500;500",null,1,"3",10424,1,-1,-1,0,1,0,"-1","1240;157",1,2,1,1,null,{"$f":"VLOOKUP(L45,[1]语言配置表!$A:$B,2,FALSE)","v":"还剩一些妖丹，去找点宝物吧！"}]
[802,2,0,8,1,"-182;-517","422;-100","500;500",null,1,"3",-1,1,-1,-1,0,1,0,"-1","1240;157",1,2,1,1,null,{"$f":"VLOOKUP(L46,[1]语言配置表!$A:$B,2,FALSE)","v":{"$error":"#N/A"}}]
[803,3,0,8,1,"-182;-517","422;-100","500;500",null,1,"3",10425,1,-1,-1,0,1,0,"-1","1240;157",1,2,0,1,null,{"$f":"VLOOKUP(L47,[1]语言配置表!$A:$B,2,FALSE)","v":"获得了2本完整的功法，可以用起来！"}]