{"text_format":"2","workbook":"xlsx","n_sheets":4,"sheets":["SkillConfig","SkillPowerupConfig","SkillConstant","技能设计"],"not_rendered":{"charts":0,"images":0,"macros":0,"external_links":0,"defined_names":1,"comments":0,"pivot_tables":0},"unopened":[],"bounds":{"document_bytes":16777216,"sheet_cells":100000,"run_cost":"one","rows_first":2000,"rows_last":500,"rows_between":2000,"halvings":0,"cell_chars":16384,"cell_head_chars":4096},"cells_cut":0,"cells_raw":0,"read":"whole","date_system":"1900"}

{"sheet":"SkillConfig","index":0,"n_rows":326,"n_cols":44,"rows_kept":326,"cut":false,"hidden":false,"merged":[]}
["ID","PieceID","power","name","dec",null,null,"attribute","icon","scriptName","IDGroup","timelineName","cd","SkillType","level","effectValue","intensifierIndex","addPropertyType","addPropertyValue","PromoteLan","PromoteLanPara","PromoteLanPara"]
["int","int","float","int","int",null,null,"int","string","string","int","string","float","int","int","float[]","int[]","int[]","float[]","int","float[]","float[]"]
[{"$nulls":32},{"$f":"SUMIFS(AG5:AG9999,$A5:$A9999,\"<>\"&\"\",$O5:$O9999,6)","v":229},{"$f":"SUMIFS(AH5:AH9999,$A5:$A9999,\"<>\"&\"\",$O5:$O9999,6)","v":204},209,10,10,20,20,10]
["技能ID\nIDGroup+技能等级\n901开头是法宝技能","对应的碎片ID","功法强度\n基于标准强度的百分比\n50=50%","名称语言表ID","描述语言表ID","技能名称","技能效果","技能属性\n1=金\n2=水\n4=木\n8=火\n16=土","图标","脚本名称","技能组","技能的timeline表现，没得就不填，这个可以程序填","功法：多少圈释放1次\n法宝：CD多少秒","技能类型:\n1=主动功法\n2=被动功法\n3=法宝技能\n4=大道\n","星级","效果值","允许被加强的效果下表","属性ID表内对应\n101=生命百分比\n102=攻击百分比\n103=防御百分比\n106~110=金木水火土灵根\n","具体效果值","升星简短描述","升星简短描述参数","哪边的法宝被影响\n0=无\n1=前方\n-1=后方","数值1","数值2","数值3","数值4","数值5","数值6","数值7","升星描述",null,null,101,102,103,106,107,108,109,110]
[null,"英雄-主动功法区域"]
[{"$f":"K6*10+O6-1","v":11010},13001,100,316,739,"太虚幻剑经","身体周围幻化出{0}柄细剑，每柄细剑对敌人造成{1}%伤害，并有{2}几率对敌人造成1层流血。",1,{"$f":"CONCATENATE(\"icon_s\",K6)","v":"icon_s1101"},{"$f":"CONCATENATE(\"S\",K6)","v":"S1101"},1101,"1101_timeline_TD",1,1,1,{"$f":"_xlfn.TEXTJOIN(\";\",1,W6:AC6)","v":"6;60;15"},2,{"$f":"_xlfn.TEXTJOIN(\";\",1,IF(AG6=\"\",\"\",101),IF(AH6=\"\",\"\",102),IF(AI6=\"\",\"\",103),IF(AJ6=\"\",\"\",106),IF(AK6=\"\",\"\",107),IF(AL6=\"\",\"\",108),IF(AM6=\"\",\"\",109),IF(AN6=\"\",\"\",110))","v":""},{"$f":"_xlfn.TEXTJOIN(\";\",1,AG6:AN6)","v":""},-1,null,null,6,60,15,{"$nulls":5},{"$f":"IF(F6=\"\",\"\",CONCATENATE(F6,\"·\",CHOOSE(O6,\"壹\",\"贰\",\"叁\",\"肆\",\"伍\",\"陆\")))","v":"太虚幻剑经·壹"}]
[{"$f":"K7*10+O7-1","v":11011},13001,150,317,740,"太虚幻剑经","身体周围幻化出{0}柄细剑，每柄细剑对敌人造成{1}%伤害，并有{2}几率对敌人造成1层流血。",1,"icon_s1101",{"$f":"CONCATENATE(\"S\",K7)","v":"S1101"},1101,"1101_timeline_TD",1,1,2,{"$f":"_xlfn.TEXTJOIN(\";\",1,W7:AC7)","v":"8;60;15"},2,{"$f":"_xlfn.TEXTJOIN(\";\",1,IF(AG7=\"\",\"\",101),IF(AH7=\"\",\"\",102),IF(AI7=\"\",\"\",103),IF(AJ7=\"\",\"\",106),IF(AK7=\"\",\"\",107),IF(AL7=\"\",\"\",108),IF(AM7=\"\",\"\",109),IF(AN7=\"\",\"\",110))","v":""},{"$f":"_xlfn.TEXTJOIN(\";\",1,AG7:AN7)","v":""},1100,2,null,8,60,15,{"$nulls":4},{"$f":"CONCATENATE(\"飞剑数量+\",U7)","v":"飞剑数量+2"},{"$f":"IF(F7=\"\",\"\",CONCATENATE(F7,\"·\",CHOOSE(O7,\"壹\",\"贰\",\"叁\",\"肆\",\"伍\",\"陆\")))","v":"太虚幻剑经·贰"}]
[11012,13001,225,318,741,"太虚幻剑经","身体周围幻化出{0}柄细剑，每柄细剑对敌人造成{1}%伤害，并有{2}几率对敌人造成1层流血。",1,"icon_s1101","S1101",1101,"1101_timeline_TD",1,1,3,"8;60;15",2,"101","10",1101,null,null,8,60,15,{"$nulls":4},{"$f":"CONCATENATE(\"生命+\",S8,\"%\")","v":"生命+10%"},"太虚幻剑经·叁",null,10]
[11013,13001,337.5,319,742,"太虚幻剑经","身体周围幻化出{0}柄细剑，每柄细剑对敌人造成{1}%伤害，并有{2}几率对敌人造成1层流血。\n如果敌人有减益状态，则虚剑伤害提升{3}%。",1,"icon_s1101","S1101",1101,"1101_timeline_TD",1,1,4,"9;60;15;20",2,"101","10",1102,1,null,9,60,15,20,null,null,null,{"$f":"CONCATENATE(\"飞剑数量+\",U9,\"，对带减益的敌人增伤\")","v":"飞剑数量+1，对带减益的敌人增伤"},"太虚幻剑经·肆",null,10]
[11014,13001,506.25,320,743,"太虚幻剑经","身体周围幻化出{0}柄细剑，每柄细剑对敌人造成{1}%伤害，并有{2}几率对敌人造成1层流血。\n如果敌人有减益状态，则虚剑伤害提升{3}%。",1,"icon_s1101","S1101",1101,"1101_timeline_TD",1,1,5,"9;60;15;20",2,"101","20",1103,null,null,9,60,15,20,null,null,null,{"$f":"CONCATENATE(\"生命+\",S10,\"%\")","v":"生命+20%"},"太虚幻剑经·伍",null,20]
[11015,13001,759.375,321,744,"太虚幻剑经","身体周围幻化出{0}柄更大体型的虚剑，每柄虚剑对敌人造成{1}%伤害，并有{2}几率对敌人造成1层流血。\n如果敌人有减益状态，则虚剑伤害提升{3}%。",1,"icon_s1101","S1101",1101,"1101_timeline_TD",1,1,6,"9;80;15;20",2,"101","20",1104,null,null,9,80,15,20,null,null,null,"发射伤害更高的幻剑","太虚幻剑经·陆",null,20]
[{"$nulls":30},""]
[{"$f":"K13*10+O13-1","v":11020},{"$f":"B6+1","v":13002},100,322,745,"天罡剑气诀","吸收自身灵气凝聚{0}柄大剑，大剑旋转快速穿透敌人对敌人照成{1}%伤害",1,{"$f":"CONCATENATE(\"icon_s\",K13)","v":"icon_s1102"},{"$f":"CONCATENATE(\"S\",K13)","v":"S1102"},{"$f":"K6+1","v":1102},"1102_timeline_TD",1,1,1,{"$f":"_xlfn.TEXTJOIN(\";\",1,W13:AC13)","v":"6;90"},2,{"$f":"_xlfn.TEXTJOIN(\";\",1,IF(AG13=\"\",\"\",101),IF(AH13=\"\",\"\",102),IF(AI13=\"\",\"\",103),IF(AJ13=\"\",\"\",106),IF(AK13=\"\",\"\",107),IF(AL13=\"\",\"\",108),IF(AM13=\"\",\"\",109),IF(AN13=\"\",\"\",110))","v":""},{"$f":"_xlfn.TEXTJOIN(\";\",1,AG13:AN13)","v":""},-1,null,null,6,90,{"$nulls":6},"天罡剑气诀·壹"]
[{"$f":"K14*10+O14-1","v":11021},{"$f":"B7+1","v":13002},150,323,746,"天罡剑气诀","吸收自身灵气凝聚{0}柄大剑，大剑旋转快速穿透敌人对敌人照成{1}%伤害\n敌人如果在流血或放血状态，对敌人造成的伤害+{2}%",1,{"$f":"CONCATENATE(\"icon_s\",K14)","v":"icon_s1102"},{"$f":"CONCATENATE(\"S\",K14)","v":"S1102"},{"$f":"K7+1","v":1102},"1102_timeline_TD",1,1,2,{"$f":"_xlfn.TEXTJOIN(\";\",1,W14:AC14)","v":"6;90;15"},2,{"$f":"_xlfn.TEXTJOIN(\";\",1,IF(AG14=\"\",\"\",101),IF(AH14=\"\",\"\",102),IF(AI14=\"\",\"\",103),IF(AJ14=\"\",\"\",106),IF(AK14=\"\",\"\",107),IF(AL14=\"\",\"\",108),IF(AM14=\"\",\"\",109),IF(AN14=\"\",\"\",110))","v":""},{"$f":"_xlfn.TEXTJOIN(\";\",1,AG14:AN14)","v":""},1105,2,null,6,90,15,{"$nulls":4},"对流血或放血敌人增伤","天罡剑气诀·贰"]
[11022,13002,225,324,747,"天罡剑气诀","吸收自身灵气凝聚{0}柄大剑，大剑旋转快速穿透敌人对敌人照成{1}%伤害\n敌人如果在流血或放血状态，对敌人造成的伤害+{2}%",1,"icon_s1102","S1102",1102,"1102_timeline_TD",1,1,3,"6;90;15",2,"102","10",1106,null,null,6,90,15,{"$nulls":4},{"$f":"CONCATENATE(\"生命+\",S15,\"%\")","v":"生命+10%"},"天罡剑气诀·叁",null,null,10]
[11023,13002,337.5,325,748,"天罡剑气诀","吸收自身灵气凝聚{0}柄大剑，大剑旋转快速穿透敌人对敌人照成{1}%伤害\n敌人如果在流血或放血状态，对敌人造成的伤害+{2}%\n重伤敌人后，如果目标没在放血状态，直接放血且不消耗流血层数",1,"icon_s1102","S1102",1102,"1102_timeline_TD",1,1,4,"6;90;15",2,"102","10",1107,1,null,6,90,15,{"$nulls":4},"无条件放血","天罡剑气诀·肆",null,null,10]
[11024,13002,506.25,326,749,"天罡剑气诀","吸收自身灵气凝聚{0}柄大剑，大剑旋转快速穿透敌人对敌人照成{1}%伤害\n敌人如果在流血或放血状态，对敌人造成的伤害+{2}%\n重伤敌人后，如果目标没在放血状态，直接放血且不消耗流血层数",1,"icon_s1102","S1102",1102,"1102_timeline_TD",1,1,5,"6;90;15",2,"102","20",1108,null,null,6,90,15,{"$nulls":4},{"$f":"CONCATENATE(\"生命+\",S17,\"%\")","v":"生命+20%"},"天罡剑气诀·伍",null,null,20]
[11025,13002,759.375,327,750,"天罡剑气诀","吸收自身灵气凝聚{0}柄大剑，大剑旋转快速穿透敌人对敌人照成{1}%伤害\n敌人如果在流血或放血状态，对敌人造成的伤害+{2}%\n重伤敌人后，如果目标没在放血状态，直接放血且不消耗流血层数\n全盛状态，剑的体型变大，对拼强度+{3}%，伤害提升{4}%",1,"icon_s1102","S1102",1102,"1102_timeline_TD",1,1,6,"6;90;15;100;30",2,"102","20",1109,null,null,6,90,15,100,30,null,null,"对拼强度和伤害提升","天罡剑气诀·陆",null,null,20]
[{"$nulls":30},"",{"$nulls":12}," "]
[{"$f":"K20*10+O20-1","v":11030},{"$f":"B13+1","v":13003},100,328,751,"血刃金煌功","向前方挥动{0}次，每次挥动形成一道血刃刀气，对敌人{1}造成伤害，并有{2}%概率对敌人造成流血。",1,{"$f":"CONCATENATE(\"icon_s\",K20)","v":"icon_s1103"},{"$f":"CONCATENATE(\"S\",K20)","v":"S1103"},{"$f":"K13+1","v":1103},"1103_timeline_TD",1,1,1,{"$f":"_xlfn.TEXTJOIN(\";\",1,W20:AC20)","v":"6;60;15"},2,{"$f":"_xlfn.TEXTJOIN(\";\",1,IF(AG20=\"\",\"\",101),IF(AH20=\"\",\"\",102),IF(AI20=\"\",\"\",103),IF(AJ20=\"\",\"\",106),IF(AK20=\"\",\"\",107),IF(AL20=\"\",\"\",108),IF(AM20=\"\",\"\",109),IF(AN20=\"\",\"\",110))","v":""},{"$f":"_xlfn.TEXTJOIN(\";\",1,AG20:AN20)","v":""},-1,null,null,6,60,15,{"$nulls":5},"血刃金煌功·壹"]
[{"$f":"K21*10+O21-1","v":11031},{"$f":"B14+1","v":13003},150,329,752,"血刃金煌功","向前方挥动{0}次，每次挥动形成一道血刃刀气，对敌人{1}造成伤害，并有{2}%概率对敌人造成流血。\n刀气命中目标后，恢复本次伤害{3}%的生命。",1,"icon_s1103",{"$f":"CONCATENATE(\"S\",K21)","v":"S1103"},{"$f":"K14+1","v":1103},"1103_timeline_TD",1,1,2,{"$f":"_xlfn.TEXTJOIN(\";\",1,W21:AC21)","v":"6;60;15;20"},2,{"$f":"_xlfn.TEXTJOIN(\";\",1,IF(AG21=\"\",\"\",101),IF(AH21=\"\",\"\",102),IF(AI21=\"\",\"\",103),IF(AJ21=\"\",\"\",106),IF(AK21=\"\",\"\",107),IF(AL21=\"\",\"\",108),IF(AM21=\"\",\"\",109),IF(AN21=\"\",\"\",110))","v":""},{"$f":"_xlfn.TEXTJOIN(\";\",1,AG21:AN21)","v":""},1110,null,null,6,60,15,20,null,null,null,"刀气命中回血","血刃金煌功·贰"]
[11032,13003,225,330,753,"血刃金煌功","向前方挥动{0}次，每次挥动形成一道血刃刀气，对敌人{1}造成伤害，并有{2}%概率对敌人造成流血。\n刀气命中目标后，恢复本次伤害{3}%的生命。",1,"icon_s1103","S1103",1103,"1103_timeline_TD",1,1,3,"6;60;15;20",2,"103","10",1111,null,null,6,60,15,20,null,null,null,{"$f":"CONCATENATE(\"攻击+\",S22,\"%\")","v":"攻击+10%"},"血刃金煌功·叁",null,null,null,10]
[11033,13003,337.5,331,754,"血刃金煌功","向前方挥动{0}次，每次挥动形成一道血刃刀气，对敌人{1}造成伤害，并有{2}%概率对敌人造成流血。\n刀气命中目标后，恢复本次伤害{3}%的生命。",1,"icon_s1103","S1103",1103,"1103_timeline_TD",1,1,4,"8;60;15;20",2,"103","10",1112,2,null,8,60,15,20,null,null,null,{"$f":"CONCATENATE(\"刀气+\",U23)","v":"刀气+2"},"血刃金煌功·肆",null,null,null,10]
[11034,13003,506.25,332,755,"血刃金煌功","向前方挥动{0}次，每次挥动形成一道血刃刀气，对敌人{1}造成伤害，并有{2}%概率对敌人造成流血。\n刀气命中目标后，恢复本次伤害{3}%的生命。",1,"icon_s1103","S1103",1103,"1103_timeline_TD",1,1,5,"8;60;15;20",2,"103","20",1113,null,null,8,60,15,20,null,null,null,{"$f":"CONCATENATE(\"攻击+\",S24,\"%\")","v":"攻击+20%"},"血刃金煌功·伍",null,null,null,20]
[11035,13003,759.375,333,756,"血刃金煌功","向前方挥动{0}次，每次挥动形成一道血刃刀气，对敌人{1}造成伤害，并有{2}%概率对敌人造成流血。\n刀气命中目标后，恢复本次伤害{3}%的生命。\n刀气对流血的敌人额外造成{4}%伤害，且再施加1层流血。",1,"icon_s1103","S1103",1103,"1103_timeline_TD",1,1,6,"8;60;15;20;20",2,"103","20",1114,null,null,8,60,15,20,20,null,null,"对流血目标增伤，再次放血","血刃金煌功·陆",null,null,null,20]
[{"$nulls":30},""]
[{"$f":"K27*10+O27-1","v":11040},{"$f":"B20+1","v":13004},100,334,757,"飞刃","发射{0}枚飞刀，对敌人造成{1}%伤害。",1,{"$f":"CONCATENATE(\"icon_s\",K27)","v":"icon_s1104"},{"$f":"CONCATENATE(\"S\",K27)","v":"S1104"},{"$f":"K20+1","v":1104},"1104_timeline_TD",1,1,1,{"$f":"_xlfn.TEXTJOIN(\";\",1,W27:AC27)","v":"6;60"},2,{"$f":"_xlfn.TEXTJOIN(\";\",1,IF(AG27=\"\",\"\",101),IF(AH27=\"\",\"\",102),IF(AI27=\"\",\"\",103),IF(AJ27=\"\",\"\",106),IF(AK27=\"\",\"\",107),IF(AL27=\"\",\"\",108),IF(AM27=\"\",\"\",109),IF(AN27=\"\",\"\",110))","v":""},{"$f":"_xlfn.TEXTJOIN(\";\",1,AG27:AN27)","v":""},-1,null,null,6,60,{"$nulls":6},"飞刃·壹"]
[{"$f":"K28*10+O28-1","v":11041},{"$f":"B21+1","v":13004},150,335,758,"飞刃","发射{0}枚飞刀，对敌人造成{1}%伤害。",1,"icon_s1104",{"$f":"CONCATENATE(\"S\",K28)","v":"S1104"},{"$f":"K21+1","v":1104},"1104_timeline_TD",1,1,2,{"$f":"_xlfn.TEXTJOIN(\";\",1,W28:AC28)","v":"6;60"},2,{"$f":"_xlfn.TEXTJOIN(\";\",1,IF(AG28=\"\",\"\",101),IF(AH28=\"\",\"\",102),IF(AI28=\"\",\"\",103),IF(AJ28=\"\",\"\",106),IF(AK28=\"\",\"\",107),IF(AL28=\"\",\"\",108),IF(AM28=\"\",\"\",109),IF(AN28=\"\",\"\",110))","v":"101;102;103"},{"$f":"_xlfn.TEXTJOIN(\";\",1,AG28:AN28)","v":"2;2;2"},1115,null,null,6,60,{"$nulls":5},{"$f":"CONCATENATE(\"生命、攻击、防御+\",S28,\"%\")","v":"生命、攻击、防御+2;2;2%"},"飞刃·贰",null,2,2,2]
[11042,13004,225,336,759,"飞刃","发射{0}枚飞刀，对敌人造成{1}%伤害。",1,"icon_s1104","S1104",1104,"1104_timeline_TD",1,1,3,"8;60",2,"101;102;103","2;2;2",1116,2,null,8,60,{"$nulls":5},{"$f":"CONCATENATE(\"飞刀数量+\",U29)","v":"飞刀数量+2"},"飞刃·叁",null,2,2,2]
[11043,13004,337.5,337,760,"飞刃","发射{0}枚飞刀，对敌人造成{1}%伤害。",1,"icon_s1104","S1104",1104,"1104_timeline_TD",1,1,4,"8;60",2,"101;102;103","4;4;4",1117,null,null,8,60,{"$nulls":5},{"$f":"CONCATENATE(\"生命、攻击、防御+\",S30,\"%\")","v":"生命、攻击、防御+4;4;4%"},"飞刃·肆",null,4,4,4]
[11044,13004,506.25,338,761,"飞刃","发射{0}枚飞刀，对敌人造成{1}%伤害。",1,"icon_s1104","S1104",1104,"1104_timeline_TD",1,1,5,"10;60",2,"101;102;103","4;4;4",1118,2,null,10,60,{"$nulls":5},{"$f":"CONCATENATE(\"飞刀数量+\",U31)","v":"飞刀数量+2"},"飞刃·伍",null,4,4,4]
[11045,13004,759.375,339,762,"飞刃","发射{0}枚飞刀，对敌人造成{1}%伤害。",1,"icon_s1104","S1104",1104,"1104_timeline_TD",1,1,6,"10;60",2,"101;102;103","6;6;6",1119,null,null,10,60,{"$nulls":5},"生命、攻击、防御+6;6;6%","飞刃·陆",null,6,6,6]
[{"$nulls":30},""]
[{"$f":"K34*10+O34-1","v":11050},{"$f":"B27+1","v":13005},100,340,763,"金针","手中快速发射{0}%枚金针，对敌人造成{1}%伤害，并有{2}%概率施加1层流血。",1,{"$f":"CONCATENATE(\"icon_s\",K34)","v":"icon_s1105"},{"$f":"CONCATENATE(\"S\",K34)","v":"S1105"},{"$f":"K27+1","v":1105},"1105_timeline_TD",1,1,1,{"$f":"_xlfn.TEXTJOIN(\";\",1,W34:AC34)","v":"3;120;30"},2,{"$f":"_xlfn.TEXTJOIN(\";\",1,IF(AG34=\"\",\"\",101),IF(AH34=\"\",\"\",102),IF(AI34=\"\",\"\",103),IF(AJ34=\"\",\"\",106),IF(AK34=\"\",\"\",107),IF(AL34=\"\",\"\",108),IF(AM34=\"\",\"\",109),IF(AN34=\"\",\"\",110))","v":""},{"$f":"_xlfn.TEXTJOIN(\";\",1,AG34:AN34)","v":""},-1,null,null,3,120,30,{"$nulls":5},"金针·壹"]
[{"$f":"K35*10+O35-1","v":11051},{"$f":"B28+1","v":13005},150,341,764,"金针","手中快速发射{0}%枚金针，对敌人造成{1}%伤害，并有{2}%概率施加1层流血。",1,"icon_s1105",{"$f":"CONCATENATE(\"S\",K35)","v":"S1105"},{"$f":"K28+1","v":1105},"1105_timeline_TD",1,1,2,{"$f":"_xlfn.TEXTJOIN(\";\",1,W35:AC35)","v":"3;120;30"},2,{"$f":"_xlfn.TEXTJOIN(\";\",1,IF(AG35=\"\",\"\",101),IF(AH35=\"\",\"\",102),IF(AI35=\"\",\"\",103),IF(AJ35=\"\",\"\",106),IF(AK35=\"\",\"\",107),IF(AL35=\"\",\"\",108),IF(AM35=\"\",\"\",109),IF(AN35=\"\",\"\",110))","v":"101;102;103"},{"$f":"_xlfn.TEXTJOIN(\";\",1,AG35:AN35)","v":"2;2;2"},1120,null,null,3,120,30,{"$nulls":4},{"$f":"CONCATENATE(\"生命、攻击、防御+\",S35,\"%\")","v":"生命、攻击、防御+2;2;2%"},"金针·贰",null,2,2,2]
[11052,13005,225,342,765,"金针","手中快速发射{0}%枚金针，对敌人造成{1}%伤害，并有{2}%概率施加1层流血。",1,"icon_s1105","S1105",1105,"1105_timeline_TD",1,1,3,"4;120;30",2,"101;102;103","2;2;2",1121,1,null,4,120,30,{"$nulls":4},{"$f":"CONCATENATE(\"金针数量+\",U36)","v":"金针数量+1"},"金针·叁",null,2,2,2]
[11053,13005,337.5,343,766,"金针","手中快速发射{0}%枚金针，对敌人造成{1}%伤害，并有{2}%概率施加1层流血。",1,"icon_s1105","S1105",1105,"1105_timeline_TD",1,1,4,"4;120;30",2,"101;102;103","4;4;4",1122,null,null,4,120,30,{"$nulls":4},{"$f":"CONCATENATE(\"生命、攻击、防御+\",S37,\"%\")","v":"生命、攻击、防御+4;4;4%"},"金针·肆",null,4,4,4]
[11054,13005,506.25,344,767,"金针","手中快速发射{0}%枚金针，对敌人造成{1}%伤害，并有{2}%概率施加1层流血。",1,"icon_s1105","S1105",1105,"1105_timeline_TD",1,1,5,"5;120;30",2,"101;102;103","4;4;4",1123,1,null,5,120,30,{"$nulls":4},{"$f":"CONCATENATE(\"金针数量+\",U38)","v":"金针数量+1"},"金针·伍",null,4,4,4]
[11055,13005,759.375,345,768,"金针","手中快速发射{0}%枚金针，对敌人造成{1}%伤害，并有{2}%概率施加1层流血。",1,"icon_s1105","S1105",1105,"1105_timeline_TD",1,1,6,"5;120;30",2,"101;102;103","6;6;6",1124,null,null,5,120,30,{"$nulls":4},{"$f":"CONCATENATE(\"生命、攻击、防御+\",S39,\"%\")","v":"生命、攻击、防御+6;6;6%"},"金针·陆",null,6,6,6]
[{"$nulls":30},""]
[{"$f":"K41*10+O41-1","v":12010},{"$f":"B34+1","v":13006},100,346,769,"碧落幽冥劲","发出{0}道寒气冰锥，对敌人照成{1}%伤害，每到冰锥有{2}%概率对敌人施加1层寒气",2,{"$f":"CONCATENATE(\"icon_s\",K41)","v":"icon_s1201"},{"$f":"CONCATENATE(\"S\",K41)","v":"S1201"},1201,"1201_timeline_TD",1,1,1,{"$f":"_xlfn.TEXTJOIN(\";\",1,W41:AC41)","v":"3;120;30"},2,{"$f":"_xlfn.TEXTJOIN(\";\",1,IF(AG41=\"\",\"\",101),IF(AH41=\"\",\"\",102),IF(AI41=\"\",\"\",103),IF(AJ41=\"\",\"\",106),IF(AK41=\"\",\"\",107),IF(AL41=\"\",\"\",108),IF(AM41=\"\",\"\",109),IF(AN41=\"\",\"\",110))","v":""},{"$f":"_xlfn.TEXTJOIN(\";\",1,AG41:AN41)","v":""},-1,null,null,3,120,30,{"$nulls":5},"碧落幽冥劲·壹"]
[{"$f":"K42*10+O42-1","v":12011},{"$f":"B35+1","v":13006},150,347,770,"碧落幽冥劲","发出{0}道寒气冰锥，对敌人照成{1}%伤害，每到冰锥有{2}%概率对敌人施加1层寒气",2,"icon_s1201",{"$f":"CONCATENATE(\"S\",K42)","v":"S1201"},1201,"1201_timeline_TD",1,1,2,{"$f":"_xlfn.TEXTJOIN(\";\",1,W42:AC42)","v":"4;120;30"},2,{"$f":"_xlfn.TEXTJOIN(\";\",1,IF(AG42=\"\",\"\",101),IF(AH42=\"\",\"\",102),IF(AI42=\"\",\"\",103),IF(AJ42=\"\",\"\",106),IF(AK42=\"\",\"\",107),IF(AL42=\"\",\"\",108),IF(AM42=\"\",\"\",109),IF(AN42=\"\",\"\",110))","v":""},{"$f":"_xlfn.TEXTJOIN(\";\",1,AG42:AN42)","v":""},1125,1,null,4,120,30,{"$nulls":4},{"$f":"CONCATENATE(\"冰锥数量+\",U42)","v":"冰锥数量+1"},"碧落幽冥劲·贰"]
[12012,13006,225,348,771,"碧落幽冥劲","发出{0}道寒气冰锥，对敌人照成{1}%伤害，每到冰锥有{2}%概率对敌人施加1层寒气",2,"icon_s1201","S1201",1201,"1201_timeline_TD",1,1,3,"4;120;30",2,"101","10",1126,null,null,4,120,30,{"$nulls":4},{"$f":"CONCATENATE(\"生命+\",S43,\"%\")","v":"生命+10%"},"碧落幽冥劲·叁",null,10]
[12013,13006,337.5,349,772,"碧落幽冥劲","发出{0}道寒气冰锥，对敌人照成{1}%伤害，每到冰锥有{2}%概率对敌人施加1层寒气",2,"icon_s1201","S1201",1201,"1201_timeline_TD",1,1,4,"5;120;30",2,"101","10",1127,1,null,5,120,30,{"$nulls":4},{"$f":"CONCATENATE(\"冰锥数量+\",U44)","v":"冰锥数量+1"},"碧落幽冥劲·肆",null,10]
[12014,13006,506.25,350,773,"碧落幽冥劲","发出{0}道寒气冰锥，对敌人照成{1}%伤害，每到冰锥有{2}%概率对敌人施加1层寒气",2,"icon_s1201","S1201",1201,"1201_timeline_TD",1,1,5,"5;120;30",2,"101","20",1128,null,null,5,120,30,{"$nulls":4},{"$f":"CONCATENATE(\"生命+\",S45,\"%\")","v":"生命+20%"},"碧落幽冥劲·伍",null,20]
[12015,13006,759.375,351,774,"碧落幽冥劲","发出{0}道寒气冰锥，对敌人照成{1}%伤害，每到冰锥有{2}%概率对敌人施加1层寒气",2,"icon_s1201","S1201",1201,"1201_timeline_TD",1,1,6,"6;120;30",2,"101","20",1129,1,null,6,120,30,{"$nulls":4},{"$f":"CONCATENATE(\"冰锥数量+\",U46)","v":"冰锥数量+1"},"碧落幽冥劲·陆",null,20]
[{"$nulls":30},""]
[{"$f":"K48*10+O48-1","v":12020},{"$f":"B41+1","v":13007},100,352,775,"雾隐千流法","身体散发出一团迷雾。从迷雾中飞出{0}个冰球，每个冰球对敌人照成{1}%伤害，并有{2}%概率施加1层寒气",2,{"$f":"CONCATENATE(\"icon_s\",K48)","v":"icon_s1202"},{"$f":"CONCATENATE(\"S\",K48)","v":"S1202"},{"$f":"K41+1","v":1202},"1202_timeline_TD",1,1,1,{"$f":"_xlfn.TEXTJOIN(\";\",1,W48:AC48)","v":"3;120;30"},2,{"$f":"_xlfn.TEXTJOIN(\";\",1,IF(AG48=\"\",\"\",101),IF(AH48=\"\",\"\",102),IF(AI48=\"\",\"\",103),IF(AJ48=\"\",\"\",106),IF(AK48=\"\",\"\",107),IF(AL48=\"\",\"\",108),IF(AM48=\"\",\"\",109),IF(AN48=\"\",\"\",110))","v":""},{"$f":"_xlfn.TEXTJOIN(\";\",1,AG48:AN48)","v":""},-1,null,null,3,120,30,{"$nulls":5},"雾隐千流法·壹"]
[{"$f":"K49*10+O49-1","v":12021},{"$f":"B42+1","v":13007},150,353,776,"雾隐千流法","身体散发出一团迷雾。从迷雾中飞出{0}个冰球，每个冰球对敌人照成{1}%伤害，并有{2}%概率施加1层寒气",2,"icon_s1202",{"$f":"CONCATENATE(\"S\",K49)","v":"S1202"},{"$f":"K42+1","v":1202},"1202_timeline_TD",1,1,2,{"$f":"_xlfn.TEXTJOIN(\";\",1,W49:AC49)","v":"4;120;30"},2,{"$f":"_xlfn.TEXTJOIN(\";\",1,IF(AG49=\"\",\"\",101),IF(AH49=\"\",\"\",102),IF(AI49=\"\",\"\",103),IF(AJ49=\"\",\"\",106),IF(AK49=\"\",\"\",107),IF(AL49=\"\",\"\",108),IF(AM49=\"\",\"\",109),IF(AN49=\"\",\"\",110))","v":""},{"$f":"_xlfn.TEXTJOIN(\";\",1,AG49:AN49)","v":""},1130,1,null,4,120,30,{"$nulls":4},{"$f":"CONCATENATE(\"冰球数量+\",U49)","v":"冰球数量+1"},"雾隐千流法·贰"]
[12022,13007,225,354,777,"雾隐千流法","身体散发出一团迷雾。从迷雾中飞出{0}个冰球，每个冰球对敌人照成{1}%伤害，并有{2}%概率施加1层寒气",2,"icon_s1202","S1202",1202,"1202_timeline_TD",1,1,3,"4;120;30",2,"103","10",1131,null,null,4,120,30,{"$nulls":4},{"$f":"CONCATENATE(\"攻击+\",S50,\"%\")","v":"攻击+10%"},"雾隐千流法·叁",null,null,null,10]
[12023,13007,337.5,355,778,"雾隐千流法","身体散发出一团迷雾。从迷雾中飞出{0}个冰球，每个冰球对敌人照成{1}%伤害，并有{2}%概率施加1层寒气",2,"icon_s1202","S1202",1202,"1202_timeline_TD",1,1,4,"5;120;30",2,"103","10",1132,1,null,5,120,30,{"$nulls":4},{"$f":"CONCATENATE(\"冰球数量+\",U51)","v":"冰球数量+1"},"雾隐千流法·肆",null,null,null,10]
[12024,13007,506.25,356,779,"雾隐千流法","身体散发出一团迷雾。从迷雾中飞出{0}个冰球，每个冰球对敌人照成{1}%伤害，并有{2}%概率施加1层寒气",2,"icon_s1202","S1202",1202,"1202_timeline_TD",1,1,5,"5;120;30",2,"103","20",1133,null,null,5,120,30,{"$nulls":4},{"$f":"CONCATENATE(\"攻击+\",S52,\"%\")","v":"攻击+20%"},"雾隐千流法·伍",null,null,null,20]
[12025,13007,759.375,357,780,"雾隐千流法","身体散发出一团迷雾。从迷雾中飞出{0}个冰球，每个冰球对敌人照成{1}%伤害，并有{2}%概率施加1层寒气",2,"icon_s1202","S1202",1202,"1202_timeline_TD",1,1,6,"6;120;30",2,"103","20",1134,1,null,6,120,30,{"$nulls":4},{"$f":"CONCATENATE(\"冰球数量+\",U53)","v":"冰球数量+1"},"雾隐千流法·陆",null,null,null,20]
[{"$nulls":30},""]
[null,{"$f":"B48+1","v":13008},100,358,781,null,"占位",2,{"$f":"CONCATENATE(\"icon_s\",K55)","v":"icon_s1203"},{"$f":"CONCATENATE(\"S\",K55)","v":"S1203"},{"$f":"K48+1","v":1203},"bingqiu_timeline_TD",1,1,1,{"$f":"_xlfn.TEXTJOIN(\";\",1,W55:AC55)","v":"3;120;30"},2,{"$f":"_xlfn.TEXTJOIN(\";\",1,IF(AG55=\"\",\"\",101),IF(AH55=\"\",\"\",102),IF(AI55=\"\",\"\",103),IF(AJ55=\"\",\"\",106),IF(AK55=\"\",\"\",107),IF(AL55=\"\",\"\",108),IF(AM55=\"\",\"\",109),IF(AN55=\"\",\"\",110))","v":""},{"$f":"_xlfn.TEXTJOIN(\";\",1,AG55:AN55)","v":""},-1,null,null,3,120,30,{"$nulls":5},{"$f":"IF(F55=\"\",\"\",CONCATENATE(F55,\"·\",CHOOSE(O55,\"壹\",\"贰\",\"叁\",\"肆\",\"伍\",\"陆\")))","v":""}]
[null,{"$f":"B49+1","v":13008},150,359,782,null,"占位",2,"icon_s1203",{"$f":"CONCATENATE(\"S\",K56)","v":"S1203"},{"$f":"K49+1","v":1203},"bingqiu_timeline_TD",1,1,2,{"$f":"_xlfn.TEXTJOIN(\";\",1,W56:AC56)","v":"4;120;30"},2,{"$f":"_xlfn.TEXTJOIN(\";\",1,IF(AG56=\"\",\"\",101),IF(AH56=\"\",\"\",102),IF(AI56=\"\",\"\",103),IF(AJ56=\"\",\"\",106),IF(AK56=\"\",\"\",107),IF(AL56=\"\",\"\",108),IF(AM56=\"\",\"\",109),IF(AN56=\"\",\"\",110))","v":"102"},{"$f":"_xlfn.TEXTJOIN(\";\",1,AG56:AN56)","v":"10"},1135,1,null,4,120,30,{"$nulls":4},{"$f":"CONCATENATE(\"冰球数量+\",U56)","v":"冰球数量+1"},"",null,null,10]
[null,13008,225,360,783,null,"占位",2,"icon_s1203","S1203",1203,"bingqiu_timeline_TD",1,1,3,"4;120;30",2,"102","10",1136,null,null,4,120,30,{"$nulls":4},{"$f":"CONCATENATE(\"攻击+\",S57,\"%\")","v":"攻击+10%"},"",null,null,10]
[null,13008,337.5,361,784,null,"占位",2,"icon_s1203","S1203",1203,"bingqiu_timeline_TD",1,1,4,"5;120;30",2,"102","20",1137,1,null,5,120,30,{"$nulls":4},{"$f":"CONCATENATE(\"冰球数量+\",U58)","v":"冰球数量+1"},"",null,null,20]
[null,13008,506.25,362,785,null,"占位",2,"icon_s1203","S1203",1203,"bingqiu_timeline_TD",1,1,5,"5;120;30",2,"102","20",1138,null,null,5,120,30,{"$nulls":4},{"$f":"CONCATENATE(\"攻击+\",S59,\"%\")","v":"攻击+20%"},"",null,null,20]
[null,13008,759.375,363,786,null,"占位",2,"icon_s1203","S1203",1203,"bingqiu_timeline_TD",1,1,6,"6;120;30",2,"","",1139,1,null,6,120,30,{"$nulls":4},{"$f":"CONCATENATE(\"冰球数量+\",U60)","v":"冰球数量+1"},""]
[{"$nulls":8},{"$f":"CONCATENATE(\"icon_s\",K61)","v":"icon_s"},{"$nulls":21},""]
[{"$f":"K62*10+O62-1","v":12040},{"$f":"B55+1","v":13009},100,358,781,"水球","发射{0}枚水波，对敌人造成{1}%伤害。",2,"icon_s1204",{"$f":"CONCATENATE(\"S\",K62)","v":"S1204"},1204,"1204_timeline_TD",1,1,1,{"$f":"_xlfn.TEXTJOIN(\";\",1,W62:AC62)","v":"6;60"},2,{"$f":"_xlfn.TEXTJOIN(\";\",1,IF(AG62=\"\",\"\",101),IF(AH62=\"\",\"\",102),IF(AI62=\"\",\"\",103),IF(AJ62=\"\",\"\",106),IF(AK62=\"\",\"\",107),IF(AL62=\"\",\"\",108),IF(AM62=\"\",\"\",109),IF(AN62=\"\",\"\",110))","v":""},{"$f":"_xlfn.TEXTJOIN(\";\",1,AG62:AN62)","v":""},-1,null,null,6,60,{"$nulls":6},"水球·壹"]
[{"$f":"K63*10+O63-1","v":12041},{"$f":"B56+1","v":13009},150,359,782,"水球","发射{0}枚水波，对敌人造成{1}%伤害。",2,"icon_s1204",{"$f":"CONCATENATE(\"S\",K63)","v":"S1204"},1204,"1204_timeline_TD",1,1,2,{"$f":"_xlfn.TEXTJOIN(\";\",1,W63:AC63)","v":"6;60"},2,{"$f":"_xlfn.TEXTJOIN(\";\",1,IF(AG63=\"\",\"\",101),IF(AH63=\"\",\"\",102),IF(AI63=\"\",\"\",103),IF(AJ63=\"\",\"\",106),IF(AK63=\"\",\"\",107),IF(AL63=\"\",\"\",108),IF(AM63=\"\",\"\",109),IF(AN63=\"\",\"\",110))","v":"101;102;103"},{"$f":"_xlfn.TEXTJOIN(\";\",1,AG63:AN63)","v":"2;2;2"},1140,null,null,6,60,{"$nulls":5},{"$f":"CONCATENATE(\"生命、攻击、防御+\",S63,\"%\")","v":"生命、攻击、防御+2;2;2%"},"水球·贰",null,2,2,2]
[12042,13009,225,360,783,"水球","发射{0}枚水波，对敌人造成{1}%伤害。",2,"icon_s1204","S1204",1204,"1204_timeline_TD",1,1,3,"8;60",2,"101;102;103","2;2;2",1141,2,null,8,60,{"$nulls":5},{"$f":"CONCATENATE(\"水波数量+\",U64)","v":"水波数量+2"},"水球·叁",null,2,2,2]
[12043,13009,337.5,361,784,"水球","发射{0}枚水波，对敌人造成{1}%伤害。",2,"icon_s1204","S1204",1204,"1204_timeline_TD",1,1,4,"8;60",2,"101;102;103","4;4;4",1142,null,null,8,60,{"$nulls":5},{"$f":"CONCATENATE(\"生命、攻击、防御+\",S65,\"%\")","v":"生命、攻击、防御+4;4;4%"},"水球·肆",null,4,4,4]
[12044,13009,506.25,362,785,"水球","发射{0}枚水波，对敌人造成{1}%伤害。",2,"icon_s1204","S1204",1204,"1204_timeline_TD",1,1,5,"10;60",2,"101;102;103","4;4;4",1143,2,null,10,60,{"$nulls":5},{"$f":"CONCATENATE(\"水波数量+\",U66)","v":"水波数量+2"},"水球·伍",null,4,4,4]
[12045,13009,759.375,363,786,"水球","发射{0}枚水波，对敌人造成{1}%伤害。",2,{"$f":"CONCATENATE(\"icon_s\",K67)","v":"icon_s1204"},"S1204",1204,"1204_timeline_TD",1,1,6,"10;60",2,"101;102;103","6;6;6",1144,null,null,10,60,{"$nulls":5},{"$f":"CONCATENATE(\"生命、攻击、防御+\",S67,\"%\")","v":"生命、攻击、防御+6;6;6%"},"水球·陆",null,6,6,6]
[{"$nulls":8},"icon_s",{"$nulls":21},""]
[{"$f":"K69*10+O69-1","v":12050},{"$f":"B62+1","v":13010},100,364,787,"冰刀","发射{0}枚冰刀，对敌人造成{1}%伤害。",2,"icon_s1205",{"$f":"CONCATENATE(\"S\",K69)","v":"S1205"},1205,"1205_timeline_TD",1,1,1,{"$f":"_xlfn.TEXTJOIN(\";\",1,W69:AC69)","v":"6;60"},2,{"$f":"_xlfn.TEXTJOIN(\";\",1,IF(AG69=\"\",\"\",101),IF(AH69=\"\",\"\",102),IF(AI69=\"\",\"\",103),IF(AJ69=\"\",\"\",106),IF(AK69=\"\",\"\",107),IF(AL69=\"\",\"\",108),IF(AM69=\"\",\"\",109),IF(AN69=\"\",\"\",110))","v":""},{"$f":"_xlfn.TEXTJOIN(\";\",1,AG69:AN69)","v":""},-1,null,null,6,60,{"$nulls":6},"冰刀·壹"]
[{"$f":"K70*10+O70-1","v":12051},{"$f":"B63+1","v":13010},150,365,788,"冰刀","发射{0}枚冰刀，对敌人造成{1}%伤害。",2,"icon_s1205",{"$f":"CONCATENATE(\"S\",K70)","v":"S1205"},1205,"1205_timeline_TD",1,1,2,{"$f":"_xlfn.TEXTJOIN(\";\",1,W70:AC70)","v":"6;60"},2,{"$f":"_xlfn.TEXTJOIN(\";\",1,IF(AG70=\"\",\"\",101),IF(AH70=\"\",\"\",102),IF(AI70=\"\",\"\",103),IF(AJ70=\"\",\"\",106),IF(AK70=\"\",\"\",107),IF(AL70=\"\",\"\",108),IF(AM70=\"\",\"\",109),IF(AN70=\"\",\"\",110))","v":"101;102;103"},{"$f":"_xlfn.TEXTJOIN(\";\",1,AG70:AN70)","v":"2;2;2"},1145,null,null,6,60,{"$nulls":5},{"$f":"CONCATENATE(\"生命、攻击、防御+\",S70,\"%\")","v":"生命、攻击、防御+2;2;2%"},"冰刀·贰",null,2,2,2]
[12052,13010,225,366,789,"冰刀","发射{0}枚冰刀，对敌人造成{1}%伤害。",2,"icon_s1205","S1205",1205,"1205_timeline_TD",1,1,3,"8;60",2,"101;102;103","2;2;2",1146,2,null,8,60,{"$nulls":5},{"$f":"CONCATENATE(\"冰刀数量+\",U71)","v":"冰刀数量+2"},"冰刀·叁",null,2,2,2]
[12053,13010,337.5,367,790,"冰刀","发射{0}枚冰刀，对敌人造成{1}%伤害。",2,"icon_s1205","S1205",1205,"1205_timeline_TD",1,1,4,"8;60",2,"101;102;103","4;4;4",1147,null,null,8,60,{"$nulls":5},{"$f":"CONCATENATE(\"生命、攻击、防御+\",S72,\"%\")","v":"生命、攻击、防御+4;4;4%"},"冰刀·肆",null,4,4,4]
[12054,13010,506.25,368,791,"冰刀","发射{0}枚冰刀，对敌人造成{1}%伤害。",2,"icon_s1205","S1205",1205,"1205_timeline_TD",1,1,5,"10;60",2,"101;102;103","4;4;4",1148,2,null,10,60,{"$nulls":5},{"$f":"CONCATENATE(\"冰刀数量+\",U73)","v":"冰刀数量+2"},"冰刀·伍",null,4,4,4]
[12055,13010,759.375,369,792,"冰刀","发射{0}枚冰刀，对敌人造成{1}%伤害。",2,"icon_s1205","S1205",1205,"1205_timeline_TD",1,1,6,"10;60",2,"101;102;103","6;6;6",1149,null,null,10,60,{"$nulls":5},{"$f":"CONCATENATE(\"生命、攻击、防御+\",S74,\"%\")","v":"生命、攻击、防御+6;6;6%"},"冰刀·陆",null,6,6,6]
[{"$nulls":8},"icon_s",{"$nulls":21},""]
[{"$f":"K76*10+O76-1","v":13010},{"$f":"B69+1","v":13011},100,370,793,"瘴影千丝术","发出{0}条细细的毒针，每颗针对敌人照成{1}%金系伤害，每颗针有{2}%概率施加1层毒",4,"icon_s1301",{"$f":"CONCATENATE(\"S\",K76)","v":"S1301"},1301,"1301_timeline_TD",1,1,1,{"$f":"_xlfn.TEXTJOIN(\";\",1,W76:AC76)","v":"3;120;30"},2,{"$f":"_xlfn.TEXTJOIN(\";\",1,IF(AG76=\"\",\"\",101),IF(AH76=\"\",\"\",102),IF(AI76=\"\",\"\",103),IF(AJ76=\"\",\"\",106),IF(AK76=\"\",\"\",107),IF(AL76=\"\",\"\",108),IF(AM76=\"\",\"\",109),IF(AN76=\"\",\"\",110))","v":""},{"$f":"_xlfn.TEXTJOIN(\";\",1,AG76:AN76)","v":""},-1,null,null,3,120,30,{"$nulls":5},"瘴影千丝术·壹"]
[{"$f":"K77*10+O77-1","v":13011},{"$f":"B70+1","v":13011},150,371,794,"瘴影千丝术","发出{0}条细细的毒针，每颗针对敌人照成{1}%金系伤害，每颗针有{2}%概率施加1层毒",4,"icon_s1301",{"$f":"CONCATENATE(\"S\",K77)","v":"S1301"},1301,"1301_timeline_TD",1,1,2,{"$f":"_xlfn.TEXTJOIN(\";\",1,W77:AC77)","v":"4;120;30"},2,{"$f":"_xlfn.TEXTJOIN(\";\",1,IF(AG77=\"\",\"\",101),IF(AH77=\"\",\"\",102),IF(AI77=\"\",\"\",103),IF(AJ77=\"\",\"\",106),IF(AK77=\"\",\"\",107),IF(AL77=\"\",\"\",108),IF(AM77=\"\",\"\",109),IF(AN77=\"\",\"\",110))","v":""},{"$f":"_xlfn.TEXTJOIN(\";\",1,AG77:AN77)","v":""},1150,1,null,4,120,30,{"$nulls":4},{"$f":"CONCATENATE(\"毒针数量+\",U77)","v":"毒针数量+1"},"瘴影千丝术·贰"]
[13012,13011,225,372,795,"瘴影千丝术","发出{0}条细细的毒针，每颗针对敌人照成{1}%金系伤害，每颗针有{2}%概率施加1层毒",4,"icon_s1301","S1301",1301,"1301_timeline_TD",1,1,3,"4;120;30",2,"101","10",1151,null,null,4,120,30,{"$nulls":4},{"$f":"CONCATENATE(\"生命+\",S78,\"%\")","v":"生命+10%"},{"$f":"IF(F78=\"\",\"\",CONCATENATE(F78,\"·\",CHOOSE(O78,\"壹\",\"贰\",\"叁\",\"肆\",\"伍\",\"陆\")))","v":"瘴影千丝术·叁"},null,10]
[13013,13011,337.5,373,796,"瘴影千丝术","发出{0}条细细的毒针，每颗针对敌人照成{1}%金系伤害，每颗针有{2}%概率施加1层毒",4,"icon_s1301","S1301",1301,"1301_timeline_TD",1,1,4,"5;120;30",2,"101","10",1152,1,null,5,120,30,{"$nulls":4},{"$f":"CONCATENATE(\"毒针数量+\",U79)","v":"毒针数量+1"},"瘴影千丝术·肆",null,10]
[13014,13011,506.25,374,797,"瘴影千丝术","发出{0}条细细的毒针，每颗针对敌人照成{1}%金系伤害，每颗针有{2}%概率施加1层毒",4,"icon_s1301","S1301",1301,"1301_timeline_TD",1,1,5,"5;120;30",2,"101","20",1153,null,null,5,120,30,{"$nulls":4},{"$f":"CONCATENATE(\"生命+\",S80,\"%\")","v":"生命+20%"},"瘴影千丝术·伍",null,20]
[13015,13011,759.375,375,798,"瘴影千丝术","发出{0}条细细的毒针，每颗针对敌人照成{1}%金系伤害，每颗针有{2}%概率施加1层毒",4,"icon_s1301","S1301",1301,"1301_timeline_TD",1,1,6,"6;120;30",2,"101","20",1154,1,null,6,120,30,{"$nulls":4},{"$f":"CONCATENATE(\"毒针数量+\",U81)","v":"毒针数量+1"},"瘴影千丝术·陆",null,20]
[{"$nulls":8},"icon_s",{"$nulls":21},""]
[{"$f":"K83*10+O83-1","v":13020},{"$f":"B76+1","v":13012},100,376,799,"蚀骨腐血掌","快手释放{0}掌，对敌人造成{1}%伤害，并有{2}%几率对敌人施加1层毒，如果敌人毒超过{3}层，则每层毒对敌人的伤害提升{4}%，并有{5}%几率施加一层噬魂。",4,"icon_s1302",{"$f":"CONCATENATE(\"S\",K83)","v":"S1302"},1302,"1302_timeline_TD",1,1,1,{"$f":"_xlfn.TEXTJOIN(\";\",1,W83:AC83)","v":"3;90;45;5;6;100"},2,{"$f":"_xlfn.TEXTJOIN(\";\",1,IF(AG83=\"\",\"\",101),IF(AH83=\"\",\"\",102),IF(AI83=\"\",\"\",103),IF(AJ83=\"\",\"\",106),IF(AK83=\"\",\"\",107),IF(AL83=\"\",\"\",108),IF(AM83=\"\",\"\",109),IF(AN83=\"\",\"\",110))","v":""},{"$f":"_xlfn.TEXTJOIN(\";\",1,AG83:AN83)","v":""},-1,null,null,3,90,45,5,6,100,null,null,"蚀骨腐血掌·壹"]
[{"$f":"K84*10+O84-1","v":13021},{"$f":"B77+1","v":13012},150,377,800,"蚀骨腐血掌","快手释放{0}掌，对敌人造成{1}%伤害，并有{2}%几率对敌人施加1层毒，如果敌人毒超过{3}层，则每层毒对敌人的伤害提升{4}%，并有{5}%几率施加一层噬魂。",4,"icon_s1302",{"$f":"CONCATENATE(\"S\",K84)","v":"S1302"},1302,"1302_timeline_TD",1,1,2,{"$f":"_xlfn.TEXTJOIN(\";\",1,W84:AC84)","v":"4;90;45;5;6;100"},2,{"$f":"_xlfn.TEXTJOIN(\";\",1,IF(AG84=\"\",\"\",101),IF(AH84=\"\",\"\",102),IF(AI84=\"\",\"\",103),IF(AJ84=\"\",\"\",106),IF(AK84=\"\",\"\",107),IF(AL84=\"\",\"\",108),IF(AM84=\"\",\"\",109),IF(AN84=\"\",\"\",110))","v":""},{"$f":"_xlfn.TEXTJOIN(\";\",1,AG84:AN84)","v":""},1155,1,null,4,90,45,5,6,100,null,{"$f":"CONCATENATE(\"手掌数量+\",U84)","v":"手掌数量+1"},"蚀骨腐血掌·贰"]
[13022,13012,225,378,801,"蚀骨腐血掌","快手释放{0}掌，对敌人造成{1}%伤害，并有{2}%几率对敌人施加1层毒，如果敌人毒超过{3}层，则每层毒对敌人的伤害提升{4}%，并有{5}%几率施加一层噬魂。",4,"icon_s1302","S1302",1302,"1302_timeline_TD",1,1,3,"4;90;45;5;6;100",2,"103","10",1156,null,null,4,90,45,5,6,100,null,{"$f":"CONCATENATE(\"攻击+\",S85,\"%\")","v":"攻击+10%"},"蚀骨腐血掌·叁",null,null,null,10]
[13023,13012,337.5,379,802,"蚀骨腐血掌","快手释放{0}掌，对敌人造成{1}%伤害，并有{2}%几率对敌人施加1层毒，如果敌人毒超过{3}层，则每层毒对敌人的伤害提升{4}%，并有{5}%几率施加一层噬魂。",4,"icon_s1302","S1302",1302,"1302_timeline_TD",1,1,4,"5;90;45;5;6;100",2,"103","10",1157,2,null,5,90,45,5,6,100,null,{"$f":"CONCATENATE(\"手掌数量+\",U86)","v":"手掌数量+2"},"蚀骨腐血掌·肆",null,null,null,10]
[13024,13012,506.25,380,803,"蚀骨腐血掌","快手释放{0}掌，对敌人造成{1}%伤害，并有{2}%几率对敌人施加1层毒，如果敌人毒超过{3}层，则每层毒对敌人的伤害提升{4}%，并有{5}%几率施加一层噬魂。",4,"icon_s1302","S1302",1302,"1302_timeline_TD",1,1,5,"5;90;45;5;6;100",2,"103","20",1158,null,null,5,90,45,5,6,100,null,{"$f":"CONCATENATE(\"攻击+\",S87,\"%\")","v":"攻击+20%"},"蚀骨腐血掌·伍",null,null,null,20]
[13025,13012,759.375,381,804,"蚀骨腐血掌","快手释放{0}掌，对敌人造成{1}%伤害，并有{2}%几率对敌人施加1层毒，如果敌人毒超过{3}层，则每层毒对敌人的伤害提升{4}%，并有{5}%几率施加一层噬魂。",4,"icon_s1302","S1302",1302,"1302_timeline_TD",1,1,6,"6;90;45;5;6;100",2,"103","20",1159,3,null,6,90,45,5,6,100,null,{"$f":"CONCATENATE(\"手掌数量+\",U88)","v":"手掌数量+3"},"蚀骨腐血掌·陆",null,null,null,20]
[{"$nulls":8},"icon_s",{"$nulls":21},""]
[null,{"$f":"B83+1","v":13013},100,382,805,null,"占位",4,"icon_s1303",{"$f":"CONCATENATE(\"S\",K90)","v":"S1303"},1303,"duzhen_timeline_TD",1,1,1,{"$f":"_xlfn.TEXTJOIN(\";\",1,W90:AC90)","v":"3;90;45;5;6;100"},2,{"$f":"_xlfn.TEXTJOIN(\";\",1,IF(AG90=\"\",\"\",101),IF(AH90=\"\",\"\",102),IF(AI90=\"\",\"\",103),IF(AJ90=\"\",\"\",106),IF(AK90=\"\",\"\",107),IF(AL90=\"\",\"\",108),IF(AM90=\"\",\"\",109),IF(AN90=\"\",\"\",110))","v":""},{"$f":"_xlfn.TEXTJOIN(\";\",1,AG90:AN90)","v":""},-1,null,null,3,90,45,5,6,100,null,null,{"$f":"IF(F90=\"\",\"\",CONCATENATE(F90,\"·\",CHOOSE(O90,\"壹\",\"贰\",\"叁\",\"肆\",\"伍\",\"陆\")))","v":""}]
[null,{"$f":"B84+1","v":13013},150,383,806,null,"占位",4,"icon_s1303",{"$f":"CONCATENATE(\"S\",K91)","v":"S1303"},1303,"duzhen_timeline_TD",1,1,2,{"$f":"_xlfn.TEXTJOIN(\";\",1,W91:AC91)","v":"4;90;45;5;6;100"},2,{"$f":"_xlfn.TEXTJOIN(\";\",1,IF(AG91=\"\",\"\",101),IF(AH91=\"\",\"\",102),IF(AI91=\"\",\"\",103),IF(AJ91=\"\",\"\",106),IF(AK91=\"\",\"\",107),IF(AL91=\"\",\"\",108),IF(AM91=\"\",\"\",109),IF(AN91=\"\",\"\",110))","v":""},{"$f":"_xlfn.TEXTJOIN(\";\",1,AG91:AN91)","v":""},1160,1,null,4,90,45,5,6,100,null,{"$f":"CONCATENATE(\"手掌数量+\",U91)","v":"手掌数量+1"},""]
[null,13013,225,384,807,null,"占位",4,"icon_s1303","S1303",1303,"duzhen_timeline_TD",1,1,3,"4;90;45;5;6;100",2,"102","10",1161,null,null,4,90,45,5,6,100,null,{"$f":"CONCATENATE(\"攻击+\",S92,\"%\")","v":"攻击+10%"},"",null,null,10]
[null,13013,337.5,385,808,null,"占位",4,"icon_s1303","S1303",1303,"duzhen_timeline_TD",1,1,4,"5;90;45;5;6;100",2,"102","10",1162,2,null,5,90,45,5,6,100,null,{"$f":"CONCATENATE(\"手掌数量+\",U93)","v":"手掌数量+2"},"",null,null,10]
[null,13013,506.25,386,809,null,"占位",4,"icon_s1303","S1303",1303,"duzhen_timeline_TD",1,1,5,"5;90;45;5;6;100",2,"102","20",1163,null,null,5,90,45,5,6,100,null,{"$f":"CONCATENATE(\"攻击+\",S94,\"%\")","v":"攻击+20%"},"",null,null,20]
[null,13013,759.375,387,810,null,"占位",4,"icon_s1303","S1303",1303,"duzhen_timeline_TD",1,1,6,"6;90;45;5;6;100",2,"102","20",1164,3,null,6,90,45,5,6,100,null,{"$f":"CONCATENATE(\"手掌数量+\",U95)","v":"手掌数量+3"},"",null,null,20]
[{"$nulls":8},"icon_s",{"$nulls":21},""]
[{"$f":"K97*10+O97-1","v":13040},{"$f":"B90+1","v":13014},100,382,805,"竹刺","发射{0}枚竹刺，对敌人造成{1}%伤害。",4,"icon_s1304",{"$f":"CONCATENATE(\"S\",K97)","v":"S1304"},1304,"1304_timeline_TD",1,1,1,{"$f":"_xlfn.TEXTJOIN(\";\",1,W97:AC97)","v":"6;60"},2,{"$f":"_xlfn.TEXTJOIN(\";\",1,IF(AG97=\"\",\"\",101),IF(AH97=\"\",\"\",102),IF(AI97=\"\",\"\",103),IF(AJ97=\"\",\"\",106),IF(AK97=\"\",\"\",107),IF(AL97=\"\",\"\",108),IF(AM97=\"\",\"\",109),IF(AN97=\"\",\"\",110))","v":""},{"$f":"_xlfn.TEXTJOIN(\";\",1,AG97:AN97)","v":""},-1,null,null,6,60,{"$nulls":6},"竹刺·壹"]
[{"$f":"K98*10+O98-1","v":13041},{"$f":"B91+1","v":13014},150,383,806,"竹刺","发射{0}枚竹刺，对敌人造成{1}%伤害。",4,"icon_s1304",{"$f":"CONCATENATE(\"S\",K98)","v":"S1304"},1304,"1304_timeline_TD",1,1,2,{"$f":"_xlfn.TEXTJOIN(\";\",1,W98:AC98)","v":"6;60"},2,{"$f":"_xlfn.TEXTJOIN(\";\",1,IF(AG98=\"\",\"\",101),IF(AH98=\"\",\"\",102),IF(AI98=\"\",\"\",103),IF(AJ98=\"\",\"\",106),IF(AK98=\"\",\"\",107),IF(AL98=\"\",\"\",108),IF(AM98=\"\",\"\",109),IF(AN98=\"\",\"\",110))","v":"101;102;103"},{"$f":"_xlfn.TEXTJOIN(\";\",1,AG98:AN98)","v":"2;2;2"},1165,null,null,6,60,{"$nulls":5},{"$f":"CONCATENATE(\"生命、攻击、防御+\",S98,\"%\")","v":"生命、攻击、防御+2;2;2%"},"竹刺·贰",null,2,2,2]
[13042,13014,225,384,807,"竹刺","发射{0}枚竹刺，对敌人造成{1}%伤害。",4,"icon_s1304","S1304",1304,"1304_timeline_TD",1,1,3,"8;60",2,"101;102;103","2;2;2",1166,2,null,8,60,{"$nulls":5},{"$f":"CONCATENATE(\"竹刺数量+\",U99)","v":"竹刺数量+2"},"竹刺·叁",null,2,2,2]
[13043,13014,337.5,385,808,"竹刺","发射{0}枚竹刺，对敌人造成{1}%伤害。",4,"icon_s1304","S1304",1304,"1304_timeline_TD",1,1,4,"8;60",2,"101;102;103","4;4;4",1167,null,null,8,60,{"$nulls":5},{"$f":"CONCATENATE(\"生命、攻击、防御+\",S100,\"%\")","v":"生命、攻击、防御+4;4;4%"},"竹刺·肆",null,4,4,4]
[13044,13014,506.25,386,809,"竹刺","发射{0}枚竹刺，对敌人造成{1}%伤害。",4,"icon_s1304","S1304",1304,"1304_timeline_TD",1,1,5,"10;60",2,"101;102;103","4;4;4",1168,2,null,10,60,{"$nulls":5},{"$f":"CONCATENATE(\"竹刺数量+\",U101)","v":"竹刺数量+2"},"竹刺·伍",null,4,4,4]
[13045,13014,759.375,387,810,"竹刺","发射{0}枚竹刺，对敌人造成{1}%伤害。",4,"icon_s1304","S1304",1304,"1304_timeline_TD",1,1,6,"10;60",2,"101;102;103","6;6;6",1169,null,null,10,60,{"$nulls":5},{"$f":"CONCATENATE(\"生命、攻击、防御+\",S102,\"%\")","v":"生命、攻击、防御+6;6;6%"},"竹刺·陆",null,6,6,6]
[{"$nulls":8},"icon_s",{"$nulls":21},""]
[{"$f":"K104*10+O104-1","v":13050},{"$f":"B97+1","v":13015},100,388,811,"飞叶","发射{0}枚飞叶，对敌人造成{1}%伤害。",4,"icon_s1305",{"$f":"CONCATENATE(\"S\",K104)","v":"S1305"},1305,"1305_timeline_TD",1,1,1,{"$f":"_xlfn.TEXTJOIN(\";\",1,W104:AC104)","v":"6;60"},2,{"$f":"_xlfn.TEXTJOIN(\";\",1,IF(AG104=\"\",\"\",101),IF(AH104=\"\",\"\",102),IF(AI104=\"\",\"\",103),IF(AJ104=\"\",\"\",106),IF(AK104=\"\",\"\",107),IF(AL104=\"\",\"\",108),IF(AM104=\"\",\"\",109),IF(AN104=\"\",\"\",110))","v":""},{"$f":"_xlfn.TEXTJOIN(\";\",1,AG104:AN104)","v":""},-1,null,null,6,60,{"$nulls":6},"飞叶·壹"]
[{"$f":"K105*10+O105-1","v":13051},{"$f":"B98+1","v":13015},150,389,812,"飞叶","发射{0}枚飞叶，对敌人造成{1}%伤害。",4,"icon_s1305",{"$f":"CONCATENATE(\"S\",K105)","v":"S1305"},1305,"1305_timeline_TD",1,1,2,{"$f":"_xlfn.TEXTJOIN(\";\",1,W105:AC105)","v":"6;60"},2,{"$f":"_xlfn.TEXTJOIN(\";\",1,IF(AG105=\"\",\"\",101),IF(AH105=\"\",\"\",102),IF(AI105=\"\",\"\",103),IF(AJ105=\"\",\"\",106),IF(AK105=\"\",\"\",107),IF(AL105=\"\",\"\",108),IF(AM105=\"\",\"\",109),IF(AN105=\"\",\"\",110))","v":"101;102;103"},{"$f":"_xlfn.TEXTJOIN(\";\",1,AG105:AN105)","v":"2;2;2"},1170,null,null,6,60,{"$nulls":5},{"$f":"CONCATENATE(\"生命、攻击、防御+\",S105,\"%\")","v":"生命、攻击、防御+2;2;2%"},"飞叶·贰",null,2,2,2]
[13052,13015,225,390,813,"飞叶","发射{0}枚飞叶，对敌人造成{1}%伤害。",4,"icon_s1305","S1305",1305,"1305_timeline_TD",1,1,3,"8;60",2,"101;102;103","2;2;2",1171,2,null,8,60,{"$nulls":5},{"$f":"CONCATENATE(\"飞叶数量+\",U106)","v":"飞叶数量+2"},"飞叶·叁",null,2,2,2]
[13053,13015,337.5,391,814,"飞叶","发射{0}枚飞叶，对敌人造成{1}%伤害。",4,"icon_s1305","S1305",1305,"1305_timeline_TD",1,1,4,"8;60",2,"101;102;103","4;4;4",1172,null,null,8,60,{"$nulls":5},{"$f":"CONCATENATE(\"生命、攻击、防御+\",S107,\"%\")","v":"生命、攻击、防御+4;4;4%"},"飞叶·肆",null,4,4,4]
[13054,13015,506.25,392,815,"飞叶","发射{0}枚飞叶，对敌人造成{1}%伤害。",4,"icon_s1305","S1305",1305,"1305_timeline_TD",1,1,5,"10;60",2,"101;102;103","4;4;4",1173,2,null,10,60,{"$nulls":5},{"$f":"CONCATENATE(\"飞叶数量+\",U108)","v":"飞叶数量+2"},"飞叶·伍",null,4,4,4]
[13055,13015,759.375,393,816,"飞叶","发射{0}枚飞叶，对敌人造成{1}%伤害。",4,"icon_s1305","S1305",1305,"1305_timeline_TD",1,1,6,"10;60",2,"101;102;103","6;6;6",1174,null,null,10,60,{"$nulls":5},{"$f":"CONCATENATE(\"生命、攻击、防御+\",S109,\"%\")","v":"生命、攻击、防御+6;6;6%"},"飞叶·陆",null,6,6,6]
[{"$nulls":8},"icon_s",{"$nulls":21},""]
[{"$f":"K111*10+O111-1","v":14010},{"$f":"B104+1","v":13016},100,394,817,"烈焰剑","向前方发出{0}柄剑，对敌人造成{1}%火系伤害，并有{2}%的概率施加1层灼烧。",8,"icon_s1401",{"$f":"CONCATENATE(\"S\",K111)","v":"S1401"},1401,"1401_timeline_TD",1,1,1,{"$f":"_xlfn.TEXTJOIN(\";\",1,W111:AC111)","v":"6;60;15"},2,{"$f":"_xlfn.TEXTJOIN(\";\",1,IF(AG111=\"\",\"\",101),IF(AH111=\"\",\"\",102),IF(AI111=\"\",\"\",103),IF(AJ111=\"\",\"\",106),IF(AK111=\"\",\"\",107),IF(AL111=\"\",\"\",108),IF(AM111=\"\",\"\",109),IF(AN111=\"\",\"\",110))","v":""},{"$f":"_xlfn.TEXTJOIN(\";\",1,AG111:AN111)","v":""},-1,null,null,6,60,15,{"$nulls":5},"烈焰剑·壹"]
[{"$f":"K112*10+O112-1","v":14011},{"$f":"B105+1","v":13016},150,395,818,"烈焰剑","向前方发出{0}柄剑，对敌人造成{1}%火系伤害，并有{2}%的概率施加1层灼烧。",8,"icon_s1401",{"$f":"CONCATENATE(\"S\",K112)","v":"S1401"},1401,"1401_timeline_TD",1,1,2,{"$f":"_xlfn.TEXTJOIN(\";\",1,W112:AC112)","v":"8;60;15"},2,{"$f":"_xlfn.TEXTJOIN(\";\",1,IF(AG112=\"\",\"\",101),IF(AH112=\"\",\"\",102),IF(AI112=\"\",\"\",103),IF(AJ112=\"\",\"\",106),IF(AK112=\"\",\"\",107),IF(AL112=\"\",\"\",108),IF(AM112=\"\",\"\",109),IF(AN112=\"\",\"\",110))","v":""},{"$f":"_xlfn.TEXTJOIN(\";\",1,AG112:AN112)","v":""},1175,2,null,8,60,15,{"$nulls":4},{"$f":"CONCATENATE(\"剑柄数量+\",U112)","v":"剑柄数量+2"},"烈焰剑·贰"]
[14012,13016,225,396,819,"烈焰剑","向前方发出{0}柄剑，对敌人造成{1}%火系伤害，并有{2}%的概率施加1层灼烧。",8,"icon_s1401","S1401",1401,"1401_timeline_TD",1,1,3,"8;60;15",2,"101","10",1176,null,null,8,60,15,{"$nulls":4},{"$f":"CONCATENATE(\"生命+\",S113,\"%\")","v":"生命+10%"},"烈焰剑·叁",null,10]
[14013,13016,337.5,397,820,"烈焰剑","向前方发出{0}柄剑，对敌人造成{1}%火系伤害，并有{2}%的概率施加1层灼烧。",8,"icon_s1401","S1401",1401,"1401_timeline_TD",1,1,4,"10;60;15",2,"101","10",1177,4,null,10,60,15,{"$nulls":4},{"$f":"CONCATENATE(\"剑柄数量+\",U114)","v":"剑柄数量+4"},"烈焰剑·肆",null,10]
[14014,13016,506.25,398,821,"烈焰剑","向前方发出{0}柄剑，对敌人造成{1}%火系伤害，并有{2}%的概率施加1层灼烧。",8,"icon_s1401","S1401",1401,"1401_timeline_TD",1,1,5,"10;60;15",2,"101","20",1178,null,null,10,60,15,{"$nulls":4},{"$f":"CONCATENATE(\"生命+\",S115,\"%\")","v":"生命+20%"},"烈焰剑·伍",null,20]
[14015,13016,759.375,399,822,"烈焰剑","向前方发出{0}柄剑，对敌人造成{1}%火系伤害，并有{2}%的概率施加1层灼烧。\n每柄烈焰剑将会对敌人照成爆燃，爆燃额外受到{3}%伤害",8,"icon_s1401","S1401",1401,"1401_timeline_TD",1,1,6,"10;60;15;20",2,"101","20",1179,null,null,10,60,15,20,null,null,null,"额外造成爆燃伤害","烈焰剑·陆",null,20]
[{"$nulls":8},"icon_s",{"$nulls":21},""]
[{"$f":"K118*10+O118-1","v":14020},{"$f":"B111+1","v":13017},100,400,823,"赤焰龙吟功","飞出{0}道巨龙，对敌人造成{1}火系伤害。",8,"icon_s1402",{"$f":"CONCATENATE(\"S\",K118)","v":"S1402"},1402,"1402_timeline_TD",1,1,1,{"$f":"_xlfn.TEXTJOIN(\";\",1,W118:AC118)","v":"2;200"},2,{"$f":"_xlfn.TEXTJOIN(\";\",1,IF(AG118=\"\",\"\",101),IF(AH118=\"\",\"\",102),IF(AI118=\"\",\"\",103),IF(AJ118=\"\",\"\",106),IF(AK118=\"\",\"\",107),IF(AL118=\"\",\"\",108),IF(AM118=\"\",\"\",109),IF(AN118=\"\",\"\",110))","v":""},{"$f":"_xlfn.TEXTJOIN(\";\",1,AG118:AN118)","v":""},-1,null,null,2,200,{"$nulls":6},"赤焰龙吟功·壹"]
[{"$f":"K119*10+O119-1","v":14021},{"$f":"B112+1","v":13017},150,401,824,"赤焰龙吟功","飞出{0}道巨龙，对敌人造成{1}火系伤害。\n如果敌人处于灼烧中对其造成胆摄，眩晕敌人{2}秒。",8,"icon_s1402",{"$f":"CONCATENATE(\"S\",K119)","v":"S1402"},1402,"1402_timeline_TD",1,1,2,{"$f":"_xlfn.TEXTJOIN(\";\",1,W119:AC119)","v":"2;200;2"},2,{"$f":"_xlfn.TEXTJOIN(\";\",1,IF(AG119=\"\",\"\",101),IF(AH119=\"\",\"\",102),IF(AI119=\"\",\"\",103),IF(AJ119=\"\",\"\",106),IF(AK119=\"\",\"\",107),IF(AL119=\"\",\"\",108),IF(AM119=\"\",\"\",109),IF(AN119=\"\",\"\",110))","v":""},{"$f":"_xlfn.TEXTJOIN(\";\",1,AG119:AN119)","v":""},1180,null,null,2,200,2,{"$nulls":4},"眩晕处于灼烧中的敌人","赤焰龙吟功·贰"]
[14022,13017,225,402,825,"赤焰龙吟功","飞出{0}道巨龙，对敌人造成{1}火系伤害。\n如果敌人处于灼烧中对其造成胆摄，眩晕敌人{2}秒。",8,"icon_s1402","S1402",1402,"1402_timeline_TD",1,1,3,"2;200;2",2,"102","10",1181,null,null,2,200,2,{"$nulls":4},{"$f":"CONCATENATE(\"攻击+\",S120,\"%\")","v":"攻击+10%"},"赤焰龙吟功·叁",null,null,10]
[14023,13017,337.5,403,826,"赤焰龙吟功","飞出{0}道巨龙，对敌人造成{1}火系伤害并{3}%施加1层灼烧。\n如果敌人处于灼烧中对其造成胆摄，眩晕敌人{2}秒。",8,"icon_s1402","S1402",1402,"1402_timeline_TD",1,1,4,"3;200;2;100",2,"102","10",1182,2,null,3,200,2,100,null,null,null,{"$f":"CONCATENATE(\"飞龙数量+\",U121,\"，额外造成灼烧\")","v":"飞龙数量+2，额外造成灼烧"},"赤焰龙吟功·肆",null,null,10]
[14024,13017,506.25,404,827,"赤焰龙吟功","飞出{0}道巨龙，对敌人造成{1}火系伤害并{3}%施加1层灼烧。\n如果敌人处于灼烧中对其造成胆摄，眩晕敌人{2}秒。",8,"icon_s1402","S1402",1402,"1402_timeline_TD",1,1,5,"3;200;2;100",2,"102","20",1183,null,null,3,200,2,100,null,null,null,{"$f":"CONCATENATE(\"攻击+\",S122,\"%\")","v":"攻击+20%"},"赤焰龙吟功·伍",null,null,20]
[14025,13017,759.375,405,828,"赤焰龙吟功","飞出{0}道巨龙，对敌人造成{1}火系伤害并{3}%施加1层灼烧。\n如果敌人处于灼烧中对其造成胆摄，眩晕敌人{2}秒。\n飞龙命中目标后引发天雷，对敌人额外造成{4}%伤害。",8,"icon_s1402","S1402",1402,"1402_timeline_TD",1,1,6,"3;200;2;100;25",2,"102","20",1184,null,null,3,200,2,100,25,null,null,"额外引发天雷伤害","赤焰龙吟功·陆",null,null,20]
[{"$nulls":8},"icon_s",{"$nulls":21},""]
[{"$f":"K125*10+O125-1","v":14030},{"$f":"B118+1","v":13018},100,406,829,"朱雀燎原指","身后出现一只大手，每个手指发射{0}道烈焰，对敌人照成{1}伤害同时{2}%概率施加1层灼烧。",8,"icon_s1403",{"$f":"CONCATENATE(\"S\",K125)","v":"S1403"},1403,"1403_timeline_TD",1,1,1,{"$f":"_xlfn.TEXTJOIN(\";\",1,W125:AC125)","v":"2;20;30"},2,{"$f":"_xlfn.TEXTJOIN(\";\",1,IF(AG125=\"\",\"\",101),IF(AH125=\"\",\"\",102),IF(AI125=\"\",\"\",103),IF(AJ125=\"\",\"\",106),IF(AK125=\"\",\"\",107),IF(AL125=\"\",\"\",108),IF(AM125=\"\",\"\",109),IF(AN125=\"\",\"\",110))","v":""},{"$f":"_xlfn.TEXTJOIN(\";\",1,AG125:AN125)","v":""},-1,null,null,2,20,30,{"$nulls":5},"朱雀燎原指·壹"]
[{"$f":"K126*10+O126-1","v":14031},{"$f":"B119+1","v":13018},150,407,830,"朱雀燎原指","身后出现一只大手，每个手指发射{0}道烈焰，对敌人照成{1}伤害同时{2}%概率施加1层灼烧。\n对有灼烧的敌人额外造成{3}%最终伤害。",8,"icon_s1403",{"$f":"CONCATENATE(\"S\",K126)","v":"S1403"},1403,"1403_timeline_TD",1,1,2,{"$f":"_xlfn.TEXTJOIN(\";\",1,W126:AC126)","v":"2;20;30;20"},2,{"$f":"_xlfn.TEXTJOIN(\";\",1,IF(AG126=\"\",\"\",101),IF(AH126=\"\",\"\",102),IF(AI126=\"\",\"\",103),IF(AJ126=\"\",\"\",106),IF(AK126=\"\",\"\",107),IF(AL126=\"\",\"\",108),IF(AM126=\"\",\"\",109),IF(AN126=\"\",\"\",110))","v":""},{"$f":"_xlfn.TEXTJOIN(\";\",1,AG126:AN126)","v":""},1185,null,null,2,20,30,20,null,null,null,"对灼烧的敌人额外增伤","朱雀燎原指·贰"]
[14032,13018,225,408,831,"朱雀燎原指","身后出现一只大手，每个手指发射{0}道烈焰，对敌人照成{1}伤害同时{2}%概率施加1层灼烧。\n对有灼烧的敌人额外造成{3}%最终伤害。",8,"icon_s1403","S1403",1403,"1403_timeline_TD",1,1,3,"2;20;30;20",2,"103","10",1186,null,null,2,20,30,20,null,null,null,{"$f":"CONCATENATE(\"防御+\",S127,\"%\")","v":"防御+10%"},"朱雀燎原指·叁",null,null,null,10]
[14033,13018,337.5,409,832,"朱雀燎原指","身后出现一只大手，每个手指发射{0}道烈焰，对敌人照成{1}伤害同时{2}%概率施加1层灼烧。\n对有灼烧的敌人额外造成{3}%最终伤害。",8,"icon_s1403","S1403",1403,"1403_timeline_TD",1,1,4,"3;20;30;20",2,"103","10",1187,null,null,3,20,30,20,null,null,null,"每个手指额外发射1道烈焰","朱雀燎原指·肆",null,null,null,10]
[14034,13018,506.25,410,833,"朱雀燎原指","身后出现一只大手，每个手指发射{0}道烈焰，对敌人照成{1}伤害同时{2}%概率施加1层灼烧。\n对有灼烧的敌人额外造成{3}%最终伤害。",8,"icon_s1403","S1403",1403,"1403_timeline_TD",1,1,5,"3;20;30;20",2,"103","20",1188,null,null,3,20,30,20,null,null,null,{"$f":"CONCATENATE(\"防御+\",S129,\"%\")","v":"防御+20%"},"朱雀燎原指·伍",null,null,null,20]
[14035,13018,759.375,411,834,"朱雀燎原指","身后出现一只大手，每个手指发射{0}道烈焰，对敌人照成{1}伤害同时{2}%概率施加1层灼烧。\n对有灼烧的敌人额外造成{3}%最终伤害。\n在左右各出现一只大手发射烈焰，但每道烈焰伤害降低{4}%。",8,"icon_s1403","S1403",1403,"1403_timeline_TD",1,1,6,"3;20;30;20;35",2,"103","20",1189,null,null,3,20,30,20,35,null,null,"出现2只大手但单发伤害降低","朱雀燎原指·陆",null,null,null,20]
[{"$nulls":8},{"$f":"CONCATENATE(\"icon_s\",K131)","v":"icon_s"},{"$nulls":21},""]
[{"$f":"K132*10+O132-1","v":14040},{"$f":"B125+1","v":13019},100,412,835,"火球","发射{0}枚火球，对敌人造成{1}%伤害。又{2}概率对敌人施加1成灼烧",8,"icon_s1404",{"$f":"CONCATENATE(\"S\",K132)","v":"S1404"},1404,"1404_timeline_TD",1,1,1,{"$f":"_xlfn.TEXTJOIN(\";\",1,W132:AC132)","v":"3;70;20"},2,{"$f":"_xlfn.TEXTJOIN(\";\",1,IF(AG132=\"\",\"\",101),IF(AH132=\"\",\"\",102),IF(AI132=\"\",\"\",103),IF(AJ132=\"\",\"\",106),IF(AK132=\"\",\"\",107),IF(AL132=\"\",\"\",108),IF(AM132=\"\",\"\",109),IF(AN132=\"\",\"\",110))","v":""},{"$f":"_xlfn.TEXTJOIN(\";\",1,AG132:AN132)","v":""},-1,null,null,3,70,20,{"$nulls":5},"火球·壹"]
[{"$f":"K133*10+O133-1","v":14041},{"$f":"B126+1","v":13019},150,413,836,"火球","发射{0}枚火球，对敌人造成{1}%伤害。又{2}概率对敌人施加1成灼烧",8,"icon_s1404",{"$f":"CONCATENATE(\"S\",K133)","v":"S1404"},1404,"1404_timeline_TD",1,1,2,{"$f":"_xlfn.TEXTJOIN(\";\",1,W133:AC133)","v":"3;70;20"},2,{"$f":"_xlfn.TEXTJOIN(\";\",1,IF(AG133=\"\",\"\",101),IF(AH133=\"\",\"\",102),IF(AI133=\"\",\"\",103),IF(AJ133=\"\",\"\",106),IF(AK133=\"\",\"\",107),IF(AL133=\"\",\"\",108),IF(AM133=\"\",\"\",109),IF(AN133=\"\",\"\",110))","v":"101;102;103"},{"$f":"_xlfn.TEXTJOIN(\";\",1,AG133:AN133)","v":"2;2;2"},1190,null,null,3,70,20,{"$nulls":4},{"$f":"CONCATENATE(\"生命、攻击、防御+\",S133,\"%\")","v":"生命、攻击、防御+2;2;2%"},"火球·贰",null,2,2,2]
[14042,13019,225,414,837,"火球","发射{0}枚火球，对敌人造成{1}%伤害。又{2}概率对敌人施加1成灼烧",8,"icon_s1404","S1404",1404,"1404_timeline_TD",1,1,3,"4;70;20",2,"101;102;103","2;2;2",1191,1,null,4,70,20,{"$nulls":4},{"$f":"CONCATENATE(\"火球数量+\",U134)","v":"火球数量+1"},"火球·叁",null,2,2,2]
[14043,13019,337.5,415,838,"火球","发射{0}枚火球，对敌人造成{1}%伤害。又{2}概率对敌人施加1成灼烧",8,"icon_s1404","S1404",1404,"1404_timeline_TD",1,1,4,"4;70;20",2,"101;102;103","4;4;4",1192,null,null,4,70,20,{"$nulls":4},{"$f":"CONCATENATE(\"生命、攻击、防御+\",S135,\"%\")","v":"生命、攻击、防御+4;4;4%"},"火球·肆",null,4,4,4]
[14044,13019,506.25,416,839,"火球","发射{0}枚火球，对敌人造成{1}%伤害。又{2}概率对敌人施加1成灼烧",8,"icon_s1404","S1404",1404,"1404_timeline_TD",1,1,5,"5;70;20",2,"101;102;103","4;4;4",1193,2,null,5,70,20,{"$nulls":4},{"$f":"CONCATENATE(\"火球数量+\",U136)","v":"火球数量+2"},"火球·伍",null,4,4,4]
[14045,13019,759.375,417,840,"火球","发射{0}枚火球，对敌人造成{1}%伤害。又{2}概率对敌人施加1成灼烧",8,"icon_s1404","S1404",1404,"1404_timeline_TD",1,1,6,"5;100;20",2,"101;102;103","6;6;6",1194,null,null,5,100,20,{"$nulls":4},"生命、攻击、防御+6;6;6%","火球·陆",null,6,6,6]
[{"$nulls":8},"icon_s",{"$nulls":21},""]
[{"$f":"K139*10+O139-1","v":14050},{"$f":"B132+1","v":13020},100,418,841,"火刀","发射{0}枚火刃，对敌人造成{1}%伤害。",8,"icon_s1405",{"$f":"CONCATENATE(\"S\",K139)","v":"S1405"},1405,"1405_timeline_TD",1,1,1,{"$f":"_xlfn.TEXTJOIN(\";\",1,W139:AC139)","v":"3;80"},2,{"$f":"_xlfn.TEXTJOIN(\";\",1,IF(AG139=\"\",\"\",101),IF(AH139=\"\",\"\",102),IF(AI139=\"\",\"\",103),IF(AJ139=\"\",\"\",106),IF(AK139=\"\",\"\",107),IF(AL139=\"\",\"\",108),IF(AM139=\"\",\"\",109),IF(AN139=\"\",\"\",110))","v":""},{"$f":"_xlfn.TEXTJOIN(\";\",1,AG139:AN139)","v":""},-1,null,null,3,80,{"$nulls":6},"火刀·壹"]
[{"$f":"K140*10+O140-1","v":14051},{"$f":"B133+1","v":13020},150,419,842,"火刀","发射{0}枚火刃，对敌人造成{1}%伤害。",8,"icon_s1405",{"$f":"CONCATENATE(\"S\",K140)","v":"S1405"},1405,"1405_timeline_TD",1,1,2,{"$f":"_xlfn.TEXTJOIN(\";\",1,W140:AC140)","v":"3;80"},2,{"$f":"_xlfn.TEXTJOIN(\";\",1,IF(AG140=\"\",\"\",101),IF(AH140=\"\",\"\",102),IF(AI140=\"\",\"\",103),IF(AJ140=\"\",\"\",106),IF(AK140=\"\",\"\",107),IF(AL140=\"\",\"\",108),IF(AM140=\"\",\"\",109),IF(AN140=\"\",\"\",110))","v":"101;102;103"},{"$f":"_xlfn.TEXTJOIN(\";\",1,AG140:AN140)","v":"2;2;2"},1195,null,null,3,80,{"$nulls":5},{"$f":"CONCATENATE(\"生命、攻击、防御+\",S140,\"%\")","v":"生命、攻击、防御+2;2;2%"},"火刀·贰",null,2,2,2]
[14052,13020,225,420,843,"火刀","发射{0}枚火刃，对敌人造成{1}%伤害。",8,"icon_s1405","S1405",1405,"1405_timeline_TD",1,1,3,"4;80",2,"101;102;103","2;2;2",1196,1,null,4,80,{"$nulls":5},{"$f":"CONCATENATE(\"火刃数量+\",U141)","v":"火刃数量+1"},"火刀·叁",null,2,2,2]
[14053,13020,337.5,421,844,"火刀","发射{0}枚火刃，对敌人造成{1}%伤害。",8,"icon_s1405","S1405",1405,"1405_timeline_TD",1,1,4,"4;80",2,"101;102;103","4;4;4",1197,null,null,4,80,{"$nulls":5},{"$f":"CONCATENATE(\"生命、攻击、防御+\",S142,\"%\")","v":"生命、攻击、防御+4;4;4%"},"火刀·肆",null,4,4,4]
[14054,13020,506.25,422,845,"火刀","发射{0}枚火刃，对敌人造成{1}%伤害。",8,"icon_s1405","S1405",1405,"1405_timeline_TD",1,1,5,"5;80",2,"101;102;103","4;4;4",1198,2,null,5,80,{"$nulls":5},{"$f":"CONCATENATE(\"火刃数量+\",U143)","v":"火刃数量+2"},"火刀·伍",null,4,4,4]
[14055,13020,759.375,423,846,"火刀","发射{0}枚火刃，对敌人造成{1}%伤害。",8,"icon_s1405","S1405",1405,"1405_timeline_TD",1,1,6,"5;100",2,"101;102;103","6;6;6",1199,null,null,5,100,{"$nulls":5},"生命、攻击、防御+6;6;6%","火刀·陆",null,6,6,6]
[{"$nulls":8},"icon_s",{"$nulls":21},""]
[{"$f":"K146*10+O146-1","v":15010},{"$f":"B139+1","v":13021},100,424,847,"黄尘灭魂刺","沙尘汇聚成{0}枚土刺，对敌人造成{1}%伤害，并有{2}%概率施加1层细尘。",16,"icon_s1501",{"$f":"CONCATENATE(\"S\",K146)","v":"S1501"},1501,"bingqiu_timeline_TD",1,1,1,{"$f":"_xlfn.TEXTJOIN(\";\",1,W146:AC146)","v":"3;120;30"},2,{"$f":"_xlfn.TEXTJOIN(\";\",1,IF(AG146=\"\",\"\",101),IF(AH146=\"\",\"\",102),IF(AI146=\"\",\"\",103),IF(AJ146=\"\",\"\",106),IF(AK146=\"\",\"\",107),IF(AL146=\"\",\"\",108),IF(AM146=\"\",\"\",109),IF(AN146=\"\",\"\",110))","v":""},{"$f":"_xlfn.TEXTJOIN(\";\",1,AG146:AN146)","v":""},-1,null,null,3,120,30,{"$nulls":5},"黄尘灭魂刺·壹"]
[{"$f":"K147*10+O147-1","v":15011},{"$f":"B140+1","v":13021},150,425,848,"黄尘灭魂刺","沙尘汇聚成{0}枚土刺，对敌人造成{1}%伤害，并有{2}%概率施加1层细尘。",16,"icon_s1501",{"$f":"CONCATENATE(\"S\",K147)","v":"S1501"},1501,"bingqiu_timeline_TD",1,1,2,{"$f":"_xlfn.TEXTJOIN(\";\",1,W147:AC147)","v":"4;120;30"},2,{"$f":"_xlfn.TEXTJOIN(\";\",1,IF(AG147=\"\",\"\",101),IF(AH147=\"\",\"\",102),IF(AI147=\"\",\"\",103),IF(AJ147=\"\",\"\",106),IF(AK147=\"\",\"\",107),IF(AL147=\"\",\"\",108),IF(AM147=\"\",\"\",109),IF(AN147=\"\",\"\",110))","v":""},{"$f":"_xlfn.TEXTJOIN(\";\",1,AG147:AN147)","v":""},1200,1,null,4,120,30,{"$nulls":4},{"$f":"CONCATENATE(\"土刺数量+\",U147)","v":"土刺数量+1"},"黄尘灭魂刺·贰"]
[15012,13021,225,426,849,"黄尘灭魂刺","沙尘汇聚成{0}枚土刺，对敌人造成{1}%伤害，并有{2}%概率施加1层细尘。",16,"icon_s1501","S1501",1501,"bingqiu_timeline_TD",1,1,3,"4;120;30",2,"101","10",1201,null,null,4,120,30,{"$nulls":4},{"$f":"CONCATENATE(\"生命+\",S148,\"%\")","v":"生命+10%"},{"$f":"IF(F148=\"\",\"\",CONCATENATE(F148,\"·\",CHOOSE(O148,\"壹\",\"贰\",\"叁\",\"肆\",\"伍\",\"陆\")))","v":"黄尘灭魂刺·叁"},null,10]
[15013,13021,337.5,427,850,"黄尘灭魂刺","沙尘汇聚成{0}枚土刺，对敌人造成{1}%伤害，并有{2}%概率施加1层细尘。",16,"icon_s1501","S1501",1501,"bingqiu_timeline_TD",1,1,4,"5;120;30",2,"101","10",1202,2,null,5,120,30,{"$nulls":4},{"$f":"CONCATENATE(\"土刺数量+\",U149)","v":"土刺数量+2"},"黄尘灭魂刺·肆",null,10]
[15014,13021,506.25,428,851,"黄尘灭魂刺","沙尘汇聚成{0}枚土刺，对敌人造成{1}%伤害，并有{2}%概率施加1层细尘。",16,"icon_s1501","S1501",1501,"bingqiu_timeline_TD",1,1,5,"5;120;30",2,"101","20",1203,null,null,5,120,30,{"$nulls":4},{"$f":"CONCATENATE(\"生命+\",S150,\"%\")","v":"生命+20%"},"黄尘灭魂刺·伍",null,20]
[15015,13021,759.375,429,852,"黄尘灭魂刺","沙尘汇聚成{0}枚土刺，对敌人造成{1}%伤害，并有{2}%概率施加1层细尘。",16,"icon_s1501","S1501",1501,"bingqiu_timeline_TD",1,1,6,"6;120;30",2,"101","20",1204,3,null,6,120,30,{"$nulls":4},{"$f":"CONCATENATE(\"土刺数量+\",U151)","v":"土刺数量+3"},"黄尘灭魂刺·陆",null,20]
[{"$nulls":8},"icon_s",{"$nulls":21},""]
[{"$f":"K153*10+O153-1","v":15020},{"$f":"B146+1","v":13022},100,430,853,"地裂屠龙斩","一柄虚空形成的大刀，横空挥砍形成{0}个刀气，对敌人造成{1}%伤害，并有{2}%概率叠加1层破甲",16,"icon_s1502",{"$f":"CONCATENATE(\"S\",K153)","v":"S1502"},1502,"bingzhui_timeline_TD",1,1,1,{"$f":"_xlfn.TEXTJOIN(\";\",1,W153:AC153)","v":"3;120;30"},2,{"$f":"_xlfn.TEXTJOIN(\";\",1,IF(AG153=\"\",\"\",101),IF(AH153=\"\",\"\",102),IF(AI153=\"\",\"\",103),IF(AJ153=\"\",\"\",106),IF(AK153=\"\",\"\",107),IF(AL153=\"\",\"\",108),IF(AM153=\"\",\"\",109),IF(AN153=\"\",\"\",110))","v":""},{"$f":"_xlfn.TEXTJOIN(\";\",1,AG153:AN153)","v":""},-1,null,null,3,120,30,{"$nulls":5},"地裂屠龙斩·壹"]
[{"$f":"K154*10+O154-1","v":15021},{"$f":"B147+1","v":13022},150,431,854,"地裂屠龙斩","一柄虚空形成的大刀，横空挥砍形成{0}个刀气，对敌人造成{1}%伤害，并有{2}%概率叠加1层破甲",16,"icon_s1502",{"$f":"CONCATENATE(\"S\",K154)","v":"S1502"},1502,"bingzhui_timeline_TD",1,1,2,{"$f":"_xlfn.TEXTJOIN(\";\",1,W154:AC154)","v":"4;120;30"},2,{"$f":"_xlfn.TEXTJOIN(\";\",1,IF(AG154=\"\",\"\",101),IF(AH154=\"\",\"\",102),IF(AI154=\"\",\"\",103),IF(AJ154=\"\",\"\",106),IF(AK154=\"\",\"\",107),IF(AL154=\"\",\"\",108),IF(AM154=\"\",\"\",109),IF(AN154=\"\",\"\",110))","v":""},{"$f":"_xlfn.TEXTJOIN(\";\",1,AG154:AN154)","v":""},1205,1,null,4,120,30,{"$nulls":4},{"$f":"CONCATENATE(\"刀气数量+\",U154)","v":"刀气数量+1"},"地裂屠龙斩·贰"]
[15022,13022,225,432,855,"地裂屠龙斩","一柄虚空形成的大刀，横空挥砍形成{0}个刀气，对敌人造成{1}%伤害，并有{2}%概率叠加1层破甲",16,"icon_s1502","S1502",1502,"bingzhui_timeline_TD",1,1,3,"4;120;30",2,"102","10",1206,null,null,4,120,30,{"$nulls":4},{"$f":"CONCATENATE(\"攻击+\",S155,\"%\")","v":"攻击+10%"},"地裂屠龙斩·叁",null,null,10]
[15023,13022,337.5,433,856,"地裂屠龙斩","一柄虚空形成的大刀，横空挥砍形成{0}个刀气，对敌人造成{1}%伤害，并有{2}%概率叠加1层破甲",16,"icon_s1502","S1502",1502,"bingzhui_timeline_TD",1,1,4,"5;120;30",2,"102","10",1207,2,null,5,120,30,{"$nulls":4},{"$f":"CONCATENATE(\"刀气数量+\",U156)","v":"刀气数量+2"},"地裂屠龙斩·肆",null,null,10]
[15024,13022,506.25,434,857,"地裂屠龙斩","一柄虚空形成的大刀，横空挥砍形成{0}个刀气，对敌人造成{1}%伤害，并有{2}%概率叠加1层破甲",16,"icon_s1502","S1502",1502,"bingzhui_timeline_TD",1,1,5,"5;120;30",2,"102","20",1208,null,null,5,120,30,{"$nulls":4},{"$f":"CONCATENATE(\"攻击+\",S157,\"%\")","v":"攻击+20%"},"地裂屠龙斩·伍",null,null,20]
[15025,13022,759.375,435,858,"地裂屠龙斩","一柄虚空形成的大刀，横空挥砍形成{0}个刀气，对敌人造成{1}%伤害，并有{2}%概率叠加1层破甲",16,"icon_s1502","S1502",1502,"bingzhui_timeline_TD",1,1,6,"6;120;30",2,"102","20",1209,3,null,6,120,30,{"$nulls":4},{"$f":"CONCATENATE(\"刀气数量+\",U158)","v":"刀气数量+3"},"地裂屠龙斩·陆",null,null,20]
[{"$nulls":8},"icon_s",{"$nulls":21},""]
[null,{"$f":"B153+1","v":13023},100,436,859,null,"占位",16,"icon_s1503",{"$f":"CONCATENATE(\"S\",K160)","v":"S1503"},1503,"bingzhui_timeline_TD",1,1,1,{"$f":"_xlfn.TEXTJOIN(\";\",1,W160:AC160)","v":"3;120;30"},2,{"$f":"_xlfn.TEXTJOIN(\";\",1,IF(AG160=\"\",\"\",101),IF(AH160=\"\",\"\",102),IF(AI160=\"\",\"\",103),IF(AJ160=\"\",\"\",106),IF(AK160=\"\",\"\",107),IF(AL160=\"\",\"\",108),IF(AM160=\"\",\"\",109),IF(AN160=\"\",\"\",110))","v":""},{"$f":"_xlfn.TEXTJOIN(\";\",1,AG160:AN160)","v":""},-1,null,null,3,120,30,{"$nulls":5},{"$f":"IF(F160=\"\",\"\",CONCATENATE(F160,\"·\",CHOOSE(O160,\"壹\",\"贰\",\"叁\",\"肆\",\"伍\",\"陆\")))","v":""}]
[null,{"$f":"B154+1","v":13023},150,437,860,null,"占位",16,"icon_s1503",{"$f":"CONCATENATE(\"S\",K161)","v":"S1503"},1503,"bingzhui_timeline_TD",1,1,2,{"$f":"_xlfn.TEXTJOIN(\";\",1,W161:AC161)","v":"4;120;30"},2,{"$f":"_xlfn.TEXTJOIN(\";\",1,IF(AG161=\"\",\"\",101),IF(AH161=\"\",\"\",102),IF(AI161=\"\",\"\",103),IF(AJ161=\"\",\"\",106),IF(AK161=\"\",\"\",107),IF(AL161=\"\",\"\",108),IF(AM161=\"\",\"\",109),IF(AN161=\"\",\"\",110))","v":""},{"$f":"_xlfn.TEXTJOIN(\";\",1,AG161:AN161)","v":""},1210,1,null,4,120,30,{"$nulls":4},{"$f":"CONCATENATE(\"刀气数量+\",U161)","v":"刀气数量+1"},""]
[null,13023,225,438,861,null,"占位",16,"icon_s1503","S1503",1503,"bingzhui_timeline_TD",1,1,3,"4;120;30",2,"103","10",1211,null,null,4,120,30,{"$nulls":4},{"$f":"CONCATENATE(\"攻击+\",S162,\"%\")","v":"攻击+10%"},"",null,null,null,10]
[null,13023,337.5,439,862,null,"占位",16,"icon_s1503","S1503",1503,"bingzhui_timeline_TD",1,1,4,"5;120;30",2,"103","10",1212,2,null,5,120,30,{"$nulls":4},{"$f":"CONCATENATE(\"刀气数量+\",U163)","v":"刀气数量+2"},"",null,null,null,10]
[null,13023,506.25,440,863,null,"占位",16,"icon_s1503","S1503",1503,"bingzhui_timeline_TD",1,1,5,"5;120;30",2,"103","20",1213,null,null,5,120,30,{"$nulls":4},{"$f":"CONCATENATE(\"攻击+\",S164,\"%\")","v":"攻击+20%"},"",null,null,null,20]
[null,13023,759.375,441,864,null,"占位",16,"icon_s1503","S1503",1503,"bingzhui_timeline_TD",1,1,6,"6;120;30",2,"103","20",1214,3,null,6,120,30,{"$nulls":4},{"$f":"CONCATENATE(\"刀气数量+\",U165)","v":"刀气数量+3"},"",null,null,null,20]
[{"$nulls":8},"icon_s",{"$nulls":21},""]
[{"$f":"K167*10+O167-1","v":15040},{"$f":"B160+1","v":13024},100,436,859,"落石","从天而降{0}枚落石，对敌人造成{1}%伤害。",16,"icon_s1504",{"$f":"CONCATENATE(\"S\",K167)","v":"S1504"},1504,"bingqiu_timeline_TD",1,1,1,{"$f":"_xlfn.TEXTJOIN(\";\",1,W167:AC167)","v":"3;100"},2,{"$f":"_xlfn.TEXTJOIN(\";\",1,IF(AG167=\"\",\"\",101),IF(AH167=\"\",\"\",102),IF(AI167=\"\",\"\",103),IF(AJ167=\"\",\"\",106),IF(AK167=\"\",\"\",107),IF(AL167=\"\",\"\",108),IF(AM167=\"\",\"\",109),IF(AN167=\"\",\"\",110))","v":""},{"$f":"_xlfn.TEXTJOIN(\";\",1,AG167:AN167)","v":""},-1,null,null,3,100,{"$nulls":6},"落石·壹"]
[{"$f":"K168*10+O168-1","v":15041},{"$f":"B161+1","v":13024},150,437,860,"落石","从天而降{0}枚落石，对敌人造成{1}%伤害。",16,"icon_s1504",{"$f":"CONCATENATE(\"S\",K168)","v":"S1504"},1504,"bingqiu_timeline_TD",1,1,2,{"$f":"_xlfn.TEXTJOIN(\";\",1,W168:AC168)","v":"3;100"},2,{"$f":"_xlfn.TEXTJOIN(\";\",1,IF(AG168=\"\",\"\",101),IF(AH168=\"\",\"\",102),IF(AI168=\"\",\"\",103),IF(AJ168=\"\",\"\",106),IF(AK168=\"\",\"\",107),IF(AL168=\"\",\"\",108),IF(AM168=\"\",\"\",109),IF(AN168=\"\",\"\",110))","v":"101;102;103"},{"$f":"_xlfn.TEXTJOIN(\";\",1,AG168:AN168)","v":"2;2;2"},1215,null,null,3,100,{"$nulls":5},{"$f":"CONCATENATE(\"生命、攻击、防御+\",S168,\"%\")","v":"生命、攻击、防御+2;2;2%"},"落石·贰",null,2,2,2]
[15042,13024,225,438,861,"落石","从天而降{0}枚落石，对敌人造成{1}%伤害。",16,"icon_s1504","S1504",1504,"bingqiu_timeline_TD",1,1,3,"4;100",2,"101;102;103","2;2;2",1216,1,null,4,100,{"$nulls":5},{"$f":"CONCATENATE(\"落石数量+\",U169)","v":"落石数量+1"},"落石·叁",null,2,2,2]
[15043,13024,337.5,439,862,"落石","从天而降{0}枚落石，对敌人造成{1}%伤害。",16,"icon_s1504","S1504",1504,"bingqiu_timeline_TD",1,1,4,"4;100",2,"101;102;103","4;4;4",1217,null,null,4,100,{"$nulls":5},{"$f":"CONCATENATE(\"生命、攻击、防御+\",S170,\"%\")","v":"生命、攻击、防御+4;4;4%"},"落石·肆",null,4,4,4]
[15044,13024,506.25,440,863,"落石","从天而降{0}枚落石，对敌人造成{1}%伤害。",16,"icon_s1504","S1504",1504,"bingqiu_timeline_TD",1,1,5,"5;100",2,"101;102;103","4;4;4",1218,2,null,5,100,{"$nulls":5},{"$f":"CONCATENATE(\"落石数量+\",U171)","v":"落石数量+2"},"落石·伍",null,4,4,4]
[15045,13024,759.375,441,864,"落石","从天而降{0}枚落石，对敌人造成{1}%伤害。",16,"icon_s1504","S1504",1504,"bingqiu_timeline_TD",1,1,6,"5;100",2,"101;102;103","6;6;6",1219,null,null,5,100,{"$nulls":5},{"$f":"CONCATENATE(\"生命、攻击、防御+\",S172,\"%\")","v":"生命、攻击、防御+6;6;6%"},"落石·陆",null,6,6,6]
[{"$nulls":8},"icon_s",{"$nulls":21},""]
[{"$f":"K174*10+O174-1","v":15050},{"$f":"B167+1","v":13025},100,442,865,"小石头","发射{0}枚小石头，对敌人造成{1}%伤害。",16,"icon_s1505",{"$f":"CONCATENATE(\"S\",K174)","v":"S1505"},1505,"bingzhui_timeline_TD",1,1,1,{"$f":"_xlfn.TEXTJOIN(\";\",1,W174:AC174)","v":"6;100"},2,{"$f":"_xlfn.TEXTJOIN(\";\",1,IF(AG174=\"\",\"\",101),IF(AH174=\"\",\"\",102),IF(AI174=\"\",\"\",103),IF(AJ174=\"\",\"\",106),IF(AK174=\"\",\"\",107),IF(AL174=\"\",\"\",108),IF(AM174=\"\",\"\",109),IF(AN174=\"\",\"\",110))","v":""},{"$f":"_xlfn.TEXTJOIN(\";\",1,AG174:AN174)","v":""},-1,null,null,6,100,{"$nulls":6},"小石头·壹"]
[{"$f":"K175*10+O175-1","v":15051},{"$f":"B168+1","v":13025},150,443,866,"小石头","发射{0}枚小石头，对敌人造成{1}%伤害。",16,"icon_s1505",{"$f":"CONCATENATE(\"S\",K175)","v":"S1505"},1505,"bingzhui_timeline_TD",1,1,2,{"$f":"_xlfn.TEXTJOIN(\";\",1,W175:AC175)","v":"6;100"},2,{"$f":"_xlfn.TEXTJOIN(\";\",1,IF(AG175=\"\",\"\",101),IF(AH175=\"\",\"\",102),IF(AI175=\"\",\"\",103),IF(AJ175=\"\",\"\",106),IF(AK175=\"\",\"\",107),IF(AL175=\"\",\"\",108),IF(AM175=\"\",\"\",109),IF(AN175=\"\",\"\",110))","v":"101;102;103"},{"$f":"_xlfn.TEXTJOIN(\";\",1,AG175:AN175)","v":"2;2;2"},1220,null,null,6,100,{"$nulls":5},{"$f":"CONCATENATE(\"生命、攻击、防御+\",S175,\"%\")","v":"生命、攻击、防御+2;2;2%"},"小石头·贰",null,2,2,2]
[15052,13025,225,444,867,"小石头","发射{0}枚小石头，对敌人造成{1}%伤害。",16,"icon_s1505","S1505",1505,"bingzhui_timeline_TD",1,1,3,"8;100",2,"101;102;103","2;2;2",1221,2,null,8,100,{"$nulls":5},{"$f":"CONCATENATE(\"小石头数量+\",U176)","v":"小石头数量+2"},"小石头·叁",null,2,2,2]
[15053,13025,337.5,445,868,"小石头","发射{0}枚小石头，对敌人造成{1}%伤害。",16,"icon_s1505","S1505",1505,"bingzhui_timeline_TD",1,1,4,"8;100",2,"101;102;103","4;4;4",1222,null,null,8,100,{"$nulls":5},{"$f":"CONCATENATE(\"生命、攻击、防御+\",S177,\"%\")","v":"生命、攻击、防御+4;4;4%"},"小石头·肆",null,4,4,4]
[15054,13025,506.25,446,869,"小石头","发射{0}枚小石头，对敌人造成{1}%伤害。",16,"icon_s1505","S1505",1505,"bingzhui_timeline_TD",1,1,5,"10;100",2,"101;102;103","4;4;4",1223,4,null,10,100,{"$nulls":5},{"$f":"CONCATENATE(\"小石头数量+\",U178)","v":"小石头数量+4"},"小石头·伍",null,4,4,4]
[15055,13025,759.375,447,870,"小石头","发射{0}枚小石头，对敌人造成{1}%伤害。",16,"icon_s1505","S1505",1505,"bingzhui_timeline_TD",1,1,6,"10;100",2,"101;102;103","6;6;6",1224,null,null,10,100,{"$nulls":5},{"$f":"CONCATENATE(\"生命、攻击、防御+\",S179,\"%\")","v":"生命、攻击、防御+6;6;6%"},"小石头·陆",null,6,6,6]
[{"$nulls":8},"icon_s",{"$nulls":21},""]
[null,"英雄-被动功法区域",{"$nulls":6},"icon_s",{"$nulls":21},""]
[{"$f":"K182*10+O182-1","v":20010},13006,100,448,871,"天衍星辰诀","引星辰之力入体，增强玩家体魄，\n让后方槽位的功法无视防御性护盾（功法法宝带来的防护罩、自身护盾）",0,"icon_s2001",{"$f":"CONCATENATE(\"S\",K182)","v":"S2001"},2001,null,1,2,1,{"$f":"_xlfn.TEXTJOIN(\";\",1,W182:AC182)","v":""},0,{"$f":"_xlfn.TEXTJOIN(\";\",1,IF(AG182=\"\",\"\",101),IF(AH182=\"\",\"\",102),IF(AI182=\"\",\"\",103),IF(AJ182=\"\",\"\",106),IF(AK182=\"\",\"\",107),IF(AL182=\"\",\"\",108),IF(AM182=\"\",\"\",109),IF(AN182=\"\",\"\",110))","v":""},{"$f":"_xlfn.TEXTJOIN(\";\",1,AG182:AN182)","v":""},-1,null,-1,{"$nulls":8},"天衍星辰诀·壹"]
[{"$f":"K183*10+O183-1","v":20011},13006,150,449,872,"天衍星辰诀","引星辰之力入体，增强玩家体魄，\n让后方槽位的功法无视防御性护盾（功法法宝带来的防护罩、自身护盾）",0,"icon_s2001",{"$f":"CONCATENATE(\"S\",K183)","v":"S2001"},2001,null,1,2,2,{"$f":"_xlfn.TEXTJOIN(\";\",1,W183:AC183)","v":""},0,{"$f":"_xlfn.TEXTJOIN(\";\",1,IF(AG183=\"\",\"\",101),IF(AH183=\"\",\"\",102),IF(AI183=\"\",\"\",103),IF(AJ183=\"\",\"\",106),IF(AK183=\"\",\"\",107),IF(AL183=\"\",\"\",108),IF(AM183=\"\",\"\",109),IF(AN183=\"\",\"\",110))","v":"101;102;103"},{"$f":"_xlfn.TEXTJOIN(\";\",1,AG183:AN183)","v":"2;2;2"},1225,null,-1,{"$nulls":7},{"$f":"CONCATENATE(\"生命、攻击、防御+\",S183,\"%\")","v":"生命、攻击、防御+2;2;2%"},"天衍星辰诀·贰",null,2,2,2]
[20012,13006,225,450,873,"天衍星辰诀","引星辰之力入体，增强玩家体魄，\n让后方槽位的功法无视防御性护盾（功法法宝带来的防护罩、自身护盾）",0,"icon_s2001","S2001",2001,null,1,2,3,"",0,"101;102;103","4;4;4",1226,null,-1,{"$nulls":7},{"$f":"CONCATENATE(\"生命、攻击、防御+\",S184,\"%\")","v":"生命、攻击、防御+4;4;4%"},"天衍星辰诀·叁",null,4,4,4]
[20013,13006,337.5,451,874,"天衍星辰诀","引星辰之力入体，增强玩家体魄，\n让后方槽位的功法无视防御性护盾（功法法宝带来的防护罩、自身护盾）",0,"icon_s2001","S2001",2001,null,1,2,4,"",0,"101;102;103","6;6;6",1227,null,-1,{"$nulls":7},{"$f":"CONCATENATE(\"生命、攻击、防御+\",S185,\"%\")","v":"生命、攻击、防御+6;6;6%"},"天衍星辰诀·肆",null,6,6,6]
[20014,13006,506.25,452,875,"天衍星辰诀","引星辰之力入体，增强玩家体魄，\n让后方槽位的功法无视防御性护盾（功法法宝带来的防护罩、自身护盾）",0,"icon_s2001","S2001",2001,null,1,2,5,"",0,"101;102;103","8;8;8",1228,null,-1,{"$nulls":7},{"$f":"CONCATENATE(\"生命、攻击、防御+\",S186,\"%\")","v":"生命、攻击、防御+8;8;8%"},"天衍星辰诀·伍",null,8,8,8]
[20015,13006,759.375,453,876,"天衍星辰诀","引星辰之力入体，增强玩家体魄，\n让后方槽位的功法无视防御性护盾（功法法宝带来的防护罩、自身护盾）",0,"icon_s2001","S2001",2001,null,1,2,6,"",0,"101;102;103","8;8;8",1229,null,-1,{"$nulls":7},"穿过护盾时额外对护盾照成等额伤害","天衍星辰诀·陆",null,8,8,8]
[{"$nulls":8},"icon_s",{"$nulls":21},""]
[{"$f":"K189*10+O189-1","v":20020},13006,100,454,877,"法宝秘籍","后方槽位技能在击中目标时，为法宝提供{0}%充能",0,"icon_s2002",{"$f":"CONCATENATE(\"S\",K189)","v":"S2002"},{"$f":"K182+1","v":2002},null,1,2,1,{"$f":"_xlfn.TEXTJOIN(\";\",1,W189:AC189)","v":"1"},0,{"$f":"_xlfn.TEXTJOIN(\";\",1,IF(AG189=\"\",\"\",101),IF(AH189=\"\",\"\",102),IF(AI189=\"\",\"\",103),IF(AJ189=\"\",\"\",106),IF(AK189=\"\",\"\",107),IF(AL189=\"\",\"\",108),IF(AM189=\"\",\"\",109),IF(AN189=\"\",\"\",110))","v":""},{"$f":"_xlfn.TEXTJOIN(\";\",1,AG189:AN189)","v":""},-1,null,-1,1,{"$nulls":7},"法宝秘籍·壹"]
[{"$f":"K190*10+O190-1","v":20021},13006,150,455,878,"法宝秘籍","后方槽位技能在击中目标时，为法宝提供{0}%充能",0,"icon_s2002",{"$f":"CONCATENATE(\"S\",K190)","v":"S2002"},{"$f":"K183+1","v":2002},null,1,2,2,{"$f":"_xlfn.TEXTJOIN(\";\",1,W190:AC190)","v":"1"},0,{"$f":"_xlfn.TEXTJOIN(\";\",1,IF(AG190=\"\",\"\",101),IF(AH190=\"\",\"\",102),IF(AI190=\"\",\"\",103),IF(AJ190=\"\",\"\",106),IF(AK190=\"\",\"\",107),IF(AL190=\"\",\"\",108),IF(AM190=\"\",\"\",109),IF(AN190=\"\",\"\",110))","v":"101;102;103"},{"$f":"_xlfn.TEXTJOIN(\";\",1,AG190:AN190)","v":"2;2;2"},1230,null,-1,1,{"$nulls":6},{"$f":"CONCATENATE(\"生命、攻击、防御+\",S190,\"%\")","v":"生命、攻击、防御+2;2;2%"},"法宝秘籍·贰",null,2,2,2]
[20022,13006,225,456,879,"法宝秘籍","后方槽位技能在击中目标时，为法宝提供{0}%充能",0,"icon_s2002","S2002",2002,null,1,2,3,"1",0,"101;102;103","4;4;4",1231,null,-1,1,{"$nulls":6},{"$f":"CONCATENATE(\"生命、攻击、防御+\",S191,\"%\")","v":"生命、攻击、防御+4;4;4%"},"法宝秘籍·叁",null,4,4,4]
[20023,13006,337.5,457,880,"法宝秘籍","后方槽位技能在击中目标时，为法宝提供{0}%充能",0,"icon_s2002","S2002",2002,null,1,2,4,"1",0,"101;102;103","6;6;6",1232,null,-1,1,{"$nulls":6},{"$f":"CONCATENATE(\"生命、攻击、防御+\",S192,\"%\")","v":"生命、攻击、防御+6;6;6%"},"法宝秘籍·肆",null,6,6,6]
[20024,13006,506.25,458,881,"法宝秘籍","后方槽位技能在击中目标时，为法宝提供{0}%充能",0,"icon_s2002","S2002",2002,null,1,2,5,"1",0,"101;102;103","8;8;8",1233,null,-1,1,{"$nulls":6},{"$f":"CONCATENATE(\"生命、攻击、防御+\",S193,\"%\")","v":"生命、攻击、防御+8;8;8%"},"法宝秘籍·伍",null,8,8,8]
[20025,13006,759.375,459,882,"法宝秘籍","后方槽位技能在击中目标时，为法宝提供{0}%充能。\n法宝可以瞬间施放，且规避法宝对拼。",0,"icon_s2002","S2002",2002,null,1,2,6,"3",0,"101;102;103","8;8;8",1234,null,-1,3,{"$nulls":6},"充能增效，法宝瞬发且不对拼","法宝秘籍·陆",null,8,8,8]
[{"$nulls":8},{"$f":"CONCATENATE(\"icon_s\",K195)","v":"icon_s"},{"$nulls":21},""]
[{"$f":"K196*10+O196-1","v":20030},13011,100,460,883,"崩脉决","前方功法造成伤害时有{0}%概率施加一层对应属性的伤势",0,"icon_s2003",{"$f":"CONCATENATE(\"S\",K196)","v":"S2003"},{"$f":"K189+1","v":2003},null,1,2,1,{"$f":"_xlfn.TEXTJOIN(\";\",1,W196:AC196)","v":"50"},0,{"$f":"_xlfn.TEXTJOIN(\";\",1,IF(AG196=\"\",\"\",101),IF(AH196=\"\",\"\",102),IF(AI196=\"\",\"\",103),IF(AJ196=\"\",\"\",106),IF(AK196=\"\",\"\",107),IF(AL196=\"\",\"\",108),IF(AM196=\"\",\"\",109),IF(AN196=\"\",\"\",110))","v":""},{"$f":"_xlfn.TEXTJOIN(\";\",1,AG196:AN196)","v":""},-1,null,1,50,{"$nulls":7},"崩脉决·壹"]
[{"$f":"K197*10+O197-1","v":20031},13011,150,461,884,"崩脉决","前方功法造成伤害时有{0}%概率施加一层对应属性的伤势",0,"icon_s2003",{"$f":"CONCATENATE(\"S\",K197)","v":"S2003"},{"$f":"K190+1","v":2003},null,1,2,2,{"$f":"_xlfn.TEXTJOIN(\";\",1,W197:AC197)","v":"50"},0,{"$f":"_xlfn.TEXTJOIN(\";\",1,IF(AG197=\"\",\"\",101),IF(AH197=\"\",\"\",102),IF(AI197=\"\",\"\",103),IF(AJ197=\"\",\"\",106),IF(AK197=\"\",\"\",107),IF(AL197=\"\",\"\",108),IF(AM197=\"\",\"\",109),IF(AN197=\"\",\"\",110))","v":"101;102;103"},{"$f":"_xlfn.TEXTJOIN(\";\",1,AG197:AN197)","v":"2;2;2"},1235,null,1,50,{"$nulls":6},{"$f":"CONCATENATE(\"生命、攻击、防御+\",S197,\"%\")","v":"生命、攻击、防御+2;2;2%"},"崩脉决·贰",null,2,2,2]
[20032,13011,225,462,885,"崩脉决","前方功法造成伤害时有{0}%概率施加一层对应属性的伤势",0,"icon_s2003","S2003",2003,null,1,2,3,"50",0,"101;102;103","4;4;4",1236,null,1,50,{"$nulls":6},{"$f":"CONCATENATE(\"生命、攻击、防御+\",S198,\"%\")","v":"生命、攻击、防御+4;4;4%"},"崩脉决·叁",null,4,4,4]
[20033,13011,337.5,463,886,"崩脉决","前方功法造成伤害时有{0}%概率施加一层对应属性的伤势",0,"icon_s2003","S2003",2003,null,1,2,4,"50",0,"101;102;103","6;6;6",1237,null,1,50,{"$nulls":6},{"$f":"CONCATENATE(\"生命、攻击、防御+\",S199,\"%\")","v":"生命、攻击、防御+6;6;6%"},"崩脉决·肆",null,6,6,6]
[20034,13011,506.25,464,887,"崩脉决","前方功法造成伤害时有{0}%概率施加一层对应属性的伤势",0,"icon_s2003","S2003",2003,null,1,2,5,"50",0,"101;102;103","8;8;8",1238,null,1,50,{"$nulls":6},{"$f":"CONCATENATE(\"生命、攻击、防御+\",S200,\"%\")","v":"生命、攻击、防御+8;8;8%"},"崩脉决·伍",null,8,8,8]
[20035,13011,759.375,465,888,"崩脉决","前方功法造成伤害时有{0}%概率施加一层对应属性的伤势",0,"icon_s2003","S2003",2003,null,1,2,6,"100",0,"101;102;103","8;8;8",1239,null,1,100,{"$nulls":6},"触发概率提升","崩脉决·陆",null,8,8,8]
[{"$nulls":8},"icon_s",{"$nulls":21},""]
[{"$f":"K203*10+O203-1","v":20040},13007,100,466,889,"两仪决","前后方法宝如果相生则双生效果增强{0}%",0,"icon_s2004",{"$f":"CONCATENATE(\"S\",K203)","v":"S2004"},{"$f":"K196+1","v":2004},null,1,2,1,{"$f":"_xlfn.TEXTJOIN(\";\",1,W203:AC203)","v":"30"},0,{"$f":"_xlfn.TEXTJOIN(\";\",1,IF(AG203=\"\",\"\",101),IF(AH203=\"\",\"\",102),IF(AI203=\"\",\"\",103),IF(AJ203=\"\",\"\",106),IF(AK203=\"\",\"\",107),IF(AL203=\"\",\"\",108),IF(AM203=\"\",\"\",109),IF(AN203=\"\",\"\",110))","v":""},{"$f":"_xlfn.TEXTJOIN(\";\",1,AG203:AN203)","v":""},-1,null,"1;-1",30,{"$nulls":7},"两仪决·壹"]
[{"$f":"K204*10+O204-1","v":20041},13007,150,467,890,"两仪决","前后方法宝如果相生则双生效果增强{0}%",0,"icon_s2004",{"$f":"CONCATENATE(\"S\",K204)","v":"S2004"},{"$f":"K197+1","v":2004},null,1,2,2,{"$f":"_xlfn.TEXTJOIN(\";\",1,W204:AC204)","v":"30"},0,{"$f":"_xlfn.TEXTJOIN(\";\",1,IF(AG204=\"\",\"\",101),IF(AH204=\"\",\"\",102),IF(AI204=\"\",\"\",103),IF(AJ204=\"\",\"\",106),IF(AK204=\"\",\"\",107),IF(AL204=\"\",\"\",108),IF(AM204=\"\",\"\",109),IF(AN204=\"\",\"\",110))","v":"101;102;103"},{"$f":"_xlfn.TEXTJOIN(\";\",1,AG204:AN204)","v":"2;2;2"},1240,null,"1;-1",30,{"$nulls":6},{"$f":"CONCATENATE(\"生命、攻击、防御+\",S204,\"%\")","v":"生命、攻击、防御+2;2;2%"},"两仪决·贰",null,2,2,2]
[20042,13007,225,468,891,"两仪决","前后方法宝如果相生则双生效果增强{0}%",0,"icon_s2004","S2004",2004,null,1,2,3,"30",0,"101;102;103","4;4;4",1241,null,"1;-1",30,{"$nulls":6},{"$f":"CONCATENATE(\"生命、攻击、防御+\",S205,\"%\")","v":"生命、攻击、防御+4;4;4%"},"两仪决·叁",null,4,4,4]
[20043,13007,337.5,469,892,"两仪决","前后方法宝如果相生则双生效果增强{0}%",0,"icon_s2004","S2004",2004,null,1,2,4,"30",0,"101;102;103","6;6;6",1242,null,"1;-1",30,{"$nulls":6},{"$f":"CONCATENATE(\"生命、攻击、防御+\",S206,\"%\")","v":"生命、攻击、防御+6;6;6%"},"两仪决·肆",null,6,6,6]
[20044,13007,506.25,470,893,"两仪决","前后方法宝如果相生则双生效果增强{0}%",0,"icon_s2004","S2004",2004,null,1,2,5,"30",0,"101;102;103","8;8;8",1243,null,"1;-1",30,{"$nulls":6},{"$f":"CONCATENATE(\"生命、攻击、防御+\",S207,\"%\")","v":"生命、攻击、防御+8;8;8%"},"两仪决·伍",null,8,8,8]
[20045,13007,759.375,471,894,"两仪决","前后方法宝如果相生则双生效果增强{0}%。\n前后方法宝如果不相生则双生效果增加{1}%。\n前方后法宝如果相克则双生效果增强{2}%。",0,"icon_s2004","S2004",2004,null,1,2,6,"30;15;10",0,"101;102;103","8;8;8",1244,null,"1;-1",30,15,10,{"$nulls":4},"不相生甚至相克功法也生效","两仪决·陆",null,8,8,8]
[{"$nulls":8},"icon_s",{"$nulls":21},""]
[{"$f":"K210*10+O210-1","v":20050},13008,100,472,895,"火焰决","每层经过火经脉时使火系功法伤害提升{0}%，最多叠加{1}层",0,"icon_s2005",{"$f":"CONCATENATE(\"S\",K210)","v":"S2005"},{"$f":"K203+1","v":2005},null,1,2,1,{"$f":"_xlfn.TEXTJOIN(\";\",1,W210:AC210)","v":"1;20"},0,{"$f":"_xlfn.TEXTJOIN(\";\",1,IF(AG210=\"\",\"\",101),IF(AH210=\"\",\"\",102),IF(AI210=\"\",\"\",103),IF(AJ210=\"\",\"\",106),IF(AK210=\"\",\"\",107),IF(AL210=\"\",\"\",108),IF(AM210=\"\",\"\",109),IF(AN210=\"\",\"\",110))","v":""},{"$f":"_xlfn.TEXTJOIN(\";\",1,AG210:AN210)","v":""},-1,null,null,1,20,{"$nulls":6},"火焰决·壹"]
[{"$f":"K211*10+O211-1","v":20051},13008,150,473,896,"火焰决","每层经过火经脉时使火系功法伤害提升{0}%，最多叠加{1}层",0,"icon_s2005",{"$f":"CONCATENATE(\"S\",K211)","v":"S2005"},{"$f":"K204+1","v":2005},null,1,2,2,{"$f":"_xlfn.TEXTJOIN(\";\",1,W211:AC211)","v":"1;20"},0,{"$f":"_xlfn.TEXTJOIN(\";\",1,IF(AG211=\"\",\"\",101),IF(AH211=\"\",\"\",102),IF(AI211=\"\",\"\",103),IF(AJ211=\"\",\"\",106),IF(AK211=\"\",\"\",107),IF(AL211=\"\",\"\",108),IF(AM211=\"\",\"\",109),IF(AN211=\"\",\"\",110))","v":"101;102;103"},{"$f":"_xlfn.TEXTJOIN(\";\",1,AG211:AN211)","v":"2;2;2"},1245,null,null,1,20,{"$nulls":5},{"$f":"CONCATENATE(\"生命、攻击、防御+\",S211,\"%\")","v":"生命、攻击、防御+2;2;2%"},"火焰决·贰",null,2,2,2]
[20052,13008,225,474,897,"火焰决","每层经过火经脉时使火系功法伤害提升{0}%，最多叠加{1}层",0,"icon_s2005","S2005",2005,null,1,2,3,"1;20",0,"101;102;103","4;4;4",1246,null,null,1,20,{"$nulls":5},{"$f":"CONCATENATE(\"生命、攻击、防御+\",S212,\"%\")","v":"生命、攻击、防御+4;4;4%"},"火焰决·叁",null,4,4,4]
[20053,13008,337.5,475,898,"火焰决","每层经过火经脉时使火系功法伤害提升{0}%，最多叠加{1}层",0,"icon_s2005","S2005",2005,null,1,2,4,"1;20",0,"101;102;103","6;6;6",1247,null,null,1,20,{"$nulls":5},{"$f":"CONCATENATE(\"生命、攻击、防御+\",S213,\"%\")","v":"生命、攻击、防御+6;6;6%"},"火焰决·肆",null,6,6,6]
[20054,13008,506.25,476,899,"火焰决","每层经过火经脉时使火系功法伤害提升{0}%，最多叠加{1}层",0,"icon_s2005","S2005",2005,null,1,2,5,"1;20",0,"101;102;103","8;8;8",1248,null,null,1,20,{"$nulls":5},{"$f":"CONCATENATE(\"生命、攻击、防御+\",S214,\"%\")","v":"生命、攻击、防御+8;8;8%"},"火焰决·伍",null,8,8,8]
[20055,13008,759.375,477,900,"火焰决","每层经过火经脉时使火系功法伤害提升{0}%，最多叠加{1}层。\n当达到满层后，任何火系功法命中时都会施加{1}层灼烧。",0,"icon_s2005","S2005",2005,null,1,2,6,"2;20;1",0,"101;102;103","8;8;8",1249,null,null,2,20,1,{"$nulls":4},"满层时施加灼烧","火焰决·陆",null,8,8,8]
[{"$nulls":8},"icon_s",{"$nulls":21},""]
[{"$f":"K217*10+O217-1","v":20060},13009,100,478,901,"乾坤巨灵诀","后方槽位第一个技能体型巨大化，且在对碰中强度增加{0}%",0,"icon_s2006",{"$f":"CONCATENATE(\"S\",K217)","v":"S2006"},{"$f":"K210+1","v":2006},null,1,2,1,{"$f":"_xlfn.TEXTJOIN(\";\",1,W217:AC217)","v":"30;30"},0,{"$f":"_xlfn.TEXTJOIN(\";\",1,IF(AG217=\"\",\"\",101),IF(AH217=\"\",\"\",102),IF(AI217=\"\",\"\",103),IF(AJ217=\"\",\"\",106),IF(AK217=\"\",\"\",107),IF(AL217=\"\",\"\",108),IF(AM217=\"\",\"\",109),IF(AN217=\"\",\"\",110))","v":""},{"$f":"_xlfn.TEXTJOIN(\";\",1,AG217:AN217)","v":""},-1,null,-1,30,30,{"$nulls":6},"乾坤巨灵诀·壹"]
[{"$f":"K218*10+O218-1","v":20061},13009,150,479,902,"乾坤巨灵诀","后方槽位第一个技能体型巨大化，且在对碰中强度增加{0}%",0,"icon_s2006",{"$f":"CONCATENATE(\"S\",K218)","v":"S2006"},{"$f":"K211+1","v":2006},null,1,2,2,{"$f":"_xlfn.TEXTJOIN(\";\",1,W218:AC218)","v":"30;30"},0,{"$f":"_xlfn.TEXTJOIN(\";\",1,IF(AG218=\"\",\"\",101),IF(AH218=\"\",\"\",102),IF(AI218=\"\",\"\",103),IF(AJ218=\"\",\"\",106),IF(AK218=\"\",\"\",107),IF(AL218=\"\",\"\",108),IF(AM218=\"\",\"\",109),IF(AN218=\"\",\"\",110))","v":"101;102;103"},{"$f":"_xlfn.TEXTJOIN(\";\",1,AG218:AN218)","v":"2;2;2"},1250,null,-1,30,30,{"$nulls":5},{"$f":"CONCATENATE(\"生命、攻击、防御+\",S218,\"%\")","v":"生命、攻击、防御+2;2;2%"},"乾坤巨灵诀·贰",null,2,2,2]
[20062,13009,225,480,903,"乾坤巨灵诀","后方槽位第一个技能体型巨大化，且在对碰中强度增加{0}%",0,"icon_s2006","S2006",2006,null,1,2,3,"30;30",0,"101;102;103","4;4;4",1251,null,-1,30,30,{"$nulls":5},{"$f":"CONCATENATE(\"生命、攻击、防御+\",S219,\"%\")","v":"生命、攻击、防御+4;4;4%"},{"$f":"IF(F219=\"\",\"\",CONCATENATE(F219,\"·\",CHOOSE(O219,\"壹\",\"贰\",\"叁\",\"肆\",\"伍\",\"陆\")))","v":"乾坤巨灵诀·叁"},null,4,4,4]
[20063,13009,337.5,481,904,"乾坤巨灵诀","后方槽位第一个技能体型巨大化，且在对碰中强度增加{0}%",0,"icon_s2006","S2006",2006,null,1,2,4,"30;30",0,"101;102;103","6;6;6",1252,null,-1,30,30,{"$nulls":5},{"$f":"CONCATENATE(\"生命、攻击、防御+\",S220,\"%\")","v":"生命、攻击、防御+6;6;6%"},"乾坤巨灵诀·肆",null,6,6,6]
[20064,13009,506.25,482,905,"乾坤巨灵诀","后方槽位第一个技能体型巨大化，且在对碰中强度增加{0}%",0,"icon_s2006","S2006",2006,null,1,2,5,"30;30",0,"101;102;103","8;8;8",1253,null,-1,30,30,{"$nulls":5},{"$f":"CONCATENATE(\"生命、攻击、防御+\",S221,\"%\")","v":"生命、攻击、防御+8;8;8%"},"乾坤巨灵诀·伍",null,8,8,8]
[20065,13009,759.375,483,906,"乾坤巨灵诀","后方槽位第一个技能体型巨大化，且在对碰中强度增加{0}%\n巨大化的功法对拼耗尽不再消失，而是恢复{1}%强度",0,"icon_s2006","S2006",2006,null,1,2,6,"30;30;30",0,"101;102;103","8;8;8",1254,null,-1,30,30,30,{"$nulls":4},"对拼时重生","乾坤巨灵诀·陆",null,8,8,8]
[{"$nulls":8},"icon_s",{"$nulls":21},""]
[{"$f":"K224*10+O224-1","v":20070},13010,100,484,907,"极速齿轮","后槽位技能在催动时获得转盘加速{0}%,持续{1}秒",0,"icon_s2007",{"$f":"CONCATENATE(\"S\",K224)","v":"S2007"},{"$f":"K217+1","v":2007},null,1,2,1,{"$f":"_xlfn.TEXTJOIN(\";\",1,W224:AC224)","v":"20;9"},0,{"$f":"_xlfn.TEXTJOIN(\";\",1,IF(AG224=\"\",\"\",101),IF(AH224=\"\",\"\",102),IF(AI224=\"\",\"\",103),IF(AJ224=\"\",\"\",106),IF(AK224=\"\",\"\",107),IF(AL224=\"\",\"\",108),IF(AM224=\"\",\"\",109),IF(AN224=\"\",\"\",110))","v":""},{"$f":"_xlfn.TEXTJOIN(\";\",1,AG224:AN224)","v":""},-1,null,-1,20,9,{"$nulls":6},"极速齿轮·壹"]
[{"$f":"K225*10+O225-1","v":20071},13010,150,485,908,"极速齿轮","后槽位技能在催动时获得转盘加速{0}%,持续{1}秒",0,"icon_s2007",{"$f":"CONCATENATE(\"S\",K225)","v":"S2007"},{"$f":"K218+1","v":2007},null,1,2,2,{"$f":"_xlfn.TEXTJOIN(\";\",1,W225:AC225)","v":"20;9"},0,{"$f":"_xlfn.TEXTJOIN(\";\",1,IF(AG225=\"\",\"\",101),IF(AH225=\"\",\"\",102),IF(AI225=\"\",\"\",103),IF(AJ225=\"\",\"\",106),IF(AK225=\"\",\"\",107),IF(AL225=\"\",\"\",108),IF(AM225=\"\",\"\",109),IF(AN225=\"\",\"\",110))","v":"101;102;103"},{"$f":"_xlfn.TEXTJOIN(\";\",1,AG225:AN225)","v":"2;2;2"},1255,null,-1,20,9,{"$nulls":5},{"$f":"CONCATENATE(\"生命、攻击、防御+\",S225,\"%\")","v":"生命、攻击、防御+2;2;2%"},"极速齿轮·贰",null,2,2,2]
[20072,13010,225,486,909,"极速齿轮","后槽位技能在催动时获得转盘加速{0}%,持续{1}秒",0,"icon_s2007","S2007",2007,null,1,2,3,"20;9",0,"101;102;103","4;4;4",1256,null,-1,20,9,{"$nulls":5},{"$f":"CONCATENATE(\"生命、攻击、防御+\",S226,\"%\")","v":"生命、攻击、防御+4;4;4%"},"极速齿轮·叁",null,4,4,4]
[20073,13010,337.5,487,910,"极速齿轮","后槽位技能在催动时获得转盘加速{0}%,持续{1}秒",0,"icon_s2007","S2007",2007,null,1,2,4,"20;9",0,"101;102;103","6;6;6",1257,null,-1,20,9,{"$nulls":5},{"$f":"CONCATENATE(\"生命、攻击、防御+\",S227,\"%\")","v":"生命、攻击、防御+6;6;6%"},"极速齿轮·肆",null,6,6,6]
[20074,13010,506.25,488,911,"极速齿轮","后槽位技能在催动时获得转盘加速{0}%,持续{1}秒",0,"icon_s2007","S2007",2007,null,1,2,5,"20;9",0,"101;102;103","8;8;8",1258,null,-1,20,9,{"$nulls":5},{"$f":"CONCATENATE(\"生命、攻击、防御+\",S228,\"%\")","v":"生命、攻击、防御+8;8;8%"},"极速齿轮·伍",null,8,8,8]
[20075,13010,759.375,489,912,"极速齿轮","后槽位技能在催动时获得转盘加速{0}%,持续{1}秒\n加速期间，伤害提升{1}%",0,"icon_s2007","S2007",2007,null,1,2,6,"20;9;15",0,"101;102;103","8;8;8",1259,null,-1,20,9,15,{"$nulls":4},"加速时伤害提升","极速齿轮·陆",null,8,8,8]
[{"$nulls":8},"icon_s",{"$nulls":21},""]
[{"$f":"K231*10+O231-1","v":20080},13010,100,490,913,"太虚剑意","后方槽位如果是剑功法，在释放功法时额外释放{0}道剑气，对敌人造成{1}%伤害，并无视护盾类效果",0,"icon_s2008",{"$f":"CONCATENATE(\"S\",K231)","v":"S2008"},{"$f":"K224+1","v":2008},null,1,2,1,{"$f":"_xlfn.TEXTJOIN(\";\",1,W231:AC231)","v":"1;100"},0,{"$f":"_xlfn.TEXTJOIN(\";\",1,IF(AG231=\"\",\"\",101),IF(AH231=\"\",\"\",102),IF(AI231=\"\",\"\",103),IF(AJ231=\"\",\"\",106),IF(AK231=\"\",\"\",107),IF(AL231=\"\",\"\",108),IF(AM231=\"\",\"\",109),IF(AN231=\"\",\"\",110))","v":""},{"$f":"_xlfn.TEXTJOIN(\";\",1,AG231:AN231)","v":""},-1,null,-1,1,100,{"$nulls":6},"太虚剑意·壹"]
[{"$f":"K232*10+O232-1","v":20081},13010,150,491,914,"太虚剑意","后方槽位如果是剑功法，在释放功法时额外释放{0}道剑气，对敌人造成{1}%伤害，并无视护盾类效果",0,"icon_s2008",{"$f":"CONCATENATE(\"S\",K232)","v":"S2008"},{"$f":"K225+1","v":2008},null,1,2,2,{"$f":"_xlfn.TEXTJOIN(\";\",1,W232:AC232)","v":"1;100"},0,{"$f":"_xlfn.TEXTJOIN(\";\",1,IF(AG232=\"\",\"\",101),IF(AH232=\"\",\"\",102),IF(AI232=\"\",\"\",103),IF(AJ232=\"\",\"\",106),IF(AK232=\"\",\"\",107),IF(AL232=\"\",\"\",108),IF(AM232=\"\",\"\",109),IF(AN232=\"\",\"\",110))","v":"101;102;103"},{"$f":"_xlfn.TEXTJOIN(\";\",1,AG232:AN232)","v":"2;2;2"},1260,null,-1,1,100,{"$nulls":5},{"$f":"CONCATENATE(\"生命、攻击、防御+\",S232,\"%\")","v":"生命、攻击、防御+2;2;2%"},"太虚剑意·贰",null,2,2,2]
[20082,13010,225,492,915,"太虚剑意","后方槽位如果是剑功法，在释放功法时额外释放{0}道剑气，对敌人造成{1}%伤害，并无视护盾类效果",0,"icon_s2008","S2008",2008,null,1,2,3,"1;100",0,"101;102;103","4;4;4",1261,null,-1,1,100,{"$nulls":5},{"$f":"CONCATENATE(\"生命、攻击、防御+\",S233,\"%\")","v":"生命、攻击、防御+4;4;4%"},"太虚剑意·叁",null,4,4,4]
[20083,13010,337.5,493,916,"太虚剑意","后方槽位如果是剑功法，在释放功法时额外释放{0}道剑气，对敌人造成{1}%伤害，并无视护盾类效果",0,"icon_s2008","S2008",2008,null,1,2,4,"1;100",0,"101;102;103","6;6;6",1262,null,-1,1,100,{"$nulls":5},{"$f":"CONCATENATE(\"生命、攻击、防御+\",S234,\"%\")","v":"生命、攻击、防御+6;6;6%"},"太虚剑意·肆",null,6,6,6]
[20084,13010,506.25,494,917,"太虚剑意","后方槽位如果是剑功法，在释放功法时额外释放{0}道剑气，对敌人造成{1}%伤害，并无视护盾类效果",0,"icon_s2008","S2008",2008,null,1,2,5,"1;100",0,"101;102;103","8;8;8",1263,null,-1,1,100,{"$nulls":5},{"$f":"CONCATENATE(\"生命、攻击、防御+\",S235,\"%\")","v":"生命、攻击、防御+8;8;8%"},"太虚剑意·伍",null,8,8,8]
[20085,13010,759.375,495,918,"太虚剑意","前方和后方槽位如果是剑功法，在释放功法时额外释放{0}道剑气，对敌人造成{0}%伤害，并无视护盾类效果\n该剑气会对敌人施加{2}层流血",0,"icon_s2008","S2008",2008,null,1,2,6,"2;100;1",0,"101;102;103","8;8;8",1264,null,"1;-1",2,100,1,{"$nulls":4},"前槽位也生效，剑气增强","太虚剑意·陆",null,8,8,8]
[{"$nulls":8},"icon_s"]
[null,"英雄-法宝区域",{"$nulls":6},"icon_s",{"$nulls":21},""]
[{"$f":"K239*10+O239-1","v":31010},11005,100,496,919,"神龙鼎","对敌人照成伤害，使敌人五行混乱。敌人的功法每次使用功法都将使用最低灵根属性作为伤害计算，持续{0}秒",1,"icon_s3101",{"$f":"CONCATENATE(\"S\",K239)","v":"S3101"},3101,null,30,3,1,{"$f":"_xlfn.TEXTJOIN(\";\",1,W239:AC239)","v":"9"},1,{"$f":"_xlfn.TEXTJOIN(\";\",1,IF(AG239=\"\",\"\",101),IF(AH239=\"\",\"\",102),IF(AI239=\"\",\"\",103),IF(AJ239=\"\",\"\",106),IF(AK239=\"\",\"\",107),IF(AL239=\"\",\"\",108),IF(AM239=\"\",\"\",109),IF(AN239=\"\",\"\",110))","v":""},{"$f":"_xlfn.TEXTJOIN(\";\",1,AG239:AN239)","v":""},-1,null,null,9,{"$nulls":7},{"$f":"IF(F239=\"\",\"\",CONCATENATE(F239,\"·\",CHOOSE(O239,\"壹\",\"贰\",\"叁\",\"肆\",\"伍\",\"陆\")))","v":"神龙鼎·壹"}]
[{"$f":"K240*10+O240-1","v":31011},11005,150,497,920,"神龙鼎","对敌人照成伤害，使敌人五行混乱。敌人的功法每次使用功法都将使用最低灵根属性作为伤害计算，持续{0}秒",1,"icon_s3101",{"$f":"CONCATENATE(\"S\",K240)","v":"S3101"},3101,null,30,3,2,"9",1,{"$f":"_xlfn.TEXTJOIN(\";\",1,IF(AG240=\"\",\"\",101),IF(AH240=\"\",\"\",102),IF(AI240=\"\",\"\",103),IF(AJ240=\"\",\"\",106),IF(AK240=\"\",\"\",107),IF(AL240=\"\",\"\",108),IF(AM240=\"\",\"\",109),IF(AN240=\"\",\"\",110))","v":"106"},{"$f":"_xlfn.TEXTJOIN(\";\",1,AG240:AN240)","v":"5"},1265,5,null,9,{"$nulls":6},{"$f":"CONCATENATE(\"金灵根+\",U240)","v":"金灵根+5"},"神龙鼎·贰",{"$nulls":4},5]
[31012,11005,225,498,921,"神龙鼎","对敌人照成伤害，使敌人五行混乱。敌人的功法每次使用功法都将使用最低灵根属性作为伤害计算，持续{0}秒",1,"icon_s3101","S3101",3101,null,30,3,3,"9",1,"102;106","5;5",1266,5,null,9,{"$nulls":6},{"$f":"CONCATENATE(\"攻击+\",U241,\"%\")","v":"攻击+5%"},"神龙鼎·叁",null,null,5,null,5]
[31013,11005,337.5,499,922,"神龙鼎","对敌人照成伤害，使敌人五行混乱。敌人的功法每次使用功法都将使用最低灵根属性作为伤害计算，持续{0}秒",1,"icon_s3101","S3101",3101,null,30,3,4,"9",1,"102;106","5;10",1267,5,null,9,{"$nulls":6},{"$f":"CONCATENATE(\"金灵根+\",U242)","v":"金灵根+5"},"神龙鼎·肆",null,null,5,null,10]
[31014,11005,506.25,500,923,"神龙鼎","对敌人照成伤害，使敌人五行混乱。敌人的功法每次使用功法都将使用最低灵根属性作为伤害计算，持续{0}秒",1,"icon_s3101","S3101",3101,null,30,3,5,"9",1,"102;106","10;10",1268,5,null,9,{"$nulls":6},{"$f":"CONCATENATE(\"攻击+\",U243,\"%\")","v":"攻击+5%"},"神龙鼎·伍",null,null,10,null,10]
[31015,11005,759.375,501,924,"神龙鼎","对敌人照成伤害，使敌人五行混乱。敌人的功法每次使用功法都将使用最低灵根属性作为伤害计算，持续{0}秒\n神农鼎生效期间，使敌人的所有灵根降低{1}%。",1,"icon_s3101","S3101",3101,null,30,3,6,"9;15",1,"102;106","10;10",1269,null,null,9,15,{"$nulls":5},"降低敌人灵根","神龙鼎·陆",null,null,10,null,10]
[{"$nulls":8},"icon_s",{"$nulls":21},""]
[null,11005,100,502,925,"破天斧","无视敌人灵根，对敌人造成大量伤害，同时让五行伤势+1",1,"icon_s3102",{"$f":"CONCATENATE(\"S\",K246)","v":"S3102"},3102,null,30,3,1,"",1,{"$f":"_xlfn.TEXTJOIN(\";\",1,IF(AG246=\"\",\"\",101),IF(AH246=\"\",\"\",102),IF(AI246=\"\",\"\",103),IF(AJ246=\"\",\"\",106),IF(AK246=\"\",\"\",107),IF(AL246=\"\",\"\",108),IF(AM246=\"\",\"\",109),IF(AN246=\"\",\"\",110))","v":""},{"$f":"_xlfn.TEXTJOIN(\";\",1,AG246:AN246)","v":""},-1,{"$nulls":10},"破天斧·壹"]
[null,11005,150,503,926,"破天斧","无视敌人灵根，对敌人造成大量伤害，同时让五行伤势+1",1,"icon_s3102",{"$f":"CONCATENATE(\"S\",K247)","v":"S3102"},3102,null,30,3,2,"",1,{"$f":"_xlfn.TEXTJOIN(\";\",1,IF(AG247=\"\",\"\",101),IF(AH247=\"\",\"\",102),IF(AI247=\"\",\"\",103),IF(AJ247=\"\",\"\",106),IF(AK247=\"\",\"\",107),IF(AL247=\"\",\"\",108),IF(AM247=\"\",\"\",109),IF(AN247=\"\",\"\",110))","v":""},{"$f":"_xlfn.TEXTJOIN(\";\",1,AG247:AN247)","v":""},1270,{"$nulls":10},"破天斧·贰"]
[null,11005,225,504,927,"破天斧","无视敌人灵根，对敌人造成大量伤害，同时让五行伤势+1",1,"icon_s3102","S3102",3102,null,30,3,3,"",1,"","",1271,{"$nulls":10},"破天斧·叁"]
[null,11005,337.5,505,928,"破天斧","无视敌人灵根，对敌人造成大量伤害，同时让五行伤势+1",1,"icon_s3102","S3102",3102,null,30,3,4,"",1,"","",1272,{"$nulls":10},"破天斧·肆"]
[null,11005,506.25,506,929,"破天斧","无视敌人灵根，对敌人造成大量伤害，同时让五行伤势+1",1,"icon_s3102","S3102",3102,null,30,3,5,"",1,"","",1273,{"$nulls":10},"破天斧·伍"]
[null,11005,759.375,507,930,"破天斧","无视敌人灵根，对敌人造成大量伤害，同时让五行伤势+1",1,"icon_s3102","S3102",3102,null,30,3,6,"",1,"","",1274,{"$nulls":10},"破天斧·陆"]
[{"$nulls":8},"icon_s",{"$nulls":21},""]
[{"$f":"K253*10+O253-1","v":32010},11002,100,508,931,"翡翠葫芦","战场区域形成一个域。敌人的功法弹道进入域后将降低敌人{0}%的功法弹道速度，持续{1}秒",2,"icon_s3201",{"$f":"CONCATENATE(\"S\",K253)","v":"S3201"},3201,null,30,3,1,"50;9",1,{"$f":"_xlfn.TEXTJOIN(\";\",1,IF(AG253=\"\",\"\",101),IF(AH253=\"\",\"\",102),IF(AI253=\"\",\"\",103),IF(AJ253=\"\",\"\",106),IF(AK253=\"\",\"\",107),IF(AL253=\"\",\"\",108),IF(AM253=\"\",\"\",109),IF(AN253=\"\",\"\",110))","v":""},{"$f":"_xlfn.TEXTJOIN(\";\",1,AG253:AN253)","v":""},-1,null,null,50,9,{"$nulls":6},"翡翠葫芦·壹"]
[{"$f":"K254*10+O254-1","v":32011},11002,150,509,932,"翡翠葫芦","战场区域形成一个域。敌人的功法弹道进入域后将降低敌人{0}%的功法弹道速度，持续{1}秒",2,"icon_s3201",{"$f":"CONCATENATE(\"S\",K254)","v":"S3201"},3201,null,30,3,2,"75;9",1,{"$f":"_xlfn.TEXTJOIN(\";\",1,IF(AG254=\"\",\"\",101),IF(AH254=\"\",\"\",102),IF(AI254=\"\",\"\",103),IF(AJ254=\"\",\"\",106),IF(AK254=\"\",\"\",107),IF(AL254=\"\",\"\",108),IF(AM254=\"\",\"\",109),IF(AN254=\"\",\"\",110))","v":""},{"$f":"_xlfn.TEXTJOIN(\";\",1,AG254:AN254)","v":""},1275,null,null,75,9,{"$nulls":5},"降速效果提升","翡翠葫芦·贰"]
[32012,11002,225,510,933,"翡翠葫芦","战场区域形成一个域。敌人的功法弹道进入域后将降低敌人{0}%的功法弹道速度，持续{1}秒",2,"icon_s3201","S3201",3201,null,30,3,3,"75;9",1,"108","5",1276,5,null,75,9,{"$nulls":5},{"$f":"CONCATENATE(\"水灵根+\",U255)","v":"水灵根+5"},"翡翠葫芦·叁",{"$nulls":6},5]
[32013,11002,337.5,511,934,"翡翠葫芦","战场区域形成一个域。敌人的功法弹道进入域后将降低敌人{0}%的功法弹道速度，持续{1}秒",2,"icon_s3201","S3201",3201,null,30,3,4,"75;9",1,"101;108","5;5",1277,5,null,75,9,{"$nulls":5},{"$f":"CONCATENATE(\"生命+\",U256,\"%\")","v":"生命+5%"},"翡翠葫芦·肆",null,5,{"$nulls":4},5]
[32014,11002,506.25,512,935,"翡翠葫芦","战场区域形成一个域。敌人的功法弹道进入域后将降低敌人{0}%的功法弹道速度，持续{1}秒",2,"icon_s3201","S3201",3201,null,30,3,5,"75;9",1,"101;108","5;10",1278,5,null,75,9,{"$nulls":5},{"$f":"CONCATENATE(\"水灵根+\",U257)","v":"水灵根+5"},"翡翠葫芦·伍",null,5,{"$nulls":4},10]
[32015,11002,759.375,513,936,"翡翠葫芦","战场区域形成一个域。敌人的功法弹道进入域后将降低敌人{0}%的功法弹道速度，持续{1}秒\n受影响的敌方功法强度降低{2}%",2,"icon_s3201","S3201",3201,null,30,3,6,"75;9;50",1,"101;108","5;10",1279,null,null,75,9,50,{"$nulls":4},"降低被影响功法的强度","翡翠葫芦·陆",null,5,{"$nulls":4},10]
[{"$nulls":8},{"$f":"CONCATENATE(\"icon_s\",K259)","v":"icon_s"},{"$nulls":21},""]
[{"$f":"K260*10+O260-1","v":32020},11002,100,514,937,"混沌珠","用后{2}秒内大幅提升所有灵根{0}%，一场战斗可使用{1}次",2,"icon_s3202",{"$f":"CONCATENATE(\"S\",K260)","v":"S3202"},3202,null,30,3,1,"10;2;12",1,{"$f":"_xlfn.TEXTJOIN(\";\",1,IF(AG260=\"\",\"\",101),IF(AH260=\"\",\"\",102),IF(AI260=\"\",\"\",103),IF(AJ260=\"\",\"\",106),IF(AK260=\"\",\"\",107),IF(AL260=\"\",\"\",108),IF(AM260=\"\",\"\",109),IF(AN260=\"\",\"\",110))","v":""},{"$f":"_xlfn.TEXTJOIN(\";\",1,AG260:AN260)","v":""},-1,null,null,10,2,12,{"$nulls":5},{"$f":"IF(F260=\"\",\"\",CONCATENATE(F260,\"·\",CHOOSE(O260,\"壹\",\"贰\",\"叁\",\"肆\",\"伍\",\"陆\")))","v":"混沌珠·壹"}]
[{"$f":"K261*10+O261-1","v":32021},11002,150,515,938,"混沌珠","用后{2}秒内大幅提升所有灵根{0}%，一场战斗可使用{1}次",2,"icon_s3202",{"$f":"CONCATENATE(\"S\",K261)","v":"S3202"},3202,null,30,3,2,"10;2;12",1,{"$f":"_xlfn.TEXTJOIN(\";\",1,IF(AG261=\"\",\"\",101),IF(AH261=\"\",\"\",102),IF(AI261=\"\",\"\",103),IF(AJ261=\"\",\"\",106),IF(AK261=\"\",\"\",107),IF(AL261=\"\",\"\",108),IF(AM261=\"\",\"\",109),IF(AN261=\"\",\"\",110))","v":"108"},{"$f":"_xlfn.TEXTJOIN(\";\",1,AG261:AN261)","v":"5"},1280,5,null,10,2,12,{"$nulls":4},{"$f":"CONCATENATE(\"水灵根+\",U261)","v":"水灵根+5"},"混沌珠·贰",{"$nulls":6},5]
[32022,11002,225,516,939,"混沌珠","用后{2}秒内大幅提升所有灵根{0}%，一场战斗可使用{1}次",2,"icon_s3202","S3202",3202,null,30,3,3,"10;2;12",1,"103;108","5;5",1281,5,null,10,2,12,{"$nulls":4},{"$f":"CONCATENATE(\"防御+\",U262,\"%\")","v":"防御+5%"},"混沌珠·叁",null,null,null,5,null,null,5]
[32023,11002,337.5,517,940,"混沌珠","用后{2}秒内大幅提升所有灵根{0}%，一场战斗可使用{1}次",2,"icon_s3202","S3202",3202,null,30,3,4,"10;3;12",1,"103;108","5;5",1282,null,null,10,3,12,{"$nulls":4},"可使用次数增加","混沌珠·肆",null,null,null,5,null,null,5]
[32024,11002,506.25,518,941,"混沌珠","用后{2}秒内大幅提升所有灵根{0}%，一场战斗可使用{1}次",2,"icon_s3202","S3202",3202,null,30,3,5,"10;3;12",1,"103;108","5;10",1283,5,null,10,3,12,{"$nulls":4},{"$f":"CONCATENATE(\"水灵根+\",U264)","v":"水灵根+5"},"混沌珠·伍",null,null,null,5,null,null,10]
[32025,11002,759.375,519,942,"混沌珠","用后{2}秒内大幅提升所有灵根{0}%，一场战斗可使用{1}次\n混沌珠生效期间，己方所有功法额外增伤{3}%",2,"icon_s3202","S3202",3202,null,30,3,6,"10;3;12;20",1,"103;108","5;10",1284,null,null,10,3,12,20,null,null,null,"功法额外增伤","混沌珠·陆",null,null,null,5,null,null,10]
[{"$nulls":8},"icon_s",{"$nulls":21},""]
[null,11002,100,520,943,"琉璃宝塔","对敌人照成水系伤害，封锁敌人筋脉随机{0}个格子流动{1}秒",2,"icon_s3203",{"$f":"CONCATENATE(\"S\",K267)","v":"S3203"},3203,null,30,3,1,"",1,{"$f":"_xlfn.TEXTJOIN(\";\",1,IF(AG267=\"\",\"\",101),IF(AH267=\"\",\"\",102),IF(AI267=\"\",\"\",103),IF(AJ267=\"\",\"\",106),IF(AK267=\"\",\"\",107),IF(AL267=\"\",\"\",108),IF(AM267=\"\",\"\",109),IF(AN267=\"\",\"\",110))","v":""},{"$f":"_xlfn.TEXTJOIN(\";\",1,AG267:AN267)","v":""},-1,{"$nulls":10},{"$f":"IF(F267=\"\",\"\",CONCATENATE(F267,\"·\",CHOOSE(O267,\"壹\",\"贰\",\"叁\",\"肆\",\"伍\",\"陆\")))","v":"琉璃宝塔·壹"}]
[null,11002,150,521,944,"琉璃宝塔","对敌人照成水系伤害，封锁敌人筋脉随机{0}个格子流动{1}秒",2,"icon_s3203",{"$f":"CONCATENATE(\"S\",K268)","v":"S3203"},3203,null,30,3,2,"",1,{"$f":"_xlfn.TEXTJOIN(\";\",1,IF(AG268=\"\",\"\",101),IF(AH268=\"\",\"\",102),IF(AI268=\"\",\"\",103),IF(AJ268=\"\",\"\",106),IF(AK268=\"\",\"\",107),IF(AL268=\"\",\"\",108),IF(AM268=\"\",\"\",109),IF(AN268=\"\",\"\",110))","v":""},{"$f":"_xlfn.TEXTJOIN(\";\",1,AG268:AN268)","v":""},1285,{"$nulls":10},"琉璃宝塔·贰"]
[null,11002,225,522,945,"琉璃宝塔","对敌人照成水系伤害，封锁敌人筋脉随机{0}个格子流动{1}秒",2,"icon_s3203","S3203",3203,null,30,3,3,"",1,"","",1286,{"$nulls":10},"琉璃宝塔·叁"]
[null,11002,337.5,523,946,"琉璃宝塔","对敌人照成水系伤害，封锁敌人筋脉随机{0}个格子流动{1}秒",2,"icon_s3203","S3203",3203,null,30,3,4,"",1,"","",1287,{"$nulls":10},"琉璃宝塔·肆"]
[null,11002,506.25,524,947,"琉璃宝塔","对敌人照成水系伤害，封锁敌人筋脉随机{0}个格子流动{1}秒",2,"icon_s3203","S3203",3203,null,30,3,5,"",1,"","",1288,{"$nulls":10},"琉璃宝塔·伍"]
[null,11002,759.375,525,948,"琉璃宝塔","对敌人照成水系伤害，封锁敌人筋脉随机{0}个格子流动{1}秒",2,"icon_s3203","S3203",3203,null,30,3,6,"",1,"","",1289,{"$nulls":10},"琉璃宝塔·陆"]
[{"$nulls":8},"icon_s",{"$nulls":21},""]
[{"$f":"K274*10+O274-1","v":33010},11004,100,526,949,"九幽镇魂瓶","对敌人造成{2}%伤害，并随机封锁敌人{0}个法宝，让其{1}秒内不能使用",4,"icon_s3301",{"$f":"CONCATENATE(\"S\",K274)","v":"S3301"},3301,null,30,3,1,"1;6;480",2,{"$f":"_xlfn.TEXTJOIN(\";\",1,IF(AG274=\"\",\"\",101),IF(AH274=\"\",\"\",102),IF(AI274=\"\",\"\",103),IF(AJ274=\"\",\"\",106),IF(AK274=\"\",\"\",107),IF(AL274=\"\",\"\",108),IF(AM274=\"\",\"\",109),IF(AN274=\"\",\"\",110))","v":""},{"$f":"_xlfn.TEXTJOIN(\";\",1,AG274:AN274)","v":""},-1,null,null,1,6,480,{"$nulls":5},{"$f":"IF(F274=\"\",\"\",CONCATENATE(F274,\"·\",CHOOSE(O274,\"壹\",\"贰\",\"叁\",\"肆\",\"伍\",\"陆\")))","v":"九幽镇魂瓶·壹"}]
[{"$f":"K275*10+O275-1","v":33011},11004,150,527,950,"九幽镇魂瓶","对敌人造成{2}%伤害，并随机封锁敌人{0}个法宝，让其{1}秒内不能使用",4,"icon_s3301",{"$f":"CONCATENATE(\"S\",K275)","v":"S3301"},3301,null,30,3,2,"2;6;480",2,{"$f":"_xlfn.TEXTJOIN(\";\",1,IF(AG275=\"\",\"\",101),IF(AH275=\"\",\"\",102),IF(AI275=\"\",\"\",103),IF(AJ275=\"\",\"\",106),IF(AK275=\"\",\"\",107),IF(AL275=\"\",\"\",108),IF(AM275=\"\",\"\",109),IF(AN275=\"\",\"\",110))","v":""},{"$f":"_xlfn.TEXTJOIN(\";\",1,AG275:AN275)","v":""},1290,null,null,2,6,480,{"$nulls":4},"封印法宝数量增加","九幽镇魂瓶·贰"]
[33012,11004,225,528,951,"九幽镇魂瓶","对敌人造成{2}%伤害，并随机封锁敌人{0}个法宝，让其{1}秒内不能使用",4,"icon_s3301","S3301",3301,null,30,3,3,"2;6;480",2,"107","5",1291,5,null,2,6,480,{"$nulls":4},{"$f":"CONCATENATE(\"木灵根+\",U276)","v":"木灵根+5"},"九幽镇魂瓶·叁",{"$nulls":5},5]
[33013,11004,337.5,529,952,"九幽镇魂瓶","对敌人造成{2}%伤害，并随机封锁敌人{0}个法宝，让其{1}秒内不能使用\n如果影响的法宝是相生法宝，则使其充能时间延长{3}%直至战斗结束",4,"icon_s3301","S3301",3301,null,30,3,4,"2;6;480;30",2,"107","5",1292,null,null,2,6,480,30,null,null,null,"减缓相生法宝充能","九幽镇魂瓶·肆",{"$nulls":5},5]
[33014,11004,506.25,530,953,"九幽镇魂瓶","对敌人造成{2}%伤害，并随机封锁敌人{0}个法宝，让其{1}秒内不能使用\n如果影响的法宝是相生法宝，则使其充能时间延长{3}%直至战斗结束",4,"icon_s3301","S3301",3301,null,30,3,5,"2;6;480;30",2,"107","10",1293,5,null,2,6,480,30,null,null,null,{"$f":"CONCATENATE(\"木灵根+\",U278)","v":"木灵根+5"},"九幽镇魂瓶·伍",{"$nulls":5},10]
[33015,11004,759.375,531,954,"九幽镇魂瓶","对敌人造成{2}%伤害，并随机封锁敌人{0}个法宝，让其{1}秒内不能使用\n如果影响的法宝是相生法宝，则使其充能时间延长{3}%直至战斗结束",4,"icon_s3301","S3301",3301,null,30,3,6,"2;6;480;300",2,"107","10",1294,null,null,2,6,480,300,null,null,null,"大幅减缓相生法宝充能","九幽镇魂瓶·陆",{"$nulls":5},10]
[{"$nulls":8},"icon_s",{"$nulls":21},""]
[{"$f":"K281*10+O281-1","v":33020},11008,100,532,955,"玉莲守心灯","一盏明灯围绕玩家，{0}秒内抵消所有负面效果，每{1}秒触发1次。",4,"icon_s3302",{"$f":"CONCATENATE(\"S\",K281)","v":"S3302"},3302,null,30,3,1,"",1,{"$f":"_xlfn.TEXTJOIN(\";\",1,IF(AG281=\"\",\"\",101),IF(AH281=\"\",\"\",102),IF(AI281=\"\",\"\",103),IF(AJ281=\"\",\"\",106),IF(AK281=\"\",\"\",107),IF(AL281=\"\",\"\",108),IF(AM281=\"\",\"\",109),IF(AN281=\"\",\"\",110))","v":""},{"$f":"_xlfn.TEXTJOIN(\";\",1,AG281:AN281)","v":""},-1,{"$nulls":10},{"$f":"IF(F281=\"\",\"\",CONCATENATE(F281,\"·\",CHOOSE(O281,\"壹\",\"贰\",\"叁\",\"肆\",\"伍\",\"陆\")))","v":"玉莲守心灯·壹"}]
[33021,11008,150,533,956,"玉莲守心灯","一盏明灯围绕玩家，{0}秒内抵消所有负面效果，每{1}秒触发1次。",4,"icon_s3302",{"$f":"CONCATENATE(\"S\",K282)","v":"S3302"},3302,null,30,3,2,"",1,{"$f":"_xlfn.TEXTJOIN(\";\",1,IF(AG282=\"\",\"\",101),IF(AH282=\"\",\"\",102),IF(AI282=\"\",\"\",103),IF(AJ282=\"\",\"\",106),IF(AK282=\"\",\"\",107),IF(AL282=\"\",\"\",108),IF(AM282=\"\",\"\",109),IF(AN282=\"\",\"\",110))","v":""},{"$f":"_xlfn.TEXTJOIN(\";\",1,AG282:AN282)","v":""},1295,{"$nulls":10},"玉莲守心灯·贰"]
[33022,11008,225,534,957,"玉莲守心灯","一盏明灯围绕玩家，{0}秒内抵消所有负面效果，每{1}秒触发1次。",4,"icon_s3302","S3302",3302,null,30,3,3,"",1,"","",1296,{"$nulls":10},"玉莲守心灯·叁"]
[33023,11008,337.5,535,958,"玉莲守心灯","一盏明灯围绕玩家，{0}秒内抵消所有负面效果，每{1}秒触发1次。",4,"icon_s3302","S3302",3302,null,30,3,4,"",1,"","",1297,{"$nulls":10},"玉莲守心灯·肆"]
[33024,11008,506.25,536,959,"玉莲守心灯","一盏明灯围绕玩家，{0}秒内抵消所有负面效果，每{1}秒触发1次。",4,"icon_s3302","S3302",3302,null,30,3,5,"",1,"","",1298,{"$nulls":10},"玉莲守心灯·伍"]
[33025,11008,759.375,537,960,"玉莲守心灯","一盏明灯围绕玩家，{0}秒内抵消所有负面效果，每{1}秒触发1次。",4,"icon_s3302","S3302",3302,null,30,3,6,"",1,"","",1299,{"$nulls":10},"玉莲守心灯·陆"]
[{"$nulls":8},"icon_s"]
[{"$f":"K288*10+O288-1","v":34010},11004,100,538,961,"融灵塔","宝塔在英雄的头顶前往位置旋转，形成一个扇形区域，敌人的功法如果进入这个扇形区域有{0}%概率被法宝吸收，持续{1}秒",8,"icon_s3401",{"$f":"CONCATENATE(\"S\",K288)","v":"S3401"},3401,null,30,3,1,"40;9",2,{"$f":"_xlfn.TEXTJOIN(\";\",1,IF(AG288=\"\",\"\",101),IF(AH288=\"\",\"\",102),IF(AI288=\"\",\"\",103),IF(AJ288=\"\",\"\",106),IF(AK288=\"\",\"\",107),IF(AL288=\"\",\"\",108),IF(AM288=\"\",\"\",109),IF(AN288=\"\",\"\",110))","v":""},{"$f":"_xlfn.TEXTJOIN(\";\",1,AG288:AN288)","v":""},-1,null,null,40,9,{"$nulls":6},{"$f":"IF(F288=\"\",\"\",CONCATENATE(F288,\"·\",CHOOSE(O288,\"壹\",\"贰\",\"叁\",\"肆\",\"伍\",\"陆\")))","v":"融灵塔·壹"}]
[{"$f":"K289*10+O289-1","v":34011},11004,150,539,962,"融灵塔","宝塔在英雄的头顶前往位置旋转，形成一个扇形区域，敌人的功法如果进入这个扇形区域有{0}%概率被法宝吸收，持续{1}秒",8,"icon_s3401",{"$f":"CONCATENATE(\"S\",K289)","v":"S3401"},3401,null,30,3,2,"40;9",2,{"$f":"_xlfn.TEXTJOIN(\";\",1,IF(AG289=\"\",\"\",101),IF(AH289=\"\",\"\",102),IF(AI289=\"\",\"\",103),IF(AJ289=\"\",\"\",106),IF(AK289=\"\",\"\",107),IF(AL289=\"\",\"\",108),IF(AM289=\"\",\"\",109),IF(AN289=\"\",\"\",110))","v":"109"},{"$f":"_xlfn.TEXTJOIN(\";\",1,AG289:AN289)","v":"5"},1300,5,null,40,9,{"$nulls":5},{"$f":"CONCATENATE(\"火灵根+\",U289)","v":"火灵根+5"},"融灵塔·贰",{"$nulls":7},5]
[34012,11004,225,540,963,"融灵塔","宝塔在英雄的头顶前往位置旋转，形成一个扇形区域，敌人的功法如果进入这个扇形区域有{0}%概率被法宝吸收，持续{1}秒",8,"icon_s3401","S3401",3401,null,30,3,3,"60;9",2,"109","5",1301,null,null,60,9,{"$nulls":5},"增加吸收几率","融灵塔·叁",{"$nulls":7},5]
[34013,11004,337.5,541,964,"融灵塔","宝塔在英雄的头顶前往位置旋转，形成一个扇形区域，敌人的功法如果进入这个扇形区域有{0}%概率被法宝吸收，持续{1}秒",8,"icon_s3401","S3401",3401,null,30,3,4,"60;9",2,"102;109","5;5",1302,5,null,60,9,{"$nulls":5},{"$f":"CONCATENATE(\"攻击+\",U291,\"%\")","v":"攻击+5%"},"融灵塔·肆",null,null,5,{"$nulls":4},5]
[34014,11004,506.25,542,965,"融灵塔","宝塔在英雄的头顶前往位置旋转，形成一个扇形区域，敌人的功法如果进入这个扇形区域有{0}%概率被法宝吸收，持续{1}秒",8,"icon_s3401","S3401",3401,null,30,3,5,"60;9",2,"102;109","5;10",1303,5,null,60,9,{"$nulls":5},{"$f":"CONCATENATE(\"火灵根+\",U292)","v":"火灵根+5"},"融灵塔·伍",null,null,5,{"$nulls":4},10]
[34015,11004,759.375,543,966,"融灵塔","宝塔在英雄的头顶前往位置旋转，形成一个扇形区域，敌人的功法如果进入这个扇形区域有{0}%概率被法宝吸收，持续{1}秒\n敌方功法被吸收后，己方英雄临时增加{2}点对应五行灵根，持续{3}秒",8,"icon_s3401","S3401",3401,null,30,3,6,"100;9;20;9",2,"102;109","5;10",1304,null,null,100,9,20,9,null,null,null,"完全吸收，临时加灵根","融灵塔·陆",null,null,5,{"$nulls":4},10]
[{"$nulls":8},"icon_s",{"$nulls":21},""]
[{"$f":"K295*10+O295-1","v":34020},11004,100,544,967,"禁元珠","打断对手当前正在生效中的法宝",8,"icon_s3402",{"$f":"CONCATENATE(\"S\",K295)","v":"S3402"},3402,null,24,3,1,"",2,{"$f":"_xlfn.TEXTJOIN(\";\",1,IF(AG295=\"\",\"\",101),IF(AH295=\"\",\"\",102),IF(AI295=\"\",\"\",103),IF(AJ295=\"\",\"\",106),IF(AK295=\"\",\"\",107),IF(AL295=\"\",\"\",108),IF(AM295=\"\",\"\",109),IF(AN295=\"\",\"\",110))","v":""},{"$f":"_xlfn.TEXTJOIN(\";\",1,AG295:AN295)","v":""},-1,{"$nulls":10},{"$f":"IF(F295=\"\",\"\",CONCATENATE(F295,\"·\",CHOOSE(O295,\"壹\",\"贰\",\"叁\",\"肆\",\"伍\",\"陆\")))","v":"禁元珠·壹"}]
[{"$f":"K296*10+O296-1","v":34021},11004,150,545,968,"禁元珠","打断对手当前正在生效中的法宝\n可以打断准备生效中的法宝，且避免己方法宝进入对拼状态，持续{0}秒",8,"icon_s3402",{"$f":"CONCATENATE(\"S\",K296)","v":"S3402"},3402,null,24,3,2,"12",2,{"$f":"_xlfn.TEXTJOIN(\";\",1,IF(AG296=\"\",\"\",101),IF(AH296=\"\",\"\",102),IF(AI296=\"\",\"\",103),IF(AJ296=\"\",\"\",106),IF(AK296=\"\",\"\",107),IF(AL296=\"\",\"\",108),IF(AM296=\"\",\"\",109),IF(AN296=\"\",\"\",110))","v":""},{"$f":"_xlfn.TEXTJOIN(\";\",1,AG296:AN296)","v":""},1305,null,null,12,{"$nulls":6},"打断增强，避免对拼","禁元珠·贰"]
[34022,11004,225,546,969,"禁元珠","打断对手当前正在生效中的法宝\n可以打断准备生效中的法宝，且避免己方法宝进入对拼状态，持续{0}秒",8,"icon_s3402","S3402",3402,null,24,3,3,"12",2,"109","5",1306,5,null,12,{"$nulls":6},{"$f":"CONCATENATE(\"火灵根+\",U297)","v":"火灵根+5"},"禁元珠·叁",{"$nulls":7},5]
[34023,11004,337.5,547,970,"禁元珠","打断对手当前正在生效中的法宝\n可以打断准备生效中的法宝，且避免己方法宝进入对拼状态，持续{0}秒",8,"icon_s3402","S3402",3402,null,24,3,4,"12",2,"102;109","5;5",1307,null,null,12,{"$nulls":6},{"$f":"CONCATENATE(\"攻击+\",U298,\"%\")","v":"攻击+%"},"禁元珠·肆",null,null,5,{"$nulls":4},5]
[34024,11004,506.25,548,971,"禁元珠","打断对手当前正在生效中的法宝\n可以打断准备生效中的法宝，且避免己方法宝进入对拼状态，持续{0}秒",8,"icon_s3402","S3402",3402,null,24,3,5,"12",2,"102;109","5;10",1308,5,null,12,{"$nulls":6},{"$f":"CONCATENATE(\"火灵根+\",U299)","v":"火灵根+5"},"禁元珠·伍",null,null,5,{"$nulls":4},10]
[34025,11004,759.375,549,972,"禁元珠","打断对手当前正在生效中的法宝\n可以打断准备生效中的法宝，且避免己方法宝进入对拼状态，持续{0}秒\n每打断一次法宝，使禁元珠的冷却时间缩减{1}%，最多{2}次",8,"icon_s3402","S3402",3402,null,24,3,6,"12;10;3",2,"102;109","5;10",1309,null,null,12,10,3,{"$nulls":4},"成功打断后加速冷却","禁元珠·陆",null,null,5,{"$nulls":4},10]
[{"$nulls":8},"icon_s",{"$nulls":21},""]
[{"$f":"K302*10+O302-1","v":35010},11003,100,550,973,"玄龟盾","前方形成土系防御盾，抵挡相当于自身生命上限{0}%的伤害，持续{1}秒",16,"icon_s3501",{"$f":"CONCATENATE(\"S\",K302)","v":"S3501"},3501,null,30,3,1,"30;9",1,{"$f":"_xlfn.TEXTJOIN(\";\",1,IF(AG302=\"\",\"\",101),IF(AH302=\"\",\"\",102),IF(AI302=\"\",\"\",103),IF(AJ302=\"\",\"\",106),IF(AK302=\"\",\"\",107),IF(AL302=\"\",\"\",108),IF(AM302=\"\",\"\",109),IF(AN302=\"\",\"\",110))","v":""},{"$f":"_xlfn.TEXTJOIN(\";\",1,AG302:AN302)","v":""},-1,null,null,30,9,{"$nulls":6},{"$f":"IF(F302=\"\",\"\",CONCATENATE(F302,\"·\",CHOOSE(O302,\"壹\",\"贰\",\"叁\",\"肆\",\"伍\",\"陆\")))","v":"玄龟盾·壹"}]
[{"$f":"K303*10+O303-1","v":35011},11003,150,551,974,"玄龟盾","前方形成土系防御盾，抵挡相当于自身生命上限{0}%的伤害，持续{1}秒",16,"icon_s3501",{"$f":"CONCATENATE(\"S\",K303)","v":"S3501"},3501,null,30,3,2,{"$f":"_xlfn.TEXTJOIN(\";\",1,W303:AC303)","v":"40;9"},1,{"$f":"_xlfn.TEXTJOIN(\";\",1,IF(AG303=\"\",\"\",101),IF(AH303=\"\",\"\",102),IF(AI303=\"\",\"\",103),IF(AJ303=\"\",\"\",106),IF(AK303=\"\",\"\",107),IF(AL303=\"\",\"\",108),IF(AM303=\"\",\"\",109),IF(AN303=\"\",\"\",110))","v":""},{"$f":"_xlfn.TEXTJOIN(\";\",1,AG303:AN303)","v":""},1310,null,null,40,9,{"$nulls":5},"盾强度提升","玄龟盾·贰"]
[35012,11003,225,552,975,"玄龟盾","前方形成土系防御盾，抵挡相当于自身生命上限{0}%的伤害，持续{1}秒",16,"icon_s3501","S3501",3501,null,30,3,3,"40;9",1,"110","5",1311,5,null,40,9,{"$nulls":5},{"$f":"CONCATENATE(\"土灵根+\",U304)","v":"土灵根+5"},"玄龟盾·叁",{"$nulls":8},5]
[35013,11003,337.5,553,976,"玄龟盾","前方形成土系防御盾，抵挡相当于自身生命上限{0}%的伤害，持续{1}秒",16,"icon_s3501","S3501",3501,null,30,3,4,"50;9",1,"110","5",1312,null,null,50,9,{"$nulls":5},"盾强度提升","玄龟盾·肆",{"$nulls":8},5]
[35014,11003,506.25,554,977,"玄龟盾","前方形成土系防御盾，抵挡相当于自身生命上限{0}%的伤害，持续{1}秒",16,"icon_s3501","S3501",3501,null,30,3,5,"50;9",1,"110","10",1313,5,null,50,9,{"$nulls":5},{"$f":"CONCATENATE(\"土灵根+\",U306)","v":"土灵根+5"},"玄龟盾·伍",{"$nulls":8},10]
[35015,11003,759.375,555,978,"玄龟盾","前方形成土系防御盾，抵挡相当于自身生命上限{0}%的伤害，持续{1}秒",16,"icon_s3501","S3501",3501,null,30,3,6,"60;9",1,"110","10",1314,null,null,60,9,{"$nulls":5},"盾强度提升","玄龟盾·陆",{"$nulls":8},10]
[{"$nulls":8},"icon_s",{"$nulls":21},""]
[null,11006,100,556,979,"天殇血刃剑","对敌人照成土属性伤害，并封锁敌人土系经络6秒",16,"icon_s3502",{"$f":"CONCATENATE(\"S\",K309)","v":"S3502"},3502,null,30,3,1,{"$f":"_xlfn.TEXTJOIN(\";\",1,W309:AC309)","v":""},1,{"$f":"_xlfn.TEXTJOIN(\";\",1,IF(AG309=\"\",\"\",101),IF(AH309=\"\",\"\",102),IF(AI309=\"\",\"\",103),IF(AJ309=\"\",\"\",106),IF(AK309=\"\",\"\",107),IF(AL309=\"\",\"\",108),IF(AM309=\"\",\"\",109),IF(AN309=\"\",\"\",110))","v":""},{"$f":"_xlfn.TEXTJOIN(\";\",1,AG309:AN309)","v":""},-1,{"$nulls":10},"天殇血刃剑·壹"]
[null,11006,150,557,980,"天殇血刃剑","对敌人照成土属性伤害，并封锁敌人土系经络6秒",16,"icon_s3502",{"$f":"CONCATENATE(\"S\",K310)","v":"S3502"},3502,null,30,3,2,"",1,{"$f":"_xlfn.TEXTJOIN(\";\",1,IF(AG310=\"\",\"\",101),IF(AH310=\"\",\"\",102),IF(AI310=\"\",\"\",103),IF(AJ310=\"\",\"\",106),IF(AK310=\"\",\"\",107),IF(AL310=\"\",\"\",108),IF(AM310=\"\",\"\",109),IF(AN310=\"\",\"\",110))","v":""},{"$f":"_xlfn.TEXTJOIN(\";\",1,AG310:AN310)","v":""},1315,{"$nulls":10},"天殇血刃剑·贰"]
[null,11006,225,558,981,"天殇血刃剑","对敌人照成土属性伤害，并封锁敌人土系经络6秒",16,"icon_s3502","S3502",3502,null,30,3,3,"",1,"","",1316,{"$nulls":10},"天殇血刃剑·叁"]
[null,11006,337.5,559,982,"天殇血刃剑","对敌人照成土属性伤害，并封锁敌人土系经络6秒",16,"icon_s3502","S3502",3502,null,30,3,4,"",1,"","",1317,{"$nulls":10},"天殇血刃剑·肆"]
[null,11006,506.25,560,983,"天殇血刃剑","对敌人照成土属性伤害，并封锁敌人土系经络6秒",16,"icon_s3502","S3502",3502,null,30,3,5,"",1,"","",1318,{"$nulls":10},"天殇血刃剑·伍"]
[null,11006,759.375,561,984,"天殇血刃剑","对敌人照成土属性伤害，并封锁敌人土系经络6秒",16,"icon_s3502","S3502",3502,null,30,3,6,"",1,"","",1319,{"$nulls":10},"天殇血刃剑·陆"]
[{"$nulls":8},"icon_s",{"$nulls":21},""]
[null,"英雄-大道区域",{"$nulls":6},"icon_s"]
[601011,null,100,696,699,"星辰道","每次释放功法时获得{0}点能量，{1}点能量后提升{2}%转盘速度和{3}%攻击速度，持续{4}秒。",1,"icon_s1001","DS60101",1001,null,1,4,"1","10;100;50;50;9",0]
[601021,null,100,697,700,"生衍道","功法拥有生息之能，每次使用功法能获得1对应属性的充能，充能满后获得对应属性的加成 \n{0}金：提升{1}%攻击力 ,最大{2}%\n{0}木：恢复{3}%生命 \n{0}水：治疗最严重的伤势，使其伤势-{4} \n{0}火：功法强度提升{5}%，最大{6}%\n{0}土：玩家防御提升{7}%，最大{8}%",1,"icon_s1002","DS60102",1002,null,1,4,"1","3;3;30;5;1;3;30;3;30",0]
[601031,null,100,698,701,"玄黄道 ","每次使用功法时在当前位置留下一道属性印记，下一个放上来的功法如果和以前功法相生则功法效果提升{0}%，每次使用功法时都会治疗对应相生属性的{1}伤势。（均衡性功法搭配，转盘改变，变为金、水、木、火、土）\n",1,"icon_s1003","DS60103",1003,null,1,4,"1","30;1",0]
[{"$nulls":8},"icon_s"]
[null,"怪物-主动功法区域",{"$nulls":6},"icon_s",{"$nulls":21},{"$f":"IF(F321=\"\",\"\",CONCATENATE(F321,\"·\",CHOOSE(O321,\"壹\",\"贰\",\"叁\",\"肆\",\"伍\",\"陆\")))","v":""}]
[{"$f":"K322*10+O322-1","v":90010},null,100,707,717,"boss第一个技能","伤害很高）(前摇时间长)：很多剑从远处汇聚到boss周围，然后以一字行快速贯穿目标对目标照成{0}伤害，每命中目标肉体{1}次防御削减{2}%，目标肉体{3}次所有伤势+{4}  \n,如果目标上有剑毅，每丙剑消耗{5}层剑毅让敌人受到{6}额外的伤害",1,"icon_s9001",{"$f":"CONCATENATE(\"S\",K322)","v":"S9001"},9001,"BossSk1_timeline_TD",6,1,1,"190;5;1;10;1;1;20",0,{"$nulls":13},"boss第一个技能·壹"]
[{"$f":"K323*10+O323-1","v":90020},null,100,708,718,"boss第一个技能","身体周围围绕多丙金属剑飞行，可以阻挡敌人的功法。改剑阵收到火系伤害时会升温，升温后会融化。（受到的火系伤害提升60%）",1,{"$f":"CONCATENATE(\"icon_s\",K323)","v":"icon_s9002"},"S9002",9002,"BossSk2_timeline_TD",3,1,1,"10;60",0,{"$nulls":13},"boss第一个技能·壹"]
[90030,null,100,709,719,"boss第一个技能","剑祖的攻击会让目标受到一层剑毅",1,{"$f":"CONCATENATE(\"icon_s\",K324)","v":"icon_s9003"},"S9003",9003,null,1,2,1,1,0,{"$nulls":13},"boss第一个技能·壹"]
[90040,null,100,710,720,"boss第一个技能","发射2丙剑，对敌人照成{0}伤害",1,{"$f":"CONCATENATE(\"icon_s\",K325)","v":"icon_s9004"},"S9004",9004,"BossSk4_timeline_TD",1,1,1,100,0,{"$nulls":13},"boss第一个技能·壹"]
[90050,null,110,711,721,"boss第一个技能","发射2丙剑，对敌人照成{0}伤害",1,{"$f":"CONCATENATE(\"icon_s\",K326)","v":"icon_s9005"},"S9005",9005,"BossSk4_timeline_TD",1,1,1,100,0,{"$nulls":13},"boss第一个技能·壹"]

{"sheet":"SkillPowerupConfig","index":1,"n_rows":64,"n_cols":9,"rows_kept":64,"cut":false,"hidden":false,"merged":[]}
["ID","MainPower","SkillPower1","LevelupItem","LevelupItemNum","PlayerLevelLimit"]
["int","float","float","int[]","int[]","int"]
[]
["等级","功法对拼标准强度","标准强度百分比","功法升级所需道具","攻击升级所需道具数量","升级所需境界",null,100,100]
[1,100,100,"1001;1005","100;100",5]
[2,{"$f":"ROUND(B5*1.08,0)","v":108},{"$f":"ROUND(C$5+(I$4*A5/59),2)","v":101.69},"1001;1005","100;100",10]
[3,{"$f":"ROUND(B6*1.08,0)","v":117},{"$f":"ROUND(C$5+(I$4*A6/59),2)","v":103.39},"1001;1005","100;100",15]
[4,126,105.08,"1001;1005","100;100",20]
[5,136,106.78,"1001;1005","100;100",25]
[6,147,108.47,"1001;1005","100;100",30]
[7,159,110.17,"1001;1005","100;100",35]
[8,172,111.86,"1001;1005","100;100",40]
[9,186,113.56,"1001;1005","100;100",45]
[10,201,115.25,"1001;1005","100;100",50]
[11,217,116.95,"1001;1005","100;100",55]
[12,234,118.64,"1001;1005","100;100",60]
[13,253,120.34,"1001;1005","100;100",65]
[14,273,122.03,"1001;1005","100;100",70]
[15,295,123.73,"1001;1005","100;100",75]
[16,319,125.42,"1001;1005","100;100",80]
[17,345,127.12,"1001;1005","100;100",85]
[18,373,128.81,"1001;1005","100;100",90]
[19,403,130.51,"1001;1005","100;100",95]
[20,435,132.19999999999999,"1001;1005","100;100",100]
[21,470,133.9,"1001;1005","100;100",105]
[22,508,135.59,"1001;1005","100;100",110]
[23,549,137.29,"1001;1005","100;100",115]
[24,593,138.97999999999999,"1001;1005","100;100",120]
[25,640,140.68,"1001;1005","100;100",125]
[26,691,142.37,"1001;1005","100;100",130]
[27,746,144.07,"1001;1005","100;100",135]
[28,806,145.76,"1001;1005","100;100",140]
[29,870,147.46,"1001;1005","100;100",145]
[30,940,149.15,"1001;1005","100;100",150]
[31,1015,150.85,"1001;1005","100;100",155]
[32,1096,152.54,"1001;1005","100;100",160]
[33,1184,154.24,"1001;1005","100;100",165]
[34,1279,155.93,"1001;1005","100;100",170]
[35,1381,157.63,"1001;1005","100;100",175]
[36,1491,159.32,"1001;1005","100;100",180]
[37,1610,161.02000000000001,"1001;1005","100;100",185]
[38,1739,162.71,"1001;1005","100;100",190]
[39,1878,164.41,"1001;1005","100;100",195]
[40,2028,166.1,"1001;1005","100;100",200]
[41,2190,167.8,"1001;1005","100;100",205]
[42,2365,169.49,"1001;1005","100;100",210]
[43,2554,171.19,"1001;1005","100;100",215]
[44,2758,172.88,"1001;1005","100;100",220]
[45,2979,174.58,"1001;1005","100;100",225]
[46,3217,176.27,"1001;1005","100;100",230]
[47,3474,177.97,"1001;1005","100;100",235]
[48,3752,179.66,"1001;1005","100;100",240]
[49,4052,181.36,"1001;1005","100;100",245]
[50,4376,183.05,"1001;1005","100;100",250]
[51,4726,184.75,"1001;1005","100;100",255]
[52,5104,186.44,"1001;1005","100;100",260]
[53,5512,188.14,"1001;1005","100;100",265]
[54,5953,189.83,"1001;1005","100;100",270]
[55,6429,191.53,"1001;1005","100;100",275]
[56,6943,193.22,"1001;1005","100;100",280]
[57,7498,194.92,"1001;1005","100;100",285]
[58,8098,196.61,"1001;1005","100;100",290]
[59,8746,198.31,"1001;1005","100;100",295]
[60,9446,200,"1001;1005","100;100",300]

{"sheet":"SkillConstant","index":2,"n_rows":18,"n_cols":12,"rows_kept":18,"cut":false,"hidden":false,"merged":[]}
["ID",null,"SkilltoPieceNum","SkillPromoteNeedPieceNum"]
["int",null,"int[]","int[]"]
[]
[null,null,"重复功法自动转碎片的数量","功法升到对应星级所需碎片数量"]
[1,null,{"$f":"_xlfn.TEXTJOIN(\";\",1,C8:C17)","v":"1;5;20;100;200;300;500;700;1000;1300"},{"$f":"_xlfn.TEXTJOIN(\";\",1,1,D8:D16)","v":"1;4;15;80;100;100;200;200;300;300"}]
[{"$nulls":4},"升星所需数量"]
[null,null,"碎片数量","升星所需碎片","1星","2星","3星","4星","权重","标准概率","预设概率"]
[null,1,1,{"$f":"C9-C8","v":4},{"$f":"D8/C$8","v":4},null,null,null,{"$f":"C$8*C$9*C$10*C$11/C8","v":10000},{"$f":"I8/SUM(I$8:I$11)","v":0.79365079365079405},{"$f":"1-SUM(K9:K11)","v":0.82499999999999996}]
[null,2,5,{"$f":"C10-C9","v":15},{"$f":"D9/C$8","v":15},{"$f":"D9/C$9","v":3},null,null,{"$f":"C$8*C$9*C$10*C$11/C9","v":2000},{"$f":"I9/SUM(I$8:I$11)","v":0.158730158730159},0.14000000000000001,{"$f":"K9/J9","v":0.88200000000000001}]
[null,3,20,80,80,{"$f":"D10/C$9","v":16},{"$f":"D10/C$10","v":4},null,500,3.9682539682539701E-2,0.03,0.75600000000000001]
[null,4,100,100,100,20,{"$f":"D11/C$10","v":5},{"$f":"D11/C$11","v":1},100,7.9365079365079395E-3,5.0000000000000001E-3,0.63]
[null,5,200,100,100,20,5,{"$f":"D12/C$11","v":1}]
[null,6,{"$f":"C12+D12","v":300},200,200,40,10,2]
[null,7,{"$f":"C13+D13","v":500},200,200,40,10,2]
[null,8,700,300,300,60,15,3]
[null,9,1000,300,300,60,15,3]
[null,10,1300]
[{"$nulls":4},{"$f":"SUM(E8:E16)+1","v":1300},{"$f":"SUM(F8:F16)+1","v":260},{"$f":"SUM(G8:G16)+1","v":65},{"$f":"SUM(H8:H16)+1","v":13}]

{"sheet":"技能设计","index":3,"n_rows":8,"n_cols":11,"rows_kept":8,"cut":false,"hidden":false,"merged":[]}
[null,null,"生命","攻击","防御",null,"金","水","木","火","土"]
[null,"星级",101,102,103,null,106,107,108,109,110]
["0星",1,{"$f":"SUMIFS(SkillConfig!AG5:AG9999,SkillConfig!$A5:$A9999,\"<>\"&\"\",SkillConfig!$O5:$O9999,$B3)","v":0},{"$f":"SUMIFS(SkillConfig!AH5:AH9999,SkillConfig!$A5:$A9999,\"<>\"&\"\",SkillConfig!$O5:$O9999,$B3)","v":0},{"$f":"SUMIFS(SkillConfig!AI5:AI9999,SkillConfig!$A5:$A9999,\"<>\"&\"\",SkillConfig!$O5:$O9999,$B3)","v":0},null,{"$f":"SUMIFS(SkillConfig!AJ5:AJ9999,SkillConfig!$A5:$A9999,\"<>\"&\"\",SkillConfig!$O5:$O9999,$B3)","v":0},{"$f":"SUMIFS(SkillConfig!AK5:AK9999,SkillConfig!$A5:$A9999,\"<>\"&\"\",SkillConfig!$O5:$O9999,$B3)","v":0},{"$f":"SUMIFS(SkillConfig!AL5:AL9999,SkillConfig!$A5:$A9999,\"<>\"&\"\",SkillConfig!$O5:$O9999,$B3)","v":0},{"$f":"SUMIFS(SkillConfig!AM5:AM9999,SkillConfig!$A5:$A9999,\"<>\"&\"\",SkillConfig!$O5:$O9999,$B3)","v":0},{"$f":"SUMIFS(SkillConfig!AN5:AN9999,SkillConfig!$A5:$A9999,\"<>\"&\"\",SkillConfig!$O5:$O9999,$B3)","v":0}]
["1星",2,{"$f":"SUMIFS(SkillConfig!AG6:AG10000,SkillConfig!$A6:$A10000,\"<>\"&\"\",SkillConfig!$O6:$O10000,$B4)","v":36},{"$f":"SUMIFS(SkillConfig!AH6:AH10000,SkillConfig!$A6:$A10000,\"<>\"&\"\",SkillConfig!$O6:$O10000,$B4)","v":36},{"$f":"SUMIFS(SkillConfig!AI6:AI10000,SkillConfig!$A6:$A10000,\"<>\"&\"\",SkillConfig!$O6:$O10000,$B4)","v":36},null,{"$f":"SUMIFS(SkillConfig!AJ6:AJ10000,SkillConfig!$A6:$A10000,\"<>\"&\"\",SkillConfig!$O6:$O10000,$B4)","v":5},{"$f":"SUMIFS(SkillConfig!AK6:AK10000,SkillConfig!$A6:$A10000,\"<>\"&\"\",SkillConfig!$O6:$O10000,$B4)","v":0},{"$f":"SUMIFS(SkillConfig!AL6:AL10000,SkillConfig!$A6:$A10000,\"<>\"&\"\",SkillConfig!$O6:$O10000,$B4)","v":5},{"$f":"SUMIFS(SkillConfig!AM6:AM10000,SkillConfig!$A6:$A10000,\"<>\"&\"\",SkillConfig!$O6:$O10000,$B4)","v":5},{"$f":"SUMIFS(SkillConfig!AN6:AN10000,SkillConfig!$A6:$A10000,\"<>\"&\"\",SkillConfig!$O6:$O10000,$B4)","v":0}]
["2星",3,{"$f":"SUMIFS(SkillConfig!AG7:AG10001,SkillConfig!$A7:$A10001,\"<>\"&\"\",SkillConfig!$O7:$O10001,$B5)","v":102},{"$f":"SUMIFS(SkillConfig!AH7:AH10001,SkillConfig!$A7:$A10001,\"<>\"&\"\",SkillConfig!$O7:$O10001,$B5)","v":87},{"$f":"SUMIFS(SkillConfig!AI7:AI10001,SkillConfig!$A7:$A10001,\"<>\"&\"\",SkillConfig!$O7:$O10001,$B5)","v":97},null,{"$f":"SUMIFS(SkillConfig!AJ7:AJ10001,SkillConfig!$A7:$A10001,\"<>\"&\"\",SkillConfig!$O7:$O10001,$B5)","v":5},{"$f":"SUMIFS(SkillConfig!AK7:AK10001,SkillConfig!$A7:$A10001,\"<>\"&\"\",SkillConfig!$O7:$O10001,$B5)","v":5},{"$f":"SUMIFS(SkillConfig!AL7:AL10001,SkillConfig!$A7:$A10001,\"<>\"&\"\",SkillConfig!$O7:$O10001,$B5)","v":10},{"$f":"SUMIFS(SkillConfig!AM7:AM10001,SkillConfig!$A7:$A10001,\"<>\"&\"\",SkillConfig!$O7:$O10001,$B5)","v":10},{"$f":"SUMIFS(SkillConfig!AN7:AN10001,SkillConfig!$A7:$A10001,\"<>\"&\"\",SkillConfig!$O7:$O10001,$B5)","v":5}]
["3星",4,{"$f":"SUMIFS(SkillConfig!AG8:AG10002,SkillConfig!$A8:$A10002,\"<>\"&\"\",SkillConfig!$O8:$O10002,$B6)","v":143},{"$f":"SUMIFS(SkillConfig!AH8:AH10002,SkillConfig!$A8:$A10002,\"<>\"&\"\",SkillConfig!$O8:$O10002,$B6)","v":133},{"$f":"SUMIFS(SkillConfig!AI8:AI10002,SkillConfig!$A8:$A10002,\"<>\"&\"\",SkillConfig!$O8:$O10002,$B6)","v":133},null,{"$f":"SUMIFS(SkillConfig!AJ8:AJ10002,SkillConfig!$A8:$A10002,\"<>\"&\"\",SkillConfig!$O8:$O10002,$B6)","v":10},{"$f":"SUMIFS(SkillConfig!AK8:AK10002,SkillConfig!$A8:$A10002,\"<>\"&\"\",SkillConfig!$O8:$O10002,$B6)","v":5},{"$f":"SUMIFS(SkillConfig!AL8:AL10002,SkillConfig!$A8:$A10002,\"<>\"&\"\",SkillConfig!$O8:$O10002,$B6)","v":10},{"$f":"SUMIFS(SkillConfig!AM8:AM10002,SkillConfig!$A8:$A10002,\"<>\"&\"\",SkillConfig!$O8:$O10002,$B6)","v":10},{"$f":"SUMIFS(SkillConfig!AN8:AN10002,SkillConfig!$A8:$A10002,\"<>\"&\"\",SkillConfig!$O8:$O10002,$B6)","v":5}]
["4星",5,{"$f":"SUMIFS(SkillConfig!AG9:AG10003,SkillConfig!$A9:$A10003,\"<>\"&\"\",SkillConfig!$O9:$O10003,$B7)","v":209},{"$f":"SUMIFS(SkillConfig!AH9:AH10003,SkillConfig!$A9:$A10003,\"<>\"&\"\",SkillConfig!$O9:$O10003,$B7)","v":184},{"$f":"SUMIFS(SkillConfig!AI9:AI10003,SkillConfig!$A9:$A10003,\"<>\"&\"\",SkillConfig!$O9:$O10003,$B7)","v":189},null,{"$f":"SUMIFS(SkillConfig!AJ9:AJ10003,SkillConfig!$A9:$A10003,\"<>\"&\"\",SkillConfig!$O9:$O10003,$B7)","v":10},{"$f":"SUMIFS(SkillConfig!AK9:AK10003,SkillConfig!$A9:$A10003,\"<>\"&\"\",SkillConfig!$O9:$O10003,$B7)","v":10},{"$f":"SUMIFS(SkillConfig!AL9:AL10003,SkillConfig!$A9:$A10003,\"<>\"&\"\",SkillConfig!$O9:$O10003,$B7)","v":20},{"$f":"SUMIFS(SkillConfig!AM9:AM10003,SkillConfig!$A9:$A10003,\"<>\"&\"\",SkillConfig!$O9:$O10003,$B7)","v":20},{"$f":"SUMIFS(SkillConfig!AN9:AN10003,SkillConfig!$A9:$A10003,\"<>\"&\"\",SkillConfig!$O9:$O10003,$B7)","v":10}]
["5星",6,{"$f":"SUMIFS(SkillConfig!AG10:AG10004,SkillConfig!$A10:$A10004,\"<>\"&\"\",SkillConfig!$O10:$O10004,$B8)","v":229},{"$f":"SUMIFS(SkillConfig!AH10:AH10004,SkillConfig!$A10:$A10004,\"<>\"&\"\",SkillConfig!$O10:$O10004,$B8)","v":204},{"$f":"SUMIFS(SkillConfig!AI10:AI10004,SkillConfig!$A10:$A10004,\"<>\"&\"\",SkillConfig!$O10:$O10004,$B8)","v":209},null,{"$f":"SUMIFS(SkillConfig!AJ10:AJ10004,SkillConfig!$A10:$A10004,\"<>\"&\"\",SkillConfig!$O10:$O10004,$B8)","v":10},{"$f":"SUMIFS(SkillConfig!AK10:AK10004,SkillConfig!$A10:$A10004,\"<>\"&\"\",SkillConfig!$O10:$O10004,$B8)","v":10},{"$f":"SUMIFS(SkillConfig!AL10:AL10004,SkillConfig!$A10:$A10004,\"<>\"&\"\",SkillConfig!$O10:$O10004,$B8)","v":20},{"$f":"SUMIFS(SkillConfig!AM10:AM10004,SkillConfig!$A10:$A10004,\"<>\"&\"\",SkillConfig!$O10:$O10004,$B8)","v":20},{"$f":"SUMIFS(SkillConfig!AN10:AN10004,SkillConfig!$A10:$A10004,\"<>\"&\"\",SkillConfig!$O10:$O10004,$B8)","v":10}]