{"text_format":"2","workbook":"xlsx","n_sheets":5,"sheets":["SkillConfig","乱来","技能辅助","特殊ID段","技能评分基准"],"not_rendered":{"charts":0,"images":0,"macros":0,"external_links":0,"defined_names":2,"comments":0,"pivot_tables":0},"unopened":[],"bounds":{"document_bytes":16777216,"sheet_cells":100000,"run_cost":"one","rows_first":2000,"rows_last":500,"rows_between":2000,"halvings":0,"cell_chars":16384,"cell_head_chars":4096},"cells_cut":0,"cells_raw":0,"read":"whole","date_system":"1900"}

{"sheet":"SkillConfig","index":0,"n_rows":11,"n_cols":10,"rows_kept":11,"cut":false,"hidden":false,"merged":[]}
["ID",null,null,"scriptName","IDGroup","cd","SkillType","level","name","effectValue"]
["int",null,"使用神器","string","int","int","int","int","int","float[]"]
[null,null,{"$f":"SUBTOTAL(3,C6:C9231)","v":0}]
["技能ID\nIDGroup+技能等级","所属英雄名字\n（策划用）","所属英雄ID\n（策划用）","脚本名称","技能序列\n所属英雄ID+技能类型\n潜规则5=远程普攻","技能Cd,普攻没有CD","技能类型:\n1= 基础\n2= 小招\n3= 大招\n4= 被动\n5= 觉醒新技能效果|专属遗物效果\n6 =职业被动\n7 =神器光明强化\n8 =神器黑暗强化","等级","名称语言表ID","效果值"]
[10011,"普通攻击技能",null,"NormalSkill",1001,null,1,"1",405077,100]
[100011,"旋风斩",null,"S10001",1001,3,2,"1",405077,200]
[300011,"火焰烧烤",null,"S30001",1001,5,2,"1",405077,"200;3"]
[200011,"全体治疗",null,"S20001",1001,3,2,"1",405077,20]
[400011,"连续射击",null,"S40001",1001,3,2,"1",405077,200]
[1100011,"大蛇第一个技能，对敌人照成伤害，并将敌人击退一段距离",null,"S110001",1001,3,2,"1",405077,200]
[1100021,"大蛇第一个技能，对敌人照成伤害，并将敌人击退一段距离",null,"S110002",1001,3,2,"1",405077,50]

{"sheet":"乱来","index":1,"n_rows":64,"n_cols":9,"rows_kept":64,"cut":false,"hidden":false,"merged":[]}
["ID","值"]
[1,330,{"$f":"(RANK(B2,B$2:B$64,1)-1)/3","v":19},{"$f":"140+C2*10","v":330},null,null,null,120,120]
[2,330,{"$f":"(RANK(B3,B$2:B$64,1)-1)/3","v":19},{"$f":"140+C3*10","v":330},null,null,null,{"$f":"H2*1.3","v":156},{"$f":"I2+30","v":150}]
[3,330,19,330,null,null,null,{"$f":"H3*1.3","v":202.8},{"$f":"I3+30","v":180}]
[4,240,7,210,null,null,null,{"$f":"H4*1.3","v":263.64},210]
[5,240,7,210]
[6,240,7,210]
[7,220,5,190]
[8,220,5,190]
[9,220,5,190]
[10,200,1,150]
[11,200,1,150]
[12,200,1,150]
[13,280,14,280]
[14,280,14,280]
[15,280,14,280]
[16,240,7,210]
[17,240,7,210]
[18,240,7,210]
[19,220,5,190]
[20,220,5,190]
[21,220,5,190]
[22,320,18,320]
[23,320,18,320]
[24,320,18,320]
[25,270,13,270]
[26,270,13,270]
[27,270,13,270]
[28,340,20,340]
[29,340,20,340]
[30,340,20,340]
[31,250,12,260]
[32,250,12,260]
[33,250,12,260]
[34,290,16,300]
[35,290,16,300]
[36,290,16,300]
[37,300,17,310]
[38,300,17,310]
[39,300,17,310]
[40,280,14,280]
[41,280,14,280]
[42,280,14,280]
[43,210,3,170]
[44,210,3,170]
[45,210,3,170]
[46,240,7,210]
[47,240,7,210]
[48,240,7,210]
[49,240,7,210]
[50,240,7,210]
[51,240,7,210]
[52,200,1,150]
[53,200,1,150]
[54,200,1,150]
[55,190,0,140]
[56,190,0,140]
[57,190,0,140]
[58,240,7,210]
[59,240,7,210]
[60,240,7,210]
[61,210,3,170]
[62,210,3,170]
[63,210,3,170]

{"sheet":"技能辅助","index":2,"n_rows":1081,"n_cols":4,"rows_kept":1081,"cut":false,"hidden":false,"merged":[]}
["技能ID","技能类型","技能CD","技能描述"]
[{"$f":"INT(SkillConfig!#REF!)","v":{"$error":"#REF!"}},{"$f":"SkillConfig!#REF!","v":{"$error":"#REF!"}},{"$f":"SkillConfig!#REF!","v":{"$error":"#REF!"}},{"$f":"SkillConfig!#REF!","v":{"$error":"#REF!"}}]
[{"$f":"INT(SkillConfig!#REF!)","v":{"$error":"#REF!"}},{"$f":"SkillConfig!#REF!","v":{"$error":"#REF!"}},{"$f":"SkillConfig!#REF!","v":{"$error":"#REF!"}},{"$f":"SkillConfig!#REF!","v":{"$error":"#REF!"}}]
[{"$f":"INT(SkillConfig!#REF!)","v":{"$error":"#REF!"}},{"$f":"SkillConfig!#REF!","v":{"$error":"#REF!"}},{"$f":"SkillConfig!#REF!","v":{"$error":"#REF!"}},{"$f":"SkillConfig!#REF!","v":{"$error":"#REF!"}}]
[{"$f":"INT(SkillConfig!#REF!)","v":{"$error":"#REF!"}},{"$f":"SkillConfig!#REF!","v":{"$error":"#REF!"}},{"$f":"SkillConfig!#REF!","v":{"$error":"#REF!"}},{"$f":"SkillConfig!#REF!","v":{"$error":"#REF!"}}]
[{"$f":"INT(SkillConfig!#REF!)","v":{"$error":"#REF!"}},{"$f":"SkillConfig!#REF!","v":{"$error":"#REF!"}},{"$f":"SkillConfig!#REF!","v":{"$error":"#REF!"}},{"$f":"SkillConfig!#REF!","v":{"$error":"#REF!"}}]
[{"$f":"INT(SkillConfig!#REF!)","v":{"$error":"#REF!"}},{"$f":"SkillConfig!#REF!","v":{"$error":"#REF!"}},{"$f":"SkillConfig!#REF!","v":{"$error":"#REF!"}},{"$f":"SkillConfig!#REF!","v":{"$error":"#REF!"}}]
[{"$f":"INT(SkillConfig!#REF!)","v":{"$error":"#REF!"}},{"$f":"SkillConfig!#REF!","v":{"$error":"#REF!"}},{"$f":"SkillConfig!#REF!","v":{"$error":"#REF!"}},{"$f":"SkillConfig!#REF!","v":{"$error":"#REF!"}}]
[{"$f":"INT(SkillConfig!#REF!)","v":{"$error":"#REF!"}},{"$f":"SkillConfig!#REF!","v":{"$error":"#REF!"}},{"$f":"SkillConfig!#REF!","v":{"$error":"#REF!"}},{"$f":"SkillConfig!#REF!","v":{"$error":"#REF!"}}]
[{"$f":"INT(SkillConfig!#REF!)","v":{"$error":"#REF!"}},{"$f":"SkillConfig!#REF!","v":{"$error":"#REF!"}},{"$f":"SkillConfig!#REF!","v":{"$error":"#REF!"}},{"$f":"SkillConfig!#REF!","v":{"$error":"#REF!"}}]
[{"$f":"INT(SkillConfig!#REF!)","v":{"$error":"#REF!"}},{"$f":"SkillConfig!#REF!","v":{"$error":"#REF!"}},{"$f":"SkillConfig!#REF!","v":{"$error":"#REF!"}},{"$f":"SkillConfig!#REF!","v":{"$error":"#REF!"}}]
[{"$f":"INT(SkillConfig!#REF!)","v":{"$error":"#REF!"}},{"$f":"SkillConfig!#REF!","v":{"$error":"#REF!"}},{"$f":"SkillConfig!#REF!","v":{"$error":"#REF!"}},{"$f":"SkillConfig!#REF!","v":{"$error":"#REF!"}}]
[{"$f":"INT(SkillConfig!#REF!)","v":{"$error":"#REF!"}},{"$f":"SkillConfig!#REF!","v":{"$error":"#REF!"}},{"$f":"SkillConfig!#REF!","v":{"$error":"#REF!"}},{"$f":"SkillConfig!#REF!","v":{"$error":"#REF!"}}]
[{"$f":"INT(SkillConfig!#REF!)","v":{"$error":"#REF!"}},{"$f":"SkillConfig!#REF!","v":{"$error":"#REF!"}},{"$f":"SkillConfig!#REF!","v":{"$error":"#REF!"}},{"$f":"SkillConfig!#REF!","v":{"$error":"#REF!"}}]
[{"$f":"INT(SkillConfig!#REF!)","v":{"$error":"#REF!"}},{"$f":"SkillConfig!#REF!","v":{"$error":"#REF!"}},{"$f":"SkillConfig!#REF!","v":{"$error":"#REF!"}},{"$f":"SkillConfig!#REF!","v":{"$error":"#REF!"}}]
[{"$f":"INT(SkillConfig!#REF!)","v":{"$error":"#REF!"}},{"$f":"SkillConfig!#REF!","v":{"$error":"#REF!"}},{"$f":"SkillConfig!#REF!","v":{"$error":"#REF!"}},{"$f":"SkillConfig!#REF!","v":{"$error":"#REF!"}}]
[{"$f":"INT(SkillConfig!#REF!)","v":{"$error":"#REF!"}},{"$f":"SkillConfig!#REF!","v":{"$error":"#REF!"}},{"$f":"SkillConfig!#REF!","v":{"$error":"#REF!"}},{"$f":"SkillConfig!#REF!","v":{"$error":"#REF!"}}]
[{"$f":"INT(SkillConfig!#REF!)","v":{"$error":"#REF!"}},{"$f":"SkillConfig!#REF!","v":{"$error":"#REF!"}},{"$f":"SkillConfig!#REF!","v":{"$error":"#REF!"}},{"$f":"SkillConfig!#REF!","v":{"$error":"#REF!"}}]
[{"$f":"INT(SkillConfig!#REF!)","v":{"$error":"#REF!"}},{"$f":"SkillConfig!#REF!","v":{"$error":"#REF!"}},{"$f":"SkillConfig!#REF!","v":{"$error":"#REF!"}},{"$f":"SkillConfig!#REF!","v":{"$error":"#REF!"}}]
[{"$f":"INT(SkillConfig!#REF!)","v":{"$error":"#REF!"}},{"$f":"SkillConfig!#REF!","v":{"$error":"#REF!"}},{"$f":"SkillConfig!#REF!","v":{"$error":"#REF!"}},{"$f":"SkillConfig!#REF!","v":{"$error":"#REF!"}}]
[{"$f":"INT(SkillConfig!#REF!)","v":{"$error":"#REF!"}},{"$f":"SkillConfig!#REF!","v":{"$error":"#REF!"}},{"$f":"SkillConfig!#REF!","v":{"$error":"#REF!"}},{"$f":"SkillConfig!#REF!","v":{"$error":"#REF!"}}]
[{"$f":"INT(SkillConfig!#REF!)","v":{"$error":"#REF!"}},{"$f":"SkillConfig!#REF!","v":{"$error":"#REF!"}},{"$f":"SkillConfig!#REF!","v":{"$error":"#REF!"}},{"$f":"SkillConfig!#REF!","v":{"$error":"#REF!"}}]
[{"$f":"INT(SkillConfig!#REF!)","v":{"$error":"#REF!"}},{"$f":"SkillConfig!#REF!","v":{"$error":"#REF!"}},{"$f":"SkillConfig!#REF!","v":{"$error":"#REF!"}},{"$f":"SkillConfig!#REF!","v":{"$error":"#REF!"}}]
[{"$f":"INT(SkillConfig!#REF!)","v":{"$error":"#REF!"}},{"$f":"SkillConfig!#REF!","v":{"$error":"#REF!"}},{"$f":"SkillConfig!#REF!","v":{"$error":"#REF!"}},{"$f":"SkillConfig!#REF!","v":{"$error":"#REF!"}}]
[{"$f":"INT(SkillConfig!#REF!)","v":{"$error":"#REF!"}},{"$f":"SkillConfig!#REF!","v":{"$error":"#REF!"}},{"$f":"SkillConfig!#REF!","v":{"$error":"#REF!"}},{"$f":"SkillConfig!#REF!","v":{"$error":"#REF!"}}]
[{"$f":"INT(SkillConfig!#REF!)","v":{"$error":"#REF!"}},{"$f":"SkillConfig!#REF!","v":{"$error":"#REF!"}},{"$f":"SkillConfig!#REF!","v":{"$error":"#REF!"}},{"$f":"SkillConfig!#REF!","v":{"$error":"#REF!"}}]
[{"$f":"INT(SkillConfig!#REF!)","v":{"$error":"#REF!"}},{"$f":"SkillConfig!#REF!","v":{"$error":"#REF!"}},{"$f":"SkillConfig!#REF!","v":{"$error":"#REF!"}},{"$f":"SkillConfig!#REF!","v":{"$error":"#REF!"}}]
[{"$f":"INT(SkillConfig!#REF!)","v":{"$error":"#REF!"}},{"$f":"SkillConfig!#REF!","v":{"$error":"#REF!"}},{"$f":"SkillConfig!#REF!","v":{"$error":"#REF!"}},{"$f":"SkillConfig!#REF!","v":{"$error":"#REF!"}}]
[{"$f":"INT(SkillConfig!#REF!)","v":{"$error":"#REF!"}},{"$f":"SkillConfig!#REF!","v":{"$error":"#REF!"}},{"$f":"SkillConfig!#REF!","v":{"$error":"#REF!"}},{"$f":"SkillConfig!#REF!","v":{"$error":"#REF!"}}]
[{"$f":"INT(SkillConfig!#REF!)","v":{"$error":"#REF!"}},{"$f":"SkillConfig!#REF!","v":{"$error":"#REF!"}},{"$f":"SkillConfig!#REF!","v":{"$error":"#REF!"}},{"$f":"SkillConfig!#REF!","v":{"$error":"#REF!"}}]
[{"$f":"INT(SkillConfig!#REF!)","v":{"$error":"#REF!"}},{"$f":"SkillConfig!#REF!","v":{"$error":"#REF!"}},{"$f":"SkillConfig!#REF!","v":{"$error":"#REF!"}},{"$f":"SkillConfig!#REF!","v":{"$error":"#REF!"}}]
[{"$f":"INT(SkillConfig!#REF!)","v":{"$error":"#REF!"}},{"$f":"SkillConfig!#REF!","v":{"$error":"#REF!"}},{"$f":"SkillConfig!#REF!","v":{"$error":"#REF!"}},{"$f":"SkillConfig!#REF!","v":{"$error":"#REF!"}}]
[{"$f":"INT(SkillConfig!#REF!)","v":{"$error":"#REF!"}},{"$f":"SkillConfig!#REF!","v":{"$error":"#REF!"}},{"$f":"SkillConfig!#REF!","v":{"$error":"#REF!"}},{"$f":"SkillConfig!#REF!","v":{"$error":"#REF!"}}]
[{"$f":"INT(SkillConfig!#REF!)","v":{"$error":"#REF!"}},{"$f":"SkillConfig!#REF!","v":{"$error":"#REF!"}},{"$f":"SkillConfig!#REF!","v":{"$error":"#REF!"}},{"$f":"SkillConfig!#REF!","v":{"$error":"#REF!"}}]
[{"$f":"INT(SkillConfig!#REF!)","v":{"$error":"#REF!"}},{"$f":"SkillConfig!#REF!","v":{"$error":"#REF!"}},{"$f":"SkillConfig!#REF!","v":{"$error":"#REF!"}},{"$f":"SkillConfig!#REF!","v":{"$error":"#REF!"}}]
[{"$f":"INT(SkillConfig!#REF!)","v":{"$error":"#REF!"}},{"$f":"SkillConfig!#REF!","v":{"$error":"#REF!"}},{"$f":"SkillConfig!#REF!","v":{"$error":"#REF!"}},{"$f":"SkillConfig!#REF!","v":{"$error":"#REF!"}}]
[{"$f":"INT(SkillConfig!#REF!)","v":{"$error":"#REF!"}},{"$f":"SkillConfig!#REF!","v":{"$error":"#REF!"}},{"$f":"SkillConfig!#REF!","v":{"$error":"#REF!"}},{"$f":"SkillConfig!#REF!","v":{"$error":"#REF!"}}]
[{"$f":"INT(SkillConfig!#REF!)","v":{"$error":"#REF!"}},{"$f":"SkillConfig!#REF!","v":{"$error":"#REF!"}},{"$f":"SkillConfig!#REF!","v":{"$error":"#REF!"}},{"$f":"SkillConfig!#REF!","v":{"$error":"#REF!"}}]
[{"$f":"INT(SkillConfig!#REF!)","v":{"$error":"#REF!"}},{"$f":"SkillConfig!#REF!","v":{"$error":"#REF!"}},{"$f":"SkillConfig!#REF!","v":{"$error":"#REF!"}},{"$f":"SkillConfig!#REF!","v":{"$error":"#REF!"}}]
[{"$f":"INT(SkillConfig!#REF!)","v":{"$error":"#REF!"}},{"$f":"SkillConfig!#REF!","v":{"$error":"#REF!"}},{"$f":"SkillConfig!#REF!","v":{"$error":"#REF!"}},{"$f":"SkillConfig!#REF!","v":{"$error":"#REF!"}}]
[{"$f":"INT(SkillConfig!#REF!)","v":{"$error":"#REF!"}},{"$f":"SkillConfig!#REF!","v":{"$error":"#REF!"}},{"$f":"SkillConfig!#REF!","v":{"$error":"#REF!"}},{"$f":"SkillConfig!#REF!","v":{"$error":"#REF!"}}]
[{"$f":"INT(SkillConfig!#REF!)","v":{"$error":"#REF!"}},{"$f":"SkillConfig!#REF!","v":{"$error":"#REF!"}},{"$f":"SkillConfig!#REF!","v":{"$error":"#REF!"}},{"$f":"SkillConfig!#REF!","v":{"$error":"#REF!"}}]
[{"$f":"INT(SkillConfig!#REF!)","v":{"$error":"#REF!"}},{"$f":"SkillConfig!#REF!","v":{"$error":"#REF!"}},{"$f":"SkillConfig!#REF!","v":{"$error":"#REF!"}},{"$f":"SkillConfig!#REF!","v":{"$error":"#REF!"}}]
[{"$f":"INT(SkillConfig!#REF!)","v":{"$error":"#REF!"}},{"$f":"SkillConfig!#REF!","v":{"$error":"#REF!"}},{"$f":"SkillConfig!#REF!","v":{"$error":"#REF!"}},{"$f":"SkillConfig!#REF!","v":{"$error":"#REF!"}}]
[{"$f":"INT(SkillConfig!#REF!)","v":{"$error":"#REF!"}},{"$f":"SkillConfig!#REF!","v":{"$error":"#REF!"}},{"$f":"SkillConfig!#REF!","v":{"$error":"#REF!"}},{"$f":"SkillConfig!#REF!","v":{"$error":"#REF!"}}]
[{"$f":"INT(SkillConfig!#REF!)","v":{"$error":"#REF!"}},{"$f":"SkillConfig!#REF!","v":{"$error":"#REF!"}},{"$f":"SkillConfig!#REF!","v":{"$error":"#REF!"}},{"$f":"SkillConfig!#REF!","v":{"$error":"#REF!"}}]
[{"$f":"INT(SkillConfig!#REF!)","v":{"$error":"#REF!"}},{"$f":"SkillConfig!#REF!","v":{"$error":"#REF!"}},{"$f":"SkillConfig!#REF!","v":{"$error":"#REF!"}},{"$f":"SkillConfig!#REF!","v":{"$error":"#REF!"}}]
[{"$f":"INT(SkillConfig!#REF!)","v":{"$error":"#REF!"}},{"$f":"SkillConfig!#REF!","v":{"$error":"#REF!"}},{"$f":"SkillConfig!#REF!","v":{"$error":"#REF!"}},{"$f":"SkillConfig!#REF!","v":{"$error":"#REF!"}}]
[{"$f":"INT(SkillConfig!#REF!)","v":{"$error":"#REF!"}},{"$f":"SkillConfig!#REF!","v":{"$error":"#REF!"}},{"$f":"SkillConfig!#REF!","v":{"$error":"#REF!"}},{"$f":"SkillConfig!#REF!","v":{"$error":"#REF!"}}]
[{"$f":"INT(SkillConfig!#REF!)","v":{"$error":"#REF!"}},{"$f":"SkillConfig!#REF!","v":{"$error":"#REF!"}},{"$f":"SkillConfig!#REF!","v":{"$error":"#REF!"}},{"$f":"SkillConfig!#REF!","v":{"$error":"#REF!"}}]
[{"$f":"INT(SkillConfig!#REF!)","v":{"$error":"#REF!"}},{"$f":"SkillConfig!#REF!","v":{"$error":"#REF!"}},{"$f":"SkillConfig!#REF!","v":{"$error":"#REF!"}},{"$f":"SkillConfig!#REF!","v":{"$error":"#REF!"}}]
[{"$f":"INT(SkillConfig!#REF!)","v":{"$error":"#REF!"}},{"$f":"SkillConfig!#REF!","v":{"$error":"#REF!"}},{"$f":"SkillConfig!#REF!","v":{"$error":"#REF!"}},{"$f":"SkillConfig!#REF!","v":{"$error":"#REF!"}}]
[{"$f":"INT(SkillConfig!#REF!)","v":{"$error":"#REF!"}},{"$f":"SkillConfig!#REF!","v":{"$error":"#REF!"}},{"$f":"SkillConfig!#REF!","v":{"$error":"#REF!"}},{"$f":"SkillConfig!#REF!","v":{"$error":"#REF!"}}]
[{"$f":"INT(SkillConfig!#REF!)","v":{"$error":"#REF!"}},{"$f":"SkillConfig!#REF!","v":{"$error":"#REF!"}},{"$f":"SkillConfig!#REF!","v":{"$error":"#REF!"}},{"$f":"SkillConfig!#REF!","v":{"$error":"#REF!"}}]
[{"$f":"INT(SkillConfig!#REF!)","v":{"$error":"#REF!"}},{"$f":"SkillConfig!#REF!","v":{"$error":"#REF!"}},{"$f":"SkillConfig!#REF!","v":{"$error":"#REF!"}},{"$f":"SkillConfig!#REF!","v":{"$error":"#REF!"}}]
[{"$f":"INT(SkillConfig!#REF!)","v":{"$error":"#REF!"}},{"$f":"SkillConfig!#REF!","v":{"$error":"#REF!"}},{"$f":"SkillConfig!#REF!","v":{"$error":"#REF!"}},{"$f":"SkillConfig!#REF!","v":{"$error":"#REF!"}}]
[{"$f":"INT(SkillConfig!#REF!)","v":{"$error":"#REF!"}},{"$f":"SkillConfig!#REF!","v":{"$error":"#REF!"}},{"$f":"SkillConfig!#REF!","v":{"$error":"#REF!"}},{"$f":"SkillConfig!#REF!","v":{"$error":"#REF!"}}]
[{"$f":"INT(SkillConfig!#REF!)","v":{"$error":"#REF!"}},{"$f":"SkillConfig!#REF!","v":{"$error":"#REF!"}},{"$f":"SkillConfig!#REF!","v":{"$error":"#REF!"}},{"$f":"SkillConfig!#REF!","v":{"$error":"#REF!"}}]
[{"$f":"INT(SkillConfig!#REF!)","v":{"$error":"#REF!"}},{"$f":"SkillConfig!#REF!","v":{"$error":"#REF!"}},{"$f":"SkillConfig!#REF!","v":{"$error":"#REF!"}},{"$f":"SkillConfig!#REF!","v":{"$error":"#REF!"}}]
[{"$f":"INT(SkillConfig!#REF!)","v":{"$error":"#REF!"}},{"$f":"SkillConfig!#REF!","v":{"$error":"#REF!"}},{"$f":"SkillConfig!#REF!","v":{"$error":"#REF!"}},{"$f":"SkillConfig!#REF!","v":{"$error":"#REF!"}}]
[{"$f":"INT(SkillConfig!#REF!)","v":{"$error":"#REF!"}},{"$f":"SkillConfig!#REF!","v":{"$error":"#REF!"}},{"$f":"SkillConfig!#REF!","v":{"$error":"#REF!"}},{"$f":"SkillConfig!#REF!","v":{"$error":"#REF!"}}]
[{"$f":"INT(SkillConfig!#REF!)","v":{"$error":"#REF!"}},{"$f":"SkillConfig!#REF!","v":{"$error":"#REF!"}},{"$f":"SkillConfig!#REF!","v":{"$error":"#REF!"}},{"$f":"SkillConfig!#REF!","v":{"$error":"#REF!"}}]
[{"$f":"INT(SkillConfig!#REF!)","v":{"$error":"#REF!"}},{"$f":"SkillConfig!#REF!","v":{"$error":"#REF!"}},{"$f":"SkillConfig!#REF!","v":{"$error":"#REF!"}},{"$f":"SkillConfig!#REF!","v":{"$error":"#REF!"}}]
[{"$f":"INT(SkillConfig!#REF!)","v":{"$error":"#REF!"}},{"$f":"SkillConfig!#REF!","v":{"$error":"#REF!"}},{"$f":"SkillConfig!#REF!","v":{"$error":"#REF!"}},{"$f":"SkillConfig!#REF!","v":{"$error":"#REF!"}}]
[{"$f":"INT(SkillConfig!#REF!)","v":{"$error":"#REF!"}},{"$f":"SkillConfig!#REF!","v":{"$error":"#REF!"}},{"$f":"SkillConfig!#REF!","v":{"$error":"#REF!"}},{"$f":"SkillConfig!#REF!","v":{"$error":"#REF!"}}]
[{"$f":"INT(SkillConfig!#REF!)","v":{"$error":"#REF!"}},{"$f":"SkillConfig!#REF!","v":{"$error":"#REF!"}},{"$f":"SkillConfig!#REF!","v":{"$error":"#REF!"}},{"$f":"SkillConfig!#REF!","v":{"$error":"#REF!"}}]
[{"$f":"INT(SkillConfig!#REF!)","v":{"$error":"#REF!"}},{"$f":"SkillConfig!#REF!","v":{"$error":"#REF!"}},{"$f":"SkillConfig!#REF!","v":{"$error":"#REF!"}},{"$f":"SkillConfig!#REF!","v":{"$error":"#REF!"}}]
[{"$f":"INT(SkillConfig!#REF!)","v":{"$error":"#REF!"}},{"$f":"SkillConfig!#REF!","v":{"$error":"#REF!"}},{"$f":"SkillConfig!#REF!","v":{"$error":"#REF!"}},{"$f":"SkillConfig!#REF!","v":{"$error":"#REF!"}}]
[{"$f":"INT(SkillConfig!#REF!)","v":{"$error":"#REF!"}},{"$f":"SkillConfig!#REF!","v":{"$error":"#REF!"}},{"$f":"SkillConfig!#REF!","v":{"$error":"#REF!"}},{"$f":"SkillConfig!#REF!","v":{"$error":"#REF!"}}]
[{"$f":"INT(SkillConfig!#REF!)","v":{"$error":"#REF!"}},{"$f":"SkillConfig!#REF!","v":{"$error":"#REF!"}},{"$f":"SkillConfig!#REF!","v":{"$error":"#REF!"}},{"$f":"SkillConfig!#REF!","v":{"$error":"#REF!"}}]
[{"$f":"INT(SkillConfig!#REF!)","v":{"$error":"#REF!"}},{"$f":"SkillConfig!#REF!","v":{"$error":"#REF!"}},{"$f":"SkillConfig!#REF!","v":{"$error":"#REF!"}},{"$f":"SkillConfig!#REF!","v":{"$error":"#REF!"}}]
[{"$f":"INT(SkillConfig!#REF!)","v":{"$error":"#REF!"}},{"$f":"SkillConfig!#REF!","v":{"$error":"#REF!"}},{"$f":"SkillConfig!#REF!","v":{"$error":"#REF!"}},{"$f":"SkillConfig!#REF!","v":{"$error":"#REF!"}}]
[{"$f":"INT(SkillConfig!#REF!)","v":{"$error":"#REF!"}},{"$f":"SkillConfig!#REF!","v":{"$error":"#REF!"}},{"$f":"SkillConfig!#REF!","v":{"$error":"#REF!"}},{"$f":"SkillConfig!#REF!","v":{"$error":"#REF!"}}]
[{"$f":"INT(SkillConfig!#REF!)","v":{"$error":"#REF!"}},{"$f":"SkillConfig!#REF!","v":{"$error":"#REF!"}},{"$f":"SkillConfig!#REF!","v":{"$error":"#REF!"}},{"$f":"SkillConfig!#REF!","v":{"$error":"#REF!"}}]
[{"$f":"INT(SkillConfig!#REF!)","v":{"$error":"#REF!"}},{"$f":"SkillConfig!#REF!","v":{"$error":"#REF!"}},{"$f":"SkillConfig!#REF!","v":{"$error":"#REF!"}},{"$f":"SkillConfig!#REF!","v":{"$error":"#REF!"}}]
[{"$f":"INT(SkillConfig!#REF!)","v":{"$error":"#REF!"}},{"$f":"SkillConfig!#REF!","v":{"$error":"#REF!"}},{"$f":"SkillConfig!#REF!","v":{"$error":"#REF!"}},{"$f":"SkillConfig!#REF!","v":{"$error":"#REF!"}}]
[{"$f":"INT(SkillConfig!#REF!)","v":{"$error":"#REF!"}},{"$f":"SkillConfig!#REF!","v":{"$error":"#REF!"}},{"$f":"SkillConfig!#REF!","v":{"$error":"#REF!"}},{"$f":"SkillConfig!#REF!","v":{"$error":"#REF!"}}]
[{"$f":"INT(SkillConfig!#REF!)","v":{"$error":"#REF!"}},{"$f":"SkillConfig!#REF!","v":{"$error":"#REF!"}},{"$f":"SkillConfig!#REF!","v":{"$error":"#REF!"}},{"$f":"SkillConfig!#REF!","v":{"$error":"#REF!"}}]
[{"$f":"INT(SkillConfig!#REF!)","v":{"$error":"#REF!"}},{"$f":"SkillConfig!#REF!","v":{"$error":"#REF!"}},{"$f":"SkillConfig!#REF!","v":{"$error":"#REF!"}},{"$f":"SkillConfig!#REF!","v":{"$error":"#REF!"}}]
[{"$f":"INT(SkillConfig!#REF!)","v":{"$error":"#REF!"}},{"$f":"SkillConfig!#REF!","v":{"$error":"#REF!"}},{"$f":"SkillConfig!#REF!","v":{"$error":"#REF!"}},{"$f":"SkillConfig!#REF!","v":{"$error":"#REF!"}}]
[{"$f":"INT(SkillConfig!#REF!)","v":{"$error":"#REF!"}},{"$f":"SkillConfig!#REF!","v":{"$error":"#REF!"}},{"$f":"SkillConfig!#REF!","v":{"$error":"#REF!"}},{"$f":"SkillConfig!#REF!","v":{"$error":"#REF!"}}]
[{"$f":"INT(SkillConfig!#REF!)","v":{"$error":"#REF!"}},{"$f":"SkillConfig!#REF!","v":{"$error":"#REF!"}},{"$f":"SkillConfig!#REF!","v":{"$error":"#REF!"}},{"$f":"SkillConfig!#REF!","v":{"$error":"#REF!"}}]
[{"$f":"INT(SkillConfig!#REF!)","v":{"$error":"#REF!"}},{"$f":"SkillConfig!#REF!","v":{"$error":"#REF!"}},{"$f":"SkillConfig!#REF!","v":{"$error":"#REF!"}},{"$f":"SkillConfig!#REF!","v":{"$error":"#REF!"}}]
[{"$f":"INT(SkillConfig!#REF!)","v":{"$error":"#REF!"}},{"$f":"SkillConfig!#REF!","v":{"$error":"#REF!"}},{"$f":"SkillConfig!#REF!","v":{"$error":"#REF!"}},{"$f":"SkillConfig!#REF!","v":{"$error":"#REF!"}}]
[{"$f":"INT(SkillConfig!#REF!)","v":{"$error":"#REF!"}},{"$f":"SkillConfig!#REF!","v":{"$error":"#REF!"}},{"$f":"SkillConfig!#REF!","v":{"$error":"#REF!"}},{"$f":"SkillConfig!#REF!","v":{"$error":"#REF!"}}]
[{"$f":"INT(SkillConfig!#REF!)","v":{"$error":"#REF!"}},{"$f":"SkillConfig!#REF!","v":{"$error":"#REF!"}},{"$f":"SkillConfig!#REF!","v":{"$error":"#REF!"}},{"$f":"SkillConfig!#REF!","v":{"$error":"#REF!"}}]
[{"$f":"INT(SkillConfig!#REF!)","v":{"$error":"#REF!"}},{"$f":"SkillConfig!#REF!","v":{"$error":"#REF!"}},{"$f":"SkillConfig!#REF!","v":{"$error":"#REF!"}},{"$f":"SkillConfig!#REF!","v":{"$error":"#REF!"}}]
[{"$f":"INT(SkillConfig!#REF!)","v":{"$error":"#REF!"}},{"$f":"SkillConfig!#REF!","v":{"$error":"#REF!"}},{"$f":"SkillConfig!#REF!","v":{"$error":"#REF!"}},{"$f":"SkillConfig!#REF!","v":{"$error":"#REF!"}}]
[{"$f":"INT(SkillConfig!#REF!)","v":{"$error":"#REF!"}},{"$f":"SkillConfig!#REF!","v":{"$error":"#REF!"}},{"$f":"SkillConfig!#REF!","v":{"$error":"#REF!"}},{"$f":"SkillConfig!#REF!","v":{"$error":"#REF!"}}]
[{"$f":"INT(SkillConfig!#REF!)","v":{"$error":"#REF!"}},{"$f":"SkillConfig!#REF!","v":{"$error":"#REF!"}},{"$f":"SkillConfig!#REF!","v":{"$error":"#REF!"}},{"$f":"SkillConfig!#REF!","v":{"$error":"#REF!"}}]
[{"$f":"INT(SkillConfig!#REF!)","v":{"$error":"#REF!"}},{"$f":"SkillConfig!#REF!","v":{"$error":"#REF!"}},{"$f":"SkillConfig!#REF!","v":{"$error":"#REF!"}},{"$f":"SkillConfig!#REF!","v":{"$error":"#REF!"}}]
[{"$f":"INT(SkillConfig!#REF!)","v":{"$error":"#REF!"}},{"$f":"SkillConfig!#REF!","v":{"$error":"#REF!"}},{"$f":"SkillConfig!#REF!","v":{"$error":"#REF!"}},{"$f":"SkillConfig!#REF!","v":{"$error":"#REF!"}}]
[{"$f":"INT(SkillConfig!#REF!)","v":{"$error":"#REF!"}},{"$f":"SkillConfig!#REF!","v":{"$error":"#REF!"}},{"$f":"SkillConfig!#REF!","v":{"$error":"#REF!"}},{"$f":"SkillConfig!#REF!","v":{"$error":"#REF!"}}]
[{"$f":"INT(SkillConfig!#REF!)","v":{"$error":"#REF!"}},{"$f":"SkillConfig!#REF!","v":{"$error":"#REF!"}},{"$f":"SkillConfig!#REF!","v":{"$error":"#REF!"}},{"$f":"SkillConfig!#REF!","v":{"$error":"#REF!"}}]
[{"$f":"INT(SkillConfig!#REF!)","v":{"$error":"#REF!"}},{"$f":"SkillConfig!#REF!","v":{"$error":"#REF!"}},{"$f":"SkillConfig!#REF!","v":{"$error":"#REF!"}},{"$f":"SkillConfig!#REF!","v":{"$error":"#REF!"}}]
[{"$f":"INT(SkillConfig!#REF!)","v":{"$error":"#REF!"}},{"$f":"SkillConfig!#REF!","v":{"$error":"#REF!"}},{"$f":"SkillConfig!#REF!","v":{"$error":"#REF!"}},{"$f":"SkillConfig!#REF!","v":{"$error":"#REF!"}}]
[{"$f":"INT(SkillConfig!#REF!)","v":{"$error":"#REF!"}},{"$f":"SkillConfig!#REF!","v":{"$error":"#REF!"}},{"$f":"SkillConfig!#REF!","v":{"$error":"#REF!"}},{"$f":"SkillConfig!#REF!","v":{"$error":"#REF!"}}]
[{"$f":"INT(SkillConfig!#REF!)","v":{"$error":"#REF!"}},{"$f":"SkillConfig!#REF!","v":{"$error":"#REF!"}},{"$f":"SkillConfig!#REF!","v":{"$error":"#REF!"}},{"$f":"SkillConfig!#REF!","v":{"$error":"#REF!"}}]
[{"$f":"INT(SkillConfig!#REF!)","v":{"$error":"#REF!"}},{"$f":"SkillConfig!#REF!","v":{"$error":"#REF!"}},{"$f":"SkillConfig!#REF!","v":{"$error":"#REF!"}},{"$f":"SkillConfig!#REF!","v":{"$error":"#REF!"}}]
[{"$f":"INT(SkillConfig!#REF!)","v":{"$error":"#REF!"}},{"$f":"SkillConfig!#REF!","v":{"$error":"#REF!"}},{"$f":"SkillConfig!#REF!","v":{"$error":"#REF!"}},{"$f":"SkillConfig!#REF!","v":{"$error":"#REF!"}}]
[{"$f":"INT(SkillConfig!#REF!)","v":{"$error":"#REF!"}},{"$f":"SkillConfig!#REF!","v":{"$error":"#REF!"}},{"$f":"SkillConfig!#REF!","v":{"$error":"#REF!"}},{"$f":"SkillConfig!#REF!","v":{"$error":"#REF!"}}]
[{"$f":"INT(SkillConfig!#REF!)","v":{"$error":"#REF!"}},{"$f":"SkillConfig!#REF!","v":{"$error":"#REF!"}},{"$f":"SkillConfig!#REF!","v":{"$error":"#REF!"}},{"$f":"SkillConfig!#REF!","v":{"$error":"#REF!"}}]
[{"$f":"INT(SkillConfig!#REF!)","v":{"$error":"#REF!"}},{"$f":"SkillConfig!#REF!","v":{"$error":"#REF!"}},{"$f":"SkillConfig!#REF!","v":{"$error":"#REF!"}},{"$f":"SkillConfig!#REF!","v":{"$error":"#REF!"}}]
[{"$f":"INT(SkillConfig!#REF!)","v":{"$error":"#REF!"}},{"$f":"SkillConfig!#REF!","v":{"$error":"#REF!"}},{"$f":"SkillConfig!#REF!","v":{"$error":"#REF!"}},{"$f":"SkillConfig!#REF!","v":{"$error":"#REF!"}}]
[{"$f":"INT(SkillConfig!#REF!)","v":{"$error":"#REF!"}},{"$f":"SkillConfig!#REF!","v":{"$error":"#REF!"}},{"$f":"SkillConfig!#REF!","v":{"$error":"#REF!"}},{"$f":"SkillConfig!#REF!","v":{"$error":"#REF!"}}]
[{"$f":"INT(SkillConfig!#REF!)","v":{"$error":"#REF!"}},{"$f":"SkillConfig!#REF!","v":{"$error":"#REF!"}},{"$f":"SkillConfig!#REF!","v":{"$error":"#REF!"}},{"$f":"SkillConfig!#REF!","v":{"$error":"#REF!"}}]
[{"$f":"INT(SkillConfig!#REF!)","v":{"$error":"#REF!"}},{"$f":"SkillConfig!#REF!","v":{"$error":"#REF!"}},{"$f":"SkillConfig!#REF!","v":{"$error":"#REF!"}},{"$f":"SkillConfig!#REF!","v":{"$error":"#REF!"}}]
[{"$f":"INT(SkillConfig!#REF!)","v":{"$error":"#REF!"}},{"$f":"SkillConfig!#REF!","v":{"$error":"#REF!"}},{"$f":"SkillConfig!#REF!","v":{"$error":"#REF!"}},{"$f":"SkillConfig!#REF!","v":{"$error":"#REF!"}}]
[{"$f":"INT(SkillConfig!#REF!)","v":{"$error":"#REF!"}},{"$f":"SkillConfig!#REF!","v":{"$error":"#REF!"}},{"$f":"SkillConfig!#REF!","v":{"$error":"#REF!"}},{"$f":"SkillConfig!#REF!","v":{"$error":"#REF!"}}]
[{"$f":"INT(SkillConfig!#REF!)","v":{"$error":"#REF!"}},{"$f":"SkillConfig!#REF!","v":{"$error":"#REF!"}},{"$f":"SkillConfig!#REF!","v":{"$error":"#REF!"}},{"$f":"SkillConfig!#REF!","v":{"$error":"#REF!"}}]
[{"$f":"INT(SkillConfig!#REF!)","v":{"$error":"#REF!"}},{"$f":"SkillConfig!#REF!","v":{"$error":"#REF!"}},{"$f":"SkillConfig!#REF!","v":{"$error":"#REF!"}},{"$f":"SkillConfig!#REF!","v":{"$error":"#REF!"}}]
[{"$f":"INT(SkillConfig!#REF!)","v":{"$error":"#REF!"}},{"$f":"SkillConfig!#REF!","v":{"$error":"#REF!"}},{"$f":"SkillConfig!#REF!","v":{"$error":"#REF!"}},{"$f":"SkillConfig!#REF!","v":{"$error":"#REF!"}}]
[{"$f":"INT(SkillConfig!#REF!)","v":{"$error":"#REF!"}},{"$f":"SkillConfig!#REF!","v":{"$error":"#REF!"}},{"$f":"SkillConfig!#REF!","v":{"$error":"#REF!"}},{"$f":"SkillConfig!#REF!","v":{"$error":"#REF!"}}]
[{"$f":"INT(SkillConfig!#REF!)","v":{"$error":"#REF!"}},{"$f":"SkillConfig!#REF!","v":{"$error":"#REF!"}},{"$f":"SkillConfig!#REF!","v":{"$error":"#REF!"}},{"$f":"SkillConfig!#REF!","v":{"$error":"#REF!"}}]
[{"$f":"INT(SkillConfig!#REF!)","v":{"$error":"#REF!"}},{"$f":"SkillConfig!#REF!","v":{"$error":"#REF!"}},{"$f":"SkillConfig!#REF!","v":{"$error":"#REF!"}},{"$f":"SkillConfig!#REF!","v":{"$error":"#REF!"}}]
[{"$f":"INT(SkillConfig!#REF!)","v":{"$error":"#REF!"}},{"$f":"SkillConfig!#REF!","v":{"$error":"#REF!"}},{"$f":"SkillConfig!#REF!","v":{"$error":"#REF!"}},{"$f":"SkillConfig!#REF!","v":{"$error":"#REF!"}}]
[{"$f":"INT(SkillConfig!#REF!)","v":{"$error":"#REF!"}},{"$f":"SkillConfig!#REF!","v":{"$error":"#REF!"}},{"$f":"SkillConfig!#REF!","v":{"$error":"#REF!"}},{"$f":"SkillConfig!#REF!","v":{"$error":"#REF!"}}]
[{"$f":"INT(SkillConfig!#REF!)","v":{"$error":"#REF!"}},{"$f":"SkillConfig!#REF!","v":{"$error":"#REF!"}},{"$f":"SkillConfig!#REF!","v":{"$error":"#REF!"}},{"$f":"SkillConfig!#REF!","v":{"$error":"#REF!"}}]
[{"$f":"INT(SkillConfig!#REF!)","v":{"$error":"#REF!"}},{"$f":"SkillConfig!#REF!","v":{"$error":"#REF!"}},{"$f":"SkillConfig!#REF!","v":{"$error":"#REF!"}},{"$f":"SkillConfig!#REF!","v":{"$error":"#REF!"}}]
[{"$f":"INT(SkillConfig!#REF!)","v":{"$error":"#REF!"}},{"$f":"SkillConfig!#REF!","v":{"$error":"#REF!"}},{"$f":"SkillConfig!#REF!","v":{"$error":"#REF!"}},{"$f":"SkillConfig!#REF!","v":{"$error":"#REF!"}}]
[{"$f":"INT(SkillConfig!#REF!)","v":{"$error":"#REF!"}},{"$f":"SkillConfig!#REF!","v":{"$error":"#REF!"}},{"$f":"SkillConfig!#REF!","v":{"$error":"#REF!"}},{"$f":"SkillConfig!#REF!","v":{"$error":"#REF!"}}]
[{"$f":"INT(SkillConfig!#REF!)","v":{"$error":"#REF!"}},{"$f":"SkillConfig!#REF!","v":{"$error":"#REF!"}},{"$f":"SkillConfig!#REF!","v":{"$error":"#REF!"}},{"$f":"SkillConfig!#REF!","v":{"$error":"#REF!"}}]
[{"$f":"INT(SkillConfig!#REF!)","v":{"$error":"#REF!"}},{"$f":"SkillConfig!#REF!","v":{"$error":"#REF!"}},{"$f":"SkillConfig!#REF!","v":{"$error":"#REF!"}},{"$f":"SkillConfig!#REF!","v":{"$error":"#REF!"}}]
[{"$f":"INT(SkillConfig!#REF!)","v":{"$error":"#REF!"}},{"$f":"SkillConfig!#REF!","v":{"$error":"#REF!"}},{"$f":"SkillConfig!#REF!","v":{"$error":"#REF!"}},{"$f":"SkillConfig!#REF!","v":{"$error":"#REF!"}}]
[{"$f":"INT(SkillConfig!#REF!)","v":{"$error":"#REF!"}},{"$f":"SkillConfig!#REF!","v":{"$error":"#REF!"}},{"$f":"SkillConfig!#REF!","v":{"$error":"#REF!"}},{"$f":"SkillConfig!#REF!","v":{"$error":"#REF!"}}]
[{"$f":"INT(SkillConfig!#REF!)","v":{"$error":"#REF!"}},{"$f":"SkillConfig!#REF!","v":{"$error":"#REF!"}},{"$f":"SkillConfig!#REF!","v":{"$error":"#REF!"}},{"$f":"SkillConfig!#REF!","v":{"$error":"#REF!"}}]
[{"$f":"INT(SkillConfig!#REF!)","v":{"$error":"#REF!"}},{"$f":"SkillConfig!#REF!","v":{"$error":"#REF!"}},{"$f":"SkillConfig!#REF!","v":{"$error":"#REF!"}},{"$f":"SkillConfig!#REF!","v":{"$error":"#REF!"}}]
[{"$f":"INT(SkillConfig!#REF!)","v":{"$error":"#REF!"}},{"$f":"SkillConfig!#REF!","v":{"$error":"#REF!"}},{"$f":"SkillConfig!#REF!","v":{"$error":"#REF!"}},{"$f":"SkillConfig!#REF!","v":{"$error":"#REF!"}}]
[{"$f":"INT(SkillConfig!#REF!)","v":{"$error":"#REF!"}},{"$f":"SkillConfig!#REF!","v":{"$error":"#REF!"}},{"$f":"SkillConfig!#REF!","v":{"$error":"#REF!"}},{"$f":"SkillConfig!#REF!","v":{"$error":"#REF!"}}]
[{"$f":"INT(SkillConfig!#REF!)","v":{"$error":"#REF!"}},{"$f":"SkillConfig!#REF!","v":{"$error":"#REF!"}},{"$f":"SkillConfig!#REF!","v":{"$error":"#REF!"}},{"$f":"SkillConfig!#REF!","v":{"$error":"#REF!"}}]
[{"$f":"INT(SkillConfig!#REF!)","v":{"$error":"#REF!"}},{"$f":"SkillConfig!#REF!","v":{"$error":"#REF!"}},{"$f":"SkillConfig!#REF!","v":{"$error":"#REF!"}},{"$f":"SkillConfig!#REF!","v":{"$error":"#REF!"}}]
[{"$f":"INT(SkillConfig!#REF!)","v":{"$error":"#REF!"}},{"$f":"SkillConfig!#REF!","v":{"$error":"#REF!"}},{"$f":"SkillConfig!#REF!","v":{"$error":"#REF!"}},{"$f":"SkillConfig!#REF!","v":{"$error":"#REF!"}}]
[{"$f":"INT(SkillConfig!#REF!)","v":{"$error":"#REF!"}},{"$f":"SkillConfig!#REF!","v":{"$error":"#REF!"}},{"$f":"SkillConfig!#REF!","v":{"$error":"#REF!"}},{"$f":"SkillConfig!#REF!","v":{"$error":"#REF!"}}]
[{"$f":"INT(SkillConfig!#REF!)","v":{"$error":"#REF!"}},{"$f":"SkillConfig!#REF!","v":{"$error":"#REF!"}},{"$f":"SkillConfig!#REF!","v":{"$error":"#REF!"}},{"$f":"SkillConfig!#REF!","v":{"$error":"#REF!"}}]
[{"$f":"INT(SkillConfig!#REF!)","v":{"$error":"#REF!"}},{"$f":"SkillConfig!#REF!","v":{"$error":"#REF!"}},{"$f":"SkillConfig!#REF!","v":{"$error":"#REF!"}},{"$f":"SkillConfig!#REF!","v":{"$error":"#REF!"}}]
[{"$f":"INT(SkillConfig!#REF!)","v":{"$error":"#REF!"}},{"$f":"SkillConfig!#REF!","v":{"$error":"#REF!"}},{"$f":"SkillConfig!#REF!","v":{"$error":"#REF!"}},{"$f":"SkillConfig!#REF!","v":{"$error":"#REF!"}}]
[{"$f":"INT(SkillConfig!#REF!)","v":{"$error":"#REF!"}},{"$f":"SkillConfig!#REF!","v":{"$error":"#REF!"}},{"$f":"SkillConfig!#REF!","v":{"$error":"#REF!"}},{"$f":"SkillConfig!#REF!","v":{"$error":"#REF!"}}]
[{"$f":"INT(SkillConfig!#REF!)","v":{"$error":"#REF!"}},{"$f":"SkillConfig!#REF!","v":{"$error":"#REF!"}},{"$f":"SkillConfig!#REF!","v":{"$error":"#REF!"}},{"$f":"SkillConfig!#REF!","v":{"$error":"#REF!"}}]
[{"$f":"INT(SkillConfig!#REF!)","v":{"$error":"#REF!"}},{"$f":"SkillConfig!#REF!","v":{"$error":"#REF!"}},{"$f":"SkillConfig!#REF!","v":{"$error":"#REF!"}},{"$f":"SkillConfig!#REF!","v":{"$error":"#REF!"}}]
[{"$f":"INT(SkillConfig!#REF!)","v":{"$error":"#REF!"}},{"$f":"SkillConfig!#REF!","v":{"$error":"#REF!"}},{"$f":"SkillConfig!#REF!","v":{"$error":"#REF!"}},{"$f":"SkillConfig!#REF!","v":{"$error":"#REF!"}}]
[{"$f":"INT(SkillConfig!#REF!)","v":{"$error":"#REF!"}},{"$f":"SkillConfig!#REF!","v":{"$error":"#REF!"}},{"$f":"SkillConfig!#REF!","v":{"$error":"#REF!"}},{"$f":"SkillConfig!#REF!","v":{"$error":"#REF!"}}]
[{"$f":"INT(SkillConfig!#REF!)","v":{"$error":"#REF!"}},{"$f":"SkillConfig!#REF!","v":{"$error":"#REF!"}},{"$f":"SkillConfig!#REF!","v":{"$error":"#REF!"}},{"$f":"SkillConfig!#REF!","v":{"$error":"#REF!"}}]
[{"$f":"INT(SkillConfig!#REF!)","v":{"$error":"#REF!"}},{"$f":"SkillConfig!#REF!","v":{"$error":"#REF!"}},{"$f":"SkillConfig!#REF!","v":{"$error":"#REF!"}},{"$f":"SkillConfig!#REF!","v":{"$error":"#REF!"}}]
[{"$f":"INT(SkillConfig!#REF!)","v":{"$error":"#REF!"}},{"$f":"SkillConfig!#REF!","v":{"$error":"#REF!"}},{"$f":"SkillConfig!#REF!","v":{"$error":"#REF!"}},{"$f":"SkillConfig!#REF!","v":{"$error":"#REF!"}}]
[{"$f":"INT(SkillConfig!#REF!)","v":{"$error":"#REF!"}},{"$f":"SkillConfig!#REF!","v":{"$error":"#REF!"}},{"$f":"SkillConfig!#REF!","v":{"$error":"#REF!"}},{"$f":"SkillConfig!#REF!","v":{"$error":"#REF!"}}]
[{"$f":"INT(SkillConfig!#REF!)","v":{"$error":"#REF!"}},{"$f":"SkillConfig!#REF!","v":{"$error":"#REF!"}},{"$f":"SkillConfig!#REF!","v":{"$error":"#REF!"}},{"$f":"SkillConfig!#REF!","v":{"$error":"#REF!"}}]
[{"$f":"INT(SkillConfig!#REF!)","v":{"$error":"#REF!"}},{"$f":"SkillConfig!#REF!","v":{"$error":"#REF!"}},{"$f":"SkillConfig!#REF!","v":{"$error":"#REF!"}},{"$f":"SkillConfig!#REF!","v":{"$error":"#REF!"}}]
[{"$f":"INT(SkillConfig!#REF!)","v":{"$error":"#REF!"}},{"$f":"SkillConfig!#REF!","v":{"$error":"#REF!"}},{"$f":"SkillConfig!#REF!","v":{"$error":"#REF!"}},{"$f":"SkillConfig!#REF!","v":{"$error":"#REF!"}}]
[{"$f":"INT(SkillConfig!#REF!)","v":{"$error":"#REF!"}},{"$f":"SkillConfig!#REF!","v":{"$error":"#REF!"}},{"$f":"SkillConfig!#REF!","v":{"$error":"#REF!"}},{"$f":"SkillConfig!#REF!","v":{"$error":"#REF!"}}]
[{"$f":"INT(SkillConfig!#REF!)","v":{"$error":"#REF!"}},{"$f":"SkillConfig!#REF!","v":{"$error":"#REF!"}},{"$f":"SkillConfig!#REF!","v":{"$error":"#REF!"}},{"$f":"SkillConfig!#REF!","v":{"$error":"#REF!"}}]
[{"$f":"INT(SkillConfig!#REF!)","v":{"$error":"#REF!"}},{"$f":"SkillConfig!#REF!","v":{"$error":"#REF!"}},{"$f":"SkillConfig!#REF!","v":{"$error":"#REF!"}},{"$f":"SkillConfig!#REF!","v":{"$error":"#REF!"}}]
[{"$f":"INT(SkillConfig!#REF!)","v":{"$error":"#REF!"}},{"$f":"SkillConfig!#REF!","v":{"$error":"#REF!"}},{"$f":"SkillConfig!#REF!","v":{"$error":"#REF!"}},{"$f":"SkillConfig!#REF!","v":{"$error":"#REF!"}}]
[{"$f":"INT(SkillConfig!#REF!)","v":{"$error":"#REF!"}},{"$f":"SkillConfig!#REF!","v":{"$error":"#REF!"}},{"$f":"SkillConfig!#REF!","v":{"$error":"#REF!"}},{"$f":"SkillConfig!#REF!","v":{"$error":"#REF!"}}]
[{"$f":"INT(SkillConfig!#REF!)","v":{"$error":"#REF!"}},{"$f":"SkillConfig!#REF!","v":{"$error":"#REF!"}},{"$f":"SkillConfig!#REF!","v":{"$error":"#REF!"}},{"$f":"SkillConfig!#REF!","v":{"$error":"#REF!"}}]
[{"$f":"INT(SkillConfig!#REF!)","v":{"$error":"#REF!"}},{"$f":"SkillConfig!#REF!","v":{"$error":"#REF!"}},{"$f":"SkillConfig!#REF!","v":{"$error":"#REF!"}},{"$f":"SkillConfig!#REF!","v":{"$error":"#REF!"}}]
[{"$f":"INT(SkillConfig!#REF!)","v":{"$error":"#REF!"}},{"$f":"SkillConfig!#REF!","v":{"$error":"#REF!"}},{"$f":"SkillConfig!#REF!","v":{"$error":"#REF!"}},{"$f":"SkillConfig!#REF!","v":{"$error":"#REF!"}}]
[{"$f":"INT(SkillConfig!#REF!)","v":{"$error":"#REF!"}},{"$f":"SkillConfig!#REF!","v":{"$error":"#REF!"}},{"$f":"SkillConfig!#REF!","v":{"$error":"#REF!"}},{"$f":"SkillConfig!#REF!","v":{"$error":"#REF!"}}]
[{"$f":"INT(SkillConfig!#REF!)","v":{"$error":"#REF!"}},{"$f":"SkillConfig!#REF!","v":{"$error":"#REF!"}},{"$f":"SkillConfig!#REF!","v":{"$error":"#REF!"}},{"$f":"SkillConfig!#REF!","v":{"$error":"#REF!"}}]
[{"$f":"INT(SkillConfig!#REF!)","v":{"$error":"#REF!"}},{"$f":"SkillConfig!#REF!","v":{"$error":"#REF!"}},{"$f":"SkillConfig!#REF!","v":{"$error":"#REF!"}},{"$f":"SkillConfig!#REF!","v":{"$error":"#REF!"}}]
[{"$f":"INT(SkillConfig!#REF!)","v":{"$error":"#REF!"}},{"$f":"SkillConfig!#REF!","v":{"$error":"#REF!"}},{"$f":"SkillConfig!#REF!","v":{"$error":"#REF!"}},{"$f":"SkillConfig!#REF!","v":{"$error":"#REF!"}}]
[{"$f":"INT(SkillConfig!#REF!)","v":{"$error":"#REF!"}},{"$f":"SkillConfig!#REF!","v":{"$error":"#REF!"}},{"$f":"SkillConfig!#REF!","v":{"$error":"#REF!"}},{"$f":"SkillConfig!#REF!","v":{"$error":"#REF!"}}]
[{"$f":"INT(SkillConfig!#REF!)","v":{"$error":"#REF!"}},{"$f":"SkillConfig!#REF!","v":{"$error":"#REF!"}},{"$f":"SkillConfig!#REF!","v":{"$error":"#REF!"}},{"$f":"SkillConfig!#REF!","v":{"$error":"#REF!"}}]
[{"$f":"INT(SkillConfig!#REF!)","v":{"$error":"#REF!"}},{"$f":"SkillConfig!#REF!","v":{"$error":"#REF!"}},{"$f":"SkillConfig!#REF!","v":{"$error":"#REF!"}},{"$f":"SkillConfig!#REF!","v":{"$error":"#REF!"}}]
[{"$f":"INT(SkillConfig!#REF!)","v":{"$error":"#REF!"}},{"$f":"SkillConfig!#REF!","v":{"$error":"#REF!"}},{"$f":"SkillConfig!#REF!","v":{"$error":"#REF!"}},{"$f":"SkillConfig!#REF!","v":{"$error":"#REF!"}}]
[{"$f":"INT(SkillConfig!#REF!)","v":{"$error":"#REF!"}},{"$f":"SkillConfig!#REF!","v":{"$error":"#REF!"}},{"$f":"SkillConfig!#REF!","v":{"$error":"#REF!"}},{"$f":"SkillConfig!#REF!","v":{"$error":"#REF!"}}]
[{"$f":"INT(SkillConfig!#REF!)","v":{"$error":"#REF!"}},{"$f":"SkillConfig!#REF!","v":{"$error":"#REF!"}},{"$f":"SkillConfig!#REF!","v":{"$error":"#REF!"}},{"$f":"SkillConfig!#REF!","v":{"$error":"#REF!"}}]
[{"$f":"INT(SkillConfig!#REF!)","v":{"$error":"#REF!"}},{"$f":"SkillConfig!#REF!","v":{"$error":"#REF!"}},{"$f":"SkillConfig!#REF!","v":{"$error":"#REF!"}},{"$f":"SkillConfig!#REF!","v":{"$error":"#REF!"}}]
[{"$f":"INT(SkillConfig!#REF!)","v":{"$error":"#REF!"}},{"$f":"SkillConfig!#REF!","v":{"$error":"#REF!"}},{"$f":"SkillConfig!#REF!","v":{"$error":"#REF!"}},{"$f":"SkillConfig!#REF!","v":{"$error":"#REF!"}}]
[{"$f":"INT(SkillConfig!#REF!)","v":{"$error":"#REF!"}},{"$f":"SkillConfig!#REF!","v":{"$error":"#REF!"}},{"$f":"SkillConfig!#REF!","v":{"$error":"#REF!"}},{"$f":"SkillConfig!#REF!","v":{"$error":"#REF!"}}]
[{"$f":"INT(SkillConfig!#REF!)","v":{"$error":"#REF!"}},{"$f":"SkillConfig!#REF!","v":{"$error":"#REF!"}},{"$f":"SkillConfig!#REF!","v":{"$error":"#REF!"}},{"$f":"SkillConfig!#REF!","v":{"$error":"#REF!"}}]
[{"$f":"INT(SkillConfig!#REF!)","v":{"$error":"#REF!"}},{"$f":"SkillConfig!#REF!","v":{"$error":"#REF!"}},{"$f":"SkillConfig!#REF!","v":{"$error":"#REF!"}},{"$f":"SkillConfig!#REF!","v":{"$error":"#REF!"}}]
[{"$f":"INT(SkillConfig!#REF!)","v":{"$error":"#REF!"}},{"$f":"SkillConfig!#REF!","v":{"$error":"#REF!"}},{"$f":"SkillConfig!#REF!","v":{"$error":"#REF!"}},{"$f":"SkillConfig!#REF!","v":{"$error":"#REF!"}}]
[{"$f":"INT(SkillConfig!#REF!)","v":{"$error":"#REF!"}},{"$f":"SkillConfig!#REF!","v":{"$error":"#REF!"}},{"$f":"SkillConfig!#REF!","v":{"$error":"#REF!"}},{"$f":"SkillConfig!#REF!","v":{"$error":"#REF!"}}]
[{"$f":"INT(SkillConfig!#REF!)","v":{"$error":"#REF!"}},{"$f":"SkillConfig!#REF!","v":{"$error":"#REF!"}},{"$f":"SkillConfig!#REF!","v":{"$error":"#REF!"}},{"$f":"SkillConfig!#REF!","v":{"$error":"#REF!"}}]
[{"$f":"INT(SkillConfig!#REF!)","v":{"$error":"#REF!"}},{"$f":"SkillConfig!#REF!","v":{"$error":"#REF!"}},{"$f":"SkillConfig!#REF!","v":{"$error":"#REF!"}},{"$f":"SkillConfig!#REF!","v":{"$error":"#REF!"}}]
[{"$f":"INT(SkillConfig!#REF!)","v":{"$error":"#REF!"}},{"$f":"SkillConfig!#REF!","v":{"$error":"#REF!"}},{"$f":"SkillConfig!#REF!","v":{"$error":"#REF!"}},{"$f":"SkillConfig!#REF!","v":{"$error":"#REF!"}}]
[{"$f":"INT(SkillConfig!#REF!)","v":{"$error":"#REF!"}},{"$f":"SkillConfig!#REF!","v":{"$error":"#REF!"}},{"$f":"SkillConfig!#REF!","v":{"$error":"#REF!"}},{"$f":"SkillConfig!#REF!","v":{"$error":"#REF!"}}]
[{"$f":"INT(SkillConfig!#REF!)","v":{"$error":"#REF!"}},{"$f":"SkillConfig!#REF!","v":{"$error":"#REF!"}},{"$f":"SkillConfig!#REF!","v":{"$error":"#REF!"}},{"$f":"SkillConfig!#REF!","v":{"$error":"#REF!"}}]
[{"$f":"INT(SkillConfig!#REF!)","v":{"$error":"#REF!"}},{"$f":"SkillConfig!#REF!","v":{"$error":"#REF!"}},{"$f":"SkillConfig!#REF!","v":{"$error":"#REF!"}},{"$f":"SkillConfig!#REF!","v":{"$error":"#REF!"}}]
[{"$f":"INT(SkillConfig!#REF!)","v":{"$error":"#REF!"}},{"$f":"SkillConfig!#REF!","v":{"$error":"#REF!"}},{"$f":"SkillConfig!#REF!","v":{"$error":"#REF!"}},{"$f":"SkillConfig!#REF!","v":{"$error":"#REF!"}}]
[{"$f":"INT(SkillConfig!#REF!)","v":{"$error":"#REF!"}},{"$f":"SkillConfig!#REF!","v":{"$error":"#REF!"}},{"$f":"SkillConfig!#REF!","v":{"$error":"#REF!"}},{"$f":"SkillConfig!#REF!","v":{"$error":"#REF!"}}]
[{"$f":"INT(SkillConfig!#REF!)","v":{"$error":"#REF!"}},{"$f":"SkillConfig!#REF!","v":{"$error":"#REF!"}},{"$f":"SkillConfig!#REF!","v":{"$error":"#REF!"}},{"$f":"SkillConfig!#REF!","v":{"$error":"#REF!"}}]
[{"$f":"INT(SkillConfig!#REF!)","v":{"$error":"#REF!"}},{"$f":"SkillConfig!#REF!","v":{"$error":"#REF!"}},{"$f":"SkillConfig!#REF!","v":{"$error":"#REF!"}},{"$f":"SkillConfig!#REF!","v":{"$error":"#REF!"}}]
[{"$f":"INT(SkillConfig!#REF!)","v":{"$error":"#REF!"}},{"$f":"SkillConfig!#REF!","v":{"$error":"#REF!"}},{"$f":"SkillConfig!#REF!","v":{"$error":"#REF!"}},{"$f":"SkillConfig!#REF!","v":{"$error":"#REF!"}}]
[{"$f":"INT(SkillConfig!#REF!)","v":{"$error":"#REF!"}},{"$f":"SkillConfig!#REF!","v":{"$error":"#REF!"}},{"$f":"SkillConfig!#REF!","v":{"$error":"#REF!"}},{"$f":"SkillConfig!#REF!","v":{"$error":"#REF!"}}]
[{"$f":"INT(SkillConfig!#REF!)","v":{"$error":"#REF!"}},{"$f":"SkillConfig!#REF!","v":{"$error":"#REF!"}},{"$f":"SkillConfig!#REF!","v":{"$error":"#REF!"}},{"$f":"SkillConfig!#REF!","v":{"$error":"#REF!"}}]
[{"$f":"INT(SkillConfig!#REF!)","v":{"$error":"#REF!"}},{"$f":"SkillConfig!#REF!","v":{"$error":"#REF!"}},{"$f":"SkillConfig!#REF!","v":{"$error":"#REF!"}},{"$f":"SkillConfig!#REF!","v":{"$error":"#REF!"}}]
[{"$f":"INT(SkillConfig!#REF!)","v":{"$error":"#REF!"}},{"$f":"SkillConfig!#REF!","v":{"$error":"#REF!"}},{"$f":"SkillConfig!#REF!","v":{"$error":"#REF!"}},{"$f":"SkillConfig!#REF!","v":{"$error":"#REF!"}}]
[{"$f":"INT(SkillConfig!#REF!)","v":{"$error":"#REF!"}},{"$f":"SkillConfig!#REF!","v":{"$error":"#REF!"}},{"$f":"SkillConfig!#REF!","v":{"$error":"#REF!"}},{"$f":"SkillConfig!#REF!","v":{"$error":"#REF!"}}]
[{"$f":"INT(SkillConfig!#REF!)","v":{"$error":"#REF!"}},{"$f":"SkillConfig!#REF!","v":{"$error":"#REF!"}},{"$f":"SkillConfig!#REF!","v":{"$error":"#REF!"}},{"$f":"SkillConfig!#REF!","v":{"$error":"#REF!"}}]
[{"$f":"INT(SkillConfig!#REF!)","v":{"$error":"#REF!"}},{"$f":"SkillConfig!#REF!","v":{"$error":"#REF!"}},{"$f":"SkillConfig!#REF!","v":{"$error":"#REF!"}},{"$f":"SkillConfig!#REF!","v":{"$error":"#REF!"}}]
[{"$f":"INT(SkillConfig!#REF!)","v":{"$error":"#REF!"}},{"$f":"SkillConfig!#REF!","v":{"$error":"#REF!"}},{"$f":"SkillConfig!#REF!","v":{"$error":"#REF!"}},{"$f":"SkillConfig!#REF!","v":{"$error":"#REF!"}}]
[{"$f":"INT(SkillConfig!#REF!)","v":{"$error":"#REF!"}},{"$f":"SkillConfig!#REF!","v":{"$error":"#REF!"}},{"$f":"SkillConfig!#REF!","v":{"$error":"#REF!"}},{"$f":"SkillConfig!#REF!","v":{"$error":"#REF!"}}]
[{"$f":"INT(SkillConfig!#REF!)","v":{"$error":"#REF!"}},{"$f":"SkillConfig!#REF!","v":{"$error":"#REF!"}},{"$f":"SkillConfig!#REF!","v":{"$error":"#REF!"}},{"$f":"SkillConfig!#REF!","v":{"$error":"#REF!"}}]
[{"$f":"INT(SkillConfig!#REF!)","v":{"$error":"#REF!"}},{"$f":"SkillConfig!#REF!","v":{"$error":"#REF!"}},{"$f":"SkillConfig!#REF!","v":{"$error":"#REF!"}},{"$f":"SkillConfig!#REF!","v":{"$error":"#REF!"}}]
[{"$f":"INT(SkillConfig!#REF!)","v":{"$error":"#REF!"}},{"$f":"SkillConfig!#REF!","v":{"$error":"#REF!"}},{"$f":"SkillConfig!#REF!","v":{"$error":"#REF!"}},{"$f":"SkillConfig!#REF!","v":{"$error":"#REF!"}}]
[{"$f":"INT(SkillConfig!#REF!)","v":{"$error":"#REF!"}},{"$f":"SkillConfig!#REF!","v":{"$error":"#REF!"}},{"$f":"SkillConfig!#REF!","v":{"$error":"#REF!"}},{"$f":"SkillConfig!#REF!","v":{"$error":"#REF!"}}]
[{"$f":"INT(SkillConfig!#REF!)","v":{"$error":"#REF!"}},{"$f":"SkillConfig!#REF!","v":{"$error":"#REF!"}},{"$f":"SkillConfig!#REF!","v":{"$error":"#REF!"}},{"$f":"SkillConfig!#REF!","v":{"$error":"#REF!"}}]
[{"$f":"INT(SkillConfig!#REF!)","v":{"$error":"#REF!"}},{"$f":"SkillConfig!#REF!","v":{"$error":"#REF!"}},{"$f":"SkillConfig!#REF!","v":{"$error":"#REF!"}},{"$f":"SkillConfig!#REF!","v":{"$error":"#REF!"}}]
[{"$f":"INT(SkillConfig!#REF!)","v":{"$error":"#REF!"}},{"$f":"SkillConfig!#REF!","v":{"$error":"#REF!"}},{"$f":"SkillConfig!#REF!","v":{"$error":"#REF!"}},{"$f":"SkillConfig!#REF!","v":{"$error":"#REF!"}}]
[{"$f":"INT(SkillConfig!#REF!)","v":{"$error":"#REF!"}},{"$f":"SkillConfig!#REF!","v":{"$error":"#REF!"}},{"$f":"SkillConfig!#REF!","v":{"$error":"#REF!"}},{"$f":"SkillConfig!#REF!","v":{"$error":"#REF!"}}]
[{"$f":"INT(SkillConfig!#REF!)","v":{"$error":"#REF!"}},{"$f":"SkillConfig!#REF!","v":{"$error":"#REF!"}},{"$f":"SkillConfig!#REF!","v":{"$error":"#REF!"}},{"$f":"SkillConfig!#REF!","v":{"$error":"#REF!"}}]
[{"$f":"INT(SkillConfig!#REF!)","v":{"$error":"#REF!"}},{"$f":"SkillConfig!#REF!","v":{"$error":"#REF!"}},{"$f":"SkillConfig!#REF!","v":{"$error":"#REF!"}},{"$f":"SkillConfig!#REF!","v":{"$error":"#REF!"}}]
[{"$f":"INT(SkillConfig!#REF!)","v":{"$error":"#REF!"}},{"$f":"SkillConfig!#REF!","v":{"$error":"#REF!"}},{"$f":"SkillConfig!#REF!","v":{"$error":"#REF!"}},{"$f":"SkillConfig!#REF!","v":{"$error":"#REF!"}}]
[{"$f":"INT(SkillConfig!#REF!)","v":{"$error":"#REF!"}},{"$f":"SkillConfig!#REF!","v":{"$error":"#REF!"}},{"$f":"SkillConfig!#REF!","v":{"$error":"#REF!"}},{"$f":"SkillConfig!#REF!","v":{"$error":"#REF!"}}]
[{"$f":"INT(SkillConfig!#REF!)","v":{"$error":"#REF!"}},{"$f":"SkillConfig!#REF!","v":{"$error":"#REF!"}},{"$f":"SkillConfig!#REF!","v":{"$error":"#REF!"}},{"$f":"SkillConfig!#REF!","v":{"$error":"#REF!"}}]
[{"$f":"INT(SkillConfig!#REF!)","v":{"$error":"#REF!"}},{"$f":"SkillConfig!#REF!","v":{"$error":"#REF!"}},{"$f":"SkillConfig!#REF!","v":{"$error":"#REF!"}},{"$f":"SkillConfig!#REF!","v":{"$error":"#REF!"}}]
[{"$f":"INT(SkillConfig!#REF!)","v":{"$error":"#REF!"}},{"$f":"SkillConfig!#REF!","v":{"$error":"#REF!"}},{"$f":"SkillConfig!#REF!","v":{"$error":"#REF!"}},{"$f":"SkillConfig!#REF!","v":{"$error":"#REF!"}}]
[{"$f":"INT(SkillConfig!#REF!)","v":{"$error":"#REF!"}},{"$f":"SkillConfig!#REF!","v":{"$error":"#REF!"}},{"$f":"SkillConfig!#REF!","v":{"$error":"#REF!"}},{"$f":"SkillConfig!#REF!","v":{"$error":"#REF!"}}]
[{"$f":"INT(SkillConfig!#REF!)","v":{"$error":"#REF!"}},{"$f":"SkillConfig!#REF!","v":{"$error":"#REF!"}},{"$f":"SkillConfig!#REF!","v":{"$error":"#REF!"}},{"$f":"SkillConfig!#REF!","v":{"$error":"#REF!"}}]
[{"$f":"INT(SkillConfig!#REF!)","v":{"$error":"#REF!"}},{"$f":"SkillConfig!#REF!","v":{"$error":"#REF!"}},{"$f":"SkillConfig!#REF!","v":{"$error":"#REF!"}},{"$f":"SkillConfig!#REF!","v":{"$error":"#REF!"}}]
[{"$f":"INT(SkillConfig!#REF!)","v":{"$error":"#REF!"}},{"$f":"SkillConfig!#REF!","v":{"$error":"#REF!"}},{"$f":"SkillConfig!#REF!","v":{"$error":"#REF!"}},{"$f":"SkillConfig!#REF!","v":{"$error":"#REF!"}}]
[{"$f":"INT(SkillConfig!#REF!)","v":{"$error":"#REF!"}},{"$f":"SkillConfig!#REF!","v":{"$error":"#REF!"}},{"$f":"SkillConfig!#REF!","v":{"$error":"#REF!"}},{"$f":"SkillConfig!#REF!","v":{"$error":"#REF!"}}]
[{"$f":"INT(SkillConfig!#REF!)","v":{"$error":"#REF!"}},{"$f":"SkillConfig!#REF!","v":{"$error":"#REF!"}},{"$f":"SkillConfig!#REF!","v":{"$error":"#REF!"}},{"$f":"SkillConfig!#REF!","v":{"$error":"#REF!"}}]
[{"$f":"INT(SkillConfig!#REF!)","v":{"$error":"#REF!"}},{"$f":"SkillConfig!#REF!","v":{"$error":"#REF!"}},{"$f":"SkillConfig!#REF!","v":{"$error":"#REF!"}},{"$f":"SkillConfig!#REF!","v":{"$error":"#REF!"}}]
[{"$f":"INT(SkillConfig!#REF!)","v":{"$error":"#REF!"}},{"$f":"SkillConfig!#REF!","v":{"$error":"#REF!"}},{"$f":"SkillConfig!#REF!","v":{"$error":"#REF!"}},{"$f":"SkillConfig!#REF!","v":{"$error":"#REF!"}}]
[{"$f":"INT(SkillConfig!#REF!)","v":{"$error":"#REF!"}},{"$f":"SkillConfig!#REF!","v":{"$error":"#REF!"}},{"$f":"SkillConfig!#REF!","v":{"$error":"#REF!"}},{"$f":"SkillConfig!#REF!","v":{"$error":"#REF!"}}]
[{"$f":"INT(SkillConfig!#REF!)","v":{"$error":"#REF!"}},{"$f":"SkillConfig!#REF!","v":{"$error":"#REF!"}},{"$f":"SkillConfig!#REF!","v":{"$error":"#REF!"}},{"$f":"SkillConfig!#REF!","v":{"$error":"#REF!"}}]
[{"$f":"INT(SkillConfig!#REF!)","v":{"$error":"#REF!"}},{"$f":"SkillConfig!#REF!","v":{"$error":"#REF!"}},{"$f":"SkillConfig!#REF!","v":{"$error":"#REF!"}},{"$f":"SkillConfig!#REF!","v":{"$error":"#REF!"}}]
[{"$f":"INT(SkillConfig!#REF!)","v":{"$error":"#REF!"}},{"$f":"SkillConfig!#REF!","v":{"$error":"#REF!"}},{"$f":"SkillConfig!#REF!","v":{"$error":"#REF!"}},{"$f":"SkillConfig!#REF!","v":{"$error":"#REF!"}}]
[{"$f":"INT(SkillConfig!#REF!)","v":{"$error":"#REF!"}},{"$f":"SkillConfig!#REF!","v":{"$error":"#REF!"}},{"$f":"SkillConfig!#REF!","v":{"$error":"#REF!"}},{"$f":"SkillConfig!#REF!","v":{"$error":"#REF!"}}]
[{"$f":"INT(SkillConfig!#REF!)","v":{"$error":"#REF!"}},{"$f":"SkillConfig!#REF!","v":{"$error":"#REF!"}},{"$f":"SkillConfig!#REF!","v":{"$error":"#REF!"}},{"$f":"SkillConfig!#REF!","v":{"$error":"#REF!"}}]
[{"$f":"INT(SkillConfig!#REF!)","v":{"$error":"#REF!"}},{"$f":"SkillConfig!#REF!","v":{"$error":"#REF!"}},{"$f":"SkillConfig!#REF!","v":{"$error":"#REF!"}},{"$f":"SkillConfig!#REF!","v":{"$error":"#REF!"}}]
[{"$f":"INT(SkillConfig!#REF!)","v":{"$error":"#REF!"}},{"$f":"SkillConfig!#REF!","v":{"$error":"#REF!"}},{"$f":"SkillConfig!#REF!","v":{"$error":"#REF!"}},{"$f":"SkillConfig!#REF!","v":{"$error":"#REF!"}}]
[{"$f":"INT(SkillConfig!#REF!)","v":{"$error":"#REF!"}},{"$f":"SkillConfig!#REF!","v":{"$error":"#REF!"}},{"$f":"SkillConfig!#REF!","v":{"$error":"#REF!"}},{"$f":"SkillConfig!#REF!","v":{"$error":"#REF!"}}]
[{"$f":"INT(SkillConfig!#REF!)","v":{"$error":"#REF!"}},{"$f":"SkillConfig!#REF!","v":{"$error":"#REF!"}},{"$f":"SkillConfig!#REF!","v":{"$error":"#REF!"}},{"$f":"SkillConfig!#REF!","v":{"$error":"#REF!"}}]
[{"$f":"INT(SkillConfig!#REF!)","v":{"$error":"#REF!"}},{"$f":"SkillConfig!#REF!","v":{"$error":"#REF!"}},{"$f":"SkillConfig!#REF!","v":{"$error":"#REF!"}},{"$f":"SkillConfig!#REF!","v":{"$error":"#REF!"}}]
[{"$f":"INT(SkillConfig!#REF!)","v":{"$error":"#REF!"}},{"$f":"SkillConfig!#REF!","v":{"$error":"#REF!"}},{"$f":"SkillConfig!#REF!","v":{"$error":"#REF!"}},{"$f":"SkillConfig!#REF!","v":{"$error":"#REF!"}}]
[{"$f":"INT(SkillConfig!#REF!)","v":{"$error":"#REF!"}},{"$f":"SkillConfig!#REF!","v":{"$error":"#REF!"}},{"$f":"SkillConfig!#REF!","v":{"$error":"#REF!"}},{"$f":"SkillConfig!#REF!","v":{"$error":"#REF!"}}]
[{"$f":"INT(SkillConfig!#REF!)","v":{"$error":"#REF!"}},{"$f":"SkillConfig!#REF!","v":{"$error":"#REF!"}},{"$f":"SkillConfig!#REF!","v":{"$error":"#REF!"}},{"$f":"SkillConfig!#REF!","v":{"$error":"#REF!"}}]
[{"$f":"INT(SkillConfig!#REF!)","v":{"$error":"#REF!"}},{"$f":"SkillConfig!#REF!","v":{"$error":"#REF!"}},{"$f":"SkillConfig!#REF!","v":{"$error":"#REF!"}},{"$f":"SkillConfig!#REF!","v":{"$error":"#REF!"}}]
[{"$f":"INT(SkillConfig!#REF!)","v":{"$error":"#REF!"}},{"$f":"SkillConfig!#REF!","v":{"$error":"#REF!"}},{"$f":"SkillConfig!#REF!","v":{"$error":"#REF!"}},{"$f":"SkillConfig!#REF!","v":{"$error":"#REF!"}}]
[{"$f":"INT(SkillConfig!#REF!)","v":{"$error":"#REF!"}},{"$f":"SkillConfig!#REF!","v":{"$error":"#REF!"}},{"$f":"SkillConfig!#REF!","v":{"$error":"#REF!"}},{"$f":"SkillConfig!#REF!","v":{"$error":"#REF!"}}]
[{"$f":"INT(SkillConfig!#REF!)","v":{"$error":"#REF!"}},{"$f":"SkillConfig!#REF!","v":{"$error":"#REF!"}},{"$f":"SkillConfig!#REF!","v":{"$error":"#REF!"}},{"$f":"SkillConfig!#REF!","v":{"$error":"#REF!"}}]
[{"$f":"INT(SkillConfig!#REF!)","v":{"$error":"#REF!"}},{"$f":"SkillConfig!#REF!","v":{"$error":"#REF!"}},{"$f":"SkillConfig!#REF!","v":{"$error":"#REF!"}},{"$f":"SkillConfig!#REF!","v":{"$error":"#REF!"}}]
[{"$f":"INT(SkillConfig!#REF!)","v":{"$error":"#REF!"}},{"$f":"SkillConfig!#REF!","v":{"$error":"#REF!"}},{"$f":"SkillConfig!#REF!","v":{"$error":"#REF!"}},{"$f":"SkillConfig!#REF!","v":{"$error":"#REF!"}}]
[{"$f":"INT(SkillConfig!#REF!)","v":{"$error":"#REF!"}},{"$f":"SkillConfig!#REF!","v":{"$error":"#REF!"}},{"$f":"SkillConfig!#REF!","v":{"$error":"#REF!"}},{"$f":"SkillConfig!#REF!","v":{"$error":"#REF!"}}]
[{"$f":"INT(SkillConfig!#REF!)","v":{"$error":"#REF!"}},{"$f":"SkillConfig!#REF!","v":{"$error":"#REF!"}},{"$f":"SkillConfig!#REF!","v":{"$error":"#REF!"}},{"$f":"SkillConfig!#REF!","v":{"$error":"#REF!"}}]
[{"$f":"INT(SkillConfig!#REF!)","v":{"$error":"#REF!"}},{"$f":"SkillConfig!#REF!","v":{"$error":"#REF!"}},{"$f":"SkillConfig!#REF!","v":{"$error":"#REF!"}},{"$f":"SkillConfig!#REF!","v":{"$error":"#REF!"}}]
[{"$f":"INT(SkillConfig!#REF!)","v":{"$error":"#REF!"}},{"$f":"SkillConfig!#REF!","v":{"$error":"#REF!"}},{"$f":"SkillConfig!#REF!","v":{"$error":"#REF!"}},{"$f":"SkillConfig!#REF!","v":{"$error":"#REF!"}}]
[{"$f":"INT(SkillConfig!#REF!)","v":{"$error":"#REF!"}},{"$f":"SkillConfig!#REF!","v":{"$error":"#REF!"}},{"$f":"SkillConfig!#REF!","v":{"$error":"#REF!"}},{"$f":"SkillConfig!#REF!","v":{"$error":"#REF!"}}]
[{"$f":"INT(SkillConfig!#REF!)","v":{"$error":"#REF!"}},{"$f":"SkillConfig!#REF!","v":{"$error":"#REF!"}},{"$f":"SkillConfig!#REF!","v":{"$error":"#REF!"}},{"$f":"SkillConfig!#REF!","v":{"$error":"#REF!"}}]
[{"$f":"INT(SkillConfig!#REF!)","v":{"$error":"#REF!"}},{"$f":"SkillConfig!#REF!","v":{"$error":"#REF!"}},{"$f":"SkillConfig!#REF!","v":{"$error":"#REF!"}},{"$f":"SkillConfig!#REF!","v":{"$error":"#REF!"}}]
[{"$f":"INT(SkillConfig!#REF!)","v":{"$error":"#REF!"}},{"$f":"SkillConfig!#REF!","v":{"$error":"#REF!"}},{"$f":"SkillConfig!#REF!","v":{"$error":"#REF!"}},{"$f":"SkillConfig!#REF!","v":{"$error":"#REF!"}}]
[{"$f":"INT(SkillConfig!#REF!)","v":{"$error":"#REF!"}},{"$f":"SkillConfig!#REF!","v":{"$error":"#REF!"}},{"$f":"SkillConfig!#REF!","v":{"$error":"#REF!"}},{"$f":"SkillConfig!#REF!","v":{"$error":"#REF!"}}]
[{"$f":"INT(SkillConfig!#REF!)","v":{"$error":"#REF!"}},{"$f":"SkillConfig!#REF!","v":{"$error":"#REF!"}},{"$f":"SkillConfig!#REF!","v":{"$error":"#REF!"}},{"$f":"SkillConfig!#REF!","v":{"$error":"#REF!"}}]
[{"$f":"INT(SkillConfig!#REF!)","v":{"$error":"#REF!"}},{"$f":"SkillConfig!#REF!","v":{"$error":"#REF!"}},{"$f":"SkillConfig!#REF!","v":{"$error":"#REF!"}},{"$f":"SkillConfig!#REF!","v":{"$error":"#REF!"}}]
[{"$f":"INT(SkillConfig!#REF!)","v":{"$error":"#REF!"}},{"$f":"SkillConfig!#REF!","v":{"$error":"#REF!"}},{"$f":"SkillConfig!#REF!","v":{"$error":"#REF!"}},{"$f":"SkillConfig!#REF!","v":{"$error":"#REF!"}}]
[{"$f":"INT(SkillConfig!#REF!)","v":{"$error":"#REF!"}},{"$f":"SkillConfig!#REF!","v":{"$error":"#REF!"}},{"$f":"SkillConfig!#REF!","v":{"$error":"#REF!"}},{"$f":"SkillConfig!#REF!","v":{"$error":"#REF!"}}]
[{"$f":"INT(SkillConfig!#REF!)","v":{"$error":"#REF!"}},{"$f":"SkillConfig!#REF!","v":{"$error":"#REF!"}},{"$f":"SkillConfig!#REF!","v":{"$error":"#REF!"}},{"$f":"SkillConfig!#REF!","v":{"$error":"#REF!"}}]
[{"$f":"INT(SkillConfig!#REF!)","v":{"$error":"#REF!"}},{"$f":"SkillConfig!#REF!","v":{"$error":"#REF!"}},{"$f":"SkillConfig!#REF!","v":{"$error":"#REF!"}},{"$f":"SkillConfig!#REF!","v":{"$error":"#REF!"}}]
[{"$f":"INT(SkillConfig!#REF!)","v":{"$error":"#REF!"}},{"$f":"SkillConfig!#REF!","v":{"$error":"#REF!"}},{"$f":"SkillConfig!#REF!","v":{"$error":"#REF!"}},{"$f":"SkillConfig!#REF!","v":{"$error":"#REF!"}}]
[{"$f":"INT(SkillConfig!#REF!)","v":{"$error":"#REF!"}},{"$f":"SkillConfig!#REF!","v":{"$error":"#REF!"}},{"$f":"SkillConfig!#REF!","v":{"$error":"#REF!"}},{"$f":"SkillConfig!#REF!","v":{"$error":"#REF!"}}]
[{"$f":"INT(SkillConfig!#REF!)","v":{"$error":"#REF!"}},{"$f":"SkillConfig!#REF!","v":{"$error":"#REF!"}},{"$f":"SkillConfig!#REF!","v":{"$error":"#REF!"}},{"$f":"SkillConfig!#REF!","v":{"$error":"#REF!"}}]
[{"$f":"INT(SkillConfig!#REF!)","v":{"$error":"#REF!"}},{"$f":"SkillConfig!#REF!","v":{"$error":"#REF!"}},{"$f":"SkillConfig!#REF!","v":{"$error":"#REF!"}},{"$f":"SkillConfig!#REF!","v":{"$error":"#REF!"}}]
[{"$f":"INT(SkillConfig!#REF!)","v":{"$error":"#REF!"}},{"$f":"SkillConfig!#REF!","v":{"$error":"#REF!"}},{"$f":"SkillConfig!#REF!","v":{"$error":"#REF!"}},{"$f":"SkillConfig!#REF!","v":{"$error":"#REF!"}}]
[{"$f":"INT(SkillConfig!#REF!)","v":{"$error":"#REF!"}},{"$f":"SkillConfig!#REF!","v":{"$error":"#REF!"}},{"$f":"SkillConfig!#REF!","v":{"$error":"#REF!"}},{"$f":"SkillConfig!#REF!","v":{"$error":"#REF!"}}]
[{"$f":"INT(SkillConfig!#REF!)","v":{"$error":"#REF!"}},{"$f":"SkillConfig!#REF!","v":{"$error":"#REF!"}},{"$f":"SkillConfig!#REF!","v":{"$error":"#REF!"}},{"$f":"SkillConfig!#REF!","v":{"$error":"#REF!"}}]
[{"$f":"INT(SkillConfig!#REF!)","v":{"$error":"#REF!"}},{"$f":"SkillConfig!#REF!","v":{"$error":"#REF!"}},{"$f":"SkillConfig!#REF!","v":{"$error":"#REF!"}},{"$f":"SkillConfig!#REF!","v":{"$error":"#REF!"}}]
[{"$f":"INT(SkillConfig!#REF!)","v":{"$error":"#REF!"}},{"$f":"SkillConfig!#REF!","v":{"$error":"#REF!"}},{"$f":"SkillConfig!#REF!","v":{"$error":"#REF!"}},{"$f":"SkillConfig!#REF!","v":{"$error":"#REF!"}}]
[{"$f":"INT(SkillConfig!#REF!)","v":{"$error":"#REF!"}},{"$f":"SkillConfig!#REF!","v":{"$error":"#REF!"}},{"$f":"SkillConfig!#REF!","v":{"$error":"#REF!"}},{"$f":"SkillConfig!#REF!","v":{"$error":"#REF!"}}]
[{"$f":"INT(SkillConfig!#REF!)","v":{"$error":"#REF!"}},{"$f":"SkillConfig!#REF!","v":{"$error":"#REF!"}},{"$f":"SkillConfig!#REF!","v":{"$error":"#REF!"}},{"$f":"SkillConfig!#REF!","v":{"$error":"#REF!"}}]
[{"$f":"INT(SkillConfig!#REF!)","v":{"$error":"#REF!"}},{"$f":"SkillConfig!#REF!","v":{"$error":"#REF!"}},{"$f":"SkillConfig!#REF!","v":{"$error":"#REF!"}},{"$f":"SkillConfig!#REF!","v":{"$error":"#REF!"}}]
[{"$f":"INT(SkillConfig!#REF!)","v":{"$error":"#REF!"}},{"$f":"SkillConfig!#REF!","v":{"$error":"#REF!"}},{"$f":"SkillConfig!#REF!","v":{"$error":"#REF!"}},{"$f":"SkillConfig!#REF!","v":{"$error":"#REF!"}}]
[{"$f":"INT(SkillConfig!#REF!)","v":{"$error":"#REF!"}},{"$f":"SkillConfig!#REF!","v":{"$error":"#REF!"}},{"$f":"SkillConfig!#REF!","v":{"$error":"#REF!"}},{"$f":"SkillConfig!#REF!","v":{"$error":"#REF!"}}]
[{"$f":"INT(SkillConfig!#REF!)","v":{"$error":"#REF!"}},{"$f":"SkillConfig!#REF!","v":{"$error":"#REF!"}},{"$f":"SkillConfig!#REF!","v":{"$error":"#REF!"}},{"$f":"SkillConfig!#REF!","v":{"$error":"#REF!"}}]
[{"$f":"INT(SkillConfig!#REF!)","v":{"$error":"#REF!"}},{"$f":"SkillConfig!#REF!","v":{"$error":"#REF!"}},{"$f":"SkillConfig!#REF!","v":{"$error":"#REF!"}},{"$f":"SkillConfig!#REF!","v":{"$error":"#REF!"}}]
[{"$f":"INT(SkillConfig!#REF!)","v":{"$error":"#REF!"}},{"$f":"SkillConfig!#REF!","v":{"$error":"#REF!"}},{"$f":"SkillConfig!#REF!","v":{"$error":"#REF!"}},{"$f":"SkillConfig!#REF!","v":{"$error":"#REF!"}}]
[{"$f":"INT(SkillConfig!#REF!)","v":{"$error":"#REF!"}},{"$f":"SkillConfig!#REF!","v":{"$error":"#REF!"}},{"$f":"SkillConfig!#REF!","v":{"$error":"#REF!"}},{"$f":"SkillConfig!#REF!","v":{"$error":"#REF!"}}]
[{"$f":"INT(SkillConfig!#REF!)","v":{"$error":"#REF!"}},{"$f":"SkillConfig!#REF!","v":{"$error":"#REF!"}},{"$f":"SkillConfig!#REF!","v":{"$error":"#REF!"}},{"$f":"SkillConfig!#REF!","v":{"$error":"#REF!"}}]
[{"$f":"INT(SkillConfig!#REF!)","v":{"$error":"#REF!"}},{"$f":"SkillConfig!#REF!","v":{"$error":"#REF!"}},{"$f":"SkillConfig!#REF!","v":{"$error":"#REF!"}},{"$f":"SkillConfig!#REF!","v":{"$error":"#REF!"}}]
[{"$f":"INT(SkillConfig!#REF!)","v":{"$error":"#REF!"}},{"$f":"SkillConfig!#REF!","v":{"$error":"#REF!"}},{"$f":"SkillConfig!#REF!","v":{"$error":"#REF!"}},{"$f":"SkillConfig!#REF!","v":{"$error":"#REF!"}}]
[{"$f":"INT(SkillConfig!#REF!)","v":{"$error":"#REF!"}},{"$f":"SkillConfig!#REF!","v":{"$error":"#REF!"}},{"$f":"SkillConfig!#REF!","v":{"$error":"#REF!"}},{"$f":"SkillConfig!#REF!","v":{"$error":"#REF!"}}]
[{"$f":"INT(SkillConfig!#REF!)","v":{"$error":"#REF!"}},{"$f":"SkillConfig!#REF!","v":{"$error":"#REF!"}},{"$f":"SkillConfig!#REF!","v":{"$error":"#REF!"}},{"$f":"SkillConfig!#REF!","v":{"$error":"#REF!"}}]
[{"$f":"INT(SkillConfig!#REF!)","v":{"$error":"#REF!"}},{"$f":"SkillConfig!#REF!","v":{"$error":"#REF!"}},{"$f":"SkillConfig!#REF!","v":{"$error":"#REF!"}},{"$f":"SkillConfig!#REF!","v":{"$error":"#REF!"}}]
[{"$f":"INT(SkillConfig!#REF!)","v":{"$error":"#REF!"}},{"$f":"SkillConfig!#REF!","v":{"$error":"#REF!"}},{"$f":"SkillConfig!#REF!","v":{"$error":"#REF!"}},{"$f":"SkillConfig!#REF!","v":{"$error":"#REF!"}}]
[{"$f":"INT(SkillConfig!#REF!)","v":{"$error":"#REF!"}},{"$f":"SkillConfig!#REF!","v":{"$error":"#REF!"}},{"$f":"SkillConfig!#REF!","v":{"$error":"#REF!"}},{"$f":"SkillConfig!#REF!","v":{"$error":"#REF!"}}]
[{"$f":"INT(SkillConfig!#REF!)","v":{"$error":"#REF!"}},{"$f":"SkillConfig!#REF!","v":{"$error":"#REF!"}},{"$f":"SkillConfig!#REF!","v":{"$error":"#REF!"}},{"$f":"SkillConfig!#REF!","v":{"$error":"#REF!"}}]
[{"$f":"INT(SkillConfig!#REF!)","v":{"$error":"#REF!"}},{"$f":"SkillConfig!#REF!","v":{"$error":"#REF!"}},{"$f":"SkillConfig!#REF!","v":{"$error":"#REF!"}},{"$f":"SkillConfig!#REF!","v":{"$error":"#REF!"}}]
[{"$f":"INT(SkillConfig!#REF!)","v":{"$error":"#REF!"}},{"$f":"SkillConfig!#REF!","v":{"$error":"#REF!"}},{"$f":"SkillConfig!#REF!","v":{"$error":"#REF!"}},{"$f":"SkillConfig!#REF!","v":{"$error":"#REF!"}}]
[{"$f":"INT(SkillConfig!#REF!)","v":{"$error":"#REF!"}},{"$f":"SkillConfig!#REF!","v":{"$error":"#REF!"}},{"$f":"SkillConfig!#REF!","v":{"$error":"#REF!"}},{"$f":"SkillConfig!#REF!","v":{"$error":"#REF!"}}]
[{"$f":"INT(SkillConfig!#REF!)","v":{"$error":"#REF!"}},{"$f":"SkillConfig!#REF!","v":{"$error":"#REF!"}},{"$f":"SkillConfig!#REF!","v":{"$error":"#REF!"}},{"$f":"SkillConfig!#REF!","v":{"$error":"#REF!"}}]
[{"$f":"INT(SkillConfig!#REF!)","v":{"$error":"#REF!"}},{"$f":"SkillConfig!#REF!","v":{"$error":"#REF!"}},{"$f":"SkillConfig!#REF!","v":{"$error":"#REF!"}},{"$f":"SkillConfig!#REF!","v":{"$error":"#REF!"}}]
[{"$f":"INT(SkillConfig!#REF!)","v":{"$error":"#REF!"}},{"$f":"SkillConfig!#REF!","v":{"$error":"#REF!"}},{"$f":"SkillConfig!#REF!","v":{"$error":"#REF!"}},{"$f":"SkillConfig!#REF!","v":{"$error":"#REF!"}}]
[{"$f":"INT(SkillConfig!#REF!)","v":{"$error":"#REF!"}},{"$f":"SkillConfig!#REF!","v":{"$error":"#REF!"}},{"$f":"SkillConfig!#REF!","v":{"$error":"#REF!"}},{"$f":"SkillConfig!#REF!","v":{"$error":"#REF!"}}]
[{"$f":"INT(SkillConfig!#REF!)","v":{"$error":"#REF!"}},{"$f":"SkillConfig!#REF!","v":{"$error":"#REF!"}},{"$f":"SkillConfig!#REF!","v":{"$error":"#REF!"}},{"$f":"SkillConfig!#REF!","v":{"$error":"#REF!"}}]
[{"$f":"INT(SkillConfig!#REF!)","v":{"$error":"#REF!"}},{"$f":"SkillConfig!#REF!","v":{"$error":"#REF!"}},{"$f":"SkillConfig!#REF!","v":{"$error":"#REF!"}},{"$f":"SkillConfig!#REF!","v":{"$error":"#REF!"}}]
[{"$f":"INT(SkillConfig!#REF!)","v":{"$error":"#REF!"}},{"$f":"SkillConfig!#REF!","v":{"$error":"#REF!"}},{"$f":"SkillConfig!#REF!","v":{"$error":"#REF!"}},{"$f":"SkillConfig!#REF!","v":{"$error":"#REF!"}}]
[{"$f":"INT(SkillConfig!#REF!)","v":{"$error":"#REF!"}},{"$f":"SkillConfig!#REF!","v":{"$error":"#REF!"}},{"$f":"SkillConfig!#REF!","v":{"$error":"#REF!"}},{"$f":"SkillConfig!#REF!","v":{"$error":"#REF!"}}]
[{"$f":"INT(SkillConfig!#REF!)","v":{"$error":"#REF!"}},{"$f":"SkillConfig!#REF!","v":{"$error":"#REF!"}},{"$f":"SkillConfig!#REF!","v":{"$error":"#REF!"}},{"$f":"SkillConfig!#REF!","v":{"$error":"#REF!"}}]
[{"$f":"INT(SkillConfig!#REF!)","v":{"$error":"#REF!"}},{"$f":"SkillConfig!#REF!","v":{"$error":"#REF!"}},{"$f":"SkillConfig!#REF!","v":{"$error":"#REF!"}},{"$f":"SkillConfig!#REF!","v":{"$error":"#REF!"}}]
[{"$f":"INT(SkillConfig!#REF!)","v":{"$error":"#REF!"}},{"$f":"SkillConfig!#REF!","v":{"$error":"#REF!"}},{"$f":"SkillConfig!#REF!","v":{"$error":"#REF!"}},{"$f":"SkillConfig!#REF!","v":{"$error":"#REF!"}}]
[{"$f":"INT(SkillConfig!#REF!)","v":{"$error":"#REF!"}},{"$f":"SkillConfig!#REF!","v":{"$error":"#REF!"}},{"$f":"SkillConfig!#REF!","v":{"$error":"#REF!"}},{"$f":"SkillConfig!#REF!","v":{"$error":"#REF!"}}]
[{"$f":"INT(SkillConfig!#REF!)","v":{"$error":"#REF!"}},{"$f":"SkillConfig!#REF!","v":{"$error":"#REF!"}},{"$f":"SkillConfig!#REF!","v":{"$error":"#REF!"}},{"$f":"SkillConfig!#REF!","v":{"$error":"#REF!"}}]
[{"$f":"INT(SkillConfig!#REF!)","v":{"$error":"#REF!"}},{"$f":"SkillConfig!#REF!","v":{"$error":"#REF!"}},{"$f":"SkillConfig!#REF!","v":{"$error":"#REF!"}},{"$f":"SkillConfig!#REF!","v":{"$error":"#REF!"}}]
[{"$f":"INT(SkillConfig!#REF!)","v":{"$error":"#REF!"}},{"$f":"SkillConfig!#REF!","v":{"$error":"#REF!"}},{"$f":"SkillConfig!#REF!","v":{"$error":"#REF!"}},{"$f":"SkillConfig!#REF!","v":{"$error":"#REF!"}}]
[{"$f":"INT(SkillConfig!#REF!)","v":{"$error":"#REF!"}},{"$f":"SkillConfig!#REF!","v":{"$error":"#REF!"}},{"$f":"SkillConfig!#REF!","v":{"$error":"#REF!"}},{"$f":"SkillConfig!#REF!","v":{"$error":"#REF!"}}]
[{"$f":"INT(SkillConfig!#REF!)","v":{"$error":"#REF!"}},{"$f":"SkillConfig!#REF!","v":{"$error":"#REF!"}},{"$f":"SkillConfig!#REF!","v":{"$error":"#REF!"}},{"$f":"SkillConfig!#REF!","v":{"$error":"#REF!"}}]
[{"$f":"INT(SkillConfig!#REF!)","v":{"$error":"#REF!"}},{"$f":"SkillConfig!#REF!","v":{"$error":"#REF!"}},{"$f":"SkillConfig!#REF!","v":{"$error":"#REF!"}},{"$f":"SkillConfig!#REF!","v":{"$error":"#REF!"}}]
[{"$f":"INT(SkillConfig!#REF!)","v":{"$error":"#REF!"}},{"$f":"SkillConfig!#REF!","v":{"$error":"#REF!"}},{"$f":"SkillConfig!#REF!","v":{"$error":"#REF!"}},{"$f":"SkillConfig!#REF!","v":{"$error":"#REF!"}}]
[{"$f":"INT(SkillConfig!#REF!)","v":{"$error":"#REF!"}},{"$f":"SkillConfig!#REF!","v":{"$error":"#REF!"}},{"$f":"SkillConfig!#REF!","v":{"$error":"#REF!"}},{"$f":"SkillConfig!#REF!","v":{"$error":"#REF!"}}]
[{"$f":"INT(SkillConfig!#REF!)","v":{"$error":"#REF!"}},{"$f":"SkillConfig!#REF!","v":{"$error":"#REF!"}},{"$f":"SkillConfig!#REF!","v":{"$error":"#REF!"}},{"$f":"SkillConfig!#REF!","v":{"$error":"#REF!"}}]
[{"$f":"INT(SkillConfig!#REF!)","v":{"$error":"#REF!"}},{"$f":"SkillConfig!#REF!","v":{"$error":"#REF!"}},{"$f":"SkillConfig!#REF!","v":{"$error":"#REF!"}},{"$f":"SkillConfig!#REF!","v":{"$error":"#REF!"}}]
[{"$f":"INT(SkillConfig!#REF!)","v":{"$error":"#REF!"}},{"$f":"SkillConfig!#REF!","v":{"$error":"#REF!"}},{"$f":"SkillConfig!#REF!","v":{"$error":"#REF!"}},{"$f":"SkillConfig!#REF!","v":{"$error":"#REF!"}}]
[{"$f":"INT(SkillConfig!#REF!)","v":{"$error":"#REF!"}},{"$f":"SkillConfig!#REF!","v":{"$error":"#REF!"}},{"$f":"SkillConfig!#REF!","v":{"$error":"#REF!"}},{"$f":"SkillConfig!#REF!","v":{"$error":"#REF!"}}]
[{"$f":"INT(SkillConfig!#REF!)","v":{"$error":"#REF!"}},{"$f":"SkillConfig!#REF!","v":{"$error":"#REF!"}},{"$f":"SkillConfig!#REF!","v":{"$error":"#REF!"}},{"$f":"SkillConfig!#REF!","v":{"$error":"#REF!"}}]
[{"$f":"INT(SkillConfig!#REF!)","v":{"$error":"#REF!"}},{"$f":"SkillConfig!#REF!","v":{"$error":"#REF!"}},{"$f":"SkillConfig!#REF!","v":{"$error":"#REF!"}},{"$f":"SkillConfig!#REF!","v":{"$error":"#REF!"}}]
[{"$f":"INT(SkillConfig!#REF!)","v":{"$error":"#REF!"}},{"$f":"SkillConfig!#REF!","v":{"$error":"#REF!"}},{"$f":"SkillConfig!#REF!","v":{"$error":"#REF!"}},{"$f":"SkillConfig!#REF!","v":{"$error":"#REF!"}}]
[{"$f":"INT(SkillConfig!#REF!)","v":{"$error":"#REF!"}},{"$f":"SkillConfig!#REF!","v":{"$error":"#REF!"}},{"$f":"SkillConfig!#REF!","v":{"$error":"#REF!"}},{"$f":"SkillConfig!#REF!","v":{"$error":"#REF!"}}]
[{"$f":"INT(SkillConfig!#REF!)","v":{"$error":"#REF!"}},{"$f":"SkillConfig!#REF!","v":{"$error":"#REF!"}},{"$f":"SkillConfig!#REF!","v":{"$error":"#REF!"}},{"$f":"SkillConfig!#REF!","v":{"$error":"#REF!"}}]
[{"$f":"INT(SkillConfig!#REF!)","v":{"$error":"#REF!"}},{"$f":"SkillConfig!#REF!","v":{"$error":"#REF!"}},{"$f":"SkillConfig!#REF!","v":{"$error":"#REF!"}},{"$f":"SkillConfig!#REF!","v":{"$error":"#REF!"}}]
[{"$f":"INT(SkillConfig!#REF!)","v":{"$error":"#REF!"}},{"$f":"SkillConfig!#REF!","v":{"$error":"#REF!"}},{"$f":"SkillConfig!#REF!","v":{"$error":"#REF!"}},{"$f":"SkillConfig!#REF!","v":{"$error":"#REF!"}}]
[{"$f":"INT(SkillConfig!#REF!)","v":{"$error":"#REF!"}},{"$f":"SkillConfig!#REF!","v":{"$error":"#REF!"}},{"$f":"SkillConfig!#REF!","v":{"$error":"#REF!"}},{"$f":"SkillConfig!#REF!","v":{"$error":"#REF!"}}]
[{"$f":"INT(SkillConfig!#REF!)","v":{"$error":"#REF!"}},{"$f":"SkillConfig!#REF!","v":{"$error":"#REF!"}},{"$f":"SkillConfig!#REF!","v":{"$error":"#REF!"}},{"$f":"SkillConfig!#REF!","v":{"$error":"#REF!"}}]
[{"$f":"INT(SkillConfig!#REF!)","v":{"$error":"#REF!"}},{"$f":"SkillConfig!#REF!","v":{"$error":"#REF!"}},{"$f":"SkillConfig!#REF!","v":{"$error":"#REF!"}},{"$f":"SkillConfig!#REF!","v":{"$error":"#REF!"}}]
[{"$f":"INT(SkillConfig!#REF!)","v":{"$error":"#REF!"}},{"$f":"SkillConfig!#REF!","v":{"$error":"#REF!"}},{"$f":"SkillConfig!#REF!","v":{"$error":"#REF!"}},{"$f":"SkillConfig!#REF!","v":{"$error":"#REF!"}}]
[{"$f":"INT(SkillConfig!#REF!)","v":{"$error":"#REF!"}},{"$f":"SkillConfig!#REF!","v":{"$error":"#REF!"}},{"$f":"SkillConfig!#REF!","v":{"$error":"#REF!"}},{"$f":"SkillConfig!#REF!","v":{"$error":"#REF!"}}]
[{"$f":"INT(SkillConfig!#REF!)","v":{"$error":"#REF!"}},{"$f":"SkillConfig!#REF!","v":{"$error":"#REF!"}},{"$f":"SkillConfig!#REF!","v":{"$error":"#REF!"}},{"$f":"SkillConfig!#REF!","v":{"$error":"#REF!"}}]
[{"$f":"INT(SkillConfig!#REF!)","v":{"$error":"#REF!"}},{"$f":"SkillConfig!#REF!","v":{"$error":"#REF!"}},{"$f":"SkillConfig!#REF!","v":{"$error":"#REF!"}},{"$f":"SkillConfig!#REF!","v":{"$error":"#REF!"}}]
[{"$f":"INT(SkillConfig!#REF!)","v":{"$error":"#REF!"}},{"$f":"SkillConfig!#REF!","v":{"$error":"#REF!"}},{"$f":"SkillConfig!#REF!","v":{"$error":"#REF!"}},{"$f":"SkillConfig!#REF!","v":{"$error":"#REF!"}}]
[{"$f":"INT(SkillConfig!#REF!)","v":{"$error":"#REF!"}},{"$f":"SkillConfig!#REF!","v":{"$error":"#REF!"}},{"$f":"SkillConfig!#REF!","v":{"$error":"#REF!"}},{"$f":"SkillConfig!#REF!","v":{"$error":"#REF!"}}]
[{"$f":"INT(SkillConfig!#REF!)","v":{"$error":"#REF!"}},{"$f":"SkillConfig!#REF!","v":{"$error":"#REF!"}},{"$f":"SkillConfig!#REF!","v":{"$error":"#REF!"}},{"$f":"SkillConfig!#REF!","v":{"$error":"#REF!"}}]
[{"$f":"INT(SkillConfig!#REF!)","v":{"$error":"#REF!"}},{"$f":"SkillConfig!#REF!","v":{"$error":"#REF!"}},{"$f":"SkillConfig!#REF!","v":{"$error":"#REF!"}},{"$f":"SkillConfig!#REF!","v":{"$error":"#REF!"}}]
[{"$f":"INT(SkillConfig!#REF!)","v":{"$error":"#REF!"}},{"$f":"SkillConfig!#REF!","v":{"$error":"#REF!"}},{"$f":"SkillConfig!#REF!","v":{"$error":"#REF!"}},{"$f":"SkillConfig!#REF!","v":{"$error":"#REF!"}}]
[{"$f":"INT(SkillConfig!#REF!)","v":{"$error":"#REF!"}},{"$f":"SkillConfig!#REF!","v":{"$error":"#REF!"}},{"$f":"SkillConfig!#REF!","v":{"$error":"#REF!"}},{"$f":"SkillConfig!#REF!","v":{"$error":"#REF!"}}]
[{"$f":"INT(SkillConfig!#REF!)","v":{"$error":"#REF!"}},{"$f":"SkillConfig!#REF!","v":{"$error":"#REF!"}},{"$f":"SkillConfig!#REF!","v":{"$error":"#REF!"}},{"$f":"SkillConfig!#REF!","v":{"$error":"#REF!"}}]
[{"$f":"INT(SkillConfig!#REF!)","v":{"$error":"#REF!"}},{"$f":"SkillConfig!#REF!","v":{"$error":"#REF!"}},{"$f":"SkillConfig!#REF!","v":{"$error":"#REF!"}},{"$f":"SkillConfig!#REF!","v":{"$error":"#REF!"}}]
[{"$f":"INT(SkillConfig!#REF!)","v":{"$error":"#REF!"}},{"$f":"SkillConfig!#REF!","v":{"$error":"#REF!"}},{"$f":"SkillConfig!#REF!","v":{"$error":"#REF!"}},{"$f":"SkillConfig!#REF!","v":{"$error":"#REF!"}}]
[{"$f":"INT(SkillConfig!#REF!)","v":{"$error":"#REF!"}},{"$f":"SkillConfig!#REF!","v":{"$error":"#REF!"}},{"$f":"SkillConfig!#REF!","v":{"$error":"#REF!"}},{"$f":"SkillConfig!#REF!","v":{"$error":"#REF!"}}]
[{"$f":"INT(SkillConfig!#REF!)","v":{"$error":"#REF!"}},{"$f":"SkillConfig!#REF!","v":{"$error":"#REF!"}},{"$f":"SkillConfig!#REF!","v":{"$error":"#REF!"}},{"$f":"SkillConfig!#REF!","v":{"$error":"#REF!"}}]
[{"$f":"INT(SkillConfig!#REF!)","v":{"$error":"#REF!"}},{"$f":"SkillConfig!#REF!","v":{"$error":"#REF!"}},{"$f":"SkillConfig!#REF!","v":{"$error":"#REF!"}},{"$f":"SkillConfig!#REF!","v":{"$error":"#REF!"}}]
[{"$f":"INT(SkillConfig!#REF!)","v":{"$error":"#REF!"}},{"$f":"SkillConfig!#REF!","v":{"$error":"#REF!"}},{"$f":"SkillConfig!#REF!","v":{"$error":"#REF!"}},{"$f":"SkillConfig!#REF!","v":{"$error":"#REF!"}}]
[{"$f":"INT(SkillConfig!#REF!)","v":{"$error":"#REF!"}},{"$f":"SkillConfig!#REF!","v":{"$error":"#REF!"}},{"$f":"SkillConfig!#REF!","v":{"$error":"#REF!"}},{"$f":"SkillConfig!#REF!","v":{"$error":"#REF!"}}]
[{"$f":"INT(SkillConfig!#REF!)","v":{"$error":"#REF!"}},{"$f":"SkillConfig!#REF!","v":{"$error":"#REF!"}},{"$f":"SkillConfig!#REF!","v":{"$error":"#REF!"}},{"$f":"SkillConfig!#REF!","v":{"$error":"#REF!"}}]
[{"$f":"INT(SkillConfig!#REF!)","v":{"$error":"#REF!"}},{"$f":"SkillConfig!#REF!","v":{"$error":"#REF!"}},{"$f":"SkillConfig!#REF!","v":{"$error":"#REF!"}},{"$f":"SkillConfig!#REF!","v":{"$error":"#REF!"}}]
[{"$f":"INT(SkillConfig!#REF!)","v":{"$error":"#REF!"}},{"$f":"SkillConfig!#REF!","v":{"$error":"#REF!"}},{"$f":"SkillConfig!#REF!","v":{"$error":"#REF!"}},{"$f":"SkillConfig!#REF!","v":{"$error":"#REF!"}}]
[{"$f":"INT(SkillConfig!#REF!)","v":{"$error":"#REF!"}},{"$f":"SkillConfig!#REF!","v":{"$error":"#REF!"}},{"$f":"SkillConfig!#REF!","v":{"$error":"#REF!"}},{"$f":"SkillConfig!#REF!","v":{"$error":"#REF!"}}]
[{"$f":"INT(SkillConfig!#REF!)","v":{"$error":"#REF!"}},{"$f":"SkillConfig!#REF!","v":{"$error":"#REF!"}},{"$f":"SkillConfig!#REF!","v":{"$error":"#REF!"}},{"$f":"SkillConfig!#REF!","v":{"$error":"#REF!"}}]
[{"$f":"INT(SkillConfig!#REF!)","v":{"$error":"#REF!"}},{"$f":"SkillConfig!#REF!","v":{"$error":"#REF!"}},{"$f":"SkillConfig!#REF!","v":{"$error":"#REF!"}},{"$f":"SkillConfig!#REF!","v":{"$error":"#REF!"}}]
[{"$f":"INT(SkillConfig!#REF!)","v":{"$error":"#REF!"}},{"$f":"SkillConfig!#REF!","v":{"$error":"#REF!"}},{"$f":"SkillConfig!#REF!","v":{"$error":"#REF!"}},{"$f":"SkillConfig!#REF!","v":{"$error":"#REF!"}}]
[{"$f":"INT(SkillConfig!#REF!)","v":{"$error":"#REF!"}},{"$f":"SkillConfig!#REF!","v":{"$error":"#REF!"}},{"$f":"SkillConfig!#REF!","v":{"$error":"#REF!"}},{"$f":"SkillConfig!#REF!","v":{"$error":"#REF!"}}]
[{"$f":"INT(SkillConfig!#REF!)","v":{"$error":"#REF!"}},{"$f":"SkillConfig!#REF!","v":{"$error":"#REF!"}},{"$f":"SkillConfig!#REF!","v":{"$error":"#REF!"}},{"$f":"SkillConfig!#REF!","v":{"$error":"#REF!"}}]
[{"$f":"INT(SkillConfig!#REF!)","v":{"$error":"#REF!"}},{"$f":"SkillConfig!#REF!","v":{"$error":"#REF!"}},{"$f":"SkillConfig!#REF!","v":{"$error":"#REF!"}},{"$f":"SkillConfig!#REF!","v":{"$error":"#REF!"}}]
[{"$f":"INT(SkillConfig!#REF!)","v":{"$error":"#REF!"}},{"$f":"SkillConfig!#REF!","v":{"$error":"#REF!"}},{"$f":"SkillConfig!#REF!","v":{"$error":"#REF!"}},{"$f":"SkillConfig!#REF!","v":{"$error":"#REF!"}}]
[{"$f":"INT(SkillConfig!#REF!)","v":{"$error":"#REF!"}},{"$f":"SkillConfig!#REF!","v":{"$error":"#REF!"}},{"$f":"SkillConfig!#REF!","v":{"$error":"#REF!"}},{"$f":"SkillConfig!#REF!","v":{"$error":"#REF!"}}]
[{"$f":"INT(SkillConfig!#REF!)","v":{"$error":"#REF!"}},{"$f":"SkillConfig!#REF!","v":{"$error":"#REF!"}},{"$f":"SkillConfig!#REF!","v":{"$error":"#REF!"}},{"$f":"SkillConfig!#REF!","v":{"$error":"#REF!"}}]
[{"$f":"INT(SkillConfig!#REF!)","v":{"$error":"#REF!"}},{"$f":"SkillConfig!#REF!","v":{"$error":"#REF!"}},{"$f":"SkillConfig!#REF!","v":{"$error":"#REF!"}},{"$f":"SkillConfig!#REF!","v":{"$error":"#REF!"}}]
[{"$f":"INT(SkillConfig!#REF!)","v":{"$error":"#REF!"}},{"$f":"SkillConfig!#REF!","v":{"$error":"#REF!"}},{"$f":"SkillConfig!#REF!","v":{"$error":"#REF!"}},{"$f":"SkillConfig!#REF!","v":{"$error":"#REF!"}}]
[{"$f":"INT(SkillConfig!#REF!)","v":{"$error":"#REF!"}},{"$f":"SkillConfig!#REF!","v":{"$error":"#REF!"}},{"$f":"SkillConfig!#REF!","v":{"$error":"#REF!"}},{"$f":"SkillConfig!#REF!","v":{"$error":"#REF!"}}]
[{"$f":"INT(SkillConfig!#REF!)","v":{"$error":"#REF!"}},{"$f":"SkillConfig!#REF!","v":{"$error":"#REF!"}},{"$f":"SkillConfig!#REF!","v":{"$error":"#REF!"}},{"$f":"SkillConfig!#REF!","v":{"$error":"#REF!"}}]
[{"$f":"INT(SkillConfig!#REF!)","v":{"$error":"#REF!"}},{"$f":"SkillConfig!#REF!","v":{"$error":"#REF!"}},{"$f":"SkillConfig!#REF!","v":{"$error":"#REF!"}},{"$f":"SkillConfig!#REF!","v":{"$error":"#REF!"}}]
[{"$f":"INT(SkillConfig!#REF!)","v":{"$error":"#REF!"}},{"$f":"SkillConfig!#REF!","v":{"$error":"#REF!"}},{"$f":"SkillConfig!#REF!","v":{"$error":"#REF!"}},{"$f":"SkillConfig!#REF!","v":{"$error":"#REF!"}}]
[{"$f":"INT(SkillConfig!#REF!)","v":{"$error":"#REF!"}},{"$f":"SkillConfig!#REF!","v":{"$error":"#REF!"}},{"$f":"SkillConfig!#REF!","v":{"$error":"#REF!"}},{"$f":"SkillConfig!#REF!","v":{"$error":"#REF!"}}]
[{"$f":"INT(SkillConfig!#REF!)","v":{"$error":"#REF!"}},{"$f":"SkillConfig!#REF!","v":{"$error":"#REF!"}},{"$f":"SkillConfig!#REF!","v":{"$error":"#REF!"}},{"$f":"SkillConfig!#REF!","v":{"$error":"#REF!"}}]
[{"$f":"INT(SkillConfig!#REF!)","v":{"$error":"#REF!"}},{"$f":"SkillConfig!#REF!","v":{"$error":"#REF!"}},{"$f":"SkillConfig!#REF!","v":{"$error":"#REF!"}},{"$f":"SkillConfig!#REF!","v":{"$error":"#REF!"}}]
[{"$f":"INT(SkillConfig!#REF!)","v":{"$error":"#REF!"}},{"$f":"SkillConfig!#REF!","v":{"$error":"#REF!"}},{"$f":"SkillConfig!#REF!","v":{"$error":"#REF!"}},{"$f":"SkillConfig!#REF!","v":{"$error":"#REF!"}}]
[{"$f":"INT(SkillConfig!#REF!)","v":{"$error":"#REF!"}},{"$f":"SkillConfig!#REF!","v":{"$error":"#REF!"}},{"$f":"SkillConfig!#REF!","v":{"$error":"#REF!"}},{"$f":"SkillConfig!#REF!","v":{"$error":"#REF!"}}]
[{"$f":"INT(SkillConfig!#REF!)","v":{"$error":"#REF!"}},{"$f":"SkillConfig!#REF!","v":{"$error":"#REF!"}},{"$f":"SkillConfig!#REF!","v":{"$error":"#REF!"}},{"$f":"SkillConfig!#REF!","v":{"$error":"#REF!"}}]
[{"$f":"INT(SkillConfig!#REF!)","v":{"$error":"#REF!"}},{"$f":"SkillConfig!#REF!","v":{"$error":"#REF!"}},{"$f":"SkillConfig!#REF!","v":{"$error":"#REF!"}},{"$f":"SkillConfig!#REF!","v":{"$error":"#REF!"}}]
[{"$f":"INT(SkillConfig!#REF!)","v":{"$error":"#REF!"}},{"$f":"SkillConfig!#REF!","v":{"$error":"#REF!"}},{"$f":"SkillConfig!#REF!","v":{"$error":"#REF!"}},{"$f":"SkillConfig!#REF!","v":{"$error":"#REF!"}}]
[{"$f":"INT(SkillConfig!#REF!)","v":{"$error":"#REF!"}},{"$f":"SkillConfig!#REF!","v":{"$error":"#REF!"}},{"$f":"SkillConfig!#REF!","v":{"$error":"#REF!"}},{"$f":"SkillConfig!#REF!","v":{"$error":"#REF!"}}]
[{"$f":"INT(SkillConfig!#REF!)","v":{"$error":"#REF!"}},{"$f":"SkillConfig!#REF!","v":{"$error":"#REF!"}},{"$f":"SkillConfig!#REF!","v":{"$error":"#REF!"}},{"$f":"SkillConfig!#REF!","v":{"$error":"#REF!"}}]
[{"$f":"INT(SkillConfig!#REF!)","v":{"$error":"#REF!"}},{"$f":"SkillConfig!#REF!","v":{"$error":"#REF!"}},{"$f":"SkillConfig!#REF!","v":{"$error":"#REF!"}},{"$f":"SkillConfig!#REF!","v":{"$error":"#REF!"}}]
[{"$f":"INT(SkillConfig!#REF!)","v":{"$error":"#REF!"}},{"$f":"SkillConfig!#REF!","v":{"$error":"#REF!"}},{"$f":"SkillConfig!#REF!","v":{"$error":"#REF!"}},{"$f":"SkillConfig!#REF!","v":{"$error":"#REF!"}}]
[{"$f":"INT(SkillConfig!#REF!)","v":{"$error":"#REF!"}},{"$f":"SkillConfig!#REF!","v":{"$error":"#REF!"}},{"$f":"SkillConfig!#REF!","v":{"$error":"#REF!"}},{"$f":"SkillConfig!#REF!","v":{"$error":"#REF!"}}]
[{"$f":"INT(SkillConfig!#REF!)","v":{"$error":"#REF!"}},{"$f":"SkillConfig!#REF!","v":{"$error":"#REF!"}},{"$f":"SkillConfig!#REF!","v":{"$error":"#REF!"}},{"$f":"SkillConfig!#REF!","v":{"$error":"#REF!"}}]
[{"$f":"INT(SkillConfig!#REF!)","v":{"$error":"#REF!"}},{"$f":"SkillConfig!#REF!","v":{"$error":"#REF!"}},{"$f":"SkillConfig!#REF!","v":{"$error":"#REF!"}},{"$f":"SkillConfig!#REF!","v":{"$error":"#REF!"}}]
[{"$f":"INT(SkillConfig!#REF!)","v":{"$error":"#REF!"}},{"$f":"SkillConfig!#REF!","v":{"$error":"#REF!"}},{"$f":"SkillConfig!#REF!","v":{"$error":"#REF!"}},{"$f":"SkillConfig!#REF!","v":{"$error":"#REF!"}}]
[{"$f":"INT(SkillConfig!#REF!)","v":{"$error":"#REF!"}},{"$f":"SkillConfig!#REF!","v":{"$error":"#REF!"}},{"$f":"SkillConfig!#REF!","v":{"$error":"#REF!"}},{"$f":"SkillConfig!#REF!","v":{"$error":"#REF!"}}]
[{"$f":"INT(SkillConfig!#REF!)","v":{"$error":"#REF!"}},{"$f":"SkillConfig!#REF!","v":{"$error":"#REF!"}},{"$f":"SkillConfig!#REF!","v":{"$error":"#REF!"}},{"$f":"SkillConfig!#REF!","v":{"$error":"#REF!"}}]
[{"$f":"INT(SkillConfig!#REF!)","v":{"$error":"#REF!"}},{"$f":"SkillConfig!#REF!","v":{"$error":"#REF!"}},{"$f":"SkillConfig!#REF!","v":{"$error":"#REF!"}},{"$f":"SkillConfig!#REF!","v":{"$error":"#REF!"}}]
[{"$f":"INT(SkillConfig!#REF!)","v":{"$error":"#REF!"}},{"$f":"SkillConfig!#REF!","v":{"$error":"#REF!"}},{"$f":"SkillConfig!#REF!","v":{"$error":"#REF!"}},{"$f":"SkillConfig!#REF!","v":{"$error":"#REF!"}}]
[{"$f":"INT(SkillConfig!#REF!)","v":{"$error":"#REF!"}},{"$f":"SkillConfig!#REF!","v":{"$error":"#REF!"}},{"$f":"SkillConfig!#REF!","v":{"$error":"#REF!"}},{"$f":"SkillConfig!#REF!","v":{"$error":"#REF!"}}]
[{"$f":"INT(SkillConfig!#REF!)","v":{"$error":"#REF!"}},{"$f":"SkillConfig!#REF!","v":{"$error":"#REF!"}},{"$f":"SkillConfig!#REF!","v":{"$error":"#REF!"}},{"$f":"SkillConfig!#REF!","v":{"$error":"#REF!"}}]
[{"$f":"INT(SkillConfig!#REF!)","v":{"$error":"#REF!"}},{"$f":"SkillConfig!#REF!","v":{"$error":"#REF!"}},{"$f":"SkillConfig!#REF!","v":{"$error":"#REF!"}},{"$f":"SkillConfig!#REF!","v":{"$error":"#REF!"}}]
[{"$f":"INT(SkillConfig!#REF!)","v":{"$error":"#REF!"}},{"$f":"SkillConfig!#REF!","v":{"$error":"#REF!"}},{"$f":"SkillConfig!#REF!","v":{"$error":"#REF!"}},{"$f":"SkillConfig!#REF!","v":{"$error":"#REF!"}}]
[{"$f":"INT(SkillConfig!#REF!)","v":{"$error":"#REF!"}},{"$f":"SkillConfig!#REF!","v":{"$error":"#REF!"}},{"$f":"SkillConfig!#REF!","v":{"$error":"#REF!"}},{"$f":"SkillConfig!#REF!","v":{"$error":"#REF!"}}]
[{"$f":"INT(SkillConfig!#REF!)","v":{"$error":"#REF!"}},{"$f":"SkillConfig!#REF!","v":{"$error":"#REF!"}},{"$f":"SkillConfig!#REF!","v":{"$error":"#REF!"}},{"$f":"SkillConfig!#REF!","v":{"$error":"#REF!"}}]
[{"$f":"INT(SkillConfig!#REF!)","v":{"$error":"#REF!"}},{"$f":"SkillConfig!#REF!","v":{"$error":"#REF!"}},{"$f":"SkillConfig!#REF!","v":{"$error":"#REF!"}},{"$f":"SkillConfig!#REF!","v":{"$error":"#REF!"}}]
[{"$f":"INT(SkillConfig!#REF!)","v":{"$error":"#REF!"}},{"$f":"SkillConfig!#REF!","v":{"$error":"#REF!"}},{"$f":"SkillConfig!#REF!","v":{"$error":"#REF!"}},{"$f":"SkillConfig!#REF!","v":{"$error":"#REF!"}}]
[{"$f":"INT(SkillConfig!#REF!)","v":{"$error":"#REF!"}},{"$f":"SkillConfig!#REF!","v":{"$error":"#REF!"}},{"$f":"SkillConfig!#REF!","v":{"$error":"#REF!"}},{"$f":"SkillConfig!#REF!","v":{"$error":"#REF!"}}]
[{"$f":"INT(SkillConfig!#REF!)","v":{"$error":"#REF!"}},{"$f":"SkillConfig!#REF!","v":{"$error":"#REF!"}},{"$f":"SkillConfig!#REF!","v":{"$error":"#REF!"}},{"$f":"SkillConfig!#REF!","v":{"$error":"#REF!"}}]
[{"$f":"INT(SkillConfig!#REF!)","v":{"$error":"#REF!"}},{"$f":"SkillConfig!#REF!","v":{"$error":"#REF!"}},{"$f":"SkillConfig!#REF!","v":{"$error":"#REF!"}},{"$f":"SkillConfig!#REF!","v":{"$error":"#REF!"}}]
[{"$f":"INT(SkillConfig!#REF!)","v":{"$error":"#REF!"}},{"$f":"SkillConfig!#REF!","v":{"$error":"#REF!"}},{"$f":"SkillConfig!#REF!","v":{"$error":"#REF!"}},{"$f":"SkillConfig!#REF!","v":{"$error":"#REF!"}}]
[{"$f":"INT(SkillConfig!#REF!)","v":{"$error":"#REF!"}},{"$f":"SkillConfig!#REF!","v":{"$error":"#REF!"}},{"$f":"SkillConfig!#REF!","v":{"$error":"#REF!"}},{"$f":"SkillConfig!#REF!","v":{"$error":"#REF!"}}]
[{"$f":"INT(SkillConfig!#REF!)","v":{"$error":"#REF!"}},{"$f":"SkillConfig!#REF!","v":{"$error":"#REF!"}},{"$f":"SkillConfig!#REF!","v":{"$error":"#REF!"}},{"$f":"SkillConfig!#REF!","v":{"$error":"#REF!"}}]
[{"$f":"INT(SkillConfig!#REF!)","v":{"$error":"#REF!"}},{"$f":"SkillConfig!#REF!","v":{"$error":"#REF!"}},{"$f":"SkillConfig!#REF!","v":{"$error":"#REF!"}},{"$f":"SkillConfig!#REF!","v":{"$error":"#REF!"}}]
[{"$f":"INT(SkillConfig!#REF!)","v":{"$error":"#REF!"}},{"$f":"SkillConfig!#REF!","v":{"$error":"#REF!"}},{"$f":"SkillConfig!#REF!","v":{"$error":"#REF!"}},{"$f":"SkillConfig!#REF!","v":{"$error":"#REF!"}}]
[{"$f":"INT(SkillConfig!#REF!)","v":{"$error":"#REF!"}},{"$f":"SkillConfig!#REF!","v":{"$error":"#REF!"}},{"$f":"SkillConfig!#REF!","v":{"$error":"#REF!"}},{"$f":"SkillConfig!#REF!","v":{"$error":"#REF!"}}]
[{"$f":"INT(SkillConfig!#REF!)","v":{"$error":"#REF!"}},{"$f":"SkillConfig!#REF!","v":{"$error":"#REF!"}},{"$f":"SkillConfig!#REF!","v":{"$error":"#REF!"}},{"$f":"SkillConfig!#REF!","v":{"$error":"#REF!"}}]
[{"$f":"INT(SkillConfig!#REF!)","v":{"$error":"#REF!"}},{"$f":"SkillConfig!#REF!","v":{"$error":"#REF!"}},{"$f":"SkillConfig!#REF!","v":{"$error":"#REF!"}},{"$f":"SkillConfig!#REF!","v":{"$error":"#REF!"}}]
[{"$f":"INT(SkillConfig!#REF!)","v":{"$error":"#REF!"}},{"$f":"SkillConfig!#REF!","v":{"$error":"#REF!"}},{"$f":"SkillConfig!#REF!","v":{"$error":"#REF!"}},{"$f":"SkillConfig!#REF!","v":{"$error":"#REF!"}}]
[{"$f":"INT(SkillConfig!#REF!)","v":{"$error":"#REF!"}},{"$f":"SkillConfig!#REF!","v":{"$error":"#REF!"}},{"$f":"SkillConfig!#REF!","v":{"$error":"#REF!"}},{"$f":"SkillConfig!#REF!","v":{"$error":"#REF!"}}]
[{"$f":"INT(SkillConfig!#REF!)","v":{"$error":"#REF!"}},{"$f":"SkillConfig!#REF!","v":{"$error":"#REF!"}},{"$f":"SkillConfig!#REF!","v":{"$error":"#REF!"}},{"$f":"SkillConfig!#REF!","v":{"$error":"#REF!"}}]
[{"$f":"INT(SkillConfig!#REF!)","v":{"$error":"#REF!"}},{"$f":"SkillConfig!#REF!","v":{"$error":"#REF!"}},{"$f":"SkillConfig!#REF!","v":{"$error":"#REF!"}},{"$f":"SkillConfig!#REF!","v":{"$error":"#REF!"}}]
[{"$f":"INT(SkillConfig!#REF!)","v":{"$error":"#REF!"}},{"$f":"SkillConfig!#REF!","v":{"$error":"#REF!"}},{"$f":"SkillConfig!#REF!","v":{"$error":"#REF!"}},{"$f":"SkillConfig!#REF!","v":{"$error":"#REF!"}}]
[{"$f":"INT(SkillConfig!#REF!)","v":{"$error":"#REF!"}},{"$f":"SkillConfig!#REF!","v":{"$error":"#REF!"}},{"$f":"SkillConfig!#REF!","v":{"$error":"#REF!"}},{"$f":"SkillConfig!#REF!","v":{"$error":"#REF!"}}]
[{"$f":"INT(SkillConfig!#REF!)","v":{"$error":"#REF!"}},{"$f":"SkillConfig!#REF!","v":{"$error":"#REF!"}},{"$f":"SkillConfig!#REF!","v":{"$error":"#REF!"}},{"$f":"SkillConfig!#REF!","v":{"$error":"#REF!"}}]
[{"$f":"INT(SkillConfig!#REF!)","v":{"$error":"#REF!"}},{"$f":"SkillConfig!#REF!","v":{"$error":"#REF!"}},{"$f":"SkillConfig!#REF!","v":{"$error":"#REF!"}},{"$f":"SkillConfig!#REF!","v":{"$error":"#REF!"}}]
[{"$f":"INT(SkillConfig!#REF!)","v":{"$error":"#REF!"}},{"$f":"SkillConfig!#REF!","v":{"$error":"#REF!"}},{"$f":"SkillConfig!#REF!","v":{"$error":"#REF!"}},{"$f":"SkillConfig!#REF!","v":{"$error":"#REF!"}}]
[{"$f":"INT(SkillConfig!#REF!)","v":{"$error":"#REF!"}},{"$f":"SkillConfig!#REF!","v":{"$error":"#REF!"}},{"$f":"SkillConfig!#REF!","v":{"$error":"#REF!"}},{"$f":"SkillConfig!#REF!","v":{"$error":"#REF!"}}]
[{"$f":"INT(SkillConfig!#REF!)","v":{"$error":"#REF!"}},{"$f":"SkillConfig!#REF!","v":{"$error":"#REF!"}},{"$f":"SkillConfig!#REF!","v":{"$error":"#REF!"}},{"$f":"SkillConfig!#REF!","v":{"$error":"#REF!"}}]
[{"$f":"INT(SkillConfig!#REF!)","v":{"$error":"#REF!"}},{"$f":"SkillConfig!#REF!","v":{"$error":"#REF!"}},{"$f":"SkillConfig!#REF!","v":{"$error":"#REF!"}},{"$f":"SkillConfig!#REF!","v":{"$error":"#REF!"}}]
[{"$f":"INT(SkillConfig!#REF!)","v":{"$error":"#REF!"}},{"$f":"SkillConfig!#REF!","v":{"$error":"#REF!"}},{"$f":"SkillConfig!#REF!","v":{"$error":"#REF!"}},{"$f":"SkillConfig!#REF!","v":{"$error":"#REF!"}}]
[{"$f":"INT(SkillConfig!#REF!)","v":{"$error":"#REF!"}},{"$f":"SkillConfig!#REF!","v":{"$error":"#REF!"}},{"$f":"SkillConfig!#REF!","v":{"$error":"#REF!"}},{"$f":"SkillConfig!#REF!","v":{"$error":"#REF!"}}]
[{"$f":"INT(SkillConfig!#REF!)","v":{"$error":"#REF!"}},{"$f":"SkillConfig!#REF!","v":{"$error":"#REF!"}},{"$f":"SkillConfig!#REF!","v":{"$error":"#REF!"}},{"$f":"SkillConfig!#REF!","v":{"$error":"#REF!"}}]
[{"$f":"INT(SkillConfig!#REF!)","v":{"$error":"#REF!"}},{"$f":"SkillConfig!#REF!","v":{"$error":"#REF!"}},{"$f":"SkillConfig!#REF!","v":{"$error":"#REF!"}},{"$f":"SkillConfig!#REF!","v":{"$error":"#REF!"}}]
[{"$f":"INT(SkillConfig!#REF!)","v":{"$error":"#REF!"}},{"$f":"SkillConfig!#REF!","v":{"$error":"#REF!"}},{"$f":"SkillConfig!#REF!","v":{"$error":"#REF!"}},{"$f":"SkillConfig!#REF!","v":{"$error":"#REF!"}}]
[{"$f":"INT(SkillConfig!#REF!)","v":{"$error":"#REF!"}},{"$f":"SkillConfig!#REF!","v":{"$error":"#REF!"}},{"$f":"SkillConfig!#REF!","v":{"$error":"#REF!"}},{"$f":"SkillConfig!#REF!","v":{"$error":"#REF!"}}]
[{"$f":"INT(SkillConfig!#REF!)","v":{"$error":"#REF!"}},{"$f":"SkillConfig!#REF!","v":{"$error":"#REF!"}},{"$f":"SkillConfig!#REF!","v":{"$error":"#REF!"}},{"$f":"SkillConfig!#REF!","v":{"$error":"#REF!"}}]
[{"$f":"INT(SkillConfig!#REF!)","v":{"$error":"#REF!"}},{"$f":"SkillConfig!#REF!","v":{"$error":"#REF!"}},{"$f":"SkillConfig!#REF!","v":{"$error":"#REF!"}},{"$f":"SkillConfig!#REF!","v":{"$error":"#REF!"}}]
[{"$f":"INT(SkillConfig!#REF!)","v":{"$error":"#REF!"}},{"$f":"SkillConfig!#REF!","v":{"$error":"#REF!"}},{"$f":"SkillConfig!#REF!","v":{"$error":"#REF!"}},{"$f":"SkillConfig!#REF!","v":{"$error":"#REF!"}}]
[{"$f":"INT(SkillConfig!#REF!)","v":{"$error":"#REF!"}},{"$f":"SkillConfig!#REF!","v":{"$error":"#REF!"}},{"$f":"SkillConfig!#REF!","v":{"$error":"#REF!"}},{"$f":"SkillConfig!#REF!","v":{"$error":"#REF!"}}]
[{"$f":"INT(SkillConfig!#REF!)","v":{"$error":"#REF!"}},{"$f":"SkillConfig!#REF!","v":{"$error":"#REF!"}},{"$f":"SkillConfig!#REF!","v":{"$error":"#REF!"}},{"$f":"SkillConfig!#REF!","v":{"$error":"#REF!"}}]
[{"$f":"INT(SkillConfig!#REF!)","v":{"$error":"#REF!"}},{"$f":"SkillConfig!#REF!","v":{"$error":"#REF!"}},{"$f":"SkillConfig!#REF!","v":{"$error":"#REF!"}},{"$f":"SkillConfig!#REF!","v":{"$error":"#REF!"}}]
[{"$f":"INT(SkillConfig!#REF!)","v":{"$error":"#REF!"}},{"$f":"SkillConfig!#REF!","v":{"$error":"#REF!"}},{"$f":"SkillConfig!#REF!","v":{"$error":"#REF!"}},{"$f":"SkillConfig!#REF!","v":{"$error":"#REF!"}}]
[{"$f":"INT(SkillConfig!#REF!)","v":{"$error":"#REF!"}},{"$f":"SkillConfig!#REF!","v":{"$error":"#REF!"}},{"$f":"SkillConfig!#REF!","v":{"$error":"#REF!"}},{"$f":"SkillConfig!#REF!","v":{"$error":"#REF!"}}]
[{"$f":"INT(SkillConfig!#REF!)","v":{"$error":"#REF!"}},{"$f":"SkillConfig!#REF!","v":{"$error":"#REF!"}},{"$f":"SkillConfig!#REF!","v":{"$error":"#REF!"}},{"$f":"SkillConfig!#REF!","v":{"$error":"#REF!"}}]
[{"$f":"INT(SkillConfig!#REF!)","v":{"$error":"#REF!"}},{"$f":"SkillConfig!#REF!","v":{"$error":"#REF!"}},{"$f":"SkillConfig!#REF!","v":{"$error":"#REF!"}},{"$f":"SkillConfig!#REF!","v":{"$error":"#REF!"}}]
[{"$f":"INT(SkillConfig!#REF!)","v":{"$error":"#REF!"}},{"$f":"SkillConfig!#REF!","v":{"$error":"#REF!"}},{"$f":"SkillConfig!#REF!","v":{"$error":"#REF!"}},{"$f":"SkillConfig!#REF!","v":{"$error":"#REF!"}}]
[{"$f":"INT(SkillConfig!#REF!)","v":{"$error":"#REF!"}},{"$f":"SkillConfig!#REF!","v":{"$error":"#REF!"}},{"$f":"SkillConfig!#REF!","v":{"$error":"#REF!"}},{"$f":"SkillConfig!#REF!","v":{"$error":"#REF!"}}]
[{"$f":"INT(SkillConfig!#REF!)","v":{"$error":"#REF!"}},{"$f":"SkillConfig!#REF!","v":{"$error":"#REF!"}},{"$f":"SkillConfig!#REF!","v":{"$error":"#REF!"}},{"$f":"SkillConfig!#REF!","v":{"$error":"#REF!"}}]
[{"$f":"INT(SkillConfig!#REF!)","v":{"$error":"#REF!"}},{"$f":"SkillConfig!#REF!","v":{"$error":"#REF!"}},{"$f":"SkillConfig!#REF!","v":{"$error":"#REF!"}},{"$f":"SkillConfig!#REF!","v":{"$error":"#REF!"}}]
[{"$f":"INT(SkillConfig!#REF!)","v":{"$error":"#REF!"}},{"$f":"SkillConfig!#REF!","v":{"$error":"#REF!"}},{"$f":"SkillConfig!#REF!","v":{"$error":"#REF!"}},{"$f":"SkillConfig!#REF!","v":{"$error":"#REF!"}}]
[{"$f":"INT(SkillConfig!#REF!)","v":{"$error":"#REF!"}},{"$f":"SkillConfig!#REF!","v":{"$error":"#REF!"}},{"$f":"SkillConfig!#REF!","v":{"$error":"#REF!"}},{"$f":"SkillConfig!#REF!","v":{"$error":"#REF!"}}]
[{"$f":"INT(SkillConfig!#REF!)","v":{"$error":"#REF!"}},{"$f":"SkillConfig!#REF!","v":{"$error":"#REF!"}},{"$f":"SkillConfig!#REF!","v":{"$error":"#REF!"}},{"$f":"SkillConfig!#REF!","v":{"$error":"#REF!"}}]
[{"$f":"INT(SkillConfig!#REF!)","v":{"$error":"#REF!"}},{"$f":"SkillConfig!#REF!","v":{"$error":"#REF!"}},{"$f":"SkillConfig!#REF!","v":{"$error":"#REF!"}},{"$f":"SkillConfig!#REF!","v":{"$error":"#REF!"}}]
[{"$f":"INT(SkillConfig!#REF!)","v":{"$error":"#REF!"}},{"$f":"SkillConfig!#REF!","v":{"$error":"#REF!"}},{"$f":"SkillConfig!#REF!","v":{"$error":"#REF!"}},{"$f":"SkillConfig!#REF!","v":{"$error":"#REF!"}}]
[{"$f":"INT(SkillConfig!#REF!)","v":{"$error":"#REF!"}},{"$f":"SkillConfig!#REF!","v":{"$error":"#REF!"}},{"$f":"SkillConfig!#REF!","v":{"$error":"#REF!"}},{"$f":"SkillConfig!#REF!","v":{"$error":"#REF!"}}]
[{"$f":"INT(SkillConfig!#REF!)","v":{"$error":"#REF!"}},{"$f":"SkillConfig!#REF!","v":{"$error":"#REF!"}},{"$f":"SkillConfig!#REF!","v":{"$error":"#REF!"}},{"$f":"SkillConfig!#REF!","v":{"$error":"#REF!"}}]
[{"$f":"INT(SkillConfig!#REF!)","v":{"$error":"#REF!"}},{"$f":"SkillConfig!#REF!","v":{"$error":"#REF!"}},{"$f":"SkillConfig!#REF!","v":{"$error":"#REF!"}},{"$f":"SkillConfig!#REF!","v":{"$error":"#REF!"}}]
[{"$f":"INT(SkillConfig!#REF!)","v":{"$error":"#REF!"}},{"$f":"SkillConfig!#REF!","v":{"$error":"#REF!"}},{"$f":"SkillConfig!#REF!","v":{"$error":"#REF!"}},{"$f":"SkillConfig!#REF!","v":{"$error":"#REF!"}}]
[{"$f":"INT(SkillConfig!#REF!)","v":{"$error":"#REF!"}},{"$f":"SkillConfig!#REF!","v":{"$error":"#REF!"}},{"$f":"SkillConfig!#REF!","v":{"$error":"#REF!"}},{"$f":"SkillConfig!#REF!","v":{"$error":"#REF!"}}]
[{"$f":"INT(SkillConfig!#REF!)","v":{"$error":"#REF!"}},{"$f":"SkillConfig!#REF!","v":{"$error":"#REF!"}},{"$f":"SkillConfig!#REF!","v":{"$error":"#REF!"}},{"$f":"SkillConfig!#REF!","v":{"$error":"#REF!"}}]
[{"$f":"INT(SkillConfig!#REF!)","v":{"$error":"#REF!"}},{"$f":"SkillConfig!#REF!","v":{"$error":"#REF!"}},{"$f":"SkillConfig!#REF!","v":{"$error":"#REF!"}},{"$f":"SkillConfig!#REF!","v":{"$error":"#REF!"}}]
[{"$f":"INT(SkillConfig!#REF!)","v":{"$error":"#REF!"}},{"$f":"SkillConfig!#REF!","v":{"$error":"#REF!"}},{"$f":"SkillConfig!#REF!","v":{"$error":"#REF!"}},{"$f":"SkillConfig!#REF!","v":{"$error":"#REF!"}}]
[{"$f":"INT(SkillConfig!#REF!)","v":{"$error":"#REF!"}},{"$f":"SkillConfig!#REF!","v":{"$error":"#REF!"}},{"$f":"SkillConfig!#REF!","v":{"$error":"#REF!"}},{"$f":"SkillConfig!#REF!","v":{"$error":"#REF!"}}]
[{"$f":"INT(SkillConfig!#REF!)","v":{"$error":"#REF!"}},{"$f":"SkillConfig!#REF!","v":{"$error":"#REF!"}},{"$f":"SkillConfig!#REF!","v":{"$error":"#REF!"}},{"$f":"SkillConfig!#REF!","v":{"$error":"#REF!"}}]
[{"$f":"INT(SkillConfig!#REF!)","v":{"$error":"#REF!"}},{"$f":"SkillConfig!#REF!","v":{"$error":"#REF!"}},{"$f":"SkillConfig!#REF!","v":{"$error":"#REF!"}},{"$f":"SkillConfig!#REF!","v":{"$error":"#REF!"}}]
[{"$f":"INT(SkillConfig!#REF!)","v":{"$error":"#REF!"}},{"$f":"SkillConfig!#REF!","v":{"$error":"#REF!"}},{"$f":"SkillConfig!#REF!","v":{"$error":"#REF!"}},{"$f":"SkillConfig!#REF!","v":{"$error":"#REF!"}}]
[{"$f":"INT(SkillConfig!#REF!)","v":{"$error":"#REF!"}},{"$f":"SkillConfig!#REF!","v":{"$error":"#REF!"}},{"$f":"SkillConfig!#REF!","v":{"$error":"#REF!"}},{"$f":"SkillConfig!#REF!","v":{"$error":"#REF!"}}]
[{"$f":"INT(SkillConfig!#REF!)","v":{"$error":"#REF!"}},{"$f":"SkillConfig!#REF!","v":{"$error":"#REF!"}},{"$f":"SkillConfig!#REF!","v":{"$error":"#REF!"}},{"$f":"SkillConfig!#REF!","v":{"$error":"#REF!"}}]
[{"$f":"INT(SkillConfig!#REF!)","v":{"$error":"#REF!"}},{"$f":"SkillConfig!#REF!","v":{"$error":"#REF!"}},{"$f":"SkillConfig!#REF!","v":{"$error":"#REF!"}},{"$f":"SkillConfig!#REF!","v":{"$error":"#REF!"}}]
[{"$f":"INT(SkillConfig!#REF!)","v":{"$error":"#REF!"}},{"$f":"SkillConfig!#REF!","v":{"$error":"#REF!"}},{"$f":"SkillConfig!#REF!","v":{"$error":"#REF!"}},{"$f":"SkillConfig!#REF!","v":{"$error":"#REF!"}}]
[{"$f":"INT(SkillConfig!#REF!)","v":{"$error":"#REF!"}},{"$f":"SkillConfig!#REF!","v":{"$error":"#REF!"}},{"$f":"SkillConfig!#REF!","v":{"$error":"#REF!"}},{"$f":"SkillConfig!#REF!","v":{"$error":"#REF!"}}]
[{"$f":"INT(SkillConfig!#REF!)","v":{"$error":"#REF!"}},{"$f":"SkillConfig!#REF!","v":{"$error":"#REF!"}},{"$f":"SkillConfig!#REF!","v":{"$error":"#REF!"}},{"$f":"SkillConfig!#REF!","v":{"$error":"#REF!"}}]
[{"$f":"INT(SkillConfig!#REF!)","v":{"$error":"#REF!"}},{"$f":"SkillConfig!#REF!","v":{"$error":"#REF!"}},{"$f":"SkillConfig!#REF!","v":{"$error":"#REF!"}},{"$f":"SkillConfig!#REF!","v":{"$error":"#REF!"}}]
[{"$f":"INT(SkillConfig!#REF!)","v":{"$error":"#REF!"}},{"$f":"SkillConfig!#REF!","v":{"$error":"#REF!"}},{"$f":"SkillConfig!#REF!","v":{"$error":"#REF!"}},{"$f":"SkillConfig!#REF!","v":{"$error":"#REF!"}}]
[{"$f":"INT(SkillConfig!#REF!)","v":{"$error":"#REF!"}},{"$f":"SkillConfig!#REF!","v":{"$error":"#REF!"}},{"$f":"SkillConfig!#REF!","v":{"$error":"#REF!"}},{"$f":"SkillConfig!#REF!","v":{"$error":"#REF!"}}]
[{"$f":"INT(SkillConfig!#REF!)","v":{"$error":"#REF!"}},{"$f":"SkillConfig!#REF!","v":{"$error":"#REF!"}},{"$f":"SkillConfig!#REF!","v":{"$error":"#REF!"}},{"$f":"SkillConfig!#REF!","v":{"$error":"#REF!"}}]
[{"$f":"INT(SkillConfig!#REF!)","v":{"$error":"#REF!"}},{"$f":"SkillConfig!#REF!","v":{"$error":"#REF!"}},{"$f":"SkillConfig!#REF!","v":{"$error":"#REF!"}},{"$f":"SkillConfig!#REF!","v":{"$error":"#REF!"}}]
[{"$f":"INT(SkillConfig!#REF!)","v":{"$error":"#REF!"}},{"$f":"SkillConfig!#REF!","v":{"$error":"#REF!"}},{"$f":"SkillConfig!#REF!","v":{"$error":"#REF!"}},{"$f":"SkillConfig!#REF!","v":{"$error":"#REF!"}}]
[{"$f":"INT(SkillConfig!#REF!)","v":{"$error":"#REF!"}},{"$f":"SkillConfig!#REF!","v":{"$error":"#REF!"}},{"$f":"SkillConfig!#REF!","v":{"$error":"#REF!"}},{"$f":"SkillConfig!#REF!","v":{"$error":"#REF!"}}]
[{"$f":"INT(SkillConfig!#REF!)","v":{"$error":"#REF!"}},{"$f":"SkillConfig!#REF!","v":{"$error":"#REF!"}},{"$f":"SkillConfig!#REF!","v":{"$error":"#REF!"}},{"$f":"SkillConfig!#REF!","v":{"$error":"#REF!"}}]
[{"$f":"INT(SkillConfig!#REF!)","v":{"$error":"#REF!"}},{"$f":"SkillConfig!#REF!","v":{"$error":"#REF!"}},{"$f":"SkillConfig!#REF!","v":{"$error":"#REF!"}},{"$f":"SkillConfig!#REF!","v":{"$error":"#REF!"}}]
[{"$f":"INT(SkillConfig!#REF!)","v":{"$error":"#REF!"}},{"$f":"SkillConfig!#REF!","v":{"$error":"#REF!"}},{"$f":"SkillConfig!#REF!","v":{"$error":"#REF!"}},{"$f":"SkillConfig!#REF!","v":{"$error":"#REF!"}}]
[{"$f":"INT(SkillConfig!#REF!)","v":{"$error":"#REF!"}},{"$f":"SkillConfig!#REF!","v":{"$error":"#REF!"}},{"$f":"SkillConfig!#REF!","v":{"$error":"#REF!"}},{"$f":"SkillConfig!#REF!","v":{"$error":"#REF!"}}]
[{"$f":"INT(SkillConfig!#REF!)","v":{"$error":"#REF!"}},{"$f":"SkillConfig!#REF!","v":{"$error":"#REF!"}},{"$f":"SkillConfig!#REF!","v":{"$error":"#REF!"}},{"$f":"SkillConfig!#REF!","v":{"$error":"#REF!"}}]
[{"$f":"INT(SkillConfig!#REF!)","v":{"$error":"#REF!"}},{"$f":"SkillConfig!#REF!","v":{"$error":"#REF!"}},{"$f":"SkillConfig!#REF!","v":{"$error":"#REF!"}},{"$f":"SkillConfig!#REF!","v":{"$error":"#REF!"}}]
[{"$f":"INT(SkillConfig!#REF!)","v":{"$error":"#REF!"}},{"$f":"SkillConfig!#REF!","v":{"$error":"#REF!"}},{"$f":"SkillConfig!#REF!","v":{"$error":"#REF!"}},{"$f":"SkillConfig!#REF!","v":{"$error":"#REF!"}}]
[{"$f":"INT(SkillConfig!#REF!)","v":{"$error":"#REF!"}},{"$f":"SkillConfig!#REF!","v":{"$error":"#REF!"}},{"$f":"SkillConfig!#REF!","v":{"$error":"#REF!"}},{"$f":"SkillConfig!#REF!","v":{"$error":"#REF!"}}]
[{"$f":"INT(SkillConfig!#REF!)","v":{"$error":"#REF!"}},{"$f":"SkillConfig!#REF!","v":{"$error":"#REF!"}},{"$f":"SkillConfig!#REF!","v":{"$error":"#REF!"}},{"$f":"SkillConfig!#REF!","v":{"$error":"#REF!"}}]
[{"$f":"INT(SkillConfig!#REF!)","v":{"$error":"#REF!"}},{"$f":"SkillConfig!#REF!","v":{"$error":"#REF!"}},{"$f":"SkillConfig!#REF!","v":{"$error":"#REF!"}},{"$f":"SkillConfig!#REF!","v":{"$error":"#REF!"}}]
[{"$f":"INT(SkillConfig!#REF!)","v":{"$error":"#REF!"}},{"$f":"SkillConfig!#REF!","v":{"$error":"#REF!"}},{"$f":"SkillConfig!#REF!","v":{"$error":"#REF!"}},{"$f":"SkillConfig!#REF!","v":{"$error":"#REF!"}}]
[{"$f":"INT(SkillConfig!#REF!)","v":{"$error":"#REF!"}},{"$f":"SkillConfig!#REF!","v":{"$error":"#REF!"}},{"$f":"SkillConfig!#REF!","v":{"$error":"#REF!"}},{"$f":"SkillConfig!#REF!","v":{"$error":"#REF!"}}]
[{"$f":"INT(SkillConfig!#REF!)","v":{"$error":"#REF!"}},{"$f":"SkillConfig!#REF!","v":{"$error":"#REF!"}},{"$f":"SkillConfig!#REF!","v":{"$error":"#REF!"}},{"$f":"SkillConfig!#REF!","v":{"$error":"#REF!"}}]
[{"$f":"INT(SkillConfig!#REF!)","v":{"$error":"#REF!"}},{"$f":"SkillConfig!#REF!","v":{"$error":"#REF!"}},{"$f":"SkillConfig!#REF!","v":{"$error":"#REF!"}},{"$f":"SkillConfig!#REF!","v":{"$error":"#REF!"}}]
[{"$f":"INT(SkillConfig!#REF!)","v":{"$error":"#REF!"}},{"$f":"SkillConfig!#REF!","v":{"$error":"#REF!"}},{"$f":"SkillConfig!#REF!","v":{"$error":"#REF!"}},{"$f":"SkillConfig!#REF!","v":{"$error":"#REF!"}}]
[{"$f":"INT(SkillConfig!#REF!)","v":{"$error":"#REF!"}},{"$f":"SkillConfig!#REF!","v":{"$error":"#REF!"}},{"$f":"SkillConfig!#REF!","v":{"$error":"#REF!"}},{"$f":"SkillConfig!#REF!","v":{"$error":"#REF!"}}]
[{"$f":"INT(SkillConfig!#REF!)","v":{"$error":"#REF!"}},{"$f":"SkillConfig!#REF!","v":{"$error":"#REF!"}},{"$f":"SkillConfig!#REF!","v":{"$error":"#REF!"}},{"$f":"SkillConfig!#REF!","v":{"$error":"#REF!"}}]
[{"$f":"INT(SkillConfig!#REF!)","v":{"$error":"#REF!"}},{"$f":"SkillConfig!#REF!","v":{"$error":"#REF!"}},{"$f":"SkillConfig!#REF!","v":{"$error":"#REF!"}},{"$f":"SkillConfig!#REF!","v":{"$error":"#REF!"}}]
[{"$f":"INT(SkillConfig!#REF!)","v":{"$error":"#REF!"}},{"$f":"SkillConfig!#REF!","v":{"$error":"#REF!"}},{"$f":"SkillConfig!#REF!","v":{"$error":"#REF!"}},{"$f":"SkillConfig!#REF!","v":{"$error":"#REF!"}}]
[{"$f":"INT(SkillConfig!#REF!)","v":{"$error":"#REF!"}},{"$f":"SkillConfig!#REF!","v":{"$error":"#REF!"}},{"$f":"SkillConfig!#REF!","v":{"$error":"#REF!"}},{"$f":"SkillConfig!#REF!","v":{"$error":"#REF!"}}]
[{"$f":"INT(SkillConfig!#REF!)","v":{"$error":"#REF!"}},{"$f":"SkillConfig!#REF!","v":{"$error":"#REF!"}},{"$f":"SkillConfig!#REF!","v":{"$error":"#REF!"}},{"$f":"SkillConfig!#REF!","v":{"$error":"#REF!"}}]
[{"$f":"INT(SkillConfig!#REF!)","v":{"$error":"#REF!"}},{"$f":"SkillConfig!#REF!","v":{"$error":"#REF!"}},{"$f":"SkillConfig!#REF!","v":{"$error":"#REF!"}},{"$f":"SkillConfig!#REF!","v":{"$error":"#REF!"}}]
[{"$f":"INT(SkillConfig!#REF!)","v":{"$error":"#REF!"}},{"$f":"SkillConfig!#REF!","v":{"$error":"#REF!"}},{"$f":"SkillConfig!#REF!","v":{"$error":"#REF!"}},{"$f":"SkillConfig!#REF!","v":{"$error":"#REF!"}}]
[{"$f":"INT(SkillConfig!#REF!)","v":{"$error":"#REF!"}},{"$f":"SkillConfig!#REF!","v":{"$error":"#REF!"}},{"$f":"SkillConfig!#REF!","v":{"$error":"#REF!"}},{"$f":"SkillConfig!#REF!","v":{"$error":"#REF!"}}]
[{"$f":"INT(SkillConfig!#REF!)","v":{"$error":"#REF!"}},{"$f":"SkillConfig!#REF!","v":{"$error":"#REF!"}},{"$f":"SkillConfig!#REF!","v":{"$error":"#REF!"}},{"$f":"SkillConfig!#REF!","v":{"$error":"#REF!"}}]
[{"$f":"INT(SkillConfig!#REF!)","v":{"$error":"#REF!"}},{"$f":"SkillConfig!#REF!","v":{"$error":"#REF!"}},{"$f":"SkillConfig!#REF!","v":{"$error":"#REF!"}},{"$f":"SkillConfig!#REF!","v":{"$error":"#REF!"}}]
[{"$f":"INT(SkillConfig!#REF!)","v":{"$error":"#REF!"}},{"$f":"SkillConfig!#REF!","v":{"$error":"#REF!"}},{"$f":"SkillConfig!#REF!","v":{"$error":"#REF!"}},{"$f":"SkillConfig!#REF!","v":{"$error":"#REF!"}}]
[{"$f":"INT(SkillConfig!#REF!)","v":{"$error":"#REF!"}},{"$f":"SkillConfig!#REF!","v":{"$error":"#REF!"}},{"$f":"SkillConfig!#REF!","v":{"$error":"#REF!"}},{"$f":"SkillConfig!#REF!","v":{"$error":"#REF!"}}]
[{"$f":"INT(SkillConfig!#REF!)","v":{"$error":"#REF!"}},{"$f":"SkillConfig!#REF!","v":{"$error":"#REF!"}},{"$f":"SkillConfig!#REF!","v":{"$error":"#REF!"}},{"$f":"SkillConfig!#REF!","v":{"$error":"#REF!"}}]
[{"$f":"INT(SkillConfig!#REF!)","v":{"$error":"#REF!"}},{"$f":"SkillConfig!#REF!","v":{"$error":"#REF!"}},{"$f":"SkillConfig!#REF!","v":{"$error":"#REF!"}},{"$f":"SkillConfig!#REF!","v":{"$error":"#REF!"}}]
[{"$f":"INT(SkillConfig!#REF!)","v":{"$error":"#REF!"}},{"$f":"SkillConfig!#REF!","v":{"$error":"#REF!"}},{"$f":"SkillConfig!#REF!","v":{"$error":"#REF!"}},{"$f":"SkillConfig!#REF!","v":{"$error":"#REF!"}}]
[{"$f":"INT(SkillConfig!#REF!)","v":{"$error":"#REF!"}},{"$f":"SkillConfig!#REF!","v":{"$error":"#REF!"}},{"$f":"SkillConfig!#REF!","v":{"$error":"#REF!"}},{"$f":"SkillConfig!#REF!","v":{"$error":"#REF!"}}]
[{"$f":"INT(SkillConfig!#REF!)","v":{"$error":"#REF!"}},{"$f":"SkillConfig!#REF!","v":{"$error":"#REF!"}},{"$f":"SkillConfig!#REF!","v":{"$error":"#REF!"}},{"$f":"SkillConfig!#REF!","v":{"$error":"#REF!"}}]
[{"$f":"INT(SkillConfig!#REF!)","v":{"$error":"#REF!"}},{"$f":"SkillConfig!#REF!","v":{"$error":"#REF!"}},{"$f":"SkillConfig!#REF!","v":{"$error":"#REF!"}},{"$f":"SkillConfig!#REF!","v":{"$error":"#REF!"}}]
[{"$f":"INT(SkillConfig!#REF!)","v":{"$error":"#REF!"}},{"$f":"SkillConfig!#REF!","v":{"$error":"#REF!"}},{"$f":"SkillConfig!#REF!","v":{"$error":"#REF!"}},{"$f":"SkillConfig!#REF!","v":{"$error":"#REF!"}}]
[{"$f":"INT(SkillConfig!#REF!)","v":{"$error":"#REF!"}},{"$f":"SkillConfig!#REF!","v":{"$error":"#REF!"}},{"$f":"SkillConfig!#REF!","v":{"$error":"#REF!"}},{"$f":"SkillConfig!#REF!","v":{"$error":"#REF!"}}]
[{"$f":"INT(SkillConfig!#REF!)","v":{"$error":"#REF!"}},{"$f":"SkillConfig!#REF!","v":{"$error":"#REF!"}},{"$f":"SkillConfig!#REF!","v":{"$error":"#REF!"}},{"$f":"SkillConfig!#REF!","v":{"$error":"#REF!"}}]
[{"$f":"INT(SkillConfig!#REF!)","v":{"$error":"#REF!"}},{"$f":"SkillConfig!#REF!","v":{"$error":"#REF!"}},{"$f":"SkillConfig!#REF!","v":{"$error":"#REF!"}},{"$f":"SkillConfig!#REF!","v":{"$error":"#REF!"}}]
[{"$f":"INT(SkillConfig!#REF!)","v":{"$error":"#REF!"}},{"$f":"SkillConfig!#REF!","v":{"$error":"#REF!"}},{"$f":"SkillConfig!#REF!","v":{"$error":"#REF!"}},{"$f":"SkillConfig!#REF!","v":{"$error":"#REF!"}}]
[{"$f":"INT(SkillConfig!#REF!)","v":{"$error":"#REF!"}},{"$f":"SkillConfig!#REF!","v":{"$error":"#REF!"}},{"$f":"SkillConfig!#REF!","v":{"$error":"#REF!"}},{"$f":"SkillConfig!#REF!","v":{"$error":"#REF!"}}]
[{"$f":"INT(SkillConfig!#REF!)","v":{"$error":"#REF!"}},{"$f":"SkillConfig!#REF!","v":{"$error":"#REF!"}},{"$f":"SkillConfig!#REF!","v":{"$error":"#REF!"}},{"$f":"SkillConfig!#REF!","v":{"$error":"#REF!"}}]
[{"$f":"INT(SkillConfig!#REF!)","v":{"$error":"#REF!"}},{"$f":"SkillConfig!#REF!","v":{"$error":"#REF!"}},{"$f":"SkillConfig!#REF!","v":{"$error":"#REF!"}},{"$f":"SkillConfig!#REF!","v":{"$error":"#REF!"}}]
[{"$f":"INT(SkillConfig!#REF!)","v":{"$error":"#REF!"}},{"$f":"SkillConfig!#REF!","v":{"$error":"#REF!"}},{"$f":"SkillConfig!#REF!","v":{"$error":"#REF!"}},{"$f":"SkillConfig!#REF!","v":{"$error":"#REF!"}}]
[{"$f":"INT(SkillConfig!#REF!)","v":{"$error":"#REF!"}},{"$f":"SkillConfig!#REF!","v":{"$error":"#REF!"}},{"$f":"SkillConfig!#REF!","v":{"$error":"#REF!"}},{"$f":"SkillConfig!#REF!","v":{"$error":"#REF!"}}]
[{"$f":"INT(SkillConfig!#REF!)","v":{"$error":"#REF!"}},{"$f":"SkillConfig!#REF!","v":{"$error":"#REF!"}},{"$f":"SkillConfig!#REF!","v":{"$error":"#REF!"}},{"$f":"SkillConfig!#REF!","v":{"$error":"#REF!"}}]
[{"$f":"INT(SkillConfig!#REF!)","v":{"$error":"#REF!"}},{"$f":"SkillConfig!#REF!","v":{"$error":"#REF!"}},{"$f":"SkillConfig!#REF!","v":{"$error":"#REF!"}},{"$f":"SkillConfig!#REF!","v":{"$error":"#REF!"}}]
[{"$f":"INT(SkillConfig!#REF!)","v":{"$error":"#REF!"}},{"$f":"SkillConfig!#REF!","v":{"$error":"#REF!"}},{"$f":"SkillConfig!#REF!","v":{"$error":"#REF!"}},{"$f":"SkillConfig!#REF!","v":{"$error":"#REF!"}}]
[{"$f":"INT(SkillConfig!#REF!)","v":{"$error":"#REF!"}},{"$f":"SkillConfig!#REF!","v":{"$error":"#REF!"}},{"$f":"SkillConfig!#REF!","v":{"$error":"#REF!"}},{"$f":"SkillConfig!#REF!","v":{"$error":"#REF!"}}]
[{"$f":"INT(SkillConfig!#REF!)","v":{"$error":"#REF!"}},{"$f":"SkillConfig!#REF!","v":{"$error":"#REF!"}},{"$f":"SkillConfig!#REF!","v":{"$error":"#REF!"}},{"$f":"SkillConfig!#REF!","v":{"$error":"#REF!"}}]
[{"$f":"INT(SkillConfig!#REF!)","v":{"$error":"#REF!"}},{"$f":"SkillConfig!#REF!","v":{"$error":"#REF!"}},{"$f":"SkillConfig!#REF!","v":{"$error":"#REF!"}},{"$f":"SkillConfig!#REF!","v":{"$error":"#REF!"}}]
[{"$f":"INT(SkillConfig!#REF!)","v":{"$error":"#REF!"}},{"$f":"SkillConfig!#REF!","v":{"$error":"#REF!"}},{"$f":"SkillConfig!#REF!","v":{"$error":"#REF!"}},{"$f":"SkillConfig!#REF!","v":{"$error":"#REF!"}}]
[{"$f":"INT(SkillConfig!#REF!)","v":{"$error":"#REF!"}},{"$f":"SkillConfig!#REF!","v":{"$error":"#REF!"}},{"$f":"SkillConfig!#REF!","v":{"$error":"#REF!"}},{"$f":"SkillConfig!#REF!","v":{"$error":"#REF!"}}]
[{"$f":"INT(SkillConfig!#REF!)","v":{"$error":"#REF!"}},{"$f":"SkillConfig!#REF!","v":{"$error":"#REF!"}},{"$f":"SkillConfig!#REF!","v":{"$error":"#REF!"}},{"$f":"SkillConfig!#REF!","v":{"$error":"#REF!"}}]
[{"$f":"INT(SkillConfig!#REF!)","v":{"$error":"#REF!"}},{"$f":"SkillConfig!#REF!","v":{"$error":"#REF!"}},{"$f":"SkillConfig!#REF!","v":{"$error":"#REF!"}},{"$f":"SkillConfig!#REF!","v":{"$error":"#REF!"}}]
[{"$f":"INT(SkillConfig!#REF!)","v":{"$error":"#REF!"}},{"$f":"SkillConfig!#REF!","v":{"$error":"#REF!"}},{"$f":"SkillConfig!#REF!","v":{"$error":"#REF!"}},{"$f":"SkillConfig!#REF!","v":{"$error":"#REF!"}}]
[{"$f":"INT(SkillConfig!#REF!)","v":{"$error":"#REF!"}},{"$f":"SkillConfig!#REF!","v":{"$error":"#REF!"}},{"$f":"SkillConfig!#REF!","v":{"$error":"#REF!"}},{"$f":"SkillConfig!#REF!","v":{"$error":"#REF!"}}]
[{"$f":"INT(SkillConfig!#REF!)","v":{"$error":"#REF!"}},{"$f":"SkillConfig!#REF!","v":{"$error":"#REF!"}},{"$f":"SkillConfig!#REF!","v":{"$error":"#REF!"}},{"$f":"SkillConfig!#REF!","v":{"$error":"#REF!"}}]
[{"$f":"INT(SkillConfig!#REF!)","v":{"$error":"#REF!"}},{"$f":"SkillConfig!#REF!","v":{"$error":"#REF!"}},{"$f":"SkillConfig!#REF!","v":{"$error":"#REF!"}},{"$f":"SkillConfig!#REF!","v":{"$error":"#REF!"}}]
[{"$f":"INT(SkillConfig!#REF!)","v":{"$error":"#REF!"}},{"$f":"SkillConfig!#REF!","v":{"$error":"#REF!"}},{"$f":"SkillConfig!#REF!","v":{"$error":"#REF!"}},{"$f":"SkillConfig!#REF!","v":{"$error":"#REF!"}}]
[{"$f":"INT(SkillConfig!#REF!)","v":{"$error":"#REF!"}},{"$f":"SkillConfig!#REF!","v":{"$error":"#REF!"}},{"$f":"SkillConfig!#REF!","v":{"$error":"#REF!"}},{"$f":"SkillConfig!#REF!","v":{"$error":"#REF!"}}]
[{"$f":"INT(SkillConfig!#REF!)","v":{"$error":"#REF!"}},{"$f":"SkillConfig!#REF!","v":{"$error":"#REF!"}},{"$f":"SkillConfig!#REF!","v":{"$error":"#REF!"}},{"$f":"SkillConfig!#REF!","v":{"$error":"#REF!"}}]
[{"$f":"INT(SkillConfig!#REF!)","v":{"$error":"#REF!"}},{"$f":"SkillConfig!#REF!","v":{"$error":"#REF!"}},{"$f":"SkillConfig!#REF!","v":{"$error":"#REF!"}},{"$f":"SkillConfig!#REF!","v":{"$error":"#REF!"}}]
[{"$f":"INT(SkillConfig!#REF!)","v":{"$error":"#REF!"}},{"$f":"SkillConfig!#REF!","v":{"$error":"#REF!"}},{"$f":"SkillConfig!#REF!","v":{"$error":"#REF!"}},{"$f":"SkillConfig!#REF!","v":{"$error":"#REF!"}}]
[{"$f":"INT(SkillConfig!#REF!)","v":{"$error":"#REF!"}},{"$f":"SkillConfig!#REF!","v":{"$error":"#REF!"}},{"$f":"SkillConfig!#REF!","v":{"$error":"#REF!"}},{"$f":"SkillConfig!#REF!","v":{"$error":"#REF!"}}]
[{"$f":"INT(SkillConfig!#REF!)","v":{"$error":"#REF!"}},{"$f":"SkillConfig!#REF!","v":{"$error":"#REF!"}},{"$f":"SkillConfig!#REF!","v":{"$error":"#REF!"}},{"$f":"SkillConfig!#REF!","v":{"$error":"#REF!"}}]
[{"$f":"INT(SkillConfig!#REF!)","v":{"$error":"#REF!"}},{"$f":"SkillConfig!#REF!","v":{"$error":"#REF!"}},{"$f":"SkillConfig!#REF!","v":{"$error":"#REF!"}},{"$f":"SkillConfig!#REF!","v":{"$error":"#REF!"}}]
[{"$f":"INT(SkillConfig!#REF!)","v":{"$error":"#REF!"}},{"$f":"SkillConfig!#REF!","v":{"$error":"#REF!"}},{"$f":"SkillConfig!#REF!","v":{"$error":"#REF!"}},{"$f":"SkillConfig!#REF!","v":{"$error":"#REF!"}}]
[{"$f":"INT(SkillConfig!#REF!)","v":{"$error":"#REF!"}},{"$f":"SkillConfig!#REF!","v":{"$error":"#REF!"}},{"$f":"SkillConfig!#REF!","v":{"$error":"#REF!"}},{"$f":"SkillConfig!#REF!","v":{"$error":"#REF!"}}]
[{"$f":"INT(SkillConfig!#REF!)","v":{"$error":"#REF!"}},{"$f":"SkillConfig!#REF!","v":{"$error":"#REF!"}},{"$f":"SkillConfig!#REF!","v":{"$error":"#REF!"}},{"$f":"SkillConfig!#REF!","v":{"$error":"#REF!"}}]
[{"$f":"INT(SkillConfig!#REF!)","v":{"$error":"#REF!"}},{"$f":"SkillConfig!#REF!","v":{"$error":"#REF!"}},{"$f":"SkillConfig!#REF!","v":{"$error":"#REF!"}},{"$f":"SkillConfig!#REF!","v":{"$error":"#REF!"}}]
[{"$f":"INT(SkillConfig!#REF!)","v":{"$error":"#REF!"}},{"$f":"SkillConfig!#REF!","v":{"$error":"#REF!"}},{"$f":"SkillConfig!#REF!","v":{"$error":"#REF!"}},{"$f":"SkillConfig!#REF!","v":{"$error":"#REF!"}}]
[{"$f":"INT(SkillConfig!#REF!)","v":{"$error":"#REF!"}},{"$f":"SkillConfig!#REF!","v":{"$error":"#REF!"}},{"$f":"SkillConfig!#REF!","v":{"$error":"#REF!"}},{"$f":"SkillConfig!#REF!","v":{"$error":"#REF!"}}]
[{"$f":"INT(SkillConfig!#REF!)","v":{"$error":"#REF!"}},{"$f":"SkillConfig!#REF!","v":{"$error":"#REF!"}},{"$f":"SkillConfig!#REF!","v":{"$error":"#REF!"}},{"$f":"SkillConfig!#REF!","v":{"$error":"#REF!"}}]
[{"$f":"INT(SkillConfig!#REF!)","v":{"$error":"#REF!"}},{"$f":"SkillConfig!#REF!","v":{"$error":"#REF!"}},{"$f":"SkillConfig!#REF!","v":{"$error":"#REF!"}},{"$f":"SkillConfig!#REF!","v":{"$error":"#REF!"}}]
[{"$f":"INT(SkillConfig!#REF!)","v":{"$error":"#REF!"}},{"$f":"SkillConfig!#REF!","v":{"$error":"#REF!"}},{"$f":"SkillConfig!#REF!","v":{"$error":"#REF!"}},{"$f":"SkillConfig!#REF!","v":{"$error":"#REF!"}}]
[{"$f":"INT(SkillConfig!#REF!)","v":{"$error":"#REF!"}},{"$f":"SkillConfig!#REF!","v":{"$error":"#REF!"}},{"$f":"SkillConfig!#REF!","v":{"$error":"#REF!"}},{"$f":"SkillConfig!#REF!","v":{"$error":"#REF!"}}]
[{"$f":"INT(SkillConfig!#REF!)","v":{"$error":"#REF!"}},{"$f":"SkillConfig!#REF!","v":{"$error":"#REF!"}},{"$f":"SkillConfig!#REF!","v":{"$error":"#REF!"}},{"$f":"SkillConfig!#REF!","v":{"$error":"#REF!"}}]
[{"$f":"INT(SkillConfig!#REF!)","v":{"$error":"#REF!"}},{"$f":"SkillConfig!#REF!","v":{"$error":"#REF!"}},{"$f":"SkillConfig!#REF!","v":{"$error":"#REF!"}},{"$f":"SkillConfig!#REF!","v":{"$error":"#REF!"}}]
[{"$f":"INT(SkillConfig!#REF!)","v":{"$error":"#REF!"}},{"$f":"SkillConfig!#REF!","v":{"$error":"#REF!"}},{"$f":"SkillConfig!#REF!","v":{"$error":"#REF!"}},{"$f":"SkillConfig!#REF!","v":{"$error":"#REF!"}}]
[{"$f":"INT(SkillConfig!#REF!)","v":{"$error":"#REF!"}},{"$f":"SkillConfig!#REF!","v":{"$error":"#REF!"}},{"$f":"SkillConfig!#REF!","v":{"$error":"#REF!"}},{"$f":"SkillConfig!#REF!","v":{"$error":"#REF!"}}]
[{"$f":"INT(SkillConfig!#REF!)","v":{"$error":"#REF!"}},{"$f":"SkillConfig!#REF!","v":{"$error":"#REF!"}},{"$f":"SkillConfig!#REF!","v":{"$error":"#REF!"}},{"$f":"SkillConfig!#REF!","v":{"$error":"#REF!"}}]
[{"$f":"INT(SkillConfig!#REF!)","v":{"$error":"#REF!"}},{"$f":"SkillConfig!#REF!","v":{"$error":"#REF!"}},{"$f":"SkillConfig!#REF!","v":{"$error":"#REF!"}},{"$f":"SkillConfig!#REF!","v":{"$error":"#REF!"}}]
[{"$f":"INT(SkillConfig!#REF!)","v":{"$error":"#REF!"}},{"$f":"SkillConfig!#REF!","v":{"$error":"#REF!"}},{"$f":"SkillConfig!#REF!","v":{"$error":"#REF!"}},{"$f":"SkillConfig!#REF!","v":{"$error":"#REF!"}}]
[{"$f":"INT(SkillConfig!#REF!)","v":{"$error":"#REF!"}},{"$f":"SkillConfig!#REF!","v":{"$error":"#REF!"}},{"$f":"SkillConfig!#REF!","v":{"$error":"#REF!"}},{"$f":"SkillConfig!#REF!","v":{"$error":"#REF!"}}]
[{"$f":"INT(SkillConfig!#REF!)","v":{"$error":"#REF!"}},{"$f":"SkillConfig!#REF!","v":{"$error":"#REF!"}},{"$f":"SkillConfig!#REF!","v":{"$error":"#REF!"}},{"$f":"SkillConfig!#REF!","v":{"$error":"#REF!"}}]
[{"$f":"INT(SkillConfig!#REF!)","v":{"$error":"#REF!"}},{"$f":"SkillConfig!#REF!","v":{"$error":"#REF!"}},{"$f":"SkillConfig!#REF!","v":{"$error":"#REF!"}},{"$f":"SkillConfig!#REF!","v":{"$error":"#REF!"}}]
[{"$f":"INT(SkillConfig!#REF!)","v":{"$error":"#REF!"}},{"$f":"SkillConfig!#REF!","v":{"$error":"#REF!"}},{"$f":"SkillConfig!#REF!","v":{"$error":"#REF!"}},{"$f":"SkillConfig!#REF!","v":{"$error":"#REF!"}}]
[{"$f":"INT(SkillConfig!#REF!)","v":{"$error":"#REF!"}},{"$f":"SkillConfig!#REF!","v":{"$error":"#REF!"}},{"$f":"SkillConfig!#REF!","v":{"$error":"#REF!"}},{"$f":"SkillConfig!#REF!","v":{"$error":"#REF!"}}]
[{"$f":"INT(SkillConfig!#REF!)","v":{"$error":"#REF!"}},{"$f":"SkillConfig!#REF!","v":{"$error":"#REF!"}},{"$f":"SkillConfig!#REF!","v":{"$error":"#REF!"}},{"$f":"SkillConfig!#REF!","v":{"$error":"#REF!"}}]
[{"$f":"INT(SkillConfig!#REF!)","v":{"$error":"#REF!"}},{"$f":"SkillConfig!#REF!","v":{"$error":"#REF!"}},{"$f":"SkillConfig!#REF!","v":{"$error":"#REF!"}},{"$f":"SkillConfig!#REF!","v":{"$error":"#REF!"}}]
[{"$f":"INT(SkillConfig!#REF!)","v":{"$error":"#REF!"}},{"$f":"SkillConfig!#REF!","v":{"$error":"#REF!"}},{"$f":"SkillConfig!#REF!","v":{"$error":"#REF!"}},{"$f":"SkillConfig!#REF!","v":{"$error":"#REF!"}}]
[{"$f":"INT(SkillConfig!#REF!)","v":{"$error":"#REF!"}},{"$f":"SkillConfig!#REF!","v":{"$error":"#REF!"}},{"$f":"SkillConfig!#REF!","v":{"$error":"#REF!"}},{"$f":"SkillConfig!#REF!","v":{"$error":"#REF!"}}]
[{"$f":"INT(SkillConfig!#REF!)","v":{"$error":"#REF!"}},{"$f":"SkillConfig!#REF!","v":{"$error":"#REF!"}},{"$f":"SkillConfig!#REF!","v":{"$error":"#REF!"}},{"$f":"SkillConfig!#REF!","v":{"$error":"#REF!"}}]
[{"$f":"INT(SkillConfig!#REF!)","v":{"$error":"#REF!"}},{"$f":"SkillConfig!#REF!","v":{"$error":"#REF!"}},{"$f":"SkillConfig!#REF!","v":{"$error":"#REF!"}},{"$f":"SkillConfig!#REF!","v":{"$error":"#REF!"}}]
[{"$f":"INT(SkillConfig!#REF!)","v":{"$error":"#REF!"}},{"$f":"SkillConfig!#REF!","v":{"$error":"#REF!"}},{"$f":"SkillConfig!#REF!","v":{"$error":"#REF!"}},{"$f":"SkillConfig!#REF!","v":{"$error":"#REF!"}}]
[{"$f":"INT(SkillConfig!#REF!)","v":{"$error":"#REF!"}},{"$f":"SkillConfig!#REF!","v":{"$error":"#REF!"}},{"$f":"SkillConfig!#REF!","v":{"$error":"#REF!"}},{"$f":"SkillConfig!#REF!","v":{"$error":"#REF!"}}]
[{"$f":"INT(SkillConfig!#REF!)","v":{"$error":"#REF!"}},{"$f":"SkillConfig!#REF!","v":{"$error":"#REF!"}},{"$f":"SkillConfig!#REF!","v":{"$error":"#REF!"}},{"$f":"SkillConfig!#REF!","v":{"$error":"#REF!"}}]
[{"$f":"INT(SkillConfig!#REF!)","v":{"$error":"#REF!"}},{"$f":"SkillConfig!#REF!","v":{"$error":"#REF!"}},{"$f":"SkillConfig!#REF!","v":{"$error":"#REF!"}},{"$f":"SkillConfig!#REF!","v":{"$error":"#REF!"}}]
[{"$f":"INT(SkillConfig!#REF!)","v":{"$error":"#REF!"}},{"$f":"SkillConfig!#REF!","v":{"$error":"#REF!"}},{"$f":"SkillConfig!#REF!","v":{"$error":"#REF!"}},{"$f":"SkillConfig!#REF!","v":{"$error":"#REF!"}}]
[{"$f":"INT(SkillConfig!#REF!)","v":{"$error":"#REF!"}},{"$f":"SkillConfig!#REF!","v":{"$error":"#REF!"}},{"$f":"SkillConfig!#REF!","v":{"$error":"#REF!"}},{"$f":"SkillConfig!#REF!","v":{"$error":"#REF!"}}]
[{"$f":"INT(SkillConfig!#REF!)","v":{"$error":"#REF!"}},{"$f":"SkillConfig!#REF!","v":{"$error":"#REF!"}},{"$f":"SkillConfig!#REF!","v":{"$error":"#REF!"}},{"$f":"SkillConfig!#REF!","v":{"$error":"#REF!"}}]
[{"$f":"INT(SkillConfig!#REF!)","v":{"$error":"#REF!"}},{"$f":"SkillConfig!#REF!","v":{"$error":"#REF!"}},{"$f":"SkillConfig!#REF!","v":{"$error":"#REF!"}},{"$f":"SkillConfig!#REF!","v":{"$error":"#REF!"}}]
[{"$f":"INT(SkillConfig!#REF!)","v":{"$error":"#REF!"}},{"$f":"SkillConfig!#REF!","v":{"$error":"#REF!"}},{"$f":"SkillConfig!#REF!","v":{"$error":"#REF!"}},{"$f":"SkillConfig!#REF!","v":{"$error":"#REF!"}}]
[{"$f":"INT(SkillConfig!#REF!)","v":{"$error":"#REF!"}},{"$f":"SkillConfig!#REF!","v":{"$error":"#REF!"}},{"$f":"SkillConfig!#REF!","v":{"$error":"#REF!"}},{"$f":"SkillConfig!#REF!","v":{"$error":"#REF!"}}]
[{"$f":"INT(SkillConfig!#REF!)","v":{"$error":"#REF!"}},{"$f":"SkillConfig!#REF!","v":{"$error":"#REF!"}},{"$f":"SkillConfig!#REF!","v":{"$error":"#REF!"}},{"$f":"SkillConfig!#REF!","v":{"$error":"#REF!"}}]
[{"$f":"INT(SkillConfig!#REF!)","v":{"$error":"#REF!"}},{"$f":"SkillConfig!#REF!","v":{"$error":"#REF!"}},{"$f":"SkillConfig!#REF!","v":{"$error":"#REF!"}},{"$f":"SkillConfig!#REF!","v":{"$error":"#REF!"}}]
[{"$f":"INT(SkillConfig!#REF!)","v":{"$error":"#REF!"}},{"$f":"SkillConfig!#REF!","v":{"$error":"#REF!"}},{"$f":"SkillConfig!#REF!","v":{"$error":"#REF!"}},{"$f":"SkillConfig!#REF!","v":{"$error":"#REF!"}}]
[{"$f":"INT(SkillConfig!#REF!)","v":{"$error":"#REF!"}},{"$f":"SkillConfig!#REF!","v":{"$error":"#REF!"}},{"$f":"SkillConfig!#REF!","v":{"$error":"#REF!"}},{"$f":"SkillConfig!#REF!","v":{"$error":"#REF!"}}]
[{"$f":"INT(SkillConfig!#REF!)","v":{"$error":"#REF!"}},{"$f":"SkillConfig!#REF!","v":{"$error":"#REF!"}},{"$f":"SkillConfig!#REF!","v":{"$error":"#REF!"}},{"$f":"SkillConfig!#REF!","v":{"$error":"#REF!"}}]
[{"$f":"INT(SkillConfig!#REF!)","v":{"$error":"#REF!"}},{"$f":"SkillConfig!#REF!","v":{"$error":"#REF!"}},{"$f":"SkillConfig!#REF!","v":{"$error":"#REF!"}},{"$f":"SkillConfig!#REF!","v":{"$error":"#REF!"}}]
[{"$f":"INT(SkillConfig!#REF!)","v":{"$error":"#REF!"}},{"$f":"SkillConfig!#REF!","v":{"$error":"#REF!"}},{"$f":"SkillConfig!#REF!","v":{"$error":"#REF!"}},{"$f":"SkillConfig!#REF!","v":{"$error":"#REF!"}}]
[{"$f":"INT(SkillConfig!#REF!)","v":{"$error":"#REF!"}},{"$f":"SkillConfig!#REF!","v":{"$error":"#REF!"}},{"$f":"SkillConfig!#REF!","v":{"$error":"#REF!"}},{"$f":"SkillConfig!#REF!","v":{"$error":"#REF!"}}]
[{"$f":"INT(SkillConfig!#REF!)","v":{"$error":"#REF!"}},{"$f":"SkillConfig!#REF!","v":{"$error":"#REF!"}},{"$f":"SkillConfig!#REF!","v":{"$error":"#REF!"}},{"$f":"SkillConfig!#REF!","v":{"$error":"#REF!"}}]
[{"$f":"INT(SkillConfig!#REF!)","v":{"$error":"#REF!"}},{"$f":"SkillConfig!#REF!","v":{"$error":"#REF!"}},{"$f":"SkillConfig!#REF!","v":{"$error":"#REF!"}},{"$f":"SkillConfig!#REF!","v":{"$error":"#REF!"}}]
[{"$f":"INT(SkillConfig!#REF!)","v":{"$error":"#REF!"}},{"$f":"SkillConfig!#REF!","v":{"$error":"#REF!"}},{"$f":"SkillConfig!#REF!","v":{"$error":"#REF!"}},{"$f":"SkillConfig!#REF!","v":{"$error":"#REF!"}}]
[{"$f":"INT(SkillConfig!#REF!)","v":{"$error":"#REF!"}},{"$f":"SkillConfig!#REF!","v":{"$error":"#REF!"}},{"$f":"SkillConfig!#REF!","v":{"$error":"#REF!"}},{"$f":"SkillConfig!#REF!","v":{"$error":"#REF!"}}]
[{"$f":"INT(SkillConfig!#REF!)","v":{"$error":"#REF!"}},{"$f":"SkillConfig!#REF!","v":{"$error":"#REF!"}},{"$f":"SkillConfig!#REF!","v":{"$error":"#REF!"}},{"$f":"SkillConfig!#REF!","v":{"$error":"#REF!"}}]
[{"$f":"INT(SkillConfig!#REF!)","v":{"$error":"#REF!"}},{"$f":"SkillConfig!#REF!","v":{"$error":"#REF!"}},{"$f":"SkillConfig!#REF!","v":{"$error":"#REF!"}},{"$f":"SkillConfig!#REF!","v":{"$error":"#REF!"}}]
[{"$f":"INT(SkillConfig!#REF!)","v":{"$error":"#REF!"}},{"$f":"SkillConfig!#REF!","v":{"$error":"#REF!"}},{"$f":"SkillConfig!#REF!","v":{"$error":"#REF!"}},{"$f":"SkillConfig!#REF!","v":{"$error":"#REF!"}}]
[{"$f":"INT(SkillConfig!#REF!)","v":{"$error":"#REF!"}},{"$f":"SkillConfig!#REF!","v":{"$error":"#REF!"}},{"$f":"SkillConfig!#REF!","v":{"$error":"#REF!"}},{"$f":"SkillConfig!#REF!","v":{"$error":"#REF!"}}]
[{"$f":"INT(SkillConfig!#REF!)","v":{"$error":"#REF!"}},{"$f":"SkillConfig!#REF!","v":{"$error":"#REF!"}},{"$f":"SkillConfig!#REF!","v":{"$error":"#REF!"}},{"$f":"SkillConfig!#REF!","v":{"$error":"#REF!"}}]
[{"$f":"INT(SkillConfig!#REF!)","v":{"$error":"#REF!"}},{"$f":"SkillConfig!#REF!","v":{"$error":"#REF!"}},{"$f":"SkillConfig!#REF!","v":{"$error":"#REF!"}},{"$f":"SkillConfig!#REF!","v":{"$error":"#REF!"}}]
[{"$f":"INT(SkillConfig!#REF!)","v":{"$error":"#REF!"}},{"$f":"SkillConfig!#REF!","v":{"$error":"#REF!"}},{"$f":"SkillConfig!#REF!","v":{"$error":"#REF!"}},{"$f":"SkillConfig!#REF!","v":{"$error":"#REF!"}}]
[{"$f":"INT(SkillConfig!#REF!)","v":{"$error":"#REF!"}},{"$f":"SkillConfig!#REF!","v":{"$error":"#REF!"}},{"$f":"SkillConfig!#REF!","v":{"$error":"#REF!"}},{"$f":"SkillConfig!#REF!","v":{"$error":"#REF!"}}]
[{"$f":"INT(SkillConfig!#REF!)","v":{"$error":"#REF!"}},{"$f":"SkillConfig!#REF!","v":{"$error":"#REF!"}},{"$f":"SkillConfig!#REF!","v":{"$error":"#REF!"}},{"$f":"SkillConfig!#REF!","v":{"$error":"#REF!"}}]
[{"$f":"INT(SkillConfig!#REF!)","v":{"$error":"#REF!"}},{"$f":"SkillConfig!#REF!","v":{"$error":"#REF!"}},{"$f":"SkillConfig!#REF!","v":{"$error":"#REF!"}},{"$f":"SkillConfig!#REF!","v":{"$error":"#REF!"}}]
[{"$f":"INT(SkillConfig!#REF!)","v":{"$error":"#REF!"}},{"$f":"SkillConfig!#REF!","v":{"$error":"#REF!"}},{"$f":"SkillConfig!#REF!","v":{"$error":"#REF!"}},{"$f":"SkillConfig!#REF!","v":{"$error":"#REF!"}}]
[{"$f":"INT(SkillConfig!#REF!)","v":{"$error":"#REF!"}},{"$f":"SkillConfig!#REF!","v":{"$error":"#REF!"}},{"$f":"SkillConfig!#REF!","v":{"$error":"#REF!"}},{"$f":"SkillConfig!#REF!","v":{"$error":"#REF!"}}]
[{"$f":"INT(SkillConfig!#REF!)","v":{"$error":"#REF!"}},{"$f":"SkillConfig!#REF!","v":{"$error":"#REF!"}},{"$f":"SkillConfig!#REF!","v":{"$error":"#REF!"}},{"$f":"SkillConfig!#REF!","v":{"$error":"#REF!"}}]
[{"$f":"INT(SkillConfig!#REF!)","v":{"$error":"#REF!"}},{"$f":"SkillConfig!#REF!","v":{"$error":"#REF!"}},{"$f":"SkillConfig!#REF!","v":{"$error":"#REF!"}},{"$f":"SkillConfig!#REF!","v":{"$error":"#REF!"}}]
[{"$f":"INT(SkillConfig!#REF!)","v":{"$error":"#REF!"}},{"$f":"SkillConfig!#REF!","v":{"$error":"#REF!"}},{"$f":"SkillConfig!#REF!","v":{"$error":"#REF!"}},{"$f":"SkillConfig!#REF!","v":{"$error":"#REF!"}}]
[{"$f":"INT(SkillConfig!#REF!)","v":{"$error":"#REF!"}},{"$f":"SkillConfig!#REF!","v":{"$error":"#REF!"}},{"$f":"SkillConfig!#REF!","v":{"$error":"#REF!"}},{"$f":"SkillConfig!#REF!","v":{"$error":"#REF!"}}]
[{"$f":"INT(SkillConfig!#REF!)","v":{"$error":"#REF!"}},{"$f":"SkillConfig!#REF!","v":{"$error":"#REF!"}},{"$f":"SkillConfig!#REF!","v":{"$error":"#REF!"}},{"$f":"SkillConfig!#REF!","v":{"$error":"#REF!"}}]
[{"$f":"INT(SkillConfig!#REF!)","v":{"$error":"#REF!"}},{"$f":"SkillConfig!#REF!","v":{"$error":"#REF!"}},{"$f":"SkillConfig!#REF!","v":{"$error":"#REF!"}},{"$f":"SkillConfig!#REF!","v":{"$error":"#REF!"}}]
[{"$f":"INT(SkillConfig!#REF!)","v":{"$error":"#REF!"}},{"$f":"SkillConfig!#REF!","v":{"$error":"#REF!"}},{"$f":"SkillConfig!#REF!","v":{"$error":"#REF!"}},{"$f":"SkillConfig!#REF!","v":{"$error":"#REF!"}}]
[{"$f":"INT(SkillConfig!#REF!)","v":{"$error":"#REF!"}},{"$f":"SkillConfig!#REF!","v":{"$error":"#REF!"}},{"$f":"SkillConfig!#REF!","v":{"$error":"#REF!"}},{"$f":"SkillConfig!#REF!","v":{"$error":"#REF!"}}]
[{"$f":"INT(SkillConfig!#REF!)","v":{"$error":"#REF!"}},{"$f":"SkillConfig!#REF!","v":{"$error":"#REF!"}},{"$f":"SkillConfig!#REF!","v":{"$error":"#REF!"}},{"$f":"SkillConfig!#REF!","v":{"$error":"#REF!"}}]
[{"$f":"INT(SkillConfig!#REF!)","v":{"$error":"#REF!"}},{"$f":"SkillConfig!#REF!","v":{"$error":"#REF!"}},{"$f":"SkillConfig!#REF!","v":{"$error":"#REF!"}},{"$f":"SkillConfig!#REF!","v":{"$error":"#REF!"}}]
[{"$f":"INT(SkillConfig!#REF!)","v":{"$error":"#REF!"}},{"$f":"SkillConfig!#REF!","v":{"$error":"#REF!"}},{"$f":"SkillConfig!#REF!","v":{"$error":"#REF!"}},{"$f":"SkillConfig!#REF!","v":{"$error":"#REF!"}}]
[{"$f":"INT(SkillConfig!#REF!)","v":{"$error":"#REF!"}},{"$f":"SkillConfig!#REF!","v":{"$error":"#REF!"}},{"$f":"SkillConfig!#REF!","v":{"$error":"#REF!"}},{"$f":"SkillConfig!#REF!","v":{"$error":"#REF!"}}]
[{"$f":"INT(SkillConfig!#REF!)","v":{"$error":"#REF!"}},{"$f":"SkillConfig!#REF!","v":{"$error":"#REF!"}},{"$f":"SkillConfig!#REF!","v":{"$error":"#REF!"}},{"$f":"SkillConfig!#REF!","v":{"$error":"#REF!"}}]
[{"$f":"INT(SkillConfig!#REF!)","v":{"$error":"#REF!"}},{"$f":"SkillConfig!#REF!","v":{"$error":"#REF!"}},{"$f":"SkillConfig!#REF!","v":{"$error":"#REF!"}},{"$f":"SkillConfig!#REF!","v":{"$error":"#REF!"}}]
[{"$f":"INT(SkillConfig!#REF!)","v":{"$error":"#REF!"}},{"$f":"SkillConfig!#REF!","v":{"$error":"#REF!"}},{"$f":"SkillConfig!#REF!","v":{"$error":"#REF!"}},{"$f":"SkillConfig!#REF!","v":{"$error":"#REF!"}}]
[{"$f":"INT(SkillConfig!#REF!)","v":{"$error":"#REF!"}},{"$f":"SkillConfig!#REF!","v":{"$error":"#REF!"}},{"$f":"SkillConfig!#REF!","v":{"$error":"#REF!"}},{"$f":"SkillConfig!#REF!","v":{"$error":"#REF!"}}]
[{"$f":"INT(SkillConfig!#REF!)","v":{"$error":"#REF!"}},{"$f":"SkillConfig!#REF!","v":{"$error":"#REF!"}},{"$f":"SkillConfig!#REF!","v":{"$error":"#REF!"}},{"$f":"SkillConfig!#REF!","v":{"$error":"#REF!"}}]
[{"$f":"INT(SkillConfig!#REF!)","v":{"$error":"#REF!"}},{"$f":"SkillConfig!#REF!","v":{"$error":"#REF!"}},{"$f":"SkillConfig!#REF!","v":{"$error":"#REF!"}},{"$f":"SkillConfig!#REF!","v":{"$error":"#REF!"}}]
[{"$f":"INT(SkillConfig!#REF!)","v":{"$error":"#REF!"}},{"$f":"SkillConfig!#REF!","v":{"$error":"#REF!"}},{"$f":"SkillConfig!#REF!","v":{"$error":"#REF!"}},{"$f":"SkillConfig!#REF!","v":{"$error":"#REF!"}}]
[{"$f":"INT(SkillConfig!#REF!)","v":{"$error":"#REF!"}},{"$f":"SkillConfig!#REF!","v":{"$error":"#REF!"}},{"$f":"SkillConfig!#REF!","v":{"$error":"#REF!"}},{"$f":"SkillConfig!#REF!","v":{"$error":"#REF!"}}]
[{"$f":"INT(SkillConfig!#REF!)","v":{"$error":"#REF!"}},{"$f":"SkillConfig!#REF!","v":{"$error":"#REF!"}},{"$f":"SkillConfig!#REF!","v":{"$error":"#REF!"}},{"$f":"SkillConfig!#REF!","v":{"$error":"#REF!"}}]
[{"$f":"INT(SkillConfig!#REF!)","v":{"$error":"#REF!"}},{"$f":"SkillConfig!#REF!","v":{"$error":"#REF!"}},{"$f":"SkillConfig!#REF!","v":{"$error":"#REF!"}},{"$f":"SkillConfig!#REF!","v":{"$error":"#REF!"}}]
[{"$f":"INT(SkillConfig!#REF!)","v":{"$error":"#REF!"}},{"$f":"SkillConfig!#REF!","v":{"$error":"#REF!"}},{"$f":"SkillConfig!#REF!","v":{"$error":"#REF!"}},{"$f":"SkillConfig!#REF!","v":{"$error":"#REF!"}}]
[{"$f":"INT(SkillConfig!#REF!)","v":{"$error":"#REF!"}},{"$f":"SkillConfig!#REF!","v":{"$error":"#REF!"}},{"$f":"SkillConfig!#REF!","v":{"$error":"#REF!"}},{"$f":"SkillConfig!#REF!","v":{"$error":"#REF!"}}]
[{"$f":"INT(SkillConfig!#REF!)","v":{"$error":"#REF!"}},{"$f":"SkillConfig!#REF!","v":{"$error":"#REF!"}},{"$f":"SkillConfig!#REF!","v":{"$error":"#REF!"}},{"$f":"SkillConfig!#REF!","v":{"$error":"#REF!"}}]
[{"$f":"INT(SkillConfig!#REF!)","v":{"$error":"#REF!"}},{"$f":"SkillConfig!#REF!","v":{"$error":"#REF!"}},{"$f":"SkillConfig!#REF!","v":{"$error":"#REF!"}},{"$f":"SkillConfig!#REF!","v":{"$error":"#REF!"}}]
[{"$f":"INT(SkillConfig!#REF!)","v":{"$error":"#REF!"}},{"$f":"SkillConfig!#REF!","v":{"$error":"#REF!"}},{"$f":"SkillConfig!#REF!","v":{"$error":"#REF!"}},{"$f":"SkillConfig!#REF!","v":{"$error":"#REF!"}}]
[{"$f":"INT(SkillConfig!#REF!)","v":{"$error":"#REF!"}},{"$f":"SkillConfig!#REF!","v":{"$error":"#REF!"}},{"$f":"SkillConfig!#REF!","v":{"$error":"#REF!"}},{"$f":"SkillConfig!#REF!","v":{"$error":"#REF!"}}]
[{"$f":"INT(SkillConfig!#REF!)","v":{"$error":"#REF!"}},{"$f":"SkillConfig!#REF!","v":{"$error":"#REF!"}},{"$f":"SkillConfig!#REF!","v":{"$error":"#REF!"}},{"$f":"SkillConfig!#REF!","v":{"$error":"#REF!"}}]
[{"$f":"INT(SkillConfig!#REF!)","v":{"$error":"#REF!"}},{"$f":"SkillConfig!#REF!","v":{"$error":"#REF!"}},{"$f":"SkillConfig!#REF!","v":{"$error":"#REF!"}},{"$f":"SkillConfig!#REF!","v":{"$error":"#REF!"}}]
[{"$f":"INT(SkillConfig!#REF!)","v":{"$error":"#REF!"}},{"$f":"SkillConfig!#REF!","v":{"$error":"#REF!"}},{"$f":"SkillConfig!#REF!","v":{"$error":"#REF!"}},{"$f":"SkillConfig!#REF!","v":{"$error":"#REF!"}}]
[{"$f":"INT(SkillConfig!#REF!)","v":{"$error":"#REF!"}},{"$f":"SkillConfig!#REF!","v":{"$error":"#REF!"}},{"$f":"SkillConfig!#REF!","v":{"$error":"#REF!"}},{"$f":"SkillConfig!#REF!","v":{"$error":"#REF!"}}]
[{"$f":"INT(SkillConfig!#REF!)","v":{"$error":"#REF!"}},{"$f":"SkillConfig!#REF!","v":{"$error":"#REF!"}},{"$f":"SkillConfig!#REF!","v":{"$error":"#REF!"}},{"$f":"SkillConfig!#REF!","v":{"$error":"#REF!"}}]
[{"$f":"INT(SkillConfig!#REF!)","v":{"$error":"#REF!"}},{"$f":"SkillConfig!#REF!","v":{"$error":"#REF!"}},{"$f":"SkillConfig!#REF!","v":{"$error":"#REF!"}},{"$f":"SkillConfig!#REF!","v":{"$error":"#REF!"}}]
[{"$f":"INT(SkillConfig!#REF!)","v":{"$error":"#REF!"}},{"$f":"SkillConfig!#REF!","v":{"$error":"#REF!"}},{"$f":"SkillConfig!#REF!","v":{"$error":"#REF!"}},{"$f":"SkillConfig!#REF!","v":{"$error":"#REF!"}}]
[{"$f":"INT(SkillConfig!#REF!)","v":{"$error":"#REF!"}},{"$f":"SkillConfig!#REF!","v":{"$error":"#REF!"}},{"$f":"SkillConfig!#REF!","v":{"$error":"#REF!"}},{"$f":"SkillConfig!#REF!","v":{"$error":"#REF!"}}]
[{"$f":"INT(SkillConfig!#REF!)","v":{"$error":"#REF!"}},{"$f":"SkillConfig!#REF!","v":{"$error":"#REF!"}},{"$f":"SkillConfig!#REF!","v":{"$error":"#REF!"}},{"$f":"SkillConfig!#REF!","v":{"$error":"#REF!"}}]
[{"$f":"INT(SkillConfig!#REF!)","v":{"$error":"#REF!"}},{"$f":"SkillConfig!#REF!","v":{"$error":"#REF!"}},{"$f":"SkillConfig!#REF!","v":{"$error":"#REF!"}},{"$f":"SkillConfig!#REF!","v":{"$error":"#REF!"}}]
[{"$f":"INT(SkillConfig!#REF!)","v":{"$error":"#REF!"}},{"$f":"SkillConfig!#REF!","v":{"$error":"#REF!"}},{"$f":"SkillConfig!#REF!","v":{"$error":"#REF!"}},{"$f":"SkillConfig!#REF!","v":{"$error":"#REF!"}}]
[{"$f":"INT(SkillConfig!#REF!)","v":{"$error":"#REF!"}},{"$f":"SkillConfig!#REF!","v":{"$error":"#REF!"}},{"$f":"SkillConfig!#REF!","v":{"$error":"#REF!"}},{"$f":"SkillConfig!#REF!","v":{"$error":"#REF!"}}]
[{"$f":"INT(SkillConfig!#REF!)","v":{"$error":"#REF!"}},{"$f":"SkillConfig!#REF!","v":{"$error":"#REF!"}},{"$f":"SkillConfig!#REF!","v":{"$error":"#REF!"}},{"$f":"SkillConfig!#REF!","v":{"$error":"#REF!"}}]
[{"$f":"INT(SkillConfig!#REF!)","v":{"$error":"#REF!"}},{"$f":"SkillConfig!#REF!","v":{"$error":"#REF!"}},{"$f":"SkillConfig!#REF!","v":{"$error":"#REF!"}},{"$f":"SkillConfig!#REF!","v":{"$error":"#REF!"}}]
[{"$f":"INT(SkillConfig!#REF!)","v":{"$error":"#REF!"}},{"$f":"SkillConfig!#REF!","v":{"$error":"#REF!"}},{"$f":"SkillConfig!#REF!","v":{"$error":"#REF!"}},{"$f":"SkillConfig!#REF!","v":{"$error":"#REF!"}}]
[{"$f":"INT(SkillConfig!#REF!)","v":{"$error":"#REF!"}},{"$f":"SkillConfig!#REF!","v":{"$error":"#REF!"}},{"$f":"SkillConfig!#REF!","v":{"$error":"#REF!"}},{"$f":"SkillConfig!#REF!","v":{"$error":"#REF!"}}]
[{"$f":"INT(SkillConfig!#REF!)","v":{"$error":"#REF!"}},{"$f":"SkillConfig!#REF!","v":{"$error":"#REF!"}},{"$f":"SkillConfig!#REF!","v":{"$error":"#REF!"}},{"$f":"SkillConfig!#REF!","v":{"$error":"#REF!"}}]
[{"$f":"INT(SkillConfig!#REF!)","v":{"$error":"#REF!"}},{"$f":"SkillConfig!#REF!","v":{"$error":"#REF!"}},{"$f":"SkillConfig!#REF!","v":{"$error":"#REF!"}},{"$f":"SkillConfig!#REF!","v":{"$error":"#REF!"}}]
[{"$f":"INT(SkillConfig!#REF!)","v":{"$error":"#REF!"}},{"$f":"SkillConfig!#REF!","v":{"$error":"#REF!"}},{"$f":"SkillConfig!#REF!","v":{"$error":"#REF!"}},{"$f":"SkillConfig!#REF!","v":{"$error":"#REF!"}}]
[{"$f":"INT(SkillConfig!#REF!)","v":{"$error":"#REF!"}},{"$f":"SkillConfig!#REF!","v":{"$error":"#REF!"}},{"$f":"SkillConfig!#REF!","v":{"$error":"#REF!"}},{"$f":"SkillConfig!#REF!","v":{"$error":"#REF!"}}]
[{"$f":"INT(SkillConfig!#REF!)","v":{"$error":"#REF!"}},{"$f":"SkillConfig!#REF!","v":{"$error":"#REF!"}},{"$f":"SkillConfig!#REF!","v":{"$error":"#REF!"}},{"$f":"SkillConfig!#REF!","v":{"$error":"#REF!"}}]
[{"$f":"INT(SkillConfig!#REF!)","v":{"$error":"#REF!"}},{"$f":"SkillConfig!#REF!","v":{"$error":"#REF!"}},{"$f":"SkillConfig!#REF!","v":{"$error":"#REF!"}},{"$f":"SkillConfig!#REF!","v":{"$error":"#REF!"}}]
[{"$f":"INT(SkillConfig!#REF!)","v":{"$error":"#REF!"}},{"$f":"SkillConfig!#REF!","v":{"$error":"#REF!"}},{"$f":"SkillConfig!#REF!","v":{"$error":"#REF!"}},{"$f":"SkillConfig!#REF!","v":{"$error":"#REF!"}}]
[{"$f":"INT(SkillConfig!#REF!)","v":{"$error":"#REF!"}},{"$f":"SkillConfig!#REF!","v":{"$error":"#REF!"}},{"$f":"SkillConfig!#REF!","v":{"$error":"#REF!"}},{"$f":"SkillConfig!#REF!","v":{"$error":"#REF!"}}]
[{"$f":"INT(SkillConfig!#REF!)","v":{"$error":"#REF!"}},{"$f":"SkillConfig!#REF!","v":{"$error":"#REF!"}},{"$f":"SkillConfig!#REF!","v":{"$error":"#REF!"}},{"$f":"SkillConfig!#REF!","v":{"$error":"#REF!"}}]
[{"$f":"INT(SkillConfig!#REF!)","v":{"$error":"#REF!"}},{"$f":"SkillConfig!#REF!","v":{"$error":"#REF!"}},{"$f":"SkillConfig!#REF!","v":{"$error":"#REF!"}},{"$f":"SkillConfig!#REF!","v":{"$error":"#REF!"}}]
[{"$f":"INT(SkillConfig!#REF!)","v":{"$error":"#REF!"}},{"$f":"SkillConfig!#REF!","v":{"$error":"#REF!"}},{"$f":"SkillConfig!#REF!","v":{"$error":"#REF!"}},{"$f":"SkillConfig!#REF!","v":{"$error":"#REF!"}}]
[{"$f":"INT(SkillConfig!#REF!)","v":{"$error":"#REF!"}},{"$f":"SkillConfig!#REF!","v":{"$error":"#REF!"}},{"$f":"SkillConfig!#REF!","v":{"$error":"#REF!"}},{"$f":"SkillConfig!#REF!","v":{"$error":"#REF!"}}]
[{"$f":"INT(SkillConfig!#REF!)","v":{"$error":"#REF!"}},{"$f":"SkillConfig!#REF!","v":{"$error":"#REF!"}},{"$f":"SkillConfig!#REF!","v":{"$error":"#REF!"}},{"$f":"SkillConfig!#REF!","v":{"$error":"#REF!"}}]
[{"$f":"INT(SkillConfig!#REF!)","v":{"$error":"#REF!"}},{"$f":"SkillConfig!#REF!","v":{"$error":"#REF!"}},{"$f":"SkillConfig!#REF!","v":{"$error":"#REF!"}},{"$f":"SkillConfig!#REF!","v":{"$error":"#REF!"}}]
[{"$f":"INT(SkillConfig!#REF!)","v":{"$error":"#REF!"}},{"$f":"SkillConfig!#REF!","v":{"$error":"#REF!"}},{"$f":"SkillConfig!#REF!","v":{"$error":"#REF!"}},{"$f":"SkillConfig!#REF!","v":{"$error":"#REF!"}}]
[{"$f":"INT(SkillConfig!#REF!)","v":{"$error":"#REF!"}},{"$f":"SkillConfig!#REF!","v":{"$error":"#REF!"}},{"$f":"SkillConfig!#REF!","v":{"$error":"#REF!"}},{"$f":"SkillConfig!#REF!","v":{"$error":"#REF!"}}]
[{"$f":"INT(SkillConfig!#REF!)","v":{"$error":"#REF!"}},{"$f":"SkillConfig!#REF!","v":{"$error":"#REF!"}},{"$f":"SkillConfig!#REF!","v":{"$error":"#REF!"}},{"$f":"SkillConfig!#REF!","v":{"$error":"#REF!"}}]
[{"$f":"INT(SkillConfig!#REF!)","v":{"$error":"#REF!"}},{"$f":"SkillConfig!#REF!","v":{"$error":"#REF!"}},{"$f":"SkillConfig!#REF!","v":{"$error":"#REF!"}},{"$f":"SkillConfig!#REF!","v":{"$error":"#REF!"}}]
[{"$f":"INT(SkillConfig!#REF!)","v":{"$error":"#REF!"}},{"$f":"SkillConfig!#REF!","v":{"$error":"#REF!"}},{"$f":"SkillConfig!#REF!","v":{"$error":"#REF!"}},{"$f":"SkillConfig!#REF!","v":{"$error":"#REF!"}}]
[{"$f":"INT(SkillConfig!#REF!)","v":{"$error":"#REF!"}},{"$f":"SkillConfig!#REF!","v":{"$error":"#REF!"}},{"$f":"SkillConfig!#REF!","v":{"$error":"#REF!"}},{"$f":"SkillConfig!#REF!","v":{"$error":"#REF!"}}]
[{"$f":"INT(SkillConfig!#REF!)","v":{"$error":"#REF!"}},{"$f":"SkillConfig!#REF!","v":{"$error":"#REF!"}},{"$f":"SkillConfig!#REF!","v":{"$error":"#REF!"}},{"$f":"SkillConfig!#REF!","v":{"$error":"#REF!"}}]
[{"$f":"INT(SkillConfig!#REF!)","v":{"$error":"#REF!"}},{"$f":"SkillConfig!#REF!","v":{"$error":"#REF!"}},{"$f":"SkillConfig!#REF!","v":{"$error":"#REF!"}},{"$f":"SkillConfig!#REF!","v":{"$error":"#REF!"}}]
[{"$f":"INT(SkillConfig!#REF!)","v":{"$error":"#REF!"}},{"$f":"SkillConfig!#REF!","v":{"$error":"#REF!"}},{"$f":"SkillConfig!#REF!","v":{"$error":"#REF!"}},{"$f":"SkillConfig!#REF!","v":{"$error":"#REF!"}}]
[{"$f":"INT(SkillConfig!#REF!)","v":{"$error":"#REF!"}},{"$f":"SkillConfig!#REF!","v":{"$error":"#REF!"}},{"$f":"SkillConfig!#REF!","v":{"$error":"#REF!"}},{"$f":"SkillConfig!#REF!","v":{"$error":"#REF!"}}]
[{"$f":"INT(SkillConfig!#REF!)","v":{"$error":"#REF!"}},{"$f":"SkillConfig!#REF!","v":{"$error":"#REF!"}},{"$f":"SkillConfig!#REF!","v":{"$error":"#REF!"}},{"$f":"SkillConfig!#REF!","v":{"$error":"#REF!"}}]
[{"$f":"INT(SkillConfig!#REF!)","v":{"$error":"#REF!"}},{"$f":"SkillConfig!#REF!","v":{"$error":"#REF!"}},{"$f":"SkillConfig!#REF!","v":{"$error":"#REF!"}},{"$f":"SkillConfig!#REF!","v":{"$error":"#REF!"}}]
[{"$f":"INT(SkillConfig!#REF!)","v":{"$error":"#REF!"}},{"$f":"SkillConfig!#REF!","v":{"$error":"#REF!"}},{"$f":"SkillConfig!#REF!","v":{"$error":"#REF!"}},{"$f":"SkillConfig!#REF!","v":{"$error":"#REF!"}}]
[{"$f":"INT(SkillConfig!#REF!)","v":{"$error":"#REF!"}},{"$f":"SkillConfig!#REF!","v":{"$error":"#REF!"}},{"$f":"SkillConfig!#REF!","v":{"$error":"#REF!"}},{"$f":"SkillConfig!#REF!","v":{"$error":"#REF!"}}]
[{"$f":"INT(SkillConfig!#REF!)","v":{"$error":"#REF!"}},{"$f":"SkillConfig!#REF!","v":{"$error":"#REF!"}},{"$f":"SkillConfig!#REF!","v":{"$error":"#REF!"}},{"$f":"SkillConfig!#REF!","v":{"$error":"#REF!"}}]
[{"$f":"INT(SkillConfig!#REF!)","v":{"$error":"#REF!"}},{"$f":"SkillConfig!#REF!","v":{"$error":"#REF!"}},{"$f":"SkillConfig!#REF!","v":{"$error":"#REF!"}},{"$f":"SkillConfig!#REF!","v":{"$error":"#REF!"}}]
[{"$f":"INT(SkillConfig!#REF!)","v":{"$error":"#REF!"}},{"$f":"SkillConfig!#REF!","v":{"$error":"#REF!"}},{"$f":"SkillConfig!#REF!","v":{"$error":"#REF!"}},{"$f":"SkillConfig!#REF!","v":{"$error":"#REF!"}}]
[{"$f":"INT(SkillConfig!#REF!)","v":{"$error":"#REF!"}},{"$f":"SkillConfig!#REF!","v":{"$error":"#REF!"}},{"$f":"SkillConfig!#REF!","v":{"$error":"#REF!"}},{"$f":"SkillConfig!#REF!","v":{"$error":"#REF!"}}]
[{"$f":"INT(SkillConfig!#REF!)","v":{"$error":"#REF!"}},{"$f":"SkillConfig!#REF!","v":{"$error":"#REF!"}},{"$f":"SkillConfig!#REF!","v":{"$error":"#REF!"}},{"$f":"SkillConfig!#REF!","v":{"$error":"#REF!"}}]
[{"$f":"INT(SkillConfig!#REF!)","v":{"$error":"#REF!"}},{"$f":"SkillConfig!#REF!","v":{"$error":"#REF!"}},{"$f":"SkillConfig!#REF!","v":{"$error":"#REF!"}},{"$f":"SkillConfig!#REF!","v":{"$error":"#REF!"}}]
[{"$f":"INT(SkillConfig!#REF!)","v":{"$error":"#REF!"}},{"$f":"SkillConfig!#REF!","v":{"$error":"#REF!"}},{"$f":"SkillConfig!#REF!","v":{"$error":"#REF!"}},{"$f":"SkillConfig!#REF!","v":{"$error":"#REF!"}}]
[{"$f":"INT(SkillConfig!#REF!)","v":{"$error":"#REF!"}},{"$f":"SkillConfig!#REF!","v":{"$error":"#REF!"}},{"$f":"SkillConfig!#REF!","v":{"$error":"#REF!"}},{"$f":"SkillConfig!#REF!","v":{"$error":"#REF!"}}]
[{"$f":"INT(SkillConfig!#REF!)","v":{"$error":"#REF!"}},{"$f":"SkillConfig!#REF!","v":{"$error":"#REF!"}},{"$f":"SkillConfig!#REF!","v":{"$error":"#REF!"}},{"$f":"SkillConfig!#REF!","v":{"$error":"#REF!"}}]
[{"$f":"INT(SkillConfig!#REF!)","v":{"$error":"#REF!"}},{"$f":"SkillConfig!#REF!","v":{"$error":"#REF!"}},{"$f":"SkillConfig!#REF!","v":{"$error":"#REF!"}},{"$f":"SkillConfig!#REF!","v":{"$error":"#REF!"}}]
[{"$f":"INT(SkillConfig!#REF!)","v":{"$error":"#REF!"}},{"$f":"SkillConfig!#REF!","v":{"$error":"#REF!"}},{"$f":"SkillConfig!#REF!","v":{"$error":"#REF!"}},{"$f":"SkillConfig!#REF!","v":{"$error":"#REF!"}}]
[{"$f":"INT(SkillConfig!#REF!)","v":{"$error":"#REF!"}},{"$f":"SkillConfig!#REF!","v":{"$error":"#REF!"}},{"$f":"SkillConfig!#REF!","v":{"$error":"#REF!"}},{"$f":"SkillConfig!#REF!","v":{"$error":"#REF!"}}]
[{"$f":"INT(SkillConfig!#REF!)","v":{"$error":"#REF!"}},{"$f":"SkillConfig!#REF!","v":{"$error":"#REF!"}},{"$f":"SkillConfig!#REF!","v":{"$error":"#REF!"}},{"$f":"SkillConfig!#REF!","v":{"$error":"#REF!"}}]
[{"$f":"INT(SkillConfig!#REF!)","v":{"$error":"#REF!"}},{"$f":"SkillConfig!#REF!","v":{"$error":"#REF!"}},{"$f":"SkillConfig!#REF!","v":{"$error":"#REF!"}},{"$f":"SkillConfig!#REF!","v":{"$error":"#REF!"}}]
[{"$f":"INT(SkillConfig!#REF!)","v":{"$error":"#REF!"}},{"$f":"SkillConfig!#REF!","v":{"$error":"#REF!"}},{"$f":"SkillConfig!#REF!","v":{"$error":"#REF!"}},{"$f":"SkillConfig!#REF!","v":{"$error":"#REF!"}}]
[{"$f":"INT(SkillConfig!#REF!)","v":{"$error":"#REF!"}},{"$f":"SkillConfig!#REF!","v":{"$error":"#REF!"}},{"$f":"SkillConfig!#REF!","v":{"$error":"#REF!"}},{"$f":"SkillConfig!#REF!","v":{"$error":"#REF!"}}]
[{"$f":"INT(SkillConfig!#REF!)","v":{"$error":"#REF!"}},{"$f":"SkillConfig!#REF!","v":{"$error":"#REF!"}},{"$f":"SkillConfig!#REF!","v":{"$error":"#REF!"}},{"$f":"SkillConfig!#REF!","v":{"$error":"#REF!"}}]
[{"$f":"INT(SkillConfig!#REF!)","v":{"$error":"#REF!"}},{"$f":"SkillConfig!#REF!","v":{"$error":"#REF!"}},{"$f":"SkillConfig!#REF!","v":{"$error":"#REF!"}},{"$f":"SkillConfig!#REF!","v":{"$error":"#REF!"}}]
[{"$f":"INT(SkillConfig!#REF!)","v":{"$error":"#REF!"}},{"$f":"SkillConfig!#REF!","v":{"$error":"#REF!"}},{"$f":"SkillConfig!#REF!","v":{"$error":"#REF!"}},{"$f":"SkillConfig!#REF!","v":{"$error":"#REF!"}}]
[{"$f":"INT(SkillConfig!#REF!)","v":{"$error":"#REF!"}},{"$f":"SkillConfig!#REF!","v":{"$error":"#REF!"}},{"$f":"SkillConfig!#REF!","v":{"$error":"#REF!"}},{"$f":"SkillConfig!#REF!","v":{"$error":"#REF!"}}]
[{"$f":"INT(SkillConfig!#REF!)","v":{"$error":"#REF!"}},{"$f":"SkillConfig!#REF!","v":{"$error":"#REF!"}},{"$f":"SkillConfig!#REF!","v":{"$error":"#REF!"}},{"$f":"SkillConfig!#REF!","v":{"$error":"#REF!"}}]
[{"$f":"INT(SkillConfig!#REF!)","v":{"$error":"#REF!"}},{"$f":"SkillConfig!#REF!","v":{"$error":"#REF!"}},{"$f":"SkillConfig!#REF!","v":{"$error":"#REF!"}},{"$f":"SkillConfig!#REF!","v":{"$error":"#REF!"}}]
[{"$f":"INT(SkillConfig!#REF!)","v":{"$error":"#REF!"}},{"$f":"SkillConfig!#REF!","v":{"$error":"#REF!"}},{"$f":"SkillConfig!#REF!","v":{"$error":"#REF!"}},{"$f":"SkillConfig!#REF!","v":{"$error":"#REF!"}}]
[{"$f":"INT(SkillConfig!#REF!)","v":{"$error":"#REF!"}},{"$f":"SkillConfig!#REF!","v":{"$error":"#REF!"}},{"$f":"SkillConfig!#REF!","v":{"$error":"#REF!"}},{"$f":"SkillConfig!#REF!","v":{"$error":"#REF!"}}]
[{"$f":"INT(SkillConfig!#REF!)","v":{"$error":"#REF!"}},{"$f":"SkillConfig!#REF!","v":{"$error":"#REF!"}},{"$f":"SkillConfig!#REF!","v":{"$error":"#REF!"}},{"$f":"SkillConfig!#REF!","v":{"$error":"#REF!"}}]
[{"$f":"INT(SkillConfig!#REF!)","v":{"$error":"#REF!"}},{"$f":"SkillConfig!#REF!","v":{"$error":"#REF!"}},{"$f":"SkillConfig!#REF!","v":{"$error":"#REF!"}},{"$f":"SkillConfig!#REF!","v":{"$error":"#REF!"}}]
[{"$f":"INT(SkillConfig!#REF!)","v":{"$error":"#REF!"}},{"$f":"SkillConfig!#REF!","v":{"$error":"#REF!"}},{"$f":"SkillConfig!#REF!","v":{"$error":"#REF!"}},{"$f":"SkillConfig!#REF!","v":{"$error":"#REF!"}}]
[{"$f":"INT(SkillConfig!#REF!)","v":{"$error":"#REF!"}},{"$f":"SkillConfig!#REF!","v":{"$error":"#REF!"}},{"$f":"SkillConfig!#REF!","v":{"$error":"#REF!"}},{"$f":"SkillConfig!#REF!","v":{"$error":"#REF!"}}]
[{"$f":"INT(SkillConfig!#REF!)","v":{"$error":"#REF!"}},{"$f":"SkillConfig!#REF!","v":{"$error":"#REF!"}},{"$f":"SkillConfig!#REF!","v":{"$error":"#REF!"}},{"$f":"SkillConfig!#REF!","v":{"$error":"#REF!"}}]
[{"$f":"INT(SkillConfig!#REF!)","v":{"$error":"#REF!"}},{"$f":"SkillConfig!#REF!","v":{"$error":"#REF!"}},{"$f":"SkillConfig!#REF!","v":{"$error":"#REF!"}},{"$f":"SkillConfig!#REF!","v":{"$error":"#REF!"}}]
[{"$f":"INT(SkillConfig!#REF!)","v":{"$error":"#REF!"}},{"$f":"SkillConfig!#REF!","v":{"$error":"#REF!"}},{"$f":"SkillConfig!#REF!","v":{"$error":"#REF!"}},{"$f":"SkillConfig!#REF!","v":{"$error":"#REF!"}}]
[{"$f":"INT(SkillConfig!#REF!)","v":{"$error":"#REF!"}},{"$f":"SkillConfig!#REF!","v":{"$error":"#REF!"}},{"$f":"SkillConfig!#REF!","v":{"$error":"#REF!"}},{"$f":"SkillConfig!#REF!","v":{"$error":"#REF!"}}]
[{"$f":"INT(SkillConfig!#REF!)","v":{"$error":"#REF!"}},{"$f":"SkillConfig!#REF!","v":{"$error":"#REF!"}},{"$f":"SkillConfig!#REF!","v":{"$error":"#REF!"}},{"$f":"SkillConfig!#REF!","v":{"$error":"#REF!"}}]
[{"$f":"INT(SkillConfig!#REF!)","v":{"$error":"#REF!"}},{"$f":"SkillConfig!#REF!","v":{"$error":"#REF!"}},{"$f":"SkillConfig!#REF!","v":{"$error":"#REF!"}},{"$f":"SkillConfig!#REF!","v":{"$error":"#REF!"}}]
[{"$f":"INT(SkillConfig!#REF!)","v":{"$error":"#REF!"}},{"$f":"SkillConfig!#REF!","v":{"$error":"#REF!"}},{"$f":"SkillConfig!#REF!","v":{"$error":"#REF!"}},{"$f":"SkillConfig!#REF!","v":{"$error":"#REF!"}}]
[{"$f":"INT(SkillConfig!#REF!)","v":{"$error":"#REF!"}},{"$f":"SkillConfig!#REF!","v":{"$error":"#REF!"}},{"$f":"SkillConfig!#REF!","v":{"$error":"#REF!"}},{"$f":"SkillConfig!#REF!","v":{"$error":"#REF!"}}]
[{"$f":"INT(SkillConfig!#REF!)","v":{"$error":"#REF!"}},{"$f":"SkillConfig!#REF!","v":{"$error":"#REF!"}},{"$f":"SkillConfig!#REF!","v":{"$error":"#REF!"}},{"$f":"SkillConfig!#REF!","v":{"$error":"#REF!"}}]
[{"$f":"INT(SkillConfig!#REF!)","v":{"$error":"#REF!"}},{"$f":"SkillConfig!#REF!","v":{"$error":"#REF!"}},{"$f":"SkillConfig!#REF!","v":{"$error":"#REF!"}},{"$f":"SkillConfig!#REF!","v":{"$error":"#REF!"}}]
[{"$f":"INT(SkillConfig!#REF!)","v":{"$error":"#REF!"}},{"$f":"SkillConfig!#REF!","v":{"$error":"#REF!"}},{"$f":"SkillConfig!#REF!","v":{"$error":"#REF!"}},{"$f":"SkillConfig!#REF!","v":{"$error":"#REF!"}}]
[{"$f":"INT(SkillConfig!#REF!)","v":{"$error":"#REF!"}},{"$f":"SkillConfig!#REF!","v":{"$error":"#REF!"}},{"$f":"SkillConfig!#REF!","v":{"$error":"#REF!"}},{"$f":"SkillConfig!#REF!","v":{"$error":"#REF!"}}]
[{"$f":"INT(SkillConfig!#REF!)","v":{"$error":"#REF!"}},{"$f":"SkillConfig!#REF!","v":{"$error":"#REF!"}},{"$f":"SkillConfig!#REF!","v":{"$error":"#REF!"}},{"$f":"SkillConfig!#REF!","v":{"$error":"#REF!"}}]
[{"$f":"INT(SkillConfig!#REF!)","v":{"$error":"#REF!"}},{"$f":"SkillConfig!#REF!","v":{"$error":"#REF!"}},{"$f":"SkillConfig!#REF!","v":{"$error":"#REF!"}},{"$f":"SkillConfig!#REF!","v":{"$error":"#REF!"}}]
[{"$f":"INT(SkillConfig!#REF!)","v":{"$error":"#REF!"}},{"$f":"SkillConfig!#REF!","v":{"$error":"#REF!"}},{"$f":"SkillConfig!#REF!","v":{"$error":"#REF!"}},{"$f":"SkillConfig!#REF!","v":{"$error":"#REF!"}}]
[{"$f":"INT(SkillConfig!#REF!)","v":{"$error":"#REF!"}},{"$f":"SkillConfig!#REF!","v":{"$error":"#REF!"}},{"$f":"SkillConfig!#REF!","v":{"$error":"#REF!"}},{"$f":"SkillConfig!#REF!","v":{"$error":"#REF!"}}]
[{"$f":"INT(SkillConfig!#REF!)","v":{"$error":"#REF!"}},{"$f":"SkillConfig!#REF!","v":{"$error":"#REF!"}},{"$f":"SkillConfig!#REF!","v":{"$error":"#REF!"}},{"$f":"SkillConfig!#REF!","v":{"$error":"#REF!"}}]
[{"$f":"INT(SkillConfig!#REF!)","v":{"$error":"#REF!"}},{"$f":"SkillConfig!#REF!","v":{"$error":"#REF!"}},{"$f":"SkillConfig!#REF!","v":{"$error":"#REF!"}},{"$f":"SkillConfig!#REF!","v":{"$error":"#REF!"}}]
[{"$f":"INT(SkillConfig!#REF!)","v":{"$error":"#REF!"}},{"$f":"SkillConfig!#REF!","v":{"$error":"#REF!"}},{"$f":"SkillConfig!#REF!","v":{"$error":"#REF!"}},{"$f":"SkillConfig!#REF!","v":{"$error":"#REF!"}}]
[{"$f":"INT(SkillConfig!#REF!)","v":{"$error":"#REF!"}},{"$f":"SkillConfig!#REF!","v":{"$error":"#REF!"}},{"$f":"SkillConfig!#REF!","v":{"$error":"#REF!"}},{"$f":"SkillConfig!#REF!","v":{"$error":"#REF!"}}]
[{"$f":"INT(SkillConfig!#REF!)","v":{"$error":"#REF!"}},{"$f":"SkillConfig!#REF!","v":{"$error":"#REF!"}},{"$f":"SkillConfig!#REF!","v":{"$error":"#REF!"}},{"$f":"SkillConfig!#REF!","v":{"$error":"#REF!"}}]
[{"$f":"INT(SkillConfig!#REF!)","v":{"$error":"#REF!"}},{"$f":"SkillConfig!#REF!","v":{"$error":"#REF!"}},{"$f":"SkillConfig!#REF!","v":{"$error":"#REF!"}},{"$f":"SkillConfig!#REF!","v":{"$error":"#REF!"}}]
[{"$f":"INT(SkillConfig!#REF!)","v":{"$error":"#REF!"}},{"$f":"SkillConfig!#REF!","v":{"$error":"#REF!"}},{"$f":"SkillConfig!#REF!","v":{"$error":"#REF!"}},{"$f":"SkillConfig!#REF!","v":{"$error":"#REF!"}}]
[{"$f":"INT(SkillConfig!#REF!)","v":{"$error":"#REF!"}},{"$f":"SkillConfig!#REF!","v":{"$error":"#REF!"}},{"$f":"SkillConfig!#REF!","v":{"$error":"#REF!"}},{"$f":"SkillConfig!#REF!","v":{"$error":"#REF!"}}]
[{"$f":"INT(SkillConfig!#REF!)","v":{"$error":"#REF!"}},{"$f":"SkillConfig!#REF!","v":{"$error":"#REF!"}},{"$f":"SkillConfig!#REF!","v":{"$error":"#REF!"}},{"$f":"SkillConfig!#REF!","v":{"$error":"#REF!"}}]
[{"$f":"INT(SkillConfig!#REF!)","v":{"$error":"#REF!"}},{"$f":"SkillConfig!#REF!","v":{"$error":"#REF!"}},{"$f":"SkillConfig!#REF!","v":{"$error":"#REF!"}},{"$f":"SkillConfig!#REF!","v":{"$error":"#REF!"}}]
[{"$f":"INT(SkillConfig!#REF!)","v":{"$error":"#REF!"}},{"$f":"SkillConfig!#REF!","v":{"$error":"#REF!"}},{"$f":"SkillConfig!#REF!","v":{"$error":"#REF!"}},{"$f":"SkillConfig!#REF!","v":{"$error":"#REF!"}}]
[{"$f":"INT(SkillConfig!#REF!)","v":{"$error":"#REF!"}},{"$f":"SkillConfig!#REF!","v":{"$error":"#REF!"}},{"$f":"SkillConfig!#REF!","v":{"$error":"#REF!"}},{"$f":"SkillConfig!#REF!","v":{"$error":"#REF!"}}]
[{"$f":"INT(SkillConfig!#REF!)","v":{"$error":"#REF!"}},{"$f":"SkillConfig!#REF!","v":{"$error":"#REF!"}},{"$f":"SkillConfig!#REF!","v":{"$error":"#REF!"}},{"$f":"SkillConfig!#REF!","v":{"$error":"#REF!"}}]
[{"$f":"INT(SkillConfig!#REF!)","v":{"$error":"#REF!"}},{"$f":"SkillConfig!#REF!","v":{"$error":"#REF!"}},{"$f":"SkillConfig!#REF!","v":{"$error":"#REF!"}},{"$f":"SkillConfig!#REF!","v":{"$error":"#REF!"}}]
[{"$f":"INT(SkillConfig!#REF!)","v":{"$error":"#REF!"}},{"$f":"SkillConfig!#REF!","v":{"$error":"#REF!"}},{"$f":"SkillConfig!#REF!","v":{"$error":"#REF!"}},{"$f":"SkillConfig!#REF!","v":{"$error":"#REF!"}}]
[{"$f":"INT(SkillConfig!#REF!)","v":{"$error":"#REF!"}},{"$f":"SkillConfig!#REF!","v":{"$error":"#REF!"}},{"$f":"SkillConfig!#REF!","v":{"$error":"#REF!"}},{"$f":"SkillConfig!#REF!","v":{"$error":"#REF!"}}]
[{"$f":"INT(SkillConfig!#REF!)","v":{"$error":"#REF!"}},{"$f":"SkillConfig!#REF!","v":{"$error":"#REF!"}},{"$f":"SkillConfig!#REF!","v":{"$error":"#REF!"}},{"$f":"SkillConfig!#REF!","v":{"$error":"#REF!"}}]
[{"$f":"INT(SkillConfig!#REF!)","v":{"$error":"#REF!"}},{"$f":"SkillConfig!#REF!","v":{"$error":"#REF!"}},{"$f":"SkillConfig!#REF!","v":{"$error":"#REF!"}},{"$f":"SkillConfig!#REF!","v":{"$error":"#REF!"}}]
[{"$f":"INT(SkillConfig!#REF!)","v":{"$error":"#REF!"}},{"$f":"SkillConfig!#REF!","v":{"$error":"#REF!"}},{"$f":"SkillConfig!#REF!","v":{"$error":"#REF!"}},{"$f":"SkillConfig!#REF!","v":{"$error":"#REF!"}}]
[{"$f":"INT(SkillConfig!#REF!)","v":{"$error":"#REF!"}},{"$f":"SkillConfig!#REF!","v":{"$error":"#REF!"}},{"$f":"SkillConfig!#REF!","v":{"$error":"#REF!"}},{"$f":"SkillConfig!#REF!","v":{"$error":"#REF!"}}]
[{"$f":"INT(SkillConfig!#REF!)","v":{"$error":"#REF!"}},{"$f":"SkillConfig!#REF!","v":{"$error":"#REF!"}},{"$f":"SkillConfig!#REF!","v":{"$error":"#REF!"}},{"$f":"SkillConfig!#REF!","v":{"$error":"#REF!"}}]
[{"$f":"INT(SkillConfig!#REF!)","v":{"$error":"#REF!"}},{"$f":"SkillConfig!#REF!","v":{"$error":"#REF!"}},{"$f":"SkillConfig!#REF!","v":{"$error":"#REF!"}},{"$f":"SkillConfig!#REF!","v":{"$error":"#REF!"}}]
[{"$f":"INT(SkillConfig!#REF!)","v":{"$error":"#REF!"}},{"$f":"SkillConfig!#REF!","v":{"$error":"#REF!"}},{"$f":"SkillConfig!#REF!","v":{"$error":"#REF!"}},{"$f":"SkillConfig!#REF!","v":{"$error":"#REF!"}}]
[{"$f":"INT(SkillConfig!#REF!)","v":{"$error":"#REF!"}},{"$f":"SkillConfig!#REF!","v":{"$error":"#REF!"}},{"$f":"SkillConfig!#REF!","v":{"$error":"#REF!"}},{"$f":"SkillConfig!#REF!","v":{"$error":"#REF!"}}]
[{"$f":"INT(SkillConfig!#REF!)","v":{"$error":"#REF!"}},{"$f":"SkillConfig!#REF!","v":{"$error":"#REF!"}},{"$f":"SkillConfig!#REF!","v":{"$error":"#REF!"}},{"$f":"SkillConfig!#REF!","v":{"$error":"#REF!"}}]
[{"$f":"INT(SkillConfig!#REF!)","v":{"$error":"#REF!"}},{"$f":"SkillConfig!#REF!","v":{"$error":"#REF!"}},{"$f":"SkillConfig!#REF!","v":{"$error":"#REF!"}},{"$f":"SkillConfig!#REF!","v":{"$error":"#REF!"}}]
[{"$f":"INT(SkillConfig!#REF!)","v":{"$error":"#REF!"}},{"$f":"SkillConfig!#REF!","v":{"$error":"#REF!"}},{"$f":"SkillConfig!#REF!","v":{"$error":"#REF!"}},{"$f":"SkillConfig!#REF!","v":{"$error":"#REF!"}}]
[{"$f":"INT(SkillConfig!#REF!)","v":{"$error":"#REF!"}},{"$f":"SkillConfig!#REF!","v":{"$error":"#REF!"}},{"$f":"SkillConfig!#REF!","v":{"$error":"#REF!"}},{"$f":"SkillConfig!#REF!","v":{"$error":"#REF!"}}]
[{"$f":"INT(SkillConfig!#REF!)","v":{"$error":"#REF!"}},{"$f":"SkillConfig!#REF!","v":{"$error":"#REF!"}},{"$f":"SkillConfig!#REF!","v":{"$error":"#REF!"}},{"$f":"SkillConfig!#REF!","v":{"$error":"#REF!"}}]
[{"$f":"INT(SkillConfig!#REF!)","v":{"$error":"#REF!"}},{"$f":"SkillConfig!#REF!","v":{"$error":"#REF!"}},{"$f":"SkillConfig!#REF!","v":{"$error":"#REF!"}},{"$f":"SkillConfig!#REF!","v":{"$error":"#REF!"}}]
[{"$f":"INT(SkillConfig!#REF!)","v":{"$error":"#REF!"}},{"$f":"SkillConfig!#REF!","v":{"$error":"#REF!"}},{"$f":"SkillConfig!#REF!","v":{"$error":"#REF!"}},{"$f":"SkillConfig!#REF!","v":{"$error":"#REF!"}}]
[{"$f":"INT(SkillConfig!#REF!)","v":{"$error":"#REF!"}},{"$f":"SkillConfig!#REF!","v":{"$error":"#REF!"}},{"$f":"SkillConfig!#REF!","v":{"$error":"#REF!"}},{"$f":"SkillConfig!#REF!","v":{"$error":"#REF!"}}]
[{"$f":"INT(SkillConfig!#REF!)","v":{"$error":"#REF!"}},{"$f":"SkillConfig!#REF!","v":{"$error":"#REF!"}},{"$f":"SkillConfig!#REF!","v":{"$error":"#REF!"}},{"$f":"SkillConfig!#REF!","v":{"$error":"#REF!"}}]
[{"$f":"INT(SkillConfig!#REF!)","v":{"$error":"#REF!"}},{"$f":"SkillConfig!#REF!","v":{"$error":"#REF!"}},{"$f":"SkillConfig!#REF!","v":{"$error":"#REF!"}},{"$f":"SkillConfig!#REF!","v":{"$error":"#REF!"}}]
[{"$f":"INT(SkillConfig!#REF!)","v":{"$error":"#REF!"}},{"$f":"SkillConfig!#REF!","v":{"$error":"#REF!"}},{"$f":"SkillConfig!#REF!","v":{"$error":"#REF!"}},{"$f":"SkillConfig!#REF!","v":{"$error":"#REF!"}}]
[{"$f":"INT(SkillConfig!#REF!)","v":{"$error":"#REF!"}},{"$f":"SkillConfig!#REF!","v":{"$error":"#REF!"}},{"$f":"SkillConfig!#REF!","v":{"$error":"#REF!"}},{"$f":"SkillConfig!#REF!","v":{"$error":"#REF!"}}]
[{"$f":"INT(SkillConfig!#REF!)","v":{"$error":"#REF!"}},{"$f":"SkillConfig!#REF!","v":{"$error":"#REF!"}},{"$f":"SkillConfig!#REF!","v":{"$error":"#REF!"}},{"$f":"SkillConfig!#REF!","v":{"$error":"#REF!"}}]
[{"$f":"INT(SkillConfig!#REF!)","v":{"$error":"#REF!"}},{"$f":"SkillConfig!#REF!","v":{"$error":"#REF!"}},{"$f":"SkillConfig!#REF!","v":{"$error":"#REF!"}},{"$f":"SkillConfig!#REF!","v":{"$error":"#REF!"}}]
[{"$f":"INT(SkillConfig!#REF!)","v":{"$error":"#REF!"}},{"$f":"SkillConfig!#REF!","v":{"$error":"#REF!"}},{"$f":"SkillConfig!#REF!","v":{"$error":"#REF!"}},{"$f":"SkillConfig!#REF!","v":{"$error":"#REF!"}}]
[{"$f":"INT(SkillConfig!#REF!)","v":{"$error":"#REF!"}},{"$f":"SkillConfig!#REF!","v":{"$error":"#REF!"}},{"$f":"SkillConfig!#REF!","v":{"$error":"#REF!"}},{"$f":"SkillConfig!#REF!","v":{"$error":"#REF!"}}]
[{"$f":"INT(SkillConfig!#REF!)","v":{"$error":"#REF!"}},{"$f":"SkillConfig!#REF!","v":{"$error":"#REF!"}},{"$f":"SkillConfig!#REF!","v":{"$error":"#REF!"}},{"$f":"SkillConfig!#REF!","v":{"$error":"#REF!"}}]
[{"$f":"INT(SkillConfig!#REF!)","v":{"$error":"#REF!"}},{"$f":"SkillConfig!#REF!","v":{"$error":"#REF!"}},{"$f":"SkillConfig!#REF!","v":{"$error":"#REF!"}},{"$f":"SkillConfig!#REF!","v":{"$error":"#REF!"}}]
[{"$f":"INT(SkillConfig!#REF!)","v":{"$error":"#REF!"}},{"$f":"SkillConfig!#REF!","v":{"$error":"#REF!"}},{"$f":"SkillConfig!#REF!","v":{"$error":"#REF!"}},{"$f":"SkillConfig!#REF!","v":{"$error":"#REF!"}}]
[{"$f":"INT(SkillConfig!#REF!)","v":{"$error":"#REF!"}},{"$f":"SkillConfig!#REF!","v":{"$error":"#REF!"}},{"$f":"SkillConfig!#REF!","v":{"$error":"#REF!"}},{"$f":"SkillConfig!#REF!","v":{"$error":"#REF!"}}]
[{"$f":"INT(SkillConfig!#REF!)","v":{"$error":"#REF!"}},{"$f":"SkillConfig!#REF!","v":{"$error":"#REF!"}},{"$f":"SkillConfig!#REF!","v":{"$error":"#REF!"}},{"$f":"SkillConfig!#REF!","v":{"$error":"#REF!"}}]
[{"$f":"INT(SkillConfig!#REF!)","v":{"$error":"#REF!"}},{"$f":"SkillConfig!#REF!","v":{"$error":"#REF!"}},{"$f":"SkillConfig!#REF!","v":{"$error":"#REF!"}},{"$f":"SkillConfig!#REF!","v":{"$error":"#REF!"}}]
[{"$f":"INT(SkillConfig!#REF!)","v":{"$error":"#REF!"}},{"$f":"SkillConfig!#REF!","v":{"$error":"#REF!"}},{"$f":"SkillConfig!#REF!","v":{"$error":"#REF!"}},{"$f":"SkillConfig!#REF!","v":{"$error":"#REF!"}}]
[{"$f":"INT(SkillConfig!#REF!)","v":{"$error":"#REF!"}},{"$f":"SkillConfig!#REF!","v":{"$error":"#REF!"}},{"$f":"SkillConfig!#REF!","v":{"$error":"#REF!"}},{"$f":"SkillConfig!#REF!","v":{"$error":"#REF!"}}]
[{"$f":"INT(SkillConfig!#REF!)","v":{"$error":"#REF!"}},{"$f":"SkillConfig!#REF!","v":{"$error":"#REF!"}},{"$f":"SkillConfig!#REF!","v":{"$error":"#REF!"}},{"$f":"SkillConfig!#REF!","v":{"$error":"#REF!"}}]
[{"$f":"INT(SkillConfig!#REF!)","v":{"$error":"#REF!"}},{"$f":"SkillConfig!#REF!","v":{"$error":"#REF!"}},{"$f":"SkillConfig!#REF!","v":{"$error":"#REF!"}},{"$f":"SkillConfig!#REF!","v":{"$error":"#REF!"}}]
[{"$f":"INT(SkillConfig!#REF!)","v":{"$error":"#REF!"}},{"$f":"SkillConfig!#REF!","v":{"$error":"#REF!"}},{"$f":"SkillConfig!#REF!","v":{"$error":"#REF!"}},{"$f":"SkillConfig!#REF!","v":{"$error":"#REF!"}}]
[{"$f":"INT(SkillConfig!#REF!)","v":{"$error":"#REF!"}},{"$f":"SkillConfig!#REF!","v":{"$error":"#REF!"}},{"$f":"SkillConfig!#REF!","v":{"$error":"#REF!"}},{"$f":"SkillConfig!#REF!","v":{"$error":"#REF!"}}]
[{"$f":"INT(SkillConfig!#REF!)","v":{"$error":"#REF!"}},{"$f":"SkillConfig!#REF!","v":{"$error":"#REF!"}},{"$f":"SkillConfig!#REF!","v":{"$error":"#REF!"}},{"$f":"SkillConfig!#REF!","v":{"$error":"#REF!"}}]
[{"$f":"INT(SkillConfig!#REF!)","v":{"$error":"#REF!"}},{"$f":"SkillConfig!#REF!","v":{"$error":"#REF!"}},{"$f":"SkillConfig!#REF!","v":{"$error":"#REF!"}},{"$f":"SkillConfig!#REF!","v":{"$error":"#REF!"}}]
[{"$f":"INT(SkillConfig!#REF!)","v":{"$error":"#REF!"}},{"$f":"SkillConfig!#REF!","v":{"$error":"#REF!"}},{"$f":"SkillConfig!#REF!","v":{"$error":"#REF!"}},{"$f":"SkillConfig!#REF!","v":{"$error":"#REF!"}}]
[{"$f":"INT(SkillConfig!#REF!)","v":{"$error":"#REF!"}},{"$f":"SkillConfig!#REF!","v":{"$error":"#REF!"}},{"$f":"SkillConfig!#REF!","v":{"$error":"#REF!"}},{"$f":"SkillConfig!#REF!","v":{"$error":"#REF!"}}]
[{"$f":"INT(SkillConfig!#REF!)","v":{"$error":"#REF!"}},{"$f":"SkillConfig!#REF!","v":{"$error":"#REF!"}},{"$f":"SkillConfig!#REF!","v":{"$error":"#REF!"}},{"$f":"SkillConfig!#REF!","v":{"$error":"#REF!"}}]
[{"$f":"INT(SkillConfig!#REF!)","v":{"$error":"#REF!"}},{"$f":"SkillConfig!#REF!","v":{"$error":"#REF!"}},{"$f":"SkillConfig!#REF!","v":{"$error":"#REF!"}},{"$f":"SkillConfig!#REF!","v":{"$error":"#REF!"}}]
[{"$f":"INT(SkillConfig!#REF!)","v":{"$error":"#REF!"}},{"$f":"SkillConfig!#REF!","v":{"$error":"#REF!"}},{"$f":"SkillConfig!#REF!","v":{"$error":"#REF!"}},{"$f":"SkillConfig!#REF!","v":{"$error":"#REF!"}}]
[{"$f":"INT(SkillConfig!#REF!)","v":{"$error":"#REF!"}},{"$f":"SkillConfig!#REF!","v":{"$error":"#REF!"}},{"$f":"SkillConfig!#REF!","v":{"$error":"#REF!"}},{"$f":"SkillConfig!#REF!","v":{"$error":"#REF!"}}]
[{"$f":"INT(SkillConfig!#REF!)","v":{"$error":"#REF!"}},{"$f":"SkillConfig!#REF!","v":{"$error":"#REF!"}},{"$f":"SkillConfig!#REF!","v":{"$error":"#REF!"}},{"$f":"SkillConfig!#REF!","v":{"$error":"#REF!"}}]
[{"$f":"INT(SkillConfig!#REF!)","v":{"$error":"#REF!"}},{"$f":"SkillConfig!#REF!","v":{"$error":"#REF!"}},{"$f":"SkillConfig!#REF!","v":{"$error":"#REF!"}},{"$f":"SkillConfig!#REF!","v":{"$error":"#REF!"}}]
[{"$f":"INT(SkillConfig!#REF!)","v":{"$error":"#REF!"}},{"$f":"SkillConfig!#REF!","v":{"$error":"#REF!"}},{"$f":"SkillConfig!#REF!","v":{"$error":"#REF!"}},{"$f":"SkillConfig!#REF!","v":{"$error":"#REF!"}}]
[{"$f":"INT(SkillConfig!#REF!)","v":{"$error":"#REF!"}},{"$f":"SkillConfig!#REF!","v":{"$error":"#REF!"}},{"$f":"SkillConfig!#REF!","v":{"$error":"#REF!"}},{"$f":"SkillConfig!#REF!","v":{"$error":"#REF!"}}]
[{"$f":"INT(SkillConfig!#REF!)","v":{"$error":"#REF!"}},{"$f":"SkillConfig!#REF!","v":{"$error":"#REF!"}},{"$f":"SkillConfig!#REF!","v":{"$error":"#REF!"}},{"$f":"SkillConfig!#REF!","v":{"$error":"#REF!"}}]
[{"$f":"INT(SkillConfig!#REF!)","v":{"$error":"#REF!"}},{"$f":"SkillConfig!#REF!","v":{"$error":"#REF!"}},{"$f":"SkillConfig!#REF!","v":{"$error":"#REF!"}},{"$f":"SkillConfig!#REF!","v":{"$error":"#REF!"}}]
[{"$f":"INT(SkillConfig!#REF!)","v":{"$error":"#REF!"}},{"$f":"SkillConfig!#REF!","v":{"$error":"#REF!"}},{"$f":"SkillConfig!#REF!","v":{"$error":"#REF!"}},{"$f":"SkillConfig!#REF!","v":{"$error":"#REF!"}}]
[{"$f":"INT(SkillConfig!#REF!)","v":{"$error":"#REF!"}},{"$f":"SkillConfig!#REF!","v":{"$error":"#REF!"}},{"$f":"SkillConfig!#REF!","v":{"$error":"#REF!"}},{"$f":"SkillConfig!#REF!","v":{"$error":"#REF!"}}]
[{"$f":"INT(SkillConfig!#REF!)","v":{"$error":"#REF!"}},{"$f":"SkillConfig!#REF!","v":{"$error":"#REF!"}},{"$f":"SkillConfig!#REF!","v":{"$error":"#REF!"}},{"$f":"SkillConfig!#REF!","v":{"$error":"#REF!"}}]
[{"$f":"INT(SkillConfig!#REF!)","v":{"$error":"#REF!"}},{"$f":"SkillConfig!#REF!","v":{"$error":"#REF!"}},{"$f":"SkillConfig!#REF!","v":{"$error":"#REF!"}},{"$f":"SkillConfig!#REF!","v":{"$error":"#REF!"}}]
[{"$f":"INT(SkillConfig!#REF!)","v":{"$error":"#REF!"}},{"$f":"SkillConfig!#REF!","v":{"$error":"#REF!"}},{"$f":"SkillConfig!#REF!","v":{"$error":"#REF!"}},{"$f":"SkillConfig!#REF!","v":{"$error":"#REF!"}}]
[{"$f":"INT(SkillConfig!#REF!)","v":{"$error":"#REF!"}},{"$f":"SkillConfig!#REF!","v":{"$error":"#REF!"}},{"$f":"SkillConfig!#REF!","v":{"$error":"#REF!"}},{"$f":"SkillConfig!#REF!","v":{"$error":"#REF!"}}]
[{"$f":"INT(SkillConfig!#REF!)","v":{"$error":"#REF!"}},{"$f":"SkillConfig!#REF!","v":{"$error":"#REF!"}},{"$f":"SkillConfig!#REF!","v":{"$error":"#REF!"}},{"$f":"SkillConfig!#REF!","v":{"$error":"#REF!"}}]
[{"$f":"INT(SkillConfig!#REF!)","v":{"$error":"#REF!"}},{"$f":"SkillConfig!#REF!","v":{"$error":"#REF!"}},{"$f":"SkillConfig!#REF!","v":{"$error":"#REF!"}},{"$f":"SkillConfig!#REF!","v":{"$error":"#REF!"}}]
[{"$f":"INT(SkillConfig!#REF!)","v":{"$error":"#REF!"}},{"$f":"SkillConfig!#REF!","v":{"$error":"#REF!"}},{"$f":"SkillConfig!#REF!","v":{"$error":"#REF!"}},{"$f":"SkillConfig!#REF!","v":{"$error":"#REF!"}}]
[{"$f":"INT(SkillConfig!#REF!)","v":{"$error":"#REF!"}},{"$f":"SkillConfig!#REF!","v":{"$error":"#REF!"}},{"$f":"SkillConfig!#REF!","v":{"$error":"#REF!"}},{"$f":"SkillConfig!#REF!","v":{"$error":"#REF!"}}]
[{"$f":"INT(SkillConfig!#REF!)","v":{"$error":"#REF!"}},{"$f":"SkillConfig!#REF!","v":{"$error":"#REF!"}},{"$f":"SkillConfig!#REF!","v":{"$error":"#REF!"}},{"$f":"SkillConfig!#REF!","v":{"$error":"#REF!"}}]
[{"$f":"INT(SkillConfig!#REF!)","v":{"$error":"#REF!"}},{"$f":"SkillConfig!#REF!","v":{"$error":"#REF!"}},{"$f":"SkillConfig!#REF!","v":{"$error":"#REF!"}},{"$f":"SkillConfig!#REF!","v":{"$error":"#REF!"}}]
[{"$f":"INT(SkillConfig!#REF!)","v":{"$error":"#REF!"}},{"$f":"SkillConfig!#REF!","v":{"$error":"#REF!"}},{"$f":"SkillConfig!#REF!","v":{"$error":"#REF!"}},{"$f":"SkillConfig!#REF!","v":{"$error":"#REF!"}}]
[{"$f":"INT(SkillConfig!#REF!)","v":{"$error":"#REF!"}},{"$f":"SkillConfig!#REF!","v":{"$error":"#REF!"}},{"$f":"SkillConfig!#REF!","v":{"$error":"#REF!"}},{"$f":"SkillConfig!#REF!","v":{"$error":"#REF!"}}]
[{"$f":"INT(SkillConfig!#REF!)","v":{"$error":"#REF!"}},{"$f":"SkillConfig!#REF!","v":{"$error":"#REF!"}},{"$f":"SkillConfig!#REF!","v":{"$error":"#REF!"}},{"$f":"SkillConfig!#REF!","v":{"$error":"#REF!"}}]
[{"$f":"INT(SkillConfig!#REF!)","v":{"$error":"#REF!"}},{"$f":"SkillConfig!#REF!","v":{"$error":"#REF!"}},{"$f":"SkillConfig!#REF!","v":{"$error":"#REF!"}},{"$f":"SkillConfig!#REF!","v":{"$error":"#REF!"}}]
[{"$f":"INT(SkillConfig!#REF!)","v":{"$error":"#REF!"}},{"$f":"SkillConfig!#REF!","v":{"$error":"#REF!"}},{"$f":"SkillConfig!#REF!","v":{"$error":"#REF!"}},{"$f":"SkillConfig!#REF!","v":{"$error":"#REF!"}}]
[{"$f":"INT(SkillConfig!#REF!)","v":{"$error":"#REF!"}},{"$f":"SkillConfig!#REF!","v":{"$error":"#REF!"}},{"$f":"SkillConfig!#REF!","v":{"$error":"#REF!"}},{"$f":"SkillConfig!#REF!","v":{"$error":"#REF!"}}]
[{"$f":"INT(SkillConfig!#REF!)","v":{"$error":"#REF!"}},{"$f":"SkillConfig!#REF!","v":{"$error":"#REF!"}},{"$f":"SkillConfig!#REF!","v":{"$error":"#REF!"}},{"$f":"SkillConfig!#REF!","v":{"$error":"#REF!"}}]
[{"$f":"INT(SkillConfig!#REF!)","v":{"$error":"#REF!"}},{"$f":"SkillConfig!#REF!","v":{"$error":"#REF!"}},{"$f":"SkillConfig!#REF!","v":{"$error":"#REF!"}},{"$f":"SkillConfig!#REF!","v":{"$error":"#REF!"}}]
[{"$f":"INT(SkillConfig!#REF!)","v":{"$error":"#REF!"}},{"$f":"SkillConfig!#REF!","v":{"$error":"#REF!"}},{"$f":"SkillConfig!#REF!","v":{"$error":"#REF!"}},{"$f":"SkillConfig!#REF!","v":{"$error":"#REF!"}}]
[{"$f":"INT(SkillConfig!E6)","v":1001},{"$f":"SkillConfig!G6","v":2},{"$f":"SkillConfig!#REF!","v":{"$error":"#REF!"}},{"$f":"SkillConfig!#REF!","v":{"$error":"#REF!"}}]
[{"$f":"INT(SkillConfig!E7)","v":1001},{"$f":"SkillConfig!G7","v":2},{"$f":"SkillConfig!#REF!","v":{"$error":"#REF!"}},{"$f":"SkillConfig!#REF!","v":{"$error":"#REF!"}}]
[{"$f":"INT(SkillConfig!E8)","v":1001},{"$f":"SkillConfig!G8","v":2},{"$f":"SkillConfig!#REF!","v":{"$error":"#REF!"}},{"$f":"SkillConfig!#REF!","v":{"$error":"#REF!"}}]
[{"$f":"INT(SkillConfig!E9)","v":1001},{"$f":"SkillConfig!G9","v":2},{"$f":"SkillConfig!#REF!","v":{"$error":"#REF!"}},{"$f":"SkillConfig!#REF!","v":{"$error":"#REF!"}}]
[{"$f":"INT(SkillConfig!E10)","v":1001},{"$f":"SkillConfig!G10","v":2},{"$f":"SkillConfig!#REF!","v":{"$error":"#REF!"}},{"$f":"SkillConfig!#REF!","v":{"$error":"#REF!"}}]
[{"$f":"INT(SkillConfig!E11)","v":1001},{"$f":"SkillConfig!G11","v":2},{"$f":"SkillConfig!#REF!","v":{"$error":"#REF!"}},{"$f":"SkillConfig!#REF!","v":{"$error":"#REF!"}}]
[{"$f":"INT(SkillConfig!E12)","v":0},{"$f":"SkillConfig!G12","v":0},{"$f":"SkillConfig!#REF!","v":{"$error":"#REF!"}},{"$f":"SkillConfig!#REF!","v":{"$error":"#REF!"}}]
[{"$f":"INT(SkillConfig!E13)","v":0},{"$f":"SkillConfig!G13","v":0},{"$f":"SkillConfig!#REF!","v":{"$error":"#REF!"}},{"$f":"SkillConfig!#REF!","v":{"$error":"#REF!"}}]
[{"$f":"INT(SkillConfig!E14)","v":0},{"$f":"SkillConfig!G14","v":0},{"$f":"SkillConfig!#REF!","v":{"$error":"#REF!"}},{"$f":"SkillConfig!#REF!","v":{"$error":"#REF!"}}]
[{"$f":"INT(SkillConfig!E15)","v":0},{"$f":"SkillConfig!G15","v":0},{"$f":"SkillConfig!#REF!","v":{"$error":"#REF!"}},{"$f":"SkillConfig!#REF!","v":{"$error":"#REF!"}}]
[{"$f":"INT(SkillConfig!E16)","v":0},{"$f":"SkillConfig!G16","v":0},{"$f":"SkillConfig!#REF!","v":{"$error":"#REF!"}},{"$f":"SkillConfig!#REF!","v":{"$error":"#REF!"}}]
[{"$f":"INT(SkillConfig!E17)","v":0},{"$f":"SkillConfig!G17","v":0},{"$f":"SkillConfig!#REF!","v":{"$error":"#REF!"}},{"$f":"SkillConfig!#REF!","v":{"$error":"#REF!"}}]
[{"$f":"INT(SkillConfig!E18)","v":0},{"$f":"SkillConfig!G18","v":0},{"$f":"SkillConfig!#REF!","v":{"$error":"#REF!"}},{"$f":"SkillConfig!#REF!","v":{"$error":"#REF!"}}]
[{"$f":"INT(SkillConfig!E19)","v":0},{"$f":"SkillConfig!G19","v":0},{"$f":"SkillConfig!#REF!","v":{"$error":"#REF!"}},{"$f":"SkillConfig!#REF!","v":{"$error":"#REF!"}}]
[{"$f":"INT(SkillConfig!E20)","v":0},{"$f":"SkillConfig!G20","v":0},{"$f":"SkillConfig!#REF!","v":{"$error":"#REF!"}},{"$f":"SkillConfig!#REF!","v":{"$error":"#REF!"}}]
[{"$f":"INT(SkillConfig!E21)","v":0},{"$f":"SkillConfig!G21","v":0},{"$f":"SkillConfig!#REF!","v":{"$error":"#REF!"}},{"$f":"SkillConfig!#REF!","v":{"$error":"#REF!"}}]
[{"$f":"INT(SkillConfig!E22)","v":0},{"$f":"SkillConfig!G22","v":0},{"$f":"SkillConfig!#REF!","v":{"$error":"#REF!"}},{"$f":"SkillConfig!#REF!","v":{"$error":"#REF!"}}]
[{"$f":"INT(SkillConfig!E23)","v":0},{"$f":"SkillConfig!G23","v":0},{"$f":"SkillConfig!#REF!","v":{"$error":"#REF!"}},{"$f":"SkillConfig!#REF!","v":{"$error":"#REF!"}}]
[{"$f":"INT(SkillConfig!E24)","v":0},{"$f":"SkillConfig!G24","v":0},{"$f":"SkillConfig!#REF!","v":{"$error":"#REF!"}},{"$f":"SkillConfig!#REF!","v":{"$error":"#REF!"}}]
[{"$f":"INT(SkillConfig!E25)","v":0},{"$f":"SkillConfig!G25","v":0},{"$f":"SkillConfig!#REF!","v":{"$error":"#REF!"}},{"$f":"SkillConfig!#REF!","v":{"$error":"#REF!"}}]
[{"$f":"INT(SkillConfig!E26)","v":0},{"$f":"SkillConfig!G26","v":0},{"$f":"SkillConfig!#REF!","v":{"$error":"#REF!"}},{"$f":"SkillConfig!#REF!","v":{"$error":"#REF!"}}]
[{"$f":"INT(SkillConfig!E27)","v":0},{"$f":"SkillConfig!G27","v":0},{"$f":"SkillConfig!#REF!","v":{"$error":"#REF!"}},{"$f":"SkillConfig!#REF!","v":{"$error":"#REF!"}}]
[{"$f":"INT(SkillConfig!E28)","v":0},{"$f":"SkillConfig!G28","v":0},{"$f":"SkillConfig!#REF!","v":{"$error":"#REF!"}},{"$f":"SkillConfig!#REF!","v":{"$error":"#REF!"}}]
[{"$f":"INT(SkillConfig!E29)","v":0},{"$f":"SkillConfig!G29","v":0},{"$f":"SkillConfig!#REF!","v":{"$error":"#REF!"}},{"$f":"SkillConfig!#REF!","v":{"$error":"#REF!"}}]
[{"$f":"INT(SkillConfig!E30)","v":0},{"$f":"SkillConfig!G30","v":0},{"$f":"SkillConfig!#REF!","v":{"$error":"#REF!"}},{"$f":"SkillConfig!#REF!","v":{"$error":"#REF!"}}]
[{"$f":"INT(SkillConfig!E31)","v":0},{"$f":"SkillConfig!G31","v":0},{"$f":"SkillConfig!#REF!","v":{"$error":"#REF!"}},{"$f":"SkillConfig!#REF!","v":{"$error":"#REF!"}}]
[{"$f":"INT(SkillConfig!E32)","v":0},{"$f":"SkillConfig!G32","v":0},{"$f":"SkillConfig!#REF!","v":{"$error":"#REF!"}},{"$f":"SkillConfig!#REF!","v":{"$error":"#REF!"}}]
[{"$f":"INT(SkillConfig!E33)","v":0},{"$f":"SkillConfig!G33","v":0},{"$f":"SkillConfig!#REF!","v":{"$error":"#REF!"}},{"$f":"SkillConfig!#REF!","v":{"$error":"#REF!"}}]
[{"$f":"INT(SkillConfig!E34)","v":0},{"$f":"SkillConfig!G34","v":0},{"$f":"SkillConfig!#REF!","v":{"$error":"#REF!"}},{"$f":"SkillConfig!#REF!","v":{"$error":"#REF!"}}]
[{"$f":"INT(SkillConfig!E35)","v":0},{"$f":"SkillConfig!G35","v":0},{"$f":"SkillConfig!#REF!","v":{"$error":"#REF!"}},{"$f":"SkillConfig!#REF!","v":{"$error":"#REF!"}}]
[{"$f":"INT(SkillConfig!E36)","v":0},{"$f":"SkillConfig!G36","v":0},{"$f":"SkillConfig!#REF!","v":{"$error":"#REF!"}},{"$f":"SkillConfig!#REF!","v":{"$error":"#REF!"}}]
[{"$f":"INT(SkillConfig!E37)","v":0},{"$f":"SkillConfig!G37","v":0},{"$f":"SkillConfig!#REF!","v":{"$error":"#REF!"}},{"$f":"SkillConfig!#REF!","v":{"$error":"#REF!"}}]
[{"$f":"INT(SkillConfig!E38)","v":0},{"$f":"SkillConfig!G38","v":0},{"$f":"SkillConfig!#REF!","v":{"$error":"#REF!"}},{"$f":"SkillConfig!#REF!","v":{"$error":"#REF!"}}]
[{"$f":"INT(SkillConfig!E39)","v":0},{"$f":"SkillConfig!G39","v":0},{"$f":"SkillConfig!#REF!","v":{"$error":"#REF!"}},{"$f":"SkillConfig!#REF!","v":{"$error":"#REF!"}}]
[{"$f":"INT(SkillConfig!E40)","v":0},{"$f":"SkillConfig!G40","v":0},{"$f":"SkillConfig!#REF!","v":{"$error":"#REF!"}},{"$f":"SkillConfig!#REF!","v":{"$error":"#REF!"}}]
[{"$f":"INT(SkillConfig!E41)","v":0},{"$f":"SkillConfig!G41","v":0},{"$f":"SkillConfig!#REF!","v":{"$error":"#REF!"}},{"$f":"SkillConfig!#REF!","v":{"$error":"#REF!"}}]
[{"$f":"INT(SkillConfig!E42)","v":0},{"$f":"SkillConfig!G42","v":0},{"$f":"SkillConfig!#REF!","v":{"$error":"#REF!"}},{"$f":"SkillConfig!#REF!","v":{"$error":"#REF!"}}]
[{"$f":"INT(SkillConfig!E43)","v":0},{"$f":"SkillConfig!G43","v":0},{"$f":"SkillConfig!#REF!","v":{"$error":"#REF!"}},{"$f":"SkillConfig!#REF!","v":{"$error":"#REF!"}}]
[{"$f":"INT(SkillConfig!E44)","v":0},{"$f":"SkillConfig!G44","v":0},{"$f":"SkillConfig!#REF!","v":{"$error":"#REF!"}},{"$f":"SkillConfig!#REF!","v":{"$error":"#REF!"}}]
[{"$f":"INT(SkillConfig!E45)","v":0},{"$f":"SkillConfig!G45","v":0},{"$f":"SkillConfig!#REF!","v":{"$error":"#REF!"}},{"$f":"SkillConfig!#REF!","v":{"$error":"#REF!"}}]
[{"$f":"INT(SkillConfig!E46)","v":0},{"$f":"SkillConfig!G46","v":0},{"$f":"SkillConfig!#REF!","v":{"$error":"#REF!"}},{"$f":"SkillConfig!#REF!","v":{"$error":"#REF!"}}]
[{"$f":"INT(SkillConfig!E47)","v":0},{"$f":"SkillConfig!G47","v":0},{"$f":"SkillConfig!#REF!","v":{"$error":"#REF!"}},{"$f":"SkillConfig!#REF!","v":{"$error":"#REF!"}}]
[{"$f":"INT(SkillConfig!E48)","v":0},{"$f":"SkillConfig!G48","v":0},{"$f":"SkillConfig!#REF!","v":{"$error":"#REF!"}},{"$f":"SkillConfig!#REF!","v":{"$error":"#REF!"}}]
[{"$f":"INT(SkillConfig!E49)","v":0},{"$f":"SkillConfig!G49","v":0},{"$f":"SkillConfig!#REF!","v":{"$error":"#REF!"}},{"$f":"SkillConfig!#REF!","v":{"$error":"#REF!"}}]
[{"$f":"INT(SkillConfig!E50)","v":0},{"$f":"SkillConfig!G50","v":0},{"$f":"SkillConfig!#REF!","v":{"$error":"#REF!"}},{"$f":"SkillConfig!#REF!","v":{"$error":"#REF!"}}]
[{"$f":"INT(SkillConfig!E51)","v":0},{"$f":"SkillConfig!G51","v":0},{"$f":"SkillConfig!#REF!","v":{"$error":"#REF!"}},{"$f":"SkillConfig!#REF!","v":{"$error":"#REF!"}}]
[{"$f":"INT(SkillConfig!E52)","v":0},{"$f":"SkillConfig!G52","v":0},{"$f":"SkillConfig!#REF!","v":{"$error":"#REF!"}},{"$f":"SkillConfig!#REF!","v":{"$error":"#REF!"}}]
[{"$f":"INT(SkillConfig!E53)","v":0},{"$f":"SkillConfig!G53","v":0},{"$f":"SkillConfig!#REF!","v":{"$error":"#REF!"}},{"$f":"SkillConfig!#REF!","v":{"$error":"#REF!"}}]
[{"$f":"INT(SkillConfig!E54)","v":0},{"$f":"SkillConfig!G54","v":0},{"$f":"SkillConfig!#REF!","v":{"$error":"#REF!"}},{"$f":"SkillConfig!#REF!","v":{"$error":"#REF!"}}]
[{"$f":"INT(SkillConfig!E55)","v":0},{"$f":"SkillConfig!G55","v":0},{"$f":"SkillConfig!#REF!","v":{"$error":"#REF!"}},{"$f":"SkillConfig!#REF!","v":{"$error":"#REF!"}}]
[{"$f":"INT(SkillConfig!E56)","v":0},{"$f":"SkillConfig!G56","v":0},{"$f":"SkillConfig!#REF!","v":{"$error":"#REF!"}},{"$f":"SkillConfig!#REF!","v":{"$error":"#REF!"}}]
[{"$f":"INT(SkillConfig!E57)","v":0},{"$f":"SkillConfig!G57","v":0},{"$f":"SkillConfig!#REF!","v":{"$error":"#REF!"}},{"$f":"SkillConfig!#REF!","v":{"$error":"#REF!"}}]
[{"$f":"INT(SkillConfig!E58)","v":0},{"$f":"SkillConfig!G58","v":0},{"$f":"SkillConfig!#REF!","v":{"$error":"#REF!"}},{"$f":"SkillConfig!#REF!","v":{"$error":"#REF!"}}]
[{"$f":"INT(SkillConfig!E59)","v":0},{"$f":"SkillConfig!G59","v":0},{"$f":"SkillConfig!#REF!","v":{"$error":"#REF!"}},{"$f":"SkillConfig!#REF!","v":{"$error":"#REF!"}}]
[{"$f":"INT(SkillConfig!E60)","v":0},{"$f":"SkillConfig!G60","v":0},{"$f":"SkillConfig!#REF!","v":{"$error":"#REF!"}},{"$f":"SkillConfig!#REF!","v":{"$error":"#REF!"}}]
[{"$f":"INT(SkillConfig!E61)","v":0},{"$f":"SkillConfig!G61","v":0},{"$f":"SkillConfig!#REF!","v":{"$error":"#REF!"}},{"$f":"SkillConfig!#REF!","v":{"$error":"#REF!"}}]
[{"$f":"INT(SkillConfig!E62)","v":0},{"$f":"SkillConfig!G62","v":0},{"$f":"SkillConfig!#REF!","v":{"$error":"#REF!"}},{"$f":"SkillConfig!#REF!","v":{"$error":"#REF!"}}]
[{"$f":"INT(SkillConfig!E63)","v":0},{"$f":"SkillConfig!G63","v":0},{"$f":"SkillConfig!#REF!","v":{"$error":"#REF!"}},{"$f":"SkillConfig!#REF!","v":{"$error":"#REF!"}}]
[{"$f":"INT(SkillConfig!E64)","v":0},{"$f":"SkillConfig!G64","v":0},{"$f":"SkillConfig!#REF!","v":{"$error":"#REF!"}},{"$f":"SkillConfig!#REF!","v":{"$error":"#REF!"}}]
[{"$f":"INT(SkillConfig!E65)","v":0},{"$f":"SkillConfig!G65","v":0},{"$f":"SkillConfig!#REF!","v":{"$error":"#REF!"}},{"$f":"SkillConfig!#REF!","v":{"$error":"#REF!"}}]
[{"$f":"INT(SkillConfig!E66)","v":0},{"$f":"SkillConfig!G66","v":0},{"$f":"SkillConfig!#REF!","v":{"$error":"#REF!"}},{"$f":"SkillConfig!#REF!","v":{"$error":"#REF!"}}]
[{"$f":"INT(SkillConfig!E67)","v":0},{"$f":"SkillConfig!G67","v":0},{"$f":"SkillConfig!#REF!","v":{"$error":"#REF!"}},{"$f":"SkillConfig!#REF!","v":{"$error":"#REF!"}}]
[{"$f":"INT(SkillConfig!E68)","v":0},{"$f":"SkillConfig!G68","v":0},{"$f":"SkillConfig!#REF!","v":{"$error":"#REF!"}},{"$f":"SkillConfig!#REF!","v":{"$error":"#REF!"}}]
[{"$f":"INT(SkillConfig!E69)","v":0},{"$f":"SkillConfig!G69","v":0},{"$f":"SkillConfig!#REF!","v":{"$error":"#REF!"}},{"$f":"SkillConfig!#REF!","v":{"$error":"#REF!"}}]
[{"$f":"INT(SkillConfig!E70)","v":0},{"$f":"SkillConfig!G70","v":0},{"$f":"SkillConfig!#REF!","v":{"$error":"#REF!"}},{"$f":"SkillConfig!#REF!","v":{"$error":"#REF!"}}]
[{"$f":"INT(SkillConfig!E71)","v":0},{"$f":"SkillConfig!G71","v":0},{"$f":"SkillConfig!#REF!","v":{"$error":"#REF!"}},{"$f":"SkillConfig!#REF!","v":{"$error":"#REF!"}}]
[{"$f":"INT(SkillConfig!E72)","v":0},{"$f":"SkillConfig!G72","v":0},{"$f":"SkillConfig!#REF!","v":{"$error":"#REF!"}},{"$f":"SkillConfig!#REF!","v":{"$error":"#REF!"}}]
[{"$f":"INT(SkillConfig!E73)","v":0},{"$f":"SkillConfig!G73","v":0},{"$f":"SkillConfig!#REF!","v":{"$error":"#REF!"}},{"$f":"SkillConfig!#REF!","v":{"$error":"#REF!"}}]
[{"$f":"INT(SkillConfig!E74)","v":0},{"$f":"SkillConfig!G74","v":0},{"$f":"SkillConfig!#REF!","v":{"$error":"#REF!"}},{"$f":"SkillConfig!#REF!","v":{"$error":"#REF!"}}]
[{"$f":"INT(SkillConfig!E75)","v":0},{"$f":"SkillConfig!G75","v":0},{"$f":"SkillConfig!#REF!","v":{"$error":"#REF!"}},{"$f":"SkillConfig!#REF!","v":{"$error":"#REF!"}}]
[{"$f":"INT(SkillConfig!E76)","v":0},{"$f":"SkillConfig!G76","v":0},{"$f":"SkillConfig!#REF!","v":{"$error":"#REF!"}},{"$f":"SkillConfig!#REF!","v":{"$error":"#REF!"}}]
[{"$f":"INT(SkillConfig!E77)","v":0},{"$f":"SkillConfig!G77","v":0},{"$f":"SkillConfig!#REF!","v":{"$error":"#REF!"}},{"$f":"SkillConfig!#REF!","v":{"$error":"#REF!"}}]
[{"$f":"INT(SkillConfig!E78)","v":0},{"$f":"SkillConfig!G78","v":0},{"$f":"SkillConfig!#REF!","v":{"$error":"#REF!"}},{"$f":"SkillConfig!#REF!","v":{"$error":"#REF!"}}]
[{"$f":"INT(SkillConfig!E79)","v":0},{"$f":"SkillConfig!G79","v":0},{"$f":"SkillConfig!#REF!","v":{"$error":"#REF!"}},{"$f":"SkillConfig!#REF!","v":{"$error":"#REF!"}}]
[{"$f":"INT(SkillConfig!E80)","v":0},{"$f":"SkillConfig!G80","v":0},{"$f":"SkillConfig!#REF!","v":{"$error":"#REF!"}},{"$f":"SkillConfig!#REF!","v":{"$error":"#REF!"}}]
[{"$f":"INT(SkillConfig!E81)","v":0},{"$f":"SkillConfig!G81","v":0},{"$f":"SkillConfig!#REF!","v":{"$error":"#REF!"}},{"$f":"SkillConfig!#REF!","v":{"$error":"#REF!"}}]
[{"$f":"INT(SkillConfig!E82)","v":0},{"$f":"SkillConfig!G82","v":0},{"$f":"SkillConfig!#REF!","v":{"$error":"#REF!"}},{"$f":"SkillConfig!#REF!","v":{"$error":"#REF!"}}]
[{"$f":"INT(SkillConfig!E83)","v":0},{"$f":"SkillConfig!G83","v":0},{"$f":"SkillConfig!#REF!","v":{"$error":"#REF!"}},{"$f":"SkillConfig!#REF!","v":{"$error":"#REF!"}}]
[{"$f":"INT(SkillConfig!E84)","v":0},{"$f":"SkillConfig!G84","v":0},{"$f":"SkillConfig!#REF!","v":{"$error":"#REF!"}},{"$f":"SkillConfig!#REF!","v":{"$error":"#REF!"}}]
[{"$f":"INT(SkillConfig!E85)","v":0},{"$f":"SkillConfig!G85","v":0},{"$f":"SkillConfig!#REF!","v":{"$error":"#REF!"}},{"$f":"SkillConfig!#REF!","v":{"$error":"#REF!"}}]
[{"$f":"INT(SkillConfig!E86)","v":0},{"$f":"SkillConfig!G86","v":0},{"$f":"SkillConfig!#REF!","v":{"$error":"#REF!"}},{"$f":"SkillConfig!#REF!","v":{"$error":"#REF!"}}]
[{"$f":"INT(SkillConfig!E87)","v":0},{"$f":"SkillConfig!G87","v":0},{"$f":"SkillConfig!#REF!","v":{"$error":"#REF!"}},{"$f":"SkillConfig!#REF!","v":{"$error":"#REF!"}}]
[{"$f":"INT(SkillConfig!E88)","v":0},{"$f":"SkillConfig!G88","v":0},{"$f":"SkillConfig!#REF!","v":{"$error":"#REF!"}},{"$f":"SkillConfig!#REF!","v":{"$error":"#REF!"}}]
[{"$f":"INT(SkillConfig!E89)","v":0},{"$f":"SkillConfig!G89","v":0},{"$f":"SkillConfig!#REF!","v":{"$error":"#REF!"}},{"$f":"SkillConfig!#REF!","v":{"$error":"#REF!"}}]
[{"$f":"INT(SkillConfig!E90)","v":0},{"$f":"SkillConfig!G90","v":0},{"$f":"SkillConfig!#REF!","v":{"$error":"#REF!"}},{"$f":"SkillConfig!#REF!","v":{"$error":"#REF!"}}]
[{"$f":"INT(SkillConfig!E91)","v":0},{"$f":"SkillConfig!G91","v":0},{"$f":"SkillConfig!#REF!","v":{"$error":"#REF!"}},{"$f":"SkillConfig!#REF!","v":{"$error":"#REF!"}}]
[{"$f":"INT(SkillConfig!E92)","v":0},{"$f":"SkillConfig!G92","v":0},{"$f":"SkillConfig!#REF!","v":{"$error":"#REF!"}},{"$f":"SkillConfig!#REF!","v":{"$error":"#REF!"}}]
[{"$f":"INT(SkillConfig!E93)","v":0},{"$f":"SkillConfig!G93","v":0},{"$f":"SkillConfig!#REF!","v":{"$error":"#REF!"}},{"$f":"SkillConfig!#REF!","v":{"$error":"#REF!"}}]
[{"$f":"INT(SkillConfig!E94)","v":0},{"$f":"SkillConfig!G94","v":0},{"$f":"SkillConfig!#REF!","v":{"$error":"#REF!"}},{"$f":"SkillConfig!#REF!","v":{"$error":"#REF!"}}]
[{"$f":"INT(SkillConfig!E95)","v":0},{"$f":"SkillConfig!G95","v":0},{"$f":"SkillConfig!#REF!","v":{"$error":"#REF!"}},{"$f":"SkillConfig!#REF!","v":{"$error":"#REF!"}}]
[{"$f":"INT(SkillConfig!E96)","v":0},{"$f":"SkillConfig!G96","v":0},{"$f":"SkillConfig!#REF!","v":{"$error":"#REF!"}},{"$f":"SkillConfig!#REF!","v":{"$error":"#REF!"}}]
[{"$f":"INT(SkillConfig!E97)","v":0},{"$f":"SkillConfig!G97","v":0},{"$f":"SkillConfig!#REF!","v":{"$error":"#REF!"}},{"$f":"SkillConfig!#REF!","v":{"$error":"#REF!"}}]
[{"$f":"INT(SkillConfig!E98)","v":0},{"$f":"SkillConfig!G98","v":0},{"$f":"SkillConfig!#REF!","v":{"$error":"#REF!"}},{"$f":"SkillConfig!#REF!","v":{"$error":"#REF!"}}]
[{"$f":"INT(SkillConfig!E99)","v":0},{"$f":"SkillConfig!G99","v":0},{"$f":"SkillConfig!#REF!","v":{"$error":"#REF!"}},{"$f":"SkillConfig!#REF!","v":{"$error":"#REF!"}}]
[{"$f":"INT(SkillConfig!E100)","v":0},{"$f":"SkillConfig!G100","v":0},{"$f":"SkillConfig!#REF!","v":{"$error":"#REF!"}},{"$f":"SkillConfig!#REF!","v":{"$error":"#REF!"}}]
[{"$f":"INT(SkillConfig!E101)","v":0},{"$f":"SkillConfig!G101","v":0},{"$f":"SkillConfig!#REF!","v":{"$error":"#REF!"}},{"$f":"SkillConfig!#REF!","v":{"$error":"#REF!"}}]
[{"$f":"INT(SkillConfig!E102)","v":0},{"$f":"SkillConfig!G102","v":0},{"$f":"SkillConfig!#REF!","v":{"$error":"#REF!"}},{"$f":"SkillConfig!#REF!","v":{"$error":"#REF!"}}]
[{"$f":"INT(SkillConfig!E103)","v":0},{"$f":"SkillConfig!G103","v":0},{"$f":"SkillConfig!#REF!","v":{"$error":"#REF!"}},{"$f":"SkillConfig!#REF!","v":{"$error":"#REF!"}}]
[{"$f":"INT(SkillConfig!E104)","v":0},{"$f":"SkillConfig!G104","v":0},{"$f":"SkillConfig!#REF!","v":{"$error":"#REF!"}},{"$f":"SkillConfig!#REF!","v":{"$error":"#REF!"}}]
[{"$f":"INT(SkillConfig!E105)","v":0},{"$f":"SkillConfig!G105","v":0},{"$f":"SkillConfig!#REF!","v":{"$error":"#REF!"}},{"$f":"SkillConfig!#REF!","v":{"$error":"#REF!"}}]
[{"$f":"INT(SkillConfig!E106)","v":0},{"$f":"SkillConfig!G106","v":0},{"$f":"SkillConfig!#REF!","v":{"$error":"#REF!"}},{"$f":"SkillConfig!#REF!","v":{"$error":"#REF!"}}]
[{"$f":"INT(SkillConfig!E107)","v":0},{"$f":"SkillConfig!G107","v":0},{"$f":"SkillConfig!#REF!","v":{"$error":"#REF!"}},{"$f":"SkillConfig!#REF!","v":{"$error":"#REF!"}}]
[{"$f":"INT(SkillConfig!E108)","v":0},{"$f":"SkillConfig!G108","v":0},{"$f":"SkillConfig!#REF!","v":{"$error":"#REF!"}},{"$f":"SkillConfig!#REF!","v":{"$error":"#REF!"}}]
[{"$f":"INT(SkillConfig!E109)","v":0},{"$f":"SkillConfig!G109","v":0},{"$f":"SkillConfig!#REF!","v":{"$error":"#REF!"}},{"$f":"SkillConfig!#REF!","v":{"$error":"#REF!"}}]
[{"$f":"INT(SkillConfig!E110)","v":0},{"$f":"SkillConfig!G110","v":0},{"$f":"SkillConfig!#REF!","v":{"$error":"#REF!"}},{"$f":"SkillConfig!#REF!","v":{"$error":"#REF!"}}]
[{"$f":"INT(SkillConfig!E111)","v":0},{"$f":"SkillConfig!G111","v":0},{"$f":"SkillConfig!#REF!","v":{"$error":"#REF!"}},{"$f":"SkillConfig!#REF!","v":{"$error":"#REF!"}}]
[{"$f":"INT(SkillConfig!E112)","v":0},{"$f":"SkillConfig!G112","v":0},{"$f":"SkillConfig!#REF!","v":{"$error":"#REF!"}},{"$f":"SkillConfig!#REF!","v":{"$error":"#REF!"}}]
[{"$f":"INT(SkillConfig!E113)","v":0},{"$f":"SkillConfig!G113","v":0},{"$f":"SkillConfig!#REF!","v":{"$error":"#REF!"}},{"$f":"SkillConfig!#REF!","v":{"$error":"#REF!"}}]
[{"$f":"INT(SkillConfig!E114)","v":0},{"$f":"SkillConfig!G114","v":0},{"$f":"SkillConfig!#REF!","v":{"$error":"#REF!"}},{"$f":"SkillConfig!#REF!","v":{"$error":"#REF!"}}]
[{"$f":"INT(SkillConfig!E115)","v":0},{"$f":"SkillConfig!G115","v":0},{"$f":"SkillConfig!#REF!","v":{"$error":"#REF!"}},{"$f":"SkillConfig!#REF!","v":{"$error":"#REF!"}}]
[{"$f":"INT(SkillConfig!E116)","v":0},{"$f":"SkillConfig!G116","v":0},{"$f":"SkillConfig!#REF!","v":{"$error":"#REF!"}},{"$f":"SkillConfig!#REF!","v":{"$error":"#REF!"}}]
[{"$f":"INT(SkillConfig!E117)","v":0},{"$f":"SkillConfig!G117","v":0},{"$f":"SkillConfig!#REF!","v":{"$error":"#REF!"}},{"$f":"SkillConfig!#REF!","v":{"$error":"#REF!"}}]
[{"$f":"INT(SkillConfig!E118)","v":0},{"$f":"SkillConfig!G118","v":0},{"$f":"SkillConfig!#REF!","v":{"$error":"#REF!"}},{"$f":"SkillConfig!#REF!","v":{"$error":"#REF!"}}]
[{"$f":"INT(SkillConfig!E119)","v":0},{"$f":"SkillConfig!G119","v":0},{"$f":"SkillConfig!#REF!","v":{"$error":"#REF!"}},{"$f":"SkillConfig!#REF!","v":{"$error":"#REF!"}}]
[{"$f":"INT(SkillConfig!E120)","v":0},{"$f":"SkillConfig!G120","v":0},{"$f":"SkillConfig!#REF!","v":{"$error":"#REF!"}},{"$f":"SkillConfig!#REF!","v":{"$error":"#REF!"}}]
[{"$f":"INT(SkillConfig!E121)","v":0},{"$f":"SkillConfig!G121","v":0},{"$f":"SkillConfig!#REF!","v":{"$error":"#REF!"}},{"$f":"SkillConfig!#REF!","v":{"$error":"#REF!"}}]
[{"$f":"INT(SkillConfig!E122)","v":0},{"$f":"SkillConfig!G122","v":0},{"$f":"SkillConfig!#REF!","v":{"$error":"#REF!"}},{"$f":"SkillConfig!#REF!","v":{"$error":"#REF!"}}]
[{"$f":"INT(SkillConfig!E123)","v":0},{"$f":"SkillConfig!G123","v":0},{"$f":"SkillConfig!#REF!","v":{"$error":"#REF!"}},{"$f":"SkillConfig!#REF!","v":{"$error":"#REF!"}}]
[{"$f":"INT(SkillConfig!E124)","v":0},{"$f":"SkillConfig!G124","v":0},{"$f":"SkillConfig!#REF!","v":{"$error":"#REF!"}},{"$f":"SkillConfig!#REF!","v":{"$error":"#REF!"}}]
[{"$f":"INT(SkillConfig!E125)","v":0},{"$f":"SkillConfig!G125","v":0},{"$f":"SkillConfig!#REF!","v":{"$error":"#REF!"}},{"$f":"SkillConfig!#REF!","v":{"$error":"#REF!"}}]
[{"$f":"INT(SkillConfig!E126)","v":0},{"$f":"SkillConfig!G126","v":0},{"$f":"SkillConfig!#REF!","v":{"$error":"#REF!"}},{"$f":"SkillConfig!#REF!","v":{"$error":"#REF!"}}]
[{"$f":"INT(SkillConfig!E127)","v":0},{"$f":"SkillConfig!G127","v":0},{"$f":"SkillConfig!#REF!","v":{"$error":"#REF!"}},{"$f":"SkillConfig!#REF!","v":{"$error":"#REF!"}}]
[{"$f":"INT(SkillConfig!E128)","v":0},{"$f":"SkillConfig!G128","v":0},{"$f":"SkillConfig!#REF!","v":{"$error":"#REF!"}},{"$f":"SkillConfig!#REF!","v":{"$error":"#REF!"}}]
[{"$f":"INT(SkillConfig!E129)","v":0},{"$f":"SkillConfig!G129","v":0},{"$f":"SkillConfig!#REF!","v":{"$error":"#REF!"}},{"$f":"SkillConfig!#REF!","v":{"$error":"#REF!"}}]
[{"$f":"INT(SkillConfig!E130)","v":0},{"$f":"SkillConfig!G130","v":0},{"$f":"SkillConfig!#REF!","v":{"$error":"#REF!"}},{"$f":"SkillConfig!#REF!","v":{"$error":"#REF!"}}]
[{"$f":"INT(SkillConfig!E131)","v":0},{"$f":"SkillConfig!G131","v":0},{"$f":"SkillConfig!#REF!","v":{"$error":"#REF!"}},{"$f":"SkillConfig!#REF!","v":{"$error":"#REF!"}}]
[{"$f":"INT(SkillConfig!E132)","v":0},{"$f":"SkillConfig!G132","v":0},{"$f":"SkillConfig!#REF!","v":{"$error":"#REF!"}},{"$f":"SkillConfig!#REF!","v":{"$error":"#REF!"}}]
[{"$f":"INT(SkillConfig!E133)","v":0},{"$f":"SkillConfig!G133","v":0},{"$f":"SkillConfig!#REF!","v":{"$error":"#REF!"}},{"$f":"SkillConfig!#REF!","v":{"$error":"#REF!"}}]
[{"$f":"INT(SkillConfig!E134)","v":0},{"$f":"SkillConfig!G134","v":0},{"$f":"SkillConfig!#REF!","v":{"$error":"#REF!"}},{"$f":"SkillConfig!#REF!","v":{"$error":"#REF!"}}]
[{"$f":"INT(SkillConfig!E135)","v":0},{"$f":"SkillConfig!G135","v":0},{"$f":"SkillConfig!#REF!","v":{"$error":"#REF!"}},{"$f":"SkillConfig!#REF!","v":{"$error":"#REF!"}}]
[{"$f":"INT(SkillConfig!E136)","v":0},{"$f":"SkillConfig!G136","v":0},{"$f":"SkillConfig!#REF!","v":{"$error":"#REF!"}},{"$f":"SkillConfig!#REF!","v":{"$error":"#REF!"}}]
[{"$f":"INT(SkillConfig!E137)","v":0},{"$f":"SkillConfig!G137","v":0},{"$f":"SkillConfig!#REF!","v":{"$error":"#REF!"}},{"$f":"SkillConfig!#REF!","v":{"$error":"#REF!"}}]
[{"$f":"INT(SkillConfig!E138)","v":0},{"$f":"SkillConfig!G138","v":0},{"$f":"SkillConfig!#REF!","v":{"$error":"#REF!"}},{"$f":"SkillConfig!#REF!","v":{"$error":"#REF!"}}]
[{"$f":"INT(SkillConfig!E139)","v":0},{"$f":"SkillConfig!G139","v":0},{"$f":"SkillConfig!#REF!","v":{"$error":"#REF!"}},{"$f":"SkillConfig!#REF!","v":{"$error":"#REF!"}}]
[{"$f":"INT(SkillConfig!E140)","v":0},{"$f":"SkillConfig!G140","v":0},{"$f":"SkillConfig!#REF!","v":{"$error":"#REF!"}},{"$f":"SkillConfig!#REF!","v":{"$error":"#REF!"}}]
[{"$f":"INT(SkillConfig!E141)","v":0},{"$f":"SkillConfig!G141","v":0},{"$f":"SkillConfig!#REF!","v":{"$error":"#REF!"}},{"$f":"SkillConfig!#REF!","v":{"$error":"#REF!"}}]
[{"$f":"INT(SkillConfig!E142)","v":0},{"$f":"SkillConfig!G142","v":0},{"$f":"SkillConfig!#REF!","v":{"$error":"#REF!"}},{"$f":"SkillConfig!#REF!","v":{"$error":"#REF!"}}]
[{"$f":"INT(SkillConfig!E143)","v":0},{"$f":"SkillConfig!G143","v":0},{"$f":"SkillConfig!#REF!","v":{"$error":"#REF!"}},{"$f":"SkillConfig!#REF!","v":{"$error":"#REF!"}}]
[{"$f":"INT(SkillConfig!E144)","v":0},{"$f":"SkillConfig!G144","v":0},{"$f":"SkillConfig!#REF!","v":{"$error":"#REF!"}},{"$f":"SkillConfig!#REF!","v":{"$error":"#REF!"}}]
[{"$f":"INT(SkillConfig!E145)","v":0},{"$f":"SkillConfig!G145","v":0},{"$f":"SkillConfig!#REF!","v":{"$error":"#REF!"}},{"$f":"SkillConfig!#REF!","v":{"$error":"#REF!"}}]
[{"$f":"INT(SkillConfig!E146)","v":0},{"$f":"SkillConfig!G146","v":0},{"$f":"SkillConfig!#REF!","v":{"$error":"#REF!"}},{"$f":"SkillConfig!#REF!","v":{"$error":"#REF!"}}]
[{"$f":"INT(SkillConfig!E147)","v":0},{"$f":"SkillConfig!G147","v":0},{"$f":"SkillConfig!#REF!","v":{"$error":"#REF!"}},{"$f":"SkillConfig!#REF!","v":{"$error":"#REF!"}}]
[{"$f":"INT(SkillConfig!E148)","v":0},{"$f":"SkillConfig!G148","v":0},{"$f":"SkillConfig!#REF!","v":{"$error":"#REF!"}},{"$f":"SkillConfig!#REF!","v":{"$error":"#REF!"}}]
[{"$f":"INT(SkillConfig!E149)","v":0},{"$f":"SkillConfig!G149","v":0},{"$f":"SkillConfig!#REF!","v":{"$error":"#REF!"}},{"$f":"SkillConfig!#REF!","v":{"$error":"#REF!"}}]
[{"$f":"INT(SkillConfig!E150)","v":0},{"$f":"SkillConfig!G150","v":0},{"$f":"SkillConfig!#REF!","v":{"$error":"#REF!"}},{"$f":"SkillConfig!#REF!","v":{"$error":"#REF!"}}]
[{"$f":"INT(SkillConfig!E151)","v":0},{"$f":"SkillConfig!G151","v":0},{"$f":"SkillConfig!#REF!","v":{"$error":"#REF!"}},{"$f":"SkillConfig!#REF!","v":{"$error":"#REF!"}}]
[{"$f":"INT(SkillConfig!E152)","v":0},{"$f":"SkillConfig!G152","v":0},{"$f":"SkillConfig!#REF!","v":{"$error":"#REF!"}},{"$f":"SkillConfig!#REF!","v":{"$error":"#REF!"}}]
[{"$f":"INT(SkillConfig!E153)","v":0},{"$f":"SkillConfig!G153","v":0},{"$f":"SkillConfig!#REF!","v":{"$error":"#REF!"}},{"$f":"SkillConfig!#REF!","v":{"$error":"#REF!"}}]
[{"$f":"INT(SkillConfig!E154)","v":0},{"$f":"SkillConfig!G154","v":0},{"$f":"SkillConfig!#REF!","v":{"$error":"#REF!"}},{"$f":"SkillConfig!#REF!","v":{"$error":"#REF!"}}]
[{"$f":"INT(SkillConfig!E155)","v":0},{"$f":"SkillConfig!G155","v":0},{"$f":"SkillConfig!#REF!","v":{"$error":"#REF!"}},{"$f":"SkillConfig!#REF!","v":{"$error":"#REF!"}}]
[{"$f":"INT(SkillConfig!E156)","v":0},{"$f":"SkillConfig!G156","v":0},{"$f":"SkillConfig!#REF!","v":{"$error":"#REF!"}},{"$f":"SkillConfig!#REF!","v":{"$error":"#REF!"}}]
[{"$f":"INT(SkillConfig!E157)","v":0},{"$f":"SkillConfig!G157","v":0},{"$f":"SkillConfig!#REF!","v":{"$error":"#REF!"}},{"$f":"SkillConfig!#REF!","v":{"$error":"#REF!"}}]
[{"$f":"INT(SkillConfig!E158)","v":0},{"$f":"SkillConfig!G158","v":0},{"$f":"SkillConfig!#REF!","v":{"$error":"#REF!"}},{"$f":"SkillConfig!#REF!","v":{"$error":"#REF!"}}]
[{"$f":"INT(SkillConfig!E159)","v":0},{"$f":"SkillConfig!G159","v":0},{"$f":"SkillConfig!#REF!","v":{"$error":"#REF!"}},{"$f":"SkillConfig!#REF!","v":{"$error":"#REF!"}}]
[{"$f":"INT(SkillConfig!E160)","v":0},{"$f":"SkillConfig!G160","v":0},{"$f":"SkillConfig!#REF!","v":{"$error":"#REF!"}},{"$f":"SkillConfig!#REF!","v":{"$error":"#REF!"}}]
[{"$f":"INT(SkillConfig!E161)","v":0},{"$f":"SkillConfig!G161","v":0},{"$f":"SkillConfig!#REF!","v":{"$error":"#REF!"}},{"$f":"SkillConfig!#REF!","v":{"$error":"#REF!"}}]
[{"$f":"INT(SkillConfig!E162)","v":0},{"$f":"SkillConfig!G162","v":0},{"$f":"SkillConfig!#REF!","v":{"$error":"#REF!"}},{"$f":"SkillConfig!#REF!","v":{"$error":"#REF!"}}]
[{"$f":"INT(SkillConfig!E163)","v":0},{"$f":"SkillConfig!G163","v":0},{"$f":"SkillConfig!#REF!","v":{"$error":"#REF!"}},{"$f":"SkillConfig!#REF!","v":{"$error":"#REF!"}}]
[{"$f":"INT(SkillConfig!E164)","v":0},{"$f":"SkillConfig!G164","v":0},{"$f":"SkillConfig!#REF!","v":{"$error":"#REF!"}},{"$f":"SkillConfig!#REF!","v":{"$error":"#REF!"}}]
[{"$f":"INT(SkillConfig!E165)","v":0},{"$f":"SkillConfig!G165","v":0},{"$f":"SkillConfig!#REF!","v":{"$error":"#REF!"}},{"$f":"SkillConfig!#REF!","v":{"$error":"#REF!"}}]
[{"$f":"INT(SkillConfig!E166)","v":0},{"$f":"SkillConfig!G166","v":0},{"$f":"SkillConfig!#REF!","v":{"$error":"#REF!"}},{"$f":"SkillConfig!#REF!","v":{"$error":"#REF!"}}]
[{"$f":"INT(SkillConfig!E167)","v":0},{"$f":"SkillConfig!G167","v":0},{"$f":"SkillConfig!#REF!","v":{"$error":"#REF!"}},{"$f":"SkillConfig!#REF!","v":{"$error":"#REF!"}}]
[{"$f":"INT(SkillConfig!E168)","v":0},{"$f":"SkillConfig!G168","v":0},{"$f":"SkillConfig!#REF!","v":{"$error":"#REF!"}},{"$f":"SkillConfig!#REF!","v":{"$error":"#REF!"}}]
[{"$f":"INT(SkillConfig!E169)","v":0},{"$f":"SkillConfig!G169","v":0},{"$f":"SkillConfig!#REF!","v":{"$error":"#REF!"}},{"$f":"SkillConfig!#REF!","v":{"$error":"#REF!"}}]
[{"$f":"INT(SkillConfig!E170)","v":0},{"$f":"SkillConfig!G170","v":0},{"$f":"SkillConfig!#REF!","v":{"$error":"#REF!"}},{"$f":"SkillConfig!#REF!","v":{"$error":"#REF!"}}]
[{"$f":"INT(SkillConfig!E171)","v":0},{"$f":"SkillConfig!G171","v":0},{"$f":"SkillConfig!#REF!","v":{"$error":"#REF!"}},{"$f":"SkillConfig!#REF!","v":{"$error":"#REF!"}}]
[{"$f":"INT(SkillConfig!E172)","v":0},{"$f":"SkillConfig!G172","v":0},{"$f":"SkillConfig!#REF!","v":{"$error":"#REF!"}},{"$f":"SkillConfig!#REF!","v":{"$error":"#REF!"}}]
[{"$f":"INT(SkillConfig!E173)","v":0},{"$f":"SkillConfig!G173","v":0},{"$f":"SkillConfig!#REF!","v":{"$error":"#REF!"}},{"$f":"SkillConfig!#REF!","v":{"$error":"#REF!"}}]
[{"$f":"INT(SkillConfig!E174)","v":0},{"$f":"SkillConfig!G174","v":0},{"$f":"SkillConfig!#REF!","v":{"$error":"#REF!"}},{"$f":"SkillConfig!#REF!","v":{"$error":"#REF!"}}]
[{"$f":"INT(SkillConfig!E175)","v":0},{"$f":"SkillConfig!G175","v":0},{"$f":"SkillConfig!#REF!","v":{"$error":"#REF!"}},{"$f":"SkillConfig!#REF!","v":{"$error":"#REF!"}}]
[{"$f":"INT(SkillConfig!E176)","v":0},{"$f":"SkillConfig!G176","v":0},{"$f":"SkillConfig!#REF!","v":{"$error":"#REF!"}},{"$f":"SkillConfig!#REF!","v":{"$error":"#REF!"}}]
[{"$f":"INT(SkillConfig!E177)","v":0},{"$f":"SkillConfig!G177","v":0},{"$f":"SkillConfig!#REF!","v":{"$error":"#REF!"}},{"$f":"SkillConfig!#REF!","v":{"$error":"#REF!"}}]
[{"$f":"INT(SkillConfig!E178)","v":0},{"$f":"SkillConfig!G178","v":0},{"$f":"SkillConfig!#REF!","v":{"$error":"#REF!"}},{"$f":"SkillConfig!#REF!","v":{"$error":"#REF!"}}]
[{"$f":"INT(SkillConfig!E179)","v":0},{"$f":"SkillConfig!G179","v":0},{"$f":"SkillConfig!#REF!","v":{"$error":"#REF!"}},{"$f":"SkillConfig!#REF!","v":{"$error":"#REF!"}}]
[{"$f":"INT(SkillConfig!E180)","v":0},{"$f":"SkillConfig!G180","v":0},{"$f":"SkillConfig!#REF!","v":{"$error":"#REF!"}},{"$f":"SkillConfig!#REF!","v":{"$error":"#REF!"}}]
[{"$f":"INT(SkillConfig!E181)","v":0},{"$f":"SkillConfig!G181","v":0},{"$f":"SkillConfig!#REF!","v":{"$error":"#REF!"}},{"$f":"SkillConfig!#REF!","v":{"$error":"#REF!"}}]
[{"$f":"INT(SkillConfig!E182)","v":0},{"$f":"SkillConfig!G182","v":0},{"$f":"SkillConfig!#REF!","v":{"$error":"#REF!"}},{"$f":"SkillConfig!#REF!","v":{"$error":"#REF!"}}]
[{"$f":"INT(SkillConfig!E183)","v":0},{"$f":"SkillConfig!G183","v":0},{"$f":"SkillConfig!#REF!","v":{"$error":"#REF!"}},{"$f":"SkillConfig!#REF!","v":{"$error":"#REF!"}}]
[{"$f":"INT(SkillConfig!E184)","v":0},{"$f":"SkillConfig!G184","v":0},{"$f":"SkillConfig!#REF!","v":{"$error":"#REF!"}},{"$f":"SkillConfig!#REF!","v":{"$error":"#REF!"}}]
[{"$f":"INT(SkillConfig!E185)","v":0},{"$f":"SkillConfig!G185","v":0},{"$f":"SkillConfig!#REF!","v":{"$error":"#REF!"}},{"$f":"SkillConfig!#REF!","v":{"$error":"#REF!"}}]
[{"$f":"INT(SkillConfig!E186)","v":0},{"$f":"SkillConfig!G186","v":0},{"$f":"SkillConfig!#REF!","v":{"$error":"#REF!"}},{"$f":"SkillConfig!#REF!","v":{"$error":"#REF!"}}]
[{"$f":"INT(SkillConfig!E187)","v":0},{"$f":"SkillConfig!G187","v":0},{"$f":"SkillConfig!#REF!","v":{"$error":"#REF!"}},{"$f":"SkillConfig!#REF!","v":{"$error":"#REF!"}}]
[{"$f":"INT(SkillConfig!E188)","v":0},{"$f":"SkillConfig!G188","v":0},{"$f":"SkillConfig!#REF!","v":{"$error":"#REF!"}},{"$f":"SkillConfig!#REF!","v":{"$error":"#REF!"}}]
[{"$f":"INT(SkillConfig!E189)","v":0},{"$f":"SkillConfig!G189","v":0},{"$f":"SkillConfig!#REF!","v":{"$error":"#REF!"}},{"$f":"SkillConfig!#REF!","v":{"$error":"#REF!"}}]
[{"$f":"INT(SkillConfig!E190)","v":0},{"$f":"SkillConfig!G190","v":0},{"$f":"SkillConfig!#REF!","v":{"$error":"#REF!"}},{"$f":"SkillConfig!#REF!","v":{"$error":"#REF!"}}]
[{"$f":"INT(SkillConfig!E191)","v":0},{"$f":"SkillConfig!G191","v":0},{"$f":"SkillConfig!#REF!","v":{"$error":"#REF!"}},{"$f":"SkillConfig!#REF!","v":{"$error":"#REF!"}}]
[{"$f":"INT(SkillConfig!E192)","v":0},{"$f":"SkillConfig!G192","v":0},{"$f":"SkillConfig!#REF!","v":{"$error":"#REF!"}},{"$f":"SkillConfig!#REF!","v":{"$error":"#REF!"}}]
[{"$f":"INT(SkillConfig!E193)","v":0},{"$f":"SkillConfig!G193","v":0},{"$f":"SkillConfig!#REF!","v":{"$error":"#REF!"}},{"$f":"SkillConfig!#REF!","v":{"$error":"#REF!"}}]
[{"$f":"INT(SkillConfig!E194)","v":0},{"$f":"SkillConfig!G194","v":0},{"$f":"SkillConfig!#REF!","v":{"$error":"#REF!"}},{"$f":"SkillConfig!#REF!","v":{"$error":"#REF!"}}]
[{"$f":"INT(SkillConfig!E195)","v":0},{"$f":"SkillConfig!G195","v":0},{"$f":"SkillConfig!#REF!","v":{"$error":"#REF!"}},{"$f":"SkillConfig!#REF!","v":{"$error":"#REF!"}}]
[{"$f":"INT(SkillConfig!E196)","v":0},{"$f":"SkillConfig!G196","v":0},{"$f":"SkillConfig!#REF!","v":{"$error":"#REF!"}},{"$f":"SkillConfig!#REF!","v":{"$error":"#REF!"}}]
[{"$f":"INT(SkillConfig!E197)","v":0},{"$f":"SkillConfig!G197","v":0},{"$f":"SkillConfig!#REF!","v":{"$error":"#REF!"}},{"$f":"SkillConfig!#REF!","v":{"$error":"#REF!"}}]
[{"$f":"INT(SkillConfig!E198)","v":0},{"$f":"SkillConfig!G198","v":0},{"$f":"SkillConfig!#REF!","v":{"$error":"#REF!"}},{"$f":"SkillConfig!#REF!","v":{"$error":"#REF!"}}]
[{"$f":"INT(SkillConfig!E199)","v":0},{"$f":"SkillConfig!G199","v":0},{"$f":"SkillConfig!#REF!","v":{"$error":"#REF!"}},{"$f":"SkillConfig!#REF!","v":{"$error":"#REF!"}}]
[{"$f":"INT(SkillConfig!E200)","v":0},{"$f":"SkillConfig!G200","v":0},{"$f":"SkillConfig!#REF!","v":{"$error":"#REF!"}},{"$f":"SkillConfig!#REF!","v":{"$error":"#REF!"}}]
[{"$f":"INT(SkillConfig!E201)","v":0},{"$f":"SkillConfig!G201","v":0},{"$f":"SkillConfig!#REF!","v":{"$error":"#REF!"}},{"$f":"SkillConfig!#REF!","v":{"$error":"#REF!"}}]
[{"$f":"INT(SkillConfig!E202)","v":0},{"$f":"SkillConfig!G202","v":0},{"$f":"SkillConfig!#REF!","v":{"$error":"#REF!"}},{"$f":"SkillConfig!#REF!","v":{"$error":"#REF!"}}]
[{"$f":"INT(SkillConfig!E203)","v":0},{"$f":"SkillConfig!G203","v":0},{"$f":"SkillConfig!#REF!","v":{"$error":"#REF!"}},{"$f":"SkillConfig!#REF!","v":{"$error":"#REF!"}}]
[{"$f":"INT(SkillConfig!E204)","v":0},{"$f":"SkillConfig!G204","v":0},{"$f":"SkillConfig!#REF!","v":{"$error":"#REF!"}},{"$f":"SkillConfig!#REF!","v":{"$error":"#REF!"}}]
[{"$f":"INT(SkillConfig!E205)","v":0},{"$f":"SkillConfig!G205","v":0},{"$f":"SkillConfig!#REF!","v":{"$error":"#REF!"}},{"$f":"SkillConfig!#REF!","v":{"$error":"#REF!"}}]
[{"$f":"INT(SkillConfig!E206)","v":0},{"$f":"SkillConfig!G206","v":0},{"$f":"SkillConfig!#REF!","v":{"$error":"#REF!"}},{"$f":"SkillConfig!#REF!","v":{"$error":"#REF!"}}]
[{"$f":"INT(SkillConfig!E207)","v":0},{"$f":"SkillConfig!G207","v":0},{"$f":"SkillConfig!#REF!","v":{"$error":"#REF!"}},{"$f":"SkillConfig!#REF!","v":{"$error":"#REF!"}}]
[{"$f":"INT(SkillConfig!E208)","v":0},{"$f":"SkillConfig!G208","v":0},{"$f":"SkillConfig!#REF!","v":{"$error":"#REF!"}},{"$f":"SkillConfig!#REF!","v":{"$error":"#REF!"}}]
[{"$f":"INT(SkillConfig!E209)","v":0},{"$f":"SkillConfig!G209","v":0},{"$f":"SkillConfig!#REF!","v":{"$error":"#REF!"}},{"$f":"SkillConfig!#REF!","v":{"$error":"#REF!"}}]
[{"$f":"INT(SkillConfig!E210)","v":0},{"$f":"SkillConfig!G210","v":0},{"$f":"SkillConfig!#REF!","v":{"$error":"#REF!"}},{"$f":"SkillConfig!#REF!","v":{"$error":"#REF!"}}]
[{"$f":"INT(SkillConfig!E211)","v":0},{"$f":"SkillConfig!G211","v":0},{"$f":"SkillConfig!#REF!","v":{"$error":"#REF!"}},{"$f":"SkillConfig!#REF!","v":{"$error":"#REF!"}}]
[{"$f":"INT(SkillConfig!E212)","v":0},{"$f":"SkillConfig!G212","v":0},{"$f":"SkillConfig!#REF!","v":{"$error":"#REF!"}},{"$f":"SkillConfig!#REF!","v":{"$error":"#REF!"}}]
[{"$f":"INT(SkillConfig!E213)","v":0},{"$f":"SkillConfig!G213","v":0},{"$f":"SkillConfig!#REF!","v":{"$error":"#REF!"}},{"$f":"SkillConfig!#REF!","v":{"$error":"#REF!"}}]
[{"$f":"INT(SkillConfig!E214)","v":0},{"$f":"SkillConfig!G214","v":0},{"$f":"SkillConfig!#REF!","v":{"$error":"#REF!"}},{"$f":"SkillConfig!#REF!","v":{"$error":"#REF!"}}]
[{"$f":"INT(SkillConfig!E215)","v":0},{"$f":"SkillConfig!G215","v":0},{"$f":"SkillConfig!#REF!","v":{"$error":"#REF!"}},{"$f":"SkillConfig!#REF!","v":{"$error":"#REF!"}}]
[{"$f":"INT(SkillConfig!E216)","v":0},{"$f":"SkillConfig!G216","v":0},{"$f":"SkillConfig!#REF!","v":{"$error":"#REF!"}},{"$f":"SkillConfig!#REF!","v":{"$error":"#REF!"}}]
[{"$f":"INT(SkillConfig!E217)","v":0},{"$f":"SkillConfig!G217","v":0},{"$f":"SkillConfig!#REF!","v":{"$error":"#REF!"}},{"$f":"SkillConfig!#REF!","v":{"$error":"#REF!"}}]
[{"$f":"INT(SkillConfig!E218)","v":0},{"$f":"SkillConfig!G218","v":0},{"$f":"SkillConfig!#REF!","v":{"$error":"#REF!"}},{"$f":"SkillConfig!#REF!","v":{"$error":"#REF!"}}]
[{"$f":"INT(SkillConfig!E219)","v":0},{"$f":"SkillConfig!G219","v":0},{"$f":"SkillConfig!#REF!","v":{"$error":"#REF!"}},{"$f":"SkillConfig!#REF!","v":{"$error":"#REF!"}}]
[{"$f":"INT(SkillConfig!E220)","v":0},{"$f":"SkillConfig!G220","v":0},{"$f":"SkillConfig!#REF!","v":{"$error":"#REF!"}},{"$f":"SkillConfig!#REF!","v":{"$error":"#REF!"}}]
[{"$f":"INT(SkillConfig!E221)","v":0},{"$f":"SkillConfig!G221","v":0},{"$f":"SkillConfig!#REF!","v":{"$error":"#REF!"}},{"$f":"SkillConfig!#REF!","v":{"$error":"#REF!"}}]
[{"$f":"INT(SkillConfig!E222)","v":0},{"$f":"SkillConfig!G222","v":0},{"$f":"SkillConfig!#REF!","v":{"$error":"#REF!"}},{"$f":"SkillConfig!#REF!","v":{"$error":"#REF!"}}]
[{"$f":"INT(SkillConfig!E223)","v":0},{"$f":"SkillConfig!G223","v":0},{"$f":"SkillConfig!#REF!","v":{"$error":"#REF!"}},{"$f":"SkillConfig!#REF!","v":{"$error":"#REF!"}}]
[{"$f":"INT(SkillConfig!E224)","v":0},{"$f":"SkillConfig!G224","v":0},{"$f":"SkillConfig!#REF!","v":{"$error":"#REF!"}},{"$f":"SkillConfig!#REF!","v":{"$error":"#REF!"}}]
[{"$f":"INT(SkillConfig!E225)","v":0},{"$f":"SkillConfig!G225","v":0},{"$f":"SkillConfig!#REF!","v":{"$error":"#REF!"}},{"$f":"SkillConfig!#REF!","v":{"$error":"#REF!"}}]
[{"$f":"INT(SkillConfig!E226)","v":0},{"$f":"SkillConfig!G226","v":0},{"$f":"SkillConfig!#REF!","v":{"$error":"#REF!"}},{"$f":"SkillConfig!#REF!","v":{"$error":"#REF!"}}]
[{"$f":"INT(SkillConfig!E227)","v":0},{"$f":"SkillConfig!G227","v":0},{"$f":"SkillConfig!#REF!","v":{"$error":"#REF!"}},{"$f":"SkillConfig!#REF!","v":{"$error":"#REF!"}}]
[{"$f":"INT(SkillConfig!E228)","v":0},{"$f":"SkillConfig!G228","v":0},{"$f":"SkillConfig!#REF!","v":{"$error":"#REF!"}},{"$f":"SkillConfig!#REF!","v":{"$error":"#REF!"}}]
[{"$f":"INT(SkillConfig!E229)","v":0},{"$f":"SkillConfig!G229","v":0},{"$f":"SkillConfig!#REF!","v":{"$error":"#REF!"}},{"$f":"SkillConfig!#REF!","v":{"$error":"#REF!"}}]
[{"$f":"INT(SkillConfig!E230)","v":0},{"$f":"SkillConfig!G230","v":0},{"$f":"SkillConfig!#REF!","v":{"$error":"#REF!"}},{"$f":"SkillConfig!#REF!","v":{"$error":"#REF!"}}]
[{"$f":"INT(SkillConfig!E231)","v":0},{"$f":"SkillConfig!G231","v":0},{"$f":"SkillConfig!#REF!","v":{"$error":"#REF!"}},{"$f":"SkillConfig!#REF!","v":{"$error":"#REF!"}}]
[{"$f":"INT(SkillConfig!E232)","v":0},{"$f":"SkillConfig!G232","v":0},{"$f":"SkillConfig!#REF!","v":{"$error":"#REF!"}},{"$f":"SkillConfig!#REF!","v":{"$error":"#REF!"}}]
[{"$f":"INT(SkillConfig!E233)","v":0},{"$f":"SkillConfig!G233","v":0},{"$f":"SkillConfig!#REF!","v":{"$error":"#REF!"}},{"$f":"SkillConfig!#REF!","v":{"$error":"#REF!"}}]
[{"$f":"INT(SkillConfig!E234)","v":0},{"$f":"SkillConfig!G234","v":0},{"$f":"SkillConfig!#REF!","v":{"$error":"#REF!"}},{"$f":"SkillConfig!#REF!","v":{"$error":"#REF!"}}]
[{"$f":"INT(SkillConfig!E235)","v":0},{"$f":"SkillConfig!G235","v":0},{"$f":"SkillConfig!#REF!","v":{"$error":"#REF!"}},{"$f":"SkillConfig!#REF!","v":{"$error":"#REF!"}}]
[{"$f":"INT(SkillConfig!E236)","v":0},{"$f":"SkillConfig!G236","v":0},{"$f":"SkillConfig!#REF!","v":{"$error":"#REF!"}},{"$f":"SkillConfig!#REF!","v":{"$error":"#REF!"}}]
[{"$f":"INT(SkillConfig!E237)","v":0},{"$f":"SkillConfig!G237","v":0},{"$f":"SkillConfig!#REF!","v":{"$error":"#REF!"}},{"$f":"SkillConfig!#REF!","v":{"$error":"#REF!"}}]
[{"$f":"INT(SkillConfig!E238)","v":0},{"$f":"SkillConfig!G238","v":0},{"$f":"SkillConfig!#REF!","v":{"$error":"#REF!"}},{"$f":"SkillConfig!#REF!","v":{"$error":"#REF!"}}]
[{"$f":"INT(SkillConfig!E239)","v":0},{"$f":"SkillConfig!G239","v":0},{"$f":"SkillConfig!#REF!","v":{"$error":"#REF!"}},{"$f":"SkillConfig!#REF!","v":{"$error":"#REF!"}}]
[{"$f":"INT(SkillConfig!E240)","v":0},{"$f":"SkillConfig!G240","v":0},{"$f":"SkillConfig!#REF!","v":{"$error":"#REF!"}},{"$f":"SkillConfig!#REF!","v":{"$error":"#REF!"}}]
[{"$f":"INT(SkillConfig!E241)","v":0},{"$f":"SkillConfig!G241","v":0},{"$f":"SkillConfig!#REF!","v":{"$error":"#REF!"}},{"$f":"SkillConfig!#REF!","v":{"$error":"#REF!"}}]
[{"$f":"INT(SkillConfig!E242)","v":0},{"$f":"SkillConfig!G242","v":0},{"$f":"SkillConfig!#REF!","v":{"$error":"#REF!"}},{"$f":"SkillConfig!#REF!","v":{"$error":"#REF!"}}]
[{"$f":"INT(SkillConfig!E243)","v":0},{"$f":"SkillConfig!G243","v":0},{"$f":"SkillConfig!#REF!","v":{"$error":"#REF!"}},{"$f":"SkillConfig!#REF!","v":{"$error":"#REF!"}}]
[{"$f":"INT(SkillConfig!E244)","v":0},{"$f":"SkillConfig!G244","v":0},{"$f":"SkillConfig!#REF!","v":{"$error":"#REF!"}},{"$f":"SkillConfig!#REF!","v":{"$error":"#REF!"}}]
[{"$f":"INT(SkillConfig!E245)","v":0},{"$f":"SkillConfig!G245","v":0},{"$f":"SkillConfig!#REF!","v":{"$error":"#REF!"}},{"$f":"SkillConfig!#REF!","v":{"$error":"#REF!"}}]
[{"$f":"INT(SkillConfig!E246)","v":0},{"$f":"SkillConfig!G246","v":0},{"$f":"SkillConfig!#REF!","v":{"$error":"#REF!"}},{"$f":"SkillConfig!#REF!","v":{"$error":"#REF!"}}]
[{"$f":"INT(SkillConfig!E247)","v":0},{"$f":"SkillConfig!G247","v":0},{"$f":"SkillConfig!#REF!","v":{"$error":"#REF!"}},{"$f":"SkillConfig!#REF!","v":{"$error":"#REF!"}}]
[{"$f":"INT(SkillConfig!E248)","v":0},{"$f":"SkillConfig!G248","v":0},{"$f":"SkillConfig!#REF!","v":{"$error":"#REF!"}},{"$f":"SkillConfig!#REF!","v":{"$error":"#REF!"}}]
[{"$f":"INT(SkillConfig!E249)","v":0},{"$f":"SkillConfig!G249","v":0},{"$f":"SkillConfig!#REF!","v":{"$error":"#REF!"}},{"$f":"SkillConfig!#REF!","v":{"$error":"#REF!"}}]
[{"$f":"INT(SkillConfig!E250)","v":0},{"$f":"SkillConfig!G250","v":0},{"$f":"SkillConfig!#REF!","v":{"$error":"#REF!"}},{"$f":"SkillConfig!#REF!","v":{"$error":"#REF!"}}]
[{"$f":"INT(SkillConfig!E251)","v":0},{"$f":"SkillConfig!G251","v":0},{"$f":"SkillConfig!#REF!","v":{"$error":"#REF!"}},{"$f":"SkillConfig!#REF!","v":{"$error":"#REF!"}}]
[{"$f":"INT(SkillConfig!E252)","v":0},{"$f":"SkillConfig!G252","v":0},{"$f":"SkillConfig!#REF!","v":{"$error":"#REF!"}},{"$f":"SkillConfig!#REF!","v":{"$error":"#REF!"}}]
[{"$f":"INT(SkillConfig!E253)","v":0},{"$f":"SkillConfig!G253","v":0},{"$f":"SkillConfig!#REF!","v":{"$error":"#REF!"}},{"$f":"SkillConfig!#REF!","v":{"$error":"#REF!"}}]
[{"$f":"INT(SkillConfig!E254)","v":0},{"$f":"SkillConfig!G254","v":0},{"$f":"SkillConfig!#REF!","v":{"$error":"#REF!"}},{"$f":"SkillConfig!#REF!","v":{"$error":"#REF!"}}]
[{"$f":"INT(SkillConfig!E255)","v":0},{"$f":"SkillConfig!G255","v":0},{"$f":"SkillConfig!#REF!","v":{"$error":"#REF!"}},{"$f":"SkillConfig!#REF!","v":{"$error":"#REF!"}}]
[{"$f":"INT(SkillConfig!E256)","v":0},{"$f":"SkillConfig!G256","v":0},{"$f":"SkillConfig!#REF!","v":{"$error":"#REF!"}},{"$f":"SkillConfig!#REF!","v":{"$error":"#REF!"}}]
[{"$f":"INT(SkillConfig!E257)","v":0},{"$f":"SkillConfig!G257","v":0},{"$f":"SkillConfig!#REF!","v":{"$error":"#REF!"}},{"$f":"SkillConfig!#REF!","v":{"$error":"#REF!"}}]
[{"$f":"INT(SkillConfig!E258)","v":0},{"$f":"SkillConfig!G258","v":0},{"$f":"SkillConfig!#REF!","v":{"$error":"#REF!"}},{"$f":"SkillConfig!#REF!","v":{"$error":"#REF!"}}]
[{"$f":"INT(SkillConfig!E259)","v":0},{"$f":"SkillConfig!G259","v":0},{"$f":"SkillConfig!#REF!","v":{"$error":"#REF!"}},{"$f":"SkillConfig!#REF!","v":{"$error":"#REF!"}}]
[{"$f":"INT(SkillConfig!E260)","v":0},{"$f":"SkillConfig!G260","v":0},{"$f":"SkillConfig!#REF!","v":{"$error":"#REF!"}},{"$f":"SkillConfig!#REF!","v":{"$error":"#REF!"}}]
[{"$f":"INT(SkillConfig!E261)","v":0},{"$f":"SkillConfig!G261","v":0},{"$f":"SkillConfig!#REF!","v":{"$error":"#REF!"}},{"$f":"SkillConfig!#REF!","v":{"$error":"#REF!"}}]
[{"$f":"INT(SkillConfig!E262)","v":0},{"$f":"SkillConfig!G262","v":0},{"$f":"SkillConfig!#REF!","v":{"$error":"#REF!"}},{"$f":"SkillConfig!#REF!","v":{"$error":"#REF!"}}]
[{"$f":"INT(SkillConfig!E263)","v":0},{"$f":"SkillConfig!G263","v":0},{"$f":"SkillConfig!#REF!","v":{"$error":"#REF!"}},{"$f":"SkillConfig!#REF!","v":{"$error":"#REF!"}}]
[{"$f":"INT(SkillConfig!E264)","v":0},{"$f":"SkillConfig!G264","v":0},{"$f":"SkillConfig!#REF!","v":{"$error":"#REF!"}},{"$f":"SkillConfig!#REF!","v":{"$error":"#REF!"}}]
[{"$f":"INT(SkillConfig!E265)","v":0},{"$f":"SkillConfig!G265","v":0},{"$f":"SkillConfig!#REF!","v":{"$error":"#REF!"}},{"$f":"SkillConfig!#REF!","v":{"$error":"#REF!"}}]
[{"$f":"INT(SkillConfig!E266)","v":0},{"$f":"SkillConfig!G266","v":0},{"$f":"SkillConfig!#REF!","v":{"$error":"#REF!"}},{"$f":"SkillConfig!#REF!","v":{"$error":"#REF!"}}]
[{"$f":"INT(SkillConfig!E267)","v":0},{"$f":"SkillConfig!G267","v":0},{"$f":"SkillConfig!#REF!","v":{"$error":"#REF!"}},{"$f":"SkillConfig!#REF!","v":{"$error":"#REF!"}}]
[{"$f":"INT(SkillConfig!E268)","v":0},{"$f":"SkillConfig!G268","v":0},{"$f":"SkillConfig!#REF!","v":{"$error":"#REF!"}},{"$f":"SkillConfig!#REF!","v":{"$error":"#REF!"}}]
[{"$f":"INT(SkillConfig!E269)","v":0},{"$f":"SkillConfig!G269","v":0},{"$f":"SkillConfig!#REF!","v":{"$error":"#REF!"}},{"$f":"SkillConfig!#REF!","v":{"$error":"#REF!"}}]
[{"$f":"INT(SkillConfig!E270)","v":0},{"$f":"SkillConfig!G270","v":0},{"$f":"SkillConfig!#REF!","v":{"$error":"#REF!"}},{"$f":"SkillConfig!#REF!","v":{"$error":"#REF!"}}]
[{"$f":"INT(SkillConfig!E271)","v":0},{"$f":"SkillConfig!G271","v":0},{"$f":"SkillConfig!#REF!","v":{"$error":"#REF!"}},{"$f":"SkillConfig!#REF!","v":{"$error":"#REF!"}}]
[{"$f":"INT(SkillConfig!E272)","v":0},{"$f":"SkillConfig!G272","v":0},{"$f":"SkillConfig!#REF!","v":{"$error":"#REF!"}},{"$f":"SkillConfig!#REF!","v":{"$error":"#REF!"}}]
[{"$f":"INT(SkillConfig!E273)","v":0},{"$f":"SkillConfig!G273","v":0},{"$f":"SkillConfig!#REF!","v":{"$error":"#REF!"}},{"$f":"SkillConfig!#REF!","v":{"$error":"#REF!"}}]
[{"$f":"INT(SkillConfig!E274)","v":0},{"$f":"SkillConfig!G274","v":0},{"$f":"SkillConfig!#REF!","v":{"$error":"#REF!"}},{"$f":"SkillConfig!#REF!","v":{"$error":"#REF!"}}]
[{"$f":"INT(SkillConfig!E275)","v":0},{"$f":"SkillConfig!G275","v":0},{"$f":"SkillConfig!#REF!","v":{"$error":"#REF!"}},{"$f":"SkillConfig!#REF!","v":{"$error":"#REF!"}}]
[{"$f":"INT(SkillConfig!E276)","v":0},{"$f":"SkillConfig!G276","v":0},{"$f":"SkillConfig!#REF!","v":{"$error":"#REF!"}},{"$f":"SkillConfig!#REF!","v":{"$error":"#REF!"}}]
[{"$f":"INT(SkillConfig!E277)","v":0},{"$f":"SkillConfig!G277","v":0},{"$f":"SkillConfig!#REF!","v":{"$error":"#REF!"}},{"$f":"SkillConfig!#REF!","v":{"$error":"#REF!"}}]
[{"$f":"INT(SkillConfig!E278)","v":0},{"$f":"SkillConfig!G278","v":0},{"$f":"SkillConfig!#REF!","v":{"$error":"#REF!"}},{"$f":"SkillConfig!#REF!","v":{"$error":"#REF!"}}]
[{"$f":"INT(SkillConfig!E279)","v":0},{"$f":"SkillConfig!G279","v":0},{"$f":"SkillConfig!#REF!","v":{"$error":"#REF!"}},{"$f":"SkillConfig!#REF!","v":{"$error":"#REF!"}}]
[{"$f":"INT(SkillConfig!E280)","v":0},{"$f":"SkillConfig!G280","v":0},{"$f":"SkillConfig!#REF!","v":{"$error":"#REF!"}},{"$f":"SkillConfig!#REF!","v":{"$error":"#REF!"}}]
[{"$f":"INT(SkillConfig!E281)","v":0},{"$f":"SkillConfig!G281","v":0},{"$f":"SkillConfig!#REF!","v":{"$error":"#REF!"}},{"$f":"SkillConfig!#REF!","v":{"$error":"#REF!"}}]
[{"$f":"INT(SkillConfig!E282)","v":0},{"$f":"SkillConfig!G282","v":0},{"$f":"SkillConfig!#REF!","v":{"$error":"#REF!"}},{"$f":"SkillConfig!#REF!","v":{"$error":"#REF!"}}]
[{"$f":"INT(SkillConfig!E283)","v":0},{"$f":"SkillConfig!G283","v":0},{"$f":"SkillConfig!#REF!","v":{"$error":"#REF!"}},{"$f":"SkillConfig!#REF!","v":{"$error":"#REF!"}}]
[{"$f":"INT(SkillConfig!E284)","v":0},{"$f":"SkillConfig!G284","v":0},{"$f":"SkillConfig!#REF!","v":{"$error":"#REF!"}},{"$f":"SkillConfig!#REF!","v":{"$error":"#REF!"}}]
[{"$f":"INT(SkillConfig!E285)","v":0},{"$f":"SkillConfig!G285","v":0},{"$f":"SkillConfig!#REF!","v":{"$error":"#REF!"}},{"$f":"SkillConfig!#REF!","v":{"$error":"#REF!"}}]
[{"$f":"INT(SkillConfig!E286)","v":0},{"$f":"SkillConfig!G286","v":0},{"$f":"SkillConfig!#REF!","v":{"$error":"#REF!"}},{"$f":"SkillConfig!#REF!","v":{"$error":"#REF!"}}]
[{"$f":"INT(SkillConfig!E287)","v":0},{"$f":"SkillConfig!G287","v":0},{"$f":"SkillConfig!#REF!","v":{"$error":"#REF!"}},{"$f":"SkillConfig!#REF!","v":{"$error":"#REF!"}}]
[{"$f":"INT(SkillConfig!E288)","v":0},{"$f":"SkillConfig!G288","v":0},{"$f":"SkillConfig!#REF!","v":{"$error":"#REF!"}},{"$f":"SkillConfig!#REF!","v":{"$error":"#REF!"}}]
[{"$f":"INT(SkillConfig!E289)","v":0},{"$f":"SkillConfig!G289","v":0},{"$f":"SkillConfig!#REF!","v":{"$error":"#REF!"}},{"$f":"SkillConfig!#REF!","v":{"$error":"#REF!"}}]
[{"$f":"INT(SkillConfig!E290)","v":0},{"$f":"SkillConfig!G290","v":0},{"$f":"SkillConfig!#REF!","v":{"$error":"#REF!"}},{"$f":"SkillConfig!#REF!","v":{"$error":"#REF!"}}]
[{"$f":"INT(SkillConfig!E291)","v":0},{"$f":"SkillConfig!G291","v":0},{"$f":"SkillConfig!#REF!","v":{"$error":"#REF!"}},{"$f":"SkillConfig!#REF!","v":{"$error":"#REF!"}}]
[{"$f":"INT(SkillConfig!E292)","v":0},{"$f":"SkillConfig!G292","v":0},{"$f":"SkillConfig!#REF!","v":{"$error":"#REF!"}},{"$f":"SkillConfig!#REF!","v":{"$error":"#REF!"}}]
[{"$f":"INT(SkillConfig!E293)","v":0},{"$f":"SkillConfig!G293","v":0},{"$f":"SkillConfig!#REF!","v":{"$error":"#REF!"}},{"$f":"SkillConfig!#REF!","v":{"$error":"#REF!"}}]
[{"$f":"INT(SkillConfig!E294)","v":0},{"$f":"SkillConfig!G294","v":0},{"$f":"SkillConfig!#REF!","v":{"$error":"#REF!"}},{"$f":"SkillConfig!#REF!","v":{"$error":"#REF!"}}]
[{"$f":"INT(SkillConfig!E295)","v":0},{"$f":"SkillConfig!G295","v":0},{"$f":"SkillConfig!#REF!","v":{"$error":"#REF!"}},{"$f":"SkillConfig!#REF!","v":{"$error":"#REF!"}}]
[{"$f":"INT(SkillConfig!E296)","v":0},{"$f":"SkillConfig!G296","v":0},{"$f":"SkillConfig!#REF!","v":{"$error":"#REF!"}},{"$f":"SkillConfig!#REF!","v":{"$error":"#REF!"}}]
[{"$f":"INT(SkillConfig!E297)","v":0},{"$f":"SkillConfig!G297","v":0},{"$f":"SkillConfig!#REF!","v":{"$error":"#REF!"}},{"$f":"SkillConfig!#REF!","v":{"$error":"#REF!"}}]
[{"$f":"INT(SkillConfig!E298)","v":0},{"$f":"SkillConfig!G298","v":0},{"$f":"SkillConfig!#REF!","v":{"$error":"#REF!"}},{"$f":"SkillConfig!#REF!","v":{"$error":"#REF!"}}]
[{"$f":"INT(SkillConfig!E299)","v":0},{"$f":"SkillConfig!G299","v":0},{"$f":"SkillConfig!#REF!","v":{"$error":"#REF!"}},{"$f":"SkillConfig!#REF!","v":{"$error":"#REF!"}}]
[{"$f":"INT(SkillConfig!E300)","v":0},{"$f":"SkillConfig!G300","v":0},{"$f":"SkillConfig!#REF!","v":{"$error":"#REF!"}},{"$f":"SkillConfig!#REF!","v":{"$error":"#REF!"}}]
[{"$f":"INT(SkillConfig!E301)","v":0},{"$f":"SkillConfig!G301","v":0},{"$f":"SkillConfig!#REF!","v":{"$error":"#REF!"}},{"$f":"SkillConfig!#REF!","v":{"$error":"#REF!"}}]
[{"$f":"INT(SkillConfig!E302)","v":0},{"$f":"SkillConfig!G302","v":0},{"$f":"SkillConfig!#REF!","v":{"$error":"#REF!"}},{"$f":"SkillConfig!#REF!","v":{"$error":"#REF!"}}]

{"sheet":"特殊ID段","index":3,"n_rows":5,"n_cols":2,"rows_kept":5,"cut":false,"hidden":false,"merged":[]}
[]
["1-98","怪物词缀"]
["1000-2000","神器效果"]
["英雄ID+技能类型+等级","英雄技能"]
["怪物ID+技能类型+等级","怪物技能"]

{"sheet":"技能评分基准","index":4,"n_rows":66,"n_cols":30,"rows_kept":66,"cut":false,"hidden":false,"merged":[[0,24,0,28],[8,24,8,28],[9,13,9,14]]}
["编号","类型",null,"叠加个数（超过后不在有新效果）","效果值","衰弱%","1层价值","2层价值","3层价值","4层价值","5层价值",null,null,"普通速度(秒)","双倍速度(秒)",null,"大招(能量点数)","绝对强度修正","相对强度修正","英雄num","小招(秒)","绝对强度修正","相对强度修正",null,"减益BUFF多层衰减情况",{"$nulls":4},"价值"]
[100101,"弱化","秒伤降低{0}%秒伤",5,15,20,{"$f":"ROUND(AD$3,0)","v":25},{"$f":"ROUND(AD$4,0)","v":45},{"$f":"ROUND(AD$5,0)","v":61},{"$f":"ROUND(AD$6,0)","v":74},{"$f":"ROUND(AD$7,0)","v":84},null,"大招",24,16,null,120,{"$f":"Q2*R$14/Q$14","v":0.5},{"$f":"R2^0.74","v":0.598739352309464},{"$f":"COUNTIF(SkillConfig!#REF!,技能评分基准!Q2)/3","v":{"$error":"#REF!"}},0,{"$f":"U2*V$14/U$14","v":0},{"$f":"V2^0.74","v":0},null,"层数","基础值",0.8,"每层实际值","累加值"]
[100201,"虚弱","最终伤害降低{0}%",5,15,20,25,{"$f":"ROUND(AD$4,0)","v":45},{"$f":"ROUND(AD$5,0)","v":61},{"$f":"ROUND(AD$6,0)","v":74},{"$f":"ROUND(AD$7,0)","v":84},null,"小招",9,6,null,130,0.541666666666667,{"$f":"R3^0.74","v":0.635274995575617},{"$f":"COUNTIF(SkillConfig!#REF!,技能评分基准!Q3)/3","v":{"$error":"#REF!"}},1,0.111111111111111,0.196725448008704,null,1,14.87,{"$f":"AA$2^(Y3-1)","v":1},{"$f":"Z3*AA3","v":14.87},{"$f":"SUM(AB3:AB$3)","v":14.87},25]
[100301,"破甲","防御力降低{0}%",5,15,20,25,{"$f":"ROUND(AD$4,0)","v":45},{"$f":"ROUND(AD$5,0)","v":61},{"$f":"ROUND(AD$6,0)","v":74},{"$f":"ROUND(AD$7,0)","v":84},null,"普攻",2.25,1.5,null,140,0.583333333333333,0.671086384375282,{"$f":"COUNTIF(SkillConfig!#REF!,技能评分基准!Q4)/3","v":{"$error":"#REF!"}},2,0.222222222222222,0.328566090152406,null,2,{"$f":"Z3","v":14.87},{"$f":"AA$2^(Y4-1)","v":0.8},{"$f":"Z4*AA4","v":11.896},{"$f":"SUM(AB$3:AB4)","v":26.766},{"$f":"AC4*AD$3/AC$3","v":45}]
[100401,"易伤","受到伤害增加{0}%",5,15,20,25,{"$f":"ROUND(AD$4,0)","v":45},{"$f":"ROUND(AD$5,0)","v":61},{"$f":"ROUND(AD$6,0)","v":74},{"$f":"ROUND(AD$7,0)","v":84},{"$nulls":5},150,0.625,0.706238213407101,{"$f":"COUNTIF(SkillConfig!#REF!,技能评分基准!Q5)/3","v":{"$error":"#REF!"}},3,0.333333333333333,0.443537425713664,null,3,{"$f":"Z4","v":14.87},{"$f":"AA$2^(Y5-1)","v":0.64},{"$f":"Z5*AA5","v":9.5168},{"$f":"SUM(AB$3:AB5)","v":36.2828},{"$f":"AC5*AD$3/AC$3","v":61}]
[100501,"禁疗","降低{0}%受治疗效果",5,15,20,25,{"$f":"ROUND(AD$4,0)","v":45},{"$f":"ROUND(AD$5,0)","v":61},{"$f":"ROUND(AD$6,0)","v":74},{"$f":"ROUND(AD$7,0)","v":84},null,null,"攻击/s",0.75,null,160,0.666666666666667,0.740785492055678,{"$f":"COUNTIF(SkillConfig!#REF!,技能评分基准!Q6)/3","v":{"$error":"#REF!"}},4,0.444444444444444,0.548763145240173,null,4,{"$f":"Z5","v":14.87},{"$f":"AA$2^(Y6-1)","v":0.512},{"$f":"Z6*AA6","v":7.61344},{"$f":"SUM(AB$3:AB6)","v":43.89624},{"$f":"AC6*AD$3/AC$3","v":73.8}]
[100601,"寒冰","移动速度降低{0}%，使其最高移动速度不超过{1}m/s",1,"30;2",0,25,{"$nulls":6},"攻血比（开始）","1比60",null,170,0.708333333333333,0.774775507094521,{"$f":"COUNTIF(SkillConfig!#REF!,技能评分基准!Q7)/3","v":{"$error":"#REF!"}},5,0.555555555555556,0.647289178142693,null,5,{"$f":"Z6","v":14.87},{"$f":"AA$2^(Y7-1)","v":0.4096},{"$f":"Z7*AA7","v":6.090752},{"$f":"SUM(AB$3:AB7)","v":49.986992},{"$f":"AC7*AD$3/AC$3","v":84.04}]
[100701,"冻伤","护盾额外受到{0}%伤害",1,50,0,{"$f":"ROUND(AD$3,0)","v":25},{"$nulls":6},"攻血比（最终）","1比90",null,180,0.75,0.808249295822417,{"$f":"COUNTIF(SkillConfig!#REF!,技能评分基准!Q8)/3","v":{"$error":"#REF!"}},6,{"$f":"U8*V$14/U$14","v":0.666666666666667},{"$f":"V8^0.74","v":0.740785492055678}]
[100801,"感电","攻速提升{0}%",10,0.3,0,3,{"$nulls":9},190,0.791666666666667,0.8412427721363,{"$f":"COUNTIF(SkillConfig!#REF!,技能评分基准!Q9)/3","v":{"$error":"#REF!"}},6.5,0.722222222222222,0.785988925519825,null,"增益BUFF多层衰减情况"]
[101001,"致盲","命中降低{0}%",5,30,20,25,{"$f":"ROUND(AD$4,0)","v":45},{"$f":"ROUND(AD$5,0)","v":61},{"$f":"ROUND(AD$6,0)","v":74},{"$f":"ROUND(AD$7,0)","v":84},null,null,"等价表",null,null,200,0.833333333333333,0.873787601248058,{"$f":"COUNTIF(SkillConfig!#REF!,技能评分基准!Q10)/3","v":{"$error":"#REF!"}},7,0.777777777777778,0.830296280917179,null,"层数","基础值",0.8,"每层实际值","累加值"]
[101101,"迟疑","攻速降低{0}%",5,15,20,25,45,61,74,84,null,null,"攻击",100,null,210,0.875,0.905911888896499,{"$f":"COUNTIF(SkillConfig!#REF!,技能评分基准!Q11)/3","v":{"$error":"#REF!"}},7.5,0.833333333333333,0.873787601248058,null,1,29.75,{"$f":"AA$2^(Y11-1)","v":1},{"$f":"Z11*AA11","v":29.75},{"$f":"SUM(AB$11:AB11)","v":29.75}]
[101201,"焦躁","暴击下降{0}%",5,15,20,25,45,61,74,84,null,null,"威力",100,null,220,0.916666666666667,0.937640731341693,{"$f":"COUNTIF(SkillConfig!#REF!,技能评分基准!Q12)/3","v":{"$error":"#REF!"}},8,0.888888888888889,0.916530946435168,null,2,{"$f":"Z11","v":29.75},{"$f":"AA$2^(Y12-1)","v":0.8},{"$f":"Z12*AA12","v":23.8},{"$f":"SUM(AB$11:AB12)","v":53.55}]
[101301,"超重","无法堆叠",1,-1,0,25,{"$nulls":6},"秒伤",25,null,230,0.958333333333333,0.968996659302155,{"$f":"COUNTIF(SkillConfig!#REF!,技能评分基准!Q13)/3","v":{"$error":"#REF!"}},8.5,0.944444444444444,0.958584821662188,null,3,{"$f":"Z12","v":29.75},{"$f":"AA$2^(Y13-1)","v":0.64},{"$f":"Z13*AA13","v":19.04},{"$f":"SUM(AB$11:AB13)","v":72.59}]
[101401,"沉默","无法使用大招",1,-1,0,25,{"$nulls":6},"防御",100,null,240,1,1,{"$f":"COUNTIF(SkillConfig!#REF!,技能评分基准!Q14)/3","v":{"$error":"#REF!"}},9,1,1,null,4,{"$f":"Z13","v":29.75},{"$f":"AA$2^(Y14-1)","v":0.512},{"$f":"Z14*AA14","v":15.232},{"$f":"SUM(AB$11:AB14)","v":87.822}]
[101501,"减速","移动速度减少{0}%",5,15,20,25,45,61,74,84,null,null,"生命",1000,null,250,{"$f":"Q15*R$14/Q$14","v":1.04166666666667},1.03066917519687,{"$f":"COUNTIF(SkillConfig!#REF!,技能评分基准!Q15)/3","v":{"$error":"#REF!"}},9.5,{"$f":"U15*V$14/U$14","v":1.05555555555556},{"$f":"V15^0.74","v":1.04082091563137},null,5,{"$f":"Z14","v":29.75},{"$f":"AA$2^(Y15-1)","v":0.4096},{"$f":"Z15*AA15","v":12.1856},{"$f":"SUM(AB$11:AB15)","v":100.0076}]
[101601,"标记","闪避降低{0}%",5,15,20,25,45,61,74,84,{"$nulls":5},260,1.08333333333333,1.06102094864022,{"$f":"COUNTIF(SkillConfig!#REF!,技能评分基准!Q16)/3","v":{"$error":"#REF!"}},10,1.11111111111111,1.08108674608736]
[101701,"燃烧","每损失基于施法者{0}%秒伤的生命",1,50,0,25,{"$nulls":9},270,1.125,1.09107063311881,{"$f":"COUNTIF(SkillConfig!#REF!,技能评分基准!Q17)/3","v":{"$error":"#REF!"}},10.5,1.16666666666667,1.12083226496932]
[102201,"爆裂","受到技能伤害时，其首段伤害转化成一次{0}%爆炸伤害",1,"75;3",0,25,{"$nulls":9},280,1.16666666666667,1.12083226496932,{"$f":"COUNTIF(SkillConfig!#REF!,技能评分基准!Q18)/3","v":{"$error":"#REF!"}},11,1.22222222222222,1.16008852242502]
[101901,"眩晕","无法移动，无法攻击，无法释放技能",1,-1,0,25,{"$f":"ROUND(AD$4,0)","v":45},{"$f":"ROUND(AD$5,0)","v":61},{"$f":"ROUND(AD$6,0)","v":74},{"$f":"ROUND(AD$7,0)","v":84},{"$nulls":5},290,1.20833333333333,1.15031875212798,{"$f":"COUNTIF(SkillConfig!#REF!,技能评分基准!Q19)/3","v":{"$error":"#REF!"}},11.5,1.27777777777778,1.19888339440639]
[102001,"禁锢","无法移动",1,-1,0,25,{"$nulls":9},300,1.25,1.17954200050989,{"$f":"COUNTIF(SkillConfig!#REF!,技能评分基准!Q20)/3","v":{"$error":"#REF!"}},12,1.33333333333333,1.23724203060699]
[102101,"停滞","期间大招无法充能",1,-1,0,25,{"$nulls":9},310,1.29166666666667,1.20851302250377,{"$f":"COUNTIF(SkillConfig!#REF!,技能评分基准!Q21)/3","v":{"$error":"#REF!"}},12.5,1.38888888888889,1.27518722320461]
[102301,"压制","压制，不能不任何事",1,-1,0,25,{"$nulls":9},320,1.33333333333333,1.23724203060699,{"$f":"COUNTIF(SkillConfig!#REF!,技能评分基准!Q22)/3","v":{"$error":"#REF!"}},13,1.44444444444444,1.31273971301218]
[200101,"强力","秒伤增加{0}%",5,15,20,25,45,61,74,84,{"$nulls":5},330,1.375,1.26573851863613,{"$f":"COUNTIF(SkillConfig!#REF!,技能评分基准!Q23)/3","v":{"$error":"#REF!"}},13.5,{"$f":"U23*V$14/U$14","v":1.5},{"$f":"V23^0.74","v":1.34991844565557}]
[200201,"增伤","最终伤害增加{0}%",5,15,20,25,45,61,74,84,{"$nulls":5},340,1.41666666666667,1.29401133248725,{"$f":"COUNTIF(SkillConfig!#REF!,技能评分基准!Q24)/3","v":{"$error":"#REF!"}},14,1.55555555555556,1.38674078748048]
[200301,"防御","防御力增加{0}%",5,15,20,25,45,61,74,84,{"$nulls":5},350,1.45833333333333,1.32206873205794,{"$f":"COUNTIF(SkillConfig!#REF!,技能评分基准!Q25)/3","v":{"$error":"#REF!"}},14.5,1.61111111111111,1.42322270872812]
[200401,"免伤","受到伤害减少{0}%",5,15,20,25,45,61,74,84,{"$nulls":5},360,1.5,1.34991844565557,{"$f":"COUNTIF(SkillConfig!#REF!,技能评分基准!Q26)/3","v":{"$error":"#REF!"}},15,1.66666666666667,1.45937893989709]
[200701,"祝福","受治疗效果增加{0}%受治疗效果",5,10,20,25,45,61,74,84]
[200801,"无敌","免疫控制，免疫伤害",1,-1,0,25]
[200901,"霸体","期间免疫控制，免疫debuff",1,-1,0,25]
[201001,"狂暴","攻速增加{0}%",5,25,20,25,45,61,74,84]
[201201,"暴击","暴击率提升{0}%",5,15,20,25,45,61,74,84]
[201301,"锁定","被敌人优先攻击",1,-1,0,25]
[201401,"闪避","闪避提升{0}%",5,15,20,25,45,61,74,84]
[201501,"吸血","吸血提升{0}%",5,10,20,25,45,61,74,84]
[201801,"隐身","不能被选取，无法被敌人作为目标选取到",1,-1,0,25]
[202001,"免控","期间免疫控制",1,-1,0,25]
[202101,"冻结","无法行动，护盾额外受到{0}%伤害",1,100,0,25]
[202201,"焚烧","受到技能的每段伤害时，立即被施加并结算一次【燃烧】",1,-1,0,25]
[202301,"加速","移动速度提升{0}%",5,15,20,25,45,61,74,84]
[202401,"冰甲","拥有护盾效果，且免疫减益效果。",5,15,20,25,45,61,74,84]
[202501,"标记","boss90300的标记buff",5,15,20,25,45,61,74,84]
[202601,"风行","免疫所有负面位移",5,15,20,25,45,61,74,84]
[]
[null,null,null,"1层价值","2层价值","3层价值","4层价值","5层价值","作用1人","作用2人","作用多人"]
[null,"可叠加增减益",null,{"$f":"IF(D59=\"\",\"\",D59*$D$55)","v":18.75},{"$f":"IF(E59=\"\",\"\",E59*$D$55)","v":33.75},45.75,55.35,63.03,0.75,1.2,1.65]
[null,"控制&反控",null,{"$f":"IF(D60=\"\",\"\",D60*$D$55)","v":30},"","","","",0.75,1.2,1.65]
[null,null,null,"1段伤害","2段伤害","3段伤害","4段伤害","5段伤害","6段伤害","作用1人","作用2人","作用3人","作用4人","作用5人","作用6+人"]
[null,"伤害","总伤害",{"$f":"IF(D62=\"\",\"\",D62*$D$55)","v":0.75},{"$f":"IF(E62=\"\",\"\",E62*$D$55)","v":0.7725},0.795,0.8175,0.84,0.8625,0.75,0.39,0.27,0.21,0.1725,0.15]
[null,null,"段数",1,2,3,4,5,6]
[null,null,null,{"$f":"IF(D64=\"\",\"\",D64*$D$55)","v":0.75},0.825,0.9,0.975,1.05,1.125]
[null,null,"地面模式",0.75,0.7725,0.795,0.8175,0.84,0.8625]
[]
[null,null,"治疗量系数",1.1]
[null,null,"护盾量系数",1.3]
[null,null,"技能伤害系数",0.75]
[]
[]
[null,null,null,"1层价值","2层价值","3层价值","4层价值","5层价值","作用1人","作用2人","作用多人"]
[null,"可叠加增减益",null,{"$f":"AD3","v":25},{"$f":"AD4","v":45},{"$f":"AD5","v":61},{"$f":"AD6","v":73.8},{"$f":"AD7","v":84.04},1,1.6,2.2]
[null,"控制&反控",null,40,{"$nulls":4},1,1.6,2.2]
[null,null,null,"1段伤害","2段伤害","3段伤害","4段伤害","5段伤害","6段伤害","作用1人","作用2人","作用3人","作用4人","作用5人","作用6+人",null,1,100,{"$f":"R61/Q61","v":100}]
[null,"伤害","总伤害",1,1.03,1.06,1.09,1.12,1.15,1,0.52,0.36,0.28,0.23,0.2,null,2,104,{"$f":"R62/Q62","v":52}]
[null,null,"段数",1,2,3,4,5,6,{"$nulls":7},3,108,36]
[null,null,null,1,1.1,1.2,1.3,1.4,1.5,{"$nulls":7},4,112,28]
[null,null,"地面模式",1,1.03,1.06,1.09,1.12,1.15,{"$nulls":7},5,115,23]
[{"$nulls":16},6,120,20]