{"text_format":"2","workbook":"xlsx","n_sheets":1,"sheets":["HeroPowerUpConfig"],"not_rendered":{"charts":0,"images":0,"macros":0,"external_links":0,"defined_names":1,"comments":0,"pivot_tables":0},"unopened":[],"bounds":{"document_bytes":16777216,"sheet_cells":100000,"run_cost":"one","rows_first":2000,"rows_last":500,"rows_between":2000,"halvings":0,"cell_chars":16384,"cell_head_chars":4096},"cells_cut":0,"cells_raw":0,"read":"whole","date_system":"1900"}

{"sheet":"HeroPowerUpConfig","index":0,"n_rows":308,"n_cols":18,"rows_kept":308,"cut":false,"hidden":false,"merged":[]}
["ID","HeroLevel","HPFactor","ATKFactor","DEFFactor","SHANBIFactor","EXPFactor","levelUpExp",null,"LevelupBasicPower","skillParam","defK"]
["int","int","float","float","float","float","float","int",null,"int","string[]","int"]
[{"$nulls":15},2.83402]
["ID","英雄等级","生命倍率","攻击力倍率","防御倍率","闪避倍率","经验产出倍率","升级所需经验值\n（-1代表最大等级)",null,"等级提升提供的评分A1","对应HeroModel表的下标和等级\n0,1 表示1位置的1级\n1,1 表示2位置的1级\n1,2 表示3位置的2级","防御系数K","总经验",{"$f":"SUM(H5:H103)","v":35144},"成长率与经验倍率的放大指数",2.47272,"单人升满r",100000]
[1,1,1.05,"1.06666666666667",2.05,1,1,60,1,{"$f":"ROUND(300*#REF!,0)","v":{"$error":"#REF!"}},"0,1;1,1",60,0]
[2,2,1.10166666666667,1.11666666666667,2.15,1,{"$f":"E6","v":2.15},{"$f":"ROUND(H5*$I$5*I6,0)","v":62},1.03,{"$f":"ROUND(300*#REF!,0)","v":{"$error":"#REF!"}},null,122.46,{"$f":"SUM(H$5:H5)","v":60},"进入等级",10]
[3,3,1.15833333333333,1.18333333333333,2.25,1,{"$f":"E7","v":2.25},{"$f":"ROUND(H6*$I$5*I7,0)","v":64},1.03,{"$f":"ROUND(300*#REF!,0)","v":{"$error":"#REF!"}},null,127.87,{"$f":"SUM(H$5:H6)","v":122},"完成等级",20]
[4,4,1.21666666666667,1.23333333333333,2.35,1,{"$f":"E8","v":2.35},{"$f":"ROUND(H7*$I$5*I8,0)","v":66},1.03,{"$f":"ROUND(300*#REF!,0)","v":{"$error":"#REF!"}},null,133.23,{"$f":"SUM(H$5:H7)","v":186},"总人数",3]
[5,5,1.27666666666667,1.3,2.45,1,2.45,68,1.03,{"$f":"ROUND(300*#REF!,0)","v":{"$error":"#REF!"}},null,138.54,{"$f":"SUM(H$5:H8)","v":252},"需要经验",{"$f":"(VLOOKUP(O7,A:M,10,FALSE)-VLOOKUP(O6,A:M,10,FALSE))*O8","v":{"$error":"#REF!"}}]
[6,6,1.34,1.36666666666667,2.55,1,2.55,70,1.03,{"$f":"ROUND(300*#REF!,0)","v":{"$error":"#REF!"}},null,143.81,{"$f":"SUM(H$5:H9)","v":320}]
[7,7,1.40833333333333,1.41666666666667,2.7,1,2.7,72,1.03,{"$f":"ROUND(300*#REF!,0)","v":{"$error":"#REF!"}},null,149.03,{"$f":"SUM(H$5:H10)","v":390}]
[8,8,1.47833333333333,1.5,2.85,1,2.85,74,1.03,{"$f":"ROUND(300*#REF!,0)","v":{"$error":"#REF!"}},null,157.11,{"$f":"SUM(H$5:H11)","v":462},"道具","ID","数量"]
[9,9,1.55166666666667,1.58333333333333,3,1,3,76,1.03,{"$f":"ROUND(300*#REF!,0)","v":{"$error":"#REF!"}},null,165.12,{"$f":"SUM(H$5:H12)","v":536},"经验水晶粉末",2001,null,100,"对英雄使用后获得100点英雄经验。"]
[10,10,1.63,1.66666666666667,3.15,1,3.15,78,1.03,{"$f":"ROUND(300*#REF!,0)","v":{"$error":"#REF!"}},null,173.05,{"$f":"SUM(H$5:H13)","v":612},"经验水晶碎屑",2002,null,500,"对英雄使用后获得500点英雄经验。"]
[11,11,1.71166666666667,1.73333333333333,3.3,1,3.3,80,1.03,{"$f":"ROUND(300*#REF!,0)","v":{"$error":"#REF!"}},"2,1",180.92,{"$f":"SUM(H$5:H14)","v":690},"经验水晶结晶",2003,null,2000,"对英雄使用后获得2000点英雄经验。"]
[12,12,1.79833333333333,1.81666666666667,3.45,1,3.45,82,1.03,{"$f":"ROUND(300*#REF!,0)","v":{"$error":"#REF!"}},null,188.72,{"$f":"SUM(H$5:H15)","v":770},"经验水晶晶簇",2004,null,10000,"对英雄使用后获得10000点英雄经验。"]
[13,13,1.88833333333333,1.91666666666667,3.6,1,3.6,84,1.03,{"$f":"ROUND(300*#REF!,0)","v":{"$error":"#REF!"}},null,196.45,{"$f":"SUM(H$5:H16)","v":852}]
[14,14,1.98166666666667,2.01666666666667,3.8,1,3.8,87,1.03,{"$f":"ROUND(300*#REF!,0)","v":{"$error":"#REF!"}},null,204.11,{"$f":"SUM(H$5:H17)","v":936}]
[15,15,2.08166666666667,2.11666666666667,4,1,4,90,1.03,{"$f":"ROUND(300*#REF!,0)","v":{"$error":"#REF!"}},null,214.53,{"$f":"SUM(H$5:H18)","v":1023}]
[16,16,2.18666666666667,2.21666666666667,4.2,1,4.2,93,1.03,{"$f":"ROUND(300*#REF!,0)","v":{"$error":"#REF!"}},null,224.86,{"$f":"SUM(H$5:H19)","v":1113}]
[17,17,2.29666666666667,2.33333333333333,4.4,1,4.4,96,1.03,{"$f":"ROUND(300*#REF!,0)","v":{"$error":"#REF!"}},null,235.09,{"$f":"SUM(H$5:H20)","v":1206}]
[18,18,2.41,2.46666666666667,4.6,1,4.6,99,1.03,{"$f":"ROUND(300*#REF!,0)","v":{"$error":"#REF!"}},null,245.24,{"$f":"SUM(H$5:H21)","v":1302}]
[19,19,2.53,2.58333333333333,4.85,1,4.85,102,1.03,{"$f":"ROUND(300*#REF!,0)","v":{"$error":"#REF!"}},null,255.3,{"$f":"SUM(H$5:H22)","v":1401}]
[20,20,3.09833333333333,3.15,5.1,1,5.1,105,1.03,{"$f":"ROUND(300*#REF!,0)","v":{"$error":"#REF!"}},null,268.03,{"$f":"SUM(H$5:H23)","v":1503}]
[21,21,3.25333333333333,3.31666666666667,5.35,1,5.35,108,1.03,{"$f":"ROUND(300*#REF!,0)","v":{"$error":"#REF!"}},null,280.66,{"$f":"SUM(H$5:H24)","v":1608}]
[22,22,3.41666666666667,3.48333333333333,5.6,1,5.6,111,1.03,{"$f":"ROUND(300*#REF!,0)","v":{"$error":"#REF!"}},null,293.17,{"$f":"SUM(H$5:H25)","v":1716}]
[23,23,3.58666666666667,3.63333333333333,5.9,1,5.9,114,1.03,{"$f":"ROUND(300*#REF!,0)","v":{"$error":"#REF!"}},null,305.58,{"$f":"SUM(H$5:H26)","v":1827}]
[24,24,3.76666666666667,3.83333333333333,6.2,1,6.2,117,1.03,{"$f":"ROUND(300*#REF!,0)","v":{"$error":"#REF!"}},null,320.6,{"$f":"SUM(H$5:H27)","v":1941}]
[25,25,3.955,4.01666666666667,6.5,1,6.5,121,1.03,{"$f":"ROUND(300*#REF!,0)","v":{"$error":"#REF!"}},null,335.48,{"$f":"SUM(H$5:H28)","v":2058}]
[26,26,4.15333333333333,4.21666666666667,6.85,1,6.85,125,1.03,{"$f":"ROUND(300*#REF!,0)","v":{"$error":"#REF!"}},null,350.24,{"$f":"SUM(H$5:H29)","v":2179}]
[27,27,4.36166666666667,4.43333333333333,7.2,1,7.2,129,1.03,{"$f":"ROUND(300*#REF!,0)","v":{"$error":"#REF!"}},null,367.56,{"$f":"SUM(H$5:H30)","v":2304}]
[28,28,4.57833333333333,4.66666666666667,7.55,1,7.55,133,1.03,{"$f":"ROUND(300*#REF!,0)","v":{"$error":"#REF!"}},null,384.73,{"$f":"SUM(H$5:H31)","v":2433}]
[29,29,4.80666666666667,4.9,7.95,1,7.95,137,1.03,{"$f":"ROUND(300*#REF!,0)","v":{"$error":"#REF!"}},null,401.75,{"$f":"SUM(H$5:H32)","v":2566}]
[30,30,5.04666666666667,5.15,8.35,1,8.35,141,1.03,{"$f":"ROUND(300*#REF!,0)","v":{"$error":"#REF!"}},null,421.28,{"$f":"SUM(H$5:H33)","v":2703}]
[31,31,5.29833333333333,5.41666666666667,8.75,1,8.75,145,1.03,{"$f":"ROUND(300*#REF!,0)","v":{"$error":"#REF!"}},"1,2",440.64,{"$f":"SUM(H$5:H34)","v":2844}]
[32,32,5.565,5.7,9.2,1,9.2,149,1.03,{"$f":"ROUND(300*#REF!,0)","v":{"$error":"#REF!"}},null,459.83,{"$f":"SUM(H$5:H35)","v":2989}]
[33,33,5.84333333333333,5.96666666666667,9.65,1,9.65,153,1.03,{"$f":"ROUND(300*#REF!,0)","v":{"$error":"#REF!"}},null,481.49,{"$f":"SUM(H$5:H36)","v":3138}]
[34,34,6.135,6.28333333333333,10.15,1,10.15,158,1.03,{"$f":"ROUND(300*#REF!,0)","v":{"$error":"#REF!"}},null,502.95,{"$f":"SUM(H$5:H37)","v":3291}]
[35,35,6.44,6.58333333333333,10.65,1,10.65,163,1.03,{"$f":"ROUND(300*#REF!,0)","v":{"$error":"#REF!"}},null,526.83,{"$f":"SUM(H$5:H38)","v":3449}]
[36,36,6.76166666666667,6.9,11.2,1,11.2,168,1.03,{"$f":"ROUND(300*#REF!,0)","v":{"$error":"#REF!"}},null,550.51,{"$f":"SUM(H$5:H39)","v":3612}]
[37,37,7.1,7.25,11.75,1,11.75,173,1.03,{"$f":"ROUND(300*#REF!,0)","v":{"$error":"#REF!"}},null,576.57,{"$f":"SUM(H$5:H40)","v":3780}]
[38,38,7.455,7.63333333333333,12.35,1,12.35,178,1.03,{"$f":"ROUND(300*#REF!,0)","v":{"$error":"#REF!"}},null,602.4,{"$f":"SUM(H$5:H41)","v":3953}]
[39,39,7.82833333333333,8,12.95,1,12.95,183,1.03,{"$f":"ROUND(300*#REF!,0)","v":{"$error":"#REF!"}},null,630.58,{"$f":"SUM(H$5:H42)","v":4131}]
[40,40,9.395,9.6,13.6,1,13.6,188,1.03,{"$f":"ROUND(300*#REF!,0)","v":{"$error":"#REF!"}},null,658.51,{"$f":"SUM(H$5:H43)","v":4314}]
[41,41,9.86333333333333,10.0833333333333,14.3,1,14.3,194,1.03,{"$f":"ROUND(300*#REF!,0)","v":{"$error":"#REF!"}},null,688.75,{"$f":"SUM(H$5:H44)","v":4502}]
[42,42,10.3566666666667,10.5833333333333,15,1,15,200,1.03,{"$f":"ROUND(300*#REF!,0)","v":{"$error":"#REF!"}},null,721.25,{"$f":"SUM(H$5:H45)","v":4696}]
[43,43,10.875,11.1166666666667,15.75,1,15.75,206,1.03,{"$f":"ROUND(300*#REF!,0)","v":{"$error":"#REF!"}},null,753.49,{"$f":"SUM(H$5:H46)","v":4896}]
[44,44,11.4183333333333,11.6833333333333,16.55,1,16.55,212,1.03,{"$f":"ROUND(300*#REF!,0)","v":{"$error":"#REF!"}},null,787.96,{"$f":"SUM(H$5:H47)","v":5102}]
[45,45,11.99,12.2666666666667,17.4,1,17.4,218,1.03,{"$f":"ROUND(300*#REF!,0)","v":{"$error":"#REF!"}},null,824.63,{"$f":"SUM(H$5:H48)","v":5314}]
[46,46,12.59,12.8833333333333,18.25,1,18.25,225,1.03,{"$f":"ROUND(300*#REF!,0)","v":{"$error":"#REF!"}},null,863.48,{"$f":"SUM(H$5:H49)","v":5532}]
[47,47,13.2183333333333,13.5166666666667,19.15,1,19.15,232,1.03,{"$f":"ROUND(300*#REF!,0)","v":{"$error":"#REF!"}},null,902.01,{"$f":"SUM(H$5:H50)","v":5757}]
[48,48,13.88,14.1833333333333,20.1,1,20.1,239,1.03,{"$f":"ROUND(300*#REF!,0)","v":{"$error":"#REF!"}},null,942.68,{"$f":"SUM(H$5:H51)","v":5989}]
[49,49,14.5733333333333,14.9,21.1,1,21.1,246,1.03,{"$f":"ROUND(300*#REF!,0)","v":{"$error":"#REF!"}},null,985.47,{"$f":"SUM(H$5:H52)","v":6228}]
[50,50,15.3016666666667,15.65,22.15,1,22.15,253,1.03,{"$f":"ROUND(300*#REF!,0)","v":{"$error":"#REF!"}},null,1030.35,{"$f":"SUM(H$5:H53)","v":6474}]
[51,51,16.0666666666667,16.4333333333333,23.25,1,23.25,261,1.03,{"$f":"ROUND(300*#REF!,0)","v":{"$error":"#REF!"}},"2,2",1077.3,{"$f":"SUM(H$5:H54)","v":6727}]
[52,52,16.87,17.25,24.4,1,24.4,269,1.03,{"$f":"ROUND(300*#REF!,0)","v":{"$error":"#REF!"}},null,1126.27,{"$f":"SUM(H$5:H55)","v":6988}]
[53,53,17.7116666666667,18.1,25.6,1,25.6,277,1.03,{"$f":"ROUND(300*#REF!,0)","v":{"$error":"#REF!"}},null,1177.27,{"$f":"SUM(H$5:H56)","v":7257}]
[54,54,18.5966666666667,19.0166666666667,26.9,1,26.9,285,1.03,{"$f":"ROUND(300*#REF!,0)","v":{"$error":"#REF!"}},null,1230.24,{"$f":"SUM(H$5:H57)","v":7534}]
[55,55,19.5283333333333,19.9666666666667,28.25,1,28.25,294,1.03,{"$f":"ROUND(300*#REF!,0)","v":{"$error":"#REF!"}},null,1287.57,{"$f":"SUM(H$5:H58)","v":7819}]
[56,56,20.5033333333333,20.9666666666667,29.65,1,29.65,303,1.03,{"$f":"ROUND(300*#REF!,0)","v":{"$error":"#REF!"}},null,1346.82,{"$f":"SUM(H$5:H59)","v":8113}]
[57,57,21.5283333333333,22,31.15,1,31.15,312,1.03,{"$f":"ROUND(300*#REF!,0)","v":{"$error":"#REF!"}},null,1407.96,{"$f":"SUM(H$5:H60)","v":8416}]
[58,58,22.605,23.1,32.7,1,32.7,321,1.03,{"$f":"ROUND(300*#REF!,0)","v":{"$error":"#REF!"}},null,1473.33,{"$f":"SUM(H$5:H61)","v":8728}]
[59,59,23.7366666666667,24.2333333333333,34.35,1,34.35,331,1.03,{"$f":"ROUND(300*#REF!,0)","v":{"$error":"#REF!"}},null,1540.53,{"$f":"SUM(H$5:H62)","v":9049}]
[60,60,28.0383333333333,28.6166666666667,36.05,1,36.05,341,1.03,{"$f":"ROUND(300*#REF!,0)","v":{"$error":"#REF!"}},null,1611.88,{"$f":"SUM(H$5:H63)","v":9380}]
[61,61,29.4383333333333,30.0666666666667,37.85,1,37.85,351,1.03,{"$f":"ROUND(300*#REF!,0)","v":{"$error":"#REF!"}},null,1684.99,{"$f":"SUM(H$5:H64)","v":9721}]
[62,62,30.9116666666667,31.5666666666667,39.75,1,39.75,362,1.03,{"$f":"ROUND(300*#REF!,0)","v":{"$error":"#REF!"}},null,1762.16,{"$f":"SUM(H$5:H65)","v":10072}]
[63,63,32.4566666666667,33.15,41.75,1,41.75,373,1.03,{"$f":"ROUND(300*#REF!,0)","v":{"$error":"#REF!"}},null,1843.35,{"$f":"SUM(H$5:H66)","v":10434}]
[64,64,34.08,34.8,43.85,1,43.85,384,1.03,{"$f":"ROUND(300*#REF!,0)","v":{"$error":"#REF!"}},null,1928.51,{"$f":"SUM(H$5:H67)","v":10807}]
[65,65,35.7833333333333,36.5333333333333,46.05,1,{"$f":"E69","v":46.05},396,1.03,{"$f":"ROUND(300*#REF!,0)","v":{"$error":"#REF!"}},null,2017.58,{"$f":"SUM(H$5:H68)","v":11191}]
[66,66,37.5716666666667,38.3666666666667,48.35,1,48.35,408,1.03,{"$f":"ROUND(300*#REF!,0)","v":{"$error":"#REF!"}},null,2110.52,{"$f":"SUM(H$5:H69)","v":11587}]
[67,67,39.45,40.2833333333333,50.75,1,50.75,{"$f":"ROUND(H70*$I$5*I71,0)","v":420},1.03,{"$f":"ROUND(300*#REF!,0)","v":{"$error":"#REF!"}},null,2207.28,{"$f":"SUM(H$5:H70)","v":11995}]
[68,68,41.4233333333333,42.3,53.3,1,53.3,433,1.03,{"$f":"ROUND(300*#REF!,0)","v":{"$error":"#REF!"}},null,2307.82,{"$f":"SUM(H$5:H71)","v":12415}]
[69,69,43.4933333333333,44.4333333333333,55.95,1,55.95,446,1.03,{"$f":"ROUND(300*#REF!,0)","v":{"$error":"#REF!"}},null,2414.35,{"$f":"SUM(H$5:H72)","v":12848}]
[70,70,45.6683333333333,46.65,58.75,1,58.75,459,1.03,{"$f":"ROUND(300*#REF!,0)","v":{"$error":"#REF!"}},null,2524.54,{"$f":"SUM(H$5:H73)","v":13294}]
[71,71,47.9516666666667,48.9833333333333,61.7,1,61.7,473,1.03,{"$f":"ROUND(300*#REF!,0)","v":{"$error":"#REF!"}},"3,2",2640.59,{"$f":"SUM(H$5:H74)","v":13753}]
[72,72,50.3483333333333,51.45,64.8,1,64.8,487,1.03,{"$f":"ROUND(300*#REF!,0)","v":{"$error":"#REF!"}},null,2762.44,{"$f":"SUM(H$5:H75)","v":14226}]
[73,73,52.8666666666667,54.0333333333333,68.05,1,68.05,502,1.03,{"$f":"ROUND(300*#REF!,0)","v":{"$error":"#REF!"}},null,2890.01,{"$f":"SUM(H$5:H76)","v":14713}]
[74,74,55.5083333333333,56.7333333333333,71.45,1,71.45,517,1.03,{"$f":"ROUND(300*#REF!,0)","v":{"$error":"#REF!"}},null,3023.23,{"$f":"SUM(H$5:H77)","v":15215}]
[75,75,58.2833333333333,59.5833333333333,75,1,75,533,1.03,{"$f":"ROUND(300*#REF!,0)","v":{"$error":"#REF!"}},null,3162.04,{"$f":"SUM(H$5:H78)","v":15732}]
[76,76,61.1966666666667,62.55,78.75,1,78.75,549,1.03,{"$f":"ROUND(300*#REF!,0)","v":{"$error":"#REF!"}},null,3306.37,{"$f":"SUM(H$5:H79)","v":16265}]
[77,77,64.2566666666667,65.6666666666667,82.7,1,82.7,565,1.03,{"$f":"ROUND(300*#REF!,0)","v":{"$error":"#REF!"}},null,3458.33,{"$f":"SUM(H$5:H80)","v":16814}]
[78,78,67.47,68.9333333333333,86.85,1,86.85,582,1.03,{"$f":"ROUND(300*#REF!,0)","v":{"$error":"#REF!"}},null,3617.85,{"$f":"SUM(H$5:H81)","v":17379}]
[79,79,70.845,72.3833333333333,91.2,1,91.2,599,1.03,{"$f":"ROUND(300*#REF!,0)","v":{"$error":"#REF!"}},null,3784.83,{"$f":"SUM(H$5:H82)","v":17961}]
[80,80,82.6533333333333,84.4666666666667,95.75,1,95.75,617,1.03,{"$f":"ROUND(300*#REF!,0)","v":{"$error":"#REF!"}},null,3959.18,{"$f":"SUM(H$5:H83)","v":18560}]
[81,81,86.7866666666667,88.7,100.55,1,100.55,636,1.03,{"$f":"ROUND(300*#REF!,0)","v":{"$error":"#REF!"}},null,4140.81,{"$f":"SUM(H$5:H84)","v":19177}]
[82,82,91.1266666666667,93.1333333333333,105.6,1,105.6,655,1.03,{"$f":"ROUND(300*#REF!,0)","v":{"$error":"#REF!"}},null,4331.79,{"$f":"SUM(H$5:H85)","v":19813}]
[83,83,95.6833333333333,97.8,110.9,1,110.9,675,1.03,{"$f":"ROUND(300*#REF!,0)","v":{"$error":"#REF!"}},null,4532,{"$f":"SUM(H$5:H86)","v":20468}]
[84,84,100.466666666667,102.7,116.45,1,116.45,695,1.03,{"$f":"ROUND(300*#REF!,0)","v":{"$error":"#REF!"}},null,4741.34,{"$f":"SUM(H$5:H87)","v":21143}]
[85,85,105.49,107.833333333333,122.25,1,122.25,716,1.03,{"$f":"ROUND(300*#REF!,0)","v":{"$error":"#REF!"}},null,4959.68,{"$f":"SUM(H$5:H88)","v":21838}]
[86,86,110.763333333333,113.233333333333,128.35,1,128.35,737,1.03,{"$f":"ROUND(300*#REF!,0)","v":{"$error":"#REF!"}},null,5186.94,{"$f":"SUM(H$5:H89)","v":22554}]
[87,87,116.3,118.9,134.75,1,134.75,759,1.03,{"$f":"ROUND(300*#REF!,0)","v":{"$error":"#REF!"}},null,5425.1,{"$f":"SUM(H$5:H90)","v":23291}]
[88,88,122.116666666667,124.833333333333,141.5,1,141.5,782,1.03,{"$f":"ROUND(300*#REF!,0)","v":{"$error":"#REF!"}},null,5674.05,{"$f":"SUM(H$5:H91)","v":24050}]
[89,89,128.223333333333,131.066666666667,148.6,1,148.6,805,1.03,{"$f":"ROUND(300*#REF!,0)","v":{"$error":"#REF!"}},null,5935.74,{"$f":"SUM(H$5:H92)","v":24832}]
[90,90,134.633333333333,137.633333333333,156.05,1,156.05,829,1.03,{"$f":"ROUND(300*#REF!,0)","v":{"$error":"#REF!"}},null,6210.04,{"$f":"SUM(H$5:H93)","v":25637}]
[91,91,141.366666666667,144.5,163.85,1,163.85,854,1.03,{"$f":"ROUND(300*#REF!,0)","v":{"$error":"#REF!"}},"4,2",6496.78,{"$f":"SUM(H$5:H94)","v":26466}]
[92,92,148.436666666667,151.733333333333,172.05,1,172.05,880,1.03,{"$f":"ROUND(300*#REF!,0)","v":{"$error":"#REF!"}},null,6795.81,{"$f":"SUM(H$5:H95)","v":27320}]
[93,93,155.86,159.333333333333,180.65,1,180.65,906,1.03,{"$f":"ROUND(300*#REF!,0)","v":{"$error":"#REF!"}},null,7109.07,{"$f":"SUM(H$5:H96)","v":28200}]
[94,94,163.653333333333,167.3,189.7,1,189.7,933,1.03,{"$f":"ROUND(300*#REF!,0)","v":{"$error":"#REF!"}},null,7436.38,{"$f":"SUM(H$5:H97)","v":29106}]
[95,95,171.836666666667,175.666666666667,199.2,1,199.2,961,1.03,{"$f":"ROUND(300*#REF!,0)","v":{"$error":"#REF!"}},null,7779.62,{"$f":"SUM(H$5:H98)","v":30039}]
[96,96,180.43,184.466666666667,209.15,1,209.15,990,1.03,{"$f":"ROUND(300*#REF!,0)","v":{"$error":"#REF!"}},null,8138.6,{"$f":"SUM(H$5:H99)","v":31000}]
[97,97,189.45,193.7,219.6,1,219.6,1020,1.03,{"$f":"ROUND(300*#REF!,0)","v":{"$error":"#REF!"}},null,8513.14,{"$f":"SUM(H$5:H100)","v":31990}]
[98,98,198.923333333333,203.4,230.6,1,230.6,1051,1.03,{"$f":"ROUND(300*#REF!,0)","v":{"$error":"#REF!"}},null,8905.08,{"$f":"SUM(H$5:H101)","v":33010}]
[99,99,208.87,213.566666666667,242.15,1,242.15,1083,1.03,{"$f":"ROUND(300*#REF!,0)","v":{"$error":"#REF!"}},null,9316.24,{"$f":"SUM(H$5:H102)","v":34061}]
[100,100,219.313333333333,224.233333333333,254.25,1,254.25,1115,1.03,{"$f":"ROUND(300*#REF!,0)","v":{"$error":"#REF!"}},null,9746.39,{"$f":"SUM(H$5:H103)","v":35144}]
[101,101,230.28,235.433333333333,266.95,1,266.95,1148,1.03,{"$f":"ROUND(300*#REF!,0)","v":{"$error":"#REF!"}},null,10195.3]
[102,102,241.793333333333,247.2,280.3,1,280.3,1182,1.03,{"$f":"ROUND(300*#REF!,0)","v":{"$error":"#REF!"}},null,10664.75]
[103,103,253.883333333333,259.566666666667,294.3,1,294.3,1217,1.03,{"$f":"ROUND(300*#REF!,0)","v":{"$error":"#REF!"}},null,11156.5]
[104,104,266.576666666667,272.533333333333,309,1,309,1254,1.03,{"$f":"ROUND(300*#REF!,0)","v":{"$error":"#REF!"}},null,11670.27]
[105,105,279.906666666667,286.166666666667,324.45,1,324.45,1292,1.03,{"$f":"ROUND(300*#REF!,0)","v":{"$error":"#REF!"}},null,12207.78]
[106,106,293.903333333333,300.466666666667,340.65,1,340.65,1331,1.03,{"$f":"ROUND(300*#REF!,0)","v":{"$error":"#REF!"}},null,12770.73]
[107,107,308.6,315.5,357.7,1,357.7,1371,1.03,{"$f":"ROUND(300*#REF!,0)","v":{"$error":"#REF!"}},null,13358.82]
[108,108,324.03,331.266666666667,375.6,1,375.6,1412,1.03,{"$f":"ROUND(300*#REF!,0)","v":{"$error":"#REF!"}},null,13975.66]
[109,109,340.23,347.833333333333,394.4,1,394.4,1454,1.03,{"$f":"ROUND(300*#REF!,0)","v":{"$error":"#REF!"}},null,14620.92]
[110,110,357.24,365.233333333333,414.1,1,414.1,1498,1.03,{"$f":"ROUND(300*#REF!,0)","v":{"$error":"#REF!"}},null,15296.19]
[111,111,375.103333333333,383.5,434.8,1,434.8,1543,1.03,{"$f":"ROUND(300*#REF!,0)","v":{"$error":"#REF!"}},"5,2",16001.15]
[112,112,393.86,402.666666666667,456.55,1,456.55,1589,1.03,{"$f":"ROUND(300*#REF!,0)","v":{"$error":"#REF!"}},null,16739.27]
[113,113,413.553333333333,422.8,479.4,1,479.4,1637,1.03,{"$f":"ROUND(300*#REF!,0)","v":{"$error":"#REF!"}},null,17512.11]
[114,114,434.23,443.933333333333,503.35,1,503.35,1686,1.03,{"$f":"ROUND(300*#REF!,0)","v":{"$error":"#REF!"}},null,18321.17]
[115,115,455.94,466.133333333333,528.5,1,528.5,1737,1.03,{"$f":"ROUND(300*#REF!,0)","v":{"$error":"#REF!"}},null,19166.02]
[116,116,478.736666666667,489.433333333333,554.95,1,554.95,1789,1.03,{"$f":"ROUND(300*#REF!,0)","v":{"$error":"#REF!"}},null,20050.05]
[117,117,502.673333333333,513.9,582.7,1,582.7,1843,1.03,{"$f":"ROUND(300*#REF!,0)","v":{"$error":"#REF!"}},null,20976.58]
[118,118,527.806666666667,539.6,611.85,1,611.85,1898,1.03,{"$f":"ROUND(300*#REF!,0)","v":{"$error":"#REF!"}},null,21945.12]
[119,119,554.196666666667,566.566666666667,642.45,1,642.45,1955,1.03,{"$f":"ROUND(300*#REF!,0)","v":{"$error":"#REF!"}},null,22958.94]
[120,120,581.906666666667,594.9,674.55,1,674.55,2014,1.03,{"$f":"ROUND(300*#REF!,0)","v":{"$error":"#REF!"}},null,24019.39]
[121,121,611.003333333333,624.633333333333,708.3,1,708.3,2074,1.03,{"$f":"ROUND(300*#REF!,0)","v":{"$error":"#REF!"}},null,25127.79]
[122,122,641.553333333333,655.866666666667,743.7,1,743.7,2136,1.03,{"$f":"ROUND(300*#REF!,0)","v":{"$error":"#REF!"}},null,26289.15]
[123,123,673.63,688.666666666667,780.9,1,780.9,2200,1.03,{"$f":"ROUND(300*#REF!,0)","v":{"$error":"#REF!"}},null,27502.87]
[124,124,707.31,723.1,819.95,1,819.95,2266,1.03,{"$f":"ROUND(300*#REF!,0)","v":{"$error":"#REF!"}},null,28773.87]
[125,125,742.676666666667,759.266666666667,860.95,1,860.95,2334,1.03,{"$f":"ROUND(300*#REF!,0)","v":{"$error":"#REF!"}},null,30103.33]
[126,126,779.81,797.233333333333,904,1,904,2404,1.03,{"$f":"ROUND(300*#REF!,0)","v":{"$error":"#REF!"}},null,31494.24]
[127,127,818.8,837.1,949.2,1,949.2,2476,1.03,{"$f":"ROUND(300*#REF!,0)","v":{"$error":"#REF!"}},null,32949.53]
[128,128,859.74,878.966666666667,996.65,1,996.65,2550,1.03,{"$f":"ROUND(300*#REF!,0)","v":{"$error":"#REF!"}},null,34472.11]
[129,129,902.726666666667,922.9,1046.5,1,{"$f":"E133","v":1046.5},2627,1.03,{"$f":"ROUND(300*#REF!,0)","v":{"$error":"#REF!"}},null,36064.82]
[130,130,947.863333333333,969.033333333333,1098.85,1,{"$f":"E134","v":1098.85},2706,1.03,{"$f":"ROUND(300*#REF!,0)","v":{"$error":"#REF!"}},null,37732.27]
[131,131,995.256666666667,1017.5,1153.8,1,{"$f":"E135","v":1153.8},{"$f":"ROUND(H134*$I$5*I135,0)","v":2787},1.03,{"$f":"ROUND(300*#REF!,0)","v":{"$error":"#REF!"}},"1,3",39477.2]
[132,132,1045.02,1068.36666666667,1211.5,1,1211.5,2871,1.03,{"$f":"ROUND(300*#REF!,0)","v":{"$error":"#REF!"}},null,41302.31]
[133,133,1097.27,1121.8,1272.1,1,1272.1,2957,1.03,{"$f":"ROUND(300*#REF!,0)","v":{"$error":"#REF!"}},null,43212.03]
[134,134,1152.13333333333,1177.9,1335.7,1,1335.7,3046,1.03,{"$f":"ROUND(300*#REF!,0)","v":{"$error":"#REF!"}},null,45210.73]
[135,135,1209.74,1236.8,1402.5,1,1402.5,3137,1.03,{"$f":"ROUND(300*#REF!,0)","v":{"$error":"#REF!"}},null,47300.94]
[136,136,1270.22666666667,1298.63333333333,1472.65,1,1472.65,3231,1.03,{"$f":"ROUND(300*#REF!,0)","v":{"$error":"#REF!"}},null,49488.67]
[137,137,1333.73666666667,1363.56666666667,1546.3,1,1546.3,3328,1.03,{"$f":"ROUND(300*#REF!,0)","v":{"$error":"#REF!"}},null,51778.11]
[138,138,1400.42333333333,1431.73333333333,1623.6,1,1623.6,3428,1.03,{"$f":"ROUND(300*#REF!,0)","v":{"$error":"#REF!"}},null,54173.33]
[139,139,1470.44333333333,1503.33333333333,1704.8,1,1704.8,3531,1.03,{"$f":"ROUND(300*#REF!,0)","v":{"$error":"#REF!"}},null,56678.4]
[140,140,1543.96666666667,1578.5,1790.05,1,1790.05,3637,1.03,{"$f":"ROUND(300*#REF!,0)","v":{"$error":"#REF!"}},null,59300.75]
[141,141,1621.16666666667,1657.43333333333,1879.55,1,1879.55,3746,1.03,{"$f":"ROUND(300*#REF!,0)","v":{"$error":"#REF!"}},null,62044.27]
[142,142,1702.22666666667,1740.3,1973.55,1,1973.55,3858,1.03,{"$f":"ROUND(300*#REF!,0)","v":{"$error":"#REF!"}},null,64914.48]
[143,143,1787.33666666667,1827.3,2072.25,1,2072.25,3974,1.03,{"$f":"ROUND(300*#REF!,0)","v":{"$error":"#REF!"}},null,67918.57]
[144,144,1876.70333333333,1918.66666666667,2175.85,1,2175.85,4093,1.03,{"$f":"ROUND(300*#REF!,0)","v":{"$error":"#REF!"}},null,71061.88]
[145,145,1970.54,2014.6,2284.65,1,2284.65,4216,1.03,{"$f":"ROUND(300*#REF!,0)","v":{"$error":"#REF!"}},null,74349.67]
[146,146,2069.06666666667,2115.33333333333,2398.9,1,2398.9,4342,1.03,{"$f":"ROUND(300*#REF!,0)","v":{"$error":"#REF!"}},null,77790.54]
[147,147,2172.52,2221.1,2518.85,1,2518.85,4472,1.03,{"$f":"ROUND(300*#REF!,0)","v":{"$error":"#REF!"}},null,81391.25]
[148,148,2281.14666666667,2332.16666666667,2644.8,1,2644.8,4606,1.03,{"$f":"ROUND(300*#REF!,0)","v":{"$error":"#REF!"}},null,85158.45]
[149,149,2395.20333333333,2448.76666666667,2777.05,1,2777.05,4744,1.03,{"$f":"ROUND(300*#REF!,0)","v":{"$error":"#REF!"}},null,89100.37]
[150,150,2514.96333333333,2571.2,2915.9,1,2915.9,4886,1.03,{"$f":"ROUND(300*#REF!,0)","v":{"$error":"#REF!"}},null,93225.14]
[151,151,2640.71,2699.76666666667,3061.7,1,3061.7,5033,1.03,{"$f":"ROUND(300*#REF!,0)","v":{"$error":"#REF!"}},"2,3",97540.73]
[152,152,2772.74666666667,2834.76666666667,3214.8,1,3214.8,5184,1.03,{"$f":"ROUND(300*#REF!,0)","v":{"$error":"#REF!"}},null,102056.67]
[153,153,2911.38333333333,2976.5,3375.55,1,3375.55,5340,1.03,{"$f":"ROUND(300*#REF!,0)","v":{"$error":"#REF!"}},null,106782.34]
[154,154,3056.95333333333,3125.33333333333,3544.35,1,3544.35,5500,1.03,{"$f":"ROUND(300*#REF!,0)","v":{"$error":"#REF!"}},null,111727]
[155,155,3209.8,3281.6,3721.55,1,3721.55,5665,1.03,{"$f":"ROUND(300*#REF!,0)","v":{"$error":"#REF!"}},null,116901.37]
[156,156,3370.29,3445.66666666667,3907.65,1,3907.65,5835,1.03,{"$f":"ROUND(300*#REF!,0)","v":{"$error":"#REF!"}},null,122314.4]
[157,157,3538.80333333333,3617.96666666667,4103.05,1,4103.05,6010,1.03,{"$f":"ROUND(300*#REF!,0)","v":{"$error":"#REF!"}},null,127979.8]
[158,158,3715.74333333333,3798.86666666667,4308.2,1,4308.2,6190,1.03,{"$f":"ROUND(300*#REF!,0)","v":{"$error":"#REF!"}},null,133907.82]
[159,159,3901.53,3988.8,4523.6,1,4523.6,6376,1.03,{"$f":"ROUND(300*#REF!,0)","v":{"$error":"#REF!"}},null,140110.16]
[160,160,4096.60666666667,4188.23333333333,4749.8,1,4749.8,6567,1.03,{"$f":"ROUND(300*#REF!,0)","v":{"$error":"#REF!"}},null,146599.97]
[161,161,4301.43666666667,4397.63333333333,4987.3,1,4987.3,6764,1.03,{"$f":"ROUND(300*#REF!,0)","v":{"$error":"#REF!"}},null,153391.81]
[162,162,4516.51,4617.5,5236.65,1,5236.65,6967,1.03,{"$f":"ROUND(300*#REF!,0)","v":{"$error":"#REF!"}},null,160498.42]
[163,163,4742.33666666667,4848.36666666667,5498.5,1,{"$f":"E167","v":5498.5},7176,1.03,{"$f":"ROUND(300*#REF!,0)","v":{"$error":"#REF!"}},null,167933.95]
[164,164,4979.45333333333,5090.8,5773.45,1,5773.45,7391,1.03,{"$f":"ROUND(300*#REF!,0)","v":{"$error":"#REF!"}},null,175715.51]
[165,165,5228.42666666667,5345.33333333333,6062.1,1,6062.1,7613,1.03,{"$f":"ROUND(300*#REF!,0)","v":{"$error":"#REF!"}},null,183858.36]
[166,166,5489.84666666667,5612.6,6365.2,1,6365.2,7841,1.03,{"$f":"ROUND(300*#REF!,0)","v":{"$error":"#REF!"}},null,192377.56]
[167,167,5764.34,5893.23333333333,6683.45,1,6683.45,8076,1.03,{"$f":"ROUND(300*#REF!,0)","v":{"$error":"#REF!"}},null,201292.65]
[168,168,6052.55666666667,6187.9,7017.6,1,7017.6,8318,1.03,{"$f":"ROUND(300*#REF!,0)","v":{"$error":"#REF!"}},null,210621.3]
[169,169,6355.18333333333,6497.3,7368.5,1,7368.5,8568,1.03,{"$f":"ROUND(300*#REF!,0)","v":{"$error":"#REF!"}},null,220382.5]
[170,170,6672.94333333333,6822.16666666667,7736.95,1,7736.95,8825,1.03,{"$f":"ROUND(300*#REF!,0)","v":{"$error":"#REF!"}},null,230598.07]
[171,171,7006.59,7163.26666666667,8123.8,1,8123.8,9090,1.03,{"$f":"ROUND(300*#REF!,0)","v":{"$error":"#REF!"}},"3,3",241287.93]
[172,172,7356.92,7521.43333333333,8530,1,8530,9363,1.03,{"$f":"ROUND(300*#REF!,0)","v":{"$error":"#REF!"}},null,252473.28]
[173,173,7724.76666666667,7897.5,8956.5,1,8956.5,9644,1.03,{"$f":"ROUND(300*#REF!,0)","v":{"$error":"#REF!"}},null,264178.06]
[174,174,8111.00666666667,8292.36666666667,9404.35,1,9404.35,9933,1.03,{"$f":"ROUND(300*#REF!,0)","v":{"$error":"#REF!"}},null,276425.87]
[175,175,8516.55666666667,8707,9874.55,1,9874.55,10231,1.03,{"$f":"ROUND(300*#REF!,0)","v":{"$error":"#REF!"}},null,289243.03]
[176,176,8942.38333333333,9142.36666666667,10368.3,1,10368.3,10538,1.03,{"$f":"ROUND(300*#REF!,0)","v":{"$error":"#REF!"}},null,302653.92]
[177,177,9389.50333333333,9599.5,10886.7,1,10886.7,10854,1.03,{"$f":"ROUND(300*#REF!,0)","v":{"$error":"#REF!"}},null,316688.66]
[178,178,9858.98,10079.4666666667,11431.05,1,11431.05,11180,1.03,{"$f":"ROUND(300*#REF!,0)","v":{"$error":"#REF!"}},null,331373.87]
[179,179,10351.93,10583.4333333333,12002.6,1,12002.6,11515,1.03,{"$f":"ROUND(300*#REF!,0)","v":{"$error":"#REF!"}},null,346741.85]
[180,180,10869.5266666667,11112.6,12602.75,1,12602.75,11860,1.03,{"$f":"ROUND(300*#REF!,0)","v":{"$error":"#REF!"}},null,362822.88]
[181,181,11413.0033333333,11668.2333333333,13232.9,1,13232.9,12216,1.03,{"$f":"ROUND(300*#REF!,0)","v":{"$error":"#REF!"}},null,379651.31]
[182,182,11983.6533333333,12251.6333333333,13894.55,1,13894.55,12582,1.03,{"$f":"ROUND(300*#REF!,0)","v":{"$error":"#REF!"}},null,397260.97]
[183,183,12582.8366666667,12864.2,14589.3,1,14589.3,12959,1.03,{"$f":"ROUND(300*#REF!,0)","v":{"$error":"#REF!"}},null,415688.19]
[184,184,13211.98,13507.4,15318.75,1,15318.75,13348,1.03,{"$f":"ROUND(300*#REF!,0)","v":{"$error":"#REF!"}},null,434971.71]
[185,185,13872.58,14182.7666666667,16084.7,1,16084.7,13748,1.03,{"$f":"ROUND(300*#REF!,0)","v":{"$error":"#REF!"}},null,455149.69]
[186,186,14566.21,14891.9,16888.95,1,16888.95,14160,1.03,{"$f":"ROUND(300*#REF!,0)","v":{"$error":"#REF!"}},null,476265.66]
[187,187,15294.52,15636.5,17733.4,1,17733.4,14585,1.03,{"$f":"ROUND(300*#REF!,0)","v":{"$error":"#REF!"}},null,498362.46]
[188,188,16059.2466666667,16418.3333333333,18620.05,1,18620.05,15023,1.03,{"$f":"ROUND(300*#REF!,0)","v":{"$error":"#REF!"}},null,521485.26]
[189,189,16862.21,17239.2666666667,19551.05,1,19551.05,15474,1.03,{"$f":"ROUND(300*#REF!,0)","v":{"$error":"#REF!"}},null,545681.47]
[190,190,17705.32,18101.2333333333,20528.6,1,20528.6,15938,1.03,{"$f":"ROUND(300*#REF!,0)","v":{"$error":"#REF!"}},null,571002.15]
[191,191,18590.5866666667,19006.3,21555.05,1,21555.05,16416,1.03,{"$f":"ROUND(300*#REF!,0)","v":{"$error":"#REF!"}},"4,3",597499.09]
[192,192,19520.1166666667,19956.6,22632.8,1,22632.8,16908,1.03,{"$f":"ROUND(300*#REF!,0)","v":{"$error":"#REF!"}},null,625227.62]
[193,193,20496.1233333333,20954.4333333333,23764.45,1,23764.45,17415,1.03,{"$f":"ROUND(300*#REF!,0)","v":{"$error":"#REF!"}},null,654243.69]
[194,194,21520.93,22002.1666666667,24952.65,1,24952.65,17937,1.03,{"$f":"ROUND(300*#REF!,0)","v":{"$error":"#REF!"}},null,684608.2]
[195,195,22596.9766666667,23102.2666666667,26200.3,1,{"$f":"E199","v":26200.3},{"$f":"ROUND(H198*$I$5*I199,0)","v":18475},1.03,{"$f":"ROUND(300*#REF!,0)","v":{"$error":"#REF!"}},null,716382.53]
[196,196,23726.8266666667,24257.3666666667,27510.3,1,27510.3,19029,1.03,{"$f":"ROUND(300*#REF!,0)","v":{"$error":"#REF!"}},null,749634.34]
[197,197,24913.1666666667,25470.2333333333,28885.8,1,28885.8,19600,1.03,{"$f":"ROUND(300*#REF!,0)","v":{"$error":"#REF!"}},null,784430.24]
[198,198,26158.8266666667,26743.7333333333,30330.1,1,30330.1,20188,1.03,{"$f":"ROUND(300*#REF!,0)","v":{"$error":"#REF!"}},null,820842.97]
[199,199,27466.7666666667,28080.9333333333,31846.6,1,31846.6,20794,1.03,{"$f":"ROUND(300*#REF!,0)","v":{"$error":"#REF!"}},null,858948.43]
[200,200,28840.1066666667,29484.9666666667,33438.95,1,33438.95,21418,1.03,{"$f":"ROUND(300*#REF!,0)","v":{"$error":"#REF!"}},null,898824.2]
[201,201,30282.1133333333,30959.2,35110.9,1,35110.9,22061,1.03,{"$f":"ROUND(300*#REF!,0)","v":{"$error":"#REF!"}},null,940553.73]
[202,202,31796.22,32507.1666666667,36866.45,1,36866.45,22723,1.03,{"$f":"ROUND(300*#REF!,0)","v":{"$error":"#REF!"}},null,984222.05]
[203,203,33386.03,34132.5333333333,38709.75,1,38709.75,23405,1.03,{"$f":"ROUND(300*#REF!,0)","v":{"$error":"#REF!"}},null,1029919.87]
[204,204,35055.33,35839.1666666667,40645.25,1,40645.25,24107,1.03,{"$f":"ROUND(300*#REF!,0)","v":{"$error":"#REF!"}},null,1077740.76]
[205,205,36808.0966666667,37631.1333333333,42677.5,1,42677.5,24830,1.03,{"$f":"ROUND(300*#REF!,0)","v":{"$error":"#REF!"}},null,1127785.2]
[206,206,38648.5,39512.7,44811.4,1,44811.4,25575,1.03,{"$f":"ROUND(300*#REF!,0)","v":{"$error":"#REF!"}},null,1180154.93]
[207,207,40580.9266666667,41488.3333333333,47051.95,1,47051.95,26342,1.03,{"$f":"ROUND(300*#REF!,0)","v":{"$error":"#REF!"}},null,1234959.84]
[208,208,42609.9733333333,43562.7666666667,49404.55,1,49404.55,27132,1.03,{"$f":"ROUND(300*#REF!,0)","v":{"$error":"#REF!"}},null,1292310.93]
[209,209,44740.4733333333,45740.9,51874.8,1,51874.8,27946,1.03,{"$f":"ROUND(300*#REF!,0)","v":{"$error":"#REF!"}},null,1352328.47]
[210,210,46977.4966666667,48027.9333333333,54468.55,1,54468.55,28784,1.03,{"$f":"ROUND(300*#REF!,0)","v":{"$error":"#REF!"}},null,1415136.42]
[211,211,49326.37,50429.3333333333,57192,1,57192,29648,1.03,{"$f":"ROUND(300*#REF!,0)","v":{"$error":"#REF!"}},"5,3",1480863.7]
[212,212,51792.69,52950.8,60051.6,1,60051.6,30537,1.03,{"$f":"ROUND(300*#REF!,0)","v":{"$error":"#REF!"}},null,1549646.78]
[213,213,54382.3233333333,55598.3333333333,63054.2,1,63054.2,31453,1.03,{"$f":"ROUND(300*#REF!,0)","v":{"$error":"#REF!"}},null,1621626.86]
[214,214,57101.44,58378.2666666667,66206.9,1,66206.9,32397,1.03,{"$f":"ROUND(300*#REF!,0)","v":{"$error":"#REF!"}},null,1696953.81]
[215,215,59956.5133333333,61297.1666666667,69517.25,1,69517.25,33369,1.03,{"$f":"ROUND(300*#REF!,0)","v":{"$error":"#REF!"}},null,1775781.97]
[216,216,62954.34,64362.0333333333,72993.1,1,72993.1,34370,1.03,{"$f":"ROUND(300*#REF!,0)","v":{"$error":"#REF!"}},null,1858275.43]
[217,217,66102.0566666667,67580.1333333333,76642.75,1,76642.75,35401,1.03,{"$f":"ROUND(300*#REF!,0)","v":{"$error":"#REF!"}},null,1944603.82]
[218,218,69407.16,70959.1333333333,80474.9,1,80474.9,36463,1.03,{"$f":"ROUND(300*#REF!,0)","v":{"$error":"#REF!"}},null,2034946.23]
[219,219,72877.5166666667,74507.1,84498.65,1,84498.65,37557,1.03,{"$f":"ROUND(300*#REF!,0)","v":{"$error":"#REF!"}},null,2129489.66]
[220,220,76521.3933333333,78232.4666666667,88723.6,1,88723.6,38684,1.03,{"$f":"ROUND(300*#REF!,0)","v":{"$error":"#REF!"}},null,2228428.89]
[221,221,80347.4633333333,82144.1,93159.8,1,93159.8,39845,1.03,{"$f":"ROUND(300*#REF!,0)","v":{"$error":"#REF!"}},null,2331968.95]
[222,222,84364.8366666667,86251.3,97817.8,1,97817.8,41040,1.03,{"$f":"ROUND(300*#REF!,0)","v":{"$error":"#REF!"}},null,2440323.63]
[223,223,88583.08,90563.8666666667,102708.7,1,102708.7,42271,1.03,{"$f":"ROUND(300*#REF!,0)","v":{"$error":"#REF!"}},null,2553716.61]
[224,224,93012.2333333333,95092.0666666667,107844.15,1,107844.15,43539,1.03,{"$f":"ROUND(300*#REF!,0)","v":{"$error":"#REF!"}},null,2672382.56]
[225,225,97662.8466666667,99846.6666666667,113236.35,1,113236.35,44845,1.03,{"$f":"ROUND(300*#REF!,0)","v":{"$error":"#REF!"}},null,2796566.93]
[226,226,102545.99,104839,118898.15,1,118898.15,46190,1.03,{"$f":"ROUND(300*#REF!,0)","v":{"$error":"#REF!"}},null,2926525.78]
[227,227,107673.29,110080.966666667,124843.05,1,{"$f":"E231","v":124843.05},47576,1.03,{"$f":"ROUND(300*#REF!,0)","v":{"$error":"#REF!"}},null,3062528.11]
[228,228,113056.953333333,115585,131085.2,1,131085.2,49003,1.03,{"$f":"ROUND(300*#REF!,0)","v":{"$error":"#REF!"}},null,3204855.61]
[229,229,118709.8,121364.266666667,137639.45,1,137639.45,50473,1.03,{"$f":"ROUND(300*#REF!,0)","v":{"$error":"#REF!"}},null,3353802.48]
[230,230,124645.29,127432.466666667,144521.4,1,144521.4,51987,1.03,{"$f":"ROUND(300*#REF!,0)","v":{"$error":"#REF!"}},null,3509676.37]
[231,231,130877.553333333,133804.1,151747.45,1,151747.45,53547,1.03,{"$f":"ROUND(300*#REF!,0)","v":{"$error":"#REF!"}},"1,4",3672799.49]
[232,232,137421.43,140494.3,159334.8,1,159334.8,55153,1.03,{"$f":"ROUND(300*#REF!,0)","v":{"$error":"#REF!"}},null,3843509.52]
[233,233,144292.5,147519,167301.55,1,167301.55,56808,1.03,{"$f":"ROUND(300*#REF!,0)","v":{"$error":"#REF!"}},null,4022159.37]
[234,234,151507.126666667,154894.966666667,175666.65,1,175666.65,58512,1.03,{"$f":"ROUND(300*#REF!,0)","v":{"$error":"#REF!"}},null,4209119.37]
[235,235,159082.483333333,162639.7,184450,1,184450,60267,1.03,{"$f":"ROUND(300*#REF!,0)","v":{"$error":"#REF!"}},null,4404775.7]
[236,236,167036.606666667,170771.7,193672.5,1,193672.5,62075,1.03,{"$f":"ROUND(300*#REF!,0)","v":{"$error":"#REF!"}},null,4609532.59]
[237,237,175388.436666667,179310.3,203356.15,1,203356.15,63937,1.03,{"$f":"ROUND(300*#REF!,0)","v":{"$error":"#REF!"}},null,4823813.2]
[238,238,184157.86,188275.8,213523.95,1,213523.95,65855,1.03,{"$f":"ROUND(300*#REF!,0)","v":{"$error":"#REF!"}},null,5048061.76]
[239,239,193365.753333333,197689.6,224200.15,1,224200.15,67831,1.03,{"$f":"ROUND(300*#REF!,0)","v":{"$error":"#REF!"}},null,5282740.69]
[240,240,203034.04,207574.066666667,235410.15,1,235410.15,69866,1.03,{"$f":"ROUND(300*#REF!,0)","v":{"$error":"#REF!"}},null,5528336.42]
[241,241,213185.743333333,217952.766666667,247180.65,1,247180.65,71962,1.03,{"$f":"ROUND(300*#REF!,0)","v":{"$error":"#REF!"}},null,5785356.45]
[242,242,223845.03,228850.4,259539.7,1,259539.7,74121,1.03,{"$f":"ROUND(300*#REF!,0)","v":{"$error":"#REF!"}},null,6054332.68]
[243,243,235037.28,240292.933333333,272516.7,1,272516.7,76345,1.03,{"$f":"ROUND(300*#REF!,0)","v":{"$error":"#REF!"}},null,6335822.09]
[244,244,246789.143333333,252307.566666667,286142.55,1,286142.55,78635,1.03,{"$f":"ROUND(300*#REF!,0)","v":{"$error":"#REF!"}},null,6630406.32]
[245,245,259128.6,264922.933333333,300449.7,1,300449.7,80994,1.03,{"$f":"ROUND(300*#REF!,0)","v":{"$error":"#REF!"}},null,6938694.8]
[246,246,272085.03,278169.066666667,315472.2,1,315472.2,83424,1.03,{"$f":"ROUND(300*#REF!,0)","v":{"$error":"#REF!"}},null,7261325.47]
[247,247,285689.28,292077.533333333,331245.8,1,331245.8,85927,1.03,{"$f":"ROUND(300*#REF!,0)","v":{"$error":"#REF!"}},null,7598965.4]
[248,248,299973.743333333,306681.4,347808.1,1,347808.1,88505,1.03,{"$f":"ROUND(300*#REF!,0)","v":{"$error":"#REF!"}},null,7952312.65]
[249,249,314972.43,322015.466666667,365198.5,1,365198.5,91160,1.03,{"$f":"ROUND(300*#REF!,0)","v":{"$error":"#REF!"}},null,8322099.27]
[250,250,330721.05,338116.233333333,383458.45,1,383458.45,93895,1.03,{"$f":"ROUND(300*#REF!,0)","v":{"$error":"#REF!"}},null,8709089.46]
[251,251,347257.103333333,355022.033333333,402631.35,1,402631.35,96712,1.03,{"$f":"ROUND(300*#REF!,0)","v":{"$error":"#REF!"}},"2,4",9114084.9]
[252,252,364619.96,372773.133333333,422762.9,1,422762.9,99613,1.03,{"$f":"ROUND(300*#REF!,0)","v":{"$error":"#REF!"}},null,9537921.67]
[253,253,382850.956666667,391411.8,443901.05,1,443901.05,102601,1.03,{"$f":"ROUND(300*#REF!,0)","v":{"$error":"#REF!"}},null,9981477.86]
[254,254,401993.503333333,410982.4,466096.1,1,466096.1,105679,1.03,{"$f":"ROUND(300*#REF!,0)","v":{"$error":"#REF!"}},null,10445671.55]
[255,255,422093.18,431531.533333333,489400.9,1,489400.9,108849,1.03,{"$f":"ROUND(300*#REF!,0)","v":{"$error":"#REF!"}},null,10931462.49]
[256,256,443197.84,453108.1,513870.95,1,513870.95,112114,1.03,{"$f":"ROUND(300*#REF!,0)","v":{"$error":"#REF!"}},null,11439855.87]
[257,257,465357.733333333,475763.5,539564.5,1,539564.5,115477,1.03,{"$f":"ROUND(300*#REF!,0)","v":{"$error":"#REF!"}},null,11971903.85]
[258,258,488625.62,499551.666666667,566542.75,1,566542.75,118941,1.03,{"$f":"ROUND(300*#REF!,0)","v":{"$error":"#REF!"}},null,12528706.99]
[259,259,513056.9,524529.266666667,594869.9,1,{"$f":"E263","v":594869.9},{"$f":"ROUND(H262*$I$5*I263,0)","v":122509},1.03,{"$f":"ROUND(300*#REF!,0)","v":{"$error":"#REF!"}},null,13111417.93]
[260,260,538709.746666667,550755.733333333,624613.4,1,624613.4,126184,1.03,{"$f":"ROUND(300*#REF!,0)","v":{"$error":"#REF!"}},null,13721241.54]
[261,261,565645.233333333,578293.533333333,655844.05,1,655844.05,129970,1.03,{"$f":"ROUND(300*#REF!,0)","v":{"$error":"#REF!"}},null,14359439.73]
[262,262,593927.496666667,607208.2,688636.25,1,688636.25,133869,1.03,{"$f":"ROUND(300*#REF!,0)","v":{"$error":"#REF!"}},null,15027332.58]
[263,263,623623.87,637568.6,723068.05,1,723068.05,137885,1.03,{"$f":"ROUND(300*#REF!,0)","v":{"$error":"#REF!"}},null,15726303.01]
[264,264,654805.063333333,669447.033333333,759221.45,1,759221.45,142022,1.03,{"$f":"ROUND(300*#REF!,0)","v":{"$error":"#REF!"}},null,16457796.68]
[265,265,687545.316666667,702919.4,797182.5,1,797182.5,146283,1.03,{"$f":"ROUND(300*#REF!,0)","v":{"$error":"#REF!"}},null,17223327.59]
[266,266,721922.583333333,738065.366666667,837041.65,1,837041.65,150671,1.03,{"$f":"ROUND(300*#REF!,0)","v":{"$error":"#REF!"}},null,18024479.1]
[267,267,758018.713333333,774968.633333333,878893.75,1,878893.75,155191,1.03,{"$f":"ROUND(300*#REF!,0)","v":{"$error":"#REF!"}},null,18862910.42]
[268,268,795919.65,813717.066666667,922838.45,1,922838.45,159847,1.03,{"$f":"ROUND(300*#REF!,0)","v":{"$error":"#REF!"}},null,19740355.23]
[269,269,835715.633333333,854402.933333333,968980.35,1,968980.35,164642,1.03,{"$f":"ROUND(300*#REF!,0)","v":{"$error":"#REF!"}},null,20658629.16]
[270,270,877501.416666667,897123.066666667,1017429.35,1,1017429.35,169581,1.03,{"$f":"ROUND(300*#REF!,0)","v":{"$error":"#REF!"}},null,21619631.63]
[271,271,921376.486666667,941979.233333333,1068300.8,1,1068300.8,174668,1.03,{"$f":"ROUND(300*#REF!,0)","v":{"$error":"#REF!"}},"3,4",22625351.98]
[272,272,967445.31,989078.2,1121715.85,1,1121715.85,179908,1.03,{"$f":"ROUND(300*#REF!,0)","v":{"$error":"#REF!"}},null,23677871.13]
[273,273,1015817.57666667,1038532.1,1177801.65,1,1177801.65,185305,1.03,{"$f":"ROUND(300*#REF!,0)","v":{"$error":"#REF!"}},null,24779367.56]
[274,274,1066608.45666667,1090458.7,1236691.75,1,1236691.75,190864,1.03,{"$f":"ROUND(300*#REF!,0)","v":{"$error":"#REF!"}},null,25932119.81]
[275,275,1119938.88,1144981.63333333,1298526.35,1,1298526.35,196590,1.03,{"$f":"ROUND(300*#REF!,0)","v":{"$error":"#REF!"}},null,27138513.4]
[276,276,1175935.82333333,1202230.7,1363452.65,1,1363452.65,202488,1.03,{"$f":"ROUND(300*#REF!,0)","v":{"$error":"#REF!"}},null,28401044.26]
[277,277,1234732.61333333,1262342.23333333,1431625.3,1,1431625.3,208563,1.03,{"$f":"ROUND(300*#REF!,0)","v":{"$error":"#REF!"}},null,29722324.2]
[278,278,1296469.24333333,1325459.33333333,1503206.55,1,1503206.55,214820,1.03,{"$f":"ROUND(300*#REF!,0)","v":{"$error":"#REF!"}},null,31105088.56]
[279,279,1361292.70666667,1391732.3,1578366.9,1,1578366.9,221265,1.03,{"$f":"ROUND(300*#REF!,0)","v":{"$error":"#REF!"}},null,32552197.01]
[280,280,1429357.34333333,1461318.9,1657285.25,1,1657285.25,227903,1.03,{"$f":"ROUND(300*#REF!,0)","v":{"$error":"#REF!"}},null,34066645.31]
[281,281,1500825.21,1534384.83333333,1740149.5,1,1740149.5,234740,1.03,{"$f":"ROUND(300*#REF!,0)","v":{"$error":"#REF!"}},null,35651565.86]
[282,282,1575866.47,1611104.06666667,1827157,1,1827157,241782,1.03,{"$f":"ROUND(300*#REF!,0)","v":{"$error":"#REF!"}},null,37310237.99]
[283,283,1654659.79333333,1691659.26666667,1918514.85,1,1918514.85,249035,1.03,{"$f":"ROUND(300*#REF!,0)","v":{"$error":"#REF!"}},null,39046094.79]
[284,284,1737392.78333333,1776242.23333333,2014440.6,1,2014440.6,256506,1.03,{"$f":"ROUND(300*#REF!,0)","v":{"$error":"#REF!"}},null,40862726.55]
[285,285,1824262.42333333,1865054.33333333,2115162.65,1,2115162.65,264201,1.03,{"$f":"ROUND(300*#REF!,0)","v":{"$error":"#REF!"}},null,42763892.6]
[286,286,1915475.54333333,1958307.06666667,2220920.8,1,2220920.8,272127,1.03,{"$f":"ROUND(300*#REF!,0)","v":{"$error":"#REF!"}},null,44753526.6]
[287,287,2011249.32,2056222.43333333,2331966.85,1,2331966.85,280291,1.03,{"$f":"ROUND(300*#REF!,0)","v":{"$error":"#REF!"}},null,46835744.76]
[288,288,2111811.78666667,2159033.56666667,2448565.2,1,2448565.2,288700,1.03,{"$f":"ROUND(300*#REF!,0)","v":{"$error":"#REF!"}},null,49014855.01]
[289,289,2217402.37666667,2266985.23333333,2570993.45,1,2570993.45,297361,1.03,{"$f":"ROUND(300*#REF!,0)","v":{"$error":"#REF!"}},null,51295365.88]
[290,290,2328272.49666667,2380334.5,2699543.1,1,2699543.1,306282,1.03,{"$f":"ROUND(300*#REF!,0)","v":{"$error":"#REF!"}},null,53681995.22]
[291,291,2444686.12,2499351.23333333,2834520.25,1,2834520.25,315470,1.03,{"$f":"ROUND(300*#REF!,0)","v":{"$error":"#REF!"}},"4,4",56179680.73]
[292,292,2566920.42666667,2624318.8,2976246.25,1,2976246.25,324934,1.03,{"$f":"ROUND(300*#REF!,0)","v":{"$error":"#REF!"}},null,58793590.35]
[293,293,2695266.44666667,2755534.73333333,3125058.55,1,3125058.55,334682,1.03,{"$f":"ROUND(300*#REF!,0)","v":{"$error":"#REF!"}},null,61529131.23]
[294,294,2830029.77,2893311.46666667,3281311.5,1,3281311.5,344722,1.03,{"$f":"ROUND(300*#REF!,0)","v":{"$error":"#REF!"}},null,64391962.73]
[295,295,2971531.26,3037977.03333333,3445377.1,1,3445377.1,355064,1.03,{"$f":"ROUND(300*#REF!,0)","v":{"$error":"#REF!"}},null,67388007.99]
[296,296,3120107.82333333,3189875.9,3617645.95,1,3617645.95,365716,1.03,{"$f":"ROUND(300*#REF!,0)","v":{"$error":"#REF!"}},null,70523464.26]
[297,297,3276113.21333333,3349369.7,3798528.25,1,3798528.25,376687,1.03,{"$f":"ROUND(300*#REF!,0)","v":{"$error":"#REF!"}},null,73804817.04]
[298,298,3439918.87333333,3516838.2,3988454.65,1,3988454.65,387988,1.03,{"$f":"ROUND(300*#REF!,0)","v":{"$error":"#REF!"}},null,77238854.9]
[299,299,3611914.81666667,3692680.1,4187877.4,1,4187877.4,399628,1.03,{"$f":"ROUND(300*#REF!,0)","v":{"$error":"#REF!"}},null,80832680.91]
[300,300,3792510.55666667,3877314.1,4397271.25,1,4397271.25,411617,1.03,{"$f":"ROUND(300*#REF!,0)","v":{"$error":"#REF!"}},null,84593729.84]
[null,null,3982136.08333333,4071179.8,4617134.8,null,null,null,1.03,null,null,88529779.98]
[{"$nulls":11},92648973.6]
[]
[{"$nulls":7},{"$f":"SUM(H5:H307)","v":14130351}]