{"text_format":"2","workbook":"xlsx","n_sheets":8,"sheets":["DaoyouModelConfig","emotionConfig","daolvSkill","guajibuff","道友加成辅助","DaoyouLevelupConfig","DaoyouGiftConfig","DaoyouguajiResourcLevel"],"not_rendered":{"charts":0,"images":0,"macros":0,"external_links":3,"defined_names":1,"comments":0,"pivot_tables":0},"unopened":[],"bounds":{"document_bytes":16777216,"sheet_cells":100000,"run_cost":"one","rows_first":2000,"rows_last":500,"rows_between":2000,"halvings":0,"cell_chars":16384,"cell_head_chars":4096},"cells_cut":0,"cells_raw":0,"read":"whole","date_system":"1900"}

{"sheet":"DaoyouModelConfig","index":0,"n_rows":14,"n_cols":36,"rows_kept":14,"cut":false,"hidden":false,"merged":[]}
["ID","name",null,"quality","bodyIcon","bodyPos","headIcon","growupRate","des","desUnlockLv",{"$nulls":4},"PreferGiftID","shownPreferGiftID",{"$nulls":4},"guajiBuffID",{"$nulls":5},"daolvSkillID",null,"EmotionLvforQuest","EventCompleteforQuest","QuestID",null,"EmotionLvforspecialGift","specialGiftID","specialGiftNum"]
["int","int",null,"int","string","int[]","string","int","int[]","int[]",{"$nulls":4},"int[]","int[]",{"$nulls":4},"int[]",{"$nulls":5},"int[]",null,"int","int","int",null,"int[]","int[]","int[]"]
[]
["ID","名称","名称","道友品质","半身像","半身像位置","头像","潜力\n80=80%\n等级差","介绍","介绍解锁相熟等级",{"$nulls":4},"喜好的礼物ID","默认显示的礼物ID","喜好礼物1","喜好礼物2","喜好礼物3",null,"挂机增益类型","产出概率","产出类型1","产出类型2","产出1","产出2","成为道侣后提供的技能ID","技能1","触发道侣任务的好感度等级","触发道侣任务必须完成的事件id","道侣任务ID",null,"特殊奖励好感度等级","特殊奖励ID","特殊奖励数量"]
[1,1953,{"$f":"VLOOKUP(B5,[1]语言配置表!$A:$B,2,FALSE)","v":"雀灵儿"},2,"bg_lh_quelinger","0;207","dec_lh_quelinger",90,{"$f":"_xlfn.TEXTJOIN(\";\",1,K5:M5)","v":"1963"},1,1963,null,null,null,{"$f":"_xlfn.TEXTJOIN(\";\",1,Q5:S5)","v":"13005;11001;11002"},{"$f":"Q5","v":13005},13005,11001,11002,null,{"$f":"_xlfn.TEXTJOIN(\";\",1,V5:X5)","v":"2;11;23"},2,11,23,{"$f":"VLOOKUP(W5,guajibuff!$A:$C,3,FALSE)","v":"双修之旅·小"},{"$f":"VLOOKUP(X5,guajibuff!$A:$C,3,FALSE)","v":"商贾之道·大"},17,{"$f":"VLOOKUP(AA5,daolvSkill!A:E,5,FALSE)","v":"金之灵根"},4,1,6006,null,3,1703,1,"小时候父母被大风卷走，她与姐姐云枝相依为命，躲在树林玩耍以避险。"]
[2,1954,{"$f":"VLOOKUP(B6,[1]语言配置表!$A:$B,2,FALSE)","v":"云枝"},2,"bg_lh_yunzhi","0;85","dec_lh_yunzhi",90,{"$f":"_xlfn.TEXTJOIN(\";\",1,K6:M6)","v":"1964"},1,1964,null,null,null,{"$f":"_xlfn.TEXTJOIN(\";\",1,Q6:S6)","v":"13010;11003;11004"},{"$f":"Q6","v":13010},13010,11003,11004,null,{"$f":"_xlfn.TEXTJOIN(\";\",1,V6:X6)","v":"2;11;33"},2,11,33,{"$f":"VLOOKUP(W6,guajibuff!$A:$C,3,FALSE)","v":"双修之旅·小"},{"$f":"VLOOKUP(X6,guajibuff!$A:$C,3,FALSE)","v":"席地论法·大"},22,{"$f":"VLOOKUP(AA6,daolvSkill!A:E,5,FALSE)","v":"水之灵根"},5,1,6016,null,4,1703,1,"雀灵儿的姐姐，北海密径的守护者，化形为优雅女子，守护妹妹免受危害。"]
[3,1955,{"$f":"VLOOKUP(B7,[1]语言配置表!$A:$B,2,FALSE)","v":"风瑶"},3,"bg_lh_fengyao","0;106","dec_lh_fengyao",100,"1965",1,1965,null,null,null,"13015;11006;11005",13015,13015,11006,11005,null,"2;11;43",2,11,43,{"$f":"VLOOKUP(W7,guajibuff!$A:$C,3,FALSE)","v":"双修之旅·小"},{"$f":"VLOOKUP(X7,guajibuff!$A:$C,3,FALSE)","v":"坎山寻宝·大"},27,{"$f":"VLOOKUP(AA7,daolvSkill!A:E,5,FALSE)","v":"木之灵根"},6,1,6026,null,5,1703,1,"疯道人的妹妹，出身云隐宗，有勇有谋，偶然发现宗门异常，开始暗中调查真相。"]
[4,1956,{"$f":"VLOOKUP(B8,[1]语言配置表!$A:$B,2,FALSE)","v":"婉溪"},3,"bg_lh_wanxi","0;190","dec_lh_wanxi",100,"1966",1,1966,null,null,null,"13020;11008;11007",13020,13020,11008,11007,null,"2;12;22",2,12,22,{"$f":"VLOOKUP(W8,guajibuff!$A:$C,3,FALSE)","v":"双修之旅·中"},{"$f":"VLOOKUP(X8,guajibuff!$A:$C,3,FALSE)","v":"商贾之道·中"},32,{"$f":"VLOOKUP(AA8,daolvSkill!A:E,5,FALSE)","v":"火之灵根"},7,1,6036,null,4,1703,1,"许由的妹妹，出身幽山秘境家族，性格恬淡，擅长种植和煮茶。"]
[7,1959,{"$f":"VLOOKUP(B9,[1]语言配置表!$A:$B,2,FALSE)","v":"馨儿"},4,"bg_lh_xiner","0;210","dec_lh_xiner",110,"1967",1,1967,null,null,null,"13025;11010;13511",13025,13025,11010,13511,null,"2;12;32",2,12,32,{"$f":"VLOOKUP(W9,guajibuff!$A:$C,3,FALSE)","v":"双修之旅·中"},{"$f":"VLOOKUP(X9,guajibuff!$A:$C,3,FALSE)","v":"席地论法·中"},37,{"$f":"VLOOKUP(AA9,daolvSkill!A:E,5,FALSE)","v":"土之灵根"},8,1,9146,null,5,1703,1,"云隐宗内门弟子，性格活波可爱，对阵法研究比较感兴趣。"]
[8,1960,{"$f":"VLOOKUP(B10,[1]语言配置表!$A:$B,2,FALSE)","v":"柳轻烟"},4,"bg_lh_liuqingyan2","0;136","dec_lh_liuqingyan2",110,"1968",1,1968,null,null,null,"13501;13506;13512",13501,13501,13506,13512,null,"2;13;41",2,13,41,{"$f":"VLOOKUP(W10,guajibuff!$A:$C,3,FALSE)","v":"双修之旅·大"},{"$f":"VLOOKUP(X10,guajibuff!$A:$C,3,FALSE)","v":"坎山寻宝·小"},18,{"$f":"VLOOKUP(AA10,daolvSkill!A:E,5,FALSE)","v":"金之灵根"},9,1,9146,null,6,1703,1,"云隐宗内门弟子，心思缜密，为云隐宗执行各种秘密任务。"]
[5,1957,{"$f":"VLOOKUP(B11,[1]语言配置表!$A:$B,2,FALSE)","v":"许由"},4,"bg_lh_xuyou","0;265","dec_lh_xuyou",100,"1969",1,1969,null,null,null,"13502;13507;13513",13502,13502,13507,13513,null,"2;22;33",2,22,33,{"$f":"VLOOKUP(W11,guajibuff!$A:$C,3,FALSE)","v":"商贾之道·中"},{"$f":"VLOOKUP(X11,guajibuff!$A:$C,3,FALSE)","v":"席地论法·大"},23,{"$f":"VLOOKUP(AA11,daolvSkill!A:E,5,FALSE)","v":"水之灵根"},-1,1,-1,null,5,1703,3,"山林隐士，拒绝尧让天下，出身幽山秘境，隐居修道，喜爱炼丹与品茶。"]
[6,1958,{"$f":"VLOOKUP(B12,[1]语言配置表!$A:$B,2,FALSE)","v":"疯道人"},5,"bg_lh_fengdaoren","0;146","dec_lh_fengdaoren",100,"1970",1,1970,null,null,null,"13503;13508;13514",13503,13503,13508,13514,null,"2;32;43",2,32,43,{"$f":"VLOOKUP(W12,guajibuff!$A:$C,3,FALSE)","v":"席地论法·中"},{"$f":"VLOOKUP(X12,guajibuff!$A:$C,3,FALSE)","v":"坎山寻宝·大"},28,{"$f":"VLOOKUP(AA12,daolvSkill!A:E,5,FALSE)","v":"木之灵根"},-1,1,-1,null,6,1703,3,"看似疯疯癫癫，浑身散发着经年未洗的酸腐气，却又总能诡异地维持着平衡。"]
[9,1961,{"$f":"VLOOKUP(B13,[1]语言配置表!$A:$B,2,FALSE)","v":"楚云缪"},5,"bg_lh_chuyunmiao","0;108","dec_lh_chuyunmiao",100,"1971",1,1971,null,null,null,"13504;13509;13515",13504,13504,13509,13515,null,"2;42;23",2,42,23,{"$f":"VLOOKUP(W13,guajibuff!$A:$C,3,FALSE)","v":"坎山寻宝·中"},{"$f":"VLOOKUP(X13,guajibuff!$A:$C,3,FALSE)","v":"商贾之道·大"},33,{"$f":"VLOOKUP(AA13,daolvSkill!A:E,5,FALSE)","v":"火之灵根"},-1,1,-1,null,7,1703,3,"散修，喜欢在各地游历，对世间的天材地宝颇有研究。"]
[10,1962,{"$f":"VLOOKUP(B14,[1]语言配置表!$A:$B,2,FALSE)","v":"林风"},6,"bg_lh_linfeng","0;107","dec_lh_linfeng",100,"1972",1,1972,null,null,null,"13505;13510;13516",13505,13505,13510,13516,null,"2;22;43",2,22,43,{"$f":"VLOOKUP(W14,guajibuff!$A:$C,3,FALSE)","v":"商贾之道·中"},{"$f":"VLOOKUP(X14,guajibuff!$A:$C,3,FALSE)","v":"坎山寻宝·大"},38,{"$f":"VLOOKUP(AA14,daolvSkill!A:E,5,FALSE)","v":"土之灵根"},-1,1,-1,null,8,1703,3,"师承不详，和师妹相依为命，对法宝锻造颇有研究。"]

{"sheet":"emotionConfig","index":1,"n_rows":7,"n_cols":7,"rows_kept":7,"cut":false,"hidden":false,"merged":[]}
["ID","type","icon","des",null,"hanganUpRate"]
["int","int","string","int",null,"int[]"]
[]
["ID","类型\n1=好心情\n2=平衡心情\n3=坏心情","icon","描述ID","描述（策划）","心情影响好感度的范围\n100=10%"]
[1,1,null,2043,"心情很好，送他礼物可获得更多好感度","1100;1300","开心"]
[2,2,null,2044,"心情一般","900;1100","一般"]
[3,3,null,2045,"心情失落，送他礼物获得低于标准值的好感度","700;900","失落"]

{"sheet":"daolvSkill","index":2,"n_rows":44,"n_cols":11,"rows_kept":44,"cut":false,"hidden":false,"merged":[]}
["ID","AttrID","lv","name",null,"des",null,"para","type"]
["int","int","int","int",null,"int",null,"int[]","int"]
[]
["ID","对应AttributeConfig中的ID","等级","名称","名称","描述","描述","参数","类型\n1=唯一\n2=叠加","成长所需礼物ID","每单位增加的值"]
[1,101,1,2046,"生命增幅",2054,"玩家生命+{0}%",3,2]
[2,101,2,2046,"生命增幅",2054,"玩家生命+{0}%",6,2]
[3,101,3,2046,"生命增幅",2054,"玩家生命+{0}%",9,2]
[4,101,4,2046,"生命增幅",2054,"玩家生命+{0}%",12,2]
[5,101,5,2046,"生命增幅",2054,"玩家生命+{0}%",15,2]
[6,102,{"$f":"C5","v":1},2047,"攻击增幅",2055,"玩家攻击+{0}%",3,2]
[7,102,{"$f":"C6","v":2},2047,"攻击增幅",2055,"玩家攻击+{0}%",6,2]
[8,102,3,2047,"攻击增幅",2055,"玩家攻击+{0}%",9,2]
[9,102,4,2047,"攻击增幅",2055,"玩家攻击+{0}%",12,2]
[10,102,5,2047,"攻击增幅",2055,"玩家攻击+{0}%",15,2]
[11,103,1,2048,"防御增幅",2056,"玩家防御+{0}%",3,2]
[12,103,2,2048,"防御增幅",2056,"玩家防御+{0}%",6,2]
[13,103,3,2048,"防御增幅",2056,"玩家防御+{0}%",9,2]
[14,103,4,2048,"防御增幅",2056,"玩家防御+{0}%",12,2]
[15,103,5,2048,"防御增幅",2056,"玩家防御+{0}%",15,2]
[16,106,1,2049,"金之灵根",2057,"玩家金灵根+{0}",2,1]
[17,106,2,2049,"金之灵根",2057,"玩家金灵根+{0}",4,1]
[18,106,3,2049,"金之灵根",2057,"玩家金灵根+{0}",6,1]
[19,106,4,2049,"金之灵根",2057,"玩家金灵根+{0}",8,1]
[20,106,5,2049,"金之灵根",2057,"玩家金灵根+{0}",10,1]
[21,107,1,2050,"水之灵根",2058,"玩家水灵根+{0}",2,1]
[22,107,2,2050,"水之灵根",2058,"玩家水灵根+{0}",4,1]
[23,107,3,2050,"水之灵根",2058,"玩家水灵根+{0}",6,1]
[24,107,4,2050,"水之灵根",2058,"玩家水灵根+{0}",8,1]
[25,107,5,2050,"水之灵根",2058,"玩家水灵根+{0}",10,1]
[26,108,1,2051,"木之灵根",2059,"玩家木灵根+{0}",2,1]
[27,108,2,2051,"木之灵根",2059,"玩家木灵根+{0}",4,1]
[28,108,3,2051,"木之灵根",2059,"玩家木灵根+{0}",6,1]
[29,108,4,2051,"木之灵根",2059,"玩家木灵根+{0}",8,1]
[30,108,5,2051,"木之灵根",2059,"玩家木灵根+{0}",10,1]
[31,109,1,2052,"火之灵根",2060,"玩家火灵根+{0}",2,1]
[32,109,2,2052,"火之灵根",2060,"玩家火灵根+{0}",4,1]
[33,109,3,2052,"火之灵根",2060,"玩家火灵根+{0}",6,1]
[34,109,4,2052,"火之灵根",2060,"玩家火灵根+{0}",8,1]
[35,109,5,2052,"火之灵根",2060,"玩家火灵根+{0}",10,1]
[36,110,1,2053,"土之灵根",2061,"玩家土灵根+{0}",2,1]
[37,110,2,2053,"土之灵根",2061,"玩家土灵根+{0}",4,1]
[38,110,3,2053,"土之灵根",2061,"玩家土灵根+{0}",6,1]
[39,110,4,2053,"土之灵根",2061,"玩家土灵根+{0}",8,1]
[40,110,5,2053,"土之灵根",2061,"玩家土灵根+{0}",10,1]

{"sheet":"guajibuff","index":3,"n_rows":28,"n_cols":8,"rows_kept":28,"cut":false,"hidden":false,"merged":[]}
["ID","name",null,"Quality","GivingRate","paraValue","des"]
["int","int",null,"int","int","int","int"]
[]
["ID","名称","名称","品质","产出比例\n100=100%","对应的para值","描述","说明"]
[1,2063,"慷概之心·小",1,25,5,2062,"这位道友离开时有{0}%概率赠与玩家奖励"]
[2,2064,"慷概之心·中",1,50,5,2062,"这位道友离开时有{0}%概率赠与玩家奖励"]
[3,2065,"慷概之心·大",1,75,5,2062,"这位道友离开时有{0}%概率赠与玩家奖励"]
[4,2066,"慷概之心·极",1,100,5,2062,"这位道友离开时有{0}%概率赠与玩家奖励"]
[]
[11,1993,"双修之旅·小",2,25,1,{"$f":"B10+16","v":2009},"这位道友离开时会给与玩家少量修为奖励"]
[12,1994,"双修之旅·中",3,50,1,{"$f":"B11+16","v":2010},"这位道友离开时会给与玩家一些修为奖励"]
[13,1995,"双修之旅·大",4,75,1,2011,"这位道友离开时会给与玩家很多修为奖励"]
[14,1996,"双修之旅·极",5,100,1,2012,"这位道友离开时会给与玩家丰厚修为奖励"]
[]
[21,{"$f":"B10+4","v":1997},"商贾之道·小",2,25,2,{"$f":"B15+16","v":2013},"这位道友离开时会给与玩家少量铜钱奖励"]
[22,{"$f":"B11+4","v":1998},"商贾之道·中",3,50,2,{"$f":"B16+16","v":2014},"这位道友离开时会给与玩家一些铜钱奖励"]
[23,1999,"商贾之道·大",4,75,2,2015,"这位道友离开时会给与玩家很多铜钱奖励"]
[24,2000,"商贾之道·极",5,100,2,2016,"这位道友离开时会给与玩家丰厚铜钱奖励"]
[]
[31,{"$f":"B15+4","v":2001},"席地论法·小",2,25,3,{"$f":"B20+16","v":2017},"这位道友离开时会给与玩家少量功法灵气奖励"]
[32,{"$f":"B16+4","v":2002},"席地论法·中",3,50,3,{"$f":"B21+16","v":2018},"这位道友离开时会给与玩家一些功法灵气奖励"]
[33,2003,"席地论法·大",4,75,3,2019,"这位道友离开时会给与玩家很多功法灵气奖励"]
[34,2004,"席地论法·极",5,100,3,2020,"这位道友离开时会给与玩家丰厚功法灵气奖励"]
[]
[41,{"$f":"B20+4","v":2005},"坎山寻宝·小",2,25,4,{"$f":"B25+16","v":2021},"这位道友离开时会给与玩家少量法宝灵韵奖励"]
[42,{"$f":"B21+4","v":2006},"坎山寻宝·中",3,50,4,{"$f":"B26+16","v":2022},"这位道友离开时会给与玩家一些法宝灵韵奖励"]
[43,2007,"坎山寻宝·大",4,75,4,2023,"这位道友离开时会给与玩家很多法宝灵韵奖励"]
[44,2008,"坎山寻宝·极",5,100,4,2024,"这位道友离开时会给与玩家丰厚法宝灵韵奖励"]

{"sheet":"道友加成辅助","index":4,"n_rows":14,"n_cols":3,"rows_kept":14,"cut":false,"hidden":false,"merged":[]}
["BuffType",null,"BuffValue"]
[1,"属性加成","属性ID；加成数值"]
[2]
[3]
[4]
[5]
[6]
[7]
[8]
[9]
[10]
[11]
[12]
[13]

{"sheet":"DaoyouLevelupConfig","index":5,"n_rows":14,"n_cols":7,"rows_kept":14,"cut":false,"hidden":false,"merged":[]}
["ID","name",null,"exp","prizeID","prizeNum","guajiGrowup"]
["int","int",null,"int","int[]","int[]","int"]
[]
["LV","名称",null,"升级所需经验","道具奖励ID","道具奖励数量","挂机增益成长率\n100=100%"]
[1,2025,"好感度1",1000,-1,-1,0]
[2,2026,"好感度2",2000,1002,2000,100]
[3,2027,"好感度3",3000,1002,2500,112]
[4,2028,"好感度4",4000,1002,3000,125]
[5,2029,"好感度5",5000,1002,3500,137]
[6,2030,"好感度6",6000,1002,4000,150]
[7,2031,"好感度7",7000,1002,4500,162]
[8,2032,"好感度8",8000,1002,5000,175]
[9,2033,"好感度9",9000,1002,5500,187]
[10,2034,"好感度10",-1,1002,6000,200]

{"sheet":"DaoyouGiftConfig","index":6,"n_rows":89,"n_cols":4,"rows_kept":89,"cut":false,"hidden":false,"merged":[]}
["ID","ItemID",null,"emotionValue"]
["int","int",null,"int"]
[]
["ID","道具ID","道具名称","默认增加的好感度值"]
[1,1501,{"$f":"VLOOKUP(B5,[2]ItemConfig!$A:$C,3,FALSE)","v":"清茶"},300]
[2,1502,{"$f":"VLOOKUP(B6,[2]ItemConfig!$A:$C,3,FALSE)","v":"茉莉花茶"},500]
[]
[301,1201,{"$f":"VLOOKUP(B8,[2]ItemConfig!$A:$C,3,FALSE)","v":"灵血草"},100]
[302,1202,{"$f":"VLOOKUP(B9,[2]ItemConfig!$A:$C,3,FALSE)","v":"玄玉髓"},100]
[303,1203,{"$f":"VLOOKUP(B10,[2]ItemConfig!$A:$C,3,FALSE)","v":"赤阳砂"},100]
[304,1204,{"$f":"VLOOKUP(B11,[2]ItemConfig!$A:$C,3,FALSE)","v":"火灵果"},100]
[305,1205,{"$f":"VLOOKUP(B12,[2]ItemConfig!$A:$C,3,FALSE)","v":"婴魂草"},100]
[306,1206,{"$f":"VLOOKUP(B13,[2]ItemConfig!$A:$C,3,FALSE)","v":"灵魄藤"},100]
[307,1207,{"$f":"VLOOKUP(B14,[2]ItemConfig!$A:$C,3,FALSE)","v":"灵冥石"},100]
[308,1208,{"$f":"VLOOKUP(B15,[2]ItemConfig!$A:$C,3,FALSE)","v":"玄金砂"},100]
[309,1209,{"$f":"VLOOKUP(B16,[2]ItemConfig!$A:$C,3,FALSE)","v":"紫玄晶"},100]
[310,1210,{"$f":"VLOOKUP(B17,[2]ItemConfig!$A:$C,3,FALSE)","v":"丹心花"},100]
[311,1211,{"$f":"VLOOKUP(B18,[2]ItemConfig!$A:$C,3,FALSE)","v":"太冥草"},100]
[312,1212,{"$f":"VLOOKUP(B19,[2]ItemConfig!$A:$C,3,FALSE)","v":"星炎草"},100]
[313,1213,{"$f":"VLOOKUP(B20,[2]ItemConfig!$A:$C,3,FALSE)","v":"混元晶"},100]
[314,1214,{"$f":"VLOOKUP(B21,[2]ItemConfig!$A:$C,3,FALSE)","v":"地髓晶"},100]
[315,1215,{"$f":"VLOOKUP(B22,[2]ItemConfig!$A:$C,3,FALSE)","v":"灵月石"},100]
[316,1216,{"$f":"VLOOKUP(B23,[2]ItemConfig!$A:$C,3,FALSE)","v":"玄雷果"},100]
[317,1217,{"$f":"VLOOKUP(B24,[2]ItemConfig!$A:$C,3,FALSE)","v":"龙筋草"},100]
[318,1218,{"$f":"VLOOKUP(B25,[2]ItemConfig!$A:$C,3,FALSE)","v":"太虚花"},100]
[319,1219,{"$f":"VLOOKUP(B26,[2]ItemConfig!$A:$C,3,FALSE)","v":"升仙丹"},100]
[320,1220,{"$f":"VLOOKUP(B27,[2]ItemConfig!$A:$C,3,FALSE)","v":"归虚花"},100]
[321,1221,{"$f":"VLOOKUP(B28,[2]ItemConfig!$A:$C,3,FALSE)","v":"真阳骨"},100]
[322,1222,{"$f":"VLOOKUP(B29,[2]ItemConfig!$A:$C,3,FALSE)","v":"太玄髓"},100]
[323,1223,{"$f":"VLOOKUP(B30,[2]ItemConfig!$A:$C,3,FALSE)","v":"离魄花"},100]
[324,1224,{"$f":"VLOOKUP(B31,[2]ItemConfig!$A:$C,3,FALSE)","v":"裂界藤"},100]
[325,1225,{"$f":"VLOOKUP(B32,[2]ItemConfig!$A:$C,3,FALSE)","v":"寂灭沙"},100]
[326,1226,{"$f":"VLOOKUP(B33,[2]ItemConfig!$A:$C,3,FALSE)","v":"天罡心核"},100]
[]
[501,13001,{"$f":"VLOOKUP(B35,[2]ItemConfig!$A:$C,3,FALSE)","v":"太虚幻剑经碎片"},1]
[502,13002,{"$f":"VLOOKUP(B36,[2]ItemConfig!$A:$C,3,FALSE)","v":"天罡剑气诀碎片"},1]
[503,13003,{"$f":"VLOOKUP(B37,[2]ItemConfig!$A:$C,3,FALSE)","v":"血刃金煌功碎片"},1]
[504,13004,{"$f":"VLOOKUP(B38,[2]ItemConfig!$A:$C,3,FALSE)","v":"飞刃碎片"},1]
[505,13005,{"$f":"VLOOKUP(B39,[2]ItemConfig!$A:$C,3,FALSE)","v":"金针碎片"},1]
[506,13006,{"$f":"VLOOKUP(B40,[2]ItemConfig!$A:$C,3,FALSE)","v":"碧落幽冥劲碎片"},1]
[507,13007,{"$f":"VLOOKUP(B41,[2]ItemConfig!$A:$C,3,FALSE)","v":"雾隐千流法碎片"},1]
[508,13008,{"$f":"VLOOKUP(B42,[2]ItemConfig!$A:$C,3,FALSE)","v":"功法-水3碎片"},1]
[509,13009,{"$f":"VLOOKUP(B43,[2]ItemConfig!$A:$C,3,FALSE)","v":"水球碎片"},1]
[510,13010,{"$f":"VLOOKUP(B44,[2]ItemConfig!$A:$C,3,FALSE)","v":"冰刀碎片"},1]
[511,13011,{"$f":"VLOOKUP(B45,[2]ItemConfig!$A:$C,3,FALSE)","v":"瘴影千丝术碎片"},1]
[512,13012,{"$f":"VLOOKUP(B46,[2]ItemConfig!$A:$C,3,FALSE)","v":"蚀骨腐血掌碎片"},1]
[513,13013,{"$f":"VLOOKUP(B47,[2]ItemConfig!$A:$C,3,FALSE)","v":"功法-木3碎片"},1]
[514,13014,{"$f":"VLOOKUP(B48,[2]ItemConfig!$A:$C,3,FALSE)","v":"竹刺碎片"},1]
[515,13015,{"$f":"VLOOKUP(B49,[2]ItemConfig!$A:$C,3,FALSE)","v":"飞叶碎片"},1]
[516,13016,{"$f":"VLOOKUP(B50,[2]ItemConfig!$A:$C,3,FALSE)","v":"烈焰剑碎片"},1]
[517,13017,{"$f":"VLOOKUP(B51,[2]ItemConfig!$A:$C,3,FALSE)","v":"赤焰龙吟功碎片"},1]
[518,13018,{"$f":"VLOOKUP(B52,[2]ItemConfig!$A:$C,3,FALSE)","v":"朱雀燎原指碎片"},1]
[519,13019,{"$f":"VLOOKUP(B53,[2]ItemConfig!$A:$C,3,FALSE)","v":"火球碎片"},1]
[520,13020,{"$f":"VLOOKUP(B54,[2]ItemConfig!$A:$C,3,FALSE)","v":"火刀碎片"},1]
[521,13021,{"$f":"VLOOKUP(B55,[2]ItemConfig!$A:$C,3,FALSE)","v":"黄尘灭魂刺碎片"},1]
[522,13022,{"$f":"VLOOKUP(B56,[2]ItemConfig!$A:$C,3,FALSE)","v":"地裂屠龙斩碎片"},1]
[523,13023,{"$f":"VLOOKUP(B57,[2]ItemConfig!$A:$C,3,FALSE)","v":"功法-土3碎片"},1]
[524,13024,{"$f":"VLOOKUP(B58,[2]ItemConfig!$A:$C,3,FALSE)","v":"落石碎片"},1]
[525,13025,{"$f":"VLOOKUP(B59,[2]ItemConfig!$A:$C,3,FALSE)","v":"小石头碎片"},1]
[526,13501,{"$f":"VLOOKUP(B60,[2]ItemConfig!$A:$C,3,FALSE)","v":"天衍星辰诀碎片"},1]
[527,13502,{"$f":"VLOOKUP(B61,[2]ItemConfig!$A:$C,3,FALSE)","v":"法宝秘籍碎片"},1]
[528,13503,{"$f":"VLOOKUP(B62,[2]ItemConfig!$A:$C,3,FALSE)","v":"崩脉决碎片"},1]
[529,13504,{"$f":"VLOOKUP(B63,[2]ItemConfig!$A:$C,3,FALSE)","v":"两仪决碎片"},1]
[530,13505,{"$f":"VLOOKUP(B64,[2]ItemConfig!$A:$C,3,FALSE)","v":"火焰决碎片"},1]
[531,13506,{"$f":"VLOOKUP(B65,[2]ItemConfig!$A:$C,3,FALSE)","v":"乾坤巨灵诀碎片"},1]
[532,13507,{"$f":"VLOOKUP(B66,[2]ItemConfig!$A:$C,3,FALSE)","v":"极速齿轮碎片"},1]
[533,13508,{"$f":"VLOOKUP(B67,[2]ItemConfig!$A:$C,3,FALSE)","v":"太虚剑意碎片"},1]
[534,13509,{"$f":"VLOOKUP(B68,[2]ItemConfig!$A:$C,3,FALSE)","v":"青莲净体诀碎片"},1]
[535,13510,{"$f":"VLOOKUP(B69,[2]ItemConfig!$A:$C,3,FALSE)","v":"碧霄回春术碎片"},1]
[536,13511,{"$f":"VLOOKUP(B70,[2]ItemConfig!$A:$C,3,FALSE)","v":"血祭神通碎片"},1]
[537,13512,{"$f":"VLOOKUP(B71,[2]ItemConfig!$A:$C,3,FALSE)","v":"金煞决碎片"},1]
[538,13513,{"$f":"VLOOKUP(B72,[2]ItemConfig!$A:$C,3,FALSE)","v":"毒瘴领域碎片"},1]
[539,13514,{"$f":"VLOOKUP(B73,[2]ItemConfig!$A:$C,3,FALSE)","v":"毒爆碎片"},1]
[540,13515,{"$f":"VLOOKUP(B74,[2]ItemConfig!$A:$C,3,FALSE)","v":"异常转移碎片"},1]
[541,13516,{"$f":"VLOOKUP(B75,[2]ItemConfig!$A:$C,3,FALSE)","v":"阴水碎片"},1]
[542,13517,{"$f":"VLOOKUP(B76,[2]ItemConfig!$A:$C,3,FALSE)","v":"灵油碎片"},1]
[543,13518,{"$f":"VLOOKUP(B77,[2]ItemConfig!$A:$C,3,FALSE)","v":"厚土护体碎片"},1]
[544,13519,{"$f":"VLOOKUP(B78,[2]ItemConfig!$A:$C,3,FALSE)","v":"金沙碎片"},1]
[545,11001,{"$f":"VLOOKUP(B79,[2]ItemConfig!$A:$C,3,FALSE)","v":"神龙鼎碎片"},1]
[546,11002,{"$f":"VLOOKUP(B80,[2]ItemConfig!$A:$C,3,FALSE)","v":"噬空齿刃碎片"},1]
[547,11003,{"$f":"VLOOKUP(B81,[2]ItemConfig!$A:$C,3,FALSE)","v":"翡翠葫芦碎片"},1]
[548,11004,{"$f":"VLOOKUP(B82,[2]ItemConfig!$A:$C,3,FALSE)","v":"混沌珠碎片"},1]
[549,11005,{"$f":"VLOOKUP(B83,[2]ItemConfig!$A:$C,3,FALSE)","v":"绝脉瓶碎片"},1]
[550,11006,{"$f":"VLOOKUP(B84,[2]ItemConfig!$A:$C,3,FALSE)","v":"九幽镇魂瓶碎片"},1]
[551,11007,{"$f":"VLOOKUP(B85,[2]ItemConfig!$A:$C,3,FALSE)","v":"玉莲守心灯碎片"},1]
[552,11008,{"$f":"VLOOKUP(B86,[2]ItemConfig!$A:$C,3,FALSE)","v":"融灵塔碎片"},1]
[553,11009,{"$f":"VLOOKUP(B87,[2]ItemConfig!$A:$C,3,FALSE)","v":"禁元珠碎片"},1]
[554,11010,{"$f":"VLOOKUP(B88,[2]ItemConfig!$A:$C,3,FALSE)","v":"玄龟盾碎片"},1]
[555,11011,{"$f":"VLOOKUP(B89,[2]ItemConfig!$A:$C,3,FALSE)","v":"天殇血刃剑碎片"},1]

{"sheet":"DaoyouguajiResourcLevel","index":7,"n_rows":304,"n_cols":8,"rows_kept":304,"cut":false,"hidden":false,"merged":[]}
["ID","para1","para2","para3","para4","para5"]
["int","int","int","int","int","int"]
[]
["ID","玩家修为产出","铜钱产出","功法灵气","法宝灵韵","赠与概率","倍率调整",2]
[1,{"$f":"ROUND([3]ResourceLevelConfig!$E5*H$4,0)","v":200},{"$f":"ROUND([3]ResourceLevelConfig!$C5*H$4,0)","v":2000},{"$f":"ROUND([3]ResourceLevelConfig!$G5*H$4,0)","v":100},{"$f":"ROUND([3]ResourceLevelConfig!$H5*H$4,0)","v":100},501]
[2,{"$f":"ROUND([3]ResourceLevelConfig!$E6*H$4,0)","v":200},{"$f":"ROUND([3]ResourceLevelConfig!$C6*H$4,0)","v":2020},{"$f":"ROUND([3]ResourceLevelConfig!$G6*H$4,0)","v":101},{"$f":"ROUND([3]ResourceLevelConfig!$H6*H$4,0)","v":101},502]
[3,{"$f":"ROUND([3]ResourceLevelConfig!$E7*H$4,0)","v":200},{"$f":"ROUND([3]ResourceLevelConfig!$C7*H$4,0)","v":2040},{"$f":"ROUND([3]ResourceLevelConfig!$G7*H$4,0)","v":102},{"$f":"ROUND([3]ResourceLevelConfig!$H7*H$4,0)","v":102},503]
[4,{"$f":"ROUND([3]ResourceLevelConfig!$E8*H$4,0)","v":200},{"$f":"ROUND([3]ResourceLevelConfig!$C8*H$4,0)","v":2060},{"$f":"ROUND([3]ResourceLevelConfig!$G8*H$4,0)","v":103},{"$f":"ROUND([3]ResourceLevelConfig!$H8*H$4,0)","v":103},504]
[5,{"$f":"ROUND([3]ResourceLevelConfig!$E9*H$4,0)","v":200},{"$f":"ROUND([3]ResourceLevelConfig!$C9*H$4,0)","v":2080},{"$f":"ROUND([3]ResourceLevelConfig!$G9*H$4,0)","v":104},{"$f":"ROUND([3]ResourceLevelConfig!$H9*H$4,0)","v":104},505]
[6,{"$f":"ROUND([3]ResourceLevelConfig!$E10*H$4,0)","v":220},{"$f":"ROUND([3]ResourceLevelConfig!$C10*H$4,0)","v":2100},{"$f":"ROUND([3]ResourceLevelConfig!$G10*H$4,0)","v":105},{"$f":"ROUND([3]ResourceLevelConfig!$H10*H$4,0)","v":105},506]
[7,{"$f":"ROUND([3]ResourceLevelConfig!$E11*H$4,0)","v":220},{"$f":"ROUND([3]ResourceLevelConfig!$C11*H$4,0)","v":2120},{"$f":"ROUND([3]ResourceLevelConfig!$G11*H$4,0)","v":106},{"$f":"ROUND([3]ResourceLevelConfig!$H11*H$4,0)","v":106},507]
[8,{"$f":"ROUND([3]ResourceLevelConfig!$E12*H$4,0)","v":220},{"$f":"ROUND([3]ResourceLevelConfig!$C12*H$4,0)","v":2140},{"$f":"ROUND([3]ResourceLevelConfig!$G12*H$4,0)","v":107},{"$f":"ROUND([3]ResourceLevelConfig!$H12*H$4,0)","v":107},508]
[9,{"$f":"ROUND([3]ResourceLevelConfig!$E13*H$4,0)","v":220},{"$f":"ROUND([3]ResourceLevelConfig!$C13*H$4,0)","v":2160},{"$f":"ROUND([3]ResourceLevelConfig!$G13*H$4,0)","v":108},{"$f":"ROUND([3]ResourceLevelConfig!$H13*H$4,0)","v":108},509]
[10,{"$f":"ROUND([3]ResourceLevelConfig!$E14*H$4,0)","v":220},{"$f":"ROUND([3]ResourceLevelConfig!$C14*H$4,0)","v":2180},{"$f":"ROUND([3]ResourceLevelConfig!$G14*H$4,0)","v":109},{"$f":"ROUND([3]ResourceLevelConfig!$H14*H$4,0)","v":109},510]
[11,{"$f":"ROUND([3]ResourceLevelConfig!$E15*H$4,0)","v":220},{"$f":"ROUND([3]ResourceLevelConfig!$C15*H$4,0)","v":2200},{"$f":"ROUND([3]ResourceLevelConfig!$G15*H$4,0)","v":110},{"$f":"ROUND([3]ResourceLevelConfig!$H15*H$4,0)","v":110},511]
[12,{"$f":"ROUND([3]ResourceLevelConfig!$E16*H$4,0)","v":220},{"$f":"ROUND([3]ResourceLevelConfig!$C16*H$4,0)","v":2220},{"$f":"ROUND([3]ResourceLevelConfig!$G16*H$4,0)","v":111},{"$f":"ROUND([3]ResourceLevelConfig!$H16*H$4,0)","v":111},512]
[13,{"$f":"ROUND([3]ResourceLevelConfig!$E17*H$4,0)","v":220},{"$f":"ROUND([3]ResourceLevelConfig!$C17*H$4,0)","v":2240},{"$f":"ROUND([3]ResourceLevelConfig!$G17*H$4,0)","v":112},{"$f":"ROUND([3]ResourceLevelConfig!$H17*H$4,0)","v":112},513]
[14,{"$f":"ROUND([3]ResourceLevelConfig!$E18*H$4,0)","v":220},{"$f":"ROUND([3]ResourceLevelConfig!$C18*H$4,0)","v":2260},{"$f":"ROUND([3]ResourceLevelConfig!$G18*H$4,0)","v":113},{"$f":"ROUND([3]ResourceLevelConfig!$H18*H$4,0)","v":113},514]
[15,{"$f":"ROUND([3]ResourceLevelConfig!$E19*H$4,0)","v":220},{"$f":"ROUND([3]ResourceLevelConfig!$C19*H$4,0)","v":2280},{"$f":"ROUND([3]ResourceLevelConfig!$G19*H$4,0)","v":114},{"$f":"ROUND([3]ResourceLevelConfig!$H19*H$4,0)","v":114},515]
[16,{"$f":"ROUND([3]ResourceLevelConfig!$E20*H$4,0)","v":240},{"$f":"ROUND([3]ResourceLevelConfig!$C20*H$4,0)","v":2300},{"$f":"ROUND([3]ResourceLevelConfig!$G20*H$4,0)","v":115},{"$f":"ROUND([3]ResourceLevelConfig!$H20*H$4,0)","v":115},516]
[17,{"$f":"ROUND([3]ResourceLevelConfig!$E21*H$4,0)","v":240},{"$f":"ROUND([3]ResourceLevelConfig!$C21*H$4,0)","v":2320},{"$f":"ROUND([3]ResourceLevelConfig!$G21*H$4,0)","v":116},{"$f":"ROUND([3]ResourceLevelConfig!$H21*H$4,0)","v":116},517]
[18,{"$f":"ROUND([3]ResourceLevelConfig!$E22*H$4,0)","v":240},{"$f":"ROUND([3]ResourceLevelConfig!$C22*H$4,0)","v":2340},{"$f":"ROUND([3]ResourceLevelConfig!$G22*H$4,0)","v":117},{"$f":"ROUND([3]ResourceLevelConfig!$H22*H$4,0)","v":117},518]
[19,{"$f":"ROUND([3]ResourceLevelConfig!$E23*H$4,0)","v":240},{"$f":"ROUND([3]ResourceLevelConfig!$C23*H$4,0)","v":2360},{"$f":"ROUND([3]ResourceLevelConfig!$G23*H$4,0)","v":118},{"$f":"ROUND([3]ResourceLevelConfig!$H23*H$4,0)","v":118},519]
[20,{"$f":"ROUND([3]ResourceLevelConfig!$E24*H$4,0)","v":240},{"$f":"ROUND([3]ResourceLevelConfig!$C24*H$4,0)","v":2380},{"$f":"ROUND([3]ResourceLevelConfig!$G24*H$4,0)","v":119},{"$f":"ROUND([3]ResourceLevelConfig!$H24*H$4,0)","v":119},520]
[21,{"$f":"ROUND([3]ResourceLevelConfig!$E25*H$4,0)","v":240},{"$f":"ROUND([3]ResourceLevelConfig!$C25*H$4,0)","v":2400},{"$f":"ROUND([3]ResourceLevelConfig!$G25*H$4,0)","v":120},{"$f":"ROUND([3]ResourceLevelConfig!$H25*H$4,0)","v":120},521]
[22,{"$f":"ROUND([3]ResourceLevelConfig!$E26*H$4,0)","v":240},{"$f":"ROUND([3]ResourceLevelConfig!$C26*H$4,0)","v":2420},{"$f":"ROUND([3]ResourceLevelConfig!$G26*H$4,0)","v":121},{"$f":"ROUND([3]ResourceLevelConfig!$H26*H$4,0)","v":121},522]
[23,{"$f":"ROUND([3]ResourceLevelConfig!$E27*H$4,0)","v":240},{"$f":"ROUND([3]ResourceLevelConfig!$C27*H$4,0)","v":2440},{"$f":"ROUND([3]ResourceLevelConfig!$G27*H$4,0)","v":122},{"$f":"ROUND([3]ResourceLevelConfig!$H27*H$4,0)","v":122},523]
[24,{"$f":"ROUND([3]ResourceLevelConfig!$E28*H$4,0)","v":240},{"$f":"ROUND([3]ResourceLevelConfig!$C28*H$4,0)","v":2460},{"$f":"ROUND([3]ResourceLevelConfig!$G28*H$4,0)","v":123},{"$f":"ROUND([3]ResourceLevelConfig!$H28*H$4,0)","v":123},524]
[25,{"$f":"ROUND([3]ResourceLevelConfig!$E29*H$4,0)","v":240},{"$f":"ROUND([3]ResourceLevelConfig!$C29*H$4,0)","v":2480},{"$f":"ROUND([3]ResourceLevelConfig!$G29*H$4,0)","v":124},{"$f":"ROUND([3]ResourceLevelConfig!$H29*H$4,0)","v":124},525]
[26,{"$f":"ROUND([3]ResourceLevelConfig!$E30*H$4,0)","v":260},{"$f":"ROUND([3]ResourceLevelConfig!$C30*H$4,0)","v":2500},{"$f":"ROUND([3]ResourceLevelConfig!$G30*H$4,0)","v":125},{"$f":"ROUND([3]ResourceLevelConfig!$H30*H$4,0)","v":125},526]
[27,{"$f":"ROUND([3]ResourceLevelConfig!$E31*H$4,0)","v":260},{"$f":"ROUND([3]ResourceLevelConfig!$C31*H$4,0)","v":2520},{"$f":"ROUND([3]ResourceLevelConfig!$G31*H$4,0)","v":126},{"$f":"ROUND([3]ResourceLevelConfig!$H31*H$4,0)","v":126},527]
[28,{"$f":"ROUND([3]ResourceLevelConfig!$E32*H$4,0)","v":260},{"$f":"ROUND([3]ResourceLevelConfig!$C32*H$4,0)","v":2540},{"$f":"ROUND([3]ResourceLevelConfig!$G32*H$4,0)","v":127},{"$f":"ROUND([3]ResourceLevelConfig!$H32*H$4,0)","v":127},528]
[29,{"$f":"ROUND([3]ResourceLevelConfig!$E33*H$4,0)","v":260},{"$f":"ROUND([3]ResourceLevelConfig!$C33*H$4,0)","v":2560},{"$f":"ROUND([3]ResourceLevelConfig!$G33*H$4,0)","v":128},{"$f":"ROUND([3]ResourceLevelConfig!$H33*H$4,0)","v":128},529]
[30,{"$f":"ROUND([3]ResourceLevelConfig!$E34*H$4,0)","v":260},{"$f":"ROUND([3]ResourceLevelConfig!$C34*H$4,0)","v":2580},{"$f":"ROUND([3]ResourceLevelConfig!$G34*H$4,0)","v":129},{"$f":"ROUND([3]ResourceLevelConfig!$H34*H$4,0)","v":129},530]
[31,{"$f":"ROUND([3]ResourceLevelConfig!$E35*H$4,0)","v":260},{"$f":"ROUND([3]ResourceLevelConfig!$C35*H$4,0)","v":2600},{"$f":"ROUND([3]ResourceLevelConfig!$G35*H$4,0)","v":130},{"$f":"ROUND([3]ResourceLevelConfig!$H35*H$4,0)","v":130},531]
[32,{"$f":"ROUND([3]ResourceLevelConfig!$E36*H$4,0)","v":260},{"$f":"ROUND([3]ResourceLevelConfig!$C36*H$4,0)","v":2620},{"$f":"ROUND([3]ResourceLevelConfig!$G36*H$4,0)","v":131},{"$f":"ROUND([3]ResourceLevelConfig!$H36*H$4,0)","v":131},532]
[33,{"$f":"ROUND([3]ResourceLevelConfig!$E37*H$4,0)","v":260},{"$f":"ROUND([3]ResourceLevelConfig!$C37*H$4,0)","v":2640},{"$f":"ROUND([3]ResourceLevelConfig!$G37*H$4,0)","v":132},{"$f":"ROUND([3]ResourceLevelConfig!$H37*H$4,0)","v":132},533]
[34,{"$f":"ROUND([3]ResourceLevelConfig!$E38*H$4,0)","v":260},{"$f":"ROUND([3]ResourceLevelConfig!$C38*H$4,0)","v":2660},{"$f":"ROUND([3]ResourceLevelConfig!$G38*H$4,0)","v":133},{"$f":"ROUND([3]ResourceLevelConfig!$H38*H$4,0)","v":133},534]
[35,{"$f":"ROUND([3]ResourceLevelConfig!$E39*H$4,0)","v":260},{"$f":"ROUND([3]ResourceLevelConfig!$C39*H$4,0)","v":2680},{"$f":"ROUND([3]ResourceLevelConfig!$G39*H$4,0)","v":134},{"$f":"ROUND([3]ResourceLevelConfig!$H39*H$4,0)","v":134},535]
[36,{"$f":"ROUND([3]ResourceLevelConfig!$E40*H$4,0)","v":280},{"$f":"ROUND([3]ResourceLevelConfig!$C40*H$4,0)","v":2700},{"$f":"ROUND([3]ResourceLevelConfig!$G40*H$4,0)","v":135},{"$f":"ROUND([3]ResourceLevelConfig!$H40*H$4,0)","v":135},536]
[37,{"$f":"ROUND([3]ResourceLevelConfig!$E41*H$4,0)","v":280},{"$f":"ROUND([3]ResourceLevelConfig!$C41*H$4,0)","v":2720},{"$f":"ROUND([3]ResourceLevelConfig!$G41*H$4,0)","v":136},{"$f":"ROUND([3]ResourceLevelConfig!$H41*H$4,0)","v":136},537]
[38,{"$f":"ROUND([3]ResourceLevelConfig!$E42*H$4,0)","v":280},{"$f":"ROUND([3]ResourceLevelConfig!$C42*H$4,0)","v":2740},{"$f":"ROUND([3]ResourceLevelConfig!$G42*H$4,0)","v":137},{"$f":"ROUND([3]ResourceLevelConfig!$H42*H$4,0)","v":137},538]
[39,{"$f":"ROUND([3]ResourceLevelConfig!$E43*H$4,0)","v":280},{"$f":"ROUND([3]ResourceLevelConfig!$C43*H$4,0)","v":2760},{"$f":"ROUND([3]ResourceLevelConfig!$G43*H$4,0)","v":138},{"$f":"ROUND([3]ResourceLevelConfig!$H43*H$4,0)","v":138},539]
[40,{"$f":"ROUND([3]ResourceLevelConfig!$E44*H$4,0)","v":280},{"$f":"ROUND([3]ResourceLevelConfig!$C44*H$4,0)","v":2780},{"$f":"ROUND([3]ResourceLevelConfig!$G44*H$4,0)","v":139},{"$f":"ROUND([3]ResourceLevelConfig!$H44*H$4,0)","v":139},540]
[41,{"$f":"ROUND([3]ResourceLevelConfig!$E45*H$4,0)","v":280},{"$f":"ROUND([3]ResourceLevelConfig!$C45*H$4,0)","v":2800},{"$f":"ROUND([3]ResourceLevelConfig!$G45*H$4,0)","v":140},{"$f":"ROUND([3]ResourceLevelConfig!$H45*H$4,0)","v":140},541]
[42,{"$f":"ROUND([3]ResourceLevelConfig!$E46*H$4,0)","v":280},{"$f":"ROUND([3]ResourceLevelConfig!$C46*H$4,0)","v":2820},{"$f":"ROUND([3]ResourceLevelConfig!$G46*H$4,0)","v":141},{"$f":"ROUND([3]ResourceLevelConfig!$H46*H$4,0)","v":141},542]
[43,{"$f":"ROUND([3]ResourceLevelConfig!$E47*H$4,0)","v":280},{"$f":"ROUND([3]ResourceLevelConfig!$C47*H$4,0)","v":2840},{"$f":"ROUND([3]ResourceLevelConfig!$G47*H$4,0)","v":142},{"$f":"ROUND([3]ResourceLevelConfig!$H47*H$4,0)","v":142},543]
[44,{"$f":"ROUND([3]ResourceLevelConfig!$E48*H$4,0)","v":280},{"$f":"ROUND([3]ResourceLevelConfig!$C48*H$4,0)","v":2860},{"$f":"ROUND([3]ResourceLevelConfig!$G48*H$4,0)","v":143},{"$f":"ROUND([3]ResourceLevelConfig!$H48*H$4,0)","v":143},544]
[45,{"$f":"ROUND([3]ResourceLevelConfig!$E49*H$4,0)","v":280},{"$f":"ROUND([3]ResourceLevelConfig!$C49*H$4,0)","v":2880},{"$f":"ROUND([3]ResourceLevelConfig!$G49*H$4,0)","v":144},{"$f":"ROUND([3]ResourceLevelConfig!$H49*H$4,0)","v":144},545]
[46,{"$f":"ROUND([3]ResourceLevelConfig!$E50*H$4,0)","v":300},{"$f":"ROUND([3]ResourceLevelConfig!$C50*H$4,0)","v":2900},{"$f":"ROUND([3]ResourceLevelConfig!$G50*H$4,0)","v":145},{"$f":"ROUND([3]ResourceLevelConfig!$H50*H$4,0)","v":145},546]
[47,{"$f":"ROUND([3]ResourceLevelConfig!$E51*H$4,0)","v":300},{"$f":"ROUND([3]ResourceLevelConfig!$C51*H$4,0)","v":2920},{"$f":"ROUND([3]ResourceLevelConfig!$G51*H$4,0)","v":146},{"$f":"ROUND([3]ResourceLevelConfig!$H51*H$4,0)","v":146},547]
[48,{"$f":"ROUND([3]ResourceLevelConfig!$E52*H$4,0)","v":300},{"$f":"ROUND([3]ResourceLevelConfig!$C52*H$4,0)","v":2940},{"$f":"ROUND([3]ResourceLevelConfig!$G52*H$4,0)","v":147},{"$f":"ROUND([3]ResourceLevelConfig!$H52*H$4,0)","v":147},548]
[49,{"$f":"ROUND([3]ResourceLevelConfig!$E53*H$4,0)","v":300},{"$f":"ROUND([3]ResourceLevelConfig!$C53*H$4,0)","v":2960},{"$f":"ROUND([3]ResourceLevelConfig!$G53*H$4,0)","v":148},{"$f":"ROUND([3]ResourceLevelConfig!$H53*H$4,0)","v":148},549]
[50,{"$f":"ROUND([3]ResourceLevelConfig!$E54*H$4,0)","v":300},{"$f":"ROUND([3]ResourceLevelConfig!$C54*H$4,0)","v":2980},{"$f":"ROUND([3]ResourceLevelConfig!$G54*H$4,0)","v":149},{"$f":"ROUND([3]ResourceLevelConfig!$H54*H$4,0)","v":149},550]
[51,{"$f":"ROUND([3]ResourceLevelConfig!$E55*H$4,0)","v":300},{"$f":"ROUND([3]ResourceLevelConfig!$C55*H$4,0)","v":3000},{"$f":"ROUND([3]ResourceLevelConfig!$G55*H$4,0)","v":150},{"$f":"ROUND([3]ResourceLevelConfig!$H55*H$4,0)","v":150},551]
[52,{"$f":"ROUND([3]ResourceLevelConfig!$E56*H$4,0)","v":300},{"$f":"ROUND([3]ResourceLevelConfig!$C56*H$4,0)","v":3020},{"$f":"ROUND([3]ResourceLevelConfig!$G56*H$4,0)","v":151},{"$f":"ROUND([3]ResourceLevelConfig!$H56*H$4,0)","v":151},552]
[53,{"$f":"ROUND([3]ResourceLevelConfig!$E57*H$4,0)","v":300},{"$f":"ROUND([3]ResourceLevelConfig!$C57*H$4,0)","v":3040},{"$f":"ROUND([3]ResourceLevelConfig!$G57*H$4,0)","v":152},{"$f":"ROUND([3]ResourceLevelConfig!$H57*H$4,0)","v":152},553]
[54,{"$f":"ROUND([3]ResourceLevelConfig!$E58*H$4,0)","v":300},{"$f":"ROUND([3]ResourceLevelConfig!$C58*H$4,0)","v":3060},{"$f":"ROUND([3]ResourceLevelConfig!$G58*H$4,0)","v":153},{"$f":"ROUND([3]ResourceLevelConfig!$H58*H$4,0)","v":153},554]
[55,{"$f":"ROUND([3]ResourceLevelConfig!$E59*H$4,0)","v":300},{"$f":"ROUND([3]ResourceLevelConfig!$C59*H$4,0)","v":3080},{"$f":"ROUND([3]ResourceLevelConfig!$G59*H$4,0)","v":154},{"$f":"ROUND([3]ResourceLevelConfig!$H59*H$4,0)","v":154},555]
[56,{"$f":"ROUND([3]ResourceLevelConfig!$E60*H$4,0)","v":320},{"$f":"ROUND([3]ResourceLevelConfig!$C60*H$4,0)","v":3100},{"$f":"ROUND([3]ResourceLevelConfig!$G60*H$4,0)","v":155},{"$f":"ROUND([3]ResourceLevelConfig!$H60*H$4,0)","v":155},556]
[57,{"$f":"ROUND([3]ResourceLevelConfig!$E61*H$4,0)","v":320},{"$f":"ROUND([3]ResourceLevelConfig!$C61*H$4,0)","v":3120},{"$f":"ROUND([3]ResourceLevelConfig!$G61*H$4,0)","v":156},{"$f":"ROUND([3]ResourceLevelConfig!$H61*H$4,0)","v":156},557]
[58,{"$f":"ROUND([3]ResourceLevelConfig!$E62*H$4,0)","v":320},{"$f":"ROUND([3]ResourceLevelConfig!$C62*H$4,0)","v":3140},{"$f":"ROUND([3]ResourceLevelConfig!$G62*H$4,0)","v":157},{"$f":"ROUND([3]ResourceLevelConfig!$H62*H$4,0)","v":157},558]
[59,{"$f":"ROUND([3]ResourceLevelConfig!$E63*H$4,0)","v":320},{"$f":"ROUND([3]ResourceLevelConfig!$C63*H$4,0)","v":3160},{"$f":"ROUND([3]ResourceLevelConfig!$G63*H$4,0)","v":158},{"$f":"ROUND([3]ResourceLevelConfig!$H63*H$4,0)","v":158},559]
[60,{"$f":"ROUND([3]ResourceLevelConfig!$E64*H$4,0)","v":320},{"$f":"ROUND([3]ResourceLevelConfig!$C64*H$4,0)","v":3180},{"$f":"ROUND([3]ResourceLevelConfig!$G64*H$4,0)","v":159},{"$f":"ROUND([3]ResourceLevelConfig!$H64*H$4,0)","v":159},560]
[61,{"$f":"ROUND([3]ResourceLevelConfig!$E65*H$4,0)","v":320},{"$f":"ROUND([3]ResourceLevelConfig!$C65*H$4,0)","v":3200},{"$f":"ROUND([3]ResourceLevelConfig!$G65*H$4,0)","v":160},{"$f":"ROUND([3]ResourceLevelConfig!$H65*H$4,0)","v":160},561]
[62,{"$f":"ROUND([3]ResourceLevelConfig!$E66*H$4,0)","v":320},{"$f":"ROUND([3]ResourceLevelConfig!$C66*H$4,0)","v":3220},{"$f":"ROUND([3]ResourceLevelConfig!$G66*H$4,0)","v":161},{"$f":"ROUND([3]ResourceLevelConfig!$H66*H$4,0)","v":161},562]
[63,{"$f":"ROUND([3]ResourceLevelConfig!$E67*H$4,0)","v":320},{"$f":"ROUND([3]ResourceLevelConfig!$C67*H$4,0)","v":3240},{"$f":"ROUND([3]ResourceLevelConfig!$G67*H$4,0)","v":162},{"$f":"ROUND([3]ResourceLevelConfig!$H67*H$4,0)","v":162},563]
[64,{"$f":"ROUND([3]ResourceLevelConfig!$E68*H$4,0)","v":320},{"$f":"ROUND([3]ResourceLevelConfig!$C68*H$4,0)","v":3260},{"$f":"ROUND([3]ResourceLevelConfig!$G68*H$4,0)","v":163},{"$f":"ROUND([3]ResourceLevelConfig!$H68*H$4,0)","v":163},564]
[65,{"$f":"ROUND([3]ResourceLevelConfig!$E69*H$4,0)","v":320},{"$f":"ROUND([3]ResourceLevelConfig!$C69*H$4,0)","v":3280},{"$f":"ROUND([3]ResourceLevelConfig!$G69*H$4,0)","v":164},{"$f":"ROUND([3]ResourceLevelConfig!$H69*H$4,0)","v":164},565]
[66,{"$f":"ROUND([3]ResourceLevelConfig!$E70*H$4,0)","v":340},{"$f":"ROUND([3]ResourceLevelConfig!$C70*H$4,0)","v":3300},{"$f":"ROUND([3]ResourceLevelConfig!$G70*H$4,0)","v":165},{"$f":"ROUND([3]ResourceLevelConfig!$H70*H$4,0)","v":165},566]
[67,{"$f":"ROUND([3]ResourceLevelConfig!$E71*H$4,0)","v":340},{"$f":"ROUND([3]ResourceLevelConfig!$C71*H$4,0)","v":3320},{"$f":"ROUND([3]ResourceLevelConfig!$G71*H$4,0)","v":166},{"$f":"ROUND([3]ResourceLevelConfig!$H71*H$4,0)","v":166},567]
[68,{"$f":"ROUND([3]ResourceLevelConfig!$E72*H$4,0)","v":340},{"$f":"ROUND([3]ResourceLevelConfig!$C72*H$4,0)","v":3340},{"$f":"ROUND([3]ResourceLevelConfig!$G72*H$4,0)","v":167},{"$f":"ROUND([3]ResourceLevelConfig!$H72*H$4,0)","v":167},568]
[69,{"$f":"ROUND([3]ResourceLevelConfig!$E73*H$4,0)","v":340},{"$f":"ROUND([3]ResourceLevelConfig!$C73*H$4,0)","v":3360},{"$f":"ROUND([3]ResourceLevelConfig!$G73*H$4,0)","v":168},{"$f":"ROUND([3]ResourceLevelConfig!$H73*H$4,0)","v":168},569]
[70,{"$f":"ROUND([3]ResourceLevelConfig!$E74*H$4,0)","v":340},{"$f":"ROUND([3]ResourceLevelConfig!$C74*H$4,0)","v":3380},{"$f":"ROUND([3]ResourceLevelConfig!$G74*H$4,0)","v":169},{"$f":"ROUND([3]ResourceLevelConfig!$H74*H$4,0)","v":169},570]
[71,{"$f":"ROUND([3]ResourceLevelConfig!$E75*H$4,0)","v":340},{"$f":"ROUND([3]ResourceLevelConfig!$C75*H$4,0)","v":3400},{"$f":"ROUND([3]ResourceLevelConfig!$G75*H$4,0)","v":170},{"$f":"ROUND([3]ResourceLevelConfig!$H75*H$4,0)","v":170},571]
[72,{"$f":"ROUND([3]ResourceLevelConfig!$E76*H$4,0)","v":340},{"$f":"ROUND([3]ResourceLevelConfig!$C76*H$4,0)","v":3420},{"$f":"ROUND([3]ResourceLevelConfig!$G76*H$4,0)","v":171},{"$f":"ROUND([3]ResourceLevelConfig!$H76*H$4,0)","v":171},572]
[73,{"$f":"ROUND([3]ResourceLevelConfig!$E77*H$4,0)","v":340},{"$f":"ROUND([3]ResourceLevelConfig!$C77*H$4,0)","v":3440},{"$f":"ROUND([3]ResourceLevelConfig!$G77*H$4,0)","v":172},{"$f":"ROUND([3]ResourceLevelConfig!$H77*H$4,0)","v":172},573]
[74,{"$f":"ROUND([3]ResourceLevelConfig!$E78*H$4,0)","v":340},{"$f":"ROUND([3]ResourceLevelConfig!$C78*H$4,0)","v":3460},{"$f":"ROUND([3]ResourceLevelConfig!$G78*H$4,0)","v":173},{"$f":"ROUND([3]ResourceLevelConfig!$H78*H$4,0)","v":173},574]
[75,{"$f":"ROUND([3]ResourceLevelConfig!$E79*H$4,0)","v":340},{"$f":"ROUND([3]ResourceLevelConfig!$C79*H$4,0)","v":3480},{"$f":"ROUND([3]ResourceLevelConfig!$G79*H$4,0)","v":174},{"$f":"ROUND([3]ResourceLevelConfig!$H79*H$4,0)","v":174},575]
[76,{"$f":"ROUND([3]ResourceLevelConfig!$E80*H$4,0)","v":360},{"$f":"ROUND([3]ResourceLevelConfig!$C80*H$4,0)","v":3500},{"$f":"ROUND([3]ResourceLevelConfig!$G80*H$4,0)","v":175},{"$f":"ROUND([3]ResourceLevelConfig!$H80*H$4,0)","v":175},576]
[77,{"$f":"ROUND([3]ResourceLevelConfig!$E81*H$4,0)","v":360},{"$f":"ROUND([3]ResourceLevelConfig!$C81*H$4,0)","v":3520},{"$f":"ROUND([3]ResourceLevelConfig!$G81*H$4,0)","v":176},{"$f":"ROUND([3]ResourceLevelConfig!$H81*H$4,0)","v":176},577]
[78,{"$f":"ROUND([3]ResourceLevelConfig!$E82*H$4,0)","v":360},{"$f":"ROUND([3]ResourceLevelConfig!$C82*H$4,0)","v":3540},{"$f":"ROUND([3]ResourceLevelConfig!$G82*H$4,0)","v":177},{"$f":"ROUND([3]ResourceLevelConfig!$H82*H$4,0)","v":177},578]
[79,{"$f":"ROUND([3]ResourceLevelConfig!$E83*H$4,0)","v":360},{"$f":"ROUND([3]ResourceLevelConfig!$C83*H$4,0)","v":3560},{"$f":"ROUND([3]ResourceLevelConfig!$G83*H$4,0)","v":178},{"$f":"ROUND([3]ResourceLevelConfig!$H83*H$4,0)","v":178},579]
[80,{"$f":"ROUND([3]ResourceLevelConfig!$E84*H$4,0)","v":360},{"$f":"ROUND([3]ResourceLevelConfig!$C84*H$4,0)","v":3580},{"$f":"ROUND([3]ResourceLevelConfig!$G84*H$4,0)","v":179},{"$f":"ROUND([3]ResourceLevelConfig!$H84*H$4,0)","v":179},580]
[81,{"$f":"ROUND([3]ResourceLevelConfig!$E85*H$4,0)","v":360},{"$f":"ROUND([3]ResourceLevelConfig!$C85*H$4,0)","v":3600},{"$f":"ROUND([3]ResourceLevelConfig!$G85*H$4,0)","v":180},{"$f":"ROUND([3]ResourceLevelConfig!$H85*H$4,0)","v":180},581]
[82,{"$f":"ROUND([3]ResourceLevelConfig!$E86*H$4,0)","v":360},{"$f":"ROUND([3]ResourceLevelConfig!$C86*H$4,0)","v":3620},{"$f":"ROUND([3]ResourceLevelConfig!$G86*H$4,0)","v":181},{"$f":"ROUND([3]ResourceLevelConfig!$H86*H$4,0)","v":181},582]
[83,{"$f":"ROUND([3]ResourceLevelConfig!$E87*H$4,0)","v":360},{"$f":"ROUND([3]ResourceLevelConfig!$C87*H$4,0)","v":3640},{"$f":"ROUND([3]ResourceLevelConfig!$G87*H$4,0)","v":182},{"$f":"ROUND([3]ResourceLevelConfig!$H87*H$4,0)","v":182},583]
[84,{"$f":"ROUND([3]ResourceLevelConfig!$E88*H$4,0)","v":360},{"$f":"ROUND([3]ResourceLevelConfig!$C88*H$4,0)","v":3660},{"$f":"ROUND([3]ResourceLevelConfig!$G88*H$4,0)","v":183},{"$f":"ROUND([3]ResourceLevelConfig!$H88*H$4,0)","v":183},584]
[85,{"$f":"ROUND([3]ResourceLevelConfig!$E89*H$4,0)","v":360},{"$f":"ROUND([3]ResourceLevelConfig!$C89*H$4,0)","v":3680},{"$f":"ROUND([3]ResourceLevelConfig!$G89*H$4,0)","v":184},{"$f":"ROUND([3]ResourceLevelConfig!$H89*H$4,0)","v":184},585]
[86,{"$f":"ROUND([3]ResourceLevelConfig!$E90*H$4,0)","v":380},{"$f":"ROUND([3]ResourceLevelConfig!$C90*H$4,0)","v":3700},{"$f":"ROUND([3]ResourceLevelConfig!$G90*H$4,0)","v":185},{"$f":"ROUND([3]ResourceLevelConfig!$H90*H$4,0)","v":185},586]
[87,{"$f":"ROUND([3]ResourceLevelConfig!$E91*H$4,0)","v":380},{"$f":"ROUND([3]ResourceLevelConfig!$C91*H$4,0)","v":3720},{"$f":"ROUND([3]ResourceLevelConfig!$G91*H$4,0)","v":186},{"$f":"ROUND([3]ResourceLevelConfig!$H91*H$4,0)","v":186},587]
[88,{"$f":"ROUND([3]ResourceLevelConfig!$E92*H$4,0)","v":380},{"$f":"ROUND([3]ResourceLevelConfig!$C92*H$4,0)","v":3740},{"$f":"ROUND([3]ResourceLevelConfig!$G92*H$4,0)","v":187},{"$f":"ROUND([3]ResourceLevelConfig!$H92*H$4,0)","v":187},588]
[89,{"$f":"ROUND([3]ResourceLevelConfig!$E93*H$4,0)","v":380},{"$f":"ROUND([3]ResourceLevelConfig!$C93*H$4,0)","v":3760},{"$f":"ROUND([3]ResourceLevelConfig!$G93*H$4,0)","v":188},{"$f":"ROUND([3]ResourceLevelConfig!$H93*H$4,0)","v":188},589]
[90,{"$f":"ROUND([3]ResourceLevelConfig!$E94*H$4,0)","v":380},{"$f":"ROUND([3]ResourceLevelConfig!$C94*H$4,0)","v":3780},{"$f":"ROUND([3]ResourceLevelConfig!$G94*H$4,0)","v":189},{"$f":"ROUND([3]ResourceLevelConfig!$H94*H$4,0)","v":189},590]
[91,{"$f":"ROUND([3]ResourceLevelConfig!$E95*H$4,0)","v":380},{"$f":"ROUND([3]ResourceLevelConfig!$C95*H$4,0)","v":3800},{"$f":"ROUND([3]ResourceLevelConfig!$G95*H$4,0)","v":190},{"$f":"ROUND([3]ResourceLevelConfig!$H95*H$4,0)","v":190},591]
[92,{"$f":"ROUND([3]ResourceLevelConfig!$E96*H$4,0)","v":380},{"$f":"ROUND([3]ResourceLevelConfig!$C96*H$4,0)","v":3820},{"$f":"ROUND([3]ResourceLevelConfig!$G96*H$4,0)","v":191},{"$f":"ROUND([3]ResourceLevelConfig!$H96*H$4,0)","v":191},592]
[93,{"$f":"ROUND([3]ResourceLevelConfig!$E97*H$4,0)","v":380},{"$f":"ROUND([3]ResourceLevelConfig!$C97*H$4,0)","v":3840},{"$f":"ROUND([3]ResourceLevelConfig!$G97*H$4,0)","v":192},{"$f":"ROUND([3]ResourceLevelConfig!$H97*H$4,0)","v":192},593]
[94,{"$f":"ROUND([3]ResourceLevelConfig!$E98*H$4,0)","v":380},{"$f":"ROUND([3]ResourceLevelConfig!$C98*H$4,0)","v":3860},{"$f":"ROUND([3]ResourceLevelConfig!$G98*H$4,0)","v":193},{"$f":"ROUND([3]ResourceLevelConfig!$H98*H$4,0)","v":193},594]
[95,{"$f":"ROUND([3]ResourceLevelConfig!$E99*H$4,0)","v":380},{"$f":"ROUND([3]ResourceLevelConfig!$C99*H$4,0)","v":3880},{"$f":"ROUND([3]ResourceLevelConfig!$G99*H$4,0)","v":194},{"$f":"ROUND([3]ResourceLevelConfig!$H99*H$4,0)","v":194},595]
[96,{"$f":"ROUND([3]ResourceLevelConfig!$E100*H$4,0)","v":400},{"$f":"ROUND([3]ResourceLevelConfig!$C100*H$4,0)","v":3900},{"$f":"ROUND([3]ResourceLevelConfig!$G100*H$4,0)","v":195},{"$f":"ROUND([3]ResourceLevelConfig!$H100*H$4,0)","v":195},596]
[97,{"$f":"ROUND([3]ResourceLevelConfig!$E101*H$4,0)","v":400},{"$f":"ROUND([3]ResourceLevelConfig!$C101*H$4,0)","v":3920},{"$f":"ROUND([3]ResourceLevelConfig!$G101*H$4,0)","v":196},{"$f":"ROUND([3]ResourceLevelConfig!$H101*H$4,0)","v":196},597]
[98,{"$f":"ROUND([3]ResourceLevelConfig!$E102*H$4,0)","v":400},{"$f":"ROUND([3]ResourceLevelConfig!$C102*H$4,0)","v":3940},{"$f":"ROUND([3]ResourceLevelConfig!$G102*H$4,0)","v":197},{"$f":"ROUND([3]ResourceLevelConfig!$H102*H$4,0)","v":197},598]
[99,{"$f":"ROUND([3]ResourceLevelConfig!$E103*H$4,0)","v":400},{"$f":"ROUND([3]ResourceLevelConfig!$C103*H$4,0)","v":3960},{"$f":"ROUND([3]ResourceLevelConfig!$G103*H$4,0)","v":198},{"$f":"ROUND([3]ResourceLevelConfig!$H103*H$4,0)","v":198},599]
[100,{"$f":"ROUND([3]ResourceLevelConfig!$E104*H$4,0)","v":400},{"$f":"ROUND([3]ResourceLevelConfig!$C104*H$4,0)","v":3980},{"$f":"ROUND([3]ResourceLevelConfig!$G104*H$4,0)","v":199},{"$f":"ROUND([3]ResourceLevelConfig!$H104*H$4,0)","v":199},600]
[101,{"$f":"ROUND([3]ResourceLevelConfig!$E105*H$4,0)","v":400},{"$f":"ROUND([3]ResourceLevelConfig!$C105*H$4,0)","v":4000},{"$f":"ROUND([3]ResourceLevelConfig!$G105*H$4,0)","v":200},{"$f":"ROUND([3]ResourceLevelConfig!$H105*H$4,0)","v":200},601]
[102,{"$f":"ROUND([3]ResourceLevelConfig!$E106*H$4,0)","v":400},{"$f":"ROUND([3]ResourceLevelConfig!$C106*H$4,0)","v":4020},{"$f":"ROUND([3]ResourceLevelConfig!$G106*H$4,0)","v":201},{"$f":"ROUND([3]ResourceLevelConfig!$H106*H$4,0)","v":201},602]
[103,{"$f":"ROUND([3]ResourceLevelConfig!$E107*H$4,0)","v":400},{"$f":"ROUND([3]ResourceLevelConfig!$C107*H$4,0)","v":4040},{"$f":"ROUND([3]ResourceLevelConfig!$G107*H$4,0)","v":202},{"$f":"ROUND([3]ResourceLevelConfig!$H107*H$4,0)","v":202},603]
[104,{"$f":"ROUND([3]ResourceLevelConfig!$E108*H$4,0)","v":400},{"$f":"ROUND([3]ResourceLevelConfig!$C108*H$4,0)","v":4060},{"$f":"ROUND([3]ResourceLevelConfig!$G108*H$4,0)","v":203},{"$f":"ROUND([3]ResourceLevelConfig!$H108*H$4,0)","v":203},604]
[105,{"$f":"ROUND([3]ResourceLevelConfig!$E109*H$4,0)","v":400},{"$f":"ROUND([3]ResourceLevelConfig!$C109*H$4,0)","v":4080},{"$f":"ROUND([3]ResourceLevelConfig!$G109*H$4,0)","v":204},{"$f":"ROUND([3]ResourceLevelConfig!$H109*H$4,0)","v":204},605]
[106,{"$f":"ROUND([3]ResourceLevelConfig!$E110*H$4,0)","v":420},{"$f":"ROUND([3]ResourceLevelConfig!$C110*H$4,0)","v":4102},{"$f":"ROUND([3]ResourceLevelConfig!$G110*H$4,0)","v":205},{"$f":"ROUND([3]ResourceLevelConfig!$H110*H$4,0)","v":205},606]
[107,{"$f":"ROUND([3]ResourceLevelConfig!$E111*H$4,0)","v":420},{"$f":"ROUND([3]ResourceLevelConfig!$C111*H$4,0)","v":4122},{"$f":"ROUND([3]ResourceLevelConfig!$G111*H$4,0)","v":206},{"$f":"ROUND([3]ResourceLevelConfig!$H111*H$4,0)","v":206},607]
[108,{"$f":"ROUND([3]ResourceLevelConfig!$E112*H$4,0)","v":420},{"$f":"ROUND([3]ResourceLevelConfig!$C112*H$4,0)","v":4142},{"$f":"ROUND([3]ResourceLevelConfig!$G112*H$4,0)","v":207},{"$f":"ROUND([3]ResourceLevelConfig!$H112*H$4,0)","v":207},608]
[109,{"$f":"ROUND([3]ResourceLevelConfig!$E113*H$4,0)","v":420},{"$f":"ROUND([3]ResourceLevelConfig!$C113*H$4,0)","v":4162},{"$f":"ROUND([3]ResourceLevelConfig!$G113*H$4,0)","v":208},{"$f":"ROUND([3]ResourceLevelConfig!$H113*H$4,0)","v":208},609]
[110,{"$f":"ROUND([3]ResourceLevelConfig!$E114*H$4,0)","v":420},{"$f":"ROUND([3]ResourceLevelConfig!$C114*H$4,0)","v":4184},{"$f":"ROUND([3]ResourceLevelConfig!$G114*H$4,0)","v":209},{"$f":"ROUND([3]ResourceLevelConfig!$H114*H$4,0)","v":209},610]
[111,{"$f":"ROUND([3]ResourceLevelConfig!$E115*H$4,0)","v":420},{"$f":"ROUND([3]ResourceLevelConfig!$C115*H$4,0)","v":4204},{"$f":"ROUND([3]ResourceLevelConfig!$G115*H$4,0)","v":210},{"$f":"ROUND([3]ResourceLevelConfig!$H115*H$4,0)","v":210},611]
[112,{"$f":"ROUND([3]ResourceLevelConfig!$E116*H$4,0)","v":420},{"$f":"ROUND([3]ResourceLevelConfig!$C116*H$4,0)","v":4226},{"$f":"ROUND([3]ResourceLevelConfig!$G116*H$4,0)","v":211},{"$f":"ROUND([3]ResourceLevelConfig!$H116*H$4,0)","v":211},612]
[113,{"$f":"ROUND([3]ResourceLevelConfig!$E117*H$4,0)","v":420},{"$f":"ROUND([3]ResourceLevelConfig!$C117*H$4,0)","v":4246},{"$f":"ROUND([3]ResourceLevelConfig!$G117*H$4,0)","v":212},{"$f":"ROUND([3]ResourceLevelConfig!$H117*H$4,0)","v":212},613]
[114,{"$f":"ROUND([3]ResourceLevelConfig!$E118*H$4,0)","v":420},{"$f":"ROUND([3]ResourceLevelConfig!$C118*H$4,0)","v":4268},{"$f":"ROUND([3]ResourceLevelConfig!$G118*H$4,0)","v":213},{"$f":"ROUND([3]ResourceLevelConfig!$H118*H$4,0)","v":213},614]
[115,{"$f":"ROUND([3]ResourceLevelConfig!$E119*H$4,0)","v":420},{"$f":"ROUND([3]ResourceLevelConfig!$C119*H$4,0)","v":4290},{"$f":"ROUND([3]ResourceLevelConfig!$G119*H$4,0)","v":214},{"$f":"ROUND([3]ResourceLevelConfig!$H119*H$4,0)","v":214},615]
[116,{"$f":"ROUND([3]ResourceLevelConfig!$E120*H$4,0)","v":440},{"$f":"ROUND([3]ResourceLevelConfig!$C120*H$4,0)","v":4310},{"$f":"ROUND([3]ResourceLevelConfig!$G120*H$4,0)","v":215},{"$f":"ROUND([3]ResourceLevelConfig!$H120*H$4,0)","v":215},616]
[117,{"$f":"ROUND([3]ResourceLevelConfig!$E121*H$4,0)","v":440},{"$f":"ROUND([3]ResourceLevelConfig!$C121*H$4,0)","v":4332},{"$f":"ROUND([3]ResourceLevelConfig!$G121*H$4,0)","v":216},{"$f":"ROUND([3]ResourceLevelConfig!$H121*H$4,0)","v":216},617]
[118,{"$f":"ROUND([3]ResourceLevelConfig!$E122*H$4,0)","v":440},{"$f":"ROUND([3]ResourceLevelConfig!$C122*H$4,0)","v":4354},{"$f":"ROUND([3]ResourceLevelConfig!$G122*H$4,0)","v":217},{"$f":"ROUND([3]ResourceLevelConfig!$H122*H$4,0)","v":217},618]
[119,{"$f":"ROUND([3]ResourceLevelConfig!$E123*H$4,0)","v":440},{"$f":"ROUND([3]ResourceLevelConfig!$C123*H$4,0)","v":4376},{"$f":"ROUND([3]ResourceLevelConfig!$G123*H$4,0)","v":218},{"$f":"ROUND([3]ResourceLevelConfig!$H123*H$4,0)","v":218},619]
[120,{"$f":"ROUND([3]ResourceLevelConfig!$E124*H$4,0)","v":440},{"$f":"ROUND([3]ResourceLevelConfig!$C124*H$4,0)","v":4398},{"$f":"ROUND([3]ResourceLevelConfig!$G124*H$4,0)","v":219},{"$f":"ROUND([3]ResourceLevelConfig!$H124*H$4,0)","v":219},620]
[121,{"$f":"ROUND([3]ResourceLevelConfig!$E125*H$4,0)","v":440},{"$f":"ROUND([3]ResourceLevelConfig!$C125*H$4,0)","v":4420},{"$f":"ROUND([3]ResourceLevelConfig!$G125*H$4,0)","v":220},{"$f":"ROUND([3]ResourceLevelConfig!$H125*H$4,0)","v":220},621]
[122,{"$f":"ROUND([3]ResourceLevelConfig!$E126*H$4,0)","v":440},{"$f":"ROUND([3]ResourceLevelConfig!$C126*H$4,0)","v":4442},{"$f":"ROUND([3]ResourceLevelConfig!$G126*H$4,0)","v":221},{"$f":"ROUND([3]ResourceLevelConfig!$H126*H$4,0)","v":221},622]
[123,{"$f":"ROUND([3]ResourceLevelConfig!$E127*H$4,0)","v":440},{"$f":"ROUND([3]ResourceLevelConfig!$C127*H$4,0)","v":4464},{"$f":"ROUND([3]ResourceLevelConfig!$G127*H$4,0)","v":222},{"$f":"ROUND([3]ResourceLevelConfig!$H127*H$4,0)","v":222},623]
[124,{"$f":"ROUND([3]ResourceLevelConfig!$E128*H$4,0)","v":440},{"$f":"ROUND([3]ResourceLevelConfig!$C128*H$4,0)","v":4486},{"$f":"ROUND([3]ResourceLevelConfig!$G128*H$4,0)","v":223},{"$f":"ROUND([3]ResourceLevelConfig!$H128*H$4,0)","v":223},624]
[125,{"$f":"ROUND([3]ResourceLevelConfig!$E129*H$4,0)","v":460},{"$f":"ROUND([3]ResourceLevelConfig!$C129*H$4,0)","v":4508},{"$f":"ROUND([3]ResourceLevelConfig!$G129*H$4,0)","v":224},{"$f":"ROUND([3]ResourceLevelConfig!$H129*H$4,0)","v":224},625]
[126,{"$f":"ROUND([3]ResourceLevelConfig!$E130*H$4,0)","v":460},{"$f":"ROUND([3]ResourceLevelConfig!$C130*H$4,0)","v":4532},{"$f":"ROUND([3]ResourceLevelConfig!$G130*H$4,0)","v":225},{"$f":"ROUND([3]ResourceLevelConfig!$H130*H$4,0)","v":225},626]
[127,{"$f":"ROUND([3]ResourceLevelConfig!$E131*H$4,0)","v":460},{"$f":"ROUND([3]ResourceLevelConfig!$C131*H$4,0)","v":4554},{"$f":"ROUND([3]ResourceLevelConfig!$G131*H$4,0)","v":226},{"$f":"ROUND([3]ResourceLevelConfig!$H131*H$4,0)","v":226},627]
[128,{"$f":"ROUND([3]ResourceLevelConfig!$E132*H$4,0)","v":460},{"$f":"ROUND([3]ResourceLevelConfig!$C132*H$4,0)","v":4576},{"$f":"ROUND([3]ResourceLevelConfig!$G132*H$4,0)","v":227},{"$f":"ROUND([3]ResourceLevelConfig!$H132*H$4,0)","v":227},628]
[129,{"$f":"ROUND([3]ResourceLevelConfig!$E133*H$4,0)","v":460},{"$f":"ROUND([3]ResourceLevelConfig!$C133*H$4,0)","v":4600},{"$f":"ROUND([3]ResourceLevelConfig!$G133*H$4,0)","v":228},{"$f":"ROUND([3]ResourceLevelConfig!$H133*H$4,0)","v":228},629]
[130,{"$f":"ROUND([3]ResourceLevelConfig!$E134*H$4,0)","v":460},{"$f":"ROUND([3]ResourceLevelConfig!$C134*H$4,0)","v":4622},{"$f":"ROUND([3]ResourceLevelConfig!$G134*H$4,0)","v":229},{"$f":"ROUND([3]ResourceLevelConfig!$H134*H$4,0)","v":229},630]
[131,{"$f":"ROUND([3]ResourceLevelConfig!$E135*H$4,0)","v":460},{"$f":"ROUND([3]ResourceLevelConfig!$C135*H$4,0)","v":4646},{"$f":"ROUND([3]ResourceLevelConfig!$G135*H$4,0)","v":230},{"$f":"ROUND([3]ResourceLevelConfig!$H135*H$4,0)","v":230},631]
[132,{"$f":"ROUND([3]ResourceLevelConfig!$E136*H$4,0)","v":460},{"$f":"ROUND([3]ResourceLevelConfig!$C136*H$4,0)","v":4668},{"$f":"ROUND([3]ResourceLevelConfig!$G136*H$4,0)","v":231},{"$f":"ROUND([3]ResourceLevelConfig!$H136*H$4,0)","v":231},632]
[133,{"$f":"ROUND([3]ResourceLevelConfig!$E137*H$4,0)","v":460},{"$f":"ROUND([3]ResourceLevelConfig!$C137*H$4,0)","v":4692},{"$f":"ROUND([3]ResourceLevelConfig!$G137*H$4,0)","v":232},{"$f":"ROUND([3]ResourceLevelConfig!$H137*H$4,0)","v":232},633]
[134,{"$f":"ROUND([3]ResourceLevelConfig!$E138*H$4,0)","v":480},{"$f":"ROUND([3]ResourceLevelConfig!$C138*H$4,0)","v":4716},{"$f":"ROUND([3]ResourceLevelConfig!$G138*H$4,0)","v":233},{"$f":"ROUND([3]ResourceLevelConfig!$H138*H$4,0)","v":233},634]
[135,{"$f":"ROUND([3]ResourceLevelConfig!$E139*H$4,0)","v":480},{"$f":"ROUND([3]ResourceLevelConfig!$C139*H$4,0)","v":4740},{"$f":"ROUND([3]ResourceLevelConfig!$G139*H$4,0)","v":234},{"$f":"ROUND([3]ResourceLevelConfig!$H139*H$4,0)","v":234},635]
[136,{"$f":"ROUND([3]ResourceLevelConfig!$E140*H$4,0)","v":480},{"$f":"ROUND([3]ResourceLevelConfig!$C140*H$4,0)","v":4762},{"$f":"ROUND([3]ResourceLevelConfig!$G140*H$4,0)","v":235},{"$f":"ROUND([3]ResourceLevelConfig!$H140*H$4,0)","v":235},636]
[137,{"$f":"ROUND([3]ResourceLevelConfig!$E141*H$4,0)","v":480},{"$f":"ROUND([3]ResourceLevelConfig!$C141*H$4,0)","v":4786},{"$f":"ROUND([3]ResourceLevelConfig!$G141*H$4,0)","v":236},{"$f":"ROUND([3]ResourceLevelConfig!$H141*H$4,0)","v":236},637]
[138,{"$f":"ROUND([3]ResourceLevelConfig!$E142*H$4,0)","v":480},{"$f":"ROUND([3]ResourceLevelConfig!$C142*H$4,0)","v":4810},{"$f":"ROUND([3]ResourceLevelConfig!$G142*H$4,0)","v":237},{"$f":"ROUND([3]ResourceLevelConfig!$H142*H$4,0)","v":237},638]
[139,{"$f":"ROUND([3]ResourceLevelConfig!$E143*H$4,0)","v":480},{"$f":"ROUND([3]ResourceLevelConfig!$C143*H$4,0)","v":4834},{"$f":"ROUND([3]ResourceLevelConfig!$G143*H$4,0)","v":238},{"$f":"ROUND([3]ResourceLevelConfig!$H143*H$4,0)","v":238},639]
[140,{"$f":"ROUND([3]ResourceLevelConfig!$E144*H$4,0)","v":480},{"$f":"ROUND([3]ResourceLevelConfig!$C144*H$4,0)","v":4858},{"$f":"ROUND([3]ResourceLevelConfig!$G144*H$4,0)","v":239},{"$f":"ROUND([3]ResourceLevelConfig!$H144*H$4,0)","v":239},640]
[141,{"$f":"ROUND([3]ResourceLevelConfig!$E145*H$4,0)","v":480},{"$f":"ROUND([3]ResourceLevelConfig!$C145*H$4,0)","v":4884},{"$f":"ROUND([3]ResourceLevelConfig!$G145*H$4,0)","v":240},{"$f":"ROUND([3]ResourceLevelConfig!$H145*H$4,0)","v":240},641]
[142,{"$f":"ROUND([3]ResourceLevelConfig!$E146*H$4,0)","v":500},{"$f":"ROUND([3]ResourceLevelConfig!$C146*H$4,0)","v":4908},{"$f":"ROUND([3]ResourceLevelConfig!$G146*H$4,0)","v":241},{"$f":"ROUND([3]ResourceLevelConfig!$H146*H$4,0)","v":241},642]
[143,{"$f":"ROUND([3]ResourceLevelConfig!$E147*H$4,0)","v":500},{"$f":"ROUND([3]ResourceLevelConfig!$C147*H$4,0)","v":4932},{"$f":"ROUND([3]ResourceLevelConfig!$G147*H$4,0)","v":242},{"$f":"ROUND([3]ResourceLevelConfig!$H147*H$4,0)","v":242},643]
[144,{"$f":"ROUND([3]ResourceLevelConfig!$E148*H$4,0)","v":500},{"$f":"ROUND([3]ResourceLevelConfig!$C148*H$4,0)","v":4956},{"$f":"ROUND([3]ResourceLevelConfig!$G148*H$4,0)","v":243},{"$f":"ROUND([3]ResourceLevelConfig!$H148*H$4,0)","v":243},644]
[145,{"$f":"ROUND([3]ResourceLevelConfig!$E149*H$4,0)","v":500},{"$f":"ROUND([3]ResourceLevelConfig!$C149*H$4,0)","v":4982},{"$f":"ROUND([3]ResourceLevelConfig!$G149*H$4,0)","v":244},{"$f":"ROUND([3]ResourceLevelConfig!$H149*H$4,0)","v":244},645]
[146,{"$f":"ROUND([3]ResourceLevelConfig!$E150*H$4,0)","v":500},{"$f":"ROUND([3]ResourceLevelConfig!$C150*H$4,0)","v":5006},{"$f":"ROUND([3]ResourceLevelConfig!$G150*H$4,0)","v":245},{"$f":"ROUND([3]ResourceLevelConfig!$H150*H$4,0)","v":245},646]
[147,{"$f":"ROUND([3]ResourceLevelConfig!$E151*H$4,0)","v":500},{"$f":"ROUND([3]ResourceLevelConfig!$C151*H$4,0)","v":5032},{"$f":"ROUND([3]ResourceLevelConfig!$G151*H$4,0)","v":246},{"$f":"ROUND([3]ResourceLevelConfig!$H151*H$4,0)","v":246},647]
[148,{"$f":"ROUND([3]ResourceLevelConfig!$E152*H$4,0)","v":500},{"$f":"ROUND([3]ResourceLevelConfig!$C152*H$4,0)","v":5056},{"$f":"ROUND([3]ResourceLevelConfig!$G152*H$4,0)","v":247},{"$f":"ROUND([3]ResourceLevelConfig!$H152*H$4,0)","v":247},648]
[149,{"$f":"ROUND([3]ResourceLevelConfig!$E153*H$4,0)","v":500},{"$f":"ROUND([3]ResourceLevelConfig!$C153*H$4,0)","v":5082},{"$f":"ROUND([3]ResourceLevelConfig!$G153*H$4,0)","v":248},{"$f":"ROUND([3]ResourceLevelConfig!$H153*H$4,0)","v":248},649]
[150,{"$f":"ROUND([3]ResourceLevelConfig!$E154*H$4,0)","v":520},{"$f":"ROUND([3]ResourceLevelConfig!$C154*H$4,0)","v":5108},{"$f":"ROUND([3]ResourceLevelConfig!$G154*H$4,0)","v":249},{"$f":"ROUND([3]ResourceLevelConfig!$H154*H$4,0)","v":249},650]
[151,{"$f":"ROUND([3]ResourceLevelConfig!$E155*H$4,0)","v":520},{"$f":"ROUND([3]ResourceLevelConfig!$C155*H$4,0)","v":5132},{"$f":"ROUND([3]ResourceLevelConfig!$G155*H$4,0)","v":250},{"$f":"ROUND([3]ResourceLevelConfig!$H155*H$4,0)","v":250},651]
[152,{"$f":"ROUND([3]ResourceLevelConfig!$E156*H$4,0)","v":520},{"$f":"ROUND([3]ResourceLevelConfig!$C156*H$4,0)","v":5158},{"$f":"ROUND([3]ResourceLevelConfig!$G156*H$4,0)","v":251},{"$f":"ROUND([3]ResourceLevelConfig!$H156*H$4,0)","v":251},652]
[153,{"$f":"ROUND([3]ResourceLevelConfig!$E157*H$4,0)","v":520},{"$f":"ROUND([3]ResourceLevelConfig!$C157*H$4,0)","v":5184},{"$f":"ROUND([3]ResourceLevelConfig!$G157*H$4,0)","v":252},{"$f":"ROUND([3]ResourceLevelConfig!$H157*H$4,0)","v":252},653]
[154,{"$f":"ROUND([3]ResourceLevelConfig!$E158*H$4,0)","v":520},{"$f":"ROUND([3]ResourceLevelConfig!$C158*H$4,0)","v":5210},{"$f":"ROUND([3]ResourceLevelConfig!$G158*H$4,0)","v":253},{"$f":"ROUND([3]ResourceLevelConfig!$H158*H$4,0)","v":253},654]
[155,{"$f":"ROUND([3]ResourceLevelConfig!$E159*H$4,0)","v":520},{"$f":"ROUND([3]ResourceLevelConfig!$C159*H$4,0)","v":5236},{"$f":"ROUND([3]ResourceLevelConfig!$G159*H$4,0)","v":254},{"$f":"ROUND([3]ResourceLevelConfig!$H159*H$4,0)","v":254},655]
[156,{"$f":"ROUND([3]ResourceLevelConfig!$E160*H$4,0)","v":520},{"$f":"ROUND([3]ResourceLevelConfig!$C160*H$4,0)","v":5262},{"$f":"ROUND([3]ResourceLevelConfig!$G160*H$4,0)","v":255},{"$f":"ROUND([3]ResourceLevelConfig!$H160*H$4,0)","v":255},656]
[157,{"$f":"ROUND([3]ResourceLevelConfig!$E161*H$4,0)","v":520},{"$f":"ROUND([3]ResourceLevelConfig!$C161*H$4,0)","v":5288},{"$f":"ROUND([3]ResourceLevelConfig!$G161*H$4,0)","v":256},{"$f":"ROUND([3]ResourceLevelConfig!$H161*H$4,0)","v":256},657]
[158,{"$f":"ROUND([3]ResourceLevelConfig!$E162*H$4,0)","v":540},{"$f":"ROUND([3]ResourceLevelConfig!$C162*H$4,0)","v":5316},{"$f":"ROUND([3]ResourceLevelConfig!$G162*H$4,0)","v":257},{"$f":"ROUND([3]ResourceLevelConfig!$H162*H$4,0)","v":257},658]
[159,{"$f":"ROUND([3]ResourceLevelConfig!$E163*H$4,0)","v":540},{"$f":"ROUND([3]ResourceLevelConfig!$C163*H$4,0)","v":5342},{"$f":"ROUND([3]ResourceLevelConfig!$G163*H$4,0)","v":258},{"$f":"ROUND([3]ResourceLevelConfig!$H163*H$4,0)","v":258},659]
[160,{"$f":"ROUND([3]ResourceLevelConfig!$E164*H$4,0)","v":540},{"$f":"ROUND([3]ResourceLevelConfig!$C164*H$4,0)","v":5368},{"$f":"ROUND([3]ResourceLevelConfig!$G164*H$4,0)","v":259},{"$f":"ROUND([3]ResourceLevelConfig!$H164*H$4,0)","v":259},660]
[161,{"$f":"ROUND([3]ResourceLevelConfig!$E165*H$4,0)","v":540},{"$f":"ROUND([3]ResourceLevelConfig!$C165*H$4,0)","v":5396},{"$f":"ROUND([3]ResourceLevelConfig!$G165*H$4,0)","v":260},{"$f":"ROUND([3]ResourceLevelConfig!$H165*H$4,0)","v":260},661]
[162,{"$f":"ROUND([3]ResourceLevelConfig!$E166*H$4,0)","v":540},{"$f":"ROUND([3]ResourceLevelConfig!$C166*H$4,0)","v":5422},{"$f":"ROUND([3]ResourceLevelConfig!$G166*H$4,0)","v":261},{"$f":"ROUND([3]ResourceLevelConfig!$H166*H$4,0)","v":261},662]
[163,{"$f":"ROUND([3]ResourceLevelConfig!$E167*H$4,0)","v":540},{"$f":"ROUND([3]ResourceLevelConfig!$C167*H$4,0)","v":5450},{"$f":"ROUND([3]ResourceLevelConfig!$G167*H$4,0)","v":262},{"$f":"ROUND([3]ResourceLevelConfig!$H167*H$4,0)","v":262},663]
[164,{"$f":"ROUND([3]ResourceLevelConfig!$E168*H$4,0)","v":540},{"$f":"ROUND([3]ResourceLevelConfig!$C168*H$4,0)","v":5476},{"$f":"ROUND([3]ResourceLevelConfig!$G168*H$4,0)","v":263},{"$f":"ROUND([3]ResourceLevelConfig!$H168*H$4,0)","v":263},664]
[165,{"$f":"ROUND([3]ResourceLevelConfig!$E169*H$4,0)","v":560},{"$f":"ROUND([3]ResourceLevelConfig!$C169*H$4,0)","v":5504},{"$f":"ROUND([3]ResourceLevelConfig!$G169*H$4,0)","v":264},{"$f":"ROUND([3]ResourceLevelConfig!$H169*H$4,0)","v":264},665]
[166,{"$f":"ROUND([3]ResourceLevelConfig!$E170*H$4,0)","v":560},{"$f":"ROUND([3]ResourceLevelConfig!$C170*H$4,0)","v":5532},{"$f":"ROUND([3]ResourceLevelConfig!$G170*H$4,0)","v":265},{"$f":"ROUND([3]ResourceLevelConfig!$H170*H$4,0)","v":265},666]
[167,{"$f":"ROUND([3]ResourceLevelConfig!$E171*H$4,0)","v":560},{"$f":"ROUND([3]ResourceLevelConfig!$C171*H$4,0)","v":5560},{"$f":"ROUND([3]ResourceLevelConfig!$G171*H$4,0)","v":266},{"$f":"ROUND([3]ResourceLevelConfig!$H171*H$4,0)","v":266},667]
[168,{"$f":"ROUND([3]ResourceLevelConfig!$E172*H$4,0)","v":560},{"$f":"ROUND([3]ResourceLevelConfig!$C172*H$4,0)","v":5588},{"$f":"ROUND([3]ResourceLevelConfig!$G172*H$4,0)","v":267},{"$f":"ROUND([3]ResourceLevelConfig!$H172*H$4,0)","v":267},668]
[169,{"$f":"ROUND([3]ResourceLevelConfig!$E173*H$4,0)","v":560},{"$f":"ROUND([3]ResourceLevelConfig!$C173*H$4,0)","v":5616},{"$f":"ROUND([3]ResourceLevelConfig!$G173*H$4,0)","v":268},{"$f":"ROUND([3]ResourceLevelConfig!$H173*H$4,0)","v":268},669]
[170,{"$f":"ROUND([3]ResourceLevelConfig!$E174*H$4,0)","v":560},{"$f":"ROUND([3]ResourceLevelConfig!$C174*H$4,0)","v":5644},{"$f":"ROUND([3]ResourceLevelConfig!$G174*H$4,0)","v":269},{"$f":"ROUND([3]ResourceLevelConfig!$H174*H$4,0)","v":269},670]
[171,{"$f":"ROUND([3]ResourceLevelConfig!$E175*H$4,0)","v":560},{"$f":"ROUND([3]ResourceLevelConfig!$C175*H$4,0)","v":5672},{"$f":"ROUND([3]ResourceLevelConfig!$G175*H$4,0)","v":270},{"$f":"ROUND([3]ResourceLevelConfig!$H175*H$4,0)","v":270},671]
[172,{"$f":"ROUND([3]ResourceLevelConfig!$E176*H$4,0)","v":560},{"$f":"ROUND([3]ResourceLevelConfig!$C176*H$4,0)","v":5700},{"$f":"ROUND([3]ResourceLevelConfig!$G176*H$4,0)","v":271},{"$f":"ROUND([3]ResourceLevelConfig!$H176*H$4,0)","v":271},672]
[173,{"$f":"ROUND([3]ResourceLevelConfig!$E177*H$4,0)","v":580},{"$f":"ROUND([3]ResourceLevelConfig!$C177*H$4,0)","v":5728},{"$f":"ROUND([3]ResourceLevelConfig!$G177*H$4,0)","v":272},{"$f":"ROUND([3]ResourceLevelConfig!$H177*H$4,0)","v":272},673]
[174,{"$f":"ROUND([3]ResourceLevelConfig!$E178*H$4,0)","v":580},{"$f":"ROUND([3]ResourceLevelConfig!$C178*H$4,0)","v":5756},{"$f":"ROUND([3]ResourceLevelConfig!$G178*H$4,0)","v":273},{"$f":"ROUND([3]ResourceLevelConfig!$H178*H$4,0)","v":273},674]
[175,{"$f":"ROUND([3]ResourceLevelConfig!$E179*H$4,0)","v":580},{"$f":"ROUND([3]ResourceLevelConfig!$C179*H$4,0)","v":5786},{"$f":"ROUND([3]ResourceLevelConfig!$G179*H$4,0)","v":274},{"$f":"ROUND([3]ResourceLevelConfig!$H179*H$4,0)","v":274},675]
[176,{"$f":"ROUND([3]ResourceLevelConfig!$E180*H$4,0)","v":580},{"$f":"ROUND([3]ResourceLevelConfig!$C180*H$4,0)","v":5814},{"$f":"ROUND([3]ResourceLevelConfig!$G180*H$4,0)","v":275},{"$f":"ROUND([3]ResourceLevelConfig!$H180*H$4,0)","v":275},676]
[177,{"$f":"ROUND([3]ResourceLevelConfig!$E181*H$4,0)","v":580},{"$f":"ROUND([3]ResourceLevelConfig!$C181*H$4,0)","v":5844},{"$f":"ROUND([3]ResourceLevelConfig!$G181*H$4,0)","v":276},{"$f":"ROUND([3]ResourceLevelConfig!$H181*H$4,0)","v":276},677]
[178,{"$f":"ROUND([3]ResourceLevelConfig!$E182*H$4,0)","v":580},{"$f":"ROUND([3]ResourceLevelConfig!$C182*H$4,0)","v":5872},{"$f":"ROUND([3]ResourceLevelConfig!$G182*H$4,0)","v":277},{"$f":"ROUND([3]ResourceLevelConfig!$H182*H$4,0)","v":277},678]
[179,{"$f":"ROUND([3]ResourceLevelConfig!$E183*H$4,0)","v":600},{"$f":"ROUND([3]ResourceLevelConfig!$C183*H$4,0)","v":5902},{"$f":"ROUND([3]ResourceLevelConfig!$G183*H$4,0)","v":278},{"$f":"ROUND([3]ResourceLevelConfig!$H183*H$4,0)","v":278},679]
[180,{"$f":"ROUND([3]ResourceLevelConfig!$E184*H$4,0)","v":600},{"$f":"ROUND([3]ResourceLevelConfig!$C184*H$4,0)","v":5932},{"$f":"ROUND([3]ResourceLevelConfig!$G184*H$4,0)","v":279},{"$f":"ROUND([3]ResourceLevelConfig!$H184*H$4,0)","v":279},680]
[181,{"$f":"ROUND([3]ResourceLevelConfig!$E185*H$4,0)","v":600},{"$f":"ROUND([3]ResourceLevelConfig!$C185*H$4,0)","v":5962},{"$f":"ROUND([3]ResourceLevelConfig!$G185*H$4,0)","v":280},{"$f":"ROUND([3]ResourceLevelConfig!$H185*H$4,0)","v":280},681]
[182,{"$f":"ROUND([3]ResourceLevelConfig!$E186*H$4,0)","v":600},{"$f":"ROUND([3]ResourceLevelConfig!$C186*H$4,0)","v":5992},{"$f":"ROUND([3]ResourceLevelConfig!$G186*H$4,0)","v":281},{"$f":"ROUND([3]ResourceLevelConfig!$H186*H$4,0)","v":281},682]
[183,{"$f":"ROUND([3]ResourceLevelConfig!$E187*H$4,0)","v":600},{"$f":"ROUND([3]ResourceLevelConfig!$C187*H$4,0)","v":6022},{"$f":"ROUND([3]ResourceLevelConfig!$G187*H$4,0)","v":282},{"$f":"ROUND([3]ResourceLevelConfig!$H187*H$4,0)","v":282},683]
[184,{"$f":"ROUND([3]ResourceLevelConfig!$E188*H$4,0)","v":600},{"$f":"ROUND([3]ResourceLevelConfig!$C188*H$4,0)","v":6052},{"$f":"ROUND([3]ResourceLevelConfig!$G188*H$4,0)","v":283},{"$f":"ROUND([3]ResourceLevelConfig!$H188*H$4,0)","v":283},684]
[185,{"$f":"ROUND([3]ResourceLevelConfig!$E189*H$4,0)","v":600},{"$f":"ROUND([3]ResourceLevelConfig!$C189*H$4,0)","v":6082},{"$f":"ROUND([3]ResourceLevelConfig!$G189*H$4,0)","v":284},{"$f":"ROUND([3]ResourceLevelConfig!$H189*H$4,0)","v":284},685]
[186,{"$f":"ROUND([3]ResourceLevelConfig!$E190*H$4,0)","v":620},{"$f":"ROUND([3]ResourceLevelConfig!$C190*H$4,0)","v":6112},{"$f":"ROUND([3]ResourceLevelConfig!$G190*H$4,0)","v":285},{"$f":"ROUND([3]ResourceLevelConfig!$H190*H$4,0)","v":285},686]
[187,{"$f":"ROUND([3]ResourceLevelConfig!$E191*H$4,0)","v":620},{"$f":"ROUND([3]ResourceLevelConfig!$C191*H$4,0)","v":6142},{"$f":"ROUND([3]ResourceLevelConfig!$G191*H$4,0)","v":286},{"$f":"ROUND([3]ResourceLevelConfig!$H191*H$4,0)","v":286},687]
[188,{"$f":"ROUND([3]ResourceLevelConfig!$E192*H$4,0)","v":620},{"$f":"ROUND([3]ResourceLevelConfig!$C192*H$4,0)","v":6174},{"$f":"ROUND([3]ResourceLevelConfig!$G192*H$4,0)","v":287},{"$f":"ROUND([3]ResourceLevelConfig!$H192*H$4,0)","v":287},688]
[189,{"$f":"ROUND([3]ResourceLevelConfig!$E193*H$4,0)","v":620},{"$f":"ROUND([3]ResourceLevelConfig!$C193*H$4,0)","v":6204},{"$f":"ROUND([3]ResourceLevelConfig!$G193*H$4,0)","v":288},{"$f":"ROUND([3]ResourceLevelConfig!$H193*H$4,0)","v":288},689]
[190,{"$f":"ROUND([3]ResourceLevelConfig!$E194*H$4,0)","v":620},{"$f":"ROUND([3]ResourceLevelConfig!$C194*H$4,0)","v":6236},{"$f":"ROUND([3]ResourceLevelConfig!$G194*H$4,0)","v":289},{"$f":"ROUND([3]ResourceLevelConfig!$H194*H$4,0)","v":289},690]
[191,{"$f":"ROUND([3]ResourceLevelConfig!$E195*H$4,0)","v":620},{"$f":"ROUND([3]ResourceLevelConfig!$C195*H$4,0)","v":6266},{"$f":"ROUND([3]ResourceLevelConfig!$G195*H$4,0)","v":290},{"$f":"ROUND([3]ResourceLevelConfig!$H195*H$4,0)","v":290},691]
[192,{"$f":"ROUND([3]ResourceLevelConfig!$E196*H$4,0)","v":620},{"$f":"ROUND([3]ResourceLevelConfig!$C196*H$4,0)","v":6298},{"$f":"ROUND([3]ResourceLevelConfig!$G196*H$4,0)","v":291},{"$f":"ROUND([3]ResourceLevelConfig!$H196*H$4,0)","v":291},692]
[193,{"$f":"ROUND([3]ResourceLevelConfig!$E197*H$4,0)","v":640},{"$f":"ROUND([3]ResourceLevelConfig!$C197*H$4,0)","v":6330},{"$f":"ROUND([3]ResourceLevelConfig!$G197*H$4,0)","v":292},{"$f":"ROUND([3]ResourceLevelConfig!$H197*H$4,0)","v":292},693]
[194,{"$f":"ROUND([3]ResourceLevelConfig!$E198*H$4,0)","v":640},{"$f":"ROUND([3]ResourceLevelConfig!$C198*H$4,0)","v":6360},{"$f":"ROUND([3]ResourceLevelConfig!$G198*H$4,0)","v":293},{"$f":"ROUND([3]ResourceLevelConfig!$H198*H$4,0)","v":293},694]
[195,{"$f":"ROUND([3]ResourceLevelConfig!$E199*H$4,0)","v":640},{"$f":"ROUND([3]ResourceLevelConfig!$C199*H$4,0)","v":6392},{"$f":"ROUND([3]ResourceLevelConfig!$G199*H$4,0)","v":294},{"$f":"ROUND([3]ResourceLevelConfig!$H199*H$4,0)","v":294},695]
[196,{"$f":"ROUND([3]ResourceLevelConfig!$E200*H$4,0)","v":640},{"$f":"ROUND([3]ResourceLevelConfig!$C200*H$4,0)","v":6424},{"$f":"ROUND([3]ResourceLevelConfig!$G200*H$4,0)","v":295},{"$f":"ROUND([3]ResourceLevelConfig!$H200*H$4,0)","v":295},696]
[197,{"$f":"ROUND([3]ResourceLevelConfig!$E201*H$4,0)","v":640},{"$f":"ROUND([3]ResourceLevelConfig!$C201*H$4,0)","v":6456},{"$f":"ROUND([3]ResourceLevelConfig!$G201*H$4,0)","v":296},{"$f":"ROUND([3]ResourceLevelConfig!$H201*H$4,0)","v":296},697]
[198,{"$f":"ROUND([3]ResourceLevelConfig!$E202*H$4,0)","v":640},{"$f":"ROUND([3]ResourceLevelConfig!$C202*H$4,0)","v":6488},{"$f":"ROUND([3]ResourceLevelConfig!$G202*H$4,0)","v":297},{"$f":"ROUND([3]ResourceLevelConfig!$H202*H$4,0)","v":297},698]
[199,{"$f":"ROUND([3]ResourceLevelConfig!$E203*H$4,0)","v":660},{"$f":"ROUND([3]ResourceLevelConfig!$C203*H$4,0)","v":6522},{"$f":"ROUND([3]ResourceLevelConfig!$G203*H$4,0)","v":298},{"$f":"ROUND([3]ResourceLevelConfig!$H203*H$4,0)","v":298},699]
[200,{"$f":"ROUND([3]ResourceLevelConfig!$E204*H$4,0)","v":660},{"$f":"ROUND([3]ResourceLevelConfig!$C204*H$4,0)","v":6554},{"$f":"ROUND([3]ResourceLevelConfig!$G204*H$4,0)","v":299},{"$f":"ROUND([3]ResourceLevelConfig!$H204*H$4,0)","v":299},700]
[201,{"$f":"ROUND([3]ResourceLevelConfig!$E205*H$4,0)","v":660},{"$f":"ROUND([3]ResourceLevelConfig!$C205*H$4,0)","v":6586},{"$f":"ROUND([3]ResourceLevelConfig!$G205*H$4,0)","v":300},{"$f":"ROUND([3]ResourceLevelConfig!$H205*H$4,0)","v":300},701]
[202,{"$f":"ROUND([3]ResourceLevelConfig!$E206*H$4,0)","v":660},{"$f":"ROUND([3]ResourceLevelConfig!$C206*H$4,0)","v":6620},{"$f":"ROUND([3]ResourceLevelConfig!$G206*H$4,0)","v":301},{"$f":"ROUND([3]ResourceLevelConfig!$H206*H$4,0)","v":301},702]
[203,{"$f":"ROUND([3]ResourceLevelConfig!$E207*H$4,0)","v":660},{"$f":"ROUND([3]ResourceLevelConfig!$C207*H$4,0)","v":6652},{"$f":"ROUND([3]ResourceLevelConfig!$G207*H$4,0)","v":302},{"$f":"ROUND([3]ResourceLevelConfig!$H207*H$4,0)","v":302},703]
[204,{"$f":"ROUND([3]ResourceLevelConfig!$E208*H$4,0)","v":660},{"$f":"ROUND([3]ResourceLevelConfig!$C208*H$4,0)","v":6686},{"$f":"ROUND([3]ResourceLevelConfig!$G208*H$4,0)","v":303},{"$f":"ROUND([3]ResourceLevelConfig!$H208*H$4,0)","v":303},704]
[205,{"$f":"ROUND([3]ResourceLevelConfig!$E209*H$4,0)","v":680},{"$f":"ROUND([3]ResourceLevelConfig!$C209*H$4,0)","v":6720},{"$f":"ROUND([3]ResourceLevelConfig!$G209*H$4,0)","v":304},{"$f":"ROUND([3]ResourceLevelConfig!$H209*H$4,0)","v":304},705]
[206,{"$f":"ROUND([3]ResourceLevelConfig!$E210*H$4,0)","v":680},{"$f":"ROUND([3]ResourceLevelConfig!$C210*H$4,0)","v":6752},{"$f":"ROUND([3]ResourceLevelConfig!$G210*H$4,0)","v":305},{"$f":"ROUND([3]ResourceLevelConfig!$H210*H$4,0)","v":305},706]
[207,{"$f":"ROUND([3]ResourceLevelConfig!$E211*H$4,0)","v":680},{"$f":"ROUND([3]ResourceLevelConfig!$C211*H$4,0)","v":6786},{"$f":"ROUND([3]ResourceLevelConfig!$G211*H$4,0)","v":306},{"$f":"ROUND([3]ResourceLevelConfig!$H211*H$4,0)","v":306},707]
[208,{"$f":"ROUND([3]ResourceLevelConfig!$E212*H$4,0)","v":680},{"$f":"ROUND([3]ResourceLevelConfig!$C212*H$4,0)","v":6820},{"$f":"ROUND([3]ResourceLevelConfig!$G212*H$4,0)","v":307},{"$f":"ROUND([3]ResourceLevelConfig!$H212*H$4,0)","v":307},708]
[209,{"$f":"ROUND([3]ResourceLevelConfig!$E213*H$4,0)","v":680},{"$f":"ROUND([3]ResourceLevelConfig!$C213*H$4,0)","v":6854},{"$f":"ROUND([3]ResourceLevelConfig!$G213*H$4,0)","v":308},{"$f":"ROUND([3]ResourceLevelConfig!$H213*H$4,0)","v":308},709]
[210,{"$f":"ROUND([3]ResourceLevelConfig!$E214*H$4,0)","v":680},{"$f":"ROUND([3]ResourceLevelConfig!$C214*H$4,0)","v":6890},{"$f":"ROUND([3]ResourceLevelConfig!$G214*H$4,0)","v":309},{"$f":"ROUND([3]ResourceLevelConfig!$H214*H$4,0)","v":309},710]
[211,{"$f":"ROUND([3]ResourceLevelConfig!$E215*H$4,0)","v":700},{"$f":"ROUND([3]ResourceLevelConfig!$C215*H$4,0)","v":6924},{"$f":"ROUND([3]ResourceLevelConfig!$G215*H$4,0)","v":310},{"$f":"ROUND([3]ResourceLevelConfig!$H215*H$4,0)","v":310},711]
[212,{"$f":"ROUND([3]ResourceLevelConfig!$E216*H$4,0)","v":700},{"$f":"ROUND([3]ResourceLevelConfig!$C216*H$4,0)","v":6958},{"$f":"ROUND([3]ResourceLevelConfig!$G216*H$4,0)","v":311},{"$f":"ROUND([3]ResourceLevelConfig!$H216*H$4,0)","v":311},712]
[213,{"$f":"ROUND([3]ResourceLevelConfig!$E217*H$4,0)","v":700},{"$f":"ROUND([3]ResourceLevelConfig!$C217*H$4,0)","v":6992},{"$f":"ROUND([3]ResourceLevelConfig!$G217*H$4,0)","v":312},{"$f":"ROUND([3]ResourceLevelConfig!$H217*H$4,0)","v":312},713]
[214,{"$f":"ROUND([3]ResourceLevelConfig!$E218*H$4,0)","v":700},{"$f":"ROUND([3]ResourceLevelConfig!$C218*H$4,0)","v":7028},{"$f":"ROUND([3]ResourceLevelConfig!$G218*H$4,0)","v":313},{"$f":"ROUND([3]ResourceLevelConfig!$H218*H$4,0)","v":313},714]
[215,{"$f":"ROUND([3]ResourceLevelConfig!$E219*H$4,0)","v":700},{"$f":"ROUND([3]ResourceLevelConfig!$C219*H$4,0)","v":7064},{"$f":"ROUND([3]ResourceLevelConfig!$G219*H$4,0)","v":314},{"$f":"ROUND([3]ResourceLevelConfig!$H219*H$4,0)","v":314},715]
[216,{"$f":"ROUND([3]ResourceLevelConfig!$E220*H$4,0)","v":700},{"$f":"ROUND([3]ResourceLevelConfig!$C220*H$4,0)","v":7098},{"$f":"ROUND([3]ResourceLevelConfig!$G220*H$4,0)","v":315},{"$f":"ROUND([3]ResourceLevelConfig!$H220*H$4,0)","v":315},716]
[217,{"$f":"ROUND([3]ResourceLevelConfig!$E221*H$4,0)","v":720},{"$f":"ROUND([3]ResourceLevelConfig!$C221*H$4,0)","v":7134},{"$f":"ROUND([3]ResourceLevelConfig!$G221*H$4,0)","v":316},{"$f":"ROUND([3]ResourceLevelConfig!$H221*H$4,0)","v":316},717]
[218,{"$f":"ROUND([3]ResourceLevelConfig!$E222*H$4,0)","v":720},{"$f":"ROUND([3]ResourceLevelConfig!$C222*H$4,0)","v":7170},{"$f":"ROUND([3]ResourceLevelConfig!$G222*H$4,0)","v":317},{"$f":"ROUND([3]ResourceLevelConfig!$H222*H$4,0)","v":317},718]
[219,{"$f":"ROUND([3]ResourceLevelConfig!$E223*H$4,0)","v":720},{"$f":"ROUND([3]ResourceLevelConfig!$C223*H$4,0)","v":7206},{"$f":"ROUND([3]ResourceLevelConfig!$G223*H$4,0)","v":318},{"$f":"ROUND([3]ResourceLevelConfig!$H223*H$4,0)","v":318},719]
[220,{"$f":"ROUND([3]ResourceLevelConfig!$E224*H$4,0)","v":720},{"$f":"ROUND([3]ResourceLevelConfig!$C224*H$4,0)","v":7242},{"$f":"ROUND([3]ResourceLevelConfig!$G224*H$4,0)","v":319},{"$f":"ROUND([3]ResourceLevelConfig!$H224*H$4,0)","v":319},720]
[221,{"$f":"ROUND([3]ResourceLevelConfig!$E225*H$4,0)","v":720},{"$f":"ROUND([3]ResourceLevelConfig!$C225*H$4,0)","v":7278},{"$f":"ROUND([3]ResourceLevelConfig!$G225*H$4,0)","v":320},{"$f":"ROUND([3]ResourceLevelConfig!$H225*H$4,0)","v":320},721]
[222,{"$f":"ROUND([3]ResourceLevelConfig!$E226*H$4,0)","v":740},{"$f":"ROUND([3]ResourceLevelConfig!$C226*H$4,0)","v":7314},{"$f":"ROUND([3]ResourceLevelConfig!$G226*H$4,0)","v":321},{"$f":"ROUND([3]ResourceLevelConfig!$H226*H$4,0)","v":321},722]
[223,{"$f":"ROUND([3]ResourceLevelConfig!$E227*H$4,0)","v":740},{"$f":"ROUND([3]ResourceLevelConfig!$C227*H$4,0)","v":7350},{"$f":"ROUND([3]ResourceLevelConfig!$G227*H$4,0)","v":322},{"$f":"ROUND([3]ResourceLevelConfig!$H227*H$4,0)","v":322},723]
[224,{"$f":"ROUND([3]ResourceLevelConfig!$E228*H$4,0)","v":740},{"$f":"ROUND([3]ResourceLevelConfig!$C228*H$4,0)","v":7388},{"$f":"ROUND([3]ResourceLevelConfig!$G228*H$4,0)","v":323},{"$f":"ROUND([3]ResourceLevelConfig!$H228*H$4,0)","v":323},724]
[225,{"$f":"ROUND([3]ResourceLevelConfig!$E229*H$4,0)","v":740},{"$f":"ROUND([3]ResourceLevelConfig!$C229*H$4,0)","v":7424},{"$f":"ROUND([3]ResourceLevelConfig!$G229*H$4,0)","v":324},{"$f":"ROUND([3]ResourceLevelConfig!$H229*H$4,0)","v":324},725]
[226,{"$f":"ROUND([3]ResourceLevelConfig!$E230*H$4,0)","v":740},{"$f":"ROUND([3]ResourceLevelConfig!$C230*H$4,0)","v":7462},{"$f":"ROUND([3]ResourceLevelConfig!$G230*H$4,0)","v":325},{"$f":"ROUND([3]ResourceLevelConfig!$H230*H$4,0)","v":325},726]
[227,{"$f":"ROUND([3]ResourceLevelConfig!$E231*H$4,0)","v":740},{"$f":"ROUND([3]ResourceLevelConfig!$C231*H$4,0)","v":7498},{"$f":"ROUND([3]ResourceLevelConfig!$G231*H$4,0)","v":326},{"$f":"ROUND([3]ResourceLevelConfig!$H231*H$4,0)","v":326},727]
[228,{"$f":"ROUND([3]ResourceLevelConfig!$E232*H$4,0)","v":760},{"$f":"ROUND([3]ResourceLevelConfig!$C232*H$4,0)","v":7536},{"$f":"ROUND([3]ResourceLevelConfig!$G232*H$4,0)","v":327},{"$f":"ROUND([3]ResourceLevelConfig!$H232*H$4,0)","v":327},728]
[229,{"$f":"ROUND([3]ResourceLevelConfig!$E233*H$4,0)","v":760},{"$f":"ROUND([3]ResourceLevelConfig!$C233*H$4,0)","v":7574},{"$f":"ROUND([3]ResourceLevelConfig!$G233*H$4,0)","v":328},{"$f":"ROUND([3]ResourceLevelConfig!$H233*H$4,0)","v":328},729]
[230,{"$f":"ROUND([3]ResourceLevelConfig!$E234*H$4,0)","v":760},{"$f":"ROUND([3]ResourceLevelConfig!$C234*H$4,0)","v":7612},{"$f":"ROUND([3]ResourceLevelConfig!$G234*H$4,0)","v":329},{"$f":"ROUND([3]ResourceLevelConfig!$H234*H$4,0)","v":329},730]
[231,{"$f":"ROUND([3]ResourceLevelConfig!$E235*H$4,0)","v":760},{"$f":"ROUND([3]ResourceLevelConfig!$C235*H$4,0)","v":7650},{"$f":"ROUND([3]ResourceLevelConfig!$G235*H$4,0)","v":330},{"$f":"ROUND([3]ResourceLevelConfig!$H235*H$4,0)","v":330},731]
[232,{"$f":"ROUND([3]ResourceLevelConfig!$E236*H$4,0)","v":760},{"$f":"ROUND([3]ResourceLevelConfig!$C236*H$4,0)","v":7688},{"$f":"ROUND([3]ResourceLevelConfig!$G236*H$4,0)","v":331},{"$f":"ROUND([3]ResourceLevelConfig!$H236*H$4,0)","v":331},732]
[233,{"$f":"ROUND([3]ResourceLevelConfig!$E237*H$4,0)","v":780},{"$f":"ROUND([3]ResourceLevelConfig!$C237*H$4,0)","v":7726},{"$f":"ROUND([3]ResourceLevelConfig!$G237*H$4,0)","v":332},{"$f":"ROUND([3]ResourceLevelConfig!$H237*H$4,0)","v":332},733]
[234,{"$f":"ROUND([3]ResourceLevelConfig!$E238*H$4,0)","v":780},{"$f":"ROUND([3]ResourceLevelConfig!$C238*H$4,0)","v":7766},{"$f":"ROUND([3]ResourceLevelConfig!$G238*H$4,0)","v":333},{"$f":"ROUND([3]ResourceLevelConfig!$H238*H$4,0)","v":333},734]
[235,{"$f":"ROUND([3]ResourceLevelConfig!$E239*H$4,0)","v":780},{"$f":"ROUND([3]ResourceLevelConfig!$C239*H$4,0)","v":7804},{"$f":"ROUND([3]ResourceLevelConfig!$G239*H$4,0)","v":334},{"$f":"ROUND([3]ResourceLevelConfig!$H239*H$4,0)","v":334},735]
[236,{"$f":"ROUND([3]ResourceLevelConfig!$E240*H$4,0)","v":780},{"$f":"ROUND([3]ResourceLevelConfig!$C240*H$4,0)","v":7842},{"$f":"ROUND([3]ResourceLevelConfig!$G240*H$4,0)","v":335},{"$f":"ROUND([3]ResourceLevelConfig!$H240*H$4,0)","v":335},736]
[237,{"$f":"ROUND([3]ResourceLevelConfig!$E241*H$4,0)","v":780},{"$f":"ROUND([3]ResourceLevelConfig!$C241*H$4,0)","v":7882},{"$f":"ROUND([3]ResourceLevelConfig!$G241*H$4,0)","v":336},{"$f":"ROUND([3]ResourceLevelConfig!$H241*H$4,0)","v":336},737]
[238,{"$f":"ROUND([3]ResourceLevelConfig!$E242*H$4,0)","v":800},{"$f":"ROUND([3]ResourceLevelConfig!$C242*H$4,0)","v":7922},{"$f":"ROUND([3]ResourceLevelConfig!$G242*H$4,0)","v":337},{"$f":"ROUND([3]ResourceLevelConfig!$H242*H$4,0)","v":337},738]
[239,{"$f":"ROUND([3]ResourceLevelConfig!$E243*H$4,0)","v":800},{"$f":"ROUND([3]ResourceLevelConfig!$C243*H$4,0)","v":7962},{"$f":"ROUND([3]ResourceLevelConfig!$G243*H$4,0)","v":338},{"$f":"ROUND([3]ResourceLevelConfig!$H243*H$4,0)","v":338},739]
[240,{"$f":"ROUND([3]ResourceLevelConfig!$E244*H$4,0)","v":800},{"$f":"ROUND([3]ResourceLevelConfig!$C244*H$4,0)","v":8000},{"$f":"ROUND([3]ResourceLevelConfig!$G244*H$4,0)","v":339},{"$f":"ROUND([3]ResourceLevelConfig!$H244*H$4,0)","v":339},740]
[241,{"$f":"ROUND([3]ResourceLevelConfig!$E245*H$4,0)","v":800},{"$f":"ROUND([3]ResourceLevelConfig!$C245*H$4,0)","v":8040},{"$f":"ROUND([3]ResourceLevelConfig!$G245*H$4,0)","v":340},{"$f":"ROUND([3]ResourceLevelConfig!$H245*H$4,0)","v":340},741]
[242,{"$f":"ROUND([3]ResourceLevelConfig!$E246*H$4,0)","v":800},{"$f":"ROUND([3]ResourceLevelConfig!$C246*H$4,0)","v":8082},{"$f":"ROUND([3]ResourceLevelConfig!$G246*H$4,0)","v":341},{"$f":"ROUND([3]ResourceLevelConfig!$H246*H$4,0)","v":341},742]
[243,{"$f":"ROUND([3]ResourceLevelConfig!$E247*H$4,0)","v":820},{"$f":"ROUND([3]ResourceLevelConfig!$C247*H$4,0)","v":8122},{"$f":"ROUND([3]ResourceLevelConfig!$G247*H$4,0)","v":342},{"$f":"ROUND([3]ResourceLevelConfig!$H247*H$4,0)","v":342},743]
[244,{"$f":"ROUND([3]ResourceLevelConfig!$E248*H$4,0)","v":820},{"$f":"ROUND([3]ResourceLevelConfig!$C248*H$4,0)","v":8162},{"$f":"ROUND([3]ResourceLevelConfig!$G248*H$4,0)","v":343},{"$f":"ROUND([3]ResourceLevelConfig!$H248*H$4,0)","v":343},744]
[245,{"$f":"ROUND([3]ResourceLevelConfig!$E249*H$4,0)","v":820},{"$f":"ROUND([3]ResourceLevelConfig!$C249*H$4,0)","v":8204},{"$f":"ROUND([3]ResourceLevelConfig!$G249*H$4,0)","v":344},{"$f":"ROUND([3]ResourceLevelConfig!$H249*H$4,0)","v":344},745]
[246,{"$f":"ROUND([3]ResourceLevelConfig!$E250*H$4,0)","v":820},{"$f":"ROUND([3]ResourceLevelConfig!$C250*H$4,0)","v":8244},{"$f":"ROUND([3]ResourceLevelConfig!$G250*H$4,0)","v":345},{"$f":"ROUND([3]ResourceLevelConfig!$H250*H$4,0)","v":345},746]
[247,{"$f":"ROUND([3]ResourceLevelConfig!$E251*H$4,0)","v":820},{"$f":"ROUND([3]ResourceLevelConfig!$C251*H$4,0)","v":8286},{"$f":"ROUND([3]ResourceLevelConfig!$G251*H$4,0)","v":346},{"$f":"ROUND([3]ResourceLevelConfig!$H251*H$4,0)","v":346},747]
[248,{"$f":"ROUND([3]ResourceLevelConfig!$E252*H$4,0)","v":840},{"$f":"ROUND([3]ResourceLevelConfig!$C252*H$4,0)","v":8326},{"$f":"ROUND([3]ResourceLevelConfig!$G252*H$4,0)","v":347},{"$f":"ROUND([3]ResourceLevelConfig!$H252*H$4,0)","v":347},748]
[249,{"$f":"ROUND([3]ResourceLevelConfig!$E253*H$4,0)","v":840},{"$f":"ROUND([3]ResourceLevelConfig!$C253*H$4,0)","v":8368},{"$f":"ROUND([3]ResourceLevelConfig!$G253*H$4,0)","v":348},{"$f":"ROUND([3]ResourceLevelConfig!$H253*H$4,0)","v":348},749]
[250,{"$f":"ROUND([3]ResourceLevelConfig!$E254*H$4,0)","v":840},{"$f":"ROUND([3]ResourceLevelConfig!$C254*H$4,0)","v":8410},{"$f":"ROUND([3]ResourceLevelConfig!$G254*H$4,0)","v":349},{"$f":"ROUND([3]ResourceLevelConfig!$H254*H$4,0)","v":349},750]
[251,{"$f":"ROUND([3]ResourceLevelConfig!$E255*H$4,0)","v":840},{"$f":"ROUND([3]ResourceLevelConfig!$C255*H$4,0)","v":8452},{"$f":"ROUND([3]ResourceLevelConfig!$G255*H$4,0)","v":350},{"$f":"ROUND([3]ResourceLevelConfig!$H255*H$4,0)","v":350},751]
[252,{"$f":"ROUND([3]ResourceLevelConfig!$E256*H$4,0)","v":840},{"$f":"ROUND([3]ResourceLevelConfig!$C256*H$4,0)","v":8494},{"$f":"ROUND([3]ResourceLevelConfig!$G256*H$4,0)","v":351},{"$f":"ROUND([3]ResourceLevelConfig!$H256*H$4,0)","v":351},752]
[253,{"$f":"ROUND([3]ResourceLevelConfig!$E257*H$4,0)","v":860},{"$f":"ROUND([3]ResourceLevelConfig!$C257*H$4,0)","v":8536},{"$f":"ROUND([3]ResourceLevelConfig!$G257*H$4,0)","v":352},{"$f":"ROUND([3]ResourceLevelConfig!$H257*H$4,0)","v":352},753]
[254,{"$f":"ROUND([3]ResourceLevelConfig!$E258*H$4,0)","v":860},{"$f":"ROUND([3]ResourceLevelConfig!$C258*H$4,0)","v":8580},{"$f":"ROUND([3]ResourceLevelConfig!$G258*H$4,0)","v":353},{"$f":"ROUND([3]ResourceLevelConfig!$H258*H$4,0)","v":353},754]
[255,{"$f":"ROUND([3]ResourceLevelConfig!$E259*H$4,0)","v":860},{"$f":"ROUND([3]ResourceLevelConfig!$C259*H$4,0)","v":8622},{"$f":"ROUND([3]ResourceLevelConfig!$G259*H$4,0)","v":354},{"$f":"ROUND([3]ResourceLevelConfig!$H259*H$4,0)","v":354},755]
[256,{"$f":"ROUND([3]ResourceLevelConfig!$E260*H$4,0)","v":860},{"$f":"ROUND([3]ResourceLevelConfig!$C260*H$4,0)","v":8666},{"$f":"ROUND([3]ResourceLevelConfig!$G260*H$4,0)","v":355},{"$f":"ROUND([3]ResourceLevelConfig!$H260*H$4,0)","v":355},756]
[257,{"$f":"ROUND([3]ResourceLevelConfig!$E261*H$4,0)","v":880},{"$f":"ROUND([3]ResourceLevelConfig!$C261*H$4,0)","v":8708},{"$f":"ROUND([3]ResourceLevelConfig!$G261*H$4,0)","v":356},{"$f":"ROUND([3]ResourceLevelConfig!$H261*H$4,0)","v":356},757]
[258,{"$f":"ROUND([3]ResourceLevelConfig!$E262*H$4,0)","v":880},{"$f":"ROUND([3]ResourceLevelConfig!$C262*H$4,0)","v":8752},{"$f":"ROUND([3]ResourceLevelConfig!$G262*H$4,0)","v":357},{"$f":"ROUND([3]ResourceLevelConfig!$H262*H$4,0)","v":357},758]
[259,{"$f":"ROUND([3]ResourceLevelConfig!$E263*H$4,0)","v":880},{"$f":"ROUND([3]ResourceLevelConfig!$C263*H$4,0)","v":8796},{"$f":"ROUND([3]ResourceLevelConfig!$G263*H$4,0)","v":358},{"$f":"ROUND([3]ResourceLevelConfig!$H263*H$4,0)","v":358},759]
[260,{"$f":"ROUND([3]ResourceLevelConfig!$E264*H$4,0)","v":880},{"$f":"ROUND([3]ResourceLevelConfig!$C264*H$4,0)","v":8840},{"$f":"ROUND([3]ResourceLevelConfig!$G264*H$4,0)","v":359},{"$f":"ROUND([3]ResourceLevelConfig!$H264*H$4,0)","v":359},760]
[261,{"$f":"ROUND([3]ResourceLevelConfig!$E265*H$4,0)","v":880},{"$f":"ROUND([3]ResourceLevelConfig!$C265*H$4,0)","v":8884},{"$f":"ROUND([3]ResourceLevelConfig!$G265*H$4,0)","v":360},{"$f":"ROUND([3]ResourceLevelConfig!$H265*H$4,0)","v":360},761]
[262,{"$f":"ROUND([3]ResourceLevelConfig!$E266*H$4,0)","v":900},{"$f":"ROUND([3]ResourceLevelConfig!$C266*H$4,0)","v":8928},{"$f":"ROUND([3]ResourceLevelConfig!$G266*H$4,0)","v":361},{"$f":"ROUND([3]ResourceLevelConfig!$H266*H$4,0)","v":361},762]
[263,{"$f":"ROUND([3]ResourceLevelConfig!$E267*H$4,0)","v":900},{"$f":"ROUND([3]ResourceLevelConfig!$C267*H$4,0)","v":8974},{"$f":"ROUND([3]ResourceLevelConfig!$G267*H$4,0)","v":362},{"$f":"ROUND([3]ResourceLevelConfig!$H267*H$4,0)","v":362},763]
[264,{"$f":"ROUND([3]ResourceLevelConfig!$E268*H$4,0)","v":900},{"$f":"ROUND([3]ResourceLevelConfig!$C268*H$4,0)","v":9018},{"$f":"ROUND([3]ResourceLevelConfig!$G268*H$4,0)","v":363},{"$f":"ROUND([3]ResourceLevelConfig!$H268*H$4,0)","v":363},764]
[265,{"$f":"ROUND([3]ResourceLevelConfig!$E269*H$4,0)","v":900},{"$f":"ROUND([3]ResourceLevelConfig!$C269*H$4,0)","v":9064},{"$f":"ROUND([3]ResourceLevelConfig!$G269*H$4,0)","v":364},{"$f":"ROUND([3]ResourceLevelConfig!$H269*H$4,0)","v":364},765]
[266,{"$f":"ROUND([3]ResourceLevelConfig!$E270*H$4,0)","v":920},{"$f":"ROUND([3]ResourceLevelConfig!$C270*H$4,0)","v":9108},{"$f":"ROUND([3]ResourceLevelConfig!$G270*H$4,0)","v":365},{"$f":"ROUND([3]ResourceLevelConfig!$H270*H$4,0)","v":365},766]
[267,{"$f":"ROUND([3]ResourceLevelConfig!$E271*H$4,0)","v":920},{"$f":"ROUND([3]ResourceLevelConfig!$C271*H$4,0)","v":9154},{"$f":"ROUND([3]ResourceLevelConfig!$G271*H$4,0)","v":366},{"$f":"ROUND([3]ResourceLevelConfig!$H271*H$4,0)","v":366},767]
[268,{"$f":"ROUND([3]ResourceLevelConfig!$E272*H$4,0)","v":920},{"$f":"ROUND([3]ResourceLevelConfig!$C272*H$4,0)","v":9200},{"$f":"ROUND([3]ResourceLevelConfig!$G272*H$4,0)","v":367},{"$f":"ROUND([3]ResourceLevelConfig!$H272*H$4,0)","v":367},768]
[269,{"$f":"ROUND([3]ResourceLevelConfig!$E273*H$4,0)","v":920},{"$f":"ROUND([3]ResourceLevelConfig!$C273*H$4,0)","v":9246},{"$f":"ROUND([3]ResourceLevelConfig!$G273*H$4,0)","v":368},{"$f":"ROUND([3]ResourceLevelConfig!$H273*H$4,0)","v":368},769]
[270,{"$f":"ROUND([3]ResourceLevelConfig!$E274*H$4,0)","v":920},{"$f":"ROUND([3]ResourceLevelConfig!$C274*H$4,0)","v":9292},{"$f":"ROUND([3]ResourceLevelConfig!$G274*H$4,0)","v":369},{"$f":"ROUND([3]ResourceLevelConfig!$H274*H$4,0)","v":369},770]
[271,{"$f":"ROUND([3]ResourceLevelConfig!$E275*H$4,0)","v":940},{"$f":"ROUND([3]ResourceLevelConfig!$C275*H$4,0)","v":9338},{"$f":"ROUND([3]ResourceLevelConfig!$G275*H$4,0)","v":370},{"$f":"ROUND([3]ResourceLevelConfig!$H275*H$4,0)","v":370},771]
[272,{"$f":"ROUND([3]ResourceLevelConfig!$E276*H$4,0)","v":940},{"$f":"ROUND([3]ResourceLevelConfig!$C276*H$4,0)","v":9386},{"$f":"ROUND([3]ResourceLevelConfig!$G276*H$4,0)","v":371},{"$f":"ROUND([3]ResourceLevelConfig!$H276*H$4,0)","v":371},772]
[273,{"$f":"ROUND([3]ResourceLevelConfig!$E277*H$4,0)","v":940},{"$f":"ROUND([3]ResourceLevelConfig!$C277*H$4,0)","v":9432},{"$f":"ROUND([3]ResourceLevelConfig!$G277*H$4,0)","v":372},{"$f":"ROUND([3]ResourceLevelConfig!$H277*H$4,0)","v":372},773]
[274,{"$f":"ROUND([3]ResourceLevelConfig!$E278*H$4,0)","v":940},{"$f":"ROUND([3]ResourceLevelConfig!$C278*H$4,0)","v":9480},{"$f":"ROUND([3]ResourceLevelConfig!$G278*H$4,0)","v":373},{"$f":"ROUND([3]ResourceLevelConfig!$H278*H$4,0)","v":373},774]
[275,{"$f":"ROUND([3]ResourceLevelConfig!$E279*H$4,0)","v":960},{"$f":"ROUND([3]ResourceLevelConfig!$C279*H$4,0)","v":9526},{"$f":"ROUND([3]ResourceLevelConfig!$G279*H$4,0)","v":374},{"$f":"ROUND([3]ResourceLevelConfig!$H279*H$4,0)","v":374},775]
[276,{"$f":"ROUND([3]ResourceLevelConfig!$E280*H$4,0)","v":960},{"$f":"ROUND([3]ResourceLevelConfig!$C280*H$4,0)","v":9574},{"$f":"ROUND([3]ResourceLevelConfig!$G280*H$4,0)","v":375},{"$f":"ROUND([3]ResourceLevelConfig!$H280*H$4,0)","v":375},776]
[277,{"$f":"ROUND([3]ResourceLevelConfig!$E281*H$4,0)","v":960},{"$f":"ROUND([3]ResourceLevelConfig!$C281*H$4,0)","v":9622},{"$f":"ROUND([3]ResourceLevelConfig!$G281*H$4,0)","v":376},{"$f":"ROUND([3]ResourceLevelConfig!$H281*H$4,0)","v":376},777]
[278,{"$f":"ROUND([3]ResourceLevelConfig!$E282*H$4,0)","v":960},{"$f":"ROUND([3]ResourceLevelConfig!$C282*H$4,0)","v":9670},{"$f":"ROUND([3]ResourceLevelConfig!$G282*H$4,0)","v":377},{"$f":"ROUND([3]ResourceLevelConfig!$H282*H$4,0)","v":377},778]
[279,{"$f":"ROUND([3]ResourceLevelConfig!$E283*H$4,0)","v":980},{"$f":"ROUND([3]ResourceLevelConfig!$C283*H$4,0)","v":9718},{"$f":"ROUND([3]ResourceLevelConfig!$G283*H$4,0)","v":378},{"$f":"ROUND([3]ResourceLevelConfig!$H283*H$4,0)","v":378},779]
[280,{"$f":"ROUND([3]ResourceLevelConfig!$E284*H$4,0)","v":980},{"$f":"ROUND([3]ResourceLevelConfig!$C284*H$4,0)","v":9768},{"$f":"ROUND([3]ResourceLevelConfig!$G284*H$4,0)","v":379},{"$f":"ROUND([3]ResourceLevelConfig!$H284*H$4,0)","v":379},780]
[281,{"$f":"ROUND([3]ResourceLevelConfig!$E285*H$4,0)","v":980},{"$f":"ROUND([3]ResourceLevelConfig!$C285*H$4,0)","v":9816},{"$f":"ROUND([3]ResourceLevelConfig!$G285*H$4,0)","v":380},{"$f":"ROUND([3]ResourceLevelConfig!$H285*H$4,0)","v":380},781]
[282,{"$f":"ROUND([3]ResourceLevelConfig!$E286*H$4,0)","v":980},{"$f":"ROUND([3]ResourceLevelConfig!$C286*H$4,0)","v":9866},{"$f":"ROUND([3]ResourceLevelConfig!$G286*H$4,0)","v":381},{"$f":"ROUND([3]ResourceLevelConfig!$H286*H$4,0)","v":381},782]
[283,{"$f":"ROUND([3]ResourceLevelConfig!$E287*H$4,0)","v":1000},{"$f":"ROUND([3]ResourceLevelConfig!$C287*H$4,0)","v":9914},{"$f":"ROUND([3]ResourceLevelConfig!$G287*H$4,0)","v":382},{"$f":"ROUND([3]ResourceLevelConfig!$H287*H$4,0)","v":382},783]
[284,{"$f":"ROUND([3]ResourceLevelConfig!$E288*H$4,0)","v":1000},{"$f":"ROUND([3]ResourceLevelConfig!$C288*H$4,0)","v":9964},{"$f":"ROUND([3]ResourceLevelConfig!$G288*H$4,0)","v":383},{"$f":"ROUND([3]ResourceLevelConfig!$H288*H$4,0)","v":383},784]
[285,{"$f":"ROUND([3]ResourceLevelConfig!$E289*H$4,0)","v":1000},{"$f":"ROUND([3]ResourceLevelConfig!$C289*H$4,0)","v":10014},{"$f":"ROUND([3]ResourceLevelConfig!$G289*H$4,0)","v":384},{"$f":"ROUND([3]ResourceLevelConfig!$H289*H$4,0)","v":384},785]
[286,{"$f":"ROUND([3]ResourceLevelConfig!$E290*H$4,0)","v":1000},{"$f":"ROUND([3]ResourceLevelConfig!$C290*H$4,0)","v":10064},{"$f":"ROUND([3]ResourceLevelConfig!$G290*H$4,0)","v":385},{"$f":"ROUND([3]ResourceLevelConfig!$H290*H$4,0)","v":385},786]
[287,{"$f":"ROUND([3]ResourceLevelConfig!$E291*H$4,0)","v":1020},{"$f":"ROUND([3]ResourceLevelConfig!$C291*H$4,0)","v":10114},{"$f":"ROUND([3]ResourceLevelConfig!$G291*H$4,0)","v":386},{"$f":"ROUND([3]ResourceLevelConfig!$H291*H$4,0)","v":386},787]
[288,{"$f":"ROUND([3]ResourceLevelConfig!$E292*H$4,0)","v":1020},{"$f":"ROUND([3]ResourceLevelConfig!$C292*H$4,0)","v":10166},{"$f":"ROUND([3]ResourceLevelConfig!$G292*H$4,0)","v":387},{"$f":"ROUND([3]ResourceLevelConfig!$H292*H$4,0)","v":387},788]
[289,{"$f":"ROUND([3]ResourceLevelConfig!$E293*H$4,0)","v":1020},{"$f":"ROUND([3]ResourceLevelConfig!$C293*H$4,0)","v":10216},{"$f":"ROUND([3]ResourceLevelConfig!$G293*H$4,0)","v":388},{"$f":"ROUND([3]ResourceLevelConfig!$H293*H$4,0)","v":388},789]
[290,{"$f":"ROUND([3]ResourceLevelConfig!$E294*H$4,0)","v":1020},{"$f":"ROUND([3]ResourceLevelConfig!$C294*H$4,0)","v":10268},{"$f":"ROUND([3]ResourceLevelConfig!$G294*H$4,0)","v":389},{"$f":"ROUND([3]ResourceLevelConfig!$H294*H$4,0)","v":389},790]
[291,{"$f":"ROUND([3]ResourceLevelConfig!$E295*H$4,0)","v":1040},{"$f":"ROUND([3]ResourceLevelConfig!$C295*H$4,0)","v":10318},{"$f":"ROUND([3]ResourceLevelConfig!$G295*H$4,0)","v":390},{"$f":"ROUND([3]ResourceLevelConfig!$H295*H$4,0)","v":390},791]
[292,{"$f":"ROUND([3]ResourceLevelConfig!$E296*H$4,0)","v":1040},{"$f":"ROUND([3]ResourceLevelConfig!$C296*H$4,0)","v":10370},{"$f":"ROUND([3]ResourceLevelConfig!$G296*H$4,0)","v":391},{"$f":"ROUND([3]ResourceLevelConfig!$H296*H$4,0)","v":391},792]
[293,{"$f":"ROUND([3]ResourceLevelConfig!$E297*H$4,0)","v":1040},{"$f":"ROUND([3]ResourceLevelConfig!$C297*H$4,0)","v":10422},{"$f":"ROUND([3]ResourceLevelConfig!$G297*H$4,0)","v":392},{"$f":"ROUND([3]ResourceLevelConfig!$H297*H$4,0)","v":392},793]
[294,{"$f":"ROUND([3]ResourceLevelConfig!$E298*H$4,0)","v":1040},{"$f":"ROUND([3]ResourceLevelConfig!$C298*H$4,0)","v":10474},{"$f":"ROUND([3]ResourceLevelConfig!$G298*H$4,0)","v":393},{"$f":"ROUND([3]ResourceLevelConfig!$H298*H$4,0)","v":393},794]
[295,{"$f":"ROUND([3]ResourceLevelConfig!$E299*H$4,0)","v":1060},{"$f":"ROUND([3]ResourceLevelConfig!$C299*H$4,0)","v":10526},{"$f":"ROUND([3]ResourceLevelConfig!$G299*H$4,0)","v":394},{"$f":"ROUND([3]ResourceLevelConfig!$H299*H$4,0)","v":394},795]
[296,{"$f":"ROUND([3]ResourceLevelConfig!$E300*H$4,0)","v":1060},{"$f":"ROUND([3]ResourceLevelConfig!$C300*H$4,0)","v":10578},{"$f":"ROUND([3]ResourceLevelConfig!$G300*H$4,0)","v":395},{"$f":"ROUND([3]ResourceLevelConfig!$H300*H$4,0)","v":395},796]
[297,{"$f":"ROUND([3]ResourceLevelConfig!$E301*H$4,0)","v":1060},{"$f":"ROUND([3]ResourceLevelConfig!$C301*H$4,0)","v":10632},{"$f":"ROUND([3]ResourceLevelConfig!$G301*H$4,0)","v":396},{"$f":"ROUND([3]ResourceLevelConfig!$H301*H$4,0)","v":396},797]
[298,{"$f":"ROUND([3]ResourceLevelConfig!$E302*H$4,0)","v":1060},{"$f":"ROUND([3]ResourceLevelConfig!$C302*H$4,0)","v":10684},{"$f":"ROUND([3]ResourceLevelConfig!$G302*H$4,0)","v":397},{"$f":"ROUND([3]ResourceLevelConfig!$H302*H$4,0)","v":397},798]
[299,{"$f":"ROUND([3]ResourceLevelConfig!$E303*H$4,0)","v":1080},{"$f":"ROUND([3]ResourceLevelConfig!$C303*H$4,0)","v":10738},{"$f":"ROUND([3]ResourceLevelConfig!$G303*H$4,0)","v":398},{"$f":"ROUND([3]ResourceLevelConfig!$H303*H$4,0)","v":398},799]
[300,{"$f":"ROUND([3]ResourceLevelConfig!$E304*H$4,0)","v":1080},{"$f":"ROUND([3]ResourceLevelConfig!$C304*H$4,0)","v":10792},{"$f":"ROUND([3]ResourceLevelConfig!$G304*H$4,0)","v":399},{"$f":"ROUND([3]ResourceLevelConfig!$H304*H$4,0)","v":399},800]