{"text_format":"2","workbook":"xlsx","n_sheets":2,"sheets":["HeroPowerUpConfig","HeroQiangDuAddConfig"],"not_rendered":{"charts":0,"images":0,"macros":0,"external_links":5,"defined_names":1,"comments":0,"pivot_tables":0},"unopened":[],"bounds":{"document_bytes":16777216,"sheet_cells":100000,"run_cost":"one","rows_first":2000,"rows_last":500,"rows_between":2000,"halvings":0,"cell_chars":16384,"cell_head_chars":4096},"cells_cut":0,"cells_raw":0,"read":"whole","date_system":"1900"}

{"sheet":"HeroPowerUpConfig","index":0,"n_rows":304,"n_cols":57,"rows_kept":304,"cut":false,"hidden":false,"merged":[]}
["ID","HeroLevel","jingjie1","jingjie2","jingjie3","jingjieLanIDs",{"$nulls":6},"levelUpExp","DujieLevelbattleID","DujieRateviaBattle","DujieMustItemIDs","DujieMustItemValues","DujieItemIDs","DujieItemValues","LeijieDamages","HPFactor","ATKFactor","DEFFactor","HudunFactor","defK","ShenshiMax","AutoXiuwei","FailureExpReduce","MaxActiveGongfaNum","MaxPassiveGongfaNum","MaxFabaoNum",{"$nulls":4},"MPFactor","DaoyouCount"]
["int","int","int","int","int","int[]",{"$nulls":6},"int","int","int","int[]","int[]","int[]","int[]","int[]","float","float","float","float","int","int","float","int","int","int","int",{"$nulls":4},"float","int"]
[{"$nulls":31},{"$f":"SUM(AF5:AF304)","v":1229974},{"$f":"AF3/60","v":20499.566666666666},{"$f":"AG3/60","v":341.65944444444443},{"$f":"AH3/12","v":28.471620370370371}]
["ID","玩家修为境界（等级）","大境界ID","中境界ID","小境界ID","境界语言表ID","境界名称1","境界名称2","境界名称3",null,null,null,"升级所需修为值\n（-1代表最大等级)","渡劫必须战斗ID","战斗增加渡劫几率","渡劫必需道具ID","渡劫必需道具数量","渡劫选有道具IDs","渡劫选有道具数量","雷劫伤害\n要填下限、上限、表现上几根雷","生命倍率","攻击倍率","防御倍率","护盾倍率","防御系数K","神识上限","每秒获得的修为值","雷劫失败扣除的当前等级修为百分比","主动功法可配置上限","被动功法可配置上限","法宝可配置上限","吐纳时长(s)","分钟","小时","天（每天12小时）","法力倍率","允许出现的最大挂机道友数量",null,"战斗","必须","数量","选有1","数量1","选有2","数量2","选有3","数量3","选有4","数量4","选有5","数量5","必须","选有1","选有2","选有3","选有4","选有5"]
[1,1,1,1,1,{"$f":"_xlfn.TEXTJOIN(\";\",1,J5:L5)","v":"225;235;238"},"练气","前期.","一重",225,235,238,{"$f":"ROUND([1]ResourceLevelConfig!$E5*[1]ResourceLevelConfig!$L5*0.1,0)*10","v":400},{"$f":"IF(E5=10,100004,-1)","v":-1},0,-1,-1,{"$f":"IF(I5=10,\"1204;1203;1202;1201\",-1)","v":-1},{"$f":"IF(R5=-1,-1,\"1;1;1;1\")","v":-1},{"$f":"IF(G5=G6,0,CONCATENATE(80*ROUND(VLOOKUP(B5,[2]MonsterPowerUpConfig!$A:$I,9,FALSE),0),\";\",120*ROUND(VLOOKUP(B5,[2]MonsterPowerUpConfig!$A:$I,9,FALSE),0)))","v":0},{"$f":"[3]主表!K3","v":5},{"$f":"[3]主表!L3","v":1},{"$f":"[3]主表!M3","v":1},{"$f":"[3]主表!N3","v":0},{"$f":"[3]主表!$G3","v":211},{"$f":"[3]升级!$H3","v":1000},{"$f":"MAX(0.1,ROUND(100/(24*3600)*VLOOKUP(B5,[1]ResourceLevelConfig!$A:$E,5,FALSE),2))","v":0.12},-1,2,1,1,{"$f":"ROUND(10^(B5*0.01+2.07),0)","v":120},null,{"$f":"50*W5","v":50},null,1,1,1,null,null,{"$f":"IF(AN5=\"\",\"\",1)","v":""},null,{"$f":"IF(AP5=\"\",\"\",1)","v":""},null,{"$f":"IF(AR5=\"\",\"\",1)","v":""},null,{"$f":"IF(AT5=\"\",\"\",1)","v":""},null,{"$f":"IF(AV5=\"\",\"\",1)","v":""},null,{"$f":"IF(AX5=\"\",\"\",1)","v":""},{"$f":"IF(AN5=\"\",\"\",VLOOKUP(AN5,[4]ItemConfig!$A:$C,3,FALSE)&AO5)","v":""},{"$f":"IF(AP5=\"\",\"\",VLOOKUP(AP5,[4]ItemConfig!$A:$C,3,FALSE)&AQ5)","v":""},{"$f":"IF(AR5=\"\",\"\",VLOOKUP(AR5,[4]ItemConfig!$A:$C,3,FALSE)&AS5)","v":""},{"$f":"IF(AT5=\"\",\"\",VLOOKUP(AT5,[4]ItemConfig!$A:$C,3,FALSE)&AU5)","v":""},{"$f":"IF(AV5=\"\",\"\",VLOOKUP(AV5,[4]ItemConfig!$A:$C,3,FALSE)&AW5)","v":""},{"$f":"IF(AX5=\"\",\"\",VLOOKUP(AX5,[4]ItemConfig!$A:$C,3,FALSE)&AY5)","v":""}]
[2,2,1,1,2,{"$f":"_xlfn.TEXTJOIN(\";\",1,J6:L6)","v":"225;235;239"},"练气","前期.","二重",225,235,239,{"$f":"ROUND([1]ResourceLevelConfig!$E6*[1]ResourceLevelConfig!$L6*0.1,0)*10","v":410},{"$f":"IF(E6=10,100004,-1)","v":-1},0,-1,-1,{"$f":"IF(I6=10,\"1204;1203;1202;1201\",-1)","v":-1},{"$f":"IF(R6=-1,-1,\"1;1;1;1\")","v":-1},{"$f":"IF(G6=G7,0,CONCATENATE(80*ROUND(VLOOKUP(B6,[2]MonsterPowerUpConfig!$A:$I,9,FALSE),0),\";\",120*ROUND(VLOOKUP(B6,[2]MonsterPowerUpConfig!$A:$I,9,FALSE),0)))","v":0},{"$f":"[3]主表!K4","v":5.4459622494945146},{"$f":"[3]主表!L4","v":1.0135018283999999},{"$f":"[3]主表!M4","v":1.0135018283999999},{"$f":"[3]主表!N4","v":0},{"$f":"[3]主表!$G4","v":213},{"$f":"[3]升级!$H4","v":1000},{"$f":"MAX(0.1,ROUND(100/(24*3600)*VLOOKUP(B6,[1]ResourceLevelConfig!$A:$E,5,FALSE),2))","v":0.12},-1,{"$f":"AC5","v":2},{"$f":"AD5","v":1},1,{"$f":"MAX(AF5+10,ROUND(10^(B6*0.01+1.405),0))","v":130},null,50.675091419999994,null,1,1,2,null,null,{"$f":"IF(AN6=\"\",\"\",1)","v":""},null,"",null,{"$f":"IF(AR6=\"\",\"\",1)","v":""},null,{"$f":"IF(AT6=\"\",\"\",1)","v":""},null,{"$f":"IF(AV6=\"\",\"\",1)","v":""},null,{"$f":"IF(AX6=\"\",\"\",1)","v":""},{"$f":"IF(AN6=\"\",\"\",VLOOKUP(AN6,[4]ItemConfig!$A:$C,3,FALSE)&AO6)","v":""},{"$f":"IF(AP6=\"\",\"\",VLOOKUP(AP6,[4]ItemConfig!$A:$C,3,FALSE)&AQ6)","v":""},{"$f":"IF(AR6=\"\",\"\",VLOOKUP(AR6,[4]ItemConfig!$A:$C,3,FALSE)&AS6)","v":""},{"$f":"IF(AT6=\"\",\"\",VLOOKUP(AT6,[4]ItemConfig!$A:$C,3,FALSE)&AU6)","v":""},{"$f":"IF(AV6=\"\",\"\",VLOOKUP(AV6,[4]ItemConfig!$A:$C,3,FALSE)&AW6)","v":""},{"$f":"IF(AX6=\"\",\"\",VLOOKUP(AX6,[4]ItemConfig!$A:$C,3,FALSE)&AY6)","v":""}]
[3,3,1,1,3,"225;235;240","练气","前期.","三重",225,235,240,{"$f":"ROUND([1]ResourceLevelConfig!$E7*[1]ResourceLevelConfig!$L7*0.1,0)*10","v":420},-1,0,-1,-1,-1,-1,{"$f":"IF(G7=G8,0,CONCATENATE(80*ROUND(VLOOKUP(B7,[2]MonsterPowerUpConfig!$A:$I,9,FALSE),0),\";\",120*ROUND(VLOOKUP(B7,[2]MonsterPowerUpConfig!$A:$I,9,FALSE),0)))","v":0},{"$f":"[3]主表!K5","v":5.9030556136694194},{"$f":"[3]主表!L5","v":1.0271859561701429},{"$f":"[3]主表!M5","v":1.0271859561701429},{"$f":"[3]主表!N5","v":0},{"$f":"[3]主表!$G5","v":216},{"$f":"[3]升级!$H5","v":1000},{"$f":"MAX(0.1,ROUND(100/(24*3600)*VLOOKUP(B7,[1]ResourceLevelConfig!$A:$E,5,FALSE),2))","v":0.12},-1,{"$f":"AC6","v":2},{"$f":"AD6","v":1},{"$f":"AE6","v":1},140,null,51.359297808507144,null,1,1,3,null,null,"",null,"",null,{"$f":"IF(AR7=\"\",\"\",1)","v":""},null,{"$f":"IF(AT7=\"\",\"\",1)","v":""},null,{"$f":"IF(AV7=\"\",\"\",1)","v":""},null,{"$f":"IF(AX7=\"\",\"\",1)","v":""},{"$f":"IF(AN7=\"\",\"\",VLOOKUP(AN7,[4]ItemConfig!$A:$C,3,FALSE)&AO7)","v":""},{"$f":"IF(AP7=\"\",\"\",VLOOKUP(AP7,[4]ItemConfig!$A:$C,3,FALSE)&AQ7)","v":""},{"$f":"IF(AR7=\"\",\"\",VLOOKUP(AR7,[4]ItemConfig!$A:$C,3,FALSE)&AS7)","v":""},{"$f":"IF(AT7=\"\",\"\",VLOOKUP(AT7,[4]ItemConfig!$A:$C,3,FALSE)&AU7)","v":""},{"$f":"IF(AV7=\"\",\"\",VLOOKUP(AV7,[4]ItemConfig!$A:$C,3,FALSE)&AW7)","v":""},{"$f":"IF(AX7=\"\",\"\",VLOOKUP(AX7,[4]ItemConfig!$A:$C,3,FALSE)&AY7)","v":""}]
[4,4,1,1,4,"225;235;241","练气","前期.","四重",225,235,241,{"$f":"ROUND([1]ResourceLevelConfig!$E8*[1]ResourceLevelConfig!$L8*0.1,0)*10","v":430},-1,0,-1,-1,-1,-1,{"$f":"IF(G8=G9,0,CONCATENATE(80*ROUND(VLOOKUP(B8,[2]MonsterPowerUpConfig!$A:$I,9,FALSE),0),\";\",120*ROUND(VLOOKUP(B8,[2]MonsterPowerUpConfig!$A:$I,9,FALSE),0)))","v":0},{"$f":"[3]主表!K6","v":6.3714993746881552},{"$f":"[3]主表!L6","v":1.0410548446852419},{"$f":"[3]主表!M6","v":1.0410548446852419},{"$f":"[3]主表!N6","v":0},{"$f":"[3]主表!$G6","v":219},{"$f":"[3]升级!$H6","v":1000},{"$f":"MAX(0.1,ROUND(100/(24*3600)*VLOOKUP(B8,[1]ResourceLevelConfig!$A:$E,5,FALSE),2))","v":0.12},-1,2,1,1,150,null,52.052742234262098,null,1,1,4,null,null,"",null,"",null,{"$f":"IF(AR8=\"\",\"\",1)","v":""},null,{"$f":"IF(AT8=\"\",\"\",1)","v":""},null,{"$f":"IF(AV8=\"\",\"\",1)","v":""},null,{"$f":"IF(AX8=\"\",\"\",1)","v":""},{"$f":"IF(AN8=\"\",\"\",VLOOKUP(AN8,[4]ItemConfig!$A:$C,3,FALSE)&AO8)","v":""},{"$f":"IF(AP8=\"\",\"\",VLOOKUP(AP8,[4]ItemConfig!$A:$C,3,FALSE)&AQ8)","v":""},{"$f":"IF(AR8=\"\",\"\",VLOOKUP(AR8,[4]ItemConfig!$A:$C,3,FALSE)&AS8)","v":""},{"$f":"IF(AT8=\"\",\"\",VLOOKUP(AT8,[4]ItemConfig!$A:$C,3,FALSE)&AU8)","v":""},{"$f":"IF(AV8=\"\",\"\",VLOOKUP(AV8,[4]ItemConfig!$A:$C,3,FALSE)&AW8)","v":""},{"$f":"IF(AX8=\"\",\"\",VLOOKUP(AX8,[4]ItemConfig!$A:$C,3,FALSE)&AY8)","v":""}]
[5,5,1,1,5,"225;235;242","练气","前期.","五重",225,235,242,{"$f":"ROUND([1]ResourceLevelConfig!$E9*[1]ResourceLevelConfig!$L9*0.1,0)*10","v":440},-1,0,-1,-1,-1,-1,{"$f":"IF(G9=G10,0,CONCATENATE(80*ROUND(VLOOKUP(B9,[2]MonsterPowerUpConfig!$A:$I,9,FALSE),0),\";\",120*ROUND(VLOOKUP(B9,[2]MonsterPowerUpConfig!$A:$I,9,FALSE),0)))","v":0},{"$f":"[3]主表!K7","v":6.8515167069392513},{"$f":"[3]主表!L7","v":1.0551109885531706},{"$f":"[3]主表!M7","v":1.0551109885531706},{"$f":"[3]主表!N7","v":0},{"$f":"[3]主表!$G7","v":222},{"$f":"[3]升级!$H7","v":1000},{"$f":"MAX(0.1,ROUND(100/(24*3600)*VLOOKUP(B9,[1]ResourceLevelConfig!$A:$E,5,FALSE),2))","v":0.12},-1,2,1,1,160,null,52.755549427658529,null,1,1,5,null,null,"",null,"",null,{"$f":"IF(AR9=\"\",\"\",1)","v":""},null,{"$f":"IF(AT9=\"\",\"\",1)","v":""},null,{"$f":"IF(AV9=\"\",\"\",1)","v":""},null,{"$f":"IF(AX9=\"\",\"\",1)","v":""},{"$f":"IF(AN9=\"\",\"\",VLOOKUP(AN9,[4]ItemConfig!$A:$C,3,FALSE)&AO9)","v":""},{"$f":"IF(AP9=\"\",\"\",VLOOKUP(AP9,[4]ItemConfig!$A:$C,3,FALSE)&AQ9)","v":""},{"$f":"IF(AR9=\"\",\"\",VLOOKUP(AR9,[4]ItemConfig!$A:$C,3,FALSE)&AS9)","v":""},{"$f":"IF(AT9=\"\",\"\",VLOOKUP(AT9,[4]ItemConfig!$A:$C,3,FALSE)&AU9)","v":""},{"$f":"IF(AV9=\"\",\"\",VLOOKUP(AV9,[4]ItemConfig!$A:$C,3,FALSE)&AW9)","v":""},{"$f":"IF(AX9=\"\",\"\",VLOOKUP(AX9,[4]ItemConfig!$A:$C,3,FALSE)&AY9)","v":""}]
[6,6,1,1,6,"225;235;243","练气","前期.","六重",225,235,243,{"$f":"ROUND([1]ResourceLevelConfig!$E10*[1]ResourceLevelConfig!$L10*0.1,0)*10","v":500},-1,0,-1,-1,-1,-1,{"$f":"IF(G10=G11,0,CONCATENATE(80*ROUND(VLOOKUP(B10,[2]MonsterPowerUpConfig!$A:$I,9,FALSE),0),\";\",120*ROUND(VLOOKUP(B10,[2]MonsterPowerUpConfig!$A:$I,9,FALSE),0)))","v":0},{"$f":"[3]主表!K8","v":7.3433347421656343},{"$f":"[3]主表!L8","v":1.0693569160635699},{"$f":"[3]主表!M8","v":1.0693569160635699},{"$f":"[3]主表!N8","v":0},{"$f":"[3]主表!$G8","v":225},{"$f":"[3]升级!$H8","v":1000},{"$f":"MAX(0.1,ROUND(100/(24*3600)*VLOOKUP(B10,[1]ResourceLevelConfig!$A:$E,5,FALSE),2))","v":0.13},-1,2,1,1,170,null,53.467845803178491,null,1,1,6,null,null,"",null,"",null,{"$f":"IF(AR10=\"\",\"\",1)","v":""},null,{"$f":"IF(AT10=\"\",\"\",1)","v":""},null,{"$f":"IF(AV10=\"\",\"\",1)","v":""},null,{"$f":"IF(AX10=\"\",\"\",1)","v":""},{"$f":"IF(AN10=\"\",\"\",VLOOKUP(AN10,[4]ItemConfig!$A:$C,3,FALSE)&AO10)","v":""},{"$f":"IF(AP10=\"\",\"\",VLOOKUP(AP10,[4]ItemConfig!$A:$C,3,FALSE)&AQ10)","v":""},{"$f":"IF(AR10=\"\",\"\",VLOOKUP(AR10,[4]ItemConfig!$A:$C,3,FALSE)&AS10)","v":""},{"$f":"IF(AT10=\"\",\"\",VLOOKUP(AT10,[4]ItemConfig!$A:$C,3,FALSE)&AU10)","v":""},{"$f":"IF(AV10=\"\",\"\",VLOOKUP(AV10,[4]ItemConfig!$A:$C,3,FALSE)&AW10)","v":""},{"$f":"IF(AX10=\"\",\"\",VLOOKUP(AX10,[4]ItemConfig!$A:$C,3,FALSE)&AY10)","v":""}]
[7,7,1,1,7,"225;235;244","练气","前期.","七重",225,235,244,{"$f":"ROUND([1]ResourceLevelConfig!$E11*[1]ResourceLevelConfig!$L11*0.1,0)*10","v":510},-1,0,-1,-1,-1,-1,{"$f":"IF(G11=G12,0,CONCATENATE(80*ROUND(VLOOKUP(B11,[2]MonsterPowerUpConfig!$A:$I,9,FALSE),0),\";\",120*ROUND(VLOOKUP(B11,[2]MonsterPowerUpConfig!$A:$I,9,FALSE),0)))","v":0},{"$f":"[3]主表!K9","v":7.8471846356431243},{"$f":"[3]主表!L9","v":1.0837951896426135},{"$f":"[3]主表!M9","v":1.0837951896426135},{"$f":"[3]主表!N9","v":0},{"$f":"[3]主表!$G9","v":228},{"$f":"[3]升级!$H9","v":1000},{"$f":"MAX(0.1,ROUND(100/(24*3600)*VLOOKUP(B11,[1]ResourceLevelConfig!$A:$E,5,FALSE),2))","v":0.13},-1,2,1,1,180,null,54.189759482130675,null,1,1,7,null,null,"",null,"",null,{"$f":"IF(AR11=\"\",\"\",1)","v":""},null,{"$f":"IF(AT11=\"\",\"\",1)","v":""},null,{"$f":"IF(AV11=\"\",\"\",1)","v":""},null,{"$f":"IF(AX11=\"\",\"\",1)","v":""},{"$f":"IF(AN11=\"\",\"\",VLOOKUP(AN11,[4]ItemConfig!$A:$C,3,FALSE)&AO11)","v":""},{"$f":"IF(AP11=\"\",\"\",VLOOKUP(AP11,[4]ItemConfig!$A:$C,3,FALSE)&AQ11)","v":""},{"$f":"IF(AR11=\"\",\"\",VLOOKUP(AR11,[4]ItemConfig!$A:$C,3,FALSE)&AS11)","v":""},{"$f":"IF(AT11=\"\",\"\",VLOOKUP(AT11,[4]ItemConfig!$A:$C,3,FALSE)&AU11)","v":""},{"$f":"IF(AV11=\"\",\"\",VLOOKUP(AV11,[4]ItemConfig!$A:$C,3,FALSE)&AW11)","v":""},{"$f":"IF(AX11=\"\",\"\",VLOOKUP(AX11,[4]ItemConfig!$A:$C,3,FALSE)&AY11)","v":""}]
[8,8,1,1,8,"225;235;245","练气","前期.","八重",225,235,245,{"$f":"ROUND([1]ResourceLevelConfig!$E12*[1]ResourceLevelConfig!$L12*0.1,0)*10","v":520},-1,0,-1,-1,-1,-1,{"$f":"IF(G12=G13,0,CONCATENATE(80*ROUND(VLOOKUP(B12,[2]MonsterPowerUpConfig!$A:$I,9,FALSE),0),\";\",120*ROUND(VLOOKUP(B12,[2]MonsterPowerUpConfig!$A:$I,9,FALSE),0)))","v":0},{"$f":"[3]主表!K10","v":8.3633016334245465},{"$f":"[3]主表!L10","v":1.0984284063139134},{"$f":"[3]主表!M10","v":1.0984284063139134},{"$f":"[3]主表!N10","v":0},{"$f":"[3]主表!$G10","v":231},{"$f":"[3]升级!$H10","v":1000},{"$f":"MAX(0.1,ROUND(100/(24*3600)*VLOOKUP(B12,[1]ResourceLevelConfig!$A:$E,5,FALSE),2))","v":0.13},-1,2,1,1,190,null,54.92142031569567,null,1,1,8,null,null,"",null,"",null,{"$f":"IF(AR12=\"\",\"\",1)","v":""},null,{"$f":"IF(AT12=\"\",\"\",1)","v":""},null,{"$f":"IF(AV12=\"\",\"\",1)","v":""},null,{"$f":"IF(AX12=\"\",\"\",1)","v":""},{"$f":"IF(AN12=\"\",\"\",VLOOKUP(AN12,[4]ItemConfig!$A:$C,3,FALSE)&AO12)","v":""},{"$f":"IF(AP12=\"\",\"\",VLOOKUP(AP12,[4]ItemConfig!$A:$C,3,FALSE)&AQ12)","v":""},{"$f":"IF(AR12=\"\",\"\",VLOOKUP(AR12,[4]ItemConfig!$A:$C,3,FALSE)&AS12)","v":""},{"$f":"IF(AT12=\"\",\"\",VLOOKUP(AT12,[4]ItemConfig!$A:$C,3,FALSE)&AU12)","v":""},{"$f":"IF(AV12=\"\",\"\",VLOOKUP(AV12,[4]ItemConfig!$A:$C,3,FALSE)&AW12)","v":""},{"$f":"IF(AX12=\"\",\"\",VLOOKUP(AX12,[4]ItemConfig!$A:$C,3,FALSE)&AY12)","v":""}]
[9,9,1,1,9,"225;235;246","练气","前期.","九重",225,235,246,{"$f":"ROUND([1]ResourceLevelConfig!$E13*[1]ResourceLevelConfig!$L13*0.1,0)*10","v":530},-1,0,-1,-1,-1,-1,{"$f":"IF(G13=G14,0,CONCATENATE(80*ROUND(VLOOKUP(B13,[2]MonsterPowerUpConfig!$A:$I,9,FALSE),0),\";\",120*ROUND(VLOOKUP(B13,[2]MonsterPowerUpConfig!$A:$I,9,FALSE),0)))","v":0},{"$f":"[3]主表!K11","v":8.8919251406662312},{"$f":"[3]主表!L11","v":1.113259198165649},{"$f":"[3]主表!M11","v":1.113259198165649},{"$f":"[3]主表!N11","v":0},{"$f":"[3]主表!$G11","v":235},{"$f":"[3]升级!$H11","v":1000},{"$f":"MAX(0.1,ROUND(100/(24*3600)*VLOOKUP(B13,[1]ResourceLevelConfig!$A:$E,5,FALSE),2))","v":0.13},-1,2,1,1,200,null,55.662959908282453,null,1,1,9,null,null,"",null,"",null,{"$f":"IF(AR13=\"\",\"\",1)","v":""},null,{"$f":"IF(AT13=\"\",\"\",1)","v":""},null,{"$f":"IF(AV13=\"\",\"\",1)","v":""},null,{"$f":"IF(AX13=\"\",\"\",1)","v":""},{"$f":"IF(AN13=\"\",\"\",VLOOKUP(AN13,[4]ItemConfig!$A:$C,3,FALSE)&AO13)","v":""},{"$f":"IF(AP13=\"\",\"\",VLOOKUP(AP13,[4]ItemConfig!$A:$C,3,FALSE)&AQ13)","v":""},{"$f":"IF(AR13=\"\",\"\",VLOOKUP(AR13,[4]ItemConfig!$A:$C,3,FALSE)&AS13)","v":""},{"$f":"IF(AT13=\"\",\"\",VLOOKUP(AT13,[4]ItemConfig!$A:$C,3,FALSE)&AU13)","v":""},{"$f":"IF(AV13=\"\",\"\",VLOOKUP(AV13,[4]ItemConfig!$A:$C,3,FALSE)&AW13)","v":""},{"$f":"IF(AX13=\"\",\"\",VLOOKUP(AX13,[4]ItemConfig!$A:$C,3,FALSE)&AY13)","v":""}]
[10,10,1,1,10,"225;235;247","练气","前期.","十重",225,235,247,{"$f":"ROUND([1]ResourceLevelConfig!$E14*[1]ResourceLevelConfig!$L14*0.1,0)*10","v":540},100004,0,{"$f":"AN14","v":1301},{"$f":"AO14","v":1},{"$f":"_xlfn.TEXTJOIN(\";\",1,AP14,AR14,AT14,AV14)","v":""},{"$f":"_xlfn.TEXTJOIN(\";\",1,AQ14,AS14,AU14,AW14)","v":""},{"$f":"IF(G14=G15,0,CONCATENATE(80*ROUND(VLOOKUP(B14,[2]MonsterPowerUpConfig!$A:$I,9,FALSE),0),\";\",120*ROUND(VLOOKUP(B14,[2]MonsterPowerUpConfig!$A:$I,9,FALSE),0)))","v":0},{"$f":"[3]主表!K12","v":9.4332987910537938},{"$f":"[3]主表!L12","v":1.1282902328240032},{"$f":"[3]主表!M12","v":1.1282902328240032},{"$f":"[3]主表!N12","v":0},{"$f":"[3]主表!$G12","v":238},{"$f":"[3]升级!$H12","v":1000},{"$f":"MAX(0.1,ROUND(100/(24*3600)*VLOOKUP(B14,[1]ResourceLevelConfig!$A:$E,5,FALSE),2))","v":0.13},20,2,1,1,210,null,56.414511641200157,null,1,1,10,null,1301,1,null,"",null,{"$f":"IF(AR14=\"\",\"\",1)","v":""},null,{"$f":"IF(AT14=\"\",\"\",1)","v":""},null,{"$f":"IF(AV14=\"\",\"\",1)","v":""},null,{"$f":"IF(AX14=\"\",\"\",1)","v":""},{"$f":"IF(AN14=\"\",\"\",VLOOKUP(AN14,[4]ItemConfig!$A:$C,3,FALSE)&AO14)","v":"淬骨丹1"},{"$f":"IF(AP14=\"\",\"\",VLOOKUP(AP14,[4]ItemConfig!$A:$C,3,FALSE)&AQ14)","v":""},{"$f":"IF(AR14=\"\",\"\",VLOOKUP(AR14,[4]ItemConfig!$A:$C,3,FALSE)&AS14)","v":""},{"$f":"IF(AT14=\"\",\"\",VLOOKUP(AT14,[4]ItemConfig!$A:$C,3,FALSE)&AU14)","v":""},{"$f":"IF(AV14=\"\",\"\",VLOOKUP(AV14,[4]ItemConfig!$A:$C,3,FALSE)&AW14)","v":""},{"$f":"IF(AX14=\"\",\"\",VLOOKUP(AX14,[4]ItemConfig!$A:$C,3,FALSE)&AY14)","v":""}]
[11,11,1,2,1,"225;236;238","练气","中期.","一重",225,236,238,{"$f":"ROUND([1]ResourceLevelConfig!$E15*[1]ResourceLevelConfig!$L15*0.1,0)*10","v":550},-1,0,-1,-1,-1,-1,{"$f":"IF(G15=G16,0,CONCATENATE(80*ROUND(VLOOKUP(B15,[2]MonsterPowerUpConfig!$A:$I,9,FALSE),0),\";\",120*ROUND(VLOOKUP(B15,[2]MonsterPowerUpConfig!$A:$I,9,FALSE),0)))","v":0},{"$f":"[3]主表!K13","v":10.840076713451081},{"$f":"[3]主表!L13","v":1.2411192561064035},{"$f":"[3]主表!M13","v":1.2411192561064035},{"$f":"[3]主表!N13","v":0},{"$f":"[3]主表!$G13","v":264},{"$f":"[3]升级!$H13","v":1000},{"$f":"MAX(0.1,ROUND(100/(24*3600)*VLOOKUP(B15,[1]ResourceLevelConfig!$A:$E,5,FALSE),2))","v":0.13},-1,2,1,1,220,null,null,null,1,1,11,null,null,"",null,"",null,{"$f":"IF(AR15=\"\",\"\",1)","v":""},null,{"$f":"IF(AT15=\"\",\"\",1)","v":""},null,{"$f":"IF(AV15=\"\",\"\",1)","v":""},null,{"$f":"IF(AX15=\"\",\"\",1)","v":""},{"$f":"IF(AN15=\"\",\"\",VLOOKUP(AN15,[4]ItemConfig!$A:$C,3,FALSE)&AO15)","v":""},{"$f":"IF(AP15=\"\",\"\",VLOOKUP(AP15,[4]ItemConfig!$A:$C,3,FALSE)&AQ15)","v":""},{"$f":"IF(AR15=\"\",\"\",VLOOKUP(AR15,[4]ItemConfig!$A:$C,3,FALSE)&AS15)","v":""},{"$f":"IF(AT15=\"\",\"\",VLOOKUP(AT15,[4]ItemConfig!$A:$C,3,FALSE)&AU15)","v":""},{"$f":"IF(AV15=\"\",\"\",VLOOKUP(AV15,[4]ItemConfig!$A:$C,3,FALSE)&AW15)","v":""},{"$f":"IF(AX15=\"\",\"\",VLOOKUP(AX15,[4]ItemConfig!$A:$C,3,FALSE)&AY15)","v":""}]
[12,12,1,2,2,"225;236;239","练气","中期.","二重",225,236,239,{"$f":"ROUND([1]ResourceLevelConfig!$E16*[1]ResourceLevelConfig!$L16*0.1,0)*10","v":560},-1,0,-1,-1,-1,-1,{"$f":"IF(G16=G17,0,CONCATENATE(80*ROUND(VLOOKUP(B16,[2]MonsterPowerUpConfig!$A:$I,9,FALSE),0),\";\",120*ROUND(VLOOKUP(B16,[2]MonsterPowerUpConfig!$A:$I,9,FALSE),0)))","v":0},{"$f":"[3]主表!K14","v":11.45614300832368},{"$f":"[3]主表!L14","v":1.2578766353262878},{"$f":"[3]主表!M14","v":1.2578766353262878},{"$f":"[3]主表!N14","v":0},{"$f":"[3]主表!$G14","v":268},{"$f":"[3]升级!$H14","v":1000},{"$f":"MAX(0.1,ROUND(100/(24*3600)*VLOOKUP(B16,[1]ResourceLevelConfig!$A:$E,5,FALSE),2))","v":0.13},-1,{"$f":"AC15","v":2},{"$f":"AD15","v":1},1,230,null,null,null,1,1,12,null,null,"",null,"",null,{"$f":"IF(AR16=\"\",\"\",1)","v":""},null,{"$f":"IF(AT16=\"\",\"\",1)","v":""},null,{"$f":"IF(AV16=\"\",\"\",1)","v":""},null,{"$f":"IF(AX16=\"\",\"\",1)","v":""},{"$f":"IF(AN16=\"\",\"\",VLOOKUP(AN16,[4]ItemConfig!$A:$C,3,FALSE)&AO16)","v":""},{"$f":"IF(AP16=\"\",\"\",VLOOKUP(AP16,[4]ItemConfig!$A:$C,3,FALSE)&AQ16)","v":""},{"$f":"IF(AR16=\"\",\"\",VLOOKUP(AR16,[4]ItemConfig!$A:$C,3,FALSE)&AS16)","v":""},{"$f":"IF(AT16=\"\",\"\",VLOOKUP(AT16,[4]ItemConfig!$A:$C,3,FALSE)&AU16)","v":""},{"$f":"IF(AV16=\"\",\"\",VLOOKUP(AV16,[4]ItemConfig!$A:$C,3,FALSE)&AW16)","v":""},{"$f":"IF(AX16=\"\",\"\",VLOOKUP(AX16,[4]ItemConfig!$A:$C,3,FALSE)&AY16)","v":""}]
[13,13,1,2,3,"225;236;240","练气","中期.","三重",225,236,240,{"$f":"ROUND([1]ResourceLevelConfig!$E17*[1]ResourceLevelConfig!$L17*0.1,0)*10","v":570},-1,0,-1,-1,-1,-1,{"$f":"IF(G17=G18,0,CONCATENATE(80*ROUND(VLOOKUP(B17,[2]MonsterPowerUpConfig!$A:$I,9,FALSE),0),\";\",120*ROUND(VLOOKUP(B17,[2]MonsterPowerUpConfig!$A:$I,9,FALSE),0)))","v":0},{"$f":"[3]主表!K15","v":12.086869206831903},{"$f":"[3]主表!L15","v":1.2748602698048324},{"$f":"[3]主表!M15","v":1.2748602698048324},{"$f":"[3]主表!N15","v":0},{"$f":"[3]主表!$G15","v":272},{"$f":"[3]升级!$H15","v":1000},{"$f":"MAX(0.1,ROUND(100/(24*3600)*VLOOKUP(B17,[1]ResourceLevelConfig!$A:$E,5,FALSE),2))","v":0.13},-1,{"$f":"AC16","v":2},{"$f":"AD16","v":1},{"$f":"AE16","v":1},240,null,null,null,1,1,13,null,null,"",null,"",null,{"$f":"IF(AR17=\"\",\"\",1)","v":""},null,{"$f":"IF(AT17=\"\",\"\",1)","v":""},null,{"$f":"IF(AV17=\"\",\"\",1)","v":""},null,{"$f":"IF(AX17=\"\",\"\",1)","v":""},{"$f":"IF(AN17=\"\",\"\",VLOOKUP(AN17,[4]ItemConfig!$A:$C,3,FALSE)&AO17)","v":""},{"$f":"IF(AP17=\"\",\"\",VLOOKUP(AP17,[4]ItemConfig!$A:$C,3,FALSE)&AQ17)","v":""},{"$f":"IF(AR17=\"\",\"\",VLOOKUP(AR17,[4]ItemConfig!$A:$C,3,FALSE)&AS17)","v":""},{"$f":"IF(AT17=\"\",\"\",VLOOKUP(AT17,[4]ItemConfig!$A:$C,3,FALSE)&AU17)","v":""},{"$f":"IF(AV17=\"\",\"\",VLOOKUP(AV17,[4]ItemConfig!$A:$C,3,FALSE)&AW17)","v":""},{"$f":"IF(AX17=\"\",\"\",VLOOKUP(AX17,[4]ItemConfig!$A:$C,3,FALSE)&AY17)","v":""}]
[14,14,1,2,4,"225;236;241","练气","中期.","四重",225,236,241,{"$f":"ROUND([1]ResourceLevelConfig!$E18*[1]ResourceLevelConfig!$L18*0.1,0)*10","v":580},-1,0,-1,-1,-1,-1,{"$f":"IF(G18=G19,0,CONCATENATE(80*ROUND(VLOOKUP(B18,[2]MonsterPowerUpConfig!$A:$I,9,FALSE),0),\";\",120*ROUND(VLOOKUP(B18,[2]MonsterPowerUpConfig!$A:$I,9,FALSE),0)))","v":0},{"$f":"[3]主表!K16","v":12.732538871484726},{"$f":"[3]主表!L16","v":1.2920732144017149},{"$f":"[3]主表!M16","v":1.2920732144017149},{"$f":"[3]主表!N16","v":0},{"$f":"[3]主表!$G16","v":276},{"$f":"[3]升级!$H16","v":1000},{"$f":"MAX(0.1,ROUND(100/(24*3600)*VLOOKUP(B18,[1]ResourceLevelConfig!$A:$E,5,FALSE),2))","v":0.13},-1,2,1,1,250,null,null,null,1,1,14,null,null,"",null,"",null,{"$f":"IF(AR18=\"\",\"\",1)","v":""},null,{"$f":"IF(AT18=\"\",\"\",1)","v":""},null,{"$f":"IF(AV18=\"\",\"\",1)","v":""},null,{"$f":"IF(AX18=\"\",\"\",1)","v":""},{"$f":"IF(AN18=\"\",\"\",VLOOKUP(AN18,[4]ItemConfig!$A:$C,3,FALSE)&AO18)","v":""},{"$f":"IF(AP18=\"\",\"\",VLOOKUP(AP18,[4]ItemConfig!$A:$C,3,FALSE)&AQ18)","v":""},{"$f":"IF(AR18=\"\",\"\",VLOOKUP(AR18,[4]ItemConfig!$A:$C,3,FALSE)&AS18)","v":""},{"$f":"IF(AT18=\"\",\"\",VLOOKUP(AT18,[4]ItemConfig!$A:$C,3,FALSE)&AU18)","v":""},{"$f":"IF(AV18=\"\",\"\",VLOOKUP(AV18,[4]ItemConfig!$A:$C,3,FALSE)&AW18)","v":""},{"$f":"IF(AX18=\"\",\"\",VLOOKUP(AX18,[4]ItemConfig!$A:$C,3,FALSE)&AY18)","v":""}]
[15,15,1,2,5,"225;236;242","练气","中期.","五重",225,236,242,{"$f":"ROUND([1]ResourceLevelConfig!$E19*[1]ResourceLevelConfig!$L19*0.1,0)*10","v":650},-1,0,-1,-1,-1,-1,{"$f":"IF(G19=G20,0,CONCATENATE(80*ROUND(VLOOKUP(B19,[2]MonsterPowerUpConfig!$A:$I,9,FALSE),0),\";\",120*ROUND(VLOOKUP(B19,[2]MonsterPowerUpConfig!$A:$I,9,FALSE),0)))","v":0},{"$f":"[3]主表!K17","v":13.393440549524598},{"$f":"[3]主表!L17","v":1.3095185652228032},{"$f":"[3]主表!M17","v":1.3095185652228032},{"$f":"[3]主表!N17","v":0},{"$f":"[3]主表!$G17","v":280},{"$f":"[3]升级!$H17","v":1000},{"$f":"MAX(0.1,ROUND(100/(24*3600)*VLOOKUP(B19,[1]ResourceLevelConfig!$A:$E,5,FALSE),2))","v":0.14000000000000001},-1,2,1,1,260,null,null,null,1,1,15,null,null,"",null,"",null,{"$f":"IF(AR19=\"\",\"\",1)","v":""},null,{"$f":"IF(AT19=\"\",\"\",1)","v":""},null,{"$f":"IF(AV19=\"\",\"\",1)","v":""},null,{"$f":"IF(AX19=\"\",\"\",1)","v":""},{"$f":"IF(AN19=\"\",\"\",VLOOKUP(AN19,[4]ItemConfig!$A:$C,3,FALSE)&AO19)","v":""},{"$f":"IF(AP19=\"\",\"\",VLOOKUP(AP19,[4]ItemConfig!$A:$C,3,FALSE)&AQ19)","v":""},{"$f":"IF(AR19=\"\",\"\",VLOOKUP(AR19,[4]ItemConfig!$A:$C,3,FALSE)&AS19)","v":""},{"$f":"IF(AT19=\"\",\"\",VLOOKUP(AT19,[4]ItemConfig!$A:$C,3,FALSE)&AU19)","v":""},{"$f":"IF(AV19=\"\",\"\",VLOOKUP(AV19,[4]ItemConfig!$A:$C,3,FALSE)&AW19)","v":""},{"$f":"IF(AX19=\"\",\"\",VLOOKUP(AX19,[4]ItemConfig!$A:$C,3,FALSE)&AY19)","v":""}]
[16,16,1,2,6,"225;236;243","练气","中期.","六重",225,236,243,{"$f":"ROUND([1]ResourceLevelConfig!$E20*[1]ResourceLevelConfig!$L20*0.1,0)*10","v":660},-1,0,-1,-1,-1,-1,{"$f":"IF(G20=G21,0,CONCATENATE(80*ROUND(VLOOKUP(B20,[2]MonsterPowerUpConfig!$A:$I,9,FALSE),0),\";\",120*ROUND(VLOOKUP(B20,[2]MonsterPowerUpConfig!$A:$I,9,FALSE),0)))","v":0},{"$f":"[3]主表!K18","v":14.069867855840208},{"$f":"[3]主表!L18","v":1.3271994601770556},{"$f":"[3]主表!M18","v":1.3271994601770556},{"$f":"[3]主表!N18","v":0},{"$f":"[3]主表!$G18","v":284},{"$f":"[3]升级!$H18","v":1000},{"$f":"MAX(0.1,ROUND(100/(24*3600)*VLOOKUP(B20,[1]ResourceLevelConfig!$A:$E,5,FALSE),2))","v":0.14000000000000001},-1,2,1,1,270,null,null,null,1,1,16,null,null,"",null,"",null,{"$f":"IF(AR20=\"\",\"\",1)","v":""},null,{"$f":"IF(AT20=\"\",\"\",1)","v":""},null,{"$f":"IF(AV20=\"\",\"\",1)","v":""},null,{"$f":"IF(AX20=\"\",\"\",1)","v":""},{"$f":"IF(AN20=\"\",\"\",VLOOKUP(AN20,[4]ItemConfig!$A:$C,3,FALSE)&AO20)","v":""},{"$f":"IF(AP20=\"\",\"\",VLOOKUP(AP20,[4]ItemConfig!$A:$C,3,FALSE)&AQ20)","v":""},{"$f":"IF(AR20=\"\",\"\",VLOOKUP(AR20,[4]ItemConfig!$A:$C,3,FALSE)&AS20)","v":""},{"$f":"IF(AT20=\"\",\"\",VLOOKUP(AT20,[4]ItemConfig!$A:$C,3,FALSE)&AU20)","v":""},{"$f":"IF(AV20=\"\",\"\",VLOOKUP(AV20,[4]ItemConfig!$A:$C,3,FALSE)&AW20)","v":""},{"$f":"IF(AX20=\"\",\"\",VLOOKUP(AX20,[4]ItemConfig!$A:$C,3,FALSE)&AY20)","v":""}]
[17,17,1,2,7,"225;236;244","练气","中期.","七重",225,236,244,{"$f":"ROUND([1]ResourceLevelConfig!$E21*[1]ResourceLevelConfig!$L21*0.1,0)*10","v":670},-1,0,-1,-1,-1,-1,{"$f":"IF(G21=G22,0,CONCATENATE(80*ROUND(VLOOKUP(B21,[2]MonsterPowerUpConfig!$A:$I,9,FALSE),0),\";\",120*ROUND(VLOOKUP(B21,[2]MonsterPowerUpConfig!$A:$I,9,FALSE),0)))","v":0},{"$f":"[3]主表!K19","v":14.762119557209486},{"$f":"[3]主表!L19","v":1.3451190795409387},{"$f":"[3]主表!M19","v":1.3451190795409387},{"$f":"[3]主表!N19","v":0},{"$f":"[3]主表!$G19","v":288},{"$f":"[3]升级!$H19","v":1000},{"$f":"MAX(0.1,ROUND(100/(24*3600)*VLOOKUP(B21,[1]ResourceLevelConfig!$A:$E,5,FALSE),2))","v":0.14000000000000001},-1,2,1,1,280,null,null,null,1,1,17,null,null,"",null,"",null,{"$f":"IF(AR21=\"\",\"\",1)","v":""},null,{"$f":"IF(AT21=\"\",\"\",1)","v":""},null,{"$f":"IF(AV21=\"\",\"\",1)","v":""},null,{"$f":"IF(AX21=\"\",\"\",1)","v":""},{"$f":"IF(AN21=\"\",\"\",VLOOKUP(AN21,[4]ItemConfig!$A:$C,3,FALSE)&AO21)","v":""},{"$f":"IF(AP21=\"\",\"\",VLOOKUP(AP21,[4]ItemConfig!$A:$C,3,FALSE)&AQ21)","v":""},{"$f":"IF(AR21=\"\",\"\",VLOOKUP(AR21,[4]ItemConfig!$A:$C,3,FALSE)&AS21)","v":""},{"$f":"IF(AT21=\"\",\"\",VLOOKUP(AT21,[4]ItemConfig!$A:$C,3,FALSE)&AU21)","v":""},{"$f":"IF(AV21=\"\",\"\",VLOOKUP(AV21,[4]ItemConfig!$A:$C,3,FALSE)&AW21)","v":""},{"$f":"IF(AX21=\"\",\"\",VLOOKUP(AX21,[4]ItemConfig!$A:$C,3,FALSE)&AY21)","v":""}]
[18,18,1,2,8,"225;236;245","练气","中期.","八重",225,236,245,{"$f":"ROUND([1]ResourceLevelConfig!$E22*[1]ResourceLevelConfig!$L22*0.1,0)*10","v":680},-1,0,-1,-1,-1,-1,{"$f":"IF(G22=G23,0,CONCATENATE(80*ROUND(VLOOKUP(B22,[2]MonsterPowerUpConfig!$A:$I,9,FALSE),0),\";\",120*ROUND(VLOOKUP(B22,[2]MonsterPowerUpConfig!$A:$I,9,FALSE),0)))","v":0},{"$f":"[3]主表!K20","v":15.47049965789364},{"$f":"[3]主表!L20","v":1.3632806465304663},{"$f":"[3]主表!M20","v":1.3632806465304663},{"$f":"[3]主表!N20","v":0},{"$f":"[3]主表!$G20","v":293},{"$f":"[3]升级!$H20","v":1000},{"$f":"MAX(0.1,ROUND(100/(24*3600)*VLOOKUP(B22,[1]ResourceLevelConfig!$A:$E,5,FALSE),2))","v":0.14000000000000001},-1,2,1,1,290,null,null,null,1,1,18,null,null,"",null,"",null,{"$f":"IF(AR22=\"\",\"\",1)","v":""},null,{"$f":"IF(AT22=\"\",\"\",1)","v":""},null,{"$f":"IF(AV22=\"\",\"\",1)","v":""},null,{"$f":"IF(AX22=\"\",\"\",1)","v":""},{"$f":"IF(AN22=\"\",\"\",VLOOKUP(AN22,[4]ItemConfig!$A:$C,3,FALSE)&AO22)","v":""},{"$f":"IF(AP22=\"\",\"\",VLOOKUP(AP22,[4]ItemConfig!$A:$C,3,FALSE)&AQ22)","v":""},{"$f":"IF(AR22=\"\",\"\",VLOOKUP(AR22,[4]ItemConfig!$A:$C,3,FALSE)&AS22)","v":""},{"$f":"IF(AT22=\"\",\"\",VLOOKUP(AT22,[4]ItemConfig!$A:$C,3,FALSE)&AU22)","v":""},{"$f":"IF(AV22=\"\",\"\",VLOOKUP(AV22,[4]ItemConfig!$A:$C,3,FALSE)&AW22)","v":""},{"$f":"IF(AX22=\"\",\"\",VLOOKUP(AX22,[4]ItemConfig!$A:$C,3,FALSE)&AY22)","v":""}]
[19,19,1,2,9,"225;236;246","练气","中期.","九重",225,236,246,{"$f":"ROUND([1]ResourceLevelConfig!$E23*[1]ResourceLevelConfig!$L23*0.1,0)*10","v":700},-1,0,-1,-1,-1,-1,{"$f":"IF(G23=G24,0,CONCATENATE(80*ROUND(VLOOKUP(B23,[2]MonsterPowerUpConfig!$A:$I,9,FALSE),0),\";\",120*ROUND(VLOOKUP(B23,[2]MonsterPowerUpConfig!$A:$I,9,FALSE),0)))","v":0},{"$f":"[3]主表!K21","v":16.195317486603365},{"$f":"[3]主表!L21","v":1.3816874278809614},{"$f":"[3]主表!M21","v":1.3816874278809614},{"$f":"[3]主表!N21","v":0},{"$f":"[3]主表!$G21","v":297},{"$f":"[3]升级!$H21","v":1000},{"$f":"MAX(0.1,ROUND(100/(24*3600)*VLOOKUP(B23,[1]ResourceLevelConfig!$A:$E,5,FALSE),2))","v":0.14000000000000001},-1,2,1,1,300,null,null,null,1,1,19,null,null,"",null,"",null,{"$f":"IF(AR23=\"\",\"\",1)","v":""},null,{"$f":"IF(AT23=\"\",\"\",1)","v":""},null,{"$f":"IF(AV23=\"\",\"\",1)","v":""},null,{"$f":"IF(AX23=\"\",\"\",1)","v":""},{"$f":"IF(AN23=\"\",\"\",VLOOKUP(AN23,[4]ItemConfig!$A:$C,3,FALSE)&AO23)","v":""},{"$f":"IF(AP23=\"\",\"\",VLOOKUP(AP23,[4]ItemConfig!$A:$C,3,FALSE)&AQ23)","v":""},{"$f":"IF(AR23=\"\",\"\",VLOOKUP(AR23,[4]ItemConfig!$A:$C,3,FALSE)&AS23)","v":""},{"$f":"IF(AT23=\"\",\"\",VLOOKUP(AT23,[4]ItemConfig!$A:$C,3,FALSE)&AU23)","v":""},{"$f":"IF(AV23=\"\",\"\",VLOOKUP(AV23,[4]ItemConfig!$A:$C,3,FALSE)&AW23)","v":""},{"$f":"IF(AX23=\"\",\"\",VLOOKUP(AX23,[4]ItemConfig!$A:$C,3,FALSE)&AY23)","v":""}]
[20,20,1,2,10,"225;236;247","练气","中期.","十重",225,236,247,{"$f":"ROUND([1]ResourceLevelConfig!$E24*[1]ResourceLevelConfig!$L24*0.1,0)*10","v":710},100004,0,{"$f":"AN24","v":1302},{"$f":"AO24","v":1},{"$f":"_xlfn.TEXTJOIN(\";\",1,AP24,AR24,AT24,AV24)","v":""},{"$f":"_xlfn.TEXTJOIN(\";\",1,AQ24,AS24,AU24,AW24)","v":""},{"$f":"IF(G24=G25,0,CONCATENATE(80*ROUND(VLOOKUP(B24,[2]MonsterPowerUpConfig!$A:$I,9,FALSE),0),\";\",120*ROUND(VLOOKUP(B24,[2]MonsterPowerUpConfig!$A:$I,9,FALSE),0)))","v":0},{"$f":"[3]主表!K22","v":16.936887784858655},{"$f":"[3]主表!L22","v":1.4003427344346475},{"$f":"[3]主表!M22","v":1.4003427344346475},{"$f":"[3]主表!N22","v":0},{"$f":"[3]主表!$G22","v":302},{"$f":"[3]升级!$H22","v":1000},{"$f":"MAX(0.1,ROUND(100/(24*3600)*VLOOKUP(B24,[1]ResourceLevelConfig!$A:$E,5,FALSE),2))","v":0.14000000000000001},20,2,1,1,310,null,null,null,1,1,20,null,1302,1,null,"",null,{"$f":"IF(AR24=\"\",\"\",1)","v":""},null,{"$f":"IF(AT24=\"\",\"\",1)","v":""},null,{"$f":"IF(AV24=\"\",\"\",1)","v":""},null,{"$f":"IF(AX24=\"\",\"\",1)","v":""},{"$f":"IF(AN24=\"\",\"\",VLOOKUP(AN24,[4]ItemConfig!$A:$C,3,FALSE)&AO24)","v":"凝灵丹1"},{"$f":"IF(AP24=\"\",\"\",VLOOKUP(AP24,[4]ItemConfig!$A:$C,3,FALSE)&AQ24)","v":""},{"$f":"IF(AR24=\"\",\"\",VLOOKUP(AR24,[4]ItemConfig!$A:$C,3,FALSE)&AS24)","v":""},{"$f":"IF(AT24=\"\",\"\",VLOOKUP(AT24,[4]ItemConfig!$A:$C,3,FALSE)&AU24)","v":""},{"$f":"IF(AV24=\"\",\"\",VLOOKUP(AV24,[4]ItemConfig!$A:$C,3,FALSE)&AW24)","v":""},{"$f":"IF(AX24=\"\",\"\",VLOOKUP(AX24,[4]ItemConfig!$A:$C,3,FALSE)&AY24)","v":""}]
[21,21,1,3,1,"225;237;238","练气","后期.","一重",225,237,238,{"$f":"ROUND([1]ResourceLevelConfig!$E25*[1]ResourceLevelConfig!$L25*0.1,0)*10","v":720},-1,0,-1,-1,-1,-1,{"$f":"IF(G25=G26,0,CONCATENATE(80*ROUND(VLOOKUP(B25,[2]MonsterPowerUpConfig!$A:$I,9,FALSE),0),\";\",120*ROUND(VLOOKUP(B25,[2]MonsterPowerUpConfig!$A:$I,9,FALSE),0)))","v":0},{"$f":"[3]主表!K23","v":19.205770854078942},{"$f":"[3]主表!L23","v":1.5403770078781123},{"$f":"[3]主表!M23","v":1.5403770078781123},{"$f":"[3]主表!N23","v":0},{"$f":"[3]主表!$G23","v":351},{"$f":"[3]升级!$H23","v":1000},{"$f":"MAX(0.1,ROUND(100/(24*3600)*VLOOKUP(B25,[1]ResourceLevelConfig!$A:$E,5,FALSE),2))","v":0.14000000000000001},-1,3,1,1,320,null,null,null,1,1,21,null,null,"",null,"",null,{"$f":"IF(AR25=\"\",\"\",1)","v":""},null,{"$f":"IF(AT25=\"\",\"\",1)","v":""},null,{"$f":"IF(AV25=\"\",\"\",1)","v":""},null,{"$f":"IF(AX25=\"\",\"\",1)","v":""},{"$f":"IF(AN25=\"\",\"\",VLOOKUP(AN25,[4]ItemConfig!$A:$C,3,FALSE)&AO25)","v":""},{"$f":"IF(AP25=\"\",\"\",VLOOKUP(AP25,[4]ItemConfig!$A:$C,3,FALSE)&AQ25)","v":""},{"$f":"IF(AR25=\"\",\"\",VLOOKUP(AR25,[4]ItemConfig!$A:$C,3,FALSE)&AS25)","v":""},{"$f":"IF(AT25=\"\",\"\",VLOOKUP(AT25,[4]ItemConfig!$A:$C,3,FALSE)&AU25)","v":""},{"$f":"IF(AV25=\"\",\"\",VLOOKUP(AV25,[4]ItemConfig!$A:$C,3,FALSE)&AW25)","v":""},{"$f":"IF(AX25=\"\",\"\",VLOOKUP(AX25,[4]ItemConfig!$A:$C,3,FALSE)&AY25)","v":""}]
[22,22,1,3,2,"225;237;239","练气","后期.","二重",225,237,239,{"$f":"ROUND([1]ResourceLevelConfig!$E26*[1]ResourceLevelConfig!$L26*0.1,0)*10","v":730},-1,0,-1,-1,-1,-1,{"$f":"IF(G26=G27,0,CONCATENATE(80*ROUND(VLOOKUP(B26,[2]MonsterPowerUpConfig!$A:$I,9,FALSE),0),\";\",120*ROUND(VLOOKUP(B26,[2]MonsterPowerUpConfig!$A:$I,9,FALSE),0)))","v":0},{"$f":"[3]主表!K24","v":20.048044341785008},{"$f":"[3]主表!L24","v":1.5611749139097879},{"$f":"[3]主表!M24","v":1.5611749139097879},{"$f":"[3]主表!N24","v":0},{"$f":"[3]主表!$G24","v":356},{"$f":"[3]升级!$H24","v":1000},{"$f":"MAX(0.1,ROUND(100/(24*3600)*VLOOKUP(B26,[1]ResourceLevelConfig!$A:$E,5,FALSE),2))","v":0.14000000000000001},-1,{"$f":"AC25","v":3},{"$f":"AD25","v":1},{"$f":"AE25","v":1},330,null,null,null,1,1,22,null,null,"",null,"",null,{"$f":"IF(AR26=\"\",\"\",1)","v":""},null,{"$f":"IF(AT26=\"\",\"\",1)","v":""},null,{"$f":"IF(AV26=\"\",\"\",1)","v":""},null,{"$f":"IF(AX26=\"\",\"\",1)","v":""},{"$f":"IF(AN26=\"\",\"\",VLOOKUP(AN26,[4]ItemConfig!$A:$C,3,FALSE)&AO26)","v":""},{"$f":"IF(AP26=\"\",\"\",VLOOKUP(AP26,[4]ItemConfig!$A:$C,3,FALSE)&AQ26)","v":""},{"$f":"IF(AR26=\"\",\"\",VLOOKUP(AR26,[4]ItemConfig!$A:$C,3,FALSE)&AS26)","v":""},{"$f":"IF(AT26=\"\",\"\",VLOOKUP(AT26,[4]ItemConfig!$A:$C,3,FALSE)&AU26)","v":""},{"$f":"IF(AV26=\"\",\"\",VLOOKUP(AV26,[4]ItemConfig!$A:$C,3,FALSE)&AW26)","v":""},{"$f":"IF(AX26=\"\",\"\",VLOOKUP(AX26,[4]ItemConfig!$A:$C,3,FALSE)&AY26)","v":""}]
[23,23,1,3,3,"225;237;240","练气","后期.","三重",225,237,240,{"$f":"ROUND([1]ResourceLevelConfig!$E27*[1]ResourceLevelConfig!$L27*0.1,0)*10","v":740},-1,0,-1,-1,-1,-1,{"$f":"IF(G27=G28,0,CONCATENATE(80*ROUND(VLOOKUP(B27,[2]MonsterPowerUpConfig!$A:$I,9,FALSE),0),\";\",120*ROUND(VLOOKUP(B27,[2]MonsterPowerUpConfig!$A:$I,9,FALSE),0)))","v":0},{"$f":"[3]主表!K25","v":20.909561093755016},{"$f":"[3]主表!L25","v":1.5822536296997824},{"$f":"[3]主表!M25","v":1.5822536296997824},{"$f":"[3]主表!N25","v":0},{"$f":"[3]主表!$G25","v":362},{"$f":"[3]升级!$H25","v":1000},{"$f":"MAX(0.1,ROUND(100/(24*3600)*VLOOKUP(B27,[1]ResourceLevelConfig!$A:$E,5,FALSE),2))","v":0.14000000000000001},-1,{"$f":"AC26","v":3},1,1,340,null,null,null,1,1,23,null,null,"",null,"",null,{"$f":"IF(AR27=\"\",\"\",1)","v":""},null,{"$f":"IF(AT27=\"\",\"\",1)","v":""},null,{"$f":"IF(AV27=\"\",\"\",1)","v":""},null,{"$f":"IF(AX27=\"\",\"\",1)","v":""},{"$f":"IF(AN27=\"\",\"\",VLOOKUP(AN27,[4]ItemConfig!$A:$C,3,FALSE)&AO27)","v":""},{"$f":"IF(AP27=\"\",\"\",VLOOKUP(AP27,[4]ItemConfig!$A:$C,3,FALSE)&AQ27)","v":""},{"$f":"IF(AR27=\"\",\"\",VLOOKUP(AR27,[4]ItemConfig!$A:$C,3,FALSE)&AS27)","v":""},{"$f":"IF(AT27=\"\",\"\",VLOOKUP(AT27,[4]ItemConfig!$A:$C,3,FALSE)&AU27)","v":""},{"$f":"IF(AV27=\"\",\"\",VLOOKUP(AV27,[4]ItemConfig!$A:$C,3,FALSE)&AW27)","v":""},{"$f":"IF(AX27=\"\",\"\",VLOOKUP(AX27,[4]ItemConfig!$A:$C,3,FALSE)&AY27)","v":""}]
[24,24,1,3,4,"225;237;241","练气","后期.","四重",225,237,241,{"$f":"ROUND([1]ResourceLevelConfig!$E28*[1]ResourceLevelConfig!$L28*0.1,0)*10","v":820},-1,0,-1,-1,-1,-1,{"$f":"IF(G28=G29,0,CONCATENATE(80*ROUND(VLOOKUP(B28,[2]MonsterPowerUpConfig!$A:$I,9,FALSE),0),\";\",120*ROUND(VLOOKUP(B28,[2]MonsterPowerUpConfig!$A:$I,9,FALSE),0)))","v":0},{"$f":"[3]主表!K26","v":21.79068720256657},{"$f":"[3]主表!L26","v":1.6036169466932659},{"$f":"[3]主表!M26","v":1.6036169466932659},{"$f":"[3]主表!N26","v":0},{"$f":"[3]主表!$G26","v":367},{"$f":"[3]升级!$H26","v":1000},{"$f":"MAX(0.1,ROUND(100/(24*3600)*VLOOKUP(B28,[1]ResourceLevelConfig!$A:$E,5,FALSE),2))","v":0.15},-1,3,1,1,350,null,null,null,1,1,24,null,null,"",null,"",null,{"$f":"IF(AR28=\"\",\"\",1)","v":""},null,{"$f":"IF(AT28=\"\",\"\",1)","v":""},null,{"$f":"IF(AV28=\"\",\"\",1)","v":""},null,{"$f":"IF(AX28=\"\",\"\",1)","v":""},{"$f":"IF(AN28=\"\",\"\",VLOOKUP(AN28,[4]ItemConfig!$A:$C,3,FALSE)&AO28)","v":""},{"$f":"IF(AP28=\"\",\"\",VLOOKUP(AP28,[4]ItemConfig!$A:$C,3,FALSE)&AQ28)","v":""},{"$f":"IF(AR28=\"\",\"\",VLOOKUP(AR28,[4]ItemConfig!$A:$C,3,FALSE)&AS28)","v":""},{"$f":"IF(AT28=\"\",\"\",VLOOKUP(AT28,[4]ItemConfig!$A:$C,3,FALSE)&AU28)","v":""},{"$f":"IF(AV28=\"\",\"\",VLOOKUP(AV28,[4]ItemConfig!$A:$C,3,FALSE)&AW28)","v":""},{"$f":"IF(AX28=\"\",\"\",VLOOKUP(AX28,[4]ItemConfig!$A:$C,3,FALSE)&AY28)","v":""}]
[25,25,1,3,5,"225;237;242","练气","后期.","五重",225,237,242,{"$f":"ROUND([1]ResourceLevelConfig!$E29*[1]ResourceLevelConfig!$L29*0.1,0)*10","v":830},-1,0,-1,-1,-1,-1,{"$f":"IF(G29=G30,0,CONCATENATE(80*ROUND(VLOOKUP(B29,[2]MonsterPowerUpConfig!$A:$I,9,FALSE),0),\";\",120*ROUND(VLOOKUP(B29,[2]MonsterPowerUpConfig!$A:$I,9,FALSE),0)))","v":0},{"$f":"[3]主表!K27","v":22.691795138600636},{"$f":"[3]主表!L27","v":1.6252687075268504},{"$f":"[3]主表!M27","v":1.6252687075268504},{"$f":"[3]主表!N27","v":0},{"$f":"[3]主表!$G27","v":373},{"$f":"[3]升级!$H27","v":1000},{"$f":"MAX(0.1,ROUND(100/(24*3600)*VLOOKUP(B29,[1]ResourceLevelConfig!$A:$E,5,FALSE),2))","v":0.15},-1,3,1,1,360,null,null,null,1,1,25,null,null,"",null,"",null,{"$f":"IF(AR29=\"\",\"\",1)","v":""},null,{"$f":"IF(AT29=\"\",\"\",1)","v":""},null,{"$f":"IF(AV29=\"\",\"\",1)","v":""},null,{"$f":"IF(AX29=\"\",\"\",1)","v":""},{"$f":"IF(AN29=\"\",\"\",VLOOKUP(AN29,[4]ItemConfig!$A:$C,3,FALSE)&AO29)","v":""},{"$f":"IF(AP29=\"\",\"\",VLOOKUP(AP29,[4]ItemConfig!$A:$C,3,FALSE)&AQ29)","v":""},{"$f":"IF(AR29=\"\",\"\",VLOOKUP(AR29,[4]ItemConfig!$A:$C,3,FALSE)&AS29)","v":""},{"$f":"IF(AT29=\"\",\"\",VLOOKUP(AT29,[4]ItemConfig!$A:$C,3,FALSE)&AU29)","v":""},{"$f":"IF(AV29=\"\",\"\",VLOOKUP(AV29,[4]ItemConfig!$A:$C,3,FALSE)&AW29)","v":""},{"$f":"IF(AX29=\"\",\"\",VLOOKUP(AX29,[4]ItemConfig!$A:$C,3,FALSE)&AY29)","v":""}]
[26,26,1,3,6,"225;237;243","练气","后期.","六重",225,237,243,{"$f":"ROUND([1]ResourceLevelConfig!$E30*[1]ResourceLevelConfig!$L30*0.1,0)*10","v":840},-1,0,-1,-1,-1,-1,{"$f":"IF(G30=G31,0,CONCATENATE(80*ROUND(VLOOKUP(B30,[2]MonsterPowerUpConfig!$A:$I,9,FALSE),0),\";\",120*ROUND(VLOOKUP(B30,[2]MonsterPowerUpConfig!$A:$I,9,FALSE),0)))","v":0},{"$f":"[3]主表!K28","v":23.613263855527098},{"$f":"[3]主表!L28","v":1.6472128067197676},{"$f":"[3]主表!M28","v":1.6472128067197676},{"$f":"[3]主表!N28","v":0},{"$f":"[3]主表!$G28","v":379},{"$f":"[3]升级!$H28","v":1000},{"$f":"MAX(0.1,ROUND(100/(24*3600)*VLOOKUP(B30,[1]ResourceLevelConfig!$A:$E,5,FALSE),2))","v":0.15},-1,3,1,1,370,null,null,null,1,1,26,null,null,"",null,"",null,{"$f":"IF(AR30=\"\",\"\",1)","v":""},null,{"$f":"IF(AT30=\"\",\"\",1)","v":""},null,{"$f":"IF(AV30=\"\",\"\",1)","v":""},null,{"$f":"IF(AX30=\"\",\"\",1)","v":""},{"$f":"IF(AN30=\"\",\"\",VLOOKUP(AN30,[4]ItemConfig!$A:$C,3,FALSE)&AO30)","v":""},{"$f":"IF(AP30=\"\",\"\",VLOOKUP(AP30,[4]ItemConfig!$A:$C,3,FALSE)&AQ30)","v":""},{"$f":"IF(AR30=\"\",\"\",VLOOKUP(AR30,[4]ItemConfig!$A:$C,3,FALSE)&AS30)","v":""},{"$f":"IF(AT30=\"\",\"\",VLOOKUP(AT30,[4]ItemConfig!$A:$C,3,FALSE)&AU30)","v":""},{"$f":"IF(AV30=\"\",\"\",VLOOKUP(AV30,[4]ItemConfig!$A:$C,3,FALSE)&AW30)","v":""},{"$f":"IF(AX30=\"\",\"\",VLOOKUP(AX30,[4]ItemConfig!$A:$C,3,FALSE)&AY30)","v":""}]
[27,27,1,3,7,"225;237;244","练气","后期.","七重",225,237,244,{"$f":"ROUND([1]ResourceLevelConfig!$E31*[1]ResourceLevelConfig!$L31*0.1,0)*10","v":860},-1,0,-1,-1,-1,-1,{"$f":"IF(G31=G32,0,CONCATENATE(80*ROUND(VLOOKUP(B31,[2]MonsterPowerUpConfig!$A:$I,9,FALSE),0),\";\",120*ROUND(VLOOKUP(B31,[2]MonsterPowerUpConfig!$A:$I,9,FALSE),0)))","v":0},{"$f":"[3]主表!K29","v":24.555478897476213},{"$f":"[3]主表!L29","v":1.6694531913743802},{"$f":"[3]主表!M29","v":1.6694531913743802},{"$f":"[3]主表!N29","v":0},{"$f":"[3]主表!$G29","v":385},{"$f":"[3]升级!$H29","v":1000},{"$f":"MAX(0.1,ROUND(100/(24*3600)*VLOOKUP(B31,[1]ResourceLevelConfig!$A:$E,5,FALSE),2))","v":0.15},-1,3,1,1,380,null,null,null,1,1,27,null,null,"",null,"",null,{"$f":"IF(AR31=\"\",\"\",1)","v":""},null,{"$f":"IF(AT31=\"\",\"\",1)","v":""},null,{"$f":"IF(AV31=\"\",\"\",1)","v":""},null,{"$f":"IF(AX31=\"\",\"\",1)","v":""},{"$f":"IF(AN31=\"\",\"\",VLOOKUP(AN31,[4]ItemConfig!$A:$C,3,FALSE)&AO31)","v":""},{"$f":"IF(AP31=\"\",\"\",VLOOKUP(AP31,[4]ItemConfig!$A:$C,3,FALSE)&AQ31)","v":""},{"$f":"IF(AR31=\"\",\"\",VLOOKUP(AR31,[4]ItemConfig!$A:$C,3,FALSE)&AS31)","v":""},{"$f":"IF(AT31=\"\",\"\",VLOOKUP(AT31,[4]ItemConfig!$A:$C,3,FALSE)&AU31)","v":""},{"$f":"IF(AV31=\"\",\"\",VLOOKUP(AV31,[4]ItemConfig!$A:$C,3,FALSE)&AW31)","v":""},{"$f":"IF(AX31=\"\",\"\",VLOOKUP(AX31,[4]ItemConfig!$A:$C,3,FALSE)&AY31)","v":""}]
[28,28,1,3,8,"225;237;245","练气","后期.","八重",225,237,245,{"$f":"ROUND([1]ResourceLevelConfig!$E32*[1]ResourceLevelConfig!$L32*0.1,0)*10","v":870},-1,0,-1,-1,-1,-1,{"$f":"IF(G32=G33,0,CONCATENATE(80*ROUND(VLOOKUP(B32,[2]MonsterPowerUpConfig!$A:$I,9,FALSE),0),\";\",120*ROUND(VLOOKUP(B32,[2]MonsterPowerUpConfig!$A:$I,9,FALSE),0)))","v":0},{"$f":"[3]主表!K30","v":25.518832507922028},{"$f":"[3]主表!L30","v":1.6919938618861494},{"$f":"[3]主表!M30","v":1.6919938618861494},{"$f":"[3]主表!N30","v":0},{"$f":"[3]主表!$G30","v":391},{"$f":"[3]升级!$H30","v":1000},{"$f":"MAX(0.1,ROUND(100/(24*3600)*VLOOKUP(B32,[1]ResourceLevelConfig!$A:$E,5,FALSE),2))","v":0.15},-1,3,1,1,390,null,null,null,1,1,28,null,null,"",null,"",null,{"$f":"IF(AR32=\"\",\"\",1)","v":""},null,{"$f":"IF(AT32=\"\",\"\",1)","v":""},null,{"$f":"IF(AV32=\"\",\"\",1)","v":""},null,{"$f":"IF(AX32=\"\",\"\",1)","v":""},{"$f":"IF(AN32=\"\",\"\",VLOOKUP(AN32,[4]ItemConfig!$A:$C,3,FALSE)&AO32)","v":""},{"$f":"IF(AP32=\"\",\"\",VLOOKUP(AP32,[4]ItemConfig!$A:$C,3,FALSE)&AQ32)","v":""},{"$f":"IF(AR32=\"\",\"\",VLOOKUP(AR32,[4]ItemConfig!$A:$C,3,FALSE)&AS32)","v":""},{"$f":"IF(AT32=\"\",\"\",VLOOKUP(AT32,[4]ItemConfig!$A:$C,3,FALSE)&AU32)","v":""},{"$f":"IF(AV32=\"\",\"\",VLOOKUP(AV32,[4]ItemConfig!$A:$C,3,FALSE)&AW32)","v":""},{"$f":"IF(AX32=\"\",\"\",VLOOKUP(AX32,[4]ItemConfig!$A:$C,3,FALSE)&AY32)","v":""}]
[29,29,1,3,9,"225;237;246","练气","后期.","九重",225,237,246,{"$f":"ROUND([1]ResourceLevelConfig!$E33*[1]ResourceLevelConfig!$L33*0.1,0)*10","v":880},-1,0,-1,-1,-1,-1,{"$f":"IF(G33=G34,0,CONCATENATE(80*ROUND(VLOOKUP(B33,[2]MonsterPowerUpConfig!$A:$I,9,FALSE),0),\";\",120*ROUND(VLOOKUP(B33,[2]MonsterPowerUpConfig!$A:$I,9,FALSE),0)))","v":0},{"$f":"[3]主表!K31","v":26.503723740304785},{"$f":"[3]主表!L31","v":1.7148388726631894},{"$f":"[3]主表!M31","v":1.7148388726631894},{"$f":"[3]主表!N31","v":0},{"$f":"[3]主表!$G31","v":397},{"$f":"[3]升级!$H31","v":1000},{"$f":"MAX(0.1,ROUND(100/(24*3600)*VLOOKUP(B33,[1]ResourceLevelConfig!$A:$E,5,FALSE),2))","v":0.15},-1,3,1,1,400,null,null,null,1,1,29,null,null,"",null,"",null,{"$f":"IF(AR33=\"\",\"\",1)","v":""},null,{"$f":"IF(AT33=\"\",\"\",1)","v":""},null,{"$f":"IF(AV33=\"\",\"\",1)","v":""},null,{"$f":"IF(AX33=\"\",\"\",1)","v":""},{"$f":"IF(AN33=\"\",\"\",VLOOKUP(AN33,[4]ItemConfig!$A:$C,3,FALSE)&AO33)","v":""},{"$f":"IF(AP33=\"\",\"\",VLOOKUP(AP33,[4]ItemConfig!$A:$C,3,FALSE)&AQ33)","v":""},{"$f":"IF(AR33=\"\",\"\",VLOOKUP(AR33,[4]ItemConfig!$A:$C,3,FALSE)&AS33)","v":""},{"$f":"IF(AT33=\"\",\"\",VLOOKUP(AT33,[4]ItemConfig!$A:$C,3,FALSE)&AU33)","v":""},{"$f":"IF(AV33=\"\",\"\",VLOOKUP(AV33,[4]ItemConfig!$A:$C,3,FALSE)&AW33)","v":""},{"$f":"IF(AX33=\"\",\"\",VLOOKUP(AX33,[4]ItemConfig!$A:$C,3,FALSE)&AY33)","v":""}]
[30,30,1,3,10,"225;237;247","练气","后期.","十重",225,237,247,{"$f":"ROUND([1]ResourceLevelConfig!$E34*[1]ResourceLevelConfig!$L34*0.1,0)*10","v":900},100004,0,{"$f":"AN34","v":1303},{"$f":"AO34","v":1},{"$f":"_xlfn.TEXTJOIN(\";\",1,AP34,AR34,AT34,AV34)","v":"1201"},{"$f":"_xlfn.TEXTJOIN(\";\",1,AQ34,AS34,AU34,AW34)","v":"1"},{"$f":"CONCATENATE(ROUND(0.6*VLOOKUP(A34,[3]主表!$A:$P,16,FALSE)*[5]HeroModelConfig!$Q$5,0),\";\",ROUND(0.9*VLOOKUP(A34,[3]主表!$A:$P,16,FALSE)*[5]HeroModelConfig!$Q$5,0),\";\",INT(A34/30)+1)","v":"1918;2878;2"},{"$f":"[3]主表!K32","v":27.510558570419157},{"$f":"[3]主表!L32","v":1.7379923328555369},{"$f":"[3]主表!M32","v":1.7379923328555369},{"$f":"[3]主表!N32","v":0},{"$f":"[3]主表!$G32","v":404},{"$f":"[3]升级!$H32","v":1000},{"$f":"MAX(0.1,ROUND(100/(24*3600)*VLOOKUP(B34,[1]ResourceLevelConfig!$A:$E,5,FALSE),2))","v":0.15},50,3,1,1,410,null,null,null,1,1,30,null,1303,1,1201,1,null,{"$f":"IF(AR34=\"\",\"\",1)","v":""},null,{"$f":"IF(AT34=\"\",\"\",1)","v":""},null,{"$f":"IF(AV34=\"\",\"\",1)","v":""},null,{"$f":"IF(AX34=\"\",\"\",1)","v":""},{"$f":"IF(AN34=\"\",\"\",VLOOKUP(AN34,[4]ItemConfig!$A:$C,3,FALSE)&AO34)","v":"筑基丹1"},{"$f":"IF(AP34=\"\",\"\",VLOOKUP(AP34,[4]ItemConfig!$A:$C,3,FALSE)&AQ34)","v":"灵血草1"},{"$f":"IF(AR34=\"\",\"\",VLOOKUP(AR34,[4]ItemConfig!$A:$C,3,FALSE)&AS34)","v":""},{"$f":"IF(AT34=\"\",\"\",VLOOKUP(AT34,[4]ItemConfig!$A:$C,3,FALSE)&AU34)","v":""},{"$f":"IF(AV34=\"\",\"\",VLOOKUP(AV34,[4]ItemConfig!$A:$C,3,FALSE)&AW34)","v":""},{"$f":"IF(AX34=\"\",\"\",VLOOKUP(AX34,[4]ItemConfig!$A:$C,3,FALSE)&AY34)","v":""}]
[31,31,2,4,1,"226;235;238","筑基","前期.","一重",226,235,238,{"$f":"ROUND([1]ResourceLevelConfig!$E35*[1]ResourceLevelConfig!$L35*0.1,0)*10","v":980},-1,0,-1,-1,{"$f":"IF(I35=10,\"1001;1002;1004\",-1)","v":-1},{"$f":"IF(R35=-1,-1,\"100;200;300\")","v":-1},{"$f":"IF(G35=G36,0,CONCATENATE(\"1;1\"))","v":0},{"$f":"[3]主表!K33","v":36.607408071820217},{"$f":"[3]主表!L33","v":2.2593900327121981},{"$f":"[3]主表!M33","v":2.2593900327121981},{"$f":"[3]主表!N33","v":0},{"$f":"[3]主表!$G33","v":533},{"$f":"[3]升级!$H33","v":1100},{"$f":"MAX(0.1,ROUND(100/(24*3600)*VLOOKUP(B35,[1]ResourceLevelConfig!$A:$E,5,FALSE),2))","v":0.16},-1,3,2,1,420,null,null,null,1,1,31,null,null,"",null,"",null,{"$f":"IF(AR35=\"\",\"\",1)","v":""},null,{"$f":"IF(AT35=\"\",\"\",1)","v":""},null,{"$f":"IF(AV35=\"\",\"\",1)","v":""},null,{"$f":"IF(AX35=\"\",\"\",1)","v":""},{"$f":"IF(AN35=\"\",\"\",VLOOKUP(AN35,[4]ItemConfig!$A:$C,3,FALSE)&AO35)","v":""},{"$f":"IF(AP35=\"\",\"\",VLOOKUP(AP35,[4]ItemConfig!$A:$C,3,FALSE)&AQ35)","v":""},{"$f":"IF(AR35=\"\",\"\",VLOOKUP(AR35,[4]ItemConfig!$A:$C,3,FALSE)&AS35)","v":""},{"$f":"IF(AT35=\"\",\"\",VLOOKUP(AT35,[4]ItemConfig!$A:$C,3,FALSE)&AU35)","v":""},{"$f":"IF(AV35=\"\",\"\",VLOOKUP(AV35,[4]ItemConfig!$A:$C,3,FALSE)&AW35)","v":""},{"$f":"IF(AX35=\"\",\"\",VLOOKUP(AX35,[4]ItemConfig!$A:$C,3,FALSE)&AY35)","v":""}]
[32,32,2,4,2,"226;235;239","筑基","前期.","二重",226,235,239,{"$f":"ROUND([1]ResourceLevelConfig!$E36*[1]ResourceLevelConfig!$L36*0.1,0)*10","v":990},-1,0,-1,-1,{"$f":"IF(I36=10,\"1001;1002;1004\",-1)","v":-1},{"$f":"IF(R36=-1,-1,\"100;200;300\")","v":-1},0,{"$f":"[3]主表!K34","v":37.956748192696764},{"$f":"[3]主表!L34","v":2.2898959292225483},{"$f":"[3]主表!M34","v":2.2898959292225483},{"$f":"[3]主表!N34","v":0},{"$f":"[3]主表!$G34","v":541},{"$f":"[3]升级!$H34","v":1100},{"$f":"MAX(0.1,ROUND(100/(24*3600)*VLOOKUP(B36,[1]ResourceLevelConfig!$A:$E,5,FALSE),2))","v":0.16},-1,{"$f":"AC35","v":3},{"$f":"AD35","v":2},{"$f":"AE35","v":1},430,null,null,null,1,1,32,null,null,"",null,"",null,{"$f":"IF(AR36=\"\",\"\",1)","v":""},null,{"$f":"IF(AT36=\"\",\"\",1)","v":""},null,{"$f":"IF(AV36=\"\",\"\",1)","v":""},null,{"$f":"IF(AX36=\"\",\"\",1)","v":""},{"$f":"IF(AN36=\"\",\"\",VLOOKUP(AN36,[4]ItemConfig!$A:$C,3,FALSE)&AO36)","v":""},{"$f":"IF(AP36=\"\",\"\",VLOOKUP(AP36,[4]ItemConfig!$A:$C,3,FALSE)&AQ36)","v":""},{"$f":"IF(AR36=\"\",\"\",VLOOKUP(AR36,[4]ItemConfig!$A:$C,3,FALSE)&AS36)","v":""},{"$f":"IF(AT36=\"\",\"\",VLOOKUP(AT36,[4]ItemConfig!$A:$C,3,FALSE)&AU36)","v":""},{"$f":"IF(AV36=\"\",\"\",VLOOKUP(AV36,[4]ItemConfig!$A:$C,3,FALSE)&AW36)","v":""},{"$f":"IF(AX36=\"\",\"\",VLOOKUP(AX36,[4]ItemConfig!$A:$C,3,FALSE)&AY36)","v":""}]
[33,33,2,4,3,"226;235;240","筑基","前期.","三重",226,235,240,{"$f":"ROUND([1]ResourceLevelConfig!$E37*[1]ResourceLevelConfig!$L37*0.1,0)*10","v":1010},-1,0,-1,-1,-1,-1,0,{"$f":"[3]主表!K35","v":39.335851923669878},{"$f":"[3]主表!L35","v":2.3208137111127694},{"$f":"[3]主表!M35","v":2.3208137111127694},{"$f":"[3]主表!N35","v":0},{"$f":"[3]主表!$G35","v":550},{"$f":"[3]升级!$H35","v":1100},{"$f":"MAX(0.1,ROUND(100/(24*3600)*VLOOKUP(B37,[1]ResourceLevelConfig!$A:$E,5,FALSE),2))","v":0.16},-1,{"$f":"AC36","v":3},2,1,440,null,null,null,1,1,33,null,null,"",null,"",null,{"$f":"IF(AR37=\"\",\"\",1)","v":""},null,{"$f":"IF(AT37=\"\",\"\",1)","v":""},null,{"$f":"IF(AV37=\"\",\"\",1)","v":""},null,{"$f":"IF(AX37=\"\",\"\",1)","v":""},{"$f":"IF(AN37=\"\",\"\",VLOOKUP(AN37,[4]ItemConfig!$A:$C,3,FALSE)&AO37)","v":""},{"$f":"IF(AP37=\"\",\"\",VLOOKUP(AP37,[4]ItemConfig!$A:$C,3,FALSE)&AQ37)","v":""},{"$f":"IF(AR37=\"\",\"\",VLOOKUP(AR37,[4]ItemConfig!$A:$C,3,FALSE)&AS37)","v":""},{"$f":"IF(AT37=\"\",\"\",VLOOKUP(AT37,[4]ItemConfig!$A:$C,3,FALSE)&AU37)","v":""},{"$f":"IF(AV37=\"\",\"\",VLOOKUP(AV37,[4]ItemConfig!$A:$C,3,FALSE)&AW37)","v":""},{"$f":"IF(AX37=\"\",\"\",VLOOKUP(AX37,[4]ItemConfig!$A:$C,3,FALSE)&AY37)","v":""}]
[34,34,2,4,4,"226;235;241","筑基","前期.","四重",226,235,241,{"$f":"ROUND([1]ResourceLevelConfig!$E38*[1]ResourceLevelConfig!$L38*0.1,0)*10","v":1020},-1,0,-1,-1,-1,-1,0,{"$f":"[3]主表!K36","v":40.745277007197593},{"$f":"[3]主表!L36","v":2.3521489395885813},{"$f":"[3]主表!M36","v":2.3521489395885813},{"$f":"[3]主表!N36","v":0},{"$f":"[3]主表!$G36","v":559},{"$f":"[3]升级!$H36","v":1100},{"$f":"MAX(0.1,ROUND(100/(24*3600)*VLOOKUP(B38,[1]ResourceLevelConfig!$A:$E,5,FALSE),2))","v":0.16},-1,3,2,1,450,null,null,null,1,1,34,null,null,"",null,"",null,{"$f":"IF(AR38=\"\",\"\",1)","v":""},null,{"$f":"IF(AT38=\"\",\"\",1)","v":""},null,{"$f":"IF(AV38=\"\",\"\",1)","v":""},null,{"$f":"IF(AX38=\"\",\"\",1)","v":""},{"$f":"IF(AN38=\"\",\"\",VLOOKUP(AN38,[4]ItemConfig!$A:$C,3,FALSE)&AO38)","v":""},{"$f":"IF(AP38=\"\",\"\",VLOOKUP(AP38,[4]ItemConfig!$A:$C,3,FALSE)&AQ38)","v":""},{"$f":"IF(AR38=\"\",\"\",VLOOKUP(AR38,[4]ItemConfig!$A:$C,3,FALSE)&AS38)","v":""},{"$f":"IF(AT38=\"\",\"\",VLOOKUP(AT38,[4]ItemConfig!$A:$C,3,FALSE)&AU38)","v":""},{"$f":"IF(AV38=\"\",\"\",VLOOKUP(AV38,[4]ItemConfig!$A:$C,3,FALSE)&AW38)","v":""},{"$f":"IF(AX38=\"\",\"\",VLOOKUP(AX38,[4]ItemConfig!$A:$C,3,FALSE)&AY38)","v":""}]
[35,35,2,4,5,"226;235;242","筑基","前期.","五重",226,235,242,{"$f":"ROUND([1]ResourceLevelConfig!$E39*[1]ResourceLevelConfig!$L39*0.1,0)*10","v":1040},-1,0,-1,-1,-1,-1,0,{"$f":"[3]主表!K37","v":42.185590820936447},{"$f":"[3]主表!L37","v":2.3839072509421477},{"$f":"[3]主表!M37","v":2.3839072509421477},{"$f":"[3]主表!N37","v":0},{"$f":"[3]主表!$G37","v":568},{"$f":"[3]升级!$H37","v":1100},{"$f":"MAX(0.1,ROUND(100/(24*3600)*VLOOKUP(B39,[1]ResourceLevelConfig!$A:$E,5,FALSE),2))","v":0.16},-1,3,2,1,460,null,null,null,1,1,35,null,null,"",null,"",null,{"$f":"IF(AR39=\"\",\"\",1)","v":""},null,{"$f":"IF(AT39=\"\",\"\",1)","v":""},null,{"$f":"IF(AV39=\"\",\"\",1)","v":""},null,{"$f":"IF(AX39=\"\",\"\",1)","v":""},{"$f":"IF(AN39=\"\",\"\",VLOOKUP(AN39,[4]ItemConfig!$A:$C,3,FALSE)&AO39)","v":""},{"$f":"IF(AP39=\"\",\"\",VLOOKUP(AP39,[4]ItemConfig!$A:$C,3,FALSE)&AQ39)","v":""},{"$f":"IF(AR39=\"\",\"\",VLOOKUP(AR39,[4]ItemConfig!$A:$C,3,FALSE)&AS39)","v":""},{"$f":"IF(AT39=\"\",\"\",VLOOKUP(AT39,[4]ItemConfig!$A:$C,3,FALSE)&AU39)","v":""},{"$f":"IF(AV39=\"\",\"\",VLOOKUP(AV39,[4]ItemConfig!$A:$C,3,FALSE)&AW39)","v":""},{"$f":"IF(AX39=\"\",\"\",VLOOKUP(AX39,[4]ItemConfig!$A:$C,3,FALSE)&AY39)","v":""}]
[36,36,2,4,6,"226;235;243","筑基","前期.","六重",226,235,243,{"$f":"ROUND([1]ResourceLevelConfig!$E40*[1]ResourceLevelConfig!$L40*0.1,0)*10","v":1050},-1,0,-1,-1,-1,-1,0,{"$f":"[3]主表!K38","v":43.657370536251108},{"$f":"[3]主表!L38","v":2.4160943575658842},{"$f":"[3]主表!M38","v":2.4160943575658842},{"$f":"[3]主表!N38","v":0},{"$f":"[3]主表!$G38","v":578},{"$f":"[3]升级!$H38","v":1100},{"$f":"MAX(0.1,ROUND(100/(24*3600)*VLOOKUP(B40,[1]ResourceLevelConfig!$A:$E,5,FALSE),2))","v":0.16},-1,3,2,1,470,null,null,null,1,1,36,null,null,"",null,"",null,{"$f":"IF(AR40=\"\",\"\",1)","v":""},null,{"$f":"IF(AT40=\"\",\"\",1)","v":""},null,{"$f":"IF(AV40=\"\",\"\",1)","v":""},null,{"$f":"IF(AX40=\"\",\"\",1)","v":""},{"$f":"IF(AN40=\"\",\"\",VLOOKUP(AN40,[4]ItemConfig!$A:$C,3,FALSE)&AO40)","v":""},{"$f":"IF(AP40=\"\",\"\",VLOOKUP(AP40,[4]ItemConfig!$A:$C,3,FALSE)&AQ40)","v":""},{"$f":"IF(AR40=\"\",\"\",VLOOKUP(AR40,[4]ItemConfig!$A:$C,3,FALSE)&AS40)","v":""},{"$f":"IF(AT40=\"\",\"\",VLOOKUP(AT40,[4]ItemConfig!$A:$C,3,FALSE)&AU40)","v":""},{"$f":"IF(AV40=\"\",\"\",VLOOKUP(AV40,[4]ItemConfig!$A:$C,3,FALSE)&AW40)","v":""},{"$f":"IF(AX40=\"\",\"\",VLOOKUP(AX40,[4]ItemConfig!$A:$C,3,FALSE)&AY40)","v":""}]
[37,37,2,4,7,"226;235;244","筑基","前期.","七重",226,235,244,{"$f":"ROUND([1]ResourceLevelConfig!$E41*[1]ResourceLevelConfig!$L41*0.1,0)*10","v":1060},-1,0,-1,-1,-1,-1,0,{"$f":"[3]主表!K39","v":45.161203279247559},{"$f":"[3]主表!L39","v":2.4487160489799469},{"$f":"[3]主表!M39","v":2.4487160489799469},{"$f":"[3]主表!N39","v":0},{"$f":"[3]主表!$G39","v":588},{"$f":"[3]升级!$H39","v":1100},{"$f":"MAX(0.1,ROUND(100/(24*3600)*VLOOKUP(B41,[1]ResourceLevelConfig!$A:$E,5,FALSE),2))","v":0.16},-1,3,2,1,480,null,null,null,1,1,37,null,null,"",null,"",null,{"$f":"IF(AR41=\"\",\"\",1)","v":""},null,{"$f":"IF(AT41=\"\",\"\",1)","v":""},null,{"$f":"IF(AV41=\"\",\"\",1)","v":""},null,{"$f":"IF(AX41=\"\",\"\",1)","v":""},{"$f":"IF(AN41=\"\",\"\",VLOOKUP(AN41,[4]ItemConfig!$A:$C,3,FALSE)&AO41)","v":""},{"$f":"IF(AP41=\"\",\"\",VLOOKUP(AP41,[4]ItemConfig!$A:$C,3,FALSE)&AQ41)","v":""},{"$f":"IF(AR41=\"\",\"\",VLOOKUP(AR41,[4]ItemConfig!$A:$C,3,FALSE)&AS41)","v":""},{"$f":"IF(AT41=\"\",\"\",VLOOKUP(AT41,[4]ItemConfig!$A:$C,3,FALSE)&AU41)","v":""},{"$f":"IF(AV41=\"\",\"\",VLOOKUP(AV41,[4]ItemConfig!$A:$C,3,FALSE)&AW41)","v":""},{"$f":"IF(AX41=\"\",\"\",VLOOKUP(AX41,[4]ItemConfig!$A:$C,3,FALSE)&AY41)","v":""}]
[38,38,2,4,8,"226;235;245","筑基","前期.","八重",226,235,245,{"$f":"ROUND([1]ResourceLevelConfig!$E42*[1]ResourceLevelConfig!$L42*0.1,0)*10","v":1080},-1,0,-1,-1,-1,-1,0,{"$f":"[3]主表!K40","v":46.697686294369618},{"$f":"[3]主表!L40","v":2.4817781928735996},{"$f":"[3]主表!M40","v":2.4817781928735996},{"$f":"[3]主表!N40","v":0},{"$f":"[3]主表!$G40","v":598},{"$f":"[3]升级!$H40","v":1100},{"$f":"MAX(0.1,ROUND(100/(24*3600)*VLOOKUP(B42,[1]ResourceLevelConfig!$A:$E,5,FALSE),2))","v":0.16},-1,3,2,1,490,null,null,null,1,1,38,null,null,"",null,"",null,{"$f":"IF(AR42=\"\",\"\",1)","v":""},null,{"$f":"IF(AT42=\"\",\"\",1)","v":""},null,{"$f":"IF(AV42=\"\",\"\",1)","v":""},null,{"$f":"IF(AX42=\"\",\"\",1)","v":""},{"$f":"IF(AN42=\"\",\"\",VLOOKUP(AN42,[4]ItemConfig!$A:$C,3,FALSE)&AO42)","v":""},{"$f":"IF(AP42=\"\",\"\",VLOOKUP(AP42,[4]ItemConfig!$A:$C,3,FALSE)&AQ42)","v":""},{"$f":"IF(AR42=\"\",\"\",VLOOKUP(AR42,[4]ItemConfig!$A:$C,3,FALSE)&AS42)","v":""},{"$f":"IF(AT42=\"\",\"\",VLOOKUP(AT42,[4]ItemConfig!$A:$C,3,FALSE)&AU42)","v":""},{"$f":"IF(AV42=\"\",\"\",VLOOKUP(AV42,[4]ItemConfig!$A:$C,3,FALSE)&AW42)","v":""},{"$f":"IF(AX42=\"\",\"\",VLOOKUP(AX42,[4]ItemConfig!$A:$C,3,FALSE)&AY42)","v":""}]
[39,39,2,4,9,"226;235;246","筑基","前期.","九重",226,235,246,{"$f":"ROUND([1]ResourceLevelConfig!$E43*[1]ResourceLevelConfig!$L43*0.1,0)*10","v":1170},-1,0,-1,-1,-1,-1,0,{"$f":"[3]主表!K41","v":48.267427110598362},{"$f":"[3]主表!L41","v":2.515286736160641},{"$f":"[3]主表!M41","v":2.515286736160641},{"$f":"[3]主表!N41","v":0},{"$f":"[3]主表!$G41","v":608},{"$f":"[3]升级!$H41","v":1100},{"$f":"MAX(0.1,ROUND(100/(24*3600)*VLOOKUP(B43,[1]ResourceLevelConfig!$A:$E,5,FALSE),2))","v":0.17},-1,3,2,1,500,null,null,null,1,1,39,null,null,"",null,"",null,{"$f":"IF(AR43=\"\",\"\",1)","v":""},null,{"$f":"IF(AT43=\"\",\"\",1)","v":""},null,{"$f":"IF(AV43=\"\",\"\",1)","v":""},null,{"$f":"IF(AX43=\"\",\"\",1)","v":""},{"$f":"IF(AN43=\"\",\"\",VLOOKUP(AN43,[4]ItemConfig!$A:$C,3,FALSE)&AO43)","v":""},{"$f":"IF(AP43=\"\",\"\",VLOOKUP(AP43,[4]ItemConfig!$A:$C,3,FALSE)&AQ43)","v":""},{"$f":"IF(AR43=\"\",\"\",VLOOKUP(AR43,[4]ItemConfig!$A:$C,3,FALSE)&AS43)","v":""},{"$f":"IF(AT43=\"\",\"\",VLOOKUP(AT43,[4]ItemConfig!$A:$C,3,FALSE)&AU43)","v":""},{"$f":"IF(AV43=\"\",\"\",VLOOKUP(AV43,[4]ItemConfig!$A:$C,3,FALSE)&AW43)","v":""},{"$f":"IF(AX43=\"\",\"\",VLOOKUP(AX43,[4]ItemConfig!$A:$C,3,FALSE)&AY43)","v":""}]
[40,40,2,4,10,"226;235;247","筑基","前期.","十重",226,235,247,{"$f":"ROUND([1]ResourceLevelConfig!$E44*[1]ResourceLevelConfig!$L44*0.1,0)*10","v":1190},100004,0,{"$f":"AN44","v":1304},{"$f":"AO44","v":1},{"$f":"_xlfn.TEXTJOIN(\";\",1,AP44,AR44,AT44,AV44)","v":"1202"},{"$f":"_xlfn.TEXTJOIN(\";\",1,AQ44,AS44,AU44,AW44)","v":"1"},0,{"$f":"[3]主表!K42","v":49.871043710294892},{"$f":"[3]主表!L42","v":2.5492477060490777},{"$f":"[3]主表!M42","v":2.5492477060490777},{"$f":"[3]主表!N42","v":0},{"$f":"[3]主表!$G42","v":618},{"$f":"[3]升级!$H42","v":1100},{"$f":"MAX(0.1,ROUND(100/(24*3600)*VLOOKUP(B44,[1]ResourceLevelConfig!$A:$E,5,FALSE),2))","v":0.17},20,3,2,1,510,null,null,null,1,1,40,null,1304,1,1202,1,null,{"$f":"IF(AR44=\"\",\"\",1)","v":""},null,{"$f":"IF(AT44=\"\",\"\",1)","v":""},null,{"$f":"IF(AV44=\"\",\"\",1)","v":""},null,{"$f":"IF(AX44=\"\",\"\",1)","v":""},{"$f":"IF(AN44=\"\",\"\",VLOOKUP(AN44,[4]ItemConfig!$A:$C,3,FALSE)&AO44)","v":"固元丹1"},{"$f":"IF(AP44=\"\",\"\",VLOOKUP(AP44,[4]ItemConfig!$A:$C,3,FALSE)&AQ44)","v":"玄玉髓1"},{"$f":"IF(AR44=\"\",\"\",VLOOKUP(AR44,[4]ItemConfig!$A:$C,3,FALSE)&AS44)","v":""},{"$f":"IF(AT44=\"\",\"\",VLOOKUP(AT44,[4]ItemConfig!$A:$C,3,FALSE)&AU44)","v":""},{"$f":"IF(AV44=\"\",\"\",VLOOKUP(AV44,[4]ItemConfig!$A:$C,3,FALSE)&AW44)","v":""},{"$f":"IF(AX44=\"\",\"\",VLOOKUP(AX44,[4]ItemConfig!$A:$C,3,FALSE)&AY44)","v":""}]
[41,41,2,5,1,"226;236;238","筑基","中期.","一重",226,236,238,{"$f":"ROUND([1]ResourceLevelConfig!$E45*[1]ResourceLevelConfig!$L45*0.1,0)*10","v":1200},-1,0,-1,-1,{"$f":"IF(I45=10,\"1001;1002;1004\",-1)","v":-1},-1,0,{"$f":"[3]主表!K43","v":55.905257971018102},{"$f":"[3]主表!L43","v":2.8041724766539859},{"$f":"[3]主表!M43","v":2.8041724766539859},{"$f":"[3]主表!N43","v":0},{"$f":"[3]主表!$G43","v":690},{"$f":"[3]升级!$H43","v":1100},{"$f":"MAX(0.1,ROUND(100/(24*3600)*VLOOKUP(B45,[1]ResourceLevelConfig!$A:$E,5,FALSE),2))","v":0.17},-1,3,2,2,520,null,null,null,1,1,41,null,null,"",null,"",null,{"$f":"IF(AR45=\"\",\"\",1)","v":""},null,{"$f":"IF(AT45=\"\",\"\",1)","v":""},null,{"$f":"IF(AV45=\"\",\"\",1)","v":""},null,{"$f":"IF(AX45=\"\",\"\",1)","v":""},{"$f":"IF(AN45=\"\",\"\",VLOOKUP(AN45,[4]ItemConfig!$A:$C,3,FALSE)&AO45)","v":""},{"$f":"IF(AP45=\"\",\"\",VLOOKUP(AP45,[4]ItemConfig!$A:$C,3,FALSE)&AQ45)","v":""},{"$f":"IF(AR45=\"\",\"\",VLOOKUP(AR45,[4]ItemConfig!$A:$C,3,FALSE)&AS45)","v":""},{"$f":"IF(AT45=\"\",\"\",VLOOKUP(AT45,[4]ItemConfig!$A:$C,3,FALSE)&AU45)","v":""},{"$f":"IF(AV45=\"\",\"\",VLOOKUP(AV45,[4]ItemConfig!$A:$C,3,FALSE)&AW45)","v":""},{"$f":"IF(AX45=\"\",\"\",VLOOKUP(AX45,[4]ItemConfig!$A:$C,3,FALSE)&AY45)","v":""}]
[42,42,2,5,2,"226;236;239","筑基","中期.","二重",226,236,239,{"$f":"ROUND([1]ResourceLevelConfig!$E46*[1]ResourceLevelConfig!$L46*0.1,0)*10","v":1220},-1,0,-1,-1,-1,-1,0,{"$f":"[3]主表!K44","v":57.721328958540809},{"$f":"[3]主表!L44","v":2.8420339322377708},{"$f":"[3]主表!M44","v":2.8420339322377708},{"$f":"[3]主表!N44","v":0},{"$f":"[3]主表!$G44","v":702},{"$f":"[3]升级!$H44","v":1100},{"$f":"MAX(0.1,ROUND(100/(24*3600)*VLOOKUP(B46,[1]ResourceLevelConfig!$A:$E,5,FALSE),2))","v":0.17},-1,{"$f":"AC45","v":3},{"$f":"AD45","v":2},{"$f":"AE45","v":2},530,null,null,null,1,1,42,null,null,"",null,"",null,{"$f":"IF(AR46=\"\",\"\",1)","v":""},null,{"$f":"IF(AT46=\"\",\"\",1)","v":""},null,{"$f":"IF(AV46=\"\",\"\",1)","v":""},null,{"$f":"IF(AX46=\"\",\"\",1)","v":""},{"$f":"IF(AN46=\"\",\"\",VLOOKUP(AN46,[4]ItemConfig!$A:$C,3,FALSE)&AO46)","v":""},{"$f":"IF(AP46=\"\",\"\",VLOOKUP(AP46,[4]ItemConfig!$A:$C,3,FALSE)&AQ46)","v":""},{"$f":"IF(AR46=\"\",\"\",VLOOKUP(AR46,[4]ItemConfig!$A:$C,3,FALSE)&AS46)","v":""},{"$f":"IF(AT46=\"\",\"\",VLOOKUP(AT46,[4]ItemConfig!$A:$C,3,FALSE)&AU46)","v":""},{"$f":"IF(AV46=\"\",\"\",VLOOKUP(AV46,[4]ItemConfig!$A:$C,3,FALSE)&AW46)","v":""},{"$f":"IF(AX46=\"\",\"\",VLOOKUP(AX46,[4]ItemConfig!$A:$C,3,FALSE)&AY46)","v":""}]
[43,43,2,5,3,"226;236;240","筑基","中期.","三重",226,236,240,{"$f":"ROUND([1]ResourceLevelConfig!$E47*[1]ResourceLevelConfig!$L47*0.1,0)*10","v":1230},-1,0,-1,-1,-1,-1,0,{"$f":"[3]主表!K45","v":59.576249010419211},{"$f":"[3]主表!L45","v":2.8804065866978221},{"$f":"[3]主表!M45","v":2.8804065866978221},{"$f":"[3]主表!N45","v":0},{"$f":"[3]主表!$G45","v":714},{"$f":"[3]升级!$H45","v":1100},{"$f":"MAX(0.1,ROUND(100/(24*3600)*VLOOKUP(B47,[1]ResourceLevelConfig!$A:$E,5,FALSE),2))","v":0.17},-1,{"$f":"AC46","v":3},{"$f":"AD46","v":2},{"$f":"AE46","v":2},540,null,null,null,1,1,43,null,null,"",null,"",null,{"$f":"IF(AR47=\"\",\"\",1)","v":""},null,{"$f":"IF(AT47=\"\",\"\",1)","v":""},null,{"$f":"IF(AV47=\"\",\"\",1)","v":""},null,{"$f":"IF(AX47=\"\",\"\",1)","v":""},{"$f":"IF(AN47=\"\",\"\",VLOOKUP(AN47,[4]ItemConfig!$A:$C,3,FALSE)&AO47)","v":""},{"$f":"IF(AP47=\"\",\"\",VLOOKUP(AP47,[4]ItemConfig!$A:$C,3,FALSE)&AQ47)","v":""},{"$f":"IF(AR47=\"\",\"\",VLOOKUP(AR47,[4]ItemConfig!$A:$C,3,FALSE)&AS47)","v":""},{"$f":"IF(AT47=\"\",\"\",VLOOKUP(AT47,[4]ItemConfig!$A:$C,3,FALSE)&AU47)","v":""},{"$f":"IF(AV47=\"\",\"\",VLOOKUP(AV47,[4]ItemConfig!$A:$C,3,FALSE)&AW47)","v":""},{"$f":"IF(AX47=\"\",\"\",VLOOKUP(AX47,[4]ItemConfig!$A:$C,3,FALSE)&AY47)","v":""}]
[44,44,2,5,4,"226;236;241","筑基","中期.","四重",226,236,241,{"$f":"ROUND([1]ResourceLevelConfig!$E48*[1]ResourceLevelConfig!$L48*0.1,0)*10","v":1250},-1,0,-1,-1,-1,-1,0,{"$f":"[3]主表!K46","v":61.470736124856998},{"$f":"[3]主表!L46","v":2.9192973421536452},{"$f":"[3]主表!M46","v":2.9192973421536452},{"$f":"[3]主表!N46","v":0},{"$f":"[3]主表!$G46","v":727},{"$f":"[3]升级!$H46","v":1100},{"$f":"MAX(0.1,ROUND(100/(24*3600)*VLOOKUP(B48,[1]ResourceLevelConfig!$A:$E,5,FALSE),2))","v":0.17},-1,3,2,2,550,null,null,null,1,1,44,null,null,"",null,"",null,{"$f":"IF(AR48=\"\",\"\",1)","v":""},null,{"$f":"IF(AT48=\"\",\"\",1)","v":""},null,{"$f":"IF(AV48=\"\",\"\",1)","v":""},null,{"$f":"IF(AX48=\"\",\"\",1)","v":""},{"$f":"IF(AN48=\"\",\"\",VLOOKUP(AN48,[4]ItemConfig!$A:$C,3,FALSE)&AO48)","v":""},{"$f":"IF(AP48=\"\",\"\",VLOOKUP(AP48,[4]ItemConfig!$A:$C,3,FALSE)&AQ48)","v":""},{"$f":"IF(AR48=\"\",\"\",VLOOKUP(AR48,[4]ItemConfig!$A:$C,3,FALSE)&AS48)","v":""},{"$f":"IF(AT48=\"\",\"\",VLOOKUP(AT48,[4]ItemConfig!$A:$C,3,FALSE)&AU48)","v":""},{"$f":"IF(AV48=\"\",\"\",VLOOKUP(AV48,[4]ItemConfig!$A:$C,3,FALSE)&AW48)","v":""},{"$f":"IF(AX48=\"\",\"\",VLOOKUP(AX48,[4]ItemConfig!$A:$C,3,FALSE)&AY48)","v":""}]
[45,45,2,5,5,"226;236;242","筑基","中期.","五重",226,236,242,{"$f":"ROUND([1]ResourceLevelConfig!$E49*[1]ResourceLevelConfig!$L49*0.1,0)*10","v":1340},-1,0,-1,-1,-1,-1,0,{"$f":"[3]主表!K47","v":63.405520606475022},{"$f":"[3]主表!L47","v":2.9587131939159796},{"$f":"[3]主表!M47","v":2.9587131939159796},{"$f":"[3]主表!N47","v":0},{"$f":"[3]主表!$G47","v":740},{"$f":"[3]升级!$H47","v":1100},{"$f":"MAX(0.1,ROUND(100/(24*3600)*VLOOKUP(B49,[1]ResourceLevelConfig!$A:$E,5,FALSE),2))","v":0.19},-1,3,2,2,560,null,null,null,1,1,45,null,null,"",null,"",null,{"$f":"IF(AR49=\"\",\"\",1)","v":""},null,{"$f":"IF(AT49=\"\",\"\",1)","v":""},null,{"$f":"IF(AV49=\"\",\"\",1)","v":""},null,{"$f":"IF(AX49=\"\",\"\",1)","v":""},{"$f":"IF(AN49=\"\",\"\",VLOOKUP(AN49,[4]ItemConfig!$A:$C,3,FALSE)&AO49)","v":""},{"$f":"IF(AP49=\"\",\"\",VLOOKUP(AP49,[4]ItemConfig!$A:$C,3,FALSE)&AQ49)","v":""},{"$f":"IF(AR49=\"\",\"\",VLOOKUP(AR49,[4]ItemConfig!$A:$C,3,FALSE)&AS49)","v":""},{"$f":"IF(AT49=\"\",\"\",VLOOKUP(AT49,[4]ItemConfig!$A:$C,3,FALSE)&AU49)","v":""},{"$f":"IF(AV49=\"\",\"\",VLOOKUP(AV49,[4]ItemConfig!$A:$C,3,FALSE)&AW49)","v":""},{"$f":"IF(AX49=\"\",\"\",VLOOKUP(AX49,[4]ItemConfig!$A:$C,3,FALSE)&AY49)","v":""}]
[46,46,2,5,6,"226;236;243","筑基","中期.","六重",226,236,243,{"$f":"ROUND([1]ResourceLevelConfig!$E50*[1]ResourceLevelConfig!$L50*0.1,0)*10","v":1360},-1,0,-1,-1,-1,-1,0,{"$f":"[3]主表!K48","v":65.381345267738823},{"$f":"[3]主表!L48","v":2.9986612317450487},{"$f":"[3]主表!M48","v":2.9986612317450487},{"$f":"[3]主表!N48","v":0},{"$f":"[3]主表!$G48","v":752},{"$f":"[3]升级!$H48","v":1100},{"$f":"MAX(0.1,ROUND(100/(24*3600)*VLOOKUP(B50,[1]ResourceLevelConfig!$A:$E,5,FALSE),2))","v":0.19},-1,3,2,2,570,null,null,null,1,1,46,null,null,"",null,"",null,{"$f":"IF(AR50=\"\",\"\",1)","v":""},null,{"$f":"IF(AT50=\"\",\"\",1)","v":""},null,{"$f":"IF(AV50=\"\",\"\",1)","v":""},null,{"$f":"IF(AX50=\"\",\"\",1)","v":""},{"$f":"IF(AN50=\"\",\"\",VLOOKUP(AN50,[4]ItemConfig!$A:$C,3,FALSE)&AO50)","v":""},{"$f":"IF(AP50=\"\",\"\",VLOOKUP(AP50,[4]ItemConfig!$A:$C,3,FALSE)&AQ50)","v":""},{"$f":"IF(AR50=\"\",\"\",VLOOKUP(AR50,[4]ItemConfig!$A:$C,3,FALSE)&AS50)","v":""},{"$f":"IF(AT50=\"\",\"\",VLOOKUP(AT50,[4]ItemConfig!$A:$C,3,FALSE)&AU50)","v":""},{"$f":"IF(AV50=\"\",\"\",VLOOKUP(AV50,[4]ItemConfig!$A:$C,3,FALSE)&AW50)","v":""},{"$f":"IF(AX50=\"\",\"\",VLOOKUP(AX50,[4]ItemConfig!$A:$C,3,FALSE)&AY50)","v":""}]
[47,47,2,5,7,"226;236;244","筑基","中期.","七重",226,236,244,{"$f":"ROUND([1]ResourceLevelConfig!$E51*[1]ResourceLevelConfig!$L51*0.1,0)*10","v":1380},-1,0,-1,-1,-1,-1,0,{"$f":"[3]主表!K49","v":67.398965633582236},{"$f":"[3]主表!L49","v":3.0391486411258031},{"$f":"[3]主表!M49","v":3.0391486411258031},{"$f":"[3]主表!N49","v":0},{"$f":"[3]主表!$G49","v":766},{"$f":"[3]升级!$H49","v":1100},{"$f":"MAX(0.1,ROUND(100/(24*3600)*VLOOKUP(B51,[1]ResourceLevelConfig!$A:$E,5,FALSE),2))","v":0.19},-1,3,2,2,580,null,null,null,1,1,47,null,null,"",null,"",null,{"$f":"IF(AR51=\"\",\"\",1)","v":""},null,{"$f":"IF(AT51=\"\",\"\",1)","v":""},null,{"$f":"IF(AV51=\"\",\"\",1)","v":""},null,{"$f":"IF(AX51=\"\",\"\",1)","v":""},{"$f":"IF(AN51=\"\",\"\",VLOOKUP(AN51,[4]ItemConfig!$A:$C,3,FALSE)&AO51)","v":""},{"$f":"IF(AP51=\"\",\"\",VLOOKUP(AP51,[4]ItemConfig!$A:$C,3,FALSE)&AQ51)","v":""},{"$f":"IF(AR51=\"\",\"\",VLOOKUP(AR51,[4]ItemConfig!$A:$C,3,FALSE)&AS51)","v":""},{"$f":"IF(AT51=\"\",\"\",VLOOKUP(AT51,[4]ItemConfig!$A:$C,3,FALSE)&AU51)","v":""},{"$f":"IF(AV51=\"\",\"\",VLOOKUP(AV51,[4]ItemConfig!$A:$C,3,FALSE)&AW51)","v":""},{"$f":"IF(AX51=\"\",\"\",VLOOKUP(AX51,[4]ItemConfig!$A:$C,3,FALSE)&AY51)","v":""}]
[48,48,2,5,8,"226;236;245","筑基","中期.","八重",226,236,245,{"$f":"ROUND([1]ResourceLevelConfig!$E52*[1]ResourceLevelConfig!$L52*0.1,0)*10","v":1390},-1,0,-1,-1,-1,-1,0,{"$f":"[3]主表!K50","v":69.459150149276155},{"$f":"[3]主表!L50","v":3.0801827045603769},{"$f":"[3]主表!M50","v":3.0801827045603769},{"$f":"[3]主表!N50","v":0},{"$f":"[3]主表!$G50","v":779},{"$f":"[3]升级!$H50","v":1100},{"$f":"MAX(0.1,ROUND(100/(24*3600)*VLOOKUP(B52,[1]ResourceLevelConfig!$A:$E,5,FALSE),2))","v":0.19},-1,3,2,2,590,null,null,null,1,1,48,null,null,"",null,"",null,{"$f":"IF(AR52=\"\",\"\",1)","v":""},null,{"$f":"IF(AT52=\"\",\"\",1)","v":""},null,{"$f":"IF(AV52=\"\",\"\",1)","v":""},null,{"$f":"IF(AX52=\"\",\"\",1)","v":""},{"$f":"IF(AN52=\"\",\"\",VLOOKUP(AN52,[4]ItemConfig!$A:$C,3,FALSE)&AO52)","v":""},{"$f":"IF(AP52=\"\",\"\",VLOOKUP(AP52,[4]ItemConfig!$A:$C,3,FALSE)&AQ52)","v":""},{"$f":"IF(AR52=\"\",\"\",VLOOKUP(AR52,[4]ItemConfig!$A:$C,3,FALSE)&AS52)","v":""},{"$f":"IF(AT52=\"\",\"\",VLOOKUP(AT52,[4]ItemConfig!$A:$C,3,FALSE)&AU52)","v":""},{"$f":"IF(AV52=\"\",\"\",VLOOKUP(AV52,[4]ItemConfig!$A:$C,3,FALSE)&AW52)","v":""},{"$f":"IF(AX52=\"\",\"\",VLOOKUP(AX52,[4]ItemConfig!$A:$C,3,FALSE)&AY52)","v":""}]
[49,49,2,5,9,"226;236;246","筑基","中期.","九重",226,236,246,{"$f":"ROUND([1]ResourceLevelConfig!$E53*[1]ResourceLevelConfig!$L53*0.1,0)*10","v":1410},-1,0,-1,-1,-1,-1,0,{"$f":"[3]主表!K51","v":71.562680391593247},{"$f":"[3]主表!L51","v":3.1217708028779985},{"$f":"[3]主表!M51","v":3.1217708028779985},{"$f":"[3]主表!N51","v":0},{"$f":"[3]主表!$G51","v":793},{"$f":"[3]升级!$H51","v":1100},{"$f":"MAX(0.1,ROUND(100/(24*3600)*VLOOKUP(B53,[1]ResourceLevelConfig!$A:$E,5,FALSE),2))","v":0.19},-1,3,2,2,600,null,null,null,1,1,49,null,null,"",null,"",null,{"$f":"IF(AR53=\"\",\"\",1)","v":""},null,{"$f":"IF(AT53=\"\",\"\",1)","v":""},null,{"$f":"IF(AV53=\"\",\"\",1)","v":""},null,{"$f":"IF(AX53=\"\",\"\",1)","v":""},{"$f":"IF(AN53=\"\",\"\",VLOOKUP(AN53,[4]ItemConfig!$A:$C,3,FALSE)&AO53)","v":""},{"$f":"IF(AP53=\"\",\"\",VLOOKUP(AP53,[4]ItemConfig!$A:$C,3,FALSE)&AQ53)","v":""},{"$f":"IF(AR53=\"\",\"\",VLOOKUP(AR53,[4]ItemConfig!$A:$C,3,FALSE)&AS53)","v":""},{"$f":"IF(AT53=\"\",\"\",VLOOKUP(AT53,[4]ItemConfig!$A:$C,3,FALSE)&AU53)","v":""},{"$f":"IF(AV53=\"\",\"\",VLOOKUP(AV53,[4]ItemConfig!$A:$C,3,FALSE)&AW53)","v":""},{"$f":"IF(AX53=\"\",\"\",VLOOKUP(AX53,[4]ItemConfig!$A:$C,3,FALSE)&AY53)","v":""}]
[50,50,2,5,10,"226;236;247","筑基","中期.","十重",226,236,247,{"$f":"ROUND([1]ResourceLevelConfig!$E54*[1]ResourceLevelConfig!$L54*0.1,0)*10","v":1420},100004,0,{"$f":"AN54","v":1305},{"$f":"AO54","v":1},{"$f":"_xlfn.TEXTJOIN(\";\",1,AP54,AR54,AT54,AV54)","v":"1202"},{"$f":"_xlfn.TEXTJOIN(\";\",1,AQ54,AS54,AU54,AW54)","v":"1"},0,{"$f":"[3]主表!K52","v":73.710351283319412},{"$f":"[3]主表!L52","v":3.1639204165625876},{"$f":"[3]主表!M52","v":3.1639204165625876},{"$f":"[3]主表!N52","v":0},{"$f":"[3]主表!$G52","v":807},{"$f":"[3]升级!$H52","v":1100},{"$f":"MAX(0.1,ROUND(100/(24*3600)*VLOOKUP(B54,[1]ResourceLevelConfig!$A:$E,5,FALSE),2))","v":0.19},20,3,2,2,610,null,null,null,1,1,50,null,1305,1,1202,1,null,{"$f":"IF(AR54=\"\",\"\",1)","v":""},null,{"$f":"IF(AT54=\"\",\"\",1)","v":""},null,{"$f":"IF(AV54=\"\",\"\",1)","v":""},null,{"$f":"IF(AX54=\"\",\"\",1)","v":""},{"$f":"IF(AN54=\"\",\"\",VLOOKUP(AN54,[4]ItemConfig!$A:$C,3,FALSE)&AO54)","v":"青灵果1"},{"$f":"IF(AP54=\"\",\"\",VLOOKUP(AP54,[4]ItemConfig!$A:$C,3,FALSE)&AQ54)","v":"玄玉髓1"},{"$f":"IF(AR54=\"\",\"\",VLOOKUP(AR54,[4]ItemConfig!$A:$C,3,FALSE)&AS54)","v":""},{"$f":"IF(AT54=\"\",\"\",VLOOKUP(AT54,[4]ItemConfig!$A:$C,3,FALSE)&AU54)","v":""},{"$f":"IF(AV54=\"\",\"\",VLOOKUP(AV54,[4]ItemConfig!$A:$C,3,FALSE)&AW54)","v":""},{"$f":"IF(AX54=\"\",\"\",VLOOKUP(AX54,[4]ItemConfig!$A:$C,3,FALSE)&AY54)","v":""}]
[51,51,2,6,1,"226;237;238","筑基","后期.","一重",226,237,238,{"$f":"ROUND([1]ResourceLevelConfig!$E55*[1]ResourceLevelConfig!$L55*0.1,0)*10","v":1530},-1,0,-1,-1,{"$f":"IF(I55=10,\"1001;1002;1004\",-1)","v":-1},-1,0,{"$f":"[3]主表!K53","v":82.380974659009652},{"$f":"[3]主表!L53","v":3.4803124582188469},{"$f":"[3]主表!M53","v":3.4803124582188469},{"$f":"[3]主表!N53","v":0},{"$f":"[3]主表!$G53","v":944},{"$f":"[3]升级!$H53","v":1100},{"$f":"MAX(0.1,ROUND(100/(24*3600)*VLOOKUP(B55,[1]ResourceLevelConfig!$A:$E,5,FALSE),2))","v":0.2},-1,4,2,2,620,null,null,null,1,1,51,null,null,"",null,"",null,{"$f":"IF(AR55=\"\",\"\",1)","v":""},null,{"$f":"IF(AT55=\"\",\"\",1)","v":""},null,{"$f":"IF(AV55=\"\",\"\",1)","v":""},null,{"$f":"IF(AX55=\"\",\"\",1)","v":""},{"$f":"IF(AN55=\"\",\"\",VLOOKUP(AN55,[4]ItemConfig!$A:$C,3,FALSE)&AO55)","v":""},{"$f":"IF(AP55=\"\",\"\",VLOOKUP(AP55,[4]ItemConfig!$A:$C,3,FALSE)&AQ55)","v":""},{"$f":"IF(AR55=\"\",\"\",VLOOKUP(AR55,[4]ItemConfig!$A:$C,3,FALSE)&AS55)","v":""},{"$f":"IF(AT55=\"\",\"\",VLOOKUP(AT55,[4]ItemConfig!$A:$C,3,FALSE)&AU55)","v":""},{"$f":"IF(AV55=\"\",\"\",VLOOKUP(AV55,[4]ItemConfig!$A:$C,3,FALSE)&AW55)","v":""},{"$f":"IF(AX55=\"\",\"\",VLOOKUP(AX55,[4]ItemConfig!$A:$C,3,FALSE)&AY55)","v":""}]
[52,52,2,6,2,"226;237;239","筑基","后期.","二重",226,237,239,{"$f":"ROUND([1]ResourceLevelConfig!$E56*[1]ResourceLevelConfig!$L56*0.1,0)*10","v":1550},-1,0,-1,-1,-1,-1,0,{"$f":"[3]主表!K54","v":84.810403507145153},{"$f":"[3]主表!L54","v":3.5273030398080993},{"$f":"[3]主表!M54","v":3.5273030398080993},{"$f":"[3]主表!N54","v":0},{"$f":"[3]主表!$G54","v":960},{"$f":"[3]升级!$H54","v":1100},{"$f":"MAX(0.1,ROUND(100/(24*3600)*VLOOKUP(B56,[1]ResourceLevelConfig!$A:$E,5,FALSE),2))","v":0.2},-1,{"$f":"AC55","v":4},{"$f":"AD55","v":2},{"$f":"AE55","v":2},630,null,null,null,1,1,52,null,null,"",null,"",null,{"$f":"IF(AR56=\"\",\"\",1)","v":""},null,{"$f":"IF(AT56=\"\",\"\",1)","v":""},null,{"$f":"IF(AV56=\"\",\"\",1)","v":""},null,{"$f":"IF(AX56=\"\",\"\",1)","v":""},{"$f":"IF(AN56=\"\",\"\",VLOOKUP(AN56,[4]ItemConfig!$A:$C,3,FALSE)&AO56)","v":""},{"$f":"IF(AP56=\"\",\"\",VLOOKUP(AP56,[4]ItemConfig!$A:$C,3,FALSE)&AQ56)","v":""},{"$f":"IF(AR56=\"\",\"\",VLOOKUP(AR56,[4]ItemConfig!$A:$C,3,FALSE)&AS56)","v":""},{"$f":"IF(AT56=\"\",\"\",VLOOKUP(AT56,[4]ItemConfig!$A:$C,3,FALSE)&AU56)","v":""},{"$f":"IF(AV56=\"\",\"\",VLOOKUP(AV56,[4]ItemConfig!$A:$C,3,FALSE)&AW56)","v":""},{"$f":"IF(AX56=\"\",\"\",VLOOKUP(AX56,[4]ItemConfig!$A:$C,3,FALSE)&AY56)","v":""}]
[53,53,2,6,3,"226;237;240","筑基","后期.","三重",226,237,240,{"$f":"ROUND([1]ResourceLevelConfig!$E57*[1]ResourceLevelConfig!$L57*0.1,0)*10","v":1560},-1,0,-1,-1,-1,-1,0,{"$f":"[3]主表!K55","v":87.290417818323618},{"$f":"[3]主表!L55","v":3.5749280801663867},{"$f":"[3]主表!M55","v":3.5749280801663867},{"$f":"[3]主表!N55","v":0},{"$f":"[3]主表!$G55","v":977},{"$f":"[3]升级!$H55","v":1100},{"$f":"MAX(0.1,ROUND(100/(24*3600)*VLOOKUP(B57,[1]ResourceLevelConfig!$A:$E,5,FALSE),2))","v":0.2},-1,4,2,2,640,null,null,null,1,1,53,null,null,"",null,"",null,{"$f":"IF(AR57=\"\",\"\",1)","v":""},null,{"$f":"IF(AT57=\"\",\"\",1)","v":""},null,{"$f":"IF(AV57=\"\",\"\",1)","v":""},null,{"$f":"IF(AX57=\"\",\"\",1)","v":""},{"$f":"IF(AN57=\"\",\"\",VLOOKUP(AN57,[4]ItemConfig!$A:$C,3,FALSE)&AO57)","v":""},{"$f":"IF(AP57=\"\",\"\",VLOOKUP(AP57,[4]ItemConfig!$A:$C,3,FALSE)&AQ57)","v":""},{"$f":"IF(AR57=\"\",\"\",VLOOKUP(AR57,[4]ItemConfig!$A:$C,3,FALSE)&AS57)","v":""},{"$f":"IF(AT57=\"\",\"\",VLOOKUP(AT57,[4]ItemConfig!$A:$C,3,FALSE)&AU57)","v":""},{"$f":"IF(AV57=\"\",\"\",VLOOKUP(AV57,[4]ItemConfig!$A:$C,3,FALSE)&AW57)","v":""},{"$f":"IF(AX57=\"\",\"\",VLOOKUP(AX57,[4]ItemConfig!$A:$C,3,FALSE)&AY57)","v":""}]
[54,54,2,6,4,"226;237;241","筑基","后期.","四重",226,237,241,{"$f":"ROUND([1]ResourceLevelConfig!$E58*[1]ResourceLevelConfig!$L58*0.1,0)*10","v":1580},-1,0,-1,-1,-1,-1,0,{"$f":"[3]主表!K56","v":89.821940701679267},{"$f":"[3]主表!L56","v":3.6231961456471344},{"$f":"[3]主表!M56","v":3.6231961456471344},{"$f":"[3]主表!N56","v":0},{"$f":"[3]主表!$G56","v":994},{"$f":"[3]升级!$H56","v":1100},{"$f":"MAX(0.1,ROUND(100/(24*3600)*VLOOKUP(B58,[1]ResourceLevelConfig!$A:$E,5,FALSE),2))","v":0.2},-1,4,2,2,650,null,null,null,1,1,54,null,null,"",null,"",null,{"$f":"IF(AR58=\"\",\"\",1)","v":""},null,{"$f":"IF(AT58=\"\",\"\",1)","v":""},null,{"$f":"IF(AV58=\"\",\"\",1)","v":""},null,{"$f":"IF(AX58=\"\",\"\",1)","v":""},{"$f":"IF(AN58=\"\",\"\",VLOOKUP(AN58,[4]ItemConfig!$A:$C,3,FALSE)&AO58)","v":""},{"$f":"IF(AP58=\"\",\"\",VLOOKUP(AP58,[4]ItemConfig!$A:$C,3,FALSE)&AQ58)","v":""},{"$f":"IF(AR58=\"\",\"\",VLOOKUP(AR58,[4]ItemConfig!$A:$C,3,FALSE)&AS58)","v":""},{"$f":"IF(AT58=\"\",\"\",VLOOKUP(AT58,[4]ItemConfig!$A:$C,3,FALSE)&AU58)","v":""},{"$f":"IF(AV58=\"\",\"\",VLOOKUP(AV58,[4]ItemConfig!$A:$C,3,FALSE)&AW58)","v":""},{"$f":"IF(AX58=\"\",\"\",VLOOKUP(AX58,[4]ItemConfig!$A:$C,3,FALSE)&AY58)","v":""}]
[55,55,2,6,5,"226;237;242","筑基","后期.","五重",226,237,242,{"$f":"ROUND([1]ResourceLevelConfig!$E59*[1]ResourceLevelConfig!$L59*0.1,0)*10","v":1600},-1,0,-1,-1,-1,-1,0,{"$f":"[3]主表!K57","v":92.405910971970627},{"$f":"[3]主表!L57","v":3.6721159182652032},{"$f":"[3]主表!M57","v":3.6721159182652032},{"$f":"[3]主表!N57","v":0},{"$f":"[3]主表!$G57","v":1012},{"$f":"[3]升级!$H57","v":1100},{"$f":"MAX(0.1,ROUND(100/(24*3600)*VLOOKUP(B59,[1]ResourceLevelConfig!$A:$E,5,FALSE),2))","v":0.2},-1,4,2,2,660,null,null,null,1,1,55,null,null,"",null,"",null,{"$f":"IF(AR59=\"\",\"\",1)","v":""},null,{"$f":"IF(AT59=\"\",\"\",1)","v":""},null,{"$f":"IF(AV59=\"\",\"\",1)","v":""},null,{"$f":"IF(AX59=\"\",\"\",1)","v":""},{"$f":"IF(AN59=\"\",\"\",VLOOKUP(AN59,[4]ItemConfig!$A:$C,3,FALSE)&AO59)","v":""},{"$f":"IF(AP59=\"\",\"\",VLOOKUP(AP59,[4]ItemConfig!$A:$C,3,FALSE)&AQ59)","v":""},{"$f":"IF(AR59=\"\",\"\",VLOOKUP(AR59,[4]ItemConfig!$A:$C,3,FALSE)&AS59)","v":""},{"$f":"IF(AT59=\"\",\"\",VLOOKUP(AT59,[4]ItemConfig!$A:$C,3,FALSE)&AU59)","v":""},{"$f":"IF(AV59=\"\",\"\",VLOOKUP(AV59,[4]ItemConfig!$A:$C,3,FALSE)&AW59)","v":""},{"$f":"IF(AX59=\"\",\"\",VLOOKUP(AX59,[4]ItemConfig!$A:$C,3,FALSE)&AY59)","v":""}]
[56,56,2,6,6,"226;237;243","筑基","后期.","六重",226,237,243,{"$f":"ROUND([1]ResourceLevelConfig!$E60*[1]ResourceLevelConfig!$L60*0.1,0)*10","v":1620},-1,0,-1,-1,-1,-1,0,{"$f":"[3]主表!K58","v":95.043283405407379},{"$f":"[3]主表!L58","v":3.7216961972585278},{"$f":"[3]主表!M58","v":3.7216961972585278},{"$f":"[3]主表!N58","v":0},{"$f":"[3]主表!$G58","v":1029},{"$f":"[3]升级!$H58","v":1100},{"$f":"MAX(0.1,ROUND(100/(24*3600)*VLOOKUP(B60,[1]ResourceLevelConfig!$A:$E,5,FALSE),2))","v":0.2},-1,4,2,2,670,null,null,null,1,1,56,null,null,"",null,"",null,{"$f":"IF(AR60=\"\",\"\",1)","v":""},null,{"$f":"IF(AT60=\"\",\"\",1)","v":""},null,{"$f":"IF(AV60=\"\",\"\",1)","v":""},null,{"$f":"IF(AX60=\"\",\"\",1)","v":""},{"$f":"IF(AN60=\"\",\"\",VLOOKUP(AN60,[4]ItemConfig!$A:$C,3,FALSE)&AO60)","v":""},{"$f":"IF(AP60=\"\",\"\",VLOOKUP(AP60,[4]ItemConfig!$A:$C,3,FALSE)&AQ60)","v":""},{"$f":"IF(AR60=\"\",\"\",VLOOKUP(AR60,[4]ItemConfig!$A:$C,3,FALSE)&AS60)","v":""},{"$f":"IF(AT60=\"\",\"\",VLOOKUP(AT60,[4]ItemConfig!$A:$C,3,FALSE)&AU60)","v":""},{"$f":"IF(AV60=\"\",\"\",VLOOKUP(AV60,[4]ItemConfig!$A:$C,3,FALSE)&AW60)","v":""},{"$f":"IF(AX60=\"\",\"\",VLOOKUP(AX60,[4]ItemConfig!$A:$C,3,FALSE)&AY60)","v":""}]
[57,57,2,6,7,"226;237;244","筑基","后期.","七重",226,237,244,{"$f":"ROUND([1]ResourceLevelConfig!$E61*[1]ResourceLevelConfig!$L61*0.1,0)*10","v":1730},-1,0,-1,-1,-1,-1,0,{"$f":"[3]主表!K59","v":97.735028999522754},{"$f":"[3]主表!L59","v":3.7719459006708447},{"$f":"[3]主表!M59","v":3.7719459006708447},{"$f":"[3]主表!N59","v":0},{"$f":"[3]主表!$G59","v":1048},{"$f":"[3]升级!$H59","v":1100},{"$f":"MAX(0.1,ROUND(100/(24*3600)*VLOOKUP(B61,[1]ResourceLevelConfig!$A:$E,5,FALSE),2))","v":0.21},-1,4,2,2,680,null,null,null,1,1,57,null,null,"",null,"",null,{"$f":"IF(AR61=\"\",\"\",1)","v":""},null,{"$f":"IF(AT61=\"\",\"\",1)","v":""},null,{"$f":"IF(AV61=\"\",\"\",1)","v":""},null,{"$f":"IF(AX61=\"\",\"\",1)","v":""},{"$f":"IF(AN61=\"\",\"\",VLOOKUP(AN61,[4]ItemConfig!$A:$C,3,FALSE)&AO61)","v":""},{"$f":"IF(AP61=\"\",\"\",VLOOKUP(AP61,[4]ItemConfig!$A:$C,3,FALSE)&AQ61)","v":""},{"$f":"IF(AR61=\"\",\"\",VLOOKUP(AR61,[4]ItemConfig!$A:$C,3,FALSE)&AS61)","v":""},{"$f":"IF(AT61=\"\",\"\",VLOOKUP(AT61,[4]ItemConfig!$A:$C,3,FALSE)&AU61)","v":""},{"$f":"IF(AV61=\"\",\"\",VLOOKUP(AV61,[4]ItemConfig!$A:$C,3,FALSE)&AW61)","v":""},{"$f":"IF(AX61=\"\",\"\",VLOOKUP(AX61,[4]ItemConfig!$A:$C,3,FALSE)&AY61)","v":""}]
[58,58,2,6,8,"226;237;245","筑基","后期.","八重",226,237,245,{"$f":"ROUND([1]ResourceLevelConfig!$E62*[1]ResourceLevelConfig!$L62*0.1,0)*10","v":1750},-1,0,-1,-1,-1,-1,0,{"$f":"[3]主表!K60","v":100.4821352371534},{"$f":"[3]主表!L60","v":3.822874066955785},{"$f":"[3]主表!M60","v":3.822874066955785},{"$f":"[3]主表!N60","v":0},{"$f":"[3]主表!$G60","v":1067},{"$f":"[3]升级!$H60","v":1100},{"$f":"MAX(0.1,ROUND(100/(24*3600)*VLOOKUP(B62,[1]ResourceLevelConfig!$A:$E,5,FALSE),2))","v":0.21},-1,4,2,2,690,null,null,null,1,1,58,null,null,"",null,"",null,{"$f":"IF(AR62=\"\",\"\",1)","v":""},null,{"$f":"IF(AT62=\"\",\"\",1)","v":""},null,{"$f":"IF(AV62=\"\",\"\",1)","v":""},null,{"$f":"IF(AX62=\"\",\"\",1)","v":""},{"$f":"IF(AN62=\"\",\"\",VLOOKUP(AN62,[4]ItemConfig!$A:$C,3,FALSE)&AO62)","v":""},{"$f":"IF(AP62=\"\",\"\",VLOOKUP(AP62,[4]ItemConfig!$A:$C,3,FALSE)&AQ62)","v":""},{"$f":"IF(AR62=\"\",\"\",VLOOKUP(AR62,[4]ItemConfig!$A:$C,3,FALSE)&AS62)","v":""},{"$f":"IF(AT62=\"\",\"\",VLOOKUP(AT62,[4]ItemConfig!$A:$C,3,FALSE)&AU62)","v":""},{"$f":"IF(AV62=\"\",\"\",VLOOKUP(AV62,[4]ItemConfig!$A:$C,3,FALSE)&AW62)","v":""},{"$f":"IF(AX62=\"\",\"\",VLOOKUP(AX62,[4]ItemConfig!$A:$C,3,FALSE)&AY62)","v":""}]
[59,59,2,6,9,"226;237;246","筑基","后期.","九重",226,237,246,{"$f":"ROUND([1]ResourceLevelConfig!$E63*[1]ResourceLevelConfig!$L63*0.1,0)*10","v":1760},-1,0,-1,-1,-1,-1,0,{"$f":"[3]主表!K61","v":103.28560635459064},{"$f":"[3]主表!L61","v":3.874489856602632},{"$f":"[3]主表!M61","v":3.874489856602632},{"$f":"[3]主表!N61","v":0},{"$f":"[3]主表!$G61","v":1086},{"$f":"[3]升级!$H61","v":1100},{"$f":"MAX(0.1,ROUND(100/(24*3600)*VLOOKUP(B63,[1]ResourceLevelConfig!$A:$E,5,FALSE),2))","v":0.21},-1,4,2,2,700,null,null,null,1,1,59,null,null,"",null,"",null,{"$f":"IF(AR63=\"\",\"\",1)","v":""},null,{"$f":"IF(AT63=\"\",\"\",1)","v":""},null,{"$f":"IF(AV63=\"\",\"\",1)","v":""},null,{"$f":"IF(AX63=\"\",\"\",1)","v":""},{"$f":"IF(AN63=\"\",\"\",VLOOKUP(AN63,[4]ItemConfig!$A:$C,3,FALSE)&AO63)","v":""},{"$f":"IF(AP63=\"\",\"\",VLOOKUP(AP63,[4]ItemConfig!$A:$C,3,FALSE)&AQ63)","v":""},{"$f":"IF(AR63=\"\",\"\",VLOOKUP(AR63,[4]ItemConfig!$A:$C,3,FALSE)&AS63)","v":""},{"$f":"IF(AT63=\"\",\"\",VLOOKUP(AT63,[4]ItemConfig!$A:$C,3,FALSE)&AU63)","v":""},{"$f":"IF(AV63=\"\",\"\",VLOOKUP(AV63,[4]ItemConfig!$A:$C,3,FALSE)&AW63)","v":""},{"$f":"IF(AX63=\"\",\"\",VLOOKUP(AX63,[4]ItemConfig!$A:$C,3,FALSE)&AY63)","v":""}]
[60,60,2,6,10,"226;237;247","筑基","后期.","十重",226,237,247,{"$f":"ROUND([1]ResourceLevelConfig!$E64*[1]ResourceLevelConfig!$L64*0.1,0)*10","v":1780},100004,0,{"$f":"AN64","v":1306},{"$f":"AO64","v":1},{"$f":"_xlfn.TEXTJOIN(\";\",1,AP64,AR64,AT64,AV64)","v":"1202"},{"$f":"_xlfn.TEXTJOIN(\";\",1,AQ64,AS64,AU64,AW64)","v":"1"},{"$f":"CONCATENATE(ROUND(0.6*VLOOKUP(A64,[3]主表!$A:$P,16,FALSE)*[5]HeroModelConfig!$Q$5,0),\";\",ROUND(0.9*VLOOKUP(A64,[3]主表!$A:$P,16,FALSE)*[5]HeroModelConfig!$Q$5,0),\";\",INT(A64/30)+1)","v":"8969;13453;3"},{"$f":"[3]主表!K62","v":106.1464636139675},{"$f":"[3]主表!L62","v":3.9268025537840208},{"$f":"[3]主表!M62","v":3.9268025537840208},{"$f":"[3]主表!N62","v":0},{"$f":"[3]主表!$G62","v":1106},{"$f":"[3]升级!$H62","v":1100},{"$f":"MAX(0.1,ROUND(100/(24*3600)*VLOOKUP(B64,[1]ResourceLevelConfig!$A:$E,5,FALSE),2))","v":0.21},50,4,2,2,710,null,null,null,1,1,60,null,1306,1,1202,1,null,{"$f":"IF(AR64=\"\",\"\",1)","v":""},null,{"$f":"IF(AT64=\"\",\"\",1)","v":""},null,{"$f":"IF(AV64=\"\",\"\",1)","v":""},null,{"$f":"IF(AX64=\"\",\"\",1)","v":""},{"$f":"IF(AN64=\"\",\"\",VLOOKUP(AN64,[4]ItemConfig!$A:$C,3,FALSE)&AO64)","v":"金阳果1"},{"$f":"IF(AP64=\"\",\"\",VLOOKUP(AP64,[4]ItemConfig!$A:$C,3,FALSE)&AQ64)","v":"玄玉髓1"},{"$f":"IF(AR64=\"\",\"\",VLOOKUP(AR64,[4]ItemConfig!$A:$C,3,FALSE)&AS64)","v":""},{"$f":"IF(AT64=\"\",\"\",VLOOKUP(AT64,[4]ItemConfig!$A:$C,3,FALSE)&AU64)","v":""},{"$f":"IF(AV64=\"\",\"\",VLOOKUP(AV64,[4]ItemConfig!$A:$C,3,FALSE)&AW64)","v":""},{"$f":"IF(AX64=\"\",\"\",VLOOKUP(AX64,[4]ItemConfig!$A:$C,3,FALSE)&AY64)","v":""}]
[61,61,3,7,1,"227;235;238","结丹","前期.","一重",227,235,238,{"$f":"ROUND([1]ResourceLevelConfig!$E65*[1]ResourceLevelConfig!$L65*0.1,0)*10","v":1800},-1,0,-1,-1,{"$f":"IF(I65=10,\"1001;1002;1004\",-1)","v":-1},{"$f":"IF(R65=-1,-1,\"100;200;300\")","v":-1},0,{"$f":"[3]主表!K63","v":139.89660924220118},{"$f":"[3]主表!L63","v":5.1048433199192269},{"$f":"[3]主表!M63","v":5.1048433199192269},{"$f":"[3]主表!N63","v":0},{"$f":"[3]主表!$G63","v":1471},{"$f":"[3]升级!$H63","v":1200},{"$f":"MAX(0.1,ROUND(100/(24*3600)*VLOOKUP(B65,[1]ResourceLevelConfig!$A:$E,5,FALSE),2))","v":0.21},-1,4,3,2,720,null,null,null,1,2,61,null,null,"",null,"",null,{"$f":"IF(AR65=\"\",\"\",1)","v":""},null,{"$f":"IF(AT65=\"\",\"\",1)","v":""},null,{"$f":"IF(AV65=\"\",\"\",1)","v":""},null,{"$f":"IF(AX65=\"\",\"\",1)","v":""},{"$f":"IF(AN65=\"\",\"\",VLOOKUP(AN65,[4]ItemConfig!$A:$C,3,FALSE)&AO65)","v":""},{"$f":"IF(AP65=\"\",\"\",VLOOKUP(AP65,[4]ItemConfig!$A:$C,3,FALSE)&AQ65)","v":""},{"$f":"IF(AR65=\"\",\"\",VLOOKUP(AR65,[4]ItemConfig!$A:$C,3,FALSE)&AS65)","v":""},{"$f":"IF(AT65=\"\",\"\",VLOOKUP(AT65,[4]ItemConfig!$A:$C,3,FALSE)&AU65)","v":""},{"$f":"IF(AV65=\"\",\"\",VLOOKUP(AV65,[4]ItemConfig!$A:$C,3,FALSE)&AW65)","v":""},{"$f":"IF(AX65=\"\",\"\",VLOOKUP(AX65,[4]ItemConfig!$A:$C,3,FALSE)&AY65)","v":""}]
[62,62,3,7,2,"227;235;239","结丹","前期.","二重",227,235,239,{"$f":"ROUND([1]ResourceLevelConfig!$E66*[1]ResourceLevelConfig!$L66*0.1,0)*10","v":1820},-1,0,-1,-1,{"$f":"IF(I66=10,\"1001;1002;1004\",-1)","v":-1},-1,0,{"$f":"[3]主表!K64","v":143.71741307162728},{"$f":"[3]主表!L64","v":5.1737680384336624},{"$f":"[3]主表!M64","v":5.1737680384336624},{"$f":"[3]主表!N64","v":0},{"$f":"[3]主表!$G64","v":1501},{"$f":"[3]升级!$H64","v":1200},{"$f":"MAX(0.1,ROUND(100/(24*3600)*VLOOKUP(B66,[1]ResourceLevelConfig!$A:$E,5,FALSE),2))","v":0.21},-1,{"$f":"AC65","v":4},{"$f":"AD65","v":3},2,730,null,null,null,1,2,62,null,null,"",null,"",null,{"$f":"IF(AR66=\"\",\"\",1)","v":""},null,{"$f":"IF(AT66=\"\",\"\",1)","v":""},null,{"$f":"IF(AV66=\"\",\"\",1)","v":""},null,{"$f":"IF(AX66=\"\",\"\",1)","v":""},{"$f":"IF(AN66=\"\",\"\",VLOOKUP(AN66,[4]ItemConfig!$A:$C,3,FALSE)&AO66)","v":""},{"$f":"IF(AP66=\"\",\"\",VLOOKUP(AP66,[4]ItemConfig!$A:$C,3,FALSE)&AQ66)","v":""},{"$f":"IF(AR66=\"\",\"\",VLOOKUP(AR66,[4]ItemConfig!$A:$C,3,FALSE)&AS66)","v":""},{"$f":"IF(AT66=\"\",\"\",VLOOKUP(AT66,[4]ItemConfig!$A:$C,3,FALSE)&AU66)","v":""},{"$f":"IF(AV66=\"\",\"\",VLOOKUP(AV66,[4]ItemConfig!$A:$C,3,FALSE)&AW66)","v":""},{"$f":"IF(AX66=\"\",\"\",VLOOKUP(AX66,[4]ItemConfig!$A:$C,3,FALSE)&AY66)","v":""}]
[63,63,3,7,3,"227;235;240","结丹","前期.","三重",227,235,240,{"$f":"ROUND([1]ResourceLevelConfig!$E67*[1]ResourceLevelConfig!$L67*0.1,0)*10","v":1940},-1,0,-1,-1,-1,-1,0,{"$f":"[3]主表!K65","v":147.61588951261328},{"$f":"[3]主表!L65","v":5.2436233666699978},{"$f":"[3]主表!M65","v":5.2436233666699978},{"$f":"[3]主表!N65","v":0},{"$f":"[3]主表!$G65","v":1531},{"$f":"[3]升级!$H65","v":1200},{"$f":"MAX(0.1,ROUND(100/(24*3600)*VLOOKUP(B67,[1]ResourceLevelConfig!$A:$E,5,FALSE),2))","v":0.22},-1,{"$f":"AC66","v":4},{"$f":"AD66","v":3},{"$f":"AE66","v":2},740,null,null,null,1,2,63,null,null,"",null,"",null,{"$f":"IF(AR67=\"\",\"\",1)","v":""},null,{"$f":"IF(AT67=\"\",\"\",1)","v":""},null,{"$f":"IF(AV67=\"\",\"\",1)","v":""},null,{"$f":"IF(AX67=\"\",\"\",1)","v":""},{"$f":"IF(AN67=\"\",\"\",VLOOKUP(AN67,[4]ItemConfig!$A:$C,3,FALSE)&AO67)","v":""},{"$f":"IF(AP67=\"\",\"\",VLOOKUP(AP67,[4]ItemConfig!$A:$C,3,FALSE)&AQ67)","v":""},{"$f":"IF(AR67=\"\",\"\",VLOOKUP(AR67,[4]ItemConfig!$A:$C,3,FALSE)&AS67)","v":""},{"$f":"IF(AT67=\"\",\"\",VLOOKUP(AT67,[4]ItemConfig!$A:$C,3,FALSE)&AU67)","v":""},{"$f":"IF(AV67=\"\",\"\",VLOOKUP(AV67,[4]ItemConfig!$A:$C,3,FALSE)&AW67)","v":""},{"$f":"IF(AX67=\"\",\"\",VLOOKUP(AX67,[4]ItemConfig!$A:$C,3,FALSE)&AY67)","v":""}]
[64,64,3,7,4,"227;235;241","结丹","前期.","四重",227,235,241,{"$f":"ROUND([1]ResourceLevelConfig!$E68*[1]ResourceLevelConfig!$L68*0.1,0)*10","v":1960},-1,0,-1,-1,-1,-1,0,{"$f":"[3]主表!K66","v":151.59343947957305},{"$f":"[3]主表!L66","v":5.3144218695610057},{"$f":"[3]主表!M66","v":5.3144218695610057},{"$f":"[3]主表!N66","v":0},{"$f":"[3]主表!$G66","v":1562},{"$f":"[3]升级!$H66","v":1200},{"$f":"MAX(0.1,ROUND(100/(24*3600)*VLOOKUP(B68,[1]ResourceLevelConfig!$A:$E,5,FALSE),2))","v":0.22},-1,4,3,2,750,null,null,null,1,2,64,null,null,"",null,"",null,{"$f":"IF(AR68=\"\",\"\",1)","v":""},null,{"$f":"IF(AT68=\"\",\"\",1)","v":""},null,{"$f":"IF(AV68=\"\",\"\",1)","v":""},null,{"$f":"IF(AX68=\"\",\"\",1)","v":""},{"$f":"IF(AN68=\"\",\"\",VLOOKUP(AN68,[4]ItemConfig!$A:$C,3,FALSE)&AO68)","v":""},{"$f":"IF(AP68=\"\",\"\",VLOOKUP(AP68,[4]ItemConfig!$A:$C,3,FALSE)&AQ68)","v":""},{"$f":"IF(AR68=\"\",\"\",VLOOKUP(AR68,[4]ItemConfig!$A:$C,3,FALSE)&AS68)","v":""},{"$f":"IF(AT68=\"\",\"\",VLOOKUP(AT68,[4]ItemConfig!$A:$C,3,FALSE)&AU68)","v":""},{"$f":"IF(AV68=\"\",\"\",VLOOKUP(AV68,[4]ItemConfig!$A:$C,3,FALSE)&AW68)","v":""},{"$f":"IF(AX68=\"\",\"\",VLOOKUP(AX68,[4]ItemConfig!$A:$C,3,FALSE)&AY68)","v":""}]
[65,65,3,7,5,"227;235;242","结丹","前期.","五重",227,235,242,{"$f":"ROUND([1]ResourceLevelConfig!$E69*[1]ResourceLevelConfig!$L69*0.1,0)*10","v":1980},-1,0,-1,-1,-1,-1,0,{"$f":"[3]主表!K67","v":155.6514875570642},{"$f":"[3]主表!L67","v":5.3861762816890257},{"$f":"[3]主表!M67","v":5.3861762816890257},{"$f":"[3]主表!N67","v":0},{"$f":"[3]主表!$G67","v":1594},{"$f":"[3]升级!$H67","v":1200},{"$f":"MAX(0.1,ROUND(100/(24*3600)*VLOOKUP(B69,[1]ResourceLevelConfig!$A:$E,5,FALSE),2))","v":0.22},-1,4,3,2,760,null,null,null,1,2,65,null,null,"",null,"",null,{"$f":"IF(AR69=\"\",\"\",1)","v":""},null,{"$f":"IF(AT69=\"\",\"\",1)","v":""},null,{"$f":"IF(AV69=\"\",\"\",1)","v":""},null,{"$f":"IF(AX69=\"\",\"\",1)","v":""},{"$f":"IF(AN69=\"\",\"\",VLOOKUP(AN69,[4]ItemConfig!$A:$C,3,FALSE)&AO69)","v":""},{"$f":"IF(AP69=\"\",\"\",VLOOKUP(AP69,[4]ItemConfig!$A:$C,3,FALSE)&AQ69)","v":""},{"$f":"IF(AR69=\"\",\"\",VLOOKUP(AR69,[4]ItemConfig!$A:$C,3,FALSE)&AS69)","v":""},{"$f":"IF(AT69=\"\",\"\",VLOOKUP(AT69,[4]ItemConfig!$A:$C,3,FALSE)&AU69)","v":""},{"$f":"IF(AV69=\"\",\"\",VLOOKUP(AV69,[4]ItemConfig!$A:$C,3,FALSE)&AW69)","v":""},{"$f":"IF(AX69=\"\",\"\",VLOOKUP(AX69,[4]ItemConfig!$A:$C,3,FALSE)&AY69)","v":""}]
[66,66,3,7,6,{"$f":"_xlfn.TEXTJOIN(\";\",1,J70:L70)","v":"227;235;243"},"结丹","前期.","六重",227,235,243,{"$f":"ROUND([1]ResourceLevelConfig!$E70*[1]ResourceLevelConfig!$L70*0.1,0)*10","v":2000},{"$f":"IF(E70=10,100004,-1)","v":-1},0,-1,-1,-1,{"$f":"IF(R70=-1,-1,\"100;200;300\")","v":-1},0,{"$f":"[3]主表!K68","v":159.79148238358289},{"$f":"[3]主表!L68","v":5.4588995095765407},{"$f":"[3]主表!M68","v":5.4588995095765407},{"$f":"[3]主表!N68","v":0},{"$f":"[3]主表!$G68","v":1628},{"$f":"[3]升级!$H68","v":1200},{"$f":"MAX(0.1,ROUND(100/(24*3600)*VLOOKUP(B70,[1]ResourceLevelConfig!$A:$E,5,FALSE),2))","v":0.22},-1,4,3,2,{"$f":"MAX(AF69+10,ROUND(10^(B70*0.01+1.405),0))","v":770},null,null,null,1,2,66,null,null,{"$f":"IF(AN70=\"\",\"\",1)","v":""},null,"",null,{"$f":"IF(AR70=\"\",\"\",1)","v":""},null,{"$f":"IF(AT70=\"\",\"\",1)","v":""},null,{"$f":"IF(AV70=\"\",\"\",1)","v":""},null,{"$f":"IF(AX70=\"\",\"\",1)","v":""},{"$f":"IF(AN70=\"\",\"\",VLOOKUP(AN70,[4]ItemConfig!$A:$C,3,FALSE)&AO70)","v":""},{"$f":"IF(AP70=\"\",\"\",VLOOKUP(AP70,[4]ItemConfig!$A:$C,3,FALSE)&AQ70)","v":""},{"$f":"IF(AR70=\"\",\"\",VLOOKUP(AR70,[4]ItemConfig!$A:$C,3,FALSE)&AS70)","v":""},{"$f":"IF(AT70=\"\",\"\",VLOOKUP(AT70,[4]ItemConfig!$A:$C,3,FALSE)&AU70)","v":""},{"$f":"IF(AV70=\"\",\"\",VLOOKUP(AV70,[4]ItemConfig!$A:$C,3,FALSE)&AW70)","v":""},{"$f":"IF(AX70=\"\",\"\",VLOOKUP(AX70,[4]ItemConfig!$A:$C,3,FALSE)&AY70)","v":""}]
[67,67,3,7,7,"227;235;244","结丹","前期.","七重",227,235,244,{"$f":"ROUND([1]ResourceLevelConfig!$E71*[1]ResourceLevelConfig!$L71*0.1,0)*10","v":2010},-1,0,-1,-1,-1,-1,0,{"$f":"[3]主表!K69","v":164.01489704140715},{"$f":"[3]主表!L69","v":5.5326046340076864},{"$f":"[3]主表!M69","v":5.5326046340076864},{"$f":"[3]主表!N69","v":0},{"$f":"[3]主表!$G69","v":1662},{"$f":"[3]升级!$H69","v":1200},{"$f":"MAX(0.1,ROUND(100/(24*3600)*VLOOKUP(B71,[1]ResourceLevelConfig!$A:$E,5,FALSE),2))","v":0.22},-1,4,3,2,780,null,null,null,1,2,67,null,null,"",null,"",null,{"$f":"IF(AR71=\"\",\"\",1)","v":""},null,{"$f":"IF(AT71=\"\",\"\",1)","v":""},null,{"$f":"IF(AV71=\"\",\"\",1)","v":""},null,{"$f":"IF(AX71=\"\",\"\",1)","v":""},{"$f":"IF(AN71=\"\",\"\",VLOOKUP(AN71,[4]ItemConfig!$A:$C,3,FALSE)&AO71)","v":""},{"$f":"IF(AP71=\"\",\"\",VLOOKUP(AP71,[4]ItemConfig!$A:$C,3,FALSE)&AQ71)","v":""},{"$f":"IF(AR71=\"\",\"\",VLOOKUP(AR71,[4]ItemConfig!$A:$C,3,FALSE)&AS71)","v":""},{"$f":"IF(AT71=\"\",\"\",VLOOKUP(AT71,[4]ItemConfig!$A:$C,3,FALSE)&AU71)","v":""},{"$f":"IF(AV71=\"\",\"\",VLOOKUP(AV71,[4]ItemConfig!$A:$C,3,FALSE)&AW71)","v":""},{"$f":"IF(AX71=\"\",\"\",VLOOKUP(AX71,[4]ItemConfig!$A:$C,3,FALSE)&AY71)","v":""}]
[68,68,3,7,8,"227;235;245","结丹","前期.","八重",227,235,245,{"$f":"ROUND([1]ResourceLevelConfig!$E72*[1]ResourceLevelConfig!$L72*0.1,0)*10","v":2140},-1,0,-1,-1,-1,-1,0,{"$f":"[3]主表!K70","v":168.32322945258267},{"$f":"[3]主表!L70","v":5.6073049123811032},{"$f":"[3]主表!M70","v":5.6073049123811032},{"$f":"[3]主表!N70","v":0},{"$f":"[3]主表!$G70","v":1697},{"$f":"[3]升级!$H70","v":1200},{"$f":"MAX(0.1,ROUND(100/(24*3600)*VLOOKUP(B72,[1]ResourceLevelConfig!$A:$E,5,FALSE),2))","v":0.23},-1,4,3,2,790,null,null,null,1,2,68,null,null,"",null,"",null,{"$f":"IF(AR72=\"\",\"\",1)","v":""},null,{"$f":"IF(AT72=\"\",\"\",1)","v":""},null,{"$f":"IF(AV72=\"\",\"\",1)","v":""},null,{"$f":"IF(AX72=\"\",\"\",1)","v":""},{"$f":"IF(AN72=\"\",\"\",VLOOKUP(AN72,[4]ItemConfig!$A:$C,3,FALSE)&AO72)","v":""},{"$f":"IF(AP72=\"\",\"\",VLOOKUP(AP72,[4]ItemConfig!$A:$C,3,FALSE)&AQ72)","v":""},{"$f":"IF(AR72=\"\",\"\",VLOOKUP(AR72,[4]ItemConfig!$A:$C,3,FALSE)&AS72)","v":""},{"$f":"IF(AT72=\"\",\"\",VLOOKUP(AT72,[4]ItemConfig!$A:$C,3,FALSE)&AU72)","v":""},{"$f":"IF(AV72=\"\",\"\",VLOOKUP(AV72,[4]ItemConfig!$A:$C,3,FALSE)&AW72)","v":""},{"$f":"IF(AX72=\"\",\"\",VLOOKUP(AX72,[4]ItemConfig!$A:$C,3,FALSE)&AY72)","v":""}]
[69,69,3,7,9,"227;235;246","结丹","前期.","九重",227,235,246,{"$f":"ROUND([1]ResourceLevelConfig!$E73*[1]ResourceLevelConfig!$L73*0.1,0)*10","v":2160},-1,0,-1,-1,-1,-1,0,{"$f":"[3]主表!K71","v":172.71800278114512},{"$f":"[3]主表!L71","v":5.6830137810945498},{"$f":"[3]主表!M71","v":5.6830137810945498},{"$f":"[3]主表!N71","v":0},{"$f":"[3]主表!$G71","v":1734},{"$f":"[3]升级!$H71","v":1200},{"$f":"MAX(0.1,ROUND(100/(24*3600)*VLOOKUP(B73,[1]ResourceLevelConfig!$A:$E,5,FALSE),2))","v":0.23},-1,4,3,2,800,null,null,null,1,2,69,null,null,"",null,"",null,{"$f":"IF(AR73=\"\",\"\",1)","v":""},null,{"$f":"IF(AT73=\"\",\"\",1)","v":""},null,{"$f":"IF(AV73=\"\",\"\",1)","v":""},null,{"$f":"IF(AX73=\"\",\"\",1)","v":""},{"$f":"IF(AN73=\"\",\"\",VLOOKUP(AN73,[4]ItemConfig!$A:$C,3,FALSE)&AO73)","v":""},{"$f":"IF(AP73=\"\",\"\",VLOOKUP(AP73,[4]ItemConfig!$A:$C,3,FALSE)&AQ73)","v":""},{"$f":"IF(AR73=\"\",\"\",VLOOKUP(AR73,[4]ItemConfig!$A:$C,3,FALSE)&AS73)","v":""},{"$f":"IF(AT73=\"\",\"\",VLOOKUP(AT73,[4]ItemConfig!$A:$C,3,FALSE)&AU73)","v":""},{"$f":"IF(AV73=\"\",\"\",VLOOKUP(AV73,[4]ItemConfig!$A:$C,3,FALSE)&AW73)","v":""},{"$f":"IF(AX73=\"\",\"\",VLOOKUP(AX73,[4]ItemConfig!$A:$C,3,FALSE)&AY73)","v":""}]
[70,70,3,7,10,"227;235;247","结丹","前期.","十重",227,235,247,{"$f":"ROUND([1]ResourceLevelConfig!$E74*[1]ResourceLevelConfig!$L74*0.1,0)*10","v":2180},100004,0,{"$f":"AN74","v":1307},{"$f":"AO74","v":1},{"$f":"_xlfn.TEXTJOIN(\";\",1,AP74,AR74,AT74,AV74)","v":"1203;1204"},{"$f":"_xlfn.TEXTJOIN(\";\",1,AQ74,AS74,AU74,AW74)","v":"1;1"},0,{"$f":"[3]主表!K72","v":177.20076584167629},{"$f":"[3]主表!L72","v":5.7597448579617234},{"$f":"[3]主表!M72","v":5.7597448579617234},{"$f":"[3]主表!N72","v":0},{"$f":"[3]主表!$G72","v":1771},{"$f":"[3]升级!$H72","v":1200},{"$f":"MAX(0.1,ROUND(100/(24*3600)*VLOOKUP(B74,[1]ResourceLevelConfig!$A:$E,5,FALSE),2))","v":0.23},20,4,3,2,810,null,null,null,1,2,70,null,1307,1,1203,1,1204,{"$f":"IF(AR74=\"\",\"\",1)","v":1},null,{"$f":"IF(AT74=\"\",\"\",1)","v":""},null,{"$f":"IF(AV74=\"\",\"\",1)","v":""},null,{"$f":"IF(AX74=\"\",\"\",1)","v":""},{"$f":"IF(AN74=\"\",\"\",VLOOKUP(AN74,[4]ItemConfig!$A:$C,3,FALSE)&AO74)","v":"金灵丹1"},{"$f":"IF(AP74=\"\",\"\",VLOOKUP(AP74,[4]ItemConfig!$A:$C,3,FALSE)&AQ74)","v":"赤阳砂1"},{"$f":"IF(AR74=\"\",\"\",VLOOKUP(AR74,[4]ItemConfig!$A:$C,3,FALSE)&AS74)","v":"火灵果1"},{"$f":"IF(AT74=\"\",\"\",VLOOKUP(AT74,[4]ItemConfig!$A:$C,3,FALSE)&AU74)","v":""},{"$f":"IF(AV74=\"\",\"\",VLOOKUP(AV74,[4]ItemConfig!$A:$C,3,FALSE)&AW74)","v":""},{"$f":"IF(AX74=\"\",\"\",VLOOKUP(AX74,[4]ItemConfig!$A:$C,3,FALSE)&AY74)","v":""}]
[71,71,3,8,1,"227;236;238","结丹","中期.","一重",227,236,238,{"$f":"ROUND([1]ResourceLevelConfig!$E75*[1]ResourceLevelConfig!$L75*0.1,0)*10","v":2200},-1,0,-1,-1,{"$f":"IF(I75=10,\"1001;1002;1004\",-1)","v":-1},-1,0,{"$f":"[3]主表!K73","v":197.28667207377225},{"$f":"[3]主表!L73","v":6.335719343757896},{"$f":"[3]主表!M73","v":6.335719343757896},{"$f":"[3]主表!N73","v":0},{"$f":"[3]主表!$G73","v":1996},{"$f":"[3]升级!$H73","v":1200},{"$f":"MAX(0.1,ROUND(100/(24*3600)*VLOOKUP(B75,[1]ResourceLevelConfig!$A:$E,5,FALSE),2))","v":0.23},-1,4,3,3,820,null,null,null,1,2,71,null,null,"",null,"",null,{"$f":"IF(AR75=\"\",\"\",1)","v":""},null,{"$f":"IF(AT75=\"\",\"\",1)","v":""},null,{"$f":"IF(AV75=\"\",\"\",1)","v":""},null,{"$f":"IF(AX75=\"\",\"\",1)","v":""},{"$f":"IF(AN75=\"\",\"\",VLOOKUP(AN75,[4]ItemConfig!$A:$C,3,FALSE)&AO75)","v":""},{"$f":"IF(AP75=\"\",\"\",VLOOKUP(AP75,[4]ItemConfig!$A:$C,3,FALSE)&AQ75)","v":""},{"$f":"IF(AR75=\"\",\"\",VLOOKUP(AR75,[4]ItemConfig!$A:$C,3,FALSE)&AS75)","v":""},{"$f":"IF(AT75=\"\",\"\",VLOOKUP(AT75,[4]ItemConfig!$A:$C,3,FALSE)&AU75)","v":""},{"$f":"IF(AV75=\"\",\"\",VLOOKUP(AV75,[4]ItemConfig!$A:$C,3,FALSE)&AW75)","v":""},{"$f":"IF(AX75=\"\",\"\",VLOOKUP(AX75,[4]ItemConfig!$A:$C,3,FALSE)&AY75)","v":""}]
[72,72,3,8,2,"227;236;239","结丹","中期.","二重",227,236,239,{"$f":"ROUND([1]ResourceLevelConfig!$E76*[1]ResourceLevelConfig!$L76*0.1,0)*10","v":2220},-1,0,-1,-1,-1,-1,0,{"$f":"[3]主表!K74","v":202.34817553957765},{"$f":"[3]主表!L74","v":6.4212631391278752},{"$f":"[3]主表!M74","v":6.4212631391278752},{"$f":"[3]主表!N74","v":0},{"$f":"[3]主表!$G74","v":2038},{"$f":"[3]升级!$H74","v":1200},{"$f":"MAX(0.1,ROUND(100/(24*3600)*VLOOKUP(B76,[1]ResourceLevelConfig!$A:$E,5,FALSE),2))","v":0.23},-1,4,3,3,830,null,null,null,1,2,72,null,null,"",null,"",null,{"$f":"IF(AR76=\"\",\"\",1)","v":""},null,{"$f":"IF(AT76=\"\",\"\",1)","v":""},null,{"$f":"IF(AV76=\"\",\"\",1)","v":""},null,{"$f":"IF(AX76=\"\",\"\",1)","v":""},{"$f":"IF(AN76=\"\",\"\",VLOOKUP(AN76,[4]ItemConfig!$A:$C,3,FALSE)&AO76)","v":""},{"$f":"IF(AP76=\"\",\"\",VLOOKUP(AP76,[4]ItemConfig!$A:$C,3,FALSE)&AQ76)","v":""},{"$f":"IF(AR76=\"\",\"\",VLOOKUP(AR76,[4]ItemConfig!$A:$C,3,FALSE)&AS76)","v":""},{"$f":"IF(AT76=\"\",\"\",VLOOKUP(AT76,[4]ItemConfig!$A:$C,3,FALSE)&AU76)","v":""},{"$f":"IF(AV76=\"\",\"\",VLOOKUP(AV76,[4]ItemConfig!$A:$C,3,FALSE)&AW76)","v":""},{"$f":"IF(AX76=\"\",\"\",VLOOKUP(AX76,[4]ItemConfig!$A:$C,3,FALSE)&AY76)","v":""}]
[73,73,3,8,3,"227;236;240","结丹","中期.","三重",227,236,240,{"$f":"ROUND([1]ResourceLevelConfig!$E77*[1]ResourceLevelConfig!$L77*0.1,0)*10","v":2350},-1,0,-1,-1,-1,-1,0,{"$f":"[3]主表!K75","v":207.51039287180899},{"$f":"[3]主表!L75","v":6.5079619321436244},{"$f":"[3]主表!M75","v":6.5079619321436244},{"$f":"[3]主表!N75","v":0},{"$f":"[3]主表!$G75","v":2082},{"$f":"[3]升级!$H75","v":1200},{"$f":"MAX(0.1,ROUND(100/(24*3600)*VLOOKUP(B77,[1]ResourceLevelConfig!$A:$E,5,FALSE),2))","v":0.24},-1,4,3,3,840,null,null,null,1,2,73,null,null,"",null,"",null,{"$f":"IF(AR77=\"\",\"\",1)","v":""},null,{"$f":"IF(AT77=\"\",\"\",1)","v":""},null,{"$f":"IF(AV77=\"\",\"\",1)","v":""},null,{"$f":"IF(AX77=\"\",\"\",1)","v":""},{"$f":"IF(AN77=\"\",\"\",VLOOKUP(AN77,[4]ItemConfig!$A:$C,3,FALSE)&AO77)","v":""},{"$f":"IF(AP77=\"\",\"\",VLOOKUP(AP77,[4]ItemConfig!$A:$C,3,FALSE)&AQ77)","v":""},{"$f":"IF(AR77=\"\",\"\",VLOOKUP(AR77,[4]ItemConfig!$A:$C,3,FALSE)&AS77)","v":""},{"$f":"IF(AT77=\"\",\"\",VLOOKUP(AT77,[4]ItemConfig!$A:$C,3,FALSE)&AU77)","v":""},{"$f":"IF(AV77=\"\",\"\",VLOOKUP(AV77,[4]ItemConfig!$A:$C,3,FALSE)&AW77)","v":""},{"$f":"IF(AX77=\"\",\"\",VLOOKUP(AX77,[4]ItemConfig!$A:$C,3,FALSE)&AY77)","v":""}]
[74,74,3,8,4,"227;236;241","结丹","中期.","四重",227,236,241,{"$f":"ROUND([1]ResourceLevelConfig!$E78*[1]ResourceLevelConfig!$L78*0.1,0)*10","v":2370},-1,0,-1,-1,-1,-1,0,{"$f":"[3]主表!K76","v":212.7751210042565},{"$f":"[3]主表!L76","v":6.5958313173851595},{"$f":"[3]主表!M76","v":6.5958313173851595},{"$f":"[3]主表!N76","v":0},{"$f":"[3]主表!$G76","v":2127},{"$f":"[3]升级!$H76","v":1200},{"$f":"MAX(0.1,ROUND(100/(24*3600)*VLOOKUP(B78,[1]ResourceLevelConfig!$A:$E,5,FALSE),2))","v":0.24},-1,4,3,3,850,null,null,null,1,2,74,null,null,"",null,"",null,{"$f":"IF(AR78=\"\",\"\",1)","v":""},null,{"$f":"IF(AT78=\"\",\"\",1)","v":""},null,{"$f":"IF(AV78=\"\",\"\",1)","v":""},null,{"$f":"IF(AX78=\"\",\"\",1)","v":""},{"$f":"IF(AN78=\"\",\"\",VLOOKUP(AN78,[4]ItemConfig!$A:$C,3,FALSE)&AO78)","v":""},{"$f":"IF(AP78=\"\",\"\",VLOOKUP(AP78,[4]ItemConfig!$A:$C,3,FALSE)&AQ78)","v":""},{"$f":"IF(AR78=\"\",\"\",VLOOKUP(AR78,[4]ItemConfig!$A:$C,3,FALSE)&AS78)","v":""},{"$f":"IF(AT78=\"\",\"\",VLOOKUP(AT78,[4]ItemConfig!$A:$C,3,FALSE)&AU78)","v":""},{"$f":"IF(AV78=\"\",\"\",VLOOKUP(AV78,[4]ItemConfig!$A:$C,3,FALSE)&AW78)","v":""},{"$f":"IF(AX78=\"\",\"\",VLOOKUP(AX78,[4]ItemConfig!$A:$C,3,FALSE)&AY78)","v":""}]
[75,75,3,8,5,"227;236;242","结丹","中期.","五重",227,236,242,{"$f":"ROUND([1]ResourceLevelConfig!$E79*[1]ResourceLevelConfig!$L79*0.1,0)*10","v":2390},-1,0,-1,-1,-1,-1,0,{"$f":"[3]主表!K77","v":218.14418703441919},{"$f":"[3]主表!L77","v":6.6848870999878383},{"$f":"[3]主表!M77","v":6.6848870999878383},{"$f":"[3]主表!N77","v":0},{"$f":"[3]主表!$G77","v":2173},{"$f":"[3]升级!$H77","v":1200},{"$f":"MAX(0.1,ROUND(100/(24*3600)*VLOOKUP(B79,[1]ResourceLevelConfig!$A:$E,5,FALSE),2))","v":0.24},-1,4,3,3,860,null,null,null,1,2,75,null,null,"",null,"",null,{"$f":"IF(AR79=\"\",\"\",1)","v":""},null,{"$f":"IF(AT79=\"\",\"\",1)","v":""},null,{"$f":"IF(AV79=\"\",\"\",1)","v":""},null,{"$f":"IF(AX79=\"\",\"\",1)","v":""},{"$f":"IF(AN79=\"\",\"\",VLOOKUP(AN79,[4]ItemConfig!$A:$C,3,FALSE)&AO79)","v":""},{"$f":"IF(AP79=\"\",\"\",VLOOKUP(AP79,[4]ItemConfig!$A:$C,3,FALSE)&AQ79)","v":""},{"$f":"IF(AR79=\"\",\"\",VLOOKUP(AR79,[4]ItemConfig!$A:$C,3,FALSE)&AS79)","v":""},{"$f":"IF(AT79=\"\",\"\",VLOOKUP(AT79,[4]ItemConfig!$A:$C,3,FALSE)&AU79)","v":""},{"$f":"IF(AV79=\"\",\"\",VLOOKUP(AV79,[4]ItemConfig!$A:$C,3,FALSE)&AW79)","v":""},{"$f":"IF(AX79=\"\",\"\",VLOOKUP(AX79,[4]ItemConfig!$A:$C,3,FALSE)&AY79)","v":""}]
[76,76,3,8,6,"227;236;243","结丹","中期.","六重",227,236,243,{"$f":"ROUND([1]ResourceLevelConfig!$E80*[1]ResourceLevelConfig!$L80*0.1,0)*10","v":2420},-1,0,-1,-1,-1,-1,0,{"$f":"[3]主表!K78","v":223.61944871045583},{"$f":"[3]主表!L78","v":6.7751452984852474},{"$f":"[3]主表!M78","v":6.7751452984852474},{"$f":"[3]主表!N78","v":0},{"$f":"[3]主表!$G78","v":2220},{"$f":"[3]升级!$H78","v":1200},{"$f":"MAX(0.1,ROUND(100/(24*3600)*VLOOKUP(B80,[1]ResourceLevelConfig!$A:$E,5,FALSE),2))","v":0.24},-1,4,3,3,870,null,null,null,1,2,76,null,null,"",null,"",null,{"$f":"IF(AR80=\"\",\"\",1)","v":""},null,{"$f":"IF(AT80=\"\",\"\",1)","v":""},null,{"$f":"IF(AV80=\"\",\"\",1)","v":""},null,{"$f":"IF(AX80=\"\",\"\",1)","v":""},{"$f":"IF(AN80=\"\",\"\",VLOOKUP(AN80,[4]ItemConfig!$A:$C,3,FALSE)&AO80)","v":""},{"$f":"IF(AP80=\"\",\"\",VLOOKUP(AP80,[4]ItemConfig!$A:$C,3,FALSE)&AQ80)","v":""},{"$f":"IF(AR80=\"\",\"\",VLOOKUP(AR80,[4]ItemConfig!$A:$C,3,FALSE)&AS80)","v":""},{"$f":"IF(AT80=\"\",\"\",VLOOKUP(AT80,[4]ItemConfig!$A:$C,3,FALSE)&AU80)","v":""},{"$f":"IF(AV80=\"\",\"\",VLOOKUP(AV80,[4]ItemConfig!$A:$C,3,FALSE)&AW80)","v":""},{"$f":"IF(AX80=\"\",\"\",VLOOKUP(AX80,[4]ItemConfig!$A:$C,3,FALSE)&AY80)","v":""}]
[77,77,3,8,7,"227;236;244","结丹","中期.","七重",227,236,244,{"$f":"ROUND([1]ResourceLevelConfig!$E81*[1]ResourceLevelConfig!$L81*0.1,0)*10","v":2440},-1,0,-1,-1,-1,-1,0,{"$f":"[3]主表!K79","v":229.20279492578558},{"$f":"[3]主表!L79","v":6.8666221476904612},{"$f":"[3]主表!M79","v":6.8666221476904612},{"$f":"[3]主表!N79","v":0},{"$f":"[3]主表!$G79","v":2269},{"$f":"[3]升级!$H79","v":1200},{"$f":"MAX(0.1,ROUND(100/(24*3600)*VLOOKUP(B81,[1]ResourceLevelConfig!$A:$E,5,FALSE),2))","v":0.24},-1,4,3,3,880,null,null,null,1,2,77,null,null,"",null,"",null,{"$f":"IF(AR81=\"\",\"\",1)","v":""},null,{"$f":"IF(AT81=\"\",\"\",1)","v":""},null,{"$f":"IF(AV81=\"\",\"\",1)","v":""},null,{"$f":"IF(AX81=\"\",\"\",1)","v":""},{"$f":"IF(AN81=\"\",\"\",VLOOKUP(AN81,[4]ItemConfig!$A:$C,3,FALSE)&AO81)","v":""},{"$f":"IF(AP81=\"\",\"\",VLOOKUP(AP81,[4]ItemConfig!$A:$C,3,FALSE)&AQ81)","v":""},{"$f":"IF(AR81=\"\",\"\",VLOOKUP(AR81,[4]ItemConfig!$A:$C,3,FALSE)&AS81)","v":""},{"$f":"IF(AT81=\"\",\"\",VLOOKUP(AT81,[4]ItemConfig!$A:$C,3,FALSE)&AU81)","v":""},{"$f":"IF(AV81=\"\",\"\",VLOOKUP(AV81,[4]ItemConfig!$A:$C,3,FALSE)&AW81)","v":""},{"$f":"IF(AX81=\"\",\"\",VLOOKUP(AX81,[4]ItemConfig!$A:$C,3,FALSE)&AY81)","v":""}]
[78,78,3,8,8,"227;236;245","结丹","中期.","八重",227,236,245,{"$f":"ROUND([1]ResourceLevelConfig!$E82*[1]ResourceLevelConfig!$L82*0.1,0)*10","v":2570},-1,0,-1,-1,-1,-1,0,{"$f":"[3]主表!K80","v":234.89614622145805},{"$f":"[3]主表!L80","v":6.9593341016162178},{"$f":"[3]主表!M80","v":6.9593341016162178},{"$f":"[3]主表!N80","v":0},{"$f":"[3]主表!$G80","v":2318},{"$f":"[3]升级!$H80","v":1200},{"$f":"MAX(0.1,ROUND(100/(24*3600)*VLOOKUP(B82,[1]ResourceLevelConfig!$A:$E,5,FALSE),2))","v":0.25},-1,4,3,3,890,null,null,null,1,2,78,null,null,"",null,"",null,{"$f":"IF(AR82=\"\",\"\",1)","v":""},null,{"$f":"IF(AT82=\"\",\"\",1)","v":""},null,{"$f":"IF(AV82=\"\",\"\",1)","v":""},null,{"$f":"IF(AX82=\"\",\"\",1)","v":""},{"$f":"IF(AN82=\"\",\"\",VLOOKUP(AN82,[4]ItemConfig!$A:$C,3,FALSE)&AO82)","v":""},{"$f":"IF(AP82=\"\",\"\",VLOOKUP(AP82,[4]ItemConfig!$A:$C,3,FALSE)&AQ82)","v":""},{"$f":"IF(AR82=\"\",\"\",VLOOKUP(AR82,[4]ItemConfig!$A:$C,3,FALSE)&AS82)","v":""},{"$f":"IF(AT82=\"\",\"\",VLOOKUP(AT82,[4]ItemConfig!$A:$C,3,FALSE)&AU82)","v":""},{"$f":"IF(AV82=\"\",\"\",VLOOKUP(AV82,[4]ItemConfig!$A:$C,3,FALSE)&AW82)","v":""},{"$f":"IF(AX82=\"\",\"\",VLOOKUP(AX82,[4]ItemConfig!$A:$C,3,FALSE)&AY82)","v":""}]
[79,79,3,8,9,"227;236;246","结丹","中期.","九重",227,236,246,{"$f":"ROUND([1]ResourceLevelConfig!$E83*[1]ResourceLevelConfig!$L83*0.1,0)*10","v":2600},-1,0,-1,-1,-1,-1,0,{"$f":"[3]主表!K81","v":240.70145529641067},{"$f":"[3]主表!L81","v":7.0532978364345071},{"$f":"[3]主表!M81","v":7.0532978364345071},{"$f":"[3]主表!N81","v":0},{"$f":"[3]主表!$G81","v":2369},{"$f":"[3]升级!$H81","v":1200},{"$f":"MAX(0.1,ROUND(100/(24*3600)*VLOOKUP(B83,[1]ResourceLevelConfig!$A:$E,5,FALSE),2))","v":0.25},-1,4,3,3,900,null,null,null,1,2,79,null,null,"",null,"",null,{"$f":"IF(AR83=\"\",\"\",1)","v":""},null,{"$f":"IF(AT83=\"\",\"\",1)","v":""},null,{"$f":"IF(AV83=\"\",\"\",1)","v":""},null,{"$f":"IF(AX83=\"\",\"\",1)","v":""},{"$f":"IF(AN83=\"\",\"\",VLOOKUP(AN83,[4]ItemConfig!$A:$C,3,FALSE)&AO83)","v":""},{"$f":"IF(AP83=\"\",\"\",VLOOKUP(AP83,[4]ItemConfig!$A:$C,3,FALSE)&AQ83)","v":""},{"$f":"IF(AR83=\"\",\"\",VLOOKUP(AR83,[4]ItemConfig!$A:$C,3,FALSE)&AS83)","v":""},{"$f":"IF(AT83=\"\",\"\",VLOOKUP(AT83,[4]ItemConfig!$A:$C,3,FALSE)&AU83)","v":""},{"$f":"IF(AV83=\"\",\"\",VLOOKUP(AV83,[4]ItemConfig!$A:$C,3,FALSE)&AW83)","v":""},{"$f":"IF(AX83=\"\",\"\",VLOOKUP(AX83,[4]ItemConfig!$A:$C,3,FALSE)&AY83)","v":""}]
[80,80,3,8,10,"227;236;247","结丹","中期.","十重",227,236,247,{"$f":"ROUND([1]ResourceLevelConfig!$E84*[1]ResourceLevelConfig!$L84*0.1,0)*10","v":2620},100004,0,{"$f":"AN84","v":1308},{"$f":"AO84","v":1},{"$f":"_xlfn.TEXTJOIN(\";\",1,AP84,AR84,AT84,AV84)","v":"1203;1204"},{"$f":"_xlfn.TEXTJOIN(\";\",1,AQ84,AS84,AU84,AW84)","v":"1;1"},0,{"$f":"[3]主表!K82","v":246.62070752573601},{"$f":"[3]主表!L82","v":7.1485302534761361},{"$f":"[3]主表!M82","v":7.1485302534761361},{"$f":"[3]主表!N82","v":0},{"$f":"[3]主表!$G82","v":2421},{"$f":"[3]升级!$H82","v":1200},{"$f":"MAX(0.1,ROUND(100/(24*3600)*VLOOKUP(B84,[1]ResourceLevelConfig!$A:$E,5,FALSE),2))","v":0.25},20,4,3,3,910,null,null,null,1,2,80,null,1308,1,1203,1,1204,{"$f":"IF(AR84=\"\",\"\",1)","v":1},null,{"$f":"IF(AT84=\"\",\"\",1)","v":""},null,{"$f":"IF(AV84=\"\",\"\",1)","v":""},null,{"$f":"IF(AX84=\"\",\"\",1)","v":""},{"$f":"IF(AN84=\"\",\"\",VLOOKUP(AN84,[4]ItemConfig!$A:$C,3,FALSE)&AO84)","v":"紫霞芝1"},{"$f":"IF(AP84=\"\",\"\",VLOOKUP(AP84,[4]ItemConfig!$A:$C,3,FALSE)&AQ84)","v":"赤阳砂1"},{"$f":"IF(AR84=\"\",\"\",VLOOKUP(AR84,[4]ItemConfig!$A:$C,3,FALSE)&AS84)","v":"火灵果1"},{"$f":"IF(AT84=\"\",\"\",VLOOKUP(AT84,[4]ItemConfig!$A:$C,3,FALSE)&AU84)","v":""},{"$f":"IF(AV84=\"\",\"\",VLOOKUP(AV84,[4]ItemConfig!$A:$C,3,FALSE)&AW84)","v":""},{"$f":"IF(AX84=\"\",\"\",VLOOKUP(AX84,[4]ItemConfig!$A:$C,3,FALSE)&AY84)","v":""}]
[81,81,3,9,1,"227;237;238","结丹","后期.","一重",227,237,238,{"$f":"ROUND([1]ResourceLevelConfig!$E85*[1]ResourceLevelConfig!$L85*0.1,0)*10","v":2640},-1,0,-1,-1,{"$f":"IF(I85=10,\"1001;1002;1004\",-1)","v":-1},-1,0,{"$f":"[3]主表!K83","v":274.21905501102094},{"$f":"[3]主表!L83","v":7.8633832788237505},{"$f":"[3]主表!M83","v":7.8633832788237505},{"$f":"[3]主表!N83","v":0},{"$f":"[3]主表!$G83","v":2849},{"$f":"[3]升级!$H83","v":1200},{"$f":"MAX(0.1,ROUND(100/(24*3600)*VLOOKUP(B85,[1]ResourceLevelConfig!$A:$E,5,FALSE),2))","v":0.25},-1,4,4,3,920,null,null,null,1,2,81,null,null,"",null,"",null,{"$f":"IF(AR85=\"\",\"\",1)","v":""},null,{"$f":"IF(AT85=\"\",\"\",1)","v":""},null,{"$f":"IF(AV85=\"\",\"\",1)","v":""},null,{"$f":"IF(AX85=\"\",\"\",1)","v":""},{"$f":"IF(AN85=\"\",\"\",VLOOKUP(AN85,[4]ItemConfig!$A:$C,3,FALSE)&AO85)","v":""},{"$f":"IF(AP85=\"\",\"\",VLOOKUP(AP85,[4]ItemConfig!$A:$C,3,FALSE)&AQ85)","v":""},{"$f":"IF(AR85=\"\",\"\",VLOOKUP(AR85,[4]ItemConfig!$A:$C,3,FALSE)&AS85)","v":""},{"$f":"IF(AT85=\"\",\"\",VLOOKUP(AT85,[4]ItemConfig!$A:$C,3,FALSE)&AU85)","v":""},{"$f":"IF(AV85=\"\",\"\",VLOOKUP(AV85,[4]ItemConfig!$A:$C,3,FALSE)&AW85)","v":""},{"$f":"IF(AX85=\"\",\"\",VLOOKUP(AX85,[4]ItemConfig!$A:$C,3,FALSE)&AY85)","v":""}]
[82,82,3,9,2,"227;237;239","结丹","后期.","二重",227,237,239,{"$f":"ROUND([1]ResourceLevelConfig!$E86*[1]ResourceLevelConfig!$L86*0.1,0)*10","v":2780},-1,0,-1,-1,-1,-1,0,{"$f":"[3]主表!K84","v":280.89743547308115},{"$f":"[3]主表!L84","v":7.9695533304978587},{"$f":"[3]主表!M84","v":7.9695533304978587},{"$f":"[3]主表!N84","v":0},{"$f":"[3]主表!$G84","v":2910},{"$f":"[3]升级!$H84","v":1200},{"$f":"MAX(0.1,ROUND(100/(24*3600)*VLOOKUP(B86,[1]ResourceLevelConfig!$A:$E,5,FALSE),2))","v":0.27},-1,4,4,3,930,null,null,null,1,2,82,null,null,"",null,"",null,{"$f":"IF(AR86=\"\",\"\",1)","v":""},null,{"$f":"IF(AT86=\"\",\"\",1)","v":""},null,{"$f":"IF(AV86=\"\",\"\",1)","v":""},null,{"$f":"IF(AX86=\"\",\"\",1)","v":""},{"$f":"IF(AN86=\"\",\"\",VLOOKUP(AN86,[4]ItemConfig!$A:$C,3,FALSE)&AO86)","v":""},{"$f":"IF(AP86=\"\",\"\",VLOOKUP(AP86,[4]ItemConfig!$A:$C,3,FALSE)&AQ86)","v":""},{"$f":"IF(AR86=\"\",\"\",VLOOKUP(AR86,[4]ItemConfig!$A:$C,3,FALSE)&AS86)","v":""},{"$f":"IF(AT86=\"\",\"\",VLOOKUP(AT86,[4]ItemConfig!$A:$C,3,FALSE)&AU86)","v":""},{"$f":"IF(AV86=\"\",\"\",VLOOKUP(AV86,[4]ItemConfig!$A:$C,3,FALSE)&AW86)","v":""},{"$f":"IF(AX86=\"\",\"\",VLOOKUP(AX86,[4]ItemConfig!$A:$C,3,FALSE)&AY86)","v":""}]
[83,83,3,9,3,"227;237;240","结丹","后期.","三重",227,237,240,{"$f":"ROUND([1]ResourceLevelConfig!$E87*[1]ResourceLevelConfig!$L87*0.1,0)*10","v":2810},-1,0,-1,-1,-1,-1,0,{"$f":"[3]主表!K85","v":287.70616666810895},{"$f":"[3]主表!L85","v":8.0771568719908888},{"$f":"[3]主表!M85","v":8.0771568719908888},{"$f":"[3]主表!N85","v":0},{"$f":"[3]主表!$G85","v":2972},{"$f":"[3]升级!$H85","v":1200},{"$f":"MAX(0.1,ROUND(100/(24*3600)*VLOOKUP(B87,[1]ResourceLevelConfig!$A:$E,5,FALSE),2))","v":0.27},-1,4,4,3,940,null,null,null,1,2,83,null,null,"",null,"",null,{"$f":"IF(AR87=\"\",\"\",1)","v":""},null,{"$f":"IF(AT87=\"\",\"\",1)","v":""},null,{"$f":"IF(AV87=\"\",\"\",1)","v":""},null,{"$f":"IF(AX87=\"\",\"\",1)","v":""},{"$f":"IF(AN87=\"\",\"\",VLOOKUP(AN87,[4]ItemConfig!$A:$C,3,FALSE)&AO87)","v":""},{"$f":"IF(AP87=\"\",\"\",VLOOKUP(AP87,[4]ItemConfig!$A:$C,3,FALSE)&AQ87)","v":""},{"$f":"IF(AR87=\"\",\"\",VLOOKUP(AR87,[4]ItemConfig!$A:$C,3,FALSE)&AS87)","v":""},{"$f":"IF(AT87=\"\",\"\",VLOOKUP(AT87,[4]ItemConfig!$A:$C,3,FALSE)&AU87)","v":""},{"$f":"IF(AV87=\"\",\"\",VLOOKUP(AV87,[4]ItemConfig!$A:$C,3,FALSE)&AW87)","v":""},{"$f":"IF(AX87=\"\",\"\",VLOOKUP(AX87,[4]ItemConfig!$A:$C,3,FALSE)&AY87)","v":""}]
[84,84,3,9,4,"227;237;241","结丹","后期.","四重",227,237,241,{"$f":"ROUND([1]ResourceLevelConfig!$E88*[1]ResourceLevelConfig!$L88*0.1,0)*10","v":2830},-1,0,-1,-1,-1,-1,0,{"$f":"[3]主表!K86","v":294.64755107800909},{"$f":"[3]主表!L86","v":8.1862132580363891},{"$f":"[3]主表!M86","v":8.1862132580363891},{"$f":"[3]主表!N86","v":0},{"$f":"[3]主表!$G86","v":3036},{"$f":"[3]升级!$H86","v":1200},{"$f":"MAX(0.1,ROUND(100/(24*3600)*VLOOKUP(B88,[1]ResourceLevelConfig!$A:$E,5,FALSE),2))","v":0.27},-1,4,4,3,950,null,null,null,1,2,84,null,null,"",null,"",null,{"$f":"IF(AR88=\"\",\"\",1)","v":""},null,{"$f":"IF(AT88=\"\",\"\",1)","v":""},null,{"$f":"IF(AV88=\"\",\"\",1)","v":""},null,{"$f":"IF(AX88=\"\",\"\",1)","v":""},{"$f":"IF(AN88=\"\",\"\",VLOOKUP(AN88,[4]ItemConfig!$A:$C,3,FALSE)&AO88)","v":""},{"$f":"IF(AP88=\"\",\"\",VLOOKUP(AP88,[4]ItemConfig!$A:$C,3,FALSE)&AQ88)","v":""},{"$f":"IF(AR88=\"\",\"\",VLOOKUP(AR88,[4]ItemConfig!$A:$C,3,FALSE)&AS88)","v":""},{"$f":"IF(AT88=\"\",\"\",VLOOKUP(AT88,[4]ItemConfig!$A:$C,3,FALSE)&AU88)","v":""},{"$f":"IF(AV88=\"\",\"\",VLOOKUP(AV88,[4]ItemConfig!$A:$C,3,FALSE)&AW88)","v":""},{"$f":"IF(AX88=\"\",\"\",VLOOKUP(AX88,[4]ItemConfig!$A:$C,3,FALSE)&AY88)","v":""}]
[85,85,3,9,5,"227;237;242","结丹","后期.","五重",227,237,242,{"$f":"ROUND([1]ResourceLevelConfig!$E89*[1]ResourceLevelConfig!$L89*0.1,0)*10","v":2850},-1,0,-1,-1,-1,-1,0,{"$f":"[3]主表!K87","v":301.72392959726125},{"$f":"[3]主表!L87","v":8.2967421046921999},{"$f":"[3]主表!M87","v":8.2967421046921999},{"$f":"[3]主表!N87","v":0},{"$f":"[3]主表!$G87","v":3102},{"$f":"[3]升级!$H87","v":1200},{"$f":"MAX(0.1,ROUND(100/(24*3600)*VLOOKUP(B89,[1]ResourceLevelConfig!$A:$E,5,FALSE),2))","v":0.27},-1,4,4,3,960,null,null,null,1,2,85,null,null,"",null,"",null,{"$f":"IF(AR89=\"\",\"\",1)","v":""},null,{"$f":"IF(AT89=\"\",\"\",1)","v":""},null,{"$f":"IF(AV89=\"\",\"\",1)","v":""},null,{"$f":"IF(AX89=\"\",\"\",1)","v":""},{"$f":"IF(AN89=\"\",\"\",VLOOKUP(AN89,[4]ItemConfig!$A:$C,3,FALSE)&AO89)","v":""},{"$f":"IF(AP89=\"\",\"\",VLOOKUP(AP89,[4]ItemConfig!$A:$C,3,FALSE)&AQ89)","v":""},{"$f":"IF(AR89=\"\",\"\",VLOOKUP(AR89,[4]ItemConfig!$A:$C,3,FALSE)&AS89)","v":""},{"$f":"IF(AT89=\"\",\"\",VLOOKUP(AT89,[4]ItemConfig!$A:$C,3,FALSE)&AU89)","v":""},{"$f":"IF(AV89=\"\",\"\",VLOOKUP(AV89,[4]ItemConfig!$A:$C,3,FALSE)&AW89)","v":""},{"$f":"IF(AX89=\"\",\"\",VLOOKUP(AX89,[4]ItemConfig!$A:$C,3,FALSE)&AY89)","v":""}]
[86,86,3,9,6,"227;237;243","结丹","后期.","六重",227,237,243,{"$f":"ROUND([1]ResourceLevelConfig!$E90*[1]ResourceLevelConfig!$L90*0.1,0)*10","v":2880},-1,0,-1,-1,-1,-1,0,{"$f":"[3]主表!K88","v":308.9376821504585},{"$f":"[3]主表!L88","v":8.4087632928688087},{"$f":"[3]主表!M88","v":8.4087632928688087},{"$f":"[3]主表!N88","v":0},{"$f":"[3]主表!$G88","v":3169},{"$f":"[3]升级!$H88","v":1200},{"$f":"MAX(0.1,ROUND(100/(24*3600)*VLOOKUP(B90,[1]ResourceLevelConfig!$A:$E,5,FALSE),2))","v":0.27},-1,4,4,3,970,null,null,null,1,2,86,null,null,"",null,"",null,{"$f":"IF(AR90=\"\",\"\",1)","v":""},null,{"$f":"IF(AT90=\"\",\"\",1)","v":""},null,{"$f":"IF(AV90=\"\",\"\",1)","v":""},null,{"$f":"IF(AX90=\"\",\"\",1)","v":""},{"$f":"IF(AN90=\"\",\"\",VLOOKUP(AN90,[4]ItemConfig!$A:$C,3,FALSE)&AO90)","v":""},{"$f":"IF(AP90=\"\",\"\",VLOOKUP(AP90,[4]ItemConfig!$A:$C,3,FALSE)&AQ90)","v":""},{"$f":"IF(AR90=\"\",\"\",VLOOKUP(AR90,[4]ItemConfig!$A:$C,3,FALSE)&AS90)","v":""},{"$f":"IF(AT90=\"\",\"\",VLOOKUP(AT90,[4]ItemConfig!$A:$C,3,FALSE)&AU90)","v":""},{"$f":"IF(AV90=\"\",\"\",VLOOKUP(AV90,[4]ItemConfig!$A:$C,3,FALSE)&AW90)","v":""},{"$f":"IF(AX90=\"\",\"\",VLOOKUP(AX90,[4]ItemConfig!$A:$C,3,FALSE)&AY90)","v":""}]
[87,87,3,9,7,"227;237;244","结丹","后期.","七重",227,237,244,{"$f":"ROUND([1]ResourceLevelConfig!$E91*[1]ResourceLevelConfig!$L91*0.1,0)*10","v":3020},-1,0,-1,-1,-1,-1,0,{"$f":"[3]主表!K89","v":316.29122831951969},{"$f":"[3]主表!L89","v":8.522296971905341},{"$f":"[3]主表!M89","v":8.522296971905341},{"$f":"[3]主表!N89","v":0},{"$f":"[3]主表!$G89","v":3237},{"$f":"[3]升级!$H89","v":1200},{"$f":"MAX(0.1,ROUND(100/(24*3600)*VLOOKUP(B91,[1]ResourceLevelConfig!$A:$E,5,FALSE),2))","v":0.28000000000000003},-1,4,4,3,980,null,null,null,1,2,87,null,null,"",null,"",null,{"$f":"IF(AR91=\"\",\"\",1)","v":""},null,{"$f":"IF(AT91=\"\",\"\",1)","v":""},null,{"$f":"IF(AV91=\"\",\"\",1)","v":""},null,{"$f":"IF(AX91=\"\",\"\",1)","v":""},{"$f":"IF(AN91=\"\",\"\",VLOOKUP(AN91,[4]ItemConfig!$A:$C,3,FALSE)&AO91)","v":""},{"$f":"IF(AP91=\"\",\"\",VLOOKUP(AP91,[4]ItemConfig!$A:$C,3,FALSE)&AQ91)","v":""},{"$f":"IF(AR91=\"\",\"\",VLOOKUP(AR91,[4]ItemConfig!$A:$C,3,FALSE)&AS91)","v":""},{"$f":"IF(AT91=\"\",\"\",VLOOKUP(AT91,[4]ItemConfig!$A:$C,3,FALSE)&AU91)","v":""},{"$f":"IF(AV91=\"\",\"\",VLOOKUP(AV91,[4]ItemConfig!$A:$C,3,FALSE)&AW91)","v":""},{"$f":"IF(AX91=\"\",\"\",VLOOKUP(AX91,[4]ItemConfig!$A:$C,3,FALSE)&AY91)","v":""}]
[88,88,3,9,8,"227;237;245","结丹","后期.","八重",227,237,245,{"$f":"ROUND([1]ResourceLevelConfig!$E92*[1]ResourceLevelConfig!$L92*0.1,0)*10","v":3050},-1,0,-1,-1,-1,-1,0,{"$f":"[3]主表!K90","v":323.78702798072374},{"$f":"[3]主表!L90","v":8.6373635631938459},{"$f":"[3]主表!M90","v":8.6373635631938459},{"$f":"[3]主表!N90","v":0},{"$f":"[3]主表!$G90","v":3308},{"$f":"[3]升级!$H90","v":1200},{"$f":"MAX(0.1,ROUND(100/(24*3600)*VLOOKUP(B92,[1]ResourceLevelConfig!$A:$E,5,FALSE),2))","v":0.28000000000000003},-1,4,4,3,990,null,null,null,1,2,88,null,null,"",null,"",null,{"$f":"IF(AR92=\"\",\"\",1)","v":""},null,{"$f":"IF(AT92=\"\",\"\",1)","v":""},null,{"$f":"IF(AV92=\"\",\"\",1)","v":""},null,{"$f":"IF(AX92=\"\",\"\",1)","v":""},{"$f":"IF(AN92=\"\",\"\",VLOOKUP(AN92,[4]ItemConfig!$A:$C,3,FALSE)&AO92)","v":""},{"$f":"IF(AP92=\"\",\"\",VLOOKUP(AP92,[4]ItemConfig!$A:$C,3,FALSE)&AQ92)","v":""},{"$f":"IF(AR92=\"\",\"\",VLOOKUP(AR92,[4]ItemConfig!$A:$C,3,FALSE)&AS92)","v":""},{"$f":"IF(AT92=\"\",\"\",VLOOKUP(AT92,[4]ItemConfig!$A:$C,3,FALSE)&AU92)","v":""},{"$f":"IF(AV92=\"\",\"\",VLOOKUP(AV92,[4]ItemConfig!$A:$C,3,FALSE)&AW92)","v":""},{"$f":"IF(AX92=\"\",\"\",VLOOKUP(AX92,[4]ItemConfig!$A:$C,3,FALSE)&AY92)","v":""}]
[89,89,3,9,9,"227;237;246","结丹","后期.","九重",227,237,246,{"$f":"ROUND([1]ResourceLevelConfig!$E93*[1]ResourceLevelConfig!$L93*0.1,0)*10","v":3070},-1,0,-1,-1,-1,-1,0,{"$f":"[3]主表!K91","v":331.42758195171604},{"$f":"[3]主表!L91","v":8.7539837638525011},{"$f":"[3]主表!M91","v":8.7539837638525011},{"$f":"[3]主表!N91","v":0},{"$f":"[3]主表!$G91","v":3380},{"$f":"[3]升级!$H91","v":1200},{"$f":"MAX(0.1,ROUND(100/(24*3600)*VLOOKUP(B93,[1]ResourceLevelConfig!$A:$E,5,FALSE),2))","v":0.28000000000000003},-1,4,4,3,1000,null,null,null,1,2,89,null,null,"",null,"",null,{"$f":"IF(AR93=\"\",\"\",1)","v":""},null,{"$f":"IF(AT93=\"\",\"\",1)","v":""},null,{"$f":"IF(AV93=\"\",\"\",1)","v":""},null,{"$f":"IF(AX93=\"\",\"\",1)","v":""},{"$f":"IF(AN93=\"\",\"\",VLOOKUP(AN93,[4]ItemConfig!$A:$C,3,FALSE)&AO93)","v":""},{"$f":"IF(AP93=\"\",\"\",VLOOKUP(AP93,[4]ItemConfig!$A:$C,3,FALSE)&AQ93)","v":""},{"$f":"IF(AR93=\"\",\"\",VLOOKUP(AR93,[4]ItemConfig!$A:$C,3,FALSE)&AS93)","v":""},{"$f":"IF(AT93=\"\",\"\",VLOOKUP(AT93,[4]ItemConfig!$A:$C,3,FALSE)&AU93)","v":""},{"$f":"IF(AV93=\"\",\"\",VLOOKUP(AV93,[4]ItemConfig!$A:$C,3,FALSE)&AW93)","v":""},{"$f":"IF(AX93=\"\",\"\",VLOOKUP(AX93,[4]ItemConfig!$A:$C,3,FALSE)&AY93)","v":""}]
[90,90,3,9,10,"227;237;247","结丹","后期.","十重",227,237,247,{"$f":"ROUND([1]ResourceLevelConfig!$E94*[1]ResourceLevelConfig!$L94*0.1,0)*10","v":3100},100004,0,{"$f":"AN94","v":1309},{"$f":"AO94","v":1},{"$f":"_xlfn.TEXTJOIN(\";\",1,AP94,AR94,AT94,AV94)","v":"1203;1204"},{"$f":"_xlfn.TEXTJOIN(\";\",1,AQ94,AS94,AU94,AW94)","v":"1;1"},{"$f":"CONCATENATE(ROUND(0.6*VLOOKUP(A94,[3]主表!$A:$P,16,FALSE)*[5]HeroModelConfig!$Q$5,0),\";\",ROUND(0.9*VLOOKUP(A94,[3]主表!$A:$P,16,FALSE)*[5]HeroModelConfig!$Q$5,0),\";\",INT(A94/30)+1)","v":"39606;59409;4"},{"$f":"[3]主表!K92","v":339.21543264864147},{"$f":"[3]主表!L92","v":8.8721785504484227},{"$f":"[3]主表!M92","v":8.8721785504484227},{"$f":"[3]主表!N92","v":0},{"$f":"[3]主表!$G92","v":3453},{"$f":"[3]升级!$H92","v":1200},{"$f":"MAX(0.1,ROUND(100/(24*3600)*VLOOKUP(B94,[1]ResourceLevelConfig!$A:$E,5,FALSE),2))","v":0.28000000000000003},50,4,4,3,1010,null,null,null,1,2,90,null,1309,1,1203,1,1204,{"$f":"IF(AR94=\"\",\"\",1)","v":1},null,{"$f":"IF(AT94=\"\",\"\",1)","v":""},null,{"$f":"IF(AV94=\"\",\"\",1)","v":""},null,{"$f":"IF(AX94=\"\",\"\",1)","v":""},{"$f":"IF(AN94=\"\",\"\",VLOOKUP(AN94,[4]ItemConfig!$A:$C,3,FALSE)&AO94)","v":"九窍芝1"},{"$f":"IF(AP94=\"\",\"\",VLOOKUP(AP94,[4]ItemConfig!$A:$C,3,FALSE)&AQ94)","v":"赤阳砂1"},{"$f":"IF(AR94=\"\",\"\",VLOOKUP(AR94,[4]ItemConfig!$A:$C,3,FALSE)&AS94)","v":"火灵果1"},{"$f":"IF(AT94=\"\",\"\",VLOOKUP(AT94,[4]ItemConfig!$A:$C,3,FALSE)&AU94)","v":""},{"$f":"IF(AV94=\"\",\"\",VLOOKUP(AV94,[4]ItemConfig!$A:$C,3,FALSE)&AW94)","v":""},{"$f":"IF(AX94=\"\",\"\",VLOOKUP(AX94,[4]ItemConfig!$A:$C,3,FALSE)&AY94)","v":""}]
[91,91,4,10,1,"228;235;238","元婴","前期.","一重",228,235,238,{"$f":"ROUND([1]ResourceLevelConfig!$E95*[1]ResourceLevelConfig!$L95*0.1,0)*10","v":3250},-1,0,-1,-1,{"$f":"IF(I95=10,\"1001;1002;1004\",-1)","v":-1},{"$f":"IF(R95=-1,-1,\"100;200;300\")","v":-1},0,{"$f":"[3]主表!K93","v":445.28692650913638},{"$f":"[3]主表!L93","v":11.53383211558295},{"$f":"[3]主表!M93","v":11.53383211558295},{"$f":"[3]主表!N93","v":0},{"$f":"[3]主表!$G93","v":4623},{"$f":"[3]升级!$H93","v":1300},{"$f":"MAX(0.1,ROUND(100/(24*3600)*VLOOKUP(B95,[1]ResourceLevelConfig!$A:$E,5,FALSE),2))","v":0.28999999999999998},-1,4,4,4,1020,null,null,null,1,2,91,null,null,"",null,"",null,{"$f":"IF(AR95=\"\",\"\",1)","v":""},null,{"$f":"IF(AT95=\"\",\"\",1)","v":""},null,{"$f":"IF(AV95=\"\",\"\",1)","v":""},null,{"$f":"IF(AX95=\"\",\"\",1)","v":""},{"$f":"IF(AN95=\"\",\"\",VLOOKUP(AN95,[4]ItemConfig!$A:$C,3,FALSE)&AO95)","v":""},{"$f":"IF(AP95=\"\",\"\",VLOOKUP(AP95,[4]ItemConfig!$A:$C,3,FALSE)&AQ95)","v":""},{"$f":"IF(AR95=\"\",\"\",VLOOKUP(AR95,[4]ItemConfig!$A:$C,3,FALSE)&AS95)","v":""},{"$f":"IF(AT95=\"\",\"\",VLOOKUP(AT95,[4]ItemConfig!$A:$C,3,FALSE)&AU95)","v":""},{"$f":"IF(AV95=\"\",\"\",VLOOKUP(AV95,[4]ItemConfig!$A:$C,3,FALSE)&AW95)","v":""},{"$f":"IF(AX95=\"\",\"\",VLOOKUP(AX95,[4]ItemConfig!$A:$C,3,FALSE)&AY95)","v":""}]
[92,92,4,10,2,"228;235;239","元婴","前期.","二重",228,235,239,{"$f":"ROUND([1]ResourceLevelConfig!$E96*[1]ResourceLevelConfig!$L96*0.1,0)*10","v":3280},-1,0,-1,-1,{"$f":"IF(I96=10,\"1001;1002;1004\",-1)","v":-1},{"$f":"IF(R96=-1,-1,\"100;200;300\")","v":-1},0,{"$f":"[3]主表!K94","v":455.66412878508862},{"$f":"[3]主表!L94","v":11.68955993760196},{"$f":"[3]主表!M94","v":11.68955993760196},{"$f":"[3]主表!N94","v":0},{"$f":"[3]主表!$G94","v":4704},{"$f":"[3]升级!$H94","v":1300},{"$f":"MAX(0.1,ROUND(100/(24*3600)*VLOOKUP(B96,[1]ResourceLevelConfig!$A:$E,5,FALSE),2))","v":0.28999999999999998},-1,4,4,4,1030,null,null,null,1,2,92,null,null,"",null,"",null,{"$f":"IF(AR96=\"\",\"\",1)","v":""},null,{"$f":"IF(AT96=\"\",\"\",1)","v":""},null,{"$f":"IF(AV96=\"\",\"\",1)","v":""},null,{"$f":"IF(AX96=\"\",\"\",1)","v":""},{"$f":"IF(AN96=\"\",\"\",VLOOKUP(AN96,[4]ItemConfig!$A:$C,3,FALSE)&AO96)","v":""},{"$f":"IF(AP96=\"\",\"\",VLOOKUP(AP96,[4]ItemConfig!$A:$C,3,FALSE)&AQ96)","v":""},{"$f":"IF(AR96=\"\",\"\",VLOOKUP(AR96,[4]ItemConfig!$A:$C,3,FALSE)&AS96)","v":""},{"$f":"IF(AT96=\"\",\"\",VLOOKUP(AT96,[4]ItemConfig!$A:$C,3,FALSE)&AU96)","v":""},{"$f":"IF(AV96=\"\",\"\",VLOOKUP(AV96,[4]ItemConfig!$A:$C,3,FALSE)&AW96)","v":""},{"$f":"IF(AX96=\"\",\"\",VLOOKUP(AX96,[4]ItemConfig!$A:$C,3,FALSE)&AY96)","v":""}]
[93,93,4,10,3,"228;235;240","元婴","前期.","三重",228,235,240,{"$f":"ROUND([1]ResourceLevelConfig!$E97*[1]ResourceLevelConfig!$L97*0.1,0)*10","v":3300},-1,0,-1,-1,-1,-1,0,{"$f":"[3]主表!K95","v":466.24037794360913},{"$f":"[3]主表!L95","v":11.847390369950974},{"$f":"[3]主表!M95","v":11.847390369950974},{"$f":"[3]主表!N95","v":0},{"$f":"[3]主表!$G95","v":4787},{"$f":"[3]升级!$H95","v":1300},{"$f":"MAX(0.1,ROUND(100/(24*3600)*VLOOKUP(B97,[1]ResourceLevelConfig!$A:$E,5,FALSE),2))","v":0.28999999999999998},-1,4,4,4,1040,null,null,null,1,2,93,null,null,"",null,"",null,{"$f":"IF(AR97=\"\",\"\",1)","v":""},null,{"$f":"IF(AT97=\"\",\"\",1)","v":""},null,{"$f":"IF(AV97=\"\",\"\",1)","v":""},null,{"$f":"IF(AX97=\"\",\"\",1)","v":""},{"$f":"IF(AN97=\"\",\"\",VLOOKUP(AN97,[4]ItemConfig!$A:$C,3,FALSE)&AO97)","v":""},{"$f":"IF(AP97=\"\",\"\",VLOOKUP(AP97,[4]ItemConfig!$A:$C,3,FALSE)&AQ97)","v":""},{"$f":"IF(AR97=\"\",\"\",VLOOKUP(AR97,[4]ItemConfig!$A:$C,3,FALSE)&AS97)","v":""},{"$f":"IF(AT97=\"\",\"\",VLOOKUP(AT97,[4]ItemConfig!$A:$C,3,FALSE)&AU97)","v":""},{"$f":"IF(AV97=\"\",\"\",VLOOKUP(AV97,[4]ItemConfig!$A:$C,3,FALSE)&AW97)","v":""},{"$f":"IF(AX97=\"\",\"\",VLOOKUP(AX97,[4]ItemConfig!$A:$C,3,FALSE)&AY97)","v":""}]
[94,94,4,10,4,"228;235;241","元婴","前期.","四重",228,235,241,{"$f":"ROUND([1]ResourceLevelConfig!$E98*[1]ResourceLevelConfig!$L98*0.1,0)*10","v":3330},-1,0,-1,-1,-1,-1,0,{"$f":"[3]主表!K96","v":477.01915722096345},{"$f":"[3]主表!L96","v":12.007351801713865},{"$f":"[3]主表!M96","v":12.007351801713865},{"$f":"[3]主表!N96","v":0},{"$f":"[3]主表!$G96","v":4871},{"$f":"[3]升级!$H96","v":1300},{"$f":"MAX(0.1,ROUND(100/(24*3600)*VLOOKUP(B98,[1]ResourceLevelConfig!$A:$E,5,FALSE),2))","v":0.28999999999999998},-1,4,4,4,1050,null,null,null,1,2,94,null,null,"",null,"",null,{"$f":"IF(AR98=\"\",\"\",1)","v":""},null,{"$f":"IF(AT98=\"\",\"\",1)","v":""},null,{"$f":"IF(AV98=\"\",\"\",1)","v":""},null,{"$f":"IF(AX98=\"\",\"\",1)","v":""},{"$f":"IF(AN98=\"\",\"\",VLOOKUP(AN98,[4]ItemConfig!$A:$C,3,FALSE)&AO98)","v":""},{"$f":"IF(AP98=\"\",\"\",VLOOKUP(AP98,[4]ItemConfig!$A:$C,3,FALSE)&AQ98)","v":""},{"$f":"IF(AR98=\"\",\"\",VLOOKUP(AR98,[4]ItemConfig!$A:$C,3,FALSE)&AS98)","v":""},{"$f":"IF(AT98=\"\",\"\",VLOOKUP(AT98,[4]ItemConfig!$A:$C,3,FALSE)&AU98)","v":""},{"$f":"IF(AV98=\"\",\"\",VLOOKUP(AV98,[4]ItemConfig!$A:$C,3,FALSE)&AW98)","v":""},{"$f":"IF(AX98=\"\",\"\",VLOOKUP(AX98,[4]ItemConfig!$A:$C,3,FALSE)&AY98)","v":""}]
[95,95,4,10,5,"228;235;242","元婴","前期.","五重",228,235,242,{"$f":"ROUND([1]ResourceLevelConfig!$E99*[1]ResourceLevelConfig!$L99*0.1,0)*10","v":3480},-1,0,-1,-1,-1,-1,{"$f":"IF(G99=G100,0,CONCATENATE(\"1;1\"))","v":0},{"$f":"[3]主表!K97","v":488.00400762741191},{"$f":"[3]主表!L97","v":12.169473005279036},{"$f":"[3]主表!M97","v":12.169473005279036},{"$f":"[3]主表!N97","v":0},{"$f":"[3]主表!$G97","v":4956},{"$f":"[3]升级!$H97","v":1300},{"$f":"MAX(0.1,ROUND(100/(24*3600)*VLOOKUP(B99,[1]ResourceLevelConfig!$A:$E,5,FALSE),2))","v":0.3},-1,4,4,4,1060,null,null,null,1,2,95,null,null,"",null,"",null,{"$f":"IF(AR99=\"\",\"\",1)","v":""},null,{"$f":"IF(AT99=\"\",\"\",1)","v":""},null,{"$f":"IF(AV99=\"\",\"\",1)","v":""},null,{"$f":"IF(AX99=\"\",\"\",1)","v":""},{"$f":"IF(AN99=\"\",\"\",VLOOKUP(AN99,[4]ItemConfig!$A:$C,3,FALSE)&AO99)","v":""},{"$f":"IF(AP99=\"\",\"\",VLOOKUP(AP99,[4]ItemConfig!$A:$C,3,FALSE)&AQ99)","v":""},{"$f":"IF(AR99=\"\",\"\",VLOOKUP(AR99,[4]ItemConfig!$A:$C,3,FALSE)&AS99)","v":""},{"$f":"IF(AT99=\"\",\"\",VLOOKUP(AT99,[4]ItemConfig!$A:$C,3,FALSE)&AU99)","v":""},{"$f":"IF(AV99=\"\",\"\",VLOOKUP(AV99,[4]ItemConfig!$A:$C,3,FALSE)&AW99)","v":""},{"$f":"IF(AX99=\"\",\"\",VLOOKUP(AX99,[4]ItemConfig!$A:$C,3,FALSE)&AY99)","v":""}]
[96,96,4,10,6,"228;235;243","元婴","前期.","六重",228,235,243,{"$f":"ROUND([1]ResourceLevelConfig!$E100*[1]ResourceLevelConfig!$L100*0.1,0)*10","v":3510},-1,0,-1,-1,-1,-1,0,{"$f":"[3]主表!K98","v":499.19852887232798},{"$f":"[3]主表!L98","v":12.333783141514743},{"$f":"[3]主表!M98","v":12.333783141514743},{"$f":"[3]主表!N98","v":0},{"$f":"[3]主表!$G98","v":5043},{"$f":"[3]升级!$H98","v":1300},{"$f":"MAX(0.1,ROUND(100/(24*3600)*VLOOKUP(B100,[1]ResourceLevelConfig!$A:$E,5,FALSE),2))","v":0.3},-1,4,4,4,1070,null,null,null,1,2,96,null,null,"",null,"",null,{"$f":"IF(AR100=\"\",\"\",1)","v":""},null,{"$f":"IF(AT100=\"\",\"\",1)","v":""},null,{"$f":"IF(AV100=\"\",\"\",1)","v":""},null,{"$f":"IF(AX100=\"\",\"\",1)","v":""},{"$f":"IF(AN100=\"\",\"\",VLOOKUP(AN100,[4]ItemConfig!$A:$C,3,FALSE)&AO100)","v":""},{"$f":"IF(AP100=\"\",\"\",VLOOKUP(AP100,[4]ItemConfig!$A:$C,3,FALSE)&AQ100)","v":""},{"$f":"IF(AR100=\"\",\"\",VLOOKUP(AR100,[4]ItemConfig!$A:$C,3,FALSE)&AS100)","v":""},{"$f":"IF(AT100=\"\",\"\",VLOOKUP(AT100,[4]ItemConfig!$A:$C,3,FALSE)&AU100)","v":""},{"$f":"IF(AV100=\"\",\"\",VLOOKUP(AV100,[4]ItemConfig!$A:$C,3,FALSE)&AW100)","v":""},{"$f":"IF(AX100=\"\",\"\",VLOOKUP(AX100,[4]ItemConfig!$A:$C,3,FALSE)&AY100)","v":""}]
[97,97,4,10,7,"228;235;244","元婴","前期.","七重",228,235,244,{"$f":"ROUND([1]ResourceLevelConfig!$E101*[1]ResourceLevelConfig!$L101*0.1,0)*10","v":3540},-1,0,-1,-1,-1,-1,0,{"$f":"[3]主表!K99","v":510.60638030376424},{"$f":"[3]主表!L99","v":12.500311765014287},{"$f":"[3]主表!M99","v":12.500311765014287},{"$f":"[3]主表!N99","v":0},{"$f":"[3]主表!$G99","v":5131},{"$f":"[3]升级!$H99","v":1300},{"$f":"MAX(0.1,ROUND(100/(24*3600)*VLOOKUP(B101,[1]ResourceLevelConfig!$A:$E,5,FALSE),2))","v":0.3},-1,4,4,4,1080,null,null,null,1,2,97,null,null,"",null,"",null,{"$f":"IF(AR101=\"\",\"\",1)","v":""},null,{"$f":"IF(AT101=\"\",\"\",1)","v":""},null,{"$f":"IF(AV101=\"\",\"\",1)","v":""},null,{"$f":"IF(AX101=\"\",\"\",1)","v":""},{"$f":"IF(AN101=\"\",\"\",VLOOKUP(AN101,[4]ItemConfig!$A:$C,3,FALSE)&AO101)","v":""},{"$f":"IF(AP101=\"\",\"\",VLOOKUP(AP101,[4]ItemConfig!$A:$C,3,FALSE)&AQ101)","v":""},{"$f":"IF(AR101=\"\",\"\",VLOOKUP(AR101,[4]ItemConfig!$A:$C,3,FALSE)&AS101)","v":""},{"$f":"IF(AT101=\"\",\"\",VLOOKUP(AT101,[4]ItemConfig!$A:$C,3,FALSE)&AU101)","v":""},{"$f":"IF(AV101=\"\",\"\",VLOOKUP(AV101,[4]ItemConfig!$A:$C,3,FALSE)&AW101)","v":""},{"$f":"IF(AX101=\"\",\"\",VLOOKUP(AX101,[4]ItemConfig!$A:$C,3,FALSE)&AY101)","v":""}]
[98,98,4,10,8,"228;235;245","元婴","前期.","八重",228,235,245,{"$f":"ROUND([1]ResourceLevelConfig!$E102*[1]ResourceLevelConfig!$L102*0.1,0)*10","v":3560},-1,0,-1,-1,-1,-1,0,{"$f":"[3]主表!K100","v":522.23128186269059},{"$f":"[3]主表!L100","v":12.66908882941201},{"$f":"[3]主表!M100","v":12.66908882941201},{"$f":"[3]主表!N100","v":0},{"$f":"[3]主表!$G100","v":5221},{"$f":"[3]升级!$H100","v":1300},{"$f":"MAX(0.1,ROUND(100/(24*3600)*VLOOKUP(B102,[1]ResourceLevelConfig!$A:$E,5,FALSE),2))","v":0.3},-1,4,4,4,1090,null,null,null,1,2,98,null,null,"",null,"",null,{"$f":"IF(AR102=\"\",\"\",1)","v":""},null,{"$f":"IF(AT102=\"\",\"\",1)","v":""},null,{"$f":"IF(AV102=\"\",\"\",1)","v":""},null,{"$f":"IF(AX102=\"\",\"\",1)","v":""},{"$f":"IF(AN102=\"\",\"\",VLOOKUP(AN102,[4]ItemConfig!$A:$C,3,FALSE)&AO102)","v":""},{"$f":"IF(AP102=\"\",\"\",VLOOKUP(AP102,[4]ItemConfig!$A:$C,3,FALSE)&AQ102)","v":""},{"$f":"IF(AR102=\"\",\"\",VLOOKUP(AR102,[4]ItemConfig!$A:$C,3,FALSE)&AS102)","v":""},{"$f":"IF(AT102=\"\",\"\",VLOOKUP(AT102,[4]ItemConfig!$A:$C,3,FALSE)&AU102)","v":""},{"$f":"IF(AV102=\"\",\"\",VLOOKUP(AV102,[4]ItemConfig!$A:$C,3,FALSE)&AW102)","v":""},{"$f":"IF(AX102=\"\",\"\",VLOOKUP(AX102,[4]ItemConfig!$A:$C,3,FALSE)&AY102)","v":""}]
[99,99,4,10,9,"228;235;246","元婴","前期.","九重",228,235,246,{"$f":"ROUND([1]ResourceLevelConfig!$E103*[1]ResourceLevelConfig!$L103*0.1,0)*10","v":3730},-1,0,-1,-1,-1,-1,0,{"$f":"[3]主表!K101","v":534.07701505212776},{"$f":"[3]主表!L101","v":12.840144692771087},{"$f":"[3]主表!M101","v":12.840144692771087},{"$f":"[3]主表!N101","v":0},{"$f":"[3]主表!$G101","v":5312},{"$f":"[3]升级!$H101","v":1300},{"$f":"MAX(0.1,ROUND(100/(24*3600)*VLOOKUP(B103,[1]ResourceLevelConfig!$A:$E,5,FALSE),2))","v":0.31},-1,4,4,4,1100,null,null,null,1,2,99,null,null,"",null,"",null,{"$f":"IF(AR103=\"\",\"\",1)","v":""},null,{"$f":"IF(AT103=\"\",\"\",1)","v":""},null,{"$f":"IF(AV103=\"\",\"\",1)","v":""},null,{"$f":"IF(AX103=\"\",\"\",1)","v":""},{"$f":"IF(AN103=\"\",\"\",VLOOKUP(AN103,[4]ItemConfig!$A:$C,3,FALSE)&AO103)","v":""},{"$f":"IF(AP103=\"\",\"\",VLOOKUP(AP103,[4]ItemConfig!$A:$C,3,FALSE)&AQ103)","v":""},{"$f":"IF(AR103=\"\",\"\",VLOOKUP(AR103,[4]ItemConfig!$A:$C,3,FALSE)&AS103)","v":""},{"$f":"IF(AT103=\"\",\"\",VLOOKUP(AT103,[4]ItemConfig!$A:$C,3,FALSE)&AU103)","v":""},{"$f":"IF(AV103=\"\",\"\",VLOOKUP(AV103,[4]ItemConfig!$A:$C,3,FALSE)&AW103)","v":""},{"$f":"IF(AX103=\"\",\"\",VLOOKUP(AX103,[4]ItemConfig!$A:$C,3,FALSE)&AY103)","v":""}]
[100,100,4,10,10,"228;235;247","元婴","前期.","十重",228,235,247,{"$f":"ROUND([1]ResourceLevelConfig!$E104*[1]ResourceLevelConfig!$L104*0.1,0)*10","v":3750},100004,0,{"$f":"AN104","v":1310},{"$f":"AO104","v":1},{"$f":"_xlfn.TEXTJOIN(\";\",1,AP104,AR104,AT104,AV104)","v":"1205;1206"},{"$f":"_xlfn.TEXTJOIN(\";\",1,AQ104,AS104,AU104,AW104)","v":"1;1"},0,{"$f":"[3]主表!K102","v":546.1474239214042},{"$f":"[3]主表!L102","v":13.013510123044052},{"$f":"[3]主表!M102","v":13.013510123044052},{"$f":"[3]主表!N102","v":0},{"$f":"[3]主表!$G102","v":5405},{"$f":"[3]升级!$H102","v":1300},{"$f":"MAX(0.1,ROUND(100/(24*3600)*VLOOKUP(B104,[1]ResourceLevelConfig!$A:$E,5,FALSE),2))","v":0.31},20,4,4,4,1110,null,null,null,1,2,100,null,1310,1,1205,1,1206,{"$f":"IF(AR104=\"\",\"\",1)","v":1},null,{"$f":"IF(AT104=\"\",\"\",1)","v":""},null,{"$f":"IF(AV104=\"\",\"\",1)","v":""},null,{"$f":"IF(AX104=\"\",\"\",1)","v":""},{"$f":"IF(AN104=\"\",\"\",VLOOKUP(AN104,[4]ItemConfig!$A:$C,3,FALSE)&AO104)","v":"婴化丹1"},{"$f":"IF(AP104=\"\",\"\",VLOOKUP(AP104,[4]ItemConfig!$A:$C,3,FALSE)&AQ104)","v":"婴魂草1"},{"$f":"IF(AR104=\"\",\"\",VLOOKUP(AR104,[4]ItemConfig!$A:$C,3,FALSE)&AS104)","v":"灵魄藤1"},{"$f":"IF(AT104=\"\",\"\",VLOOKUP(AT104,[4]ItemConfig!$A:$C,3,FALSE)&AU104)","v":""},{"$f":"IF(AV104=\"\",\"\",VLOOKUP(AV104,[4]ItemConfig!$A:$C,3,FALSE)&AW104)","v":""},{"$f":"IF(AX104=\"\",\"\",VLOOKUP(AX104,[4]ItemConfig!$A:$C,3,FALSE)&AY104)","v":""}]
[101,101,4,11,1,"228;236;238","元婴","中期.","一重",228,236,238,{"$f":"ROUND([1]ResourceLevelConfig!$E105*[1]ResourceLevelConfig!$L105*0.1,0)*10","v":3780},-1,0,-1,-1,{"$f":"IF(I105=10,\"1001;1002;1004\",-1)","v":-1},-1,0,{"$f":"[3]主表!K103","v":606.10749823916876},{"$f":"[3]主表!L103","v":14.314861135348458},{"$f":"[3]主表!M103","v":14.314861135348458},{"$f":"[3]主表!N103","v":0},{"$f":"[3]主表!$G103","v":6096},{"$f":"[3]升级!$H103","v":1300},{"$f":"MAX(0.1,ROUND(100/(24*3600)*VLOOKUP(B105,[1]ResourceLevelConfig!$A:$E,5,FALSE),2))","v":0.31},-1,4,4,4,1120,null,null,null,1,2,101,null,null,"",null,"",null,{"$f":"IF(AR105=\"\",\"\",1)","v":""},null,{"$f":"IF(AT105=\"\",\"\",1)","v":""},null,{"$f":"IF(AV105=\"\",\"\",1)","v":""},null,{"$f":"IF(AX105=\"\",\"\",1)","v":""},{"$f":"IF(AN105=\"\",\"\",VLOOKUP(AN105,[4]ItemConfig!$A:$C,3,FALSE)&AO105)","v":""},{"$f":"IF(AP105=\"\",\"\",VLOOKUP(AP105,[4]ItemConfig!$A:$C,3,FALSE)&AQ105)","v":""},{"$f":"IF(AR105=\"\",\"\",VLOOKUP(AR105,[4]ItemConfig!$A:$C,3,FALSE)&AS105)","v":""},{"$f":"IF(AT105=\"\",\"\",VLOOKUP(AT105,[4]ItemConfig!$A:$C,3,FALSE)&AU105)","v":""},{"$f":"IF(AV105=\"\",\"\",VLOOKUP(AV105,[4]ItemConfig!$A:$C,3,FALSE)&AW105)","v":""},{"$f":"IF(AX105=\"\",\"\",VLOOKUP(AX105,[4]ItemConfig!$A:$C,3,FALSE)&AY105)","v":""}]
[102,102,4,11,2,"228;236;239","元婴","中期.","二重",228,236,239,{"$f":"ROUND([1]ResourceLevelConfig!$E106*[1]ResourceLevelConfig!$L106*0.1,0)*10","v":3950},-1,0,-1,-1,-1,-1,0,{"$f":"[3]主表!K104","v":619.7085613523725},{"$f":"[3]主表!L104","v":14.508137933967761},{"$f":"[3]主表!M104","v":14.508137933967761},{"$f":"[3]主表!N104","v":0},{"$f":"[3]主表!$G104","v":6200},{"$f":"[3]升级!$H104","v":1300},{"$f":"MAX(0.1,ROUND(100/(24*3600)*VLOOKUP(B106,[1]ResourceLevelConfig!$A:$E,5,FALSE),2))","v":0.32},-1,4,4,4,1130,null,null,null,1,2,102,null,null,"",null,"",null,{"$f":"IF(AR106=\"\",\"\",1)","v":""},null,{"$f":"IF(AT106=\"\",\"\",1)","v":""},null,{"$f":"IF(AV106=\"\",\"\",1)","v":""},null,{"$f":"IF(AX106=\"\",\"\",1)","v":""},{"$f":"IF(AN106=\"\",\"\",VLOOKUP(AN106,[4]ItemConfig!$A:$C,3,FALSE)&AO106)","v":""},{"$f":"IF(AP106=\"\",\"\",VLOOKUP(AP106,[4]ItemConfig!$A:$C,3,FALSE)&AQ106)","v":""},{"$f":"IF(AR106=\"\",\"\",VLOOKUP(AR106,[4]ItemConfig!$A:$C,3,FALSE)&AS106)","v":""},{"$f":"IF(AT106=\"\",\"\",VLOOKUP(AT106,[4]ItemConfig!$A:$C,3,FALSE)&AU106)","v":""},{"$f":"IF(AV106=\"\",\"\",VLOOKUP(AV106,[4]ItemConfig!$A:$C,3,FALSE)&AW106)","v":""},{"$f":"IF(AX106=\"\",\"\",VLOOKUP(AX106,[4]ItemConfig!$A:$C,3,FALSE)&AY106)","v":""}]
[103,103,4,11,3,"228;236;240","元婴","中期.","三重",228,236,240,{"$f":"ROUND([1]ResourceLevelConfig!$E107*[1]ResourceLevelConfig!$L107*0.1,0)*10","v":3980},-1,0,-1,-1,-1,-1,0,{"$f":"[3]主表!K105","v":633.56640989083235},{"$f":"[3]主表!L105","v":14.704024322755725},{"$f":"[3]主表!M105","v":14.704024322755725},{"$f":"[3]主表!N105","v":0},{"$f":"[3]主表!$G105","v":6307},{"$f":"[3]升级!$H105","v":1300},{"$f":"MAX(0.1,ROUND(100/(24*3600)*VLOOKUP(B107,[1]ResourceLevelConfig!$A:$E,5,FALSE),2))","v":0.32},-1,4,4,4,1140,null,null,null,1,2,103,null,null,"",null,"",null,{"$f":"IF(AR107=\"\",\"\",1)","v":""},null,{"$f":"IF(AT107=\"\",\"\",1)","v":""},null,{"$f":"IF(AV107=\"\",\"\",1)","v":""},null,{"$f":"IF(AX107=\"\",\"\",1)","v":""},{"$f":"IF(AN107=\"\",\"\",VLOOKUP(AN107,[4]ItemConfig!$A:$C,3,FALSE)&AO107)","v":""},{"$f":"IF(AP107=\"\",\"\",VLOOKUP(AP107,[4]ItemConfig!$A:$C,3,FALSE)&AQ107)","v":""},{"$f":"IF(AR107=\"\",\"\",VLOOKUP(AR107,[4]ItemConfig!$A:$C,3,FALSE)&AS107)","v":""},{"$f":"IF(AT107=\"\",\"\",VLOOKUP(AT107,[4]ItemConfig!$A:$C,3,FALSE)&AU107)","v":""},{"$f":"IF(AV107=\"\",\"\",VLOOKUP(AV107,[4]ItemConfig!$A:$C,3,FALSE)&AW107)","v":""},{"$f":"IF(AX107=\"\",\"\",VLOOKUP(AX107,[4]ItemConfig!$A:$C,3,FALSE)&AY107)","v":""}]
[104,104,4,11,4,"228;236;241","元婴","中期.","四重",228,236,241,{"$f":"ROUND([1]ResourceLevelConfig!$E108*[1]ResourceLevelConfig!$L108*0.1,0)*10","v":4000},-1,0,-1,-1,-1,-1,0,{"$f":"[3]主表!K106","v":647.68549853480408},{"$f":"[3]主表!L106","v":14.902555535950997},{"$f":"[3]主表!M106","v":14.902555535950997},{"$f":"[3]主表!N106","v":0},{"$f":"[3]主表!$G106","v":6415},{"$f":"[3]升级!$H106","v":1300},{"$f":"MAX(0.1,ROUND(100/(24*3600)*VLOOKUP(B108,[1]ResourceLevelConfig!$A:$E,5,FALSE),2))","v":0.32},-1,4,4,4,1150,null,null,null,1,2,104,null,null,"",null,"",null,{"$f":"IF(AR108=\"\",\"\",1)","v":""},null,{"$f":"IF(AT108=\"\",\"\",1)","v":""},null,{"$f":"IF(AV108=\"\",\"\",1)","v":""},null,{"$f":"IF(AX108=\"\",\"\",1)","v":""},{"$f":"IF(AN108=\"\",\"\",VLOOKUP(AN108,[4]ItemConfig!$A:$C,3,FALSE)&AO108)","v":""},{"$f":"IF(AP108=\"\",\"\",VLOOKUP(AP108,[4]ItemConfig!$A:$C,3,FALSE)&AQ108)","v":""},{"$f":"IF(AR108=\"\",\"\",VLOOKUP(AR108,[4]ItemConfig!$A:$C,3,FALSE)&AS108)","v":""},{"$f":"IF(AT108=\"\",\"\",VLOOKUP(AT108,[4]ItemConfig!$A:$C,3,FALSE)&AU108)","v":""},{"$f":"IF(AV108=\"\",\"\",VLOOKUP(AV108,[4]ItemConfig!$A:$C,3,FALSE)&AW108)","v":""},{"$f":"IF(AX108=\"\",\"\",VLOOKUP(AX108,[4]ItemConfig!$A:$C,3,FALSE)&AY108)","v":""}]
[105,105,4,11,5,"228;236;242","元婴","中期.","五重",228,236,242,{"$f":"ROUND([1]ResourceLevelConfig!$E109*[1]ResourceLevelConfig!$L109*0.1,0)*10","v":4030},-1,0,-1,-1,-1,-1,0,{"$f":"[3]主表!K107","v":662.07035544537973},{"$f":"[3]主表!L107","v":15.103767283518875},{"$f":"[3]主表!M107","v":15.103767283518875},{"$f":"[3]主表!N107","v":0},{"$f":"[3]主表!$G107","v":6525},{"$f":"[3]升级!$H107","v":1300},{"$f":"MAX(0.1,ROUND(100/(24*3600)*VLOOKUP(B109,[1]ResourceLevelConfig!$A:$E,5,FALSE),2))","v":0.32},-1,4,4,4,1160,null,null,null,1,2,105,null,null,"",null,"",null,{"$f":"IF(AR109=\"\",\"\",1)","v":""},null,{"$f":"IF(AT109=\"\",\"\",1)","v":""},null,{"$f":"IF(AV109=\"\",\"\",1)","v":""},null,{"$f":"IF(AX109=\"\",\"\",1)","v":""},{"$f":"IF(AN109=\"\",\"\",VLOOKUP(AN109,[4]ItemConfig!$A:$C,3,FALSE)&AO109)","v":""},{"$f":"IF(AP109=\"\",\"\",VLOOKUP(AP109,[4]ItemConfig!$A:$C,3,FALSE)&AQ109)","v":""},{"$f":"IF(AR109=\"\",\"\",VLOOKUP(AR109,[4]ItemConfig!$A:$C,3,FALSE)&AS109)","v":""},{"$f":"IF(AT109=\"\",\"\",VLOOKUP(AT109,[4]ItemConfig!$A:$C,3,FALSE)&AU109)","v":""},{"$f":"IF(AV109=\"\",\"\",VLOOKUP(AV109,[4]ItemConfig!$A:$C,3,FALSE)&AW109)","v":""},{"$f":"IF(AX109=\"\",\"\",VLOOKUP(AX109,[4]ItemConfig!$A:$C,3,FALSE)&AY109)","v":""}]
[106,106,4,11,6,"228;236;243","元婴","中期.","六重",228,236,243,{"$f":"ROUND([1]ResourceLevelConfig!$E110*[1]ResourceLevelConfig!$L110*0.1,0)*10","v":4210},-1,0,-1,-1,-1,-1,0,{"$f":"[3]主表!K108","v":676.72558343665173},{"$f":"[3]主表!L108","v":15.307695757574479},{"$f":"[3]主表!M108","v":15.307695757574479},{"$f":"[3]主表!N108","v":0},{"$f":"[3]主表!$G108","v":6637},{"$f":"[3]升级!$H108","v":1300},{"$f":"MAX(0.1,ROUND(100/(24*3600)*VLOOKUP(B110,[1]ResourceLevelConfig!$A:$E,5,FALSE),2))","v":0.34},-1,4,4,4,1170,null,null,null,1,2,106,null,null,"",null,"",null,{"$f":"IF(AR110=\"\",\"\",1)","v":""},null,{"$f":"IF(AT110=\"\",\"\",1)","v":""},null,{"$f":"IF(AV110=\"\",\"\",1)","v":""},null,{"$f":"IF(AX110=\"\",\"\",1)","v":""},{"$f":"IF(AN110=\"\",\"\",VLOOKUP(AN110,[4]ItemConfig!$A:$C,3,FALSE)&AO110)","v":""},{"$f":"IF(AP110=\"\",\"\",VLOOKUP(AP110,[4]ItemConfig!$A:$C,3,FALSE)&AQ110)","v":""},{"$f":"IF(AR110=\"\",\"\",VLOOKUP(AR110,[4]ItemConfig!$A:$C,3,FALSE)&AS110)","v":""},{"$f":"IF(AT110=\"\",\"\",VLOOKUP(AT110,[4]ItemConfig!$A:$C,3,FALSE)&AU110)","v":""},{"$f":"IF(AV110=\"\",\"\",VLOOKUP(AV110,[4]ItemConfig!$A:$C,3,FALSE)&AW110)","v":""},{"$f":"IF(AX110=\"\",\"\",VLOOKUP(AX110,[4]ItemConfig!$A:$C,3,FALSE)&AY110)","v":""}]
[107,107,4,11,7,"228;236;244","元婴","中期.","七重",228,236,244,{"$f":"ROUND([1]ResourceLevelConfig!$E111*[1]ResourceLevelConfig!$L111*0.1,0)*10","v":4230},-1,0,-1,-1,-1,-1,0,{"$f":"[3]主表!K109","v":691.65586116613781},{"$f":"[3]主表!L109","v":15.514377638892656},{"$f":"[3]主表!M109","v":15.514377638892656},{"$f":"[3]主表!N109","v":0},{"$f":"[3]主表!$G109","v":6751},{"$f":"[3]升级!$H109","v":1300},{"$f":"MAX(0.1,ROUND(100/(24*3600)*VLOOKUP(B111,[1]ResourceLevelConfig!$A:$E,5,FALSE),2))","v":0.34},-1,4,4,4,1180,null,null,null,1,2,107,null,null,"",null,"",null,{"$f":"IF(AR111=\"\",\"\",1)","v":""},null,{"$f":"IF(AT111=\"\",\"\",1)","v":""},null,{"$f":"IF(AV111=\"\",\"\",1)","v":""},null,{"$f":"IF(AX111=\"\",\"\",1)","v":""},{"$f":"IF(AN111=\"\",\"\",VLOOKUP(AN111,[4]ItemConfig!$A:$C,3,FALSE)&AO111)","v":""},{"$f":"IF(AP111=\"\",\"\",VLOOKUP(AP111,[4]ItemConfig!$A:$C,3,FALSE)&AQ111)","v":""},{"$f":"IF(AR111=\"\",\"\",VLOOKUP(AR111,[4]ItemConfig!$A:$C,3,FALSE)&AS111)","v":""},{"$f":"IF(AT111=\"\",\"\",VLOOKUP(AT111,[4]ItemConfig!$A:$C,3,FALSE)&AU111)","v":""},{"$f":"IF(AV111=\"\",\"\",VLOOKUP(AV111,[4]ItemConfig!$A:$C,3,FALSE)&AW111)","v":""},{"$f":"IF(AX111=\"\",\"\",VLOOKUP(AX111,[4]ItemConfig!$A:$C,3,FALSE)&AY111)","v":""}]
[108,108,4,11,8,"228;236;245","元婴","中期.","八重",228,236,245,{"$f":"ROUND([1]ResourceLevelConfig!$E112*[1]ResourceLevelConfig!$L112*0.1,0)*10","v":4260},-1,0,-1,-1,-1,-1,0,{"$f":"[3]主表!K110","v":706.86594434373978},{"$f":"[3]主表!L110","v":15.72385010350578},{"$f":"[3]主表!M110","v":15.72385010350578},{"$f":"[3]主表!N110","v":0},{"$f":"[3]主表!$G110","v":6867},{"$f":"[3]升级!$H110","v":1300},{"$f":"MAX(0.1,ROUND(100/(24*3600)*VLOOKUP(B112,[1]ResourceLevelConfig!$A:$E,5,FALSE),2))","v":0.34},-1,4,4,4,1190,null,null,null,1,2,108,null,null,"",null,"",null,{"$f":"IF(AR112=\"\",\"\",1)","v":""},null,{"$f":"IF(AT112=\"\",\"\",1)","v":""},null,{"$f":"IF(AV112=\"\",\"\",1)","v":""},null,{"$f":"IF(AX112=\"\",\"\",1)","v":""},{"$f":"IF(AN112=\"\",\"\",VLOOKUP(AN112,[4]ItemConfig!$A:$C,3,FALSE)&AO112)","v":""},{"$f":"IF(AP112=\"\",\"\",VLOOKUP(AP112,[4]ItemConfig!$A:$C,3,FALSE)&AQ112)","v":""},{"$f":"IF(AR112=\"\",\"\",VLOOKUP(AR112,[4]ItemConfig!$A:$C,3,FALSE)&AS112)","v":""},{"$f":"IF(AT112=\"\",\"\",VLOOKUP(AT112,[4]ItemConfig!$A:$C,3,FALSE)&AU112)","v":""},{"$f":"IF(AV112=\"\",\"\",VLOOKUP(AV112,[4]ItemConfig!$A:$C,3,FALSE)&AW112)","v":""},{"$f":"IF(AX112=\"\",\"\",VLOOKUP(AX112,[4]ItemConfig!$A:$C,3,FALSE)&AY112)","v":""}]
[109,109,4,11,9,"228;236;246","元婴","中期.","九重",228,236,246,{"$f":"ROUND([1]ResourceLevelConfig!$E113*[1]ResourceLevelConfig!$L113*0.1,0)*10","v":4440},-1,0,-1,-1,-1,-1,0,{"$f":"[3]主表!K111","v":722.3606669595224},{"$f":"[3]主表!L111","v":15.936150829390638},{"$f":"[3]主表!M111","v":15.936150829390638},{"$f":"[3]主表!N111","v":0},{"$f":"[3]主表!$G111","v":6984},{"$f":"[3]升级!$H111","v":1300},{"$f":"MAX(0.1,ROUND(100/(24*3600)*VLOOKUP(B113,[1]ResourceLevelConfig!$A:$E,5,FALSE),2))","v":0.35},-1,4,4,4,1200,null,null,null,1,2,109,null,null,"",null,"",null,{"$f":"IF(AR113=\"\",\"\",1)","v":""},null,{"$f":"IF(AT113=\"\",\"\",1)","v":""},null,{"$f":"IF(AV113=\"\",\"\",1)","v":""},null,{"$f":"IF(AX113=\"\",\"\",1)","v":""},{"$f":"IF(AN113=\"\",\"\",VLOOKUP(AN113,[4]ItemConfig!$A:$C,3,FALSE)&AO113)","v":""},{"$f":"IF(AP113=\"\",\"\",VLOOKUP(AP113,[4]ItemConfig!$A:$C,3,FALSE)&AQ113)","v":""},{"$f":"IF(AR113=\"\",\"\",VLOOKUP(AR113,[4]ItemConfig!$A:$C,3,FALSE)&AS113)","v":""},{"$f":"IF(AT113=\"\",\"\",VLOOKUP(AT113,[4]ItemConfig!$A:$C,3,FALSE)&AU113)","v":""},{"$f":"IF(AV113=\"\",\"\",VLOOKUP(AV113,[4]ItemConfig!$A:$C,3,FALSE)&AW113)","v":""},{"$f":"IF(AX113=\"\",\"\",VLOOKUP(AX113,[4]ItemConfig!$A:$C,3,FALSE)&AY113)","v":""}]
[110,110,4,11,10,"228;236;247","元婴","中期.","十重",228,236,247,{"$f":"ROUND([1]ResourceLevelConfig!$E114*[1]ResourceLevelConfig!$L114*0.1,0)*10","v":4470},100004,0,{"$f":"AN114","v":1311},{"$f":"AO114","v":1},{"$f":"_xlfn.TEXTJOIN(\";\",1,AP114,AR114,AT114,AV114)","v":"1205;1206"},{"$f":"_xlfn.TEXTJOIN(\";\",1,AQ114,AS114,AU114,AW114)","v":"1;1"},0,{"$f":"[3]主表!K112","v":738.14494253060377},{"$f":"[3]主表!L112","v":16.151318003245589},{"$f":"[3]主表!M112","v":16.151318003245589},{"$f":"[3]主表!N112","v":0},{"$f":"[3]主表!$G112","v":7104},{"$f":"[3]升级!$H112","v":1300},{"$f":"MAX(0.1,ROUND(100/(24*3600)*VLOOKUP(B114,[1]ResourceLevelConfig!$A:$E,5,FALSE),2))","v":0.35},20,4,4,4,1210,null,null,null,1,2,110,null,1311,1,1205,1,1206,{"$f":"IF(AR114=\"\",\"\",1)","v":1},null,{"$f":"IF(AT114=\"\",\"\",1)","v":""},null,{"$f":"IF(AV114=\"\",\"\",1)","v":""},null,{"$f":"IF(AX114=\"\",\"\",1)","v":""},{"$f":"IF(AN114=\"\",\"\",VLOOKUP(AN114,[4]ItemConfig!$A:$C,3,FALSE)&AO114)","v":"玄婴花1"},{"$f":"IF(AP114=\"\",\"\",VLOOKUP(AP114,[4]ItemConfig!$A:$C,3,FALSE)&AQ114)","v":"婴魂草1"},{"$f":"IF(AR114=\"\",\"\",VLOOKUP(AR114,[4]ItemConfig!$A:$C,3,FALSE)&AS114)","v":"灵魄藤1"},{"$f":"IF(AT114=\"\",\"\",VLOOKUP(AT114,[4]ItemConfig!$A:$C,3,FALSE)&AU114)","v":""},{"$f":"IF(AV114=\"\",\"\",VLOOKUP(AV114,[4]ItemConfig!$A:$C,3,FALSE)&AW114)","v":""},{"$f":"IF(AX114=\"\",\"\",VLOOKUP(AX114,[4]ItemConfig!$A:$C,3,FALSE)&AY114)","v":""}]
[111,111,4,12,1,"228;237;238","元婴","后期.","一重",228,237,238,{"$f":"ROUND([1]ResourceLevelConfig!$E115*[1]ResourceLevelConfig!$L115*0.1,0)*10","v":4500},-1,0,-1,-1,{"$f":"IF(I115=10,\"1001;1002;1004\",-1)","v":-1},-1,0,{"$f":"[3]主表!K113","v":818.59363116683664},{"$f":"[3]主表!L113","v":17.766449803570147},{"$f":"[3]主表!M113","v":17.766449803570147},{"$f":"[3]主表!N113","v":0},{"$f":"[3]主表!$G113","v":8009},{"$f":"[3]升级!$H113","v":1300},{"$f":"MAX(0.1,ROUND(100/(24*3600)*VLOOKUP(B115,[1]ResourceLevelConfig!$A:$E,5,FALSE),2))","v":0.35},-1,4,4,4,1220,null,null,null,1,2,111,null,null,"",null,"",null,{"$f":"IF(AR115=\"\",\"\",1)","v":""},null,{"$f":"IF(AT115=\"\",\"\",1)","v":""},null,{"$f":"IF(AV115=\"\",\"\",1)","v":""},null,{"$f":"IF(AX115=\"\",\"\",1)","v":""},{"$f":"IF(AN115=\"\",\"\",VLOOKUP(AN115,[4]ItemConfig!$A:$C,3,FALSE)&AO115)","v":""},{"$f":"IF(AP115=\"\",\"\",VLOOKUP(AP115,[4]ItemConfig!$A:$C,3,FALSE)&AQ115)","v":""},{"$f":"IF(AR115=\"\",\"\",VLOOKUP(AR115,[4]ItemConfig!$A:$C,3,FALSE)&AS115)","v":""},{"$f":"IF(AT115=\"\",\"\",VLOOKUP(AT115,[4]ItemConfig!$A:$C,3,FALSE)&AU115)","v":""},{"$f":"IF(AV115=\"\",\"\",VLOOKUP(AV115,[4]ItemConfig!$A:$C,3,FALSE)&AW115)","v":""},{"$f":"IF(AX115=\"\",\"\",VLOOKUP(AX115,[4]ItemConfig!$A:$C,3,FALSE)&AY115)","v":""}]
[112,112,4,12,2,"228;237;239","元婴","后期.","二重",228,237,239,{"$f":"ROUND([1]ResourceLevelConfig!$E116*[1]ResourceLevelConfig!$L116*0.1,0)*10","v":4500},-1,0,-1,-1,-1,-1,0,{"$f":"[3]主表!K114","v":836.36991004149058},{"$f":"[3]主表!L114","v":18.006329360095162},{"$f":"[3]主表!M114","v":18.006329360095162},{"$f":"[3]主表!N114","v":0},{"$f":"[3]主表!$G114","v":8144},{"$f":"[3]升级!$H114","v":1300},{"$f":"MAX(0.1,ROUND(100/(24*3600)*VLOOKUP(B116,[1]ResourceLevelConfig!$A:$E,5,FALSE),2))","v":0.35},-1,4,4,4,1230,null,null,null,1,2,112,null,null,"",null,"",null,{"$f":"IF(AR116=\"\",\"\",1)","v":""},null,{"$f":"IF(AT116=\"\",\"\",1)","v":""},null,{"$f":"IF(AV116=\"\",\"\",1)","v":""},null,{"$f":"IF(AX116=\"\",\"\",1)","v":""},{"$f":"IF(AN116=\"\",\"\",VLOOKUP(AN116,[4]ItemConfig!$A:$C,3,FALSE)&AO116)","v":""},{"$f":"IF(AP116=\"\",\"\",VLOOKUP(AP116,[4]ItemConfig!$A:$C,3,FALSE)&AQ116)","v":""},{"$f":"IF(AR116=\"\",\"\",VLOOKUP(AR116,[4]ItemConfig!$A:$C,3,FALSE)&AS116)","v":""},{"$f":"IF(AT116=\"\",\"\",VLOOKUP(AT116,[4]ItemConfig!$A:$C,3,FALSE)&AU116)","v":""},{"$f":"IF(AV116=\"\",\"\",VLOOKUP(AV116,[4]ItemConfig!$A:$C,3,FALSE)&AW116)","v":""},{"$f":"IF(AX116=\"\",\"\",VLOOKUP(AX116,[4]ItemConfig!$A:$C,3,FALSE)&AY116)","v":""}]
[113,113,4,12,3,"228;237;240","元婴","后期.","三重",228,237,240,{"$f":"ROUND([1]ResourceLevelConfig!$E117*[1]ResourceLevelConfig!$L117*0.1,0)*10","v":4650},-1,0,-1,-1,-1,-1,0,{"$f":"[3]主表!K115","v":854.47698434669178},{"$f":"[3]主表!L115","v":18.249447729229047},{"$f":"[3]主表!M115","v":18.249447729229047},{"$f":"[3]主表!N115","v":0},{"$f":"[3]主表!$G115","v":8282},{"$f":"[3]升级!$H115","v":1300},{"$f":"MAX(0.1,ROUND(100/(24*3600)*VLOOKUP(B117,[1]ResourceLevelConfig!$A:$E,5,FALSE),2))","v":0.36},-1,4,4,4,1240,null,null,null,1,2,113,null,null,"",null,"",null,{"$f":"IF(AR117=\"\",\"\",1)","v":""},null,{"$f":"IF(AT117=\"\",\"\",1)","v":""},null,{"$f":"IF(AV117=\"\",\"\",1)","v":""},null,{"$f":"IF(AX117=\"\",\"\",1)","v":""},{"$f":"IF(AN117=\"\",\"\",VLOOKUP(AN117,[4]ItemConfig!$A:$C,3,FALSE)&AO117)","v":""},{"$f":"IF(AP117=\"\",\"\",VLOOKUP(AP117,[4]ItemConfig!$A:$C,3,FALSE)&AQ117)","v":""},{"$f":"IF(AR117=\"\",\"\",VLOOKUP(AR117,[4]ItemConfig!$A:$C,3,FALSE)&AS117)","v":""},{"$f":"IF(AT117=\"\",\"\",VLOOKUP(AT117,[4]ItemConfig!$A:$C,3,FALSE)&AU117)","v":""},{"$f":"IF(AV117=\"\",\"\",VLOOKUP(AV117,[4]ItemConfig!$A:$C,3,FALSE)&AW117)","v":""},{"$f":"IF(AX117=\"\",\"\",VLOOKUP(AX117,[4]ItemConfig!$A:$C,3,FALSE)&AY117)","v":""}]
[114,114,4,12,4,"228;237;241","元婴","后期.","四重",228,237,241,{"$f":"ROUND([1]ResourceLevelConfig!$E118*[1]ResourceLevelConfig!$L118*0.1,0)*10","v":4650},-1,0,-1,-1,-1,-1,0,{"$f":"[3]主表!K116","v":872.92054616427561},{"$f":"[3]主表!L116","v":18.495848640863866},{"$f":"[3]主表!M116","v":18.495848640863866},{"$f":"[3]主表!N116","v":0},{"$f":"[3]主表!$G116","v":8421},{"$f":"[3]升级!$H116","v":1300},{"$f":"MAX(0.1,ROUND(100/(24*3600)*VLOOKUP(B118,[1]ResourceLevelConfig!$A:$E,5,FALSE),2))","v":0.36},-1,4,4,4,1250,null,null,null,1,2,114,null,null,"",null,"",null,{"$f":"IF(AR118=\"\",\"\",1)","v":""},null,{"$f":"IF(AT118=\"\",\"\",1)","v":""},null,{"$f":"IF(AV118=\"\",\"\",1)","v":""},null,{"$f":"IF(AX118=\"\",\"\",1)","v":""},{"$f":"IF(AN118=\"\",\"\",VLOOKUP(AN118,[4]ItemConfig!$A:$C,3,FALSE)&AO118)","v":""},{"$f":"IF(AP118=\"\",\"\",VLOOKUP(AP118,[4]ItemConfig!$A:$C,3,FALSE)&AQ118)","v":""},{"$f":"IF(AR118=\"\",\"\",VLOOKUP(AR118,[4]ItemConfig!$A:$C,3,FALSE)&AS118)","v":""},{"$f":"IF(AT118=\"\",\"\",VLOOKUP(AT118,[4]ItemConfig!$A:$C,3,FALSE)&AU118)","v":""},{"$f":"IF(AV118=\"\",\"\",VLOOKUP(AV118,[4]ItemConfig!$A:$C,3,FALSE)&AW118)","v":""},{"$f":"IF(AX118=\"\",\"\",VLOOKUP(AX118,[4]ItemConfig!$A:$C,3,FALSE)&AY118)","v":""}]
[115,115,4,12,5,"228;237;242","元婴","后期.","五重",228,237,242,{"$f":"ROUND([1]ResourceLevelConfig!$E119*[1]ResourceLevelConfig!$L119*0.1,0)*10","v":4650},-1,0,-1,-1,-1,-1,0,{"$f":"[3]主表!K117","v":891.70638097930305},{"$f":"[3]主表!L117","v":18.745576415325182},{"$f":"[3]主表!M117","v":18.745576415325182},{"$f":"[3]主表!N117","v":0},{"$f":"[3]主表!$G117","v":8563},{"$f":"[3]升级!$H117","v":1300},{"$f":"MAX(0.1,ROUND(100/(24*3600)*VLOOKUP(B119,[1]ResourceLevelConfig!$A:$E,5,FALSE),2))","v":0.36},-1,4,4,4,1260,null,null,null,1,2,115,null,null,"",null,"",null,{"$f":"IF(AR119=\"\",\"\",1)","v":""},null,{"$f":"IF(AT119=\"\",\"\",1)","v":""},null,{"$f":"IF(AV119=\"\",\"\",1)","v":""},null,{"$f":"IF(AX119=\"\",\"\",1)","v":""},{"$f":"IF(AN119=\"\",\"\",VLOOKUP(AN119,[4]ItemConfig!$A:$C,3,FALSE)&AO119)","v":""},{"$f":"IF(AP119=\"\",\"\",VLOOKUP(AP119,[4]ItemConfig!$A:$C,3,FALSE)&AQ119)","v":""},{"$f":"IF(AR119=\"\",\"\",VLOOKUP(AR119,[4]ItemConfig!$A:$C,3,FALSE)&AS119)","v":""},{"$f":"IF(AT119=\"\",\"\",VLOOKUP(AT119,[4]ItemConfig!$A:$C,3,FALSE)&AU119)","v":""},{"$f":"IF(AV119=\"\",\"\",VLOOKUP(AV119,[4]ItemConfig!$A:$C,3,FALSE)&AW119)","v":""},{"$f":"IF(AX119=\"\",\"\",VLOOKUP(AX119,[4]ItemConfig!$A:$C,3,FALSE)&AY119)","v":""}]
[116,116,4,12,6,"228;237;243","元婴","后期.","六重",228,237,243,{"$f":"ROUND([1]ResourceLevelConfig!$E120*[1]ResourceLevelConfig!$L120*0.1,0)*10","v":4800},-1,0,-1,-1,-1,-1,0,{"$f":"[3]主表!K118","v":910.84036916462628},{"$f":"[3]主表!L118","v":18.998675971343989},{"$f":"[3]主表!M118","v":18.998675971343989},{"$f":"[3]主表!N118","v":0},{"$f":"[3]主表!$G118","v":8707},{"$f":"[3]升级!$H118","v":1300},{"$f":"MAX(0.1,ROUND(100/(24*3600)*VLOOKUP(B120,[1]ResourceLevelConfig!$A:$E,5,FALSE),2))","v":0.37},-1,4,4,4,1270,null,null,null,1,2,116,null,null,"",null,"",null,{"$f":"IF(AR120=\"\",\"\",1)","v":""},null,{"$f":"IF(AT120=\"\",\"\",1)","v":""},null,{"$f":"IF(AV120=\"\",\"\",1)","v":""},null,{"$f":"IF(AX120=\"\",\"\",1)","v":""},{"$f":"IF(AN120=\"\",\"\",VLOOKUP(AN120,[4]ItemConfig!$A:$C,3,FALSE)&AO120)","v":""},{"$f":"IF(AP120=\"\",\"\",VLOOKUP(AP120,[4]ItemConfig!$A:$C,3,FALSE)&AQ120)","v":""},{"$f":"IF(AR120=\"\",\"\",VLOOKUP(AR120,[4]ItemConfig!$A:$C,3,FALSE)&AS120)","v":""},{"$f":"IF(AT120=\"\",\"\",VLOOKUP(AT120,[4]ItemConfig!$A:$C,3,FALSE)&AU120)","v":""},{"$f":"IF(AV120=\"\",\"\",VLOOKUP(AV120,[4]ItemConfig!$A:$C,3,FALSE)&AW120)","v":""},{"$f":"IF(AX120=\"\",\"\",VLOOKUP(AX120,[4]ItemConfig!$A:$C,3,FALSE)&AY120)","v":""}]
[117,117,4,12,7,"228;237;244","元婴","后期.","七重",228,237,244,{"$f":"ROUND([1]ResourceLevelConfig!$E121*[1]ResourceLevelConfig!$L121*0.1,0)*10","v":4800},-1,0,-1,-1,-1,-1,0,{"$f":"[3]主表!K119","v":930.3284874885162},{"$f":"[3]主表!L119","v":19.255192834136277},{"$f":"[3]主表!M119","v":19.255192834136277},{"$f":"[3]主表!N119","v":0},{"$f":"[3]主表!$G119","v":8854},{"$f":"[3]升级!$H119","v":1300},{"$f":"MAX(0.1,ROUND(100/(24*3600)*VLOOKUP(B121,[1]ResourceLevelConfig!$A:$E,5,FALSE),2))","v":0.37},-1,4,4,4,1280,null,null,null,1,2,117,null,null,"",null,"",null,{"$f":"IF(AR121=\"\",\"\",1)","v":""},null,{"$f":"IF(AT121=\"\",\"\",1)","v":""},null,{"$f":"IF(AV121=\"\",\"\",1)","v":""},null,{"$f":"IF(AX121=\"\",\"\",1)","v":""},{"$f":"IF(AN121=\"\",\"\",VLOOKUP(AN121,[4]ItemConfig!$A:$C,3,FALSE)&AO121)","v":""},{"$f":"IF(AP121=\"\",\"\",VLOOKUP(AP121,[4]ItemConfig!$A:$C,3,FALSE)&AQ121)","v":""},{"$f":"IF(AR121=\"\",\"\",VLOOKUP(AR121,[4]ItemConfig!$A:$C,3,FALSE)&AS121)","v":""},{"$f":"IF(AT121=\"\",\"\",VLOOKUP(AT121,[4]ItemConfig!$A:$C,3,FALSE)&AU121)","v":""},{"$f":"IF(AV121=\"\",\"\",VLOOKUP(AV121,[4]ItemConfig!$A:$C,3,FALSE)&AW121)","v":""},{"$f":"IF(AX121=\"\",\"\",VLOOKUP(AX121,[4]ItemConfig!$A:$C,3,FALSE)&AY121)","v":""}]
[118,118,4,12,8,"228;237;245","元婴","后期.","八重",228,237,245,{"$f":"ROUND([1]ResourceLevelConfig!$E122*[1]ResourceLevelConfig!$L122*0.1,0)*10","v":4800},-1,0,-1,-1,-1,-1,0,{"$f":"[3]主表!K120","v":950.17681064570274},{"$f":"[3]主表!L120","v":19.515173143591696},{"$f":"[3]主表!M120","v":19.515173143591696},{"$f":"[3]主表!N120","v":0},{"$f":"[3]主表!$G120","v":9003},{"$f":"[3]升级!$H120","v":1300},{"$f":"MAX(0.1,ROUND(100/(24*3600)*VLOOKUP(B122,[1]ResourceLevelConfig!$A:$E,5,FALSE),2))","v":0.37},-1,4,4,4,1290,null,null,null,1,2,118,null,null,"",null,"",null,{"$f":"IF(AR122=\"\",\"\",1)","v":""},null,{"$f":"IF(AT122=\"\",\"\",1)","v":""},null,{"$f":"IF(AV122=\"\",\"\",1)","v":""},null,{"$f":"IF(AX122=\"\",\"\",1)","v":""},{"$f":"IF(AN122=\"\",\"\",VLOOKUP(AN122,[4]ItemConfig!$A:$C,3,FALSE)&AO122)","v":""},{"$f":"IF(AP122=\"\",\"\",VLOOKUP(AP122,[4]ItemConfig!$A:$C,3,FALSE)&AQ122)","v":""},{"$f":"IF(AR122=\"\",\"\",VLOOKUP(AR122,[4]ItemConfig!$A:$C,3,FALSE)&AS122)","v":""},{"$f":"IF(AT122=\"\",\"\",VLOOKUP(AT122,[4]ItemConfig!$A:$C,3,FALSE)&AU122)","v":""},{"$f":"IF(AV122=\"\",\"\",VLOOKUP(AV122,[4]ItemConfig!$A:$C,3,FALSE)&AW122)","v":""},{"$f":"IF(AX122=\"\",\"\",VLOOKUP(AX122,[4]ItemConfig!$A:$C,3,FALSE)&AY122)","v":""}]
[119,119,4,12,9,"228;237;246","元婴","后期.","九重",228,237,246,{"$f":"ROUND([1]ResourceLevelConfig!$E123*[1]ResourceLevelConfig!$L123*0.1,0)*10","v":4950},-1,0,-1,-1,-1,-1,0,{"$f":"[3]主表!K121","v":970.39151281218574},{"$f":"[3]主表!L121","v":19.778663662572754},{"$f":"[3]主表!M121","v":19.778663662572754},{"$f":"[3]主表!N121","v":0},{"$f":"[3]主表!$G121","v":9154},{"$f":"[3]升级!$H121","v":1300},{"$f":"MAX(0.1,ROUND(100/(24*3600)*VLOOKUP(B123,[1]ResourceLevelConfig!$A:$E,5,FALSE),2))","v":0.38},-1,4,4,4,1300,null,null,null,1,2,119,null,null,"",null,"",null,{"$f":"IF(AR123=\"\",\"\",1)","v":""},null,{"$f":"IF(AT123=\"\",\"\",1)","v":""},null,{"$f":"IF(AV123=\"\",\"\",1)","v":""},null,{"$f":"IF(AX123=\"\",\"\",1)","v":""},{"$f":"IF(AN123=\"\",\"\",VLOOKUP(AN123,[4]ItemConfig!$A:$C,3,FALSE)&AO123)","v":""},{"$f":"IF(AP123=\"\",\"\",VLOOKUP(AP123,[4]ItemConfig!$A:$C,3,FALSE)&AQ123)","v":""},{"$f":"IF(AR123=\"\",\"\",VLOOKUP(AR123,[4]ItemConfig!$A:$C,3,FALSE)&AS123)","v":""},{"$f":"IF(AT123=\"\",\"\",VLOOKUP(AT123,[4]ItemConfig!$A:$C,3,FALSE)&AU123)","v":""},{"$f":"IF(AV123=\"\",\"\",VLOOKUP(AV123,[4]ItemConfig!$A:$C,3,FALSE)&AW123)","v":""},{"$f":"IF(AX123=\"\",\"\",VLOOKUP(AX123,[4]ItemConfig!$A:$C,3,FALSE)&AY123)","v":""}]
[120,120,4,12,10,"228;237;247","元婴","后期.","十重",228,237,247,{"$f":"ROUND([1]ResourceLevelConfig!$E124*[1]ResourceLevelConfig!$L124*0.1,0)*10","v":4950},100004,0,{"$f":"AN124","v":1312},{"$f":"AO124","v":1},{"$f":"_xlfn.TEXTJOIN(\";\",1,AP124,AR124,AT124,AV124)","v":"1205;1206"},{"$f":"_xlfn.TEXTJOIN(\";\",1,AQ124,AS124,AU124,AW124)","v":"1;1"},{"$f":"CONCATENATE(ROUND(0.6*VLOOKUP(A124,[3]主表!$A:$P,16,FALSE)*[5]HeroModelConfig!$Q$5,0),\";\",ROUND(0.9*VLOOKUP(A124,[3]主表!$A:$P,16,FALSE)*[5]HeroModelConfig!$Q$5,0),\";\",INT(A124/30)+1)","v":"138045;207067;5"},{"$f":"[3]主表!K122","v":990.97886922418195},{"$f":"[3]主表!L122","v":20.045711785326127},{"$f":"[3]主表!M122","v":20.045711785326127},{"$f":"[3]主表!N122","v":0},{"$f":"[3]主表!$G122","v":9308},{"$f":"[3]升级!$H122","v":1300},{"$f":"MAX(0.1,ROUND(100/(24*3600)*VLOOKUP(B124,[1]ResourceLevelConfig!$A:$E,5,FALSE),2))","v":0.38},50,4,4,4,1310,null,null,null,1,2,120,null,1312,1,1205,1,1206,{"$f":"IF(AR124=\"\",\"\",1)","v":1},null,{"$f":"IF(AT124=\"\",\"\",1)","v":""},null,{"$f":"IF(AV124=\"\",\"\",1)","v":""},null,{"$f":"IF(AX124=\"\",\"\",1)","v":""},{"$f":"IF(AN124=\"\",\"\",VLOOKUP(AN124,[4]ItemConfig!$A:$C,3,FALSE)&AO124)","v":"玄冥髓1"},{"$f":"IF(AP124=\"\",\"\",VLOOKUP(AP124,[4]ItemConfig!$A:$C,3,FALSE)&AQ124)","v":"婴魂草1"},{"$f":"IF(AR124=\"\",\"\",VLOOKUP(AR124,[4]ItemConfig!$A:$C,3,FALSE)&AS124)","v":"灵魄藤1"},{"$f":"IF(AT124=\"\",\"\",VLOOKUP(AT124,[4]ItemConfig!$A:$C,3,FALSE)&AU124)","v":""},{"$f":"IF(AV124=\"\",\"\",VLOOKUP(AV124,[4]ItemConfig!$A:$C,3,FALSE)&AW124)","v":""},{"$f":"IF(AX124=\"\",\"\",VLOOKUP(AX124,[4]ItemConfig!$A:$C,3,FALSE)&AY124)","v":""}]
[121,121,5,13,1,"229;235;238","化神","前期.","一重",229,235,238,{"$f":"ROUND([1]ResourceLevelConfig!$E125*[1]ResourceLevelConfig!$L125*0.1,0)*10","v":4950},-1,0,-1,-1,{"$f":"IF(I125=10,\"1001;1002;1004\",-1)","v":-1},{"$f":"IF(R125=-1,-1,\"100;200;300\")","v":-1},0,{"$f":"[3]主表!K123","v":1298.0034157341829},{"$f":"[3]主表!L123","v":26.059425320923964},{"$f":"[3]主表!M123","v":26.059425320923964},{"$f":"[3]主表!N123","v":0},{"$f":"[3]主表!$G123","v":12380},{"$f":"[3]升级!$H123","v":1400},{"$f":"MAX(0.1,ROUND(100/(24*3600)*VLOOKUP(B125,[1]ResourceLevelConfig!$A:$E,5,FALSE),2))","v":0.38},-1,4,4,4,1320,null,null,null,1,3,121,null,null,"",null,"",null,{"$f":"IF(AR125=\"\",\"\",1)","v":""},null,{"$f":"IF(AT125=\"\",\"\",1)","v":""},null,{"$f":"IF(AV125=\"\",\"\",1)","v":""},null,{"$f":"IF(AX125=\"\",\"\",1)","v":""},{"$f":"IF(AN125=\"\",\"\",VLOOKUP(AN125,[4]ItemConfig!$A:$C,3,FALSE)&AO125)","v":""},{"$f":"IF(AP125=\"\",\"\",VLOOKUP(AP125,[4]ItemConfig!$A:$C,3,FALSE)&AQ125)","v":""},{"$f":"IF(AR125=\"\",\"\",VLOOKUP(AR125,[4]ItemConfig!$A:$C,3,FALSE)&AS125)","v":""},{"$f":"IF(AT125=\"\",\"\",VLOOKUP(AT125,[4]ItemConfig!$A:$C,3,FALSE)&AU125)","v":""},{"$f":"IF(AV125=\"\",\"\",VLOOKUP(AV125,[4]ItemConfig!$A:$C,3,FALSE)&AW125)","v":""},{"$f":"IF(AX125=\"\",\"\",VLOOKUP(AX125,[4]ItemConfig!$A:$C,3,FALSE)&AY125)","v":""}]
[122,122,5,13,2,"229;235;239","化神","前期.","二重",229,235,239,{"$f":"ROUND([1]ResourceLevelConfig!$E126*[1]ResourceLevelConfig!$L126*0.1,0)*10","v":5100},-1,0,-1,-1,{"$f":"IF(I126=10,\"1001;1002;1004\",-1)","v":-1},{"$f":"IF(R126=-1,-1,\"100;200;300\")","v":-1},0,{"$f":"[3]主表!K124","v":1325.3911056082643},{"$f":"[3]主表!L124","v":26.411275209809691},{"$f":"[3]主表!M124","v":26.411275209809691},{"$f":"[3]主表!N124","v":0},{"$f":"[3]主表!$G124","v":12566},{"$f":"[3]升级!$H124","v":1400},{"$f":"MAX(0.1,ROUND(100/(24*3600)*VLOOKUP(B126,[1]ResourceLevelConfig!$A:$E,5,FALSE),2))","v":0.39},-1,4,4,4,1330,null,null,null,1,3,122,null,null,"",null,"",null,{"$f":"IF(AR126=\"\",\"\",1)","v":""},null,{"$f":"IF(AT126=\"\",\"\",1)","v":""},null,{"$f":"IF(AV126=\"\",\"\",1)","v":""},null,{"$f":"IF(AX126=\"\",\"\",1)","v":""},{"$f":"IF(AN126=\"\",\"\",VLOOKUP(AN126,[4]ItemConfig!$A:$C,3,FALSE)&AO126)","v":""},{"$f":"IF(AP126=\"\",\"\",VLOOKUP(AP126,[4]ItemConfig!$A:$C,3,FALSE)&AQ126)","v":""},{"$f":"IF(AR126=\"\",\"\",VLOOKUP(AR126,[4]ItemConfig!$A:$C,3,FALSE)&AS126)","v":""},{"$f":"IF(AT126=\"\",\"\",VLOOKUP(AT126,[4]ItemConfig!$A:$C,3,FALSE)&AU126)","v":""},{"$f":"IF(AV126=\"\",\"\",VLOOKUP(AV126,[4]ItemConfig!$A:$C,3,FALSE)&AW126)","v":""},{"$f":"IF(AX126=\"\",\"\",VLOOKUP(AX126,[4]ItemConfig!$A:$C,3,FALSE)&AY126)","v":""}]
[123,123,5,13,3,"229;235;240","化神","前期.","三重",229,235,240,{"$f":"ROUND([1]ResourceLevelConfig!$E127*[1]ResourceLevelConfig!$L127*0.1,0)*10","v":5100},-1,0,-1,-1,-1,-1,0,{"$f":"[3]主表!K125","v":1353.2817380551185},{"$f":"[3]主表!L125","v":26.767875715517711},{"$f":"[3]主表!M125","v":26.767875715517711},{"$f":"[3]主表!N125","v":0},{"$f":"[3]主表!$G125","v":12754},{"$f":"[3]升级!$H125","v":1400},{"$f":"MAX(0.1,ROUND(100/(24*3600)*VLOOKUP(B127,[1]ResourceLevelConfig!$A:$E,5,FALSE),2))","v":0.39},-1,4,4,4,1340,null,null,null,1,3,123,null,null,"",null,"",null,{"$f":"IF(AR127=\"\",\"\",1)","v":""},null,{"$f":"IF(AT127=\"\",\"\",1)","v":""},null,{"$f":"IF(AV127=\"\",\"\",1)","v":""},null,{"$f":"IF(AX127=\"\",\"\",1)","v":""},{"$f":"IF(AN127=\"\",\"\",VLOOKUP(AN127,[4]ItemConfig!$A:$C,3,FALSE)&AO127)","v":""},{"$f":"IF(AP127=\"\",\"\",VLOOKUP(AP127,[4]ItemConfig!$A:$C,3,FALSE)&AQ127)","v":""},{"$f":"IF(AR127=\"\",\"\",VLOOKUP(AR127,[4]ItemConfig!$A:$C,3,FALSE)&AS127)","v":""},{"$f":"IF(AT127=\"\",\"\",VLOOKUP(AT127,[4]ItemConfig!$A:$C,3,FALSE)&AU127)","v":""},{"$f":"IF(AV127=\"\",\"\",VLOOKUP(AV127,[4]ItemConfig!$A:$C,3,FALSE)&AW127)","v":""},{"$f":"IF(AX127=\"\",\"\",VLOOKUP(AX127,[4]ItemConfig!$A:$C,3,FALSE)&AY127)","v":""}]
[124,124,5,13,4,"229;235;241","化神","前期.","四重",229,235,241,{"$f":"ROUND([1]ResourceLevelConfig!$E128*[1]ResourceLevelConfig!$L128*0.1,0)*10","v":5100},-1,0,-1,-1,-1,-1,0,{"$f":"[3]主表!K126","v":1381.6839016047566},{"$f":"[3]主表!L126","v":27.129290980061157},{"$f":"[3]主表!M126","v":27.129290980061157},{"$f":"[3]主表!N126","v":0},{"$f":"[3]主表!$G126","v":12946},{"$f":"[3]升级!$H126","v":1400},{"$f":"MAX(0.1,ROUND(100/(24*3600)*VLOOKUP(B128,[1]ResourceLevelConfig!$A:$E,5,FALSE),2))","v":0.39},-1,4,4,4,1350,null,null,null,1,3,124,null,null,"",null,"",null,{"$f":"IF(AR128=\"\",\"\",1)","v":""},null,{"$f":"IF(AT128=\"\",\"\",1)","v":""},null,{"$f":"IF(AV128=\"\",\"\",1)","v":""},null,{"$f":"IF(AX128=\"\",\"\",1)","v":""},{"$f":"IF(AN128=\"\",\"\",VLOOKUP(AN128,[4]ItemConfig!$A:$C,3,FALSE)&AO128)","v":""},{"$f":"IF(AP128=\"\",\"\",VLOOKUP(AP128,[4]ItemConfig!$A:$C,3,FALSE)&AQ128)","v":""},{"$f":"IF(AR128=\"\",\"\",VLOOKUP(AR128,[4]ItemConfig!$A:$C,3,FALSE)&AS128)","v":""},{"$f":"IF(AT128=\"\",\"\",VLOOKUP(AT128,[4]ItemConfig!$A:$C,3,FALSE)&AU128)","v":""},{"$f":"IF(AV128=\"\",\"\",VLOOKUP(AV128,[4]ItemConfig!$A:$C,3,FALSE)&AW128)","v":""},{"$f":"IF(AX128=\"\",\"\",VLOOKUP(AX128,[4]ItemConfig!$A:$C,3,FALSE)&AY128)","v":""}]
[125,125,5,13,5,"229;235;242","化神","前期.","五重",229,235,242,{"$f":"ROUND([1]ResourceLevelConfig!$E129*[1]ResourceLevelConfig!$L129*0.1,0)*10","v":5250},-1,0,-1,-1,-1,-1,0,{"$f":"[3]主表!K127","v":1410.6063250227935},{"$f":"[3]主表!L127","v":27.495586011487607},{"$f":"[3]主表!M127","v":27.495586011487607},{"$f":"[3]主表!N127","v":0},{"$f":"[3]主表!$G127","v":13141},{"$f":"[3]升级!$H127","v":1400},{"$f":"MAX(0.1,ROUND(100/(24*3600)*VLOOKUP(B129,[1]ResourceLevelConfig!$A:$E,5,FALSE),2))","v":0.41},-1,4,4,4,1360,null,null,null,1,3,125,null,null,"",null,"",null,{"$f":"IF(AR129=\"\",\"\",1)","v":""},null,{"$f":"IF(AT129=\"\",\"\",1)","v":""},null,{"$f":"IF(AV129=\"\",\"\",1)","v":""},null,{"$f":"IF(AX129=\"\",\"\",1)","v":""},{"$f":"IF(AN129=\"\",\"\",VLOOKUP(AN129,[4]ItemConfig!$A:$C,3,FALSE)&AO129)","v":""},{"$f":"IF(AP129=\"\",\"\",VLOOKUP(AP129,[4]ItemConfig!$A:$C,3,FALSE)&AQ129)","v":""},{"$f":"IF(AR129=\"\",\"\",VLOOKUP(AR129,[4]ItemConfig!$A:$C,3,FALSE)&AS129)","v":""},{"$f":"IF(AT129=\"\",\"\",VLOOKUP(AT129,[4]ItemConfig!$A:$C,3,FALSE)&AU129)","v":""},{"$f":"IF(AV129=\"\",\"\",VLOOKUP(AV129,[4]ItemConfig!$A:$C,3,FALSE)&AW129)","v":""},{"$f":"IF(AX129=\"\",\"\",VLOOKUP(AX129,[4]ItemConfig!$A:$C,3,FALSE)&AY129)","v":""}]
[126,126,5,13,6,"229;235;243","化神","前期.","六重",229,235,243,{"$f":"ROUND([1]ResourceLevelConfig!$E130*[1]ResourceLevelConfig!$L130*0.1,0)*10","v":5250},-1,0,-1,-1,-1,-1,0,{"$f":"[3]主表!K128","v":1440.0578795316364},{"$f":"[3]主表!L128","v":27.866826695572154},{"$f":"[3]主表!M128","v":27.866826695572154},{"$f":"[3]主表!N128","v":0},{"$f":"[3]主表!$G128","v":13335},{"$f":"[3]升级!$H128","v":1400},{"$f":"MAX(0.1,ROUND(100/(24*3600)*VLOOKUP(B130,[1]ResourceLevelConfig!$A:$E,5,FALSE),2))","v":0.41},-1,4,4,4,1370,null,null,null,1,3,126,null,null,"",null,"",null,{"$f":"IF(AR130=\"\",\"\",1)","v":""},null,{"$f":"IF(AT130=\"\",\"\",1)","v":""},null,{"$f":"IF(AV130=\"\",\"\",1)","v":""},null,{"$f":"IF(AX130=\"\",\"\",1)","v":""},{"$f":"IF(AN130=\"\",\"\",VLOOKUP(AN130,[4]ItemConfig!$A:$C,3,FALSE)&AO130)","v":""},{"$f":"IF(AP130=\"\",\"\",VLOOKUP(AP130,[4]ItemConfig!$A:$C,3,FALSE)&AQ130)","v":""},{"$f":"IF(AR130=\"\",\"\",VLOOKUP(AR130,[4]ItemConfig!$A:$C,3,FALSE)&AS130)","v":""},{"$f":"IF(AT130=\"\",\"\",VLOOKUP(AT130,[4]ItemConfig!$A:$C,3,FALSE)&AU130)","v":""},{"$f":"IF(AV130=\"\",\"\",VLOOKUP(AV130,[4]ItemConfig!$A:$C,3,FALSE)&AW130)","v":""},{"$f":"IF(AX130=\"\",\"\",VLOOKUP(AX130,[4]ItemConfig!$A:$C,3,FALSE)&AY130)","v":""}]
[127,127,5,13,7,"229;235;244","化神","前期.","七重",229,235,244,{"$f":"ROUND([1]ResourceLevelConfig!$E131*[1]ResourceLevelConfig!$L131*0.1,0)*10","v":5250},-1,0,-1,-1,-1,-1,0,{"$f":"[3]主表!K129","v":1470.0475810660907},{"$f":"[3]主表!L129","v":28.243079807668305},{"$f":"[3]主表!M129","v":28.243079807668305},{"$f":"[3]主表!N129","v":0},{"$f":"[3]主表!$G129","v":13532},{"$f":"[3]升级!$H129","v":1400},{"$f":"MAX(0.1,ROUND(100/(24*3600)*VLOOKUP(B131,[1]ResourceLevelConfig!$A:$E,5,FALSE),2))","v":0.41},-1,{"$f":"AC130","v":4},{"$f":"AD130","v":4},{"$f":"AE130","v":4},1380,null,null,null,1,3,127,null,null,"",null,"",null,{"$f":"IF(AR131=\"\",\"\",1)","v":""},null,{"$f":"IF(AT131=\"\",\"\",1)","v":""},null,{"$f":"IF(AV131=\"\",\"\",1)","v":""},null,{"$f":"IF(AX131=\"\",\"\",1)","v":""},{"$f":"IF(AN131=\"\",\"\",VLOOKUP(AN131,[4]ItemConfig!$A:$C,3,FALSE)&AO131)","v":""},{"$f":"IF(AP131=\"\",\"\",VLOOKUP(AP131,[4]ItemConfig!$A:$C,3,FALSE)&AQ131)","v":""},{"$f":"IF(AR131=\"\",\"\",VLOOKUP(AR131,[4]ItemConfig!$A:$C,3,FALSE)&AS131)","v":""},{"$f":"IF(AT131=\"\",\"\",VLOOKUP(AT131,[4]ItemConfig!$A:$C,3,FALSE)&AU131)","v":""},{"$f":"IF(AV131=\"\",\"\",VLOOKUP(AV131,[4]ItemConfig!$A:$C,3,FALSE)&AW131)","v":""},{"$f":"IF(AX131=\"\",\"\",VLOOKUP(AX131,[4]ItemConfig!$A:$C,3,FALSE)&AY131)","v":""}]
[128,128,5,13,8,"229;235;245","化神","前期.","八重",229,235,245,{"$f":"ROUND([1]ResourceLevelConfig!$E132*[1]ResourceLevelConfig!$L132*0.1,0)*10","v":5400},-1,0,-1,-1,-1,-1,0,{"$f":"[3]主表!K130","v":1500.5845925639076},{"$f":"[3]主表!L130","v":28.624413024718947},{"$f":"[3]主表!M130","v":28.624413024718947},{"$f":"[3]主表!N130","v":0},{"$f":"[3]主表!$G130","v":13732},{"$f":"[3]升级!$H130","v":1400},{"$f":"MAX(0.1,ROUND(100/(24*3600)*VLOOKUP(B132,[1]ResourceLevelConfig!$A:$E,5,FALSE),2))","v":0.42},-1,4,4,4,1390,null,null,null,1,3,128,null,null,"",null,"",null,{"$f":"IF(AR132=\"\",\"\",1)","v":""},null,{"$f":"IF(AT132=\"\",\"\",1)","v":""},null,{"$f":"IF(AV132=\"\",\"\",1)","v":""},null,{"$f":"IF(AX132=\"\",\"\",1)","v":""},{"$f":"IF(AN132=\"\",\"\",VLOOKUP(AN132,[4]ItemConfig!$A:$C,3,FALSE)&AO132)","v":""},{"$f":"IF(AP132=\"\",\"\",VLOOKUP(AP132,[4]ItemConfig!$A:$C,3,FALSE)&AQ132)","v":""},{"$f":"IF(AR132=\"\",\"\",VLOOKUP(AR132,[4]ItemConfig!$A:$C,3,FALSE)&AS132)","v":""},{"$f":"IF(AT132=\"\",\"\",VLOOKUP(AT132,[4]ItemConfig!$A:$C,3,FALSE)&AU132)","v":""},{"$f":"IF(AV132=\"\",\"\",VLOOKUP(AV132,[4]ItemConfig!$A:$C,3,FALSE)&AW132)","v":""},{"$f":"IF(AX132=\"\",\"\",VLOOKUP(AX132,[4]ItemConfig!$A:$C,3,FALSE)&AY132)","v":""}]
[129,129,5,13,9,"229;235;246","化神","前期.","九重",229,235,246,{"$f":"ROUND([1]ResourceLevelConfig!$E133*[1]ResourceLevelConfig!$L133*0.1,0)*10","v":5400},-1,0,-1,-1,-1,-1,0,{"$f":"[3]主表!K131","v":1531.6782262918009},{"$f":"[3]主表!L131","v":29.010894937429427},{"$f":"[3]主表!M131","v":29.010894937429427},{"$f":"[3]主表!N131","v":0},{"$f":"[3]主表!$G131","v":13935},{"$f":"[3]升级!$H131","v":1400},{"$f":"MAX(0.1,ROUND(100/(24*3600)*VLOOKUP(B133,[1]ResourceLevelConfig!$A:$E,5,FALSE),2))","v":0.42},-1,4,4,4,1400,null,null,null,1,3,129,null,null,"",null,"",null,{"$f":"IF(AR133=\"\",\"\",1)","v":""},null,{"$f":"IF(AT133=\"\",\"\",1)","v":""},null,{"$f":"IF(AV133=\"\",\"\",1)","v":""},null,{"$f":"IF(AX133=\"\",\"\",1)","v":""},{"$f":"IF(AN133=\"\",\"\",VLOOKUP(AN133,[4]ItemConfig!$A:$C,3,FALSE)&AO133)","v":""},{"$f":"IF(AP133=\"\",\"\",VLOOKUP(AP133,[4]ItemConfig!$A:$C,3,FALSE)&AQ133)","v":""},{"$f":"IF(AR133=\"\",\"\",VLOOKUP(AR133,[4]ItemConfig!$A:$C,3,FALSE)&AS133)","v":""},{"$f":"IF(AT133=\"\",\"\",VLOOKUP(AT133,[4]ItemConfig!$A:$C,3,FALSE)&AU133)","v":""},{"$f":"IF(AV133=\"\",\"\",VLOOKUP(AV133,[4]ItemConfig!$A:$C,3,FALSE)&AW133)","v":""},{"$f":"IF(AX133=\"\",\"\",VLOOKUP(AX133,[4]ItemConfig!$A:$C,3,FALSE)&AY133)","v":""}]
[130,130,5,13,10,{"$f":"_xlfn.TEXTJOIN(\";\",1,J134:L134)","v":"229;235;247"},"化神","前期.","十重",229,235,247,{"$f":"ROUND([1]ResourceLevelConfig!$E134*[1]ResourceLevelConfig!$L134*0.1,0)*10","v":5400},{"$f":"IF(E134=10,100004,-1)","v":100004},0,{"$f":"AN134","v":1313},{"$f":"AO134","v":1},{"$f":"_xlfn.TEXTJOIN(\";\",1,AP134,AR134,AT134,AV134)","v":"1207;1208;1209"},{"$f":"_xlfn.TEXTJOIN(\";\",1,AQ134,AS134,AU134,AW134)","v":"1;1;1"},0,{"$f":"[3]主表!K132","v":1563.3379462074759},{"$f":"[3]主表!L132","v":29.402595062605023},{"$f":"[3]主表!M132","v":29.402595062605023},{"$f":"[3]主表!N132","v":0},{"$f":"[3]主表!$G132","v":14142},{"$f":"[3]升级!$H132","v":1400},{"$f":"MAX(0.1,ROUND(100/(24*3600)*VLOOKUP(B134,[1]ResourceLevelConfig!$A:$E,5,FALSE),2))","v":0.42},20,4,4,4,{"$f":"MAX(AF133+10,ROUND(10^(B134*0.01+1.405),0))","v":1410},null,null,null,1,3,130,null,1313,{"$f":"IF(AN134=\"\",\"\",1)","v":1},1207,1,1208,{"$f":"IF(AR134=\"\",\"\",1)","v":1},1209,{"$f":"IF(AT134=\"\",\"\",1)","v":1},null,{"$f":"IF(AV134=\"\",\"\",1)","v":""},null,{"$f":"IF(AX134=\"\",\"\",1)","v":""},{"$f":"IF(AN134=\"\",\"\",VLOOKUP(AN134,[4]ItemConfig!$A:$C,3,FALSE)&AO134)","v":"聚神丹1"},{"$f":"IF(AP134=\"\",\"\",VLOOKUP(AP134,[4]ItemConfig!$A:$C,3,FALSE)&AQ134)","v":"灵冥石1"},{"$f":"IF(AR134=\"\",\"\",VLOOKUP(AR134,[4]ItemConfig!$A:$C,3,FALSE)&AS134)","v":"玄金砂1"},{"$f":"IF(AT134=\"\",\"\",VLOOKUP(AT134,[4]ItemConfig!$A:$C,3,FALSE)&AU134)","v":"紫玄晶1"},{"$f":"IF(AV134=\"\",\"\",VLOOKUP(AV134,[4]ItemConfig!$A:$C,3,FALSE)&AW134)","v":""},{"$f":"IF(AX134=\"\",\"\",VLOOKUP(AX134,[4]ItemConfig!$A:$C,3,FALSE)&AY134)","v":""}]
[131,131,5,14,1,"229;236;238","化神","中期.","一重",229,236,238,{"$f":"ROUND([1]ResourceLevelConfig!$E135*[1]ResourceLevelConfig!$L135*0.1,0)*10","v":5550},-1,0,-1,-1,{"$f":"IF(I135=10,\"1001;1002;1004\",-1)","v":-1},-1,0,{"$f":"[3]主表!K133","v":1731.7489305025174},{"$f":"[3]主表!L133","v":32.342854568865526},{"$f":"[3]主表!M133","v":32.342854568865526},{"$f":"[3]主表!N133","v":0},{"$f":"[3]主表!$G133","v":15909},{"$f":"[3]升级!$H133","v":1400},{"$f":"MAX(0.1,ROUND(100/(24*3600)*VLOOKUP(B135,[1]ResourceLevelConfig!$A:$E,5,FALSE),2))","v":0.43},-1,4,4,4,1420,null,null,null,1,3,131,null,null,"",null,"",null,{"$f":"IF(AR135=\"\",\"\",1)","v":""},null,{"$f":"IF(AT135=\"\",\"\",1)","v":""},null,{"$f":"IF(AV135=\"\",\"\",1)","v":""},null,{"$f":"IF(AX135=\"\",\"\",1)","v":""},{"$f":"IF(AN135=\"\",\"\",VLOOKUP(AN135,[4]ItemConfig!$A:$C,3,FALSE)&AO135)","v":""},{"$f":"IF(AP135=\"\",\"\",VLOOKUP(AP135,[4]ItemConfig!$A:$C,3,FALSE)&AQ135)","v":""},{"$f":"IF(AR135=\"\",\"\",VLOOKUP(AR135,[4]ItemConfig!$A:$C,3,FALSE)&AS135)","v":""},{"$f":"IF(AT135=\"\",\"\",VLOOKUP(AT135,[4]ItemConfig!$A:$C,3,FALSE)&AU135)","v":""},{"$f":"IF(AV135=\"\",\"\",VLOOKUP(AV135,[4]ItemConfig!$A:$C,3,FALSE)&AW135)","v":""},{"$f":"IF(AX135=\"\",\"\",VLOOKUP(AX135,[4]ItemConfig!$A:$C,3,FALSE)&AY135)","v":""}]
[132,132,5,14,2,"229;236;239","化神","中期.","二重",229,236,239,{"$f":"ROUND([1]ResourceLevelConfig!$E136*[1]ResourceLevelConfig!$L136*0.1,0)*10","v":5550},-1,0,-1,-1,-1,-1,0,{"$f":"[3]主表!K134","v":1767.370961210876},{"$f":"[3]主表!L134","v":32.779542241220504},{"$f":"[3]主表!M134","v":32.779542241220504},{"$f":"[3]主表!N134","v":0},{"$f":"[3]主表!$G134","v":16141},{"$f":"[3]升级!$H134","v":1400},{"$f":"MAX(0.1,ROUND(100/(24*3600)*VLOOKUP(B136,[1]ResourceLevelConfig!$A:$E,5,FALSE),2))","v":0.43},-1,4,4,4,1430,null,null,null,1,3,132,null,null,"",null,"",null,{"$f":"IF(AR136=\"\",\"\",1)","v":""},null,{"$f":"IF(AT136=\"\",\"\",1)","v":""},null,{"$f":"IF(AV136=\"\",\"\",1)","v":""},null,{"$f":"IF(AX136=\"\",\"\",1)","v":""},{"$f":"IF(AN136=\"\",\"\",VLOOKUP(AN136,[4]ItemConfig!$A:$C,3,FALSE)&AO136)","v":""},{"$f":"IF(AP136=\"\",\"\",VLOOKUP(AP136,[4]ItemConfig!$A:$C,3,FALSE)&AQ136)","v":""},{"$f":"IF(AR136=\"\",\"\",VLOOKUP(AR136,[4]ItemConfig!$A:$C,3,FALSE)&AS136)","v":""},{"$f":"IF(AT136=\"\",\"\",VLOOKUP(AT136,[4]ItemConfig!$A:$C,3,FALSE)&AU136)","v":""},{"$f":"IF(AV136=\"\",\"\",VLOOKUP(AV136,[4]ItemConfig!$A:$C,3,FALSE)&AW136)","v":""},{"$f":"IF(AX136=\"\",\"\",VLOOKUP(AX136,[4]ItemConfig!$A:$C,3,FALSE)&AY136)","v":""}]
[133,133,5,14,3,"229;236;240","化神","中期.","三重",229,236,240,{"$f":"ROUND([1]ResourceLevelConfig!$E137*[1]ResourceLevelConfig!$L137*0.1,0)*10","v":5700},-1,0,-1,-1,-1,-1,0,{"$f":"[3]主表!K135","v":1803.6392202717261},{"$f":"[3]主表!L135","v":33.222125995592009},{"$f":"[3]主表!M135","v":33.222125995592009},{"$f":"[3]主表!N135","v":0},{"$f":"[3]主表!$G135","v":16377},{"$f":"[3]升级!$H135","v":1400},{"$f":"MAX(0.1,ROUND(100/(24*3600)*VLOOKUP(B137,[1]ResourceLevelConfig!$A:$E,5,FALSE),2))","v":0.44},-1,4,4,4,1440,null,null,null,1,3,133,null,null,"",null,"",null,{"$f":"IF(AR137=\"\",\"\",1)","v":""},null,{"$f":"IF(AT137=\"\",\"\",1)","v":""},null,{"$f":"IF(AV137=\"\",\"\",1)","v":""},null,{"$f":"IF(AX137=\"\",\"\",1)","v":""},{"$f":"IF(AN137=\"\",\"\",VLOOKUP(AN137,[4]ItemConfig!$A:$C,3,FALSE)&AO137)","v":""},{"$f":"IF(AP137=\"\",\"\",VLOOKUP(AP137,[4]ItemConfig!$A:$C,3,FALSE)&AQ137)","v":""},{"$f":"IF(AR137=\"\",\"\",VLOOKUP(AR137,[4]ItemConfig!$A:$C,3,FALSE)&AS137)","v":""},{"$f":"IF(AT137=\"\",\"\",VLOOKUP(AT137,[4]ItemConfig!$A:$C,3,FALSE)&AU137)","v":""},{"$f":"IF(AV137=\"\",\"\",VLOOKUP(AV137,[4]ItemConfig!$A:$C,3,FALSE)&AW137)","v":""},{"$f":"IF(AX137=\"\",\"\",VLOOKUP(AX137,[4]ItemConfig!$A:$C,3,FALSE)&AY137)","v":""}]
[134,134,5,14,4,"229;236;241","化神","中期.","四重",229,236,241,{"$f":"ROUND([1]ResourceLevelConfig!$E138*[1]ResourceLevelConfig!$L138*0.1,0)*10","v":5700},-1,0,-1,-1,-1,-1,0,{"$f":"[3]主表!K136","v":1840.56466433995},{"$f":"[3]主表!L136","v":33.670685439867668},{"$f":"[3]主表!M136","v":33.670685439867668},{"$f":"[3]主表!N136","v":0},{"$f":"[3]主表!$G136","v":16617},{"$f":"[3]升级!$H136","v":1400},{"$f":"MAX(0.1,ROUND(100/(24*3600)*VLOOKUP(B138,[1]ResourceLevelConfig!$A:$E,5,FALSE),2))","v":0.44},-1,4,4,4,1450,null,null,null,1,3,134,null,null,"",null,"",null,{"$f":"IF(AR138=\"\",\"\",1)","v":""},null,{"$f":"IF(AT138=\"\",\"\",1)","v":""},null,{"$f":"IF(AV138=\"\",\"\",1)","v":""},null,{"$f":"IF(AX138=\"\",\"\",1)","v":""},{"$f":"IF(AN138=\"\",\"\",VLOOKUP(AN138,[4]ItemConfig!$A:$C,3,FALSE)&AO138)","v":""},{"$f":"IF(AP138=\"\",\"\",VLOOKUP(AP138,[4]ItemConfig!$A:$C,3,FALSE)&AQ138)","v":""},{"$f":"IF(AR138=\"\",\"\",VLOOKUP(AR138,[4]ItemConfig!$A:$C,3,FALSE)&AS138)","v":""},{"$f":"IF(AT138=\"\",\"\",VLOOKUP(AT138,[4]ItemConfig!$A:$C,3,FALSE)&AU138)","v":""},{"$f":"IF(AV138=\"\",\"\",VLOOKUP(AV138,[4]ItemConfig!$A:$C,3,FALSE)&AW138)","v":""},{"$f":"IF(AX138=\"\",\"\",VLOOKUP(AX138,[4]ItemConfig!$A:$C,3,FALSE)&AY138)","v":""}]
[135,135,5,14,5,"229;236;242","化神","中期.","五重",229,236,242,{"$f":"ROUND([1]ResourceLevelConfig!$E139*[1]ResourceLevelConfig!$L139*0.1,0)*10","v":5700},-1,0,-1,-1,-1,-1,0,{"$f":"[3]主表!K137","v":1878.1584281331602},{"$f":"[3]主表!L137","v":34.125301256787139},{"$f":"[3]主表!M137","v":34.125301256787139},{"$f":"[3]主表!N137","v":0},{"$f":"[3]主表!$G137","v":16860},{"$f":"[3]升级!$H137","v":1400},{"$f":"MAX(0.1,ROUND(100/(24*3600)*VLOOKUP(B139,[1]ResourceLevelConfig!$A:$E,5,FALSE),2))","v":0.44},-1,4,4,4,1460,null,null,null,1,3,135,null,null,"",null,"",null,{"$f":"IF(AR139=\"\",\"\",1)","v":""},null,{"$f":"IF(AT139=\"\",\"\",1)","v":""},null,{"$f":"IF(AV139=\"\",\"\",1)","v":""},null,{"$f":"IF(AX139=\"\",\"\",1)","v":""},{"$f":"IF(AN139=\"\",\"\",VLOOKUP(AN139,[4]ItemConfig!$A:$C,3,FALSE)&AO139)","v":""},{"$f":"IF(AP139=\"\",\"\",VLOOKUP(AP139,[4]ItemConfig!$A:$C,3,FALSE)&AQ139)","v":""},{"$f":"IF(AR139=\"\",\"\",VLOOKUP(AR139,[4]ItemConfig!$A:$C,3,FALSE)&AS139)","v":""},{"$f":"IF(AT139=\"\",\"\",VLOOKUP(AT139,[4]ItemConfig!$A:$C,3,FALSE)&AU139)","v":""},{"$f":"IF(AV139=\"\",\"\",VLOOKUP(AV139,[4]ItemConfig!$A:$C,3,FALSE)&AW139)","v":""},{"$f":"IF(AX139=\"\",\"\",VLOOKUP(AX139,[4]ItemConfig!$A:$C,3,FALSE)&AY139)","v":""}]
[136,136,5,14,6,"229;236;243","化神","中期.","六重",229,236,243,{"$f":"ROUND([1]ResourceLevelConfig!$E140*[1]ResourceLevelConfig!$L140*0.1,0)*10","v":5850},-1,0,-1,-1,-1,-1,0,{"$f":"[3]主表!K138","v":1916.4318272426451},{"$f":"[3]主表!L138","v":34.586055218454582},{"$f":"[3]主表!M138","v":34.586055218454582},{"$f":"[3]主表!N138","v":0},{"$f":"[3]主表!$G138","v":17107},{"$f":"[3]升级!$H138","v":1400},{"$f":"MAX(0.1,ROUND(100/(24*3600)*VLOOKUP(B140,[1]ResourceLevelConfig!$A:$E,5,FALSE),2))","v":0.45},-1,4,4,4,1470,null,null,null,1,3,136,null,null,"",null,"",null,{"$f":"IF(AR140=\"\",\"\",1)","v":""},null,{"$f":"IF(AT140=\"\",\"\",1)","v":""},null,{"$f":"IF(AV140=\"\",\"\",1)","v":""},null,{"$f":"IF(AX140=\"\",\"\",1)","v":""},{"$f":"IF(AN140=\"\",\"\",VLOOKUP(AN140,[4]ItemConfig!$A:$C,3,FALSE)&AO140)","v":""},{"$f":"IF(AP140=\"\",\"\",VLOOKUP(AP140,[4]ItemConfig!$A:$C,3,FALSE)&AQ140)","v":""},{"$f":"IF(AR140=\"\",\"\",VLOOKUP(AR140,[4]ItemConfig!$A:$C,3,FALSE)&AS140)","v":""},{"$f":"IF(AT140=\"\",\"\",VLOOKUP(AT140,[4]ItemConfig!$A:$C,3,FALSE)&AU140)","v":""},{"$f":"IF(AV140=\"\",\"\",VLOOKUP(AV140,[4]ItemConfig!$A:$C,3,FALSE)&AW140)","v":""},{"$f":"IF(AX140=\"\",\"\",VLOOKUP(AX140,[4]ItemConfig!$A:$C,3,FALSE)&AY140)","v":""}]
[137,137,5,14,7,"229;236;244","化神","中期.","七重",229,236,244,{"$f":"ROUND([1]ResourceLevelConfig!$E141*[1]ResourceLevelConfig!$L141*0.1,0)*10","v":5850},-1,0,-1,-1,-1,-1,0,{"$f":"[3]主表!K139","v":1955.3963609877746},{"$f":"[3]主表!L139","v":35.053030201047079},{"$f":"[3]主表!M139","v":35.053030201047079},{"$f":"[3]主表!N139","v":0},{"$f":"[3]主表!$G139","v":17358},{"$f":"[3]升级!$H139","v":1400},{"$f":"MAX(0.1,ROUND(100/(24*3600)*VLOOKUP(B141,[1]ResourceLevelConfig!$A:$E,5,FALSE),2))","v":0.45},-1,4,4,4,1480,null,null,null,1,3,137,null,null,"",null,"",null,{"$f":"IF(AR141=\"\",\"\",1)","v":""},null,{"$f":"IF(AT141=\"\",\"\",1)","v":""},null,{"$f":"IF(AV141=\"\",\"\",1)","v":""},null,{"$f":"IF(AX141=\"\",\"\",1)","v":""},{"$f":"IF(AN141=\"\",\"\",VLOOKUP(AN141,[4]ItemConfig!$A:$C,3,FALSE)&AO141)","v":""},{"$f":"IF(AP141=\"\",\"\",VLOOKUP(AP141,[4]ItemConfig!$A:$C,3,FALSE)&AQ141)","v":""},{"$f":"IF(AR141=\"\",\"\",VLOOKUP(AR141,[4]ItemConfig!$A:$C,3,FALSE)&AS141)","v":""},{"$f":"IF(AT141=\"\",\"\",VLOOKUP(AT141,[4]ItemConfig!$A:$C,3,FALSE)&AU141)","v":""},{"$f":"IF(AV141=\"\",\"\",VLOOKUP(AV141,[4]ItemConfig!$A:$C,3,FALSE)&AW141)","v":""},{"$f":"IF(AX141=\"\",\"\",VLOOKUP(AX141,[4]ItemConfig!$A:$C,3,FALSE)&AY141)","v":""}]
[138,138,5,14,8,"229;236;245","化神","中期.","八重",229,236,245,{"$f":"ROUND([1]ResourceLevelConfig!$E142*[1]ResourceLevelConfig!$L142*0.1,0)*10","v":5850},-1,0,-1,-1,-1,-1,0,{"$f":"[3]主表!K140","v":1995.063715314501},{"$f":"[3]主表!L140","v":35.526310199721628},{"$f":"[3]主表!M140","v":35.526310199721628},{"$f":"[3]主表!N140","v":0},{"$f":"[3]主表!$G140","v":17613},{"$f":"[3]升级!$H140","v":1400},{"$f":"MAX(0.1,ROUND(100/(24*3600)*VLOOKUP(B142,[1]ResourceLevelConfig!$A:$E,5,FALSE),2))","v":0.45},-1,4,4,4,1490,null,null,null,1,3,138,null,null,"",null,"",null,{"$f":"IF(AR142=\"\",\"\",1)","v":""},null,{"$f":"IF(AT142=\"\",\"\",1)","v":""},null,{"$f":"IF(AV142=\"\",\"\",1)","v":""},null,{"$f":"IF(AX142=\"\",\"\",1)","v":""},{"$f":"IF(AN142=\"\",\"\",VLOOKUP(AN142,[4]ItemConfig!$A:$C,3,FALSE)&AO142)","v":""},{"$f":"IF(AP142=\"\",\"\",VLOOKUP(AP142,[4]ItemConfig!$A:$C,3,FALSE)&AQ142)","v":""},{"$f":"IF(AR142=\"\",\"\",VLOOKUP(AR142,[4]ItemConfig!$A:$C,3,FALSE)&AS142)","v":""},{"$f":"IF(AT142=\"\",\"\",VLOOKUP(AT142,[4]ItemConfig!$A:$C,3,FALSE)&AU142)","v":""},{"$f":"IF(AV142=\"\",\"\",VLOOKUP(AV142,[4]ItemConfig!$A:$C,3,FALSE)&AW142)","v":""},{"$f":"IF(AX142=\"\",\"\",VLOOKUP(AX142,[4]ItemConfig!$A:$C,3,FALSE)&AY142)","v":""}]
[139,139,5,14,9,"229;236;246","化神","中期.","九重",229,236,246,{"$f":"ROUND([1]ResourceLevelConfig!$E143*[1]ResourceLevelConfig!$L143*0.1,0)*10","v":6000},-1,0,-1,-1,-1,-1,0,{"$f":"[3]主表!K141","v":2035.4457657386429},{"$f":"[3]主表!L141","v":36.005980343723436},{"$f":"[3]主表!M141","v":36.005980343723436},{"$f":"[3]主表!N141","v":0},{"$f":"[3]主表!$G141","v":17872},{"$f":"[3]升级!$H141","v":1400},{"$f":"MAX(0.1,ROUND(100/(24*3600)*VLOOKUP(B143,[1]ResourceLevelConfig!$A:$E,5,FALSE),2))","v":0.46},-1,4,4,4,1500,null,null,null,1,3,139,null,null,"",null,"",null,{"$f":"IF(AR143=\"\",\"\",1)","v":""},null,{"$f":"IF(AT143=\"\",\"\",1)","v":""},null,{"$f":"IF(AV143=\"\",\"\",1)","v":""},null,{"$f":"IF(AX143=\"\",\"\",1)","v":""},{"$f":"IF(AN143=\"\",\"\",VLOOKUP(AN143,[4]ItemConfig!$A:$C,3,FALSE)&AO143)","v":""},{"$f":"IF(AP143=\"\",\"\",VLOOKUP(AP143,[4]ItemConfig!$A:$C,3,FALSE)&AQ143)","v":""},{"$f":"IF(AR143=\"\",\"\",VLOOKUP(AR143,[4]ItemConfig!$A:$C,3,FALSE)&AS143)","v":""},{"$f":"IF(AT143=\"\",\"\",VLOOKUP(AT143,[4]ItemConfig!$A:$C,3,FALSE)&AU143)","v":""},{"$f":"IF(AV143=\"\",\"\",VLOOKUP(AV143,[4]ItemConfig!$A:$C,3,FALSE)&AW143)","v":""},{"$f":"IF(AX143=\"\",\"\",VLOOKUP(AX143,[4]ItemConfig!$A:$C,3,FALSE)&AY143)","v":""}]
[140,140,5,14,10,"229;236;247","化神","中期.","十重",229,236,247,{"$f":"ROUND([1]ResourceLevelConfig!$E144*[1]ResourceLevelConfig!$L144*0.1,0)*10","v":6000},100004,0,{"$f":"AN144","v":1314},{"$f":"AO144","v":1},{"$f":"_xlfn.TEXTJOIN(\";\",1,AP144,AR144,AT144,AV144)","v":"1207;1208;1209"},{"$f":"_xlfn.TEXTJOIN(\";\",1,AQ144,AS144,AU144,AW144)","v":"1;1;1"},0,{"$f":"[3]主表!K142","v":2076.5545803346208},{"$f":"[3]主表!L142","v":36.492126911698158},{"$f":"[3]主表!M142","v":36.492126911698158},{"$f":"[3]主表!N142","v":0},{"$f":"[3]主表!$G142","v":18135},{"$f":"[3]升级!$H142","v":1400},{"$f":"MAX(0.1,ROUND(100/(24*3600)*VLOOKUP(B144,[1]ResourceLevelConfig!$A:$E,5,FALSE),2))","v":0.46},20,4,4,4,1510,null,null,null,1,3,140,null,1314,1,1207,1,1208,{"$f":"IF(AR144=\"\",\"\",1)","v":1},1209,{"$f":"IF(AT144=\"\",\"\",1)","v":1},null,{"$f":"IF(AV144=\"\",\"\",1)","v":""},null,{"$f":"IF(AX144=\"\",\"\",1)","v":""},{"$f":"IF(AN144=\"\",\"\",VLOOKUP(AN144,[4]ItemConfig!$A:$C,3,FALSE)&AO144)","v":"太虚花1"},{"$f":"IF(AP144=\"\",\"\",VLOOKUP(AP144,[4]ItemConfig!$A:$C,3,FALSE)&AQ144)","v":"灵冥石1"},{"$f":"IF(AR144=\"\",\"\",VLOOKUP(AR144,[4]ItemConfig!$A:$C,3,FALSE)&AS144)","v":"玄金砂1"},{"$f":"IF(AT144=\"\",\"\",VLOOKUP(AT144,[4]ItemConfig!$A:$C,3,FALSE)&AU144)","v":"紫玄晶1"},{"$f":"IF(AV144=\"\",\"\",VLOOKUP(AV144,[4]ItemConfig!$A:$C,3,FALSE)&AW144)","v":""},{"$f":"IF(AX144=\"\",\"\",VLOOKUP(AX144,[4]ItemConfig!$A:$C,3,FALSE)&AY144)","v":""}]
[141,141,5,15,1,"229;237;238","化神","后期.","一重",229,237,238,{"$f":"ROUND([1]ResourceLevelConfig!$E145*[1]ResourceLevelConfig!$L145*0.1,0)*10","v":6150},-1,0,-1,-1,{"$f":"IF(I145=10,\"1001;1002;1004\",-1)","v":-1},-1,0,{"$f":"[3]主表!K143","v":2299.1992710324989},{"$f":"[3]主表!L143","v":40.14133960286798},{"$f":"[3]主表!M143","v":40.14133960286798},{"$f":"[3]主表!N143","v":0},{"$f":"[3]主表!$G143","v":20399},{"$f":"[3]升级!$H143","v":1400},{"$f":"MAX(0.1,ROUND(100/(24*3600)*VLOOKUP(B145,[1]ResourceLevelConfig!$A:$E,5,FALSE),2))","v":0.47},-1,4,4,4,1520,null,null,null,1,3,141,null,null,"",null,"",null,{"$f":"IF(AR145=\"\",\"\",1)","v":""},null,{"$f":"IF(AT145=\"\",\"\",1)","v":""},null,{"$f":"IF(AV145=\"\",\"\",1)","v":""},null,{"$f":"IF(AX145=\"\",\"\",1)","v":""},{"$f":"IF(AN145=\"\",\"\",VLOOKUP(AN145,[4]ItemConfig!$A:$C,3,FALSE)&AO145)","v":""},{"$f":"IF(AP145=\"\",\"\",VLOOKUP(AP145,[4]ItemConfig!$A:$C,3,FALSE)&AQ145)","v":""},{"$f":"IF(AR145=\"\",\"\",VLOOKUP(AR145,[4]ItemConfig!$A:$C,3,FALSE)&AS145)","v":""},{"$f":"IF(AT145=\"\",\"\",VLOOKUP(AT145,[4]ItemConfig!$A:$C,3,FALSE)&AU145)","v":""},{"$f":"IF(AV145=\"\",\"\",VLOOKUP(AV145,[4]ItemConfig!$A:$C,3,FALSE)&AW145)","v":""},{"$f":"IF(AX145=\"\",\"\",VLOOKUP(AX145,[4]ItemConfig!$A:$C,3,FALSE)&AY145)","v":""}]
[142,142,5,15,2,"229;237;239","化神","后期.","二重",229,237,239,{"$f":"ROUND([1]ResourceLevelConfig!$E146*[1]ResourceLevelConfig!$L146*0.1,0)*10","v":6150},-1,0,-1,-1,-1,-1,0,{"$f":"[3]主表!K144","v":2345.4342797590825},{"$f":"[3]主表!L144","v":40.683321081932021},{"$f":"[3]主表!M144","v":40.683321081932021},{"$f":"[3]主表!N144","v":0},{"$f":"[3]主表!$G144","v":20695},{"$f":"[3]升级!$H144","v":1400},{"$f":"MAX(0.1,ROUND(100/(24*3600)*VLOOKUP(B146,[1]ResourceLevelConfig!$A:$E,5,FALSE),2))","v":0.47},-1,4,4,4,1530,null,null,null,1,3,142,null,null,"",null,"",null,{"$f":"IF(AR146=\"\",\"\",1)","v":""},null,{"$f":"IF(AT146=\"\",\"\",1)","v":""},null,{"$f":"IF(AV146=\"\",\"\",1)","v":""},null,{"$f":"IF(AX146=\"\",\"\",1)","v":""},{"$f":"IF(AN146=\"\",\"\",VLOOKUP(AN146,[4]ItemConfig!$A:$C,3,FALSE)&AO146)","v":""},{"$f":"IF(AP146=\"\",\"\",VLOOKUP(AP146,[4]ItemConfig!$A:$C,3,FALSE)&AQ146)","v":""},{"$f":"IF(AR146=\"\",\"\",VLOOKUP(AR146,[4]ItemConfig!$A:$C,3,FALSE)&AS146)","v":""},{"$f":"IF(AT146=\"\",\"\",VLOOKUP(AT146,[4]ItemConfig!$A:$C,3,FALSE)&AU146)","v":""},{"$f":"IF(AV146=\"\",\"\",VLOOKUP(AV146,[4]ItemConfig!$A:$C,3,FALSE)&AW146)","v":""},{"$f":"IF(AX146=\"\",\"\",VLOOKUP(AX146,[4]ItemConfig!$A:$C,3,FALSE)&AY146)","v":""}]
[143,143,5,15,3,"229;237;240","化神","后期.","三重",229,237,240,{"$f":"ROUND([1]ResourceLevelConfig!$E147*[1]ResourceLevelConfig!$L147*0.1,0)*10","v":6150},-1,0,-1,-1,-1,-1,0,{"$f":"[3]主表!K145","v":2392.4986602145209},{"$f":"[3]主表!L145","v":41.232620301922367},{"$f":"[3]主表!M145","v":41.232620301922367},{"$f":"[3]主表!N145","v":0},{"$f":"[3]主表!$G145","v":20995},{"$f":"[3]升级!$H145","v":1400},{"$f":"MAX(0.1,ROUND(100/(24*3600)*VLOOKUP(B147,[1]ResourceLevelConfig!$A:$E,5,FALSE),2))","v":0.47},-1,4,4,4,1540,null,null,null,1,3,143,null,null,"",null,"",null,{"$f":"IF(AR147=\"\",\"\",1)","v":""},null,{"$f":"IF(AT147=\"\",\"\",1)","v":""},null,{"$f":"IF(AV147=\"\",\"\",1)","v":""},null,{"$f":"IF(AX147=\"\",\"\",1)","v":""},{"$f":"IF(AN147=\"\",\"\",VLOOKUP(AN147,[4]ItemConfig!$A:$C,3,FALSE)&AO147)","v":""},{"$f":"IF(AP147=\"\",\"\",VLOOKUP(AP147,[4]ItemConfig!$A:$C,3,FALSE)&AQ147)","v":""},{"$f":"IF(AR147=\"\",\"\",VLOOKUP(AR147,[4]ItemConfig!$A:$C,3,FALSE)&AS147)","v":""},{"$f":"IF(AT147=\"\",\"\",VLOOKUP(AT147,[4]ItemConfig!$A:$C,3,FALSE)&AU147)","v":""},{"$f":"IF(AV147=\"\",\"\",VLOOKUP(AV147,[4]ItemConfig!$A:$C,3,FALSE)&AW147)","v":""},{"$f":"IF(AX147=\"\",\"\",VLOOKUP(AX147,[4]ItemConfig!$A:$C,3,FALSE)&AY147)","v":""}]
[144,144,5,15,4,"229;237;241","化神","后期.","四重",229,237,241,{"$f":"ROUND([1]ResourceLevelConfig!$E148*[1]ResourceLevelConfig!$L148*0.1,0)*10","v":6300},-1,0,-1,-1,-1,-1,0,{"$f":"[3]主表!K146","v":2440.4063798553711},{"$f":"[3]主表!L146","v":41.78933606572128},{"$f":"[3]主表!M146","v":41.78933606572128},{"$f":"[3]主表!N146","v":0},{"$f":"[3]主表!$G146","v":21300},{"$f":"[3]升级!$H146","v":1400},{"$f":"MAX(0.1,ROUND(100/(24*3600)*VLOOKUP(B148,[1]ResourceLevelConfig!$A:$E,5,FALSE),2))","v":0.49},-1,4,4,4,1550,null,null,null,1,3,144,null,null,"",null,"",null,{"$f":"IF(AR148=\"\",\"\",1)","v":""},null,{"$f":"IF(AT148=\"\",\"\",1)","v":""},null,{"$f":"IF(AV148=\"\",\"\",1)","v":""},null,{"$f":"IF(AX148=\"\",\"\",1)","v":""},{"$f":"IF(AN148=\"\",\"\",VLOOKUP(AN148,[4]ItemConfig!$A:$C,3,FALSE)&AO148)","v":""},{"$f":"IF(AP148=\"\",\"\",VLOOKUP(AP148,[4]ItemConfig!$A:$C,3,FALSE)&AQ148)","v":""},{"$f":"IF(AR148=\"\",\"\",VLOOKUP(AR148,[4]ItemConfig!$A:$C,3,FALSE)&AS148)","v":""},{"$f":"IF(AT148=\"\",\"\",VLOOKUP(AT148,[4]ItemConfig!$A:$C,3,FALSE)&AU148)","v":""},{"$f":"IF(AV148=\"\",\"\",VLOOKUP(AV148,[4]ItemConfig!$A:$C,3,FALSE)&AW148)","v":""},{"$f":"IF(AX148=\"\",\"\",VLOOKUP(AX148,[4]ItemConfig!$A:$C,3,FALSE)&AY148)","v":""}]
[145,145,5,15,5,"229;237;242","化神","后期.","五重",229,237,242,{"$f":"ROUND([1]ResourceLevelConfig!$E149*[1]ResourceLevelConfig!$L149*0.1,0)*10","v":6300},-1,0,-1,-1,-1,-1,0,{"$f":"[3]主表!K147","v":2489.1716321166487},{"$f":"[3]主表!L147","v":42.353568510230581},{"$f":"[3]主表!M147","v":42.353568510230581},{"$f":"[3]主表!N147","v":0},{"$f":"[3]主表!$G147","v":21610},{"$f":"[3]升级!$H147","v":1400},{"$f":"MAX(0.1,ROUND(100/(24*3600)*VLOOKUP(B149,[1]ResourceLevelConfig!$A:$E,5,FALSE),2))","v":0.49},-1,4,4,4,1560,null,null,null,1,3,145,null,null,"",null,"",null,{"$f":"IF(AR149=\"\",\"\",1)","v":""},null,{"$f":"IF(AT149=\"\",\"\",1)","v":""},null,{"$f":"IF(AV149=\"\",\"\",1)","v":""},null,{"$f":"IF(AX149=\"\",\"\",1)","v":""},{"$f":"IF(AN149=\"\",\"\",VLOOKUP(AN149,[4]ItemConfig!$A:$C,3,FALSE)&AO149)","v":""},{"$f":"IF(AP149=\"\",\"\",VLOOKUP(AP149,[4]ItemConfig!$A:$C,3,FALSE)&AQ149)","v":""},{"$f":"IF(AR149=\"\",\"\",VLOOKUP(AR149,[4]ItemConfig!$A:$C,3,FALSE)&AS149)","v":""},{"$f":"IF(AT149=\"\",\"\",VLOOKUP(AT149,[4]ItemConfig!$A:$C,3,FALSE)&AU149)","v":""},{"$f":"IF(AV149=\"\",\"\",VLOOKUP(AV149,[4]ItemConfig!$A:$C,3,FALSE)&AW149)","v":""},{"$f":"IF(AX149=\"\",\"\",VLOOKUP(AX149,[4]ItemConfig!$A:$C,3,FALSE)&AY149)","v":""}]
[146,146,5,15,6,"229;237;243","化神","后期.","六重",229,237,243,{"$f":"ROUND([1]ResourceLevelConfig!$E150*[1]ResourceLevelConfig!$L150*0.1,0)*10","v":6450},-1,0,-1,-1,-1,-1,0,{"$f":"[3]主表!K148","v":2538.808839967814},{"$f":"[3]主表!L148","v":42.925419124383353},{"$f":"[3]主表!M148","v":42.925419124383353},{"$f":"[3]主表!N148","v":0},{"$f":"[3]主表!$G148","v":21924},{"$f":"[3]升级!$H148","v":1400},{"$f":"MAX(0.1,ROUND(100/(24*3600)*VLOOKUP(B150,[1]ResourceLevelConfig!$A:$E,5,FALSE),2))","v":0.5},-1,4,4,4,1570,null,null,null,1,3,146,null,null,"",null,"",null,{"$f":"IF(AR150=\"\",\"\",1)","v":""},null,{"$f":"IF(AT150=\"\",\"\",1)","v":""},null,{"$f":"IF(AV150=\"\",\"\",1)","v":""},null,{"$f":"IF(AX150=\"\",\"\",1)","v":""},{"$f":"IF(AN150=\"\",\"\",VLOOKUP(AN150,[4]ItemConfig!$A:$C,3,FALSE)&AO150)","v":""},{"$f":"IF(AP150=\"\",\"\",VLOOKUP(AP150,[4]ItemConfig!$A:$C,3,FALSE)&AQ150)","v":""},{"$f":"IF(AR150=\"\",\"\",VLOOKUP(AR150,[4]ItemConfig!$A:$C,3,FALSE)&AS150)","v":""},{"$f":"IF(AT150=\"\",\"\",VLOOKUP(AT150,[4]ItemConfig!$A:$C,3,FALSE)&AU150)","v":""},{"$f":"IF(AV150=\"\",\"\",VLOOKUP(AV150,[4]ItemConfig!$A:$C,3,FALSE)&AW150)","v":""},{"$f":"IF(AX150=\"\",\"\",VLOOKUP(AX150,[4]ItemConfig!$A:$C,3,FALSE)&AY150)","v":""}]
[147,147,5,15,7,"229;237;244","化神","后期.","七重",229,237,244,{"$f":"ROUND([1]ResourceLevelConfig!$E151*[1]ResourceLevelConfig!$L151*0.1,0)*10","v":6450},-1,0,-1,-1,-1,-1,0,{"$f":"[3]主表!K149","v":2589.3326595235894},{"$f":"[3]主表!L149","v":43.504990767398851},{"$f":"[3]主表!M149","v":43.504990767398851},{"$f":"[3]主表!N149","v":0},{"$f":"[3]主表!$G149","v":22244},{"$f":"[3]升级!$H149","v":1400},{"$f":"MAX(0.1,ROUND(100/(24*3600)*VLOOKUP(B151,[1]ResourceLevelConfig!$A:$E,5,FALSE),2))","v":0.5},-1,4,4,4,1580,null,null,null,1,3,147,null,null,"",null,"",null,{"$f":"IF(AR151=\"\",\"\",1)","v":""},null,{"$f":"IF(AT151=\"\",\"\",1)","v":""},null,{"$f":"IF(AV151=\"\",\"\",1)","v":""},null,{"$f":"IF(AX151=\"\",\"\",1)","v":""},{"$f":"IF(AN151=\"\",\"\",VLOOKUP(AN151,[4]ItemConfig!$A:$C,3,FALSE)&AO151)","v":""},{"$f":"IF(AP151=\"\",\"\",VLOOKUP(AP151,[4]ItemConfig!$A:$C,3,FALSE)&AQ151)","v":""},{"$f":"IF(AR151=\"\",\"\",VLOOKUP(AR151,[4]ItemConfig!$A:$C,3,FALSE)&AS151)","v":""},{"$f":"IF(AT151=\"\",\"\",VLOOKUP(AT151,[4]ItemConfig!$A:$C,3,FALSE)&AU151)","v":""},{"$f":"IF(AV151=\"\",\"\",VLOOKUP(AV151,[4]ItemConfig!$A:$C,3,FALSE)&AW151)","v":""},{"$f":"IF(AX151=\"\",\"\",VLOOKUP(AX151,[4]ItemConfig!$A:$C,3,FALSE)&AY151)","v":""}]
[148,148,5,15,8,"229;237;245","化神","后期.","八重",229,237,245,{"$f":"ROUND([1]ResourceLevelConfig!$E152*[1]ResourceLevelConfig!$L152*0.1,0)*10","v":6600},-1,0,-1,-1,-1,-1,0,{"$f":"[3]主表!K150","v":2640.7579837104345},{"$f":"[3]主表!L150","v":44.092387687283846},{"$f":"[3]主表!M150","v":44.092387687283846},{"$f":"[3]主表!N150","v":0},{"$f":"[3]主表!$G150","v":22568},{"$f":"[3]升级!$H150","v":1400},{"$f":"MAX(0.1,ROUND(100/(24*3600)*VLOOKUP(B152,[1]ResourceLevelConfig!$A:$E,5,FALSE),2))","v":0.51},-1,4,4,4,1590,null,null,null,1,3,148,null,null,"",null,"",null,{"$f":"IF(AR152=\"\",\"\",1)","v":""},null,{"$f":"IF(AT152=\"\",\"\",1)","v":""},null,{"$f":"IF(AV152=\"\",\"\",1)","v":""},null,{"$f":"IF(AX152=\"\",\"\",1)","v":""},{"$f":"IF(AN152=\"\",\"\",VLOOKUP(AN152,[4]ItemConfig!$A:$C,3,FALSE)&AO152)","v":""},{"$f":"IF(AP152=\"\",\"\",VLOOKUP(AP152,[4]ItemConfig!$A:$C,3,FALSE)&AQ152)","v":""},{"$f":"IF(AR152=\"\",\"\",VLOOKUP(AR152,[4]ItemConfig!$A:$C,3,FALSE)&AS152)","v":""},{"$f":"IF(AT152=\"\",\"\",VLOOKUP(AT152,[4]ItemConfig!$A:$C,3,FALSE)&AU152)","v":""},{"$f":"IF(AV152=\"\",\"\",VLOOKUP(AV152,[4]ItemConfig!$A:$C,3,FALSE)&AW152)","v":""},{"$f":"IF(AX152=\"\",\"\",VLOOKUP(AX152,[4]ItemConfig!$A:$C,3,FALSE)&AY152)","v":""}]
[149,149,5,15,9,"229;237;246","化神","后期.","九重",229,237,246,{"$f":"ROUND([1]ResourceLevelConfig!$E153*[1]ResourceLevelConfig!$L153*0.1,0)*10","v":6600},-1,0,-1,-1,-1,-1,0,{"$f":"[3]主表!K151","v":2693.0999459895274},{"$f":"[3]主表!L151","v":44.68771553958382},{"$f":"[3]主表!M151","v":44.68771553958382},{"$f":"[3]主表!N151","v":0},{"$f":"[3]主表!$G151","v":22898},{"$f":"[3]升级!$H151","v":1400},{"$f":"MAX(0.1,ROUND(100/(24*3600)*VLOOKUP(B153,[1]ResourceLevelConfig!$A:$E,5,FALSE),2))","v":0.51},-1,4,4,4,1600,null,null,null,1,3,149,null,null,"",null,"",null,{"$f":"IF(AR153=\"\",\"\",1)","v":""},null,{"$f":"IF(AT153=\"\",\"\",1)","v":""},null,{"$f":"IF(AV153=\"\",\"\",1)","v":""},null,{"$f":"IF(AX153=\"\",\"\",1)","v":""},{"$f":"IF(AN153=\"\",\"\",VLOOKUP(AN153,[4]ItemConfig!$A:$C,3,FALSE)&AO153)","v":""},{"$f":"IF(AP153=\"\",\"\",VLOOKUP(AP153,[4]ItemConfig!$A:$C,3,FALSE)&AQ153)","v":""},{"$f":"IF(AR153=\"\",\"\",VLOOKUP(AR153,[4]ItemConfig!$A:$C,3,FALSE)&AS153)","v":""},{"$f":"IF(AT153=\"\",\"\",VLOOKUP(AT153,[4]ItemConfig!$A:$C,3,FALSE)&AU153)","v":""},{"$f":"IF(AV153=\"\",\"\",VLOOKUP(AV153,[4]ItemConfig!$A:$C,3,FALSE)&AW153)","v":""},{"$f":"IF(AX153=\"\",\"\",VLOOKUP(AX153,[4]ItemConfig!$A:$C,3,FALSE)&AY153)","v":""}]
[150,150,5,15,10,"229;237;247","化神","后期.","十重",229,237,247,{"$f":"ROUND([1]ResourceLevelConfig!$E154*[1]ResourceLevelConfig!$L154*0.1,0)*10","v":6600},100004,0,{"$f":"AN154","v":1315},{"$f":"AO154","v":1},{"$f":"_xlfn.TEXTJOIN(\";\",1,AP154,AR154,AT154,AV154)","v":"1207;1208;1209"},{"$f":"_xlfn.TEXTJOIN(\";\",1,AQ154,AS154,AU154,AW154)","v":"1;1;1"},{"$f":"CONCATENATE(ROUND(0.6*VLOOKUP(A154,[3]主表!$A:$P,16,FALSE)*[5]HeroModelConfig!$Q$5,0),\";\",ROUND(0.9*VLOOKUP(A154,[3]主表!$A:$P,16,FALSE)*[5]HeroModelConfig!$Q$5,0),\";\",INT(A154/30)+1)","v":"422625;633937;6"},{"$f":"[3]主表!K152","v":2746.373924137114},{"$f":"[3]主表!L152","v":45.291081406387292},{"$f":"[3]主表!M152","v":45.291081406387292},{"$f":"[3]主表!N152","v":0},{"$f":"[3]主表!$G152","v":23232},{"$f":"[3]升级!$H152","v":1400},{"$f":"MAX(0.1,ROUND(100/(24*3600)*VLOOKUP(B154,[1]ResourceLevelConfig!$A:$E,5,FALSE),2))","v":0.51},50,4,4,4,1610,null,null,null,1,3,150,null,1315,1,1207,1,1208,{"$f":"IF(AR154=\"\",\"\",1)","v":1},1209,{"$f":"IF(AT154=\"\",\"\",1)","v":1},null,{"$f":"IF(AV154=\"\",\"\",1)","v":""},null,{"$f":"IF(AX154=\"\",\"\",1)","v":""},{"$f":"IF(AN154=\"\",\"\",VLOOKUP(AN154,[4]ItemConfig!$A:$C,3,FALSE)&AO154)","v":"九焰莲1"},{"$f":"IF(AP154=\"\",\"\",VLOOKUP(AP154,[4]ItemConfig!$A:$C,3,FALSE)&AQ154)","v":"灵冥石1"},{"$f":"IF(AR154=\"\",\"\",VLOOKUP(AR154,[4]ItemConfig!$A:$C,3,FALSE)&AS154)","v":"玄金砂1"},{"$f":"IF(AT154=\"\",\"\",VLOOKUP(AT154,[4]ItemConfig!$A:$C,3,FALSE)&AU154)","v":"紫玄晶1"},{"$f":"IF(AV154=\"\",\"\",VLOOKUP(AV154,[4]ItemConfig!$A:$C,3,FALSE)&AW154)","v":""},{"$f":"IF(AX154=\"\",\"\",VLOOKUP(AX154,[4]ItemConfig!$A:$C,3,FALSE)&AY154)","v":""}]
[151,151,6,16,1,"230;235;238","炼虚","前期.","一重",230,235,238,{"$f":"ROUND([1]ResourceLevelConfig!$E155*[1]ResourceLevelConfig!$L155*0.1,0)*10","v":6750},-1,0,-1,-1,{"$f":"IF(I155=10,\"1001;1002;1004\",-1)","v":-1},{"$f":"IF(R155=-1,-1,\"100;200;300\")","v":-1},0,{"$f":"[3]主表!K153","v":3592.2719676348715},{"$f":"[3]主表!L153","v":58.878405828303485},{"$f":"[3]主表!M153","v":58.878405828303485},{"$f":"[3]主表!N153","v":0},{"$f":"[3]主表!$G153","v":30881},{"$f":"[3]升级!$H153","v":1500},{"$f":"MAX(0.1,ROUND(100/(24*3600)*VLOOKUP(B155,[1]ResourceLevelConfig!$A:$E,5,FALSE),2))","v":0.52},-1,4,4,4,1620,null,null,null,1,3,151,null,null,"",null,"",null,{"$f":"IF(AR155=\"\",\"\",1)","v":""},null,{"$f":"IF(AT155=\"\",\"\",1)","v":""},null,{"$f":"IF(AV155=\"\",\"\",1)","v":""},null,{"$f":"IF(AX155=\"\",\"\",1)","v":""},{"$f":"IF(AN155=\"\",\"\",VLOOKUP(AN155,[4]ItemConfig!$A:$C,3,FALSE)&AO155)","v":""},{"$f":"IF(AP155=\"\",\"\",VLOOKUP(AP155,[4]ItemConfig!$A:$C,3,FALSE)&AQ155)","v":""},{"$f":"IF(AR155=\"\",\"\",VLOOKUP(AR155,[4]ItemConfig!$A:$C,3,FALSE)&AS155)","v":""},{"$f":"IF(AT155=\"\",\"\",VLOOKUP(AT155,[4]ItemConfig!$A:$C,3,FALSE)&AU155)","v":""},{"$f":"IF(AV155=\"\",\"\",VLOOKUP(AV155,[4]ItemConfig!$A:$C,3,FALSE)&AW155)","v":""},{"$f":"IF(AX155=\"\",\"\",VLOOKUP(AX155,[4]ItemConfig!$A:$C,3,FALSE)&AY155)","v":""}]
[152,152,6,16,2,"230;235;239","炼虚","前期.","二重",230,235,239,{"$f":"ROUND([1]ResourceLevelConfig!$E156*[1]ResourceLevelConfig!$L156*0.1,0)*10","v":6750},-1,0,-1,-1,{"$f":"IF(I156=10,\"1001;1002;1004\",-1)","v":-1},{"$f":"IF(R156=-1,-1,\"100;200;300\")","v":-1},0,{"$f":"[3]主表!K154","v":3663.0569229580515},{"$f":"[3]主表!L154","v":59.673371960262791},{"$f":"[3]主表!M154","v":59.673371960262791},{"$f":"[3]主表!N154","v":0},{"$f":"[3]主表!$G154","v":31326},{"$f":"[3]升级!$H154","v":1500},{"$f":"MAX(0.1,ROUND(100/(24*3600)*VLOOKUP(B156,[1]ResourceLevelConfig!$A:$E,5,FALSE),2))","v":0.52},-1,4,4,4,1630,null,null,null,1,3,152,null,null,"",null,"",null,{"$f":"IF(AR156=\"\",\"\",1)","v":""},null,{"$f":"IF(AT156=\"\",\"\",1)","v":""},null,{"$f":"IF(AV156=\"\",\"\",1)","v":""},null,{"$f":"IF(AX156=\"\",\"\",1)","v":""},{"$f":"IF(AN156=\"\",\"\",VLOOKUP(AN156,[4]ItemConfig!$A:$C,3,FALSE)&AO156)","v":""},{"$f":"IF(AP156=\"\",\"\",VLOOKUP(AP156,[4]ItemConfig!$A:$C,3,FALSE)&AQ156)","v":""},{"$f":"IF(AR156=\"\",\"\",VLOOKUP(AR156,[4]ItemConfig!$A:$C,3,FALSE)&AS156)","v":""},{"$f":"IF(AT156=\"\",\"\",VLOOKUP(AT156,[4]ItemConfig!$A:$C,3,FALSE)&AU156)","v":""},{"$f":"IF(AV156=\"\",\"\",VLOOKUP(AV156,[4]ItemConfig!$A:$C,3,FALSE)&AW156)","v":""},{"$f":"IF(AX156=\"\",\"\",VLOOKUP(AX156,[4]ItemConfig!$A:$C,3,FALSE)&AY156)","v":""}]
[153,153,6,16,3,"230;235;240","炼虚","前期.","三重",230,235,240,{"$f":"ROUND([1]ResourceLevelConfig!$E157*[1]ResourceLevelConfig!$L157*0.1,0)*10","v":6900},-1,0,-1,-1,-1,-1,0,{"$f":"[3]主表!K155","v":3735.0984620043009},{"$f":"[3]主表!L155","v":60.479071588519631},{"$f":"[3]主表!M155","v":60.479071588519631},{"$f":"[3]主表!N155","v":0},{"$f":"[3]主表!$G155","v":31777},{"$f":"[3]升级!$H155","v":1500},{"$f":"MAX(0.1,ROUND(100/(24*3600)*VLOOKUP(B157,[1]ResourceLevelConfig!$A:$E,5,FALSE),2))","v":0.53},-1,4,4,4,1640,null,null,null,1,3,153,null,null,"",null,"",null,{"$f":"IF(AR157=\"\",\"\",1)","v":""},null,{"$f":"IF(AT157=\"\",\"\",1)","v":""},null,{"$f":"IF(AV157=\"\",\"\",1)","v":""},null,{"$f":"IF(AX157=\"\",\"\",1)","v":""},{"$f":"IF(AN157=\"\",\"\",VLOOKUP(AN157,[4]ItemConfig!$A:$C,3,FALSE)&AO157)","v":""},{"$f":"IF(AP157=\"\",\"\",VLOOKUP(AP157,[4]ItemConfig!$A:$C,3,FALSE)&AQ157)","v":""},{"$f":"IF(AR157=\"\",\"\",VLOOKUP(AR157,[4]ItemConfig!$A:$C,3,FALSE)&AS157)","v":""},{"$f":"IF(AT157=\"\",\"\",VLOOKUP(AT157,[4]ItemConfig!$A:$C,3,FALSE)&AU157)","v":""},{"$f":"IF(AV157=\"\",\"\",VLOOKUP(AV157,[4]ItemConfig!$A:$C,3,FALSE)&AW157)","v":""},{"$f":"IF(AX157=\"\",\"\",VLOOKUP(AX157,[4]ItemConfig!$A:$C,3,FALSE)&AY157)","v":""}]
[154,154,6,16,4,"230;235;241","炼虚","前期.","四重",230,235,241,{"$f":"ROUND([1]ResourceLevelConfig!$E158*[1]ResourceLevelConfig!$L158*0.1,0)*10","v":6900},-1,0,-1,-1,-1,-1,0,{"$f":"[3]主表!K156","v":3808.4176130764445},{"$f":"[3]主表!L156","v":61.295649634899128},{"$f":"[3]主表!M156","v":61.295649634899128},{"$f":"[3]主表!N156","v":0},{"$f":"[3]主表!$G156","v":32235},{"$f":"[3]升级!$H156","v":1500},{"$f":"MAX(0.1,ROUND(100/(24*3600)*VLOOKUP(B158,[1]ResourceLevelConfig!$A:$E,5,FALSE),2))","v":0.53},-1,4,4,4,1650,null,null,null,1,3,154,null,null,"",null,"",null,{"$f":"IF(AR158=\"\",\"\",1)","v":""},null,{"$f":"IF(AT158=\"\",\"\",1)","v":""},null,{"$f":"IF(AV158=\"\",\"\",1)","v":""},null,{"$f":"IF(AX158=\"\",\"\",1)","v":""},{"$f":"IF(AN158=\"\",\"\",VLOOKUP(AN158,[4]ItemConfig!$A:$C,3,FALSE)&AO158)","v":""},{"$f":"IF(AP158=\"\",\"\",VLOOKUP(AP158,[4]ItemConfig!$A:$C,3,FALSE)&AQ158)","v":""},{"$f":"IF(AR158=\"\",\"\",VLOOKUP(AR158,[4]ItemConfig!$A:$C,3,FALSE)&AS158)","v":""},{"$f":"IF(AT158=\"\",\"\",VLOOKUP(AT158,[4]ItemConfig!$A:$C,3,FALSE)&AU158)","v":""},{"$f":"IF(AV158=\"\",\"\",VLOOKUP(AV158,[4]ItemConfig!$A:$C,3,FALSE)&AW158)","v":""},{"$f":"IF(AX158=\"\",\"\",VLOOKUP(AX158,[4]ItemConfig!$A:$C,3,FALSE)&AY158)","v":""}]
[155,155,6,16,5,"230;235;242","炼虚","前期.","五重",230,235,242,{"$f":"ROUND([1]ResourceLevelConfig!$E159*[1]ResourceLevelConfig!$L159*0.1,0)*10","v":7050},-1,0,-1,-1,-1,-1,0,{"$f":"[3]主表!K157","v":3883.0357432439628},{"$f":"[3]主表!L157","v":62.123252977936055},{"$f":"[3]主表!M157","v":62.123252977936055},{"$f":"[3]主表!N157","v":0},{"$f":"[3]主表!$G157","v":32701},{"$f":"[3]升级!$H157","v":1500},{"$f":"MAX(0.1,ROUND(100/(24*3600)*VLOOKUP(B159,[1]ResourceLevelConfig!$A:$E,5,FALSE),2))","v":0.54},-1,4,4,4,1660,null,null,null,1,3,155,null,null,"",null,"",null,{"$f":"IF(AR159=\"\",\"\",1)","v":""},null,{"$f":"IF(AT159=\"\",\"\",1)","v":""},null,{"$f":"IF(AV159=\"\",\"\",1)","v":""},null,{"$f":"IF(AX159=\"\",\"\",1)","v":""},{"$f":"IF(AN159=\"\",\"\",VLOOKUP(AN159,[4]ItemConfig!$A:$C,3,FALSE)&AO159)","v":""},{"$f":"IF(AP159=\"\",\"\",VLOOKUP(AP159,[4]ItemConfig!$A:$C,3,FALSE)&AQ159)","v":""},{"$f":"IF(AR159=\"\",\"\",VLOOKUP(AR159,[4]ItemConfig!$A:$C,3,FALSE)&AS159)","v":""},{"$f":"IF(AT159=\"\",\"\",VLOOKUP(AT159,[4]ItemConfig!$A:$C,3,FALSE)&AU159)","v":""},{"$f":"IF(AV159=\"\",\"\",VLOOKUP(AV159,[4]ItemConfig!$A:$C,3,FALSE)&AW159)","v":""},{"$f":"IF(AX159=\"\",\"\",VLOOKUP(AX159,[4]ItemConfig!$A:$C,3,FALSE)&AY159)","v":""}]
[156,156,6,16,6,"230;235;243","炼虚","前期.","六重",230,235,243,{"$f":"ROUND([1]ResourceLevelConfig!$E160*[1]ResourceLevelConfig!$L160*0.1,0)*10","v":7050},-1,0,-1,-1,-1,-1,0,{"$f":"[3]主表!K158","v":3958.9745636574762},{"$f":"[3]主表!L158","v":62.962030479293929},{"$f":"[3]主表!M158","v":62.962030479293929},{"$f":"[3]主表!N158","v":0},{"$f":"[3]主表!$G158","v":33173},{"$f":"[3]升级!$H158","v":1500},{"$f":"MAX(0.1,ROUND(100/(24*3600)*VLOOKUP(B160,[1]ResourceLevelConfig!$A:$E,5,FALSE),2))","v":0.54},-1,4,4,4,1670,null,null,null,1,3,156,null,null,"",null,"",null,{"$f":"IF(AR160=\"\",\"\",1)","v":""},null,{"$f":"IF(AT160=\"\",\"\",1)","v":""},null,{"$f":"IF(AV160=\"\",\"\",1)","v":""},null,{"$f":"IF(AX160=\"\",\"\",1)","v":""},{"$f":"IF(AN160=\"\",\"\",VLOOKUP(AN160,[4]ItemConfig!$A:$C,3,FALSE)&AO160)","v":""},{"$f":"IF(AP160=\"\",\"\",VLOOKUP(AP160,[4]ItemConfig!$A:$C,3,FALSE)&AQ160)","v":""},{"$f":"IF(AR160=\"\",\"\",VLOOKUP(AR160,[4]ItemConfig!$A:$C,3,FALSE)&AS160)","v":""},{"$f":"IF(AT160=\"\",\"\",VLOOKUP(AT160,[4]ItemConfig!$A:$C,3,FALSE)&AU160)","v":""},{"$f":"IF(AV160=\"\",\"\",VLOOKUP(AV160,[4]ItemConfig!$A:$C,3,FALSE)&AW160)","v":""},{"$f":"IF(AX160=\"\",\"\",VLOOKUP(AX160,[4]ItemConfig!$A:$C,3,FALSE)&AY160)","v":""}]
[157,157,6,16,7,"230;235;244","炼虚","前期.","七重",230,235,244,{"$f":"ROUND([1]ResourceLevelConfig!$E161*[1]ResourceLevelConfig!$L161*0.1,0)*10","v":7200},-1,0,-1,-1,-1,-1,0,{"$f":"[3]主表!K159","v":4036.256134944997},{"$f":"[3]主表!L159","v":63.812133010540919},{"$f":"[3]主表!M159","v":63.812133010540919},{"$f":"[3]主表!N159","v":0},{"$f":"[3]主表!$G159","v":33653},{"$f":"[3]升级!$H159","v":1500},{"$f":"MAX(0.1,ROUND(100/(24*3600)*VLOOKUP(B161,[1]ResourceLevelConfig!$A:$E,5,FALSE),2))","v":0.56000000000000005},-1,4,4,4,1680,null,null,null,1,3,157,null,null,"",null,"",null,{"$f":"IF(AR161=\"\",\"\",1)","v":""},null,{"$f":"IF(AT161=\"\",\"\",1)","v":""},null,{"$f":"IF(AV161=\"\",\"\",1)","v":""},null,{"$f":"IF(AX161=\"\",\"\",1)","v":""},{"$f":"IF(AN161=\"\",\"\",VLOOKUP(AN161,[4]ItemConfig!$A:$C,3,FALSE)&AO161)","v":""},{"$f":"IF(AP161=\"\",\"\",VLOOKUP(AP161,[4]ItemConfig!$A:$C,3,FALSE)&AQ161)","v":""},{"$f":"IF(AR161=\"\",\"\",VLOOKUP(AR161,[4]ItemConfig!$A:$C,3,FALSE)&AS161)","v":""},{"$f":"IF(AT161=\"\",\"\",VLOOKUP(AT161,[4]ItemConfig!$A:$C,3,FALSE)&AU161)","v":""},{"$f":"IF(AV161=\"\",\"\",VLOOKUP(AV161,[4]ItemConfig!$A:$C,3,FALSE)&AW161)","v":""},{"$f":"IF(AX161=\"\",\"\",VLOOKUP(AX161,[4]ItemConfig!$A:$C,3,FALSE)&AY161)","v":""}]
[158,158,6,16,8,"230;235;245","炼虚","前期.","八重",230,235,245,{"$f":"ROUND([1]ResourceLevelConfig!$E162*[1]ResourceLevelConfig!$L162*0.1,0)*10","v":7200},-1,0,-1,-1,-1,-1,0,{"$f":"[3]主表!K160","v":4114.9028726911647},{"$f":"[3]主表!L160","v":64.673713480287219},{"$f":"[3]主表!M160","v":64.673713480287219},{"$f":"[3]主表!N160","v":0},{"$f":"[3]主表!$G160","v":34141},{"$f":"[3]升级!$H160","v":1500},{"$f":"MAX(0.1,ROUND(100/(24*3600)*VLOOKUP(B162,[1]ResourceLevelConfig!$A:$E,5,FALSE),2))","v":0.56000000000000005},-1,4,4,4,1690,null,null,null,1,3,158,null,null,"",null,"",null,{"$f":"IF(AR162=\"\",\"\",1)","v":""},null,{"$f":"IF(AT162=\"\",\"\",1)","v":""},null,{"$f":"IF(AV162=\"\",\"\",1)","v":""},null,{"$f":"IF(AX162=\"\",\"\",1)","v":""},{"$f":"IF(AN162=\"\",\"\",VLOOKUP(AN162,[4]ItemConfig!$A:$C,3,FALSE)&AO162)","v":""},{"$f":"IF(AP162=\"\",\"\",VLOOKUP(AP162,[4]ItemConfig!$A:$C,3,FALSE)&AQ162)","v":""},{"$f":"IF(AR162=\"\",\"\",VLOOKUP(AR162,[4]ItemConfig!$A:$C,3,FALSE)&AS162)","v":""},{"$f":"IF(AT162=\"\",\"\",VLOOKUP(AT162,[4]ItemConfig!$A:$C,3,FALSE)&AU162)","v":""},{"$f":"IF(AV162=\"\",\"\",VLOOKUP(AV162,[4]ItemConfig!$A:$C,3,FALSE)&AW162)","v":""},{"$f":"IF(AX162=\"\",\"\",VLOOKUP(AX162,[4]ItemConfig!$A:$C,3,FALSE)&AY162)","v":""}]
[159,159,6,16,9,"230;235;246","炼虚","前期.","九重",230,235,246,{"$f":"ROUND([1]ResourceLevelConfig!$E163*[1]ResourceLevelConfig!$L163*0.1,0)*10","v":7350},-1,0,-1,-1,-1,-1,{"$f":"IF(G163=G164,0,CONCATENATE(\"1;1\"))","v":0},{"$f":"[3]主表!K161","v":4194.9375530007319},{"$f":"[3]主表!L161","v":65.546926861688817},{"$f":"[3]主表!M161","v":65.546926861688817},{"$f":"[3]主表!N161","v":0},{"$f":"[3]主表!$G161","v":34636},{"$f":"[3]升级!$H161","v":1500},{"$f":"MAX(0.1,ROUND(100/(24*3600)*VLOOKUP(B163,[1]ResourceLevelConfig!$A:$E,5,FALSE),2))","v":0.56999999999999995},-1,4,4,4,1700,null,null,null,1,3,159,null,null,"",null,"",null,{"$f":"IF(AR163=\"\",\"\",1)","v":""},null,{"$f":"IF(AT163=\"\",\"\",1)","v":""},null,{"$f":"IF(AV163=\"\",\"\",1)","v":""},null,{"$f":"IF(AX163=\"\",\"\",1)","v":""},{"$f":"IF(AN163=\"\",\"\",VLOOKUP(AN163,[4]ItemConfig!$A:$C,3,FALSE)&AO163)","v":""},{"$f":"IF(AP163=\"\",\"\",VLOOKUP(AP163,[4]ItemConfig!$A:$C,3,FALSE)&AQ163)","v":""},{"$f":"IF(AR163=\"\",\"\",VLOOKUP(AR163,[4]ItemConfig!$A:$C,3,FALSE)&AS163)","v":""},{"$f":"IF(AT163=\"\",\"\",VLOOKUP(AT163,[4]ItemConfig!$A:$C,3,FALSE)&AU163)","v":""},{"$f":"IF(AV163=\"\",\"\",VLOOKUP(AV163,[4]ItemConfig!$A:$C,3,FALSE)&AW163)","v":""},{"$f":"IF(AX163=\"\",\"\",VLOOKUP(AX163,[4]ItemConfig!$A:$C,3,FALSE)&AY163)","v":""}]
[160,160,6,16,10,"230;235;247","炼虚","前期.","十重",230,235,247,{"$f":"ROUND([1]ResourceLevelConfig!$E164*[1]ResourceLevelConfig!$L164*0.1,0)*10","v":7350},100004,0,{"$f":"AN164","v":1316},{"$f":"AO164","v":1},{"$f":"_xlfn.TEXTJOIN(\";\",1,AP164,AR164,AT164,AV164)","v":"1210;1211;1212"},{"$f":"_xlfn.TEXTJOIN(\";\",1,AQ164,AS164,AU164,AW164)","v":"1;1;1"},0,{"$f":"[3]主表!K162","v":4276.3833181475848},{"$f":"[3]主表!L162","v":66.431930220322684},{"$f":"[3]主表!M162","v":66.431930220322684},{"$f":"[3]主表!N162","v":175.7},{"$f":"[3]主表!$G162","v":35139},{"$f":"[3]升级!$H162","v":1500},{"$f":"MAX(0.1,ROUND(100/(24*3600)*VLOOKUP(B164,[1]ResourceLevelConfig!$A:$E,5,FALSE),2))","v":0.56999999999999995},20,4,4,4,1710,null,null,null,1,3,160,null,1316,1,1210,1,1211,{"$f":"IF(AR164=\"\",\"\",1)","v":1},1212,{"$f":"IF(AT164=\"\",\"\",1)","v":1},null,{"$f":"IF(AV164=\"\",\"\",1)","v":""},null,{"$f":"IF(AX164=\"\",\"\",1)","v":""},{"$f":"IF(AN164=\"\",\"\",VLOOKUP(AN164,[4]ItemConfig!$A:$C,3,FALSE)&AO164)","v":"虚灵丹1"},{"$f":"IF(AP164=\"\",\"\",VLOOKUP(AP164,[4]ItemConfig!$A:$C,3,FALSE)&AQ164)","v":"丹心花1"},{"$f":"IF(AR164=\"\",\"\",VLOOKUP(AR164,[4]ItemConfig!$A:$C,3,FALSE)&AS164)","v":"太冥草1"},{"$f":"IF(AT164=\"\",\"\",VLOOKUP(AT164,[4]ItemConfig!$A:$C,3,FALSE)&AU164)","v":"星炎草1"},{"$f":"IF(AV164=\"\",\"\",VLOOKUP(AV164,[4]ItemConfig!$A:$C,3,FALSE)&AW164)","v":""},{"$f":"IF(AX164=\"\",\"\",VLOOKUP(AX164,[4]ItemConfig!$A:$C,3,FALSE)&AY164)","v":""}]
[161,161,6,17,1,"230;236;238","炼虚","中期.","一重",230,236,238,{"$f":"ROUND([1]ResourceLevelConfig!$E165*[1]ResourceLevelConfig!$L165*0.1,0)*10","v":7500},-1,0,-1,-1,{"$f":"IF(I165=10,\"1001;1002;1004\",-1)","v":-1},-1,0,{"$f":"[3]主表!K163","v":4731.3087319356182},{"$f":"[3]主表!L163","v":73.075123242354962},{"$f":"[3]主表!M163","v":73.075123242354962},{"$f":"[3]主表!N163","v":197.59},{"$f":"[3]主表!$G163","v":39518},{"$f":"[3]升级!$H163","v":1500},{"$f":"MAX(0.1,ROUND(100/(24*3600)*VLOOKUP(B165,[1]ResourceLevelConfig!$A:$E,5,FALSE),2))","v":0.57999999999999996},-1,4,4,4,1720,null,null,null,1,3,161,null,null,"",null,"",null,{"$f":"IF(AR165=\"\",\"\",1)","v":""},null,{"$f":"IF(AT165=\"\",\"\",1)","v":""},null,{"$f":"IF(AV165=\"\",\"\",1)","v":""},null,{"$f":"IF(AX165=\"\",\"\",1)","v":""},{"$f":"IF(AN165=\"\",\"\",VLOOKUP(AN165,[4]ItemConfig!$A:$C,3,FALSE)&AO165)","v":""},{"$f":"IF(AP165=\"\",\"\",VLOOKUP(AP165,[4]ItemConfig!$A:$C,3,FALSE)&AQ165)","v":""},{"$f":"IF(AR165=\"\",\"\",VLOOKUP(AR165,[4]ItemConfig!$A:$C,3,FALSE)&AS165)","v":""},{"$f":"IF(AT165=\"\",\"\",VLOOKUP(AT165,[4]ItemConfig!$A:$C,3,FALSE)&AU165)","v":""},{"$f":"IF(AV165=\"\",\"\",VLOOKUP(AV165,[4]ItemConfig!$A:$C,3,FALSE)&AW165)","v":""},{"$f":"IF(AX165=\"\",\"\",VLOOKUP(AX165,[4]ItemConfig!$A:$C,3,FALSE)&AY165)","v":""}]
[162,162,6,17,2,"230;236;239","炼虚","中期.","二重",230,236,239,{"$f":"ROUND([1]ResourceLevelConfig!$E166*[1]ResourceLevelConfig!$L166*0.1,0)*10","v":7500},-1,0,-1,-1,-1,-1,0,{"$f":"[3]主表!K164","v":4822.8455580132468},{"$f":"[3]主表!L164","v":74.061771016682073},{"$f":"[3]主表!M164","v":74.061771016682073},{"$f":"[3]主表!N164","v":200.42},{"$f":"[3]主表!$G164","v":40083},{"$f":"[3]升级!$H164","v":1500},{"$f":"MAX(0.1,ROUND(100/(24*3600)*VLOOKUP(B166,[1]ResourceLevelConfig!$A:$E,5,FALSE),2))","v":0.57999999999999996},-1,4,4,4,1730,null,null,null,1,3,162,null,null,"",null,"",null,{"$f":"IF(AR166=\"\",\"\",1)","v":""},null,{"$f":"IF(AT166=\"\",\"\",1)","v":""},null,{"$f":"IF(AV166=\"\",\"\",1)","v":""},null,{"$f":"IF(AX166=\"\",\"\",1)","v":""},{"$f":"IF(AN166=\"\",\"\",VLOOKUP(AN166,[4]ItemConfig!$A:$C,3,FALSE)&AO166)","v":""},{"$f":"IF(AP166=\"\",\"\",VLOOKUP(AP166,[4]ItemConfig!$A:$C,3,FALSE)&AQ166)","v":""},{"$f":"IF(AR166=\"\",\"\",VLOOKUP(AR166,[4]ItemConfig!$A:$C,3,FALSE)&AS166)","v":""},{"$f":"IF(AT166=\"\",\"\",VLOOKUP(AT166,[4]ItemConfig!$A:$C,3,FALSE)&AU166)","v":""},{"$f":"IF(AV166=\"\",\"\",VLOOKUP(AV166,[4]ItemConfig!$A:$C,3,FALSE)&AW166)","v":""},{"$f":"IF(AX166=\"\",\"\",VLOOKUP(AX166,[4]ItemConfig!$A:$C,3,FALSE)&AY166)","v":""}]
[163,163,6,17,3,"230;236;240","炼虚","中期.","三重",230,236,240,{"$f":"ROUND([1]ResourceLevelConfig!$E167*[1]ResourceLevelConfig!$L167*0.1,0)*10","v":7650},-1,0,-1,-1,-1,-1,0,{"$f":"[3]主表!K165","v":4915.9916985250557},{"$f":"[3]主表!L165","v":75.061740339949409},{"$f":"[3]主表!M165","v":75.061740339949409},{"$f":"[3]主表!N165","v":203.29},{"$f":"[3]主表!$G165","v":40657},{"$f":"[3]升级!$H165","v":1500},{"$f":"MAX(0.1,ROUND(100/(24*3600)*VLOOKUP(B167,[1]ResourceLevelConfig!$A:$E,5,FALSE),2))","v":0.59},-1,4,4,4,1740,null,null,null,1,3,163,null,null,"",null,"",null,{"$f":"IF(AR167=\"\",\"\",1)","v":""},null,{"$f":"IF(AT167=\"\",\"\",1)","v":""},null,{"$f":"IF(AV167=\"\",\"\",1)","v":""},null,{"$f":"IF(AX167=\"\",\"\",1)","v":""},{"$f":"IF(AN167=\"\",\"\",VLOOKUP(AN167,[4]ItemConfig!$A:$C,3,FALSE)&AO167)","v":""},{"$f":"IF(AP167=\"\",\"\",VLOOKUP(AP167,[4]ItemConfig!$A:$C,3,FALSE)&AQ167)","v":""},{"$f":"IF(AR167=\"\",\"\",VLOOKUP(AR167,[4]ItemConfig!$A:$C,3,FALSE)&AS167)","v":""},{"$f":"IF(AT167=\"\",\"\",VLOOKUP(AT167,[4]ItemConfig!$A:$C,3,FALSE)&AU167)","v":""},{"$f":"IF(AV167=\"\",\"\",VLOOKUP(AV167,[4]ItemConfig!$A:$C,3,FALSE)&AW167)","v":""},{"$f":"IF(AX167=\"\",\"\",VLOOKUP(AX167,[4]ItemConfig!$A:$C,3,FALSE)&AY167)","v":""}]
[164,164,6,17,4,"230;236;241","炼虚","中期.","四重",230,236,241,{"$f":"ROUND([1]ResourceLevelConfig!$E168*[1]ResourceLevelConfig!$L168*0.1,0)*10","v":7650},-1,0,-1,-1,-1,-1,0,{"$f":"[3]主表!K166","v":5010.7739237399646},{"$f":"[3]主表!L166","v":76.075211077424754},{"$f":"[3]主表!M166","v":76.075211077424754},{"$f":"[3]主表!N166","v":206.2},{"$f":"[3]主表!$G166","v":41240},{"$f":"[3]升级!$H166","v":1500},{"$f":"MAX(0.1,ROUND(100/(24*3600)*VLOOKUP(B168,[1]ResourceLevelConfig!$A:$E,5,FALSE),2))","v":0.59},-1,4,4,4,1750,null,null,null,1,3,164,null,null,"",null,"",null,{"$f":"IF(AR168=\"\",\"\",1)","v":""},null,{"$f":"IF(AT168=\"\",\"\",1)","v":""},null,{"$f":"IF(AV168=\"\",\"\",1)","v":""},null,{"$f":"IF(AX168=\"\",\"\",1)","v":""},{"$f":"IF(AN168=\"\",\"\",VLOOKUP(AN168,[4]ItemConfig!$A:$C,3,FALSE)&AO168)","v":""},{"$f":"IF(AP168=\"\",\"\",VLOOKUP(AP168,[4]ItemConfig!$A:$C,3,FALSE)&AQ168)","v":""},{"$f":"IF(AR168=\"\",\"\",VLOOKUP(AR168,[4]ItemConfig!$A:$C,3,FALSE)&AS168)","v":""},{"$f":"IF(AT168=\"\",\"\",VLOOKUP(AT168,[4]ItemConfig!$A:$C,3,FALSE)&AU168)","v":""},{"$f":"IF(AV168=\"\",\"\",VLOOKUP(AV168,[4]ItemConfig!$A:$C,3,FALSE)&AW168)","v":""},{"$f":"IF(AX168=\"\",\"\",VLOOKUP(AX168,[4]ItemConfig!$A:$C,3,FALSE)&AY168)","v":""}]
[165,165,6,17,5,"230;236;242","炼虚","中期.","五重",230,236,242,{"$f":"ROUND([1]ResourceLevelConfig!$E169*[1]ResourceLevelConfig!$L169*0.1,0)*10","v":7800},-1,0,-1,-1,-1,-1,0,{"$f":"[3]主表!K167","v":5107.2194334450487},{"$f":"[3]主表!L167","v":77.102365522885918},{"$f":"[3]主表!M167","v":77.102365522885918},{"$f":"[3]主表!N167","v":209.16},{"$f":"[3]主表!$G167","v":41831},{"$f":"[3]升级!$H167","v":1500},{"$f":"MAX(0.1,ROUND(100/(24*3600)*VLOOKUP(B169,[1]ResourceLevelConfig!$A:$E,5,FALSE),2))","v":0.6},-1,4,4,4,1760,null,null,null,1,3,165,null,null,"",null,"",null,{"$f":"IF(AR169=\"\",\"\",1)","v":""},null,{"$f":"IF(AT169=\"\",\"\",1)","v":""},null,{"$f":"IF(AV169=\"\",\"\",1)","v":""},null,{"$f":"IF(AX169=\"\",\"\",1)","v":""},{"$f":"IF(AN169=\"\",\"\",VLOOKUP(AN169,[4]ItemConfig!$A:$C,3,FALSE)&AO169)","v":""},{"$f":"IF(AP169=\"\",\"\",VLOOKUP(AP169,[4]ItemConfig!$A:$C,3,FALSE)&AQ169)","v":""},{"$f":"IF(AR169=\"\",\"\",VLOOKUP(AR169,[4]ItemConfig!$A:$C,3,FALSE)&AS169)","v":""},{"$f":"IF(AT169=\"\",\"\",VLOOKUP(AT169,[4]ItemConfig!$A:$C,3,FALSE)&AU169)","v":""},{"$f":"IF(AV169=\"\",\"\",VLOOKUP(AV169,[4]ItemConfig!$A:$C,3,FALSE)&AW169)","v":""},{"$f":"IF(AX169=\"\",\"\",VLOOKUP(AX169,[4]ItemConfig!$A:$C,3,FALSE)&AY169)","v":""}]
[166,166,6,17,6,"230;236;243","炼虚","中期.","六重",230,236,243,{"$f":"ROUND([1]ResourceLevelConfig!$E170*[1]ResourceLevelConfig!$L170*0.1,0)*10","v":7800},-1,0,-1,-1,-1,-1,0,{"$f":"[3]主表!K168","v":5205.3558636638818},{"$f":"[3]主表!L168","v":78.143388431409988},{"$f":"[3]主表!M168","v":78.143388431409988},{"$f":"[3]主表!N168","v":212.16},{"$f":"[3]主表!$G168","v":42432},{"$f":"[3]升级!$H168","v":1500},{"$f":"MAX(0.1,ROUND(100/(24*3600)*VLOOKUP(B170,[1]ResourceLevelConfig!$A:$E,5,FALSE),2))","v":0.6},-1,4,4,4,1770,null,null,null,1,3,166,null,null,"",null,"",null,{"$f":"IF(AR170=\"\",\"\",1)","v":""},null,{"$f":"IF(AT170=\"\",\"\",1)","v":""},null,{"$f":"IF(AV170=\"\",\"\",1)","v":""},null,{"$f":"IF(AX170=\"\",\"\",1)","v":""},{"$f":"IF(AN170=\"\",\"\",VLOOKUP(AN170,[4]ItemConfig!$A:$C,3,FALSE)&AO170)","v":""},{"$f":"IF(AP170=\"\",\"\",VLOOKUP(AP170,[4]ItemConfig!$A:$C,3,FALSE)&AQ170)","v":""},{"$f":"IF(AR170=\"\",\"\",VLOOKUP(AR170,[4]ItemConfig!$A:$C,3,FALSE)&AS170)","v":""},{"$f":"IF(AT170=\"\",\"\",VLOOKUP(AT170,[4]ItemConfig!$A:$C,3,FALSE)&AU170)","v":""},{"$f":"IF(AV170=\"\",\"\",VLOOKUP(AV170,[4]ItemConfig!$A:$C,3,FALSE)&AW170)","v":""},{"$f":"IF(AX170=\"\",\"\",VLOOKUP(AX170,[4]ItemConfig!$A:$C,3,FALSE)&AY170)","v":""}]
[167,167,6,17,7,"230;236;244","炼虚","中期.","七重",230,236,244,{"$f":"ROUND([1]ResourceLevelConfig!$E171*[1]ResourceLevelConfig!$L171*0.1,0)*10","v":7950},-1,0,-1,-1,-1,-1,0,{"$f":"[3]主表!K169","v":5305.2112934780225},{"$f":"[3]主表!L169","v":79.198467052605423},{"$f":"[3]主表!M169","v":79.198467052605423},{"$f":"[3]主表!N169","v":215.21},{"$f":"[3]主表!$G169","v":43042},{"$f":"[3]升级!$H169","v":1500},{"$f":"MAX(0.1,ROUND(100/(24*3600)*VLOOKUP(B171,[1]ResourceLevelConfig!$A:$E,5,FALSE),2))","v":0.61},-1,4,4,4,1780,null,null,null,1,3,167,null,null,"",null,"",null,{"$f":"IF(AR171=\"\",\"\",1)","v":""},null,{"$f":"IF(AT171=\"\",\"\",1)","v":""},null,{"$f":"IF(AV171=\"\",\"\",1)","v":""},null,{"$f":"IF(AX171=\"\",\"\",1)","v":""},{"$f":"IF(AN171=\"\",\"\",VLOOKUP(AN171,[4]ItemConfig!$A:$C,3,FALSE)&AO171)","v":""},{"$f":"IF(AP171=\"\",\"\",VLOOKUP(AP171,[4]ItemConfig!$A:$C,3,FALSE)&AQ171)","v":""},{"$f":"IF(AR171=\"\",\"\",VLOOKUP(AR171,[4]ItemConfig!$A:$C,3,FALSE)&AS171)","v":""},{"$f":"IF(AT171=\"\",\"\",VLOOKUP(AT171,[4]ItemConfig!$A:$C,3,FALSE)&AU171)","v":""},{"$f":"IF(AV171=\"\",\"\",VLOOKUP(AV171,[4]ItemConfig!$A:$C,3,FALSE)&AW171)","v":""},{"$f":"IF(AX171=\"\",\"\",VLOOKUP(AX171,[4]ItemConfig!$A:$C,3,FALSE)&AY171)","v":""}]
[168,168,6,17,8,"230;236;245","炼虚","中期.","八重",230,236,245,{"$f":"ROUND([1]ResourceLevelConfig!$E172*[1]ResourceLevelConfig!$L172*0.1,0)*10","v":7950},-1,0,-1,-1,-1,-1,0,{"$f":"[3]主表!K170","v":5406.8142519531657},{"$f":"[3]主表!L170","v":80.26779116429276},{"$f":"[3]主表!M170","v":80.26779116429276},{"$f":"[3]主表!N170","v":218.31},{"$f":"[3]主表!$G170","v":43662},{"$f":"[3]升级!$H170","v":1500},{"$f":"MAX(0.1,ROUND(100/(24*3600)*VLOOKUP(B172,[1]ResourceLevelConfig!$A:$E,5,FALSE),2))","v":0.61},-1,4,4,4,1790,null,null,null,1,3,168,null,null,"",null,"",null,{"$f":"IF(AR172=\"\",\"\",1)","v":""},null,{"$f":"IF(AT172=\"\",\"\",1)","v":""},null,{"$f":"IF(AV172=\"\",\"\",1)","v":""},null,{"$f":"IF(AX172=\"\",\"\",1)","v":""},{"$f":"IF(AN172=\"\",\"\",VLOOKUP(AN172,[4]ItemConfig!$A:$C,3,FALSE)&AO172)","v":""},{"$f":"IF(AP172=\"\",\"\",VLOOKUP(AP172,[4]ItemConfig!$A:$C,3,FALSE)&AQ172)","v":""},{"$f":"IF(AR172=\"\",\"\",VLOOKUP(AR172,[4]ItemConfig!$A:$C,3,FALSE)&AS172)","v":""},{"$f":"IF(AT172=\"\",\"\",VLOOKUP(AT172,[4]ItemConfig!$A:$C,3,FALSE)&AU172)","v":""},{"$f":"IF(AV172=\"\",\"\",VLOOKUP(AV172,[4]ItemConfig!$A:$C,3,FALSE)&AW172)","v":""},{"$f":"IF(AX172=\"\",\"\",VLOOKUP(AX172,[4]ItemConfig!$A:$C,3,FALSE)&AY172)","v":""}]
[169,169,6,17,9,"230;236;246","炼虚","中期.","九重",230,236,246,{"$f":"ROUND([1]ResourceLevelConfig!$E173*[1]ResourceLevelConfig!$L173*0.1,0)*10","v":8100},-1,0,-1,-1,-1,-1,0,{"$f":"[3]主表!K171","v":5510.193725171559},{"$f":"[3]主表!L171","v":81.351553106640068},{"$f":"[3]主表!M171","v":81.351553106640068},{"$f":"[3]主表!N171","v":221.46},{"$f":"[3]主表!$G171","v":44291},{"$f":"[3]升级!$H171","v":1500},{"$f":"MAX(0.1,ROUND(100/(24*3600)*VLOOKUP(B173,[1]ResourceLevelConfig!$A:$E,5,FALSE),2))","v":0.63},-1,4,4,4,1800,null,null,null,1,3,169,null,null,"",null,"",null,{"$f":"IF(AR173=\"\",\"\",1)","v":""},null,{"$f":"IF(AT173=\"\",\"\",1)","v":""},null,{"$f":"IF(AV173=\"\",\"\",1)","v":""},null,{"$f":"IF(AX173=\"\",\"\",1)","v":""},{"$f":"IF(AN173=\"\",\"\",VLOOKUP(AN173,[4]ItemConfig!$A:$C,3,FALSE)&AO173)","v":""},{"$f":"IF(AP173=\"\",\"\",VLOOKUP(AP173,[4]ItemConfig!$A:$C,3,FALSE)&AQ173)","v":""},{"$f":"IF(AR173=\"\",\"\",VLOOKUP(AR173,[4]ItemConfig!$A:$C,3,FALSE)&AS173)","v":""},{"$f":"IF(AT173=\"\",\"\",VLOOKUP(AT173,[4]ItemConfig!$A:$C,3,FALSE)&AU173)","v":""},{"$f":"IF(AV173=\"\",\"\",VLOOKUP(AV173,[4]ItemConfig!$A:$C,3,FALSE)&AW173)","v":""},{"$f":"IF(AX173=\"\",\"\",VLOOKUP(AX173,[4]ItemConfig!$A:$C,3,FALSE)&AY173)","v":""}]
[170,170,6,17,10,"230;236;247","炼虚","中期.","十重",230,236,247,{"$f":"ROUND([1]ResourceLevelConfig!$E174*[1]ResourceLevelConfig!$L174*0.1,0)*10","v":8100},100004,0,{"$f":"AN174","v":1317},{"$f":"AO174","v":1},{"$f":"_xlfn.TEXTJOIN(\";\",1,AP174,AR174,AT174,AV174)","v":"1210;1211;1212"},{"$f":"_xlfn.TEXTJOIN(\";\",1,AQ174,AS174,AU174,AW174)","v":"1;1;1"},0,{"$f":"[3]主表!K172","v":5615.379163372294},{"$f":"[3]主表!L172","v":82.449947816759391},{"$f":"[3]主表!M172","v":82.449947816759391},{"$f":"[3]主表!N172","v":247.11},{"$f":"[3]主表!$G172","v":44929},{"$f":"[3]升级!$H172","v":1500},{"$f":"MAX(0.1,ROUND(100/(24*3600)*VLOOKUP(B174,[1]ResourceLevelConfig!$A:$E,5,FALSE),2))","v":0.63},20,4,4,4,1810,null,null,null,1,3,170,null,1317,1,1210,1,1211,{"$f":"IF(AR174=\"\",\"\",1)","v":1},1212,{"$f":"IF(AT174=\"\",\"\",1)","v":1},null,{"$f":"IF(AV174=\"\",\"\",1)","v":""},null,{"$f":"IF(AX174=\"\",\"\",1)","v":""},{"$f":"IF(AN174=\"\",\"\",VLOOKUP(AN174,[4]ItemConfig!$A:$C,3,FALSE)&AO174)","v":"梦魇藤1"},{"$f":"IF(AP174=\"\",\"\",VLOOKUP(AP174,[4]ItemConfig!$A:$C,3,FALSE)&AQ174)","v":"丹心花1"},{"$f":"IF(AR174=\"\",\"\",VLOOKUP(AR174,[4]ItemConfig!$A:$C,3,FALSE)&AS174)","v":"太冥草1"},{"$f":"IF(AT174=\"\",\"\",VLOOKUP(AT174,[4]ItemConfig!$A:$C,3,FALSE)&AU174)","v":"星炎草1"},{"$f":"IF(AV174=\"\",\"\",VLOOKUP(AV174,[4]ItemConfig!$A:$C,3,FALSE)&AW174)","v":""},{"$f":"IF(AX174=\"\",\"\",VLOOKUP(AX174,[4]ItemConfig!$A:$C,3,FALSE)&AY174)","v":""}]
[171,171,6,18,1,"230;237;238","炼虚","后期.","一重",230,237,238,{"$f":"ROUND([1]ResourceLevelConfig!$E175*[1]ResourceLevelConfig!$L175*0.1,0)*10","v":8250},-1,0,-1,-1,{"$f":"IF(I175=10,\"1001;1002;1004\",-1)","v":-1},-1,0,{"$f":"[3]主表!K173","v":6210.7836025895076},{"$f":"[3]主表!L173","v":90.694942598435333},{"$f":"[3]主表!M173","v":90.694942598435333},{"$f":"[3]主表!N173","v":277.89},{"$f":"[3]主表!$G173","v":50525},{"$f":"[3]升级!$H173","v":1500},{"$f":"MAX(0.1,ROUND(100/(24*3600)*VLOOKUP(B175,[1]ResourceLevelConfig!$A:$E,5,FALSE),2))","v":0.64},-1,4,4,4,1820,null,null,null,1,3,171,null,null,"",null,"",null,{"$f":"IF(AR175=\"\",\"\",1)","v":""},null,{"$f":"IF(AT175=\"\",\"\",1)","v":""},null,{"$f":"IF(AV175=\"\",\"\",1)","v":""},null,{"$f":"IF(AX175=\"\",\"\",1)","v":""},{"$f":"IF(AN175=\"\",\"\",VLOOKUP(AN175,[4]ItemConfig!$A:$C,3,FALSE)&AO175)","v":""},{"$f":"IF(AP175=\"\",\"\",VLOOKUP(AP175,[4]ItemConfig!$A:$C,3,FALSE)&AQ175)","v":""},{"$f":"IF(AR175=\"\",\"\",VLOOKUP(AR175,[4]ItemConfig!$A:$C,3,FALSE)&AS175)","v":""},{"$f":"IF(AT175=\"\",\"\",VLOOKUP(AT175,[4]ItemConfig!$A:$C,3,FALSE)&AU175)","v":""},{"$f":"IF(AV175=\"\",\"\",VLOOKUP(AV175,[4]ItemConfig!$A:$C,3,FALSE)&AW175)","v":""},{"$f":"IF(AX175=\"\",\"\",VLOOKUP(AX175,[4]ItemConfig!$A:$C,3,FALSE)&AY175)","v":""}]
[172,172,6,18,2,"230;237;239","炼虚","后期.","二重",230,237,239,{"$f":"ROUND([1]ResourceLevelConfig!$E176*[1]ResourceLevelConfig!$L176*0.1,0)*10","v":8250},-1,0,-1,-1,-1,-1,0,{"$f":"[3]主表!K174","v":6328.9643198816193},{"$f":"[3]主表!L174","v":91.919490150147254},{"$f":"[3]主表!M174","v":91.919490150147254},{"$f":"[3]主表!N174","v":281.83999999999997},{"$f":"[3]主表!$G174","v":51243},{"$f":"[3]升级!$H174","v":1500},{"$f":"MAX(0.1,ROUND(100/(24*3600)*VLOOKUP(B176,[1]ResourceLevelConfig!$A:$E,5,FALSE),2))","v":0.64},-1,4,4,4,1830,null,null,null,1,3,172,null,null,"",null,"",null,{"$f":"IF(AR176=\"\",\"\",1)","v":""},null,{"$f":"IF(AT176=\"\",\"\",1)","v":""},null,{"$f":"IF(AV176=\"\",\"\",1)","v":""},null,{"$f":"IF(AX176=\"\",\"\",1)","v":""},{"$f":"IF(AN176=\"\",\"\",VLOOKUP(AN176,[4]ItemConfig!$A:$C,3,FALSE)&AO176)","v":""},{"$f":"IF(AP176=\"\",\"\",VLOOKUP(AP176,[4]ItemConfig!$A:$C,3,FALSE)&AQ176)","v":""},{"$f":"IF(AR176=\"\",\"\",VLOOKUP(AR176,[4]ItemConfig!$A:$C,3,FALSE)&AS176)","v":""},{"$f":"IF(AT176=\"\",\"\",VLOOKUP(AT176,[4]ItemConfig!$A:$C,3,FALSE)&AU176)","v":""},{"$f":"IF(AV176=\"\",\"\",VLOOKUP(AV176,[4]ItemConfig!$A:$C,3,FALSE)&AW176)","v":""},{"$f":"IF(AX176=\"\",\"\",VLOOKUP(AX176,[4]ItemConfig!$A:$C,3,FALSE)&AY176)","v":""}]
[173,173,6,18,3,"230;237;240","炼虚","后期.","三重",230,237,240,{"$f":"ROUND([1]ResourceLevelConfig!$E177*[1]ResourceLevelConfig!$L177*0.1,0)*10","v":8400},-1,0,-1,-1,-1,-1,0,{"$f":"[3]主表!K175","v":6449.2041267650175},{"$f":"[3]主表!L175","v":93.160571332770019},{"$f":"[3]主表!M175","v":93.160571332770019},{"$f":"[3]主表!N175","v":285.85000000000002},{"$f":"[3]主表!$G175","v":51972},{"$f":"[3]升级!$H175","v":1500},{"$f":"MAX(0.1,ROUND(100/(24*3600)*VLOOKUP(B177,[1]ResourceLevelConfig!$A:$E,5,FALSE),2))","v":0.65},-1,4,4,4,1840,null,null,null,1,3,173,null,null,"",null,"",null,{"$f":"IF(AR177=\"\",\"\",1)","v":""},null,{"$f":"IF(AT177=\"\",\"\",1)","v":""},null,{"$f":"IF(AV177=\"\",\"\",1)","v":""},null,{"$f":"IF(AX177=\"\",\"\",1)","v":""},{"$f":"IF(AN177=\"\",\"\",VLOOKUP(AN177,[4]ItemConfig!$A:$C,3,FALSE)&AO177)","v":""},{"$f":"IF(AP177=\"\",\"\",VLOOKUP(AP177,[4]ItemConfig!$A:$C,3,FALSE)&AQ177)","v":""},{"$f":"IF(AR177=\"\",\"\",VLOOKUP(AR177,[4]ItemConfig!$A:$C,3,FALSE)&AS177)","v":""},{"$f":"IF(AT177=\"\",\"\",VLOOKUP(AT177,[4]ItemConfig!$A:$C,3,FALSE)&AU177)","v":""},{"$f":"IF(AV177=\"\",\"\",VLOOKUP(AV177,[4]ItemConfig!$A:$C,3,FALSE)&AW177)","v":""},{"$f":"IF(AX177=\"\",\"\",VLOOKUP(AX177,[4]ItemConfig!$A:$C,3,FALSE)&AY177)","v":""}]
[174,174,6,18,4,"230;237;241","炼虚","后期.","四重",230,237,241,{"$f":"ROUND([1]ResourceLevelConfig!$E178*[1]ResourceLevelConfig!$L178*0.1,0)*10","v":8550},-1,0,-1,-1,-1,-1,0,{"$f":"[3]主表!K176","v":6571.5370819180207},{"$f":"[3]主表!L176","v":94.418409380551026},{"$f":"[3]主表!M176","v":94.418409380551026},{"$f":"[3]主表!N176","v":289.92},{"$f":"[3]主表!$G176","v":52712},{"$f":"[3]升级!$H176","v":1500},{"$f":"MAX(0.1,ROUND(100/(24*3600)*VLOOKUP(B178,[1]ResourceLevelConfig!$A:$E,5,FALSE),2))","v":0.66},-1,4,4,4,1850,null,null,null,1,3,174,null,null,"",null,"",null,{"$f":"IF(AR178=\"\",\"\",1)","v":""},null,{"$f":"IF(AT178=\"\",\"\",1)","v":""},null,{"$f":"IF(AV178=\"\",\"\",1)","v":""},null,{"$f":"IF(AX178=\"\",\"\",1)","v":""},{"$f":"IF(AN178=\"\",\"\",VLOOKUP(AN178,[4]ItemConfig!$A:$C,3,FALSE)&AO178)","v":""},{"$f":"IF(AP178=\"\",\"\",VLOOKUP(AP178,[4]ItemConfig!$A:$C,3,FALSE)&AQ178)","v":""},{"$f":"IF(AR178=\"\",\"\",VLOOKUP(AR178,[4]ItemConfig!$A:$C,3,FALSE)&AS178)","v":""},{"$f":"IF(AT178=\"\",\"\",VLOOKUP(AT178,[4]ItemConfig!$A:$C,3,FALSE)&AU178)","v":""},{"$f":"IF(AV178=\"\",\"\",VLOOKUP(AV178,[4]ItemConfig!$A:$C,3,FALSE)&AW178)","v":""},{"$f":"IF(AX178=\"\",\"\",VLOOKUP(AX178,[4]ItemConfig!$A:$C,3,FALSE)&AY178)","v":""}]
[175,175,6,18,5,"230;237;242","炼虚","后期.","五重",230,237,242,{"$f":"ROUND([1]ResourceLevelConfig!$E179*[1]ResourceLevelConfig!$L179*0.1,0)*10","v":8550},-1,0,-1,-1,-1,-1,0,{"$f":"[3]主表!K177","v":6695.9977883570737},{"$f":"[3]主表!L177","v":95.693230541808177},{"$f":"[3]主表!M177","v":95.693230541808177},{"$f":"[3]主表!N177","v":294.05},{"$f":"[3]主表!$G177","v":53464},{"$f":"[3]升级!$H177","v":1500},{"$f":"MAX(0.1,ROUND(100/(24*3600)*VLOOKUP(B179,[1]ResourceLevelConfig!$A:$E,5,FALSE),2))","v":0.66},-1,4,4,4,1860,null,null,null,1,3,175,null,null,"",null,"",null,{"$f":"IF(AR179=\"\",\"\",1)","v":""},null,{"$f":"IF(AT179=\"\",\"\",1)","v":""},null,{"$f":"IF(AV179=\"\",\"\",1)","v":""},null,{"$f":"IF(AX179=\"\",\"\",1)","v":""},{"$f":"IF(AN179=\"\",\"\",VLOOKUP(AN179,[4]ItemConfig!$A:$C,3,FALSE)&AO179)","v":""},{"$f":"IF(AP179=\"\",\"\",VLOOKUP(AP179,[4]ItemConfig!$A:$C,3,FALSE)&AQ179)","v":""},{"$f":"IF(AR179=\"\",\"\",VLOOKUP(AR179,[4]ItemConfig!$A:$C,3,FALSE)&AS179)","v":""},{"$f":"IF(AT179=\"\",\"\",VLOOKUP(AT179,[4]ItemConfig!$A:$C,3,FALSE)&AU179)","v":""},{"$f":"IF(AV179=\"\",\"\",VLOOKUP(AV179,[4]ItemConfig!$A:$C,3,FALSE)&AW179)","v":""},{"$f":"IF(AX179=\"\",\"\",VLOOKUP(AX179,[4]ItemConfig!$A:$C,3,FALSE)&AY179)","v":""}]
[176,176,6,18,6,"230;237;243","炼虚","后期.","六重",230,237,243,{"$f":"ROUND([1]ResourceLevelConfig!$E180*[1]ResourceLevelConfig!$L180*0.1,0)*10","v":8700},-1,0,-1,-1,-1,-1,0,{"$f":"[3]主表!K178","v":6822.6214019269864},{"$f":"[3]主表!L178","v":96.985264119625299},{"$f":"[3]主表!M178","v":96.985264119625299},{"$f":"[3]主表!N178","v":298.25},{"$f":"[3]主表!$G178","v":54227},{"$f":"[3]升级!$H178","v":1500},{"$f":"MAX(0.1,ROUND(100/(24*3600)*VLOOKUP(B180,[1]ResourceLevelConfig!$A:$E,5,FALSE),2))","v":0.67},-1,4,4,4,1870,null,null,null,1,3,176,null,null,"",null,"",null,{"$f":"IF(AR180=\"\",\"\",1)","v":""},null,{"$f":"IF(AT180=\"\",\"\",1)","v":""},null,{"$f":"IF(AV180=\"\",\"\",1)","v":""},null,{"$f":"IF(AX180=\"\",\"\",1)","v":""},{"$f":"IF(AN180=\"\",\"\",VLOOKUP(AN180,[4]ItemConfig!$A:$C,3,FALSE)&AO180)","v":""},{"$f":"IF(AP180=\"\",\"\",VLOOKUP(AP180,[4]ItemConfig!$A:$C,3,FALSE)&AQ180)","v":""},{"$f":"IF(AR180=\"\",\"\",VLOOKUP(AR180,[4]ItemConfig!$A:$C,3,FALSE)&AS180)","v":""},{"$f":"IF(AT180=\"\",\"\",VLOOKUP(AT180,[4]ItemConfig!$A:$C,3,FALSE)&AU180)","v":""},{"$f":"IF(AV180=\"\",\"\",VLOOKUP(AV180,[4]ItemConfig!$A:$C,3,FALSE)&AW180)","v":""},{"$f":"IF(AX180=\"\",\"\",VLOOKUP(AX180,[4]ItemConfig!$A:$C,3,FALSE)&AY180)","v":""}]
[177,177,6,18,7,"230;237;244","炼虚","后期.","七重",230,237,244,{"$f":"ROUND([1]ResourceLevelConfig!$E181*[1]ResourceLevelConfig!$L181*0.1,0)*10","v":8700},-1,0,-1,-1,-1,-1,0,{"$f":"[3]主表!K179","v":6951.4436399212191},{"$f":"[3]主表!L179","v":98.294742513097148},{"$f":"[3]主表!M179","v":98.294742513097148},{"$f":"[3]主表!N179","v":302.51},{"$f":"[3]主表!$G179","v":55002},{"$f":"[3]升级!$H179","v":1500},{"$f":"MAX(0.1,ROUND(100/(24*3600)*VLOOKUP(B181,[1]ResourceLevelConfig!$A:$E,5,FALSE),2))","v":0.67},-1,4,4,4,1880,null,null,null,1,3,177,null,null,"",null,"",null,{"$f":"IF(AR181=\"\",\"\",1)","v":""},null,{"$f":"IF(AT181=\"\",\"\",1)","v":""},null,{"$f":"IF(AV181=\"\",\"\",1)","v":""},null,{"$f":"IF(AX181=\"\",\"\",1)","v":""},{"$f":"IF(AN181=\"\",\"\",VLOOKUP(AN181,[4]ItemConfig!$A:$C,3,FALSE)&AO181)","v":""},{"$f":"IF(AP181=\"\",\"\",VLOOKUP(AP181,[4]ItemConfig!$A:$C,3,FALSE)&AQ181)","v":""},{"$f":"IF(AR181=\"\",\"\",VLOOKUP(AR181,[4]ItemConfig!$A:$C,3,FALSE)&AS181)","v":""},{"$f":"IF(AT181=\"\",\"\",VLOOKUP(AT181,[4]ItemConfig!$A:$C,3,FALSE)&AU181)","v":""},{"$f":"IF(AV181=\"\",\"\",VLOOKUP(AV181,[4]ItemConfig!$A:$C,3,FALSE)&AW181)","v":""},{"$f":"IF(AX181=\"\",\"\",VLOOKUP(AX181,[4]ItemConfig!$A:$C,3,FALSE)&AY181)","v":""}]
[178,178,6,18,8,"230;237;245","炼虚","后期.","八重",230,237,245,{"$f":"ROUND([1]ResourceLevelConfig!$E182*[1]ResourceLevelConfig!$L182*0.1,0)*10","v":8850},-1,0,-1,-1,-1,-1,0,{"$f":"[3]主表!K180","v":7082.5007898341619},{"$f":"[3]主表!L180","v":99.621901259131178},{"$f":"[3]主表!M180","v":99.621901259131178},{"$f":"[3]主表!N180","v":306.83999999999997},{"$f":"[3]主表!$G180","v":55789},{"$f":"[3]升级!$H180","v":1500},{"$f":"MAX(0.1,ROUND(100/(24*3600)*VLOOKUP(B182,[1]ResourceLevelConfig!$A:$E,5,FALSE),2))","v":0.68},-1,4,4,4,1890,null,null,null,1,3,178,null,null,"",null,"",null,{"$f":"IF(AR182=\"\",\"\",1)","v":""},null,{"$f":"IF(AT182=\"\",\"\",1)","v":""},null,{"$f":"IF(AV182=\"\",\"\",1)","v":""},null,{"$f":"IF(AX182=\"\",\"\",1)","v":""},{"$f":"IF(AN182=\"\",\"\",VLOOKUP(AN182,[4]ItemConfig!$A:$C,3,FALSE)&AO182)","v":""},{"$f":"IF(AP182=\"\",\"\",VLOOKUP(AP182,[4]ItemConfig!$A:$C,3,FALSE)&AQ182)","v":""},{"$f":"IF(AR182=\"\",\"\",VLOOKUP(AR182,[4]ItemConfig!$A:$C,3,FALSE)&AS182)","v":""},{"$f":"IF(AT182=\"\",\"\",VLOOKUP(AT182,[4]ItemConfig!$A:$C,3,FALSE)&AU182)","v":""},{"$f":"IF(AV182=\"\",\"\",VLOOKUP(AV182,[4]ItemConfig!$A:$C,3,FALSE)&AW182)","v":""},{"$f":"IF(AX182=\"\",\"\",VLOOKUP(AX182,[4]ItemConfig!$A:$C,3,FALSE)&AY182)","v":""}]
[179,179,6,18,9,"230;237;246","炼虚","后期.","九重",230,237,246,{"$f":"ROUND([1]ResourceLevelConfig!$E183*[1]ResourceLevelConfig!$L183*0.1,0)*10","v":9000},-1,0,-1,-1,-1,-1,0,{"$f":"[3]主表!K181","v":7215.8297182473962},{"$f":"[3]主表!L181","v":100.96697907481369},{"$f":"[3]主表!M181","v":100.96697907481369},{"$f":"[3]主表!N181","v":311.23},{"$f":"[3]主表!$G181","v":56588},{"$f":"[3]升级!$H181","v":1500},{"$f":"MAX(0.1,ROUND(100/(24*3600)*VLOOKUP(B183,[1]ResourceLevelConfig!$A:$E,5,FALSE),2))","v":0.69},-1,4,4,4,1900,null,null,null,1,3,179,null,null,"",null,"",null,{"$f":"IF(AR183=\"\",\"\",1)","v":""},null,{"$f":"IF(AT183=\"\",\"\",1)","v":""},null,{"$f":"IF(AV183=\"\",\"\",1)","v":""},null,{"$f":"IF(AX183=\"\",\"\",1)","v":""},{"$f":"IF(AN183=\"\",\"\",VLOOKUP(AN183,[4]ItemConfig!$A:$C,3,FALSE)&AO183)","v":""},{"$f":"IF(AP183=\"\",\"\",VLOOKUP(AP183,[4]ItemConfig!$A:$C,3,FALSE)&AQ183)","v":""},{"$f":"IF(AR183=\"\",\"\",VLOOKUP(AR183,[4]ItemConfig!$A:$C,3,FALSE)&AS183)","v":""},{"$f":"IF(AT183=\"\",\"\",VLOOKUP(AT183,[4]ItemConfig!$A:$C,3,FALSE)&AU183)","v":""},{"$f":"IF(AV183=\"\",\"\",VLOOKUP(AV183,[4]ItemConfig!$A:$C,3,FALSE)&AW183)","v":""},{"$f":"IF(AX183=\"\",\"\",VLOOKUP(AX183,[4]ItemConfig!$A:$C,3,FALSE)&AY183)","v":""}]
[180,180,6,18,10,"230;237;247","炼虚","后期.","十重",230,237,247,{"$f":"ROUND([1]ResourceLevelConfig!$E184*[1]ResourceLevelConfig!$L184*0.1,0)*10","v":9000},100004,0,{"$f":"AN184","v":1318},{"$f":"AO184","v":1},{"$f":"_xlfn.TEXTJOIN(\";\",1,AP184,AR184,AT184,AV184)","v":"1210;1211;1212"},{"$f":"_xlfn.TEXTJOIN(\";\",1,AQ184,AS184,AU184,AW184)","v":"1;1;1"},{"$f":"CONCATENATE(ROUND(0.6*VLOOKUP(A184,[3]主表!$A:$P,16,FALSE)*[5]HeroModelConfig!$Q$5,0),\";\",ROUND(0.9*VLOOKUP(A184,[3]主表!$A:$P,16,FALSE)*[5]HeroModelConfig!$Q$5,0),\";\",INT(A184/30)+1)","v":"1237074;1855611;7"},{"$f":"[3]主表!K182","v":7351.467879851989},{"$f":"[3]主表!L182","v":102.33021790034822},{"$f":"[3]主表!M182","v":102.33021790034822},{"$f":"[3]主表!N182","v":344.39},{"$f":"[3]主表!$G182","v":57399},{"$f":"[3]升级!$H182","v":1500},{"$f":"MAX(0.1,ROUND(100/(24*3600)*VLOOKUP(B184,[1]ResourceLevelConfig!$A:$E,5,FALSE),2))","v":0.69},50,4,4,4,1910,null,null,null,1,3,180,null,1318,1,1210,1,1211,{"$f":"IF(AR184=\"\",\"\",1)","v":1},1212,{"$f":"IF(AT184=\"\",\"\",1)","v":1},null,{"$f":"IF(AV184=\"\",\"\",1)","v":""},null,{"$f":"IF(AX184=\"\",\"\",1)","v":""},{"$f":"IF(AN184=\"\",\"\",VLOOKUP(AN184,[4]ItemConfig!$A:$C,3,FALSE)&AO184)","v":"混沌合晶1"},{"$f":"IF(AP184=\"\",\"\",VLOOKUP(AP184,[4]ItemConfig!$A:$C,3,FALSE)&AQ184)","v":"丹心花1"},{"$f":"IF(AR184=\"\",\"\",VLOOKUP(AR184,[4]ItemConfig!$A:$C,3,FALSE)&AS184)","v":"太冥草1"},{"$f":"IF(AT184=\"\",\"\",VLOOKUP(AT184,[4]ItemConfig!$A:$C,3,FALSE)&AU184)","v":"星炎草1"},{"$f":"IF(AV184=\"\",\"\",VLOOKUP(AV184,[4]ItemConfig!$A:$C,3,FALSE)&AW184)","v":""},{"$f":"IF(AX184=\"\",\"\",VLOOKUP(AX184,[4]ItemConfig!$A:$C,3,FALSE)&AY184)","v":""}]
[181,181,7,19,1,"231;235;238","合体","前期.","一重",231,235,238,{"$f":"ROUND([1]ResourceLevelConfig!$E185*[1]ResourceLevelConfig!$L185*0.1,0)*10","v":9150},-1,0,-1,-1,{"$f":"IF(I185=10,\"1001;1002;1004\",-1)","v":-1},{"$f":"IF(R185=-1,-1,\"100;200;300\")","v":-1},0,{"$f":"[3]主表!K183","v":9606.5828908883432},{"$f":"[3]主表!L183","v":133.02928327045268},{"$f":"[3]主表!M183","v":133.02928327045268},{"$f":"[3]主表!N183","v":458.22},{"$f":"[3]主表!$G183","v":76370},{"$f":"[3]升级!$H183","v":1600},{"$f":"MAX(0.1,ROUND(100/(24*3600)*VLOOKUP(B185,[1]ResourceLevelConfig!$A:$E,5,FALSE),2))","v":0.71},-1,4,4,4,1920,null,null,null,1,4,181,null,null,"",null,"",null,{"$f":"IF(AR185=\"\",\"\",1)","v":""},null,{"$f":"IF(AT185=\"\",\"\",1)","v":""},null,{"$f":"IF(AV185=\"\",\"\",1)","v":""},null,{"$f":"IF(AX185=\"\",\"\",1)","v":""},{"$f":"IF(AN185=\"\",\"\",VLOOKUP(AN185,[4]ItemConfig!$A:$C,3,FALSE)&AO185)","v":""},{"$f":"IF(AP185=\"\",\"\",VLOOKUP(AP185,[4]ItemConfig!$A:$C,3,FALSE)&AQ185)","v":""},{"$f":"IF(AR185=\"\",\"\",VLOOKUP(AR185,[4]ItemConfig!$A:$C,3,FALSE)&AS185)","v":""},{"$f":"IF(AT185=\"\",\"\",VLOOKUP(AT185,[4]ItemConfig!$A:$C,3,FALSE)&AU185)","v":""},{"$f":"IF(AV185=\"\",\"\",VLOOKUP(AV185,[4]ItemConfig!$A:$C,3,FALSE)&AW185)","v":""},{"$f":"IF(AX185=\"\",\"\",VLOOKUP(AX185,[4]ItemConfig!$A:$C,3,FALSE)&AY185)","v":""}]
[182,182,7,19,2,"231;235;239","合体","前期.","二重",231,235,239,{"$f":"ROUND([1]ResourceLevelConfig!$E186*[1]ResourceLevelConfig!$L186*0.1,0)*10","v":9150},-1,0,-1,-1,{"$f":"IF(I186=10,\"1001;1002;1004\",-1)","v":-1},{"$f":"IF(R186=-1,-1,\"100;200;300\")","v":-1},0,{"$f":"[3]主表!K184","v":9786.6346702329629},{"$f":"[3]主表!L184","v":134.8254218253453},{"$f":"[3]主表!M184","v":134.8254218253453},{"$f":"[3]主表!N184","v":465.26},{"$f":"[3]主表!$G184","v":77543},{"$f":"[3]升级!$H184","v":1600},{"$f":"MAX(0.1,ROUND(100/(24*3600)*VLOOKUP(B186,[1]ResourceLevelConfig!$A:$E,5,FALSE),2))","v":0.71},-1,4,4,4,1930,null,null,null,1,4,182,null,null,"",null,"",null,{"$f":"IF(AR186=\"\",\"\",1)","v":""},null,{"$f":"IF(AT186=\"\",\"\",1)","v":""},null,{"$f":"IF(AV186=\"\",\"\",1)","v":""},null,{"$f":"IF(AX186=\"\",\"\",1)","v":""},{"$f":"IF(AN186=\"\",\"\",VLOOKUP(AN186,[4]ItemConfig!$A:$C,3,FALSE)&AO186)","v":""},{"$f":"IF(AP186=\"\",\"\",VLOOKUP(AP186,[4]ItemConfig!$A:$C,3,FALSE)&AQ186)","v":""},{"$f":"IF(AR186=\"\",\"\",VLOOKUP(AR186,[4]ItemConfig!$A:$C,3,FALSE)&AS186)","v":""},{"$f":"IF(AT186=\"\",\"\",VLOOKUP(AT186,[4]ItemConfig!$A:$C,3,FALSE)&AU186)","v":""},{"$f":"IF(AV186=\"\",\"\",VLOOKUP(AV186,[4]ItemConfig!$A:$C,3,FALSE)&AW186)","v":""},{"$f":"IF(AX186=\"\",\"\",VLOOKUP(AX186,[4]ItemConfig!$A:$C,3,FALSE)&AY186)","v":""}]
[183,183,7,19,3,"231;235;240","合体","前期.","三重",231,235,240,{"$f":"ROUND([1]ResourceLevelConfig!$E187*[1]ResourceLevelConfig!$L187*0.1,0)*10","v":9300},-1,0,-1,-1,-1,-1,0,{"$f":"[3]主表!K185","v":9969.7972320229983},{"$f":"[3]主表!L185","v":136.64581153478872},{"$f":"[3]主表!M185","v":136.64581153478872},{"$f":"[3]主表!N185","v":472.4},{"$f":"[3]主表!$G185","v":78734},{"$f":"[3]升级!$H185","v":1600},{"$f":"MAX(0.1,ROUND(100/(24*3600)*VLOOKUP(B187,[1]ResourceLevelConfig!$A:$E,5,FALSE),2))","v":0.72},-1,4,4,4,1940,null,null,null,1,4,183,null,null,"",null,"",null,{"$f":"IF(AR187=\"\",\"\",1)","v":""},null,{"$f":"IF(AT187=\"\",\"\",1)","v":""},null,{"$f":"IF(AV187=\"\",\"\",1)","v":""},null,{"$f":"IF(AX187=\"\",\"\",1)","v":""},{"$f":"IF(AN187=\"\",\"\",VLOOKUP(AN187,[4]ItemConfig!$A:$C,3,FALSE)&AO187)","v":""},{"$f":"IF(AP187=\"\",\"\",VLOOKUP(AP187,[4]ItemConfig!$A:$C,3,FALSE)&AQ187)","v":""},{"$f":"IF(AR187=\"\",\"\",VLOOKUP(AR187,[4]ItemConfig!$A:$C,3,FALSE)&AS187)","v":""},{"$f":"IF(AT187=\"\",\"\",VLOOKUP(AT187,[4]ItemConfig!$A:$C,3,FALSE)&AU187)","v":""},{"$f":"IF(AV187=\"\",\"\",VLOOKUP(AV187,[4]ItemConfig!$A:$C,3,FALSE)&AW187)","v":""},{"$f":"IF(AX187=\"\",\"\",VLOOKUP(AX187,[4]ItemConfig!$A:$C,3,FALSE)&AY187)","v":""}]
[184,184,7,19,4,"231;235;241","合体","前期.","四重",231,235,241,{"$f":"ROUND([1]ResourceLevelConfig!$E188*[1]ResourceLevelConfig!$L188*0.1,0)*10","v":9450},-1,0,-1,-1,-1,-1,0,{"$f":"[3]主表!K186","v":10156.121755434018},{"$f":"[3]主表!L186","v":138.49077983371018},{"$f":"[3]主表!M186","v":138.49077983371018},{"$f":"[3]主表!N186","v":479.66},{"$f":"[3]主表!$G186","v":79944},{"$f":"[3]升级!$H186","v":1600},{"$f":"MAX(0.1,ROUND(100/(24*3600)*VLOOKUP(B188,[1]ResourceLevelConfig!$A:$E,5,FALSE),2))","v":0.73},-1,4,4,4,1950,null,null,null,1,4,184,null,null,"",null,"",null,{"$f":"IF(AR188=\"\",\"\",1)","v":""},null,{"$f":"IF(AT188=\"\",\"\",1)","v":""},null,{"$f":"IF(AV188=\"\",\"\",1)","v":""},null,{"$f":"IF(AX188=\"\",\"\",1)","v":""},{"$f":"IF(AN188=\"\",\"\",VLOOKUP(AN188,[4]ItemConfig!$A:$C,3,FALSE)&AO188)","v":""},{"$f":"IF(AP188=\"\",\"\",VLOOKUP(AP188,[4]ItemConfig!$A:$C,3,FALSE)&AQ188)","v":""},{"$f":"IF(AR188=\"\",\"\",VLOOKUP(AR188,[4]ItemConfig!$A:$C,3,FALSE)&AS188)","v":""},{"$f":"IF(AT188=\"\",\"\",VLOOKUP(AT188,[4]ItemConfig!$A:$C,3,FALSE)&AU188)","v":""},{"$f":"IF(AV188=\"\",\"\",VLOOKUP(AV188,[4]ItemConfig!$A:$C,3,FALSE)&AW188)","v":""},{"$f":"IF(AX188=\"\",\"\",VLOOKUP(AX188,[4]ItemConfig!$A:$C,3,FALSE)&AY188)","v":""}]
[185,185,7,19,5,"231;235;242","合体","前期.","五重",231,235,242,{"$f":"ROUND([1]ResourceLevelConfig!$E189*[1]ResourceLevelConfig!$L189*0.1,0)*10","v":9450},-1,0,-1,-1,-1,-1,0,{"$f":"[3]主表!K187","v":10345.660234572802},{"$f":"[3]主表!L187","v":140.3606585780071},{"$f":"[3]主表!M187","v":140.3606585780071},{"$f":"[3]主表!N187","v":487.04},{"$f":"[3]主表!$G187","v":81174},{"$f":"[3]升级!$H187","v":1600},{"$f":"MAX(0.1,ROUND(100/(24*3600)*VLOOKUP(B189,[1]ResourceLevelConfig!$A:$E,5,FALSE),2))","v":0.73},-1,4,4,4,1960,null,null,null,1,4,185,null,null,"",null,"",null,{"$f":"IF(AR189=\"\",\"\",1)","v":""},null,{"$f":"IF(AT189=\"\",\"\",1)","v":""},null,{"$f":"IF(AV189=\"\",\"\",1)","v":""},null,{"$f":"IF(AX189=\"\",\"\",1)","v":""},{"$f":"IF(AN189=\"\",\"\",VLOOKUP(AN189,[4]ItemConfig!$A:$C,3,FALSE)&AO189)","v":""},{"$f":"IF(AP189=\"\",\"\",VLOOKUP(AP189,[4]ItemConfig!$A:$C,3,FALSE)&AQ189)","v":""},{"$f":"IF(AR189=\"\",\"\",VLOOKUP(AR189,[4]ItemConfig!$A:$C,3,FALSE)&AS189)","v":""},{"$f":"IF(AT189=\"\",\"\",VLOOKUP(AT189,[4]ItemConfig!$A:$C,3,FALSE)&AU189)","v":""},{"$f":"IF(AV189=\"\",\"\",VLOOKUP(AV189,[4]ItemConfig!$A:$C,3,FALSE)&AW189)","v":""},{"$f":"IF(AX189=\"\",\"\",VLOOKUP(AX189,[4]ItemConfig!$A:$C,3,FALSE)&AY189)","v":""}]
[186,186,7,19,6,"231;235;243","合体","前期.","六重",231,235,243,{"$f":"ROUND([1]ResourceLevelConfig!$E190*[1]ResourceLevelConfig!$L190*0.1,0)*10","v":9600},-1,0,-1,-1,-1,-1,0,{"$f":"[3]主表!K188","v":10538.465491153529},{"$f":"[3]主表!L188","v":142.25578410423833},{"$f":"[3]主表!M188","v":142.25578410423833},{"$f":"[3]主表!N188","v":494.62},{"$f":"[3]主表!$G188","v":82437},{"$f":"[3]升级!$H188","v":1600},{"$f":"MAX(0.1,ROUND(100/(24*3600)*VLOOKUP(B190,[1]ResourceLevelConfig!$A:$E,5,FALSE),2))","v":0.74},-1,4,4,4,1970,null,null,null,1,4,186,null,null,"",null,"",null,{"$f":"IF(AR190=\"\",\"\",1)","v":""},null,{"$f":"IF(AT190=\"\",\"\",1)","v":""},null,{"$f":"IF(AV190=\"\",\"\",1)","v":""},null,{"$f":"IF(AX190=\"\",\"\",1)","v":""},{"$f":"IF(AN190=\"\",\"\",VLOOKUP(AN190,[4]ItemConfig!$A:$C,3,FALSE)&AO190)","v":""},{"$f":"IF(AP190=\"\",\"\",VLOOKUP(AP190,[4]ItemConfig!$A:$C,3,FALSE)&AQ190)","v":""},{"$f":"IF(AR190=\"\",\"\",VLOOKUP(AR190,[4]ItemConfig!$A:$C,3,FALSE)&AS190)","v":""},{"$f":"IF(AT190=\"\",\"\",VLOOKUP(AT190,[4]ItemConfig!$A:$C,3,FALSE)&AU190)","v":""},{"$f":"IF(AV190=\"\",\"\",VLOOKUP(AV190,[4]ItemConfig!$A:$C,3,FALSE)&AW190)","v":""},{"$f":"IF(AX190=\"\",\"\",VLOOKUP(AX190,[4]ItemConfig!$A:$C,3,FALSE)&AY190)","v":""}]
[187,187,7,19,7,"231;235;244","合体","前期.","七重",231,235,244,{"$f":"ROUND([1]ResourceLevelConfig!$E191*[1]ResourceLevelConfig!$L191*0.1,0)*10","v":9600},-1,0,-1,-1,-1,-1,0,{"$f":"[3]主表!K189","v":10734.591187367721},{"$f":"[3]主表!L189","v":144.17649729012118},{"$f":"[3]主表!M189","v":144.17649729012118},{"$f":"[3]主表!N189","v":502.33},{"$f":"[3]主表!$G189","v":83721},{"$f":"[3]升级!$H189","v":1600},{"$f":"MAX(0.1,ROUND(100/(24*3600)*VLOOKUP(B191,[1]ResourceLevelConfig!$A:$E,5,FALSE),2))","v":0.74},-1,4,4,4,1980,null,null,null,1,4,187,null,null,"",null,"",null,{"$f":"IF(AR191=\"\",\"\",1)","v":""},null,{"$f":"IF(AT191=\"\",\"\",1)","v":""},null,{"$f":"IF(AV191=\"\",\"\",1)","v":""},null,{"$f":"IF(AX191=\"\",\"\",1)","v":""},{"$f":"IF(AN191=\"\",\"\",VLOOKUP(AN191,[4]ItemConfig!$A:$C,3,FALSE)&AO191)","v":""},{"$f":"IF(AP191=\"\",\"\",VLOOKUP(AP191,[4]ItemConfig!$A:$C,3,FALSE)&AQ191)","v":""},{"$f":"IF(AR191=\"\",\"\",VLOOKUP(AR191,[4]ItemConfig!$A:$C,3,FALSE)&AS191)","v":""},{"$f":"IF(AT191=\"\",\"\",VLOOKUP(AT191,[4]ItemConfig!$A:$C,3,FALSE)&AU191)","v":""},{"$f":"IF(AV191=\"\",\"\",VLOOKUP(AV191,[4]ItemConfig!$A:$C,3,FALSE)&AW191)","v":""},{"$f":"IF(AX191=\"\",\"\",VLOOKUP(AX191,[4]ItemConfig!$A:$C,3,FALSE)&AY191)","v":""}]
[188,188,7,19,8,"231;235;245","合体","前期.","八重",231,235,245,{"$f":"ROUND([1]ResourceLevelConfig!$E192*[1]ResourceLevelConfig!$L192*0.1,0)*10","v":9750},-1,0,-1,-1,-1,-1,0,{"$f":"[3]主表!K190","v":10934.091838950835},{"$f":"[3]主表!L190","v":146.12314361584546},{"$f":"[3]主表!M190","v":146.12314361584546},{"$f":"[3]主表!N190","v":510.15},{"$f":"[3]主表!$G190","v":85025},{"$f":"[3]升级!$H190","v":1600},{"$f":"MAX(0.1,ROUND(100/(24*3600)*VLOOKUP(B192,[1]ResourceLevelConfig!$A:$E,5,FALSE),2))","v":0.75},-1,4,4,4,1990,null,null,null,1,4,188,null,null,"",null,"",null,{"$f":"IF(AR192=\"\",\"\",1)","v":""},null,{"$f":"IF(AT192=\"\",\"\",1)","v":""},null,{"$f":"IF(AV192=\"\",\"\",1)","v":""},null,{"$f":"IF(AX192=\"\",\"\",1)","v":""},{"$f":"IF(AN192=\"\",\"\",VLOOKUP(AN192,[4]ItemConfig!$A:$C,3,FALSE)&AO192)","v":""},{"$f":"IF(AP192=\"\",\"\",VLOOKUP(AP192,[4]ItemConfig!$A:$C,3,FALSE)&AQ192)","v":""},{"$f":"IF(AR192=\"\",\"\",VLOOKUP(AR192,[4]ItemConfig!$A:$C,3,FALSE)&AS192)","v":""},{"$f":"IF(AT192=\"\",\"\",VLOOKUP(AT192,[4]ItemConfig!$A:$C,3,FALSE)&AU192)","v":""},{"$f":"IF(AV192=\"\",\"\",VLOOKUP(AV192,[4]ItemConfig!$A:$C,3,FALSE)&AW192)","v":""},{"$f":"IF(AX192=\"\",\"\",VLOOKUP(AX192,[4]ItemConfig!$A:$C,3,FALSE)&AY192)","v":""}]
[189,189,7,19,9,"231;235;246","合体","前期.","九重",231,235,246,{"$f":"ROUND([1]ResourceLevelConfig!$E193*[1]ResourceLevelConfig!$L193*0.1,0)*10","v":9900},-1,0,-1,-1,-1,-1,0,{"$f":"[3]主表!K191","v":11137.022828448469},{"$f":"[3]主表!L191","v":148.09607322621514},{"$f":"[3]主表!M191","v":148.09607322621514},{"$f":"[3]主表!N191","v":518.1},{"$f":"[3]主表!$G191","v":86350},{"$f":"[3]升级!$H191","v":1600},{"$f":"MAX(0.1,ROUND(100/(24*3600)*VLOOKUP(B193,[1]ResourceLevelConfig!$A:$E,5,FALSE),2))","v":0.76},-1,4,4,4,2000,null,null,null,1,4,189,null,null,"",null,"",null,{"$f":"IF(AR193=\"\",\"\",1)","v":""},null,{"$f":"IF(AT193=\"\",\"\",1)","v":""},null,{"$f":"IF(AV193=\"\",\"\",1)","v":""},null,{"$f":"IF(AX193=\"\",\"\",1)","v":""},{"$f":"IF(AN193=\"\",\"\",VLOOKUP(AN193,[4]ItemConfig!$A:$C,3,FALSE)&AO193)","v":""},{"$f":"IF(AP193=\"\",\"\",VLOOKUP(AP193,[4]ItemConfig!$A:$C,3,FALSE)&AQ193)","v":""},{"$f":"IF(AR193=\"\",\"\",VLOOKUP(AR193,[4]ItemConfig!$A:$C,3,FALSE)&AS193)","v":""},{"$f":"IF(AT193=\"\",\"\",VLOOKUP(AT193,[4]ItemConfig!$A:$C,3,FALSE)&AU193)","v":""},{"$f":"IF(AV193=\"\",\"\",VLOOKUP(AV193,[4]ItemConfig!$A:$C,3,FALSE)&AW193)","v":""},{"$f":"IF(AX193=\"\",\"\",VLOOKUP(AX193,[4]ItemConfig!$A:$C,3,FALSE)&AY193)","v":""}]
[190,190,7,19,10,"231;235;247","合体","前期.","十重",231,235,247,{"$f":"ROUND([1]ResourceLevelConfig!$E194*[1]ResourceLevelConfig!$L194*0.1,0)*10","v":9900},100004,0,{"$f":"AN194","v":1319},{"$f":"AO194","v":1},{"$f":"_xlfn.TEXTJOIN(\";\",1,AP194,AR194,AT194,AV194)","v":"1213;1214;1215"},{"$f":"_xlfn.TEXTJOIN(\";\",1,AQ194,AS194,AU194,AW194)","v":"1;1;1"},0,{"$f":"[3]主表!K192","v":11343.440418685261},{"$f":"[3]主表!L192","v":150.0956409936293},{"$f":"[3]主表!M192","v":150.0956409936293},{"$f":"[3]主表!N192","v":570.03},{"$f":"[3]主表!$G192","v":87697},{"$f":"[3]升级!$H192","v":1600},{"$f":"MAX(0.1,ROUND(100/(24*3600)*VLOOKUP(B194,[1]ResourceLevelConfig!$A:$E,5,FALSE),2))","v":0.76},20,4,4,4,2018,null,null,null,1,4,190,null,1319,1,1213,1,1214,{"$f":"IF(AR194=\"\",\"\",1)","v":1},1215,{"$f":"IF(AT194=\"\",\"\",1)","v":1},null,{"$f":"IF(AV194=\"\",\"\",1)","v":""},null,{"$f":"IF(AX194=\"\",\"\",1)","v":""},{"$f":"IF(AN194=\"\",\"\",VLOOKUP(AN194,[4]ItemConfig!$A:$C,3,FALSE)&AO194)","v":"天合草1"},{"$f":"IF(AP194=\"\",\"\",VLOOKUP(AP194,[4]ItemConfig!$A:$C,3,FALSE)&AQ194)","v":"混元晶1"},{"$f":"IF(AR194=\"\",\"\",VLOOKUP(AR194,[4]ItemConfig!$A:$C,3,FALSE)&AS194)","v":"地髓晶1"},{"$f":"IF(AT194=\"\",\"\",VLOOKUP(AT194,[4]ItemConfig!$A:$C,3,FALSE)&AU194)","v":"灵月石1"},{"$f":"IF(AV194=\"\",\"\",VLOOKUP(AV194,[4]ItemConfig!$A:$C,3,FALSE)&AW194)","v":""},{"$f":"IF(AX194=\"\",\"\",VLOOKUP(AX194,[4]ItemConfig!$A:$C,3,FALSE)&AY194)","v":""}]
[191,191,7,20,1,"231;236;238","合体","中期.","一重",231,236,238,{"$f":"ROUND([1]ResourceLevelConfig!$E195*[1]ResourceLevelConfig!$L195*0.1,0)*10","v":10050},-1,0,-1,-1,{"$f":"IF(I195=10,\"1001;1002;1004\",-1)","v":-1},-1,0,{"$f":"[3]主表!K193","v":12539.436621586006},{"$f":"[3]主表!L193","v":165.10520509299226},{"$f":"[3]主表!M193","v":165.10520509299226},{"$f":"[3]主表!N193","v":641.75},{"$f":"[3]主表!$G193","v":98731},{"$f":"[3]升级!$H193","v":1600},{"$f":"MAX(0.1,ROUND(100/(24*3600)*VLOOKUP(B195,[1]ResourceLevelConfig!$A:$E,5,FALSE),2))","v":0.78},-1,{"$f":"AC194","v":4},{"$f":"AD194","v":4},{"$f":"AE194","v":4},2065,null,null,null,1,4,191,null,null,"",null,"",null,{"$f":"IF(AR195=\"\",\"\",1)","v":""},null,{"$f":"IF(AT195=\"\",\"\",1)","v":""},null,{"$f":"IF(AV195=\"\",\"\",1)","v":""},null,{"$f":"IF(AX195=\"\",\"\",1)","v":""},{"$f":"IF(AN195=\"\",\"\",VLOOKUP(AN195,[4]ItemConfig!$A:$C,3,FALSE)&AO195)","v":""},{"$f":"IF(AP195=\"\",\"\",VLOOKUP(AP195,[4]ItemConfig!$A:$C,3,FALSE)&AQ195)","v":""},{"$f":"IF(AR195=\"\",\"\",VLOOKUP(AR195,[4]ItemConfig!$A:$C,3,FALSE)&AS195)","v":""},{"$f":"IF(AT195=\"\",\"\",VLOOKUP(AT195,[4]ItemConfig!$A:$C,3,FALSE)&AU195)","v":""},{"$f":"IF(AV195=\"\",\"\",VLOOKUP(AV195,[4]ItemConfig!$A:$C,3,FALSE)&AW195)","v":""},{"$f":"IF(AX195=\"\",\"\",VLOOKUP(AX195,[4]ItemConfig!$A:$C,3,FALSE)&AY195)","v":""}]
[192,192,7,20,2,"231;236;239","合体","中期.","二重",231,236,239,{"$f":"ROUND([1]ResourceLevelConfig!$E196*[1]ResourceLevelConfig!$L196*0.1,0)*10","v":10200},-1,0,-1,-1,-1,-1,0,{"$f":"[3]主表!K194","v":12771.226521014296},{"$f":"[3]主表!L194","v":167.33442724010465},{"$f":"[3]主表!M194","v":167.33442724010465},{"$f":"[3]主表!N194","v":651.61},{"$f":"[3]主表!$G194","v":100248},{"$f":"[3]升级!$H194","v":1600},{"$f":"MAX(0.1,ROUND(100/(24*3600)*VLOOKUP(B196,[1]ResourceLevelConfig!$A:$E,5,FALSE),2))","v":0.79},-1,4,4,4,2113,null,null,null,1,4,192,null,null,"",null,"",null,{"$f":"IF(AR196=\"\",\"\",1)","v":""},null,{"$f":"IF(AT196=\"\",\"\",1)","v":""},null,{"$f":"IF(AV196=\"\",\"\",1)","v":""},null,{"$f":"IF(AX196=\"\",\"\",1)","v":""},{"$f":"IF(AN196=\"\",\"\",VLOOKUP(AN196,[4]ItemConfig!$A:$C,3,FALSE)&AO196)","v":""},{"$f":"IF(AP196=\"\",\"\",VLOOKUP(AP196,[4]ItemConfig!$A:$C,3,FALSE)&AQ196)","v":""},{"$f":"IF(AR196=\"\",\"\",VLOOKUP(AR196,[4]ItemConfig!$A:$C,3,FALSE)&AS196)","v":""},{"$f":"IF(AT196=\"\",\"\",VLOOKUP(AT196,[4]ItemConfig!$A:$C,3,FALSE)&AU196)","v":""},{"$f":"IF(AV196=\"\",\"\",VLOOKUP(AV196,[4]ItemConfig!$A:$C,3,FALSE)&AW196)","v":""},{"$f":"IF(AX196=\"\",\"\",VLOOKUP(AX196,[4]ItemConfig!$A:$C,3,FALSE)&AY196)","v":""}]
[193,193,7,20,3,"231;236;240","合体","中期.","三重",231,236,240,{"$f":"ROUND([1]ResourceLevelConfig!$E197*[1]ResourceLevelConfig!$L197*0.1,0)*10","v":10200},-1,0,-1,-1,-1,-1,0,{"$f":"[3]主表!K195","v":13006.989663938388},{"$f":"[3]主表!L195","v":169.59374796211279},{"$f":"[3]主表!M195","v":169.59374796211279},{"$f":"[3]主表!N195","v":661.63},{"$f":"[3]主表!$G195","v":101789},{"$f":"[3]升级!$H195","v":1600},{"$f":"MAX(0.1,ROUND(100/(24*3600)*VLOOKUP(B197,[1]ResourceLevelConfig!$A:$E,5,FALSE),2))","v":0.79},-1,4,4,4,2163,null,null,null,1,4,193,null,null,"",null,"",null,{"$f":"IF(AR197=\"\",\"\",1)","v":""},null,{"$f":"IF(AT197=\"\",\"\",1)","v":""},null,{"$f":"IF(AV197=\"\",\"\",1)","v":""},null,{"$f":"IF(AX197=\"\",\"\",1)","v":""},{"$f":"IF(AN197=\"\",\"\",VLOOKUP(AN197,[4]ItemConfig!$A:$C,3,FALSE)&AO197)","v":""},{"$f":"IF(AP197=\"\",\"\",VLOOKUP(AP197,[4]ItemConfig!$A:$C,3,FALSE)&AQ197)","v":""},{"$f":"IF(AR197=\"\",\"\",VLOOKUP(AR197,[4]ItemConfig!$A:$C,3,FALSE)&AS197)","v":""},{"$f":"IF(AT197=\"\",\"\",VLOOKUP(AT197,[4]ItemConfig!$A:$C,3,FALSE)&AU197)","v":""},{"$f":"IF(AV197=\"\",\"\",VLOOKUP(AV197,[4]ItemConfig!$A:$C,3,FALSE)&AW197)","v":""},{"$f":"IF(AX197=\"\",\"\",VLOOKUP(AX197,[4]ItemConfig!$A:$C,3,FALSE)&AY197)","v":""}]
[194,194,7,20,4,{"$f":"_xlfn.TEXTJOIN(\";\",1,J198:L198)","v":"231;236;241"},"合体","中期.","四重",231,236,241,{"$f":"ROUND([1]ResourceLevelConfig!$E198*[1]ResourceLevelConfig!$L198*0.1,0)*10","v":10350},{"$f":"IF(E198=10,100004,-1)","v":-1},0,-1,-1,-1,-1,0,{"$f":"[3]主表!K196","v":13246.791087309361},{"$f":"[3]主表!L196","v":171.88357364481007},{"$f":"[3]主表!M196","v":171.88357364481007},{"$f":"[3]主表!N196","v":671.8},{"$f":"[3]主表!$G196","v":103354},{"$f":"[3]升级!$H196","v":1600},{"$f":"MAX(0.1,ROUND(100/(24*3600)*VLOOKUP(B198,[1]ResourceLevelConfig!$A:$E,5,FALSE),2))","v":0.8},-1,4,4,4,{"$f":"MAX(AF197+10,ROUND(10^(B198*0.01+1.405),0))","v":2213},null,null,null,1,4,194,null,null,{"$f":"IF(AN198=\"\",\"\",1)","v":""},null,"",null,{"$f":"IF(AR198=\"\",\"\",1)","v":""},null,{"$f":"IF(AT198=\"\",\"\",1)","v":""},null,{"$f":"IF(AV198=\"\",\"\",1)","v":""},null,{"$f":"IF(AX198=\"\",\"\",1)","v":""},{"$f":"IF(AN198=\"\",\"\",VLOOKUP(AN198,[4]ItemConfig!$A:$C,3,FALSE)&AO198)","v":""},{"$f":"IF(AP198=\"\",\"\",VLOOKUP(AP198,[4]ItemConfig!$A:$C,3,FALSE)&AQ198)","v":""},{"$f":"IF(AR198=\"\",\"\",VLOOKUP(AR198,[4]ItemConfig!$A:$C,3,FALSE)&AS198)","v":""},{"$f":"IF(AT198=\"\",\"\",VLOOKUP(AT198,[4]ItemConfig!$A:$C,3,FALSE)&AU198)","v":""},{"$f":"IF(AV198=\"\",\"\",VLOOKUP(AV198,[4]ItemConfig!$A:$C,3,FALSE)&AW198)","v":""},{"$f":"IF(AX198=\"\",\"\",VLOOKUP(AX198,[4]ItemConfig!$A:$C,3,FALSE)&AY198)","v":""}]
[195,195,7,20,5,"231;236;242","合体","中期.","五重",231,236,242,{"$f":"ROUND([1]ResourceLevelConfig!$E199*[1]ResourceLevelConfig!$L199*0.1,0)*10","v":10500},-1,0,-1,-1,-1,-1,0,{"$f":"[3]主表!K197","v":13490.696859993997},{"$f":"[3]主表!L197","v":174.204316160941},{"$f":"[3]主表!M197","v":174.204316160941},{"$f":"[3]主表!N197","v":682.14},{"$f":"[3]主表!$G197","v":104945},{"$f":"[3]升级!$H197","v":1600},{"$f":"MAX(0.1,ROUND(100/(24*3600)*VLOOKUP(B199,[1]ResourceLevelConfig!$A:$E,5,FALSE),2))","v":0.81},-1,4,4,4,2265,null,null,null,1,4,195,null,null,"",null,"",null,{"$f":"IF(AR199=\"\",\"\",1)","v":""},null,{"$f":"IF(AT199=\"\",\"\",1)","v":""},null,{"$f":"IF(AV199=\"\",\"\",1)","v":""},null,{"$f":"IF(AX199=\"\",\"\",1)","v":""},{"$f":"IF(AN199=\"\",\"\",VLOOKUP(AN199,[4]ItemConfig!$A:$C,3,FALSE)&AO199)","v":""},{"$f":"IF(AP199=\"\",\"\",VLOOKUP(AP199,[4]ItemConfig!$A:$C,3,FALSE)&AQ199)","v":""},{"$f":"IF(AR199=\"\",\"\",VLOOKUP(AR199,[4]ItemConfig!$A:$C,3,FALSE)&AS199)","v":""},{"$f":"IF(AT199=\"\",\"\",VLOOKUP(AT199,[4]ItemConfig!$A:$C,3,FALSE)&AU199)","v":""},{"$f":"IF(AV199=\"\",\"\",VLOOKUP(AV199,[4]ItemConfig!$A:$C,3,FALSE)&AW199)","v":""},{"$f":"IF(AX199=\"\",\"\",VLOOKUP(AX199,[4]ItemConfig!$A:$C,3,FALSE)&AY199)","v":""}]
[196,196,7,20,6,"231;236;243","合体","中期.","六重",231,236,243,{"$f":"ROUND([1]ResourceLevelConfig!$E200*[1]ResourceLevelConfig!$L200*0.1,0)*10","v":10650},-1,0,-1,-1,-1,-1,0,{"$f":"[3]主表!K198","v":13738.774098784121},{"$f":"[3]主表!L198","v":176.55639294428536},{"$f":"[3]主表!M198","v":176.55639294428536},{"$f":"[3]主表!N198","v":692.65},{"$f":"[3]主表!$G198","v":106561},{"$f":"[3]升级!$H198","v":1600},{"$f":"MAX(0.1,ROUND(100/(24*3600)*VLOOKUP(B200,[1]ResourceLevelConfig!$A:$E,5,FALSE),2))","v":0.82},-1,4,4,4,2317,null,null,null,1,4,196,null,null,"",null,"",null,{"$f":"IF(AR200=\"\",\"\",1)","v":""},null,{"$f":"IF(AT200=\"\",\"\",1)","v":""},null,{"$f":"IF(AV200=\"\",\"\",1)","v":""},null,{"$f":"IF(AX200=\"\",\"\",1)","v":""},{"$f":"IF(AN200=\"\",\"\",VLOOKUP(AN200,[4]ItemConfig!$A:$C,3,FALSE)&AO200)","v":""},{"$f":"IF(AP200=\"\",\"\",VLOOKUP(AP200,[4]ItemConfig!$A:$C,3,FALSE)&AQ200)","v":""},{"$f":"IF(AR200=\"\",\"\",VLOOKUP(AR200,[4]ItemConfig!$A:$C,3,FALSE)&AS200)","v":""},{"$f":"IF(AT200=\"\",\"\",VLOOKUP(AT200,[4]ItemConfig!$A:$C,3,FALSE)&AU200)","v":""},{"$f":"IF(AV200=\"\",\"\",VLOOKUP(AV200,[4]ItemConfig!$A:$C,3,FALSE)&AW200)","v":""},{"$f":"IF(AX200=\"\",\"\",VLOOKUP(AX200,[4]ItemConfig!$A:$C,3,FALSE)&AY200)","v":""}]
[197,197,7,20,7,"231;236;244","合体","中期.","七重",231,236,244,{"$f":"ROUND([1]ResourceLevelConfig!$E201*[1]ResourceLevelConfig!$L201*0.1,0)*10","v":10650},-1,0,-1,-1,-1,-1,0,{"$f":"[3]主表!K199","v":13991.090984650054},{"$f":"[3]主表!L199","v":178.94022706474206},{"$f":"[3]主表!M199","v":178.94022706474206},{"$f":"[3]主表!N199","v":703.31},{"$f":"[3]主表!$G199","v":108202},{"$f":"[3]升级!$H199","v":1600},{"$f":"MAX(0.1,ROUND(100/(24*3600)*VLOOKUP(B201,[1]ResourceLevelConfig!$A:$E,5,FALSE),2))","v":0.82},-1,4,4,4,2371,null,null,null,1,4,197,null,null,"",null,"",null,{"$f":"IF(AR201=\"\",\"\",1)","v":""},null,{"$f":"IF(AT201=\"\",\"\",1)","v":""},null,{"$f":"IF(AV201=\"\",\"\",1)","v":""},null,{"$f":"IF(AX201=\"\",\"\",1)","v":""},{"$f":"IF(AN201=\"\",\"\",VLOOKUP(AN201,[4]ItemConfig!$A:$C,3,FALSE)&AO201)","v":""},{"$f":"IF(AP201=\"\",\"\",VLOOKUP(AP201,[4]ItemConfig!$A:$C,3,FALSE)&AQ201)","v":""},{"$f":"IF(AR201=\"\",\"\",VLOOKUP(AR201,[4]ItemConfig!$A:$C,3,FALSE)&AS201)","v":""},{"$f":"IF(AT201=\"\",\"\",VLOOKUP(AT201,[4]ItemConfig!$A:$C,3,FALSE)&AU201)","v":""},{"$f":"IF(AV201=\"\",\"\",VLOOKUP(AV201,[4]ItemConfig!$A:$C,3,FALSE)&AW201)","v":""},{"$f":"IF(AX201=\"\",\"\",VLOOKUP(AX201,[4]ItemConfig!$A:$C,3,FALSE)&AY201)","v":""}]
[198,198,7,20,8,"231;236;245","合体","中期.","八重",231,236,245,{"$f":"ROUND([1]ResourceLevelConfig!$E202*[1]ResourceLevelConfig!$L202*0.1,0)*10","v":10800},-1,0,-1,-1,-1,-1,0,{"$f":"[3]主表!K200","v":14247.716779242011},{"$f":"[3]主表!L200","v":181.35624730442723},{"$f":"[3]主表!M200","v":181.35624730442723},{"$f":"[3]主表!N200","v":714.15},{"$f":"[3]主表!$G200","v":109870},{"$f":"[3]升级!$H200","v":1600},{"$f":"MAX(0.1,ROUND(100/(24*3600)*VLOOKUP(B202,[1]ResourceLevelConfig!$A:$E,5,FALSE),2))","v":0.83},-1,4,4,4,2427,null,null,null,1,4,198,null,null,"",null,"",null,{"$f":"IF(AR202=\"\",\"\",1)","v":""},null,{"$f":"IF(AT202=\"\",\"\",1)","v":""},null,{"$f":"IF(AV202=\"\",\"\",1)","v":""},null,{"$f":"IF(AX202=\"\",\"\",1)","v":""},{"$f":"IF(AN202=\"\",\"\",VLOOKUP(AN202,[4]ItemConfig!$A:$C,3,FALSE)&AO202)","v":""},{"$f":"IF(AP202=\"\",\"\",VLOOKUP(AP202,[4]ItemConfig!$A:$C,3,FALSE)&AQ202)","v":""},{"$f":"IF(AR202=\"\",\"\",VLOOKUP(AR202,[4]ItemConfig!$A:$C,3,FALSE)&AS202)","v":""},{"$f":"IF(AT202=\"\",\"\",VLOOKUP(AT202,[4]ItemConfig!$A:$C,3,FALSE)&AU202)","v":""},{"$f":"IF(AV202=\"\",\"\",VLOOKUP(AV202,[4]ItemConfig!$A:$C,3,FALSE)&AW202)","v":""},{"$f":"IF(AX202=\"\",\"\",VLOOKUP(AX202,[4]ItemConfig!$A:$C,3,FALSE)&AY202)","v":""}]
[199,199,7,20,9,"231;236;246","合体","中期.","九重",231,236,246,{"$f":"ROUND([1]ResourceLevelConfig!$E203*[1]ResourceLevelConfig!$L203*0.1,0)*10","v":10950},-1,0,-1,-1,-1,-1,0,{"$f":"[3]主表!K201","v":14508.721841643037},{"$f":"[3]主表!L201","v":183.80488823479953},{"$f":"[3]主表!M201","v":183.80488823479953},{"$f":"[3]主表!N201","v":725.17},{"$f":"[3]主表!$G201","v":111564},{"$f":"[3]升级!$H201","v":1600},{"$f":"MAX(0.1,ROUND(100/(24*3600)*VLOOKUP(B203,[1]ResourceLevelConfig!$A:$E,5,FALSE),2))","v":0.84},-1,4,4,4,2483,null,null,null,1,4,199,null,null,"",null,"",null,{"$f":"IF(AR203=\"\",\"\",1)","v":""},null,{"$f":"IF(AT203=\"\",\"\",1)","v":""},null,{"$f":"IF(AV203=\"\",\"\",1)","v":""},null,{"$f":"IF(AX203=\"\",\"\",1)","v":""},{"$f":"IF(AN203=\"\",\"\",VLOOKUP(AN203,[4]ItemConfig!$A:$C,3,FALSE)&AO203)","v":""},{"$f":"IF(AP203=\"\",\"\",VLOOKUP(AP203,[4]ItemConfig!$A:$C,3,FALSE)&AQ203)","v":""},{"$f":"IF(AR203=\"\",\"\",VLOOKUP(AR203,[4]ItemConfig!$A:$C,3,FALSE)&AS203)","v":""},{"$f":"IF(AT203=\"\",\"\",VLOOKUP(AT203,[4]ItemConfig!$A:$C,3,FALSE)&AU203)","v":""},{"$f":"IF(AV203=\"\",\"\",VLOOKUP(AV203,[4]ItemConfig!$A:$C,3,FALSE)&AW203)","v":""},{"$f":"IF(AX203=\"\",\"\",VLOOKUP(AX203,[4]ItemConfig!$A:$C,3,FALSE)&AY203)","v":""}]
[200,200,7,20,10,"231;236;247","合体","中期.","十重",231,236,247,{"$f":"ROUND([1]ResourceLevelConfig!$E204*[1]ResourceLevelConfig!$L204*0.1,0)*10","v":10950},100004,0,{"$f":"AN204","v":1320},{"$f":"AO204","v":1},{"$f":"_xlfn.TEXTJOIN(\";\",1,AP204,AR204,AT204,AV204)","v":"1213;1214;1215"},{"$f":"_xlfn.TEXTJOIN(\";\",1,AQ204,AS204,AU204,AW204)","v":"1;1;1"},0,{"$f":"[3]主表!K202","v":14774.177645377375},{"$f":"[3]主表!L202","v":186.28659029482696},{"$f":"[3]主表!M202","v":186.28659029482696},{"$f":"[3]主表!N202","v":793},{"$f":"[3]主表!$G202","v":113286},{"$f":"[3]升级!$H202","v":1600},{"$f":"MAX(0.1,ROUND(100/(24*3600)*VLOOKUP(B204,[1]ResourceLevelConfig!$A:$E,5,FALSE),2))","v":0.84},20,4,4,4,2541,null,null,null,1,4,200,null,1320,1,1213,1,1214,{"$f":"IF(AR204=\"\",\"\",1)","v":1},1215,{"$f":"IF(AT204=\"\",\"\",1)","v":1},null,{"$f":"IF(AV204=\"\",\"\",1)","v":""},null,{"$f":"IF(AX204=\"\",\"\",1)","v":""},{"$f":"IF(AN204=\"\",\"\",VLOOKUP(AN204,[4]ItemConfig!$A:$C,3,FALSE)&AO204)","v":"合元丹1"},{"$f":"IF(AP204=\"\",\"\",VLOOKUP(AP204,[4]ItemConfig!$A:$C,3,FALSE)&AQ204)","v":"混元晶1"},{"$f":"IF(AR204=\"\",\"\",VLOOKUP(AR204,[4]ItemConfig!$A:$C,3,FALSE)&AS204)","v":"地髓晶1"},{"$f":"IF(AT204=\"\",\"\",VLOOKUP(AT204,[4]ItemConfig!$A:$C,3,FALSE)&AU204)","v":"灵月石1"},{"$f":"IF(AV204=\"\",\"\",VLOOKUP(AV204,[4]ItemConfig!$A:$C,3,FALSE)&AW204)","v":""},{"$f":"IF(AX204=\"\",\"\",VLOOKUP(AX204,[4]ItemConfig!$A:$C,3,FALSE)&AY204)","v":""}]
[201,201,7,21,1,"231;237;238","合体","后期.","一重",231,237,238,{"$f":"ROUND([1]ResourceLevelConfig!$E205*[1]ResourceLevelConfig!$L205*0.1,0)*10","v":11100},-1,0,-1,-1,{"$f":"IF(I205=10,\"1001;1002;1004\",-1)","v":-1},-1,0,{"$f":"[3]主表!K203","v":16328.113094152768},{"$f":"[3]主表!L203","v":204.91524932430966},{"$f":"[3]主表!M203","v":204.91524932430966},{"$f":"[3]主表!N203","v":892.64},{"$f":"[3]主表!$G203","v":127520},{"$f":"[3]升级!$H203","v":1600},{"$f":"MAX(0.1,ROUND(100/(24*3600)*VLOOKUP(B205,[1]ResourceLevelConfig!$A:$E,5,FALSE),2))","v":0.86},-1,4,4,4,2600,null,null,null,1,4,201,null,null,"",null,"",null,{"$f":"IF(AR205=\"\",\"\",1)","v":""},null,{"$f":"IF(AT205=\"\",\"\",1)","v":""},null,{"$f":"IF(AV205=\"\",\"\",1)","v":""},null,{"$f":"IF(AX205=\"\",\"\",1)","v":""},{"$f":"IF(AN205=\"\",\"\",VLOOKUP(AN205,[4]ItemConfig!$A:$C,3,FALSE)&AO205)","v":""},{"$f":"IF(AP205=\"\",\"\",VLOOKUP(AP205,[4]ItemConfig!$A:$C,3,FALSE)&AQ205)","v":""},{"$f":"IF(AR205=\"\",\"\",VLOOKUP(AR205,[4]ItemConfig!$A:$C,3,FALSE)&AS205)","v":""},{"$f":"IF(AT205=\"\",\"\",VLOOKUP(AT205,[4]ItemConfig!$A:$C,3,FALSE)&AU205)","v":""},{"$f":"IF(AV205=\"\",\"\",VLOOKUP(AV205,[4]ItemConfig!$A:$C,3,FALSE)&AW205)","v":""},{"$f":"IF(AX205=\"\",\"\",VLOOKUP(AX205,[4]ItemConfig!$A:$C,3,FALSE)&AY205)","v":""}]
[202,202,7,21,2,"231;237;239","合体","后期.","二重",231,237,239,{"$f":"ROUND([1]ResourceLevelConfig!$E206*[1]ResourceLevelConfig!$L206*0.1,0)*10","v":11250},-1,0,-1,-1,-1,-1,0,{"$f":"[3]主表!K204","v":16626.123288125607},{"$f":"[3]主表!L204","v":207.68197985722966},{"$f":"[3]主表!M204","v":207.68197985722966},{"$f":"[3]主表!N204","v":906.21},{"$f":"[3]主表!$G204","v":129458},{"$f":"[3]升级!$H204","v":1600},{"$f":"MAX(0.1,ROUND(100/(24*3600)*VLOOKUP(B206,[1]ResourceLevelConfig!$A:$E,5,FALSE),2))","v":0.87},-1,4,4,4,2661,null,null,null,1,4,202,null,null,"",null,"",null,{"$f":"IF(AR206=\"\",\"\",1)","v":""},null,{"$f":"IF(AT206=\"\",\"\",1)","v":""},null,{"$f":"IF(AV206=\"\",\"\",1)","v":""},null,{"$f":"IF(AX206=\"\",\"\",1)","v":""},{"$f":"IF(AN206=\"\",\"\",VLOOKUP(AN206,[4]ItemConfig!$A:$C,3,FALSE)&AO206)","v":""},{"$f":"IF(AP206=\"\",\"\",VLOOKUP(AP206,[4]ItemConfig!$A:$C,3,FALSE)&AQ206)","v":""},{"$f":"IF(AR206=\"\",\"\",VLOOKUP(AR206,[4]ItemConfig!$A:$C,3,FALSE)&AS206)","v":""},{"$f":"IF(AT206=\"\",\"\",VLOOKUP(AT206,[4]ItemConfig!$A:$C,3,FALSE)&AU206)","v":""},{"$f":"IF(AV206=\"\",\"\",VLOOKUP(AV206,[4]ItemConfig!$A:$C,3,FALSE)&AW206)","v":""},{"$f":"IF(AX206=\"\",\"\",VLOOKUP(AX206,[4]ItemConfig!$A:$C,3,FALSE)&AY206)","v":""}]
[203,203,7,21,3,"231;237;240","合体","后期.","三重",231,237,240,{"$f":"ROUND([1]ResourceLevelConfig!$E207*[1]ResourceLevelConfig!$L207*0.1,0)*10","v":11400},-1,0,-1,-1,-1,-1,0,{"$f":"[3]主表!K205","v":16929.204242366704},{"$f":"[3]主表!L205","v":210.48606631103422},{"$f":"[3]主表!M205","v":210.48606631103422},{"$f":"[3]主表!N205","v":920},{"$f":"[3]主表!$G205","v":131428},{"$f":"[3]升级!$H205","v":1600},{"$f":"MAX(0.1,ROUND(100/(24*3600)*VLOOKUP(B207,[1]ResourceLevelConfig!$A:$E,5,FALSE),2))","v":0.88},-1,4,4,4,2723,null,null,null,1,4,203,null,null,"",null,"",null,{"$f":"IF(AR207=\"\",\"\",1)","v":""},null,{"$f":"IF(AT207=\"\",\"\",1)","v":""},null,{"$f":"IF(AV207=\"\",\"\",1)","v":""},null,{"$f":"IF(AX207=\"\",\"\",1)","v":""},{"$f":"IF(AN207=\"\",\"\",VLOOKUP(AN207,[4]ItemConfig!$A:$C,3,FALSE)&AO207)","v":""},{"$f":"IF(AP207=\"\",\"\",VLOOKUP(AP207,[4]ItemConfig!$A:$C,3,FALSE)&AQ207)","v":""},{"$f":"IF(AR207=\"\",\"\",VLOOKUP(AR207,[4]ItemConfig!$A:$C,3,FALSE)&AS207)","v":""},{"$f":"IF(AT207=\"\",\"\",VLOOKUP(AT207,[4]ItemConfig!$A:$C,3,FALSE)&AU207)","v":""},{"$f":"IF(AV207=\"\",\"\",VLOOKUP(AV207,[4]ItemConfig!$A:$C,3,FALSE)&AW207)","v":""},{"$f":"IF(AX207=\"\",\"\",VLOOKUP(AX207,[4]ItemConfig!$A:$C,3,FALSE)&AY207)","v":""}]
[204,204,7,21,4,"231;237;241","合体","后期.","四重",231,237,241,{"$f":"ROUND([1]ResourceLevelConfig!$E208*[1]ResourceLevelConfig!$L208*0.1,0)*10","v":11400},-1,0,-1,-1,-1,-1,0,{"$f":"[3]主表!K206","v":17237.438558875401},{"$f":"[3]主表!L206","v":213.32801305895683},{"$f":"[3]主表!M206","v":213.32801305895683},{"$f":"[3]主表!N206","v":934},{"$f":"[3]主表!$G206","v":133428},{"$f":"[3]升级!$H206","v":1600},{"$f":"MAX(0.1,ROUND(100/(24*3600)*VLOOKUP(B208,[1]ResourceLevelConfig!$A:$E,5,FALSE),2))","v":0.88},-1,4,4,4,2786,null,null,null,1,4,204,null,null,"",null,"",null,{"$f":"IF(AR208=\"\",\"\",1)","v":""},null,{"$f":"IF(AT208=\"\",\"\",1)","v":""},null,{"$f":"IF(AV208=\"\",\"\",1)","v":""},null,{"$f":"IF(AX208=\"\",\"\",1)","v":""},{"$f":"IF(AN208=\"\",\"\",VLOOKUP(AN208,[4]ItemConfig!$A:$C,3,FALSE)&AO208)","v":""},{"$f":"IF(AP208=\"\",\"\",VLOOKUP(AP208,[4]ItemConfig!$A:$C,3,FALSE)&AQ208)","v":""},{"$f":"IF(AR208=\"\",\"\",VLOOKUP(AR208,[4]ItemConfig!$A:$C,3,FALSE)&AS208)","v":""},{"$f":"IF(AT208=\"\",\"\",VLOOKUP(AT208,[4]ItemConfig!$A:$C,3,FALSE)&AU208)","v":""},{"$f":"IF(AV208=\"\",\"\",VLOOKUP(AV208,[4]ItemConfig!$A:$C,3,FALSE)&AW208)","v":""},{"$f":"IF(AX208=\"\",\"\",VLOOKUP(AX208,[4]ItemConfig!$A:$C,3,FALSE)&AY208)","v":""}]
[205,205,7,21,5,"231;237;242","合体","后期.","五重",231,237,242,{"$f":"ROUND([1]ResourceLevelConfig!$E209*[1]ResourceLevelConfig!$L209*0.1,0)*10","v":11550},-1,0,-1,-1,-1,-1,0,{"$f":"[3]主表!K207","v":17550.910145810674},{"$f":"[3]主表!L207","v":216.20833128419181},{"$f":"[3]主表!M207","v":216.20833128419181},{"$f":"[3]主表!N207","v":948.23},{"$f":"[3]主表!$G207","v":135461},{"$f":"[3]升级!$H207","v":1600},{"$f":"MAX(0.1,ROUND(100/(24*3600)*VLOOKUP(B209,[1]ResourceLevelConfig!$A:$E,5,FALSE),2))","v":0.89},-1,4,4,4,2851,null,null,null,1,4,205,null,null,"",null,"",null,{"$f":"IF(AR209=\"\",\"\",1)","v":""},null,{"$f":"IF(AT209=\"\",\"\",1)","v":""},null,{"$f":"IF(AV209=\"\",\"\",1)","v":""},null,{"$f":"IF(AX209=\"\",\"\",1)","v":""},{"$f":"IF(AN209=\"\",\"\",VLOOKUP(AN209,[4]ItemConfig!$A:$C,3,FALSE)&AO209)","v":""},{"$f":"IF(AP209=\"\",\"\",VLOOKUP(AP209,[4]ItemConfig!$A:$C,3,FALSE)&AQ209)","v":""},{"$f":"IF(AR209=\"\",\"\",VLOOKUP(AR209,[4]ItemConfig!$A:$C,3,FALSE)&AS209)","v":""},{"$f":"IF(AT209=\"\",\"\",VLOOKUP(AT209,[4]ItemConfig!$A:$C,3,FALSE)&AU209)","v":""},{"$f":"IF(AV209=\"\",\"\",VLOOKUP(AV209,[4]ItemConfig!$A:$C,3,FALSE)&AW209)","v":""},{"$f":"IF(AX209=\"\",\"\",VLOOKUP(AX209,[4]ItemConfig!$A:$C,3,FALSE)&AY209)","v":""}]
[206,206,7,21,6,"231;237;243","合体","后期.","六重",231,237,243,{"$f":"ROUND([1]ResourceLevelConfig!$E210*[1]ResourceLevelConfig!$L210*0.1,0)*10","v":11700},-1,0,-1,-1,-1,-1,0,{"$f":"[3]主表!K208","v":17869.704237703932},{"$f":"[3]主表!L208","v":219.12753907184131},{"$f":"[3]主表!M208","v":219.12753907184131},{"$f":"[3]主表!N208","v":962.67},{"$f":"[3]主表!$G208","v":137525},{"$f":"[3]升级!$H208","v":1600},{"$f":"MAX(0.1,ROUND(100/(24*3600)*VLOOKUP(B210,[1]ResourceLevelConfig!$A:$E,5,FALSE),2))","v":0.9},-1,4,4,4,2917,null,null,null,1,4,206,null,null,"",null,"",null,{"$f":"IF(AR210=\"\",\"\",1)","v":""},null,{"$f":"IF(AT210=\"\",\"\",1)","v":""},null,{"$f":"IF(AV210=\"\",\"\",1)","v":""},null,{"$f":"IF(AX210=\"\",\"\",1)","v":""},{"$f":"IF(AN210=\"\",\"\",VLOOKUP(AN210,[4]ItemConfig!$A:$C,3,FALSE)&AO210)","v":""},{"$f":"IF(AP210=\"\",\"\",VLOOKUP(AP210,[4]ItemConfig!$A:$C,3,FALSE)&AQ210)","v":""},{"$f":"IF(AR210=\"\",\"\",VLOOKUP(AR210,[4]ItemConfig!$A:$C,3,FALSE)&AS210)","v":""},{"$f":"IF(AT210=\"\",\"\",VLOOKUP(AT210,[4]ItemConfig!$A:$C,3,FALSE)&AU210)","v":""},{"$f":"IF(AV210=\"\",\"\",VLOOKUP(AV210,[4]ItemConfig!$A:$C,3,FALSE)&AW210)","v":""},{"$f":"IF(AX210=\"\",\"\",VLOOKUP(AX210,[4]ItemConfig!$A:$C,3,FALSE)&AY210)","v":""}]
[207,207,7,21,7,"231;237;244","合体","后期.","七重",231,237,244,{"$f":"ROUND([1]ResourceLevelConfig!$E211*[1]ResourceLevelConfig!$L211*0.1,0)*10","v":11850},-1,0,-1,-1,-1,-1,0,{"$f":"[3]主表!K209","v":18193.907415979524},{"$f":"[3]主表!L209","v":222.08616150210361},{"$f":"[3]主表!M209","v":222.08616150210361},{"$f":"[3]主表!N209","v":977.35},{"$f":"[3]主表!$G209","v":139622},{"$f":"[3]升级!$H209","v":1600},{"$f":"MAX(0.1,ROUND(100/(24*3600)*VLOOKUP(B211,[1]ResourceLevelConfig!$A:$E,5,FALSE),2))","v":0.91},-1,4,4,4,2985,null,null,null,1,4,207,null,null,"",null,"",null,{"$f":"IF(AR211=\"\",\"\",1)","v":""},null,{"$f":"IF(AT211=\"\",\"\",1)","v":""},null,{"$f":"IF(AV211=\"\",\"\",1)","v":""},null,{"$f":"IF(AX211=\"\",\"\",1)","v":""},{"$f":"IF(AN211=\"\",\"\",VLOOKUP(AN211,[4]ItemConfig!$A:$C,3,FALSE)&AO211)","v":""},{"$f":"IF(AP211=\"\",\"\",VLOOKUP(AP211,[4]ItemConfig!$A:$C,3,FALSE)&AQ211)","v":""},{"$f":"IF(AR211=\"\",\"\",VLOOKUP(AR211,[4]ItemConfig!$A:$C,3,FALSE)&AS211)","v":""},{"$f":"IF(AT211=\"\",\"\",VLOOKUP(AT211,[4]ItemConfig!$A:$C,3,FALSE)&AU211)","v":""},{"$f":"IF(AV211=\"\",\"\",VLOOKUP(AV211,[4]ItemConfig!$A:$C,3,FALSE)&AW211)","v":""},{"$f":"IF(AX211=\"\",\"\",VLOOKUP(AX211,[4]ItemConfig!$A:$C,3,FALSE)&AY211)","v":""}]
[208,208,7,21,8,"231;237;245","合体","后期.","八重",231,237,245,{"$f":"ROUND([1]ResourceLevelConfig!$E212*[1]ResourceLevelConfig!$L212*0.1,0)*10","v":12000},-1,0,-1,-1,-1,-1,0,{"$f":"[3]主表!K210","v":18523.60762978757},{"$f":"[3]主表!L210","v":225.08473074471968},{"$f":"[3]主表!M210","v":225.08473074471968},{"$f":"[3]主表!N210","v":992.27},{"$f":"[3]主表!$G210","v":141753},{"$f":"[3]升级!$H210","v":1600},{"$f":"MAX(0.1,ROUND(100/(24*3600)*VLOOKUP(B212,[1]ResourceLevelConfig!$A:$E,5,FALSE),2))","v":0.93},-1,4,4,4,3055,null,null,null,1,4,208,null,null,"",null,"",null,{"$f":"IF(AR212=\"\",\"\",1)","v":""},null,{"$f":"IF(AT212=\"\",\"\",1)","v":""},null,{"$f":"IF(AV212=\"\",\"\",1)","v":""},null,{"$f":"IF(AX212=\"\",\"\",1)","v":""},{"$f":"IF(AN212=\"\",\"\",VLOOKUP(AN212,[4]ItemConfig!$A:$C,3,FALSE)&AO212)","v":""},{"$f":"IF(AP212=\"\",\"\",VLOOKUP(AP212,[4]ItemConfig!$A:$C,3,FALSE)&AQ212)","v":""},{"$f":"IF(AR212=\"\",\"\",VLOOKUP(AR212,[4]ItemConfig!$A:$C,3,FALSE)&AS212)","v":""},{"$f":"IF(AT212=\"\",\"\",VLOOKUP(AT212,[4]ItemConfig!$A:$C,3,FALSE)&AU212)","v":""},{"$f":"IF(AV212=\"\",\"\",VLOOKUP(AV212,[4]ItemConfig!$A:$C,3,FALSE)&AW212)","v":""},{"$f":"IF(AX212=\"\",\"\",VLOOKUP(AX212,[4]ItemConfig!$A:$C,3,FALSE)&AY212)","v":""}]
[209,209,7,21,9,"231;237;246","合体","后期.","九重",231,237,246,{"$f":"ROUND([1]ResourceLevelConfig!$E213*[1]ResourceLevelConfig!$L213*0.1,0)*10","v":12000},-1,0,-1,-1,-1,-1,0,{"$f":"[3]主表!K211","v":18858.894217153796},{"$f":"[3]主表!L211","v":228.12378615469507},{"$f":"[3]主表!M211","v":228.12378615469507},{"$f":"[3]主表!N211","v":1007.42},{"$f":"[3]主表!$G211","v":143917},{"$f":"[3]升级!$H211","v":1600},{"$f":"MAX(0.1,ROUND(100/(24*3600)*VLOOKUP(B213,[1]ResourceLevelConfig!$A:$E,5,FALSE),2))","v":0.93},-1,4,4,4,3126,null,null,null,1,4,209,null,null,"",null,"",null,{"$f":"IF(AR213=\"\",\"\",1)","v":""},null,{"$f":"IF(AT213=\"\",\"\",1)","v":""},null,{"$f":"IF(AV213=\"\",\"\",1)","v":""},null,{"$f":"IF(AX213=\"\",\"\",1)","v":""},{"$f":"IF(AN213=\"\",\"\",VLOOKUP(AN213,[4]ItemConfig!$A:$C,3,FALSE)&AO213)","v":""},{"$f":"IF(AP213=\"\",\"\",VLOOKUP(AP213,[4]ItemConfig!$A:$C,3,FALSE)&AQ213)","v":""},{"$f":"IF(AR213=\"\",\"\",VLOOKUP(AR213,[4]ItemConfig!$A:$C,3,FALSE)&AS213)","v":""},{"$f":"IF(AT213=\"\",\"\",VLOOKUP(AT213,[4]ItemConfig!$A:$C,3,FALSE)&AU213)","v":""},{"$f":"IF(AV213=\"\",\"\",VLOOKUP(AV213,[4]ItemConfig!$A:$C,3,FALSE)&AW213)","v":""},{"$f":"IF(AX213=\"\",\"\",VLOOKUP(AX213,[4]ItemConfig!$A:$C,3,FALSE)&AY213)","v":""}]
[210,210,7,21,10,"231;237;247","合体","后期.","十重",231,237,247,{"$f":"ROUND([1]ResourceLevelConfig!$E214*[1]ResourceLevelConfig!$L214*0.1,0)*10","v":12150},100004,0,{"$f":"AN214","v":1321},{"$f":"AO214","v":1},{"$f":"_xlfn.TEXTJOIN(\";\",1,AP214,AR214,AT214,AV214)","v":"1213;1214;1215"},{"$f":"_xlfn.TEXTJOIN(\";\",1,AQ214,AS214,AU214,AW214)","v":"1;1;1"},{"$f":"CONCATENATE(ROUND(0.6*VLOOKUP(A214,[3]主表!$A:$P,16,FALSE)*[5]HeroModelConfig!$Q$5,0),\";\",ROUND(0.9*VLOOKUP(A214,[3]主表!$A:$P,16,FALSE)*[5]HeroModelConfig!$Q$5,0),\";\",INT(A214/30)+1)","v":"3640172;5460258;8"},{"$f":"[3]主表!K212","v":19199.857926451208},{"$f":"[3]主表!L212","v":231.20387436931404},{"$f":"[3]主表!M212","v":231.20387436931404},{"$f":"[3]主表!N212","v":1095.8699999999999},{"$f":"[3]主表!$G212","v":146116},{"$f":"[3]升级!$H212","v":1600},{"$f":"MAX(0.1,ROUND(100/(24*3600)*VLOOKUP(B214,[1]ResourceLevelConfig!$A:$E,5,FALSE),2))","v":0.94},50,4,4,4,3199,null,null,null,1,4,210,null,1321,1,1213,1,1214,{"$f":"IF(AR214=\"\",\"\",1)","v":1},1215,{"$f":"IF(AT214=\"\",\"\",1)","v":1},null,{"$f":"IF(AV214=\"\",\"\",1)","v":""},null,{"$f":"IF(AX214=\"\",\"\",1)","v":""},{"$f":"IF(AN214=\"\",\"\",VLOOKUP(AN214,[4]ItemConfig!$A:$C,3,FALSE)&AO214)","v":"鸿蒙紫华1"},{"$f":"IF(AP214=\"\",\"\",VLOOKUP(AP214,[4]ItemConfig!$A:$C,3,FALSE)&AQ214)","v":"混元晶1"},{"$f":"IF(AR214=\"\",\"\",VLOOKUP(AR214,[4]ItemConfig!$A:$C,3,FALSE)&AS214)","v":"地髓晶1"},{"$f":"IF(AT214=\"\",\"\",VLOOKUP(AT214,[4]ItemConfig!$A:$C,3,FALSE)&AU214)","v":"灵月石1"},{"$f":"IF(AV214=\"\",\"\",VLOOKUP(AV214,[4]ItemConfig!$A:$C,3,FALSE)&AW214)","v":""},{"$f":"IF(AX214=\"\",\"\",VLOOKUP(AX214,[4]ItemConfig!$A:$C,3,FALSE)&AY214)","v":""}]
[211,211,7,19,1,"232;235;238","大乘","前期.","一重",232,235,238,{"$f":"ROUND([1]ResourceLevelConfig!$E215*[1]ResourceLevelConfig!$L215*0.1,0)*10","v":12300},-1,0,-1,-1,{"$f":"IF(I215=10,\"1001;1002;1004\",-1)","v":-1},{"$f":"IF(R215=-1,-1,\"100;200;300\")","v":-1},0,{"$f":"[3]主表!K213","v":25072.04970687933},{"$f":"[3]主表!L213","v":300.56503668010822},{"$f":"[3]主表!M213","v":300.56503668010822},{"$f":"[3]主表!N213","v":1457.63},{"$f":"[3]主表!$G213","v":194351},{"$f":"[3]升级!$H213","v":1700},{"$f":"MAX(0.1,ROUND(100/(24*3600)*VLOOKUP(B215,[1]ResourceLevelConfig!$A:$E,5,FALSE),2))","v":0.95},-1,4,4,4,3273,null,null,null,1,4,211,null,null,"",null,"",null,{"$f":"IF(AR215=\"\",\"\",1)","v":""},null,{"$f":"IF(AT215=\"\",\"\",1)","v":""},null,{"$f":"IF(AV215=\"\",\"\",1)","v":""},null,{"$f":"IF(AX215=\"\",\"\",1)","v":""},{"$f":"IF(AN215=\"\",\"\",VLOOKUP(AN215,[4]ItemConfig!$A:$C,3,FALSE)&AO215)","v":""},{"$f":"IF(AP215=\"\",\"\",VLOOKUP(AP215,[4]ItemConfig!$A:$C,3,FALSE)&AQ215)","v":""},{"$f":"IF(AR215=\"\",\"\",VLOOKUP(AR215,[4]ItemConfig!$A:$C,3,FALSE)&AS215)","v":""},{"$f":"IF(AT215=\"\",\"\",VLOOKUP(AT215,[4]ItemConfig!$A:$C,3,FALSE)&AU215)","v":""},{"$f":"IF(AV215=\"\",\"\",VLOOKUP(AV215,[4]ItemConfig!$A:$C,3,FALSE)&AW215)","v":""},{"$f":"IF(AX215=\"\",\"\",VLOOKUP(AX215,[4]ItemConfig!$A:$C,3,FALSE)&AY215)","v":""}]
[212,212,7,19,2,"232;235;239","大乘","前期.","二重",232,235,239,{"$f":"ROUND([1]ResourceLevelConfig!$E216*[1]ResourceLevelConfig!$L216*0.1,0)*10","v":12450},-1,0,-1,-1,{"$f":"IF(I216=10,\"1001;1002;1004\",-1)","v":-1},{"$f":"IF(R216=-1,-1,\"100;200;300\")","v":-1},0,{"$f":"[3]主表!K214","v":25524.317991793672},{"$f":"[3]主表!L214","v":304.62321422840273},{"$f":"[3]主表!M214","v":304.62321422840273},{"$f":"[3]主表!N214","v":1479.58},{"$f":"[3]主表!$G214","v":197277},{"$f":"[3]升级!$H214","v":1700},{"$f":"MAX(0.1,ROUND(100/(24*3600)*VLOOKUP(B216,[1]ResourceLevelConfig!$A:$E,5,FALSE),2))","v":0.96},-1,4,4,4,3350,null,null,null,1,4,212,null,null,"",null,"",null,{"$f":"IF(AR216=\"\",\"\",1)","v":""},null,{"$f":"IF(AT216=\"\",\"\",1)","v":""},null,{"$f":"IF(AV216=\"\",\"\",1)","v":""},null,{"$f":"IF(AX216=\"\",\"\",1)","v":""},{"$f":"IF(AN216=\"\",\"\",VLOOKUP(AN216,[4]ItemConfig!$A:$C,3,FALSE)&AO216)","v":""},{"$f":"IF(AP216=\"\",\"\",VLOOKUP(AP216,[4]ItemConfig!$A:$C,3,FALSE)&AQ216)","v":""},{"$f":"IF(AR216=\"\",\"\",VLOOKUP(AR216,[4]ItemConfig!$A:$C,3,FALSE)&AS216)","v":""},{"$f":"IF(AT216=\"\",\"\",VLOOKUP(AT216,[4]ItemConfig!$A:$C,3,FALSE)&AU216)","v":""},{"$f":"IF(AV216=\"\",\"\",VLOOKUP(AV216,[4]ItemConfig!$A:$C,3,FALSE)&AW216)","v":""},{"$f":"IF(AX216=\"\",\"\",VLOOKUP(AX216,[4]ItemConfig!$A:$C,3,FALSE)&AY216)","v":""}]
[213,213,7,19,3,"232;235;240","大乘","前期.","三重",232,235,240,{"$f":"ROUND([1]ResourceLevelConfig!$E217*[1]ResourceLevelConfig!$L217*0.1,0)*10","v":12600},-1,0,-1,-1,-1,-1,0,{"$f":"[3]主表!K215","v":25984.228555385605},{"$f":"[3]主表!L215","v":308.73618459357107},{"$f":"[3]主表!M215","v":308.73618459357107},{"$f":"[3]主表!N215","v":1501.87},{"$f":"[3]主表!$G215","v":200249},{"$f":"[3]升级!$H215","v":1700},{"$f":"MAX(0.1,ROUND(100/(24*3600)*VLOOKUP(B217,[1]ResourceLevelConfig!$A:$E,5,FALSE),2))","v":0.97},-1,4,4,4,3428,null,null,null,1,4,213,null,null,"",null,"",null,{"$f":"IF(AR217=\"\",\"\",1)","v":""},null,{"$f":"IF(AT217=\"\",\"\",1)","v":""},null,{"$f":"IF(AV217=\"\",\"\",1)","v":""},null,{"$f":"IF(AX217=\"\",\"\",1)","v":""},{"$f":"IF(AN217=\"\",\"\",VLOOKUP(AN217,[4]ItemConfig!$A:$C,3,FALSE)&AO217)","v":""},{"$f":"IF(AP217=\"\",\"\",VLOOKUP(AP217,[4]ItemConfig!$A:$C,3,FALSE)&AQ217)","v":""},{"$f":"IF(AR217=\"\",\"\",VLOOKUP(AR217,[4]ItemConfig!$A:$C,3,FALSE)&AS217)","v":""},{"$f":"IF(AT217=\"\",\"\",VLOOKUP(AT217,[4]ItemConfig!$A:$C,3,FALSE)&AU217)","v":""},{"$f":"IF(AV217=\"\",\"\",VLOOKUP(AV217,[4]ItemConfig!$A:$C,3,FALSE)&AW217)","v":""},{"$f":"IF(AX217=\"\",\"\",VLOOKUP(AX217,[4]ItemConfig!$A:$C,3,FALSE)&AY217)","v":""}]
[214,214,7,19,4,"232;235;241","大乘","前期.","四重",232,235,241,{"$f":"ROUND([1]ResourceLevelConfig!$E218*[1]ResourceLevelConfig!$L218*0.1,0)*10","v":12600},-1,0,-1,-1,-1,-1,0,{"$f":"[3]主表!K216","v":26451.905318902238},{"$f":"[3]主表!L216","v":312.90468757882417},{"$f":"[3]主表!M216","v":312.90468757882417},{"$f":"[3]主表!N216","v":1524.51},{"$f":"[3]主表!$G216","v":203268},{"$f":"[3]升级!$H216","v":1700},{"$f":"MAX(0.1,ROUND(100/(24*3600)*VLOOKUP(B218,[1]ResourceLevelConfig!$A:$E,5,FALSE),2))","v":0.97},-1,4,4,4,3508,null,null,null,1,4,214,null,null,"",null,"",null,{"$f":"IF(AR218=\"\",\"\",1)","v":""},null,{"$f":"IF(AT218=\"\",\"\",1)","v":""},null,{"$f":"IF(AV218=\"\",\"\",1)","v":""},null,{"$f":"IF(AX218=\"\",\"\",1)","v":""},{"$f":"IF(AN218=\"\",\"\",VLOOKUP(AN218,[4]ItemConfig!$A:$C,3,FALSE)&AO218)","v":""},{"$f":"IF(AP218=\"\",\"\",VLOOKUP(AP218,[4]ItemConfig!$A:$C,3,FALSE)&AQ218)","v":""},{"$f":"IF(AR218=\"\",\"\",VLOOKUP(AR218,[4]ItemConfig!$A:$C,3,FALSE)&AS218)","v":""},{"$f":"IF(AT218=\"\",\"\",VLOOKUP(AT218,[4]ItemConfig!$A:$C,3,FALSE)&AU218)","v":""},{"$f":"IF(AV218=\"\",\"\",VLOOKUP(AV218,[4]ItemConfig!$A:$C,3,FALSE)&AW218)","v":""},{"$f":"IF(AX218=\"\",\"\",VLOOKUP(AX218,[4]ItemConfig!$A:$C,3,FALSE)&AY218)","v":""}]
[215,215,7,19,5,"232;235;242","大乘","前期.","五重",232,235,242,{"$f":"ROUND([1]ResourceLevelConfig!$E219*[1]ResourceLevelConfig!$L219*0.1,0)*10","v":12750},-1,0,-1,-1,-1,-1,0,{"$f":"[3]主表!K217","v":26927.474156734916},{"$f":"[3]主表!L217","v":317.12947297606905},{"$f":"[3]主表!M217","v":317.12947297606905},{"$f":"[3]主表!N217","v":1547.51},{"$f":"[3]主表!$G217","v":206334},{"$f":"[3]升级!$H217","v":1700},{"$f":"MAX(0.1,ROUND(100/(24*3600)*VLOOKUP(B219,[1]ResourceLevelConfig!$A:$E,5,FALSE),2))","v":0.98},-1,4,4,4,3589,null,null,null,1,4,215,null,null,"",null,"",null,{"$f":"IF(AR219=\"\",\"\",1)","v":""},null,{"$f":"IF(AT219=\"\",\"\",1)","v":""},null,{"$f":"IF(AV219=\"\",\"\",1)","v":""},null,{"$f":"IF(AX219=\"\",\"\",1)","v":""},{"$f":"IF(AN219=\"\",\"\",VLOOKUP(AN219,[4]ItemConfig!$A:$C,3,FALSE)&AO219)","v":""},{"$f":"IF(AP219=\"\",\"\",VLOOKUP(AP219,[4]ItemConfig!$A:$C,3,FALSE)&AQ219)","v":""},{"$f":"IF(AR219=\"\",\"\",VLOOKUP(AR219,[4]ItemConfig!$A:$C,3,FALSE)&AS219)","v":""},{"$f":"IF(AT219=\"\",\"\",VLOOKUP(AT219,[4]ItemConfig!$A:$C,3,FALSE)&AU219)","v":""},{"$f":"IF(AV219=\"\",\"\",VLOOKUP(AV219,[4]ItemConfig!$A:$C,3,FALSE)&AW219)","v":""},{"$f":"IF(AX219=\"\",\"\",VLOOKUP(AX219,[4]ItemConfig!$A:$C,3,FALSE)&AY219)","v":""}]
[216,216,7,19,6,"232;235;243","大乘","前期.","六重",232,235,243,{"$f":"ROUND([1]ResourceLevelConfig!$E220*[1]ResourceLevelConfig!$L220*0.1,0)*10","v":12900},-1,0,-1,-1,-1,-1,0,{"$f":"[3]主表!K218","v":27411.06292657047},{"$f":"[3]主表!L218","v":321.41130070077435},{"$f":"[3]主表!M218","v":321.41130070077435},{"$f":"[3]主表!N218","v":1570.87},{"$f":"[3]主表!$G218","v":209449},{"$f":"[3]升级!$H218","v":1700},{"$f":"MAX(0.1,ROUND(100/(24*3600)*VLOOKUP(B220,[1]ResourceLevelConfig!$A:$E,5,FALSE),2))","v":1},-1,4,4,4,3673,null,null,null,1,4,216,null,null,"",null,"",null,{"$f":"IF(AR220=\"\",\"\",1)","v":""},null,{"$f":"IF(AT220=\"\",\"\",1)","v":""},null,{"$f":"IF(AV220=\"\",\"\",1)","v":""},null,{"$f":"IF(AX220=\"\",\"\",1)","v":""},{"$f":"IF(AN220=\"\",\"\",VLOOKUP(AN220,[4]ItemConfig!$A:$C,3,FALSE)&AO220)","v":""},{"$f":"IF(AP220=\"\",\"\",VLOOKUP(AP220,[4]ItemConfig!$A:$C,3,FALSE)&AQ220)","v":""},{"$f":"IF(AR220=\"\",\"\",VLOOKUP(AR220,[4]ItemConfig!$A:$C,3,FALSE)&AS220)","v":""},{"$f":"IF(AT220=\"\",\"\",VLOOKUP(AT220,[4]ItemConfig!$A:$C,3,FALSE)&AU220)","v":""},{"$f":"IF(AV220=\"\",\"\",VLOOKUP(AV220,[4]ItemConfig!$A:$C,3,FALSE)&AW220)","v":""},{"$f":"IF(AX220=\"\",\"\",VLOOKUP(AX220,[4]ItemConfig!$A:$C,3,FALSE)&AY220)","v":""}]
[217,217,7,19,7,"232;235;244","大乘","前期.","七重",232,235,244,{"$f":"ROUND([1]ResourceLevelConfig!$E221*[1]ResourceLevelConfig!$L221*0.1,0)*10","v":13050},-1,0,-1,-1,-1,-1,0,{"$f":"[3]主表!K219","v":27902.801500000693},{"$f":"[3]主表!L219","v":325.75094092865697},{"$f":"[3]主表!M219","v":325.75094092865697},{"$f":"[3]主表!N219","v":1594.61},{"$f":"[3]主表!$G219","v":212614},{"$f":"[3]升级!$H219","v":1700},{"$f":"MAX(0.1,ROUND(100/(24*3600)*VLOOKUP(B221,[1]ResourceLevelConfig!$A:$E,5,FALSE),2))","v":1.01},-1,4,4,4,3758,null,null,null,1,4,217,null,null,"",null,"",null,{"$f":"IF(AR221=\"\",\"\",1)","v":""},null,{"$f":"IF(AT221=\"\",\"\",1)","v":""},null,{"$f":"IF(AV221=\"\",\"\",1)","v":""},null,{"$f":"IF(AX221=\"\",\"\",1)","v":""},{"$f":"IF(AN221=\"\",\"\",VLOOKUP(AN221,[4]ItemConfig!$A:$C,3,FALSE)&AO221)","v":""},{"$f":"IF(AP221=\"\",\"\",VLOOKUP(AP221,[4]ItemConfig!$A:$C,3,FALSE)&AQ221)","v":""},{"$f":"IF(AR221=\"\",\"\",VLOOKUP(AR221,[4]ItemConfig!$A:$C,3,FALSE)&AS221)","v":""},{"$f":"IF(AT221=\"\",\"\",VLOOKUP(AT221,[4]ItemConfig!$A:$C,3,FALSE)&AU221)","v":""},{"$f":"IF(AV221=\"\",\"\",VLOOKUP(AV221,[4]ItemConfig!$A:$C,3,FALSE)&AW221)","v":""},{"$f":"IF(AX221=\"\",\"\",VLOOKUP(AX221,[4]ItemConfig!$A:$C,3,FALSE)&AY221)","v":""}]
[218,218,7,19,8,"232;235;245","大乘","前期.","八重",232,235,245,{"$f":"ROUND([1]ResourceLevelConfig!$E222*[1]ResourceLevelConfig!$L222*0.1,0)*10","v":13200},-1,0,-1,-1,-1,-1,0,{"$f":"[3]主表!K220","v":28402.821793596671},{"$f":"[3]主表!L220","v":330.14917423421423},{"$f":"[3]主表!M220","v":330.14917423421423},{"$f":"[3]主表!N220","v":1618.71},{"$f":"[3]主表!$G220","v":215828},{"$f":"[3]升级!$H220","v":1700},{"$f":"MAX(0.1,ROUND(100/(24*3600)*VLOOKUP(B222,[1]ResourceLevelConfig!$A:$E,5,FALSE),2))","v":1.02},-1,4,4,4,3846,null,null,null,1,4,218,null,null,"",null,"",null,{"$f":"IF(AR222=\"\",\"\",1)","v":""},null,{"$f":"IF(AT222=\"\",\"\",1)","v":""},null,{"$f":"IF(AV222=\"\",\"\",1)","v":""},null,{"$f":"IF(AX222=\"\",\"\",1)","v":""},{"$f":"IF(AN222=\"\",\"\",VLOOKUP(AN222,[4]ItemConfig!$A:$C,3,FALSE)&AO222)","v":""},{"$f":"IF(AP222=\"\",\"\",VLOOKUP(AP222,[4]ItemConfig!$A:$C,3,FALSE)&AQ222)","v":""},{"$f":"IF(AR222=\"\",\"\",VLOOKUP(AR222,[4]ItemConfig!$A:$C,3,FALSE)&AS222)","v":""},{"$f":"IF(AT222=\"\",\"\",VLOOKUP(AT222,[4]ItemConfig!$A:$C,3,FALSE)&AU222)","v":""},{"$f":"IF(AV222=\"\",\"\",VLOOKUP(AV222,[4]ItemConfig!$A:$C,3,FALSE)&AW222)","v":""},{"$f":"IF(AX222=\"\",\"\",VLOOKUP(AX222,[4]ItemConfig!$A:$C,3,FALSE)&AY222)","v":""}]
[219,219,7,19,9,"232;235;246","大乘","前期.","九重",232,235,246,{"$f":"ROUND([1]ResourceLevelConfig!$E223*[1]ResourceLevelConfig!$L223*0.1,0)*10","v":13350},-1,0,-1,-1,-1,-1,0,{"$f":"[3]主表!K221","v":28911.257800455282},{"$f":"[3]主表!L221","v":334.60679173112629},{"$f":"[3]主表!M221","v":334.60679173112629},{"$f":"[3]主表!N221","v":1643.2},{"$f":"[3]主表!$G221","v":219093},{"$f":"[3]升级!$H221","v":1700},{"$f":"MAX(0.1,ROUND(100/(24*3600)*VLOOKUP(B223,[1]ResourceLevelConfig!$A:$E,5,FALSE),2))","v":1.03},-1,4,4,4,3936,null,null,null,1,4,219,null,null,"",null,"",null,{"$f":"IF(AR223=\"\",\"\",1)","v":""},null,{"$f":"IF(AT223=\"\",\"\",1)","v":""},null,{"$f":"IF(AV223=\"\",\"\",1)","v":""},null,{"$f":"IF(AX223=\"\",\"\",1)","v":""},{"$f":"IF(AN223=\"\",\"\",VLOOKUP(AN223,[4]ItemConfig!$A:$C,3,FALSE)&AO223)","v":""},{"$f":"IF(AP223=\"\",\"\",VLOOKUP(AP223,[4]ItemConfig!$A:$C,3,FALSE)&AQ223)","v":""},{"$f":"IF(AR223=\"\",\"\",VLOOKUP(AR223,[4]ItemConfig!$A:$C,3,FALSE)&AS223)","v":""},{"$f":"IF(AT223=\"\",\"\",VLOOKUP(AT223,[4]ItemConfig!$A:$C,3,FALSE)&AU223)","v":""},{"$f":"IF(AV223=\"\",\"\",VLOOKUP(AV223,[4]ItemConfig!$A:$C,3,FALSE)&AW223)","v":""},{"$f":"IF(AX223=\"\",\"\",VLOOKUP(AX223,[4]ItemConfig!$A:$C,3,FALSE)&AY223)","v":""}]
[220,220,7,19,10,"232;235;247","大乘","前期.","十重",232,235,247,{"$f":"ROUND([1]ResourceLevelConfig!$E224*[1]ResourceLevelConfig!$L224*0.1,0)*10","v":13500},100004,0,{"$f":"AN224","v":1322},{"$f":"AO224","v":1},{"$f":"_xlfn.TEXTJOIN(\";\",1,AP224,AR224,AT224,AV224)","v":"1216;1217;1218"},{"$f":"_xlfn.TEXTJOIN(\";\",1,AQ224,AS224,AU224,AW224)","v":"1;1;1"},0,{"$f":"[3]主表!K222","v":29428.245622224596},{"$f":"[3]主表!L222","v":339.1245952145544},{"$f":"[3]主表!M222","v":339.1245952145544},{"$f":"[3]主表!N222","v":1779.28},{"$f":"[3]主表!$G222","v":222410},{"$f":"[3]升级!$H222","v":1700},{"$f":"MAX(0.1,ROUND(100/(24*3600)*VLOOKUP(B224,[1]ResourceLevelConfig!$A:$E,5,FALSE),2))","v":1.04},20,4,4,4,4027,null,null,null,1,4,220,null,1322,1,1216,1,1217,{"$f":"IF(AR224=\"\",\"\",1)","v":1},1218,{"$f":"IF(AT224=\"\",\"\",1)","v":1},null,{"$f":"IF(AV224=\"\",\"\",1)","v":""},null,{"$f":"IF(AX224=\"\",\"\",1)","v":""},{"$f":"IF(AN224=\"\",\"\",VLOOKUP(AN224,[4]ItemConfig!$A:$C,3,FALSE)&AO224)","v":"九曜花1"},{"$f":"IF(AP224=\"\",\"\",VLOOKUP(AP224,[4]ItemConfig!$A:$C,3,FALSE)&AQ224)","v":"玄雷果1"},{"$f":"IF(AR224=\"\",\"\",VLOOKUP(AR224,[4]ItemConfig!$A:$C,3,FALSE)&AS224)","v":"龙筋草1"},{"$f":"IF(AT224=\"\",\"\",VLOOKUP(AT224,[4]ItemConfig!$A:$C,3,FALSE)&AU224)","v":"太虚花1"},{"$f":"IF(AV224=\"\",\"\",VLOOKUP(AV224,[4]ItemConfig!$A:$C,3,FALSE)&AW224)","v":""},{"$f":"IF(AX224=\"\",\"\",VLOOKUP(AX224,[4]ItemConfig!$A:$C,3,FALSE)&AY224)","v":""}]
[221,221,7,20,1,"232;236;238","大乘","中期.","一重",232,236,238,{"$f":"ROUND([1]ResourceLevelConfig!$E225*[1]ResourceLevelConfig!$L225*0.1,0)*10","v":13650},-1,0,-1,-1,{"$f":"IF(I225=10,\"1001;1002;1004\",-1)","v":-1},{"$f":"IF(R225=-1,-1,\"100;200;300\")","v":-1},0,{"$f":"[3]主表!K223","v":32510.366462578419},{"$f":"[3]主表!L223","v":373.03705473600991},{"$f":"[3]主表!M223","v":373.03705473600991},{"$f":"[3]主表!N223","v":2002.26},{"$f":"[3]主表!$G223","v":250283},{"$f":"[3]升级!$H223","v":1700},{"$f":"MAX(0.1,ROUND(100/(24*3600)*VLOOKUP(B225,[1]ResourceLevelConfig!$A:$E,5,FALSE),2))","v":1.05},-1,4,4,4,4121,null,null,null,1,4,221,null,null,"",null,"",null,{"$f":"IF(AR225=\"\",\"\",1)","v":""},null,{"$f":"IF(AT225=\"\",\"\",1)","v":""},null,{"$f":"IF(AV225=\"\",\"\",1)","v":""},null,{"$f":"IF(AX225=\"\",\"\",1)","v":""},{"$f":"IF(AN225=\"\",\"\",VLOOKUP(AN225,[4]ItemConfig!$A:$C,3,FALSE)&AO225)","v":""},{"$f":"IF(AP225=\"\",\"\",VLOOKUP(AP225,[4]ItemConfig!$A:$C,3,FALSE)&AQ225)","v":""},{"$f":"IF(AR225=\"\",\"\",VLOOKUP(AR225,[4]ItemConfig!$A:$C,3,FALSE)&AS225)","v":""},{"$f":"IF(AT225=\"\",\"\",VLOOKUP(AT225,[4]ItemConfig!$A:$C,3,FALSE)&AU225)","v":""},{"$f":"IF(AV225=\"\",\"\",VLOOKUP(AV225,[4]ItemConfig!$A:$C,3,FALSE)&AW225)","v":""},{"$f":"IF(AX225=\"\",\"\",VLOOKUP(AX225,[4]ItemConfig!$A:$C,3,FALSE)&AY225)","v":""}]
[222,222,7,20,2,"232;236;239","大乘","中期.","二重",232,236,239,{"$f":"ROUND([1]ResourceLevelConfig!$E226*[1]ResourceLevelConfig!$L226*0.1,0)*10","v":13800},-1,0,-1,-1,-1,-1,0,{"$f":"[3]主表!K224","v":33090.492884352701},{"$f":"[3]主表!L224","v":378.07373703589684},{"$f":"[3]主表!M224","v":378.07373703589684},{"$f":"[3]主表!N224","v":2032.14},{"$f":"[3]主表!$G224","v":254017},{"$f":"[3]升级!$H224","v":1700},{"$f":"MAX(0.1,ROUND(100/(24*3600)*VLOOKUP(B226,[1]ResourceLevelConfig!$A:$E,5,FALSE),2))","v":1.06},-1,4,4,4,4217,null,null,null,1,4,222,null,null,"",null,"",null,{"$f":"IF(AR226=\"\",\"\",1)","v":""},null,{"$f":"IF(AT226=\"\",\"\",1)","v":""},null,{"$f":"IF(AV226=\"\",\"\",1)","v":""},null,{"$f":"IF(AX226=\"\",\"\",1)","v":""},{"$f":"IF(AN226=\"\",\"\",VLOOKUP(AN226,[4]ItemConfig!$A:$C,3,FALSE)&AO226)","v":""},{"$f":"IF(AP226=\"\",\"\",VLOOKUP(AP226,[4]ItemConfig!$A:$C,3,FALSE)&AQ226)","v":""},{"$f":"IF(AR226=\"\",\"\",VLOOKUP(AR226,[4]ItemConfig!$A:$C,3,FALSE)&AS226)","v":""},{"$f":"IF(AT226=\"\",\"\",VLOOKUP(AT226,[4]ItemConfig!$A:$C,3,FALSE)&AU226)","v":""},{"$f":"IF(AV226=\"\",\"\",VLOOKUP(AV226,[4]ItemConfig!$A:$C,3,FALSE)&AW226)","v":""},{"$f":"IF(AX226=\"\",\"\",VLOOKUP(AX226,[4]ItemConfig!$A:$C,3,FALSE)&AY226)","v":""}]
[223,223,7,20,3,"232;236;240","大乘","中期.","三重",232,236,240,{"$f":"ROUND([1]ResourceLevelConfig!$E227*[1]ResourceLevelConfig!$L227*0.1,0)*10","v":13800},-1,0,-1,-1,-1,-1,{"$f":"IF(G227=G228,0,CONCATENATE(\"1;1\"))","v":0},{"$f":"[3]主表!K225","v":33680.358221591952},{"$f":"[3]主表!L225","v":383.1784237559022},{"$f":"[3]主表!M225","v":383.1784237559022},{"$f":"[3]主表!N225","v":2062.4699999999998},{"$f":"[3]主表!$G225","v":257809},{"$f":"[3]升级!$H225","v":1700},{"$f":"MAX(0.1,ROUND(100/(24*3600)*VLOOKUP(B227,[1]ResourceLevelConfig!$A:$E,5,FALSE),2))","v":1.06},-1,4,4,4,4315,null,null,null,1,4,223,null,null,"",null,"",null,{"$f":"IF(AR227=\"\",\"\",1)","v":""},null,{"$f":"IF(AT227=\"\",\"\",1)","v":""},null,{"$f":"IF(AV227=\"\",\"\",1)","v":""},null,{"$f":"IF(AX227=\"\",\"\",1)","v":""},{"$f":"IF(AN227=\"\",\"\",VLOOKUP(AN227,[4]ItemConfig!$A:$C,3,FALSE)&AO227)","v":""},{"$f":"IF(AP227=\"\",\"\",VLOOKUP(AP227,[4]ItemConfig!$A:$C,3,FALSE)&AQ227)","v":""},{"$f":"IF(AR227=\"\",\"\",VLOOKUP(AR227,[4]ItemConfig!$A:$C,3,FALSE)&AS227)","v":""},{"$f":"IF(AT227=\"\",\"\",VLOOKUP(AT227,[4]ItemConfig!$A:$C,3,FALSE)&AU227)","v":""},{"$f":"IF(AV227=\"\",\"\",VLOOKUP(AV227,[4]ItemConfig!$A:$C,3,FALSE)&AW227)","v":""},{"$f":"IF(AX227=\"\",\"\",VLOOKUP(AX227,[4]ItemConfig!$A:$C,3,FALSE)&AY227)","v":""}]
[224,224,7,20,4,"232;236;241","大乘","中期.","四重",232,236,241,{"$f":"ROUND([1]ResourceLevelConfig!$E228*[1]ResourceLevelConfig!$L228*0.1,0)*10","v":13950},-1,0,-1,-1,-1,-1,0,{"$f":"[3]主表!K226","v":34280.119703945682},{"$f":"[3]主表!L226","v":388.35203308003685},{"$f":"[3]主表!M226","v":388.35203308003685},{"$f":"[3]主表!N226","v":2093.2800000000002},{"$f":"[3]主表!$G226","v":261660},{"$f":"[3]升级!$H226","v":1700},{"$f":"MAX(0.1,ROUND(100/(24*3600)*VLOOKUP(B228,[1]ResourceLevelConfig!$A:$E,5,FALSE),2))","v":1.08},-1,4,4,4,4416,null,null,null,1,4,224,null,null,"",null,"",null,{"$f":"IF(AR228=\"\",\"\",1)","v":""},null,{"$f":"IF(AT228=\"\",\"\",1)","v":""},null,{"$f":"IF(AV228=\"\",\"\",1)","v":""},null,{"$f":"IF(AX228=\"\",\"\",1)","v":""},{"$f":"IF(AN228=\"\",\"\",VLOOKUP(AN228,[4]ItemConfig!$A:$C,3,FALSE)&AO228)","v":""},{"$f":"IF(AP228=\"\",\"\",VLOOKUP(AP228,[4]ItemConfig!$A:$C,3,FALSE)&AQ228)","v":""},{"$f":"IF(AR228=\"\",\"\",VLOOKUP(AR228,[4]ItemConfig!$A:$C,3,FALSE)&AS228)","v":""},{"$f":"IF(AT228=\"\",\"\",VLOOKUP(AT228,[4]ItemConfig!$A:$C,3,FALSE)&AU228)","v":""},{"$f":"IF(AV228=\"\",\"\",VLOOKUP(AV228,[4]ItemConfig!$A:$C,3,FALSE)&AW228)","v":""},{"$f":"IF(AX228=\"\",\"\",VLOOKUP(AX228,[4]ItemConfig!$A:$C,3,FALSE)&AY228)","v":""}]
[225,225,7,20,5,"232;236;242","大乘","中期.","五重",232,236,242,{"$f":"ROUND([1]ResourceLevelConfig!$E229*[1]ResourceLevelConfig!$L229*0.1,0)*10","v":14100},-1,0,-1,-1,-1,-1,0,{"$f":"[3]主表!K227","v":34889.937031440772},{"$f":"[3]主表!L227","v":393.59549558947458},{"$f":"[3]主表!M227","v":393.59549558947458},{"$f":"[3]主表!N227","v":2124.58},{"$f":"[3]主表!$G227","v":265573},{"$f":"[3]升级!$H227","v":1700},{"$f":"MAX(0.1,ROUND(100/(24*3600)*VLOOKUP(B229,[1]ResourceLevelConfig!$A:$E,5,FALSE),2))","v":1.0900000000000001},-1,4,4,4,4519,null,null,null,1,4,225,null,null,"",null,"",null,{"$f":"IF(AR229=\"\",\"\",1)","v":""},null,{"$f":"IF(AT229=\"\",\"\",1)","v":""},null,{"$f":"IF(AV229=\"\",\"\",1)","v":""},null,{"$f":"IF(AX229=\"\",\"\",1)","v":""},{"$f":"IF(AN229=\"\",\"\",VLOOKUP(AN229,[4]ItemConfig!$A:$C,3,FALSE)&AO229)","v":""},{"$f":"IF(AP229=\"\",\"\",VLOOKUP(AP229,[4]ItemConfig!$A:$C,3,FALSE)&AQ229)","v":""},{"$f":"IF(AR229=\"\",\"\",VLOOKUP(AR229,[4]ItemConfig!$A:$C,3,FALSE)&AS229)","v":""},{"$f":"IF(AT229=\"\",\"\",VLOOKUP(AT229,[4]ItemConfig!$A:$C,3,FALSE)&AU229)","v":""},{"$f":"IF(AV229=\"\",\"\",VLOOKUP(AV229,[4]ItemConfig!$A:$C,3,FALSE)&AW229)","v":""},{"$f":"IF(AX229=\"\",\"\",VLOOKUP(AX229,[4]ItemConfig!$A:$C,3,FALSE)&AY229)","v":""}]
[226,226,7,20,6,"232;236;243","大乘","中期.","六重",232,236,243,{"$f":"ROUND([1]ResourceLevelConfig!$E230*[1]ResourceLevelConfig!$L230*0.1,0)*10","v":14250},-1,0,-1,-1,-1,-1,0,{"$f":"[3]主表!K228","v":35509.972412527757},{"$f":"[3]主表!L228","v":398.90975442993658},{"$f":"[3]主表!M228","v":398.90975442993658},{"$f":"[3]主表!N228","v":2156.37},{"$f":"[3]主表!$G228","v":269546},{"$f":"[3]升级!$H228","v":1700},{"$f":"MAX(0.1,ROUND(100/(24*3600)*VLOOKUP(B230,[1]ResourceLevelConfig!$A:$E,5,FALSE),2))","v":1.1000000000000001},-1,4,4,4,4624,null,null,null,1,4,226,null,null,"",null,"",null,{"$f":"IF(AR230=\"\",\"\",1)","v":""},null,{"$f":"IF(AT230=\"\",\"\",1)","v":""},null,{"$f":"IF(AV230=\"\",\"\",1)","v":""},null,{"$f":"IF(AX230=\"\",\"\",1)","v":""},{"$f":"IF(AN230=\"\",\"\",VLOOKUP(AN230,[4]ItemConfig!$A:$C,3,FALSE)&AO230)","v":""},{"$f":"IF(AP230=\"\",\"\",VLOOKUP(AP230,[4]ItemConfig!$A:$C,3,FALSE)&AQ230)","v":""},{"$f":"IF(AR230=\"\",\"\",VLOOKUP(AR230,[4]ItemConfig!$A:$C,3,FALSE)&AS230)","v":""},{"$f":"IF(AT230=\"\",\"\",VLOOKUP(AT230,[4]ItemConfig!$A:$C,3,FALSE)&AU230)","v":""},{"$f":"IF(AV230=\"\",\"\",VLOOKUP(AV230,[4]ItemConfig!$A:$C,3,FALSE)&AW230)","v":""},{"$f":"IF(AX230=\"\",\"\",VLOOKUP(AX230,[4]ItemConfig!$A:$C,3,FALSE)&AY230)","v":""}]
[227,227,7,20,7,"232;236;244","大乘","中期.","七重",232,236,244,{"$f":"ROUND([1]ResourceLevelConfig!$E231*[1]ResourceLevelConfig!$L231*0.1,0)*10","v":14400},-1,0,-1,-1,-1,-1,0,{"$f":"[3]主表!K229","v":36140.390602704327},{"$f":"[3]主表!L229","v":404.29576548133571},{"$f":"[3]主表!M229","v":404.29576548133571},{"$f":"[3]主表!N229","v":2188.66},{"$f":"[3]主表!$G229","v":273583},{"$f":"[3]升级!$H229","v":1700},{"$f":"MAX(0.1,ROUND(100/(24*3600)*VLOOKUP(B231,[1]ResourceLevelConfig!$A:$E,5,FALSE),2))","v":1.1100000000000001},-1,4,4,4,4732,null,null,null,1,4,227,null,null,"",null,"",null,{"$f":"IF(AR231=\"\",\"\",1)","v":""},null,{"$f":"IF(AT231=\"\",\"\",1)","v":""},null,{"$f":"IF(AV231=\"\",\"\",1)","v":""},null,{"$f":"IF(AX231=\"\",\"\",1)","v":""},{"$f":"IF(AN231=\"\",\"\",VLOOKUP(AN231,[4]ItemConfig!$A:$C,3,FALSE)&AO231)","v":""},{"$f":"IF(AP231=\"\",\"\",VLOOKUP(AP231,[4]ItemConfig!$A:$C,3,FALSE)&AQ231)","v":""},{"$f":"IF(AR231=\"\",\"\",VLOOKUP(AR231,[4]ItemConfig!$A:$C,3,FALSE)&AS231)","v":""},{"$f":"IF(AT231=\"\",\"\",VLOOKUP(AT231,[4]ItemConfig!$A:$C,3,FALSE)&AU231)","v":""},{"$f":"IF(AV231=\"\",\"\",VLOOKUP(AV231,[4]ItemConfig!$A:$C,3,FALSE)&AW231)","v":""},{"$f":"IF(AX231=\"\",\"\",VLOOKUP(AX231,[4]ItemConfig!$A:$C,3,FALSE)&AY231)","v":""}]
[228,228,7,20,8,"232;236;245","大乘","中期.","八重",232,236,245,{"$f":"ROUND([1]ResourceLevelConfig!$E232*[1]ResourceLevelConfig!$L232*0.1,0)*10","v":14550},-1,0,-1,-1,-1,-1,0,{"$f":"[3]主表!K230","v":36781.358943724292},{"$f":"[3]主表!L230","v":409.75449752971127},{"$f":"[3]主表!M230","v":409.75449752971127},{"$f":"[3]主表!N230","v":2221.46},{"$f":"[3]主表!$G230","v":277683},{"$f":"[3]升级!$H230","v":1700},{"$f":"MAX(0.1,ROUND(100/(24*3600)*VLOOKUP(B232,[1]ResourceLevelConfig!$A:$E,5,FALSE),2))","v":1.1200000000000001},-1,4,4,4,4842,null,null,null,1,4,228,null,null,"",null,"",null,{"$f":"IF(AR232=\"\",\"\",1)","v":""},null,{"$f":"IF(AT232=\"\",\"\",1)","v":""},null,{"$f":"IF(AV232=\"\",\"\",1)","v":""},null,{"$f":"IF(AX232=\"\",\"\",1)","v":""},{"$f":"IF(AN232=\"\",\"\",VLOOKUP(AN232,[4]ItemConfig!$A:$C,3,FALSE)&AO232)","v":""},{"$f":"IF(AP232=\"\",\"\",VLOOKUP(AP232,[4]ItemConfig!$A:$C,3,FALSE)&AQ232)","v":""},{"$f":"IF(AR232=\"\",\"\",VLOOKUP(AR232,[4]ItemConfig!$A:$C,3,FALSE)&AS232)","v":""},{"$f":"IF(AT232=\"\",\"\",VLOOKUP(AT232,[4]ItemConfig!$A:$C,3,FALSE)&AU232)","v":""},{"$f":"IF(AV232=\"\",\"\",VLOOKUP(AV232,[4]ItemConfig!$A:$C,3,FALSE)&AW232)","v":""},{"$f":"IF(AX232=\"\",\"\",VLOOKUP(AX232,[4]ItemConfig!$A:$C,3,FALSE)&AY232)","v":""}]
[229,229,7,20,9,"232;236;246","大乘","中期.","九重",232,236,246,{"$f":"ROUND([1]ResourceLevelConfig!$E233*[1]ResourceLevelConfig!$L233*0.1,0)*10","v":14700},-1,0,-1,-1,-1,-1,0,{"$f":"[3]主表!K231","v":37433.04740340123},{"$f":"[3]主表!L231","v":415.28693244148565},{"$f":"[3]主表!M231","v":415.28693244148565},{"$f":"[3]主表!N231","v":2254.7800000000002},{"$f":"[3]主表!$G231","v":281847},{"$f":"[3]升级!$H231","v":1700},{"$f":"MAX(0.1,ROUND(100/(24*3600)*VLOOKUP(B233,[1]ResourceLevelConfig!$A:$E,5,FALSE),2))","v":1.1299999999999999},-1,4,4,4,4955,null,null,null,1,4,229,null,null,"",null,"",null,{"$f":"IF(AR233=\"\",\"\",1)","v":""},null,{"$f":"IF(AT233=\"\",\"\",1)","v":""},null,{"$f":"IF(AV233=\"\",\"\",1)","v":""},null,{"$f":"IF(AX233=\"\",\"\",1)","v":""},{"$f":"IF(AN233=\"\",\"\",VLOOKUP(AN233,[4]ItemConfig!$A:$C,3,FALSE)&AO233)","v":""},{"$f":"IF(AP233=\"\",\"\",VLOOKUP(AP233,[4]ItemConfig!$A:$C,3,FALSE)&AQ233)","v":""},{"$f":"IF(AR233=\"\",\"\",VLOOKUP(AR233,[4]ItemConfig!$A:$C,3,FALSE)&AS233)","v":""},{"$f":"IF(AT233=\"\",\"\",VLOOKUP(AT233,[4]ItemConfig!$A:$C,3,FALSE)&AU233)","v":""},{"$f":"IF(AV233=\"\",\"\",VLOOKUP(AV233,[4]ItemConfig!$A:$C,3,FALSE)&AW233)","v":""},{"$f":"IF(AX233=\"\",\"\",VLOOKUP(AX233,[4]ItemConfig!$A:$C,3,FALSE)&AY233)","v":""}]
[230,230,7,20,10,"232;236;247","大乘","中期.","十重",232,236,247,{"$f":"ROUND([1]ResourceLevelConfig!$E234*[1]ResourceLevelConfig!$L234*0.1,0)*10","v":14850},100004,0,{"$f":"AN234","v":1323},{"$f":"AO234","v":1},{"$f":"_xlfn.TEXTJOIN(\";\",1,AP234,AR234,AT234,AV234)","v":"1216;1217;1218"},{"$f":"_xlfn.TEXTJOIN(\";\",1,AQ234,AS234,AU234,AW234)","v":"1;1;1"},0,{"$f":"[3]主表!K232","v":38095.628616015369},{"$f":"[3]主表!L232","v":420.89406534007293},{"$f":"[3]主表!M232","v":420.89406534007293},{"$f":"[3]主表!N232","v":2431.65},{"$f":"[3]主表!$G232","v":286077},{"$f":"[3]升级!$H232","v":1700},{"$f":"MAX(0.1,ROUND(100/(24*3600)*VLOOKUP(B234,[1]ResourceLevelConfig!$A:$E,5,FALSE),2))","v":1.1499999999999999},20,4,4,4,5070,null,null,null,1,4,230,null,1323,1,1216,1,1217,{"$f":"IF(AR234=\"\",\"\",1)","v":1},1218,{"$f":"IF(AT234=\"\",\"\",1)","v":1},null,{"$f":"IF(AV234=\"\",\"\",1)","v":""},null,{"$f":"IF(AX234=\"\",\"\",1)","v":""},{"$f":"IF(AN234=\"\",\"\",VLOOKUP(AN234,[4]ItemConfig!$A:$C,3,FALSE)&AO234)","v":"天衍丹1"},{"$f":"IF(AP234=\"\",\"\",VLOOKUP(AP234,[4]ItemConfig!$A:$C,3,FALSE)&AQ234)","v":"玄雷果1"},{"$f":"IF(AR234=\"\",\"\",VLOOKUP(AR234,[4]ItemConfig!$A:$C,3,FALSE)&AS234)","v":"龙筋草1"},{"$f":"IF(AT234=\"\",\"\",VLOOKUP(AT234,[4]ItemConfig!$A:$C,3,FALSE)&AU234)","v":"太虚花1"},{"$f":"IF(AV234=\"\",\"\",VLOOKUP(AV234,[4]ItemConfig!$A:$C,3,FALSE)&AW234)","v":""},{"$f":"IF(AX234=\"\",\"\",VLOOKUP(AX234,[4]ItemConfig!$A:$C,3,FALSE)&AY234)","v":""}]
[231,231,7,21,1,"232;237;238","大乘","后期.","一重",232,237,238,{"$f":"ROUND([1]ResourceLevelConfig!$E235*[1]ResourceLevelConfig!$L235*0.1,0)*10","v":15000},-1,0,-1,-1,{"$f":"IF(I235=10,\"1001;1002;1004\",-1)","v":-1},{"$f":"IF(R235=-1,-1,\"100;200;300\")","v":-1},0,{"$f":"[3]主表!K233","v":42078.074770709682},{"$f":"[3]主表!L233","v":462.98347187408029},{"$f":"[3]主表!M233","v":462.98347187408029},{"$f":"[3]主表!N233","v":2736.06},{"$f":"[3]主表!$G233","v":321889},{"$f":"[3]升级!$H233","v":1700},{"$f":"MAX(0.1,ROUND(100/(24*3600)*VLOOKUP(B235,[1]ResourceLevelConfig!$A:$E,5,FALSE),2))","v":1.1599999999999999},-1,4,4,4,5188,null,null,null,1,4,231,null,null,"",null,"",null,{"$f":"IF(AR235=\"\",\"\",1)","v":""},null,{"$f":"IF(AT235=\"\",\"\",1)","v":""},null,{"$f":"IF(AV235=\"\",\"\",1)","v":""},null,{"$f":"IF(AX235=\"\",\"\",1)","v":""},{"$f":"IF(AN235=\"\",\"\",VLOOKUP(AN235,[4]ItemConfig!$A:$C,3,FALSE)&AO235)","v":""},{"$f":"IF(AP235=\"\",\"\",VLOOKUP(AP235,[4]ItemConfig!$A:$C,3,FALSE)&AQ235)","v":""},{"$f":"IF(AR235=\"\",\"\",VLOOKUP(AR235,[4]ItemConfig!$A:$C,3,FALSE)&AS235)","v":""},{"$f":"IF(AT235=\"\",\"\",VLOOKUP(AT235,[4]ItemConfig!$A:$C,3,FALSE)&AU235)","v":""},{"$f":"IF(AV235=\"\",\"\",VLOOKUP(AV235,[4]ItemConfig!$A:$C,3,FALSE)&AW235)","v":""},{"$f":"IF(AX235=\"\",\"\",VLOOKUP(AX235,[4]ItemConfig!$A:$C,3,FALSE)&AY235)","v":""}]
[232,232,7,21,2,"232;237;239","大乘","后期.","二重",232,237,239,{"$f":"ROUND([1]ResourceLevelConfig!$E236*[1]ResourceLevelConfig!$L236*0.1,0)*10","v":15150},-1,0,-1,-1,-1,-1,0,{"$f":"[3]主表!K234","v":42821.423249315521},{"$f":"[3]主表!L234","v":469.23459526336029},{"$f":"[3]主表!M234","v":469.23459526336029},{"$f":"[3]主表!N234","v":2776.52},{"$f":"[3]主表!$G234","v":326649},{"$f":"[3]升级!$H234","v":1700},{"$f":"MAX(0.1,ROUND(100/(24*3600)*VLOOKUP(B236,[1]ResourceLevelConfig!$A:$E,5,FALSE),2))","v":1.17},-1,4,4,4,5309,null,null,null,1,4,232,null,null,"",null,"",null,{"$f":"IF(AR236=\"\",\"\",1)","v":""},null,{"$f":"IF(AT236=\"\",\"\",1)","v":""},null,{"$f":"IF(AV236=\"\",\"\",1)","v":""},null,{"$f":"IF(AX236=\"\",\"\",1)","v":""},{"$f":"IF(AN236=\"\",\"\",VLOOKUP(AN236,[4]ItemConfig!$A:$C,3,FALSE)&AO236)","v":""},{"$f":"IF(AP236=\"\",\"\",VLOOKUP(AP236,[4]ItemConfig!$A:$C,3,FALSE)&AQ236)","v":""},{"$f":"IF(AR236=\"\",\"\",VLOOKUP(AR236,[4]ItemConfig!$A:$C,3,FALSE)&AS236)","v":""},{"$f":"IF(AT236=\"\",\"\",VLOOKUP(AT236,[4]ItemConfig!$A:$C,3,FALSE)&AU236)","v":""},{"$f":"IF(AV236=\"\",\"\",VLOOKUP(AV236,[4]ItemConfig!$A:$C,3,FALSE)&AW236)","v":""},{"$f":"IF(AX236=\"\",\"\",VLOOKUP(AX236,[4]ItemConfig!$A:$C,3,FALSE)&AY236)","v":""}]
[233,233,7,21,3,"232;237;240","大乘","后期.","三重",232,237,240,{"$f":"ROUND([1]ResourceLevelConfig!$E237*[1]ResourceLevelConfig!$L237*0.1,0)*10","v":15300},-1,0,-1,-1,-1,-1,0,{"$f":"[3]主表!K235","v":43577.174048592889},{"$f":"[3]主表!L235","v":475.5701202479496},{"$f":"[3]主表!M235","v":475.5701202479496},{"$f":"[3]主表!N235","v":2817.61},{"$f":"[3]主表!$G235","v":331484},{"$f":"[3]升级!$H235","v":1700},{"$f":"MAX(0.1,ROUND(100/(24*3600)*VLOOKUP(B237,[1]ResourceLevelConfig!$A:$E,5,FALSE),2))","v":1.18},-1,4,4,4,5433,null,null,null,1,4,233,null,null,"",null,"",null,{"$f":"IF(AR237=\"\",\"\",1)","v":""},null,{"$f":"IF(AT237=\"\",\"\",1)","v":""},null,{"$f":"IF(AV237=\"\",\"\",1)","v":""},null,{"$f":"IF(AX237=\"\",\"\",1)","v":""},{"$f":"IF(AN237=\"\",\"\",VLOOKUP(AN237,[4]ItemConfig!$A:$C,3,FALSE)&AO237)","v":""},{"$f":"IF(AP237=\"\",\"\",VLOOKUP(AP237,[4]ItemConfig!$A:$C,3,FALSE)&AQ237)","v":""},{"$f":"IF(AR237=\"\",\"\",VLOOKUP(AR237,[4]ItemConfig!$A:$C,3,FALSE)&AS237)","v":""},{"$f":"IF(AT237=\"\",\"\",VLOOKUP(AT237,[4]ItemConfig!$A:$C,3,FALSE)&AU237)","v":""},{"$f":"IF(AV237=\"\",\"\",VLOOKUP(AV237,[4]ItemConfig!$A:$C,3,FALSE)&AW237)","v":""},{"$f":"IF(AX237=\"\",\"\",VLOOKUP(AX237,[4]ItemConfig!$A:$C,3,FALSE)&AY237)","v":""}]
[234,234,7,21,4,"232;237;241","大乘","后期.","四重",232,237,241,{"$f":"ROUND([1]ResourceLevelConfig!$E238*[1]ResourceLevelConfig!$L238*0.1,0)*10","v":15450},-1,0,-1,-1,-1,-1,0,{"$f":"[3]主表!K236","v":44345.526564593303},{"$f":"[3]主表!L236","v":481.99118640370472},{"$f":"[3]主表!M236","v":481.99118640370472},{"$f":"[3]主表!N236","v":2859.35},{"$f":"[3]主表!$G236","v":336394},{"$f":"[3]升级!$H236","v":1700},{"$f":"MAX(0.1,ROUND(100/(24*3600)*VLOOKUP(B238,[1]ResourceLevelConfig!$A:$E,5,FALSE),2))","v":1.19},-1,4,4,4,5559,null,null,null,1,4,234,null,null,"",null,"",null,{"$f":"IF(AR238=\"\",\"\",1)","v":""},null,{"$f":"IF(AT238=\"\",\"\",1)","v":""},null,{"$f":"IF(AV238=\"\",\"\",1)","v":""},null,{"$f":"IF(AX238=\"\",\"\",1)","v":""},{"$f":"IF(AN238=\"\",\"\",VLOOKUP(AN238,[4]ItemConfig!$A:$C,3,FALSE)&AO238)","v":""},{"$f":"IF(AP238=\"\",\"\",VLOOKUP(AP238,[4]ItemConfig!$A:$C,3,FALSE)&AQ238)","v":""},{"$f":"IF(AR238=\"\",\"\",VLOOKUP(AR238,[4]ItemConfig!$A:$C,3,FALSE)&AS238)","v":""},{"$f":"IF(AT238=\"\",\"\",VLOOKUP(AT238,[4]ItemConfig!$A:$C,3,FALSE)&AU238)","v":""},{"$f":"IF(AV238=\"\",\"\",VLOOKUP(AV238,[4]ItemConfig!$A:$C,3,FALSE)&AW238)","v":""},{"$f":"IF(AX238=\"\",\"\",VLOOKUP(AX238,[4]ItemConfig!$A:$C,3,FALSE)&AY238)","v":""}]
[235,235,7,21,5,"232;237;242","大乘","后期.","五重",232,237,242,{"$f":"ROUND([1]ResourceLevelConfig!$E239*[1]ResourceLevelConfig!$L239*0.1,0)*10","v":15600},-1,0,-1,-1,-1,-1,0,{"$f":"[3]主表!K237","v":45126.683316855524},{"$f":"[3]主表!L237","v":488.49894869283992},{"$f":"[3]主表!M237","v":488.49894869283992},{"$f":"[3]主表!N237","v":2901.75},{"$f":"[3]主表!$G237","v":341382},{"$f":"[3]升级!$H237","v":1700},{"$f":"MAX(0.1,ROUND(100/(24*3600)*VLOOKUP(B239,[1]ResourceLevelConfig!$A:$E,5,FALSE),2))","v":1.2},-1,4,4,4,5689,null,null,null,1,4,235,null,null,"",null,"",null,{"$f":"IF(AR239=\"\",\"\",1)","v":""},null,{"$f":"IF(AT239=\"\",\"\",1)","v":""},null,{"$f":"IF(AV239=\"\",\"\",1)","v":""},null,{"$f":"IF(AX239=\"\",\"\",1)","v":""},{"$f":"IF(AN239=\"\",\"\",VLOOKUP(AN239,[4]ItemConfig!$A:$C,3,FALSE)&AO239)","v":""},{"$f":"IF(AP239=\"\",\"\",VLOOKUP(AP239,[4]ItemConfig!$A:$C,3,FALSE)&AQ239)","v":""},{"$f":"IF(AR239=\"\",\"\",VLOOKUP(AR239,[4]ItemConfig!$A:$C,3,FALSE)&AS239)","v":""},{"$f":"IF(AT239=\"\",\"\",VLOOKUP(AT239,[4]ItemConfig!$A:$C,3,FALSE)&AU239)","v":""},{"$f":"IF(AV239=\"\",\"\",VLOOKUP(AV239,[4]ItemConfig!$A:$C,3,FALSE)&AW239)","v":""},{"$f":"IF(AX239=\"\",\"\",VLOOKUP(AX239,[4]ItemConfig!$A:$C,3,FALSE)&AY239)","v":""}]
[236,236,7,21,6,"232;237;243","大乘","后期.","六重",232,237,243,{"$f":"ROUND([1]ResourceLevelConfig!$E240*[1]ResourceLevelConfig!$L240*0.1,0)*10","v":15750},-1,0,-1,-1,-1,-1,0,{"$f":"[3]主表!K238","v":45920.849996401455},{"$f":"[3]主表!L238","v":495.094577671671},{"$f":"[3]主表!M238","v":495.094577671671},{"$f":"[3]主表!N238","v":2944.81},{"$f":"[3]主表!$G238","v":346448},{"$f":"[3]升级!$H238","v":1700},{"$f":"MAX(0.1,ROUND(100/(24*3600)*VLOOKUP(B240,[1]ResourceLevelConfig!$A:$E,5,FALSE),2))","v":1.22},-1,4,4,4,5821,null,null,null,1,4,236,null,null,"",null,"",null,{"$f":"IF(AR240=\"\",\"\",1)","v":""},null,{"$f":"IF(AT240=\"\",\"\",1)","v":""},null,{"$f":"IF(AV240=\"\",\"\",1)","v":""},null,{"$f":"IF(AX240=\"\",\"\",1)","v":""},{"$f":"IF(AN240=\"\",\"\",VLOOKUP(AN240,[4]ItemConfig!$A:$C,3,FALSE)&AO240)","v":""},{"$f":"IF(AP240=\"\",\"\",VLOOKUP(AP240,[4]ItemConfig!$A:$C,3,FALSE)&AQ240)","v":""},{"$f":"IF(AR240=\"\",\"\",VLOOKUP(AR240,[4]ItemConfig!$A:$C,3,FALSE)&AS240)","v":""},{"$f":"IF(AT240=\"\",\"\",VLOOKUP(AT240,[4]ItemConfig!$A:$C,3,FALSE)&AU240)","v":""},{"$f":"IF(AV240=\"\",\"\",VLOOKUP(AV240,[4]ItemConfig!$A:$C,3,FALSE)&AW240)","v":""},{"$f":"IF(AX240=\"\",\"\",VLOOKUP(AX240,[4]ItemConfig!$A:$C,3,FALSE)&AY240)","v":""}]
[237,237,7,21,7,"232;237;244","大乘","后期.","七重",232,237,244,{"$f":"ROUND([1]ResourceLevelConfig!$E241*[1]ResourceLevelConfig!$L241*0.1,0)*10","v":15900},-1,0,-1,-1,-1,-1,0,{"$f":"[3]主表!K239","v":46728.235514458531},{"$f":"[3]主表!L239","v":501.77925970116434},{"$f":"[3]主表!M239","v":501.77925970116434},{"$f":"[3]主表!N239","v":2988.54},{"$f":"[3]主表!$G239","v":351593},{"$f":"[3]升级!$H239","v":1700},{"$f":"MAX(0.1,ROUND(100/(24*3600)*VLOOKUP(B241,[1]ResourceLevelConfig!$A:$E,5,FALSE),2))","v":1.23},-1,4,4,4,5957,null,null,null,1,4,237,null,null,"",null,"",null,{"$f":"IF(AR241=\"\",\"\",1)","v":""},null,{"$f":"IF(AT241=\"\",\"\",1)","v":""},null,{"$f":"IF(AV241=\"\",\"\",1)","v":""},null,{"$f":"IF(AX241=\"\",\"\",1)","v":""},{"$f":"IF(AN241=\"\",\"\",VLOOKUP(AN241,[4]ItemConfig!$A:$C,3,FALSE)&AO241)","v":""},{"$f":"IF(AP241=\"\",\"\",VLOOKUP(AP241,[4]ItemConfig!$A:$C,3,FALSE)&AQ241)","v":""},{"$f":"IF(AR241=\"\",\"\",VLOOKUP(AR241,[4]ItemConfig!$A:$C,3,FALSE)&AS241)","v":""},{"$f":"IF(AT241=\"\",\"\",VLOOKUP(AT241,[4]ItemConfig!$A:$C,3,FALSE)&AU241)","v":""},{"$f":"IF(AV241=\"\",\"\",VLOOKUP(AV241,[4]ItemConfig!$A:$C,3,FALSE)&AW241)","v":""},{"$f":"IF(AX241=\"\",\"\",VLOOKUP(AX241,[4]ItemConfig!$A:$C,3,FALSE)&AY241)","v":""}]
[238,238,7,21,8,"232;237;245","大乘","后期.","八重",232,237,245,{"$f":"ROUND([1]ResourceLevelConfig!$E242*[1]ResourceLevelConfig!$L242*0.1,0)*10","v":16050},-1,0,-1,-1,-1,-1,0,{"$f":"[3]主表!K240","v":47549.052051919731},{"$f":"[3]主表!L240","v":508.5541971603285},{"$f":"[3]主表!M240","v":508.5541971603285},{"$f":"[3]主表!N240","v":3032.95},{"$f":"[3]主表!$G240","v":356818},{"$f":"[3]升级!$H240","v":1700},{"$f":"MAX(0.1,ROUND(100/(24*3600)*VLOOKUP(B242,[1]ResourceLevelConfig!$A:$E,5,FALSE),2))","v":1.24},-1,4,4,4,6095,null,null,null,1,4,238,null,null,"",null,"",null,{"$f":"IF(AR242=\"\",\"\",1)","v":""},null,{"$f":"IF(AT242=\"\",\"\",1)","v":""},null,{"$f":"IF(AV242=\"\",\"\",1)","v":""},null,{"$f":"IF(AX242=\"\",\"\",1)","v":""},{"$f":"IF(AN242=\"\",\"\",VLOOKUP(AN242,[4]ItemConfig!$A:$C,3,FALSE)&AO242)","v":""},{"$f":"IF(AP242=\"\",\"\",VLOOKUP(AP242,[4]ItemConfig!$A:$C,3,FALSE)&AQ242)","v":""},{"$f":"IF(AR242=\"\",\"\",VLOOKUP(AR242,[4]ItemConfig!$A:$C,3,FALSE)&AS242)","v":""},{"$f":"IF(AT242=\"\",\"\",VLOOKUP(AT242,[4]ItemConfig!$A:$C,3,FALSE)&AU242)","v":""},{"$f":"IF(AV242=\"\",\"\",VLOOKUP(AV242,[4]ItemConfig!$A:$C,3,FALSE)&AW242)","v":""},{"$f":"IF(AX242=\"\",\"\",VLOOKUP(AX242,[4]ItemConfig!$A:$C,3,FALSE)&AY242)","v":""}]
[239,239,7,21,9,"232;237;246","大乘","后期.","九重",232,237,246,{"$f":"ROUND([1]ResourceLevelConfig!$E243*[1]ResourceLevelConfig!$L243*0.1,0)*10","v":16350},-1,0,-1,-1,-1,-1,0,{"$f":"[3]主表!K241","v":48383.515109552129},{"$f":"[3]主表!L241","v":515.42060866248687},{"$f":"[3]主表!M241","v":515.42060866248687},{"$f":"[3]主表!N241","v":3078.07},{"$f":"[3]主表!$G241","v":362126},{"$f":"[3]升级!$H241","v":1700},{"$f":"MAX(0.1,ROUND(100/(24*3600)*VLOOKUP(B243,[1]ResourceLevelConfig!$A:$E,5,FALSE),2))","v":1.26},-1,4,4,4,6237,null,null,null,1,4,239,null,null,"",null,"",null,{"$f":"IF(AR243=\"\",\"\",1)","v":""},null,{"$f":"IF(AT243=\"\",\"\",1)","v":""},null,{"$f":"IF(AV243=\"\",\"\",1)","v":""},null,{"$f":"IF(AX243=\"\",\"\",1)","v":""},{"$f":"IF(AN243=\"\",\"\",VLOOKUP(AN243,[4]ItemConfig!$A:$C,3,FALSE)&AO243)","v":""},{"$f":"IF(AP243=\"\",\"\",VLOOKUP(AP243,[4]ItemConfig!$A:$C,3,FALSE)&AQ243)","v":""},{"$f":"IF(AR243=\"\",\"\",VLOOKUP(AR243,[4]ItemConfig!$A:$C,3,FALSE)&AS243)","v":""},{"$f":"IF(AT243=\"\",\"\",VLOOKUP(AT243,[4]ItemConfig!$A:$C,3,FALSE)&AU243)","v":""},{"$f":"IF(AV243=\"\",\"\",VLOOKUP(AV243,[4]ItemConfig!$A:$C,3,FALSE)&AW243)","v":""},{"$f":"IF(AX243=\"\",\"\",VLOOKUP(AX243,[4]ItemConfig!$A:$C,3,FALSE)&AY243)","v":""}]
[240,240,7,21,10,"232;237;247","大乘","后期.","十重",232,237,247,{"$f":"ROUND([1]ResourceLevelConfig!$E244*[1]ResourceLevelConfig!$L244*0.1,0)*10","v":16500},100004,0,{"$f":"AN244","v":1324},{"$f":"AO244","v":1},{"$f":"_xlfn.TEXTJOIN(\";\",1,AP244,AR244,AT244,AV244)","v":"1216;1217;1218"},{"$f":"_xlfn.TEXTJOIN(\";\",1,AQ244,AS244,AU244,AW244)","v":"1;1;1"},{"$f":"CONCATENATE(ROUND(0.6*VLOOKUP(A244,[3]主表!$A:$P,16,FALSE)*[5]HeroModelConfig!$Q$5,0),\";\",ROUND(0.9*VLOOKUP(A244,[3]主表!$A:$P,16,FALSE)*[5]HeroModelConfig!$Q$5,0),\";\",INT(A244/30)+1)","v":"10391027;15586540;9"},{"$f":"[3]主表!K242","v":49231.843558965127},{"$f":"[3]主表!L242","v":522.37972927447129},{"$f":"[3]主表!M242","v":522.37972927447129},{"$f":"[3]主表!N242","v":3307.65},{"$f":"[3]主表!$G242","v":367517},{"$f":"[3]升级!$H242","v":1700},{"$f":"MAX(0.1,ROUND(100/(24*3600)*VLOOKUP(B244,[1]ResourceLevelConfig!$A:$E,5,FALSE),2))","v":1.27},50,4,4,4,6383,null,null,null,1,4,240,null,1324,1,1216,1,1217,{"$f":"IF(AR244=\"\",\"\",1)","v":1},1218,{"$f":"IF(AT244=\"\",\"\",1)","v":1},null,{"$f":"IF(AV244=\"\",\"\",1)","v":""},null,{"$f":"IF(AX244=\"\",\"\",1)","v":""},{"$f":"IF(AN244=\"\",\"\",VLOOKUP(AN244,[4]ItemConfig!$A:$C,3,FALSE)&AO244)","v":"开天古藤1"},{"$f":"IF(AP244=\"\",\"\",VLOOKUP(AP244,[4]ItemConfig!$A:$C,3,FALSE)&AQ244)","v":"玄雷果1"},{"$f":"IF(AR244=\"\",\"\",VLOOKUP(AR244,[4]ItemConfig!$A:$C,3,FALSE)&AS244)","v":"龙筋草1"},{"$f":"IF(AT244=\"\",\"\",VLOOKUP(AT244,[4]ItemConfig!$A:$C,3,FALSE)&AU244)","v":"太虚花1"},{"$f":"IF(AV244=\"\",\"\",VLOOKUP(AV244,[4]ItemConfig!$A:$C,3,FALSE)&AW244)","v":""},{"$f":"IF(AX244=\"\",\"\",VLOOKUP(AX244,[4]ItemConfig!$A:$C,3,FALSE)&AY244)","v":""}]
[241,241,7,19,1,"233;235;238","渡劫","前期.","一重",233,235,238,{"$f":"ROUND([1]ResourceLevelConfig!$E245*[1]ResourceLevelConfig!$L245*0.1,0)*10","v":16650},-1,0,-1,-1,{"$f":"IF(I245=10,\"1001;1002;1004\",-1)","v":-1},{"$f":"IF(R245=-1,-1,\"100;200;300\")","v":-1},0,{"$f":"[3]主表!K243","v":64254.977916974211},{"$f":"[3]主表!L243","v":679.09364805681264},{"$f":"[3]主表!M243","v":679.09364805681264},{"$f":"[3]主表!N243","v":4388.21},{"$f":"[3]主表!$G243","v":487579},{"$f":"[3]升级!$H243","v":1800},{"$f":"MAX(0.1,ROUND(100/(24*3600)*VLOOKUP(B245,[1]ResourceLevelConfig!$A:$E,5,FALSE),2))","v":1.28},-1,4,4,4,6531,null,null,null,1,5,241,null,null,"",null,"",null,{"$f":"IF(AR245=\"\",\"\",1)","v":""},null,{"$f":"IF(AT245=\"\",\"\",1)","v":""},null,{"$f":"IF(AV245=\"\",\"\",1)","v":""},null,{"$f":"IF(AX245=\"\",\"\",1)","v":""},{"$f":"IF(AN245=\"\",\"\",VLOOKUP(AN245,[4]ItemConfig!$A:$C,3,FALSE)&AO245)","v":""},{"$f":"IF(AP245=\"\",\"\",VLOOKUP(AP245,[4]ItemConfig!$A:$C,3,FALSE)&AQ245)","v":""},{"$f":"IF(AR245=\"\",\"\",VLOOKUP(AR245,[4]ItemConfig!$A:$C,3,FALSE)&AS245)","v":""},{"$f":"IF(AT245=\"\",\"\",VLOOKUP(AT245,[4]ItemConfig!$A:$C,3,FALSE)&AU245)","v":""},{"$f":"IF(AV245=\"\",\"\",VLOOKUP(AV245,[4]ItemConfig!$A:$C,3,FALSE)&AW245)","v":""},{"$f":"IF(AX245=\"\",\"\",VLOOKUP(AX245,[4]ItemConfig!$A:$C,3,FALSE)&AY245)","v":""}]
[242,242,7,19,2,"233;235;239","渡劫","前期.","二重",233,235,239,{"$f":"ROUND([1]ResourceLevelConfig!$E246*[1]ResourceLevelConfig!$L246*0.1,0)*10","v":16800},-1,0,-1,-1,{"$f":"IF(I246=10,\"1001;1002;1004\",-1)","v":-1},{"$f":"IF(R246=-1,-1,\"100;200;300\")","v":-1},0,{"$f":"[3]主表!K244","v":65379.542704041873},{"$f":"[3]主表!L244","v":688.26265396040571},{"$f":"[3]主表!M244","v":688.26265396040571},{"$f":"[3]主表!N244","v":4442.8500000000004},{"$f":"[3]主表!$G244","v":493650},{"$f":"[3]升级!$H244","v":1800},{"$f":"MAX(0.1,ROUND(100/(24*3600)*VLOOKUP(B246,[1]ResourceLevelConfig!$A:$E,5,FALSE),2))","v":1.3},-1,4,4,4,6683,null,null,null,1,5,242,null,null,"",null,"",null,{"$f":"IF(AR246=\"\",\"\",1)","v":""},null,{"$f":"IF(AT246=\"\",\"\",1)","v":""},null,{"$f":"IF(AV246=\"\",\"\",1)","v":""},null,{"$f":"IF(AX246=\"\",\"\",1)","v":""},{"$f":"IF(AN246=\"\",\"\",VLOOKUP(AN246,[4]ItemConfig!$A:$C,3,FALSE)&AO246)","v":""},{"$f":"IF(AP246=\"\",\"\",VLOOKUP(AP246,[4]ItemConfig!$A:$C,3,FALSE)&AQ246)","v":""},{"$f":"IF(AR246=\"\",\"\",VLOOKUP(AR246,[4]ItemConfig!$A:$C,3,FALSE)&AS246)","v":""},{"$f":"IF(AT246=\"\",\"\",VLOOKUP(AT246,[4]ItemConfig!$A:$C,3,FALSE)&AU246)","v":""},{"$f":"IF(AV246=\"\",\"\",VLOOKUP(AV246,[4]ItemConfig!$A:$C,3,FALSE)&AW246)","v":""},{"$f":"IF(AX246=\"\",\"\",VLOOKUP(AX246,[4]ItemConfig!$A:$C,3,FALSE)&AY246)","v":""}]
[243,243,7,19,3,"233;235;240","渡劫","前期.","三重",233,235,240,{"$f":"ROUND([1]ResourceLevelConfig!$E247*[1]ResourceLevelConfig!$L247*0.1,0)*10","v":16950},-1,0,-1,-1,-1,-1,0,{"$f":"[3]主表!K245","v":66522.761210666053},{"$f":"[3]主表!L245","v":697.55545820830764},{"$f":"[3]主表!M245","v":697.55545820830764},{"$f":"[3]主表!N245","v":4498.2700000000004},{"$f":"[3]主表!$G245","v":499808},{"$f":"[3]升级!$H245","v":1800},{"$f":"MAX(0.1,ROUND(100/(24*3600)*VLOOKUP(B247,[1]ResourceLevelConfig!$A:$E,5,FALSE),2))","v":1.31},-1,4,4,4,6839,null,null,null,1,5,243,null,null,"",null,"",null,{"$f":"IF(AR247=\"\",\"\",1)","v":""},null,{"$f":"IF(AT247=\"\",\"\",1)","v":""},null,{"$f":"IF(AV247=\"\",\"\",1)","v":""},null,{"$f":"IF(AX247=\"\",\"\",1)","v":""},{"$f":"IF(AN247=\"\",\"\",VLOOKUP(AN247,[4]ItemConfig!$A:$C,3,FALSE)&AO247)","v":""},{"$f":"IF(AP247=\"\",\"\",VLOOKUP(AP247,[4]ItemConfig!$A:$C,3,FALSE)&AQ247)","v":""},{"$f":"IF(AR247=\"\",\"\",VLOOKUP(AR247,[4]ItemConfig!$A:$C,3,FALSE)&AS247)","v":""},{"$f":"IF(AT247=\"\",\"\",VLOOKUP(AT247,[4]ItemConfig!$A:$C,3,FALSE)&AU247)","v":""},{"$f":"IF(AV247=\"\",\"\",VLOOKUP(AV247,[4]ItemConfig!$A:$C,3,FALSE)&AW247)","v":""},{"$f":"IF(AX247=\"\",\"\",VLOOKUP(AX247,[4]ItemConfig!$A:$C,3,FALSE)&AY247)","v":""}]
[244,244,7,19,4,"233;235;241","渡劫","前期.","四重",233,235,241,{"$f":"ROUND([1]ResourceLevelConfig!$E248*[1]ResourceLevelConfig!$L248*0.1,0)*10","v":17100},-1,0,-1,-1,-1,-1,0,{"$f":"[3]主表!K246","v":67684.932148035325},{"$f":"[3]主表!L246","v":706.97373230451956},{"$f":"[3]主表!M246","v":706.97373230451956},{"$f":"[3]主表!N246","v":4554.5},{"$f":"[3]主表!$G246","v":506055},{"$f":"[3]升级!$H246","v":1800},{"$f":"MAX(0.1,ROUND(100/(24*3600)*VLOOKUP(B248,[1]ResourceLevelConfig!$A:$E,5,FALSE),2))","v":1.32},-1,4,4,4,6998,null,null,null,1,5,244,null,null,"",null,"",null,{"$f":"IF(AR248=\"\",\"\",1)","v":""},null,{"$f":"IF(AT248=\"\",\"\",1)","v":""},null,{"$f":"IF(AV248=\"\",\"\",1)","v":""},null,{"$f":"IF(AX248=\"\",\"\",1)","v":""},{"$f":"IF(AN248=\"\",\"\",VLOOKUP(AN248,[4]ItemConfig!$A:$C,3,FALSE)&AO248)","v":""},{"$f":"IF(AP248=\"\",\"\",VLOOKUP(AP248,[4]ItemConfig!$A:$C,3,FALSE)&AQ248)","v":""},{"$f":"IF(AR248=\"\",\"\",VLOOKUP(AR248,[4]ItemConfig!$A:$C,3,FALSE)&AS248)","v":""},{"$f":"IF(AT248=\"\",\"\",VLOOKUP(AT248,[4]ItemConfig!$A:$C,3,FALSE)&AU248)","v":""},{"$f":"IF(AV248=\"\",\"\",VLOOKUP(AV248,[4]ItemConfig!$A:$C,3,FALSE)&AW248)","v":""},{"$f":"IF(AX248=\"\",\"\",VLOOKUP(AX248,[4]ItemConfig!$A:$C,3,FALSE)&AY248)","v":""}]
[245,245,7,19,5,"233;235;242","渡劫","前期.","五重",233,235,242,{"$f":"ROUND([1]ResourceLevelConfig!$E249*[1]ResourceLevelConfig!$L249*0.1,0)*10","v":17250},-1,0,-1,-1,-1,-1,0,{"$f":"[3]主表!K247","v":68866.358893071389},{"$f":"[3]主表!L247","v":716.51917032140261},{"$f":"[3]主表!M247","v":716.51917032140261},{"$f":"[3]主表!N247","v":4611.5200000000004},{"$f":"[3]主表!$G247","v":512391},{"$f":"[3]升级!$H247","v":1800},{"$f":"MAX(0.1,ROUND(100/(24*3600)*VLOOKUP(B249,[1]ResourceLevelConfig!$A:$E,5,FALSE),2))","v":1.33},-1,4,4,4,7161,null,null,null,1,5,245,null,null,"",null,"",null,{"$f":"IF(AR249=\"\",\"\",1)","v":""},null,{"$f":"IF(AT249=\"\",\"\",1)","v":""},null,{"$f":"IF(AV249=\"\",\"\",1)","v":""},null,{"$f":"IF(AX249=\"\",\"\",1)","v":""},{"$f":"IF(AN249=\"\",\"\",VLOOKUP(AN249,[4]ItemConfig!$A:$C,3,FALSE)&AO249)","v":""},{"$f":"IF(AP249=\"\",\"\",VLOOKUP(AP249,[4]ItemConfig!$A:$C,3,FALSE)&AQ249)","v":""},{"$f":"IF(AR249=\"\",\"\",VLOOKUP(AR249,[4]ItemConfig!$A:$C,3,FALSE)&AS249)","v":""},{"$f":"IF(AT249=\"\",\"\",VLOOKUP(AT249,[4]ItemConfig!$A:$C,3,FALSE)&AU249)","v":""},{"$f":"IF(AV249=\"\",\"\",VLOOKUP(AV249,[4]ItemConfig!$A:$C,3,FALSE)&AW249)","v":""},{"$f":"IF(AX249=\"\",\"\",VLOOKUP(AX249,[4]ItemConfig!$A:$C,3,FALSE)&AY249)","v":""}]
[246,246,7,19,6,"233;235;243","渡劫","前期.","六重",233,235,243,{"$f":"ROUND([1]ResourceLevelConfig!$E250*[1]ResourceLevelConfig!$L250*0.1,0)*10","v":17400},-1,0,-1,-1,-1,-1,0,{"$f":"[3]主表!K248","v":70067.349559965965},{"$f":"[3]主表!L248","v":726.19348920439256},{"$f":"[3]主表!M248","v":726.19348920439256},{"$f":"[3]主表!N248","v":4668.18},{"$f":"[3]主表!$G248","v":518687},{"$f":"[3]升级!$H248","v":1800},{"$f":"MAX(0.1,ROUND(100/(24*3600)*VLOOKUP(B250,[1]ResourceLevelConfig!$A:$E,5,FALSE),2))","v":1.34},-1,4,4,4,7328,null,null,null,1,5,246,null,null,"",null,"",null,{"$f":"IF(AR250=\"\",\"\",1)","v":""},null,{"$f":"IF(AT250=\"\",\"\",1)","v":""},null,{"$f":"IF(AV250=\"\",\"\",1)","v":""},null,{"$f":"IF(AX250=\"\",\"\",1)","v":""},{"$f":"IF(AN250=\"\",\"\",VLOOKUP(AN250,[4]ItemConfig!$A:$C,3,FALSE)&AO250)","v":""},{"$f":"IF(AP250=\"\",\"\",VLOOKUP(AP250,[4]ItemConfig!$A:$C,3,FALSE)&AQ250)","v":""},{"$f":"IF(AR250=\"\",\"\",VLOOKUP(AR250,[4]ItemConfig!$A:$C,3,FALSE)&AS250)","v":""},{"$f":"IF(AT250=\"\",\"\",VLOOKUP(AT250,[4]ItemConfig!$A:$C,3,FALSE)&AU250)","v":""},{"$f":"IF(AV250=\"\",\"\",VLOOKUP(AV250,[4]ItemConfig!$A:$C,3,FALSE)&AW250)","v":""},{"$f":"IF(AX250=\"\",\"\",VLOOKUP(AX250,[4]ItemConfig!$A:$C,3,FALSE)&AY250)","v":""}]
[247,247,7,19,7,"233;235;244","渡劫","前期.","七重",233,235,244,{"$f":"ROUND([1]ResourceLevelConfig!$E251*[1]ResourceLevelConfig!$L251*0.1,0)*10","v":17700},-1,0,-1,-1,-1,-1,0,{"$f":"[3]主表!K249","v":71288.217072799118},{"$f":"[3]主表!L249","v":735.99842908082746},{"$f":"[3]主表!M249","v":735.99842908082746},{"$f":"[3]主表!N249","v":4725.6499999999996},{"$f":"[3]主表!$G249","v":525072},{"$f":"[3]升级!$H249","v":1800},{"$f":"MAX(0.1,ROUND(100/(24*3600)*VLOOKUP(B251,[1]ResourceLevelConfig!$A:$E,5,FALSE),2))","v":1.37},-1,4,4,4,7499,null,null,null,1,5,247,null,null,"",null,"",null,{"$f":"IF(AR251=\"\",\"\",1)","v":""},null,{"$f":"IF(AT251=\"\",\"\",1)","v":""},null,{"$f":"IF(AV251=\"\",\"\",1)","v":""},null,{"$f":"IF(AX251=\"\",\"\",1)","v":""},{"$f":"IF(AN251=\"\",\"\",VLOOKUP(AN251,[4]ItemConfig!$A:$C,3,FALSE)&AO251)","v":""},{"$f":"IF(AP251=\"\",\"\",VLOOKUP(AP251,[4]ItemConfig!$A:$C,3,FALSE)&AQ251)","v":""},{"$f":"IF(AR251=\"\",\"\",VLOOKUP(AR251,[4]ItemConfig!$A:$C,3,FALSE)&AS251)","v":""},{"$f":"IF(AT251=\"\",\"\",VLOOKUP(AT251,[4]ItemConfig!$A:$C,3,FALSE)&AU251)","v":""},{"$f":"IF(AV251=\"\",\"\",VLOOKUP(AV251,[4]ItemConfig!$A:$C,3,FALSE)&AW251)","v":""},{"$f":"IF(AX251=\"\",\"\",VLOOKUP(AX251,[4]ItemConfig!$A:$C,3,FALSE)&AY251)","v":""}]
[248,248,7,19,8,"233;235;245","渡劫","前期.","八重",233,235,245,{"$f":"ROUND([1]ResourceLevelConfig!$E252*[1]ResourceLevelConfig!$L252*0.1,0)*10","v":17850},-1,0,-1,-1,-1,-1,0,{"$f":"[3]主表!K250","v":72529.279239254713},{"$f":"[3]主表!L250","v":745.93575357294628},{"$f":"[3]主表!M250","v":745.93575357294628},{"$f":"[3]主表!N250","v":4783.93},{"$f":"[3]主表!$G250","v":531548},{"$f":"[3]升级!$H250","v":1800},{"$f":"MAX(0.1,ROUND(100/(24*3600)*VLOOKUP(B252,[1]ResourceLevelConfig!$A:$E,5,FALSE),2))","v":1.38},-1,4,4,4,7674,null,null,null,1,5,248,null,null,"",null,"",null,{"$f":"IF(AR252=\"\",\"\",1)","v":""},null,{"$f":"IF(AT252=\"\",\"\",1)","v":""},null,{"$f":"IF(AV252=\"\",\"\",1)","v":""},null,{"$f":"IF(AX252=\"\",\"\",1)","v":""},{"$f":"IF(AN252=\"\",\"\",VLOOKUP(AN252,[4]ItemConfig!$A:$C,3,FALSE)&AO252)","v":""},{"$f":"IF(AP252=\"\",\"\",VLOOKUP(AP252,[4]ItemConfig!$A:$C,3,FALSE)&AQ252)","v":""},{"$f":"IF(AR252=\"\",\"\",VLOOKUP(AR252,[4]ItemConfig!$A:$C,3,FALSE)&AS252)","v":""},{"$f":"IF(AT252=\"\",\"\",VLOOKUP(AT252,[4]ItemConfig!$A:$C,3,FALSE)&AU252)","v":""},{"$f":"IF(AV252=\"\",\"\",VLOOKUP(AV252,[4]ItemConfig!$A:$C,3,FALSE)&AW252)","v":""},{"$f":"IF(AX252=\"\",\"\",VLOOKUP(AX252,[4]ItemConfig!$A:$C,3,FALSE)&AY252)","v":""}]
[249,249,7,19,9,"233;235;246","渡劫","前期.","九重",233,235,246,{"$f":"ROUND([1]ResourceLevelConfig!$E253*[1]ResourceLevelConfig!$L253*0.1,0)*10","v":18000},-1,0,-1,-1,-1,-1,0,{"$f":"[3]主表!K251","v":73790.858825449744},{"$f":"[3]主表!L251","v":756.00725011511281},{"$f":"[3]主表!M251","v":756.00725011511281},{"$f":"[3]主表!N251","v":4843.04},{"$f":"[3]主表!$G251","v":538116},{"$f":"[3]升级!$H251","v":1800},{"$f":"MAX(0.1,ROUND(100/(24*3600)*VLOOKUP(B253,[1]ResourceLevelConfig!$A:$E,5,FALSE),2))","v":1.39},-1,4,4,4,7852,null,null,null,1,5,249,null,null,"",null,"",null,{"$f":"IF(AR253=\"\",\"\",1)","v":""},null,{"$f":"IF(AT253=\"\",\"\",1)","v":""},null,{"$f":"IF(AV253=\"\",\"\",1)","v":""},null,{"$f":"IF(AX253=\"\",\"\",1)","v":""},{"$f":"IF(AN253=\"\",\"\",VLOOKUP(AN253,[4]ItemConfig!$A:$C,3,FALSE)&AO253)","v":""},{"$f":"IF(AP253=\"\",\"\",VLOOKUP(AP253,[4]ItemConfig!$A:$C,3,FALSE)&AQ253)","v":""},{"$f":"IF(AR253=\"\",\"\",VLOOKUP(AR253,[4]ItemConfig!$A:$C,3,FALSE)&AS253)","v":""},{"$f":"IF(AT253=\"\",\"\",VLOOKUP(AT253,[4]ItemConfig!$A:$C,3,FALSE)&AU253)","v":""},{"$f":"IF(AV253=\"\",\"\",VLOOKUP(AV253,[4]ItemConfig!$A:$C,3,FALSE)&AW253)","v":""},{"$f":"IF(AX253=\"\",\"\",VLOOKUP(AX253,[4]ItemConfig!$A:$C,3,FALSE)&AY253)","v":""}]
[250,250,7,19,10,"233;235;247","渡劫","前期.","十重",233,235,247,{"$f":"ROUND([1]ResourceLevelConfig!$E254*[1]ResourceLevelConfig!$L254*0.1,0)*10","v":18150},100004,0,{"$f":"AN254","v":1325},{"$f":"AO254","v":1},{"$f":"_xlfn.TEXTJOIN(\";\",1,AP254,AR254,AT254,AV254)","v":"1219;1220;1221"},{"$f":"_xlfn.TEXTJOIN(\";\",1,AQ254,AS254,AU254,AW254)","v":"1;1;1"},0,{"$f":"[3]主表!K252","v":75073.283631894039},{"$f":"[3]主表!L252","v":766.21473027532295},{"$f":"[3]主表!M252","v":766.21473027532295},{"$f":"[3]主表!N252","v":5175.38},{"$f":"[3]主表!$G252","v":544777},{"$f":"[3]升级!$H252","v":1800},{"$f":"MAX(0.1,ROUND(100/(24*3600)*VLOOKUP(B254,[1]ResourceLevelConfig!$A:$E,5,FALSE),2))","v":1.4},20,4,4,4,8035,null,null,null,1,5,250,null,1325,1,1219,1,1220,{"$f":"IF(AR254=\"\",\"\",1)","v":1},1221,{"$f":"IF(AT254=\"\",\"\",1)","v":1},null,{"$f":"IF(AV254=\"\",\"\",1)","v":""},null,{"$f":"IF(AX254=\"\",\"\",1)","v":""},{"$f":"IF(AN254=\"\",\"\",VLOOKUP(AN254,[4]ItemConfig!$A:$C,3,FALSE)&AO254)","v":"避雷藤1"},{"$f":"IF(AP254=\"\",\"\",VLOOKUP(AP254,[4]ItemConfig!$A:$C,3,FALSE)&AQ254)","v":"升仙丹1"},{"$f":"IF(AR254=\"\",\"\",VLOOKUP(AR254,[4]ItemConfig!$A:$C,3,FALSE)&AS254)","v":"归虚花1"},{"$f":"IF(AT254=\"\",\"\",VLOOKUP(AT254,[4]ItemConfig!$A:$C,3,FALSE)&AU254)","v":"真阳骨1"},{"$f":"IF(AV254=\"\",\"\",VLOOKUP(AV254,[4]ItemConfig!$A:$C,3,FALSE)&AW254)","v":""},{"$f":"IF(AX254=\"\",\"\",VLOOKUP(AX254,[4]ItemConfig!$A:$C,3,FALSE)&AY254)","v":""}]
[251,251,7,20,1,"233;236;238","渡劫","中期.","一重",233,236,238,{"$f":"ROUND([1]ResourceLevelConfig!$E255*[1]ResourceLevelConfig!$L255*0.1,0)*10","v":18300},-1,0,-1,-1,{"$f":"IF(I255=10,\"1001;1002;1004\",-1)","v":-1},{"$f":"IF(R255=-1,-1,\"100;200;300\")","v":-1},0,{"$f":"[3]主表!K253","v":82895.336617487352},{"$f":"[3]主表!L253","v":842.83620330285532},{"$f":"[3]主表!M253","v":842.83620330285532},{"$f":"[3]主表!N253","v":5808.23},{"$f":"[3]主表!$G253","v":611393},{"$f":"[3]升级!$H253","v":1800},{"$f":"MAX(0.1,ROUND(100/(24*3600)*VLOOKUP(B255,[1]ResourceLevelConfig!$A:$E,5,FALSE),2))","v":1.41},-1,4,4,4,8222,null,null,null,1,5,251,null,null,"",null,"",null,{"$f":"IF(AR255=\"\",\"\",1)","v":""},null,{"$f":"IF(AT255=\"\",\"\",1)","v":""},null,{"$f":"IF(AV255=\"\",\"\",1)","v":""},null,{"$f":"IF(AX255=\"\",\"\",1)","v":""},{"$f":"IF(AN255=\"\",\"\",VLOOKUP(AN255,[4]ItemConfig!$A:$C,3,FALSE)&AO255)","v":""},{"$f":"IF(AP255=\"\",\"\",VLOOKUP(AP255,[4]ItemConfig!$A:$C,3,FALSE)&AQ255)","v":""},{"$f":"IF(AR255=\"\",\"\",VLOOKUP(AR255,[4]ItemConfig!$A:$C,3,FALSE)&AS255)","v":""},{"$f":"IF(AT255=\"\",\"\",VLOOKUP(AT255,[4]ItemConfig!$A:$C,3,FALSE)&AU255)","v":""},{"$f":"IF(AV255=\"\",\"\",VLOOKUP(AV255,[4]ItemConfig!$A:$C,3,FALSE)&AW255)","v":""},{"$f":"IF(AX255=\"\",\"\",VLOOKUP(AX255,[4]ItemConfig!$A:$C,3,FALSE)&AY255)","v":""}]
[252,252,7,20,2,"233;236;239","渡劫","中期.","二重",233,236,239,{"$f":"ROUND([1]ResourceLevelConfig!$E256*[1]ResourceLevelConfig!$L256*0.1,0)*10","v":18600},-1,0,-1,-1,-1,-1,0,{"$f":"[3]主表!K254","v":84333.549207905759},{"$f":"[3]主表!L254","v":854.21603308915792},{"$f":"[3]主表!M254","v":854.21603308915792},{"$f":"[3]主表!N254","v":5879},{"$f":"[3]主表!$G254","v":618842},{"$f":"[3]升级!$H254","v":1800},{"$f":"MAX(0.1,ROUND(100/(24*3600)*VLOOKUP(B256,[1]ResourceLevelConfig!$A:$E,5,FALSE),2))","v":1.44},-1,4,4,4,8414,null,null,null,1,5,252,null,null,"",null,"",null,{"$f":"IF(AR256=\"\",\"\",1)","v":""},null,{"$f":"IF(AT256=\"\",\"\",1)","v":""},null,{"$f":"IF(AV256=\"\",\"\",1)","v":""},null,{"$f":"IF(AX256=\"\",\"\",1)","v":""},{"$f":"IF(AN256=\"\",\"\",VLOOKUP(AN256,[4]ItemConfig!$A:$C,3,FALSE)&AO256)","v":""},{"$f":"IF(AP256=\"\",\"\",VLOOKUP(AP256,[4]ItemConfig!$A:$C,3,FALSE)&AQ256)","v":""},{"$f":"IF(AR256=\"\",\"\",VLOOKUP(AR256,[4]ItemConfig!$A:$C,3,FALSE)&AS256)","v":""},{"$f":"IF(AT256=\"\",\"\",VLOOKUP(AT256,[4]ItemConfig!$A:$C,3,FALSE)&AU256)","v":""},{"$f":"IF(AV256=\"\",\"\",VLOOKUP(AV256,[4]ItemConfig!$A:$C,3,FALSE)&AW256)","v":""},{"$f":"IF(AX256=\"\",\"\",VLOOKUP(AX256,[4]ItemConfig!$A:$C,3,FALSE)&AY256)","v":""}]
[253,253,7,20,3,"233;236;240","渡劫","中期.","三重",233,236,240,{"$f":"ROUND([1]ResourceLevelConfig!$E257*[1]ResourceLevelConfig!$L257*0.1,0)*10","v":18750},-1,0,-1,-1,-1,-1,0,{"$f":"[3]主表!K255","v":85795.487029868062},{"$f":"[3]主表!L255","v":865.74951138445624},{"$f":"[3]主表!M255","v":865.74951138445624},{"$f":"[3]主表!N255","v":5950.76},{"$f":"[3]主表!$G255","v":626396},{"$f":"[3]升级!$H255","v":1800},{"$f":"MAX(0.1,ROUND(100/(24*3600)*VLOOKUP(B257,[1]ResourceLevelConfig!$A:$E,5,FALSE),2))","v":1.45},-1,4,4,4,8610,null,null,null,1,5,253,null,null,"",null,"",null,{"$f":"IF(AR257=\"\",\"\",1)","v":""},null,{"$f":"IF(AT257=\"\",\"\",1)","v":""},null,{"$f":"IF(AV257=\"\",\"\",1)","v":""},null,{"$f":"IF(AX257=\"\",\"\",1)","v":""},{"$f":"IF(AN257=\"\",\"\",VLOOKUP(AN257,[4]ItemConfig!$A:$C,3,FALSE)&AO257)","v":""},{"$f":"IF(AP257=\"\",\"\",VLOOKUP(AP257,[4]ItemConfig!$A:$C,3,FALSE)&AQ257)","v":""},{"$f":"IF(AR257=\"\",\"\",VLOOKUP(AR257,[4]ItemConfig!$A:$C,3,FALSE)&AS257)","v":""},{"$f":"IF(AT257=\"\",\"\",VLOOKUP(AT257,[4]ItemConfig!$A:$C,3,FALSE)&AU257)","v":""},{"$f":"IF(AV257=\"\",\"\",VLOOKUP(AV257,[4]ItemConfig!$A:$C,3,FALSE)&AW257)","v":""},{"$f":"IF(AX257=\"\",\"\",VLOOKUP(AX257,[4]ItemConfig!$A:$C,3,FALSE)&AY257)","v":""}]
[254,254,7,20,4,"233;236;241","渡劫","中期.","四重",233,236,241,{"$f":"ROUND([1]ResourceLevelConfig!$E258*[1]ResourceLevelConfig!$L258*0.1,0)*10","v":18900},-1,0,-1,-1,-1,-1,0,{"$f":"[3]主表!K256","v":87281.528566135079},{"$f":"[3]主表!L256","v":877.43871272455306},{"$f":"[3]主表!M256","v":877.43871272455306},{"$f":"[3]主表!N256","v":6023.54},{"$f":"[3]主表!$G256","v":634057},{"$f":"[3]升级!$H256","v":1800},{"$f":"MAX(0.1,ROUND(100/(24*3600)*VLOOKUP(B258,[1]ResourceLevelConfig!$A:$E,5,FALSE),2))","v":1.46},-1,4,4,4,8810,null,null,null,1,5,254,null,null,"",null,"",null,{"$f":"IF(AR258=\"\",\"\",1)","v":""},null,{"$f":"IF(AT258=\"\",\"\",1)","v":""},null,{"$f":"IF(AV258=\"\",\"\",1)","v":""},null,{"$f":"IF(AX258=\"\",\"\",1)","v":""},{"$f":"IF(AN258=\"\",\"\",VLOOKUP(AN258,[4]ItemConfig!$A:$C,3,FALSE)&AO258)","v":""},{"$f":"IF(AP258=\"\",\"\",VLOOKUP(AP258,[4]ItemConfig!$A:$C,3,FALSE)&AQ258)","v":""},{"$f":"IF(AR258=\"\",\"\",VLOOKUP(AR258,[4]ItemConfig!$A:$C,3,FALSE)&AS258)","v":""},{"$f":"IF(AT258=\"\",\"\",VLOOKUP(AT258,[4]ItemConfig!$A:$C,3,FALSE)&AU258)","v":""},{"$f":"IF(AV258=\"\",\"\",VLOOKUP(AV258,[4]ItemConfig!$A:$C,3,FALSE)&AW258)","v":""},{"$f":"IF(AX258=\"\",\"\",VLOOKUP(AX258,[4]ItemConfig!$A:$C,3,FALSE)&AY258)","v":""}]
[255,255,7,20,5,"233;236;242","渡劫","中期.","五重",233,236,242,{"$f":"ROUND([1]ResourceLevelConfig!$E259*[1]ResourceLevelConfig!$L259*0.1,0)*10","v":19050},-1,0,-1,-1,-1,-1,0,{"$f":"[3]主表!K257","v":88792.058194791316},{"$f":"[3]主表!L257","v":889.28573965527687},{"$f":"[3]主表!M257","v":889.28573965527687},{"$f":"[3]主表!N257","v":6097.37},{"$f":"[3]主表!$G257","v":641828},{"$f":"[3]升级!$H257","v":1800},{"$f":"MAX(0.1,ROUND(100/(24*3600)*VLOOKUP(B259,[1]ResourceLevelConfig!$A:$E,5,FALSE),2))","v":1.47},-1,{"$f":"AC258","v":4},{"$f":"AD258","v":4},{"$f":"AE258","v":4},9016,null,null,null,1,5,255,null,null,"",null,"",null,{"$f":"IF(AR259=\"\",\"\",1)","v":""},null,{"$f":"IF(AT259=\"\",\"\",1)","v":""},null,{"$f":"IF(AV259=\"\",\"\",1)","v":""},null,{"$f":"IF(AX259=\"\",\"\",1)","v":""},{"$f":"IF(AN259=\"\",\"\",VLOOKUP(AN259,[4]ItemConfig!$A:$C,3,FALSE)&AO259)","v":""},{"$f":"IF(AP259=\"\",\"\",VLOOKUP(AP259,[4]ItemConfig!$A:$C,3,FALSE)&AQ259)","v":""},{"$f":"IF(AR259=\"\",\"\",VLOOKUP(AR259,[4]ItemConfig!$A:$C,3,FALSE)&AS259)","v":""},{"$f":"IF(AT259=\"\",\"\",VLOOKUP(AT259,[4]ItemConfig!$A:$C,3,FALSE)&AU259)","v":""},{"$f":"IF(AV259=\"\",\"\",VLOOKUP(AV259,[4]ItemConfig!$A:$C,3,FALSE)&AW259)","v":""},{"$f":"IF(AX259=\"\",\"\",VLOOKUP(AX259,[4]ItemConfig!$A:$C,3,FALSE)&AY259)","v":""}]
[256,256,7,20,6,"233;236;243","渡劫","中期.","六重",233,236,243,{"$f":"ROUND([1]ResourceLevelConfig!$E260*[1]ResourceLevelConfig!$L260*0.1,0)*10","v":19350},-1,0,-1,-1,-1,-1,0,{"$f":"[3]主表!K258","v":90327.46627944331},{"$f":"[3]主表!L258","v":901.2927231106695},{"$f":"[3]主表!M258","v":901.2927231106695},{"$f":"[3]主表!N258","v":6172.23},{"$f":"[3]主表!$G258","v":649708},{"$f":"[3]升级!$H258","v":1800},{"$f":"MAX(0.1,ROUND(100/(24*3600)*VLOOKUP(B260,[1]ResourceLevelConfig!$A:$E,5,FALSE),2))","v":1.49},-1,4,4,4,9226,null,null,null,1,5,256,null,null,"",null,"",null,{"$f":"IF(AR260=\"\",\"\",1)","v":""},null,{"$f":"IF(AT260=\"\",\"\",1)","v":""},null,{"$f":"IF(AV260=\"\",\"\",1)","v":""},null,{"$f":"IF(AX260=\"\",\"\",1)","v":""},{"$f":"IF(AN260=\"\",\"\",VLOOKUP(AN260,[4]ItemConfig!$A:$C,3,FALSE)&AO260)","v":""},{"$f":"IF(AP260=\"\",\"\",VLOOKUP(AP260,[4]ItemConfig!$A:$C,3,FALSE)&AQ260)","v":""},{"$f":"IF(AR260=\"\",\"\",VLOOKUP(AR260,[4]ItemConfig!$A:$C,3,FALSE)&AS260)","v":""},{"$f":"IF(AT260=\"\",\"\",VLOOKUP(AT260,[4]ItemConfig!$A:$C,3,FALSE)&AU260)","v":""},{"$f":"IF(AV260=\"\",\"\",VLOOKUP(AV260,[4]ItemConfig!$A:$C,3,FALSE)&AW260)","v":""},{"$f":"IF(AX260=\"\",\"\",VLOOKUP(AX260,[4]ItemConfig!$A:$C,3,FALSE)&AY260)","v":""}]
[257,257,7,20,7,"233;236;244","渡劫","中期.","七重",233,236,244,{"$f":"ROUND([1]ResourceLevelConfig!$E261*[1]ResourceLevelConfig!$L261*0.1,0)*10","v":19500},-1,0,-1,-1,-1,-1,0,{"$f":"[3]主表!K259","v":91888.149260778562},{"$f":"[3]主表!L259","v":913.4618227962784},{"$f":"[3]主表!M259","v":913.4618227962784},{"$f":"[3]主表!N259","v":6248.16},{"$f":"[3]主表!$G259","v":657701},{"$f":"[3]升级!$H259","v":1800},{"$f":"MAX(0.1,ROUND(100/(24*3600)*VLOOKUP(B261,[1]ResourceLevelConfig!$A:$E,5,FALSE),2))","v":1.5},-1,4,4,4,9441,null,null,null,1,5,257,null,null,"",null,"",null,{"$f":"IF(AR261=\"\",\"\",1)","v":""},null,{"$f":"IF(AT261=\"\",\"\",1)","v":""},null,{"$f":"IF(AV261=\"\",\"\",1)","v":""},null,{"$f":"IF(AX261=\"\",\"\",1)","v":""},{"$f":"IF(AN261=\"\",\"\",VLOOKUP(AN261,[4]ItemConfig!$A:$C,3,FALSE)&AO261)","v":""},{"$f":"IF(AP261=\"\",\"\",VLOOKUP(AP261,[4]ItemConfig!$A:$C,3,FALSE)&AQ261)","v":""},{"$f":"IF(AR261=\"\",\"\",VLOOKUP(AR261,[4]ItemConfig!$A:$C,3,FALSE)&AS261)","v":""},{"$f":"IF(AT261=\"\",\"\",VLOOKUP(AT261,[4]ItemConfig!$A:$C,3,FALSE)&AU261)","v":""},{"$f":"IF(AV261=\"\",\"\",VLOOKUP(AV261,[4]ItemConfig!$A:$C,3,FALSE)&AW261)","v":""},{"$f":"IF(AX261=\"\",\"\",VLOOKUP(AX261,[4]ItemConfig!$A:$C,3,FALSE)&AY261)","v":""}]
[258,258,7,20,8,{"$f":"_xlfn.TEXTJOIN(\";\",1,J262:L262)","v":"233;236;245"},"渡劫","中期.","八重",233,236,245,{"$f":"ROUND([1]ResourceLevelConfig!$E262*[1]ResourceLevelConfig!$L262*0.1,0)*10","v":19650},{"$f":"IF(E262=10,100004,-1)","v":-1},0,-1,-1,-1,-1,0,{"$f":"[3]主表!K260","v":93474.509749506018},{"$f":"[3]主表!L260","v":925.79522757762493},{"$f":"[3]主表!M260","v":925.79522757762493},{"$f":"[3]主表!N260","v":6325.16},{"$f":"[3]主表!$G260","v":665806},{"$f":"[3]升级!$H260","v":1800},{"$f":"MAX(0.1,ROUND(100/(24*3600)*VLOOKUP(B262,[1]ResourceLevelConfig!$A:$E,5,FALSE),2))","v":1.52},-1,4,4,4,{"$f":"MAX(AF261+10,ROUND(10^(B262*0.01+1.405),0))","v":9661},null,null,null,1,5,258,null,null,{"$f":"IF(AN262=\"\",\"\",1)","v":""},null,"",null,{"$f":"IF(AR262=\"\",\"\",1)","v":""},null,{"$f":"IF(AT262=\"\",\"\",1)","v":""},null,{"$f":"IF(AV262=\"\",\"\",1)","v":""},null,{"$f":"IF(AX262=\"\",\"\",1)","v":""},{"$f":"IF(AN262=\"\",\"\",VLOOKUP(AN262,[4]ItemConfig!$A:$C,3,FALSE)&AO262)","v":""},{"$f":"IF(AP262=\"\",\"\",VLOOKUP(AP262,[4]ItemConfig!$A:$C,3,FALSE)&AQ262)","v":""},{"$f":"IF(AR262=\"\",\"\",VLOOKUP(AR262,[4]ItemConfig!$A:$C,3,FALSE)&AS262)","v":""},{"$f":"IF(AT262=\"\",\"\",VLOOKUP(AT262,[4]ItemConfig!$A:$C,3,FALSE)&AU262)","v":""},{"$f":"IF(AV262=\"\",\"\",VLOOKUP(AV262,[4]ItemConfig!$A:$C,3,FALSE)&AW262)","v":""},{"$f":"IF(AX262=\"\",\"\",VLOOKUP(AX262,[4]ItemConfig!$A:$C,3,FALSE)&AY262)","v":""}]
[259,259,7,20,9,"233;236;246","渡劫","中期.","九重",233,236,246,{"$f":"ROUND([1]ResourceLevelConfig!$E263*[1]ResourceLevelConfig!$L263*0.1,0)*10","v":19950},-1,0,-1,-1,-1,-1,0,{"$f":"[3]主表!K261","v":95086.9566206983},{"$f":"[3]主表!L261","v":938.29515587391677},{"$f":"[3]主表!M261","v":938.29515587391677},{"$f":"[3]主表!N261","v":6403.27},{"$f":"[3]主表!$G261","v":674028},{"$f":"[3]升级!$H261","v":1800},{"$f":"MAX(0.1,ROUND(100/(24*3600)*VLOOKUP(B263,[1]ResourceLevelConfig!$A:$E,5,FALSE),2))","v":1.54},-1,4,4,4,9886,null,null,null,1,5,259,null,null,"",null,"",null,{"$f":"IF(AR263=\"\",\"\",1)","v":""},null,{"$f":"IF(AT263=\"\",\"\",1)","v":""},null,{"$f":"IF(AV263=\"\",\"\",1)","v":""},null,{"$f":"IF(AX263=\"\",\"\",1)","v":""},{"$f":"IF(AN263=\"\",\"\",VLOOKUP(AN263,[4]ItemConfig!$A:$C,3,FALSE)&AO263)","v":""},{"$f":"IF(AP263=\"\",\"\",VLOOKUP(AP263,[4]ItemConfig!$A:$C,3,FALSE)&AQ263)","v":""},{"$f":"IF(AR263=\"\",\"\",VLOOKUP(AR263,[4]ItemConfig!$A:$C,3,FALSE)&AS263)","v":""},{"$f":"IF(AT263=\"\",\"\",VLOOKUP(AT263,[4]ItemConfig!$A:$C,3,FALSE)&AU263)","v":""},{"$f":"IF(AV263=\"\",\"\",VLOOKUP(AV263,[4]ItemConfig!$A:$C,3,FALSE)&AW263)","v":""},{"$f":"IF(AX263=\"\",\"\",VLOOKUP(AX263,[4]ItemConfig!$A:$C,3,FALSE)&AY263)","v":""}]
[260,260,7,20,10,"233;236;247","渡劫","中期.","十重",233,236,247,{"$f":"ROUND([1]ResourceLevelConfig!$E264*[1]ResourceLevelConfig!$L264*0.1,0)*10","v":20100},100004,0,{"$f":"AN264","v":1326},{"$f":"AO264","v":1},{"$f":"_xlfn.TEXTJOIN(\";\",1,AP264,AR264,AT264,AV264)","v":"1219;1220;1221"},{"$f":"_xlfn.TEXTJOIN(\";\",1,AQ264,AS264,AU264,AW264)","v":"1;1;1"},0,{"$f":"[3]主表!K262","v":96725.905109556741},{"$f":"[3]主表!L262","v":950.96385605707769},{"$f":"[3]主表!M262","v":950.96385605707769},{"$f":"[3]主表!N262","v":6823.65},{"$f":"[3]主表!$G262","v":682365},{"$f":"[3]升级!$H262","v":1800},{"$f":"MAX(0.1,ROUND(100/(24*3600)*VLOOKUP(B264,[1]ResourceLevelConfig!$A:$E,5,FALSE),2))","v":1.55},20,4,4,4,10116,null,null,null,1,5,260,null,1326,1,1219,1,1220,{"$f":"IF(AR264=\"\",\"\",1)","v":1},1221,{"$f":"IF(AT264=\"\",\"\",1)","v":1},null,{"$f":"IF(AV264=\"\",\"\",1)","v":""},null,{"$f":"IF(AX264=\"\",\"\",1)","v":""},{"$f":"IF(AN264=\"\",\"\",VLOOKUP(AN264,[4]ItemConfig!$A:$C,3,FALSE)&AO264)","v":"渡元丹1"},{"$f":"IF(AP264=\"\",\"\",VLOOKUP(AP264,[4]ItemConfig!$A:$C,3,FALSE)&AQ264)","v":"升仙丹1"},{"$f":"IF(AR264=\"\",\"\",VLOOKUP(AR264,[4]ItemConfig!$A:$C,3,FALSE)&AS264)","v":"归虚花1"},{"$f":"IF(AT264=\"\",\"\",VLOOKUP(AT264,[4]ItemConfig!$A:$C,3,FALSE)&AU264)","v":"真阳骨1"},{"$f":"IF(AV264=\"\",\"\",VLOOKUP(AV264,[4]ItemConfig!$A:$C,3,FALSE)&AW264)","v":""},{"$f":"IF(AX264=\"\",\"\",VLOOKUP(AX264,[4]ItemConfig!$A:$C,3,FALSE)&AY264)","v":""}]
[261,261,7,21,1,"233;237;238","渡劫","后期.","一重",233,237,238,{"$f":"ROUND([1]ResourceLevelConfig!$E265*[1]ResourceLevelConfig!$L265*0.1,0)*10","v":20250},-1,0,-1,-1,{"$f":"IF(I265=10,\"1001;1002;1004\",-1)","v":-1},{"$f":"IF(R265=-1,-1,\"100;200;300\")","v":-1},0,{"$f":"[3]主表!K263","v":106789.10640974873},{"$f":"[3]主表!L263","v":1046.0602416627855},{"$f":"[3]主表!M263","v":1046.0602416627855},{"$f":"[3]主表!N263","v":7658},{"$f":"[3]主表!$G263","v":765800},{"$f":"[3]升级!$H263","v":1800},{"$f":"MAX(0.1,ROUND(100/(24*3600)*VLOOKUP(B265,[1]ResourceLevelConfig!$A:$E,5,FALSE),2))","v":1.56},-1,4,4,4,10351,null,null,null,1,5,261,null,null,"",null,"",null,{"$f":"IF(AR265=\"\",\"\",1)","v":""},null,{"$f":"IF(AT265=\"\",\"\",1)","v":""},null,{"$f":"IF(AV265=\"\",\"\",1)","v":""},null,{"$f":"IF(AX265=\"\",\"\",1)","v":""},{"$f":"IF(AN265=\"\",\"\",VLOOKUP(AN265,[4]ItemConfig!$A:$C,3,FALSE)&AO265)","v":""},{"$f":"IF(AP265=\"\",\"\",VLOOKUP(AP265,[4]ItemConfig!$A:$C,3,FALSE)&AQ265)","v":""},{"$f":"IF(AR265=\"\",\"\",VLOOKUP(AR265,[4]ItemConfig!$A:$C,3,FALSE)&AS265)","v":""},{"$f":"IF(AT265=\"\",\"\",VLOOKUP(AT265,[4]ItemConfig!$A:$C,3,FALSE)&AU265)","v":""},{"$f":"IF(AV265=\"\",\"\",VLOOKUP(AV265,[4]ItemConfig!$A:$C,3,FALSE)&AW265)","v":""},{"$f":"IF(AX265=\"\",\"\",VLOOKUP(AX265,[4]ItemConfig!$A:$C,3,FALSE)&AY265)","v":""}]
[262,262,7,21,2,"233;237;239","渡劫","后期.","二重",233,237,239,{"$f":"ROUND([1]ResourceLevelConfig!$E266*[1]ResourceLevelConfig!$L266*0.1,0)*10","v":20550},-1,0,-1,-1,-1,-1,0,{"$f":"[3]主表!K264","v":108626.83934856621},{"$f":"[3]主表!L264","v":1060.1839675417789},{"$f":"[3]主表!M264","v":1060.1839675417789},{"$f":"[3]主表!N264","v":7751.23},{"$f":"[3]主表!$G264","v":775123},{"$f":"[3]升级!$H264","v":1800},{"$f":"MAX(0.1,ROUND(100/(24*3600)*VLOOKUP(B266,[1]ResourceLevelConfig!$A:$E,5,FALSE),2))","v":1.59},-1,4,4,4,10593,null,null,null,1,5,262,null,null,"",null,"",null,{"$f":"IF(AR266=\"\",\"\",1)","v":""},null,{"$f":"IF(AT266=\"\",\"\",1)","v":""},null,{"$f":"IF(AV266=\"\",\"\",1)","v":""},null,{"$f":"IF(AX266=\"\",\"\",1)","v":""},{"$f":"IF(AN266=\"\",\"\",VLOOKUP(AN266,[4]ItemConfig!$A:$C,3,FALSE)&AO266)","v":""},{"$f":"IF(AP266=\"\",\"\",VLOOKUP(AP266,[4]ItemConfig!$A:$C,3,FALSE)&AQ266)","v":""},{"$f":"IF(AR266=\"\",\"\",VLOOKUP(AR266,[4]ItemConfig!$A:$C,3,FALSE)&AS266)","v":""},{"$f":"IF(AT266=\"\",\"\",VLOOKUP(AT266,[4]ItemConfig!$A:$C,3,FALSE)&AU266)","v":""},{"$f":"IF(AV266=\"\",\"\",VLOOKUP(AV266,[4]ItemConfig!$A:$C,3,FALSE)&AW266)","v":""},{"$f":"IF(AX266=\"\",\"\",VLOOKUP(AX266,[4]ItemConfig!$A:$C,3,FALSE)&AY266)","v":""}]
[263,263,7,21,3,"233;237;240","渡劫","后期.","三重",233,237,240,{"$f":"ROUND([1]ResourceLevelConfig!$E267*[1]ResourceLevelConfig!$L267*0.1,0)*10","v":20700},-1,0,-1,-1,-1,-1,0,{"$f":"[3]主表!K265","v":110494.73021011698},{"$f":"[3]主表!L265","v":1074.4983895439591},{"$f":"[3]主表!M265","v":1074.4983895439591},{"$f":"[3]主表!N265","v":7845.78},{"$f":"[3]主表!$G265","v":784578},{"$f":"[3]升级!$H265","v":1800},{"$f":"MAX(0.1,ROUND(100/(24*3600)*VLOOKUP(B267,[1]ResourceLevelConfig!$A:$E,5,FALSE),2))","v":1.6},-1,4,4,4,10839,null,null,null,1,5,263,null,null,"",null,"",null,{"$f":"IF(AR267=\"\",\"\",1)","v":""},null,{"$f":"IF(AT267=\"\",\"\",1)","v":""},null,{"$f":"IF(AV267=\"\",\"\",1)","v":""},null,{"$f":"IF(AX267=\"\",\"\",1)","v":""},{"$f":"IF(AN267=\"\",\"\",VLOOKUP(AN267,[4]ItemConfig!$A:$C,3,FALSE)&AO267)","v":""},{"$f":"IF(AP267=\"\",\"\",VLOOKUP(AP267,[4]ItemConfig!$A:$C,3,FALSE)&AQ267)","v":""},{"$f":"IF(AR267=\"\",\"\",VLOOKUP(AR267,[4]ItemConfig!$A:$C,3,FALSE)&AS267)","v":""},{"$f":"IF(AT267=\"\",\"\",VLOOKUP(AT267,[4]ItemConfig!$A:$C,3,FALSE)&AU267)","v":""},{"$f":"IF(AV267=\"\",\"\",VLOOKUP(AV267,[4]ItemConfig!$A:$C,3,FALSE)&AW267)","v":""},{"$f":"IF(AX267=\"\",\"\",VLOOKUP(AX267,[4]ItemConfig!$A:$C,3,FALSE)&AY267)","v":""}]
[264,264,7,21,4,"233;237;241","渡劫","后期.","四重",233,237,241,{"$f":"ROUND([1]ResourceLevelConfig!$E268*[1]ResourceLevelConfig!$L268*0.1,0)*10","v":20850},-1,0,-1,-1,-1,-1,0,{"$f":"[3]主表!K266","v":112393.25835103904},{"$f":"[3]主表!L266","v":1089.0060824156581},{"$f":"[3]主表!M266","v":1089.0060824156581},{"$f":"[3]主表!N266","v":7941.68},{"$f":"[3]主表!$G266","v":794168},{"$f":"[3]升级!$H266","v":1800},{"$f":"MAX(0.1,ROUND(100/(24*3600)*VLOOKUP(B268,[1]ResourceLevelConfig!$A:$E,5,FALSE),2))","v":1.61},-1,4,4,4,11092,null,null,null,1,5,264,null,null,"",null,"",null,{"$f":"IF(AR268=\"\",\"\",1)","v":""},null,{"$f":"IF(AT268=\"\",\"\",1)","v":""},null,{"$f":"IF(AV268=\"\",\"\",1)","v":""},null,{"$f":"IF(AX268=\"\",\"\",1)","v":""},{"$f":"IF(AN268=\"\",\"\",VLOOKUP(AN268,[4]ItemConfig!$A:$C,3,FALSE)&AO268)","v":""},{"$f":"IF(AP268=\"\",\"\",VLOOKUP(AP268,[4]ItemConfig!$A:$C,3,FALSE)&AQ268)","v":""},{"$f":"IF(AR268=\"\",\"\",VLOOKUP(AR268,[4]ItemConfig!$A:$C,3,FALSE)&AS268)","v":""},{"$f":"IF(AT268=\"\",\"\",VLOOKUP(AT268,[4]ItemConfig!$A:$C,3,FALSE)&AU268)","v":""},{"$f":"IF(AV268=\"\",\"\",VLOOKUP(AV268,[4]ItemConfig!$A:$C,3,FALSE)&AW268)","v":""},{"$f":"IF(AX268=\"\",\"\",VLOOKUP(AX268,[4]ItemConfig!$A:$C,3,FALSE)&AY268)","v":""}]
[265,265,7,21,5,"233;237;242","渡劫","后期.","五重",233,237,242,{"$f":"ROUND([1]ResourceLevelConfig!$E269*[1]ResourceLevelConfig!$L269*0.1,0)*10","v":21150},-1,0,-1,-1,-1,-1,0,{"$f":"[3]主表!K267","v":114322.91057458227},{"$f":"[3]主表!L267","v":1103.7096556669903},{"$f":"[3]主表!M267","v":1103.7096556669903},{"$f":"[3]主表!N267","v":8038.93},{"$f":"[3]主表!$G267","v":803893},{"$f":"[3]升级!$H267","v":1800},{"$f":"MAX(0.1,ROUND(100/(24*3600)*VLOOKUP(B269,[1]ResourceLevelConfig!$A:$E,5,FALSE),2))","v":1.63},-1,4,4,4,11350,null,null,null,1,5,265,null,null,"",null,"",null,{"$f":"IF(AR269=\"\",\"\",1)","v":""},null,{"$f":"IF(AT269=\"\",\"\",1)","v":""},null,{"$f":"IF(AV269=\"\",\"\",1)","v":""},null,{"$f":"IF(AX269=\"\",\"\",1)","v":""},{"$f":"IF(AN269=\"\",\"\",VLOOKUP(AN269,[4]ItemConfig!$A:$C,3,FALSE)&AO269)","v":""},{"$f":"IF(AP269=\"\",\"\",VLOOKUP(AP269,[4]ItemConfig!$A:$C,3,FALSE)&AQ269)","v":""},{"$f":"IF(AR269=\"\",\"\",VLOOKUP(AR269,[4]ItemConfig!$A:$C,3,FALSE)&AS269)","v":""},{"$f":"IF(AT269=\"\",\"\",VLOOKUP(AT269,[4]ItemConfig!$A:$C,3,FALSE)&AU269)","v":""},{"$f":"IF(AV269=\"\",\"\",VLOOKUP(AV269,[4]ItemConfig!$A:$C,3,FALSE)&AW269)","v":""},{"$f":"IF(AX269=\"\",\"\",VLOOKUP(AX269,[4]ItemConfig!$A:$C,3,FALSE)&AY269)","v":""}]
[266,266,7,21,6,"233;237;243","渡劫","后期.","六重",233,237,243,{"$f":"ROUND([1]ResourceLevelConfig!$E270*[1]ResourceLevelConfig!$L270*0.1,0)*10","v":21300},-1,0,-1,-1,-1,-1,0,{"$f":"[3]主表!K268","v":116284.18124430769},{"$f":"[3]主表!L268","v":1118.6117540412292},{"$f":"[3]主表!M268","v":1118.6117540412292},{"$f":"[3]主表!N268","v":8137.57},{"$f":"[3]主表!$G268","v":813757},{"$f":"[3]升级!$H268","v":1800},{"$f":"MAX(0.1,ROUND(100/(24*3600)*VLOOKUP(B270,[1]ResourceLevelConfig!$A:$E,5,FALSE),2))","v":1.64},-1,4,4,4,11614,null,null,null,1,5,266,null,null,"",null,"",null,{"$f":"IF(AR270=\"\",\"\",1)","v":""},null,{"$f":"IF(AT270=\"\",\"\",1)","v":""},null,{"$f":"IF(AV270=\"\",\"\",1)","v":""},null,{"$f":"IF(AX270=\"\",\"\",1)","v":""},{"$f":"IF(AN270=\"\",\"\",VLOOKUP(AN270,[4]ItemConfig!$A:$C,3,FALSE)&AO270)","v":""},{"$f":"IF(AP270=\"\",\"\",VLOOKUP(AP270,[4]ItemConfig!$A:$C,3,FALSE)&AQ270)","v":""},{"$f":"IF(AR270=\"\",\"\",VLOOKUP(AR270,[4]ItemConfig!$A:$C,3,FALSE)&AS270)","v":""},{"$f":"IF(AT270=\"\",\"\",VLOOKUP(AT270,[4]ItemConfig!$A:$C,3,FALSE)&AU270)","v":""},{"$f":"IF(AV270=\"\",\"\",VLOOKUP(AV270,[4]ItemConfig!$A:$C,3,FALSE)&AW270)","v":""},{"$f":"IF(AX270=\"\",\"\",VLOOKUP(AX270,[4]ItemConfig!$A:$C,3,FALSE)&AY270)","v":""}]
[267,267,7,21,7,"233;237;244","渡劫","后期.","七重",233,237,244,{"$f":"ROUND([1]ResourceLevelConfig!$E271*[1]ResourceLevelConfig!$L271*0.1,0)*10","v":21600},-1,0,-1,-1,-1,-1,0,{"$f":"[3]主表!K269","v":118277.57239949961},{"$f":"[3]主表!L269","v":1133.7150579905167},{"$f":"[3]主表!M269","v":1133.7150579905167},{"$f":"[3]主表!N269","v":8237.6},{"$f":"[3]主表!$G269","v":823760},{"$f":"[3]升级!$H269","v":1800},{"$f":"MAX(0.1,ROUND(100/(24*3600)*VLOOKUP(B271,[1]ResourceLevelConfig!$A:$E,5,FALSE),2))","v":1.67},-1,4,4,4,11885,null,null,null,1,5,267,null,null,"",null,"",null,{"$f":"IF(AR271=\"\",\"\",1)","v":""},null,{"$f":"IF(AT271=\"\",\"\",1)","v":""},null,{"$f":"IF(AV271=\"\",\"\",1)","v":""},null,{"$f":"IF(AX271=\"\",\"\",1)","v":""},{"$f":"IF(AN271=\"\",\"\",VLOOKUP(AN271,[4]ItemConfig!$A:$C,3,FALSE)&AO271)","v":""},{"$f":"IF(AP271=\"\",\"\",VLOOKUP(AP271,[4]ItemConfig!$A:$C,3,FALSE)&AQ271)","v":""},{"$f":"IF(AR271=\"\",\"\",VLOOKUP(AR271,[4]ItemConfig!$A:$C,3,FALSE)&AS271)","v":""},{"$f":"IF(AT271=\"\",\"\",VLOOKUP(AT271,[4]ItemConfig!$A:$C,3,FALSE)&AU271)","v":""},{"$f":"IF(AV271=\"\",\"\",VLOOKUP(AV271,[4]ItemConfig!$A:$C,3,FALSE)&AW271)","v":""},{"$f":"IF(AX271=\"\",\"\",VLOOKUP(AX271,[4]ItemConfig!$A:$C,3,FALSE)&AY271)","v":""}]
[268,268,7,21,8,"233;237;245","渡劫","后期.","八重",233,237,245,{"$f":"ROUND([1]ResourceLevelConfig!$E272*[1]ResourceLevelConfig!$L272*0.1,0)*10","v":21750},-1,0,-1,-1,-1,-1,0,{"$f":"[3]主表!K270","v":120303.59387231607},{"$f":"[3]主表!L270","v":1149.0222841580007},{"$f":"[3]主表!M270","v":1149.0222841580007},{"$f":"[3]主表!N270","v":8339.06},{"$f":"[3]主表!$G270","v":833906},{"$f":"[3]升级!$H270","v":1800},{"$f":"MAX(0.1,ROUND(100/(24*3600)*VLOOKUP(B272,[1]ResourceLevelConfig!$A:$E,5,FALSE),2))","v":1.68},-1,4,4,4,12162,null,null,null,1,5,268,null,null,"",null,"",null,{"$f":"IF(AR272=\"\",\"\",1)","v":""},null,{"$f":"IF(AT272=\"\",\"\",1)","v":""},null,{"$f":"IF(AV272=\"\",\"\",1)","v":""},null,{"$f":"IF(AX272=\"\",\"\",1)","v":""},{"$f":"IF(AN272=\"\",\"\",VLOOKUP(AN272,[4]ItemConfig!$A:$C,3,FALSE)&AO272)","v":""},{"$f":"IF(AP272=\"\",\"\",VLOOKUP(AP272,[4]ItemConfig!$A:$C,3,FALSE)&AQ272)","v":""},{"$f":"IF(AR272=\"\",\"\",VLOOKUP(AR272,[4]ItemConfig!$A:$C,3,FALSE)&AS272)","v":""},{"$f":"IF(AT272=\"\",\"\",VLOOKUP(AT272,[4]ItemConfig!$A:$C,3,FALSE)&AU272)","v":""},{"$f":"IF(AV272=\"\",\"\",VLOOKUP(AV272,[4]ItemConfig!$A:$C,3,FALSE)&AW272)","v":""},{"$f":"IF(AX272=\"\",\"\",VLOOKUP(AX272,[4]ItemConfig!$A:$C,3,FALSE)&AY272)","v":""}]
[269,269,7,21,9,"233;237;246","渡劫","后期.","九重",233,237,246,{"$f":"ROUND([1]ResourceLevelConfig!$E273*[1]ResourceLevelConfig!$L273*0.1,0)*10","v":22050},-1,0,-1,-1,-1,-1,0,{"$f":"[3]主表!K271","v":122362.76340670337},{"$f":"[3]主表!L271","v":1164.5361858664778},{"$f":"[3]主表!M271","v":1164.5361858664778},{"$f":"[3]主表!N271","v":8441.9599999999991},{"$f":"[3]主表!$G271","v":844196},{"$f":"[3]升级!$H271","v":1800},{"$f":"MAX(0.1,ROUND(100/(24*3600)*VLOOKUP(B273,[1]ResourceLevelConfig!$A:$E,5,FALSE),2))","v":1.7},-1,4,4,4,12445,null,null,null,1,5,269,null,null,"",null,"",null,{"$f":"IF(AR273=\"\",\"\",1)","v":""},null,{"$f":"IF(AT273=\"\",\"\",1)","v":""},null,{"$f":"IF(AV273=\"\",\"\",1)","v":""},null,{"$f":"IF(AX273=\"\",\"\",1)","v":""},{"$f":"IF(AN273=\"\",\"\",VLOOKUP(AN273,[4]ItemConfig!$A:$C,3,FALSE)&AO273)","v":""},{"$f":"IF(AP273=\"\",\"\",VLOOKUP(AP273,[4]ItemConfig!$A:$C,3,FALSE)&AQ273)","v":""},{"$f":"IF(AR273=\"\",\"\",VLOOKUP(AR273,[4]ItemConfig!$A:$C,3,FALSE)&AS273)","v":""},{"$f":"IF(AT273=\"\",\"\",VLOOKUP(AT273,[4]ItemConfig!$A:$C,3,FALSE)&AU273)","v":""},{"$f":"IF(AV273=\"\",\"\",VLOOKUP(AV273,[4]ItemConfig!$A:$C,3,FALSE)&AW273)","v":""},{"$f":"IF(AX273=\"\",\"\",VLOOKUP(AX273,[4]ItemConfig!$A:$C,3,FALSE)&AY273)","v":""}]
[270,270,7,21,10,"233;237;247","渡劫","后期.","十重",233,237,247,{"$f":"ROUND([1]ResourceLevelConfig!$E274*[1]ResourceLevelConfig!$L274*0.1,0)*10","v":22200},100004,0,{"$f":"AN274","v":1327},{"$f":"AO274","v":1},{"$f":"_xlfn.TEXTJOIN(\";\",1,AP274,AR274,AT274,AV274)","v":"1219;1220;1221"},{"$f":"_xlfn.TEXTJOIN(\";\",1,AQ274,AS274,AU274,AW274)","v":"1;1;1"},{"$f":"CONCATENATE(ROUND(0.6*VLOOKUP(A274,[3]主表!$A:$P,16,FALSE)*[5]HeroModelConfig!$Q$5,0),\";\",ROUND(0.9*VLOOKUP(A274,[3]主表!$A:$P,16,FALSE)*[5]HeroModelConfig!$Q$5,0),\";\",INT(A274/30)+1)","v":"27035683;40553525;10"},{"$f":"[3]主表!K272","v":124455.60677910148},{"$f":"[3]主表!L272","v":1180.2595536136375},{"$f":"[3]主表!M272","v":1180.2595536136375},{"$f":"[3]主表!N272","v":8973.64},{"$f":"[3]主表!$G272","v":854632},{"$f":"[3]升级!$H272","v":1800},{"$f":"MAX(0.1,ROUND(100/(24*3600)*VLOOKUP(B274,[1]ResourceLevelConfig!$A:$E,5,FALSE),2))","v":1.71},50,4,4,4,12735,null,null,null,1,5,270,null,1327,1,1219,1,1220,{"$f":"IF(AR274=\"\",\"\",1)","v":1},1221,{"$f":"IF(AT274=\"\",\"\",1)","v":1},null,{"$f":"IF(AV274=\"\",\"\",1)","v":""},null,{"$f":"IF(AX274=\"\",\"\",1)","v":""},{"$f":"IF(AN274=\"\",\"\",VLOOKUP(AN274,[4]ItemConfig!$A:$C,3,FALSE)&AO274)","v":"天衍花1"},{"$f":"IF(AP274=\"\",\"\",VLOOKUP(AP274,[4]ItemConfig!$A:$C,3,FALSE)&AQ274)","v":"升仙丹1"},{"$f":"IF(AR274=\"\",\"\",VLOOKUP(AR274,[4]ItemConfig!$A:$C,3,FALSE)&AS274)","v":"归虚花1"},{"$f":"IF(AT274=\"\",\"\",VLOOKUP(AT274,[4]ItemConfig!$A:$C,3,FALSE)&AU274)","v":"真阳骨1"},{"$f":"IF(AV274=\"\",\"\",VLOOKUP(AV274,[4]ItemConfig!$A:$C,3,FALSE)&AW274)","v":""},{"$f":"IF(AX274=\"\",\"\",VLOOKUP(AX274,[4]ItemConfig!$A:$C,3,FALSE)&AY274)","v":""}]
[271,271,7,19,1,"234;235;238","飞升","前期.","一重",234,235,238,{"$f":"ROUND([1]ResourceLevelConfig!$E275*[1]ResourceLevelConfig!$L275*0.1,0)*10","v":22500},-1,0,-1,-1,{"$f":"IF(I275=10,\"1001;1002;1004\",-1)","v":-1},{"$f":"IF(R275=-1,-1,\"100;200;300\")","v":-1},0,{"$f":"[3]主表!K273","v":162365.22785266218},{"$f":"[3]主表!L273","v":1534.3374196977288},{"$f":"[3]主表!M273","v":1534.3374196977288},{"$f":"[3]主表!N273","v":11901.82},{"$f":"[3]主表!$G273","v":1133507},{"$f":"[3]升级!$H273","v":1900},{"$f":"MAX(0.1,ROUND(100/(24*3600)*VLOOKUP(B275,[1]ResourceLevelConfig!$A:$E,5,FALSE),2))","v":1.74},-1,4,4,4,13032,null,null,null,1,5,271,null,null,"",null,"",null,{"$f":"IF(AR275=\"\",\"\",1)","v":""},null,{"$f":"IF(AT275=\"\",\"\",1)","v":""},null,{"$f":"IF(AV275=\"\",\"\",1)","v":""},null,{"$f":"IF(AX275=\"\",\"\",1)","v":""},{"$f":"IF(AN275=\"\",\"\",VLOOKUP(AN275,[4]ItemConfig!$A:$C,3,FALSE)&AO275)","v":""},{"$f":"IF(AP275=\"\",\"\",VLOOKUP(AP275,[4]ItemConfig!$A:$C,3,FALSE)&AQ275)","v":""},{"$f":"IF(AR275=\"\",\"\",VLOOKUP(AR275,[4]ItemConfig!$A:$C,3,FALSE)&AS275)","v":""},{"$f":"IF(AT275=\"\",\"\",VLOOKUP(AT275,[4]ItemConfig!$A:$C,3,FALSE)&AU275)","v":""},{"$f":"IF(AV275=\"\",\"\",VLOOKUP(AV275,[4]ItemConfig!$A:$C,3,FALSE)&AW275)","v":""},{"$f":"IF(AX275=\"\",\"\",VLOOKUP(AX275,[4]ItemConfig!$A:$C,3,FALSE)&AY275)","v":""}]
[272,272,7,19,2,"234;235;239","飞升","前期.","二重",234,235,239,{"$f":"ROUND([1]ResourceLevelConfig!$E276*[1]ResourceLevelConfig!$L276*0.1,0)*10","v":22650},-1,0,-1,-1,{"$f":"IF(I276=10,\"1001;1002;1004\",-1)","v":-1},{"$f":"IF(R276=-1,-1,\"100;200;300\")","v":-1},0,{"$f":"[3]主表!K274","v":165138.1300616854},{"$f":"[3]主表!L274","v":1555.0537802461861},{"$f":"[3]主表!M274","v":1555.0537802461861},{"$f":"[3]主表!N274","v":12046.62},{"$f":"[3]主表!$G274","v":1147297},{"$f":"[3]升级!$H274","v":1900},{"$f":"MAX(0.1,ROUND(100/(24*3600)*VLOOKUP(B276,[1]ResourceLevelConfig!$A:$E,5,FALSE),2))","v":1.75},-1,4,4,4,13335,null,null,null,1,5,272,null,null,"",null,"",null,{"$f":"IF(AR276=\"\",\"\",1)","v":""},null,{"$f":"IF(AT276=\"\",\"\",1)","v":""},null,{"$f":"IF(AV276=\"\",\"\",1)","v":""},null,{"$f":"IF(AX276=\"\",\"\",1)","v":""},{"$f":"IF(AN276=\"\",\"\",VLOOKUP(AN276,[4]ItemConfig!$A:$C,3,FALSE)&AO276)","v":""},{"$f":"IF(AP276=\"\",\"\",VLOOKUP(AP276,[4]ItemConfig!$A:$C,3,FALSE)&AQ276)","v":""},{"$f":"IF(AR276=\"\",\"\",VLOOKUP(AR276,[4]ItemConfig!$A:$C,3,FALSE)&AS276)","v":""},{"$f":"IF(AT276=\"\",\"\",VLOOKUP(AT276,[4]ItemConfig!$A:$C,3,FALSE)&AU276)","v":""},{"$f":"IF(AV276=\"\",\"\",VLOOKUP(AV276,[4]ItemConfig!$A:$C,3,FALSE)&AW276)","v":""},{"$f":"IF(AX276=\"\",\"\",VLOOKUP(AX276,[4]ItemConfig!$A:$C,3,FALSE)&AY276)","v":""}]
[273,273,7,19,3,"234;235;240","飞升","前期.","三重",234,235,240,{"$f":"ROUND([1]ResourceLevelConfig!$E277*[1]ResourceLevelConfig!$L277*0.1,0)*10","v":22950},-1,0,-1,-1,-1,-1,0,{"$f":"[3]主表!K275","v":167956.31169153043},{"$f":"[3]主表!L275","v":1576.0498495398413},{"$f":"[3]主表!M275","v":1576.0498495398413},{"$f":"[3]主表!N275","v":12193.47},{"$f":"[3]主表!$G275","v":1161283},{"$f":"[3]升级!$H275","v":1900},{"$f":"MAX(0.1,ROUND(100/(24*3600)*VLOOKUP(B277,[1]ResourceLevelConfig!$A:$E,5,FALSE),2))","v":1.77},-1,4,4,4,13646,null,null,null,1,5,273,null,null,"",null,"",null,{"$f":"IF(AR277=\"\",\"\",1)","v":""},null,{"$f":"IF(AT277=\"\",\"\",1)","v":""},null,{"$f":"IF(AV277=\"\",\"\",1)","v":""},null,{"$f":"IF(AX277=\"\",\"\",1)","v":""},{"$f":"IF(AN277=\"\",\"\",VLOOKUP(AN277,[4]ItemConfig!$A:$C,3,FALSE)&AO277)","v":""},{"$f":"IF(AP277=\"\",\"\",VLOOKUP(AP277,[4]ItemConfig!$A:$C,3,FALSE)&AQ277)","v":""},{"$f":"IF(AR277=\"\",\"\",VLOOKUP(AR277,[4]ItemConfig!$A:$C,3,FALSE)&AS277)","v":""},{"$f":"IF(AT277=\"\",\"\",VLOOKUP(AT277,[4]ItemConfig!$A:$C,3,FALSE)&AU277)","v":""},{"$f":"IF(AV277=\"\",\"\",VLOOKUP(AV277,[4]ItemConfig!$A:$C,3,FALSE)&AW277)","v":""},{"$f":"IF(AX277=\"\",\"\",VLOOKUP(AX277,[4]ItemConfig!$A:$C,3,FALSE)&AY277)","v":""}]
[274,274,7,19,4,"234;235;241","飞升","前期.","四重",234,235,241,{"$f":"ROUND([1]ResourceLevelConfig!$E278*[1]ResourceLevelConfig!$L278*0.1,0)*10","v":23100},-1,0,-1,-1,-1,-1,0,{"$f":"[3]主表!K276","v":170820.48995381099},{"$f":"[3]主表!L276","v":1597.3294041581737},{"$f":"[3]主表!M276","v":1597.3294041581737},{"$f":"[3]主表!N276","v":12342.4},{"$f":"[3]主表!$G276","v":1175467},{"$f":"[3]升级!$H276","v":1900},{"$f":"MAX(0.1,ROUND(100/(24*3600)*VLOOKUP(B278,[1]ResourceLevelConfig!$A:$E,5,FALSE),2))","v":1.78},-1,4,4,4,13964,null,null,null,1,5,274,null,null,"",null,"",null,{"$f":"IF(AR278=\"\",\"\",1)","v":""},null,{"$f":"IF(AT278=\"\",\"\",1)","v":""},null,{"$f":"IF(AV278=\"\",\"\",1)","v":""},null,{"$f":"IF(AX278=\"\",\"\",1)","v":""},{"$f":"IF(AN278=\"\",\"\",VLOOKUP(AN278,[4]ItemConfig!$A:$C,3,FALSE)&AO278)","v":""},{"$f":"IF(AP278=\"\",\"\",VLOOKUP(AP278,[4]ItemConfig!$A:$C,3,FALSE)&AQ278)","v":""},{"$f":"IF(AR278=\"\",\"\",VLOOKUP(AR278,[4]ItemConfig!$A:$C,3,FALSE)&AS278)","v":""},{"$f":"IF(AT278=\"\",\"\",VLOOKUP(AT278,[4]ItemConfig!$A:$C,3,FALSE)&AU278)","v":""},{"$f":"IF(AV278=\"\",\"\",VLOOKUP(AV278,[4]ItemConfig!$A:$C,3,FALSE)&AW278)","v":""},{"$f":"IF(AX278=\"\",\"\",VLOOKUP(AX278,[4]ItemConfig!$A:$C,3,FALSE)&AY278)","v":""}]
[275,275,7,19,5,"234;235;242","飞升","前期.","五重",234,235,242,{"$f":"ROUND([1]ResourceLevelConfig!$E279*[1]ResourceLevelConfig!$L279*0.1,0)*10","v":23400},-1,0,-1,-1,-1,-1,0,{"$f":"[3]主表!K277","v":173731.39317306722},{"$f":"[3]主表!L277","v":1618.8962716713913},{"$f":"[3]主表!M277","v":1618.8962716713913},{"$f":"[3]主表!N277","v":12493.45},{"$f":"[3]主表!$G277","v":1189852},{"$f":"[3]升级!$H277","v":1900},{"$f":"MAX(0.1,ROUND(100/(24*3600)*VLOOKUP(B279,[1]ResourceLevelConfig!$A:$E,5,FALSE),2))","v":1.81},-1,4,4,4,14289,null,null,null,1,5,275,null,null,"",null,"",null,{"$f":"IF(AR279=\"\",\"\",1)","v":""},null,{"$f":"IF(AT279=\"\",\"\",1)","v":""},null,{"$f":"IF(AV279=\"\",\"\",1)","v":""},null,{"$f":"IF(AX279=\"\",\"\",1)","v":""},{"$f":"IF(AN279=\"\",\"\",VLOOKUP(AN279,[4]ItemConfig!$A:$C,3,FALSE)&AO279)","v":""},{"$f":"IF(AP279=\"\",\"\",VLOOKUP(AP279,[4]ItemConfig!$A:$C,3,FALSE)&AQ279)","v":""},{"$f":"IF(AR279=\"\",\"\",VLOOKUP(AR279,[4]ItemConfig!$A:$C,3,FALSE)&AS279)","v":""},{"$f":"IF(AT279=\"\",\"\",VLOOKUP(AT279,[4]ItemConfig!$A:$C,3,FALSE)&AU279)","v":""},{"$f":"IF(AV279=\"\",\"\",VLOOKUP(AV279,[4]ItemConfig!$A:$C,3,FALSE)&AW279)","v":""},{"$f":"IF(AX279=\"\",\"\",VLOOKUP(AX279,[4]ItemConfig!$A:$C,3,FALSE)&AY279)","v":""}]
[276,276,7,19,6,"234;235;243","飞升","前期.","六重",234,235,243,{"$f":"ROUND([1]ResourceLevelConfig!$E280*[1]ResourceLevelConfig!$L280*0.1,0)*10","v":23550},-1,0,-1,-1,-1,-1,0,{"$f":"[3]主表!K278","v":176689.76095610825},{"$f":"[3]主表!L278","v":1640.7543313288982},{"$f":"[3]主表!M278","v":1640.7543313288982},{"$f":"[3]主表!N278","v":12646.64},{"$f":"[3]主表!$G278","v":1204442},{"$f":"[3]升级!$H278","v":1900},{"$f":"MAX(0.1,ROUND(100/(24*3600)*VLOOKUP(B280,[1]ResourceLevelConfig!$A:$E,5,FALSE),2))","v":1.82},-1,4,4,4,14622,null,null,null,1,5,276,null,null,"",null,"",null,{"$f":"IF(AR280=\"\",\"\",1)","v":""},null,{"$f":"IF(AT280=\"\",\"\",1)","v":""},null,{"$f":"IF(AV280=\"\",\"\",1)","v":""},null,{"$f":"IF(AX280=\"\",\"\",1)","v":""},{"$f":"IF(AN280=\"\",\"\",VLOOKUP(AN280,[4]ItemConfig!$A:$C,3,FALSE)&AO280)","v":""},{"$f":"IF(AP280=\"\",\"\",VLOOKUP(AP280,[4]ItemConfig!$A:$C,3,FALSE)&AQ280)","v":""},{"$f":"IF(AR280=\"\",\"\",VLOOKUP(AR280,[4]ItemConfig!$A:$C,3,FALSE)&AS280)","v":""},{"$f":"IF(AT280=\"\",\"\",VLOOKUP(AT280,[4]ItemConfig!$A:$C,3,FALSE)&AU280)","v":""},{"$f":"IF(AV280=\"\",\"\",VLOOKUP(AV280,[4]ItemConfig!$A:$C,3,FALSE)&AW280)","v":""},{"$f":"IF(AX280=\"\",\"\",VLOOKUP(AX280,[4]ItemConfig!$A:$C,3,FALSE)&AY280)","v":""}]
[277,277,7,19,7,"234;235;244","飞升","前期.","七重",234,235,244,{"$f":"ROUND([1]ResourceLevelConfig!$E281*[1]ResourceLevelConfig!$L281*0.1,0)*10","v":23850},-1,0,-1,-1,-1,-1,0,{"$f":"[3]主表!K279","v":179696.34436390115},{"$f":"[3]主表!L279","v":1662.9075147570577},{"$f":"[3]主表!M279","v":1662.9075147570577},{"$f":"[3]主表!N279","v":12802},{"$f":"[3]主表!$G279","v":1219238},{"$f":"[3]升级!$H279","v":1900},{"$f":"MAX(0.1,ROUND(100/(24*3600)*VLOOKUP(B281,[1]ResourceLevelConfig!$A:$E,5,FALSE),2))","v":1.84},-1,4,4,4,14962,null,null,null,1,5,277,null,null,"",null,"",null,{"$f":"IF(AR281=\"\",\"\",1)","v":""},null,{"$f":"IF(AT281=\"\",\"\",1)","v":""},null,{"$f":"IF(AV281=\"\",\"\",1)","v":""},null,{"$f":"IF(AX281=\"\",\"\",1)","v":""},{"$f":"IF(AN281=\"\",\"\",VLOOKUP(AN281,[4]ItemConfig!$A:$C,3,FALSE)&AO281)","v":""},{"$f":"IF(AP281=\"\",\"\",VLOOKUP(AP281,[4]ItemConfig!$A:$C,3,FALSE)&AQ281)","v":""},{"$f":"IF(AR281=\"\",\"\",VLOOKUP(AR281,[4]ItemConfig!$A:$C,3,FALSE)&AS281)","v":""},{"$f":"IF(AT281=\"\",\"\",VLOOKUP(AT281,[4]ItemConfig!$A:$C,3,FALSE)&AU281)","v":""},{"$f":"IF(AV281=\"\",\"\",VLOOKUP(AV281,[4]ItemConfig!$A:$C,3,FALSE)&AW281)","v":""},{"$f":"IF(AX281=\"\",\"\",VLOOKUP(AX281,[4]ItemConfig!$A:$C,3,FALSE)&AY281)","v":""}]
[278,278,7,19,8,"234;235;245","飞升","前期.","八重",234,235,245,{"$f":"ROUND([1]ResourceLevelConfig!$E282*[1]ResourceLevelConfig!$L282*0.1,0)*10","v":24000},-1,0,-1,-1,-1,-1,0,{"$f":"[3]主表!K280","v":182751.90608604561},{"$f":"[3]主表!L280","v":1685.3598066663776},{"$f":"[3]主表!M280","v":1685.3598066663776},{"$f":"[3]主表!N280","v":12959.57},{"$f":"[3]主表!$G280","v":1234245},{"$f":"[3]升级!$H280","v":1900},{"$f":"MAX(0.1,ROUND(100/(24*3600)*VLOOKUP(B282,[1]ResourceLevelConfig!$A:$E,5,FALSE),2))","v":1.85},-1,4,4,4,15311,null,null,null,1,5,278,null,null,"",null,"",null,{"$f":"IF(AR282=\"\",\"\",1)","v":""},null,{"$f":"IF(AT282=\"\",\"\",1)","v":""},null,{"$f":"IF(AV282=\"\",\"\",1)","v":""},null,{"$f":"IF(AX282=\"\",\"\",1)","v":""},{"$f":"IF(AN282=\"\",\"\",VLOOKUP(AN282,[4]ItemConfig!$A:$C,3,FALSE)&AO282)","v":""},{"$f":"IF(AP282=\"\",\"\",VLOOKUP(AP282,[4]ItemConfig!$A:$C,3,FALSE)&AQ282)","v":""},{"$f":"IF(AR282=\"\",\"\",VLOOKUP(AR282,[4]ItemConfig!$A:$C,3,FALSE)&AS282)","v":""},{"$f":"IF(AT282=\"\",\"\",VLOOKUP(AT282,[4]ItemConfig!$A:$C,3,FALSE)&AU282)","v":""},{"$f":"IF(AV282=\"\",\"\",VLOOKUP(AV282,[4]ItemConfig!$A:$C,3,FALSE)&AW282)","v":""},{"$f":"IF(AX282=\"\",\"\",VLOOKUP(AX282,[4]ItemConfig!$A:$C,3,FALSE)&AY282)","v":""}]
[279,279,7,19,9,"234;235;246","飞升","前期.","九重",234,235,246,{"$f":"ROUND([1]ResourceLevelConfig!$E283*[1]ResourceLevelConfig!$L283*0.1,0)*10","v":24300},-1,0,-1,-1,-1,-1,0,{"$f":"[3]主表!K281","v":185857.22061787153},{"$f":"[3]主表!L281","v":1708.1152455682441},{"$f":"[3]主表!M281","v":1708.1152455682441},{"$f":"[3]主表!N281","v":13119.37},{"$f":"[3]主表!$G281","v":1249464},{"$f":"[3]升级!$H281","v":1900},{"$f":"MAX(0.1,ROUND(100/(24*3600)*VLOOKUP(B283,[1]ResourceLevelConfig!$A:$E,5,FALSE),2))","v":1.88},-1,4,4,4,15668,null,null,null,1,5,279,null,null,"",null,"",null,{"$f":"IF(AR283=\"\",\"\",1)","v":""},null,{"$f":"IF(AT283=\"\",\"\",1)","v":""},null,{"$f":"IF(AV283=\"\",\"\",1)","v":""},null,{"$f":"IF(AX283=\"\",\"\",1)","v":""},{"$f":"IF(AN283=\"\",\"\",VLOOKUP(AN283,[4]ItemConfig!$A:$C,3,FALSE)&AO283)","v":""},{"$f":"IF(AP283=\"\",\"\",VLOOKUP(AP283,[4]ItemConfig!$A:$C,3,FALSE)&AQ283)","v":""},{"$f":"IF(AR283=\"\",\"\",VLOOKUP(AR283,[4]ItemConfig!$A:$C,3,FALSE)&AS283)","v":""},{"$f":"IF(AT283=\"\",\"\",VLOOKUP(AT283,[4]ItemConfig!$A:$C,3,FALSE)&AU283)","v":""},{"$f":"IF(AV283=\"\",\"\",VLOOKUP(AV283,[4]ItemConfig!$A:$C,3,FALSE)&AW283)","v":""},{"$f":"IF(AX283=\"\",\"\",VLOOKUP(AX283,[4]ItemConfig!$A:$C,3,FALSE)&AY283)","v":""}]
[280,280,7,19,10,"234;235;247","飞升","前期.","十重",234,235,247,{"$f":"ROUND([1]ResourceLevelConfig!$E284*[1]ResourceLevelConfig!$L284*0.1,0)*10","v":24600},100004,0,{"$f":"AN284","v":1328},{"$f":"AO284","v":1},{"$f":"_xlfn.TEXTJOIN(\";\",1,AP284,AR284,AT284,AV284)","v":"1222;1223;1224;1225"},{"$f":"_xlfn.TEXTJOIN(\";\",1,AQ284,AS284,AU284,AW284)","v":"1;1;1;1"},0,{"$f":"[3]主表!K282","v":189013.07444019901},{"$f":"[3]主表!L282","v":1731.1779245013304},{"$f":"[3]主表!M282","v":1731.1779245013304},{"$f":"[3]主表!N282","v":13913.89},{"$f":"[3]主表!$G282","v":1264899},{"$f":"[3]升级!$H282","v":1900},{"$f":"MAX(0.1,ROUND(100/(24*3600)*VLOOKUP(B284,[1]ResourceLevelConfig!$A:$E,5,FALSE),2))","v":1.9},20,4,4,4,16032,null,null,null,1,5,280,null,1328,1,1222,1,1223,{"$f":"IF(AR284=\"\",\"\",1)","v":1},1224,{"$f":"IF(AT284=\"\",\"\",1)","v":1},1225,{"$f":"IF(AV284=\"\",\"\",1)","v":1},1226,{"$f":"IF(AX284=\"\",\"\",1)","v":1},{"$f":"IF(AN284=\"\",\"\",VLOOKUP(AN284,[4]ItemConfig!$A:$C,3,FALSE)&AO284)","v":"归墟之泪1"},{"$f":"IF(AP284=\"\",\"\",VLOOKUP(AP284,[4]ItemConfig!$A:$C,3,FALSE)&AQ284)","v":"太玄髓1"},{"$f":"IF(AR284=\"\",\"\",VLOOKUP(AR284,[4]ItemConfig!$A:$C,3,FALSE)&AS284)","v":"离魄花1"},{"$f":"IF(AT284=\"\",\"\",VLOOKUP(AT284,[4]ItemConfig!$A:$C,3,FALSE)&AU284)","v":"裂界藤1"},{"$f":"IF(AV284=\"\",\"\",VLOOKUP(AV284,[4]ItemConfig!$A:$C,3,FALSE)&AW284)","v":"寂灭沙1"},{"$f":"IF(AX284=\"\",\"\",VLOOKUP(AX284,[4]ItemConfig!$A:$C,3,FALSE)&AY284)","v":"天罡心核1"}]
[281,281,7,20,1,"234;236;238","飞升","中期.","一重",234,236,238,{"$f":"ROUND([1]ResourceLevelConfig!$E285*[1]ResourceLevelConfig!$L285*0.1,0)*10","v":24750},-1,0,-1,-1,{"$f":"IF(I285=10,\"1001;1002;1004\",-1)","v":-1},{"$f":"IF(R285=-1,-1,\"100;200;300\")","v":-1},0,{"$f":"[3]主表!K283","v":208625.46755912743},{"$f":"[3]主表!L283","v":1904.2957169514636},{"$f":"[3]主表!M283","v":1904.2957169514636},{"$f":"[3]主表!N283","v":15614.92},{"$f":"[3]主表!$G283","v":1419538},{"$f":"[3]升级!$H283","v":1900},{"$f":"MAX(0.1,ROUND(100/(24*3600)*VLOOKUP(B285,[1]ResourceLevelConfig!$A:$E,5,FALSE),2))","v":1.91},-1,4,4,4,16406,null,null,null,1,5,281,null,null,"",null,"",null,{"$f":"IF(AR285=\"\",\"\",1)","v":""},null,{"$f":"IF(AT285=\"\",\"\",1)","v":""},null,{"$f":"IF(AV285=\"\",\"\",1)","v":""},null,{"$f":"IF(AX285=\"\",\"\",1)","v":""},{"$f":"IF(AN285=\"\",\"\",VLOOKUP(AN285,[4]ItemConfig!$A:$C,3,FALSE)&AO285)","v":""},{"$f":"IF(AP285=\"\",\"\",VLOOKUP(AP285,[4]ItemConfig!$A:$C,3,FALSE)&AQ285)","v":""},{"$f":"IF(AR285=\"\",\"\",VLOOKUP(AR285,[4]ItemConfig!$A:$C,3,FALSE)&AS285)","v":""},{"$f":"IF(AT285=\"\",\"\",VLOOKUP(AT285,[4]ItemConfig!$A:$C,3,FALSE)&AU285)","v":""},{"$f":"IF(AV285=\"\",\"\",VLOOKUP(AV285,[4]ItemConfig!$A:$C,3,FALSE)&AW285)","v":""},{"$f":"IF(AX285=\"\",\"\",VLOOKUP(AX285,[4]ItemConfig!$A:$C,3,FALSE)&AY285)","v":""}]
[282,282,7,20,2,"234;236;239","飞升","中期.","二重",234,236,239,{"$f":"ROUND([1]ResourceLevelConfig!$E286*[1]ResourceLevelConfig!$L286*0.1,0)*10","v":25050},-1,0,-1,-1,-1,-1,0,{"$f":"[3]主表!K284","v":212162.97945364926},{"$f":"[3]主表!L284","v":1930.0071909445969},{"$f":"[3]主表!M284","v":1930.0071909445969},{"$f":"[3]主表!N284","v":15804.77},{"$f":"[3]主表!$G284","v":1436797},{"$f":"[3]升级!$H284","v":1900},{"$f":"MAX(0.1,ROUND(100/(24*3600)*VLOOKUP(B286,[1]ResourceLevelConfig!$A:$E,5,FALSE),2))","v":1.93},-1,4,4,4,16788,null,null,null,1,5,282,null,null,"",null,"",null,{"$f":"IF(AR286=\"\",\"\",1)","v":""},null,{"$f":"IF(AT286=\"\",\"\",1)","v":""},null,{"$f":"IF(AV286=\"\",\"\",1)","v":""},null,{"$f":"IF(AX286=\"\",\"\",1)","v":""},{"$f":"IF(AN286=\"\",\"\",VLOOKUP(AN286,[4]ItemConfig!$A:$C,3,FALSE)&AO286)","v":""},{"$f":"IF(AP286=\"\",\"\",VLOOKUP(AP286,[4]ItemConfig!$A:$C,3,FALSE)&AQ286)","v":""},{"$f":"IF(AR286=\"\",\"\",VLOOKUP(AR286,[4]ItemConfig!$A:$C,3,FALSE)&AS286)","v":""},{"$f":"IF(AT286=\"\",\"\",VLOOKUP(AT286,[4]ItemConfig!$A:$C,3,FALSE)&AU286)","v":""},{"$f":"IF(AV286=\"\",\"\",VLOOKUP(AV286,[4]ItemConfig!$A:$C,3,FALSE)&AW286)","v":""},{"$f":"IF(AX286=\"\",\"\",VLOOKUP(AX286,[4]ItemConfig!$A:$C,3,FALSE)&AY286)","v":""}]
[283,283,7,20,3,"234;236;240","飞升","中期.","三重",234,236,240,{"$f":"ROUND([1]ResourceLevelConfig!$E287*[1]ResourceLevelConfig!$L287*0.1,0)*10","v":25350},-1,0,-1,-1,-1,-1,0,{"$f":"[3]主表!K285","v":215757.9848139649},{"$f":"[3]主表!L285","v":1956.065816847497},{"$f":"[3]主表!M285","v":1956.065816847497},{"$f":"[3]主表!N285","v":15997.3},{"$f":"[3]主表!$G285","v":1454300},{"$f":"[3]升级!$H285","v":1900},{"$f":"MAX(0.1,ROUND(100/(24*3600)*VLOOKUP(B287,[1]ResourceLevelConfig!$A:$E,5,FALSE),2))","v":1.96},-1,4,4,4,17179,null,null,null,1,5,283,null,null,"",null,"",null,{"$f":"IF(AR287=\"\",\"\",1)","v":""},null,{"$f":"IF(AT287=\"\",\"\",1)","v":""},null,{"$f":"IF(AV287=\"\",\"\",1)","v":""},null,{"$f":"IF(AX287=\"\",\"\",1)","v":""},{"$f":"IF(AN287=\"\",\"\",VLOOKUP(AN287,[4]ItemConfig!$A:$C,3,FALSE)&AO287)","v":""},{"$f":"IF(AP287=\"\",\"\",VLOOKUP(AP287,[4]ItemConfig!$A:$C,3,FALSE)&AQ287)","v":""},{"$f":"IF(AR287=\"\",\"\",VLOOKUP(AR287,[4]ItemConfig!$A:$C,3,FALSE)&AS287)","v":""},{"$f":"IF(AT287=\"\",\"\",VLOOKUP(AT287,[4]ItemConfig!$A:$C,3,FALSE)&AU287)","v":""},{"$f":"IF(AV287=\"\",\"\",VLOOKUP(AV287,[4]ItemConfig!$A:$C,3,FALSE)&AW287)","v":""},{"$f":"IF(AX287=\"\",\"\",VLOOKUP(AX287,[4]ItemConfig!$A:$C,3,FALSE)&AY287)","v":""}]
[284,284,7,20,4,"234;236;241","飞升","中期.","四重",234,236,241,{"$f":"ROUND([1]ResourceLevelConfig!$E288*[1]ResourceLevelConfig!$L288*0.1,0)*10","v":25500},-1,0,-1,-1,-1,-1,0,{"$f":"[3]主表!K286","v":219411.39128770257},{"$f":"[3]主表!L286","v":1982.4762818456775},{"$f":"[3]主表!M286","v":1982.4762818456775},{"$f":"[3]主表!N286","v":16192.56},{"$f":"[3]主表!$G286","v":1472051},{"$f":"[3]升级!$H286","v":1900},{"$f":"MAX(0.1,ROUND(100/(24*3600)*VLOOKUP(B288,[1]ResourceLevelConfig!$A:$E,5,FALSE),2))","v":1.97},-1,4,4,4,17579,null,null,null,1,5,284,null,null,"",null,"",null,{"$f":"IF(AR288=\"\",\"\",1)","v":""},null,{"$f":"IF(AT288=\"\",\"\",1)","v":""},null,{"$f":"IF(AV288=\"\",\"\",1)","v":""},null,{"$f":"IF(AX288=\"\",\"\",1)","v":""},{"$f":"IF(AN288=\"\",\"\",VLOOKUP(AN288,[4]ItemConfig!$A:$C,3,FALSE)&AO288)","v":""},{"$f":"IF(AP288=\"\",\"\",VLOOKUP(AP288,[4]ItemConfig!$A:$C,3,FALSE)&AQ288)","v":""},{"$f":"IF(AR288=\"\",\"\",VLOOKUP(AR288,[4]ItemConfig!$A:$C,3,FALSE)&AS288)","v":""},{"$f":"IF(AT288=\"\",\"\",VLOOKUP(AT288,[4]ItemConfig!$A:$C,3,FALSE)&AU288)","v":""},{"$f":"IF(AV288=\"\",\"\",VLOOKUP(AV288,[4]ItemConfig!$A:$C,3,FALSE)&AW288)","v":""},{"$f":"IF(AX288=\"\",\"\",VLOOKUP(AX288,[4]ItemConfig!$A:$C,3,FALSE)&AY288)","v":""}]
[285,285,7,20,5,"234;236;242","飞升","中期.","五重",234,236,242,{"$f":"ROUND([1]ResourceLevelConfig!$E289*[1]ResourceLevelConfig!$L289*0.1,0)*10","v":25800},-1,0,-1,-1,-1,-1,0,{"$f":"[3]主表!K287","v":223124.12055127308},{"$f":"[3]主表!L287","v":2009.243336410228},{"$f":"[3]主表!M287","v":2009.243336410228},{"$f":"[3]主表!N287","v":16390.59},{"$f":"[3]主表!$G287","v":1490054},{"$f":"[3]升级!$H287","v":1900},{"$f":"MAX(0.1,ROUND(100/(24*3600)*VLOOKUP(B289,[1]ResourceLevelConfig!$A:$E,5,FALSE),2))","v":1.99},-1,4,4,4,17989,null,null,null,1,5,285,null,null,"",null,"",null,{"$f":"IF(AR289=\"\",\"\",1)","v":""},null,{"$f":"IF(AT289=\"\",\"\",1)","v":""},null,{"$f":"IF(AV289=\"\",\"\",1)","v":""},null,{"$f":"IF(AX289=\"\",\"\",1)","v":""},{"$f":"IF(AN289=\"\",\"\",VLOOKUP(AN289,[4]ItemConfig!$A:$C,3,FALSE)&AO289)","v":""},{"$f":"IF(AP289=\"\",\"\",VLOOKUP(AP289,[4]ItemConfig!$A:$C,3,FALSE)&AQ289)","v":""},{"$f":"IF(AR289=\"\",\"\",VLOOKUP(AR289,[4]ItemConfig!$A:$C,3,FALSE)&AS289)","v":""},{"$f":"IF(AT289=\"\",\"\",VLOOKUP(AT289,[4]ItemConfig!$A:$C,3,FALSE)&AU289)","v":""},{"$f":"IF(AV289=\"\",\"\",VLOOKUP(AV289,[4]ItemConfig!$A:$C,3,FALSE)&AW289)","v":""},{"$f":"IF(AX289=\"\",\"\",VLOOKUP(AX289,[4]ItemConfig!$A:$C,3,FALSE)&AY289)","v":""}]
[286,286,7,20,6,"234;236;243","飞升","中期.","六重",234,236,243,{"$f":"ROUND([1]ResourceLevelConfig!$E290*[1]ResourceLevelConfig!$L290*0.1,0)*10","v":26100},-1,0,-1,-1,-1,-1,0,{"$f":"[3]主表!K288","v":226897.10852323432},{"$f":"[3]主表!L288","v":2036.3717951522819},{"$f":"[3]主表!M288","v":2036.3717951522819},{"$f":"[3]主表!N288","v":16591.43},{"$f":"[3]主表!$G288","v":1508312},{"$f":"[3]升级!$H288","v":1900},{"$f":"MAX(0.1,ROUND(100/(24*3600)*VLOOKUP(B290,[1]ResourceLevelConfig!$A:$E,5,FALSE),2))","v":2.0099999999999998},-1,4,4,4,18408,null,null,null,1,5,286,null,null,"",null,"",null,{"$f":"IF(AR290=\"\",\"\",1)","v":""},null,{"$f":"IF(AT290=\"\",\"\",1)","v":""},null,{"$f":"IF(AV290=\"\",\"\",1)","v":""},null,{"$f":"IF(AX290=\"\",\"\",1)","v":""},{"$f":"IF(AN290=\"\",\"\",VLOOKUP(AN290,[4]ItemConfig!$A:$C,3,FALSE)&AO290)","v":""},{"$f":"IF(AP290=\"\",\"\",VLOOKUP(AP290,[4]ItemConfig!$A:$C,3,FALSE)&AQ290)","v":""},{"$f":"IF(AR290=\"\",\"\",VLOOKUP(AR290,[4]ItemConfig!$A:$C,3,FALSE)&AS290)","v":""},{"$f":"IF(AT290=\"\",\"\",VLOOKUP(AT290,[4]ItemConfig!$A:$C,3,FALSE)&AU290)","v":""},{"$f":"IF(AV290=\"\",\"\",VLOOKUP(AV290,[4]ItemConfig!$A:$C,3,FALSE)&AW290)","v":""},{"$f":"IF(AX290=\"\",\"\",VLOOKUP(AX290,[4]ItemConfig!$A:$C,3,FALSE)&AY290)","v":""}]
[287,287,7,20,7,"234;236;244","飞升","中期.","七重",234,236,244,{"$f":"ROUND([1]ResourceLevelConfig!$E291*[1]ResourceLevelConfig!$L291*0.1,0)*10","v":26400},-1,0,-1,-1,-1,-1,{"$f":"IF(G291=G292,0,CONCATENATE(\"1;1\"))","v":0},{"$f":"[3]主表!K289","v":230731.30558086079},{"$f":"[3]主表!L289","v":2063.8665376890281},{"$f":"[3]主表!M289","v":2063.8665376890281},{"$f":"[3]主表!N289","v":16795.12},{"$f":"[3]主表!$G289","v":1526829},{"$f":"[3]升级!$H289","v":1900},{"$f":"MAX(0.1,ROUND(100/(24*3600)*VLOOKUP(B291,[1]ResourceLevelConfig!$A:$E,5,FALSE),2))","v":2.04},-1,4,4,4,18836,null,null,null,1,5,287,null,null,"",null,"",null,{"$f":"IF(AR291=\"\",\"\",1)","v":""},null,{"$f":"IF(AT291=\"\",\"\",1)","v":""},null,{"$f":"IF(AV291=\"\",\"\",1)","v":""},null,{"$f":"IF(AX291=\"\",\"\",1)","v":""},{"$f":"IF(AN291=\"\",\"\",VLOOKUP(AN291,[4]ItemConfig!$A:$C,3,FALSE)&AO291)","v":""},{"$f":"IF(AP291=\"\",\"\",VLOOKUP(AP291,[4]ItemConfig!$A:$C,3,FALSE)&AQ291)","v":""},{"$f":"IF(AR291=\"\",\"\",VLOOKUP(AR291,[4]ItemConfig!$A:$C,3,FALSE)&AS291)","v":""},{"$f":"IF(AT291=\"\",\"\",VLOOKUP(AT291,[4]ItemConfig!$A:$C,3,FALSE)&AU291)","v":""},{"$f":"IF(AV291=\"\",\"\",VLOOKUP(AV291,[4]ItemConfig!$A:$C,3,FALSE)&AW291)","v":""},{"$f":"IF(AX291=\"\",\"\",VLOOKUP(AX291,[4]ItemConfig!$A:$C,3,FALSE)&AY291)","v":""}]
[288,288,7,20,8,"234;236;245","飞升","中期.","八重",234,236,245,{"$f":"ROUND([1]ResourceLevelConfig!$E292*[1]ResourceLevelConfig!$L292*0.1,0)*10","v":26550},-1,0,-1,-1,-1,-1,0,{"$f":"[3]主表!K290","v":234627.67677996392},{"$f":"[3]主表!L290","v":2091.7325095214073},{"$f":"[3]主表!M290","v":2091.7325095214073},{"$f":"[3]主表!N290","v":17001.7},{"$f":"[3]主表!$G290","v":1545609},{"$f":"[3]升级!$H290","v":1900},{"$f":"MAX(0.1,ROUND(100/(24*3600)*VLOOKUP(B292,[1]ResourceLevelConfig!$A:$E,5,FALSE),2))","v":2.0499999999999998},-1,4,4,4,19275,null,null,null,1,5,288,null,null,"",null,"",null,{"$f":"IF(AR292=\"\",\"\",1)","v":""},null,{"$f":"IF(AT292=\"\",\"\",1)","v":""},null,{"$f":"IF(AV292=\"\",\"\",1)","v":""},null,{"$f":"IF(AX292=\"\",\"\",1)","v":""},{"$f":"IF(AN292=\"\",\"\",VLOOKUP(AN292,[4]ItemConfig!$A:$C,3,FALSE)&AO292)","v":""},{"$f":"IF(AP292=\"\",\"\",VLOOKUP(AP292,[4]ItemConfig!$A:$C,3,FALSE)&AQ292)","v":""},{"$f":"IF(AR292=\"\",\"\",VLOOKUP(AR292,[4]ItemConfig!$A:$C,3,FALSE)&AS292)","v":""},{"$f":"IF(AT292=\"\",\"\",VLOOKUP(AT292,[4]ItemConfig!$A:$C,3,FALSE)&AU292)","v":""},{"$f":"IF(AV292=\"\",\"\",VLOOKUP(AV292,[4]ItemConfig!$A:$C,3,FALSE)&AW292)","v":""},{"$f":"IF(AX292=\"\",\"\",VLOOKUP(AX292,[4]ItemConfig!$A:$C,3,FALSE)&AY292)","v":""}]
[289,289,7,20,9,"234;236;246","飞升","中期.","九重",234,236,246,{"$f":"ROUND([1]ResourceLevelConfig!$E293*[1]ResourceLevelConfig!$L293*0.1,0)*10","v":26850},-1,0,-1,-1,-1,-1,0,{"$f":"[3]主表!K291","v":238587.20207801324},{"$f":"[3]主表!L291","v":2119.9747229236664},{"$f":"[3]主表!M291","v":2119.9747229236664},{"$f":"[3]主表!N291","v":17211.21},{"$f":"[3]主表!$G291","v":1564655},{"$f":"[3]升级!$H291","v":1900},{"$f":"MAX(0.1,ROUND(100/(24*3600)*VLOOKUP(B293,[1]ResourceLevelConfig!$A:$E,5,FALSE),2))","v":2.0699999999999998},-1,4,4,4,19724,null,null,null,1,5,289,null,null,"",null,"",null,{"$f":"IF(AR293=\"\",\"\",1)","v":""},null,{"$f":"IF(AT293=\"\",\"\",1)","v":""},null,{"$f":"IF(AV293=\"\",\"\",1)","v":""},null,{"$f":"IF(AX293=\"\",\"\",1)","v":""},{"$f":"IF(AN293=\"\",\"\",VLOOKUP(AN293,[4]ItemConfig!$A:$C,3,FALSE)&AO293)","v":""},{"$f":"IF(AP293=\"\",\"\",VLOOKUP(AP293,[4]ItemConfig!$A:$C,3,FALSE)&AQ293)","v":""},{"$f":"IF(AR293=\"\",\"\",VLOOKUP(AR293,[4]ItemConfig!$A:$C,3,FALSE)&AS293)","v":""},{"$f":"IF(AT293=\"\",\"\",VLOOKUP(AT293,[4]ItemConfig!$A:$C,3,FALSE)&AU293)","v":""},{"$f":"IF(AV293=\"\",\"\",VLOOKUP(AV293,[4]ItemConfig!$A:$C,3,FALSE)&AW293)","v":""},{"$f":"IF(AX293=\"\",\"\",VLOOKUP(AX293,[4]ItemConfig!$A:$C,3,FALSE)&AY293)","v":""}]
[290,290,7,20,10,"234;236;247","飞升","中期.","十重",234,236,247,{"$f":"ROUND([1]ResourceLevelConfig!$E294*[1]ResourceLevelConfig!$L294*0.1,0)*10","v":27150},100004,0,{"$f":"AN294","v":1329},{"$f":"AO294","v":1},{"$f":"_xlfn.TEXTJOIN(\";\",1,AP294,AR294,AT294,AV294)","v":"1222;1223;1224;1225"},{"$f":"_xlfn.TEXTJOIN(\";\",1,AQ294,AS294,AU294,AW294)","v":"1;1;1;1"},0,{"$f":"[3]主表!K292","v":242610.87656060696},{"$f":"[3]主表!L292","v":2148.5982578449189},{"$f":"[3]主表!M292","v":2148.5982578449189},{"$f":"[3]主表!N292","v":18215.68},{"$f":"[3]主表!$G292","v":1583972},{"$f":"[3]升级!$H292","v":1900},{"$f":"MAX(0.1,ROUND(100/(24*3600)*VLOOKUP(B294,[1]ResourceLevelConfig!$A:$E,5,FALSE),2))","v":2.09},20,4,4,4,20184,null,null,null,1,5,290,null,1329,1,1222,1,1223,1,1224,1,1225,1,1226,1,{"$f":"IF(AN294=\"\",\"\",VLOOKUP(AN294,[4]ItemConfig!$A:$C,3,FALSE)&AO294)","v":"寂灭之心1"},{"$f":"IF(AP294=\"\",\"\",VLOOKUP(AP294,[4]ItemConfig!$A:$C,3,FALSE)&AQ294)","v":"太玄髓1"},{"$f":"IF(AR294=\"\",\"\",VLOOKUP(AR294,[4]ItemConfig!$A:$C,3,FALSE)&AS294)","v":"离魄花1"},{"$f":"IF(AT294=\"\",\"\",VLOOKUP(AT294,[4]ItemConfig!$A:$C,3,FALSE)&AU294)","v":"裂界藤1"},{"$f":"IF(AV294=\"\",\"\",VLOOKUP(AV294,[4]ItemConfig!$A:$C,3,FALSE)&AW294)","v":"寂灭沙1"},{"$f":"IF(AX294=\"\",\"\",VLOOKUP(AX294,[4]ItemConfig!$A:$C,3,FALSE)&AY294)","v":"天罡心核1"}]
[291,291,7,21,1,"234;237;238","飞升","后期.","一重",234,237,238,{"$f":"ROUND([1]ResourceLevelConfig!$E295*[1]ResourceLevelConfig!$L295*0.1,0)*10","v":27450},-1,0,-1,-1,{"$f":"IF(I295=10,\"1001;1002;1004\",-1)","v":-1},{"$f":"IF(R295=-1,-1,\"100;200;300\")","v":-1},0,{"$f":"[3]主表!K293","v":267754.50634053804},{"$f":"[3]主表!L293","v":2363.4580836294112},{"$f":"[3]主表!M293","v":2363.4580836294112},{"$f":"[3]主表!N293","v":20442.45},{"$f":"[3]主表!$G293","v":1777604},{"$f":"[3]升级!$H293","v":1900},{"$f":"MAX(0.1,ROUND(100/(24*3600)*VLOOKUP(B295,[1]ResourceLevelConfig!$A:$E,5,FALSE),2))","v":2.12},-1,4,4,4,20654,null,null,null,1,5,291,null,null,"",null,"",null,{"$f":"IF(AR295=\"\",\"\",1)","v":""},null,{"$f":"IF(AT295=\"\",\"\",1)","v":""},null,{"$f":"IF(AV295=\"\",\"\",1)","v":""},null,{"$f":"IF(AX295=\"\",\"\",1)","v":""},{"$f":"IF(AN295=\"\",\"\",VLOOKUP(AN295,[4]ItemConfig!$A:$C,3,FALSE)&AO295)","v":""},{"$f":"IF(AP295=\"\",\"\",VLOOKUP(AP295,[4]ItemConfig!$A:$C,3,FALSE)&AQ295)","v":""},{"$f":"IF(AR295=\"\",\"\",VLOOKUP(AR295,[4]ItemConfig!$A:$C,3,FALSE)&AS295)","v":""},{"$f":"IF(AT295=\"\",\"\",VLOOKUP(AT295,[4]ItemConfig!$A:$C,3,FALSE)&AU295)","v":""},{"$f":"IF(AV295=\"\",\"\",VLOOKUP(AV295,[4]ItemConfig!$A:$C,3,FALSE)&AW295)","v":""},{"$f":"IF(AX295=\"\",\"\",VLOOKUP(AX295,[4]ItemConfig!$A:$C,3,FALSE)&AY295)","v":""}]
[292,292,7,21,2,"234;237;239","飞升","后期.","二重",234,237,239,{"$f":"ROUND([1]ResourceLevelConfig!$E296*[1]ResourceLevelConfig!$L296*0.1,0)*10","v":27750},-1,0,-1,-1,-1,-1,0,{"$f":"[3]主表!K294","v":272264.13979465718},{"$f":"[3]主表!L294","v":2395.3690891051679},{"$f":"[3]主表!M294","v":2395.3690891051679},{"$f":"[3]主表!N294","v":20690.810000000001},{"$f":"[3]主表!$G294","v":1799201},{"$f":"[3]升级!$H294","v":1900},{"$f":"MAX(0.1,ROUND(100/(24*3600)*VLOOKUP(B296,[1]ResourceLevelConfig!$A:$E,5,FALSE),2))","v":2.14},-1,4,4,4,21135,null,null,null,1,5,292,null,null,"",null,"",null,{"$f":"IF(AR296=\"\",\"\",1)","v":""},null,{"$f":"IF(AT296=\"\",\"\",1)","v":""},null,{"$f":"IF(AV296=\"\",\"\",1)","v":""},null,{"$f":"IF(AX296=\"\",\"\",1)","v":""},{"$f":"IF(AN296=\"\",\"\",VLOOKUP(AN296,[4]ItemConfig!$A:$C,3,FALSE)&AO296)","v":""},{"$f":"IF(AP296=\"\",\"\",VLOOKUP(AP296,[4]ItemConfig!$A:$C,3,FALSE)&AQ296)","v":""},{"$f":"IF(AR296=\"\",\"\",VLOOKUP(AR296,[4]ItemConfig!$A:$C,3,FALSE)&AS296)","v":""},{"$f":"IF(AT296=\"\",\"\",VLOOKUP(AT296,[4]ItemConfig!$A:$C,3,FALSE)&AU296)","v":""},{"$f":"IF(AV296=\"\",\"\",VLOOKUP(AV296,[4]ItemConfig!$A:$C,3,FALSE)&AW296)","v":""},{"$f":"IF(AX296=\"\",\"\",VLOOKUP(AX296,[4]ItemConfig!$A:$C,3,FALSE)&AY296)","v":""}]
[293,293,7,21,3,"234;237;240","飞升","后期.","三重",234,237,240,{"$f":"ROUND([1]ResourceLevelConfig!$E297*[1]ResourceLevelConfig!$L297*0.1,0)*10","v":27900},-1,0,-1,-1,-1,-1,0,{"$f":"[3]主表!K295","v":276846.7383650064},{"$f":"[3]主表!L295","v":2427.7109515009302},{"$f":"[3]主表!M295","v":2427.7109515009302},{"$f":"[3]主表!N295","v":20942.71},{"$f":"[3]主表!$G295","v":1821105},{"$f":"[3]升级!$H295","v":1900},{"$f":"MAX(0.1,ROUND(100/(24*3600)*VLOOKUP(B297,[1]ResourceLevelConfig!$A:$E,5,FALSE),2))","v":2.15},-1,4,4,4,21627,null,null,null,1,5,293,null,null,"",null,"",null,{"$f":"IF(AR297=\"\",\"\",1)","v":""},null,{"$f":"IF(AT297=\"\",\"\",1)","v":""},null,{"$f":"IF(AV297=\"\",\"\",1)","v":""},null,{"$f":"IF(AX297=\"\",\"\",1)","v":""},{"$f":"IF(AN297=\"\",\"\",VLOOKUP(AN297,[4]ItemConfig!$A:$C,3,FALSE)&AO297)","v":""},{"$f":"IF(AP297=\"\",\"\",VLOOKUP(AP297,[4]ItemConfig!$A:$C,3,FALSE)&AQ297)","v":""},{"$f":"IF(AR297=\"\",\"\",VLOOKUP(AR297,[4]ItemConfig!$A:$C,3,FALSE)&AS297)","v":""},{"$f":"IF(AT297=\"\",\"\",VLOOKUP(AT297,[4]ItemConfig!$A:$C,3,FALSE)&AU297)","v":""},{"$f":"IF(AV297=\"\",\"\",VLOOKUP(AV297,[4]ItemConfig!$A:$C,3,FALSE)&AW297)","v":""},{"$f":"IF(AX297=\"\",\"\",VLOOKUP(AX297,[4]ItemConfig!$A:$C,3,FALSE)&AY297)","v":""}]
[294,294,7,21,4,"234;237;241","飞升","后期.","四重",234,237,241,{"$f":"ROUND([1]ResourceLevelConfig!$E298*[1]ResourceLevelConfig!$L298*0.1,0)*10","v":28200},-1,0,-1,-1,-1,-1,0,{"$f":"[3]主表!K296","v":281503.45027320442},{"$f":"[3]主表!L296","v":2460.489488172896},{"$f":"[3]主表!M296","v":2460.489488172896},{"$f":"[3]主表!N296","v":21198.17},{"$f":"[3]主表!$G296","v":1843319},{"$f":"[3]升级!$H296","v":1900},{"$f":"MAX(0.1,ROUND(100/(24*3600)*VLOOKUP(B298,[1]ResourceLevelConfig!$A:$E,5,FALSE),2))","v":2.1800000000000002},-1,4,4,4,22131,null,null,null,1,5,294,null,null,"",null,"",null,{"$f":"IF(AR298=\"\",\"\",1)","v":""},null,{"$f":"IF(AT298=\"\",\"\",1)","v":""},null,{"$f":"IF(AV298=\"\",\"\",1)","v":""},null,{"$f":"IF(AX298=\"\",\"\",1)","v":""},{"$f":"IF(AN298=\"\",\"\",VLOOKUP(AN298,[4]ItemConfig!$A:$C,3,FALSE)&AO298)","v":""},{"$f":"IF(AP298=\"\",\"\",VLOOKUP(AP298,[4]ItemConfig!$A:$C,3,FALSE)&AQ298)","v":""},{"$f":"IF(AR298=\"\",\"\",VLOOKUP(AR298,[4]ItemConfig!$A:$C,3,FALSE)&AS298)","v":""},{"$f":"IF(AT298=\"\",\"\",VLOOKUP(AT298,[4]ItemConfig!$A:$C,3,FALSE)&AU298)","v":""},{"$f":"IF(AV298=\"\",\"\",VLOOKUP(AV298,[4]ItemConfig!$A:$C,3,FALSE)&AW298)","v":""},{"$f":"IF(AX298=\"\",\"\",VLOOKUP(AX298,[4]ItemConfig!$A:$C,3,FALSE)&AY298)","v":""}]
[295,295,7,21,5,"234;237;242","飞升","后期.","五重",234,237,242,{"$f":"ROUND([1]ResourceLevelConfig!$E299*[1]ResourceLevelConfig!$L299*0.1,0)*10","v":28500},-1,0,-1,-1,-1,-1,0,{"$f":"[3]主表!K297","v":286235.44144555769},{"$f":"[3]主表!L297","v":2493.7105950222099},{"$f":"[3]主表!M297","v":2493.7105950222099},{"$f":"[3]主表!N297","v":21457.24},{"$f":"[3]主表!$G297","v":1865847},{"$f":"[3]升级!$H297","v":1900},{"$f":"MAX(0.1,ROUND(100/(24*3600)*VLOOKUP(B299,[1]ResourceLevelConfig!$A:$E,5,FALSE),2))","v":2.2000000000000002},-1,4,4,4,22646,null,null,null,1,5,295,null,null,"",null,"",null,{"$f":"IF(AR299=\"\",\"\",1)","v":""},null,{"$f":"IF(AT299=\"\",\"\",1)","v":""},null,{"$f":"IF(AV299=\"\",\"\",1)","v":""},null,{"$f":"IF(AX299=\"\",\"\",1)","v":""},{"$f":"IF(AN299=\"\",\"\",VLOOKUP(AN299,[4]ItemConfig!$A:$C,3,FALSE)&AO299)","v":""},{"$f":"IF(AP299=\"\",\"\",VLOOKUP(AP299,[4]ItemConfig!$A:$C,3,FALSE)&AQ299)","v":""},{"$f":"IF(AR299=\"\",\"\",VLOOKUP(AR299,[4]ItemConfig!$A:$C,3,FALSE)&AS299)","v":""},{"$f":"IF(AT299=\"\",\"\",VLOOKUP(AT299,[4]ItemConfig!$A:$C,3,FALSE)&AU299)","v":""},{"$f":"IF(AV299=\"\",\"\",VLOOKUP(AV299,[4]ItemConfig!$A:$C,3,FALSE)&AW299)","v":""},{"$f":"IF(AX299=\"\",\"\",VLOOKUP(AX299,[4]ItemConfig!$A:$C,3,FALSE)&AY299)","v":""}]
[296,296,7,21,6,"234;237;243","飞升","后期.","六重",234,237,243,{"$f":"ROUND([1]ResourceLevelConfig!$E300*[1]ResourceLevelConfig!$L300*0.1,0)*10","v":28800},-1,0,-1,-1,-1,-1,0,{"$f":"[3]主表!K298","v":291043.89578183205},{"$f":"[3]主表!L298","v":2527.3802475554617},{"$f":"[3]主表!M298","v":2527.3802475554617},{"$f":"[3]主表!N298","v":21719.99},{"$f":"[3]主表!$G298","v":1888695},{"$f":"[3]升级!$H298","v":1900},{"$f":"MAX(0.1,ROUND(100/(24*3600)*VLOOKUP(B300,[1]ResourceLevelConfig!$A:$E,5,FALSE),2))","v":2.2200000000000002},-1,4,4,4,23174,null,null,null,1,5,296,null,null,"",null,"",null,{"$f":"IF(AR300=\"\",\"\",1)","v":""},null,{"$f":"IF(AT300=\"\",\"\",1)","v":""},null,{"$f":"IF(AV300=\"\",\"\",1)","v":""},null,{"$f":"IF(AX300=\"\",\"\",1)","v":""},{"$f":"IF(AN300=\"\",\"\",VLOOKUP(AN300,[4]ItemConfig!$A:$C,3,FALSE)&AO300)","v":""},{"$f":"IF(AP300=\"\",\"\",VLOOKUP(AP300,[4]ItemConfig!$A:$C,3,FALSE)&AQ300)","v":""},{"$f":"IF(AR300=\"\",\"\",VLOOKUP(AR300,[4]ItemConfig!$A:$C,3,FALSE)&AS300)","v":""},{"$f":"IF(AT300=\"\",\"\",VLOOKUP(AT300,[4]ItemConfig!$A:$C,3,FALSE)&AU300)","v":""},{"$f":"IF(AV300=\"\",\"\",VLOOKUP(AV300,[4]ItemConfig!$A:$C,3,FALSE)&AW300)","v":""},{"$f":"IF(AX300=\"\",\"\",VLOOKUP(AX300,[4]ItemConfig!$A:$C,3,FALSE)&AY300)","v":""}]
[297,297,7,21,7,"234;237;244","飞升","后期.","七重",234,237,244,{"$f":"ROUND([1]ResourceLevelConfig!$E301*[1]ResourceLevelConfig!$L301*0.1,0)*10","v":29100},-1,0,-1,-1,-1,-1,0,{"$f":"[3]主表!K299","v":295930.01542805333},{"$f":"[3]主表!L299","v":2561.5045019595045},{"$f":"[3]主表!M299","v":2561.5045019595045},{"$f":"[3]主表!N299","v":21986.47},{"$f":"[3]主表!$G299","v":1911867},{"$f":"[3]升级!$H299","v":1900},{"$f":"MAX(0.1,ROUND(100/(24*3600)*VLOOKUP(B301,[1]ResourceLevelConfig!$A:$E,5,FALSE),2))","v":2.25},-1,4,4,4,23714,null,null,null,1,5,297,null,null,"",null,"",null,{"$f":"IF(AR301=\"\",\"\",1)","v":""},null,{"$f":"IF(AT301=\"\",\"\",1)","v":""},null,{"$f":"IF(AV301=\"\",\"\",1)","v":""},null,{"$f":"IF(AX301=\"\",\"\",1)","v":""},{"$f":"IF(AN301=\"\",\"\",VLOOKUP(AN301,[4]ItemConfig!$A:$C,3,FALSE)&AO301)","v":""},{"$f":"IF(AP301=\"\",\"\",VLOOKUP(AP301,[4]ItemConfig!$A:$C,3,FALSE)&AQ301)","v":""},{"$f":"IF(AR301=\"\",\"\",VLOOKUP(AR301,[4]ItemConfig!$A:$C,3,FALSE)&AS301)","v":""},{"$f":"IF(AT301=\"\",\"\",VLOOKUP(AT301,[4]ItemConfig!$A:$C,3,FALSE)&AU301)","v":""},{"$f":"IF(AV301=\"\",\"\",VLOOKUP(AV301,[4]ItemConfig!$A:$C,3,FALSE)&AW301)","v":""},{"$f":"IF(AX301=\"\",\"\",VLOOKUP(AX301,[4]ItemConfig!$A:$C,3,FALSE)&AY301)","v":""}]
[298,298,7,21,8,"234;237;245","飞升","后期.","八重",234,237,245,{"$f":"ROUND([1]ResourceLevelConfig!$E302*[1]ResourceLevelConfig!$L302*0.1,0)*10","v":29400},-1,0,-1,-1,-1,-1,0,{"$f":"[3]主表!K300","v":300895.02105340001},{"$f":"[3]主表!L300","v":2596.0894961907889},{"$f":"[3]主表!M300","v":2596.0894961907889},{"$f":"[3]主表!N300","v":22256.73},{"$f":"[3]主表!$G300","v":1935368},{"$f":"[3]升级!$H300","v":1900},{"$f":"MAX(0.1,ROUND(100/(24*3600)*VLOOKUP(B302,[1]ResourceLevelConfig!$A:$E,5,FALSE),2))","v":2.27},-1,4,4,4,24266,null,null,null,1,5,298,null,null,"",null,"",null,{"$f":"IF(AR302=\"\",\"\",1)","v":""},null,{"$f":"IF(AT302=\"\",\"\",1)","v":""},null,{"$f":"IF(AV302=\"\",\"\",1)","v":""},null,{"$f":"IF(AX302=\"\",\"\",1)","v":""},{"$f":"IF(AN302=\"\",\"\",VLOOKUP(AN302,[4]ItemConfig!$A:$C,3,FALSE)&AO302)","v":""},{"$f":"IF(AP302=\"\",\"\",VLOOKUP(AP302,[4]ItemConfig!$A:$C,3,FALSE)&AQ302)","v":""},{"$f":"IF(AR302=\"\",\"\",VLOOKUP(AR302,[4]ItemConfig!$A:$C,3,FALSE)&AS302)","v":""},{"$f":"IF(AT302=\"\",\"\",VLOOKUP(AT302,[4]ItemConfig!$A:$C,3,FALSE)&AU302)","v":""},{"$f":"IF(AV302=\"\",\"\",VLOOKUP(AV302,[4]ItemConfig!$A:$C,3,FALSE)&AW302)","v":""},{"$f":"IF(AX302=\"\",\"\",VLOOKUP(AX302,[4]ItemConfig!$A:$C,3,FALSE)&AY302)","v":""}]
[299,299,7,21,9,"234;237;246","飞升","后期.","九重",234,237,246,{"$f":"ROUND([1]ResourceLevelConfig!$E303*[1]ResourceLevelConfig!$L303*0.1,0)*10","v":29700},-1,0,-1,-1,-1,-1,"1;1",{"$f":"[3]主表!K301","v":305940.1521312446},{"$f":"[3]主表!L301","v":2631.1414510793988},{"$f":"[3]主表!M301","v":2631.1414510793988},{"$f":"[3]主表!N301","v":22530.82},{"$f":"[3]主表!$G301","v":1959202},{"$f":"[3]升级!$H301","v":1900},{"$f":"MAX(0.1,ROUND(100/(24*3600)*VLOOKUP(B303,[1]ResourceLevelConfig!$A:$E,5,FALSE),2))","v":2.29},-1,4,4,4,24831,null,null,null,1,5,299,null,null,"",null,"",null,{"$f":"IF(AR303=\"\",\"\",1)","v":""},null,{"$f":"IF(AT303=\"\",\"\",1)","v":""},null,{"$f":"IF(AV303=\"\",\"\",1)","v":""},null,{"$f":"IF(AX303=\"\",\"\",1)","v":""},{"$f":"IF(AN303=\"\",\"\",VLOOKUP(AN303,[4]ItemConfig!$A:$C,3,FALSE)&AO303)","v":""},{"$f":"IF(AP303=\"\",\"\",VLOOKUP(AP303,[4]ItemConfig!$A:$C,3,FALSE)&AQ303)","v":""},{"$f":"IF(AR303=\"\",\"\",VLOOKUP(AR303,[4]ItemConfig!$A:$C,3,FALSE)&AS303)","v":""},{"$f":"IF(AT303=\"\",\"\",VLOOKUP(AT303,[4]ItemConfig!$A:$C,3,FALSE)&AU303)","v":""},{"$f":"IF(AV303=\"\",\"\",VLOOKUP(AV303,[4]ItemConfig!$A:$C,3,FALSE)&AW303)","v":""},{"$f":"IF(AX303=\"\",\"\",VLOOKUP(AX303,[4]ItemConfig!$A:$C,3,FALSE)&AY303)","v":""}]
[300,300,7,21,10,"10688","真仙",null,null,10688,null,null,{"$f":"ROUND([1]ResourceLevelConfig!$E304*[1]ResourceLevelConfig!$L304*0.1,0)*10","v":30000},100004,0,{"$f":"AN304","v":1330},1,{"$f":"_xlfn.TEXTJOIN(\";\",1,AP304,AR304,AT304,AV304)","v":"1222;1223;1224;1225"},{"$f":"_xlfn.TEXTJOIN(\";\",1,AQ304,AS304,AU304,AW304)","v":"1;1;1;1"},{"$f":"CONCATENATE(ROUND(0.6*VLOOKUP(A304,[3]主表!$A:$P,16,FALSE)*[5]HeroModelConfig!$Q$5,0),\";\",ROUND(0.9*VLOOKUP(A304,[3]主表!$A:$P,16,FALSE)*[5]HeroModelConfig!$Q$5,0),\";\",INT(A304/30)+1)","v":"70748867;106123300;11"},{"$f":"[3]主表!K302","v":311066.66722440923},{"$f":"[3]主表!L302","v":2666.6666714479998},{"$f":"[3]主表!M302","v":2666.6666714479998},{"$f":"[3]主表!N302","v":24260.22},{"$f":"[3]主表!$G302","v":2021685},{"$f":"[3]升级!$H302","v":1900},{"$f":"MAX(0.1,ROUND(100/(24*3600)*VLOOKUP(B304,[1]ResourceLevelConfig!$A:$E,5,FALSE),2))","v":2.31},50,4,4,4,25410,null,null,null,1,5,300,null,1330,1,1222,1,1223,1,1224,1,1225,1,1226,1,{"$f":"IF(AN304=\"\",\"\",VLOOKUP(AN304,[4]ItemConfig!$A:$C,3,FALSE)&AO304)","v":"九天露华1"},{"$f":"IF(AP304=\"\",\"\",VLOOKUP(AP304,[4]ItemConfig!$A:$C,3,FALSE)&AQ304)","v":"太玄髓1"},{"$f":"IF(AR304=\"\",\"\",VLOOKUP(AR304,[4]ItemConfig!$A:$C,3,FALSE)&AS304)","v":"离魄花1"},{"$f":"IF(AT304=\"\",\"\",VLOOKUP(AT304,[4]ItemConfig!$A:$C,3,FALSE)&AU304)","v":"裂界藤1"},{"$f":"IF(AV304=\"\",\"\",VLOOKUP(AV304,[4]ItemConfig!$A:$C,3,FALSE)&AW304)","v":"寂灭沙1"},{"$f":"IF(AX304=\"\",\"\",VLOOKUP(AX304,[4]ItemConfig!$A:$C,3,FALSE)&AY304)","v":"天罡心核1"}]

{"sheet":"HeroQiangDuAddConfig","index":1,"n_rows":64,"n_cols":2,"rows_kept":64,"cut":false,"hidden":false,"merged":[]}
["ID","qiangDuZhi"]
["int","float"]
[]
["ID","玩家修为境界（等级）"]
[1,1]
[2,1.085]
[3,1.17]
[4,1.2549999999999999]
[5,1.34]
[6,1.425]
[7,1.51]
[8,1.595]
[9,1.68]
[10,1.7649999999999999]
[11,1.85]
[12,1.9350000000000001]
[13,2.02]
[14,2.105]
[15,2.19]
[16,2.2749999999999999]
[17,2.36]
[18,2.4449999999999998]
[19,2.5299999999999998]
[20,2.6150000000000002]
[21,2.7]
[22,2.7850000000000001]
[23,2.87]
[24,2.9550000000000001]
[25,3.04]
[26,3.125]
[27,3.21]
[28,3.2949999999999999]
[29,3.38]
[30,3.4649999999999999]
[31,3.55]
[32,3.6349999999999998]
[33,3.72]
[34,3.8050000000000002]
[35,3.89]
[36,3.9750000000000001]
[37,4.0599999999999996]
[38,4.1449999999999996]
[39,4.2300000000000004]
[40,4.3150000000000004]
[41,4.4000000000000004]
[42,4.4850000000000003]
[43,4.57]
[44,4.6550000000000002]
[45,4.74]
[46,4.8250000000000002]
[47,4.91]
[48,4.9950000000000001]
[49,5.08]
[50,5.165]
[51,5.25]
[52,5.335]
[53,5.42]
[54,5.5049999999999999]
[55,5.59]
[56,5.6749999999999998]
[57,5.76]
[58,5.8449999999999998]
[59,5.93]
[60,6]