{"text_format":"2","workbook":"xlsx","n_sheets":6,"sheets":["SkillConfig","SkillUpConfig","乱来","技能辅助","特殊ID段","技能评分基准"],"not_rendered":{"charts":0,"images":0,"macros":0,"external_links":0,"defined_names":3,"comments":0,"pivot_tables":0},"unopened":[],"bounds":{"document_bytes":16777216,"sheet_cells":100000,"run_cost":"one","rows_first":2000,"rows_last":500,"rows_between":2000,"halvings":0,"cell_chars":16384,"cell_head_chars":4096},"cells_cut":0,"cells_raw":0,"read":"whole","date_system":"1900"}

{"sheet":"SkillConfig","index":0,"n_rows":45,"n_cols":17,"rows_kept":45,"cut":false,"hidden":false,"merged":[]}
["ID",null,null,"icon","scriptName","IDGroup","cd","SkillType","level","name","effectValue"]
["int",null,"使用神器","string","string","int","int","int","int","int","float[]"]
[null,null,{"$f":"SUBTOTAL(3,C6:C9258)","v":0}]
["技能ID\nIDGroup+技能等级","所属英雄名字\n（策划用）","所属英雄ID\n（策划用）","图标","脚本名称","技能序列\n所属英雄ID+技能类型\n潜规则5=远程普攻","技能CD\n普攻无CD","技能类型:\n1= 基础\n2= 小招\n3= 大招\n4= 被动\n5= 觉醒新技能效果|专属遗物效果\n6 =职业被动\n7 =神器光明强化\n8 =神器黑暗强化","等级","名称语言表ID","效果值"]
[10011,"普通攻击技能",null,null,"NormalSkill",1001,null,1,1,405077,100]
[100011,"旋风斩",null,{"$f":"\"icon_skill_\"&F6","v":"icon_skill_10001"},"S10001",10001,4,2,1,405077,{"$f":"G6*Q6*100","v":400},{"$nulls":5},1]
[100012,"旋风斩",null,{"$f":"\"icon_skill_\"&F7","v":"icon_skill_10001"},"S10001",10001,4,2,2,405077,{"$f":"G7*Q7*100","v":440},{"$nulls":5},1.1]
[100013,"旋风斩",null,"icon_skill_10001","S10001",10001,4,2,3,405077,{"$f":"G8*Q8*100","v":480},{"$nulls":5},1.2]
[100014,"旋风斩",null,"icon_skill_10001","S10001",10001,4,2,4,405077,{"$f":"G9*Q9*100","v":520},{"$nulls":5},1.3]
[300011,"火焰烧烤",null,"icon_skill_30001","S30001",30001,6,2,1,405077,"60;3",null,null,{"$f":"G10*Q6/2/5","v":0.6}]
[300012,"火焰烧烤",null,"icon_skill_30001","S30001",30001,6,2,2,405077,"66;3",null,null,{"$f":"G11*Q7/2/5","v":0.66}]
[300013,"火焰烧烤",null,"icon_skill_30001","S30001",30001,6,2,3,405077,"72;3",null,null,{"$f":"G12*Q8/2/5","v":0.72}]
[300014,"火焰烧烤",null,"icon_skill_30001","S30001",30001,6,2,4,405077,"78;3",null,null,{"$f":"G13*Q9/2/5","v":0.78}]
[200011,"全体治疗",null,"icon_skill_20001","S20001",20001,5,2,1,405077,{"$f":"G14*Q6*100/2","v":250}]
[200012,"全体治疗",null,"icon_skill_20001","S20001",20001,5,2,2,405077,{"$f":"G15*Q7*100/2","v":275}]
[200013,"全体治疗",null,"icon_skill_20001","S20001",20001,5,2,3,405077,{"$f":"G16*Q8*100/2","v":300}]
[200014,"全体治疗",null,"icon_skill_20001","S20001",20001,5,2,4,405077,{"$f":"G17*Q9*100/2","v":325}]
[400011,"连续射击",null,"icon_skill_40001","S40001",40001,10,2,1,405077,{"$f":"G18*Q6*100/3","v":333.333333333333}]
[400012,"连续射击",null,"icon_skill_40001","S40001",40001,10,2,2,405077,{"$f":"G19*Q7*100/3","v":366.666666666667}]
[400013,"连续射击",null,"icon_skill_40001","S40001",40001,10,2,3,405077,{"$f":"G20*Q8*100/3","v":400}]
[400014,"连续射击",null,"icon_skill_40001","S40001",40001,10,2,4,405077,{"$f":"G21*Q9*100/3","v":433.333333333333}]
[1100011,"大蛇第一个技能，对敌人照成伤害，并将敌人击退一段距离",null,"icon_skill_110001","S110001",110001,5,2,1,405077,{"$f":"G22*Q6*100","v":500},null,"蛇BOSS"]
[1100012,"大蛇第一个技能，对敌人照成伤害，并将敌人击退一段距离",null,"icon_skill_110001","S110001",110001,5,2,2,405077,550]
[1100013,"大蛇第一个技能，对敌人照成伤害，并将敌人击退一段距离",null,"icon_skill_110001","S110001",110001,5,2,3,405077,600]
[1100014,"大蛇第一个技能，对敌人照成伤害，并将敌人击退一段距离",null,"icon_skill_110001","S110001",110001,5,2,4,405077,650]
[1100021,"大蛇技能2，吐火焰经过的敌人收到伤害,没0.5秒收到一次伤害",null,"icon_skill_110002","S110002",110002,10,2,1,405077,{"$f":"G26*Q6*100/2/2","v":250},null,"蛇BOSS"]
[1100022,"大蛇技能2，吐火焰经过的敌人收到伤害,没0.5秒收到一次伤害",null,"icon_skill_110002","S110002",110002,10,2,2,405077,{"$f":"G27*Q7*100/2/2","v":275}]
[1100023,"大蛇技能2，吐火焰经过的敌人收到伤害,没0.5秒收到一次伤害",null,"icon_skill_110002","S110002",110002,10,2,3,405077,{"$f":"G28*Q8*100/2/2","v":300}]
[1100024,"大蛇技能2，吐火焰经过的敌人收到伤害,没0.5秒收到一次伤害",null,"icon_skill_110002","S110002",110002,10,2,4,405077,{"$f":"G29*Q9*100/2/2","v":325}]
[1200011,"小蛇精英怪技能 向前冲撞，对冲撞的敌人造成伤害",null,"icon_skill_120001","S120001",120001,4,2,1,405077,{"$f":"G30*Q6*100","v":400},null,"精英蛇"]
[1200012,"小蛇精英怪技能 向前冲撞，对冲撞的敌人造成伤害",null,"icon_skill_120001","S120001",120001,4,2,2,405077,440]
[1200013,"小蛇精英怪技能 向前冲撞，对冲撞的敌人造成伤害",null,"icon_skill_120001","S120001",120001,4,2,3,405077,480]
[1200014,"小蛇精英怪技能 向前冲撞，对冲撞的敌人造成伤害",null,"icon_skill_120001","S120001",120001,4,2,4,405077,520]
[1300011,"狼精英技能",null,"icon_skill_130001","S130001",130001,5,2,1,405077,{"$f":"G34*Q6*100","v":500},null,"精英狗"]
[1300012,"狼精英技能",null,"icon_skill_130001","S130001",130001,5,2,2,405077,550]
[1300013,"狼精英技能",null,"icon_skill_130001","S130001",130001,5,2,3,405077,600]
[1300014,"狼精英技能",null,"icon_skill_130001","S130001",130001,5,2,4,405077,650]
[1400011,"狼boss的第一个技能",null,"icon_skill_140001","S140001",140001,3,2,1,405077,{"$f":"G38*Q6*100","v":300},null,"狗BOSS"]
[1400012,"狼boss的第一个技能",null,"icon_skill_140001","S140001",140001,3,2,2,405077,330]
[1400013,"狼boss的第一个技能",null,"icon_skill_140001","S140001",140001,3,2,3,405077,360]
[1400014,"狼boss的第一个技能",null,"icon_skill_140001","S140001",140001,3,2,4,405077,390]
[1400031,"狼boss 第3个技能，跳跃攻击范围那的敌人",null,"icon_skill_140003","S140003",140003,8,2,1,405077,{"$f":"G42*Q6*100","v":800},null,"狗BOSS"]
[1400032,"狼boss 第3个技能，跳跃攻击范围那的敌人",null,"icon_skill_140003","S140003",140003,8,2,2,405077,{"$f":"G43*Q7*100","v":880}]
[1400033,"狼boss 第3个技能，跳跃攻击范围那的敌人",null,"icon_skill_140003","S140003",140003,8,2,3,405077,{"$f":"G44*Q8*100","v":960}]
[1400034,"狼boss 第3个技能，跳跃攻击范围那的敌人",null,"icon_skill_140003","S140003",140003,8,2,4,405077,{"$f":"G45*Q9*100","v":1040}]

{"sheet":"SkillUpConfig","index":1,"n_rows":24,"n_cols":5,"rows_kept":24,"cut":false,"hidden":false,"merged":[]}
["ID","upType","upValue","idx","skillParam"]
["int","int","int","int","int[]"]
[]
["表ID\n技能ID的最后两位\n1=普攻","1.等级\n2.星级","具体星级\n或等级","技能位置\n对应HeroModel表的下标","对应HeroModel表的下标和等级\n0;1 表示1位置的1级\n1;1 表示2位置的1级\n1;2 表示3位置的2级"]
[1,1,1,0,1]
[11,1,1,1,1]
[12,1,31,1,2]
[13,1,131,1,3]
[14,1,231,1,4]
[21,1,11,2,1]
[22,1,51,2,2]
[23,1,151,2,3]
[24,1,251,2,4]
[31,2,5,3,1]
[32,1,71,3,2]
[33,1,171,3,3]
[34,1,271,3,4]
[41,2,7,4,1]
[42,1,91,4,2]
[43,1,191,4,3]
[44,1,291,4,4]
[51,2,9,5,1]
[52,1,111,5,2]
[53,1,211,5,3]

{"sheet":"乱来","index":2,"n_rows":64,"n_cols":9,"rows_kept":64,"cut":false,"hidden":false,"merged":[]}
["ID","值"]
[1,330,{"$f":"(RANK(B2,B$2:B$64,1)-1)/3","v":19},{"$f":"140+C2*10","v":330},null,null,null,120,120]
[2,330,{"$f":"(RANK(B3,B$2:B$64,1)-1)/3","v":19},{"$f":"140+C3*10","v":330},null,null,null,{"$f":"H2*1.3","v":156},{"$f":"I2+30","v":150}]
[3,330,19,330,null,null,null,{"$f":"H3*1.3","v":202.8},{"$f":"I3+30","v":180}]
[4,240,7,210,null,null,null,{"$f":"H4*1.3","v":263.64},210]
[5,240,7,210]
[6,240,7,210]
[7,220,5,190]
[8,220,5,190]
[9,220,5,190]
[10,200,1,150]
[11,200,1,150]
[12,200,1,150]
[13,280,14,280]
[14,280,14,280]
[15,280,14,280]
[16,240,7,210]
[17,240,7,210]
[18,240,7,210]
[19,220,5,190]
[20,220,5,190]
[21,220,5,190]
[22,320,18,320]
[23,320,18,320]
[24,320,18,320]
[25,270,13,270]
[26,270,13,270]
[27,270,13,270]
[28,340,20,340]
[29,340,20,340]
[30,340,20,340]
[31,250,12,260]
[32,250,12,260]
[33,250,12,260]
[34,290,16,300]
[35,290,16,300]
[36,290,16,300]
[37,300,17,310]
[38,300,17,310]
[39,300,17,310]
[40,280,14,280]
[41,280,14,280]
[42,280,14,280]
[43,210,3,170]
[44,210,3,170]
[45,210,3,170]
[46,240,7,210]
[47,240,7,210]
[48,240,7,210]
[49,240,7,210]
[50,240,7,210]
[51,240,7,210]
[52,200,1,150]
[53,200,1,150]
[54,200,1,150]
[55,190,0,140]
[56,190,0,140]
[57,190,0,140]
[58,240,7,210]
[59,240,7,210]
[60,240,7,210]
[61,210,3,170]
[62,210,3,170]
[63,210,3,170]

{"sheet":"技能辅助","index":3,"n_rows":1081,"n_cols":4,"rows_kept":1081,"cut":false,"hidden":false,"merged":[]}
["技能ID","技能类型","技能CD","技能描述"]
[{"$f":"INT(SkillConfig!#REF!)","v":{"$error":"#REF!"}},{"$f":"SkillConfig!#REF!","v":{"$error":"#REF!"}},{"$f":"SkillConfig!#REF!","v":{"$error":"#REF!"}},{"$f":"SkillConfig!#REF!","v":{"$error":"#REF!"}}]
[{"$f":"INT(SkillConfig!#REF!)","v":{"$error":"#REF!"}},{"$f":"SkillConfig!#REF!","v":{"$error":"#REF!"}},{"$f":"SkillConfig!#REF!","v":{"$error":"#REF!"}},{"$f":"SkillConfig!#REF!","v":{"$error":"#REF!"}}]
[{"$f":"INT(SkillConfig!#REF!)","v":{"$error":"#REF!"}},{"$f":"SkillConfig!#REF!","v":{"$error":"#REF!"}},{"$f":"SkillConfig!#REF!","v":{"$error":"#REF!"}},{"$f":"SkillConfig!#REF!","v":{"$error":"#REF!"}}]
[{"$f":"INT(SkillConfig!#REF!)","v":{"$error":"#REF!"}},{"$f":"SkillConfig!#REF!","v":{"$error":"#REF!"}},{"$f":"SkillConfig!#REF!","v":{"$error":"#REF!"}},{"$f":"SkillConfig!#REF!","v":{"$error":"#REF!"}}]
[{"$f":"INT(SkillConfig!#REF!)","v":{"$error":"#REF!"}},{"$f":"SkillConfig!#REF!","v":{"$error":"#REF!"}},{"$f":"SkillConfig!#REF!","v":{"$error":"#REF!"}},{"$f":"SkillConfig!#REF!","v":{"$error":"#REF!"}}]
[{"$f":"INT(SkillConfig!#REF!)","v":{"$error":"#REF!"}},{"$f":"SkillConfig!#REF!","v":{"$error":"#REF!"}},{"$f":"SkillConfig!#REF!","v":{"$error":"#REF!"}},{"$f":"SkillConfig!#REF!","v":{"$error":"#REF!"}}]
[{"$f":"INT(SkillConfig!#REF!)","v":{"$error":"#REF!"}},{"$f":"SkillConfig!#REF!","v":{"$error":"#REF!"}},{"$f":"SkillConfig!#REF!","v":{"$error":"#REF!"}},{"$f":"SkillConfig!#REF!","v":{"$error":"#REF!"}}]
[{"$f":"INT(SkillConfig!#REF!)","v":{"$error":"#REF!"}},{"$f":"SkillConfig!#REF!","v":{"$error":"#REF!"}},{"$f":"SkillConfig!#REF!","v":{"$error":"#REF!"}},{"$f":"SkillConfig!#REF!","v":{"$error":"#REF!"}}]
[{"$f":"INT(SkillConfig!#REF!)","v":{"$error":"#REF!"}},{"$f":"SkillConfig!#REF!","v":{"$error":"#REF!"}},{"$f":"SkillConfig!#REF!","v":{"$error":"#REF!"}},{"$f":"SkillConfig!#REF!","v":{"$error":"#REF!"}}]
[{"$f":"INT(SkillConfig!#REF!)","v":{"$error":"#REF!"}},{"$f":"SkillConfig!#REF!","v":{"$error":"#REF!"}},{"$f":"SkillConfig!#REF!","v":{"$error":"#REF!"}},{"$f":"SkillConfig!#REF!","v":{"$error":"#REF!"}}]
[{"$f":"INT(SkillConfig!#REF!)","v":{"$error":"#REF!"}},{"$f":"SkillConfig!#REF!","v":{"$error":"#REF!"}},{"$f":"SkillConfig!#REF!","v":{"$error":"#REF!"}},{"$f":"SkillConfig!#REF!","v":{"$error":"#REF!"}}]
[{"$f":"INT(SkillConfig!#REF!)","v":{"$error":"#REF!"}},{"$f":"SkillConfig!#REF!","v":{"$error":"#REF!"}},{"$f":"SkillConfig!#REF!","v":{"$error":"#REF!"}},{"$f":"SkillConfig!#REF!","v":{"$error":"#REF!"}}]
[{"$f":"INT(SkillConfig!#REF!)","v":{"$error":"#REF!"}},{"$f":"SkillConfig!#REF!","v":{"$error":"#REF!"}},{"$f":"SkillConfig!#REF!","v":{"$error":"#REF!"}},{"$f":"SkillConfig!#REF!","v":{"$error":"#REF!"}}]
[{"$f":"INT(SkillConfig!#REF!)","v":{"$error":"#REF!"}},{"$f":"SkillConfig!#REF!","v":{"$error":"#REF!"}},{"$f":"SkillConfig!#REF!","v":{"$error":"#REF!"}},{"$f":"SkillConfig!#REF!","v":{"$error":"#REF!"}}]
[{"$f":"INT(SkillConfig!#REF!)","v":{"$error":"#REF!"}},{"$f":"SkillConfig!#REF!","v":{"$error":"#REF!"}},{"$f":"SkillConfig!#REF!","v":{"$error":"#REF!"}},{"$f":"SkillConfig!#REF!","v":{"$error":"#REF!"}}]
[{"$f":"INT(SkillConfig!#REF!)","v":{"$error":"#REF!"}},{"$f":"SkillConfig!#REF!","v":{"$error":"#REF!"}},{"$f":"SkillConfig!#REF!","v":{"$error":"#REF!"}},{"$f":"SkillConfig!#REF!","v":{"$error":"#REF!"}}]
[{"$f":"INT(SkillConfig!#REF!)","v":{"$error":"#REF!"}},{"$f":"SkillConfig!#REF!","v":{"$error":"#REF!"}},{"$f":"SkillConfig!#REF!","v":{"$error":"#REF!"}},{"$f":"SkillConfig!#REF!","v":{"$error":"#REF!"}}]
[{"$f":"INT(SkillConfig!#REF!)","v":{"$error":"#REF!"}},{"$f":"SkillConfig!#REF!","v":{"$error":"#REF!"}},{"$f":"SkillConfig!#REF!","v":{"$error":"#REF!"}},{"$f":"SkillConfig!#REF!","v":{"$error":"#REF!"}}]
[{"$f":"INT(SkillConfig!#REF!)","v":{"$error":"#REF!"}},{"$f":"SkillConfig!#REF!","v":{"$error":"#REF!"}},{"$f":"SkillConfig!#REF!","v":{"$error":"#REF!"}},{"$f":"SkillConfig!#REF!","v":{"$error":"#REF!"}}]
[{"$f":"INT(SkillConfig!#REF!)","v":{"$error":"#REF!"}},{"$f":"SkillConfig!#REF!","v":{"$error":"#REF!"}},{"$f":"SkillConfig!#REF!","v":{"$error":"#REF!"}},{"$f":"SkillConfig!#REF!","v":{"$error":"#REF!"}}]
[{"$f":"INT(SkillConfig!#REF!)","v":{"$error":"#REF!"}},{"$f":"SkillConfig!#REF!","v":{"$error":"#REF!"}},{"$f":"SkillConfig!#REF!","v":{"$error":"#REF!"}},{"$f":"SkillConfig!#REF!","v":{"$error":"#REF!"}}]
[{"$f":"INT(SkillConfig!#REF!)","v":{"$error":"#REF!"}},{"$f":"SkillConfig!#REF!","v":{"$error":"#REF!"}},{"$f":"SkillConfig!#REF!","v":{"$error":"#REF!"}},{"$f":"SkillConfig!#REF!","v":{"$error":"#REF!"}}]
[{"$f":"INT(SkillConfig!#REF!)","v":{"$error":"#REF!"}},{"$f":"SkillConfig!#REF!","v":{"$error":"#REF!"}},{"$f":"SkillConfig!#REF!","v":{"$error":"#REF!"}},{"$f":"SkillConfig!#REF!","v":{"$error":"#REF!"}}]
[{"$f":"INT(SkillConfig!#REF!)","v":{"$error":"#REF!"}},{"$f":"SkillConfig!#REF!","v":{"$error":"#REF!"}},{"$f":"SkillConfig!#REF!","v":{"$error":"#REF!"}},{"$f":"SkillConfig!#REF!","v":{"$error":"#REF!"}}]
[{"$f":"INT(SkillConfig!#REF!)","v":{"$error":"#REF!"}},{"$f":"SkillConfig!#REF!","v":{"$error":"#REF!"}},{"$f":"SkillConfig!#REF!","v":{"$error":"#REF!"}},{"$f":"SkillConfig!#REF!","v":{"$error":"#REF!"}}]
[{"$f":"INT(SkillConfig!#REF!)","v":{"$error":"#REF!"}},{"$f":"SkillConfig!#REF!","v":{"$error":"#REF!"}},{"$f":"SkillConfig!#REF!","v":{"$error":"#REF!"}},{"$f":"SkillConfig!#REF!","v":{"$error":"#REF!"}}]
[{"$f":"INT(SkillConfig!#REF!)","v":{"$error":"#REF!"}},{"$f":"SkillConfig!#REF!","v":{"$error":"#REF!"}},{"$f":"SkillConfig!#REF!","v":{"$error":"#REF!"}},{"$f":"SkillConfig!#REF!","v":{"$error":"#REF!"}}]
[{"$f":"INT(SkillConfig!#REF!)","v":{"$error":"#REF!"}},{"$f":"SkillConfig!#REF!","v":{"$error":"#REF!"}},{"$f":"SkillConfig!#REF!","v":{"$error":"#REF!"}},{"$f":"SkillConfig!#REF!","v":{"$error":"#REF!"}}]
[{"$f":"INT(SkillConfig!#REF!)","v":{"$error":"#REF!"}},{"$f":"SkillConfig!#REF!","v":{"$error":"#REF!"}},{"$f":"SkillConfig!#REF!","v":{"$error":"#REF!"}},{"$f":"SkillConfig!#REF!","v":{"$error":"#REF!"}}]
[{"$f":"INT(SkillConfig!#REF!)","v":{"$error":"#REF!"}},{"$f":"SkillConfig!#REF!","v":{"$error":"#REF!"}},{"$f":"SkillConfig!#REF!","v":{"$error":"#REF!"}},{"$f":"SkillConfig!#REF!","v":{"$error":"#REF!"}}]
[{"$f":"INT(SkillConfig!#REF!)","v":{"$error":"#REF!"}},{"$f":"SkillConfig!#REF!","v":{"$error":"#REF!"}},{"$f":"SkillConfig!#REF!","v":{"$error":"#REF!"}},{"$f":"SkillConfig!#REF!","v":{"$error":"#REF!"}}]
[{"$f":"INT(SkillConfig!#REF!)","v":{"$error":"#REF!"}},{"$f":"SkillConfig!#REF!","v":{"$error":"#REF!"}},{"$f":"SkillConfig!#REF!","v":{"$error":"#REF!"}},{"$f":"SkillConfig!#REF!","v":{"$error":"#REF!"}}]
[{"$f":"INT(SkillConfig!#REF!)","v":{"$error":"#REF!"}},{"$f":"SkillConfig!#REF!","v":{"$error":"#REF!"}},{"$f":"SkillConfig!#REF!","v":{"$error":"#REF!"}},{"$f":"SkillConfig!#REF!","v":{"$error":"#REF!"}}]
[{"$f":"INT(SkillConfig!#REF!)","v":{"$error":"#REF!"}},{"$f":"SkillConfig!#REF!","v":{"$error":"#REF!"}},{"$f":"SkillConfig!#REF!","v":{"$error":"#REF!"}},{"$f":"SkillConfig!#REF!","v":{"$error":"#REF!"}}]
[{"$f":"INT(SkillConfig!#REF!)","v":{"$error":"#REF!"}},{"$f":"SkillConfig!#REF!","v":{"$error":"#REF!"}},{"$f":"SkillConfig!#REF!","v":{"$error":"#REF!"}},{"$f":"SkillConfig!#REF!","v":{"$error":"#REF!"}}]
[{"$f":"INT(SkillConfig!#REF!)","v":{"$error":"#REF!"}},{"$f":"SkillConfig!#REF!","v":{"$error":"#REF!"}},{"$f":"SkillConfig!#REF!","v":{"$error":"#REF!"}},{"$f":"SkillConfig!#REF!","v":{"$error":"#REF!"}}]
[{"$f":"INT(SkillConfig!#REF!)","v":{"$error":"#REF!"}},{"$f":"SkillConfig!#REF!","v":{"$error":"#REF!"}},{"$f":"SkillConfig!#REF!","v":{"$error":"#REF!"}},{"$f":"SkillConfig!#REF!","v":{"$error":"#REF!"}}]
[{"$f":"INT(SkillConfig!#REF!)","v":{"$error":"#REF!"}},{"$f":"SkillConfig!#REF!","v":{"$error":"#REF!"}},{"$f":"SkillConfig!#REF!","v":{"$error":"#REF!"}},{"$f":"SkillConfig!#REF!","v":{"$error":"#REF!"}}]
[{"$f":"INT(SkillConfig!#REF!)","v":{"$error":"#REF!"}},{"$f":"SkillConfig!#REF!","v":{"$error":"#REF!"}},{"$f":"SkillConfig!#REF!","v":{"$error":"#REF!"}},{"$f":"SkillConfig!#REF!","v":{"$error":"#REF!"}}]
[{"$f":"INT(SkillConfig!#REF!)","v":{"$error":"#REF!"}},{"$f":"SkillConfig!#REF!","v":{"$error":"#REF!"}},{"$f":"SkillConfig!#REF!","v":{"$error":"#REF!"}},{"$f":"SkillConfig!#REF!","v":{"$error":"#REF!"}}]
[{"$f":"INT(SkillConfig!#REF!)","v":{"$error":"#REF!"}},{"$f":"SkillConfig!#REF!","v":{"$error":"#REF!"}},{"$f":"SkillConfig!#REF!","v":{"$error":"#REF!"}},{"$f":"SkillConfig!#REF!","v":{"$error":"#REF!"}}]
[{"$f":"INT(SkillConfig!#REF!)","v":{"$error":"#REF!"}},{"$f":"SkillConfig!#REF!","v":{"$error":"#REF!"}},{"$f":"SkillConfig!#REF!","v":{"$error":"#REF!"}},{"$f":"SkillConfig!#REF!","v":{"$error":"#REF!"}}]
[{"$f":"INT(SkillConfig!#REF!)","v":{"$error":"#REF!"}},{"$f":"SkillConfig!#REF!","v":{"$error":"#REF!"}},{"$f":"SkillConfig!#REF!","v":{"$error":"#REF!"}},{"$f":"SkillConfig!#REF!","v":{"$error":"#REF!"}}]
[{"$f":"INT(SkillConfig!#REF!)","v":{"$error":"#REF!"}},{"$f":"SkillConfig!#REF!","v":{"$error":"#REF!"}},{"$f":"SkillConfig!#REF!","v":{"$error":"#REF!"}},{"$f":"SkillConfig!#REF!","v":{"$error":"#REF!"}}]
[{"$f":"INT(SkillConfig!#REF!)","v":{"$error":"#REF!"}},{"$f":"SkillConfig!#REF!","v":{"$error":"#REF!"}},{"$f":"SkillConfig!#REF!","v":{"$error":"#REF!"}},{"$f":"SkillConfig!#REF!","v":{"$error":"#REF!"}}]
[{"$f":"INT(SkillConfig!#REF!)","v":{"$error":"#REF!"}},{"$f":"SkillConfig!#REF!","v":{"$error":"#REF!"}},{"$f":"SkillConfig!#REF!","v":{"$error":"#REF!"}},{"$f":"SkillConfig!#REF!","v":{"$error":"#REF!"}}]
[{"$f":"INT(SkillConfig!#REF!)","v":{"$error":"#REF!"}},{"$f":"SkillConfig!#REF!","v":{"$error":"#REF!"}},{"$f":"SkillConfig!#REF!","v":{"$error":"#REF!"}},{"$f":"SkillConfig!#REF!","v":{"$error":"#REF!"}}]
[{"$f":"INT(SkillConfig!#REF!)","v":{"$error":"#REF!"}},{"$f":"SkillConfig!#REF!","v":{"$error":"#REF!"}},{"$f":"SkillConfig!#REF!","v":{"$error":"#REF!"}},{"$f":"SkillConfig!#REF!","v":{"$error":"#REF!"}}]
[{"$f":"INT(SkillConfig!#REF!)","v":{"$error":"#REF!"}},{"$f":"SkillConfig!#REF!","v":{"$error":"#REF!"}},{"$f":"SkillConfig!#REF!","v":{"$error":"#REF!"}},{"$f":"SkillConfig!#REF!","v":{"$error":"#REF!"}}]
[{"$f":"INT(SkillConfig!#REF!)","v":{"$error":"#REF!"}},{"$f":"SkillConfig!#REF!","v":{"$error":"#REF!"}},{"$f":"SkillConfig!#REF!","v":{"$error":"#REF!"}},{"$f":"SkillConfig!#REF!","v":{"$error":"#REF!"}}]
[{"$f":"INT(SkillConfig!#REF!)","v":{"$error":"#REF!"}},{"$f":"SkillConfig!#REF!","v":{"$error":"#REF!"}},{"$f":"SkillConfig!#REF!","v":{"$error":"#REF!"}},{"$f":"SkillConfig!#REF!","v":{"$error":"#REF!"}}]
[{"$f":"INT(SkillConfig!#REF!)","v":{"$error":"#REF!"}},{"$f":"SkillConfig!#REF!","v":{"$error":"#REF!"}},{"$f":"SkillConfig!#REF!","v":{"$error":"#REF!"}},{"$f":"SkillConfig!#REF!","v":{"$error":"#REF!"}}]
[{"$f":"INT(SkillConfig!#REF!)","v":{"$error":"#REF!"}},{"$f":"SkillConfig!#REF!","v":{"$error":"#REF!"}},{"$f":"SkillConfig!#REF!","v":{"$error":"#REF!"}},{"$f":"SkillConfig!#REF!","v":{"$error":"#REF!"}}]
[{"$f":"INT(SkillConfig!#REF!)","v":{"$error":"#REF!"}},{"$f":"SkillConfig!#REF!","v":{"$error":"#REF!"}},{"$f":"SkillConfig!#REF!","v":{"$error":"#REF!"}},{"$f":"SkillConfig!#REF!","v":{"$error":"#REF!"}}]
[{"$f":"INT(SkillConfig!#REF!)","v":{"$error":"#REF!"}},{"$f":"SkillConfig!#REF!","v":{"$error":"#REF!"}},{"$f":"SkillConfig!#REF!","v":{"$error":"#REF!"}},{"$f":"SkillConfig!#REF!","v":{"$error":"#REF!"}}]
[{"$f":"INT(SkillConfig!#REF!)","v":{"$error":"#REF!"}},{"$f":"SkillConfig!#REF!","v":{"$error":"#REF!"}},{"$f":"SkillConfig!#REF!","v":{"$error":"#REF!"}},{"$f":"SkillConfig!#REF!","v":{"$error":"#REF!"}}]
[{"$f":"INT(SkillConfig!#REF!)","v":{"$error":"#REF!"}},{"$f":"SkillConfig!#REF!","v":{"$error":"#REF!"}},{"$f":"SkillConfig!#REF!","v":{"$error":"#REF!"}},{"$f":"SkillConfig!#REF!","v":{"$error":"#REF!"}}]
[{"$f":"INT(SkillConfig!#REF!)","v":{"$error":"#REF!"}},{"$f":"SkillConfig!#REF!","v":{"$error":"#REF!"}},{"$f":"SkillConfig!#REF!","v":{"$error":"#REF!"}},{"$f":"SkillConfig!#REF!","v":{"$error":"#REF!"}}]
[{"$f":"INT(SkillConfig!#REF!)","v":{"$error":"#REF!"}},{"$f":"SkillConfig!#REF!","v":{"$error":"#REF!"}},{"$f":"SkillConfig!#REF!","v":{"$error":"#REF!"}},{"$f":"SkillConfig!#REF!","v":{"$error":"#REF!"}}]
[{"$f":"INT(SkillConfig!#REF!)","v":{"$error":"#REF!"}},{"$f":"SkillConfig!#REF!","v":{"$error":"#REF!"}},{"$f":"SkillConfig!#REF!","v":{"$error":"#REF!"}},{"$f":"SkillConfig!#REF!","v":{"$error":"#REF!"}}]
[{"$f":"INT(SkillConfig!#REF!)","v":{"$error":"#REF!"}},{"$f":"SkillConfig!#REF!","v":{"$error":"#REF!"}},{"$f":"SkillConfig!#REF!","v":{"$error":"#REF!"}},{"$f":"SkillConfig!#REF!","v":{"$error":"#REF!"}}]
[{"$f":"INT(SkillConfig!#REF!)","v":{"$error":"#REF!"}},{"$f":"SkillConfig!#REF!","v":{"$error":"#REF!"}},{"$f":"SkillConfig!#REF!","v":{"$error":"#REF!"}},{"$f":"SkillConfig!#REF!","v":{"$error":"#REF!"}}]
[{"$f":"INT(SkillConfig!#REF!)","v":{"$error":"#REF!"}},{"$f":"SkillConfig!#REF!","v":{"$error":"#REF!"}},{"$f":"SkillConfig!#REF!","v":{"$error":"#REF!"}},{"$f":"SkillConfig!#REF!","v":{"$error":"#REF!"}}]
[{"$f":"INT(SkillConfig!#REF!)","v":{"$error":"#REF!"}},{"$f":"SkillConfig!#REF!","v":{"$error":"#REF!"}},{"$f":"SkillConfig!#REF!","v":{"$error":"#REF!"}},{"$f":"SkillConfig!#REF!","v":{"$error":"#REF!"}}]
[{"$f":"INT(SkillConfig!#REF!)","v":{"$error":"#REF!"}},{"$f":"SkillConfig!#REF!","v":{"$error":"#REF!"}},{"$f":"SkillConfig!#REF!","v":{"$error":"#REF!"}},{"$f":"SkillConfig!#REF!","v":{"$error":"#REF!"}}]
[{"$f":"INT(SkillConfig!#REF!)","v":{"$error":"#REF!"}},{"$f":"SkillConfig!#REF!","v":{"$error":"#REF!"}},{"$f":"SkillConfig!#REF!","v":{"$error":"#REF!"}},{"$f":"SkillConfig!#REF!","v":{"$error":"#REF!"}}]
[{"$f":"INT(SkillConfig!#REF!)","v":{"$error":"#REF!"}},{"$f":"SkillConfig!#REF!","v":{"$error":"#REF!"}},{"$f":"SkillConfig!#REF!","v":{"$error":"#REF!"}},{"$f":"SkillConfig!#REF!","v":{"$error":"#REF!"}}]
[{"$f":"INT(SkillConfig!#REF!)","v":{"$error":"#REF!"}},{"$f":"SkillConfig!#REF!","v":{"$error":"#REF!"}},{"$f":"SkillConfig!#REF!","v":{"$error":"#REF!"}},{"$f":"SkillConfig!#REF!","v":{"$error":"#REF!"}}]
[{"$f":"INT(SkillConfig!#REF!)","v":{"$error":"#REF!"}},{"$f":"SkillConfig!#REF!","v":{"$error":"#REF!"}},{"$f":"SkillConfig!#REF!","v":{"$error":"#REF!"}},{"$f":"SkillConfig!#REF!","v":{"$error":"#REF!"}}]
[{"$f":"INT(SkillConfig!#REF!)","v":{"$error":"#REF!"}},{"$f":"SkillConfig!#REF!","v":{"$error":"#REF!"}},{"$f":"SkillConfig!#REF!","v":{"$error":"#REF!"}},{"$f":"SkillConfig!#REF!","v":{"$error":"#REF!"}}]
[{"$f":"INT(SkillConfig!#REF!)","v":{"$error":"#REF!"}},{"$f":"SkillConfig!#REF!","v":{"$error":"#REF!"}},{"$f":"SkillConfig!#REF!","v":{"$error":"#REF!"}},{"$f":"SkillConfig!#REF!","v":{"$error":"#REF!"}}]
[{"$f":"INT(SkillConfig!#REF!)","v":{"$error":"#REF!"}},{"$f":"SkillConfig!#REF!","v":{"$error":"#REF!"}},{"$f":"SkillConfig!#REF!","v":{"$error":"#REF!"}},{"$f":"SkillConfig!#REF!","v":{"$error":"#REF!"}}]
[{"$f":"INT(SkillConfig!#REF!)","v":{"$error":"#REF!"}},{"$f":"SkillConfig!#REF!","v":{"$error":"#REF!"}},{"$f":"SkillConfig!#REF!","v":{"$error":"#REF!"}},{"$f":"SkillConfig!#REF!","v":{"$error":"#REF!"}}]
[{"$f":"INT(SkillConfig!#REF!)","v":{"$error":"#REF!"}},{"$f":"SkillConfig!#REF!","v":{"$error":"#REF!"}},{"$f":"SkillConfig!#REF!","v":{"$error":"#REF!"}},{"$f":"SkillConfig!#REF!","v":{"$error":"#REF!"}}]
[{"$f":"INT(SkillConfig!#REF!)","v":{"$error":"#REF!"}},{"$f":"SkillConfig!#REF!","v":{"$error":"#REF!"}},{"$f":"SkillConfig!#REF!","v":{"$error":"#REF!"}},{"$f":"SkillConfig!#REF!","v":{"$error":"#REF!"}}]
[{"$f":"INT(SkillConfig!#REF!)","v":{"$error":"#REF!"}},{"$f":"SkillConfig!#REF!","v":{"$error":"#REF!"}},{"$f":"SkillConfig!#REF!","v":{"$error":"#REF!"}},{"$f":"SkillConfig!#REF!","v":{"$error":"#REF!"}}]
[{"$f":"INT(SkillConfig!#REF!)","v":{"$error":"#REF!"}},{"$f":"SkillConfig!#REF!","v":{"$error":"#REF!"}},{"$f":"SkillConfig!#REF!","v":{"$error":"#REF!"}},{"$f":"SkillConfig!#REF!","v":{"$error":"#REF!"}}]
[{"$f":"INT(SkillConfig!#REF!)","v":{"$error":"#REF!"}},{"$f":"SkillConfig!#REF!","v":{"$error":"#REF!"}},{"$f":"SkillConfig!#REF!","v":{"$error":"#REF!"}},{"$f":"SkillConfig!#REF!","v":{"$error":"#REF!"}}]
[{"$f":"INT(SkillConfig!#REF!)","v":{"$error":"#REF!"}},{"$f":"SkillConfig!#REF!","v":{"$error":"#REF!"}},{"$f":"SkillConfig!#REF!","v":{"$error":"#REF!"}},{"$f":"SkillConfig!#REF!","v":{"$error":"#REF!"}}]
[{"$f":"INT(SkillConfig!#REF!)","v":{"$error":"#REF!"}},{"$f":"SkillConfig!#REF!","v":{"$error":"#REF!"}},{"$f":"SkillConfig!#REF!","v":{"$error":"#REF!"}},{"$f":"SkillConfig!#REF!","v":{"$error":"#REF!"}}]
[{"$f":"INT(SkillConfig!#REF!)","v":{"$error":"#REF!"}},{"$f":"SkillConfig!#REF!","v":{"$error":"#REF!"}},{"$f":"SkillConfig!#REF!","v":{"$error":"#REF!"}},{"$f":"SkillConfig!#REF!","v":{"$error":"#REF!"}}]
[{"$f":"INT(SkillConfig!#REF!)","v":{"$error":"#REF!"}},{"$f":"SkillConfig!#REF!","v":{"$error":"#REF!"}},{"$f":"SkillConfig!#REF!","v":{"$error":"#REF!"}},{"$f":"SkillConfig!#REF!","v":{"$error":"#REF!"}}]
[{"$f":"INT(SkillConfig!#REF!)","v":{"$error":"#REF!"}},{"$f":"SkillConfig!#REF!","v":{"$error":"#REF!"}},{"$f":"SkillConfig!#REF!","v":{"$error":"#REF!"}},{"$f":"SkillConfig!#REF!","v":{"$error":"#REF!"}}]
[{"$f":"INT(SkillConfig!#REF!)","v":{"$error":"#REF!"}},{"$f":"SkillConfig!#REF!","v":{"$error":"#REF!"}},{"$f":"SkillConfig!#REF!","v":{"$error":"#REF!"}},{"$f":"SkillConfig!#REF!","v":{"$error":"#REF!"}}]
[{"$f":"INT(SkillConfig!#REF!)","v":{"$error":"#REF!"}},{"$f":"SkillConfig!#REF!","v":{"$error":"#REF!"}},{"$f":"SkillConfig!#REF!","v":{"$error":"#REF!"}},{"$f":"SkillConfig!#REF!","v":{"$error":"#REF!"}}]
[{"$f":"INT(SkillConfig!#REF!)","v":{"$error":"#REF!"}},{"$f":"SkillConfig!#REF!","v":{"$error":"#REF!"}},{"$f":"SkillConfig!#REF!","v":{"$error":"#REF!"}},{"$f":"SkillConfig!#REF!","v":{"$error":"#REF!"}}]
[{"$f":"INT(SkillConfig!#REF!)","v":{"$error":"#REF!"}},{"$f":"SkillConfig!#REF!","v":{"$error":"#REF!"}},{"$f":"SkillConfig!#REF!","v":{"$error":"#REF!"}},{"$f":"SkillConfig!#REF!","v":{"$error":"#REF!"}}]
[{"$f":"INT(SkillConfig!#REF!)","v":{"$error":"#REF!"}},{"$f":"SkillConfig!#REF!","v":{"$error":"#REF!"}},{"$f":"SkillConfig!#REF!","v":{"$error":"#REF!"}},{"$f":"SkillConfig!#REF!","v":{"$error":"#REF!"}}]
[{"$f":"INT(SkillConfig!#REF!)","v":{"$error":"#REF!"}},{"$f":"SkillConfig!#REF!","v":{"$error":"#REF!"}},{"$f":"SkillConfig!#REF!","v":{"$error":"#REF!"}},{"$f":"SkillConfig!#REF!","v":{"$error":"#REF!"}}]
[{"$f":"INT(SkillConfig!#REF!)","v":{"$error":"#REF!"}},{"$f":"SkillConfig!#REF!","v":{"$error":"#REF!"}},{"$f":"SkillConfig!#REF!","v":{"$error":"#REF!"}},{"$f":"SkillConfig!#REF!","v":{"$error":"#REF!"}}]
[{"$f":"INT(SkillConfig!#REF!)","v":{"$error":"#REF!"}},{"$f":"SkillConfig!#REF!","v":{"$error":"#REF!"}},{"$f":"SkillConfig!#REF!","v":{"$error":"#REF!"}},{"$f":"SkillConfig!#REF!","v":{"$error":"#REF!"}}]
[{"$f":"INT(SkillConfig!#REF!)","v":{"$error":"#REF!"}},{"$f":"SkillConfig!#REF!","v":{"$error":"#REF!"}},{"$f":"SkillConfig!#REF!","v":{"$error":"#REF!"}},{"$f":"SkillConfig!#REF!","v":{"$error":"#REF!"}}]
[{"$f":"INT(SkillConfig!#REF!)","v":{"$error":"#REF!"}},{"$f":"SkillConfig!#REF!","v":{"$error":"#REF!"}},{"$f":"SkillConfig!#REF!","v":{"$error":"#REF!"}},{"$f":"SkillConfig!#REF!","v":{"$error":"#REF!"}}]
[{"$f":"INT(SkillConfig!#REF!)","v":{"$error":"#REF!"}},{"$f":"SkillConfig!#REF!","v":{"$error":"#REF!"}},{"$f":"SkillConfig!#REF!","v":{"$error":"#REF!"}},{"$f":"SkillConfig!#REF!","v":{"$error":"#REF!"}}]
[{"$f":"INT(SkillConfig!#REF!)","v":{"$error":"#REF!"}},{"$f":"SkillConfig!#REF!","v":{"$error":"#REF!"}},{"$f":"SkillConfig!#REF!","v":{"$error":"#REF!"}},{"$f":"SkillConfig!#REF!","v":{"$error":"#REF!"}}]
[{"$f":"INT(SkillConfig!#REF!)","v":{"$error":"#REF!"}},{"$f":"SkillConfig!#REF!","v":{"$error":"#REF!"}},{"$f":"SkillConfig!#REF!","v":{"$error":"#REF!"}},{"$f":"SkillConfig!#REF!","v":{"$error":"#REF!"}}]
[{"$f":"INT(SkillConfig!#REF!)","v":{"$error":"#REF!"}},{"$f":"SkillConfig!#REF!","v":{"$error":"#REF!"}},{"$f":"SkillConfig!#REF!","v":{"$error":"#REF!"}},{"$f":"SkillConfig!#REF!","v":{"$error":"#REF!"}}]
[{"$f":"INT(SkillConfig!#REF!)","v":{"$error":"#REF!"}},{"$f":"SkillConfig!#REF!","v":{"$error":"#REF!"}},{"$f":"SkillConfig!#REF!","v":{"$error":"#REF!"}},{"$f":"SkillConfig!#REF!","v":{"$error":"#REF!"}}]
[{"$f":"INT(SkillConfig!#REF!)","v":{"$error":"#REF!"}},{"$f":"SkillConfig!#REF!","v":{"$error":"#REF!"}},{"$f":"SkillConfig!#REF!","v":{"$error":"#REF!"}},{"$f":"SkillConfig!#REF!","v":{"$error":"#REF!"}}]
[{"$f":"INT(SkillConfig!#REF!)","v":{"$error":"#REF!"}},{"$f":"SkillConfig!#REF!","v":{"$error":"#REF!"}},{"$f":"SkillConfig!#REF!","v":{"$error":"#REF!"}},{"$f":"SkillConfig!#REF!","v":{"$error":"#REF!"}}]
[{"$f":"INT(SkillConfig!#REF!)","v":{"$error":"#REF!"}},{"$f":"SkillConfig!#REF!","v":{"$error":"#REF!"}},{"$f":"SkillConfig!#REF!","v":{"$error":"#REF!"}},{"$f":"SkillConfig!#REF!","v":{"$error":"#REF!"}}]
[{"$f":"INT(SkillConfig!#REF!)","v":{"$error":"#REF!"}},{"$f":"SkillConfig!#REF!","v":{"$error":"#REF!"}},{"$f":"SkillConfig!#REF!","v":{"$error":"#REF!"}},{"$f":"SkillConfig!#REF!","v":{"$error":"#REF!"}}]
[{"$f":"INT(SkillConfig!#REF!)","v":{"$error":"#REF!"}},{"$f":"SkillConfig!#REF!","v":{"$error":"#REF!"}},{"$f":"SkillConfig!#REF!","v":{"$error":"#REF!"}},{"$f":"SkillConfig!#REF!","v":{"$error":"#REF!"}}]
[{"$f":"INT(SkillConfig!#REF!)","v":{"$error":"#REF!"}},{"$f":"SkillConfig!#REF!","v":{"$error":"#REF!"}},{"$f":"SkillConfig!#REF!","v":{"$error":"#REF!"}},{"$f":"SkillConfig!#REF!","v":{"$error":"#REF!"}}]
[{"$f":"INT(SkillConfig!#REF!)","v":{"$error":"#REF!"}},{"$f":"SkillConfig!#REF!","v":{"$error":"#REF!"}},{"$f":"SkillConfig!#REF!","v":{"$error":"#REF!"}},{"$f":"SkillConfig!#REF!","v":{"$error":"#REF!"}}]
[{"$f":"INT(SkillConfig!#REF!)","v":{"$error":"#REF!"}},{"$f":"SkillConfig!#REF!","v":{"$error":"#REF!"}},{"$f":"SkillConfig!#REF!","v":{"$error":"#REF!"}},{"$f":"SkillConfig!#REF!","v":{"$error":"#REF!"}}]
[{"$f":"INT(SkillConfig!#REF!)","v":{"$error":"#REF!"}},{"$f":"SkillConfig!#REF!","v":{"$error":"#REF!"}},{"$f":"SkillConfig!#REF!","v":{"$error":"#REF!"}},{"$f":"SkillConfig!#REF!","v":{"$error":"#REF!"}}]
[{"$f":"INT(SkillConfig!#REF!)","v":{"$error":"#REF!"}},{"$f":"SkillConfig!#REF!","v":{"$error":"#REF!"}},{"$f":"SkillConfig!#REF!","v":{"$error":"#REF!"}},{"$f":"SkillConfig!#REF!","v":{"$error":"#REF!"}}]
[{"$f":"INT(SkillConfig!#REF!)","v":{"$error":"#REF!"}},{"$f":"SkillConfig!#REF!","v":{"$error":"#REF!"}},{"$f":"SkillConfig!#REF!","v":{"$error":"#REF!"}},{"$f":"SkillConfig!#REF!","v":{"$error":"#REF!"}}]
[{"$f":"INT(SkillConfig!#REF!)","v":{"$error":"#REF!"}},{"$f":"SkillConfig!#REF!","v":{"$error":"#REF!"}},{"$f":"SkillConfig!#REF!","v":{"$error":"#REF!"}},{"$f":"SkillConfig!#REF!","v":{"$error":"#REF!"}}]
[{"$f":"INT(SkillConfig!#REF!)","v":{"$error":"#REF!"}},{"$f":"SkillConfig!#REF!","v":{"$error":"#REF!"}},{"$f":"SkillConfig!#REF!","v":{"$error":"#REF!"}},{"$f":"SkillConfig!#REF!","v":{"$error":"#REF!"}}]
[{"$f":"INT(SkillConfig!#REF!)","v":{"$error":"#REF!"}},{"$f":"SkillConfig!#REF!","v":{"$error":"#REF!"}},{"$f":"SkillConfig!#REF!","v":{"$error":"#REF!"}},{"$f":"SkillConfig!#REF!","v":{"$error":"#REF!"}}]
[{"$f":"INT(SkillConfig!#REF!)","v":{"$error":"#REF!"}},{"$f":"SkillConfig!#REF!","v":{"$error":"#REF!"}},{"$f":"SkillConfig!#REF!","v":{"$error":"#REF!"}},{"$f":"SkillConfig!#REF!","v":{"$error":"#REF!"}}]
[{"$f":"INT(SkillConfig!#REF!)","v":{"$error":"#REF!"}},{"$f":"SkillConfig!#REF!","v":{"$error":"#REF!"}},{"$f":"SkillConfig!#REF!","v":{"$error":"#REF!"}},{"$f":"SkillConfig!#REF!","v":{"$error":"#REF!"}}]
[{"$f":"INT(SkillConfig!#REF!)","v":{"$error":"#REF!"}},{"$f":"SkillConfig!#REF!","v":{"$error":"#REF!"}},{"$f":"SkillConfig!#REF!","v":{"$error":"#REF!"}},{"$f":"SkillConfig!#REF!","v":{"$error":"#REF!"}}]
[{"$f":"INT(SkillConfig!#REF!)","v":{"$error":"#REF!"}},{"$f":"SkillConfig!#REF!","v":{"$error":"#REF!"}},{"$f":"SkillConfig!#REF!","v":{"$error":"#REF!"}},{"$f":"SkillConfig!#REF!","v":{"$error":"#REF!"}}]
[{"$f":"INT(SkillConfig!#REF!)","v":{"$error":"#REF!"}},{"$f":"SkillConfig!#REF!","v":{"$error":"#REF!"}},{"$f":"SkillConfig!#REF!","v":{"$error":"#REF!"}},{"$f":"SkillConfig!#REF!","v":{"$error":"#REF!"}}]
[{"$f":"INT(SkillConfig!#REF!)","v":{"$error":"#REF!"}},{"$f":"SkillConfig!#REF!","v":{"$error":"#REF!"}},{"$f":"SkillConfig!#REF!","v":{"$error":"#REF!"}},{"$f":"SkillConfig!#REF!","v":{"$error":"#REF!"}}]
[{"$f":"INT(SkillConfig!#REF!)","v":{"$error":"#REF!"}},{"$f":"SkillConfig!#REF!","v":{"$error":"#REF!"}},{"$f":"SkillConfig!#REF!","v":{"$error":"#REF!"}},{"$f":"SkillConfig!#REF!","v":{"$error":"#REF!"}}]
[{"$f":"INT(SkillConfig!#REF!)","v":{"$error":"#REF!"}},{"$f":"SkillConfig!#REF!","v":{"$error":"#REF!"}},{"$f":"SkillConfig!#REF!","v":{"$error":"#REF!"}},{"$f":"SkillConfig!#REF!","v":{"$error":"#REF!"}}]
[{"$f":"INT(SkillConfig!#REF!)","v":{"$error":"#REF!"}},{"$f":"SkillConfig!#REF!","v":{"$error":"#REF!"}},{"$f":"SkillConfig!#REF!","v":{"$error":"#REF!"}},{"$f":"SkillConfig!#REF!","v":{"$error":"#REF!"}}]
[{"$f":"INT(SkillConfig!#REF!)","v":{"$error":"#REF!"}},{"$f":"SkillConfig!#REF!","v":{"$error":"#REF!"}},{"$f":"SkillConfig!#REF!","v":{"$error":"#REF!"}},{"$f":"SkillConfig!#REF!","v":{"$error":"#REF!"}}]
[{"$f":"INT(SkillConfig!#REF!)","v":{"$error":"#REF!"}},{"$f":"SkillConfig!#REF!","v":{"$error":"#REF!"}},{"$f":"SkillConfig!#REF!","v":{"$error":"#REF!"}},{"$f":"SkillConfig!#REF!","v":{"$error":"#REF!"}}]
[{"$f":"INT(SkillConfig!#REF!)","v":{"$error":"#REF!"}},{"$f":"SkillConfig!#REF!","v":{"$error":"#REF!"}},{"$f":"SkillConfig!#REF!","v":{"$error":"#REF!"}},{"$f":"SkillConfig!#REF!","v":{"$error":"#REF!"}}]
[{"$f":"INT(SkillConfig!#REF!)","v":{"$error":"#REF!"}},{"$f":"SkillConfig!#REF!","v":{"$error":"#REF!"}},{"$f":"SkillConfig!#REF!","v":{"$error":"#REF!"}},{"$f":"SkillConfig!#REF!","v":{"$error":"#REF!"}}]
[{"$f":"INT(SkillConfig!#REF!)","v":{"$error":"#REF!"}},{"$f":"SkillConfig!#REF!","v":{"$error":"#REF!"}},{"$f":"SkillConfig!#REF!","v":{"$error":"#REF!"}},{"$f":"SkillConfig!#REF!","v":{"$error":"#REF!"}}]
[{"$f":"INT(SkillConfig!#REF!)","v":{"$error":"#REF!"}},{"$f":"SkillConfig!#REF!","v":{"$error":"#REF!"}},{"$f":"SkillConfig!#REF!","v":{"$error":"#REF!"}},{"$f":"SkillConfig!#REF!","v":{"$error":"#REF!"}}]
[{"$f":"INT(SkillConfig!#REF!)","v":{"$error":"#REF!"}},{"$f":"SkillConfig!#REF!","v":{"$error":"#REF!"}},{"$f":"SkillConfig!#REF!","v":{"$error":"#REF!"}},{"$f":"SkillConfig!#REF!","v":{"$error":"#REF!"}}]
[{"$f":"INT(SkillConfig!#REF!)","v":{"$error":"#REF!"}},{"$f":"SkillConfig!#REF!","v":{"$error":"#REF!"}},{"$f":"SkillConfig!#REF!","v":{"$error":"#REF!"}},{"$f":"SkillConfig!#REF!","v":{"$error":"#REF!"}}]
[{"$f":"INT(SkillConfig!#REF!)","v":{"$error":"#REF!"}},{"$f":"SkillConfig!#REF!","v":{"$error":"#REF!"}},{"$f":"SkillConfig!#REF!","v":{"$error":"#REF!"}},{"$f":"SkillConfig!#REF!","v":{"$error":"#REF!"}}]
[{"$f":"INT(SkillConfig!#REF!)","v":{"$error":"#REF!"}},{"$f":"SkillConfig!#REF!","v":{"$error":"#REF!"}},{"$f":"SkillConfig!#REF!","v":{"$error":"#REF!"}},{"$f":"SkillConfig!#REF!","v":{"$error":"#REF!"}}]
[{"$f":"INT(SkillConfig!#REF!)","v":{"$error":"#REF!"}},{"$f":"SkillConfig!#REF!","v":{"$error":"#REF!"}},{"$f":"SkillConfig!#REF!","v":{"$error":"#REF!"}},{"$f":"SkillConfig!#REF!","v":{"$error":"#REF!"}}]
[{"$f":"INT(SkillConfig!#REF!)","v":{"$error":"#REF!"}},{"$f":"SkillConfig!#REF!","v":{"$error":"#REF!"}},{"$f":"SkillConfig!#REF!","v":{"$error":"#REF!"}},{"$f":"SkillConfig!#REF!","v":{"$error":"#REF!"}}]
[{"$f":"INT(SkillConfig!#REF!)","v":{"$error":"#REF!"}},{"$f":"SkillConfig!#REF!","v":{"$error":"#REF!"}},{"$f":"SkillConfig!#REF!","v":{"$error":"#REF!"}},{"$f":"SkillConfig!#REF!","v":{"$error":"#REF!"}}]
[{"$f":"INT(SkillConfig!#REF!)","v":{"$error":"#REF!"}},{"$f":"SkillConfig!#REF!","v":{"$error":"#REF!"}},{"$f":"SkillConfig!#REF!","v":{"$error":"#REF!"}},{"$f":"SkillConfig!#REF!","v":{"$error":"#REF!"}}]
[{"$f":"INT(SkillConfig!#REF!)","v":{"$error":"#REF!"}},{"$f":"SkillConfig!#REF!","v":{"$error":"#REF!"}},{"$f":"SkillConfig!#REF!","v":{"$error":"#REF!"}},{"$f":"SkillConfig!#REF!","v":{"$error":"#REF!"}}]
[{"$f":"INT(SkillConfig!#REF!)","v":{"$error":"#REF!"}},{"$f":"SkillConfig!#REF!","v":{"$error":"#REF!"}},{"$f":"SkillConfig!#REF!","v":{"$error":"#REF!"}},{"$f":"SkillConfig!#REF!","v":{"$error":"#REF!"}}]
[{"$f":"INT(SkillConfig!#REF!)","v":{"$error":"#REF!"}},{"$f":"SkillConfig!#REF!","v":{"$error":"#REF!"}},{"$f":"SkillConfig!#REF!","v":{"$error":"#REF!"}},{"$f":"SkillConfig!#REF!","v":{"$error":"#REF!"}}]
[{"$f":"INT(SkillConfig!#REF!)","v":{"$error":"#REF!"}},{"$f":"SkillConfig!#REF!","v":{"$error":"#REF!"}},{"$f":"SkillConfig!#REF!","v":{"$error":"#REF!"}},{"$f":"SkillConfig!#REF!","v":{"$error":"#REF!"}}]
[{"$f":"INT(SkillConfig!#REF!)","v":{"$error":"#REF!"}},{"$f":"SkillConfig!#REF!","v":{"$error":"#REF!"}},{"$f":"SkillConfig!#REF!","v":{"$error":"#REF!"}},{"$f":"SkillConfig!#REF!","v":{"$error":"#REF!"}}]
[{"$f":"INT(SkillConfig!#REF!)","v":{"$error":"#REF!"}},{"$f":"SkillConfig!#REF!","v":{"$error":"#REF!"}},{"$f":"SkillConfig!#REF!","v":{"$error":"#REF!"}},{"$f":"SkillConfig!#REF!","v":{"$error":"#REF!"}}]
[{"$f":"INT(SkillConfig!#REF!)","v":{"$error":"#REF!"}},{"$f":"SkillConfig!#REF!","v":{"$error":"#REF!"}},{"$f":"SkillConfig!#REF!","v":{"$error":"#REF!"}},{"$f":"SkillConfig!#REF!","v":{"$error":"#REF!"}}]
[{"$f":"INT(SkillConfig!#REF!)","v":{"$error":"#REF!"}},{"$f":"SkillConfig!#REF!","v":{"$error":"#REF!"}},{"$f":"SkillConfig!#REF!","v":{"$error":"#REF!"}},{"$f":"SkillConfig!#REF!","v":{"$error":"#REF!"}}]
[{"$f":"INT(SkillConfig!#REF!)","v":{"$error":"#REF!"}},{"$f":"SkillConfig!#REF!","v":{"$error":"#REF!"}},{"$f":"SkillConfig!#REF!","v":{"$error":"#REF!"}},{"$f":"SkillConfig!#REF!","v":{"$error":"#REF!"}}]
[{"$f":"INT(SkillConfig!#REF!)","v":{"$error":"#REF!"}},{"$f":"SkillConfig!#REF!","v":{"$error":"#REF!"}},{"$f":"SkillConfig!#REF!","v":{"$error":"#REF!"}},{"$f":"SkillConfig!#REF!","v":{"$error":"#REF!"}}]
[{"$f":"INT(SkillConfig!#REF!)","v":{"$error":"#REF!"}},{"$f":"SkillConfig!#REF!","v":{"$error":"#REF!"}},{"$f":"SkillConfig!#REF!","v":{"$error":"#REF!"}},{"$f":"SkillConfig!#REF!","v":{"$error":"#REF!"}}]
[{"$f":"INT(SkillConfig!#REF!)","v":{"$error":"#REF!"}},{"$f":"SkillConfig!#REF!","v":{"$error":"#REF!"}},{"$f":"SkillConfig!#REF!","v":{"$error":"#REF!"}},{"$f":"SkillConfig!#REF!","v":{"$error":"#REF!"}}]
[{"$f":"INT(SkillConfig!#REF!)","v":{"$error":"#REF!"}},{"$f":"SkillConfig!#REF!","v":{"$error":"#REF!"}},{"$f":"SkillConfig!#REF!","v":{"$error":"#REF!"}},{"$f":"SkillConfig!#REF!","v":{"$error":"#REF!"}}]
[{"$f":"INT(SkillConfig!#REF!)","v":{"$error":"#REF!"}},{"$f":"SkillConfig!#REF!","v":{"$error":"#REF!"}},{"$f":"SkillConfig!#REF!","v":{"$error":"#REF!"}},{"$f":"SkillConfig!#REF!","v":{"$error":"#REF!"}}]
[{"$f":"INT(SkillConfig!#REF!)","v":{"$error":"#REF!"}},{"$f":"SkillConfig!#REF!","v":{"$error":"#REF!"}},{"$f":"SkillConfig!#REF!","v":{"$error":"#REF!"}},{"$f":"SkillConfig!#REF!","v":{"$error":"#REF!"}}]
[{"$f":"INT(SkillConfig!#REF!)","v":{"$error":"#REF!"}},{"$f":"SkillConfig!#REF!","v":{"$error":"#REF!"}},{"$f":"SkillConfig!#REF!","v":{"$error":"#REF!"}},{"$f":"SkillConfig!#REF!","v":{"$error":"#REF!"}}]
[{"$f":"INT(SkillConfig!#REF!)","v":{"$error":"#REF!"}},{"$f":"SkillConfig!#REF!","v":{"$error":"#REF!"}},{"$f":"SkillConfig!#REF!","v":{"$error":"#REF!"}},{"$f":"SkillConfig!#REF!","v":{"$error":"#REF!"}}]
[{"$f":"INT(SkillConfig!#REF!)","v":{"$error":"#REF!"}},{"$f":"SkillConfig!#REF!","v":{"$error":"#REF!"}},{"$f":"SkillConfig!#REF!","v":{"$error":"#REF!"}},{"$f":"SkillConfig!#REF!","v":{"$error":"#REF!"}}]
[{"$f":"INT(SkillConfig!#REF!)","v":{"$error":"#REF!"}},{"$f":"SkillConfig!#REF!","v":{"$error":"#REF!"}},{"$f":"SkillConfig!#REF!","v":{"$error":"#REF!"}},{"$f":"SkillConfig!#REF!","v":{"$error":"#REF!"}}]
[{"$f":"INT(SkillConfig!#REF!)","v":{"$error":"#REF!"}},{"$f":"SkillConfig!#REF!","v":{"$error":"#REF!"}},{"$f":"SkillConfig!#REF!","v":{"$error":"#REF!"}},{"$f":"SkillConfig!#REF!","v":{"$error":"#REF!"}}]
[{"$f":"INT(SkillConfig!#REF!)","v":{"$error":"#REF!"}},{"$f":"SkillConfig!#REF!","v":{"$error":"#REF!"}},{"$f":"SkillConfig!#REF!","v":{"$error":"#REF!"}},{"$f":"SkillConfig!#REF!","v":{"$error":"#REF!"}}]
[{"$f":"INT(SkillConfig!#REF!)","v":{"$error":"#REF!"}},{"$f":"SkillConfig!#REF!","v":{"$error":"#REF!"}},{"$f":"SkillConfig!#REF!","v":{"$error":"#REF!"}},{"$f":"SkillConfig!#REF!","v":{"$error":"#REF!"}}]
[{"$f":"INT(SkillConfig!#REF!)","v":{"$error":"#REF!"}},{"$f":"SkillConfig!#REF!","v":{"$error":"#REF!"}},{"$f":"SkillConfig!#REF!","v":{"$error":"#REF!"}},{"$f":"SkillConfig!#REF!","v":{"$error":"#REF!"}}]
[{"$f":"INT(SkillConfig!#REF!)","v":{"$error":"#REF!"}},{"$f":"SkillConfig!#REF!","v":{"$error":"#REF!"}},{"$f":"SkillConfig!#REF!","v":{"$error":"#REF!"}},{"$f":"SkillConfig!#REF!","v":{"$error":"#REF!"}}]
[{"$f":"INT(SkillConfig!#REF!)","v":{"$error":"#REF!"}},{"$f":"SkillConfig!#REF!","v":{"$error":"#REF!"}},{"$f":"SkillConfig!#REF!","v":{"$error":"#REF!"}},{"$f":"SkillConfig!#REF!","v":{"$error":"#REF!"}}]
[{"$f":"INT(SkillConfig!#REF!)","v":{"$error":"#REF!"}},{"$f":"SkillConfig!#REF!","v":{"$error":"#REF!"}},{"$f":"SkillConfig!#REF!","v":{"$error":"#REF!"}},{"$f":"SkillConfig!#REF!","v":{"$error":"#REF!"}}]
[{"$f":"INT(SkillConfig!#REF!)","v":{"$error":"#REF!"}},{"$f":"SkillConfig!#REF!","v":{"$error":"#REF!"}},{"$f":"SkillConfig!#REF!","v":{"$error":"#REF!"}},{"$f":"SkillConfig!#REF!","v":{"$error":"#REF!"}}]
[{"$f":"INT(SkillConfig!#REF!)","v":{"$error":"#REF!"}},{"$f":"SkillConfig!#REF!","v":{"$error":"#REF!"}},{"$f":"SkillConfig!#REF!","v":{"$error":"#REF!"}},{"$f":"SkillConfig!#REF!","v":{"$error":"#REF!"}}]
[{"$f":"INT(SkillConfig!#REF!)","v":{"$error":"#REF!"}},{"$f":"SkillConfig!#REF!","v":{"$error":"#REF!"}},{"$f":"SkillConfig!#REF!","v":{"$error":"#REF!"}},{"$f":"SkillConfig!#REF!","v":{"$error":"#REF!"}}]
[{"$f":"INT(SkillConfig!#REF!)","v":{"$error":"#REF!"}},{"$f":"SkillConfig!#REF!","v":{"$error":"#REF!"}},{"$f":"SkillConfig!#REF!","v":{"$error":"#REF!"}},{"$f":"SkillConfig!#REF!","v":{"$error":"#REF!"}}]
[{"$f":"INT(SkillConfig!#REF!)","v":{"$error":"#REF!"}},{"$f":"SkillConfig!#REF!","v":{"$error":"#REF!"}},{"$f":"SkillConfig!#REF!","v":{"$error":"#REF!"}},{"$f":"SkillConfig!#REF!","v":{"$error":"#REF!"}}]
[{"$f":"INT(SkillConfig!#REF!)","v":{"$error":"#REF!"}},{"$f":"SkillConfig!#REF!","v":{"$error":"#REF!"}},{"$f":"SkillConfig!#REF!","v":{"$error":"#REF!"}},{"$f":"SkillConfig!#REF!","v":{"$error":"#REF!"}}]
[{"$f":"INT(SkillConfig!#REF!)","v":{"$error":"#REF!"}},{"$f":"SkillConfig!#REF!","v":{"$error":"#REF!"}},{"$f":"SkillConfig!#REF!","v":{"$error":"#REF!"}},{"$f":"SkillConfig!#REF!","v":{"$error":"#REF!"}}]
[{"$f":"INT(SkillConfig!#REF!)","v":{"$error":"#REF!"}},{"$f":"SkillConfig!#REF!","v":{"$error":"#REF!"}},{"$f":"SkillConfig!#REF!","v":{"$error":"#REF!"}},{"$f":"SkillConfig!#REF!","v":{"$error":"#REF!"}}]
[{"$f":"INT(SkillConfig!#REF!)","v":{"$error":"#REF!"}},{"$f":"SkillConfig!#REF!","v":{"$error":"#REF!"}},{"$f":"SkillConfig!#REF!","v":{"$error":"#REF!"}},{"$f":"SkillConfig!#REF!","v":{"$error":"#REF!"}}]
[{"$f":"INT(SkillConfig!#REF!)","v":{"$error":"#REF!"}},{"$f":"SkillConfig!#REF!","v":{"$error":"#REF!"}},{"$f":"SkillConfig!#REF!","v":{"$error":"#REF!"}},{"$f":"SkillConfig!#REF!","v":{"$error":"#REF!"}}]
[{"$f":"INT(SkillConfig!#REF!)","v":{"$error":"#REF!"}},{"$f":"SkillConfig!#REF!","v":{"$error":"#REF!"}},{"$f":"SkillConfig!#REF!","v":{"$error":"#REF!"}},{"$f":"SkillConfig!#REF!","v":{"$error":"#REF!"}}]
[{"$f":"INT(SkillConfig!#REF!)","v":{"$error":"#REF!"}},{"$f":"SkillConfig!#REF!","v":{"$error":"#REF!"}},{"$f":"SkillConfig!#REF!","v":{"$error":"#REF!"}},{"$f":"SkillConfig!#REF!","v":{"$error":"#REF!"}}]
[{"$f":"INT(SkillConfig!#REF!)","v":{"$error":"#REF!"}},{"$f":"SkillConfig!#REF!","v":{"$error":"#REF!"}},{"$f":"SkillConfig!#REF!","v":{"$error":"#REF!"}},{"$f":"SkillConfig!#REF!","v":{"$error":"#REF!"}}]
[{"$f":"INT(SkillConfig!#REF!)","v":{"$error":"#REF!"}},{"$f":"SkillConfig!#REF!","v":{"$error":"#REF!"}},{"$f":"SkillConfig!#REF!","v":{"$error":"#REF!"}},{"$f":"SkillConfig!#REF!","v":{"$error":"#REF!"}}]
[{"$f":"INT(SkillConfig!#REF!)","v":{"$error":"#REF!"}},{"$f":"SkillConfig!#REF!","v":{"$error":"#REF!"}},{"$f":"SkillConfig!#REF!","v":{"$error":"#REF!"}},{"$f":"SkillConfig!#REF!","v":{"$error":"#REF!"}}]
[{"$f":"INT(SkillConfig!#REF!)","v":{"$error":"#REF!"}},{"$f":"SkillConfig!#REF!","v":{"$error":"#REF!"}},{"$f":"SkillConfig!#REF!","v":{"$error":"#REF!"}},{"$f":"SkillConfig!#REF!","v":{"$error":"#REF!"}}]
[{"$f":"INT(SkillConfig!#REF!)","v":{"$error":"#REF!"}},{"$f":"SkillConfig!#REF!","v":{"$error":"#REF!"}},{"$f":"SkillConfig!#REF!","v":{"$error":"#REF!"}},{"$f":"SkillConfig!#REF!","v":{"$error":"#REF!"}}]
[{"$f":"INT(SkillConfig!#REF!)","v":{"$error":"#REF!"}},{"$f":"SkillConfig!#REF!","v":{"$error":"#REF!"}},{"$f":"SkillConfig!#REF!","v":{"$error":"#REF!"}},{"$f":"SkillConfig!#REF!","v":{"$error":"#REF!"}}]
[{"$f":"INT(SkillConfig!#REF!)","v":{"$error":"#REF!"}},{"$f":"SkillConfig!#REF!","v":{"$error":"#REF!"}},{"$f":"SkillConfig!#REF!","v":{"$error":"#REF!"}},{"$f":"SkillConfig!#REF!","v":{"$error":"#REF!"}}]
[{"$f":"INT(SkillConfig!#REF!)","v":{"$error":"#REF!"}},{"$f":"SkillConfig!#REF!","v":{"$error":"#REF!"}},{"$f":"SkillConfig!#REF!","v":{"$error":"#REF!"}},{"$f":"SkillConfig!#REF!","v":{"$error":"#REF!"}}]
[{"$f":"INT(SkillConfig!#REF!)","v":{"$error":"#REF!"}},{"$f":"SkillConfig!#REF!","v":{"$error":"#REF!"}},{"$f":"SkillConfig!#REF!","v":{"$error":"#REF!"}},{"$f":"SkillConfig!#REF!","v":{"$error":"#REF!"}}]
[{"$f":"INT(SkillConfig!#REF!)","v":{"$error":"#REF!"}},{"$f":"SkillConfig!#REF!","v":{"$error":"#REF!"}},{"$f":"SkillConfig!#REF!","v":{"$error":"#REF!"}},{"$f":"SkillConfig!#REF!","v":{"$error":"#REF!"}}]
[{"$f":"INT(SkillConfig!#REF!)","v":{"$error":"#REF!"}},{"$f":"SkillConfig!#REF!","v":{"$error":"#REF!"}},{"$f":"SkillConfig!#REF!","v":{"$error":"#REF!"}},{"$f":"SkillConfig!#REF!","v":{"$error":"#REF!"}}]
[{"$f":"INT(SkillConfig!#REF!)","v":{"$error":"#REF!"}},{"$f":"SkillConfig!#REF!","v":{"$error":"#REF!"}},{"$f":"SkillConfig!#REF!","v":{"$error":"#REF!"}},{"$f":"SkillConfig!#REF!","v":{"$error":"#REF!"}}]
[{"$f":"INT(SkillConfig!#REF!)","v":{"$error":"#REF!"}},{"$f":"SkillConfig!#REF!","v":{"$error":"#REF!"}},{"$f":"SkillConfig!#REF!","v":{"$error":"#REF!"}},{"$f":"SkillConfig!#REF!","v":{"$error":"#REF!"}}]
[{"$f":"INT(SkillConfig!#REF!)","v":{"$error":"#REF!"}},{"$f":"SkillConfig!#REF!","v":{"$error":"#REF!"}},{"$f":"SkillConfig!#REF!","v":{"$error":"#REF!"}},{"$f":"SkillConfig!#REF!","v":{"$error":"#REF!"}}]
[{"$f":"INT(SkillConfig!#REF!)","v":{"$error":"#REF!"}},{"$f":"SkillConfig!#REF!","v":{"$error":"#REF!"}},{"$f":"SkillConfig!#REF!","v":{"$error":"#REF!"}},{"$f":"SkillConfig!#REF!","v":{"$error":"#REF!"}}]
[{"$f":"INT(SkillConfig!#REF!)","v":{"$error":"#REF!"}},{"$f":"SkillConfig!#REF!","v":{"$error":"#REF!"}},{"$f":"SkillConfig!#REF!","v":{"$error":"#REF!"}},{"$f":"SkillConfig!#REF!","v":{"$error":"#REF!"}}]
[{"$f":"INT(SkillConfig!#REF!)","v":{"$error":"#REF!"}},{"$f":"SkillConfig!#REF!","v":{"$error":"#REF!"}},{"$f":"SkillConfig!#REF!","v":{"$error":"#REF!"}},{"$f":"SkillConfig!#REF!","v":{"$error":"#REF!"}}]
[{"$f":"INT(SkillConfig!#REF!)","v":{"$error":"#REF!"}},{"$f":"SkillConfig!#REF!","v":{"$error":"#REF!"}},{"$f":"SkillConfig!#REF!","v":{"$error":"#REF!"}},{"$f":"SkillConfig!#REF!","v":{"$error":"#REF!"}}]
[{"$f":"INT(SkillConfig!#REF!)","v":{"$error":"#REF!"}},{"$f":"SkillConfig!#REF!","v":{"$error":"#REF!"}},{"$f":"SkillConfig!#REF!","v":{"$error":"#REF!"}},{"$f":"SkillConfig!#REF!","v":{"$error":"#REF!"}}]
[{"$f":"INT(SkillConfig!#REF!)","v":{"$error":"#REF!"}},{"$f":"SkillConfig!#REF!","v":{"$error":"#REF!"}},{"$f":"SkillConfig!#REF!","v":{"$error":"#REF!"}},{"$f":"SkillConfig!#REF!","v":{"$error":"#REF!"}}]
[{"$f":"INT(SkillConfig!#REF!)","v":{"$error":"#REF!"}},{"$f":"SkillConfig!#REF!","v":{"$error":"#REF!"}},{"$f":"SkillConfig!#REF!","v":{"$error":"#REF!"}},{"$f":"SkillConfig!#REF!","v":{"$error":"#REF!"}}]
[{"$f":"INT(SkillConfig!#REF!)","v":{"$error":"#REF!"}},{"$f":"SkillConfig!#REF!","v":{"$error":"#REF!"}},{"$f":"SkillConfig!#REF!","v":{"$error":"#REF!"}},{"$f":"SkillConfig!#REF!","v":{"$error":"#REF!"}}]
[{"$f":"INT(SkillConfig!#REF!)","v":{"$error":"#REF!"}},{"$f":"SkillConfig!#REF!","v":{"$error":"#REF!"}},{"$f":"SkillConfig!#REF!","v":{"$error":"#REF!"}},{"$f":"SkillConfig!#REF!","v":{"$error":"#REF!"}}]
[{"$f":"INT(SkillConfig!#REF!)","v":{"$error":"#REF!"}},{"$f":"SkillConfig!#REF!","v":{"$error":"#REF!"}},{"$f":"SkillConfig!#REF!","v":{"$error":"#REF!"}},{"$f":"SkillConfig!#REF!","v":{"$error":"#REF!"}}]
[{"$f":"INT(SkillConfig!#REF!)","v":{"$error":"#REF!"}},{"$f":"SkillConfig!#REF!","v":{"$error":"#REF!"}},{"$f":"SkillConfig!#REF!","v":{"$error":"#REF!"}},{"$f":"SkillConfig!#REF!","v":{"$error":"#REF!"}}]
[{"$f":"INT(SkillConfig!#REF!)","v":{"$error":"#REF!"}},{"$f":"SkillConfig!#REF!","v":{"$error":"#REF!"}},{"$f":"SkillConfig!#REF!","v":{"$error":"#REF!"}},{"$f":"SkillConfig!#REF!","v":{"$error":"#REF!"}}]
[{"$f":"INT(SkillConfig!#REF!)","v":{"$error":"#REF!"}},{"$f":"SkillConfig!#REF!","v":{"$error":"#REF!"}},{"$f":"SkillConfig!#REF!","v":{"$error":"#REF!"}},{"$f":"SkillConfig!#REF!","v":{"$error":"#REF!"}}]
[{"$f":"INT(SkillConfig!#REF!)","v":{"$error":"#REF!"}},{"$f":"SkillConfig!#REF!","v":{"$error":"#REF!"}},{"$f":"SkillConfig!#REF!","v":{"$error":"#REF!"}},{"$f":"SkillConfig!#REF!","v":{"$error":"#REF!"}}]
[{"$f":"INT(SkillConfig!#REF!)","v":{"$error":"#REF!"}},{"$f":"SkillConfig!#REF!","v":{"$error":"#REF!"}},{"$f":"SkillConfig!#REF!","v":{"$error":"#REF!"}},{"$f":"SkillConfig!#REF!","v":{"$error":"#REF!"}}]
[{"$f":"INT(SkillConfig!#REF!)","v":{"$error":"#REF!"}},{"$f":"SkillConfig!#REF!","v":{"$error":"#REF!"}},{"$f":"SkillConfig!#REF!","v":{"$error":"#REF!"}},{"$f":"SkillConfig!#REF!","v":{"$error":"#REF!"}}]
[{"$f":"INT(SkillConfig!#REF!)","v":{"$error":"#REF!"}},{"$f":"SkillConfig!#REF!","v":{"$error":"#REF!"}},{"$f":"SkillConfig!#REF!","v":{"$error":"#REF!"}},{"$f":"SkillConfig!#REF!","v":{"$error":"#REF!"}}]
[{"$f":"INT(SkillConfig!#REF!)","v":{"$error":"#REF!"}},{"$f":"SkillConfig!#REF!","v":{"$error":"#REF!"}},{"$f":"SkillConfig!#REF!","v":{"$error":"#REF!"}},{"$f":"SkillConfig!#REF!","v":{"$error":"#REF!"}}]
[{"$f":"INT(SkillConfig!#REF!)","v":{"$error":"#REF!"}},{"$f":"SkillConfig!#REF!","v":{"$error":"#REF!"}},{"$f":"SkillConfig!#REF!","v":{"$error":"#REF!"}},{"$f":"SkillConfig!#REF!","v":{"$error":"#REF!"}}]
[{"$f":"INT(SkillConfig!#REF!)","v":{"$error":"#REF!"}},{"$f":"SkillConfig!#REF!","v":{"$error":"#REF!"}},{"$f":"SkillConfig!#REF!","v":{"$error":"#REF!"}},{"$f":"SkillConfig!#REF!","v":{"$error":"#REF!"}}]
[{"$f":"INT(SkillConfig!#REF!)","v":{"$error":"#REF!"}},{"$f":"SkillConfig!#REF!","v":{"$error":"#REF!"}},{"$f":"SkillConfig!#REF!","v":{"$error":"#REF!"}},{"$f":"SkillConfig!#REF!","v":{"$error":"#REF!"}}]
[{"$f":"INT(SkillConfig!#REF!)","v":{"$error":"#REF!"}},{"$f":"SkillConfig!#REF!","v":{"$error":"#REF!"}},{"$f":"SkillConfig!#REF!","v":{"$error":"#REF!"}},{"$f":"SkillConfig!#REF!","v":{"$error":"#REF!"}}]
[{"$f":"INT(SkillConfig!#REF!)","v":{"$error":"#REF!"}},{"$f":"SkillConfig!#REF!","v":{"$error":"#REF!"}},{"$f":"SkillConfig!#REF!","v":{"$error":"#REF!"}},{"$f":"SkillConfig!#REF!","v":{"$error":"#REF!"}}]
[{"$f":"INT(SkillConfig!#REF!)","v":{"$error":"#REF!"}},{"$f":"SkillConfig!#REF!","v":{"$error":"#REF!"}},{"$f":"SkillConfig!#REF!","v":{"$error":"#REF!"}},{"$f":"SkillConfig!#REF!","v":{"$error":"#REF!"}}]
[{"$f":"INT(SkillConfig!#REF!)","v":{"$error":"#REF!"}},{"$f":"SkillConfig!#REF!","v":{"$error":"#REF!"}},{"$f":"SkillConfig!#REF!","v":{"$error":"#REF!"}},{"$f":"SkillConfig!#REF!","v":{"$error":"#REF!"}}]
[{"$f":"INT(SkillConfig!#REF!)","v":{"$error":"#REF!"}},{"$f":"SkillConfig!#REF!","v":{"$error":"#REF!"}},{"$f":"SkillConfig!#REF!","v":{"$error":"#REF!"}},{"$f":"SkillConfig!#REF!","v":{"$error":"#REF!"}}]
[{"$f":"INT(SkillConfig!#REF!)","v":{"$error":"#REF!"}},{"$f":"SkillConfig!#REF!","v":{"$error":"#REF!"}},{"$f":"SkillConfig!#REF!","v":{"$error":"#REF!"}},{"$f":"SkillConfig!#REF!","v":{"$error":"#REF!"}}]
[{"$f":"INT(SkillConfig!#REF!)","v":{"$error":"#REF!"}},{"$f":"SkillConfig!#REF!","v":{"$error":"#REF!"}},{"$f":"SkillConfig!#REF!","v":{"$error":"#REF!"}},{"$f":"SkillConfig!#REF!","v":{"$error":"#REF!"}}]
[{"$f":"INT(SkillConfig!#REF!)","v":{"$error":"#REF!"}},{"$f":"SkillConfig!#REF!","v":{"$error":"#REF!"}},{"$f":"SkillConfig!#REF!","v":{"$error":"#REF!"}},{"$f":"SkillConfig!#REF!","v":{"$error":"#REF!"}}]
[{"$f":"INT(SkillConfig!#REF!)","v":{"$error":"#REF!"}},{"$f":"SkillConfig!#REF!","v":{"$error":"#REF!"}},{"$f":"SkillConfig!#REF!","v":{"$error":"#REF!"}},{"$f":"SkillConfig!#REF!","v":{"$error":"#REF!"}}]
[{"$f":"INT(SkillConfig!#REF!)","v":{"$error":"#REF!"}},{"$f":"SkillConfig!#REF!","v":{"$error":"#REF!"}},{"$f":"SkillConfig!#REF!","v":{"$error":"#REF!"}},{"$f":"SkillConfig!#REF!","v":{"$error":"#REF!"}}]
[{"$f":"INT(SkillConfig!#REF!)","v":{"$error":"#REF!"}},{"$f":"SkillConfig!#REF!","v":{"$error":"#REF!"}},{"$f":"SkillConfig!#REF!","v":{"$error":"#REF!"}},{"$f":"SkillConfig!#REF!","v":{"$error":"#REF!"}}]
[{"$f":"INT(SkillConfig!#REF!)","v":{"$error":"#REF!"}},{"$f":"SkillConfig!#REF!","v":{"$error":"#REF!"}},{"$f":"SkillConfig!#REF!","v":{"$error":"#REF!"}},{"$f":"SkillConfig!#REF!","v":{"$error":"#REF!"}}]
[{"$f":"INT(SkillConfig!#REF!)","v":{"$error":"#REF!"}},{"$f":"SkillConfig!#REF!","v":{"$error":"#REF!"}},{"$f":"SkillConfig!#REF!","v":{"$error":"#REF!"}},{"$f":"SkillConfig!#REF!","v":{"$error":"#REF!"}}]
[{"$f":"INT(SkillConfig!#REF!)","v":{"$error":"#REF!"}},{"$f":"SkillConfig!#REF!","v":{"$error":"#REF!"}},{"$f":"SkillConfig!#REF!","v":{"$error":"#REF!"}},{"$f":"SkillConfig!#REF!","v":{"$error":"#REF!"}}]
[{"$f":"INT(SkillConfig!#REF!)","v":{"$error":"#REF!"}},{"$f":"SkillConfig!#REF!","v":{"$error":"#REF!"}},{"$f":"SkillConfig!#REF!","v":{"$error":"#REF!"}},{"$f":"SkillConfig!#REF!","v":{"$error":"#REF!"}}]
[{"$f":"INT(SkillConfig!#REF!)","v":{"$error":"#REF!"}},{"$f":"SkillConfig!#REF!","v":{"$error":"#REF!"}},{"$f":"SkillConfig!#REF!","v":{"$error":"#REF!"}},{"$f":"SkillConfig!#REF!","v":{"$error":"#REF!"}}]
[{"$f":"INT(SkillConfig!#REF!)","v":{"$error":"#REF!"}},{"$f":"SkillConfig!#REF!","v":{"$error":"#REF!"}},{"$f":"SkillConfig!#REF!","v":{"$error":"#REF!"}},{"$f":"SkillConfig!#REF!","v":{"$error":"#REF!"}}]
[{"$f":"INT(SkillConfig!#REF!)","v":{"$error":"#REF!"}},{"$f":"SkillConfig!#REF!","v":{"$error":"#REF!"}},{"$f":"SkillConfig!#REF!","v":{"$error":"#REF!"}},{"$f":"SkillConfig!#REF!","v":{"$error":"#REF!"}}]
[{"$f":"INT(SkillConfig!#REF!)","v":{"$error":"#REF!"}},{"$f":"SkillConfig!#REF!","v":{"$error":"#REF!"}},{"$f":"SkillConfig!#REF!","v":{"$error":"#REF!"}},{"$f":"SkillConfig!#REF!","v":{"$error":"#REF!"}}]
[{"$f":"INT(SkillConfig!#REF!)","v":{"$error":"#REF!"}},{"$f":"SkillConfig!#REF!","v":{"$error":"#REF!"}},{"$f":"SkillConfig!#REF!","v":{"$error":"#REF!"}},{"$f":"SkillConfig!#REF!","v":{"$error":"#REF!"}}]
[{"$f":"INT(SkillConfig!#REF!)","v":{"$error":"#REF!"}},{"$f":"SkillConfig!#REF!","v":{"$error":"#REF!"}},{"$f":"SkillConfig!#REF!","v":{"$error":"#REF!"}},{"$f":"SkillConfig!#REF!","v":{"$error":"#REF!"}}]
[{"$f":"INT(SkillConfig!#REF!)","v":{"$error":"#REF!"}},{"$f":"SkillConfig!#REF!","v":{"$error":"#REF!"}},{"$f":"SkillConfig!#REF!","v":{"$error":"#REF!"}},{"$f":"SkillConfig!#REF!","v":{"$error":"#REF!"}}]
[{"$f":"INT(SkillConfig!#REF!)","v":{"$error":"#REF!"}},{"$f":"SkillConfig!#REF!","v":{"$error":"#REF!"}},{"$f":"SkillConfig!#REF!","v":{"$error":"#REF!"}},{"$f":"SkillConfig!#REF!","v":{"$error":"#REF!"}}]
[{"$f":"INT(SkillConfig!#REF!)","v":{"$error":"#REF!"}},{"$f":"SkillConfig!#REF!","v":{"$error":"#REF!"}},{"$f":"SkillConfig!#REF!","v":{"$error":"#REF!"}},{"$f":"SkillConfig!#REF!","v":{"$error":"#REF!"}}]
[{"$f":"INT(SkillConfig!#REF!)","v":{"$error":"#REF!"}},{"$f":"SkillConfig!#REF!","v":{"$error":"#REF!"}},{"$f":"SkillConfig!#REF!","v":{"$error":"#REF!"}},{"$f":"SkillConfig!#REF!","v":{"$error":"#REF!"}}]
[{"$f":"INT(SkillConfig!#REF!)","v":{"$error":"#REF!"}},{"$f":"SkillConfig!#REF!","v":{"$error":"#REF!"}},{"$f":"SkillConfig!#REF!","v":{"$error":"#REF!"}},{"$f":"SkillConfig!#REF!","v":{"$error":"#REF!"}}]
[{"$f":"INT(SkillConfig!#REF!)","v":{"$error":"#REF!"}},{"$f":"SkillConfig!#REF!","v":{"$error":"#REF!"}},{"$f":"SkillConfig!#REF!","v":{"$error":"#REF!"}},{"$f":"SkillConfig!#REF!","v":{"$error":"#REF!"}}]
[{"$f":"INT(SkillConfig!#REF!)","v":{"$error":"#REF!"}},{"$f":"SkillConfig!#REF!","v":{"$error":"#REF!"}},{"$f":"SkillConfig!#REF!","v":{"$error":"#REF!"}},{"$f":"SkillConfig!#REF!","v":{"$error":"#REF!"}}]
[{"$f":"INT(SkillConfig!#REF!)","v":{"$error":"#REF!"}},{"$f":"SkillConfig!#REF!","v":{"$error":"#REF!"}},{"$f":"SkillConfig!#REF!","v":{"$error":"#REF!"}},{"$f":"SkillConfig!#REF!","v":{"$error":"#REF!"}}]
[{"$f":"INT(SkillConfig!#REF!)","v":{"$error":"#REF!"}},{"$f":"SkillConfig!#REF!","v":{"$error":"#REF!"}},{"$f":"SkillConfig!#REF!","v":{"$error":"#REF!"}},{"$f":"SkillConfig!#REF!","v":{"$error":"#REF!"}}]
[{"$f":"INT(SkillConfig!#REF!)","v":{"$error":"#REF!"}},{"$f":"SkillConfig!#REF!","v":{"$error":"#REF!"}},{"$f":"SkillConfig!#REF!","v":{"$error":"#REF!"}},{"$f":"SkillConfig!#REF!","v":{"$error":"#REF!"}}]
[{"$f":"INT(SkillConfig!#REF!)","v":{"$error":"#REF!"}},{"$f":"SkillConfig!#REF!","v":{"$error":"#REF!"}},{"$f":"SkillConfig!#REF!","v":{"$error":"#REF!"}},{"$f":"SkillConfig!#REF!","v":{"$error":"#REF!"}}]
[{"$f":"INT(SkillConfig!#REF!)","v":{"$error":"#REF!"}},{"$f":"SkillConfig!#REF!","v":{"$error":"#REF!"}},{"$f":"SkillConfig!#REF!","v":{"$error":"#REF!"}},{"$f":"SkillConfig!#REF!","v":{"$error":"#REF!"}}]
[{"$f":"INT(SkillConfig!#REF!)","v":{"$error":"#REF!"}},{"$f":"SkillConfig!#REF!","v":{"$error":"#REF!"}},{"$f":"SkillConfig!#REF!","v":{"$error":"#REF!"}},{"$f":"SkillConfig!#REF!","v":{"$error":"#REF!"}}]
[{"$f":"INT(SkillConfig!#REF!)","v":{"$error":"#REF!"}},{"$f":"SkillConfig!#REF!","v":{"$error":"#REF!"}},{"$f":"SkillConfig!#REF!","v":{"$error":"#REF!"}},{"$f":"SkillConfig!#REF!","v":{"$error":"#REF!"}}]
[{"$f":"INT(SkillConfig!#REF!)","v":{"$error":"#REF!"}},{"$f":"SkillConfig!#REF!","v":{"$error":"#REF!"}},{"$f":"SkillConfig!#REF!","v":{"$error":"#REF!"}},{"$f":"SkillConfig!#REF!","v":{"$error":"#REF!"}}]
[{"$f":"INT(SkillConfig!#REF!)","v":{"$error":"#REF!"}},{"$f":"SkillConfig!#REF!","v":{"$error":"#REF!"}},{"$f":"SkillConfig!#REF!","v":{"$error":"#REF!"}},{"$f":"SkillConfig!#REF!","v":{"$error":"#REF!"}}]
[{"$f":"INT(SkillConfig!#REF!)","v":{"$error":"#REF!"}},{"$f":"SkillConfig!#REF!","v":{"$error":"#REF!"}},{"$f":"SkillConfig!#REF!","v":{"$error":"#REF!"}},{"$f":"SkillConfig!#REF!","v":{"$error":"#REF!"}}]
[{"$f":"INT(SkillConfig!#REF!)","v":{"$error":"#REF!"}},{"$f":"SkillConfig!#REF!","v":{"$error":"#REF!"}},{"$f":"SkillConfig!#REF!","v":{"$error":"#REF!"}},{"$f":"SkillConfig!#REF!","v":{"$error":"#REF!"}}]
[{"$f":"INT(SkillConfig!#REF!)","v":{"$error":"#REF!"}},{"$f":"SkillConfig!#REF!","v":{"$error":"#REF!"}},{"$f":"SkillConfig!#REF!","v":{"$error":"#REF!"}},{"$f":"SkillConfig!#REF!","v":{"$error":"#REF!"}}]
[{"$f":"INT(SkillConfig!#REF!)","v":{"$error":"#REF!"}},{"$f":"SkillConfig!#REF!","v":{"$error":"#REF!"}},{"$f":"SkillConfig!#REF!","v":{"$error":"#REF!"}},{"$f":"SkillConfig!#REF!","v":{"$error":"#REF!"}}]
[{"$f":"INT(SkillConfig!#REF!)","v":{"$error":"#REF!"}},{"$f":"SkillConfig!#REF!","v":{"$error":"#REF!"}},{"$f":"SkillConfig!#REF!","v":{"$error":"#REF!"}},{"$f":"SkillConfig!#REF!","v":{"$error":"#REF!"}}]
[{"$f":"INT(SkillConfig!#REF!)","v":{"$error":"#REF!"}},{"$f":"SkillConfig!#REF!","v":{"$error":"#REF!"}},{"$f":"SkillConfig!#REF!","v":{"$error":"#REF!"}},{"$f":"SkillConfig!#REF!","v":{"$error":"#REF!"}}]
[{"$f":"INT(SkillConfig!#REF!)","v":{"$error":"#REF!"}},{"$f":"SkillConfig!#REF!","v":{"$error":"#REF!"}},{"$f":"SkillConfig!#REF!","v":{"$error":"#REF!"}},{"$f":"SkillConfig!#REF!","v":{"$error":"#REF!"}}]
[{"$f":"INT(SkillConfig!#REF!)","v":{"$error":"#REF!"}},{"$f":"SkillConfig!#REF!","v":{"$error":"#REF!"}},{"$f":"SkillConfig!#REF!","v":{"$error":"#REF!"}},{"$f":"SkillConfig!#REF!","v":{"$error":"#REF!"}}]
[{"$f":"INT(SkillConfig!#REF!)","v":{"$error":"#REF!"}},{"$f":"SkillConfig!#REF!","v":{"$error":"#REF!"}},{"$f":"SkillConfig!#REF!","v":{"$error":"#REF!"}},{"$f":"SkillConfig!#REF!","v":{"$error":"#REF!"}}]
[{"$f":"INT(SkillConfig!#REF!)","v":{"$error":"#REF!"}},{"$f":"SkillConfig!#REF!","v":{"$error":"#REF!"}},{"$f":"SkillConfig!#REF!","v":{"$error":"#REF!"}},{"$f":"SkillConfig!#REF!","v":{"$error":"#REF!"}}]
[{"$f":"INT(SkillConfig!#REF!)","v":{"$error":"#REF!"}},{"$f":"SkillConfig!#REF!","v":{"$error":"#REF!"}},{"$f":"SkillConfig!#REF!","v":{"$error":"#REF!"}},{"$f":"SkillConfig!#REF!","v":{"$error":"#REF!"}}]
[{"$f":"INT(SkillConfig!#REF!)","v":{"$error":"#REF!"}},{"$f":"SkillConfig!#REF!","v":{"$error":"#REF!"}},{"$f":"SkillConfig!#REF!","v":{"$error":"#REF!"}},{"$f":"SkillConfig!#REF!","v":{"$error":"#REF!"}}]
[{"$f":"INT(SkillConfig!#REF!)","v":{"$error":"#REF!"}},{"$f":"SkillConfig!#REF!","v":{"$error":"#REF!"}},{"$f":"SkillConfig!#REF!","v":{"$error":"#REF!"}},{"$f":"SkillConfig!#REF!","v":{"$error":"#REF!"}}]
[{"$f":"INT(SkillConfig!#REF!)","v":{"$error":"#REF!"}},{"$f":"SkillConfig!#REF!","v":{"$error":"#REF!"}},{"$f":"SkillConfig!#REF!","v":{"$error":"#REF!"}},{"$f":"SkillConfig!#REF!","v":{"$error":"#REF!"}}]
[{"$f":"INT(SkillConfig!#REF!)","v":{"$error":"#REF!"}},{"$f":"SkillConfig!#REF!","v":{"$error":"#REF!"}},{"$f":"SkillConfig!#REF!","v":{"$error":"#REF!"}},{"$f":"SkillConfig!#REF!","v":{"$error":"#REF!"}}]
[{"$f":"INT(SkillConfig!#REF!)","v":{"$error":"#REF!"}},{"$f":"SkillConfig!#REF!","v":{"$error":"#REF!"}},{"$f":"SkillConfig!#REF!","v":{"$error":"#REF!"}},{"$f":"SkillConfig!#REF!","v":{"$error":"#REF!"}}]
[{"$f":"INT(SkillConfig!#REF!)","v":{"$error":"#REF!"}},{"$f":"SkillConfig!#REF!","v":{"$error":"#REF!"}},{"$f":"SkillConfig!#REF!","v":{"$error":"#REF!"}},{"$f":"SkillConfig!#REF!","v":{"$error":"#REF!"}}]
[{"$f":"INT(SkillConfig!#REF!)","v":{"$error":"#REF!"}},{"$f":"SkillConfig!#REF!","v":{"$error":"#REF!"}},{"$f":"SkillConfig!#REF!","v":{"$error":"#REF!"}},{"$f":"SkillConfig!#REF!","v":{"$error":"#REF!"}}]
[{"$f":"INT(SkillConfig!#REF!)","v":{"$error":"#REF!"}},{"$f":"SkillConfig!#REF!","v":{"$error":"#REF!"}},{"$f":"SkillConfig!#REF!","v":{"$error":"#REF!"}},{"$f":"SkillConfig!#REF!","v":{"$error":"#REF!"}}]
[{"$f":"INT(SkillConfig!#REF!)","v":{"$error":"#REF!"}},{"$f":"SkillConfig!#REF!","v":{"$error":"#REF!"}},{"$f":"SkillConfig!#REF!","v":{"$error":"#REF!"}},{"$f":"SkillConfig!#REF!","v":{"$error":"#REF!"}}]
[{"$f":"INT(SkillConfig!#REF!)","v":{"$error":"#REF!"}},{"$f":"SkillConfig!#REF!","v":{"$error":"#REF!"}},{"$f":"SkillConfig!#REF!","v":{"$error":"#REF!"}},{"$f":"SkillConfig!#REF!","v":{"$error":"#REF!"}}]
[{"$f":"INT(SkillConfig!#REF!)","v":{"$error":"#REF!"}},{"$f":"SkillConfig!#REF!","v":{"$error":"#REF!"}},{"$f":"SkillConfig!#REF!","v":{"$error":"#REF!"}},{"$f":"SkillConfig!#REF!","v":{"$error":"#REF!"}}]
[{"$f":"INT(SkillConfig!#REF!)","v":{"$error":"#REF!"}},{"$f":"SkillConfig!#REF!","v":{"$error":"#REF!"}},{"$f":"SkillConfig!#REF!","v":{"$error":"#REF!"}},{"$f":"SkillConfig!#REF!","v":{"$error":"#REF!"}}]
[{"$f":"INT(SkillConfig!#REF!)","v":{"$error":"#REF!"}},{"$f":"SkillConfig!#REF!","v":{"$error":"#REF!"}},{"$f":"SkillConfig!#REF!","v":{"$error":"#REF!"}},{"$f":"SkillConfig!#REF!","v":{"$error":"#REF!"}}]
[{"$f":"INT(SkillConfig!#REF!)","v":{"$error":"#REF!"}},{"$f":"SkillConfig!#REF!","v":{"$error":"#REF!"}},{"$f":"SkillConfig!#REF!","v":{"$error":"#REF!"}},{"$f":"SkillConfig!#REF!","v":{"$error":"#REF!"}}]
[{"$f":"INT(SkillConfig!#REF!)","v":{"$error":"#REF!"}},{"$f":"SkillConfig!#REF!","v":{"$error":"#REF!"}},{"$f":"SkillConfig!#REF!","v":{"$error":"#REF!"}},{"$f":"SkillConfig!#REF!","v":{"$error":"#REF!"}}]
[{"$f":"INT(SkillConfig!#REF!)","v":{"$error":"#REF!"}},{"$f":"SkillConfig!#REF!","v":{"$error":"#REF!"}},{"$f":"SkillConfig!#REF!","v":{"$error":"#REF!"}},{"$f":"SkillConfig!#REF!","v":{"$error":"#REF!"}}]
[{"$f":"INT(SkillConfig!#REF!)","v":{"$error":"#REF!"}},{"$f":"SkillConfig!#REF!","v":{"$error":"#REF!"}},{"$f":"SkillConfig!#REF!","v":{"$error":"#REF!"}},{"$f":"SkillConfig!#REF!","v":{"$error":"#REF!"}}]
[{"$f":"INT(SkillConfig!#REF!)","v":{"$error":"#REF!"}},{"$f":"SkillConfig!#REF!","v":{"$error":"#REF!"}},{"$f":"SkillConfig!#REF!","v":{"$error":"#REF!"}},{"$f":"SkillConfig!#REF!","v":{"$error":"#REF!"}}]
[{"$f":"INT(SkillConfig!#REF!)","v":{"$error":"#REF!"}},{"$f":"SkillConfig!#REF!","v":{"$error":"#REF!"}},{"$f":"SkillConfig!#REF!","v":{"$error":"#REF!"}},{"$f":"SkillConfig!#REF!","v":{"$error":"#REF!"}}]
[{"$f":"INT(SkillConfig!#REF!)","v":{"$error":"#REF!"}},{"$f":"SkillConfig!#REF!","v":{"$error":"#REF!"}},{"$f":"SkillConfig!#REF!","v":{"$error":"#REF!"}},{"$f":"SkillConfig!#REF!","v":{"$error":"#REF!"}}]
[{"$f":"INT(SkillConfig!#REF!)","v":{"$error":"#REF!"}},{"$f":"SkillConfig!#REF!","v":{"$error":"#REF!"}},{"$f":"SkillConfig!#REF!","v":{"$error":"#REF!"}},{"$f":"SkillConfig!#REF!","v":{"$error":"#REF!"}}]
[{"$f":"INT(SkillConfig!#REF!)","v":{"$error":"#REF!"}},{"$f":"SkillConfig!#REF!","v":{"$error":"#REF!"}},{"$f":"SkillConfig!#REF!","v":{"$error":"#REF!"}},{"$f":"SkillConfig!#REF!","v":{"$error":"#REF!"}}]
[{"$f":"INT(SkillConfig!#REF!)","v":{"$error":"#REF!"}},{"$f":"SkillConfig!#REF!","v":{"$error":"#REF!"}},{"$f":"SkillConfig!#REF!","v":{"$error":"#REF!"}},{"$f":"SkillConfig!#REF!","v":{"$error":"#REF!"}}]
[{"$f":"INT(SkillConfig!#REF!)","v":{"$error":"#REF!"}},{"$f":"SkillConfig!#REF!","v":{"$error":"#REF!"}},{"$f":"SkillConfig!#REF!","v":{"$error":"#REF!"}},{"$f":"SkillConfig!#REF!","v":{"$error":"#REF!"}}]
[{"$f":"INT(SkillConfig!#REF!)","v":{"$error":"#REF!"}},{"$f":"SkillConfig!#REF!","v":{"$error":"#REF!"}},{"$f":"SkillConfig!#REF!","v":{"$error":"#REF!"}},{"$f":"SkillConfig!#REF!","v":{"$error":"#REF!"}}]
[{"$f":"INT(SkillConfig!#REF!)","v":{"$error":"#REF!"}},{"$f":"SkillConfig!#REF!","v":{"$error":"#REF!"}},{"$f":"SkillConfig!#REF!","v":{"$error":"#REF!"}},{"$f":"SkillConfig!#REF!","v":{"$error":"#REF!"}}]
[{"$f":"INT(SkillConfig!#REF!)","v":{"$error":"#REF!"}},{"$f":"SkillConfig!#REF!","v":{"$error":"#REF!"}},{"$f":"SkillConfig!#REF!","v":{"$error":"#REF!"}},{"$f":"SkillConfig!#REF!","v":{"$error":"#REF!"}}]
[{"$f":"INT(SkillConfig!#REF!)","v":{"$error":"#REF!"}},{"$f":"SkillConfig!#REF!","v":{"$error":"#REF!"}},{"$f":"SkillConfig!#REF!","v":{"$error":"#REF!"}},{"$f":"SkillConfig!#REF!","v":{"$error":"#REF!"}}]
[{"$f":"INT(SkillConfig!#REF!)","v":{"$error":"#REF!"}},{"$f":"SkillConfig!#REF!","v":{"$error":"#REF!"}},{"$f":"SkillConfig!#REF!","v":{"$error":"#REF!"}},{"$f":"SkillConfig!#REF!","v":{"$error":"#REF!"}}]
[{"$f":"INT(SkillConfig!#REF!)","v":{"$error":"#REF!"}},{"$f":"SkillConfig!#REF!","v":{"$error":"#REF!"}},{"$f":"SkillConfig!#REF!","v":{"$error":"#REF!"}},{"$f":"SkillConfig!#REF!","v":{"$error":"#REF!"}}]
[{"$f":"INT(SkillConfig!#REF!)","v":{"$error":"#REF!"}},{"$f":"SkillConfig!#REF!","v":{"$error":"#REF!"}},{"$f":"SkillConfig!#REF!","v":{"$error":"#REF!"}},{"$f":"SkillConfig!#REF!","v":{"$error":"#REF!"}}]
[{"$f":"INT(SkillConfig!#REF!)","v":{"$error":"#REF!"}},{"$f":"SkillConfig!#REF!","v":{"$error":"#REF!"}},{"$f":"SkillConfig!#REF!","v":{"$error":"#REF!"}},{"$f":"SkillConfig!#REF!","v":{"$error":"#REF!"}}]
[{"$f":"INT(SkillConfig!#REF!)","v":{"$error":"#REF!"}},{"$f":"SkillConfig!#REF!","v":{"$error":"#REF!"}},{"$f":"SkillConfig!#REF!","v":{"$error":"#REF!"}},{"$f":"SkillConfig!#REF!","v":{"$error":"#REF!"}}]
[{"$f":"INT(SkillConfig!#REF!)","v":{"$error":"#REF!"}},{"$f":"SkillConfig!#REF!","v":{"$error":"#REF!"}},{"$f":"SkillConfig!#REF!","v":{"$error":"#REF!"}},{"$f":"SkillConfig!#REF!","v":{"$error":"#REF!"}}]
[{"$f":"INT(SkillConfig!#REF!)","v":{"$error":"#REF!"}},{"$f":"SkillConfig!#REF!","v":{"$error":"#REF!"}},{"$f":"SkillConfig!#REF!","v":{"$error":"#REF!"}},{"$f":"SkillConfig!#REF!","v":{"$error":"#REF!"}}]
[{"$f":"INT(SkillConfig!#REF!)","v":{"$error":"#REF!"}},{"$f":"SkillConfig!#REF!","v":{"$error":"#REF!"}},{"$f":"SkillConfig!#REF!","v":{"$error":"#REF!"}},{"$f":"SkillConfig!#REF!","v":{"$error":"#REF!"}}]
[{"$f":"INT(SkillConfig!#REF!)","v":{"$error":"#REF!"}},{"$f":"SkillConfig!#REF!","v":{"$error":"#REF!"}},{"$f":"SkillConfig!#REF!","v":{"$error":"#REF!"}},{"$f":"SkillConfig!#REF!","v":{"$error":"#REF!"}}]
[{"$f":"INT(SkillConfig!#REF!)","v":{"$error":"#REF!"}},{"$f":"SkillConfig!#REF!","v":{"$error":"#REF!"}},{"$f":"SkillConfig!#REF!","v":{"$error":"#REF!"}},{"$f":"SkillConfig!#REF!","v":{"$error":"#REF!"}}]
[{"$f":"INT(SkillConfig!#REF!)","v":{"$error":"#REF!"}},{"$f":"SkillConfig!#REF!","v":{"$error":"#REF!"}},{"$f":"SkillConfig!#REF!","v":{"$error":"#REF!"}},{"$f":"SkillConfig!#REF!","v":{"$error":"#REF!"}}]
[{"$f":"INT(SkillConfig!#REF!)","v":{"$error":"#REF!"}},{"$f":"SkillConfig!#REF!","v":{"$error":"#REF!"}},{"$f":"SkillConfig!#REF!","v":{"$error":"#REF!"}},{"$f":"SkillConfig!#REF!","v":{"$error":"#REF!"}}]
[{"$f":"INT(SkillConfig!#REF!)","v":{"$error":"#REF!"}},{"$f":"SkillConfig!#REF!","v":{"$error":"#REF!"}},{"$f":"SkillConfig!#REF!","v":{"$error":"#REF!"}},{"$f":"SkillConfig!#REF!","v":{"$error":"#REF!"}}]
[{"$f":"INT(SkillConfig!#REF!)","v":{"$error":"#REF!"}},{"$f":"SkillConfig!#REF!","v":{"$error":"#REF!"}},{"$f":"SkillConfig!#REF!","v":{"$error":"#REF!"}},{"$f":"SkillConfig!#REF!","v":{"$error":"#REF!"}}]
[{"$f":"INT(SkillConfig!#REF!)","v":{"$error":"#REF!"}},{"$f":"SkillConfig!#REF!","v":{"$error":"#REF!"}},{"$f":"SkillConfig!#REF!","v":{"$error":"#REF!"}},{"$f":"SkillConfig!#REF!","v":{"$error":"#REF!"}}]
[{"$f":"INT(SkillConfig!#REF!)","v":{"$error":"#REF!"}},{"$f":"SkillConfig!#REF!","v":{"$error":"#REF!"}},{"$f":"SkillConfig!#REF!","v":{"$error":"#REF!"}},{"$f":"SkillConfig!#REF!","v":{"$error":"#REF!"}}]
[{"$f":"INT(SkillConfig!#REF!)","v":{"$error":"#REF!"}},{"$f":"SkillConfig!#REF!","v":{"$error":"#REF!"}},{"$f":"SkillConfig!#REF!","v":{"$error":"#REF!"}},{"$f":"SkillConfig!#REF!","v":{"$error":"#REF!"}}]
[{"$f":"INT(SkillConfig!#REF!)","v":{"$error":"#REF!"}},{"$f":"SkillConfig!#REF!","v":{"$error":"#REF!"}},{"$f":"SkillConfig!#REF!","v":{"$error":"#REF!"}},{"$f":"SkillConfig!#REF!","v":{"$error":"#REF!"}}]
[{"$f":"INT(SkillConfig!#REF!)","v":{"$error":"#REF!"}},{"$f":"SkillConfig!#REF!","v":{"$error":"#REF!"}},{"$f":"SkillConfig!#REF!","v":{"$error":"#REF!"}},{"$f":"SkillConfig!#REF!","v":{"$error":"#REF!"}}]
[{"$f":"INT(SkillConfig!#REF!)","v":{"$error":"#REF!"}},{"$f":"SkillConfig!#REF!","v":{"$error":"#REF!"}},{"$f":"SkillConfig!#REF!","v":{"$error":"#REF!"}},{"$f":"SkillConfig!#REF!","v":{"$error":"#REF!"}}]
[{"$f":"INT(SkillConfig!#REF!)","v":{"$error":"#REF!"}},{"$f":"SkillConfig!#REF!","v":{"$error":"#REF!"}},{"$f":"SkillConfig!#REF!","v":{"$error":"#REF!"}},{"$f":"SkillConfig!#REF!","v":{"$error":"#REF!"}}]
[{"$f":"INT(SkillConfig!#REF!)","v":{"$error":"#REF!"}},{"$f":"SkillConfig!#REF!","v":{"$error":"#REF!"}},{"$f":"SkillConfig!#REF!","v":{"$error":"#REF!"}},{"$f":"SkillConfig!#REF!","v":{"$error":"#REF!"}}]
[{"$f":"INT(SkillConfig!#REF!)","v":{"$error":"#REF!"}},{"$f":"SkillConfig!#REF!","v":{"$error":"#REF!"}},{"$f":"SkillConfig!#REF!","v":{"$error":"#REF!"}},{"$f":"SkillConfig!#REF!","v":{"$error":"#REF!"}}]
[{"$f":"INT(SkillConfig!#REF!)","v":{"$error":"#REF!"}},{"$f":"SkillConfig!#REF!","v":{"$error":"#REF!"}},{"$f":"SkillConfig!#REF!","v":{"$error":"#REF!"}},{"$f":"SkillConfig!#REF!","v":{"$error":"#REF!"}}]
[{"$f":"INT(SkillConfig!#REF!)","v":{"$error":"#REF!"}},{"$f":"SkillConfig!#REF!","v":{"$error":"#REF!"}},{"$f":"SkillConfig!#REF!","v":{"$error":"#REF!"}},{"$f":"SkillConfig!#REF!","v":{"$error":"#REF!"}}]
[{"$f":"INT(SkillConfig!#REF!)","v":{"$error":"#REF!"}},{"$f":"SkillConfig!#REF!","v":{"$error":"#REF!"}},{"$f":"SkillConfig!#REF!","v":{"$error":"#REF!"}},{"$f":"SkillConfig!#REF!","v":{"$error":"#REF!"}}]
[{"$f":"INT(SkillConfig!#REF!)","v":{"$error":"#REF!"}},{"$f":"SkillConfig!#REF!","v":{"$error":"#REF!"}},{"$f":"SkillConfig!#REF!","v":{"$error":"#REF!"}},{"$f":"SkillConfig!#REF!","v":{"$error":"#REF!"}}]
[{"$f":"INT(SkillConfig!#REF!)","v":{"$error":"#REF!"}},{"$f":"SkillConfig!#REF!","v":{"$error":"#REF!"}},{"$f":"SkillConfig!#REF!","v":{"$error":"#REF!"}},{"$f":"SkillConfig!#REF!","v":{"$error":"#REF!"}}]
[{"$f":"INT(SkillConfig!#REF!)","v":{"$error":"#REF!"}},{"$f":"SkillConfig!#REF!","v":{"$error":"#REF!"}},{"$f":"SkillConfig!#REF!","v":{"$error":"#REF!"}},{"$f":"SkillConfig!#REF!","v":{"$error":"#REF!"}}]
[{"$f":"INT(SkillConfig!#REF!)","v":{"$error":"#REF!"}},{"$f":"SkillConfig!#REF!","v":{"$error":"#REF!"}},{"$f":"SkillConfig!#REF!","v":{"$error":"#REF!"}},{"$f":"SkillConfig!#REF!","v":{"$error":"#REF!"}}]
[{"$f":"INT(SkillConfig!#REF!)","v":{"$error":"#REF!"}},{"$f":"SkillConfig!#REF!","v":{"$error":"#REF!"}},{"$f":"SkillConfig!#REF!","v":{"$error":"#REF!"}},{"$f":"SkillConfig!#REF!","v":{"$error":"#REF!"}}]
[{"$f":"INT(SkillConfig!#REF!)","v":{"$error":"#REF!"}},{"$f":"SkillConfig!#REF!","v":{"$error":"#REF!"}},{"$f":"SkillConfig!#REF!","v":{"$error":"#REF!"}},{"$f":"SkillConfig!#REF!","v":{"$error":"#REF!"}}]
[{"$f":"INT(SkillConfig!#REF!)","v":{"$error":"#REF!"}},{"$f":"SkillConfig!#REF!","v":{"$error":"#REF!"}},{"$f":"SkillConfig!#REF!","v":{"$error":"#REF!"}},{"$f":"SkillConfig!#REF!","v":{"$error":"#REF!"}}]
[{"$f":"INT(SkillConfig!#REF!)","v":{"$error":"#REF!"}},{"$f":"SkillConfig!#REF!","v":{"$error":"#REF!"}},{"$f":"SkillConfig!#REF!","v":{"$error":"#REF!"}},{"$f":"SkillConfig!#REF!","v":{"$error":"#REF!"}}]
[{"$f":"INT(SkillConfig!#REF!)","v":{"$error":"#REF!"}},{"$f":"SkillConfig!#REF!","v":{"$error":"#REF!"}},{"$f":"SkillConfig!#REF!","v":{"$error":"#REF!"}},{"$f":"SkillConfig!#REF!","v":{"$error":"#REF!"}}]
[{"$f":"INT(SkillConfig!#REF!)","v":{"$error":"#REF!"}},{"$f":"SkillConfig!#REF!","v":{"$error":"#REF!"}},{"$f":"SkillConfig!#REF!","v":{"$error":"#REF!"}},{"$f":"SkillConfig!#REF!","v":{"$error":"#REF!"}}]
[{"$f":"INT(SkillConfig!#REF!)","v":{"$error":"#REF!"}},{"$f":"SkillConfig!#REF!","v":{"$error":"#REF!"}},{"$f":"SkillConfig!#REF!","v":{"$error":"#REF!"}},{"$f":"SkillConfig!#REF!","v":{"$error":"#REF!"}}]
[{"$f":"INT(SkillConfig!#REF!)","v":{"$error":"#REF!"}},{"$f":"SkillConfig!#REF!","v":{"$error":"#REF!"}},{"$f":"SkillConfig!#REF!","v":{"$error":"#REF!"}},{"$f":"SkillConfig!#REF!","v":{"$error":"#REF!"}}]
[{"$f":"INT(SkillConfig!#REF!)","v":{"$error":"#REF!"}},{"$f":"SkillConfig!#REF!","v":{"$error":"#REF!"}},{"$f":"SkillConfig!#REF!","v":{"$error":"#REF!"}},{"$f":"SkillConfig!#REF!","v":{"$error":"#REF!"}}]
[{"$f":"INT(SkillConfig!#REF!)","v":{"$error":"#REF!"}},{"$f":"SkillConfig!#REF!","v":{"$error":"#REF!"}},{"$f":"SkillConfig!#REF!","v":{"$error":"#REF!"}},{"$f":"SkillConfig!#REF!","v":{"$error":"#REF!"}}]
[{"$f":"INT(SkillConfig!#REF!)","v":{"$error":"#REF!"}},{"$f":"SkillConfig!#REF!","v":{"$error":"#REF!"}},{"$f":"SkillConfig!#REF!","v":{"$error":"#REF!"}},{"$f":"SkillConfig!#REF!","v":{"$error":"#REF!"}}]
[{"$f":"INT(SkillConfig!#REF!)","v":{"$error":"#REF!"}},{"$f":"SkillConfig!#REF!","v":{"$error":"#REF!"}},{"$f":"SkillConfig!#REF!","v":{"$error":"#REF!"}},{"$f":"SkillConfig!#REF!","v":{"$error":"#REF!"}}]
[{"$f":"INT(SkillConfig!#REF!)","v":{"$error":"#REF!"}},{"$f":"SkillConfig!#REF!","v":{"$error":"#REF!"}},{"$f":"SkillConfig!#REF!","v":{"$error":"#REF!"}},{"$f":"SkillConfig!#REF!","v":{"$error":"#REF!"}}]
[{"$f":"INT(SkillConfig!#REF!)","v":{"$error":"#REF!"}},{"$f":"SkillConfig!#REF!","v":{"$error":"#REF!"}},{"$f":"SkillConfig!#REF!","v":{"$error":"#REF!"}},{"$f":"SkillConfig!#REF!","v":{"$error":"#REF!"}}]
[{"$f":"INT(SkillConfig!#REF!)","v":{"$error":"#REF!"}},{"$f":"SkillConfig!#REF!","v":{"$error":"#REF!"}},{"$f":"SkillConfig!#REF!","v":{"$error":"#REF!"}},{"$f":"SkillConfig!#REF!","v":{"$error":"#REF!"}}]
[{"$f":"INT(SkillConfig!#REF!)","v":{"$error":"#REF!"}},{"$f":"SkillConfig!#REF!","v":{"$error":"#REF!"}},{"$f":"SkillConfig!#REF!","v":{"$error":"#REF!"}},{"$f":"SkillConfig!#REF!","v":{"$error":"#REF!"}}]
[{"$f":"INT(SkillConfig!#REF!)","v":{"$error":"#REF!"}},{"$f":"SkillConfig!#REF!","v":{"$error":"#REF!"}},{"$f":"SkillConfig!#REF!","v":{"$error":"#REF!"}},{"$f":"SkillConfig!#REF!","v":{"$error":"#REF!"}}]
[{"$f":"INT(SkillConfig!#REF!)","v":{"$error":"#REF!"}},{"$f":"SkillConfig!#REF!","v":{"$error":"#REF!"}},{"$f":"SkillConfig!#REF!","v":{"$error":"#REF!"}},{"$f":"SkillConfig!#REF!","v":{"$error":"#REF!"}}]
[{"$f":"INT(SkillConfig!#REF!)","v":{"$error":"#REF!"}},{"$f":"SkillConfig!#REF!","v":{"$error":"#REF!"}},{"$f":"SkillConfig!#REF!","v":{"$error":"#REF!"}},{"$f":"SkillConfig!#REF!","v":{"$error":"#REF!"}}]
[{"$f":"INT(SkillConfig!#REF!)","v":{"$error":"#REF!"}},{"$f":"SkillConfig!#REF!","v":{"$error":"#REF!"}},{"$f":"SkillConfig!#REF!","v":{"$error":"#REF!"}},{"$f":"SkillConfig!#REF!","v":{"$error":"#REF!"}}]
[{"$f":"INT(SkillConfig!#REF!)","v":{"$error":"#REF!"}},{"$f":"SkillConfig!#REF!","v":{"$error":"#REF!"}},{"$f":"SkillConfig!#REF!","v":{"$error":"#REF!"}},{"$f":"SkillConfig!#REF!","v":{"$error":"#REF!"}}]
[{"$f":"INT(SkillConfig!#REF!)","v":{"$error":"#REF!"}},{"$f":"SkillConfig!#REF!","v":{"$error":"#REF!"}},{"$f":"SkillConfig!#REF!","v":{"$error":"#REF!"}},{"$f":"SkillConfig!#REF!","v":{"$error":"#REF!"}}]
[{"$f":"INT(SkillConfig!#REF!)","v":{"$error":"#REF!"}},{"$f":"SkillConfig!#REF!","v":{"$error":"#REF!"}},{"$f":"SkillConfig!#REF!","v":{"$error":"#REF!"}},{"$f":"SkillConfig!#REF!","v":{"$error":"#REF!"}}]
[{"$f":"INT(SkillConfig!#REF!)","v":{"$error":"#REF!"}},{"$f":"SkillConfig!#REF!","v":{"$error":"#REF!"}},{"$f":"SkillConfig!#REF!","v":{"$error":"#REF!"}},{"$f":"SkillConfig!#REF!","v":{"$error":"#REF!"}}]
[{"$f":"INT(SkillConfig!#REF!)","v":{"$error":"#REF!"}},{"$f":"SkillConfig!#REF!","v":{"$error":"#REF!"}},{"$f":"SkillConfig!#REF!","v":{"$error":"#REF!"}},{"$f":"SkillConfig!#REF!","v":{"$error":"#REF!"}}]
[{"$f":"INT(SkillConfig!#REF!)","v":{"$error":"#REF!"}},{"$f":"SkillConfig!#REF!","v":{"$error":"#REF!"}},{"$f":"SkillConfig!#REF!","v":{"$error":"#REF!"}},{"$f":"SkillConfig!#REF!","v":{"$error":"#REF!"}}]
[{"$f":"INT(SkillConfig!#REF!)","v":{"$error":"#REF!"}},{"$f":"SkillConfig!#REF!","v":{"$error":"#REF!"}},{"$f":"SkillConfig!#REF!","v":{"$error":"#REF!"}},{"$f":"SkillConfig!#REF!","v":{"$error":"#REF!"}}]
[{"$f":"INT(SkillConfig!#REF!)","v":{"$error":"#REF!"}},{"$f":"SkillConfig!#REF!","v":{"$error":"#REF!"}},{"$f":"SkillConfig!#REF!","v":{"$error":"#REF!"}},{"$f":"SkillConfig!#REF!","v":{"$error":"#REF!"}}]
[{"$f":"INT(SkillConfig!#REF!)","v":{"$error":"#REF!"}},{"$f":"SkillConfig!#REF!","v":{"$error":"#REF!"}},{"$f":"SkillConfig!#REF!","v":{"$error":"#REF!"}},{"$f":"SkillConfig!#REF!","v":{"$error":"#REF!"}}]
[{"$f":"INT(SkillConfig!#REF!)","v":{"$error":"#REF!"}},{"$f":"SkillConfig!#REF!","v":{"$error":"#REF!"}},{"$f":"SkillConfig!#REF!","v":{"$error":"#REF!"}},{"$f":"SkillConfig!#REF!","v":{"$error":"#REF!"}}]
[{"$f":"INT(SkillConfig!#REF!)","v":{"$error":"#REF!"}},{"$f":"SkillConfig!#REF!","v":{"$error":"#REF!"}},{"$f":"SkillConfig!#REF!","v":{"$error":"#REF!"}},{"$f":"SkillConfig!#REF!","v":{"$error":"#REF!"}}]
[{"$f":"INT(SkillConfig!#REF!)","v":{"$error":"#REF!"}},{"$f":"SkillConfig!#REF!","v":{"$error":"#REF!"}},{"$f":"SkillConfig!#REF!","v":{"$error":"#REF!"}},{"$f":"SkillConfig!#REF!","v":{"$error":"#REF!"}}]
[{"$f":"INT(SkillConfig!#REF!)","v":{"$error":"#REF!"}},{"$f":"SkillConfig!#REF!","v":{"$error":"#REF!"}},{"$f":"SkillConfig!#REF!","v":{"$error":"#REF!"}},{"$f":"SkillConfig!#REF!","v":{"$error":"#REF!"}}]
[{"$f":"INT(SkillConfig!#REF!)","v":{"$error":"#REF!"}},{"$f":"SkillConfig!#REF!","v":{"$error":"#REF!"}},{"$f":"SkillConfig!#REF!","v":{"$error":"#REF!"}},{"$f":"SkillConfig!#REF!","v":{"$error":"#REF!"}}]
[{"$f":"INT(SkillConfig!#REF!)","v":{"$error":"#REF!"}},{"$f":"SkillConfig!#REF!","v":{"$error":"#REF!"}},{"$f":"SkillConfig!#REF!","v":{"$error":"#REF!"}},{"$f":"SkillConfig!#REF!","v":{"$error":"#REF!"}}]
[{"$f":"INT(SkillConfig!#REF!)","v":{"$error":"#REF!"}},{"$f":"SkillConfig!#REF!","v":{"$error":"#REF!"}},{"$f":"SkillConfig!#REF!","v":{"$error":"#REF!"}},{"$f":"SkillConfig!#REF!","v":{"$error":"#REF!"}}]
[{"$f":"INT(SkillConfig!#REF!)","v":{"$error":"#REF!"}},{"$f":"SkillConfig!#REF!","v":{"$error":"#REF!"}},{"$f":"SkillConfig!#REF!","v":{"$error":"#REF!"}},{"$f":"SkillConfig!#REF!","v":{"$error":"#REF!"}}]
[{"$f":"INT(SkillConfig!#REF!)","v":{"$error":"#REF!"}},{"$f":"SkillConfig!#REF!","v":{"$error":"#REF!"}},{"$f":"SkillConfig!#REF!","v":{"$error":"#REF!"}},{"$f":"SkillConfig!#REF!","v":{"$error":"#REF!"}}]
[{"$f":"INT(SkillConfig!#REF!)","v":{"$error":"#REF!"}},{"$f":"SkillConfig!#REF!","v":{"$error":"#REF!"}},{"$f":"SkillConfig!#REF!","v":{"$error":"#REF!"}},{"$f":"SkillConfig!#REF!","v":{"$error":"#REF!"}}]
[{"$f":"INT(SkillConfig!#REF!)","v":{"$error":"#REF!"}},{"$f":"SkillConfig!#REF!","v":{"$error":"#REF!"}},{"$f":"SkillConfig!#REF!","v":{"$error":"#REF!"}},{"$f":"SkillConfig!#REF!","v":{"$error":"#REF!"}}]
[{"$f":"INT(SkillConfig!#REF!)","v":{"$error":"#REF!"}},{"$f":"SkillConfig!#REF!","v":{"$error":"#REF!"}},{"$f":"SkillConfig!#REF!","v":{"$error":"#REF!"}},{"$f":"SkillConfig!#REF!","v":{"$error":"#REF!"}}]
[{"$f":"INT(SkillConfig!#REF!)","v":{"$error":"#REF!"}},{"$f":"SkillConfig!#REF!","v":{"$error":"#REF!"}},{"$f":"SkillConfig!#REF!","v":{"$error":"#REF!"}},{"$f":"SkillConfig!#REF!","v":{"$error":"#REF!"}}]
[{"$f":"INT(SkillConfig!#REF!)","v":{"$error":"#REF!"}},{"$f":"SkillConfig!#REF!","v":{"$error":"#REF!"}},{"$f":"SkillConfig!#REF!","v":{"$error":"#REF!"}},{"$f":"SkillConfig!#REF!","v":{"$error":"#REF!"}}]
[{"$f":"INT(SkillConfig!#REF!)","v":{"$error":"#REF!"}},{"$f":"SkillConfig!#REF!","v":{"$error":"#REF!"}},{"$f":"SkillConfig!#REF!","v":{"$error":"#REF!"}},{"$f":"SkillConfig!#REF!","v":{"$error":"#REF!"}}]
[{"$f":"INT(SkillConfig!#REF!)","v":{"$error":"#REF!"}},{"$f":"SkillConfig!#REF!","v":{"$error":"#REF!"}},{"$f":"SkillConfig!#REF!","v":{"$error":"#REF!"}},{"$f":"SkillConfig!#REF!","v":{"$error":"#REF!"}}]
[{"$f":"INT(SkillConfig!#REF!)","v":{"$error":"#REF!"}},{"$f":"SkillConfig!#REF!","v":{"$error":"#REF!"}},{"$f":"SkillConfig!#REF!","v":{"$error":"#REF!"}},{"$f":"SkillConfig!#REF!","v":{"$error":"#REF!"}}]
[{"$f":"INT(SkillConfig!#REF!)","v":{"$error":"#REF!"}},{"$f":"SkillConfig!#REF!","v":{"$error":"#REF!"}},{"$f":"SkillConfig!#REF!","v":{"$error":"#REF!"}},{"$f":"SkillConfig!#REF!","v":{"$error":"#REF!"}}]
[{"$f":"INT(SkillConfig!#REF!)","v":{"$error":"#REF!"}},{"$f":"SkillConfig!#REF!","v":{"$error":"#REF!"}},{"$f":"SkillConfig!#REF!","v":{"$error":"#REF!"}},{"$f":"SkillConfig!#REF!","v":{"$error":"#REF!"}}]
[{"$f":"INT(SkillConfig!#REF!)","v":{"$error":"#REF!"}},{"$f":"SkillConfig!#REF!","v":{"$error":"#REF!"}},{"$f":"SkillConfig!#REF!","v":{"$error":"#REF!"}},{"$f":"SkillConfig!#REF!","v":{"$error":"#REF!"}}]
[{"$f":"INT(SkillConfig!#REF!)","v":{"$error":"#REF!"}},{"$f":"SkillConfig!#REF!","v":{"$error":"#REF!"}},{"$f":"SkillConfig!#REF!","v":{"$error":"#REF!"}},{"$f":"SkillConfig!#REF!","v":{"$error":"#REF!"}}]
[{"$f":"INT(SkillConfig!#REF!)","v":{"$error":"#REF!"}},{"$f":"SkillConfig!#REF!","v":{"$error":"#REF!"}},{"$f":"SkillConfig!#REF!","v":{"$error":"#REF!"}},{"$f":"SkillConfig!#REF!","v":{"$error":"#REF!"}}]
[{"$f":"INT(SkillConfig!#REF!)","v":{"$error":"#REF!"}},{"$f":"SkillConfig!#REF!","v":{"$error":"#REF!"}},{"$f":"SkillConfig!#REF!","v":{"$error":"#REF!"}},{"$f":"SkillConfig!#REF!","v":{"$error":"#REF!"}}]
[{"$f":"INT(SkillConfig!#REF!)","v":{"$error":"#REF!"}},{"$f":"SkillConfig!#REF!","v":{"$error":"#REF!"}},{"$f":"SkillConfig!#REF!","v":{"$error":"#REF!"}},{"$f":"SkillConfig!#REF!","v":{"$error":"#REF!"}}]
[{"$f":"INT(SkillConfig!#REF!)","v":{"$error":"#REF!"}},{"$f":"SkillConfig!#REF!","v":{"$error":"#REF!"}},{"$f":"SkillConfig!#REF!","v":{"$error":"#REF!"}},{"$f":"SkillConfig!#REF!","v":{"$error":"#REF!"}}]
[{"$f":"INT(SkillConfig!#REF!)","v":{"$error":"#REF!"}},{"$f":"SkillConfig!#REF!","v":{"$error":"#REF!"}},{"$f":"SkillConfig!#REF!","v":{"$error":"#REF!"}},{"$f":"SkillConfig!#REF!","v":{"$error":"#REF!"}}]
[{"$f":"INT(SkillConfig!#REF!)","v":{"$error":"#REF!"}},{"$f":"SkillConfig!#REF!","v":{"$error":"#REF!"}},{"$f":"SkillConfig!#REF!","v":{"$error":"#REF!"}},{"$f":"SkillConfig!#REF!","v":{"$error":"#REF!"}}]
[{"$f":"INT(SkillConfig!#REF!)","v":{"$error":"#REF!"}},{"$f":"SkillConfig!#REF!","v":{"$error":"#REF!"}},{"$f":"SkillConfig!#REF!","v":{"$error":"#REF!"}},{"$f":"SkillConfig!#REF!","v":{"$error":"#REF!"}}]
[{"$f":"INT(SkillConfig!#REF!)","v":{"$error":"#REF!"}},{"$f":"SkillConfig!#REF!","v":{"$error":"#REF!"}},{"$f":"SkillConfig!#REF!","v":{"$error":"#REF!"}},{"$f":"SkillConfig!#REF!","v":{"$error":"#REF!"}}]
[{"$f":"INT(SkillConfig!#REF!)","v":{"$error":"#REF!"}},{"$f":"SkillConfig!#REF!","v":{"$error":"#REF!"}},{"$f":"SkillConfig!#REF!","v":{"$error":"#REF!"}},{"$f":"SkillConfig!#REF!","v":{"$error":"#REF!"}}]
[{"$f":"INT(SkillConfig!#REF!)","v":{"$error":"#REF!"}},{"$f":"SkillConfig!#REF!","v":{"$error":"#REF!"}},{"$f":"SkillConfig!#REF!","v":{"$error":"#REF!"}},{"$f":"SkillConfig!#REF!","v":{"$error":"#REF!"}}]
[{"$f":"INT(SkillConfig!#REF!)","v":{"$error":"#REF!"}},{"$f":"SkillConfig!#REF!","v":{"$error":"#REF!"}},{"$f":"SkillConfig!#REF!","v":{"$error":"#REF!"}},{"$f":"SkillConfig!#REF!","v":{"$error":"#REF!"}}]
[{"$f":"INT(SkillConfig!#REF!)","v":{"$error":"#REF!"}},{"$f":"SkillConfig!#REF!","v":{"$error":"#REF!"}},{"$f":"SkillConfig!#REF!","v":{"$error":"#REF!"}},{"$f":"SkillConfig!#REF!","v":{"$error":"#REF!"}}]
[{"$f":"INT(SkillConfig!#REF!)","v":{"$error":"#REF!"}},{"$f":"SkillConfig!#REF!","v":{"$error":"#REF!"}},{"$f":"SkillConfig!#REF!","v":{"$error":"#REF!"}},{"$f":"SkillConfig!#REF!","v":{"$error":"#REF!"}}]
[{"$f":"INT(SkillConfig!#REF!)","v":{"$error":"#REF!"}},{"$f":"SkillConfig!#REF!","v":{"$error":"#REF!"}},{"$f":"SkillConfig!#REF!","v":{"$error":"#REF!"}},{"$f":"SkillConfig!#REF!","v":{"$error":"#REF!"}}]
[{"$f":"INT(SkillConfig!#REF!)","v":{"$error":"#REF!"}},{"$f":"SkillConfig!#REF!","v":{"$error":"#REF!"}},{"$f":"SkillConfig!#REF!","v":{"$error":"#REF!"}},{"$f":"SkillConfig!#REF!","v":{"$error":"#REF!"}}]
[{"$f":"INT(SkillConfig!#REF!)","v":{"$error":"#REF!"}},{"$f":"SkillConfig!#REF!","v":{"$error":"#REF!"}},{"$f":"SkillConfig!#REF!","v":{"$error":"#REF!"}},{"$f":"SkillConfig!#REF!","v":{"$error":"#REF!"}}]
[{"$f":"INT(SkillConfig!#REF!)","v":{"$error":"#REF!"}},{"$f":"SkillConfig!#REF!","v":{"$error":"#REF!"}},{"$f":"SkillConfig!#REF!","v":{"$error":"#REF!"}},{"$f":"SkillConfig!#REF!","v":{"$error":"#REF!"}}]
[{"$f":"INT(SkillConfig!#REF!)","v":{"$error":"#REF!"}},{"$f":"SkillConfig!#REF!","v":{"$error":"#REF!"}},{"$f":"SkillConfig!#REF!","v":{"$error":"#REF!"}},{"$f":"SkillConfig!#REF!","v":{"$error":"#REF!"}}]
[{"$f":"INT(SkillConfig!#REF!)","v":{"$error":"#REF!"}},{"$f":"SkillConfig!#REF!","v":{"$error":"#REF!"}},{"$f":"SkillConfig!#REF!","v":{"$error":"#REF!"}},{"$f":"SkillConfig!#REF!","v":{"$error":"#REF!"}}]
[{"$f":"INT(SkillConfig!#REF!)","v":{"$error":"#REF!"}},{"$f":"SkillConfig!#REF!","v":{"$error":"#REF!"}},{"$f":"SkillConfig!#REF!","v":{"$error":"#REF!"}},{"$f":"SkillConfig!#REF!","v":{"$error":"#REF!"}}]
[{"$f":"INT(SkillConfig!#REF!)","v":{"$error":"#REF!"}},{"$f":"SkillConfig!#REF!","v":{"$error":"#REF!"}},{"$f":"SkillConfig!#REF!","v":{"$error":"#REF!"}},{"$f":"SkillConfig!#REF!","v":{"$error":"#REF!"}}]
[{"$f":"INT(SkillConfig!#REF!)","v":{"$error":"#REF!"}},{"$f":"SkillConfig!#REF!","v":{"$error":"#REF!"}},{"$f":"SkillConfig!#REF!","v":{"$error":"#REF!"}},{"$f":"SkillConfig!#REF!","v":{"$error":"#REF!"}}]
[{"$f":"INT(SkillConfig!#REF!)","v":{"$error":"#REF!"}},{"$f":"SkillConfig!#REF!","v":{"$error":"#REF!"}},{"$f":"SkillConfig!#REF!","v":{"$error":"#REF!"}},{"$f":"SkillConfig!#REF!","v":{"$error":"#REF!"}}]
[{"$f":"INT(SkillConfig!#REF!)","v":{"$error":"#REF!"}},{"$f":"SkillConfig!#REF!","v":{"$error":"#REF!"}},{"$f":"SkillConfig!#REF!","v":{"$error":"#REF!"}},{"$f":"SkillConfig!#REF!","v":{"$error":"#REF!"}}]
[{"$f":"INT(SkillConfig!#REF!)","v":{"$error":"#REF!"}},{"$f":"SkillConfig!#REF!","v":{"$error":"#REF!"}},{"$f":"SkillConfig!#REF!","v":{"$error":"#REF!"}},{"$f":"SkillConfig!#REF!","v":{"$error":"#REF!"}}]
[{"$f":"INT(SkillConfig!#REF!)","v":{"$error":"#REF!"}},{"$f":"SkillConfig!#REF!","v":{"$error":"#REF!"}},{"$f":"SkillConfig!#REF!","v":{"$error":"#REF!"}},{"$f":"SkillConfig!#REF!","v":{"$error":"#REF!"}}]
[{"$f":"INT(SkillConfig!#REF!)","v":{"$error":"#REF!"}},{"$f":"SkillConfig!#REF!","v":{"$error":"#REF!"}},{"$f":"SkillConfig!#REF!","v":{"$error":"#REF!"}},{"$f":"SkillConfig!#REF!","v":{"$error":"#REF!"}}]
[{"$f":"INT(SkillConfig!#REF!)","v":{"$error":"#REF!"}},{"$f":"SkillConfig!#REF!","v":{"$error":"#REF!"}},{"$f":"SkillConfig!#REF!","v":{"$error":"#REF!"}},{"$f":"SkillConfig!#REF!","v":{"$error":"#REF!"}}]
[{"$f":"INT(SkillConfig!#REF!)","v":{"$error":"#REF!"}},{"$f":"SkillConfig!#REF!","v":{"$error":"#REF!"}},{"$f":"SkillConfig!#REF!","v":{"$error":"#REF!"}},{"$f":"SkillConfig!#REF!","v":{"$error":"#REF!"}}]
[{"$f":"INT(SkillConfig!#REF!)","v":{"$error":"#REF!"}},{"$f":"SkillConfig!#REF!","v":{"$error":"#REF!"}},{"$f":"SkillConfig!#REF!","v":{"$error":"#REF!"}},{"$f":"SkillConfig!#REF!","v":{"$error":"#REF!"}}]
[{"$f":"INT(SkillConfig!#REF!)","v":{"$error":"#REF!"}},{"$f":"SkillConfig!#REF!","v":{"$error":"#REF!"}},{"$f":"SkillConfig!#REF!","v":{"$error":"#REF!"}},{"$f":"SkillConfig!#REF!","v":{"$error":"#REF!"}}]
[{"$f":"INT(SkillConfig!#REF!)","v":{"$error":"#REF!"}},{"$f":"SkillConfig!#REF!","v":{"$error":"#REF!"}},{"$f":"SkillConfig!#REF!","v":{"$error":"#REF!"}},{"$f":"SkillConfig!#REF!","v":{"$error":"#REF!"}}]
[{"$f":"INT(SkillConfig!#REF!)","v":{"$error":"#REF!"}},{"$f":"SkillConfig!#REF!","v":{"$error":"#REF!"}},{"$f":"SkillConfig!#REF!","v":{"$error":"#REF!"}},{"$f":"SkillConfig!#REF!","v":{"$error":"#REF!"}}]
[{"$f":"INT(SkillConfig!#REF!)","v":{"$error":"#REF!"}},{"$f":"SkillConfig!#REF!","v":{"$error":"#REF!"}},{"$f":"SkillConfig!#REF!","v":{"$error":"#REF!"}},{"$f":"SkillConfig!#REF!","v":{"$error":"#REF!"}}]
[{"$f":"INT(SkillConfig!#REF!)","v":{"$error":"#REF!"}},{"$f":"SkillConfig!#REF!","v":{"$error":"#REF!"}},{"$f":"SkillConfig!#REF!","v":{"$error":"#REF!"}},{"$f":"SkillConfig!#REF!","v":{"$error":"#REF!"}}]
[{"$f":"INT(SkillConfig!#REF!)","v":{"$error":"#REF!"}},{"$f":"SkillConfig!#REF!","v":{"$error":"#REF!"}},{"$f":"SkillConfig!#REF!","v":{"$error":"#REF!"}},{"$f":"SkillConfig!#REF!","v":{"$error":"#REF!"}}]
[{"$f":"INT(SkillConfig!#REF!)","v":{"$error":"#REF!"}},{"$f":"SkillConfig!#REF!","v":{"$error":"#REF!"}},{"$f":"SkillConfig!#REF!","v":{"$error":"#REF!"}},{"$f":"SkillConfig!#REF!","v":{"$error":"#REF!"}}]
[{"$f":"INT(SkillConfig!#REF!)","v":{"$error":"#REF!"}},{"$f":"SkillConfig!#REF!","v":{"$error":"#REF!"}},{"$f":"SkillConfig!#REF!","v":{"$error":"#REF!"}},{"$f":"SkillConfig!#REF!","v":{"$error":"#REF!"}}]
[{"$f":"INT(SkillConfig!#REF!)","v":{"$error":"#REF!"}},{"$f":"SkillConfig!#REF!","v":{"$error":"#REF!"}},{"$f":"SkillConfig!#REF!","v":{"$error":"#REF!"}},{"$f":"SkillConfig!#REF!","v":{"$error":"#REF!"}}]
[{"$f":"INT(SkillConfig!#REF!)","v":{"$error":"#REF!"}},{"$f":"SkillConfig!#REF!","v":{"$error":"#REF!"}},{"$f":"SkillConfig!#REF!","v":{"$error":"#REF!"}},{"$f":"SkillConfig!#REF!","v":{"$error":"#REF!"}}]
[{"$f":"INT(SkillConfig!#REF!)","v":{"$error":"#REF!"}},{"$f":"SkillConfig!#REF!","v":{"$error":"#REF!"}},{"$f":"SkillConfig!#REF!","v":{"$error":"#REF!"}},{"$f":"SkillConfig!#REF!","v":{"$error":"#REF!"}}]
[{"$f":"INT(SkillConfig!#REF!)","v":{"$error":"#REF!"}},{"$f":"SkillConfig!#REF!","v":{"$error":"#REF!"}},{"$f":"SkillConfig!#REF!","v":{"$error":"#REF!"}},{"$f":"SkillConfig!#REF!","v":{"$error":"#REF!"}}]
[{"$f":"INT(SkillConfig!#REF!)","v":{"$error":"#REF!"}},{"$f":"SkillConfig!#REF!","v":{"$error":"#REF!"}},{"$f":"SkillConfig!#REF!","v":{"$error":"#REF!"}},{"$f":"SkillConfig!#REF!","v":{"$error":"#REF!"}}]
[{"$f":"INT(SkillConfig!#REF!)","v":{"$error":"#REF!"}},{"$f":"SkillConfig!#REF!","v":{"$error":"#REF!"}},{"$f":"SkillConfig!#REF!","v":{"$error":"#REF!"}},{"$f":"SkillConfig!#REF!","v":{"$error":"#REF!"}}]
[{"$f":"INT(SkillConfig!#REF!)","v":{"$error":"#REF!"}},{"$f":"SkillConfig!#REF!","v":{"$error":"#REF!"}},{"$f":"SkillConfig!#REF!","v":{"$error":"#REF!"}},{"$f":"SkillConfig!#REF!","v":{"$error":"#REF!"}}]
[{"$f":"INT(SkillConfig!#REF!)","v":{"$error":"#REF!"}},{"$f":"SkillConfig!#REF!","v":{"$error":"#REF!"}},{"$f":"SkillConfig!#REF!","v":{"$error":"#REF!"}},{"$f":"SkillConfig!#REF!","v":{"$error":"#REF!"}}]
[{"$f":"INT(SkillConfig!#REF!)","v":{"$error":"#REF!"}},{"$f":"SkillConfig!#REF!","v":{"$error":"#REF!"}},{"$f":"SkillConfig!#REF!","v":{"$error":"#REF!"}},{"$f":"SkillConfig!#REF!","v":{"$error":"#REF!"}}]
[{"$f":"INT(SkillConfig!#REF!)","v":{"$error":"#REF!"}},{"$f":"SkillConfig!#REF!","v":{"$error":"#REF!"}},{"$f":"SkillConfig!#REF!","v":{"$error":"#REF!"}},{"$f":"SkillConfig!#REF!","v":{"$error":"#REF!"}}]
[{"$f":"INT(SkillConfig!#REF!)","v":{"$error":"#REF!"}},{"$f":"SkillConfig!#REF!","v":{"$error":"#REF!"}},{"$f":"SkillConfig!#REF!","v":{"$error":"#REF!"}},{"$f":"SkillConfig!#REF!","v":{"$error":"#REF!"}}]
[{"$f":"INT(SkillConfig!#REF!)","v":{"$error":"#REF!"}},{"$f":"SkillConfig!#REF!","v":{"$error":"#REF!"}},{"$f":"SkillConfig!#REF!","v":{"$error":"#REF!"}},{"$f":"SkillConfig!#REF!","v":{"$error":"#REF!"}}]
[{"$f":"INT(SkillConfig!#REF!)","v":{"$error":"#REF!"}},{"$f":"SkillConfig!#REF!","v":{"$error":"#REF!"}},{"$f":"SkillConfig!#REF!","v":{"$error":"#REF!"}},{"$f":"SkillConfig!#REF!","v":{"$error":"#REF!"}}]
[{"$f":"INT(SkillConfig!#REF!)","v":{"$error":"#REF!"}},{"$f":"SkillConfig!#REF!","v":{"$error":"#REF!"}},{"$f":"SkillConfig!#REF!","v":{"$error":"#REF!"}},{"$f":"SkillConfig!#REF!","v":{"$error":"#REF!"}}]
[{"$f":"INT(SkillConfig!#REF!)","v":{"$error":"#REF!"}},{"$f":"SkillConfig!#REF!","v":{"$error":"#REF!"}},{"$f":"SkillConfig!#REF!","v":{"$error":"#REF!"}},{"$f":"SkillConfig!#REF!","v":{"$error":"#REF!"}}]
[{"$f":"INT(SkillConfig!#REF!)","v":{"$error":"#REF!"}},{"$f":"SkillConfig!#REF!","v":{"$error":"#REF!"}},{"$f":"SkillConfig!#REF!","v":{"$error":"#REF!"}},{"$f":"SkillConfig!#REF!","v":{"$error":"#REF!"}}]
[{"$f":"INT(SkillConfig!#REF!)","v":{"$error":"#REF!"}},{"$f":"SkillConfig!#REF!","v":{"$error":"#REF!"}},{"$f":"SkillConfig!#REF!","v":{"$error":"#REF!"}},{"$f":"SkillConfig!#REF!","v":{"$error":"#REF!"}}]
[{"$f":"INT(SkillConfig!#REF!)","v":{"$error":"#REF!"}},{"$f":"SkillConfig!#REF!","v":{"$error":"#REF!"}},{"$f":"SkillConfig!#REF!","v":{"$error":"#REF!"}},{"$f":"SkillConfig!#REF!","v":{"$error":"#REF!"}}]
[{"$f":"INT(SkillConfig!#REF!)","v":{"$error":"#REF!"}},{"$f":"SkillConfig!#REF!","v":{"$error":"#REF!"}},{"$f":"SkillConfig!#REF!","v":{"$error":"#REF!"}},{"$f":"SkillConfig!#REF!","v":{"$error":"#REF!"}}]
[{"$f":"INT(SkillConfig!#REF!)","v":{"$error":"#REF!"}},{"$f":"SkillConfig!#REF!","v":{"$error":"#REF!"}},{"$f":"SkillConfig!#REF!","v":{"$error":"#REF!"}},{"$f":"SkillConfig!#REF!","v":{"$error":"#REF!"}}]
[{"$f":"INT(SkillConfig!#REF!)","v":{"$error":"#REF!"}},{"$f":"SkillConfig!#REF!","v":{"$error":"#REF!"}},{"$f":"SkillConfig!#REF!","v":{"$error":"#REF!"}},{"$f":"SkillConfig!#REF!","v":{"$error":"#REF!"}}]
[{"$f":"INT(SkillConfig!#REF!)","v":{"$error":"#REF!"}},{"$f":"SkillConfig!#REF!","v":{"$error":"#REF!"}},{"$f":"SkillConfig!#REF!","v":{"$error":"#REF!"}},{"$f":"SkillConfig!#REF!","v":{"$error":"#REF!"}}]
[{"$f":"INT(SkillConfig!#REF!)","v":{"$error":"#REF!"}},{"$f":"SkillConfig!#REF!","v":{"$error":"#REF!"}},{"$f":"SkillConfig!#REF!","v":{"$error":"#REF!"}},{"$f":"SkillConfig!#REF!","v":{"$error":"#REF!"}}]
[{"$f":"INT(SkillConfig!#REF!)","v":{"$error":"#REF!"}},{"$f":"SkillConfig!#REF!","v":{"$error":"#REF!"}},{"$f":"SkillConfig!#REF!","v":{"$error":"#REF!"}},{"$f":"SkillConfig!#REF!","v":{"$error":"#REF!"}}]
[{"$f":"INT(SkillConfig!#REF!)","v":{"$error":"#REF!"}},{"$f":"SkillConfig!#REF!","v":{"$error":"#REF!"}},{"$f":"SkillConfig!#REF!","v":{"$error":"#REF!"}},{"$f":"SkillConfig!#REF!","v":{"$error":"#REF!"}}]
[{"$f":"INT(SkillConfig!#REF!)","v":{"$error":"#REF!"}},{"$f":"SkillConfig!#REF!","v":{"$error":"#REF!"}},{"$f":"SkillConfig!#REF!","v":{"$error":"#REF!"}},{"$f":"SkillConfig!#REF!","v":{"$error":"#REF!"}}]
[{"$f":"INT(SkillConfig!#REF!)","v":{"$error":"#REF!"}},{"$f":"SkillConfig!#REF!","v":{"$error":"#REF!"}},{"$f":"SkillConfig!#REF!","v":{"$error":"#REF!"}},{"$f":"SkillConfig!#REF!","v":{"$error":"#REF!"}}]
[{"$f":"INT(SkillConfig!#REF!)","v":{"$error":"#REF!"}},{"$f":"SkillConfig!#REF!","v":{"$error":"#REF!"}},{"$f":"SkillConfig!#REF!","v":{"$error":"#REF!"}},{"$f":"SkillConfig!#REF!","v":{"$error":"#REF!"}}]
[{"$f":"INT(SkillConfig!#REF!)","v":{"$error":"#REF!"}},{"$f":"SkillConfig!#REF!","v":{"$error":"#REF!"}},{"$f":"SkillConfig!#REF!","v":{"$error":"#REF!"}},{"$f":"SkillConfig!#REF!","v":{"$error":"#REF!"}}]
[{"$f":"INT(SkillConfig!#REF!)","v":{"$error":"#REF!"}},{"$f":"SkillConfig!#REF!","v":{"$error":"#REF!"}},{"$f":"SkillConfig!#REF!","v":{"$error":"#REF!"}},{"$f":"SkillConfig!#REF!","v":{"$error":"#REF!"}}]
[{"$f":"INT(SkillConfig!#REF!)","v":{"$error":"#REF!"}},{"$f":"SkillConfig!#REF!","v":{"$error":"#REF!"}},{"$f":"SkillConfig!#REF!","v":{"$error":"#REF!"}},{"$f":"SkillConfig!#REF!","v":{"$error":"#REF!"}}]
[{"$f":"INT(SkillConfig!#REF!)","v":{"$error":"#REF!"}},{"$f":"SkillConfig!#REF!","v":{"$error":"#REF!"}},{"$f":"SkillConfig!#REF!","v":{"$error":"#REF!"}},{"$f":"SkillConfig!#REF!","v":{"$error":"#REF!"}}]
[{"$f":"INT(SkillConfig!#REF!)","v":{"$error":"#REF!"}},{"$f":"SkillConfig!#REF!","v":{"$error":"#REF!"}},{"$f":"SkillConfig!#REF!","v":{"$error":"#REF!"}},{"$f":"SkillConfig!#REF!","v":{"$error":"#REF!"}}]
[{"$f":"INT(SkillConfig!#REF!)","v":{"$error":"#REF!"}},{"$f":"SkillConfig!#REF!","v":{"$error":"#REF!"}},{"$f":"SkillConfig!#REF!","v":{"$error":"#REF!"}},{"$f":"SkillConfig!#REF!","v":{"$error":"#REF!"}}]
[{"$f":"INT(SkillConfig!#REF!)","v":{"$error":"#REF!"}},{"$f":"SkillConfig!#REF!","v":{"$error":"#REF!"}},{"$f":"SkillConfig!#REF!","v":{"$error":"#REF!"}},{"$f":"SkillConfig!#REF!","v":{"$error":"#REF!"}}]
[{"$f":"INT(SkillConfig!#REF!)","v":{"$error":"#REF!"}},{"$f":"SkillConfig!#REF!","v":{"$error":"#REF!"}},{"$f":"SkillConfig!#REF!","v":{"$error":"#REF!"}},{"$f":"SkillConfig!#REF!","v":{"$error":"#REF!"}}]
[{"$f":"INT(SkillConfig!#REF!)","v":{"$error":"#REF!"}},{"$f":"SkillConfig!#REF!","v":{"$error":"#REF!"}},{"$f":"SkillConfig!#REF!","v":{"$error":"#REF!"}},{"$f":"SkillConfig!#REF!","v":{"$error":"#REF!"}}]
[{"$f":"INT(SkillConfig!#REF!)","v":{"$error":"#REF!"}},{"$f":"SkillConfig!#REF!","v":{"$error":"#REF!"}},{"$f":"SkillConfig!#REF!","v":{"$error":"#REF!"}},{"$f":"SkillConfig!#REF!","v":{"$error":"#REF!"}}]
[{"$f":"INT(SkillConfig!#REF!)","v":{"$error":"#REF!"}},{"$f":"SkillConfig!#REF!","v":{"$error":"#REF!"}},{"$f":"SkillConfig!#REF!","v":{"$error":"#REF!"}},{"$f":"SkillConfig!#REF!","v":{"$error":"#REF!"}}]
[{"$f":"INT(SkillConfig!#REF!)","v":{"$error":"#REF!"}},{"$f":"SkillConfig!#REF!","v":{"$error":"#REF!"}},{"$f":"SkillConfig!#REF!","v":{"$error":"#REF!"}},{"$f":"SkillConfig!#REF!","v":{"$error":"#REF!"}}]
[{"$f":"INT(SkillConfig!#REF!)","v":{"$error":"#REF!"}},{"$f":"SkillConfig!#REF!","v":{"$error":"#REF!"}},{"$f":"SkillConfig!#REF!","v":{"$error":"#REF!"}},{"$f":"SkillConfig!#REF!","v":{"$error":"#REF!"}}]
[{"$f":"INT(SkillConfig!#REF!)","v":{"$error":"#REF!"}},{"$f":"SkillConfig!#REF!","v":{"$error":"#REF!"}},{"$f":"SkillConfig!#REF!","v":{"$error":"#REF!"}},{"$f":"SkillConfig!#REF!","v":{"$error":"#REF!"}}]
[{"$f":"INT(SkillConfig!#REF!)","v":{"$error":"#REF!"}},{"$f":"SkillConfig!#REF!","v":{"$error":"#REF!"}},{"$f":"SkillConfig!#REF!","v":{"$error":"#REF!"}},{"$f":"SkillConfig!#REF!","v":{"$error":"#REF!"}}]
[{"$f":"INT(SkillConfig!#REF!)","v":{"$error":"#REF!"}},{"$f":"SkillConfig!#REF!","v":{"$error":"#REF!"}},{"$f":"SkillConfig!#REF!","v":{"$error":"#REF!"}},{"$f":"SkillConfig!#REF!","v":{"$error":"#REF!"}}]
[{"$f":"INT(SkillConfig!#REF!)","v":{"$error":"#REF!"}},{"$f":"SkillConfig!#REF!","v":{"$error":"#REF!"}},{"$f":"SkillConfig!#REF!","v":{"$error":"#REF!"}},{"$f":"SkillConfig!#REF!","v":{"$error":"#REF!"}}]
[{"$f":"INT(SkillConfig!#REF!)","v":{"$error":"#REF!"}},{"$f":"SkillConfig!#REF!","v":{"$error":"#REF!"}},{"$f":"SkillConfig!#REF!","v":{"$error":"#REF!"}},{"$f":"SkillConfig!#REF!","v":{"$error":"#REF!"}}]
[{"$f":"INT(SkillConfig!#REF!)","v":{"$error":"#REF!"}},{"$f":"SkillConfig!#REF!","v":{"$error":"#REF!"}},{"$f":"SkillConfig!#REF!","v":{"$error":"#REF!"}},{"$f":"SkillConfig!#REF!","v":{"$error":"#REF!"}}]
[{"$f":"INT(SkillConfig!#REF!)","v":{"$error":"#REF!"}},{"$f":"SkillConfig!#REF!","v":{"$error":"#REF!"}},{"$f":"SkillConfig!#REF!","v":{"$error":"#REF!"}},{"$f":"SkillConfig!#REF!","v":{"$error":"#REF!"}}]
[{"$f":"INT(SkillConfig!#REF!)","v":{"$error":"#REF!"}},{"$f":"SkillConfig!#REF!","v":{"$error":"#REF!"}},{"$f":"SkillConfig!#REF!","v":{"$error":"#REF!"}},{"$f":"SkillConfig!#REF!","v":{"$error":"#REF!"}}]
[{"$f":"INT(SkillConfig!#REF!)","v":{"$error":"#REF!"}},{"$f":"SkillConfig!#REF!","v":{"$error":"#REF!"}},{"$f":"SkillConfig!#REF!","v":{"$error":"#REF!"}},{"$f":"SkillConfig!#REF!","v":{"$error":"#REF!"}}]
[{"$f":"INT(SkillConfig!#REF!)","v":{"$error":"#REF!"}},{"$f":"SkillConfig!#REF!","v":{"$error":"#REF!"}},{"$f":"SkillConfig!#REF!","v":{"$error":"#REF!"}},{"$f":"SkillConfig!#REF!","v":{"$error":"#REF!"}}]
[{"$f":"INT(SkillConfig!#REF!)","v":{"$error":"#REF!"}},{"$f":"SkillConfig!#REF!","v":{"$error":"#REF!"}},{"$f":"SkillConfig!#REF!","v":{"$error":"#REF!"}},{"$f":"SkillConfig!#REF!","v":{"$error":"#REF!"}}]
[{"$f":"INT(SkillConfig!#REF!)","v":{"$error":"#REF!"}},{"$f":"SkillConfig!#REF!","v":{"$error":"#REF!"}},{"$f":"SkillConfig!#REF!","v":{"$error":"#REF!"}},{"$f":"SkillConfig!#REF!","v":{"$error":"#REF!"}}]
[{"$f":"INT(SkillConfig!#REF!)","v":{"$error":"#REF!"}},{"$f":"SkillConfig!#REF!","v":{"$error":"#REF!"}},{"$f":"SkillConfig!#REF!","v":{"$error":"#REF!"}},{"$f":"SkillConfig!#REF!","v":{"$error":"#REF!"}}]
[{"$f":"INT(SkillConfig!#REF!)","v":{"$error":"#REF!"}},{"$f":"SkillConfig!#REF!","v":{"$error":"#REF!"}},{"$f":"SkillConfig!#REF!","v":{"$error":"#REF!"}},{"$f":"SkillConfig!#REF!","v":{"$error":"#REF!"}}]
[{"$f":"INT(SkillConfig!#REF!)","v":{"$error":"#REF!"}},{"$f":"SkillConfig!#REF!","v":{"$error":"#REF!"}},{"$f":"SkillConfig!#REF!","v":{"$error":"#REF!"}},{"$f":"SkillConfig!#REF!","v":{"$error":"#REF!"}}]
[{"$f":"INT(SkillConfig!#REF!)","v":{"$error":"#REF!"}},{"$f":"SkillConfig!#REF!","v":{"$error":"#REF!"}},{"$f":"SkillConfig!#REF!","v":{"$error":"#REF!"}},{"$f":"SkillConfig!#REF!","v":{"$error":"#REF!"}}]
[{"$f":"INT(SkillConfig!#REF!)","v":{"$error":"#REF!"}},{"$f":"SkillConfig!#REF!","v":{"$error":"#REF!"}},{"$f":"SkillConfig!#REF!","v":{"$error":"#REF!"}},{"$f":"SkillConfig!#REF!","v":{"$error":"#REF!"}}]
[{"$f":"INT(SkillConfig!#REF!)","v":{"$error":"#REF!"}},{"$f":"SkillConfig!#REF!","v":{"$error":"#REF!"}},{"$f":"SkillConfig!#REF!","v":{"$error":"#REF!"}},{"$f":"SkillConfig!#REF!","v":{"$error":"#REF!"}}]
[{"$f":"INT(SkillConfig!#REF!)","v":{"$error":"#REF!"}},{"$f":"SkillConfig!#REF!","v":{"$error":"#REF!"}},{"$f":"SkillConfig!#REF!","v":{"$error":"#REF!"}},{"$f":"SkillConfig!#REF!","v":{"$error":"#REF!"}}]
[{"$f":"INT(SkillConfig!#REF!)","v":{"$error":"#REF!"}},{"$f":"SkillConfig!#REF!","v":{"$error":"#REF!"}},{"$f":"SkillConfig!#REF!","v":{"$error":"#REF!"}},{"$f":"SkillConfig!#REF!","v":{"$error":"#REF!"}}]
[{"$f":"INT(SkillConfig!#REF!)","v":{"$error":"#REF!"}},{"$f":"SkillConfig!#REF!","v":{"$error":"#REF!"}},{"$f":"SkillConfig!#REF!","v":{"$error":"#REF!"}},{"$f":"SkillConfig!#REF!","v":{"$error":"#REF!"}}]
[{"$f":"INT(SkillConfig!#REF!)","v":{"$error":"#REF!"}},{"$f":"SkillConfig!#REF!","v":{"$error":"#REF!"}},{"$f":"SkillConfig!#REF!","v":{"$error":"#REF!"}},{"$f":"SkillConfig!#REF!","v":{"$error":"#REF!"}}]
[{"$f":"INT(SkillConfig!#REF!)","v":{"$error":"#REF!"}},{"$f":"SkillConfig!#REF!","v":{"$error":"#REF!"}},{"$f":"SkillConfig!#REF!","v":{"$error":"#REF!"}},{"$f":"SkillConfig!#REF!","v":{"$error":"#REF!"}}]
[{"$f":"INT(SkillConfig!#REF!)","v":{"$error":"#REF!"}},{"$f":"SkillConfig!#REF!","v":{"$error":"#REF!"}},{"$f":"SkillConfig!#REF!","v":{"$error":"#REF!"}},{"$f":"SkillConfig!#REF!","v":{"$error":"#REF!"}}]
[{"$f":"INT(SkillConfig!#REF!)","v":{"$error":"#REF!"}},{"$f":"SkillConfig!#REF!","v":{"$error":"#REF!"}},{"$f":"SkillConfig!#REF!","v":{"$error":"#REF!"}},{"$f":"SkillConfig!#REF!","v":{"$error":"#REF!"}}]
[{"$f":"INT(SkillConfig!#REF!)","v":{"$error":"#REF!"}},{"$f":"SkillConfig!#REF!","v":{"$error":"#REF!"}},{"$f":"SkillConfig!#REF!","v":{"$error":"#REF!"}},{"$f":"SkillConfig!#REF!","v":{"$error":"#REF!"}}]
[{"$f":"INT(SkillConfig!#REF!)","v":{"$error":"#REF!"}},{"$f":"SkillConfig!#REF!","v":{"$error":"#REF!"}},{"$f":"SkillConfig!#REF!","v":{"$error":"#REF!"}},{"$f":"SkillConfig!#REF!","v":{"$error":"#REF!"}}]
[{"$f":"INT(SkillConfig!#REF!)","v":{"$error":"#REF!"}},{"$f":"SkillConfig!#REF!","v":{"$error":"#REF!"}},{"$f":"SkillConfig!#REF!","v":{"$error":"#REF!"}},{"$f":"SkillConfig!#REF!","v":{"$error":"#REF!"}}]
[{"$f":"INT(SkillConfig!#REF!)","v":{"$error":"#REF!"}},{"$f":"SkillConfig!#REF!","v":{"$error":"#REF!"}},{"$f":"SkillConfig!#REF!","v":{"$error":"#REF!"}},{"$f":"SkillConfig!#REF!","v":{"$error":"#REF!"}}]
[{"$f":"INT(SkillConfig!#REF!)","v":{"$error":"#REF!"}},{"$f":"SkillConfig!#REF!","v":{"$error":"#REF!"}},{"$f":"SkillConfig!#REF!","v":{"$error":"#REF!"}},{"$f":"SkillConfig!#REF!","v":{"$error":"#REF!"}}]
[{"$f":"INT(SkillConfig!#REF!)","v":{"$error":"#REF!"}},{"$f":"SkillConfig!#REF!","v":{"$error":"#REF!"}},{"$f":"SkillConfig!#REF!","v":{"$error":"#REF!"}},{"$f":"SkillConfig!#REF!","v":{"$error":"#REF!"}}]
[{"$f":"INT(SkillConfig!#REF!)","v":{"$error":"#REF!"}},{"$f":"SkillConfig!#REF!","v":{"$error":"#REF!"}},{"$f":"SkillConfig!#REF!","v":{"$error":"#REF!"}},{"$f":"SkillConfig!#REF!","v":{"$error":"#REF!"}}]
[{"$f":"INT(SkillConfig!#REF!)","v":{"$error":"#REF!"}},{"$f":"SkillConfig!#REF!","v":{"$error":"#REF!"}},{"$f":"SkillConfig!#REF!","v":{"$error":"#REF!"}},{"$f":"SkillConfig!#REF!","v":{"$error":"#REF!"}}]
[{"$f":"INT(SkillConfig!#REF!)","v":{"$error":"#REF!"}},{"$f":"SkillConfig!#REF!","v":{"$error":"#REF!"}},{"$f":"SkillConfig!#REF!","v":{"$error":"#REF!"}},{"$f":"SkillConfig!#REF!","v":{"$error":"#REF!"}}]
[{"$f":"INT(SkillConfig!#REF!)","v":{"$error":"#REF!"}},{"$f":"SkillConfig!#REF!","v":{"$error":"#REF!"}},{"$f":"SkillConfig!#REF!","v":{"$error":"#REF!"}},{"$f":"SkillConfig!#REF!","v":{"$error":"#REF!"}}]
[{"$f":"INT(SkillConfig!#REF!)","v":{"$error":"#REF!"}},{"$f":"SkillConfig!#REF!","v":{"$error":"#REF!"}},{"$f":"SkillConfig!#REF!","v":{"$error":"#REF!"}},{"$f":"SkillConfig!#REF!","v":{"$error":"#REF!"}}]
[{"$f":"INT(SkillConfig!#REF!)","v":{"$error":"#REF!"}},{"$f":"SkillConfig!#REF!","v":{"$error":"#REF!"}},{"$f":"SkillConfig!#REF!","v":{"$error":"#REF!"}},{"$f":"SkillConfig!#REF!","v":{"$error":"#REF!"}}]
[{"$f":"INT(SkillConfig!#REF!)","v":{"$error":"#REF!"}},{"$f":"SkillConfig!#REF!","v":{"$error":"#REF!"}},{"$f":"SkillConfig!#REF!","v":{"$error":"#REF!"}},{"$f":"SkillConfig!#REF!","v":{"$error":"#REF!"}}]
[{"$f":"INT(SkillConfig!#REF!)","v":{"$error":"#REF!"}},{"$f":"SkillConfig!#REF!","v":{"$error":"#REF!"}},{"$f":"SkillConfig!#REF!","v":{"$error":"#REF!"}},{"$f":"SkillConfig!#REF!","v":{"$error":"#REF!"}}]
[{"$f":"INT(SkillConfig!#REF!)","v":{"$error":"#REF!"}},{"$f":"SkillConfig!#REF!","v":{"$error":"#REF!"}},{"$f":"SkillConfig!#REF!","v":{"$error":"#REF!"}},{"$f":"SkillConfig!#REF!","v":{"$error":"#REF!"}}]
[{"$f":"INT(SkillConfig!#REF!)","v":{"$error":"#REF!"}},{"$f":"SkillConfig!#REF!","v":{"$error":"#REF!"}},{"$f":"SkillConfig!#REF!","v":{"$error":"#REF!"}},{"$f":"SkillConfig!#REF!","v":{"$error":"#REF!"}}]
[{"$f":"INT(SkillConfig!#REF!)","v":{"$error":"#REF!"}},{"$f":"SkillConfig!#REF!","v":{"$error":"#REF!"}},{"$f":"SkillConfig!#REF!","v":{"$error":"#REF!"}},{"$f":"SkillConfig!#REF!","v":{"$error":"#REF!"}}]
[{"$f":"INT(SkillConfig!#REF!)","v":{"$error":"#REF!"}},{"$f":"SkillConfig!#REF!","v":{"$error":"#REF!"}},{"$f":"SkillConfig!#REF!","v":{"$error":"#REF!"}},{"$f":"SkillConfig!#REF!","v":{"$error":"#REF!"}}]
[{"$f":"INT(SkillConfig!#REF!)","v":{"$error":"#REF!"}},{"$f":"SkillConfig!#REF!","v":{"$error":"#REF!"}},{"$f":"SkillConfig!#REF!","v":{"$error":"#REF!"}},{"$f":"SkillConfig!#REF!","v":{"$error":"#REF!"}}]
[{"$f":"INT(SkillConfig!#REF!)","v":{"$error":"#REF!"}},{"$f":"SkillConfig!#REF!","v":{"$error":"#REF!"}},{"$f":"SkillConfig!#REF!","v":{"$error":"#REF!"}},{"$f":"SkillConfig!#REF!","v":{"$error":"#REF!"}}]
[{"$f":"INT(SkillConfig!#REF!)","v":{"$error":"#REF!"}},{"$f":"SkillConfig!#REF!","v":{"$error":"#REF!"}},{"$f":"SkillConfig!#REF!","v":{"$error":"#REF!"}},{"$f":"SkillConfig!#REF!","v":{"$error":"#REF!"}}]
[{"$f":"INT(SkillConfig!#REF!)","v":{"$error":"#REF!"}},{"$f":"SkillConfig!#REF!","v":{"$error":"#REF!"}},{"$f":"SkillConfig!#REF!","v":{"$error":"#REF!"}},{"$f":"SkillConfig!#REF!","v":{"$error":"#REF!"}}]
[{"$f":"INT(SkillConfig!#REF!)","v":{"$error":"#REF!"}},{"$f":"SkillConfig!#REF!","v":{"$error":"#REF!"}},{"$f":"SkillConfig!#REF!","v":{"$error":"#REF!"}},{"$f":"SkillConfig!#REF!","v":{"$error":"#REF!"}}]
[{"$f":"INT(SkillConfig!#REF!)","v":{"$error":"#REF!"}},{"$f":"SkillConfig!#REF!","v":{"$error":"#REF!"}},{"$f":"SkillConfig!#REF!","v":{"$error":"#REF!"}},{"$f":"SkillConfig!#REF!","v":{"$error":"#REF!"}}]
[{"$f":"INT(SkillConfig!#REF!)","v":{"$error":"#REF!"}},{"$f":"SkillConfig!#REF!","v":{"$error":"#REF!"}},{"$f":"SkillConfig!#REF!","v":{"$error":"#REF!"}},{"$f":"SkillConfig!#REF!","v":{"$error":"#REF!"}}]
[{"$f":"INT(SkillConfig!#REF!)","v":{"$error":"#REF!"}},{"$f":"SkillConfig!#REF!","v":{"$error":"#REF!"}},{"$f":"SkillConfig!#REF!","v":{"$error":"#REF!"}},{"$f":"SkillConfig!#REF!","v":{"$error":"#REF!"}}]
[{"$f":"INT(SkillConfig!#REF!)","v":{"$error":"#REF!"}},{"$f":"SkillConfig!#REF!","v":{"$error":"#REF!"}},{"$f":"SkillConfig!#REF!","v":{"$error":"#REF!"}},{"$f":"SkillConfig!#REF!","v":{"$error":"#REF!"}}]
[{"$f":"INT(SkillConfig!#REF!)","v":{"$error":"#REF!"}},{"$f":"SkillConfig!#REF!","v":{"$error":"#REF!"}},{"$f":"SkillConfig!#REF!","v":{"$error":"#REF!"}},{"$f":"SkillConfig!#REF!","v":{"$error":"#REF!"}}]
[{"$f":"INT(SkillConfig!#REF!)","v":{"$error":"#REF!"}},{"$f":"SkillConfig!#REF!","v":{"$error":"#REF!"}},{"$f":"SkillConfig!#REF!","v":{"$error":"#REF!"}},{"$f":"SkillConfig!#REF!","v":{"$error":"#REF!"}}]
[{"$f":"INT(SkillConfig!#REF!)","v":{"$error":"#REF!"}},{"$f":"SkillConfig!#REF!","v":{"$error":"#REF!"}},{"$f":"SkillConfig!#REF!","v":{"$error":"#REF!"}},{"$f":"SkillConfig!#REF!","v":{"$error":"#REF!"}}]
[{"$f":"INT(SkillConfig!#REF!)","v":{"$error":"#REF!"}},{"$f":"SkillConfig!#REF!","v":{"$error":"#REF!"}},{"$f":"SkillConfig!#REF!","v":{"$error":"#REF!"}},{"$f":"SkillConfig!#REF!","v":{"$error":"#REF!"}}]
[{"$f":"INT(SkillConfig!#REF!)","v":{"$error":"#REF!"}},{"$f":"SkillConfig!#REF!","v":{"$error":"#REF!"}},{"$f":"SkillConfig!#REF!","v":{"$error":"#REF!"}},{"$f":"SkillConfig!#REF!","v":{"$error":"#REF!"}}]
[{"$f":"INT(SkillConfig!#REF!)","v":{"$error":"#REF!"}},{"$f":"SkillConfig!#REF!","v":{"$error":"#REF!"}},{"$f":"SkillConfig!#REF!","v":{"$error":"#REF!"}},{"$f":"SkillConfig!#REF!","v":{"$error":"#REF!"}}]
[{"$f":"INT(SkillConfig!#REF!)","v":{"$error":"#REF!"}},{"$f":"SkillConfig!#REF!","v":{"$error":"#REF!"}},{"$f":"SkillConfig!#REF!","v":{"$error":"#REF!"}},{"$f":"SkillConfig!#REF!","v":{"$error":"#REF!"}}]
[{"$f":"INT(SkillConfig!#REF!)","v":{"$error":"#REF!"}},{"$f":"SkillConfig!#REF!","v":{"$error":"#REF!"}},{"$f":"SkillConfig!#REF!","v":{"$error":"#REF!"}},{"$f":"SkillConfig!#REF!","v":{"$error":"#REF!"}}]
[{"$f":"INT(SkillConfig!#REF!)","v":{"$error":"#REF!"}},{"$f":"SkillConfig!#REF!","v":{"$error":"#REF!"}},{"$f":"SkillConfig!#REF!","v":{"$error":"#REF!"}},{"$f":"SkillConfig!#REF!","v":{"$error":"#REF!"}}]
[{"$f":"INT(SkillConfig!#REF!)","v":{"$error":"#REF!"}},{"$f":"SkillConfig!#REF!","v":{"$error":"#REF!"}},{"$f":"SkillConfig!#REF!","v":{"$error":"#REF!"}},{"$f":"SkillConfig!#REF!","v":{"$error":"#REF!"}}]
[{"$f":"INT(SkillConfig!#REF!)","v":{"$error":"#REF!"}},{"$f":"SkillConfig!#REF!","v":{"$error":"#REF!"}},{"$f":"SkillConfig!#REF!","v":{"$error":"#REF!"}},{"$f":"SkillConfig!#REF!","v":{"$error":"#REF!"}}]
[{"$f":"INT(SkillConfig!#REF!)","v":{"$error":"#REF!"}},{"$f":"SkillConfig!#REF!","v":{"$error":"#REF!"}},{"$f":"SkillConfig!#REF!","v":{"$error":"#REF!"}},{"$f":"SkillConfig!#REF!","v":{"$error":"#REF!"}}]
[{"$f":"INT(SkillConfig!#REF!)","v":{"$error":"#REF!"}},{"$f":"SkillConfig!#REF!","v":{"$error":"#REF!"}},{"$f":"SkillConfig!#REF!","v":{"$error":"#REF!"}},{"$f":"SkillConfig!#REF!","v":{"$error":"#REF!"}}]
[{"$f":"INT(SkillConfig!#REF!)","v":{"$error":"#REF!"}},{"$f":"SkillConfig!#REF!","v":{"$error":"#REF!"}},{"$f":"SkillConfig!#REF!","v":{"$error":"#REF!"}},{"$f":"SkillConfig!#REF!","v":{"$error":"#REF!"}}]
[{"$f":"INT(SkillConfig!#REF!)","v":{"$error":"#REF!"}},{"$f":"SkillConfig!#REF!","v":{"$error":"#REF!"}},{"$f":"SkillConfig!#REF!","v":{"$error":"#REF!"}},{"$f":"SkillConfig!#REF!","v":{"$error":"#REF!"}}]
[{"$f":"INT(SkillConfig!#REF!)","v":{"$error":"#REF!"}},{"$f":"SkillConfig!#REF!","v":{"$error":"#REF!"}},{"$f":"SkillConfig!#REF!","v":{"$error":"#REF!"}},{"$f":"SkillConfig!#REF!","v":{"$error":"#REF!"}}]
[{"$f":"INT(SkillConfig!#REF!)","v":{"$error":"#REF!"}},{"$f":"SkillConfig!#REF!","v":{"$error":"#REF!"}},{"$f":"SkillConfig!#REF!","v":{"$error":"#REF!"}},{"$f":"SkillConfig!#REF!","v":{"$error":"#REF!"}}]
[{"$f":"INT(SkillConfig!#REF!)","v":{"$error":"#REF!"}},{"$f":"SkillConfig!#REF!","v":{"$error":"#REF!"}},{"$f":"SkillConfig!#REF!","v":{"$error":"#REF!"}},{"$f":"SkillConfig!#REF!","v":{"$error":"#REF!"}}]
[{"$f":"INT(SkillConfig!#REF!)","v":{"$error":"#REF!"}},{"$f":"SkillConfig!#REF!","v":{"$error":"#REF!"}},{"$f":"SkillConfig!#REF!","v":{"$error":"#REF!"}},{"$f":"SkillConfig!#REF!","v":{"$error":"#REF!"}}]
[{"$f":"INT(SkillConfig!#REF!)","v":{"$error":"#REF!"}},{"$f":"SkillConfig!#REF!","v":{"$error":"#REF!"}},{"$f":"SkillConfig!#REF!","v":{"$error":"#REF!"}},{"$f":"SkillConfig!#REF!","v":{"$error":"#REF!"}}]
[{"$f":"INT(SkillConfig!#REF!)","v":{"$error":"#REF!"}},{"$f":"SkillConfig!#REF!","v":{"$error":"#REF!"}},{"$f":"SkillConfig!#REF!","v":{"$error":"#REF!"}},{"$f":"SkillConfig!#REF!","v":{"$error":"#REF!"}}]
[{"$f":"INT(SkillConfig!#REF!)","v":{"$error":"#REF!"}},{"$f":"SkillConfig!#REF!","v":{"$error":"#REF!"}},{"$f":"SkillConfig!#REF!","v":{"$error":"#REF!"}},{"$f":"SkillConfig!#REF!","v":{"$error":"#REF!"}}]
[{"$f":"INT(SkillConfig!#REF!)","v":{"$error":"#REF!"}},{"$f":"SkillConfig!#REF!","v":{"$error":"#REF!"}},{"$f":"SkillConfig!#REF!","v":{"$error":"#REF!"}},{"$f":"SkillConfig!#REF!","v":{"$error":"#REF!"}}]
[{"$f":"INT(SkillConfig!#REF!)","v":{"$error":"#REF!"}},{"$f":"SkillConfig!#REF!","v":{"$error":"#REF!"}},{"$f":"SkillConfig!#REF!","v":{"$error":"#REF!"}},{"$f":"SkillConfig!#REF!","v":{"$error":"#REF!"}}]
[{"$f":"INT(SkillConfig!#REF!)","v":{"$error":"#REF!"}},{"$f":"SkillConfig!#REF!","v":{"$error":"#REF!"}},{"$f":"SkillConfig!#REF!","v":{"$error":"#REF!"}},{"$f":"SkillConfig!#REF!","v":{"$error":"#REF!"}}]
[{"$f":"INT(SkillConfig!#REF!)","v":{"$error":"#REF!"}},{"$f":"SkillConfig!#REF!","v":{"$error":"#REF!"}},{"$f":"SkillConfig!#REF!","v":{"$error":"#REF!"}},{"$f":"SkillConfig!#REF!","v":{"$error":"#REF!"}}]
[{"$f":"INT(SkillConfig!#REF!)","v":{"$error":"#REF!"}},{"$f":"SkillConfig!#REF!","v":{"$error":"#REF!"}},{"$f":"SkillConfig!#REF!","v":{"$error":"#REF!"}},{"$f":"SkillConfig!#REF!","v":{"$error":"#REF!"}}]
[{"$f":"INT(SkillConfig!#REF!)","v":{"$error":"#REF!"}},{"$f":"SkillConfig!#REF!","v":{"$error":"#REF!"}},{"$f":"SkillConfig!#REF!","v":{"$error":"#REF!"}},{"$f":"SkillConfig!#REF!","v":{"$error":"#REF!"}}]
[{"$f":"INT(SkillConfig!#REF!)","v":{"$error":"#REF!"}},{"$f":"SkillConfig!#REF!","v":{"$error":"#REF!"}},{"$f":"SkillConfig!#REF!","v":{"$error":"#REF!"}},{"$f":"SkillConfig!#REF!","v":{"$error":"#REF!"}}]
[{"$f":"INT(SkillConfig!#REF!)","v":{"$error":"#REF!"}},{"$f":"SkillConfig!#REF!","v":{"$error":"#REF!"}},{"$f":"SkillConfig!#REF!","v":{"$error":"#REF!"}},{"$f":"SkillConfig!#REF!","v":{"$error":"#REF!"}}]
[{"$f":"INT(SkillConfig!#REF!)","v":{"$error":"#REF!"}},{"$f":"SkillConfig!#REF!","v":{"$error":"#REF!"}},{"$f":"SkillConfig!#REF!","v":{"$error":"#REF!"}},{"$f":"SkillConfig!#REF!","v":{"$error":"#REF!"}}]
[{"$f":"INT(SkillConfig!#REF!)","v":{"$error":"#REF!"}},{"$f":"SkillConfig!#REF!","v":{"$error":"#REF!"}},{"$f":"SkillConfig!#REF!","v":{"$error":"#REF!"}},{"$f":"SkillConfig!#REF!","v":{"$error":"#REF!"}}]
[{"$f":"INT(SkillConfig!#REF!)","v":{"$error":"#REF!"}},{"$f":"SkillConfig!#REF!","v":{"$error":"#REF!"}},{"$f":"SkillConfig!#REF!","v":{"$error":"#REF!"}},{"$f":"SkillConfig!#REF!","v":{"$error":"#REF!"}}]
[{"$f":"INT(SkillConfig!#REF!)","v":{"$error":"#REF!"}},{"$f":"SkillConfig!#REF!","v":{"$error":"#REF!"}},{"$f":"SkillConfig!#REF!","v":{"$error":"#REF!"}},{"$f":"SkillConfig!#REF!","v":{"$error":"#REF!"}}]
[{"$f":"INT(SkillConfig!#REF!)","v":{"$error":"#REF!"}},{"$f":"SkillConfig!#REF!","v":{"$error":"#REF!"}},{"$f":"SkillConfig!#REF!","v":{"$error":"#REF!"}},{"$f":"SkillConfig!#REF!","v":{"$error":"#REF!"}}]
[{"$f":"INT(SkillConfig!#REF!)","v":{"$error":"#REF!"}},{"$f":"SkillConfig!#REF!","v":{"$error":"#REF!"}},{"$f":"SkillConfig!#REF!","v":{"$error":"#REF!"}},{"$f":"SkillConfig!#REF!","v":{"$error":"#REF!"}}]
[{"$f":"INT(SkillConfig!#REF!)","v":{"$error":"#REF!"}},{"$f":"SkillConfig!#REF!","v":{"$error":"#REF!"}},{"$f":"SkillConfig!#REF!","v":{"$error":"#REF!"}},{"$f":"SkillConfig!#REF!","v":{"$error":"#REF!"}}]
[{"$f":"INT(SkillConfig!#REF!)","v":{"$error":"#REF!"}},{"$f":"SkillConfig!#REF!","v":{"$error":"#REF!"}},{"$f":"SkillConfig!#REF!","v":{"$error":"#REF!"}},{"$f":"SkillConfig!#REF!","v":{"$error":"#REF!"}}]
[{"$f":"INT(SkillConfig!#REF!)","v":{"$error":"#REF!"}},{"$f":"SkillConfig!#REF!","v":{"$error":"#REF!"}},{"$f":"SkillConfig!#REF!","v":{"$error":"#REF!"}},{"$f":"SkillConfig!#REF!","v":{"$error":"#REF!"}}]
[{"$f":"INT(SkillConfig!#REF!)","v":{"$error":"#REF!"}},{"$f":"SkillConfig!#REF!","v":{"$error":"#REF!"}},{"$f":"SkillConfig!#REF!","v":{"$error":"#REF!"}},{"$f":"SkillConfig!#REF!","v":{"$error":"#REF!"}}]
[{"$f":"INT(SkillConfig!#REF!)","v":{"$error":"#REF!"}},{"$f":"SkillConfig!#REF!","v":{"$error":"#REF!"}},{"$f":"SkillConfig!#REF!","v":{"$error":"#REF!"}},{"$f":"SkillConfig!#REF!","v":{"$error":"#REF!"}}]
[{"$f":"INT(SkillConfig!#REF!)","v":{"$error":"#REF!"}},{"$f":"SkillConfig!#REF!","v":{"$error":"#REF!"}},{"$f":"SkillConfig!#REF!","v":{"$error":"#REF!"}},{"$f":"SkillConfig!#REF!","v":{"$error":"#REF!"}}]
[{"$f":"INT(SkillConfig!#REF!)","v":{"$error":"#REF!"}},{"$f":"SkillConfig!#REF!","v":{"$error":"#REF!"}},{"$f":"SkillConfig!#REF!","v":{"$error":"#REF!"}},{"$f":"SkillConfig!#REF!","v":{"$error":"#REF!"}}]
[{"$f":"INT(SkillConfig!#REF!)","v":{"$error":"#REF!"}},{"$f":"SkillConfig!#REF!","v":{"$error":"#REF!"}},{"$f":"SkillConfig!#REF!","v":{"$error":"#REF!"}},{"$f":"SkillConfig!#REF!","v":{"$error":"#REF!"}}]
[{"$f":"INT(SkillConfig!#REF!)","v":{"$error":"#REF!"}},{"$f":"SkillConfig!#REF!","v":{"$error":"#REF!"}},{"$f":"SkillConfig!#REF!","v":{"$error":"#REF!"}},{"$f":"SkillConfig!#REF!","v":{"$error":"#REF!"}}]
[{"$f":"INT(SkillConfig!#REF!)","v":{"$error":"#REF!"}},{"$f":"SkillConfig!#REF!","v":{"$error":"#REF!"}},{"$f":"SkillConfig!#REF!","v":{"$error":"#REF!"}},{"$f":"SkillConfig!#REF!","v":{"$error":"#REF!"}}]
[{"$f":"INT(SkillConfig!#REF!)","v":{"$error":"#REF!"}},{"$f":"SkillConfig!#REF!","v":{"$error":"#REF!"}},{"$f":"SkillConfig!#REF!","v":{"$error":"#REF!"}},{"$f":"SkillConfig!#REF!","v":{"$error":"#REF!"}}]
[{"$f":"INT(SkillConfig!#REF!)","v":{"$error":"#REF!"}},{"$f":"SkillConfig!#REF!","v":{"$error":"#REF!"}},{"$f":"SkillConfig!#REF!","v":{"$error":"#REF!"}},{"$f":"SkillConfig!#REF!","v":{"$error":"#REF!"}}]
[{"$f":"INT(SkillConfig!#REF!)","v":{"$error":"#REF!"}},{"$f":"SkillConfig!#REF!","v":{"$error":"#REF!"}},{"$f":"SkillConfig!#REF!","v":{"$error":"#REF!"}},{"$f":"SkillConfig!#REF!","v":{"$error":"#REF!"}}]
[{"$f":"INT(SkillConfig!#REF!)","v":{"$error":"#REF!"}},{"$f":"SkillConfig!#REF!","v":{"$error":"#REF!"}},{"$f":"SkillConfig!#REF!","v":{"$error":"#REF!"}},{"$f":"SkillConfig!#REF!","v":{"$error":"#REF!"}}]
[{"$f":"INT(SkillConfig!#REF!)","v":{"$error":"#REF!"}},{"$f":"SkillConfig!#REF!","v":{"$error":"#REF!"}},{"$f":"SkillConfig!#REF!","v":{"$error":"#REF!"}},{"$f":"SkillConfig!#REF!","v":{"$error":"#REF!"}}]
[{"$f":"INT(SkillConfig!#REF!)","v":{"$error":"#REF!"}},{"$f":"SkillConfig!#REF!","v":{"$error":"#REF!"}},{"$f":"SkillConfig!#REF!","v":{"$error":"#REF!"}},{"$f":"SkillConfig!#REF!","v":{"$error":"#REF!"}}]
[{"$f":"INT(SkillConfig!#REF!)","v":{"$error":"#REF!"}},{"$f":"SkillConfig!#REF!","v":{"$error":"#REF!"}},{"$f":"SkillConfig!#REF!","v":{"$error":"#REF!"}},{"$f":"SkillConfig!#REF!","v":{"$error":"#REF!"}}]
[{"$f":"INT(SkillConfig!#REF!)","v":{"$error":"#REF!"}},{"$f":"SkillConfig!#REF!","v":{"$error":"#REF!"}},{"$f":"SkillConfig!#REF!","v":{"$error":"#REF!"}},{"$f":"SkillConfig!#REF!","v":{"$error":"#REF!"}}]
[{"$f":"INT(SkillConfig!#REF!)","v":{"$error":"#REF!"}},{"$f":"SkillConfig!#REF!","v":{"$error":"#REF!"}},{"$f":"SkillConfig!#REF!","v":{"$error":"#REF!"}},{"$f":"SkillConfig!#REF!","v":{"$error":"#REF!"}}]
[{"$f":"INT(SkillConfig!#REF!)","v":{"$error":"#REF!"}},{"$f":"SkillConfig!#REF!","v":{"$error":"#REF!"}},{"$f":"SkillConfig!#REF!","v":{"$error":"#REF!"}},{"$f":"SkillConfig!#REF!","v":{"$error":"#REF!"}}]
[{"$f":"INT(SkillConfig!#REF!)","v":{"$error":"#REF!"}},{"$f":"SkillConfig!#REF!","v":{"$error":"#REF!"}},{"$f":"SkillConfig!#REF!","v":{"$error":"#REF!"}},{"$f":"SkillConfig!#REF!","v":{"$error":"#REF!"}}]
[{"$f":"INT(SkillConfig!#REF!)","v":{"$error":"#REF!"}},{"$f":"SkillConfig!#REF!","v":{"$error":"#REF!"}},{"$f":"SkillConfig!#REF!","v":{"$error":"#REF!"}},{"$f":"SkillConfig!#REF!","v":{"$error":"#REF!"}}]
[{"$f":"INT(SkillConfig!#REF!)","v":{"$error":"#REF!"}},{"$f":"SkillConfig!#REF!","v":{"$error":"#REF!"}},{"$f":"SkillConfig!#REF!","v":{"$error":"#REF!"}},{"$f":"SkillConfig!#REF!","v":{"$error":"#REF!"}}]
[{"$f":"INT(SkillConfig!#REF!)","v":{"$error":"#REF!"}},{"$f":"SkillConfig!#REF!","v":{"$error":"#REF!"}},{"$f":"SkillConfig!#REF!","v":{"$error":"#REF!"}},{"$f":"SkillConfig!#REF!","v":{"$error":"#REF!"}}]
[{"$f":"INT(SkillConfig!#REF!)","v":{"$error":"#REF!"}},{"$f":"SkillConfig!#REF!","v":{"$error":"#REF!"}},{"$f":"SkillConfig!#REF!","v":{"$error":"#REF!"}},{"$f":"SkillConfig!#REF!","v":{"$error":"#REF!"}}]
[{"$f":"INT(SkillConfig!#REF!)","v":{"$error":"#REF!"}},{"$f":"SkillConfig!#REF!","v":{"$error":"#REF!"}},{"$f":"SkillConfig!#REF!","v":{"$error":"#REF!"}},{"$f":"SkillConfig!#REF!","v":{"$error":"#REF!"}}]
[{"$f":"INT(SkillConfig!#REF!)","v":{"$error":"#REF!"}},{"$f":"SkillConfig!#REF!","v":{"$error":"#REF!"}},{"$f":"SkillConfig!#REF!","v":{"$error":"#REF!"}},{"$f":"SkillConfig!#REF!","v":{"$error":"#REF!"}}]
[{"$f":"INT(SkillConfig!#REF!)","v":{"$error":"#REF!"}},{"$f":"SkillConfig!#REF!","v":{"$error":"#REF!"}},{"$f":"SkillConfig!#REF!","v":{"$error":"#REF!"}},{"$f":"SkillConfig!#REF!","v":{"$error":"#REF!"}}]
[{"$f":"INT(SkillConfig!#REF!)","v":{"$error":"#REF!"}},{"$f":"SkillConfig!#REF!","v":{"$error":"#REF!"}},{"$f":"SkillConfig!#REF!","v":{"$error":"#REF!"}},{"$f":"SkillConfig!#REF!","v":{"$error":"#REF!"}}]
[{"$f":"INT(SkillConfig!#REF!)","v":{"$error":"#REF!"}},{"$f":"SkillConfig!#REF!","v":{"$error":"#REF!"}},{"$f":"SkillConfig!#REF!","v":{"$error":"#REF!"}},{"$f":"SkillConfig!#REF!","v":{"$error":"#REF!"}}]
[{"$f":"INT(SkillConfig!#REF!)","v":{"$error":"#REF!"}},{"$f":"SkillConfig!#REF!","v":{"$error":"#REF!"}},{"$f":"SkillConfig!#REF!","v":{"$error":"#REF!"}},{"$f":"SkillConfig!#REF!","v":{"$error":"#REF!"}}]
[{"$f":"INT(SkillConfig!#REF!)","v":{"$error":"#REF!"}},{"$f":"SkillConfig!#REF!","v":{"$error":"#REF!"}},{"$f":"SkillConfig!#REF!","v":{"$error":"#REF!"}},{"$f":"SkillConfig!#REF!","v":{"$error":"#REF!"}}]
[{"$f":"INT(SkillConfig!#REF!)","v":{"$error":"#REF!"}},{"$f":"SkillConfig!#REF!","v":{"$error":"#REF!"}},{"$f":"SkillConfig!#REF!","v":{"$error":"#REF!"}},{"$f":"SkillConfig!#REF!","v":{"$error":"#REF!"}}]
[{"$f":"INT(SkillConfig!#REF!)","v":{"$error":"#REF!"}},{"$f":"SkillConfig!#REF!","v":{"$error":"#REF!"}},{"$f":"SkillConfig!#REF!","v":{"$error":"#REF!"}},{"$f":"SkillConfig!#REF!","v":{"$error":"#REF!"}}]
[{"$f":"INT(SkillConfig!#REF!)","v":{"$error":"#REF!"}},{"$f":"SkillConfig!#REF!","v":{"$error":"#REF!"}},{"$f":"SkillConfig!#REF!","v":{"$error":"#REF!"}},{"$f":"SkillConfig!#REF!","v":{"$error":"#REF!"}}]
[{"$f":"INT(SkillConfig!#REF!)","v":{"$error":"#REF!"}},{"$f":"SkillConfig!#REF!","v":{"$error":"#REF!"}},{"$f":"SkillConfig!#REF!","v":{"$error":"#REF!"}},{"$f":"SkillConfig!#REF!","v":{"$error":"#REF!"}}]
[{"$f":"INT(SkillConfig!#REF!)","v":{"$error":"#REF!"}},{"$f":"SkillConfig!#REF!","v":{"$error":"#REF!"}},{"$f":"SkillConfig!#REF!","v":{"$error":"#REF!"}},{"$f":"SkillConfig!#REF!","v":{"$error":"#REF!"}}]
[{"$f":"INT(SkillConfig!#REF!)","v":{"$error":"#REF!"}},{"$f":"SkillConfig!#REF!","v":{"$error":"#REF!"}},{"$f":"SkillConfig!#REF!","v":{"$error":"#REF!"}},{"$f":"SkillConfig!#REF!","v":{"$error":"#REF!"}}]
[{"$f":"INT(SkillConfig!#REF!)","v":{"$error":"#REF!"}},{"$f":"SkillConfig!#REF!","v":{"$error":"#REF!"}},{"$f":"SkillConfig!#REF!","v":{"$error":"#REF!"}},{"$f":"SkillConfig!#REF!","v":{"$error":"#REF!"}}]
[{"$f":"INT(SkillConfig!#REF!)","v":{"$error":"#REF!"}},{"$f":"SkillConfig!#REF!","v":{"$error":"#REF!"}},{"$f":"SkillConfig!#REF!","v":{"$error":"#REF!"}},{"$f":"SkillConfig!#REF!","v":{"$error":"#REF!"}}]
[{"$f":"INT(SkillConfig!#REF!)","v":{"$error":"#REF!"}},{"$f":"SkillConfig!#REF!","v":{"$error":"#REF!"}},{"$f":"SkillConfig!#REF!","v":{"$error":"#REF!"}},{"$f":"SkillConfig!#REF!","v":{"$error":"#REF!"}}]
[{"$f":"INT(SkillConfig!#REF!)","v":{"$error":"#REF!"}},{"$f":"SkillConfig!#REF!","v":{"$error":"#REF!"}},{"$f":"SkillConfig!#REF!","v":{"$error":"#REF!"}},{"$f":"SkillConfig!#REF!","v":{"$error":"#REF!"}}]
[{"$f":"INT(SkillConfig!#REF!)","v":{"$error":"#REF!"}},{"$f":"SkillConfig!#REF!","v":{"$error":"#REF!"}},{"$f":"SkillConfig!#REF!","v":{"$error":"#REF!"}},{"$f":"SkillConfig!#REF!","v":{"$error":"#REF!"}}]
[{"$f":"INT(SkillConfig!#REF!)","v":{"$error":"#REF!"}},{"$f":"SkillConfig!#REF!","v":{"$error":"#REF!"}},{"$f":"SkillConfig!#REF!","v":{"$error":"#REF!"}},{"$f":"SkillConfig!#REF!","v":{"$error":"#REF!"}}]
[{"$f":"INT(SkillConfig!#REF!)","v":{"$error":"#REF!"}},{"$f":"SkillConfig!#REF!","v":{"$error":"#REF!"}},{"$f":"SkillConfig!#REF!","v":{"$error":"#REF!"}},{"$f":"SkillConfig!#REF!","v":{"$error":"#REF!"}}]
[{"$f":"INT(SkillConfig!#REF!)","v":{"$error":"#REF!"}},{"$f":"SkillConfig!#REF!","v":{"$error":"#REF!"}},{"$f":"SkillConfig!#REF!","v":{"$error":"#REF!"}},{"$f":"SkillConfig!#REF!","v":{"$error":"#REF!"}}]
[{"$f":"INT(SkillConfig!#REF!)","v":{"$error":"#REF!"}},{"$f":"SkillConfig!#REF!","v":{"$error":"#REF!"}},{"$f":"SkillConfig!#REF!","v":{"$error":"#REF!"}},{"$f":"SkillConfig!#REF!","v":{"$error":"#REF!"}}]
[{"$f":"INT(SkillConfig!#REF!)","v":{"$error":"#REF!"}},{"$f":"SkillConfig!#REF!","v":{"$error":"#REF!"}},{"$f":"SkillConfig!#REF!","v":{"$error":"#REF!"}},{"$f":"SkillConfig!#REF!","v":{"$error":"#REF!"}}]
[{"$f":"INT(SkillConfig!#REF!)","v":{"$error":"#REF!"}},{"$f":"SkillConfig!#REF!","v":{"$error":"#REF!"}},{"$f":"SkillConfig!#REF!","v":{"$error":"#REF!"}},{"$f":"SkillConfig!#REF!","v":{"$error":"#REF!"}}]
[{"$f":"INT(SkillConfig!#REF!)","v":{"$error":"#REF!"}},{"$f":"SkillConfig!#REF!","v":{"$error":"#REF!"}},{"$f":"SkillConfig!#REF!","v":{"$error":"#REF!"}},{"$f":"SkillConfig!#REF!","v":{"$error":"#REF!"}}]
[{"$f":"INT(SkillConfig!#REF!)","v":{"$error":"#REF!"}},{"$f":"SkillConfig!#REF!","v":{"$error":"#REF!"}},{"$f":"SkillConfig!#REF!","v":{"$error":"#REF!"}},{"$f":"SkillConfig!#REF!","v":{"$error":"#REF!"}}]
[{"$f":"INT(SkillConfig!#REF!)","v":{"$error":"#REF!"}},{"$f":"SkillConfig!#REF!","v":{"$error":"#REF!"}},{"$f":"SkillConfig!#REF!","v":{"$error":"#REF!"}},{"$f":"SkillConfig!#REF!","v":{"$error":"#REF!"}}]
[{"$f":"INT(SkillConfig!#REF!)","v":{"$error":"#REF!"}},{"$f":"SkillConfig!#REF!","v":{"$error":"#REF!"}},{"$f":"SkillConfig!#REF!","v":{"$error":"#REF!"}},{"$f":"SkillConfig!#REF!","v":{"$error":"#REF!"}}]
[{"$f":"INT(SkillConfig!#REF!)","v":{"$error":"#REF!"}},{"$f":"SkillConfig!#REF!","v":{"$error":"#REF!"}},{"$f":"SkillConfig!#REF!","v":{"$error":"#REF!"}},{"$f":"SkillConfig!#REF!","v":{"$error":"#REF!"}}]
[{"$f":"INT(SkillConfig!#REF!)","v":{"$error":"#REF!"}},{"$f":"SkillConfig!#REF!","v":{"$error":"#REF!"}},{"$f":"SkillConfig!#REF!","v":{"$error":"#REF!"}},{"$f":"SkillConfig!#REF!","v":{"$error":"#REF!"}}]
[{"$f":"INT(SkillConfig!#REF!)","v":{"$error":"#REF!"}},{"$f":"SkillConfig!#REF!","v":{"$error":"#REF!"}},{"$f":"SkillConfig!#REF!","v":{"$error":"#REF!"}},{"$f":"SkillConfig!#REF!","v":{"$error":"#REF!"}}]
[{"$f":"INT(SkillConfig!#REF!)","v":{"$error":"#REF!"}},{"$f":"SkillConfig!#REF!","v":{"$error":"#REF!"}},{"$f":"SkillConfig!#REF!","v":{"$error":"#REF!"}},{"$f":"SkillConfig!#REF!","v":{"$error":"#REF!"}}]
[{"$f":"INT(SkillConfig!#REF!)","v":{"$error":"#REF!"}},{"$f":"SkillConfig!#REF!","v":{"$error":"#REF!"}},{"$f":"SkillConfig!#REF!","v":{"$error":"#REF!"}},{"$f":"SkillConfig!#REF!","v":{"$error":"#REF!"}}]
[{"$f":"INT(SkillConfig!#REF!)","v":{"$error":"#REF!"}},{"$f":"SkillConfig!#REF!","v":{"$error":"#REF!"}},{"$f":"SkillConfig!#REF!","v":{"$error":"#REF!"}},{"$f":"SkillConfig!#REF!","v":{"$error":"#REF!"}}]
[{"$f":"INT(SkillConfig!#REF!)","v":{"$error":"#REF!"}},{"$f":"SkillConfig!#REF!","v":{"$error":"#REF!"}},{"$f":"SkillConfig!#REF!","v":{"$error":"#REF!"}},{"$f":"SkillConfig!#REF!","v":{"$error":"#REF!"}}]
[{"$f":"INT(SkillConfig!#REF!)","v":{"$error":"#REF!"}},{"$f":"SkillConfig!#REF!","v":{"$error":"#REF!"}},{"$f":"SkillConfig!#REF!","v":{"$error":"#REF!"}},{"$f":"SkillConfig!#REF!","v":{"$error":"#REF!"}}]
[{"$f":"INT(SkillConfig!#REF!)","v":{"$error":"#REF!"}},{"$f":"SkillConfig!#REF!","v":{"$error":"#REF!"}},{"$f":"SkillConfig!#REF!","v":{"$error":"#REF!"}},{"$f":"SkillConfig!#REF!","v":{"$error":"#REF!"}}]
[{"$f":"INT(SkillConfig!#REF!)","v":{"$error":"#REF!"}},{"$f":"SkillConfig!#REF!","v":{"$error":"#REF!"}},{"$f":"SkillConfig!#REF!","v":{"$error":"#REF!"}},{"$f":"SkillConfig!#REF!","v":{"$error":"#REF!"}}]
[{"$f":"INT(SkillConfig!#REF!)","v":{"$error":"#REF!"}},{"$f":"SkillConfig!#REF!","v":{"$error":"#REF!"}},{"$f":"SkillConfig!#REF!","v":{"$error":"#REF!"}},{"$f":"SkillConfig!#REF!","v":{"$error":"#REF!"}}]
[{"$f":"INT(SkillConfig!#REF!)","v":{"$error":"#REF!"}},{"$f":"SkillConfig!#REF!","v":{"$error":"#REF!"}},{"$f":"SkillConfig!#REF!","v":{"$error":"#REF!"}},{"$f":"SkillConfig!#REF!","v":{"$error":"#REF!"}}]
[{"$f":"INT(SkillConfig!#REF!)","v":{"$error":"#REF!"}},{"$f":"SkillConfig!#REF!","v":{"$error":"#REF!"}},{"$f":"SkillConfig!#REF!","v":{"$error":"#REF!"}},{"$f":"SkillConfig!#REF!","v":{"$error":"#REF!"}}]
[{"$f":"INT(SkillConfig!#REF!)","v":{"$error":"#REF!"}},{"$f":"SkillConfig!#REF!","v":{"$error":"#REF!"}},{"$f":"SkillConfig!#REF!","v":{"$error":"#REF!"}},{"$f":"SkillConfig!#REF!","v":{"$error":"#REF!"}}]
[{"$f":"INT(SkillConfig!#REF!)","v":{"$error":"#REF!"}},{"$f":"SkillConfig!#REF!","v":{"$error":"#REF!"}},{"$f":"SkillConfig!#REF!","v":{"$error":"#REF!"}},{"$f":"SkillConfig!#REF!","v":{"$error":"#REF!"}}]
[{"$f":"INT(SkillConfig!#REF!)","v":{"$error":"#REF!"}},{"$f":"SkillConfig!#REF!","v":{"$error":"#REF!"}},{"$f":"SkillConfig!#REF!","v":{"$error":"#REF!"}},{"$f":"SkillConfig!#REF!","v":{"$error":"#REF!"}}]
[{"$f":"INT(SkillConfig!#REF!)","v":{"$error":"#REF!"}},{"$f":"SkillConfig!#REF!","v":{"$error":"#REF!"}},{"$f":"SkillConfig!#REF!","v":{"$error":"#REF!"}},{"$f":"SkillConfig!#REF!","v":{"$error":"#REF!"}}]
[{"$f":"INT(SkillConfig!#REF!)","v":{"$error":"#REF!"}},{"$f":"SkillConfig!#REF!","v":{"$error":"#REF!"}},{"$f":"SkillConfig!#REF!","v":{"$error":"#REF!"}},{"$f":"SkillConfig!#REF!","v":{"$error":"#REF!"}}]
[{"$f":"INT(SkillConfig!#REF!)","v":{"$error":"#REF!"}},{"$f":"SkillConfig!#REF!","v":{"$error":"#REF!"}},{"$f":"SkillConfig!#REF!","v":{"$error":"#REF!"}},{"$f":"SkillConfig!#REF!","v":{"$error":"#REF!"}}]
[{"$f":"INT(SkillConfig!#REF!)","v":{"$error":"#REF!"}},{"$f":"SkillConfig!#REF!","v":{"$error":"#REF!"}},{"$f":"SkillConfig!#REF!","v":{"$error":"#REF!"}},{"$f":"SkillConfig!#REF!","v":{"$error":"#REF!"}}]
[{"$f":"INT(SkillConfig!#REF!)","v":{"$error":"#REF!"}},{"$f":"SkillConfig!#REF!","v":{"$error":"#REF!"}},{"$f":"SkillConfig!#REF!","v":{"$error":"#REF!"}},{"$f":"SkillConfig!#REF!","v":{"$error":"#REF!"}}]
[{"$f":"INT(SkillConfig!#REF!)","v":{"$error":"#REF!"}},{"$f":"SkillConfig!#REF!","v":{"$error":"#REF!"}},{"$f":"SkillConfig!#REF!","v":{"$error":"#REF!"}},{"$f":"SkillConfig!#REF!","v":{"$error":"#REF!"}}]
[{"$f":"INT(SkillConfig!#REF!)","v":{"$error":"#REF!"}},{"$f":"SkillConfig!#REF!","v":{"$error":"#REF!"}},{"$f":"SkillConfig!#REF!","v":{"$error":"#REF!"}},{"$f":"SkillConfig!#REF!","v":{"$error":"#REF!"}}]
[{"$f":"INT(SkillConfig!#REF!)","v":{"$error":"#REF!"}},{"$f":"SkillConfig!#REF!","v":{"$error":"#REF!"}},{"$f":"SkillConfig!#REF!","v":{"$error":"#REF!"}},{"$f":"SkillConfig!#REF!","v":{"$error":"#REF!"}}]
[{"$f":"INT(SkillConfig!#REF!)","v":{"$error":"#REF!"}},{"$f":"SkillConfig!#REF!","v":{"$error":"#REF!"}},{"$f":"SkillConfig!#REF!","v":{"$error":"#REF!"}},{"$f":"SkillConfig!#REF!","v":{"$error":"#REF!"}}]
[{"$f":"INT(SkillConfig!#REF!)","v":{"$error":"#REF!"}},{"$f":"SkillConfig!#REF!","v":{"$error":"#REF!"}},{"$f":"SkillConfig!#REF!","v":{"$error":"#REF!"}},{"$f":"SkillConfig!#REF!","v":{"$error":"#REF!"}}]
[{"$f":"INT(SkillConfig!#REF!)","v":{"$error":"#REF!"}},{"$f":"SkillConfig!#REF!","v":{"$error":"#REF!"}},{"$f":"SkillConfig!#REF!","v":{"$error":"#REF!"}},{"$f":"SkillConfig!#REF!","v":{"$error":"#REF!"}}]
[{"$f":"INT(SkillConfig!#REF!)","v":{"$error":"#REF!"}},{"$f":"SkillConfig!#REF!","v":{"$error":"#REF!"}},{"$f":"SkillConfig!#REF!","v":{"$error":"#REF!"}},{"$f":"SkillConfig!#REF!","v":{"$error":"#REF!"}}]
[{"$f":"INT(SkillConfig!#REF!)","v":{"$error":"#REF!"}},{"$f":"SkillConfig!#REF!","v":{"$error":"#REF!"}},{"$f":"SkillConfig!#REF!","v":{"$error":"#REF!"}},{"$f":"SkillConfig!#REF!","v":{"$error":"#REF!"}}]
[{"$f":"INT(SkillConfig!#REF!)","v":{"$error":"#REF!"}},{"$f":"SkillConfig!#REF!","v":{"$error":"#REF!"}},{"$f":"SkillConfig!#REF!","v":{"$error":"#REF!"}},{"$f":"SkillConfig!#REF!","v":{"$error":"#REF!"}}]
[{"$f":"INT(SkillConfig!#REF!)","v":{"$error":"#REF!"}},{"$f":"SkillConfig!#REF!","v":{"$error":"#REF!"}},{"$f":"SkillConfig!#REF!","v":{"$error":"#REF!"}},{"$f":"SkillConfig!#REF!","v":{"$error":"#REF!"}}]
[{"$f":"INT(SkillConfig!#REF!)","v":{"$error":"#REF!"}},{"$f":"SkillConfig!#REF!","v":{"$error":"#REF!"}},{"$f":"SkillConfig!#REF!","v":{"$error":"#REF!"}},{"$f":"SkillConfig!#REF!","v":{"$error":"#REF!"}}]
[{"$f":"INT(SkillConfig!#REF!)","v":{"$error":"#REF!"}},{"$f":"SkillConfig!#REF!","v":{"$error":"#REF!"}},{"$f":"SkillConfig!#REF!","v":{"$error":"#REF!"}},{"$f":"SkillConfig!#REF!","v":{"$error":"#REF!"}}]
[{"$f":"INT(SkillConfig!#REF!)","v":{"$error":"#REF!"}},{"$f":"SkillConfig!#REF!","v":{"$error":"#REF!"}},{"$f":"SkillConfig!#REF!","v":{"$error":"#REF!"}},{"$f":"SkillConfig!#REF!","v":{"$error":"#REF!"}}]
[{"$f":"INT(SkillConfig!#REF!)","v":{"$error":"#REF!"}},{"$f":"SkillConfig!#REF!","v":{"$error":"#REF!"}},{"$f":"SkillConfig!#REF!","v":{"$error":"#REF!"}},{"$f":"SkillConfig!#REF!","v":{"$error":"#REF!"}}]
[{"$f":"INT(SkillConfig!#REF!)","v":{"$error":"#REF!"}},{"$f":"SkillConfig!#REF!","v":{"$error":"#REF!"}},{"$f":"SkillConfig!#REF!","v":{"$error":"#REF!"}},{"$f":"SkillConfig!#REF!","v":{"$error":"#REF!"}}]
[{"$f":"INT(SkillConfig!#REF!)","v":{"$error":"#REF!"}},{"$f":"SkillConfig!#REF!","v":{"$error":"#REF!"}},{"$f":"SkillConfig!#REF!","v":{"$error":"#REF!"}},{"$f":"SkillConfig!#REF!","v":{"$error":"#REF!"}}]
[{"$f":"INT(SkillConfig!#REF!)","v":{"$error":"#REF!"}},{"$f":"SkillConfig!#REF!","v":{"$error":"#REF!"}},{"$f":"SkillConfig!#REF!","v":{"$error":"#REF!"}},{"$f":"SkillConfig!#REF!","v":{"$error":"#REF!"}}]
[{"$f":"INT(SkillConfig!#REF!)","v":{"$error":"#REF!"}},{"$f":"SkillConfig!#REF!","v":{"$error":"#REF!"}},{"$f":"SkillConfig!#REF!","v":{"$error":"#REF!"}},{"$f":"SkillConfig!#REF!","v":{"$error":"#REF!"}}]
[{"$f":"INT(SkillConfig!#REF!)","v":{"$error":"#REF!"}},{"$f":"SkillConfig!#REF!","v":{"$error":"#REF!"}},{"$f":"SkillConfig!#REF!","v":{"$error":"#REF!"}},{"$f":"SkillConfig!#REF!","v":{"$error":"#REF!"}}]
[{"$f":"INT(SkillConfig!#REF!)","v":{"$error":"#REF!"}},{"$f":"SkillConfig!#REF!","v":{"$error":"#REF!"}},{"$f":"SkillConfig!#REF!","v":{"$error":"#REF!"}},{"$f":"SkillConfig!#REF!","v":{"$error":"#REF!"}}]
[{"$f":"INT(SkillConfig!#REF!)","v":{"$error":"#REF!"}},{"$f":"SkillConfig!#REF!","v":{"$error":"#REF!"}},{"$f":"SkillConfig!#REF!","v":{"$error":"#REF!"}},{"$f":"SkillConfig!#REF!","v":{"$error":"#REF!"}}]
[{"$f":"INT(SkillConfig!#REF!)","v":{"$error":"#REF!"}},{"$f":"SkillConfig!#REF!","v":{"$error":"#REF!"}},{"$f":"SkillConfig!#REF!","v":{"$error":"#REF!"}},{"$f":"SkillConfig!#REF!","v":{"$error":"#REF!"}}]
[{"$f":"INT(SkillConfig!#REF!)","v":{"$error":"#REF!"}},{"$f":"SkillConfig!#REF!","v":{"$error":"#REF!"}},{"$f":"SkillConfig!#REF!","v":{"$error":"#REF!"}},{"$f":"SkillConfig!#REF!","v":{"$error":"#REF!"}}]
[{"$f":"INT(SkillConfig!#REF!)","v":{"$error":"#REF!"}},{"$f":"SkillConfig!#REF!","v":{"$error":"#REF!"}},{"$f":"SkillConfig!#REF!","v":{"$error":"#REF!"}},{"$f":"SkillConfig!#REF!","v":{"$error":"#REF!"}}]
[{"$f":"INT(SkillConfig!#REF!)","v":{"$error":"#REF!"}},{"$f":"SkillConfig!#REF!","v":{"$error":"#REF!"}},{"$f":"SkillConfig!#REF!","v":{"$error":"#REF!"}},{"$f":"SkillConfig!#REF!","v":{"$error":"#REF!"}}]
[{"$f":"INT(SkillConfig!#REF!)","v":{"$error":"#REF!"}},{"$f":"SkillConfig!#REF!","v":{"$error":"#REF!"}},{"$f":"SkillConfig!#REF!","v":{"$error":"#REF!"}},{"$f":"SkillConfig!#REF!","v":{"$error":"#REF!"}}]
[{"$f":"INT(SkillConfig!#REF!)","v":{"$error":"#REF!"}},{"$f":"SkillConfig!#REF!","v":{"$error":"#REF!"}},{"$f":"SkillConfig!#REF!","v":{"$error":"#REF!"}},{"$f":"SkillConfig!#REF!","v":{"$error":"#REF!"}}]
[{"$f":"INT(SkillConfig!#REF!)","v":{"$error":"#REF!"}},{"$f":"SkillConfig!#REF!","v":{"$error":"#REF!"}},{"$f":"SkillConfig!#REF!","v":{"$error":"#REF!"}},{"$f":"SkillConfig!#REF!","v":{"$error":"#REF!"}}]
[{"$f":"INT(SkillConfig!#REF!)","v":{"$error":"#REF!"}},{"$f":"SkillConfig!#REF!","v":{"$error":"#REF!"}},{"$f":"SkillConfig!#REF!","v":{"$error":"#REF!"}},{"$f":"SkillConfig!#REF!","v":{"$error":"#REF!"}}]
[{"$f":"INT(SkillConfig!#REF!)","v":{"$error":"#REF!"}},{"$f":"SkillConfig!#REF!","v":{"$error":"#REF!"}},{"$f":"SkillConfig!#REF!","v":{"$error":"#REF!"}},{"$f":"SkillConfig!#REF!","v":{"$error":"#REF!"}}]
[{"$f":"INT(SkillConfig!#REF!)","v":{"$error":"#REF!"}},{"$f":"SkillConfig!#REF!","v":{"$error":"#REF!"}},{"$f":"SkillConfig!#REF!","v":{"$error":"#REF!"}},{"$f":"SkillConfig!#REF!","v":{"$error":"#REF!"}}]
[{"$f":"INT(SkillConfig!#REF!)","v":{"$error":"#REF!"}},{"$f":"SkillConfig!#REF!","v":{"$error":"#REF!"}},{"$f":"SkillConfig!#REF!","v":{"$error":"#REF!"}},{"$f":"SkillConfig!#REF!","v":{"$error":"#REF!"}}]
[{"$f":"INT(SkillConfig!#REF!)","v":{"$error":"#REF!"}},{"$f":"SkillConfig!#REF!","v":{"$error":"#REF!"}},{"$f":"SkillConfig!#REF!","v":{"$error":"#REF!"}},{"$f":"SkillConfig!#REF!","v":{"$error":"#REF!"}}]
[{"$f":"INT(SkillConfig!#REF!)","v":{"$error":"#REF!"}},{"$f":"SkillConfig!#REF!","v":{"$error":"#REF!"}},{"$f":"SkillConfig!#REF!","v":{"$error":"#REF!"}},{"$f":"SkillConfig!#REF!","v":{"$error":"#REF!"}}]
[{"$f":"INT(SkillConfig!#REF!)","v":{"$error":"#REF!"}},{"$f":"SkillConfig!#REF!","v":{"$error":"#REF!"}},{"$f":"SkillConfig!#REF!","v":{"$error":"#REF!"}},{"$f":"SkillConfig!#REF!","v":{"$error":"#REF!"}}]
[{"$f":"INT(SkillConfig!#REF!)","v":{"$error":"#REF!"}},{"$f":"SkillConfig!#REF!","v":{"$error":"#REF!"}},{"$f":"SkillConfig!#REF!","v":{"$error":"#REF!"}},{"$f":"SkillConfig!#REF!","v":{"$error":"#REF!"}}]
[{"$f":"INT(SkillConfig!#REF!)","v":{"$error":"#REF!"}},{"$f":"SkillConfig!#REF!","v":{"$error":"#REF!"}},{"$f":"SkillConfig!#REF!","v":{"$error":"#REF!"}},{"$f":"SkillConfig!#REF!","v":{"$error":"#REF!"}}]
[{"$f":"INT(SkillConfig!#REF!)","v":{"$error":"#REF!"}},{"$f":"SkillConfig!#REF!","v":{"$error":"#REF!"}},{"$f":"SkillConfig!#REF!","v":{"$error":"#REF!"}},{"$f":"SkillConfig!#REF!","v":{"$error":"#REF!"}}]
[{"$f":"INT(SkillConfig!#REF!)","v":{"$error":"#REF!"}},{"$f":"SkillConfig!#REF!","v":{"$error":"#REF!"}},{"$f":"SkillConfig!#REF!","v":{"$error":"#REF!"}},{"$f":"SkillConfig!#REF!","v":{"$error":"#REF!"}}]
[{"$f":"INT(SkillConfig!#REF!)","v":{"$error":"#REF!"}},{"$f":"SkillConfig!#REF!","v":{"$error":"#REF!"}},{"$f":"SkillConfig!#REF!","v":{"$error":"#REF!"}},{"$f":"SkillConfig!#REF!","v":{"$error":"#REF!"}}]
[{"$f":"INT(SkillConfig!#REF!)","v":{"$error":"#REF!"}},{"$f":"SkillConfig!#REF!","v":{"$error":"#REF!"}},{"$f":"SkillConfig!#REF!","v":{"$error":"#REF!"}},{"$f":"SkillConfig!#REF!","v":{"$error":"#REF!"}}]
[{"$f":"INT(SkillConfig!#REF!)","v":{"$error":"#REF!"}},{"$f":"SkillConfig!#REF!","v":{"$error":"#REF!"}},{"$f":"SkillConfig!#REF!","v":{"$error":"#REF!"}},{"$f":"SkillConfig!#REF!","v":{"$error":"#REF!"}}]
[{"$f":"INT(SkillConfig!#REF!)","v":{"$error":"#REF!"}},{"$f":"SkillConfig!#REF!","v":{"$error":"#REF!"}},{"$f":"SkillConfig!#REF!","v":{"$error":"#REF!"}},{"$f":"SkillConfig!#REF!","v":{"$error":"#REF!"}}]
[{"$f":"INT(SkillConfig!#REF!)","v":{"$error":"#REF!"}},{"$f":"SkillConfig!#REF!","v":{"$error":"#REF!"}},{"$f":"SkillConfig!#REF!","v":{"$error":"#REF!"}},{"$f":"SkillConfig!#REF!","v":{"$error":"#REF!"}}]
[{"$f":"INT(SkillConfig!#REF!)","v":{"$error":"#REF!"}},{"$f":"SkillConfig!#REF!","v":{"$error":"#REF!"}},{"$f":"SkillConfig!#REF!","v":{"$error":"#REF!"}},{"$f":"SkillConfig!#REF!","v":{"$error":"#REF!"}}]
[{"$f":"INT(SkillConfig!#REF!)","v":{"$error":"#REF!"}},{"$f":"SkillConfig!#REF!","v":{"$error":"#REF!"}},{"$f":"SkillConfig!#REF!","v":{"$error":"#REF!"}},{"$f":"SkillConfig!#REF!","v":{"$error":"#REF!"}}]
[{"$f":"INT(SkillConfig!#REF!)","v":{"$error":"#REF!"}},{"$f":"SkillConfig!#REF!","v":{"$error":"#REF!"}},{"$f":"SkillConfig!#REF!","v":{"$error":"#REF!"}},{"$f":"SkillConfig!#REF!","v":{"$error":"#REF!"}}]
[{"$f":"INT(SkillConfig!#REF!)","v":{"$error":"#REF!"}},{"$f":"SkillConfig!#REF!","v":{"$error":"#REF!"}},{"$f":"SkillConfig!#REF!","v":{"$error":"#REF!"}},{"$f":"SkillConfig!#REF!","v":{"$error":"#REF!"}}]
[{"$f":"INT(SkillConfig!#REF!)","v":{"$error":"#REF!"}},{"$f":"SkillConfig!#REF!","v":{"$error":"#REF!"}},{"$f":"SkillConfig!#REF!","v":{"$error":"#REF!"}},{"$f":"SkillConfig!#REF!","v":{"$error":"#REF!"}}]
[{"$f":"INT(SkillConfig!#REF!)","v":{"$error":"#REF!"}},{"$f":"SkillConfig!#REF!","v":{"$error":"#REF!"}},{"$f":"SkillConfig!#REF!","v":{"$error":"#REF!"}},{"$f":"SkillConfig!#REF!","v":{"$error":"#REF!"}}]
[{"$f":"INT(SkillConfig!#REF!)","v":{"$error":"#REF!"}},{"$f":"SkillConfig!#REF!","v":{"$error":"#REF!"}},{"$f":"SkillConfig!#REF!","v":{"$error":"#REF!"}},{"$f":"SkillConfig!#REF!","v":{"$error":"#REF!"}}]
[{"$f":"INT(SkillConfig!#REF!)","v":{"$error":"#REF!"}},{"$f":"SkillConfig!#REF!","v":{"$error":"#REF!"}},{"$f":"SkillConfig!#REF!","v":{"$error":"#REF!"}},{"$f":"SkillConfig!#REF!","v":{"$error":"#REF!"}}]
[{"$f":"INT(SkillConfig!#REF!)","v":{"$error":"#REF!"}},{"$f":"SkillConfig!#REF!","v":{"$error":"#REF!"}},{"$f":"SkillConfig!#REF!","v":{"$error":"#REF!"}},{"$f":"SkillConfig!#REF!","v":{"$error":"#REF!"}}]
[{"$f":"INT(SkillConfig!#REF!)","v":{"$error":"#REF!"}},{"$f":"SkillConfig!#REF!","v":{"$error":"#REF!"}},{"$f":"SkillConfig!#REF!","v":{"$error":"#REF!"}},{"$f":"SkillConfig!#REF!","v":{"$error":"#REF!"}}]
[{"$f":"INT(SkillConfig!#REF!)","v":{"$error":"#REF!"}},{"$f":"SkillConfig!#REF!","v":{"$error":"#REF!"}},{"$f":"SkillConfig!#REF!","v":{"$error":"#REF!"}},{"$f":"SkillConfig!#REF!","v":{"$error":"#REF!"}}]
[{"$f":"INT(SkillConfig!#REF!)","v":{"$error":"#REF!"}},{"$f":"SkillConfig!#REF!","v":{"$error":"#REF!"}},{"$f":"SkillConfig!#REF!","v":{"$error":"#REF!"}},{"$f":"SkillConfig!#REF!","v":{"$error":"#REF!"}}]
[{"$f":"INT(SkillConfig!#REF!)","v":{"$error":"#REF!"}},{"$f":"SkillConfig!#REF!","v":{"$error":"#REF!"}},{"$f":"SkillConfig!#REF!","v":{"$error":"#REF!"}},{"$f":"SkillConfig!#REF!","v":{"$error":"#REF!"}}]
[{"$f":"INT(SkillConfig!#REF!)","v":{"$error":"#REF!"}},{"$f":"SkillConfig!#REF!","v":{"$error":"#REF!"}},{"$f":"SkillConfig!#REF!","v":{"$error":"#REF!"}},{"$f":"SkillConfig!#REF!","v":{"$error":"#REF!"}}]
[{"$f":"INT(SkillConfig!#REF!)","v":{"$error":"#REF!"}},{"$f":"SkillConfig!#REF!","v":{"$error":"#REF!"}},{"$f":"SkillConfig!#REF!","v":{"$error":"#REF!"}},{"$f":"SkillConfig!#REF!","v":{"$error":"#REF!"}}]
[{"$f":"INT(SkillConfig!#REF!)","v":{"$error":"#REF!"}},{"$f":"SkillConfig!#REF!","v":{"$error":"#REF!"}},{"$f":"SkillConfig!#REF!","v":{"$error":"#REF!"}},{"$f":"SkillConfig!#REF!","v":{"$error":"#REF!"}}]
[{"$f":"INT(SkillConfig!#REF!)","v":{"$error":"#REF!"}},{"$f":"SkillConfig!#REF!","v":{"$error":"#REF!"}},{"$f":"SkillConfig!#REF!","v":{"$error":"#REF!"}},{"$f":"SkillConfig!#REF!","v":{"$error":"#REF!"}}]
[{"$f":"INT(SkillConfig!#REF!)","v":{"$error":"#REF!"}},{"$f":"SkillConfig!#REF!","v":{"$error":"#REF!"}},{"$f":"SkillConfig!#REF!","v":{"$error":"#REF!"}},{"$f":"SkillConfig!#REF!","v":{"$error":"#REF!"}}]
[{"$f":"INT(SkillConfig!#REF!)","v":{"$error":"#REF!"}},{"$f":"SkillConfig!#REF!","v":{"$error":"#REF!"}},{"$f":"SkillConfig!#REF!","v":{"$error":"#REF!"}},{"$f":"SkillConfig!#REF!","v":{"$error":"#REF!"}}]
[{"$f":"INT(SkillConfig!#REF!)","v":{"$error":"#REF!"}},{"$f":"SkillConfig!#REF!","v":{"$error":"#REF!"}},{"$f":"SkillConfig!#REF!","v":{"$error":"#REF!"}},{"$f":"SkillConfig!#REF!","v":{"$error":"#REF!"}}]
[{"$f":"INT(SkillConfig!#REF!)","v":{"$error":"#REF!"}},{"$f":"SkillConfig!#REF!","v":{"$error":"#REF!"}},{"$f":"SkillConfig!#REF!","v":{"$error":"#REF!"}},{"$f":"SkillConfig!#REF!","v":{"$error":"#REF!"}}]
[{"$f":"INT(SkillConfig!#REF!)","v":{"$error":"#REF!"}},{"$f":"SkillConfig!#REF!","v":{"$error":"#REF!"}},{"$f":"SkillConfig!#REF!","v":{"$error":"#REF!"}},{"$f":"SkillConfig!#REF!","v":{"$error":"#REF!"}}]
[{"$f":"INT(SkillConfig!#REF!)","v":{"$error":"#REF!"}},{"$f":"SkillConfig!#REF!","v":{"$error":"#REF!"}},{"$f":"SkillConfig!#REF!","v":{"$error":"#REF!"}},{"$f":"SkillConfig!#REF!","v":{"$error":"#REF!"}}]
[{"$f":"INT(SkillConfig!#REF!)","v":{"$error":"#REF!"}},{"$f":"SkillConfig!#REF!","v":{"$error":"#REF!"}},{"$f":"SkillConfig!#REF!","v":{"$error":"#REF!"}},{"$f":"SkillConfig!#REF!","v":{"$error":"#REF!"}}]
[{"$f":"INT(SkillConfig!#REF!)","v":{"$error":"#REF!"}},{"$f":"SkillConfig!#REF!","v":{"$error":"#REF!"}},{"$f":"SkillConfig!#REF!","v":{"$error":"#REF!"}},{"$f":"SkillConfig!#REF!","v":{"$error":"#REF!"}}]
[{"$f":"INT(SkillConfig!#REF!)","v":{"$error":"#REF!"}},{"$f":"SkillConfig!#REF!","v":{"$error":"#REF!"}},{"$f":"SkillConfig!#REF!","v":{"$error":"#REF!"}},{"$f":"SkillConfig!#REF!","v":{"$error":"#REF!"}}]
[{"$f":"INT(SkillConfig!#REF!)","v":{"$error":"#REF!"}},{"$f":"SkillConfig!#REF!","v":{"$error":"#REF!"}},{"$f":"SkillConfig!#REF!","v":{"$error":"#REF!"}},{"$f":"SkillConfig!#REF!","v":{"$error":"#REF!"}}]
[{"$f":"INT(SkillConfig!#REF!)","v":{"$error":"#REF!"}},{"$f":"SkillConfig!#REF!","v":{"$error":"#REF!"}},{"$f":"SkillConfig!#REF!","v":{"$error":"#REF!"}},{"$f":"SkillConfig!#REF!","v":{"$error":"#REF!"}}]
[{"$f":"INT(SkillConfig!#REF!)","v":{"$error":"#REF!"}},{"$f":"SkillConfig!#REF!","v":{"$error":"#REF!"}},{"$f":"SkillConfig!#REF!","v":{"$error":"#REF!"}},{"$f":"SkillConfig!#REF!","v":{"$error":"#REF!"}}]
[{"$f":"INT(SkillConfig!#REF!)","v":{"$error":"#REF!"}},{"$f":"SkillConfig!#REF!","v":{"$error":"#REF!"}},{"$f":"SkillConfig!#REF!","v":{"$error":"#REF!"}},{"$f":"SkillConfig!#REF!","v":{"$error":"#REF!"}}]
[{"$f":"INT(SkillConfig!#REF!)","v":{"$error":"#REF!"}},{"$f":"SkillConfig!#REF!","v":{"$error":"#REF!"}},{"$f":"SkillConfig!#REF!","v":{"$error":"#REF!"}},{"$f":"SkillConfig!#REF!","v":{"$error":"#REF!"}}]
[{"$f":"INT(SkillConfig!#REF!)","v":{"$error":"#REF!"}},{"$f":"SkillConfig!#REF!","v":{"$error":"#REF!"}},{"$f":"SkillConfig!#REF!","v":{"$error":"#REF!"}},{"$f":"SkillConfig!#REF!","v":{"$error":"#REF!"}}]
[{"$f":"INT(SkillConfig!#REF!)","v":{"$error":"#REF!"}},{"$f":"SkillConfig!#REF!","v":{"$error":"#REF!"}},{"$f":"SkillConfig!#REF!","v":{"$error":"#REF!"}},{"$f":"SkillConfig!#REF!","v":{"$error":"#REF!"}}]
[{"$f":"INT(SkillConfig!#REF!)","v":{"$error":"#REF!"}},{"$f":"SkillConfig!#REF!","v":{"$error":"#REF!"}},{"$f":"SkillConfig!#REF!","v":{"$error":"#REF!"}},{"$f":"SkillConfig!#REF!","v":{"$error":"#REF!"}}]
[{"$f":"INT(SkillConfig!#REF!)","v":{"$error":"#REF!"}},{"$f":"SkillConfig!#REF!","v":{"$error":"#REF!"}},{"$f":"SkillConfig!#REF!","v":{"$error":"#REF!"}},{"$f":"SkillConfig!#REF!","v":{"$error":"#REF!"}}]
[{"$f":"INT(SkillConfig!#REF!)","v":{"$error":"#REF!"}},{"$f":"SkillConfig!#REF!","v":{"$error":"#REF!"}},{"$f":"SkillConfig!#REF!","v":{"$error":"#REF!"}},{"$f":"SkillConfig!#REF!","v":{"$error":"#REF!"}}]
[{"$f":"INT(SkillConfig!#REF!)","v":{"$error":"#REF!"}},{"$f":"SkillConfig!#REF!","v":{"$error":"#REF!"}},{"$f":"SkillConfig!#REF!","v":{"$error":"#REF!"}},{"$f":"SkillConfig!#REF!","v":{"$error":"#REF!"}}]
[{"$f":"INT(SkillConfig!#REF!)","v":{"$error":"#REF!"}},{"$f":"SkillConfig!#REF!","v":{"$error":"#REF!"}},{"$f":"SkillConfig!#REF!","v":{"$error":"#REF!"}},{"$f":"SkillConfig!#REF!","v":{"$error":"#REF!"}}]
[{"$f":"INT(SkillConfig!#REF!)","v":{"$error":"#REF!"}},{"$f":"SkillConfig!#REF!","v":{"$error":"#REF!"}},{"$f":"SkillConfig!#REF!","v":{"$error":"#REF!"}},{"$f":"SkillConfig!#REF!","v":{"$error":"#REF!"}}]
[{"$f":"INT(SkillConfig!#REF!)","v":{"$error":"#REF!"}},{"$f":"SkillConfig!#REF!","v":{"$error":"#REF!"}},{"$f":"SkillConfig!#REF!","v":{"$error":"#REF!"}},{"$f":"SkillConfig!#REF!","v":{"$error":"#REF!"}}]
[{"$f":"INT(SkillConfig!#REF!)","v":{"$error":"#REF!"}},{"$f":"SkillConfig!#REF!","v":{"$error":"#REF!"}},{"$f":"SkillConfig!#REF!","v":{"$error":"#REF!"}},{"$f":"SkillConfig!#REF!","v":{"$error":"#REF!"}}]
[{"$f":"INT(SkillConfig!#REF!)","v":{"$error":"#REF!"}},{"$f":"SkillConfig!#REF!","v":{"$error":"#REF!"}},{"$f":"SkillConfig!#REF!","v":{"$error":"#REF!"}},{"$f":"SkillConfig!#REF!","v":{"$error":"#REF!"}}]
[{"$f":"INT(SkillConfig!#REF!)","v":{"$error":"#REF!"}},{"$f":"SkillConfig!#REF!","v":{"$error":"#REF!"}},{"$f":"SkillConfig!#REF!","v":{"$error":"#REF!"}},{"$f":"SkillConfig!#REF!","v":{"$error":"#REF!"}}]
[{"$f":"INT(SkillConfig!#REF!)","v":{"$error":"#REF!"}},{"$f":"SkillConfig!#REF!","v":{"$error":"#REF!"}},{"$f":"SkillConfig!#REF!","v":{"$error":"#REF!"}},{"$f":"SkillConfig!#REF!","v":{"$error":"#REF!"}}]
[{"$f":"INT(SkillConfig!#REF!)","v":{"$error":"#REF!"}},{"$f":"SkillConfig!#REF!","v":{"$error":"#REF!"}},{"$f":"SkillConfig!#REF!","v":{"$error":"#REF!"}},{"$f":"SkillConfig!#REF!","v":{"$error":"#REF!"}}]
[{"$f":"INT(SkillConfig!#REF!)","v":{"$error":"#REF!"}},{"$f":"SkillConfig!#REF!","v":{"$error":"#REF!"}},{"$f":"SkillConfig!#REF!","v":{"$error":"#REF!"}},{"$f":"SkillConfig!#REF!","v":{"$error":"#REF!"}}]
[{"$f":"INT(SkillConfig!#REF!)","v":{"$error":"#REF!"}},{"$f":"SkillConfig!#REF!","v":{"$error":"#REF!"}},{"$f":"SkillConfig!#REF!","v":{"$error":"#REF!"}},{"$f":"SkillConfig!#REF!","v":{"$error":"#REF!"}}]
[{"$f":"INT(SkillConfig!#REF!)","v":{"$error":"#REF!"}},{"$f":"SkillConfig!#REF!","v":{"$error":"#REF!"}},{"$f":"SkillConfig!#REF!","v":{"$error":"#REF!"}},{"$f":"SkillConfig!#REF!","v":{"$error":"#REF!"}}]
[{"$f":"INT(SkillConfig!#REF!)","v":{"$error":"#REF!"}},{"$f":"SkillConfig!#REF!","v":{"$error":"#REF!"}},{"$f":"SkillConfig!#REF!","v":{"$error":"#REF!"}},{"$f":"SkillConfig!#REF!","v":{"$error":"#REF!"}}]
[{"$f":"INT(SkillConfig!#REF!)","v":{"$error":"#REF!"}},{"$f":"SkillConfig!#REF!","v":{"$error":"#REF!"}},{"$f":"SkillConfig!#REF!","v":{"$error":"#REF!"}},{"$f":"SkillConfig!#REF!","v":{"$error":"#REF!"}}]
[{"$f":"INT(SkillConfig!#REF!)","v":{"$error":"#REF!"}},{"$f":"SkillConfig!#REF!","v":{"$error":"#REF!"}},{"$f":"SkillConfig!#REF!","v":{"$error":"#REF!"}},{"$f":"SkillConfig!#REF!","v":{"$error":"#REF!"}}]
[{"$f":"INT(SkillConfig!#REF!)","v":{"$error":"#REF!"}},{"$f":"SkillConfig!#REF!","v":{"$error":"#REF!"}},{"$f":"SkillConfig!#REF!","v":{"$error":"#REF!"}},{"$f":"SkillConfig!#REF!","v":{"$error":"#REF!"}}]
[{"$f":"INT(SkillConfig!#REF!)","v":{"$error":"#REF!"}},{"$f":"SkillConfig!#REF!","v":{"$error":"#REF!"}},{"$f":"SkillConfig!#REF!","v":{"$error":"#REF!"}},{"$f":"SkillConfig!#REF!","v":{"$error":"#REF!"}}]
[{"$f":"INT(SkillConfig!#REF!)","v":{"$error":"#REF!"}},{"$f":"SkillConfig!#REF!","v":{"$error":"#REF!"}},{"$f":"SkillConfig!#REF!","v":{"$error":"#REF!"}},{"$f":"SkillConfig!#REF!","v":{"$error":"#REF!"}}]
[{"$f":"INT(SkillConfig!#REF!)","v":{"$error":"#REF!"}},{"$f":"SkillConfig!#REF!","v":{"$error":"#REF!"}},{"$f":"SkillConfig!#REF!","v":{"$error":"#REF!"}},{"$f":"SkillConfig!#REF!","v":{"$error":"#REF!"}}]
[{"$f":"INT(SkillConfig!#REF!)","v":{"$error":"#REF!"}},{"$f":"SkillConfig!#REF!","v":{"$error":"#REF!"}},{"$f":"SkillConfig!#REF!","v":{"$error":"#REF!"}},{"$f":"SkillConfig!#REF!","v":{"$error":"#REF!"}}]
[{"$f":"INT(SkillConfig!#REF!)","v":{"$error":"#REF!"}},{"$f":"SkillConfig!#REF!","v":{"$error":"#REF!"}},{"$f":"SkillConfig!#REF!","v":{"$error":"#REF!"}},{"$f":"SkillConfig!#REF!","v":{"$error":"#REF!"}}]
[{"$f":"INT(SkillConfig!#REF!)","v":{"$error":"#REF!"}},{"$f":"SkillConfig!#REF!","v":{"$error":"#REF!"}},{"$f":"SkillConfig!#REF!","v":{"$error":"#REF!"}},{"$f":"SkillConfig!#REF!","v":{"$error":"#REF!"}}]
[{"$f":"INT(SkillConfig!#REF!)","v":{"$error":"#REF!"}},{"$f":"SkillConfig!#REF!","v":{"$error":"#REF!"}},{"$f":"SkillConfig!#REF!","v":{"$error":"#REF!"}},{"$f":"SkillConfig!#REF!","v":{"$error":"#REF!"}}]
[{"$f":"INT(SkillConfig!#REF!)","v":{"$error":"#REF!"}},{"$f":"SkillConfig!#REF!","v":{"$error":"#REF!"}},{"$f":"SkillConfig!#REF!","v":{"$error":"#REF!"}},{"$f":"SkillConfig!#REF!","v":{"$error":"#REF!"}}]
[{"$f":"INT(SkillConfig!#REF!)","v":{"$error":"#REF!"}},{"$f":"SkillConfig!#REF!","v":{"$error":"#REF!"}},{"$f":"SkillConfig!#REF!","v":{"$error":"#REF!"}},{"$f":"SkillConfig!#REF!","v":{"$error":"#REF!"}}]
[{"$f":"INT(SkillConfig!#REF!)","v":{"$error":"#REF!"}},{"$f":"SkillConfig!#REF!","v":{"$error":"#REF!"}},{"$f":"SkillConfig!#REF!","v":{"$error":"#REF!"}},{"$f":"SkillConfig!#REF!","v":{"$error":"#REF!"}}]
[{"$f":"INT(SkillConfig!#REF!)","v":{"$error":"#REF!"}},{"$f":"SkillConfig!#REF!","v":{"$error":"#REF!"}},{"$f":"SkillConfig!#REF!","v":{"$error":"#REF!"}},{"$f":"SkillConfig!#REF!","v":{"$error":"#REF!"}}]
[{"$f":"INT(SkillConfig!#REF!)","v":{"$error":"#REF!"}},{"$f":"SkillConfig!#REF!","v":{"$error":"#REF!"}},{"$f":"SkillConfig!#REF!","v":{"$error":"#REF!"}},{"$f":"SkillConfig!#REF!","v":{"$error":"#REF!"}}]
[{"$f":"INT(SkillConfig!#REF!)","v":{"$error":"#REF!"}},{"$f":"SkillConfig!#REF!","v":{"$error":"#REF!"}},{"$f":"SkillConfig!#REF!","v":{"$error":"#REF!"}},{"$f":"SkillConfig!#REF!","v":{"$error":"#REF!"}}]
[{"$f":"INT(SkillConfig!#REF!)","v":{"$error":"#REF!"}},{"$f":"SkillConfig!#REF!","v":{"$error":"#REF!"}},{"$f":"SkillConfig!#REF!","v":{"$error":"#REF!"}},{"$f":"SkillConfig!#REF!","v":{"$error":"#REF!"}}]
[{"$f":"INT(SkillConfig!#REF!)","v":{"$error":"#REF!"}},{"$f":"SkillConfig!#REF!","v":{"$error":"#REF!"}},{"$f":"SkillConfig!#REF!","v":{"$error":"#REF!"}},{"$f":"SkillConfig!#REF!","v":{"$error":"#REF!"}}]
[{"$f":"INT(SkillConfig!#REF!)","v":{"$error":"#REF!"}},{"$f":"SkillConfig!#REF!","v":{"$error":"#REF!"}},{"$f":"SkillConfig!#REF!","v":{"$error":"#REF!"}},{"$f":"SkillConfig!#REF!","v":{"$error":"#REF!"}}]
[{"$f":"INT(SkillConfig!#REF!)","v":{"$error":"#REF!"}},{"$f":"SkillConfig!#REF!","v":{"$error":"#REF!"}},{"$f":"SkillConfig!#REF!","v":{"$error":"#REF!"}},{"$f":"SkillConfig!#REF!","v":{"$error":"#REF!"}}]
[{"$f":"INT(SkillConfig!#REF!)","v":{"$error":"#REF!"}},{"$f":"SkillConfig!#REF!","v":{"$error":"#REF!"}},{"$f":"SkillConfig!#REF!","v":{"$error":"#REF!"}},{"$f":"SkillConfig!#REF!","v":{"$error":"#REF!"}}]
[{"$f":"INT(SkillConfig!#REF!)","v":{"$error":"#REF!"}},{"$f":"SkillConfig!#REF!","v":{"$error":"#REF!"}},{"$f":"SkillConfig!#REF!","v":{"$error":"#REF!"}},{"$f":"SkillConfig!#REF!","v":{"$error":"#REF!"}}]
[{"$f":"INT(SkillConfig!#REF!)","v":{"$error":"#REF!"}},{"$f":"SkillConfig!#REF!","v":{"$error":"#REF!"}},{"$f":"SkillConfig!#REF!","v":{"$error":"#REF!"}},{"$f":"SkillConfig!#REF!","v":{"$error":"#REF!"}}]
[{"$f":"INT(SkillConfig!#REF!)","v":{"$error":"#REF!"}},{"$f":"SkillConfig!#REF!","v":{"$error":"#REF!"}},{"$f":"SkillConfig!#REF!","v":{"$error":"#REF!"}},{"$f":"SkillConfig!#REF!","v":{"$error":"#REF!"}}]
[{"$f":"INT(SkillConfig!#REF!)","v":{"$error":"#REF!"}},{"$f":"SkillConfig!#REF!","v":{"$error":"#REF!"}},{"$f":"SkillConfig!#REF!","v":{"$error":"#REF!"}},{"$f":"SkillConfig!#REF!","v":{"$error":"#REF!"}}]
[{"$f":"INT(SkillConfig!#REF!)","v":{"$error":"#REF!"}},{"$f":"SkillConfig!#REF!","v":{"$error":"#REF!"}},{"$f":"SkillConfig!#REF!","v":{"$error":"#REF!"}},{"$f":"SkillConfig!#REF!","v":{"$error":"#REF!"}}]
[{"$f":"INT(SkillConfig!#REF!)","v":{"$error":"#REF!"}},{"$f":"SkillConfig!#REF!","v":{"$error":"#REF!"}},{"$f":"SkillConfig!#REF!","v":{"$error":"#REF!"}},{"$f":"SkillConfig!#REF!","v":{"$error":"#REF!"}}]
[{"$f":"INT(SkillConfig!#REF!)","v":{"$error":"#REF!"}},{"$f":"SkillConfig!#REF!","v":{"$error":"#REF!"}},{"$f":"SkillConfig!#REF!","v":{"$error":"#REF!"}},{"$f":"SkillConfig!#REF!","v":{"$error":"#REF!"}}]
[{"$f":"INT(SkillConfig!#REF!)","v":{"$error":"#REF!"}},{"$f":"SkillConfig!#REF!","v":{"$error":"#REF!"}},{"$f":"SkillConfig!#REF!","v":{"$error":"#REF!"}},{"$f":"SkillConfig!#REF!","v":{"$error":"#REF!"}}]
[{"$f":"INT(SkillConfig!#REF!)","v":{"$error":"#REF!"}},{"$f":"SkillConfig!#REF!","v":{"$error":"#REF!"}},{"$f":"SkillConfig!#REF!","v":{"$error":"#REF!"}},{"$f":"SkillConfig!#REF!","v":{"$error":"#REF!"}}]
[{"$f":"INT(SkillConfig!#REF!)","v":{"$error":"#REF!"}},{"$f":"SkillConfig!#REF!","v":{"$error":"#REF!"}},{"$f":"SkillConfig!#REF!","v":{"$error":"#REF!"}},{"$f":"SkillConfig!#REF!","v":{"$error":"#REF!"}}]
[{"$f":"INT(SkillConfig!#REF!)","v":{"$error":"#REF!"}},{"$f":"SkillConfig!#REF!","v":{"$error":"#REF!"}},{"$f":"SkillConfig!#REF!","v":{"$error":"#REF!"}},{"$f":"SkillConfig!#REF!","v":{"$error":"#REF!"}}]
[{"$f":"INT(SkillConfig!#REF!)","v":{"$error":"#REF!"}},{"$f":"SkillConfig!#REF!","v":{"$error":"#REF!"}},{"$f":"SkillConfig!#REF!","v":{"$error":"#REF!"}},{"$f":"SkillConfig!#REF!","v":{"$error":"#REF!"}}]
[{"$f":"INT(SkillConfig!#REF!)","v":{"$error":"#REF!"}},{"$f":"SkillConfig!#REF!","v":{"$error":"#REF!"}},{"$f":"SkillConfig!#REF!","v":{"$error":"#REF!"}},{"$f":"SkillConfig!#REF!","v":{"$error":"#REF!"}}]
[{"$f":"INT(SkillConfig!#REF!)","v":{"$error":"#REF!"}},{"$f":"SkillConfig!#REF!","v":{"$error":"#REF!"}},{"$f":"SkillConfig!#REF!","v":{"$error":"#REF!"}},{"$f":"SkillConfig!#REF!","v":{"$error":"#REF!"}}]
[{"$f":"INT(SkillConfig!#REF!)","v":{"$error":"#REF!"}},{"$f":"SkillConfig!#REF!","v":{"$error":"#REF!"}},{"$f":"SkillConfig!#REF!","v":{"$error":"#REF!"}},{"$f":"SkillConfig!#REF!","v":{"$error":"#REF!"}}]
[{"$f":"INT(SkillConfig!#REF!)","v":{"$error":"#REF!"}},{"$f":"SkillConfig!#REF!","v":{"$error":"#REF!"}},{"$f":"SkillConfig!#REF!","v":{"$error":"#REF!"}},{"$f":"SkillConfig!#REF!","v":{"$error":"#REF!"}}]
[{"$f":"INT(SkillConfig!#REF!)","v":{"$error":"#REF!"}},{"$f":"SkillConfig!#REF!","v":{"$error":"#REF!"}},{"$f":"SkillConfig!#REF!","v":{"$error":"#REF!"}},{"$f":"SkillConfig!#REF!","v":{"$error":"#REF!"}}]
[{"$f":"INT(SkillConfig!#REF!)","v":{"$error":"#REF!"}},{"$f":"SkillConfig!#REF!","v":{"$error":"#REF!"}},{"$f":"SkillConfig!#REF!","v":{"$error":"#REF!"}},{"$f":"SkillConfig!#REF!","v":{"$error":"#REF!"}}]
[{"$f":"INT(SkillConfig!#REF!)","v":{"$error":"#REF!"}},{"$f":"SkillConfig!#REF!","v":{"$error":"#REF!"}},{"$f":"SkillConfig!#REF!","v":{"$error":"#REF!"}},{"$f":"SkillConfig!#REF!","v":{"$error":"#REF!"}}]
[{"$f":"INT(SkillConfig!#REF!)","v":{"$error":"#REF!"}},{"$f":"SkillConfig!#REF!","v":{"$error":"#REF!"}},{"$f":"SkillConfig!#REF!","v":{"$error":"#REF!"}},{"$f":"SkillConfig!#REF!","v":{"$error":"#REF!"}}]
[{"$f":"INT(SkillConfig!#REF!)","v":{"$error":"#REF!"}},{"$f":"SkillConfig!#REF!","v":{"$error":"#REF!"}},{"$f":"SkillConfig!#REF!","v":{"$error":"#REF!"}},{"$f":"SkillConfig!#REF!","v":{"$error":"#REF!"}}]
[{"$f":"INT(SkillConfig!#REF!)","v":{"$error":"#REF!"}},{"$f":"SkillConfig!#REF!","v":{"$error":"#REF!"}},{"$f":"SkillConfig!#REF!","v":{"$error":"#REF!"}},{"$f":"SkillConfig!#REF!","v":{"$error":"#REF!"}}]
[{"$f":"INT(SkillConfig!#REF!)","v":{"$error":"#REF!"}},{"$f":"SkillConfig!#REF!","v":{"$error":"#REF!"}},{"$f":"SkillConfig!#REF!","v":{"$error":"#REF!"}},{"$f":"SkillConfig!#REF!","v":{"$error":"#REF!"}}]
[{"$f":"INT(SkillConfig!#REF!)","v":{"$error":"#REF!"}},{"$f":"SkillConfig!#REF!","v":{"$error":"#REF!"}},{"$f":"SkillConfig!#REF!","v":{"$error":"#REF!"}},{"$f":"SkillConfig!#REF!","v":{"$error":"#REF!"}}]
[{"$f":"INT(SkillConfig!#REF!)","v":{"$error":"#REF!"}},{"$f":"SkillConfig!#REF!","v":{"$error":"#REF!"}},{"$f":"SkillConfig!#REF!","v":{"$error":"#REF!"}},{"$f":"SkillConfig!#REF!","v":{"$error":"#REF!"}}]
[{"$f":"INT(SkillConfig!#REF!)","v":{"$error":"#REF!"}},{"$f":"SkillConfig!#REF!","v":{"$error":"#REF!"}},{"$f":"SkillConfig!#REF!","v":{"$error":"#REF!"}},{"$f":"SkillConfig!#REF!","v":{"$error":"#REF!"}}]
[{"$f":"INT(SkillConfig!#REF!)","v":{"$error":"#REF!"}},{"$f":"SkillConfig!#REF!","v":{"$error":"#REF!"}},{"$f":"SkillConfig!#REF!","v":{"$error":"#REF!"}},{"$f":"SkillConfig!#REF!","v":{"$error":"#REF!"}}]
[{"$f":"INT(SkillConfig!#REF!)","v":{"$error":"#REF!"}},{"$f":"SkillConfig!#REF!","v":{"$error":"#REF!"}},{"$f":"SkillConfig!#REF!","v":{"$error":"#REF!"}},{"$f":"SkillConfig!#REF!","v":{"$error":"#REF!"}}]
[{"$f":"INT(SkillConfig!#REF!)","v":{"$error":"#REF!"}},{"$f":"SkillConfig!#REF!","v":{"$error":"#REF!"}},{"$f":"SkillConfig!#REF!","v":{"$error":"#REF!"}},{"$f":"SkillConfig!#REF!","v":{"$error":"#REF!"}}]
[{"$f":"INT(SkillConfig!#REF!)","v":{"$error":"#REF!"}},{"$f":"SkillConfig!#REF!","v":{"$error":"#REF!"}},{"$f":"SkillConfig!#REF!","v":{"$error":"#REF!"}},{"$f":"SkillConfig!#REF!","v":{"$error":"#REF!"}}]
[{"$f":"INT(SkillConfig!#REF!)","v":{"$error":"#REF!"}},{"$f":"SkillConfig!#REF!","v":{"$error":"#REF!"}},{"$f":"SkillConfig!#REF!","v":{"$error":"#REF!"}},{"$f":"SkillConfig!#REF!","v":{"$error":"#REF!"}}]
[{"$f":"INT(SkillConfig!#REF!)","v":{"$error":"#REF!"}},{"$f":"SkillConfig!#REF!","v":{"$error":"#REF!"}},{"$f":"SkillConfig!#REF!","v":{"$error":"#REF!"}},{"$f":"SkillConfig!#REF!","v":{"$error":"#REF!"}}]
[{"$f":"INT(SkillConfig!#REF!)","v":{"$error":"#REF!"}},{"$f":"SkillConfig!#REF!","v":{"$error":"#REF!"}},{"$f":"SkillConfig!#REF!","v":{"$error":"#REF!"}},{"$f":"SkillConfig!#REF!","v":{"$error":"#REF!"}}]
[{"$f":"INT(SkillConfig!#REF!)","v":{"$error":"#REF!"}},{"$f":"SkillConfig!#REF!","v":{"$error":"#REF!"}},{"$f":"SkillConfig!#REF!","v":{"$error":"#REF!"}},{"$f":"SkillConfig!#REF!","v":{"$error":"#REF!"}}]
[{"$f":"INT(SkillConfig!#REF!)","v":{"$error":"#REF!"}},{"$f":"SkillConfig!#REF!","v":{"$error":"#REF!"}},{"$f":"SkillConfig!#REF!","v":{"$error":"#REF!"}},{"$f":"SkillConfig!#REF!","v":{"$error":"#REF!"}}]
[{"$f":"INT(SkillConfig!#REF!)","v":{"$error":"#REF!"}},{"$f":"SkillConfig!#REF!","v":{"$error":"#REF!"}},{"$f":"SkillConfig!#REF!","v":{"$error":"#REF!"}},{"$f":"SkillConfig!#REF!","v":{"$error":"#REF!"}}]
[{"$f":"INT(SkillConfig!#REF!)","v":{"$error":"#REF!"}},{"$f":"SkillConfig!#REF!","v":{"$error":"#REF!"}},{"$f":"SkillConfig!#REF!","v":{"$error":"#REF!"}},{"$f":"SkillConfig!#REF!","v":{"$error":"#REF!"}}]
[{"$f":"INT(SkillConfig!#REF!)","v":{"$error":"#REF!"}},{"$f":"SkillConfig!#REF!","v":{"$error":"#REF!"}},{"$f":"SkillConfig!#REF!","v":{"$error":"#REF!"}},{"$f":"SkillConfig!#REF!","v":{"$error":"#REF!"}}]
[{"$f":"INT(SkillConfig!#REF!)","v":{"$error":"#REF!"}},{"$f":"SkillConfig!#REF!","v":{"$error":"#REF!"}},{"$f":"SkillConfig!#REF!","v":{"$error":"#REF!"}},{"$f":"SkillConfig!#REF!","v":{"$error":"#REF!"}}]
[{"$f":"INT(SkillConfig!#REF!)","v":{"$error":"#REF!"}},{"$f":"SkillConfig!#REF!","v":{"$error":"#REF!"}},{"$f":"SkillConfig!#REF!","v":{"$error":"#REF!"}},{"$f":"SkillConfig!#REF!","v":{"$error":"#REF!"}}]
[{"$f":"INT(SkillConfig!#REF!)","v":{"$error":"#REF!"}},{"$f":"SkillConfig!#REF!","v":{"$error":"#REF!"}},{"$f":"SkillConfig!#REF!","v":{"$error":"#REF!"}},{"$f":"SkillConfig!#REF!","v":{"$error":"#REF!"}}]
[{"$f":"INT(SkillConfig!#REF!)","v":{"$error":"#REF!"}},{"$f":"SkillConfig!#REF!","v":{"$error":"#REF!"}},{"$f":"SkillConfig!#REF!","v":{"$error":"#REF!"}},{"$f":"SkillConfig!#REF!","v":{"$error":"#REF!"}}]
[{"$f":"INT(SkillConfig!#REF!)","v":{"$error":"#REF!"}},{"$f":"SkillConfig!#REF!","v":{"$error":"#REF!"}},{"$f":"SkillConfig!#REF!","v":{"$error":"#REF!"}},{"$f":"SkillConfig!#REF!","v":{"$error":"#REF!"}}]
[{"$f":"INT(SkillConfig!#REF!)","v":{"$error":"#REF!"}},{"$f":"SkillConfig!#REF!","v":{"$error":"#REF!"}},{"$f":"SkillConfig!#REF!","v":{"$error":"#REF!"}},{"$f":"SkillConfig!#REF!","v":{"$error":"#REF!"}}]
[{"$f":"INT(SkillConfig!#REF!)","v":{"$error":"#REF!"}},{"$f":"SkillConfig!#REF!","v":{"$error":"#REF!"}},{"$f":"SkillConfig!#REF!","v":{"$error":"#REF!"}},{"$f":"SkillConfig!#REF!","v":{"$error":"#REF!"}}]
[{"$f":"INT(SkillConfig!#REF!)","v":{"$error":"#REF!"}},{"$f":"SkillConfig!#REF!","v":{"$error":"#REF!"}},{"$f":"SkillConfig!#REF!","v":{"$error":"#REF!"}},{"$f":"SkillConfig!#REF!","v":{"$error":"#REF!"}}]
[{"$f":"INT(SkillConfig!#REF!)","v":{"$error":"#REF!"}},{"$f":"SkillConfig!#REF!","v":{"$error":"#REF!"}},{"$f":"SkillConfig!#REF!","v":{"$error":"#REF!"}},{"$f":"SkillConfig!#REF!","v":{"$error":"#REF!"}}]
[{"$f":"INT(SkillConfig!#REF!)","v":{"$error":"#REF!"}},{"$f":"SkillConfig!#REF!","v":{"$error":"#REF!"}},{"$f":"SkillConfig!#REF!","v":{"$error":"#REF!"}},{"$f":"SkillConfig!#REF!","v":{"$error":"#REF!"}}]
[{"$f":"INT(SkillConfig!#REF!)","v":{"$error":"#REF!"}},{"$f":"SkillConfig!#REF!","v":{"$error":"#REF!"}},{"$f":"SkillConfig!#REF!","v":{"$error":"#REF!"}},{"$f":"SkillConfig!#REF!","v":{"$error":"#REF!"}}]
[{"$f":"INT(SkillConfig!#REF!)","v":{"$error":"#REF!"}},{"$f":"SkillConfig!#REF!","v":{"$error":"#REF!"}},{"$f":"SkillConfig!#REF!","v":{"$error":"#REF!"}},{"$f":"SkillConfig!#REF!","v":{"$error":"#REF!"}}]
[{"$f":"INT(SkillConfig!#REF!)","v":{"$error":"#REF!"}},{"$f":"SkillConfig!#REF!","v":{"$error":"#REF!"}},{"$f":"SkillConfig!#REF!","v":{"$error":"#REF!"}},{"$f":"SkillConfig!#REF!","v":{"$error":"#REF!"}}]
[{"$f":"INT(SkillConfig!#REF!)","v":{"$error":"#REF!"}},{"$f":"SkillConfig!#REF!","v":{"$error":"#REF!"}},{"$f":"SkillConfig!#REF!","v":{"$error":"#REF!"}},{"$f":"SkillConfig!#REF!","v":{"$error":"#REF!"}}]
[{"$f":"INT(SkillConfig!#REF!)","v":{"$error":"#REF!"}},{"$f":"SkillConfig!#REF!","v":{"$error":"#REF!"}},{"$f":"SkillConfig!#REF!","v":{"$error":"#REF!"}},{"$f":"SkillConfig!#REF!","v":{"$error":"#REF!"}}]
[{"$f":"INT(SkillConfig!#REF!)","v":{"$error":"#REF!"}},{"$f":"SkillConfig!#REF!","v":{"$error":"#REF!"}},{"$f":"SkillConfig!#REF!","v":{"$error":"#REF!"}},{"$f":"SkillConfig!#REF!","v":{"$error":"#REF!"}}]
[{"$f":"INT(SkillConfig!#REF!)","v":{"$error":"#REF!"}},{"$f":"SkillConfig!#REF!","v":{"$error":"#REF!"}},{"$f":"SkillConfig!#REF!","v":{"$error":"#REF!"}},{"$f":"SkillConfig!#REF!","v":{"$error":"#REF!"}}]
[{"$f":"INT(SkillConfig!#REF!)","v":{"$error":"#REF!"}},{"$f":"SkillConfig!#REF!","v":{"$error":"#REF!"}},{"$f":"SkillConfig!#REF!","v":{"$error":"#REF!"}},{"$f":"SkillConfig!#REF!","v":{"$error":"#REF!"}}]
[{"$f":"INT(SkillConfig!#REF!)","v":{"$error":"#REF!"}},{"$f":"SkillConfig!#REF!","v":{"$error":"#REF!"}},{"$f":"SkillConfig!#REF!","v":{"$error":"#REF!"}},{"$f":"SkillConfig!#REF!","v":{"$error":"#REF!"}}]
[{"$f":"INT(SkillConfig!#REF!)","v":{"$error":"#REF!"}},{"$f":"SkillConfig!#REF!","v":{"$error":"#REF!"}},{"$f":"SkillConfig!#REF!","v":{"$error":"#REF!"}},{"$f":"SkillConfig!#REF!","v":{"$error":"#REF!"}}]
[{"$f":"INT(SkillConfig!#REF!)","v":{"$error":"#REF!"}},{"$f":"SkillConfig!#REF!","v":{"$error":"#REF!"}},{"$f":"SkillConfig!#REF!","v":{"$error":"#REF!"}},{"$f":"SkillConfig!#REF!","v":{"$error":"#REF!"}}]
[{"$f":"INT(SkillConfig!#REF!)","v":{"$error":"#REF!"}},{"$f":"SkillConfig!#REF!","v":{"$error":"#REF!"}},{"$f":"SkillConfig!#REF!","v":{"$error":"#REF!"}},{"$f":"SkillConfig!#REF!","v":{"$error":"#REF!"}}]
[{"$f":"INT(SkillConfig!#REF!)","v":{"$error":"#REF!"}},{"$f":"SkillConfig!#REF!","v":{"$error":"#REF!"}},{"$f":"SkillConfig!#REF!","v":{"$error":"#REF!"}},{"$f":"SkillConfig!#REF!","v":{"$error":"#REF!"}}]
[{"$f":"INT(SkillConfig!#REF!)","v":{"$error":"#REF!"}},{"$f":"SkillConfig!#REF!","v":{"$error":"#REF!"}},{"$f":"SkillConfig!#REF!","v":{"$error":"#REF!"}},{"$f":"SkillConfig!#REF!","v":{"$error":"#REF!"}}]
[{"$f":"INT(SkillConfig!#REF!)","v":{"$error":"#REF!"}},{"$f":"SkillConfig!#REF!","v":{"$error":"#REF!"}},{"$f":"SkillConfig!#REF!","v":{"$error":"#REF!"}},{"$f":"SkillConfig!#REF!","v":{"$error":"#REF!"}}]
[{"$f":"INT(SkillConfig!#REF!)","v":{"$error":"#REF!"}},{"$f":"SkillConfig!#REF!","v":{"$error":"#REF!"}},{"$f":"SkillConfig!#REF!","v":{"$error":"#REF!"}},{"$f":"SkillConfig!#REF!","v":{"$error":"#REF!"}}]
[{"$f":"INT(SkillConfig!F6)","v":10001},{"$f":"SkillConfig!H6","v":2},{"$f":"SkillConfig!#REF!","v":{"$error":"#REF!"}},{"$f":"SkillConfig!#REF!","v":{"$error":"#REF!"}}]
[{"$f":"INT(SkillConfig!F10)","v":30001},{"$f":"SkillConfig!H10","v":2},{"$f":"SkillConfig!#REF!","v":{"$error":"#REF!"}},{"$f":"SkillConfig!#REF!","v":{"$error":"#REF!"}}]
[{"$f":"INT(SkillConfig!F14)","v":20001},{"$f":"SkillConfig!H14","v":2},{"$f":"SkillConfig!#REF!","v":{"$error":"#REF!"}},{"$f":"SkillConfig!#REF!","v":{"$error":"#REF!"}}]
[{"$f":"INT(SkillConfig!F18)","v":40001},{"$f":"SkillConfig!H18","v":2},{"$f":"SkillConfig!#REF!","v":{"$error":"#REF!"}},{"$f":"SkillConfig!#REF!","v":{"$error":"#REF!"}}]
[{"$f":"INT(SkillConfig!F22)","v":110001},{"$f":"SkillConfig!H22","v":2},{"$f":"SkillConfig!#REF!","v":{"$error":"#REF!"}},{"$f":"SkillConfig!#REF!","v":{"$error":"#REF!"}}]
[{"$f":"INT(SkillConfig!F26)","v":110002},{"$f":"SkillConfig!H26","v":2},{"$f":"SkillConfig!#REF!","v":{"$error":"#REF!"}},{"$f":"SkillConfig!#REF!","v":{"$error":"#REF!"}}]
[{"$f":"INT(SkillConfig!F30)","v":120001},{"$f":"SkillConfig!H30","v":2},{"$f":"SkillConfig!#REF!","v":{"$error":"#REF!"}},{"$f":"SkillConfig!#REF!","v":{"$error":"#REF!"}}]
[{"$f":"INT(SkillConfig!F34)","v":130001},{"$f":"SkillConfig!H34","v":2},{"$f":"SkillConfig!#REF!","v":{"$error":"#REF!"}},{"$f":"SkillConfig!#REF!","v":{"$error":"#REF!"}}]
[{"$f":"INT(SkillConfig!F38)","v":140001},{"$f":"SkillConfig!H38","v":2},{"$f":"SkillConfig!#REF!","v":{"$error":"#REF!"}},{"$f":"SkillConfig!#REF!","v":{"$error":"#REF!"}}]
[{"$f":"INT(SkillConfig!F42)","v":140003},{"$f":"SkillConfig!H42","v":2},{"$f":"SkillConfig!#REF!","v":{"$error":"#REF!"}},{"$f":"SkillConfig!#REF!","v":{"$error":"#REF!"}}]
[{"$f":"INT(SkillConfig!F43)","v":140003},{"$f":"SkillConfig!H43","v":2},{"$f":"SkillConfig!#REF!","v":{"$error":"#REF!"}},{"$f":"SkillConfig!#REF!","v":{"$error":"#REF!"}}]
[{"$f":"INT(SkillConfig!F44)","v":140003},{"$f":"SkillConfig!H44","v":2},{"$f":"SkillConfig!#REF!","v":{"$error":"#REF!"}},{"$f":"SkillConfig!#REF!","v":{"$error":"#REF!"}}]
[{"$f":"INT(SkillConfig!F45)","v":140003},{"$f":"SkillConfig!H45","v":2},{"$f":"SkillConfig!#REF!","v":{"$error":"#REF!"}},{"$f":"SkillConfig!#REF!","v":{"$error":"#REF!"}}]
[{"$f":"INT(SkillConfig!F46)","v":0},{"$f":"SkillConfig!H46","v":0},{"$f":"SkillConfig!#REF!","v":{"$error":"#REF!"}},{"$f":"SkillConfig!#REF!","v":{"$error":"#REF!"}}]
[{"$f":"INT(SkillConfig!F47)","v":0},{"$f":"SkillConfig!H47","v":0},{"$f":"SkillConfig!#REF!","v":{"$error":"#REF!"}},{"$f":"SkillConfig!#REF!","v":{"$error":"#REF!"}}]
[{"$f":"INT(SkillConfig!F48)","v":0},{"$f":"SkillConfig!H48","v":0},{"$f":"SkillConfig!#REF!","v":{"$error":"#REF!"}},{"$f":"SkillConfig!#REF!","v":{"$error":"#REF!"}}]
[{"$f":"INT(SkillConfig!F49)","v":0},{"$f":"SkillConfig!H49","v":0},{"$f":"SkillConfig!#REF!","v":{"$error":"#REF!"}},{"$f":"SkillConfig!#REF!","v":{"$error":"#REF!"}}]
[{"$f":"INT(SkillConfig!F50)","v":0},{"$f":"SkillConfig!H50","v":0},{"$f":"SkillConfig!#REF!","v":{"$error":"#REF!"}},{"$f":"SkillConfig!#REF!","v":{"$error":"#REF!"}}]
[{"$f":"INT(SkillConfig!F51)","v":0},{"$f":"SkillConfig!H51","v":0},{"$f":"SkillConfig!#REF!","v":{"$error":"#REF!"}},{"$f":"SkillConfig!#REF!","v":{"$error":"#REF!"}}]
[{"$f":"INT(SkillConfig!F52)","v":0},{"$f":"SkillConfig!H52","v":0},{"$f":"SkillConfig!#REF!","v":{"$error":"#REF!"}},{"$f":"SkillConfig!#REF!","v":{"$error":"#REF!"}}]
[{"$f":"INT(SkillConfig!F53)","v":0},{"$f":"SkillConfig!H53","v":0},{"$f":"SkillConfig!#REF!","v":{"$error":"#REF!"}},{"$f":"SkillConfig!#REF!","v":{"$error":"#REF!"}}]
[{"$f":"INT(SkillConfig!F54)","v":0},{"$f":"SkillConfig!H54","v":0},{"$f":"SkillConfig!#REF!","v":{"$error":"#REF!"}},{"$f":"SkillConfig!#REF!","v":{"$error":"#REF!"}}]
[{"$f":"INT(SkillConfig!F55)","v":0},{"$f":"SkillConfig!H55","v":0},{"$f":"SkillConfig!#REF!","v":{"$error":"#REF!"}},{"$f":"SkillConfig!#REF!","v":{"$error":"#REF!"}}]
[{"$f":"INT(SkillConfig!F56)","v":0},{"$f":"SkillConfig!H56","v":0},{"$f":"SkillConfig!#REF!","v":{"$error":"#REF!"}},{"$f":"SkillConfig!#REF!","v":{"$error":"#REF!"}}]
[{"$f":"INT(SkillConfig!F57)","v":0},{"$f":"SkillConfig!H57","v":0},{"$f":"SkillConfig!#REF!","v":{"$error":"#REF!"}},{"$f":"SkillConfig!#REF!","v":{"$error":"#REF!"}}]
[{"$f":"INT(SkillConfig!F58)","v":0},{"$f":"SkillConfig!H58","v":0},{"$f":"SkillConfig!#REF!","v":{"$error":"#REF!"}},{"$f":"SkillConfig!#REF!","v":{"$error":"#REF!"}}]
[{"$f":"INT(SkillConfig!F59)","v":0},{"$f":"SkillConfig!H59","v":0},{"$f":"SkillConfig!#REF!","v":{"$error":"#REF!"}},{"$f":"SkillConfig!#REF!","v":{"$error":"#REF!"}}]
[{"$f":"INT(SkillConfig!F60)","v":0},{"$f":"SkillConfig!H60","v":0},{"$f":"SkillConfig!#REF!","v":{"$error":"#REF!"}},{"$f":"SkillConfig!#REF!","v":{"$error":"#REF!"}}]
[{"$f":"INT(SkillConfig!F61)","v":0},{"$f":"SkillConfig!H61","v":0},{"$f":"SkillConfig!#REF!","v":{"$error":"#REF!"}},{"$f":"SkillConfig!#REF!","v":{"$error":"#REF!"}}]
[{"$f":"INT(SkillConfig!F62)","v":0},{"$f":"SkillConfig!H62","v":0},{"$f":"SkillConfig!#REF!","v":{"$error":"#REF!"}},{"$f":"SkillConfig!#REF!","v":{"$error":"#REF!"}}]
[{"$f":"INT(SkillConfig!F63)","v":0},{"$f":"SkillConfig!H63","v":0},{"$f":"SkillConfig!#REF!","v":{"$error":"#REF!"}},{"$f":"SkillConfig!#REF!","v":{"$error":"#REF!"}}]
[{"$f":"INT(SkillConfig!F64)","v":0},{"$f":"SkillConfig!H64","v":0},{"$f":"SkillConfig!#REF!","v":{"$error":"#REF!"}},{"$f":"SkillConfig!#REF!","v":{"$error":"#REF!"}}]
[{"$f":"INT(SkillConfig!F65)","v":0},{"$f":"SkillConfig!H65","v":0},{"$f":"SkillConfig!#REF!","v":{"$error":"#REF!"}},{"$f":"SkillConfig!#REF!","v":{"$error":"#REF!"}}]
[{"$f":"INT(SkillConfig!F66)","v":0},{"$f":"SkillConfig!H66","v":0},{"$f":"SkillConfig!#REF!","v":{"$error":"#REF!"}},{"$f":"SkillConfig!#REF!","v":{"$error":"#REF!"}}]
[{"$f":"INT(SkillConfig!F67)","v":0},{"$f":"SkillConfig!H67","v":0},{"$f":"SkillConfig!#REF!","v":{"$error":"#REF!"}},{"$f":"SkillConfig!#REF!","v":{"$error":"#REF!"}}]
[{"$f":"INT(SkillConfig!F68)","v":0},{"$f":"SkillConfig!H68","v":0},{"$f":"SkillConfig!#REF!","v":{"$error":"#REF!"}},{"$f":"SkillConfig!#REF!","v":{"$error":"#REF!"}}]
[{"$f":"INT(SkillConfig!F69)","v":0},{"$f":"SkillConfig!H69","v":0},{"$f":"SkillConfig!#REF!","v":{"$error":"#REF!"}},{"$f":"SkillConfig!#REF!","v":{"$error":"#REF!"}}]
[{"$f":"INT(SkillConfig!F70)","v":0},{"$f":"SkillConfig!H70","v":0},{"$f":"SkillConfig!#REF!","v":{"$error":"#REF!"}},{"$f":"SkillConfig!#REF!","v":{"$error":"#REF!"}}]
[{"$f":"INT(SkillConfig!F71)","v":0},{"$f":"SkillConfig!H71","v":0},{"$f":"SkillConfig!#REF!","v":{"$error":"#REF!"}},{"$f":"SkillConfig!#REF!","v":{"$error":"#REF!"}}]
[{"$f":"INT(SkillConfig!F72)","v":0},{"$f":"SkillConfig!H72","v":0},{"$f":"SkillConfig!#REF!","v":{"$error":"#REF!"}},{"$f":"SkillConfig!#REF!","v":{"$error":"#REF!"}}]
[{"$f":"INT(SkillConfig!F73)","v":0},{"$f":"SkillConfig!H73","v":0},{"$f":"SkillConfig!#REF!","v":{"$error":"#REF!"}},{"$f":"SkillConfig!#REF!","v":{"$error":"#REF!"}}]
[{"$f":"INT(SkillConfig!F74)","v":0},{"$f":"SkillConfig!H74","v":0},{"$f":"SkillConfig!#REF!","v":{"$error":"#REF!"}},{"$f":"SkillConfig!#REF!","v":{"$error":"#REF!"}}]
[{"$f":"INT(SkillConfig!F75)","v":0},{"$f":"SkillConfig!H75","v":0},{"$f":"SkillConfig!#REF!","v":{"$error":"#REF!"}},{"$f":"SkillConfig!#REF!","v":{"$error":"#REF!"}}]
[{"$f":"INT(SkillConfig!F76)","v":0},{"$f":"SkillConfig!H76","v":0},{"$f":"SkillConfig!#REF!","v":{"$error":"#REF!"}},{"$f":"SkillConfig!#REF!","v":{"$error":"#REF!"}}]
[{"$f":"INT(SkillConfig!F77)","v":0},{"$f":"SkillConfig!H77","v":0},{"$f":"SkillConfig!#REF!","v":{"$error":"#REF!"}},{"$f":"SkillConfig!#REF!","v":{"$error":"#REF!"}}]
[{"$f":"INT(SkillConfig!F78)","v":0},{"$f":"SkillConfig!H78","v":0},{"$f":"SkillConfig!#REF!","v":{"$error":"#REF!"}},{"$f":"SkillConfig!#REF!","v":{"$error":"#REF!"}}]
[{"$f":"INT(SkillConfig!F79)","v":0},{"$f":"SkillConfig!H79","v":0},{"$f":"SkillConfig!#REF!","v":{"$error":"#REF!"}},{"$f":"SkillConfig!#REF!","v":{"$error":"#REF!"}}]
[{"$f":"INT(SkillConfig!F80)","v":0},{"$f":"SkillConfig!H80","v":0},{"$f":"SkillConfig!#REF!","v":{"$error":"#REF!"}},{"$f":"SkillConfig!#REF!","v":{"$error":"#REF!"}}]
[{"$f":"INT(SkillConfig!F81)","v":0},{"$f":"SkillConfig!H81","v":0},{"$f":"SkillConfig!#REF!","v":{"$error":"#REF!"}},{"$f":"SkillConfig!#REF!","v":{"$error":"#REF!"}}]
[{"$f":"INT(SkillConfig!F82)","v":0},{"$f":"SkillConfig!H82","v":0},{"$f":"SkillConfig!#REF!","v":{"$error":"#REF!"}},{"$f":"SkillConfig!#REF!","v":{"$error":"#REF!"}}]
[{"$f":"INT(SkillConfig!F83)","v":0},{"$f":"SkillConfig!H83","v":0},{"$f":"SkillConfig!#REF!","v":{"$error":"#REF!"}},{"$f":"SkillConfig!#REF!","v":{"$error":"#REF!"}}]
[{"$f":"INT(SkillConfig!F84)","v":0},{"$f":"SkillConfig!H84","v":0},{"$f":"SkillConfig!#REF!","v":{"$error":"#REF!"}},{"$f":"SkillConfig!#REF!","v":{"$error":"#REF!"}}]
[{"$f":"INT(SkillConfig!F85)","v":0},{"$f":"SkillConfig!H85","v":0},{"$f":"SkillConfig!#REF!","v":{"$error":"#REF!"}},{"$f":"SkillConfig!#REF!","v":{"$error":"#REF!"}}]
[{"$f":"INT(SkillConfig!F86)","v":0},{"$f":"SkillConfig!H86","v":0},{"$f":"SkillConfig!#REF!","v":{"$error":"#REF!"}},{"$f":"SkillConfig!#REF!","v":{"$error":"#REF!"}}]
[{"$f":"INT(SkillConfig!F87)","v":0},{"$f":"SkillConfig!H87","v":0},{"$f":"SkillConfig!#REF!","v":{"$error":"#REF!"}},{"$f":"SkillConfig!#REF!","v":{"$error":"#REF!"}}]
[{"$f":"INT(SkillConfig!F88)","v":0},{"$f":"SkillConfig!H88","v":0},{"$f":"SkillConfig!#REF!","v":{"$error":"#REF!"}},{"$f":"SkillConfig!#REF!","v":{"$error":"#REF!"}}]
[{"$f":"INT(SkillConfig!F89)","v":0},{"$f":"SkillConfig!H89","v":0},{"$f":"SkillConfig!#REF!","v":{"$error":"#REF!"}},{"$f":"SkillConfig!#REF!","v":{"$error":"#REF!"}}]
[{"$f":"INT(SkillConfig!F90)","v":0},{"$f":"SkillConfig!H90","v":0},{"$f":"SkillConfig!#REF!","v":{"$error":"#REF!"}},{"$f":"SkillConfig!#REF!","v":{"$error":"#REF!"}}]
[{"$f":"INT(SkillConfig!F91)","v":0},{"$f":"SkillConfig!H91","v":0},{"$f":"SkillConfig!#REF!","v":{"$error":"#REF!"}},{"$f":"SkillConfig!#REF!","v":{"$error":"#REF!"}}]
[{"$f":"INT(SkillConfig!F92)","v":0},{"$f":"SkillConfig!H92","v":0},{"$f":"SkillConfig!#REF!","v":{"$error":"#REF!"}},{"$f":"SkillConfig!#REF!","v":{"$error":"#REF!"}}]
[{"$f":"INT(SkillConfig!F93)","v":0},{"$f":"SkillConfig!H93","v":0},{"$f":"SkillConfig!#REF!","v":{"$error":"#REF!"}},{"$f":"SkillConfig!#REF!","v":{"$error":"#REF!"}}]
[{"$f":"INT(SkillConfig!F94)","v":0},{"$f":"SkillConfig!H94","v":0},{"$f":"SkillConfig!#REF!","v":{"$error":"#REF!"}},{"$f":"SkillConfig!#REF!","v":{"$error":"#REF!"}}]
[{"$f":"INT(SkillConfig!F95)","v":0},{"$f":"SkillConfig!H95","v":0},{"$f":"SkillConfig!#REF!","v":{"$error":"#REF!"}},{"$f":"SkillConfig!#REF!","v":{"$error":"#REF!"}}]
[{"$f":"INT(SkillConfig!F96)","v":0},{"$f":"SkillConfig!H96","v":0},{"$f":"SkillConfig!#REF!","v":{"$error":"#REF!"}},{"$f":"SkillConfig!#REF!","v":{"$error":"#REF!"}}]
[{"$f":"INT(SkillConfig!F97)","v":0},{"$f":"SkillConfig!H97","v":0},{"$f":"SkillConfig!#REF!","v":{"$error":"#REF!"}},{"$f":"SkillConfig!#REF!","v":{"$error":"#REF!"}}]
[{"$f":"INT(SkillConfig!F98)","v":0},{"$f":"SkillConfig!H98","v":0},{"$f":"SkillConfig!#REF!","v":{"$error":"#REF!"}},{"$f":"SkillConfig!#REF!","v":{"$error":"#REF!"}}]
[{"$f":"INT(SkillConfig!F99)","v":0},{"$f":"SkillConfig!H99","v":0},{"$f":"SkillConfig!#REF!","v":{"$error":"#REF!"}},{"$f":"SkillConfig!#REF!","v":{"$error":"#REF!"}}]
[{"$f":"INT(SkillConfig!F100)","v":0},{"$f":"SkillConfig!H100","v":0},{"$f":"SkillConfig!#REF!","v":{"$error":"#REF!"}},{"$f":"SkillConfig!#REF!","v":{"$error":"#REF!"}}]
[{"$f":"INT(SkillConfig!F101)","v":0},{"$f":"SkillConfig!H101","v":0},{"$f":"SkillConfig!#REF!","v":{"$error":"#REF!"}},{"$f":"SkillConfig!#REF!","v":{"$error":"#REF!"}}]
[{"$f":"INT(SkillConfig!F102)","v":0},{"$f":"SkillConfig!H102","v":0},{"$f":"SkillConfig!#REF!","v":{"$error":"#REF!"}},{"$f":"SkillConfig!#REF!","v":{"$error":"#REF!"}}]
[{"$f":"INT(SkillConfig!F103)","v":0},{"$f":"SkillConfig!H103","v":0},{"$f":"SkillConfig!#REF!","v":{"$error":"#REF!"}},{"$f":"SkillConfig!#REF!","v":{"$error":"#REF!"}}]
[{"$f":"INT(SkillConfig!F104)","v":0},{"$f":"SkillConfig!H104","v":0},{"$f":"SkillConfig!#REF!","v":{"$error":"#REF!"}},{"$f":"SkillConfig!#REF!","v":{"$error":"#REF!"}}]
[{"$f":"INT(SkillConfig!F105)","v":0},{"$f":"SkillConfig!H105","v":0},{"$f":"SkillConfig!#REF!","v":{"$error":"#REF!"}},{"$f":"SkillConfig!#REF!","v":{"$error":"#REF!"}}]
[{"$f":"INT(SkillConfig!F106)","v":0},{"$f":"SkillConfig!H106","v":0},{"$f":"SkillConfig!#REF!","v":{"$error":"#REF!"}},{"$f":"SkillConfig!#REF!","v":{"$error":"#REF!"}}]
[{"$f":"INT(SkillConfig!F107)","v":0},{"$f":"SkillConfig!H107","v":0},{"$f":"SkillConfig!#REF!","v":{"$error":"#REF!"}},{"$f":"SkillConfig!#REF!","v":{"$error":"#REF!"}}]
[{"$f":"INT(SkillConfig!F108)","v":0},{"$f":"SkillConfig!H108","v":0},{"$f":"SkillConfig!#REF!","v":{"$error":"#REF!"}},{"$f":"SkillConfig!#REF!","v":{"$error":"#REF!"}}]
[{"$f":"INT(SkillConfig!F109)","v":0},{"$f":"SkillConfig!H109","v":0},{"$f":"SkillConfig!#REF!","v":{"$error":"#REF!"}},{"$f":"SkillConfig!#REF!","v":{"$error":"#REF!"}}]
[{"$f":"INT(SkillConfig!F110)","v":0},{"$f":"SkillConfig!H110","v":0},{"$f":"SkillConfig!#REF!","v":{"$error":"#REF!"}},{"$f":"SkillConfig!#REF!","v":{"$error":"#REF!"}}]
[{"$f":"INT(SkillConfig!F111)","v":0},{"$f":"SkillConfig!H111","v":0},{"$f":"SkillConfig!#REF!","v":{"$error":"#REF!"}},{"$f":"SkillConfig!#REF!","v":{"$error":"#REF!"}}]
[{"$f":"INT(SkillConfig!F112)","v":0},{"$f":"SkillConfig!H112","v":0},{"$f":"SkillConfig!#REF!","v":{"$error":"#REF!"}},{"$f":"SkillConfig!#REF!","v":{"$error":"#REF!"}}]
[{"$f":"INT(SkillConfig!F113)","v":0},{"$f":"SkillConfig!H113","v":0},{"$f":"SkillConfig!#REF!","v":{"$error":"#REF!"}},{"$f":"SkillConfig!#REF!","v":{"$error":"#REF!"}}]
[{"$f":"INT(SkillConfig!F114)","v":0},{"$f":"SkillConfig!H114","v":0},{"$f":"SkillConfig!#REF!","v":{"$error":"#REF!"}},{"$f":"SkillConfig!#REF!","v":{"$error":"#REF!"}}]
[{"$f":"INT(SkillConfig!F115)","v":0},{"$f":"SkillConfig!H115","v":0},{"$f":"SkillConfig!#REF!","v":{"$error":"#REF!"}},{"$f":"SkillConfig!#REF!","v":{"$error":"#REF!"}}]
[{"$f":"INT(SkillConfig!F116)","v":0},{"$f":"SkillConfig!H116","v":0},{"$f":"SkillConfig!#REF!","v":{"$error":"#REF!"}},{"$f":"SkillConfig!#REF!","v":{"$error":"#REF!"}}]
[{"$f":"INT(SkillConfig!F117)","v":0},{"$f":"SkillConfig!H117","v":0},{"$f":"SkillConfig!#REF!","v":{"$error":"#REF!"}},{"$f":"SkillConfig!#REF!","v":{"$error":"#REF!"}}]
[{"$f":"INT(SkillConfig!F118)","v":0},{"$f":"SkillConfig!H118","v":0},{"$f":"SkillConfig!#REF!","v":{"$error":"#REF!"}},{"$f":"SkillConfig!#REF!","v":{"$error":"#REF!"}}]
[{"$f":"INT(SkillConfig!F119)","v":0},{"$f":"SkillConfig!H119","v":0},{"$f":"SkillConfig!#REF!","v":{"$error":"#REF!"}},{"$f":"SkillConfig!#REF!","v":{"$error":"#REF!"}}]
[{"$f":"INT(SkillConfig!F120)","v":0},{"$f":"SkillConfig!H120","v":0},{"$f":"SkillConfig!#REF!","v":{"$error":"#REF!"}},{"$f":"SkillConfig!#REF!","v":{"$error":"#REF!"}}]
[{"$f":"INT(SkillConfig!F121)","v":0},{"$f":"SkillConfig!H121","v":0},{"$f":"SkillConfig!#REF!","v":{"$error":"#REF!"}},{"$f":"SkillConfig!#REF!","v":{"$error":"#REF!"}}]
[{"$f":"INT(SkillConfig!F122)","v":0},{"$f":"SkillConfig!H122","v":0},{"$f":"SkillConfig!#REF!","v":{"$error":"#REF!"}},{"$f":"SkillConfig!#REF!","v":{"$error":"#REF!"}}]
[{"$f":"INT(SkillConfig!F123)","v":0},{"$f":"SkillConfig!H123","v":0},{"$f":"SkillConfig!#REF!","v":{"$error":"#REF!"}},{"$f":"SkillConfig!#REF!","v":{"$error":"#REF!"}}]
[{"$f":"INT(SkillConfig!F124)","v":0},{"$f":"SkillConfig!H124","v":0},{"$f":"SkillConfig!#REF!","v":{"$error":"#REF!"}},{"$f":"SkillConfig!#REF!","v":{"$error":"#REF!"}}]
[{"$f":"INT(SkillConfig!F125)","v":0},{"$f":"SkillConfig!H125","v":0},{"$f":"SkillConfig!#REF!","v":{"$error":"#REF!"}},{"$f":"SkillConfig!#REF!","v":{"$error":"#REF!"}}]
[{"$f":"INT(SkillConfig!F126)","v":0},{"$f":"SkillConfig!H126","v":0},{"$f":"SkillConfig!#REF!","v":{"$error":"#REF!"}},{"$f":"SkillConfig!#REF!","v":{"$error":"#REF!"}}]
[{"$f":"INT(SkillConfig!F127)","v":0},{"$f":"SkillConfig!H127","v":0},{"$f":"SkillConfig!#REF!","v":{"$error":"#REF!"}},{"$f":"SkillConfig!#REF!","v":{"$error":"#REF!"}}]
[{"$f":"INT(SkillConfig!F128)","v":0},{"$f":"SkillConfig!H128","v":0},{"$f":"SkillConfig!#REF!","v":{"$error":"#REF!"}},{"$f":"SkillConfig!#REF!","v":{"$error":"#REF!"}}]
[{"$f":"INT(SkillConfig!F129)","v":0},{"$f":"SkillConfig!H129","v":0},{"$f":"SkillConfig!#REF!","v":{"$error":"#REF!"}},{"$f":"SkillConfig!#REF!","v":{"$error":"#REF!"}}]
[{"$f":"INT(SkillConfig!F130)","v":0},{"$f":"SkillConfig!H130","v":0},{"$f":"SkillConfig!#REF!","v":{"$error":"#REF!"}},{"$f":"SkillConfig!#REF!","v":{"$error":"#REF!"}}]
[{"$f":"INT(SkillConfig!F131)","v":0},{"$f":"SkillConfig!H131","v":0},{"$f":"SkillConfig!#REF!","v":{"$error":"#REF!"}},{"$f":"SkillConfig!#REF!","v":{"$error":"#REF!"}}]
[{"$f":"INT(SkillConfig!F132)","v":0},{"$f":"SkillConfig!H132","v":0},{"$f":"SkillConfig!#REF!","v":{"$error":"#REF!"}},{"$f":"SkillConfig!#REF!","v":{"$error":"#REF!"}}]
[{"$f":"INT(SkillConfig!F133)","v":0},{"$f":"SkillConfig!H133","v":0},{"$f":"SkillConfig!#REF!","v":{"$error":"#REF!"}},{"$f":"SkillConfig!#REF!","v":{"$error":"#REF!"}}]
[{"$f":"INT(SkillConfig!F134)","v":0},{"$f":"SkillConfig!H134","v":0},{"$f":"SkillConfig!#REF!","v":{"$error":"#REF!"}},{"$f":"SkillConfig!#REF!","v":{"$error":"#REF!"}}]
[{"$f":"INT(SkillConfig!F135)","v":0},{"$f":"SkillConfig!H135","v":0},{"$f":"SkillConfig!#REF!","v":{"$error":"#REF!"}},{"$f":"SkillConfig!#REF!","v":{"$error":"#REF!"}}]
[{"$f":"INT(SkillConfig!F136)","v":0},{"$f":"SkillConfig!H136","v":0},{"$f":"SkillConfig!#REF!","v":{"$error":"#REF!"}},{"$f":"SkillConfig!#REF!","v":{"$error":"#REF!"}}]
[{"$f":"INT(SkillConfig!F137)","v":0},{"$f":"SkillConfig!H137","v":0},{"$f":"SkillConfig!#REF!","v":{"$error":"#REF!"}},{"$f":"SkillConfig!#REF!","v":{"$error":"#REF!"}}]
[{"$f":"INT(SkillConfig!F138)","v":0},{"$f":"SkillConfig!H138","v":0},{"$f":"SkillConfig!#REF!","v":{"$error":"#REF!"}},{"$f":"SkillConfig!#REF!","v":{"$error":"#REF!"}}]
[{"$f":"INT(SkillConfig!F139)","v":0},{"$f":"SkillConfig!H139","v":0},{"$f":"SkillConfig!#REF!","v":{"$error":"#REF!"}},{"$f":"SkillConfig!#REF!","v":{"$error":"#REF!"}}]
[{"$f":"INT(SkillConfig!F140)","v":0},{"$f":"SkillConfig!H140","v":0},{"$f":"SkillConfig!#REF!","v":{"$error":"#REF!"}},{"$f":"SkillConfig!#REF!","v":{"$error":"#REF!"}}]
[{"$f":"INT(SkillConfig!F141)","v":0},{"$f":"SkillConfig!H141","v":0},{"$f":"SkillConfig!#REF!","v":{"$error":"#REF!"}},{"$f":"SkillConfig!#REF!","v":{"$error":"#REF!"}}]
[{"$f":"INT(SkillConfig!F142)","v":0},{"$f":"SkillConfig!H142","v":0},{"$f":"SkillConfig!#REF!","v":{"$error":"#REF!"}},{"$f":"SkillConfig!#REF!","v":{"$error":"#REF!"}}]
[{"$f":"INT(SkillConfig!F143)","v":0},{"$f":"SkillConfig!H143","v":0},{"$f":"SkillConfig!#REF!","v":{"$error":"#REF!"}},{"$f":"SkillConfig!#REF!","v":{"$error":"#REF!"}}]
[{"$f":"INT(SkillConfig!F144)","v":0},{"$f":"SkillConfig!H144","v":0},{"$f":"SkillConfig!#REF!","v":{"$error":"#REF!"}},{"$f":"SkillConfig!#REF!","v":{"$error":"#REF!"}}]
[{"$f":"INT(SkillConfig!F145)","v":0},{"$f":"SkillConfig!H145","v":0},{"$f":"SkillConfig!#REF!","v":{"$error":"#REF!"}},{"$f":"SkillConfig!#REF!","v":{"$error":"#REF!"}}]
[{"$f":"INT(SkillConfig!F146)","v":0},{"$f":"SkillConfig!H146","v":0},{"$f":"SkillConfig!#REF!","v":{"$error":"#REF!"}},{"$f":"SkillConfig!#REF!","v":{"$error":"#REF!"}}]
[{"$f":"INT(SkillConfig!F147)","v":0},{"$f":"SkillConfig!H147","v":0},{"$f":"SkillConfig!#REF!","v":{"$error":"#REF!"}},{"$f":"SkillConfig!#REF!","v":{"$error":"#REF!"}}]
[{"$f":"INT(SkillConfig!F148)","v":0},{"$f":"SkillConfig!H148","v":0},{"$f":"SkillConfig!#REF!","v":{"$error":"#REF!"}},{"$f":"SkillConfig!#REF!","v":{"$error":"#REF!"}}]
[{"$f":"INT(SkillConfig!F149)","v":0},{"$f":"SkillConfig!H149","v":0},{"$f":"SkillConfig!#REF!","v":{"$error":"#REF!"}},{"$f":"SkillConfig!#REF!","v":{"$error":"#REF!"}}]
[{"$f":"INT(SkillConfig!F150)","v":0},{"$f":"SkillConfig!H150","v":0},{"$f":"SkillConfig!#REF!","v":{"$error":"#REF!"}},{"$f":"SkillConfig!#REF!","v":{"$error":"#REF!"}}]
[{"$f":"INT(SkillConfig!F151)","v":0},{"$f":"SkillConfig!H151","v":0},{"$f":"SkillConfig!#REF!","v":{"$error":"#REF!"}},{"$f":"SkillConfig!#REF!","v":{"$error":"#REF!"}}]
[{"$f":"INT(SkillConfig!F152)","v":0},{"$f":"SkillConfig!H152","v":0},{"$f":"SkillConfig!#REF!","v":{"$error":"#REF!"}},{"$f":"SkillConfig!#REF!","v":{"$error":"#REF!"}}]
[{"$f":"INT(SkillConfig!F153)","v":0},{"$f":"SkillConfig!H153","v":0},{"$f":"SkillConfig!#REF!","v":{"$error":"#REF!"}},{"$f":"SkillConfig!#REF!","v":{"$error":"#REF!"}}]
[{"$f":"INT(SkillConfig!F154)","v":0},{"$f":"SkillConfig!H154","v":0},{"$f":"SkillConfig!#REF!","v":{"$error":"#REF!"}},{"$f":"SkillConfig!#REF!","v":{"$error":"#REF!"}}]
[{"$f":"INT(SkillConfig!F155)","v":0},{"$f":"SkillConfig!H155","v":0},{"$f":"SkillConfig!#REF!","v":{"$error":"#REF!"}},{"$f":"SkillConfig!#REF!","v":{"$error":"#REF!"}}]
[{"$f":"INT(SkillConfig!F156)","v":0},{"$f":"SkillConfig!H156","v":0},{"$f":"SkillConfig!#REF!","v":{"$error":"#REF!"}},{"$f":"SkillConfig!#REF!","v":{"$error":"#REF!"}}]
[{"$f":"INT(SkillConfig!F157)","v":0},{"$f":"SkillConfig!H157","v":0},{"$f":"SkillConfig!#REF!","v":{"$error":"#REF!"}},{"$f":"SkillConfig!#REF!","v":{"$error":"#REF!"}}]
[{"$f":"INT(SkillConfig!F158)","v":0},{"$f":"SkillConfig!H158","v":0},{"$f":"SkillConfig!#REF!","v":{"$error":"#REF!"}},{"$f":"SkillConfig!#REF!","v":{"$error":"#REF!"}}]
[{"$f":"INT(SkillConfig!F159)","v":0},{"$f":"SkillConfig!H159","v":0},{"$f":"SkillConfig!#REF!","v":{"$error":"#REF!"}},{"$f":"SkillConfig!#REF!","v":{"$error":"#REF!"}}]
[{"$f":"INT(SkillConfig!F160)","v":0},{"$f":"SkillConfig!H160","v":0},{"$f":"SkillConfig!#REF!","v":{"$error":"#REF!"}},{"$f":"SkillConfig!#REF!","v":{"$error":"#REF!"}}]
[{"$f":"INT(SkillConfig!F161)","v":0},{"$f":"SkillConfig!H161","v":0},{"$f":"SkillConfig!#REF!","v":{"$error":"#REF!"}},{"$f":"SkillConfig!#REF!","v":{"$error":"#REF!"}}]
[{"$f":"INT(SkillConfig!F162)","v":0},{"$f":"SkillConfig!H162","v":0},{"$f":"SkillConfig!#REF!","v":{"$error":"#REF!"}},{"$f":"SkillConfig!#REF!","v":{"$error":"#REF!"}}]
[{"$f":"INT(SkillConfig!F163)","v":0},{"$f":"SkillConfig!H163","v":0},{"$f":"SkillConfig!#REF!","v":{"$error":"#REF!"}},{"$f":"SkillConfig!#REF!","v":{"$error":"#REF!"}}]
[{"$f":"INT(SkillConfig!F164)","v":0},{"$f":"SkillConfig!H164","v":0},{"$f":"SkillConfig!#REF!","v":{"$error":"#REF!"}},{"$f":"SkillConfig!#REF!","v":{"$error":"#REF!"}}]
[{"$f":"INT(SkillConfig!F165)","v":0},{"$f":"SkillConfig!H165","v":0},{"$f":"SkillConfig!#REF!","v":{"$error":"#REF!"}},{"$f":"SkillConfig!#REF!","v":{"$error":"#REF!"}}]
[{"$f":"INT(SkillConfig!F166)","v":0},{"$f":"SkillConfig!H166","v":0},{"$f":"SkillConfig!#REF!","v":{"$error":"#REF!"}},{"$f":"SkillConfig!#REF!","v":{"$error":"#REF!"}}]
[{"$f":"INT(SkillConfig!F167)","v":0},{"$f":"SkillConfig!H167","v":0},{"$f":"SkillConfig!#REF!","v":{"$error":"#REF!"}},{"$f":"SkillConfig!#REF!","v":{"$error":"#REF!"}}]
[{"$f":"INT(SkillConfig!F168)","v":0},{"$f":"SkillConfig!H168","v":0},{"$f":"SkillConfig!#REF!","v":{"$error":"#REF!"}},{"$f":"SkillConfig!#REF!","v":{"$error":"#REF!"}}]
[{"$f":"INT(SkillConfig!F169)","v":0},{"$f":"SkillConfig!H169","v":0},{"$f":"SkillConfig!#REF!","v":{"$error":"#REF!"}},{"$f":"SkillConfig!#REF!","v":{"$error":"#REF!"}}]
[{"$f":"INT(SkillConfig!F170)","v":0},{"$f":"SkillConfig!H170","v":0},{"$f":"SkillConfig!#REF!","v":{"$error":"#REF!"}},{"$f":"SkillConfig!#REF!","v":{"$error":"#REF!"}}]
[{"$f":"INT(SkillConfig!F171)","v":0},{"$f":"SkillConfig!H171","v":0},{"$f":"SkillConfig!#REF!","v":{"$error":"#REF!"}},{"$f":"SkillConfig!#REF!","v":{"$error":"#REF!"}}]
[{"$f":"INT(SkillConfig!F172)","v":0},{"$f":"SkillConfig!H172","v":0},{"$f":"SkillConfig!#REF!","v":{"$error":"#REF!"}},{"$f":"SkillConfig!#REF!","v":{"$error":"#REF!"}}]
[{"$f":"INT(SkillConfig!F173)","v":0},{"$f":"SkillConfig!H173","v":0},{"$f":"SkillConfig!#REF!","v":{"$error":"#REF!"}},{"$f":"SkillConfig!#REF!","v":{"$error":"#REF!"}}]
[{"$f":"INT(SkillConfig!F174)","v":0},{"$f":"SkillConfig!H174","v":0},{"$f":"SkillConfig!#REF!","v":{"$error":"#REF!"}},{"$f":"SkillConfig!#REF!","v":{"$error":"#REF!"}}]
[{"$f":"INT(SkillConfig!F175)","v":0},{"$f":"SkillConfig!H175","v":0},{"$f":"SkillConfig!#REF!","v":{"$error":"#REF!"}},{"$f":"SkillConfig!#REF!","v":{"$error":"#REF!"}}]
[{"$f":"INT(SkillConfig!F176)","v":0},{"$f":"SkillConfig!H176","v":0},{"$f":"SkillConfig!#REF!","v":{"$error":"#REF!"}},{"$f":"SkillConfig!#REF!","v":{"$error":"#REF!"}}]
[{"$f":"INT(SkillConfig!F177)","v":0},{"$f":"SkillConfig!H177","v":0},{"$f":"SkillConfig!#REF!","v":{"$error":"#REF!"}},{"$f":"SkillConfig!#REF!","v":{"$error":"#REF!"}}]
[{"$f":"INT(SkillConfig!F178)","v":0},{"$f":"SkillConfig!H178","v":0},{"$f":"SkillConfig!#REF!","v":{"$error":"#REF!"}},{"$f":"SkillConfig!#REF!","v":{"$error":"#REF!"}}]
[{"$f":"INT(SkillConfig!F179)","v":0},{"$f":"SkillConfig!H179","v":0},{"$f":"SkillConfig!#REF!","v":{"$error":"#REF!"}},{"$f":"SkillConfig!#REF!","v":{"$error":"#REF!"}}]
[{"$f":"INT(SkillConfig!F180)","v":0},{"$f":"SkillConfig!H180","v":0},{"$f":"SkillConfig!#REF!","v":{"$error":"#REF!"}},{"$f":"SkillConfig!#REF!","v":{"$error":"#REF!"}}]
[{"$f":"INT(SkillConfig!F181)","v":0},{"$f":"SkillConfig!H181","v":0},{"$f":"SkillConfig!#REF!","v":{"$error":"#REF!"}},{"$f":"SkillConfig!#REF!","v":{"$error":"#REF!"}}]
[{"$f":"INT(SkillConfig!F182)","v":0},{"$f":"SkillConfig!H182","v":0},{"$f":"SkillConfig!#REF!","v":{"$error":"#REF!"}},{"$f":"SkillConfig!#REF!","v":{"$error":"#REF!"}}]
[{"$f":"INT(SkillConfig!F183)","v":0},{"$f":"SkillConfig!H183","v":0},{"$f":"SkillConfig!#REF!","v":{"$error":"#REF!"}},{"$f":"SkillConfig!#REF!","v":{"$error":"#REF!"}}]
[{"$f":"INT(SkillConfig!F184)","v":0},{"$f":"SkillConfig!H184","v":0},{"$f":"SkillConfig!#REF!","v":{"$error":"#REF!"}},{"$f":"SkillConfig!#REF!","v":{"$error":"#REF!"}}]
[{"$f":"INT(SkillConfig!F185)","v":0},{"$f":"SkillConfig!H185","v":0},{"$f":"SkillConfig!#REF!","v":{"$error":"#REF!"}},{"$f":"SkillConfig!#REF!","v":{"$error":"#REF!"}}]
[{"$f":"INT(SkillConfig!F186)","v":0},{"$f":"SkillConfig!H186","v":0},{"$f":"SkillConfig!#REF!","v":{"$error":"#REF!"}},{"$f":"SkillConfig!#REF!","v":{"$error":"#REF!"}}]
[{"$f":"INT(SkillConfig!F187)","v":0},{"$f":"SkillConfig!H187","v":0},{"$f":"SkillConfig!#REF!","v":{"$error":"#REF!"}},{"$f":"SkillConfig!#REF!","v":{"$error":"#REF!"}}]
[{"$f":"INT(SkillConfig!F188)","v":0},{"$f":"SkillConfig!H188","v":0},{"$f":"SkillConfig!#REF!","v":{"$error":"#REF!"}},{"$f":"SkillConfig!#REF!","v":{"$error":"#REF!"}}]
[{"$f":"INT(SkillConfig!F189)","v":0},{"$f":"SkillConfig!H189","v":0},{"$f":"SkillConfig!#REF!","v":{"$error":"#REF!"}},{"$f":"SkillConfig!#REF!","v":{"$error":"#REF!"}}]
[{"$f":"INT(SkillConfig!F190)","v":0},{"$f":"SkillConfig!H190","v":0},{"$f":"SkillConfig!#REF!","v":{"$error":"#REF!"}},{"$f":"SkillConfig!#REF!","v":{"$error":"#REF!"}}]
[{"$f":"INT(SkillConfig!F191)","v":0},{"$f":"SkillConfig!H191","v":0},{"$f":"SkillConfig!#REF!","v":{"$error":"#REF!"}},{"$f":"SkillConfig!#REF!","v":{"$error":"#REF!"}}]
[{"$f":"INT(SkillConfig!F192)","v":0},{"$f":"SkillConfig!H192","v":0},{"$f":"SkillConfig!#REF!","v":{"$error":"#REF!"}},{"$f":"SkillConfig!#REF!","v":{"$error":"#REF!"}}]
[{"$f":"INT(SkillConfig!F193)","v":0},{"$f":"SkillConfig!H193","v":0},{"$f":"SkillConfig!#REF!","v":{"$error":"#REF!"}},{"$f":"SkillConfig!#REF!","v":{"$error":"#REF!"}}]
[{"$f":"INT(SkillConfig!F194)","v":0},{"$f":"SkillConfig!H194","v":0},{"$f":"SkillConfig!#REF!","v":{"$error":"#REF!"}},{"$f":"SkillConfig!#REF!","v":{"$error":"#REF!"}}]
[{"$f":"INT(SkillConfig!F195)","v":0},{"$f":"SkillConfig!H195","v":0},{"$f":"SkillConfig!#REF!","v":{"$error":"#REF!"}},{"$f":"SkillConfig!#REF!","v":{"$error":"#REF!"}}]
[{"$f":"INT(SkillConfig!F196)","v":0},{"$f":"SkillConfig!H196","v":0},{"$f":"SkillConfig!#REF!","v":{"$error":"#REF!"}},{"$f":"SkillConfig!#REF!","v":{"$error":"#REF!"}}]
[{"$f":"INT(SkillConfig!F197)","v":0},{"$f":"SkillConfig!H197","v":0},{"$f":"SkillConfig!#REF!","v":{"$error":"#REF!"}},{"$f":"SkillConfig!#REF!","v":{"$error":"#REF!"}}]
[{"$f":"INT(SkillConfig!F198)","v":0},{"$f":"SkillConfig!H198","v":0},{"$f":"SkillConfig!#REF!","v":{"$error":"#REF!"}},{"$f":"SkillConfig!#REF!","v":{"$error":"#REF!"}}]
[{"$f":"INT(SkillConfig!F199)","v":0},{"$f":"SkillConfig!H199","v":0},{"$f":"SkillConfig!#REF!","v":{"$error":"#REF!"}},{"$f":"SkillConfig!#REF!","v":{"$error":"#REF!"}}]
[{"$f":"INT(SkillConfig!F200)","v":0},{"$f":"SkillConfig!H200","v":0},{"$f":"SkillConfig!#REF!","v":{"$error":"#REF!"}},{"$f":"SkillConfig!#REF!","v":{"$error":"#REF!"}}]
[{"$f":"INT(SkillConfig!F201)","v":0},{"$f":"SkillConfig!H201","v":0},{"$f":"SkillConfig!#REF!","v":{"$error":"#REF!"}},{"$f":"SkillConfig!#REF!","v":{"$error":"#REF!"}}]
[{"$f":"INT(SkillConfig!F202)","v":0},{"$f":"SkillConfig!H202","v":0},{"$f":"SkillConfig!#REF!","v":{"$error":"#REF!"}},{"$f":"SkillConfig!#REF!","v":{"$error":"#REF!"}}]
[{"$f":"INT(SkillConfig!F203)","v":0},{"$f":"SkillConfig!H203","v":0},{"$f":"SkillConfig!#REF!","v":{"$error":"#REF!"}},{"$f":"SkillConfig!#REF!","v":{"$error":"#REF!"}}]
[{"$f":"INT(SkillConfig!F204)","v":0},{"$f":"SkillConfig!H204","v":0},{"$f":"SkillConfig!#REF!","v":{"$error":"#REF!"}},{"$f":"SkillConfig!#REF!","v":{"$error":"#REF!"}}]
[{"$f":"INT(SkillConfig!F205)","v":0},{"$f":"SkillConfig!H205","v":0},{"$f":"SkillConfig!#REF!","v":{"$error":"#REF!"}},{"$f":"SkillConfig!#REF!","v":{"$error":"#REF!"}}]
[{"$f":"INT(SkillConfig!F206)","v":0},{"$f":"SkillConfig!H206","v":0},{"$f":"SkillConfig!#REF!","v":{"$error":"#REF!"}},{"$f":"SkillConfig!#REF!","v":{"$error":"#REF!"}}]
[{"$f":"INT(SkillConfig!F207)","v":0},{"$f":"SkillConfig!H207","v":0},{"$f":"SkillConfig!#REF!","v":{"$error":"#REF!"}},{"$f":"SkillConfig!#REF!","v":{"$error":"#REF!"}}]
[{"$f":"INT(SkillConfig!F208)","v":0},{"$f":"SkillConfig!H208","v":0},{"$f":"SkillConfig!#REF!","v":{"$error":"#REF!"}},{"$f":"SkillConfig!#REF!","v":{"$error":"#REF!"}}]
[{"$f":"INT(SkillConfig!F209)","v":0},{"$f":"SkillConfig!H209","v":0},{"$f":"SkillConfig!#REF!","v":{"$error":"#REF!"}},{"$f":"SkillConfig!#REF!","v":{"$error":"#REF!"}}]
[{"$f":"INT(SkillConfig!F210)","v":0},{"$f":"SkillConfig!H210","v":0},{"$f":"SkillConfig!#REF!","v":{"$error":"#REF!"}},{"$f":"SkillConfig!#REF!","v":{"$error":"#REF!"}}]
[{"$f":"INT(SkillConfig!F211)","v":0},{"$f":"SkillConfig!H211","v":0},{"$f":"SkillConfig!#REF!","v":{"$error":"#REF!"}},{"$f":"SkillConfig!#REF!","v":{"$error":"#REF!"}}]
[{"$f":"INT(SkillConfig!F212)","v":0},{"$f":"SkillConfig!H212","v":0},{"$f":"SkillConfig!#REF!","v":{"$error":"#REF!"}},{"$f":"SkillConfig!#REF!","v":{"$error":"#REF!"}}]
[{"$f":"INT(SkillConfig!F213)","v":0},{"$f":"SkillConfig!H213","v":0},{"$f":"SkillConfig!#REF!","v":{"$error":"#REF!"}},{"$f":"SkillConfig!#REF!","v":{"$error":"#REF!"}}]
[{"$f":"INT(SkillConfig!F214)","v":0},{"$f":"SkillConfig!H214","v":0},{"$f":"SkillConfig!#REF!","v":{"$error":"#REF!"}},{"$f":"SkillConfig!#REF!","v":{"$error":"#REF!"}}]
[{"$f":"INT(SkillConfig!F215)","v":0},{"$f":"SkillConfig!H215","v":0},{"$f":"SkillConfig!#REF!","v":{"$error":"#REF!"}},{"$f":"SkillConfig!#REF!","v":{"$error":"#REF!"}}]
[{"$f":"INT(SkillConfig!F216)","v":0},{"$f":"SkillConfig!H216","v":0},{"$f":"SkillConfig!#REF!","v":{"$error":"#REF!"}},{"$f":"SkillConfig!#REF!","v":{"$error":"#REF!"}}]
[{"$f":"INT(SkillConfig!F217)","v":0},{"$f":"SkillConfig!H217","v":0},{"$f":"SkillConfig!#REF!","v":{"$error":"#REF!"}},{"$f":"SkillConfig!#REF!","v":{"$error":"#REF!"}}]
[{"$f":"INT(SkillConfig!F218)","v":0},{"$f":"SkillConfig!H218","v":0},{"$f":"SkillConfig!#REF!","v":{"$error":"#REF!"}},{"$f":"SkillConfig!#REF!","v":{"$error":"#REF!"}}]
[{"$f":"INT(SkillConfig!F219)","v":0},{"$f":"SkillConfig!H219","v":0},{"$f":"SkillConfig!#REF!","v":{"$error":"#REF!"}},{"$f":"SkillConfig!#REF!","v":{"$error":"#REF!"}}]
[{"$f":"INT(SkillConfig!F220)","v":0},{"$f":"SkillConfig!H220","v":0},{"$f":"SkillConfig!#REF!","v":{"$error":"#REF!"}},{"$f":"SkillConfig!#REF!","v":{"$error":"#REF!"}}]
[{"$f":"INT(SkillConfig!F221)","v":0},{"$f":"SkillConfig!H221","v":0},{"$f":"SkillConfig!#REF!","v":{"$error":"#REF!"}},{"$f":"SkillConfig!#REF!","v":{"$error":"#REF!"}}]
[{"$f":"INT(SkillConfig!F222)","v":0},{"$f":"SkillConfig!H222","v":0},{"$f":"SkillConfig!#REF!","v":{"$error":"#REF!"}},{"$f":"SkillConfig!#REF!","v":{"$error":"#REF!"}}]
[{"$f":"INT(SkillConfig!F223)","v":0},{"$f":"SkillConfig!H223","v":0},{"$f":"SkillConfig!#REF!","v":{"$error":"#REF!"}},{"$f":"SkillConfig!#REF!","v":{"$error":"#REF!"}}]
[{"$f":"INT(SkillConfig!F224)","v":0},{"$f":"SkillConfig!H224","v":0},{"$f":"SkillConfig!#REF!","v":{"$error":"#REF!"}},{"$f":"SkillConfig!#REF!","v":{"$error":"#REF!"}}]
[{"$f":"INT(SkillConfig!F225)","v":0},{"$f":"SkillConfig!H225","v":0},{"$f":"SkillConfig!#REF!","v":{"$error":"#REF!"}},{"$f":"SkillConfig!#REF!","v":{"$error":"#REF!"}}]
[{"$f":"INT(SkillConfig!F226)","v":0},{"$f":"SkillConfig!H226","v":0},{"$f":"SkillConfig!#REF!","v":{"$error":"#REF!"}},{"$f":"SkillConfig!#REF!","v":{"$error":"#REF!"}}]
[{"$f":"INT(SkillConfig!F227)","v":0},{"$f":"SkillConfig!H227","v":0},{"$f":"SkillConfig!#REF!","v":{"$error":"#REF!"}},{"$f":"SkillConfig!#REF!","v":{"$error":"#REF!"}}]
[{"$f":"INT(SkillConfig!F228)","v":0},{"$f":"SkillConfig!H228","v":0},{"$f":"SkillConfig!#REF!","v":{"$error":"#REF!"}},{"$f":"SkillConfig!#REF!","v":{"$error":"#REF!"}}]
[{"$f":"INT(SkillConfig!F229)","v":0},{"$f":"SkillConfig!H229","v":0},{"$f":"SkillConfig!#REF!","v":{"$error":"#REF!"}},{"$f":"SkillConfig!#REF!","v":{"$error":"#REF!"}}]
[{"$f":"INT(SkillConfig!F230)","v":0},{"$f":"SkillConfig!H230","v":0},{"$f":"SkillConfig!#REF!","v":{"$error":"#REF!"}},{"$f":"SkillConfig!#REF!","v":{"$error":"#REF!"}}]
[{"$f":"INT(SkillConfig!F231)","v":0},{"$f":"SkillConfig!H231","v":0},{"$f":"SkillConfig!#REF!","v":{"$error":"#REF!"}},{"$f":"SkillConfig!#REF!","v":{"$error":"#REF!"}}]
[{"$f":"INT(SkillConfig!F232)","v":0},{"$f":"SkillConfig!H232","v":0},{"$f":"SkillConfig!#REF!","v":{"$error":"#REF!"}},{"$f":"SkillConfig!#REF!","v":{"$error":"#REF!"}}]
[{"$f":"INT(SkillConfig!F233)","v":0},{"$f":"SkillConfig!H233","v":0},{"$f":"SkillConfig!#REF!","v":{"$error":"#REF!"}},{"$f":"SkillConfig!#REF!","v":{"$error":"#REF!"}}]
[{"$f":"INT(SkillConfig!F234)","v":0},{"$f":"SkillConfig!H234","v":0},{"$f":"SkillConfig!#REF!","v":{"$error":"#REF!"}},{"$f":"SkillConfig!#REF!","v":{"$error":"#REF!"}}]
[{"$f":"INT(SkillConfig!F235)","v":0},{"$f":"SkillConfig!H235","v":0},{"$f":"SkillConfig!#REF!","v":{"$error":"#REF!"}},{"$f":"SkillConfig!#REF!","v":{"$error":"#REF!"}}]
[{"$f":"INT(SkillConfig!F236)","v":0},{"$f":"SkillConfig!H236","v":0},{"$f":"SkillConfig!#REF!","v":{"$error":"#REF!"}},{"$f":"SkillConfig!#REF!","v":{"$error":"#REF!"}}]
[{"$f":"INT(SkillConfig!F237)","v":0},{"$f":"SkillConfig!H237","v":0},{"$f":"SkillConfig!#REF!","v":{"$error":"#REF!"}},{"$f":"SkillConfig!#REF!","v":{"$error":"#REF!"}}]
[{"$f":"INT(SkillConfig!F238)","v":0},{"$f":"SkillConfig!H238","v":0},{"$f":"SkillConfig!#REF!","v":{"$error":"#REF!"}},{"$f":"SkillConfig!#REF!","v":{"$error":"#REF!"}}]
[{"$f":"INT(SkillConfig!F239)","v":0},{"$f":"SkillConfig!H239","v":0},{"$f":"SkillConfig!#REF!","v":{"$error":"#REF!"}},{"$f":"SkillConfig!#REF!","v":{"$error":"#REF!"}}]
[{"$f":"INT(SkillConfig!F240)","v":0},{"$f":"SkillConfig!H240","v":0},{"$f":"SkillConfig!#REF!","v":{"$error":"#REF!"}},{"$f":"SkillConfig!#REF!","v":{"$error":"#REF!"}}]
[{"$f":"INT(SkillConfig!F241)","v":0},{"$f":"SkillConfig!H241","v":0},{"$f":"SkillConfig!#REF!","v":{"$error":"#REF!"}},{"$f":"SkillConfig!#REF!","v":{"$error":"#REF!"}}]
[{"$f":"INT(SkillConfig!F242)","v":0},{"$f":"SkillConfig!H242","v":0},{"$f":"SkillConfig!#REF!","v":{"$error":"#REF!"}},{"$f":"SkillConfig!#REF!","v":{"$error":"#REF!"}}]
[{"$f":"INT(SkillConfig!F243)","v":0},{"$f":"SkillConfig!H243","v":0},{"$f":"SkillConfig!#REF!","v":{"$error":"#REF!"}},{"$f":"SkillConfig!#REF!","v":{"$error":"#REF!"}}]
[{"$f":"INT(SkillConfig!F244)","v":0},{"$f":"SkillConfig!H244","v":0},{"$f":"SkillConfig!#REF!","v":{"$error":"#REF!"}},{"$f":"SkillConfig!#REF!","v":{"$error":"#REF!"}}]
[{"$f":"INT(SkillConfig!F245)","v":0},{"$f":"SkillConfig!H245","v":0},{"$f":"SkillConfig!#REF!","v":{"$error":"#REF!"}},{"$f":"SkillConfig!#REF!","v":{"$error":"#REF!"}}]
[{"$f":"INT(SkillConfig!F246)","v":0},{"$f":"SkillConfig!H246","v":0},{"$f":"SkillConfig!#REF!","v":{"$error":"#REF!"}},{"$f":"SkillConfig!#REF!","v":{"$error":"#REF!"}}]
[{"$f":"INT(SkillConfig!F247)","v":0},{"$f":"SkillConfig!H247","v":0},{"$f":"SkillConfig!#REF!","v":{"$error":"#REF!"}},{"$f":"SkillConfig!#REF!","v":{"$error":"#REF!"}}]
[{"$f":"INT(SkillConfig!F248)","v":0},{"$f":"SkillConfig!H248","v":0},{"$f":"SkillConfig!#REF!","v":{"$error":"#REF!"}},{"$f":"SkillConfig!#REF!","v":{"$error":"#REF!"}}]
[{"$f":"INT(SkillConfig!F249)","v":0},{"$f":"SkillConfig!H249","v":0},{"$f":"SkillConfig!#REF!","v":{"$error":"#REF!"}},{"$f":"SkillConfig!#REF!","v":{"$error":"#REF!"}}]
[{"$f":"INT(SkillConfig!F250)","v":0},{"$f":"SkillConfig!H250","v":0},{"$f":"SkillConfig!#REF!","v":{"$error":"#REF!"}},{"$f":"SkillConfig!#REF!","v":{"$error":"#REF!"}}]
[{"$f":"INT(SkillConfig!F251)","v":0},{"$f":"SkillConfig!H251","v":0},{"$f":"SkillConfig!#REF!","v":{"$error":"#REF!"}},{"$f":"SkillConfig!#REF!","v":{"$error":"#REF!"}}]
[{"$f":"INT(SkillConfig!F252)","v":0},{"$f":"SkillConfig!H252","v":0},{"$f":"SkillConfig!#REF!","v":{"$error":"#REF!"}},{"$f":"SkillConfig!#REF!","v":{"$error":"#REF!"}}]
[{"$f":"INT(SkillConfig!F253)","v":0},{"$f":"SkillConfig!H253","v":0},{"$f":"SkillConfig!#REF!","v":{"$error":"#REF!"}},{"$f":"SkillConfig!#REF!","v":{"$error":"#REF!"}}]
[{"$f":"INT(SkillConfig!F254)","v":0},{"$f":"SkillConfig!H254","v":0},{"$f":"SkillConfig!#REF!","v":{"$error":"#REF!"}},{"$f":"SkillConfig!#REF!","v":{"$error":"#REF!"}}]
[{"$f":"INT(SkillConfig!F255)","v":0},{"$f":"SkillConfig!H255","v":0},{"$f":"SkillConfig!#REF!","v":{"$error":"#REF!"}},{"$f":"SkillConfig!#REF!","v":{"$error":"#REF!"}}]
[{"$f":"INT(SkillConfig!F256)","v":0},{"$f":"SkillConfig!H256","v":0},{"$f":"SkillConfig!#REF!","v":{"$error":"#REF!"}},{"$f":"SkillConfig!#REF!","v":{"$error":"#REF!"}}]
[{"$f":"INT(SkillConfig!F257)","v":0},{"$f":"SkillConfig!H257","v":0},{"$f":"SkillConfig!#REF!","v":{"$error":"#REF!"}},{"$f":"SkillConfig!#REF!","v":{"$error":"#REF!"}}]
[{"$f":"INT(SkillConfig!F258)","v":0},{"$f":"SkillConfig!H258","v":0},{"$f":"SkillConfig!#REF!","v":{"$error":"#REF!"}},{"$f":"SkillConfig!#REF!","v":{"$error":"#REF!"}}]
[{"$f":"INT(SkillConfig!F259)","v":0},{"$f":"SkillConfig!H259","v":0},{"$f":"SkillConfig!#REF!","v":{"$error":"#REF!"}},{"$f":"SkillConfig!#REF!","v":{"$error":"#REF!"}}]
[{"$f":"INT(SkillConfig!F260)","v":0},{"$f":"SkillConfig!H260","v":0},{"$f":"SkillConfig!#REF!","v":{"$error":"#REF!"}},{"$f":"SkillConfig!#REF!","v":{"$error":"#REF!"}}]
[{"$f":"INT(SkillConfig!F261)","v":0},{"$f":"SkillConfig!H261","v":0},{"$f":"SkillConfig!#REF!","v":{"$error":"#REF!"}},{"$f":"SkillConfig!#REF!","v":{"$error":"#REF!"}}]
[{"$f":"INT(SkillConfig!F262)","v":0},{"$f":"SkillConfig!H262","v":0},{"$f":"SkillConfig!#REF!","v":{"$error":"#REF!"}},{"$f":"SkillConfig!#REF!","v":{"$error":"#REF!"}}]
[{"$f":"INT(SkillConfig!F263)","v":0},{"$f":"SkillConfig!H263","v":0},{"$f":"SkillConfig!#REF!","v":{"$error":"#REF!"}},{"$f":"SkillConfig!#REF!","v":{"$error":"#REF!"}}]
[{"$f":"INT(SkillConfig!F264)","v":0},{"$f":"SkillConfig!H264","v":0},{"$f":"SkillConfig!#REF!","v":{"$error":"#REF!"}},{"$f":"SkillConfig!#REF!","v":{"$error":"#REF!"}}]
[{"$f":"INT(SkillConfig!F265)","v":0},{"$f":"SkillConfig!H265","v":0},{"$f":"SkillConfig!#REF!","v":{"$error":"#REF!"}},{"$f":"SkillConfig!#REF!","v":{"$error":"#REF!"}}]
[{"$f":"INT(SkillConfig!F266)","v":0},{"$f":"SkillConfig!H266","v":0},{"$f":"SkillConfig!#REF!","v":{"$error":"#REF!"}},{"$f":"SkillConfig!#REF!","v":{"$error":"#REF!"}}]
[{"$f":"INT(SkillConfig!F267)","v":0},{"$f":"SkillConfig!H267","v":0},{"$f":"SkillConfig!#REF!","v":{"$error":"#REF!"}},{"$f":"SkillConfig!#REF!","v":{"$error":"#REF!"}}]
[{"$f":"INT(SkillConfig!F268)","v":0},{"$f":"SkillConfig!H268","v":0},{"$f":"SkillConfig!#REF!","v":{"$error":"#REF!"}},{"$f":"SkillConfig!#REF!","v":{"$error":"#REF!"}}]
[{"$f":"INT(SkillConfig!F269)","v":0},{"$f":"SkillConfig!H269","v":0},{"$f":"SkillConfig!#REF!","v":{"$error":"#REF!"}},{"$f":"SkillConfig!#REF!","v":{"$error":"#REF!"}}]
[{"$f":"INT(SkillConfig!F270)","v":0},{"$f":"SkillConfig!H270","v":0},{"$f":"SkillConfig!#REF!","v":{"$error":"#REF!"}},{"$f":"SkillConfig!#REF!","v":{"$error":"#REF!"}}]
[{"$f":"INT(SkillConfig!F271)","v":0},{"$f":"SkillConfig!H271","v":0},{"$f":"SkillConfig!#REF!","v":{"$error":"#REF!"}},{"$f":"SkillConfig!#REF!","v":{"$error":"#REF!"}}]
[{"$f":"INT(SkillConfig!F272)","v":0},{"$f":"SkillConfig!H272","v":0},{"$f":"SkillConfig!#REF!","v":{"$error":"#REF!"}},{"$f":"SkillConfig!#REF!","v":{"$error":"#REF!"}}]
[{"$f":"INT(SkillConfig!F273)","v":0},{"$f":"SkillConfig!H273","v":0},{"$f":"SkillConfig!#REF!","v":{"$error":"#REF!"}},{"$f":"SkillConfig!#REF!","v":{"$error":"#REF!"}}]
[{"$f":"INT(SkillConfig!F274)","v":0},{"$f":"SkillConfig!H274","v":0},{"$f":"SkillConfig!#REF!","v":{"$error":"#REF!"}},{"$f":"SkillConfig!#REF!","v":{"$error":"#REF!"}}]
[{"$f":"INT(SkillConfig!F275)","v":0},{"$f":"SkillConfig!H275","v":0},{"$f":"SkillConfig!#REF!","v":{"$error":"#REF!"}},{"$f":"SkillConfig!#REF!","v":{"$error":"#REF!"}}]
[{"$f":"INT(SkillConfig!F276)","v":0},{"$f":"SkillConfig!H276","v":0},{"$f":"SkillConfig!#REF!","v":{"$error":"#REF!"}},{"$f":"SkillConfig!#REF!","v":{"$error":"#REF!"}}]
[{"$f":"INT(SkillConfig!F277)","v":0},{"$f":"SkillConfig!H277","v":0},{"$f":"SkillConfig!#REF!","v":{"$error":"#REF!"}},{"$f":"SkillConfig!#REF!","v":{"$error":"#REF!"}}]
[{"$f":"INT(SkillConfig!F278)","v":0},{"$f":"SkillConfig!H278","v":0},{"$f":"SkillConfig!#REF!","v":{"$error":"#REF!"}},{"$f":"SkillConfig!#REF!","v":{"$error":"#REF!"}}]
[{"$f":"INT(SkillConfig!F279)","v":0},{"$f":"SkillConfig!H279","v":0},{"$f":"SkillConfig!#REF!","v":{"$error":"#REF!"}},{"$f":"SkillConfig!#REF!","v":{"$error":"#REF!"}}]
[{"$f":"INT(SkillConfig!F280)","v":0},{"$f":"SkillConfig!H280","v":0},{"$f":"SkillConfig!#REF!","v":{"$error":"#REF!"}},{"$f":"SkillConfig!#REF!","v":{"$error":"#REF!"}}]
[{"$f":"INT(SkillConfig!F281)","v":0},{"$f":"SkillConfig!H281","v":0},{"$f":"SkillConfig!#REF!","v":{"$error":"#REF!"}},{"$f":"SkillConfig!#REF!","v":{"$error":"#REF!"}}]
[{"$f":"INT(SkillConfig!F282)","v":0},{"$f":"SkillConfig!H282","v":0},{"$f":"SkillConfig!#REF!","v":{"$error":"#REF!"}},{"$f":"SkillConfig!#REF!","v":{"$error":"#REF!"}}]
[{"$f":"INT(SkillConfig!F283)","v":0},{"$f":"SkillConfig!H283","v":0},{"$f":"SkillConfig!#REF!","v":{"$error":"#REF!"}},{"$f":"SkillConfig!#REF!","v":{"$error":"#REF!"}}]
[{"$f":"INT(SkillConfig!F284)","v":0},{"$f":"SkillConfig!H284","v":0},{"$f":"SkillConfig!#REF!","v":{"$error":"#REF!"}},{"$f":"SkillConfig!#REF!","v":{"$error":"#REF!"}}]
[{"$f":"INT(SkillConfig!F285)","v":0},{"$f":"SkillConfig!H285","v":0},{"$f":"SkillConfig!#REF!","v":{"$error":"#REF!"}},{"$f":"SkillConfig!#REF!","v":{"$error":"#REF!"}}]
[{"$f":"INT(SkillConfig!F286)","v":0},{"$f":"SkillConfig!H286","v":0},{"$f":"SkillConfig!#REF!","v":{"$error":"#REF!"}},{"$f":"SkillConfig!#REF!","v":{"$error":"#REF!"}}]
[{"$f":"INT(SkillConfig!F287)","v":0},{"$f":"SkillConfig!H287","v":0},{"$f":"SkillConfig!#REF!","v":{"$error":"#REF!"}},{"$f":"SkillConfig!#REF!","v":{"$error":"#REF!"}}]
[{"$f":"INT(SkillConfig!F288)","v":0},{"$f":"SkillConfig!H288","v":0},{"$f":"SkillConfig!#REF!","v":{"$error":"#REF!"}},{"$f":"SkillConfig!#REF!","v":{"$error":"#REF!"}}]
[{"$f":"INT(SkillConfig!F289)","v":0},{"$f":"SkillConfig!H289","v":0},{"$f":"SkillConfig!#REF!","v":{"$error":"#REF!"}},{"$f":"SkillConfig!#REF!","v":{"$error":"#REF!"}}]
[{"$f":"INT(SkillConfig!F290)","v":0},{"$f":"SkillConfig!H290","v":0},{"$f":"SkillConfig!#REF!","v":{"$error":"#REF!"}},{"$f":"SkillConfig!#REF!","v":{"$error":"#REF!"}}]
[{"$f":"INT(SkillConfig!F291)","v":0},{"$f":"SkillConfig!H291","v":0},{"$f":"SkillConfig!#REF!","v":{"$error":"#REF!"}},{"$f":"SkillConfig!#REF!","v":{"$error":"#REF!"}}]
[{"$f":"INT(SkillConfig!F292)","v":0},{"$f":"SkillConfig!H292","v":0},{"$f":"SkillConfig!#REF!","v":{"$error":"#REF!"}},{"$f":"SkillConfig!#REF!","v":{"$error":"#REF!"}}]
[{"$f":"INT(SkillConfig!F293)","v":0},{"$f":"SkillConfig!H293","v":0},{"$f":"SkillConfig!#REF!","v":{"$error":"#REF!"}},{"$f":"SkillConfig!#REF!","v":{"$error":"#REF!"}}]
[{"$f":"INT(SkillConfig!F294)","v":0},{"$f":"SkillConfig!H294","v":0},{"$f":"SkillConfig!#REF!","v":{"$error":"#REF!"}},{"$f":"SkillConfig!#REF!","v":{"$error":"#REF!"}}]
[{"$f":"INT(SkillConfig!F295)","v":0},{"$f":"SkillConfig!H295","v":0},{"$f":"SkillConfig!#REF!","v":{"$error":"#REF!"}},{"$f":"SkillConfig!#REF!","v":{"$error":"#REF!"}}]
[{"$f":"INT(SkillConfig!F296)","v":0},{"$f":"SkillConfig!H296","v":0},{"$f":"SkillConfig!#REF!","v":{"$error":"#REF!"}},{"$f":"SkillConfig!#REF!","v":{"$error":"#REF!"}}]
[{"$f":"INT(SkillConfig!F297)","v":0},{"$f":"SkillConfig!H297","v":0},{"$f":"SkillConfig!#REF!","v":{"$error":"#REF!"}},{"$f":"SkillConfig!#REF!","v":{"$error":"#REF!"}}]
[{"$f":"INT(SkillConfig!F298)","v":0},{"$f":"SkillConfig!H298","v":0},{"$f":"SkillConfig!#REF!","v":{"$error":"#REF!"}},{"$f":"SkillConfig!#REF!","v":{"$error":"#REF!"}}]
[{"$f":"INT(SkillConfig!F299)","v":0},{"$f":"SkillConfig!H299","v":0},{"$f":"SkillConfig!#REF!","v":{"$error":"#REF!"}},{"$f":"SkillConfig!#REF!","v":{"$error":"#REF!"}}]
[{"$f":"INT(SkillConfig!F300)","v":0},{"$f":"SkillConfig!H300","v":0},{"$f":"SkillConfig!#REF!","v":{"$error":"#REF!"}},{"$f":"SkillConfig!#REF!","v":{"$error":"#REF!"}}]
[{"$f":"INT(SkillConfig!F301)","v":0},{"$f":"SkillConfig!H301","v":0},{"$f":"SkillConfig!#REF!","v":{"$error":"#REF!"}},{"$f":"SkillConfig!#REF!","v":{"$error":"#REF!"}}]
[{"$f":"INT(SkillConfig!F302)","v":0},{"$f":"SkillConfig!H302","v":0},{"$f":"SkillConfig!#REF!","v":{"$error":"#REF!"}},{"$f":"SkillConfig!#REF!","v":{"$error":"#REF!"}}]
[{"$f":"INT(SkillConfig!F303)","v":0},{"$f":"SkillConfig!H303","v":0},{"$f":"SkillConfig!#REF!","v":{"$error":"#REF!"}},{"$f":"SkillConfig!#REF!","v":{"$error":"#REF!"}}]
[{"$f":"INT(SkillConfig!F304)","v":0},{"$f":"SkillConfig!H304","v":0},{"$f":"SkillConfig!#REF!","v":{"$error":"#REF!"}},{"$f":"SkillConfig!#REF!","v":{"$error":"#REF!"}}]
[{"$f":"INT(SkillConfig!F305)","v":0},{"$f":"SkillConfig!H305","v":0},{"$f":"SkillConfig!#REF!","v":{"$error":"#REF!"}},{"$f":"SkillConfig!#REF!","v":{"$error":"#REF!"}}]
[{"$f":"INT(SkillConfig!F306)","v":0},{"$f":"SkillConfig!H306","v":0},{"$f":"SkillConfig!#REF!","v":{"$error":"#REF!"}},{"$f":"SkillConfig!#REF!","v":{"$error":"#REF!"}}]
[{"$f":"INT(SkillConfig!F307)","v":0},{"$f":"SkillConfig!H307","v":0},{"$f":"SkillConfig!#REF!","v":{"$error":"#REF!"}},{"$f":"SkillConfig!#REF!","v":{"$error":"#REF!"}}]
[{"$f":"INT(SkillConfig!F308)","v":0},{"$f":"SkillConfig!H308","v":0},{"$f":"SkillConfig!#REF!","v":{"$error":"#REF!"}},{"$f":"SkillConfig!#REF!","v":{"$error":"#REF!"}}]
[{"$f":"INT(SkillConfig!F309)","v":0},{"$f":"SkillConfig!H309","v":0},{"$f":"SkillConfig!#REF!","v":{"$error":"#REF!"}},{"$f":"SkillConfig!#REF!","v":{"$error":"#REF!"}}]
[{"$f":"INT(SkillConfig!F310)","v":0},{"$f":"SkillConfig!H310","v":0},{"$f":"SkillConfig!#REF!","v":{"$error":"#REF!"}},{"$f":"SkillConfig!#REF!","v":{"$error":"#REF!"}}]
[{"$f":"INT(SkillConfig!F311)","v":0},{"$f":"SkillConfig!H311","v":0},{"$f":"SkillConfig!#REF!","v":{"$error":"#REF!"}},{"$f":"SkillConfig!#REF!","v":{"$error":"#REF!"}}]
[{"$f":"INT(SkillConfig!F312)","v":0},{"$f":"SkillConfig!H312","v":0},{"$f":"SkillConfig!#REF!","v":{"$error":"#REF!"}},{"$f":"SkillConfig!#REF!","v":{"$error":"#REF!"}}]
[{"$f":"INT(SkillConfig!F313)","v":0},{"$f":"SkillConfig!H313","v":0},{"$f":"SkillConfig!#REF!","v":{"$error":"#REF!"}},{"$f":"SkillConfig!#REF!","v":{"$error":"#REF!"}}]
[{"$f":"INT(SkillConfig!F314)","v":0},{"$f":"SkillConfig!H314","v":0},{"$f":"SkillConfig!#REF!","v":{"$error":"#REF!"}},{"$f":"SkillConfig!#REF!","v":{"$error":"#REF!"}}]
[{"$f":"INT(SkillConfig!F315)","v":0},{"$f":"SkillConfig!H315","v":0},{"$f":"SkillConfig!#REF!","v":{"$error":"#REF!"}},{"$f":"SkillConfig!#REF!","v":{"$error":"#REF!"}}]
[{"$f":"INT(SkillConfig!F316)","v":0},{"$f":"SkillConfig!H316","v":0},{"$f":"SkillConfig!#REF!","v":{"$error":"#REF!"}},{"$f":"SkillConfig!#REF!","v":{"$error":"#REF!"}}]
[{"$f":"INT(SkillConfig!F317)","v":0},{"$f":"SkillConfig!H317","v":0},{"$f":"SkillConfig!#REF!","v":{"$error":"#REF!"}},{"$f":"SkillConfig!#REF!","v":{"$error":"#REF!"}}]
[{"$f":"INT(SkillConfig!F318)","v":0},{"$f":"SkillConfig!H318","v":0},{"$f":"SkillConfig!#REF!","v":{"$error":"#REF!"}},{"$f":"SkillConfig!#REF!","v":{"$error":"#REF!"}}]
[{"$f":"INT(SkillConfig!F319)","v":0},{"$f":"SkillConfig!H319","v":0},{"$f":"SkillConfig!#REF!","v":{"$error":"#REF!"}},{"$f":"SkillConfig!#REF!","v":{"$error":"#REF!"}}]
[{"$f":"INT(SkillConfig!F320)","v":0},{"$f":"SkillConfig!H320","v":0},{"$f":"SkillConfig!#REF!","v":{"$error":"#REF!"}},{"$f":"SkillConfig!#REF!","v":{"$error":"#REF!"}}]
[{"$f":"INT(SkillConfig!F321)","v":0},{"$f":"SkillConfig!H321","v":0},{"$f":"SkillConfig!#REF!","v":{"$error":"#REF!"}},{"$f":"SkillConfig!#REF!","v":{"$error":"#REF!"}}]
[{"$f":"INT(SkillConfig!F322)","v":0},{"$f":"SkillConfig!H322","v":0},{"$f":"SkillConfig!#REF!","v":{"$error":"#REF!"}},{"$f":"SkillConfig!#REF!","v":{"$error":"#REF!"}}]
[{"$f":"INT(SkillConfig!F323)","v":0},{"$f":"SkillConfig!H323","v":0},{"$f":"SkillConfig!#REF!","v":{"$error":"#REF!"}},{"$f":"SkillConfig!#REF!","v":{"$error":"#REF!"}}]
[{"$f":"INT(SkillConfig!F324)","v":0},{"$f":"SkillConfig!H324","v":0},{"$f":"SkillConfig!#REF!","v":{"$error":"#REF!"}},{"$f":"SkillConfig!#REF!","v":{"$error":"#REF!"}}]
[{"$f":"INT(SkillConfig!F325)","v":0},{"$f":"SkillConfig!H325","v":0},{"$f":"SkillConfig!#REF!","v":{"$error":"#REF!"}},{"$f":"SkillConfig!#REF!","v":{"$error":"#REF!"}}]
[{"$f":"INT(SkillConfig!F326)","v":0},{"$f":"SkillConfig!H326","v":0},{"$f":"SkillConfig!#REF!","v":{"$error":"#REF!"}},{"$f":"SkillConfig!#REF!","v":{"$error":"#REF!"}}]
[{"$f":"INT(SkillConfig!F327)","v":0},{"$f":"SkillConfig!H327","v":0},{"$f":"SkillConfig!#REF!","v":{"$error":"#REF!"}},{"$f":"SkillConfig!#REF!","v":{"$error":"#REF!"}}]
[{"$f":"INT(SkillConfig!F328)","v":0},{"$f":"SkillConfig!H328","v":0},{"$f":"SkillConfig!#REF!","v":{"$error":"#REF!"}},{"$f":"SkillConfig!#REF!","v":{"$error":"#REF!"}}]
[{"$f":"INT(SkillConfig!F329)","v":0},{"$f":"SkillConfig!H329","v":0},{"$f":"SkillConfig!#REF!","v":{"$error":"#REF!"}},{"$f":"SkillConfig!#REF!","v":{"$error":"#REF!"}}]

{"sheet":"特殊ID段","index":4,"n_rows":5,"n_cols":2,"rows_kept":5,"cut":false,"hidden":false,"merged":[]}
[]
["1-98","怪物词缀"]
["1000-2000","神器效果"]
["英雄ID+技能类型+等级","英雄技能"]
["怪物ID+技能类型+等级","怪物技能"]

{"sheet":"技能评分基准","index":5,"n_rows":66,"n_cols":30,"rows_kept":66,"cut":false,"hidden":false,"merged":[[0,24,0,28],[8,24,8,28],[9,13,9,14]]}
["编号","类型",null,"叠加个数（超过后不在有新效果）","效果值","衰弱%","1层价值","2层价值","3层价值","4层价值","5层价值",null,null,"普通速度(秒)","双倍速度(秒)",null,"大招(能量点数)","绝对强度修正","相对强度修正","英雄num","小招(秒)","绝对强度修正","相对强度修正",null,"减益BUFF多层衰减情况",{"$nulls":4},"价值"]
[100101,"弱化","秒伤降低{0}%秒伤",5,15,20,{"$f":"ROUND(AD$3,0)","v":25},{"$f":"ROUND(AD$4,0)","v":45},{"$f":"ROUND(AD$5,0)","v":61},{"$f":"ROUND(AD$6,0)","v":74},{"$f":"ROUND(AD$7,0)","v":84},null,"大招",24,16,null,120,{"$f":"Q2*R$14/Q$14","v":0.5},{"$f":"R2^0.74","v":0.598739352309464},{"$f":"COUNTIF(SkillConfig!#REF!,技能评分基准!Q2)/3","v":{"$error":"#REF!"}},0,{"$f":"U2*V$14/U$14","v":0},{"$f":"V2^0.74","v":0},null,"层数","基础值",0.8,"每层实际值","累加值"]
[100201,"虚弱","最终伤害降低{0}%",5,15,20,25,{"$f":"ROUND(AD$4,0)","v":45},{"$f":"ROUND(AD$5,0)","v":61},{"$f":"ROUND(AD$6,0)","v":74},{"$f":"ROUND(AD$7,0)","v":84},null,"小招",9,6,null,130,0.541666666666667,{"$f":"R3^0.74","v":0.635274995575617},{"$f":"COUNTIF(SkillConfig!#REF!,技能评分基准!Q3)/3","v":{"$error":"#REF!"}},1,0.111111111111111,0.196725448008704,null,1,14.87,{"$f":"AA$2^(Y3-1)","v":1},{"$f":"Z3*AA3","v":14.87},{"$f":"SUM(AB3:AB$3)","v":14.87},25]
[100301,"破甲","防御力降低{0}%",5,15,20,25,{"$f":"ROUND(AD$4,0)","v":45},{"$f":"ROUND(AD$5,0)","v":61},{"$f":"ROUND(AD$6,0)","v":74},{"$f":"ROUND(AD$7,0)","v":84},null,"普攻",2.25,1.5,null,140,0.583333333333333,0.671086384375282,{"$f":"COUNTIF(SkillConfig!#REF!,技能评分基准!Q4)/3","v":{"$error":"#REF!"}},2,0.222222222222222,0.328566090152406,null,2,{"$f":"Z3","v":14.87},{"$f":"AA$2^(Y4-1)","v":0.8},{"$f":"Z4*AA4","v":11.896},{"$f":"SUM(AB$3:AB4)","v":26.766},{"$f":"AC4*AD$3/AC$3","v":45}]
[100401,"易伤","受到伤害增加{0}%",5,15,20,25,{"$f":"ROUND(AD$4,0)","v":45},{"$f":"ROUND(AD$5,0)","v":61},{"$f":"ROUND(AD$6,0)","v":74},{"$f":"ROUND(AD$7,0)","v":84},{"$nulls":5},150,0.625,0.706238213407101,{"$f":"COUNTIF(SkillConfig!#REF!,技能评分基准!Q5)/3","v":{"$error":"#REF!"}},3,0.333333333333333,0.443537425713664,null,3,{"$f":"Z4","v":14.87},{"$f":"AA$2^(Y5-1)","v":0.64},{"$f":"Z5*AA5","v":9.5168},{"$f":"SUM(AB$3:AB5)","v":36.2828},{"$f":"AC5*AD$3/AC$3","v":61}]
[100501,"禁疗","降低{0}%受治疗效果",5,15,20,25,{"$f":"ROUND(AD$4,0)","v":45},{"$f":"ROUND(AD$5,0)","v":61},{"$f":"ROUND(AD$6,0)","v":74},{"$f":"ROUND(AD$7,0)","v":84},null,null,"攻击/s",0.75,null,160,0.666666666666667,0.740785492055678,{"$f":"COUNTIF(SkillConfig!#REF!,技能评分基准!Q6)/3","v":{"$error":"#REF!"}},4,0.444444444444444,0.548763145240173,null,4,{"$f":"Z5","v":14.87},{"$f":"AA$2^(Y6-1)","v":0.512},{"$f":"Z6*AA6","v":7.61344},{"$f":"SUM(AB$3:AB6)","v":43.89624},{"$f":"AC6*AD$3/AC$3","v":73.8}]
[100601,"寒冰","移动速度降低{0}%，使其最高移动速度不超过{1}m/s",1,"30;2",0,25,{"$nulls":6},"攻血比（开始）","1比60",null,170,0.708333333333333,0.774775507094521,{"$f":"COUNTIF(SkillConfig!#REF!,技能评分基准!Q7)/3","v":{"$error":"#REF!"}},5,0.555555555555556,0.647289178142693,null,5,{"$f":"Z6","v":14.87},{"$f":"AA$2^(Y7-1)","v":0.4096},{"$f":"Z7*AA7","v":6.090752},{"$f":"SUM(AB$3:AB7)","v":49.986992},{"$f":"AC7*AD$3/AC$3","v":84.04}]
[100701,"冻伤","护盾额外受到{0}%伤害",1,50,0,{"$f":"ROUND(AD$3,0)","v":25},{"$nulls":6},"攻血比（最终）","1比90",null,180,0.75,0.808249295822417,{"$f":"COUNTIF(SkillConfig!#REF!,技能评分基准!Q8)/3","v":{"$error":"#REF!"}},6,{"$f":"U8*V$14/U$14","v":0.666666666666667},{"$f":"V8^0.74","v":0.740785492055678}]
[100801,"感电","攻速提升{0}%",10,0.3,0,3,{"$nulls":9},190,0.791666666666667,0.8412427721363,{"$f":"COUNTIF(SkillConfig!#REF!,技能评分基准!Q9)/3","v":{"$error":"#REF!"}},6.5,0.722222222222222,0.785988925519825,null,"增益BUFF多层衰减情况"]
[101001,"致盲","命中降低{0}%",5,30,20,25,{"$f":"ROUND(AD$4,0)","v":45},{"$f":"ROUND(AD$5,0)","v":61},{"$f":"ROUND(AD$6,0)","v":74},{"$f":"ROUND(AD$7,0)","v":84},null,null,"等价表",null,null,200,0.833333333333333,0.873787601248058,{"$f":"COUNTIF(SkillConfig!#REF!,技能评分基准!Q10)/3","v":{"$error":"#REF!"}},7,0.777777777777778,0.830296280917179,null,"层数","基础值",0.8,"每层实际值","累加值"]
[101101,"迟疑","攻速降低{0}%",5,15,20,25,45,61,74,84,null,null,"攻击",100,null,210,0.875,0.905911888896499,{"$f":"COUNTIF(SkillConfig!#REF!,技能评分基准!Q11)/3","v":{"$error":"#REF!"}},7.5,0.833333333333333,0.873787601248058,null,1,29.75,{"$f":"AA$2^(Y11-1)","v":1},{"$f":"Z11*AA11","v":29.75},{"$f":"SUM(AB$11:AB11)","v":29.75}]
[101201,"焦躁","暴击下降{0}%",5,15,20,25,45,61,74,84,null,null,"威力",100,null,220,0.916666666666667,0.937640731341693,{"$f":"COUNTIF(SkillConfig!#REF!,技能评分基准!Q12)/3","v":{"$error":"#REF!"}},8,0.888888888888889,0.916530946435168,null,2,{"$f":"Z11","v":29.75},{"$f":"AA$2^(Y12-1)","v":0.8},{"$f":"Z12*AA12","v":23.8},{"$f":"SUM(AB$11:AB12)","v":53.55}]
[101301,"超重","无法堆叠",1,-1,0,25,{"$nulls":6},"秒伤",25,null,230,0.958333333333333,0.968996659302155,{"$f":"COUNTIF(SkillConfig!#REF!,技能评分基准!Q13)/3","v":{"$error":"#REF!"}},8.5,0.944444444444444,0.958584821662188,null,3,{"$f":"Z12","v":29.75},{"$f":"AA$2^(Y13-1)","v":0.64},{"$f":"Z13*AA13","v":19.04},{"$f":"SUM(AB$11:AB13)","v":72.59}]
[101401,"沉默","无法使用大招",1,-1,0,25,{"$nulls":6},"防御",100,null,240,1,1,{"$f":"COUNTIF(SkillConfig!#REF!,技能评分基准!Q14)/3","v":{"$error":"#REF!"}},9,1,1,null,4,{"$f":"Z13","v":29.75},{"$f":"AA$2^(Y14-1)","v":0.512},{"$f":"Z14*AA14","v":15.232},{"$f":"SUM(AB$11:AB14)","v":87.822}]
[101501,"减速","移动速度减少{0}%",5,15,20,25,45,61,74,84,null,null,"生命",1000,null,250,{"$f":"Q15*R$14/Q$14","v":1.04166666666667},1.03066917519687,{"$f":"COUNTIF(SkillConfig!#REF!,技能评分基准!Q15)/3","v":{"$error":"#REF!"}},9.5,{"$f":"U15*V$14/U$14","v":1.05555555555556},{"$f":"V15^0.74","v":1.04082091563137},null,5,{"$f":"Z14","v":29.75},{"$f":"AA$2^(Y15-1)","v":0.4096},{"$f":"Z15*AA15","v":12.1856},{"$f":"SUM(AB$11:AB15)","v":100.0076}]
[101601,"标记","闪避降低{0}%",5,15,20,25,45,61,74,84,{"$nulls":5},260,1.08333333333333,1.06102094864022,{"$f":"COUNTIF(SkillConfig!#REF!,技能评分基准!Q16)/3","v":{"$error":"#REF!"}},10,1.11111111111111,1.08108674608736]
[101701,"燃烧","每损失基于施法者{0}%秒伤的生命",1,50,0,25,{"$nulls":9},270,1.125,1.09107063311881,{"$f":"COUNTIF(SkillConfig!#REF!,技能评分基准!Q17)/3","v":{"$error":"#REF!"}},10.5,1.16666666666667,1.12083226496932]
[102201,"爆裂","受到技能伤害时，其首段伤害转化成一次{0}%爆炸伤害",1,"75;3",0,25,{"$nulls":9},280,1.16666666666667,1.12083226496932,{"$f":"COUNTIF(SkillConfig!#REF!,技能评分基准!Q18)/3","v":{"$error":"#REF!"}},11,1.22222222222222,1.16008852242502]
[101901,"眩晕","无法移动，无法攻击，无法释放技能",1,-1,0,25,{"$f":"ROUND(AD$4,0)","v":45},{"$f":"ROUND(AD$5,0)","v":61},{"$f":"ROUND(AD$6,0)","v":74},{"$f":"ROUND(AD$7,0)","v":84},{"$nulls":5},290,1.20833333333333,1.15031875212798,{"$f":"COUNTIF(SkillConfig!#REF!,技能评分基准!Q19)/3","v":{"$error":"#REF!"}},11.5,1.27777777777778,1.19888339440639]
[102001,"禁锢","无法移动",1,-1,0,25,{"$nulls":9},300,1.25,1.17954200050989,{"$f":"COUNTIF(SkillConfig!#REF!,技能评分基准!Q20)/3","v":{"$error":"#REF!"}},12,1.33333333333333,1.23724203060699]
[102101,"停滞","期间大招无法充能",1,-1,0,25,{"$nulls":9},310,1.29166666666667,1.20851302250377,{"$f":"COUNTIF(SkillConfig!#REF!,技能评分基准!Q21)/3","v":{"$error":"#REF!"}},12.5,1.38888888888889,1.27518722320461]
[102301,"压制","压制，不能不任何事",1,-1,0,25,{"$nulls":9},320,1.33333333333333,1.23724203060699,{"$f":"COUNTIF(SkillConfig!#REF!,技能评分基准!Q22)/3","v":{"$error":"#REF!"}},13,1.44444444444444,1.31273971301218]
[200101,"强力","秒伤增加{0}%",5,15,20,25,45,61,74,84,{"$nulls":5},330,1.375,1.26573851863613,{"$f":"COUNTIF(SkillConfig!#REF!,技能评分基准!Q23)/3","v":{"$error":"#REF!"}},13.5,{"$f":"U23*V$14/U$14","v":1.5},{"$f":"V23^0.74","v":1.34991844565557}]
[200201,"增伤","最终伤害增加{0}%",5,15,20,25,45,61,74,84,{"$nulls":5},340,1.41666666666667,1.29401133248725,{"$f":"COUNTIF(SkillConfig!#REF!,技能评分基准!Q24)/3","v":{"$error":"#REF!"}},14,1.55555555555556,1.38674078748048]
[200301,"防御","防御力增加{0}%",5,15,20,25,45,61,74,84,{"$nulls":5},350,1.45833333333333,1.32206873205794,{"$f":"COUNTIF(SkillConfig!#REF!,技能评分基准!Q25)/3","v":{"$error":"#REF!"}},14.5,1.61111111111111,1.42322270872812]
[200401,"免伤","受到伤害减少{0}%",5,15,20,25,45,61,74,84,{"$nulls":5},360,1.5,1.34991844565557,{"$f":"COUNTIF(SkillConfig!#REF!,技能评分基准!Q26)/3","v":{"$error":"#REF!"}},15,1.66666666666667,1.45937893989709]
[200701,"祝福","受治疗效果增加{0}%受治疗效果",5,10,20,25,45,61,74,84]
[200801,"无敌","免疫控制，免疫伤害",1,-1,0,25]
[200901,"霸体","期间免疫控制，免疫debuff",1,-1,0,25]
[201001,"狂暴","攻速增加{0}%",5,25,20,25,45,61,74,84]
[201201,"暴击","暴击率提升{0}%",5,15,20,25,45,61,74,84]
[201301,"锁定","被敌人优先攻击",1,-1,0,25]
[201401,"闪避","闪避提升{0}%",5,15,20,25,45,61,74,84]
[201501,"吸血","吸血提升{0}%",5,10,20,25,45,61,74,84]
[201801,"隐身","不能被选取，无法被敌人作为目标选取到",1,-1,0,25]
[202001,"免控","期间免疫控制",1,-1,0,25]
[202101,"冻结","无法行动，护盾额外受到{0}%伤害",1,100,0,25]
[202201,"焚烧","受到技能的每段伤害时，立即被施加并结算一次【燃烧】",1,-1,0,25]
[202301,"加速","移动速度提升{0}%",5,15,20,25,45,61,74,84]
[202401,"冰甲","拥有护盾效果，且免疫减益效果。",5,15,20,25,45,61,74,84]
[202501,"标记","boss90300的标记buff",5,15,20,25,45,61,74,84]
[202601,"风行","免疫所有负面位移",5,15,20,25,45,61,74,84]
[]
[null,null,null,"1层价值","2层价值","3层价值","4层价值","5层价值","作用1人","作用2人","作用多人"]
[null,"可叠加增减益",null,{"$f":"IF(D59=\"\",\"\",D59*$D$55)","v":18.75},{"$f":"IF(E59=\"\",\"\",E59*$D$55)","v":33.75},45.75,55.35,63.03,0.75,1.2,1.65]
[null,"控制&反控",null,{"$f":"IF(D60=\"\",\"\",D60*$D$55)","v":30},"","","","",0.75,1.2,1.65]
[null,null,null,"1段伤害","2段伤害","3段伤害","4段伤害","5段伤害","6段伤害","作用1人","作用2人","作用3人","作用4人","作用5人","作用6+人"]
[null,"伤害","总伤害",{"$f":"IF(D62=\"\",\"\",D62*$D$55)","v":0.75},{"$f":"IF(E62=\"\",\"\",E62*$D$55)","v":0.7725},0.795,0.8175,0.84,0.8625,0.75,0.39,0.27,0.21,0.1725,0.15]
[null,null,"段数",1,2,3,4,5,6]
[null,null,null,{"$f":"IF(D64=\"\",\"\",D64*$D$55)","v":0.75},0.825,0.9,0.975,1.05,1.125]
[null,null,"地面模式",0.75,0.7725,0.795,0.8175,0.84,0.8625]
[]
[null,null,"治疗量系数",1.1]
[null,null,"护盾量系数",1.3]
[null,null,"技能伤害系数",0.75]
[]
[]
[null,null,null,"1层价值","2层价值","3层价值","4层价值","5层价值","作用1人","作用2人","作用多人"]
[null,"可叠加增减益",null,{"$f":"AD3","v":25},{"$f":"AD4","v":45},{"$f":"AD5","v":61},{"$f":"AD6","v":73.8},{"$f":"AD7","v":84.04},1,1.6,2.2]
[null,"控制&反控",null,40,{"$nulls":4},1,1.6,2.2]
[null,null,null,"1段伤害","2段伤害","3段伤害","4段伤害","5段伤害","6段伤害","作用1人","作用2人","作用3人","作用4人","作用5人","作用6+人",null,1,100,{"$f":"R61/Q61","v":100}]
[null,"伤害","总伤害",1,1.03,1.06,1.09,1.12,1.15,1,0.52,0.36,0.28,0.23,0.2,null,2,104,{"$f":"R62/Q62","v":52}]
[null,null,"段数",1,2,3,4,5,6,{"$nulls":7},3,108,36]
[null,null,null,1,1.1,1.2,1.3,1.4,1.5,{"$nulls":7},4,112,28]
[null,null,"地面模式",1,1.03,1.06,1.09,1.12,1.15,{"$nulls":7},5,115,23]
[{"$nulls":16},6,120,20]