{"text_format":"2","workbook":"xlsx","n_sheets":8,"sheets":["DaoyouModelConfig","emotionConfig","daolvSkill","guajibuff","道友加成辅助","DaoyouLevelupConfig","DaoyouGiftConfig","DaoyouguajiResourcLevel"],"not_rendered":{"charts":0,"images":0,"macros":0,"external_links":3,"defined_names":1,"comments":0,"pivot_tables":0},"unopened":[],"bounds":{"document_bytes":16777216,"sheet_cells":100000,"run_cost":"one","rows_first":2000,"rows_last":500,"rows_between":2000,"halvings":0,"cell_chars":16384,"cell_head_chars":4096},"cells_cut":0,"cells_raw":0,"read":"whole","date_system":"1900"}

{"sheet":"DaoyouModelConfig","index":0,"n_rows":14,"n_cols":34,"rows_kept":14,"cut":false,"hidden":false,"merged":[]}
["ID","name",null,"quality","bodyIcon","headIcon","growupRate","des","desUnlockLv",{"$nulls":4},"PreferGiftID","shownPreferGiftID",{"$nulls":4},"guajiBuffID",{"$nulls":5},"daolvSkillID",null,"EmotionLvforQuest","EventCompleteforQuest","QuestID",null,"EmotionLvforspecialGift","specialGiftID","specialGiftNum"]
["int","int",null,"int","string","string","int","int[]","int[]",{"$nulls":4},"int[]","int[]",{"$nulls":4},"int[]",{"$nulls":5},"int[]",null,"int","int","int",null,"int[]","int[]","int[]"]
[]
["ID","名称","名称","道友品质","半身像","头像","潜力\n80=80%\n等级差","介绍","介绍解锁相熟等级",{"$nulls":4},"喜好的礼物ID","默认显示的礼物ID","喜好礼物1","喜好礼物2","喜好礼物3",null,"挂机增益类型","产出概率","产出类型1","产出类型2","产出1","产出2","成为道侣后提供的技能ID","技能1","触发道侣任务的好感度等级","触发道侣任务必须完成的事件id","道侣任务ID",null,"特殊奖励好感度等级","特殊奖励ID","特殊奖励数量"]
[1,1953,{"$f":"VLOOKUP(B5,[1]语言配置表!$A:$B,2,FALSE)","v":"雀灵儿"},2,"bg_lh_quelinger",null,90,{"$f":"_xlfn.TEXTJOIN(\";\",1,J5:L5)","v":"1963;1964;1965"},"1;3;6",1963,1964,1965,null,{"$f":"_xlfn.TEXTJOIN(\";\",1,P5:R5)","v":"13005;11001;11002"},{"$f":"P5","v":13005},13005,11001,11002,null,{"$f":"_xlfn.TEXTJOIN(\";\",1,U5:W5)","v":"30;11;23"},30,11,23,{"$f":"VLOOKUP(V5,guajibuff!$A:$C,3,FALSE)","v":"双修之旅·小"},{"$f":"VLOOKUP(W5,guajibuff!$A:$C,3,FALSE)","v":"商贾之道·大"},17,{"$f":"VLOOKUP(Z5,daolvSkill!A:E,5,FALSE)","v":"金之灵根"},4,1,6006,null,3,1703,1]
[2,1954,{"$f":"VLOOKUP(B6,[1]语言配置表!$A:$B,2,FALSE)","v":"云枝"},2,"bg_lh_chidaoren",null,90,{"$f":"_xlfn.TEXTJOIN(\";\",1,J6:L6)","v":"1966;1967;1968"},"1;3;6",1966,1967,1968,null,{"$f":"_xlfn.TEXTJOIN(\";\",1,P6:R6)","v":"13010;11003;11004"},{"$f":"P6","v":13010},13010,11003,11004,null,{"$f":"_xlfn.TEXTJOIN(\";\",1,U6:W6)","v":"30;11;33"},30,11,33,{"$f":"VLOOKUP(V6,guajibuff!$A:$C,3,FALSE)","v":"双修之旅·小"},{"$f":"VLOOKUP(W6,guajibuff!$A:$C,3,FALSE)","v":"席地论法·大"},22,{"$f":"VLOOKUP(Z6,daolvSkill!A:E,5,FALSE)","v":"水之灵根"},5,1,6016,null,4,1703,1]
[3,1955,{"$f":"VLOOKUP(B7,[1]语言配置表!$A:$B,2,FALSE)","v":"风瑶"},3,"bg_lh_fengyao",null,100,"1969;1970;1971","1;3;6",1969,1970,1971,null,"13015;11006;11005",13015,13015,11006,11005,null,"30;11;43",30,11,43,{"$f":"VLOOKUP(V7,guajibuff!$A:$C,3,FALSE)","v":"双修之旅·小"},{"$f":"VLOOKUP(W7,guajibuff!$A:$C,3,FALSE)","v":"坎山寻宝·大"},27,{"$f":"VLOOKUP(Z7,daolvSkill!A:E,5,FALSE)","v":"木之灵根"},6,1,6026,null,5,1703,1]
[4,1956,{"$f":"VLOOKUP(B8,[1]语言配置表!$A:$B,2,FALSE)","v":"婉溪"},3,"bg_lh_wanxi",null,100,"1972;1973;1974","1;3;6",1972,1973,1974,null,"13020;11008;11007",13020,13020,11008,11007,null,"30;12;22",30,12,22,{"$f":"VLOOKUP(V8,guajibuff!$A:$C,3,FALSE)","v":"双修之旅·中"},{"$f":"VLOOKUP(W8,guajibuff!$A:$C,3,FALSE)","v":"商贾之道·中"},32,{"$f":"VLOOKUP(Z8,daolvSkill!A:E,5,FALSE)","v":"火之灵根"},7,1,6036,null,4,1703,1]
[7,1959,{"$f":"VLOOKUP(B9,[1]语言配置表!$A:$B,2,FALSE)","v":"馨儿"},4,"bg_lh_xiner",null,110,"1981;1982;1983","1;3;6",1981,1982,1983,null,"13025;11010;13511",13025,13025,11010,13511,null,"30;12;32",30,12,32,{"$f":"VLOOKUP(V9,guajibuff!$A:$C,3,FALSE)","v":"双修之旅·中"},{"$f":"VLOOKUP(W9,guajibuff!$A:$C,3,FALSE)","v":"席地论法·中"},37,{"$f":"VLOOKUP(Z9,daolvSkill!A:E,5,FALSE)","v":"土之灵根"},8,1,9146,null,5,1703,1]
[8,1960,{"$f":"VLOOKUP(B10,[1]语言配置表!$A:$B,2,FALSE)","v":"柳轻烟"},4,"bg_lh_liuqingyan2",null,110,"1984;1985;1986","1;3;6",1984,1985,1986,null,"13501;13506;13512",13501,13501,13506,13512,null,"30;13;41",30,13,41,{"$f":"VLOOKUP(V10,guajibuff!$A:$C,3,FALSE)","v":"双修之旅·大"},{"$f":"VLOOKUP(W10,guajibuff!$A:$C,3,FALSE)","v":"坎山寻宝·小"},18,{"$f":"VLOOKUP(Z10,daolvSkill!A:E,5,FALSE)","v":"金之灵根"},9,1,9146,null,6,1703,1]
[5,1957,{"$f":"VLOOKUP(B11,[1]语言配置表!$A:$B,2,FALSE)","v":"许由"},4,"bg_lh_xuyou",null,100,{"$f":"_xlfn.TEXTJOIN(\";\",1,J11:L11)","v":"1975;1976;1977"},"1;3;6",1975,1976,1977,null,{"$f":"_xlfn.TEXTJOIN(\";\",1,P11:R11)","v":"13502;13507;13513"},{"$f":"P11","v":13502},13502,13507,13513,null,{"$f":"_xlfn.TEXTJOIN(\";\",1,U11:W11)","v":"30;22;33"},30,22,33,{"$f":"VLOOKUP(V11,guajibuff!$A:$C,3,FALSE)","v":"商贾之道·中"},{"$f":"VLOOKUP(W11,guajibuff!$A:$C,3,FALSE)","v":"席地论法·大"},23,{"$f":"VLOOKUP(Z11,daolvSkill!A:E,5,FALSE)","v":"水之灵根"},-1,1,-1,null,5,1703,3]
[6,1958,{"$f":"VLOOKUP(B12,[1]语言配置表!$A:$B,2,FALSE)","v":"疯道人"},5,"bg_lh_fengdaoren",null,100,{"$f":"_xlfn.TEXTJOIN(\";\",1,J12:L12)","v":"1978;1979;1980"},"1;3;6",1978,1979,1980,null,{"$f":"_xlfn.TEXTJOIN(\";\",1,P12:R12)","v":"13503;13508;13514"},{"$f":"P12","v":13503},13503,13508,13514,null,{"$f":"_xlfn.TEXTJOIN(\";\",1,U12:W12)","v":"30;32;43"},30,32,43,{"$f":"VLOOKUP(V12,guajibuff!$A:$C,3,FALSE)","v":"席地论法·中"},{"$f":"VLOOKUP(W12,guajibuff!$A:$C,3,FALSE)","v":"坎山寻宝·大"},28,{"$f":"VLOOKUP(Z12,daolvSkill!A:E,5,FALSE)","v":"木之灵根"},-1,1,-1,null,6,1703,3]
[9,1961,{"$f":"VLOOKUP(B13,[1]语言配置表!$A:$B,2,FALSE)","v":"楚云缪"},5,"bg_lh_chuyunmiao",null,100,{"$f":"_xlfn.TEXTJOIN(\";\",1,J13:L13)","v":"1987;1988;1989"},"1;3;6",1987,1988,1989,null,{"$f":"_xlfn.TEXTJOIN(\";\",1,P13:R13)","v":"13504;13509;13515"},{"$f":"P13","v":13504},13504,13509,13515,null,{"$f":"_xlfn.TEXTJOIN(\";\",1,U13:W13)","v":"30;42;23"},30,42,23,{"$f":"VLOOKUP(V13,guajibuff!$A:$C,3,FALSE)","v":"坎山寻宝·中"},{"$f":"VLOOKUP(W13,guajibuff!$A:$C,3,FALSE)","v":"商贾之道·大"},33,{"$f":"VLOOKUP(Z13,daolvSkill!A:E,5,FALSE)","v":"火之灵根"},-1,1,-1,null,7,1703,3]
[10,1962,{"$f":"VLOOKUP(B14,[1]语言配置表!$A:$B,2,FALSE)","v":"林风"},6,"bg_lh_linfeng",null,100,{"$f":"_xlfn.TEXTJOIN(\";\",1,J14:L14)","v":"1990;1991;1992"},"1;3;6",1990,1991,1992,null,{"$f":"_xlfn.TEXTJOIN(\";\",1,P14:R14)","v":"13505;13510;13516"},{"$f":"P14","v":13505},13505,13510,13516,null,{"$f":"_xlfn.TEXTJOIN(\";\",1,U14:W14)","v":"30;22;43"},30,22,43,{"$f":"VLOOKUP(V14,guajibuff!$A:$C,3,FALSE)","v":"商贾之道·中"},{"$f":"VLOOKUP(W14,guajibuff!$A:$C,3,FALSE)","v":"坎山寻宝·大"},38,{"$f":"VLOOKUP(Z14,daolvSkill!A:E,5,FALSE)","v":"土之灵根"},-1,1,-1,null,8,1703,3]

{"sheet":"emotionConfig","index":1,"n_rows":7,"n_cols":7,"rows_kept":7,"cut":false,"hidden":false,"merged":[]}
["ID","type","icon","des",null,"hanganUpRate"]
["int","int","string","int",null,"int[]"]
[]
["ID","类型\n1=好心情\n2=平衡心情\n3=坏心情","icon","描述ID","描述（策划）","心情影响好感度的范围\n100=10%"]
[1,1,null,2043,"心情很好，送他礼物可获得更多好感度","1100;1300","开心"]
[2,2,null,2044,"心情一般","900;1100","一般"]
[3,3,null,2045,"心情失落，送他礼物获得低于标准值的好感度","700;900","失落"]

{"sheet":"daolvSkill","index":2,"n_rows":44,"n_cols":11,"rows_kept":44,"cut":false,"hidden":false,"merged":[]}
["ID","AttrID","lv","name",null,"des",null,"para","type"]
["int","int","int","int",null,"int",null,"int[]","int"]
[]
["ID","对应AttributeConfig中的ID","等级","名称","名称","描述","描述","参数","类型\n1=唯一\n2=叠加","成长所需礼物ID","每单位增加的值"]
[1,101,1,2046,"生命增幅",2054,"玩家生命+{0}%",3,2]
[2,101,2,2046,"生命增幅",2054,"玩家生命+{0}%",6,2]
[3,101,3,2046,"生命增幅",2054,"玩家生命+{0}%",9,2]
[4,101,4,2046,"生命增幅",2054,"玩家生命+{0}%",12,2]
[5,101,5,2046,"生命增幅",2054,"玩家生命+{0}%",15,2]
[6,102,{"$f":"C5","v":1},2047,"攻击增幅",2055,"玩家攻击+{0}%",3,2]
[7,102,{"$f":"C6","v":2},2047,"攻击增幅",2055,"玩家攻击+{0}%",6,2]
[8,102,3,2047,"攻击增幅",2055,"玩家攻击+{0}%",9,2]
[9,102,4,2047,"攻击增幅",2055,"玩家攻击+{0}%",12,2]
[10,102,5,2047,"攻击增幅",2055,"玩家攻击+{0}%",15,2]
[11,103,1,2048,"防御增幅",2056,"玩家防御+{0}%",3,2]
[12,103,2,2048,"防御增幅",2056,"玩家防御+{0}%",6,2]
[13,103,3,2048,"防御增幅",2056,"玩家防御+{0}%",9,2]
[14,103,4,2048,"防御增幅",2056,"玩家防御+{0}%",12,2]
[15,103,5,2048,"防御增幅",2056,"玩家防御+{0}%",15,2]
[16,106,1,2049,"金之灵根",2057,"玩家金灵根+{0}",2,1]
[17,106,2,2049,"金之灵根",2057,"玩家金灵根+{0}",4,1]
[18,106,3,2049,"金之灵根",2057,"玩家金灵根+{0}",6,1]
[19,106,4,2049,"金之灵根",2057,"玩家金灵根+{0}",8,1]
[20,106,5,2049,"金之灵根",2057,"玩家金灵根+{0}",10,1]
[21,107,1,2050,"水之灵根",2058,"玩家水灵根+{0}",2,1]
[22,107,2,2050,"水之灵根",2058,"玩家水灵根+{0}",4,1]
[23,107,3,2050,"水之灵根",2058,"玩家水灵根+{0}",6,1]
[24,107,4,2050,"水之灵根",2058,"玩家水灵根+{0}",8,1]
[25,107,5,2050,"水之灵根",2058,"玩家水灵根+{0}",10,1]
[26,108,1,2051,"木之灵根",2059,"玩家木灵根+{0}",2,1]
[27,108,2,2051,"木之灵根",2059,"玩家木灵根+{0}",4,1]
[28,108,3,2051,"木之灵根",2059,"玩家木灵根+{0}",6,1]
[29,108,4,2051,"木之灵根",2059,"玩家木灵根+{0}",8,1]
[30,108,5,2051,"木之灵根",2059,"玩家木灵根+{0}",10,1]
[31,109,1,2052,"火之灵根",2060,"玩家火灵根+{0}",2,1]
[32,109,2,2052,"火之灵根",2060,"玩家火灵根+{0}",4,1]
[33,109,3,2052,"火之灵根",2060,"玩家火灵根+{0}",6,1]
[34,109,4,2052,"火之灵根",2060,"玩家火灵根+{0}",8,1]
[35,109,5,2052,"火之灵根",2060,"玩家火灵根+{0}",10,1]
[36,110,1,2053,"土之灵根",2061,"玩家土灵根+{0}",2,1]
[37,110,2,2053,"土之灵根",2061,"玩家土灵根+{0}",4,1]
[38,110,3,2053,"土之灵根",2061,"玩家土灵根+{0}",6,1]
[39,110,4,2053,"土之灵根",2061,"玩家土灵根+{0}",8,1]
[40,110,5,2053,"土之灵根",2061,"玩家土灵根+{0}",10,1]

{"sheet":"guajibuff","index":3,"n_rows":28,"n_cols":8,"rows_kept":28,"cut":false,"hidden":false,"merged":[]}
["ID","name",null,"Quality","GivingRate","paraValue","des"]
["int","int",null,"int","int","int","int"]
[]
["ID","名称","名称","品质","产出比例\n100=100%","对应的para值","描述","说明"]
[1,2063,"慷概之心·小",1,25,5,2062,"这位道友离开时有{0}%概率赠与玩家奖励"]
[2,2064,"慷概之心·中",1,50,5,2062,"这位道友离开时有{0}%概率赠与玩家奖励"]
[3,2065,"慷概之心·大",1,75,5,2062,"这位道友离开时有{0}%概率赠与玩家奖励"]
[4,2066,"慷概之心·极",1,100,5,2062,"这位道友离开时有{0}%概率赠与玩家奖励"]
[]
[11,1993,"双修之旅·小",2,25,1,{"$f":"B10+16","v":2009},"这位道友离开时会给与玩家少量修为奖励"]
[12,1994,"双修之旅·中",3,50,1,{"$f":"B11+16","v":2010},"这位道友离开时会给与玩家一些修为奖励"]
[13,1995,"双修之旅·大",4,75,1,2011,"这位道友离开时会给与玩家很多修为奖励"]
[14,1996,"双修之旅·极",5,100,1,2012,"这位道友离开时会给与玩家丰厚修为奖励"]
[]
[21,{"$f":"B10+4","v":1997},"商贾之道·小",2,25,2,{"$f":"B15+16","v":2013},"这位道友离开时会给与玩家少量铜钱奖励"]
[22,{"$f":"B11+4","v":1998},"商贾之道·中",3,50,2,{"$f":"B16+16","v":2014},"这位道友离开时会给与玩家一些铜钱奖励"]
[23,1999,"商贾之道·大",4,75,2,2015,"这位道友离开时会给与玩家很多铜钱奖励"]
[24,2000,"商贾之道·极",5,100,2,2016,"这位道友离开时会给与玩家丰厚铜钱奖励"]
[]
[31,{"$f":"B15+4","v":2001},"席地论法·小",2,25,3,{"$f":"B20+16","v":2017},"这位道友离开时会给与玩家少量功法灵气奖励"]
[32,{"$f":"B16+4","v":2002},"席地论法·中",3,50,3,{"$f":"B21+16","v":2018},"这位道友离开时会给与玩家一些功法灵气奖励"]
[33,2003,"席地论法·大",4,75,3,2019,"这位道友离开时会给与玩家很多功法灵气奖励"]
[34,2004,"席地论法·极",5,100,3,2020,"这位道友离开时会给与玩家丰厚功法灵气奖励"]
[]
[41,{"$f":"B20+4","v":2005},"坎山寻宝·小",2,25,4,{"$f":"B25+16","v":2021},"这位道友离开时会给与玩家少量法宝灵韵奖励"]
[42,{"$f":"B21+4","v":2006},"坎山寻宝·中",3,50,4,{"$f":"B26+16","v":2022},"这位道友离开时会给与玩家一些法宝灵韵奖励"]
[43,2007,"坎山寻宝·大",4,75,4,2023,"这位道友离开时会给与玩家很多法宝灵韵奖励"]
[44,2008,"坎山寻宝·极",5,100,4,2024,"这位道友离开时会给与玩家丰厚法宝灵韵奖励"]

{"sheet":"道友加成辅助","index":4,"n_rows":14,"n_cols":3,"rows_kept":14,"cut":false,"hidden":false,"merged":[]}
["BuffType",null,"BuffValue"]
[1,"属性加成","属性ID；加成数值"]
[2]
[3]
[4]
[5]
[6]
[7]
[8]
[9]
[10]
[11]
[12]
[13]

{"sheet":"DaoyouLevelupConfig","index":5,"n_rows":14,"n_cols":7,"rows_kept":14,"cut":false,"hidden":false,"merged":[]}
["ID","name",null,"exp","prizeID","prizeNum","guajiGrowup"]
["int","int",null,"int","int[]","int[]","int"]
[]
["LV","名称",null,"升级所需经验","道具奖励ID","道具奖励数量","挂机增益成长率\n100=100%"]
[1,2025,"好感度1",1000,-1,-1,0]
[2,2026,"好感度2",2000,1701,1,100]
[3,2027,"好感度3",3000,1701,2,112]
[4,2028,"好感度4",4000,1703,1,125]
[5,2029,"好感度5",5000,1703,1,137]
[6,2030,"好感度6",6000,1703,2,150]
[7,2031,"好感度7",7000,1703,2,162]
[8,2032,"好感度8",8000,1704,1,175]
[9,2033,"好感度9",9000,1704,1,187]
[10,2034,"好感度10",-1,1704,1,200]

{"sheet":"DaoyouGiftConfig","index":6,"n_rows":89,"n_cols":4,"rows_kept":89,"cut":false,"hidden":false,"merged":[]}
["ID","ItemID",null,"emotionValue"]
["int","int",null,"int"]
[]
["ID","道具ID","道具名称","默认增加的好感度值"]
[1,1501,{"$f":"VLOOKUP(B5,[2]ItemConfig!$A:$C,3,FALSE)","v":"清茶"},300]
[2,1502,{"$f":"VLOOKUP(B6,[2]ItemConfig!$A:$C,3,FALSE)","v":"茉莉花茶"},500]
[]
[301,1201,{"$f":"VLOOKUP(B8,[2]ItemConfig!$A:$C,3,FALSE)","v":"灵血草"},100]
[302,1202,{"$f":"VLOOKUP(B9,[2]ItemConfig!$A:$C,3,FALSE)","v":"玄玉髓"},100]
[303,1203,{"$f":"VLOOKUP(B10,[2]ItemConfig!$A:$C,3,FALSE)","v":"赤阳砂"},100]
[304,1204,{"$f":"VLOOKUP(B11,[2]ItemConfig!$A:$C,3,FALSE)","v":"火灵果"},100]
[305,1205,{"$f":"VLOOKUP(B12,[2]ItemConfig!$A:$C,3,FALSE)","v":"婴魂草"},100]
[306,1206,{"$f":"VLOOKUP(B13,[2]ItemConfig!$A:$C,3,FALSE)","v":"灵魄藤"},100]
[307,1207,{"$f":"VLOOKUP(B14,[2]ItemConfig!$A:$C,3,FALSE)","v":"灵冥石"},100]
[308,1208,{"$f":"VLOOKUP(B15,[2]ItemConfig!$A:$C,3,FALSE)","v":"玄金砂"},100]
[309,1209,{"$f":"VLOOKUP(B16,[2]ItemConfig!$A:$C,3,FALSE)","v":"紫玄晶"},100]
[310,1210,{"$f":"VLOOKUP(B17,[2]ItemConfig!$A:$C,3,FALSE)","v":"丹心花"},100]
[311,1211,{"$f":"VLOOKUP(B18,[2]ItemConfig!$A:$C,3,FALSE)","v":"太冥草"},100]
[312,1212,{"$f":"VLOOKUP(B19,[2]ItemConfig!$A:$C,3,FALSE)","v":"星炎草"},100]
[313,1213,{"$f":"VLOOKUP(B20,[2]ItemConfig!$A:$C,3,FALSE)","v":"混元晶"},100]
[314,1214,{"$f":"VLOOKUP(B21,[2]ItemConfig!$A:$C,3,FALSE)","v":"地髓晶"},100]
[315,1215,{"$f":"VLOOKUP(B22,[2]ItemConfig!$A:$C,3,FALSE)","v":"灵月石"},100]
[316,1216,{"$f":"VLOOKUP(B23,[2]ItemConfig!$A:$C,3,FALSE)","v":"玄雷果"},100]
[317,1217,{"$f":"VLOOKUP(B24,[2]ItemConfig!$A:$C,3,FALSE)","v":"龙筋草"},100]
[318,1218,{"$f":"VLOOKUP(B25,[2]ItemConfig!$A:$C,3,FALSE)","v":"太虚花"},100]
[319,1219,{"$f":"VLOOKUP(B26,[2]ItemConfig!$A:$C,3,FALSE)","v":"升仙丹"},100]
[320,1220,{"$f":"VLOOKUP(B27,[2]ItemConfig!$A:$C,3,FALSE)","v":"归虚花"},100]
[321,1221,{"$f":"VLOOKUP(B28,[2]ItemConfig!$A:$C,3,FALSE)","v":"真阳骨"},100]
[322,1222,{"$f":"VLOOKUP(B29,[2]ItemConfig!$A:$C,3,FALSE)","v":"太玄髓"},100]
[323,1223,{"$f":"VLOOKUP(B30,[2]ItemConfig!$A:$C,3,FALSE)","v":"离魄花"},100]
[324,1224,{"$f":"VLOOKUP(B31,[2]ItemConfig!$A:$C,3,FALSE)","v":"裂界藤"},100]
[325,1225,{"$f":"VLOOKUP(B32,[2]ItemConfig!$A:$C,3,FALSE)","v":"寂灭沙"},100]
[326,1226,{"$f":"VLOOKUP(B33,[2]ItemConfig!$A:$C,3,FALSE)","v":"天罡心核"},100]
[]
[501,13001,{"$f":"VLOOKUP(B35,[2]ItemConfig!$A:$C,3,FALSE)","v":"太虚幻剑经碎片"},1]
[502,13002,{"$f":"VLOOKUP(B36,[2]ItemConfig!$A:$C,3,FALSE)","v":"天罡剑气诀碎片"},1]
[503,13003,{"$f":"VLOOKUP(B37,[2]ItemConfig!$A:$C,3,FALSE)","v":"血刃金煌功碎片"},1]
[504,13004,{"$f":"VLOOKUP(B38,[2]ItemConfig!$A:$C,3,FALSE)","v":"飞刃碎片"},1]
[505,13005,{"$f":"VLOOKUP(B39,[2]ItemConfig!$A:$C,3,FALSE)","v":"金针碎片"},1]
[506,13006,{"$f":"VLOOKUP(B40,[2]ItemConfig!$A:$C,3,FALSE)","v":"碧落幽冥劲碎片"},1]
[507,13007,{"$f":"VLOOKUP(B41,[2]ItemConfig!$A:$C,3,FALSE)","v":"雾隐千流法碎片"},1]
[508,13008,{"$f":"VLOOKUP(B42,[2]ItemConfig!$A:$C,3,FALSE)","v":"功法-水3碎片"},1]
[509,13009,{"$f":"VLOOKUP(B43,[2]ItemConfig!$A:$C,3,FALSE)","v":"水球碎片"},1]
[510,13010,{"$f":"VLOOKUP(B44,[2]ItemConfig!$A:$C,3,FALSE)","v":"冰刀碎片"},1]
[511,13011,{"$f":"VLOOKUP(B45,[2]ItemConfig!$A:$C,3,FALSE)","v":"瘴影千丝术碎片"},1]
[512,13012,{"$f":"VLOOKUP(B46,[2]ItemConfig!$A:$C,3,FALSE)","v":"蚀骨腐血掌碎片"},1]
[513,13013,{"$f":"VLOOKUP(B47,[2]ItemConfig!$A:$C,3,FALSE)","v":"功法-木3碎片"},1]
[514,13014,{"$f":"VLOOKUP(B48,[2]ItemConfig!$A:$C,3,FALSE)","v":"竹刺碎片"},1]
[515,13015,{"$f":"VLOOKUP(B49,[2]ItemConfig!$A:$C,3,FALSE)","v":"飞叶碎片"},1]
[516,13016,{"$f":"VLOOKUP(B50,[2]ItemConfig!$A:$C,3,FALSE)","v":"烈焰剑碎片"},1]
[517,13017,{"$f":"VLOOKUP(B51,[2]ItemConfig!$A:$C,3,FALSE)","v":"赤焰龙吟功碎片"},1]
[518,13018,{"$f":"VLOOKUP(B52,[2]ItemConfig!$A:$C,3,FALSE)","v":"朱雀燎原指碎片"},1]
[519,13019,{"$f":"VLOOKUP(B53,[2]ItemConfig!$A:$C,3,FALSE)","v":"火球碎片"},1]
[520,13020,{"$f":"VLOOKUP(B54,[2]ItemConfig!$A:$C,3,FALSE)","v":"火刀碎片"},1]
[521,13021,{"$f":"VLOOKUP(B55,[2]ItemConfig!$A:$C,3,FALSE)","v":"黄尘灭魂刺碎片"},1]
[522,13022,{"$f":"VLOOKUP(B56,[2]ItemConfig!$A:$C,3,FALSE)","v":"地裂屠龙斩碎片"},1]
[523,13023,{"$f":"VLOOKUP(B57,[2]ItemConfig!$A:$C,3,FALSE)","v":"功法-土3碎片"},1]
[524,13024,{"$f":"VLOOKUP(B58,[2]ItemConfig!$A:$C,3,FALSE)","v":"落石碎片"},1]
[525,13025,{"$f":"VLOOKUP(B59,[2]ItemConfig!$A:$C,3,FALSE)","v":"小石头碎片"},1]
[526,13501,{"$f":"VLOOKUP(B60,[2]ItemConfig!$A:$C,3,FALSE)","v":"天衍星辰诀碎片"},1]
[527,13502,{"$f":"VLOOKUP(B61,[2]ItemConfig!$A:$C,3,FALSE)","v":"法宝秘籍碎片"},1]
[528,13503,{"$f":"VLOOKUP(B62,[2]ItemConfig!$A:$C,3,FALSE)","v":"崩脉决碎片"},1]
[529,13504,{"$f":"VLOOKUP(B63,[2]ItemConfig!$A:$C,3,FALSE)","v":"两仪决碎片"},1]
[530,13505,{"$f":"VLOOKUP(B64,[2]ItemConfig!$A:$C,3,FALSE)","v":"火焰决碎片"},1]
[531,13506,{"$f":"VLOOKUP(B65,[2]ItemConfig!$A:$C,3,FALSE)","v":"乾坤巨灵诀碎片"},1]
[532,13507,{"$f":"VLOOKUP(B66,[2]ItemConfig!$A:$C,3,FALSE)","v":"极速齿轮碎片"},1]
[533,13508,{"$f":"VLOOKUP(B67,[2]ItemConfig!$A:$C,3,FALSE)","v":"太虚剑意碎片"},1]
[534,13509,{"$f":"VLOOKUP(B68,[2]ItemConfig!$A:$C,3,FALSE)","v":"青莲净体诀碎片"},1]
[535,13510,{"$f":"VLOOKUP(B69,[2]ItemConfig!$A:$C,3,FALSE)","v":"碧霄回春术碎片"},1]
[536,13511,{"$f":"VLOOKUP(B70,[2]ItemConfig!$A:$C,3,FALSE)","v":"血祭神通碎片"},1]
[537,13512,{"$f":"VLOOKUP(B71,[2]ItemConfig!$A:$C,3,FALSE)","v":"金煞决碎片"},1]
[538,13513,{"$f":"VLOOKUP(B72,[2]ItemConfig!$A:$C,3,FALSE)","v":"毒瘴领域碎片"},1]
[539,13514,{"$f":"VLOOKUP(B73,[2]ItemConfig!$A:$C,3,FALSE)","v":"毒爆碎片"},1]
[540,13515,{"$f":"VLOOKUP(B74,[2]ItemConfig!$A:$C,3,FALSE)","v":"异常转移碎片"},1]
[541,13516,{"$f":"VLOOKUP(B75,[2]ItemConfig!$A:$C,3,FALSE)","v":"阴水碎片"},1]
[542,13517,{"$f":"VLOOKUP(B76,[2]ItemConfig!$A:$C,3,FALSE)","v":"灵油碎片"},1]
[543,13518,{"$f":"VLOOKUP(B77,[2]ItemConfig!$A:$C,3,FALSE)","v":"厚土护体碎片"},1]
[544,13519,{"$f":"VLOOKUP(B78,[2]ItemConfig!$A:$C,3,FALSE)","v":"金沙碎片"},1]
[545,11001,{"$f":"VLOOKUP(B79,[2]ItemConfig!$A:$C,3,FALSE)","v":"神龙鼎碎片"},1]
[546,11002,{"$f":"VLOOKUP(B80,[2]ItemConfig!$A:$C,3,FALSE)","v":"噬空齿刃碎片"},1]
[547,11003,{"$f":"VLOOKUP(B81,[2]ItemConfig!$A:$C,3,FALSE)","v":"翡翠葫芦碎片"},1]
[548,11004,{"$f":"VLOOKUP(B82,[2]ItemConfig!$A:$C,3,FALSE)","v":"混沌珠碎片"},1]
[549,11005,{"$f":"VLOOKUP(B83,[2]ItemConfig!$A:$C,3,FALSE)","v":"绝脉瓶碎片"},1]
[550,11006,{"$f":"VLOOKUP(B84,[2]ItemConfig!$A:$C,3,FALSE)","v":"九幽镇魂瓶碎片"},1]
[551,11007,{"$f":"VLOOKUP(B85,[2]ItemConfig!$A:$C,3,FALSE)","v":"玉莲守心灯碎片"},1]
[552,11008,{"$f":"VLOOKUP(B86,[2]ItemConfig!$A:$C,3,FALSE)","v":"融灵塔碎片"},1]
[553,11009,{"$f":"VLOOKUP(B87,[2]ItemConfig!$A:$C,3,FALSE)","v":"禁元珠碎片"},1]
[554,11010,{"$f":"VLOOKUP(B88,[2]ItemConfig!$A:$C,3,FALSE)","v":"玄龟盾碎片"},1]
[555,11011,{"$f":"VLOOKUP(B89,[2]ItemConfig!$A:$C,3,FALSE)","v":"天殇血刃剑碎片"},1]

{"sheet":"DaoyouguajiResourcLevel","index":7,"n_rows":304,"n_cols":6,"rows_kept":304,"cut":false,"hidden":false,"merged":[]}
["ID","para1","para2","para3","para4","para5"]
["int","int","int","int","int","int"]
[]
["ID","玩家修为产出","铜钱产出","功法灵气","法宝灵韵","赠与概率"]
[1,{"$f":"ROUND([3]ResourceLevelConfig!$E5*0.05,0)","v":5},{"$f":"ROUND([3]ResourceLevelConfig!$C5*0.05,0)","v":50},{"$f":"ROUND([3]ResourceLevelConfig!$G5*0.05,0)","v":3},{"$f":"ROUND([3]ResourceLevelConfig!$H5*0.05,0)","v":3},201]
[2,{"$f":"ROUND([3]ResourceLevelConfig!$E6*0.05,0)","v":5},{"$f":"ROUND([3]ResourceLevelConfig!$C6*0.05,0)","v":51},{"$f":"ROUND([3]ResourceLevelConfig!$G6*0.05,0)","v":3},{"$f":"ROUND([3]ResourceLevelConfig!$H6*0.05,0)","v":3},202]
[3,{"$f":"ROUND([3]ResourceLevelConfig!$E7*0.05,0)","v":5},{"$f":"ROUND([3]ResourceLevelConfig!$C7*0.05,0)","v":51},{"$f":"ROUND([3]ResourceLevelConfig!$G7*0.05,0)","v":3},{"$f":"ROUND([3]ResourceLevelConfig!$H7*0.05,0)","v":3},203]
[4,{"$f":"ROUND([3]ResourceLevelConfig!$E8*0.05,0)","v":5},{"$f":"ROUND([3]ResourceLevelConfig!$C8*0.05,0)","v":52},{"$f":"ROUND([3]ResourceLevelConfig!$G8*0.05,0)","v":3},{"$f":"ROUND([3]ResourceLevelConfig!$H8*0.05,0)","v":3},204]
[5,{"$f":"ROUND([3]ResourceLevelConfig!$E9*0.05,0)","v":5},{"$f":"ROUND([3]ResourceLevelConfig!$C9*0.05,0)","v":52},{"$f":"ROUND([3]ResourceLevelConfig!$G9*0.05,0)","v":3},{"$f":"ROUND([3]ResourceLevelConfig!$H9*0.05,0)","v":3},205]
[6,{"$f":"ROUND([3]ResourceLevelConfig!$E10*0.05,0)","v":6},{"$f":"ROUND([3]ResourceLevelConfig!$C10*0.05,0)","v":53},{"$f":"ROUND([3]ResourceLevelConfig!$G10*0.05,0)","v":3},{"$f":"ROUND([3]ResourceLevelConfig!$H10*0.05,0)","v":3},206]
[7,{"$f":"ROUND([3]ResourceLevelConfig!$E11*0.05,0)","v":6},{"$f":"ROUND([3]ResourceLevelConfig!$C11*0.05,0)","v":53},{"$f":"ROUND([3]ResourceLevelConfig!$G11*0.05,0)","v":3},{"$f":"ROUND([3]ResourceLevelConfig!$H11*0.05,0)","v":3},207]
[8,{"$f":"ROUND([3]ResourceLevelConfig!$E12*0.05,0)","v":6},{"$f":"ROUND([3]ResourceLevelConfig!$C12*0.05,0)","v":54},{"$f":"ROUND([3]ResourceLevelConfig!$G12*0.05,0)","v":3},{"$f":"ROUND([3]ResourceLevelConfig!$H12*0.05,0)","v":3},208]
[9,{"$f":"ROUND([3]ResourceLevelConfig!$E13*0.05,0)","v":6},{"$f":"ROUND([3]ResourceLevelConfig!$C13*0.05,0)","v":54},{"$f":"ROUND([3]ResourceLevelConfig!$G13*0.05,0)","v":3},{"$f":"ROUND([3]ResourceLevelConfig!$H13*0.05,0)","v":3},209]
[10,{"$f":"ROUND([3]ResourceLevelConfig!$E14*0.05,0)","v":6},{"$f":"ROUND([3]ResourceLevelConfig!$C14*0.05,0)","v":55},{"$f":"ROUND([3]ResourceLevelConfig!$G14*0.05,0)","v":3},{"$f":"ROUND([3]ResourceLevelConfig!$H14*0.05,0)","v":3},210]
[11,{"$f":"ROUND([3]ResourceLevelConfig!$E15*0.05,0)","v":6},{"$f":"ROUND([3]ResourceLevelConfig!$C15*0.05,0)","v":55},{"$f":"ROUND([3]ResourceLevelConfig!$G15*0.05,0)","v":3},{"$f":"ROUND([3]ResourceLevelConfig!$H15*0.05,0)","v":3},211]
[12,{"$f":"ROUND([3]ResourceLevelConfig!$E16*0.05,0)","v":6},{"$f":"ROUND([3]ResourceLevelConfig!$C16*0.05,0)","v":56},{"$f":"ROUND([3]ResourceLevelConfig!$G16*0.05,0)","v":3},{"$f":"ROUND([3]ResourceLevelConfig!$H16*0.05,0)","v":3},212]
[13,{"$f":"ROUND([3]ResourceLevelConfig!$E17*0.05,0)","v":6},{"$f":"ROUND([3]ResourceLevelConfig!$C17*0.05,0)","v":56},{"$f":"ROUND([3]ResourceLevelConfig!$G17*0.05,0)","v":3},{"$f":"ROUND([3]ResourceLevelConfig!$H17*0.05,0)","v":3},213]
[14,{"$f":"ROUND([3]ResourceLevelConfig!$E18*0.05,0)","v":6},{"$f":"ROUND([3]ResourceLevelConfig!$C18*0.05,0)","v":57},{"$f":"ROUND([3]ResourceLevelConfig!$G18*0.05,0)","v":3},{"$f":"ROUND([3]ResourceLevelConfig!$H18*0.05,0)","v":3},214]
[15,{"$f":"ROUND([3]ResourceLevelConfig!$E19*0.05,0)","v":6},{"$f":"ROUND([3]ResourceLevelConfig!$C19*0.05,0)","v":58},{"$f":"ROUND([3]ResourceLevelConfig!$G19*0.05,0)","v":3},{"$f":"ROUND([3]ResourceLevelConfig!$H19*0.05,0)","v":3},215]
[16,{"$f":"ROUND([3]ResourceLevelConfig!$E20*0.05,0)","v":6},{"$f":"ROUND([3]ResourceLevelConfig!$C20*0.05,0)","v":58},{"$f":"ROUND([3]ResourceLevelConfig!$G20*0.05,0)","v":3},{"$f":"ROUND([3]ResourceLevelConfig!$H20*0.05,0)","v":3},216]
[17,{"$f":"ROUND([3]ResourceLevelConfig!$E21*0.05,0)","v":6},{"$f":"ROUND([3]ResourceLevelConfig!$C21*0.05,0)","v":59},{"$f":"ROUND([3]ResourceLevelConfig!$G21*0.05,0)","v":3},{"$f":"ROUND([3]ResourceLevelConfig!$H21*0.05,0)","v":3},217]
[18,{"$f":"ROUND([3]ResourceLevelConfig!$E22*0.05,0)","v":6},{"$f":"ROUND([3]ResourceLevelConfig!$C22*0.05,0)","v":59},{"$f":"ROUND([3]ResourceLevelConfig!$G22*0.05,0)","v":3},{"$f":"ROUND([3]ResourceLevelConfig!$H22*0.05,0)","v":3},218]
[19,{"$f":"ROUND([3]ResourceLevelConfig!$E23*0.05,0)","v":6},{"$f":"ROUND([3]ResourceLevelConfig!$C23*0.05,0)","v":60},{"$f":"ROUND([3]ResourceLevelConfig!$G23*0.05,0)","v":3},{"$f":"ROUND([3]ResourceLevelConfig!$H23*0.05,0)","v":3},219]
[20,{"$f":"ROUND([3]ResourceLevelConfig!$E24*0.05,0)","v":6},{"$f":"ROUND([3]ResourceLevelConfig!$C24*0.05,0)","v":61},{"$f":"ROUND([3]ResourceLevelConfig!$G24*0.05,0)","v":3},{"$f":"ROUND([3]ResourceLevelConfig!$H24*0.05,0)","v":3},220]
[21,{"$f":"ROUND([3]ResourceLevelConfig!$E25*0.05,0)","v":6},{"$f":"ROUND([3]ResourceLevelConfig!$C25*0.05,0)","v":61},{"$f":"ROUND([3]ResourceLevelConfig!$G25*0.05,0)","v":4},{"$f":"ROUND([3]ResourceLevelConfig!$H25*0.05,0)","v":4},221]
[22,{"$f":"ROUND([3]ResourceLevelConfig!$E26*0.05,0)","v":6},{"$f":"ROUND([3]ResourceLevelConfig!$C26*0.05,0)","v":62},{"$f":"ROUND([3]ResourceLevelConfig!$G26*0.05,0)","v":4},{"$f":"ROUND([3]ResourceLevelConfig!$H26*0.05,0)","v":4},222]
[23,{"$f":"ROUND([3]ResourceLevelConfig!$E27*0.05,0)","v":6},{"$f":"ROUND([3]ResourceLevelConfig!$C27*0.05,0)","v":62},{"$f":"ROUND([3]ResourceLevelConfig!$G27*0.05,0)","v":4},{"$f":"ROUND([3]ResourceLevelConfig!$H27*0.05,0)","v":4},223]
[24,{"$f":"ROUND([3]ResourceLevelConfig!$E28*0.05,0)","v":7},{"$f":"ROUND([3]ResourceLevelConfig!$C28*0.05,0)","v":63},{"$f":"ROUND([3]ResourceLevelConfig!$G28*0.05,0)","v":4},{"$f":"ROUND([3]ResourceLevelConfig!$H28*0.05,0)","v":4},224]
[25,{"$f":"ROUND([3]ResourceLevelConfig!$E29*0.05,0)","v":7},{"$f":"ROUND([3]ResourceLevelConfig!$C29*0.05,0)","v":64},{"$f":"ROUND([3]ResourceLevelConfig!$G29*0.05,0)","v":4},{"$f":"ROUND([3]ResourceLevelConfig!$H29*0.05,0)","v":4},225]
[26,{"$f":"ROUND([3]ResourceLevelConfig!$E30*0.05,0)","v":7},{"$f":"ROUND([3]ResourceLevelConfig!$C30*0.05,0)","v":64},{"$f":"ROUND([3]ResourceLevelConfig!$G30*0.05,0)","v":4},{"$f":"ROUND([3]ResourceLevelConfig!$H30*0.05,0)","v":4},226]
[27,{"$f":"ROUND([3]ResourceLevelConfig!$E31*0.05,0)","v":7},{"$f":"ROUND([3]ResourceLevelConfig!$C31*0.05,0)","v":65},{"$f":"ROUND([3]ResourceLevelConfig!$G31*0.05,0)","v":4},{"$f":"ROUND([3]ResourceLevelConfig!$H31*0.05,0)","v":4},227]
[28,{"$f":"ROUND([3]ResourceLevelConfig!$E32*0.05,0)","v":7},{"$f":"ROUND([3]ResourceLevelConfig!$C32*0.05,0)","v":66},{"$f":"ROUND([3]ResourceLevelConfig!$G32*0.05,0)","v":4},{"$f":"ROUND([3]ResourceLevelConfig!$H32*0.05,0)","v":4},228]
[29,{"$f":"ROUND([3]ResourceLevelConfig!$E33*0.05,0)","v":7},{"$f":"ROUND([3]ResourceLevelConfig!$C33*0.05,0)","v":66},{"$f":"ROUND([3]ResourceLevelConfig!$G33*0.05,0)","v":4},{"$f":"ROUND([3]ResourceLevelConfig!$H33*0.05,0)","v":4},229]
[30,{"$f":"ROUND([3]ResourceLevelConfig!$E34*0.05,0)","v":7},{"$f":"ROUND([3]ResourceLevelConfig!$C34*0.05,0)","v":67},{"$f":"ROUND([3]ResourceLevelConfig!$G34*0.05,0)","v":4},{"$f":"ROUND([3]ResourceLevelConfig!$H34*0.05,0)","v":4},230]
[31,{"$f":"ROUND([3]ResourceLevelConfig!$E35*0.05,0)","v":7},{"$f":"ROUND([3]ResourceLevelConfig!$C35*0.05,0)","v":68},{"$f":"ROUND([3]ResourceLevelConfig!$G35*0.05,0)","v":4},{"$f":"ROUND([3]ResourceLevelConfig!$H35*0.05,0)","v":4},231]
[32,{"$f":"ROUND([3]ResourceLevelConfig!$E36*0.05,0)","v":7},{"$f":"ROUND([3]ResourceLevelConfig!$C36*0.05,0)","v":68},{"$f":"ROUND([3]ResourceLevelConfig!$G36*0.05,0)","v":4},{"$f":"ROUND([3]ResourceLevelConfig!$H36*0.05,0)","v":4},232]
[33,{"$f":"ROUND([3]ResourceLevelConfig!$E37*0.05,0)","v":7},{"$f":"ROUND([3]ResourceLevelConfig!$C37*0.05,0)","v":69},{"$f":"ROUND([3]ResourceLevelConfig!$G37*0.05,0)","v":4},{"$f":"ROUND([3]ResourceLevelConfig!$H37*0.05,0)","v":4},233]
[34,{"$f":"ROUND([3]ResourceLevelConfig!$E38*0.05,0)","v":7},{"$f":"ROUND([3]ResourceLevelConfig!$C38*0.05,0)","v":70},{"$f":"ROUND([3]ResourceLevelConfig!$G38*0.05,0)","v":4},{"$f":"ROUND([3]ResourceLevelConfig!$H38*0.05,0)","v":4},234]
[35,{"$f":"ROUND([3]ResourceLevelConfig!$E39*0.05,0)","v":7},{"$f":"ROUND([3]ResourceLevelConfig!$C39*0.05,0)","v":70},{"$f":"ROUND([3]ResourceLevelConfig!$G39*0.05,0)","v":4},{"$f":"ROUND([3]ResourceLevelConfig!$H39*0.05,0)","v":4},235]
[36,{"$f":"ROUND([3]ResourceLevelConfig!$E40*0.05,0)","v":7},{"$f":"ROUND([3]ResourceLevelConfig!$C40*0.05,0)","v":71},{"$f":"ROUND([3]ResourceLevelConfig!$G40*0.05,0)","v":4},{"$f":"ROUND([3]ResourceLevelConfig!$H40*0.05,0)","v":4},236]
[37,{"$f":"ROUND([3]ResourceLevelConfig!$E41*0.05,0)","v":7},{"$f":"ROUND([3]ResourceLevelConfig!$C41*0.05,0)","v":72},{"$f":"ROUND([3]ResourceLevelConfig!$G41*0.05,0)","v":4},{"$f":"ROUND([3]ResourceLevelConfig!$H41*0.05,0)","v":4},237]
[38,{"$f":"ROUND([3]ResourceLevelConfig!$E42*0.05,0)","v":7},{"$f":"ROUND([3]ResourceLevelConfig!$C42*0.05,0)","v":72},{"$f":"ROUND([3]ResourceLevelConfig!$G42*0.05,0)","v":4},{"$f":"ROUND([3]ResourceLevelConfig!$H42*0.05,0)","v":4},238]
[39,{"$f":"ROUND([3]ResourceLevelConfig!$E43*0.05,0)","v":8},{"$f":"ROUND([3]ResourceLevelConfig!$C43*0.05,0)","v":73},{"$f":"ROUND([3]ResourceLevelConfig!$G43*0.05,0)","v":4},{"$f":"ROUND([3]ResourceLevelConfig!$H43*0.05,0)","v":4},239]
[40,{"$f":"ROUND([3]ResourceLevelConfig!$E44*0.05,0)","v":8},{"$f":"ROUND([3]ResourceLevelConfig!$C44*0.05,0)","v":74},{"$f":"ROUND([3]ResourceLevelConfig!$G44*0.05,0)","v":4},{"$f":"ROUND([3]ResourceLevelConfig!$H44*0.05,0)","v":4},240]
[41,{"$f":"ROUND([3]ResourceLevelConfig!$E45*0.05,0)","v":8},{"$f":"ROUND([3]ResourceLevelConfig!$C45*0.05,0)","v":75},{"$f":"ROUND([3]ResourceLevelConfig!$G45*0.05,0)","v":5},{"$f":"ROUND([3]ResourceLevelConfig!$H45*0.05,0)","v":5},241]
[42,{"$f":"ROUND([3]ResourceLevelConfig!$E46*0.05,0)","v":8},{"$f":"ROUND([3]ResourceLevelConfig!$C46*0.05,0)","v":75},{"$f":"ROUND([3]ResourceLevelConfig!$G46*0.05,0)","v":5},{"$f":"ROUND([3]ResourceLevelConfig!$H46*0.05,0)","v":5},242]
[43,{"$f":"ROUND([3]ResourceLevelConfig!$E47*0.05,0)","v":8},{"$f":"ROUND([3]ResourceLevelConfig!$C47*0.05,0)","v":76},{"$f":"ROUND([3]ResourceLevelConfig!$G47*0.05,0)","v":5},{"$f":"ROUND([3]ResourceLevelConfig!$H47*0.05,0)","v":5},243]
[44,{"$f":"ROUND([3]ResourceLevelConfig!$E48*0.05,0)","v":8},{"$f":"ROUND([3]ResourceLevelConfig!$C48*0.05,0)","v":77},{"$f":"ROUND([3]ResourceLevelConfig!$G48*0.05,0)","v":5},{"$f":"ROUND([3]ResourceLevelConfig!$H48*0.05,0)","v":5},244]
[45,{"$f":"ROUND([3]ResourceLevelConfig!$E49*0.05,0)","v":8},{"$f":"ROUND([3]ResourceLevelConfig!$C49*0.05,0)","v":78},{"$f":"ROUND([3]ResourceLevelConfig!$G49*0.05,0)","v":5},{"$f":"ROUND([3]ResourceLevelConfig!$H49*0.05,0)","v":5},245]
[46,{"$f":"ROUND([3]ResourceLevelConfig!$E50*0.05,0)","v":8},{"$f":"ROUND([3]ResourceLevelConfig!$C50*0.05,0)","v":79},{"$f":"ROUND([3]ResourceLevelConfig!$G50*0.05,0)","v":5},{"$f":"ROUND([3]ResourceLevelConfig!$H50*0.05,0)","v":5},246]
[47,{"$f":"ROUND([3]ResourceLevelConfig!$E51*0.05,0)","v":8},{"$f":"ROUND([3]ResourceLevelConfig!$C51*0.05,0)","v":79},{"$f":"ROUND([3]ResourceLevelConfig!$G51*0.05,0)","v":5},{"$f":"ROUND([3]ResourceLevelConfig!$H51*0.05,0)","v":5},247]
[48,{"$f":"ROUND([3]ResourceLevelConfig!$E52*0.05,0)","v":8},{"$f":"ROUND([3]ResourceLevelConfig!$C52*0.05,0)","v":80},{"$f":"ROUND([3]ResourceLevelConfig!$G52*0.05,0)","v":5},{"$f":"ROUND([3]ResourceLevelConfig!$H52*0.05,0)","v":5},248]
[49,{"$f":"ROUND([3]ResourceLevelConfig!$E53*0.05,0)","v":8},{"$f":"ROUND([3]ResourceLevelConfig!$C53*0.05,0)","v":81},{"$f":"ROUND([3]ResourceLevelConfig!$G53*0.05,0)","v":5},{"$f":"ROUND([3]ResourceLevelConfig!$H53*0.05,0)","v":5},249]
[50,{"$f":"ROUND([3]ResourceLevelConfig!$E54*0.05,0)","v":8},{"$f":"ROUND([3]ResourceLevelConfig!$C54*0.05,0)","v":82},{"$f":"ROUND([3]ResourceLevelConfig!$G54*0.05,0)","v":5},{"$f":"ROUND([3]ResourceLevelConfig!$H54*0.05,0)","v":5},250]
[51,{"$f":"ROUND([3]ResourceLevelConfig!$E55*0.05,0)","v":9},{"$f":"ROUND([3]ResourceLevelConfig!$C55*0.05,0)","v":83},{"$f":"ROUND([3]ResourceLevelConfig!$G55*0.05,0)","v":5},{"$f":"ROUND([3]ResourceLevelConfig!$H55*0.05,0)","v":5},251]
[52,{"$f":"ROUND([3]ResourceLevelConfig!$E56*0.05,0)","v":9},{"$f":"ROUND([3]ResourceLevelConfig!$C56*0.05,0)","v":83},{"$f":"ROUND([3]ResourceLevelConfig!$G56*0.05,0)","v":5},{"$f":"ROUND([3]ResourceLevelConfig!$H56*0.05,0)","v":5},252]
[53,{"$f":"ROUND([3]ResourceLevelConfig!$E57*0.05,0)","v":9},{"$f":"ROUND([3]ResourceLevelConfig!$C57*0.05,0)","v":84},{"$f":"ROUND([3]ResourceLevelConfig!$G57*0.05,0)","v":5},{"$f":"ROUND([3]ResourceLevelConfig!$H57*0.05,0)","v":5},253]
[54,{"$f":"ROUND([3]ResourceLevelConfig!$E58*0.05,0)","v":9},{"$f":"ROUND([3]ResourceLevelConfig!$C58*0.05,0)","v":85},{"$f":"ROUND([3]ResourceLevelConfig!$G58*0.05,0)","v":5},{"$f":"ROUND([3]ResourceLevelConfig!$H58*0.05,0)","v":5},254]
[55,{"$f":"ROUND([3]ResourceLevelConfig!$E59*0.05,0)","v":9},{"$f":"ROUND([3]ResourceLevelConfig!$C59*0.05,0)","v":86},{"$f":"ROUND([3]ResourceLevelConfig!$G59*0.05,0)","v":5},{"$f":"ROUND([3]ResourceLevelConfig!$H59*0.05,0)","v":5},255]
[56,{"$f":"ROUND([3]ResourceLevelConfig!$E60*0.05,0)","v":9},{"$f":"ROUND([3]ResourceLevelConfig!$C60*0.05,0)","v":87},{"$f":"ROUND([3]ResourceLevelConfig!$G60*0.05,0)","v":5},{"$f":"ROUND([3]ResourceLevelConfig!$H60*0.05,0)","v":5},256]
[57,{"$f":"ROUND([3]ResourceLevelConfig!$E61*0.05,0)","v":9},{"$f":"ROUND([3]ResourceLevelConfig!$C61*0.05,0)","v":88},{"$f":"ROUND([3]ResourceLevelConfig!$G61*0.05,0)","v":5},{"$f":"ROUND([3]ResourceLevelConfig!$H61*0.05,0)","v":5},257]
[58,{"$f":"ROUND([3]ResourceLevelConfig!$E62*0.05,0)","v":9},{"$f":"ROUND([3]ResourceLevelConfig!$C62*0.05,0)","v":89},{"$f":"ROUND([3]ResourceLevelConfig!$G62*0.05,0)","v":5},{"$f":"ROUND([3]ResourceLevelConfig!$H62*0.05,0)","v":5},258]
[59,{"$f":"ROUND([3]ResourceLevelConfig!$E63*0.05,0)","v":9},{"$f":"ROUND([3]ResourceLevelConfig!$C63*0.05,0)","v":89},{"$f":"ROUND([3]ResourceLevelConfig!$G63*0.05,0)","v":5},{"$f":"ROUND([3]ResourceLevelConfig!$H63*0.05,0)","v":5},259]
[60,{"$f":"ROUND([3]ResourceLevelConfig!$E64*0.05,0)","v":9},{"$f":"ROUND([3]ResourceLevelConfig!$C64*0.05,0)","v":90},{"$f":"ROUND([3]ResourceLevelConfig!$G64*0.05,0)","v":5},{"$f":"ROUND([3]ResourceLevelConfig!$H64*0.05,0)","v":5},260]
[61,{"$f":"ROUND([3]ResourceLevelConfig!$E65*0.05,0)","v":9},{"$f":"ROUND([3]ResourceLevelConfig!$C65*0.05,0)","v":91},{"$f":"ROUND([3]ResourceLevelConfig!$G65*0.05,0)","v":6},{"$f":"ROUND([3]ResourceLevelConfig!$H65*0.05,0)","v":6},261]
[62,{"$f":"ROUND([3]ResourceLevelConfig!$E66*0.05,0)","v":9},{"$f":"ROUND([3]ResourceLevelConfig!$C66*0.05,0)","v":92},{"$f":"ROUND([3]ResourceLevelConfig!$G66*0.05,0)","v":6},{"$f":"ROUND([3]ResourceLevelConfig!$H66*0.05,0)","v":6},262]
[63,{"$f":"ROUND([3]ResourceLevelConfig!$E67*0.05,0)","v":10},{"$f":"ROUND([3]ResourceLevelConfig!$C67*0.05,0)","v":93},{"$f":"ROUND([3]ResourceLevelConfig!$G67*0.05,0)","v":6},{"$f":"ROUND([3]ResourceLevelConfig!$H67*0.05,0)","v":6},263]
[64,{"$f":"ROUND([3]ResourceLevelConfig!$E68*0.05,0)","v":10},{"$f":"ROUND([3]ResourceLevelConfig!$C68*0.05,0)","v":94},{"$f":"ROUND([3]ResourceLevelConfig!$G68*0.05,0)","v":6},{"$f":"ROUND([3]ResourceLevelConfig!$H68*0.05,0)","v":6},264]
[65,{"$f":"ROUND([3]ResourceLevelConfig!$E69*0.05,0)","v":10},{"$f":"ROUND([3]ResourceLevelConfig!$C69*0.05,0)","v":95},{"$f":"ROUND([3]ResourceLevelConfig!$G69*0.05,0)","v":6},{"$f":"ROUND([3]ResourceLevelConfig!$H69*0.05,0)","v":6},265]
[66,{"$f":"ROUND([3]ResourceLevelConfig!$E70*0.05,0)","v":10},{"$f":"ROUND([3]ResourceLevelConfig!$C70*0.05,0)","v":96},{"$f":"ROUND([3]ResourceLevelConfig!$G70*0.05,0)","v":6},{"$f":"ROUND([3]ResourceLevelConfig!$H70*0.05,0)","v":6},266]
[67,{"$f":"ROUND([3]ResourceLevelConfig!$E71*0.05,0)","v":10},{"$f":"ROUND([3]ResourceLevelConfig!$C71*0.05,0)","v":97},{"$f":"ROUND([3]ResourceLevelConfig!$G71*0.05,0)","v":6},{"$f":"ROUND([3]ResourceLevelConfig!$H71*0.05,0)","v":6},267]
[68,{"$f":"ROUND([3]ResourceLevelConfig!$E72*0.05,0)","v":10},{"$f":"ROUND([3]ResourceLevelConfig!$C72*0.05,0)","v":98},{"$f":"ROUND([3]ResourceLevelConfig!$G72*0.05,0)","v":6},{"$f":"ROUND([3]ResourceLevelConfig!$H72*0.05,0)","v":6},268]
[69,{"$f":"ROUND([3]ResourceLevelConfig!$E73*0.05,0)","v":10},{"$f":"ROUND([3]ResourceLevelConfig!$C73*0.05,0)","v":99},{"$f":"ROUND([3]ResourceLevelConfig!$G73*0.05,0)","v":6},{"$f":"ROUND([3]ResourceLevelConfig!$H73*0.05,0)","v":6},269]
[70,{"$f":"ROUND([3]ResourceLevelConfig!$E74*0.05,0)","v":10},{"$f":"ROUND([3]ResourceLevelConfig!$C74*0.05,0)","v":100},{"$f":"ROUND([3]ResourceLevelConfig!$G74*0.05,0)","v":6},{"$f":"ROUND([3]ResourceLevelConfig!$H74*0.05,0)","v":6},270]
[71,{"$f":"ROUND([3]ResourceLevelConfig!$E75*0.05,0)","v":10},{"$f":"ROUND([3]ResourceLevelConfig!$C75*0.05,0)","v":101},{"$f":"ROUND([3]ResourceLevelConfig!$G75*0.05,0)","v":6},{"$f":"ROUND([3]ResourceLevelConfig!$H75*0.05,0)","v":6},271]
[72,{"$f":"ROUND([3]ResourceLevelConfig!$E76*0.05,0)","v":10},{"$f":"ROUND([3]ResourceLevelConfig!$C76*0.05,0)","v":102},{"$f":"ROUND([3]ResourceLevelConfig!$G76*0.05,0)","v":6},{"$f":"ROUND([3]ResourceLevelConfig!$H76*0.05,0)","v":6},272]
[73,{"$f":"ROUND([3]ResourceLevelConfig!$E77*0.05,0)","v":11},{"$f":"ROUND([3]ResourceLevelConfig!$C77*0.05,0)","v":103},{"$f":"ROUND([3]ResourceLevelConfig!$G77*0.05,0)","v":6},{"$f":"ROUND([3]ResourceLevelConfig!$H77*0.05,0)","v":6},273]
[74,{"$f":"ROUND([3]ResourceLevelConfig!$E78*0.05,0)","v":11},{"$f":"ROUND([3]ResourceLevelConfig!$C78*0.05,0)","v":104},{"$f":"ROUND([3]ResourceLevelConfig!$G78*0.05,0)","v":6},{"$f":"ROUND([3]ResourceLevelConfig!$H78*0.05,0)","v":6},274]
[75,{"$f":"ROUND([3]ResourceLevelConfig!$E79*0.05,0)","v":11},{"$f":"ROUND([3]ResourceLevelConfig!$C79*0.05,0)","v":105},{"$f":"ROUND([3]ResourceLevelConfig!$G79*0.05,0)","v":6},{"$f":"ROUND([3]ResourceLevelConfig!$H79*0.05,0)","v":6},275]
[76,{"$f":"ROUND([3]ResourceLevelConfig!$E80*0.05,0)","v":11},{"$f":"ROUND([3]ResourceLevelConfig!$C80*0.05,0)","v":106},{"$f":"ROUND([3]ResourceLevelConfig!$G80*0.05,0)","v":6},{"$f":"ROUND([3]ResourceLevelConfig!$H80*0.05,0)","v":6},276]
[77,{"$f":"ROUND([3]ResourceLevelConfig!$E81*0.05,0)","v":11},{"$f":"ROUND([3]ResourceLevelConfig!$C81*0.05,0)","v":107},{"$f":"ROUND([3]ResourceLevelConfig!$G81*0.05,0)","v":6},{"$f":"ROUND([3]ResourceLevelConfig!$H81*0.05,0)","v":6},277]
[78,{"$f":"ROUND([3]ResourceLevelConfig!$E82*0.05,0)","v":11},{"$f":"ROUND([3]ResourceLevelConfig!$C82*0.05,0)","v":108},{"$f":"ROUND([3]ResourceLevelConfig!$G82*0.05,0)","v":6},{"$f":"ROUND([3]ResourceLevelConfig!$H82*0.05,0)","v":6},278]
[79,{"$f":"ROUND([3]ResourceLevelConfig!$E83*0.05,0)","v":11},{"$f":"ROUND([3]ResourceLevelConfig!$C83*0.05,0)","v":109},{"$f":"ROUND([3]ResourceLevelConfig!$G83*0.05,0)","v":6},{"$f":"ROUND([3]ResourceLevelConfig!$H83*0.05,0)","v":6},279]
[80,{"$f":"ROUND([3]ResourceLevelConfig!$E84*0.05,0)","v":11},{"$f":"ROUND([3]ResourceLevelConfig!$C84*0.05,0)","v":110},{"$f":"ROUND([3]ResourceLevelConfig!$G84*0.05,0)","v":6},{"$f":"ROUND([3]ResourceLevelConfig!$H84*0.05,0)","v":6},280]
[81,{"$f":"ROUND([3]ResourceLevelConfig!$E85*0.05,0)","v":11},{"$f":"ROUND([3]ResourceLevelConfig!$C85*0.05,0)","v":111},{"$f":"ROUND([3]ResourceLevelConfig!$G85*0.05,0)","v":7},{"$f":"ROUND([3]ResourceLevelConfig!$H85*0.05,0)","v":7},281]
[82,{"$f":"ROUND([3]ResourceLevelConfig!$E86*0.05,0)","v":12},{"$f":"ROUND([3]ResourceLevelConfig!$C86*0.05,0)","v":113},{"$f":"ROUND([3]ResourceLevelConfig!$G86*0.05,0)","v":7},{"$f":"ROUND([3]ResourceLevelConfig!$H86*0.05,0)","v":7},282]
[83,{"$f":"ROUND([3]ResourceLevelConfig!$E87*0.05,0)","v":12},{"$f":"ROUND([3]ResourceLevelConfig!$C87*0.05,0)","v":114},{"$f":"ROUND([3]ResourceLevelConfig!$G87*0.05,0)","v":7},{"$f":"ROUND([3]ResourceLevelConfig!$H87*0.05,0)","v":7},283]
[84,{"$f":"ROUND([3]ResourceLevelConfig!$E88*0.05,0)","v":12},{"$f":"ROUND([3]ResourceLevelConfig!$C88*0.05,0)","v":115},{"$f":"ROUND([3]ResourceLevelConfig!$G88*0.05,0)","v":7},{"$f":"ROUND([3]ResourceLevelConfig!$H88*0.05,0)","v":7},284]
[85,{"$f":"ROUND([3]ResourceLevelConfig!$E89*0.05,0)","v":12},{"$f":"ROUND([3]ResourceLevelConfig!$C89*0.05,0)","v":116},{"$f":"ROUND([3]ResourceLevelConfig!$G89*0.05,0)","v":7},{"$f":"ROUND([3]ResourceLevelConfig!$H89*0.05,0)","v":7},285]
[86,{"$f":"ROUND([3]ResourceLevelConfig!$E90*0.05,0)","v":12},{"$f":"ROUND([3]ResourceLevelConfig!$C90*0.05,0)","v":117},{"$f":"ROUND([3]ResourceLevelConfig!$G90*0.05,0)","v":7},{"$f":"ROUND([3]ResourceLevelConfig!$H90*0.05,0)","v":7},286]
[87,{"$f":"ROUND([3]ResourceLevelConfig!$E91*0.05,0)","v":12},{"$f":"ROUND([3]ResourceLevelConfig!$C91*0.05,0)","v":118},{"$f":"ROUND([3]ResourceLevelConfig!$G91*0.05,0)","v":7},{"$f":"ROUND([3]ResourceLevelConfig!$H91*0.05,0)","v":7},287]
[88,{"$f":"ROUND([3]ResourceLevelConfig!$E92*0.05,0)","v":12},{"$f":"ROUND([3]ResourceLevelConfig!$C92*0.05,0)","v":120},{"$f":"ROUND([3]ResourceLevelConfig!$G92*0.05,0)","v":7},{"$f":"ROUND([3]ResourceLevelConfig!$H92*0.05,0)","v":7},288]
[89,{"$f":"ROUND([3]ResourceLevelConfig!$E93*0.05,0)","v":12},{"$f":"ROUND([3]ResourceLevelConfig!$C93*0.05,0)","v":121},{"$f":"ROUND([3]ResourceLevelConfig!$G93*0.05,0)","v":7},{"$f":"ROUND([3]ResourceLevelConfig!$H93*0.05,0)","v":7},289]
[90,{"$f":"ROUND([3]ResourceLevelConfig!$E94*0.05,0)","v":12},{"$f":"ROUND([3]ResourceLevelConfig!$C94*0.05,0)","v":122},{"$f":"ROUND([3]ResourceLevelConfig!$G94*0.05,0)","v":7},{"$f":"ROUND([3]ResourceLevelConfig!$H94*0.05,0)","v":7},290]
[91,{"$f":"ROUND([3]ResourceLevelConfig!$E95*0.05,0)","v":13},{"$f":"ROUND([3]ResourceLevelConfig!$C95*0.05,0)","v":123},{"$f":"ROUND([3]ResourceLevelConfig!$G95*0.05,0)","v":7},{"$f":"ROUND([3]ResourceLevelConfig!$H95*0.05,0)","v":7},291]
[92,{"$f":"ROUND([3]ResourceLevelConfig!$E96*0.05,0)","v":13},{"$f":"ROUND([3]ResourceLevelConfig!$C96*0.05,0)","v":124},{"$f":"ROUND([3]ResourceLevelConfig!$G96*0.05,0)","v":7},{"$f":"ROUND([3]ResourceLevelConfig!$H96*0.05,0)","v":7},292]
[93,{"$f":"ROUND([3]ResourceLevelConfig!$E97*0.05,0)","v":13},{"$f":"ROUND([3]ResourceLevelConfig!$C97*0.05,0)","v":126},{"$f":"ROUND([3]ResourceLevelConfig!$G97*0.05,0)","v":7},{"$f":"ROUND([3]ResourceLevelConfig!$H97*0.05,0)","v":7},293]
[94,{"$f":"ROUND([3]ResourceLevelConfig!$E98*0.05,0)","v":13},{"$f":"ROUND([3]ResourceLevelConfig!$C98*0.05,0)","v":127},{"$f":"ROUND([3]ResourceLevelConfig!$G98*0.05,0)","v":7},{"$f":"ROUND([3]ResourceLevelConfig!$H98*0.05,0)","v":7},294]
[95,{"$f":"ROUND([3]ResourceLevelConfig!$E99*0.05,0)","v":13},{"$f":"ROUND([3]ResourceLevelConfig!$C99*0.05,0)","v":128},{"$f":"ROUND([3]ResourceLevelConfig!$G99*0.05,0)","v":7},{"$f":"ROUND([3]ResourceLevelConfig!$H99*0.05,0)","v":7},295]
[96,{"$f":"ROUND([3]ResourceLevelConfig!$E100*0.05,0)","v":13},{"$f":"ROUND([3]ResourceLevelConfig!$C100*0.05,0)","v":130},{"$f":"ROUND([3]ResourceLevelConfig!$G100*0.05,0)","v":7},{"$f":"ROUND([3]ResourceLevelConfig!$H100*0.05,0)","v":7},296]
[97,{"$f":"ROUND([3]ResourceLevelConfig!$E101*0.05,0)","v":13},{"$f":"ROUND([3]ResourceLevelConfig!$C101*0.05,0)","v":131},{"$f":"ROUND([3]ResourceLevelConfig!$G101*0.05,0)","v":7},{"$f":"ROUND([3]ResourceLevelConfig!$H101*0.05,0)","v":7},297]
[98,{"$f":"ROUND([3]ResourceLevelConfig!$E102*0.05,0)","v":13},{"$f":"ROUND([3]ResourceLevelConfig!$C102*0.05,0)","v":132},{"$f":"ROUND([3]ResourceLevelConfig!$G102*0.05,0)","v":7},{"$f":"ROUND([3]ResourceLevelConfig!$H102*0.05,0)","v":7},298]
[99,{"$f":"ROUND([3]ResourceLevelConfig!$E103*0.05,0)","v":14},{"$f":"ROUND([3]ResourceLevelConfig!$C103*0.05,0)","v":133},{"$f":"ROUND([3]ResourceLevelConfig!$G103*0.05,0)","v":7},{"$f":"ROUND([3]ResourceLevelConfig!$H103*0.05,0)","v":7},299]
[100,{"$f":"ROUND([3]ResourceLevelConfig!$E104*0.05,0)","v":14},{"$f":"ROUND([3]ResourceLevelConfig!$C104*0.05,0)","v":135},{"$f":"ROUND([3]ResourceLevelConfig!$G104*0.05,0)","v":7},{"$f":"ROUND([3]ResourceLevelConfig!$H104*0.05,0)","v":7},300]
[101,{"$f":"ROUND([3]ResourceLevelConfig!$E105*0.05,0)","v":14},{"$f":"ROUND([3]ResourceLevelConfig!$C105*0.05,0)","v":136},{"$f":"ROUND([3]ResourceLevelConfig!$G105*0.05,0)","v":8},{"$f":"ROUND([3]ResourceLevelConfig!$H105*0.05,0)","v":8},301]
[102,{"$f":"ROUND([3]ResourceLevelConfig!$E106*0.05,0)","v":14},{"$f":"ROUND([3]ResourceLevelConfig!$C106*0.05,0)","v":138},{"$f":"ROUND([3]ResourceLevelConfig!$G106*0.05,0)","v":8},{"$f":"ROUND([3]ResourceLevelConfig!$H106*0.05,0)","v":8},302]
[103,{"$f":"ROUND([3]ResourceLevelConfig!$E107*0.05,0)","v":14},{"$f":"ROUND([3]ResourceLevelConfig!$C107*0.05,0)","v":139},{"$f":"ROUND([3]ResourceLevelConfig!$G107*0.05,0)","v":8},{"$f":"ROUND([3]ResourceLevelConfig!$H107*0.05,0)","v":8},303]
[104,{"$f":"ROUND([3]ResourceLevelConfig!$E108*0.05,0)","v":14},{"$f":"ROUND([3]ResourceLevelConfig!$C108*0.05,0)","v":140},{"$f":"ROUND([3]ResourceLevelConfig!$G108*0.05,0)","v":8},{"$f":"ROUND([3]ResourceLevelConfig!$H108*0.05,0)","v":8},304]
[105,{"$f":"ROUND([3]ResourceLevelConfig!$E109*0.05,0)","v":14},{"$f":"ROUND([3]ResourceLevelConfig!$C109*0.05,0)","v":142},{"$f":"ROUND([3]ResourceLevelConfig!$G109*0.05,0)","v":8},{"$f":"ROUND([3]ResourceLevelConfig!$H109*0.05,0)","v":8},305]
[106,{"$f":"ROUND([3]ResourceLevelConfig!$E110*0.05,0)","v":15},{"$f":"ROUND([3]ResourceLevelConfig!$C110*0.05,0)","v":143},{"$f":"ROUND([3]ResourceLevelConfig!$G110*0.05,0)","v":8},{"$f":"ROUND([3]ResourceLevelConfig!$H110*0.05,0)","v":8},306]
[107,{"$f":"ROUND([3]ResourceLevelConfig!$E111*0.05,0)","v":15},{"$f":"ROUND([3]ResourceLevelConfig!$C111*0.05,0)","v":145},{"$f":"ROUND([3]ResourceLevelConfig!$G111*0.05,0)","v":8},{"$f":"ROUND([3]ResourceLevelConfig!$H111*0.05,0)","v":8},307]
[108,{"$f":"ROUND([3]ResourceLevelConfig!$E112*0.05,0)","v":15},{"$f":"ROUND([3]ResourceLevelConfig!$C112*0.05,0)","v":146},{"$f":"ROUND([3]ResourceLevelConfig!$G112*0.05,0)","v":8},{"$f":"ROUND([3]ResourceLevelConfig!$H112*0.05,0)","v":8},308]
[109,{"$f":"ROUND([3]ResourceLevelConfig!$E113*0.05,0)","v":15},{"$f":"ROUND([3]ResourceLevelConfig!$C113*0.05,0)","v":148},{"$f":"ROUND([3]ResourceLevelConfig!$G113*0.05,0)","v":8},{"$f":"ROUND([3]ResourceLevelConfig!$H113*0.05,0)","v":8},309]
[110,{"$f":"ROUND([3]ResourceLevelConfig!$E114*0.05,0)","v":15},{"$f":"ROUND([3]ResourceLevelConfig!$C114*0.05,0)","v":149},{"$f":"ROUND([3]ResourceLevelConfig!$G114*0.05,0)","v":8},{"$f":"ROUND([3]ResourceLevelConfig!$H114*0.05,0)","v":8},310]
[111,{"$f":"ROUND([3]ResourceLevelConfig!$E115*0.05,0)","v":15},{"$f":"ROUND([3]ResourceLevelConfig!$C115*0.05,0)","v":151},{"$f":"ROUND([3]ResourceLevelConfig!$G115*0.05,0)","v":8},{"$f":"ROUND([3]ResourceLevelConfig!$H115*0.05,0)","v":8},311]
[112,{"$f":"ROUND([3]ResourceLevelConfig!$E116*0.05,0)","v":15},{"$f":"ROUND([3]ResourceLevelConfig!$C116*0.05,0)","v":152},{"$f":"ROUND([3]ResourceLevelConfig!$G116*0.05,0)","v":8},{"$f":"ROUND([3]ResourceLevelConfig!$H116*0.05,0)","v":8},312]
[113,{"$f":"ROUND([3]ResourceLevelConfig!$E117*0.05,0)","v":16},{"$f":"ROUND([3]ResourceLevelConfig!$C117*0.05,0)","v":154},{"$f":"ROUND([3]ResourceLevelConfig!$G117*0.05,0)","v":8},{"$f":"ROUND([3]ResourceLevelConfig!$H117*0.05,0)","v":8},313]
[114,{"$f":"ROUND([3]ResourceLevelConfig!$E118*0.05,0)","v":16},{"$f":"ROUND([3]ResourceLevelConfig!$C118*0.05,0)","v":155},{"$f":"ROUND([3]ResourceLevelConfig!$G118*0.05,0)","v":8},{"$f":"ROUND([3]ResourceLevelConfig!$H118*0.05,0)","v":8},314]
[115,{"$f":"ROUND([3]ResourceLevelConfig!$E119*0.05,0)","v":16},{"$f":"ROUND([3]ResourceLevelConfig!$C119*0.05,0)","v":157},{"$f":"ROUND([3]ResourceLevelConfig!$G119*0.05,0)","v":8},{"$f":"ROUND([3]ResourceLevelConfig!$H119*0.05,0)","v":8},315]
[116,{"$f":"ROUND([3]ResourceLevelConfig!$E120*0.05,0)","v":16},{"$f":"ROUND([3]ResourceLevelConfig!$C120*0.05,0)","v":158},{"$f":"ROUND([3]ResourceLevelConfig!$G120*0.05,0)","v":8},{"$f":"ROUND([3]ResourceLevelConfig!$H120*0.05,0)","v":8},316]
[117,{"$f":"ROUND([3]ResourceLevelConfig!$E121*0.05,0)","v":16},{"$f":"ROUND([3]ResourceLevelConfig!$C121*0.05,0)","v":160},{"$f":"ROUND([3]ResourceLevelConfig!$G121*0.05,0)","v":8},{"$f":"ROUND([3]ResourceLevelConfig!$H121*0.05,0)","v":8},317]
[118,{"$f":"ROUND([3]ResourceLevelConfig!$E122*0.05,0)","v":16},{"$f":"ROUND([3]ResourceLevelConfig!$C122*0.05,0)","v":161},{"$f":"ROUND([3]ResourceLevelConfig!$G122*0.05,0)","v":8},{"$f":"ROUND([3]ResourceLevelConfig!$H122*0.05,0)","v":8},318]
[119,{"$f":"ROUND([3]ResourceLevelConfig!$E123*0.05,0)","v":17},{"$f":"ROUND([3]ResourceLevelConfig!$C123*0.05,0)","v":163},{"$f":"ROUND([3]ResourceLevelConfig!$G123*0.05,0)","v":8},{"$f":"ROUND([3]ResourceLevelConfig!$H123*0.05,0)","v":8},319]
[120,{"$f":"ROUND([3]ResourceLevelConfig!$E124*0.05,0)","v":17},{"$f":"ROUND([3]ResourceLevelConfig!$C124*0.05,0)","v":165},{"$f":"ROUND([3]ResourceLevelConfig!$G124*0.05,0)","v":8},{"$f":"ROUND([3]ResourceLevelConfig!$H124*0.05,0)","v":8},320]
[121,{"$f":"ROUND([3]ResourceLevelConfig!$E125*0.05,0)","v":17},{"$f":"ROUND([3]ResourceLevelConfig!$C125*0.05,0)","v":166},{"$f":"ROUND([3]ResourceLevelConfig!$G125*0.05,0)","v":9},{"$f":"ROUND([3]ResourceLevelConfig!$H125*0.05,0)","v":9},321]
[122,{"$f":"ROUND([3]ResourceLevelConfig!$E126*0.05,0)","v":17},{"$f":"ROUND([3]ResourceLevelConfig!$C126*0.05,0)","v":168},{"$f":"ROUND([3]ResourceLevelConfig!$G126*0.05,0)","v":9},{"$f":"ROUND([3]ResourceLevelConfig!$H126*0.05,0)","v":9},322]
[123,{"$f":"ROUND([3]ResourceLevelConfig!$E127*0.05,0)","v":17},{"$f":"ROUND([3]ResourceLevelConfig!$C127*0.05,0)","v":170},{"$f":"ROUND([3]ResourceLevelConfig!$G127*0.05,0)","v":9},{"$f":"ROUND([3]ResourceLevelConfig!$H127*0.05,0)","v":9},323]
[124,{"$f":"ROUND([3]ResourceLevelConfig!$E128*0.05,0)","v":17},{"$f":"ROUND([3]ResourceLevelConfig!$C128*0.05,0)","v":171},{"$f":"ROUND([3]ResourceLevelConfig!$G128*0.05,0)","v":9},{"$f":"ROUND([3]ResourceLevelConfig!$H128*0.05,0)","v":9},324]
[125,{"$f":"ROUND([3]ResourceLevelConfig!$E129*0.05,0)","v":18},{"$f":"ROUND([3]ResourceLevelConfig!$C129*0.05,0)","v":173},{"$f":"ROUND([3]ResourceLevelConfig!$G129*0.05,0)","v":9},{"$f":"ROUND([3]ResourceLevelConfig!$H129*0.05,0)","v":9},325]
[126,{"$f":"ROUND([3]ResourceLevelConfig!$E130*0.05,0)","v":18},{"$f":"ROUND([3]ResourceLevelConfig!$C130*0.05,0)","v":175},{"$f":"ROUND([3]ResourceLevelConfig!$G130*0.05,0)","v":9},{"$f":"ROUND([3]ResourceLevelConfig!$H130*0.05,0)","v":9},326]
[127,{"$f":"ROUND([3]ResourceLevelConfig!$E131*0.05,0)","v":18},{"$f":"ROUND([3]ResourceLevelConfig!$C131*0.05,0)","v":177},{"$f":"ROUND([3]ResourceLevelConfig!$G131*0.05,0)","v":9},{"$f":"ROUND([3]ResourceLevelConfig!$H131*0.05,0)","v":9},327]
[128,{"$f":"ROUND([3]ResourceLevelConfig!$E132*0.05,0)","v":18},{"$f":"ROUND([3]ResourceLevelConfig!$C132*0.05,0)","v":179},{"$f":"ROUND([3]ResourceLevelConfig!$G132*0.05,0)","v":9},{"$f":"ROUND([3]ResourceLevelConfig!$H132*0.05,0)","v":9},328]
[129,{"$f":"ROUND([3]ResourceLevelConfig!$E133*0.05,0)","v":18},{"$f":"ROUND([3]ResourceLevelConfig!$C133*0.05,0)","v":180},{"$f":"ROUND([3]ResourceLevelConfig!$G133*0.05,0)","v":9},{"$f":"ROUND([3]ResourceLevelConfig!$H133*0.05,0)","v":9},329]
[130,{"$f":"ROUND([3]ResourceLevelConfig!$E134*0.05,0)","v":18},{"$f":"ROUND([3]ResourceLevelConfig!$C134*0.05,0)","v":182},{"$f":"ROUND([3]ResourceLevelConfig!$G134*0.05,0)","v":9},{"$f":"ROUND([3]ResourceLevelConfig!$H134*0.05,0)","v":9},330]
[131,{"$f":"ROUND([3]ResourceLevelConfig!$E135*0.05,0)","v":19},{"$f":"ROUND([3]ResourceLevelConfig!$C135*0.05,0)","v":184},{"$f":"ROUND([3]ResourceLevelConfig!$G135*0.05,0)","v":9},{"$f":"ROUND([3]ResourceLevelConfig!$H135*0.05,0)","v":9},331]
[132,{"$f":"ROUND([3]ResourceLevelConfig!$E136*0.05,0)","v":19},{"$f":"ROUND([3]ResourceLevelConfig!$C136*0.05,0)","v":186},{"$f":"ROUND([3]ResourceLevelConfig!$G136*0.05,0)","v":10},{"$f":"ROUND([3]ResourceLevelConfig!$H136*0.05,0)","v":10},332]
[133,{"$f":"ROUND([3]ResourceLevelConfig!$E137*0.05,0)","v":19},{"$f":"ROUND([3]ResourceLevelConfig!$C137*0.05,0)","v":188},{"$f":"ROUND([3]ResourceLevelConfig!$G137*0.05,0)","v":10},{"$f":"ROUND([3]ResourceLevelConfig!$H137*0.05,0)","v":10},333]
[134,{"$f":"ROUND([3]ResourceLevelConfig!$E138*0.05,0)","v":19},{"$f":"ROUND([3]ResourceLevelConfig!$C138*0.05,0)","v":190},{"$f":"ROUND([3]ResourceLevelConfig!$G138*0.05,0)","v":10},{"$f":"ROUND([3]ResourceLevelConfig!$H138*0.05,0)","v":10},334]
[135,{"$f":"ROUND([3]ResourceLevelConfig!$E139*0.05,0)","v":19},{"$f":"ROUND([3]ResourceLevelConfig!$C139*0.05,0)","v":191},{"$f":"ROUND([3]ResourceLevelConfig!$G139*0.05,0)","v":10},{"$f":"ROUND([3]ResourceLevelConfig!$H139*0.05,0)","v":10},335]
[136,{"$f":"ROUND([3]ResourceLevelConfig!$E140*0.05,0)","v":20},{"$f":"ROUND([3]ResourceLevelConfig!$C140*0.05,0)","v":193},{"$f":"ROUND([3]ResourceLevelConfig!$G140*0.05,0)","v":10},{"$f":"ROUND([3]ResourceLevelConfig!$H140*0.05,0)","v":10},336]
[137,{"$f":"ROUND([3]ResourceLevelConfig!$E141*0.05,0)","v":20},{"$f":"ROUND([3]ResourceLevelConfig!$C141*0.05,0)","v":195},{"$f":"ROUND([3]ResourceLevelConfig!$G141*0.05,0)","v":10},{"$f":"ROUND([3]ResourceLevelConfig!$H141*0.05,0)","v":10},337]
[138,{"$f":"ROUND([3]ResourceLevelConfig!$E142*0.05,0)","v":20},{"$f":"ROUND([3]ResourceLevelConfig!$C142*0.05,0)","v":197},{"$f":"ROUND([3]ResourceLevelConfig!$G142*0.05,0)","v":10},{"$f":"ROUND([3]ResourceLevelConfig!$H142*0.05,0)","v":10},338]
[139,{"$f":"ROUND([3]ResourceLevelConfig!$E143*0.05,0)","v":20},{"$f":"ROUND([3]ResourceLevelConfig!$C143*0.05,0)","v":199},{"$f":"ROUND([3]ResourceLevelConfig!$G143*0.05,0)","v":10},{"$f":"ROUND([3]ResourceLevelConfig!$H143*0.05,0)","v":10},339]
[140,{"$f":"ROUND([3]ResourceLevelConfig!$E144*0.05,0)","v":20},{"$f":"ROUND([3]ResourceLevelConfig!$C144*0.05,0)","v":201},{"$f":"ROUND([3]ResourceLevelConfig!$G144*0.05,0)","v":10},{"$f":"ROUND([3]ResourceLevelConfig!$H144*0.05,0)","v":10},340]
[141,{"$f":"ROUND([3]ResourceLevelConfig!$E145*0.05,0)","v":21},{"$f":"ROUND([3]ResourceLevelConfig!$C145*0.05,0)","v":203},{"$f":"ROUND([3]ResourceLevelConfig!$G145*0.05,0)","v":10},{"$f":"ROUND([3]ResourceLevelConfig!$H145*0.05,0)","v":10},341]
[142,{"$f":"ROUND([3]ResourceLevelConfig!$E146*0.05,0)","v":21},{"$f":"ROUND([3]ResourceLevelConfig!$C146*0.05,0)","v":205},{"$f":"ROUND([3]ResourceLevelConfig!$G146*0.05,0)","v":11},{"$f":"ROUND([3]ResourceLevelConfig!$H146*0.05,0)","v":11},342]
[143,{"$f":"ROUND([3]ResourceLevelConfig!$E147*0.05,0)","v":21},{"$f":"ROUND([3]ResourceLevelConfig!$C147*0.05,0)","v":207},{"$f":"ROUND([3]ResourceLevelConfig!$G147*0.05,0)","v":11},{"$f":"ROUND([3]ResourceLevelConfig!$H147*0.05,0)","v":11},343]
[144,{"$f":"ROUND([3]ResourceLevelConfig!$E148*0.05,0)","v":21},{"$f":"ROUND([3]ResourceLevelConfig!$C148*0.05,0)","v":210},{"$f":"ROUND([3]ResourceLevelConfig!$G148*0.05,0)","v":11},{"$f":"ROUND([3]ResourceLevelConfig!$H148*0.05,0)","v":11},344]
[145,{"$f":"ROUND([3]ResourceLevelConfig!$E149*0.05,0)","v":21},{"$f":"ROUND([3]ResourceLevelConfig!$C149*0.05,0)","v":212},{"$f":"ROUND([3]ResourceLevelConfig!$G149*0.05,0)","v":11},{"$f":"ROUND([3]ResourceLevelConfig!$H149*0.05,0)","v":11},345]
[146,{"$f":"ROUND([3]ResourceLevelConfig!$E150*0.05,0)","v":22},{"$f":"ROUND([3]ResourceLevelConfig!$C150*0.05,0)","v":214},{"$f":"ROUND([3]ResourceLevelConfig!$G150*0.05,0)","v":11},{"$f":"ROUND([3]ResourceLevelConfig!$H150*0.05,0)","v":11},346]
[147,{"$f":"ROUND([3]ResourceLevelConfig!$E151*0.05,0)","v":22},{"$f":"ROUND([3]ResourceLevelConfig!$C151*0.05,0)","v":216},{"$f":"ROUND([3]ResourceLevelConfig!$G151*0.05,0)","v":11},{"$f":"ROUND([3]ResourceLevelConfig!$H151*0.05,0)","v":11},347]
[148,{"$f":"ROUND([3]ResourceLevelConfig!$E152*0.05,0)","v":22},{"$f":"ROUND([3]ResourceLevelConfig!$C152*0.05,0)","v":218},{"$f":"ROUND([3]ResourceLevelConfig!$G152*0.05,0)","v":11},{"$f":"ROUND([3]ResourceLevelConfig!$H152*0.05,0)","v":11},348]
[149,{"$f":"ROUND([3]ResourceLevelConfig!$E153*0.05,0)","v":22},{"$f":"ROUND([3]ResourceLevelConfig!$C153*0.05,0)","v":220},{"$f":"ROUND([3]ResourceLevelConfig!$G153*0.05,0)","v":11},{"$f":"ROUND([3]ResourceLevelConfig!$H153*0.05,0)","v":11},349]
[150,{"$f":"ROUND([3]ResourceLevelConfig!$E154*0.05,0)","v":22},{"$f":"ROUND([3]ResourceLevelConfig!$C154*0.05,0)","v":223},{"$f":"ROUND([3]ResourceLevelConfig!$G154*0.05,0)","v":11},{"$f":"ROUND([3]ResourceLevelConfig!$H154*0.05,0)","v":11},350]
[151,{"$f":"ROUND([3]ResourceLevelConfig!$E155*0.05,0)","v":23},{"$f":"ROUND([3]ResourceLevelConfig!$C155*0.05,0)","v":225},{"$f":"ROUND([3]ResourceLevelConfig!$G155*0.05,0)","v":11},{"$f":"ROUND([3]ResourceLevelConfig!$H155*0.05,0)","v":11},351]
[152,{"$f":"ROUND([3]ResourceLevelConfig!$E156*0.05,0)","v":23},{"$f":"ROUND([3]ResourceLevelConfig!$C156*0.05,0)","v":227},{"$f":"ROUND([3]ResourceLevelConfig!$G156*0.05,0)","v":12},{"$f":"ROUND([3]ResourceLevelConfig!$H156*0.05,0)","v":12},352]
[153,{"$f":"ROUND([3]ResourceLevelConfig!$E157*0.05,0)","v":23},{"$f":"ROUND([3]ResourceLevelConfig!$C157*0.05,0)","v":229},{"$f":"ROUND([3]ResourceLevelConfig!$G157*0.05,0)","v":12},{"$f":"ROUND([3]ResourceLevelConfig!$H157*0.05,0)","v":12},353]
[154,{"$f":"ROUND([3]ResourceLevelConfig!$E158*0.05,0)","v":23},{"$f":"ROUND([3]ResourceLevelConfig!$C158*0.05,0)","v":232},{"$f":"ROUND([3]ResourceLevelConfig!$G158*0.05,0)","v":12},{"$f":"ROUND([3]ResourceLevelConfig!$H158*0.05,0)","v":12},354]
[155,{"$f":"ROUND([3]ResourceLevelConfig!$E159*0.05,0)","v":24},{"$f":"ROUND([3]ResourceLevelConfig!$C159*0.05,0)","v":234},{"$f":"ROUND([3]ResourceLevelConfig!$G159*0.05,0)","v":12},{"$f":"ROUND([3]ResourceLevelConfig!$H159*0.05,0)","v":12},355]
[156,{"$f":"ROUND([3]ResourceLevelConfig!$E160*0.05,0)","v":24},{"$f":"ROUND([3]ResourceLevelConfig!$C160*0.05,0)","v":236},{"$f":"ROUND([3]ResourceLevelConfig!$G160*0.05,0)","v":12},{"$f":"ROUND([3]ResourceLevelConfig!$H160*0.05,0)","v":12},356]
[157,{"$f":"ROUND([3]ResourceLevelConfig!$E161*0.05,0)","v":24},{"$f":"ROUND([3]ResourceLevelConfig!$C161*0.05,0)","v":239},{"$f":"ROUND([3]ResourceLevelConfig!$G161*0.05,0)","v":12},{"$f":"ROUND([3]ResourceLevelConfig!$H161*0.05,0)","v":12},357]
[158,{"$f":"ROUND([3]ResourceLevelConfig!$E162*0.05,0)","v":24},{"$f":"ROUND([3]ResourceLevelConfig!$C162*0.05,0)","v":241},{"$f":"ROUND([3]ResourceLevelConfig!$G162*0.05,0)","v":12},{"$f":"ROUND([3]ResourceLevelConfig!$H162*0.05,0)","v":12},358]
[159,{"$f":"ROUND([3]ResourceLevelConfig!$E163*0.05,0)","v":25},{"$f":"ROUND([3]ResourceLevelConfig!$C163*0.05,0)","v":244},{"$f":"ROUND([3]ResourceLevelConfig!$G163*0.05,0)","v":12},{"$f":"ROUND([3]ResourceLevelConfig!$H163*0.05,0)","v":12},359]
[160,{"$f":"ROUND([3]ResourceLevelConfig!$E164*0.05,0)","v":25},{"$f":"ROUND([3]ResourceLevelConfig!$C164*0.05,0)","v":246},{"$f":"ROUND([3]ResourceLevelConfig!$G164*0.05,0)","v":12},{"$f":"ROUND([3]ResourceLevelConfig!$H164*0.05,0)","v":12},360]
[161,{"$f":"ROUND([3]ResourceLevelConfig!$E165*0.05,0)","v":25},{"$f":"ROUND([3]ResourceLevelConfig!$C165*0.05,0)","v":248},{"$f":"ROUND([3]ResourceLevelConfig!$G165*0.05,0)","v":12},{"$f":"ROUND([3]ResourceLevelConfig!$H165*0.05,0)","v":12},361]
[162,{"$f":"ROUND([3]ResourceLevelConfig!$E166*0.05,0)","v":25},{"$f":"ROUND([3]ResourceLevelConfig!$C166*0.05,0)","v":251},{"$f":"ROUND([3]ResourceLevelConfig!$G166*0.05,0)","v":13},{"$f":"ROUND([3]ResourceLevelConfig!$H166*0.05,0)","v":13},362]
[163,{"$f":"ROUND([3]ResourceLevelConfig!$E167*0.05,0)","v":26},{"$f":"ROUND([3]ResourceLevelConfig!$C167*0.05,0)","v":253},{"$f":"ROUND([3]ResourceLevelConfig!$G167*0.05,0)","v":13},{"$f":"ROUND([3]ResourceLevelConfig!$H167*0.05,0)","v":13},363]
[164,{"$f":"ROUND([3]ResourceLevelConfig!$E168*0.05,0)","v":26},{"$f":"ROUND([3]ResourceLevelConfig!$C168*0.05,0)","v":256},{"$f":"ROUND([3]ResourceLevelConfig!$G168*0.05,0)","v":13},{"$f":"ROUND([3]ResourceLevelConfig!$H168*0.05,0)","v":13},364]
[165,{"$f":"ROUND([3]ResourceLevelConfig!$E169*0.05,0)","v":26},{"$f":"ROUND([3]ResourceLevelConfig!$C169*0.05,0)","v":259},{"$f":"ROUND([3]ResourceLevelConfig!$G169*0.05,0)","v":13},{"$f":"ROUND([3]ResourceLevelConfig!$H169*0.05,0)","v":13},365]
[166,{"$f":"ROUND([3]ResourceLevelConfig!$E170*0.05,0)","v":26},{"$f":"ROUND([3]ResourceLevelConfig!$C170*0.05,0)","v":261},{"$f":"ROUND([3]ResourceLevelConfig!$G170*0.05,0)","v":13},{"$f":"ROUND([3]ResourceLevelConfig!$H170*0.05,0)","v":13},366]
[167,{"$f":"ROUND([3]ResourceLevelConfig!$E171*0.05,0)","v":27},{"$f":"ROUND([3]ResourceLevelConfig!$C171*0.05,0)","v":264},{"$f":"ROUND([3]ResourceLevelConfig!$G171*0.05,0)","v":13},{"$f":"ROUND([3]ResourceLevelConfig!$H171*0.05,0)","v":13},367]
[168,{"$f":"ROUND([3]ResourceLevelConfig!$E172*0.05,0)","v":27},{"$f":"ROUND([3]ResourceLevelConfig!$C172*0.05,0)","v":266},{"$f":"ROUND([3]ResourceLevelConfig!$G172*0.05,0)","v":13},{"$f":"ROUND([3]ResourceLevelConfig!$H172*0.05,0)","v":13},368]
[169,{"$f":"ROUND([3]ResourceLevelConfig!$E173*0.05,0)","v":27},{"$f":"ROUND([3]ResourceLevelConfig!$C173*0.05,0)","v":269},{"$f":"ROUND([3]ResourceLevelConfig!$G173*0.05,0)","v":13},{"$f":"ROUND([3]ResourceLevelConfig!$H173*0.05,0)","v":13},369]
[170,{"$f":"ROUND([3]ResourceLevelConfig!$E174*0.05,0)","v":27},{"$f":"ROUND([3]ResourceLevelConfig!$C174*0.05,0)","v":272},{"$f":"ROUND([3]ResourceLevelConfig!$G174*0.05,0)","v":13},{"$f":"ROUND([3]ResourceLevelConfig!$H174*0.05,0)","v":13},370]
[171,{"$f":"ROUND([3]ResourceLevelConfig!$E175*0.05,0)","v":28},{"$f":"ROUND([3]ResourceLevelConfig!$C175*0.05,0)","v":275},{"$f":"ROUND([3]ResourceLevelConfig!$G175*0.05,0)","v":13},{"$f":"ROUND([3]ResourceLevelConfig!$H175*0.05,0)","v":13},371]
[172,{"$f":"ROUND([3]ResourceLevelConfig!$E176*0.05,0)","v":28},{"$f":"ROUND([3]ResourceLevelConfig!$C176*0.05,0)","v":277},{"$f":"ROUND([3]ResourceLevelConfig!$G176*0.05,0)","v":14},{"$f":"ROUND([3]ResourceLevelConfig!$H176*0.05,0)","v":14},372]
[173,{"$f":"ROUND([3]ResourceLevelConfig!$E177*0.05,0)","v":28},{"$f":"ROUND([3]ResourceLevelConfig!$C177*0.05,0)","v":280},{"$f":"ROUND([3]ResourceLevelConfig!$G177*0.05,0)","v":14},{"$f":"ROUND([3]ResourceLevelConfig!$H177*0.05,0)","v":14},373]
[174,{"$f":"ROUND([3]ResourceLevelConfig!$E178*0.05,0)","v":29},{"$f":"ROUND([3]ResourceLevelConfig!$C178*0.05,0)","v":283},{"$f":"ROUND([3]ResourceLevelConfig!$G178*0.05,0)","v":14},{"$f":"ROUND([3]ResourceLevelConfig!$H178*0.05,0)","v":14},374]
[175,{"$f":"ROUND([3]ResourceLevelConfig!$E179*0.05,0)","v":29},{"$f":"ROUND([3]ResourceLevelConfig!$C179*0.05,0)","v":286},{"$f":"ROUND([3]ResourceLevelConfig!$G179*0.05,0)","v":14},{"$f":"ROUND([3]ResourceLevelConfig!$H179*0.05,0)","v":14},375]
[176,{"$f":"ROUND([3]ResourceLevelConfig!$E180*0.05,0)","v":29},{"$f":"ROUND([3]ResourceLevelConfig!$C180*0.05,0)","v":289},{"$f":"ROUND([3]ResourceLevelConfig!$G180*0.05,0)","v":14},{"$f":"ROUND([3]ResourceLevelConfig!$H180*0.05,0)","v":14},376]
[177,{"$f":"ROUND([3]ResourceLevelConfig!$E181*0.05,0)","v":29},{"$f":"ROUND([3]ResourceLevelConfig!$C181*0.05,0)","v":292},{"$f":"ROUND([3]ResourceLevelConfig!$G181*0.05,0)","v":14},{"$f":"ROUND([3]ResourceLevelConfig!$H181*0.05,0)","v":14},377]
[178,{"$f":"ROUND([3]ResourceLevelConfig!$E182*0.05,0)","v":30},{"$f":"ROUND([3]ResourceLevelConfig!$C182*0.05,0)","v":295},{"$f":"ROUND([3]ResourceLevelConfig!$G182*0.05,0)","v":14},{"$f":"ROUND([3]ResourceLevelConfig!$H182*0.05,0)","v":14},378]
[179,{"$f":"ROUND([3]ResourceLevelConfig!$E183*0.05,0)","v":30},{"$f":"ROUND([3]ResourceLevelConfig!$C183*0.05,0)","v":298},{"$f":"ROUND([3]ResourceLevelConfig!$G183*0.05,0)","v":14},{"$f":"ROUND([3]ResourceLevelConfig!$H183*0.05,0)","v":14},379]
[180,{"$f":"ROUND([3]ResourceLevelConfig!$E184*0.05,0)","v":30},{"$f":"ROUND([3]ResourceLevelConfig!$C184*0.05,0)","v":301},{"$f":"ROUND([3]ResourceLevelConfig!$G184*0.05,0)","v":14},{"$f":"ROUND([3]ResourceLevelConfig!$H184*0.05,0)","v":14},380]
[181,{"$f":"ROUND([3]ResourceLevelConfig!$E185*0.05,0)","v":31},{"$f":"ROUND([3]ResourceLevelConfig!$C185*0.05,0)","v":304},{"$f":"ROUND([3]ResourceLevelConfig!$G185*0.05,0)","v":14},{"$f":"ROUND([3]ResourceLevelConfig!$H185*0.05,0)","v":14},381]
[182,{"$f":"ROUND([3]ResourceLevelConfig!$E186*0.05,0)","v":31},{"$f":"ROUND([3]ResourceLevelConfig!$C186*0.05,0)","v":307},{"$f":"ROUND([3]ResourceLevelConfig!$G186*0.05,0)","v":15},{"$f":"ROUND([3]ResourceLevelConfig!$H186*0.05,0)","v":15},382]
[183,{"$f":"ROUND([3]ResourceLevelConfig!$E187*0.05,0)","v":31},{"$f":"ROUND([3]ResourceLevelConfig!$C187*0.05,0)","v":310},{"$f":"ROUND([3]ResourceLevelConfig!$G187*0.05,0)","v":15},{"$f":"ROUND([3]ResourceLevelConfig!$H187*0.05,0)","v":15},383]
[184,{"$f":"ROUND([3]ResourceLevelConfig!$E188*0.05,0)","v":32},{"$f":"ROUND([3]ResourceLevelConfig!$C188*0.05,0)","v":313},{"$f":"ROUND([3]ResourceLevelConfig!$G188*0.05,0)","v":15},{"$f":"ROUND([3]ResourceLevelConfig!$H188*0.05,0)","v":15},384]
[185,{"$f":"ROUND([3]ResourceLevelConfig!$E189*0.05,0)","v":32},{"$f":"ROUND([3]ResourceLevelConfig!$C189*0.05,0)","v":316},{"$f":"ROUND([3]ResourceLevelConfig!$G189*0.05,0)","v":15},{"$f":"ROUND([3]ResourceLevelConfig!$H189*0.05,0)","v":15},385]
[186,{"$f":"ROUND([3]ResourceLevelConfig!$E190*0.05,0)","v":32},{"$f":"ROUND([3]ResourceLevelConfig!$C190*0.05,0)","v":319},{"$f":"ROUND([3]ResourceLevelConfig!$G190*0.05,0)","v":15},{"$f":"ROUND([3]ResourceLevelConfig!$H190*0.05,0)","v":15},386]
[187,{"$f":"ROUND([3]ResourceLevelConfig!$E191*0.05,0)","v":32},{"$f":"ROUND([3]ResourceLevelConfig!$C191*0.05,0)","v":322},{"$f":"ROUND([3]ResourceLevelConfig!$G191*0.05,0)","v":15},{"$f":"ROUND([3]ResourceLevelConfig!$H191*0.05,0)","v":15},387]
[188,{"$f":"ROUND([3]ResourceLevelConfig!$E192*0.05,0)","v":33},{"$f":"ROUND([3]ResourceLevelConfig!$C192*0.05,0)","v":326},{"$f":"ROUND([3]ResourceLevelConfig!$G192*0.05,0)","v":15},{"$f":"ROUND([3]ResourceLevelConfig!$H192*0.05,0)","v":15},388]
[189,{"$f":"ROUND([3]ResourceLevelConfig!$E193*0.05,0)","v":33},{"$f":"ROUND([3]ResourceLevelConfig!$C193*0.05,0)","v":329},{"$f":"ROUND([3]ResourceLevelConfig!$G193*0.05,0)","v":15},{"$f":"ROUND([3]ResourceLevelConfig!$H193*0.05,0)","v":15},389]
[190,{"$f":"ROUND([3]ResourceLevelConfig!$E194*0.05,0)","v":33},{"$f":"ROUND([3]ResourceLevelConfig!$C194*0.05,0)","v":332},{"$f":"ROUND([3]ResourceLevelConfig!$G194*0.05,0)","v":15},{"$f":"ROUND([3]ResourceLevelConfig!$H194*0.05,0)","v":15},390]
[191,{"$f":"ROUND([3]ResourceLevelConfig!$E195*0.05,0)","v":34},{"$f":"ROUND([3]ResourceLevelConfig!$C195*0.05,0)","v":336},{"$f":"ROUND([3]ResourceLevelConfig!$G195*0.05,0)","v":15},{"$f":"ROUND([3]ResourceLevelConfig!$H195*0.05,0)","v":15},391]
[192,{"$f":"ROUND([3]ResourceLevelConfig!$E196*0.05,0)","v":34},{"$f":"ROUND([3]ResourceLevelConfig!$C196*0.05,0)","v":339},{"$f":"ROUND([3]ResourceLevelConfig!$G196*0.05,0)","v":16},{"$f":"ROUND([3]ResourceLevelConfig!$H196*0.05,0)","v":16},392]
[193,{"$f":"ROUND([3]ResourceLevelConfig!$E197*0.05,0)","v":34},{"$f":"ROUND([3]ResourceLevelConfig!$C197*0.05,0)","v":342},{"$f":"ROUND([3]ResourceLevelConfig!$G197*0.05,0)","v":16},{"$f":"ROUND([3]ResourceLevelConfig!$H197*0.05,0)","v":16},393]
[194,{"$f":"ROUND([3]ResourceLevelConfig!$E198*0.05,0)","v":35},{"$f":"ROUND([3]ResourceLevelConfig!$C198*0.05,0)","v":346},{"$f":"ROUND([3]ResourceLevelConfig!$G198*0.05,0)","v":16},{"$f":"ROUND([3]ResourceLevelConfig!$H198*0.05,0)","v":16},394]
[195,{"$f":"ROUND([3]ResourceLevelConfig!$E199*0.05,0)","v":35},{"$f":"ROUND([3]ResourceLevelConfig!$C199*0.05,0)","v":349},{"$f":"ROUND([3]ResourceLevelConfig!$G199*0.05,0)","v":16},{"$f":"ROUND([3]ResourceLevelConfig!$H199*0.05,0)","v":16},395]
[196,{"$f":"ROUND([3]ResourceLevelConfig!$E200*0.05,0)","v":36},{"$f":"ROUND([3]ResourceLevelConfig!$C200*0.05,0)","v":353},{"$f":"ROUND([3]ResourceLevelConfig!$G200*0.05,0)","v":16},{"$f":"ROUND([3]ResourceLevelConfig!$H200*0.05,0)","v":16},396]
[197,{"$f":"ROUND([3]ResourceLevelConfig!$E201*0.05,0)","v":36},{"$f":"ROUND([3]ResourceLevelConfig!$C201*0.05,0)","v":356},{"$f":"ROUND([3]ResourceLevelConfig!$G201*0.05,0)","v":16},{"$f":"ROUND([3]ResourceLevelConfig!$H201*0.05,0)","v":16},397]
[198,{"$f":"ROUND([3]ResourceLevelConfig!$E202*0.05,0)","v":36},{"$f":"ROUND([3]ResourceLevelConfig!$C202*0.05,0)","v":360},{"$f":"ROUND([3]ResourceLevelConfig!$G202*0.05,0)","v":16},{"$f":"ROUND([3]ResourceLevelConfig!$H202*0.05,0)","v":16},398]
[199,{"$f":"ROUND([3]ResourceLevelConfig!$E203*0.05,0)","v":37},{"$f":"ROUND([3]ResourceLevelConfig!$C203*0.05,0)","v":364},{"$f":"ROUND([3]ResourceLevelConfig!$G203*0.05,0)","v":16},{"$f":"ROUND([3]ResourceLevelConfig!$H203*0.05,0)","v":16},399]
[200,{"$f":"ROUND([3]ResourceLevelConfig!$E204*0.05,0)","v":37},{"$f":"ROUND([3]ResourceLevelConfig!$C204*0.05,0)","v":367},{"$f":"ROUND([3]ResourceLevelConfig!$G204*0.05,0)","v":16},{"$f":"ROUND([3]ResourceLevelConfig!$H204*0.05,0)","v":16},400]
[201,{"$f":"ROUND([3]ResourceLevelConfig!$E205*0.05,0)","v":37},{"$f":"ROUND([3]ResourceLevelConfig!$C205*0.05,0)","v":371},{"$f":"ROUND([3]ResourceLevelConfig!$G205*0.05,0)","v":16},{"$f":"ROUND([3]ResourceLevelConfig!$H205*0.05,0)","v":16},401]
[202,{"$f":"ROUND([3]ResourceLevelConfig!$E206*0.05,0)","v":38},{"$f":"ROUND([3]ResourceLevelConfig!$C206*0.05,0)","v":375},{"$f":"ROUND([3]ResourceLevelConfig!$G206*0.05,0)","v":17},{"$f":"ROUND([3]ResourceLevelConfig!$H206*0.05,0)","v":17},402]
[203,{"$f":"ROUND([3]ResourceLevelConfig!$E207*0.05,0)","v":38},{"$f":"ROUND([3]ResourceLevelConfig!$C207*0.05,0)","v":378},{"$f":"ROUND([3]ResourceLevelConfig!$G207*0.05,0)","v":17},{"$f":"ROUND([3]ResourceLevelConfig!$H207*0.05,0)","v":17},403]
[204,{"$f":"ROUND([3]ResourceLevelConfig!$E208*0.05,0)","v":38},{"$f":"ROUND([3]ResourceLevelConfig!$C208*0.05,0)","v":382},{"$f":"ROUND([3]ResourceLevelConfig!$G208*0.05,0)","v":17},{"$f":"ROUND([3]ResourceLevelConfig!$H208*0.05,0)","v":17},404]
[205,{"$f":"ROUND([3]ResourceLevelConfig!$E209*0.05,0)","v":39},{"$f":"ROUND([3]ResourceLevelConfig!$C209*0.05,0)","v":386},{"$f":"ROUND([3]ResourceLevelConfig!$G209*0.05,0)","v":17},{"$f":"ROUND([3]ResourceLevelConfig!$H209*0.05,0)","v":17},405]
[206,{"$f":"ROUND([3]ResourceLevelConfig!$E210*0.05,0)","v":39},{"$f":"ROUND([3]ResourceLevelConfig!$C210*0.05,0)","v":390},{"$f":"ROUND([3]ResourceLevelConfig!$G210*0.05,0)","v":17},{"$f":"ROUND([3]ResourceLevelConfig!$H210*0.05,0)","v":17},406]
[207,{"$f":"ROUND([3]ResourceLevelConfig!$E211*0.05,0)","v":40},{"$f":"ROUND([3]ResourceLevelConfig!$C211*0.05,0)","v":394},{"$f":"ROUND([3]ResourceLevelConfig!$G211*0.05,0)","v":17},{"$f":"ROUND([3]ResourceLevelConfig!$H211*0.05,0)","v":17},407]
[208,{"$f":"ROUND([3]ResourceLevelConfig!$E212*0.05,0)","v":40},{"$f":"ROUND([3]ResourceLevelConfig!$C212*0.05,0)","v":398},{"$f":"ROUND([3]ResourceLevelConfig!$G212*0.05,0)","v":17},{"$f":"ROUND([3]ResourceLevelConfig!$H212*0.05,0)","v":17},408]
[209,{"$f":"ROUND([3]ResourceLevelConfig!$E213*0.05,0)","v":40},{"$f":"ROUND([3]ResourceLevelConfig!$C213*0.05,0)","v":402},{"$f":"ROUND([3]ResourceLevelConfig!$G213*0.05,0)","v":17},{"$f":"ROUND([3]ResourceLevelConfig!$H213*0.05,0)","v":17},409]
[210,{"$f":"ROUND([3]ResourceLevelConfig!$E214*0.05,0)","v":41},{"$f":"ROUND([3]ResourceLevelConfig!$C214*0.05,0)","v":406},{"$f":"ROUND([3]ResourceLevelConfig!$G214*0.05,0)","v":17},{"$f":"ROUND([3]ResourceLevelConfig!$H214*0.05,0)","v":17},410]
[211,{"$f":"ROUND([3]ResourceLevelConfig!$E215*0.05,0)","v":41},{"$f":"ROUND([3]ResourceLevelConfig!$C215*0.05,0)","v":410},{"$f":"ROUND([3]ResourceLevelConfig!$G215*0.05,0)","v":17},{"$f":"ROUND([3]ResourceLevelConfig!$H215*0.05,0)","v":17},411]
[212,{"$f":"ROUND([3]ResourceLevelConfig!$E216*0.05,0)","v":42},{"$f":"ROUND([3]ResourceLevelConfig!$C216*0.05,0)","v":414},{"$f":"ROUND([3]ResourceLevelConfig!$G216*0.05,0)","v":18},{"$f":"ROUND([3]ResourceLevelConfig!$H216*0.05,0)","v":18},412]
[213,{"$f":"ROUND([3]ResourceLevelConfig!$E217*0.05,0)","v":42},{"$f":"ROUND([3]ResourceLevelConfig!$C217*0.05,0)","v":418},{"$f":"ROUND([3]ResourceLevelConfig!$G217*0.05,0)","v":18},{"$f":"ROUND([3]ResourceLevelConfig!$H217*0.05,0)","v":18},413]
[214,{"$f":"ROUND([3]ResourceLevelConfig!$E218*0.05,0)","v":42},{"$f":"ROUND([3]ResourceLevelConfig!$C218*0.05,0)","v":422},{"$f":"ROUND([3]ResourceLevelConfig!$G218*0.05,0)","v":18},{"$f":"ROUND([3]ResourceLevelConfig!$H218*0.05,0)","v":18},414]
[215,{"$f":"ROUND([3]ResourceLevelConfig!$E219*0.05,0)","v":43},{"$f":"ROUND([3]ResourceLevelConfig!$C219*0.05,0)","v":427},{"$f":"ROUND([3]ResourceLevelConfig!$G219*0.05,0)","v":18},{"$f":"ROUND([3]ResourceLevelConfig!$H219*0.05,0)","v":18},415]
[216,{"$f":"ROUND([3]ResourceLevelConfig!$E220*0.05,0)","v":43},{"$f":"ROUND([3]ResourceLevelConfig!$C220*0.05,0)","v":431},{"$f":"ROUND([3]ResourceLevelConfig!$G220*0.05,0)","v":18},{"$f":"ROUND([3]ResourceLevelConfig!$H220*0.05,0)","v":18},416]
[217,{"$f":"ROUND([3]ResourceLevelConfig!$E221*0.05,0)","v":44},{"$f":"ROUND([3]ResourceLevelConfig!$C221*0.05,0)","v":435},{"$f":"ROUND([3]ResourceLevelConfig!$G221*0.05,0)","v":18},{"$f":"ROUND([3]ResourceLevelConfig!$H221*0.05,0)","v":18},417]
[218,{"$f":"ROUND([3]ResourceLevelConfig!$E222*0.05,0)","v":44},{"$f":"ROUND([3]ResourceLevelConfig!$C222*0.05,0)","v":440},{"$f":"ROUND([3]ResourceLevelConfig!$G222*0.05,0)","v":18},{"$f":"ROUND([3]ResourceLevelConfig!$H222*0.05,0)","v":18},418]
[219,{"$f":"ROUND([3]ResourceLevelConfig!$E223*0.05,0)","v":45},{"$f":"ROUND([3]ResourceLevelConfig!$C223*0.05,0)","v":444},{"$f":"ROUND([3]ResourceLevelConfig!$G223*0.05,0)","v":18},{"$f":"ROUND([3]ResourceLevelConfig!$H223*0.05,0)","v":18},419]
[220,{"$f":"ROUND([3]ResourceLevelConfig!$E224*0.05,0)","v":45},{"$f":"ROUND([3]ResourceLevelConfig!$C224*0.05,0)","v":449},{"$f":"ROUND([3]ResourceLevelConfig!$G224*0.05,0)","v":18},{"$f":"ROUND([3]ResourceLevelConfig!$H224*0.05,0)","v":18},420]
[221,{"$f":"ROUND([3]ResourceLevelConfig!$E225*0.05,0)","v":46},{"$f":"ROUND([3]ResourceLevelConfig!$C225*0.05,0)","v":453},{"$f":"ROUND([3]ResourceLevelConfig!$G225*0.05,0)","v":18},{"$f":"ROUND([3]ResourceLevelConfig!$H225*0.05,0)","v":18},421]
[222,{"$f":"ROUND([3]ResourceLevelConfig!$E226*0.05,0)","v":46},{"$f":"ROUND([3]ResourceLevelConfig!$C226*0.05,0)","v":458},{"$f":"ROUND([3]ResourceLevelConfig!$G226*0.05,0)","v":19},{"$f":"ROUND([3]ResourceLevelConfig!$H226*0.05,0)","v":19},422]
[223,{"$f":"ROUND([3]ResourceLevelConfig!$E227*0.05,0)","v":46},{"$f":"ROUND([3]ResourceLevelConfig!$C227*0.05,0)","v":462},{"$f":"ROUND([3]ResourceLevelConfig!$G227*0.05,0)","v":19},{"$f":"ROUND([3]ResourceLevelConfig!$H227*0.05,0)","v":19},423]
[224,{"$f":"ROUND([3]ResourceLevelConfig!$E228*0.05,0)","v":47},{"$f":"ROUND([3]ResourceLevelConfig!$C228*0.05,0)","v":467},{"$f":"ROUND([3]ResourceLevelConfig!$G228*0.05,0)","v":19},{"$f":"ROUND([3]ResourceLevelConfig!$H228*0.05,0)","v":19},424]
[225,{"$f":"ROUND([3]ResourceLevelConfig!$E229*0.05,0)","v":47},{"$f":"ROUND([3]ResourceLevelConfig!$C229*0.05,0)","v":472},{"$f":"ROUND([3]ResourceLevelConfig!$G229*0.05,0)","v":19},{"$f":"ROUND([3]ResourceLevelConfig!$H229*0.05,0)","v":19},425]
[226,{"$f":"ROUND([3]ResourceLevelConfig!$E230*0.05,0)","v":48},{"$f":"ROUND([3]ResourceLevelConfig!$C230*0.05,0)","v":476},{"$f":"ROUND([3]ResourceLevelConfig!$G230*0.05,0)","v":19},{"$f":"ROUND([3]ResourceLevelConfig!$H230*0.05,0)","v":19},426]
[227,{"$f":"ROUND([3]ResourceLevelConfig!$E231*0.05,0)","v":48},{"$f":"ROUND([3]ResourceLevelConfig!$C231*0.05,0)","v":481},{"$f":"ROUND([3]ResourceLevelConfig!$G231*0.05,0)","v":19},{"$f":"ROUND([3]ResourceLevelConfig!$H231*0.05,0)","v":19},427]
[228,{"$f":"ROUND([3]ResourceLevelConfig!$E232*0.05,0)","v":49},{"$f":"ROUND([3]ResourceLevelConfig!$C232*0.05,0)","v":486},{"$f":"ROUND([3]ResourceLevelConfig!$G232*0.05,0)","v":19},{"$f":"ROUND([3]ResourceLevelConfig!$H232*0.05,0)","v":19},428]
[229,{"$f":"ROUND([3]ResourceLevelConfig!$E233*0.05,0)","v":49},{"$f":"ROUND([3]ResourceLevelConfig!$C233*0.05,0)","v":491},{"$f":"ROUND([3]ResourceLevelConfig!$G233*0.05,0)","v":19},{"$f":"ROUND([3]ResourceLevelConfig!$H233*0.05,0)","v":19},429]
[230,{"$f":"ROUND([3]ResourceLevelConfig!$E234*0.05,0)","v":50},{"$f":"ROUND([3]ResourceLevelConfig!$C234*0.05,0)","v":496},{"$f":"ROUND([3]ResourceLevelConfig!$G234*0.05,0)","v":19},{"$f":"ROUND([3]ResourceLevelConfig!$H234*0.05,0)","v":19},430]
[231,{"$f":"ROUND([3]ResourceLevelConfig!$E235*0.05,0)","v":50},{"$f":"ROUND([3]ResourceLevelConfig!$C235*0.05,0)","v":501},{"$f":"ROUND([3]ResourceLevelConfig!$G235*0.05,0)","v":19},{"$f":"ROUND([3]ResourceLevelConfig!$H235*0.05,0)","v":19},431]
[232,{"$f":"ROUND([3]ResourceLevelConfig!$E236*0.05,0)","v":51},{"$f":"ROUND([3]ResourceLevelConfig!$C236*0.05,0)","v":506},{"$f":"ROUND([3]ResourceLevelConfig!$G236*0.05,0)","v":20},{"$f":"ROUND([3]ResourceLevelConfig!$H236*0.05,0)","v":20},432]
[233,{"$f":"ROUND([3]ResourceLevelConfig!$E237*0.05,0)","v":51},{"$f":"ROUND([3]ResourceLevelConfig!$C237*0.05,0)","v":511},{"$f":"ROUND([3]ResourceLevelConfig!$G237*0.05,0)","v":20},{"$f":"ROUND([3]ResourceLevelConfig!$H237*0.05,0)","v":20},433]
[234,{"$f":"ROUND([3]ResourceLevelConfig!$E238*0.05,0)","v":52},{"$f":"ROUND([3]ResourceLevelConfig!$C238*0.05,0)","v":516},{"$f":"ROUND([3]ResourceLevelConfig!$G238*0.05,0)","v":20},{"$f":"ROUND([3]ResourceLevelConfig!$H238*0.05,0)","v":20},434]
[235,{"$f":"ROUND([3]ResourceLevelConfig!$E239*0.05,0)","v":52},{"$f":"ROUND([3]ResourceLevelConfig!$C239*0.05,0)","v":521},{"$f":"ROUND([3]ResourceLevelConfig!$G239*0.05,0)","v":20},{"$f":"ROUND([3]ResourceLevelConfig!$H239*0.05,0)","v":20},435]
[236,{"$f":"ROUND([3]ResourceLevelConfig!$E240*0.05,0)","v":53},{"$f":"ROUND([3]ResourceLevelConfig!$C240*0.05,0)","v":527},{"$f":"ROUND([3]ResourceLevelConfig!$G240*0.05,0)","v":20},{"$f":"ROUND([3]ResourceLevelConfig!$H240*0.05,0)","v":20},436]
[237,{"$f":"ROUND([3]ResourceLevelConfig!$E241*0.05,0)","v":53},{"$f":"ROUND([3]ResourceLevelConfig!$C241*0.05,0)","v":532},{"$f":"ROUND([3]ResourceLevelConfig!$G241*0.05,0)","v":20},{"$f":"ROUND([3]ResourceLevelConfig!$H241*0.05,0)","v":20},437]
[238,{"$f":"ROUND([3]ResourceLevelConfig!$E242*0.05,0)","v":54},{"$f":"ROUND([3]ResourceLevelConfig!$C242*0.05,0)","v":537},{"$f":"ROUND([3]ResourceLevelConfig!$G242*0.05,0)","v":20},{"$f":"ROUND([3]ResourceLevelConfig!$H242*0.05,0)","v":20},438]
[239,{"$f":"ROUND([3]ResourceLevelConfig!$E243*0.05,0)","v":55},{"$f":"ROUND([3]ResourceLevelConfig!$C243*0.05,0)","v":543},{"$f":"ROUND([3]ResourceLevelConfig!$G243*0.05,0)","v":20},{"$f":"ROUND([3]ResourceLevelConfig!$H243*0.05,0)","v":20},439]
[240,{"$f":"ROUND([3]ResourceLevelConfig!$E244*0.05,0)","v":55},{"$f":"ROUND([3]ResourceLevelConfig!$C244*0.05,0)","v":548},{"$f":"ROUND([3]ResourceLevelConfig!$G244*0.05,0)","v":20},{"$f":"ROUND([3]ResourceLevelConfig!$H244*0.05,0)","v":20},440]
[241,{"$f":"ROUND([3]ResourceLevelConfig!$E245*0.05,0)","v":56},{"$f":"ROUND([3]ResourceLevelConfig!$C245*0.05,0)","v":554},{"$f":"ROUND([3]ResourceLevelConfig!$G245*0.05,0)","v":20},{"$f":"ROUND([3]ResourceLevelConfig!$H245*0.05,0)","v":20},441]
[242,{"$f":"ROUND([3]ResourceLevelConfig!$E246*0.05,0)","v":56},{"$f":"ROUND([3]ResourceLevelConfig!$C246*0.05,0)","v":559},{"$f":"ROUND([3]ResourceLevelConfig!$G246*0.05,0)","v":21},{"$f":"ROUND([3]ResourceLevelConfig!$H246*0.05,0)","v":21},442]
[243,{"$f":"ROUND([3]ResourceLevelConfig!$E247*0.05,0)","v":57},{"$f":"ROUND([3]ResourceLevelConfig!$C247*0.05,0)","v":565},{"$f":"ROUND([3]ResourceLevelConfig!$G247*0.05,0)","v":21},{"$f":"ROUND([3]ResourceLevelConfig!$H247*0.05,0)","v":21},443]
[244,{"$f":"ROUND([3]ResourceLevelConfig!$E248*0.05,0)","v":57},{"$f":"ROUND([3]ResourceLevelConfig!$C248*0.05,0)","v":571},{"$f":"ROUND([3]ResourceLevelConfig!$G248*0.05,0)","v":21},{"$f":"ROUND([3]ResourceLevelConfig!$H248*0.05,0)","v":21},444]
[245,{"$f":"ROUND([3]ResourceLevelConfig!$E249*0.05,0)","v":58},{"$f":"ROUND([3]ResourceLevelConfig!$C249*0.05,0)","v":576},{"$f":"ROUND([3]ResourceLevelConfig!$G249*0.05,0)","v":21},{"$f":"ROUND([3]ResourceLevelConfig!$H249*0.05,0)","v":21},445]
[246,{"$f":"ROUND([3]ResourceLevelConfig!$E250*0.05,0)","v":58},{"$f":"ROUND([3]ResourceLevelConfig!$C250*0.05,0)","v":582},{"$f":"ROUND([3]ResourceLevelConfig!$G250*0.05,0)","v":21},{"$f":"ROUND([3]ResourceLevelConfig!$H250*0.05,0)","v":21},446]
[247,{"$f":"ROUND([3]ResourceLevelConfig!$E251*0.05,0)","v":59},{"$f":"ROUND([3]ResourceLevelConfig!$C251*0.05,0)","v":588},{"$f":"ROUND([3]ResourceLevelConfig!$G251*0.05,0)","v":21},{"$f":"ROUND([3]ResourceLevelConfig!$H251*0.05,0)","v":21},447]
[248,{"$f":"ROUND([3]ResourceLevelConfig!$E252*0.05,0)","v":60},{"$f":"ROUND([3]ResourceLevelConfig!$C252*0.05,0)","v":594},{"$f":"ROUND([3]ResourceLevelConfig!$G252*0.05,0)","v":21},{"$f":"ROUND([3]ResourceLevelConfig!$H252*0.05,0)","v":21},448]
[249,{"$f":"ROUND([3]ResourceLevelConfig!$E253*0.05,0)","v":60},{"$f":"ROUND([3]ResourceLevelConfig!$C253*0.05,0)","v":600},{"$f":"ROUND([3]ResourceLevelConfig!$G253*0.05,0)","v":21},{"$f":"ROUND([3]ResourceLevelConfig!$H253*0.05,0)","v":21},449]
[250,{"$f":"ROUND([3]ResourceLevelConfig!$E254*0.05,0)","v":61},{"$f":"ROUND([3]ResourceLevelConfig!$C254*0.05,0)","v":606},{"$f":"ROUND([3]ResourceLevelConfig!$G254*0.05,0)","v":21},{"$f":"ROUND([3]ResourceLevelConfig!$H254*0.05,0)","v":21},450]
[251,{"$f":"ROUND([3]ResourceLevelConfig!$E255*0.05,0)","v":61},{"$f":"ROUND([3]ResourceLevelConfig!$C255*0.05,0)","v":612},{"$f":"ROUND([3]ResourceLevelConfig!$G255*0.05,0)","v":21},{"$f":"ROUND([3]ResourceLevelConfig!$H255*0.05,0)","v":21},451]
[252,{"$f":"ROUND([3]ResourceLevelConfig!$E256*0.05,0)","v":62},{"$f":"ROUND([3]ResourceLevelConfig!$C256*0.05,0)","v":618},{"$f":"ROUND([3]ResourceLevelConfig!$G256*0.05,0)","v":22},{"$f":"ROUND([3]ResourceLevelConfig!$H256*0.05,0)","v":22},452]
[253,{"$f":"ROUND([3]ResourceLevelConfig!$E257*0.05,0)","v":63},{"$f":"ROUND([3]ResourceLevelConfig!$C257*0.05,0)","v":624},{"$f":"ROUND([3]ResourceLevelConfig!$G257*0.05,0)","v":22},{"$f":"ROUND([3]ResourceLevelConfig!$H257*0.05,0)","v":22},453]
[254,{"$f":"ROUND([3]ResourceLevelConfig!$E258*0.05,0)","v":63},{"$f":"ROUND([3]ResourceLevelConfig!$C258*0.05,0)","v":631},{"$f":"ROUND([3]ResourceLevelConfig!$G258*0.05,0)","v":22},{"$f":"ROUND([3]ResourceLevelConfig!$H258*0.05,0)","v":22},454]
[255,{"$f":"ROUND([3]ResourceLevelConfig!$E259*0.05,0)","v":64},{"$f":"ROUND([3]ResourceLevelConfig!$C259*0.05,0)","v":637},{"$f":"ROUND([3]ResourceLevelConfig!$G259*0.05,0)","v":22},{"$f":"ROUND([3]ResourceLevelConfig!$H259*0.05,0)","v":22},455]
[256,{"$f":"ROUND([3]ResourceLevelConfig!$E260*0.05,0)","v":65},{"$f":"ROUND([3]ResourceLevelConfig!$C260*0.05,0)","v":644},{"$f":"ROUND([3]ResourceLevelConfig!$G260*0.05,0)","v":22},{"$f":"ROUND([3]ResourceLevelConfig!$H260*0.05,0)","v":22},456]
[257,{"$f":"ROUND([3]ResourceLevelConfig!$E261*0.05,0)","v":65},{"$f":"ROUND([3]ResourceLevelConfig!$C261*0.05,0)","v":650},{"$f":"ROUND([3]ResourceLevelConfig!$G261*0.05,0)","v":22},{"$f":"ROUND([3]ResourceLevelConfig!$H261*0.05,0)","v":22},457]
[258,{"$f":"ROUND([3]ResourceLevelConfig!$E262*0.05,0)","v":66},{"$f":"ROUND([3]ResourceLevelConfig!$C262*0.05,0)","v":657},{"$f":"ROUND([3]ResourceLevelConfig!$G262*0.05,0)","v":22},{"$f":"ROUND([3]ResourceLevelConfig!$H262*0.05,0)","v":22},458]
[259,{"$f":"ROUND([3]ResourceLevelConfig!$E263*0.05,0)","v":67},{"$f":"ROUND([3]ResourceLevelConfig!$C263*0.05,0)","v":663},{"$f":"ROUND([3]ResourceLevelConfig!$G263*0.05,0)","v":22},{"$f":"ROUND([3]ResourceLevelConfig!$H263*0.05,0)","v":22},459]
[260,{"$f":"ROUND([3]ResourceLevelConfig!$E264*0.05,0)","v":67},{"$f":"ROUND([3]ResourceLevelConfig!$C264*0.05,0)","v":670},{"$f":"ROUND([3]ResourceLevelConfig!$G264*0.05,0)","v":22},{"$f":"ROUND([3]ResourceLevelConfig!$H264*0.05,0)","v":22},460]
[261,{"$f":"ROUND([3]ResourceLevelConfig!$E265*0.05,0)","v":68},{"$f":"ROUND([3]ResourceLevelConfig!$C265*0.05,0)","v":677},{"$f":"ROUND([3]ResourceLevelConfig!$G265*0.05,0)","v":22},{"$f":"ROUND([3]ResourceLevelConfig!$H265*0.05,0)","v":22},461]
[262,{"$f":"ROUND([3]ResourceLevelConfig!$E266*0.05,0)","v":69},{"$f":"ROUND([3]ResourceLevelConfig!$C266*0.05,0)","v":683},{"$f":"ROUND([3]ResourceLevelConfig!$G266*0.05,0)","v":23},{"$f":"ROUND([3]ResourceLevelConfig!$H266*0.05,0)","v":23},462]
[263,{"$f":"ROUND([3]ResourceLevelConfig!$E267*0.05,0)","v":69},{"$f":"ROUND([3]ResourceLevelConfig!$C267*0.05,0)","v":690},{"$f":"ROUND([3]ResourceLevelConfig!$G267*0.05,0)","v":23},{"$f":"ROUND([3]ResourceLevelConfig!$H267*0.05,0)","v":23},463]
[264,{"$f":"ROUND([3]ResourceLevelConfig!$E268*0.05,0)","v":70},{"$f":"ROUND([3]ResourceLevelConfig!$C268*0.05,0)","v":697},{"$f":"ROUND([3]ResourceLevelConfig!$G268*0.05,0)","v":23},{"$f":"ROUND([3]ResourceLevelConfig!$H268*0.05,0)","v":23},464]
[265,{"$f":"ROUND([3]ResourceLevelConfig!$E269*0.05,0)","v":71},{"$f":"ROUND([3]ResourceLevelConfig!$C269*0.05,0)","v":704},{"$f":"ROUND([3]ResourceLevelConfig!$G269*0.05,0)","v":23},{"$f":"ROUND([3]ResourceLevelConfig!$H269*0.05,0)","v":23},465]
[266,{"$f":"ROUND([3]ResourceLevelConfig!$E270*0.05,0)","v":71},{"$f":"ROUND([3]ResourceLevelConfig!$C270*0.05,0)","v":711},{"$f":"ROUND([3]ResourceLevelConfig!$G270*0.05,0)","v":23},{"$f":"ROUND([3]ResourceLevelConfig!$H270*0.05,0)","v":23},466]
[267,{"$f":"ROUND([3]ResourceLevelConfig!$E271*0.05,0)","v":72},{"$f":"ROUND([3]ResourceLevelConfig!$C271*0.05,0)","v":718},{"$f":"ROUND([3]ResourceLevelConfig!$G271*0.05,0)","v":23},{"$f":"ROUND([3]ResourceLevelConfig!$H271*0.05,0)","v":23},467]
[268,{"$f":"ROUND([3]ResourceLevelConfig!$E272*0.05,0)","v":73},{"$f":"ROUND([3]ResourceLevelConfig!$C272*0.05,0)","v":726},{"$f":"ROUND([3]ResourceLevelConfig!$G272*0.05,0)","v":23},{"$f":"ROUND([3]ResourceLevelConfig!$H272*0.05,0)","v":23},468]
[269,{"$f":"ROUND([3]ResourceLevelConfig!$E273*0.05,0)","v":74},{"$f":"ROUND([3]ResourceLevelConfig!$C273*0.05,0)","v":733},{"$f":"ROUND([3]ResourceLevelConfig!$G273*0.05,0)","v":23},{"$f":"ROUND([3]ResourceLevelConfig!$H273*0.05,0)","v":23},469]
[270,{"$f":"ROUND([3]ResourceLevelConfig!$E274*0.05,0)","v":74},{"$f":"ROUND([3]ResourceLevelConfig!$C274*0.05,0)","v":740},{"$f":"ROUND([3]ResourceLevelConfig!$G274*0.05,0)","v":23},{"$f":"ROUND([3]ResourceLevelConfig!$H274*0.05,0)","v":23},470]
[271,{"$f":"ROUND([3]ResourceLevelConfig!$E275*0.05,0)","v":75},{"$f":"ROUND([3]ResourceLevelConfig!$C275*0.05,0)","v":748},{"$f":"ROUND([3]ResourceLevelConfig!$G275*0.05,0)","v":23},{"$f":"ROUND([3]ResourceLevelConfig!$H275*0.05,0)","v":23},471]
[272,{"$f":"ROUND([3]ResourceLevelConfig!$E276*0.05,0)","v":76},{"$f":"ROUND([3]ResourceLevelConfig!$C276*0.05,0)","v":755},{"$f":"ROUND([3]ResourceLevelConfig!$G276*0.05,0)","v":24},{"$f":"ROUND([3]ResourceLevelConfig!$H276*0.05,0)","v":24},472]
[273,{"$f":"ROUND([3]ResourceLevelConfig!$E277*0.05,0)","v":77},{"$f":"ROUND([3]ResourceLevelConfig!$C277*0.05,0)","v":763},{"$f":"ROUND([3]ResourceLevelConfig!$G277*0.05,0)","v":24},{"$f":"ROUND([3]ResourceLevelConfig!$H277*0.05,0)","v":24},473]
[274,{"$f":"ROUND([3]ResourceLevelConfig!$E278*0.05,0)","v":77},{"$f":"ROUND([3]ResourceLevelConfig!$C278*0.05,0)","v":771},{"$f":"ROUND([3]ResourceLevelConfig!$G278*0.05,0)","v":24},{"$f":"ROUND([3]ResourceLevelConfig!$H278*0.05,0)","v":24},474]
[275,{"$f":"ROUND([3]ResourceLevelConfig!$E279*0.05,0)","v":78},{"$f":"ROUND([3]ResourceLevelConfig!$C279*0.05,0)","v":778},{"$f":"ROUND([3]ResourceLevelConfig!$G279*0.05,0)","v":24},{"$f":"ROUND([3]ResourceLevelConfig!$H279*0.05,0)","v":24},475]
[276,{"$f":"ROUND([3]ResourceLevelConfig!$E280*0.05,0)","v":79},{"$f":"ROUND([3]ResourceLevelConfig!$C280*0.05,0)","v":786},{"$f":"ROUND([3]ResourceLevelConfig!$G280*0.05,0)","v":24},{"$f":"ROUND([3]ResourceLevelConfig!$H280*0.05,0)","v":24},476]
[277,{"$f":"ROUND([3]ResourceLevelConfig!$E281*0.05,0)","v":80},{"$f":"ROUND([3]ResourceLevelConfig!$C281*0.05,0)","v":794},{"$f":"ROUND([3]ResourceLevelConfig!$G281*0.05,0)","v":24},{"$f":"ROUND([3]ResourceLevelConfig!$H281*0.05,0)","v":24},477]
[278,{"$f":"ROUND([3]ResourceLevelConfig!$E282*0.05,0)","v":80},{"$f":"ROUND([3]ResourceLevelConfig!$C282*0.05,0)","v":802},{"$f":"ROUND([3]ResourceLevelConfig!$G282*0.05,0)","v":24},{"$f":"ROUND([3]ResourceLevelConfig!$H282*0.05,0)","v":24},478]
[279,{"$f":"ROUND([3]ResourceLevelConfig!$E283*0.05,0)","v":81},{"$f":"ROUND([3]ResourceLevelConfig!$C283*0.05,0)","v":810},{"$f":"ROUND([3]ResourceLevelConfig!$G283*0.05,0)","v":24},{"$f":"ROUND([3]ResourceLevelConfig!$H283*0.05,0)","v":24},479]
[280,{"$f":"ROUND([3]ResourceLevelConfig!$E284*0.05,0)","v":82},{"$f":"ROUND([3]ResourceLevelConfig!$C284*0.05,0)","v":818},{"$f":"ROUND([3]ResourceLevelConfig!$G284*0.05,0)","v":24},{"$f":"ROUND([3]ResourceLevelConfig!$H284*0.05,0)","v":24},480]
[281,{"$f":"ROUND([3]ResourceLevelConfig!$E285*0.05,0)","v":83},{"$f":"ROUND([3]ResourceLevelConfig!$C285*0.05,0)","v":827},{"$f":"ROUND([3]ResourceLevelConfig!$G285*0.05,0)","v":24},{"$f":"ROUND([3]ResourceLevelConfig!$H285*0.05,0)","v":24},481]
[282,{"$f":"ROUND([3]ResourceLevelConfig!$E286*0.05,0)","v":84},{"$f":"ROUND([3]ResourceLevelConfig!$C286*0.05,0)","v":835},{"$f":"ROUND([3]ResourceLevelConfig!$G286*0.05,0)","v":25},{"$f":"ROUND([3]ResourceLevelConfig!$H286*0.05,0)","v":25},482]
[283,{"$f":"ROUND([3]ResourceLevelConfig!$E287*0.05,0)","v":85},{"$f":"ROUND([3]ResourceLevelConfig!$C287*0.05,0)","v":843},{"$f":"ROUND([3]ResourceLevelConfig!$G287*0.05,0)","v":25},{"$f":"ROUND([3]ResourceLevelConfig!$H287*0.05,0)","v":25},483]
[284,{"$f":"ROUND([3]ResourceLevelConfig!$E288*0.05,0)","v":85},{"$f":"ROUND([3]ResourceLevelConfig!$C288*0.05,0)","v":852},{"$f":"ROUND([3]ResourceLevelConfig!$G288*0.05,0)","v":25},{"$f":"ROUND([3]ResourceLevelConfig!$H288*0.05,0)","v":25},484]
[285,{"$f":"ROUND([3]ResourceLevelConfig!$E289*0.05,0)","v":86},{"$f":"ROUND([3]ResourceLevelConfig!$C289*0.05,0)","v":860},{"$f":"ROUND([3]ResourceLevelConfig!$G289*0.05,0)","v":25},{"$f":"ROUND([3]ResourceLevelConfig!$H289*0.05,0)","v":25},485]
[286,{"$f":"ROUND([3]ResourceLevelConfig!$E290*0.05,0)","v":87},{"$f":"ROUND([3]ResourceLevelConfig!$C290*0.05,0)","v":869},{"$f":"ROUND([3]ResourceLevelConfig!$G290*0.05,0)","v":25},{"$f":"ROUND([3]ResourceLevelConfig!$H290*0.05,0)","v":25},486]
[287,{"$f":"ROUND([3]ResourceLevelConfig!$E291*0.05,0)","v":88},{"$f":"ROUND([3]ResourceLevelConfig!$C291*0.05,0)","v":878},{"$f":"ROUND([3]ResourceLevelConfig!$G291*0.05,0)","v":25},{"$f":"ROUND([3]ResourceLevelConfig!$H291*0.05,0)","v":25},487]
[288,{"$f":"ROUND([3]ResourceLevelConfig!$E292*0.05,0)","v":89},{"$f":"ROUND([3]ResourceLevelConfig!$C292*0.05,0)","v":887},{"$f":"ROUND([3]ResourceLevelConfig!$G292*0.05,0)","v":25},{"$f":"ROUND([3]ResourceLevelConfig!$H292*0.05,0)","v":25},488]
[289,{"$f":"ROUND([3]ResourceLevelConfig!$E293*0.05,0)","v":90},{"$f":"ROUND([3]ResourceLevelConfig!$C293*0.05,0)","v":896},{"$f":"ROUND([3]ResourceLevelConfig!$G293*0.05,0)","v":25},{"$f":"ROUND([3]ResourceLevelConfig!$H293*0.05,0)","v":25},489]
[290,{"$f":"ROUND([3]ResourceLevelConfig!$E294*0.05,0)","v":91},{"$f":"ROUND([3]ResourceLevelConfig!$C294*0.05,0)","v":905},{"$f":"ROUND([3]ResourceLevelConfig!$G294*0.05,0)","v":25},{"$f":"ROUND([3]ResourceLevelConfig!$H294*0.05,0)","v":25},490]
[291,{"$f":"ROUND([3]ResourceLevelConfig!$E295*0.05,0)","v":92},{"$f":"ROUND([3]ResourceLevelConfig!$C295*0.05,0)","v":914},{"$f":"ROUND([3]ResourceLevelConfig!$G295*0.05,0)","v":25},{"$f":"ROUND([3]ResourceLevelConfig!$H295*0.05,0)","v":25},491]
[292,{"$f":"ROUND([3]ResourceLevelConfig!$E296*0.05,0)","v":93},{"$f":"ROUND([3]ResourceLevelConfig!$C296*0.05,0)","v":923},{"$f":"ROUND([3]ResourceLevelConfig!$G296*0.05,0)","v":26},{"$f":"ROUND([3]ResourceLevelConfig!$H296*0.05,0)","v":26},492]
[293,{"$f":"ROUND([3]ResourceLevelConfig!$E297*0.05,0)","v":93},{"$f":"ROUND([3]ResourceLevelConfig!$C297*0.05,0)","v":932},{"$f":"ROUND([3]ResourceLevelConfig!$G297*0.05,0)","v":26},{"$f":"ROUND([3]ResourceLevelConfig!$H297*0.05,0)","v":26},493]
[294,{"$f":"ROUND([3]ResourceLevelConfig!$E298*0.05,0)","v":94},{"$f":"ROUND([3]ResourceLevelConfig!$C298*0.05,0)","v":942},{"$f":"ROUND([3]ResourceLevelConfig!$G298*0.05,0)","v":26},{"$f":"ROUND([3]ResourceLevelConfig!$H298*0.05,0)","v":26},494]
[295,{"$f":"ROUND([3]ResourceLevelConfig!$E299*0.05,0)","v":95},{"$f":"ROUND([3]ResourceLevelConfig!$C299*0.05,0)","v":951},{"$f":"ROUND([3]ResourceLevelConfig!$G299*0.05,0)","v":26},{"$f":"ROUND([3]ResourceLevelConfig!$H299*0.05,0)","v":26},495]
[296,{"$f":"ROUND([3]ResourceLevelConfig!$E300*0.05,0)","v":96},{"$f":"ROUND([3]ResourceLevelConfig!$C300*0.05,0)","v":961},{"$f":"ROUND([3]ResourceLevelConfig!$G300*0.05,0)","v":26},{"$f":"ROUND([3]ResourceLevelConfig!$H300*0.05,0)","v":26},496]
[297,{"$f":"ROUND([3]ResourceLevelConfig!$E301*0.05,0)","v":97},{"$f":"ROUND([3]ResourceLevelConfig!$C301*0.05,0)","v":970},{"$f":"ROUND([3]ResourceLevelConfig!$G301*0.05,0)","v":26},{"$f":"ROUND([3]ResourceLevelConfig!$H301*0.05,0)","v":26},497]
[298,{"$f":"ROUND([3]ResourceLevelConfig!$E302*0.05,0)","v":98},{"$f":"ROUND([3]ResourceLevelConfig!$C302*0.05,0)","v":980},{"$f":"ROUND([3]ResourceLevelConfig!$G302*0.05,0)","v":26},{"$f":"ROUND([3]ResourceLevelConfig!$H302*0.05,0)","v":26},498]
[299,{"$f":"ROUND([3]ResourceLevelConfig!$E303*0.05,0)","v":99},{"$f":"ROUND([3]ResourceLevelConfig!$C303*0.05,0)","v":990},{"$f":"ROUND([3]ResourceLevelConfig!$G303*0.05,0)","v":26},{"$f":"ROUND([3]ResourceLevelConfig!$H303*0.05,0)","v":26},499]
[300,{"$f":"ROUND([3]ResourceLevelConfig!$E304*0.05,0)","v":100},{"$f":"ROUND([3]ResourceLevelConfig!$C304*0.05,0)","v":1000},{"$f":"ROUND([3]ResourceLevelConfig!$G304*0.05,0)","v":26},{"$f":"ROUND([3]ResourceLevelConfig!$H304*0.05,0)","v":26},500]