{"text_format":"2","workbook":"xlsx","n_sheets":3,"sheets":["主表","升级","功法"],"not_rendered":{"charts":0,"images":0,"macros":0,"external_links":0,"defined_names":1,"comments":0,"pivot_tables":0},"unopened":[],"bounds":{"document_bytes":16777216,"sheet_cells":100000,"run_cost":"one","rows_first":2000,"rows_last":500,"rows_between":2000,"halvings":0,"cell_chars":16384,"cell_head_chars":4096},"cells_cut":0,"cells_raw":0,"read":"whole","date_system":"1900"}

{"sheet":"主表","index":0,"n_rows":302,"n_cols":9,"rows_kept":302,"cut":false,"hidden":false,"merged":[]}
[null,null,1.5,1,null,"怪物倍率"]
["等级","等级强度","功法被动","功法放大（生命）","最终强度（防御系数）","生命","防御","攻击","护盾"]
[1,{"$f":"升级!C2","v":100},{"$f":"C$1*$A3/300","v":5.0000000000000001E-3},{"$f":"D$1*$A3/300","v":3.3333333333333335E-3},{"$f":"ROUND(B3*(1+C3),0)","v":101},{"$f":"(1+C3)*(1+D3)","v":1.0083500000000001},{"$f":"1+C3","v":1.0049999999999999},{"$f":"G3","v":1.0049999999999999},0]
[2,{"$f":"升级!C3","v":102},{"$f":"C$1*$A4/300","v":0.01},6.6666666666666671E-3,{"$f":"ROUND(B4*(1+C4),0)","v":103},{"$f":"(1+C4)*(1+D4)*B4/B$3","v":1.0370679999999999},{"$f":"(1+C4)*B4/B$3","v":1.0302},{"$f":"G4","v":1.0302},0]
[3,{"$f":"升级!C4","v":104},1.4999999999999999E-2,0.01,106,{"$f":"(1+C5)*(1+D5)*B5/B$3","v":1.0661560000000001},{"$f":"(1+C5)*B5/B$3","v":1.0555999999999999},1.0555999999999999,0]
[4,{"$f":"升级!C5","v":106},0.02,1.3333333333333334E-2,108,1.0956160000000001,1.0811999999999999,1.0811999999999999,0]
[5,{"$f":"升级!C6","v":108},2.5000000000000001E-2,1.6666666666666666E-2,111,1.1254499999999998,1.107,1.107,0]
[6,{"$f":"升级!C7","v":110},0.03,0.02,113,1.1556600000000001,1.133,1.133,0]
[7,{"$f":"升级!C8","v":112},3.5000000000000003E-2,2.3333333333333334E-2,116,1.186248,1.1591999999999998,1.1591999999999998,0]
[8,{"$f":"升级!C9","v":114},0.04,2.6666666666666668E-2,119,1.2172160000000001,1.1856,1.1856,0]
[9,{"$f":"升级!C10","v":116},4.4999999999999998E-2,0.03,121,1.2485659999999998,1.2121999999999999,1.2121999999999999,0]
[10,{"$f":"升级!C11","v":122},0.05,3.3333333333333333E-2,128,1.3237000000000003,1.2809999999999999,1.2809999999999999,0]
[11,{"$f":"升级!C12","v":124},5.5E-2,3.6666666666666667E-2,131,1.3561673333333331,1.3082,1.3082,0]
[12,{"$f":"升级!C13","v":126},0.06,0.04,134,1.389024,1.3356000000000001,1.3356000000000001,0]
[13,{"$f":"升级!C14","v":128},6.5000000000000002E-2,4.3333333333333335E-2,136,1.4222720000000002,1.3632,1.3632,0]
[14,{"$f":"升级!C15","v":130},7.0000000000000007E-2,4.6666666666666669E-2,139,1.4559133333333336,1.391,1.391,0]
[15,{"$f":"升级!C16","v":132},7.4999999999999997E-2,0.05,142,1.4899499999999997,1.419,1.419,0]
[16,{"$f":"升级!C17","v":134},0.08,5.3333333333333337E-2,145,1.524384,1.4472,1.4472,0]
[17,{"$f":"升级!C18","v":136},8.5000000000000006E-2,5.6666666666666664E-2,148,1.5592173333333332,1.4756,1.4756,0]
[18,{"$f":"升级!C19","v":138},0.09,0.06,150,1.5944520000000002,1.5042000000000002,1.5042000000000002,0]
[19,{"$f":"升级!C20","v":140},9.5000000000000001E-2,6.3333333333333339E-2,153,1.6300899999999996,1.5329999999999999,1.5329999999999999,0]
[20,{"$f":"升级!C21","v":150},0.1,6.6666666666666666E-2,165,1.76,1.65,1.65,0]
[21,{"$f":"升级!C22","v":152},0.105,7.0000000000000007E-2,168,1.797172,1.6796,1.6796,0]
[22,{"$f":"升级!C23","v":154},0.11,7.3333333333333334E-2,171,1.8347560000000001,1.7094000000000003,1.7094000000000003,0]
[23,{"$f":"升级!C24","v":158},0.115,7.6666666666666661E-2,176,1.8967636666666667,1.7616999999999998,1.7616999999999998,0]
[24,{"$f":"升级!C25","v":160},0.12,0.08,179,1.9353600000000002,1.7920000000000003,1.7920000000000003,0]
[25,{"$f":"升级!C26","v":162},0.125,8.3333333333333329E-2,182,1.974375,1.8225,1.8225,0]
[26,{"$f":"升级!C27","v":166},0.13,8.666666666666667E-2,188,2.0383693333333333,1.8757999999999999,1.8757999999999999,0]
[27,{"$f":"升级!C28","v":168},0.13500000000000001,0.09,191,2.0784120000000006,1.9068000000000001,1.9068000000000001,0]
[28,{"$f":"升级!C29","v":170},0.14000000000000001,9.3333333333333338E-2,194,2.1188799999999999,1.9380000000000002,1.9380000000000002,0]
[29,{"$f":"升级!C30","v":174},0.14499999999999999,9.6666666666666665E-2,199,2.1848890000000001,1.9923,1.9923,0]
[30,{"$f":"升级!C31","v":196},0.15,0.1,225,2.4793999999999996,2.2539999999999996,2.2539999999999996,0]
[31,{"$f":"升级!C32","v":200},0.155,0.10333333333333333,231,2.5486999999999997,2.31,2.31,0]
[32,{"$f":"升级!C33","v":204},0.16,0.10666666666666667,237,2.6188159999999998,2.3664000000000001,2.3664000000000001,0]
[33,{"$f":"升级!C34","v":206},0.16500000000000001,0.11,240,2.6638890000000002,2.3999000000000001,2.3999000000000001,0]
[34,{"$f":"升级!C35","v":210},0.17,0.11333333333333333,246,2.7354599999999993,2.4569999999999999,2.4569999999999999,0]
[35,{"$f":"升级!C36","v":214},0.17499999999999999,0.11666666666666667,251,2.8078583333333338,2.5145,2.5145,0]
[36,{"$f":"升级!C37","v":216},0.18,0.12,255,2.8546559999999999,2.5488,2.5488,0]
[37,{"$f":"升级!C38","v":220},0.185,0.12333333333333334,261,2.9285300000000003,2.6069999999999998,2.6069999999999998,0]
[38,{"$f":"升级!C39","v":224},0.19,0.12666666666666668,267,3.0032426666666669,2.6656,2.6656,0]
[39,{"$f":"升级!C40","v":228},0.19500000000000001,0.13,272,3.0787979999999999,2.7246000000000006,2.7246000000000006,0]
[40,{"$f":"升级!C41","v":242},0.2,0.13333333333333333,290,3.2911999999999995,2.9039999999999999,2.9039999999999999,0]
[41,{"$f":"升级!C42","v":246},0.20499999999999999,0.13666666666666666,296,3.369421,2.9643000000000002,2.9643000000000002,0]
[42,{"$f":"升级!C43","v":250},0.21,0.14000000000000001,303,3.4485000000000001,3.0249999999999999,3.0249999999999999,0]
[43,{"$f":"升级!C44","v":254},0.215,0.14333333333333334,309,3.5284410000000004,3.0861000000000001,3.0861000000000001,0]
[44,{"$f":"升级!C45","v":260},0.22,0.14666666666666667,317,3.6372266666666668,3.1719999999999997,3.1719999999999997,0]
[45,{"$f":"升级!C46","v":264},0.22500000000000001,0.15,323,3.7190999999999996,3.2340000000000004,3.2340000000000004,0]
[46,{"$f":"升级!C47","v":268},0.23,0.15333333333333332,330,3.8018479999999992,3.2963999999999998,3.2963999999999998,0]
[47,{"$f":"升级!C48","v":272},0.23499999999999999,0.15666666666666668,336,3.8854746666666666,3.3591999999999995,3.3591999999999995,0]
[48,{"$f":"升级!C49","v":276},0.24,0.16,342,3.9699839999999993,3.4224000000000001,3.4224000000000001,0]
[49,{"$f":"升级!C50","v":282},0.245,0.16333333333333333,351,4.0843470000000002,3.5109000000000004,3.5109000000000004,0]
[50,{"$f":"升级!C51","v":300},0.25,0.16666666666666666,375,4.3750000000000009,3.75,3.75,0]
[51,{"$f":"升级!C52","v":304},0.255,0.17,382,4.4637839999999995,3.8151999999999999,3.8151999999999999,0]
[52,{"$f":"升级!C53","v":310},0.26,0.17333333333333334,391,4.5830399999999996,3.9060000000000001,3.9060000000000001,0]
[53,{"$f":"升级!C54","v":314},0.26500000000000001,0.17666666666666667,397,4.6738376666666674,3.9721000000000002,3.9721000000000002,0]
[54,{"$f":"升级!C55","v":320},0.27,0.18,406,4.7955199999999998,4.0640000000000001,4.0640000000000001,0]
[55,{"$f":"升级!C56","v":326},0.27500000000000002,0.18333333333333332,416,4.9185249999999998,4.1564999999999994,4.1564999999999994,0]
[56,{"$f":"升级!C57","v":330},0.28000000000000003,0.18666666666666668,422,5.01248,4.2240000000000002,4.2240000000000002,0]
[57,{"$f":"升级!C58","v":336},0.28499999999999998,0.19,432,5.1379439999999992,4.3175999999999997,4.3175999999999997,0]
[58,{"$f":"升级!C59","v":342},0.28999999999999998,0.19333333333333333,441,5.2647480000000009,4.4118000000000004,4.4118000000000004,0]
[59,{"$f":"升级!C60","v":348},0.29499999999999998,0.19666666666666666,451,5.3928979999999997,4.5065999999999997,4.5065999999999997,0]
[60,{"$f":"升级!C61","v":392},0.3,0.2,510,6.1151999999999997,5.0960000000000001,5.0960000000000001,0]
[61,{"$f":"升级!C62","v":400},0.30499999999999999,0.20333333333333334,522,6.2813999999999997,5.22,5.22,0]
[62,{"$f":"升级!C63","v":406},0.31,0.20666666666666667,532,6.4177773333333334,5.3186,5.3186,0]
[63,{"$f":"升级!C64","v":412},0.315,0.21,542,6.5555379999999994,5.4177999999999997,5.4177999999999997,0]
[64,{"$f":"升级!C65","v":420},0.32,0.21333333333333335,554,6.7267200000000003,5.5439999999999996,5.5439999999999996,0]
[65,{"$f":"升级!C66","v":426},0.32500000000000001,0.21666666666666667,564,6.8674750000000007,5.644499999999999,5.644499999999999,0]
[66,{"$f":"升级!C67","v":434},{"$f":"C$1*$A68/300","v":0.33},0.22,{"$f":"ROUND(B68*(1+C68),0)","v":577},7.042084,5.7722000000000007,{"$f":"G68","v":5.7722000000000007},0]
[67,{"$f":"升级!C68","v":440},0.33500000000000002,0.22333333333333333,587,{"$f":"(1+C69)*(1+D69)*B69/B$3","v":7.1858599999999999},{"$f":"(1+C69)*B69/B$3","v":5.8739999999999997},5.8739999999999997,0]
[68,{"$f":"升级!C69","v":448},0.34,0.22666666666666666,600,7.3639253333333325,6.0032000000000005,6.0032000000000005,0]
[69,{"$f":"升级!C70","v":456},0.34499999999999997,0.23,613,7.5438359999999998,6.1331999999999995,6.1331999999999995,0]
[70,{"$f":"升级!C71","v":486},0.35,0.23333333333333334,656,8.0919000000000025,6.5609999999999999,6.5609999999999999,0]
[71,{"$f":"升级!C72","v":494},0.35499999999999998,0.23666666666666666,669,8.2778756666666666,6.6936999999999998,6.6936999999999998,0]
[72,{"$f":"升级!C73","v":502},0.36,0.24,683,8.4657279999999986,6.8271999999999995,6.8271999999999995,0]
[73,{"$f":"升级!C74","v":510},0.36499999999999999,0.24333333333333335,696,8.6554649999999995,6.9615,6.9615,0]
[74,{"$f":"升级!C75","v":518},0.37,0.24666666666666667,710,8.847094666666667,7.0966000000000005,7.0966000000000005,0]
[75,{"$f":"升级!C76","v":526},0.375,0.25,723,9.0406250000000004,7.2324999999999999,7.2324999999999999,0]
[76,{"$f":"升级!C77","v":536},0.38,0.25333333333333335,740,9.2706560000000007,7.3967999999999998,7.3967999999999998,0]
[77,{"$f":"升级!C78","v":544},0.38500000000000001,0.25666666666666665,753,9.4682293333333334,7.5344000000000007,7.5344000000000007,0]
[78,{"$f":"升级!C79","v":552},0.39,0.26,767,9.6677280000000003,7.6728000000000005,7.6728000000000005,0]
[79,{"$f":"升级!C80","v":562},0.39500000000000002,0.26333333333333331,784,9.9044069999999991,7.8399000000000001,7.8399000000000001,0]
[80,{"$f":"升级!C81","v":600},0.4,0.26666666666666666,840,10.64,8.4,8.4,0]
[81,{"$f":"升级!C82","v":608},0.40500000000000003,0.27,854,10.848848,8.5424000000000007,8.5424000000000007,0]
[82,{"$f":"升级!C83","v":618},0.41,0.27333333333333332,871,11.095571999999999,8.7137999999999991,8.7137999999999991,0]
[83,{"$f":"升级!C84","v":630},0.41499999999999998,0.27666666666666667,891,11.380844999999999,8.9145000000000003,8.9145000000000003,0]
[84,{"$f":"升级!C85","v":640},0.42,0.28000000000000003,909,11.632639999999999,9.0879999999999992,9.0879999999999992,0]
[85,{"$f":"升级!C86","v":650},0.42499999999999999,0.28333333333333333,926,11.886875,9.2624999999999993,9.2624999999999993,0]
[86,{"$f":"升级!C87","v":660},0.43,0.28666666666666668,944,12.143560000000001,9.4379999999999988,9.4379999999999988,0]
[87,{"$f":"升级!C88","v":672},0.435,0.28999999999999998,964,12.439728000000001,9.6432000000000002,9.6432000000000002,0]
[88,{"$f":"升级!C89","v":682},0.44,0.29333333333333333,982,12.701568,9.8207999999999984,9.8207999999999984,0]
[89,{"$f":"升级!C90","v":694},0.44500000000000001,0.29666666666666669,1003,13.003362333333335,10.0283,10.0283,0]
[90,{"$f":"升级!C91","v":786},0.45,0.3,1140,14.816099999999999,11.397,11.397,0]
[91,{"$f":"升级!C92","v":798},0.45500000000000002,0.30333333333333334,1161,15.132873,11.610900000000001,11.610900000000001,0]
[92,{"$f":"升级!C93","v":812},0.46,0.30666666666666664,1186,15.490794666666666,11.8552,11.8552,0]
[93,{"$f":"升级!C94","v":824},0.46500000000000002,0.31,1207,15.813796000000002,12.0716,12.0716,0]
[94,{"$f":"升级!C95","v":838},0.47,0.31333333333333335,1232,16.178428,12.318599999999998,12.318599999999998,0]
[95,{"$f":"升级!C96","v":852},0.47499999999999998,0.31666666666666665,1257,16.54655,12.567,12.567,0]
[96,{"$f":"升级!C97","v":866},0.48,0.32,1282,16.918176000000003,12.816800000000001,12.816800000000001,0]
[97,{"$f":"升级!C98","v":880},0.48499999999999999,0.32333333333333331,1307,17.293319999999998,13.068,13.068,0]
[98,{"$f":"升级!C99","v":894},0.49,0.32666666666666666,1332,17.671996,13.320599999999999,13.320599999999999,0]
[99,{"$f":"升级!C100","v":910},0.495,0.33,1360,18.093985000000004,13.6045,13.6045,0]
[100,{"$f":"升级!C101","v":970},0.5,0.33333333333333331,1455,19.399999999999999,14.55,14.55,0]
[101,{"$f":"升级!C102","v":986},0.505,0.33666666666666667,1484,19.835197666666662,14.839299999999998,14.839299999999998,0]
[102,{"$f":"升级!C103","v":1002},0.51,0.34,1513,20.274468000000002,15.1302,15.1302,0]
[103,{"$f":"升级!C104","v":1018},0.51500000000000001,0.34333333333333332,1542,20.717827000000003,15.422700000000003,15.422700000000003,0]
[104,{"$f":"升级!C105","v":1036},0.52,0.34666666666666668,1575,21.206229333333336,15.747199999999999,15.747199999999999,0]
[105,{"$f":"升级!C106","v":1052},0.52500000000000002,0.35,1604,21.658049999999999,16.042999999999999,16.042999999999999,0]
[106,{"$f":"升级!C107","v":1070},0.53,0.35333333333333333,1637,22.155419999999999,16.371000000000002,16.371000000000002,0]
[107,{"$f":"升级!C108","v":1088},0.53500000000000003,0.35666666666666669,1670,22.657418666666672,16.700800000000001,16.700800000000001,0]
[108,{"$f":"升级!C109","v":1104},0.54,0.36,1700,23.122176,17.0016,17.0016,0]
[109,{"$f":"升级!C110","v":1124},0.54500000000000004,0.36333333333333334,1737,23.675374000000001,17.3658,17.3658,0]
[110,{"$f":"升级!C111","v":1198},0.55000000000000004,0.36666666666666664,1857,25.377633333333339,18.569000000000003,18.569000000000003,0]
[111,{"$f":"升级!C112","v":1216},0.55500000000000005,0.37,1891,25.905056000000005,18.908799999999999,18.908799999999999,0]
[112,{"$f":"升级!C113","v":1236},0.56000000000000005,0.37333333333333335,1928,26.480063999999999,19.281600000000001,19.281600000000001,0]
[113,{"$f":"升级!C114","v":1258},0.56499999999999995,0.37666666666666665,1969,27.103400333333333,19.6877,19.6877,0]
[114,{"$f":"升级!C115","v":1278},0.56999999999999995,0.38,2006,27.689147999999992,20.064599999999999,20.064599999999999,0]
[115,{"$f":"升级!C116","v":1300},0.57499999999999996,0.38333333333333336,2048,28.32375,20.475000000000001,20.475000000000001,0]
[116,{"$f":"升级!C117","v":1320},0.57999999999999996,0.38666666666666666,2086,28.92032,20.855999999999998,20.855999999999998,0]
[117,{"$f":"升级!C118","v":1342},0.58499999999999996,0.39,2127,29.566273000000002,21.270700000000001,21.270700000000001,0]
[118,{"$f":"升级!C119","v":1364},0.59,0.39333333333333331,2169,30.218055999999997,21.687599999999996,21.687599999999996,0]
[119,{"$f":"升级!C120","v":1386},0.59499999999999997,0.39666666666666667,2211,30.875690999999996,22.1067,22.1067,0]
[120,{"$f":"升级!C121","v":1570},0.6,0.4,2512,35.167999999999999,25.12,25.12,0]
[121,{"$f":"升级!C122","v":1596},0.60499999999999998,0.40333333333333332,2562,35.947505999999997,25.6158,25.6158,0]
[122,{"$f":"升级!C123","v":1622},0.61,0.40666666666666668,2611,36.733974666666661,26.114199999999997,26.114199999999997,0]
[123,{"$f":"升级!C124","v":1648},0.61499999999999999,0.41,2662,37.527431999999997,26.615200000000002,26.615200000000002,0]
[124,{"$f":"升级!C125","v":1676},0.62,0.41333333333333333,2715,38.373696000000002,27.151200000000003,27.151200000000003,0]
[125,{"$f":"升级!C126","v":1702},0.625,0.41666666666666669,2766,39.181458333333332,27.657499999999999,27.657499999999999,0]
[126,{"$f":"升级!C127","v":1732},0.63,0.42,2823,40.088871999999995,28.2316,28.2316,0]
[127,{"$f":"升级!C128","v":1760},0.63500000000000001,0.42333333333333334,2878,40.957840000000004,28.776,28.776,0]
[128,{"$f":"升级!C129","v":1788},0.64,0.42666666666666669,2932,41.834432000000007,29.3232,29.3232,0]
[129,{"$f":"升级!C130","v":1818},0.64500000000000002,0.43,2991,42.765723000000001,29.906100000000002,29.906100000000002,0]
[130,{"$f":"升级!C131","v":1938},{"$f":"C$1*$A132/300","v":0.65},0.43333333333333335,{"$f":"ROUND(B132*(1+C132),0)","v":3198},45.8337,31.976999999999997,{"$f":"G132","v":31.976999999999997},0]
[131,{"$f":"升级!C132","v":1970},0.65500000000000003,0.43666666666666665,3260,{"$f":"(1+C133)*(1+D133)*B133/B$3","v":46.840361666666659},{"$f":"(1+C133)*B133/B$3","v":32.603499999999997},32.603499999999997,0]
[132,{"$f":"升级!C133","v":2002},0.66,0.44,3323,47.855807999999996,33.233200000000004,33.233200000000004,0]
[133,{"$f":"升级!C134","v":2036},0.66500000000000004,0.44333333333333336,3390,48.928134,33.8994,33.8994,0]
[134,{"$f":"升级!C135","v":2068},0.67,0.44666666666666666,3454,49.961501333333338,34.535600000000002,34.535600000000002,0]
[135,{"$f":"升级!C136","v":2102},0.67500000000000004,0.45,3521,51.052325000000003,35.208500000000001,35.208500000000001,0]
[136,{"$f":"升级!C137","v":2138},0.68,0.45333333333333331,3592,52.201408000000001,35.918399999999998,35.918399999999998,0]
[137,{"$f":"升级!C138","v":2172},0.68500000000000005,0.45666666666666667,3660,53.311377999999998,36.598199999999999,36.598199999999999,0]
[138,{"$f":"升级!C139","v":2208},0.69,0.46,3732,54.480191999999995,37.315199999999997,37.315199999999997,0]
[139,{"$f":"升级!C140","v":2244},0.69499999999999995,0.46333333333333332,3804,55.659054000000005,38.035799999999995,38.035799999999995,0]
[140,{"$f":"升级!C141","v":2392},0.7,0.46666666666666667,4066,59.640533333333345,40.664000000000001,40.664000000000001,0]
[141,{"$f":"升级!C142","v":2432},0.70499999999999996,0.47,4147,60.954431999999997,41.465600000000002,41.465600000000002,0]
[142,{"$f":"升级!C143","v":2472},0.71,0.47333333333333333,4227,62.279567999999998,42.2712,42.2712,0]
[143,{"$f":"升级!C144","v":2512},0.71499999999999997,0.47666666666666668,4308,63.615981333333323,43.080799999999996,43.080799999999996,0]
[144,{"$f":"升级!C145","v":2554},0.72,0.48,4393,65.014623999999998,43.928800000000003,43.928800000000003,0]
[145,{"$f":"升级!C146","v":2596},0.72499999999999998,0.48333333333333334,4478,66.425150000000016,44.781000000000006,44.781000000000006,0]
[146,{"$f":"升级!C147","v":2638},0.73,0.48666666666666669,4564,67.84760133333333,45.6374,45.6374,0]
[147,{"$f":"升级!C148","v":2682},0.73499999999999999,0.49,4653,69.333722999999992,46.532699999999998,46.532699999999998,0]
[148,{"$f":"升级!C149","v":2726},0.74,0.49333333333333335,4743,70.832384000000005,47.432400000000001,47.432400000000001,0]
[149,{"$f":"升级!C150","v":2772},0.745,0.49666666666666665,4837,72.395862000000008,48.371400000000001,48.371400000000001,0]
[150,{"$f":"升级!C151","v":3136},0.75,0.5,5488,82.32,54.88,54.88,0]
[151,{"$f":"升级!C152","v":3188},0.755,0.5033333333333333,5595,84.110597999999996,55.949399999999997,55.949399999999997,0]
[152,{"$f":"升级!C153","v":3240},0.76,0.50666666666666671,5702,85.916160000000005,57.023999999999994,57.023999999999994,0]
[153,{"$f":"升级!C154","v":3294},0.76500000000000001,0.51,5814,87.790041000000002,58.139100000000006,58.139100000000006,0]
[154,{"$f":"升级!C155","v":3348},0.77,0.51333333333333331,5926,89.679527999999991,59.259599999999999,59.259599999999999,0]
[155,{"$f":"升级!C156","v":3404},0.77500000000000002,0.51666666666666672,6042,91.638516666666661,60.420999999999992,60.420999999999992,0]
[156,{"$f":"升级!C157","v":3460},0.78,0.52,6159,93.613759999999999,61.588000000000001,61.588000000000001,0]
[157,{"$f":"升级!C158","v":3516},0.78500000000000003,0.52333333333333332,6276,95.605314000000021,62.760600000000004,62.760600000000004,0]
[158,{"$f":"升级!C159","v":3574},0.79,0.52666666666666662,6397,97.667889333333335,63.974600000000002,63.974600000000002,0]
[159,{"$f":"升级!C160","v":3634},0.79500000000000004,0.53,6523,99.802358999999996,65.2303,65.2303,0]
[160,{"$f":"升级!C161","v":3872},0.8,0.53333333333333333,6970,106.8672,69.695999999999998,69.695999999999998,{"$f":"升级!J161/升级!C$2","v":83.64}]
[161,{"$f":"升级!C162","v":3936},0.80500000000000005,0.53666666666666663,7104,109.17217599999999,71.044800000000009,71.044800000000009,{"$f":"升级!J162/升级!C$2","v":85.25}]
[162,{"$f":"升级!C163","v":4002},0.81,0.54,7244,111.551748,72.436199999999999,72.436199999999999,{"$f":"升级!J163/升级!C$2","v":86.93}]
[163,{"$f":"升级!C164","v":4068},0.81499999999999995,0.54333333333333333,7383,113.95078200000002,73.834199999999996,73.834199999999996,{"$f":"升级!J164/升级!C$2","v":88.6}]
[164,{"$f":"升级!C165","v":4134},0.82,0.54666666666666663,7524,116.36934399999998,75.238799999999998,75.238799999999998,{"$f":"升级!J165/升级!C$2","v":90.29}]
[165,{"$f":"升级!C166","v":4202},0.82499999999999996,0.55000000000000004,7669,118.864075,76.686499999999995,76.686499999999995,{"$f":"升级!J166/升级!C$2","v":92.03}]
[166,{"$f":"升级!C167","v":4272},0.83,0.55333333333333334,7818,121.435872,78.177599999999998,78.177599999999998,{"$f":"升级!J167/升级!C$2","v":93.82}]
[167,{"$f":"升级!C168","v":4342},0.83499999999999996,0.55666666666666664,7968,124.02850633333334,79.675699999999992,79.675699999999992,{"$f":"升级!J168/升级!C$2","v":95.62}]
[168,{"$f":"升级!C169","v":4414},0.84,0.56000000000000005,8122,126.69945600000001,81.21759999999999,81.21759999999999,{"$f":"升级!J169/升级!C$2","v":97.46}]
[169,{"$f":"升级!C170","v":4486},0.84499999999999997,0.56333333333333335,8277,129.39194100000003,82.7667,82.7667,{"$f":"升级!J170/升级!C$2","v":99.32}]
[170,{"$f":"升级!C171","v":4782},0.85,0.56666666666666665,8847,138.59829999999999,88.467000000000013,88.467000000000013,{"$f":"升级!J171/升级!C$2","v":123.86}]
[171,{"$f":"升级!C172","v":4860},0.85499999999999998,0.56999999999999995,9015,141.54020999999997,90.152999999999992,90.152999999999992,{"$f":"升级!J172/升级!C$2","v":126.21}]
[172,{"$f":"升级!C173","v":4940},0.86,0.57333333333333336,9188,144.56415999999999,91.884,91.884,{"$f":"升级!J173/升级!C$2","v":128.63}]
[173,{"$f":"升级!C174","v":5022},0.86499999999999999,0.57666666666666666,9366,147.67107300000001,93.660300000000007,93.660300000000007,{"$f":"升级!J174/升级!C$2","v":131.12}]
[174,{"$f":"升级!C175","v":5104},0.87,0.57999999999999996,9544,150.802784,95.444800000000015,95.444800000000015,{"$f":"升级!J175/升级!C$2","v":133.62}]
[175,{"$f":"升级!C176","v":5188},0.875,0.58333333333333337,9728,154.01875000000001,97.275000000000006,97.275000000000006,{"$f":"升级!J176/升级!C$2","v":136.19}]
[176,{"$f":"升级!C177","v":5274},0.88,0.58666666666666667,9915,157.31990399999998,99.151199999999989,99.151199999999989,{"$f":"升级!J177/升级!C$2","v":138.81}]
[177,{"$f":"升级!C178","v":5360},0.88500000000000001,0.59,10104,160.64723999999998,101.036,101.036,{"$f":"升级!J178/升级!C$2","v":141.46}]
[178,{"$f":"升级!C179","v":5448},0.89,0.59333333333333338,10297,164.06107200000002,102.96720000000001,102.96720000000001,{"$f":"升级!J179/升级!C$2","v":144.16}]
[179,{"$f":"升级!C180","v":5538},0.89500000000000002,0.59666666666666668,10495,167.562343,104.9451,104.9451,{"$f":"升级!J180/升级!C$2","v":146.93}]
[180,{"$f":"升级!C181","v":6268},0.9,0.6,11909,190.5472,119.09199999999998,119.09199999999998,{"$f":"升级!J181/升级!C$2","v":238.18}]
[181,{"$f":"升级!C182","v":6372},0.90500000000000003,0.60333333333333339,12139,194.62318200000001,121.3866,121.3866,{"$f":"升级!J182/升级!C$2","v":242.78}]
[182,{"$f":"升级!C183","v":6476},0.91,0.60666666666666669,12369,198.73117066666669,123.69160000000002,123.69160000000002,{"$f":"升级!J183/升级!C$2","v":247.38}]
[183,{"$f":"升级!C184","v":6584},0.91500000000000004,0.61,12608,202.99459599999997,126.0836,126.0836,{"$f":"升级!J184/升级!C$2","v":252.16}]
[184,{"$f":"升级!C185","v":6692},0.92,0.61333333333333329,12849,207.29139199999997,128.4864,128.4864,{"$f":"升级!J185/升级!C$2","v":256.98}]
[185,{"$f":"升级!C186","v":6802},0.92500000000000004,0.6166666666666667,13094,211.68390833333333,130.9385,130.9385,{"$f":"升级!J186/升级!C$2","v":261.88}]
[186,{"$f":"升级!C187","v":6914},0.93,0.62,13344,216.17312400000003,133.4402,133.4402,{"$f":"升级!J187/升级!C$2","v":266.88}]
[187,{"$f":"升级!C188","v":7028},0.93500000000000005,0.62333333333333329,13599,220.76002199999999,135.99180000000001,135.99180000000001,{"$f":"升级!J188/升级!C$2","v":271.98}]
[188,{"$f":"升级!C189","v":7144},0.94,0.62666666666666671,13859,225.44558933333334,138.59359999999998,138.59359999999998,{"$f":"升级!J189/升级!C$2","v":277.18}]
[189,{"$f":"升级!C190","v":7262},0.94499999999999995,0.63,14125,230.23081699999994,141.24589999999998,141.24589999999998,{"$f":"升级!J190/升级!C$2","v":282.5}]
[190,{"$f":"升级!C191","v":7740},0.95,0.6333333333333333,15093,246.51900000000001,150.93,150.93,{"$f":"升级!J191/升级!C$2","v":332.05}]
[191,{"$f":"升级!C192","v":7868},0.95499999999999996,0.63666666666666671,15382,251.75108466666669,153.8194,153.8194,{"$f":"升级!J192/升级!C$2","v":338.4}]
[192,{"$f":"升级!C193","v":7996},0.96,0.64,15672,257.02342400000003,156.7216,156.7216,{"$f":"升级!J193/升级!C$2","v":344.78}]
[193,{"$f":"升级!C194","v":8128},0.96499999999999997,0.64333333333333331,15972,262.46531199999998,159.71519999999998,159.71519999999998,{"$f":"升级!J194/升级!C$2","v":351.38}]
[194,{"$f":"升级!C195","v":8262},{"$f":"C$1*$A196/300","v":0.97},0.64666666666666661,{"$f":"ROUND(B196*(1+C196),0)","v":16276},268.01377200000002,162.76139999999998,{"$f":"G196","v":162.76139999999998},{"$f":"升级!J195/升级!C$2","v":358.07}]
[195,{"$f":"升级!C196","v":8398},0.97499999999999998,0.65,16586,{"$f":"(1+C197)*(1+D197)*B197/B$3","v":273.669825},{"$f":"(1+C197)*B197/B$3","v":165.8605},165.8605,{"$f":"升级!J196/升级!C$2","v":364.89}]
[196,{"$f":"升级!C197","v":8536},0.98,0.65333333333333332,16901,279.43449600000002,169.0128,169.0128,{"$f":"升级!J197/升级!C$2","v":371.82}]
[197,{"$f":"升级!C198","v":8678},0.98499999999999999,0.65666666666666662,17226,285.37458366666664,172.25829999999999,172.25829999999999,{"$f":"升级!J198/升级!C$2","v":378.97}]
[198,{"$f":"升级!C199","v":8820},0.99,0.66,17552,291.35988000000003,175.518,175.518,{"$f":"升级!J199/升级!C$2","v":386.14}]
[199,{"$f":"升级!C200","v":8966},0.995,0.66333333333333333,17887,297.52326100000005,178.87170000000003,178.87170000000003,{"$f":"升级!J200/升级!C$2","v":393.51}]
[200,{"$f":"升级!C201","v":9556},1,0.66666666666666663,19112,318.5333333333333,191.12,191.12,{"$f":"升级!J201/升级!C$2","v":458.69}]
[201,{"$f":"升级!C202","v":9714},1.0049999999999999,0.67,19477,325.25871899999993,194.76570000000001,194.76570000000001,{"$f":"升级!J202/升级!C$2","v":467.45}]
[202,{"$f":"升级!C203","v":9874},1.01,0.67333333333333334,19847,332.10211599999997,198.46739999999997,198.46739999999997,{"$f":"升级!J203/升级!C$2","v":476.33}]
[203,{"$f":"升级!C204","v":10036},1.0149999999999999,0.67666666666666664,20223,339.06458733333335,202.22539999999998,202.22539999999998,{"$f":"升级!J204/升级!C$2","v":485.35}]
[204,{"$f":"升级!C205","v":10202},1.02,0.68,20608,346.21507200000002,206.0804,206.0804,{"$f":"升级!J205/升级!C$2","v":494.59}]
[205,{"$f":"升级!C206","v":10370},1.0249999999999999,0.68333333333333335,20999,353.48737500000004,209.99250000000001,209.99250000000001,{"$f":"升级!J206/升级!C$2","v":503.98}]
[206,{"$f":"升级!C207","v":10540},1.03,0.68666666666666665,21396,360.88257333333337,213.96200000000005,213.96200000000005,{"$f":"升级!J207/升级!C$2","v":513.5}]
[207,{"$f":"升级!C208","v":10714},1.0349999999999999,0.69,21803,368.47053100000005,218.02990000000003,218.02990000000003,{"$f":"升级!J208/升级!C$2","v":523.27}]
[208,{"$f":"升级!C209","v":10890},1.04,0.69333333333333336,22216,376.18416000000002,222.15600000000003,222.15600000000003,{"$f":"升级!J209/升级!C$2","v":533.17999999999995}]
[209,{"$f":"升级!C210","v":11070},1.0449999999999999,0.69666666666666666,22638,384.09394500000002,226.38149999999999,226.38149999999999,{"$f":"升级!J210/升级!C$2","v":543.30999999999995}]
[210,{"$f":"升级!C211","v":12528},1.05,0.7,25682,436.60079999999994,256.82399999999996,256.82399999999996,{"$f":"升级!J211/升级!C$2","v":770.46}]
[211,{"$f":"升级!C212","v":12734},1.0549999999999999,0.70333333333333337,26168,445.73456899999996,261.68369999999993,261.68369999999993,{"$f":"升级!J212/升级!C$2","v":785.04}]
[212,{"$f":"升级!C213","v":12944},1.06,0.70666666666666667,26665,455.07652266666662,266.64639999999997,266.64639999999997,{"$f":"升级!J213/升级!C$2","v":799.95}]
[213,{"$f":"升级!C214","v":13156},1.0649999999999999,0.71,27167,464.55809399999998,271.67140000000001,271.67140000000001,{"$f":"升级!J214/升级!C$2","v":815.01}]
[214,{"$f":"升级!C215","v":13374},1.07,0.71333333333333337,27684,474.32228400000008,276.84180000000003,276.84180000000003,{"$f":"升级!J215/升级!C$2","v":830.52}]
[215,{"$f":"升级!C216","v":13594},1.075,0.71666666666666667,28208,484.22960833333337,282.07550000000003,282.07550000000003,{"$f":"升级!J216/升级!C$2","v":846.24}]
[216,{"$f":"升级!C217","v":13818},1.08,0.72,28741,494.35276799999997,287.4144,287.4144,{"$f":"升级!J217/升级!C$2","v":862.23}]
[217,{"$f":"升级!C218","v":14046},1.085,0.72333333333333338,29286,504.69384900000006,292.85910000000001,292.85910000000001,{"$f":"升级!J218/升级!C$2","v":878.58}]
[218,{"$f":"升级!C219","v":14276},1.0900000000000001,0.72666666666666668,29837,515.18277066666667,298.36839999999995,298.36839999999995,{"$f":"升级!J219/升级!C$2","v":895.11}]
[219,{"$f":"升级!C220","v":14512},1.095,0.73,30403,525.96567199999993,304.02639999999997,304.02639999999997,{"$f":"升级!J220/升级!C$2","v":912.09}]
[220,{"$f":"升级!C221","v":15468},1.1000000000000001,0.73333333333333328,32483,563.03520000000003,324.82800000000003,324.82800000000003,{"$f":"升级!J221/升级!C$2","v":1039.46}]
[221,{"$f":"升级!C222","v":15722},1.105,0.73666666666666669,33095,574.74653366666678,330.94809999999995,330.94809999999995,{"$f":"升级!J222/升级!C$2","v":1059.04}]
[222,{"$f":"升级!C223","v":15982},1.1100000000000001,0.74,33722,586.76314800000011,337.22020000000003,337.22020000000003,{"$f":"升级!J223/升级!C$2","v":1079.0999999999999}]
[223,{"$f":"升级!C224","v":16244},1.115,0.74333333333333329,34356,598.94064600000002,343.56060000000002,343.56060000000002,{"$f":"升级!J224/升级!C$2","v":1099.3900000000001}]
[224,{"$f":"升级!C225","v":16512},1.1200000000000001,0.7466666666666667,35005,611.4283519999999,350.05440000000004,350.05440000000004,{"$f":"升级!J225/升级!C$2","v":1120.1600000000001}]
[225,{"$f":"升级!C226","v":16784},1.125,0.75,35666,624.15499999999997,356.66,356.66,{"$f":"升级!J226/升级!C$2","v":1141.31}]
[226,{"$f":"升级!C227","v":17060},1.1299999999999999,0.7533333333333333,36338,637.12275999999997,363.37799999999993,363.37799999999993,{"$f":"升级!J227/升级!C$2","v":1162.82}]
[227,{"$f":"升级!C228","v":17342},1.135,0.75666666666666671,37025,650.40881966666666,370.25169999999997,370.25169999999997,{"$f":"升级!J228/升级!C$2","v":1184.8}]
[228,{"$f":"升级!C229","v":17628},1.1399999999999999,0.76,37724,663.94099199999994,377.23919999999993,377.23919999999993,{"$f":"升级!J229/升级!C$2","v":1207.17}]
[229,{"$f":"升级!C230","v":17918},1.145,0.76333333333333331,38434,677.72147299999995,384.34109999999998,384.34109999999998,{"$f":"升级!J230/升级!C$2","v":1229.8900000000001}]
[230,{"$f":"升级!C231","v":19098},1.1499999999999999,0.76666666666666672,41061,725.40569999999991,410.60699999999997,410.60699999999997,{"$f":"升级!J231/升级!C$2","v":1396.07}]
[231,{"$f":"升级!C232","v":19412},1.155,0.77,41833,740.44162200000005,418.32860000000005,418.32860000000005,{"$f":"升级!J232/升级!C$2","v":1422.32}]
[232,{"$f":"升级!C233","v":19732},1.1599999999999999,0.77333333333333332,42621,755.81452800000011,426.21120000000002,426.21120000000002,{"$f":"升级!J233/升级!C$2","v":1449.11}]
[233,{"$f":"升级!C234","v":20056},1.165,0.77666666666666662,43421,771.45069733333332,434.2124,434.2124,{"$f":"升级!J234/升级!C$2","v":1476.31}]
[234,{"$f":"升级!C235","v":20388},1.17,0.78,44242,787.506888,442.4196,442.4196,{"$f":"升级!J235/升级!C$2","v":1504.23}]
[235,{"$f":"升级!C236","v":20722},1.175,0.78333333333333333,45070,803.75457499999993,450.70349999999996,450.70349999999996,{"$f":"升级!J236/升级!C$2","v":1532.38}]
[236,{"$f":"升级!C237","v":21064},1.18,0.78666666666666663,45920,820.42875733333324,459.19519999999994,459.19519999999994,{"$f":"升级!J237/升级!C$2","v":1561.28}]
[237,{"$f":"升级!C238","v":21412},1.1850000000000001,0.79,46785,837.45543799999996,467.85220000000004,467.85220000000004,{"$f":"升级!J238/升级!C$2","v":1590.69}]
[238,{"$f":"升级!C239","v":21764},1.19,0.79333333333333333,47663,854.75933600000008,476.63159999999993,476.63159999999993,{"$f":"升级!J239/升级!C$2","v":1620.54}]
[239,{"$f":"升级!C240","v":22122},1.1950000000000001,0.79666666666666663,48558,872.42162700000017,485.57790000000006,485.57790000000006,{"$f":"升级!J240/升级!C$2","v":1650.97}]
[240,{"$f":"升级!C241","v":25036},1.2,0.8,55079,991.42560000000014,550.79200000000003,550.79200000000003,{"$f":"升级!J241/升级!C$2","v":2203.16}]
[241,{"$f":"升级!C242","v":25450},1.2050000000000001,0.80333333333333334,56117,1011.981075,561.17250000000001,561.17250000000001,{"$f":"升级!J242/升级!C$2","v":2244.6799999999998}]
[242,{"$f":"升级!C243","v":25868},1.21,0.80666666666666664,57168,1032.8402586666666,571.68280000000004,571.68280000000004,{"$f":"升级!J243/升级!C$2","v":2286.7199999999998}]
[243,{"$f":"升级!C244","v":26294},1.2150000000000001,0.81,58241,1054.1659010000001,582.41210000000001,582.41210000000001,{"$f":"升级!J244/升级!C$2","v":2329.64}]
[244,{"$f":"升级!C245","v":26728},1.22,0.81333333333333335,59336,1075.962368,593.36159999999995,593.36159999999995,{"$f":"升级!J245/升级!C$2","v":2373.44}]
[245,{"$f":"升级!C246","v":27168},1.2250000000000001,0.81666666666666665,60449,1098.1532,604.48800000000006,604.48800000000006,{"$f":"升级!J246/升级!C$2","v":2417.96}]
[246,{"$f":"升级!C247","v":27616},1.23,0.82,61584,1120.8229759999997,615.83680000000004,615.83680000000004,{"$f":"升级!J247/升级!C$2","v":2463.36}]
[247,{"$f":"升级!C248","v":28070},1.2350000000000001,0.82333333333333336,62736,1143.8946050000002,627.36450000000013,627.36450000000013,{"$f":"升级!J248/升级!C$2","v":2509.44}]
[248,{"$f":"升级!C249","v":28532},1.24,0.82666666666666666,63912,1167.4533546666669,639.11680000000013,639.11680000000013,{"$f":"升级!J249/升级!C$2","v":2556.48}]
[249,{"$f":"升级!C250","v":29002},1.2450000000000001,0.83,65109,1191.5036670000002,651.09490000000005,651.09490000000005,{"$f":"升级!J250/升级!C$2","v":2604.36}]
[250,{"$f":"升级!C251","v":30912},1.25,0.83333333333333337,69552,1275.1199999999999,695.52,695.52,{"$f":"升级!J251/升级!C$2","v":2921.18}]
[251,{"$f":"升级!C252","v":31422},1.2549999999999999,0.83666666666666667,70857,1301.399737,708.56610000000001,708.56610000000001,{"$f":"升级!J252/升级!C$2","v":2975.99}]
[252,{"$f":"升级!C253","v":31940},1.26,0.84,72184,1328.1929599999996,721.84399999999994,721.84399999999994,{"$f":"升级!J253/升级!C$2","v":3031.73}]
[253,{"$f":"升级!C254","v":32466},1.2649999999999999,0.84333333333333338,73535,1355.5041989999997,735.35489999999993,735.35489999999993,{"$f":"升级!J254/升级!C$2","v":3088.47}]
[254,{"$f":"升级!C255","v":33000},1.27,0.84666666666666668,74910,1383.338,749.1,749.1,{"$f":"升级!J255/升级!C$2","v":3146.22}]
[255,{"$f":"升级!C256","v":33544},1.2749999999999999,0.85,76313,1411.7830999999999,763.12599999999986,763.12599999999986,{"$f":"升级!J256/升级!C$2","v":3205.15}]
[256,{"$f":"升级!C257","v":34096},1.28,0.85333333333333339,77739,1440.7605760000004,777.38880000000006,777.38880000000006,{"$f":"升级!J257/升级!C$2","v":3265.04}]
[257,{"$f":"升级!C258","v":34658},1.2849999999999999,0.85666666666666669,79194,1470.3598736666668,791.93529999999998,791.93529999999998,{"$f":"升级!J258/升级!C$2","v":3326.15}]
[258,{"$f":"升级!C259","v":35228},{"$f":"C$1*$A260/300","v":1.29},0.86,{"$f":"ROUND(B260*(1+C260),0)","v":80672},1500.501432,806.72119999999995,{"$f":"G260","v":806.72119999999995},{"$f":"升级!J259/升级!C$2","v":3388.22}]
[259,{"$f":"升级!C260","v":35808},1.2949999999999999,0.86333333333333329,82179,{"$f":"(1+C261)*(1+D261)*B261/B$3","v":1531.275408},{"$f":"(1+C261)*B261/B$3","v":821.79359999999997},821.79359999999997,{"$f":"升级!J260/升级!C$2","v":3451.52}]
[260,{"$f":"升级!C261","v":38168},1.3,0.8666666666666667,87786,1638.6794666666665,877.86399999999992,877.86399999999992,{"$f":"升级!J261/升级!C$2","v":3862.58}]
[261,{"$f":"升级!C262","v":38796},1.3049999999999999,0.87,89425,1672.2433859999999,894.24779999999987,894.24779999999987,{"$f":"升级!J262/升级!C$2","v":3934.7}]
[262,{"$f":"升级!C263","v":39434},1.31,0.87333333333333329,91093,1706.4669159999999,910.92540000000008,910.92540000000008,{"$f":"升级!J263/升级!C$2","v":4008.09}]
[263,{"$f":"升级!C264","v":40084},1.3149999999999999,0.87666666666666671,92794,1741.4426993333336,927.94459999999992,927.94459999999992,{"$f":"升级!J264/升级!C$2","v":4082.94}]
[264,{"$f":"升级!C265","v":40744},1.32,0.88,94526,1777.0903040000003,945.26080000000013,945.26080000000013,{"$f":"升级!J265/升级!C$2","v":4159.1400000000003}]
[265,{"$f":"升级!C266","v":41416},1.325,0.8833333333333333,96292,1813.5030999999999,962.92200000000014,962.92200000000014,{"$f":"升级!J266/升级!C$2","v":4236.8500000000004}]
[266,{"$f":"升级!C267","v":42098},1.33,0.88666666666666671,98088,1850.6000146666668,980.88339999999994,980.88339999999994,{"$f":"升级!J267/升级!C$2","v":4315.87}]
[267,{"$f":"升级!C268","v":42790},1.335,0.89,99915,1888.3868849999999,999.14649999999995,999.14649999999995,{"$f":"升级!J268/升级!C$2","v":4396.26}]
[268,{"$f":"升级!C269","v":43496},1.34,0.89333333333333331,101781,1927.0467839999997,1017.8063999999999,1017.8063999999999,{"$f":"升级!J269/升级!C$2","v":4478.3599999999997}]
[269,{"$f":"升级!C270","v":44212},1.345,0.89666666666666661,103677,1966.4097553333329,1036.7713999999999,1036.7713999999999,{"$f":"升级!J270/升级!C$2","v":4561.79}]
[270,{"$f":"升级!C271","v":50036},1.35,0.9,117585,2234.1073999999999,1175.846,1175.846,{"$f":"升级!J271/升级!C$2","v":5879.25}]
[271,{"$f":"升级!C272","v":50860},1.355,0.90333333333333332,119775,2279.7232100000001,1197.7529999999999,1197.7529999999999,{"$f":"升级!J272/升级!C$2","v":5988.75}]
[272,{"$f":"升级!C273","v":51698},1.36,0.90666666666666662,122007,2326.2721386666672,1220.0728000000001,1220.0728000000001,{"$f":"升级!J273/升级!C$2","v":6100.35}]
[273,{"$f":"升级!C274","v":52550},1.365,0.91,124281,2373.7623250000006,1242.8075000000001,1242.8075000000001,{"$f":"升级!J274/升级!C$2","v":6214.05}]
[274,{"$f":"升级!C275","v":53416},1.37,0.91333333333333333,126596,2422.2019359999999,1265.9592000000002,1265.9592000000002,{"$f":"升级!J275/升级!C$2","v":6329.8}]
[275,{"$f":"升级!C276","v":54296},1.375,0.91666666666666663,128953,2471.5991666666664,1289.53,1289.53,{"$f":"升级!J276/升级!C$2","v":6447.65}]
[276,{"$f":"升级!C277","v":55190},1.38,0.92,131352,2521.9622399999994,1313.5219999999999,1313.5219999999999,{"$f":"升级!J277/升级!C$2","v":6567.6}]
[277,{"$f":"升级!C278","v":56098},1.385,0.92333333333333334,133794,2573.299407,1337.9372999999998,1337.9372999999998,{"$f":"升级!J278/升级!C$2","v":6689.7}]
[278,{"$f":"升级!C279","v":57022},1.39,0.92666666666666664,136283,2625.711041333333,1362.8257999999998,1362.8257999999998,{"$f":"升级!J279/升级!C$2","v":6814.15}]
[279,{"$f":"升级!C280","v":57962},1.395,0.93,138819,2679.2065070000008,1388.1898999999999,1388.1898999999999,{"$f":"升级!J280/升级!C$2","v":6940.95}]
[280,{"$f":"升级!C281","v":61780},1.4,0.93333333333333335,148272,2866.5919999999996,1482.72,1482.72,{"$f":"升级!J281/升级!C$2","v":7710.14}]
[281,{"$f":"升级!C282","v":62798},1.405,0.93666666666666665,151029,2924.9319796666673,1510.2918999999999,1510.2918999999999,{"$f":"升级!J282/升级!C$2","v":7853.51}]
[282,{"$f":"升级!C283","v":63832},1.41,0.94,153835,2984.4013279999995,1538.3512000000001,1538.3512000000001,{"$f":"升级!J283/升级!C$2","v":7999.42}]
[283,{"$f":"升级!C284","v":64882},1.415,0.94333333333333336,156690,3045.009583,1566.9003,1566.9003,{"$f":"升级!J284/升级!C$2","v":8147.88}]
[284,{"$f":"升级!C285","v":65952},1.42,0.94666666666666666,159604,3106.9547519999996,1596.0383999999999,1596.0383999999999,{"$f":"升级!J285/升级!C$2","v":8299.41}]
[285,{"$f":"升级!C286","v":67038},1.425,0.95,162567,3170.0594249999999,1625.6714999999999,1625.6714999999999,{"$f":"升级!J286/升级!C$2","v":8453.48}]
[286,{"$f":"升级!C287","v":68142},1.43,0.95333333333333337,165585,3234.4281719999999,1655.8505999999998,1655.8505999999998,{"$f":"升级!J287/升级!C$2","v":8610.42}]
[287,{"$f":"升级!C288","v":69264},1.4350000000000001,0.95666666666666667,168658,3300.0717359999999,1686.5783999999999,1686.5783999999999,{"$f":"升级!J288/升级!C$2","v":8770.2199999999993}]
[288,{"$f":"升级!C289","v":70404},1.44,0.96,171786,3367.000896,1717.8576,1717.8576,{"$f":"升级!J289/升级!C$2","v":8932.8700000000008}]
[289,{"$f":"升级!C290","v":71564},1.4450000000000001,0.96333333333333337,174974,3435.3224740000005,1749.7398000000001,1749.7398000000001,{"$f":"升级!J290/升级!C$2","v":9098.65}]
[290,{"$f":"升级!C291","v":76278},1.45,0.96666666666666667,186881,3675.3283000000006,1868.8110000000001,1868.8110000000001,{"$f":"升级!J291/升级!C$2","v":10091.57}]
[291,{"$f":"升级!C292","v":77534},1.4550000000000001,0.97,190346,3749.8156090000002,1903.4597000000001,1903.4597000000001,{"$f":"升级!J292/升级!C$2","v":10278.68}]
[292,{"$f":"升级!C293","v":78812},1.46,0.97333333333333338,193878,3825.8497279999997,1938.7751999999998,1938.7751999999998,{"$f":"升级!J293/升级!C$2","v":10469.41}]
[293,{"$f":"升级!C294","v":80110},1.4650000000000001,0.97666666666666668,197471,3903.3463983333327,1974.7114999999999,1974.7114999999999,{"$f":"升级!J294/升级!C$2","v":10663.43}]
[294,{"$f":"升级!C295","v":81428},1.47,0.98,201127,3982.3177679999994,2011.2715999999998,2011.2715999999998,{"$f":"升级!J295/升级!C$2","v":10860.86}]
[295,{"$f":"升级!C296","v":82770},1.4750000000000001,0.98333333333333328,204856,4062.9723750000003,2048.5574999999999,2048.5574999999999,{"$f":"升级!J296/升级!C$2","v":11062.22}]
[296,{"$f":"升级!C297","v":84132},1.48,0.98666666666666669,208647,4145.1275519999999,2086.4735999999998,2086.4735999999998,{"$f":"升级!J297/升级!C$2","v":11266.94}]
[297,{"$f":"升级!C298","v":85518},1.4850000000000001,0.99,212512,4228.9933770000007,2125.1223000000005,2125.1223000000005,{"$f":"升级!J298/升级!C$2","v":11475.65}]
[298,{"$f":"升级!C299","v":86926},1.49,0.99333333333333329,216446,4314.4850839999999,2164.4574000000002,2164.4574000000002,{"$f":"升级!J299/升级!C$2","v":11688.08}]
[299,{"$f":"升级!C300","v":88358},1.4950000000000001,0.9966666666666667,220453,4401.7157596666666,2204.5321000000004,2204.5321000000004,{"$f":"升级!J300/升级!C$2","v":11904.46}]
[300,{"$f":"升级!C301","v":100000},1.5,1,250000,5000,2500,2500,{"$f":"升级!J301/升级!C$2","v":15000}]

{"sheet":"升级","index":1,"n_rows":301,"n_cols":17,"rows_kept":301,"cut":false,"hidden":false,"merged":[]}
["等级","生命","攻击","防御","防御系数","涨幅",null,"神识上限","护盾百分比","护盾",{"$f":"D301","v":50000},"标准免伤",0.5]
[1,{"$f":"C2*20","v":2000},{"$f":"D2*2","v":100},{"$f":"ROUND(E2*M$1,0)","v":50},100,null,null,500]
[2,{"$f":"C3*20","v":2040},{"$f":"D3*2","v":102},{"$f":"ROUND(MAX(D2+1,E3*M$1),0)","v":51},{"$f":"E2*(1+F3)","v":101.64691699999999},1.6469170000000002E-2,null,500]
[3,2080,104,52,{"$f":"E3*(1+F4)","v":103.32095735604886},{"$f":"F3","v":1.6469170000000002E-2},null,500]
[4,2120,106,53,105.02256776730837,{"$f":"F4","v":1.6469170000000002E-2},null,500]
[5,2160,108,54,106.75220228970468,1.6469170000000002E-2,null,500]
[6,2200,110,55,108.51032245708821,1.6469170000000002E-2,null,500]
[7,2240,112,56,110.2973974043888,1.6469170000000002E-2,null,500]
[8,2280,114,57,112.11390399279924,1.6469170000000002E-2,null,500]
[9,2320,116,58,113.96032693702031,1.6469170000000002E-2,null,500]
[10,2440,122,61,121.46765492734576,{"$f":"F3*4","v":6.5876680000000007E-2},null,500]
[11,2480,124,62,123.46812638584555,{"$f":"F3","v":1.6469170000000002E-2},null,500]
[12,2520,126,63,125.50154394887552,{"$f":"F3","v":1.6469170000000002E-2},null,500]
[13,2560,128,64,127.56845021143201,{"$f":"F4","v":1.6469170000000002E-2},null,500]
[14,2600,130,65,129.66939670460062,1.6469170000000002E-2,null,500]
[15,2640,132,66,131.80494404272611,1.6469170000000002E-2,null,500]
[16,2680,134,67,133.97566207300625,1.6469170000000002E-2,null,500]
[17,2720,136,68,136.18213002754914,1.6469170000000002E-2,null,500]
[18,2760,138,69,138.42493667793494,1.6469170000000002E-2,null,500]
[19,2800,140,70,140.70468049232306,1.6469170000000002E-2,null,500]
[20,3000,150,75,149.97383770361807,6.5876680000000007E-2,null,500]
[21,3040,152,76,152.44378233231134,1.6469170000000002E-2,null,500]
[22,3080,154,77,154.95440489898516,1.6469170000000002E-2,null,500]
[23,3160,158,79,157.50637533551537,1.6469170000000002E-2,null,500]
[24,3200,160,80,160.10037460699976,1.6469170000000002E-2,null,500]
[25,3240,162,81,162.73709489346612,1.6469170000000002E-2,null,500]
[26,3320,166,83,165.41723977457272,1.6469170000000002E-2,null,500]
[27,3360,168,84,168.14152441735089,1.6469170000000002E-2,null,500]
[28,3400,170,85,170.91067576703938,1.6469170000000002E-2,null,500]
[29,3480,174,87,173.72543274106161,1.6469170000000002E-2,null,500]
[30,3920,196,98,196.6143422221505,{"$f":"F11*2","v":0.13175336000000001},null,{"$f":"H2+100","v":600}]
[31,4000,200,100,199.85241724864525,{"$f":"F3","v":1.6469170000000002E-2},null,{"$f":"H2+100","v":600}]
[32,4080,204,102,203.14382068322411,{"$f":"F3","v":1.6469170000000002E-2},null,{"$f":"H3+100","v":600}]
[33,4120,206,103,206.48943080050563,{"$f":"F4","v":1.6469170000000002E-2},null,600]
[34,4200,210,105,209.89014033956238,1.6469170000000002E-2,null,600]
[35,4280,214,107,213.34685674213847,1.6469170000000002E-2,null,600]
[36,4320,216,108,216.86050239479039,1.6469170000000002E-2,null,600]
[37,4400,220,110,220.43201487501557,1.6469170000000002E-2,null,600]
[38,4480,224,112,224.0623472014347,1.6469170000000002E-2,null,600]
[39,4560,228,114,227.75246808809413,1.6469170000000002E-2,null,600]
[40,4840,242,121,242.75604454754369,6.5876680000000007E-2,null,600]
[41,4920,246,123,246.75403511372474,1.6469170000000002E-2,null,600]
[42,5000,250,125,250.81786926619861,1.6469170000000002E-2,null,600]
[43,5080,254,127,254.9486313941814,1.6469170000000002E-2,null,600]
[44,5200,260,130,259.14742374587951,1.6469170000000002E-2,null,600]
[45,5280,264,132,263.41536672261242,1.6469170000000002E-2,null,600]
[46,5360,268,134,267.75359917777945,1.6469170000000002E-2,null,600]
[47,5440,272,136,272.16327872075016,1.6469170000000002E-2,null,600]
[48,5520,276,138,276.64558202575955,1.6469170000000002E-2,null,600]
[49,5640,282,141,281.20170514589068,1.6469170000000002E-2,null,600]
[50,6000,300,150,299.72633989124085,6.5876680000000007E-2,null,600]
[51,6080,304,152,304.66258393638748,1.6469170000000002E-2,null,600]
[52,6200,310,155,309.68012382387508,1.6469170000000002E-2,null,600]
[53,6280,314,157,314.78029842875151,1.6469170000000002E-2,null,600]
[54,6400,320,160,319.96446867622535,1.6469170000000002E-2,null,600]
[55,6520,326,163,325.23401790481375,1.6469170000000002E-2,null,600]
[56,6600,330,165,330.59035223547113,1.6469170000000002E-2,null,600]
[57,6720,336,168,336.03490094679694,1.6469170000000002E-2,null,600]
[58,6840,342,171,341.56911685642285,1.6469170000000002E-2,null,600]
[59,6960,348,174,347.19447670868112,1.6469170000000002E-2,null,600]
[60,7840,392,196,392.93851558849161,0.13175336000000001,null,700]
[61,8000,400,200,399.40988680126611,1.6469170000000002E-2,null,700]
[62,8120,406,203,405.98783612667688,1.6469170000000002E-2,null,700]
[63,8240,412,206,412.67411881777923,1.6469170000000002E-2,null,700]
[64,8400,420,210,419.4705190351894,1.6469170000000002E-2,null,700]
[65,8520,426,213,426.37885032316814,1.6469170000000002E-2,null,700]
[66,{"$f":"C67*20","v":8680},{"$f":"D67*2","v":434},{"$f":"ROUND(MAX(D66+1,E67*M$1),0)","v":217},433.40095609354489,1.6469170000000002E-2,null,700]
[67,8800,440,220,{"$f":"E67*(1+F68)","v":440.53871011761197},1.6469170000000002E-2,null,700]
[68,8960,448,224,447.7940170261196,1.6469170000000002E-2,null,700]
[69,9120,456,228,455.16881281750562,1.6469170000000002E-2,null,700]
[70,9720,486,243,485.15382304546432,6.5876680000000007E-2,null,700]
[71,9880,494,247,493.14390383334995,1.6469170000000002E-2,null,700]
[72,10040,502,251,501.26557462004502,1.6469170000000002E-2,null,700]
[73,10200,510,255,509.5210025836102,1.6469170000000002E-2,null,700]
[74,10360,518,259,517.91239059373004,1.6469170000000002E-2,null,700]
[75,10520,526,263,526.44197779952458,1.6469170000000002E-2,null,700]
[76,10720,536,268,535.11204022704112,1.6469170000000002E-2,null,700]
[77,10880,544,272,543.92489138658709,1.6469170000000002E-2,null,700]
[78,11040,552,276,552.88288289006425,1.6469170000000002E-2,null,700]
[79,11240,562,281,561.98840507847081,1.6469170000000002E-2,null,700]
[80,12000,600,300,599.01033540353558,6.5876680000000007E-2,null,700]
[81,12160,608,304,608.87553844905335,1.6469170000000002E-2,null,700]
[82,12360,618,309,618.9032132006123,1.6469170000000002E-2,null,700]
[83,12600,630,315,629.09603543235937,1.6469170000000002E-2,null,700]
[84,12800,640,320,639.45672498622082,1.6469170000000002E-2,null,700]
[85,13000,650,325,649.98804649766214,1.6469170000000002E-2,null,700]
[86,13200,660,330,660.69281013340003,1.6469170000000002E-2,null,700]
[87,13440,672,336,671.57387234126463,1.6469170000000002E-2,null,700]
[88,13640,682,341,682.63413661241111,1.6469170000000002E-2,null,700]
[89,13880,694,347,693.87655425608409,1.6469170000000002E-2,null,700]
[90,15720,786,393,785.29712170454548,0.13175336000000001,null,800]
[91,15960,798,399,798.23031350240831,1.6469170000000002E-2,null,800]
[92,16240,812,406,811.37650423463265,1.6469170000000002E-2,null,800]
[93,16480,824,412,824.73920181687845,1.6469170000000002E-2,null,800]
[94,16760,838,419,838.32197193726483,1.6469170000000002E-2,null,800]
[95,17040,852,426,852.1284390078348,1.6469170000000002E-2,null,800]
[96,17320,866,433,866.16228713168937,1.6469170000000002E-2,null,{"$f":"H67+100","v":800}]
[97,17600,880,440,880.42726108604995,{"$f":"F68","v":1.6469170000000002E-2},null,800]
[98,17880,894,447,894.92716732151041,1.6469170000000002E-2,null,800]
[99,18200,910,455,909.66587497774674,1.6469170000000002E-2,null,800]
[100,19400,970,485,969.5916427305757,6.5876680000000007E-2,null,800]
[101,19720,986,493,985.56001232528479,1.6469170000000002E-2,null,800]
[102,20040,1002,501,1001.7913677134719,1.6469170000000002E-2,null,800]
[103,20360,1018,509,1018.2900400528775,1.6469170000000002E-2,null,800]
[104,20720,1036,518,1035.0604318318151,1.6469170000000002E-2,null,800]
[105,21040,1052,526,1052.1070180439267,1.6469170000000002E-2,null,800]
[106,21400,1070,535,1069.4343473822851,1.6469170000000002E-2,null,800]
[107,21760,1088,544,1087.0470434531628,1.6469170000000002E-2,null,800]
[108,22080,1104,552,1104.9498060097903,1.6469170000000002E-2,null,800]
[109,22480,1124,562,1123.1474122064326,1.6469170000000002E-2,null,800]
[110,23960,1198,599,1197.1366348731838,6.5876680000000007E-2,null,800]
[111,24320,1216,608,1216.8524816261381,1.6469170000000002E-2,null,800]
[112,24720,1236,618,1236.8930320109607,1.6469170000000002E-2,null,800]
[113,25160,1258,629,1257.2636336269645,1.6469170000000002E-2,null,800]
[114,25560,1278,639,1277.9697221439847,1.6469170000000002E-2,null,800]
[115,26000,1300,650,1299.0168227528266,1.6469170000000002E-2,null,800]
[116,26400,1320,660,1320.4105516396025,1.6469170000000002E-2,null,800]
[117,26840,1342,671,1342.1566174843488,1.6469170000000002E-2,null,800]
[118,27280,1364,682,1364.2608229843233,1.6469170000000002E-2,null,800]
[119,27720,1386,693,1386.7290664023919,1.6469170000000002E-2,null,800]
[120,31400,1570,785,1569.4352803105703,0.13175336000000001,null,900]
[121,31920,1596,798,1595.2825767460026,1.6469170000000002E-2,null,900]
[122,32440,1622,811,1621.5555567004706,1.6469170000000002E-2,null,900]
[123,32960,1648,824,1648.261230828215,1.6469170000000002E-2,null,900]
[124,33520,1676,838,1675.4067252431341,1.6469170000000002E-2,null,900]
[125,34040,1702,851,1702.9992834203065,1.6469170000000002E-2,null,900]
[126,34640,1732,866,1731.0462681288336,1.6469170000000002E-2,null,900]
[127,35200,1760,880,1759.5551633965129,1.6469170000000002E-2,null,900]
[128,35760,1788,894,1788.5335765068676,1.6469170000000002E-2,null,900]
[129,36360,1818,909,1817.9892400290671,1.6469170000000002E-2,null,900]
[130,{"$f":"C131*20","v":38760},{"$f":"D131*2","v":1938},{"$f":"ROUND(MAX(D130+1,E131*M$1),0)","v":969},1937.752335437905,6.5876680000000007E-2,null,900]
[131,39400,1970,985,{"$f":"E131*(1+F132)","v":1969.6655080681287},1.6469170000000002E-2,null,900]
[132,40040,2002,1001,2002.1042641636388,1.6469170000000002E-2,null,900]
[133,40720,2036,1018,2035.0772596478746,1.6469170000000002E-2,null,900]
[134,41360,2068,1034,2068.5932930001495,1.6469170000000002E-2,null,900]
[135,42040,2102,1051,2102.6613076034287,1.6469170000000002E-2,null,900]
[136,42760,2138,1069,2137.2903941307718,1.6469170000000002E-2,null,900]
[137,43440,2172,1086,2172.4897929710783,1.6469170000000002E-2,null,900]
[138,44160,2208,1104,2208.2688966947835,1.6469170000000002E-2,null,900]
[139,44880,2244,1122,2244.6372525601623,1.6469170000000002E-2,null,900]
[140,47840,2392,1196,2392.506502563147,6.5876680000000007E-2,null,900]
[141,48640,2432,1216,2431.9090988799649,1.6469170000000002E-2,null,900]
[142,49440,2472,1236,2471.9606232539654,1.6469170000000002E-2,null,900]
[143,50240,2512,1256,2512.6717629916407,1.6469170000000002E-2,null,900]
[144,51080,2554,1277,2554.0533814105497,1.6469170000000002E-2,null,900]
[145,51920,2596,1298,2596.1165207380745,1.6469170000000002E-2,null,900]
[146,52760,2638,1319,2638.8724050579181,1.6469170000000002E-2,null,900]
[147,53640,2682,1341,2682.3324433051257,1.6469170000000002E-2,null,900]
[148,54520,2726,1363,2726.508232310433,1.6469170000000002E-2,null,900]
[149,55440,2772,1386,2771.4115598947528,1.6469170000000002E-2,null,900]
[150,62720,3136,1568,3136.5543448537278,0.13175336000000001,null,1000]
[151,63760,3188,1594,3188.2107915733623,1.6469170000000002E-2,null,{"$f":"H151","v":1000}]
[152,64800,3240,1620,3240.7179770956182,1.6469170000000002E-2,null,{"$f":"H152","v":1000}]
[153,65880,3294,1647,3294.0899123824615,1.6469170000000002E-2,null,1000]
[154,66960,3348,1674,3348.3408391447733,1.6469170000000002E-2,null,1000]
[155,68080,3404,1702,3403.4852336425911,1.6469170000000002E-2,null,1000]
[156,69200,3460,1730,3459.5378105479404,1.6469170000000002E-2,null,1000]
[157,70320,3516,1758,3516.513526871282,1.6469170000000002E-2,null,1000]
[158,71480,3574,1787,3574.4275859526247,1.6469170000000002E-2,null,1000]
[159,72680,3634,1817,3633.2954415183676,1.6469170000000002E-2,null,1000,{"$nulls":5},160,1,{"$f":"P161-Q161","v":5.9999999999999977E-2},0.01]
[160,77440,3872,1936,3872.6448826647315,6.5876680000000007E-2,null,1000,{"$f":"VLOOKUP(INT(A161*0.1)*10,N$160:P$174,3,FALSE)","v":5.9999999999999977E-2},{"$f":"ROUND(主表!E162*20*I161,0)","v":8364},null,null,null,170,2,6.9999999999999979E-2,{"$f":"Q160","v":0.01}]
[161,78720,3936,1968,3936.424129586967,{"$f":"F132","v":1.6469170000000002E-2},null,1000,{"$f":"VLOOKUP(INT(A162*0.1)*10,N$160:P$174,3,FALSE)","v":5.9999999999999977E-2},{"$f":"ROUND(主表!E163*20*I162,0)","v":8525},null,null,null,180,3,9.9999999999999978E-2,{"$f":"Q160*3","v":0.03}]
[162,80040,4002,2001,4001.2537677692362,1.6469170000000002E-2,null,1000,5.9999999999999977E-2,{"$f":"ROUND(主表!E164*20*I163,0)","v":8693},null,null,null,190,4,0.10999999999999997,{"$f":"Q160","v":0.01}]
[163,81360,4068,2034,4067.1510962837679,1.6469170000000002E-2,null,1000,5.9999999999999977E-2,{"$f":"ROUND(主表!E165*20*I164,0)","v":8860},null,null,null,200,5,0.11999999999999997,{"$f":"Q161","v":0.01}]
[164,82680,4134,2067,4134.1336991041517,1.6469170000000002E-2,null,1000,5.9999999999999977E-2,{"$f":"ROUND(主表!E166*20*I165,0)","v":9029},null,null,null,210,6,0.14999999999999997,0.03]
[165,84040,4202,2101,4202.219449797426,1.6469170000000002E-2,null,1000,5.9999999999999977E-2,{"$f":"ROUND(主表!E167*20*I166,0)","v":9203},null,null,null,220,7,0.15999999999999998,0.01]
[166,85440,4272,2136,4271.4265162934462,1.6469170000000002E-2,null,1000,5.9999999999999977E-2,{"$f":"ROUND(主表!E168*20*I167,0)","v":9382},null,null,null,230,8,0.16999999999999998,0.01]
[167,86840,4342,2171,4341.7733657327908,1.6469170000000002E-2,null,1000,5.9999999999999977E-2,{"$f":"ROUND(主表!E169*20*I168,0)","v":9562},null,null,null,240,9,0.19999999999999998,0.03]
[168,88280,4414,2207,4413.2787693945156,1.6469170000000002E-2,null,1000,5.9999999999999977E-2,{"$f":"ROUND(主表!E170*20*I169,0)","v":9746},null,null,null,250,10,0.21,0.01]
[169,89720,4486,2243,4485.9618077050645,1.6469170000000002E-2,null,1000,5.9999999999999977E-2,{"$f":"ROUND(主表!E171*20*I170,0)","v":9932},null,null,null,260,11,0.22,0.01]
[170,95640,4782,2391,4781.4820782034722,6.5876680000000007E-2,null,1000,6.9999999999999979E-2,{"$f":"ROUND(主表!E172*20*I171,0)","v":12386},null,null,null,270,12,0.25,0.03]
[171,97200,4860,2430,4860.2291194013578,1.6469170000000002E-2,null,1000,6.9999999999999979E-2,{"$f":"ROUND(主表!E173*20*I172,0)","v":12621},null,null,null,280,13,0.26,0.01]
[172,98800,4940,2470,4940.273059007729,1.6469170000000002E-2,null,1000,6.9999999999999979E-2,{"$f":"ROUND(主表!E174*20*I173,0)","v":12863},null,null,null,290,14,{"$f":"P174-Q174","v":0.27},0.01]
[173,100440,5022,2511,5021.6352558629469,1.6469170000000002E-2,null,1000,6.9999999999999979E-2,{"$f":"ROUND(主表!E175*20*I174,0)","v":13112},null,null,null,300,15,0.3,0.03]
[174,102080,5104,2552,5104.3374205697473,1.6469170000000002E-2,null,1000,6.9999999999999979E-2,{"$f":"ROUND(主表!E176*20*I175,0)","v":13362}]
[175,103760,5188,2594,5188.4016212864717,1.6469170000000002E-2,null,1000,6.9999999999999979E-2,{"$f":"ROUND(主表!E177*20*I176,0)","v":13619}]
[176,105480,5274,2637,5273.8502896157142,1.6469170000000002E-2,null,1000,6.9999999999999979E-2,{"$f":"ROUND(主表!E178*20*I177,0)","v":13881}]
[177,107200,5360,2680,5360.706226589944,1.6469170000000002E-2,null,1000,6.9999999999999979E-2,{"$f":"ROUND(主表!E179*20*I178,0)","v":14146}]
[178,108960,5448,2724,5448.9926087557114,1.6469170000000002E-2,null,1000,6.9999999999999979E-2,{"$f":"ROUND(主表!E180*20*I179,0)","v":14416}]
[179,110760,5538,2769,5538.7329943580526,1.6469170000000002E-2,null,1000,6.9999999999999979E-2,{"$f":"ROUND(主表!E181*20*I180,0)","v":14693}]
[180,125360,6268,3134,6268.4796765075871,0.13175336000000001,null,1000,9.9999999999999978E-2,{"$f":"ROUND(主表!E182*20*I181,0)","v":23818}]
[181,127440,6372,3186,6371.7163339415347,1.6469170000000002E-2,null,1000,9.9999999999999978E-2,{"$f":"ROUND(主表!E183*20*I182,0)","v":24278}]
[182,129520,6476,3238,6476.6532134369945,1.6469170000000002E-2,null,1000,9.9999999999999978E-2,{"$f":"ROUND(主表!E184*20*I183,0)","v":24738}]
[183,131680,6584,3292,6583.3183162401338,1.6469170000000002E-2,null,1000,9.9999999999999978E-2,{"$f":"ROUND(主表!E185*20*I184,0)","v":25216}]
[184,133840,6692,3346,6691.7401047544054,1.6469170000000002E-2,null,1000,9.9999999999999978E-2,{"$f":"ROUND(主表!E186*20*I185,0)","v":25698}]
[185,136040,6802,3401,6801.9475101354228,1.6469170000000002E-2,null,1000,9.9999999999999978E-2,{"$f":"ROUND(主表!E187*20*I186,0)","v":26188}]
[186,138280,6914,3457,6913.9699400109193,1.6469170000000002E-2,null,1000,9.9999999999999978E-2,{"$f":"ROUND(主表!E188*20*I187,0)","v":26688}]
[187,140560,7028,3514,7027.8372863278482,1.6469170000000002E-2,null,1000,9.9999999999999978E-2,{"$f":"ROUND(主表!E189*20*I188,0)","v":27198}]
[188,142880,7144,3572,7143.5799333287196,1.6469170000000002E-2,null,1000,9.9999999999999978E-2,{"$f":"ROUND(主表!E190*20*I189,0)","v":27718}]
[189,145240,7262,3631,7261.228765659298,1.6469170000000002E-2,null,1000,9.9999999999999978E-2,{"$f":"ROUND(主表!E191*20*I190,0)","v":28250}]
[190,154800,7740,3870,7739.5744094614302,6.5876680000000007E-2,null,1000,0.10999999999999997,{"$f":"ROUND(主表!E192*20*I191,0)","v":33205}]
[191,157360,7868,3934,7867.0387761384991,1.6469170000000002E-2,null,1000,0.10999999999999997,{"$f":"ROUND(主表!E193*20*I192,0)","v":33840}]
[192,159920,7996,3998,7996.602375139315,1.6469170000000002E-2,null,1000,0.10999999999999997,{"$f":"ROUND(主表!E194*20*I193,0)","v":34478}]
[193,162560,8128,4064,8128.2997790778873,1.6469170000000002E-2,null,1000,0.10999999999999997,{"$f":"ROUND(主表!E195*20*I194,0)","v":35138}]
[194,{"$f":"C195*20","v":165240},{"$f":"D195*2","v":8262},{"$f":"ROUND(MAX(D194+1,E195*M$1),0)","v":4131},8262.1661299504831,1.6469170000000002E-2,null,1000,0.10999999999999997,{"$f":"ROUND(主表!E196*20*I195,0)","v":35807}]
[195,167960,8398,4199,{"$f":"E195*(1+F196)","v":8398.2371485128788},1.6469170000000002E-2,null,1000,0.10999999999999997,{"$f":"ROUND(主表!E197*20*I196,0)","v":36489}]
[196,170720,8536,4268,8536.5491438120516,1.6469170000000002E-2,null,1000,0.10999999999999997,{"$f":"ROUND(主表!E198*20*I197,0)","v":37182}]
[197,173560,8678,4339,8677.139022874846,1.6469170000000002E-2,null,1000,0.10999999999999997,{"$f":"ROUND(主表!E199*20*I198,0)","v":37897}]
[198,176400,8820,4410,8820.0443005562047,1.6469170000000002E-2,null,1000,0.10999999999999997,{"$f":"ROUND(主表!E200*20*I199,0)","v":38614}]
[199,179320,8966,4483,8965.3031095495953,1.6469170000000002E-2,null,1000,0.10999999999999997,{"$f":"ROUND(主表!E201*20*I200,0)","v":39351}]
[200,191120,9556,4778,9555.9075136003976,6.5876680000000007E-2,null,1000,0.11999999999999997,{"$f":"ROUND(主表!E202*20*I201,0)","v":45869}]
[201,194280,9714,4857,9713.2853789461587,1.6469170000000002E-2,null,1000,0.11999999999999997,{"$f":"ROUND(主表!E203*20*I202,0)","v":46745}]
[202,197480,9874,4937,9873.2551271105367,1.6469170000000002E-2,null,1000,0.11999999999999997,{"$f":"ROUND(主表!E204*20*I203,0)","v":47633}]
[203,200720,10036,5018,10035.859444252292,1.6469170000000002E-2,null,1000,0.11999999999999997,{"$f":"ROUND(主表!E205*20*I204,0)","v":48535}]
[204,204040,10202,5101,10201.141719535788,1.6469170000000002E-2,null,1000,0.11999999999999997,{"$f":"ROUND(主表!E206*20*I205,0)","v":49459}]
[205,207400,10370,5185,10369.146056708914,1.6469170000000002E-2,null,1000,0.11999999999999997,{"$f":"ROUND(主表!E207*20*I206,0)","v":50398}]
[206,210800,10540,5270,10539.917285871683,1.6469170000000002E-2,null,1000,0.11999999999999997,{"$f":"ROUND(主表!E208*20*I207,0)","v":51350}]
[207,214280,10714,5357,10713.500975438641,1.6469170000000002E-2,null,1000,0.11999999999999997,{"$f":"ROUND(主表!E209*20*I208,0)","v":52327}]
[208,217800,10890,5445,10889.943444298306,1.6469170000000002E-2,null,1000,0.11999999999999997,{"$f":"ROUND(主表!E210*20*I209,0)","v":53318}]
[209,221400,11070,5535,11069.29177417284,1.6469170000000002E-2,null,1000,0.11999999999999997,{"$f":"ROUND(主表!E211*20*I210,0)","v":54331}]
[210,250560,12528,6264,12527.708158240473,0.13175336000000001,null,1000,0.14999999999999997,{"$f":"ROUND(主表!E212*20*I211,0)","v":77046}]
[211,254680,12734,6367,12734.029113608922,1.6469170000000002E-2,null,1000,0.14999999999999997,{"$f":"ROUND(主表!E213*20*I212,0)","v":78504}]
[212,258880,12944,6472,12943.748003865896,1.6469170000000002E-2,null,1000,0.14999999999999997,{"$f":"ROUND(主表!E214*20*I213,0)","v":79995}]
[213,263120,13156,6578,13156.920790178723,1.6469170000000002E-2,null,1000,0.14999999999999997,{"$f":"ROUND(主表!E215*20*I214,0)","v":81501}]
[214,267480,13374,6687,13373.604355348711,1.6469170000000002E-2,null,1000,0.14999999999999997,{"$f":"ROUND(主表!E216*20*I215,0)","v":83052}]
[215,271880,13594,6797,13593.856518989687,1.6469170000000002E-2,null,1000,0.14999999999999997,{"$f":"ROUND(主表!E217*20*I216,0)","v":84624}]
[216,276360,13818,6909,13817.736052956536,1.6469170000000002E-2,null,{"$f":"H216","v":1000},0.14999999999999997,{"$f":"ROUND(主表!E218*20*I217,0)","v":86223}]
[217,280920,14046,7023,14045.302697027804,1.6469170000000002E-2,null,1000,0.14999999999999997,{"$f":"ROUND(主表!E219*20*I218,0)","v":87858}]
[218,285520,14276,7138,14276.617174846613,1.6469170000000002E-2,null,1000,0.14999999999999997,{"$f":"ROUND(主表!E220*20*I219,0)","v":89511}]
[219,290240,14512,7256,14511.741210124081,1.6469170000000002E-2,null,1000,0.14999999999999997,{"$f":"ROUND(主表!E221*20*I220,0)","v":91209}]
[220,309360,15468,7734,15467.726542066237,6.5876680000000007E-2,null,1000,0.15999999999999998,{"$f":"ROUND(主表!E222*20*I221,0)","v":103946}]
[221,314440,15722,7861,15722.467160001037,1.6469170000000002E-2,null,1000,0.15999999999999998,{"$f":"ROUND(主表!E223*20*I222,0)","v":105904}]
[222,319640,15982,7991,15981.403144478511,1.6469170000000002E-2,null,1000,0.15999999999999998,{"$f":"ROUND(主表!E224*20*I223,0)","v":107910}]
[223,324880,16244,8122,16244.60358970346,1.6469170000000002E-2,null,1000,0.15999999999999998,{"$f":"ROUND(主表!E225*20*I224,0)","v":109939}]
[224,330240,16512,8256,16512.138727804897,1.6469170000000002E-2,null,1000,0.15999999999999998,{"$f":"ROUND(主表!E226*20*I225,0)","v":112016}]
[225,335680,16784,8392,16784.079947576698,{"$f":"F196","v":1.6469170000000002E-2},null,1000,{"$f":"VLOOKUP(INT(A226*0.1)*10,N$160:P$174,3,FALSE)","v":0.15999999999999998},{"$f":"ROUND(主表!E227*20*I226,0)","v":114131}]
[226,341200,17060,8530,17060.499813526927,1.6469170000000002E-2,null,1000,0.15999999999999998,{"$f":"ROUND(主表!E228*20*I227,0)","v":116282}]
[227,346840,17342,8671,17341.472085240868,1.6469170000000002E-2,null,1000,0.15999999999999998,{"$f":"ROUND(主表!E229*20*I228,0)","v":118480}]
[228,352560,17628,8814,17627.071737062954,1.6469170000000002E-2,null,1000,0.15999999999999998,{"$f":"ROUND(主表!E230*20*I229,0)","v":120717}]
[229,358360,17918,8959,17917.374978102838,1.6469170000000002E-2,null,1000,0.15999999999999998,{"$f":"ROUND(主表!E231*20*I230,0)","v":122989}]
[230,381960,19098,9549,19097.712155975325,6.5876680000000007E-2,null,1000,0.16999999999999998,{"$f":"ROUND(主表!E232*20*I231,0)","v":139607}]
[231,388240,19412,9706,19412.235624083147,1.6469170000000002E-2,null,1000,0.16999999999999998,{"$f":"ROUND(主表!E233*20*I232,0)","v":142232}]
[232,394640,19732,9866,19731.939032656228,1.6469170000000002E-2,null,1000,0.16999999999999998,{"$f":"ROUND(主表!E234*20*I233,0)","v":144911}]
[233,401120,20056,10028,20056.907691014676,1.6469170000000002E-2,null,1000,0.16999999999999998,{"$f":"ROUND(主表!E235*20*I234,0)","v":147631}]
[234,407760,20388,10194,20387.228313452302,1.6469170000000002E-2,null,1000,0.16999999999999998,{"$f":"ROUND(主表!E236*20*I235,0)","v":150423}]
[235,414440,20722,10361,20722.98904237536,1.6469170000000002E-2,null,1000,0.16999999999999998,{"$f":"ROUND(主表!E237*20*I236,0)","v":153238}]
[236,421280,21064,10532,21064.279471822374,1.6469170000000002E-2,null,1000,0.16999999999999998,{"$f":"ROUND(主表!E238*20*I237,0)","v":156128}]
[237,428240,21412,10706,21411.190671371325,1.6469170000000002E-2,null,1000,0.16999999999999998,{"$f":"ROUND(主表!E239*20*I238,0)","v":159069}]
[238,435280,21764,10882,21763.815210440553,1.6469170000000002E-2,null,1000,0.16999999999999998,{"$f":"ROUND(主表!E240*20*I239,0)","v":162054}]
[239,442440,22122,11061,22122.247182989882,1.6469170000000002E-2,null,1000,0.16999999999999998,{"$f":"ROUND(主表!E241*20*I240,0)","v":165097}]
[240,500720,25036,12518,25036.927580099335,0.13175336000000001,null,1000,0.19999999999999998,{"$f":"ROUND(主表!E242*20*I241,0)","v":220316}]
[241,509000,25450,12725,25449.264996693677,1.6469170000000002E-2,null,1000,0.19999999999999998,{"$f":"ROUND(主表!E243*20*I242,0)","v":224468}]
[242,517360,25868,12934,25868.393268299271,1.6469170000000002E-2,null,1000,0.19999999999999998,{"$f":"ROUND(主表!E244*20*I243,0)","v":228672}]
[243,525880,26294,13147,26294.424234661747,1.6469170000000002E-2,null,1000,0.19999999999999998,{"$f":"ROUND(主表!E245*20*I244,0)","v":232964}]
[244,534560,26728,13364,26727.47157743451,1.6469170000000002E-2,null,1000,0.19999999999999998,{"$f":"ROUND(主表!E246*20*I245,0)","v":237344}]
[245,543360,27168,13584,27167.650850513444,1.6469170000000002E-2,null,1000,0.19999999999999998,{"$f":"ROUND(主表!E247*20*I246,0)","v":241796}]
[246,552320,27616,13808,27615.079510871194,1.6469170000000002E-2,null,1000,0.19999999999999998,{"$f":"ROUND(主表!E248*20*I247,0)","v":246336}]
[247,561400,28070,14035,28069.876949899244,1.6469170000000002E-2,null,1000,0.19999999999999998,{"$f":"ROUND(主表!E249*20*I248,0)","v":250944}]
[248,570640,28532,14266,28532.164525266213,1.6469170000000002E-2,null,1000,0.19999999999999998,{"$f":"ROUND(主表!E250*20*I249,0)","v":255648}]
[249,580040,29002,14501,29002.065593300787,1.6469170000000002E-2,null,1000,0.19999999999999998,{"$f":"ROUND(主表!E251*20*I250,0)","v":260436}]
[250,618240,30912,15456,30912.625387729669,6.5876680000000007E-2,null,1000,0.21,{"$f":"ROUND(主表!E252*20*I251,0)","v":292118}]
[251,628440,31422,15711,31421.730670386503,1.6469170000000002E-2,null,1000,0.21,{"$f":"ROUND(主表!E253*20*I252,0)","v":297599}]
[252,638800,31940,15970,31939.22049449131,1.6469170000000002E-2,null,1000,0.21,{"$f":"ROUND(主表!E254*20*I253,0)","v":303173}]
[253,649320,32466,16233,32465.232946482571,1.6469170000000002E-2,null,1000,0.21,{"$f":"ROUND(主表!E255*20*I254,0)","v":308847}]
[254,660000,33000,16500,32999.908386967792,1.6469170000000002E-2,null,1000,0.21,{"$f":"ROUND(主表!E256*20*I255,0)","v":314622}]
[255,670880,33544,16772,33543.389488177185,1.6469170000000002E-2,null,1000,0.21,{"$f":"ROUND(主表!E257*20*I256,0)","v":320515}]
[256,681920,34096,17048,34095.821272034183,1.6469170000000002E-2,null,1000,0.21,{"$f":"ROUND(主表!E258*20*I257,0)","v":326504}]
[257,693160,34658,17329,34657.351148852926,1.6469170000000002E-2,null,1000,0.21,{"$f":"ROUND(主表!E259*20*I258,0)","v":332615}]
[258,{"$f":"C259*20","v":704560},{"$f":"D259*2","v":35228},{"$f":"ROUND(MAX(D258+1,E259*M$1),0)","v":17614},35228.128956673077,1.6469170000000002E-2,null,1000,0.21,{"$f":"ROUND(主表!E260*20*I259,0)","v":338822}]
[259,716160,35808,17904,{"$f":"E259*(1+F260)","v":35808.307001242443},1.6469170000000002E-2,null,1000,0.21,{"$f":"ROUND(主表!E261*20*I260,0)","v":345152}]
[260,763360,38168,19084,38167.239382905049,6.5876680000000007E-2,null,1000,0.22,{"$f":"ROUND(主表!E262*20*I261,0)","v":386258}]
[261,775920,38796,19398,38795.822136732801,1.6469170000000002E-2,null,1000,0.22,{"$f":"ROUND(主表!E263*20*I262,0)","v":393470}]
[262,788680,39434,19717,39434.757126792414,1.6469170000000002E-2,null,1000,0.22,{"$f":"ROUND(主表!E264*20*I263,0)","v":400809}]
[263,801680,40084,20042,40084.214845822265,1.6469170000000002E-2,null,1000,0.22,{"$f":"ROUND(主表!E265*20*I264,0)","v":408294}]
[264,814880,40744,20372,40744.368594434636,1.6469170000000002E-2,null,1000,0.22,{"$f":"ROUND(主表!E266*20*I265,0)","v":415914}]
[265,828320,41416,20708,41415.394527359036,1.6469170000000002E-2,null,1000,0.22,{"$f":"ROUND(主表!E267*20*I266,0)","v":423685}]
[266,841960,42098,21049,42097.471700447175,1.6469170000000002E-2,null,1000,0.22,{"$f":"ROUND(主表!E268*20*I267,0)","v":431587}]
[267,855800,42790,21395,42790.782118452022,1.6469170000000002E-2,null,1000,0.22,{"$f":"ROUND(主表!E269*20*I268,0)","v":439626}]
[268,869920,43496,21748,43495.510783593767,1.6469170000000002E-2,null,1000,0.22,{"$f":"ROUND(主表!E270*20*I269,0)","v":447836}]
[269,884240,44212,22106,44211.845744925602,1.6469170000000002E-2,null,1000,0.22,{"$f":"ROUND(主表!E271*20*I270,0)","v":456179}]
[270,1000720,50036,25018,50036.904973621255,0.13175336000000001,null,1000,0.25,{"$f":"ROUND(主表!E272*20*I271,0)","v":587925}]
[271,1017200,50860,25430,50860.971267905661,1.6469170000000002E-2,null,1000,0.25,{"$f":"ROUND(主表!E273*20*I272,0)","v":598875}]
[272,1033960,51698,25849,51698.609250081914,1.6469170000000002E-2,null,1000,0.25,{"$f":"ROUND(主表!E274*20*I273,0)","v":610035}]
[273,1051000,52550,26275,52550.042434585084,1.6469170000000002E-2,null,1000,0.25,{"$f":"ROUND(主表!E275*20*I274,0)","v":621405}]
[274,1068320,53416,26708,53415.498016947473,1.6469170000000002E-2,null,1000,0.25,{"$f":"ROUND(主表!E276*20*I275,0)","v":632980}]
[275,1085920,54296,27148,54295.206934423237,1.6469170000000002E-2,null,1000,0.25,{"$f":"ROUND(主表!E277*20*I276,0)","v":644765}]
[276,1103800,55190,27595,55189.403927611427,1.6469170000000002E-2,null,1000,0.25,{"$f":"ROUND(主表!E278*20*I277,0)","v":656760}]
[277,1121960,56098,28049,56098.327603093923,1.6469170000000002E-2,null,1000,0.25,{"$f":"ROUND(主表!E279*20*I278,0)","v":668970}]
[278,1140440,57022,28511,57022.220497104965,1.6469170000000002E-2,null,1000,0.25,{"$f":"ROUND(主表!E280*20*I279,0)","v":681415}]
[279,1159240,57962,28981,57961.329140249269,1.6469170000000002E-2,null,1000,0.25,{"$f":"ROUND(主表!E281*20*I280,0)","v":694095}]
[280,1235600,61780,30890,61779.629072396143,6.5876680000000007E-2,null,{"$f":"H280","v":1000},0.26,{"$f":"ROUND(主表!E282*20*I281,0)","v":771014}]
[281,1255960,62798,31399,62797.088286126374,1.6469170000000002E-2,null,1000,0.26,{"$f":"ROUND(主表!E283*20*I282,0)","v":785351}]
[282,1276640,63832,31916,63831.304208615591,1.6469170000000002E-2,null,1000,0.26,{"$f":"ROUND(主表!E284*20*I283,0)","v":799942}]
[283,1297640,64882,32441,64882.552808948989,1.6469170000000002E-2,null,1000,0.26,{"$f":"ROUND(主表!E285*20*I284,0)","v":814788}]
[284,1319040,65952,32976,65951.114601193549,1.6469170000000002E-2,null,1000,0.26,{"$f":"ROUND(主表!E286*20*I285,0)","v":829941}]
[285,1340760,67038,33519,67037.274719250083,1.6469170000000002E-2,null,1000,0.26,{"$f":"ROUND(主表!E287*20*I286,0)","v":845348}]
[286,1362840,68142,34071,68141.322992938105,1.6469170000000002E-2,null,1000,0.26,{"$f":"ROUND(主表!E288*20*I287,0)","v":861042}]
[287,1385280,69264,34632,69263.554025333709,1.6469170000000002E-2,null,1000,0.26,{"$f":"ROUND(主表!E289*20*I288,0)","v":877022}]
[288,1408080,70404,35202,70404.267271381104,1.6469170000000002E-2,null,1000,0.26,{"$f":"ROUND(主表!E290*20*I289,0)","v":893287}]
[289,1431280,71564,35782,71563.76711779891,{"$f":"F260","v":1.6469170000000002E-2},null,1000,{"$f":"VLOOKUP(INT(A290*0.1)*10,N$160:P$174,3,FALSE)","v":0.26},{"$f":"ROUND(主表!E291*20*I290,0)","v":909865}]
[290,1525560,76278,38139,76278.150503812663,6.5876680000000007E-2,null,1000,0.27,{"$f":"ROUND(主表!E292*20*I291,0)","v":1009157}]
[291,1550680,77534,38767,77534.388331745533,1.6469170000000002E-2,null,1000,0.27,{"$f":"ROUND(主表!E293*20*I292,0)","v":1027868}]
[292,1576240,78812,39406,78811.315354027058,1.6469170000000002E-2,null,1000,0.27,{"$f":"ROUND(主表!E294*20*I293,0)","v":1046941}]
[293,1602200,80110,40055,80109.27230451614,1.6469170000000002E-2,null,1000,0.27,{"$f":"ROUND(主表!E295*20*I294,0)","v":1066343}]
[294,1628560,81428,40714,81428.6055286755,1.6469170000000002E-2,null,1000,0.27,{"$f":"ROUND(主表!E296*20*I295,0)","v":1086086}]
[295,1655400,82770,41385,82769.66707599019,1.6469170000000002E-2,null,1000,0.27,{"$f":"ROUND(主表!E297*20*I296,0)","v":1106222}]
[296,1682640,84132,42066,84132.814793908066,1.6469170000000002E-2,null,1000,0.27,{"$f":"ROUND(主表!E298*20*I297,0)","v":1126694}]
[297,1710360,85518,42759,85518.412423327449,1.6469170000000002E-2,null,1000,0.27,{"$f":"ROUND(主表!E299*20*I298,0)","v":1147565}]
[298,1738520,86926,43463,86926.829695657332,1.6469170000000002E-2,null,1000,0.27,{"$f":"ROUND(主表!E300*20*I299,0)","v":1168808}]
[299,1767160,88358,44179,88358.442431476156,1.6469170000000002E-2,null,1000,0.27,{"$f":"ROUND(主表!E301*20*I300,0)","v":1190446}]
[300,2000000,100000,50000,99999.964106189713,0.13175336000000001,null,1000,0.3,{"$f":"ROUND(主表!E302*20*I301,0)","v":1500000}]

{"sheet":"功法","index":2,"n_rows":61,"n_cols":6,"rows_kept":61,"cut":false,"hidden":false,"merged":[]}
["等级","需求修为等级","标准强度","被动加成",1,2]
[1,1,{"$f":"E1","v":1},{"$f":"D$61/60*A2","v":3.3333333333333333E-2}]
[2,5,{"$f":"E$1+(F$1-E$1)*A2/59","v":1.0169491525423728},{"$f":"D$61/60*A3","v":6.6666666666666666E-2}]
[3,10,{"$f":"E$1+(F$1-E$1)*A3/59","v":1.0338983050847457},0.1]
[4,15,1.0508474576271187,0.13333333333333333]
[5,20,1.0677966101694916,0.16666666666666666]
[6,25,1.0847457627118644,0.2]
[7,30,1.1016949152542372,0.23333333333333334]
[8,35,1.1186440677966101,0.26666666666666666]
[9,40,1.1355932203389831,0.3]
[10,45,1.152542372881356,0.33333333333333331]
[11,50,1.1694915254237288,0.36666666666666664]
[12,55,1.1864406779661016,0.4]
[13,60,1.2033898305084745,0.43333333333333335]
[14,65,1.2203389830508475,0.46666666666666667]
[15,70,1.2372881355932204,0.5]
[16,75,1.2542372881355932,0.53333333333333333]
[17,80,1.271186440677966,0.56666666666666665]
[18,85,1.2881355932203391,0.6]
[19,90,1.3050847457627119,0.6333333333333333]
[20,95,1.3220338983050848,0.66666666666666663]
[21,100,1.3389830508474576,0.7]
[22,105,1.3559322033898304,0.73333333333333328]
[23,110,1.3728813559322033,0.76666666666666661]
[24,115,1.3898305084745763,0.8]
[25,120,1.4067796610169492,0.83333333333333337]
[26,125,1.423728813559322,0.8666666666666667]
[27,130,1.4406779661016949,0.9]
[28,135,1.4576271186440679,0.93333333333333335]
[29,140,1.4745762711864407,0.96666666666666667]
[30,145,1.4915254237288136,1]
[31,150,1.5084745762711864,1.0333333333333332]
[32,155,1.5254237288135593,1.0666666666666667]
[33,160,1.5423728813559321,1.1000000000000001]
[34,165,1.5593220338983049,1.1333333333333333]
[35,170,1.576271186440678,1.1666666666666667]
[36,175,1.5932203389830508,1.2]
[37,180,1.6101694915254239,1.2333333333333334]
[38,185,1.6271186440677967,1.2666666666666666]
[39,190,1.6440677966101696,1.3]
[40,195,1.6610169491525424,1.3333333333333333]
[41,200,1.6779661016949152,1.3666666666666667]
[42,205,1.6949152542372881,1.4]
[43,210,1.7118644067796609,1.4333333333333333]
[44,215,1.7288135593220337,1.4666666666666666]
[45,220,1.7457627118644068,1.5]
[46,225,1.7627118644067796,1.5333333333333332]
[47,230,1.7796610169491527,1.5666666666666667]
[48,235,1.7966101694915255,1.6]
[49,240,1.8135593220338984,1.6333333333333333]
[50,245,1.8305084745762712,1.6666666666666667]
[51,250,1.847457627118644,1.7]
[52,255,1.8644067796610169,1.7333333333333334]
[53,260,1.8813559322033897,1.7666666666666666]
[54,265,1.8983050847457628,1.8]
[55,270,1.9152542372881356,1.8333333333333333]
[56,275,1.9322033898305084,1.8666666666666667]
[57,280,1.9491525423728815,1.9]
[58,285,1.9661016949152543,1.9333333333333333]
[59,290,1.9830508474576272,1.9666666666666666]
[60,295,{"$f":"F1","v":2},2]