{"text_format":"2","workbook":"xlsx","n_sheets":1,"sheets":["HeroPowerUpConfig"],"not_rendered":{"charts":0,"images":0,"macros":0,"external_links":2,"defined_names":1,"comments":0,"pivot_tables":0},"unopened":[],"bounds":{"document_bytes":16777216,"sheet_cells":100000,"run_cost":"one","rows_first":2000,"rows_last":500,"rows_between":2000,"halvings":0,"cell_chars":16384,"cell_head_chars":4096},"cells_cut":0,"cells_raw":0,"read":"whole","date_system":"1900"}

{"sheet":"HeroPowerUpConfig","index":0,"n_rows":304,"n_cols":33,"rows_kept":304,"cut":false,"hidden":false,"merged":[]}
["ID","HeroLevel","jingjie1","jingjie2","jingjie3","jingjieLanIDs",{"$nulls":6},"levelUpExp","DujieLevelbattleID","DujieRateviaBattle","DujieMustItemIDs","DujieMustItemValues","DujieItemIDs","DujieItemValues","LeijieDamages","HPFactor","ATKFactor","DEFFactor","MPFactor","HudunFactor","defK","ShenshiMax","AutoXiuwei","FailureExpReduce"]
["int","int","int","int","int","int[]",{"$nulls":6},"int","int","int","int[]","int[]","int[]","int[]","int[]","float","float","float","float","float","int","int","int","int"]
[{"$nulls":29},{"$f":"SUM(AD5:AD304)","v":1211188},{"$f":"AD3/60","v":20186.466666666667},{"$f":"AE3/60","v":336.44111111111113},{"$f":"AF3/12","v":28.036759259259259}]
["ID","玩家修为境界（等级）","大境界ID","中境界ID","小境界ID","境界语言表ID","境界名称1","境界名称2","境界名称3",null,null,null,"升级所需修为值\n（-1代表最大等级)","渡劫必须战斗ID","战斗增加渡劫几率","渡劫必需道具ID","渡劫必需道具数量","渡劫选有道具IDs","渡劫选有道具数量","雷劫伤害\n要填下限和上限","生命倍率","攻击倍率","防御倍率","法力倍率","护盾倍率","防御系数K","神识上限","每秒获得的修为值","雷劫失败扣除的当前等级修为百分比","吐纳时长","分钟","小时","天（每天12小时）"]
[1,1,1,1,{"$f":"I5","v":1},{"$f":"_xlfn.TEXTJOIN(\";\",1,J5:L5)","v":"225;235;238"},"筑基期","前",1,225,235,238,{"$f":"INT(0.1*AB5*AD5)*10","v":200},{"$f":"IF(I5=10,100001,-1)","v":-1},{"$f":"IF(N5=-1,-1,20)","v":-1},{"$f":"IF(I5=10,1002,-1)","v":-1},{"$f":"IF(P5=-1,-1,100)","v":-1},{"$f":"IF(I5=10,\"1001;1002;1004\",-1)","v":-1},{"$f":"IF(R5=-1,-1,\"100;200;300\")","v":-1},{"$f":"IF(G5=G6,0,CONCATENATE(B5*100,\";\",B5*150))","v":0},{"$f":"[1]升级!$B2/[2]HeroModelConfig!$M$5","v":1},{"$f":"[1]升级!$C2/[2]HeroModelConfig!$N$5","v":1},{"$f":"[1]升级!$D2/[2]HeroModelConfig!$O$5","v":1},1,{"$f":"[1]升级!$J2/[2]HeroModelConfig!$P$5","v":0},{"$f":"[1]升级!$E2","v":100},{"$f":"[1]升级!$H2","v":500},10,-1,{"$f":"ROUND(10^(B5*0.01+1.3),0)","v":20}]
[2,2,1,1,{"$f":"I6","v":2},{"$f":"_xlfn.TEXTJOIN(\";\",1,J6:L6)","v":"225;235;239"},"筑基期","前",2,225,235,239,{"$f":"INT(0.1*AB6*AD6)*10","v":300},{"$f":"IF(I6=10,100001,-1)","v":-1},{"$f":"IF(N6=-1,-1,20)","v":-1},{"$f":"IF(I6=10,1002,-1)","v":-1},{"$f":"IF(P6=-1,-1,100)","v":-1},{"$f":"IF(I6=10,\"1001;1002;1004\",-1)","v":-1},{"$f":"IF(R6=-1,-1,\"100;200;300\")","v":-1},{"$f":"IF(G6=G7,0,CONCATENATE(B6*100,\";\",B6*150))","v":0},{"$f":"[1]升级!$B3/[2]HeroModelConfig!$M$5","v":1.02},{"$f":"[1]升级!$C3/[2]HeroModelConfig!$N$5","v":1.02},{"$f":"[1]升级!$D3/[2]HeroModelConfig!$O$5","v":1.02},1,{"$f":"[1]升级!$J3/[2]HeroModelConfig!$P$5","v":0},{"$f":"[1]升级!$E3","v":101.64691699999999},{"$f":"[1]升级!$H3","v":500},10,-1,{"$f":"MAX(AD5+10,ROUND(10^(B6*0.01+1.405),0))","v":30}]
[3,3,1,1,3,"225;235;240","筑基期","前",3,225,235,240,400,-1,-1,-1,-1,-1,-1,0,{"$f":"[1]升级!$B4/[2]HeroModelConfig!$M$5","v":1.04},{"$f":"[1]升级!$C4/[2]HeroModelConfig!$N$5","v":1.04},{"$f":"[1]升级!$D4/[2]HeroModelConfig!$O$5","v":1.04},1,{"$f":"[1]升级!$J4/[2]HeroModelConfig!$P$5","v":0},{"$f":"[1]升级!$E4","v":103.32095735604886},{"$f":"[1]升级!$H4","v":500},10,-1,{"$f":"MAX(AD6+10,ROUND(10^(B7*0.01+1.405),0))","v":40}]
[4,4,1,1,4,"225;235;241","筑基期","前",4,225,235,241,500,-1,-1,-1,-1,-1,-1,0,{"$f":"[1]升级!$B5/[2]HeroModelConfig!$M$5","v":1.06},{"$f":"[1]升级!$C5/[2]HeroModelConfig!$N$5","v":1.06},{"$f":"[1]升级!$D5/[2]HeroModelConfig!$O$5","v":1.06},1,{"$f":"[1]升级!$J5/[2]HeroModelConfig!$P$5","v":0},{"$f":"[1]升级!$E5","v":105.02256776730837},{"$f":"[1]升级!$H5","v":500},10,-1,50]
[5,5,1,1,5,"225;235;242","筑基期","前",5,225,235,242,600,-1,-1,-1,-1,-1,-1,0,{"$f":"[1]升级!$B6/[2]HeroModelConfig!$M$5","v":1.08},{"$f":"[1]升级!$C6/[2]HeroModelConfig!$N$5","v":1.08},{"$f":"[1]升级!$D6/[2]HeroModelConfig!$O$5","v":1.08},1,{"$f":"[1]升级!$J6/[2]HeroModelConfig!$P$5","v":0},{"$f":"[1]升级!$E6","v":106.75220228970468},{"$f":"[1]升级!$H6","v":500},10,-1,60]
[6,6,1,1,6,"225;235;243","筑基期","前",6,225,235,243,700,-1,-1,-1,-1,-1,-1,0,{"$f":"[1]升级!$B7/[2]HeroModelConfig!$M$5","v":1.1000000000000001},{"$f":"[1]升级!$C7/[2]HeroModelConfig!$N$5","v":1.1000000000000001},{"$f":"[1]升级!$D7/[2]HeroModelConfig!$O$5","v":1.1000000000000001},1,{"$f":"[1]升级!$J7/[2]HeroModelConfig!$P$5","v":0},{"$f":"[1]升级!$E7","v":108.51032245708821},{"$f":"[1]升级!$H7","v":500},10,-1,70]
[7,7,1,1,7,"225;235;244","筑基期","前",7,225,235,244,800,-1,-1,-1,-1,-1,-1,0,{"$f":"[1]升级!$B8/[2]HeroModelConfig!$M$5","v":1.1200000000000001},{"$f":"[1]升级!$C8/[2]HeroModelConfig!$N$5","v":1.1200000000000001},{"$f":"[1]升级!$D8/[2]HeroModelConfig!$O$5","v":1.1200000000000001},1,{"$f":"[1]升级!$J8/[2]HeroModelConfig!$P$5","v":0},{"$f":"[1]升级!$E8","v":110.2973974043888},{"$f":"[1]升级!$H8","v":500},10,-1,80]
[8,8,1,1,8,"225;235;245","筑基期","前",8,225,235,245,900,-1,-1,-1,-1,-1,-1,0,{"$f":"[1]升级!$B9/[2]HeroModelConfig!$M$5","v":1.1399999999999999},{"$f":"[1]升级!$C9/[2]HeroModelConfig!$N$5","v":1.1399999999999999},{"$f":"[1]升级!$D9/[2]HeroModelConfig!$O$5","v":1.1399999999999999},1,{"$f":"[1]升级!$J9/[2]HeroModelConfig!$P$5","v":0},{"$f":"[1]升级!$E9","v":112.11390399279924},{"$f":"[1]升级!$H9","v":500},10,-1,90]
[9,9,1,1,9,"225;235;246","筑基期","前",9,225,235,246,1000,-1,-1,-1,-1,-1,-1,0,{"$f":"[1]升级!$B10/[2]HeroModelConfig!$M$5","v":1.1599999999999999},{"$f":"[1]升级!$C10/[2]HeroModelConfig!$N$5","v":1.1599999999999999},{"$f":"[1]升级!$D10/[2]HeroModelConfig!$O$5","v":1.1599999999999999},1,{"$f":"[1]升级!$J10/[2]HeroModelConfig!$P$5","v":0},{"$f":"[1]升级!$E10","v":113.96032693702031},{"$f":"[1]升级!$H10","v":500},10,-1,100]
[10,10,1,1,10,"225;235;247","筑基期","前",10,225,235,247,1100,100001,20,1301,1,1301,1,0,{"$f":"[1]升级!$B11/[2]HeroModelConfig!$M$5","v":1.22},{"$f":"[1]升级!$C11/[2]HeroModelConfig!$N$5","v":1.22},{"$f":"[1]升级!$D11/[2]HeroModelConfig!$O$5","v":1.22},1,{"$f":"[1]升级!$J11/[2]HeroModelConfig!$P$5","v":0},{"$f":"[1]升级!$E11","v":121.46765492734576},{"$f":"[1]升级!$H11","v":500},10,20,110]
[11,11,1,2,1,"225;236;238","筑基期","中",1,225,236,238,1320,-1,-1,-1,-1,-1,-1,0,{"$f":"[1]升级!$B12/[2]HeroModelConfig!$M$5","v":1.24},{"$f":"[1]升级!$C12/[2]HeroModelConfig!$N$5","v":1.24},{"$f":"[1]升级!$D12/[2]HeroModelConfig!$O$5","v":1.24},1,{"$f":"[1]升级!$J12/[2]HeroModelConfig!$P$5","v":0},{"$f":"[1]升级!$E12","v":123.46812638584555},{"$f":"[1]升级!$H12","v":500},11,-1,120]
[12,12,1,2,2,"225;236;239","筑基期","中",2,225,236,239,1430,-1,-1,-1,-1,-1,-1,0,{"$f":"[1]升级!$B13/[2]HeroModelConfig!$M$5","v":1.26},{"$f":"[1]升级!$C13/[2]HeroModelConfig!$N$5","v":1.26},{"$f":"[1]升级!$D13/[2]HeroModelConfig!$O$5","v":1.26},1,{"$f":"[1]升级!$J13/[2]HeroModelConfig!$P$5","v":0},{"$f":"[1]升级!$E13","v":125.50154394887552},{"$f":"[1]升级!$H13","v":500},11,-1,130]
[13,13,1,2,3,"225;236;240","筑基期","中",3,225,236,240,1540,-1,-1,-1,-1,-1,-1,0,{"$f":"[1]升级!$B14/[2]HeroModelConfig!$M$5","v":1.28},{"$f":"[1]升级!$C14/[2]HeroModelConfig!$N$5","v":1.28},{"$f":"[1]升级!$D14/[2]HeroModelConfig!$O$5","v":1.28},1,{"$f":"[1]升级!$J14/[2]HeroModelConfig!$P$5","v":0},{"$f":"[1]升级!$E14","v":127.56845021143201},{"$f":"[1]升级!$H14","v":500},11,-1,140]
[14,14,1,2,4,"225;236;241","筑基期","中",4,225,236,241,1650,-1,-1,-1,-1,-1,-1,0,{"$f":"[1]升级!$B15/[2]HeroModelConfig!$M$5","v":1.3},{"$f":"[1]升级!$C15/[2]HeroModelConfig!$N$5","v":1.3},{"$f":"[1]升级!$D15/[2]HeroModelConfig!$O$5","v":1.3},1,{"$f":"[1]升级!$J15/[2]HeroModelConfig!$P$5","v":0},{"$f":"[1]升级!$E15","v":129.66939670460062},{"$f":"[1]升级!$H15","v":500},11,-1,150]
[15,15,1,2,5,"225;236;242","筑基期","中",5,225,236,242,1760,-1,-1,-1,-1,-1,-1,0,{"$f":"[1]升级!$B16/[2]HeroModelConfig!$M$5","v":1.32},{"$f":"[1]升级!$C16/[2]HeroModelConfig!$N$5","v":1.32},{"$f":"[1]升级!$D16/[2]HeroModelConfig!$O$5","v":1.32},1,{"$f":"[1]升级!$J16/[2]HeroModelConfig!$P$5","v":0},{"$f":"[1]升级!$E16","v":131.80494404272611},{"$f":"[1]升级!$H16","v":500},11,-1,160]
[16,16,1,2,6,"225;236;243","筑基期","中",6,225,236,243,1870,-1,-1,-1,-1,-1,-1,0,{"$f":"[1]升级!$B17/[2]HeroModelConfig!$M$5","v":1.34},{"$f":"[1]升级!$C17/[2]HeroModelConfig!$N$5","v":1.34},{"$f":"[1]升级!$D17/[2]HeroModelConfig!$O$5","v":1.34},1,{"$f":"[1]升级!$J17/[2]HeroModelConfig!$P$5","v":0},{"$f":"[1]升级!$E17","v":133.97566207300625},{"$f":"[1]升级!$H17","v":500},11,-1,170]
[17,17,1,2,7,"225;236;244","筑基期","中",7,225,236,244,1980,-1,-1,-1,-1,-1,-1,0,{"$f":"[1]升级!$B18/[2]HeroModelConfig!$M$5","v":1.36},{"$f":"[1]升级!$C18/[2]HeroModelConfig!$N$5","v":1.36},{"$f":"[1]升级!$D18/[2]HeroModelConfig!$O$5","v":1.36},1,{"$f":"[1]升级!$J18/[2]HeroModelConfig!$P$5","v":0},{"$f":"[1]升级!$E18","v":136.18213002754914},{"$f":"[1]升级!$H18","v":500},11,-1,180]
[18,18,1,2,8,"225;236;245","筑基期","中",8,225,236,245,2090,-1,-1,-1,-1,-1,-1,0,{"$f":"[1]升级!$B19/[2]HeroModelConfig!$M$5","v":1.38},{"$f":"[1]升级!$C19/[2]HeroModelConfig!$N$5","v":1.38},{"$f":"[1]升级!$D19/[2]HeroModelConfig!$O$5","v":1.38},1,{"$f":"[1]升级!$J19/[2]HeroModelConfig!$P$5","v":0},{"$f":"[1]升级!$E19","v":138.42493667793494},{"$f":"[1]升级!$H19","v":500},11,-1,190]
[19,19,1,2,9,"225;236;246","筑基期","中",9,225,236,246,2200,-1,-1,-1,-1,-1,-1,0,{"$f":"[1]升级!$B20/[2]HeroModelConfig!$M$5","v":1.4},{"$f":"[1]升级!$C20/[2]HeroModelConfig!$N$5","v":1.4},{"$f":"[1]升级!$D20/[2]HeroModelConfig!$O$5","v":1.4},1,{"$f":"[1]升级!$J20/[2]HeroModelConfig!$P$5","v":0},{"$f":"[1]升级!$E20","v":140.70468049232306},{"$f":"[1]升级!$H20","v":500},11,-1,200]
[20,20,1,2,10,"225;236;247","筑基期","中",10,225,236,247,2310,100001,20,1301,1,"1301;1302","1;1",0,{"$f":"[1]升级!$B21/[2]HeroModelConfig!$M$5","v":1.5},{"$f":"[1]升级!$C21/[2]HeroModelConfig!$N$5","v":1.5},{"$f":"[1]升级!$D21/[2]HeroModelConfig!$O$5","v":1.5},1,{"$f":"[1]升级!$J21/[2]HeroModelConfig!$P$5","v":0},{"$f":"[1]升级!$E21","v":149.97383770361807},{"$f":"[1]升级!$H21","v":500},11,20,210]
[21,21,1,3,1,"225;237;238","筑基期","后",1,225,237,238,2640,-1,-1,-1,-1,-1,-1,0,{"$f":"[1]升级!$B22/[2]HeroModelConfig!$M$5","v":1.52},{"$f":"[1]升级!$C22/[2]HeroModelConfig!$N$5","v":1.52},{"$f":"[1]升级!$D22/[2]HeroModelConfig!$O$5","v":1.52},1,{"$f":"[1]升级!$J22/[2]HeroModelConfig!$P$5","v":0},{"$f":"[1]升级!$E22","v":152.44378233231134},{"$f":"[1]升级!$H22","v":500},12,-1,220]
[22,22,1,3,2,"225;237;239","筑基期","后",2,225,237,239,2760,-1,-1,-1,-1,-1,-1,0,{"$f":"[1]升级!$B23/[2]HeroModelConfig!$M$5","v":1.54},{"$f":"[1]升级!$C23/[2]HeroModelConfig!$N$5","v":1.54},{"$f":"[1]升级!$D23/[2]HeroModelConfig!$O$5","v":1.54},1,{"$f":"[1]升级!$J23/[2]HeroModelConfig!$P$5","v":0},{"$f":"[1]升级!$E23","v":154.95440489898516},{"$f":"[1]升级!$H23","v":500},12,-1,230]
[23,23,1,3,3,"225;237;240","筑基期","后",3,225,237,240,2880,-1,-1,-1,-1,-1,-1,0,{"$f":"[1]升级!$B24/[2]HeroModelConfig!$M$5","v":1.58},{"$f":"[1]升级!$C24/[2]HeroModelConfig!$N$5","v":1.58},{"$f":"[1]升级!$D24/[2]HeroModelConfig!$O$5","v":1.58},1,{"$f":"[1]升级!$J24/[2]HeroModelConfig!$P$5","v":0},{"$f":"[1]升级!$E24","v":157.50637533551537},{"$f":"[1]升级!$H24","v":500},12,-1,240]
[24,24,1,3,4,"225;237;241","筑基期","后",4,225,237,241,3000,-1,-1,-1,-1,-1,-1,0,{"$f":"[1]升级!$B25/[2]HeroModelConfig!$M$5","v":1.6},{"$f":"[1]升级!$C25/[2]HeroModelConfig!$N$5","v":1.6},{"$f":"[1]升级!$D25/[2]HeroModelConfig!$O$5","v":1.6},1,{"$f":"[1]升级!$J25/[2]HeroModelConfig!$P$5","v":0},{"$f":"[1]升级!$E25","v":160.10037460699976},{"$f":"[1]升级!$H25","v":500},12,-1,250]
[25,25,1,3,5,"225;237;242","筑基期","后",5,225,237,242,3120,-1,-1,-1,-1,-1,-1,0,{"$f":"[1]升级!$B26/[2]HeroModelConfig!$M$5","v":1.62},{"$f":"[1]升级!$C26/[2]HeroModelConfig!$N$5","v":1.62},{"$f":"[1]升级!$D26/[2]HeroModelConfig!$O$5","v":1.62},1,{"$f":"[1]升级!$J26/[2]HeroModelConfig!$P$5","v":0},{"$f":"[1]升级!$E26","v":162.73709489346612},{"$f":"[1]升级!$H26","v":500},12,-1,260]
[26,26,1,3,6,"225;237;243","筑基期","后",6,225,237,243,3240,-1,-1,-1,-1,-1,-1,0,{"$f":"[1]升级!$B27/[2]HeroModelConfig!$M$5","v":1.66},{"$f":"[1]升级!$C27/[2]HeroModelConfig!$N$5","v":1.66},{"$f":"[1]升级!$D27/[2]HeroModelConfig!$O$5","v":1.66},1,{"$f":"[1]升级!$J27/[2]HeroModelConfig!$P$5","v":0},{"$f":"[1]升级!$E27","v":165.41723977457272},{"$f":"[1]升级!$H27","v":500},12,-1,270]
[27,27,1,3,7,"225;237;244","筑基期","后",7,225,237,244,3360,-1,-1,-1,-1,-1,-1,0,{"$f":"[1]升级!$B28/[2]HeroModelConfig!$M$5","v":1.68},{"$f":"[1]升级!$C28/[2]HeroModelConfig!$N$5","v":1.68},{"$f":"[1]升级!$D28/[2]HeroModelConfig!$O$5","v":1.68},1,{"$f":"[1]升级!$J28/[2]HeroModelConfig!$P$5","v":0},{"$f":"[1]升级!$E28","v":168.14152441735089},{"$f":"[1]升级!$H28","v":500},12,-1,280]
[28,28,1,3,8,"225;237;245","筑基期","后",8,225,237,245,3480,-1,-1,-1,-1,-1,-1,0,{"$f":"[1]升级!$B29/[2]HeroModelConfig!$M$5","v":1.7},{"$f":"[1]升级!$C29/[2]HeroModelConfig!$N$5","v":1.7},{"$f":"[1]升级!$D29/[2]HeroModelConfig!$O$5","v":1.7},1,{"$f":"[1]升级!$J29/[2]HeroModelConfig!$P$5","v":0},{"$f":"[1]升级!$E29","v":170.91067576703938},{"$f":"[1]升级!$H29","v":500},12,-1,290]
[29,29,1,3,9,"225;237;246","筑基期","后",9,225,237,246,3600,-1,-1,-1,-1,-1,-1,0,{"$f":"[1]升级!$B30/[2]HeroModelConfig!$M$5","v":1.74},{"$f":"[1]升级!$C30/[2]HeroModelConfig!$N$5","v":1.74},{"$f":"[1]升级!$D30/[2]HeroModelConfig!$O$5","v":1.74},1,{"$f":"[1]升级!$J30/[2]HeroModelConfig!$P$5","v":0},{"$f":"[1]升级!$E30","v":173.72543274106161},{"$f":"[1]升级!$H30","v":500},12,-1,300]
[30,30,1,3,10,"225;237;247","筑基期","后",10,225,237,247,3720,100001,20,1301,1,"1301;1302;1303","1;1;1","3000;4500",{"$f":"[1]升级!$B31/[2]HeroModelConfig!$M$5","v":1.96},{"$f":"[1]升级!$C31/[2]HeroModelConfig!$N$5","v":1.96},{"$f":"[1]升级!$D31/[2]HeroModelConfig!$O$5","v":1.96},1,{"$f":"[1]升级!$J31/[2]HeroModelConfig!$P$5","v":0},{"$f":"[1]升级!$E31","v":196.6143422221505},{"$f":"[1]升级!$H31","v":600},12,50,310]
[31,31,2,4,1,"226;235;238","金丹期","前",1,226,235,238,4160,-1,-1,-1,-1,{"$f":"IF(I35=10,\"1001;1002;1004\",-1)","v":-1},{"$f":"IF(R35=-1,-1,\"100;200;300\")","v":-1},{"$f":"IF(G35=G36,0,CONCATENATE(B35*100,\";\",B35*150))","v":0},{"$f":"[1]升级!$B32/[2]HeroModelConfig!$M$5","v":2},{"$f":"[1]升级!$C32/[2]HeroModelConfig!$N$5","v":2},{"$f":"[1]升级!$D32/[2]HeroModelConfig!$O$5","v":2},1,{"$f":"[1]升级!$J32/[2]HeroModelConfig!$P$5","v":0},{"$f":"[1]升级!$E32","v":199.85241724864525},{"$f":"[1]升级!$H32","v":600},13,-1,320]
[32,32,2,4,2,"226;235;239","金丹期","前",2,226,235,239,4290,-1,-1,-1,-1,{"$f":"IF(I36=10,\"1001;1002;1004\",-1)","v":-1},-1,{"$f":"IF(G36=G37,0,CONCATENATE(B36*100,\";\",B36*150))","v":0},{"$f":"[1]升级!$B33/[2]HeroModelConfig!$M$5","v":2.04},{"$f":"[1]升级!$C33/[2]HeroModelConfig!$N$5","v":2.04},{"$f":"[1]升级!$D33/[2]HeroModelConfig!$O$5","v":2.04},1,{"$f":"[1]升级!$J33/[2]HeroModelConfig!$P$5","v":0},{"$f":"[1]升级!$E33","v":203.14382068322411},{"$f":"[1]升级!$H33","v":600},13,-1,330]
[33,33,2,4,3,"226;235;240","金丹期","前",3,226,235,240,4420,-1,-1,-1,-1,-1,-1,0,{"$f":"[1]升级!$B34/[2]HeroModelConfig!$M$5","v":2.06},{"$f":"[1]升级!$C34/[2]HeroModelConfig!$N$5","v":2.06},{"$f":"[1]升级!$D34/[2]HeroModelConfig!$O$5","v":2.06},1,{"$f":"[1]升级!$J34/[2]HeroModelConfig!$P$5","v":0},{"$f":"[1]升级!$E34","v":206.48943080050563},{"$f":"[1]升级!$H34","v":600},13,-1,340]
[34,34,2,4,4,"226;235;241","金丹期","前",4,226,235,241,4550,-1,-1,-1,-1,-1,-1,0,{"$f":"[1]升级!$B35/[2]HeroModelConfig!$M$5","v":2.1},{"$f":"[1]升级!$C35/[2]HeroModelConfig!$N$5","v":2.1},{"$f":"[1]升级!$D35/[2]HeroModelConfig!$O$5","v":2.1},1,{"$f":"[1]升级!$J35/[2]HeroModelConfig!$P$5","v":0},{"$f":"[1]升级!$E35","v":209.89014033956238},{"$f":"[1]升级!$H35","v":600},13,-1,350]
[35,35,2,4,5,"226;235;242","金丹期","前",5,226,235,242,4680,-1,-1,-1,-1,-1,-1,0,{"$f":"[1]升级!$B36/[2]HeroModelConfig!$M$5","v":2.14},{"$f":"[1]升级!$C36/[2]HeroModelConfig!$N$5","v":2.14},{"$f":"[1]升级!$D36/[2]HeroModelConfig!$O$5","v":2.14},1,{"$f":"[1]升级!$J36/[2]HeroModelConfig!$P$5","v":0},{"$f":"[1]升级!$E36","v":213.34685674213847},{"$f":"[1]升级!$H36","v":600},13,-1,360]
[36,36,2,4,6,"226;235;243","金丹期","前",6,226,235,243,4810,-1,-1,-1,-1,-1,-1,0,{"$f":"[1]升级!$B37/[2]HeroModelConfig!$M$5","v":2.16},{"$f":"[1]升级!$C37/[2]HeroModelConfig!$N$5","v":2.16},{"$f":"[1]升级!$D37/[2]HeroModelConfig!$O$5","v":2.16},1,{"$f":"[1]升级!$J37/[2]HeroModelConfig!$P$5","v":0},{"$f":"[1]升级!$E37","v":216.86050239479039},{"$f":"[1]升级!$H37","v":600},13,-1,370]
[37,37,2,4,7,"226;235;244","金丹期","前",7,226,235,244,4940,-1,-1,-1,-1,-1,-1,0,{"$f":"[1]升级!$B38/[2]HeroModelConfig!$M$5","v":2.2000000000000002},{"$f":"[1]升级!$C38/[2]HeroModelConfig!$N$5","v":2.2000000000000002},{"$f":"[1]升级!$D38/[2]HeroModelConfig!$O$5","v":2.2000000000000002},1,{"$f":"[1]升级!$J38/[2]HeroModelConfig!$P$5","v":0},{"$f":"[1]升级!$E38","v":220.43201487501557},{"$f":"[1]升级!$H38","v":600},13,-1,380]
[38,38,2,4,8,"226;235;245","金丹期","前",8,226,235,245,5070,-1,-1,-1,-1,-1,-1,0,{"$f":"[1]升级!$B39/[2]HeroModelConfig!$M$5","v":2.2400000000000002},{"$f":"[1]升级!$C39/[2]HeroModelConfig!$N$5","v":2.2400000000000002},{"$f":"[1]升级!$D39/[2]HeroModelConfig!$O$5","v":2.2400000000000002},1,{"$f":"[1]升级!$J39/[2]HeroModelConfig!$P$5","v":0},{"$f":"[1]升级!$E39","v":224.0623472014347},{"$f":"[1]升级!$H39","v":600},13,-1,390]
[39,39,2,4,9,"226;235;246","金丹期","前",9,226,235,246,5200,-1,-1,-1,-1,-1,-1,0,{"$f":"[1]升级!$B40/[2]HeroModelConfig!$M$5","v":2.2799999999999998},{"$f":"[1]升级!$C40/[2]HeroModelConfig!$N$5","v":2.2799999999999998},{"$f":"[1]升级!$D40/[2]HeroModelConfig!$O$5","v":2.2799999999999998},1,{"$f":"[1]升级!$J40/[2]HeroModelConfig!$P$5","v":0},{"$f":"[1]升级!$E40","v":227.75246808809413},{"$f":"[1]升级!$H40","v":600},13,-1,400]
[40,40,2,4,10,"226;235;247","金丹期","前",10,226,235,247,5330,100001,20,1301,1,1301,1,0,{"$f":"[1]升级!$B41/[2]HeroModelConfig!$M$5","v":2.42},{"$f":"[1]升级!$C41/[2]HeroModelConfig!$N$5","v":2.42},{"$f":"[1]升级!$D41/[2]HeroModelConfig!$O$5","v":2.42},1,{"$f":"[1]升级!$J41/[2]HeroModelConfig!$P$5","v":0},{"$f":"[1]升级!$E41","v":242.75604454754369},{"$f":"[1]升级!$H41","v":600},13,20,410]
[41,41,2,5,1,"226;236;238","金丹期","中",1,226,236,238,5880,-1,-1,-1,-1,{"$f":"IF(I45=10,\"1001;1002;1004\",-1)","v":-1},-1,0,{"$f":"[1]升级!$B42/[2]HeroModelConfig!$M$5","v":2.46},{"$f":"[1]升级!$C42/[2]HeroModelConfig!$N$5","v":2.46},{"$f":"[1]升级!$D42/[2]HeroModelConfig!$O$5","v":2.46},1,{"$f":"[1]升级!$J42/[2]HeroModelConfig!$P$5","v":0},{"$f":"[1]升级!$E42","v":246.75403511372474},{"$f":"[1]升级!$H42","v":600},14,-1,420]
[42,42,2,5,2,"226;236;239","金丹期","中",2,226,236,239,6020,-1,-1,-1,-1,-1,-1,0,{"$f":"[1]升级!$B43/[2]HeroModelConfig!$M$5","v":2.5},{"$f":"[1]升级!$C43/[2]HeroModelConfig!$N$5","v":2.5},{"$f":"[1]升级!$D43/[2]HeroModelConfig!$O$5","v":2.5},1,{"$f":"[1]升级!$J43/[2]HeroModelConfig!$P$5","v":0},{"$f":"[1]升级!$E43","v":250.81786926619861},{"$f":"[1]升级!$H43","v":600},14,-1,430]
[43,43,2,5,3,"226;236;240","金丹期","中",3,226,236,240,6160,-1,-1,-1,-1,-1,-1,0,{"$f":"[1]升级!$B44/[2]HeroModelConfig!$M$5","v":2.54},{"$f":"[1]升级!$C44/[2]HeroModelConfig!$N$5","v":2.54},{"$f":"[1]升级!$D44/[2]HeroModelConfig!$O$5","v":2.54},1,{"$f":"[1]升级!$J44/[2]HeroModelConfig!$P$5","v":0},{"$f":"[1]升级!$E44","v":254.9486313941814},{"$f":"[1]升级!$H44","v":600},14,-1,440]
[44,44,2,5,4,"226;236;241","金丹期","中",4,226,236,241,6300,-1,-1,-1,-1,-1,-1,0,{"$f":"[1]升级!$B45/[2]HeroModelConfig!$M$5","v":2.6},{"$f":"[1]升级!$C45/[2]HeroModelConfig!$N$5","v":2.6},{"$f":"[1]升级!$D45/[2]HeroModelConfig!$O$5","v":2.6},1,{"$f":"[1]升级!$J45/[2]HeroModelConfig!$P$5","v":0},{"$f":"[1]升级!$E45","v":259.14742374587951},{"$f":"[1]升级!$H45","v":600},14,-1,450]
[45,45,2,5,5,"226;236;242","金丹期","中",5,226,236,242,6440,-1,-1,-1,-1,-1,-1,0,{"$f":"[1]升级!$B46/[2]HeroModelConfig!$M$5","v":2.64},{"$f":"[1]升级!$C46/[2]HeroModelConfig!$N$5","v":2.64},{"$f":"[1]升级!$D46/[2]HeroModelConfig!$O$5","v":2.64},1,{"$f":"[1]升级!$J46/[2]HeroModelConfig!$P$5","v":0},{"$f":"[1]升级!$E46","v":263.41536672261242},{"$f":"[1]升级!$H46","v":600},14,-1,460]
[46,46,2,5,6,"226;236;243","金丹期","中",6,226,236,243,6580,-1,-1,-1,-1,-1,-1,0,{"$f":"[1]升级!$B47/[2]HeroModelConfig!$M$5","v":2.68},{"$f":"[1]升级!$C47/[2]HeroModelConfig!$N$5","v":2.68},{"$f":"[1]升级!$D47/[2]HeroModelConfig!$O$5","v":2.68},1,{"$f":"[1]升级!$J47/[2]HeroModelConfig!$P$5","v":0},{"$f":"[1]升级!$E47","v":267.75359917777945},{"$f":"[1]升级!$H47","v":600},14,-1,470]
[47,47,2,5,7,"226;236;244","金丹期","中",7,226,236,244,6720,-1,-1,-1,-1,-1,-1,0,{"$f":"[1]升级!$B48/[2]HeroModelConfig!$M$5","v":2.72},{"$f":"[1]升级!$C48/[2]HeroModelConfig!$N$5","v":2.72},{"$f":"[1]升级!$D48/[2]HeroModelConfig!$O$5","v":2.72},1,{"$f":"[1]升级!$J48/[2]HeroModelConfig!$P$5","v":0},{"$f":"[1]升级!$E48","v":272.16327872075016},{"$f":"[1]升级!$H48","v":600},14,-1,480]
[48,48,2,5,8,"226;236;245","金丹期","中",8,226,236,245,6860,-1,-1,-1,-1,-1,-1,0,{"$f":"[1]升级!$B49/[2]HeroModelConfig!$M$5","v":2.76},{"$f":"[1]升级!$C49/[2]HeroModelConfig!$N$5","v":2.76},{"$f":"[1]升级!$D49/[2]HeroModelConfig!$O$5","v":2.76},1,{"$f":"[1]升级!$J49/[2]HeroModelConfig!$P$5","v":0},{"$f":"[1]升级!$E49","v":276.64558202575955},{"$f":"[1]升级!$H49","v":600},14,-1,490]
[49,49,2,5,9,"226;236;246","金丹期","中",9,226,236,246,7000,-1,-1,-1,-1,-1,-1,0,{"$f":"[1]升级!$B50/[2]HeroModelConfig!$M$5","v":2.82},{"$f":"[1]升级!$C50/[2]HeroModelConfig!$N$5","v":2.82},{"$f":"[1]升级!$D50/[2]HeroModelConfig!$O$5","v":2.82},1,{"$f":"[1]升级!$J50/[2]HeroModelConfig!$P$5","v":0},{"$f":"[1]升级!$E50","v":281.20170514589068},{"$f":"[1]升级!$H50","v":600},14,-1,500]
[50,50,2,5,10,"226;236;247","金丹期","中",10,226,236,247,7140,100001,20,1301,1,"1301;1302","1;1",0,{"$f":"[1]升级!$B51/[2]HeroModelConfig!$M$5","v":3},{"$f":"[1]升级!$C51/[2]HeroModelConfig!$N$5","v":3},{"$f":"[1]升级!$D51/[2]HeroModelConfig!$O$5","v":3},1,{"$f":"[1]升级!$J51/[2]HeroModelConfig!$P$5","v":0},{"$f":"[1]升级!$E51","v":299.72633989124085},{"$f":"[1]升级!$H51","v":600},14,20,510]
[51,51,2,6,1,"226;237;238","金丹期","后",1,226,237,238,7800,-1,-1,-1,-1,{"$f":"IF(I55=10,\"1001;1002;1004\",-1)","v":-1},-1,0,{"$f":"[1]升级!$B52/[2]HeroModelConfig!$M$5","v":3.04},{"$f":"[1]升级!$C52/[2]HeroModelConfig!$N$5","v":3.04},{"$f":"[1]升级!$D52/[2]HeroModelConfig!$O$5","v":3.04},1,{"$f":"[1]升级!$J52/[2]HeroModelConfig!$P$5","v":0},{"$f":"[1]升级!$E52","v":304.66258393638748},{"$f":"[1]升级!$H52","v":600},15,-1,520]
[52,52,2,6,2,"226;237;239","金丹期","后",2,226,237,239,7950,-1,-1,-1,-1,-1,-1,0,{"$f":"[1]升级!$B53/[2]HeroModelConfig!$M$5","v":3.1},{"$f":"[1]升级!$C53/[2]HeroModelConfig!$N$5","v":3.1},{"$f":"[1]升级!$D53/[2]HeroModelConfig!$O$5","v":3.1},1,{"$f":"[1]升级!$J53/[2]HeroModelConfig!$P$5","v":0},{"$f":"[1]升级!$E53","v":309.68012382387508},{"$f":"[1]升级!$H53","v":600},15,-1,530]
[53,53,2,6,3,"226;237;240","金丹期","后",3,226,237,240,8100,-1,-1,-1,-1,-1,-1,0,{"$f":"[1]升级!$B54/[2]HeroModelConfig!$M$5","v":3.14},{"$f":"[1]升级!$C54/[2]HeroModelConfig!$N$5","v":3.14},{"$f":"[1]升级!$D54/[2]HeroModelConfig!$O$5","v":3.14},1,{"$f":"[1]升级!$J54/[2]HeroModelConfig!$P$5","v":0},{"$f":"[1]升级!$E54","v":314.78029842875151},{"$f":"[1]升级!$H54","v":600},15,-1,540]
[54,54,2,6,4,"226;237;241","金丹期","后",4,226,237,241,8250,-1,-1,-1,-1,-1,-1,0,{"$f":"[1]升级!$B55/[2]HeroModelConfig!$M$5","v":3.2},{"$f":"[1]升级!$C55/[2]HeroModelConfig!$N$5","v":3.2},{"$f":"[1]升级!$D55/[2]HeroModelConfig!$O$5","v":3.2},1,{"$f":"[1]升级!$J55/[2]HeroModelConfig!$P$5","v":0},{"$f":"[1]升级!$E55","v":319.96446867622535},{"$f":"[1]升级!$H55","v":600},15,-1,550]
[55,55,2,6,5,"226;237;242","金丹期","后",5,226,237,242,8400,-1,-1,-1,-1,-1,-1,0,{"$f":"[1]升级!$B56/[2]HeroModelConfig!$M$5","v":3.26},{"$f":"[1]升级!$C56/[2]HeroModelConfig!$N$5","v":3.26},{"$f":"[1]升级!$D56/[2]HeroModelConfig!$O$5","v":3.26},1,{"$f":"[1]升级!$J56/[2]HeroModelConfig!$P$5","v":0},{"$f":"[1]升级!$E56","v":325.23401790481375},{"$f":"[1]升级!$H56","v":600},15,-1,560]
[56,56,2,6,6,"226;237;243","金丹期","后",6,226,237,243,8550,-1,-1,-1,-1,-1,-1,0,{"$f":"[1]升级!$B57/[2]HeroModelConfig!$M$5","v":3.3},{"$f":"[1]升级!$C57/[2]HeroModelConfig!$N$5","v":3.3},{"$f":"[1]升级!$D57/[2]HeroModelConfig!$O$5","v":3.3},1,{"$f":"[1]升级!$J57/[2]HeroModelConfig!$P$5","v":0},{"$f":"[1]升级!$E57","v":330.59035223547113},{"$f":"[1]升级!$H57","v":600},15,-1,570]
[57,57,2,6,7,"226;237;244","金丹期","后",7,226,237,244,8700,-1,-1,-1,-1,-1,-1,0,{"$f":"[1]升级!$B58/[2]HeroModelConfig!$M$5","v":3.36},{"$f":"[1]升级!$C58/[2]HeroModelConfig!$N$5","v":3.36},{"$f":"[1]升级!$D58/[2]HeroModelConfig!$O$5","v":3.36},1,{"$f":"[1]升级!$J58/[2]HeroModelConfig!$P$5","v":0},{"$f":"[1]升级!$E58","v":336.03490094679694},{"$f":"[1]升级!$H58","v":600},15,-1,580]
[58,58,2,6,8,"226;237;245","金丹期","后",8,226,237,245,8850,-1,-1,-1,-1,-1,-1,0,{"$f":"[1]升级!$B59/[2]HeroModelConfig!$M$5","v":3.42},{"$f":"[1]升级!$C59/[2]HeroModelConfig!$N$5","v":3.42},{"$f":"[1]升级!$D59/[2]HeroModelConfig!$O$5","v":3.42},1,{"$f":"[1]升级!$J59/[2]HeroModelConfig!$P$5","v":0},{"$f":"[1]升级!$E59","v":341.56911685642285},{"$f":"[1]升级!$H59","v":600},15,-1,590]
[59,59,2,6,9,"226;237;246","金丹期","后",9,226,237,246,9000,-1,-1,-1,-1,-1,-1,0,{"$f":"[1]升级!$B60/[2]HeroModelConfig!$M$5","v":3.48},{"$f":"[1]升级!$C60/[2]HeroModelConfig!$N$5","v":3.48},{"$f":"[1]升级!$D60/[2]HeroModelConfig!$O$5","v":3.48},1,{"$f":"[1]升级!$J60/[2]HeroModelConfig!$P$5","v":0},{"$f":"[1]升级!$E60","v":347.19447670868112},{"$f":"[1]升级!$H60","v":600},15,-1,600]
[60,60,2,6,10,"226;237;247","金丹期","后",10,226,237,247,9150,100001,20,1301,1,"1301;1302;1303","1;1;1","6000;9000",{"$f":"[1]升级!$B61/[2]HeroModelConfig!$M$5","v":3.92},{"$f":"[1]升级!$C61/[2]HeroModelConfig!$N$5","v":3.92},{"$f":"[1]升级!$D61/[2]HeroModelConfig!$O$5","v":3.92},1,{"$f":"[1]升级!$J61/[2]HeroModelConfig!$P$5","v":0},{"$f":"[1]升级!$E61","v":392.93851558849161},{"$f":"[1]升级!$H61","v":700},15,50,610]
[61,61,3,7,1,"227;235;238","元婴期","前",1,227,235,238,9920,-1,-1,-1,-1,{"$f":"IF(I65=10,\"1001;1002;1004\",-1)","v":-1},{"$f":"IF(R65=-1,-1,\"100;200;300\")","v":-1},{"$f":"IF(G65=G66,0,CONCATENATE(B65*100,\";\",B65*150))","v":0},{"$f":"[1]升级!$B62/[2]HeroModelConfig!$M$5","v":4},{"$f":"[1]升级!$C62/[2]HeroModelConfig!$N$5","v":4},{"$f":"[1]升级!$D62/[2]HeroModelConfig!$O$5","v":4},1,{"$f":"[1]升级!$J62/[2]HeroModelConfig!$P$5","v":0},{"$f":"[1]升级!$E62","v":399.40988680126611},{"$f":"[1]升级!$H62","v":700},16,-1,620]
[62,62,3,7,2,"227;235;239","元婴期","前",2,227,235,239,10080,-1,-1,-1,-1,{"$f":"IF(I66=10,\"1001;1002;1004\",-1)","v":-1},-1,{"$f":"IF(G66=G67,0,CONCATENATE(B66*100,\";\",B66*150))","v":0},{"$f":"[1]升级!$B63/[2]HeroModelConfig!$M$5","v":4.0599999999999996},{"$f":"[1]升级!$C63/[2]HeroModelConfig!$N$5","v":4.0599999999999996},{"$f":"[1]升级!$D63/[2]HeroModelConfig!$O$5","v":4.0599999999999996},1,{"$f":"[1]升级!$J63/[2]HeroModelConfig!$P$5","v":0},{"$f":"[1]升级!$E63","v":405.98783612667688},{"$f":"[1]升级!$H63","v":700},16,-1,630]
[63,63,3,7,3,"227;235;240","元婴期","前",3,227,235,240,10240,-1,-1,-1,-1,-1,-1,0,{"$f":"[1]升级!$B64/[2]HeroModelConfig!$M$5","v":4.12},{"$f":"[1]升级!$C64/[2]HeroModelConfig!$N$5","v":4.12},{"$f":"[1]升级!$D64/[2]HeroModelConfig!$O$5","v":4.12},1,{"$f":"[1]升级!$J64/[2]HeroModelConfig!$P$5","v":0},{"$f":"[1]升级!$E64","v":412.67411881777923},{"$f":"[1]升级!$H64","v":700},16,-1,640]
[64,64,3,7,4,"227;235;241","元婴期","前",4,227,235,241,10400,-1,-1,-1,-1,-1,-1,0,{"$f":"[1]升级!$B65/[2]HeroModelConfig!$M$5","v":4.2},{"$f":"[1]升级!$C65/[2]HeroModelConfig!$N$5","v":4.2},{"$f":"[1]升级!$D65/[2]HeroModelConfig!$O$5","v":4.2},1,{"$f":"[1]升级!$J65/[2]HeroModelConfig!$P$5","v":0},{"$f":"[1]升级!$E65","v":419.4705190351894},{"$f":"[1]升级!$H65","v":700},16,-1,650]
[65,65,3,7,5,"227;235;242","元婴期","前",5,227,235,242,10560,-1,-1,-1,-1,-1,-1,0,{"$f":"[1]升级!$B66/[2]HeroModelConfig!$M$5","v":4.26},{"$f":"[1]升级!$C66/[2]HeroModelConfig!$N$5","v":4.26},{"$f":"[1]升级!$D66/[2]HeroModelConfig!$O$5","v":4.26},1,{"$f":"[1]升级!$J66/[2]HeroModelConfig!$P$5","v":0},{"$f":"[1]升级!$E66","v":426.37885032316814},{"$f":"[1]升级!$H66","v":700},16,-1,660]
[66,66,3,7,{"$f":"I70","v":6},{"$f":"_xlfn.TEXTJOIN(\";\",1,J70:L70)","v":"227;235;243"},"元婴期","前",6,227,235,243,{"$f":"INT(0.1*AB70*AD70)*10","v":10720},{"$f":"IF(I70=10,100001,-1)","v":-1},{"$f":"IF(N70=-1,-1,20)","v":-1},-1,-1,-1,{"$f":"IF(R70=-1,-1,\"100;200;300\")","v":-1},0,{"$f":"[1]升级!$B67/[2]HeroModelConfig!$M$5","v":4.34},{"$f":"[1]升级!$C67/[2]HeroModelConfig!$N$5","v":4.34},{"$f":"[1]升级!$D67/[2]HeroModelConfig!$O$5","v":4.34},1,{"$f":"[1]升级!$J67/[2]HeroModelConfig!$P$5","v":0},{"$f":"[1]升级!$E67","v":433.40095609354489},{"$f":"[1]升级!$H67","v":700},16,-1,670]
[67,67,3,7,7,"227;235;244","元婴期","前",7,227,235,244,10880,-1,-1,-1,-1,-1,-1,0,{"$f":"[1]升级!$B68/[2]HeroModelConfig!$M$5","v":4.4000000000000004},{"$f":"[1]升级!$C68/[2]HeroModelConfig!$N$5","v":4.4000000000000004},{"$f":"[1]升级!$D68/[2]HeroModelConfig!$O$5","v":4.4000000000000004},1,{"$f":"[1]升级!$J68/[2]HeroModelConfig!$P$5","v":0},{"$f":"[1]升级!$E68","v":440.53871011761197},{"$f":"[1]升级!$H68","v":700},16,-1,{"$f":"MAX(AD70+10,ROUND(10^(B71*0.01+1.405),0))","v":680}]
[68,68,3,7,8,"227;235;245","元婴期","前",8,227,235,245,11040,-1,-1,-1,-1,-1,-1,0,{"$f":"[1]升级!$B69/[2]HeroModelConfig!$M$5","v":4.4800000000000004},{"$f":"[1]升级!$C69/[2]HeroModelConfig!$N$5","v":4.4800000000000004},{"$f":"[1]升级!$D69/[2]HeroModelConfig!$O$5","v":4.4800000000000004},1,{"$f":"[1]升级!$J69/[2]HeroModelConfig!$P$5","v":0},{"$f":"[1]升级!$E69","v":447.7940170261196},{"$f":"[1]升级!$H69","v":700},16,-1,690]
[69,69,3,7,9,"227;235;246","元婴期","前",9,227,235,246,11200,-1,-1,-1,-1,-1,-1,0,{"$f":"[1]升级!$B70/[2]HeroModelConfig!$M$5","v":4.5599999999999996},{"$f":"[1]升级!$C70/[2]HeroModelConfig!$N$5","v":4.5599999999999996},{"$f":"[1]升级!$D70/[2]HeroModelConfig!$O$5","v":4.5599999999999996},1,{"$f":"[1]升级!$J70/[2]HeroModelConfig!$P$5","v":0},{"$f":"[1]升级!$E70","v":455.16881281750562},{"$f":"[1]升级!$H70","v":700},16,-1,700]
[70,70,3,7,10,"227;235;247","元婴期","前",10,227,235,247,11360,100001,20,1301,1,1301,1,0,{"$f":"[1]升级!$B71/[2]HeroModelConfig!$M$5","v":4.8600000000000003},{"$f":"[1]升级!$C71/[2]HeroModelConfig!$N$5","v":4.8600000000000003},{"$f":"[1]升级!$D71/[2]HeroModelConfig!$O$5","v":4.8600000000000003},1,{"$f":"[1]升级!$J71/[2]HeroModelConfig!$P$5","v":0},{"$f":"[1]升级!$E71","v":485.15382304546432},{"$f":"[1]升级!$H71","v":700},16,20,710]
[71,71,3,8,1,"227;236;238","元婴期","中",1,227,236,238,12240,-1,-1,-1,-1,{"$f":"IF(I75=10,\"1001;1002;1004\",-1)","v":-1},-1,0,{"$f":"[1]升级!$B72/[2]HeroModelConfig!$M$5","v":4.9400000000000004},{"$f":"[1]升级!$C72/[2]HeroModelConfig!$N$5","v":4.9400000000000004},{"$f":"[1]升级!$D72/[2]HeroModelConfig!$O$5","v":4.9400000000000004},1,{"$f":"[1]升级!$J72/[2]HeroModelConfig!$P$5","v":0},{"$f":"[1]升级!$E72","v":493.14390383334995},{"$f":"[1]升级!$H72","v":700},17,-1,720]
[72,72,3,8,2,"227;236;239","元婴期","中",2,227,236,239,12410,-1,-1,-1,-1,-1,-1,0,{"$f":"[1]升级!$B73/[2]HeroModelConfig!$M$5","v":5.0199999999999996},{"$f":"[1]升级!$C73/[2]HeroModelConfig!$N$5","v":5.0199999999999996},{"$f":"[1]升级!$D73/[2]HeroModelConfig!$O$5","v":5.0199999999999996},1,{"$f":"[1]升级!$J73/[2]HeroModelConfig!$P$5","v":0},{"$f":"[1]升级!$E73","v":501.26557462004502},{"$f":"[1]升级!$H73","v":700},17,-1,730]
[73,73,3,8,3,"227;236;240","元婴期","中",3,227,236,240,12580,-1,-1,-1,-1,-1,-1,0,{"$f":"[1]升级!$B74/[2]HeroModelConfig!$M$5","v":5.0999999999999996},{"$f":"[1]升级!$C74/[2]HeroModelConfig!$N$5","v":5.0999999999999996},{"$f":"[1]升级!$D74/[2]HeroModelConfig!$O$5","v":5.0999999999999996},1,{"$f":"[1]升级!$J74/[2]HeroModelConfig!$P$5","v":0},{"$f":"[1]升级!$E74","v":509.5210025836102},{"$f":"[1]升级!$H74","v":700},17,-1,740]
[74,74,3,8,4,"227;236;241","元婴期","中",4,227,236,241,12750,-1,-1,-1,-1,-1,-1,0,{"$f":"[1]升级!$B75/[2]HeroModelConfig!$M$5","v":5.18},{"$f":"[1]升级!$C75/[2]HeroModelConfig!$N$5","v":5.18},{"$f":"[1]升级!$D75/[2]HeroModelConfig!$O$5","v":5.18},1,{"$f":"[1]升级!$J75/[2]HeroModelConfig!$P$5","v":0},{"$f":"[1]升级!$E75","v":517.91239059373004},{"$f":"[1]升级!$H75","v":700},17,-1,750]
[75,75,3,8,5,"227;236;242","元婴期","中",5,227,236,242,12920,-1,-1,-1,-1,-1,-1,0,{"$f":"[1]升级!$B76/[2]HeroModelConfig!$M$5","v":5.26},{"$f":"[1]升级!$C76/[2]HeroModelConfig!$N$5","v":5.26},{"$f":"[1]升级!$D76/[2]HeroModelConfig!$O$5","v":5.26},1,{"$f":"[1]升级!$J76/[2]HeroModelConfig!$P$5","v":0},{"$f":"[1]升级!$E76","v":526.44197779952458},{"$f":"[1]升级!$H76","v":700},17,-1,760]
[76,76,3,8,6,"227;236;243","元婴期","中",6,227,236,243,13090,-1,-1,-1,-1,-1,-1,0,{"$f":"[1]升级!$B77/[2]HeroModelConfig!$M$5","v":5.36},{"$f":"[1]升级!$C77/[2]HeroModelConfig!$N$5","v":5.36},{"$f":"[1]升级!$D77/[2]HeroModelConfig!$O$5","v":5.36},1,{"$f":"[1]升级!$J77/[2]HeroModelConfig!$P$5","v":0},{"$f":"[1]升级!$E77","v":535.11204022704112},{"$f":"[1]升级!$H77","v":700},17,-1,770]
[77,77,3,8,7,"227;236;244","元婴期","中",7,227,236,244,13260,-1,-1,-1,-1,-1,-1,0,{"$f":"[1]升级!$B78/[2]HeroModelConfig!$M$5","v":5.44},{"$f":"[1]升级!$C78/[2]HeroModelConfig!$N$5","v":5.44},{"$f":"[1]升级!$D78/[2]HeroModelConfig!$O$5","v":5.44},1,{"$f":"[1]升级!$J78/[2]HeroModelConfig!$P$5","v":0},{"$f":"[1]升级!$E78","v":543.92489138658709},{"$f":"[1]升级!$H78","v":700},17,-1,780]
[78,78,3,8,8,"227;236;245","元婴期","中",8,227,236,245,13430,-1,-1,-1,-1,-1,-1,0,{"$f":"[1]升级!$B79/[2]HeroModelConfig!$M$5","v":5.52},{"$f":"[1]升级!$C79/[2]HeroModelConfig!$N$5","v":5.52},{"$f":"[1]升级!$D79/[2]HeroModelConfig!$O$5","v":5.52},1,{"$f":"[1]升级!$J79/[2]HeroModelConfig!$P$5","v":0},{"$f":"[1]升级!$E79","v":552.88288289006425},{"$f":"[1]升级!$H79","v":700},17,-1,790]
[79,79,3,8,9,"227;236;246","元婴期","中",9,227,236,246,13600,-1,-1,-1,-1,-1,-1,0,{"$f":"[1]升级!$B80/[2]HeroModelConfig!$M$5","v":5.62},{"$f":"[1]升级!$C80/[2]HeroModelConfig!$N$5","v":5.62},{"$f":"[1]升级!$D80/[2]HeroModelConfig!$O$5","v":5.62},1,{"$f":"[1]升级!$J80/[2]HeroModelConfig!$P$5","v":0},{"$f":"[1]升级!$E80","v":561.98840507847081},{"$f":"[1]升级!$H80","v":700},17,-1,800]
[80,80,3,8,10,"227;236;247","元婴期","中",10,227,236,247,13770,100001,20,1301,1,"1301;1302","1;1",0,{"$f":"[1]升级!$B81/[2]HeroModelConfig!$M$5","v":6},{"$f":"[1]升级!$C81/[2]HeroModelConfig!$N$5","v":6},{"$f":"[1]升级!$D81/[2]HeroModelConfig!$O$5","v":6},1,{"$f":"[1]升级!$J81/[2]HeroModelConfig!$P$5","v":0},{"$f":"[1]升级!$E81","v":599.01033540353558},{"$f":"[1]升级!$H81","v":700},17,20,810]
[81,81,3,9,1,"227;237;238","元婴期","后",1,227,237,238,14760,-1,-1,-1,-1,{"$f":"IF(I85=10,\"1001;1002;1004\",-1)","v":-1},-1,0,{"$f":"[1]升级!$B82/[2]HeroModelConfig!$M$5","v":6.08},{"$f":"[1]升级!$C82/[2]HeroModelConfig!$N$5","v":6.08},{"$f":"[1]升级!$D82/[2]HeroModelConfig!$O$5","v":6.08},1,{"$f":"[1]升级!$J82/[2]HeroModelConfig!$P$5","v":0},{"$f":"[1]升级!$E82","v":608.87553844905335},{"$f":"[1]升级!$H82","v":700},18,-1,820]
[82,82,3,9,2,"227;237;239","元婴期","后",2,227,237,239,14940,-1,-1,-1,-1,-1,-1,0,{"$f":"[1]升级!$B83/[2]HeroModelConfig!$M$5","v":6.18},{"$f":"[1]升级!$C83/[2]HeroModelConfig!$N$5","v":6.18},{"$f":"[1]升级!$D83/[2]HeroModelConfig!$O$5","v":6.18},1,{"$f":"[1]升级!$J83/[2]HeroModelConfig!$P$5","v":0},{"$f":"[1]升级!$E83","v":618.9032132006123},{"$f":"[1]升级!$H83","v":700},18,-1,830]
[83,83,3,9,3,"227;237;240","元婴期","后",3,227,237,240,15120,-1,-1,-1,-1,-1,-1,0,{"$f":"[1]升级!$B84/[2]HeroModelConfig!$M$5","v":6.3},{"$f":"[1]升级!$C84/[2]HeroModelConfig!$N$5","v":6.3},{"$f":"[1]升级!$D84/[2]HeroModelConfig!$O$5","v":6.3},1,{"$f":"[1]升级!$J84/[2]HeroModelConfig!$P$5","v":0},{"$f":"[1]升级!$E84","v":629.09603543235937},{"$f":"[1]升级!$H84","v":700},18,-1,840]
[84,84,3,9,4,"227;237;241","元婴期","后",4,227,237,241,15300,-1,-1,-1,-1,-1,-1,0,{"$f":"[1]升级!$B85/[2]HeroModelConfig!$M$5","v":6.4},{"$f":"[1]升级!$C85/[2]HeroModelConfig!$N$5","v":6.4},{"$f":"[1]升级!$D85/[2]HeroModelConfig!$O$5","v":6.4},1,{"$f":"[1]升级!$J85/[2]HeroModelConfig!$P$5","v":0},{"$f":"[1]升级!$E85","v":639.45672498622082},{"$f":"[1]升级!$H85","v":700},18,-1,850]
[85,85,3,9,5,"227;237;242","元婴期","后",5,227,237,242,15480,-1,-1,-1,-1,-1,-1,0,{"$f":"[1]升级!$B86/[2]HeroModelConfig!$M$5","v":6.5},{"$f":"[1]升级!$C86/[2]HeroModelConfig!$N$5","v":6.5},{"$f":"[1]升级!$D86/[2]HeroModelConfig!$O$5","v":6.5},1,{"$f":"[1]升级!$J86/[2]HeroModelConfig!$P$5","v":0},{"$f":"[1]升级!$E86","v":649.98804649766214},{"$f":"[1]升级!$H86","v":700},18,-1,860]
[86,86,3,9,6,"227;237;243","元婴期","后",6,227,237,243,15660,-1,-1,-1,-1,-1,-1,0,{"$f":"[1]升级!$B87/[2]HeroModelConfig!$M$5","v":6.6},{"$f":"[1]升级!$C87/[2]HeroModelConfig!$N$5","v":6.6},{"$f":"[1]升级!$D87/[2]HeroModelConfig!$O$5","v":6.6},1,{"$f":"[1]升级!$J87/[2]HeroModelConfig!$P$5","v":0},{"$f":"[1]升级!$E87","v":660.69281013340003},{"$f":"[1]升级!$H87","v":700},18,-1,870]
[87,87,3,9,7,"227;237;244","元婴期","后",7,227,237,244,15840,-1,-1,-1,-1,-1,-1,0,{"$f":"[1]升级!$B88/[2]HeroModelConfig!$M$5","v":6.72},{"$f":"[1]升级!$C88/[2]HeroModelConfig!$N$5","v":6.72},{"$f":"[1]升级!$D88/[2]HeroModelConfig!$O$5","v":6.72},1,{"$f":"[1]升级!$J88/[2]HeroModelConfig!$P$5","v":0},{"$f":"[1]升级!$E88","v":671.57387234126463},{"$f":"[1]升级!$H88","v":700},18,-1,880]
[88,88,3,9,8,"227;237;245","元婴期","后",8,227,237,245,16020,-1,-1,-1,-1,-1,-1,0,{"$f":"[1]升级!$B89/[2]HeroModelConfig!$M$5","v":6.82},{"$f":"[1]升级!$C89/[2]HeroModelConfig!$N$5","v":6.82},{"$f":"[1]升级!$D89/[2]HeroModelConfig!$O$5","v":6.82},1,{"$f":"[1]升级!$J89/[2]HeroModelConfig!$P$5","v":0},{"$f":"[1]升级!$E89","v":682.63413661241111},{"$f":"[1]升级!$H89","v":700},18,-1,890]
[89,89,3,9,9,"227;237;246","元婴期","后",9,227,237,246,16200,-1,-1,-1,-1,-1,-1,0,{"$f":"[1]升级!$B90/[2]HeroModelConfig!$M$5","v":6.94},{"$f":"[1]升级!$C90/[2]HeroModelConfig!$N$5","v":6.94},{"$f":"[1]升级!$D90/[2]HeroModelConfig!$O$5","v":6.94},1,{"$f":"[1]升级!$J90/[2]HeroModelConfig!$P$5","v":0},{"$f":"[1]升级!$E90","v":693.87655425608409},{"$f":"[1]升级!$H90","v":700},18,-1,900]
[90,90,3,9,10,"227;237;247","元婴期","后",10,227,237,247,16380,100001,20,1301,1,"1301;1302;1303","1;1;1","9000;13500",{"$f":"[1]升级!$B91/[2]HeroModelConfig!$M$5","v":7.86},{"$f":"[1]升级!$C91/[2]HeroModelConfig!$N$5","v":7.86},{"$f":"[1]升级!$D91/[2]HeroModelConfig!$O$5","v":7.86},1,{"$f":"[1]升级!$J91/[2]HeroModelConfig!$P$5","v":0},{"$f":"[1]升级!$E91","v":785.29712170454548},{"$f":"[1]升级!$H91","v":800},18,50,910]
[91,91,4,10,1,"228;235;238","化神期","前",1,228,235,238,17480,-1,-1,-1,-1,{"$f":"IF(I95=10,\"1001;1002;1004\",-1)","v":-1},{"$f":"IF(R95=-1,-1,\"100;200;300\")","v":-1},{"$f":"IF(G95=G96,0,CONCATENATE(B95*100,\";\",B95*150))","v":0},{"$f":"[1]升级!$B92/[2]HeroModelConfig!$M$5","v":7.98},{"$f":"[1]升级!$C92/[2]HeroModelConfig!$N$5","v":7.98},{"$f":"[1]升级!$D92/[2]HeroModelConfig!$O$5","v":7.98},1,{"$f":"[1]升级!$J92/[2]HeroModelConfig!$P$5","v":0},{"$f":"[1]升级!$E92","v":798.23031350240831},{"$f":"[1]升级!$H92","v":800},19,-1,920]
[92,92,4,10,2,"228;235;239","化神期","前",2,228,235,239,17670,-1,-1,-1,-1,{"$f":"IF(I96=10,\"1001;1002;1004\",-1)","v":-1},{"$f":"IF(R96=-1,-1,\"100;200;300\")","v":-1},{"$f":"IF(G96=G97,0,CONCATENATE(B96*100,\";\",B96*150))","v":0},{"$f":"[1]升级!$B93/[2]HeroModelConfig!$M$5","v":8.1199999999999992},{"$f":"[1]升级!$C93/[2]HeroModelConfig!$N$5","v":8.1199999999999992},{"$f":"[1]升级!$D93/[2]HeroModelConfig!$O$5","v":8.1199999999999992},1,{"$f":"[1]升级!$J93/[2]HeroModelConfig!$P$5","v":0},{"$f":"[1]升级!$E93","v":811.37650423463265},{"$f":"[1]升级!$H93","v":800},19,-1,930]
[93,93,4,10,3,"228;235;240","化神期","前",3,228,235,240,17860,-1,-1,-1,-1,-1,-1,0,{"$f":"[1]升级!$B94/[2]HeroModelConfig!$M$5","v":8.24},{"$f":"[1]升级!$C94/[2]HeroModelConfig!$N$5","v":8.24},{"$f":"[1]升级!$D94/[2]HeroModelConfig!$O$5","v":8.24},1,{"$f":"[1]升级!$J94/[2]HeroModelConfig!$P$5","v":0},{"$f":"[1]升级!$E94","v":824.73920181687845},{"$f":"[1]升级!$H94","v":800},19,-1,940]
[94,94,4,10,4,"228;235;241","化神期","前",4,228,235,241,18050,-1,-1,-1,-1,-1,-1,0,{"$f":"[1]升级!$B95/[2]HeroModelConfig!$M$5","v":8.3800000000000008},{"$f":"[1]升级!$C95/[2]HeroModelConfig!$N$5","v":8.3800000000000008},{"$f":"[1]升级!$D95/[2]HeroModelConfig!$O$5","v":8.3800000000000008},1,{"$f":"[1]升级!$J95/[2]HeroModelConfig!$P$5","v":0},{"$f":"[1]升级!$E95","v":838.32197193726483},{"$f":"[1]升级!$H95","v":800},19,-1,950]
[95,95,4,10,5,"228;235;242","化神期","前",5,228,235,242,18240,-1,-1,-1,-1,-1,-1,0,{"$f":"[1]升级!$B96/[2]HeroModelConfig!$M$5","v":8.52},{"$f":"[1]升级!$C96/[2]HeroModelConfig!$N$5","v":8.52},{"$f":"[1]升级!$D96/[2]HeroModelConfig!$O$5","v":8.52},1,{"$f":"[1]升级!$J96/[2]HeroModelConfig!$P$5","v":0},{"$f":"[1]升级!$E96","v":852.1284390078348},{"$f":"[1]升级!$H96","v":800},19,-1,960]
[96,96,4,10,6,"228;235;243","化神期","前",6,228,235,243,18430,-1,-1,-1,-1,-1,-1,0,{"$f":"[1]升级!$B97/[2]HeroModelConfig!$M$5","v":8.66},{"$f":"[1]升级!$C97/[2]HeroModelConfig!$N$5","v":8.66},{"$f":"[1]升级!$D97/[2]HeroModelConfig!$O$5","v":8.66},1,{"$f":"[1]升级!$J97/[2]HeroModelConfig!$P$5","v":0},{"$f":"[1]升级!$E97","v":866.16228713168937},{"$f":"[1]升级!$H97","v":800},19,-1,970]
[97,97,4,10,7,"228;235;244","化神期","前",7,228,235,244,18620,-1,-1,-1,-1,-1,-1,0,{"$f":"[1]升级!$B98/[2]HeroModelConfig!$M$5","v":8.8000000000000007},{"$f":"[1]升级!$C98/[2]HeroModelConfig!$N$5","v":8.8000000000000007},{"$f":"[1]升级!$D98/[2]HeroModelConfig!$O$5","v":8.8000000000000007},1,{"$f":"[1]升级!$J98/[2]HeroModelConfig!$P$5","v":0},{"$f":"[1]升级!$E98","v":880.42726108604995},{"$f":"[1]升级!$H98","v":800},19,-1,980]
[98,98,4,10,8,"228;235;245","化神期","前",8,228,235,245,18810,-1,-1,-1,-1,-1,-1,0,{"$f":"[1]升级!$B99/[2]HeroModelConfig!$M$5","v":8.94},{"$f":"[1]升级!$C99/[2]HeroModelConfig!$N$5","v":8.94},{"$f":"[1]升级!$D99/[2]HeroModelConfig!$O$5","v":8.94},1,{"$f":"[1]升级!$J99/[2]HeroModelConfig!$P$5","v":0},{"$f":"[1]升级!$E99","v":894.92716732151041},{"$f":"[1]升级!$H99","v":800},19,-1,990]
[99,99,4,10,9,"228;235;246","化神期","前",9,228,235,246,19000,-1,-1,-1,-1,-1,-1,0,{"$f":"[1]升级!$B100/[2]HeroModelConfig!$M$5","v":9.1},{"$f":"[1]升级!$C100/[2]HeroModelConfig!$N$5","v":9.1},{"$f":"[1]升级!$D100/[2]HeroModelConfig!$O$5","v":9.1},1,{"$f":"[1]升级!$J100/[2]HeroModelConfig!$P$5","v":0},{"$f":"[1]升级!$E100","v":909.66587497774674},{"$f":"[1]升级!$H100","v":800},19,-1,1000]
[100,100,4,10,10,"228;235;247","化神期","前",10,228,235,247,19190,100001,20,1301,1,1301,1,0,{"$f":"[1]升级!$B101/[2]HeroModelConfig!$M$5","v":9.6999999999999993},{"$f":"[1]升级!$C101/[2]HeroModelConfig!$N$5","v":9.6999999999999993},{"$f":"[1]升级!$D101/[2]HeroModelConfig!$O$5","v":9.6999999999999993},1,{"$f":"[1]升级!$J101/[2]HeroModelConfig!$P$5","v":0},{"$f":"[1]升级!$E101","v":969.5916427305757},{"$f":"[1]升级!$H101","v":800},19,20,1010]
[101,101,4,11,1,"228;236;238","化神期","中",1,228,236,238,20400,-1,-1,-1,-1,{"$f":"IF(I105=10,\"1001;1002;1004\",-1)","v":-1},-1,0,{"$f":"[1]升级!$B102/[2]HeroModelConfig!$M$5","v":9.86},{"$f":"[1]升级!$C102/[2]HeroModelConfig!$N$5","v":9.86},{"$f":"[1]升级!$D102/[2]HeroModelConfig!$O$5","v":9.86},1,{"$f":"[1]升级!$J102/[2]HeroModelConfig!$P$5","v":0},{"$f":"[1]升级!$E102","v":985.56001232528479},{"$f":"[1]升级!$H102","v":800},20,-1,1020]
[102,102,4,11,2,"228;236;239","化神期","中",2,228,236,239,20600,-1,-1,-1,-1,-1,-1,0,{"$f":"[1]升级!$B103/[2]HeroModelConfig!$M$5","v":10.02},{"$f":"[1]升级!$C103/[2]HeroModelConfig!$N$5","v":10.02},{"$f":"[1]升级!$D103/[2]HeroModelConfig!$O$5","v":10.02},1,{"$f":"[1]升级!$J103/[2]HeroModelConfig!$P$5","v":0},{"$f":"[1]升级!$E103","v":1001.7913677134719},{"$f":"[1]升级!$H103","v":800},20,-1,1030]
[103,103,4,11,3,"228;236;240","化神期","中",3,228,236,240,20800,-1,-1,-1,-1,-1,-1,0,{"$f":"[1]升级!$B104/[2]HeroModelConfig!$M$5","v":10.18},{"$f":"[1]升级!$C104/[2]HeroModelConfig!$N$5","v":10.18},{"$f":"[1]升级!$D104/[2]HeroModelConfig!$O$5","v":10.18},1,{"$f":"[1]升级!$J104/[2]HeroModelConfig!$P$5","v":0},{"$f":"[1]升级!$E104","v":1018.2900400528775},{"$f":"[1]升级!$H104","v":800},20,-1,1040]
[104,104,4,11,4,"228;236;241","化神期","中",4,228,236,241,21000,-1,-1,-1,-1,-1,-1,0,{"$f":"[1]升级!$B105/[2]HeroModelConfig!$M$5","v":10.36},{"$f":"[1]升级!$C105/[2]HeroModelConfig!$N$5","v":10.36},{"$f":"[1]升级!$D105/[2]HeroModelConfig!$O$5","v":10.36},1,{"$f":"[1]升级!$J105/[2]HeroModelConfig!$P$5","v":0},{"$f":"[1]升级!$E105","v":1035.0604318318151},{"$f":"[1]升级!$H105","v":800},20,-1,1050]
[105,105,4,11,5,"228;236;242","化神期","中",5,228,236,242,21200,-1,-1,-1,-1,-1,-1,0,{"$f":"[1]升级!$B106/[2]HeroModelConfig!$M$5","v":10.52},{"$f":"[1]升级!$C106/[2]HeroModelConfig!$N$5","v":10.52},{"$f":"[1]升级!$D106/[2]HeroModelConfig!$O$5","v":10.52},1,{"$f":"[1]升级!$J106/[2]HeroModelConfig!$P$5","v":0},{"$f":"[1]升级!$E106","v":1052.1070180439267},{"$f":"[1]升级!$H106","v":800},20,-1,1060]
[106,106,4,11,6,"228;236;243","化神期","中",6,228,236,243,21400,-1,-1,-1,-1,-1,-1,0,{"$f":"[1]升级!$B107/[2]HeroModelConfig!$M$5","v":10.7},{"$f":"[1]升级!$C107/[2]HeroModelConfig!$N$5","v":10.7},{"$f":"[1]升级!$D107/[2]HeroModelConfig!$O$5","v":10.7},1,{"$f":"[1]升级!$J107/[2]HeroModelConfig!$P$5","v":0},{"$f":"[1]升级!$E107","v":1069.4343473822851},{"$f":"[1]升级!$H107","v":800},20,-1,1070]
[107,107,4,11,7,"228;236;244","化神期","中",7,228,236,244,21600,-1,-1,-1,-1,-1,-1,0,{"$f":"[1]升级!$B108/[2]HeroModelConfig!$M$5","v":10.88},{"$f":"[1]升级!$C108/[2]HeroModelConfig!$N$5","v":10.88},{"$f":"[1]升级!$D108/[2]HeroModelConfig!$O$5","v":10.88},1,{"$f":"[1]升级!$J108/[2]HeroModelConfig!$P$5","v":0},{"$f":"[1]升级!$E108","v":1087.0470434531628},{"$f":"[1]升级!$H108","v":800},20,-1,1080]
[108,108,4,11,8,"228;236;245","化神期","中",8,228,236,245,21800,-1,-1,-1,-1,-1,-1,0,{"$f":"[1]升级!$B109/[2]HeroModelConfig!$M$5","v":11.04},{"$f":"[1]升级!$C109/[2]HeroModelConfig!$N$5","v":11.04},{"$f":"[1]升级!$D109/[2]HeroModelConfig!$O$5","v":11.04},1,{"$f":"[1]升级!$J109/[2]HeroModelConfig!$P$5","v":0},{"$f":"[1]升级!$E109","v":1104.9498060097903},{"$f":"[1]升级!$H109","v":800},20,-1,1090]
[109,109,4,11,9,"228;236;246","化神期","中",9,228,236,246,22000,-1,-1,-1,-1,-1,-1,0,{"$f":"[1]升级!$B110/[2]HeroModelConfig!$M$5","v":11.24},{"$f":"[1]升级!$C110/[2]HeroModelConfig!$N$5","v":11.24},{"$f":"[1]升级!$D110/[2]HeroModelConfig!$O$5","v":11.24},1,{"$f":"[1]升级!$J110/[2]HeroModelConfig!$P$5","v":0},{"$f":"[1]升级!$E110","v":1123.1474122064326},{"$f":"[1]升级!$H110","v":800},20,-1,1100]
[110,110,4,11,10,"228;236;247","化神期","中",10,228,236,247,22200,100001,20,1301,1,"1301;1302","1;1",0,{"$f":"[1]升级!$B111/[2]HeroModelConfig!$M$5","v":11.98},{"$f":"[1]升级!$C111/[2]HeroModelConfig!$N$5","v":11.98},{"$f":"[1]升级!$D111/[2]HeroModelConfig!$O$5","v":11.98},1,{"$f":"[1]升级!$J111/[2]HeroModelConfig!$P$5","v":0},{"$f":"[1]升级!$E111","v":1197.1366348731838},{"$f":"[1]升级!$H111","v":800},20,20,1110]
[111,111,4,12,1,"228;237;238","化神期","后",1,228,237,238,23520,-1,-1,-1,-1,{"$f":"IF(I115=10,\"1001;1002;1004\",-1)","v":-1},-1,0,{"$f":"[1]升级!$B112/[2]HeroModelConfig!$M$5","v":12.16},{"$f":"[1]升级!$C112/[2]HeroModelConfig!$N$5","v":12.16},{"$f":"[1]升级!$D112/[2]HeroModelConfig!$O$5","v":12.16},1,{"$f":"[1]升级!$J112/[2]HeroModelConfig!$P$5","v":0},{"$f":"[1]升级!$E112","v":1216.8524816261381},{"$f":"[1]升级!$H112","v":800},21,-1,1120]
[112,112,4,12,2,"228;237;239","化神期","后",2,228,237,239,23730,-1,-1,-1,-1,-1,-1,0,{"$f":"[1]升级!$B113/[2]HeroModelConfig!$M$5","v":12.36},{"$f":"[1]升级!$C113/[2]HeroModelConfig!$N$5","v":12.36},{"$f":"[1]升级!$D113/[2]HeroModelConfig!$O$5","v":12.36},1,{"$f":"[1]升级!$J113/[2]HeroModelConfig!$P$5","v":0},{"$f":"[1]升级!$E113","v":1236.8930320109607},{"$f":"[1]升级!$H113","v":800},21,-1,1130]
[113,113,4,12,3,"228;237;240","化神期","后",3,228,237,240,23940,-1,-1,-1,-1,-1,-1,0,{"$f":"[1]升级!$B114/[2]HeroModelConfig!$M$5","v":12.58},{"$f":"[1]升级!$C114/[2]HeroModelConfig!$N$5","v":12.58},{"$f":"[1]升级!$D114/[2]HeroModelConfig!$O$5","v":12.58},1,{"$f":"[1]升级!$J114/[2]HeroModelConfig!$P$5","v":0},{"$f":"[1]升级!$E114","v":1257.2636336269645},{"$f":"[1]升级!$H114","v":800},21,-1,1140]
[114,114,4,12,4,"228;237;241","化神期","后",4,228,237,241,24150,-1,-1,-1,-1,-1,-1,0,{"$f":"[1]升级!$B115/[2]HeroModelConfig!$M$5","v":12.78},{"$f":"[1]升级!$C115/[2]HeroModelConfig!$N$5","v":12.78},{"$f":"[1]升级!$D115/[2]HeroModelConfig!$O$5","v":12.78},1,{"$f":"[1]升级!$J115/[2]HeroModelConfig!$P$5","v":0},{"$f":"[1]升级!$E115","v":1277.9697221439847},{"$f":"[1]升级!$H115","v":800},21,-1,1150]
[115,115,4,12,5,"228;237;242","化神期","后",5,228,237,242,24360,-1,-1,-1,-1,-1,-1,0,{"$f":"[1]升级!$B116/[2]HeroModelConfig!$M$5","v":13},{"$f":"[1]升级!$C116/[2]HeroModelConfig!$N$5","v":13},{"$f":"[1]升级!$D116/[2]HeroModelConfig!$O$5","v":13},1,{"$f":"[1]升级!$J116/[2]HeroModelConfig!$P$5","v":0},{"$f":"[1]升级!$E116","v":1299.0168227528266},{"$f":"[1]升级!$H116","v":800},21,-1,1160]
[116,116,4,12,6,"228;237;243","化神期","后",6,228,237,243,24570,-1,-1,-1,-1,-1,-1,0,{"$f":"[1]升级!$B117/[2]HeroModelConfig!$M$5","v":13.2},{"$f":"[1]升级!$C117/[2]HeroModelConfig!$N$5","v":13.2},{"$f":"[1]升级!$D117/[2]HeroModelConfig!$O$5","v":13.2},1,{"$f":"[1]升级!$J117/[2]HeroModelConfig!$P$5","v":0},{"$f":"[1]升级!$E117","v":1320.4105516396025},{"$f":"[1]升级!$H117","v":800},21,-1,1170]
[117,117,4,12,7,"228;237;244","化神期","后",7,228,237,244,24780,-1,-1,-1,-1,-1,-1,0,{"$f":"[1]升级!$B118/[2]HeroModelConfig!$M$5","v":13.42},{"$f":"[1]升级!$C118/[2]HeroModelConfig!$N$5","v":13.42},{"$f":"[1]升级!$D118/[2]HeroModelConfig!$O$5","v":13.42},1,{"$f":"[1]升级!$J118/[2]HeroModelConfig!$P$5","v":0},{"$f":"[1]升级!$E118","v":1342.1566174843488},{"$f":"[1]升级!$H118","v":800},21,-1,1180]
[118,118,4,12,8,"228;237;245","化神期","后",8,228,237,245,24990,-1,-1,-1,-1,-1,-1,0,{"$f":"[1]升级!$B119/[2]HeroModelConfig!$M$5","v":13.64},{"$f":"[1]升级!$C119/[2]HeroModelConfig!$N$5","v":13.64},{"$f":"[1]升级!$D119/[2]HeroModelConfig!$O$5","v":13.64},1,{"$f":"[1]升级!$J119/[2]HeroModelConfig!$P$5","v":0},{"$f":"[1]升级!$E119","v":1364.2608229843233},{"$f":"[1]升级!$H119","v":800},21,-1,1190]
[119,119,4,12,9,"228;237;246","化神期","后",9,228,237,246,25200,-1,-1,-1,-1,-1,-1,0,{"$f":"[1]升级!$B120/[2]HeroModelConfig!$M$5","v":13.86},{"$f":"[1]升级!$C120/[2]HeroModelConfig!$N$5","v":13.86},{"$f":"[1]升级!$D120/[2]HeroModelConfig!$O$5","v":13.86},1,{"$f":"[1]升级!$J120/[2]HeroModelConfig!$P$5","v":0},{"$f":"[1]升级!$E120","v":1386.7290664023919},{"$f":"[1]升级!$H120","v":800},21,-1,1200]
[120,120,4,12,10,"228;237;247","化神期","后",10,228,237,247,25410,100001,20,1301,1,"1301;1302;1303","1;1;1","12000;18000",{"$f":"[1]升级!$B121/[2]HeroModelConfig!$M$5","v":15.7},{"$f":"[1]升级!$C121/[2]HeroModelConfig!$N$5","v":15.7},{"$f":"[1]升级!$D121/[2]HeroModelConfig!$O$5","v":15.7},1,{"$f":"[1]升级!$J121/[2]HeroModelConfig!$P$5","v":0},{"$f":"[1]升级!$E121","v":1569.4352803105703},{"$f":"[1]升级!$H121","v":900},21,50,1210]
[121,121,5,13,1,"229;235;238","炼虚期","前",1,229,235,238,26840,-1,-1,-1,-1,{"$f":"IF(I125=10,\"1001;1002;1004\",-1)","v":-1},{"$f":"IF(R125=-1,-1,\"100;200;300\")","v":-1},{"$f":"IF(G125=G126,0,CONCATENATE(B125*100,\";\",B125*150))","v":0},{"$f":"[1]升级!$B122/[2]HeroModelConfig!$M$5","v":15.96},{"$f":"[1]升级!$C122/[2]HeroModelConfig!$N$5","v":15.96},{"$f":"[1]升级!$D122/[2]HeroModelConfig!$O$5","v":15.96},1,{"$f":"[1]升级!$J122/[2]HeroModelConfig!$P$5","v":0},{"$f":"[1]升级!$E122","v":1595.2825767460026},{"$f":"[1]升级!$H122","v":900},22,-1,1220]
[122,122,5,13,2,"229;235;239","炼虚期","前",2,229,235,239,27060,-1,-1,-1,-1,{"$f":"IF(I126=10,\"1001;1002;1004\",-1)","v":-1},{"$f":"IF(R126=-1,-1,\"100;200;300\")","v":-1},{"$f":"IF(G126=G127,0,CONCATENATE(B126*100,\";\",B126*150))","v":0},{"$f":"[1]升级!$B123/[2]HeroModelConfig!$M$5","v":16.22},{"$f":"[1]升级!$C123/[2]HeroModelConfig!$N$5","v":16.22},{"$f":"[1]升级!$D123/[2]HeroModelConfig!$O$5","v":16.22},1,{"$f":"[1]升级!$J123/[2]HeroModelConfig!$P$5","v":0},{"$f":"[1]升级!$E123","v":1621.5555567004706},{"$f":"[1]升级!$H123","v":900},22,-1,1230]
[123,123,5,13,3,"229;235;240","炼虚期","前",3,229,235,240,27280,-1,-1,-1,-1,-1,-1,0,{"$f":"[1]升级!$B124/[2]HeroModelConfig!$M$5","v":16.48},{"$f":"[1]升级!$C124/[2]HeroModelConfig!$N$5","v":16.48},{"$f":"[1]升级!$D124/[2]HeroModelConfig!$O$5","v":16.48},1,{"$f":"[1]升级!$J124/[2]HeroModelConfig!$P$5","v":0},{"$f":"[1]升级!$E124","v":1648.261230828215},{"$f":"[1]升级!$H124","v":900},22,-1,1240]
[124,124,5,13,4,"229;235;241","炼虚期","前",4,229,235,241,27500,-1,-1,-1,-1,-1,-1,0,{"$f":"[1]升级!$B125/[2]HeroModelConfig!$M$5","v":16.760000000000002},{"$f":"[1]升级!$C125/[2]HeroModelConfig!$N$5","v":16.760000000000002},{"$f":"[1]升级!$D125/[2]HeroModelConfig!$O$5","v":16.760000000000002},1,{"$f":"[1]升级!$J125/[2]HeroModelConfig!$P$5","v":0},{"$f":"[1]升级!$E125","v":1675.4067252431341},{"$f":"[1]升级!$H125","v":900},22,-1,1250]
[125,125,5,13,5,"229;235;242","炼虚期","前",5,229,235,242,27720,-1,-1,-1,-1,-1,-1,0,{"$f":"[1]升级!$B126/[2]HeroModelConfig!$M$5","v":17.02},{"$f":"[1]升级!$C126/[2]HeroModelConfig!$N$5","v":17.02},{"$f":"[1]升级!$D126/[2]HeroModelConfig!$O$5","v":17.02},1,{"$f":"[1]升级!$J126/[2]HeroModelConfig!$P$5","v":0},{"$f":"[1]升级!$E126","v":1702.9992834203065},{"$f":"[1]升级!$H126","v":900},22,-1,1260]
[126,126,5,13,6,"229;235;243","炼虚期","前",6,229,235,243,27940,-1,-1,-1,-1,-1,-1,0,{"$f":"[1]升级!$B127/[2]HeroModelConfig!$M$5","v":17.32},{"$f":"[1]升级!$C127/[2]HeroModelConfig!$N$5","v":17.32},{"$f":"[1]升级!$D127/[2]HeroModelConfig!$O$5","v":17.32},1,{"$f":"[1]升级!$J127/[2]HeroModelConfig!$P$5","v":0},{"$f":"[1]升级!$E127","v":1731.0462681288336},{"$f":"[1]升级!$H127","v":900},22,-1,1270]
[127,127,5,13,7,"229;235;244","炼虚期","前",7,229,235,244,28160,-1,-1,-1,-1,-1,-1,0,{"$f":"[1]升级!$B128/[2]HeroModelConfig!$M$5","v":17.600000000000001},{"$f":"[1]升级!$C128/[2]HeroModelConfig!$N$5","v":17.600000000000001},{"$f":"[1]升级!$D128/[2]HeroModelConfig!$O$5","v":17.600000000000001},1,{"$f":"[1]升级!$J128/[2]HeroModelConfig!$P$5","v":0},{"$f":"[1]升级!$E128","v":1759.5551633965129},{"$f":"[1]升级!$H128","v":900},22,-1,1280]
[128,128,5,13,8,"229;235;245","炼虚期","前",8,229,235,245,28380,-1,-1,-1,-1,-1,-1,0,{"$f":"[1]升级!$B129/[2]HeroModelConfig!$M$5","v":17.88},{"$f":"[1]升级!$C129/[2]HeroModelConfig!$N$5","v":17.88},{"$f":"[1]升级!$D129/[2]HeroModelConfig!$O$5","v":17.88},1,{"$f":"[1]升级!$J129/[2]HeroModelConfig!$P$5","v":0},{"$f":"[1]升级!$E129","v":1788.5335765068676},{"$f":"[1]升级!$H129","v":900},22,-1,1290]
[129,129,5,13,9,"229;235;246","炼虚期","前",9,229,235,246,28600,-1,-1,-1,-1,-1,-1,0,{"$f":"[1]升级!$B130/[2]HeroModelConfig!$M$5","v":18.18},{"$f":"[1]升级!$C130/[2]HeroModelConfig!$N$5","v":18.18},{"$f":"[1]升级!$D130/[2]HeroModelConfig!$O$5","v":18.18},1,{"$f":"[1]升级!$J130/[2]HeroModelConfig!$P$5","v":0},{"$f":"[1]升级!$E130","v":1817.9892400290671},{"$f":"[1]升级!$H130","v":900},22,-1,1300]
[130,130,5,13,{"$f":"I134","v":10},{"$f":"_xlfn.TEXTJOIN(\";\",1,J134:L134)","v":"229;235;247"},"炼虚期","前",10,229,235,247,{"$f":"INT(0.1*AB134*AD134)*10","v":28820},{"$f":"IF(I134=10,100001,-1)","v":100001},{"$f":"IF(N134=-1,-1,20)","v":20},1301,1,1301,1,0,{"$f":"[1]升级!$B131/[2]HeroModelConfig!$M$5","v":19.38},{"$f":"[1]升级!$C131/[2]HeroModelConfig!$N$5","v":19.38},{"$f":"[1]升级!$D131/[2]HeroModelConfig!$O$5","v":19.38},1,{"$f":"[1]升级!$J131/[2]HeroModelConfig!$P$5","v":0},{"$f":"[1]升级!$E131","v":1937.752335437905},{"$f":"[1]升级!$H131","v":900},22,20,1310]
[131,131,5,14,1,"229;236;238","炼虚期","中",1,229,236,238,30360,-1,-1,-1,-1,{"$f":"IF(I135=10,\"1001;1002;1004\",-1)","v":-1},-1,0,{"$f":"[1]升级!$B132/[2]HeroModelConfig!$M$5","v":19.7},{"$f":"[1]升级!$C132/[2]HeroModelConfig!$N$5","v":19.7},{"$f":"[1]升级!$D132/[2]HeroModelConfig!$O$5","v":19.7},1,{"$f":"[1]升级!$J132/[2]HeroModelConfig!$P$5","v":0},{"$f":"[1]升级!$E132","v":1969.6655080681287},{"$f":"[1]升级!$H132","v":900},23,-1,{"$f":"MAX(AD134+10,ROUND(10^(B135*0.01+1.405),0))","v":1320}]
[132,132,5,14,2,"229;236;239","炼虚期","中",2,229,236,239,30590,-1,-1,-1,-1,-1,-1,0,{"$f":"[1]升级!$B133/[2]HeroModelConfig!$M$5","v":20.02},{"$f":"[1]升级!$C133/[2]HeroModelConfig!$N$5","v":20.02},{"$f":"[1]升级!$D133/[2]HeroModelConfig!$O$5","v":20.02},1,{"$f":"[1]升级!$J133/[2]HeroModelConfig!$P$5","v":0},{"$f":"[1]升级!$E133","v":2002.1042641636388},{"$f":"[1]升级!$H133","v":900},23,-1,1330]
[133,133,5,14,3,"229;236;240","炼虚期","中",3,229,236,240,30820,-1,-1,-1,-1,-1,-1,0,{"$f":"[1]升级!$B134/[2]HeroModelConfig!$M$5","v":20.36},{"$f":"[1]升级!$C134/[2]HeroModelConfig!$N$5","v":20.36},{"$f":"[1]升级!$D134/[2]HeroModelConfig!$O$5","v":20.36},1,{"$f":"[1]升级!$J134/[2]HeroModelConfig!$P$5","v":0},{"$f":"[1]升级!$E134","v":2035.0772596478746},{"$f":"[1]升级!$H134","v":900},23,-1,1340]
[134,134,5,14,4,"229;236;241","炼虚期","中",4,229,236,241,31050,-1,-1,-1,-1,-1,-1,0,{"$f":"[1]升级!$B135/[2]HeroModelConfig!$M$5","v":20.68},{"$f":"[1]升级!$C135/[2]HeroModelConfig!$N$5","v":20.68},{"$f":"[1]升级!$D135/[2]HeroModelConfig!$O$5","v":20.68},1,{"$f":"[1]升级!$J135/[2]HeroModelConfig!$P$5","v":0},{"$f":"[1]升级!$E135","v":2068.5932930001495},{"$f":"[1]升级!$H135","v":900},23,-1,1350]
[135,135,5,14,5,"229;236;242","炼虚期","中",5,229,236,242,31280,-1,-1,-1,-1,-1,-1,0,{"$f":"[1]升级!$B136/[2]HeroModelConfig!$M$5","v":21.02},{"$f":"[1]升级!$C136/[2]HeroModelConfig!$N$5","v":21.02},{"$f":"[1]升级!$D136/[2]HeroModelConfig!$O$5","v":21.02},1,{"$f":"[1]升级!$J136/[2]HeroModelConfig!$P$5","v":0},{"$f":"[1]升级!$E136","v":2102.6613076034287},{"$f":"[1]升级!$H136","v":900},23,-1,1360]
[136,136,5,14,6,"229;236;243","炼虚期","中",6,229,236,243,31510,-1,-1,-1,-1,-1,-1,0,{"$f":"[1]升级!$B137/[2]HeroModelConfig!$M$5","v":21.38},{"$f":"[1]升级!$C137/[2]HeroModelConfig!$N$5","v":21.38},{"$f":"[1]升级!$D137/[2]HeroModelConfig!$O$5","v":21.38},1,{"$f":"[1]升级!$J137/[2]HeroModelConfig!$P$5","v":0},{"$f":"[1]升级!$E137","v":2137.2903941307718},{"$f":"[1]升级!$H137","v":900},23,-1,1370]
[137,137,5,14,7,"229;236;244","炼虚期","中",7,229,236,244,31740,-1,-1,-1,-1,-1,-1,0,{"$f":"[1]升级!$B138/[2]HeroModelConfig!$M$5","v":21.72},{"$f":"[1]升级!$C138/[2]HeroModelConfig!$N$5","v":21.72},{"$f":"[1]升级!$D138/[2]HeroModelConfig!$O$5","v":21.72},1,{"$f":"[1]升级!$J138/[2]HeroModelConfig!$P$5","v":0},{"$f":"[1]升级!$E138","v":2172.4897929710783},{"$f":"[1]升级!$H138","v":900},23,-1,1380]
[138,138,5,14,8,"229;236;245","炼虚期","中",8,229,236,245,31970,-1,-1,-1,-1,-1,-1,0,{"$f":"[1]升级!$B139/[2]HeroModelConfig!$M$5","v":22.08},{"$f":"[1]升级!$C139/[2]HeroModelConfig!$N$5","v":22.08},{"$f":"[1]升级!$D139/[2]HeroModelConfig!$O$5","v":22.08},1,{"$f":"[1]升级!$J139/[2]HeroModelConfig!$P$5","v":0},{"$f":"[1]升级!$E139","v":2208.2688966947835},{"$f":"[1]升级!$H139","v":900},23,-1,1390]
[139,139,5,14,9,"229;236;246","炼虚期","中",9,229,236,246,32200,-1,-1,-1,-1,-1,-1,0,{"$f":"[1]升级!$B140/[2]HeroModelConfig!$M$5","v":22.44},{"$f":"[1]升级!$C140/[2]HeroModelConfig!$N$5","v":22.44},{"$f":"[1]升级!$D140/[2]HeroModelConfig!$O$5","v":22.44},1,{"$f":"[1]升级!$J140/[2]HeroModelConfig!$P$5","v":0},{"$f":"[1]升级!$E140","v":2244.6372525601623},{"$f":"[1]升级!$H140","v":900},23,-1,1400]
[140,140,5,14,10,"229;236;247","炼虚期","中",10,229,236,247,32430,100001,20,1301,1,"1301;1302","1;1",0,{"$f":"[1]升级!$B141/[2]HeroModelConfig!$M$5","v":23.92},{"$f":"[1]升级!$C141/[2]HeroModelConfig!$N$5","v":23.92},{"$f":"[1]升级!$D141/[2]HeroModelConfig!$O$5","v":23.92},1,{"$f":"[1]升级!$J141/[2]HeroModelConfig!$P$5","v":0},{"$f":"[1]升级!$E141","v":2392.506502563147},{"$f":"[1]升级!$H141","v":900},23,20,1410]
[141,141,5,15,1,"229;237;238","炼虚期","后",1,229,237,238,34080,-1,-1,-1,-1,{"$f":"IF(I145=10,\"1001;1002;1004\",-1)","v":-1},-1,0,{"$f":"[1]升级!$B142/[2]HeroModelConfig!$M$5","v":24.32},{"$f":"[1]升级!$C142/[2]HeroModelConfig!$N$5","v":24.32},{"$f":"[1]升级!$D142/[2]HeroModelConfig!$O$5","v":24.32},1,{"$f":"[1]升级!$J142/[2]HeroModelConfig!$P$5","v":0},{"$f":"[1]升级!$E142","v":2431.9090988799649},{"$f":"[1]升级!$H142","v":900},24,-1,1420]
[142,142,5,15,2,"229;237;239","炼虚期","后",2,229,237,239,34320,-1,-1,-1,-1,-1,-1,0,{"$f":"[1]升级!$B143/[2]HeroModelConfig!$M$5","v":24.72},{"$f":"[1]升级!$C143/[2]HeroModelConfig!$N$5","v":24.72},{"$f":"[1]升级!$D143/[2]HeroModelConfig!$O$5","v":24.72},1,{"$f":"[1]升级!$J143/[2]HeroModelConfig!$P$5","v":0},{"$f":"[1]升级!$E143","v":2471.9606232539654},{"$f":"[1]升级!$H143","v":900},24,-1,1430]
[143,143,5,15,3,"229;237;240","炼虚期","后",3,229,237,240,34560,-1,-1,-1,-1,-1,-1,0,{"$f":"[1]升级!$B144/[2]HeroModelConfig!$M$5","v":25.12},{"$f":"[1]升级!$C144/[2]HeroModelConfig!$N$5","v":25.12},{"$f":"[1]升级!$D144/[2]HeroModelConfig!$O$5","v":25.12},1,{"$f":"[1]升级!$J144/[2]HeroModelConfig!$P$5","v":0},{"$f":"[1]升级!$E144","v":2512.6717629916407},{"$f":"[1]升级!$H144","v":900},24,-1,1440]
[144,144,5,15,4,"229;237;241","炼虚期","后",4,229,237,241,34800,-1,-1,-1,-1,-1,-1,0,{"$f":"[1]升级!$B145/[2]HeroModelConfig!$M$5","v":25.54},{"$f":"[1]升级!$C145/[2]HeroModelConfig!$N$5","v":25.54},{"$f":"[1]升级!$D145/[2]HeroModelConfig!$O$5","v":25.54},1,{"$f":"[1]升级!$J145/[2]HeroModelConfig!$P$5","v":0},{"$f":"[1]升级!$E145","v":2554.0533814105497},{"$f":"[1]升级!$H145","v":900},24,-1,1450]
[145,145,5,15,5,"229;237;242","炼虚期","后",5,229,237,242,35040,-1,-1,-1,-1,-1,-1,0,{"$f":"[1]升级!$B146/[2]HeroModelConfig!$M$5","v":25.96},{"$f":"[1]升级!$C146/[2]HeroModelConfig!$N$5","v":25.96},{"$f":"[1]升级!$D146/[2]HeroModelConfig!$O$5","v":25.96},1,{"$f":"[1]升级!$J146/[2]HeroModelConfig!$P$5","v":0},{"$f":"[1]升级!$E146","v":2596.1165207380745},{"$f":"[1]升级!$H146","v":900},24,-1,1460]
[146,146,5,15,6,"229;237;243","炼虚期","后",6,229,237,243,35280,-1,-1,-1,-1,-1,-1,0,{"$f":"[1]升级!$B147/[2]HeroModelConfig!$M$5","v":26.38},{"$f":"[1]升级!$C147/[2]HeroModelConfig!$N$5","v":26.38},{"$f":"[1]升级!$D147/[2]HeroModelConfig!$O$5","v":26.38},1,{"$f":"[1]升级!$J147/[2]HeroModelConfig!$P$5","v":0},{"$f":"[1]升级!$E147","v":2638.8724050579181},{"$f":"[1]升级!$H147","v":900},24,-1,1470]
[147,147,5,15,7,"229;237;244","炼虚期","后",7,229,237,244,35520,-1,-1,-1,-1,-1,-1,0,{"$f":"[1]升级!$B148/[2]HeroModelConfig!$M$5","v":26.82},{"$f":"[1]升级!$C148/[2]HeroModelConfig!$N$5","v":26.82},{"$f":"[1]升级!$D148/[2]HeroModelConfig!$O$5","v":26.82},1,{"$f":"[1]升级!$J148/[2]HeroModelConfig!$P$5","v":0},{"$f":"[1]升级!$E148","v":2682.3324433051257},{"$f":"[1]升级!$H148","v":900},24,-1,1480]
[148,148,5,15,8,"229;237;245","炼虚期","后",8,229,237,245,35760,-1,-1,-1,-1,-1,-1,0,{"$f":"[1]升级!$B149/[2]HeroModelConfig!$M$5","v":27.26},{"$f":"[1]升级!$C149/[2]HeroModelConfig!$N$5","v":27.26},{"$f":"[1]升级!$D149/[2]HeroModelConfig!$O$5","v":27.26},1,{"$f":"[1]升级!$J149/[2]HeroModelConfig!$P$5","v":0},{"$f":"[1]升级!$E149","v":2726.508232310433},{"$f":"[1]升级!$H149","v":900},24,-1,1490]
[149,149,5,15,9,"229;237;246","炼虚期","后",9,229,237,246,36000,-1,-1,-1,-1,-1,-1,0,{"$f":"[1]升级!$B150/[2]HeroModelConfig!$M$5","v":27.72},{"$f":"[1]升级!$C150/[2]HeroModelConfig!$N$5","v":27.72},{"$f":"[1]升级!$D150/[2]HeroModelConfig!$O$5","v":27.72},1,{"$f":"[1]升级!$J150/[2]HeroModelConfig!$P$5","v":0},{"$f":"[1]升级!$E150","v":2771.4115598947528},{"$f":"[1]升级!$H150","v":900},24,-1,1500]
[150,150,5,15,10,"229;237;247","炼虚期","后",10,229,237,247,36240,100001,20,1301,1,"1301;1302;1303","1;1;1","15000;22500",{"$f":"[1]升级!$B151/[2]HeroModelConfig!$M$5","v":31.36},{"$f":"[1]升级!$C151/[2]HeroModelConfig!$N$5","v":31.36},{"$f":"[1]升级!$D151/[2]HeroModelConfig!$O$5","v":31.36},1,{"$f":"[1]升级!$J151/[2]HeroModelConfig!$P$5","v":0},{"$f":"[1]升级!$E151","v":3136.5543448537278},{"$f":"[1]升级!$H151","v":1000},24,50,1510]
[151,151,6,16,1,"230;235;238","合体期","前",1,230,235,238,38000,-1,-1,-1,-1,{"$f":"IF(I155=10,\"1001;1002;1004\",-1)","v":-1},{"$f":"IF(R155=-1,-1,\"100;200;300\")","v":-1},{"$f":"IF(G155=G156,0,CONCATENATE(B155*100,\";\",B155*150))","v":0},{"$f":"[1]升级!$B152/[2]HeroModelConfig!$M$5","v":31.88},{"$f":"[1]升级!$C152/[2]HeroModelConfig!$N$5","v":31.88},{"$f":"[1]升级!$D152/[2]HeroModelConfig!$O$5","v":31.88},1,{"$f":"[1]升级!$J152/[2]HeroModelConfig!$P$5","v":0},{"$f":"[1]升级!$E152","v":3188.2107915733623},{"$f":"[1]升级!$H152","v":1000},25,-1,1520]
[152,152,6,16,2,"230;235;239","合体期","前",2,230,235,239,38250,-1,-1,-1,-1,{"$f":"IF(I156=10,\"1001;1002;1004\",-1)","v":-1},{"$f":"IF(R156=-1,-1,\"100;200;300\")","v":-1},{"$f":"IF(G156=G157,0,CONCATENATE(B156*100,\";\",B156*150))","v":0},{"$f":"[1]升级!$B153/[2]HeroModelConfig!$M$5","v":32.4},{"$f":"[1]升级!$C153/[2]HeroModelConfig!$N$5","v":32.4},{"$f":"[1]升级!$D153/[2]HeroModelConfig!$O$5","v":32.4},1,{"$f":"[1]升级!$J153/[2]HeroModelConfig!$P$5","v":0},{"$f":"[1]升级!$E153","v":3240.7179770956182},{"$f":"[1]升级!$H153","v":1000},25,-1,1530]
[153,153,6,16,3,"230;235;240","合体期","前",3,230,235,240,38500,-1,-1,-1,-1,-1,-1,0,{"$f":"[1]升级!$B154/[2]HeroModelConfig!$M$5","v":32.94},{"$f":"[1]升级!$C154/[2]HeroModelConfig!$N$5","v":32.94},{"$f":"[1]升级!$D154/[2]HeroModelConfig!$O$5","v":32.94},1,{"$f":"[1]升级!$J154/[2]HeroModelConfig!$P$5","v":0},{"$f":"[1]升级!$E154","v":3294.0899123824615},{"$f":"[1]升级!$H154","v":1000},25,-1,1540]
[154,154,6,16,4,"230;235;241","合体期","前",4,230,235,241,38750,-1,-1,-1,-1,-1,-1,0,{"$f":"[1]升级!$B155/[2]HeroModelConfig!$M$5","v":33.479999999999997},{"$f":"[1]升级!$C155/[2]HeroModelConfig!$N$5","v":33.479999999999997},{"$f":"[1]升级!$D155/[2]HeroModelConfig!$O$5","v":33.479999999999997},1,{"$f":"[1]升级!$J155/[2]HeroModelConfig!$P$5","v":0},{"$f":"[1]升级!$E155","v":3348.3408391447733},{"$f":"[1]升级!$H155","v":1000},25,-1,1550]
[155,155,6,16,5,"230;235;242","合体期","前",5,230,235,242,39000,-1,-1,-1,-1,-1,-1,0,{"$f":"[1]升级!$B156/[2]HeroModelConfig!$M$5","v":34.04},{"$f":"[1]升级!$C156/[2]HeroModelConfig!$N$5","v":34.04},{"$f":"[1]升级!$D156/[2]HeroModelConfig!$O$5","v":34.04},1,{"$f":"[1]升级!$J156/[2]HeroModelConfig!$P$5","v":0},{"$f":"[1]升级!$E156","v":3403.4852336425911},{"$f":"[1]升级!$H156","v":1000},25,-1,1560]
[156,156,6,16,6,"230;235;243","合体期","前",6,230,235,243,39250,-1,-1,-1,-1,-1,-1,0,{"$f":"[1]升级!$B157/[2]HeroModelConfig!$M$5","v":34.6},{"$f":"[1]升级!$C157/[2]HeroModelConfig!$N$5","v":34.6},{"$f":"[1]升级!$D157/[2]HeroModelConfig!$O$5","v":34.6},1,{"$f":"[1]升级!$J157/[2]HeroModelConfig!$P$5","v":0},{"$f":"[1]升级!$E157","v":3459.5378105479404},{"$f":"[1]升级!$H157","v":1000},25,-1,1570]
[157,157,6,16,7,"230;235;244","合体期","前",7,230,235,244,39500,-1,-1,-1,-1,-1,-1,0,{"$f":"[1]升级!$B158/[2]HeroModelConfig!$M$5","v":35.159999999999997},{"$f":"[1]升级!$C158/[2]HeroModelConfig!$N$5","v":35.159999999999997},{"$f":"[1]升级!$D158/[2]HeroModelConfig!$O$5","v":35.159999999999997},1,{"$f":"[1]升级!$J158/[2]HeroModelConfig!$P$5","v":0},{"$f":"[1]升级!$E158","v":3516.513526871282},{"$f":"[1]升级!$H158","v":1000},25,-1,1580]
[158,158,6,16,8,"230;235;245","合体期","前",8,230,235,245,39750,-1,-1,-1,-1,-1,-1,0,{"$f":"[1]升级!$B159/[2]HeroModelConfig!$M$5","v":35.74},{"$f":"[1]升级!$C159/[2]HeroModelConfig!$N$5","v":35.74},{"$f":"[1]升级!$D159/[2]HeroModelConfig!$O$5","v":35.74},1,{"$f":"[1]升级!$J159/[2]HeroModelConfig!$P$5","v":0},{"$f":"[1]升级!$E159","v":3574.4275859526247},{"$f":"[1]升级!$H159","v":1000},25,-1,1590]
[159,159,6,16,9,"230;235;246","合体期","前",9,230,235,246,40000,-1,-1,-1,-1,-1,-1,0,{"$f":"[1]升级!$B160/[2]HeroModelConfig!$M$5","v":36.340000000000003},{"$f":"[1]升级!$C160/[2]HeroModelConfig!$N$5","v":36.340000000000003},{"$f":"[1]升级!$D160/[2]HeroModelConfig!$O$5","v":36.340000000000003},1,{"$f":"[1]升级!$J160/[2]HeroModelConfig!$P$5","v":0},{"$f":"[1]升级!$E160","v":3633.2954415183676},{"$f":"[1]升级!$H160","v":1000},25,-1,1600]
[160,160,6,16,10,"230;235;247","合体期","前",10,230,235,247,40250,100001,20,1301,1,1301,1,0,{"$f":"[1]升级!$B161/[2]HeroModelConfig!$M$5","v":38.72},{"$f":"[1]升级!$C161/[2]HeroModelConfig!$N$5","v":38.72},{"$f":"[1]升级!$D161/[2]HeroModelConfig!$O$5","v":38.72},1,{"$f":"[1]升级!$J161/[2]HeroModelConfig!$P$5","v":2.323},{"$f":"[1]升级!$E161","v":3872.6448826647315},{"$f":"[1]升级!$H161","v":1000},25,20,1610]
[161,161,6,17,1,"230;236;238","合体期","中",1,230,236,238,42120,-1,-1,-1,-1,{"$f":"IF(I165=10,\"1001;1002;1004\",-1)","v":-1},-1,0,{"$f":"[1]升级!$B162/[2]HeroModelConfig!$M$5","v":39.36},{"$f":"[1]升级!$C162/[2]HeroModelConfig!$N$5","v":39.36},{"$f":"[1]升级!$D162/[2]HeroModelConfig!$O$5","v":39.36},1,{"$f":"[1]升级!$J162/[2]HeroModelConfig!$P$5","v":2.323},{"$f":"[1]升级!$E162","v":3936.424129586967},{"$f":"[1]升级!$H162","v":1000},26,-1,1620]
[162,162,6,17,2,"230;236;239","合体期","中",2,230,236,239,42380,-1,-1,-1,-1,-1,-1,0,{"$f":"[1]升级!$B163/[2]HeroModelConfig!$M$5","v":40.020000000000003},{"$f":"[1]升级!$C163/[2]HeroModelConfig!$N$5","v":40.020000000000003},{"$f":"[1]升级!$D163/[2]HeroModelConfig!$O$5","v":40.020000000000003},1,{"$f":"[1]升级!$J163/[2]HeroModelConfig!$P$5","v":2.323},{"$f":"[1]升级!$E163","v":4001.2537677692362},{"$f":"[1]升级!$H163","v":1000},26,-1,1630]
[163,163,6,17,3,"230;236;240","合体期","中",3,230,236,240,42640,-1,-1,-1,-1,-1,-1,0,{"$f":"[1]升级!$B164/[2]HeroModelConfig!$M$5","v":40.68},{"$f":"[1]升级!$C164/[2]HeroModelConfig!$N$5","v":40.68},{"$f":"[1]升级!$D164/[2]HeroModelConfig!$O$5","v":40.68},1,{"$f":"[1]升级!$J164/[2]HeroModelConfig!$P$5","v":2.323},{"$f":"[1]升级!$E164","v":4067.1510962837679},{"$f":"[1]升级!$H164","v":1000},26,-1,1640]
[164,164,6,17,4,"230;236;241","合体期","中",4,230,236,241,42900,-1,-1,-1,-1,-1,-1,0,{"$f":"[1]升级!$B165/[2]HeroModelConfig!$M$5","v":41.34},{"$f":"[1]升级!$C165/[2]HeroModelConfig!$N$5","v":41.34},{"$f":"[1]升级!$D165/[2]HeroModelConfig!$O$5","v":41.34},1,{"$f":"[1]升级!$J165/[2]HeroModelConfig!$P$5","v":2.323},{"$f":"[1]升级!$E165","v":4134.1336991041517},{"$f":"[1]升级!$H165","v":1000},26,-1,1650]
[165,165,6,17,5,"230;236;242","合体期","中",5,230,236,242,43160,-1,-1,-1,-1,-1,-1,0,{"$f":"[1]升级!$B166/[2]HeroModelConfig!$M$5","v":42.02},{"$f":"[1]升级!$C166/[2]HeroModelConfig!$N$5","v":42.02},{"$f":"[1]升级!$D166/[2]HeroModelConfig!$O$5","v":42.02},1,{"$f":"[1]升级!$J166/[2]HeroModelConfig!$P$5","v":2.323},{"$f":"[1]升级!$E166","v":4202.219449797426},{"$f":"[1]升级!$H166","v":1000},26,-1,1660]
[166,166,6,17,6,"230;236;243","合体期","中",6,230,236,243,43420,-1,-1,-1,-1,-1,-1,0,{"$f":"[1]升级!$B167/[2]HeroModelConfig!$M$5","v":42.72},{"$f":"[1]升级!$C167/[2]HeroModelConfig!$N$5","v":42.72},{"$f":"[1]升级!$D167/[2]HeroModelConfig!$O$5","v":42.72},1,{"$f":"[1]升级!$J167/[2]HeroModelConfig!$P$5","v":2.323},{"$f":"[1]升级!$E167","v":4271.4265162934462},{"$f":"[1]升级!$H167","v":1000},26,-1,1670]
[167,167,6,17,7,"230;236;244","合体期","中",7,230,236,244,43680,-1,-1,-1,-1,-1,-1,0,{"$f":"[1]升级!$B168/[2]HeroModelConfig!$M$5","v":43.42},{"$f":"[1]升级!$C168/[2]HeroModelConfig!$N$5","v":43.42},{"$f":"[1]升级!$D168/[2]HeroModelConfig!$O$5","v":43.42},1,{"$f":"[1]升级!$J168/[2]HeroModelConfig!$P$5","v":2.323},{"$f":"[1]升级!$E168","v":4341.7733657327908},{"$f":"[1]升级!$H168","v":1000},26,-1,1680]
[168,168,6,17,8,"230;236;245","合体期","中",8,230,236,245,43940,-1,-1,-1,-1,-1,-1,0,{"$f":"[1]升级!$B169/[2]HeroModelConfig!$M$5","v":44.14},{"$f":"[1]升级!$C169/[2]HeroModelConfig!$N$5","v":44.14},{"$f":"[1]升级!$D169/[2]HeroModelConfig!$O$5","v":44.14},1,{"$f":"[1]升级!$J169/[2]HeroModelConfig!$P$5","v":2.323},{"$f":"[1]升级!$E169","v":4413.2787693945156},{"$f":"[1]升级!$H169","v":1000},26,-1,1690]
[169,169,6,17,9,"230;236;246","合体期","中",9,230,236,246,44200,-1,-1,-1,-1,-1,-1,0,{"$f":"[1]升级!$B170/[2]HeroModelConfig!$M$5","v":44.86},{"$f":"[1]升级!$C170/[2]HeroModelConfig!$N$5","v":44.86},{"$f":"[1]升级!$D170/[2]HeroModelConfig!$O$5","v":44.86},1,{"$f":"[1]升级!$J170/[2]HeroModelConfig!$P$5","v":2.323},{"$f":"[1]升级!$E170","v":4485.9618077050645},{"$f":"[1]升级!$H170","v":1000},26,-1,1700]
[170,170,6,17,10,"230;236;247","合体期","中",10,230,236,247,44460,100001,20,1301,1,"1301;1302","1;1",0,{"$f":"[1]升级!$B171/[2]HeroModelConfig!$M$5","v":47.82},{"$f":"[1]升级!$C171/[2]HeroModelConfig!$N$5","v":47.82},{"$f":"[1]升级!$D171/[2]HeroModelConfig!$O$5","v":47.82},1,{"$f":"[1]升级!$J171/[2]HeroModelConfig!$P$5","v":3.3475000000000001},{"$f":"[1]升级!$E171","v":4781.4820782034722},{"$f":"[1]升级!$H171","v":1000},26,20,1710]
[171,171,6,18,1,"230;237;238","合体期","后",1,230,237,238,46440,-1,-1,-1,-1,{"$f":"IF(I175=10,\"1001;1002;1004\",-1)","v":-1},-1,0,{"$f":"[1]升级!$B172/[2]HeroModelConfig!$M$5","v":48.6},{"$f":"[1]升级!$C172/[2]HeroModelConfig!$N$5","v":48.6},{"$f":"[1]升级!$D172/[2]HeroModelConfig!$O$5","v":48.6},1,{"$f":"[1]升级!$J172/[2]HeroModelConfig!$P$5","v":3.3475000000000001},{"$f":"[1]升级!$E172","v":4860.2291194013578},{"$f":"[1]升级!$H172","v":1000},27,-1,1720]
[172,172,6,18,2,"230;237;239","合体期","后",2,230,237,239,46710,-1,-1,-1,-1,-1,-1,0,{"$f":"[1]升级!$B173/[2]HeroModelConfig!$M$5","v":49.4},{"$f":"[1]升级!$C173/[2]HeroModelConfig!$N$5","v":49.4},{"$f":"[1]升级!$D173/[2]HeroModelConfig!$O$5","v":49.4},1,{"$f":"[1]升级!$J173/[2]HeroModelConfig!$P$5","v":3.3475000000000001},{"$f":"[1]升级!$E173","v":4940.273059007729},{"$f":"[1]升级!$H173","v":1000},27,-1,1730]
[173,173,6,18,3,"230;237;240","合体期","后",3,230,237,240,46980,-1,-1,-1,-1,-1,-1,0,{"$f":"[1]升级!$B174/[2]HeroModelConfig!$M$5","v":50.22},{"$f":"[1]升级!$C174/[2]HeroModelConfig!$N$5","v":50.22},{"$f":"[1]升级!$D174/[2]HeroModelConfig!$O$5","v":50.22},1,{"$f":"[1]升级!$J174/[2]HeroModelConfig!$P$5","v":3.3475000000000001},{"$f":"[1]升级!$E174","v":5021.6352558629469},{"$f":"[1]升级!$H174","v":1000},27,-1,1740]
[174,174,6,18,4,"230;237;241","合体期","后",4,230,237,241,47250,-1,-1,-1,-1,-1,-1,0,{"$f":"[1]升级!$B175/[2]HeroModelConfig!$M$5","v":51.04},{"$f":"[1]升级!$C175/[2]HeroModelConfig!$N$5","v":51.04},{"$f":"[1]升级!$D175/[2]HeroModelConfig!$O$5","v":51.04},1,{"$f":"[1]升级!$J175/[2]HeroModelConfig!$P$5","v":3.3475000000000001},{"$f":"[1]升级!$E175","v":5104.3374205697473},{"$f":"[1]升级!$H175","v":1000},27,-1,1750]
[175,175,6,18,5,"230;237;242","合体期","后",5,230,237,242,47520,-1,-1,-1,-1,-1,-1,0,{"$f":"[1]升级!$B176/[2]HeroModelConfig!$M$5","v":51.88},{"$f":"[1]升级!$C176/[2]HeroModelConfig!$N$5","v":51.88},{"$f":"[1]升级!$D176/[2]HeroModelConfig!$O$5","v":51.88},1,{"$f":"[1]升级!$J176/[2]HeroModelConfig!$P$5","v":3.3475000000000001},{"$f":"[1]升级!$E176","v":5188.4016212864717},{"$f":"[1]升级!$H176","v":1000},27,-1,1760]
[176,176,6,18,6,"230;237;243","合体期","后",6,230,237,243,47790,-1,-1,-1,-1,-1,-1,0,{"$f":"[1]升级!$B177/[2]HeroModelConfig!$M$5","v":52.74},{"$f":"[1]升级!$C177/[2]HeroModelConfig!$N$5","v":52.74},{"$f":"[1]升级!$D177/[2]HeroModelConfig!$O$5","v":52.74},1,{"$f":"[1]升级!$J177/[2]HeroModelConfig!$P$5","v":3.3475000000000001},{"$f":"[1]升级!$E177","v":5273.8502896157142},{"$f":"[1]升级!$H177","v":1000},27,-1,1770]
[177,177,6,18,7,"230;237;244","合体期","后",7,230,237,244,48060,-1,-1,-1,-1,-1,-1,0,{"$f":"[1]升级!$B178/[2]HeroModelConfig!$M$5","v":53.6},{"$f":"[1]升级!$C178/[2]HeroModelConfig!$N$5","v":53.6},{"$f":"[1]升级!$D178/[2]HeroModelConfig!$O$5","v":53.6},1,{"$f":"[1]升级!$J178/[2]HeroModelConfig!$P$5","v":3.3475000000000001},{"$f":"[1]升级!$E178","v":5360.706226589944},{"$f":"[1]升级!$H178","v":1000},27,-1,1780]
[178,178,6,18,8,"230;237;245","合体期","后",8,230,237,245,48330,-1,-1,-1,-1,-1,-1,0,{"$f":"[1]升级!$B179/[2]HeroModelConfig!$M$5","v":54.48},{"$f":"[1]升级!$C179/[2]HeroModelConfig!$N$5","v":54.48},{"$f":"[1]升级!$D179/[2]HeroModelConfig!$O$5","v":54.48},1,{"$f":"[1]升级!$J179/[2]HeroModelConfig!$P$5","v":3.3475000000000001},{"$f":"[1]升级!$E179","v":5448.9926087557114},{"$f":"[1]升级!$H179","v":1000},27,-1,1790]
[179,179,6,18,9,"230;237;246","合体期","后",9,230,237,246,48600,-1,-1,-1,-1,-1,-1,0,{"$f":"[1]升级!$B180/[2]HeroModelConfig!$M$5","v":55.38},{"$f":"[1]升级!$C180/[2]HeroModelConfig!$N$5","v":55.38},{"$f":"[1]升级!$D180/[2]HeroModelConfig!$O$5","v":55.38},1,{"$f":"[1]升级!$J180/[2]HeroModelConfig!$P$5","v":3.3475000000000001},{"$f":"[1]升级!$E180","v":5538.7329943580526},{"$f":"[1]升级!$H180","v":1000},27,-1,1800]
[180,180,6,18,10,"230;237;247","合体期","后",10,230,237,247,48870,100001,20,1301,1,"1301;1302;1303","1;1;1","18000;27000",{"$f":"[1]升级!$B181/[2]HeroModelConfig!$M$5","v":62.68},{"$f":"[1]升级!$C181/[2]HeroModelConfig!$N$5","v":62.68},{"$f":"[1]升级!$D181/[2]HeroModelConfig!$O$5","v":62.68},1,{"$f":"[1]升级!$J181/[2]HeroModelConfig!$P$5","v":6.2679999999999998},{"$f":"[1]升级!$E181","v":6268.4796765075871},{"$f":"[1]升级!$H181","v":1000},27,50,1810]
[181,181,7,19,1,"231;235;238","大乘期","前",1,231,235,238,50960,-1,-1,-1,-1,{"$f":"IF(I185=10,\"1001;1002;1004\",-1)","v":-1},{"$f":"IF(R185=-1,-1,\"100;200;300\")","v":-1},{"$f":"IF(G185=G186,0,CONCATENATE(B185*100,\";\",B185*150))","v":0},{"$f":"[1]升级!$B182/[2]HeroModelConfig!$M$5","v":63.72},{"$f":"[1]升级!$C182/[2]HeroModelConfig!$N$5","v":63.72},{"$f":"[1]升级!$D182/[2]HeroModelConfig!$O$5","v":63.72},1,{"$f":"[1]升级!$J182/[2]HeroModelConfig!$P$5","v":6.2679999999999998},{"$f":"[1]升级!$E182","v":6371.7163339415347},{"$f":"[1]升级!$H182","v":1000},28,-1,1820]
[182,182,7,19,2,"231;235;239","大乘期","前",2,231,235,239,51240,-1,-1,-1,-1,{"$f":"IF(I186=10,\"1001;1002;1004\",-1)","v":-1},{"$f":"IF(R186=-1,-1,\"100;200;300\")","v":-1},{"$f":"IF(G186=G187,0,CONCATENATE(B186*100,\";\",B186*150))","v":0},{"$f":"[1]升级!$B183/[2]HeroModelConfig!$M$5","v":64.760000000000005},{"$f":"[1]升级!$C183/[2]HeroModelConfig!$N$5","v":64.760000000000005},{"$f":"[1]升级!$D183/[2]HeroModelConfig!$O$5","v":64.760000000000005},1,{"$f":"[1]升级!$J183/[2]HeroModelConfig!$P$5","v":6.2679999999999998},{"$f":"[1]升级!$E183","v":6476.6532134369945},{"$f":"[1]升级!$H183","v":1000},28,-1,1830]
[183,183,7,19,3,"231;235;240","大乘期","前",3,231,235,240,51520,-1,-1,-1,-1,-1,-1,0,{"$f":"[1]升级!$B184/[2]HeroModelConfig!$M$5","v":65.84},{"$f":"[1]升级!$C184/[2]HeroModelConfig!$N$5","v":65.84},{"$f":"[1]升级!$D184/[2]HeroModelConfig!$O$5","v":65.84},1,{"$f":"[1]升级!$J184/[2]HeroModelConfig!$P$5","v":6.2679999999999998},{"$f":"[1]升级!$E184","v":6583.3183162401338},{"$f":"[1]升级!$H184","v":1000},28,-1,1840]
[184,184,7,19,4,"231;235;241","大乘期","前",4,231,235,241,51800,-1,-1,-1,-1,-1,-1,0,{"$f":"[1]升级!$B185/[2]HeroModelConfig!$M$5","v":66.92},{"$f":"[1]升级!$C185/[2]HeroModelConfig!$N$5","v":66.92},{"$f":"[1]升级!$D185/[2]HeroModelConfig!$O$5","v":66.92},1,{"$f":"[1]升级!$J185/[2]HeroModelConfig!$P$5","v":6.2679999999999998},{"$f":"[1]升级!$E185","v":6691.7401047544054},{"$f":"[1]升级!$H185","v":1000},28,-1,1850]
[185,185,7,19,5,"231;235;242","大乘期","前",5,231,235,242,52080,-1,-1,-1,-1,-1,-1,0,{"$f":"[1]升级!$B186/[2]HeroModelConfig!$M$5","v":68.02},{"$f":"[1]升级!$C186/[2]HeroModelConfig!$N$5","v":68.02},{"$f":"[1]升级!$D186/[2]HeroModelConfig!$O$5","v":68.02},1,{"$f":"[1]升级!$J186/[2]HeroModelConfig!$P$5","v":6.2679999999999998},{"$f":"[1]升级!$E186","v":6801.9475101354228},{"$f":"[1]升级!$H186","v":1000},28,-1,1860]
[186,186,7,19,6,"231;235;243","大乘期","前",6,231,235,243,52360,-1,-1,-1,-1,-1,-1,0,{"$f":"[1]升级!$B187/[2]HeroModelConfig!$M$5","v":69.14},{"$f":"[1]升级!$C187/[2]HeroModelConfig!$N$5","v":69.14},{"$f":"[1]升级!$D187/[2]HeroModelConfig!$O$5","v":69.14},1,{"$f":"[1]升级!$J187/[2]HeroModelConfig!$P$5","v":6.2679999999999998},{"$f":"[1]升级!$E187","v":6913.9699400109193},{"$f":"[1]升级!$H187","v":1000},28,-1,1870]
[187,187,7,19,7,"231;235;244","大乘期","前",7,231,235,244,52750,-1,-1,-1,-1,-1,-1,0,{"$f":"[1]升级!$B188/[2]HeroModelConfig!$M$5","v":70.28},{"$f":"[1]升级!$C188/[2]HeroModelConfig!$N$5","v":70.28},{"$f":"[1]升级!$D188/[2]HeroModelConfig!$O$5","v":70.28},1,{"$f":"[1]升级!$J188/[2]HeroModelConfig!$P$5","v":6.2679999999999998},{"$f":"[1]升级!$E188","v":7027.8372863278482},{"$f":"[1]升级!$H188","v":1000},28,-1,1884]
[188,188,7,19,8,"231;235;245","大乘期","前",8,231,235,245,53980,-1,-1,-1,-1,-1,-1,0,{"$f":"[1]升级!$B189/[2]HeroModelConfig!$M$5","v":71.44},{"$f":"[1]升级!$C189/[2]HeroModelConfig!$N$5","v":71.44},{"$f":"[1]升级!$D189/[2]HeroModelConfig!$O$5","v":71.44},1,{"$f":"[1]升级!$J189/[2]HeroModelConfig!$P$5","v":6.2679999999999998},{"$f":"[1]升级!$E189","v":7143.5799333287196},{"$f":"[1]升级!$H189","v":1000},28,-1,1928]
[189,189,7,19,9,"231;235;246","大乘期","前",9,231,235,246,55210,-1,-1,-1,-1,-1,-1,0,{"$f":"[1]升级!$B190/[2]HeroModelConfig!$M$5","v":72.62},{"$f":"[1]升级!$C190/[2]HeroModelConfig!$N$5","v":72.62},{"$f":"[1]升级!$D190/[2]HeroModelConfig!$O$5","v":72.62},1,{"$f":"[1]升级!$J190/[2]HeroModelConfig!$P$5","v":6.2679999999999998},{"$f":"[1]升级!$E190","v":7261.228765659298},{"$f":"[1]升级!$H190","v":1000},28,-1,1972]
[190,190,7,19,10,"231;235;247","大乘期","前",10,231,235,247,56500,100001,20,1301,1,1301,1,0,{"$f":"[1]升级!$B191/[2]HeroModelConfig!$M$5","v":77.400000000000006},{"$f":"[1]升级!$C191/[2]HeroModelConfig!$N$5","v":77.400000000000006},{"$f":"[1]升级!$D191/[2]HeroModelConfig!$O$5","v":77.400000000000006},1,{"$f":"[1]升级!$J191/[2]HeroModelConfig!$P$5","v":8.5139999999999993},{"$f":"[1]升级!$E191","v":7739.5744094614302},{"$f":"[1]升级!$H191","v":1000},28,20,2018]
[191,191,7,20,1,"231;236;238","大乘期","中",1,231,236,238,59880,-1,-1,-1,-1,{"$f":"IF(I195=10,\"1001;1002;1004\",-1)","v":-1},-1,0,{"$f":"[1]升级!$B192/[2]HeroModelConfig!$M$5","v":78.680000000000007},{"$f":"[1]升级!$C192/[2]HeroModelConfig!$N$5","v":78.680000000000007},{"$f":"[1]升级!$D192/[2]HeroModelConfig!$O$5","v":78.680000000000007},1,{"$f":"[1]升级!$J192/[2]HeroModelConfig!$P$5","v":8.5139999999999993},{"$f":"[1]升级!$E192","v":7867.0387761384991},{"$f":"[1]升级!$H192","v":1000},29,-1,2065]
[192,192,7,20,2,"231;236;239","大乘期","中",2,231,236,239,61270,-1,-1,-1,-1,-1,-1,0,{"$f":"[1]升级!$B193/[2]HeroModelConfig!$M$5","v":79.959999999999994},{"$f":"[1]升级!$C193/[2]HeroModelConfig!$N$5","v":79.959999999999994},{"$f":"[1]升级!$D193/[2]HeroModelConfig!$O$5","v":79.959999999999994},1,{"$f":"[1]升级!$J193/[2]HeroModelConfig!$P$5","v":8.5139999999999993},{"$f":"[1]升级!$E193","v":7996.602375139315},{"$f":"[1]升级!$H193","v":1000},29,-1,2113]
[193,193,7,20,3,"231;236;240","大乘期","中",3,231,236,240,62720,-1,-1,-1,-1,-1,-1,0,{"$f":"[1]升级!$B194/[2]HeroModelConfig!$M$5","v":81.28},{"$f":"[1]升级!$C194/[2]HeroModelConfig!$N$5","v":81.28},{"$f":"[1]升级!$D194/[2]HeroModelConfig!$O$5","v":81.28},1,{"$f":"[1]升级!$J194/[2]HeroModelConfig!$P$5","v":8.5139999999999993},{"$f":"[1]升级!$E194","v":8128.2997790778873},{"$f":"[1]升级!$H194","v":1000},29,-1,2163]
[194,194,7,20,{"$f":"I198","v":4},{"$f":"_xlfn.TEXTJOIN(\";\",1,J198:L198)","v":"231;236;241"},"大乘期","中",4,231,236,241,{"$f":"INT(0.1*AB198*AD198)*10","v":64170},{"$f":"IF(I198=10,100001,-1)","v":-1},{"$f":"IF(N198=-1,-1,20)","v":-1},-1,-1,-1,-1,0,{"$f":"[1]升级!$B195/[2]HeroModelConfig!$M$5","v":82.62},{"$f":"[1]升级!$C195/[2]HeroModelConfig!$N$5","v":82.62},{"$f":"[1]升级!$D195/[2]HeroModelConfig!$O$5","v":82.62},1,{"$f":"[1]升级!$J195/[2]HeroModelConfig!$P$5","v":8.5139999999999993},{"$f":"[1]升级!$E195","v":8262.1661299504831},{"$f":"[1]升级!$H195","v":1000},29,-1,2213]
[195,195,7,20,5,"231;236;242","大乘期","中",5,231,236,242,65680,-1,-1,-1,-1,-1,-1,0,{"$f":"[1]升级!$B196/[2]HeroModelConfig!$M$5","v":83.98},{"$f":"[1]升级!$C196/[2]HeroModelConfig!$N$5","v":83.98},{"$f":"[1]升级!$D196/[2]HeroModelConfig!$O$5","v":83.98},1,{"$f":"[1]升级!$J196/[2]HeroModelConfig!$P$5","v":8.5139999999999993},{"$f":"[1]升级!$E196","v":8398.2371485128788},{"$f":"[1]升级!$H196","v":1000},29,-1,{"$f":"MAX(AD198+10,ROUND(10^(B199*0.01+1.405),0))","v":2265}]
[196,196,7,20,6,"231;236;243","大乘期","中",6,231,236,243,67190,-1,-1,-1,-1,-1,-1,0,{"$f":"[1]升级!$B197/[2]HeroModelConfig!$M$5","v":85.36},{"$f":"[1]升级!$C197/[2]HeroModelConfig!$N$5","v":85.36},{"$f":"[1]升级!$D197/[2]HeroModelConfig!$O$5","v":85.36},1,{"$f":"[1]升级!$J197/[2]HeroModelConfig!$P$5","v":8.5139999999999993},{"$f":"[1]升级!$E197","v":8536.5491438120516},{"$f":"[1]升级!$H197","v":1000},29,-1,2317]
[197,197,7,20,7,"231;236;244","大乘期","中",7,231,236,244,68750,-1,-1,-1,-1,-1,-1,0,{"$f":"[1]升级!$B198/[2]HeroModelConfig!$M$5","v":86.78},{"$f":"[1]升级!$C198/[2]HeroModelConfig!$N$5","v":86.78},{"$f":"[1]升级!$D198/[2]HeroModelConfig!$O$5","v":86.78},1,{"$f":"[1]升级!$J198/[2]HeroModelConfig!$P$5","v":8.5139999999999993},{"$f":"[1]升级!$E198","v":8677.139022874846},{"$f":"[1]升级!$H198","v":1000},29,-1,2371]
[198,198,7,20,8,"231;236;245","大乘期","中",8,231,236,245,70380,-1,-1,-1,-1,-1,-1,0,{"$f":"[1]升级!$B199/[2]HeroModelConfig!$M$5","v":88.2},{"$f":"[1]升级!$C199/[2]HeroModelConfig!$N$5","v":88.2},{"$f":"[1]升级!$D199/[2]HeroModelConfig!$O$5","v":88.2},1,{"$f":"[1]升级!$J199/[2]HeroModelConfig!$P$5","v":8.5139999999999993},{"$f":"[1]升级!$E199","v":8820.0443005562047},{"$f":"[1]升级!$H199","v":1000},29,-1,2427]
[199,199,7,20,9,"231;236;246","大乘期","中",9,231,236,246,72000,-1,-1,-1,-1,-1,-1,0,{"$f":"[1]升级!$B200/[2]HeroModelConfig!$M$5","v":89.66},{"$f":"[1]升级!$C200/[2]HeroModelConfig!$N$5","v":89.66},{"$f":"[1]升级!$D200/[2]HeroModelConfig!$O$5","v":89.66},1,{"$f":"[1]升级!$J200/[2]HeroModelConfig!$P$5","v":8.5139999999999993},{"$f":"[1]升级!$E200","v":8965.3031095495953},{"$f":"[1]升级!$H200","v":1000},29,-1,2483]
[200,200,7,20,10,"231;236;247","大乘期","中",10,231,236,247,73680,100001,20,1301,1,"1301;1302","1;1",0,{"$f":"[1]升级!$B201/[2]HeroModelConfig!$M$5","v":95.56},{"$f":"[1]升级!$C201/[2]HeroModelConfig!$N$5","v":95.56},{"$f":"[1]升级!$D201/[2]HeroModelConfig!$O$5","v":95.56},1,{"$f":"[1]升级!$J201/[2]HeroModelConfig!$P$5","v":11.467000000000001},{"$f":"[1]升级!$E201","v":9555.9075136003976},{"$f":"[1]升级!$H201","v":1000},29,20,2541]
[201,201,7,21,1,"231;237;238","大乘期","后",1,231,237,238,78000,-1,-1,-1,-1,{"$f":"IF(I205=10,\"1001;1002;1004\",-1)","v":-1},-1,0,{"$f":"[1]升级!$B202/[2]HeroModelConfig!$M$5","v":97.14},{"$f":"[1]升级!$C202/[2]HeroModelConfig!$N$5","v":97.14},{"$f":"[1]升级!$D202/[2]HeroModelConfig!$O$5","v":97.14},1,{"$f":"[1]升级!$J202/[2]HeroModelConfig!$P$5","v":11.467000000000001},{"$f":"[1]升级!$E202","v":9713.2853789461587},{"$f":"[1]升级!$H202","v":1000},30,-1,2600]
[202,202,7,21,2,"231;237;239","大乘期","后",2,231,237,239,79830,-1,-1,-1,-1,-1,-1,0,{"$f":"[1]升级!$B203/[2]HeroModelConfig!$M$5","v":98.74},{"$f":"[1]升级!$C203/[2]HeroModelConfig!$N$5","v":98.74},{"$f":"[1]升级!$D203/[2]HeroModelConfig!$O$5","v":98.74},1,{"$f":"[1]升级!$J203/[2]HeroModelConfig!$P$5","v":11.467000000000001},{"$f":"[1]升级!$E203","v":9873.2551271105367},{"$f":"[1]升级!$H203","v":1000},30,-1,2661]
[203,203,7,21,3,"231;237;240","大乘期","后",3,231,237,240,81690,-1,-1,-1,-1,-1,-1,0,{"$f":"[1]升级!$B204/[2]HeroModelConfig!$M$5","v":100.36},{"$f":"[1]升级!$C204/[2]HeroModelConfig!$N$5","v":100.36},{"$f":"[1]升级!$D204/[2]HeroModelConfig!$O$5","v":100.36},1,{"$f":"[1]升级!$J204/[2]HeroModelConfig!$P$5","v":11.467000000000001},{"$f":"[1]升级!$E204","v":10035.859444252292},{"$f":"[1]升级!$H204","v":1000},30,-1,2723]
[204,204,7,21,4,"231;237;241","大乘期","后",4,231,237,241,83580,-1,-1,-1,-1,-1,-1,0,{"$f":"[1]升级!$B205/[2]HeroModelConfig!$M$5","v":102.02},{"$f":"[1]升级!$C205/[2]HeroModelConfig!$N$5","v":102.02},{"$f":"[1]升级!$D205/[2]HeroModelConfig!$O$5","v":102.02},1,{"$f":"[1]升级!$J205/[2]HeroModelConfig!$P$5","v":11.467000000000001},{"$f":"[1]升级!$E205","v":10201.141719535788},{"$f":"[1]升级!$H205","v":1000},30,-1,2786]
[205,205,7,21,5,"231;237;242","大乘期","后",5,231,237,242,85530,-1,-1,-1,-1,-1,-1,0,{"$f":"[1]升级!$B206/[2]HeroModelConfig!$M$5","v":103.7},{"$f":"[1]升级!$C206/[2]HeroModelConfig!$N$5","v":103.7},{"$f":"[1]升级!$D206/[2]HeroModelConfig!$O$5","v":103.7},1,{"$f":"[1]升级!$J206/[2]HeroModelConfig!$P$5","v":11.467000000000001},{"$f":"[1]升级!$E206","v":10369.146056708914},{"$f":"[1]升级!$H206","v":1000},30,-1,2851]
[206,206,7,21,6,"231;237;243","大乘期","后",6,231,237,243,87510,-1,-1,-1,-1,-1,-1,0,{"$f":"[1]升级!$B207/[2]HeroModelConfig!$M$5","v":105.4},{"$f":"[1]升级!$C207/[2]HeroModelConfig!$N$5","v":105.4},{"$f":"[1]升级!$D207/[2]HeroModelConfig!$O$5","v":105.4},1,{"$f":"[1]升级!$J207/[2]HeroModelConfig!$P$5","v":11.467000000000001},{"$f":"[1]升级!$E207","v":10539.917285871683},{"$f":"[1]升级!$H207","v":1000},30,-1,2917]
[207,207,7,21,7,"231;237;244","大乘期","后",7,231,237,244,89550,-1,-1,-1,-1,-1,-1,0,{"$f":"[1]升级!$B208/[2]HeroModelConfig!$M$5","v":107.14},{"$f":"[1]升级!$C208/[2]HeroModelConfig!$N$5","v":107.14},{"$f":"[1]升级!$D208/[2]HeroModelConfig!$O$5","v":107.14},1,{"$f":"[1]升级!$J208/[2]HeroModelConfig!$P$5","v":11.467000000000001},{"$f":"[1]升级!$E208","v":10713.500975438641},{"$f":"[1]升级!$H208","v":1000},30,-1,2985]
[208,208,7,21,8,"231;237;245","大乘期","后",8,231,237,245,91650,-1,-1,-1,-1,-1,-1,0,{"$f":"[1]升级!$B209/[2]HeroModelConfig!$M$5","v":108.9},{"$f":"[1]升级!$C209/[2]HeroModelConfig!$N$5","v":108.9},{"$f":"[1]升级!$D209/[2]HeroModelConfig!$O$5","v":108.9},1,{"$f":"[1]升级!$J209/[2]HeroModelConfig!$P$5","v":11.467000000000001},{"$f":"[1]升级!$E209","v":10889.943444298306},{"$f":"[1]升级!$H209","v":1000},30,-1,3055]
[209,209,7,21,9,"231;237;246","大乘期","后",9,231,237,246,93780,-1,-1,-1,-1,-1,-1,0,{"$f":"[1]升级!$B210/[2]HeroModelConfig!$M$5","v":110.7},{"$f":"[1]升级!$C210/[2]HeroModelConfig!$N$5","v":110.7},{"$f":"[1]升级!$D210/[2]HeroModelConfig!$O$5","v":110.7},1,{"$f":"[1]升级!$J210/[2]HeroModelConfig!$P$5","v":11.467000000000001},{"$f":"[1]升级!$E210","v":11069.29177417284},{"$f":"[1]升级!$H210","v":1000},30,-1,3126]
[210,210,7,21,10,"231;237;247","大乘期","后",10,231,237,247,95970,100001,20,1301,1,"1301;1302;1303","1;1;1","21000;31500",{"$f":"[1]升级!$B211/[2]HeroModelConfig!$M$5","v":125.28},{"$f":"[1]升级!$C211/[2]HeroModelConfig!$N$5","v":125.28},{"$f":"[1]升级!$D211/[2]HeroModelConfig!$O$5","v":125.28},1,{"$f":"[1]升级!$J211/[2]HeroModelConfig!$P$5","v":18.792000000000002},{"$f":"[1]升级!$E211","v":12527.708158240473},{"$f":"[1]升级!$H211","v":1000},30,50,3199]
[null,211,7,19,1,"232;235;238","飞升期","前",1,232,235,238,91640,-1,-1,-1,-1,{"$f":"IF(I215=10,\"1001;1002;1004\",-1)","v":-1},{"$f":"IF(R215=-1,-1,\"100;200;300\")","v":-1},{"$f":"IF(G215=G216,0,CONCATENATE(B215*100,\";\",B215*150))","v":0},{"$f":"[1]升级!$B212/[2]HeroModelConfig!$M$5","v":127.34},{"$f":"[1]升级!$C212/[2]HeroModelConfig!$N$5","v":127.34},{"$f":"[1]升级!$D212/[2]HeroModelConfig!$O$5","v":127.34},1,{"$f":"[1]升级!$J212/[2]HeroModelConfig!$P$5","v":18.792000000000002},{"$f":"[1]升级!$E212","v":12734.029113608922},{"$f":"[1]升级!$H212","v":1000},28,-1,3273]
[null,212,7,19,2,"232;235;239","飞升期","前",2,232,235,239,93800,-1,-1,-1,-1,{"$f":"IF(I216=10,\"1001;1002;1004\",-1)","v":-1},{"$f":"IF(R216=-1,-1,\"100;200;300\")","v":-1},{"$f":"IF(G216=G217,0,CONCATENATE(B216*100,\";\",B216*150))","v":0},{"$f":"[1]升级!$B213/[2]HeroModelConfig!$M$5","v":129.44},{"$f":"[1]升级!$C213/[2]HeroModelConfig!$N$5","v":129.44},{"$f":"[1]升级!$D213/[2]HeroModelConfig!$O$5","v":129.44},1,{"$f":"[1]升级!$J213/[2]HeroModelConfig!$P$5","v":18.792000000000002},{"$f":"[1]升级!$E213","v":12943.748003865896},{"$f":"[1]升级!$H213","v":1000},28,-1,3350]
[null,213,7,19,3,"232;235;240","飞升期","前",3,232,235,240,95980,-1,-1,-1,-1,-1,-1,0,{"$f":"[1]升级!$B214/[2]HeroModelConfig!$M$5","v":131.56},{"$f":"[1]升级!$C214/[2]HeroModelConfig!$N$5","v":131.56},{"$f":"[1]升级!$D214/[2]HeroModelConfig!$O$5","v":131.56},1,{"$f":"[1]升级!$J214/[2]HeroModelConfig!$P$5","v":18.792000000000002},{"$f":"[1]升级!$E214","v":13156.920790178723},{"$f":"[1]升级!$H214","v":1000},28,-1,3428]
[null,214,7,19,4,"232;235;241","飞升期","前",4,232,235,241,98220,-1,-1,-1,-1,-1,-1,0,{"$f":"[1]升级!$B215/[2]HeroModelConfig!$M$5","v":133.74},{"$f":"[1]升级!$C215/[2]HeroModelConfig!$N$5","v":133.74},{"$f":"[1]升级!$D215/[2]HeroModelConfig!$O$5","v":133.74},1,{"$f":"[1]升级!$J215/[2]HeroModelConfig!$P$5","v":18.792000000000002},{"$f":"[1]升级!$E215","v":13373.604355348711},{"$f":"[1]升级!$H215","v":1000},28,-1,3508]
[null,215,7,19,5,"232;235;242","飞升期","前",5,232,235,242,100490,-1,-1,-1,-1,-1,-1,0,{"$f":"[1]升级!$B216/[2]HeroModelConfig!$M$5","v":135.94},{"$f":"[1]升级!$C216/[2]HeroModelConfig!$N$5","v":135.94},{"$f":"[1]升级!$D216/[2]HeroModelConfig!$O$5","v":135.94},1,{"$f":"[1]升级!$J216/[2]HeroModelConfig!$P$5","v":18.792000000000002},{"$f":"[1]升级!$E216","v":13593.856518989687},{"$f":"[1]升级!$H216","v":1000},28,-1,3589]
[null,216,7,19,6,"232;235;243","飞升期","前",6,232,235,243,102840,-1,-1,-1,-1,-1,-1,0,{"$f":"[1]升级!$B217/[2]HeroModelConfig!$M$5","v":138.18},{"$f":"[1]升级!$C217/[2]HeroModelConfig!$N$5","v":138.18},{"$f":"[1]升级!$D217/[2]HeroModelConfig!$O$5","v":138.18},1,{"$f":"[1]升级!$J217/[2]HeroModelConfig!$P$5","v":18.792000000000002},{"$f":"[1]升级!$E217","v":13817.736052956536},{"$f":"[1]升级!$H217","v":1000},28,-1,3673]
[null,217,7,19,7,"232;235;244","飞升期","前",7,232,235,244,105220,-1,-1,-1,-1,-1,-1,0,{"$f":"[1]升级!$B218/[2]HeroModelConfig!$M$5","v":140.46},{"$f":"[1]升级!$C218/[2]HeroModelConfig!$N$5","v":140.46},{"$f":"[1]升级!$D218/[2]HeroModelConfig!$O$5","v":140.46},1,{"$f":"[1]升级!$J218/[2]HeroModelConfig!$P$5","v":18.792000000000002},{"$f":"[1]升级!$E218","v":14045.302697027804},{"$f":"[1]升级!$H218","v":1000},28,-1,3758]
[null,218,7,19,8,"232;235;245","飞升期","前",8,232,235,245,107680,-1,-1,-1,-1,-1,-1,0,{"$f":"[1]升级!$B219/[2]HeroModelConfig!$M$5","v":142.76},{"$f":"[1]升级!$C219/[2]HeroModelConfig!$N$5","v":142.76},{"$f":"[1]升级!$D219/[2]HeroModelConfig!$O$5","v":142.76},1,{"$f":"[1]升级!$J219/[2]HeroModelConfig!$P$5","v":18.792000000000002},{"$f":"[1]升级!$E219","v":14276.617174846613},{"$f":"[1]升级!$H219","v":1000},28,-1,3846]
[null,219,7,19,9,"232;235;246","飞升期","前",9,232,235,246,110200,-1,-1,-1,-1,-1,-1,0,{"$f":"[1]升级!$B220/[2]HeroModelConfig!$M$5","v":145.12},{"$f":"[1]升级!$C220/[2]HeroModelConfig!$N$5","v":145.12},{"$f":"[1]升级!$D220/[2]HeroModelConfig!$O$5","v":145.12},1,{"$f":"[1]升级!$J220/[2]HeroModelConfig!$P$5","v":18.792000000000002},{"$f":"[1]升级!$E220","v":14511.741210124081},{"$f":"[1]升级!$H220","v":1000},28,-1,3936]
[null,220,7,19,10,"232;235;247","飞升期","前",10,232,235,247,112750,100001,20,1301,1,1301,1,0,{"$f":"[1]升级!$B221/[2]HeroModelConfig!$M$5","v":154.68},{"$f":"[1]升级!$C221/[2]HeroModelConfig!$N$5","v":154.68},{"$f":"[1]升级!$D221/[2]HeroModelConfig!$O$5","v":154.68},1,{"$f":"[1]升级!$J221/[2]HeroModelConfig!$P$5","v":24.748999999999999},{"$f":"[1]升级!$E221","v":15467.726542066237},{"$f":"[1]升级!$H221","v":1000},28,20,4027]
[null,221,7,20,1,"232;236;238","飞升期","中",1,232,236,238,119500,-1,-1,-1,-1,{"$f":"IF(I225=10,\"1001;1002;1004\",-1)","v":-1},{"$f":"IF(R225=-1,-1,\"100;200;300\")","v":-1},0,{"$f":"[1]升级!$B222/[2]HeroModelConfig!$M$5","v":157.22},{"$f":"[1]升级!$C222/[2]HeroModelConfig!$N$5","v":157.22},{"$f":"[1]升级!$D222/[2]HeroModelConfig!$O$5","v":157.22},1,{"$f":"[1]升级!$J222/[2]HeroModelConfig!$P$5","v":24.748999999999999},{"$f":"[1]升级!$E222","v":15722.467160001037},{"$f":"[1]升级!$H222","v":1000},29,-1,4121]
[null,222,7,20,2,"232;236;239","飞升期","中",2,232,236,239,122290,-1,-1,-1,-1,-1,-1,0,{"$f":"[1]升级!$B223/[2]HeroModelConfig!$M$5","v":159.82},{"$f":"[1]升级!$C223/[2]HeroModelConfig!$N$5","v":159.82},{"$f":"[1]升级!$D223/[2]HeroModelConfig!$O$5","v":159.82},1,{"$f":"[1]升级!$J223/[2]HeroModelConfig!$P$5","v":24.748999999999999},{"$f":"[1]升级!$E223","v":15981.403144478511},{"$f":"[1]升级!$H223","v":1000},29,-1,4217]
[null,223,7,20,3,"232;236;240","飞升期","中",3,232,236,240,125130,-1,-1,-1,-1,-1,-1,0,{"$f":"[1]升级!$B224/[2]HeroModelConfig!$M$5","v":162.44},{"$f":"[1]升级!$C224/[2]HeroModelConfig!$N$5","v":162.44},{"$f":"[1]升级!$D224/[2]HeroModelConfig!$O$5","v":162.44},1,{"$f":"[1]升级!$J224/[2]HeroModelConfig!$P$5","v":24.748999999999999},{"$f":"[1]升级!$E224","v":16244.60358970346},{"$f":"[1]升级!$H224","v":1000},29,-1,4315]
[null,224,7,20,{"$f":"I228","v":4},"232;236;241","飞升期","中",4,232,236,241,128060,{"$f":"IF(I228=10,100001,-1)","v":-1},{"$f":"IF(N228=-1,-1,20)","v":-1},-1,-1,-1,-1,0,{"$f":"[1]升级!$B225/[2]HeroModelConfig!$M$5","v":165.12},{"$f":"[1]升级!$C225/[2]HeroModelConfig!$N$5","v":165.12},{"$f":"[1]升级!$D225/[2]HeroModelConfig!$O$5","v":165.12},1,{"$f":"[1]升级!$J225/[2]HeroModelConfig!$P$5","v":24.748999999999999},{"$f":"[1]升级!$E225","v":16512.138727804897},{"$f":"[1]升级!$H225","v":1000},29,-1,4416]
[null,225,7,20,5,"232;236;242","飞升期","中",5,232,236,242,131050,-1,-1,-1,-1,-1,-1,0,{"$f":"[1]升级!$B226/[2]HeroModelConfig!$M$5","v":167.84},{"$f":"[1]升级!$C226/[2]HeroModelConfig!$N$5","v":167.84},{"$f":"[1]升级!$D226/[2]HeroModelConfig!$O$5","v":167.84},1,{"$f":"[1]升级!$J226/[2]HeroModelConfig!$P$5","v":24.748999999999999},{"$f":"[1]升级!$E226","v":16784.079947576698},{"$f":"[1]升级!$H226","v":1000},29,-1,4519]
[null,226,7,20,6,"232;236;243","飞升期","中",6,232,236,243,134090,-1,-1,-1,-1,-1,-1,0,{"$f":"[1]升级!$B227/[2]HeroModelConfig!$M$5","v":170.6},{"$f":"[1]升级!$C227/[2]HeroModelConfig!$N$5","v":170.6},{"$f":"[1]升级!$D227/[2]HeroModelConfig!$O$5","v":170.6},1,{"$f":"[1]升级!$J227/[2]HeroModelConfig!$P$5","v":24.748999999999999},{"$f":"[1]升级!$E227","v":17060.499813526927},{"$f":"[1]升级!$H227","v":1000},29,-1,4624]
[null,227,7,20,7,"232;236;244","飞升期","中",7,232,236,244,137220,-1,-1,-1,-1,-1,-1,0,{"$f":"[1]升级!$B228/[2]HeroModelConfig!$M$5","v":173.42},{"$f":"[1]升级!$C228/[2]HeroModelConfig!$N$5","v":173.42},{"$f":"[1]升级!$D228/[2]HeroModelConfig!$O$5","v":173.42},1,{"$f":"[1]升级!$J228/[2]HeroModelConfig!$P$5","v":24.748999999999999},{"$f":"[1]升级!$E228","v":17341.472085240868},{"$f":"[1]升级!$H228","v":1000},29,-1,4732]
[null,228,7,20,8,"232;236;245","飞升期","中",8,232,236,245,140410,-1,-1,-1,-1,-1,-1,0,{"$f":"[1]升级!$B229/[2]HeroModelConfig!$M$5","v":176.28},{"$f":"[1]升级!$C229/[2]HeroModelConfig!$N$5","v":176.28},{"$f":"[1]升级!$D229/[2]HeroModelConfig!$O$5","v":176.28},1,{"$f":"[1]升级!$J229/[2]HeroModelConfig!$P$5","v":24.748999999999999},{"$f":"[1]升级!$E229","v":17627.071737062954},{"$f":"[1]升级!$H229","v":1000},29,-1,4842]
[null,229,7,20,9,"232;236;246","飞升期","中",9,232,236,246,143690,-1,-1,-1,-1,-1,-1,0,{"$f":"[1]升级!$B230/[2]HeroModelConfig!$M$5","v":179.18},{"$f":"[1]升级!$C230/[2]HeroModelConfig!$N$5","v":179.18},{"$f":"[1]升级!$D230/[2]HeroModelConfig!$O$5","v":179.18},1,{"$f":"[1]升级!$J230/[2]HeroModelConfig!$P$5","v":24.748999999999999},{"$f":"[1]升级!$E230","v":17917.374978102838},{"$f":"[1]升级!$H230","v":1000},29,-1,4955]
[null,230,7,20,10,"232;236;247","飞升期","中",10,232,236,247,147030,100001,20,1301,1,"1301;1302","1;1",0,{"$f":"[1]升级!$B231/[2]HeroModelConfig!$M$5","v":190.98},{"$f":"[1]升级!$C231/[2]HeroModelConfig!$N$5","v":190.98},{"$f":"[1]升级!$D231/[2]HeroModelConfig!$O$5","v":190.98},1,{"$f":"[1]升级!$J231/[2]HeroModelConfig!$P$5","v":32.466500000000003},{"$f":"[1]升级!$E231","v":19097.712155975325},{"$f":"[1]升级!$H231","v":1000},29,20,5070]
[null,231,7,21,1,"232;237;238","飞升期","后",1,232,237,238,155640,-1,-1,-1,-1,{"$f":"IF(I235=10,\"1001;1002;1004\",-1)","v":-1},{"$f":"IF(R235=-1,-1,\"100;200;300\")","v":-1},0,{"$f":"[1]升级!$B232/[2]HeroModelConfig!$M$5","v":194.12},{"$f":"[1]升级!$C232/[2]HeroModelConfig!$N$5","v":194.12},{"$f":"[1]升级!$D232/[2]HeroModelConfig!$O$5","v":194.12},1,{"$f":"[1]升级!$J232/[2]HeroModelConfig!$P$5","v":32.466500000000003},{"$f":"[1]升级!$E232","v":19412.235624083147},{"$f":"[1]升级!$H232","v":1000},30,-1,5188]
[null,232,7,21,2,"232;237;239","飞升期","后",2,232,237,239,159270,-1,-1,-1,-1,-1,-1,0,{"$f":"[1]升级!$B233/[2]HeroModelConfig!$M$5","v":197.32},{"$f":"[1]升级!$C233/[2]HeroModelConfig!$N$5","v":197.32},{"$f":"[1]升级!$D233/[2]HeroModelConfig!$O$5","v":197.32},1,{"$f":"[1]升级!$J233/[2]HeroModelConfig!$P$5","v":32.466500000000003},{"$f":"[1]升级!$E233","v":19731.939032656228},{"$f":"[1]升级!$H233","v":1000},30,-1,5309]
[null,233,7,21,3,"232;237;240","飞升期","后",3,232,237,240,162990,-1,-1,-1,-1,-1,-1,0,{"$f":"[1]升级!$B234/[2]HeroModelConfig!$M$5","v":200.56},{"$f":"[1]升级!$C234/[2]HeroModelConfig!$N$5","v":200.56},{"$f":"[1]升级!$D234/[2]HeroModelConfig!$O$5","v":200.56},1,{"$f":"[1]升级!$J234/[2]HeroModelConfig!$P$5","v":32.466500000000003},{"$f":"[1]升级!$E234","v":20056.907691014676},{"$f":"[1]升级!$H234","v":1000},30,-1,5433]
[null,234,7,21,4,"232;237;241","飞升期","后",4,232,237,241,166770,-1,-1,-1,-1,-1,-1,0,{"$f":"[1]升级!$B235/[2]HeroModelConfig!$M$5","v":203.88},{"$f":"[1]升级!$C235/[2]HeroModelConfig!$N$5","v":203.88},{"$f":"[1]升级!$D235/[2]HeroModelConfig!$O$5","v":203.88},1,{"$f":"[1]升级!$J235/[2]HeroModelConfig!$P$5","v":32.466500000000003},{"$f":"[1]升级!$E235","v":20387.228313452302},{"$f":"[1]升级!$H235","v":1000},30,-1,5559]
[null,235,7,21,5,"232;237;242","飞升期","后",5,232,237,242,170670,-1,-1,-1,-1,-1,-1,0,{"$f":"[1]升级!$B236/[2]HeroModelConfig!$M$5","v":207.22},{"$f":"[1]升级!$C236/[2]HeroModelConfig!$N$5","v":207.22},{"$f":"[1]升级!$D236/[2]HeroModelConfig!$O$5","v":207.22},1,{"$f":"[1]升级!$J236/[2]HeroModelConfig!$P$5","v":32.466500000000003},{"$f":"[1]升级!$E236","v":20722.98904237536},{"$f":"[1]升级!$H236","v":1000},30,-1,5689]
[null,236,7,21,6,"232;237;243","飞升期","后",6,232,237,243,174630,-1,-1,-1,-1,-1,-1,0,{"$f":"[1]升级!$B237/[2]HeroModelConfig!$M$5","v":210.64},{"$f":"[1]升级!$C237/[2]HeroModelConfig!$N$5","v":210.64},{"$f":"[1]升级!$D237/[2]HeroModelConfig!$O$5","v":210.64},1,{"$f":"[1]升级!$J237/[2]HeroModelConfig!$P$5","v":32.466500000000003},{"$f":"[1]升级!$E237","v":21064.279471822374},{"$f":"[1]升级!$H237","v":1000},30,-1,5821]
[null,237,7,21,7,"232;237;244","飞升期","后",7,232,237,244,178710,-1,-1,-1,-1,-1,-1,0,{"$f":"[1]升级!$B238/[2]HeroModelConfig!$M$5","v":214.12},{"$f":"[1]升级!$C238/[2]HeroModelConfig!$N$5","v":214.12},{"$f":"[1]升级!$D238/[2]HeroModelConfig!$O$5","v":214.12},1,{"$f":"[1]升级!$J238/[2]HeroModelConfig!$P$5","v":32.466500000000003},{"$f":"[1]升级!$E238","v":21411.190671371325},{"$f":"[1]升级!$H238","v":1000},30,-1,5957]
[null,238,7,21,8,"232;237;245","飞升期","后",8,232,237,245,182850,-1,-1,-1,-1,-1,-1,0,{"$f":"[1]升级!$B239/[2]HeroModelConfig!$M$5","v":217.64},{"$f":"[1]升级!$C239/[2]HeroModelConfig!$N$5","v":217.64},{"$f":"[1]升级!$D239/[2]HeroModelConfig!$O$5","v":217.64},1,{"$f":"[1]升级!$J239/[2]HeroModelConfig!$P$5","v":32.466500000000003},{"$f":"[1]升级!$E239","v":21763.815210440553},{"$f":"[1]升级!$H239","v":1000},30,-1,6095]
[null,239,7,21,9,"232;237;246","飞升期","后",9,232,237,246,187110,-1,-1,-1,-1,-1,-1,0,{"$f":"[1]升级!$B240/[2]HeroModelConfig!$M$5","v":221.22},{"$f":"[1]升级!$C240/[2]HeroModelConfig!$N$5","v":221.22},{"$f":"[1]升级!$D240/[2]HeroModelConfig!$O$5","v":221.22},1,{"$f":"[1]升级!$J240/[2]HeroModelConfig!$P$5","v":32.466500000000003},{"$f":"[1]升级!$E240","v":22122.247182989882},{"$f":"[1]升级!$H240","v":1000},30,-1,6237]
[null,240,7,21,10,"232;237;247","飞升期","后",10,232,237,247,191490,100001,20,1301,1,"1301;1302;1303","1;1;1","24000;36000",{"$f":"[1]升级!$B241/[2]HeroModelConfig!$M$5","v":250.36},{"$f":"[1]升级!$C241/[2]HeroModelConfig!$N$5","v":250.36},{"$f":"[1]升级!$D241/[2]HeroModelConfig!$O$5","v":250.36},1,{"$f":"[1]升级!$J241/[2]HeroModelConfig!$P$5","v":50.072000000000003},{"$f":"[1]升级!$E241","v":25036.927580099335},{"$f":"[1]升级!$H241","v":1000},30,50,6383]
[null,241,7,19,1,"233;235;238","逍遥期","前",1,233,235,238,182860,-1,-1,-1,-1,{"$f":"IF(I245=10,\"1001;1002;1004\",-1)","v":-1},{"$f":"IF(R245=-1,-1,\"100;200;300\")","v":-1},{"$f":"IF(G245=G246,0,CONCATENATE(B245*100,\";\",B245*150))","v":0},{"$f":"[1]升级!$B242/[2]HeroModelConfig!$M$5","v":254.5},{"$f":"[1]升级!$C242/[2]HeroModelConfig!$N$5","v":254.5},{"$f":"[1]升级!$D242/[2]HeroModelConfig!$O$5","v":254.5},1,{"$f":"[1]升级!$J242/[2]HeroModelConfig!$P$5","v":50.072000000000003},{"$f":"[1]升级!$E242","v":25449.264996693677},{"$f":"[1]升级!$H242","v":1000},28,-1,6531]
[null,242,7,19,2,"233;235;239","逍遥期","前",2,233,235,239,187120,-1,-1,-1,-1,{"$f":"IF(I246=10,\"1001;1002;1004\",-1)","v":-1},{"$f":"IF(R246=-1,-1,\"100;200;300\")","v":-1},{"$f":"IF(G246=G247,0,CONCATENATE(B246*100,\";\",B246*150))","v":0},{"$f":"[1]升级!$B243/[2]HeroModelConfig!$M$5","v":258.68},{"$f":"[1]升级!$C243/[2]HeroModelConfig!$N$5","v":258.68},{"$f":"[1]升级!$D243/[2]HeroModelConfig!$O$5","v":258.68},1,{"$f":"[1]升级!$J243/[2]HeroModelConfig!$P$5","v":50.072000000000003},{"$f":"[1]升级!$E243","v":25868.393268299271},{"$f":"[1]升级!$H243","v":1000},28,-1,6683]
[null,243,7,19,3,"233;235;240","逍遥期","前",3,233,235,240,191490,-1,-1,-1,-1,-1,-1,0,{"$f":"[1]升级!$B244/[2]HeroModelConfig!$M$5","v":262.94},{"$f":"[1]升级!$C244/[2]HeroModelConfig!$N$5","v":262.94},{"$f":"[1]升级!$D244/[2]HeroModelConfig!$O$5","v":262.94},1,{"$f":"[1]升级!$J244/[2]HeroModelConfig!$P$5","v":50.072000000000003},{"$f":"[1]升级!$E244","v":26294.424234661747},{"$f":"[1]升级!$H244","v":1000},28,-1,6839]
[null,244,7,19,4,"233;235;241","逍遥期","前",4,233,235,241,195940,-1,-1,-1,-1,-1,-1,0,{"$f":"[1]升级!$B245/[2]HeroModelConfig!$M$5","v":267.27999999999997},{"$f":"[1]升级!$C245/[2]HeroModelConfig!$N$5","v":267.27999999999997},{"$f":"[1]升级!$D245/[2]HeroModelConfig!$O$5","v":267.27999999999997},1,{"$f":"[1]升级!$J245/[2]HeroModelConfig!$P$5","v":50.072000000000003},{"$f":"[1]升级!$E245","v":26727.47157743451},{"$f":"[1]升级!$H245","v":1000},28,-1,6998]
[null,245,7,19,5,"233;235;242","逍遥期","前",5,233,235,242,200500,-1,-1,-1,-1,-1,-1,0,{"$f":"[1]升级!$B246/[2]HeroModelConfig!$M$5","v":271.68},{"$f":"[1]升级!$C246/[2]HeroModelConfig!$N$5","v":271.68},{"$f":"[1]升级!$D246/[2]HeroModelConfig!$O$5","v":271.68},1,{"$f":"[1]升级!$J246/[2]HeroModelConfig!$P$5","v":50.072000000000003},{"$f":"[1]升级!$E246","v":27167.650850513444},{"$f":"[1]升级!$H246","v":1000},28,-1,7161]
[null,246,7,19,6,"233;235;243","逍遥期","前",6,233,235,243,205180,-1,-1,-1,-1,-1,-1,0,{"$f":"[1]升级!$B247/[2]HeroModelConfig!$M$5","v":276.16000000000003},{"$f":"[1]升级!$C247/[2]HeroModelConfig!$N$5","v":276.16000000000003},{"$f":"[1]升级!$D247/[2]HeroModelConfig!$O$5","v":276.16000000000003},1,{"$f":"[1]升级!$J247/[2]HeroModelConfig!$P$5","v":50.072000000000003},{"$f":"[1]升级!$E247","v":27615.079510871194},{"$f":"[1]升级!$H247","v":1000},28,-1,7328]
[null,247,7,19,7,"233;235;244","逍遥期","前",7,233,235,244,209970,-1,-1,-1,-1,-1,-1,0,{"$f":"[1]升级!$B248/[2]HeroModelConfig!$M$5","v":280.7},{"$f":"[1]升级!$C248/[2]HeroModelConfig!$N$5","v":280.7},{"$f":"[1]升级!$D248/[2]HeroModelConfig!$O$5","v":280.7},1,{"$f":"[1]升级!$J248/[2]HeroModelConfig!$P$5","v":50.072000000000003},{"$f":"[1]升级!$E248","v":28069.876949899244},{"$f":"[1]升级!$H248","v":1000},28,-1,7499]
[null,248,7,19,8,"233;235;245","逍遥期","前",8,233,235,245,214870,-1,-1,-1,-1,-1,-1,0,{"$f":"[1]升级!$B249/[2]HeroModelConfig!$M$5","v":285.32},{"$f":"[1]升级!$C249/[2]HeroModelConfig!$N$5","v":285.32},{"$f":"[1]升级!$D249/[2]HeroModelConfig!$O$5","v":285.32},1,{"$f":"[1]升级!$J249/[2]HeroModelConfig!$P$5","v":50.072000000000003},{"$f":"[1]升级!$E249","v":28532.164525266213},{"$f":"[1]升级!$H249","v":1000},28,-1,7674]
[null,249,7,19,9,"233;235;246","逍遥期","前",9,233,235,246,219850,-1,-1,-1,-1,-1,-1,0,{"$f":"[1]升级!$B250/[2]HeroModelConfig!$M$5","v":290.02},{"$f":"[1]升级!$C250/[2]HeroModelConfig!$N$5","v":290.02},{"$f":"[1]升级!$D250/[2]HeroModelConfig!$O$5","v":290.02},1,{"$f":"[1]升级!$J250/[2]HeroModelConfig!$P$5","v":50.072000000000003},{"$f":"[1]升级!$E250","v":29002.065593300787},{"$f":"[1]升级!$H250","v":1000},28,-1,7852]
[null,250,7,19,10,"233;235;247","逍遥期","前",10,233,235,247,224980,100001,20,1301,1,1301,1,0,{"$f":"[1]升级!$B251/[2]HeroModelConfig!$M$5","v":309.12},{"$f":"[1]升级!$C251/[2]HeroModelConfig!$N$5","v":309.12},{"$f":"[1]升级!$D251/[2]HeroModelConfig!$O$5","v":309.12},1,{"$f":"[1]升级!$J251/[2]HeroModelConfig!$P$5","v":64.915000000000006},{"$f":"[1]升级!$E251","v":30912.625387729669},{"$f":"[1]升级!$H251","v":1000},28,20,8035]
[null,251,7,20,1,"233;236;238","逍遥期","中",1,233,236,238,238430,-1,-1,-1,-1,{"$f":"IF(I255=10,\"1001;1002;1004\",-1)","v":-1},{"$f":"IF(R255=-1,-1,\"100;200;300\")","v":-1},0,{"$f":"[1]升级!$B252/[2]HeroModelConfig!$M$5","v":314.22000000000003},{"$f":"[1]升级!$C252/[2]HeroModelConfig!$N$5","v":314.22000000000003},{"$f":"[1]升级!$D252/[2]HeroModelConfig!$O$5","v":314.22000000000003},1,{"$f":"[1]升级!$J252/[2]HeroModelConfig!$P$5","v":64.915000000000006},{"$f":"[1]升级!$E252","v":31421.730670386503},{"$f":"[1]升级!$H252","v":1000},29,-1,8222]
[null,252,7,20,2,"233;236;239","逍遥期","中",2,233,236,239,244000,-1,-1,-1,-1,-1,-1,0,{"$f":"[1]升级!$B253/[2]HeroModelConfig!$M$5","v":319.39999999999998},{"$f":"[1]升级!$C253/[2]HeroModelConfig!$N$5","v":319.39999999999998},{"$f":"[1]升级!$D253/[2]HeroModelConfig!$O$5","v":319.39999999999998},1,{"$f":"[1]升级!$J253/[2]HeroModelConfig!$P$5","v":64.915000000000006},{"$f":"[1]升级!$E253","v":31939.22049449131},{"$f":"[1]升级!$H253","v":1000},29,-1,8414]
[null,253,7,20,3,"233;236;240","逍遥期","中",3,233,236,240,249690,-1,-1,-1,-1,-1,-1,0,{"$f":"[1]升级!$B254/[2]HeroModelConfig!$M$5","v":324.66000000000003},{"$f":"[1]升级!$C254/[2]HeroModelConfig!$N$5","v":324.66000000000003},{"$f":"[1]升级!$D254/[2]HeroModelConfig!$O$5","v":324.66000000000003},1,{"$f":"[1]升级!$J254/[2]HeroModelConfig!$P$5","v":64.915000000000006},{"$f":"[1]升级!$E254","v":32465.232946482571},{"$f":"[1]升级!$H254","v":1000},29,-1,8610]
[null,254,7,20,{"$f":"I258","v":4},"233;236;241","逍遥期","中",4,233,236,241,255490,{"$f":"IF(I258=10,100001,-1)","v":-1},{"$f":"IF(N258=-1,-1,20)","v":-1},-1,-1,-1,-1,0,{"$f":"[1]升级!$B255/[2]HeroModelConfig!$M$5","v":330},{"$f":"[1]升级!$C255/[2]HeroModelConfig!$N$5","v":330},{"$f":"[1]升级!$D255/[2]HeroModelConfig!$O$5","v":330},1,{"$f":"[1]升级!$J255/[2]HeroModelConfig!$P$5","v":64.915000000000006},{"$f":"[1]升级!$E255","v":32999.908386967792},{"$f":"[1]升级!$H255","v":1000},29,-1,8810]
[null,255,7,20,5,"233;236;242","逍遥期","中",5,233,236,242,261460,-1,-1,-1,-1,-1,-1,0,{"$f":"[1]升级!$B256/[2]HeroModelConfig!$M$5","v":335.44},{"$f":"[1]升级!$C256/[2]HeroModelConfig!$N$5","v":335.44},{"$f":"[1]升级!$D256/[2]HeroModelConfig!$O$5","v":335.44},1,{"$f":"[1]升级!$J256/[2]HeroModelConfig!$P$5","v":64.915000000000006},{"$f":"[1]升级!$E256","v":33543.389488177185},{"$f":"[1]升级!$H256","v":1000},29,-1,9016]
[null,256,7,20,6,"233;236;243","逍遥期","中",6,233,236,243,267550,-1,-1,-1,-1,-1,-1,0,{"$f":"[1]升级!$B257/[2]HeroModelConfig!$M$5","v":340.96},{"$f":"[1]升级!$C257/[2]HeroModelConfig!$N$5","v":340.96},{"$f":"[1]升级!$D257/[2]HeroModelConfig!$O$5","v":340.96},1,{"$f":"[1]升级!$J257/[2]HeroModelConfig!$P$5","v":64.915000000000006},{"$f":"[1]升级!$E257","v":34095.821272034183},{"$f":"[1]升级!$H257","v":1000},29,-1,9226]
[null,257,7,20,7,"233;236;244","逍遥期","中",7,233,236,244,273780,-1,-1,-1,-1,-1,-1,0,{"$f":"[1]升级!$B258/[2]HeroModelConfig!$M$5","v":346.58},{"$f":"[1]升级!$C258/[2]HeroModelConfig!$N$5","v":346.58},{"$f":"[1]升级!$D258/[2]HeroModelConfig!$O$5","v":346.58},1,{"$f":"[1]升级!$J258/[2]HeroModelConfig!$P$5","v":64.915000000000006},{"$f":"[1]升级!$E258","v":34657.351148852926},{"$f":"[1]升级!$H258","v":1000},29,-1,9441]
[null,258,7,20,8,{"$f":"_xlfn.TEXTJOIN(\";\",1,J262:L262)","v":"233;236;245"},"逍遥期","中",8,233,236,245,{"$f":"INT(0.1*AB262*AD262)*10","v":280160},-1,-1,-1,-1,-1,-1,0,{"$f":"[1]升级!$B259/[2]HeroModelConfig!$M$5","v":352.28},{"$f":"[1]升级!$C259/[2]HeroModelConfig!$N$5","v":352.28},{"$f":"[1]升级!$D259/[2]HeroModelConfig!$O$5","v":352.28},1,{"$f":"[1]升级!$J259/[2]HeroModelConfig!$P$5","v":64.915000000000006},{"$f":"[1]升级!$E259","v":35228.128956673077},{"$f":"[1]升级!$H259","v":1000},29,-1,9661]
[null,259,7,20,9,"233;236;246","逍遥期","中",9,233,236,246,286690,-1,-1,-1,-1,-1,-1,0,{"$f":"[1]升级!$B260/[2]HeroModelConfig!$M$5","v":358.08},{"$f":"[1]升级!$C260/[2]HeroModelConfig!$N$5","v":358.08},{"$f":"[1]升级!$D260/[2]HeroModelConfig!$O$5","v":358.08},1,{"$f":"[1]升级!$J260/[2]HeroModelConfig!$P$5","v":64.915000000000006},{"$f":"[1]升级!$E260","v":35808.307001242443},{"$f":"[1]升级!$H260","v":1000},29,-1,{"$f":"MAX(AD262+10,ROUND(10^(B263*0.01+1.405),0))","v":9886}]
[null,260,7,20,10,"233;236;247","逍遥期","中",10,233,236,247,293360,100001,20,1301,1,"1301;1302","1;1",0,{"$f":"[1]升级!$B261/[2]HeroModelConfig!$M$5","v":381.68},{"$f":"[1]升级!$C261/[2]HeroModelConfig!$N$5","v":381.68},{"$f":"[1]升级!$D261/[2]HeroModelConfig!$O$5","v":381.68},1,{"$f":"[1]升级!$J261/[2]HeroModelConfig!$P$5","v":83.969499999999996},{"$f":"[1]升级!$E261","v":38167.239382905049},{"$f":"[1]升级!$H261","v":1000},29,20,10116]
[null,261,7,21,1,"233;237;238","逍遥期","后",1,233,237,238,310530,-1,-1,-1,-1,{"$f":"IF(I265=10,\"1001;1002;1004\",-1)","v":-1},{"$f":"IF(R265=-1,-1,\"100;200;300\")","v":-1},0,{"$f":"[1]升级!$B262/[2]HeroModelConfig!$M$5","v":387.96},{"$f":"[1]升级!$C262/[2]HeroModelConfig!$N$5","v":387.96},{"$f":"[1]升级!$D262/[2]HeroModelConfig!$O$5","v":387.96},1,{"$f":"[1]升级!$J262/[2]HeroModelConfig!$P$5","v":83.969499999999996},{"$f":"[1]升级!$E262","v":38795.822136732801},{"$f":"[1]升级!$H262","v":1000},30,-1,10351]
[null,262,7,21,2,"233;237;239","逍遥期","后",2,233,237,239,317790,-1,-1,-1,-1,-1,-1,0,{"$f":"[1]升级!$B263/[2]HeroModelConfig!$M$5","v":394.34},{"$f":"[1]升级!$C263/[2]HeroModelConfig!$N$5","v":394.34},{"$f":"[1]升级!$D263/[2]HeroModelConfig!$O$5","v":394.34},1,{"$f":"[1]升级!$J263/[2]HeroModelConfig!$P$5","v":83.969499999999996},{"$f":"[1]升级!$E263","v":39434.757126792414},{"$f":"[1]升级!$H263","v":1000},30,-1,10593]
[null,263,7,21,3,"233;237;240","逍遥期","后",3,233,237,240,325170,-1,-1,-1,-1,-1,-1,0,{"$f":"[1]升级!$B264/[2]HeroModelConfig!$M$5","v":400.84},{"$f":"[1]升级!$C264/[2]HeroModelConfig!$N$5","v":400.84},{"$f":"[1]升级!$D264/[2]HeroModelConfig!$O$5","v":400.84},1,{"$f":"[1]升级!$J264/[2]HeroModelConfig!$P$5","v":83.969499999999996},{"$f":"[1]升级!$E264","v":40084.214845822265},{"$f":"[1]升级!$H264","v":1000},30,-1,10839]
[null,264,7,21,4,"233;237;241","逍遥期","后",4,233,237,241,332760,-1,-1,-1,-1,-1,-1,0,{"$f":"[1]升级!$B265/[2]HeroModelConfig!$M$5","v":407.44},{"$f":"[1]升级!$C265/[2]HeroModelConfig!$N$5","v":407.44},{"$f":"[1]升级!$D265/[2]HeroModelConfig!$O$5","v":407.44},1,{"$f":"[1]升级!$J265/[2]HeroModelConfig!$P$5","v":83.969499999999996},{"$f":"[1]升级!$E265","v":40744.368594434636},{"$f":"[1]升级!$H265","v":1000},30,-1,11092]
[null,265,7,21,5,"233;237;242","逍遥期","后",5,233,237,242,340500,-1,-1,-1,-1,-1,-1,0,{"$f":"[1]升级!$B266/[2]HeroModelConfig!$M$5","v":414.16},{"$f":"[1]升级!$C266/[2]HeroModelConfig!$N$5","v":414.16},{"$f":"[1]升级!$D266/[2]HeroModelConfig!$O$5","v":414.16},1,{"$f":"[1]升级!$J266/[2]HeroModelConfig!$P$5","v":83.969499999999996},{"$f":"[1]升级!$E266","v":41415.394527359036},{"$f":"[1]升级!$H266","v":1000},30,-1,11350]
[null,266,7,21,6,"233;237;243","逍遥期","后",6,233,237,243,348420,-1,-1,-1,-1,-1,-1,0,{"$f":"[1]升级!$B267/[2]HeroModelConfig!$M$5","v":420.98},{"$f":"[1]升级!$C267/[2]HeroModelConfig!$N$5","v":420.98},{"$f":"[1]升级!$D267/[2]HeroModelConfig!$O$5","v":420.98},1,{"$f":"[1]升级!$J267/[2]HeroModelConfig!$P$5","v":83.969499999999996},{"$f":"[1]升级!$E267","v":42097.471700447175},{"$f":"[1]升级!$H267","v":1000},30,-1,11614]
[null,267,7,21,7,"233;237;244","逍遥期","后",7,233,237,244,356550,-1,-1,-1,-1,-1,-1,0,{"$f":"[1]升级!$B268/[2]HeroModelConfig!$M$5","v":427.9},{"$f":"[1]升级!$C268/[2]HeroModelConfig!$N$5","v":427.9},{"$f":"[1]升级!$D268/[2]HeroModelConfig!$O$5","v":427.9},1,{"$f":"[1]升级!$J268/[2]HeroModelConfig!$P$5","v":83.969499999999996},{"$f":"[1]升级!$E268","v":42790.782118452022},{"$f":"[1]升级!$H268","v":1000},30,-1,11885]
[null,268,7,21,8,"233;237;245","逍遥期","后",8,233,237,245,364860,-1,-1,-1,-1,-1,-1,0,{"$f":"[1]升级!$B269/[2]HeroModelConfig!$M$5","v":434.96},{"$f":"[1]升级!$C269/[2]HeroModelConfig!$N$5","v":434.96},{"$f":"[1]升级!$D269/[2]HeroModelConfig!$O$5","v":434.96},1,{"$f":"[1]升级!$J269/[2]HeroModelConfig!$P$5","v":83.969499999999996},{"$f":"[1]升级!$E269","v":43495.510783593767},{"$f":"[1]升级!$H269","v":1000},30,-1,12162]
[null,269,7,21,9,"233;237;246","逍遥期","后",9,233,237,246,373350,-1,-1,-1,-1,-1,-1,0,{"$f":"[1]升级!$B270/[2]HeroModelConfig!$M$5","v":442.12},{"$f":"[1]升级!$C270/[2]HeroModelConfig!$N$5","v":442.12},{"$f":"[1]升级!$D270/[2]HeroModelConfig!$O$5","v":442.12},1,{"$f":"[1]升级!$J270/[2]HeroModelConfig!$P$5","v":83.969499999999996},{"$f":"[1]升级!$E270","v":44211.845744925602},{"$f":"[1]升级!$H270","v":1000},30,-1,12445]
[null,270,7,21,10,"233;237;247","逍遥期","后",10,233,237,247,382050,100001,20,1301,1,"1301;1302;1303","1;1;1","27000;40500",{"$f":"[1]升级!$B271/[2]HeroModelConfig!$M$5","v":500.36},{"$f":"[1]升级!$C271/[2]HeroModelConfig!$N$5","v":500.36},{"$f":"[1]升级!$D271/[2]HeroModelConfig!$O$5","v":500.36},1,{"$f":"[1]升级!$J271/[2]HeroModelConfig!$P$5","v":125.09},{"$f":"[1]升级!$E271","v":50036.904973621255},{"$f":"[1]升级!$H271","v":1000},30,50,12735]
[null,271,7,19,1,"234;235;238","真神期","前",1,234,235,238,364890,-1,-1,-1,-1,{"$f":"IF(I275=10,\"1001;1002;1004\",-1)","v":-1},{"$f":"IF(R275=-1,-1,\"100;200;300\")","v":-1},{"$f":"IF(G275=G276,0,CONCATENATE(B275*100,\";\",B275*150))","v":0},{"$f":"[1]升级!$B272/[2]HeroModelConfig!$M$5","v":508.6},{"$f":"[1]升级!$C272/[2]HeroModelConfig!$N$5","v":508.6},{"$f":"[1]升级!$D272/[2]HeroModelConfig!$O$5","v":508.6},1,{"$f":"[1]升级!$J272/[2]HeroModelConfig!$P$5","v":125.09},{"$f":"[1]升级!$E272","v":50860.971267905661},{"$f":"[1]升级!$H272","v":1000},28,-1,13032]
[null,272,7,19,2,"234;235;239","真神期","前",2,234,235,239,373380,-1,-1,-1,-1,{"$f":"IF(I276=10,\"1001;1002;1004\",-1)","v":-1},{"$f":"IF(R276=-1,-1,\"100;200;300\")","v":-1},{"$f":"IF(G276=G277,0,CONCATENATE(B276*100,\";\",B276*150))","v":0},{"$f":"[1]升级!$B273/[2]HeroModelConfig!$M$5","v":516.98},{"$f":"[1]升级!$C273/[2]HeroModelConfig!$N$5","v":516.98},{"$f":"[1]升级!$D273/[2]HeroModelConfig!$O$5","v":516.98},1,{"$f":"[1]升级!$J273/[2]HeroModelConfig!$P$5","v":125.09},{"$f":"[1]升级!$E273","v":51698.609250081914},{"$f":"[1]升级!$H273","v":1000},28,-1,13335]
[null,273,7,19,3,"234;235;240","真神期","前",3,234,235,240,382080,-1,-1,-1,-1,-1,-1,0,{"$f":"[1]升级!$B274/[2]HeroModelConfig!$M$5","v":525.5},{"$f":"[1]升级!$C274/[2]HeroModelConfig!$N$5","v":525.5},{"$f":"[1]升级!$D274/[2]HeroModelConfig!$O$5","v":525.5},1,{"$f":"[1]升级!$J274/[2]HeroModelConfig!$P$5","v":125.09},{"$f":"[1]升级!$E274","v":52550.042434585084},{"$f":"[1]升级!$H274","v":1000},28,-1,13646]
[null,274,7,19,4,"234;235;241","真神期","前",4,234,235,241,390990,-1,-1,-1,-1,-1,-1,0,{"$f":"[1]升级!$B275/[2]HeroModelConfig!$M$5","v":534.16},{"$f":"[1]升级!$C275/[2]HeroModelConfig!$N$5","v":534.16},{"$f":"[1]升级!$D275/[2]HeroModelConfig!$O$5","v":534.16},1,{"$f":"[1]升级!$J275/[2]HeroModelConfig!$P$5","v":125.09},{"$f":"[1]升级!$E275","v":53415.498016947473},{"$f":"[1]升级!$H275","v":1000},28,-1,13964]
[null,275,7,19,5,"234;235;242","真神期","前",5,234,235,242,400090,-1,-1,-1,-1,-1,-1,0,{"$f":"[1]升级!$B276/[2]HeroModelConfig!$M$5","v":542.96},{"$f":"[1]升级!$C276/[2]HeroModelConfig!$N$5","v":542.96},{"$f":"[1]升级!$D276/[2]HeroModelConfig!$O$5","v":542.96},1,{"$f":"[1]升级!$J276/[2]HeroModelConfig!$P$5","v":125.09},{"$f":"[1]升级!$E276","v":54295.206934423237},{"$f":"[1]升级!$H276","v":1000},28,-1,14289]
[null,276,7,19,6,"234;235;243","真神期","前",6,234,235,243,409410,-1,-1,-1,-1,-1,-1,0,{"$f":"[1]升级!$B277/[2]HeroModelConfig!$M$5","v":551.9},{"$f":"[1]升级!$C277/[2]HeroModelConfig!$N$5","v":551.9},{"$f":"[1]升级!$D277/[2]HeroModelConfig!$O$5","v":551.9},1,{"$f":"[1]升级!$J277/[2]HeroModelConfig!$P$5","v":125.09},{"$f":"[1]升级!$E277","v":55189.403927611427},{"$f":"[1]升级!$H277","v":1000},28,-1,14622]
[null,277,7,19,7,"234;235;244","真神期","前",7,234,235,244,418930,-1,-1,-1,-1,-1,-1,0,{"$f":"[1]升级!$B278/[2]HeroModelConfig!$M$5","v":560.98},{"$f":"[1]升级!$C278/[2]HeroModelConfig!$N$5","v":560.98},{"$f":"[1]升级!$D278/[2]HeroModelConfig!$O$5","v":560.98},1,{"$f":"[1]升级!$J278/[2]HeroModelConfig!$P$5","v":125.09},{"$f":"[1]升级!$E278","v":56098.327603093923},{"$f":"[1]升级!$H278","v":1000},28,-1,14962]
[null,278,7,19,8,"234;235;245","真神期","前",8,234,235,245,428700,-1,-1,-1,-1,-1,-1,0,{"$f":"[1]升级!$B279/[2]HeroModelConfig!$M$5","v":570.22},{"$f":"[1]升级!$C279/[2]HeroModelConfig!$N$5","v":570.22},{"$f":"[1]升级!$D279/[2]HeroModelConfig!$O$5","v":570.22},1,{"$f":"[1]升级!$J279/[2]HeroModelConfig!$P$5","v":125.09},{"$f":"[1]升级!$E279","v":57022.220497104965},{"$f":"[1]升级!$H279","v":1000},28,-1,15311]
[null,279,7,19,9,"234;235;246","真神期","前",9,234,235,246,438700,-1,-1,-1,-1,-1,-1,0,{"$f":"[1]升级!$B280/[2]HeroModelConfig!$M$5","v":579.62},{"$f":"[1]升级!$C280/[2]HeroModelConfig!$N$5","v":579.62},{"$f":"[1]升级!$D280/[2]HeroModelConfig!$O$5","v":579.62},1,{"$f":"[1]升级!$J280/[2]HeroModelConfig!$P$5","v":125.09},{"$f":"[1]升级!$E280","v":57961.329140249269},{"$f":"[1]升级!$H280","v":1000},28,-1,15668]
[null,280,7,19,10,"234;235;247","真神期","前",10,234,235,247,448890,100001,20,1301,1,1301,1,0,{"$f":"[1]升级!$B281/[2]HeroModelConfig!$M$5","v":617.79999999999995},{"$f":"[1]升级!$C281/[2]HeroModelConfig!$N$5","v":617.79999999999995},{"$f":"[1]升级!$D281/[2]HeroModelConfig!$O$5","v":617.79999999999995},1,{"$f":"[1]升级!$J281/[2]HeroModelConfig!$P$5","v":160.62799999999999},{"$f":"[1]升级!$E281","v":61779.629072396143},{"$f":"[1]升级!$H281","v":1000},28,20,16032]
[null,281,7,20,1,"234;236;238","真神期","中",1,234,236,238,475770,-1,-1,-1,-1,{"$f":"IF(I285=10,\"1001;1002;1004\",-1)","v":-1},{"$f":"IF(R285=-1,-1,\"100;200;300\")","v":-1},0,{"$f":"[1]升级!$B282/[2]HeroModelConfig!$M$5","v":627.98},{"$f":"[1]升级!$C282/[2]HeroModelConfig!$N$5","v":627.98},{"$f":"[1]升级!$D282/[2]HeroModelConfig!$O$5","v":627.98},1,{"$f":"[1]升级!$J282/[2]HeroModelConfig!$P$5","v":160.62799999999999},{"$f":"[1]升级!$E282","v":62797.088286126374},{"$f":"[1]升级!$H282","v":1000},29,-1,16406]
[null,282,7,20,2,"234;236;239","真神期","中",2,234,236,239,486850,-1,-1,-1,-1,-1,-1,0,{"$f":"[1]升级!$B283/[2]HeroModelConfig!$M$5","v":638.32000000000005},{"$f":"[1]升级!$C283/[2]HeroModelConfig!$N$5","v":638.32000000000005},{"$f":"[1]升级!$D283/[2]HeroModelConfig!$O$5","v":638.32000000000005},1,{"$f":"[1]升级!$J283/[2]HeroModelConfig!$P$5","v":160.62799999999999},{"$f":"[1]升级!$E283","v":63831.304208615591},{"$f":"[1]升级!$H283","v":1000},29,-1,16788]
[null,283,7,20,3,"234;236;240","真神期","中",3,234,236,240,498190,-1,-1,-1,-1,-1,-1,0,{"$f":"[1]升级!$B284/[2]HeroModelConfig!$M$5","v":648.82000000000005},{"$f":"[1]升级!$C284/[2]HeroModelConfig!$N$5","v":648.82000000000005},{"$f":"[1]升级!$D284/[2]HeroModelConfig!$O$5","v":648.82000000000005},1,{"$f":"[1]升级!$J284/[2]HeroModelConfig!$P$5","v":160.62799999999999},{"$f":"[1]升级!$E284","v":64882.552808948989},{"$f":"[1]升级!$H284","v":1000},29,-1,17179]
[null,284,7,20,{"$f":"I288","v":4},"234;236;241","真神期","中",4,234,236,241,509790,{"$f":"IF(I288=10,100001,-1)","v":-1},{"$f":"IF(N288=-1,-1,20)","v":-1},-1,-1,-1,-1,0,{"$f":"[1]升级!$B285/[2]HeroModelConfig!$M$5","v":659.52},{"$f":"[1]升级!$C285/[2]HeroModelConfig!$N$5","v":659.52},{"$f":"[1]升级!$D285/[2]HeroModelConfig!$O$5","v":659.52},1,{"$f":"[1]升级!$J285/[2]HeroModelConfig!$P$5","v":160.62799999999999},{"$f":"[1]升级!$E285","v":65951.114601193549},{"$f":"[1]升级!$H285","v":1000},29,-1,17579]
[null,285,7,20,5,"234;236;242","真神期","中",5,234,236,242,521680,-1,-1,-1,-1,-1,-1,0,{"$f":"[1]升级!$B286/[2]HeroModelConfig!$M$5","v":670.38},{"$f":"[1]升级!$C286/[2]HeroModelConfig!$N$5","v":670.38},{"$f":"[1]升级!$D286/[2]HeroModelConfig!$O$5","v":670.38},1,{"$f":"[1]升级!$J286/[2]HeroModelConfig!$P$5","v":160.62799999999999},{"$f":"[1]升级!$E286","v":67037.274719250083},{"$f":"[1]升级!$H286","v":1000},29,-1,17989]
[null,286,7,20,6,"234;236;243","真神期","中",6,234,236,243,533830,-1,-1,-1,-1,-1,-1,0,{"$f":"[1]升级!$B287/[2]HeroModelConfig!$M$5","v":681.42},{"$f":"[1]升级!$C287/[2]HeroModelConfig!$N$5","v":681.42},{"$f":"[1]升级!$D287/[2]HeroModelConfig!$O$5","v":681.42},1,{"$f":"[1]升级!$J287/[2]HeroModelConfig!$P$5","v":160.62799999999999},{"$f":"[1]升级!$E287","v":68141.322992938105},{"$f":"[1]升级!$H287","v":1000},29,-1,18408]
[null,287,7,20,7,"234;236;244","真神期","中",7,234,236,244,546240,-1,-1,-1,-1,-1,-1,0,{"$f":"[1]升级!$B288/[2]HeroModelConfig!$M$5","v":692.64},{"$f":"[1]升级!$C288/[2]HeroModelConfig!$N$5","v":692.64},{"$f":"[1]升级!$D288/[2]HeroModelConfig!$O$5","v":692.64},1,{"$f":"[1]升级!$J288/[2]HeroModelConfig!$P$5","v":160.62799999999999},{"$f":"[1]升级!$E288","v":69263.554025333709},{"$f":"[1]升级!$H288","v":1000},29,-1,18836]
[null,288,7,20,8,"234;236;245","真神期","中",8,234,236,245,558970,-1,-1,-1,-1,-1,-1,0,{"$f":"[1]升级!$B289/[2]HeroModelConfig!$M$5","v":704.04},{"$f":"[1]升级!$C289/[2]HeroModelConfig!$N$5","v":704.04},{"$f":"[1]升级!$D289/[2]HeroModelConfig!$O$5","v":704.04},1,{"$f":"[1]升级!$J289/[2]HeroModelConfig!$P$5","v":160.62799999999999},{"$f":"[1]升级!$E289","v":70404.267271381104},{"$f":"[1]升级!$H289","v":1000},29,-1,19275]
[null,289,7,20,9,"234;236;246","真神期","中",9,234,236,246,571990,-1,-1,-1,-1,-1,-1,0,{"$f":"[1]升级!$B290/[2]HeroModelConfig!$M$5","v":715.64},{"$f":"[1]升级!$C290/[2]HeroModelConfig!$N$5","v":715.64},{"$f":"[1]升级!$D290/[2]HeroModelConfig!$O$5","v":715.64},1,{"$f":"[1]升级!$J290/[2]HeroModelConfig!$P$5","v":160.62799999999999},{"$f":"[1]升级!$E290","v":71563.76711779891},{"$f":"[1]升级!$H290","v":1000},29,-1,19724]
[null,290,7,20,10,"234;236;247","真神期","中",10,234,236,247,585330,100001,20,1301,1,"1301;1302","1;1",0,{"$f":"[1]升级!$B291/[2]HeroModelConfig!$M$5","v":762.78},{"$f":"[1]升级!$C291/[2]HeroModelConfig!$N$5","v":762.78},{"$f":"[1]升级!$D291/[2]HeroModelConfig!$O$5","v":762.78},1,{"$f":"[1]升级!$J291/[2]HeroModelConfig!$P$5","v":205.95050000000001},{"$f":"[1]升级!$E291","v":76278.150503812663},{"$f":"[1]升级!$H291","v":1000},29,20,20184]
[null,291,7,21,1,"234;237;238","真神期","后",1,234,237,238,619620,-1,-1,-1,-1,{"$f":"IF(I295=10,\"1001;1002;1004\",-1)","v":-1},{"$f":"IF(R295=-1,-1,\"100;200;300\")","v":-1},0,{"$f":"[1]升级!$B292/[2]HeroModelConfig!$M$5","v":775.34},{"$f":"[1]升级!$C292/[2]HeroModelConfig!$N$5","v":775.34},{"$f":"[1]升级!$D292/[2]HeroModelConfig!$O$5","v":775.34},1,{"$f":"[1]升级!$J292/[2]HeroModelConfig!$P$5","v":205.95050000000001},{"$f":"[1]升级!$E292","v":77534.388331745533},{"$f":"[1]升级!$H292","v":1000},30,-1,20654]
[null,292,7,21,2,"234;237;239","真神期","后",2,234,237,239,634050,-1,-1,-1,-1,-1,-1,0,{"$f":"[1]升级!$B293/[2]HeroModelConfig!$M$5","v":788.12},{"$f":"[1]升级!$C293/[2]HeroModelConfig!$N$5","v":788.12},{"$f":"[1]升级!$D293/[2]HeroModelConfig!$O$5","v":788.12},1,{"$f":"[1]升级!$J293/[2]HeroModelConfig!$P$5","v":205.95050000000001},{"$f":"[1]升级!$E293","v":78811.315354027058},{"$f":"[1]升级!$H293","v":1000},30,-1,21135]
[null,293,7,21,3,"234;237;240","真神期","后",3,234,237,240,648810,-1,-1,-1,-1,-1,-1,0,{"$f":"[1]升级!$B294/[2]HeroModelConfig!$M$5","v":801.1},{"$f":"[1]升级!$C294/[2]HeroModelConfig!$N$5","v":801.1},{"$f":"[1]升级!$D294/[2]HeroModelConfig!$O$5","v":801.1},1,{"$f":"[1]升级!$J294/[2]HeroModelConfig!$P$5","v":205.95050000000001},{"$f":"[1]升级!$E294","v":80109.27230451614},{"$f":"[1]升级!$H294","v":1000},30,-1,21627]
[null,294,7,21,4,"234;237;241","真神期","后",4,234,237,241,663930,-1,-1,-1,-1,-1,-1,0,{"$f":"[1]升级!$B295/[2]HeroModelConfig!$M$5","v":814.28},{"$f":"[1]升级!$C295/[2]HeroModelConfig!$N$5","v":814.28},{"$f":"[1]升级!$D295/[2]HeroModelConfig!$O$5","v":814.28},1,{"$f":"[1]升级!$J295/[2]HeroModelConfig!$P$5","v":205.95050000000001},{"$f":"[1]升级!$E295","v":81428.6055286755},{"$f":"[1]升级!$H295","v":1000},30,-1,22131]
[null,295,7,21,5,"234;237;242","真神期","后",5,234,237,242,679380,-1,-1,-1,-1,-1,-1,0,{"$f":"[1]升级!$B296/[2]HeroModelConfig!$M$5","v":827.7},{"$f":"[1]升级!$C296/[2]HeroModelConfig!$N$5","v":827.7},{"$f":"[1]升级!$D296/[2]HeroModelConfig!$O$5","v":827.7},1,{"$f":"[1]升级!$J296/[2]HeroModelConfig!$P$5","v":205.95050000000001},{"$f":"[1]升级!$E296","v":82769.66707599019},{"$f":"[1]升级!$H296","v":1000},30,-1,22646]
[null,296,7,21,6,"234;237;243","真神期","后",6,234,237,243,695220,-1,-1,-1,-1,-1,-1,0,{"$f":"[1]升级!$B297/[2]HeroModelConfig!$M$5","v":841.32},{"$f":"[1]升级!$C297/[2]HeroModelConfig!$N$5","v":841.32},{"$f":"[1]升级!$D297/[2]HeroModelConfig!$O$5","v":841.32},1,{"$f":"[1]升级!$J297/[2]HeroModelConfig!$P$5","v":205.95050000000001},{"$f":"[1]升级!$E297","v":84132.814793908066},{"$f":"[1]升级!$H297","v":1000},30,-1,23174]
[null,297,7,21,7,"234;237;244","真神期","后",7,234,237,244,711420,-1,-1,-1,-1,-1,-1,0,{"$f":"[1]升级!$B298/[2]HeroModelConfig!$M$5","v":855.18},{"$f":"[1]升级!$C298/[2]HeroModelConfig!$N$5","v":855.18},{"$f":"[1]升级!$D298/[2]HeroModelConfig!$O$5","v":855.18},1,{"$f":"[1]升级!$J298/[2]HeroModelConfig!$P$5","v":205.95050000000001},{"$f":"[1]升级!$E298","v":85518.412423327449},{"$f":"[1]升级!$H298","v":1000},30,-1,23714]
[null,298,7,21,8,"234;237;245","真神期","后",8,234,237,245,727980,-1,-1,-1,-1,-1,-1,0,{"$f":"[1]升级!$B299/[2]HeroModelConfig!$M$5","v":869.26},{"$f":"[1]升级!$C299/[2]HeroModelConfig!$N$5","v":869.26},{"$f":"[1]升级!$D299/[2]HeroModelConfig!$O$5","v":869.26},1,{"$f":"[1]升级!$J299/[2]HeroModelConfig!$P$5","v":205.95050000000001},{"$f":"[1]升级!$E299","v":86926.829695657332},{"$f":"[1]升级!$H299","v":1000},30,-1,24266]
[null,299,7,21,9,"234;237;246","真神期","后",9,234,237,246,744930,-1,-1,-1,-1,-1,-1,0,{"$f":"[1]升级!$B300/[2]HeroModelConfig!$M$5","v":883.58},{"$f":"[1]升级!$C300/[2]HeroModelConfig!$N$5","v":883.58},{"$f":"[1]升级!$D300/[2]HeroModelConfig!$O$5","v":883.58},1,{"$f":"[1]升级!$J300/[2]HeroModelConfig!$P$5","v":205.95050000000001},{"$f":"[1]升级!$E300","v":88358.442431476156},{"$f":"[1]升级!$H300","v":1000},30,-1,24831]
[null,300,7,21,10,"234;237;247","真神期","后",10,234,237,247,762300,100001,20,1301,1,"1301;1302;1303","1;1;1","30000;45000",{"$f":"[1]升级!$B301/[2]HeroModelConfig!$M$5","v":1000},{"$f":"[1]升级!$C301/[2]HeroModelConfig!$N$5","v":1000},{"$f":"[1]升级!$D301/[2]HeroModelConfig!$O$5","v":1000},1,{"$f":"[1]升级!$J301/[2]HeroModelConfig!$P$5","v":300},{"$f":"[1]升级!$E301","v":99999.964106189713},{"$f":"[1]升级!$H301","v":1000},30,50,25410]