{"text_format":"2","workbook":"xlsx","n_sheets":1,"sheets":["HeroModelConfig"],"not_rendered":{"charts":0,"images":0,"macros":0,"external_links":1,"defined_names":1,"comments":0,"pivot_tables":0},"unopened":[],"bounds":{"document_bytes":16777216,"sheet_cells":100000,"run_cost":"one","rows_first":2000,"rows_last":500,"rows_between":2000,"halvings":0,"cell_chars":16384,"cell_head_chars":4096},"cells_cut":0,"cells_raw":0,"read":"whole","date_system":"1900"}

{"sheet":"HeroModelConfig","index":0,"n_rows":33,"n_cols":67,"rows_kept":33,"cut":false,"hidden":false,"merged":[]}
["ID","nickName","name",null,"headicon","model","isUseGpu","heroType",{"$nulls":7},"attack","hp","def","shield",null,null,null,"speed_atk","Linggen","skillID","skillActiveLv","fa_bao_id","fabaoActiveLv","heroStory"]
["int","int","int",null,"string","string","bool","int",null,"英雄","小怪","精英","首领",null,null,"int","int","int","int",null,null,null,"float","int[]","int[]","int[]","int[]","int[]","int"]
[{"$nulls":9},1,{"$f":"0.86*0.86","v":0.7396},{"$f":"1.1*1.1","v":1.21},{"$f":"1.2*1.2","v":1.44}]
["modelID","称号","名字","名字预览","头像素材名","模型名称",null,"1. 英雄\n2. 小怪\n3. 精英\n4. BOSS",null,"攻击力\n倍率","护盾/生命比例\n不填=30%","防御力\n倍率","护盾\n倍率","生命值\n倍率",null,"攻击力","生命值","防御力","护盾","总能力","攻击能力","生存能力","攻击速度\nX秒/圈","灵根初值\n金-水-木-火-土","功法序列\n主动≤4\n被动≤3","功法最低出现等级","角色自带的法宝（最多4个）","法宝最低出现等级","英雄故事文本",null,"功法1\n","功法2","功法3","功法4","功法5","功法6","功法7","功法8","功法9","功法10",null,"功法1\n出现等级","功法2\n出现等级","功法3\n出现等级","功法4\n出现等级","功法5\n出现等级","功法6\n出现等级","功法7\n出现等级","功法8\n出现等级","功法9\n出现等级","功法10\n出现等级",null,"法宝1","法宝2","法宝3","法宝4",null,"法宝1\n出现等级","法宝2\n出现等级","法宝3\n出现等级","法宝4\n出现等级",null,"灵根\n金","灵根\n水","灵根\n木","灵根\n火","灵根\n土"]
[101,-1,1,"主角",{"$f":"CONCATENATE(\"icon_tx\",A5)","v":"icon_tx101"},"Nanzhu",0,1,null,1,null,1,{"$f":"((CHOOSE(H5,J$3,K$3,L$3,M$3)^0.5*100/(U5*L5)*1.3)-N5)/0.3","v":1},{"$f":"(100/(U5*L5)*1.3/(1+IF(K5=\"\",0.3,K5)))*CHOOSE(H5,J$3,K$3,L$3,M$3)^0.5","v":1},null,{"$f":"ROUND(J5*[1]升级!$C$3*CHOOSE(H5,J$3,K$3,L$3,M$3)^0.5,0)","v":250},{"$f":"ROUND(N5*[1]升级!$B$3/[1]升级!$D$1*CHOOSE(H5,J$3,K$3,L$3,M$3)^0.5,0)","v":250},{"$f":"ROUND(L5*[1]升级!$D$3,0)","v":100},{"$f":"ROUND(CHOOSE(H5,J$3,K$3,L$3,M$3)^0.5*M5*[1]升级!$B$3/[1]升级!$D$1,0)","v":250},{"$f":"(U5*V5)/100","v":100},{"$f":"J5*100*CHOOSE(H5,J$3,K$3,L$3,M$3)^0.5","v":100},{"$f":"(N5+M5*0.3)/1.3*L5*100*CHOOSE(H5,J$3,K$3,L$3,M$3)^0.5","v":100},0,{"$f":"_xlfn.TEXTJOIN(\";\",1,BK5:BO5)","v":"100;100;100;100;100"},{"$f":"_xlfn.TEXTJOIN(\";\",1,AE5:AN5)","v":"-1;-1;-1;-1;-1;-1;-1;-1;-1;-1"},{"$f":"_xlfn.TEXTJOIN(\";\",1,AP5:AY5)","v":"-1;-1;-1;-1;-1;-1;-1;-1;-1;-1"},{"$f":"_xlfn.TEXTJOIN(\";\",1,BA5:BD5)","v":"-1;-1;-1;-1"},{"$f":"_xlfn.TEXTJOIN(\";\",1,BF5:BI5)","v":"-1;-1;-1;-1"},null,null,-1,-1,-1,-1,-1,-1,-1,-1,-1,-1,null,-1,-1,-1,-1,-1,-1,-1,-1,-1,-1,null,-1,-1,-1,-1,null,-1,-1,-1,-1,null,100,100,100,100,100]
[null,null,null,"小怪"]
[1001,-1,2,"怪1",{"$f":"CONCATENATE(\"icon_tx\",A7)","v":"icon_tx1001"},"Gw_Man",0,2,null,1,null,1,{"$f":"((CHOOSE(H7,J$3,K$3,L$3,M$3)^0.5*100/(U7*L7)*1.3)-N7)/0.3","v":1},{"$f":"(100/(U7*L7)*1.3/(1+IF(K7=\"\",0.3,K7)))*CHOOSE(H7,J$3,K$3,L$3,M$3)^0.5","v":1},null,{"$f":"ROUND(J7*[1]升级!$C$3*CHOOSE(H7,J$3,K$3,L$3,M$3)^0.5,0)","v":215},{"$f":"ROUND(N7*[1]升级!$B$3/[1]升级!$D$1*CHOOSE(H7,J$3,K$3,L$3,M$3)^0.5,0)","v":215},{"$f":"ROUND(L7*[1]升级!$D$3,0)","v":100},{"$f":"ROUND(CHOOSE(H7,J$3,K$3,L$3,M$3)^0.5*M7*[1]升级!$B$3/[1]升级!$D$1,0)","v":215},{"$f":"(U7*V7)/100","v":73.96},{"$f":"J7*100*CHOOSE(H7,J$3,K$3,L$3,M$3)^0.5","v":86},{"$f":"(N7+M7*0.3)/1.3*L7*100*CHOOSE(H7,J$3,K$3,L$3,M$3)^0.5","v":86},0,{"$f":"_xlfn.TEXTJOIN(\";\",1,BK7:BO7)","v":"100;100;100;100;100"},{"$f":"_xlfn.TEXTJOIN(\";\",1,AE7:AN7)","v":"1201;-1;1301;-1;1401;-1;-1;-1;1101;-1"},{"$f":"_xlfn.TEXTJOIN(\";\",1,AP7:AX7)","v":"1;-1;5;-1;20;-1;-1;-1;50"},{"$f":"_xlfn.TEXTJOIN(\";\",1,BA7:BD7)","v":"10010;-1;-1;-1"},{"$f":"_xlfn.TEXTJOIN(\";\",1,BF7:BI7)","v":"1;20;50;80"},null,null,1201,-1,1301,-1,1401,-1,-1,-1,1101,-1,null,1,-1,5,-1,20,-1,-1,-1,50,-1,null,10010,-1,-1,-1,null,1,20,50,80,null,100,100,100,100,100]
[1002,-1,3,"怪2","icon_tx1002","Gw_Man",0,2,null,0.9,null,1,{"$f":"((CHOOSE(H8,J$3,K$3,L$3,M$3)^0.5*100/(U8*L8)*1.3)-N8)/0.3","v":1.11111111111111},{"$f":"(100/(U8*L8)*1.3/(1+IF(K8=\"\",0.3,K8)))*CHOOSE(H8,J$3,K$3,L$3,M$3)^0.5","v":1.11111111111111},null,{"$f":"ROUND(J8*[1]升级!$C$3*CHOOSE(H8,J$3,K$3,L$3,M$3)^0.5,0)","v":194},{"$f":"ROUND(N8*[1]升级!$B$3/[1]升级!$D$1*CHOOSE(H8,J$3,K$3,L$3,M$3)^0.5,0)","v":239},{"$f":"ROUND(L8*[1]升级!$D$3,0)","v":100},{"$f":"ROUND(CHOOSE(H8,J$3,K$3,L$3,M$3)^0.5*M8*[1]升级!$B$3/[1]升级!$D$1,0)","v":239},{"$f":"(U8*V8)/100","v":73.96},{"$f":"J8*100*CHOOSE(H8,J$3,K$3,L$3,M$3)^0.5","v":77.4},{"$f":"(N8+M8*0.3)/1.3*L8*100*CHOOSE(H8,J$3,K$3,L$3,M$3)^0.5","v":95.5555555555555},0,"100;100;100;100;100","1202;-1;1301;-1;1402;-1;-1;-1;1102;-1",{"$f":"_xlfn.TEXTJOIN(\";\",1,AP8:AX8)","v":"1;-1;5;-1;20;-1;-1;-1;50"},"10010;-1;-1;-1","1;20;50;80",null,null,1202,-1,1301,-1,1402,-1,-1,-1,1102,-1,null,1,-1,5,-1,20,-1,-1,-1,50,-1,null,10010,-1,-1,-1,null,1,20,50,80,null,100,100,100,100,100]
[1003,-1,4,"怪3","icon_tx1003","Gw_Woman",0,2,null,1,null,1,1,1,null,{"$f":"ROUND(J9*[1]升级!$C$3*CHOOSE(H9,J$3,K$3,L$3,M$3)^0.5,0)","v":215},{"$f":"ROUND(N9*[1]升级!$B$3/[1]升级!$D$1*CHOOSE(H9,J$3,K$3,L$3,M$3)^0.5,0)","v":215},{"$f":"ROUND(L9*[1]升级!$D$3,0)","v":100},{"$f":"ROUND(CHOOSE(H9,J$3,K$3,L$3,M$3)^0.5*M9*[1]升级!$B$3/[1]升级!$D$1,0)","v":215},73.96,86,86,0,"100;100;100;100;100","1201;-1;1301;-1;1403;-1;-1;-1;1103;-1",{"$f":"_xlfn.TEXTJOIN(\";\",1,AP9:AY9)","v":"1;-1;5;-1;20;-1;-1;-1;50;-1"},"10010;-1;-1;-1","1;20;50;80",null,null,1201,-1,1301,-1,1403,-1,-1,-1,1103,-1,null,1,-1,5,-1,20,-1,-1,-1,50,-1,null,10010,-1,-1,-1,null,1,20,50,80,null,100,100,100,100,100]
[1004,-1,4,"怪3","icon_tx1004","Gw_Woman",0,2,null,1,null,1,1,1,null,{"$f":"ROUND(J10*[1]升级!$C$3*CHOOSE(H10,J$3,K$3,L$3,M$3)^0.5,0)","v":215},{"$f":"ROUND(N10*[1]升级!$B$3/[1]升级!$D$1*CHOOSE(H10,J$3,K$3,L$3,M$3)^0.5,0)","v":215},{"$f":"ROUND(L10*[1]升级!$D$3,0)","v":100},{"$f":"ROUND(CHOOSE(H10,J$3,K$3,L$3,M$3)^0.5*M10*[1]升级!$B$3/[1]升级!$D$1,0)","v":215},73.96,86,86,0,"100;100;100;100;100","1301;-1;1304;-1;1305;-1;-1;1304;-1;-1","1;-1;5;-1;20;-1;-1;50;-1;-1","10010;-1;-1;-1","1;20;50;80",null,null,1301,-1,1304,-1,1305,-1,-1,1304,-1,-1,null,1,-1,5,-1,20,-1,-1,50,-1,-1,null,10010,-1,-1,-1,null,1,20,50,80,null,100,100,100,100,100]
[1005,-1,4,"木灵之子","icon_tx1005","Boss_Tree_xiao",0,2,null,0.4,null,1,2.5,2.5,null,{"$f":"ROUND(J11*[1]升级!$C$3*CHOOSE(H11,J$3,K$3,L$3,M$3)^0.5,0)","v":86},{"$f":"ROUND(N11*[1]升级!$B$3/[1]升级!$D$1*CHOOSE(H11,J$3,K$3,L$3,M$3)^0.5,0)","v":538},{"$f":"ROUND(L11*[1]升级!$D$3,0)","v":100},{"$f":"ROUND(CHOOSE(H11,J$3,K$3,L$3,M$3)^0.5*M11*[1]升级!$B$3/[1]升级!$D$1,0)","v":538},73.96,34.4,215,0,"100;100;100;100;100","9071;-1;-1;-1;9071;-1;-1;-1;9071;-1","1;-1;-1;-1;20;-1;-1;-1;50;-1","-1;-1;-1;-1","1;20;50;80",null,null,9071,-1,-1,-1,9071,-1,-1,-1,9071,-1,null,1,-1,-1,-1,20,-1,-1,-1,50,-1,null,-1,-1,-1,-1,null,1,20,50,80,null,100,100,100,100,100]
[1006,-1,4,"飞鹤","icon_tx1006","gw_xianhe",0,2,null,0.5,null,1,1,3,null,{"$f":"ROUND(J12*[1]升级!$C$3*CHOOSE(H12,J$3,K$3,L$3,M$3)^0.5,0)","v":108},{"$f":"ROUND(N12*[1]升级!$B$3/[1]升级!$D$1*CHOOSE(H12,J$3,K$3,L$3,M$3)^0.5,0)","v":645},{"$f":"ROUND(L12*[1]升级!$D$3,0)","v":100},{"$f":"ROUND(CHOOSE(H12,J$3,K$3,L$3,M$3)^0.5*M12*[1]升级!$B$3/[1]升级!$D$1,0)","v":215},93.8723076923077,43,218.307692307692,0,"100;100;100;100;100","9091;-1;-1;9091;-1;-1;9092;9091;-1;-1","1;-1;-1;5;-1;-1;50;50;-1;-1","-1;-1;-1;-1","1;20;50;80",null,null,9091,-1,-1,9091,-1,-1,9092,9091,-1,-1,null,1,-1,-1,5,-1,-1,50,50,-1,-1,null,-1,-1,-1,-1,null,1,20,50,80,null,100,100,100,100,100]
[1007,-1,4,"灵狐","icon_tx1007","gw_huli",0,2,null,0.5,null,1,2,2,null,{"$f":"ROUND(J13*[1]升级!$C$3*CHOOSE(H13,J$3,K$3,L$3,M$3)^0.5,0)","v":108},{"$f":"ROUND(N13*[1]升级!$B$3/[1]升级!$D$1*CHOOSE(H13,J$3,K$3,L$3,M$3)^0.5,0)","v":430},{"$f":"ROUND(L13*[1]升级!$D$3,0)","v":100},{"$f":"ROUND(CHOOSE(H13,J$3,K$3,L$3,M$3)^0.5*M13*[1]升级!$B$3/[1]升级!$D$1,0)","v":430},73.96,43,172,0,"100;100;100;100;100","9101;-1;-1;9101;-1;9102;-1;9101;-1;-1","1;-1;-1;5;-1;20;-1;50;-1;-1","-1;-1;-1;-1","1;20;50;80",null,null,9101,-1,-1,9101,-1,9102,-1,9101,-1,-1,null,1,-1,-1,5,-1,20,-1,50,-1,-1,null,-1,-1,-1,-1,null,1,20,50,80,null,100,100,100,100,100]
[1008,-1,4,"蜘蛛","icon_tx1008","Gw_zhizhu",0,2,null,1.05,null,1,0.952380952380953,0.952380952380952,null,{"$f":"ROUND(J14*[1]升级!$C$3*CHOOSE(H14,J$3,K$3,L$3,M$3)^0.5,0)","v":226},{"$f":"ROUND(N14*[1]升级!$B$3/[1]升级!$D$1*CHOOSE(H14,J$3,K$3,L$3,M$3)^0.5,0)","v":205},{"$f":"ROUND(L14*[1]升级!$D$3,0)","v":100},{"$f":"ROUND(CHOOSE(H14,J$3,K$3,L$3,M$3)^0.5*M14*[1]升级!$B$3/[1]升级!$D$1,0)","v":205},73.96,90.3,81.9047619047619,0,"100;100;100;100;100","9031;-1;-1;9033;-1;-1;-1;9032;-1;-1","1;-1;-1;5;-1;-1;-1;50;-1;-1","-1;-1;-1;-1","1;20;50;80",null,null,9031,-1,-1,9033,-1,-1,-1,9032,-1,-1,null,1,-1,-1,5,-1,-1,-1,50,-1,-1,null,-1,-1,-1,-1,null,1,20,50,80,null,100,100,100,100,100]
[null,null,null,"5001精英怪"]
[5001,-1,4,"金系怪",{"$f":"CONCATENATE(\"icon_tx\",A16)","v":"icon_tx5001"},"Gw_Man",0,3,null,1.1,null,1,{"$f":"((CHOOSE(H16,J$3,K$3,L$3,M$3)^0.5*100/(U16*L16)*1.3)-N16)/0.3","v":0.909090909090909},{"$f":"(100/(U16*L16)*1.3/(1+IF(K16=\"\",0.3,K16)))*CHOOSE(H16,J$3,K$3,L$3,M$3)^0.5","v":0.909090909090909},null,{"$f":"ROUND(J16*[1]升级!$C$3*CHOOSE(H16,J$3,K$3,L$3,M$3)^0.5,0)","v":303},{"$f":"ROUND(N16*[1]升级!$B$3/[1]升级!$D$1*CHOOSE(H16,J$3,K$3,L$3,M$3)^0.5,0)","v":250},{"$f":"ROUND(L16*[1]升级!$D$3,0)","v":100},{"$f":"ROUND(CHOOSE(H16,J$3,K$3,L$3,M$3)^0.5*M16*[1]升级!$B$3/[1]升级!$D$1,0)","v":250},{"$f":"(U16*V16)/100","v":121},{"$f":"J16*100*CHOOSE(H16,J$3,K$3,L$3,M$3)^0.5","v":121},{"$f":"(N16+M16*0.3)/1.3*L16*100*CHOOSE(H16,J$3,K$3,L$3,M$3)^0.5","v":100},0,{"$f":"_xlfn.TEXTJOIN(\";\",1,BK16:BO16)","v":"100;100;100;100;100"},{"$f":"_xlfn.TEXTJOIN(\";\",1,AE16:AN16)","v":"-1;-1;1105;-1;1104;-1;1101;-1;1103;-1"},{"$f":"_xlfn.TEXTJOIN(\";\",1,AP16:AY16)","v":"-1;-1;1;-1;5;-1;20;-1;50;-1"},{"$f":"_xlfn.TEXTJOIN(\";\",1,BA16:BD16)","v":"10002;10001;-1;-1"},{"$f":"_xlfn.TEXTJOIN(\";\",1,BF16:BI16)","v":"1;20;50;80"},null,null,-1,-1,1105,-1,1104,-1,1101,-1,1103,-1,null,-1,-1,1,-1,5,-1,20,-1,50,-1,null,10002,10001,-1,-1,null,1,20,50,80,null,100,100,100,100,100]
[5002,-1,4,"水系怪","icon_tx5002","Gw_Man",0,3,null,0.9,null,1,{"$f":"((CHOOSE(H17,J$3,K$3,L$3,M$3)^0.5*100/(U17*L17)*1.3)-N17)/0.3","v":1.11111111111111},{"$f":"(100/(U17*L17)*1.3/(1+IF(K17=\"\",0.3,K17)))*CHOOSE(H17,J$3,K$3,L$3,M$3)^0.5","v":1.11111111111111},null,{"$f":"ROUND(J17*[1]升级!$C$3*CHOOSE(H17,J$3,K$3,L$3,M$3)^0.5,0)","v":248},{"$f":"ROUND(N17*[1]升级!$B$3/[1]升级!$D$1*CHOOSE(H17,J$3,K$3,L$3,M$3)^0.5,0)","v":306},{"$f":"ROUND(L17*[1]升级!$D$3,0)","v":100},{"$f":"ROUND(CHOOSE(H17,J$3,K$3,L$3,M$3)^0.5*M17*[1]升级!$B$3/[1]升级!$D$1,0)","v":306},{"$f":"(U17*V17)/100","v":121},{"$f":"J17*100*CHOOSE(H17,J$3,K$3,L$3,M$3)^0.5","v":99},{"$f":"(N17+M17*0.3)/1.3*L17*100*CHOOSE(H17,J$3,K$3,L$3,M$3)^0.5","v":122.222222222222},0,"100;100;100;100;100","1201;-1;-1;-1;1205;-1;1204;-1;1202;-1","1;-1;-1;-1;5;-1;20;-1;50;-1","10002;10005;-1;-1","1;20;50;80",null,null,1201,-1,-1,-1,1205,-1,1204,-1,1202,-1,null,1,-1,-1,-1,5,-1,20,-1,50,-1,null,10002,10005,-1,-1,null,1,20,50,80,null,100,100,100,100,100]
[5003,-1,4,"木系怪","icon_tx5003","Gw_Woman",0,3,null,1,null,1,1,1,null,{"$f":"ROUND(J18*[1]升级!$C$3*CHOOSE(H18,J$3,K$3,L$3,M$3)^0.5,0)","v":275},{"$f":"ROUND(N18*[1]升级!$B$3/[1]升级!$D$1*CHOOSE(H18,J$3,K$3,L$3,M$3)^0.5,0)","v":275},{"$f":"ROUND(L18*[1]升级!$D$3,0)","v":100},{"$f":"ROUND(CHOOSE(H18,J$3,K$3,L$3,M$3)^0.5*M18*[1]升级!$B$3/[1]升级!$D$1,0)","v":275},121,110,110,0,"100;100;100;100;100","-1;1301;-1;-1;1305;-1;1304;-1;-1;1302","-1;1;-1;-1;5;-1;20;-1;1;50","10010;10007;-1;-1","1;20;50;80",null,null,-1,1301,-1,-1,1305,-1,1304,-1,-1,1302,null,-1,1,-1,-1,5,-1,20,-1,1,50,null,10010,10007,-1,-1,null,1,20,50,80,null,100,100,100,100,100]
[5004,-1,4,"火系怪","icon_tx5004","Gw_Woman",0,3,null,1.2,null,1,0.833333333333334,0.833333333333333,null,{"$f":"ROUND(J19*[1]升级!$C$3*CHOOSE(H19,J$3,K$3,L$3,M$3)^0.5,0)","v":330},{"$f":"ROUND(N19*[1]升级!$B$3/[1]升级!$D$1*CHOOSE(H19,J$3,K$3,L$3,M$3)^0.5,0)","v":229},{"$f":"ROUND(L19*[1]升级!$D$3,0)","v":100},{"$f":"ROUND(CHOOSE(H19,J$3,K$3,L$3,M$3)^0.5*M19*[1]升级!$B$3/[1]升级!$D$1,0)","v":229},121,132,91.6666666666667,0,"100;100;100;100;100","-1;1404;-1;1401;-1;-1;-1;1402;-1;1403","-1;1;-1;5;-1;-1;-1;20;1;50","10002;10010;-1;-1","1;20;50;80",null,null,-1,1404,-1,1401,-1,-1,-1,1402,-1,1403,null,-1,1,-1,5,-1,-1,-1,20,1,50,null,10002,10010,-1,-1,null,1,20,50,80,null,100,100,100,100,100]
[5005,-1,4,"土系怪","icon_tx5005","Gw_Man",0,3,null,0.8,null,1,1.25,1.25,null,{"$f":"ROUND(J20*[1]升级!$C$3*CHOOSE(H20,J$3,K$3,L$3,M$3)^0.5,0)","v":220},{"$f":"ROUND(N20*[1]升级!$B$3/[1]升级!$D$1*CHOOSE(H20,J$3,K$3,L$3,M$3)^0.5,0)","v":344},{"$f":"ROUND(L20*[1]升级!$D$3,0)","v":100},{"$f":"ROUND(CHOOSE(H20,J$3,K$3,L$3,M$3)^0.5*M20*[1]升级!$B$3/[1]升级!$D$1,0)","v":344},121,88,137.5,0,"100;100;100;100;100","-1;1501;-1;1502;-1;-1;-1;1504;-1;1505","-1;1;-1;5;-1;-1;-1;20;1;50","10010;10001;-1;-1","1;20;50;80",null,null,-1,1501,-1,1502,-1,-1,-1,1504,-1,1505,null,-1,1,-1,5,-1,-1,-1,20,1,50,null,10010,10001,-1,-1,null,1,20,50,80,null,100,100,100,100,100]
[5006,-1,4,"鼠先锋 ","icon_tx5006","Boss_ShuGuai",0,3,null,1.15,null,1,0.869565217391305,0.869565217391304,null,{"$f":"ROUND(J21*[1]升级!$C$3*CHOOSE(H21,J$3,K$3,L$3,M$3)^0.5,0)","v":316},{"$f":"ROUND(N21*[1]升级!$B$3/[1]升级!$D$1*CHOOSE(H21,J$3,K$3,L$3,M$3)^0.5,0)","v":239},{"$f":"ROUND(L21*[1]升级!$D$3,0)","v":100},{"$f":"ROUND(CHOOSE(H21,J$3,K$3,L$3,M$3)^0.5*M21*[1]升级!$B$3/[1]升级!$D$1,0)","v":239},121,126.5,95.6521739130435,0,"100;100;100;100;100","-1;9041;-1;9042;-1;-1;9043;-1;-1;9044","-1;1;-1;5;-1;-1;20;-1;1;50","-1;-1;-1;-1","1;20;50;80",null,null,-1,9041,-1,9042,-1,-1,9043,-1,-1,9044,null,-1,1,-1,5,-1,-1,20,-1,1,50,null,-1,-1,-1,-1,null,1,20,50,80,null,100,100,100,100,100]
[5007,-1,4,"穷奇","icon_tx5007","Boss_QiongQi",0,3,null,1.05,null,1,0.952380952380953,0.952380952380952,null,{"$f":"ROUND(J22*[1]升级!$C$3*CHOOSE(H22,J$3,K$3,L$3,M$3)^0.5,0)","v":289},{"$f":"ROUND(N22*[1]升级!$B$3/[1]升级!$D$1*CHOOSE(H22,J$3,K$3,L$3,M$3)^0.5,0)","v":262},{"$f":"ROUND(L22*[1]升级!$D$3,0)","v":100},{"$f":"ROUND(CHOOSE(H22,J$3,K$3,L$3,M$3)^0.5*M22*[1]升级!$B$3/[1]升级!$D$1,0)","v":262},121,115.5,104.761904761905,0,"100;100;100;100;100","-1;9051;-1;9052;-1;-1;9053;-1;-1;9054","-1;1;-1;5;-1;-1;20;-1;1;50","-1;-1;-1;-1","1;20;50;80",null,null,-1,9051,-1,9052,-1,-1,9053,-1,-1,9054,null,-1,1,-1,5,-1,-1,20,-1,1,50,null,-1,-1,-1,-1,null,1,20,50,80,null,100,100,100,100,100]
[null,null,null,"boss怪"]
[9001,-1,5,"boss",{"$f":"CONCATENATE(\"icon_tx\",A24)","v":"icon_tx9001"},"Boss01",0,4,null,0.9,null,1,{"$f":"((CHOOSE(H24,J$3,K$3,L$3,M$3)^0.5*100/(U24*L24)*1.3)-N24)/0.3","v":0.814814814814816},1.2,null,{"$f":"ROUND(J24*[1]升级!$C$3*CHOOSE(H24,J$3,K$3,L$3,M$3)^0.5,0)","v":270},{"$f":"ROUND(N24*[1]升级!$B$3/[1]升级!$D$1*CHOOSE(H24,J$3,K$3,L$3,M$3)^0.5,0)","v":360},{"$f":"ROUND(L24*[1]升级!$D$3,0)","v":100},{"$f":"ROUND(CHOOSE(H24,J$3,K$3,L$3,M$3)^0.5*M24*[1]升级!$B$3/[1]升级!$D$1,0)","v":244},{"$f":"(U24*V24)/100","v":144},{"$f":"J24*100*CHOOSE(H24,J$3,K$3,L$3,M$3)^0.5","v":108},{"$f":"(N24+M24*0.3)/1.3*L24*100*CHOOSE(H24,J$3,K$3,L$3,M$3)^0.5","v":133.333333333333},0,{"$f":"_xlfn.TEXTJOIN(\";\",1,BK24:BO24)","v":"100;100;100;100;100"},{"$f":"_xlfn.TEXTJOIN(\";\",1,AE24:AN24)","v":"9003;-1;9005;-1;9005;-1;9004;-1;9001;9002"},{"$f":"_xlfn.TEXTJOIN(\";\",1,AP24:AY24)","v":"1;1;1;-1;-1;-1;-1;-1;1;1"},{"$f":"_xlfn.TEXTJOIN(\";\",1,BA24:BD24)","v":"10001;-1;10006;-1"},{"$f":"_xlfn.TEXTJOIN(\";\",1,BF24:BI24)","v":"30;-1;1;-1"},null,null,9003,-1,9005,-1,9005,-1,9004,-1,9001,9002,null,1,1,1,-1,-1,-1,-1,-1,1,1,null,10001,-1,10006,-1,null,30,-1,1,-1,null,100,100,100,100,100]
[9002,-1,5,"凤凰","icon_tx9002","Boss_fenghuang",0,4,null,0.35,null,1,0.5,0.8,null,{"$f":"ROUND(J25*[1]升级!$C$3*CHOOSE(H25,J$3,K$3,L$3,M$3)^0.5,0)","v":105},{"$f":"ROUND(N25*[1]升级!$B$3/[1]升级!$D$1*CHOOSE(H25,J$3,K$3,L$3,M$3)^0.5,0)","v":240},{"$f":"ROUND(L25*[1]升级!$D$3,0)","v":100},{"$f":"ROUND(CHOOSE(H25,J$3,K$3,L$3,M$3)^0.5*M25*[1]升级!$B$3/[1]升级!$D$1,0)","v":150},{"$f":"(U25*V25)/100","v":36.8307692307692},{"$f":"J25*100*CHOOSE(H25,J$3,K$3,L$3,M$3)^0.5","v":42},{"$f":"(N25+M25*0.3)/1.3*L25*100*CHOOSE(H25,J$3,K$3,L$3,M$3)^0.5","v":87.6923076923077},2,"100;100;100;100;100","9011;-1;9013;9014;-1;9012;-1;-1;9015;9015","1;1;1;-1;-1;-1;-1;-1;1;1","-1;-1;-1;-1","1;-1;1;-1",null,null,9011,-1,9013,9014,-1,9012,-1,-1,9015,9015,null,1,1,1,-1,-1,-1,-1,-1,1,1,null,-1,-1,-1,-1,null,1,-1,1,-1,null,100,100,100,100,100]
[9003,-1,5,"北海神龟","icon_tx9003","Boss_BeiHaiGui",0,4,null,0.5,null,2,0.9,0.9,null,{"$f":"ROUND(J26*[1]升级!$C$3*CHOOSE(H26,J$3,K$3,L$3,M$3)^0.5,0)","v":150},{"$f":"ROUND(N26*[1]升级!$B$3/[1]升级!$D$1*CHOOSE(H26,J$3,K$3,L$3,M$3)^0.5,0)","v":270},{"$f":"ROUND(L26*[1]升级!$D$3,0)","v":200},{"$f":"ROUND(CHOOSE(H26,J$3,K$3,L$3,M$3)^0.5*M26*[1]升级!$B$3/[1]升级!$D$1,0)","v":270},129.6,60,216,0,"100;100;100;100;100","9021;-1;-1;9022;9023;-1;-1;-1;9024;9023","1;1;1;-1;-1;-1;-1;-1;1;1","-1;-1;-1;-1","1;-1;1;-1",null,null,9021,-1,-1,9022,9023,-1,-1,-1,9024,9023,null,1,1,1,-1,-1,-1,-1,-1,1,1,null,-1,-1,-1,-1,null,1,-1,1,-1,null,100,100,100,100,100]
[9004,-1,5,"樗木之灵","icon_tx9004","Boss_Tree",0,4,null,0.7,null,1,0.9,0.9,null,{"$f":"ROUND(J27*[1]升级!$C$3*CHOOSE(H27,J$3,K$3,L$3,M$3)^0.5,0)","v":210},{"$f":"ROUND(N27*[1]升级!$B$3/[1]升级!$D$1*CHOOSE(H27,J$3,K$3,L$3,M$3)^0.5,0)","v":270},{"$f":"ROUND(L27*[1]升级!$D$3,0)","v":100},{"$f":"ROUND(CHOOSE(H27,J$3,K$3,L$3,M$3)^0.5*M27*[1]升级!$B$3/[1]升级!$D$1,0)","v":270},90.72,84,108,0,"100;100;100;100;100","-1;9061;9063;9064;9062;9063;-1;-1;-1;9063","1;1;1;-1;-1;-1;-1;-1;1;1","-1;-1;-1;-1","1;-1;1;-1",null,null,-1,9061,9063,9064,9062,9063,-1,-1,-1,9063,null,1,1,1,-1,-1,-1,-1,-1,1,1,null,-1,-1,-1,-1,null,1,-1,1,-1,null,100,100,100,100,100]
[9005,-1,5,"心魔","icon_tx9005","Boss_fenghuang",0,4,null,0.9,null,1,{"$f":"((CHOOSE(H28,J$3,K$3,L$3,M$3)^0.5*100/(U28*L28)*1.3)-N28)/0.3","v":1.11111111111111},{"$f":"(100/(U28*L28)*1.3/(1+IF(K28=\"\",0.3,K28)))*CHOOSE(H28,J$3,K$3,L$3,M$3)^0.5","v":1.11111111111111},null,{"$f":"ROUND(J28*[1]升级!$C$3*CHOOSE(H28,J$3,K$3,L$3,M$3)^0.5,0)","v":270},{"$f":"ROUND(N28*[1]升级!$B$3/[1]升级!$D$1*CHOOSE(H28,J$3,K$3,L$3,M$3)^0.5,0)","v":333},{"$f":"ROUND(L28*[1]升级!$D$3,0)","v":100},{"$f":"ROUND(CHOOSE(H28,J$3,K$3,L$3,M$3)^0.5*M28*[1]升级!$B$3/[1]升级!$D$1,0)","v":333},144,108,133.333333333333,0,"100;100;100;100;100","-1;9061;-1;9064;9062;9063;-1;-1;-1;9063","1;1;1;-1;-1;-1;-1;-1;1;1","-1;-1;-1;-1","1;-1;1;-1",null,null,-1,9061,-1,9064,9062,9063,-1,-1,-1,9063,null,1,1,1,-1,-1,-1,-1,-1,1,1,null,-1,-1,-1,-1,null,1,-1,1,-1,null,100,100,100,100,100]
[9006,-1,5,"仙山飞鸟","icon_tx9006","Boss_fenghuang",0,4,null,0.9,null,1,1.11111111111111,1.11111111111111,null,{"$f":"ROUND(J29*[1]升级!$C$3*CHOOSE(H29,J$3,K$3,L$3,M$3)^0.5,0)","v":270},{"$f":"ROUND(N29*[1]升级!$B$3/[1]升级!$D$1*CHOOSE(H29,J$3,K$3,L$3,M$3)^0.5,0)","v":333},{"$f":"ROUND(L29*[1]升级!$D$3,0)","v":100},{"$f":"ROUND(CHOOSE(H29,J$3,K$3,L$3,M$3)^0.5*M29*[1]升级!$B$3/[1]升级!$D$1,0)","v":333},144,108,133.333333333333,0,"100;100;100;100;100","-1;9081;-1;9082;9084;9083;-1;9085;-1;9084","1;1;1;-1;-1;-1;-1;-1;1;1","-1;-1;-1;-1","1;-1;1;-1",null,null,-1,9081,-1,9082,9084,9083,-1,9085,-1,9084,null,1,1,1,-1,-1,-1,-1,-1,1,1,null,-1,-1,-1,-1,null,1,-1,1,-1,null,100,100,100,100,100]
[{"$nulls":30},-1,-1,-1,-1,-1,-1,-1,-1,-1,-1,null,-1,-1,-1,-1,-1,-1,-1,-1,-1,-1,null,-1,-1,-1,-1,null,-1,-1,-1,-1]
[{"$nulls":30},-1,-1,-1,-1,-1,-1,-1,-1,-1,-1,null,-1,-1,-1,-1,-1,-1,-1,-1,-1,-1,null,-1,-1,-1,-1,null,-1,-1,-1,-1]
[{"$nulls":30},-1,-1,-1,-1,-1,-1,-1,-1,-1,-1,null,-1,-1,-1,-1,-1,-1,-1,-1,-1,-1,null,-1,-1,-1,-1,null,-1,-1,-1,-1]
[{"$nulls":30},-1,-1,-1,-1,-1,-1,-1,-1,-1,-1,null,-1,-1,-1,-1,-1,-1,-1,-1,-1,-1,null,-1,-1,-1,-1,null,-1,-1,-1,-1]