{"text_format":"2","workbook":"xlsx","n_sheets":4,"sheets":["SkillConfig","SkillPowerupConfig","SkillConstant","技能设计"],"not_rendered":{"charts":0,"images":0,"macros":0,"external_links":1,"defined_names":1,"comments":0,"pivot_tables":0},"unopened":[],"bounds":{"document_bytes":16777216,"sheet_cells":100000,"run_cost":"one","rows_first":2000,"rows_last":500,"rows_between":2000,"halvings":0,"cell_chars":16384,"cell_head_chars":4096},"cells_cut":0,"cells_raw":0,"read":"whole","date_system":"1900"}

{"sheet":"SkillConfig","index":0,"n_rows":630,"n_cols":48,"rows_kept":630,"cut":false,"hidden":false,"merged":[]}
["ID","PieceID","power","name","dec",null,null,"attribute","icon","scriptName","IDGroup","timelineName","cd","addcd","SkillType","level","effectValue","intensifierIndex","addPropertyType","addPropertyValue","PromoteLan","PromoteLanPara","PromoteLanPara"]
["int","int","float","int","int",null,null,"int","string","string","int","string","float","float","int","int","float[]","int[]","int[]","float[]","int","float[]","float[]"]
[{"$nulls":40},{"$f":"SUMIFS(AO5:AO10095,$A5:$A10095,\"<>\"&\"\",$P5:$P10095,6)","v":174},{"$f":"SUMIFS(AP5:AP10095,$A5:$A10095,\"<>\"&\"\",$P5:$P10095,6)","v":308},166,10,10,20,20,10]
["技能ID\nIDGroup+技能等级","对应的碎片ID","功法强度\n基于标准强度的百分比\n50=50%","名称语言表ID","描述语言表ID","技能名称","技能效果","技能属性\n1=金\n2=水\n4=木\n8=火\n16=土","图标","脚本名称","技能组","技能的timeline表现，没得就不填，这个可以程序填","功法：多少圈释放1次\n法宝：CD多少秒","功法上阵后，大道增加的CD\n大道的默认CD","技能类型:\n1=主动功法\n2=被动功法\n3=法宝技能\n4=大道\n","星级","效果值","允许被加强的效果下表","属性ID表内对应\n101=生命百分比\n102=攻击百分比\n103=防御百分比\n106~110=金木水火土灵根\n","具体效果值","升星简短描述","升星简短描述参数","哪边的法宝被影响\n0=无\n1=前方\n-1=后方","数值1","数值2","数值3","数值4","数值5","数值6","数值7","升星描述",null,null,"总威力","段数","单段伤害","buff占比","额外占比","恢复能力",null,101,102,103,106,107,108,109,110]
[null,"英雄-主动功法区域"]
[{"$f":"K6*10+P6-1","v":11010},13001,100,316,739,"太虚幻剑经","身体周围幻化出{0}柄细剑，每柄细剑对敌人造成{1}%伤害，并有{2}几率对敌人造成1层流血。",1,{"$f":"CONCATENATE(\"icon_s\",K6)","v":"icon_s1101"},{"$f":"CONCATENATE(\"S\",K6)","v":"S1101"},1101,"1101_timeline_TD",1,1,1,1,{"$f":"_xlfn.TEXTJOIN(\";\",1,X6:AD6)","v":"6;40;20"},2,{"$f":"_xlfn.TEXTJOIN(\";\",1,IF(AO6=\"\",\"\",101),IF(AP6=\"\",\"\",102),IF(AQ6=\"\",\"\",103),IF(AR6=\"\",\"\",106),IF(AS6=\"\",\"\",107),IF(AT6=\"\",\"\",108),IF(AU6=\"\",\"\",109),IF(AV6=\"\",\"\",110))","v":""},{"$f":"_xlfn.TEXTJOIN(\";\",1,AO6:AV6)","v":""},-1,null,null,6,40,20,{"$nulls":5},{"$f":"IF(F6=\"\",\"\",CONCATENATE(F6,\"·\",CHOOSE(P6,\"壹\",\"贰\",\"叁\",\"肆\",\"伍\",\"陆\")))","v":"太虚幻剑经·壹"},null,{"$f":"IF(A6=\"\",\"\",AI6*AJ6/(1-AK6-AL6))","v":300},{"$f":"X6","v":6},{"$f":"Y6","v":40},0.2]
[{"$f":"K7*10+P7-1","v":11011},13001,150,317,740,"太虚幻剑经","身体周围幻化出{0}柄细剑，每柄细剑对敌人造成{1}%伤害，并有{2}几率对敌人造成1层流血。",1,"icon_s1101",{"$f":"CONCATENATE(\"S\",K7)","v":"S1101"},1101,"1101_timeline_TD",1,1,1,2,{"$f":"_xlfn.TEXTJOIN(\";\",1,X7:AD7)","v":"8;40;20"},2,{"$f":"_xlfn.TEXTJOIN(\";\",1,IF(AO7=\"\",\"\",101),IF(AP7=\"\",\"\",102),IF(AQ7=\"\",\"\",103),IF(AR7=\"\",\"\",106),IF(AS7=\"\",\"\",107),IF(AT7=\"\",\"\",108),IF(AU7=\"\",\"\",109),IF(AV7=\"\",\"\",110))","v":""},{"$f":"_xlfn.TEXTJOIN(\";\",1,AO7:AV7)","v":""},1100,2,null,8,40,20,{"$nulls":4},{"$f":"CONCATENATE(\"飞剑数量+\",V7)","v":"飞剑数量+2"},{"$f":"IF(F7=\"\",\"\",CONCATENATE(F7,\"·\",CHOOSE(P7,\"壹\",\"贰\",\"叁\",\"肆\",\"伍\",\"陆\")))","v":"太虚幻剑经·贰"},null,{"$f":"IF(A7=\"\",\"\",AI7*AJ7/(1-AK7-AL7))","v":400},{"$f":"X7","v":8},{"$f":"Y7","v":40},0.2]
[11012,13001,225,318,741,"太虚幻剑经","身体周围幻化出{0}柄细剑，每柄细剑对敌人造成{1}%伤害，并有{2}几率对敌人造成1层流血。",1,"icon_s1101","S1101",1101,"1101_timeline_TD",1,1,1,3,"8;40;20",2,"101","10",1101,10,null,8,40,20,{"$nulls":4},{"$f":"CONCATENATE(CHOOSE(S8-100,\"生命\",\"攻击\",\"防御\"),\"+\",V8,\"%\")","v":"生命+10%"},"太虚幻剑经·叁",null,400,8,40,0.2,null,null,null,10]
[11013,13001,337.5,319,742,"太虚幻剑经","身体周围幻化出{0}柄细剑，每柄细剑对敌人造成{1}%伤害，并有{2}几率对敌人造成1层流血。\n如果敌人有减益状态，则虚剑伤害提升{3}%。",1,"icon_s1101","S1101",1101,"1101_timeline_TD",1,1,1,4,"9;40;20;20",2,"101","10",1102,1,null,9,40,20,20,null,null,null,{"$f":"CONCATENATE(\"飞剑数量+\",V9,\"，对带减益的敌人增伤\")","v":"飞剑数量+1，对带减益的敌人增伤"},"太虚幻剑经·肆",null,500,9,40,0.28,null,null,null,10]
[11014,13001,506.25,320,743,"太虚幻剑经","身体周围幻化出{0}柄细剑，每柄细剑对敌人造成{1}%伤害，并有{2}几率对敌人造成1层流血。\n如果敌人有减益状态，则虚剑伤害提升{3}%。",1,"icon_s1101","S1101",1101,"1101_timeline_TD",1,1,1,5,"9;40;20;20",2,"101","20",1103,10,null,9,40,20,20,null,null,null,{"$f":"CONCATENATE(CHOOSE(S10-100,\"生命\",\"攻击\",\"防御\"),\"+\",V10,\"%\")","v":"生命+10%"},"太虚幻剑经·伍",null,500,9,40,0.28,null,null,null,20]
[11015,13001,759.375,321,744,"太虚幻剑经","身体周围幻化出{0}柄更大体型的虚剑，每柄虚剑对敌人造成{1}%伤害，并有{2}几率对敌人造成1层流血。\n如果敌人有减益状态，则虚剑伤害提升{3}%。",1,"icon_s1101","S1101",1101,"1101_timeline_TD",1,1,1,6,"9;48;20;20",2,"101","20",1104,null,null,9,48,20,20,null,null,null,"发射伤害更高的幻剑","太虚幻剑经·陆",null,600,9,48,0.28,null,null,null,20]
[{"$nulls":13},1,{"$nulls":17},"",null,""]
[{"$f":"K13*10+P13-1","v":11020},{"$f":"B6+1","v":13002},100,322,745,"天罡剑气诀","吸收自身灵气凝聚{0}柄大剑，大剑旋转快速穿透敌人对敌人照成{1}%伤害",1,{"$f":"CONCATENATE(\"icon_s\",K13)","v":"icon_s1102"},{"$f":"CONCATENATE(\"S\",K13)","v":"S1102"},{"$f":"K6+1","v":1102},"1102_timeline_TD",1,1,1,1,{"$f":"_xlfn.TEXTJOIN(\";\",1,X13:AD13)","v":"6;50"},2,{"$f":"_xlfn.TEXTJOIN(\";\",1,IF(AO13=\"\",\"\",101),IF(AP13=\"\",\"\",102),IF(AQ13=\"\",\"\",103),IF(AR13=\"\",\"\",106),IF(AS13=\"\",\"\",107),IF(AT13=\"\",\"\",108),IF(AU13=\"\",\"\",109),IF(AV13=\"\",\"\",110))","v":""},{"$f":"_xlfn.TEXTJOIN(\";\",1,AO13:AV13)","v":""},-1,null,null,6,50,{"$nulls":6},"天罡剑气诀·壹",null,300,{"$f":"X13","v":6},{"$f":"Y13","v":50}]
[{"$f":"K14*10+P14-1","v":11021},{"$f":"B7+1","v":13002},150,323,746,"天罡剑气诀","吸收自身灵气凝聚{0}柄大剑，大剑旋转快速穿透敌人对敌人照成{1}%伤害\n敌人如果在流血或放血状态，对敌人造成的伤害+{2}%",1,{"$f":"CONCATENATE(\"icon_s\",K14)","v":"icon_s1102"},{"$f":"CONCATENATE(\"S\",K14)","v":"S1102"},{"$f":"K7+1","v":1102},"1102_timeline_TD",1,1,1,2,{"$f":"_xlfn.TEXTJOIN(\";\",1,X14:AD14)","v":"6;50;25"},2,{"$f":"_xlfn.TEXTJOIN(\";\",1,IF(AO14=\"\",\"\",101),IF(AP14=\"\",\"\",102),IF(AQ14=\"\",\"\",103),IF(AR14=\"\",\"\",106),IF(AS14=\"\",\"\",107),IF(AT14=\"\",\"\",108),IF(AU14=\"\",\"\",109),IF(AV14=\"\",\"\",110))","v":""},{"$f":"_xlfn.TEXTJOIN(\";\",1,AO14:AV14)","v":""},1105,2,null,6,50,25,{"$nulls":4},"对流血或放血敌人增伤","天罡剑气诀·贰",null,400,{"$f":"X14","v":6},{"$f":"Y14","v":50},{"$f":"Z14/100","v":0.25}]
[11022,13002,225,324,747,"天罡剑气诀","吸收自身灵气凝聚{0}柄大剑，大剑旋转快速穿透敌人对敌人照成{1}%伤害\n敌人如果在流血或放血状态，对敌人造成的伤害+{2}%",1,"icon_s1102","S1102",1102,"1102_timeline_TD",1,1,1,3,"6;50;25",2,"102","10",1106,10,null,6,50,25,{"$nulls":4},{"$f":"CONCATENATE(CHOOSE(S15-100,\"生命\",\"攻击\",\"防御\"),\"+\",V15,\"%\")","v":"攻击+10%"},"天罡剑气诀·叁",null,400,6,{"$f":"Y15","v":50},{"$f":"Z15/100","v":0.25},{"$nulls":4},10]
[11023,13002,337.5,325,748,"天罡剑气诀","吸收自身灵气凝聚{0}柄大剑，大剑旋转快速穿透敌人对敌人照成{1}%伤害\n敌人如果在流血或放血状态，对敌人造成的伤害+{2}%\n重伤敌人后，如果目标没在放血状态，直接放血且不消耗流血层数",1,"icon_s1102","S1102",1102,"1102_timeline_TD",1,1,1,4,"6;50;25",2,"102","10",1107,1,null,6,50,25,{"$nulls":4},"无条件放血","天罡剑气诀·肆",null,400,6,50,{"$f":"Z16/100","v":0.25},{"$nulls":4},10]
[11024,13002,506.25,326,749,"天罡剑气诀","吸收自身灵气凝聚{0}柄大剑，大剑旋转快速穿透敌人对敌人照成{1}%伤害\n敌人如果在流血或放血状态，对敌人造成的伤害+{2}%\n重伤敌人后，如果目标没在放血状态，直接放血且不消耗流血层数",1,"icon_s1102","S1102",1102,"1102_timeline_TD",1,1,1,5,"6;50;25",2,"102","20",1108,10,null,6,50,25,{"$nulls":4},{"$f":"CONCATENATE(CHOOSE(S17-100,\"生命\",\"攻击\",\"防御\"),\"+\",V17,\"%\")","v":"攻击+10%"},"天罡剑气诀·伍",null,400,6,50,{"$f":"Z17/100","v":0.25},{"$nulls":4},20]
[11025,13002,759.375,327,750,"天罡剑气诀","吸收自身灵气凝聚{0}柄大剑，大剑旋转快速穿透敌人对敌人照成{1}%伤害\n敌人如果在流血或放血状态，对敌人造成的伤害+{2}%\n重伤敌人后，如果目标没在放血状态，直接放血且不消耗流血层数\n全盛状态，剑的体型变大，对拼强度+{3}%，伤害提升{4}%",1,"icon_s1102","S1102",1102,"1102_timeline_TD",1,1,1,6,"6;50;25;100;30",2,"102","20",1109,null,null,6,50,25,100,30,null,null,"对拼强度和伤害提升","天罡剑气诀·陆",null,666.666666666667,6,50,{"$f":"(Z18+AB18)/100","v":0.55},{"$nulls":4},20]
[{"$nulls":13},1,{"$nulls":17},"",null,"",null,null,null," "]
[{"$f":"K20*10+P20-1","v":11030},{"$f":"B13+1","v":13003},100,328,751,"血刃金煌功","向前方挥动{0}次，每次挥动形成一道血刃刀气，对敌人{1}造成伤害，并有{2}%概率对敌人造成流血。",1,{"$f":"CONCATENATE(\"icon_s\",K20)","v":"icon_s1103"},{"$f":"CONCATENATE(\"S\",K20)","v":"S1103"},{"$f":"K13+1","v":1103},"1103_timeline_TD",1,1,1,1,{"$f":"_xlfn.TEXTJOIN(\";\",1,X20:AD20)","v":"6;40;20"},2,{"$f":"_xlfn.TEXTJOIN(\";\",1,IF(AO20=\"\",\"\",101),IF(AP20=\"\",\"\",102),IF(AQ20=\"\",\"\",103),IF(AR20=\"\",\"\",106),IF(AS20=\"\",\"\",107),IF(AT20=\"\",\"\",108),IF(AU20=\"\",\"\",109),IF(AV20=\"\",\"\",110))","v":""},{"$f":"_xlfn.TEXTJOIN(\";\",1,AO20:AV20)","v":""},-1,null,null,6,40,20,{"$nulls":5},"血刃金煌功·壹",null,300,{"$f":"X20","v":6},{"$f":"Y20","v":40},0.2]
[{"$f":"K21*10+P21-1","v":11031},{"$f":"B14+1","v":13003},150,329,752,"血刃金煌功","向前方挥动{0}次，每次挥动形成一道血刃刀气，对敌人{1}造成伤害，并有{2}%概率对敌人造成流血。\n刀气命中目标后，恢复本次伤害{3}%的生命。",1,"icon_s1103",{"$f":"CONCATENATE(\"S\",K21)","v":"S1103"},{"$f":"K14+1","v":1103},"1103_timeline_TD",1,1,1,2,{"$f":"_xlfn.TEXTJOIN(\";\",1,X21:AD21)","v":"6;40;20;25"},2,{"$f":"_xlfn.TEXTJOIN(\";\",1,IF(AO21=\"\",\"\",101),IF(AP21=\"\",\"\",102),IF(AQ21=\"\",\"\",103),IF(AR21=\"\",\"\",106),IF(AS21=\"\",\"\",107),IF(AT21=\"\",\"\",108),IF(AU21=\"\",\"\",109),IF(AV21=\"\",\"\",110))","v":""},{"$f":"_xlfn.TEXTJOIN(\";\",1,AO21:AV21)","v":""},1110,null,null,6,40,20,25,null,null,null,"刀气命中回血","血刃金煌功·贰",null,400,{"$f":"X21","v":6},{"$f":"Y21","v":40},0.4,null,{"$f":"AA21/100","v":0.25}]
[11032,13003,225,330,753,"血刃金煌功","向前方挥动{0}次，每次挥动形成一道血刃刀气，对敌人{1}造成伤害，并有{2}%概率对敌人造成流血。\n刀气命中目标后，恢复本次伤害{3}%的生命。",1,"icon_s1103","S1103",1103,"1103_timeline_TD",1,1,1,3,"6;40;20;25",2,"103","10",1111,10,null,6,40,20,25,null,null,null,{"$f":"CONCATENATE(CHOOSE(S22-100,\"生命\",\"攻击\",\"防御\"),\"+\",V22,\"%\")","v":"防御+10%"},"血刃金煌功·叁",null,400,6,40,0.4,null,{"$f":"AA22/100","v":0.25},null,null,null,10]
[11033,13003,337.5,331,754,"血刃金煌功","向前方挥动{0}次，每次挥动形成一道血刃刀气，对敌人{1}造成伤害，并有{2}%概率对敌人造成流血。\n刀气命中目标后，恢复本次伤害{3}%的生命。",1,"icon_s1103","S1103",1103,"1103_timeline_TD",1,1,1,4,"8;40;20;25",2,"103","10",1112,2,null,8,40,20,25,null,null,null,{"$f":"CONCATENATE(\"刀气+\",V23)","v":"刀气+2"},"血刃金煌功·肆",null,500,8,40,0.36,null,{"$f":"AA23/100","v":0.25},null,null,null,10]
[11034,13003,506.25,332,755,"血刃金煌功","向前方挥动{0}次，每次挥动形成一道血刃刀气，对敌人{1}造成伤害，并有{2}%概率对敌人造成流血。\n刀气命中目标后，恢复本次伤害{3}%的生命。",1,"icon_s1103","S1103",1103,"1103_timeline_TD",1,1,1,5,"8;40;20;25",2,"103","20",1113,10,null,8,40,20,25,null,null,null,{"$f":"CONCATENATE(CHOOSE(S24-100,\"生命\",\"攻击\",\"防御\"),\"+\",V24,\"%\")","v":"防御+10%"},"血刃金煌功·伍",null,500,8,40,0.36,null,{"$f":"AA24/100","v":0.25},null,null,null,20]
[11035,13003,759.375,333,756,"血刃金煌功","向前方挥动{0}次，每次挥动形成一道血刃刀气，对敌人{1}造成伤害，并有{2}%概率对敌人造成流血。\n刀气命中目标后，恢复本次伤害{3}%的生命。\n刀气对流血的敌人额外造成{4}%伤害，且再施加1层流血。",1,"icon_s1103","S1103",1103,"1103_timeline_TD",1,1,1,6,"8;40;20;25;20",2,"103","20",1114,null,null,8,40,20,25,20,null,null,"对流血目标增伤，再次放血","血刃金煌功·陆",null,599.925009373828,8,40,0.4666,null,{"$f":"AA25/100","v":0.25},null,null,null,20]
[{"$nulls":13},1,{"$nulls":17},"",null,""]
[{"$f":"K27*10+P27-1","v":11040},{"$f":"B20+1","v":13004},100,334,757,"飞刃","发射{0}枚飞刀，对敌人造成{1}%伤害。",1,{"$f":"CONCATENATE(\"icon_s\",K27)","v":"icon_s1104"},{"$f":"CONCATENATE(\"S\",K27)","v":"S1104"},{"$f":"K20+1","v":1104},"1104_timeline_TD",1,1,1,1,{"$f":"_xlfn.TEXTJOIN(\";\",1,X27:AD27)","v":"6;50"},2,{"$f":"_xlfn.TEXTJOIN(\";\",1,IF(AO27=\"\",\"\",101),IF(AP27=\"\",\"\",102),IF(AQ27=\"\",\"\",103),IF(AR27=\"\",\"\",106),IF(AS27=\"\",\"\",107),IF(AT27=\"\",\"\",108),IF(AU27=\"\",\"\",109),IF(AV27=\"\",\"\",110))","v":""},{"$f":"_xlfn.TEXTJOIN(\";\",1,AO27:AV27)","v":""},-1,null,null,6,50,{"$nulls":6},"飞刃·壹",null,300,{"$f":"X27","v":6},{"$f":"Y27","v":50}]
[{"$f":"K28*10+P28-1","v":11041},{"$f":"B21+1","v":13004},150,335,758,"飞刃","发射{0}枚飞刀，对敌人造成{1}%伤害。",1,"icon_s1104",{"$f":"CONCATENATE(\"S\",K28)","v":"S1104"},{"$f":"K21+1","v":1104},"1104_timeline_TD",1,1,1,2,{"$f":"_xlfn.TEXTJOIN(\";\",1,X28:AD28)","v":"6;50"},2,{"$f":"_xlfn.TEXTJOIN(\";\",1,IF(AO28=\"\",\"\",101),IF(AP28=\"\",\"\",102),IF(AQ28=\"\",\"\",103),IF(AR28=\"\",\"\",106),IF(AS28=\"\",\"\",107),IF(AT28=\"\",\"\",108),IF(AU28=\"\",\"\",109),IF(AV28=\"\",\"\",110))","v":"102"},{"$f":"_xlfn.TEXTJOIN(\";\",1,AO28:AV28)","v":"5"},1115,5,null,6,50,{"$nulls":5},{"$f":"CONCATENATE(CHOOSE(S28-100,\"生命\",\"攻击\",\"防御\"),\"+\",V28,\"%\")","v":"攻击+5%"},"飞刃·贰",null,300,{"$f":"X28","v":6},{"$f":"Y28","v":50},{"$nulls":5},5]
[11042,13004,225,336,759,"飞刃","发射{0}枚飞刀，对敌人造成{1}%伤害。",1,"icon_s1104","S1104",1104,"1104_timeline_TD",1,1,1,3,"8;50",2,"102","5",1116,2,null,8,50,{"$nulls":5},{"$f":"CONCATENATE(\"飞刀数量+\",V29)","v":"飞刀数量+2"},"飞刃·叁",null,400,8,50,{"$nulls":5},5]
[11043,13004,337.5,337,760,"飞刃","发射{0}枚飞刀，对敌人造成{1}%伤害。",1,"icon_s1104","S1104",1104,"1104_timeline_TD",1,1,1,4,"8;50",2,"102","10",1117,5,null,8,50,{"$nulls":5},{"$f":"CONCATENATE(CHOOSE(S30-100,\"生命\",\"攻击\",\"防御\"),\"+\",V30,\"%\")","v":"攻击+5%"},"飞刃·肆",null,400,8,50,{"$nulls":5},10]
[11044,13004,506.25,338,761,"飞刃","发射{0}枚飞刀，对敌人造成{1}%伤害。",1,"icon_s1104","S1104",1104,"1104_timeline_TD",1,1,1,5,"10;50",2,"102","10",1118,2,null,10,50,{"$nulls":5},{"$f":"CONCATENATE(\"飞刀数量+\",V31)","v":"飞刀数量+2"},"飞刃·伍",null,500,10,50,{"$nulls":5},10]
[11045,13004,759.375,339,762,"飞刃","发射{0}枚飞刀，对敌人造成{1}%伤害。",1,"icon_s1104","S1104",1104,"1104_timeline_TD",1,1,1,6,"10;50",2,"102","15",1119,5,null,10,50,{"$nulls":5},{"$f":"CONCATENATE(CHOOSE(S32-100,\"生命\",\"攻击\",\"防御\"),\"+\",V32,\"%\")","v":"攻击+5%"},"飞刃·陆",null,500,10,50,{"$nulls":5},15]
[{"$nulls":13},1,{"$nulls":17},"",null,""]
[{"$f":"K34*10+P34-1","v":11050},{"$f":"B27+1","v":13005},100,340,763,"金针","手中快速发射{0}%枚金针，对敌人造成{1}%伤害，并有{2}%概率施加1层流血。",1,{"$f":"CONCATENATE(\"icon_s\",K34)","v":"icon_s1105"},{"$f":"CONCATENATE(\"S\",K34)","v":"S1105"},{"$f":"K27+1","v":1105},"1105_timeline_TD",1,1,1,1,{"$f":"_xlfn.TEXTJOIN(\";\",1,X34:AD34)","v":"3;80;40"},2,{"$f":"_xlfn.TEXTJOIN(\";\",1,IF(AO34=\"\",\"\",101),IF(AP34=\"\",\"\",102),IF(AQ34=\"\",\"\",103),IF(AR34=\"\",\"\",106),IF(AS34=\"\",\"\",107),IF(AT34=\"\",\"\",108),IF(AU34=\"\",\"\",109),IF(AV34=\"\",\"\",110))","v":""},{"$f":"_xlfn.TEXTJOIN(\";\",1,AO34:AV34)","v":""},-1,null,null,3,80,40,{"$nulls":5},"金针·壹",null,300,{"$f":"X34","v":3},{"$f":"Y34","v":80},0.2]
[{"$f":"K35*10+P35-1","v":11051},{"$f":"B28+1","v":13005},150,341,764,"金针","手中快速发射{0}%枚金针，对敌人造成{1}%伤害，并有{2}%概率施加1层流血。",1,"icon_s1105",{"$f":"CONCATENATE(\"S\",K35)","v":"S1105"},{"$f":"K28+1","v":1105},"1105_timeline_TD",1,1,1,2,{"$f":"_xlfn.TEXTJOIN(\";\",1,X35:AD35)","v":"3;80;40"},2,{"$f":"_xlfn.TEXTJOIN(\";\",1,IF(AO35=\"\",\"\",101),IF(AP35=\"\",\"\",102),IF(AQ35=\"\",\"\",103),IF(AR35=\"\",\"\",106),IF(AS35=\"\",\"\",107),IF(AT35=\"\",\"\",108),IF(AU35=\"\",\"\",109),IF(AV35=\"\",\"\",110))","v":"103"},{"$f":"_xlfn.TEXTJOIN(\";\",1,AO35:AV35)","v":"5"},1120,5,null,3,80,40,{"$nulls":4},{"$f":"CONCATENATE(CHOOSE(S35-100,\"生命\",\"攻击\",\"防御\"),\"+\",V35,\"%\")","v":"防御+5%"},"金针·贰",null,300,3,80,0.2,{"$nulls":5},5]
[11052,13005,225,342,765,"金针","手中快速发射{0}%枚金针，对敌人造成{1}%伤害，并有{2}%概率施加1层流血。",1,"icon_s1105","S1105",1105,"1105_timeline_TD",1,1,1,3,"4;80;40",2,"103","5",1121,1,null,4,80,40,{"$nulls":4},{"$f":"CONCATENATE(\"金针数量+\",V36)","v":"金针数量+1"},"金针·叁",null,400,4,80,0.2,{"$nulls":5},5]
[11053,13005,337.5,343,766,"金针","手中快速发射{0}%枚金针，对敌人造成{1}%伤害，并有{2}%概率施加1层流血。",1,"icon_s1105","S1105",1105,"1105_timeline_TD",1,1,1,4,"4;80;40",2,"103","10",1122,5,null,4,80,40,{"$nulls":4},{"$f":"CONCATENATE(CHOOSE(S37-100,\"生命\",\"攻击\",\"防御\"),\"+\",V37,\"%\")","v":"防御+5%"},"金针·肆",null,400,4,80,0.2,{"$nulls":5},10]
[11054,13005,506.25,344,767,"金针","手中快速发射{0}%枚金针，对敌人造成{1}%伤害，并有{2}%概率施加1层流血。",1,"icon_s1105","S1105",1105,"1105_timeline_TD",1,1,1,5,"5;80;40",2,"103","10",1123,1,null,5,80,40,{"$nulls":4},{"$f":"CONCATENATE(\"金针数量+\",V38)","v":"金针数量+1"},"金针·伍",null,500,5,80,0.2,{"$nulls":5},10]
[11055,13005,759.375,345,768,"金针","手中快速发射{0}%枚金针，对敌人造成{1}%伤害，并有{2}%概率施加1层流血。",1,"icon_s1105","S1105",1105,"1105_timeline_TD",1,1,1,6,"5;80;40",2,"103","15",1124,5,null,5,80,40,{"$nulls":4},{"$f":"CONCATENATE(CHOOSE(S39-100,\"生命\",\"攻击\",\"防御\"),\"+\",V39,\"%\")","v":"防御+5%"},"金针·陆",null,500,5,80,0.2,{"$nulls":5},15]
[{"$nulls":13},1,{"$nulls":17},"",null,""]
[{"$f":"K41*10+P41-1","v":12010},{"$f":"B34+1","v":13006},100,346,769,"碧落幽冥劲","发出{0}道寒气冰锥，对敌人照成{1}%伤害，每到冰锥有{2}%概率对敌人施加1层寒气",2,{"$f":"CONCATENATE(\"icon_s\",K41)","v":"icon_s1201"},{"$f":"CONCATENATE(\"S\",K41)","v":"S1201"},1201,"1201_timeline_TD",1,1,1,1,{"$f":"_xlfn.TEXTJOIN(\";\",1,X41:AD41)","v":"6;40;20"},2,{"$f":"_xlfn.TEXTJOIN(\";\",1,IF(AO41=\"\",\"\",101),IF(AP41=\"\",\"\",102),IF(AQ41=\"\",\"\",103),IF(AR41=\"\",\"\",106),IF(AS41=\"\",\"\",107),IF(AT41=\"\",\"\",108),IF(AU41=\"\",\"\",109),IF(AV41=\"\",\"\",110))","v":""},{"$f":"_xlfn.TEXTJOIN(\";\",1,AO41:AV41)","v":""},-1,null,null,6,40,20,{"$nulls":5},"碧落幽冥劲·壹",null,300,{"$f":"X41","v":6},{"$f":"Y41","v":40},0.2]
[{"$f":"K42*10+P42-1","v":12011},{"$f":"B35+1","v":13006},150,347,770,"碧落幽冥劲","发出{0}道寒气冰锥，对敌人照成{1}%伤害，每到冰锥有{2}%概率对敌人施加1层寒气",2,"icon_s1201",{"$f":"CONCATENATE(\"S\",K42)","v":"S1201"},1201,"1201_timeline_TD",1,1,1,2,{"$f":"_xlfn.TEXTJOIN(\";\",1,X42:AD42)","v":"6;40;20"},2,{"$f":"_xlfn.TEXTJOIN(\";\",1,IF(AO42=\"\",\"\",101),IF(AP42=\"\",\"\",102),IF(AQ42=\"\",\"\",103),IF(AR42=\"\",\"\",106),IF(AS42=\"\",\"\",107),IF(AT42=\"\",\"\",108),IF(AU42=\"\",\"\",109),IF(AV42=\"\",\"\",110))","v":""},{"$f":"_xlfn.TEXTJOIN(\";\",1,AO42:AV42)","v":""},1125,1,null,6,40,20,{"$nulls":4},{"$f":"CONCATENATE(\"冰锥数量+\",V42)","v":"冰锥数量+1"},"碧落幽冥劲·贰",null,300,6,40,0.2]
[12012,13006,225,348,771,"碧落幽冥劲","发出{0}道寒气冰锥，对敌人照成{1}%伤害，每到冰锥有{2}%概率对敌人施加1层寒气",2,"icon_s1201","S1201",1201,"1201_timeline_TD",1,1,1,3,"9;40;20",2,"101","10",1126,10,null,9,40,20,{"$nulls":4},{"$f":"CONCATENATE(CHOOSE(S43-100,\"生命\",\"攻击\",\"防御\"),\"+\",V43,\"%\")","v":"生命+10%"},"碧落幽冥劲·叁",null,450,9,40,0.2,null,null,null,10]
[12013,13006,337.5,349,772,"碧落幽冥劲","发出{0}道寒气冰锥，对敌人照成{1}%伤害，每到冰锥有{2}%概率对敌人施加1层寒气",2,"icon_s1201","S1201",1201,"1201_timeline_TD",1,1,1,4,"9;40;20",2,"101","10",1127,1,null,9,40,20,{"$nulls":4},{"$f":"CONCATENATE(\"冰锥数量+\",V44)","v":"冰锥数量+1"},"碧落幽冥劲·肆",null,450,9,40,0.2,null,null,null,10]
[12014,13006,506.25,350,773,"碧落幽冥劲","发出{0}道寒气冰锥，对敌人照成{1}%伤害，每到冰锥有{2}%概率对敌人施加1层寒气",2,"icon_s1201","S1201",1201,"1201_timeline_TD",1,1,1,5,"12;40;20",2,"101","20",1128,10,null,12,40,20,{"$nulls":4},{"$f":"CONCATENATE(CHOOSE(S45-100,\"生命\",\"攻击\",\"防御\"),\"+\",V45,\"%\")","v":"生命+10%"},"碧落幽冥劲·伍",null,600,12,40,0.2,null,null,null,20]
[12015,13006,759.375,351,774,"碧落幽冥劲","发出{0}道寒气冰锥，对敌人照成{1}%伤害，每到冰锥有{2}%概率对敌人施加1层寒气",2,"icon_s1201","S1201",1201,"1201_timeline_TD",1,1,1,6,"12;40;20",2,"101","20",1129,1,null,12,40,20,{"$nulls":4},{"$f":"CONCATENATE(\"冰锥数量+\",V46)","v":"冰锥数量+1"},"碧落幽冥劲·陆",null,600,12,40,0.2,null,null,null,20]
[{"$nulls":13},1,{"$nulls":17},"",null,""]
[{"$f":"K48*10+P48-1","v":12020},{"$f":"B41+1","v":13007},100,352,775,"雾隐千流法","身体散发出一团迷雾。从迷雾中飞出{0}个冰球，每个冰球对敌人照成{1}%伤害，并有{2}%概率施加1层寒气",2,{"$f":"CONCATENATE(\"icon_s\",K48)","v":"icon_s1202"},{"$f":"CONCATENATE(\"S\",K48)","v":"S1202"},{"$f":"K41+1","v":1202},"1202_timeline_TD",1,1,1,1,{"$f":"_xlfn.TEXTJOIN(\";\",1,X48:AD48)","v":"3;80;40"},2,{"$f":"_xlfn.TEXTJOIN(\";\",1,IF(AO48=\"\",\"\",101),IF(AP48=\"\",\"\",102),IF(AQ48=\"\",\"\",103),IF(AR48=\"\",\"\",106),IF(AS48=\"\",\"\",107),IF(AT48=\"\",\"\",108),IF(AU48=\"\",\"\",109),IF(AV48=\"\",\"\",110))","v":""},{"$f":"_xlfn.TEXTJOIN(\";\",1,AO48:AV48)","v":""},-1,null,null,3,80,40,{"$nulls":5},"雾隐千流法·壹",null,{"$f":"IF(A48=\"\",\"\",AI48*AJ48/(1-AK48-AL48))","v":300},{"$f":"X48","v":3},{"$f":"Y48","v":80},0.2]
[{"$f":"K49*10+P49-1","v":12021},{"$f":"B42+1","v":13007},150,353,776,"雾隐千流法","身体散发出一团迷雾。从迷雾中飞出{0}个冰球，每个冰球对敌人照成{1}%伤害，并有{2}%概率施加1层寒气",2,"icon_s1202",{"$f":"CONCATENATE(\"S\",K49)","v":"S1202"},{"$f":"K42+1","v":1202},"1202_timeline_TD",1,1,1,2,{"$f":"_xlfn.TEXTJOIN(\";\",1,X49:AD49)","v":"4;80;40"},2,{"$f":"_xlfn.TEXTJOIN(\";\",1,IF(AO49=\"\",\"\",101),IF(AP49=\"\",\"\",102),IF(AQ49=\"\",\"\",103),IF(AR49=\"\",\"\",106),IF(AS49=\"\",\"\",107),IF(AT49=\"\",\"\",108),IF(AU49=\"\",\"\",109),IF(AV49=\"\",\"\",110))","v":""},{"$f":"_xlfn.TEXTJOIN(\";\",1,AO49:AV49)","v":""},1130,1,null,4,80,40,{"$nulls":4},{"$f":"CONCATENATE(\"冰球数量+\",V49)","v":"冰球数量+1"},"雾隐千流法·贰",null,400,4,80,0.2]
[12022,13007,225,354,777,"雾隐千流法","身体散发出一团迷雾。从迷雾中飞出{0}个冰球，每个冰球对敌人照成{1}%伤害，并有{2}%概率施加1层寒气",2,"icon_s1202","S1202",1202,"1202_timeline_TD",1,1,1,3,"4;80;40",2,"103","10",1131,10,null,4,80,40,{"$nulls":4},{"$f":"CONCATENATE(CHOOSE(S50-100,\"生命\",\"攻击\",\"防御\"),\"+\",V50,\"%\")","v":"防御+10%"},"雾隐千流法·叁",null,400,4,80,0.2,{"$nulls":5},10]
[12023,13007,337.5,355,778,"雾隐千流法","身体散发出一团迷雾。从迷雾中飞出{0}个冰球，每个冰球对敌人照成{1}%伤害，并有{2}%概率施加1层寒气",2,"icon_s1202","S1202",1202,"1202_timeline_TD",1,1,1,4,"5;80;40",2,"103","10",1132,1,null,5,80,40,{"$nulls":4},{"$f":"CONCATENATE(\"冰球数量+\",V51)","v":"冰球数量+1"},"雾隐千流法·肆",null,500,5,80,0.2,{"$nulls":5},10]
[12024,13007,506.25,356,779,"雾隐千流法","身体散发出一团迷雾。从迷雾中飞出{0}个冰球，每个冰球对敌人照成{1}%伤害，并有{2}%概率施加1层寒气",2,"icon_s1202","S1202",1202,"1202_timeline_TD",1,1,1,5,"5;80;40",2,"103","20",1133,10,null,5,80,40,{"$nulls":4},{"$f":"CONCATENATE(CHOOSE(S52-100,\"生命\",\"攻击\",\"防御\"),\"+\",V52,\"%\")","v":"防御+10%"},"雾隐千流法·伍",null,500,5,80,0.2,{"$nulls":5},20]
[12025,13007,759.375,357,780,"雾隐千流法","身体散发出一团迷雾。从迷雾中飞出{0}个冰球，每个冰球对敌人照成{1}%伤害，并有{2}%概率施加1层寒气",2,"icon_s1202","S1202",1202,"1202_timeline_TD",1,1,1,6,"6;80;40",2,"103","20",1134,1,null,6,80,40,{"$nulls":4},{"$f":"CONCATENATE(\"冰球数量+\",V53)","v":"冰球数量+1"},"雾隐千流法·陆",null,600,6,80,0.2,{"$nulls":5},20]
[{"$nulls":13},1,{"$nulls":17},"",null,""]
[null,{"$f":"B48+1","v":13008},100,358,781,null,"占位",2,{"$f":"CONCATENATE(\"icon_s\",K55)","v":"icon_s1203"},{"$f":"CONCATENATE(\"S\",K55)","v":"S1203"},{"$f":"K48+1","v":1203},"bingqiu_timeline_TD",1,1,1,1,{"$f":"_xlfn.TEXTJOIN(\";\",1,X55:AD55)","v":"3;120;30"},2,{"$f":"_xlfn.TEXTJOIN(\";\",1,IF(AO55=\"\",\"\",101),IF(AP55=\"\",\"\",102),IF(AQ55=\"\",\"\",103),IF(AR55=\"\",\"\",106),IF(AS55=\"\",\"\",107),IF(AT55=\"\",\"\",108),IF(AU55=\"\",\"\",109),IF(AV55=\"\",\"\",110))","v":""},{"$f":"_xlfn.TEXTJOIN(\";\",1,AO55:AV55)","v":""},-1,null,null,3,120,30,{"$nulls":5},{"$f":"IF(F55=\"\",\"\",CONCATENATE(F55,\"·\",CHOOSE(P55,\"壹\",\"贰\",\"叁\",\"肆\",\"伍\",\"陆\")))","v":""},null,"",{"$f":"X55","v":3},{"$f":"Y55","v":120},0.2]
[null,{"$f":"B49+1","v":13008},150,359,782,null,"占位",2,"icon_s1203",{"$f":"CONCATENATE(\"S\",K56)","v":"S1203"},{"$f":"K49+1","v":1203},"bingqiu_timeline_TD",1,1,1,2,{"$f":"_xlfn.TEXTJOIN(\";\",1,X56:AD56)","v":"4;120;30"},2,{"$f":"_xlfn.TEXTJOIN(\";\",1,IF(AO56=\"\",\"\",101),IF(AP56=\"\",\"\",102),IF(AQ56=\"\",\"\",103),IF(AR56=\"\",\"\",106),IF(AS56=\"\",\"\",107),IF(AT56=\"\",\"\",108),IF(AU56=\"\",\"\",109),IF(AV56=\"\",\"\",110))","v":"102"},{"$f":"_xlfn.TEXTJOIN(\";\",1,AO56:AV56)","v":"10"},1135,1,null,4,120,30,{"$nulls":4},{"$f":"CONCATENATE(\"冰球数量+\",V56)","v":"冰球数量+1"},"",null,"",4,120,0.2,{"$nulls":4},10]
[null,13008,225,360,783,null,"占位",2,"icon_s1203","S1203",1203,"bingqiu_timeline_TD",1,1,1,3,"4;120;30",2,"102","10",1136,10,null,4,120,30,{"$nulls":4},{"$f":"CONCATENATE(CHOOSE(S57-100,\"生命\",\"攻击\",\"防御\"),\"+\",V57,\"%\")","v":"攻击+10%"},"",null,"",4,120,0.2,{"$nulls":4},10]
[null,13008,337.5,361,784,null,"占位",2,"icon_s1203","S1203",1203,"bingqiu_timeline_TD",1,1,1,4,"5;120;30",2,"102","20",1137,1,null,5,120,30,{"$nulls":4},{"$f":"CONCATENATE(\"冰球数量+\",V58)","v":"冰球数量+1"},"",null,"",5,120,0.2,{"$nulls":4},20]
[null,13008,506.25,362,785,null,"占位",2,"icon_s1203","S1203",1203,"bingqiu_timeline_TD",1,1,1,5,"5;120;30",2,"102","20",1138,10,null,5,120,30,{"$nulls":4},{"$f":"CONCATENATE(CHOOSE(S59-100,\"生命\",\"攻击\",\"防御\"),\"+\",V59,\"%\")","v":"攻击+10%"},"",null,"",5,120,0.2,{"$nulls":4},20]
[null,13008,759.375,363,786,null,"占位",2,"icon_s1203","S1203",1203,"bingqiu_timeline_TD",1,1,1,6,"6;120;30",2,"","",1139,1,null,6,120,30,{"$nulls":4},{"$f":"CONCATENATE(\"冰球数量+\",V60)","v":"冰球数量+1"},"",null,"",6,120,0.2]
[{"$nulls":8},{"$f":"CONCATENATE(\"icon_s\",K61)","v":"icon_s"},{"$nulls":4},1,{"$nulls":17},"",null,""]
[{"$f":"K62*10+P62-1","v":12040},{"$f":"B55+1","v":13009},100,358,781,"水球","发射{0}枚水波，对敌人造成{1}%伤害。",2,"icon_s1204",{"$f":"CONCATENATE(\"S\",K62)","v":"S1204"},1204,"1204_timeline_TD",1,1,1,1,{"$f":"_xlfn.TEXTJOIN(\";\",1,X62:AD62)","v":"3;100"},2,{"$f":"_xlfn.TEXTJOIN(\";\",1,IF(AO62=\"\",\"\",101),IF(AP62=\"\",\"\",102),IF(AQ62=\"\",\"\",103),IF(AR62=\"\",\"\",106),IF(AS62=\"\",\"\",107),IF(AT62=\"\",\"\",108),IF(AU62=\"\",\"\",109),IF(AV62=\"\",\"\",110))","v":""},{"$f":"_xlfn.TEXTJOIN(\";\",1,AO62:AV62)","v":""},-1,null,null,3,100,{"$nulls":6},"水球·壹",null,300,{"$f":"X62","v":3},{"$f":"Y62","v":100}]
[{"$f":"K63*10+P63-1","v":12041},{"$f":"B56+1","v":13009},150,359,782,"水球","发射{0}枚水波，对敌人造成{1}%伤害。",2,"icon_s1204",{"$f":"CONCATENATE(\"S\",K63)","v":"S1204"},1204,"1204_timeline_TD",1,1,1,2,{"$f":"_xlfn.TEXTJOIN(\";\",1,X63:AD63)","v":"3;100"},2,{"$f":"_xlfn.TEXTJOIN(\";\",1,IF(AO63=\"\",\"\",101),IF(AP63=\"\",\"\",102),IF(AQ63=\"\",\"\",103),IF(AR63=\"\",\"\",106),IF(AS63=\"\",\"\",107),IF(AT63=\"\",\"\",108),IF(AU63=\"\",\"\",109),IF(AV63=\"\",\"\",110))","v":"102"},{"$f":"_xlfn.TEXTJOIN(\";\",1,AO63:AV63)","v":"5"},1140,5,null,3,100,{"$nulls":5},{"$f":"CONCATENATE(CHOOSE(S63-100,\"生命\",\"攻击\",\"防御\"),\"+\",V63,\"%\")","v":"攻击+5%"},"水球·贰",null,300,3,100,{"$nulls":5},5]
[12042,13009,225,360,783,"水球","发射{0}枚水波，对敌人造成{1}%伤害。",2,"icon_s1204","S1204",1204,"1204_timeline_TD",1,1,1,3,"4;100",2,"102","5",1141,1,null,4,100,{"$nulls":5},{"$f":"CONCATENATE(\"水波数量+\",V64)","v":"水波数量+1"},"水球·叁",null,400,4,100,{"$nulls":5},5]
[12043,13009,337.5,361,784,"水球","发射{0}枚水波，对敌人造成{1}%伤害。",2,"icon_s1204","S1204",1204,"1204_timeline_TD",1,1,1,4,"4;100",2,"102","10",1142,10,null,4,100,{"$nulls":5},{"$f":"CONCATENATE(CHOOSE(S65-100,\"生命\",\"攻击\",\"防御\"),\"+\",V65,\"%\")","v":"攻击+10%"},"水球·肆",null,400,4,100,{"$nulls":5},10]
[12044,13009,506.25,362,785,"水球","发射{0}枚水波，对敌人造成{1}%伤害。",2,"icon_s1204","S1204",1204,"1204_timeline_TD",1,1,1,5,"5;100",2,"102","10",1143,1,null,5,100,{"$nulls":5},{"$f":"CONCATENATE(\"水波数量+\",V66)","v":"水波数量+1"},"水球·伍",null,500,5,100,{"$nulls":5},10]
[12045,13009,759.375,363,786,"水球","发射{0}枚水波，对敌人造成{1}%伤害。",2,{"$f":"CONCATENATE(\"icon_s\",K67)","v":"icon_s1204"},"S1204",1204,"1204_timeline_TD",1,1,1,6,"5;100",2,"102","15",1144,15,null,5,100,{"$nulls":5},{"$f":"CONCATENATE(CHOOSE(S67-100,\"生命\",\"攻击\",\"防御\"),\"+\",V67,\"%\")","v":"攻击+15%"},"水球·陆",null,500,5,100,{"$nulls":5},15]
[{"$nulls":8},"icon_s",{"$nulls":4},1,{"$nulls":17},"",null,""]
[{"$f":"K69*10+P69-1","v":12050},{"$f":"B62+1","v":13010},100,364,787,"冰刀","发射{0}枚冰刀，对敌人造成{1}%伤害。",2,"icon_s1205",{"$f":"CONCATENATE(\"S\",K69)","v":"S1205"},1205,"1205_timeline_TD",1,1,1,1,{"$f":"_xlfn.TEXTJOIN(\";\",1,X69:AD69)","v":"6;50"},2,{"$f":"_xlfn.TEXTJOIN(\";\",1,IF(AO69=\"\",\"\",101),IF(AP69=\"\",\"\",102),IF(AQ69=\"\",\"\",103),IF(AR69=\"\",\"\",106),IF(AS69=\"\",\"\",107),IF(AT69=\"\",\"\",108),IF(AU69=\"\",\"\",109),IF(AV69=\"\",\"\",110))","v":""},{"$f":"_xlfn.TEXTJOIN(\";\",1,AO69:AV69)","v":""},-1,null,null,6,50,{"$nulls":6},"冰刀·壹",null,{"$f":"IF(A69=\"\",\"\",AI69*AJ69/(1-AK69-AL69))","v":300},{"$f":"X69","v":6},{"$f":"Y69","v":50}]
[{"$f":"K70*10+P70-1","v":12051},{"$f":"B63+1","v":13010},150,365,788,"冰刀","发射{0}枚冰刀，对敌人造成{1}%伤害。",2,"icon_s1205",{"$f":"CONCATENATE(\"S\",K70)","v":"S1205"},1205,"1205_timeline_TD",1,1,1,2,{"$f":"_xlfn.TEXTJOIN(\";\",1,X70:AD70)","v":"6;50"},2,{"$f":"_xlfn.TEXTJOIN(\";\",1,IF(AO70=\"\",\"\",101),IF(AP70=\"\",\"\",102),IF(AQ70=\"\",\"\",103),IF(AR70=\"\",\"\",106),IF(AS70=\"\",\"\",107),IF(AT70=\"\",\"\",108),IF(AU70=\"\",\"\",109),IF(AV70=\"\",\"\",110))","v":"103"},{"$f":"_xlfn.TEXTJOIN(\";\",1,AO70:AV70)","v":"5"},1145,5,null,6,50,{"$nulls":5},{"$f":"CONCATENATE(CHOOSE(S70-100,\"生命\",\"攻击\",\"防御\"),\"+\",V70,\"%\")","v":"防御+5%"},"冰刀·贰",null,300,6,50,{"$nulls":6},5]
[12052,13010,225,366,789,"冰刀","发射{0}枚冰刀，对敌人造成{1}%伤害。",2,"icon_s1205","S1205",1205,"1205_timeline_TD",1,1,1,3,"8;50",2,"103","5",1146,2,null,8,50,{"$nulls":5},{"$f":"CONCATENATE(\"冰刀数量+\",V71)","v":"冰刀数量+2"},"冰刀·叁",null,400,8,50,{"$nulls":6},5]
[12053,13010,337.5,367,790,"冰刀","发射{0}枚冰刀，对敌人造成{1}%伤害。",2,"icon_s1205","S1205",1205,"1205_timeline_TD",1,1,1,4,"8;50",2,"103","10",1147,5,null,8,50,{"$nulls":5},{"$f":"CONCATENATE(CHOOSE(S72-100,\"生命\",\"攻击\",\"防御\"),\"+\",V72,\"%\")","v":"防御+5%"},"冰刀·肆",null,400,8,50,{"$nulls":6},10]
[12054,13010,506.25,368,791,"冰刀","发射{0}枚冰刀，对敌人造成{1}%伤害。",2,"icon_s1205","S1205",1205,"1205_timeline_TD",1,1,1,5,"10;50",2,"103","10",1148,2,null,10,50,{"$nulls":5},{"$f":"CONCATENATE(\"冰刀数量+\",V73)","v":"冰刀数量+2"},"冰刀·伍",null,500,10,50,{"$nulls":6},10]
[12055,13010,759.375,369,792,"冰刀","发射{0}枚冰刀，对敌人造成{1}%伤害。",2,"icon_s1205","S1205",1205,"1205_timeline_TD",1,1,1,6,"10;50",2,"103","15",1149,5,null,10,50,{"$nulls":5},{"$f":"CONCATENATE(CHOOSE(S74-100,\"生命\",\"攻击\",\"防御\"),\"+\",V74,\"%\")","v":"防御+5%"},"冰刀·陆",null,500,10,50,{"$nulls":6},15]
[{"$nulls":8},"icon_s",{"$nulls":4},1,{"$nulls":17},"",null,{"$f":"IF(A75=\"\",\"\",AI75*AJ75/(1-AK75-AL75))","v":""}]
[{"$f":"K76*10+P76-1","v":13010},{"$f":"B69+1","v":13011},100,370,793,"瘴影千丝术","发出{0}条细细的毒针，每颗针对敌人照成{1}%金系伤害，每颗针有{2}%概率施加1层毒",4,"icon_s1301",{"$f":"CONCATENATE(\"S\",K76)","v":"S1301"},1301,"1301_timeline_TD",1,1,1,1,{"$f":"_xlfn.TEXTJOIN(\";\",1,X76:AD76)","v":"3;80;40"},2,{"$f":"_xlfn.TEXTJOIN(\";\",1,IF(AO76=\"\",\"\",101),IF(AP76=\"\",\"\",102),IF(AQ76=\"\",\"\",103),IF(AR76=\"\",\"\",106),IF(AS76=\"\",\"\",107),IF(AT76=\"\",\"\",108),IF(AU76=\"\",\"\",109),IF(AV76=\"\",\"\",110))","v":""},{"$f":"_xlfn.TEXTJOIN(\";\",1,AO76:AV76)","v":""},-1,null,null,3,80,40,{"$nulls":5},"瘴影千丝术·壹",null,300,{"$f":"X76","v":3},{"$f":"Y76","v":80},0.2]
[{"$f":"K77*10+P77-1","v":13011},{"$f":"B70+1","v":13011},150,371,794,"瘴影千丝术","发出{0}条细细的毒针，每颗针对敌人照成{1}%金系伤害，每颗针有{2}%概率施加1层毒",4,"icon_s1301",{"$f":"CONCATENATE(\"S\",K77)","v":"S1301"},1301,"1301_timeline_TD",1,1,1,2,{"$f":"_xlfn.TEXTJOIN(\";\",1,X77:AD77)","v":"4;80;40"},2,{"$f":"_xlfn.TEXTJOIN(\";\",1,IF(AO77=\"\",\"\",101),IF(AP77=\"\",\"\",102),IF(AQ77=\"\",\"\",103),IF(AR77=\"\",\"\",106),IF(AS77=\"\",\"\",107),IF(AT77=\"\",\"\",108),IF(AU77=\"\",\"\",109),IF(AV77=\"\",\"\",110))","v":""},{"$f":"_xlfn.TEXTJOIN(\";\",1,AO77:AV77)","v":""},1150,1,null,4,80,40,{"$nulls":4},{"$f":"CONCATENATE(\"毒针数量+\",V77)","v":"毒针数量+1"},"瘴影千丝术·贰",null,400,4,80,0.2]
[13012,13011,225,372,795,"瘴影千丝术","发出{0}条细细的毒针，每颗针对敌人照成{1}%金系伤害，每颗针有{2}%概率施加1层毒",4,"icon_s1301","S1301",1301,"1301_timeline_TD",1,1,1,3,"4;80;40",2,"101","10",1151,10,null,4,80,40,{"$nulls":4},{"$f":"CONCATENATE(CHOOSE(S78-100,\"生命\",\"攻击\",\"防御\"),\"+\",V78,\"%\")","v":"生命+10%"},{"$f":"IF(F78=\"\",\"\",CONCATENATE(F78,\"·\",CHOOSE(P78,\"壹\",\"贰\",\"叁\",\"肆\",\"伍\",\"陆\")))","v":"瘴影千丝术·叁"},null,400,4,80,0.2,null,null,null,10]
[13013,13011,337.5,373,796,"瘴影千丝术","发出{0}条细细的毒针，每颗针对敌人照成{1}%金系伤害，每颗针有{2}%概率施加1层毒",4,"icon_s1301","S1301",1301,"1301_timeline_TD",1,1,1,4,"5;80;40",2,"101","10",1152,1,null,5,80,40,{"$nulls":4},{"$f":"CONCATENATE(\"毒针数量+\",V79)","v":"毒针数量+1"},"瘴影千丝术·肆",null,500,5,80,0.2,null,null,null,10]
[13014,13011,506.25,374,797,"瘴影千丝术","发出{0}条细细的毒针，每颗针对敌人照成{1}%金系伤害，每颗针有{2}%概率施加1层毒",4,"icon_s1301","S1301",1301,"1301_timeline_TD",1,1,1,5,"5;80;40",2,"101","20",1153,10,null,5,80,40,{"$nulls":4},{"$f":"CONCATENATE(CHOOSE(S80-100,\"生命\",\"攻击\",\"防御\"),\"+\",V80,\"%\")","v":"生命+10%"},"瘴影千丝术·伍",null,500,5,80,0.2,null,null,null,20]
[13015,13011,759.375,375,798,"瘴影千丝术","发出{0}条细细的毒针，每颗针对敌人照成{1}%金系伤害，每颗针有{2}%概率施加1层毒",4,"icon_s1301","S1301",1301,"1301_timeline_TD",1,1,1,6,"6;80;40",2,"101","20",1154,1,null,6,80,40,{"$nulls":4},{"$f":"CONCATENATE(\"毒针数量+\",V81)","v":"毒针数量+1"},"瘴影千丝术·陆",null,600,6,80,0.2,null,null,null,20]
[{"$nulls":8},"icon_s",{"$nulls":4},1,{"$nulls":17},"",null,""]
[{"$f":"K83*10+P83-1","v":13020},{"$f":"B76+1","v":13012},100,376,799,"蚀骨腐血掌","快手释放{0}掌，对敌人造成{1}%伤害，并有{2}%几率对敌人施加1层毒，如果敌人毒超过{3}层，则每层毒对敌人的伤害提升{4}%，并有{5}%几率施加一层噬魂。",4,"icon_s1302",{"$f":"CONCATENATE(\"S\",K83)","v":"S1302"},1302,"1302_timeline_TD",1,1,1,1,{"$f":"_xlfn.TEXTJOIN(\";\",1,X83:AD83)","v":"3;80;30;5;6;100"},2,{"$f":"_xlfn.TEXTJOIN(\";\",1,IF(AO83=\"\",\"\",101),IF(AP83=\"\",\"\",102),IF(AQ83=\"\",\"\",103),IF(AR83=\"\",\"\",106),IF(AS83=\"\",\"\",107),IF(AT83=\"\",\"\",108),IF(AU83=\"\",\"\",109),IF(AV83=\"\",\"\",110))","v":""},{"$f":"_xlfn.TEXTJOIN(\";\",1,AO83:AV83)","v":""},-1,null,null,3,80,30,5,6,100,null,null,"蚀骨腐血掌·壹",null,{"$f":"IF(A83=\"\",\"\",AI83*AJ83/(1-AK83-AL83))","v":300},{"$f":"X83","v":3},{"$f":"Y83","v":80},0.2]
[{"$f":"K84*10+P84-1","v":13021},{"$f":"B77+1","v":13012},150,377,800,"蚀骨腐血掌","快手释放{0}掌，对敌人造成{1}%伤害，并有{2}%几率对敌人施加1层毒，如果敌人毒超过{3}层，则每层毒对敌人的伤害提升{4}%，并有{5}%几率施加一层噬魂。",4,"icon_s1302",{"$f":"CONCATENATE(\"S\",K84)","v":"S1302"},1302,"1302_timeline_TD",1,1,1,2,{"$f":"_xlfn.TEXTJOIN(\";\",1,X84:AD84)","v":"4;80;30;5;6;100"},2,{"$f":"_xlfn.TEXTJOIN(\";\",1,IF(AO84=\"\",\"\",101),IF(AP84=\"\",\"\",102),IF(AQ84=\"\",\"\",103),IF(AR84=\"\",\"\",106),IF(AS84=\"\",\"\",107),IF(AT84=\"\",\"\",108),IF(AU84=\"\",\"\",109),IF(AV84=\"\",\"\",110))","v":""},{"$f":"_xlfn.TEXTJOIN(\";\",1,AO84:AV84)","v":""},1155,1,null,4,80,30,5,6,100,null,{"$f":"CONCATENATE(\"手掌数量+\",V84)","v":"手掌数量+1"},"蚀骨腐血掌·贰",null,400,4,80,0.2]
[13022,13012,225,378,801,"蚀骨腐血掌","快手释放{0}掌，对敌人造成{1}%伤害，并有{2}%几率对敌人施加1层毒，如果敌人毒超过{3}层，则每层毒对敌人的伤害提升{4}%，并有{5}%几率施加一层噬魂。",4,"icon_s1302","S1302",1302,"1302_timeline_TD",1,1,1,3,"4;80;30;5;6;100",2,"103","10",1156,10,null,4,80,30,5,6,100,null,{"$f":"CONCATENATE(CHOOSE(S85-100,\"生命\",\"攻击\",\"防御\"),\"+\",V85,\"%\")","v":"防御+10%"},"蚀骨腐血掌·叁",null,400,4,80,0.2,{"$nulls":5},10]
[13023,13012,337.5,379,802,"蚀骨腐血掌","快手释放{0}掌，对敌人造成{1}%伤害，并有{2}%几率对敌人施加1层毒，如果敌人毒超过{3}层，则每层毒对敌人的伤害提升{4}%，并有{5}%几率施加一层噬魂。",4,"icon_s1302","S1302",1302,"1302_timeline_TD",1,1,1,4,"5;80;30;5;6;100",2,"103","10",1157,1,null,5,80,30,5,6,100,null,{"$f":"CONCATENATE(\"手掌数量+\",V86)","v":"手掌数量+1"},"蚀骨腐血掌·肆",null,500,5,80,0.2,{"$nulls":5},10]
[13024,13012,506.25,380,803,"蚀骨腐血掌","快手释放{0}掌，对敌人造成{1}%伤害，并有{2}%几率对敌人施加1层毒，如果敌人毒超过{3}层，则每层毒对敌人的伤害提升{4}%，并有{5}%几率施加一层噬魂。",4,"icon_s1302","S1302",1302,"1302_timeline_TD",1,1,1,5,"5;80;30;5;6;100",2,"103","20",1158,10,null,5,80,30,5,6,100,null,{"$f":"CONCATENATE(CHOOSE(S87-100,\"生命\",\"攻击\",\"防御\"),\"+\",V87,\"%\")","v":"防御+10%"},"蚀骨腐血掌·伍",null,500,5,80,0.2,{"$nulls":5},20]
[13025,13012,759.375,381,804,"蚀骨腐血掌","快手释放{0}掌，对敌人造成{1}%伤害，并有{2}%几率对敌人施加1层毒，如果敌人毒超过{3}层，则每层毒对敌人的伤害提升{4}%，并有{5}%几率施加一层噬魂。",4,"icon_s1302","S1302",1302,"1302_timeline_TD",1,1,1,6,"6;80;30;5;6;100",2,"103","20",1159,1,null,6,80,30,5,6,100,null,{"$f":"CONCATENATE(\"手掌数量+\",V88)","v":"手掌数量+1"},"蚀骨腐血掌·陆",null,600,6,80,0.2,{"$nulls":5},20]
[{"$nulls":8},"icon_s",{"$nulls":4},1,{"$nulls":17},"",null,""]
[null,{"$f":"B83+1","v":13013},100,382,805,null,"占位",4,"icon_s1303",{"$f":"CONCATENATE(\"S\",K90)","v":"S1303"},1303,"duzhen_timeline_TD",1,1,1,1,{"$f":"_xlfn.TEXTJOIN(\";\",1,X90:AD90)","v":"3;90;45;5;6;100"},2,{"$f":"_xlfn.TEXTJOIN(\";\",1,IF(AO90=\"\",\"\",101),IF(AP90=\"\",\"\",102),IF(AQ90=\"\",\"\",103),IF(AR90=\"\",\"\",106),IF(AS90=\"\",\"\",107),IF(AT90=\"\",\"\",108),IF(AU90=\"\",\"\",109),IF(AV90=\"\",\"\",110))","v":""},{"$f":"_xlfn.TEXTJOIN(\";\",1,AO90:AV90)","v":""},-1,null,null,3,90,45,5,6,100,null,null,{"$f":"IF(F90=\"\",\"\",CONCATENATE(F90,\"·\",CHOOSE(P90,\"壹\",\"贰\",\"叁\",\"肆\",\"伍\",\"陆\")))","v":""},null,"",{"$f":"X90","v":3},{"$f":"Y90","v":90}]
[null,{"$f":"B84+1","v":13013},150,383,806,null,"占位",4,"icon_s1303",{"$f":"CONCATENATE(\"S\",K91)","v":"S1303"},1303,"duzhen_timeline_TD",1,1,1,2,{"$f":"_xlfn.TEXTJOIN(\";\",1,X91:AD91)","v":"4;90;45;5;6;100"},2,{"$f":"_xlfn.TEXTJOIN(\";\",1,IF(AO91=\"\",\"\",101),IF(AP91=\"\",\"\",102),IF(AQ91=\"\",\"\",103),IF(AR91=\"\",\"\",106),IF(AS91=\"\",\"\",107),IF(AT91=\"\",\"\",108),IF(AU91=\"\",\"\",109),IF(AV91=\"\",\"\",110))","v":""},{"$f":"_xlfn.TEXTJOIN(\";\",1,AO91:AV91)","v":""},1160,1,null,4,90,45,5,6,100,null,{"$f":"CONCATENATE(\"手掌数量+\",V91)","v":"手掌数量+1"},"",null,"",4,90]
[null,13013,225,384,807,null,"占位",4,"icon_s1303","S1303",1303,"duzhen_timeline_TD",1,1,1,3,"4;90;45;5;6;100",2,"102","10",1161,10,null,4,90,45,5,6,100,null,{"$f":"CONCATENATE(CHOOSE(S92-100,\"生命\",\"攻击\",\"防御\"),\"+\",V92,\"%\")","v":"攻击+10%"},"",null,"",4,90,{"$nulls":5},10]
[null,13013,337.5,385,808,null,"占位",4,"icon_s1303","S1303",1303,"duzhen_timeline_TD",1,1,1,4,"5;90;45;5;6;100",2,"102","10",1162,2,null,5,90,45,5,6,100,null,{"$f":"CONCATENATE(\"手掌数量+\",V93)","v":"手掌数量+2"},"",null,"",5,90,{"$nulls":5},10]
[null,13013,506.25,386,809,null,"占位",4,"icon_s1303","S1303",1303,"duzhen_timeline_TD",1,1,1,5,"5;90;45;5;6;100",2,"102","20",1163,10,null,5,90,45,5,6,100,null,{"$f":"CONCATENATE(CHOOSE(S94-100,\"生命\",\"攻击\",\"防御\"),\"+\",V94,\"%\")","v":"攻击+10%"},"",null,"",5,90,{"$nulls":5},20]
[null,13013,759.375,387,810,null,"占位",4,"icon_s1303","S1303",1303,"duzhen_timeline_TD",1,1,1,6,"6;90;45;5;6;100",2,"102","20",1164,3,null,6,90,45,5,6,100,null,{"$f":"CONCATENATE(\"手掌数量+\",V95)","v":"手掌数量+3"},"",null,"",6,90,{"$nulls":5},20]
[{"$nulls":8},"icon_s",{"$nulls":4},1,{"$nulls":17},"",null,""]
[{"$f":"K97*10+P97-1","v":13040},{"$f":"B90+1","v":13014},100,382,805,"竹刺","发射{0}枚竹刺，对敌人造成{1}%伤害。",4,"icon_s1304",{"$f":"CONCATENATE(\"S\",K97)","v":"S1304"},1304,"1304_timeline_TD",1,1,1,1,{"$f":"_xlfn.TEXTJOIN(\";\",1,X97:AD97)","v":"6;50"},2,{"$f":"_xlfn.TEXTJOIN(\";\",1,IF(AO97=\"\",\"\",101),IF(AP97=\"\",\"\",102),IF(AQ97=\"\",\"\",103),IF(AR97=\"\",\"\",106),IF(AS97=\"\",\"\",107),IF(AT97=\"\",\"\",108),IF(AU97=\"\",\"\",109),IF(AV97=\"\",\"\",110))","v":""},{"$f":"_xlfn.TEXTJOIN(\";\",1,AO97:AV97)","v":""},-1,null,null,6,50,{"$nulls":6},"竹刺·壹",null,300,{"$f":"X97","v":6},{"$f":"Y97","v":50}]
[{"$f":"K98*10+P98-1","v":13041},{"$f":"B91+1","v":13014},150,383,806,"竹刺","发射{0}枚竹刺，对敌人造成{1}%伤害。",4,"icon_s1304",{"$f":"CONCATENATE(\"S\",K98)","v":"S1304"},1304,"1304_timeline_TD",1,1,1,2,{"$f":"_xlfn.TEXTJOIN(\";\",1,X98:AD98)","v":"6;50"},2,{"$f":"_xlfn.TEXTJOIN(\";\",1,IF(AO98=\"\",\"\",101),IF(AP98=\"\",\"\",102),IF(AQ98=\"\",\"\",103),IF(AR98=\"\",\"\",106),IF(AS98=\"\",\"\",107),IF(AT98=\"\",\"\",108),IF(AU98=\"\",\"\",109),IF(AV98=\"\",\"\",110))","v":"101"},{"$f":"_xlfn.TEXTJOIN(\";\",1,AO98:AV98)","v":"5"},1165,5,null,6,50,{"$nulls":5},{"$f":"CONCATENATE(CHOOSE(S98-100,\"生命\",\"攻击\",\"防御\"),\"+\",V98,\"%\")","v":"生命+5%"},"竹刺·贰",null,300,6,50,{"$nulls":4},5]
[13042,13014,225,384,807,"竹刺","发射{0}枚竹刺，对敌人造成{1}%伤害。",4,"icon_s1304","S1304",1304,"1304_timeline_TD",1,1,1,3,"8;50",2,"101","5",1166,2,null,8,50,{"$nulls":5},{"$f":"CONCATENATE(\"竹刺数量+\",V99)","v":"竹刺数量+2"},"竹刺·叁",null,400,8,50,{"$nulls":4},5]
[13043,13014,337.5,385,808,"竹刺","发射{0}枚竹刺，对敌人造成{1}%伤害。",4,"icon_s1304","S1304",1304,"1304_timeline_TD",1,1,1,4,"8;50",2,"101","10",1167,5,null,8,50,{"$nulls":5},{"$f":"CONCATENATE(CHOOSE(S100-100,\"生命\",\"攻击\",\"防御\"),\"+\",V100,\"%\")","v":"生命+5%"},"竹刺·肆",null,400,8,50,{"$nulls":4},10]
[13044,13014,506.25,386,809,"竹刺","发射{0}枚竹刺，对敌人造成{1}%伤害。",4,"icon_s1304","S1304",1304,"1304_timeline_TD",1,1,1,5,"10;50",2,"101","10",1168,2,null,10,50,{"$nulls":5},{"$f":"CONCATENATE(\"竹刺数量+\",V101)","v":"竹刺数量+2"},"竹刺·伍",null,500,10,50,{"$nulls":4},10]
[13045,13014,759.375,387,810,"竹刺","发射{0}枚竹刺，对敌人造成{1}%伤害。",4,"icon_s1304","S1304",1304,"1304_timeline_TD",1,1,1,6,"10;50",2,"101","15",1169,5,null,10,50,{"$nulls":5},{"$f":"CONCATENATE(CHOOSE(S102-100,\"生命\",\"攻击\",\"防御\"),\"+\",V102,\"%\")","v":"生命+5%"},"竹刺·陆",null,500,10,50,{"$nulls":4},15]
[{"$nulls":8},"icon_s",{"$nulls":4},1,{"$nulls":17},"",null,""]
[{"$f":"K104*10+P104-1","v":13050},{"$f":"B97+1","v":13015},100,388,811,"飞叶","发射{0}枚飞叶，对敌人造成{1}%伤害。",4,"icon_s1305",{"$f":"CONCATENATE(\"S\",K104)","v":"S1305"},1305,"1305_timeline_TD",1,1,1,1,{"$f":"_xlfn.TEXTJOIN(\";\",1,X104:AD104)","v":"9;35"},2,{"$f":"_xlfn.TEXTJOIN(\";\",1,IF(AO104=\"\",\"\",101),IF(AP104=\"\",\"\",102),IF(AQ104=\"\",\"\",103),IF(AR104=\"\",\"\",106),IF(AS104=\"\",\"\",107),IF(AT104=\"\",\"\",108),IF(AU104=\"\",\"\",109),IF(AV104=\"\",\"\",110))","v":""},{"$f":"_xlfn.TEXTJOIN(\";\",1,AO104:AV104)","v":""},-1,null,null,9,35,{"$nulls":6},"飞叶·壹",null,{"$f":"IF(A104=\"\",\"\",AI104*AJ104/(1-AK104-AL104))","v":315},{"$f":"X104","v":9},{"$f":"Y104","v":35}]
[{"$f":"K105*10+P105-1","v":13051},{"$f":"B98+1","v":13015},150,389,812,"飞叶","发射{0}枚飞叶，对敌人造成{1}%伤害。",4,"icon_s1305",{"$f":"CONCATENATE(\"S\",K105)","v":"S1305"},1305,"1305_timeline_TD",1,1,1,2,{"$f":"_xlfn.TEXTJOIN(\";\",1,X105:AD105)","v":"9;35"},2,{"$f":"_xlfn.TEXTJOIN(\";\",1,IF(AO105=\"\",\"\",101),IF(AP105=\"\",\"\",102),IF(AQ105=\"\",\"\",103),IF(AR105=\"\",\"\",106),IF(AS105=\"\",\"\",107),IF(AT105=\"\",\"\",108),IF(AU105=\"\",\"\",109),IF(AV105=\"\",\"\",110))","v":"102"},{"$f":"_xlfn.TEXTJOIN(\";\",1,AO105:AV105)","v":"5"},1170,5,null,9,35,{"$nulls":5},{"$f":"CONCATENATE(CHOOSE(S105-100,\"生命\",\"攻击\",\"防御\"),\"+\",V105,\"%\")","v":"攻击+5%"},"飞叶·贰",null,315,9,35,{"$nulls":5},5]
[13052,13015,225,390,813,"飞叶","发射{0}枚飞叶，对敌人造成{1}%伤害。",4,"icon_s1305","S1305",1305,"1305_timeline_TD",1,1,1,3,"12;35",2,"102","5",1171,3,null,12,35,{"$nulls":5},{"$f":"CONCATENATE(\"飞叶数量+\",V106)","v":"飞叶数量+3"},"飞叶·叁",null,420,12,35,{"$nulls":5},5]
[13053,13015,337.5,391,814,"飞叶","发射{0}枚飞叶，对敌人造成{1}%伤害。",4,"icon_s1305","S1305",1305,"1305_timeline_TD",1,1,1,4,"12;35",2,"102","10",1172,5,null,12,35,{"$nulls":5},{"$f":"CONCATENATE(CHOOSE(S107-100,\"生命\",\"攻击\",\"防御\"),\"+\",V107,\"%\")","v":"攻击+5%"},"飞叶·肆",null,420,12,35,{"$nulls":5},10]
[13054,13015,506.25,392,815,"飞叶","发射{0}枚飞叶，对敌人造成{1}%伤害。",4,"icon_s1305","S1305",1305,"1305_timeline_TD",1,1,1,5,"15;35",2,"102","10",1173,3,null,15,35,{"$nulls":5},{"$f":"CONCATENATE(\"飞叶数量+\",V108)","v":"飞叶数量+3"},"飞叶·伍",null,525,15,35,{"$nulls":5},10]
[13055,13015,759.375,393,816,"飞叶","发射{0}枚飞叶，对敌人造成{1}%伤害。",4,"icon_s1305","S1305",1305,"1305_timeline_TD",1,1,1,6,"15;35",2,"102","15",1174,5,null,15,35,{"$nulls":5},{"$f":"CONCATENATE(CHOOSE(S109-100,\"生命\",\"攻击\",\"防御\"),\"+\",V109,\"%\")","v":"攻击+5%"},"飞叶·陆",null,525,15,35,{"$nulls":5},15]
[{"$nulls":8},"icon_s",{"$nulls":4},1,{"$nulls":17},"",null,""]
[{"$f":"K111*10+P111-1","v":14010},{"$f":"B104+1","v":13016},100,394,817,"烈焰剑","向前方发出{0}柄剑，对敌人造成{1}%火系伤害，并有{2}%的概率施加1层灼烧。",8,"icon_s1401",{"$f":"CONCATENATE(\"S\",K111)","v":"S1401"},1401,"1401_timeline_TD",1,1,1,1,{"$f":"_xlfn.TEXTJOIN(\";\",1,X111:AD111)","v":"6;40;20"},2,{"$f":"_xlfn.TEXTJOIN(\";\",1,IF(AO111=\"\",\"\",101),IF(AP111=\"\",\"\",102),IF(AQ111=\"\",\"\",103),IF(AR111=\"\",\"\",106),IF(AS111=\"\",\"\",107),IF(AT111=\"\",\"\",108),IF(AU111=\"\",\"\",109),IF(AV111=\"\",\"\",110))","v":""},{"$f":"_xlfn.TEXTJOIN(\";\",1,AO111:AV111)","v":""},-1,null,null,6,40,20,{"$nulls":5},"烈焰剑·壹",null,300,{"$f":"X111","v":6},{"$f":"Y111","v":40},0.2]
[{"$f":"K112*10+P112-1","v":14011},{"$f":"B105+1","v":13016},150,395,818,"烈焰剑","向前方发出{0}柄剑，对敌人造成{1}%火系伤害，并有{2}%的概率施加1层灼烧。",8,"icon_s1401",{"$f":"CONCATENATE(\"S\",K112)","v":"S1401"},1401,"1401_timeline_TD",1,1,1,2,{"$f":"_xlfn.TEXTJOIN(\";\",1,X112:AD112)","v":"8;40;20"},2,{"$f":"_xlfn.TEXTJOIN(\";\",1,IF(AO112=\"\",\"\",101),IF(AP112=\"\",\"\",102),IF(AQ112=\"\",\"\",103),IF(AR112=\"\",\"\",106),IF(AS112=\"\",\"\",107),IF(AT112=\"\",\"\",108),IF(AU112=\"\",\"\",109),IF(AV112=\"\",\"\",110))","v":""},{"$f":"_xlfn.TEXTJOIN(\";\",1,AO112:AV112)","v":""},1175,2,null,8,40,20,{"$nulls":4},{"$f":"CONCATENATE(\"剑柄数量+\",V112)","v":"剑柄数量+2"},"烈焰剑·贰",null,400,8,40,0.2]
[14012,13016,225,396,819,"烈焰剑","向前方发出{0}柄剑，对敌人造成{1}%火系伤害，并有{2}%的概率施加1层灼烧。",8,"icon_s1401","S1401",1401,"1401_timeline_TD",1,1,1,3,"8;40;20",2,"101","10",1176,10,null,8,40,20,{"$nulls":4},{"$f":"CONCATENATE(CHOOSE(S113-100,\"生命\",\"攻击\",\"防御\"),\"+\",V113,\"%\")","v":"生命+10%"},"烈焰剑·叁",null,400,8,40,0.2,null,null,null,10]
[14013,13016,337.5,397,820,"烈焰剑","向前方发出{0}柄剑，对敌人造成{1}%火系伤害，并有{2}%的概率施加1层灼烧。",8,"icon_s1401","S1401",1401,"1401_timeline_TD",1,1,1,4,"10;40;20",2,"101","10",1177,4,null,10,40,20,{"$nulls":4},{"$f":"CONCATENATE(\"剑柄数量+\",V114)","v":"剑柄数量+4"},"烈焰剑·肆",null,500,10,40,0.2,null,null,null,10]
[14014,13016,506.25,398,821,"烈焰剑","向前方发出{0}柄剑，对敌人造成{1}%火系伤害，并有{2}%的概率施加1层灼烧。",8,"icon_s1401","S1401",1401,"1401_timeline_TD",1,1,1,5,"10;40;20",2,"101","20",1178,10,null,10,40,20,{"$nulls":4},{"$f":"CONCATENATE(CHOOSE(S115-100,\"生命\",\"攻击\",\"防御\"),\"+\",V115,\"%\")","v":"生命+10%"},"烈焰剑·伍",null,500,10,40,0.2,null,null,null,20]
[14015,13016,759.375,399,822,"烈焰剑","向前方发出{0}柄剑，对敌人造成{1}%火系伤害，并有{2}%的概率施加1层灼烧。\n每柄烈焰剑将会对敌人照成爆燃，爆燃额外受到{3}%伤害",8,"icon_s1401","S1401",1401,"1401_timeline_TD",1,1,1,6,"10;40;20;20",2,"101","20",1179,null,null,10,40,20,20,null,null,null,"额外造成爆燃伤害","烈焰剑·陆",null,599.700149925037,10,40,0.333,null,null,null,20]
[{"$nulls":8},"icon_s",{"$nulls":4},1,{"$nulls":17},"",null,""]
[{"$f":"K118*10+P118-1","v":14020},{"$f":"B111+1","v":13017},100,400,823,"赤焰龙吟功","飞出{0}道巨龙，对敌人造成{1}火系伤害。",8,"icon_s1402",{"$f":"CONCATENATE(\"S\",K118)","v":"S1402"},1402,"1402_timeline_TD",1,1,1,1,{"$f":"_xlfn.TEXTJOIN(\";\",1,X118:AD118)","v":"3;100"},2,{"$f":"_xlfn.TEXTJOIN(\";\",1,IF(AO118=\"\",\"\",101),IF(AP118=\"\",\"\",102),IF(AQ118=\"\",\"\",103),IF(AR118=\"\",\"\",106),IF(AS118=\"\",\"\",107),IF(AT118=\"\",\"\",108),IF(AU118=\"\",\"\",109),IF(AV118=\"\",\"\",110))","v":""},{"$f":"_xlfn.TEXTJOIN(\";\",1,AO118:AV118)","v":""},-1,null,null,3,100,{"$nulls":6},"赤焰龙吟功·壹",null,{"$f":"IF(A118=\"\",\"\",AI118*AJ118/(1-AK118-AL118))","v":300},{"$f":"X118","v":3},{"$f":"Y118","v":100}]
[{"$f":"K119*10+P119-1","v":14021},{"$f":"B112+1","v":13017},150,401,824,"赤焰龙吟功","飞出{0}道巨龙，对敌人造成{1}火系伤害。\n如果敌人处于灼烧中对其造成胆摄，眩晕敌人{2}秒。",8,"icon_s1402",{"$f":"CONCATENATE(\"S\",K119)","v":"S1402"},1402,"1402_timeline_TD",1,1,1,2,{"$f":"_xlfn.TEXTJOIN(\";\",1,X119:AD119)","v":"3;100;3"},2,{"$f":"_xlfn.TEXTJOIN(\";\",1,IF(AO119=\"\",\"\",101),IF(AP119=\"\",\"\",102),IF(AQ119=\"\",\"\",103),IF(AR119=\"\",\"\",106),IF(AS119=\"\",\"\",107),IF(AT119=\"\",\"\",108),IF(AU119=\"\",\"\",109),IF(AV119=\"\",\"\",110))","v":""},{"$f":"_xlfn.TEXTJOIN(\";\",1,AO119:AV119)","v":""},1180,null,null,3,100,3,{"$nulls":4},"眩晕处于灼烧中的敌人","赤焰龙吟功·贰",null,400,3,100,0.25]
[14022,13017,225,402,825,"赤焰龙吟功","飞出{0}道巨龙，对敌人造成{1}火系伤害。\n如果敌人处于灼烧中对其造成胆摄，眩晕敌人{2}秒。",8,"icon_s1402","S1402",1402,"1402_timeline_TD",1,1,1,3,"3;100;3",2,"102","10",1181,10,null,3,100,3,{"$nulls":4},{"$f":"CONCATENATE(CHOOSE(S120-100,\"生命\",\"攻击\",\"防御\"),\"+\",V120,\"%\")","v":"攻击+10%"},"赤焰龙吟功·叁",null,400,3,100,0.25,{"$nulls":4},10]
[14023,13017,337.5,403,826,"赤焰龙吟功","飞出{0}道巨龙，对敌人造成{1}火系伤害并{3}%施加1层灼烧。\n如果敌人处于灼烧中对其造成胆摄，眩晕敌人{2}秒。",8,"icon_s1402","S1402",1402,"1402_timeline_TD",1,1,1,4,"4;100;3;100",2,"102","10",1182,1,null,4,100,3,100,null,null,null,{"$f":"CONCATENATE(\"飞龙数量+\",V121,\"，额外造成灼烧\")","v":"飞龙数量+1，额外造成灼烧"},"赤焰龙吟功·肆",null,500,4,100,0.2,{"$nulls":4},10]
[14024,13017,506.25,404,827,"赤焰龙吟功","飞出{0}道巨龙，对敌人造成{1}火系伤害并{3}%施加1层灼烧。\n如果敌人处于灼烧中对其造成胆摄，眩晕敌人{2}秒。",8,"icon_s1402","S1402",1402,"1402_timeline_TD",1,1,1,5,"4;100;3;100",2,"102","20",1183,10,null,4,100,3,100,null,null,null,{"$f":"CONCATENATE(CHOOSE(S122-100,\"生命\",\"攻击\",\"防御\"),\"+\",V122,\"%\")","v":"攻击+10%"},"赤焰龙吟功·伍",null,500,4,100,0.2,{"$nulls":4},20]
[14025,13017,759.375,405,828,"赤焰龙吟功","飞出{0}道巨龙，对敌人造成{1}火系伤害并{3}%施加1层灼烧。\n如果敌人处于灼烧中对其造成胆摄，眩晕敌人{2}秒。\n飞龙命中目标后引发天雷，对敌人额外造成{4}%伤害。",8,"icon_s1402","S1402",1402,"1402_timeline_TD",1,1,1,6,"4;100;3;100;25",2,"102","20",1184,null,null,4,100,3,100,25,null,null,"额外引发天雷伤害","赤焰龙吟功·陆",null,599.700149925037,4,100,0.333,{"$nulls":4},20]
[{"$nulls":8},"icon_s",{"$nulls":4},1,{"$nulls":17},"",null,""]
[{"$f":"K125*10+P125-1","v":14030},{"$f":"B118+1","v":13018},100,406,829,"朱雀燎原指","身后出现一只大手，每个手指发射{0}道烈焰，对敌人照成{1}伤害同时{2}%概率施加1层灼烧。",8,"icon_s1403",{"$f":"CONCATENATE(\"S\",K125)","v":"S1403"},1403,"1403_timeline_TD",1,1,1,1,{"$f":"_xlfn.TEXTJOIN(\";\",1,X125:AD125)","v":"1;48;25"},2,{"$f":"_xlfn.TEXTJOIN(\";\",1,IF(AO125=\"\",\"\",101),IF(AP125=\"\",\"\",102),IF(AQ125=\"\",\"\",103),IF(AR125=\"\",\"\",106),IF(AS125=\"\",\"\",107),IF(AT125=\"\",\"\",108),IF(AU125=\"\",\"\",109),IF(AV125=\"\",\"\",110))","v":""},{"$f":"_xlfn.TEXTJOIN(\";\",1,AO125:AV125)","v":""},-1,null,null,1,48,25,{"$nulls":5},"朱雀燎原指·壹",null,300,5,{"$f":"Y125","v":48},0.2]
[{"$f":"K126*10+P126-1","v":14031},{"$f":"B119+1","v":13018},150,407,830,"朱雀燎原指","身后出现一只大手，每个手指发射{0}道烈焰，对敌人照成{1}伤害同时{2}%概率施加1层灼烧。\n对有灼烧的敌人额外造成{3}%最终伤害。",8,"icon_s1403",{"$f":"CONCATENATE(\"S\",K126)","v":"S1403"},1403,"1403_timeline_TD",1,1,1,2,{"$f":"_xlfn.TEXTJOIN(\";\",1,X126:AD126)","v":"1;48;25;30"},2,{"$f":"_xlfn.TEXTJOIN(\";\",1,IF(AO126=\"\",\"\",101),IF(AP126=\"\",\"\",102),IF(AQ126=\"\",\"\",103),IF(AR126=\"\",\"\",106),IF(AS126=\"\",\"\",107),IF(AT126=\"\",\"\",108),IF(AU126=\"\",\"\",109),IF(AV126=\"\",\"\",110))","v":""},{"$f":"_xlfn.TEXTJOIN(\";\",1,AO126:AV126)","v":""},1185,null,null,1,48,25,30,null,null,null,"对灼烧的敌人额外增伤","朱雀燎原指·贰",null,400,5,48,0.4]
[14032,13018,225,408,831,"朱雀燎原指","身后出现一只大手，每个手指发射{0}道烈焰，对敌人照成{1}伤害同时{2}%概率施加1层灼烧。\n对有灼烧的敌人额外造成{3}%最终伤害。",8,"icon_s1403","S1403",1403,"1403_timeline_TD",1,1,1,3,"1;48;25;30",2,"103","10",1186,10,null,1,48,25,30,null,null,null,{"$f":"CONCATENATE(CHOOSE(S127-100,\"生命\",\"攻击\",\"防御\"),\"+\",V127,\"%\")","v":"防御+10%"},"朱雀燎原指·叁",null,400,5,48,0.4,{"$nulls":5},10]
[14033,13018,337.5,409,832,"朱雀燎原指","身后出现一只大手，每个手指发射{0}道烈焰，对敌人照成{1}伤害同时{2}%概率施加1层灼烧。\n对有灼烧的敌人额外造成{3}%最终伤害。",8,"icon_s1403","S1403",1403,"1403_timeline_TD",1,1,1,4,"1;60;25;30",2,"103","10",1187,null,null,1,60,25,30,null,null,null,"烈焰伤害提升","朱雀燎原指·肆",null,500,5,60,0.4,{"$nulls":5},10]
[14034,13018,506.25,410,833,"朱雀燎原指","身后出现一只大手，每个手指发射{0}道烈焰，对敌人照成{1}伤害同时{2}%概率施加1层灼烧。\n对有灼烧的敌人额外造成{3}%最终伤害。",8,"icon_s1403","S1403",1403,"1403_timeline_TD",1,1,1,5,"1;60;25;30",2,"103","20",1188,10,null,1,60,25,30,null,null,null,{"$f":"CONCATENATE(CHOOSE(S129-100,\"生命\",\"攻击\",\"防御\"),\"+\",V129,\"%\")","v":"防御+10%"},"朱雀燎原指·伍",null,500,5,60,0.4,{"$nulls":5},20]
[14035,13018,759.375,411,834,"朱雀燎原指","身后出现一只大手，每个手指发射{0}道烈焰，对敌人照成{1}伤害同时{2}%概率施加1层灼烧。\n对有灼烧的敌人额外造成{3}%最终伤害。\n在左右各出现一只大手发射烈焰，但每道烈焰伤害降低{4}%。",8,"icon_s1403","S1403",1403,"1403_timeline_TD",1,1,1,6,"1;60;25;30;40",2,"103","20",1189,null,null,1,60,25,30,40,null,null,"出现2只大手但单发伤害降低","朱雀燎原指·陆",null,600,10,36,0.4,{"$nulls":5},20]
[{"$nulls":8},{"$f":"CONCATENATE(\"icon_s\",K131)","v":"icon_s"},{"$nulls":4},1,{"$nulls":17},"",null,""]
[{"$f":"K132*10+P132-1","v":14040},{"$f":"B125+1","v":13019},100,412,835,"火球","发射{0}枚火球，对敌人造成{1}%伤害。又{2}概率对敌人施加1成灼烧",8,"icon_s1404",{"$f":"CONCATENATE(\"S\",K132)","v":"S1404"},1404,"1404_timeline_TD",1,1,1,1,{"$f":"_xlfn.TEXTJOIN(\";\",1,X132:AD132)","v":"3;80;40"},2,{"$f":"_xlfn.TEXTJOIN(\";\",1,IF(AO132=\"\",\"\",101),IF(AP132=\"\",\"\",102),IF(AQ132=\"\",\"\",103),IF(AR132=\"\",\"\",106),IF(AS132=\"\",\"\",107),IF(AT132=\"\",\"\",108),IF(AU132=\"\",\"\",109),IF(AV132=\"\",\"\",110))","v":""},{"$f":"_xlfn.TEXTJOIN(\";\",1,AO132:AV132)","v":""},-1,null,null,3,80,40,{"$nulls":5},"火球·壹",null,300,{"$f":"X132","v":3},{"$f":"Y132","v":80},0.2]
[{"$f":"K133*10+P133-1","v":14041},{"$f":"B126+1","v":13019},150,413,836,"火球","发射{0}枚火球，对敌人造成{1}%伤害。又{2}概率对敌人施加1成灼烧",8,"icon_s1404",{"$f":"CONCATENATE(\"S\",K133)","v":"S1404"},1404,"1404_timeline_TD",1,1,1,2,{"$f":"_xlfn.TEXTJOIN(\";\",1,X133:AD133)","v":"3;80;40"},2,{"$f":"_xlfn.TEXTJOIN(\";\",1,IF(AO133=\"\",\"\",101),IF(AP133=\"\",\"\",102),IF(AQ133=\"\",\"\",103),IF(AR133=\"\",\"\",106),IF(AS133=\"\",\"\",107),IF(AT133=\"\",\"\",108),IF(AU133=\"\",\"\",109),IF(AV133=\"\",\"\",110))","v":"103"},{"$f":"_xlfn.TEXTJOIN(\";\",1,AO133:AV133)","v":"5"},1190,5,null,3,80,40,{"$nulls":4},{"$f":"CONCATENATE(CHOOSE(S133-100,\"生命\",\"攻击\",\"防御\"),\"+\",V133,\"%\")","v":"防御+5%"},"火球·贰",null,300,3,80,0.2,{"$nulls":5},5]
[14042,13019,225,414,837,"火球","发射{0}枚火球，对敌人造成{1}%伤害。又{2}概率对敌人施加1成灼烧",8,"icon_s1404","S1404",1404,"1404_timeline_TD",1,1,1,3,"4;80;40",2,"103","5",1191,1,null,4,80,40,{"$nulls":4},{"$f":"CONCATENATE(\"火球数量+\",V134)","v":"火球数量+1"},"火球·叁",null,400,4,80,0.2,{"$nulls":5},5]
[14043,13019,337.5,415,838,"火球","发射{0}枚火球，对敌人造成{1}%伤害。又{2}概率对敌人施加1成灼烧",8,"icon_s1404","S1404",1404,"1404_timeline_TD",1,1,1,4,"4;80;40",2,"103","10",1192,5,null,4,80,40,{"$nulls":4},{"$f":"CONCATENATE(CHOOSE(S135-100,\"生命\",\"攻击\",\"防御\"),\"+\",V135,\"%\")","v":"防御+5%"},"火球·肆",null,{"$f":"IF(A135=\"\",\"\",AI135*AJ135/(1-AK135-AL135))","v":400},4,80,0.2,{"$nulls":5},10]
[14044,13019,506.25,416,839,"火球","发射{0}枚火球，对敌人造成{1}%伤害。又{2}概率对敌人施加1成灼烧",8,"icon_s1404","S1404",1404,"1404_timeline_TD",1,1,1,5,"5;80;40",2,"103","10",1193,2,null,5,80,40,{"$nulls":4},{"$f":"CONCATENATE(\"火球数量+\",V136)","v":"火球数量+2"},"火球·伍",null,500,5,80,0.2,{"$nulls":5},10]
[14045,13019,759.375,417,840,"火球","发射{0}枚火球，对敌人造成{1}%伤害。又{2}概率对敌人施加1成灼烧",8,"icon_s1404","S1404",1404,"1404_timeline_TD",1,1,1,6,"5;80;40",2,"103","15",1194,5,null,5,80,40,{"$nulls":4},{"$f":"CONCATENATE(CHOOSE(S137-100,\"生命\",\"攻击\",\"防御\"),\"+\",V137,\"%\")","v":"防御+5%"},"火球·陆",null,500,5,80,0.2,{"$nulls":5},15]
[{"$nulls":8},"icon_s",{"$nulls":4},1,{"$nulls":17},"",null,{"$f":"IF(A138=\"\",\"\",AI138*AJ138/(1-AK138-AL138))","v":""}]
[{"$f":"K139*10+P139-1","v":14050},{"$f":"B132+1","v":13020},100,418,841,"火刀","发射{0}枚火刃，对敌人造成{1}%伤害。",8,"icon_s1405",{"$f":"CONCATENATE(\"S\",K139)","v":"S1405"},1405,"1405_timeline_TD",1,1,1,1,{"$f":"_xlfn.TEXTJOIN(\";\",1,X139:AD139)","v":"6;50"},2,{"$f":"_xlfn.TEXTJOIN(\";\",1,IF(AO139=\"\",\"\",101),IF(AP139=\"\",\"\",102),IF(AQ139=\"\",\"\",103),IF(AR139=\"\",\"\",106),IF(AS139=\"\",\"\",107),IF(AT139=\"\",\"\",108),IF(AU139=\"\",\"\",109),IF(AV139=\"\",\"\",110))","v":""},{"$f":"_xlfn.TEXTJOIN(\";\",1,AO139:AV139)","v":""},-1,null,null,6,50,{"$nulls":6},"火刀·壹",null,300,{"$f":"X139","v":6},{"$f":"Y139","v":50}]
[{"$f":"K140*10+P140-1","v":14051},{"$f":"B133+1","v":13020},150,419,842,"火刀","发射{0}枚火刃，对敌人造成{1}%伤害。",8,"icon_s1405",{"$f":"CONCATENATE(\"S\",K140)","v":"S1405"},1405,"1405_timeline_TD",1,1,1,2,{"$f":"_xlfn.TEXTJOIN(\";\",1,X140:AD140)","v":"6;50"},2,{"$f":"_xlfn.TEXTJOIN(\";\",1,IF(AO140=\"\",\"\",101),IF(AP140=\"\",\"\",102),IF(AQ140=\"\",\"\",103),IF(AR140=\"\",\"\",106),IF(AS140=\"\",\"\",107),IF(AT140=\"\",\"\",108),IF(AU140=\"\",\"\",109),IF(AV140=\"\",\"\",110))","v":"101"},{"$f":"_xlfn.TEXTJOIN(\";\",1,AO140:AV140)","v":"5"},1195,5,null,6,50,{"$nulls":5},{"$f":"CONCATENATE(CHOOSE(S140-100,\"生命\",\"攻击\",\"防御\"),\"+\",V140,\"%\")","v":"生命+5%"},"火刀·贰",null,300,6,50,{"$nulls":4},5]
[14052,13020,225,420,843,"火刀","发射{0}枚火刃，对敌人造成{1}%伤害。",8,"icon_s1405","S1405",1405,"1405_timeline_TD",1,1,1,3,"8;50",2,"101","5",1196,2,null,8,50,{"$nulls":5},{"$f":"CONCATENATE(\"火刃数量+\",V141)","v":"火刃数量+2"},"火刀·叁",null,400,8,50,{"$nulls":4},5]
[14053,13020,337.5,421,844,"火刀","发射{0}枚火刃，对敌人造成{1}%伤害。",8,"icon_s1405","S1405",1405,"1405_timeline_TD",1,1,1,4,"8;50",2,"101","10",1197,5,null,8,50,{"$nulls":5},{"$f":"CONCATENATE(CHOOSE(S142-100,\"生命\",\"攻击\",\"防御\"),\"+\",V142,\"%\")","v":"生命+5%"},"火刀·肆",null,400,8,50,{"$nulls":4},10]
[14054,13020,506.25,422,845,"火刀","发射{0}枚火刃，对敌人造成{1}%伤害。",8,"icon_s1405","S1405",1405,"1405_timeline_TD",1,1,1,5,"10;50",2,"101","10",1198,2,null,10,50,{"$nulls":5},{"$f":"CONCATENATE(\"火刃数量+\",V143)","v":"火刃数量+2"},"火刀·伍",null,500,10,50,{"$nulls":4},10]
[14055,13020,759.375,423,846,"火刀","发射{0}枚火刃，对敌人造成{1}%伤害。",8,"icon_s1405","S1405",1405,"1405_timeline_TD",1,1,1,6,"10;50",2,"101","15",1199,5,null,10,50,{"$nulls":5},{"$f":"CONCATENATE(CHOOSE(S144-100,\"生命\",\"攻击\",\"防御\"),\"+\",V144,\"%\")","v":"生命+5%"},"火刀·陆",null,500,10,50,{"$nulls":4},15]
[{"$nulls":8},"icon_s",{"$nulls":4},1,{"$nulls":17},"",null,""]
[{"$f":"K146*10+P146-1","v":15010},{"$f":"B139+1","v":13021},100,424,847,"黄尘灭魂刺","沙尘汇聚成{0}枚土刺，对敌人造成{1}%伤害，并有{2}%概率施加1层细尘。",16,"icon_s1501",{"$f":"CONCATENATE(\"S\",K146)","v":"S1501"},1501,"1501_timeline_TD",1,1,1,1,{"$f":"_xlfn.TEXTJOIN(\";\",1,X146:AD146)","v":"6;40;20"},2,{"$f":"_xlfn.TEXTJOIN(\";\",1,IF(AO146=\"\",\"\",101),IF(AP146=\"\",\"\",102),IF(AQ146=\"\",\"\",103),IF(AR146=\"\",\"\",106),IF(AS146=\"\",\"\",107),IF(AT146=\"\",\"\",108),IF(AU146=\"\",\"\",109),IF(AV146=\"\",\"\",110))","v":""},{"$f":"_xlfn.TEXTJOIN(\";\",1,AO146:AV146)","v":""},-1,null,null,6,40,20,{"$nulls":5},"黄尘灭魂刺·壹",null,300,{"$f":"X146","v":6},{"$f":"Y146","v":40},0.2]
[{"$f":"K147*10+P147-1","v":15011},{"$f":"B140+1","v":13021},150,425,848,"黄尘灭魂刺","沙尘汇聚成{0}枚土刺，对敌人造成{1}%伤害，并有{2}%概率施加1层细尘。",16,"icon_s1501",{"$f":"CONCATENATE(\"S\",K147)","v":"S1501"},1501,"1501_timeline_TD",1,1,1,2,{"$f":"_xlfn.TEXTJOIN(\";\",1,X147:AD147)","v":"6;40;20"},2,{"$f":"_xlfn.TEXTJOIN(\";\",1,IF(AO147=\"\",\"\",101),IF(AP147=\"\",\"\",102),IF(AQ147=\"\",\"\",103),IF(AR147=\"\",\"\",106),IF(AS147=\"\",\"\",107),IF(AT147=\"\",\"\",108),IF(AU147=\"\",\"\",109),IF(AV147=\"\",\"\",110))","v":""},{"$f":"_xlfn.TEXTJOIN(\";\",1,AO147:AV147)","v":""},1200,2,null,6,40,20,{"$nulls":4},{"$f":"CONCATENATE(\"土刺数量+\",V147)","v":"土刺数量+2"},"黄尘灭魂刺·贰",null,300,6,40,0.2]
[15012,13021,225,426,849,"黄尘灭魂刺","沙尘汇聚成{0}枚土刺，对敌人造成{1}%伤害，并有{2}%概率施加1层细尘。",16,"icon_s1501","S1501",1501,"1501_timeline_TD",1,1,1,3,"8;40;20",2,"101","10",1201,10,null,8,40,20,{"$nulls":4},{"$f":"CONCATENATE(CHOOSE(S148-100,\"生命\",\"攻击\",\"防御\"),\"+\",V148,\"%\")","v":"生命+10%"},{"$f":"IF(F148=\"\",\"\",CONCATENATE(F148,\"·\",CHOOSE(P148,\"壹\",\"贰\",\"叁\",\"肆\",\"伍\",\"陆\")))","v":"黄尘灭魂刺·叁"},null,400,8,40,0.2,null,null,null,10]
[15013,13021,337.5,427,850,"黄尘灭魂刺","沙尘汇聚成{0}枚土刺，对敌人造成{1}%伤害，并有{2}%概率施加1层细尘。",16,"icon_s1501","S1501",1501,"1501_timeline_TD",1,1,1,4,"8;40;20",2,"101","10",1202,2,null,8,40,20,{"$nulls":4},{"$f":"CONCATENATE(\"土刺数量+\",V149)","v":"土刺数量+2"},"黄尘灭魂刺·肆",null,400,8,40,0.2,null,null,null,10]
[15014,13021,506.25,428,851,"黄尘灭魂刺","沙尘汇聚成{0}枚土刺，对敌人造成{1}%伤害，并有{2}%概率施加1层细尘。",16,"icon_s1501","S1501",1501,"1501_timeline_TD",1,1,1,5,"10;40;20",2,"101","20",1203,10,null,10,40,20,{"$nulls":4},{"$f":"CONCATENATE(CHOOSE(S150-100,\"生命\",\"攻击\",\"防御\"),\"+\",V150,\"%\")","v":"生命+10%"},"黄尘灭魂刺·伍",null,500,10,40,0.2,null,null,null,20]
[15015,13021,759.375,429,852,"黄尘灭魂刺","沙尘汇聚成{0}枚土刺，对敌人造成{1}%伤害，并有{2}%概率施加1层细尘。",16,"icon_s1501","S1501",1501,"1501_timeline_TD",1,1,1,6,"10;40;20",2,"101","20",1204,2,null,10,40,20,{"$nulls":4},{"$f":"CONCATENATE(\"土刺数量+\",V151)","v":"土刺数量+2"},"黄尘灭魂刺·陆",null,500,10,40,0.2,null,null,null,20]
[{"$nulls":8},"icon_s",{"$nulls":4},1,{"$nulls":17},"",null,""]
[{"$f":"K153*10+P153-1","v":15020},{"$f":"B146+1","v":13022},100,430,853,"地裂屠龙斩","一柄虚空形成的大刀，横空挥砍形成{0}个刀气，对敌人造成{1}%伤害，并有{2}%概率叠加1层破甲",16,"icon_s1502",{"$f":"CONCATENATE(\"S\",K153)","v":"S1502"},1502,"1502_timeline_TD",1,1,1,1,{"$f":"_xlfn.TEXTJOIN(\";\",1,X153:AD153)","v":"3;80;30"},2,{"$f":"_xlfn.TEXTJOIN(\";\",1,IF(AO153=\"\",\"\",101),IF(AP153=\"\",\"\",102),IF(AQ153=\"\",\"\",103),IF(AR153=\"\",\"\",106),IF(AS153=\"\",\"\",107),IF(AT153=\"\",\"\",108),IF(AU153=\"\",\"\",109),IF(AV153=\"\",\"\",110))","v":""},{"$f":"_xlfn.TEXTJOIN(\";\",1,AO153:AV153)","v":""},-1,null,null,3,80,30,{"$nulls":5},"地裂屠龙斩·壹",null,{"$f":"IF(A153=\"\",\"\",AI153*AJ153/(1-AK153-AL153))","v":300},{"$f":"X153","v":3},{"$f":"Y153","v":80},0.2]
[{"$f":"K154*10+P154-1","v":15021},{"$f":"B147+1","v":13022},150,431,854,"地裂屠龙斩","一柄虚空形成的大刀，横空挥砍形成{0}个刀气，对敌人造成{1}%伤害，并有{2}%概率叠加1层破甲",16,"icon_s1502",{"$f":"CONCATENATE(\"S\",K154)","v":"S1502"},1502,"1502_timeline_TD",1,1,1,2,{"$f":"_xlfn.TEXTJOIN(\";\",1,X154:AD154)","v":"4;80;30"},2,{"$f":"_xlfn.TEXTJOIN(\";\",1,IF(AO154=\"\",\"\",101),IF(AP154=\"\",\"\",102),IF(AQ154=\"\",\"\",103),IF(AR154=\"\",\"\",106),IF(AS154=\"\",\"\",107),IF(AT154=\"\",\"\",108),IF(AU154=\"\",\"\",109),IF(AV154=\"\",\"\",110))","v":""},{"$f":"_xlfn.TEXTJOIN(\";\",1,AO154:AV154)","v":""},1205,1,null,4,80,30,{"$nulls":4},{"$f":"CONCATENATE(\"刀气数量+\",V154)","v":"刀气数量+1"},"地裂屠龙斩·贰",null,400,4,80,0.2]
[15022,13022,225,432,855,"地裂屠龙斩","一柄虚空形成的大刀，横空挥砍形成{0}个刀气，对敌人造成{1}%伤害，并有{2}%概率叠加1层破甲",16,"icon_s1502","S1502",1502,"1502_timeline_TD",1,1,1,3,"4;80;30",2,"102","10",1206,10,null,4,80,30,{"$nulls":4},{"$f":"CONCATENATE(CHOOSE(S155-100,\"生命\",\"攻击\",\"防御\"),\"+\",V155,\"%\")","v":"攻击+10%"},"地裂屠龙斩·叁",null,400,4,80,0.2,{"$nulls":4},10]
[15023,13022,337.5,433,856,"地裂屠龙斩","一柄虚空形成的大刀，横空挥砍形成{0}个刀气，对敌人造成{1}%伤害，并有{2}%概率叠加1层破甲",16,"icon_s1502","S1502",1502,"1502_timeline_TD",1,1,1,4,"5;80;30",2,"102","10",1207,1,null,5,80,30,{"$nulls":4},{"$f":"CONCATENATE(\"刀气数量+\",V156)","v":"刀气数量+1"},"地裂屠龙斩·肆",null,500,5,80,0.2,{"$nulls":4},10]
[15024,13022,506.25,434,857,"地裂屠龙斩","一柄虚空形成的大刀，横空挥砍形成{0}个刀气，对敌人造成{1}%伤害，并有{2}%概率叠加1层破甲",16,"icon_s1502","S1502",1502,"1502_timeline_TD",1,1,1,5,"5;80;30",2,"102","20",1208,10,null,5,80,30,{"$nulls":4},{"$f":"CONCATENATE(CHOOSE(S157-100,\"生命\",\"攻击\",\"防御\"),\"+\",V157,\"%\")","v":"攻击+10%"},"地裂屠龙斩·伍",null,500,5,80,0.2,{"$nulls":4},20]
[15025,13022,759.375,435,858,"地裂屠龙斩","一柄虚空形成的大刀，横空挥砍形成{0}个刀气，对敌人造成{1}%伤害，并有{2}%概率叠加1层破甲",16,"icon_s1502","S1502",1502,"1502_timeline_TD",1,1,1,6,"6;80;30",2,"102","20",1209,1,null,6,80,30,{"$nulls":4},{"$f":"CONCATENATE(\"刀气数量+\",V158)","v":"刀气数量+1"},"地裂屠龙斩·陆",null,600,6,80,0.2,{"$nulls":4},20]
[{"$nulls":8},"icon_s",{"$nulls":4},1,{"$nulls":17},"",null,""]
[null,{"$f":"B153+1","v":13023},100,436,859,null,"占位",16,"icon_s1503",{"$f":"CONCATENATE(\"S\",K160)","v":"S1503"},1503,"bingzhui_timeline_TD",1,1,1,1,{"$f":"_xlfn.TEXTJOIN(\";\",1,X160:AD160)","v":"3;120;30"},2,{"$f":"_xlfn.TEXTJOIN(\";\",1,IF(AO160=\"\",\"\",101),IF(AP160=\"\",\"\",102),IF(AQ160=\"\",\"\",103),IF(AR160=\"\",\"\",106),IF(AS160=\"\",\"\",107),IF(AT160=\"\",\"\",108),IF(AU160=\"\",\"\",109),IF(AV160=\"\",\"\",110))","v":""},{"$f":"_xlfn.TEXTJOIN(\";\",1,AO160:AV160)","v":""},-1,null,null,3,120,30,{"$nulls":5},{"$f":"IF(F160=\"\",\"\",CONCATENATE(F160,\"·\",CHOOSE(P160,\"壹\",\"贰\",\"叁\",\"肆\",\"伍\",\"陆\")))","v":""},null,"",{"$f":"X160","v":3},{"$f":"Y160","v":120}]
[null,{"$f":"B154+1","v":13023},150,437,860,null,"占位",16,"icon_s1503",{"$f":"CONCATENATE(\"S\",K161)","v":"S1503"},1503,"bingzhui_timeline_TD",1,1,1,2,{"$f":"_xlfn.TEXTJOIN(\";\",1,X161:AD161)","v":"4;120;30"},2,{"$f":"_xlfn.TEXTJOIN(\";\",1,IF(AO161=\"\",\"\",101),IF(AP161=\"\",\"\",102),IF(AQ161=\"\",\"\",103),IF(AR161=\"\",\"\",106),IF(AS161=\"\",\"\",107),IF(AT161=\"\",\"\",108),IF(AU161=\"\",\"\",109),IF(AV161=\"\",\"\",110))","v":""},{"$f":"_xlfn.TEXTJOIN(\";\",1,AO161:AV161)","v":""},1210,1,null,4,120,30,{"$nulls":4},{"$f":"CONCATENATE(\"刀气数量+\",V161)","v":"刀气数量+1"},"",null,"",4,120]
[null,13023,225,438,861,null,"占位",16,"icon_s1503","S1503",1503,"bingzhui_timeline_TD",1,1,1,3,"4;120;30",2,"103","10",1211,10,null,4,120,30,{"$nulls":4},{"$f":"CONCATENATE(CHOOSE(S162-100,\"生命\",\"攻击\",\"防御\"),\"+\",V162,\"%\")","v":"防御+10%"},"",null,"",4,120,{"$nulls":6},10]
[null,13023,337.5,439,862,null,"占位",16,"icon_s1503","S1503",1503,"bingzhui_timeline_TD",1,1,1,4,"5;120;30",2,"103","10",1212,2,null,5,120,30,{"$nulls":4},{"$f":"CONCATENATE(\"刀气数量+\",V163)","v":"刀气数量+2"},"",null,"",5,120,{"$nulls":6},10]
[null,13023,506.25,440,863,null,"占位",16,"icon_s1503","S1503",1503,"bingzhui_timeline_TD",1,1,1,5,"5;120;30",2,"103","20",1213,10,null,5,120,30,{"$nulls":4},{"$f":"CONCATENATE(CHOOSE(S164-100,\"生命\",\"攻击\",\"防御\"),\"+\",V164,\"%\")","v":"防御+10%"},"",null,"",5,120,{"$nulls":6},20]
[null,13023,759.375,441,864,null,"占位",16,"icon_s1503","S1503",1503,"bingzhui_timeline_TD",1,1,1,6,"6;120;30",2,"103","20",1214,3,null,6,120,30,{"$nulls":4},{"$f":"CONCATENATE(\"刀气数量+\",V165)","v":"刀气数量+3"},"",null,"",6,120,{"$nulls":6},20]
[{"$nulls":8},"icon_s",{"$nulls":4},1,{"$nulls":17},"",null,""]
[{"$f":"K167*10+P167-1","v":15040},{"$f":"B160+1","v":13024},100,436,859,"落石","从天而降{0}枚落石，对敌人造成{1}%伤害。",16,"icon_s1504",{"$f":"CONCATENATE(\"S\",K167)","v":"S1504"},1504,"1504_timeline_TD",1,1,1,1,{"$f":"_xlfn.TEXTJOIN(\";\",1,X167:AD167)","v":"3;100"},2,{"$f":"_xlfn.TEXTJOIN(\";\",1,IF(AO167=\"\",\"\",101),IF(AP167=\"\",\"\",102),IF(AQ167=\"\",\"\",103),IF(AR167=\"\",\"\",106),IF(AS167=\"\",\"\",107),IF(AT167=\"\",\"\",108),IF(AU167=\"\",\"\",109),IF(AV167=\"\",\"\",110))","v":""},{"$f":"_xlfn.TEXTJOIN(\";\",1,AO167:AV167)","v":""},-1,null,null,3,100,{"$nulls":6},"落石·壹",null,300,{"$f":"X167","v":3},{"$f":"Y167","v":100}]
[{"$f":"K168*10+P168-1","v":15041},{"$f":"B161+1","v":13024},150,437,860,"落石","从天而降{0}枚落石，对敌人造成{1}%伤害。",16,"icon_s1504",{"$f":"CONCATENATE(\"S\",K168)","v":"S1504"},1504,"1504_timeline_TD",1,1,1,2,{"$f":"_xlfn.TEXTJOIN(\";\",1,X168:AD168)","v":"3;100"},2,{"$f":"_xlfn.TEXTJOIN(\";\",1,IF(AO168=\"\",\"\",101),IF(AP168=\"\",\"\",102),IF(AQ168=\"\",\"\",103),IF(AR168=\"\",\"\",106),IF(AS168=\"\",\"\",107),IF(AT168=\"\",\"\",108),IF(AU168=\"\",\"\",109),IF(AV168=\"\",\"\",110))","v":"102"},{"$f":"_xlfn.TEXTJOIN(\";\",1,AO168:AV168)","v":"5"},1215,5,null,3,100,{"$nulls":5},{"$f":"CONCATENATE(CHOOSE(S168-100,\"生命\",\"攻击\",\"防御\"),\"+\",V168,\"%\")","v":"攻击+5%"},"落石·贰",null,300,3,100,{"$nulls":5},5]
[15042,13024,225,438,861,"落石","从天而降{0}枚落石，对敌人造成{1}%伤害。",16,"icon_s1504","S1504",1504,"1504_timeline_TD",1,1,1,3,"4;100",2,"102","5",1216,1,null,4,100,{"$nulls":5},{"$f":"CONCATENATE(\"落石数量+\",V169)","v":"落石数量+1"},"落石·叁",null,400,4,100,{"$nulls":5},5]
[15043,13024,337.5,439,862,"落石","从天而降{0}枚落石，对敌人造成{1}%伤害。",16,"icon_s1504","S1504",1504,"1504_timeline_TD",1,1,1,4,"4;100",2,"102","10",1217,5,null,4,100,{"$nulls":5},{"$f":"CONCATENATE(CHOOSE(S170-100,\"生命\",\"攻击\",\"防御\"),\"+\",V170,\"%\")","v":"攻击+5%"},"落石·肆",null,400,4,100,{"$nulls":5},10]
[15044,13024,506.25,440,863,"落石","从天而降{0}枚落石，对敌人造成{1}%伤害。",16,"icon_s1504","S1504",1504,"1504_timeline_TD",1,1,1,5,"5;100",2,"102","10",1218,1,null,5,100,{"$nulls":5},{"$f":"CONCATENATE(\"落石数量+\",V171)","v":"落石数量+1"},"落石·伍",null,500,5,100,{"$nulls":5},10]
[15045,13024,759.375,441,864,"落石","从天而降{0}枚落石，对敌人造成{1}%伤害。",16,"icon_s1504","S1504",1504,"1504_timeline_TD",1,1,1,6,"5;100",2,"102","15",1219,5,null,5,100,{"$nulls":5},{"$f":"CONCATENATE(CHOOSE(S172-100,\"生命\",\"攻击\",\"防御\"),\"+\",V172,\"%\")","v":"攻击+5%"},"落石·陆",null,500,5,100,{"$nulls":5},15]
[{"$nulls":8},"icon_s",{"$nulls":4},1,{"$nulls":17},"",null,""]
[{"$f":"K174*10+P174-1","v":15050},{"$f":"B167+1","v":13025},100,442,865,"小石头","发射{0}枚小石头，对敌人造成{1}%伤害。",16,"icon_s1505",{"$f":"CONCATENATE(\"S\",K174)","v":"S1505"},1505,"1505_timeline_TD",1,1,1,1,{"$f":"_xlfn.TEXTJOIN(\";\",1,X174:AD174)","v":"9;35"},2,{"$f":"_xlfn.TEXTJOIN(\";\",1,IF(AO174=\"\",\"\",101),IF(AP174=\"\",\"\",102),IF(AQ174=\"\",\"\",103),IF(AR174=\"\",\"\",106),IF(AS174=\"\",\"\",107),IF(AT174=\"\",\"\",108),IF(AU174=\"\",\"\",109),IF(AV174=\"\",\"\",110))","v":""},{"$f":"_xlfn.TEXTJOIN(\";\",1,AO174:AV174)","v":""},-1,null,null,9,35,{"$nulls":6},"小石头·壹",null,{"$f":"IF(A174=\"\",\"\",AI174*AJ174/(1-AK174-AL174))","v":315},{"$f":"X174","v":9},{"$f":"Y174","v":35}]
[{"$f":"K175*10+P175-1","v":15051},{"$f":"B168+1","v":13025},150,443,866,"小石头","发射{0}枚小石头，对敌人造成{1}%伤害。",16,"icon_s1505",{"$f":"CONCATENATE(\"S\",K175)","v":"S1505"},1505,"1505_timeline_TD",1,1,1,2,{"$f":"_xlfn.TEXTJOIN(\";\",1,X175:AD175)","v":"9;35"},2,{"$f":"_xlfn.TEXTJOIN(\";\",1,IF(AO175=\"\",\"\",101),IF(AP175=\"\",\"\",102),IF(AQ175=\"\",\"\",103),IF(AR175=\"\",\"\",106),IF(AS175=\"\",\"\",107),IF(AT175=\"\",\"\",108),IF(AU175=\"\",\"\",109),IF(AV175=\"\",\"\",110))","v":"101"},{"$f":"_xlfn.TEXTJOIN(\";\",1,AO175:AV175)","v":"5"},1220,5,null,9,35,{"$nulls":5},{"$f":"CONCATENATE(CHOOSE(S175-100,\"生命\",\"攻击\",\"防御\"),\"+\",V175,\"%\")","v":"生命+5%"},"小石头·贰",null,315,9,35,{"$nulls":4},5]
[15052,13025,225,444,867,"小石头","发射{0}枚小石头，对敌人造成{1}%伤害。",16,"icon_s1505","S1505",1505,"1505_timeline_TD",1,1,1,3,"12;35",2,"101","5",1221,3,null,12,35,{"$nulls":5},{"$f":"CONCATENATE(\"小石头数量+\",V176)","v":"小石头数量+3"},"小石头·叁",null,420,12,35,{"$nulls":4},5]
[15053,13025,337.5,445,868,"小石头","发射{0}枚小石头，对敌人造成{1}%伤害。",16,"icon_s1505","S1505",1505,"1505_timeline_TD",1,1,1,4,"12;35",2,"101","10",1222,5,null,12,35,{"$nulls":5},{"$f":"CONCATENATE(CHOOSE(S177-100,\"生命\",\"攻击\",\"防御\"),\"+\",V177,\"%\")","v":"生命+5%"},"小石头·肆",null,420,12,35,{"$nulls":4},10]
[15054,13025,506.25,446,869,"小石头","发射{0}枚小石头，对敌人造成{1}%伤害。",16,"icon_s1505","S1505",1505,"1505_timeline_TD",1,1,1,5,"15;35",2,"101","10",1223,3,null,15,35,{"$nulls":5},{"$f":"CONCATENATE(\"小石头数量+\",V178)","v":"小石头数量+3"},"小石头·伍",null,525,15,35,{"$nulls":4},10]
[15055,13025,759.375,447,870,"小石头","发射{0}枚小石头，对敌人造成{1}%伤害。",16,"icon_s1505","S1505",1505,"1505_timeline_TD",1,1,1,6,"15;35",2,"101","15",1224,5,null,15,35,{"$nulls":5},{"$f":"CONCATENATE(CHOOSE(S179-100,\"生命\",\"攻击\",\"防御\"),\"+\",V179,\"%\")","v":"生命+5%"},"小石头·陆",null,525,15,35,{"$nulls":4},15]
[{"$nulls":8},"icon_s",{"$nulls":4},1,{"$nulls":17},"",null,""]
[null,"英雄-被动功法区域",{"$nulls":6},"icon_s",{"$nulls":4},1,{"$nulls":17},"",null,""]
[{"$f":"K182*10+P182-1","v":20010},13006,100,448,871,"天衍星辰诀","引星辰之力入体，增强玩家体魄，\n让后方槽位的功法无视防御性护盾（功法法宝带来的防护罩、自身护盾）",0,"icon_s2001",{"$f":"CONCATENATE(\"S\",K182)","v":"S2001"},2001,null,1,1,2,1,{"$f":"_xlfn.TEXTJOIN(\";\",1,X182:AD182)","v":""},0,{"$f":"_xlfn.TEXTJOIN(\";\",1,IF(AO182=\"\",\"\",101),IF(AP182=\"\",\"\",102),IF(AQ182=\"\",\"\",103),IF(AR182=\"\",\"\",106),IF(AS182=\"\",\"\",107),IF(AT182=\"\",\"\",108),IF(AU182=\"\",\"\",109),IF(AV182=\"\",\"\",110))","v":""},{"$f":"_xlfn.TEXTJOIN(\";\",1,AO182:AV182)","v":""},-1,null,-1,{"$nulls":8},"天衍星辰诀·壹",null,0]
[{"$f":"K183*10+P183-1","v":20011},13006,150,449,872,"天衍星辰诀","引星辰之力入体，增强玩家体魄，\n让后方槽位的功法无视防御性护盾（功法法宝带来的防护罩、自身护盾）",0,"icon_s2001",{"$f":"CONCATENATE(\"S\",K183)","v":"S2001"},2001,null,1,1,2,2,{"$f":"_xlfn.TEXTJOIN(\";\",1,X183:AD183)","v":""},0,{"$f":"_xlfn.TEXTJOIN(\";\",1,IF(AO183=\"\",\"\",101),IF(AP183=\"\",\"\",102),IF(AQ183=\"\",\"\",103),IF(AR183=\"\",\"\",106),IF(AS183=\"\",\"\",107),IF(AT183=\"\",\"\",108),IF(AU183=\"\",\"\",109),IF(AV183=\"\",\"\",110))","v":"103"},{"$f":"_xlfn.TEXTJOIN(\";\",1,AO183:AV183)","v":"3"},1225,3,-1,{"$nulls":7},{"$f":"CONCATENATE(CHOOSE(S183-100,\"生命\",\"攻击\",\"防御\"),\"+\",V183,\"%\")","v":"防御+3%"},"天衍星辰诀·贰",null,0,{"$nulls":8},3]
[20012,13006,225,450,873,"天衍星辰诀","引星辰之力入体，增强玩家体魄，\n让后方槽位的功法无视防御性护盾（功法法宝带来的防护罩、自身护盾）",0,"icon_s2001","S2001",2001,null,1,1,2,3,"",0,"103","6",1226,3,-1,{"$nulls":7},{"$f":"CONCATENATE(CHOOSE(S184-100,\"生命\",\"攻击\",\"防御\"),\"+\",V184,\"%\")","v":"防御+3%"},"天衍星辰诀·叁",null,0,{"$nulls":8},6]
[20013,13006,337.5,451,874,"天衍星辰诀","引星辰之力入体，增强玩家体魄，\n让后方槽位的功法无视防御性护盾（功法法宝带来的防护罩、自身护盾）",0,"icon_s2001","S2001",2001,null,1,1,2,4,"",0,"103","9",1227,3,-1,{"$nulls":7},{"$f":"CONCATENATE(CHOOSE(S185-100,\"生命\",\"攻击\",\"防御\"),\"+\",V185,\"%\")","v":"防御+3%"},"天衍星辰诀·肆",null,0,{"$nulls":8},9]
[20014,13006,506.25,452,875,"天衍星辰诀","引星辰之力入体，增强玩家体魄，\n让后方槽位的功法无视防御性护盾（功法法宝带来的防护罩、自身护盾）",0,"icon_s2001","S2001",2001,null,1,1,2,5,"",0,"103","12",1228,3,-1,{"$nulls":7},{"$f":"CONCATENATE(CHOOSE(S186-100,\"生命\",\"攻击\",\"防御\"),\"+\",V186,\"%\")","v":"防御+3%"},"天衍星辰诀·伍",null,0,{"$nulls":8},12]
[20015,13006,759.375,453,876,"天衍星辰诀","引星辰之力入体，增强玩家体魄，\n让后方槽位的功法无视防御性护盾（功法法宝带来的防护罩、自身护盾）",0,"icon_s2001","S2001",2001,null,1,1,2,6,"",0,"103","12",1229,null,-1,{"$nulls":7},"穿过护盾时额外对护盾照成等额伤害","天衍星辰诀·陆",null,0,{"$nulls":8},12]
[{"$nulls":8},"icon_s",{"$nulls":4},1,{"$nulls":17},"",null,""]
[{"$f":"K189*10+P189-1","v":20020},13006,100,454,877,"法宝秘籍","后方槽位技能在击中目标时，为法宝提供{0}%充能",0,"icon_s2002",{"$f":"CONCATENATE(\"S\",K189)","v":"S2002"},{"$f":"K182+1","v":2002},null,1,1,2,1,{"$f":"_xlfn.TEXTJOIN(\";\",1,X189:AD189)","v":"1"},0,{"$f":"_xlfn.TEXTJOIN(\";\",1,IF(AO189=\"\",\"\",101),IF(AP189=\"\",\"\",102),IF(AQ189=\"\",\"\",103),IF(AR189=\"\",\"\",106),IF(AS189=\"\",\"\",107),IF(AT189=\"\",\"\",108),IF(AU189=\"\",\"\",109),IF(AV189=\"\",\"\",110))","v":""},{"$f":"_xlfn.TEXTJOIN(\";\",1,AO189:AV189)","v":""},-1,null,-1,1,{"$nulls":7},"法宝秘籍·壹",null,0]
[{"$f":"K190*10+P190-1","v":20021},13006,150,455,878,"法宝秘籍","后方槽位技能在击中目标时，为法宝提供{0}%充能",0,"icon_s2002",{"$f":"CONCATENATE(\"S\",K190)","v":"S2002"},{"$f":"K183+1","v":2002},null,1,1,2,2,{"$f":"_xlfn.TEXTJOIN(\";\",1,X190:AD190)","v":"1"},0,{"$f":"_xlfn.TEXTJOIN(\";\",1,IF(AO190=\"\",\"\",101),IF(AP190=\"\",\"\",102),IF(AQ190=\"\",\"\",103),IF(AR190=\"\",\"\",106),IF(AS190=\"\",\"\",107),IF(AT190=\"\",\"\",108),IF(AU190=\"\",\"\",109),IF(AV190=\"\",\"\",110))","v":"102"},{"$f":"_xlfn.TEXTJOIN(\";\",1,AO190:AV190)","v":"3"},1230,3,-1,1,{"$nulls":6},{"$f":"CONCATENATE(CHOOSE(S190-100,\"生命\",\"攻击\",\"防御\"),\"+\",V190,\"%\")","v":"攻击+3%"},"法宝秘籍·贰",null,0,{"$nulls":7},3]
[20022,13006,225,456,879,"法宝秘籍","后方槽位技能在击中目标时，为法宝提供{0}%充能",0,"icon_s2002","S2002",2002,null,1,1,2,3,"1",0,"102","6",1231,3,-1,1,{"$nulls":6},{"$f":"CONCATENATE(CHOOSE(S191-100,\"生命\",\"攻击\",\"防御\"),\"+\",V191,\"%\")","v":"攻击+3%"},"法宝秘籍·叁",null,0,{"$nulls":7},6]
[20023,13006,337.5,457,880,"法宝秘籍","后方槽位技能在击中目标时，为法宝提供{0}%充能",0,"icon_s2002","S2002",2002,null,1,1,2,4,"1",0,"102","9",1232,3,-1,1,{"$nulls":6},{"$f":"CONCATENATE(CHOOSE(S192-100,\"生命\",\"攻击\",\"防御\"),\"+\",V192,\"%\")","v":"攻击+3%"},"法宝秘籍·肆",null,0,{"$nulls":7},9]
[20024,13006,506.25,458,881,"法宝秘籍","后方槽位技能在击中目标时，为法宝提供{0}%充能",0,"icon_s2002","S2002",2002,null,1,1,2,5,"1",0,"102","12",1233,3,-1,1,{"$nulls":6},{"$f":"CONCATENATE(CHOOSE(S193-100,\"生命\",\"攻击\",\"防御\"),\"+\",V193,\"%\")","v":"攻击+3%"},"法宝秘籍·伍",null,0,{"$nulls":7},12]
[20025,13006,759.375,459,882,"法宝秘籍","后方槽位技能在击中目标时，为法宝提供{0}%充能。\n法宝可以瞬间施放，且规避法宝对拼。",0,"icon_s2002","S2002",2002,null,1,1,2,6,"3",0,"102","12",1234,null,-1,3,{"$nulls":6},"充能增效，法宝瞬发且不对拼","法宝秘籍·陆",null,0,{"$nulls":7},12]
[{"$nulls":8},{"$f":"CONCATENATE(\"icon_s\",K195)","v":"icon_s"},{"$nulls":4},1,{"$nulls":17},"",null,""]
[{"$f":"K196*10+P196-1","v":20030},13011,100,460,883,"崩脉决","前方功法造成伤害时有{0}%概率施加一层对应属性的伤势",0,"icon_s2003",{"$f":"CONCATENATE(\"S\",K196)","v":"S2003"},{"$f":"K189+1","v":2003},null,1,1,2,1,{"$f":"_xlfn.TEXTJOIN(\";\",1,X196:AD196)","v":"50"},0,{"$f":"_xlfn.TEXTJOIN(\";\",1,IF(AO196=\"\",\"\",101),IF(AP196=\"\",\"\",102),IF(AQ196=\"\",\"\",103),IF(AR196=\"\",\"\",106),IF(AS196=\"\",\"\",107),IF(AT196=\"\",\"\",108),IF(AU196=\"\",\"\",109),IF(AV196=\"\",\"\",110))","v":""},{"$f":"_xlfn.TEXTJOIN(\";\",1,AO196:AV196)","v":""},-1,null,1,50,{"$nulls":7},"崩脉决·壹",null,0]
[{"$f":"K197*10+P197-1","v":20031},13011,150,461,884,"崩脉决","前方功法造成伤害时有{0}%概率施加一层对应属性的伤势",0,"icon_s2003",{"$f":"CONCATENATE(\"S\",K197)","v":"S2003"},{"$f":"K190+1","v":2003},null,1,1,2,2,{"$f":"_xlfn.TEXTJOIN(\";\",1,X197:AD197)","v":"50"},0,{"$f":"_xlfn.TEXTJOIN(\";\",1,IF(AO197=\"\",\"\",101),IF(AP197=\"\",\"\",102),IF(AQ197=\"\",\"\",103),IF(AR197=\"\",\"\",106),IF(AS197=\"\",\"\",107),IF(AT197=\"\",\"\",108),IF(AU197=\"\",\"\",109),IF(AV197=\"\",\"\",110))","v":"103"},{"$f":"_xlfn.TEXTJOIN(\";\",1,AO197:AV197)","v":"3"},1235,3,1,50,{"$nulls":6},{"$f":"CONCATENATE(CHOOSE(S197-100,\"生命\",\"攻击\",\"防御\"),\"+\",V197,\"%\")","v":"防御+3%"},"崩脉决·贰",null,0,{"$nulls":8},3]
[20032,13011,225,462,885,"崩脉决","前方功法造成伤害时有{0}%概率施加一层对应属性的伤势",0,"icon_s2003","S2003",2003,null,1,1,2,3,"50",0,"103","6",1236,3,1,50,{"$nulls":6},{"$f":"CONCATENATE(CHOOSE(S198-100,\"生命\",\"攻击\",\"防御\"),\"+\",V198,\"%\")","v":"防御+3%"},"崩脉决·叁",null,0,{"$nulls":8},6]
[20033,13011,337.5,463,886,"崩脉决","前方功法造成伤害时有{0}%概率施加一层对应属性的伤势",0,"icon_s2003","S2003",2003,null,1,1,2,4,"50",0,"103","9",1237,3,1,50,{"$nulls":6},{"$f":"CONCATENATE(CHOOSE(S199-100,\"生命\",\"攻击\",\"防御\"),\"+\",V199,\"%\")","v":"防御+3%"},"崩脉决·肆",null,{"$f":"IF(A199=\"\",\"\",AI199*AJ199/(1-AK199-AL199))","v":0},{"$nulls":8},9]
[20034,13011,506.25,464,887,"崩脉决","前方功法造成伤害时有{0}%概率施加一层对应属性的伤势",0,"icon_s2003","S2003",2003,null,1,1,2,5,"50",0,"103","12",1238,3,1,50,{"$nulls":6},{"$f":"CONCATENATE(CHOOSE(S200-100,\"生命\",\"攻击\",\"防御\"),\"+\",V200,\"%\")","v":"防御+3%"},"崩脉决·伍",null,0,{"$nulls":8},12]
[20035,13011,759.375,465,888,"崩脉决","前方功法造成伤害时有{0}%概率施加一层对应属性的伤势",0,"icon_s2003","S2003",2003,null,1,1,2,6,"100",0,"103","12",1239,null,1,100,{"$nulls":6},"触发概率提升","崩脉决·陆",null,0,{"$nulls":8},12]
[{"$nulls":8},"icon_s",{"$nulls":4},1,{"$nulls":17},"",null,""]
[{"$f":"K203*10+P203-1","v":20040},13007,100,466,889,"两仪决","前后方法宝如果相生则双生效果增强{0}%",0,"icon_s2004",{"$f":"CONCATENATE(\"S\",K203)","v":"S2004"},{"$f":"K196+1","v":2004},null,1,1,2,1,{"$f":"_xlfn.TEXTJOIN(\";\",1,X203:AD203)","v":"30"},0,{"$f":"_xlfn.TEXTJOIN(\";\",1,IF(AO203=\"\",\"\",101),IF(AP203=\"\",\"\",102),IF(AQ203=\"\",\"\",103),IF(AR203=\"\",\"\",106),IF(AS203=\"\",\"\",107),IF(AT203=\"\",\"\",108),IF(AU203=\"\",\"\",109),IF(AV203=\"\",\"\",110))","v":""},{"$f":"_xlfn.TEXTJOIN(\";\",1,AO203:AV203)","v":""},-1,null,"1;-1",30,{"$nulls":7},"两仪决·壹",null,0]
[{"$f":"K204*10+P204-1","v":20041},13007,150,467,890,"两仪决","前后方法宝如果相生则双生效果增强{0}%",0,"icon_s2004",{"$f":"CONCATENATE(\"S\",K204)","v":"S2004"},{"$f":"K197+1","v":2004},null,1,1,2,2,{"$f":"_xlfn.TEXTJOIN(\";\",1,X204:AD204)","v":"30"},0,{"$f":"_xlfn.TEXTJOIN(\";\",1,IF(AO204=\"\",\"\",101),IF(AP204=\"\",\"\",102),IF(AQ204=\"\",\"\",103),IF(AR204=\"\",\"\",106),IF(AS204=\"\",\"\",107),IF(AT204=\"\",\"\",108),IF(AU204=\"\",\"\",109),IF(AV204=\"\",\"\",110))","v":"101"},{"$f":"_xlfn.TEXTJOIN(\";\",1,AO204:AV204)","v":"3"},1240,3,"1;-1",30,{"$nulls":6},{"$f":"CONCATENATE(CHOOSE(S204-100,\"生命\",\"攻击\",\"防御\"),\"+\",V204,\"%\")","v":"生命+3%"},"两仪决·贰",null,0,{"$nulls":6},3]
[20042,13007,225,468,891,"两仪决","前后方法宝如果相生则双生效果增强{0}%",0,"icon_s2004","S2004",2004,null,1,1,2,3,"30",0,"101","6",1241,3,"1;-1",30,{"$nulls":6},{"$f":"CONCATENATE(CHOOSE(S205-100,\"生命\",\"攻击\",\"防御\"),\"+\",V205,\"%\")","v":"生命+3%"},"两仪决·叁",null,0,{"$nulls":6},6]
[20043,13007,337.5,469,892,"两仪决","前后方法宝如果相生则双生效果增强{0}%",0,"icon_s2004","S2004",2004,null,1,1,2,4,"30",0,"101","9",1242,3,"1;-1",30,{"$nulls":6},{"$f":"CONCATENATE(CHOOSE(S206-100,\"生命\",\"攻击\",\"防御\"),\"+\",V206,\"%\")","v":"生命+3%"},"两仪决·肆",null,0,{"$nulls":6},9]
[20044,13007,506.25,470,893,"两仪决","前后方法宝如果相生则双生效果增强{0}%",0,"icon_s2004","S2004",2004,null,1,1,2,5,"30",0,"101","12",1243,3,"1;-1",30,{"$nulls":6},{"$f":"CONCATENATE(CHOOSE(S207-100,\"生命\",\"攻击\",\"防御\"),\"+\",V207,\"%\")","v":"生命+3%"},"两仪决·伍",null,0,{"$nulls":6},12]
[20045,13007,759.375,471,894,"两仪决","前后方法宝如果相生则双生效果增强{0}%。\n前后方法宝如果不相生则双生效果增加{1}%。\n前方后法宝如果相克则双生效果增强{2}%。",0,"icon_s2004","S2004",2004,null,1,1,2,6,"30;15;10",0,"101","12",1244,null,"1;-1",30,15,10,{"$nulls":4},"不相生甚至相克功法也生效","两仪决·陆",null,0,{"$nulls":6},12]
[{"$nulls":8},"icon_s",{"$nulls":4},1,{"$nulls":17},"",null,""]
[{"$f":"K210*10+P210-1","v":20050},13008,100,472,895,"火焰决","每层经过火经脉时使火系功法伤害提升{0}%，最多叠加{1}层",0,"icon_s2005",{"$f":"CONCATENATE(\"S\",K210)","v":"S2005"},{"$f":"K203+1","v":2005},null,1,1,2,1,{"$f":"_xlfn.TEXTJOIN(\";\",1,X210:AD210)","v":"1;20"},0,{"$f":"_xlfn.TEXTJOIN(\";\",1,IF(AO210=\"\",\"\",101),IF(AP210=\"\",\"\",102),IF(AQ210=\"\",\"\",103),IF(AR210=\"\",\"\",106),IF(AS210=\"\",\"\",107),IF(AT210=\"\",\"\",108),IF(AU210=\"\",\"\",109),IF(AV210=\"\",\"\",110))","v":""},{"$f":"_xlfn.TEXTJOIN(\";\",1,AO210:AV210)","v":""},-1,null,null,1,20,{"$nulls":6},"火焰决·壹",null,0]
[{"$f":"K211*10+P211-1","v":20051},13008,150,473,896,"火焰决","每层经过火经脉时使火系功法伤害提升{0}%，最多叠加{1}层",0,"icon_s2005",{"$f":"CONCATENATE(\"S\",K211)","v":"S2005"},{"$f":"K204+1","v":2005},null,1,1,2,2,{"$f":"_xlfn.TEXTJOIN(\";\",1,X211:AD211)","v":"1;20"},0,{"$f":"_xlfn.TEXTJOIN(\";\",1,IF(AO211=\"\",\"\",101),IF(AP211=\"\",\"\",102),IF(AQ211=\"\",\"\",103),IF(AR211=\"\",\"\",106),IF(AS211=\"\",\"\",107),IF(AT211=\"\",\"\",108),IF(AU211=\"\",\"\",109),IF(AV211=\"\",\"\",110))","v":"102"},{"$f":"_xlfn.TEXTJOIN(\";\",1,AO211:AV211)","v":"3"},1245,3,null,1,20,{"$nulls":5},{"$f":"CONCATENATE(CHOOSE(S211-100,\"生命\",\"攻击\",\"防御\"),\"+\",V211,\"%\")","v":"攻击+3%"},"火焰决·贰",null,0,{"$nulls":7},3]
[20052,13008,225,474,897,"火焰决","每层经过火经脉时使火系功法伤害提升{0}%，最多叠加{1}层",0,"icon_s2005","S2005",2005,null,1,1,2,3,"1;20",0,"102","6",1246,3,null,1,20,{"$nulls":5},{"$f":"CONCATENATE(CHOOSE(S212-100,\"生命\",\"攻击\",\"防御\"),\"+\",V212,\"%\")","v":"攻击+3%"},"火焰决·叁",null,0,{"$nulls":7},6]
[20053,13008,337.5,475,898,"火焰决","每层经过火经脉时使火系功法伤害提升{0}%，最多叠加{1}层",0,"icon_s2005","S2005",2005,null,1,1,2,4,"1;20",0,"102","9",1247,3,null,1,20,{"$nulls":5},{"$f":"CONCATENATE(CHOOSE(S213-100,\"生命\",\"攻击\",\"防御\"),\"+\",V213,\"%\")","v":"攻击+3%"},"火焰决·肆",null,0,{"$nulls":7},9]
[20054,13008,506.25,476,899,"火焰决","每层经过火经脉时使火系功法伤害提升{0}%，最多叠加{1}层",0,"icon_s2005","S2005",2005,null,1,1,2,5,"1;20",0,"102","12",1248,3,null,1,20,{"$nulls":5},{"$f":"CONCATENATE(CHOOSE(S214-100,\"生命\",\"攻击\",\"防御\"),\"+\",V214,\"%\")","v":"攻击+3%"},"火焰决·伍",null,0,{"$nulls":7},12]
[20055,13008,759.375,477,900,"火焰决","每层经过火经脉时使火系功法伤害提升{0}%，最多叠加{1}层。\n当达到满层后，任何火系功法命中时都会施加{1}层灼烧。",0,"icon_s2005","S2005",2005,null,1,1,2,6,"2;20;1",0,"102","12",1249,null,null,2,20,1,{"$nulls":4},"满层时施加灼烧","火焰决·陆",null,0,{"$nulls":7},12]
[{"$nulls":8},"icon_s",{"$nulls":4},1,{"$nulls":17},"",null,""]
[{"$f":"K217*10+P217-1","v":20060},13009,100,478,901,"乾坤巨灵诀","后方槽位第一个技能体型巨大化，且在对碰中强度增加{0}%",0,"icon_s2006",{"$f":"CONCATENATE(\"S\",K217)","v":"S2006"},{"$f":"K210+1","v":2006},null,1,1,2,1,{"$f":"_xlfn.TEXTJOIN(\";\",1,X217:AD217)","v":"30;30"},0,{"$f":"_xlfn.TEXTJOIN(\";\",1,IF(AO217=\"\",\"\",101),IF(AP217=\"\",\"\",102),IF(AQ217=\"\",\"\",103),IF(AR217=\"\",\"\",106),IF(AS217=\"\",\"\",107),IF(AT217=\"\",\"\",108),IF(AU217=\"\",\"\",109),IF(AV217=\"\",\"\",110))","v":""},{"$f":"_xlfn.TEXTJOIN(\";\",1,AO217:AV217)","v":""},-1,null,-1,30,30,{"$nulls":6},"乾坤巨灵诀·壹",null,0]
[{"$f":"K218*10+P218-1","v":20061},13009,150,479,902,"乾坤巨灵诀","后方槽位第一个技能体型巨大化，且在对碰中强度增加{0}%",0,"icon_s2006",{"$f":"CONCATENATE(\"S\",K218)","v":"S2006"},{"$f":"K211+1","v":2006},null,1,1,2,2,{"$f":"_xlfn.TEXTJOIN(\";\",1,X218:AD218)","v":"30;30"},0,{"$f":"_xlfn.TEXTJOIN(\";\",1,IF(AO218=\"\",\"\",101),IF(AP218=\"\",\"\",102),IF(AQ218=\"\",\"\",103),IF(AR218=\"\",\"\",106),IF(AS218=\"\",\"\",107),IF(AT218=\"\",\"\",108),IF(AU218=\"\",\"\",109),IF(AV218=\"\",\"\",110))","v":"103"},{"$f":"_xlfn.TEXTJOIN(\";\",1,AO218:AV218)","v":"3"},1250,3,-1,30,30,{"$nulls":5},{"$f":"CONCATENATE(CHOOSE(S218-100,\"生命\",\"攻击\",\"防御\"),\"+\",V218,\"%\")","v":"防御+3%"},"乾坤巨灵诀·贰",null,0,{"$nulls":8},3]
[20062,13009,225,480,903,"乾坤巨灵诀","后方槽位第一个技能体型巨大化，且在对碰中强度增加{0}%",0,"icon_s2006","S2006",2006,null,1,1,2,3,"30;30",0,"103","6",1251,3,-1,30,30,{"$nulls":5},{"$f":"CONCATENATE(CHOOSE(S219-100,\"生命\",\"攻击\",\"防御\"),\"+\",V219,\"%\")","v":"防御+3%"},{"$f":"IF(F219=\"\",\"\",CONCATENATE(F219,\"·\",CHOOSE(P219,\"壹\",\"贰\",\"叁\",\"肆\",\"伍\",\"陆\")))","v":"乾坤巨灵诀·叁"},null,0,{"$nulls":8},6]
[20063,13009,337.5,481,904,"乾坤巨灵诀","后方槽位第一个技能体型巨大化，且在对碰中强度增加{0}%",0,"icon_s2006","S2006",2006,null,1,1,2,4,"30;30",0,"103","9",1252,3,-1,30,30,{"$nulls":5},{"$f":"CONCATENATE(CHOOSE(S220-100,\"生命\",\"攻击\",\"防御\"),\"+\",V220,\"%\")","v":"防御+3%"},"乾坤巨灵诀·肆",null,0,{"$nulls":8},9]
[20064,13009,506.25,482,905,"乾坤巨灵诀","后方槽位第一个技能体型巨大化，且在对碰中强度增加{0}%",0,"icon_s2006","S2006",2006,null,1,1,2,5,"30;30",0,"103","12",1253,3,-1,30,30,{"$nulls":5},{"$f":"CONCATENATE(CHOOSE(S221-100,\"生命\",\"攻击\",\"防御\"),\"+\",V221,\"%\")","v":"防御+3%"},"乾坤巨灵诀·伍",null,0,{"$nulls":8},12]
[20065,13009,759.375,483,906,"乾坤巨灵诀","后方槽位第一个技能体型巨大化，且在对碰中强度增加{0}%\n巨大化的功法对拼耗尽不再消失，而是恢复{1}%强度",0,"icon_s2006","S2006",2006,null,1,1,2,6,"30;30;30",0,"103","12",1254,null,-1,30,30,30,{"$nulls":4},"对拼时重生","乾坤巨灵诀·陆",null,0,{"$nulls":8},12]
[{"$nulls":8},"icon_s",{"$nulls":4},1,{"$nulls":17},"",null,""]
[{"$f":"K224*10+P224-1","v":20070},13010,100,484,907,"极速齿轮","后槽位技能在催动时获得转盘加速{0}%,持续{1}秒",0,"icon_s2007",{"$f":"CONCATENATE(\"S\",K224)","v":"S2007"},{"$f":"K217+1","v":2007},null,1,1,2,1,{"$f":"_xlfn.TEXTJOIN(\";\",1,X224:AD224)","v":"20;9"},0,{"$f":"_xlfn.TEXTJOIN(\";\",1,IF(AO224=\"\",\"\",101),IF(AP224=\"\",\"\",102),IF(AQ224=\"\",\"\",103),IF(AR224=\"\",\"\",106),IF(AS224=\"\",\"\",107),IF(AT224=\"\",\"\",108),IF(AU224=\"\",\"\",109),IF(AV224=\"\",\"\",110))","v":""},{"$f":"_xlfn.TEXTJOIN(\";\",1,AO224:AV224)","v":""},-1,null,-1,20,9,{"$nulls":6},"极速齿轮·壹",null,0]
[{"$f":"K225*10+P225-1","v":20071},13010,150,485,908,"极速齿轮","后槽位技能在催动时获得转盘加速{0}%,持续{1}秒",0,"icon_s2007",{"$f":"CONCATENATE(\"S\",K225)","v":"S2007"},{"$f":"K218+1","v":2007},null,1,1,2,2,{"$f":"_xlfn.TEXTJOIN(\";\",1,X225:AD225)","v":"20;9"},0,{"$f":"_xlfn.TEXTJOIN(\";\",1,IF(AO225=\"\",\"\",101),IF(AP225=\"\",\"\",102),IF(AQ225=\"\",\"\",103),IF(AR225=\"\",\"\",106),IF(AS225=\"\",\"\",107),IF(AT225=\"\",\"\",108),IF(AU225=\"\",\"\",109),IF(AV225=\"\",\"\",110))","v":"101"},{"$f":"_xlfn.TEXTJOIN(\";\",1,AO225:AV225)","v":"3"},1255,3,-1,20,9,{"$nulls":5},{"$f":"CONCATENATE(CHOOSE(S225-100,\"生命\",\"攻击\",\"防御\"),\"+\",V225,\"%\")","v":"生命+3%"},"极速齿轮·贰",null,0,{"$nulls":6},3]
[20072,13010,225,486,909,"极速齿轮","后槽位技能在催动时获得转盘加速{0}%,持续{1}秒",0,"icon_s2007","S2007",2007,null,1,1,2,3,"20;9",0,"101","6",1256,3,-1,20,9,{"$nulls":5},{"$f":"CONCATENATE(CHOOSE(S226-100,\"生命\",\"攻击\",\"防御\"),\"+\",V226,\"%\")","v":"生命+3%"},"极速齿轮·叁",null,0,{"$nulls":6},6]
[20073,13010,337.5,487,910,"极速齿轮","后槽位技能在催动时获得转盘加速{0}%,持续{1}秒",0,"icon_s2007","S2007",2007,null,1,1,2,4,"20;9",0,"101","9",1257,3,-1,20,9,{"$nulls":5},{"$f":"CONCATENATE(CHOOSE(S227-100,\"生命\",\"攻击\",\"防御\"),\"+\",V227,\"%\")","v":"生命+3%"},"极速齿轮·肆",null,0,{"$nulls":6},9]
[20074,13010,506.25,488,911,"极速齿轮","后槽位技能在催动时获得转盘加速{0}%,持续{1}秒",0,"icon_s2007","S2007",2007,null,1,1,2,5,"20;9",0,"101","12",1258,3,-1,20,9,{"$nulls":5},{"$f":"CONCATENATE(CHOOSE(S228-100,\"生命\",\"攻击\",\"防御\"),\"+\",V228,\"%\")","v":"生命+3%"},"极速齿轮·伍",null,0,{"$nulls":6},12]
[20075,13010,759.375,489,912,"极速齿轮","后槽位技能在催动时获得转盘加速{0}%,持续{1}秒\n加速期间，伤害提升{1}%",0,"icon_s2007","S2007",2007,null,1,1,2,6,"20;9;15",0,"101","12",1259,null,-1,20,9,15,{"$nulls":4},"加速时伤害提升","极速齿轮·陆",null,0,{"$nulls":6},12]
[{"$nulls":8},"icon_s",{"$nulls":4},1,{"$nulls":17},"",null,""]
[{"$f":"K231*10+P231-1","v":20080},13010,100,490,913,"太虚剑意","后方槽位如果是剑功法，在释放功法时额外释放{0}道剑气，对敌人造成{1}%伤害，并无视护盾类效果",0,"icon_s2008",{"$f":"CONCATENATE(\"S\",K231)","v":"S2008"},{"$f":"K224+1","v":2008},null,1,1,2,1,{"$f":"_xlfn.TEXTJOIN(\";\",1,X231:AD231)","v":"1;100"},0,{"$f":"_xlfn.TEXTJOIN(\";\",1,IF(AO231=\"\",\"\",101),IF(AP231=\"\",\"\",102),IF(AQ231=\"\",\"\",103),IF(AR231=\"\",\"\",106),IF(AS231=\"\",\"\",107),IF(AT231=\"\",\"\",108),IF(AU231=\"\",\"\",109),IF(AV231=\"\",\"\",110))","v":""},{"$f":"_xlfn.TEXTJOIN(\";\",1,AO231:AV231)","v":""},-1,null,-1,1,100,{"$nulls":6},"太虚剑意·壹",null,0]
[{"$f":"K232*10+P232-1","v":20081},13010,150,491,914,"太虚剑意","后方槽位如果是剑功法，在释放功法时额外释放{0}道剑气，对敌人造成{1}%伤害，并无视护盾类效果",0,"icon_s2008",{"$f":"CONCATENATE(\"S\",K232)","v":"S2008"},{"$f":"K225+1","v":2008},null,1,1,2,2,{"$f":"_xlfn.TEXTJOIN(\";\",1,X232:AD232)","v":"1;100"},0,{"$f":"_xlfn.TEXTJOIN(\";\",1,IF(AO232=\"\",\"\",101),IF(AP232=\"\",\"\",102),IF(AQ232=\"\",\"\",103),IF(AR232=\"\",\"\",106),IF(AS232=\"\",\"\",107),IF(AT232=\"\",\"\",108),IF(AU232=\"\",\"\",109),IF(AV232=\"\",\"\",110))","v":"102"},{"$f":"_xlfn.TEXTJOIN(\";\",1,AO232:AV232)","v":"3"},1260,3,-1,1,100,{"$nulls":5},{"$f":"CONCATENATE(CHOOSE(S232-100,\"生命\",\"攻击\",\"防御\"),\"+\",V232,\"%\")","v":"攻击+3%"},"太虚剑意·贰",null,0,{"$nulls":7},3]
[20082,13010,225,492,915,"太虚剑意","后方槽位如果是剑功法，在释放功法时额外释放{0}道剑气，对敌人造成{1}%伤害，并无视护盾类效果",0,"icon_s2008","S2008",2008,null,1,1,2,3,"1;100",0,"102","6",1261,3,-1,1,100,{"$nulls":5},{"$f":"CONCATENATE(CHOOSE(S233-100,\"生命\",\"攻击\",\"防御\"),\"+\",V233,\"%\")","v":"攻击+3%"},{"$f":"IF(F233=\"\",\"\",CONCATENATE(F233,\"·\",CHOOSE(P233,\"壹\",\"贰\",\"叁\",\"肆\",\"伍\",\"陆\")))","v":"太虚剑意·叁"},null,0,{"$nulls":7},6]
[20083,13010,337.5,493,916,"太虚剑意","后方槽位如果是剑功法，在释放功法时额外释放{0}道剑气，对敌人造成{1}%伤害，并无视护盾类效果",0,"icon_s2008","S2008",2008,null,1,1,2,4,"1;100",0,"102","9",1262,3,-1,1,100,{"$nulls":5},{"$f":"CONCATENATE(CHOOSE(S234-100,\"生命\",\"攻击\",\"防御\"),\"+\",V234,\"%\")","v":"攻击+3%"},"太虚剑意·肆",null,0,{"$nulls":7},9]
[20084,13010,506.25,494,917,"太虚剑意","后方槽位如果是剑功法，在释放功法时额外释放{0}道剑气，对敌人造成{1}%伤害，并无视护盾类效果",0,"icon_s2008","S2008",2008,null,1,1,2,5,"1;100",0,"102","12",1263,3,-1,1,100,{"$nulls":5},"攻击+3%","太虚剑意·伍",null,0,{"$nulls":7},12]
[20085,13010,759.375,495,918,"太虚剑意","前方和后方槽位如果是剑功法，在释放功法时额外释放{0}道剑气，对敌人造成{0}%伤害，并无视护盾类效果\n该剑气会对敌人施加{2}层流血",0,"icon_s2008","S2008",2008,null,1,1,2,6,"2;100;1",0,"102","12",1264,null,"1;-1",2,100,1,{"$nulls":4},"前槽位也生效，剑气增强","太虚剑意·陆",null,0,{"$nulls":7},12]
[]
[{"$f":"K238*10+P238-1","v":20090},13010,100,{"$f":"A238+1000000","v":1020090},{"$f":"A238+1100000","v":1120090},"青莲净体诀","前方槽位功法在命中目标时会获得青莲之气，青莲气体达到{0}层时清除自己{1}个随机debuff,并恢复{2}%最大生命",0,{"$f":"CONCATENATE(\"icon_s\",K238)","v":"icon_s2009"},{"$f":"CONCATENATE(\"S\",K238)","v":"S2009"},{"$f":"K231+1","v":2009},null,1,1,2,1,{"$f":"_xlfn.TEXTJOIN(\";\",1,X238:AD238)","v":"100;10"},0,{"$f":"_xlfn.TEXTJOIN(\";\",1,IF(AO238=\"\",\"\",101),IF(AP238=\"\",\"\",102),IF(AQ238=\"\",\"\",103),IF(AR238=\"\",\"\",106),IF(AS238=\"\",\"\",107),IF(AT238=\"\",\"\",108),IF(AU238=\"\",\"\",109),IF(AV238=\"\",\"\",110))","v":""},{"$f":"_xlfn.TEXTJOIN(\";\",1,AO238:AV238)","v":""},-1,null,-1,100,10,{"$nulls":6},"青莲净体诀·壹",null,{"$f":"IF(A238=\"\",\"\",AI238*AJ238/(1-AK238-AL238))","v":0}]
[20091,13010,150,1020091,1120091,"青莲净体诀","前方槽位功法在命中目标时会获得青莲之气，青莲气体达到{0}层时清除自己{1}个随机debuff,并恢复{2}%最大生命",0,"icon_s2009","S2009",{"$f":"K232+1","v":2009},null,1,1,2,2,{"$f":"_xlfn.TEXTJOIN(\";\",1,X239:AD239)","v":"100;10"},0,"102","3",1260,3,-1,100,10,{"$nulls":5},"攻击+3%","青莲净体诀·贰",null,0,{"$nulls":7},3]
[20092,13010,225,1020092,1120092,"青莲净体诀","前方槽位功法在命中目标时会获得青莲之气，青莲气体达到{0}层时清除自己{1}个随机debuff,并恢复{2}%最大生命",0,"icon_s2009","S2009",2009,null,1,1,2,3,"100;10",0,"102","6",1261,3,-1,100,10,{"$nulls":5},"攻击+3%","青莲净体诀·叁",null,0,{"$nulls":7},6]
[20093,13010,337.5,1020093,1120093,"青莲净体诀","前方槽位功法在命中目标时会获得青莲之气，青莲气体达到{0}层时清除自己{1}个随机debuff,并恢复{2}%最大生命",0,"icon_s2009","S2009",2009,null,1,1,2,4,"100;10",0,"102","9",1262,3,-1,100,10,{"$nulls":5},"攻击+3%","青莲净体诀·肆",null,0,{"$nulls":7},9]
[20094,13010,506.25,1020094,1120094,"青莲净体诀","前方槽位功法在命中目标时会获得青莲之气，青莲气体达到{0}层时清除自己{1}个随机debuff,并恢复{2}%最大生命",0,"icon_s2009","S2009",2009,null,1,1,2,5,"100;10",0,"102","12",1263,3,-1,100,10,{"$nulls":5},"攻击+3%","青莲净体诀·伍",null,0,{"$nulls":7},12]
[20095,13010,759.375,1020095,1120095,"青莲净体诀","前方槽位功法在命中目标时会获得青莲之气，青莲气体达到{0}层时清除自己{1}个随机debuff,并恢复{2}%最大生命\n",0,"icon_s2009","S2009",2009,null,1,1,2,6,"100;10;1",0,"102","12",1264,null,"1;-1",100,10,1,{"$nulls":4},"前槽位也生效，剑气增强","青莲净体诀·陆",null,0,{"$nulls":7},12]
[]
[{"$f":"K245*10+P245-1","v":20100},13010,100,{"$f":"A245+1000000","v":1020100},{"$f":"A245+1100000","v":1120100},"碧霄回春术","功法在经过木系区域时会触发生机，为角色治疗{0}%最大生命值",0,{"$f":"CONCATENATE(\"icon_s\",K245)","v":"icon_s2010"},{"$f":"CONCATENATE(\"S\",K245)","v":"S2010"},{"$f":"K238+1","v":2010},null,1,1,2,1,{"$f":"_xlfn.TEXTJOIN(\";\",1,X245:AD245)","v":"2;0"},0,{"$f":"_xlfn.TEXTJOIN(\";\",1,IF(AO245=\"\",\"\",101),IF(AP245=\"\",\"\",102),IF(AQ245=\"\",\"\",103),IF(AR245=\"\",\"\",106),IF(AS245=\"\",\"\",107),IF(AT245=\"\",\"\",108),IF(AU245=\"\",\"\",109),IF(AV245=\"\",\"\",110))","v":""},{"$f":"_xlfn.TEXTJOIN(\";\",1,AO245:AV245)","v":""},-1,null,-1,2,0,{"$nulls":6},{"$f":"IF(F245=\"\",\"\",CONCATENATE(F245,\"·\",CHOOSE(P245,\"壹\",\"贰\",\"叁\",\"肆\",\"伍\",\"陆\")))","v":"碧霄回春术·壹"},null,{"$f":"IF(A245=\"\",\"\",AI245*AJ245/(1-AK245-AL245))","v":0}]
[20101,13010,150,1020101,1120101,"碧霄回春术","功法在经过木系区域时会触发生机，为角色治疗{0}%最大生命值",0,"icon_s2010","S2010",2010,null,1,1,2,2,"2;0",0,"102","3",1260,3,-1,2,0,{"$nulls":5},{"$f":"CONCATENATE(CHOOSE(S246-100,\"生命\",\"攻击\",\"防御\"),\"+\",V246,\"%\")","v":"攻击+3%"},"碧霄回春术·贰",null,0,{"$nulls":7},3]
[20102,13010,225,1020102,1120102,"碧霄回春术","功法在经过木系区域时会触发生机，为角色治疗{0}%最大生命值",0,"icon_s2010","S2010",2010,null,1,1,2,3,"2;0",0,"102","6",1261,3,-1,2,0,{"$nulls":5},"攻击+3%","碧霄回春术·叁",null,0,{"$nulls":7},6]
[20103,13010,337.5,1020103,1120103,"碧霄回春术","功法在经过木系区域时会触发生机，为角色治疗{0}%最大生命值",0,"icon_s2010","S2010",2010,null,1,1,2,4,"2;0",0,"102","9",1262,3,-1,2,0,{"$nulls":5},"攻击+3%","碧霄回春术·肆",null,0,{"$nulls":7},9]
[20104,13010,506.25,1020104,1120104,"碧霄回春术","功法在经过木系区域时会触发生机，为角色治疗{0}%最大生命值",0,"icon_s2010","S2010",2010,null,1,1,2,5,"2;0",0,"102","12",1263,3,-1,2,0,{"$nulls":5},"攻击+3%","碧霄回春术·伍",null,0,{"$nulls":7},12]
[20105,13010,759.375,1020105,1120105,"碧霄回春术","功法在经过木系区域时会触发生机，为角色治疗{0}%最大生命值\n在生命值低于{1}%时恢复量提升{2}%",0,"icon_s2010","S2010",2010,null,1,1,2,6,"2;30;2",0,"102","12",1264,null,"1;-1",2,30,2,{"$nulls":4},"前槽位也生效，剑气增强","碧霄回春术·陆",null,0,{"$nulls":7},12]
[]
[{"$f":"K252*10+P252-1","v":20110},13010,100,{"$f":"A252+1000000","v":1020110},{"$f":"A252+1100000","v":1120110},"血祭神通","所有流血状态照成的伤害会转换成充能值，2圈后对全体敌人造成{0}%充能值的伤害",0,{"$f":"CONCATENATE(\"icon_s\",K252)","v":"icon_s2011"},{"$f":"CONCATENATE(\"S\",K252)","v":"S2011"},{"$f":"K245+1","v":2011},null,2,1,2,1,{"$f":"_xlfn.TEXTJOIN(\";\",1,X252:AD252)","v":"30"},0,{"$f":"_xlfn.TEXTJOIN(\";\",1,IF(AO252=\"\",\"\",101),IF(AP252=\"\",\"\",102),IF(AQ252=\"\",\"\",103),IF(AR252=\"\",\"\",106),IF(AS252=\"\",\"\",107),IF(AT252=\"\",\"\",108),IF(AU252=\"\",\"\",109),IF(AV252=\"\",\"\",110))","v":""},{"$f":"_xlfn.TEXTJOIN(\";\",1,AO252:AV252)","v":""},-1,null,-1,30,{"$nulls":7},{"$f":"IF(F252=\"\",\"\",CONCATENATE(F252,\"·\",CHOOSE(P252,\"壹\",\"贰\",\"叁\",\"肆\",\"伍\",\"陆\")))","v":"血祭神通·壹"},null,{"$f":"IF(A252=\"\",\"\",AI252*AJ252/(1-AK252-AL252))","v":0}]
[20111,13010,150,{"$f":"A253+1000000","v":1020111},{"$f":"A253+1100000","v":1120111},"血祭神通","所有流血状态照成的伤害会转换成充能值，2圈后对全体敌人造成{0}%充能值的伤害",0,"icon_s2011","S2011",2011,null,2,1,2,2,"40",0,"102","3",1260,3,-1,40,{"$nulls":6},{"$f":"CONCATENATE(CHOOSE(S253-100,\"生命\",\"攻击\",\"防御\"),\"+\",V253,\"%\")","v":"攻击+3%"},"血祭神通·贰",null,0,{"$nulls":7},3]
[20112,13010,225,{"$f":"A254+1000000","v":1020112},{"$f":"A254+1100000","v":1120112},"血祭神通","所有流血状态照成的伤害会转换成充能值，2圈后对全体敌人造成{0}%充能值的伤害",0,"icon_s2011","S2011",2011,null,2,1,2,3,"50",0,"102","6",1261,3,-1,50,{"$nulls":6},"攻击+3%","血祭神通·叁",null,0,{"$nulls":7},6]
[20113,13010,337.5,1020113,1120113,"血祭神通","所有流血状态照成的伤害会转换成充能值，2圈后对全体敌人造成{0}%充能值的伤害",0,"icon_s2011","S2011",2011,null,2,1,2,4,"60",0,"102","9",1262,3,-1,60,{"$nulls":6},"攻击+3%","血祭神通·肆",null,0,{"$nulls":7},9]
[20114,13010,506.25,1020114,1120114,"血祭神通","所有流血状态照成的伤害会转换成充能值，2圈后对全体敌人造成{0}%充能值的伤害",0,"icon_s2011","S2011",2011,null,2,1,2,5,"70",0,"102","12",1263,3,-1,70,{"$nulls":6},"攻击+3%","血祭神通·伍",null,0,{"$nulls":7},12]
[20115,13010,759.375,1020115,1120115,"血祭神通","所有流血状态照成的伤害会转换成充能值，2圈后对全体敌人造成{0}%充能值的伤害",0,"icon_s2011","S2011",2011,null,2,1,2,6,"80",0,"102","12",1264,null,"1;-1",80,{"$nulls":6},"前槽位也生效，剑气增强","血祭神通·陆",null,0,{"$nulls":7},12]
[]
[{"$f":"K259*10+P259-1","v":20120},13010,100,{"$f":"A259+1000000","v":1020120},{"$f":"A259+1100000","v":1120120},"金煞决","前方功法对敌人照成伤害时额施加一层流血",0,{"$f":"CONCATENATE(\"icon_s\",K259)","v":"icon_s2012"},{"$f":"CONCATENATE(\"S\",K259)","v":"S2012"},{"$f":"K252+1","v":2012},null,1,1,2,1,{"$f":"_xlfn.TEXTJOIN(\";\",1,X259:AD259)","v":""},0,{"$f":"_xlfn.TEXTJOIN(\";\",1,IF(AO259=\"\",\"\",101),IF(AP259=\"\",\"\",102),IF(AQ259=\"\",\"\",103),IF(AR259=\"\",\"\",106),IF(AS259=\"\",\"\",107),IF(AT259=\"\",\"\",108),IF(AU259=\"\",\"\",109),IF(AV259=\"\",\"\",110))","v":""},{"$f":"_xlfn.TEXTJOIN(\";\",1,AO259:AV259)","v":""},-1,null,-1,{"$nulls":8},{"$f":"IF(F259=\"\",\"\",CONCATENATE(F259,\"·\",CHOOSE(P259,\"壹\",\"贰\",\"叁\",\"肆\",\"伍\",\"陆\")))","v":"金煞决·壹"},null,{"$f":"IF(A259=\"\",\"\",AI259*AJ259/(1-AK259-AL259))","v":0}]
[20121,13010,150,{"$f":"A260+1000000","v":1020121},{"$f":"A260+1100000","v":1120121},"金煞决","前方功法对敌人照成伤害时额施加一层流血",0,"icon_s2012","S2012",2012,null,1,1,2,2,"",0,"102","3",1260,3,-1,{"$nulls":7},{"$f":"CONCATENATE(CHOOSE(S260-100,\"生命\",\"攻击\",\"防御\"),\"+\",V260,\"%\")","v":"攻击+3%"},"金煞决·贰",null,0,{"$nulls":7},3]
[20122,13010,225,{"$f":"A261+1000000","v":1020122},{"$f":"A261+1100000","v":1120122},"金煞决","前方功法对敌人照成伤害时额施加一层流血",0,"icon_s2012","S2012",2012,null,1,1,2,3,"",0,"102","6",1261,3,-1,{"$nulls":7},"攻击+3%","金煞决·叁",null,0,{"$nulls":7},6]
[20123,13010,337.5,1020123,1120123,"金煞决","前方功法对敌人照成伤害时额施加一层流血",0,"icon_s2012","S2012",2012,null,1,1,2,4,"",0,"102","9",1262,3,-1,{"$nulls":7},"攻击+3%","金煞决·肆",null,0,{"$nulls":7},9]
[20124,13010,506.25,1020124,1120124,"金煞决","前方功法对敌人照成伤害时额施加一层流血",0,"icon_s2012","S2012",2012,null,1,1,2,5,"",0,"102","12",1263,3,-1,{"$nulls":7},"攻击+3%","金煞决·伍",null,0,{"$nulls":7},12]
[20125,13010,759.375,1020125,1120125,"金煞决","前方功法对敌人照成伤害时额施加一层流血",0,"icon_s2012","S2012",2012,null,1,1,2,6,"",0,"102","12",1264,null,"1;-1",{"$nulls":7},"前槽位也生效，剑气增强","金煞决·陆",null,0,{"$nulls":7},12]
[]
[{"$f":"K266*10+P266-1","v":20130},13010,100,1020130,1120130,"毒瘴领域","前方功法击中目标时额外施加一层毒，对流血中的敌人再额外施加一层",0,{"$f":"CONCATENATE(\"icon_s\",K266)","v":"icon_s2013"},{"$f":"CONCATENATE(\"S\",K266)","v":"S2013"},{"$f":"K259+1","v":2013},null,1,1,2,1,{"$f":"_xlfn.TEXTJOIN(\";\",1,X266:AD266)","v":""},0,{"$f":"_xlfn.TEXTJOIN(\";\",1,IF(AO266=\"\",\"\",101),IF(AP266=\"\",\"\",102),IF(AQ266=\"\",\"\",103),IF(AR266=\"\",\"\",106),IF(AS266=\"\",\"\",107),IF(AT266=\"\",\"\",108),IF(AU266=\"\",\"\",109),IF(AV266=\"\",\"\",110))","v":""},{"$f":"_xlfn.TEXTJOIN(\";\",1,AO266:AV266)","v":""},-1,null,-1,{"$nulls":8},{"$f":"IF(F266=\"\",\"\",CONCATENATE(F266,\"·\",CHOOSE(P266,\"壹\",\"贰\",\"叁\",\"肆\",\"伍\",\"陆\")))","v":"毒瘴领域·壹"},null,{"$f":"IF(A266=\"\",\"\",AI266*AJ266/(1-AK266-AL266))","v":0}]
[20131,13010,150,1020131,1120131,"毒瘴领域","前方功法击中目标时额外施加一层毒，对流血中的敌人再额外施加一层",0,"icon_s2013","S2013",2013,null,1,1,2,2,"",0,"102","3",1260,3,-1,{"$nulls":7},{"$f":"CONCATENATE(CHOOSE(S267-100,\"生命\",\"攻击\",\"防御\"),\"+\",V267,\"%\")","v":"攻击+3%"},"毒瘴领域·贰",null,0,{"$nulls":7},3]
[20132,13010,225,{"$f":"A268+1000000","v":1020132},{"$f":"A268+1100000","v":1120132},"毒瘴领域","前方功法击中目标时额外施加一层毒，对流血中的敌人再额外施加一层",0,"icon_s2013","S2013",2013,null,1,1,2,3,"",0,"102","6",1261,3,-1,{"$nulls":7},"攻击+3%","毒瘴领域·叁",null,0,{"$nulls":7},6]
[20133,13010,337.5,1020133,1120133,"毒瘴领域","前方功法击中目标时额外施加一层毒，对流血中的敌人再额外施加一层",0,"icon_s2013","S2013",2013,null,1,1,2,4,"",0,"102","9",1262,3,-1,{"$nulls":7},"攻击+3%","毒瘴领域·肆",null,0,{"$nulls":7},9]
[20134,13010,506.25,1020134,1120134,"毒瘴领域","前方功法击中目标时额外施加一层毒，对流血中的敌人再额外施加一层",0,"icon_s2013","S2013",2013,null,1,1,2,5,"",0,"102","12",1263,3,-1,{"$nulls":7},"攻击+3%","毒瘴领域·伍",null,0,{"$nulls":7},12]
[20135,13010,759.375,1020135,1120135,"毒瘴领域","前方功法击中目标时额外施加一层毒，对流血中的敌人再额外施加一层",0,"icon_s2013","S2013",2013,null,1,1,2,6,"",0,"102","12",1264,null,"1;-1",{"$nulls":7},"前槽位也生效，剑气增强","毒瘴领域·陆",null,0,{"$nulls":7},12]
[]
[{"$f":"K273*10+P273-1","v":20140},13010,100,1020140,1120140,"毒爆","后方功法击中目标后，如果目标升上有{0}层毒时对目标额外照成{1}%伤害的伤害，并对周围的敌人照成该伤害的{2}伤害",0,{"$f":"CONCATENATE(\"icon_s\",K273)","v":"icon_s2014"},{"$f":"CONCATENATE(\"S\",K273)","v":"S2014"},{"$f":"K266+1","v":2014},null,1,1,2,1,{"$f":"_xlfn.TEXTJOIN(\";\",1,X273:AD273)","v":"5;20;10"},0,{"$f":"_xlfn.TEXTJOIN(\";\",1,IF(AO273=\"\",\"\",101),IF(AP273=\"\",\"\",102),IF(AQ273=\"\",\"\",103),IF(AR273=\"\",\"\",106),IF(AS273=\"\",\"\",107),IF(AT273=\"\",\"\",108),IF(AU273=\"\",\"\",109),IF(AV273=\"\",\"\",110))","v":""},{"$f":"_xlfn.TEXTJOIN(\";\",1,AO273:AV273)","v":""},-1,null,-1,5,20,10,{"$nulls":5},{"$f":"IF(F273=\"\",\"\",CONCATENATE(F273,\"·\",CHOOSE(P273,\"壹\",\"贰\",\"叁\",\"肆\",\"伍\",\"陆\")))","v":"毒爆·壹"},null,{"$f":"IF(A273=\"\",\"\",AI273*AJ273/(1-AK273-AL273))","v":0}]
[20141,13010,150,1020141,1120141,"毒爆","后方功法击中目标后，如果目标升上有{0}层毒时对目标额外照成{1}%伤害的伤害，并对周围的敌人照成该伤害的{2}伤害",0,"icon_s2014","S2014",2014,null,1,1,2,2,"5;30;15",0,"102","3",1260,3,-1,5,30,15,{"$nulls":4},{"$f":"CONCATENATE(CHOOSE(S274-100,\"生命\",\"攻击\",\"防御\"),\"+\",V274,\"%\")","v":"攻击+3%"},"毒爆·贰",null,0,{"$nulls":7},3]
[20142,13010,225,{"$f":"A275+1000000","v":1020142},{"$f":"A275+1100000","v":1120142},"毒爆","后方功法击中目标后，如果目标升上有{0}层毒时对目标额外照成{1}%伤害的伤害，并对周围的敌人照成该伤害的{2}伤害",0,"icon_s2014","S2014",2014,null,1,1,2,3,"4;40;15",0,"102","6",1261,3,-1,4,40,15,{"$nulls":4},"攻击+3%","毒爆·叁",null,0,{"$nulls":7},6]
[20143,13010,337.5,1020143,1120143,"毒爆","后方功法击中目标后，如果目标升上有{0}层毒时对目标额外照成{1}%伤害的伤害，并对周围的敌人照成该伤害的{2}伤害",0,"icon_s2014","S2014",2014,null,1,1,2,4,"4;50;20",0,"102","9",1262,3,-1,4,50,20,{"$nulls":4},"攻击+3%","毒爆·肆",null,0,{"$nulls":7},9]
[20144,13010,506.25,1020144,1120144,"毒爆","后方功法击中目标后，如果目标升上有{0}层毒时对目标额外照成{1}%伤害的伤害，并对周围的敌人照成该伤害的{2}伤害",0,"icon_s2014","S2014",2014,null,1,1,2,5,"4;60;25",0,"102","12",1263,3,-1,4,60,25,{"$nulls":4},"攻击+3%","毒爆·伍",null,0,{"$nulls":7},12]
[20145,13010,759.375,1020145,1120145,"毒爆","后方功法击中目标后，如果目标升上有{0}层毒时对目标额外照成{1}%伤害的伤害，并对周围的敌人照成该伤害的{2}伤害",0,"icon_s2014","S2014",2014,null,1,1,2,6,"3;70;30",0,"102","12",1264,null,"1;-1",3,70,30,{"$nulls":4},"前槽位也生效，剑气增强","毒爆·陆",null,0,{"$nulls":7},12]
[]
[{"$f":"K280*10+P280-1","v":20150},13010,100,1020150,1120150,"异常转移","对目标造成的异常状态有{0}%概率转移到下一个目标，不会来回转移",0,{"$f":"CONCATENATE(\"icon_s\",K280)","v":"icon_s2015"},{"$f":"CONCATENATE(\"S\",K280)","v":"S2015"},{"$f":"K273+1","v":2015},null,1,1,2,1,{"$f":"_xlfn.TEXTJOIN(\";\",1,X280:AD280)","v":"5;20;10"},0,{"$f":"_xlfn.TEXTJOIN(\";\",1,IF(AO280=\"\",\"\",101),IF(AP280=\"\",\"\",102),IF(AQ280=\"\",\"\",103),IF(AR280=\"\",\"\",106),IF(AS280=\"\",\"\",107),IF(AT280=\"\",\"\",108),IF(AU280=\"\",\"\",109),IF(AV280=\"\",\"\",110))","v":""},{"$f":"_xlfn.TEXTJOIN(\";\",1,AO280:AV280)","v":""},-1,null,-1,5,20,10,{"$nulls":5},{"$f":"IF(F280=\"\",\"\",CONCATENATE(F280,\"·\",CHOOSE(P280,\"壹\",\"贰\",\"叁\",\"肆\",\"伍\",\"陆\")))","v":"异常转移·壹"},null,{"$f":"IF(A280=\"\",\"\",AI280*AJ280/(1-AK280-AL280))","v":0}]
[20151,13010,150,1020151,1120151,"异常转移","对目标造成的异常状态有{0}%概率转移到下一个目标，不会来回转移",0,"icon_s2015","S2015",2015,null,1,1,2,2,"5;30;15",0,"102","3",1260,3,-1,5,30,15,{"$nulls":4},{"$f":"CONCATENATE(CHOOSE(S281-100,\"生命\",\"攻击\",\"防御\"),\"+\",V281,\"%\")","v":"攻击+3%"},"异常转移·贰",null,0,{"$nulls":7},3]
[20152,13010,225,{"$f":"A282+1000000","v":1020152},{"$f":"A282+1100000","v":1120152},"异常转移","对目标造成的异常状态有{0}%概率转移到下一个目标，不会来回转移",0,"icon_s2015","S2015",2015,null,1,1,2,3,"4;40;15",0,"102","6",1261,3,-1,4,40,15,{"$nulls":4},"攻击+3%","异常转移·叁",null,0,{"$nulls":7},6]
[20153,13010,337.5,1020153,1120153,"异常转移","对目标造成的异常状态有{0}%概率转移到下一个目标，不会来回转移",0,"icon_s2015","S2015",2015,null,1,1,2,4,"4;50;20",0,"102","9",1262,3,-1,4,50,20,{"$nulls":4},"攻击+3%","异常转移·肆",null,0,{"$nulls":7},9]
[20154,13010,506.25,1020154,1120154,"异常转移","对目标造成的异常状态有{0}%概率转移到下一个目标，不会来回转移",0,"icon_s2015","S2015",2015,null,1,1,2,5,"4;60;25",0,"102","12",1263,3,-1,4,60,25,{"$nulls":4},"攻击+3%","异常转移·伍",null,0,{"$nulls":7},12]
[20155,13010,759.375,1020155,1120155,"异常转移","对目标造成的异常状态有{0}%概率转移到下一个目标，不会来回转移",0,"icon_s2015","S2015",2015,null,1,1,2,6,"3;70;30",0,"102","12",1264,null,"1;-1",3,70,30,{"$nulls":4},"前槽位也生效，剑气增强","异常转移·陆",null,0,{"$nulls":7},12]
[]
[{"$f":"K287*10+P287-1","v":20160},13010,100,1020160,1120160,"阴水","前方功法会让目标扎染上阴水。如果目标身上有寒气则会将阴水转换为冰冻值(冰冻值到达一定程度会冰冻敌人)",0,{"$f":"CONCATENATE(\"icon_s\",K287)","v":"icon_s2016"},{"$f":"CONCATENATE(\"S\",K287)","v":"S2016"},{"$f":"K280+1","v":2016},null,1,1,2,1,{"$f":"_xlfn.TEXTJOIN(\";\",1,X287:AD287)","v":"5;20;10"},0,{"$f":"_xlfn.TEXTJOIN(\";\",1,IF(AO287=\"\",\"\",101),IF(AP287=\"\",\"\",102),IF(AQ287=\"\",\"\",103),IF(AR287=\"\",\"\",106),IF(AS287=\"\",\"\",107),IF(AT287=\"\",\"\",108),IF(AU287=\"\",\"\",109),IF(AV287=\"\",\"\",110))","v":""},{"$f":"_xlfn.TEXTJOIN(\";\",1,AO287:AV287)","v":""},-1,null,-1,5,20,10,{"$nulls":5},{"$f":"IF(F287=\"\",\"\",CONCATENATE(F287,\"·\",CHOOSE(P287,\"壹\",\"贰\",\"叁\",\"肆\",\"伍\",\"陆\")))","v":"阴水·壹"},null,{"$f":"IF(A287=\"\",\"\",AI287*AJ287/(1-AK287-AL287))","v":0}]
[20161,13010,150,1020161,1120161,"阴水","前方功法会让目标扎染上阴水。如果目标身上有寒气则会将阴水转换为冰冻值(冰冻值到达一定程度会冰冻敌人)",0,"icon_s2016","S2016",2016,null,1,1,2,2,"5;30;15",0,"102","3",1260,3,-1,5,30,15,{"$nulls":4},{"$f":"CONCATENATE(CHOOSE(S288-100,\"生命\",\"攻击\",\"防御\"),\"+\",V288,\"%\")","v":"攻击+3%"},"阴水·贰",null,0,{"$nulls":7},3]
[20162,13010,225,{"$f":"A289+1000000","v":1020162},{"$f":"A289+1100000","v":1120162},"阴水","前方功法会让目标扎染上阴水。如果目标身上有寒气则会将阴水转换为冰冻值(冰冻值到达一定程度会冰冻敌人)",0,"icon_s2016","S2016",2016,null,1,1,2,3,"4;40;15",0,"102","6",1261,3,-1,4,40,15,{"$nulls":4},"攻击+3%","阴水·叁",null,0,{"$nulls":7},6]
[20163,13010,337.5,1020163,1120163,"阴水","前方功法会让目标扎染上阴水。如果目标身上有寒气则会将阴水转换为冰冻值(冰冻值到达一定程度会冰冻敌人)",0,"icon_s2016","S2016",2016,null,1,1,2,4,"4;50;20",0,"102","9",1262,3,-1,4,50,20,{"$nulls":4},"攻击+3%","阴水·肆",null,0,{"$nulls":7},9]
[20164,13010,506.25,1020164,1120164,"阴水","前方功法会让目标扎染上阴水。如果目标身上有寒气则会将阴水转换为冰冻值(冰冻值到达一定程度会冰冻敌人)",0,"icon_s2016","S2016",2016,null,1,1,2,5,"4;60;25",0,"102","12",1263,3,-1,4,60,25,{"$nulls":4},"攻击+3%","阴水·伍",null,0,{"$nulls":7},12]
[20165,13010,759.375,1020165,1120165,"阴水","前方功法会让目标扎染上阴水。如果目标身上有寒气则会将阴水转换为冰冻值(冰冻值到达一定程度会冰冻敌人)",0,"icon_s2016","S2016",2016,null,1,1,2,6,"3;70;30",0,"102","12",1264,null,"1;-1",3,70,30,{"$nulls":4},"前槽位也生效，剑气增强","阴水·陆",null,0,{"$nulls":7},12]
[]
[{"$f":"K294*10+P294-1","v":20170},13010,100,1020170,1120170,"灵油","前方功法附加上灵气汇聚而成的可燃物质，火属性伤害提升{0}%并额外施加一层灼烧",0,{"$f":"CONCATENATE(\"icon_s\",K294)","v":"icon_s2017"},{"$f":"CONCATENATE(\"S\",K294)","v":"S2017"},{"$f":"K287+1","v":2017},null,1,1,2,1,{"$f":"_xlfn.TEXTJOIN(\";\",1,X294:AD294)","v":"30"},0,{"$f":"_xlfn.TEXTJOIN(\";\",1,IF(AO294=\"\",\"\",101),IF(AP294=\"\",\"\",102),IF(AQ294=\"\",\"\",103),IF(AR294=\"\",\"\",106),IF(AS294=\"\",\"\",107),IF(AT294=\"\",\"\",108),IF(AU294=\"\",\"\",109),IF(AV294=\"\",\"\",110))","v":""},{"$f":"_xlfn.TEXTJOIN(\";\",1,AO294:AV294)","v":""},-1,null,-1,30,{"$nulls":7},{"$f":"IF(F294=\"\",\"\",CONCATENATE(F294,\"·\",CHOOSE(P294,\"壹\",\"贰\",\"叁\",\"肆\",\"伍\",\"陆\")))","v":"灵油·壹"},null,{"$f":"IF(A294=\"\",\"\",AI294*AJ294/(1-AK294-AL294))","v":0}]
[20171,13010,150,1020171,1120171,"灵油","前方功法附加上灵气汇聚而成的可燃物质，火属性伤害提升{0}%并额外施加一层灼烧",0,"icon_s2017","S2017",2017,null,1,1,2,2,"40",0,"102","3",1260,3,-1,40,{"$nulls":6},{"$f":"CONCATENATE(CHOOSE(S295-100,\"生命\",\"攻击\",\"防御\"),\"+\",V295,\"%\")","v":"攻击+3%"},"灵油·贰",null,0,{"$nulls":7},3]
[20172,13010,225,{"$f":"A296+1000000","v":1020172},{"$f":"A296+1100000","v":1120172},"灵油","前方功法附加上灵气汇聚而成的可燃物质，火属性伤害提升{0}%并额外施加一层灼烧",0,"icon_s2017","S2017",2017,null,1,1,2,3,"50",0,"102","6",1261,3,-1,50,{"$nulls":6},"攻击+3%","灵油·叁",null,0,{"$nulls":7},6]
[20173,13010,337.5,1020173,1120173,"灵油","前方功法附加上灵气汇聚而成的可燃物质，火属性伤害提升{0}%并额外施加一层灼烧",0,"icon_s2017","S2017",2017,null,1,1,2,4,"60",0,"102","9",1262,3,-1,60,{"$nulls":6},"攻击+3%","灵油·肆",null,0,{"$nulls":7},9]
[20174,13010,506.25,1020174,1120174,"灵油","前方功法附加上灵气汇聚而成的可燃物质，火属性伤害提升{0}%并额外施加一层灼烧",0,"icon_s2017","S2017",2017,null,1,1,2,5,"70",0,"102","12",1263,3,-1,70,{"$nulls":6},"攻击+3%","灵油·伍",null,0,{"$nulls":7},12]
[20175,13010,759.375,1020175,1120175,"灵油","前方功法附加上灵气汇聚而成的可燃物质，火属性伤害提升{0}%并额外施加一层灼烧",0,"icon_s2017","S2017",2017,null,1,1,2,6,"80",0,"102","12",1264,null,"1;-1",80,{"$nulls":6},"前槽位也生效，剑气增强","灵油·陆",null,0,{"$nulls":7},12]
[]
[{"$f":"K301*10+P301-1","v":20180},13010,100,1020180,1120180,"厚土护体","每使用一个土系功法时获得{0}点土系值，达到100时获得{1}%防御。持续{2}秒，每对敌人施加一次细尘额外获得{3}点",0,{"$f":"CONCATENATE(\"icon_s\",K301)","v":"icon_s2018"},{"$f":"CONCATENATE(\"S\",K301)","v":"S2018"},{"$f":"K294+1","v":2018},null,1,1,2,1,{"$f":"_xlfn.TEXTJOIN(\";\",1,X301:AD301)","v":"10;10;10;5"},0,{"$f":"_xlfn.TEXTJOIN(\";\",1,IF(AO301=\"\",\"\",101),IF(AP301=\"\",\"\",102),IF(AQ301=\"\",\"\",103),IF(AR301=\"\",\"\",106),IF(AS301=\"\",\"\",107),IF(AT301=\"\",\"\",108),IF(AU301=\"\",\"\",109),IF(AV301=\"\",\"\",110))","v":""},{"$f":"_xlfn.TEXTJOIN(\";\",1,AO301:AV301)","v":""},-1,null,-1,10,10,10,5,{"$nulls":4},{"$f":"IF(F301=\"\",\"\",CONCATENATE(F301,\"·\",CHOOSE(P301,\"壹\",\"贰\",\"叁\",\"肆\",\"伍\",\"陆\")))","v":"厚土护体·壹"},null,{"$f":"IF(A301=\"\",\"\",AI301*AJ301/(1-AK301-AL301))","v":0}]
[20181,13010,150,1020181,1120181,"厚土护体","每使用一个土系功法时获得{0}点土系值，达到100时获得{1}%防御。持续{2}秒，每对敌人施加一次细尘额外获得{3}点",0,"icon_s2018","S2018",2018,null,1,1,2,2,"10;10;10;5",0,"102","3",1260,3,-1,10,10,10,5,null,null,null,{"$f":"CONCATENATE(CHOOSE(S302-100,\"生命\",\"攻击\",\"防御\"),\"+\",V302,\"%\")","v":"攻击+3%"},"厚土护体·贰",null,0,{"$nulls":7},3]
[20182,13010,225,{"$f":"A303+1000000","v":1020182},{"$f":"A303+1100000","v":1120182},"厚土护体","每使用一个土系功法时获得{0}点土系值，达到100时获得{1}%防御。持续{2}秒，每对敌人施加一次细尘额外获得{3}点",0,"icon_s2018","S2018",2018,null,1,1,2,3,"10;10;10;5",0,"102","6",1261,3,-1,10,10,10,5,null,null,null,"攻击+3%","厚土护体·叁",null,0,{"$nulls":7},6]
[20183,13010,337.5,1020183,1120183,"厚土护体","每使用一个土系功法时获得{0}点土系值，达到100时获得{1}%防御。持续{2}秒，每对敌人施加一次细尘额外获得{3}点",0,"icon_s2018","S2018",2018,null,1,1,2,4,"10;10;10;5",0,"102","9",1262,3,-1,10,10,10,5,null,null,null,"攻击+3%","厚土护体·肆",null,0,{"$nulls":7},9]
[20184,13010,506.25,1020184,1120184,"厚土护体","每使用一个土系功法时获得{0}点土系值，达到100时获得{1}%防御。持续{2}秒，每对敌人施加一次细尘额外获得{3}点",0,"icon_s2018","S2018",2018,null,1,1,2,5,"10;10;10;5",0,"102","12",1263,3,-1,10,10,10,5,null,null,null,"攻击+3%","厚土护体·伍",null,0,{"$nulls":7},12]
[20185,13010,759.375,1020185,1120185,"厚土护体","每使用一个土系功法时获得{0}点土系值，达到100时获得{1}%防御。持续{2}秒，每对敌人施加一次细尘额外获得{3}点",0,"icon_s2018","S2018",2018,null,1,1,2,6,"10;10;10;5",0,"102","12",1264,null,"1;-1",10,10,10,5,null,null,null,"前槽位也生效，剑气增强","厚土护体·陆",null,0,{"$nulls":7},12]
[]
[{"$f":"K308*10+P308-1","v":20190},13010,100,1020190,1120190,"金沙","前方功法命中目标时额外施加1层细尘。并将细尘的的\n品质提升为金沙，效果提升{0}%",0,{"$f":"CONCATENATE(\"icon_s\",K308)","v":"icon_s2019"},{"$f":"CONCATENATE(\"S\",K308)","v":"S2019"},{"$f":"K301+1","v":2019},null,1,1,2,1,{"$f":"_xlfn.TEXTJOIN(\";\",1,X308:AD308)","v":"20"},0,{"$f":"_xlfn.TEXTJOIN(\";\",1,IF(AO308=\"\",\"\",101),IF(AP308=\"\",\"\",102),IF(AQ308=\"\",\"\",103),IF(AR308=\"\",\"\",106),IF(AS308=\"\",\"\",107),IF(AT308=\"\",\"\",108),IF(AU308=\"\",\"\",109),IF(AV308=\"\",\"\",110))","v":""},{"$f":"_xlfn.TEXTJOIN(\";\",1,AO308:AV308)","v":""},-1,null,-1,20,{"$nulls":7},{"$f":"IF(F308=\"\",\"\",CONCATENATE(F308,\"·\",CHOOSE(P308,\"壹\",\"贰\",\"叁\",\"肆\",\"伍\",\"陆\")))","v":"金沙·壹"},null,{"$f":"IF(A308=\"\",\"\",AI308*AJ308/(1-AK308-AL308))","v":0}]
[20191,13010,150,1020191,1120191,"金沙","前方功法命中目标时额外施加1层细尘。并将细尘的的\n品质提升为金沙，效果提升{0}%",0,"icon_s2019","S2019",2019,null,1,1,2,2,"30",0,"102","3",1260,3,-1,30,{"$nulls":6},{"$f":"CONCATENATE(CHOOSE(S309-100,\"生命\",\"攻击\",\"防御\"),\"+\",V309,\"%\")","v":"攻击+3%"},"金沙·贰",null,0,{"$nulls":7},3]
[20192,13010,225,1020192,1120192,"金沙","前方功法命中目标时额外施加1层细尘。并将细尘的的\n品质提升为金沙，效果提升{0}%",0,"icon_s2019","S2019",2019,null,1,1,2,3,"40",0,"102","6",1261,3,-1,40,{"$nulls":6},"攻击+3%","金沙·叁",null,0,{"$nulls":7},6]
[20193,13010,337.5,1020193,1120193,"金沙","前方功法命中目标时额外施加1层细尘。并将细尘的的\n品质提升为金沙，效果提升{0}%",0,"icon_s2019","S2019",2019,null,1,1,2,4,"50",0,"102","9",1262,3,-1,50,{"$nulls":6},"攻击+3%","金沙·肆",null,0,{"$nulls":7},9]
[20194,13010,506.25,1020194,1120194,"金沙","前方功法命中目标时额外施加1层细尘。并将细尘的的\n品质提升为金沙，效果提升{0}%",0,"icon_s2019","S2019",2019,null,1,1,2,5,"60",0,"102","12",1263,3,-1,60,{"$nulls":6},"攻击+3%","金沙·伍",null,0,{"$nulls":7},12]
[20195,13010,759.375,1020195,1120195,"金沙","前方功法命中目标时额外施加1层细尘。并将细尘的的\n品质提升为金沙，效果提升{0}%",0,"icon_s2019","S2019",2019,null,1,1,2,6,"70",0,"102","12",1264,null,"1;-1",70,{"$nulls":6},"前槽位也生效，剑气增强","金沙·陆",null,0,{"$nulls":7},12]
[{"$nulls":8},"icon_s",{"$nulls":4},1,{"$nulls":19},{"$f":"IF(#REF!=\"\",\"\",AI314*AJ314/(1-AK314-AL314))","v":{"$error":"#REF!"}}]
[null,"英雄-法宝区域",{"$nulls":6},"icon_s",{"$nulls":4},1,{"$nulls":17},{"$f":"IF(F315=\"\",\"\",CONCATENATE(F315,\"·\",CHOOSE(P315,\"壹\",\"贰\",\"叁\",\"肆\",\"伍\",\"陆\")))","v":""},null,{"$f":"IF(A315=\"\",\"\",AI315*AJ315/(1-AK315-AL315))","v":""}]
[{"$f":"K316*10+P316-1","v":31010},11005,100,496,919,"神龙鼎","对敌人照成{0}伤害，使敌人五行混乱。敌人的功法每次使用功法都将使用最低灵根属性作为伤害计算，持续{1}秒",1,{"$f":"CONCATENATE(\"icon_fb\",K316)","v":"icon_fb3101"},{"$f":"CONCATENATE(\"S\",K316)","v":"S3101"},3101,null,10,1,3,1,{"$f":"_xlfn.TEXTJOIN(\";\",1,X316:AD316)","v":"100;9"},1,{"$f":"_xlfn.TEXTJOIN(\";\",1,IF(AO316=\"\",\"\",101),IF(AP316=\"\",\"\",102),IF(AQ316=\"\",\"\",103),IF(AR316=\"\",\"\",106),IF(AS316=\"\",\"\",107),IF(AT316=\"\",\"\",108),IF(AU316=\"\",\"\",109),IF(AV316=\"\",\"\",110))","v":""},{"$f":"_xlfn.TEXTJOIN(\";\",1,AO316:AV316)","v":""},-1,null,null,100,9,{"$nulls":6},{"$f":"IF(F316=\"\",\"\",CONCATENATE(F316,\"·\",CHOOSE(P316,\"壹\",\"贰\",\"叁\",\"肆\",\"伍\",\"陆\")))","v":"神龙鼎·壹"},null,0]
[{"$f":"K317*10+P317-1","v":31011},11005,120,497,920,"神龙鼎","对敌人照成{0}伤害，使敌人五行混乱。敌人的功法每次使用功法都将使用最低灵根属性作为伤害计算，持续{1}秒",1,"icon_fb3101",{"$f":"CONCATENATE(\"S\",K317)","v":"S3101"},3101,null,10,1,3,2,"120;9",1,{"$f":"_xlfn.TEXTJOIN(\";\",1,IF(AO317=\"\",\"\",101),IF(AP317=\"\",\"\",102),IF(AQ317=\"\",\"\",103),IF(AR317=\"\",\"\",106),IF(AS317=\"\",\"\",107),IF(AT317=\"\",\"\",108),IF(AU317=\"\",\"\",109),IF(AV317=\"\",\"\",110))","v":"106"},{"$f":"_xlfn.TEXTJOIN(\";\",1,AO317:AV317)","v":"5"},1265,5,null,120,9,{"$nulls":5},{"$f":"CONCATENATE(\"金灵根+\",V317)","v":"金灵根+5"},"神龙鼎·贰",null,0,{"$nulls":9},5]
[31012,11005,225,498,921,"神龙鼎","对敌人照成{0}伤害，使敌人五行混乱。敌人的功法每次使用功法都将使用最低灵根属性作为伤害计算，持续{1}秒",1,"icon_fb3101","S3101",3101,null,10,1,3,3,"140;9",1,"102;106","5;5",1266,5,null,140,9,{"$nulls":5},{"$f":"CONCATENATE(\"攻击+\",V318,\"%\")","v":"攻击+5%"},"神龙鼎·叁",null,0,{"$nulls":7},5,null,5]
[31013,11005,337.5,499,922,"神龙鼎","对敌人照成{0}伤害，使敌人五行混乱。敌人的功法每次使用功法都将使用最低灵根属性作为伤害计算，持续{1}秒",1,"icon_fb3101","S3101",3101,null,10,1,3,4,"160;9",1,"102;106","5;10",1267,5,null,160,9,{"$nulls":5},{"$f":"CONCATENATE(\"金灵根+\",V319)","v":"金灵根+5"},"神龙鼎·肆",null,0,{"$nulls":7},5,null,10]
[31014,11005,506.25,500,923,"神龙鼎","对敌人照成{0}伤害，使敌人五行混乱。敌人的功法每次使用功法都将使用最低灵根属性作为伤害计算，持续{1}秒",1,"icon_fb3101","S3101",3101,null,10,1,3,5,"180;9",1,"102;106","10;10",1268,5,null,180,9,{"$nulls":5},{"$f":"CONCATENATE(\"攻击+\",V320,\"%\")","v":"攻击+5%"},"神龙鼎·伍",null,0,{"$nulls":7},10,null,10]
[31015,11005,759.375,501,924,"神龙鼎","对敌人照成{0}伤害，使敌人五行混乱。敌人的功法每次使用功法都将使用最低灵根属性作为伤害计算，持续{1}秒\n神农鼎生效期间，使敌人的所有灵根降低{2}%。",1,"icon_fb3101","S3101",3101,null,10,1,3,6,"200;9;15",1,"102;106","10;10",1269,null,null,200,9,15,{"$nulls":4},"降低敌人灵根","神龙鼎·陆",null,0,{"$nulls":7},10,null,10]
[{"$nulls":8},{"$f":"CONCATENATE(\"icon_s\",K322)","v":"icon_s"},{"$nulls":4},1,{"$nulls":17},"",null,""]
[{"$f":"K323*10+P323-1","v":31020},11005,100,502,925,"噬空齿刃","无视敌人灵根，对敌人造成{0]伤害，同时让五行伤势1",1,"icon_s3102",{"$f":"CONCATENATE(\"S\",K323)","v":"S3102"},3102,null,10,1,3,1,"200",1,{"$f":"_xlfn.TEXTJOIN(\";\",1,IF(AO323=\"\",\"\",101),IF(AP323=\"\",\"\",102),IF(AQ323=\"\",\"\",103),IF(AR323=\"\",\"\",106),IF(AS323=\"\",\"\",107),IF(AT323=\"\",\"\",108),IF(AU323=\"\",\"\",109),IF(AV323=\"\",\"\",110))","v":""},{"$f":"_xlfn.TEXTJOIN(\";\",1,AO323:AV323)","v":""},-1,null,null,200,{"$nulls":7},"噬空齿刃·壹",null,0]
[31021,11005,150,503,926,"噬空齿刃","无视敌人灵根，对敌人造成{0]伤害，同时让五行伤势1",1,"icon_s3102",{"$f":"CONCATENATE(\"S\",K324)","v":"S3102"},3102,null,10,1,3,2,"220",1,{"$f":"_xlfn.TEXTJOIN(\";\",1,IF(AO324=\"\",\"\",101),IF(AP324=\"\",\"\",102),IF(AQ324=\"\",\"\",103),IF(AR324=\"\",\"\",106),IF(AS324=\"\",\"\",107),IF(AT324=\"\",\"\",108),IF(AU324=\"\",\"\",109),IF(AV324=\"\",\"\",110))","v":""},{"$f":"_xlfn.TEXTJOIN(\";\",1,AO324:AV324)","v":""},1270,null,null,220,{"$nulls":7},"噬空齿刃·贰",null,0]
[31022,11005,225,504,927,"噬空齿刃","无视敌人灵根，对敌人造成{0]伤害，同时让五行伤势1",1,"icon_s3102","S3102",3102,null,10,1,3,3,"240",1,"","",1271,null,null,240,{"$nulls":7},"噬空齿刃·叁",null,0]
[31023,11005,337.5,505,928,"噬空齿刃","无视敌人灵根，对敌人造成{0]伤害，同时让五行伤势1",1,"icon_s3102","S3102",3102,null,10,1,3,4,"260",1,"","",1272,null,null,260,{"$nulls":7},"噬空齿刃·肆",null,0]
[31024,11005,506.25,506,929,"噬空齿刃","无视敌人灵根，对敌人造成{0]伤害，同时让五行伤势1",1,"icon_s3102","S3102",3102,null,10,1,3,5,"280",1,"","",1273,null,null,280,{"$nulls":7},"噬空齿刃·伍",null,0]
[31025,11005,759.375,507,930,"噬空齿刃","无视敌人灵根，对敌人造成{0]伤害，同时让五行伤势1",1,"icon_s3102","S3102",3102,null,10,1,3,6,"300",1,"","",1274,null,null,300,{"$nulls":7},"噬空齿刃·陆",null,0]
[{"$nulls":8},"icon_s",{"$nulls":4},1,{"$nulls":17},"",null,""]
[{"$f":"K330*10+P330-1","v":32010},11002,100,508,931,"翡翠葫芦","战场区域形成一个域。敌人的功法弹道进入域后将降低敌人{0}%的功法弹道速度，持续{1}秒",2,{"$f":"CONCATENATE(\"icon_fb\",K330)","v":"icon_fb3201"},{"$f":"CONCATENATE(\"S\",K330)","v":"S3201"},3201,null,10,1,3,1,"50;12",1,{"$f":"_xlfn.TEXTJOIN(\";\",1,IF(AO330=\"\",\"\",101),IF(AP330=\"\",\"\",102),IF(AQ330=\"\",\"\",103),IF(AR330=\"\",\"\",106),IF(AS330=\"\",\"\",107),IF(AT330=\"\",\"\",108),IF(AU330=\"\",\"\",109),IF(AV330=\"\",\"\",110))","v":""},{"$f":"_xlfn.TEXTJOIN(\";\",1,AO330:AV330)","v":""},-1,null,null,50,12,{"$nulls":6},"翡翠葫芦·壹",null,0]
[{"$f":"K331*10+P331-1","v":32011},11002,150,509,932,"翡翠葫芦","战场区域形成一个域。敌人的功法弹道进入域后将降低敌人{0}%的功法弹道速度，持续{1}秒",2,{"$f":"CONCATENATE(\"icon_fb\",K331)","v":"icon_fb3201"},{"$f":"CONCATENATE(\"S\",K331)","v":"S3201"},3201,null,10,1,3,2,"75;12",1,{"$f":"_xlfn.TEXTJOIN(\";\",1,IF(AO331=\"\",\"\",101),IF(AP331=\"\",\"\",102),IF(AQ331=\"\",\"\",103),IF(AR331=\"\",\"\",106),IF(AS331=\"\",\"\",107),IF(AT331=\"\",\"\",108),IF(AU331=\"\",\"\",109),IF(AV331=\"\",\"\",110))","v":""},{"$f":"_xlfn.TEXTJOIN(\";\",1,AO331:AV331)","v":""},1275,null,null,75,12,{"$nulls":5},"降速效果提升","翡翠葫芦·贰",null,0]
[32012,11002,225,510,933,"翡翠葫芦","战场区域形成一个域。敌人的功法弹道进入域后将降低敌人{0}%的功法弹道速度，持续{1}秒",2,{"$f":"CONCATENATE(\"icon_fb\",K332)","v":"icon_fb3201"},"S3201",3201,null,10,1,3,3,"75;12",1,"108","5",1276,5,null,75,12,{"$nulls":5},{"$f":"CONCATENATE(\"水灵根+\",V332)","v":"水灵根+5"},"翡翠葫芦·叁",null,0,{"$nulls":11},5]
[32013,11002,337.5,511,934,"翡翠葫芦","战场区域形成一个域。敌人的功法弹道进入域后将降低敌人{0}%的功法弹道速度，持续{1}秒",2,"icon_fb3201","S3201",3201,null,10,1,3,4,"75;12",1,"101;108","5;5",1277,5,null,75,12,{"$nulls":5},{"$f":"CONCATENATE(\"生命+\",V333,\"%\")","v":"生命+5%"},"翡翠葫芦·肆",null,0,{"$nulls":6},5,{"$nulls":4},5]
[32014,11002,506.25,512,935,"翡翠葫芦","战场区域形成一个域。敌人的功法弹道进入域后将降低敌人{0}%的功法弹道速度，持续{1}秒",2,"icon_fb3201","S3201",3201,null,10,1,3,5,"75;12",1,"101;108","5;10",1278,5,null,75,12,{"$nulls":5},{"$f":"CONCATENATE(\"水灵根+\",V334)","v":"水灵根+5"},"翡翠葫芦·伍",null,0,{"$nulls":6},5,{"$nulls":4},10]
[32015,11002,759.375,513,936,"翡翠葫芦","战场区域形成一个域。敌人的功法弹道进入域后将降低敌人{0}%的功法弹道速度，持续{1}秒\n受影响的敌方功法强度降低{2}%",2,"icon_fb3201","S3201",3201,null,10,1,3,6,"75;12;50",1,"101;108","5;10",1279,null,null,75,12,50,{"$nulls":4},"降低被影响功法的强度","翡翠葫芦·陆",null,0,{"$nulls":6},5,{"$nulls":4},10]
[{"$nulls":8},{"$f":"CONCATENATE(\"icon_s\",K336)","v":"icon_s"},{"$nulls":4},1,{"$nulls":17},"",null,""]
[{"$f":"K337*10+P337-1","v":32020},11002,100,514,937,"混沌珠","用后{2}秒内大幅提升所有灵根{0}%，一场战斗可使用{1}次",2,"icon_fb3202",{"$f":"CONCATENATE(\"S\",K337)","v":"S3202"},3202,null,10,1,3,1,"20;2;18",1,{"$f":"_xlfn.TEXTJOIN(\";\",1,IF(AO337=\"\",\"\",101),IF(AP337=\"\",\"\",102),IF(AQ337=\"\",\"\",103),IF(AR337=\"\",\"\",106),IF(AS337=\"\",\"\",107),IF(AT337=\"\",\"\",108),IF(AU337=\"\",\"\",109),IF(AV337=\"\",\"\",110))","v":""},{"$f":"_xlfn.TEXTJOIN(\";\",1,AO337:AV337)","v":""},-1,null,null,20,2,18,{"$nulls":5},{"$f":"IF(F337=\"\",\"\",CONCATENATE(F337,\"·\",CHOOSE(P337,\"壹\",\"贰\",\"叁\",\"肆\",\"伍\",\"陆\")))","v":"混沌珠·壹"},null,0]
[{"$f":"K338*10+P338-1","v":32021},11002,150,515,938,"混沌珠","用后{2}秒内大幅提升所有灵根{0}%，一场战斗可使用{1}次",2,"icon_fb3202",{"$f":"CONCATENATE(\"S\",K338)","v":"S3202"},3202,null,10,1,3,2,"20;2;18",1,{"$f":"_xlfn.TEXTJOIN(\";\",1,IF(AO338=\"\",\"\",101),IF(AP338=\"\",\"\",102),IF(AQ338=\"\",\"\",103),IF(AR338=\"\",\"\",106),IF(AS338=\"\",\"\",107),IF(AT338=\"\",\"\",108),IF(AU338=\"\",\"\",109),IF(AV338=\"\",\"\",110))","v":"108"},{"$f":"_xlfn.TEXTJOIN(\";\",1,AO338:AV338)","v":"5"},1280,5,null,20,2,18,{"$nulls":4},{"$f":"CONCATENATE(\"水灵根+\",V338)","v":"水灵根+5"},"混沌珠·贰",null,0,{"$nulls":11},5]
[32022,11002,225,516,939,"混沌珠","用后{2}秒内大幅提升所有灵根{0}%，一场战斗可使用{1}次",2,"icon_fb3202","S3202",3202,null,10,1,3,3,"20;2;18",1,"103;108","5;5",1281,5,null,20,2,18,{"$nulls":4},{"$f":"CONCATENATE(\"防御+\",V339,\"%\")","v":"防御+5%"},"混沌珠·叁",null,0,{"$nulls":8},5,null,null,5]
[32023,11002,337.5,517,940,"混沌珠","用后{2}秒内大幅提升所有灵根{0}%，一场战斗可使用{1}次",2,"icon_fb3202","S3202",3202,null,10,1,3,4,"20;3;18",1,"103;108","5;5",1282,null,null,20,3,18,{"$nulls":4},"可使用次数增加","混沌珠·肆",null,{"$f":"IF(A340=\"\",\"\",AI340*AJ340/(1-AK340-AL340))","v":0},{"$nulls":8},5,null,null,5]
[32024,11002,506.25,518,941,"混沌珠","用后{2}秒内大幅提升所有灵根{0}%，一场战斗可使用{1}次",2,"icon_fb3202","S3202",3202,null,10,1,3,5,"20;3;18",1,"103;108","5;10",1283,5,null,20,3,18,{"$nulls":4},{"$f":"CONCATENATE(\"水灵根+\",V341)","v":"水灵根+5"},"混沌珠·伍",null,0,{"$nulls":8},5,null,null,10]
[32025,11002,759.375,519,942,"混沌珠","用后{2}秒内大幅提升所有灵根{0}%，一场战斗可使用{1}次\n混沌珠生效期间，己方所有功法额外增伤{3}%",2,"icon_fb3202","S3202",3202,null,10,1,3,6,"20;3;18;20",1,"103;108","5;10",1284,null,null,20,3,18,20,null,null,null,"功法额外增伤","混沌珠·陆",null,0,{"$nulls":8},5,null,null,10]
[{"$nulls":8},"icon_s",{"$nulls":4},1,{"$nulls":17},"",null,""]
[{"$f":"K344*10+P344-1","v":32030},11002,100,520,943,"绝脉瓶","对敌人照成{0}水系伤害，封锁敌人筋脉随机{1}个格子流动{2}秒",2,"icon_s3203",{"$f":"CONCATENATE(\"S\",K344)","v":"S3203"},3203,null,10,1,3,1,{"$f":"_xlfn.TEXTJOIN(\";\",1,X344:AD344)","v":"30;1;5"},1,{"$f":"_xlfn.TEXTJOIN(\";\",1,IF(AO344=\"\",\"\",101),IF(AP344=\"\",\"\",102),IF(AQ344=\"\",\"\",103),IF(AR344=\"\",\"\",106),IF(AS344=\"\",\"\",107),IF(AT344=\"\",\"\",108),IF(AU344=\"\",\"\",109),IF(AV344=\"\",\"\",110))","v":""},{"$f":"_xlfn.TEXTJOIN(\";\",1,AO344:AV344)","v":""},-1,null,null,30,1,5,{"$nulls":5},{"$f":"IF(F344=\"\",\"\",CONCATENATE(F344,\"·\",CHOOSE(P344,\"壹\",\"贰\",\"叁\",\"肆\",\"伍\",\"陆\")))","v":"绝脉瓶·壹"},null,0]
[32031,11002,150,521,944,"绝脉瓶","对敌人照成{0}水系伤害，封锁敌人筋脉随机{1}个格子流动{2}秒",2,"icon_s3203",{"$f":"CONCATENATE(\"S\",K345)","v":"S3203"},3203,null,10,1,3,2,"40;1;5",1,{"$f":"_xlfn.TEXTJOIN(\";\",1,IF(AO345=\"\",\"\",101),IF(AP345=\"\",\"\",102),IF(AQ345=\"\",\"\",103),IF(AR345=\"\",\"\",106),IF(AS345=\"\",\"\",107),IF(AT345=\"\",\"\",108),IF(AU345=\"\",\"\",109),IF(AV345=\"\",\"\",110))","v":""},{"$f":"_xlfn.TEXTJOIN(\";\",1,AO345:AV345)","v":""},1285,null,null,40,1,5,{"$nulls":5},"绝脉瓶·贰",null,0]
[32032,11002,225,522,945,"绝脉瓶","对敌人照成{0}水系伤害，封锁敌人筋脉随机{1}个格子流动{2}秒",2,"icon_s3203",{"$f":"CONCATENATE(\"S\",K346)","v":"S3203"},3203,null,10,1,3,3,"50;1;5",1,"","",1286,null,null,50,1,5,{"$nulls":5},"绝脉瓶·叁",null,0]
[32033,11002,337.5,523,946,"绝脉瓶","对敌人照成{0}水系伤害，封锁敌人筋脉随机{1}个格子流动{2}秒",2,"icon_s3203","S3203",3203,null,10,1,3,4,"60;1;5",1,"","",1287,null,null,60,1,5,{"$nulls":5},"绝脉瓶·肆",null,0]
[32034,11002,506.25,524,947,"绝脉瓶","对敌人照成{0}水系伤害，封锁敌人筋脉随机{1}个格子流动{2}秒",2,"icon_s3203","S3203",3203,null,10,1,3,5,"70;1;5",1,"","",1288,null,null,70,1,5,{"$nulls":5},"绝脉瓶·伍",null,0]
[32035,11002,759.375,525,948,"绝脉瓶","对敌人照成{0}水系伤害，封锁敌人筋脉随机{1}个格子流动{2}秒",2,"icon_s3203","S3203",3203,null,10,1,3,6,"80;1;5",1,"","",1289,null,null,80,1,5,{"$nulls":5},"绝脉瓶·陆",null,0]
[{"$nulls":8},"icon_s",{"$nulls":4},1,{"$nulls":17},"",null,""]
[{"$f":"K351*10+P351-1","v":33010},11004,100,526,949,"九幽镇魂瓶","对敌人造成{2}%伤害，并随机封锁敌人{0}个法宝，让其{1}秒内不能使用",4,{"$f":"CONCATENATE(\"icon_fb\",K351)","v":"icon_fb3301"},{"$f":"CONCATENATE(\"S\",K351)","v":"S3301"},3301,null,10,1,3,1,"1;12;1000",2,{"$f":"_xlfn.TEXTJOIN(\";\",1,IF(AO351=\"\",\"\",101),IF(AP351=\"\",\"\",102),IF(AQ351=\"\",\"\",103),IF(AR351=\"\",\"\",106),IF(AS351=\"\",\"\",107),IF(AT351=\"\",\"\",108),IF(AU351=\"\",\"\",109),IF(AV351=\"\",\"\",110))","v":""},{"$f":"_xlfn.TEXTJOIN(\";\",1,AO351:AV351)","v":""},-1,null,null,1,12,1000,{"$nulls":5},{"$f":"IF(F351=\"\",\"\",CONCATENATE(F351,\"·\",CHOOSE(P351,\"壹\",\"贰\",\"叁\",\"肆\",\"伍\",\"陆\")))","v":"九幽镇魂瓶·壹"},null,0]
[{"$f":"K352*10+P352-1","v":33011},11004,150,527,950,"九幽镇魂瓶","对敌人造成{2}%伤害，并随机封锁敌人{0}个法宝，让其{1}秒内不能使用",4,"icon_fb3301",{"$f":"CONCATENATE(\"S\",K352)","v":"S3301"},3301,null,10,1,3,2,"2;12;1000",2,{"$f":"_xlfn.TEXTJOIN(\";\",1,IF(AO352=\"\",\"\",101),IF(AP352=\"\",\"\",102),IF(AQ352=\"\",\"\",103),IF(AR352=\"\",\"\",106),IF(AS352=\"\",\"\",107),IF(AT352=\"\",\"\",108),IF(AU352=\"\",\"\",109),IF(AV352=\"\",\"\",110))","v":""},{"$f":"_xlfn.TEXTJOIN(\";\",1,AO352:AV352)","v":""},1290,null,null,2,12,1000,{"$nulls":4},"封印法宝数量增加","九幽镇魂瓶·贰",null,0]
[33012,11004,225,528,951,"九幽镇魂瓶","对敌人造成{2}%伤害，并随机封锁敌人{0}个法宝，让其{1}秒内不能使用",4,"icon_fb3301","S3301",3301,null,10,1,3,3,"2;12;1000",2,"107","5",1291,5,null,2,12,1000,{"$nulls":4},{"$f":"CONCATENATE(\"木灵根+\",V353)","v":"木灵根+5"},"九幽镇魂瓶·叁",null,0,{"$nulls":10},5]
[33013,11004,337.5,529,952,"九幽镇魂瓶","对敌人造成{2}%伤害，并随机封锁敌人{0}个法宝，让其{1}秒内不能使用\n如果影响的法宝是相生法宝，则使其充能时间延长{3}%直至战斗结束",4,"icon_fb3301","S3301",3301,null,10,1,3,4,"2;12;1000;30",2,"107","5",1292,null,null,2,12,1000,30,null,null,null,"减缓相生法宝充能","九幽镇魂瓶·肆",null,0,{"$nulls":10},5]
[33014,11004,506.25,530,953,"九幽镇魂瓶","对敌人造成{2}%伤害，并随机封锁敌人{0}个法宝，让其{1}秒内不能使用\n如果影响的法宝是相生法宝，则使其充能时间延长{3}%直至战斗结束",4,"icon_fb3301","S3301",3301,null,10,1,3,5,"2;12;1000;30",2,"107","10",1293,5,null,2,12,1000,30,null,null,null,{"$f":"CONCATENATE(\"木灵根+\",V355)","v":"木灵根+5"},"九幽镇魂瓶·伍",null,0,{"$nulls":10},10]
[33015,11004,759.375,531,954,"九幽镇魂瓶","对敌人造成{2}%伤害，并随机封锁敌人{0}个法宝，让其{1}秒内不能使用\n如果影响的法宝是相生法宝，则使其充能时间延长{3}%直至战斗结束",4,"icon_fb3301","S3301",3301,null,10,1,3,6,"2;12;1000;300",2,"107","10",1294,null,null,2,12,1000,300,null,null,null,"大幅减缓相生法宝充能","九幽镇魂瓶·陆",null,0,{"$nulls":10},10]
[{"$nulls":8},"icon_s",{"$nulls":4},1,{"$nulls":17},"",null,""]
[{"$f":"K358*10+P358-1","v":33020},11008,100,532,955,"玉莲守心灯","一盏明灯围绕玩家，{0}秒内抵消所有负面效果，每{1}秒触发1次。",4,"icon_s3302",{"$f":"CONCATENATE(\"S\",K358)","v":"S3302"},3302,null,10,1,3,1,"10;1",1,{"$f":"_xlfn.TEXTJOIN(\";\",1,IF(AO358=\"\",\"\",101),IF(AP358=\"\",\"\",102),IF(AQ358=\"\",\"\",103),IF(AR358=\"\",\"\",106),IF(AS358=\"\",\"\",107),IF(AT358=\"\",\"\",108),IF(AU358=\"\",\"\",109),IF(AV358=\"\",\"\",110))","v":""},{"$f":"_xlfn.TEXTJOIN(\";\",1,AO358:AV358)","v":""},-1,null,null,10,1,{"$nulls":6},{"$f":"IF(F358=\"\",\"\",CONCATENATE(F358,\"·\",CHOOSE(P358,\"壹\",\"贰\",\"叁\",\"肆\",\"伍\",\"陆\")))","v":"玉莲守心灯·壹"},null,0]
[33021,11008,150,533,956,"玉莲守心灯","一盏明灯围绕玩家，{0}秒内抵消所有负面效果，每{1}秒触发1次。",4,"icon_s3302",{"$f":"CONCATENATE(\"S\",K359)","v":"S3302"},3302,null,10,1,3,2,"11;1",1,{"$f":"_xlfn.TEXTJOIN(\";\",1,IF(AO359=\"\",\"\",101),IF(AP359=\"\",\"\",102),IF(AQ359=\"\",\"\",103),IF(AR359=\"\",\"\",106),IF(AS359=\"\",\"\",107),IF(AT359=\"\",\"\",108),IF(AU359=\"\",\"\",109),IF(AV359=\"\",\"\",110))","v":""},{"$f":"_xlfn.TEXTJOIN(\";\",1,AO359:AV359)","v":""},1295,null,null,11,1,{"$nulls":6},"玉莲守心灯·贰",null,0]
[33022,11008,225,534,957,"玉莲守心灯","一盏明灯围绕玩家，{0}秒内抵消所有负面效果，每{1}秒触发1次。",4,"icon_s3302","S3302",3302,null,10,1,3,3,"12;1",1,"","",1296,null,null,12,1,{"$nulls":6},"玉莲守心灯·叁",null,0]
[33023,11008,337.5,535,958,"玉莲守心灯","一盏明灯围绕玩家，{0}秒内抵消所有负面效果，每{1}秒触发1次。",4,"icon_s3302","S3302",3302,null,10,1,3,4,"13;1",1,"","",1297,null,null,13,1,{"$nulls":6},"玉莲守心灯·肆",null,0]
[33024,11008,506.25,536,959,"玉莲守心灯","一盏明灯围绕玩家，{0}秒内抵消所有负面效果，每{1}秒触发1次。",4,"icon_s3302","S3302",3302,null,10,1,3,5,"14;1",1,"","",1298,null,null,14,1,{"$nulls":6},"玉莲守心灯·伍",null,0]
[33025,11008,759.375,537,960,"玉莲守心灯","一盏明灯围绕玩家，{0}秒内抵消所有负面效果，每{1}秒触发1次。",4,"icon_s3302","S3302",3302,null,10,1,3,6,"15;1",1,"","",1299,null,null,15,1,{"$nulls":6},"玉莲守心灯·陆",null,0]
[{"$nulls":8},"icon_s",{"$nulls":4},1,{"$nulls":19},""]
[{"$f":"K365*10+P365-1","v":34010},11004,100,538,961,"融灵塔","宝塔在英雄的头顶前往位置旋转，形成一个扇形区域，敌人的功法如果进入这个扇形区域有{0}%概率被法宝吸收，持续{1}秒",8,{"$f":"CONCATENATE(\"icon_fb\",K365)","v":"icon_fb3401"},{"$f":"CONCATENATE(\"S\",K365)","v":"S3401"},3401,null,10,1,3,1,"40;12",2,{"$f":"_xlfn.TEXTJOIN(\";\",1,IF(AO365=\"\",\"\",101),IF(AP365=\"\",\"\",102),IF(AQ365=\"\",\"\",103),IF(AR365=\"\",\"\",106),IF(AS365=\"\",\"\",107),IF(AT365=\"\",\"\",108),IF(AU365=\"\",\"\",109),IF(AV365=\"\",\"\",110))","v":""},{"$f":"_xlfn.TEXTJOIN(\";\",1,AO365:AV365)","v":""},-1,null,null,40,12,{"$nulls":6},{"$f":"IF(F365=\"\",\"\",CONCATENATE(F365,\"·\",CHOOSE(P365,\"壹\",\"贰\",\"叁\",\"肆\",\"伍\",\"陆\")))","v":"融灵塔·壹"},null,0]
[{"$f":"K366*10+P366-1","v":34011},11004,150,539,962,"融灵塔","宝塔在英雄的头顶前往位置旋转，形成一个扇形区域，敌人的功法如果进入这个扇形区域有{0}%概率被法宝吸收，持续{1}秒",8,"icon_fb3401",{"$f":"CONCATENATE(\"S\",K366)","v":"S3401"},3401,null,10,1,3,2,"40;12",2,{"$f":"_xlfn.TEXTJOIN(\";\",1,IF(AO366=\"\",\"\",101),IF(AP366=\"\",\"\",102),IF(AQ366=\"\",\"\",103),IF(AR366=\"\",\"\",106),IF(AS366=\"\",\"\",107),IF(AT366=\"\",\"\",108),IF(AU366=\"\",\"\",109),IF(AV366=\"\",\"\",110))","v":"109"},{"$f":"_xlfn.TEXTJOIN(\";\",1,AO366:AV366)","v":"5"},1300,5,null,40,12,{"$nulls":5},{"$f":"CONCATENATE(\"火灵根+\",V366)","v":"火灵根+5"},"融灵塔·贰",null,0,{"$nulls":12},5]
[34012,11004,225,540,963,"融灵塔","宝塔在英雄的头顶前往位置旋转，形成一个扇形区域，敌人的功法如果进入这个扇形区域有{0}%概率被法宝吸收，持续{1}秒",8,"icon_fb3401","S3401",3401,null,10,1,3,3,"60;12",2,"109","5",1301,null,null,60,12,{"$nulls":5},"增加吸收几率","融灵塔·叁",null,0,{"$nulls":12},5]
[34013,11004,337.5,541,964,"融灵塔","宝塔在英雄的头顶前往位置旋转，形成一个扇形区域，敌人的功法如果进入这个扇形区域有{0}%概率被法宝吸收，持续{1}秒",8,"icon_fb3401","S3401",3401,null,10,1,3,4,"60;12",2,"102;109","5;5",1302,5,null,60,12,{"$nulls":5},{"$f":"CONCATENATE(\"攻击+\",V368,\"%\")","v":"攻击+5%"},"融灵塔·肆",null,0,{"$nulls":7},5,{"$nulls":4},5]
[34014,11004,506.25,542,965,"融灵塔","宝塔在英雄的头顶前往位置旋转，形成一个扇形区域，敌人的功法如果进入这个扇形区域有{0}%概率被法宝吸收，持续{1}秒",8,"icon_fb3401","S3401",3401,null,10,1,3,5,"60;12",2,"102;109","5;10",1303,5,null,60,12,{"$nulls":5},{"$f":"CONCATENATE(\"火灵根+\",V369)","v":"火灵根+5"},"融灵塔·伍",null,0,{"$nulls":7},5,{"$nulls":4},10]
[34015,11004,759.375,543,966,"融灵塔","宝塔在英雄的头顶前往位置旋转，形成一个扇形区域，敌人的功法如果进入这个扇形区域有{0}%概率被法宝吸收，持续{1}秒\n敌方功法被吸收后，己方英雄临时增加{2}点对应五行灵根，持续{3}秒",8,"icon_fb3401","S3401",3401,null,10,1,3,6,"100;12;20;9",2,"102;109","5;10",1304,null,null,100,12,20,9,null,null,null,"完全吸收，临时加灵根","融灵塔·陆",null,0,{"$nulls":7},5,{"$nulls":4},10]
[{"$nulls":8},"icon_s",{"$nulls":4},1,{"$nulls":17},"",null,""]
[{"$f":"K372*10+P372-1","v":34020},11004,100,544,967,"禁元珠","打断对手当前正在生效中的法宝",8,"icon_s3402",{"$f":"CONCATENATE(\"S\",K372)","v":"S3402"},3402,null,10,1,3,1,"",2,{"$f":"_xlfn.TEXTJOIN(\";\",1,IF(AO372=\"\",\"\",101),IF(AP372=\"\",\"\",102),IF(AQ372=\"\",\"\",103),IF(AR372=\"\",\"\",106),IF(AS372=\"\",\"\",107),IF(AT372=\"\",\"\",108),IF(AU372=\"\",\"\",109),IF(AV372=\"\",\"\",110))","v":""},{"$f":"_xlfn.TEXTJOIN(\";\",1,AO372:AV372)","v":""},-1,{"$nulls":10},{"$f":"IF(F372=\"\",\"\",CONCATENATE(F372,\"·\",CHOOSE(P372,\"壹\",\"贰\",\"叁\",\"肆\",\"伍\",\"陆\")))","v":"禁元珠·壹"},null,0]
[{"$f":"K373*10+P373-1","v":34021},11004,150,545,968,"禁元珠","打断对手当前正在生效中的法宝\n可以打断准备生效中的法宝，且避免己方法宝进入对拼状态，持续{0}秒",8,"icon_s3402",{"$f":"CONCATENATE(\"S\",K373)","v":"S3402"},3402,null,10,1,3,2,"12",2,{"$f":"_xlfn.TEXTJOIN(\";\",1,IF(AO373=\"\",\"\",101),IF(AP373=\"\",\"\",102),IF(AQ373=\"\",\"\",103),IF(AR373=\"\",\"\",106),IF(AS373=\"\",\"\",107),IF(AT373=\"\",\"\",108),IF(AU373=\"\",\"\",109),IF(AV373=\"\",\"\",110))","v":""},{"$f":"_xlfn.TEXTJOIN(\";\",1,AO373:AV373)","v":""},1305,null,null,12,{"$nulls":6},"打断增强，避免对拼","禁元珠·贰",null,0]
[34022,11004,225,546,969,"禁元珠","打断对手当前正在生效中的法宝\n可以打断准备生效中的法宝，且避免己方法宝进入对拼状态，持续{0}秒",8,"icon_s3402","S3402",3402,null,10,1,3,3,"12",2,"109","5",1306,5,null,12,{"$nulls":6},{"$f":"CONCATENATE(\"火灵根+\",V374)","v":"火灵根+5"},"禁元珠·叁",null,0,{"$nulls":12},5]
[34023,11004,337.5,547,970,"禁元珠","打断对手当前正在生效中的法宝\n可以打断准备生效中的法宝，且避免己方法宝进入对拼状态，持续{0}秒",8,"icon_s3402","S3402",3402,null,10,1,3,4,"12",2,"102;109","5;5",1307,null,null,12,{"$nulls":6},{"$f":"CONCATENATE(\"攻击+\",V375,\"%\")","v":"攻击+%"},"禁元珠·肆",null,0,{"$nulls":7},5,{"$nulls":4},5]
[34024,11004,506.25,548,971,"禁元珠","打断对手当前正在生效中的法宝\n可以打断准备生效中的法宝，且避免己方法宝进入对拼状态，持续{0}秒",8,"icon_s3402","S3402",3402,null,10,1,3,5,"12",2,"102;109","5;10",1308,5,null,12,{"$nulls":6},{"$f":"CONCATENATE(\"火灵根+\",V376)","v":"火灵根+5"},"禁元珠·伍",null,0,{"$nulls":7},5,{"$nulls":4},10]
[34025,11004,759.375,549,972,"禁元珠","打断对手当前正在生效中的法宝\n可以打断准备生效中的法宝，且避免己方法宝进入对拼状态，持续{0}秒\n每打断一次法宝，使禁元珠的冷却时间缩减{1}%，最多{2}次",8,"icon_s3402","S3402",3402,null,10,1,3,6,"12;15;3",2,"102;109","5;10",1309,null,null,12,15,3,{"$nulls":4},"成功打断后加速冷却","禁元珠·陆",null,0,{"$nulls":7},5,{"$nulls":4},10]
[{"$nulls":8},"icon_s",{"$nulls":4},1,{"$nulls":17},"",null,""]
[{"$f":"K379*10+P379-1","v":35010},11003,100,550,973,"玄龟盾","前方形成土系防御盾，抵挡相当于自身生命上限{0}%的伤害，持续{1}秒",16,{"$f":"CONCATENATE(\"icon_fb\",K379)","v":"icon_fb3501"},{"$f":"CONCATENATE(\"S\",K379)","v":"S3501"},3501,null,10,1,3,1,"10;12",1,{"$f":"_xlfn.TEXTJOIN(\";\",1,IF(AO379=\"\",\"\",101),IF(AP379=\"\",\"\",102),IF(AQ379=\"\",\"\",103),IF(AR379=\"\",\"\",106),IF(AS379=\"\",\"\",107),IF(AT379=\"\",\"\",108),IF(AU379=\"\",\"\",109),IF(AV379=\"\",\"\",110))","v":""},{"$f":"_xlfn.TEXTJOIN(\";\",1,AO379:AV379)","v":""},-1,null,null,10,12,{"$nulls":6},{"$f":"IF(F379=\"\",\"\",CONCATENATE(F379,\"·\",CHOOSE(P379,\"壹\",\"贰\",\"叁\",\"肆\",\"伍\",\"陆\")))","v":"玄龟盾·壹"},null,0]
[{"$f":"K380*10+P380-1","v":35011},11003,150,551,974,"玄龟盾","前方形成土系防御盾，抵挡相当于自身生命上限{0}%的伤害，持续{1}秒",16,"icon_fb3501",{"$f":"CONCATENATE(\"S\",K380)","v":"S3501"},3501,null,10,1,3,2,{"$f":"_xlfn.TEXTJOIN(\";\",1,X380:AD380)","v":"13;12"},1,{"$f":"_xlfn.TEXTJOIN(\";\",1,IF(AO380=\"\",\"\",101),IF(AP380=\"\",\"\",102),IF(AQ380=\"\",\"\",103),IF(AR380=\"\",\"\",106),IF(AS380=\"\",\"\",107),IF(AT380=\"\",\"\",108),IF(AU380=\"\",\"\",109),IF(AV380=\"\",\"\",110))","v":""},{"$f":"_xlfn.TEXTJOIN(\";\",1,AO380:AV380)","v":""},1310,null,null,13,12,{"$nulls":5},"盾强度提升","玄龟盾·贰",null,0]
[35012,11003,225,552,975,"玄龟盾","前方形成土系防御盾，抵挡相当于自身生命上限{0}%的伤害，持续{1}秒",16,"icon_fb3501","S3501",3501,null,10,1,3,3,"13;12",1,"110","5",1311,5,null,13,12,{"$nulls":5},{"$f":"CONCATENATE(\"土灵根+\",V381)","v":"土灵根+5"},"玄龟盾·叁",null,0,{"$nulls":13},5]
[35013,11003,337.5,553,976,"玄龟盾","前方形成土系防御盾，抵挡相当于自身生命上限{0}%的伤害，持续{1}秒",16,"icon_fb3501","S3501",3501,null,10,1,3,4,"16;12",1,"110","5",1312,null,null,16,12,{"$nulls":5},"盾强度提升","玄龟盾·肆",null,0,{"$nulls":13},5]
[35014,11003,506.25,554,977,"玄龟盾","前方形成土系防御盾，抵挡相当于自身生命上限{0}%的伤害，持续{1}秒",16,"icon_fb3501","S3501",3501,null,10,1,3,5,"16;12",1,"110","10",1313,5,null,16,12,{"$nulls":5},{"$f":"CONCATENATE(\"土灵根+\",V383)","v":"土灵根+5"},"玄龟盾·伍",null,0,{"$nulls":13},10]
[35015,11003,759.375,555,978,"玄龟盾","前方形成土系防御盾，抵挡相当于自身生命上限{0}%的伤害，持续{1}秒",16,"icon_fb3501","S3501",3501,null,10,1,3,6,"20;12",1,"110","10",1314,null,null,20,12,{"$nulls":5},"盾强度提升","玄龟盾·陆",null,0,{"$nulls":13},10]
[{"$nulls":8},"icon_s",{"$nulls":4},1,{"$nulls":17},"",null,""]
[null,11006,100,556,979,"天殇血刃剑","对敌人照成土属性伤害，并封锁敌人土系经络6秒",16,"icon_s3502",{"$f":"CONCATENATE(\"S\",K386)","v":"S3502"},3502,null,10,1,3,1,{"$f":"_xlfn.TEXTJOIN(\";\",1,X386:AD386)","v":""},1,{"$f":"_xlfn.TEXTJOIN(\";\",1,IF(AO386=\"\",\"\",101),IF(AP386=\"\",\"\",102),IF(AQ386=\"\",\"\",103),IF(AR386=\"\",\"\",106),IF(AS386=\"\",\"\",107),IF(AT386=\"\",\"\",108),IF(AU386=\"\",\"\",109),IF(AV386=\"\",\"\",110))","v":""},{"$f":"_xlfn.TEXTJOIN(\";\",1,AO386:AV386)","v":""},-1,{"$nulls":10},"天殇血刃剑·壹",null,""]
[null,11006,150,557,980,"天殇血刃剑","对敌人照成土属性伤害，并封锁敌人土系经络6秒",16,"icon_s3502",{"$f":"CONCATENATE(\"S\",K387)","v":"S3502"},3502,null,10,1,3,2,"",1,{"$f":"_xlfn.TEXTJOIN(\";\",1,IF(AO387=\"\",\"\",101),IF(AP387=\"\",\"\",102),IF(AQ387=\"\",\"\",103),IF(AR387=\"\",\"\",106),IF(AS387=\"\",\"\",107),IF(AT387=\"\",\"\",108),IF(AU387=\"\",\"\",109),IF(AV387=\"\",\"\",110))","v":""},{"$f":"_xlfn.TEXTJOIN(\";\",1,AO387:AV387)","v":""},1315,{"$nulls":10},"天殇血刃剑·贰",null,""]
[null,11006,225,558,981,"天殇血刃剑","对敌人照成土属性伤害，并封锁敌人土系经络6秒",16,"icon_s3502","S3502",3502,null,10,1,3,3,"",1,"","",1316,{"$nulls":10},"天殇血刃剑·叁",null,""]
[null,11006,337.5,559,982,"天殇血刃剑","对敌人照成土属性伤害，并封锁敌人土系经络6秒",16,"icon_s3502","S3502",3502,null,10,1,3,4,"",1,"","",1317,{"$nulls":10},"天殇血刃剑·肆",null,""]
[null,11006,506.25,560,983,"天殇血刃剑","对敌人照成土属性伤害，并封锁敌人土系经络6秒",16,"icon_s3502","S3502",3502,null,10,1,3,5,"",1,"","",1318,{"$nulls":10},"天殇血刃剑·伍",null,""]
[null,11006,759.375,561,984,"天殇血刃剑","对敌人照成土属性伤害，并封锁敌人土系经络6秒",16,"icon_s3502","S3502",3502,null,10,1,3,6,"",1,"","",1319,{"$nulls":10},"天殇血刃剑·陆",null,""]
[{"$nulls":8},"icon_s",{"$nulls":4},1,{"$nulls":17},"",null,""]
[null,"英雄-大道区域",{"$nulls":6},"icon_s",{"$nulls":4},1,{"$nulls":19},""]
[601011,null,100,696,699,"星辰道","每次释放功法时获得{0}点能量，{1}点能量后提升{2}%转盘速度和{3}%攻击速度，持续{4}秒。",1,"icon_s1001","DS60101",1001,null,1,1,4,"1","10;100;50;50;9",0,{"$nulls":15},0]
[601021,null,100,697,700,"生衍道","功法拥有生息之能，每次使用功法能获得1对应属性的充能，充能满后获得对应属性的加成 \n{0}金：提升{1}%攻击力 ,最大{2}%\n{0}木：恢复{3}%生命 \n{0}水：治疗最严重的伤势，使其伤势-{4} \n{0}火：功法强度提升{5}%，最大{6}%\n{0}土：玩家防御提升{7}%，最大{8}%",1,"icon_s1002","DS60102",1002,null,1,1,4,"1","3;3;30;5;1;3;30;3;30",0,{"$nulls":15},0]
[601031,null,100,698,701,"玄黄道 ","每次使用功法时在当前位置留下一道属性印记，下一个放上来的功法如果和以前功法相生则功法效果提升{0}%，每次使用功法时都会治疗对应相生属性的{1}伤势。（均衡性功法搭配，转盘改变，变为金、水、木、火、土）\n",1,"icon_s1003","DS60103",1003,null,1,1,4,"1","30;1",0,{"$nulls":15},0]
[{"$nulls":8},"icon_s",{"$nulls":4},1,{"$nulls":19},""]
[null,"怪物-主动功法区域",{"$nulls":6},"icon_s",{"$nulls":4},1,{"$nulls":17},{"$f":"IF(F398=\"\",\"\",CONCATENATE(F398,\"·\",CHOOSE(P398,\"壹\",\"贰\",\"叁\",\"肆\",\"伍\",\"陆\")))","v":""},null,""]
[{"$f":"K399*10+P399-1","v":90010},null,300,707,717,"万箭穿心","(前摇时间长)：最多10柄剑从远处汇聚到boss周围，然后以一字行快速贯穿目标对目标照成{0}伤害，每命中目标肉体{1}次防御削减{2}%，目标肉体{3}次所有伤势+{4}  ,如果目标上有剑毅，每丙剑消耗{5}层剑毅让敌人受到额外{6}%的伤害\n,如果目标上有剑毅，每丙剑消耗{5}层剑毅让敌人受到{6}额外的伤害",1,"icon_s9001",{"$f":"CONCATENATE(\"S\",K399)","v":"S9001"},9001,"BossSk1_timeline_TD",3,1,1,1,{"$f":"_xlfn.TEXTJOIN(\";\",1,X399:AD399)","v":"63;5;1;10;1;1;20"},1,{"$nulls":5},63,5,1,10,1,1,20,null,"万箭穿心·壹",null,900,10,{"$f":"X399","v":63},0.3]
[90011,null,{"$f":"C399*1.5","v":450},707,717,"万箭穿心","(前摇时间长)：最多10柄剑从远处汇聚到boss周围，然后以一字行快速贯穿目标对目标照成{0}伤害，每命中目标肉体{1}次防御削减{2}%，目标肉体{3}次所有伤势+{4}  ,如果目标上有剑毅，每丙剑消耗{5}层剑毅让敌人受到额外{6}%的伤害\n,如果目标上有剑毅，每丙剑消耗{5}层剑毅让敌人受到{6}额外的伤害",1,{"$f":"CONCATENATE(\"icon_s\",K400)","v":"icon_s9001"},{"$f":"CONCATENATE(\"S\",K400)","v":"S9001"},9001,"BossSk1_timeline_TD",3,1,1,2,"76;5;1;10;1;1;20",1,{"$nulls":5},76,5,1,10,1,1,20,null,{"$f":"IF(F400=\"\",\"\",CONCATENATE(F400,\"·\",CHOOSE(P400,\"壹\",\"贰\",\"叁\",\"肆\",\"伍\",\"陆\")))","v":"万箭穿心·贰"},null,1085.71428571429,10,{"$f":"X400","v":76},0.3]
[90012,null,{"$f":"C400*1.5","v":675},707,717,"万箭穿心","(前摇时间长)：最多10柄剑从远处汇聚到boss周围，然后以一字行快速贯穿目标对目标照成{0}伤害，每命中目标肉体{1}次防御削减{2}%，目标肉体{3}次所有伤势+{4}  ,如果目标上有剑毅，每丙剑消耗{5}层剑毅让敌人受到额外{6}%的伤害\n,如果目标上有剑毅，每丙剑消耗{5}层剑毅让敌人受到{6}额外的伤害",1,"icon_s9001","S9001",9001,"BossSk1_timeline_TD",3,1,1,3,"89;5;1;10;1;1;20",1,{"$nulls":5},89,5,1,10,1,1,20,null,"万箭穿心·叁",null,1271.42857142857,10,89,0.3]
[90013,null,1012.5,707,717,"万箭穿心","(前摇时间长)：最多10柄剑从远处汇聚到boss周围，然后以一字行快速贯穿目标对目标照成{0}伤害，每命中目标肉体{1}次防御削减{2}%，目标肉体{3}次所有伤势+{4}  ,如果目标上有剑毅，每丙剑消耗{5}层剑毅让敌人受到额外{6}%的伤害\n,如果目标上有剑毅，每丙剑消耗{5}层剑毅让敌人受到{6}额外的伤害",1,"icon_s9001","S9001",9001,"BossSk1_timeline_TD",3,1,1,4,"102;5;1;10;1;1;20",1,{"$nulls":5},102,5,1,10,1,1,20,null,"万箭穿心·肆",null,1457.14285714286,10,102,0.3]
[90014,null,1518.75,707,717,"万箭穿心","(前摇时间长)：最多10柄剑从远处汇聚到boss周围，然后以一字行快速贯穿目标对目标照成{0}伤害，每命中目标肉体{1}次防御削减{2}%，目标肉体{3}次所有伤势+{4}  ,如果目标上有剑毅，每丙剑消耗{5}层剑毅让敌人受到额外{6}%的伤害\n,如果目标上有剑毅，每丙剑消耗{5}层剑毅让敌人受到{6}额外的伤害",1,"icon_s9001","S9001",9001,"BossSk1_timeline_TD",3,1,1,5,"115;5;1;10;1;1;20",1,{"$nulls":5},115,5,1,10,1,1,20,null,"万箭穿心·伍",null,1642.85714285714,10,115,0.3]
[90015,null,2278.125,707,717,"万箭穿心","(前摇时间长)：最多10柄剑从远处汇聚到boss周围，然后以一字行快速贯穿目标对目标照成{0}伤害，每命中目标肉体{1}次防御削减{2}%，目标肉体{3}次所有伤势+{4}  ,如果目标上有剑毅，每丙剑消耗{5}层剑毅让敌人受到额外{6}%的伤害\n,如果目标上有剑毅，每丙剑消耗{5}层剑毅让敌人受到{6}额外的伤害",1,"icon_s9001","S9001",9001,"BossSk1_timeline_TD",3,1,1,6,"126;5;1;10;1;1;20",1,{"$nulls":5},126,5,1,10,1,1,20,null,"万箭穿心·陆",null,{"$f":"IF(A404=\"\",\"\",AI404*AJ404/(1-AK404-AL404))","v":1800},10,126,0.3]
[{"$nulls":13},1,{"$nulls":19},{"$f":"IF(A405=\"\",\"\",AI405*AJ405/(1-AK405-AL405))","v":""}]
[{"$f":"K406*10+P406-1","v":90020},null,300,708,718,"御剑术","身体周围围绕多丙金属剑飞行，可以阻挡敌人相当于自身最大生命{0}%的伤害。该剑阵受到火系伤害时会升温，升温后会融化。另外该剑阵受到额外{0}%的火系伤害。",1,{"$f":"CONCATENATE(\"icon_s\",K406)","v":"icon_s9002"},"S9002",9002,"BossSk2_timeline_TD",3,1,1,1,"30;100",1,{"$nulls":5},30,100,{"$nulls":6},"御剑术·壹",null,300,10,{"$f":"X406","v":30}]
[90021,null,{"$f":"C406*1.5","v":450},708,718,"御剑术","身体周围围绕多丙金属剑飞行，可以阻挡敌人相当于自身最大生命{0}%的伤害。该剑阵受到火系伤害时会升温，升温后会融化。另外该剑阵受到额外{0}%的火系伤害。",1,"icon_s9002",{"$f":"CONCATENATE(\"S\",K407)","v":"S9002"},9002,"BossSk2_timeline_TD",3,1,1,2,{"$f":"_xlfn.TEXTJOIN(\";\",1,X407:AD407)","v":"33;110"},1,{"$nulls":5},33,110,{"$nulls":6},{"$f":"IF(F407=\"\",\"\",CONCATENATE(F407,\"·\",CHOOSE(P407,\"壹\",\"贰\",\"叁\",\"肆\",\"伍\",\"陆\")))","v":"御剑术·贰"},null,330,10,{"$f":"X407","v":33}]
[90022,null,{"$f":"C407*1.5","v":675},708,718,"御剑术","身体周围围绕多丙金属剑飞行，可以阻挡敌人相当于自身最大生命{0}%的伤害。该剑阵受到火系伤害时会升温，升温后会融化。另外该剑阵受到额外{0}%的火系伤害。",1,"icon_s9002","S9002",9002,"BossSk2_timeline_TD",3,1,1,3,"36;120",1,{"$nulls":5},36,120,{"$nulls":6},"御剑术·叁",null,360,10,36]
[90023,null,1012.5,708,718,"御剑术","身体周围围绕多丙金属剑飞行，可以阻挡敌人相当于自身最大生命{0}%的伤害。该剑阵受到火系伤害时会升温，升温后会融化。另外该剑阵受到额外{0}%的火系伤害。",1,"icon_s9002","S9002",9002,"BossSk2_timeline_TD",3,1,1,4,"39;130",1,{"$nulls":5},39,130,{"$nulls":6},"御剑术·肆",null,390,10,39]
[90024,null,1518.75,708,718,"御剑术","身体周围围绕多丙金属剑飞行，可以阻挡敌人相当于自身最大生命{0}%的伤害。该剑阵受到火系伤害时会升温，升温后会融化。另外该剑阵受到额外{0}%的火系伤害。",1,"icon_s9002","S9002",9002,"BossSk2_timeline_TD",3,1,1,5,"42;140",1,{"$nulls":5},42,140,{"$nulls":6},"御剑术·伍",null,420,10,42]
[90025,null,2278.125,708,718,"御剑术","身体周围围绕多丙金属剑飞行，可以阻挡敌人相当于自身最大生命{0}%的伤害。该剑阵受到火系伤害时会升温，升温后会融化。另外该剑阵受到额外{0}%的火系伤害。",1,"icon_s9002","S9002",9002,"BossSk2_timeline_TD",3,1,1,6,"45;150",1,{"$nulls":5},45,150,{"$nulls":6},"御剑术·陆",null,450,10,45]
[{"$nulls":13},1]
[{"$f":"K413*10+P413-1","v":90030},null,100,709,719,"剑意","剑祖的攻击会让目标受到一层剑毅",1,{"$f":"CONCATENATE(\"icon_s\",K413)","v":"icon_s9003"},"S9003",9003,null,1,1,2,1,"1",1,{"$nulls":5},1,{"$nulls":7},"剑意·壹",null,0]
[{"$nulls":13},1]
[{"$f":"K415*10+P415-1","v":90040},null,100,710,720,"boss技能4","发射3柄剑，对敌人照成{0}伤害",1,{"$f":"CONCATENATE(\"icon_s\",K415)","v":"icon_s9004"},"S9004",9004,"BossSk4_timeline_TD",1,1,1,1,{"$f":"_xlfn.TEXTJOIN(\";\",1,X415:AD415)","v":"100"},1,{"$nulls":5},100,{"$nulls":7},"boss技能4·壹",null,{"$f":"IF(A415=\"\",\"\",AI415*AJ415/(1-AK415-AL415))","v":300},3,{"$f":"X415","v":100}]
[90041,null,{"$f":"C415*1.5","v":150},710,720,"boss技能4","发射3柄剑，对敌人照成{0}伤害",1,"icon_s9004",{"$f":"CONCATENATE(\"S\",K416)","v":"S9004"},9004,"BossSk4_timeline_TD",1,1,1,2,"120",1,{"$nulls":5},120,{"$nulls":7},{"$f":"IF(F416=\"\",\"\",CONCATENATE(F416,\"·\",CHOOSE(P416,\"壹\",\"贰\",\"叁\",\"肆\",\"伍\",\"陆\")))","v":"boss技能4·贰"},null,360,3,{"$f":"X416","v":120}]
[90042,null,{"$f":"C416*1.5","v":225},710,720,"boss技能4","发射3柄剑，对敌人照成{0}伤害",1,"icon_s9004","S9004",9004,"BossSk4_timeline_TD",1,1,1,3,"140",1,{"$nulls":5},140,{"$nulls":7},"boss技能4·叁",null,420,3,140]
[90043,null,337.5,710,720,"boss技能4","发射3柄剑，对敌人照成{0}伤害",1,"icon_s9004","S9004",9004,"BossSk4_timeline_TD",1,1,1,4,"160",1,{"$nulls":5},160,{"$nulls":7},"boss技能4·肆",null,480,3,160]
[90044,null,506.25,710,720,"boss技能4","发射3柄剑，对敌人照成{0}伤害",1,"icon_s9004","S9004",9004,"BossSk4_timeline_TD",1,1,1,5,"180",1,{"$nulls":5},180,{"$nulls":7},"boss技能4·伍",null,540,3,180]
[90045,null,759.375,710,720,"boss技能4","发射3柄剑，对敌人照成{0}伤害",1,"icon_s9004",{"$f":"CONCATENATE(\"S\",K420)","v":"S9004"},9004,"BossSk4_timeline_TD",1,1,1,6,"200",1,{"$nulls":5},200,{"$nulls":7},{"$f":"IF(F420=\"\",\"\",CONCATENATE(F420,\"·\",CHOOSE(P420,\"壹\",\"贰\",\"叁\",\"肆\",\"伍\",\"陆\")))","v":"boss技能4·陆"},null,600,3,200]
[{"$nulls":13},1]
[{"$f":"K422*10+P422-1","v":90050},null,100,711,721,"boss技能5","发射3柄剑，对敌人照成{0}伤害",1,{"$f":"CONCATENATE(\"icon_s\",K422)","v":"icon_s9005"},"S9005",9005,"BossSk4_timeline_TD",1,1,1,1,"100",1,{"$nulls":5},100,{"$nulls":7},"boss技能5·壹",null,{"$f":"IF(A422=\"\",\"\",AI422*AJ422/(1-AK422-AL422))","v":300},3,{"$f":"X422","v":100}]
[90051,null,{"$f":"C422*1.5","v":150},711,721,"boss技能5","发射3柄剑，对敌人照成{0}伤害",1,"icon_s9005",{"$f":"CONCATENATE(\"S\",K423)","v":"S9005"},9005,"BossSk4_timeline_TD",1,1,1,2,"120",1,{"$nulls":5},120,{"$nulls":7},{"$f":"IF(F423=\"\",\"\",CONCATENATE(F423,\"·\",CHOOSE(P423,\"壹\",\"贰\",\"叁\",\"肆\",\"伍\",\"陆\")))","v":"boss技能5·贰"},null,360,3,{"$f":"X423","v":120}]
[90052,null,{"$f":"C423*1.5","v":225},711,721,"boss技能5","发射3柄剑，对敌人照成{0}伤害",1,"icon_s9005","S9005",9005,"BossSk4_timeline_TD",1,1,1,3,"140",1,{"$nulls":5},140,{"$nulls":7},"boss技能5·叁",null,420,3,140]
[90053,null,337.5,711,721,"boss技能5","发射3柄剑，对敌人照成{0}伤害",1,"icon_s9005","S9005",9005,"BossSk4_timeline_TD",1,1,1,4,"160",1,{"$nulls":5},160,{"$nulls":7},"boss技能5·肆",null,480,3,160]
[90054,null,506.25,711,721,"boss技能5","发射3柄剑，对敌人照成{0}伤害",1,"icon_s9005","S9005",9005,"BossSk4_timeline_TD",1,1,1,5,"180",1,{"$nulls":5},180,{"$nulls":7},"boss技能5·伍",null,540,3,180]
[90055,null,759.375,711,721,"boss技能5","发射3柄剑，对敌人照成{0}伤害",1,"icon_s9005","S9005",9005,"BossSk4_timeline_TD",1,1,1,6,"200",1,{"$nulls":5},200,{"$nulls":7},"boss技能5·陆",null,600,3,200]
[]
[{"$f":"K429*10+P429-1","v":90110},null,100,711,721,"凤凰技能1","凤凰煽动翅膀，再翅膀前方行程类似于羽毛的冰箭，生成{0}枚冰箭，对敌人造成{1}水属性伤害，并施加一层寒气",2,{"$f":"CONCATENATE(\"icon_s\",K429)","v":"icon_s9011"},{"$f":"CONCATENATE(\"S\",K429)","v":"S9011"},9011,"Boss_fenghuang_TD",1,0,1,1,{"$f":"_xlfn.TEXTJOIN(\";\",1,X429:AD429)","v":"3;80"},1,{"$nulls":5},3,80,{"$nulls":6},{"$f":"IF(F429=\"\",\"\",CONCATENATE(F429,\"·\",CHOOSE(P429,\"壹\",\"贰\",\"叁\",\"肆\",\"伍\",\"陆\")))","v":"凤凰技能1·壹"},null,{"$f":"IF(A429=\"\",\"\",AI429*AJ429/(1-AK429-AL429))","v":240},3,{"$f":"Y429","v":80}]
[90111,null,{"$f":"C429*1.5","v":150},711,721,"凤凰技能1","凤凰煽动翅膀，再翅膀前方行程类似于羽毛的冰箭，生成{0}枚冰箭，对敌人造成{1}水属性伤害，并施加一层寒气",2,"icon_s9011","S9011",9011,"Boss_fenghuang_TD",1,0,1,2,"3;100",1,{"$nulls":5},3,100,{"$nulls":6},"凤凰技能1·贰",null,{"$f":"IF(A430=\"\",\"\",AI430*AJ430/(1-AK430-AL430))","v":300},3,100]
[90112,null,225,711,721,"凤凰技能1","凤凰煽动翅膀，再翅膀前方行程类似于羽毛的冰箭，生成{0}枚冰箭，对敌人造成{1}水属性伤害，并施加一层寒气",2,"icon_s9011","S9011",9011,"Boss_fenghuang_TD",1,0,1,3,"3;120",1,{"$nulls":5},3,120,{"$nulls":6},"凤凰技能1·叁",null,360,3,120]
[90113,null,337.5,711,721,"凤凰技能1","凤凰煽动翅膀，再翅膀前方行程类似于羽毛的冰箭，生成{0}枚冰箭，对敌人造成{1}水属性伤害，并施加一层寒气",2,"icon_s9011","S9011",9011,"Boss_fenghuang_TD",1,0,1,4,"3;140",1,{"$nulls":5},3,140,{"$nulls":6},"凤凰技能1·肆",null,420,3,140]
[90114,null,506.25,711,721,"凤凰技能1","凤凰煽动翅膀，再翅膀前方行程类似于羽毛的冰箭，生成{0}枚冰箭，对敌人造成{1}水属性伤害，并施加一层寒气",2,"icon_s9011","S9011",9011,"Boss_fenghuang_TD",1,0,1,5,"3;160",1,{"$nulls":5},3,160,{"$nulls":6},"凤凰技能1·伍",null,480,3,160]
[90115,null,759.375,711,721,"凤凰技能1","凤凰煽动翅膀，再翅膀前方行程类似于羽毛的冰箭，生成{0}枚冰箭，对敌人造成{1}水属性伤害，并施加一层寒气",2,"icon_s9011","S9011",9011,"Boss_fenghuang_TD",1,0,1,6,"3;180",1,{"$nulls":5},3,180,{"$nulls":6},"凤凰技能1·陆",null,540,3,180]
[]
[{"$f":"K436*10+P436-1","v":90120},null,100,711,721,"凤凰技能2","凤凰张口喷吐出一股极寒霜息，形成远程席卷的寒潮波涛。直线飞行，只会有一个，对敌人造成{0}伤害，并额外造成寒气层数*{1}的伤害",2,{"$f":"CONCATENATE(\"icon_s\",K436)","v":"icon_s9012"},{"$f":"CONCATENATE(\"S\",K436)","v":"S9012"},9012,"Boss_fenghuang_TD",2,0,1,1,{"$f":"_xlfn.TEXTJOIN(\";\",1,X436:AD436)","v":"500;20"},1,{"$nulls":5},500,20,{"$nulls":6},{"$f":"IF(F436=\"\",\"\",CONCATENATE(F436,\"·\",CHOOSE(P436,\"壹\",\"贰\",\"叁\",\"肆\",\"伍\",\"陆\")))","v":"凤凰技能2·壹"},null,{"$f":"IF(A436=\"\",\"\",AI436*AJ436/(1-AK436-AL436))","v":514},1,{"$f":"X436+Y436*0.7","v":514}]
[90121,null,{"$f":"C436*1.5","v":150},711,721,"凤凰技能2","凤凰张口喷吐出一股极寒霜息，形成远程席卷的寒潮波涛。直线飞行，只会有一个，对敌人造成{0}伤害，并额外造成寒气层数*{1}的伤害",2,"icon_s9012","S9012",9012,"Boss_fenghuang_TD",2,0,1,2,{"$f":"_xlfn.TEXTJOIN(\";\",1,X437:AD437)","v":"600;20"},1,{"$nulls":5},600,20,{"$nulls":6},"凤凰技能2·贰",null,614,1,614]
[90122,null,225,711,721,"凤凰技能2","凤凰张口喷吐出一股极寒霜息，形成远程席卷的寒潮波涛。直线飞行，只会有一个，对敌人造成{0}伤害，并额外造成寒气层数*{1}的伤害",2,"icon_s9012","S9012",9012,"Boss_fenghuang_TD",2,0,1,3,"700;20",1,{"$nulls":5},700,20,{"$nulls":6},"凤凰技能2·叁",null,714,1,714]
[90123,null,337.5,711,721,"凤凰技能2","凤凰张口喷吐出一股极寒霜息，形成远程席卷的寒潮波涛。直线飞行，只会有一个，对敌人造成{0}伤害，并额外造成寒气层数*{1}的伤害",2,"icon_s9012","S9012",9012,"Boss_fenghuang_TD",2,0,1,4,"800;20",1,{"$nulls":5},800,20,{"$nulls":6},"凤凰技能2·肆",null,814,1,814]
[90124,null,506.25,711,721,"凤凰技能2","凤凰张口喷吐出一股极寒霜息，形成远程席卷的寒潮波涛。直线飞行，只会有一个，对敌人造成{0}伤害，并额外造成寒气层数*{1}的伤害",2,"icon_s9012","S9012",9012,"Boss_fenghuang_TD",2,0,1,5,"900;20",1,{"$nulls":5},900,20,{"$nulls":6},"凤凰技能2·伍",null,914,1,914]
[90125,null,759.375,711,721,"凤凰技能2","凤凰张口喷吐出一股极寒霜息，形成远程席卷的寒潮波涛。直线飞行，只会有一个，对敌人造成{0}伤害，并额外造成寒气层数*{1}的伤害",2,"icon_s9012","S9012",9012,"Boss_fenghuang_TD",2,0,1,6,"1000;20",1,{"$nulls":5},1000,20,{"$nulls":6},"凤凰技能2·陆",null,1014,1,1014]
[]
[{"$f":"K443*10+P443-1","v":90130},null,100,711,721,"霜域新生（被动，只会生效一次）","凤凰在伤害还剩{0}%的时候会触发此技能，凤凰身体冰冻住并有一层寒气笼罩，期间凤凰不在受到任何伤害，并慢慢回血，直到恢复满，持续5秒左右吧，恢复满后凤凰所有灵根增加{1}。冰块爆开，生成一个冲击波，对当前场上所有的弹道照成当前强度的强度攻击（强度不够的弹道会被摧毁），生成{2}枚冰锥冲向玩家，对玩家照成{3}伤害",2,{"$f":"CONCATENATE(\"icon_s\",K443)","v":"icon_s9013"},{"$f":"CONCATENATE(\"S\",K443)","v":"S9013"},9013,"Boss_fenghuang_TD",1,0,2,1,{"$f":"_xlfn.TEXTJOIN(\";\",1,X443:AD443)","v":"10;10;5;60"},1,{"$nulls":5},10,10,5,60,{"$nulls":4},{"$f":"IF(F443=\"\",\"\",CONCATENATE(F443,\"·\",CHOOSE(P443,\"壹\",\"贰\",\"叁\",\"肆\",\"伍\",\"陆\")))","v":"霜域新生（被动，只会生效一次）·壹"},null,{"$f":"IF(A443=\"\",\"\",AI443*AJ443/(1-AK443-AL443))","v":300},{"$f":"Z443","v":5},{"$f":"AA443","v":60}]
[90131,null,{"$f":"C443*1.5","v":150},711,721,"霜域新生（被动，只会生效一次）","凤凰张口喷吐出一股极寒霜息，形成远程席卷的寒潮波涛。直线飞行，只会有一个，对敌人造成{0}伤害，并额外造成寒气层数*{1}的伤害",2,"icon_s9013","S9013",9013,"Boss_fenghuang_TD",1,0,2,2,"10;10;5;80",1,{"$nulls":5},10,10,5,80,{"$nulls":4},"霜域新生（被动，只会生效一次）·贰",null,400,5,80]
[90132,null,225,711,721,"霜域新生（被动，只会生效一次）","凤凰张口喷吐出一股极寒霜息，形成远程席卷的寒潮波涛。直线飞行，只会有一个，对敌人造成{0}伤害，并额外造成寒气层数*{1}的伤害",2,"icon_s9013","S9013",9013,"Boss_fenghuang_TD",1,0,2,3,"10;10;5;100",1,{"$nulls":5},10,10,5,100,{"$nulls":4},"霜域新生（被动，只会生效一次）·叁",null,500,5,100]
[90133,null,337.5,711,721,"霜域新生（被动，只会生效一次）","凤凰张口喷吐出一股极寒霜息，形成远程席卷的寒潮波涛。直线飞行，只会有一个，对敌人造成{0}伤害，并额外造成寒气层数*{1}的伤害",2,"icon_s9013","S9013",9013,"Boss_fenghuang_TD",1,0,2,4,"10;10;5;120",1,{"$nulls":5},10,10,5,120,{"$nulls":4},"霜域新生（被动，只会生效一次）·肆",null,600,5,120]
[90134,null,506.25,711,721,"霜域新生（被动，只会生效一次）","凤凰张口喷吐出一股极寒霜息，形成远程席卷的寒潮波涛。直线飞行，只会有一个，对敌人造成{0}伤害，并额外造成寒气层数*{1}的伤害",2,"icon_s9013","S9013",9013,"Boss_fenghuang_TD",1,0,2,5,"10;10;5;140",1,{"$nulls":5},10,10,5,140,{"$nulls":4},"霜域新生（被动，只会生效一次）·伍",null,700,5,140]
[90135,null,759.375,711,721,"霜域新生（被动，只会生效一次）","凤凰张口喷吐出一股极寒霜息，形成远程席卷的寒潮波涛。直线飞行，只会有一个，对敌人造成{0}伤害，并额外造成寒气层数*{1}的伤害",2,"icon_s9013","S9013",9013,"Boss_fenghuang_TD",1,0,2,6,"10;10;5;160",1,{"$nulls":5},10,10,5,160,{"$nulls":4},"霜域新生（被动，只会生效一次）·陆",null,800,5,160]
[]
[{"$f":"K450*10+P450-1","v":90140},null,100,711,721,"冰星坠地","天空中出现多道冰球，只会有{0}枚砸向玩家，其他的冰球主要是为了好看和为了拦截玩家的弹道，照成{1}伤害，并施加一层寒气",2,{"$f":"CONCATENATE(\"icon_s\",K450)","v":"icon_s9014"},{"$f":"CONCATENATE(\"S\",K450)","v":"S9014"},9014,"Boss_fenghuang_TD",2,0,1,1,{"$f":"_xlfn.TEXTJOIN(\";\",1,X450:AD450)","v":"3;300"},1,{"$nulls":5},3,300,{"$nulls":6},{"$f":"IF(F450=\"\",\"\",CONCATENATE(F450,\"·\",CHOOSE(P450,\"壹\",\"贰\",\"叁\",\"肆\",\"伍\",\"陆\")))","v":"冰星坠地·壹"},null,{"$f":"IF(A450=\"\",\"\",AI450*AJ450/(1-AK450-AL450))","v":450},{"$f":"X450","v":3},{"$f":"Y450*0.5","v":150}]
[90141,null,{"$f":"C450*1.5","v":150},711,721,"冰星坠地","天空中出现多道冰球，只会有{0}枚砸向玩家，其他的冰球主要是为了好看和为了拦截玩家的弹道，照成{1}伤害，并施加一层寒气",2,"icon_s9014","S9014",9014,"Boss_fenghuang_TD",2,0,1,2,"3;400",1,{"$nulls":5},3,400,{"$nulls":6},"冰星坠地·贰",null,600,3,200]
[90142,null,225,711,721,"冰星坠地","天空中出现多道冰球，只会有{0}枚砸向玩家，其他的冰球主要是为了好看和为了拦截玩家的弹道，照成{1}伤害，并施加一层寒气",2,"icon_s9014","S9014",9014,"Boss_fenghuang_TD",2,0,1,3,"3;500",1,{"$nulls":5},3,500,{"$nulls":6},"冰星坠地·叁",null,750,3,250]
[90143,null,337.5,711,721,"冰星坠地","天空中出现多道冰球，只会有{0}枚砸向玩家，其他的冰球主要是为了好看和为了拦截玩家的弹道，照成{1}伤害，并施加一层寒气",2,"icon_s9014","S9014",9014,"Boss_fenghuang_TD",2,0,1,4,"3;600",1,{"$nulls":5},3,600,{"$nulls":6},"冰星坠地·肆",null,900,3,300]
[90144,null,506.25,711,721,"冰星坠地","天空中出现多道冰球，只会有{0}枚砸向玩家，其他的冰球主要是为了好看和为了拦截玩家的弹道，照成{1}伤害，并施加一层寒气",2,"icon_s9014","S9014",9014,"Boss_fenghuang_TD",2,0,1,5,"3;700",1,{"$nulls":5},3,700,{"$nulls":6},"冰星坠地·伍",null,1050,3,350]
[90145,null,759.375,711,721,"冰星坠地","天空中出现多道冰球，只会有{0}枚砸向玩家，其他的冰球主要是为了好看和为了拦截玩家的弹道，照成{1}伤害，并施加一层寒气",2,"icon_s9014","S9014",9014,"Boss_fenghuang_TD",2,0,1,6,"3;800",1,{"$nulls":5},3,800,{"$nulls":6},"冰星坠地·陆",null,1200,3,400]
[]
[{"$f":"K457*10+P457-1","v":90150},null,100,711,721,"羽箭（普通，左翅膀挥动）","挥动翅膀发射{0}枚冰箭，对敌人照成{1}伤害",2,{"$f":"CONCATENATE(\"icon_s\",K457)","v":"icon_s9015"},{"$f":"CONCATENATE(\"S\",K457)","v":"S9015"},9015,"Boss_fenghuang_TD",1,0,1,1,{"$f":"_xlfn.TEXTJOIN(\";\",1,X457:AD457)","v":"3;70"},1,{"$nulls":5},3,70,{"$nulls":6},{"$f":"IF(F457=\"\",\"\",CONCATENATE(F457,\"·\",CHOOSE(P457,\"壹\",\"贰\",\"叁\",\"肆\",\"伍\",\"陆\")))","v":"羽箭（普通，左翅膀挥动）·壹"},null,{"$f":"IF(A457=\"\",\"\",AI457*AJ457/(1-AK457-AL457))","v":210},{"$f":"X457","v":3},{"$f":"Y457","v":70}]
[90151,null,{"$f":"C457*1.5","v":150},711,721,"羽箭（普通，左翅膀挥动）","挥动翅膀发射{0}枚冰箭，对敌人照成{1}伤害",2,"icon_s9015","S9015",9015,"Boss_fenghuang_TD",1,0,1,2,"3;90",1,{"$nulls":5},3,90,{"$nulls":6},"羽箭（普通，左翅膀挥动）·贰",null,270,3,90]
[90152,null,225,711,721,"羽箭（普通，左翅膀挥动）","挥动翅膀发射{0}枚冰箭，对敌人照成{1}伤害",2,"icon_s9015","S9015",9015,"Boss_fenghuang_TD",1,0,1,3,"3;110",1,{"$nulls":5},3,110,{"$nulls":6},"羽箭（普通，左翅膀挥动）·叁",null,330,3,110]
[90153,null,337.5,711,721,"羽箭（普通，左翅膀挥动）","挥动翅膀发射{0}枚冰箭，对敌人照成{1}伤害",2,"icon_s9015","S9015",9015,"Boss_fenghuang_TD",1,0,1,4,"3;130",1,{"$nulls":5},3,130,{"$nulls":6},"羽箭（普通，左翅膀挥动）·肆",null,390,3,130]
[90154,null,506.25,711,721,"羽箭（普通，左翅膀挥动）","挥动翅膀发射{0}枚冰箭，对敌人照成{1}伤害",2,"icon_s9015","S9015",9015,"Boss_fenghuang_TD",1,0,1,5,"3;150",1,{"$nulls":5},3,150,{"$nulls":6},"羽箭（普通，左翅膀挥动）·伍",null,450,3,150]
[90155,null,759.375,711,721,"羽箭（普通，左翅膀挥动）","挥动翅膀发射{0}枚冰箭，对敌人照成{1}伤害",2,"icon_s9015","S9015",9015,"Boss_fenghuang_TD",1,0,1,6,"3;170",1,{"$nulls":5},3,170,{"$nulls":6},"羽箭（普通，左翅膀挥动）·陆",null,510,3,170]
[]
[{"$f":"K464*10+P464-1","v":90210},null,100,711,721,"冰魄飞甲\n","神龟龟甲一个虚影快速连续收缩，然后爆开，形成{0}多个如同龟甲碎片的弹道,被命中的敌人受到{1}伤害，碎片无视敌人{2}%防御",2,{"$f":"CONCATENATE(\"icon_s\",K464)","v":"icon_s9021"},{"$f":"CONCATENATE(\"S\",K464)","v":"S9021"},9021,"Boss_BeiHaiGui_TD",2,0,1,1,{"$f":"_xlfn.TEXTJOIN(\";\",1,X464:AD464)","v":"3;200;10"},1,{"$nulls":5},3,200,10,{"$nulls":5},{"$f":"IF(F464=\"\",\"\",CONCATENATE(F464,\"·\",CHOOSE(P464,\"壹\",\"贰\",\"叁\",\"肆\",\"伍\",\"陆\")))","v":"冰魄飞甲\n·壹"},null,{"$f":"IF(A464=\"\",\"\",AI464*AJ464/(1-AK464-AL464))","v":600},{"$f":"X464","v":3},{"$f":"Y464","v":200}]
[90211,null,{"$f":"C464*1.5","v":150},711,721,"冰魄飞甲\n","神龟龟甲一个虚影快速连续收缩，然后爆开，形成{0}多个如同龟甲碎片的弹道,被命中的敌人受到{1}伤害，碎片无视敌人{2}%防御",2,"icon_s9021","S9021",9021,"Boss_BeiHaiGui_TD",2,0,1,2,"3;220;12",1,{"$nulls":5},3,220,12,{"$nulls":5},"冰魄飞甲\n·贰",null,660,3,220]
[90212,null,225,711,721,"冰魄飞甲\n","神龟龟甲一个虚影快速连续收缩，然后爆开，形成{0}多个如同龟甲碎片的弹道,被命中的敌人受到{1}伤害，碎片无视敌人{2}%防御",2,"icon_s9021","S9021",9021,"Boss_BeiHaiGui_TD",2,0,1,3,"3;240;14",1,{"$nulls":5},3,240,14,{"$nulls":5},"冰魄飞甲\n·叁",null,720,3,240]
[90213,null,337.5,711,721,"冰魄飞甲\n","神龟龟甲一个虚影快速连续收缩，然后爆开，形成{0}多个如同龟甲碎片的弹道,被命中的敌人受到{1}伤害，碎片无视敌人{2}%防御",2,"icon_s9021","S9021",9021,"Boss_BeiHaiGui_TD",2,0,1,4,"3;260;16",1,{"$nulls":5},3,260,16,{"$nulls":5},"冰魄飞甲\n·肆",null,780,3,260]
[90214,null,506.25,711,721,"冰魄飞甲\n","神龟龟甲一个虚影快速连续收缩，然后爆开，形成{0}多个如同龟甲碎片的弹道,被命中的敌人受到{1}伤害，碎片无视敌人{2}%防御",2,"icon_s9021","S9021",9021,"Boss_BeiHaiGui_TD",2,0,1,5,"3;280;18",1,{"$nulls":5},3,280,18,{"$nulls":5},"冰魄飞甲\n·伍",null,840,3,280]
[90215,null,759.375,711,721,"冰魄飞甲\n","神龟龟甲一个虚影快速连续收缩，然后爆开，形成{0}多个如同龟甲碎片的弹道,被命中的敌人受到{1}伤害，碎片无视敌人{2}%防御",2,"icon_s9021","S9021",9021,"Boss_BeiHaiGui_TD",2,0,1,6,"3;300;20",1,{"$nulls":5},3,300,20,{"$nulls":5},"冰魄飞甲\n·陆",null,900,3,300]
[]
[{"$f":"K471*10+P471-1","v":90220},null,100,711,721,"玄甲护体（防御型技能）\n","从四周飞来类似龟甲的碎片，乌龟龟甲上形成一个新的龟甲，防御+{0}%,敌人对其照成伤害时会收到{1}%反伤。持续{2}秒",2,{"$f":"CONCATENATE(\"icon_s\",K471)","v":"icon_s9022"},{"$f":"CONCATENATE(\"S\",K471)","v":"S9022"},9022,"Boss_BeiHaiGui_TD",2,0,1,1,{"$f":"_xlfn.TEXTJOIN(\";\",1,X471:AD471)","v":"20;50;10"},1,{"$nulls":5},20,50,10,{"$nulls":5},{"$f":"IF(F471=\"\",\"\",CONCATENATE(F471,\"·\",CHOOSE(P471,\"壹\",\"贰\",\"叁\",\"肆\",\"伍\",\"陆\")))","v":"玄甲护体（防御型技能）\n·壹"},null,{"$f":"IF(A471=\"\",\"\",AI471*AJ471/(1-AK471-AL471))","v":50},1,{"$f":"Y471","v":50}]
[90221,null,{"$f":"C471*1.5","v":150},711,721,"玄甲护体（防御型技能）\n","从四周飞来类似龟甲的碎片，乌龟龟甲上形成一个新的龟甲，防御+{0}%,敌人对其照成伤害时会收到{1}%反伤。持续{2}秒",2,"icon_s9022","S9022",9022,"Boss_BeiHaiGui_TD",2,0,1,2,{"$f":"_xlfn.TEXTJOIN(\";\",1,X472:AD472)","v":"20;60;10"},1,{"$nulls":5},20,60,10,{"$nulls":5},"玄甲护体（防御型技能）\n·贰",null,60,1,60]
[90222,null,225,711,721,"玄甲护体（防御型技能）\n","从四周飞来类似龟甲的碎片，乌龟龟甲上形成一个新的龟甲，防御+{0}%,敌人对其照成伤害时会收到{1}%反伤。持续{2}秒",2,"icon_s9022","S9022",9022,"Boss_BeiHaiGui_TD",2,0,1,3,"20;70;10",1,{"$nulls":5},20,70,10,{"$nulls":5},"玄甲护体（防御型技能）\n·叁",null,70,1,70]
[90223,null,337.5,711,721,"玄甲护体（防御型技能）\n","从四周飞来类似龟甲的碎片，乌龟龟甲上形成一个新的龟甲，防御+{0}%,敌人对其照成伤害时会收到{1}%反伤。持续{2}秒",2,"icon_s9022","S9022",9022,"Boss_BeiHaiGui_TD",2,0,1,4,"20;80;10",1,{"$nulls":5},20,80,10,{"$nulls":5},"玄甲护体（防御型技能）\n·肆",null,80,1,80]
[90224,null,506.25,711,721,"玄甲护体（防御型技能）\n","从四周飞来类似龟甲的碎片，乌龟龟甲上形成一个新的龟甲，防御+{0}%,敌人对其照成伤害时会收到{1}%反伤。持续{2}秒",2,"icon_s9022","S9022",9022,"Boss_BeiHaiGui_TD",2,0,1,5,"20;90;10",1,{"$nulls":5},20,90,10,{"$nulls":5},"玄甲护体（防御型技能）\n·伍",null,90,1,90]
[90225,null,759.375,711,721,"玄甲护体（防御型技能）\n","从四周飞来类似龟甲的碎片，乌龟龟甲上形成一个新的龟甲，防御+{0}%,敌人对其照成伤害时会收到{1}%反伤。持续{2}秒",2,"icon_s9022","S9022",9022,"Boss_BeiHaiGui_TD",2,0,1,6,"20;100;10",1,{"$nulls":5},20,100,10,{"$nulls":5},"玄甲护体（防御型技能）\n·陆",null,100,1,100]
[]
[{"$f":"K478*10+P478-1","v":90230},null,100,711,721,"水球","乌龟从嘴里连续吐出{0}多个水球，对敌人照成{1}伤害",2,{"$f":"CONCATENATE(\"icon_s\",K478)","v":"icon_s9023"},{"$f":"CONCATENATE(\"S\",K478)","v":"S9023"},9023,"Boss_BeiHaiGui_TD",1,0,1,1,{"$f":"_xlfn.TEXTJOIN(\";\",1,X478:AD478)","v":"3;120"},1,{"$nulls":5},3,120,{"$nulls":6},{"$f":"IF(F478=\"\",\"\",CONCATENATE(F478,\"·\",CHOOSE(P478,\"壹\",\"贰\",\"叁\",\"肆\",\"伍\",\"陆\")))","v":"水球·壹"},null,{"$f":"IF(A478=\"\",\"\",AI478*AJ478/(1-AK478-AL478))","v":360},{"$f":"X478","v":3},{"$f":"Y478","v":120}]
[90231,null,{"$f":"C478*1.5","v":150},711,721,"水球","乌龟从嘴里连续吐出{0}多个水球，对敌人照成{1}伤害",2,"icon_s9023","S9023",9023,"Boss_BeiHaiGui_TD",1,0,1,2,"3;150",1,{"$nulls":5},3,150,{"$nulls":6},"水球·贰",null,450,3,150]
[90232,null,225,711,721,"水球","乌龟从嘴里连续吐出{0}多个水球，对敌人照成{1}伤害",2,"icon_s9023","S9023",9023,"Boss_BeiHaiGui_TD",1,0,1,3,"3;180",1,{"$nulls":5},3,180,{"$nulls":6},"水球·叁",null,540,3,180]
[90233,null,337.5,711,721,"水球","乌龟从嘴里连续吐出{0}多个水球，对敌人照成{1}伤害",2,"icon_s9023","S9023",9023,"Boss_BeiHaiGui_TD",1,0,1,4,"3;210",1,{"$nulls":5},3,210,{"$nulls":6},"水球·肆",null,630,3,210]
[90234,null,506.25,711,721,"水球","乌龟从嘴里连续吐出{0}多个水球，对敌人照成{1}伤害",2,"icon_s9023","S9023",9023,"Boss_BeiHaiGui_TD",1,0,1,5,"3;240",1,{"$nulls":5},3,240,{"$nulls":6},"水球·伍",null,720,3,240]
[90235,null,759.375,711,721,"水球","乌龟从嘴里连续吐出{0}多个水球，对敌人照成{1}伤害",2,"icon_s9023","S9023",9023,"Boss_BeiHaiGui_TD",1,0,1,6,"3;270",1,{"$nulls":5},3,270,{"$nulls":6},"水球·陆",null,810,3,270]
[]
[{"$f":"K485*10+P485-1","v":90240},null,100,711,721,"冰魄牢域","当乌龟生命低于{0}%时，神龟仰天长吼，跺脚几下，\n整个战场出现寒气特效，神龟的所有主动伤害型技能命中目标后都会施加一层寒气，寒气每叠到{1}层时，消耗所有层寒气对敌人照成{2}秒的冰冻效果",2,{"$f":"CONCATENATE(\"icon_s\",K485)","v":"icon_s9024"},{"$f":"CONCATENATE(\"S\",K485)","v":"S9024"},9024,"Boss_BeiHaiGui_TD",1,0,2,1,{"$f":"_xlfn.TEXTJOIN(\";\",1,X485:AD485)","v":"50;10;3"},1,{"$nulls":5},50,10,3,{"$nulls":5},{"$f":"IF(F485=\"\",\"\",CONCATENATE(F485,\"·\",CHOOSE(P485,\"壹\",\"贰\",\"叁\",\"肆\",\"伍\",\"陆\")))","v":"冰魄牢域·壹"},null,{"$f":"IF(A485=\"\",\"\",AI485*AJ485/(1-AK485-AL485))","v":150},3,{"$f":"X485","v":50}]
[90241,null,{"$f":"C485*1.5","v":150},711,721,"冰魄牢域","当乌龟生命低于{0}%时，神龟仰天长吼，跺脚几下，\n整个战场出现寒气特效，神龟的所有主动伤害型技能命中目标后都会施加一层寒气，寒气每叠到{1}层时，消耗所有层寒气对敌人照成{2}秒的冰冻效果",2,"icon_s9024","S9024",9024,"Boss_BeiHaiGui_TD",1,0,2,2,"50;10;3",1,{"$nulls":5},50,10,3,{"$nulls":5},"冰魄牢域·贰",null,150,3,{"$f":"X486","v":50}]
[90242,null,225,711,721,"冰魄牢域","当乌龟生命低于{0}%时，神龟仰天长吼，跺脚几下，\n整个战场出现寒气特效，神龟的所有主动伤害型技能命中目标后都会施加一层寒气，寒气每叠到{1}层时，消耗所有层寒气对敌人照成{2}秒的冰冻效果",2,"icon_s9024","S9024",9024,"Boss_BeiHaiGui_TD",1,0,2,3,"50;10;3",1,{"$nulls":5},50,10,3,{"$nulls":5},"冰魄牢域·叁",null,150,3,50]
[90243,null,337.5,711,721,"冰魄牢域","当乌龟生命低于{0}%时，神龟仰天长吼，跺脚几下，\n整个战场出现寒气特效，神龟的所有主动伤害型技能命中目标后都会施加一层寒气，寒气每叠到{1}层时，消耗所有层寒气对敌人照成{2}秒的冰冻效果",2,"icon_s9024","S9024",9024,"Boss_BeiHaiGui_TD",1,0,2,4,"50;10;3",1,{"$nulls":5},50,10,3,{"$nulls":5},"冰魄牢域·肆",null,150,3,50]
[90244,null,506.25,711,721,"冰魄牢域","当乌龟生命低于{0}%时，神龟仰天长吼，跺脚几下，\n整个战场出现寒气特效，神龟的所有主动伤害型技能命中目标后都会施加一层寒气，寒气每叠到{1}层时，消耗所有层寒气对敌人照成{2}秒的冰冻效果",2,"icon_s9024","S9024",9024,"Boss_BeiHaiGui_TD",1,0,2,5,"50;10;3",1,{"$nulls":5},50,10,3,{"$nulls":5},"冰魄牢域·伍",null,150,3,50]
[90245,null,759.375,711,721,"冰魄牢域","当乌龟生命低于{0}%时，神龟仰天长吼，跺脚几下，\n整个战场出现寒气特效，神龟的所有主动伤害型技能命中目标后都会施加一层寒气，寒气每叠到{1}层时，消耗所有层寒气对敌人照成{2}秒的冰冻效果",2,"icon_s9024","S9024",9024,"Boss_BeiHaiGui_TD",1,0,2,6,"50;10;3",1,{"$nulls":5},50,10,3,{"$nulls":5},"冰魄牢域·陆",null,150,3,50]
[]
[{"$f":"K492*10+P492-1","v":90610},null,100,711,721,"幻花迷雾(被动触发）","身体摇动，天空散发出小小的花朵。木灵隐藏其中防御+{0}%,期间不在攻击，直到木灵之子全部死亡后的{1}秒消失",2,{"$f":"CONCATENATE(\"icon_s\",K492)","v":"icon_s9061"},{"$f":"CONCATENATE(\"S\",K492)","v":"S9061"},9061,"Boss_Tree_TD",1,0,2,1,{"$f":"_xlfn.TEXTJOIN(\";\",1,X492:AD492)","v":"100;2"},1,{"$nulls":5},100,2,{"$nulls":6},{"$f":"IF(F492=\"\",\"\",CONCATENATE(F492,\"·\",CHOOSE(P492,\"壹\",\"贰\",\"叁\",\"肆\",\"伍\",\"陆\")))","v":"幻花迷雾(被动触发）·壹"},null,{"$f":"IF(A492=\"\",\"\",AI492*AJ492/(1-AK492-AL492))","v":0},3,0,null,null,0.1]
[90611,null,{"$f":"C492*1.5","v":150},711,721,"幻花迷雾(被动触发）","身体摇动，天空散发出小小的花朵。木灵隐藏其中防御+{0}%,期间不在攻击，直到木灵之子全部死亡后的{1}秒消失",2,"icon_s9061","S9061",9061,"Boss_Tree_TD",1,0,2,2,"110;2",1,{"$nulls":5},110,2,{"$nulls":6},"幻花迷雾(被动触发）·贰",null,0,3,0,null,null,0.11]
[90612,null,225,711,721,"幻花迷雾(被动触发）","身体摇动，天空散发出小小的花朵。木灵隐藏其中防御+{0}%,期间不在攻击，直到木灵之子全部死亡后的{1}秒消失",2,"icon_s9061","S9061",9061,"Boss_Tree_TD",1,0,2,3,"120;2",1,{"$nulls":5},120,2,{"$nulls":6},"幻花迷雾(被动触发）·叁",null,0,3,0,null,null,0.12]
[90613,null,337.5,711,721,"幻花迷雾(被动触发）","身体摇动，天空散发出小小的花朵。木灵隐藏其中防御+{0}%,期间不在攻击，直到木灵之子全部死亡后的{1}秒消失",2,"icon_s9061","S9061",9061,"Boss_Tree_TD",1,0,2,4,"130;2",1,{"$nulls":5},130,2,{"$nulls":6},"幻花迷雾(被动触发）·肆",null,0,3,0,null,null,0.13]
[90614,null,506.25,711,721,"幻花迷雾(被动触发）","身体摇动，天空散发出小小的花朵。木灵隐藏其中防御+{0}%,期间不在攻击，直到木灵之子全部死亡后的{1}秒消失",2,"icon_s9061","S9061",9061,"Boss_Tree_TD",1,0,2,5,"140;2",1,{"$nulls":5},140,2,{"$nulls":6},"幻花迷雾(被动触发）·伍",null,0,3,0,null,null,0.14]
[90615,null,759.375,711,721,"幻花迷雾(被动触发）","身体摇动，天空散发出小小的花朵。木灵隐藏其中防御+{0}%,期间不在攻击，直到木灵之子全部死亡后的{1}秒消失",2,"icon_s9061","S9061",9061,"Boss_Tree_TD",1,0,2,6,"150;2",1,{"$nulls":5},150,2,{"$nulls":6},"幻花迷雾(被动触发）·陆",null,0,3,0,null,null,0.15]
[]
[{"$f":"K499*10+P499-1","v":90620},null,100,711,721,"木灵分身（被动触发）","生命低于{0}%时会触发，木灵的根须快速在自身周围生出2个木灵之子，木灵之子之有普通攻击，木灵之子拥有boss的{1}最大生命值的生命\n（等级跟随boss的等级走），木灵之子全部死亡后{2}秒后会再次释放",2,{"$f":"CONCATENATE(\"icon_s\",K499)","v":"icon_s9062"},{"$f":"CONCATENATE(\"S\",K499)","v":"S9062"},9062,"Boss_Tree_TD",1,0,2,1,{"$f":"_xlfn.TEXTJOIN(\";\",1,X499:AD499)","v":"80;15;20"},1,{"$nulls":5},80,15,20,{"$nulls":5},{"$f":"IF(F499=\"\",\"\",CONCATENATE(F499,\"·\",CHOOSE(P499,\"壹\",\"贰\",\"叁\",\"肆\",\"伍\",\"陆\")))","v":"木灵分身（被动触发）·壹"},null,{"$f":"IF(A499=\"\",\"\",AI499*AJ499/(1-AK499-AL499))","v":80},1,80]
[90621,null,{"$f":"C499*1.5","v":150},711,721,"木灵分身（被动触发）","生命低于{0}%时会触发，木灵的根须快速在自身周围生出2个木灵之子，木灵之子之有普通攻击，木灵之子拥有boss的{1}最大生命值的生命\n（等级跟随boss的等级走），木灵之子全部死亡后{2}秒后会再次释放",2,"icon_s9062","S9062",9062,"Boss_Tree_TD",1,0,2,2,{"$f":"_xlfn.TEXTJOIN(\";\",1,X500:AD500)","v":"80;15;20"},1,{"$nulls":5},80,15,20,{"$nulls":5},"木灵分身（被动触发）·贰",null,80,1,{"$f":"X500","v":80}]
[90622,null,225,711,721,"木灵分身（被动触发）","生命低于{0}%时会触发，木灵的根须快速在自身周围生出2个木灵之子，木灵之子之有普通攻击，木灵之子拥有boss的{1}最大生命值的生命\n（等级跟随boss的等级走），木灵之子全部死亡后{2}秒后会再次释放",2,"icon_s9062","S9062",9062,"Boss_Tree_TD",1,0,2,3,"80;15;20",1,{"$nulls":5},80,15,20,{"$nulls":5},"木灵分身（被动触发）·叁",null,160,2,80]
[90623,null,337.5,711,721,"木灵分身（被动触发）","生命低于{0}%时会触发，木灵的根须快速在自身周围生出2个木灵之子，木灵之子之有普通攻击，木灵之子拥有boss的{1}最大生命值的生命\n（等级跟随boss的等级走），木灵之子全部死亡后{2}秒后会再次释放",2,"icon_s9062","S9062",9062,"Boss_Tree_TD",1,0,2,4,"80;15;20",1,{"$nulls":5},80,15,20,{"$nulls":5},"木灵分身（被动触发）·肆",null,160,2,80]
[90624,null,506.25,711,721,"木灵分身（被动触发）","生命低于{0}%时会触发，木灵的根须快速在自身周围生出2个木灵之子，木灵之子之有普通攻击，木灵之子拥有boss的{1}最大生命值的生命\n（等级跟随boss的等级走），木灵之子全部死亡后{2}秒后会再次释放",2,"icon_s9062","S9062",9062,"Boss_Tree_TD",1,0,2,5,"80;15;20",1,{"$nulls":5},80,15,20,{"$nulls":5},"木灵分身（被动触发）·伍",null,160,2,80]
[90625,null,759.375,711,721,"木灵分身（被动触发）","生命低于{0}%时会触发，木灵的根须快速在自身周围生出2个木灵之子，木灵之子之有普通攻击，木灵之子拥有boss的{1}最大生命值的生命\n（等级跟随boss的等级走），木灵之子全部死亡后{2}秒后会再次释放",2,"icon_s9062","S9062",9062,"Boss_Tree_TD",1,0,2,6,"80;15;20",1,{"$nulls":5},80,15,20,{"$nulls":5},"木灵分身（被动触发）·陆",null,160,2,80]
[]
[{"$f":"K506*10+P506-1","v":90630},null,100,711,721,"木桩","木灵挥手，从手中挥舞出{0]个木头，直线飞向敌人\n，对敌人造成{1}伤害",2,{"$f":"CONCATENATE(\"icon_s\",K506)","v":"icon_s9063"},{"$f":"CONCATENATE(\"S\",K506)","v":"S9063"},9063,"Boss_Tree_TD",1,0,1,1,{"$f":"_xlfn.TEXTJOIN(\";\",1,X506:AD506)","v":"1;200"},1,{"$nulls":5},1,200,{"$nulls":6},{"$f":"IF(F506=\"\",\"\",CONCATENATE(F506,\"·\",CHOOSE(P506,\"壹\",\"贰\",\"叁\",\"肆\",\"伍\",\"陆\")))","v":"木桩·壹"},null,{"$f":"IF(A506=\"\",\"\",AI506*AJ506/(1-AK506-AL506))","v":200},{"$f":"X506","v":1},{"$f":"Y506","v":200}]
[90631,null,{"$f":"C506*1.5","v":150},711,721,"木桩","木灵挥手，从手中挥舞出{0]个木头，直线飞向敌人\n，对敌人造成{1}伤害",2,"icon_s9063","S9063",9063,"Boss_Tree_TD",1,0,1,2,"1;230",1,{"$nulls":5},1,230,{"$nulls":6},"木桩·贰",null,230,1,230]
[90632,null,225,711,721,"木桩","木灵挥手，从手中挥舞出{0]个木头，直线飞向敌人\n，对敌人造成{1}伤害",2,"icon_s9063","S9063",9063,"Boss_Tree_TD",1,0,1,3,"1;260",1,{"$nulls":5},1,260,{"$nulls":6},"木桩·叁",null,260,1,260]
[90633,null,337.5,711,721,"木桩","木灵挥手，从手中挥舞出{0]个木头，直线飞向敌人\n，对敌人造成{1}伤害",2,"icon_s9063","S9063",9063,"Boss_Tree_TD",1,0,1,4,"1;290",1,{"$nulls":5},1,290,{"$nulls":6},"木桩·肆",null,290,1,290]
[90634,null,506.25,711,721,"木桩","木灵挥手，从手中挥舞出{0]个木头，直线飞向敌人\n，对敌人造成{1}伤害",2,"icon_s9063","S9063",9063,"Boss_Tree_TD",1,0,1,5,"1;320",1,{"$nulls":5},1,320,{"$nulls":6},"木桩·伍",null,320,1,320]
[90635,null,759.375,711,721,"木桩","木灵挥手，从手中挥舞出{0]个木头，直线飞向敌人\n，对敌人造成{1}伤害",2,"icon_s9063","S9063",9063,"Boss_Tree_TD",1,0,1,6,"1;350",1,{"$nulls":5},1,350,{"$nulls":6},"木桩·陆",null,350,1,350]
[]
[{"$f":"K513*10+P513-1","v":90640},null,100,711,721,"缠绕","敌人脚下生长出藤蔓，将敌人捆住。{0}秒内不能行动\n（功法不在释放和填充），受到木灵之子的攻击伤害+{1}%",2,{"$f":"CONCATENATE(\"icon_s\",K513)","v":"icon_s9064"},{"$f":"CONCATENATE(\"S\",K513)","v":"S9064"},9064,"Boss_Tree_TD",3,0,1,1,{"$f":"_xlfn.TEXTJOIN(\";\",1,X513:AD513)","v":"4;30"},1,{"$nulls":5},4,30,{"$nulls":6},{"$f":"IF(F513=\"\",\"\",CONCATENATE(F513,\"·\",CHOOSE(P513,\"壹\",\"贰\",\"叁\",\"肆\",\"伍\",\"陆\")))","v":"缠绕·壹"},null,{"$f":"IF(A513=\"\",\"\",AI513*AJ513/(1-AK513-AL513))","v":30},1,{"$f":"Y513","v":30}]
[90641,null,{"$f":"C513*1.5","v":150},711,721,"缠绕","敌人脚下生长出藤蔓，将敌人捆住。{0}秒内不能行动\n（功法不在释放和填充），受到木灵之子的攻击伤害+{1}%",2,"icon_s9064","S9064",9064,"Boss_Tree_TD",3,0,1,2,"4;30",1,{"$nulls":5},4,30,{"$nulls":6},"缠绕·贰",null,30,1,30]
[90642,null,225,711,721,"缠绕","敌人脚下生长出藤蔓，将敌人捆住。{0}秒内不能行动\n（功法不在释放和填充），受到木灵之子的攻击伤害+{1}%",2,"icon_s9064","S9064",9064,"Boss_Tree_TD",3,0,1,3,"4;30",1,{"$nulls":5},4,30,{"$nulls":6},"缠绕·叁",null,30,1,30]
[90643,null,337.5,711,721,"缠绕","敌人脚下生长出藤蔓，将敌人捆住。{0}秒内不能行动\n（功法不在释放和填充），受到木灵之子的攻击伤害+{1}%",2,"icon_s9064","S9064",9064,"Boss_Tree_TD",3,0,1,4,"4;30",1,{"$nulls":5},4,30,{"$nulls":6},"缠绕·肆",null,30,1,30]
[90644,null,506.25,711,721,"缠绕","敌人脚下生长出藤蔓，将敌人捆住。{0}秒内不能行动\n（功法不在释放和填充），受到木灵之子的攻击伤害+{1}%",2,"icon_s9064","S9064",9064,"Boss_Tree_TD",3,0,1,5,"4;30",1,{"$nulls":5},4,30,{"$nulls":6},"缠绕·伍",null,30,1,30]
[90645,null,759.375,711,721,"缠绕","敌人脚下生长出藤蔓，将敌人捆住。{0}秒内不能行动\n（功法不在释放和填充），受到木灵之子的攻击伤害+{1}%",2,"icon_s9064","S9064",9064,"Boss_Tree_TD",3,0,1,6,"4;30",1,{"$nulls":5},4,30,{"$nulls":6},"缠绕·陆",null,30,1,30]
[]
[{"$f":"K520*10+P520-1","v":90710},null,100,711,721,"木刺","挥手发射{0}枚木刺，对敌人造成{1}伤害",2,{"$f":"CONCATENATE(\"icon_s\",K520)","v":"icon_s9071"},{"$f":"CONCATENATE(\"S\",K520)","v":"S9071"},9071,"Boss_Tree_xiao_TD",1,1,1,1,{"$f":"_xlfn.TEXTJOIN(\";\",1,X520:AD520)","v":"3;30"},1,{"$nulls":5},3,30,{"$nulls":6},{"$f":"IF(F520=\"\",\"\",CONCATENATE(F520,\"·\",CHOOSE(P520,\"壹\",\"贰\",\"叁\",\"肆\",\"伍\",\"陆\")))","v":"木刺·壹"},null,{"$f":"IF(A520=\"\",\"\",AI520*AJ520/(1-AK520-AL520))","v":90},{"$f":"X520","v":3},{"$f":"Y520","v":30}]
[90711,null,{"$f":"C520*1.5","v":150},711,721,"木刺","挥手发射{0}枚木刺，对敌人造成{1}伤害",2,"icon_s9071","S9071",9071,"Boss_Tree_xiao_TD",1,1,1,2,"3;40",1,{"$nulls":5},3,40,{"$nulls":6},"木刺·贰",null,120,3,40]
[90712,null,225,711,721,"木刺","挥手发射{0}枚木刺，对敌人造成{1}伤害",2,"icon_s9071","S9071",9071,"Boss_Tree_xiao_TD",1,1,1,3,"3;50",1,{"$nulls":5},3,50,{"$nulls":6},"木刺·叁",null,150,3,50]
[90713,null,337.5,711,721,"木刺","挥手发射{0}枚木刺，对敌人造成{1}伤害",2,"icon_s9071","S9071",9071,"Boss_Tree_xiao_TD",1,1,1,4,"3;60",1,{"$nulls":5},3,60,{"$nulls":6},"木刺·肆",null,180,3,60]
[90714,null,506.25,711,721,"木刺","挥手发射{0}枚木刺，对敌人造成{1}伤害",2,"icon_s9071","S9071",9071,"Boss_Tree_xiao_TD",1,1,1,5,"3;70",1,{"$nulls":5},3,70,{"$nulls":6},"木刺·伍",null,210,3,70]
[90715,null,759.375,711,721,"木刺","挥手发射{0}枚木刺，对敌人造成{1}伤害",2,"icon_s9071","S9071",9071,"Boss_Tree_xiao_TD",1,1,1,6,"3;80",1,{"$nulls":5},3,80,{"$nulls":6},"木刺·陆",null,240,3,80]
[]
[{"$f":"K527*10+P527-1","v":90510},null,100,711,721,"风刃","穷奇煽动翅膀，空中行程{0}枚风刃，对敌人造成{1}伤害",2,{"$f":"CONCATENATE(\"icon_s\",K527)","v":"icon_s9051"},{"$f":"CONCATENATE(\"S\",K527)","v":"S9051"},9051,"Boss_QiongQi_TD",1,1,1,1,{"$f":"_xlfn.TEXTJOIN(\";\",1,X527:AD527)","v":"3;20"},1,{"$nulls":5},3,20,{"$nulls":6},{"$f":"IF(F527=\"\",\"\",CONCATENATE(F527,\"·\",CHOOSE(P527,\"壹\",\"贰\",\"叁\",\"肆\",\"伍\",\"陆\")))","v":"风刃·壹"},null,{"$f":"IF(A527=\"\",\"\",AI527*AJ527/(1-AK527-AL527))","v":120},{"$f":"X527","v":3},{"$f":"Y527*2","v":40}]
[90511,null,{"$f":"C527*1.5","v":150},711,721,"风刃","穷奇煽动翅膀，空中行程{0}枚风刃，对敌人造成{1}伤害",2,"icon_s9051","S9051",9051,"Boss_QiongQi_TD",1,1,1,2,"3;30",1,{"$nulls":5},3,30,{"$nulls":6},"风刃·贰",null,180,3,60]
[90512,null,225,711,721,"风刃","穷奇煽动翅膀，空中行程{0}枚风刃，对敌人造成{1}伤害",2,"icon_s9051","S9051",9051,"Boss_QiongQi_TD",1,1,1,3,"3;40",1,{"$nulls":5},3,40,{"$nulls":6},"风刃·叁",null,240,3,80]
[90513,null,337.5,711,721,"风刃","穷奇煽动翅膀，空中行程{0}枚风刃，对敌人造成{1}伤害",2,"icon_s9051","S9051",9051,"Boss_QiongQi_TD",1,1,1,4,"3;50",1,{"$nulls":5},3,50,{"$nulls":6},"风刃·肆",null,300,3,100]
[90514,null,506.25,711,721,"风刃","穷奇煽动翅膀，空中行程{0}枚风刃，对敌人造成{1}伤害",2,"icon_s9051","S9051",9051,"Boss_QiongQi_TD",1,1,1,5,"3;60",1,{"$nulls":5},3,60,{"$nulls":6},"风刃·伍",null,360,3,120]
[90515,null,759.375,711,721,"风刃","穷奇煽动翅膀，空中行程{0}枚风刃，对敌人造成{1}伤害",2,"icon_s9051","S9051",9051,"Boss_QiongQi_TD",1,1,1,6,"3;70",1,{"$nulls":5},3,70,{"$nulls":6},"风刃·陆",null,420,3,140]
[]
[{"$f":"K534*10+P534-1","v":90520},null,100,711,721,"雷罡波","穷奇自身引雷而下，快速的从嘴上吐出{0}个光波，\n对敌人造成{1}伤害，每个光被带有雷电之力，对敌人施加一层感电",2,{"$f":"CONCATENATE(\"icon_s\",K534)","v":"icon_s9052"},{"$f":"CONCATENATE(\"S\",K534)","v":"S9052"},9052,"Boss_QiongQi_TD",1,1,1,1,{"$f":"_xlfn.TEXTJOIN(\";\",1,X534:AD534)","v":"2;150"},1,{"$nulls":5},2,150,{"$nulls":6},{"$f":"IF(F534=\"\",\"\",CONCATENATE(F534,\"·\",CHOOSE(P534,\"壹\",\"贰\",\"叁\",\"肆\",\"伍\",\"陆\")))","v":"雷罡波·壹"},null,{"$f":"IF(A534=\"\",\"\",AI534*AJ534/(1-AK534-AL534))","v":300},{"$f":"X534","v":2},{"$f":"Y534","v":150}]
[90521,null,{"$f":"C534*1.5","v":150},711,721,"雷罡波","穷奇自身引雷而下，快速的从嘴上吐出{0}个光波，\n对敌人造成{1}伤害，每个光被带有雷电之力，对敌人施加一层感电",2,"icon_s9052","S9052",9052,"Boss_QiongQi_TD",1,1,1,2,"2;180",1,{"$nulls":5},2,180,{"$nulls":6},"雷罡波·贰",null,360,2,180]
[90522,null,225,711,721,"雷罡波","穷奇自身引雷而下，快速的从嘴上吐出{0}个光波，\n对敌人造成{1}伤害，每个光被带有雷电之力，对敌人施加一层感电",2,"icon_s9052","S9052",9052,"Boss_QiongQi_TD",1,1,1,3,"2;210",1,{"$nulls":5},2,210,{"$nulls":6},"雷罡波·叁",null,420,2,210]
[90523,null,337.5,711,721,"雷罡波","穷奇自身引雷而下，快速的从嘴上吐出{0}个光波，\n对敌人造成{1}伤害，每个光被带有雷电之力，对敌人施加一层感电",2,"icon_s9052","S9052",9052,"Boss_QiongQi_TD",1,1,1,4,"2;240",1,{"$nulls":5},2,240,{"$nulls":6},"雷罡波·肆",null,480,2,240]
[90524,null,506.25,711,721,"雷罡波","穷奇自身引雷而下，快速的从嘴上吐出{0}个光波，\n对敌人造成{1}伤害，每个光被带有雷电之力，对敌人施加一层感电",2,"icon_s9052","S9052",9052,"Boss_QiongQi_TD",1,1,1,5,"2;270",1,{"$nulls":5},2,270,{"$nulls":6},"雷罡波·伍",null,540,2,270]
[90525,null,759.375,711,721,"雷罡波","穷奇自身引雷而下，快速的从嘴上吐出{0}个光波，\n对敌人造成{1}伤害，每个光被带有雷电之力，对敌人施加一层感电",2,"icon_s9052","S9052",9052,"Boss_QiongQi_TD",1,1,1,6,"2;300",1,{"$nulls":5},2,300,{"$nulls":6},"雷罡波·陆",null,600,2,300]
[]
[{"$f":"K541*10+P541-1","v":90530},null,100,711,721,"雷罡波","请求仰天施法，引导天雷，天雷在战场上随机落下，{0}%概率击中目标，每层感电额外+{1}%概率，最多被击中{2}次，每次击中造成{3}伤害，消耗一层感电额外照成{4}伤害。引雷可以击中弹道.持续{5}秒",2,{"$f":"CONCATENATE(\"icon_s\",K541)","v":"icon_s9053"},{"$f":"CONCATENATE(\"S\",K541)","v":"S9053"},9053,"Boss_QiongQi_TD",3,1,1,1,{"$f":"_xlfn.TEXTJOIN(\";\",1,X541:AD541)","v":"50;3;5;300;10;10"},1,{"$nulls":5},50,3,5,300,10,10,null,null,{"$f":"IF(F541=\"\",\"\",CONCATENATE(F541,\"·\",CHOOSE(P541,\"壹\",\"贰\",\"叁\",\"肆\",\"伍\",\"陆\")))","v":"雷罡波·壹"},null,{"$f":"IF(A541=\"\",\"\",AI541*AJ541/(1-AK541-AL541))","v":833.333333333333},{"$f":"Z541","v":5},{"$f":"AA541*0.5","v":150},{"$f":"AB541/100","v":0.1}]
[90531,null,{"$f":"C541*1.5","v":150},711,721,"雷罡波","请求仰天施法，引导天雷，天雷在战场上随机落下，{0}%概率击中目标，每层感电额外+{1}%概率，最多被击中{2}次，每次击中造成{3}伤害，消耗一层感电额外照成{4}伤害。引雷可以击中弹道.持续{5}秒",2,"icon_s9053","S9053",9053,"Boss_QiongQi_TD",3,1,1,2,"50;3;5;370;10;10",1,{"$nulls":5},50,3,5,370,10,10,null,null,"雷罡波·贰",null,{"$f":"IF(A542=\"\",\"\",AI542*AJ542/(1-AK542-AL542))","v":1027.77777777778},5,185,0.1]
[90532,null,225,711,721,"雷罡波","请求仰天施法，引导天雷，天雷在战场上随机落下，{0}%概率击中目标，每层感电额外+{1}%概率，最多被击中{2}次，每次击中造成{3}伤害，消耗一层感电额外照成{4}伤害。引雷可以击中弹道.持续{5}秒",2,"icon_s9053","S9053",9053,"Boss_QiongQi_TD",3,1,1,3,"50;3;5;440;10;10",1,{"$nulls":5},50,3,5,440,10,10,null,null,"雷罡波·叁",null,1222.22222222222,5,220,0.1]
[90533,null,337.5,711,721,"雷罡波","请求仰天施法，引导天雷，天雷在战场上随机落下，{0}%概率击中目标，每层感电额外+{1}%概率，最多被击中{2}次，每次击中造成{3}伤害，消耗一层感电额外照成{4}伤害。引雷可以击中弹道.持续{5}秒",2,"icon_s9053","S9053",9053,"Boss_QiongQi_TD",3,1,1,4,"50;3;5;510;10;10",1,{"$nulls":5},50,3,5,510,10,10,null,null,"雷罡波·肆",null,1416.66666666667,5,255,0.1]
[90534,null,506.25,711,721,"雷罡波","请求仰天施法，引导天雷，天雷在战场上随机落下，{0}%概率击中目标，每层感电额外+{1}%概率，最多被击中{2}次，每次击中造成{3}伤害，消耗一层感电额外照成{4}伤害。引雷可以击中弹道.持续{5}秒",2,"icon_s9053","S9053",9053,"Boss_QiongQi_TD",3,1,1,5,"50;3;5;580;10;10",1,{"$nulls":5},50,3,5,580,10,10,null,null,"雷罡波·伍",null,1611.11111111111,5,290,0.1]
[90535,null,759.375,711,721,"雷罡波","请求仰天施法，引导天雷，天雷在战场上随机落下，{0}%概率击中目标，每层感电额外+{1}%概率，最多被击中{2}次，每次击中造成{3}伤害，消耗一层感电额外照成{4}伤害。引雷可以击中弹道.持续{5}秒",2,"icon_s9053","S9053",9053,"Boss_QiongQi_TD",3,1,1,6,"50;3;5;650;10;10",1,{"$nulls":5},50,3,5,650,10,10,null,null,"雷罡波·陆",null,1805.55555555556,5,325,0.1]
[]
[{"$f":"K548*10+P548-1","v":90540},null,100,711,721,"导电（被动）","每隔{0}秒，对有感电的敌人劈一道小雷，敌人受到感电层数*{1}%的伤害",2,{"$f":"CONCATENATE(\"icon_s\",K548)","v":"icon_s9054"},{"$f":"CONCATENATE(\"S\",K548)","v":"S9054"},9054,"Boss_QiongQi_TD",1,1,2,1,{"$f":"_xlfn.TEXTJOIN(\";\",1,X548:AD548)","v":"3;30"},1,{"$nulls":5},3,30,{"$nulls":6},{"$f":"IF(F548=\"\",\"\",CONCATENATE(F548,\"·\",CHOOSE(P548,\"壹\",\"贰\",\"叁\",\"肆\",\"伍\",\"陆\")))","v":"导电（被动）·壹"},null,{"$f":"IF(A548=\"\",\"\",AI548*AJ548/(1-AK548-AL548))","v":90},1,{"$f":"Y548*3","v":90}]
[90541,null,{"$f":"C548*1.5","v":150},711,721,"导电（被动）","每隔{0}秒，对有感电的敌人劈一道小雷，敌人受到感\n电层数*{1}%的伤害",2,"icon_s9054","S9054",9054,"Boss_QiongQi_TD",1,1,2,2,"3;40",1,{"$nulls":5},3,40,{"$nulls":6},"导电（被动）·贰",null,120,1,{"$f":"Y549*3","v":120}]
[90542,null,225,711,721,"导电（被动）","每隔{0}秒，对有感电的敌人劈一道小雷，敌人受到感电层数*{1}%的伤害",2,"icon_s9054","S9054",9054,"Boss_QiongQi_TD",1,1,2,3,"3;50",1,{"$nulls":5},3,50,{"$nulls":6},"导电（被动）·叁",null,150,1,150]
[90543,null,337.5,711,721,"导电（被动）","每隔{0}秒，对有感电的敌人劈一道小雷，敌人受到感电层数*{1}%的伤害",2,"icon_s9054","S9054",9054,"Boss_QiongQi_TD",1,1,2,4,"3;60",1,{"$nulls":5},3,60,{"$nulls":6},"导电（被动）·肆",null,180,1,180]
[90544,null,506.25,711,721,"导电（被动）","每隔{0}秒，对有感电的敌人劈一道小雷，敌人受到感电层数*{1}%的伤害",2,"icon_s9054","S9054",9054,"Boss_QiongQi_TD",1,1,2,5,"3;70",1,{"$nulls":5},3,70,{"$nulls":6},"导电（被动）·伍",null,210,1,210]
[90545,null,759.375,711,721,"导电（被动）","每隔{0}秒，对有感电的敌人劈一道小雷，敌人受到感电层数*{1}%的伤害",2,"icon_s9054","S9054",9054,"Boss_QiongQi_TD",1,1,2,6,"3;80",1,{"$nulls":5},3,80,{"$nulls":6},"导电（被动）·陆",null,240,1,240]
[]
[{"$f":"K555*10+P555-1","v":90310},null,100,711,721,"毒刺）","蜘蛛从嘴里连续射击出{0}没毒刺，对敌人照成{1}伤害，命中敌人时有{2}%概率中毒1层",2,{"$f":"CONCATENATE(\"icon_s\",K555)","v":"icon_s9031"},{"$f":"CONCATENATE(\"S\",K555)","v":"S9031"},9031,"Gw_zhizhu_TD",1,1,1,1,{"$f":"_xlfn.TEXTJOIN(\";\",1,X555:AD555)","v":"3;30;30"},1,{"$nulls":5},3,30,30,{"$nulls":5},{"$f":"IF(F555=\"\",\"\",CONCATENATE(F555,\"·\",CHOOSE(P555,\"壹\",\"贰\",\"叁\",\"肆\",\"伍\",\"陆\")))","v":"毒刺）·壹"},null,{"$f":"IF(A555=\"\",\"\",AI555*AJ555/(1-AK555-AL555))","v":100},{"$f":"X555","v":3},{"$f":"Y555","v":30},{"$f":"Z555/300","v":0.1}]
[90311,null,{"$f":"C555*1.5","v":150},711,721,"毒刺）","蜘蛛从嘴里连续射击出{0}没毒刺，对敌人照成{1}伤害，命中敌人时有{2}%概率中毒1层",2,"icon_s9031","S9031",9031,"Gw_zhizhu_TD",1,1,1,2,"3;40;35",1,{"$nulls":5},3,40,35,{"$nulls":5},"毒刺）·贰",null,135.849056603774,{"$f":"X556","v":3},40,0.116666666666667]
[90312,null,225,711,721,"毒刺）","蜘蛛从嘴里连续射击出{0}没毒刺，对敌人照成{1}伤害，命中敌人时有{2}%概率中毒1层",2,"icon_s9031","S9031",9031,"Gw_zhizhu_TD",1,1,1,3,"3;50;40",1,{"$nulls":5},3,50,40,{"$nulls":5},"毒刺）·叁",null,173.076923076923,{"$f":"X557","v":3},50,0.133333333333333]
[90313,null,337.5,711,721,"毒刺）","蜘蛛从嘴里连续射击出{0}没毒刺，对敌人照成{1}伤害，命中敌人时有{2}%概率中毒1层",2,"icon_s9031","S9031",9031,"Gw_zhizhu_TD",1,1,1,4,"3;60;45",1,{"$nulls":5},3,60,45,{"$nulls":5},"毒刺）·肆",null,211.764705882353,3,60,0.15]
[90314,null,506.25,711,721,"毒刺）","蜘蛛从嘴里连续射击出{0}没毒刺，对敌人照成{1}伤害，命中敌人时有{2}%概率中毒1层",2,"icon_s9031","S9031",9031,"Gw_zhizhu_TD",1,1,1,5,"3;70;50",1,{"$nulls":5},3,70,50,{"$nulls":5},"毒刺）·伍",null,252,3,70,0.166666666666667]
[90315,null,759.375,711,721,"毒刺）","蜘蛛从嘴里连续射击出{0}没毒刺，对敌人照成{1}伤害，命中敌人时有{2}%概率中毒1层",2,"icon_s9031","S9031",9031,"Gw_zhizhu_TD",1,1,1,6,"3;80;55",1,{"$nulls":5},3,80,55,{"$nulls":5},"毒刺）·陆",null,293.877551020408,3,80,0.183333333333333]
[]
[{"$f":"K562*10+P562-1","v":90320},null,100,711,721,"千蛛潮","蜘蛛身体抖动出现{0}个小蜘蛛飞向敌人，对敌人照成{1}伤害",2,{"$f":"CONCATENATE(\"icon_s\",K562)","v":"icon_s9032"},{"$f":"CONCATENATE(\"S\",K562)","v":"S9032"},9032,"Gw_zhizhu_TD",1,1,1,1,{"$f":"_xlfn.TEXTJOIN(\";\",1,X562:AD562)","v":"3;30"},1,{"$nulls":5},3,30,{"$nulls":6},{"$f":"IF(F562=\"\",\"\",CONCATENATE(F562,\"·\",CHOOSE(P562,\"壹\",\"贰\",\"叁\",\"肆\",\"伍\",\"陆\")))","v":"千蛛潮·壹"},null,{"$f":"IF(A562=\"\",\"\",AI562*AJ562/(1-AK562-AL562))","v":90},3,{"$f":"Y562","v":30}]
[90321,null,{"$f":"C562*1.5","v":150},711,721,"千蛛潮","蜘蛛身体抖动出现{0}个小蜘蛛飞向敌人，对敌人照成{1}伤害",2,"icon_s9032","S9032",9032,"Gw_zhizhu_TD",1,1,1,2,"3;40",1,{"$nulls":5},3,40,{"$nulls":6},"千蛛潮·贰",null,120,3,40]
[90322,null,225,711,721,"千蛛潮","蜘蛛身体抖动出现{0}个小蜘蛛飞向敌人，对敌人照成{1}伤害",2,"icon_s9032","S9032",9032,"Gw_zhizhu_TD",1,1,1,3,"3;50",1,{"$nulls":5},3,50,{"$nulls":6},"千蛛潮·叁",null,150,3,50]
[90323,null,337.5,711,721,"千蛛潮","蜘蛛身体抖动出现{0}个小蜘蛛飞向敌人，对敌人照成{1}伤害",2,"icon_s9032","S9032",9032,"Gw_zhizhu_TD",1,1,1,4,"3;60",1,{"$nulls":5},3,60,{"$nulls":6},"千蛛潮·肆",null,180,3,60]
[90324,null,506.25,711,721,"千蛛潮","蜘蛛身体抖动出现{0}个小蜘蛛飞向敌人，对敌人照成{1}伤害",2,"icon_s9032","S9032",9032,"Gw_zhizhu_TD",1,1,1,5,"3;70",1,{"$nulls":5},3,70,{"$nulls":6},"千蛛潮·伍",null,210,3,70]
[90325,null,759.375,711,721,"千蛛潮","蜘蛛身体抖动出现{0}个小蜘蛛飞向敌人，对敌人照成{1}伤害",2,"icon_s9032","S9032",9032,"Gw_zhizhu_TD",1,1,1,6,"3;80",1,{"$nulls":5},3,80,{"$nulls":6},"千蛛潮·陆",null,240,3,80]
[]
[{"$f":"K569*10+P569-1","v":90330},null,100,711,721,"吐丝","嘴里吐出{0}个蜘蛛丝对敌人照成{1}伤害",2,{"$f":"CONCATENATE(\"icon_s\",K569)","v":"icon_s9033"},{"$f":"CONCATENATE(\"S\",K569)","v":"S9033"},9033,"Gw_zhizhu_TD",1,1,1,1,{"$f":"_xlfn.TEXTJOIN(\";\",1,X569:AD569)","v":"3;30"},1,{"$nulls":5},3,30,{"$nulls":6},{"$f":"IF(F569=\"\",\"\",CONCATENATE(F569,\"·\",CHOOSE(P569,\"壹\",\"贰\",\"叁\",\"肆\",\"伍\",\"陆\")))","v":"吐丝·壹"},null,{"$f":"IF(A569=\"\",\"\",AI569*AJ569/(1-AK569-AL569))","v":90},{"$f":"X569","v":3},{"$f":"Y569","v":30}]
[90331,null,{"$f":"C569*1.5","v":150},711,721,"吐丝","嘴里吐出{0}个蜘蛛丝对敌人照成{1}伤害",2,"icon_s9033","S9033",9033,"Gw_zhizhu_TD",1,1,1,2,"3;40",1,{"$nulls":5},3,40,{"$nulls":6},"吐丝·贰",null,120,3,40]
[90332,null,225,711,721,"吐丝","嘴里吐出{0}个蜘蛛丝对敌人照成{1}伤害",2,"icon_s9033","S9033",9033,"Gw_zhizhu_TD",1,1,1,3,"3;50",1,{"$nulls":5},3,50,{"$nulls":6},"吐丝·叁",null,150,3,50]
[90333,null,337.5,711,721,"吐丝","嘴里吐出{0}个蜘蛛丝对敌人照成{1}伤害",2,"icon_s9033","S9033",9033,"Gw_zhizhu_TD",1,1,1,4,"3;60",1,{"$nulls":5},3,60,{"$nulls":6},"吐丝·肆",null,180,3,60]
[90334,null,506.25,711,721,"吐丝","嘴里吐出{0}个蜘蛛丝对敌人照成{1}伤害",2,"icon_s9033","S9033",9033,"Gw_zhizhu_TD",1,1,1,5,"3;70",1,{"$nulls":5},3,70,{"$nulls":6},"吐丝·伍",null,210,3,70]
[90335,null,759.375,711,721,"吐丝","嘴里吐出{0}个蜘蛛丝对敌人照成{1}伤害",2,"icon_s9033","S9033",9033,"Gw_zhizhu_TD",1,1,1,6,"3;80",1,{"$nulls":5},3,80,{"$nulls":6},"吐丝·陆",null,240,3,80]
[]
[{"$f":"K576*10+P576-1","v":90410},null,100,711,721,"幻骨","老鼠甩动尾巴，生成一排黑色的骨刺{0}个，每个骨刺对敌人照成{1}伤害，命中敌人时对敌人施加一层鼠疫",2,{"$f":"CONCATENATE(\"icon_s\",K576)","v":"icon_s9041"},{"$f":"CONCATENATE(\"S\",K576)","v":"S9041"},9041,"Boss_ShuGuai_TD",1,1,1,1,{"$f":"_xlfn.TEXTJOIN(\";\",1,X576:AD576)","v":"3;30"},1,{"$nulls":5},3,30,{"$nulls":6},{"$f":"IF(F576=\"\",\"\",CONCATENATE(F576,\"·\",CHOOSE(P576,\"壹\",\"贰\",\"叁\",\"肆\",\"伍\",\"陆\")))","v":"幻骨·壹"},null,{"$f":"IF(A576=\"\",\"\",AI576*AJ576/(1-AK576-AL576))","v":90},{"$f":"X576","v":3},{"$f":"Y576","v":30}]
[90411,null,{"$f":"C576*1.5","v":150},711,721,"幻骨","老鼠甩动尾巴，生成一排黑色的骨刺{0}个，每个骨刺对敌人照成{1}伤害，命中敌人时对敌人施加一层鼠疫",2,"icon_s9041","S9041",9041,"Boss_ShuGuai_TD",1,1,1,2,"3;40",1,{"$nulls":5},3,40,{"$nulls":6},"幻骨·贰",null,120,3,40]
[90412,null,225,711,721,"幻骨","老鼠甩动尾巴，生成一排黑色的骨刺{0}个，每个骨刺对敌人照成{1}伤害，命中敌人时对敌人施加一层鼠疫",2,"icon_s9041","S9041",9041,"Boss_ShuGuai_TD",1,1,1,3,"3;50",1,{"$nulls":5},3,50,{"$nulls":6},"幻骨·叁",null,150,3,50]
[90413,null,337.5,711,721,"幻骨","老鼠甩动尾巴，生成一排黑色的骨刺{0}个，每个骨刺对敌人照成{1}伤害，命中敌人时对敌人施加一层鼠疫",2,"icon_s9041","S9041",9041,"Boss_ShuGuai_TD",1,1,1,4,"3;60",1,{"$nulls":5},3,60,{"$nulls":6},"幻骨·肆",null,180,3,60]
[90414,null,506.25,711,721,"幻骨","老鼠甩动尾巴，生成一排黑色的骨刺{0}个，每个骨刺对敌人照成{1}伤害，命中敌人时对敌人施加一层鼠疫",2,"icon_s9041","S9041",9041,"Boss_ShuGuai_TD",1,1,1,5,"3;70",1,{"$nulls":5},3,70,{"$nulls":6},"幻骨·伍",null,210,3,70]
[90415,null,759.375,711,721,"幻骨","老鼠甩动尾巴，生成一排黑色的骨刺{0}个，每个骨刺对敌人照成{1}伤害，命中敌人时对敌人施加一层鼠疫",2,"icon_s9041","S9041",9041,"Boss_ShuGuai_TD",1,1,1,6,"3;80",1,{"$nulls":5},3,80,{"$nulls":6},"幻骨·陆",null,240,3,80]
[]
[{"$f":"K583*10+P583-1","v":90420},null,100,711,721,"鼠角","扔出{0}个鼠牙一样的尖锐物体，对敌人造成{1}伤害",2,{"$f":"CONCATENATE(\"icon_s\",K583)","v":"icon_s9042"},{"$f":"CONCATENATE(\"S\",K583)","v":"S9042"},9042,"Boss_ShuGuai_TD",1,1,1,1,{"$f":"_xlfn.TEXTJOIN(\";\",1,X583:AD583)","v":"3;30"},1,{"$nulls":5},3,30,{"$nulls":6},{"$f":"IF(F583=\"\",\"\",CONCATENATE(F583,\"·\",CHOOSE(P583,\"壹\",\"贰\",\"叁\",\"肆\",\"伍\",\"陆\")))","v":"鼠角·壹"},null,{"$f":"IF(A583=\"\",\"\",AI583*AJ583/(1-AK583-AL583))","v":90},{"$f":"X583","v":3},{"$f":"Y583","v":30}]
[90421,null,{"$f":"C583*1.5","v":150},711,721,"鼠角","扔出{0}个鼠牙一样的尖锐物体，对敌人造成{1}伤害",2,"icon_s9042","S9042",9042,"Boss_ShuGuai_TD",1,1,1,2,"3;40",1,{"$nulls":5},3,40,{"$nulls":6},"鼠角·贰",null,120,3,40]
[90422,null,225,711,721,"鼠角","扔出{0}个鼠牙一样的尖锐物体，对敌人造成{1}伤害",2,"icon_s9042","S9042",9042,"Boss_ShuGuai_TD",1,1,1,3,"3;50",1,{"$nulls":5},3,50,{"$nulls":6},"鼠角·叁",null,150,3,50]
[90423,null,337.5,711,721,"鼠角","扔出{0}个鼠牙一样的尖锐物体，对敌人造成{1}伤害",2,"icon_s9042","S9042",9042,"Boss_ShuGuai_TD",1,1,1,4,"3;60",1,{"$nulls":5},3,60,{"$nulls":6},"鼠角·肆",null,180,3,60]
[90424,null,506.25,711,721,"鼠角","扔出{0}个鼠牙一样的尖锐物体，对敌人造成{1}伤害",2,"icon_s9042","S9042",9042,"Boss_ShuGuai_TD",1,1,1,5,"3;70",1,{"$nulls":5},3,70,{"$nulls":6},"鼠角·伍",null,210,3,70]
[90425,null,759.375,711,721,"鼠角","扔出{0}个鼠牙一样的尖锐物体，对敌人造成{1}伤害",2,"icon_s9042","S9042",9042,"Boss_ShuGuai_TD",1,1,1,6,"3;80",1,{"$nulls":5},3,80,{"$nulls":6},"鼠角·陆",null,240,3,80]
[]
[{"$f":"K590*10+P590-1","v":90430},null,100,711,721,"幽爪灭魂指","老鼠挥动鼠爪，将尖锐的指尖射出。指甲上带有老鼠的病菌。生成{0}枚指甲，对敌人造成{1}伤害，并对敌人施加已成鼠疫 ",2,{"$f":"CONCATENATE(\"icon_s\",K590)","v":"icon_s9043"},{"$f":"CONCATENATE(\"S\",K590)","v":"S9043"},9043,"Boss_ShuGuai_TD",1,1,1,1,{"$f":"_xlfn.TEXTJOIN(\";\",1,X590:AD590)","v":"3;30"},1,{"$nulls":5},3,30,{"$nulls":6},{"$f":"IF(F590=\"\",\"\",CONCATENATE(F590,\"·\",CHOOSE(P590,\"壹\",\"贰\",\"叁\",\"肆\",\"伍\",\"陆\")))","v":"幽爪灭魂指·壹"},null,{"$f":"IF(A590=\"\",\"\",AI590*AJ590/(1-AK590-AL590))","v":90},{"$f":"X590","v":3},{"$f":"Y590","v":30}]
[90431,null,{"$f":"C590*1.5","v":150},711,721,"幽爪灭魂指","老鼠挥动鼠爪，将尖锐的指尖射出。指甲上带有老鼠的病菌。生成{0}枚指甲，对敌人造成{1}伤害，并对敌人施加已成鼠疫 ",2,"icon_s9043","S9043",9043,"Boss_ShuGuai_TD",1,1,1,2,"3;40",1,{"$nulls":5},3,40,{"$nulls":6},"幽爪灭魂指·贰",null,120,3,40]
[90432,null,225,711,721,"幽爪灭魂指","老鼠挥动鼠爪，将尖锐的指尖射出。指甲上带有老鼠的病菌。生成{0}枚指甲，对敌人造成{1}伤害，并对敌人施加已成鼠疫 ",2,"icon_s9043","S9043",9043,"Boss_ShuGuai_TD",1,1,1,3,"3;50",1,{"$nulls":5},3,50,{"$nulls":6},"幽爪灭魂指·叁",null,150,3,50]
[90433,null,337.5,711,721,"幽爪灭魂指","老鼠挥动鼠爪，将尖锐的指尖射出。指甲上带有老鼠的病菌。生成{0}枚指甲，对敌人造成{1}伤害，并对敌人施加已成鼠疫 ",2,"icon_s9043","S9043",9043,"Boss_ShuGuai_TD",1,1,1,4,"3;60",1,{"$nulls":5},3,60,{"$nulls":6},"幽爪灭魂指·肆",null,180,3,60]
[90434,null,506.25,711,721,"幽爪灭魂指","老鼠挥动鼠爪，将尖锐的指尖射出。指甲上带有老鼠的病菌。生成{0}枚指甲，对敌人造成{1}伤害，并对敌人施加已成鼠疫 ",2,"icon_s9043","S9043",9043,"Boss_ShuGuai_TD",1,1,1,5,"3;70",1,{"$nulls":5},3,70,{"$nulls":6},"幽爪灭魂指·伍",null,210,3,70]
[90435,null,759.375,711,721,"幽爪灭魂指","老鼠挥动鼠爪，将尖锐的指尖射出。指甲上带有老鼠的病菌。生成{0}枚指甲，对敌人造成{1}伤害，并对敌人施加已成鼠疫 ",2,"icon_s9043","S9043",9043,"Boss_ShuGuai_TD",1,1,1,6,"3;80",1,{"$nulls":5},3,80,{"$nulls":6},"幽爪灭魂指·陆",null,240,3,80]
[]
[{"$f":"K597*10+P597-1","v":90440},null,100,711,721,"幽爪灭魂指","老鼠将体内的浊气凝聚成一颗弹丸，快速射向对手。命中目标后爆炸浊气散开对敌人造成{0}伤害，给敌人施加一层鼠疫。",2,{"$f":"CONCATENATE(\"icon_s\",K597)","v":"icon_s9044"},{"$f":"CONCATENATE(\"S\",K597)","v":"S9044"},9044,"Boss_ShuGuai_TD",1,1,1,1,{"$f":"_xlfn.TEXTJOIN(\";\",1,X597:AD597)","v":"1;300"},1,{"$nulls":5},1,300,{"$nulls":6},{"$f":"IF(F597=\"\",\"\",CONCATENATE(F597,\"·\",CHOOSE(P597,\"壹\",\"贰\",\"叁\",\"肆\",\"伍\",\"陆\")))","v":"幽爪灭魂指·壹"},null,{"$f":"IF(A597=\"\",\"\",AI597*AJ597/(1-AK597-AL597))","v":300},{"$f":"X597","v":1},{"$f":"Y597","v":300}]
[90441,null,{"$f":"C597*1.5","v":150},711,721,"幽爪灭魂指","老鼠将体内的浊气凝聚成一颗弹丸，快速射向对手。命中目标后爆炸浊气散开对敌人造成{0}伤害，给敌人施加一层鼠疫。",2,"icon_s9044","S9044",9044,"Boss_ShuGuai_TD",1,1,1,2,"1;400",1,{"$nulls":5},1,400,{"$nulls":6},"幽爪灭魂指·贰",null,400,1,{"$f":"Y598","v":400}]
[90442,null,225,711,721,"幽爪灭魂指","老鼠将体内的浊气凝聚成一颗弹丸，快速射向对手。命中目标后爆炸浊气散开对敌人造成{0}伤害，给敌人施加一层鼠疫。",2,"icon_s9044","S9044",9044,"Boss_ShuGuai_TD",1,1,1,3,"1;500",1,{"$nulls":5},1,500,{"$nulls":6},"幽爪灭魂指·叁",null,500,1,{"$f":"Y599","v":500}]
[90443,null,337.5,711,721,"幽爪灭魂指","老鼠将体内的浊气凝聚成一颗弹丸，快速射向对手。命中目标后爆炸浊气散开对敌人造成{0}伤害，给敌人施加一层鼠疫。",2,"icon_s9044","S9044",9044,"Boss_ShuGuai_TD",1,1,1,4,"1;600",1,{"$nulls":5},1,600,{"$nulls":6},"幽爪灭魂指·肆",null,600,1,600]
[90444,null,506.25,711,721,"幽爪灭魂指","老鼠将体内的浊气凝聚成一颗弹丸，快速射向对手。命中目标后爆炸浊气散开对敌人造成{0}伤害，给敌人施加一层鼠疫。",2,"icon_s9044","S9044",9044,"Boss_ShuGuai_TD",1,1,1,5,"1;700",1,{"$nulls":5},1,700,{"$nulls":6},"幽爪灭魂指·伍",null,700,1,700]
[90445,null,759.375,711,721,"幽爪灭魂指","老鼠将体内的浊气凝聚成一颗弹丸，快速射向对手。命中目标后爆炸浊气散开对敌人造成{0}伤害，给敌人施加一层鼠疫。",2,"icon_s9044","S9044",9044,"Boss_ShuGuai_TD",1,1,1,6,"1;800",1,{"$nulls":5},1,800,{"$nulls":6},"幽爪灭魂指·陆",null,800,1,800]
[]
[{"$f":"K604*10+P604-1","v":90910},null,100,711,721,"羽刃风暴","飞鹤煽动翅膀，飞出{0}个羽毛对敌人照成{1}伤害",2,{"$f":"CONCATENATE(\"icon_s\",K604)","v":"icon_s9091"},{"$f":"CONCATENATE(\"S\",K604)","v":"S9091"},9091,"Boss_ShuGuai_TD",1,1,1,1,{"$f":"_xlfn.TEXTJOIN(\";\",1,X604:AD604)","v":"1;300"},1,{"$nulls":5},1,300,{"$nulls":6},{"$f":"IF(F604=\"\",\"\",CONCATENATE(F604,\"·\",CHOOSE(P604,\"壹\",\"贰\",\"叁\",\"肆\",\"伍\",\"陆\")))","v":"羽刃风暴·壹"},null,{"$f":"IF(A604=\"\",\"\",AI604*AJ604/(1-AK604-AL604))","v":300},{"$f":"X604","v":1},300]
[90911,null,{"$f":"C604*1.5","v":150},711,721,"羽刃风暴","飞鹤煽动翅膀，飞出{0}个羽毛对敌人照成{1}伤害",2,"icon_s9091","S9091",9091,"Boss_ShuGuai_TD",1,1,1,2,"1;400",1,{"$nulls":5},1,400,{"$nulls":6},"羽刃风暴·贰",null,400,1,400]
[90912,null,225,711,721,"羽刃风暴","飞鹤煽动翅膀，飞出{0}个羽毛对敌人照成{1}伤害",2,"icon_s9091","S9091",9091,"Boss_ShuGuai_TD",1,1,1,3,"1;500",1,{"$nulls":5},1,500,{"$nulls":6},"羽刃风暴·叁",null,500,1,500]
[90913,null,337.5,711,721,"羽刃风暴","飞鹤煽动翅膀，飞出{0}个羽毛对敌人照成{1}伤害",2,"icon_s9091","S9091",9091,"Boss_ShuGuai_TD",1,1,1,4,"1;600",1,{"$nulls":5},1,600,{"$nulls":6},"羽刃风暴·肆",null,600,1,600]
[90914,null,506.25,711,721,"羽刃风暴","飞鹤煽动翅膀，飞出{0}个羽毛对敌人照成{1}伤害",2,"icon_s9091","S9091",9091,"Boss_ShuGuai_TD",1,1,1,5,"1;700",1,{"$nulls":5},1,700,{"$nulls":6},"羽刃风暴·伍",null,700,1,700]
[90915,null,759.375,711,721,"羽刃风暴","飞鹤煽动翅膀，飞出{0}个羽毛对敌人照成{1}伤害",2,"icon_s9091","S9091",9091,"Boss_ShuGuai_TD",1,1,1,6,"1;800",1,{"$nulls":5},1,800,{"$nulls":6},"羽刃风暴·陆",null,800,1,800]
[]
[{"$f":"K611*10+P611-1","v":90920},null,100,711,721,"仙鹤朝露","随机为一名队友恢复{0}%生命值",2,{"$f":"CONCATENATE(\"icon_s\",K611)","v":"icon_s9092"},{"$f":"CONCATENATE(\"S\",K611)","v":"S9092"},9092,"Boss_ShuGuai_TD",1,1,1,1,{"$f":"_xlfn.TEXTJOIN(\";\",1,X611:AD611)","v":"20"},1,{"$nulls":5},20,{"$nulls":7},{"$f":"IF(F611=\"\",\"\",CONCATENATE(F611,\"·\",CHOOSE(P611,\"壹\",\"贰\",\"叁\",\"肆\",\"伍\",\"陆\")))","v":"仙鹤朝露·壹"},null,{"$f":"IF(A611=\"\",\"\",AI611*AJ611/(1-AK611-AL611))","v":0},{"$f":"X611","v":20},{"$f":"Y611","v":0},null,null,{"$f":"X611/100","v":0.2}]
[90921,null,{"$f":"C611*1.5","v":150},711,721,"仙鹤朝露","随机为一名队友恢复{0}%生命值",2,"icon_s9092","S9092",9092,"Boss_ShuGuai_TD",1,1,1,2,"30",1,{"$nulls":5},30,{"$nulls":7},"仙鹤朝露·贰",null,0,30,0,null,null,0.3]
[90922,null,225,711,721,"仙鹤朝露","随机为一名队友恢复{0}%生命值",2,"icon_s9092","S9092",9092,"Boss_ShuGuai_TD",1,1,1,3,"40",1,{"$nulls":5},40,{"$nulls":7},"仙鹤朝露·叁",null,0,40,0,null,null,0.4]
[90923,null,337.5,711,721,"仙鹤朝露","随机为一名队友恢复{0}%生命值",2,"icon_s9092","S9092",9092,"Boss_ShuGuai_TD",1,1,1,4,"50",1,{"$nulls":5},50,{"$nulls":7},"仙鹤朝露·肆",null,0,50,0,null,null,0.5]
[90924,null,506.25,711,721,"仙鹤朝露","随机为一名队友恢复{0}%生命值",2,"icon_s9092","S9092",9092,"Boss_ShuGuai_TD",1,1,1,5,"60",1,{"$nulls":5},60,{"$nulls":7},"仙鹤朝露·伍",null,0,60,0,null,null,0.6]
[90925,null,759.375,711,721,"仙鹤朝露","随机为一名队友恢复{0}%生命值",2,"icon_s9092","S9092",9092,"Boss_ShuGuai_TD",1,1,1,6,"70",1,{"$nulls":5},70,{"$nulls":7},"仙鹤朝露·陆",null,0,70,0,null,null,0.7]
[]
[{"$f":"K618*10+P618-1","v":91010},null,100,711,721,"狐火","狐狸从嘴中吐出{0}团狐火，对敌人照成{1}%伤害",2,{"$f":"CONCATENATE(\"icon_s\",K618)","v":"icon_s9101"},{"$f":"CONCATENATE(\"S\",K618)","v":"S9101"},9101,"Boss_ShuGuai_TD",1,1,1,1,{"$f":"_xlfn.TEXTJOIN(\";\",1,X618:AD618)","v":"1;300"},1,{"$nulls":5},1,300,{"$nulls":6},{"$f":"IF(F618=\"\",\"\",CONCATENATE(F618,\"·\",CHOOSE(P618,\"壹\",\"贰\",\"叁\",\"肆\",\"伍\",\"陆\")))","v":"狐火·壹"},null,{"$f":"IF(A618=\"\",\"\",AI618*AJ618/(1-AK618-AL618))","v":300},{"$f":"X618","v":1},{"$f":"Y618","v":300}]
[91011,null,{"$f":"C618*1.5","v":150},711,721,"狐火","狐狸从嘴中吐出{0}团狐火，对敌人照成{1}%伤害",2,"icon_s9101","S9101",9101,"Boss_ShuGuai_TD",1,1,1,2,"1;400",1,{"$nulls":5},1,400,{"$nulls":6},"狐火·贰",null,400,1,400]
[91012,null,225,711,721,"狐火","狐狸从嘴中吐出{0}团狐火，对敌人照成{1}%伤害",2,"icon_s9101","S9101",9101,"Boss_ShuGuai_TD",1,1,1,3,"1;500",1,{"$nulls":5},1,500,{"$nulls":6},"狐火·叁",null,500,1,500]
[91013,null,337.5,711,721,"狐火","狐狸从嘴中吐出{0}团狐火，对敌人照成{1}%伤害",2,"icon_s9101","S9101",9101,"Boss_ShuGuai_TD",1,1,1,4,"1;600",1,{"$nulls":5},1,600,{"$nulls":6},"狐火·肆",null,600,1,600]
[91014,null,506.25,711,721,"狐火","狐狸从嘴中吐出{0}团狐火，对敌人照成{1}%伤害",2,"icon_s9101","S9101",9101,"Boss_ShuGuai_TD",1,1,1,5,"1;700",1,{"$nulls":5},1,700,{"$nulls":6},"狐火·伍",null,700,1,700]
[91015,null,759.375,711,721,"狐火","狐狸从嘴中吐出{0}团狐火，对敌人照成{1}%伤害",2,"icon_s9101","S9101",9101,"Boss_ShuGuai_TD",1,1,1,6,"1;800",1,{"$nulls":5},1,800,{"$nulls":6},"狐火·陆",null,800,1,800]
[]
[{"$f":"K625*10+P625-1","v":91020},null,100,711,721,"灵狐渡厄","狐狸随机为队友清除一个debuff",2,{"$f":"CONCATENATE(\"icon_s\",K625)","v":"icon_s9102"},{"$f":"CONCATENATE(\"S\",K625)","v":"S9102"},9102,"Boss_ShuGuai_TD",1,1,1,1,{"$f":"_xlfn.TEXTJOIN(\";\",1,X625:AD625)","v":"1"},1,{"$nulls":5},1,{"$nulls":7},{"$f":"IF(F625=\"\",\"\",CONCATENATE(F625,\"·\",CHOOSE(P625,\"壹\",\"贰\",\"叁\",\"肆\",\"伍\",\"陆\")))","v":"灵狐渡厄·壹"},null,{"$f":"IF(A625=\"\",\"\",AI625*AJ625/(1-AK625-AL625))","v":0},{"$f":"X625","v":1},{"$f":"Y625","v":0}]
[91021,null,{"$f":"C625*1.5","v":150},711,721,"灵狐渡厄","狐狸随机为队友清除一个debuff",2,"icon_s9102","S9102",9102,"Boss_ShuGuai_TD",1,1,1,2,"1",1,{"$nulls":5},1,{"$nulls":7},"灵狐渡厄·贰",null,0,1,0]
[91022,null,225,711,721,"灵狐渡厄","狐狸随机为队友清除一个debuff",2,"icon_s9102","S9102",9102,"Boss_ShuGuai_TD",1,1,1,3,"1",1,{"$nulls":5},1,{"$nulls":7},"灵狐渡厄·叁",null,0,1,0]
[91023,null,337.5,711,721,"灵狐渡厄","狐狸随机为队友清除一个debuff",2,"icon_s9102","S9102",9102,"Boss_ShuGuai_TD",1,1,1,4,"1",1,{"$nulls":5},1,{"$nulls":7},"灵狐渡厄·肆",null,0,1,0]
[91024,null,506.25,711,721,"灵狐渡厄","狐狸随机为队友清除一个debuff",2,"icon_s9102","S9102",9102,"Boss_ShuGuai_TD",1,1,1,5,"1",1,{"$nulls":5},1,{"$nulls":7},"灵狐渡厄·伍",null,0,1,0]
[91025,null,759.375,711,721,"灵狐渡厄","狐狸随机为队友清除一个debuff",2,"icon_s9102","S9102",9102,"Boss_ShuGuai_TD",1,1,1,6,"1",1,{"$nulls":5},1,{"$nulls":7},"灵狐渡厄·陆",null,0,1,0]

{"sheet":"SkillPowerupConfig","index":1,"n_rows":65,"n_cols":13,"rows_kept":65,"cut":false,"hidden":false,"merged":[]}
["ID","MainPower","SkillPower1","LevelupItem","LevelupItemNum",{"$nulls":4},"PlayerLevelLimit"]
["int","float","float","int[]","int[]",{"$nulls":4},"int"]
[]
["等级","功法对拼标准强度","标准强度百分比","功法升级所需道具","攻击升级所需道具数量","道具1","数量1","道具2","数量2","升级所需境界",1.1225,100,100]
[1,100,100,{"$f":"_xlfn.TEXTJOIN(\";\",1,F5,H5)","v":"1001;1005"},{"$f":"_xlfn.TEXTJOIN(\";\",1,G5,I5)","v":"1125;188"},1001,{"$f":"ROUND(20*VLOOKUP(J5,[1]ResourceLevelConfig!$A:$G,3,FALSE)/8,0)","v":1125},1005,{"$f":"ROUND(50*VLOOKUP(J5,[1]ResourceLevelConfig!$A:$G,7,FALSE)/8,0)","v":188},6]
[2,{"$f":"ROUND(B5*K$4,2)","v":112.25},{"$f":"ROUND(C$5+(M$4*A5/60),2)","v":101.67},{"$f":"_xlfn.TEXTJOIN(\";\",1,F6,H6)","v":"1001;1005"},"1500;250",1001,{"$f":"ROUND(20*VLOOKUP(J6,[1]ResourceLevelConfig!$A:$G,3,FALSE)/8,0)","v":1500},1005,{"$f":"ROUND(50*VLOOKUP(J6,[1]ResourceLevelConfig!$A:$G,7,FALSE)/8,0)","v":250},11]
[3,{"$f":"ROUND(B6*K$4,2)","v":126},{"$f":"ROUND(C$5+(M$4*A6/60),2)","v":103.33},"1001;1005","1875;313",1001,{"$f":"ROUND(20*VLOOKUP(J7,[1]ResourceLevelConfig!$A:$G,3,FALSE)/8,0)","v":1875},1005,{"$f":"ROUND(50*VLOOKUP(J7,[1]ResourceLevelConfig!$A:$G,7,FALSE)/8,0)","v":313},16]
[4,141.44,105,"1001;1005","2250;375",1001,{"$f":"ROUND(20*VLOOKUP(J8,[1]ResourceLevelConfig!$A:$G,3,FALSE)/8,0)","v":2250},1005,{"$f":"ROUND(50*VLOOKUP(J8,[1]ResourceLevelConfig!$A:$G,7,FALSE)/8,0)","v":375},21]
[5,158.77,106.67,"1001;1005","2625;438",1001,{"$f":"ROUND(20*VLOOKUP(J9,[1]ResourceLevelConfig!$A:$G,3,FALSE)/8,0)","v":2625},1005,{"$f":"ROUND(50*VLOOKUP(J9,[1]ResourceLevelConfig!$A:$G,7,FALSE)/8,0)","v":438},26]
[6,178.22,108.33,"1001;1005","3000;500",1001,{"$f":"ROUND(20*VLOOKUP(J10,[1]ResourceLevelConfig!$A:$G,3,FALSE)/8,0)","v":3000},1005,{"$f":"ROUND(50*VLOOKUP(J10,[1]ResourceLevelConfig!$A:$G,7,FALSE)/8,0)","v":500},31]
[7,200.05,110,"1001;1005","3375;563",1001,{"$f":"ROUND(20*VLOOKUP(J11,[1]ResourceLevelConfig!$A:$G,3,FALSE)/8,0)","v":3375},1005,{"$f":"ROUND(50*VLOOKUP(J11,[1]ResourceLevelConfig!$A:$G,7,FALSE)/8,0)","v":563},36]
[8,224.56,111.67,"1001;1005","3750;625",1001,{"$f":"ROUND(20*VLOOKUP(J12,[1]ResourceLevelConfig!$A:$G,3,FALSE)/8,0)","v":3750},1005,{"$f":"ROUND(50*VLOOKUP(J12,[1]ResourceLevelConfig!$A:$G,7,FALSE)/8,0)","v":625},41]
[9,252.07,113.33,"1001;1005","4140;688",1001,{"$f":"ROUND(20*VLOOKUP(J13,[1]ResourceLevelConfig!$A:$G,3,FALSE)/8,0)","v":4140},1005,{"$f":"ROUND(50*VLOOKUP(J13,[1]ResourceLevelConfig!$A:$G,7,FALSE)/8,0)","v":688},46]
[10,282.95,115,"1001;1005","4570;750",1001,{"$f":"ROUND(20*VLOOKUP(J14,[1]ResourceLevelConfig!$A:$G,3,FALSE)/8,0)","v":4570},1005,{"$f":"ROUND(50*VLOOKUP(J14,[1]ResourceLevelConfig!$A:$G,7,FALSE)/8,0)","v":750},51]
[11,317.61,116.67,"1001;1005","5048;825",1001,{"$f":"ROUND(20*VLOOKUP(J15,[1]ResourceLevelConfig!$A:$G,3,FALSE)/8,0)","v":5048},1005,{"$f":"ROUND(50*VLOOKUP(J15,[1]ResourceLevelConfig!$A:$G,7,FALSE)/8,0)","v":825},56]
[12,356.52,118.33,"1001;1005","5573;919",1001,{"$f":"ROUND(20*VLOOKUP(J16,[1]ResourceLevelConfig!$A:$G,3,FALSE)/8,0)","v":5573},1005,{"$f":"ROUND(50*VLOOKUP(J16,[1]ResourceLevelConfig!$A:$G,7,FALSE)/8,0)","v":919},61]
[13,400.19,120,"1001;1005","6150;1013",1001,{"$f":"ROUND(20*VLOOKUP(J17,[1]ResourceLevelConfig!$A:$G,3,FALSE)/8,0)","v":6150},1005,{"$f":"ROUND(50*VLOOKUP(J17,[1]ResourceLevelConfig!$A:$G,7,FALSE)/8,0)","v":1013},66]
[14,449.21,121.67,"1001;1005","6788;1106",1001,{"$f":"ROUND(20*VLOOKUP(J18,[1]ResourceLevelConfig!$A:$G,3,FALSE)/8,0)","v":6788},1005,{"$f":"ROUND(50*VLOOKUP(J18,[1]ResourceLevelConfig!$A:$G,7,FALSE)/8,0)","v":1106},71]
[15,504.24,123.33,"1001;1005","7493;1231",1001,{"$f":"ROUND(20*VLOOKUP(J19,[1]ResourceLevelConfig!$A:$G,3,FALSE)/8,0)","v":7493},1005,{"$f":"ROUND(50*VLOOKUP(J19,[1]ResourceLevelConfig!$A:$G,7,FALSE)/8,0)","v":1231},76]
[16,566.01,125,"1001;1005","8273;1356",1001,{"$f":"ROUND(20*VLOOKUP(J20,[1]ResourceLevelConfig!$A:$G,3,FALSE)/8,0)","v":8273},1005,{"$f":"ROUND(50*VLOOKUP(J20,[1]ResourceLevelConfig!$A:$G,7,FALSE)/8,0)","v":1356},81]
[17,635.35,126.67,"1001;1005","9135;1500",1001,{"$f":"ROUND(20*VLOOKUP(J21,[1]ResourceLevelConfig!$A:$G,3,FALSE)/8,0)","v":9135},1005,{"$f":"ROUND(50*VLOOKUP(J21,[1]ResourceLevelConfig!$A:$G,7,FALSE)/8,0)","v":1500},86]
[18,713.18,128.33,"1001;1005","10088;1656",1001,{"$f":"ROUND(20*VLOOKUP(J22,[1]ResourceLevelConfig!$A:$G,3,FALSE)/8,0)","v":10088},1005,{"$f":"ROUND(50*VLOOKUP(J22,[1]ResourceLevelConfig!$A:$G,7,FALSE)/8,0)","v":1656},91]
[19,800.54,130,"1001;1005","11138;1831",1001,{"$f":"ROUND(20*VLOOKUP(J23,[1]ResourceLevelConfig!$A:$G,3,FALSE)/8,0)","v":11138},1005,{"$f":"ROUND(50*VLOOKUP(J23,[1]ResourceLevelConfig!$A:$G,7,FALSE)/8,0)","v":1831},96]
[20,898.61,131.67,"1001;1005","12298;2019",1001,{"$f":"ROUND(20*VLOOKUP(J24,[1]ResourceLevelConfig!$A:$G,3,FALSE)/8,0)","v":12298},1005,{"$f":"ROUND(50*VLOOKUP(J24,[1]ResourceLevelConfig!$A:$G,7,FALSE)/8,0)","v":2019},101]
[21,1008.69,133.33,"1001;1005","13573;2231",1001,{"$f":"ROUND(20*VLOOKUP(J25,[1]ResourceLevelConfig!$A:$G,3,FALSE)/8,0)","v":13573},1005,{"$f":"ROUND(50*VLOOKUP(J25,[1]ResourceLevelConfig!$A:$G,7,FALSE)/8,0)","v":2231},106]
[22,1132.25,135,"1001;1005","14988;2463",1001,{"$f":"ROUND(20*VLOOKUP(J26,[1]ResourceLevelConfig!$A:$G,3,FALSE)/8,0)","v":14988},1005,{"$f":"ROUND(50*VLOOKUP(J26,[1]ResourceLevelConfig!$A:$G,7,FALSE)/8,0)","v":2463},111]
[23,1270.95,136.67,"1001;1005","16548;2719",1001,{"$f":"ROUND(20*VLOOKUP(J27,[1]ResourceLevelConfig!$A:$G,3,FALSE)/8,0)","v":16548},1005,{"$f":"ROUND(50*VLOOKUP(J27,[1]ResourceLevelConfig!$A:$G,7,FALSE)/8,0)","v":2719},116]
[24,1426.64,138.33,"1001;1005","18268;3000",1001,{"$f":"ROUND(20*VLOOKUP(J28,[1]ResourceLevelConfig!$A:$G,3,FALSE)/8,0)","v":18268},1005,{"$f":"ROUND(50*VLOOKUP(J28,[1]ResourceLevelConfig!$A:$G,7,FALSE)/8,0)","v":3000},121]
[25,1601.4,140,"1001;1005","20168;3313",1001,{"$f":"ROUND(20*VLOOKUP(J29,[1]ResourceLevelConfig!$A:$G,3,FALSE)/8,0)","v":20168},1005,{"$f":"ROUND(50*VLOOKUP(J29,[1]ResourceLevelConfig!$A:$G,7,FALSE)/8,0)","v":3313},126]
[26,1797.57,141.67,"1001;1005","22268;3656",1001,{"$f":"ROUND(20*VLOOKUP(J30,[1]ResourceLevelConfig!$A:$G,3,FALSE)/8,0)","v":22268},1005,{"$f":"ROUND(50*VLOOKUP(J30,[1]ResourceLevelConfig!$A:$G,7,FALSE)/8,0)","v":3656},131]
[27,2017.77,143.33,"1001;1005","24585;4038",1001,{"$f":"ROUND(20*VLOOKUP(J31,[1]ResourceLevelConfig!$A:$G,3,FALSE)/8,0)","v":24585},1005,{"$f":"ROUND(50*VLOOKUP(J31,[1]ResourceLevelConfig!$A:$G,7,FALSE)/8,0)","v":4038},136]
[28,2264.95,145,"1001;1005","27148;4456",1001,{"$f":"ROUND(20*VLOOKUP(J32,[1]ResourceLevelConfig!$A:$G,3,FALSE)/8,0)","v":27148},1005,{"$f":"ROUND(50*VLOOKUP(J32,[1]ResourceLevelConfig!$A:$G,7,FALSE)/8,0)","v":4456},141]
[29,2542.41,146.67,"1001;1005","29973;4919",1001,{"$f":"ROUND(20*VLOOKUP(J33,[1]ResourceLevelConfig!$A:$G,3,FALSE)/8,0)","v":29973},1005,{"$f":"ROUND(50*VLOOKUP(J33,[1]ResourceLevelConfig!$A:$G,7,FALSE)/8,0)","v":4919},146]
[30,2853.86,148.33,"1001;1005","33093;5431",1001,{"$f":"ROUND(20*VLOOKUP(J34,[1]ResourceLevelConfig!$A:$G,3,FALSE)/8,0)","v":33093},1005,{"$f":"ROUND(50*VLOOKUP(J34,[1]ResourceLevelConfig!$A:$G,7,FALSE)/8,0)","v":5431},151]
[31,3203.46,150,"1001;1005","36538;5994",1001,{"$f":"ROUND(20*VLOOKUP(J35,[1]ResourceLevelConfig!$A:$G,3,FALSE)/8,0)","v":36538},1005,{"$f":"ROUND(50*VLOOKUP(J35,[1]ResourceLevelConfig!$A:$G,7,FALSE)/8,0)","v":5994},156]
[32,3595.88,151.67,"1001;1005","40338;6619",1001,{"$f":"ROUND(20*VLOOKUP(J36,[1]ResourceLevelConfig!$A:$G,3,FALSE)/8,0)","v":40338},1005,{"$f":"ROUND(50*VLOOKUP(J36,[1]ResourceLevelConfig!$A:$G,7,FALSE)/8,0)","v":6619},161]
[33,4036.38,153.33,"1001;1005","44535;7306",1001,{"$f":"ROUND(20*VLOOKUP(J37,[1]ResourceLevelConfig!$A:$G,3,FALSE)/8,0)","v":44535},1005,{"$f":"ROUND(50*VLOOKUP(J37,[1]ResourceLevelConfig!$A:$G,7,FALSE)/8,0)","v":7306},166]
[34,4530.84,155,"1001;1005","49170;8063",1001,{"$f":"ROUND(20*VLOOKUP(J38,[1]ResourceLevelConfig!$A:$G,3,FALSE)/8,0)","v":49170},1005,{"$f":"ROUND(50*VLOOKUP(J38,[1]ResourceLevelConfig!$A:$G,7,FALSE)/8,0)","v":8063},171]
[35,5085.87,156.67,"1001;1005","54285;8900",1001,{"$f":"ROUND(20*VLOOKUP(J39,[1]ResourceLevelConfig!$A:$G,3,FALSE)/8,0)","v":54285},1005,{"$f":"ROUND(50*VLOOKUP(J39,[1]ResourceLevelConfig!$A:$G,7,FALSE)/8,0)","v":8900},176]
[36,5708.89,158.33,"1001;1005","59935;9825",1001,{"$f":"ROUND(20*VLOOKUP(J40,[1]ResourceLevelConfig!$A:$G,3,FALSE)/8,0)","v":59935},1005,{"$f":"ROUND(50*VLOOKUP(J40,[1]ResourceLevelConfig!$A:$G,7,FALSE)/8,0)","v":9825},181]
[37,6408.23,160,"1001;1005","66173;10844",1001,{"$f":"ROUND(20*VLOOKUP(J41,[1]ResourceLevelConfig!$A:$G,3,FALSE)/8,0)","v":66173},1005,{"$f":"ROUND(50*VLOOKUP(J41,[1]ResourceLevelConfig!$A:$G,7,FALSE)/8,0)","v":10844},186]
[38,7193.24,161.67,"1001;1005","73060;11975",1001,{"$f":"ROUND(20*VLOOKUP(J42,[1]ResourceLevelConfig!$A:$G,3,FALSE)/8,0)","v":73060},1005,{"$f":"ROUND(50*VLOOKUP(J42,[1]ResourceLevelConfig!$A:$G,7,FALSE)/8,0)","v":11975},191]
[39,8074.41,163.33,"1001;1005","80663;13219",1001,{"$f":"ROUND(20*VLOOKUP(J43,[1]ResourceLevelConfig!$A:$G,3,FALSE)/8,0)","v":80663},1005,{"$f":"ROUND(50*VLOOKUP(J43,[1]ResourceLevelConfig!$A:$G,7,FALSE)/8,0)","v":13219},196]
[40,9063.53,165,"1001;1005","89055;14594",1001,{"$f":"ROUND(20*VLOOKUP(J44,[1]ResourceLevelConfig!$A:$G,3,FALSE)/8,0)","v":89055},1005,{"$f":"ROUND(50*VLOOKUP(J44,[1]ResourceLevelConfig!$A:$G,7,FALSE)/8,0)","v":14594},201]
[41,10173.81,166.67,"1001;1005","98323;16125",1001,{"$f":"ROUND(20*VLOOKUP(J45,[1]ResourceLevelConfig!$A:$G,3,FALSE)/8,0)","v":98323},1005,{"$f":"ROUND(50*VLOOKUP(J45,[1]ResourceLevelConfig!$A:$G,7,FALSE)/8,0)","v":16125},206]
[42,11420.1,168.33,"1001;1005","108555;17813",1001,{"$f":"ROUND(20*VLOOKUP(J46,[1]ResourceLevelConfig!$A:$G,3,FALSE)/8,0)","v":108555},1005,{"$f":"ROUND(50*VLOOKUP(J46,[1]ResourceLevelConfig!$A:$G,7,FALSE)/8,0)","v":17813},211]
[43,12819.06,170,"1001;1005","119855;19663",1001,{"$f":"ROUND(20*VLOOKUP(J47,[1]ResourceLevelConfig!$A:$G,3,FALSE)/8,0)","v":119855},1005,{"$f":"ROUND(50*VLOOKUP(J47,[1]ResourceLevelConfig!$A:$G,7,FALSE)/8,0)","v":19663},216]
[44,14389.39,171.67,"1001;1005","132333;21706",1001,{"$f":"ROUND(20*VLOOKUP(J48,[1]ResourceLevelConfig!$A:$G,3,FALSE)/8,0)","v":132333},1005,{"$f":"ROUND(50*VLOOKUP(J48,[1]ResourceLevelConfig!$A:$G,7,FALSE)/8,0)","v":21706},221]
[45,16152.09,173.33,"1001;1005","146105;23963",1001,{"$f":"ROUND(20*VLOOKUP(J49,[1]ResourceLevelConfig!$A:$G,3,FALSE)/8,0)","v":146105},1005,{"$f":"ROUND(50*VLOOKUP(J49,[1]ResourceLevelConfig!$A:$G,7,FALSE)/8,0)","v":23963},226]
[46,18130.72,175,"1001;1005","161310;26456",1001,{"$f":"ROUND(20*VLOOKUP(J50,[1]ResourceLevelConfig!$A:$G,3,FALSE)/8,0)","v":161310},1005,{"$f":"ROUND(50*VLOOKUP(J50,[1]ResourceLevelConfig!$A:$G,7,FALSE)/8,0)","v":26456},231]
[47,20351.73,176.67,"1001;1005","178098;29213",1001,{"$f":"ROUND(20*VLOOKUP(J51,[1]ResourceLevelConfig!$A:$G,3,FALSE)/8,0)","v":178098},1005,{"$f":"ROUND(50*VLOOKUP(J51,[1]ResourceLevelConfig!$A:$G,7,FALSE)/8,0)","v":29213},236]
[48,22844.82,178.33,"1001;1005","196633;32244",1001,{"$f":"ROUND(20*VLOOKUP(J52,[1]ResourceLevelConfig!$A:$G,3,FALSE)/8,0)","v":196633},1005,{"$f":"ROUND(50*VLOOKUP(J52,[1]ResourceLevelConfig!$A:$G,7,FALSE)/8,0)","v":32244},241]
[49,25643.31,180,"1001;1005","217100;35594",1001,{"$f":"ROUND(20*VLOOKUP(J53,[1]ResourceLevelConfig!$A:$G,3,FALSE)/8,0)","v":217100},1005,{"$f":"ROUND(50*VLOOKUP(J53,[1]ResourceLevelConfig!$A:$G,7,FALSE)/8,0)","v":35594},246]
[50,28784.62,181.67,"1001;1005","239698;39300",1001,{"$f":"ROUND(20*VLOOKUP(J54,[1]ResourceLevelConfig!$A:$G,3,FALSE)/8,0)","v":239698},1005,{"$f":"ROUND(50*VLOOKUP(J54,[1]ResourceLevelConfig!$A:$G,7,FALSE)/8,0)","v":39300},251]
[51,32310.74,183.33,"1001;1005","264648;43388",1001,{"$f":"ROUND(20*VLOOKUP(J55,[1]ResourceLevelConfig!$A:$G,3,FALSE)/8,0)","v":264648},1005,{"$f":"ROUND(50*VLOOKUP(J55,[1]ResourceLevelConfig!$A:$G,7,FALSE)/8,0)","v":43388},256]
[52,36268.81,185,"1001;1005","292195;47900",1001,{"$f":"ROUND(20*VLOOKUP(J56,[1]ResourceLevelConfig!$A:$G,3,FALSE)/8,0)","v":292195},1005,{"$f":"ROUND(50*VLOOKUP(J56,[1]ResourceLevelConfig!$A:$G,7,FALSE)/8,0)","v":47900},261]
[53,40711.74,186.67,"1001;1005","322608;52881",1001,{"$f":"ROUND(20*VLOOKUP(J57,[1]ResourceLevelConfig!$A:$G,3,FALSE)/8,0)","v":322608},1005,{"$f":"ROUND(50*VLOOKUP(J57,[1]ResourceLevelConfig!$A:$G,7,FALSE)/8,0)","v":52881},266]
[54,45698.93,188.33,"1001;1005","356185;58388",1001,{"$f":"ROUND(20*VLOOKUP(J58,[1]ResourceLevelConfig!$A:$G,3,FALSE)/8,0)","v":356185},1005,{"$f":"ROUND(50*VLOOKUP(J58,[1]ResourceLevelConfig!$A:$G,7,FALSE)/8,0)","v":58388},271]
[55,51297.05,190,"1001;1005","393255;64463",1001,{"$f":"ROUND(20*VLOOKUP(J59,[1]ResourceLevelConfig!$A:$G,3,FALSE)/8,0)","v":393255},1005,{"$f":"ROUND(50*VLOOKUP(J59,[1]ResourceLevelConfig!$A:$G,7,FALSE)/8,0)","v":64463},276]
[56,57580.94,191.67,"1001;1005","434185;71169",1001,{"$f":"ROUND(20*VLOOKUP(J60,[1]ResourceLevelConfig!$A:$G,3,FALSE)/8,0)","v":434185},1005,{"$f":"ROUND(50*VLOOKUP(J60,[1]ResourceLevelConfig!$A:$G,7,FALSE)/8,0)","v":71169},281]
[57,64634.61,193.33,"1001;1005","479375;78581",1001,{"$f":"ROUND(20*VLOOKUP(J61,[1]ResourceLevelConfig!$A:$G,3,FALSE)/8,0)","v":479375},1005,{"$f":"ROUND(50*VLOOKUP(J61,[1]ResourceLevelConfig!$A:$G,7,FALSE)/8,0)","v":78581},286]
[58,72552.35,195,"1001;1005","529270;86756",1001,{"$f":"ROUND(20*VLOOKUP(J62,[1]ResourceLevelConfig!$A:$G,3,FALSE)/8,0)","v":529270},1005,{"$f":"ROUND(50*VLOOKUP(J62,[1]ResourceLevelConfig!$A:$G,7,FALSE)/8,0)","v":86756},291]
[59,81440.01,196.67,"1001;1005","584355;95794",1001,{"$f":"ROUND(20*VLOOKUP(J63,[1]ResourceLevelConfig!$A:$G,3,FALSE)/8,0)","v":584355},1005,{"$f":"ROUND(50*VLOOKUP(J63,[1]ResourceLevelConfig!$A:$G,7,FALSE)/8,0)","v":95794},296]
[60,91416.41,198.33,"1001;1005","632525;103694",1001,{"$f":"ROUND(20*VLOOKUP(J64,[1]ResourceLevelConfig!$A:$G,3,FALSE)/8,0)","v":632525},1005,{"$f":"ROUND(50*VLOOKUP(J64,[1]ResourceLevelConfig!$A:$G,7,FALSE)/8,0)","v":103694},300]
[61,{"$f":"ROUND(B64*K$4,2)","v":102614.92},200,"1001;1005","9999999;999999",1001,9999999,1005,999999,-1]

{"sheet":"SkillConstant","index":2,"n_rows":18,"n_cols":12,"rows_kept":18,"cut":false,"hidden":false,"merged":[]}
["ID",null,"SkilltoPieceNum","SkillPromoteNeedPieceNum"]
["int",null,"int[]","int[]"]
[]
[null,null,"重复功法自动转碎片的数量","功法升到对应星级所需碎片数量"]
[1,null,{"$f":"_xlfn.TEXTJOIN(\";\",1,C8:C17)","v":"1;5;20;100;200;300;500;700;1000;1300"},{"$f":"_xlfn.TEXTJOIN(\";\",1,1,D8:D16)","v":"1;4;15;80;100;100;200;200;300;300"}]
[{"$nulls":4},"升星所需数量"]
[null,null,"碎片数量","升星所需碎片","1星","2星","3星","4星","权重","标准概率","预设概率"]
[null,1,1,{"$f":"C9-C8","v":4},{"$f":"D8/C$8","v":4},null,null,null,{"$f":"C$8*C$9*C$10*C$11/C8","v":10000},{"$f":"I8/SUM(I$8:I$11)","v":0.793650793650794},{"$f":"1-SUM(K9:K11)","v":0.825}]
[null,2,5,{"$f":"C10-C9","v":15},{"$f":"D9/C$8","v":15},{"$f":"D9/C$9","v":3},null,null,{"$f":"C$8*C$9*C$10*C$11/C9","v":2000},{"$f":"I9/SUM(I$8:I$11)","v":0.158730158730159},0.14,{"$f":"K9/J9","v":0.882}]
[null,3,20,80,80,{"$f":"D10/C$9","v":16},{"$f":"D10/C$10","v":4},null,500,0.0396825396825397,0.03,0.756]
[null,4,100,100,100,20,{"$f":"D11/C$10","v":5},{"$f":"D11/C$11","v":1},100,0.00793650793650794,0.005,0.63]
[null,5,200,100,100,20,5,{"$f":"D12/C$11","v":1}]
[null,6,{"$f":"C12+D12","v":300},200,200,40,10,2]
[null,7,{"$f":"C13+D13","v":500},200,200,40,10,2]
[null,8,700,300,300,60,15,3]
[null,9,1000,300,300,60,15,3]
[null,10,1300]
[{"$nulls":4},{"$f":"SUM(E8:E16)+1","v":1300},{"$f":"SUM(F8:F16)+1","v":260},{"$f":"SUM(G8:G16)+1","v":65},{"$f":"SUM(H8:H16)+1","v":13}]

{"sheet":"技能设计","index":3,"n_rows":41,"n_cols":27,"rows_kept":41,"cut":false,"hidden":false,"merged":[]}
[null,null,"生命","攻击","防御",null,"金","水","木","火","土"]
[null,"星级",101,102,103,null,106,107,108,109,110]
["0星",1,{"$f":"SUMIFS(SkillConfig!AO5:AO10095,SkillConfig!$A5:$A10095,\"<>\"&\"\",SkillConfig!$P5:$P10095,$B3)","v":0},{"$f":"SUMIFS(SkillConfig!AP5:AP10095,SkillConfig!$A5:$A10095,\"<>\"&\"\",SkillConfig!$P5:$P10095,$B3)","v":0},{"$f":"SUMIFS(SkillConfig!AQ5:AQ10095,SkillConfig!$A5:$A10095,\"<>\"&\"\",SkillConfig!$P5:$P10095,$B3)","v":0},null,{"$f":"SUMIFS(SkillConfig!AR5:AR10095,SkillConfig!$A5:$A10095,\"<>\"&\"\",SkillConfig!$P5:$P10095,$B3)","v":0},{"$f":"SUMIFS(SkillConfig!AS5:AS10095,SkillConfig!$A5:$A10095,\"<>\"&\"\",SkillConfig!$P5:$P10095,$B3)","v":0},{"$f":"SUMIFS(SkillConfig!AT5:AT10095,SkillConfig!$A5:$A10095,\"<>\"&\"\",SkillConfig!$P5:$P10095,$B3)","v":0},{"$f":"SUMIFS(SkillConfig!AU5:AU10095,SkillConfig!$A5:$A10095,\"<>\"&\"\",SkillConfig!$P5:$P10095,$B3)","v":0},{"$f":"SUMIFS(SkillConfig!AV5:AV10095,SkillConfig!$A5:$A10095,\"<>\"&\"\",SkillConfig!$P5:$P10095,$B3)","v":0}]
["1星",2,{"$f":"SUMIFS(SkillConfig!AO6:AO10096,SkillConfig!$A6:$A10096,\"<>\"&\"\",SkillConfig!$P6:$P10096,$B4)","v":21},{"$f":"SUMIFS(SkillConfig!AP6:AP10096,SkillConfig!$A6:$A10096,\"<>\"&\"\",SkillConfig!$P6:$P10096,$B4)","v":62},{"$f":"SUMIFS(SkillConfig!AQ6:AQ10096,SkillConfig!$A6:$A10096,\"<>\"&\"\",SkillConfig!$P6:$P10096,$B4)","v":24},null,{"$f":"SUMIFS(SkillConfig!AR6:AR10096,SkillConfig!$A6:$A10096,\"<>\"&\"\",SkillConfig!$P6:$P10096,$B4)","v":5},{"$f":"SUMIFS(SkillConfig!AS6:AS10096,SkillConfig!$A6:$A10096,\"<>\"&\"\",SkillConfig!$P6:$P10096,$B4)","v":0},{"$f":"SUMIFS(SkillConfig!AT6:AT10096,SkillConfig!$A6:$A10096,\"<>\"&\"\",SkillConfig!$P6:$P10096,$B4)","v":5},{"$f":"SUMIFS(SkillConfig!AU6:AU10096,SkillConfig!$A6:$A10096,\"<>\"&\"\",SkillConfig!$P6:$P10096,$B4)","v":5},{"$f":"SUMIFS(SkillConfig!AV6:AV10096,SkillConfig!$A6:$A10096,\"<>\"&\"\",SkillConfig!$P6:$P10096,$B4)","v":0}]
["2星",3,{"$f":"SUMIFS(SkillConfig!AO7:AO10097,SkillConfig!$A7:$A10097,\"<>\"&\"\",SkillConfig!$P7:$P10097,$B5)","v":77},{"$f":"SUMIFS(SkillConfig!AP7:AP10097,SkillConfig!$A7:$A10097,\"<>\"&\"\",SkillConfig!$P7:$P10097,$B5)","v":139},{"$f":"SUMIFS(SkillConfig!AQ7:AQ10097,SkillConfig!$A7:$A10097,\"<>\"&\"\",SkillConfig!$P7:$P10097,$B5)","v":78},null,{"$f":"SUMIFS(SkillConfig!AR7:AR10097,SkillConfig!$A7:$A10097,\"<>\"&\"\",SkillConfig!$P7:$P10097,$B5)","v":5},{"$f":"SUMIFS(SkillConfig!AS7:AS10097,SkillConfig!$A7:$A10097,\"<>\"&\"\",SkillConfig!$P7:$P10097,$B5)","v":5},{"$f":"SUMIFS(SkillConfig!AT7:AT10097,SkillConfig!$A7:$A10097,\"<>\"&\"\",SkillConfig!$P7:$P10097,$B5)","v":10},{"$f":"SUMIFS(SkillConfig!AU7:AU10097,SkillConfig!$A7:$A10097,\"<>\"&\"\",SkillConfig!$P7:$P10097,$B5)","v":10},{"$f":"SUMIFS(SkillConfig!AV7:AV10097,SkillConfig!$A7:$A10097,\"<>\"&\"\",SkillConfig!$P7:$P10097,$B5)","v":5}]
["3星",4,{"$f":"SUMIFS(SkillConfig!AO8:AO10098,SkillConfig!$A8:$A10098,\"<>\"&\"\",SkillConfig!$P8:$P10098,$B6)","v":103},{"$f":"SUMIFS(SkillConfig!AP8:AP10098,SkillConfig!$A8:$A10098,\"<>\"&\"\",SkillConfig!$P8:$P10098,$B6)","v":211},{"$f":"SUMIFS(SkillConfig!AQ8:AQ10098,SkillConfig!$A8:$A10098,\"<>\"&\"\",SkillConfig!$P8:$P10098,$B6)","v":102},null,{"$f":"SUMIFS(SkillConfig!AR8:AR10098,SkillConfig!$A8:$A10098,\"<>\"&\"\",SkillConfig!$P8:$P10098,$B6)","v":10},{"$f":"SUMIFS(SkillConfig!AS8:AS10098,SkillConfig!$A8:$A10098,\"<>\"&\"\",SkillConfig!$P8:$P10098,$B6)","v":5},{"$f":"SUMIFS(SkillConfig!AT8:AT10098,SkillConfig!$A8:$A10098,\"<>\"&\"\",SkillConfig!$P8:$P10098,$B6)","v":10},{"$f":"SUMIFS(SkillConfig!AU8:AU10098,SkillConfig!$A8:$A10098,\"<>\"&\"\",SkillConfig!$P8:$P10098,$B6)","v":10},{"$f":"SUMIFS(SkillConfig!AV8:AV10098,SkillConfig!$A8:$A10098,\"<>\"&\"\",SkillConfig!$P8:$P10098,$B6)","v":5}]
["4星",5,{"$f":"SUMIFS(SkillConfig!AO9:AO10099,SkillConfig!$A9:$A10099,\"<>\"&\"\",SkillConfig!$P9:$P10099,$B7)","v":159},{"$f":"SUMIFS(SkillConfig!AP9:AP10099,SkillConfig!$A9:$A10099,\"<>\"&\"\",SkillConfig!$P9:$P10099,$B7)","v":288},{"$f":"SUMIFS(SkillConfig!AQ9:AQ10099,SkillConfig!$A9:$A10099,\"<>\"&\"\",SkillConfig!$P9:$P10099,$B7)","v":151},null,{"$f":"SUMIFS(SkillConfig!AR9:AR10099,SkillConfig!$A9:$A10099,\"<>\"&\"\",SkillConfig!$P9:$P10099,$B7)","v":10},{"$f":"SUMIFS(SkillConfig!AS9:AS10099,SkillConfig!$A9:$A10099,\"<>\"&\"\",SkillConfig!$P9:$P10099,$B7)","v":10},{"$f":"SUMIFS(SkillConfig!AT9:AT10099,SkillConfig!$A9:$A10099,\"<>\"&\"\",SkillConfig!$P9:$P10099,$B7)","v":20},{"$f":"SUMIFS(SkillConfig!AU9:AU10099,SkillConfig!$A9:$A10099,\"<>\"&\"\",SkillConfig!$P9:$P10099,$B7)","v":20},{"$f":"SUMIFS(SkillConfig!AV9:AV10099,SkillConfig!$A9:$A10099,\"<>\"&\"\",SkillConfig!$P9:$P10099,$B7)","v":10}]
["5星",6,{"$f":"SUMIFS(SkillConfig!AO10:AO10100,SkillConfig!$A10:$A10100,\"<>\"&\"\",SkillConfig!$P10:$P10100,$B8)","v":174},{"$f":"SUMIFS(SkillConfig!AP10:AP10100,SkillConfig!$A10:$A10100,\"<>\"&\"\",SkillConfig!$P10:$P10100,$B8)","v":308},{"$f":"SUMIFS(SkillConfig!AQ10:AQ10100,SkillConfig!$A10:$A10100,\"<>\"&\"\",SkillConfig!$P10:$P10100,$B8)","v":166},null,{"$f":"SUMIFS(SkillConfig!AR10:AR10100,SkillConfig!$A10:$A10100,\"<>\"&\"\",SkillConfig!$P10:$P10100,$B8)","v":10},{"$f":"SUMIFS(SkillConfig!AS10:AS10100,SkillConfig!$A10:$A10100,\"<>\"&\"\",SkillConfig!$P10:$P10100,$B8)","v":10},{"$f":"SUMIFS(SkillConfig!AT10:AT10100,SkillConfig!$A10:$A10100,\"<>\"&\"\",SkillConfig!$P10:$P10100,$B8)","v":20},{"$f":"SUMIFS(SkillConfig!AU10:AU10100,SkillConfig!$A10:$A10100,\"<>\"&\"\",SkillConfig!$P10:$P10100,$B8)","v":20},{"$f":"SUMIFS(SkillConfig!AV10:AV10100,SkillConfig!$A10:$A10100,\"<>\"&\"\",SkillConfig!$P10:$P10100,$B8)","v":10}]
{"$rows_empty":9}
[{"$nulls":25},"金","高速，低伤害"]
[{"$nulls":12},20,{"$nulls":8},"血祭神通","为所有流血状态附加上血祭，\n流血带来的伤害会充能血祭，充能满后\n对敌人照成大量伤害",null,null,null,"流血"]
[{"$nulls":21},"金煞决\n","前方功法对敌人照成伤害时额外附加一层流血",null,null,null,"放血"]
[]
[]
[]
[{"$nulls":21},"毒瘴领域\n","前方功法在击中目标时，额外施加 一层毒，对流血中的目标额外施加一层\n",null,null,"木","高范围，高异常伤害"]
[{"$nulls":21},"毒爆\n","后方功法击中目标后让目标身上\n的毒气爆炸开来，对目标照成额外的20%伤害，如果范围内其敌人也有毒，则对其他敌人照成等额的伤害",null,null,null,"毒"]
[]
[{"$nulls":21},"异常转移","对目标照成的以上状态有20%概率转移到\n周围的敌人身上"]
[]
[{"$nulls":21},"阴水","后方水系功法会让目标沾染上水，如果目标身上有寒气则会让会\n变为冰冻值，冰冻值满后会冰冻住敌人，敌人受到灼烧的概率下降50%",null,null,"水","高控"]
[{"$nulls":26},"寒气"]
[{"$nulls":26},"控制"]
[]
[]
[{"$nulls":21},"灵油\n\n\n","后方功法附加上灵气汇聚的油，\n火属性功法提升30%伤害，额外获得3层灼烧\n\n",null,null,"火","高爆发，高伤害"]
[{"$nulls":26},"燃烧"]
[]
[]
[]
[{"$nulls":21},"厚土护体\n\n","每使用一个土系功法获得3点土系值\n，土系值达到100时获得20%防御，持续10秒，每对敌人施加一次细尘额外获得1点",null,null,"土","高防"]
[{"$nulls":21},"金沙","后方功法命中目标额外施加1层土沙，命中目标后将敌人的土沙升级为金沙，效果提升20%\n",null,null,null,"加防"]
[{"$nulls":26},"减防"]