{"text_format":"2","workbook":"xlsx","n_sheets":7,"sheets":["EventConfig","EventLinkConfig","EventConditionConfig","条件类型查询","产出tag查询","EventNPC","XianTuLogConfig"],"not_rendered":{"charts":0,"images":0,"macros":0,"external_links":0,"defined_names":4,"comments":0,"pivot_tables":0},"unopened":[],"bounds":{"document_bytes":16777216,"sheet_cells":100000,"run_cost":"one","rows_first":2000,"rows_last":500,"rows_between":2000,"halvings":0,"cell_chars":16384,"cell_head_chars":4096},"cells_cut":0,"cells_raw":0,"read":"whole","date_system":"1900"}

{"sheet":"EventConfig","index":0,"n_rows":166,"n_cols":47,"rows_kept":166,"cut":false,"hidden":false,"merged":[]}
["ID","EventLinksId","EventTriggerType","EventTag","EventType","Score","EventQuality","PrizeType","PrizeIDs","PrizeNums","RefreshProbability","RefreshCount","placeID","XiantuID",{"$f":"SUMIF(C:C,2,K:K)","v":0},"EventConditionId","EventValue","EventCount","EventName","Description"]
["int","int[]","int","int","int","int","int","int[]","int[]","int[]","int","int","int","int",null,"int","int[]","int","int","int"]
[{"$nulls":20},"语言表最大值",{"$f":"MAX(S:T)","v":4243},null,1,2,3,4,5,6,7,8,9,10,11,12,13,14,15,16,17,18,19,20]
["ID","事件包含的ID","事件类型：\n1.通用事件\n2.挂机事件\n4.主线任务\n5.仙山探险\n6.支线事件\n88.特定任务触发的事件\n99.无标记\n","tag\n1主线2支线\n3通用\n4地图通用\n5道友6任务\n7资源","1.正常触发\n2.直接结算","增加进度值","事件品质","产出tag\n在辅助表查询","事件结局奖励","事件结局奖励数量","刷新的概率\n（100=100%）","最大刷新数量","属于哪张地图","仙途日志ID","触发条件","触发条件类型\n只能配处于什么状态和数值，不能配变化的数值","触发效果值","触发判定数量or次数","任务标题","任务详情界面的总描述","标题","整体描述","总步数","步骤1","步骤2","步骤3","步骤4","步骤5","步骤6","步骤7","步骤8","步骤9","步骤10","步骤11","步骤12","步骤13","步骤14","步骤15","步骤16","步骤17","步骤18","步骤19","步骤20","道具1","数量1","道具2","数量2"]
[1,{"$f":"IF(A5=\"\",\"\",_xlfn.TEXTJOIN(\";\",1,X5:AQ5,102))","v":"1001;1002;1003;1004;1005;100;102"},1,7,1,0,1,5,{"$f":"_xlfn.TEXTJOIN(\";\",1,AR5,AT5)","v":"1003;999001"},{"$f":"_xlfn.TEXTJOIN(\";\",1,AS5,AU5)","v":"-1000;1"},100,null,null,null,{"$f":"IF(P5=\"\",\"\",VLOOKUP(P5,条件类型查询!A:B,2,FALSE))","v":""},null,null,null,4001,4076,"受伤的狼","你发现一只奄奄一息的狼，决定上前一探究竟。",{"$f":"COUNTIF(EventLinkConfig!O:O,EventConfig!A5)","v":5},1001,1002,1003,1004,1005,{"$nulls":14},100,1003,-1000,999001,1]
[2,{"$f":"IF(A6=\"\",\"\",_xlfn.TEXTJOIN(\";\",1,X6:AQ6,102))","v":"1010;1011;1012;1013;1014;1015;1016;100;102"},1,7,1,0,1,6,{"$f":"_xlfn.TEXTJOIN(\";\",1,AR6,AT6)","v":"1003;999002"},{"$f":"_xlfn.TEXTJOIN(\";\",1,AS6,AU6)","v":"-1000;1"},100,null,null,null,{"$f":"IF(P6=\"\",\"\",VLOOKUP(P6,条件类型查询!A:B,2,FALSE))","v":""},null,null,null,4002,4077,"鹬蚌相争","附近的小树林闹的不可开交，你决定去看看怎么回事。",{"$f":"COUNTIF(EventLinkConfig!O:O,EventConfig!A6)","v":6},1010,1011,1012,1013,1014,1015,1016,{"$nulls":12},100,1003,-1000,999002,1]
[4,"1030;100;102",1,7,2,0,1,1,"1003;1001","-1000;-5000",100,null,null,null,{"$f":"IF(P7=\"\",\"\",VLOOKUP(P7,条件类型查询!A:B,2,FALSE))","v":""},null,null,null,4003,4078,"溅血背包","不远处有一个小红点，走近一看你发现是一个带血的背包。",{"$f":"COUNTIF(EventLinkConfig!O:O,EventConfig!A7)","v":1},1030,{"$nulls":18},100,1003,-1000,1001,-5000]
[5,"1040;100;102",1,7,2,0,1,2,"1003;1005","-1000;-5000",100,null,null,null,{"$f":"IF(P8=\"\",\"\",VLOOKUP(P8,条件类型查询!A:B,2,FALSE))","v":""},null,null,null,4004,4079,"废弃矿山","底下一座矿山甚是磅礴雄伟，走，去看一看。",{"$f":"COUNTIF(EventLinkConfig!O:O,EventConfig!A8)","v":1},1040,{"$nulls":18},100,1003,-1000,1005,-5000]
[6,"1050;100;102",1,7,2,0,1,3,"1003;1006","-1000;-5000",100,null,null,null,{"$f":"IF(P9=\"\",\"\",VLOOKUP(P9,条件类型查询!A:B,2,FALSE))","v":""},null,null,null,4005,4080,"吵架声","你被一男一女的吵架声吸引。",{"$f":"COUNTIF(EventLinkConfig!O:O,EventConfig!A9)","v":1},1050,{"$nulls":18},100,1003,-1000,1006,-5000]
[7,"1060;100;102",1,7,2,0,1,4,"1003;999001","-1000;1",100,null,null,null,{"$f":"IF(P10=\"\",\"\",VLOOKUP(P10,条件类型查询!A:B,2,FALSE))","v":""},null,null,null,4006,4081,"一座道观","远处一座道观仙气缭绕，似有仙人在此。",{"$f":"COUNTIF(EventLinkConfig!O:O,EventConfig!A10)","v":1},1060,{"$nulls":18},100,1003,-1000,999001,1]
[1011,{"$f":"IF(A11=\"\",\"\",_xlfn.TEXTJOIN(\";\",1,X11:AQ11,102))","v":"101101;100;102"},1,7,1,0,1,7,"1003;999002","-1000;1",100,{"$nulls":7},4007,4082,"药田","神识探索至一处山洞之中，似乎别有洞天",{"$f":"COUNTIF(EventLinkConfig!O:O,EventConfig!A11)","v":1},{"$f":"IF($W11>=X$3,$A11*100+X$3,\"\")","v":101101},"","","","","","","","","","","","","","","",null,null,null,100,1003,-1000,999002,1]
[1012,"101201;100;102",1,7,1,0,3,7,"1003;1001","-1000;-5000",100,{"$nulls":7},4008,4083,"矿井","神识探索至一处矿井之中，此处灵气氤氲",{"$f":"COUNTIF(EventLinkConfig!O:O,EventConfig!A12)","v":1},101201,"","","","","","","","","","","","","","","",null,null,null,100,1003,-1000,1001,-5000]
[1013,"101301;100;102",1,7,1,0,3,7,"1003;1005","-1000;-5000",100,{"$nulls":7},4009,4084,"寺庙","神识经过一处荒废寺庙之外，寺庙之中似乎有不同寻常之物",{"$f":"COUNTIF(EventLinkConfig!O:O,EventConfig!A13)","v":1},101301,"","","","","","","","","","","","","","","",null,null,null,100,1003,-1000,1005,-5000]
[1014,"101401;100;102",1,7,1,0,3,7,"1003;1006","-1000;-5000",100,{"$nulls":7},4010,4085,"洞府遗址","神识至一处灵气充盈之地，似乎是处洞府",{"$f":"COUNTIF(EventLinkConfig!O:O,EventConfig!A14)","v":1},101401,"","","","","","","","","","","","","","","",null,null,null,100,1003,-1000,1006,-5000]
[1015,"101501;101502;100;102",1,7,1,0,1,8,"1003;999001","-1000;1",100,{"$nulls":7},4011,4086,"拦路山贼","一个不知好歹的山贼拦住了你的去路",{"$f":"COUNTIF(EventLinkConfig!O:O,EventConfig!A15)","v":2},101501,101502,"","","","","","","","","","","","","","",null,null,null,100,1003,-1000,999001,1]
[1016,"101601;101602;100;102",1,7,1,0,1,8,"1003;999002","-1000;1",100,{"$nulls":7},4012,4087,"丢袈裟的和尚","一位和尚叫住了你，似乎有什么急事",{"$f":"COUNTIF(EventLinkConfig!O:O,EventConfig!A16)","v":2},101601,101602,"","","","","","","","","","","","","","",null,null,null,100,1003,-1000,999002,1]
[1017,"101701;100;102",1,7,1,0,1,8,"1003;1001","-1000;-5000",100,{"$nulls":4},10,30009,null,4013,4088,"丢袈裟的和尚","将袈裟还给和尚",{"$f":"COUNTIF(EventLinkConfig!O:O,EventConfig!A17)","v":1},101701,"","","","","","","","","","","","","","","",null,null,null,100,1003,-1000,1001,-5000]
[1018,"101801;101802;101803;101804;100;102",1,7,1,0,1,8,"1003;1005","-1000;-5000",100,{"$nulls":7},4014,4089,"云游修士","一名云游修士前来问道",{"$f":"COUNTIF(EventLinkConfig!O:O,EventConfig!A18)","v":4},101801,101802,101803,101804,"","","","","","","","","","","","",null,null,null,100,1003,-1000,1005,-5000]
[1019,"101901;101902;101903;100;102",1,7,1,0,1,9,"1003;1006","-1000;-5000",100,{"$nulls":7},4015,4090,"镇压妖王","逍遥宗长老前来求教",{"$f":"COUNTIF(EventLinkConfig!O:O,EventConfig!A19)","v":3},101901,101902,101903,"","","","","","","","","","","","","",null,null,null,100,1003,-1000,1006,-5000]
[1020,"102001;102002;100;102",1,7,1,0,1,9,"1003;999001","-1000;1",100,{"$nulls":7},4016,4091,"清剿妖兽","妖兽入侵了村子，消灭掉它们",{"$f":"COUNTIF(EventLinkConfig!O:O,EventConfig!A20)","v":2},102001,102002,"","","","","","","","","","","","","","",null,null,null,100,1003,-1000,999001,1]
[1021,"102101;102102;102103;100;102",1,7,1,0,1,9,"1003;999002","-1000;1",100,{"$nulls":7},4017,4092,"失窃的琉璃盏","琉璃盏被妖兽盗窃，前去寻回",{"$f":"COUNTIF(EventLinkConfig!O:O,EventConfig!A21)","v":3},{"$f":"IF($W21>=X$3,$A21*100+X$3,\"\")","v":102101},102102,102103,"","","","","","","","","","","","","",null,null,null,100,1003,-1000,999002,1]
[1022,"102201;102202;102203;102204;102205;102206;102207;100;102",1,7,1,0,1,10,"1003;1001","-1000;-5000",100,{"$nulls":7},4018,4093,"论道何长","明镜道长前来论道",{"$f":"COUNTIF(EventLinkConfig!O:O,EventConfig!A22)","v":7},102201,102202,102203,102204,102205,102206,102207,"","","","","","","","","",null,null,null,100,1003,-1000,1001,-5000]
[1023,"102301;102302;102303;100;102",1,7,1,0,1,10,"1003;1005","-1000;-5000",100,{"$nulls":7},4019,4094,"炼丹药童","炼丹药童前来询问丹药",{"$f":"COUNTIF(EventLinkConfig!O:O,EventConfig!A23)","v":3},102301,102302,102303,"","","","","","","","","","","","","",null,null,null,100,1003,-1000,1005,-5000]
[1024,"102401;102402;102403;100;102",1,7,1,0,1,11,"1003;1006","-1000;-5000",100,{"$nulls":7},4020,4095,"风无咎前来切磋","风无咎前来与你武艺论道",{"$f":"COUNTIF(EventLinkConfig!O:O,EventConfig!A24)","v":3},102401,102402,102403,"","","","","","","","","","","","","",null,null,null,100,1003,-1000,1006,-5000]
[1025,"102501;102502;102503;100;102",1,7,1,0,1,1,"1003;1002","-1000;100",100,{"$nulls":7},4021,4096,"魔族来犯","与魔族交涉",{"$f":"COUNTIF(EventLinkConfig!O:O,EventConfig!A25)","v":3},102501,102502,102503,"","","","","","","","","","","","","",null,null,null,100,1003,-1000,1002,100]
[1026,"102601;102602;100;102",1,7,1,0,1,2,"1003;1004","-1000;10",100,{"$nulls":7},4022,4097,"妖族入侵","击败妖族",{"$f":"COUNTIF(EventLinkConfig!O:O,EventConfig!A26)","v":2},102601,102602,"","","","","","","","","","","","","","",null,null,null,100,1003,-1000,1004,10]
[1027,"102701;102702;100;102",1,7,1,0,1,3,"1003;1501","-1000;1",100,{"$nulls":7},4023,4098,"北海危机","击败拦路妖兽",{"$f":"COUNTIF(EventLinkConfig!O:O,EventConfig!A27)","v":2},102701,102702,"","","","","","","","","","","","","","",null,null,null,100,1003,-1000,1501,1]
[1028,"102801;102802;102803;102804;102805;100;102",1,7,1,0,1,4,"1003;1601","-1000;1",100,{"$nulls":7},4024,4099,"保护北海","击败入侵妖兽",{"$f":"COUNTIF(EventLinkConfig!O:O,EventConfig!A28)","v":5},102801,102802,102803,102804,102805,"","","","","","","","","","","",null,null,null,100,1003,-1000,1601,1]
[1029,"102901;102902;102903;102904;102905;102906;102907;102908;100;102",1,7,1,0,1,7,"1003;21012","-1000;1",100,{"$nulls":7},4025,4100,"境明论道","境明道长邀请你与其论道",{"$f":"COUNTIF(EventLinkConfig!O:O,EventConfig!A29)","v":8},102901,102902,102903,102904,102905,102906,102907,102908,"","","","","","","","",null,null,null,100,1003,-1000,21012,1]
[1030,"103001;103002;103003;103004;103005;103006;103007;100;102",1,7,1,0,1,8,"1003;21013","-1000;1",100,{"$nulls":7},4026,4101,"听经习道","前去寺庙之中听经",{"$f":"COUNTIF(EventLinkConfig!O:O,EventConfig!A30)","v":7},103001,103002,103003,103004,103005,103006,103007,"","","","","","","","","",null,null,null,100,1003,-1000,21013,1]
[1031,"103101;103102;103103;103104;103105;100;102",1,7,1,0,1,9,"1003;1002","-1000;50",100,{"$nulls":7},4027,4102,"境明论道二","境明道长邀请你与其论道",{"$f":"COUNTIF(EventLinkConfig!O:O,EventConfig!A31)","v":5},103101,103102,103103,103104,103105,"","","","","","","","","","","",null,null,null,100,1003,-1000,1002,50]
[]
[null,"",2,3,1,0,1,null,{"$f":"_xlfn.TEXTJOIN(\";\",1,AR33,AT33)","v":"1003"},{"$f":"_xlfn.TEXTJOIN(\";\",1,AS33,AU33)","v":"-5"},{"$nulls":10},"挂机1","修为",{"$f":"COUNTIF(EventLinkConfig!O:O,EventConfig!A33)","v":0},{"$f":"IF($W33>=X$3,$A33*100+X$3,\"\")","v":""},"","","","","","","","","","","",{"$nulls":7},100,1003,-5]
[null,"",2,3,1,0,1,null,{"$f":"_xlfn.TEXTJOIN(\";\",1,AR34,AT34)","v":"1005"},{"$f":"_xlfn.TEXTJOIN(\";\",1,AS34,AU34)","v":"-5"},{"$nulls":10},"挂机2","灵气",{"$f":"COUNTIF(EventLinkConfig!O:O,EventConfig!A34)","v":0},"","","","","","","","","","","","",{"$nulls":7},100,1005,-5]
[null,"",2,3,1,0,1,null,"1006","-5",{"$nulls":10},"挂机3","玄晶",{"$f":"COUNTIF(EventLinkConfig!O:O,EventConfig!A35)","v":0},"","","","","","","","","","","","",{"$nulls":7},100,1006,-5]
[null,"",2,3,1,0,1,null,"1001","-5",{"$nulls":10},"挂机4","灵石",{"$f":"COUNTIF(EventLinkConfig!O:O,EventConfig!A36)","v":0},"","","","","","","","","","","","",{"$nulls":7},100,1001,-5]
[null,"",2,3,1,0,1,null,"1001","-5",{"$nulls":10},"挂机5","神识丹",{"$f":"COUNTIF(EventLinkConfig!O:O,EventConfig!A37)","v":0},"","","","","","","","","","","","",{"$nulls":7},100,1001,-5]
[null,{"$f":"IF(A38=\"\",\"\",_xlfn.TEXTJOIN(\";\",1,X38:AQ38,102))","v":""},2,3,1,0,1,null,"1001","-5",{"$nulls":10},"挂机6","妖丹",{"$f":"COUNTIF(EventLinkConfig!O:O,EventConfig!A38)","v":0},"","","","","","","","","","","","",{"$nulls":7},100,1001,-5]
[null,"",{"$nulls":12},{"$f":"IF(P39=\"\",\"\",VLOOKUP(P39,条件类型查询!A:B,2,FALSE))","v":""}]
[10001,{"$f":"IF(W40>0,_xlfn.TEXTJOIN(\";\", 1, ROW(INDIRECT(CONCATENATE(\"\",A40*100+1,\":\",A40*100+W40,\"\"))),102),\"\")","v":"1000101;1000102;1000103;1000104;102"},4,1,1,10,1,null,"1701;1401","1;2",null,null,1,1,{"$nulls":4},4028,4103,"鲲鹏何在","神识未灭",{"$f":"COUNTIF(EventLinkConfig!O:O,EventConfig!A40)","v":4},{"$f":"IF($W40>=X$3,$A40*100+X$3,\"\")","v":1000101},1000102,1000103,1000104,"","","","","","","","","","","",""]
[10002,{"$f":"IF(W41>0,_xlfn.TEXTJOIN(\";\", 1, ROW(INDIRECT(CONCATENATE(\"\",A41*100+1,\":\",A41*100+W41,\"\"))),102),\"\")","v":"1000201;1000202;1000203;102"},4,1,1,10,1,null,"1701;1401","1;2",null,null,1,1,{"$nulls":4},4029,4104,"北海迷径1","御剑而行",{"$f":"COUNTIF(EventLinkConfig!O:O,EventConfig!A41)","v":3},1000201,1000202,1000203,"","","","","","","","","","","","",""]
[10003,{"$f":"IF(W42>0,_xlfn.TEXTJOIN(\";\", 1, ROW(INDIRECT(CONCATENATE(\"\",A42*100+1,\":\",A42*100+W42,\"\"))),102),\"\")","v":"1000301;1000302;1000303;1000304;1000305;1000306;1000307;1000308;1000309;102"},4,1,1,10,1,null,"1701;1401","1;2",null,null,1,1,{"$nulls":4},4030,4105,"北海迷径2","雀笑大鹏",{"$f":"COUNTIF(EventLinkConfig!O:O,EventConfig!A42)","v":9},1000301,1000302,1000303,1000304,1000305,1000306,1000307,1000308,1000309,"","","","","","",""]
[10004,{"$f":"IF(W43>0,_xlfn.TEXTJOIN(\";\", 1, ROW(INDIRECT(CONCATENATE(\"\",A43*100+1,\":\",A43*100+W43,\"\"))),102),\"\")","v":"1000401;1000402;1000403;1000404;102"},4,1,1,10,1,null,"1701;1401","1;2",null,null,1,1,{"$nulls":4},4031,4106,"古径阵法","击败结界兽",{"$f":"COUNTIF(EventLinkConfig!O:O,EventConfig!A43)","v":4},1000401,1000402,1000403,1000404,"","","","","","","","","","","",""]
[10005,{"$f":"IF(W44>0,_xlfn.TEXTJOIN(\";\", 1, ROW(INDIRECT(CONCATENATE(\"\",A44*100+1,\":\",A44*100+W44,\"\"))),102),\"\")","v":"1000501;1000502;1000503;1000504;1000505;1000506;1000507;1000508;1000509;1000510;1000511;1000512;1000513;1000514;102"},4,1,1,10,1,null,"1701;1401","1;2",null,null,1,1,11,null,null,null,4032,4107,"浮空之岛1","初见疯道人",{"$f":"COUNTIF(EventLinkConfig!O:O,EventConfig!A44)","v":14},1000501,1000502,1000503,1000504,1000505,1000506,1000507,1000508,1000509,1000510,1000511,1000512,1000513,1000514,"",""]
[10006,{"$f":"IF(W45>0,_xlfn.TEXTJOIN(\";\", 1, ROW(INDIRECT(CONCATENATE(\"\",A45*100+1,\":\",A45*100+W45,\"\"))),102),\"\")","v":"1000601;1000602;1000603;1000604;1000605;1000606;102"},4,1,1,10,1,null,"1701;1401","2;2",null,null,1,1,{"$nulls":4},4033,4108,"浮空之岛2","筑基中期",{"$f":"COUNTIF(EventLinkConfig!O:O,EventConfig!A45)","v":6},1000601,1000602,1000603,1000604,1000605,1000606,"","","","","","","","","",""]
[10007,{"$f":"IF(W46>0,_xlfn.TEXTJOIN(\";\", 1, ROW(INDIRECT(CONCATENATE(\"\",A46*100+1,\":\",A46*100+W46,\"\"))),102),\"\")","v":"1000701;1000702;1000703;1000704;1000705;102"},4,1,1,10,1,null,"1701;1401","2;2",null,null,1,1,{"$nulls":4},4034,4109,"风中洞府1","击败痴道人",{"$f":"COUNTIF(EventLinkConfig!O:O,EventConfig!A46)","v":5},1000701,1000702,1000703,1000704,1000705,"","","","","","","","","","",""]
[10008,{"$f":"IF(W47>0,_xlfn.TEXTJOIN(\";\", 1, ROW(INDIRECT(CONCATENATE(\"\",A47*100+1,\":\",A47*100+W47,\"\"))),102),\"\")","v":"1000801;1000802;1000803;1000804;1000805;1000806;1000807;1000808;1000809;1000810;1000811;1000812;1000813;1000814;102"},4,1,1,10,1,null,"1701;1401","2;2",null,null,1,1,{"$nulls":4},4035,4110,"风中洞府2","疯痴相聚",{"$f":"COUNTIF(EventLinkConfig!O:O,EventConfig!A47)","v":14},1000801,1000802,1000803,1000804,1000805,1000806,1000807,1000808,1000809,1000810,1000811,1000812,1000813,1000814,"",""]
[10009,{"$f":"IF(W48>0,_xlfn.TEXTJOIN(\";\", 1, ROW(INDIRECT(CONCATENATE(\"\",A48*100+1,\":\",A48*100+W48,\"\"))),102),\"\")","v":"1000901;1000902;1000903;102"},4,1,1,10,1,null,"1701;1401","2;2",null,null,1,1,21,null,null,null,4036,4111,"风灵之力","筑基后期",{"$f":"COUNTIF(EventLinkConfig!O:O,EventConfig!A48)","v":3},1000901,1000902,1000903,"","","","","","","","","","","","",""]
[10010,{"$f":"IF(W49>0,_xlfn.TEXTJOIN(\";\", 1, ROW(INDIRECT(CONCATENATE(\"\",A49*100+1,\":\",A49*100+W49,\"\"))),102),\"\")","v":"1001001;1001002;1001003;1001004;1001005;1001006;102"},4,1,1,10,1,null,"1701;1401","2;2",null,null,1,1,{"$nulls":4},4037,4112,"北海深处1","妖兽横行",{"$f":"COUNTIF(EventLinkConfig!O:O,EventConfig!A49)","v":6},1001001,1001002,1001003,1001004,1001005,1001006,"","","","","","","","","",""]
[10011,{"$f":"IF(W50>0,_xlfn.TEXTJOIN(\";\", 1, ROW(INDIRECT(CONCATENATE(\"\",A50*100+1,\":\",A50*100+W50,\"\"))),102),\"\")","v":"1001101;1001102;1001103;1001104;1001105;1001106;1001107;1001108;1001109;1001110;1001111;1001112;102"},4,1,1,10,1,null,"1702;1401","1;2",null,null,1,1,31,null,null,null,4038,4113,"北海深处2","遇见鲲鹏",{"$f":"COUNTIF(EventLinkConfig!O:O,EventConfig!A50)","v":12},{"$f":"IF($W50>=X$3,$A50*100+X$3,\"\")","v":1001101},1001102,1001103,1001104,1001105,1001106,1001107,1001108,1001109,1001110,1001111,1001112,"","","",""]
[10012,{"$f":"IF(W51>0,_xlfn.TEXTJOIN(\";\", 1, ROW(INDIRECT(CONCATENATE(\"\",A51*100+1,\":\",A51*100+W51,\"\"))),102),\"\")","v":"1001201;1001202;1001203;102"},4,1,1,10,1,null,"1702;1401","1;2",null,null,2,1,{"$nulls":4},4039,4114,"尧都寻踪",null,{"$f":"COUNTIF(EventLinkConfig!O:O,EventConfig!A51)","v":3},1001201,1001202,1001203,"","","","","","","","","","","","",""]
[10013,{"$f":"IF(W52>0,_xlfn.TEXTJOIN(\";\", 1, ROW(INDIRECT(CONCATENATE(\"\",A52*100+1,\":\",A52*100+W52,\"\"))),102),\"\")","v":"1001301;1001302;1001303;1001304;1001305;1001306;1001307;1001308;1001309;1001310;1001311;1001312;102"},4,1,1,10,1,null,"1702;1401","1;2",null,null,2,1,{"$nulls":4},4040,4115,"尧之都","尧让天下",{"$f":"COUNTIF(EventLinkConfig!O:O,EventConfig!A52)","v":12},1001301,1001302,1001303,1001304,1001305,1001306,1001307,1001308,1001309,1001310,1001311,1001312,"","","",""]
[10014,{"$f":"IF(W53>0,_xlfn.TEXTJOIN(\";\", 1, ROW(INDIRECT(CONCATENATE(\"\",A53*100+1,\":\",A53*100+W53,\"\"))),102),\"\")","v":"1001401;1001402;1001403;1001404;1001405;1001406;1001407;1001408;1001409;1001410;1001411;1001412;1001413;1001414;1001415;1001416;102"},4,1,1,10,1,null,"1702;1402","1;2",null,null,2,1,41,null,null,null,4041,4116,"山林清音","访贤许由",{"$f":"COUNTIF(EventLinkConfig!O:O,EventConfig!A53)","v":16},1001401,1001402,1001403,1001404,1001405,1001406,1001407,1001408,1001409,1001410,1001411,1001412,1001413,1001414,1001415,1001416]
[10015,{"$f":"IF(W54>0,_xlfn.TEXTJOIN(\";\", 1, ROW(INDIRECT(CONCATENATE(\"\",A54*100+1,\":\",A54*100+W54,\"\"))),102),\"\")","v":"1001501;1001502;1001503;1001504;1001505;1001506;1001507;1001508;102"},4,1,1,10,1,null,"1702;1402","1;2",null,null,2,1,{"$nulls":4},4042,4117,"山中劳作","割草喝茶",{"$f":"COUNTIF(EventLinkConfig!O:O,EventConfig!A54)","v":8},1001501,1001502,1001503,1001504,1001505,1001506,1001507,1001508,"","","","","","","",""]
[10016,{"$f":"IF(W55>0,_xlfn.TEXTJOIN(\";\", 1, ROW(INDIRECT(CONCATENATE(\"\",A55*100+1,\":\",A55*100+W55,\"\"))),102),\"\")","v":"1001601;1001602;1001603;1001604;1001605;1001606;1001607;1001608;102"},4,1,1,10,1,null,"1702;1402","1;2",null,null,2,1,51,null,null,null,4043,4118,"风起夜战","再来一杯",{"$f":"COUNTIF(EventLinkConfig!O:O,EventConfig!A55)","v":8},1001601,1001602,1001603,1001604,1001605,1001606,1001607,1001608,"","","","","","","",""]
[10017,{"$f":"IF(W56>0,_xlfn.TEXTJOIN(\";\", 1, ROW(INDIRECT(CONCATENATE(\"\",A56*100+1,\":\",A56*100+W56,\"\"))),102),\"\")","v":"1001701;1001702;1001703;1001704;1001705;1001706;1001707;1001708;1001709;1001710;1001711;1001712;1001713;102"},4,1,1,10,1,null,"1702;1402","1;2",null,null,2,1,{"$nulls":4},4044,4119,"吃茶三问","战胜妖王",{"$f":"COUNTIF(EventLinkConfig!O:O,EventConfig!A56)","v":13},1001701,1001702,1001703,1001704,1001705,1001706,1001707,1001708,1001709,1001710,1001711,1001712,1001713,"","",""]
[10018,{"$f":"IF(W57>0,_xlfn.TEXTJOIN(\";\", 1, ROW(INDIRECT(CONCATENATE(\"\",A57*100+1,\":\",A57*100+W57,\"\"))),102),\"\")","v":"1001801;1001802;1001803;1001804;1001805;1001806;1001807;1001808;1001809;1001810;102"},4,1,1,10,1,null,"1702;1402","1;2",null,null,2,1,61,null,null,null,4045,4120,"尧让天下","复命尧帝",{"$f":"COUNTIF(EventLinkConfig!O:O,EventConfig!A57)","v":10},1001801,1001802,1001803,1001804,1001805,1001806,1001807,1001808,1001809,1001810,"","","","","",""]
[10019,{"$f":"IF(W58>0,_xlfn.TEXTJOIN(\";\", 1, ROW(INDIRECT(CONCATENATE(\"\",A58*100+1,\":\",A58*100+W58,\"\"))),102),\"\")","v":"1001901;1001902;1001903;1001904;1001905;1001906;1001907;1001908;1001909;1001910;1001911;1001912;1001913;1001914;1001915;1001916;1001917;1001918;1001919;1001920;102"},4,1,1,10,1,null,"1702;1403","2;2",null,null,2,1,{"$nulls":4},4046,4121,"无用之树","树下闲话",{"$f":"COUNTIF(EventLinkConfig!O:O,EventConfig!A58)","v":20},1001901,1001902,1001903,1001904,1001905,1001906,1001907,1001908,1001909,1001910,1001911,1001912,1001913,1001914,1001915,1001916,{"$f":"IF($W58>=AN$3,$A58*100+AN$3,\"\")","v":1001917},{"$f":"IF($W58>=AO$3,$A58*100+AO$3,\"\")","v":1001918},{"$f":"IF($W58>=AP$3,$A58*100+AP$3,\"\")","v":1001919},{"$f":"IF($W58>=AQ$3,$A58*100+AQ$3,\"\")","v":1001920}]
[10020,{"$f":"IF(W59>0,_xlfn.TEXTJOIN(\";\", 1, ROW(INDIRECT(CONCATENATE(\"\",A59*100+1,\":\",A59*100+W59,\"\"))),102),\"\")","v":"1002001;1002002;102"},4,1,1,10,1,null,"1702;1403","2;2",null,null,2,1,{"$nulls":4},4047,4122,"樗木之灵","切磋切磋",{"$f":"COUNTIF(EventLinkConfig!O:O,EventConfig!A59)","v":2},1002001,1002002,"","","","","","","","","","","","","",""]
[10021,{"$f":"IF(W60>0,_xlfn.TEXTJOIN(\";\", 1, ROW(INDIRECT(CONCATENATE(\"\",A60*100+1,\":\",A60*100+W60,\"\"))),102),\"\")","v":"1002101;1002102;1002103;1002104;102"},4,1,1,10,1,null,"1702;1403","2;2",null,null,2,1,71,null,null,null,4048,4123,"游尧都","金丹前期",{"$f":"COUNTIF(EventLinkConfig!O:O,EventConfig!A60)","v":4},1002101,1002102,1002103,1002104,"","","","","","","","","","","",""]
[10022,{"$f":"IF(W61>0,_xlfn.TEXTJOIN(\";\", 1, ROW(INDIRECT(CONCATENATE(\"\",A61*100+1,\":\",A61*100+W61,\"\"))),102),\"\")","v":"1002201;1002202;1002203;1002204;1002205;1002206;1002207;1002208;1002209;1002210;1002211;1002212;102"},4,1,1,10,1,null,"1702;1403","2;2",null,null,2,1,81,null,null,null,4049,4124,"再见尧帝","仙山传说",{"$f":"COUNTIF(EventLinkConfig!O:O,EventConfig!A61)","v":12},{"$f":"IF($W61>=X$3,$A61*100+X$3,\"\")","v":1002201},1002202,1002203,1002204,1002205,1002206,1002207,1002208,1002209,1002210,1002211,1002212,"","","",""]
[10023,{"$f":"IF(W62>0,_xlfn.TEXTJOIN(\";\", 1, ROW(INDIRECT(CONCATENATE(\"\",A62*100+1,\":\",A62*100+W62,\"\"))),102),\"\")","v":"1002301;1002302;1002303;102"},4,1,1,10,1,null,"1702;1403","2;2",null,null,3,1,{"$nulls":4},4050,4125,"云海漫行","入山幻阵",{"$f":"COUNTIF(EventLinkConfig!O:O,EventConfig!A62)","v":3},1002301,1002302,1002303,"","","","","","","","","","","","",""]
[10024,{"$f":"IF(W63>0,_xlfn.TEXTJOIN(\";\", 1, ROW(INDIRECT(CONCATENATE(\"\",A63*100+1,\":\",A63*100+W63,\"\"))),102),\"\")","v":"1002401;1002402;1002403;1002404;1002405;1002406;1002407;1002408;1002409;1002410;1002411;1002412;1002413;102"},4,1,1,10,1,null,"1702;1403","2;2",null,null,3,1,91,null,null,null,4051,4126,"初见惠子","葫芦种子",{"$f":"COUNTIF(EventLinkConfig!O:O,EventConfig!A63)","v":13},1002401,1002402,1002403,1002404,1002405,1002406,1002407,1002408,1002409,1002410,1002411,1002412,1002413,"","",""]
[10025,{"$f":"IF(W64>0,_xlfn.TEXTJOIN(\";\", 1, ROW(INDIRECT(CONCATENATE(\"\",A64*100+1,\":\",A64*100+W64,\"\"))),102),\"\")","v":"1002501;1002502;1002503;1002504;1002505;1002506;1002507;1002508;102"},4,1,1,10,1,null,"1703;1404","1;2",null,null,3,1,101,null,null,null,4052,4127,"葫芦肥料","天肥地肥",{"$f":"COUNTIF(EventLinkConfig!O:O,EventConfig!A64)","v":8},1002501,1002502,1002503,1002504,1002505,1002506,1002507,1002508,"","","","","","","",""]
[10026,{"$f":"IF(W65>0,_xlfn.TEXTJOIN(\";\", 1, ROW(INDIRECT(CONCATENATE(\"\",A65*100+1,\":\",A65*100+W65,\"\"))),102),\"\")","v":"1002601;1002602;1002603;1002604;1002605;1002606;1002607;1002608;1002609;102"},4,1,1,10,1,null,"1703;1404","1;2",null,null,3,1,111,null,null,null,4053,4128,"藐姑射山","登山",{"$f":"COUNTIF(EventLinkConfig!O:O,EventConfig!A65)","v":9},1002601,1002602,1002603,1002604,1002605,1002606,1002607,1002608,1002609,"","","","","","",""]
[10027,{"$f":"IF(W66>0,_xlfn.TEXTJOIN(\";\", 1, ROW(INDIRECT(CONCATENATE(\"\",A66*100+1,\":\",A66*100+W66,\"\"))),102),\"\")","v":"1002701;1002702;1002703;1002704;1002705;1002706;1002707;1002708;1002709;1002710;1002711;1002712;1002713;1002714;1002715;1002716;1002717;1002718;1002719;1002720;1002721;1002722;1002723;1002724;1002725;1002726;1002727;1002728;1002729;1002730;1002731;1002732;1002733;1002734;1002735;1002736;102"},4,1,1,10,1,null,"1703;1404","1;2",null,null,3,1,121,null,null,null,4054,4129,"藐姑射山","雾中幻径",{"$f":"COUNTIF(EventLinkConfig!O:O,EventConfig!A66)","v":36},1002701,1002702,1002703,1002704,1002705,1002706,1002707,1002708,1002709,1002710,1002711,1002712,1002713,1002714,1002715,1002716]
[10028,{"$f":"IF(W67>0,_xlfn.TEXTJOIN(\";\", 1, ROW(INDIRECT(CONCATENATE(\"\",A67*100+1,\":\",A67*100+W67,\"\"))),102),\"\")","v":"1002801;102"},4,1,1,10,1,null,"1703;1404","1;2",null,null,3,1,{"$nulls":4},4055,4130,"露水清心",null,{"$f":"COUNTIF(EventLinkConfig!O:O,EventConfig!A67)","v":1},1002801,"","","","","","","","","","","","","","",""]
[10029,{"$f":"IF(W68>0,_xlfn.TEXTJOIN(\";\", 1, ROW(INDIRECT(CONCATENATE(\"\",A68*100+1,\":\",A68*100+W68,\"\"))),102),\"\")","v":"1002901;1002902;1002903;1002904;1002905;1002906;1002907;1002908;1002909;1002910;1002911;1002912;1002913;1002914;1002915;1002916;1002917;1002918;1002919;1002920;102"},4,1,1,10,1,null,"1703;1404","1;2",null,null,3,1,131,null,null,null,4056,4131,"山顶神仙",null,{"$f":"COUNTIF(EventLinkConfig!O:O,EventConfig!A68)","v":20},1002901,1002902,1002903,1002904,1002905,1002906,1002907,1002908,1002909,1002910,1002911,1002912,1002913,1002914,1002915,1002916]
[10030,{"$f":"IF(W69>0,_xlfn.TEXTJOIN(\";\", 1, ROW(INDIRECT(CONCATENATE(\"\",A69*100+1,\":\",A69*100+W69,\"\"))),102),\"\")","v":"1003001;1003002;1003003;1003004;1003005;1003006;1003007;1003008;102"},4,1,1,10,1,null,"1703;1404","1;2",null,null,3,1,141,null,null,null,4057,4132,"心魔之战","破除枷锁",{"$f":"COUNTIF(EventLinkConfig!O:O,EventConfig!A69)","v":8},1003001,1003002,1003003,1003004,1003005,1003006,1003007,1003008,"","","","","","","",""]
[10031,{"$f":"IF(W70>0,_xlfn.TEXTJOIN(\";\", 1, ROW(INDIRECT(CONCATENATE(\"\",A70*100+1,\":\",A70*100+W70,\"\"))),102),\"\")","v":"1003101;1003102;1003103;1003104;1003105;1003106;1003107;1003108;1003109;1003110;1003111;1003112;1003113;1003114;1003115;1003116;102"},4,1,1,10,1,null,"1703;1404","1;2",null,null,3,1,151,null,null,null,4191,4192,"鲲鹏飞天",null,{"$f":"COUNTIF(EventLinkConfig!O:O,EventConfig!A70)","v":16},1003101,1003102,1003103,1003104,1003105,1003106,1003107,1003108,1003109,1003110,1003111,1003112,1003113,1003114,1003115,1003116]
[null,""]
[20001,"1001;1002;1003;1004;1005;102",5,null,1,0,1,null,1001,10,{"$nulls":8},4058,4133,"受伤的狼","你发现一只奄奄一息的狼，决定上前一探究竟。",null,1001,1002,1003,1004,1005]
[20002,{"$f":"IF(A73=\"\",\"\",_xlfn.TEXTJOIN(\";\",1,X73:AQ73,102))","v":"1010;1011;1012;1013;1014;1015;1016;102"},5,null,1,0,1,null,1001,10,{"$nulls":4},{"$f":"IF(P73=\"\",\"\",VLOOKUP(P73,条件类型查询!A:B,2,FALSE))","v":""},null,null,null,4059,4134,"鹬蚌相争","附近的小树林闹的不可开交，你决定去看看怎么回事。",null,1010,1011,1012,1013,1014,1015,1016]
[20003,"1001;1002;1003;1004;1005;102",5,null,1,0,1,null,1001,10,{"$nulls":8},4060,4135,"受伤的鸟","你发现一只奄奄一息的鸟，决定上前一探究竟。",null,1001,1002,1003,1004,1005]
[null,""]
[9001,"1001;1002;1003;1004;1005;102",6,3,1,0,1,null,1001,10,{"$nulls":8},4061,4136,"受伤的狼","你发现一只奄奄一息的狼，决定上前一探究竟。",null,1001,1002,1003,1004,1005]
[9002,"1010;1011;1012;1013;1014;1015;1016;102",6,3,1,0,1,null,1001,10,{"$nulls":4},{"$f":"IF(P77=\"\",\"\",VLOOKUP(P77,条件类型查询!A:B,2,FALSE))","v":""},null,null,null,4062,4137,"鹬蚌相争","附近的小树林闹的不可开交，你决定去看看怎么回事。",null,1010,1011,1012,1013,1014,1015,1016]
[9025,"102",6,3,1,0,1,null,1001,10,null,null,1,2,{"$nulls":4},4063,4138,"惠子.没用的大葫芦","惠子种的葫芦没用，他非常生气"]
[9014,"9014;102",6,3,1,0,1,null,1001,10,null,null,2,2,{"$nulls":4},4064,4139,"发现魔修","发现一群魔修，正在夺人钱财",null,9014]
[9031,"9031;102",6,3,1,0,1,null,1001,10,30,2,3,2,{"$nulls":4},4065,4140,"魔修","打败魔休",null,9031]
[9003,"9003;9004;9005;9006;9007;9008;102",6,5,1,0,1,null,1001,10,{"$nulls":8},4066,4141,"幽谷剑鸣","你在闭关修炼时，感受到一股凌厉的剑意波动。深入探查，发现一名白衣剑修“清霜”盘坐于谷中，周围剑气环绕，正与一柄散发不祥气息的灵剑对峙。她似在参悟剑诀，却灵气不足，剑灵桀骜。",null,9003,9004,9005,9006,9007,9008]
[]
[9101,{"$f":"IF(A83=\"\",\"\",_xlfn.TEXTJOIN(\";\",1,X83:AQ83,102))","v":"910101;102"},1,5,1,0,1,null,1501,1,{"$nulls":10},"初遇道友1","你偶遇正在修炼的道友1",{"$f":"COUNTIF(EventLinkConfig!O:O,EventConfig!A83)","v":1},{"$f":"IF($W83>=X$3,$A83*100+X$3,\"\")","v":910101},"","","","","","","","","","","","","","","","","","",""]
[9102,{"$f":"IF(A84=\"\",\"\",_xlfn.TEXTJOIN(\";\",1,X84:AQ84,102))","v":"910201;102"},1,5,1,0,1,null,1501,1,{"$nulls":10},"初遇道友2","你偶遇正在修炼的道友2",{"$f":"COUNTIF(EventLinkConfig!O:O,EventConfig!A84)","v":1},910201,"","","","","","","","","","","","","","","","","","",""]
[9103,"910301;102",1,5,1,0,1,null,1501,1,{"$nulls":10},"初遇道友3","你偶遇正在修炼的道友3",{"$f":"COUNTIF(EventLinkConfig!O:O,EventConfig!A85)","v":1},910301,"","","","","","","","","","","","","","","","","","",""]
[9104,{"$f":"IF(A86=\"\",\"\",_xlfn.TEXTJOIN(\";\",1,X86:AQ86,102))","v":"910401;102"},1,5,1,0,1,null,1501,1,{"$nulls":10},"初遇道友4","你偶遇正在修炼的道友4",{"$f":"COUNTIF(EventLinkConfig!O:O,EventConfig!A86)","v":1},910401,"","","","","","","","","","","","","","","","","","",""]
[9105,"910501;102",1,5,1,0,1,null,1501,1,{"$nulls":10},"初遇道友5","你偶遇正在修炼的道友5",{"$f":"COUNTIF(EventLinkConfig!O:O,EventConfig!A87)","v":1},910501,"","","","","","","","","","","","","","","","","","",""]
[9106,"910601;102",1,5,1,0,1,null,1501,1,{"$nulls":10},"初遇道友6","你偶遇正在修炼的道友6",{"$f":"COUNTIF(EventLinkConfig!O:O,EventConfig!A88)","v":1},910601,"","","","","","","","","","","","","","","","","","",""]
[9107,"910701;102",1,5,1,0,1,null,1501,1,{"$nulls":10},"初遇道友7","你偶遇正在修炼的道友7",{"$f":"COUNTIF(EventLinkConfig!O:O,EventConfig!A89)","v":1},910701,"","","","","","","","","","","","","","","","","","",""]
[9108,{"$f":"IF(A90=\"\",\"\",_xlfn.TEXTJOIN(\";\",1,X90:AQ90,102))","v":"910801;102"},1,5,1,0,1,null,1501,1,{"$nulls":10},"初遇道友8","你偶遇正在修炼的道友8",{"$f":"COUNTIF(EventLinkConfig!O:O,EventConfig!A90)","v":1},910801,"","","","","","","","","","","","","","","","","","",""]
[9109,"910901;102",1,5,1,0,1,null,1501,1,{"$nulls":10},"初遇道友9","你偶遇正在修炼的道友9",{"$f":"COUNTIF(EventLinkConfig!O:O,EventConfig!A91)","v":1},910901,"","","","","","","","","","","","","","","","","","",""]
[9110,{"$f":"IF(A92=\"\",\"\",_xlfn.TEXTJOIN(\";\",1,X92:AQ92,102))","v":"911001;102"},1,5,1,0,1,null,1501,1,{"$nulls":10},"初遇道友10","你偶遇正在修炼的道友10",{"$f":"COUNTIF(EventLinkConfig!O:O,EventConfig!A92)","v":1},911001,"","","","","","","","","","","","","","","","","","",""]
[]
[3,{"$f":"IF(A94=\"\",\"\",_xlfn.TEXTJOIN(\";\",1,X94:AQ94,102))","v":"1020;1021;1022;1023;1024;1025;1026;102"},99,2,1,10,1,null,1001,10,null,null,1,4,{"$f":"IF(P94=\"\",\"\",VLOOKUP(P94,条件类型查询!A:B,2,FALSE))","v":"拥有特定道具"},1,1004,1,4067,4142,"鹬蚌相争2","附近的小树林闹的不可开交，你决定去看看怎么回事。",null,1020,1021,1022,1023,1024,1025,1026]
[1001,{"$f":"IF(A95=\"\",\"\",_xlfn.TEXTJOIN(\";\",1,X95:AQ95,102))","v":"1001;1002;1003;1004;1005;100;102"},99,4,1,10,1,null,1001,10,{"$nulls":4},{"$f":"IF(P95=\"\",\"\",VLOOKUP(P95,条件类型查询!A:B,2,FALSE))","v":""},null,null,null,4068,4143,"受伤的鸟","你发现一只奄奄一息的鸟，决定上前一探究竟。",null,1001,1002,1003,1004,1005,{"$nulls":14},100]
[30001,"100;102",98,6,1,0,1,null,null,null,50,5,null,null,{"$f":"IF(P96=\"\",\"\",VLOOKUP(P96,条件类型查询!A:B,2,FALSE))","v":""},{"$nulls":7},{"$f":"COUNTIF(EventLinkConfig!O:O,EventConfig!A96)","v":0},{"$f":"IF($W96>=X$3,$A96*100+X$3,\"\")","v":""},"","","","","","","","","","","","","","","",null,null,null,100]
[{"$f":"A96+1","v":30002},"100;102",98,6,1,0,1,null,null,null,50,1,null,null,{"$f":"IF(P97=\"\",\"\",VLOOKUP(P97,条件类型查询!A:B,2,FALSE))","v":""},{"$nulls":7},{"$f":"COUNTIF(EventLinkConfig!O:O,EventConfig!A97)","v":0},"","","","","","","","","","","","","","","","",null,null,null,100]
[30003,"3000301;100;102",98,6,1,0,1,null,null,null,50,1,1,null,{"$f":"IF(P98=\"\",\"\",VLOOKUP(P98,条件类型查询!A:B,2,FALSE))","v":""},{"$nulls":7},{"$f":"COUNTIF(EventLinkConfig!O:O,EventConfig!A98)","v":1},3000301,"","","","","","","","","","","","","","","",null,null,null,100]
[30004,"3000401;100;102",98,6,1,0,1,null,null,null,50,3,2,null,{"$f":"IF(P99=\"\",\"\",VLOOKUP(P99,条件类型查询!A:B,2,FALSE))","v":""},{"$nulls":7},{"$f":"COUNTIF(EventLinkConfig!O:O,EventConfig!A99)","v":1},3000401,"","","","","","","","","","","","","","","",null,null,null,100]
[30005,"3000501;100;102",98,6,1,0,1,null,null,null,50,1,2,null,{"$f":"IF(P100=\"\",\"\",VLOOKUP(P100,条件类型查询!A:B,2,FALSE))","v":""},{"$nulls":7},{"$f":"COUNTIF(EventLinkConfig!O:O,EventConfig!A100)","v":1},3000501,"","","","","","","","","","","","","","","",null,null,null,100]
[30006,"3000601;100;102",98,6,1,0,1,null,null,null,50,1,2,null,{"$f":"IF(P101=\"\",\"\",VLOOKUP(P101,条件类型查询!A:B,2,FALSE))","v":""},{"$nulls":7},{"$f":"COUNTIF(EventLinkConfig!O:O,EventConfig!A101)","v":1},3000601,"","","","","","","","","","","","","","","",null,null,null,100]
[30007,"3000701;100;102",98,6,1,0,1,null,null,null,50,1,3,null,{"$f":"IF(P102=\"\",\"\",VLOOKUP(P102,条件类型查询!A:B,2,FALSE))","v":""},{"$nulls":7},{"$f":"COUNTIF(EventLinkConfig!O:O,EventConfig!A102)","v":1},3000701,"","","","","","","","","","","","","","","",null,null,null,100]
[30008,"3000801;100;102",98,6,1,0,1,null,null,null,15,1,3,null,{"$f":"IF(P103=\"\",\"\",VLOOKUP(P103,条件类型查询!A:B,2,FALSE))","v":""},{"$nulls":7},{"$f":"COUNTIF(EventLinkConfig!O:O,EventConfig!A103)","v":1},3000801,"","","","","","","","","","","","","","","",null,null,null,100]
[30009,"3000901;3000902;100;102",98,6,1,0,1,null,1301,1,100,1,3,null,{"$f":"IF(P104=\"\",\"\",VLOOKUP(P104,条件类型查询!A:B,2,FALSE))","v":""},{"$nulls":7},{"$f":"COUNTIF(EventLinkConfig!O:O,EventConfig!A104)","v":2},3000901,3000902,"","","","","","","","","","","","","","",null,null,null,100]
[30010,"3001001;100;102",98,6,1,0,1,null,1001,1,100,1,3,null,{"$f":"IF(P105=\"\",\"\",VLOOKUP(P105,条件类型查询!A:B,2,FALSE))","v":"前置事件"},10,1021,{"$nulls":5},{"$f":"COUNTIF(EventLinkConfig!O:O,EventConfig!A105)","v":1},3001001,"","","","","","","","","","","","","","","",null,null,null,100]
[30011,"3001101;3001102;100;102",98,6,1,0,1,null,20003,3,100,1,2,null,{"$f":"IF(P106=\"\",\"\",VLOOKUP(P106,条件类型查询!A:B,2,FALSE))","v":""},{"$nulls":7},{"$f":"COUNTIF(EventLinkConfig!O:O,EventConfig!A106)","v":2},3001101,3001102,"","","","","","","","","","","","","","",null,null,null,100]
[30012,"3001201;102",98,6,1,0,1,null,20004,1,20,1,2,null,{"$f":"IF(P107=\"\",\"\",VLOOKUP(P107,条件类型查询!A:B,2,FALSE))","v":""},{"$nulls":7},{"$f":"COUNTIF(EventLinkConfig!O:O,EventConfig!A107)","v":1},3001201,"","","","","","","","","","","","","","",""]
[30013,{"$f":"IF(A108=\"\",\"\",_xlfn.TEXTJOIN(\";\",1,X108:AQ108,102))","v":"3001301;102"},98,6,1,0,1,null,20005,1,20,1,1,null,{"$f":"IF(P108=\"\",\"\",VLOOKUP(P108,条件类型查询!A:B,2,FALSE))","v":""},null,null,3,4163,4164,"搜集风铃","为雀灵儿搜集风铃",{"$f":"COUNTIF(EventLinkConfig!O:O,EventConfig!A108)","v":1},3001301,"","","","","","","","","","","","","","",""]
[30014,{"$f":"IF(A109=\"\",\"\",_xlfn.TEXTJOIN(\";\",1,X109:AQ109,102))","v":"3001401;102"},98,6,1,0,1,null,1001,100,20,1,1,null,{"$f":"IF(P109=\"\",\"\",VLOOKUP(P109,条件类型查询!A:B,2,FALSE))","v":""},null,null,1,4177,4178,"击败风妖","云枝-击败风妖",{"$f":"COUNTIF(EventLinkConfig!O:O,EventConfig!A109)","v":1},3001401,"","","","","","","","","","","","","","",""]
[30015,{"$f":"IF(A110=\"\",\"\",_xlfn.TEXTJOIN(\";\",1,X110:AQ110,102))","v":"3001501;102"},98,6,1,0,1,null,20006,1,33,1,1,null,{"$f":"IF(P110=\"\",\"\",VLOOKUP(P110,条件类型查询!A:B,2,FALSE))","v":""},null,null,3,4193,4194,"搜集风灵碎片","风瑶-2. 风灵碎片.岛间搜寻",{"$f":"COUNTIF(EventLinkConfig!O:O,EventConfig!A110)","v":1},3001501,"","","","","","","","","","","","","","",""]
[30016,{"$f":"IF(A111=\"\",\"\",_xlfn.TEXTJOIN(\";\",1,X111:AQ111,102))","v":"3001601;3001602;3001603;3001604;102"},98,6,1,0,1,null,1001,100,20,1,1,null,{"$f":"IF(P111=\"\",\"\",VLOOKUP(P111,条件类型查询!A:B,2,FALSE))","v":""},null,null,1,4195,4196,"云隐秘闻","风瑶-3. 风中疑云.探听消息",{"$f":"COUNTIF(EventLinkConfig!O:O,EventConfig!A111)","v":4},3001601,3001602,3001603,3001604,"","","","","","","","","","","",{"$f":"IF($W111>=AM$3,$A111*100+AM$3,\"\")","v":""}]
[{"$f":"A111+1","v":30017},{"$f":"IF(A112=\"\",\"\",_xlfn.TEXTJOIN(\";\",1,X112:AQ112,102))","v":"3001701;102"},98,6,1,0,1,null,20007,1,20,1,1,null,{"$f":"IF(P112=\"\",\"\",VLOOKUP(P112,条件类型查询!A:B,2,FALSE))","v":""},null,null,3,4197,4198,"搜集浮岛灵石","风瑶-4. 隐秘信物.追踪残片",{"$f":"COUNTIF(EventLinkConfig!O:O,EventConfig!A112)","v":1},{"$f":"IF($W112>=X$3,$A112*100+X$3,\"\")","v":3001701},"","","","","","","","","","","","","","",""]
[30018,{"$f":"IF(A113=\"\",\"\",_xlfn.TEXTJOIN(\";\",1,X113:AQ113,102))","v":"3001801;102"},98,6,1,0,1,null,20008,1,20,1,1,null,{"$f":"IF(P113=\"\",\"\",VLOOKUP(P113,条件类型查询!A:B,2,FALSE))","v":""},null,null,1,4199,4200,"搜集浮岛灵石","风瑶-5. 风中密信.截获情报",{"$f":"COUNTIF(EventLinkConfig!O:O,EventConfig!A113)","v":1},3001801,"","","","","","","","","","","","","","",""]
[30019,{"$f":"IF(A114=\"\",\"\",_xlfn.TEXTJOIN(\";\",1,X114:AQ114,102))","v":"3001901;102"},98,6,1,0,1,null,20009,1,20,1,1,null,{"$f":"IF(P114=\"\",\"\",VLOOKUP(P114,条件类型查询!A:B,2,FALSE))","v":""},null,null,2,4213,4214,"搜集尧都玉佩","婉溪-4. 玉佩稳灵.收集信物",{"$f":"COUNTIF(EventLinkConfig!O:O,EventConfig!A114)","v":1},3001901,"","","","","","","","","","","","","","",""]
[30020,{"$f":"IF(A115=\"\",\"\",_xlfn.TEXTJOIN(\";\",1,X115:AQ115,102))","v":"3002001;102"},98,6,1,0,1,null,20010,1,20,1,1,null,{"$f":"IF(P115=\"\",\"\",VLOOKUP(P115,条件类型查询!A:B,2,FALSE))","v":""},null,null,2,4227,4228,"搜集山野灵草","许由-2. 山野采草.炼丹初助",{"$f":"COUNTIF(EventLinkConfig!O:O,EventConfig!A115)","v":1},3002001,"","","","","","","","","","","","","","",""]
[30021,{"$f":"IF(A116=\"\",\"\",_xlfn.TEXTJOIN(\";\",1,X116:AQ116,102))","v":"3002101;3002102;3002103;102"},98,6,1,0,1,null,20011,1,20,1,1,null,{"$f":"IF(P116=\"\",\"\",VLOOKUP(P116,条件类型查询!A:B,2,FALSE))","v":""},null,null,2,4229,4230,"搜集秘境种子","许由-4. 玉佩镇丹.稳气寻材",{"$f":"COUNTIF(EventLinkConfig!O:O,EventConfig!A116)","v":3},3002101,3002102,3002103,"","","","","","","","","","","","",""]
[30022,{"$f":"IF(A117=\"\",\"\",_xlfn.TEXTJOIN(\";\",1,X117:AQ117,102))","v":"3002201;3002202;102"},98,6,1,0,1,null,20012,1,20,1,1,null,{"$f":"IF(P117=\"\",\"\",VLOOKUP(P117,条件类型查询!A:B,2,FALSE))","v":""},null,null,3,4242,4243,"搜集甜蜜果实","疯道人-2. 途中解乏",{"$f":"COUNTIF(EventLinkConfig!O:O,EventConfig!A117)","v":2},3002201,3002202,"","","","","","","","","","","","","",""]
[]
[5001,"500101;500102;500103;500104;500105;500106;500107;500108;500109;500110;500111;500112;500113;500114;500115;500116;500117;500118;500119;102",99,5,1,10,1,10,1501,1,null,null,1,1,{"$f":"IF(P119=\"\",\"\",VLOOKUP(P119,条件类型查询!A:B,2,FALSE))","v":""},null,null,null,4069,4144,"风影为二","风影为二详情占位",{"$f":"COUNTIF(EventLinkConfig!O:O,EventConfig!A119)","v":19},{"$f":"IF($W119>=X$3,$A119*100+X$3,\"\")","v":500101},500102,500103,500104,500105,500106,500107,500108,500109,500110,{"$f":"IF($W119>=AH$3,$A119*100+AH$3,\"\")","v":500111},500112,500113,500114,500115,500116,500117,500118,500119,""]
[5002,"500201;500202;500203;500204;500205;500206;500207;500208;500209;500210;500211;500212;500213;500214;500215;500216;102",99,5,1,10,1,11,1601,1,null,null,1,1,{"$f":"IF(P120=\"\",\"\",VLOOKUP(P120,条件类型查询!A:B,2,FALSE))","v":"前置事件"},10,5001,null,4070,4145,"风影合一","风影合一详情占位",{"$f":"COUNTIF(EventLinkConfig!O:O,EventConfig!A120)","v":16},500201,500202,500203,500204,500205,500206,500207,500208,500209,500210,500211,500212,500213,500214,500215,500216,"","","",""]
[5003,"500301;500302;500303;500304;500305;500306;500307;500308;500309;500310;500311;500312;500313;500314;500315;500316;500317;500318;500319;500320;102",99,2,1,0,1,1,1001,500,null,null,1,1,{"$f":"IF(P121=\"\",\"\",VLOOKUP(P121,条件类型查询!A:B,2,FALSE))","v":""},null,null,null,4071,4146,"北海剑妖","百年化妖为红颜，一剑焚海断孽缘",{"$f":"COUNTIF(EventLinkConfig!O:O,EventConfig!A121)","v":20},500301,500302,500303,500304,500305,500306,500307,500308,500309,500310,500311,500312,500313,500314,500315,500316,500317,500318,500319,500320]
[5004,{"$f":"IF(A122=\"\",\"\",_xlfn.TEXTJOIN(\";\",1,X122:AQ122,102))","v":"500401;102"},99,7,1,0,1,1,1001,-20000,{"$nulls":4},{"$f":"IF(P122=\"\",\"\",VLOOKUP(P122,条件类型查询!A:B,2,FALSE))","v":""},null,null,null,4072,4147,"【纳福】灵石","大量获取灵石",{"$f":"COUNTIF(EventLinkConfig!O:O,EventConfig!A122)","v":1},500401,"","","","","","","","","","","","","","","","","","",""]
[5005,{"$f":"IF(A123=\"\",\"\",_xlfn.TEXTJOIN(\";\",1,X123:AQ123,102))","v":"500501;102"},99,7,1,0,1,1,1003,-20000,{"$nulls":4},{"$f":"IF(P123=\"\",\"\",VLOOKUP(P123,条件类型查询!A:B,2,FALSE))","v":""},null,null,null,4073,4148,"【纳福】修为","大量获取修为",{"$f":"COUNTIF(EventLinkConfig!O:O,EventConfig!A123)","v":1},500501,"","","","","","","","","","","","","","","","","","",""]
[5006,"500601;102",99,7,1,0,1,1,1005,-20000,{"$nulls":4},{"$f":"IF(P124=\"\",\"\",VLOOKUP(P124,条件类型查询!A:B,2,FALSE))","v":""},null,null,null,4074,4149,"【纳福】灵气","大量获取灵气",{"$f":"COUNTIF(EventLinkConfig!O:O,EventConfig!A124)","v":1},500601,"","","","","","","","","","","","","","","","","","",""]
[5007,{"$f":"IF(A125=\"\",\"\",_xlfn.TEXTJOIN(\";\",1,X125:AQ125,102))","v":"500701;102"},99,7,1,0,1,1,1006,-20000,{"$nulls":4},{"$f":"IF(P125=\"\",\"\",VLOOKUP(P125,条件类型查询!A:B,2,FALSE))","v":""},null,null,null,4075,4150,"【纳福】玄晶","大量获取玄晶",{"$f":"COUNTIF(EventLinkConfig!O:O,EventConfig!A125)","v":1},500701,"","","","","","","","","","","","","","","","","","",""]
[]
[6001,"600101;600102;600103;600104;600105;600106;600107;600108;600109;600110;600111;600112;600113;600114;600115;600116;600117;102",7,5,1,0,1,null,null,null,35,1,1,null,{"$f":"IF(P127=\"\",\"\",VLOOKUP(P127,条件类型查询!A:B,2,FALSE))","v":"前置事件"},10,10003,null,4151,4152,"树间闲聊","雀灵儿1",{"$f":"COUNTIF(EventLinkConfig!O:O,EventConfig!A127)","v":17},600101,600102,600103,600104,600105,600106,600107,600108,600109,600110,600111,600112,600113,600114,600115,600116,600117,"","",""]
[6002,{"$f":"IF(A128=\"\",\"\",_xlfn.TEXTJOIN(\";\",1,X128:AQ128,102))","v":"600201;600202;600203;600204;600205;600206;102"},7,5,1,0,1,null,null,null,30,1,1,null,{"$f":"IF(P128=\"\",\"\",VLOOKUP(P128,条件类型查询!A:B,2,FALSE))","v":"前置事件"},10,{"$f":"A127","v":6001},null,4153,4154,"风铃寻趣","雀灵儿2",{"$f":"COUNTIF(EventLinkConfig!O:O,EventConfig!A128)","v":6},600201,600202,600203,600204,600205,600206,"","","","","","","","","","","","","",""]
[6003,"600301;600302;600303;600304;600305;600306;600307;600308;600309;600310;600311;600312;600313;600314;600315;102",7,5,1,0,1,null,null,null,25,1,1,null,{"$f":"IF(P129=\"\",\"\",VLOOKUP(P129,条件类型查询!A:B,2,FALSE))","v":"前置事件"},10,{"$f":"A128","v":6002},null,4155,4156,"守护雀巢","雀灵儿3",{"$f":"COUNTIF(EventLinkConfig!O:O,EventConfig!A129)","v":15},600301,600302,600303,600304,600305,600306,600307,600308,600309,600310,600311,600312,600313,600314,600315,"","","","",""]
[6004,"600401;600402;600403;600404;600405;600406;600407;600408;600409;102",7,5,1,0,1,null,null,null,20,1,1,null,{"$f":"IF(P130=\"\",\"\",VLOOKUP(P130,条件类型查询!A:B,2,FALSE))","v":"前置事件"},10,6003,null,4157,4158,"小飞试胆","雀灵儿4",{"$f":"COUNTIF(EventLinkConfig!O:O,EventConfig!A130)","v":9},600401,600402,600403,600404,600405,600406,600407,600408,600409,"","","","","","","","","","",""]
[6005,"600501;600502;600503;600504;600505;600506;102",7,5,1,0,1,null,null,null,15,1,1,null,{"$f":"IF(P131=\"\",\"\",VLOOKUP(P131,条件类型查询!A:B,2,FALSE))","v":"前置事件"},10,6004,null,4159,4160,"风涡营救","雀灵儿5",{"$f":"COUNTIF(EventLinkConfig!O:O,EventConfig!A131)","v":6},600501,600502,600503,600504,600505,600506,"","","","","","","","","","","","","",""]
[6006,"600601;600602;600603;600604;600605;600606;600607;600608;600609;102",7,5,1,0,1,null,null,null,10,1,1,null,{"$f":"IF(P132=\"\",\"\",VLOOKUP(P132,条件类型查询!A:B,2,FALSE))","v":"前置事件"},10,6005,null,4161,4162,"雀侣同行","雀灵儿6",{"$f":"COUNTIF(EventLinkConfig!O:O,EventConfig!A132)","v":9},600601,600602,600603,600604,600605,600606,600607,600608,600609,"","","","","","","","","","",""]
[]
[6011,{"$f":"IF(A134=\"\",\"\",_xlfn.TEXTJOIN(\";\",1,X134:AQ134,102))","v":"601101;601102;601103;601104;601105;601106;601107;102"},7,5,1,0,1,null,null,null,35,1,1,null,{"$f":"IF(P134=\"\",\"\",VLOOKUP(P134,条件类型查询!A:B,2,FALSE))","v":"前置事件"},10,6001,null,4165,4171,"绿林试探","云枝1",{"$f":"COUNTIF(EventLinkConfig!O:O,EventConfig!A134)","v":7},601101,601102,601103,601104,601105,601106,601107,"","","","","","","","","","","","",""]
[6012,"601201;601202;601203;601204;601205;601206;601207;601208;102",7,5,1,0,1,null,null,null,30,1,1,null,{"$f":"IF(P135=\"\",\"\",VLOOKUP(P135,条件类型查询!A:B,2,FALSE))","v":"前置事件"},10,{"$f":"A134","v":6011},null,4166,4172,"风林除妖","云枝2",{"$f":"COUNTIF(EventLinkConfig!O:O,EventConfig!A135)","v":8},{"$f":"IF($W135>=X$3,$A135*100+X$3,\"\")","v":601201},601202,601203,601204,601205,601206,601207,601208,"","","","","","","","",{"$f":"IF($W135>=AN$3,$A135*100+AN$3,\"\")","v":""},"","",""]
[6013,"601301;601302;601303;601304;601305;601306;601307;601308;601309;601310;102",7,5,1,0,1,null,null,null,25,1,1,null,{"$f":"IF(P136=\"\",\"\",VLOOKUP(P136,条件类型查询!A:B,2,FALSE))","v":"前置事件"},10,{"$f":"A135","v":6012},null,4167,4173,"琴音守护","云枝3",{"$f":"COUNTIF(EventLinkConfig!O:O,EventConfig!A136)","v":10},601301,601302,601303,601304,601305,601306,601307,601308,601309,601310,"","","","","","","","","",""]
[6014,"601401;601402;601403;601404;601405;601406;601407;601408;601409;601410;102",7,5,1,0,1,null,null,null,20,1,1,null,{"$f":"IF(P137=\"\",\"\",VLOOKUP(P137,条件类型查询!A:B,2,FALSE))","v":"前置事件"},10,6013,null,4168,4174,"往事如风","云枝4",{"$f":"COUNTIF(EventLinkConfig!O:O,EventConfig!A137)","v":10},601401,601402,601403,601404,601405,601406,601407,601408,601409,601410,"","","","","","","","","",""]
[6015,"601501;601502;601503;601504;601505;601506;601507;601508;601509;601510;601511;102",7,5,1,0,1,null,null,null,15,1,1,null,{"$f":"IF(P138=\"\",\"\",VLOOKUP(P138,条件类型查询!A:B,2,FALSE))","v":"前置事件"},10,6014,null,4169,4175,"大风危机","云枝5",{"$f":"COUNTIF(EventLinkConfig!O:O,EventConfig!A138)","v":11},601501,601502,601503,601504,601505,601506,601507,601508,601509,601510,601511,"","","","","","","","",""]
[6016,"601601;601602;601603;601604;601605;102",7,5,1,0,1,null,null,null,10,1,1,null,{"$f":"IF(P139=\"\",\"\",VLOOKUP(P139,条件类型查询!A:B,2,FALSE))","v":"前置事件"},10,6015,null,4170,4176,"枝侣同行","云枝6",{"$f":"COUNTIF(EventLinkConfig!O:O,EventConfig!A139)","v":5},601601,601602,601603,601604,601605,"","","","","","","","","","","","","","",""]
[]
[6021,{"$f":"IF(A141=\"\",\"\",_xlfn.TEXTJOIN(\";\",1,X141:AQ141,102))","v":"602101;602102;602103;602104;102"},7,5,1,0,1,null,null,null,35,1,1,null,{"$f":"IF(P141=\"\",\"\",VLOOKUP(P141,条件类型查询!A:B,2,FALSE))","v":"境界判断"},3,81,null,4179,4185,"1. 浮岛边缘.初遇风瑶","风瑶1",{"$f":"COUNTIF(EventLinkConfig!O:O,EventConfig!A141)","v":4},{"$f":"IF($W141>=X$3,$A141*100+X$3,\"\")","v":602101},602102,602103,602104,"","","","","","","","","","","","",{"$f":"IF($W141>=AN$3,$A141*100+AN$3,\"\")","v":""},"","",""]
[6022,"602201;602202;602203;602204;602205;602206;102",7,5,1,0,1,null,null,null,30,1,1,null,{"$f":"IF(P142=\"\",\"\",VLOOKUP(P142,条件类型查询!A:B,2,FALSE))","v":"前置事件"},10,{"$f":"A141","v":6021},null,4180,4186,"2. 风灵碎片.岛间搜寻","风瑶2",{"$f":"COUNTIF(EventLinkConfig!O:O,EventConfig!A142)","v":6},602201,602202,602203,602204,602205,602206,"","","","","","","","","","","","","",""]
[6023,"602301;602302;602303;102",7,5,1,0,1,null,null,null,25,1,1,null,{"$f":"IF(P143=\"\",\"\",VLOOKUP(P143,条件类型查询!A:B,2,FALSE))","v":"前置事件"},10,{"$f":"A142","v":6022},null,4181,4187,"3. 风中疑云.探听消息","风瑶3",{"$f":"COUNTIF(EventLinkConfig!O:O,EventConfig!A143)","v":3},602301,602302,602303,"","","","","","","","","","","","","","","","",""]
[6024,"602401;602402;602403;602404;102",7,5,1,0,1,null,null,null,20,1,1,null,{"$f":"IF(P144=\"\",\"\",VLOOKUP(P144,条件类型查询!A:B,2,FALSE))","v":"前置事件"},10,6023,null,4182,4188,"4. 隐秘信物.追踪残片","风瑶4",{"$f":"COUNTIF(EventLinkConfig!O:O,EventConfig!A144)","v":4},602401,602402,602403,602404,"","","","","","","","","","","","","","","",""]
[6025,"602501;602502;602503;102",7,5,1,0,1,null,null,null,15,1,1,null,{"$f":"IF(P145=\"\",\"\",VLOOKUP(P145,条件类型查询!A:B,2,FALSE))","v":"前置事件"},10,6024,null,4183,4189,"5. 风中密信.截获情报","风瑶5",{"$f":"COUNTIF(EventLinkConfig!O:O,EventConfig!A145)","v":3},602501,602502,602503,"","","","","","","","","","","","","","","","",""]
[6026,"602601;602602;602603;602604;602605;602606;602607;102",7,5,1,0,1,null,null,null,10,1,1,null,{"$f":"IF(P146=\"\",\"\",VLOOKUP(P146,条件类型查询!A:B,2,FALSE))","v":"前置事件"},10,6025,null,4184,4190,"6. 兄妹密谈.初步真相","风瑶6",{"$f":"COUNTIF(EventLinkConfig!O:O,EventConfig!A146)","v":7},602601,602602,602603,602604,602605,602606,602607,"","","","","","","","","","","","",""]
[]
[6031,{"$f":"IF(A148=\"\",\"\",_xlfn.TEXTJOIN(\";\",1,X148:AQ148,102))","v":"603101;603102;603103;603104;603105;603106;603107;603108;102"},7,5,1,0,1,null,null,null,35,1,1,null,{"$f":"IF(P148=\"\",\"\",VLOOKUP(P148,条件类型查询!A:B,2,FALSE))","v":"境界判断"},3,101,null,4201,4207,"1. 山溪小屋.初遇婉溪","婉溪1",{"$f":"COUNTIF(EventLinkConfig!O:O,EventConfig!A148)","v":8},603101,603102,603103,603104,603105,603106,603107,603108,"","","","","","","","","","","",""]
[6032,"603201;603202;603203;603204;102",7,5,1,0,1,null,null,null,30,1,1,null,{"$f":"IF(P149=\"\",\"\",VLOOKUP(P149,条件类型查询!A:B,2,FALSE))","v":"前置事件"},10,{"$f":"A148","v":6031},null,4202,4208,"2. 溪边劳作.浇灌灵田","婉溪2",{"$f":"COUNTIF(EventLinkConfig!O:O,EventConfig!A149)","v":4},603201,603202,603203,603204,"","","","","","","","","","","","","","","",""]
[6033,"603301;603302;603303;603304;603305;102",7,5,1,0,1,null,null,null,25,1,1,null,{"$f":"IF(P150=\"\",\"\",VLOOKUP(P150,条件类型查询!A:B,2,FALSE))","v":"前置事件"},10,{"$f":"A149","v":6032},null,4203,4209,"3. 清茶闲话.品茗论道","婉溪3",{"$f":"COUNTIF(EventLinkConfig!O:O,EventConfig!A150)","v":5},603301,603302,603303,603304,603305,"","","","","","","","","","","","","","",""]
[6034,"603401;603402;603403;102",7,5,1,0,1,null,null,null,20,1,1,null,{"$f":"IF(P151=\"\",\"\",VLOOKUP(P151,条件类型查询!A:B,2,FALSE))","v":"前置事件"},10,6033,null,4204,4210,"4. 玉佩稳灵.收集信物","婉溪4",{"$f":"COUNTIF(EventLinkConfig!O:O,EventConfig!A151)","v":3},603401,603402,603403,"","","","","","","","","","","","","","","","",""]
[6035,"603501;603502;603503;102",7,5,1,0,1,null,null,null,15,1,1,null,{"$f":"IF(P152=\"\",\"\",VLOOKUP(P152,条件类型查询!A:B,2,FALSE))","v":"前置事件"},10,6034,null,4205,4211,"5. 溪水异动.驱散干扰","婉溪5",{"$f":"COUNTIF(EventLinkConfig!O:O,EventConfig!A152)","v":3},603501,603502,603503,"","","","","","","","","","","","","","","","",""]
[6036,"603601;603602;603603;603604;603605;603606;102",7,5,1,0,1,null,null,null,10,1,1,null,{"$f":"IF(P153=\"\",\"\",VLOOKUP(P153,条件类型查询!A:B,2,FALSE))","v":"前置事件"},10,6035,null,4206,4212,"6. 兄妹心语.隐秘初现","婉溪6",{"$f":"COUNTIF(EventLinkConfig!O:O,EventConfig!A153)","v":6},603601,603602,603603,603604,603605,603606,"","","","","","","","","","","","","",""]
[]
[6041,{"$f":"IF(A155=\"\",\"\",_xlfn.TEXTJOIN(\";\",1,X155:AQ155,102))","v":"604101;604102;604103;604104;102"},7,5,1,0,1,null,null,null,35,1,1,null,{"$f":"IF(P155=\"\",\"\",VLOOKUP(P155,条件类型查询!A:B,2,FALSE))","v":"境界判断"},3,121,null,4215,4221,"1. 山林重逢.隐士闲谈","许由1",{"$f":"COUNTIF(EventLinkConfig!O:O,EventConfig!A155)","v":4},604101,604102,604103,604104,"","","","","","","","","","","","","","","",""]
[6042,"604201;604202;604203;604204;102",7,5,1,0,1,null,null,null,30,1,1,null,{"$f":"IF(P156=\"\",\"\",VLOOKUP(P156,条件类型查询!A:B,2,FALSE))","v":"前置事件"},10,{"$f":"A155","v":6041},null,4216,4222,"2. 山野采草.炼丹初助","许由2",{"$f":"COUNTIF(EventLinkConfig!O:O,EventConfig!A156)","v":4},604201,604202,604203,604204,"","","","","","","","","","","","","","","",""]
[6043,"604301;604302;604303;102",7,5,1,0,1,null,null,null,25,1,1,null,{"$f":"IF(P157=\"\",\"\",VLOOKUP(P157,条件类型查询!A:B,2,FALSE))","v":"前置事件"},10,{"$f":"A156","v":6042},null,4217,4223,"3. 丹炉论道.火候之悟","许由3",{"$f":"COUNTIF(EventLinkConfig!O:O,EventConfig!A157)","v":3},{"$f":"IF($W157>=X$3,$A157*100+X$3,\"\")","v":604301},604302,604303,"","","","","","","","","","","","","",{"$f":"IF($W157>=AN$3,$A157*100+AN$3,\"\")","v":""},"","",""]
[6044,"604401;604402;604403;604404;102",7,5,1,0,1,null,null,null,20,1,1,null,{"$f":"IF(P158=\"\",\"\",VLOOKUP(P158,条件类型查询!A:B,2,FALSE))","v":"前置事件"},10,6043,null,4218,4224,"4. 玉佩镇丹.稳气寻材","许由4",{"$f":"COUNTIF(EventLinkConfig!O:O,EventConfig!A158)","v":4},604401,604402,604403,604404,"","","","","","","","","","","","","","","",""]
[6045,"604501;604502;604503;604504;102",7,5,1,0,1,null,null,null,15,1,1,null,{"$f":"IF(P159=\"\",\"\",VLOOKUP(P159,条件类型查询!A:B,2,FALSE))","v":"前置事件"},10,6044,null,4219,4225,"5. 茶丹相融.品味山林","许由5",{"$f":"COUNTIF(EventLinkConfig!O:O,EventConfig!A159)","v":4},604501,604502,604503,604504,"","","","","","","","","","","","","","","",""]
[6046,"604601;604602;102",7,5,1,0,1,null,null,null,10,1,1,null,{"$f":"IF(P160=\"\",\"\",VLOOKUP(P160,条件类型查询!A:B,2,FALSE))","v":"前置事件"},10,6045,null,4220,4226,"6. 隐士心语.道在山林","许由6",{"$f":"COUNTIF(EventLinkConfig!O:O,EventConfig!A160)","v":2},604601,604602,"","","","","","","","","","","","","","","","","",""]
[]
[6051,{"$f":"IF(A162=\"\",\"\",_xlfn.TEXTJOIN(\";\",1,X162:AQ162,102))","v":"605101;605102;605103;605104;102"},7,5,1,0,1,null,null,null,35,1,1,null,{"$f":"IF(P162=\"\",\"\",VLOOKUP(P162,条件类型查询!A:B,2,FALSE))","v":"境界判断"},3,141,null,4231,4237,"1. 随风偶遇.风中疑问","疯道人1",{"$f":"COUNTIF(EventLinkConfig!O:O,EventConfig!A162)","v":4},{"$f":"IF($W162>=X$3,$A162*100+X$3,\"\")","v":605101},605102,605103,605104,"","","","","","","","","","","","",{"$f":"IF($W162>=AN$3,$A162*100+AN$3,\"\")","v":""},"","",""]
[6052,"605201;605202;605203;605204;102",7,5,1,0,1,null,null,null,30,1,1,null,{"$f":"IF(P163=\"\",\"\",VLOOKUP(P163,条件类型查询!A:B,2,FALSE))","v":"前置事件"},10,{"$f":"A162","v":6051},null,4232,4238,"2. 途中解乏","疯道人2",{"$f":"COUNTIF(EventLinkConfig!O:O,EventConfig!A163)","v":4},605201,605202,605203,605204,"","","","","","","","","","","","","","","",""]
[6053,"605301;605302;605303;605304;102",7,5,1,0,1,null,null,null,25,1,1,null,{"$f":"IF(P164=\"\",\"\",VLOOKUP(P164,条件类型查询!A:B,2,FALSE))","v":"前置事件"},10,{"$f":"A163","v":6052},null,4233,4239,"3.  游乐论道.评判之辨","疯道人3",{"$f":"COUNTIF(EventLinkConfig!O:O,EventConfig!A164)","v":4},605301,605302,605303,605304,"","","","","","","","","","","","","","","",""]
[6054,"605401;605402;605403;605404;102",7,5,1,0,1,null,null,null,20,1,1,null,{"$f":"IF(P165=\"\",\"\",VLOOKUP(P165,条件类型查询!A:B,2,FALSE))","v":"前置事件"},10,6053,null,4234,4240,"4. 灵石稳身.自在寻味","疯道人4",{"$f":"COUNTIF(EventLinkConfig!O:O,EventConfig!A165)","v":4},605401,605402,605403,605404,"","","","","","","","","","","","","","","",""]
[6055,"605501;605502;605503;605504;605505;102",7,5,1,0,1,null,null,null,15,1,1,null,{"$f":"IF(P166=\"\",\"\",VLOOKUP(P166,条件类型查询!A:B,2,FALSE))","v":"前置事件"},10,6054,null,4235,4241,"5. 沉迷赌博.有借无还","疯道人5",{"$f":"COUNTIF(EventLinkConfig!O:O,EventConfig!A166)","v":5},605501,605502,605503,605504,605505,"","","","","","","","","","","","","","",""]

{"sheet":"EventLinkConfig","index":1,"n_rows":876,"n_cols":37,"rows_kept":876,"cut":false,"hidden":false,"merged":[]}
["ID","conciseEventMessage",null,"EventConditionMessage",null,null,"PreShow","PreShowPar",null,"NPCID",null,"LanID",null,"DialogueType","EventID",null,"ConditionId",null,null,null,"optionType","optionPara1","optionPara2",{"$nulls":6},"PrizeIDs","PrizeNums","ResultType","ResultOptions"]
["int","int",null,"int",null,null,"int","int",null,"int",null,"int[]",null,"int","int",null,"int[]",null,null,null,"int","int[]","int[]",{"$nulls":6},"int[]","int[]","int","int[]"]
[null,null,5001,{"$nulls":31},5000]
["ID","任务列表中的简洁描述","任务列表中的简洁描述","无任务目标时的补充文本","无任务目标时的补充文本",null,"前置表现\n1飞行","前置表现参数\n",null,"对话NPCID","NPC","对话","对话1","对话框类型","属于哪个事件","步骤","条件判断类型","任务目标1","任务目标2","条件判断内容","步骤类型\n1=提供选项\n2=进入战斗\n5=自动退出\n3=获得奖励\n4=扣除道具","事件常量1\n1=步骤IDs\n2=战斗ID","事件常量2\n1=事件文本","选择1","选择1\n步骤：填选项文本1\n战斗：填战斗ID","选择1\n步骤1：跳转到哪一步\n不填默认跳转到下一步","选择2","选择2\n步骤：填选项文本2","选择1\n步骤2：跳转到哪一步\n不填默认跳转到下一步","事件结局奖励","事件结局奖励数量","事件结束类型\n1：跳转步骤\n2：根据战斗结果跳转\n3.触发新事件","事件结局后提供的选项\n1.EventLinkId\n2.胜利id;失败id\n3.EventConfigId","1.步骤ID（不填默认为下一个步骤ID）\n2.胜利ID（不填默认为下一个步骤ID）\n3.事件ID（不填默认为下一个事件ID）","语言表最大值"]
[100,{"$f":"IF(C5=\"\",\"\",IF(C5=C4,B4,MAX(AI4,AI3)+1))","v":""},null,{"$f":"IF(E5=\"\",\"\",IF(E5=E4,D4,MAX(AI4,AI3,B5)+1))","v":""},{"$nulls":7},{"$f":"IF(M5=\"\",\"\",MAX(AI4,AI3,B5,D5)+1)","v":5001},"你被怪物击败，神识也随之消散了。",null,null,{"$f":"IF(O5=\"\",\"\",IF(O5=O4,P4+1,1))","v":""},{"$f":"_xlfn.TEXTJOIN(\";\",1,R5:S5)","v":""},null,null,{"$f":"IF(R5=\"\",\"\",\"-\"&VLOOKUP(R5,EventConditionConfig!A:C,3,FALSE)&IF(S5=\"\",\"\",CHAR(10)&\"-\"&VLOOKUP(S5,EventConditionConfig!A:C,3,FALSE)))","v":""},null,null,null,{"$f":"IF(OR(ISNUMBER(Y5),Y5=\"\"),\"\",MAX(AI4,AI3,B5,D5,L5)+1)","v":""},null,null,{"$f":"IF(OR(ISNUMBER(AB5),AB5=\"\"),\"\",X5+1)","v":""},{"$nulls":7},{"$f":"IF(A5=\"\",\"\",MAX(B5,D5,L5,X5,AA5,AI4,AI3))","v":5001}]
[101,{"$f":"IF(C6=\"\",\"\",IF(C6=C5,B5,MAX(AI5,AI4)+1))","v":""},null,{"$f":"IF(E6=\"\",\"\",IF(E6=E5,D5,MAX(AI5,AI4,B6)+1))","v":""},{"$nulls":7},{"$f":"IF(M6=\"\",\"\",MAX(AI5,AI4,B6,D6)+1)","v":5002},"你败下阵来，感到头晕目眩，试图努力回忆起刚才发生的事情。",null,null,{"$f":"IF(O6=\"\",\"\",IF(O6=O5,P5+1,1))","v":""},{"$f":"_xlfn.TEXTJOIN(\";\",1,R6:S6)","v":""},null,null,{"$f":"IF(R6=\"\",\"\",\"-\"&VLOOKUP(R6,EventConditionConfig!A:C,3,FALSE)&IF(S6=\"\",\"\",CHAR(10)&\"-\"&VLOOKUP(S6,EventConditionConfig!A:C,3,FALSE)))","v":""},null,null,null,{"$f":"IF(OR(ISNUMBER(Y6),Y6=\"\"),\"\",MAX(AI5,AI4,B6,D6,L6)+1)","v":""},null,null,{"$f":"IF(OR(ISNUMBER(AB6),AB6=\"\"),\"\",X6+1)","v":""},{"$nulls":7},{"$f":"IF(A6=\"\",\"\",MAX(B6,D6,L6,X6,AA6,AI5,AI4))","v":5002}]
[102,"",null,"",{"$nulls":7},5003,"战斗胜利，你的任务进度增加了。",null,null,"",{"$nulls":7},"",null,null,"",{"$nulls":7},5003]
[null,"",null,"",{"$nulls":7},"",null,null,null,"","",null,null,{"$f":"IF(R8=\"\",\"\",\"-\"&VLOOKUP(R8,EventConditionConfig!A:C,3,FALSE)&IF(S8=\"\",\"\",CHAR(10)&\"-\"&VLOOKUP(S8,EventConditionConfig!A:C,3,FALSE)))","v":""},null,null,null,"",null,null,"",{"$nulls":7},""]
[1001,"",null,"",{"$nulls":5},2,null,5004,"你遇到一只奄奄一息的野狼，从周围四散的血迹来看，想必它刚才经历了一场恶战。",null,1,1,"",null,null,{"$f":"IF(R9=\"\",\"\",\"-\"&VLOOKUP(R9,EventConditionConfig!A:C,3,FALSE)&IF(S9=\"\",\"\",CHAR(10)&\"-\"&VLOOKUP(S9,EventConditionConfig!A:C,3,FALSE)))","v":""},1,"1002;1003","198;199",5005,"趁它虚弱赶紧除掉它！",null,5006,"你不忍见它受苦，选择帮它减轻痛苦。",{"$nulls":6},5006]
[1002,"",null,"",{"$nulls":7},5007,"野狼用它最后一口气，朝你扑了过来！",null,1,2,"",null,null,{"$f":"IF(R10=\"\",\"\",\"-\"&VLOOKUP(R10,EventConditionConfig!A:C,3,FALSE)&IF(S10=\"\",\"\",CHAR(10)&\"-\"&VLOOKUP(S10,EventConditionConfig!A:C,3,FALSE)))","v":""},2,100001,null,"",null,null,"",{"$nulls":4},2,"1004;100",null,5007]
[1003,"",null,"",{"$nulls":7},5008,"你抽出匕首准备了结它的生命，却发现怀中还躺着一只刚出生的狼崽。",null,1,3,"",null,null,{"$f":"IF(R11=\"\",\"\",\"-\"&VLOOKUP(R11,EventConditionConfig!A:C,3,FALSE)&IF(S11=\"\",\"\",CHAR(10)&\"-\"&VLOOKUP(S11,EventConditionConfig!A:C,3,FALSE)))","v":""},1,1005,200,"",null,null,"",{"$nulls":7},5008]
[1004,"",null,"",{"$nulls":7},5009,"随着你的最后一击，野狼应声倒下，你罔顾它幽怨的眼神，从它怀中拿走了一些财物。",null,1,4,"",null,null,{"$f":"IF(R12=\"\",\"\",\"-\"&VLOOKUP(R12,EventConditionConfig!A:C,3,FALSE)&IF(S12=\"\",\"\",CHAR(10)&\"-\"&VLOOKUP(S12,EventConditionConfig!A:C,3,FALSE)))","v":""},3,null,null,"",null,null,"",null,null,1002,100,null,null,null,5009]
[1005,"",null,"",{"$nulls":7},5010,"母狼似乎懂你要做什么，眼神归于平静。你终结了她，决定收养这只小狼仔。",null,1,5,"",null,null,{"$f":"IF(R13=\"\",\"\",\"-\"&VLOOKUP(R13,EventConditionConfig!A:C,3,FALSE)&IF(S13=\"\",\"\",CHAR(10)&\"-\"&VLOOKUP(S13,EventConditionConfig!A:C,3,FALSE)))","v":""},3,null,null,"",null,null,"",null,null,1001,50,null,null,null,5010]
[null,"",null,"",{"$nulls":7},"",null,null,null,"","",null,null,{"$f":"IF(R14=\"\",\"\",\"-\"&VLOOKUP(R14,EventConditionConfig!A:C,3,FALSE)&IF(S14=\"\",\"\",CHAR(10)&\"-\"&VLOOKUP(S14,EventConditionConfig!A:C,3,FALSE)))","v":""},null,null,null,"",null,null,"",{"$nulls":7},""]
[1010,"",null,"",{"$nulls":7},5011,"从不远处传来刀剑声，听起来双方已经精疲力尽了。",null,2,1,"",null,null,{"$f":"IF(R15=\"\",\"\",\"-\"&VLOOKUP(R15,EventConditionConfig!A:C,3,FALSE)&IF(S15=\"\",\"\",CHAR(10)&\"-\"&VLOOKUP(S15,EventConditionConfig!A:C,3,FALSE)))","v":""},1,"1011;1012","201;202",5012,"去看看",null,5013,"(需拥有法宝凝神珠）听起来都是鸡毛蒜皮的小摩擦，你选择祭出凝神珠化解他们的怨气。",{"$nulls":6},5013]
[1011,"",null,"",{"$nulls":7},5014,"你走进一看，原来是一伙山贼分赃不均内讧了起来。你看着旁边被砍的七零八落的轿子和这群山贼，选择怎么做呢：",null,2,2,"",null,null,{"$f":"IF(R16=\"\",\"\",\"-\"&VLOOKUP(R16,EventConditionConfig!A:C,3,FALSE)&IF(S16=\"\",\"\",CHAR(10)&\"-\"&VLOOKUP(S16,EventConditionConfig!A:C,3,FALSE)))","v":""},1,"1014;1015","203;204",5015,"你顿时杀心四起，决定杀了贼寇，救出轿中之人",null,5016,"盗贼们个个双眼杀的通红，你决定来个渔翁得利。",{"$nulls":6},5016]
[1012,"",null,"",{"$nulls":7},5017,"法宝现身，效果立竿见影，刀剑声逐渐消失，这个世界安静了。",null,2,3,"",null,null,{"$f":"IF(R17=\"\",\"\",\"-\"&VLOOKUP(R17,EventConditionConfig!A:C,3,FALSE)&IF(S17=\"\",\"\",CHAR(10)&\"-\"&VLOOKUP(S17,EventConditionConfig!A:C,3,FALSE)))","v":""},3,null,null,"",null,null,"",null,null,1001,10,null,null,null,5017,1,"1001;1"]
[1014,"",null,"",{"$nulls":7},5018,"你怒斥贼寇的恶行，贼寇们被你激怒了，准备迎战！",null,2,4,"",null,null,{"$f":"IF(R18=\"\",\"\",\"-\"&VLOOKUP(R18,EventConditionConfig!A:C,3,FALSE)&IF(S18=\"\",\"\",CHAR(10)&\"-\"&VLOOKUP(S18,EventConditionConfig!A:C,3,FALSE)))","v":""},2,100002,null,"",null,null,"",{"$nulls":4},2,"1016;100",null,5018,2,"4;150"]
[1015,"",null,"",{"$nulls":7},5019,"你趁人不备顺走了轿内主人的包裹，任留轿内人痛苦的挣扎。",null,2,5,"",null,null,{"$f":"IF(R19=\"\",\"\",\"-\"&VLOOKUP(R19,EventConditionConfig!A:C,3,FALSE)&IF(S19=\"\",\"\",CHAR(10)&\"-\"&VLOOKUP(S19,EventConditionConfig!A:C,3,FALSE)))","v":""},3,null,null,"",null,null,"",null,null,1003,1000,null,null,null,5019]
[1016,"",null,"",{"$nulls":7},5020,"杀退贼寇，你上演了一出英雄救美的桥段。姑娘为了答谢你的救命之恩，将藏在贴身处的珍贵首饰赠与你作为定情信物。",null,2,6,"",null,null,{"$f":"IF(R20=\"\",\"\",\"-\"&VLOOKUP(R20,EventConditionConfig!A:C,3,FALSE)&IF(S20=\"\",\"\",CHAR(10)&\"-\"&VLOOKUP(S20,EventConditionConfig!A:C,3,FALSE)))","v":""},null,null,null,"",null,null,"",null,null,1001,200,null,null,null,5020]
[null,"",null,"",{"$nulls":7},"",null,null,null,"","",null,null,{"$f":"IF(R21=\"\",\"\",\"-\"&VLOOKUP(R21,EventConditionConfig!A:C,3,FALSE)&IF(S21=\"\",\"\",CHAR(10)&\"-\"&VLOOKUP(S21,EventConditionConfig!A:C,3,FALSE)))","v":""},null,null,null,"",null,null,"",{"$nulls":7},""]
[1020,"",null,"",{"$nulls":7},5021,"从不远处传来刀剑声，听起来双方已经精疲力尽了。",null,null,"","",null,null,{"$f":"IF(R22=\"\",\"\",\"-\"&VLOOKUP(R22,EventConditionConfig!A:C,3,FALSE)&IF(S22=\"\",\"\",CHAR(10)&\"-\"&VLOOKUP(S22,EventConditionConfig!A:C,3,FALSE)))","v":""},1,"1021;1022","201;202",5022,"去看看",null,5023,"使用法宝息事宁人",{"$nulls":6},5023]
[1021,"",null,"",{"$nulls":7},5024,"你走进一看，原来是一伙山贼抢了一名坐在官轿内的女子，因分赃不均内讧了起来。山贼二话不说就朝你冲了过来！",null,null,"","",null,null,{"$f":"IF(R23=\"\",\"\",\"-\"&VLOOKUP(R23,EventConditionConfig!A:C,3,FALSE)&IF(S23=\"\",\"\",CHAR(10)&\"-\"&VLOOKUP(S23,EventConditionConfig!A:C,3,FALSE)))","v":""},2,100003,null,"",null,null,"",null,null,1002,100,2,"1026;100",null,5024]
[1022,"",null,"",{"$nulls":7},5025,"法宝现身，效果立竿见影，刀剑声逐渐消失，这个世界安静了。",null,null,"","",null,null,{"$f":"IF(R24=\"\",\"\",\"-\"&VLOOKUP(R24,EventConditionConfig!A:C,3,FALSE)&IF(S24=\"\",\"\",CHAR(10)&\"-\"&VLOOKUP(S24,EventConditionConfig!A:C,3,FALSE)))","v":""},4,null,null,"",null,null,"",null,null,1002,10,null,null,null,5025,1,"1001;1"]
[1024,"",null,"",{"$nulls":7},5026,"你大声怒斥贼寇的恶行，贼首发现你了，准备迎战！",null,null,"","",null,null,{"$f":"IF(R25=\"\",\"\",\"-\"&VLOOKUP(R25,EventConditionConfig!A:C,3,FALSE)&IF(S25=\"\",\"\",CHAR(10)&\"-\"&VLOOKUP(S25,EventConditionConfig!A:C,3,FALSE)))","v":""},2,100004,null,"",null,null,"",null,null,1004,100,2,"1016;100",null,5026,2,"4;150"]
[1025,"",null,"",{"$nulls":7},5027,"你趁人不备顺走了轿内主人的包裹，任留轿内人痛苦的挣扎。",null,null,"","",null,null,{"$f":"IF(R26=\"\",\"\",\"-\"&VLOOKUP(R26,EventConditionConfig!A:C,3,FALSE)&IF(S26=\"\",\"\",CHAR(10)&\"-\"&VLOOKUP(S26,EventConditionConfig!A:C,3,FALSE)))","v":""},3,null,null,"",null,null,"",null,null,1002,1000,null,null,null,5027]
[1026,"",null,"",{"$nulls":7},5028,"你将山贼们打的落花流水，成功吸引了山贼头子的注意。",null,null,"","",null,null,{"$f":"IF(R27=\"\",\"\",\"-\"&VLOOKUP(R27,EventConditionConfig!A:C,3,FALSE)&IF(S27=\"\",\"\",CHAR(10)&\"-\"&VLOOKUP(S27,EventConditionConfig!A:C,3,FALSE)))","v":""},1,"1024;1025","205;206",5029,"选择正面迎战山贼头领（困难）",null,5030,"你决定避开山贼头领的视线，来个渔翁得利。",{"$nulls":6},5030]
[null,"",null,"",{"$nulls":7},"",null,null,null,"","",null,null,{"$f":"IF(R28=\"\",\"\",\"-\"&VLOOKUP(R28,EventConditionConfig!A:C,3,FALSE)&IF(S28=\"\",\"\",CHAR(10)&\"-\"&VLOOKUP(S28,EventConditionConfig!A:C,3,FALSE)))","v":""},null,null,null,"",null,null,"",{"$nulls":7},""]
[1030,"",null,"",{"$nulls":7},5031,"发现一个血迹斑斑的背包，好像刚刚发生了战斗，我翻翻背包...",null,4,1,"",null,null,{"$f":"IF(R29=\"\",\"\",\"-\"&VLOOKUP(R29,EventConditionConfig!A:C,3,FALSE)&IF(S29=\"\",\"\",CHAR(10)&\"-\"&VLOOKUP(S29,EventConditionConfig!A:C,3,FALSE)))","v":""},3,null,null,"",null,null,"",null,null,1002,10,null,null,null,5031]
[null,"",null,"",{"$nulls":7},"",null,null,null,"","",null,null,{"$f":"IF(R30=\"\",\"\",\"-\"&VLOOKUP(R30,EventConditionConfig!A:C,3,FALSE)&IF(S30=\"\",\"\",CHAR(10)&\"-\"&VLOOKUP(S30,EventConditionConfig!A:C,3,FALSE)))","v":""},null,null,null,"",null,null,"",{"$nulls":7},""]
[1040,"",null,"",{"$nulls":7},5032,"啥也没有....除了钱",null,5,1,"",null,null,{"$f":"IF(R31=\"\",\"\",\"-\"&VLOOKUP(R31,EventConditionConfig!A:C,3,FALSE)&IF(S31=\"\",\"\",CHAR(10)&\"-\"&VLOOKUP(S31,EventConditionConfig!A:C,3,FALSE)))","v":""},3,null,null,"",null,null,"",null,null,1002,10,null,null,null,5032]
[null,"",null,"",{"$nulls":7},"",null,null,null,"","",null,null,{"$f":"IF(R32=\"\",\"\",\"-\"&VLOOKUP(R32,EventConditionConfig!A:C,3,FALSE)&IF(S32=\"\",\"\",CHAR(10)&\"-\"&VLOOKUP(S32,EventConditionConfig!A:C,3,FALSE)))","v":""},null,null,null,"",null,null,"",{"$nulls":7},""]
[1050,"",null,"",{"$nulls":7},5033,"两夫妻在吵架，似乎为了一件大事..",null,6,1,"",null,null,{"$f":"IF(R33=\"\",\"\",\"-\"&VLOOKUP(R33,EventConditionConfig!A:C,3,FALSE)&IF(S33=\"\",\"\",CHAR(10)&\"-\"&VLOOKUP(S33,EventConditionConfig!A:C,3,FALSE)))","v":""},3,null,null,"",null,null,"",null,null,"1002;1001","10;20",null,null,null,5033]
[null,"",null,"",{"$nulls":7},"",null,null,null,"","",null,null,{"$f":"IF(R34=\"\",\"\",\"-\"&VLOOKUP(R34,EventConditionConfig!A:C,3,FALSE)&IF(S34=\"\",\"\",CHAR(10)&\"-\"&VLOOKUP(S34,EventConditionConfig!A:C,3,FALSE)))","v":""},null,null,null,"",null,null,"",{"$nulls":7},""]
[1060,"",null,"",{"$nulls":7},5034,"没有任何发现，但感觉空气很好....下次有空再来看看",null,7,1,"",null,null,{"$f":"IF(R35=\"\",\"\",\"-\"&VLOOKUP(R35,EventConditionConfig!A:C,3,FALSE)&IF(S35=\"\",\"\",CHAR(10)&\"-\"&VLOOKUP(S35,EventConditionConfig!A:C,3,FALSE)))","v":""},null,null,null,"",null,null,"",{"$nulls":7},5034]
[null,"",null,"",{"$nulls":7},"",null,null,null,"","",null,null,{"$f":"IF(R36=\"\",\"\",\"-\"&VLOOKUP(R36,EventConditionConfig!A:C,3,FALSE)&IF(S36=\"\",\"\",CHAR(10)&\"-\"&VLOOKUP(S36,EventConditionConfig!A:C,3,FALSE)))","v":""},null,null,null,"",null,null,"",{"$nulls":7},""]
[{"$f":"O37*100+P37","v":1101},"",null,"",{"$nulls":7},5035,"你遇到一只拦路的妖兽，它看起来饥肠辘辘",null,11,1,"",null,null,{"$f":"IF(R37=\"\",\"\",\"-\"&VLOOKUP(R37,EventConditionConfig!A:C,3,FALSE)&IF(S37=\"\",\"\",CHAR(10)&\"-\"&VLOOKUP(S37,EventConditionConfig!A:C,3,FALSE)))","v":""},null,null,null,"",null,null,"",{"$nulls":4},1,{"$f":"A38","v":1102},null,5035]
[{"$f":"O38*100+P38","v":1102},"",null,"",{"$nulls":7},5036,"你扔出一块鹿肉，趁它抢食之际，你祭出腰间的法宝",null,11,2,"",null,null,{"$f":"IF(R38=\"\",\"\",\"-\"&VLOOKUP(R38,EventConditionConfig!A:C,3,FALSE)&IF(S38=\"\",\"\",CHAR(10)&\"-\"&VLOOKUP(S38,EventConditionConfig!A:C,3,FALSE)))","v":""},null,null,null,"",null,null,"",{"$nulls":4},1,{"$f":"A39","v":1103},null,5036]
[{"$f":"O39*100+P39","v":1103},"",null,"",{"$nulls":7},5037,"你成功诱捕了怪物，并从它身上吸取了一些修为",null,11,3,{"$f":"_xlfn.TEXTJOIN(\";\",1,R39:S39)","v":""},null,null,{"$f":"IF(R39=\"\",\"\",\"-\"&VLOOKUP(R39,EventConditionConfig!A:C,3,FALSE)&IF(S39=\"\",\"\",CHAR(10)&\"-\"&VLOOKUP(S39,EventConditionConfig!A:C,3,FALSE)))","v":""},null,null,null,"",null,null,"",{"$nulls":7},5037]
[null,"",null,"",{"$nulls":7},"",null,null,null,"","",null,null,{"$f":"IF(R40=\"\",\"\",\"-\"&VLOOKUP(R40,EventConditionConfig!A:C,3,FALSE)&IF(S40=\"\",\"\",CHAR(10)&\"-\"&VLOOKUP(S40,EventConditionConfig!A:C,3,FALSE)))","v":""},null,null,null,"",null,null,"",{"$nulls":7},""]
[{"$f":"O41*100+P41","v":1201},"",null,"",{"$nulls":7},5038,"你偶遇一处仙气四溢无人生活的洞穴",null,12,1,"",null,null,{"$f":"IF(R41=\"\",\"\",\"-\"&VLOOKUP(R41,EventConditionConfig!A:C,3,FALSE)&IF(S41=\"\",\"\",CHAR(10)&\"-\"&VLOOKUP(S41,EventConditionConfig!A:C,3,FALSE)))","v":""},null,null,null,"",null,null,"",{"$nulls":4},1,{"$f":"A42","v":1202},null,5038]
[{"$f":"O42*100+P42","v":1202},"",null,"",{"$nulls":7},5039,"不知哪位高人在洞穴内壁留下绝世秘籍",null,12,2,"",null,null,{"$f":"IF(R42=\"\",\"\",\"-\"&VLOOKUP(R42,EventConditionConfig!A:C,3,FALSE)&IF(S42=\"\",\"\",CHAR(10)&\"-\"&VLOOKUP(S42,EventConditionConfig!A:C,3,FALSE)))","v":""},null,null,null,"",null,null,"",{"$nulls":4},1,{"$f":"A43","v":1203},null,5039]
[{"$f":"O43*100+P43","v":1203},"",null,"",{"$nulls":7},5040,"你仔细研读后，功法得到精进",null,12,3,"",null,null,{"$f":"IF(R43=\"\",\"\",\"-\"&VLOOKUP(R43,EventConditionConfig!A:C,3,FALSE)&IF(S43=\"\",\"\",CHAR(10)&\"-\"&VLOOKUP(S43,EventConditionConfig!A:C,3,FALSE)))","v":""},null,null,null,"",null,null,"",{"$nulls":7},5040]
[null,"",null,"",{"$nulls":7},"",null,null,null,"","",null,null,{"$f":"IF(R44=\"\",\"\",\"-\"&VLOOKUP(R44,EventConditionConfig!A:C,3,FALSE)&IF(S44=\"\",\"\",CHAR(10)&\"-\"&VLOOKUP(S44,EventConditionConfig!A:C,3,FALSE)))","v":""},null,null,null,"",null,null,"",{"$nulls":7},""]
[{"$f":"O45*100+P45","v":1301},"",null,"",{"$nulls":7},5041,"你偶然发现一只枯萎的葫芦，但泛着蓝光",null,13,1,"",null,null,{"$f":"IF(R45=\"\",\"\",\"-\"&VLOOKUP(R45,EventConditionConfig!A:C,3,FALSE)&IF(S45=\"\",\"\",CHAR(10)&\"-\"&VLOOKUP(S45,EventConditionConfig!A:C,3,FALSE)))","v":""},null,null,null,"",null,null,"",{"$nulls":4},1,{"$f":"A46","v":1302},null,5041]
[{"$f":"O46*100+P46","v":1302},"",null,"",{"$nulls":7},5042,"好奇的你凑近一看，不知谁将这件法宝遗落于此",null,13,2,"",null,null,{"$f":"IF(R46=\"\",\"\",\"-\"&VLOOKUP(R46,EventConditionConfig!A:C,3,FALSE)&IF(S46=\"\",\"\",CHAR(10)&\"-\"&VLOOKUP(S46,EventConditionConfig!A:C,3,FALSE)))","v":""},null,null,null,"",null,null,"",{"$nulls":4},1,{"$f":"A47","v":1303},null,5042]
[1303,"",null,"",{"$nulls":7},5043,"但法宝已经枯竭，你后悔没有早点发现它",null,13,3,"",null,null,{"$f":"IF(R47=\"\",\"\",\"-\"&VLOOKUP(R47,EventConditionConfig!A:C,3,FALSE)&IF(S47=\"\",\"\",CHAR(10)&\"-\"&VLOOKUP(S47,EventConditionConfig!A:C,3,FALSE)))","v":""},null,null,null,"",null,null,"",{"$nulls":4},1,{"$f":"A48","v":1304},null,5043]
[1304,"",null,"",{"$nulls":7},5044,"最后你从法宝中回收了一些玄晶",null,13,4,"",null,null,{"$f":"IF(R48=\"\",\"\",\"-\"&VLOOKUP(R48,EventConditionConfig!A:C,3,FALSE)&IF(S48=\"\",\"\",CHAR(10)&\"-\"&VLOOKUP(S48,EventConditionConfig!A:C,3,FALSE)))","v":""},null,null,null,"",null,null,"",{"$nulls":7},5044]
[null,"",null,"",{"$nulls":7},"",null,null,null,"","",null,null,{"$f":"IF(R49=\"\",\"\",\"-\"&VLOOKUP(R49,EventConditionConfig!A:C,3,FALSE)&IF(S49=\"\",\"\",CHAR(10)&\"-\"&VLOOKUP(S49,EventConditionConfig!A:C,3,FALSE)))","v":""},null,null,null,"",null,null,"",{"$nulls":7},""]
[{"$f":"O50*100+P50","v":1401},"",null,"",{"$nulls":7},5045,"你路过一座矿山，一个闪光点引起了你的注意",null,14,1,{"$f":"_xlfn.TEXTJOIN(\";\",1,R50:S50)","v":""},null,null,{"$f":"IF(R50=\"\",\"\",\"-\"&VLOOKUP(R50,EventConditionConfig!A:C,3,FALSE)&IF(S50=\"\",\"\",CHAR(10)&\"-\"&VLOOKUP(S50,EventConditionConfig!A:C,3,FALSE)))","v":""},null,null,null,"",null,null,"",{"$nulls":4},1,{"$f":"A51","v":1402},null,5045]
[{"$f":"O51*100+P51","v":1402},"",null,"",{"$nulls":7},5046,"原来这是一颗珍贵的绿玛瑙",null,14,2,"",null,null,{"$f":"IF(R51=\"\",\"\",\"-\"&VLOOKUP(R51,EventConditionConfig!A:C,3,FALSE)&IF(S51=\"\",\"\",CHAR(10)&\"-\"&VLOOKUP(S51,EventConditionConfig!A:C,3,FALSE)))","v":""},null,null,null,"",null,null,"",{"$nulls":4},1,{"$f":"A52","v":1403},null,5046]
[{"$f":"O52*100+P52","v":1403},"",null,"",{"$nulls":7},5047,"你祭出法宝，将它转化成一些灵石",null,14,3,"",null,null,{"$f":"IF(R52=\"\",\"\",\"-\"&VLOOKUP(R52,EventConditionConfig!A:C,3,FALSE)&IF(S52=\"\",\"\",CHAR(10)&\"-\"&VLOOKUP(S52,EventConditionConfig!A:C,3,FALSE)))","v":""},null,null,null,"",null,null,"",{"$nulls":7},5047]
[null,"",null,"",{"$nulls":7},"",null,null,null,"",{"$nulls":7},"",null,null,"",{"$nulls":7},""]
[{"$f":"O54*100+P54","v":1501},"",null,"",{"$nulls":7},5048,"漫漫旅途，你通过神识释放增进不少阅历",null,15,1,{"$f":"_xlfn.TEXTJOIN(\";\",1,R54:S54)","v":""},null,null,{"$f":"IF(R54=\"\",\"\",\"-\"&VLOOKUP(R54,EventConditionConfig!A:C,3,FALSE)&IF(S54=\"\",\"\",CHAR(10)&\"-\"&VLOOKUP(S54,EventConditionConfig!A:C,3,FALSE)))","v":""},null,null,null,"",null,null,"",{"$nulls":4},1,{"$f":"A55","v":1502},null,5048]
[{"$f":"O55*100+P55","v":1502},"",null,"",{"$nulls":7},5049,"但随之而来的是神识用尽的空虚感",null,15,2,"",null,null,{"$f":"IF(R55=\"\",\"\",\"-\"&VLOOKUP(R55,EventConditionConfig!A:C,3,FALSE)&IF(S55=\"\",\"\",CHAR(10)&\"-\"&VLOOKUP(S55,EventConditionConfig!A:C,3,FALSE)))","v":""},null,null,null,"",null,null,"",{"$nulls":4},1,{"$f":"A56","v":1503},null,5049]
[{"$f":"O56*100+P56","v":1503},"",null,"",{"$nulls":7},5050,"但这种感受何尝又不是一种新的阅历呢",null,15,3,"",null,null,{"$f":"IF(R56=\"\",\"\",\"-\"&VLOOKUP(R56,EventConditionConfig!A:C,3,FALSE)&IF(S56=\"\",\"\",CHAR(10)&\"-\"&VLOOKUP(S56,EventConditionConfig!A:C,3,FALSE)))","v":""},null,null,null,"",null,null,"",{"$nulls":4},1,{"$f":"A57","v":1504},null,5050]
[{"$f":"O57*100+P57","v":1504},"",null,"",{"$nulls":7},5051,"你将这些新的感悟存进了一颗神识丹",null,15,4,{"$f":"_xlfn.TEXTJOIN(\";\",1,R57:S57)","v":""},null,null,{"$f":"IF(R57=\"\",\"\",\"-\"&VLOOKUP(R57,EventConditionConfig!A:C,3,FALSE)&IF(S57=\"\",\"\",CHAR(10)&\"-\"&VLOOKUP(S57,EventConditionConfig!A:C,3,FALSE)))","v":""},null,null,null,"",null,null,"",{"$nulls":7},5051]
[null,"",null,"",{"$nulls":7},"",null,null,null,"",{"$nulls":7},"",null,null,"",{"$nulls":7},""]
[{"$f":"O59*100+P59","v":1601},"",null,"",{"$nulls":7},5052,"两只体型硕大的妖兽正在为了一颗灵丹而缠斗",null,16,1,{"$f":"_xlfn.TEXTJOIN(\";\",1,R59:S59)","v":""},null,null,{"$f":"IF(R59=\"\",\"\",\"-\"&VLOOKUP(R59,EventConditionConfig!A:C,3,FALSE)&IF(S59=\"\",\"\",CHAR(10)&\"-\"&VLOOKUP(S59,EventConditionConfig!A:C,3,FALSE)))","v":""},null,null,null,"",null,null,"",{"$nulls":4},1,{"$f":"A60","v":1602},null,5052]
[{"$f":"O60*100+P60","v":1602},"",null,"",{"$nulls":7},5053,"突然一道闪电自天而降，正中两只妖兽",null,16,2,"",null,null,{"$f":"IF(R60=\"\",\"\",\"-\"&VLOOKUP(R60,EventConditionConfig!A:C,3,FALSE)&IF(S60=\"\",\"\",CHAR(10)&\"-\"&VLOOKUP(S60,EventConditionConfig!A:C,3,FALSE)))","v":""},null,null,null,"",null,null,"",{"$nulls":4},1,{"$f":"A61","v":1603},null,5053]
[{"$f":"O61*100+P61","v":1603},"",null,"",{"$nulls":7},5054,"何其悲哉，念完往生咒，你顺手拿走了这颗珍贵的妖丹",null,16,3,"",null,null,{"$f":"IF(R61=\"\",\"\",\"-\"&VLOOKUP(R61,EventConditionConfig!A:C,3,FALSE)&IF(S61=\"\",\"\",CHAR(10)&\"-\"&VLOOKUP(S61,EventConditionConfig!A:C,3,FALSE)))","v":""},null,null,null,"",null,null,"",{"$nulls":7},5054]
[null,"",null,"",{"$nulls":7},"",null,null,null,"",{"$nulls":7},"",null,null,"",{"$nulls":7},""]
[9003,"",null,"",{"$nulls":7},5055,"你在闭关修炼时，感受到一股凌厉的剑意波动。深入探查，发现一名白衣剑修“清霜”盘坐于谷中，周围剑气环绕，正与一柄散发不祥气息的灵剑对峙。她似在参悟剑诀，却灵气不足，剑灵桀骜。",null,null,"","",null,null,{"$f":"IF(R63=\"\",\"\",\"-\"&VLOOKUP(R63,EventConditionConfig!A:C,3,FALSE)&IF(S63=\"\",\"\",CHAR(10)&\"-\"&VLOOKUP(S63,EventConditionConfig!A:C,3,FALSE)))","v":""},1,"9004;9006","2041;2042","",null,null,"",{"$nulls":7},5055]
[9004,"",null,"",{"$nulls":7},5056,"你上前以剑意对抗剑灵",null,null,"","",null,null,{"$f":"IF(R64=\"\",\"\",\"-\"&VLOOKUP(R64,EventConditionConfig!A:C,3,FALSE)&IF(S64=\"\",\"\",CHAR(10)&\"-\"&VLOOKUP(S64,EventConditionConfig!A:C,3,FALSE)))","v":""},2,100001,null,"",null,null,"",{"$nulls":4},2,"9005;100",null,5056]
[9005,"",null,"",{"$nulls":7},5057,"成功压制剑灵，清霜赠你“霜华剑符”并结下道友之谊",null,null,"","",null,null,{"$f":"IF(R65=\"\",\"\",\"-\"&VLOOKUP(R65,EventConditionConfig!A:C,3,FALSE)&IF(S65=\"\",\"\",CHAR(10)&\"-\"&VLOOKUP(S65,EventConditionConfig!A:C,3,FALSE)))","v":""},null,null,null,"",null,null,"",{"$nulls":7},5057]
[9006,"",null,"",{"$nulls":7},5058,"你察觉谷中灵气匮乏，清霜剑意凝滞。神识探查得知，附近秘境可采集“玄冰花”",null,null,"","",null,null,{"$f":"IF(R66=\"\",\"\",\"-\"&VLOOKUP(R66,EventConditionConfig!A:C,3,FALSE)&IF(S66=\"\",\"\",CHAR(10)&\"-\"&VLOOKUP(S66,EventConditionConfig!A:C,3,FALSE)))","v":""},null,null,null,"",null,null,"",{"$nulls":7},5058]
[9007,"",null,"",{"$nulls":7},5059,"献上玄冰花，清霜炼化灵气突破瓶颈，赠你“玄霜剑意”",null,null,"","",null,null,{"$f":"IF(R67=\"\",\"\",\"-\"&VLOOKUP(R67,EventConditionConfig!A:C,3,FALSE)&IF(S67=\"\",\"\",CHAR(10)&\"-\"&VLOOKUP(S67,EventConditionConfig!A:C,3,FALSE)))","v":""},4,null,null,"",null,null,"",{"$nulls":4},1,9007,null,5059]
[9008,"",null,"",{"$nulls":7},"",null,null,null,"","",null,null,{"$f":"IF(R68=\"\",\"\",\"-\"&VLOOKUP(R68,EventConditionConfig!A:C,3,FALSE)&IF(S68=\"\",\"\",CHAR(10)&\"-\"&VLOOKUP(S68,EventConditionConfig!A:C,3,FALSE)))","v":""},3,null,null,"",null,null,"",null,null,1001,999,null,null,null,5059]
[null,"",null,"",{"$nulls":7},"",null,null,null,"","",null,null,{"$f":"IF(R69=\"\",\"\",\"-\"&VLOOKUP(R69,EventConditionConfig!A:C,3,FALSE)&IF(S69=\"\",\"\",CHAR(10)&\"-\"&VLOOKUP(S69,EventConditionConfig!A:C,3,FALSE)))","v":""},null,null,null,"",null,null,"",{"$nulls":7},""]
[9025,{"$f":"IF(C70=\"\",\"\",IF(C70=C69,B69,MAX(AI69,AI68)+1))","v":""},null,{"$f":"IF(E70=\"\",\"\",IF(E70=E69,D69,MAX(AI69,AI68,B70)+1))","v":5060},"和惠子交谈",{"$nulls":6},{"$f":"IF(M70=\"\",\"\",MAX(AI69,AI68,B70,D70)+1)","v":5061},"惠子种的葫芦没用，他非常生气，需要打败魔休",null,null,{"$f":"IF(O70=\"\",\"\",IF(O70=O69,P69+1,1))","v":""},"",null,null,{"$f":"IF(R70=\"\",\"\",\"-\"&VLOOKUP(R70,EventConditionConfig!A:C,3,FALSE)&IF(S70=\"\",\"\",CHAR(10)&\"-\"&VLOOKUP(S70,EventConditionConfig!A:C,3,FALSE)))","v":""},1,9026,2075,{"$f":"IF(OR(ISNUMBER(Y70),Y70=\"\"),\"\",MAX(AI69,AI68,B70,D70,L70)+1)","v":""},null,null,{"$f":"IF(OR(ISNUMBER(AB70),AB70=\"\"),\"\",X70+1)","v":""},{"$nulls":7},{"$f":"IF(A70=\"\",\"\",MAX(B70,D70,L70,X70,AA70,AI69,AI68))","v":5061}]
[9026,"",null,"",{"$nulls":7},5062,"选择后接新的事件",null,null,"","",null,null,{"$f":"IF(R71=\"\",\"\",\"-\"&VLOOKUP(R71,EventConditionConfig!A:C,3,FALSE)&IF(S71=\"\",\"\",CHAR(10)&\"-\"&VLOOKUP(S71,EventConditionConfig!A:C,3,FALSE)))","v":""},null,null,null,5063,"接受任务",null,"",{"$nulls":4},3,9014,null,5063]
[null,"",null,"",{"$nulls":7},"",null,null,null,"","",null,null,{"$f":"IF(R72=\"\",\"\",\"-\"&VLOOKUP(R72,EventConditionConfig!A:C,3,FALSE)&IF(S72=\"\",\"\",CHAR(10)&\"-\"&VLOOKUP(S72,EventConditionConfig!A:C,3,FALSE)))","v":""},null,null,null,"",null,null,"",{"$nulls":7},""]
[9014,"",null,5064,"击杀魔休",{"$nulls":6},"",null,null,null,"","3",3,null,{"$f":"IF(R73=\"\",\"\",\"-\"&VLOOKUP(R73,EventConditionConfig!A:C,3,FALSE)&IF(S73=\"\",\"\",CHAR(10)&\"-\"&VLOOKUP(S73,EventConditionConfig!A:C,3,FALSE)))","v":"-击杀魔休"},null,null,null,"",null,null,"",{"$nulls":7},5064]
[null,"",null,"",{"$nulls":7},"",null,null,null,"",{"$f":"_xlfn.TEXTJOIN(\";\",1,R74:S74)","v":""},null,null,{"$f":"IF(R74=\"\",\"\",\"-\"&VLOOKUP(R74,EventConditionConfig!A:C,3,FALSE)&IF(S74=\"\",\"\",CHAR(10)&\"-\"&VLOOKUP(S74,EventConditionConfig!A:C,3,FALSE)))","v":""},null,null,null,"",null,null,"",{"$nulls":7},""]
[9031,5065,"出现Boss魔修",5066,"打败魔修",{"$nulls":6},"",null,null,null,"","",null,null,{"$f":"IF(R75=\"\",\"\",\"-\"&VLOOKUP(R75,EventConditionConfig!A:C,3,FALSE)&IF(S75=\"\",\"\",CHAR(10)&\"-\"&VLOOKUP(S75,EventConditionConfig!A:C,3,FALSE)))","v":""},2,100001,null,"",null,null,"",{"$nulls":7},5066]
[null,"",null,"",{"$nulls":7},"",null,null,null,"","",null,null,{"$f":"IF(R76=\"\",\"\",\"-\"&VLOOKUP(R76,EventConditionConfig!A:C,3,FALSE)&IF(S76=\"\",\"\",CHAR(10)&\"-\"&VLOOKUP(S76,EventConditionConfig!A:C,3,FALSE)))","v":""},null,null,null,"",null,null,"",{"$nulls":7},""]
[{"$f":"O77*100+P77","v":1000101},5067,"使用风铃唤醒还未泯灭的神识","",{"$nulls":7},5068,"北冥有鱼，其名为鲲……",2,10001,1,"",null,null,{"$f":"IF(R77=\"\",\"\",\"-\"&VLOOKUP(R77,EventConditionConfig!A:C,3,FALSE)&IF(S77=\"\",\"\",CHAR(10)&\"-\"&VLOOKUP(S77,EventConditionConfig!A:C,3,FALSE)))","v":""},null,null,null,"",null,null,"",{"$nulls":4},{"$f":"IF(A77=\"\",\"\",IF(ISNUMBER(Y77),2,IF(A78=\"\",IF(OR(AH77>0,VLOOKUP(O77,EventConfig!A:C,3,FALSE)=4),3,\"\"),1)))","v":1},{"$f":"IF(AF77=\"\",\"\",CHOOSE(AF77,IF(AH77=\"\",A77+1,AH77),CONCATENATE(IF(AH77=\"\",A77+1,AH77),\";101\"),IF(AH77=\"\",O77+1,AH77)))","v":1000102},null,5068]
[{"$f":"O78*100+P78","v":1000102},5067,"使用风铃唤醒还未泯灭的神识","",{"$nulls":7},5069,"不过北海遥远，何时能寻得鲲鹏的踪迹。",2,10001,2,"",null,null,{"$f":"IF(R78=\"\",\"\",\"-\"&VLOOKUP(R78,EventConditionConfig!A:C,3,FALSE)&IF(S78=\"\",\"\",CHAR(10)&\"-\"&VLOOKUP(S78,EventConditionConfig!A:C,3,FALSE)))","v":""},null,null,null,"",null,null,"",{"$nulls":4},{"$f":"IF(A78=\"\",\"\",IF(ISNUMBER(Y78),2,IF(A79=\"\",IF(OR(AH78>0,VLOOKUP(O78,EventConfig!A:C,3,FALSE)=4),3,\"\"),1)))","v":1},{"$f":"IF(AF78=\"\",\"\",CHOOSE(AF78,IF(AH78=\"\",A78+1,AH78),CONCATENATE(IF(AH78=\"\",A78+1,AH78),\";101\"),IF(AH78=\"\",O78+1,AH78)))","v":1000103},null,5069]
[{"$f":"O79*100+P79","v":1000103},5067,"使用风铃唤醒还未泯灭的神识","",{"$nulls":7},5070,"好在我的神识尚在，可探天地，再加上刚刚的风铃，或许能寻得前路线索。",2,10001,3,"",null,null,{"$f":"IF(R79=\"\",\"\",\"-\"&VLOOKUP(R79,EventConditionConfig!A:C,3,FALSE)&IF(S79=\"\",\"\",CHAR(10)&\"-\"&VLOOKUP(S79,EventConditionConfig!A:C,3,FALSE)))","v":""},null,null,null,"",null,null,"",{"$nulls":4},{"$f":"IF(A79=\"\",\"\",IF(ISNUMBER(Y79),2,IF(A80=\"\",IF(OR(AH79>0,VLOOKUP(O79,EventConfig!A:C,3,FALSE)=4),3,\"\"),1)))","v":1},1000104,null,5070]
[{"$f":"O80*100+P80","v":1000104},5067,"使用风铃唤醒还未泯灭的神识","",{"$nulls":7},"",null,null,10001,4,"5",5,null,{"$f":"IF(R80=\"\",\"\",\"-\"&VLOOKUP(R80,EventConditionConfig!A:C,3,FALSE)&IF(S80=\"\",\"\",CHAR(10)&\"-\"&VLOOKUP(S80,EventConditionConfig!A:C,3,FALSE)))","v":"-使用神识"},null,null,null,"",null,null,"",{"$nulls":4},{"$f":"IF(A80=\"\",\"\",IF(ISNUMBER(Y80),2,IF(A81=\"\",IF(OR(AH80>0,VLOOKUP(O80,EventConfig!A:C,3,FALSE)=4),3,\"\"),1)))","v":3},10002,null,5070]
[null,"",null,"",{"$nulls":7},"",null,null,null,"","",null,null,{"$f":"IF(R81=\"\",\"\",\"-\"&VLOOKUP(R81,EventConditionConfig!A:C,3,FALSE)&IF(S81=\"\",\"\",CHAR(10)&\"-\"&VLOOKUP(S81,EventConditionConfig!A:C,3,FALSE)))","v":""},null,null,null,"",null,null,"",{"$nulls":4},{"$f":"IF(A81=\"\",\"\",IF(ISNUMBER(Y81),2,IF(A82=\"\",IF(OR(AH81>0,VLOOKUP(O81,EventConfig!A:C,3,FALSE)=4),3,\"\"),1)))","v":""},"",null,""]
[{"$f":"O82*100+P82","v":1000201},5071,"前往妖兽盘踞的地方",5072,"御剑飞行",{"$nulls":6},5073,"神识发现有一条古径，隐于云山之间，不过似乎有妖兽盘踞。",3,10002,1,"",null,null,{"$f":"IF(R82=\"\",\"\",\"-\"&VLOOKUP(R82,EventConditionConfig!A:C,3,FALSE)&IF(S82=\"\",\"\",CHAR(10)&\"-\"&VLOOKUP(S82,EventConditionConfig!A:C,3,FALSE)))","v":""},null,null,null,"",null,null,"",{"$nulls":4},{"$f":"IF(A82=\"\",\"\",IF(ISNUMBER(Y82),2,IF(A83=\"\",IF(OR(AH82>0,VLOOKUP(O82,EventConfig!A:C,3,FALSE)=4),3,\"\"),1)))","v":1},1000202,null,5073]
[{"$f":"O83*100+P83","v":1000202},5071,"前往妖兽盘踞的地方",5072,"御剑飞行",{"$nulls":6},5074,"没其他办法了，过去看看吧。",3,10002,2,"",null,null,{"$f":"IF(R83=\"\",\"\",\"-\"&VLOOKUP(R83,EventConditionConfig!A:C,3,FALSE)&IF(S83=\"\",\"\",CHAR(10)&\"-\"&VLOOKUP(S83,EventConditionConfig!A:C,3,FALSE)))","v":""},null,null,null,"",null,null,"",{"$nulls":4},{"$f":"IF(A83=\"\",\"\",IF(ISNUMBER(Y83),2,IF(A84=\"\",IF(OR(AH83>0,VLOOKUP(O83,EventConfig!A:C,3,FALSE)=4),3,\"\"),1)))","v":1},1000203,null,5074]
[{"$f":"O84*100+P84","v":1000203},5071,"前往妖兽盘踞的地方",5072,"御剑飞行",null,1,1,null,null,null,"",null,null,10002,3,"",null,null,{"$f":"IF(R84=\"\",\"\",\"-\"&VLOOKUP(R84,EventConditionConfig!A:C,3,FALSE)&IF(S84=\"\",\"\",CHAR(10)&\"-\"&VLOOKUP(S84,EventConditionConfig!A:C,3,FALSE)))","v":""},null,null,null,"",null,null,"",{"$nulls":4},{"$f":"IF(A84=\"\",\"\",IF(ISNUMBER(Y84),2,IF(A85=\"\",IF(OR(AH84>0,VLOOKUP(O84,EventConfig!A:C,3,FALSE)=4),3,\"\"),1)))","v":3},10003,null,5074]
[null,"",null,"",{"$nulls":7},"",null,null,null,"","",null,null,{"$f":"IF(R85=\"\",\"\",\"-\"&VLOOKUP(R85,EventConditionConfig!A:C,3,FALSE)&IF(S85=\"\",\"\",CHAR(10)&\"-\"&VLOOKUP(S85,EventConditionConfig!A:C,3,FALSE)))","v":""},null,null,null,"",null,null,"",{"$nulls":4},{"$f":"IF(A85=\"\",\"\",IF(ISNUMBER(Y85),2,IF(A86=\"\",IF(OR(AH85>0,VLOOKUP(O85,EventConfig!A:C,3,FALSE)=4),3,\"\"),1)))","v":""},"",null,""]
[1000301,5075,"蜩鸟和小麻雀对你的到来很好奇","",{"$nulls":6},{"$f":"IF(J86=\"\",\"\",VLOOKUP(J86,EventNPC!A:E,5,FALSE))","v":""},5076,"应该就是这里了，似乎有古老的阵法挡住了去路",null,10003,1,"",null,null,{"$f":"IF(R86=\"\",\"\",\"-\"&VLOOKUP(R86,EventConditionConfig!A:C,3,FALSE)&IF(S86=\"\",\"\",CHAR(10)&\"-\"&VLOOKUP(S86,EventConditionConfig!A:C,3,FALSE)))","v":""},null,null,null,"",null,null,"",{"$nulls":4},{"$f":"IF(A86=\"\",\"\",IF(ISNUMBER(Y86),2,IF(A87=\"\",IF(OR(AH86>0,VLOOKUP(O86,EventConfig!A:C,3,FALSE)=4),3,\"\"),1)))","v":1},1000302,null,5076]
[{"$f":"O87*100+P87","v":1000302},5075,"蜩鸟和小麻雀对你的到来很好奇","",{"$nulls":6},{"$f":"IF(J87=\"\",\"\",VLOOKUP(J87,EventNPC!A:E,5,FALSE))","v":""},5077,"（结界门前，三只小鸟飞来，落在一旁古松上）",null,10003,2,"",null,null,{"$f":"IF(R87=\"\",\"\",\"-\"&VLOOKUP(R87,EventConditionConfig!A:C,3,FALSE)&IF(S87=\"\",\"\",CHAR(10)&\"-\"&VLOOKUP(S87,EventConditionConfig!A:C,3,FALSE)))","v":""},null,null,null,"",null,null,"",{"$nulls":4},{"$f":"IF(A87=\"\",\"\",IF(ISNUMBER(Y87),2,IF(A88=\"\",IF(OR(AH87>0,VLOOKUP(O87,EventConfig!A:C,3,FALSE)=4),3,\"\"),1)))","v":1},1000303,null,5077]
[{"$f":"O88*100+P88","v":1000303},5075,"蜩鸟和小麻雀对你的到来很好奇","",{"$nulls":5},101,{"$f":"IF(J88=\"\",\"\",VLOOKUP(J88,EventNPC!A:E,5,FALSE))","v":"蜩鸟"},5078,"（拍翅）：“咦？又是妄图穿行北海之人？”",null,10003,3,"",null,null,{"$f":"IF(R88=\"\",\"\",\"-\"&VLOOKUP(R88,EventConditionConfig!A:C,3,FALSE)&IF(S88=\"\",\"\",CHAR(10)&\"-\"&VLOOKUP(S88,EventConditionConfig!A:C,3,FALSE)))","v":""},1,{"$f":"A89","v":1000304},{"$f":"_xlfn.TEXTJOIN(\";\",1,X88,AA88)","v":"5079"},5079,"我在寻找鲲鹏，你们知道它在哪里吗？",null,"",{"$nulls":4},{"$f":"IF(A88=\"\",\"\",IF(ISNUMBER(Y88),2,IF(A89=\"\",IF(OR(AH88>0,VLOOKUP(O88,EventConfig!A:C,3,FALSE)=4),3,\"\"),1)))","v":1},1000304,null,5079]
[{"$f":"O89*100+P89","v":1000304},5075,"蜩鸟和小麻雀对你的到来很好奇","",{"$nulls":5},102,{"$f":"IF(J89=\"\",\"\",VLOOKUP(J89,EventNPC!A:E,5,FALSE))","v":"小麻雀"},5080,"（扑棱翅膀）是想要从北海飞往南海的超级大鸟吧？",null,10003,4,"",null,null,{"$f":"IF(R89=\"\",\"\",\"-\"&VLOOKUP(R89,EventConditionConfig!A:C,3,FALSE)&IF(S89=\"\",\"\",CHAR(10)&\"-\"&VLOOKUP(S89,EventConditionConfig!A:C,3,FALSE)))","v":""},null,null,"","",null,null,"",{"$nulls":4},{"$f":"IF(A89=\"\",\"\",IF(ISNUMBER(Y89),2,IF(A90=\"\",IF(OR(AH89>0,VLOOKUP(O89,EventConfig!A:C,3,FALSE)=4),3,\"\"),1)))","v":1},1000305,null,5080]
[{"$f":"O90*100+P90","v":1000305},5075,"蜩鸟和小麻雀对你的到来很好奇","",{"$nulls":5},102,{"$f":"IF(J90=\"\",\"\",VLOOKUP(J90,EventNPC!A:E,5,FALSE))","v":"小麻雀"},5081,"我就想不明白，她为何要飞如此之远，太奇怪啦！",null,10003,5,"",null,null,{"$f":"IF(R90=\"\",\"\",\"-\"&VLOOKUP(R90,EventConditionConfig!A:C,3,FALSE)&IF(S90=\"\",\"\",CHAR(10)&\"-\"&VLOOKUP(S90,EventConditionConfig!A:C,3,FALSE)))","v":""},1,{"$f":"A91","v":1000306},"5082",5082,"鲲鹏是在追求心中的目标吧。",null,"",{"$nulls":4},{"$f":"IF(A90=\"\",\"\",IF(ISNUMBER(Y90),2,IF(A91=\"\",IF(OR(AH90>0,VLOOKUP(O90,EventConfig!A:C,3,FALSE)=4),3,\"\"),1)))","v":1},1000306,null,5082]
[{"$f":"O91*100+P91","v":1000306},5075,"蜩鸟和小麻雀对你的到来很好奇","",{"$nulls":5},102,{"$f":"IF(J91=\"\",\"\",VLOOKUP(J91,EventNPC!A:E,5,FALSE))","v":"小麻雀"},5083,"（偏头想了想）目标？我天天在这里上蹿下跳，在附近树林飞来飞去，就已经很幸福啦。",null,10003,6,"",null,null,{"$f":"IF(R91=\"\",\"\",\"-\"&VLOOKUP(R91,EventConditionConfig!A:C,3,FALSE)&IF(S91=\"\",\"\",CHAR(10)&\"-\"&VLOOKUP(S91,EventConditionConfig!A:C,3,FALSE)))","v":""},null,null,"","",null,null,"",{"$nulls":4},{"$f":"IF(A91=\"\",\"\",IF(ISNUMBER(Y91),2,IF(A92=\"\",IF(OR(AH91>0,VLOOKUP(O91,EventConfig!A:C,3,FALSE)=4),3,\"\"),1)))","v":1},1000307,null,5083]
[{"$f":"O92*100+P92","v":1000307},5075,"蜩鸟和小麻雀对你的到来很好奇","",{"$nulls":5},102,{"$f":"IF(J92=\"\",\"\",VLOOKUP(J92,EventNPC!A:E,5,FALSE))","v":"小麻雀"},5084,"就那大傻鸟，非要飞那么远，又笨又蠢...真没意思。",null,10003,7,"",null,null,{"$f":"IF(R92=\"\",\"\",\"-\"&VLOOKUP(R92,EventConditionConfig!A:C,3,FALSE)&IF(S92=\"\",\"\",CHAR(10)&\"-\"&VLOOKUP(S92,EventConditionConfig!A:C,3,FALSE)))","v":""},1,{"$f":"IF(U92=1,_xlfn.TEXTJOIN(\";\",1,IF(Z92=\"\",A92+1,Z92),IF(AND(AA92<>\"\",AC92=\"\"),A92+1,AC92)),IF(U92=2,Y92,\"\"))","v":"1000308;1000308"},"5085;5086",5085,"你说得也有一定道理…",null,5086,"你懂什么..这大鹏鸟可比你更有志向多了。",null,null,null,{"$f":"IF(A92=\"\",\"\",IF(ISNUMBER(Y92),2,IF(A93=\"\",IF(OR(AH92>0,VLOOKUP(O92,EventConfig!A:C,3,FALSE)=4),3,\"\"),1)))","v":1},1000308,null,5086]
[{"$f":"O93*100+P93","v":1000308},5075,"蜩鸟和小麻雀对你的到来很好奇","",{"$nulls":5},101,{"$f":"IF(J93=\"\",\"\",VLOOKUP(J93,EventNPC!A:E,5,FALSE))","v":"蜩鸟"},5087,"（翻飞一圈）志向有什么用？到头来还不是风停了就落地。",null,10003,8,"",null,null,{"$f":"IF(R93=\"\",\"\",\"-\"&VLOOKUP(R93,EventConditionConfig!A:C,3,FALSE)&IF(S93=\"\",\"\",CHAR(10)&\"-\"&VLOOKUP(S93,EventConditionConfig!A:C,3,FALSE)))","v":""},1,{"$f":"A94","v":1000309},"5088",5088,"......",null,"",{"$nulls":4},{"$f":"IF(A93=\"\",\"\",IF(ISNUMBER(Y93),2,IF(A94=\"\",IF(OR(AH93>0,VLOOKUP(O93,EventConfig!A:C,3,FALSE)=4),3,\"\"),1)))","v":1},1000309,null,5088]
[{"$f":"O94*100+P94","v":1000309},5075,"蜩鸟和小麻雀对你的到来很好奇","",{"$nulls":6},{"$f":"IF(J94=\"\",\"\",VLOOKUP(J94,EventNPC!A:E,5,FALSE))","v":""},5089,"（此时，结界微动，一缕风穿林而过，古径阵法竟有一丝松动）",null,10003,9,"",null,null,{"$f":"IF(R94=\"\",\"\",\"-\"&VLOOKUP(R94,EventConditionConfig!A:C,3,FALSE)&IF(S94=\"\",\"\",CHAR(10)&\"-\"&VLOOKUP(S94,EventConditionConfig!A:C,3,FALSE)))","v":""},null,null,"","",null,null,"",{"$nulls":4},{"$f":"IF(A94=\"\",\"\",IF(ISNUMBER(Y94),2,IF(A95=\"\",IF(OR(AH94>0,VLOOKUP(O94,EventConfig!A:C,3,FALSE)=4),3,\"\"),1)))","v":3},10004,null,5089]
[null,"",null,"",{"$nulls":7},"",null,null,null,"","",null,null,{"$f":"IF(R95=\"\",\"\",\"-\"&VLOOKUP(R95,EventConditionConfig!A:C,3,FALSE)&IF(S95=\"\",\"\",CHAR(10)&\"-\"&VLOOKUP(S95,EventConditionConfig!A:C,3,FALSE)))","v":""},null,null,null,"",null,null,"",{"$nulls":4},{"$f":"IF(A95=\"\",\"\",IF(ISNUMBER(Y95),2,IF(A96=\"\",IF(OR(AH95>0,VLOOKUP(O95,EventConfig!A:C,3,FALSE)=4),3,\"\"),1)))","v":""},"",null,""]
[{"$f":"O96*100+P96","v":1000401},5090,"原来它们就是镇守阵法的结界兽",5091,"击败结界兽",{"$nulls":4},101,{"$f":"IF(J96=\"\",\"\",VLOOKUP(J96,EventNPC!A:E,5,FALSE))","v":"蜩鸟"},5092,"这结界似乎有所反应…",null,10004,1,"",null,null,{"$f":"IF(R96=\"\",\"\",\"-\"&VLOOKUP(R96,EventConditionConfig!A:C,3,FALSE)&IF(S96=\"\",\"\",CHAR(10)&\"-\"&VLOOKUP(S96,EventConditionConfig!A:C,3,FALSE)))","v":""},1,{"$f":"A97","v":1000402},{"$f":"_xlfn.TEXTJOIN(\";\",1,X96,AA96)","v":"5093"},5093,"与你们聊天很有意思，不过今天我是非过去不可，没人能阻止我重返仙途！",null,"",{"$nulls":4},{"$f":"IF(A96=\"\",\"\",IF(ISNUMBER(Y96),2,IF(A97=\"\",IF(OR(AH96>0,VLOOKUP(O96,EventConfig!A:C,3,FALSE)=4),3,\"\"),1)))","v":1},1000402,null,5093]
[{"$f":"O97*100+P97","v":1000402},5090,"原来它们就是镇守阵法的结界兽",5091,"击败结界兽",{"$nulls":4},102,{"$f":"IF(J97=\"\",\"\",VLOOKUP(J97,EventNPC!A:E,5,FALSE))","v":"小麻雀"},5094,"\"小鸟..\"现身吧！",null,10004,2,"",null,null,{"$f":"IF(R97=\"\",\"\",\"-\"&VLOOKUP(R97,EventConditionConfig!A:C,3,FALSE)&IF(S97=\"\",\"\",CHAR(10)&\"-\"&VLOOKUP(S97,EventConditionConfig!A:C,3,FALSE)))","v":""},null,null,{"$f":"_xlfn.TEXTJOIN(\";\",1,X97,AA97)","v":""},"",null,null,"",{"$nulls":4},{"$f":"IF(A97=\"\",\"\",IF(ISNUMBER(Y97),2,IF(A98=\"\",IF(OR(AH97>0,VLOOKUP(O97,EventConfig!A:C,3,FALSE)=4),3,\"\"),1)))","v":1},1000403,null,5094]
[{"$f":"O98*100+P98","v":1000403},5090,"原来它们就是镇守阵法的结界兽",5091,"击败结界兽",{"$nulls":4},101,{"$f":"IF(J98=\"\",\"\",VLOOKUP(J98,EventNPC!A:E,5,FALSE))","v":"蜩鸟"},5095,"（轻轻飞下来..）又来...来吧来吧..",null,10004,3,"",null,null,{"$f":"IF(R98=\"\",\"\",\"-\"&VLOOKUP(R98,EventConditionConfig!A:C,3,FALSE)&IF(S98=\"\",\"\",CHAR(10)&\"-\"&VLOOKUP(S98,EventConditionConfig!A:C,3,FALSE)))","v":""},{"$f":"IF(Y98=\"\",\"\",IF(ISTEXT(Y98),1,2))","v":2},{"$f":"IF(U98=1,_xlfn.TEXTJOIN(\";\",1,IF(Z98=\"\",A98+1,Z98),IF(AND(AA98<>\"\",AC98=\"\"),A98+1,AC98)),IF(U98=2,Y98,\"\"))","v":1002},{"$f":"_xlfn.TEXTJOIN(\";\",1,X98,AA98)","v":""},"",1002,null,"",{"$nulls":4},{"$f":"IF(A98=\"\",\"\",IF(ISNUMBER(Y98),2,IF(A99=\"\",IF(OR(AH98>0,VLOOKUP(O98,EventConfig!A:C,3,FALSE)=4),3,\"\"),1)))","v":2},"1000404;101",null,5095]
[{"$f":"O99*100+P99","v":1000404},5090,"原来它们就是镇守阵法的结界兽","",{"$nulls":5},102,{"$f":"IF(J99=\"\",\"\",VLOOKUP(J99,EventNPC!A:E,5,FALSE))","v":"小麻雀"},5096,"这么想过去，就去吧...",null,10004,4,"",null,null,{"$f":"IF(R99=\"\",\"\",\"-\"&VLOOKUP(R99,EventConditionConfig!A:C,3,FALSE)&IF(S99=\"\",\"\",CHAR(10)&\"-\"&VLOOKUP(S99,EventConditionConfig!A:C,3,FALSE)))","v":""},null,null,{"$f":"_xlfn.TEXTJOIN(\";\",1,X99,AA99)","v":""},"",null,null,"",{"$nulls":4},{"$f":"IF(A99=\"\",\"\",IF(ISNUMBER(Y99),2,IF(A100=\"\",IF(OR(AH99>0,VLOOKUP(O99,EventConfig!A:C,3,FALSE)=4),3,\"\"),1)))","v":3},10005,null,5096]
[null,"",null,"",{"$nulls":7},"",null,null,null,"","",null,null,{"$f":"IF(R100=\"\",\"\",\"-\"&VLOOKUP(R100,EventConditionConfig!A:C,3,FALSE)&IF(S100=\"\",\"\",CHAR(10)&\"-\"&VLOOKUP(S100,EventConditionConfig!A:C,3,FALSE)))","v":""},null,null,null,"",null,null,"",{"$nulls":4},{"$f":"IF(A100=\"\",\"\",IF(ISNUMBER(Y100),2,IF(A101=\"\",IF(OR(AH100>0,VLOOKUP(O100,EventConfig!A:C,3,FALSE)=4),3,\"\"),1)))","v":""},"",null,""]
[{"$f":"O101*100+P101","v":1000501},5097,"初见疯道人","",{"$nulls":6},{"$f":"IF(J101=\"\",\"\",VLOOKUP(J101,EventNPC!A:E,5,FALSE))","v":""},5098,"你穿过古径结界，来到一片被风托起的浮空灵岛群。",null,10005,1,"",null,null,{"$f":"IF(R101=\"\",\"\",\"-\"&VLOOKUP(R101,EventConditionConfig!A:C,3,FALSE)&IF(S101=\"\",\"\",CHAR(10)&\"-\"&VLOOKUP(S101,EventConditionConfig!A:C,3,FALSE)))","v":""},null,null,{"$f":"_xlfn.TEXTJOIN(\";\",1,X101,AA101)","v":""},"",null,null,"",{"$nulls":4},{"$f":"IF(A101=\"\",\"\",IF(ISNUMBER(Y101),2,IF(A102=\"\",IF(OR(AH101>0,VLOOKUP(O101,EventConfig!A:C,3,FALSE)=4),3,\"\"),1)))","v":1},1000502,null,5098]
[{"$f":"O102*100+P102","v":1000502},5097,"初见疯道人","",{"$nulls":6},{"$f":"IF(J102=\"\",\"\",VLOOKUP(J102,EventNPC!A:E,5,FALSE))","v":""},5099,"风势强劲，岛与岛之间缝隙深不见底，无桥无梯。",null,10005,2,"",null,null,{"$f":"IF(R102=\"\",\"\",\"-\"&VLOOKUP(R102,EventConditionConfig!A:C,3,FALSE)&IF(S102=\"\",\"\",CHAR(10)&\"-\"&VLOOKUP(S102,EventConditionConfig!A:C,3,FALSE)))","v":""},null,null,"","",null,null,"",{"$nulls":4},{"$f":"IF(A102=\"\",\"\",IF(ISNUMBER(Y102),2,IF(A103=\"\",IF(OR(AH102>0,VLOOKUP(O102,EventConfig!A:C,3,FALSE)=4),3,\"\"),1)))","v":1},1000503,null,5099]
[{"$f":"O103*100+P103","v":1000503},5097,"初见疯道人","",{"$nulls":6},{"$f":"IF(J103=\"\",\"\",VLOOKUP(J103,EventNPC!A:E,5,FALSE))","v":""},5100,"此处盘踞一位神秘道人，常独自站在岛边望风，仿佛等待什么。",null,10005,3,"",null,null,{"$f":"IF(R103=\"\",\"\",\"-\"&VLOOKUP(R103,EventConditionConfig!A:C,3,FALSE)&IF(S103=\"\",\"\",CHAR(10)&\"-\"&VLOOKUP(S103,EventConditionConfig!A:C,3,FALSE)))","v":""},null,null,"","",null,null,"",{"$nulls":4},{"$f":"IF(A103=\"\",\"\",IF(ISNUMBER(Y103),2,IF(A104=\"\",IF(OR(AH103>0,VLOOKUP(O103,EventConfig!A:C,3,FALSE)=4),3,\"\"),1)))","v":1},1000504,null,5100]
[{"$f":"O104*100+P104","v":1000504},5097,"初见疯道人","",{"$nulls":6},{"$f":"IF(J104=\"\",\"\",VLOOKUP(J104,EventNPC!A:E,5,FALSE))","v":""},5101,"（你尝试御剑，却在风中打转，被吹回原地）",null,10005,4,"",null,null,{"$f":"IF(R104=\"\",\"\",\"-\"&VLOOKUP(R104,EventConditionConfig!A:C,3,FALSE)&IF(S104=\"\",\"\",CHAR(10)&\"-\"&VLOOKUP(S104,EventConditionConfig!A:C,3,FALSE)))","v":""},1,{"$f":"A105","v":1000505},"5102",5102,"前辈，这里的风太大，我无法飞行，请教如何才能通过？",null,"",{"$nulls":4},{"$f":"IF(A104=\"\",\"\",IF(ISNUMBER(Y104),2,IF(A105=\"\",IF(OR(AH104>0,VLOOKUP(O104,EventConfig!A:C,3,FALSE)=4),3,\"\"),1)))","v":1},1000505,null,5102]
[1000505,5097,"初见疯道人","",{"$nulls":5},103,{"$f":"IF(J105=\"\",\"\",VLOOKUP(J105,EventNPC!A:E,5,FALSE))","v":"疯道人"},5103,"......",null,10005,5,"",null,null,{"$f":"IF(R105=\"\",\"\",\"-\"&VLOOKUP(R105,EventConditionConfig!A:C,3,FALSE)&IF(S105=\"\",\"\",CHAR(10)&\"-\"&VLOOKUP(S105,EventConditionConfig!A:C,3,FALSE)))","v":""},1,{"$f":"A106","v":1000506},"5104",5104,"前辈，我准备前往北海深处，寻鲲鹏。",null,"",{"$nulls":4},{"$f":"IF(A105=\"\",\"\",IF(ISNUMBER(Y105),2,IF(A106=\"\",IF(OR(AH105>0,VLOOKUP(O105,EventConfig!A:C,3,FALSE)=4),3,\"\"),1)))","v":1},1000506,null,5104]
[1000506,5097,"初见疯道人","",{"$nulls":5},103,{"$f":"IF(J106=\"\",\"\",VLOOKUP(J106,EventNPC!A:E,5,FALSE))","v":"疯道人"},5105,"鲲鹏？……世间竟还有人记得它。",null,10005,6,"",null,null,{"$f":"IF(R106=\"\",\"\",\"-\"&VLOOKUP(R106,EventConditionConfig!A:C,3,FALSE)&IF(S106=\"\",\"\",CHAR(10)&\"-\"&VLOOKUP(S106,EventConditionConfig!A:C,3,FALSE)))","v":""},null,null,"","",null,null,"",{"$nulls":4},{"$f":"IF(A106=\"\",\"\",IF(ISNUMBER(Y106),2,IF(A107=\"\",IF(OR(AH106>0,VLOOKUP(O106,EventConfig!A:C,3,FALSE)=4),3,\"\"),1)))","v":1},1000507,null,5105]
[{"$f":"O107*100+P107","v":1000507},5097,"初见疯道人","",{"$nulls":5},103,{"$f":"IF(J107=\"\",\"\",VLOOKUP(J107,EventNPC!A:E,5,FALSE))","v":"疯道人"},5106,"（说着从手中掏出一个碎片，往空中一震，瞬间风停）过来吧。",null,10005,7,"",null,null,{"$f":"IF(R107=\"\",\"\",\"-\"&VLOOKUP(R107,EventConditionConfig!A:C,3,FALSE)&IF(S107=\"\",\"\",CHAR(10)&\"-\"&VLOOKUP(S107,EventConditionConfig!A:C,3,FALSE)))","v":""},null,null,"","",null,null,"",{"$nulls":4},{"$f":"IF(A107=\"\",\"\",IF(ISNUMBER(Y107),2,IF(A108=\"\",IF(OR(AH107>0,VLOOKUP(O107,EventConfig!A:C,3,FALSE)=4),3,\"\"),1)))","v":1},1000508,null,5106]
[{"$f":"O108*100+P108","v":1000508},5097,"初见疯道人","",{"$nulls":5},103,{"$f":"IF(J108=\"\",\"\",VLOOKUP(J108,EventNPC!A:E,5,FALSE))","v":"疯道人"},5107,"说吧，为何寻那鲲鹏？",null,10005,8,"",null,null,{"$f":"IF(R108=\"\",\"\",\"-\"&VLOOKUP(R108,EventConditionConfig!A:C,3,FALSE)&IF(S108=\"\",\"\",CHAR(10)&\"-\"&VLOOKUP(S108,EventConditionConfig!A:C,3,FALSE)))","v":""},1,{"$f":"IF(U108=1,_xlfn.TEXTJOIN(\";\",1,IF(Z108=\"\",A108+1,Z108),IF(AND(AA108<>\"\",AC108=\"\"),A108+1,AC108)),IF(U108=2,Y108,\"\"))","v":"1000509;1000509"},"5108;5109",5108,"冲虚真人让我去的",null,5109,"我只是好奇..",null,null,null,{"$f":"IF(A108=\"\",\"\",IF(ISNUMBER(Y108),2,IF(A109=\"\",IF(OR(AH108>0,VLOOKUP(O108,EventConfig!A:C,3,FALSE)=4),3,\"\"),1)))","v":1},1000509,null,5109]
[1000509,5097,"初见疯道人","",{"$nulls":5},103,{"$f":"IF(J109=\"\",\"\",VLOOKUP(J109,EventNPC!A:E,5,FALSE))","v":"疯道人"},5110,"你可知鹏飞九万里，需凭借龙卷风，才可达成？",null,10005,9,"",null,null,{"$f":"IF(R109=\"\",\"\",\"-\"&VLOOKUP(R109,EventConditionConfig!A:C,3,FALSE)&IF(S109=\"\",\"\",CHAR(10)&\"-\"&VLOOKUP(S109,EventConditionConfig!A:C,3,FALSE)))","v":""},1,{"$f":"A110","v":1000510},"5111",5111,"请前辈赐教......",null,"",{"$nulls":4},{"$f":"IF(A109=\"\",\"\",IF(ISNUMBER(Y109),2,IF(A110=\"\",IF(OR(AH109>0,VLOOKUP(O109,EventConfig!A:C,3,FALSE)=4),3,\"\"),1)))","v":1},1000510,null,5111]
[1000510,5097,"初见疯道人","",{"$nulls":5},103,{"$f":"IF(J110=\"\",\"\",VLOOKUP(J110,EventNPC!A:E,5,FALSE))","v":"疯道人"},5112,"看你修为尚浅，跟你说多了也无用。",null,10005,10,"",null,null,{"$f":"IF(R110=\"\",\"\",\"-\"&VLOOKUP(R110,EventConditionConfig!A:C,3,FALSE)&IF(S110=\"\",\"\",CHAR(10)&\"-\"&VLOOKUP(S110,EventConditionConfig!A:C,3,FALSE)))","v":""},null,null,"","",null,null,"",{"$nulls":4},{"$f":"IF(A110=\"\",\"\",IF(ISNUMBER(Y110),2,IF(A111=\"\",IF(OR(AH110>0,VLOOKUP(O110,EventConfig!A:C,3,FALSE)=4),3,\"\"),1)))","v":1},1000511,null,5112]
[{"$f":"O111*100+P111","v":1000511},5097,"初见疯道人","",{"$nulls":5},103,{"$f":"IF(J111=\"\",\"\",VLOOKUP(J111,EventNPC!A:E,5,FALSE))","v":"疯道人"},5113,"再往前是我师弟的洞府了，他可不好说话。",null,10005,11,"",null,null,{"$f":"IF(R111=\"\",\"\",\"-\"&VLOOKUP(R111,EventConditionConfig!A:C,3,FALSE)&IF(S111=\"\",\"\",CHAR(10)&\"-\"&VLOOKUP(S111,EventConditionConfig!A:C,3,FALSE)))","v":""},null,null,"","",null,null,"",{"$nulls":4},{"$f":"IF(A111=\"\",\"\",IF(ISNUMBER(Y111),2,IF(A112=\"\",IF(OR(AH111>0,VLOOKUP(O111,EventConfig!A:C,3,FALSE)=4),3,\"\"),1)))","v":1},1000512,null,5113]
[{"$f":"O112*100+P112","v":1000512},5097,"初见疯道人","",{"$nulls":5},103,{"$f":"IF(J112=\"\",\"\",VLOOKUP(J112,EventNPC!A:E,5,FALSE))","v":"疯道人"},5114,"就在我这附近好好修炼吧，至少提升至筑基修为。",null,10005,12,"",null,null,{"$f":"IF(R112=\"\",\"\",\"-\"&VLOOKUP(R112,EventConditionConfig!A:C,3,FALSE)&IF(S112=\"\",\"\",CHAR(10)&\"-\"&VLOOKUP(S112,EventConditionConfig!A:C,3,FALSE)))","v":""},1,{"$f":"A113","v":1000513},"5115",5115,"前辈为何如此助我？",null,"",{"$nulls":4},{"$f":"IF(A112=\"\",\"\",IF(ISNUMBER(Y112),2,IF(A113=\"\",IF(OR(AH112>0,VLOOKUP(O112,EventConfig!A:C,3,FALSE)=4),3,\"\"),1)))","v":1},1000513,null,5115]
[1000513,5097,"初见疯道人","",{"$nulls":5},103,{"$f":"IF(J113=\"\",\"\",VLOOKUP(J113,EventNPC!A:E,5,FALSE))","v":"疯道人"},5116,"（疯道人望你一眼，没有回答，但丢过来一本功法）修到[筑基-中期]再来找我。",null,10005,13,"",null,null,{"$f":"IF(R113=\"\",\"\",\"-\"&VLOOKUP(R113,EventConditionConfig!A:C,3,FALSE)&IF(S113=\"\",\"\",CHAR(10)&\"-\"&VLOOKUP(S113,EventConditionConfig!A:C,3,FALSE)))","v":""},null,null,"","",null,null,"",{"$nulls":4},{"$f":"IF(A113=\"\",\"\",IF(ISNUMBER(Y113),2,IF(A114=\"\",IF(OR(AH113>0,VLOOKUP(O113,EventConfig!A:C,3,FALSE)=4),3,\"\"),1)))","v":1},1000514,null,5116]
[{"$f":"O114*100+P114","v":1000514},5097,"初见疯道人","",{"$nulls":6},{"$f":"IF(J114=\"\",\"\",VLOOKUP(J114,EventNPC!A:E,5,FALSE))","v":""},"",null,null,10005,14,"2",2,null,{"$f":"IF(R114=\"\",\"\",\"-\"&VLOOKUP(R114,EventConditionConfig!A:C,3,FALSE)&IF(S114=\"\",\"\",CHAR(10)&\"-\"&VLOOKUP(S114,EventConditionConfig!A:C,3,FALSE)))","v":"-达到境界：练气-中期"},null,null,"","",null,null,"",{"$nulls":4},{"$f":"IF(A114=\"\",\"\",IF(ISNUMBER(Y114),2,IF(A115=\"\",IF(OR(AH114>0,VLOOKUP(O114,EventConfig!A:C,3,FALSE)=4),3,\"\"),1)))","v":3},10006,null,5116]
[null,"",null,"",{"$nulls":7},"",null,null,null,"","",null,null,{"$f":"IF(R115=\"\",\"\",\"-\"&VLOOKUP(R115,EventConditionConfig!A:C,3,FALSE)&IF(S115=\"\",\"\",CHAR(10)&\"-\"&VLOOKUP(S115,EventConditionConfig!A:C,3,FALSE)))","v":""},null,null,null,"",null,null,"",{"$nulls":4},{"$f":"IF(A115=\"\",\"\",IF(ISNUMBER(Y115),2,IF(A116=\"\",IF(OR(AH115>0,VLOOKUP(O115,EventConfig!A:C,3,FALSE)=4),3,\"\"),1)))","v":""},"",null,""]
[{"$f":"O116*100+P116","v":1000601},5117,"疯道人赠与一半风灵珠","",{"$nulls":5},103,{"$f":"IF(J116=\"\",\"\",VLOOKUP(J116,EventNPC!A:E,5,FALSE))","v":"疯道人"},5118,"你已突破筑基前期达到中期，灵力通畅，是时候去会一会我的师弟了。",null,10006,1,"",null,null,{"$f":"IF(R116=\"\",\"\",\"-\"&VLOOKUP(R116,EventConditionConfig!A:C,3,FALSE)&IF(S116=\"\",\"\",CHAR(10)&\"-\"&VLOOKUP(S116,EventConditionConfig!A:C,3,FALSE)))","v":""},1,"1000603;1000602",{"$f":"_xlfn.TEXTJOIN(\";\",1,X116,AA116)","v":"5119;5120"},5119,"是的。鲲鹏之行，志在必达。",null,5120,"看看风的尽头到底有什么。",null,null,null,{"$f":"IF(A116=\"\",\"\",IF(ISNUMBER(Y116),2,IF(A117=\"\",IF(OR(AH116>0,VLOOKUP(O116,EventConfig!A:C,3,FALSE)=4),3,\"\"),1)))","v":1},1000602,null,5120]
[{"$f":"O117*100+P117","v":1000602},5117,"疯道人赠与一半风灵珠","",{"$nulls":5},103,{"$f":"IF(J117=\"\",\"\",VLOOKUP(J117,EventNPC!A:E,5,FALSE))","v":"疯道人"},5121,"（轻轻一笑）你说风的尽头……我也曾想看。\n（他望向远处翻涌的云海）",null,10006,2,"",null,null,{"$f":"IF(R117=\"\",\"\",\"-\"&VLOOKUP(R117,EventConditionConfig!A:C,3,FALSE)&IF(S117=\"\",\"\",CHAR(10)&\"-\"&VLOOKUP(S117,EventConditionConfig!A:C,3,FALSE)))","v":""},1,{"$f":"A118","v":1000603},2140,5122,"是的。鲲鹏之行，志在必达。",null,"",{"$nulls":4},{"$f":"IF(A117=\"\",\"\",IF(ISNUMBER(Y117),2,IF(A118=\"\",IF(OR(AH117>0,VLOOKUP(O117,EventConfig!A:C,3,FALSE)=4),3,\"\"),1)))","v":1},1000603,null,5122]
[{"$f":"O118*100+P118","v":1000603},5117,"疯道人赠与一半风灵珠","",{"$nulls":5},103,{"$f":"IF(J118=\"\",\"\",VLOOKUP(J118,EventNPC!A:E,5,FALSE))","v":"疯道人"},5123,"我和师弟，共守这处风眼多年。我想出去，他却偏要留。",null,10006,3,"",null,null,{"$f":"IF(R118=\"\",\"\",\"-\"&VLOOKUP(R118,EventConditionConfig!A:C,3,FALSE)&IF(S118=\"\",\"\",CHAR(10)&\"-\"&VLOOKUP(S118,EventConditionConfig!A:C,3,FALSE)))","v":""},null,null,"","",null,null,"",{"$nulls":4},{"$f":"IF(A118=\"\",\"\",IF(ISNUMBER(Y118),2,IF(A119=\"\",IF(OR(AH118>0,VLOOKUP(O118,EventConfig!A:C,3,FALSE)=4),3,\"\"),1)))","v":1},1000604,null,5123]
[{"$f":"O119*100+P119","v":1000604},5117,"疯道人赠与一半风灵珠","",{"$nulls":5},103,{"$f":"IF(J119=\"\",\"\",VLOOKUP(J119,EventNPC!A:E,5,FALSE))","v":"疯道人"},5124,"风灵珠碎成两半，一半在我这里，另一半……在他洞府中。",null,10006,4,"",null,null,{"$f":"IF(R119=\"\",\"\",\"-\"&VLOOKUP(R119,EventConditionConfig!A:C,3,FALSE)&IF(S119=\"\",\"\",CHAR(10)&\"-\"&VLOOKUP(S119,EventConditionConfig!A:C,3,FALSE)))","v":""},null,null,"","",null,null,"",{"$nulls":4},{"$f":"IF(A119=\"\",\"\",IF(ISNUMBER(Y119),2,IF(A120=\"\",IF(OR(AH119>0,VLOOKUP(O119,EventConfig!A:C,3,FALSE)=4),3,\"\"),1)))","v":1},1000605,null,5124]
[{"$f":"O120*100+P120","v":1000605},5117,"疯道人赠与一半风灵珠","",{"$nulls":5},103,{"$f":"IF(J120=\"\",\"\",VLOOKUP(J120,EventNPC!A:E,5,FALSE))","v":"疯道人"},5125,"你若想见鲲鹏，必须要集齐整个风灵珠。",null,10006,5,"",null,null,{"$f":"IF(R120=\"\",\"\",\"-\"&VLOOKUP(R120,EventConditionConfig!A:C,3,FALSE)&IF(S120=\"\",\"\",CHAR(10)&\"-\"&VLOOKUP(S120,EventConditionConfig!A:C,3,FALSE)))","v":""},null,null,"","",null,null,"",{"$nulls":4},{"$f":"IF(A120=\"\",\"\",IF(ISNUMBER(Y120),2,IF(A121=\"\",IF(OR(AH120>0,VLOOKUP(O120,EventConfig!A:C,3,FALSE)=4),3,\"\"),1)))","v":1},1000606,null,5125]
[{"$f":"O121*100+P121","v":1000606},5117,"疯道人赠与一半风灵珠","",{"$nulls":5},103,{"$f":"IF(J121=\"\",\"\",VLOOKUP(J121,EventNPC!A:E,5,FALSE))","v":"疯道人"},5126,"我这一半给你，可助你在大风中，来去自如。",null,10006,6,"",null,null,{"$f":"IF(R121=\"\",\"\",\"-\"&VLOOKUP(R121,EventConditionConfig!A:C,3,FALSE)&IF(S121=\"\",\"\",CHAR(10)&\"-\"&VLOOKUP(S121,EventConditionConfig!A:C,3,FALSE)))","v":""},null,null,"","",null,null,"",{"$nulls":4},{"$f":"IF(A121=\"\",\"\",IF(ISNUMBER(Y121),2,IF(A122=\"\",IF(OR(AH121>0,VLOOKUP(O121,EventConfig!A:C,3,FALSE)=4),3,\"\"),1)))","v":3},10007,null,5126]
[null,"",null,"",{"$nulls":7},"",null,null,null,"","",null,null,{"$f":"IF(R122=\"\",\"\",\"-\"&VLOOKUP(R122,EventConditionConfig!A:C,3,FALSE)&IF(S122=\"\",\"\",CHAR(10)&\"-\"&VLOOKUP(S122,EventConditionConfig!A:C,3,FALSE)))","v":""},null,null,null,"",null,null,"",{"$nulls":4},{"$f":"IF(A122=\"\",\"\",IF(ISNUMBER(Y122),2,IF(A123=\"\",IF(OR(AH122>0,VLOOKUP(O122,EventConfig!A:C,3,FALSE)=4),3,\"\"),1)))","v":""},"",null,""]
[{"$f":"O123*100+P123","v":1000701},5127,"没想到痴道人一来就要与你交手","",{"$nulls":6},{"$f":"IF(J123=\"\",\"\",VLOOKUP(J123,EventNPC!A:E,5,FALSE))","v":""},5128,"你获得了疯道人的半颗风灵珠，在狂风中自由飞行，好不自在。",null,10007,1,"",null,null,{"$f":"IF(R123=\"\",\"\",\"-\"&VLOOKUP(R123,EventConditionConfig!A:C,3,FALSE)&IF(S123=\"\",\"\",CHAR(10)&\"-\"&VLOOKUP(S123,EventConditionConfig!A:C,3,FALSE)))","v":""},null,null,{"$f":"_xlfn.TEXTJOIN(\";\",1,X123,AA123)","v":""},"",null,null,"",{"$nulls":4},{"$f":"IF(A123=\"\",\"\",IF(ISNUMBER(Y123),2,IF(A124=\"\",IF(OR(AH123>0,VLOOKUP(O123,EventConfig!A:C,3,FALSE)=4),3,\"\"),1)))","v":1},1000702,null,5128]
[{"$f":"O124*100+P124","v":1000702},5127,"没想到痴道人一来就要与你交手","",{"$nulls":6},{"$f":"IF(J124=\"\",\"\",VLOOKUP(J124,EventNPC!A:E,5,FALSE))","v":""},5129,"这......就是逍遥游吗？",null,10007,2,"",null,null,{"$f":"IF(R124=\"\",\"\",\"-\"&VLOOKUP(R124,EventConditionConfig!A:C,3,FALSE)&IF(S124=\"\",\"\",CHAR(10)&\"-\"&VLOOKUP(S124,EventConditionConfig!A:C,3,FALSE)))","v":""},null,null,{"$f":"_xlfn.TEXTJOIN(\";\",1,X124,AA124)","v":""},"",null,null,"",{"$nulls":4},{"$f":"IF(A124=\"\",\"\",IF(ISNUMBER(Y124),2,IF(A125=\"\",IF(OR(AH124>0,VLOOKUP(O124,EventConfig!A:C,3,FALSE)=4),3,\"\"),1)))","v":1},1000703,null,5129]
[{"$f":"O125*100+P125","v":1000703},5127,"没想到痴道人一来就要与你交手","",{"$nulls":5},104,{"$f":"IF(J125=\"\",\"\",VLOOKUP(J125,EventNPC!A:E,5,FALSE))","v":"痴道人"},5130,"你终于来了......",null,10007,3,"",null,null,{"$f":"IF(R125=\"\",\"\",\"-\"&VLOOKUP(R125,EventConditionConfig!A:C,3,FALSE)&IF(S125=\"\",\"\",CHAR(10)&\"-\"&VLOOKUP(S125,EventConditionConfig!A:C,3,FALSE)))","v":""},1,{"$f":"A126","v":1000704},{"$f":"_xlfn.TEXTJOIN(\";\",1,X125,AA125)","v":"5131"},5131,"你知道我要来？",null,"",{"$nulls":4},{"$f":"IF(A125=\"\",\"\",IF(ISNUMBER(Y125),2,IF(A126=\"\",IF(OR(AH125>0,VLOOKUP(O125,EventConfig!A:C,3,FALSE)=4),3,\"\"),1)))","v":1},1000704,null,5131]
[{"$f":"O126*100+P126","v":1000704},5127,"没想到痴道人一来就要与你交手","",{"$nulls":5},104,{"$f":"IF(J126=\"\",\"\",VLOOKUP(J126,EventNPC!A:E,5,FALSE))","v":"痴道人"},5132,"多说无益，我早已感应到你身上的半颗风灵珠。必是那疯老头让来的。出手吧！",null,10007,4,"",null,null,{"$f":"IF(R126=\"\",\"\",\"-\"&VLOOKUP(R126,EventConditionConfig!A:C,3,FALSE)&IF(S126=\"\",\"\",CHAR(10)&\"-\"&VLOOKUP(S126,EventConditionConfig!A:C,3,FALSE)))","v":""},{"$f":"IF(Y126=\"\",\"\",IF(ISTEXT(Y126),1,2))","v":2},{"$f":"IF(U126=1,_xlfn.TEXTJOIN(\";\",1,IF(Z126=\"\",A126+1,Z126),IF(AND(AA126<>\"\",AC126=\"\"),A126+1,AC126)),IF(U126=2,Y126,\"\"))","v":1003},{"$f":"_xlfn.TEXTJOIN(\";\",1,X126,AA126)","v":""},{"$f":"IF(OR(ISNUMBER(Y126),Y126=\"\"),\"\",MAX(AI125,AI124,B126,D126,L126)+1)","v":""},1003,null,{"$f":"IF(OR(ISNUMBER(AB126),AB126=\"\"),\"\",X126+1)","v":""},{"$nulls":4},{"$f":"IF(A126=\"\",\"\",IF(ISNUMBER(Y126),2,IF(A127=\"\",IF(OR(AH126>0,VLOOKUP(O126,EventConfig!A:C,3,FALSE)=4),3,\"\"),1)))","v":2},{"$f":"IF(AF126=\"\",\"\",CHOOSE(AF126,IF(AH126=\"\",A126+1,AH126),CONCATENATE(IF(AH126=\"\",A126+1,AH126),\";101\"),IF(AH126=\"\",O126+1,AH126)))","v":"1000705;101"},null,5132]
[1000705,5127,"没想到痴道人一来就要与你交手","",{"$nulls":5},104,{"$f":"IF(J127=\"\",\"\",VLOOKUP(J127,EventNPC!A:E,5,FALSE))","v":"痴道人"},5133,"（被击倒在一边）够了！",null,10007,5,"",null,null,{"$f":"IF(R127=\"\",\"\",\"-\"&VLOOKUP(R127,EventConditionConfig!A:C,3,FALSE)&IF(S127=\"\",\"\",CHAR(10)&\"-\"&VLOOKUP(S127,EventConditionConfig!A:C,3,FALSE)))","v":""},null,null,{"$f":"_xlfn.TEXTJOIN(\";\",1,X127,AA127)","v":""},"",null,null,"",{"$nulls":4},{"$f":"IF(A127=\"\",\"\",IF(ISNUMBER(Y127),2,IF(A128=\"\",IF(OR(AH127>0,VLOOKUP(O127,EventConfig!A:C,3,FALSE)=4),3,\"\"),1)))","v":3},10008,null,5133]
[null,"",null,"",{"$nulls":7},"",null,null,null,"","",null,null,{"$f":"IF(R128=\"\",\"\",\"-\"&VLOOKUP(R128,EventConditionConfig!A:C,3,FALSE)&IF(S128=\"\",\"\",CHAR(10)&\"-\"&VLOOKUP(S128,EventConditionConfig!A:C,3,FALSE)))","v":""},null,null,null,"",null,null,"",{"$nulls":4},{"$f":"IF(A128=\"\",\"\",IF(ISNUMBER(Y128),2,IF(A129=\"\",IF(OR(AH128>0,VLOOKUP(O128,EventConfig!A:C,3,FALSE)=4),3,\"\"),1)))","v":""},"",null,""]
[{"$f":"O129*100+P129","v":1000801},5134,"疯痴相聚","",{"$nulls":5},104,{"$f":"IF(J129=\"\",\"\",VLOOKUP(J129,EventNPC!A:E,5,FALSE))","v":"痴道人"},5135,"......",null,10008,1,"",null,null,{"$f":"IF(R129=\"\",\"\",\"-\"&VLOOKUP(R129,EventConditionConfig!A:C,3,FALSE)&IF(S129=\"\",\"\",CHAR(10)&\"-\"&VLOOKUP(S129,EventConditionConfig!A:C,3,FALSE)))","v":""},1,{"$f":"A130","v":1000802},{"$f":"_xlfn.TEXTJOIN(\";\",1,X129,AA129)","v":"5136"},5136,"（你靠近痴道人）你真的想一直留在这里？你师兄说你不肯走。",null,"",{"$nulls":4},{"$f":"IF(A129=\"\",\"\",IF(ISNUMBER(Y129),2,IF(A130=\"\",IF(OR(AH129>0,VLOOKUP(O129,EventConfig!A:C,3,FALSE)=4),3,\"\"),1)))","v":1},1000802,null,5136]
[1000802,5134,"疯痴相聚","",{"$nulls":5},104,{"$f":"IF(J130=\"\",\"\",VLOOKUP(J130,EventNPC!A:E,5,FALSE))","v":"痴道人"},5137,"你修炼的时候，有没有过那种感觉——身边的人都在往前走，只有你还在原地。",null,10008,2,"",null,null,{"$f":"IF(R130=\"\",\"\",\"-\"&VLOOKUP(R130,EventConditionConfig!A:C,3,FALSE)&IF(S130=\"\",\"\",CHAR(10)&\"-\"&VLOOKUP(S130,EventConditionConfig!A:C,3,FALSE)))","v":""},null,null,"","",null,null,"",{"$nulls":4},{"$f":"IF(A130=\"\",\"\",IF(ISNUMBER(Y130),2,IF(A131=\"\",IF(OR(AH130>0,VLOOKUP(O130,EventConfig!A:C,3,FALSE)=4),3,\"\"),1)))","v":1},1000803,null,5137]
[{"$f":"O131*100+P131","v":1000803},5134,"疯痴相聚","",{"$nulls":5},104,{"$f":"IF(J131=\"\",\"\",VLOOKUP(J131,EventNPC!A:E,5,FALSE))","v":"痴道人"},5138,"我师兄，他悟性极高，一年就能走我三年的路。我不服气，想努力赶上他。",null,10008,3,"",null,null,{"$f":"IF(R131=\"\",\"\",\"-\"&VLOOKUP(R131,EventConditionConfig!A:C,3,FALSE)&IF(S131=\"\",\"\",CHAR(10)&\"-\"&VLOOKUP(S131,EventConditionConfig!A:C,3,FALSE)))","v":""},1,{"$f":"A132","v":1000804},"5139",5139,"然后呢？",null,"",{"$nulls":4},{"$f":"IF(A131=\"\",\"\",IF(ISNUMBER(Y131),2,IF(A132=\"\",IF(OR(AH131>0,VLOOKUP(O131,EventConfig!A:C,3,FALSE)=4),3,\"\"),1)))","v":1},1000804,null,5139]
[{"$f":"O132*100+P132","v":1000804},5134,"疯痴相聚","",{"$nulls":5},104,{"$f":"IF(J132=\"\",\"\",VLOOKUP(J132,EventNPC!A:E,5,FALSE))","v":"痴道人"},5140,"我一直苦心修炼，可人也困在这儿了……越修炼，越困难，修不动了。",null,10008,4,"",null,null,{"$f":"IF(R132=\"\",\"\",\"-\"&VLOOKUP(R132,EventConditionConfig!A:C,3,FALSE)&IF(S132=\"\",\"\",CHAR(10)&\"-\"&VLOOKUP(S132,EventConditionConfig!A:C,3,FALSE)))","v":""},null,null,"","",null,null,"",{"$nulls":4},{"$f":"IF(A132=\"\",\"\",IF(ISNUMBER(Y132),2,IF(A133=\"\",IF(OR(AH132>0,VLOOKUP(O132,EventConfig!A:C,3,FALSE)=4),3,\"\"),1)))","v":1},1000805,null,5140]
[{"$f":"O133*100+P133","v":1000805},5134,"疯痴相聚","",{"$nulls":6},{"$f":"IF(J133=\"\",\"\",VLOOKUP(J133,EventNPC!A:E,5,FALSE))","v":""},5141,"[此时，疯道人踏风而至，就在几步之外]",null,10008,5,"",null,null,{"$f":"IF(R133=\"\",\"\",\"-\"&VLOOKUP(R133,EventConditionConfig!A:C,3,FALSE)&IF(S133=\"\",\"\",CHAR(10)&\"-\"&VLOOKUP(S133,EventConditionConfig!A:C,3,FALSE)))","v":""},null,null,"","",null,null,"",{"$nulls":4},{"$f":"IF(A133=\"\",\"\",IF(ISNUMBER(Y133),2,IF(A134=\"\",IF(OR(AH133>0,VLOOKUP(O133,EventConfig!A:C,3,FALSE)=4),3,\"\"),1)))","v":1},1000806,null,5141]
[{"$f":"O134*100+P134","v":1000806},{"$f":"IF(C134=\"\",\"\",IF(C134=C133,B133,MAX(AI133,AI132)+1))","v":5134},"疯痴相聚",{"$f":"IF(E134=\"\",\"\",IF(E134=E133,D133,MAX(AI133,AI132,B134)+1))","v":""},{"$nulls":5},103,{"$f":"IF(J134=\"\",\"\",VLOOKUP(J134,EventNPC!A:E,5,FALSE))","v":"疯道人"},{"$f":"IF(M134=\"\",\"\",MAX(AI133,AI132,B134,D134)+1)","v":5142},"师弟，你修着修着，就不记得一开始，是为了什么而修行。",null,10008,{"$f":"IF(O134=\"\",\"\",IF(O134=O133,P133+1,1))","v":6},"",null,null,{"$f":"IF(R134=\"\",\"\",\"-\"&VLOOKUP(R134,EventConditionConfig!A:C,3,FALSE)&IF(S134=\"\",\"\",CHAR(10)&\"-\"&VLOOKUP(S134,EventConditionConfig!A:C,3,FALSE)))","v":""},null,null,"",{"$f":"IF(OR(ISNUMBER(Y134),Y134=\"\"),\"\",MAX(AI133,AI132,B134,D134,L134)+1)","v":""},null,null,{"$f":"IF(OR(ISNUMBER(AB134),AB134=\"\"),\"\",X134+1)","v":""},{"$nulls":4},{"$f":"IF(A134=\"\",\"\",IF(ISNUMBER(Y134),2,IF(A135=\"\",IF(OR(AH134>0,VLOOKUP(O134,EventConfig!A:C,3,FALSE)=4),3,\"\"),1)))","v":1},1000807,null,{"$f":"IF(A134=\"\",\"\",MAX(B134,D134,L134,X134,AA134,AI133,AI132))","v":5142}]
[{"$f":"O135*100+P135","v":1000807},5134,"疯痴相聚","",{"$nulls":5},104,{"$f":"IF(J135=\"\",\"\",VLOOKUP(J135,EventNPC!A:E,5,FALSE))","v":"痴道人"},5143,"（抬头）......我，我真的不记得了。",null,10008,7,"",null,null,{"$f":"IF(R135=\"\",\"\",\"-\"&VLOOKUP(R135,EventConditionConfig!A:C,3,FALSE)&IF(S135=\"\",\"\",CHAR(10)&\"-\"&VLOOKUP(S135,EventConditionConfig!A:C,3,FALSE)))","v":""},null,null,"","",null,null,"",{"$nulls":4},{"$f":"IF(A135=\"\",\"\",IF(ISNUMBER(Y135),2,IF(A136=\"\",IF(OR(AH135>0,VLOOKUP(O135,EventConfig!A:C,3,FALSE)=4),3,\"\"),1)))","v":1},1000808,null,5143]
[{"$f":"O136*100+P136","v":1000808},5134,"疯痴相聚","",{"$nulls":5},103,{"$f":"IF(J136=\"\",\"\",VLOOKUP(J136,EventNPC!A:E,5,FALSE))","v":"疯道人"},5144,"那就放下风灵珠，和我出去走走。",null,10008,8,"",null,null,{"$f":"IF(R136=\"\",\"\",\"-\"&VLOOKUP(R136,EventConditionConfig!A:C,3,FALSE)&IF(S136=\"\",\"\",CHAR(10)&\"-\"&VLOOKUP(S136,EventConditionConfig!A:C,3,FALSE)))","v":""},null,null,"","",null,null,"",{"$nulls":4},{"$f":"IF(A136=\"\",\"\",IF(ISNUMBER(Y136),2,IF(A137=\"\",IF(OR(AH136>0,VLOOKUP(O136,EventConfig!A:C,3,FALSE)=4),3,\"\"),1)))","v":1},1000809,null,5144]
[{"$f":"O137*100+P137","v":1000809},5134,"疯痴相聚","",{"$nulls":5},103,{"$f":"IF(J137=\"\",\"\",VLOOKUP(J137,EventNPC!A:E,5,FALSE))","v":"疯道人"},5145,"[痴道人楞了一下，片刻后轻轻点头]",null,10008,9,{"$f":"_xlfn.TEXTJOIN(\";\",1,R137:S137)","v":""},null,null,{"$f":"IF(R137=\"\",\"\",\"-\"&VLOOKUP(R137,EventConditionConfig!A:C,3,FALSE)&IF(S137=\"\",\"\",CHAR(10)&\"-\"&VLOOKUP(S137,EventConditionConfig!A:C,3,FALSE)))","v":""},null,null,"","",null,null,"",{"$nulls":4},{"$f":"IF(A137=\"\",\"\",IF(ISNUMBER(Y137),2,IF(A138=\"\",IF(OR(AH137>0,VLOOKUP(O137,EventConfig!A:C,3,FALSE)=4),3,\"\"),1)))","v":1},1000810,null,5145]
[{"$f":"O138*100+P138","v":1000810},5134,"疯痴相聚","",{"$nulls":6},{"$f":"IF(J138=\"\",\"\",VLOOKUP(J138,EventNPC!A:E,5,FALSE))","v":""},5146,"[突然..洞府周围灵气汇聚，快速涌入痴道人的身体.]",null,10008,10,"",null,null,{"$f":"IF(R138=\"\",\"\",\"-\"&VLOOKUP(R138,EventConditionConfig!A:C,3,FALSE)&IF(S138=\"\",\"\",CHAR(10)&\"-\"&VLOOKUP(S138,EventConditionConfig!A:C,3,FALSE)))","v":""},1,{"$f":"A139","v":1000811},"5147",5147,"前辈，为何灵气会动！",null,"",{"$nulls":4},{"$f":"IF(A138=\"\",\"\",IF(ISNUMBER(Y138),2,IF(A139=\"\",IF(OR(AH138>0,VLOOKUP(O138,EventConfig!A:C,3,FALSE)=4),3,\"\"),1)))","v":1},1000811,null,5147]
[{"$f":"O139*100+P139","v":1000811},5134,"疯痴相聚","",{"$nulls":5},103,{"$f":"IF(J139=\"\",\"\",VLOOKUP(J139,EventNPC!A:E,5,FALSE))","v":"疯道人"},5148,"恭喜师弟，突破心魔。",null,10008,11,"",null,null,{"$f":"IF(R139=\"\",\"\",\"-\"&VLOOKUP(R139,EventConditionConfig!A:C,3,FALSE)&IF(S139=\"\",\"\",CHAR(10)&\"-\"&VLOOKUP(S139,EventConditionConfig!A:C,3,FALSE)))","v":""},null,null,"","",null,null,"",{"$nulls":4},{"$f":"IF(A139=\"\",\"\",IF(ISNUMBER(Y139),2,IF(A140=\"\",IF(OR(AH139>0,VLOOKUP(O139,EventConfig!A:C,3,FALSE)=4),3,\"\"),1)))","v":1},1000812,null,5148]
[{"$f":"O140*100+P140","v":1000812},5134,"疯痴相聚","",{"$nulls":5},104,{"$f":"IF(J140=\"\",\"\",VLOOKUP(J140,EventNPC!A:E,5,FALSE))","v":"痴道人"},5149,"多谢师兄！",null,10008,12,"",null,null,{"$f":"IF(R140=\"\",\"\",\"-\"&VLOOKUP(R140,EventConditionConfig!A:C,3,FALSE)&IF(S140=\"\",\"\",CHAR(10)&\"-\"&VLOOKUP(S140,EventConditionConfig!A:C,3,FALSE)))","v":""},1,{"$f":"IF(U140=1,_xlfn.TEXTJOIN(\";\",1,IF(Z140=\"\",A140+1,Z140),IF(AND(AA140<>\"\",AC140=\"\"),A140+1,AC140)),IF(U140=2,Y140,\"\"))","v":"1000813;1000813"},"5150;5151",5150,"原来如此…",null,5151,"请前辈赐我风灵珠。",null,null,null,{"$f":"IF(A140=\"\",\"\",IF(ISNUMBER(Y140),2,IF(A141=\"\",IF(OR(AH140>0,VLOOKUP(O140,EventConfig!A:C,3,FALSE)=4),3,\"\"),1)))","v":1},1000813,null,5151]
[{"$f":"O141*100+P141","v":1000813},5134,"疯痴相聚","",{"$nulls":5},104,{"$f":"IF(J141=\"\",\"\",VLOOKUP(J141,EventNPC!A:E,5,FALSE))","v":"痴道人"},5152,"小友莫急… (说罢，痴道人将风灵珠的碎片合成了一颗完整的风灵珠)",null,10008,13,"",null,null,{"$f":"IF(R141=\"\",\"\",\"-\"&VLOOKUP(R141,EventConditionConfig!A:C,3,FALSE)&IF(S141=\"\",\"\",CHAR(10)&\"-\"&VLOOKUP(S141,EventConditionConfig!A:C,3,FALSE)))","v":""},null,null,"","",null,null,"",{"$nulls":4},{"$f":"IF(A141=\"\",\"\",IF(ISNUMBER(Y141),2,IF(A142=\"\",IF(OR(AH141>0,VLOOKUP(O141,EventConfig!A:C,3,FALSE)=4),3,\"\"),1)))","v":1},1000814,null,5152]
[{"$f":"O142*100+P142","v":1000814},5134,"疯痴相聚","",{"$nulls":5},104,{"$f":"IF(J142=\"\",\"\",VLOOKUP(J142,EventNPC!A:E,5,FALSE))","v":"痴道人"},5153,"拿好了，这风啊……来一回，不容易。",null,10008,14,"",null,null,{"$f":"IF(R142=\"\",\"\",\"-\"&VLOOKUP(R142,EventConditionConfig!A:C,3,FALSE)&IF(S142=\"\",\"\",CHAR(10)&\"-\"&VLOOKUP(S142,EventConditionConfig!A:C,3,FALSE)))","v":""},null,null,"","",null,null,"",{"$nulls":4},{"$f":"IF(A142=\"\",\"\",IF(ISNUMBER(Y142),2,IF(A143=\"\",IF(OR(AH142>0,VLOOKUP(O142,EventConfig!A:C,3,FALSE)=4),3,\"\"),1)))","v":3},{"$f":"IF(AF142=\"\",\"\",CHOOSE(AF142,IF(AH142=\"\",A142+1,AH142),CONCATENATE(IF(AH142=\"\",A142+1,AH142),\";101\"),IF(AH142=\"\",O142+1,AH142)))","v":10009},null,5153]
[null,"",null,"",{"$nulls":7},"",null,null,null,"","",null,null,{"$f":"IF(R143=\"\",\"\",\"-\"&VLOOKUP(R143,EventConditionConfig!A:C,3,FALSE)&IF(S143=\"\",\"\",CHAR(10)&\"-\"&VLOOKUP(S143,EventConditionConfig!A:C,3,FALSE)))","v":""},null,null,null,"",null,null,"",{"$nulls":4},{"$f":"IF(A143=\"\",\"\",IF(ISNUMBER(Y143),2,IF(A144=\"\",IF(OR(AH143>0,VLOOKUP(O143,EventConfig!A:C,3,FALSE)=4),3,\"\"),1)))","v":""},"",null,""]
[{"$f":"O144*100+P144","v":1000901},5154,"达到筑基后期","",{"$nulls":5},100,{"$f":"IF(J144=\"\",\"\",VLOOKUP(J144,EventNPC!A:E,5,FALSE))","v":"玩家"},5155,"完整的风灵珠果然不同凡响，我可以更大的狂风中穿行了。",null,{"$f":"IF(O143=\"\",O142+1,O143)","v":10009},1,"",null,null,{"$f":"IF(R144=\"\",\"\",\"-\"&VLOOKUP(R144,EventConditionConfig!A:C,3,FALSE)&IF(S144=\"\",\"\",CHAR(10)&\"-\"&VLOOKUP(S144,EventConditionConfig!A:C,3,FALSE)))","v":""},null,null,{"$f":"_xlfn.TEXTJOIN(\";\",1,X144,AA144)","v":""},"",null,null,"",{"$nulls":4},{"$f":"IF(A144=\"\",\"\",IF(ISNUMBER(Y144),2,IF(A145=\"\",IF(OR(AH144>0,VLOOKUP(O144,EventConfig!A:C,3,FALSE)=4),3,\"\"),1)))","v":1},1000902,null,5155]
[{"$f":"O145*100+P145","v":1000902},5154,"达到筑基后期","",{"$nulls":5},100,{"$f":"IF(J145=\"\",\"\",VLOOKUP(J145,EventNPC!A:E,5,FALSE))","v":"玩家"},5156,"前方似乎有不少高阶妖兽，我先在此地提升一些修为吧。",null,{"$f":"IF(O144=\"\",O143+1,O144)","v":10009},2,"",null,null,{"$f":"IF(R145=\"\",\"\",\"-\"&VLOOKUP(R145,EventConditionConfig!A:C,3,FALSE)&IF(S145=\"\",\"\",CHAR(10)&\"-\"&VLOOKUP(S145,EventConditionConfig!A:C,3,FALSE)))","v":""},null,null,{"$f":"_xlfn.TEXTJOIN(\";\",1,X145,AA145)","v":""},"",null,null,"",{"$nulls":4},{"$f":"IF(A145=\"\",\"\",IF(ISNUMBER(Y145),2,IF(A146=\"\",IF(OR(AH145>0,VLOOKUP(O145,EventConfig!A:C,3,FALSE)=4),3,\"\"),1)))","v":1},1000903,null,5156]
[{"$f":"O146*100+P146","v":1000903},5154,"达到筑基后期","",{"$nulls":5},100,{"$f":"IF(J146=\"\",\"\",VLOOKUP(J146,EventNPC!A:E,5,FALSE))","v":"玩家"},5157,"继续寻找冲虚提到的“七道心境”吧，不知鲲鹏是否会给我答案。",null,10009,3,"8",8,null,{"$f":"IF(R146=\"\",\"\",\"-\"&VLOOKUP(R146,EventConditionConfig!A:C,3,FALSE)&IF(S146=\"\",\"\",CHAR(10)&\"-\"&VLOOKUP(S146,EventConditionConfig!A:C,3,FALSE)))","v":"-达到境界：练气-后期"},null,null,{"$f":"_xlfn.TEXTJOIN(\";\",1,X146,AA146)","v":""},"",null,null,"",{"$nulls":4},{"$f":"IF(A146=\"\",\"\",IF(ISNUMBER(Y146),2,IF(A147=\"\",IF(OR(AH146>0,VLOOKUP(O146,EventConfig!A:C,3,FALSE)=4),3,\"\"),1)))","v":3},10010,null,5157]
[null,"",null,"",{"$nulls":7},"",null,null,null,"","",null,null,{"$f":"IF(R147=\"\",\"\",\"-\"&VLOOKUP(R147,EventConditionConfig!A:C,3,FALSE)&IF(S147=\"\",\"\",CHAR(10)&\"-\"&VLOOKUP(S147,EventConditionConfig!A:C,3,FALSE)))","v":""},null,null,null,"",null,null,"",{"$nulls":4},{"$f":"IF(A147=\"\",\"\",IF(ISNUMBER(Y147),2,IF(A148=\"\",IF(OR(AH147>0,VLOOKUP(O147,EventConfig!A:C,3,FALSE)=4),3,\"\"),1)))","v":""},"",null,""]
[{"$f":"O148*100+P148","v":1001001},5158,"妖兽横行","",{"$nulls":6},{"$f":"IF(J148=\"\",\"\",VLOOKUP(J148,EventNPC!A:E,5,FALSE))","v":""},5159,"你深入北海，海浪翻涌，云雾缭绕。",null,{"$f":"IF(O147=\"\",O146+1,O147)","v":10010},1,"",null,null,{"$f":"IF(R148=\"\",\"\",\"-\"&VLOOKUP(R148,EventConditionConfig!A:C,3,FALSE)&IF(S148=\"\",\"\",CHAR(10)&\"-\"&VLOOKUP(S148,EventConditionConfig!A:C,3,FALSE)))","v":""},null,null,{"$f":"_xlfn.TEXTJOIN(\";\",1,X148,AA148)","v":""},"",null,null,"",{"$nulls":4},{"$f":"IF(A148=\"\",\"\",IF(ISNUMBER(Y148),2,IF(A149=\"\",IF(OR(AH148>0,VLOOKUP(O148,EventConfig!A:C,3,FALSE)=4),3,\"\"),1)))","v":1},1001002,null,5159]
[{"$f":"O149*100+P149","v":1001002},5158,"妖兽横行","",{"$nulls":6},{"$f":"IF(J149=\"\",\"\",VLOOKUP(J149,EventNPC!A:E,5,FALSE))","v":""},5160,"深处阴冷气息笼罩，妖兽从浪中涌出，狂暴阻路，仿佛在守护北海的秘密。",null,{"$f":"IF(O148=\"\",O147+1,O148)","v":10010},2,{"$f":"_xlfn.TEXTJOIN(\";\",1,R149:S149)","v":""},null,null,{"$f":"IF(R149=\"\",\"\",\"-\"&VLOOKUP(R149,EventConditionConfig!A:C,3,FALSE)&IF(S149=\"\",\"\",CHAR(10)&\"-\"&VLOOKUP(S149,EventConditionConfig!A:C,3,FALSE)))","v":""},null,null,"","",null,null,"",{"$nulls":4},{"$f":"IF(A149=\"\",\"\",IF(ISNUMBER(Y149),2,IF(A150=\"\",IF(OR(AH149>0,VLOOKUP(O149,EventConfig!A:C,3,FALSE)=4),3,\"\"),1)))","v":1},1001003,null,5160]
[{"$f":"O150*100+P150","v":1001003},5158,"妖兽横行","",{"$nulls":6},{"$f":"IF(J150=\"\",\"\",VLOOKUP(J150,EventNPC!A:E,5,FALSE))","v":""},5161,"风灵珠碎片微微发光，助你御风而战。",null,{"$f":"IF(O149=\"\",O148+1,O149)","v":10010},3,{"$f":"_xlfn.TEXTJOIN(\";\",1,R150:S150)","v":""},null,null,{"$f":"IF(R150=\"\",\"\",\"-\"&VLOOKUP(R150,EventConditionConfig!A:C,3,FALSE)&IF(S150=\"\",\"\",CHAR(10)&\"-\"&VLOOKUP(S150,EventConditionConfig!A:C,3,FALSE)))","v":""},null,null,"","",null,null,"",{"$nulls":4},{"$f":"IF(A150=\"\",\"\",IF(ISNUMBER(Y150),2,IF(A151=\"\",IF(OR(AH150>0,VLOOKUP(O150,EventConfig!A:C,3,FALSE)=4),3,\"\"),1)))","v":1},1001004,null,5161]
[1001004,5158,"妖兽横行","",{"$nulls":6},{"$f":"IF(J151=\"\",\"\",VLOOKUP(J151,EventNPC!A:E,5,FALSE))","v":""},5162,"这些妖兽挡道……看来得先清扫一番，才能继续前行。",null,{"$f":"IF(O148=\"\",O147+1,O148)","v":10010},4,{"$f":"_xlfn.TEXTJOIN(\";\",1,R151:S151)","v":""},null,null,{"$f":"IF(R151=\"\",\"\",\"-\"&VLOOKUP(R151,EventConditionConfig!A:C,3,FALSE)&IF(S151=\"\",\"\",CHAR(10)&\"-\"&VLOOKUP(S151,EventConditionConfig!A:C,3,FALSE)))","v":""},null,null,"","",null,null,"",{"$nulls":4},{"$f":"IF(A151=\"\",\"\",IF(ISNUMBER(Y151),2,IF(A152=\"\",IF(OR(AH151>0,VLOOKUP(O151,EventConfig!A:C,3,FALSE)=4),3,\"\"),1)))","v":1},1001005,null,5162]
[1001005,5163,"妖兽肆虐","",{"$nulls":5},120,{"$f":"IF(J152=\"\",\"\",VLOOKUP(J152,EventNPC!A:E,5,FALSE))","v":"妖兽"},5164,"（咆哮，从深浪跃出）“外来者，北海无路！”",null,{"$f":"IF(O148=\"\",O147+1,O148)","v":10010},5,{"$f":"_xlfn.TEXTJOIN(\";\",1,R152:S152)","v":"9"},9,null,{"$f":"IF(R152=\"\",\"\",\"-\"&VLOOKUP(R152,EventConditionConfig!A:C,3,FALSE)&IF(S152=\"\",\"\",CHAR(10)&\"-\"&VLOOKUP(S152,EventConditionConfig!A:C,3,FALSE)))","v":"-击杀北海小妖"},null,null,"","",null,null,"",{"$nulls":4},{"$f":"IF(A152=\"\",\"\",IF(ISNUMBER(Y152),2,IF(A153=\"\",IF(OR(AH152>0,VLOOKUP(O152,EventConfig!A:C,3,FALSE)=4),3,\"\"),1)))","v":1},1001006,null,5164]
[{"$f":"O153*100+P153","v":1001006},5163,"妖兽肆虐","",{"$nulls":6},{"$f":"IF(J153=\"\",\"\",VLOOKUP(J153,EventNPC!A:E,5,FALSE))","v":""},"",null,null,{"$f":"IF(O149=\"\",O148+1,O149)","v":10010},6,{"$f":"_xlfn.TEXTJOIN(\";\",1,R153:S153)","v":"36"},36,null,{"$f":"IF(R153=\"\",\"\",\"-\"&VLOOKUP(R153,EventConditionConfig!A:C,3,FALSE)&IF(S153=\"\",\"\",CHAR(10)&\"-\"&VLOOKUP(S153,EventConditionConfig!A:C,3,FALSE)))","v":"-击杀北海妖兽精英"},null,null,"","",null,null,"",{"$nulls":4},{"$f":"IF(A153=\"\",\"\",IF(ISNUMBER(Y153),2,IF(A154=\"\",IF(OR(AH153>0,VLOOKUP(O153,EventConfig!A:C,3,FALSE)=4),3,\"\"),1)))","v":3},10011,null,5164]
[null,"",null,"",{"$nulls":7},"",null,null,null,"","",null,null,{"$f":"IF(R154=\"\",\"\",\"-\"&VLOOKUP(R154,EventConditionConfig!A:C,3,FALSE)&IF(S154=\"\",\"\",CHAR(10)&\"-\"&VLOOKUP(S154,EventConditionConfig!A:C,3,FALSE)))","v":""},null,null,null,"",null,null,"",{"$nulls":4},{"$f":"IF(A154=\"\",\"\",IF(ISNUMBER(Y154),2,IF(A155=\"\",IF(OR(AH154>0,VLOOKUP(O154,EventConfig!A:C,3,FALSE)=4),3,\"\"),1)))","v":""},"",null,""]
[{"$f":"O155*100+P155","v":1001101},5165,"与鲲鹏对话","",{"$nulls":6},{"$f":"IF(J155=\"\",\"\",VLOOKUP(J155,EventNPC!A:E,5,FALSE))","v":""},5166,"你来到北海尽头。水面如镜，深不见底。一道巨影在水底游弋，这就是北海之鱼——鲲，至少有几千里那么大。",null,{"$f":"IF(O154=\"\",O148+1,O154)","v":10011},1,"",null,null,{"$f":"IF(R155=\"\",\"\",\"-\"&VLOOKUP(R155,EventConditionConfig!A:C,3,FALSE)&IF(S155=\"\",\"\",CHAR(10)&\"-\"&VLOOKUP(S155,EventConditionConfig!A:C,3,FALSE)))","v":""},null,null,{"$f":"_xlfn.TEXTJOIN(\";\",1,X155,AA155)","v":""},"",null,null,"",{"$nulls":4},{"$f":"IF(A155=\"\",\"\",IF(ISNUMBER(Y155),2,IF(A156=\"\",IF(OR(AH155>0,VLOOKUP(O155,EventConfig!A:C,3,FALSE)=4),3,\"\"),1)))","v":1},1001102,null,5166]
[{"$f":"O156*100+P156","v":1001102},5165,"与鲲鹏对话","",{"$nulls":5},119,{"$f":"IF(J156=\"\",\"\",VLOOKUP(J156,EventNPC!A:E,5,FALSE))","v":"鲲鹏"},5167,"(低沉声，从水底传出，如闷雷回荡）……小子，你寻我何事？身上竟有风灵珠的气息，不简单。",null,10011,2,{"$f":"_xlfn.TEXTJOIN(\";\",1,R156:S156)","v":""},null,null,{"$f":"IF(R156=\"\",\"\",\"-\"&VLOOKUP(R156,EventConditionConfig!A:C,3,FALSE)&IF(S156=\"\",\"\",CHAR(10)&\"-\"&VLOOKUP(S156,EventConditionConfig!A:C,3,FALSE)))","v":""},null,null,"","",null,null,"",{"$nulls":4},{"$f":"IF(A156=\"\",\"\",IF(ISNUMBER(Y156),2,IF(A157=\"\",IF(OR(AH156>0,VLOOKUP(O156,EventConfig!A:C,3,FALSE)=4),3,\"\"),1)))","v":1},1001103,null,5167]
[{"$f":"O157*100+P157","v":1001103},5165,"与鲲鹏对话","",{"$nulls":5},100,{"$f":"IF(J157=\"\",\"\",VLOOKUP(J157,EventNPC!A:E,5,FALSE))","v":"玩家"},5168,"前辈，我受冲虚真人指引，游历天下，正在寻找七道心境。",null,10011,3,{"$f":"_xlfn.TEXTJOIN(\";\",1,R157:S157)","v":""},null,null,{"$f":"IF(R157=\"\",\"\",\"-\"&VLOOKUP(R157,EventConditionConfig!A:C,3,FALSE)&IF(S157=\"\",\"\",CHAR(10)&\"-\"&VLOOKUP(S157,EventConditionConfig!A:C,3,FALSE)))","v":""},null,null,"","",null,null,"",{"$nulls":4},{"$f":"IF(A157=\"\",\"\",IF(ISNUMBER(Y157),2,IF(A158=\"\",IF(OR(AH157>0,VLOOKUP(O157,EventConfig!A:C,3,FALSE)=4),3,\"\"),1)))","v":1},1001104,null,5168]
[{"$f":"O158*100+P158","v":1001104},5165,"与鲲鹏对话","",{"$nulls":5},100,{"$f":"IF(J158=\"\",\"\",VLOOKUP(J158,EventNPC!A:E,5,FALSE))","v":"玩家"},5169,"有缘路过此地，听闻前辈欲飞南海天池，可为何停滞于此？",null,10011,4,{"$f":"_xlfn.TEXTJOIN(\";\",1,R158:S158)","v":""},null,null,{"$f":"IF(R158=\"\",\"\",\"-\"&VLOOKUP(R158,EventConditionConfig!A:C,3,FALSE)&IF(S158=\"\",\"\",CHAR(10)&\"-\"&VLOOKUP(S158,EventConditionConfig!A:C,3,FALSE)))","v":""},null,null,"","",null,null,"",{"$nulls":4},{"$f":"IF(A158=\"\",\"\",IF(ISNUMBER(Y158),2,IF(A159=\"\",IF(OR(AH158>0,VLOOKUP(O158,EventConfig!A:C,3,FALSE)=4),3,\"\"),1)))","v":1},1001105,null,5169]
[1001105,5165,"与鲲鹏对话","",{"$nulls":5},119,{"$f":"IF(J159=\"\",\"\",VLOOKUP(J159,EventNPC!A:E,5,FALSE))","v":"鲲鹏"},5170,"（叹息，水面微颤）北海虽广，却无龙卷大风，我无法化鹏南飞，已困千年。",null,10011,5,"",null,null,{"$f":"IF(R159=\"\",\"\",\"-\"&VLOOKUP(R159,EventConditionConfig!A:C,3,FALSE)&IF(S159=\"\",\"\",CHAR(10)&\"-\"&VLOOKUP(S159,EventConditionConfig!A:C,3,FALSE)))","v":""},null,null,"5171",5171,"我愿助一臂之力",null,"",{"$nulls":4},{"$f":"IF(A159=\"\",\"\",IF(ISNUMBER(Y159),2,IF(A160=\"\",IF(OR(AH159>0,VLOOKUP(O159,EventConfig!A:C,3,FALSE)=4),3,\"\"),1)))","v":1},1001106,null,5171]
[1001106,5165,"与鲲鹏对话","",{"$nulls":5},119,{"$f":"IF(J160=\"\",\"\",VLOOKUP(J160,EventNPC!A:E,5,FALSE))","v":"鲲鹏"},5172,"（低笑）你修为尚浅，虽然聚齐了风灵珠，但却无法召唤龙卷大风。",null,10011,6,"",null,null,{"$f":"IF(R160=\"\",\"\",\"-\"&VLOOKUP(R160,EventConditionConfig!A:C,3,FALSE)&IF(S160=\"\",\"\",CHAR(10)&\"-\"&VLOOKUP(S160,EventConditionConfig!A:C,3,FALSE)))","v":""},null,null,"","",null,null,"",{"$nulls":4},{"$f":"IF(A160=\"\",\"\",IF(ISNUMBER(Y160),2,IF(A161=\"\",IF(OR(AH160>0,VLOOKUP(O160,EventConfig!A:C,3,FALSE)=4),3,\"\"),1)))","v":1},1001107,null,5172]
[{"$f":"O161*100+P161","v":1001107},5165,"与鲲鹏对话","",{"$nulls":5},119,{"$f":"IF(J161=\"\",\"\",VLOOKUP(J161,EventNPC!A:E,5,FALSE))","v":"鲲鹏"},5173,"走吧，去尧都看看，继续你的游历，或许机缘自来。",null,10011,7,{"$f":"_xlfn.TEXTJOIN(\";\",1,R161:S161)","v":""},null,null,{"$f":"IF(R161=\"\",\"\",\"-\"&VLOOKUP(R161,EventConditionConfig!A:C,3,FALSE)&IF(S161=\"\",\"\",CHAR(10)&\"-\"&VLOOKUP(S161,EventConditionConfig!A:C,3,FALSE)))","v":""},null,null,"","",null,null,"",{"$nulls":4},{"$f":"IF(A161=\"\",\"\",IF(ISNUMBER(Y161),2,IF(A162=\"\",IF(OR(AH161>0,VLOOKUP(O161,EventConfig!A:C,3,FALSE)=4),3,\"\"),1)))","v":1},1001108,null,5173]
[1001108,5165,"与鲲鹏对话","",{"$nulls":5},100,{"$f":"IF(J162=\"\",\"\",VLOOKUP(J162,EventNPC!A:E,5,FALSE))","v":"玩家"},5174,"多谢前辈指点。我一定会回来，再助前辈一飞冲天。",null,10011,8,"",null,null,{"$f":"IF(R162=\"\",\"\",\"-\"&VLOOKUP(R162,EventConditionConfig!A:C,3,FALSE)&IF(S162=\"\",\"\",CHAR(10)&\"-\"&VLOOKUP(S162,EventConditionConfig!A:C,3,FALSE)))","v":""},null,null,"","",null,null,"",{"$nulls":4},{"$f":"IF(A162=\"\",\"\",IF(ISNUMBER(Y162),2,IF(A163=\"\",IF(OR(AH162>0,VLOOKUP(O162,EventConfig!A:C,3,FALSE)=4),3,\"\"),1)))","v":1},1001109,null,5174]
[{"$f":"O163*100+P163","v":1001109},5165,"与鲲鹏对话","",{"$nulls":5},100,{"$f":"IF(J163=\"\",\"\",VLOOKUP(J163,EventNPC!A:E,5,FALSE))","v":"玩家"},5175,"鲲鹏困于无风……看来我的旅程才刚开始。",null,10011,9,{"$f":"_xlfn.TEXTJOIN(\";\",1,R163:S163)","v":""},null,null,{"$f":"IF(R163=\"\",\"\",\"-\"&VLOOKUP(R163,EventConditionConfig!A:C,3,FALSE)&IF(S163=\"\",\"\",CHAR(10)&\"-\"&VLOOKUP(S163,EventConditionConfig!A:C,3,FALSE)))","v":""},null,null,"","",null,null,"",{"$nulls":4},{"$f":"IF(A163=\"\",\"\",IF(ISNUMBER(Y163),2,IF(A164=\"\",IF(OR(AH163>0,VLOOKUP(O163,EventConfig!A:C,3,FALSE)=4),3,\"\"),1)))","v":1},1001110,null,5175]
[{"$f":"O164*100+P164","v":1001110},5165,"与鲲鹏对话","",{"$nulls":5},100,{"$f":"IF(J164=\"\",\"\",VLOOKUP(J164,EventNPC!A:E,5,FALSE))","v":"玩家"},5176,"冲虚真人所言的“七道心境”，或许就在前方。",null,10011,10,{"$f":"_xlfn.TEXTJOIN(\";\",1,R164:S164)","v":""},null,null,{"$f":"IF(R164=\"\",\"\",\"-\"&VLOOKUP(R164,EventConditionConfig!A:C,3,FALSE)&IF(S164=\"\",\"\",CHAR(10)&\"-\"&VLOOKUP(S164,EventConditionConfig!A:C,3,FALSE)))","v":""},null,null,"","",null,null,"",{"$nulls":4},{"$f":"IF(A164=\"\",\"\",IF(ISNUMBER(Y164),2,IF(A165=\"\",IF(OR(AH164>0,VLOOKUP(O164,EventConfig!A:C,3,FALSE)=4),3,\"\"),1)))","v":1},1001111,null,5176]
[{"$f":"O165*100+P165","v":1001111},5165,"与鲲鹏对话","",{"$nulls":5},100,{"$f":"IF(J165=\"\",\"\",VLOOKUP(J165,EventNPC!A:E,5,FALSE))","v":"玩家"},5177,"去尧之都走一遭吧。",null,10011,11,{"$f":"_xlfn.TEXTJOIN(\";\",1,R165:S165)","v":""},null,null,{"$f":"IF(R165=\"\",\"\",\"-\"&VLOOKUP(R165,EventConditionConfig!A:C,3,FALSE)&IF(S165=\"\",\"\",CHAR(10)&\"-\"&VLOOKUP(S165,EventConditionConfig!A:C,3,FALSE)))","v":""},null,null,"","",null,null,"",{"$nulls":4},{"$f":"IF(A165=\"\",\"\",IF(ISNUMBER(Y165),2,IF(A166=\"\",IF(OR(AH165>0,VLOOKUP(O165,EventConfig!A:C,3,FALSE)=4),3,\"\"),1)))","v":1},1001112,null,5177]
[{"$f":"O166*100+P166","v":1001112},5165,"与鲲鹏对话","",{"$nulls":6},{"$f":"IF(J166=\"\",\"\",VLOOKUP(J166,EventNPC!A:E,5,FALSE))","v":""},"",null,null,10011,12,{"$f":"_xlfn.TEXTJOIN(\";\",1,R166:S166)","v":"14"},14,null,{"$f":"IF(R166=\"\",\"\",\"-\"&VLOOKUP(R166,EventConditionConfig!A:C,3,FALSE)&IF(S166=\"\",\"\",CHAR(10)&\"-\"&VLOOKUP(S166,EventConditionConfig!A:C,3,FALSE)))","v":"-达到境界：筑基-前期"},null,null,"","",null,null,"",{"$nulls":4},{"$f":"IF(A166=\"\",\"\",IF(ISNUMBER(Y166),2,IF(A167=\"\",IF(OR(AH166>0,VLOOKUP(O166,EventConfig!A:C,3,FALSE)=4),3,\"\"),1)))","v":3},10012,null,5177]
[null,"",null,"",{"$nulls":7},"",null,null,{"$f":"IF(M167=\"\",\"\",IF(O155=\"\",O154+1,O155))","v":""},"","",null,null,{"$f":"IF(R167=\"\",\"\",\"-\"&VLOOKUP(R167,EventConditionConfig!A:C,3,FALSE)&IF(S167=\"\",\"\",CHAR(10)&\"-\"&VLOOKUP(S167,EventConditionConfig!A:C,3,FALSE)))","v":""},null,null,null,"",null,null,"",{"$nulls":4},{"$f":"IF(A167=\"\",\"\",IF(ISNUMBER(Y167),2,IF(A168=\"\",IF(OR(AH167>0,VLOOKUP(O167,EventConfig!A:C,3,FALSE)=4),3,\"\"),1)))","v":""},"",null,""]
[{"$f":"O168*100+P168","v":1001201},5178,"前往尧都地界","",{"$nulls":6},{"$f":"IF(J168=\"\",\"\",VLOOKUP(J168,EventNPC!A:E,5,FALSE))","v":""},5179,"你离开北海，御剑而行。逍遥铃微微颤动，似乎在指引下一个方向——尧之都，那片祥和的仙域。",null,{"$f":"IF(M168=\"\",\"\",IF(O167=\"\",O155+1,O167))","v":10012},1,"",null,null,{"$f":"IF(R168=\"\",\"\",\"-\"&VLOOKUP(R168,EventConditionConfig!A:C,3,FALSE)&IF(S168=\"\",\"\",CHAR(10)&\"-\"&VLOOKUP(S168,EventConditionConfig!A:C,3,FALSE)))","v":""},{"$f":"IF(Y168=\"\",\"\",IF(ISTEXT(Y168),1,2))","v":""},{"$f":"IF(U168=1,_xlfn.TEXTJOIN(\";\",1,IF(Z168=\"\",A168+1,Z168),IF(AND(AA168<>\"\",AC168=\"\"),A168+1,AC168)),IF(U168=2,Y168,\"\"))","v":""},{"$f":"_xlfn.TEXTJOIN(\";\",1,X168,AA168)","v":""},"",null,null,"",{"$nulls":4},{"$f":"IF(A168=\"\",\"\",IF(ISNUMBER(Y168),2,IF(A169=\"\",IF(OR(AH168>0,VLOOKUP(O168,EventConfig!A:C,3,FALSE)=4),3,\"\"),1)))","v":1},1001202,null,5179]
[{"$f":"O169*100+P169","v":1001202},5178,"前往尧都地界","",{"$nulls":6},{"$f":"IF(J169=\"\",\"\",VLOOKUP(J169,EventNPC!A:E,5,FALSE))","v":""},5180,"鲲鹏前辈提及尧都，或许那里有助你悟道的关键。",null,{"$f":"IF(M169=\"\",\"\",IF(O168=\"\",O156+1,O168))","v":10012},2,{"$f":"_xlfn.TEXTJOIN(\";\",1,R169:S169)","v":""},null,null,{"$f":"IF(R169=\"\",\"\",\"-\"&VLOOKUP(R169,EventConditionConfig!A:C,3,FALSE)&IF(S169=\"\",\"\",CHAR(10)&\"-\"&VLOOKUP(S169,EventConditionConfig!A:C,3,FALSE)))","v":""},{"$f":"IF(Y169=\"\",\"\",IF(ISTEXT(Y169),1,2))","v":""},{"$f":"IF(U169=1,_xlfn.TEXTJOIN(\";\",1,IF(Z169=\"\",A169+1,Z169),IF(AND(AA169<>\"\",AC169=\"\"),A169+1,AC169)),IF(U169=2,Y169,\"\"))","v":""},{"$f":"_xlfn.TEXTJOIN(\";\",1,X169,AA169)","v":""},"",null,null,"",{"$nulls":4},{"$f":"IF(A169=\"\",\"\",IF(ISNUMBER(Y169),2,IF(A170=\"\",IF(OR(AH169>0,VLOOKUP(O169,EventConfig!A:C,3,FALSE)=4),3,\"\"),1)))","v":1},1001203,null,5180]
[{"$f":"O170*100+P170","v":1001203},5178,"前往尧都地界","",{"$nulls":6},{"$f":"IF(J170=\"\",\"\",VLOOKUP(J170,EventNPC!A:E,5,FALSE))","v":""},5181,"尧都……据说这里仙凡混居，国泰民安。帝尧治理有方，或许能找到更多线索。",null,{"$f":"IF(M170=\"\",\"\",IF(O169=\"\",O157+1,O169))","v":10012},3,{"$f":"_xlfn.TEXTJOIN(\";\",1,R170:S170)","v":""},null,null,{"$f":"IF(R170=\"\",\"\",\"-\"&VLOOKUP(R170,EventConditionConfig!A:C,3,FALSE)&IF(S170=\"\",\"\",CHAR(10)&\"-\"&VLOOKUP(S170,EventConditionConfig!A:C,3,FALSE)))","v":""},{"$f":"IF(Y170=\"\",\"\",IF(ISTEXT(Y170),1,2))","v":""},{"$f":"IF(U170=1,_xlfn.TEXTJOIN(\";\",1,IF(Z170=\"\",A170+1,Z170),IF(AND(AA170<>\"\",AC170=\"\"),A170+1,AC170)),IF(U170=2,Y170,\"\"))","v":""},{"$f":"_xlfn.TEXTJOIN(\";\",1,X170,AA170)","v":""},"",null,null,"",{"$nulls":4},{"$f":"IF(A170=\"\",\"\",IF(ISNUMBER(Y170),2,IF(A171=\"\",IF(OR(AH170>0,VLOOKUP(O170,EventConfig!A:C,3,FALSE)=4),3,\"\"),1)))","v":3},10013,null,5181]
[null,"",null,"",{"$nulls":7},"",null,null,{"$f":"IF(M171=\"\",\"\",IF(O168=\"\",O167+1,O168))","v":""},"",{"$nulls":7},"",null,null,"",{"$nulls":4},{"$f":"IF(A171=\"\",\"\",IF(ISNUMBER(Y171),2,IF(A172=\"\",IF(OR(AH171>0,VLOOKUP(O171,EventConfig!A:C,3,FALSE)=4),3,\"\"),1)))","v":""},"",null,""]
[{"$f":"O172*100+P172","v":1001301},5182,"尧让天下",5183,"倾听尧帝的烦恼",{"$nulls":5},{"$f":"IF(J172=\"\",\"\",VLOOKUP(J172,EventNPC!A:E,5,FALSE))","v":""},5184,"你踏入帝尧治下的仙域——一片祥和之地，灵气充沛，民众安居，仿佛世外桃源。",null,{"$f":"IF(M172=\"\",\"\",IF(O171=\"\",O168+1,O171))","v":10013},1,"",null,null,{"$f":"IF(R172=\"\",\"\",\"-\"&VLOOKUP(R172,EventConditionConfig!A:C,3,FALSE)&IF(S172=\"\",\"\",CHAR(10)&\"-\"&VLOOKUP(S172,EventConditionConfig!A:C,3,FALSE)))","v":""},null,null,{"$f":"_xlfn.TEXTJOIN(\";\",1,X172,AA172)","v":""},"",null,null,"",{"$nulls":4},{"$f":"IF(A172=\"\",\"\",IF(ISNUMBER(Y172),2,IF(A173=\"\",IF(OR(AH172>0,VLOOKUP(O172,EventConfig!A:C,3,FALSE)=4),3,\"\"),1)))","v":1},1001302,null,5184]
[{"$f":"O173*100+P173","v":1001302},5182,"尧让天下",5183,"倾听尧帝的烦恼",{"$nulls":5},{"$f":"IF(J173=\"\",\"\",VLOOKUP(J173,EventNPC!A:E,5,FALSE))","v":""},5185,"然而，这位千年帝君，却眉宇间有难掩的忧色。",null,{"$f":"IF(O172=\"\",O171+1,O172)","v":10013},2,"",null,null,{"$f":"IF(R173=\"\",\"\",\"-\"&VLOOKUP(R173,EventConditionConfig!A:C,3,FALSE)&IF(S173=\"\",\"\",CHAR(10)&\"-\"&VLOOKUP(S173,EventConditionConfig!A:C,3,FALSE)))","v":""},null,null,"","",null,null,"",{"$nulls":4},{"$f":"IF(A173=\"\",\"\",IF(ISNUMBER(Y173),2,IF(A174=\"\",IF(OR(AH173>0,VLOOKUP(O173,EventConfig!A:C,3,FALSE)=4),3,\"\"),1)))","v":1},1001303,null,5185]
[{"$f":"O174*100+P174","v":1001303},5182,"尧让天下",5183,"倾听尧帝的烦恼",{"$nulls":5},{"$f":"IF(J174=\"\",\"\",VLOOKUP(J174,EventNPC!A:E,5,FALSE))","v":""},5186,"（你根据逍遥铃的指引，找到了尧）",null,10013,3,"",null,null,{"$f":"IF(R174=\"\",\"\",\"-\"&VLOOKUP(R174,EventConditionConfig!A:C,3,FALSE)&IF(S174=\"\",\"\",CHAR(10)&\"-\"&VLOOKUP(S174,EventConditionConfig!A:C,3,FALSE)))","v":""},1,{"$f":"A175","v":1001304},"5187",5187,"拜见帝尧，晚辈受冲虚真人的指引，游历到此处。",null,"",{"$nulls":4},{"$f":"IF(A174=\"\",\"\",IF(ISNUMBER(Y174),2,IF(A175=\"\",IF(OR(AH174>0,VLOOKUP(O174,EventConfig!A:C,3,FALSE)=4),3,\"\"),1)))","v":1},1001304,null,5187]
[{"$f":"O175*100+P175","v":1001304},5182,"尧让天下",5183,"倾听尧帝的烦恼",{"$nulls":4},105,{"$f":"IF(J175=\"\",\"\",VLOOKUP(J175,EventNPC!A:E,5,FALSE))","v":"尧帝"},5188,"（缓缓回头，脸上带着淡淡忧虑）冲虚真人吗？我也许久没见了..",null,10013,4,"",null,null,{"$f":"IF(R175=\"\",\"\",\"-\"&VLOOKUP(R175,EventConditionConfig!A:C,3,FALSE)&IF(S175=\"\",\"\",CHAR(10)&\"-\"&VLOOKUP(S175,EventConditionConfig!A:C,3,FALSE)))","v":""},null,null,"","",null,null,"",{"$nulls":4},{"$f":"IF(A175=\"\",\"\",IF(ISNUMBER(Y175),2,IF(A176=\"\",IF(OR(AH175>0,VLOOKUP(O175,EventConfig!A:C,3,FALSE)=4),3,\"\"),1)))","v":1},1001305,null,5188]
[{"$f":"O176*100+P176","v":1001305},5182,"尧让天下",5183,"倾听尧帝的烦恼",{"$nulls":4},105,{"$f":"IF(J176=\"\",\"\",VLOOKUP(J176,EventNPC!A:E,5,FALSE))","v":"尧帝"},5189,"(尧帝邀你来到一高处)\n小友，你看此处景致如何？",null,10013,5,"",null,null,{"$f":"IF(R176=\"\",\"\",\"-\"&VLOOKUP(R176,EventConditionConfig!A:C,3,FALSE)&IF(S176=\"\",\"\",CHAR(10)&\"-\"&VLOOKUP(S176,EventConditionConfig!A:C,3,FALSE)))","v":""},1,"1001206;1001206","5190;5191",5190,"万象更新，灵气环绕，是修行的福地。",null,5191,"国泰民安，仙人治理，世间罕见。",null,null,null,{"$f":"IF(A176=\"\",\"\",IF(ISNUMBER(Y176),2,IF(A177=\"\",IF(OR(AH176>0,VLOOKUP(O176,EventConfig!A:C,3,FALSE)=4),3,\"\"),1)))","v":1},1001306,null,5191]
[{"$f":"O177*100+P177","v":1001306},5182,"尧让天下",5183,"倾听尧帝的烦恼",{"$nulls":4},105,{"$f":"IF(J177=\"\",\"\",VLOOKUP(J177,EventNPC!A:E,5,FALSE))","v":"尧帝"},5192,"（叹息）是啊，人人自在，唯我不自在。这些年来，我境界难以寸进，已有百年。",null,10013,6,"",null,null,{"$f":"IF(R177=\"\",\"\",\"-\"&VLOOKUP(R177,EventConditionConfig!A:C,3,FALSE)&IF(S177=\"\",\"\",CHAR(10)&\"-\"&VLOOKUP(S177,EventConditionConfig!A:C,3,FALSE)))","v":""},1,{"$f":"A178","v":1001307},"5193",5193,"帝尧何出此言？",null,"",{"$nulls":4},{"$f":"IF(A177=\"\",\"\",IF(ISNUMBER(Y177),2,IF(A178=\"\",IF(OR(AH177>0,VLOOKUP(O177,EventConfig!A:C,3,FALSE)=4),3,\"\"),1)))","v":1},1001307,null,5193]
[{"$f":"O178*100+P178","v":1001307},5182,"尧让天下",5183,"倾听尧帝的烦恼",{"$nulls":4},105,{"$f":"IF(J178=\"\",\"\",VLOOKUP(J178,EventNPC!A:E,5,FALSE))","v":"尧帝"},5194,"你等散修，自由自在，来去如风，可曾体会过身负重任的滋味？",null,10013,7,"",null,null,{"$f":"IF(R178=\"\",\"\",\"-\"&VLOOKUP(R178,EventConditionConfig!A:C,3,FALSE)&IF(S178=\"\",\"\",CHAR(10)&\"-\"&VLOOKUP(S178,EventConditionConfig!A:C,3,FALSE)))","v":""},1,{"$f":"A179","v":1001308},"5195",5195,"也有重担，却未必如帝尧这样复杂。",null,"",{"$nulls":4},{"$f":"IF(A178=\"\",\"\",IF(ISNUMBER(Y178),2,IF(A179=\"\",IF(OR(AH178>0,VLOOKUP(O178,EventConfig!A:C,3,FALSE)=4),3,\"\"),1)))","v":1},1001308,null,5195]
[{"$f":"O179*100+P179","v":1001308},5182,"尧让天下",5183,"倾听尧帝的烦恼",{"$nulls":4},105,{"$f":"IF(J179=\"\",\"\",VLOOKUP(J179,EventNPC!A:E,5,FALSE))","v":"尧帝"},5196,"（微微一笑，摇头）天下如画卷，画卷再美，日夜背负，也终是负担。",null,10013,8,"",null,null,{"$f":"IF(R179=\"\",\"\",\"-\"&VLOOKUP(R179,EventConditionConfig!A:C,3,FALSE)&IF(S179=\"\",\"\",CHAR(10)&\"-\"&VLOOKUP(S179,EventConditionConfig!A:C,3,FALSE)))","v":""},1,{"$f":"A180","v":1001309},"5197",5197,"......",null,"",{"$nulls":4},{"$f":"IF(A179=\"\",\"\",IF(ISNUMBER(Y179),2,IF(A180=\"\",IF(OR(AH179>0,VLOOKUP(O179,EventConfig!A:C,3,FALSE)=4),3,\"\"),1)))","v":1},1001309,null,5197]
[{"$f":"O180*100+P180","v":1001309},5182,"尧让天下",5183,"倾听尧帝的烦恼",{"$nulls":4},105,{"$f":"IF(J180=\"\",\"\",VLOOKUP(J180,EventNPC!A:E,5,FALSE))","v":"尧帝"},5198,"（凝望远方云海）深山之中有位贤士，名为许由，素有盛名，我曾多次请他出山，但未成如愿。",null,10013,9,"",null,null,{"$f":"IF(R180=\"\",\"\",\"-\"&VLOOKUP(R180,EventConditionConfig!A:C,3,FALSE)&IF(S180=\"\",\"\",CHAR(10)&\"-\"&VLOOKUP(S180,EventConditionConfig!A:C,3,FALSE)))","v":""},null,null,"","",null,null,"",{"$nulls":4},{"$f":"IF(A180=\"\",\"\",IF(ISNUMBER(Y180),2,IF(A181=\"\",IF(OR(AH180>0,VLOOKUP(O180,EventConfig!A:C,3,FALSE)=4),3,\"\"),1)))","v":1},1001310,null,5198]
[{"$f":"O181*100+P181","v":1001310},5182,"尧让天下",5183,"倾听尧帝的烦恼",{"$nulls":4},105,{"$f":"IF(J181=\"\",\"\",VLOOKUP(J181,EventNPC!A:E,5,FALSE))","v":"尧帝"},5199,"我甚至提出让天下于他，他也不为所动。",null,10013,10,"",null,null,{"$f":"IF(R181=\"\",\"\",\"-\"&VLOOKUP(R181,EventConditionConfig!A:C,3,FALSE)&IF(S181=\"\",\"\",CHAR(10)&\"-\"&VLOOKUP(S181,EventConditionConfig!A:C,3,FALSE)))","v":""},1,{"$f":"A182","v":1001311},"5200",5200,"世间竟然有此奇人？",null,"",{"$nulls":4},{"$f":"IF(A181=\"\",\"\",IF(ISNUMBER(Y181),2,IF(A182=\"\",IF(OR(AH181>0,VLOOKUP(O181,EventConfig!A:C,3,FALSE)=4),3,\"\"),1)))","v":1},1001311,null,5200]
[{"$f":"O182*100+P182","v":1001311},5182,"尧让天下",5183,"倾听尧帝的烦恼",{"$nulls":4},105,{"$f":"IF(J182=\"\",\"\",VLOOKUP(J182,EventNPC!A:E,5,FALSE))","v":"尧帝"},5201,"（凝望远方云海）若小友有空，帮我再请许由出山，我定当感谢。",null,10013,11,"",null,null,{"$f":"IF(R182=\"\",\"\",\"-\"&VLOOKUP(R182,EventConditionConfig!A:C,3,FALSE)&IF(S182=\"\",\"\",CHAR(10)&\"-\"&VLOOKUP(S182,EventConditionConfig!A:C,3,FALSE)))","v":""},1,{"$f":"A183","v":1001312},"5202",5202,"好的，既然来了，我就走一趟。",null,"",{"$nulls":4},{"$f":"IF(A182=\"\",\"\",IF(ISNUMBER(Y182),2,IF(A183=\"\",IF(OR(AH182>0,VLOOKUP(O182,EventConfig!A:C,3,FALSE)=4),3,\"\"),1)))","v":1},1001312,null,5202]
[{"$f":"O183*100+P183","v":1001312},5182,"尧让天下",5183,"倾听尧帝的烦恼",{"$nulls":5},{"$f":"IF(J183=\"\",\"\",VLOOKUP(J183,EventNPC!A:E,5,FALSE))","v":""},"",null,null,10013,12,"",null,null,{"$f":"IF(R183=\"\",\"\",\"-\"&VLOOKUP(R183,EventConditionConfig!A:C,3,FALSE)&IF(S183=\"\",\"\",CHAR(10)&\"-\"&VLOOKUP(S183,EventConditionConfig!A:C,3,FALSE)))","v":""},null,null,"","",null,null,"",{"$nulls":4},{"$f":"IF(A183=\"\",\"\",IF(ISNUMBER(Y183),2,IF(A184=\"\",IF(OR(AH183>0,VLOOKUP(O183,EventConfig!A:C,3,FALSE)=4),3,\"\"),1)))","v":3},10014,null,5202]
[null,"",null,"",{"$nulls":7},"",null,null,null,"","",null,null,{"$f":"IF(R184=\"\",\"\",\"-\"&VLOOKUP(R184,EventConditionConfig!A:C,3,FALSE)&IF(S184=\"\",\"\",CHAR(10)&\"-\"&VLOOKUP(S184,EventConditionConfig!A:C,3,FALSE)))","v":""},null,null,null,"",null,null,"",{"$nulls":4},{"$f":"IF(A184=\"\",\"\",IF(ISNUMBER(Y184),2,IF(A185=\"\",IF(OR(AH184>0,VLOOKUP(O184,EventConfig!A:C,3,FALSE)=4),3,\"\"),1)))","v":""},"",null,""]
[{"$f":"O185*100+P185","v":1001401},5203,"访贤许由",5204,"听一听这位尧帝口中的贤士有何说法",{"$nulls":5},{"$f":"IF(J185=\"\",\"\",VLOOKUP(J185,EventNPC!A:E,5,FALSE))","v":""},5205,"你循帝尧所言，御剑前往幽山秘境。此处灵气绵长，古木参天，溪水潺潺。",null,10014,1,"",null,null,{"$f":"IF(R185=\"\",\"\",\"-\"&VLOOKUP(R185,EventConditionConfig!A:C,3,FALSE)&IF(S185=\"\",\"\",CHAR(10)&\"-\"&VLOOKUP(S185,EventConditionConfig!A:C,3,FALSE)))","v":""},null,null,{"$f":"_xlfn.TEXTJOIN(\";\",1,X185,AA185)","v":""},"",null,null,"",{"$nulls":4},{"$f":"IF(A185=\"\",\"\",IF(ISNUMBER(Y185),2,IF(A186=\"\",IF(OR(AH185>0,VLOOKUP(O185,EventConfig!A:C,3,FALSE)=4),3,\"\"),1)))","v":1},1001402,null,5205]
[{"$f":"O186*100+P186","v":1001402},5203,"访贤许由",5204,"听一听这位尧帝口中的贤士有何说法",{"$nulls":5},{"$f":"IF(J186=\"\",\"\",VLOOKUP(J186,EventNPC!A:E,5,FALSE))","v":""},5206,"据说，许由栖身于此，绝迹尘世，已有数百年。",null,10014,2,"",null,null,{"$f":"IF(R186=\"\",\"\",\"-\"&VLOOKUP(R186,EventConditionConfig!A:C,3,FALSE)&IF(S186=\"\",\"\",CHAR(10)&\"-\"&VLOOKUP(S186,EventConditionConfig!A:C,3,FALSE)))","v":""},null,null,"","",null,null,"",{"$nulls":4},{"$f":"IF(A186=\"\",\"\",IF(ISNUMBER(Y186),2,IF(A187=\"\",IF(OR(AH186>0,VLOOKUP(O186,EventConfig!A:C,3,FALSE)=4),3,\"\"),1)))","v":1},1001403,null,5206]
[{"$f":"O187*100+P187","v":1001403},5203,"访贤许由",5204,"听一听这位尧帝口中的贤士有何说法",{"$nulls":5},{"$f":"IF(J187=\"\",\"\",VLOOKUP(J187,EventNPC!A:E,5,FALSE))","v":""},5207,"山风徐徐，水声如琴，你踏过青石小径，看见一位白衣道人正倚石观水。",null,10014,3,"",null,null,{"$f":"IF(R187=\"\",\"\",\"-\"&VLOOKUP(R187,EventConditionConfig!A:C,3,FALSE)&IF(S187=\"\",\"\",CHAR(10)&\"-\"&VLOOKUP(S187,EventConditionConfig!A:C,3,FALSE)))","v":""},1,{"$f":"A188","v":1001404},"5208",5208,"前辈可是许由？",null,"",{"$nulls":4},{"$f":"IF(A187=\"\",\"\",IF(ISNUMBER(Y187),2,IF(A188=\"\",IF(OR(AH187>0,VLOOKUP(O187,EventConfig!A:C,3,FALSE)=4),3,\"\"),1)))","v":1},1001404,null,5208]
[{"$f":"O188*100+P188","v":1001404},5203,"访贤许由",5204,"听一听这位尧帝口中的贤士有何说法",{"$nulls":4},106,{"$f":"IF(J188=\"\",\"\",VLOOKUP(J188,EventNPC!A:E,5,FALSE))","v":"许由"},5209,"正是，小友何事？",null,10014,4,"",null,null,{"$f":"IF(R188=\"\",\"\",\"-\"&VLOOKUP(R188,EventConditionConfig!A:C,3,FALSE)&IF(S188=\"\",\"\",CHAR(10)&\"-\"&VLOOKUP(S188,EventConditionConfig!A:C,3,FALSE)))","v":""},null,null,"","",null,null,"",{"$nulls":4},{"$f":"IF(A188=\"\",\"\",IF(ISNUMBER(Y188),2,IF(A189=\"\",IF(OR(AH188>0,VLOOKUP(O188,EventConfig!A:C,3,FALSE)=4),3,\"\"),1)))","v":1},1001405,null,5209]
[{"$f":"O189*100+P189","v":1001405},5203,"访贤许由",5204,"听一听这位尧帝口中的贤士有何说法",{"$nulls":4},100,{"$f":"IF(J189=\"\",\"\",VLOOKUP(J189,EventNPC!A:E,5,FALSE))","v":"玩家"},5210,"帝尧欲专心修行，求道问玄，又怕耽误世事，特托我前来相请，欲让天下于你。",null,10014,5,"",null,null,{"$f":"IF(R189=\"\",\"\",\"-\"&VLOOKUP(R189,EventConditionConfig!A:C,3,FALSE)&IF(S189=\"\",\"\",CHAR(10)&\"-\"&VLOOKUP(S189,EventConditionConfig!A:C,3,FALSE)))","v":""},null,null,"","",null,null,"",{"$nulls":4},{"$f":"IF(A189=\"\",\"\",IF(ISNUMBER(Y189),2,IF(A190=\"\",IF(OR(AH189>0,VLOOKUP(O189,EventConfig!A:C,3,FALSE)=4),3,\"\"),1)))","v":1},1001406,null,5210]
[{"$f":"O190*100+P190","v":1001406},5203,"访贤许由",5204,"听一听这位尧帝口中的贤士有何说法",{"$nulls":4},106,{"$f":"IF(J190=\"\",\"\",VLOOKUP(J190,EventNPC!A:E,5,FALSE))","v":"许由"},5211,"（静默片刻）昔日帝尧就提过此事，我已辞之。",null,10014,6,"",null,null,{"$f":"IF(R190=\"\",\"\",\"-\"&VLOOKUP(R190,EventConditionConfig!A:C,3,FALSE)&IF(S190=\"\",\"\",CHAR(10)&\"-\"&VLOOKUP(S190,EventConditionConfig!A:C,3,FALSE)))","v":""},null,null,"","",null,null,"",{"$nulls":4},{"$f":"IF(A190=\"\",\"\",IF(ISNUMBER(Y190),2,IF(A191=\"\",IF(OR(AH190>0,VLOOKUP(O190,EventConfig!A:C,3,FALSE)=4),3,\"\"),1)))","v":1},1001407,null,5211]
[{"$f":"O191*100+P191","v":1001407},5203,"访贤许由",5204,"听一听这位尧帝口中的贤士有何说法",{"$nulls":4},106,{"$f":"IF(J191=\"\",\"\",VLOOKUP(J191,EventNPC!A:E,5,FALSE))","v":"许由"},5212,"今日又来，想是道心不定，执念未除。",null,10014,7,"",null,null,{"$f":"IF(R191=\"\",\"\",\"-\"&VLOOKUP(R191,EventConditionConfig!A:C,3,FALSE)&IF(S191=\"\",\"\",CHAR(10)&\"-\"&VLOOKUP(S191,EventConditionConfig!A:C,3,FALSE)))","v":""},1,{"$f":"A192","v":1001408},"5213",5213,"请前辈出山。",null,"",{"$nulls":4},{"$f":"IF(A191=\"\",\"\",IF(ISNUMBER(Y191),2,IF(A192=\"\",IF(OR(AH191>0,VLOOKUP(O191,EventConfig!A:C,3,FALSE)=4),3,\"\"),1)))","v":1},1001408,null,5213]
[1001408,5203,"访贤许由",5204,"听一听这位尧帝口中的贤士有何说法",{"$nulls":4},106,{"$f":"IF(J192=\"\",\"\",VLOOKUP(J192,EventNPC!A:E,5,FALSE))","v":"许由"},5214,"哼，让我去？",null,10014,8,"",null,null,{"$f":"IF(R192=\"\",\"\",\"-\"&VLOOKUP(R192,EventConditionConfig!A:C,3,FALSE)&IF(S192=\"\",\"\",CHAR(10)&\"-\"&VLOOKUP(S192,EventConditionConfig!A:C,3,FALSE)))","v":""},null,null,"","",null,null,"",{"$nulls":4},{"$f":"IF(A192=\"\",\"\",IF(ISNUMBER(Y192),2,IF(A193=\"\",IF(OR(AH192>0,VLOOKUP(O192,EventConfig!A:C,3,FALSE)=4),3,\"\"),1)))","v":1},1001409,null,5214]
[{"$f":"O193*100+P193","v":1001409},5203,"访贤许由",5204,"听一听这位尧帝口中的贤士有何说法",{"$nulls":4},106,{"$f":"IF(J193=\"\",\"\",VLOOKUP(J193,EventNPC!A:E,5,FALSE))","v":"许由"},5215,"那我问你，日月升天，照耀四方。若这时有人手举火把照路，岂不徒劳？",null,10014,9,"",null,null,{"$f":"IF(R193=\"\",\"\",\"-\"&VLOOKUP(R193,EventConditionConfig!A:C,3,FALSE)&IF(S193=\"\",\"\",CHAR(10)&\"-\"&VLOOKUP(S193,EventConditionConfig!A:C,3,FALSE)))","v":""},null,null,"","",null,null,"",{"$nulls":4},{"$f":"IF(A193=\"\",\"\",IF(ISNUMBER(Y193),2,IF(A194=\"\",IF(OR(AH193>0,VLOOKUP(O193,EventConfig!A:C,3,FALSE)=4),3,\"\"),1)))","v":1},1001410,null,5215]
[{"$f":"O194*100+P194","v":1001410},5203,"访贤许由",5204,"听一听这位尧帝口中的贤士有何说法",{"$nulls":4},106,{"$f":"IF(J194=\"\",\"\",VLOOKUP(J194,EventNPC!A:E,5,FALSE))","v":"许由"},5216,"那我再问你，斜风细雨，滋养万物。若这时有人用水桶来灌溉，岂不可笑？",null,10014,10,"",null,null,{"$f":"IF(R194=\"\",\"\",\"-\"&VLOOKUP(R194,EventConditionConfig!A:C,3,FALSE)&IF(S194=\"\",\"\",CHAR(10)&\"-\"&VLOOKUP(S194,EventConditionConfig!A:C,3,FALSE)))","v":""},null,null,"","",null,null,"",{"$nulls":4},{"$f":"IF(A194=\"\",\"\",IF(ISNUMBER(Y194),2,IF(A195=\"\",IF(OR(AH194>0,VLOOKUP(O194,EventConfig!A:C,3,FALSE)=4),3,\"\"),1)))","v":1},1001411,null,5216]
[{"$f":"O195*100+P195","v":1001411},5203,"访贤许由",5204,"听一听这位尧帝口中的贤士有何说法",{"$nulls":4},106,{"$f":"IF(J195=\"\",\"\",VLOOKUP(J195,EventNPC!A:E,5,FALSE))","v":"许由"},5217,"天下在尧的带领下，已经治理得很好了，又何必要我，我是要去混个功成名就吗？",null,10014,11,"",null,null,{"$f":"IF(R195=\"\",\"\",\"-\"&VLOOKUP(R195,EventConditionConfig!A:C,3,FALSE)&IF(S195=\"\",\"\",CHAR(10)&\"-\"&VLOOKUP(S195,EventConditionConfig!A:C,3,FALSE)))","v":""},null,null,"","",null,null,"",{"$nulls":4},{"$f":"IF(A195=\"\",\"\",IF(ISNUMBER(Y195),2,IF(A196=\"\",IF(OR(AH195>0,VLOOKUP(O195,EventConfig!A:C,3,FALSE)=4),3,\"\"),1)))","v":1},1001412,null,5217]
[{"$f":"O196*100+P196","v":1001412},5203,"访贤许由",5204,"听一听这位尧帝口中的贤士有何说法",{"$nulls":4},106,{"$f":"IF(J196=\"\",\"\",VLOOKUP(J196,EventNPC!A:E,5,FALSE))","v":"许由"},5218,"回答我？",null,10014,12,"",null,null,{"$f":"IF(R196=\"\",\"\",\"-\"&VLOOKUP(R196,EventConditionConfig!A:C,3,FALSE)&IF(S196=\"\",\"\",CHAR(10)&\"-\"&VLOOKUP(S196,EventConditionConfig!A:C,3,FALSE)))","v":""},1,{"$f":"A197","v":1001413},"5219",5219,"就算只得功成名就也不错。",null,"",{"$nulls":4},{"$f":"IF(A196=\"\",\"\",IF(ISNUMBER(Y196),2,IF(A197=\"\",IF(OR(AH196>0,VLOOKUP(O196,EventConfig!A:C,3,FALSE)=4),3,\"\"),1)))","v":1},1001413,null,5219]
[1001413,5203,"访贤许由",5204,"听一听这位尧帝口中的贤士有何说法",{"$nulls":4},106,{"$f":"IF(J197=\"\",\"\",VLOOKUP(J197,EventNPC!A:E,5,FALSE))","v":"许由"},5220,"小友，名就像宾客一样，难道我们的一生是为了宾客吗？",null,10014,13,"",null,null,{"$f":"IF(R197=\"\",\"\",\"-\"&VLOOKUP(R197,EventConditionConfig!A:C,3,FALSE)&IF(S197=\"\",\"\",CHAR(10)&\"-\"&VLOOKUP(S197,EventConditionConfig!A:C,3,FALSE)))","v":""},1,{"$f":"A198","v":1001414},"5221",5221,"（愣住）......",null,"",{"$nulls":4},{"$f":"IF(A197=\"\",\"\",IF(ISNUMBER(Y197),2,IF(A198=\"\",IF(OR(AH197>0,VLOOKUP(O197,EventConfig!A:C,3,FALSE)=4),3,\"\"),1)))","v":1},1001414,null,5221]
[{"$f":"O198*100+P198","v":1001414},{"$f":"IF(C198=\"\",\"\",IF(C198=C197,B197,MAX(AI197,AI196)+1))","v":5203},"访贤许由",{"$f":"IF(E198=\"\",\"\",IF(E198=E197,D197,MAX(AI197,AI196,B198)+1))","v":5204},"听一听这位尧帝口中的贤士有何说法",{"$nulls":4},106,{"$f":"IF(J198=\"\",\"\",VLOOKUP(J198,EventNPC!A:E,5,FALSE))","v":"许由"},{"$f":"IF(M198=\"\",\"\",MAX(AI197,AI196,B198,D198)+1)","v":5222},"他若真想修道，便该知“道不碍政，心自碍道”。",null,10014,{"$f":"IF(O198=\"\",\"\",IF(O198=O197,P197+1,1))","v":14},"",null,null,{"$f":"IF(R198=\"\",\"\",\"-\"&VLOOKUP(R198,EventConditionConfig!A:C,3,FALSE)&IF(S198=\"\",\"\",CHAR(10)&\"-\"&VLOOKUP(S198,EventConditionConfig!A:C,3,FALSE)))","v":""},null,null,null,{"$f":"IF(OR(ISNUMBER(Y198),Y198=\"\"),\"\",MAX(AI197,AI196,B198,D198,L198)+1)","v":""},null,null,{"$f":"IF(OR(ISNUMBER(AB198),AB198=\"\"),\"\",X198+1)","v":""},{"$nulls":4},{"$f":"IF(A198=\"\",\"\",IF(ISNUMBER(Y198),2,IF(A199=\"\",IF(OR(AH198>0,VLOOKUP(O198,EventConfig!A:C,3,FALSE)=4),3,\"\"),1)))","v":1},1001415,null,{"$f":"IF(A198=\"\",\"\",MAX(B198,D198,L198,X198,AA198,AI197,AI196))","v":5222}]
[1001415,5203,"访贤许由",5204,"听一听这位尧帝口中的贤士有何说法",{"$nulls":4},106,{"$f":"IF(J199=\"\",\"\",VLOOKUP(J199,EventNPC!A:E,5,FALSE))","v":"许由"},5223,"若心不净，纵避千山万水，又有何用。",null,10014,15,"",null,null,{"$f":"IF(R199=\"\",\"\",\"-\"&VLOOKUP(R199,EventConditionConfig!A:C,3,FALSE)&IF(S199=\"\",\"\",CHAR(10)&\"-\"&VLOOKUP(S199,EventConditionConfig!A:C,3,FALSE)))","v":""},1,{"$f":"A200","v":1001416},{"$f":"_xlfn.TEXTJOIN(\";\",1,X199,AA199)","v":"5224"},5224,"（愣住）......",null,"",{"$nulls":4},{"$f":"IF(A199=\"\",\"\",IF(ISNUMBER(Y199),2,IF(A200=\"\",IF(OR(AH199>0,VLOOKUP(O199,EventConfig!A:C,3,FALSE)=4),3,\"\"),1)))","v":1},1001416,null,5224]
[1001416,5203,"访贤许由",5204,"听一听这位尧帝口中的贤士有何说法",{"$nulls":5},{"$f":"IF(J200=\"\",\"\",VLOOKUP(J200,EventNPC!A:E,5,FALSE))","v":""},"",null,null,10014,16,"21",21,null,{"$f":"IF(R200=\"\",\"\",\"-\"&VLOOKUP(R200,EventConditionConfig!A:C,3,FALSE)&IF(S200=\"\",\"\",CHAR(10)&\"-\"&VLOOKUP(S200,EventConditionConfig!A:C,3,FALSE)))","v":"-达到境界：筑基-中期"},null,null,{"$f":"_xlfn.TEXTJOIN(\";\",1,X200,AA200)","v":""},"",null,null,"",{"$nulls":4},{"$f":"IF(A200=\"\",\"\",IF(ISNUMBER(Y200),2,IF(A201=\"\",IF(OR(AH200>0,VLOOKUP(O200,EventConfig!A:C,3,FALSE)=4),3,\"\"),1)))","v":3},10015,null,5224]
[null,"",null,"",{"$nulls":7},"",null,null,null,"","",null,null,{"$f":"IF(R201=\"\",\"\",\"-\"&VLOOKUP(R201,EventConditionConfig!A:C,3,FALSE)&IF(S201=\"\",\"\",CHAR(10)&\"-\"&VLOOKUP(S201,EventConditionConfig!A:C,3,FALSE)))","v":""},null,null,null,"",null,null,"",{"$nulls":4},{"$f":"IF(A201=\"\",\"\",IF(ISNUMBER(Y201),2,IF(A202=\"\",IF(OR(AH201>0,VLOOKUP(O201,EventConfig!A:C,3,FALSE)=4),3,\"\"),1)))","v":""},"",null,""]
[{"$f":"O202*100+P202","v":1001501},5225,"割草喝茶","",{"$nulls":5},106,{"$f":"IF(J202=\"\",\"\",VLOOKUP(J202,EventNPC!A:E,5,FALSE))","v":"许由"},5226,"（转身望向屋后的山坡）你来得也巧，我正想在开辟一块新药田。",null,10015,1,"",null,null,{"$f":"IF(R202=\"\",\"\",\"-\"&VLOOKUP(R202,EventConditionConfig!A:C,3,FALSE)&IF(S202=\"\",\"\",CHAR(10)&\"-\"&VLOOKUP(S202,EventConditionConfig!A:C,3,FALSE)))","v":""},null,null,{"$f":"_xlfn.TEXTJOIN(\";\",1,X202,AA202)","v":""},"",null,null,"",{"$nulls":4},{"$f":"IF(A202=\"\",\"\",IF(ISNUMBER(Y202),2,IF(A203=\"\",IF(OR(AH202>0,VLOOKUP(O202,EventConfig!A:C,3,FALSE)=4),3,\"\"),1)))","v":1},1001502,null,5226]
[{"$f":"O203*100+P203","v":1001502},5225,"割草喝茶","",{"$nulls":5},106,{"$f":"IF(J203=\"\",\"\",VLOOKUP(J203,EventNPC!A:E,5,FALSE))","v":"许由"},5227,"后山有一块不错的地，离家有一点远平时我也懒得去打理，正好你来了帮我开辟出来吧。",null,10015,2,"",null,null,{"$f":"IF(R203=\"\",\"\",\"-\"&VLOOKUP(R203,EventConditionConfig!A:C,3,FALSE)&IF(S203=\"\",\"\",CHAR(10)&\"-\"&VLOOKUP(S203,EventConditionConfig!A:C,3,FALSE)))","v":""},1,{"$f":"A204","v":1001503},"5228",5228,"……前辈是让我干农活吗",null,"",{"$nulls":4},{"$f":"IF(A203=\"\",\"\",IF(ISNUMBER(Y203),2,IF(A204=\"\",IF(OR(AH203>0,VLOOKUP(O203,EventConfig!A:C,3,FALSE)=4),3,\"\"),1)))","v":1},1001503,null,5228]
[1001503,5225,"割草喝茶","",{"$nulls":5},106,{"$f":"IF(J204=\"\",\"\",VLOOKUP(J204,EventNPC!A:E,5,FALSE))","v":"许由"},5229,"（笑）哈哈，正是，帮我清理一下灵田，回来请你喝茶。",null,10015,3,{"$f":"_xlfn.TEXTJOIN(\";\",1,R204:S204)","v":""},null,null,{"$f":"IF(R204=\"\",\"\",\"-\"&VLOOKUP(R204,EventConditionConfig!A:C,3,FALSE)&IF(S204=\"\",\"\",CHAR(10)&\"-\"&VLOOKUP(S204,EventConditionConfig!A:C,3,FALSE)))","v":""},null,null,"","",null,null,"",{"$nulls":4},{"$f":"IF(A204=\"\",\"\",IF(ISNUMBER(Y204),2,IF(A205=\"\",IF(OR(AH204>0,VLOOKUP(O204,EventConfig!A:C,3,FALSE)=4),3,\"\"),1)))","v":1},1001504,null,5229]
[{"$f":"O205*100+P205","v":1001504},5225,"割草喝茶","",{"$nulls":5},106,{"$f":"IF(J205=\"\",\"\",VLOOKUP(J205,EventNPC!A:E,5,FALSE))","v":"许由"},5230,"对了，在哪些杂草中不也会生长着一些药效不错的药草，这些药草在杂草中没有更好的成长起来，如果发现了药草帮我收集一些药草的种子回来。",null,10015,4,{"$f":"_xlfn.TEXTJOIN(\";\",1,R205:S205)","v":""},null,null,{"$f":"IF(R205=\"\",\"\",\"-\"&VLOOKUP(R205,EventConditionConfig!A:C,3,FALSE)&IF(S205=\"\",\"\",CHAR(10)&\"-\"&VLOOKUP(S205,EventConditionConfig!A:C,3,FALSE)))","v":""},null,null,"","",null,null,"",{"$nulls":4},{"$f":"IF(A205=\"\",\"\",IF(ISNUMBER(Y205),2,IF(A206=\"\",IF(OR(AH205>0,VLOOKUP(O205,EventConfig!A:C,3,FALSE)=4),3,\"\"),1)))","v":1},1001505,null,5230]
[{"$f":"O206*100+P206","v":1001505},5225,"割草喝茶","",{"$nulls":5},106,{"$f":"IF(J206=\"\",\"\",VLOOKUP(J206,EventNPC!A:E,5,FALSE))","v":"许由"},5231,"在开辟的过程中也请小心一点，后山也经常有妖怪出没。",null,10015,5,{"$f":"_xlfn.TEXTJOIN(\";\",1,R206:S206)","v":"10;11"},10,11,{"$f":"IF(R206=\"\",\"\",\"-\"&VLOOKUP(R206,EventConditionConfig!A:C,3,FALSE)&IF(S206=\"\",\"\",CHAR(10)&\"-\"&VLOOKUP(S206,EventConditionConfig!A:C,3,FALSE)))","v":"-击败后山小妖\n-收集灵草种子"},null,null,"","",null,null,"",{"$nulls":4},{"$f":"IF(A206=\"\",\"\",IF(ISNUMBER(Y206),2,IF(A207=\"\",IF(OR(AH206>0,VLOOKUP(O206,EventConfig!A:C,3,FALSE)=4),3,\"\"),1)))","v":1},{"$f":"IF(AF206=\"\",\"\",CHOOSE(AF206,IF(AH206=\"\",A206+1,AH206),CONCATENATE(IF(AH206=\"\",A206+1,AH206),\";101\"),IF(AH206=\"\",O206+1,AH206)))","v":1001506},null,5231]
[1001506,5225,"割草喝茶","",{"$nulls":6},{"$f":"IF(J207=\"\",\"\",VLOOKUP(J207,EventNPC!A:E,5,FALSE))","v":""},5232,"（你回到屋前，满身草屑与泥土，许由在烧水，煮茶）",null,10015,6,"",null,null,{"$f":"IF(R207=\"\",\"\",\"-\"&VLOOKUP(R207,EventConditionConfig!A:C,3,FALSE)&IF(S207=\"\",\"\",CHAR(10)&\"-\"&VLOOKUP(S207,EventConditionConfig!A:C,3,FALSE)))","v":""},null,null,"","",null,null,"",{"$nulls":4},{"$f":"IF(A207=\"\",\"\",IF(ISNUMBER(Y207),2,IF(A208=\"\",IF(OR(AH207>0,VLOOKUP(O207,EventConfig!A:C,3,FALSE)=4),3,\"\"),1)))","v":1},1001507,null,5232]
[{"$f":"O208*100+P208","v":1001507},5225,"割草喝茶","",{"$nulls":5},106,{"$f":"IF(J208=\"\",\"\",VLOOKUP(J208,EventNPC!A:E,5,FALSE))","v":"许由"},5233,"动得挺快。坐，喝口茶。",null,10015,7,{"$f":"_xlfn.TEXTJOIN(\";\",1,R208:S208)","v":""},null,null,{"$f":"IF(R208=\"\",\"\",\"-\"&VLOOKUP(R208,EventConditionConfig!A:C,3,FALSE)&IF(S208=\"\",\"\",CHAR(10)&\"-\"&VLOOKUP(S208,EventConditionConfig!A:C,3,FALSE)))","v":""},{"$f":"IF(Y208=\"\",\"\",1)","v":1},{"$f":"IF(U208=1,A209,\"\")","v":1001508},"5234",5234,"多谢前辈。",null,"",{"$nulls":4},{"$f":"IF(A208=\"\",\"\",IF(ISNUMBER(Y208),2,IF(A209=\"\",IF(OR(AH208>0,VLOOKUP(O208,EventConfig!A:C,3,FALSE)=4),3,\"\"),1)))","v":1},1001508,null,5234]
[{"$f":"O209*100+P209","v":1001508},5225,"割草喝茶","",{"$nulls":6},{"$f":"IF(J209=\"\",\"\",VLOOKUP(J209,EventNPC!A:E,5,FALSE))","v":""},5235,"（你获得了永久属性提升）（此处需要进一步处理）",null,10015,8,{"$f":"_xlfn.TEXTJOIN(\";\",1,R209:S209)","v":""},null,null,{"$f":"IF(R209=\"\",\"\",\"-\"&VLOOKUP(R209,EventConditionConfig!A:C,3,FALSE)&IF(S209=\"\",\"\",CHAR(10)&\"-\"&VLOOKUP(S209,EventConditionConfig!A:C,3,FALSE)))","v":""},{"$f":"IF(Y209=\"\",\"\",1)","v":""},{"$f":"IF(U209=1,A210,\"\")","v":""},"","",null,null,"",{"$nulls":4},{"$f":"IF(A209=\"\",\"\",IF(ISNUMBER(Y209),2,IF(A210=\"\",IF(OR(AH209>0,VLOOKUP(O209,EventConfig!A:C,3,FALSE)=4),3,\"\"),1)))","v":3},10016,null,5235]
[null,"",null,"",{"$nulls":7},"",null,null,null,"",{"$nulls":7},"",null,null,"",{"$nulls":4},{"$f":"IF(A210=\"\",\"\",IF(ISNUMBER(Y210),2,IF(A211=\"\",IF(OR(AH210>0,VLOOKUP(O210,EventConfig!A:C,3,FALSE)=4),3,\"\"),1)))","v":""},"",null,""]
[{"$f":"O211*100+P211","v":1001601},5236,"再来一杯","",{"$nulls":5},106,{"$f":"IF(J211=\"\",\"\",VLOOKUP(J211,EventNPC!A:E,5,FALSE))","v":"许由"},5237,"今天的风有点不对，开来昨日你在后山的动静不小呀，山那头怕是要来些不速之客。",null,10016,1,{"$f":"_xlfn.TEXTJOIN(\";\",1,R211:S211)","v":""},null,null,{"$f":"IF(R211=\"\",\"\",\"-\"&VLOOKUP(R211,EventConditionConfig!A:C,3,FALSE)&IF(S211=\"\",\"\",CHAR(10)&\"-\"&VLOOKUP(S211,EventConditionConfig!A:C,3,FALSE)))","v":""},{"$f":"IF(Y211=\"\",\"\",1)","v":""},{"$f":"IF(U211=1,A212,\"\")","v":""},{"$f":"_xlfn.TEXTJOIN(\";\",1,X211,AA211)","v":""},"",null,null,"",{"$nulls":4},{"$f":"IF(A211=\"\",\"\",IF(ISNUMBER(Y211),2,IF(A212=\"\",IF(OR(AH211>0,VLOOKUP(O211,EventConfig!A:C,3,FALSE)=4),3,\"\"),1)))","v":1},1001602,null,5237]
[{"$f":"O212*100+P212","v":1001602},5236,"再来一杯","",{"$nulls":5},106,{"$f":"IF(J212=\"\",\"\",VLOOKUP(J212,EventNPC!A:E,5,FALSE))","v":"许由"},5238,"你才帮我弄好灵草种子和灵田，别让妖兽给毁了。",null,10016,2,{"$f":"_xlfn.TEXTJOIN(\";\",1,R212:S212)","v":""},null,null,{"$f":"IF(R212=\"\",\"\",\"-\"&VLOOKUP(R212,EventConditionConfig!A:C,3,FALSE)&IF(S212=\"\",\"\",CHAR(10)&\"-\"&VLOOKUP(S212,EventConditionConfig!A:C,3,FALSE)))","v":""},"","","","",null,null,"",{"$nulls":4},{"$f":"IF(A212=\"\",\"\",IF(ISNUMBER(Y212),2,IF(A213=\"\",IF(OR(AH212>0,VLOOKUP(O212,EventConfig!A:C,3,FALSE)=4),3,\"\"),1)))","v":1},1001603,null,5238]
[{"$f":"O213*100+P213","v":1001603},5236,"再来一杯","",{"$nulls":5},106,{"$f":"IF(J213=\"\",\"\",VLOOKUP(J213,EventNPC!A:E,5,FALSE))","v":"许由"},5239,"你去走一趟。",null,10016,3,{"$f":"_xlfn.TEXTJOIN(\";\",1,R213:S213)","v":""},null,null,{"$f":"IF(R213=\"\",\"\",\"-\"&VLOOKUP(R213,EventConditionConfig!A:C,3,FALSE)&IF(S213=\"\",\"\",CHAR(10)&\"-\"&VLOOKUP(S213,EventConditionConfig!A:C,3,FALSE)))","v":""},1,1001604,"5240",5240,"好的......",null,"",{"$nulls":4},{"$f":"IF(A213=\"\",\"\",IF(ISNUMBER(Y213),2,IF(A214=\"\",IF(OR(AH213>0,VLOOKUP(O213,EventConfig!A:C,3,FALSE)=4),3,\"\"),1)))","v":1},1001604,null,5240]
[1001604,5236,"再来一杯","",{"$nulls":6},{"$f":"IF(J214=\"\",\"\",VLOOKUP(J214,EventNPC!A:E,5,FALSE))","v":""},"",null,null,10016,4,"12",12,null,{"$f":"IF(R214=\"\",\"\",\"-\"&VLOOKUP(R214,EventConditionConfig!A:C,3,FALSE)&IF(S214=\"\",\"\",CHAR(10)&\"-\"&VLOOKUP(S214,EventConditionConfig!A:C,3,FALSE)))","v":"-击败夜袭的妖兽"},"","","","",null,null,"",{"$nulls":4},{"$f":"IF(A214=\"\",\"\",IF(ISNUMBER(Y214),2,IF(A215=\"\",IF(OR(AH214>0,VLOOKUP(O214,EventConfig!A:C,3,FALSE)=4),3,\"\"),1)))","v":1},1001605,null,5240]
[1001605,5236,"再来一杯","",{"$nulls":6},{"$f":"IF(J215=\"\",\"\",VLOOKUP(J215,EventNPC!A:E,5,FALSE))","v":""},5241,"（回到屋前，看到许由又在烧水，煮茶，和上次一样）",null,10016,5,"",null,null,{"$f":"IF(R215=\"\",\"\",\"-\"&VLOOKUP(R215,EventConditionConfig!A:C,3,FALSE)&IF(S215=\"\",\"\",CHAR(10)&\"-\"&VLOOKUP(S215,EventConditionConfig!A:C,3,FALSE)))","v":""},"","","","",null,null,"",{"$nulls":4},{"$f":"IF(A215=\"\",\"\",IF(ISNUMBER(Y215),2,IF(A216=\"\",IF(OR(AH215>0,VLOOKUP(O215,EventConfig!A:C,3,FALSE)=4),3,\"\"),1)))","v":1},1001606,null,5241]
[{"$f":"O216*100+P216","v":1001606},5236,"再来一杯","",{"$nulls":5},106,{"$f":"IF(J216=\"\",\"\",VLOOKUP(J216,EventNPC!A:E,5,FALSE))","v":"许由"},5242,"来，喝茶。",null,10016,6,{"$f":"_xlfn.TEXTJOIN(\";\",1,R216:S216)","v":""},null,null,{"$f":"IF(R216=\"\",\"\",\"-\"&VLOOKUP(R216,EventConditionConfig!A:C,3,FALSE)&IF(S216=\"\",\"\",CHAR(10)&\"-\"&VLOOKUP(S216,EventConditionConfig!A:C,3,FALSE)))","v":""},"","","","",null,null,"",{"$nulls":4},{"$f":"IF(A216=\"\",\"\",IF(ISNUMBER(Y216),2,IF(A217=\"\",IF(OR(AH216>0,VLOOKUP(O216,EventConfig!A:C,3,FALSE)=4),3,\"\"),1)))","v":1},1001607,null,5242]
[{"$f":"O217*100+P217","v":1001607},5236,"再来一杯","",{"$nulls":5},100,{"$f":"IF(J217=\"\",\"\",VLOOKUP(J217,EventNPC!A:E,5,FALSE))","v":"玩家"},5243,"（心中默念...这个精英妖兽，可费我一些功夫，怎么又是茶？）",null,10016,7,{"$f":"_xlfn.TEXTJOIN(\";\",1,R217:S217)","v":""},null,null,{"$f":"IF(R217=\"\",\"\",\"-\"&VLOOKUP(R217,EventConditionConfig!A:C,3,FALSE)&IF(S217=\"\",\"\",CHAR(10)&\"-\"&VLOOKUP(S217,EventConditionConfig!A:C,3,FALSE)))","v":""},1,1001608,"5244",5244,"（你没说话，默默喝下）",null,"",{"$nulls":4},{"$f":"IF(A217=\"\",\"\",IF(ISNUMBER(Y217),2,IF(A218=\"\",IF(OR(AH217>0,VLOOKUP(O217,EventConfig!A:C,3,FALSE)=4),3,\"\"),1)))","v":1},1001608,null,5244]
[1001608,5236,"再来一杯","",{"$nulls":6},{"$f":"IF(J218=\"\",\"\",VLOOKUP(J218,EventNPC!A:E,5,FALSE))","v":""},5245,"（你获得了永久属性提升）（此处需要进一步处理）",null,10016,8,"22",22,null,{"$f":"IF(R218=\"\",\"\",\"-\"&VLOOKUP(R218,EventConditionConfig!A:C,3,FALSE)&IF(S218=\"\",\"\",CHAR(10)&\"-\"&VLOOKUP(S218,EventConditionConfig!A:C,3,FALSE)))","v":"-达到境界：筑基-后期"},"","","","",null,null,"",{"$nulls":4},{"$f":"IF(A218=\"\",\"\",IF(ISNUMBER(Y218),2,IF(A219=\"\",IF(OR(AH218>0,VLOOKUP(O218,EventConfig!A:C,3,FALSE)=4),3,\"\"),1)))","v":3},10017,null,5245]
[null,"",null,"",{"$nulls":7},"",null,null,null,"",{"$nulls":7},"",null,null,"",{"$nulls":4},{"$f":"IF(A219=\"\",\"\",IF(ISNUMBER(Y219),2,IF(A220=\"\",IF(OR(AH219>0,VLOOKUP(O219,EventConfig!A:C,3,FALSE)=4),3,\"\"),1)))","v":""},"",null,""]
[{"$f":"O220*100+P220","v":1001701},5246,"战胜妖王","",{"$nulls":6},{"$f":"IF(J220=\"\",\"\",VLOOKUP(J220,EventNPC!A:E,5,FALSE))","v":""},5247,"（次日清晨，山顶云气升腾，许由站在灵田边，看着远山）",null,10017,1,{"$f":"_xlfn.TEXTJOIN(\";\",1,R220:S220)","v":""},null,null,{"$f":"IF(R220=\"\",\"\",\"-\"&VLOOKUP(R220,EventConditionConfig!A:C,3,FALSE)&IF(S220=\"\",\"\",CHAR(10)&\"-\"&VLOOKUP(S220,EventConditionConfig!A:C,3,FALSE)))","v":""},{"$f":"IF(Y220=\"\",\"\",1)","v":""},{"$f":"IF(U220=1,A221,\"\")","v":""},{"$f":"_xlfn.TEXTJOIN(\";\",1,X220,AA220)","v":""},"",null,null,"",{"$nulls":4},{"$f":"IF(A220=\"\",\"\",IF(ISNUMBER(Y220),2,IF(A221=\"\",IF(OR(AH220>0,VLOOKUP(O220,EventConfig!A:C,3,FALSE)=4),3,\"\"),1)))","v":1},1001702,null,5247]
[{"$f":"O221*100+P221","v":1001702},5246,"战胜妖王","",{"$nulls":6},{"$f":"IF(J221=\"\",\"\",VLOOKUP(J221,EventNPC!A:E,5,FALSE))","v":""},5248," 先前的妖兽，被你压了下去。可峰顶还有一头老家伙，脾气大。",null,10017,2,{"$f":"_xlfn.TEXTJOIN(\";\",1,R221:S221)","v":""},null,null,{"$f":"IF(R221=\"\",\"\",\"-\"&VLOOKUP(R221,EventConditionConfig!A:C,3,FALSE)&IF(S221=\"\",\"\",CHAR(10)&\"-\"&VLOOKUP(S221,EventConditionConfig!A:C,3,FALSE)))","v":""},1,1001703,"5249",5249,"前辈可是希望我去处理？",null,"",{"$nulls":4},{"$f":"IF(A221=\"\",\"\",IF(ISNUMBER(Y221),2,IF(A222=\"\",IF(OR(AH221>0,VLOOKUP(O221,EventConfig!A:C,3,FALSE)=4),3,\"\"),1)))","v":1},1001703,null,5249]
[1001703,5246,"战胜妖王","",{"$nulls":5},106,{"$f":"IF(J222=\"\",\"\",VLOOKUP(J222,EventNPC!A:E,5,FALSE))","v":"许由"},5250,"（淡笑）去吧，你可以应付的。",null,10017,3,"",null,null,{"$f":"IF(R222=\"\",\"\",\"-\"&VLOOKUP(R222,EventConditionConfig!A:C,3,FALSE)&IF(S222=\"\",\"\",CHAR(10)&\"-\"&VLOOKUP(S222,EventConditionConfig!A:C,3,FALSE)))","v":""},"","","","",null,null,"",{"$nulls":4},{"$f":"IF(A222=\"\",\"\",IF(ISNUMBER(Y222),2,IF(A223=\"\",IF(OR(AH222>0,VLOOKUP(O222,EventConfig!A:C,3,FALSE)=4),3,\"\"),1)))","v":1},1001704,null,5250]
[1001704,5246,"战胜妖王","",{"$nulls":6},{"$f":"IF(J223=\"\",\"\",VLOOKUP(J223,EventNPC!A:E,5,FALSE))","v":""},"",null,null,10017,4,{"$f":"_xlfn.TEXTJOIN(\";\",1,R223:S223)","v":"13"},13,null,{"$f":"IF(R223=\"\",\"\",\"-\"&VLOOKUP(R223,EventConditionConfig!A:C,3,FALSE)&IF(S223=\"\",\"\",CHAR(10)&\"-\"&VLOOKUP(S223,EventConditionConfig!A:C,3,FALSE)))","v":"-击败峰顶的妖王"},"","","","",null,null,"",{"$nulls":4},{"$f":"IF(A223=\"\",\"\",IF(ISNUMBER(Y223),2,IF(A224=\"\",IF(OR(AH223>0,VLOOKUP(O223,EventConfig!A:C,3,FALSE)=4),3,\"\"),1)))","v":1},1001705,null,5250]
[{"$f":"O224*100+P224","v":1001705},5246,"战胜妖王","",{"$nulls":6},{"$f":"IF(J224=\"\",\"\",VLOOKUP(J224,EventNPC!A:E,5,FALSE))","v":""},5251,"（你回到屋前，略显疲惫，许由依然在烧水，煮茶）",null,10017,5,"",null,null,{"$f":"IF(R224=\"\",\"\",\"-\"&VLOOKUP(R224,EventConditionConfig!A:C,3,FALSE)&IF(S224=\"\",\"\",CHAR(10)&\"-\"&VLOOKUP(S224,EventConditionConfig!A:C,3,FALSE)))","v":""},"","","","",null,null,"",{"$nulls":4},{"$f":"IF(A224=\"\",\"\",IF(ISNUMBER(Y224),2,IF(A225=\"\",IF(OR(AH224>0,VLOOKUP(O224,EventConfig!A:C,3,FALSE)=4),3,\"\"),1)))","v":1},1001706,null,5251]
[{"$f":"O225*100+P225","v":1001706},5246,"战胜妖王","",{"$nulls":5},106,{"$f":"IF(J225=\"\",\"\",VLOOKUP(J225,EventNPC!A:E,5,FALSE))","v":"许由"},5252,"（不动声色，递茶）喝吧。",null,10017,6,{"$f":"_xlfn.TEXTJOIN(\";\",1,R225:S225)","v":""},null,null,{"$f":"IF(R225=\"\",\"\",\"-\"&VLOOKUP(R225,EventConditionConfig!A:C,3,FALSE)&IF(S225=\"\",\"\",CHAR(10)&\"-\"&VLOOKUP(S225,EventConditionConfig!A:C,3,FALSE)))","v":""},"","","","",null,null,"",{"$nulls":4},{"$f":"IF(A225=\"\",\"\",IF(ISNUMBER(Y225),2,IF(A226=\"\",IF(OR(AH225>0,VLOOKUP(O225,EventConfig!A:C,3,FALSE)=4),3,\"\"),1)))","v":1},1001707,null,5252]
[{"$f":"O226*100+P226","v":1001707},5246,"战胜妖王","",{"$nulls":5},100,{"$f":"IF(J226=\"\",\"\",VLOOKUP(J226,EventNPC!A:E,5,FALSE))","v":"玩家"},5253,"（低声）……前辈，我做了怎么多事，一次比一次难。为何每次都让我喝茶？",null,10017,7,{"$f":"_xlfn.TEXTJOIN(\";\",1,R226:S226)","v":""},null,null,{"$f":"IF(R226=\"\",\"\",\"-\"&VLOOKUP(R226,EventConditionConfig!A:C,3,FALSE)&IF(S226=\"\",\"\",CHAR(10)&\"-\"&VLOOKUP(S226,EventConditionConfig!A:C,3,FALSE)))","v":""},"","","","",null,null,"",{"$nulls":4},{"$f":"IF(A226=\"\",\"\",IF(ISNUMBER(Y226),2,IF(A227=\"\",IF(OR(AH226>0,VLOOKUP(O226,EventConfig!A:C,3,FALSE)=4),3,\"\"),1)))","v":1},1001708,null,5253]
[{"$f":"O227*100+P227","v":1001708},5246,"战胜妖王","",{"$nulls":5},106,{"$f":"IF(J227=\"\",\"\",VLOOKUP(J227,EventNPC!A:E,5,FALSE))","v":"许由"},5254,"哈哈哈，小友.你赢得越来越多，喝得却越来越不甘心。",null,10017,8,{"$f":"_xlfn.TEXTJOIN(\";\",1,R227:S227)","v":""},null,null,{"$f":"IF(R227=\"\",\"\",\"-\"&VLOOKUP(R227,EventConditionConfig!A:C,3,FALSE)&IF(S227=\"\",\"\",CHAR(10)&\"-\"&VLOOKUP(S227,EventConditionConfig!A:C,3,FALSE)))","v":""},"","","","",null,null,"",{"$nulls":4},{"$f":"IF(A227=\"\",\"\",IF(ISNUMBER(Y227),2,IF(A228=\"\",IF(OR(AH227>0,VLOOKUP(O227,EventConfig!A:C,3,FALSE)=4),3,\"\"),1)))","v":1},1001709,null,5254]
[{"$f":"O228*100+P228","v":1001709},5246,"战胜妖王","",{"$nulls":5},106,{"$f":"IF(J228=\"\",\"\",VLOOKUP(J228,EventNPC!A:E,5,FALSE))","v":"许由"},5255,"尧现在，或许也是这个心情吧。一路赢到底，却再没能静下心来，喝一杯茶。",null,10017,9,{"$f":"_xlfn.TEXTJOIN(\";\",1,R228:S228)","v":""},null,null,{"$f":"IF(R228=\"\",\"\",\"-\"&VLOOKUP(R228,EventConditionConfig!A:C,3,FALSE)&IF(S228=\"\",\"\",CHAR(10)&\"-\"&VLOOKUP(S228,EventConditionConfig!A:C,3,FALSE)))","v":""},"","","","",null,null,"",{"$nulls":4},{"$f":"IF(A228=\"\",\"\",IF(ISNUMBER(Y228),2,IF(A229=\"\",IF(OR(AH228>0,VLOOKUP(O228,EventConfig!A:C,3,FALSE)=4),3,\"\"),1)))","v":1},1001710,null,5255]
[{"$f":"O229*100+P229","v":1001710},5246,"战胜妖王","",{"$nulls":5},106,{"$f":"IF(J229=\"\",\"\",VLOOKUP(J229,EventNPC!A:E,5,FALSE))","v":"许由"},5256,"好了，你回去吧。",null,10017,10,{"$f":"_xlfn.TEXTJOIN(\";\",1,R229:S229)","v":""},null,null,{"$f":"IF(R229=\"\",\"\",\"-\"&VLOOKUP(R229,EventConditionConfig!A:C,3,FALSE)&IF(S229=\"\",\"\",CHAR(10)&\"-\"&VLOOKUP(S229,EventConditionConfig!A:C,3,FALSE)))","v":""},1,{"$f":"IF(U229=1,_xlfn.TEXTJOIN(\";\",1,IF(Z229=\"\",A229+1,Z229),IF(AND(AA229<>\"\",AC229=\"\"),A229+1,AC229)),IF(U229=2,Y229,\"\"))","v":"1001711;1001712"},"5257;5258",5257,"我该如何回复尧帝？",{"$f":"A230","v":1001711},5258,"多谢前辈提醒。",{"$f":"A231","v":1001712},null,null,{"$f":"IF(A229=\"\",\"\",IF(ISNUMBER(Y229),2,IF(A230=\"\",IF(OR(AH229>0,VLOOKUP(O229,EventConfig!A:C,3,FALSE)=4),3,\"\"),1)))","v":1},1001711,null,5258]
[1001711,5246,"战胜妖王","",{"$nulls":5},106,{"$f":"IF(J230=\"\",\"\",VLOOKUP(J230,EventNPC!A:E,5,FALSE))","v":"许由"},5259,"“道不碍政，心自碍道”。若心不净，纵避千山万水，又有何用。",null,10017,11,"",null,null,{"$f":"IF(R230=\"\",\"\",\"-\"&VLOOKUP(R230,EventConditionConfig!A:C,3,FALSE)&IF(S230=\"\",\"\",CHAR(10)&\"-\"&VLOOKUP(S230,EventConditionConfig!A:C,3,FALSE)))","v":""},"",{"$f":"IF(U230=1,A231,\"\")","v":""},"","",null,null,"",{"$nulls":4},{"$f":"IF(A230=\"\",\"\",IF(ISNUMBER(Y230),2,IF(A231=\"\",IF(OR(AH230>0,VLOOKUP(O230,EventConfig!A:C,3,FALSE)=4),3,\"\"),1)))","v":1},1001712,null,5259]
[{"$f":"O231*100+P231","v":1001712},5246,"战胜妖王","",{"$nulls":6},{"$f":"IF(J231=\"\",\"\",VLOOKUP(J231,EventNPC!A:E,5,FALSE))","v":""},5260,"（你低头，看着杯中微动的茶水）\n（喝下第三杯茶，觉得一身轻松）",null,10017,12,{"$f":"_xlfn.TEXTJOIN(\";\",1,R231:S231)","v":""},null,null,{"$f":"IF(R231=\"\",\"\",\"-\"&VLOOKUP(R231,EventConditionConfig!A:C,3,FALSE)&IF(S231=\"\",\"\",CHAR(10)&\"-\"&VLOOKUP(S231,EventConditionConfig!A:C,3,FALSE)))","v":""},"",{"$f":"IF(U231=1,A232,\"\")","v":""},"","",null,null,"",{"$nulls":4},{"$f":"IF(A231=\"\",\"\",IF(ISNUMBER(Y231),2,IF(A232=\"\",IF(OR(AH231>0,VLOOKUP(O231,EventConfig!A:C,3,FALSE)=4),3,\"\"),1)))","v":1},1001713,null,5260]
[1001713,5246,"战胜妖王","",{"$nulls":6},{"$f":"IF(J232=\"\",\"\",VLOOKUP(J232,EventNPC!A:E,5,FALSE))","v":""},5261,"（你获得了永久属性提升）（此处需要进一步处理）",null,10017,13,"",null,null,{"$f":"IF(R232=\"\",\"\",\"-\"&VLOOKUP(R232,EventConditionConfig!A:C,3,FALSE)&IF(S232=\"\",\"\",CHAR(10)&\"-\"&VLOOKUP(S232,EventConditionConfig!A:C,3,FALSE)))","v":""},"",{"$f":"IF(U232=1,A233,\"\")","v":""},"","",null,null,"",{"$nulls":4},{"$f":"IF(A232=\"\",\"\",IF(ISNUMBER(Y232),2,IF(A233=\"\",IF(OR(AH232>0,VLOOKUP(O232,EventConfig!A:C,3,FALSE)=4),3,\"\"),1)))","v":3},10018,null,5261]
[null,"",null,"",{"$nulls":7},"",null,null,null,"",{"$nulls":7},"",null,null,"",{"$nulls":4},{"$f":"IF(A233=\"\",\"\",IF(ISNUMBER(Y233),2,IF(A234=\"\",IF(OR(AH233>0,VLOOKUP(O233,EventConfig!A:C,3,FALSE)=4),3,\"\"),1)))","v":""},"",null,""]
[{"$f":"O234*100+P234","v":1001801},5262,"回尧城与帝尧对话，复述许由之言","",{"$nulls":5},100,{"$f":"IF(J234=\"\",\"\",VLOOKUP(J234,EventNPC!A:E,5,FALSE))","v":"玩家"},5263,"前辈，晚辈已往访许由，将事情告知他。",null,10018,1,{"$f":"_xlfn.TEXTJOIN(\";\",1,R234:S234)","v":""},null,null,{"$f":"IF(R234=\"\",\"\",\"-\"&VLOOKUP(R234,EventConditionConfig!A:C,3,FALSE)&IF(S234=\"\",\"\",CHAR(10)&\"-\"&VLOOKUP(S234,EventConditionConfig!A:C,3,FALSE)))","v":""},{"$f":"IF(Y234=\"\",\"\",1)","v":""},{"$f":"IF(U234=1,A235,\"\")","v":""},{"$f":"_xlfn.TEXTJOIN(\";\",1,X234,AA234)","v":""},"",null,null,"",{"$nulls":4},{"$f":"IF(A234=\"\",\"\",IF(ISNUMBER(Y234),2,IF(A235=\"\",IF(OR(AH234>0,VLOOKUP(O234,EventConfig!A:C,3,FALSE)=4),3,\"\"),1)))","v":1},1001802,null,5263]
[{"$f":"O235*100+P235","v":1001802},5262,"回尧城与帝尧对话，复述许由之言","",{"$nulls":5},105,{"$f":"IF(J235=\"\",\"\",VLOOKUP(J235,EventNPC!A:E,5,FALSE))","v":"尧帝"},5264,"他如何说？",null,10018,2,{"$f":"_xlfn.TEXTJOIN(\";\",1,R235:S235)","v":""},null,null,{"$f":"IF(R235=\"\",\"\",\"-\"&VLOOKUP(R235,EventConditionConfig!A:C,3,FALSE)&IF(S235=\"\",\"\",CHAR(10)&\"-\"&VLOOKUP(S235,EventConditionConfig!A:C,3,FALSE)))","v":""},"","","","",null,null,"",{"$nulls":4},{"$f":"IF(A235=\"\",\"\",IF(ISNUMBER(Y235),2,IF(A236=\"\",IF(OR(AH235>0,VLOOKUP(O235,EventConfig!A:C,3,FALSE)=4),3,\"\"),1)))","v":1},1001803,null,5264]
[{"$f":"O236*100+P236","v":1001803},5262,"回尧城与帝尧对话，复述许由之言","",{"$nulls":5},100,{"$f":"IF(J236=\"\",\"\",VLOOKUP(J236,EventNPC!A:E,5,FALSE))","v":"玩家"},5265,"许由不愿出山，让我转告您一句话。\n“道不碍政，心自碍道。”\n若心不净，纵避千山万水，又有何用。”",null,10018,3,{"$f":"_xlfn.TEXTJOIN(\";\",1,R236:S236)","v":""},null,null,{"$f":"IF(R236=\"\",\"\",\"-\"&VLOOKUP(R236,EventConditionConfig!A:C,3,FALSE)&IF(S236=\"\",\"\",CHAR(10)&\"-\"&VLOOKUP(S236,EventConditionConfig!A:C,3,FALSE)))","v":""},"","","","",null,null,"",{"$nulls":4},{"$f":"IF(A236=\"\",\"\",IF(ISNUMBER(Y236),2,IF(A237=\"\",IF(OR(AH236>0,VLOOKUP(O236,EventConfig!A:C,3,FALSE)=4),3,\"\"),1)))","v":1},1001804,null,5265]
[1001804,5262,"回尧城与帝尧对话，复述许由之言","",{"$nulls":5},105,{"$f":"IF(J237=\"\",\"\",VLOOKUP(J237,EventNPC!A:E,5,FALSE))","v":"尧帝"},5266,"（帝尧沉默，良久，轻轻点头）他还是那副模样……不肯出山。",null,{"$f":"IF(O236=\"\",O235+1,O236)","v":10018},4,{"$f":"_xlfn.TEXTJOIN(\";\",1,R237:S237)","v":""},null,null,{"$f":"IF(R237=\"\",\"\",\"-\"&VLOOKUP(R237,EventConditionConfig!A:C,3,FALSE)&IF(S237=\"\",\"\",CHAR(10)&\"-\"&VLOOKUP(S237,EventConditionConfig!A:C,3,FALSE)))","v":""},"","","","",null,null,"",{"$nulls":4},{"$f":"IF(A237=\"\",\"\",IF(ISNUMBER(Y237),2,IF(A238=\"\",IF(OR(AH237>0,VLOOKUP(O237,EventConfig!A:C,3,FALSE)=4),3,\"\"),1)))","v":1},1001805,null,5266]
[1001805,5262,"回尧城与帝尧对话，复述许由之言","",{"$nulls":5},105,{"$f":"IF(J238=\"\",\"\",VLOOKUP(J238,EventNPC!A:E,5,FALSE))","v":"尧帝"},5267,"（抬眼望你）不过，他说得也有几分道理。",null,10018,5,{"$f":"_xlfn.TEXTJOIN(\";\",1,R238:S238)","v":""},null,null,{"$f":"IF(R238=\"\",\"\",\"-\"&VLOOKUP(R238,EventConditionConfig!A:C,3,FALSE)&IF(S238=\"\",\"\",CHAR(10)&\"-\"&VLOOKUP(S238,EventConditionConfig!A:C,3,FALSE)))","v":""},"","","","",null,null,"",{"$nulls":4},{"$f":"IF(A238=\"\",\"\",IF(ISNUMBER(Y238),2,IF(A239=\"\",IF(OR(AH238>0,VLOOKUP(O238,EventConfig!A:C,3,FALSE)=4),3,\"\"),1)))","v":1},1001806,null,5267]
[1001806,5262,"回尧城与帝尧对话，复述许由之言","",{"$nulls":5},105,{"$f":"IF(J239=\"\",\"\",VLOOKUP(J239,EventNPC!A:E,5,FALSE))","v":"尧帝"},5268,"我以为，是天下扰我修行，难道是我自己扰了自己？我再想想吧。（轻叹）",null,10018,6,{"$f":"_xlfn.TEXTJOIN(\";\",1,R239:S239)","v":""},null,null,{"$f":"IF(R239=\"\",\"\",\"-\"&VLOOKUP(R239,EventConditionConfig!A:C,3,FALSE)&IF(S239=\"\",\"\",CHAR(10)&\"-\"&VLOOKUP(S239,EventConditionConfig!A:C,3,FALSE)))","v":""},"","","","",null,null,"",{"$nulls":4},{"$f":"IF(A239=\"\",\"\",IF(ISNUMBER(Y239),2,IF(A240=\"\",IF(OR(AH239>0,VLOOKUP(O239,EventConfig!A:C,3,FALSE)=4),3,\"\"),1)))","v":1},1001807,null,5268]
[1001807,5262,"回尧城与帝尧对话，复述许由之言","",{"$nulls":5},105,{"$f":"IF(J240=\"\",\"\",VLOOKUP(J240,EventNPC!A:E,5,FALSE))","v":"尧帝"},5269,"小友，辛苦你这一趟。",null,10018,7,{"$f":"_xlfn.TEXTJOIN(\";\",1,R240:S240)","v":""},null,null,{"$f":"IF(R240=\"\",\"\",\"-\"&VLOOKUP(R240,EventConditionConfig!A:C,3,FALSE)&IF(S240=\"\",\"\",CHAR(10)&\"-\"&VLOOKUP(S240,EventConditionConfig!A:C,3,FALSE)))","v":""},"","","","",null,null,"",{"$nulls":4},{"$f":"IF(A240=\"\",\"\",IF(ISNUMBER(Y240),2,IF(A241=\"\",IF(OR(AH240>0,VLOOKUP(O240,EventConfig!A:C,3,FALSE)=4),3,\"\"),1)))","v":1},1001808,null,5269]
[1001808,5262,"回尧城与帝尧对话，复述许由之言","",{"$nulls":5},105,{"$f":"IF(J241=\"\",\"\",VLOOKUP(J241,EventNPC!A:E,5,FALSE))","v":"尧帝"},5270,"你让我想起，我当年初修时，也常在山野之间，与人论道、与妖兽斗法……",null,10018,8,{"$f":"_xlfn.TEXTJOIN(\";\",1,R241:S241)","v":""},null,null,{"$f":"IF(R241=\"\",\"\",\"-\"&VLOOKUP(R241,EventConditionConfig!A:C,3,FALSE)&IF(S241=\"\",\"\",CHAR(10)&\"-\"&VLOOKUP(S241,EventConditionConfig!A:C,3,FALSE)))","v":""},"","","","",null,null,"",{"$nulls":4},{"$f":"IF(A241=\"\",\"\",IF(ISNUMBER(Y241),2,IF(A242=\"\",IF(OR(AH241>0,VLOOKUP(O241,EventConfig!A:C,3,FALSE)=4),3,\"\"),1)))","v":1},1001809,null,5270]
[1001809,5262,"回尧城与帝尧对话，复述许由之言","",{"$nulls":5},105,{"$f":"IF(J242=\"\",\"\",VLOOKUP(J242,EventNPC!A:E,5,FALSE))","v":"尧帝"},5271,"（转身，望向殿后灵山）我这里灵气充沛，古迹亦多，不妨在此逗留几日，四处看看。",null,10018,9,{"$f":"_xlfn.TEXTJOIN(\";\",1,R242:S242)","v":""},null,null,{"$f":"IF(R242=\"\",\"\",\"-\"&VLOOKUP(R242,EventConditionConfig!A:C,3,FALSE)&IF(S242=\"\",\"\",CHAR(10)&\"-\"&VLOOKUP(S242,EventConditionConfig!A:C,3,FALSE)))","v":""},"","","","",null,null,"",{"$nulls":4},{"$f":"IF(A242=\"\",\"\",IF(ISNUMBER(Y242),2,IF(A243=\"\",IF(OR(AH242>0,VLOOKUP(O242,EventConfig!A:C,3,FALSE)=4),3,\"\"),1)))","v":1},1001810,null,5271]
[1001810,5262,"回尧城与帝尧对话，复述许由之言","",{"$nulls":5},105,{"$f":"IF(J243=\"\",\"\",VLOOKUP(J243,EventNPC!A:E,5,FALSE))","v":"尧帝"},5272,"或许这也是冲虚真人引你来的真正用意。",null,10018,10,{"$f":"_xlfn.TEXTJOIN(\";\",1,R243:S243)","v":"23"},23,null,{"$f":"IF(R243=\"\",\"\",\"-\"&VLOOKUP(R243,EventConditionConfig!A:C,3,FALSE)&IF(S243=\"\",\"\",CHAR(10)&\"-\"&VLOOKUP(S243,EventConditionConfig!A:C,3,FALSE)))","v":"-达到境界：结丹-前期"},"","","","",null,null,"",{"$nulls":4},{"$f":"IF(A243=\"\",\"\",IF(ISNUMBER(Y243),2,IF(A244=\"\",IF(OR(AH243>0,VLOOKUP(O243,EventConfig!A:C,3,FALSE)=4),3,\"\"),1)))","v":3},10019,null,5272]
[null,"",null,"",{"$nulls":7},"",null,null,null,"",{"$nulls":7},"",null,null,"",{"$nulls":4},{"$f":"IF(A244=\"\",\"\",IF(ISNUMBER(Y244),2,IF(A245=\"\",IF(OR(AH244>0,VLOOKUP(O244,EventConfig!A:C,3,FALSE)=4),3,\"\"),1)))","v":""},"",null,""]
[{"$f":"O245*100+P245","v":1001901},5273,"和村民对话","",{"$nulls":5},107,{"$f":"IF(J245=\"\",\"\",VLOOKUP(J245,EventNPC!A:E,5,FALSE))","v":"村名甲"},5274,"（抬头看树）啧，这棵老怪树，又矮又歪，枝杈乱伸，挡着田，碍着路。",null,{"$f":"IF(O244=\"\",O243+1,O244)","v":10019},1,{"$f":"_xlfn.TEXTJOIN(\";\",1,R245:S245)","v":""},null,null,{"$f":"IF(R245=\"\",\"\",\"-\"&VLOOKUP(R245,EventConditionConfig!A:C,3,FALSE)&IF(S245=\"\",\"\",CHAR(10)&\"-\"&VLOOKUP(S245,EventConditionConfig!A:C,3,FALSE)))","v":""},{"$f":"IF(Y245=\"\",\"\",1)","v":""},{"$f":"IF(U245=1,A246,\"\")","v":""},{"$f":"_xlfn.TEXTJOIN(\";\",1,X245,AA245)","v":""},"",null,null,"",{"$nulls":4},{"$f":"IF(A245=\"\",\"\",IF(ISNUMBER(Y245),2,IF(A246=\"\",IF(OR(AH245>0,VLOOKUP(O245,EventConfig!A:C,3,FALSE)=4),3,\"\"),1)))","v":1},1001902,null,5274]
[1001902,5273,"和村民对话","",{"$nulls":5},108,{"$f":"IF(J246=\"\",\"\",VLOOKUP(J246,EventNPC!A:E,5,FALSE))","v":"村名乙"},5275,"（叹气）啊，对对对。\n长得歪七扭八的，根还凸出土，差点把我家牛绊了。",null,10019,2,{"$f":"_xlfn.TEXTJOIN(\";\",1,R246:S246)","v":""},null,null,{"$f":"IF(R246=\"\",\"\",\"-\"&VLOOKUP(R246,EventConditionConfig!A:C,3,FALSE)&IF(S246=\"\",\"\",CHAR(10)&\"-\"&VLOOKUP(S246,EventConditionConfig!A:C,3,FALSE)))","v":""},"","","","",null,null,"",{"$nulls":4},{"$f":"IF(A246=\"\",\"\",IF(ISNUMBER(Y246),2,IF(A247=\"\",IF(OR(AH246>0,VLOOKUP(O246,EventConfig!A:C,3,FALSE)=4),3,\"\"),1)))","v":1},1001903,null,5275]
[1001903,5273,"和村民对话","",{"$nulls":5},109,{"$f":"IF(J247=\"\",\"\",VLOOKUP(J247,EventNPC!A:E,5,FALSE))","v":"村名丙"},5276,"对对对，要是没有这棵树就好了，空占这么大块好地。",null,10019,3,{"$f":"_xlfn.TEXTJOIN(\";\",1,R247:S247)","v":""},null,null,{"$f":"IF(R247=\"\",\"\",\"-\"&VLOOKUP(R247,EventConditionConfig!A:C,3,FALSE)&IF(S247=\"\",\"\",CHAR(10)&\"-\"&VLOOKUP(S247,EventConditionConfig!A:C,3,FALSE)))","v":""},"","","","",null,null,"",{"$nulls":4},{"$f":"IF(A247=\"\",\"\",IF(ISNUMBER(Y247),2,IF(A248=\"\",IF(OR(AH247>0,VLOOKUP(O247,EventConfig!A:C,3,FALSE)=4),3,\"\"),1)))","v":1},1001904,null,5276]
[1001904,5273,"和村民对话","",{"$nulls":5},107,{"$f":"IF(J248=\"\",\"\",VLOOKUP(J248,EventNPC!A:E,5,FALSE))","v":"村名甲"},5277,"这树是真没用，连个树荫都没，晴天底下站着热，雨天底下水多。",null,10019,4,"",null,null,{"$f":"IF(R248=\"\",\"\",\"-\"&VLOOKUP(R248,EventConditionConfig!A:C,3,FALSE)&IF(S248=\"\",\"\",CHAR(10)&\"-\"&VLOOKUP(S248,EventConditionConfig!A:C,3,FALSE)))","v":""},"","","","",null,null,"",{"$nulls":4},{"$f":"IF(A248=\"\",\"\",IF(ISNUMBER(Y248),2,IF(A249=\"\",IF(OR(AH248>0,VLOOKUP(O248,EventConfig!A:C,3,FALSE)=4),3,\"\"),1)))","v":1},1001905,null,5277]
[1001905,5273,"和村民对话","",{"$nulls":5},108,{"$f":"IF(J249=\"\",\"\",VLOOKUP(J249,EventNPC!A:E,5,FALSE))","v":"村名乙"},5278,"就是啊，想在树下歇个脚都不行。",null,10019,5,"",null,null,{"$f":"IF(R249=\"\",\"\",\"-\"&VLOOKUP(R249,EventConditionConfig!A:C,3,FALSE)&IF(S249=\"\",\"\",CHAR(10)&\"-\"&VLOOKUP(S249,EventConditionConfig!A:C,3,FALSE)))","v":""},1,1001906,"5279",5279,"（环顾左右）是吗，我就不信，这棵树没有用…",null,"",{"$nulls":4},{"$f":"IF(A249=\"\",\"\",IF(ISNUMBER(Y249),2,IF(A250=\"\",IF(OR(AH249>0,VLOOKUP(O249,EventConfig!A:C,3,FALSE)=4),3,\"\"),1)))","v":1},1001906,null,5279]
[1001906,5273,"和村民对话","",{"$nulls":5},109,{"$f":"IF(J250=\"\",\"\",VLOOKUP(J250,EventNPC!A:E,5,FALSE))","v":"村名丙"},5280,"这位仙长，那你说说看，这树能干什么？",null,10019,6,{"$f":"_xlfn.TEXTJOIN(\";\",1,R250:S250)","v":""},null,null,{"$f":"IF(R250=\"\",\"\",\"-\"&VLOOKUP(R250,EventConditionConfig!A:C,3,FALSE)&IF(S250=\"\",\"\",CHAR(10)&\"-\"&VLOOKUP(S250,EventConditionConfig!A:C,3,FALSE)))","v":""},1,1001907,"5281",5281,"劈了当柴烧。",null,"",{"$nulls":4},{"$f":"IF(A250=\"\",\"\",IF(ISNUMBER(Y250),2,IF(A251=\"\",IF(OR(AH250>0,VLOOKUP(O250,EventConfig!A:C,3,FALSE)=4),3,\"\"),1)))","v":1},1001907,null,5281]
[1001907,5273,"和村民对话","",{"$nulls":5},107,{"$f":"IF(J251=\"\",\"\",VLOOKUP(J251,EventNPC!A:E,5,FALSE))","v":"村名甲"},5282,"这位仙长，你有所不知，这树又大又硬，根本没法劈。",null,10019,7,"",null,null,{"$f":"IF(R251=\"\",\"\",\"-\"&VLOOKUP(R251,EventConditionConfig!A:C,3,FALSE)&IF(S251=\"\",\"\",CHAR(10)&\"-\"&VLOOKUP(S251,EventConditionConfig!A:C,3,FALSE)))","v":""},1,1001908,"5283",5283,"劈了做家具。",null,"",{"$nulls":4},{"$f":"IF(A251=\"\",\"\",IF(ISNUMBER(Y251),2,IF(A252=\"\",IF(OR(AH251>0,VLOOKUP(O251,EventConfig!A:C,3,FALSE)=4),3,\"\"),1)))","v":1},1001908,null,5283]
[1001908,5273,"和村民对话","",{"$nulls":5},108,{"$f":"IF(J252=\"\",\"\",VLOOKUP(J252,EventNPC!A:E,5,FALSE))","v":"村名乙"},5284,"我就是匠人，这树一看就不中用。",null,10019,8,"",null,null,{"$f":"IF(R252=\"\",\"\",\"-\"&VLOOKUP(R252,EventConditionConfig!A:C,3,FALSE)&IF(S252=\"\",\"\",CHAR(10)&\"-\"&VLOOKUP(S252,EventConditionConfig!A:C,3,FALSE)))","v":""},"","","","",null,null,"",{"$nulls":4},{"$f":"IF(A252=\"\",\"\",IF(ISNUMBER(Y252),2,IF(A253=\"\",IF(OR(AH252>0,VLOOKUP(O252,EventConfig!A:C,3,FALSE)=4),3,\"\"),1)))","v":1},1001909,null,5284]
[1001909,5273,"和村民对话","",{"$nulls":5},108,{"$f":"IF(J253=\"\",\"\",VLOOKUP(J253,EventNPC!A:E,5,FALSE))","v":"村名乙"},5285,"锯下来的木头，绳墨拉不直，做不了梁柱，做不了门板，更别说其他家具了。",null,10019,9,{"$f":"_xlfn.TEXTJOIN(\";\",1,R253:S253)","v":""},null,null,{"$f":"IF(R253=\"\",\"\",\"-\"&VLOOKUP(R253,EventConditionConfig!A:C,3,FALSE)&IF(S253=\"\",\"\",CHAR(10)&\"-\"&VLOOKUP(S253,EventConditionConfig!A:C,3,FALSE)))","v":""},"","","","",null,null,"",{"$nulls":4},{"$f":"IF(A253=\"\",\"\",IF(ISNUMBER(Y253),2,IF(A254=\"\",IF(OR(AH253>0,VLOOKUP(O253,EventConfig!A:C,3,FALSE)=4),3,\"\"),1)))","v":1},1001910,null,5285]
[1001910,5273,"和村民对话","",{"$nulls":5},109,{"$f":"IF(J254=\"\",\"\",VLOOKUP(J254,EventNPC!A:E,5,FALSE))","v":"村名丙"},5286,"没错，我是木匠，此树木质发涩发腥，连漆都涂不上，当真无用。",null,10019,10,"",null,null,{"$f":"IF(R254=\"\",\"\",\"-\"&VLOOKUP(R254,EventConditionConfig!A:C,3,FALSE)&IF(S254=\"\",\"\",CHAR(10)&\"-\"&VLOOKUP(S254,EventConditionConfig!A:C,3,FALSE)))","v":""},"","","","",null,null,"",{"$nulls":4},{"$f":"IF(A254=\"\",\"\",IF(ISNUMBER(Y254),2,IF(A255=\"\",IF(OR(AH254>0,VLOOKUP(O254,EventConfig!A:C,3,FALSE)=4),3,\"\"),1)))","v":1},1001911,null,5286]
[1001911,5273,"和村民对话","",{"$nulls":5},100,{"$f":"IF(J255=\"\",\"\",VLOOKUP(J255,EventNPC!A:E,5,FALSE))","v":"玩家"},5287,"此树如此之大，真的毫无用处吗？\n此树看起来有数千年了。",null,10019,11,{"$f":"_xlfn.TEXTJOIN(\";\",1,R255:S255)","v":""},null,null,{"$f":"IF(R255=\"\",\"\",\"-\"&VLOOKUP(R255,EventConditionConfig!A:C,3,FALSE)&IF(S255=\"\",\"\",CHAR(10)&\"-\"&VLOOKUP(S255,EventConditionConfig!A:C,3,FALSE)))","v":""},"","","","",null,null,"",{"$nulls":4},{"$f":"IF(A255=\"\",\"\",IF(ISNUMBER(Y255),2,IF(A256=\"\",IF(OR(AH255>0,VLOOKUP(O255,EventConfig!A:C,3,FALSE)=4),3,\"\"),1)))","v":1},1001912,null,5287]
[1001912,5273,"和村民对话","",{"$nulls":5},100,{"$f":"IF(J256=\"\",\"\",VLOOKUP(J256,EventNPC!A:E,5,FALSE))","v":"玩家"},5288,"（见村民纷纷离开了，你靠近大树）",null,10019,12,{"$f":"_xlfn.TEXTJOIN(\";\",1,R256:S256)","v":""},null,null,{"$f":"IF(R256=\"\",\"\",\"-\"&VLOOKUP(R256,EventConditionConfig!A:C,3,FALSE)&IF(S256=\"\",\"\",CHAR(10)&\"-\"&VLOOKUP(S256,EventConditionConfig!A:C,3,FALSE)))","v":""},"","","","",null,null,"",{"$nulls":4},{"$f":"IF(A256=\"\",\"\",IF(ISNUMBER(Y256),2,IF(A257=\"\",IF(OR(AH256>0,VLOOKUP(O256,EventConfig!A:C,3,FALSE)=4),3,\"\"),1)))","v":1},1001913,null,5288]
[1001913,5273,"和村民对话","",{"$nulls":5},110,{"$f":"IF(J257=\"\",\"\",VLOOKUP(J257,EventNPC!A:E,5,FALSE))","v":"樗木之灵"},5289,"（低沉悠远的声音）我是樗。\n世人见我歪斜，粗大，笑我无用……",null,10019,13,{"$f":"_xlfn.TEXTJOIN(\";\",1,R257:S257)","v":""},null,null,{"$f":"IF(R257=\"\",\"\",\"-\"&VLOOKUP(R257,EventConditionConfig!A:C,3,FALSE)&IF(S257=\"\",\"\",CHAR(10)&\"-\"&VLOOKUP(S257,EventConditionConfig!A:C,3,FALSE)))","v":""},"","","","",null,null,"",{"$nulls":4},{"$f":"IF(A257=\"\",\"\",IF(ISNUMBER(Y257),2,IF(A258=\"\",IF(OR(AH257>0,VLOOKUP(O257,EventConfig!A:C,3,FALSE)=4),3,\"\"),1)))","v":1},1001914,null,5289]
[1001914,5273,"和村民对话","",{"$nulls":5},110,{"$f":"IF(J258=\"\",\"\",VLOOKUP(J258,EventNPC!A:E,5,FALSE))","v":"樗木之灵"},5290,"可他们不知，正是这‘无用’，让我活过三千年。",null,10019,14,{"$f":"_xlfn.TEXTJOIN(\";\",1,R258:S258)","v":""},null,null,{"$f":"IF(R258=\"\",\"\",\"-\"&VLOOKUP(R258,EventConditionConfig!A:C,3,FALSE)&IF(S258=\"\",\"\",CHAR(10)&\"-\"&VLOOKUP(S258,EventConditionConfig!A:C,3,FALSE)))","v":""},1,1001915,"5291",5291,"那你可曾遗憾？毕竟无人欣赏你。",null,"",{"$nulls":4},{"$f":"IF(A258=\"\",\"\",IF(ISNUMBER(Y258),2,IF(A259=\"\",IF(OR(AH258>0,VLOOKUP(O258,EventConfig!A:C,3,FALSE)=4),3,\"\"),1)))","v":1},1001915,null,5291]
[1001915,5273,"和村民对话","",{"$nulls":5},110,{"$f":"IF(J259=\"\",\"\",VLOOKUP(J259,EventNPC!A:E,5,FALSE))","v":"樗木之灵"},5292,"（枝叶轻摇）欣赏？那些笔直的楠木，被伐去做梁柱，不过百年；",null,10019,15,"",null,null,{"$f":"IF(R259=\"\",\"\",\"-\"&VLOOKUP(R259,EventConditionConfig!A:C,3,FALSE)&IF(S259=\"\",\"\",CHAR(10)&\"-\"&VLOOKUP(S259,EventConditionConfig!A:C,3,FALSE)))","v":""},"","","","",null,null,"",{"$nulls":4},{"$f":"IF(A259=\"\",\"\",IF(ISNUMBER(Y259),2,IF(A260=\"\",IF(OR(AH259>0,VLOOKUP(O259,EventConfig!A:C,3,FALSE)=4),3,\"\"),1)))","v":1},1001916,null,5292]
[1001916,5273,"和村民对话","",{"$nulls":5},110,{"$f":"IF(J260=\"\",\"\",VLOOKUP(J260,EventNPC!A:E,5,FALSE))","v":"樗木之灵"},5293,"那些秀美的花树，被移栽进庭院，也不过百年。",null,10019,16,{"$f":"_xlfn.TEXTJOIN(\";\",1,R260:S260)","v":""},null,null,{"$f":"IF(R260=\"\",\"\",\"-\"&VLOOKUP(R260,EventConditionConfig!A:C,3,FALSE)&IF(S260=\"\",\"\",CHAR(10)&\"-\"&VLOOKUP(S260,EventConditionConfig!A:C,3,FALSE)))","v":""},"","","","",null,null,"",{"$nulls":4},{"$f":"IF(A260=\"\",\"\",IF(ISNUMBER(Y260),2,IF(A261=\"\",IF(OR(AH260>0,VLOOKUP(O260,EventConfig!A:C,3,FALSE)=4),3,\"\"),1)))","v":1},1001917,null,5293]
[1001917,5273,"和村民对话","",{"$nulls":5},110,{"$f":"IF(J261=\"\",\"\",VLOOKUP(J261,EventNPC!A:E,5,FALSE))","v":"樗木之灵"},5294,"而我，仍在此处，看春去秋来，听风过林梢，不亦乐乎？",null,10019,17,{"$f":"_xlfn.TEXTJOIN(\";\",1,R261:S261)","v":""},null,null,{"$f":"IF(R261=\"\",\"\",\"-\"&VLOOKUP(R261,EventConditionConfig!A:C,3,FALSE)&IF(S261=\"\",\"\",CHAR(10)&\"-\"&VLOOKUP(S261,EventConditionConfig!A:C,3,FALSE)))","v":""},1,1001918,"5295",5295,"可你终究只是一棵树，不能动，不能说话",null,"",{"$nulls":4},{"$f":"IF(A261=\"\",\"\",IF(ISNUMBER(Y261),2,IF(A262=\"\",IF(OR(AH261>0,VLOOKUP(O261,EventConfig!A:C,3,FALSE)=4),3,\"\"),1)))","v":1},1001918,null,5295]
[1001918,{"$f":"IF(C262=\"\",\"\",IF(C262=C261,B261,MAX(AI261,AI260)+1))","v":5273},"和村民对话",{"$f":"IF(E262=\"\",\"\",IF(E262=E261,D261,MAX(AI261,AI260,B262)+1))","v":""},{"$nulls":5},110,{"$f":"IF(J262=\"\",\"\",VLOOKUP(J262,EventNPC!A:E,5,FALSE))","v":"樗木之灵"},{"$f":"IF(M262=\"\",\"\",MAX(AI261,AI260,B262,D262)+1)","v":5296},"（树皮浮现苍老面容）动？说话？\n数千年过去，我早已有灵智，可以说话。",null,10019,{"$f":"IF(O262=\"\",\"\",IF(O262=O261,P261+1,1))","v":18},"",null,null,{"$f":"IF(R262=\"\",\"\",\"-\"&VLOOKUP(R262,EventConditionConfig!A:C,3,FALSE)&IF(S262=\"\",\"\",CHAR(10)&\"-\"&VLOOKUP(S262,EventConditionConfig!A:C,3,FALSE)))","v":""},"","","",{"$f":"IF(OR(ISNUMBER(Y262),Y262=\"\"),\"\",MAX(AI261,AI260,B262,D262,L262)+1)","v":""},null,null,{"$f":"IF(OR(ISNUMBER(AB262),AB262=\"\"),\"\",X262+1)","v":""},{"$nulls":4},{"$f":"IF(A262=\"\",\"\",IF(ISNUMBER(Y262),2,IF(A263=\"\",IF(OR(AH262>0,VLOOKUP(O262,EventConfig!A:C,3,FALSE)=4),3,\"\"),1)))","v":1},1001919,null,{"$f":"IF(A262=\"\",\"\",MAX(B262,D262,L262,X262,AA262,AI261,AI260))","v":5296}]
[1001919,5273,"和村民对话","",{"$nulls":5},110,{"$f":"IF(J263=\"\",\"\",VLOOKUP(J263,EventNPC!A:E,5,FALSE))","v":"樗木之灵"},5297,"不过我确实好久没动过了，小友，今日与你有缘，不如陪我动一动。",null,10019,19,{"$f":"_xlfn.TEXTJOIN(\";\",1,R263:S263)","v":""},null,null,{"$f":"IF(R263=\"\",\"\",\"-\"&VLOOKUP(R263,EventConditionConfig!A:C,3,FALSE)&IF(S263=\"\",\"\",CHAR(10)&\"-\"&VLOOKUP(S263,EventConditionConfig!A:C,3,FALSE)))","v":""},1,1001920,"5298",5298,"不好...这是要找我打架..",null,"",{"$nulls":4},{"$f":"IF(A263=\"\",\"\",IF(ISNUMBER(Y263),2,IF(A264=\"\",IF(OR(AH263>0,VLOOKUP(O263,EventConfig!A:C,3,FALSE)=4),3,\"\"),1)))","v":1},1001920,null,5298]
[1001920,5273,"和村民对话","",{"$nulls":6},{"$f":"IF(J264=\"\",\"\",VLOOKUP(J264,EventNPC!A:E,5,FALSE))","v":""},"",null,null,10019,20,"",null,null,{"$f":"IF(R264=\"\",\"\",\"-\"&VLOOKUP(R264,EventConditionConfig!A:C,3,FALSE)&IF(S264=\"\",\"\",CHAR(10)&\"-\"&VLOOKUP(S264,EventConditionConfig!A:C,3,FALSE)))","v":""},"","","","",null,null,"",{"$nulls":4},{"$f":"IF(A264=\"\",\"\",IF(ISNUMBER(Y264),2,IF(A265=\"\",IF(OR(AH264>0,VLOOKUP(O264,EventConfig!A:C,3,FALSE)=4),3,\"\"),1)))","v":3},10020,null,5298]
[null,"",null,"",{"$nulls":7},"",null,null,null,"",{"$nulls":7},"",null,null,"",{"$nulls":4},{"$f":"IF(A265=\"\",\"\",IF(ISNUMBER(Y265),2,IF(A266=\"\",IF(OR(AH265>0,VLOOKUP(O265,EventConfig!A:C,3,FALSE)=4),3,\"\"),1)))","v":""},"",null,""]
[{"$f":"O266*100+P266","v":1002001},5299,"击败樗木之灵",5300,"击败樗木之灵",{"$nulls":5},{"$f":"IF(J266=\"\",\"\",VLOOKUP(J266,EventNPC!A:E,5,FALSE))","v":""},"",null,null,{"$f":"IF(O265=\"\",O264+1,O265)","v":10020},1,{"$f":"_xlfn.TEXTJOIN(\";\",1,R266:S266)","v":""},null,null,{"$f":"IF(R266=\"\",\"\",\"-\"&VLOOKUP(R266,EventConditionConfig!A:C,3,FALSE)&IF(S266=\"\",\"\",CHAR(10)&\"-\"&VLOOKUP(S266,EventConditionConfig!A:C,3,FALSE)))","v":""},{"$f":"IF(Y266=\"\",\"\",IF(ISTEXT(Y266),1,2))","v":2},{"$f":"IF(U266=1,_xlfn.TEXTJOIN(\";\",1,IF(Z266=\"\",A266+1,Z266),IF(AND(AA266<>\"\",AC266=\"\"),A266+1,AC266)),IF(U266=2,Y266,\"\"))","v":1016},{"$f":"_xlfn.TEXTJOIN(\";\",1,X266,AA266)","v":""},"",1016,null,"",{"$nulls":4},{"$f":"IF(A266=\"\",\"\",IF(ISNUMBER(Y266),2,IF(A267=\"\",IF(OR(AH266>0,VLOOKUP(O266,EventConfig!A:C,3,FALSE)=4),3,\"\"),1)))","v":2},"1002002;101",null,5300]
[{"$f":"O267*100+P267","v":1002002},5299,"击败樗木之灵",5300,"击败樗木之灵",{"$nulls":5},{"$f":"IF(J267=\"\",\"\",VLOOKUP(J267,EventNPC!A:E,5,FALSE))","v":""},"",null,null,{"$f":"IF(O266=\"\",O265+1,O266)","v":10020},2,"",null,null,{"$f":"IF(R267=\"\",\"\",\"-\"&VLOOKUP(R267,EventConditionConfig!A:C,3,FALSE)&IF(S267=\"\",\"\",CHAR(10)&\"-\"&VLOOKUP(S267,EventConditionConfig!A:C,3,FALSE)))","v":""},{"$f":"IF(Y267=\"\",\"\",1)","v":""},{"$f":"IF(U267=1,A268,\"\")","v":""},{"$f":"_xlfn.TEXTJOIN(\";\",1,X267,AA267)","v":""},"",null,null,"",{"$nulls":4},{"$f":"IF(A267=\"\",\"\",IF(ISNUMBER(Y267),2,IF(A268=\"\",IF(OR(AH267>0,VLOOKUP(O267,EventConfig!A:C,3,FALSE)=4),3,\"\"),1)))","v":3},10021,null,5300]
[null,"",null,"",{"$nulls":7},"",null,null,null,"",{"$nulls":7},"",null,null,"",{"$nulls":4},{"$f":"IF(A268=\"\",\"\",IF(ISNUMBER(Y268),2,IF(A269=\"\",IF(OR(AH268>0,VLOOKUP(O268,EventConfig!A:C,3,FALSE)=4),3,\"\"),1)))","v":""},"",null,""]
[{"$f":"O269*100+P269","v":1002101},5301,"境界达到[金丹-前期]","",{"$nulls":5},100,{"$f":"IF(J269=\"\",\"\",VLOOKUP(J269,EventNPC!A:E,5,FALSE))","v":"玩家"},5302,"此处奇遇众多，灵气充裕，就留在此处修行，达到筑基巅峰吧。",null,{"$f":"IF(O268=\"\",O267+1,O268)","v":10021},1,{"$f":"_xlfn.TEXTJOIN(\";\",1,R269:S269)","v":""},null,null,{"$f":"IF(R269=\"\",\"\",\"-\"&VLOOKUP(R269,EventConditionConfig!A:C,3,FALSE)&IF(S269=\"\",\"\",CHAR(10)&\"-\"&VLOOKUP(S269,EventConditionConfig!A:C,3,FALSE)))","v":""},{"$f":"IF(Y269=\"\",\"\",1)","v":""},{"$f":"IF(U269=1,A270,\"\")","v":""},{"$f":"_xlfn.TEXTJOIN(\";\",1,X269,AA269)","v":""},"",null,null,"",{"$nulls":4},{"$f":"IF(A269=\"\",\"\",IF(ISNUMBER(Y269),2,IF(A270=\"\",IF(OR(AH269>0,VLOOKUP(O269,EventConfig!A:C,3,FALSE)=4),3,\"\"),1)))","v":1},1002102,null,5302]
[{"$f":"O270*100+P270","v":1002102},5301,"境界达到[金丹-前期]","",{"$nulls":5},100,{"$f":"IF(J270=\"\",\"\",VLOOKUP(J270,EventNPC!A:E,5,FALSE))","v":"玩家"},5303,"此地果真是好地方，修为又有精进。",null,{"$f":"IF(O269=\"\",O268+1,O269)","v":10021},2,{"$f":"_xlfn.TEXTJOIN(\";\",1,R270:S270)","v":"24"},24,null,{"$f":"IF(R270=\"\",\"\",\"-\"&VLOOKUP(R270,EventConditionConfig!A:C,3,FALSE)&IF(S270=\"\",\"\",CHAR(10)&\"-\"&VLOOKUP(S270,EventConditionConfig!A:C,3,FALSE)))","v":"-达到境界：结丹-中期"},{"$f":"IF(Y270=\"\",\"\",1)","v":""},{"$f":"IF(U270=1,A271,\"\")","v":""},{"$f":"_xlfn.TEXTJOIN(\";\",1,X270,AA270)","v":""},"",null,null,"",{"$nulls":4},{"$f":"IF(A270=\"\",\"\",IF(ISNUMBER(Y270),2,IF(A271=\"\",IF(OR(AH270>0,VLOOKUP(O270,EventConfig!A:C,3,FALSE)=4),3,\"\"),1)))","v":1},{"$f":"IF(AF270=\"\",\"\",CHOOSE(AF270,IF(AH270=\"\",A270+1,AH270),CONCATENATE(IF(AH270=\"\",A270+1,AH270),\";101\"),IF(AH270=\"\",O270+1,AH270)))","v":1002103},null,5303]
[{"$f":"O271*100+P271","v":1002103},5301,"境界达到[金丹-前期]","",{"$nulls":5},100,{"$f":"IF(J271=\"\",\"\",VLOOKUP(J271,EventNPC!A:E,5,FALSE))","v":"玩家"},5304,"不过想要达到更高的境界，突破冲虚说的什么心境，还需继续修行。",null,{"$f":"IF(O270=\"\",O269+1,O270)","v":10021},3,"",null,null,{"$f":"IF(R271=\"\",\"\",\"-\"&VLOOKUP(R271,EventConditionConfig!A:C,3,FALSE)&IF(S271=\"\",\"\",CHAR(10)&\"-\"&VLOOKUP(S271,EventConditionConfig!A:C,3,FALSE)))","v":""},{"$f":"IF(Y271=\"\",\"\",1)","v":""},{"$f":"IF(U271=1,A272,\"\")","v":""},{"$f":"_xlfn.TEXTJOIN(\";\",1,X271,AA271)","v":""},"",null,null,"",{"$nulls":4},{"$f":"IF(A271=\"\",\"\",IF(ISNUMBER(Y271),2,IF(A272=\"\",IF(OR(AH271>0,VLOOKUP(O271,EventConfig!A:C,3,FALSE)=4),3,\"\"),1)))","v":1},1002104,null,5304]
[{"$f":"O272*100+P272","v":1002104},5301,"境界达到[金丹-前期]","",{"$nulls":5},100,{"$f":"IF(J272=\"\",\"\",VLOOKUP(J272,EventNPC!A:E,5,FALSE))","v":"玩家"},5305,"是时候离开了，去问问尧帝有何建议。",null,{"$f":"IF(O271=\"\",O270+1,O271)","v":10021},4,{"$f":"_xlfn.TEXTJOIN(\";\",1,R272:S272)","v":""},null,null,{"$f":"IF(R272=\"\",\"\",\"-\"&VLOOKUP(R272,EventConditionConfig!A:C,3,FALSE)&IF(S272=\"\",\"\",CHAR(10)&\"-\"&VLOOKUP(S272,EventConditionConfig!A:C,3,FALSE)))","v":""},{"$f":"IF(Y272=\"\",\"\",1)","v":""},{"$f":"IF(U272=1,A273,\"\")","v":""},{"$f":"_xlfn.TEXTJOIN(\";\",1,X272,AA272)","v":""},"",null,null,"",{"$nulls":4},{"$f":"IF(A272=\"\",\"\",IF(ISNUMBER(Y272),2,IF(A273=\"\",IF(OR(AH272>0,VLOOKUP(O272,EventConfig!A:C,3,FALSE)=4),3,\"\"),1)))","v":3},10022,null,5305]
[null,"",null,"",{"$nulls":7},"",null,null,null,"",{"$nulls":7},"",null,null,"",{"$nulls":4},{"$f":"IF(A273=\"\",\"\",IF(ISNUMBER(Y273),2,IF(A274=\"\",IF(OR(AH273>0,VLOOKUP(O273,EventConfig!A:C,3,FALSE)=4),3,\"\"),1)))","v":""},"",null,""]
[{"$f":"O274*100+P274","v":1002201},5306,"仙山传说","",{"$nulls":5},105,{"$f":"IF(J274=\"\",\"\",VLOOKUP(J274,EventNPC!A:E,5,FALSE))","v":"尧帝"},5307,"（高兴）小友，你来了。",null,{"$f":"IF(O273=\"\",O272+1,O273)","v":10022},1,{"$f":"_xlfn.TEXTJOIN(\";\",1,R274:S274)","v":""},null,null,{"$f":"IF(R274=\"\",\"\",\"-\"&VLOOKUP(R274,EventConditionConfig!A:C,3,FALSE)&IF(S274=\"\",\"\",CHAR(10)&\"-\"&VLOOKUP(S274,EventConditionConfig!A:C,3,FALSE)))","v":""},{"$f":"IF(Y274=\"\",\"\",1)","v":""},{"$f":"IF(U274=1,A275,\"\")","v":""},{"$f":"_xlfn.TEXTJOIN(\";\",1,X274,AA274)","v":""},"",null,null,"",{"$nulls":4},{"$f":"IF(A274=\"\",\"\",IF(ISNUMBER(Y274),2,IF(A275=\"\",IF(OR(AH274>0,VLOOKUP(O274,EventConfig!A:C,3,FALSE)=4),3,\"\"),1)))","v":1},1002202,null,5307]
[1002202,5306,"仙山传说","",{"$nulls":5},105,{"$f":"IF(J275=\"\",\"\",VLOOKUP(J275,EventNPC!A:E,5,FALSE))","v":"尧帝"},5308,"数月不见，你已入筑基巅峰，距离结丹，也是指日可待！",null,10022,2,{"$f":"_xlfn.TEXTJOIN(\";\",1,R275:S275)","v":""},null,null,{"$f":"IF(R275=\"\",\"\",\"-\"&VLOOKUP(R275,EventConditionConfig!A:C,3,FALSE)&IF(S275=\"\",\"\",CHAR(10)&\"-\"&VLOOKUP(S275,EventConditionConfig!A:C,3,FALSE)))","v":""},"",{"$f":"IF(U275=1,A276,\"\")","v":""},"","",null,null,"",{"$nulls":4},{"$f":"IF(A275=\"\",\"\",IF(ISNUMBER(Y275),2,IF(A276=\"\",IF(OR(AH275>0,VLOOKUP(O275,EventConfig!A:C,3,FALSE)=4),3,\"\"),1)))","v":1},1002203,null,5308]
[1002203,5306,"仙山传说","",{"$nulls":5},100,{"$f":"IF(J276=\"\",\"\",VLOOKUP(J276,EventNPC!A:E,5,FALSE))","v":"玩家"},5309,"多谢尧帝，我是来辞行的，也想打听一下，关于“七道心境”的更多线索",null,10022,3,{"$f":"_xlfn.TEXTJOIN(\";\",1,R276:S276)","v":""},null,null,{"$f":"IF(R276=\"\",\"\",\"-\"&VLOOKUP(R276,EventConditionConfig!A:C,3,FALSE)&IF(S276=\"\",\"\",CHAR(10)&\"-\"&VLOOKUP(S276,EventConditionConfig!A:C,3,FALSE)))","v":""},"",{"$f":"IF(U276=1,A277,\"\")","v":""},"","",null,null,"",{"$nulls":4},{"$f":"IF(A276=\"\",\"\",IF(ISNUMBER(Y276),2,IF(A277=\"\",IF(OR(AH276>0,VLOOKUP(O276,EventConfig!A:C,3,FALSE)=4),3,\"\"),1)))","v":1},1002204,null,5309]
[1002204,5306,"仙山传说","",{"$nulls":5},105,{"$f":"IF(J277=\"\",\"\",VLOOKUP(J277,EventNPC!A:E,5,FALSE))","v":"尧帝"},5310,"小友，你可曾听过‘藐姑射山’",null,10022,4,{"$f":"_xlfn.TEXTJOIN(\";\",1,R277:S277)","v":""},null,null,{"$f":"IF(R277=\"\",\"\",\"-\"&VLOOKUP(R277,EventConditionConfig!A:C,3,FALSE)&IF(S277=\"\",\"\",CHAR(10)&\"-\"&VLOOKUP(S277,EventConditionConfig!A:C,3,FALSE)))","v":""},1,{"$f":"IF(U277=1,_xlfn.TEXTJOIN(\";\",1,IF(Z277=\"\",A277+1,Z277),IF(AND(AA277<>\"\",AC277=\"\"),A277+1,AC277)),IF(U277=2,Y277,\"\"))","v":"1002205;1002209"},"5311;5312",5311,"未曾听闻，请前辈指点。",{"$f":"A278","v":1002205},5312,"莫非是传说中的仙人居所？",{"$f":"A282","v":1002209},null,null,{"$f":"IF(A277=\"\",\"\",IF(ISNUMBER(Y277),2,IF(A278=\"\",IF(OR(AH277>0,VLOOKUP(O277,EventConfig!A:C,3,FALSE)=4),3,\"\"),1)))","v":1},1002205,null,5312]
[1002205,5306,"仙山传说","",{"$nulls":5},105,{"$f":"IF(J278=\"\",\"\",VLOOKUP(J278,EventNPC!A:E,5,FALSE))","v":"尧帝"},5313,"此山在尧都之北，云雾缭绕，凡人难见。当年我巡狩天下，偶遇山中神人……\n（尧帝眼神恍惚，似陷入回忆）",null,10022,5,"",null,null,{"$f":"IF(R278=\"\",\"\",\"-\"&VLOOKUP(R278,EventConditionConfig!A:C,3,FALSE)&IF(S278=\"\",\"\",CHAR(10)&\"-\"&VLOOKUP(S278,EventConditionConfig!A:C,3,FALSE)))","v":""},"",{"$f":"IF(U278=1,A279,\"\")","v":""},"","",null,null,"",{"$nulls":4},{"$f":"IF(A278=\"\",\"\",IF(ISNUMBER(Y278),2,IF(A279=\"\",IF(OR(AH278>0,VLOOKUP(O278,EventConfig!A:C,3,FALSE)=4),3,\"\"),1)))","v":1},1002206,null,5313]
[1002206,5306,"仙山传说","",{"$nulls":5},105,{"$f":"IF(J279=\"\",\"\",VLOOKUP(J279,EventNPC!A:E,5,FALSE))","v":"尧帝"},5314,"不错。山中神人，她皮肤润白像冰雪，体态柔美如年轻的女子，不食五谷，吸清风饮甘露，乘云气驾飞龙，遨游于四海之外。",null,10022,6,{"$f":"_xlfn.TEXTJOIN(\";\",1,R279:S279)","v":""},null,null,{"$f":"IF(R279=\"\",\"\",\"-\"&VLOOKUP(R279,EventConditionConfig!A:C,3,FALSE)&IF(S279=\"\",\"\",CHAR(10)&\"-\"&VLOOKUP(S279,EventConditionConfig!A:C,3,FALSE)))","v":""},"","","","",null,null,"",{"$nulls":4},{"$f":"IF(A279=\"\",\"\",IF(ISNUMBER(Y279),2,IF(A280=\"\",IF(OR(AH279>0,VLOOKUP(O279,EventConfig!A:C,3,FALSE)=4),3,\"\"),1)))","v":1},1002207,null,5314]
[1002207,5306,"仙山传说","",{"$nulls":5},105,{"$f":"IF(J280=\"\",\"\",VLOOKUP(J280,EventNPC!A:E,5,FALSE))","v":"尧帝"},5315,"当年见到神人时，我已是一都之君。可在她面前，自觉渺小如尘沙，治理的天下如同儿戏一般。",null,10022,7,{"$f":"_xlfn.TEXTJOIN(\";\",1,R280:S280)","v":""},null,null,{"$f":"IF(R280=\"\",\"\",\"-\"&VLOOKUP(R280,EventConditionConfig!A:C,3,FALSE)&IF(S280=\"\",\"\",CHAR(10)&\"-\"&VLOOKUP(S280,EventConditionConfig!A:C,3,FALSE)))","v":""},"","","","",null,null,"",{"$nulls":4},{"$f":"IF(A280=\"\",\"\",IF(ISNUMBER(Y280),2,IF(A281=\"\",IF(OR(AH280>0,VLOOKUP(O280,EventConfig!A:C,3,FALSE)=4),3,\"\"),1)))","v":1},1002208,null,5315]
[1002208,5306,"仙山传说","",{"$nulls":5},105,{"$f":"IF(J281=\"\",\"\",VLOOKUP(J281,EventNPC!A:E,5,FALSE))","v":"尧帝"},5316,"甚至连开口说话，都没有勇气…",null,10022,8,{"$f":"_xlfn.TEXTJOIN(\";\",1,R281:S281)","v":""},null,null,{"$f":"IF(R281=\"\",\"\",\"-\"&VLOOKUP(R281,EventConditionConfig!A:C,3,FALSE)&IF(S281=\"\",\"\",CHAR(10)&\"-\"&VLOOKUP(S281,EventConditionConfig!A:C,3,FALSE)))","v":""},"","","","",null,null,"",{"$nulls":4},{"$f":"IF(A281=\"\",\"\",IF(ISNUMBER(Y281),2,IF(A282=\"\",IF(OR(AH281>0,VLOOKUP(O281,EventConfig!A:C,3,FALSE)=4),3,\"\"),1)))","v":1},1002209,null,5316]
[1002209,5306,"仙山传说","",{"$nulls":5},100,{"$f":"IF(J282=\"\",\"\",VLOOKUP(J282,EventNPC!A:E,5,FALSE))","v":"玩家"},5317,"......",null,10022,9,{"$f":"_xlfn.TEXTJOIN(\";\",1,R282:S282)","v":""},null,null,{"$f":"IF(R282=\"\",\"\",\"-\"&VLOOKUP(R282,EventConditionConfig!A:C,3,FALSE)&IF(S282=\"\",\"\",CHAR(10)&\"-\"&VLOOKUP(S282,EventConditionConfig!A:C,3,FALSE)))","v":""},1,1002210,"5318",5318,"连尧帝都如此敬畏，那神人究竟何等境界？",null,"",{"$nulls":4},{"$f":"IF(A282=\"\",\"\",IF(ISNUMBER(Y282),2,IF(A283=\"\",IF(OR(AH282>0,VLOOKUP(O282,EventConfig!A:C,3,FALSE)=4),3,\"\"),1)))","v":1},1002210,null,5318]
[1002210,5306,"仙山传说","",{"$nulls":5},105,{"$f":"IF(J283=\"\",\"\",VLOOKUP(J283,EventNPC!A:E,5,FALSE))","v":"尧帝"},5319,"我也不知..你可前去寻觅，如有缘遇见，定能提升修为，突破心境。",null,10022,10,"",null,null,{"$f":"IF(R283=\"\",\"\",\"-\"&VLOOKUP(R283,EventConditionConfig!A:C,3,FALSE)&IF(S283=\"\",\"\",CHAR(10)&\"-\"&VLOOKUP(S283,EventConditionConfig!A:C,3,FALSE)))","v":""},"","","","",null,null,"",{"$nulls":4},{"$f":"IF(A283=\"\",\"\",IF(ISNUMBER(Y283),2,IF(A284=\"\",IF(OR(AH283>0,VLOOKUP(O283,EventConfig!A:C,3,FALSE)=4),3,\"\"),1)))","v":1},1002211,null,5319]
[1002211,5306,"仙山传说","",{"$nulls":5},105,{"$f":"IF(J284=\"\",\"\",VLOOKUP(J284,EventNPC!A:E,5,FALSE))","v":"尧帝"},5320,"你手中的逍遥铃，绝非凡物，跟着它的指引，应该能找到藐姑射山。",null,10022,11,{"$f":"_xlfn.TEXTJOIN(\";\",1,R284:S284)","v":""},null,null,{"$f":"IF(R284=\"\",\"\",\"-\"&VLOOKUP(R284,EventConditionConfig!A:C,3,FALSE)&IF(S284=\"\",\"\",CHAR(10)&\"-\"&VLOOKUP(S284,EventConditionConfig!A:C,3,FALSE)))","v":""},1,1002212,"5321",5321,"多谢前辈。",null,"",{"$nulls":4},{"$f":"IF(A284=\"\",\"\",IF(ISNUMBER(Y284),2,IF(A285=\"\",IF(OR(AH284>0,VLOOKUP(O284,EventConfig!A:C,3,FALSE)=4),3,\"\"),1)))","v":1},1002212,null,5321]
[1002212,5306,"仙山传说","",{"$nulls":6},{"$f":"IF(J285=\"\",\"\",VLOOKUP(J285,EventNPC!A:E,5,FALSE))","v":""},"",null,null,10022,12,{"$f":"_xlfn.TEXTJOIN(\";\",1,R285:S285)","v":"25"},25,null,{"$f":"IF(R285=\"\",\"\",\"-\"&VLOOKUP(R285,EventConditionConfig!A:C,3,FALSE)&IF(S285=\"\",\"\",CHAR(10)&\"-\"&VLOOKUP(S285,EventConditionConfig!A:C,3,FALSE)))","v":"-达到境界：结丹-后期"},"","","","",null,null,"",{"$nulls":4},{"$f":"IF(A285=\"\",\"\",IF(ISNUMBER(Y285),2,IF(A286=\"\",IF(OR(AH285>0,VLOOKUP(O285,EventConfig!A:C,3,FALSE)=4),3,\"\"),1)))","v":3},10023,null,5321]
[null,"",null,"",{"$nulls":7},"",null,null,null,"",{"$nulls":7},"",null,null,"",{"$nulls":4},{"$f":"IF(A286=\"\",\"\",IF(ISNUMBER(Y286),2,IF(A287=\"\",IF(OR(AH286>0,VLOOKUP(O286,EventConfig!A:C,3,FALSE)=4),3,\"\"),1)))","v":""},"",null,""]
[{"$f":"O287*100+P287","v":1002301},5322,"入山幻阵","",{"$nulls":6},{"$f":"IF(J287=\"\",\"\",VLOOKUP(J287,EventNPC!A:E,5,FALSE))","v":""},5323,"仙山被五行阵笼罩，需要击败阵眼方可破除（细节待设计）",null,{"$f":"IF(O286=\"\",O285+1,O286)","v":10023},1,{"$f":"_xlfn.TEXTJOIN(\";\",1,R287:S287)","v":""},null,null,{"$f":"IF(R287=\"\",\"\",\"-\"&VLOOKUP(R287,EventConditionConfig!A:C,3,FALSE)&IF(S287=\"\",\"\",CHAR(10)&\"-\"&VLOOKUP(S287,EventConditionConfig!A:C,3,FALSE)))","v":""},{"$f":"IF(Y287=\"\",\"\",1)","v":""},{"$f":"IF(U287=1,A288,\"\")","v":""},{"$f":"_xlfn.TEXTJOIN(\";\",1,X287,AA287)","v":""},"",null,null,"",{"$nulls":4},{"$f":"IF(A287=\"\",\"\",IF(ISNUMBER(Y287),2,IF(A288=\"\",IF(OR(AH287>0,VLOOKUP(O287,EventConfig!A:C,3,FALSE)=4),3,\"\"),1)))","v":1},1002302,null,5323]
[{"$f":"O288*100+P288","v":1002302},5322,"入山幻阵","",{"$nulls":6},{"$f":"IF(J288=\"\",\"\",VLOOKUP(J288,EventNPC!A:E,5,FALSE))","v":""},5324,"阵眼妖兽被击败，仙山现在可以进入了（细节待设计）",null,{"$f":"IF(O287=\"\",O286+1,O287)","v":10023},2,{"$f":"_xlfn.TEXTJOIN(\";\",1,R288:S288)","v":"15"},15,null,{"$f":"IF(R288=\"\",\"\",\"-\"&VLOOKUP(R288,EventConditionConfig!A:C,3,FALSE)&IF(S288=\"\",\"\",CHAR(10)&\"-\"&VLOOKUP(S288,EventConditionConfig!A:C,3,FALSE)))","v":"-击败仙山的阵眼妖兽"},{"$f":"IF(Y288=\"\",\"\",1)","v":""},{"$f":"IF(U288=1,A289,\"\")","v":""},{"$f":"_xlfn.TEXTJOIN(\";\",1,X288,AA288)","v":""},"",null,null,"",{"$nulls":4},{"$f":"IF(A288=\"\",\"\",IF(ISNUMBER(Y288),2,IF(A289=\"\",IF(OR(AH288>0,VLOOKUP(O288,EventConfig!A:C,3,FALSE)=4),3,\"\"),1)))","v":1},1002303,null,5324]
[{"$f":"O289*100+P289","v":1002303},5322,"入山幻阵","",{"$nulls":6},{"$f":"IF(J289=\"\",\"\",VLOOKUP(J289,EventNPC!A:E,5,FALSE))","v":""},"",null,null,{"$f":"IF(O288=\"\",O287+1,O288)","v":10023},3,"",null,null,{"$f":"IF(R289=\"\",\"\",\"-\"&VLOOKUP(R289,EventConditionConfig!A:C,3,FALSE)&IF(S289=\"\",\"\",CHAR(10)&\"-\"&VLOOKUP(S289,EventConditionConfig!A:C,3,FALSE)))","v":""},{"$f":"IF(Y289=\"\",\"\",1)","v":""},{"$f":"IF(U289=1,A290,\"\")","v":""},{"$f":"_xlfn.TEXTJOIN(\";\",1,X289,AA289)","v":""},"",null,null,"",{"$nulls":4},{"$f":"IF(A289=\"\",\"\",IF(ISNUMBER(Y289),2,IF(A290=\"\",IF(OR(AH289>0,VLOOKUP(O289,EventConfig!A:C,3,FALSE)=4),3,\"\"),1)))","v":3},10024,null,5324]
[null,"",null,"",{"$nulls":7},"",null,null,null,"",{"$nulls":7},"",null,null,"",{"$nulls":4},{"$f":"IF(A290=\"\",\"\",IF(ISNUMBER(Y290),2,IF(A291=\"\",IF(OR(AH290>0,VLOOKUP(O290,EventConfig!A:C,3,FALSE)=4),3,\"\"),1)))","v":""},"",null,""]
[{"$f":"O291*100+P291","v":1002401},5325,"听惠子吹嘘种子来历，并答应帮他种葫芦","",{"$nulls":5},111,{"$f":"IF(J291=\"\",\"\",VLOOKUP(J291,EventNPC!A:E,5,FALSE))","v":"惠子"},5326,"（惠子手持一颗七彩流光的种子，满脸得意）\n“小友！来得正好！瞧我这宝贝——”",null,{"$f":"IF(O290=\"\",O289+1,O290)","v":10024},1,{"$f":"_xlfn.TEXTJOIN(\";\",1,R291:S291)","v":""},null,null,{"$f":"IF(R291=\"\",\"\",\"-\"&VLOOKUP(R291,EventConditionConfig!A:C,3,FALSE)&IF(S291=\"\",\"\",CHAR(10)&\"-\"&VLOOKUP(S291,EventConditionConfig!A:C,3,FALSE)))","v":""},{"$f":"IF(Y291=\"\",\"\",1)","v":""},{"$f":"IF(U291=1,A292,\"\")","v":""},{"$f":"_xlfn.TEXTJOIN(\";\",1,X291,AA291)","v":""},"",null,null,"",{"$nulls":4},{"$f":"IF(A291=\"\",\"\",IF(ISNUMBER(Y291),2,IF(A292=\"\",IF(OR(AH291>0,VLOOKUP(O291,EventConfig!A:C,3,FALSE)=4),3,\"\"),1)))","v":1},1002402,null,5326]
[1002402,5325,"听惠子吹嘘种子来历，并答应帮他种葫芦","",{"$nulls":5},111,{"$f":"IF(J292=\"\",\"\",VLOOKUP(J292,EventNPC!A:E,5,FALSE))","v":"惠子"},5327,"（惠子举起一颗种子，阳光照射下熠熠生辉）\n“此乃‘五石葫芦’之种！虽然我也不知道能种出来什么，但绝非凡品，一定大有用处！”",null,10024,2,{"$f":"_xlfn.TEXTJOIN(\";\",1,R292:S292)","v":""},null,null,{"$f":"IF(R292=\"\",\"\",\"-\"&VLOOKUP(R292,EventConditionConfig!A:C,3,FALSE)&IF(S292=\"\",\"\",CHAR(10)&\"-\"&VLOOKUP(S292,EventConditionConfig!A:C,3,FALSE)))","v":""},1,1002403,"5328",5328,"这么厉害？哪来的？",null,"",{"$nulls":4},{"$f":"IF(A292=\"\",\"\",IF(ISNUMBER(Y292),2,IF(A293=\"\",IF(OR(AH292>0,VLOOKUP(O292,EventConfig!A:C,3,FALSE)=4),3,\"\"),1)))","v":1},1002403,null,5328]
[1002403,5325,"听惠子吹嘘种子来历，并答应帮他种葫芦","",{"$nulls":5},111,{"$f":"IF(J293=\"\",\"\",VLOOKUP(J293,EventNPC!A:E,5,FALSE))","v":"惠子"},5329,"这是我的好朋友庄子送我的，给的时候，还神神秘秘的，说种出来的东西很好玩。",null,10024,3,{"$f":"_xlfn.TEXTJOIN(\";\",1,R293:S293)","v":""},null,null,{"$f":"IF(R293=\"\",\"\",\"-\"&VLOOKUP(R293,EventConditionConfig!A:C,3,FALSE)&IF(S293=\"\",\"\",CHAR(10)&\"-\"&VLOOKUP(S293,EventConditionConfig!A:C,3,FALSE)))","v":""},"","","","",null,null,"",{"$nulls":4},{"$f":"IF(A293=\"\",\"\",IF(ISNUMBER(Y293),2,IF(A294=\"\",IF(OR(AH293>0,VLOOKUP(O293,EventConfig!A:C,3,FALSE)=4),3,\"\"),1)))","v":1},1002404,null,5329]
[1002404,5325,"听惠子吹嘘种子来历，并答应帮他种葫芦","",{"$nulls":5},100,{"$f":"IF(J294=\"\",\"\",VLOOKUP(J294,EventNPC!A:E,5,FALSE))","v":"玩家"},5330,"原来如此。\n我游历到这里，是想拜访山中神仙，请道友指路。",null,10024,4,{"$f":"_xlfn.TEXTJOIN(\";\",1,R294:S294)","v":""},null,null,{"$f":"IF(R294=\"\",\"\",\"-\"&VLOOKUP(R294,EventConditionConfig!A:C,3,FALSE)&IF(S294=\"\",\"\",CHAR(10)&\"-\"&VLOOKUP(S294,EventConditionConfig!A:C,3,FALSE)))","v":""},"","","","",null,null,"",{"$nulls":4},{"$f":"IF(A294=\"\",\"\",IF(ISNUMBER(Y294),2,IF(A295=\"\",IF(OR(AH294>0,VLOOKUP(O294,EventConfig!A:C,3,FALSE)=4),3,\"\"),1)))","v":1},1002405,null,5330]
[1002405,5325,"听惠子吹嘘种子来历，并答应帮他种葫芦","",{"$nulls":5},111,{"$f":"IF(J295=\"\",\"\",VLOOKUP(J295,EventNPC!A:E,5,FALSE))","v":"惠子"},5331,"又是来找神仙的？\n帮你也不是不行，但是你得先帮我，帮我种葫芦！",null,10024,5,{"$f":"_xlfn.TEXTJOIN(\";\",1,R295:S295)","v":""},null,null,{"$f":"IF(R295=\"\",\"\",\"-\"&VLOOKUP(R295,EventConditionConfig!A:C,3,FALSE)&IF(S295=\"\",\"\",CHAR(10)&\"-\"&VLOOKUP(S295,EventConditionConfig!A:C,3,FALSE)))","v":""},1,1002406,"5332",5332,"我不擅长种植",null,"",{"$nulls":4},{"$f":"IF(A295=\"\",\"\",IF(ISNUMBER(Y295),2,IF(A296=\"\",IF(OR(AH295>0,VLOOKUP(O295,EventConfig!A:C,3,FALSE)=4),3,\"\"),1)))","v":1},1002406,null,5332]
[1002406,5325,"听惠子吹嘘种子来历，并答应帮他种葫芦","",{"$nulls":5},111,{"$f":"IF(J296=\"\",\"\",VLOOKUP(J296,EventNPC!A:E,5,FALSE))","v":"惠子"},5333,"没事，我非常擅长，哈哈。\n道友只需要帮我找几种肥料即可。",null,10024,6,"",null,null,{"$f":"IF(R296=\"\",\"\",\"-\"&VLOOKUP(R296,EventConditionConfig!A:C,3,FALSE)&IF(S296=\"\",\"\",CHAR(10)&\"-\"&VLOOKUP(S296,EventConditionConfig!A:C,3,FALSE)))","v":""},1,1002407,"5334",5334,"道友请讲…",null,"",{"$nulls":4},{"$f":"IF(A296=\"\",\"\",IF(ISNUMBER(Y296),2,IF(A297=\"\",IF(OR(AH296>0,VLOOKUP(O296,EventConfig!A:C,3,FALSE)=4),3,\"\"),1)))","v":1},1002407,null,5334]
[1002407,5325,"听惠子吹嘘种子来历，并答应帮他种葫芦","",{"$nulls":5},111,{"$f":"IF(J297=\"\",\"\",VLOOKUP(J297,EventNPC!A:E,5,FALSE))","v":"惠子"},5335,"此葫芦种子，需要2种肥料：“天肥”和“地肥”。",null,10024,7,"",null,null,{"$f":"IF(R297=\"\",\"\",\"-\"&VLOOKUP(R297,EventConditionConfig!A:C,3,FALSE)&IF(S297=\"\",\"\",CHAR(10)&\"-\"&VLOOKUP(S297,EventConditionConfig!A:C,3,FALSE)))","v":""},"","","","",null,null,"",{"$nulls":4},{"$f":"IF(A297=\"\",\"\",IF(ISNUMBER(Y297),2,IF(A298=\"\",IF(OR(AH297>0,VLOOKUP(O297,EventConfig!A:C,3,FALSE)=4),3,\"\"),1)))","v":1},1002408,null,5335]
[1002408,5325,"听惠子吹嘘种子来历，并答应帮他种葫芦","",{"$nulls":5},100,{"$f":"IF(J298=\"\",\"\",VLOOKUP(J298,EventNPC!A:E,5,FALSE))","v":"玩家"},5336,"....未曾听闻…",null,10024,8,{"$f":"_xlfn.TEXTJOIN(\";\",1,R298:S298)","v":""},null,null,{"$f":"IF(R298=\"\",\"\",\"-\"&VLOOKUP(R298,EventConditionConfig!A:C,3,FALSE)&IF(S298=\"\",\"\",CHAR(10)&\"-\"&VLOOKUP(S298,EventConditionConfig!A:C,3,FALSE)))","v":""},1,1002409,"5337",5337,"何为“天肥”",null,"",{"$nulls":4},{"$f":"IF(A298=\"\",\"\",IF(ISNUMBER(Y298),2,IF(A299=\"\",IF(OR(AH298>0,VLOOKUP(O298,EventConfig!A:C,3,FALSE)=4),3,\"\"),1)))","v":1},1002409,null,5337]
[1002409,5325,"听惠子吹嘘种子来历，并答应帮他种葫芦","",{"$nulls":5},111,{"$f":"IF(J299=\"\",\"\",VLOOKUP(J299,EventNPC!A:E,5,FALSE))","v":"惠子"},5338,"天肥很简单，你往上看\n（惠子把手指向云端）",null,10024,9,"",null,null,{"$f":"IF(R299=\"\",\"\",\"-\"&VLOOKUP(R299,EventConditionConfig!A:C,3,FALSE)&IF(S299=\"\",\"\",CHAR(10)&\"-\"&VLOOKUP(S299,EventConditionConfig!A:C,3,FALSE)))","v":""},"","","","",null,null,"",{"$nulls":4},{"$f":"IF(A299=\"\",\"\",IF(ISNUMBER(Y299),2,IF(A300=\"\",IF(OR(AH299>0,VLOOKUP(O299,EventConfig!A:C,3,FALSE)=4),3,\"\"),1)))","v":1},1002410,null,5338]
[1002410,5325,"听惠子吹嘘种子来历，并答应帮他种葫芦","",{"$nulls":5},111,{"$f":"IF(J300=\"\",\"\",VLOOKUP(J300,EventNPC!A:E,5,FALSE))","v":"惠子"},5339,"此山附近有许多飞行的灵兽围绕，你去击败几只飞行的灵兽，就有机会拿到了。",null,10024,10,{"$f":"_xlfn.TEXTJOIN(\";\",1,R300:S300)","v":""},null,null,{"$f":"IF(R300=\"\",\"\",\"-\"&VLOOKUP(R300,EventConditionConfig!A:C,3,FALSE)&IF(S300=\"\",\"\",CHAR(10)&\"-\"&VLOOKUP(S300,EventConditionConfig!A:C,3,FALSE)))","v":""},1,1002411,"5340",5340,"何为“地肥”",null,"",{"$nulls":4},{"$f":"IF(A300=\"\",\"\",IF(ISNUMBER(Y300),2,IF(A301=\"\",IF(OR(AH300>0,VLOOKUP(O300,EventConfig!A:C,3,FALSE)=4),3,\"\"),1)))","v":1},1002411,null,5340]
[1002411,5325,"听惠子吹嘘种子来历，并答应帮他种葫芦","",{"$nulls":5},111,{"$f":"IF(J301=\"\",\"\",VLOOKUP(J301,EventNPC!A:E,5,FALSE))","v":"惠子"},5341,"这地肥就比较麻烦了，需要2000年以上的灵木树枝才能当“地肥”",null,10024,11,{"$f":"_xlfn.TEXTJOIN(\";\",1,R301:S301)","v":""},null,null,{"$f":"IF(R301=\"\",\"\",\"-\"&VLOOKUP(R301,EventConditionConfig!A:C,3,FALSE)&IF(S301=\"\",\"\",CHAR(10)&\"-\"&VLOOKUP(S301,EventConditionConfig!A:C,3,FALSE)))","v":""},"","","","",null,null,"",{"$nulls":4},{"$f":"IF(A301=\"\",\"\",IF(ISNUMBER(Y301),2,IF(A302=\"\",IF(OR(AH301>0,VLOOKUP(O301,EventConfig!A:C,3,FALSE)=4),3,\"\"),1)))","v":1},1002412,null,5341]
[1002412,5325,"听惠子吹嘘种子来历，并答应帮他种葫芦","",{"$nulls":5},111,{"$f":"IF(J302=\"\",\"\",VLOOKUP(J302,EventNPC!A:E,5,FALSE))","v":"惠子"},5342,"不过，这千年以上的树木，都会化形，不好找啊，不好找。",null,10024,12,{"$f":"_xlfn.TEXTJOIN(\";\",1,R302:S302)","v":""},null,null,{"$f":"IF(R302=\"\",\"\",\"-\"&VLOOKUP(R302,EventConditionConfig!A:C,3,FALSE)&IF(S302=\"\",\"\",CHAR(10)&\"-\"&VLOOKUP(S302,EventConditionConfig!A:C,3,FALSE)))","v":""},1,1002413,"5343",5343,"好的道友，那我这就去寻。",null,"",{"$nulls":4},{"$f":"IF(A302=\"\",\"\",IF(ISNUMBER(Y302),2,IF(A303=\"\",IF(OR(AH302>0,VLOOKUP(O302,EventConfig!A:C,3,FALSE)=4),3,\"\"),1)))","v":1},1002413,null,5343]
[{"$f":"O303*100+P303","v":1002413},5325,"听惠子吹嘘种子来历，并答应帮他种葫芦","",{"$nulls":6},{"$f":"IF(J303=\"\",\"\",VLOOKUP(J303,EventNPC!A:E,5,FALSE))","v":""},"",null,null,10024,13,{"$f":"_xlfn.TEXTJOIN(\";\",1,R303:S303)","v":"26"},26,null,{"$f":"IF(R303=\"\",\"\",\"-\"&VLOOKUP(R303,EventConditionConfig!A:C,3,FALSE)&IF(S303=\"\",\"\",CHAR(10)&\"-\"&VLOOKUP(S303,EventConditionConfig!A:C,3,FALSE)))","v":"-达到境界：元婴-前期"},{"$f":"IF(Y303=\"\",\"\",1)","v":""},{"$f":"IF(U303=1,A305,\"\")","v":""},{"$f":"_xlfn.TEXTJOIN(\";\",1,X303,AA303)","v":""},"",null,null,"",{"$nulls":4},{"$f":"IF(A303=\"\",\"\",IF(ISNUMBER(Y303),2,IF(A304=\"\",IF(OR(AH303>0,VLOOKUP(O303,EventConfig!A:C,3,FALSE)=4),3,\"\"),1)))","v":3},10025,null,5343]
[null,"",null,"",{"$nulls":7},"",null,null,null,"",{"$nulls":7},"",null,null,"",{"$nulls":4},{"$f":"IF(A304=\"\",\"\",IF(ISNUMBER(Y304),2,IF(A305=\"\",IF(OR(AH304>0,VLOOKUP(O304,EventConfig!A:C,3,FALSE)=4),3,\"\"),1)))","v":""},"",null,""]
[{"$f":"O305*100+P305","v":1002501},5344,"天肥地肥","",{"$nulls":6},{"$f":"IF(J305=\"\",\"\",VLOOKUP(J305,EventNPC!A:E,5,FALSE))","v":""},5345,"你来到飞行的灵兽周围，碰碰运气吧。",null,{"$f":"IF(O304=\"\",O302+1,O304)","v":10025},1,{"$f":"_xlfn.TEXTJOIN(\";\",1,R305:S305)","v":""},null,null,{"$f":"IF(R305=\"\",\"\",\"-\"&VLOOKUP(R305,EventConditionConfig!A:C,3,FALSE)&IF(S305=\"\",\"\",CHAR(10)&\"-\"&VLOOKUP(S305,EventConditionConfig!A:C,3,FALSE)))","v":""},{"$f":"IF(Y305=\"\",\"\",1)","v":""},{"$f":"IF(U305=1,A306,\"\")","v":""},{"$f":"_xlfn.TEXTJOIN(\";\",1,X305,AA305)","v":""},"",null,null,"",{"$nulls":4},{"$f":"IF(A305=\"\",\"\",IF(ISNUMBER(Y305),2,IF(A306=\"\",IF(OR(AH305>0,VLOOKUP(O305,EventConfig!A:C,3,FALSE)=4),3,\"\"),1)))","v":1},1002502,null,5345]
[1002502,5344,"天肥地肥","",{"$nulls":6},{"$f":"IF(J306=\"\",\"\",VLOOKUP(J306,EventNPC!A:E,5,FALSE))","v":""},5346,"天肥搜集到了，关于地肥，你突然想到之前碰到的樗木之灵",null,{"$f":"IF(O305=\"\",O304+1,O305)","v":10025},2,{"$f":"_xlfn.TEXTJOIN(\";\",1,R306:S306)","v":"17"},17,null,{"$f":"IF(R306=\"\",\"\",\"-\"&VLOOKUP(R306,EventConditionConfig!A:C,3,FALSE)&IF(S306=\"\",\"\",CHAR(10)&\"-\"&VLOOKUP(S306,EventConditionConfig!A:C,3,FALSE)))","v":"-击杀灵兽获得天肥"},"","","","",null,null,"",{"$nulls":4},{"$f":"IF(A306=\"\",\"\",IF(ISNUMBER(Y306),2,IF(A307=\"\",IF(OR(AH306>0,VLOOKUP(O306,EventConfig!A:C,3,FALSE)=4),3,\"\"),1)))","v":1},1002503,null,5346]
[1002503,5344,"天肥地肥","",{"$nulls":5},100,{"$f":"IF(J307=\"\",\"\",VLOOKUP(J307,EventNPC!A:E,5,FALSE))","v":"玩家"},5347,"前辈，我有一事相求。",null,10025,3,"",null,null,{"$f":"IF(R307=\"\",\"\",\"-\"&VLOOKUP(R307,EventConditionConfig!A:C,3,FALSE)&IF(S307=\"\",\"\",CHAR(10)&\"-\"&VLOOKUP(S307,EventConditionConfig!A:C,3,FALSE)))","v":""},"","","","",null,null,"",{"$nulls":4},{"$f":"IF(A307=\"\",\"\",IF(ISNUMBER(Y307),2,IF(A308=\"\",IF(OR(AH307>0,VLOOKUP(O307,EventConfig!A:C,3,FALSE)=4),3,\"\"),1)))","v":1},1002504,null,5347]
[1002504,5344,"天肥地肥","",{"$nulls":5},110,{"$f":"IF(J308=\"\",\"\",VLOOKUP(J308,EventNPC!A:E,5,FALSE))","v":"樗木之灵"},5348,"小友请说",null,10025,4,{"$f":"_xlfn.TEXTJOIN(\";\",1,R308:S308)","v":""},null,null,{"$f":"IF(R308=\"\",\"\",\"-\"&VLOOKUP(R308,EventConditionConfig!A:C,3,FALSE)&IF(S308=\"\",\"\",CHAR(10)&\"-\"&VLOOKUP(S308,EventConditionConfig!A:C,3,FALSE)))","v":""},"","","","",null,null,"",{"$nulls":4},{"$f":"IF(A308=\"\",\"\",IF(ISNUMBER(Y308),2,IF(A309=\"\",IF(OR(AH308>0,VLOOKUP(O308,EventConfig!A:C,3,FALSE)=4),3,\"\"),1)))","v":1},1002505,null,5348]
[1002505,5344,"天肥地肥","",{"$nulls":5},100,{"$f":"IF(J309=\"\",\"\",VLOOKUP(J309,EventNPC!A:E,5,FALSE))","v":"玩家"},5349,"我在藐姑射山时，遇到有位道友让我帮他找“地肥”来种葫芦...\n不止前辈可否借我一点点树枝。",null,10025,5,{"$f":"_xlfn.TEXTJOIN(\";\",1,R309:S309)","v":""},null,null,{"$f":"IF(R309=\"\",\"\",\"-\"&VLOOKUP(R309,EventConditionConfig!A:C,3,FALSE)&IF(S309=\"\",\"\",CHAR(10)&\"-\"&VLOOKUP(S309,EventConditionConfig!A:C,3,FALSE)))","v":""},"","","","",null,null,"",{"$nulls":4},{"$f":"IF(A309=\"\",\"\",IF(ISNUMBER(Y309),2,IF(A310=\"\",IF(OR(AH309>0,VLOOKUP(O309,EventConfig!A:C,3,FALSE)=4),3,\"\"),1)))","v":1},1002506,null,5349]
[1002506,5344,"天肥地肥","",{"$nulls":5},110,{"$f":"IF(J310=\"\",\"\",VLOOKUP(J310,EventNPC!A:E,5,FALSE))","v":"樗木之灵"},5350,"好说好说，以后多来陪我聊聊天就好。",null,10025,6,"",null,null,{"$f":"IF(R310=\"\",\"\",\"-\"&VLOOKUP(R310,EventConditionConfig!A:C,3,FALSE)&IF(S310=\"\",\"\",CHAR(10)&\"-\"&VLOOKUP(S310,EventConditionConfig!A:C,3,FALSE)))","v":""},"","","","",null,null,"",{"$nulls":4},{"$f":"IF(A310=\"\",\"\",IF(ISNUMBER(Y310),2,IF(A311=\"\",IF(OR(AH310>0,VLOOKUP(O310,EventConfig!A:C,3,FALSE)=4),3,\"\"),1)))","v":1},1002507,null,5350]
[1002507,5344,"天肥地肥","",{"$nulls":5},100,{"$f":"IF(J311=\"\",\"\",VLOOKUP(J311,EventNPC!A:E,5,FALSE))","v":"玩家"},5351,"多谢前辈！  （得到樗木的树枝）",null,10025,7,{"$f":"_xlfn.TEXTJOIN(\";\",1,R311:S311)","v":""},null,null,{"$f":"IF(R311=\"\",\"\",\"-\"&VLOOKUP(R311,EventConditionConfig!A:C,3,FALSE)&IF(S311=\"\",\"\",CHAR(10)&\"-\"&VLOOKUP(S311,EventConditionConfig!A:C,3,FALSE)))","v":""},"",{"$f":"IF(U311=1,A313,\"\")","v":""},"","",null,null,"",null,null,20001,1,{"$f":"IF(A311=\"\",\"\",IF(ISNUMBER(Y311),2,IF(A312=\"\",IF(OR(AH311>0,VLOOKUP(O311,EventConfig!A:C,3,FALSE)=4),3,\"\"),1)))","v":1},1002508,null,5351]
[1002508,5344,"天肥地肥","",{"$nulls":6},{"$f":"IF(J312=\"\",\"\",VLOOKUP(J312,EventNPC!A:E,5,FALSE))","v":""},"",null,null,10025,8,"30",30,null,{"$f":"IF(R312=\"\",\"\",\"-\"&VLOOKUP(R312,EventConditionConfig!A:C,3,FALSE)&IF(S312=\"\",\"\",CHAR(10)&\"-\"&VLOOKUP(S312,EventConditionConfig!A:C,3,FALSE)))","v":"-达到境界：元婴-中期"},"",{"$f":"IF(U312=1,A314,\"\")","v":""},"","",null,null,"",{"$nulls":4},{"$f":"IF(A312=\"\",\"\",IF(ISNUMBER(Y312),2,IF(A313=\"\",IF(OR(AH312>0,VLOOKUP(O312,EventConfig!A:C,3,FALSE)=4),3,\"\"),1)))","v":3},10026,null,5351]
[null,"",null,"",{"$nulls":7},"",null,null,null,"",{"$nulls":7},"",null,null,"",{"$nulls":4},{"$f":"IF(A313=\"\",\"\",IF(ISNUMBER(Y313),2,IF(A314=\"\",IF(OR(AH313>0,VLOOKUP(O313,EventConfig!A:C,3,FALSE)=4),3,\"\"),1)))","v":""},"",null,""]
[{"$f":"O314*100+P314","v":1002601},5352,"登山","",{"$nulls":5},111,{"$f":"IF(J314=\"\",\"\",VLOOKUP(J314,EventNPC!A:E,5,FALSE))","v":"惠子"},5353,"（眼睛一亮）好好好！\n这位道友果然好手段！竟真能找到“地肥”！",null,{"$f":"IF(O313=\"\",O311+1,O313)","v":10026},1,{"$f":"_xlfn.TEXTJOIN(\";\",1,R314:S314)","v":""},null,null,{"$f":"IF(R314=\"\",\"\",\"-\"&VLOOKUP(R314,EventConditionConfig!A:C,3,FALSE)&IF(S314=\"\",\"\",CHAR(10)&\"-\"&VLOOKUP(S314,EventConditionConfig!A:C,3,FALSE)))","v":""},{"$f":"IF(Y314=\"\",\"\",1)","v":""},{"$f":"IF(U314=1,A315,\"\")","v":""},{"$f":"_xlfn.TEXTJOIN(\";\",1,X314,AA314)","v":""},"",null,null,"",{"$nulls":4},{"$f":"IF(A314=\"\",\"\",IF(ISNUMBER(Y314),2,IF(A315=\"\",IF(OR(AH314>0,VLOOKUP(O314,EventConfig!A:C,3,FALSE)=4),3,\"\"),1)))","v":1},1002602,null,5353]
[1002602,5352,"登山","",{"$nulls":5},100,{"$f":"IF(J315=\"\",\"\",VLOOKUP(J315,EventNPC!A:E,5,FALSE))","v":"玩家"},5354,"（谁管你的葫芦....）\n请道友告知，哪里可以见到神仙，我有事相求。",null,{"$f":"IF(O314=\"\",O313+1,O314)","v":10026},2,{"$f":"_xlfn.TEXTJOIN(\";\",1,R315:S315)","v":""},null,null,{"$f":"IF(R315=\"\",\"\",\"-\"&VLOOKUP(R315,EventConditionConfig!A:C,3,FALSE)&IF(S315=\"\",\"\",CHAR(10)&\"-\"&VLOOKUP(S315,EventConditionConfig!A:C,3,FALSE)))","v":""},"",{"$f":"IF(U315=1,A316,\"\")","v":""},"","",null,null,"",{"$nulls":4},{"$f":"IF(A315=\"\",\"\",IF(ISNUMBER(Y315),2,IF(A316=\"\",IF(OR(AH315>0,VLOOKUP(O315,EventConfig!A:C,3,FALSE)=4),3,\"\"),1)))","v":1},1002603,null,5354]
[1002603,5352,"登山","",{"$nulls":5},111,{"$f":"IF(J316=\"\",\"\",VLOOKUP(J316,EventNPC!A:E,5,FALSE))","v":"惠子"},5355,"不瞒道友，我在这藐姑射山的山脚生活多年，并未见过神仙。\n来找神仙的倒是多…",null,10026,3,{"$f":"_xlfn.TEXTJOIN(\";\",1,R316:S316)","v":""},null,null,{"$f":"IF(R316=\"\",\"\",\"-\"&VLOOKUP(R316,EventConditionConfig!A:C,3,FALSE)&IF(S316=\"\",\"\",CHAR(10)&\"-\"&VLOOKUP(S316,EventConditionConfig!A:C,3,FALSE)))","v":""},1,{"$f":"IF(U316=1,A317,\"\")","v":1002604},"5356",5356,"…",null,"",{"$nulls":4},{"$f":"IF(A316=\"\",\"\",IF(ISNUMBER(Y316),2,IF(A317=\"\",IF(OR(AH316>0,VLOOKUP(O316,EventConfig!A:C,3,FALSE)=4),3,\"\"),1)))","v":1},1002604,null,5356]
[1002604,5352,"登山","",{"$nulls":5},111,{"$f":"IF(J317=\"\",\"\",VLOOKUP(J317,EventNPC!A:E,5,FALSE))","v":"惠子"},5357,"不过道友也不要急，我确实听庄子提过，此山有神仙的事迹。",null,10026,4,"",null,null,{"$f":"IF(R317=\"\",\"\",\"-\"&VLOOKUP(R317,EventConditionConfig!A:C,3,FALSE)&IF(S317=\"\",\"\",CHAR(10)&\"-\"&VLOOKUP(S317,EventConditionConfig!A:C,3,FALSE)))","v":""},"",{"$f":"IF(U317=1,A318,\"\")","v":""},"","",null,null,"",{"$nulls":4},{"$f":"IF(A317=\"\",\"\",IF(ISNUMBER(Y317),2,IF(A318=\"\",IF(OR(AH317>0,VLOOKUP(O317,EventConfig!A:C,3,FALSE)=4),3,\"\"),1)))","v":1},1002605,null,5357]
[1002605,5352,"登山","",{"$nulls":5},111,{"$f":"IF(J318=\"\",\"\",VLOOKUP(J318,EventNPC!A:E,5,FALSE))","v":"惠子"},5358,"我屋后设有一阵法，隐藏了上山的小路，我一会开启法阵，你从那边上山吧。",null,10026,5,{"$f":"_xlfn.TEXTJOIN(\";\",1,R318:S318)","v":""},null,null,{"$f":"IF(R318=\"\",\"\",\"-\"&VLOOKUP(R318,EventConditionConfig!A:C,3,FALSE)&IF(S318=\"\",\"\",CHAR(10)&\"-\"&VLOOKUP(S318,EventConditionConfig!A:C,3,FALSE)))","v":""},1,{"$f":"IF(U318=1,_xlfn.TEXTJOIN(\";\",1,IF(Z318=\"\",A318+1,Z318),IF(AND(AA318<>\"\",AC318=\"\"),A318+1,AC318)),IF(U318=2,Y318,\"\"))","v":"1002606;1002607"},"5359;5360",5359,"我这就启程登山！",{"$f":"A319","v":1002606},5360,"道友竟然精通阵法？",{"$f":"A320","v":1002607},null,null,{"$f":"IF(A318=\"\",\"\",IF(ISNUMBER(Y318),2,IF(A319=\"\",IF(OR(AH318>0,VLOOKUP(O318,EventConfig!A:C,3,FALSE)=4),3,\"\"),1)))","v":1},1002606,null,5360]
[1002606,5352,"登山","",{"$nulls":5},111,{"$f":"IF(J319=\"\",\"\",VLOOKUP(J319,EventNPC!A:E,5,FALSE))","v":"惠子"},5361,"去吧，登上山顶，也许能找到你想要的。",null,10026,6,"",null,null,{"$f":"IF(R319=\"\",\"\",\"-\"&VLOOKUP(R319,EventConditionConfig!A:C,3,FALSE)&IF(S319=\"\",\"\",CHAR(10)&\"-\"&VLOOKUP(S319,EventConditionConfig!A:C,3,FALSE)))","v":""},"",{"$f":"IF(U319=1,A320,\"\")","v":""},"","",null,null,"",{"$nulls":4},{"$f":"IF(A319=\"\",\"\",IF(ISNUMBER(Y319),2,IF(A320=\"\",IF(OR(AH319>0,VLOOKUP(O319,EventConfig!A:C,3,FALSE)=4),3,\"\"),1)))","v":1},1002509,1002509,5361]
[1002607,5352,"登山","",{"$nulls":5},111,{"$f":"IF(J320=\"\",\"\",VLOOKUP(J320,EventNPC!A:E,5,FALSE))","v":"惠子"},5362,"好说好说，我确实无心修炼，也对神仙没兴趣。",null,10026,7,{"$f":"_xlfn.TEXTJOIN(\";\",1,R320:S320)","v":""},null,null,{"$f":"IF(R320=\"\",\"\",\"-\"&VLOOKUP(R320,EventConditionConfig!A:C,3,FALSE)&IF(S320=\"\",\"\",CHAR(10)&\"-\"&VLOOKUP(S320,EventConditionConfig!A:C,3,FALSE)))","v":""},"",{"$f":"IF(U320=1,A321,\"\")","v":""},"","",null,null,"",{"$nulls":4},{"$f":"IF(A320=\"\",\"\",IF(ISNUMBER(Y320),2,IF(A321=\"\",IF(OR(AH320>0,VLOOKUP(O320,EventConfig!A:C,3,FALSE)=4),3,\"\"),1)))","v":1},1002608,null,5362]
[1002608,5352,"登山","",{"$nulls":5},111,{"$f":"IF(J321=\"\",\"\",VLOOKUP(J321,EventNPC!A:E,5,FALSE))","v":"惠子"},5363,"闲来无事，种种花草，研究研究阵法。\n如果道友有兴趣，可以随时交流。",null,10026,8,{"$f":"_xlfn.TEXTJOIN(\";\",1,R321:S321)","v":""},null,null,{"$f":"IF(R321=\"\",\"\",\"-\"&VLOOKUP(R321,EventConditionConfig!A:C,3,FALSE)&IF(S321=\"\",\"\",CHAR(10)&\"-\"&VLOOKUP(S321,EventConditionConfig!A:C,3,FALSE)))","v":""},"",{"$f":"IF(U321=1,A322,\"\")","v":""},"","",null,null,"",{"$nulls":4},{"$f":"IF(A321=\"\",\"\",IF(ISNUMBER(Y321),2,IF(A322=\"\",IF(OR(AH321>0,VLOOKUP(O321,EventConfig!A:C,3,FALSE)=4),3,\"\"),1)))","v":1},1002609,null,5363]
[1002609,5352,"登山","",{"$nulls":6},{"$f":"IF(J322=\"\",\"\",VLOOKUP(J322,EventNPC!A:E,5,FALSE))","v":""},"",null,null,10026,9,{"$f":"_xlfn.TEXTJOIN(\";\",1,R322:S322)","v":"31"},31,null,{"$f":"IF(R322=\"\",\"\",\"-\"&VLOOKUP(R322,EventConditionConfig!A:C,3,FALSE)&IF(S322=\"\",\"\",CHAR(10)&\"-\"&VLOOKUP(S322,EventConditionConfig!A:C,3,FALSE)))","v":"-达到境界：元婴-后期"},"",{"$f":"IF(U322=1,A360,\"\")","v":""},"","",null,null,"",{"$nulls":4},{"$f":"IF(A322=\"\",\"\",IF(ISNUMBER(Y322),2,IF(A323=\"\",IF(OR(AH322>0,VLOOKUP(O322,EventConfig!A:C,3,FALSE)=4),3,\"\"),1)))","v":3},10027,null,5363]
[null,"",null,"",{"$nulls":7},"",null,null,null,"",{"$nulls":7},"",null,null,"",{"$nulls":4},{"$f":"IF(A323=\"\",\"\",IF(ISNUMBER(Y323),2,IF(A324=\"\",IF(OR(AH323>0,VLOOKUP(O323,EventConfig!A:C,3,FALSE)=4),3,\"\"),1)))","v":""},"",null,""]
[{"$f":"O324*100+P324","v":1002701},5364,"穿越山雾","",{"$nulls":6},{"$f":"IF(J324=\"\",\"\",VLOOKUP(J324,EventNPC!A:E,5,FALSE))","v":""},5365,"你穿过惠子开启的阵法，踏上藐姑射山的羊肠小径。",null,10027,1,{"$f":"_xlfn.TEXTJOIN(\";\",1,R324:S324)","v":""},null,null,{"$f":"IF(R324=\"\",\"\",\"-\"&VLOOKUP(R324,EventConditionConfig!A:C,3,FALSE)&IF(S324=\"\",\"\",CHAR(10)&\"-\"&VLOOKUP(S324,EventConditionConfig!A:C,3,FALSE)))","v":""},{"$f":"IF(Y324=\"\",\"\",IF(ISTEXT(Y324),1,2))","v":""},{"$f":"IF(U324=1,_xlfn.TEXTJOIN(\";\",1,IF(Z324=\"\",A324+1,Z324),IF(AND(AA324<>\"\",AC324=\"\"),A324+1,AC324)),IF(U324=2,Y324,\"\"))","v":""},{"$f":"_xlfn.TEXTJOIN(\";\",1,X324,AA324)","v":""},"",null,null,"",{"$nulls":4},{"$f":"IF(A324=\"\",\"\",IF(ISNUMBER(Y324),2,IF(A325=\"\",IF(OR(AH324>0,VLOOKUP(O324,EventConfig!A:C,3,FALSE)=4),3,\"\"),1)))","v":1},1002702,null,5365]
[{"$f":"O325*100+P325","v":1002702},5364,"穿越山雾","",{"$nulls":6},{"$f":"IF(J325=\"\",\"\",VLOOKUP(J325,EventNPC!A:E,5,FALSE))","v":""},5366,"山路蜿蜒，云雾渐浓，似有无形之力扭曲空间。",null,10027,2,{"$f":"_xlfn.TEXTJOIN(\";\",1,R325:S325)","v":""},null,null,{"$f":"IF(R325=\"\",\"\",\"-\"&VLOOKUP(R325,EventConditionConfig!A:C,3,FALSE)&IF(S325=\"\",\"\",CHAR(10)&\"-\"&VLOOKUP(S325,EventConditionConfig!A:C,3,FALSE)))","v":""},{"$f":"IF(Y325=\"\",\"\",IF(ISTEXT(Y325),1,2))","v":""},{"$f":"IF(U325=1,_xlfn.TEXTJOIN(\";\",1,IF(Z325=\"\",A325+1,Z325),IF(AND(AA325<>\"\",AC325=\"\"),A325+1,AC325)),IF(U325=2,Y325,\"\"))","v":""},{"$f":"_xlfn.TEXTJOIN(\";\",1,X325,AA325)","v":""},"",null,null,"",{"$nulls":4},{"$f":"IF(A325=\"\",\"\",IF(ISNUMBER(Y325),2,IF(A326=\"\",IF(OR(AH325>0,VLOOKUP(O325,EventConfig!A:C,3,FALSE)=4),3,\"\"),1)))","v":1},1002703,null,5366]
[{"$f":"O326*100+P326","v":1002703},{"$f":"IF(C326=\"\",\"\",IF(C326=C325,B325,MAX(AI325,AI324)+1))","v":5364},"穿越山雾",{"$f":"IF(E326=\"\",\"\",IF(E326=E325,D325,MAX(AI325,AI324,B326)+1))","v":""},{"$nulls":6},{"$f":"IF(J326=\"\",\"\",VLOOKUP(J326,EventNPC!A:E,5,FALSE))","v":""},{"$f":"IF(M326=\"\",\"\",MAX(AI325,AI324,B326,D326)+1)","v":5367},"远方隐约传来风吟露滴之声，仿佛仙乐。",null,10027,{"$f":"IF(O326=\"\",\"\",IF(O326=O325,P325+1,1))","v":3},{"$f":"_xlfn.TEXTJOIN(\";\",1,R326:S326)","v":""},null,null,{"$f":"IF(R326=\"\",\"\",\"-\"&VLOOKUP(R326,EventConditionConfig!A:C,3,FALSE)&IF(S326=\"\",\"\",CHAR(10)&\"-\"&VLOOKUP(S326,EventConditionConfig!A:C,3,FALSE)))","v":""},{"$f":"IF(Y326=\"\",\"\",IF(ISTEXT(Y326),1,2))","v":""},{"$f":"IF(U326=1,_xlfn.TEXTJOIN(\";\",1,IF(Z326=\"\",A326+1,Z326),IF(AND(AA326<>\"\",AC326=\"\"),A326+1,AC326)),IF(U326=2,Y326,\"\"))","v":""},{"$f":"_xlfn.TEXTJOIN(\";\",1,X326,AA326)","v":""},{"$f":"IF(OR(ISNUMBER(Y326),Y326=\"\"),\"\",MAX(AI325,AI324,B326,D326,L326)+1)","v":""},null,null,{"$f":"IF(OR(ISNUMBER(AB326),AB326=\"\"),\"\",X326+1)","v":""},{"$nulls":4},{"$f":"IF(A326=\"\",\"\",IF(ISNUMBER(Y326),2,IF(A327=\"\",IF(OR(AH326>0,VLOOKUP(O326,EventConfig!A:C,3,FALSE)=4),3,\"\"),1)))","v":1},1002704,null,{"$f":"IF(A326=\"\",\"\",MAX(B326,D326,L326,X326,AA326,AI325,AI324))","v":5367}]
[{"$f":"O327*100+P327","v":1002704},5364,"穿越山雾","",{"$nulls":6},{"$f":"IF(J327=\"\",\"\",VLOOKUP(J327,EventNPC!A:E,5,FALSE))","v":""},5368,"然而，雾中忽现幻影，阻挡去路——",null,10027,4,{"$f":"_xlfn.TEXTJOIN(\";\",1,R327:S327)","v":""},null,null,{"$f":"IF(R327=\"\",\"\",\"-\"&VLOOKUP(R327,EventConditionConfig!A:C,3,FALSE)&IF(S327=\"\",\"\",CHAR(10)&\"-\"&VLOOKUP(S327,EventConditionConfig!A:C,3,FALSE)))","v":""},{"$f":"IF(Y327=\"\",\"\",IF(ISTEXT(Y327),1,2))","v":""},{"$f":"IF(U327=1,_xlfn.TEXTJOIN(\";\",1,IF(Z327=\"\",A327+1,Z327),IF(AND(AA327<>\"\",AC327=\"\"),A327+1,AC327)),IF(U327=2,Y327,\"\"))","v":""},{"$f":"_xlfn.TEXTJOIN(\";\",1,X327,AA327)","v":""},"",null,null,"",{"$nulls":4},{"$f":"IF(A327=\"\",\"\",IF(ISNUMBER(Y327),2,IF(A328=\"\",IF(OR(AH327>0,VLOOKUP(O327,EventConfig!A:C,3,FALSE)=4),3,\"\"),1)))","v":1},1002705,null,5368]
[{"$f":"O328*100+P328","v":1002705},5364,"穿越山雾","",{"$nulls":5},100,{"$f":"IF(J328=\"\",\"\",VLOOKUP(J328,EventNPC!A:E,5,FALSE))","v":"玩家"},5369,"雾里怎么会出现这些？看来是阵法在捣鬼……\n前面那是什么..",null,10027,5,{"$f":"_xlfn.TEXTJOIN(\";\",1,R328:S328)","v":""},null,null,{"$f":"IF(R328=\"\",\"\",\"-\"&VLOOKUP(R328,EventConditionConfig!A:C,3,FALSE)&IF(S328=\"\",\"\",CHAR(10)&\"-\"&VLOOKUP(S328,EventConditionConfig!A:C,3,FALSE)))","v":""},{"$f":"IF(Y328=\"\",\"\",IF(ISTEXT(Y328),1,2))","v":""},{"$f":"IF(U328=1,_xlfn.TEXTJOIN(\";\",1,IF(Z328=\"\",A328+1,Z328),IF(AND(AA328<>\"\",AC328=\"\"),A328+1,AC328)),IF(U328=2,Y328,\"\"))","v":""},{"$f":"_xlfn.TEXTJOIN(\";\",1,X328,AA328)","v":""},"",null,null,"",{"$nulls":4},{"$f":"IF(A328=\"\",\"\",IF(ISNUMBER(Y328),2,IF(A329=\"\",IF(OR(AH328>0,VLOOKUP(O328,EventConfig!A:C,3,FALSE)=4),3,\"\"),1)))","v":1},1002706,null,5369]
[{"$f":"O329*100+P329","v":1002706},5370,"小麻雀的幻影","",{"$nulls":5},115,{"$f":"IF(J329=\"\",\"\",VLOOKUP(J329,EventNPC!A:E,5,FALSE))","v":"小麻雀幻影"},5371,"大傻鸟飞那么远，有什么用？像我这样，上蹿下跳就够了！",null,10027,6,{"$f":"_xlfn.TEXTJOIN(\";\",1,R329:S329)","v":""},null,null,{"$f":"IF(R329=\"\",\"\",\"-\"&VLOOKUP(R329,EventConditionConfig!A:C,3,FALSE)&IF(S329=\"\",\"\",CHAR(10)&\"-\"&VLOOKUP(S329,EventConditionConfig!A:C,3,FALSE)))","v":""},{"$f":"IF(Y329=\"\",\"\",IF(ISTEXT(Y329),1,2))","v":1},{"$f":"IF(U329=1,_xlfn.TEXTJOIN(\";\",1,IF(Z329=\"\",A329+1,Z329),IF(AND(AA329<>\"\",AC329=\"\"),A329+1,AC329)),IF(U329=2,Y329,\"\"))","v":"1002707;1002711"},{"$f":"_xlfn.TEXTJOIN(\";\",1,X329,AA329)","v":"5372;5373"},5372,"你不懂鲲鹏的志向！",null,5373,"或许你说得对，但我要亲眼看看。",{"$f":"A334","v":1002711},null,null,{"$f":"IF(A329=\"\",\"\",IF(ISNUMBER(Y329),2,IF(A330=\"\",IF(OR(AH329>0,VLOOKUP(O329,EventConfig!A:C,3,FALSE)=4),3,\"\"),1)))","v":1},1002707,null,5373]
[{"$f":"O330*100+P330","v":1002707},5370,"小麻雀的幻影","",{"$nulls":5},115,{"$f":"IF(J330=\"\",\"\",VLOOKUP(J330,EventNPC!A:E,5,FALSE))","v":"小麻雀幻影"},5374,"（歪头嘲笑）志向？那大鸟飞得再高，风一停还不是摔下来！你这傻瓜，也想学它？",null,10027,7,{"$f":"_xlfn.TEXTJOIN(\";\",1,R330:S330)","v":""},null,null,{"$f":"IF(R330=\"\",\"\",\"-\"&VLOOKUP(R330,EventConditionConfig!A:C,3,FALSE)&IF(S330=\"\",\"\",CHAR(10)&\"-\"&VLOOKUP(S330,EventConditionConfig!A:C,3,FALSE)))","v":""},{"$f":"IF(Y330=\"\",\"\",IF(ISTEXT(Y330),1,2))","v":""},{"$f":"IF(U330=1,_xlfn.TEXTJOIN(\";\",1,IF(Z330=\"\",A330+1,Z330),IF(AND(AA330<>\"\",AC330=\"\"),A330+1,AC330)),IF(U330=2,Y330,\"\"))","v":""},{"$f":"_xlfn.TEXTJOIN(\";\",1,X330,AA330)","v":""},"",null,null,"",{"$nulls":4},{"$f":"IF(A330=\"\",\"\",IF(ISNUMBER(Y330),2,IF(A331=\"\",IF(OR(AH330>0,VLOOKUP(O330,EventConfig!A:C,3,FALSE)=4),3,\"\"),1)))","v":1},1002708,null,5374]
[{"$f":"O331*100+P331","v":1002708},5370,"小麻雀的幻影","",{"$nulls":5},100,{"$f":"IF(J331=\"\",\"\",VLOOKUP(J331,EventNPC!A:E,5,FALSE))","v":"玩家"},5375,"鲲鹏的志向不是为了飞高，而是为了追寻心中的自由——你这小雀，永远不懂！",null,10027,8,{"$f":"_xlfn.TEXTJOIN(\";\",1,R331:S331)","v":""},null,null,{"$f":"IF(R331=\"\",\"\",\"-\"&VLOOKUP(R331,EventConditionConfig!A:C,3,FALSE)&IF(S331=\"\",\"\",CHAR(10)&\"-\"&VLOOKUP(S331,EventConditionConfig!A:C,3,FALSE)))","v":""},{"$f":"IF(Y331=\"\",\"\",IF(ISTEXT(Y331),1,2))","v":""},{"$f":"IF(U331=1,_xlfn.TEXTJOIN(\";\",1,IF(Z331=\"\",A331+1,Z331),IF(AND(AA331<>\"\",AC331=\"\"),A331+1,AC331)),IF(U331=2,Y331,\"\"))","v":""},{"$f":"_xlfn.TEXTJOIN(\";\",1,X331,AA331)","v":""},"",null,null,"",{"$nulls":4},{"$f":"IF(A331=\"\",\"\",IF(ISNUMBER(Y331),2,IF(A332=\"\",IF(OR(AH331>0,VLOOKUP(O331,EventConfig!A:C,3,FALSE)=4),3,\"\"),1)))","v":1},1002709,null,5375]
[1002709,5370,"小麻雀的幻影","",{"$nulls":5},115,{"$f":"IF(J332=\"\",\"\",VLOOKUP(J332,EventNPC!A:E,5,FALSE))","v":"小麻雀幻影"},5376,"到底是你不懂，还是我不懂？",null,10027,9,"",null,null,{"$f":"IF(R332=\"\",\"\",\"-\"&VLOOKUP(R332,EventConditionConfig!A:C,3,FALSE)&IF(S332=\"\",\"\",CHAR(10)&\"-\"&VLOOKUP(S332,EventConditionConfig!A:C,3,FALSE)))","v":""},"","","","",null,null,"",{"$nulls":4},{"$f":"IF(A332=\"\",\"\",IF(ISNUMBER(Y332),2,IF(A333=\"\",IF(OR(AH332>0,VLOOKUP(O332,EventConfig!A:C,3,FALSE)=4),3,\"\"),1)))","v":1},1002710,null,5376]
[{"$f":"O333*100+P333","v":1002710},5370,"小麻雀的幻影","",{"$nulls":5},100,{"$f":"IF(J333=\"\",\"\",VLOOKUP(J333,EventNPC!A:E,5,FALSE))","v":"玩家"},5377,"........\n总之，我的路得自己走下去！",null,10027,10,{"$f":"_xlfn.TEXTJOIN(\";\",1,R333:S333)","v":""},null,null,{"$f":"IF(R333=\"\",\"\",\"-\"&VLOOKUP(R333,EventConditionConfig!A:C,3,FALSE)&IF(S333=\"\",\"\",CHAR(10)&\"-\"&VLOOKUP(S333,EventConditionConfig!A:C,3,FALSE)))","v":""},{"$f":"IF(Y333=\"\",\"\",IF(ISTEXT(Y333),1,2))","v":""},{"$f":"IF(U333=1,_xlfn.TEXTJOIN(\";\",1,IF(Z333=\"\",A333+1,Z333),IF(AND(AA333<>\"\",AC333=\"\"),A333+1,AC333)),IF(U333=2,Y333,\"\"))","v":""},{"$f":"_xlfn.TEXTJOIN(\";\",1,X333,AA333)","v":""},"",null,null,"",{"$nulls":4},{"$f":"IF(A333=\"\",\"\",IF(ISNUMBER(Y333),2,IF(A334=\"\",IF(OR(AH333>0,VLOOKUP(O333,EventConfig!A:C,3,FALSE)=4),3,\"\"),1)))","v":1},1002714,{"$f":"A337","v":1002714},5377]
[1002711,5370,"小麻雀的幻影","",{"$nulls":5},115,{"$f":"IF(J334=\"\",\"\",VLOOKUP(J334,EventNPC!A:E,5,FALSE))","v":"小麻雀幻影"},5378,"（扑腾翅膀开心）“哈哈，终于有人同意我了！那你干脆留下来，我陪你一起玩，何必四处奔波",null,10027,11,"",null,null,{"$f":"IF(R334=\"\",\"\",\"-\"&VLOOKUP(R334,EventConditionConfig!A:C,3,FALSE)&IF(S334=\"\",\"\",CHAR(10)&\"-\"&VLOOKUP(S334,EventConditionConfig!A:C,3,FALSE)))","v":""},"","","","",null,null,"",{"$nulls":4},{"$f":"IF(A334=\"\",\"\",IF(ISNUMBER(Y334),2,IF(A335=\"\",IF(OR(AH334>0,VLOOKUP(O334,EventConfig!A:C,3,FALSE)=4),3,\"\"),1)))","v":1},{"$f":"IF(AF334=\"\",\"\",CHOOSE(AF334,IF(AH334=\"\",A334+1,AH334),CONCATENATE(IF(AH334=\"\",A334+1,AH334),\";101\"),IF(AH334=\"\",O334+1,AH334)))","v":1002712},null,5378]
[{"$f":"O335*100+P335","v":1002712},5370,"小麻雀的幻影","",{"$nulls":5},100,{"$f":"IF(J335=\"\",\"\",VLOOKUP(J335,EventNPC!A:E,5,FALSE))","v":"玩家"},5379,"你的说法有点道理，树上的自在倒也不错……",null,10027,12,{"$f":"_xlfn.TEXTJOIN(\";\",1,R335:S335)","v":""},null,null,{"$f":"IF(R335=\"\",\"\",\"-\"&VLOOKUP(R335,EventConditionConfig!A:C,3,FALSE)&IF(S335=\"\",\"\",CHAR(10)&\"-\"&VLOOKUP(S335,EventConditionConfig!A:C,3,FALSE)))","v":""},{"$f":"IF(Y335=\"\",\"\",IF(ISTEXT(Y335),1,2))","v":""},{"$f":"IF(U335=1,_xlfn.TEXTJOIN(\";\",1,IF(Z335=\"\",A335+1,Z335),IF(AND(AA335<>\"\",AC335=\"\"),A335+1,AC335)),IF(U335=2,Y335,\"\"))","v":""},{"$f":"_xlfn.TEXTJOIN(\";\",1,X335,AA335)","v":""},"",null,null,"",{"$nulls":4},{"$f":"IF(A335=\"\",\"\",IF(ISNUMBER(Y335),2,IF(A336=\"\",IF(OR(AH335>0,VLOOKUP(O335,EventConfig!A:C,3,FALSE)=4),3,\"\"),1)))","v":1},1002713,null,5379]
[{"$f":"O336*100+P336","v":1002713},5370,"小麻雀的幻影","",{"$nulls":5},100,{"$f":"IF(J336=\"\",\"\",VLOOKUP(J336,EventNPC!A:E,5,FALSE))","v":"玩家"},5380,"但我还是想亲眼去看看外面的天地，哪怕有点冒险也无妨！",null,10027,13,{"$f":"_xlfn.TEXTJOIN(\";\",1,R336:S336)","v":""},null,null,{"$f":"IF(R336=\"\",\"\",\"-\"&VLOOKUP(R336,EventConditionConfig!A:C,3,FALSE)&IF(S336=\"\",\"\",CHAR(10)&\"-\"&VLOOKUP(S336,EventConditionConfig!A:C,3,FALSE)))","v":""},{"$f":"IF(Y336=\"\",\"\",IF(ISTEXT(Y336),1,2))","v":""},{"$f":"IF(U336=1,_xlfn.TEXTJOIN(\";\",1,IF(Z336=\"\",A336+1,Z336),IF(AND(AA336<>\"\",AC336=\"\"),A336+1,AC336)),IF(U336=2,Y336,\"\"))","v":""},{"$f":"_xlfn.TEXTJOIN(\";\",1,X336,AA336)","v":""},"",null,null,"",{"$nulls":4},{"$f":"IF(A336=\"\",\"\",IF(ISNUMBER(Y336),2,IF(A337=\"\",IF(OR(AH336>0,VLOOKUP(O336,EventConfig!A:C,3,FALSE)=4),3,\"\"),1)))","v":1},1002714,null,5380]
[1002714,5370,"小麻雀的幻影","",{"$nulls":5},115,{"$f":"IF(J337=\"\",\"\",VLOOKUP(J337,EventNPC!A:E,5,FALSE))","v":"小麻雀幻影"},5381,"（翅膀扇起雾气）既然你这么顽固，那我就不客气了！",null,10027,14,"",null,null,{"$f":"IF(R337=\"\",\"\",\"-\"&VLOOKUP(R337,EventConditionConfig!A:C,3,FALSE)&IF(S337=\"\",\"\",CHAR(10)&\"-\"&VLOOKUP(S337,EventConditionConfig!A:C,3,FALSE)))","v":""},1,"1002715","5382",5382,"来吧，别再叽叽喳喳了！",null,"",{"$nulls":4},{"$f":"IF(A337=\"\",\"\",IF(ISNUMBER(Y337),2,IF(A338=\"\",IF(OR(AH337>0,VLOOKUP(O337,EventConfig!A:C,3,FALSE)=4),3,\"\"),1)))","v":1},1002715,null,5382]
[{"$f":"O338*100+P338","v":1002715},5370,"小麻雀的幻影","",{"$nulls":6},{"$f":"IF(J338=\"\",\"\",VLOOKUP(J338,EventNPC!A:E,5,FALSE))","v":""},5383,"雾气凝聚，小麻雀幻影化作灵光扑来，战斗一触即发。",null,10027,15,{"$f":"_xlfn.TEXTJOIN(\";\",1,R338:S338)","v":""},null,null,{"$f":"IF(R338=\"\",\"\",\"-\"&VLOOKUP(R338,EventConditionConfig!A:C,3,FALSE)&IF(S338=\"\",\"\",CHAR(10)&\"-\"&VLOOKUP(S338,EventConditionConfig!A:C,3,FALSE)))","v":""},{"$f":"IF(Y338=\"\",\"\",IF(ISTEXT(Y338),1,2))","v":2},{"$f":"IF(U338=1,_xlfn.TEXTJOIN(\";\",1,IF(Z338=\"\",A338+1,Z338),IF(AND(AA338<>\"\",AC338=\"\"),A338+1,AC338)),IF(U338=2,Y338,\"\"))","v":1010},{"$f":"_xlfn.TEXTJOIN(\";\",1,X338,AA338)","v":""},"",1010,null,"",{"$nulls":4},{"$f":"IF(A338=\"\",\"\",IF(ISNUMBER(Y338),2,IF(A339=\"\",IF(OR(AH338>0,VLOOKUP(O338,EventConfig!A:C,3,FALSE)=4),3,\"\"),1)))","v":2},"1002716;101",null,5383]
[{"$f":"O339*100+P339","v":1002716},5384,"痴道人的幻影","",{"$nulls":5},116,{"$f":"IF(J339=\"\",\"\",VLOOKUP(J339,EventNPC!A:E,5,FALSE))","v":"痴道人幻影"},5385,"苦修一生，却寸步难行……何不就此止步？外面的世界，不过镜花水月罢了",null,10027,16,{"$f":"_xlfn.TEXTJOIN(\";\",1,R339:S339)","v":""},null,null,{"$f":"IF(R339=\"\",\"\",\"-\"&VLOOKUP(R339,EventConditionConfig!A:C,3,FALSE)&IF(S339=\"\",\"\",CHAR(10)&\"-\"&VLOOKUP(S339,EventConditionConfig!A:C,3,FALSE)))","v":""},{"$f":"IF(Y339=\"\",\"\",IF(ISTEXT(Y339),1,2))","v":1},{"$f":"IF(U339=1,_xlfn.TEXTJOIN(\";\",1,IF(Z339=\"\",A339+1,Z339),IF(AND(AA339<>\"\",AC339=\"\"),A339+1,AC339)),IF(U339=2,Y339,\"\"))","v":"1002717;1002719"},{"$f":"_xlfn.TEXTJOIN(\";\",1,X339,AA339)","v":"5386;5387"},5386,"停步等于自缚，前行才能解脱！",null,5387,"听你师兄说，真正的束缚来自内心，为何不放过自己？",{"$f":"A342","v":1002719},null,null,{"$f":"IF(A339=\"\",\"\",IF(ISNUMBER(Y339),2,IF(A340=\"\",IF(OR(AH339>0,VLOOKUP(O339,EventConfig!A:C,3,FALSE)=4),3,\"\"),1)))","v":1},1002717,null,5387]
[1002717,5384,"痴道人的幻影","",{"$nulls":5},116,{"$f":"IF(J340=\"\",\"\",VLOOKUP(J340,EventNPC!A:E,5,FALSE))","v":"痴道人幻影"},5388,"（苦笑摇头）解脱？当年我也以为前行就能解脱，结果越走越累，越累越想停。你又怎知不会步我后尘？",null,10027,17,"",null,null,{"$f":"IF(R340=\"\",\"\",\"-\"&VLOOKUP(R340,EventConditionConfig!A:C,3,FALSE)&IF(S340=\"\",\"\",CHAR(10)&\"-\"&VLOOKUP(S340,EventConditionConfig!A:C,3,FALSE)))","v":""},"","","","",null,null,"",{"$nulls":4},{"$f":"IF(A340=\"\",\"\",IF(ISNUMBER(Y340),2,IF(A341=\"\",IF(OR(AH340>0,VLOOKUP(O340,EventConfig!A:C,3,FALSE)=4),3,\"\"),1)))","v":1},1002718,null,5388]
[{"$f":"O341*100+P341","v":1002718},5384,"痴道人的幻影","",{"$nulls":5},100,{"$f":"IF(J341=\"\",\"\",VLOOKUP(J341,EventNPC!A:E,5,FALSE))","v":"玩家"},5389,"如果不走，怎么知道前方不是柳暗花明？\n停在这里，只会让心越来越沉重。",null,10027,18,{"$f":"_xlfn.TEXTJOIN(\";\",1,R341:S341)","v":""},null,null,{"$f":"IF(R341=\"\",\"\",\"-\"&VLOOKUP(R341,EventConditionConfig!A:C,3,FALSE)&IF(S341=\"\",\"\",CHAR(10)&\"-\"&VLOOKUP(S341,EventConditionConfig!A:C,3,FALSE)))","v":""},{"$f":"IF(Y341=\"\",\"\",IF(ISTEXT(Y341),1,2))","v":""},{"$f":"IF(U341=1,_xlfn.TEXTJOIN(\";\",1,IF(Z341=\"\",A341+1,Z341),IF(AND(AA341<>\"\",AC341=\"\"),A341+1,AC341)),IF(U341=2,Y341,\"\"))","v":""},{"$f":"_xlfn.TEXTJOIN(\";\",1,X341,AA341)","v":""},"",null,null,"",{"$nulls":4},{"$f":"IF(A341=\"\",\"\",IF(ISNUMBER(Y341),2,IF(A342=\"\",IF(OR(AH341>0,VLOOKUP(O341,EventConfig!A:C,3,FALSE)=4),3,\"\"),1)))","v":1},1002721,{"$f":"A344","v":1002721},5389]
[{"$f":"O342*100+P342","v":1002719},5384,"痴道人的幻影","",{"$nulls":5},116,{"$f":"IF(J342=\"\",\"\",VLOOKUP(J342,EventNPC!A:E,5,FALSE))","v":"痴道人幻影"},5390,"师兄总是这么说，可这风灵珠和浮岛，是我最后的依靠。\n离开它们，我就能找到出路？",null,10027,19,{"$f":"_xlfn.TEXTJOIN(\";\",1,R342:S342)","v":""},null,null,{"$f":"IF(R342=\"\",\"\",\"-\"&VLOOKUP(R342,EventConditionConfig!A:C,3,FALSE)&IF(S342=\"\",\"\",CHAR(10)&\"-\"&VLOOKUP(S342,EventConditionConfig!A:C,3,FALSE)))","v":""},{"$f":"IF(Y342=\"\",\"\",IF(ISTEXT(Y342),1,2))","v":""},{"$f":"IF(U342=1,_xlfn.TEXTJOIN(\";\",1,IF(Z342=\"\",A342+1,Z342),IF(AND(AA342<>\"\",AC342=\"\"),A342+1,AC342)),IF(U342=2,Y342,\"\"))","v":""},{"$f":"_xlfn.TEXTJOIN(\";\",1,X342,AA342)","v":""},"",null,null,"",{"$nulls":4},{"$f":"IF(A342=\"\",\"\",IF(ISNUMBER(Y342),2,IF(A343=\"\",IF(OR(AH342>0,VLOOKUP(O342,EventConfig!A:C,3,FALSE)=4),3,\"\"),1)))","v":1},1002720,null,5390]
[1002720,5384,"痴道人的幻影","",{"$nulls":5},100,{"$f":"IF(J343=\"\",\"\",VLOOKUP(J343,EventNPC!A:E,5,FALSE))","v":"玩家"},5391,"这些不过是外物，离开会让你更好——何不试着放下？",null,10027,20,"",null,null,{"$f":"IF(R343=\"\",\"\",\"-\"&VLOOKUP(R343,EventConditionConfig!A:C,3,FALSE)&IF(S343=\"\",\"\",CHAR(10)&\"-\"&VLOOKUP(S343,EventConditionConfig!A:C,3,FALSE)))","v":""},"","","","",null,null,"",{"$nulls":4},{"$f":"IF(A343=\"\",\"\",IF(ISNUMBER(Y343),2,IF(A344=\"\",IF(OR(AH343>0,VLOOKUP(O343,EventConfig!A:C,3,FALSE)=4),3,\"\"),1)))","v":1},1002721,null,5391]
[{"$f":"O344*100+P344","v":1002721},5384,"痴道人的幻影","",{"$nulls":5},116,{"$f":"IF(J344=\"\",\"\",VLOOKUP(J344,EventNPC!A:E,5,FALSE))","v":"痴道人幻影"},5392,"（灵力涌动）一派胡言，试试我的风灵之力！",null,10027,21,{"$f":"_xlfn.TEXTJOIN(\";\",1,R344:S344)","v":""},null,null,{"$f":"IF(R344=\"\",\"\",\"-\"&VLOOKUP(R344,EventConditionConfig!A:C,3,FALSE)&IF(S344=\"\",\"\",CHAR(10)&\"-\"&VLOOKUP(S344,EventConditionConfig!A:C,3,FALSE)))","v":""},{"$f":"IF(Y344=\"\",\"\",IF(ISTEXT(Y344),1,2))","v":2},{"$f":"IF(U344=1,_xlfn.TEXTJOIN(\";\",1,IF(Z344=\"\",A344+1,Z344),IF(AND(AA344<>\"\",AC344=\"\"),A344+1,AC344)),IF(U344=2,Y344,\"\"))","v":1011},{"$f":"_xlfn.TEXTJOIN(\";\",1,X344,AA344)","v":""},"",1011,null,"",{"$nulls":4},{"$f":"IF(A344=\"\",\"\",IF(ISNUMBER(Y344),2,IF(A345=\"\",IF(OR(AH344>0,VLOOKUP(O344,EventConfig!A:C,3,FALSE)=4),3,\"\"),1)))","v":2},"1002722;101",null,5392]
[1002722,5393,"樗木之灵的幻影","",{"$nulls":5},117,{"$f":"IF(J345=\"\",\"\",VLOOKUP(J345,EventNPC!A:E,5,FALSE))","v":"樗木之灵幻影"},5394,"无用方能长存，你这忙碌之人，何不学我静立？",null,10027,22,"",null,null,{"$f":"IF(R345=\"\",\"\",\"-\"&VLOOKUP(R345,EventConditionConfig!A:C,3,FALSE)&IF(S345=\"\",\"\",CHAR(10)&\"-\"&VLOOKUP(S345,EventConditionConfig!A:C,3,FALSE)))","v":""},1,"1002723","5395",5395,"你有你的无用之道，但我有我的路。",null,"",{"$nulls":4},{"$f":"IF(A345=\"\",\"\",IF(ISNUMBER(Y345),2,IF(A346=\"\",IF(OR(AH345>0,VLOOKUP(O345,EventConfig!A:C,3,FALSE)=4),3,\"\"),1)))","v":1},1002723,null,5395]
[{"$f":"O346*100+P346","v":1002723},5393,"樗木之灵的幻影","",{"$nulls":5},117,{"$f":"IF(J346=\"\",\"\",VLOOKUP(J346,EventNPC!A:E,5,FALSE))","v":"樗木之灵幻影"},5396,"（枝叶轻摇）你的路？忙忙碌碌，砍来伐去，到头来还不是尘土。",null,10027,23,{"$f":"_xlfn.TEXTJOIN(\";\",1,R346:S346)","v":""},null,null,{"$f":"IF(R346=\"\",\"\",\"-\"&VLOOKUP(R346,EventConditionConfig!A:C,3,FALSE)&IF(S346=\"\",\"\",CHAR(10)&\"-\"&VLOOKUP(S346,EventConditionConfig!A:C,3,FALSE)))","v":""},{"$f":"IF(Y346=\"\",\"\",IF(ISTEXT(Y346),1,2))","v":""},{"$f":"IF(U346=1,_xlfn.TEXTJOIN(\";\",1,IF(Z346=\"\",A346+1,Z346),IF(AND(AA346<>\"\",AC346=\"\"),A346+1,AC346)),IF(U346=2,Y346,\"\"))","v":""},{"$f":"_xlfn.TEXTJOIN(\";\",1,X346,AA346)","v":""},"",null,null,"",{"$nulls":4},{"$f":"IF(A346=\"\",\"\",IF(ISNUMBER(Y346),2,IF(A347=\"\",IF(OR(AH346>0,VLOOKUP(O346,EventConfig!A:C,3,FALSE)=4),3,\"\"),1)))","v":1},1002724,null,5396]
[{"$f":"O347*100+P347","v":1002724},5393,"樗木之灵的幻影","",{"$nulls":5},117,{"$f":"IF(J347=\"\",\"\",VLOOKUP(J347,EventNPC!A:E,5,FALSE))","v":"樗木之灵幻影"},5397,"像我这样无用，谁也不会动我。",null,10027,24,{"$f":"_xlfn.TEXTJOIN(\";\",1,R347:S347)","v":""},null,null,{"$f":"IF(R347=\"\",\"\",\"-\"&VLOOKUP(R347,EventConditionConfig!A:C,3,FALSE)&IF(S347=\"\",\"\",CHAR(10)&\"-\"&VLOOKUP(S347,EventConditionConfig!A:C,3,FALSE)))","v":""},{"$f":"IF(Y347=\"\",\"\",IF(ISTEXT(Y347),1,2))","v":""},{"$f":"IF(U347=1,_xlfn.TEXTJOIN(\";\",1,IF(Z347=\"\",A347+1,Z347),IF(AND(AA347<>\"\",AC347=\"\"),A347+1,AC347)),IF(U347=2,Y347,\"\"))","v":""},{"$f":"_xlfn.TEXTJOIN(\";\",1,X347,AA347)","v":""},"",null,null,"",{"$nulls":4},{"$f":"IF(A347=\"\",\"\",IF(ISNUMBER(Y347),2,IF(A348=\"\",IF(OR(AH347>0,VLOOKUP(O347,EventConfig!A:C,3,FALSE)=4),3,\"\"),1)))","v":1},1002725,null,5397]
[{"$f":"O348*100+P348","v":1002725},5393,"樗木之灵的幻影","",{"$nulls":5},100,{"$f":"IF(J348=\"\",\"\",VLOOKUP(J348,EventNPC!A:E,5,FALSE))","v":"玩家"},5398,"无用或许能长存，但千年不动，你又错过了多少风景？",null,10027,25,{"$f":"_xlfn.TEXTJOIN(\";\",1,R348:S348)","v":""},null,null,{"$f":"IF(R348=\"\",\"\",\"-\"&VLOOKUP(R348,EventConditionConfig!A:C,3,FALSE)&IF(S348=\"\",\"\",CHAR(10)&\"-\"&VLOOKUP(S348,EventConditionConfig!A:C,3,FALSE)))","v":""},{"$f":"IF(Y348=\"\",\"\",IF(ISTEXT(Y348),1,2))","v":""},{"$f":"IF(U348=1,_xlfn.TEXTJOIN(\";\",1,IF(Z348=\"\",A348+1,Z348),IF(AND(AA348<>\"\",AC348=\"\"),A348+1,AC348)),IF(U348=2,Y348,\"\"))","v":""},{"$f":"_xlfn.TEXTJOIN(\";\",1,X348,AA348)","v":""},"",null,null,"",{"$nulls":4},{"$f":"IF(A348=\"\",\"\",IF(ISNUMBER(Y348),2,IF(A349=\"\",IF(OR(AH348>0,VLOOKUP(O348,EventConfig!A:C,3,FALSE)=4),3,\"\"),1)))","v":1},1002726,null,5398]
[{"$f":"O349*100+P349","v":1002726},5393,"樗木之灵的幻影","",{"$nulls":5},117,{"$f":"IF(J349=\"\",\"\",VLOOKUP(J349,EventNPC!A:E,5,FALSE))","v":"樗木之灵幻影"},5399,"哈哈，我已活千年，经历山河变迁，见过的风景又岂能是你所能想象的。",null,10027,26,{"$f":"_xlfn.TEXTJOIN(\";\",1,R349:S349)","v":""},null,null,{"$f":"IF(R349=\"\",\"\",\"-\"&VLOOKUP(R349,EventConditionConfig!A:C,3,FALSE)&IF(S349=\"\",\"\",CHAR(10)&\"-\"&VLOOKUP(S349,EventConditionConfig!A:C,3,FALSE)))","v":""},{"$f":"IF(Y349=\"\",\"\",IF(ISTEXT(Y349),1,2))","v":""},{"$f":"IF(U349=1,_xlfn.TEXTJOIN(\";\",1,IF(Z349=\"\",A349+1,Z349),IF(AND(AA349<>\"\",AC349=\"\"),A349+1,AC349)),IF(U349=2,Y349,\"\"))","v":""},{"$f":"_xlfn.TEXTJOIN(\";\",1,X349,AA349)","v":""},"",null,null,"",{"$nulls":4},{"$f":"IF(A349=\"\",\"\",IF(ISNUMBER(Y349),2,IF(A350=\"\",IF(OR(AH349>0,VLOOKUP(O349,EventConfig!A:C,3,FALSE)=4),3,\"\"),1)))","v":1},1002727,null,5399]
[1002727,5393,"樗木之灵的幻影","",{"$nulls":5},100,{"$f":"IF(J350=\"\",\"\",VLOOKUP(J350,EventNPC!A:E,5,FALSE))","v":"玩家"},5400,"但我想去探索未知——就算短暂，也比千年不动更有趣！",null,10027,27,"",null,null,{"$f":"IF(R350=\"\",\"\",\"-\"&VLOOKUP(R350,EventConditionConfig!A:C,3,FALSE)&IF(S350=\"\",\"\",CHAR(10)&\"-\"&VLOOKUP(S350,EventConditionConfig!A:C,3,FALSE)))","v":""},"","","","",null,null,"",{"$nulls":4},{"$f":"IF(A350=\"\",\"\",IF(ISNUMBER(Y350),2,IF(A351=\"\",IF(OR(AH350>0,VLOOKUP(O350,EventConfig!A:C,3,FALSE)=4),3,\"\"),1)))","v":1},1002728,null,5400]
[{"$f":"O351*100+P351","v":1002728},5393,"樗木之灵的幻影","",{"$nulls":5},117,{"$f":"IF(J351=\"\",\"\",VLOOKUP(J351,EventNPC!A:E,5,FALSE))","v":"樗木之灵幻影"},5401,"哎，你真是执迷不悟",null,10027,28,{"$f":"_xlfn.TEXTJOIN(\";\",1,R351:S351)","v":""},null,null,{"$f":"IF(R351=\"\",\"\",\"-\"&VLOOKUP(R351,EventConditionConfig!A:C,3,FALSE)&IF(S351=\"\",\"\",CHAR(10)&\"-\"&VLOOKUP(S351,EventConditionConfig!A:C,3,FALSE)))","v":""},{"$f":"IF(Y351=\"\",\"\",IF(ISTEXT(Y351),1,2))","v":""},{"$f":"IF(U351=1,_xlfn.TEXTJOIN(\";\",1,IF(Z351=\"\",A351+1,Z351),IF(AND(AA351<>\"\",AC351=\"\"),A351+1,AC351)),IF(U351=2,Y351,\"\"))","v":""},{"$f":"_xlfn.TEXTJOIN(\";\",1,X351,AA351)","v":""},"",null,null,"",{"$nulls":4},{"$f":"IF(A351=\"\",\"\",IF(ISNUMBER(Y351),2,IF(A352=\"\",IF(OR(AH351>0,VLOOKUP(O351,EventConfig!A:C,3,FALSE)=4),3,\"\"),1)))","v":1},1002729,null,5401]
[1002729,5393,"樗木之灵的幻影","",{"$nulls":5},100,{"$f":"IF(J352=\"\",\"\",VLOOKUP(J352,EventNPC!A:E,5,FALSE))","v":"玩家"},5402,"（这些幻影……定然是阵法在作祟。）\n看来不打败它们，就过不去这迷雾了。",null,10027,29,"",null,null,{"$f":"IF(R352=\"\",\"\",\"-\"&VLOOKUP(R352,EventConditionConfig!A:C,3,FALSE)&IF(S352=\"\",\"\",CHAR(10)&\"-\"&VLOOKUP(S352,EventConditionConfig!A:C,3,FALSE)))","v":""},2,1012,"","",1012,null,"",{"$nulls":4},{"$f":"IF(A352=\"\",\"\",IF(ISNUMBER(Y352),2,IF(A353=\"\",IF(OR(AH352>0,VLOOKUP(O352,EventConfig!A:C,3,FALSE)=4),3,\"\"),1)))","v":2},"1002730;101",null,5402]
[1002730,5393,"樗木之灵的幻影","",{"$nulls":5},100,{"$f":"IF(J353=\"\",\"\",VLOOKUP(J353,EventNPC!A:E,5,FALSE))","v":"玩家"},5403,"雾散了……前方山路清晰了许多。",null,10027,30,"",null,null,{"$f":"IF(R353=\"\",\"\",\"-\"&VLOOKUP(R353,EventConditionConfig!A:C,3,FALSE)&IF(S353=\"\",\"\",CHAR(10)&\"-\"&VLOOKUP(S353,EventConditionConfig!A:C,3,FALSE)))","v":""},"","","","",null,null,"",{"$nulls":4},{"$f":"IF(A353=\"\",\"\",IF(ISNUMBER(Y353),2,IF(A354=\"\",IF(OR(AH353>0,VLOOKUP(O353,EventConfig!A:C,3,FALSE)=4),3,\"\"),1)))","v":1},1002731,null,5403]
[{"$f":"O354*100+P354","v":1002731},5393,"樗木之灵的幻影","",{"$nulls":5},100,{"$f":"IF(J354=\"\",\"\",VLOOKUP(J354,EventNPC!A:E,5,FALSE))","v":"玩家"},5404,"小麻雀嘲笑远飞无用，只求树间的小乐；",null,10027,31,{"$f":"_xlfn.TEXTJOIN(\";\",1,R354:S354)","v":""},null,null,{"$f":"IF(R354=\"\",\"\",\"-\"&VLOOKUP(R354,EventConditionConfig!A:C,3,FALSE)&IF(S354=\"\",\"\",CHAR(10)&\"-\"&VLOOKUP(S354,EventConditionConfig!A:C,3,FALSE)))","v":""},{"$f":"IF(Y354=\"\",\"\",IF(ISTEXT(Y354),1,2))","v":""},{"$f":"IF(U354=1,_xlfn.TEXTJOIN(\";\",1,IF(Z354=\"\",A354+1,Z354),IF(AND(AA354<>\"\",AC354=\"\"),A354+1,AC354)),IF(U354=2,Y354,\"\"))","v":""},{"$f":"_xlfn.TEXTJOIN(\";\",1,X354,AA354)","v":""},"",null,null,"",{"$nulls":4},{"$f":"IF(A354=\"\",\"\",IF(ISNUMBER(Y354),2,IF(A355=\"\",IF(OR(AH354>0,VLOOKUP(O354,EventConfig!A:C,3,FALSE)=4),3,\"\"),1)))","v":1},1002732,null,5404]
[{"$f":"O355*100+P355","v":1002732},5393,"樗木之灵的幻影","",{"$nulls":5},100,{"$f":"IF(J355=\"\",\"\",VLOOKUP(J355,EventNPC!A:E,5,FALSE))","v":"玩家"},5405,"疯道人叹息苦修难进，劝我守住当下；",null,10027,32,{"$f":"_xlfn.TEXTJOIN(\";\",1,R355:S355)","v":""},null,null,{"$f":"IF(R355=\"\",\"\",\"-\"&VLOOKUP(R355,EventConditionConfig!A:C,3,FALSE)&IF(S355=\"\",\"\",CHAR(10)&\"-\"&VLOOKUP(S355,EventConditionConfig!A:C,3,FALSE)))","v":""},{"$f":"IF(Y355=\"\",\"\",IF(ISTEXT(Y355),1,2))","v":""},{"$f":"IF(U355=1,_xlfn.TEXTJOIN(\";\",1,IF(Z355=\"\",A355+1,Z355),IF(AND(AA355<>\"\",AC355=\"\"),A355+1,AC355)),IF(U355=2,Y355,\"\"))","v":""},{"$f":"_xlfn.TEXTJOIN(\";\",1,X355,AA355)","v":""},"",null,null,"",{"$nulls":4},{"$f":"IF(A355=\"\",\"\",IF(ISNUMBER(Y355),2,IF(A356=\"\",IF(OR(AH355>0,VLOOKUP(O355,EventConfig!A:C,3,FALSE)=4),3,\"\"),1)))","v":1},1002733,null,5405]
[{"$f":"O356*100+P356","v":1002733},5393,"樗木之灵的幻影","",{"$nulls":5},100,{"$f":"IF(J356=\"\",\"\",VLOOKUP(J356,EventNPC!A:E,5,FALSE))","v":"玩家"},5406,"樗木之灵诉说无用才能长存，忙碌总归尘土。",null,10027,33,{"$f":"_xlfn.TEXTJOIN(\";\",1,R356:S356)","v":""},null,null,{"$f":"IF(R356=\"\",\"\",\"-\"&VLOOKUP(R356,EventConditionConfig!A:C,3,FALSE)&IF(S356=\"\",\"\",CHAR(10)&\"-\"&VLOOKUP(S356,EventConditionConfig!A:C,3,FALSE)))","v":""},{"$f":"IF(Y356=\"\",\"\",IF(ISTEXT(Y356),1,2))","v":""},{"$f":"IF(U356=1,_xlfn.TEXTJOIN(\";\",1,IF(Z356=\"\",A356+1,Z356),IF(AND(AA356<>\"\",AC356=\"\"),A356+1,AC356)),IF(U356=2,Y356,\"\"))","v":""},{"$f":"_xlfn.TEXTJOIN(\";\",1,X356,AA356)","v":""},"",null,null,"",{"$nulls":4},{"$f":"IF(A356=\"\",\"\",IF(ISNUMBER(Y356),2,IF(A357=\"\",IF(OR(AH356>0,VLOOKUP(O356,EventConfig!A:C,3,FALSE)=4),3,\"\"),1)))","v":1},1002734,null,5406]
[{"$f":"O357*100+P357","v":1002734},5393,"樗木之灵的幻影","",{"$nulls":5},100,{"$f":"IF(J357=\"\",\"\",VLOOKUP(J357,EventNPC!A:E,5,FALSE))","v":"玩家"},5407,"听着都有些道理，却又说不清哪里不对，令我心神不宁！!",null,10027,34,{"$f":"_xlfn.TEXTJOIN(\";\",1,R357:S357)","v":""},null,null,{"$f":"IF(R357=\"\",\"\",\"-\"&VLOOKUP(R357,EventConditionConfig!A:C,3,FALSE)&IF(S357=\"\",\"\",CHAR(10)&\"-\"&VLOOKUP(S357,EventConditionConfig!A:C,3,FALSE)))","v":""},{"$f":"IF(Y357=\"\",\"\",IF(ISTEXT(Y357),1,2))","v":""},{"$f":"IF(U357=1,_xlfn.TEXTJOIN(\";\",1,IF(Z357=\"\",A357+1,Z357),IF(AND(AA357<>\"\",AC357=\"\"),A357+1,AC357)),IF(U357=2,Y357,\"\"))","v":""},{"$f":"_xlfn.TEXTJOIN(\";\",1,X357,AA357)","v":""},"",null,null,"",{"$nulls":4},{"$f":"IF(A357=\"\",\"\",IF(ISNUMBER(Y357),2,IF(A358=\"\",IF(OR(AH357>0,VLOOKUP(O357,EventConfig!A:C,3,FALSE)=4),3,\"\"),1)))","v":1},1002735,null,5407]
[{"$f":"O358*100+P358","v":1002735},5393,"樗木之灵的幻影","",{"$nulls":5},100,{"$f":"IF(J358=\"\",\"\",VLOOKUP(J358,EventNPC!A:E,5,FALSE))","v":"玩家"},5408,"我的修仙之路，到底在何方啊？",null,10027,35,{"$f":"_xlfn.TEXTJOIN(\";\",1,R358:S358)","v":""},null,null,{"$f":"IF(R358=\"\",\"\",\"-\"&VLOOKUP(R358,EventConditionConfig!A:C,3,FALSE)&IF(S358=\"\",\"\",CHAR(10)&\"-\"&VLOOKUP(S358,EventConditionConfig!A:C,3,FALSE)))","v":""},{"$f":"IF(Y358=\"\",\"\",IF(ISTEXT(Y358),1,2))","v":""},{"$f":"IF(U358=1,_xlfn.TEXTJOIN(\";\",1,IF(Z358=\"\",A358+1,Z358),IF(AND(AA358<>\"\",AC358=\"\"),A358+1,AC358)),IF(U358=2,Y358,\"\"))","v":""},{"$f":"_xlfn.TEXTJOIN(\";\",1,X358,AA358)","v":""},"",null,null,"",{"$nulls":4},{"$f":"IF(A358=\"\",\"\",IF(ISNUMBER(Y358),2,IF(A359=\"\",IF(OR(AH358>0,VLOOKUP(O358,EventConfig!A:C,3,FALSE)=4),3,\"\"),1)))","v":1},1002736,null,5408]
[1002736,5393,"樗木之灵的幻影","",{"$nulls":6},{"$f":"IF(J359=\"\",\"\",VLOOKUP(J359,EventNPC!A:E,5,FALSE))","v":""},"",null,null,10027,36,"32",32,null,{"$f":"IF(R359=\"\",\"\",\"-\"&VLOOKUP(R359,EventConditionConfig!A:C,3,FALSE)&IF(S359=\"\",\"\",CHAR(10)&\"-\"&VLOOKUP(S359,EventConditionConfig!A:C,3,FALSE)))","v":"-达到境界：化神-前期"},{"$f":"IF(Y359=\"\",\"\",1)","v":""},{"$f":"IF(U359=1,A399,\"\")","v":""},"","",null,null,"",{"$nulls":4},{"$f":"IF(A359=\"\",\"\",IF(ISNUMBER(Y359),2,IF(A360=\"\",IF(OR(AH359>0,VLOOKUP(O359,EventConfig!A:C,3,FALSE)=4),3,\"\"),1)))","v":3},10028,null,5408]
[null,"",null,"",{"$nulls":7},"",null,null,null,"",{"$nulls":7},"",null,null,"",{"$nulls":4},{"$f":"IF(A360=\"\",\"\",IF(ISNUMBER(Y360),2,IF(A361=\"\",IF(OR(AH360>0,VLOOKUP(O360,EventConfig!A:C,3,FALSE)=4),3,\"\"),1)))","v":""},"",null,""]
[{"$f":"O361*100+P361","v":1002801},5409,"神识探索的奥秘","",{"$nulls":6},{"$f":"IF(J361=\"\",\"\",VLOOKUP(J361,EventNPC!A:E,5,FALSE))","v":""},"",null,null,{"$f":"IF(O360=\"\",O358+1,O360)","v":10028},1,{"$f":"_xlfn.TEXTJOIN(\";\",1,R361:S361)","v":"27"},27,null,{"$f":"IF(R361=\"\",\"\",\"-\"&VLOOKUP(R361,EventConditionConfig!A:C,3,FALSE)&IF(S361=\"\",\"\",CHAR(10)&\"-\"&VLOOKUP(S361,EventConditionConfig!A:C,3,FALSE)))","v":"-收集并饮用甘露"},{"$f":"IF(Y361=\"\",\"\",IF(ISTEXT(Y361),1,2))","v":""},{"$f":"IF(U361=1,_xlfn.TEXTJOIN(\";\",1,IF(Z361=\"\",A361+1,Z361),IF(AND(AA361<>\"\",AC361=\"\"),A361+1,AC361)),IF(U361=2,Y361,\"\"))","v":""},{"$f":"_xlfn.TEXTJOIN(\";\",1,X361,AA361)","v":""},"",null,null,"",null,null,1003,-1000,{"$f":"IF(A361=\"\",\"\",IF(ISNUMBER(Y361),2,IF(A362=\"\",IF(OR(AH361>0,VLOOKUP(O361,EventConfig!A:C,3,FALSE)=4),3,\"\"),1)))","v":3},10029,null,5409]
[null,"",null,"",{"$nulls":7},"",null,null,null,"",{"$nulls":7},"",null,null,"",{"$nulls":4},{"$f":"IF(A362=\"\",\"\",IF(ISNUMBER(Y362),2,IF(A363=\"\",IF(OR(AH362>0,VLOOKUP(O362,EventConfig!A:C,3,FALSE)=4),3,\"\"),1)))","v":""},"",null,""]
[{"$f":"O363*100+P363","v":1002901},5410,"与神仙对话","",{"$nulls":6},{"$f":"IF(J363=\"\",\"\",VLOOKUP(J363,EventNPC!A:E,5,FALSE))","v":""},5411,"你终于登顶藐姑射山。",null,10029,1,{"$f":"_xlfn.TEXTJOIN(\";\",1,R363:S363)","v":""},null,null,{"$f":"IF(R363=\"\",\"\",\"-\"&VLOOKUP(R363,EventConditionConfig!A:C,3,FALSE)&IF(S363=\"\",\"\",CHAR(10)&\"-\"&VLOOKUP(S363,EventConditionConfig!A:C,3,FALSE)))","v":""},{"$f":"IF(Y363=\"\",\"\",IF(ISTEXT(Y363),1,2))","v":""},{"$f":"IF(U363=1,_xlfn.TEXTJOIN(\";\",1,IF(Z363=\"\",A363+1,Z363),IF(AND(AA363<>\"\",AC363=\"\"),A363+1,AC363)),IF(U363=2,Y363,\"\"))","v":""},{"$f":"_xlfn.TEXTJOIN(\";\",1,X363,AA363)","v":""},"",null,null,"",{"$nulls":4},{"$f":"IF(A363=\"\",\"\",IF(ISNUMBER(Y363),2,IF(A364=\"\",IF(OR(AH363>0,VLOOKUP(O363,EventConfig!A:C,3,FALSE)=4),3,\"\"),1)))","v":1},1002902,null,5411]
[{"$f":"O364*100+P364","v":1002902},5410,"与神仙对话","",{"$nulls":6},{"$f":"IF(J364=\"\",\"\",VLOOKUP(J364,EventNPC!A:E,5,FALSE))","v":""},5412,"峰顶云海翻涌，一位神人独立于虚空：皮肤如冰雪，体态柔美，乘云气，御飞龙，周身无尘世之气。",null,10029,2,{"$f":"_xlfn.TEXTJOIN(\";\",1,R364:S364)","v":""},null,null,{"$f":"IF(R364=\"\",\"\",\"-\"&VLOOKUP(R364,EventConditionConfig!A:C,3,FALSE)&IF(S364=\"\",\"\",CHAR(10)&\"-\"&VLOOKUP(S364,EventConditionConfig!A:C,3,FALSE)))","v":""},{"$f":"IF(Y364=\"\",\"\",IF(ISTEXT(Y364),1,2))","v":""},{"$f":"IF(U364=1,_xlfn.TEXTJOIN(\";\",1,IF(Z364=\"\",A364+1,Z364),IF(AND(AA364<>\"\",AC364=\"\"),A364+1,AC364)),IF(U364=2,Y364,\"\"))","v":""},{"$f":"_xlfn.TEXTJOIN(\";\",1,X364,AA364)","v":""},"",null,null,"",{"$nulls":4},{"$f":"IF(A364=\"\",\"\",IF(ISNUMBER(Y364),2,IF(A365=\"\",IF(OR(AH364>0,VLOOKUP(O364,EventConfig!A:C,3,FALSE)=4),3,\"\"),1)))","v":1},1002903,null,5412]
[{"$f":"O365*100+P365","v":1002903},5410,"与神仙对话","",{"$nulls":6},{"$f":"IF(J365=\"\",\"\",VLOOKUP(J365,EventNPC!A:E,5,FALSE))","v":""},5413,"她不言不语，却似洞察万物。与尧帝描述相同，你在她面前，自觉渺小。",null,10029,3,{"$f":"_xlfn.TEXTJOIN(\";\",1,R365:S365)","v":""},null,null,{"$f":"IF(R365=\"\",\"\",\"-\"&VLOOKUP(R365,EventConditionConfig!A:C,3,FALSE)&IF(S365=\"\",\"\",CHAR(10)&\"-\"&VLOOKUP(S365,EventConditionConfig!A:C,3,FALSE)))","v":""},{"$f":"IF(Y365=\"\",\"\",IF(ISTEXT(Y365),1,2))","v":""},{"$f":"IF(U365=1,_xlfn.TEXTJOIN(\";\",1,IF(Z365=\"\",A365+1,Z365),IF(AND(AA365<>\"\",AC365=\"\"),A365+1,AC365)),IF(U365=2,Y365,\"\"))","v":""},{"$f":"_xlfn.TEXTJOIN(\";\",1,X365,AA365)","v":""},"",null,null,"",{"$nulls":4},{"$f":"IF(A365=\"\",\"\",IF(ISNUMBER(Y365),2,IF(A366=\"\",IF(OR(AH365>0,VLOOKUP(O365,EventConfig!A:C,3,FALSE)=4),3,\"\"),1)))","v":1},1002904,null,5413]
[{"$f":"O366*100+P366","v":1002904},5410,"与神仙对话","",{"$nulls":5},100,{"$f":"IF(J366=\"\",\"\",VLOOKUP(J366,EventNPC!A:E,5,FALSE))","v":"玩家"},5414,"晚辈游历至此，求见神人，望赐教“逍遥”之道。",null,10029,4,{"$f":"_xlfn.TEXTJOIN(\";\",1,R366:S366)","v":""},null,null,{"$f":"IF(R366=\"\",\"\",\"-\"&VLOOKUP(R366,EventConditionConfig!A:C,3,FALSE)&IF(S366=\"\",\"\",CHAR(10)&\"-\"&VLOOKUP(S366,EventConditionConfig!A:C,3,FALSE)))","v":""},{"$f":"IF(Y366=\"\",\"\",IF(ISTEXT(Y366),1,2))","v":""},{"$f":"IF(U366=1,_xlfn.TEXTJOIN(\";\",1,IF(Z366=\"\",A366+1,Z366),IF(AND(AA366<>\"\",AC366=\"\"),A366+1,AC366)),IF(U366=2,Y366,\"\"))","v":""},{"$f":"_xlfn.TEXTJOIN(\";\",1,X366,AA366)","v":""},"",null,null,"",{"$nulls":4},{"$f":"IF(A366=\"\",\"\",IF(ISNUMBER(Y366),2,IF(A367=\"\",IF(OR(AH366>0,VLOOKUP(O366,EventConfig!A:C,3,FALSE)=4),3,\"\"),1)))","v":1},1002905,null,5414]
[{"$f":"O367*100+P367","v":1002905},5410,"与神仙对话","",{"$nulls":5},100,{"$f":"IF(J367=\"\",\"\",VLOOKUP(J367,EventNPC!A:E,5,FALSE))","v":"玩家"},5415,"冲虚真人指引我寻七道心境，此山可是其中一处？",null,10029,5,{"$f":"_xlfn.TEXTJOIN(\";\",1,R367:S367)","v":""},null,null,{"$f":"IF(R367=\"\",\"\",\"-\"&VLOOKUP(R367,EventConditionConfig!A:C,3,FALSE)&IF(S367=\"\",\"\",CHAR(10)&\"-\"&VLOOKUP(S367,EventConditionConfig!A:C,3,FALSE)))","v":""},{"$f":"IF(Y367=\"\",\"\",IF(ISTEXT(Y367),1,2))","v":""},{"$f":"IF(U367=1,_xlfn.TEXTJOIN(\";\",1,IF(Z367=\"\",A367+1,Z367),IF(AND(AA367<>\"\",AC367=\"\"),A367+1,AC367)),IF(U367=2,Y367,\"\"))","v":""},{"$f":"_xlfn.TEXTJOIN(\";\",1,X367,AA367)","v":""},"",null,null,"",{"$nulls":4},{"$f":"IF(A367=\"\",\"\",IF(ISNUMBER(Y367),2,IF(A368=\"\",IF(OR(AH367>0,VLOOKUP(O367,EventConfig!A:C,3,FALSE)=4),3,\"\"),1)))","v":1},1002906,null,5415]
[{"$f":"O368*100+P368","v":1002906},5410,"与神仙对话","",{"$nulls":5},118,{"$f":"IF(J368=\"\",\"\",VLOOKUP(J368,EventNPC!A:E,5,FALSE))","v":"神人"},5416,"（声音如风过林）“逍遥？何为逍遥？”",null,10029,6,{"$f":"_xlfn.TEXTJOIN(\";\",1,R368:S368)","v":""},null,null,{"$f":"IF(R368=\"\",\"\",\"-\"&VLOOKUP(R368,EventConditionConfig!A:C,3,FALSE)&IF(S368=\"\",\"\",CHAR(10)&\"-\"&VLOOKUP(S368,EventConditionConfig!A:C,3,FALSE)))","v":""},{"$f":"IF(Y368=\"\",\"\",IF(ISTEXT(Y368),1,2))","v":1},{"$f":"IF(U368=1,_xlfn.TEXTJOIN(\";\",1,IF(Z368=\"\",A368+1,Z368),IF(AND(AA368<>\"\",AC368=\"\"),A368+1,AC368)),IF(U368=2,Y368,\"\"))","v":"1002907;1002908"},{"$f":"_xlfn.TEXTJOIN(\";\",1,X368,AA368)","v":"5417;5418"},5417,"如鲲鹏般鹏飞九万里。",{"$f":"A369","v":1002907},5418,"如许由般放下天下，隐于山林。",{"$f":"A370","v":1002908},null,null,{"$f":"IF(A368=\"\",\"\",IF(ISNUMBER(Y368),2,IF(A369=\"\",IF(OR(AH368>0,VLOOKUP(O368,EventConfig!A:C,3,FALSE)=4),3,\"\"),1)))","v":1},1002907,null,5418]
[{"$f":"O369*100+P369","v":1002907},5410,"与神仙对话","",{"$nulls":5},118,{"$f":"IF(J369=\"\",\"\",VLOOKUP(J369,EventNPC!A:E,5,FALSE))","v":"神人"},5419,"鲲鹏待风方起，才能飞九万里。",null,10029,7,{"$f":"_xlfn.TEXTJOIN(\";\",1,R369:S369)","v":""},null,null,{"$f":"IF(R369=\"\",\"\",\"-\"&VLOOKUP(R369,EventConditionConfig!A:C,3,FALSE)&IF(S369=\"\",\"\",CHAR(10)&\"-\"&VLOOKUP(S369,EventConditionConfig!A:C,3,FALSE)))","v":""},{"$f":"IF(Y369=\"\",\"\",IF(ISTEXT(Y369),1,2))","v":1},{"$f":"IF(U369=1,_xlfn.TEXTJOIN(\";\",1,IF(Z369=\"\",A369+1,Z369),IF(AND(AA369<>\"\",AC369=\"\"),A369+1,AC369)),IF(U369=2,Y369,\"\"))","v":"1002909;1002910"},{"$f":"_xlfn.TEXTJOIN(\";\",1,X369,AA369)","v":"5420;5421"},5420,"如樗木般无用，长存千年。",{"$f":"A371","v":1002909},5421,"如麻雀般，知足常乐",{"$f":"A372","v":1002910},null,null,{"$f":"IF(A369=\"\",\"\",IF(ISNUMBER(Y369),2,IF(A370=\"\",IF(OR(AH369>0,VLOOKUP(O369,EventConfig!A:C,3,FALSE)=4),3,\"\"),1)))","v":1},1002908,null,5421]
[{"$f":"O370*100+P370","v":1002908},5410,"与神仙对话","",{"$nulls":5},118,{"$f":"IF(J370=\"\",\"\",VLOOKUP(J370,EventNPC!A:E,5,FALSE))","v":"神人"},5422,"许由避世却仍有心扰。",null,10029,8,{"$f":"_xlfn.TEXTJOIN(\";\",1,R370:S370)","v":""},null,null,{"$f":"IF(R370=\"\",\"\",\"-\"&VLOOKUP(R370,EventConditionConfig!A:C,3,FALSE)&IF(S370=\"\",\"\",CHAR(10)&\"-\"&VLOOKUP(S370,EventConditionConfig!A:C,3,FALSE)))","v":""},{"$f":"IF(Y370=\"\",\"\",IF(ISTEXT(Y370),1,2))","v":1},{"$f":"IF(U370=1,_xlfn.TEXTJOIN(\";\",1,IF(Z370=\"\",A370+1,Z370),IF(AND(AA370<>\"\",AC370=\"\"),A370+1,AC370)),IF(U370=2,Y370,\"\"))","v":"1002909;1002910"},{"$f":"_xlfn.TEXTJOIN(\";\",1,X370,AA370)","v":"5423;5424"},5423,"如樗木般无用，长存千年。",{"$f":"A371","v":1002909},5424,"如麻雀般，知足常乐",{"$f":"A372","v":1002910},null,null,{"$f":"IF(A370=\"\",\"\",IF(ISNUMBER(Y370),2,IF(A371=\"\",IF(OR(AH370>0,VLOOKUP(O370,EventConfig!A:C,3,FALSE)=4),3,\"\"),1)))","v":1},1002909,null,5424]
[{"$f":"O371*100+P371","v":1002909},5410,"与神仙对话","",{"$nulls":5},118,{"$f":"IF(J371=\"\",\"\",VLOOKUP(J371,EventNPC!A:E,5,FALSE))","v":"神人"},5425,"樗木不动岂知四海？",null,10029,9,{"$f":"_xlfn.TEXTJOIN(\";\",1,R371:S371)","v":""},null,null,{"$f":"IF(R371=\"\",\"\",\"-\"&VLOOKUP(R371,EventConditionConfig!A:C,3,FALSE)&IF(S371=\"\",\"\",CHAR(10)&\"-\"&VLOOKUP(S371,EventConditionConfig!A:C,3,FALSE)))","v":""},{"$f":"IF(Y371=\"\",\"\",IF(ISTEXT(Y371),1,2))","v":""},{"$f":"IF(U371=1,_xlfn.TEXTJOIN(\";\",1,IF(Z371=\"\",A371+1,Z371),IF(AND(AA371<>\"\",AC371=\"\"),A371+1,AC371)),IF(U371=2,Y371,\"\"))","v":""},{"$f":"_xlfn.TEXTJOIN(\";\",1,X371,AA371)","v":""},"",null,null,"",{"$nulls":4},{"$f":"IF(A371=\"\",\"\",IF(ISNUMBER(Y371),2,IF(A372=\"\",IF(OR(AH371>0,VLOOKUP(O371,EventConfig!A:C,3,FALSE)=4),3,\"\"),1)))","v":1},1002911,{"$f":"A373","v":1002911},5425]
[{"$f":"O372*100+P372","v":1002910},5410,"与神仙对话","",{"$nulls":5},118,{"$f":"IF(J372=\"\",\"\",VLOOKUP(J372,EventNPC!A:E,5,FALSE))","v":"神人"},5426,"麻雀虽长乐，却嘲笑大鹏。",null,10029,10,{"$f":"_xlfn.TEXTJOIN(\";\",1,R372:S372)","v":""},null,null,{"$f":"IF(R372=\"\",\"\",\"-\"&VLOOKUP(R372,EventConditionConfig!A:C,3,FALSE)&IF(S372=\"\",\"\",CHAR(10)&\"-\"&VLOOKUP(S372,EventConditionConfig!A:C,3,FALSE)))","v":""},{"$f":"IF(Y372=\"\",\"\",IF(ISTEXT(Y372),1,2))","v":""},{"$f":"IF(U372=1,_xlfn.TEXTJOIN(\";\",1,IF(Z372=\"\",A372+1,Z372),IF(AND(AA372<>\"\",AC372=\"\"),A372+1,AC372)),IF(U372=2,Y372,\"\"))","v":""},{"$f":"_xlfn.TEXTJOIN(\";\",1,X372,AA372)","v":""},"",null,null,"",{"$nulls":4},{"$f":"IF(A372=\"\",\"\",IF(ISNUMBER(Y372),2,IF(A373=\"\",IF(OR(AH372>0,VLOOKUP(O372,EventConfig!A:C,3,FALSE)=4),3,\"\"),1)))","v":1},1002911,{"$f":"A373","v":1002911},5426]
[{"$f":"O373*100+P373","v":1002911},5410,"与神仙对话","",{"$nulls":5},100,{"$f":"IF(J373=\"\",\"\",VLOOKUP(J373,EventNPC!A:E,5,FALSE))","v":"玩家"},5427,"（苦笑）请恕晚辈愚钝，无法理解何为逍遥，只觉心烦意乱。",null,10029,11,{"$f":"_xlfn.TEXTJOIN(\";\",1,R373:S373)","v":""},null,null,{"$f":"IF(R373=\"\",\"\",\"-\"&VLOOKUP(R373,EventConditionConfig!A:C,3,FALSE)&IF(S373=\"\",\"\",CHAR(10)&\"-\"&VLOOKUP(S373,EventConditionConfig!A:C,3,FALSE)))","v":""},{"$f":"IF(Y373=\"\",\"\",IF(ISTEXT(Y373),1,2))","v":""},{"$f":"IF(U373=1,_xlfn.TEXTJOIN(\";\",1,IF(Z373=\"\",A373+1,Z373),IF(AND(AA373<>\"\",AC373=\"\"),A373+1,AC373)),IF(U373=2,Y373,\"\"))","v":""},{"$f":"_xlfn.TEXTJOIN(\";\",1,X373,AA373)","v":""},"",null,null,"",{"$nulls":4},{"$f":"IF(A373=\"\",\"\",IF(ISNUMBER(Y373),2,IF(A374=\"\",IF(OR(AH373>0,VLOOKUP(O373,EventConfig!A:C,3,FALSE)=4),3,\"\"),1)))","v":1},1002912,null,5427]
[{"$f":"O374*100+P374","v":1002912},5410,"与神仙对话","",{"$nulls":5},118,{"$f":"IF(J374=\"\",\"\",VLOOKUP(J374,EventNPC!A:E,5,FALSE))","v":"神人"},5428,"真正的逍遥是：乘天地之正，御六气之辩。",null,10029,12,{"$f":"_xlfn.TEXTJOIN(\";\",1,R374:S374)","v":""},null,null,{"$f":"IF(R374=\"\",\"\",\"-\"&VLOOKUP(R374,EventConditionConfig!A:C,3,FALSE)&IF(S374=\"\",\"\",CHAR(10)&\"-\"&VLOOKUP(S374,EventConditionConfig!A:C,3,FALSE)))","v":""},{"$f":"IF(Y374=\"\",\"\",IF(ISTEXT(Y374),1,2))","v":""},{"$f":"IF(U374=1,_xlfn.TEXTJOIN(\";\",1,IF(Z374=\"\",A374+1,Z374),IF(AND(AA374<>\"\",AC374=\"\"),A374+1,AC374)),IF(U374=2,Y374,\"\"))","v":""},{"$f":"_xlfn.TEXTJOIN(\";\",1,X374,AA374)","v":""},"",null,null,"",{"$nulls":4},{"$f":"IF(A374=\"\",\"\",IF(ISNUMBER(Y374),2,IF(A375=\"\",IF(OR(AH374>0,VLOOKUP(O374,EventConfig!A:C,3,FALSE)=4),3,\"\"),1)))","v":1},1002913,null,5428]
[{"$f":"O375*100+P375","v":1002913},5410,"与神仙对话","",{"$nulls":5},100,{"$f":"IF(J375=\"\",\"\",VLOOKUP(J375,EventNPC!A:E,5,FALSE))","v":"玩家"},5429,"什么是“乘天地之正，御六气之辩”？",null,10029,13,{"$f":"_xlfn.TEXTJOIN(\";\",1,R375:S375)","v":""},null,null,{"$f":"IF(R375=\"\",\"\",\"-\"&VLOOKUP(R375,EventConditionConfig!A:C,3,FALSE)&IF(S375=\"\",\"\",CHAR(10)&\"-\"&VLOOKUP(S375,EventConditionConfig!A:C,3,FALSE)))","v":""},{"$f":"IF(Y375=\"\",\"\",IF(ISTEXT(Y375),1,2))","v":""},{"$f":"IF(U375=1,_xlfn.TEXTJOIN(\";\",1,IF(Z375=\"\",A375+1,Z375),IF(AND(AA375<>\"\",AC375=\"\"),A375+1,AC375)),IF(U375=2,Y375,\"\"))","v":""},{"$f":"_xlfn.TEXTJOIN(\";\",1,X375,AA375)","v":""},"",null,null,"",{"$nulls":4},{"$f":"IF(A375=\"\",\"\",IF(ISNUMBER(Y375),2,IF(A376=\"\",IF(OR(AH375>0,VLOOKUP(O375,EventConfig!A:C,3,FALSE)=4),3,\"\"),1)))","v":1},1002914,null,5429]
[1002914,5410,"与神仙对话","",{"$nulls":5},118,{"$f":"IF(J376=\"\",\"\",VLOOKUP(J376,EventNPC!A:E,5,FALSE))","v":"神人"},5430,"便是不依附外物，不执着内心。",null,10029,14,"",null,null,{"$f":"IF(R376=\"\",\"\",\"-\"&VLOOKUP(R376,EventConditionConfig!A:C,3,FALSE)&IF(S376=\"\",\"\",CHAR(10)&\"-\"&VLOOKUP(S376,EventConditionConfig!A:C,3,FALSE)))","v":""},"","","","",null,null,"",{"$nulls":4},{"$f":"IF(A376=\"\",\"\",IF(ISNUMBER(Y376),2,IF(A377=\"\",IF(OR(AH376>0,VLOOKUP(O376,EventConfig!A:C,3,FALSE)=4),3,\"\"),1)))","v":1},1002915,null,5430]
[{"$f":"O377*100+P377","v":1002915},5410,"与神仙对话","",{"$nulls":5},118,{"$f":"IF(J377=\"\",\"\",VLOOKUP(J377,EventNPC!A:E,5,FALSE))","v":"神人"},5431,"能顺应天地的自然规律，驾驭风云的变化。",null,10029,15,{"$f":"_xlfn.TEXTJOIN(\";\",1,R377:S377)","v":""},null,null,{"$f":"IF(R377=\"\",\"\",\"-\"&VLOOKUP(R377,EventConditionConfig!A:C,3,FALSE)&IF(S377=\"\",\"\",CHAR(10)&\"-\"&VLOOKUP(S377,EventConditionConfig!A:C,3,FALSE)))","v":""},{"$f":"IF(Y377=\"\",\"\",IF(ISTEXT(Y377),1,2))","v":""},{"$f":"IF(U377=1,_xlfn.TEXTJOIN(\";\",1,IF(Z377=\"\",A377+1,Z377),IF(AND(AA377<>\"\",AC377=\"\"),A377+1,AC377)),IF(U377=2,Y377,\"\"))","v":""},{"$f":"_xlfn.TEXTJOIN(\";\",1,X377,AA377)","v":""},"",null,null,"",{"$nulls":4},{"$f":"IF(A377=\"\",\"\",IF(ISNUMBER(Y377),2,IF(A378=\"\",IF(OR(AH377>0,VLOOKUP(O377,EventConfig!A:C,3,FALSE)=4),3,\"\"),1)))","v":1},1002916,null,5431]
[{"$f":"O378*100+P378","v":1002916},5410,"与神仙对话","",{"$nulls":5},118,{"$f":"IF(J378=\"\",\"\",VLOOKUP(J378,EventNPC!A:E,5,FALSE))","v":"神人"},5432,"这样的人，心无挂碍，来去如风，逍遥自在。",null,10029,16,{"$f":"_xlfn.TEXTJOIN(\";\",1,R378:S378)","v":""},null,null,{"$f":"IF(R378=\"\",\"\",\"-\"&VLOOKUP(R378,EventConditionConfig!A:C,3,FALSE)&IF(S378=\"\",\"\",CHAR(10)&\"-\"&VLOOKUP(S378,EventConditionConfig!A:C,3,FALSE)))","v":""},{"$f":"IF(Y378=\"\",\"\",IF(ISTEXT(Y378),1,2))","v":""},{"$f":"IF(U378=1,_xlfn.TEXTJOIN(\";\",1,IF(Z378=\"\",A378+1,Z378),IF(AND(AA378<>\"\",AC378=\"\"),A378+1,AC378)),IF(U378=2,Y378,\"\"))","v":""},{"$f":"_xlfn.TEXTJOIN(\";\",1,X378,AA378)","v":""},"",null,null,"",{"$nulls":4},{"$f":"IF(A378=\"\",\"\",IF(ISNUMBER(Y378),2,IF(A379=\"\",IF(OR(AH378>0,VLOOKUP(O378,EventConfig!A:C,3,FALSE)=4),3,\"\"),1)))","v":1},1002917,null,5432]
[1002917,5410,"与神仙对话","",{"$nulls":5},100,{"$f":"IF(J379=\"\",\"\",VLOOKUP(J379,EventNPC!A:E,5,FALSE))","v":"玩家"},5433,"这境界听来高远，请神人指点！",null,10029,17,"",null,null,{"$f":"IF(R379=\"\",\"\",\"-\"&VLOOKUP(R379,EventConditionConfig!A:C,3,FALSE)&IF(S379=\"\",\"\",CHAR(10)&\"-\"&VLOOKUP(S379,EventConditionConfig!A:C,3,FALSE)))","v":""},"","","","",null,null,"",{"$nulls":4},{"$f":"IF(A379=\"\",\"\",IF(ISNUMBER(Y379),2,IF(A380=\"\",IF(OR(AH379>0,VLOOKUP(O379,EventConfig!A:C,3,FALSE)=4),3,\"\"),1)))","v":1},1002918,null,5433]
[1002918,5410,"与神仙对话","",{"$nulls":5},118,{"$f":"IF(J380=\"\",\"\",VLOOKUP(J380,EventNPC!A:E,5,FALSE))","v":"神人"},5434,"你已历诸多事，却仍有心魔缠身。看清自己，方能破之。\n（神人一挥手，云海中现出一面灵镜，映出你的身影）",null,10029,18,"",null,null,{"$f":"IF(R380=\"\",\"\",\"-\"&VLOOKUP(R380,EventConditionConfig!A:C,3,FALSE)&IF(S380=\"\",\"\",CHAR(10)&\"-\"&VLOOKUP(S380,EventConditionConfig!A:C,3,FALSE)))","v":""},"","","","",null,null,"",{"$nulls":4},{"$f":"IF(A380=\"\",\"\",IF(ISNUMBER(Y380),2,IF(A381=\"\",IF(OR(AH380>0,VLOOKUP(O380,EventConfig!A:C,3,FALSE)=4),3,\"\"),1)))","v":1},1002919,null,5434]
[{"$f":"O381*100+P381","v":1002919},5410,"与神仙对话","",{"$nulls":5},118,{"$f":"IF(J381=\"\",\"\",VLOOKUP(J381,EventNPC!A:E,5,FALSE))","v":"神人"},5435,"此镜照心。击败它，便知一二。",null,10029,19,{"$f":"_xlfn.TEXTJOIN(\";\",1,R381:S381)","v":""},null,null,{"$f":"IF(R381=\"\",\"\",\"-\"&VLOOKUP(R381,EventConditionConfig!A:C,3,FALSE)&IF(S381=\"\",\"\",CHAR(10)&\"-\"&VLOOKUP(S381,EventConditionConfig!A:C,3,FALSE)))","v":""},{"$f":"IF(Y381=\"\",\"\",IF(ISTEXT(Y381),1,2))","v":""},{"$f":"IF(U381=1,_xlfn.TEXTJOIN(\";\",1,IF(Z381=\"\",A381+1,Z381),IF(AND(AA381<>\"\",AC381=\"\"),A381+1,AC381)),IF(U381=2,Y381,\"\"))","v":""},{"$f":"_xlfn.TEXTJOIN(\";\",1,X381,AA381)","v":""},"",null,null,"",{"$nulls":4},{"$f":"IF(A381=\"\",\"\",IF(ISNUMBER(Y381),2,IF(A382=\"\",IF(OR(AH381>0,VLOOKUP(O381,EventConfig!A:C,3,FALSE)=4),3,\"\"),1)))","v":1},1002920,null,5435]
[1002920,5410,"与神仙对话","",{"$nulls":6},{"$f":"IF(J382=\"\",\"\",VLOOKUP(J382,EventNPC!A:E,5,FALSE))","v":""},"",null,null,10029,20,"33",33,null,{"$f":"IF(R382=\"\",\"\",\"-\"&VLOOKUP(R382,EventConditionConfig!A:C,3,FALSE)&IF(S382=\"\",\"\",CHAR(10)&\"-\"&VLOOKUP(S382,EventConditionConfig!A:C,3,FALSE)))","v":"-达到境界：化神-中期"},{"$f":"IF(Y382=\"\",\"\",1)","v":""},{"$f":"IF(U382=1,A423,\"\")","v":""},"","",null,null,"",{"$nulls":4},{"$f":"IF(A382=\"\",\"\",IF(ISNUMBER(Y382),2,IF(A383=\"\",IF(OR(AH382>0,VLOOKUP(O382,EventConfig!A:C,3,FALSE)=4),3,\"\"),1)))","v":3},10030,null,5435]
[null,"",null,"",{"$nulls":7},"",null,null,null,"",{"$nulls":7},"",null,null,"",{"$nulls":4},{"$f":"IF(A383=\"\",\"\",IF(ISNUMBER(Y383),2,IF(A384=\"\",IF(OR(AH383>0,VLOOKUP(O383,EventConfig!A:C,3,FALSE)=4),3,\"\"),1)))","v":""},"",null,""]
[{"$f":"O384*100+P384","v":1003001},"",null,5436,"击败心魔",{"$nulls":5},{"$f":"IF(J384=\"\",\"\",VLOOKUP(J384,EventNPC!A:E,5,FALSE))","v":""},"",null,null,{"$f":"IF(O383=\"\",O381+1,O383)","v":10030},1,{"$f":"_xlfn.TEXTJOIN(\";\",1,R384:S384)","v":""},null,null,{"$f":"IF(R384=\"\",\"\",\"-\"&VLOOKUP(R384,EventConditionConfig!A:C,3,FALSE)&IF(S384=\"\",\"\",CHAR(10)&\"-\"&VLOOKUP(S384,EventConditionConfig!A:C,3,FALSE)))","v":""},{"$f":"IF(Y384=\"\",\"\",IF(ISTEXT(Y384),1,2))","v":2},{"$f":"IF(U384=1,_xlfn.TEXTJOIN(\";\",1,IF(Z384=\"\",A384+1,Z384),IF(AND(AA384<>\"\",AC384=\"\"),A384+1,AC384)),IF(U384=2,Y384,\"\"))","v":1013},{"$f":"_xlfn.TEXTJOIN(\";\",1,X384,AA384)","v":""},"",1013,null,"",{"$nulls":4},{"$f":"IF(A384=\"\",\"\",IF(ISNUMBER(Y384),2,IF(A385=\"\",IF(OR(AH384>0,VLOOKUP(O384,EventConfig!A:C,3,FALSE)=4),3,\"\"),1)))","v":2},"1003002;101",null,5436]
[{"$f":"O385*100+P385","v":1003002},5437,"心魔消散","",{"$nulls":5},100,{"$f":"IF(J385=\"\",\"\",VLOOKUP(J385,EventNPC!A:E,5,FALSE))","v":"玩家"},5438,"心魔已破……那些过去的疑问，原来皆是“有所等待”的枷锁。",null,10030,2,{"$f":"_xlfn.TEXTJOIN(\";\",1,R385:S385)","v":"28"},28,null,{"$f":"IF(R385=\"\",\"\",\"-\"&VLOOKUP(R385,EventConditionConfig!A:C,3,FALSE)&IF(S385=\"\",\"\",CHAR(10)&\"-\"&VLOOKUP(S385,EventConditionConfig!A:C,3,FALSE)))","v":"-击败心魔"},{"$f":"IF(Y385=\"\",\"\",IF(ISTEXT(Y385),1,2))","v":""},{"$f":"IF(U385=1,_xlfn.TEXTJOIN(\";\",1,IF(Z385=\"\",A385+1,Z385),IF(AND(AA385<>\"\",AC385=\"\"),A385+1,AC385)),IF(U385=2,Y385,\"\"))","v":""},{"$f":"_xlfn.TEXTJOIN(\";\",1,X385,AA385)","v":""},"",null,null,"",{"$nulls":4},{"$f":"IF(A385=\"\",\"\",IF(ISNUMBER(Y385),2,IF(A386=\"\",IF(OR(AH385>0,VLOOKUP(O385,EventConfig!A:C,3,FALSE)=4),3,\"\"),1)))","v":1},1003003,null,5438]
[{"$f":"O386*100+P386","v":1003003},5437,"心魔消散","",{"$nulls":5},100,{"$f":"IF(J386=\"\",\"\",VLOOKUP(J386,EventNPC!A:E,5,FALSE))","v":"玩家"},5439,"鲲鹏待风，我待顿悟。",null,10030,3,{"$f":"_xlfn.TEXTJOIN(\";\",1,R386:S386)","v":""},null,null,{"$f":"IF(R386=\"\",\"\",\"-\"&VLOOKUP(R386,EventConditionConfig!A:C,3,FALSE)&IF(S386=\"\",\"\",CHAR(10)&\"-\"&VLOOKUP(S386,EventConditionConfig!A:C,3,FALSE)))","v":""},{"$f":"IF(Y386=\"\",\"\",IF(ISTEXT(Y386),1,2))","v":""},{"$f":"IF(U386=1,_xlfn.TEXTJOIN(\";\",1,IF(Z386=\"\",A386+1,Z386),IF(AND(AA386<>\"\",AC386=\"\"),A386+1,AC386)),IF(U386=2,Y386,\"\"))","v":""},{"$f":"_xlfn.TEXTJOIN(\";\",1,X386,AA386)","v":""},"",null,null,"",{"$nulls":4},{"$f":"IF(A386=\"\",\"\",IF(ISNUMBER(Y386),2,IF(A387=\"\",IF(OR(AH386>0,VLOOKUP(O386,EventConfig!A:C,3,FALSE)=4),3,\"\"),1)))","v":1},1003004,null,5439]
[{"$f":"O387*100+P387","v":1003004},5437,"心魔消散","",{"$nulls":5},100,{"$f":"IF(J387=\"\",\"\",VLOOKUP(J387,EventNPC!A:E,5,FALSE))","v":"玩家"},5440,"不依附外物，不执着内心，就是真正的逍遥！",null,10030,4,{"$f":"_xlfn.TEXTJOIN(\";\",1,R387:S387)","v":""},null,null,{"$f":"IF(R387=\"\",\"\",\"-\"&VLOOKUP(R387,EventConditionConfig!A:C,3,FALSE)&IF(S387=\"\",\"\",CHAR(10)&\"-\"&VLOOKUP(S387,EventConditionConfig!A:C,3,FALSE)))","v":""},{"$f":"IF(Y387=\"\",\"\",IF(ISTEXT(Y387),1,2))","v":""},{"$f":"IF(U387=1,_xlfn.TEXTJOIN(\";\",1,IF(Z387=\"\",A387+1,Z387),IF(AND(AA387<>\"\",AC387=\"\"),A387+1,AC387)),IF(U387=2,Y387,\"\"))","v":""},{"$f":"_xlfn.TEXTJOIN(\";\",1,X387,AA387)","v":""},"",null,null,"",{"$nulls":4},{"$f":"IF(A387=\"\",\"\",IF(ISNUMBER(Y387),2,IF(A388=\"\",IF(OR(AH387>0,VLOOKUP(O387,EventConfig!A:C,3,FALSE)=4),3,\"\"),1)))","v":1},1003005,null,5440]
[1003005,5437,"心魔消散","",{"$nulls":5},118,{"$f":"IF(J388=\"\",\"\",VLOOKUP(J388,EventNPC!A:E,5,FALSE))","v":"神人"},5441,"不错。你已领悟第一道心境：逍遥自在。",null,10030,5,"",null,null,{"$f":"IF(R388=\"\",\"\",\"-\"&VLOOKUP(R388,EventConditionConfig!A:C,3,FALSE)&IF(S388=\"\",\"\",CHAR(10)&\"-\"&VLOOKUP(S388,EventConditionConfig!A:C,3,FALSE)))","v":""},"","","","",null,null,"",{"$nulls":4},{"$f":"IF(A388=\"\",\"\",IF(ISNUMBER(Y388),2,IF(A389=\"\",IF(OR(AH388>0,VLOOKUP(O388,EventConfig!A:C,3,FALSE)=4),3,\"\"),1)))","v":1},1003006,null,5441]
[1003006,5437,"心魔消散","",{"$nulls":5},118,{"$f":"IF(J389=\"\",\"\",VLOOKUP(J389,EventNPC!A:E,5,FALSE))","v":"神人"},5442,"心无挂碍，来去如风，你的风灵珠也能发挥更大威力。（乘龙而去）",null,{"$f":"IF(O388=\"\",O387+1,O388)","v":10030},6,"",null,null,{"$f":"IF(R389=\"\",\"\",\"-\"&VLOOKUP(R389,EventConditionConfig!A:C,3,FALSE)&IF(S389=\"\",\"\",CHAR(10)&\"-\"&VLOOKUP(S389,EventConditionConfig!A:C,3,FALSE)))","v":""},"","","","",null,null,"",{"$nulls":4},{"$f":"IF(A389=\"\",\"\",IF(ISNUMBER(Y389),2,IF(A390=\"\",IF(OR(AH389>0,VLOOKUP(O389,EventConfig!A:C,3,FALSE)=4),3,\"\"),1)))","v":1},1003007,null,5442]
[{"$f":"O390*100+P390","v":1003007},{"$f":"IF(C390=\"\",\"\",IF(C390=C389,B389,MAX(AI389,AI388)+1))","v":5437},"心魔消散",{"$f":"IF(E390=\"\",\"\",IF(E390=E389,D389,MAX(AI389,AI388,B390)+1))","v":""},{"$nulls":5},100,{"$f":"IF(J390=\"\",\"\",VLOOKUP(J390,EventNPC!A:E,5,FALSE))","v":"玩家"},{"$f":"IF(M390=\"\",\"\",MAX(AI389,AI388,B390,D390)+1)","v":5443},"多谢前辈指点！",null,10030,{"$f":"IF(O390=\"\",\"\",IF(O390=O389,P389+1,1))","v":7},{"$f":"_xlfn.TEXTJOIN(\";\",1,R390:S390)","v":""},null,null,{"$f":"IF(R390=\"\",\"\",\"-\"&VLOOKUP(R390,EventConditionConfig!A:C,3,FALSE)&IF(S390=\"\",\"\",CHAR(10)&\"-\"&VLOOKUP(S390,EventConditionConfig!A:C,3,FALSE)))","v":""},{"$f":"IF(Y390=\"\",\"\",IF(ISTEXT(Y390),1,2))","v":""},{"$f":"IF(U390=1,_xlfn.TEXTJOIN(\";\",1,IF(Z390=\"\",A390+1,Z390),IF(AND(AA390<>\"\",AC390=\"\"),A390+1,AC390)),IF(U390=2,Y390,\"\"))","v":""},{"$f":"_xlfn.TEXTJOIN(\";\",1,X390,AA390)","v":""},{"$f":"IF(OR(ISNUMBER(Y390),Y390=\"\"),\"\",MAX(AI389,AI388,B390,D390,L390)+1)","v":""},null,null,{"$f":"IF(OR(ISNUMBER(AB390),AB390=\"\"),\"\",X390+1)","v":""},{"$nulls":4},{"$f":"IF(A390=\"\",\"\",IF(ISNUMBER(Y390),2,IF(A391=\"\",IF(OR(AH390>0,VLOOKUP(O390,EventConfig!A:C,3,FALSE)=4),3,\"\"),1)))","v":1},1003008,null,{"$f":"IF(A390=\"\",\"\",MAX(B390,D390,L390,X390,AA390,AI389,AI388))","v":5443}]
[1003008,5437,"心魔消散","",{"$nulls":6},{"$f":"IF(J391=\"\",\"\",VLOOKUP(J391,EventNPC!A:E,5,FALSE))","v":""},"",null,null,10030,8,"34",34,null,{"$f":"IF(R391=\"\",\"\",\"-\"&VLOOKUP(R391,EventConditionConfig!A:C,3,FALSE)&IF(S391=\"\",\"\",CHAR(10)&\"-\"&VLOOKUP(S391,EventConditionConfig!A:C,3,FALSE)))","v":"-达到境界：化神-后期"},{"$f":"IF(Y391=\"\",\"\",1)","v":""},{"$f":"IF(U391=1,A432,\"\")","v":""},"","",null,null,"",{"$nulls":4},{"$f":"IF(A391=\"\",\"\",IF(ISNUMBER(Y391),2,IF(A392=\"\",IF(OR(AH391>0,VLOOKUP(O391,EventConfig!A:C,3,FALSE)=4),3,\"\"),1)))","v":3},10031,null,5443]
[null,"",null,"",{"$nulls":7},"",null,null,null,"",{"$nulls":7},"",null,null,"",{"$nulls":4},{"$f":"IF(A392=\"\",\"\",IF(ISNUMBER(Y392),2,IF(A393=\"\",IF(OR(AH392>0,VLOOKUP(O392,EventConfig!A:C,3,FALSE)=4),3,\"\"),1)))","v":""},"",null,""]
[{"$f":"O393*100+P393","v":1003101},5444,"击败北海妖兽","",{"$nulls":6},{"$f":"IF(J393=\"\",\"\",VLOOKUP(J393,EventNPC!A:E,5,FALSE))","v":""},5445,"你重返北海深处。四处狂风呼啸，你却随风而行，好不自在。",null,{"$f":"IF(O392=\"\",O390+1,O392)","v":10031},1,{"$f":"_xlfn.TEXTJOIN(\";\",1,R393:S393)","v":""},null,null,{"$f":"IF(R393=\"\",\"\",\"-\"&VLOOKUP(R393,EventConditionConfig!A:C,3,FALSE)&IF(S393=\"\",\"\",CHAR(10)&\"-\"&VLOOKUP(S393,EventConditionConfig!A:C,3,FALSE)))","v":""},{"$f":"IF(Y393=\"\",\"\",IF(ISTEXT(Y393),1,2))","v":""},{"$f":"IF(U393=1,_xlfn.TEXTJOIN(\";\",1,IF(Z393=\"\",A393+1,Z393),IF(AND(AA393<>\"\",AC393=\"\"),A393+1,AC393)),IF(U393=2,Y393,\"\"))","v":""},{"$f":"_xlfn.TEXTJOIN(\";\",1,X393,AA393)","v":""},"",null,null,"",{"$nulls":4},{"$f":"IF(A393=\"\",\"\",IF(ISNUMBER(Y393),2,IF(A394=\"\",IF(OR(AH393>0,VLOOKUP(O393,EventConfig!A:C,3,FALSE)=4),3,\"\"),1)))","v":1},1003102,null,5445]
[{"$f":"O394*100+P394","v":1003102},5444,"击败北海妖兽","",{"$nulls":6},{"$f":"IF(J394=\"\",\"\",VLOOKUP(J394,EventNPC!A:E,5,FALSE))","v":""},5446,"北海妖兽狂暴异常，挡住去路。",null,10031,2,{"$f":"_xlfn.TEXTJOIN(\";\",1,R394:S394)","v":""},null,null,{"$f":"IF(R394=\"\",\"\",\"-\"&VLOOKUP(R394,EventConditionConfig!A:C,3,FALSE)&IF(S394=\"\",\"\",CHAR(10)&\"-\"&VLOOKUP(S394,EventConditionConfig!A:C,3,FALSE)))","v":""},{"$f":"IF(Y394=\"\",\"\",IF(ISTEXT(Y394),1,2))","v":""},{"$f":"IF(U394=1,_xlfn.TEXTJOIN(\";\",1,IF(Z394=\"\",A394+1,Z394),IF(AND(AA394<>\"\",AC394=\"\"),A394+1,AC394)),IF(U394=2,Y394,\"\"))","v":""},{"$f":"_xlfn.TEXTJOIN(\";\",1,X394,AA394)","v":""},"",null,null,"",{"$nulls":4},{"$f":"IF(A394=\"\",\"\",IF(ISNUMBER(Y394),2,IF(A395=\"\",IF(OR(AH394>0,VLOOKUP(O394,EventConfig!A:C,3,FALSE)=4),3,\"\"),1)))","v":1},1003103,null,5446]
[{"$f":"O395*100+P395","v":1003103},5444,"击败北海妖兽","",{"$nulls":5},100,{"$f":"IF(J395=\"\",\"\",VLOOKUP(J395,EventNPC!A:E,5,FALSE))","v":"玩家"},5447,"这些妖兽……看来必须先清扫一番，才能见到鲲鹏。",null,10031,3,{"$f":"_xlfn.TEXTJOIN(\";\",1,R395:S395)","v":""},null,null,{"$f":"IF(R395=\"\",\"\",\"-\"&VLOOKUP(R395,EventConditionConfig!A:C,3,FALSE)&IF(S395=\"\",\"\",CHAR(10)&\"-\"&VLOOKUP(S395,EventConditionConfig!A:C,3,FALSE)))","v":""},{"$f":"IF(Y395=\"\",\"\",IF(ISTEXT(Y395),1,2))","v":2},{"$f":"IF(U395=1,_xlfn.TEXTJOIN(\";\",1,IF(Z395=\"\",A395+1,Z395),IF(AND(AA395<>\"\",AC395=\"\"),A395+1,AC395)),IF(U395=2,Y395,\"\"))","v":1014},{"$f":"_xlfn.TEXTJOIN(\";\",1,X395,AA395)","v":""},"",1014,null,"",{"$nulls":4},{"$f":"IF(A395=\"\",\"\",IF(ISNUMBER(Y395),2,IF(A396=\"\",IF(OR(AH395>0,VLOOKUP(O395,EventConfig!A:C,3,FALSE)=4),3,\"\"),1)))","v":2},"1003104;101",null,5447]
[{"$f":"O396*100+P396","v":1003104},5448,"鲲鹏对话","",{"$nulls":5},100,{"$f":"IF(J396=\"\",\"\",VLOOKUP(J396,EventNPC!A:E,5,FALSE))","v":"玩家"},5449,"妖兽退散了……鲲鹏前辈，我回来了。",null,10031,4,{"$f":"_xlfn.TEXTJOIN(\";\",1,R396:S396)","v":"29"},29,null,{"$f":"IF(R396=\"\",\"\",\"-\"&VLOOKUP(R396,EventConditionConfig!A:C,3,FALSE)&IF(S396=\"\",\"\",CHAR(10)&\"-\"&VLOOKUP(S396,EventConditionConfig!A:C,3,FALSE)))","v":"-击败北海妖兽"},{"$f":"IF(Y396=\"\",\"\",IF(ISTEXT(Y396),1,2))","v":""},{"$f":"IF(U396=1,_xlfn.TEXTJOIN(\";\",1,IF(Z396=\"\",A396+1,Z396),IF(AND(AA396<>\"\",AC396=\"\"),A396+1,AC396)),IF(U396=2,Y396,\"\"))","v":""},{"$f":"_xlfn.TEXTJOIN(\";\",1,X396,AA396)","v":""},"",null,null,"",{"$nulls":4},{"$f":"IF(A396=\"\",\"\",IF(ISNUMBER(Y396),2,IF(A397=\"\",IF(OR(AH396>0,VLOOKUP(O396,EventConfig!A:C,3,FALSE)=4),3,\"\"),1)))","v":1},1003105,null,5449]
[{"$f":"O397*100+P397","v":1003105},5448,"鲲鹏对话","",{"$nulls":5},119,{"$f":"IF(J397=\"\",\"\",VLOOKUP(J397,EventNPC!A:E,5,FALSE))","v":"鲲鹏"},5450,"（低沉声，从水底传出）“北海虽广，却无足够之风。我待九万里之飞，已千年。小子，你又来作甚？”",null,10031,5,{"$f":"_xlfn.TEXTJOIN(\";\",1,R397:S397)","v":""},null,null,{"$f":"IF(R397=\"\",\"\",\"-\"&VLOOKUP(R397,EventConditionConfig!A:C,3,FALSE)&IF(S397=\"\",\"\",CHAR(10)&\"-\"&VLOOKUP(S397,EventConditionConfig!A:C,3,FALSE)))","v":""},{"$f":"IF(Y397=\"\",\"\",IF(ISTEXT(Y397),1,2))","v":""},{"$f":"IF(U397=1,_xlfn.TEXTJOIN(\";\",1,IF(Z397=\"\",A397+1,Z397),IF(AND(AA397<>\"\",AC397=\"\"),A397+1,AC397)),IF(U397=2,Y397,\"\"))","v":""},{"$f":"_xlfn.TEXTJOIN(\";\",1,X397,AA397)","v":""},"",null,null,"",{"$nulls":4},{"$f":"IF(A397=\"\",\"\",IF(ISNUMBER(Y397),2,IF(A398=\"\",IF(OR(AH397>0,VLOOKUP(O397,EventConfig!A:C,3,FALSE)=4),3,\"\"),1)))","v":1},1003106,null,5450]
[{"$f":"O398*100+P398","v":1003106},5448,"鲲鹏对话","",{"$nulls":5},100,{"$f":"IF(J398=\"\",\"\",VLOOKUP(J398,EventNPC!A:E,5,FALSE))","v":"玩家"},5451,"我历鲲鹏之志、尧让于许、无用之树、仙山神人，终悟“逍遥自在”。",null,10031,6,{"$f":"_xlfn.TEXTJOIN(\";\",1,R398:S398)","v":""},null,null,{"$f":"IF(R398=\"\",\"\",\"-\"&VLOOKUP(R398,EventConditionConfig!A:C,3,FALSE)&IF(S398=\"\",\"\",CHAR(10)&\"-\"&VLOOKUP(S398,EventConditionConfig!A:C,3,FALSE)))","v":""},{"$f":"IF(Y398=\"\",\"\",IF(ISTEXT(Y398),1,2))","v":""},{"$f":"IF(U398=1,_xlfn.TEXTJOIN(\";\",1,IF(Z398=\"\",A398+1,Z398),IF(AND(AA398<>\"\",AC398=\"\"),A398+1,AC398)),IF(U398=2,Y398,\"\"))","v":""},{"$f":"_xlfn.TEXTJOIN(\";\",1,X398,AA398)","v":""},"",null,null,"",{"$nulls":4},{"$f":"IF(A398=\"\",\"\",IF(ISNUMBER(Y398),2,IF(A399=\"\",IF(OR(AH398>0,VLOOKUP(O398,EventConfig!A:C,3,FALSE)=4),3,\"\"),1)))","v":1},{"$f":"IF(AF398=\"\",\"\",CHOOSE(AF398,IF(AH398=\"\",A398+1,AH398),CONCATENATE(IF(AH398=\"\",A398+1,AH398),\";101\"),IF(AH398=\"\",O398+1,AH398)))","v":1003107},null,5451]
[{"$f":"O399*100+P399","v":1003107},5448,"鲲鹏对话","",{"$nulls":5},100,{"$f":"IF(J399=\"\",\"\",VLOOKUP(J399,EventNPC!A:E,5,FALSE))","v":"玩家"},5452,"我已能完整驱动风灵珠，或许能助前辈一臂之力，召唤那九万里之风。",null,10031,7,{"$f":"_xlfn.TEXTJOIN(\";\",1,R399:S399)","v":""},null,null,{"$f":"IF(R399=\"\",\"\",\"-\"&VLOOKUP(R399,EventConditionConfig!A:C,3,FALSE)&IF(S399=\"\",\"\",CHAR(10)&\"-\"&VLOOKUP(S399,EventConditionConfig!A:C,3,FALSE)))","v":""},{"$f":"IF(Y399=\"\",\"\",IF(ISTEXT(Y399),1,2))","v":""},{"$f":"IF(U399=1,_xlfn.TEXTJOIN(\";\",1,IF(Z399=\"\",A399+1,Z399),IF(AND(AA399<>\"\",AC399=\"\"),A399+1,AC399)),IF(U399=2,Y399,\"\"))","v":""},{"$f":"_xlfn.TEXTJOIN(\";\",1,X399,AA399)","v":""},"",null,null,"",{"$nulls":4},{"$f":"IF(A399=\"\",\"\",IF(ISNUMBER(Y399),2,IF(A400=\"\",IF(OR(AH399>0,VLOOKUP(O399,EventConfig!A:C,3,FALSE)=4),3,\"\"),1)))","v":1},1003108,null,5452]
[{"$f":"O400*100+P400","v":1003108},5448,"鲲鹏对话","",{"$nulls":5},119,{"$f":"IF(J400=\"\",\"\",VLOOKUP(J400,EventNPC!A:E,5,FALSE))","v":"鲲鹏"},5453,"此话当真？你小子竟有此机缘，与神仙相遇？",null,10031,8,{"$f":"_xlfn.TEXTJOIN(\";\",1,R400:S400)","v":""},null,null,{"$f":"IF(R400=\"\",\"\",\"-\"&VLOOKUP(R400,EventConditionConfig!A:C,3,FALSE)&IF(S400=\"\",\"\",CHAR(10)&\"-\"&VLOOKUP(S400,EventConditionConfig!A:C,3,FALSE)))","v":""},{"$f":"IF(Y400=\"\",\"\",IF(ISTEXT(Y400),1,2))","v":""},{"$f":"IF(U400=1,_xlfn.TEXTJOIN(\";\",1,IF(Z400=\"\",A400+1,Z400),IF(AND(AA400<>\"\",AC400=\"\"),A400+1,AC400)),IF(U400=2,Y400,\"\"))","v":""},{"$f":"_xlfn.TEXTJOIN(\";\",1,X400,AA400)","v":""},"",null,null,"",{"$nulls":4},{"$f":"IF(A400=\"\",\"\",IF(ISNUMBER(Y400),2,IF(A401=\"\",IF(OR(AH400>0,VLOOKUP(O400,EventConfig!A:C,3,FALSE)=4),3,\"\"),1)))","v":1},1003109,null,5453]
[1003109,5448,"鲲鹏对话","",{"$nulls":5},100,{"$f":"IF(J401=\"\",\"\",VLOOKUP(J401,EventNPC!A:E,5,FALSE))","v":"玩家"},5454,"前辈请看.",null,10031,9,"",null,null,{"$f":"IF(R401=\"\",\"\",\"-\"&VLOOKUP(R401,EventConditionConfig!A:C,3,FALSE)&IF(S401=\"\",\"\",CHAR(10)&\"-\"&VLOOKUP(S401,EventConditionConfig!A:C,3,FALSE)))","v":""},1,"1003110","5455",5455,"使用风灵珠召唤龙卷风",null,"",{"$nulls":4},{"$f":"IF(A401=\"\",\"\",IF(ISNUMBER(Y401),2,IF(A402=\"\",IF(OR(AH401>0,VLOOKUP(O401,EventConfig!A:C,3,FALSE)=4),3,\"\"),1)))","v":1},1003110,null,5455]
[1003110,5448,"鲲鹏对话","",{"$nulls":5},100,{"$f":"IF(J402=\"\",\"\",VLOOKUP(J402,EventNPC!A:E,5,FALSE))","v":"玩家"},5456,"你高举风灵珠，灵力涌动，周身风起云涌。",null,10031,10,"",null,null,{"$f":"IF(R402=\"\",\"\",\"-\"&VLOOKUP(R402,EventConditionConfig!A:C,3,FALSE)&IF(S402=\"\",\"\",CHAR(10)&\"-\"&VLOOKUP(S402,EventConditionConfig!A:C,3,FALSE)))","v":""},"","","","",null,null,"",{"$nulls":4},{"$f":"IF(A402=\"\",\"\",IF(ISNUMBER(Y402),2,IF(A403=\"\",IF(OR(AH402>0,VLOOKUP(O402,EventConfig!A:C,3,FALSE)=4),3,\"\"),1)))","v":1},1003111,null,5456]
[{"$f":"O403*100+P403","v":1003111},5448,"鲲鹏对话","",{"$nulls":5},100,{"$f":"IF(J403=\"\",\"\",VLOOKUP(J403,EventNPC!A:E,5,FALSE))","v":"玩家"},5457,"珠中蕴藏的风灵之力如决堤般释放，北海上空风云变幻，狂风汇聚成巨大龙卷，直冲天际。",null,10031,11,{"$f":"_xlfn.TEXTJOIN(\";\",1,R403:S403)","v":""},null,null,{"$f":"IF(R403=\"\",\"\",\"-\"&VLOOKUP(R403,EventConditionConfig!A:C,3,FALSE)&IF(S403=\"\",\"\",CHAR(10)&\"-\"&VLOOKUP(S403,EventConditionConfig!A:C,3,FALSE)))","v":""},{"$f":"IF(Y403=\"\",\"\",IF(ISTEXT(Y403),1,2))","v":""},{"$f":"IF(U403=1,_xlfn.TEXTJOIN(\";\",1,IF(Z403=\"\",A403+1,Z403),IF(AND(AA403<>\"\",AC403=\"\"),A403+1,AC403)),IF(U403=2,Y403,\"\"))","v":""},{"$f":"_xlfn.TEXTJOIN(\";\",1,X403,AA403)","v":""},"",null,null,"",{"$nulls":4},{"$f":"IF(A403=\"\",\"\",IF(ISNUMBER(Y403),2,IF(A404=\"\",IF(OR(AH403>0,VLOOKUP(O403,EventConfig!A:C,3,FALSE)=4),3,\"\"),1)))","v":1},1003112,null,5457]
[{"$f":"O404*100+P404","v":1003112},5448,"鲲鹏对话","",{"$nulls":5},100,{"$f":"IF(J404=\"\",\"\",VLOOKUP(J404,EventNPC!A:E,5,FALSE))","v":"玩家"},5458,"水面翻腾，巨鲲破浪而出，化作大鹏，翼若垂天之云，乘风而上，扶摇直上九万里！",null,10031,12,{"$f":"_xlfn.TEXTJOIN(\";\",1,R404:S404)","v":""},null,null,{"$f":"IF(R404=\"\",\"\",\"-\"&VLOOKUP(R404,EventConditionConfig!A:C,3,FALSE)&IF(S404=\"\",\"\",CHAR(10)&\"-\"&VLOOKUP(S404,EventConditionConfig!A:C,3,FALSE)))","v":""},{"$f":"IF(Y404=\"\",\"\",IF(ISTEXT(Y404),1,2))","v":""},{"$f":"IF(U404=1,_xlfn.TEXTJOIN(\";\",1,IF(Z404=\"\",A404+1,Z404),IF(AND(AA404<>\"\",AC404=\"\"),A404+1,AC404)),IF(U404=2,Y404,\"\"))","v":""},{"$f":"_xlfn.TEXTJOIN(\";\",1,X404,AA404)","v":""},"",null,null,"",{"$nulls":4},{"$f":"IF(A404=\"\",\"\",IF(ISNUMBER(Y404),2,IF(A405=\"\",IF(OR(AH404>0,VLOOKUP(O404,EventConfig!A:C,3,FALSE)=4),3,\"\"),1)))","v":1},1003113,null,5458]
[{"$f":"O405*100+P405","v":1003113},5448,"鲲鹏对话","",{"$nulls":5},100,{"$f":"IF(J405=\"\",\"\",VLOOKUP(J405,EventNPC!A:E,5,FALSE))","v":"玩家"},5459,"北海为之震动，云海为之开道，此刻，水天一色，无边无际。",null,10031,13,{"$f":"_xlfn.TEXTJOIN(\";\",1,R405:S405)","v":""},null,null,{"$f":"IF(R405=\"\",\"\",\"-\"&VLOOKUP(R405,EventConditionConfig!A:C,3,FALSE)&IF(S405=\"\",\"\",CHAR(10)&\"-\"&VLOOKUP(S405,EventConditionConfig!A:C,3,FALSE)))","v":""},{"$f":"IF(Y405=\"\",\"\",IF(ISTEXT(Y405),1,2))","v":""},{"$f":"IF(U405=1,_xlfn.TEXTJOIN(\";\",1,IF(Z405=\"\",A405+1,Z405),IF(AND(AA405<>\"\",AC405=\"\"),A405+1,AC405)),IF(U405=2,Y405,\"\"))","v":""},{"$f":"_xlfn.TEXTJOIN(\";\",1,X405,AA405)","v":""},"",null,null,"",{"$nulls":4},{"$f":"IF(A405=\"\",\"\",IF(ISNUMBER(Y405),2,IF(A406=\"\",IF(OR(AH405>0,VLOOKUP(O405,EventConfig!A:C,3,FALSE)=4),3,\"\"),1)))","v":1},1003114,null,5459]
[1003114,5448,"鲲鹏对话","",{"$nulls":5},119,{"$f":"IF(J406=\"\",\"\",VLOOKUP(J406,EventNPC!A:E,5,FALSE))","v":"鲲鹏"},5460,"（振翅长啸，声音回荡天际）小子，多谢！这正是我要的大风。南海天池见，若有缘，再论大道。",null,10031,14,"",null,null,{"$f":"IF(R406=\"\",\"\",\"-\"&VLOOKUP(R406,EventConditionConfig!A:C,3,FALSE)&IF(S406=\"\",\"\",CHAR(10)&\"-\"&VLOOKUP(S406,EventConditionConfig!A:C,3,FALSE)))","v":""},"","","","",null,null,"",{"$nulls":4},{"$f":"IF(A406=\"\",\"\",IF(ISNUMBER(Y406),2,IF(A407=\"\",IF(OR(AH406>0,VLOOKUP(O406,EventConfig!A:C,3,FALSE)=4),3,\"\"),1)))","v":1},1003115,null,5460]
[{"$f":"O407*100+P407","v":1003115},5448,"鲲鹏对话","",{"$nulls":5},100,{"$f":"IF(J407=\"\",\"\",VLOOKUP(J407,EventNPC!A:E,5,FALSE))","v":"玩家"},5461,"前辈，一路顺风！",null,10031,15,{"$f":"_xlfn.TEXTJOIN(\";\",1,R407:S407)","v":""},null,null,{"$f":"IF(R407=\"\",\"\",\"-\"&VLOOKUP(R407,EventConditionConfig!A:C,3,FALSE)&IF(S407=\"\",\"\",CHAR(10)&\"-\"&VLOOKUP(S407,EventConditionConfig!A:C,3,FALSE)))","v":""},{"$f":"IF(Y407=\"\",\"\",IF(ISTEXT(Y407),1,2))","v":""},{"$f":"IF(U407=1,_xlfn.TEXTJOIN(\";\",1,IF(Z407=\"\",A407+1,Z407),IF(AND(AA407<>\"\",AC407=\"\"),A407+1,AC407)),IF(U407=2,Y407,\"\"))","v":""},{"$f":"_xlfn.TEXTJOIN(\";\",1,X407,AA407)","v":""},"",null,null,"",{"$nulls":4},{"$f":"IF(A407=\"\",\"\",IF(ISNUMBER(Y407),2,IF(A408=\"\",IF(OR(AH407>0,VLOOKUP(O407,EventConfig!A:C,3,FALSE)=4),3,\"\"),1)))","v":1},1003116,null,5461]
[1003116,5448,"鲲鹏对话","",{"$nulls":6},{"$f":"IF(J408=\"\",\"\",VLOOKUP(J408,EventNPC!A:E,5,FALSE))","v":""},"",null,null,10031,16,"35",35,null,{"$f":"IF(R408=\"\",\"\",\"-\"&VLOOKUP(R408,EventConditionConfig!A:C,3,FALSE)&IF(S408=\"\",\"\",CHAR(10)&\"-\"&VLOOKUP(S408,EventConditionConfig!A:C,3,FALSE)))","v":"-达到境界：炼虚-前期"},{"$f":"IF(Y408=\"\",\"\",1)","v":""},{"$f":"IF(U408=1,A449,\"\")","v":""},"","",null,null,"",{"$nulls":4},{"$f":"IF(A408=\"\",\"\",IF(ISNUMBER(Y408),2,IF(A409=\"\",IF(OR(AH408>0,VLOOKUP(O408,EventConfig!A:C,3,FALSE)=4),3,\"\"),1)))","v":3},10032,null,5461]
[null,"",null,"",{"$nulls":7},"",null,null,null,"",{"$nulls":7},"",null,null,"",{"$nulls":4},{"$f":"IF(A409=\"\",\"\",IF(ISNUMBER(Y409),2,IF(A410=\"\",IF(OR(AH409>0,VLOOKUP(O409,EventConfig!A:C,3,FALSE)=4),3,\"\"),1)))","v":""},"",null,""]
[{"$f":"O410*100+P410","v":3000301},5462,"击杀妖兽","",{"$nulls":6},{"$f":"IF(J410=\"\",\"\",VLOOKUP(J410,EventNPC!A:E,5,FALSE))","v":""},"",null,null,30003,1,{"$f":"_xlfn.TEXTJOIN(\";\",1,R410:S410)","v":""},null,null,{"$f":"IF(R410=\"\",\"\",\"-\"&VLOOKUP(R410,EventConditionConfig!A:C,3,FALSE)&IF(S410=\"\",\"\",CHAR(10)&\"-\"&VLOOKUP(S410,EventConditionConfig!A:C,3,FALSE)))","v":""},{"$f":"IF(Y410=\"\",\"\",IF(ISTEXT(Y410),1,2))","v":2},{"$f":"IF(U410=1,_xlfn.TEXTJOIN(\";\",1,IF(Z410=\"\",A410+1,Z410),IF(AND(AA410<>\"\",AC410=\"\"),A410+1,AC410)),IF(U410=2,Y410,\"\"))","v":1003},{"$f":"_xlfn.TEXTJOIN(\";\",1,X410,AA410)","v":""},"",1003,null,"",{"$nulls":4},{"$f":"IF(A410=\"\",\"\",IF(ISNUMBER(Y410),2,IF(A411=\"\",IF(OR(AH410>0,VLOOKUP(O410,EventConfig!A:C,3,FALSE)=4),3,\"\"),1)))","v":2},"3000302;101",null,5462]
[null,"",null,"",{"$nulls":7},"",null,null,null,"",{"$nulls":7},"",null,null,"",{"$nulls":4},{"$f":"IF(A411=\"\",\"\",IF(ISNUMBER(Y411),2,IF(A412=\"\",IF(OR(AH411>0,VLOOKUP(O411,EventConfig!A:C,3,FALSE)=4),3,\"\"),1)))","v":""},"",null,""]
[{"$f":"O412*100+P412","v":3000401},5463,"击败后山小妖","",{"$nulls":6},{"$f":"IF(J412=\"\",\"\",VLOOKUP(J412,EventNPC!A:E,5,FALSE))","v":""},"",null,null,30004,1,{"$f":"_xlfn.TEXTJOIN(\";\",1,R412:S412)","v":""},null,null,{"$f":"IF(R412=\"\",\"\",\"-\"&VLOOKUP(R412,EventConditionConfig!A:C,3,FALSE)&IF(S412=\"\",\"\",CHAR(10)&\"-\"&VLOOKUP(S412,EventConditionConfig!A:C,3,FALSE)))","v":""},{"$f":"IF(Y412=\"\",\"\",IF(ISTEXT(Y412),1,2))","v":2},{"$f":"IF(U412=1,_xlfn.TEXTJOIN(\";\",1,IF(Z412=\"\",A412+1,Z412),IF(AND(AA412<>\"\",AC412=\"\"),A412+1,AC412)),IF(U412=2,Y412,\"\"))","v":1004},{"$f":"_xlfn.TEXTJOIN(\";\",1,X412,AA412)","v":""},"",1004,null,"",{"$nulls":4},{"$f":"IF(A412=\"\",\"\",IF(ISNUMBER(Y412),2,IF(A413=\"\",IF(OR(AH412>0,VLOOKUP(O412,EventConfig!A:C,3,FALSE)=4),3,\"\"),1)))","v":2},"3000402;101",null,5463]
[null,"",null,"",{"$nulls":7},"",null,null,null,"",{"$nulls":7},"",null,null,"",{"$nulls":4},{"$f":"IF(A413=\"\",\"\",IF(ISNUMBER(Y413),2,IF(A414=\"\",IF(OR(AH413>0,VLOOKUP(O413,EventConfig!A:C,3,FALSE)=4),3,\"\"),1)))","v":""},"",null,""]
[{"$f":"O414*100+P414","v":3000501},5464,"击败夜袭的妖兽","",{"$nulls":6},{"$f":"IF(J414=\"\",\"\",VLOOKUP(J414,EventNPC!A:E,5,FALSE))","v":""},"",null,null,30005,1,{"$f":"_xlfn.TEXTJOIN(\";\",1,R414:S414)","v":""},null,null,{"$f":"IF(R414=\"\",\"\",\"-\"&VLOOKUP(R414,EventConditionConfig!A:C,3,FALSE)&IF(S414=\"\",\"\",CHAR(10)&\"-\"&VLOOKUP(S414,EventConditionConfig!A:C,3,FALSE)))","v":""},{"$f":"IF(Y414=\"\",\"\",IF(ISTEXT(Y414),1,2))","v":2},{"$f":"IF(U414=1,_xlfn.TEXTJOIN(\";\",1,IF(Z414=\"\",A414+1,Z414),IF(AND(AA414<>\"\",AC414=\"\"),A414+1,AC414)),IF(U414=2,Y414,\"\"))","v":1005},{"$f":"_xlfn.TEXTJOIN(\";\",1,X414,AA414)","v":""},"",1005,null,"",{"$nulls":4},{"$f":"IF(A414=\"\",\"\",IF(ISNUMBER(Y414),2,IF(A415=\"\",IF(OR(AH414>0,VLOOKUP(O414,EventConfig!A:C,3,FALSE)=4),3,\"\"),1)))","v":2},"3000502;101",null,5464]
[null,"",null,"",{"$nulls":7},"",null,null,null,"",{"$nulls":7},"",null,null,"",{"$nulls":4},{"$f":"IF(A415=\"\",\"\",IF(ISNUMBER(Y415),2,IF(A416=\"\",IF(OR(AH415>0,VLOOKUP(O415,EventConfig!A:C,3,FALSE)=4),3,\"\"),1)))","v":""},"",null,""]
[{"$f":"O416*100+P416","v":3000601},5465,"击败峰顶的妖王","",{"$nulls":6},{"$f":"IF(J416=\"\",\"\",VLOOKUP(J416,EventNPC!A:E,5,FALSE))","v":""},"",null,null,30006,1,{"$f":"_xlfn.TEXTJOIN(\";\",1,R416:S416)","v":""},null,null,{"$f":"IF(R416=\"\",\"\",\"-\"&VLOOKUP(R416,EventConditionConfig!A:C,3,FALSE)&IF(S416=\"\",\"\",CHAR(10)&\"-\"&VLOOKUP(S416,EventConditionConfig!A:C,3,FALSE)))","v":""},{"$f":"IF(Y416=\"\",\"\",IF(ISTEXT(Y416),1,2))","v":2},{"$f":"IF(U416=1,_xlfn.TEXTJOIN(\";\",1,IF(Z416=\"\",A416+1,Z416),IF(AND(AA416<>\"\",AC416=\"\"),A416+1,AC416)),IF(U416=2,Y416,\"\"))","v":1006},{"$f":"_xlfn.TEXTJOIN(\";\",1,X416,AA416)","v":""},"",1006,null,"",{"$nulls":4},{"$f":"IF(A416=\"\",\"\",IF(ISNUMBER(Y416),2,IF(A417=\"\",IF(OR(AH416>0,VLOOKUP(O416,EventConfig!A:C,3,FALSE)=4),3,\"\"),1)))","v":2},"3000602;101",null,5465]
[null,"",null,"",{"$nulls":7},"",null,null,null,"",{"$nulls":7},"",null,null,"",{"$nulls":4},{"$f":"IF(A417=\"\",\"\",IF(ISNUMBER(Y417),2,IF(A418=\"\",IF(OR(AH417>0,VLOOKUP(O417,EventConfig!A:C,3,FALSE)=4),3,\"\"),1)))","v":""},"",null,""]
[{"$f":"O418*100+P418","v":3000701},5466,"击败仙山的阵眼妖兽","",{"$nulls":6},{"$f":"IF(J418=\"\",\"\",VLOOKUP(J418,EventNPC!A:E,5,FALSE))","v":""},"",null,null,30007,1,{"$f":"_xlfn.TEXTJOIN(\";\",1,R418:S418)","v":""},null,null,{"$f":"IF(R418=\"\",\"\",\"-\"&VLOOKUP(R418,EventConditionConfig!A:C,3,FALSE)&IF(S418=\"\",\"\",CHAR(10)&\"-\"&VLOOKUP(S418,EventConditionConfig!A:C,3,FALSE)))","v":""},{"$f":"IF(Y418=\"\",\"\",IF(ISTEXT(Y418),1,2))","v":2},{"$f":"IF(U418=1,_xlfn.TEXTJOIN(\";\",1,IF(Z418=\"\",A418+1,Z418),IF(AND(AA418<>\"\",AC418=\"\"),A418+1,AC418)),IF(U418=2,Y418,\"\"))","v":1007},{"$f":"_xlfn.TEXTJOIN(\";\",1,X418,AA418)","v":""},"",1007,null,"",{"$nulls":4},{"$f":"IF(A418=\"\",\"\",IF(ISNUMBER(Y418),2,IF(A419=\"\",IF(OR(AH418>0,VLOOKUP(O418,EventConfig!A:C,3,FALSE)=4),3,\"\"),1)))","v":2},"3000702;101",null,5466]
[null,"",null,"",{"$nulls":7},"",null,null,null,"",{"$nulls":7},"",null,null,"",{"$nulls":4},{"$f":"IF(A419=\"\",\"\",IF(ISNUMBER(Y419),2,IF(A420=\"\",IF(OR(AH419>0,VLOOKUP(O419,EventConfig!A:C,3,FALSE)=4),3,\"\"),1)))","v":""},"",null,""]
[3000801,5467,"击杀灵兽获得天肥","",{"$nulls":6},{"$f":"IF(J420=\"\",\"\",VLOOKUP(J420,EventNPC!A:E,5,FALSE))","v":""},"",null,null,30008,1,{"$f":"_xlfn.TEXTJOIN(\";\",1,R420:S420)","v":""},null,null,{"$f":"IF(R420=\"\",\"\",\"-\"&VLOOKUP(R420,EventConditionConfig!A:C,3,FALSE)&IF(S420=\"\",\"\",CHAR(10)&\"-\"&VLOOKUP(S420,EventConditionConfig!A:C,3,FALSE)))","v":""},{"$f":"IF(Y420=\"\",\"\",IF(ISTEXT(Y420),1,2))","v":2},{"$f":"IF(U420=1,_xlfn.TEXTJOIN(\";\",1,IF(Z420=\"\",A420+1,Z420),IF(AND(AA420<>\"\",AC420=\"\"),A420+1,AC420)),IF(U420=2,Y420,\"\"))","v":1008},{"$f":"_xlfn.TEXTJOIN(\";\",1,X420,AA420)","v":""},"",1008,null,"",{"$nulls":4},{"$f":"IF(A420=\"\",\"\",IF(ISNUMBER(Y420),2,IF(A421=\"\",IF(OR(AH420>0,VLOOKUP(O420,EventConfig!A:C,3,FALSE)=4),3,\"\"),1)))","v":2},"3000802;101",null,5467]
[null,"",null,"",{"$nulls":7},"",null,null,null,"",{"$nulls":7},"",null,null,"",{"$nulls":4},{"$f":"IF(A421=\"\",\"\",IF(ISNUMBER(Y421),2,IF(A422=\"\",IF(OR(AH421>0,VLOOKUP(O421,EventConfig!A:C,3,FALSE)=4),3,\"\"),1)))","v":""},"",null,""]
[{"$f":"O422*100+P422","v":3001101},5468,"获得灵草种子","",{"$nulls":6},{"$f":"IF(J422=\"\",\"\",VLOOKUP(J422,EventNPC!A:E,5,FALSE))","v":""},5469,"你来到后山的草园中，按照许由的要求，摘了几株灵草种子。",null,30011,1,{"$f":"_xlfn.TEXTJOIN(\";\",1,R422:S422)","v":""},null,null,{"$f":"IF(R422=\"\",\"\",\"-\"&VLOOKUP(R422,EventConditionConfig!A:C,3,FALSE)&IF(S422=\"\",\"\",CHAR(10)&\"-\"&VLOOKUP(S422,EventConditionConfig!A:C,3,FALSE)))","v":""},{"$f":"IF(Y422=\"\",\"\",IF(ISTEXT(Y422),1,2))","v":1},{"$f":"IF(U422=1,_xlfn.TEXTJOIN(\";\",1,IF(Z422=\"\",A422+1,Z422),IF(AND(AA422<>\"\",AC422=\"\"),A422+1,AC422)),IF(U422=2,Y422,\"\"))","v":"3001102"},{"$f":"_xlfn.TEXTJOIN(\";\",1,X422,AA422)","v":"5470"},5470,"将种子收好",null,"",{"$nulls":4},{"$f":"IF(A422=\"\",\"\",IF(ISNUMBER(Y422),2,IF(A423=\"\",IF(OR(AH422>0,VLOOKUP(O422,EventConfig!A:C,3,FALSE)=4),3,\"\"),1)))","v":1},3001102,null,5470]
[{"$f":"O423*100+P423","v":3001102},5468,"获得灵草种子","",{"$nulls":6},{"$f":"IF(J423=\"\",\"\",VLOOKUP(J423,EventNPC!A:E,5,FALSE))","v":""},"",null,null,30011,2,{"$f":"_xlfn.TEXTJOIN(\";\",1,R423:S423)","v":""},null,null,{"$f":"IF(R423=\"\",\"\",\"-\"&VLOOKUP(R423,EventConditionConfig!A:C,3,FALSE)&IF(S423=\"\",\"\",CHAR(10)&\"-\"&VLOOKUP(S423,EventConditionConfig!A:C,3,FALSE)))","v":""},{"$f":"IF(Y423=\"\",\"\",IF(ISTEXT(Y423),1,2))","v":""},{"$f":"IF(U423=1,_xlfn.TEXTJOIN(\";\",1,IF(Z423=\"\",A423+1,Z423),IF(AND(AA423<>\"\",AC423=\"\"),A423+1,AC423)),IF(U423=2,Y423,\"\"))","v":""},{"$f":"_xlfn.TEXTJOIN(\";\",1,X423,AA423)","v":""},"",null,null,"",{"$nulls":4},{"$f":"IF(A423=\"\",\"\",IF(ISNUMBER(Y423),2,IF(A424=\"\",IF(OR(AH423>0,VLOOKUP(O423,EventConfig!A:C,3,FALSE)=4),3,\"\"),1)))","v":""},"",null,5470]
[null,"",null,"",{"$nulls":7},"",null,null,null,"",{"$nulls":7},"",null,null,"",{"$nulls":4},{"$f":"IF(A424=\"\",\"\",IF(ISNUMBER(Y424),2,IF(A425=\"\",IF(OR(AH424>0,VLOOKUP(O424,EventConfig!A:C,3,FALSE)=4),3,\"\"),1)))","v":""},"",null,""]
[{"$f":"O425*100+P425","v":101101},5471,"神识探索至一处山洞之中，似乎别有洞天","",{"$nulls":6},{"$f":"IF(J425=\"\",\"\",VLOOKUP(J425,EventNPC!A:E,5,FALSE))","v":""},5472,"前往山洞之中收集药材",null,1011,1,{"$f":"_xlfn.TEXTJOIN(\";\",1,R425:S425)","v":""},null,null,{"$f":"IF(R425=\"\",\"\",\"-\"&VLOOKUP(R425,EventConditionConfig!A:C,3,FALSE)&IF(S425=\"\",\"\",CHAR(10)&\"-\"&VLOOKUP(S425,EventConditionConfig!A:C,3,FALSE)))","v":""},{"$f":"IF(Y425=\"\",\"\",1)","v":""},{"$f":"IF(U425=1,A426,\"\")","v":""},{"$f":"_xlfn.TEXTJOIN(\";\",1,X425,AA425)","v":""},"",null,null,"",{"$nulls":4},{"$f":"IF(A425=\"\",\"\",IF(ISNUMBER(Y425),2,IF(A426=\"\",IF(OR(AH425>0,VLOOKUP(O425,EventConfig!A:C,3,FALSE)=4),3,\"\"),1)))","v":""},"",null,5472]
[null,"",null,"",{"$nulls":7},"",null,null,null,"",{"$nulls":7},"",null,null,"",{"$nulls":4},{"$f":"IF(A426=\"\",\"\",IF(ISNUMBER(Y426),2,IF(A427=\"\",IF(OR(AH426>0,VLOOKUP(O426,EventConfig!A:C,3,FALSE)=4),3,\"\"),1)))","v":""},"",null,""]
[{"$f":"O427*100+P427","v":500101},5473,"受疯道人所托，追查《御风化影诀》的下落",5474,"与疯道人对话(0/1)",{"$nulls":4},103,{"$f":"IF(J427=\"\",\"\",VLOOKUP(J427,EventNPC!A:E,5,FALSE))","v":"疯道人"},5475,"小友留步，老夫有一事相求",null,5001,1,{"$f":"_xlfn.TEXTJOIN(\";\",1,R427:S427)","v":""},null,null,{"$f":"IF(R427=\"\",\"\",\"-\"&VLOOKUP(R427,EventConditionConfig!A:C,3,FALSE)&IF(S427=\"\",\"\",CHAR(10)&\"-\"&VLOOKUP(S427,EventConditionConfig!A:C,3,FALSE)))","v":""},{"$f":"IF(Y427=\"\",\"\",IF(ISTEXT(Y427),1,2))","v":""},{"$f":"IF(U427=1,_xlfn.TEXTJOIN(\";\",1,IF(Z427=\"\",A427+1,Z427),IF(AND(AA427<>\"\",AC427=\"\"),A427+1,AC427)),IF(U427=2,Y427,\"\"))","v":""},{"$f":"_xlfn.TEXTJOIN(\";\",1,X427,AA427)","v":""},"",null,null,"",{"$nulls":4},{"$f":"IF(A427=\"\",\"\",IF(ISNUMBER(Y427),2,IF(A428=\"\",IF(OR(AH427>0,VLOOKUP(O427,EventConfig!A:C,3,FALSE)=4),3,\"\"),1)))","v":1},500102,null,5475]
[500102,5473,"受疯道人所托，追查《御风化影诀》的下落",5474,"与疯道人对话(0/1)",{"$nulls":4},103,{"$f":"IF(J428=\"\",\"\",VLOOKUP(J428,EventNPC!A:E,5,FALSE))","v":"疯道人"},5476,"三十年前北海妖族来犯，击退妖族后老夫捡到个被妖兽重伤的娃娃。",null,5001,2,"",null,null,{"$f":"IF(R428=\"\",\"\",\"-\"&VLOOKUP(R428,EventConditionConfig!A:C,3,FALSE)&IF(S428=\"\",\"\",CHAR(10)&\"-\"&VLOOKUP(S428,EventConditionConfig!A:C,3,FALSE)))","v":""},{"$f":"IF(Y428=\"\",\"\",IF(ISTEXT(Y428),1,2))","v":""},{"$f":"IF(U428=1,_xlfn.TEXTJOIN(\";\",1,IF(Z428=\"\",A428+1,Z428),IF(AND(AA428<>\"\",AC428=\"\"),A428+1,AC428)),IF(U428=2,Y428,\"\"))","v":""},{"$f":"_xlfn.TEXTJOIN(\";\",1,X428,AA428)","v":""},"",null,null,"",{"$nulls":4},{"$f":"IF(A428=\"\",\"\",IF(ISNUMBER(Y428),2,IF(A429=\"\",IF(OR(AH428>0,VLOOKUP(O428,EventConfig!A:C,3,FALSE)=4),3,\"\"),1)))","v":1},500103,null,5476]
[500103,5473,"受疯道人所托，追查《御风化影诀》的下落",5474,"与疯道人对话(0/1)",{"$nulls":4},103,{"$f":"IF(J429=\"\",\"\",VLOOKUP(J429,EventNPC!A:E,5,FALSE))","v":"疯道人"},5477,"他心口妖气汇聚，周身却萦绕着纯净的风灵根。这般矛盾体质，注定要卷入因果轮回。",null,5001,3,"",null,null,{"$f":"IF(R429=\"\",\"\",\"-\"&VLOOKUP(R429,EventConditionConfig!A:C,3,FALSE)&IF(S429=\"\",\"\",CHAR(10)&\"-\"&VLOOKUP(S429,EventConditionConfig!A:C,3,FALSE)))","v":""},"","","","",null,null,"",{"$nulls":4},{"$f":"IF(A429=\"\",\"\",IF(ISNUMBER(Y429),2,IF(A430=\"\",IF(OR(AH429>0,VLOOKUP(O429,EventConfig!A:C,3,FALSE)=4),3,\"\"),1)))","v":1},500104,null,5477]
[500104,5473,"受疯道人所托，追查《御风化影诀》的下落",5474,"与疯道人对话(0/1)",{"$nulls":4},103,{"$f":"IF(J430=\"\",\"\",VLOOKUP(J430,EventNPC!A:E,5,FALSE))","v":"疯道人"},5478,"于是老夫收留他在门下修养",null,5001,4,"",null,null,{"$f":"IF(R430=\"\",\"\",\"-\"&VLOOKUP(R430,EventConditionConfig!A:C,3,FALSE)&IF(S430=\"\",\"\",CHAR(10)&\"-\"&VLOOKUP(S430,EventConditionConfig!A:C,3,FALSE)))","v":""},"","","","",null,null,"",{"$nulls":4},{"$f":"IF(A430=\"\",\"\",IF(ISNUMBER(Y430),2,IF(A431=\"\",IF(OR(AH430>0,VLOOKUP(O430,EventConfig!A:C,3,FALSE)=4),3,\"\"),1)))","v":1},500105,null,5478]
[500105,5473,"受疯道人所托，追查《御风化影诀》的下落",5474,"与疯道人对话(0/1)",{"$nulls":4},103,{"$f":"IF(J431=\"\",\"\",VLOOKUP(J431,EventNPC!A:E,5,FALSE))","v":"疯道人"},5479,"但他心智被妖气所蛊惑一心只想报仇，整日念叨着要杀尽北海妖族。",null,5001,5,"",null,null,{"$f":"IF(R431=\"\",\"\",\"-\"&VLOOKUP(R431,EventConditionConfig!A:C,3,FALSE)&IF(S431=\"\",\"\",CHAR(10)&\"-\"&VLOOKUP(S431,EventConditionConfig!A:C,3,FALSE)))","v":""},"","","","",null,null,"",{"$nulls":4},{"$f":"IF(A431=\"\",\"\",IF(ISNUMBER(Y431),2,IF(A432=\"\",IF(OR(AH431>0,VLOOKUP(O431,EventConfig!A:C,3,FALSE)=4),3,\"\"),1)))","v":1},500106,null,5479]
[500106,5473,"受疯道人所托，追查《御风化影诀》的下落",5474,"与疯道人对话(0/1)",{"$nulls":4},103,{"$f":"IF(J432=\"\",\"\",VLOOKUP(J432,EventNPC!A:E,5,FALSE))","v":"疯道人"},5480,"但十年的相处老夫早就把他当做亲人看待，为了断掉念想，只得让他离去，他离开之时盗走了洞府中的禁书《御风化影诀》。",null,5001,6,"",null,null,{"$f":"IF(R432=\"\",\"\",\"-\"&VLOOKUP(R432,EventConditionConfig!A:C,3,FALSE)&IF(S432=\"\",\"\",CHAR(10)&\"-\"&VLOOKUP(S432,EventConditionConfig!A:C,3,FALSE)))","v":""},"","","","",null,null,"",{"$nulls":4},{"$f":"IF(A432=\"\",\"\",IF(ISNUMBER(Y432),2,IF(A433=\"\",IF(OR(AH432>0,VLOOKUP(O432,EventConfig!A:C,3,FALSE)=4),3,\"\"),1)))","v":1},500107,null,5480]
[{"$f":"O433*100+P433","v":500107},5473,"受疯道人所托，追查《御风化影诀》的下落",5474,"与疯道人对话(0/1)",{"$nulls":4},100,{"$f":"IF(J433=\"\",\"\",VLOOKUP(J433,EventNPC!A:E,5,FALSE))","v":"玩家"},5481,"\"\"",null,5001,7,{"$f":"_xlfn.TEXTJOIN(\";\",1,R433:S433)","v":""},null,null,{"$f":"IF(R433=\"\",\"\",\"-\"&VLOOKUP(R433,EventConditionConfig!A:C,3,FALSE)&IF(S433=\"\",\"\",CHAR(10)&\"-\"&VLOOKUP(S433,EventConditionConfig!A:C,3,FALSE)))","v":""},1,"500108;500108","5482;5483",5482,"前辈为何不追",null,5483,"他怎会轻易盗走此书",null,null,null,{"$f":"IF(A433=\"\",\"\",IF(ISNUMBER(Y433),2,IF(A434=\"\",IF(OR(AH433>0,VLOOKUP(O433,EventConfig!A:C,3,FALSE)=4),3,\"\"),1)))","v":1},500108,null,5483]
[500108,5473,"受疯道人所托，追查《御风化影诀》的下落",5474,"与疯道人对话(0/1)",{"$nulls":4},103,{"$f":"IF(J434=\"\",\"\",VLOOKUP(J434,EventNPC!A:E,5,FALSE))","v":"疯道人"},5484,"那孩子恐是为了给爹妈寻仇，也是看往日情面，老夫不想亲自动手。",null,5001,8,"",null,null,{"$f":"IF(R434=\"\",\"\",\"-\"&VLOOKUP(R434,EventConditionConfig!A:C,3,FALSE)&IF(S434=\"\",\"\",CHAR(10)&\"-\"&VLOOKUP(S434,EventConditionConfig!A:C,3,FALSE)))","v":""},"","","","",null,null,"",{"$nulls":4},{"$f":"IF(A434=\"\",\"\",IF(ISNUMBER(Y434),2,IF(A435=\"\",IF(OR(AH434>0,VLOOKUP(O434,EventConfig!A:C,3,FALSE)=4),3,\"\"),1)))","v":1},500109,null,5484]
[500109,5473,"受疯道人所托，追查《御风化影诀》的下落",5474,"与疯道人对话(0/1)",{"$nulls":4},103,{"$f":"IF(J435=\"\",\"\",VLOOKUP(J435,EventNPC!A:E,5,FALSE))","v":"疯道人"},5485,"现如今老夫发现山中的生灵会莫名消失，村中孩童也是被神秘的妖气所卷走，这和书中的血肉炼化的方法一模一样，老夫断定是那孩子所为。",null,5001,9,"",null,null,{"$f":"IF(R435=\"\",\"\",\"-\"&VLOOKUP(R435,EventConditionConfig!A:C,3,FALSE)&IF(S435=\"\",\"\",CHAR(10)&\"-\"&VLOOKUP(S435,EventConditionConfig!A:C,3,FALSE)))","v":""},"","","","",null,null,"",{"$nulls":4},{"$f":"IF(A435=\"\",\"\",IF(ISNUMBER(Y435),2,IF(A436=\"\",IF(OR(AH435>0,VLOOKUP(O435,EventConfig!A:C,3,FALSE)=4),3,\"\"),1)))","v":1},500110,null,5485]
[500110,5473,"受疯道人所托，追查《御风化影诀》的下落",5474,"与疯道人对话(0/1)",{"$nulls":4},103,{"$f":"IF(J436=\"\",\"\",VLOOKUP(J436,EventNPC!A:E,5,FALSE))","v":"疯道人"},5486,"小友，我追踪妖气波动，他就在西边的树林之中！",null,5001,10,"",null,null,{"$f":"IF(R436=\"\",\"\",\"-\"&VLOOKUP(R436,EventConditionConfig!A:C,3,FALSE)&IF(S436=\"\",\"\",CHAR(10)&\"-\"&VLOOKUP(S436,EventConditionConfig!A:C,3,FALSE)))","v":""},5,"","","",null,null,"",{"$nulls":4},{"$f":"IF(A436=\"\",\"\",IF(ISNUMBER(Y436),2,IF(A437=\"\",IF(OR(AH436>0,VLOOKUP(O436,EventConfig!A:C,3,FALSE)=4),3,\"\"),1)))","v":1},500111,null,5486]
[500111,5473,"受疯道人所托，追查《御风化影诀》的下落",5487,"追查风无咎(0/1)",{"$nulls":5},{"$f":"IF(J437=\"\",\"\",VLOOKUP(J437,EventNPC!A:E,5,FALSE))","v":""},5488,"（枯叶居然无风漂浮在空中，地面残留着扭曲的符文刻痕，见风无咎在地上刻画着什么）",null,5001,11,"",null,null,{"$f":"IF(R437=\"\",\"\",\"-\"&VLOOKUP(R437,EventConditionConfig!A:C,3,FALSE)&IF(S437=\"\",\"\",CHAR(10)&\"-\"&VLOOKUP(S437,EventConditionConfig!A:C,3,FALSE)))","v":""},{"$f":"IF(Y437=\"\",\"\",IF(ISTEXT(Y437),1,2))","v":""},"","","",null,null,"",{"$nulls":4},{"$f":"IF(A437=\"\",\"\",IF(ISNUMBER(Y437),2,IF(A438=\"\",IF(OR(AH437>0,VLOOKUP(O437,EventConfig!A:C,3,FALSE)=4),3,\"\"),1)))","v":1},500112,null,5488]
[500112,5473,"受疯道人所托，追查《御风化影诀》的下落",5487,"追查风无咎(0/1)",{"$nulls":4},112,{"$f":"IF(J438=\"\",\"\",VLOOKUP(J438,EventNPC!A:E,5,FALSE))","v":"风无咎"},5489,"(看见主角到来)你小子身上怎会有老疯子的气，是那老头让你来抓我的吗。",null,5001,12,"",null,null,{"$f":"IF(R438=\"\",\"\",\"-\"&VLOOKUP(R438,EventConditionConfig!A:C,3,FALSE)&IF(S438=\"\",\"\",CHAR(10)&\"-\"&VLOOKUP(S438,EventConditionConfig!A:C,3,FALSE)))","v":""},"","","","",null,null,"",{"$nulls":4},{"$f":"IF(A438=\"\",\"\",IF(ISNUMBER(Y438),2,IF(A439=\"\",IF(OR(AH438>0,VLOOKUP(O438,EventConfig!A:C,3,FALSE)=4),3,\"\"),1)))","v":1},500113,null,5489]
[500113,5473,"受疯道人所托，追查《御风化影诀》的下落",5487,"追查风无咎(0/1)",{"$nulls":4},100,{"$f":"IF(J439=\"\",\"\",VLOOKUP(J439,EventNPC!A:E,5,FALSE))","v":"玩家"},5490,"前辈见往日情面不愿亲自动手，我一人足以",null,5001,13,"",null,null,{"$f":"IF(R439=\"\",\"\",\"-\"&VLOOKUP(R439,EventConditionConfig!A:C,3,FALSE)&IF(S439=\"\",\"\",CHAR(10)&\"-\"&VLOOKUP(S439,EventConditionConfig!A:C,3,FALSE)))","v":""},"","","","",null,null,"",{"$nulls":4},{"$f":"IF(A439=\"\",\"\",IF(ISNUMBER(Y439),2,IF(A440=\"\",IF(OR(AH439>0,VLOOKUP(O439,EventConfig!A:C,3,FALSE)=4),3,\"\"),1)))","v":1},500114,null,5490]
[500114,5473,"受疯道人所托，追查《御风化影诀》的下落",5487,"追查风无咎(0/1)",{"$nulls":5},{"$f":"IF(J440=\"\",\"\",VLOOKUP(J440,EventNPC!A:E,5,FALSE))","v":""},5491,"（说罢，风无咎的影子化形，为了一妖，顿时煞气暴涨）",null,5001,14,"",null,null,{"$f":"IF(R440=\"\",\"\",\"-\"&VLOOKUP(R440,EventConditionConfig!A:C,3,FALSE)&IF(S440=\"\",\"\",CHAR(10)&\"-\"&VLOOKUP(S440,EventConditionConfig!A:C,3,FALSE)))","v":""},"","","","",null,null,"",{"$nulls":4},{"$f":"IF(A440=\"\",\"\",IF(ISNUMBER(Y440),2,IF(A441=\"\",IF(OR(AH440>0,VLOOKUP(O440,EventConfig!A:C,3,FALSE)=4),3,\"\"),1)))","v":1},500115,null,5491]
[500115,5473,"受疯道人所托，追查《御风化影诀》的下落",5487,"追查风无咎(0/1)",{"$nulls":4},112,{"$f":"IF(J441=\"\",\"\",VLOOKUP(J441,EventNPC!A:E,5,FALSE))","v":"风无咎"},5492,"如今我自断妖魂炼出影身，正好今天拿你试试！",null,5001,15,"",null,null,{"$f":"IF(R441=\"\",\"\",\"-\"&VLOOKUP(R441,EventConditionConfig!A:C,3,FALSE)&IF(S441=\"\",\"\",CHAR(10)&\"-\"&VLOOKUP(S441,EventConditionConfig!A:C,3,FALSE)))","v":""},2,100001,"","",100001,null,"",{"$nulls":4},{"$f":"IF(A441=\"\",\"\",IF(ISNUMBER(Y441),2,IF(A442=\"\",IF(OR(AH441>0,VLOOKUP(O441,EventConfig!A:C,3,FALSE)=4),3,\"\"),1)))","v":2},"500116;101",null,5492]
[500116,5473,"受疯道人所托，追查《御风化影诀》的下落",5487,"追查风无咎(0/1)",{"$nulls":4},112,{"$f":"IF(J442=\"\",\"\",VLOOKUP(J442,EventNPC!A:E,5,FALSE))","v":"风无咎"},5493,"岂会如此！",null,5001,16,"",null,null,{"$f":"IF(R442=\"\",\"\",\"-\"&VLOOKUP(R442,EventConditionConfig!A:C,3,FALSE)&IF(S442=\"\",\"\",CHAR(10)&\"-\"&VLOOKUP(S442,EventConditionConfig!A:C,3,FALSE)))","v":""},1,"500117","5494",5494,"交还书页，我可留你魂魄入轮回。",null,"",{"$nulls":4},{"$f":"IF(A442=\"\",\"\",IF(ISNUMBER(Y442),2,IF(A443=\"\",IF(OR(AH442>0,VLOOKUP(O442,EventConfig!A:C,3,FALSE)=4),3,\"\"),1)))","v":1},500117,null,5494]
[500117,5473,"受疯道人所托，追查《御风化影诀》的下落",5487,"追查风无咎(0/1)",{"$nulls":4},112,{"$f":"IF(J443=\"\",\"\",VLOOKUP(J443,EventNPC!A:E,5,FALSE))","v":"风无咎"},5495,"轮回？今日是我大意了！老东西还有你，给我等着！（化作一震妖风带着《御风化影诀》逃往远方",null,5001,17,"",null,null,{"$f":"IF(R443=\"\",\"\",\"-\"&VLOOKUP(R443,EventConditionConfig!A:C,3,FALSE)&IF(S443=\"\",\"\",CHAR(10)&\"-\"&VLOOKUP(S443,EventConditionConfig!A:C,3,FALSE)))","v":""},"","","","",null,null,"",{"$nulls":4},{"$f":"IF(A443=\"\",\"\",IF(ISNUMBER(Y443),2,IF(A444=\"\",IF(OR(AH443>0,VLOOKUP(O443,EventConfig!A:C,3,FALSE)=4),3,\"\"),1)))","v":1},500118,null,5495]
[500118,5473,"受疯道人所托，追查《御风化影诀》的下落",5487,"追查风无咎(0/1)",{"$nulls":4},103,{"$f":"IF(J444=\"\",\"\",VLOOKUP(J444,EventNPC!A:E,5,FALSE))","v":"疯道人"},5496,"这孩子天资聪颖，短短二十年就能参悟书中所写。",null,5001,18,"",null,null,{"$f":"IF(R444=\"\",\"\",\"-\"&VLOOKUP(R444,EventConditionConfig!A:C,3,FALSE)&IF(S444=\"\",\"\",CHAR(10)&\"-\"&VLOOKUP(S444,EventConditionConfig!A:C,3,FALSE)))","v":""},"","","","",null,null,"",{"$nulls":4},{"$f":"IF(A444=\"\",\"\",IF(ISNUMBER(Y444),2,IF(A445=\"\",IF(OR(AH444>0,VLOOKUP(O444,EventConfig!A:C,3,FALSE)=4),3,\"\"),1)))","v":1},500119,null,5496]
[500119,5473,"受疯道人所托，追查《御风化影诀》的下落",5487,"追查风无咎(0/1)",{"$nulls":4},103,{"$f":"IF(J445=\"\",\"\",VLOOKUP(J445,EventNPC!A:E,5,FALSE))","v":"疯道人"},5497,"无妨，此法需要大量血肉献祭，如此规模的法术定会妖气四散，找到他也是迟早之事。",null,5001,19,"",null,null,{"$f":"IF(R445=\"\",\"\",\"-\"&VLOOKUP(R445,EventConditionConfig!A:C,3,FALSE)&IF(S445=\"\",\"\",CHAR(10)&\"-\"&VLOOKUP(S445,EventConditionConfig!A:C,3,FALSE)))","v":""},"","","","",null,null,"",{"$nulls":4},{"$f":"IF(A445=\"\",\"\",IF(ISNUMBER(Y445),2,IF(A446=\"\",IF(OR(AH445>0,VLOOKUP(O445,EventConfig!A:C,3,FALSE)=4),3,\"\"),1)))","v":""},"",null,5497]
[null,"",null,"",{"$nulls":7},"",null,null,null,"",{"$nulls":7},"",null,null,"",{"$nulls":4},{"$f":"IF(A446=\"\",\"\",IF(ISNUMBER(Y446),2,IF(A447=\"\",IF(OR(AH446>0,VLOOKUP(O446,EventConfig!A:C,3,FALSE)=4),3,\"\"),1)))","v":""},"",null,""]
[{"$f":"O447*100+P447","v":500301},5498,"受化妖剑士所托，帮助他消灭藏匿北海的海妖",5499,"与化妖剑士对话",{"$nulls":5},{"$f":"IF(J447=\"\",\"\",VLOOKUP(J447,EventNPC!A:E,5,FALSE))","v":""},5500,"咸腥的海风中，你看见礁石上蜷缩着人形怪物——它的脊椎刺破皮肤形成剑鞘，一柄生满红锈的巨剑就背在嵴骨之间。当它转头看向你时，你不由得心底生寒。",null,5003,1,{"$f":"_xlfn.TEXTJOIN(\";\",1,R447:S447)","v":""},null,null,{"$f":"IF(R447=\"\",\"\",\"-\"&VLOOKUP(R447,EventConditionConfig!A:C,3,FALSE)&IF(S447=\"\",\"\",CHAR(10)&\"-\"&VLOOKUP(S447,EventConditionConfig!A:C,3,FALSE)))","v":""},{"$f":"IF(Y447=\"\",\"\",IF(ISTEXT(Y447),1,2))","v":""},{"$f":"IF(U447=1,_xlfn.TEXTJOIN(\";\",1,IF(Z447=\"\",A447+1,Z447),IF(AND(AA447<>\"\",AC447=\"\"),A447+1,AC447)),IF(U447=2,Y447,\"\"))","v":""},{"$f":"_xlfn.TEXTJOIN(\";\",1,X447,AA447)","v":""},"",null,null,"",{"$nulls":4},{"$f":"IF(A447=\"\",\"\",IF(ISNUMBER(Y447),2,IF(A448=\"\",IF(OR(AH447>0,VLOOKUP(O447,EventConfig!A:C,3,FALSE)=4),3,\"\"),1)))","v":1},500302,null,5500]
[500302,5498,"受化妖剑士所托，帮助他消灭藏匿北海的海妖",5499,"与化妖剑士对话",{"$nulls":4},113,{"$f":"IF(J448=\"\",\"\",VLOOKUP(J448,EventNPC!A:E,5,FALSE))","v":"北海剑妖"},5501,"你闻到了吗...海里的血锈味。那厮海妖在这片海滩卷走阿蘅时的这种味道",null,5003,2,"",null,null,{"$f":"IF(R448=\"\",\"\",\"-\"&VLOOKUP(R448,EventConditionConfig!A:C,3,FALSE)&IF(S448=\"\",\"\",CHAR(10)&\"-\"&VLOOKUP(S448,EventConditionConfig!A:C,3,FALSE)))","v":""},"","","","",null,null,"",{"$nulls":4},{"$f":"IF(A448=\"\",\"\",IF(ISNUMBER(Y448),2,IF(A449=\"\",IF(OR(AH448>0,VLOOKUP(O448,EventConfig!A:C,3,FALSE)=4),3,\"\"),1)))","v":1},500303,null,5501]
[500303,5498,"受化妖剑士所托，帮助他消灭藏匿北海的海妖",5499,"与化妖剑士对话",{"$nulls":4},100,{"$f":"IF(J449=\"\",\"\",VLOOKUP(J449,EventNPC!A:E,5,FALSE))","v":"玩家"},5502,"什么血锈味，我闻不见，你口中的阿蘅是？",null,5003,3,"",null,null,{"$f":"IF(R449=\"\",\"\",\"-\"&VLOOKUP(R449,EventConditionConfig!A:C,3,FALSE)&IF(S449=\"\",\"\",CHAR(10)&\"-\"&VLOOKUP(S449,EventConditionConfig!A:C,3,FALSE)))","v":""},"","","","",null,null,"",{"$nulls":4},{"$f":"IF(A449=\"\",\"\",IF(ISNUMBER(Y449),2,IF(A450=\"\",IF(OR(AH449>0,VLOOKUP(O449,EventConfig!A:C,3,FALSE)=4),3,\"\"),1)))","v":1},500304,null,5502]
[500304,5498,"受化妖剑士所托，帮助他消灭藏匿北海的海妖",5499,"与化妖剑士对话",{"$nulls":4},113,{"$f":"IF(J450=\"\",\"\",VLOOKUP(J450,EventNPC!A:E,5,FALSE))","v":"北海剑妖"},5503,"我的妻子。",null,5003,4,"",null,null,{"$f":"IF(R450=\"\",\"\",\"-\"&VLOOKUP(R450,EventConditionConfig!A:C,3,FALSE)&IF(S450=\"\",\"\",CHAR(10)&\"-\"&VLOOKUP(S450,EventConditionConfig!A:C,3,FALSE)))","v":""},"","","","",null,null,"",{"$nulls":4},{"$f":"IF(A450=\"\",\"\",IF(ISNUMBER(Y450),2,IF(A451=\"\",IF(OR(AH450>0,VLOOKUP(O450,EventConfig!A:C,3,FALSE)=4),3,\"\"),1)))","v":1},500305,null,5503]
[500305,5498,"受化妖剑士所托，帮助他消灭藏匿北海的海妖",5499,"与化妖剑士对话",{"$nulls":4},100,{"$f":"IF(J451=\"\",\"\",VLOOKUP(J451,EventNPC!A:E,5,FALSE))","v":"玩家"},5504,"妖怪还有妻子，还挺稀奇。",null,5003,5,"",null,null,{"$f":"IF(R451=\"\",\"\",\"-\"&VLOOKUP(R451,EventConditionConfig!A:C,3,FALSE)&IF(S451=\"\",\"\",CHAR(10)&\"-\"&VLOOKUP(S451,EventConditionConfig!A:C,3,FALSE)))","v":""},"","","","",null,null,"",{"$nulls":4},{"$f":"IF(A451=\"\",\"\",IF(ISNUMBER(Y451),2,IF(A452=\"\",IF(OR(AH451>0,VLOOKUP(O451,EventConfig!A:C,3,FALSE)=4),3,\"\"),1)))","v":1},500306,null,5504]
[500306,5498,"受化妖剑士所托，帮助他消灭藏匿北海的海妖",5499,"与化妖剑士对话",{"$nulls":4},113,{"$f":"IF(J452=\"\",\"\",VLOOKUP(J452,EventNPC!A:E,5,FALSE))","v":"北海剑妖"},5505,"当年我可是和你一样的修士，但从那之后一切都变了",null,5003,6,"",null,null,{"$f":"IF(R452=\"\",\"\",\"-\"&VLOOKUP(R452,EventConditionConfig!A:C,3,FALSE)&IF(S452=\"\",\"\",CHAR(10)&\"-\"&VLOOKUP(S452,EventConditionConfig!A:C,3,FALSE)))","v":""},"","","","",null,null,"",{"$nulls":4},{"$f":"IF(A452=\"\",\"\",IF(ISNUMBER(Y452),2,IF(A453=\"\",IF(OR(AH452>0,VLOOKUP(O452,EventConfig!A:C,3,FALSE)=4),3,\"\"),1)))","v":1},500307,null,5505]
[500307,5498,"受化妖剑士所托，帮助他消灭藏匿北海的海妖",5499,"与化妖剑士对话",{"$nulls":4},113,{"$f":"IF(J453=\"\",\"\",VLOOKUP(J453,EventNPC!A:E,5,FALSE))","v":"北海剑妖"},5506,"百余年我送给阿蘅的定情信物贝壳项链，被阿蘅不慎遗失在这片海滩，她于是在这苦苦寻找。可突然间一头妖兽现身，将她拖入了海中！",null,5003,7,"",null,null,{"$f":"IF(R453=\"\",\"\",\"-\"&VLOOKUP(R453,EventConditionConfig!A:C,3,FALSE)&IF(S453=\"\",\"\",CHAR(10)&\"-\"&VLOOKUP(S453,EventConditionConfig!A:C,3,FALSE)))","v":""},"","","","",null,null,"",{"$nulls":4},{"$f":"IF(A453=\"\",\"\",IF(ISNUMBER(Y453),2,IF(A454=\"\",IF(OR(AH453>0,VLOOKUP(O453,EventConfig!A:C,3,FALSE)=4),3,\"\"),1)))","v":1},500308,null,5506]
[500308,{"$f":"IF(C454=\"\",\"\",IF(C454=C453,B453,MAX(AI453,AI452)+1))","v":5498},"受化妖剑士所托，帮助他消灭藏匿北海的海妖",{"$f":"IF(E454=\"\",\"\",IF(E454=E453,D453,MAX(AI453,AI452,B454)+1))","v":5499},"与化妖剑士对话",{"$nulls":4},113,{"$f":"IF(J454=\"\",\"\",VLOOKUP(J454,EventNPC!A:E,5,FALSE))","v":"北海剑妖"},{"$f":"IF(M454=\"\",\"\",MAX(AI453,AI452,B454,D454)+1)","v":5507},"得知此事后一直守在这，等着那厮妖兽从海中现身。",null,5003,{"$f":"IF(O454=\"\",\"\",IF(O454=O453,P453+1,1))","v":8},"",null,null,{"$f":"IF(R454=\"\",\"\",\"-\"&VLOOKUP(R454,EventConditionConfig!A:C,3,FALSE)&IF(S454=\"\",\"\",CHAR(10)&\"-\"&VLOOKUP(S454,EventConditionConfig!A:C,3,FALSE)))","v":""},"","","",{"$f":"IF(OR(ISNUMBER(Y454),Y454=\"\"),\"\",MAX(AI453,AI452,B454,D454,L454)+1)","v":""},null,null,{"$f":"IF(OR(ISNUMBER(AB454),AB454=\"\"),\"\",X454+1)","v":""},{"$nulls":4},{"$f":"IF(A454=\"\",\"\",IF(ISNUMBER(Y454),2,IF(A455=\"\",IF(OR(AH454>0,VLOOKUP(O454,EventConfig!A:C,3,FALSE)=4),3,\"\"),1)))","v":1},500309,null,{"$f":"IF(A454=\"\",\"\",MAX(B454,D454,L454,X454,AA454,AI453,AI452))","v":5507}]
[500309,5498,"受化妖剑士所托，帮助他消灭藏匿北海的海妖",5499,"与化妖剑士对话",{"$nulls":4},113,{"$f":"IF(J455=\"\",\"\",VLOOKUP(J455,EventNPC!A:E,5,FALSE))","v":"北海剑妖"},5508,"我在这片海滩终于等到那厮妖兽从海中出现，我便提剑向其冲去，我的剑深深刺入了妖兽的身体，它一吃痛逃入了这片海中，空中忽然刮起了狂风，被狂风阻拦无法进入海中追寻，妖兽也被狂风困在了海中",null,5003,9,"",null,null,{"$f":"IF(R455=\"\",\"\",\"-\"&VLOOKUP(R455,EventConditionConfig!A:C,3,FALSE)&IF(S455=\"\",\"\",CHAR(10)&\"-\"&VLOOKUP(S455,EventConditionConfig!A:C,3,FALSE)))","v":""},"","","","",null,null,"",{"$nulls":4},{"$f":"IF(A455=\"\",\"\",IF(ISNUMBER(Y455),2,IF(A456=\"\",IF(OR(AH455>0,VLOOKUP(O455,EventConfig!A:C,3,FALSE)=4),3,\"\"),1)))","v":1},500310,null,5508]
[500310,5498,"受化妖剑士所托，帮助他消灭藏匿北海的海妖",5499,"与化妖剑士对话",{"$nulls":4},113,{"$f":"IF(J456=\"\",\"\",VLOOKUP(J456,EventNPC!A:E,5,FALSE))","v":"北海剑妖"},5509,"那你为何会变成了妖",null,5003,10,"",null,null,{"$f":"IF(R456=\"\",\"\",\"-\"&VLOOKUP(R456,EventConditionConfig!A:C,3,FALSE)&IF(S456=\"\",\"\",CHAR(10)&\"-\"&VLOOKUP(S456,EventConditionConfig!A:C,3,FALSE)))","v":""},"","","","",null,null,"",{"$nulls":4},{"$f":"IF(A456=\"\",\"\",IF(ISNUMBER(Y456),2,IF(A457=\"\",IF(OR(AH456>0,VLOOKUP(O456,EventConfig!A:C,3,FALSE)=4),3,\"\"),1)))","v":1},500311,null,5509]
[500311,5498,"受化妖剑士所托，帮助他消灭藏匿北海的海妖",5499,"与化妖剑士对话",{"$nulls":4},113,{"$f":"IF(J457=\"\",\"\",VLOOKUP(J457,EventNPC!A:E,5,FALSE))","v":"北海剑妖"},5510,"因北海妖气横行，我被妖气入体，身体慢慢发生了变化，不妨这也算北海对我的恩赐，妻子死后我日以继日的待在这里等着复仇，等着斩杀掉那只吞掉我妻子的妖兽。",null,5003,11,"",null,null,{"$f":"IF(R457=\"\",\"\",\"-\"&VLOOKUP(R457,EventConditionConfig!A:C,3,FALSE)&IF(S457=\"\",\"\",CHAR(10)&\"-\"&VLOOKUP(S457,EventConditionConfig!A:C,3,FALSE)))","v":""},"","","","",null,null,"",{"$nulls":4},{"$f":"IF(A457=\"\",\"\",IF(ISNUMBER(Y457),2,IF(A458=\"\",IF(OR(AH457>0,VLOOKUP(O457,EventConfig!A:C,3,FALSE)=4),3,\"\"),1)))","v":1},500312,null,5510]
[500312,5498,"受化妖剑士所托，帮助他消灭藏匿北海的海妖",5499,"与化妖剑士对话",{"$nulls":4},113,{"$f":"IF(J458=\"\",\"\",VLOOKUP(J458,EventNPC!A:E,5,FALSE))","v":"北海剑妖"},5511,"我有办法驱散狂风",null,5003,12,"",null,null,{"$f":"IF(R458=\"\",\"\",\"-\"&VLOOKUP(R458,EventConditionConfig!A:C,3,FALSE)&IF(S458=\"\",\"\",CHAR(10)&\"-\"&VLOOKUP(S458,EventConditionConfig!A:C,3,FALSE)))","v":""},"","","","",null,null,"",{"$nulls":4},{"$f":"IF(A458=\"\",\"\",IF(ISNUMBER(Y458),2,IF(A459=\"\",IF(OR(AH458>0,VLOOKUP(O458,EventConfig!A:C,3,FALSE)=4),3,\"\"),1)))","v":1},500313,null,5511]
[500313,5498,"受化妖剑士所托，帮助他消灭藏匿北海的海妖",5499,"与化妖剑士对话",{"$nulls":5},{"$f":"IF(J459=\"\",\"\",VLOOKUP(J459,EventNPC!A:E,5,FALSE))","v":""},5512,"（拿出风灵珠驱散海面狂风）（瞬间海面变的不平，一头妖力浑厚的妖兽从海面中跃出）",null,5003,13,"",null,null,{"$f":"IF(R459=\"\",\"\",\"-\"&VLOOKUP(R459,EventConditionConfig!A:C,3,FALSE)&IF(S459=\"\",\"\",CHAR(10)&\"-\"&VLOOKUP(S459,EventConditionConfig!A:C,3,FALSE)))","v":""},"","","","",null,null,"",{"$nulls":4},{"$f":"IF(A459=\"\",\"\",IF(ISNUMBER(Y459),2,IF(A460=\"\",IF(OR(AH459>0,VLOOKUP(O459,EventConfig!A:C,3,FALSE)=4),3,\"\"),1)))","v":1},500314,null,5512]
[500314,5498,"受化妖剑士所托，帮助他消灭藏匿北海的海妖",5513,"追查海妖(0/1)",{"$nulls":4},113,{"$f":"IF(J460=\"\",\"\",VLOOKUP(J460,EventNPC!A:E,5,FALSE))","v":"北海剑妖"},5514,"小友有如此绝技，当斩杀那厮妖兽后定当好好报答你！",null,5003,14,"",null,null,{"$f":"IF(R460=\"\",\"\",\"-\"&VLOOKUP(R460,EventConditionConfig!A:C,3,FALSE)&IF(S460=\"\",\"\",CHAR(10)&\"-\"&VLOOKUP(S460,EventConditionConfig!A:C,3,FALSE)))","v":""},2,100001,"","",100001,null,"",{"$nulls":4},{"$f":"IF(A460=\"\",\"\",IF(ISNUMBER(Y460),2,IF(A461=\"\",IF(OR(AH460>0,VLOOKUP(O460,EventConfig!A:C,3,FALSE)=4),3,\"\"),1)))","v":2},"500315;101",null,5514]
[500315,5498,"受化妖剑士所托，帮助他消灭藏匿北海的海妖",5513,"追查海妖(0/1)",{"$nulls":4},113,{"$f":"IF(J461=\"\",\"\",VLOOKUP(J461,EventNPC!A:E,5,FALSE))","v":"北海剑妖"},5515,"小友你快躲开，无论如何我也要这妖兽葬身于此！即便魂飞魄散永世不得轮回也无所谓！阿蘅，我来见你了！",null,5003,15,"",null,null,{"$f":"IF(R461=\"\",\"\",\"-\"&VLOOKUP(R461,EventConditionConfig!A:C,3,FALSE)&IF(S461=\"\",\"\",CHAR(10)&\"-\"&VLOOKUP(S461,EventConditionConfig!A:C,3,FALSE)))","v":""},"","","","",null,null,"",{"$nulls":4},{"$f":"IF(A461=\"\",\"\",IF(ISNUMBER(Y461),2,IF(A462=\"\",IF(OR(AH461>0,VLOOKUP(O461,EventConfig!A:C,3,FALSE)=4),3,\"\"),1)))","v":1},500316,null,5515]
[500316,5498,"受化妖剑士所托，帮助他消灭藏匿北海的海妖",5513,"追查海妖(0/1)",{"$nulls":5},{"$f":"IF(J462=\"\",\"\",VLOOKUP(J462,EventNPC!A:E,5,FALSE))","v":""},5516,"海面沸腾，妖兽嘶吼着掀起滔天巨浪，触须如铁鞭般抽向你。剑妖猛地推开你，他脊骨间的锈剑剧烈震颤，裂纹中迸发出刺目的血光。",null,5003,16,"",null,null,{"$f":"IF(R462=\"\",\"\",\"-\"&VLOOKUP(R462,EventConditionConfig!A:C,3,FALSE)&IF(S462=\"\",\"\",CHAR(10)&\"-\"&VLOOKUP(S462,EventConditionConfig!A:C,3,FALSE)))","v":""},"","","","",null,null,"",{"$nulls":4},{"$f":"IF(A462=\"\",\"\",IF(ISNUMBER(Y462),2,IF(A463=\"\",IF(OR(AH462>0,VLOOKUP(O462,EventConfig!A:C,3,FALSE)=4),3,\"\"),1)))","v":1},{"$f":"IF(AF462=\"\",\"\",CHOOSE(AF462,IF(AH462=\"\",A462+1,AH462),CONCATENATE(IF(AH462=\"\",A462+1,AH462),\";101\"),IF(AH462=\"\",O462+1,AH462)))","v":500317},null,5516]
[500317,5498,"受化妖剑士所托，帮助他消灭藏匿北海的海妖",5513,"追查海妖(0/1)",{"$nulls":4},113,{"$f":"IF(J463=\"\",\"\",VLOOKUP(J463,EventNPC!A:E,5,FALSE))","v":"北海剑妖"},5517,"百年的执念……今日，该了结了！",null,5003,17,"",null,null,{"$f":"IF(R463=\"\",\"\",\"-\"&VLOOKUP(R463,EventConditionConfig!A:C,3,FALSE)&IF(S463=\"\",\"\",CHAR(10)&\"-\"&VLOOKUP(S463,EventConditionConfig!A:C,3,FALSE)))","v":""},"","","","",null,null,"",{"$nulls":4},{"$f":"IF(A463=\"\",\"\",IF(ISNUMBER(Y463),2,IF(A464=\"\",IF(OR(AH463>0,VLOOKUP(O463,EventConfig!A:C,3,FALSE)=4),3,\"\"),1)))","v":1},500318,null,5517]
[500318,5498,"受化妖剑士所托，帮助他消灭藏匿北海的海妖",5513,"追查海妖(0/1)",{"$nulls":5},{"$f":"IF(J464=\"\",\"\",VLOOKUP(J464,EventNPC!A:E,5,FALSE))","v":""},5518,"剑妖的身体开始崩解，血肉化作赤红的火焰，缠绕着锈剑熊熊燃烧。那半枚嵌在脸上的银簪突然亮起幽蓝的光，与妖兽颅骨中的另半枚遥相呼应。",null,5003,18,"",null,null,{"$f":"IF(R464=\"\",\"\",\"-\"&VLOOKUP(R464,EventConditionConfig!A:C,3,FALSE)&IF(S464=\"\",\"\",CHAR(10)&\"-\"&VLOOKUP(S464,EventConditionConfig!A:C,3,FALSE)))","v":""},"","","","",null,null,"",{"$nulls":4},{"$f":"IF(A464=\"\",\"\",IF(ISNUMBER(Y464),2,IF(A465=\"\",IF(OR(AH464>0,VLOOKUP(O464,EventConfig!A:C,3,FALSE)=4),3,\"\"),1)))","v":1},500319,null,5518]
[500319,5498,"受化妖剑士所托，帮助他消灭藏匿北海的海妖",5513,"追查海妖(0/1)",{"$nulls":4},113,{"$f":"IF(J465=\"\",\"\",VLOOKUP(J465,EventNPC!A:E,5,FALSE))","v":"北海剑妖"},5519,"阿蘅……你看到了吗？我终于……能带你回家了！",null,5003,19,"",null,null,{"$f":"IF(R465=\"\",\"\",\"-\"&VLOOKUP(R465,EventConditionConfig!A:C,3,FALSE)&IF(S465=\"\",\"\",CHAR(10)&\"-\"&VLOOKUP(S465,EventConditionConfig!A:C,3,FALSE)))","v":""},"","","","",null,null,"",{"$nulls":4},{"$f":"IF(A465=\"\",\"\",IF(ISNUMBER(Y465),2,IF(A466=\"\",IF(OR(AH465>0,VLOOKUP(O465,EventConfig!A:C,3,FALSE)=4),3,\"\"),1)))","v":1},500320,null,5519]
[500320,5498,"受化妖剑士所托，帮助他消灭藏匿北海的海妖",5513,"追查海妖(0/1)",{"$nulls":5},{"$f":"IF(J466=\"\",\"\",VLOOKUP(J466,EventNPC!A:E,5,FALSE))","v":""},5520,"他化作一道血色，贯穿妖兽的头颅。银簪在爆炸的强光中被蹦飞，妖兽发出凄厉的哀嚎，庞大的身躯寸寸瓦解，化作漫天荧光。",null,5003,20,"",null,null,{"$f":"IF(R466=\"\",\"\",\"-\"&VLOOKUP(R466,EventConditionConfig!A:C,3,FALSE)&IF(S466=\"\",\"\",CHAR(10)&\"-\"&VLOOKUP(S466,EventConditionConfig!A:C,3,FALSE)))","v":""},"","","","",null,null,"",{"$nulls":4},{"$f":"IF(A466=\"\",\"\",IF(ISNUMBER(Y466),2,IF(A467=\"\",IF(OR(AH466>0,VLOOKUP(O466,EventConfig!A:C,3,FALSE)=4),3,\"\"),1)))","v":""},"",null,5520]
[null,"",null,"",{"$nulls":7},"",null,null,null,"",{"$nulls":7},"",null,null,"",{"$nulls":4},{"$f":"IF(A467=\"\",\"\",IF(ISNUMBER(Y467),2,IF(A468=\"\",IF(OR(AH467>0,VLOOKUP(O467,EventConfig!A:C,3,FALSE)=4),3,\"\"),1)))","v":""},"",null,""]
[{"$f":"O468*100+P468","v":500201},5521,"受疯道人所托，追查《御风化影诀》的下落",5522,"与疯道人对话(0/1)",{"$nulls":4},103,{"$f":"IF(J468=\"\",\"\",VLOOKUP(J468,EventNPC!A:E,5,FALSE))","v":"疯道人"},5523,"小友，可曾记得风无咎",null,5002,1,{"$f":"_xlfn.TEXTJOIN(\";\",1,R468:S468)","v":""},null,null,{"$f":"IF(R468=\"\",\"\",\"-\"&VLOOKUP(R468,EventConditionConfig!A:C,3,FALSE)&IF(S468=\"\",\"\",CHAR(10)&\"-\"&VLOOKUP(S468,EventConditionConfig!A:C,3,FALSE)))","v":""},{"$f":"IF(Y468=\"\",\"\",IF(ISTEXT(Y468),1,2))","v":""},{"$f":"IF(U468=1,_xlfn.TEXTJOIN(\";\",1,IF(Z468=\"\",A468+1,Z468),IF(AND(AA468<>\"\",AC468=\"\"),A468+1,AC468)),IF(U468=2,Y468,\"\"))","v":""},{"$f":"_xlfn.TEXTJOIN(\";\",1,X468,AA468)","v":""},"",null,null,"",{"$nulls":4},{"$f":"IF(A468=\"\",\"\",IF(ISNUMBER(Y468),2,IF(A469=\"\",IF(OR(AH468>0,VLOOKUP(O468,EventConfig!A:C,3,FALSE)=4),3,\"\"),1)))","v":1},500202,null,5523]
[500202,5521,"受疯道人所托，追查《御风化影诀》的下落",5522,"与疯道人对话(0/1)",{"$nulls":4},103,{"$f":"IF(J469=\"\",\"\",VLOOKUP(J469,EventNPC!A:E,5,FALSE))","v":"疯道人"},5524,"老夫感受到了风无咎的藏匿之地。",null,5002,2,"",null,null,{"$f":"IF(R469=\"\",\"\",\"-\"&VLOOKUP(R469,EventConditionConfig!A:C,3,FALSE)&IF(S469=\"\",\"\",CHAR(10)&\"-\"&VLOOKUP(S469,EventConditionConfig!A:C,3,FALSE)))","v":""},"","","","",null,null,"",{"$nulls":4},{"$f":"IF(A469=\"\",\"\",IF(ISNUMBER(Y469),2,IF(A470=\"\",IF(OR(AH469>0,VLOOKUP(O469,EventConfig!A:C,3,FALSE)=4),3,\"\"),1)))","v":1},500203,null,5524]
[500203,5521,"受疯道人所托，追查《御风化影诀》的下落",5522,"与疯道人对话(0/1)",{"$nulls":4},100,{"$f":"IF(J470=\"\",\"\",VLOOKUP(J470,EventNPC!A:E,5,FALSE))","v":"玩家"},5525,"前辈我这就赶去。",null,5002,3,"",null,null,{"$f":"IF(R470=\"\",\"\",\"-\"&VLOOKUP(R470,EventConditionConfig!A:C,3,FALSE)&IF(S470=\"\",\"\",CHAR(10)&\"-\"&VLOOKUP(S470,EventConditionConfig!A:C,3,FALSE)))","v":""},"","","","",null,null,"",{"$nulls":4},{"$f":"IF(A470=\"\",\"\",IF(ISNUMBER(Y470),2,IF(A471=\"\",IF(OR(AH470>0,VLOOKUP(O470,EventConfig!A:C,3,FALSE)=4),3,\"\"),1)))","v":1},500204,null,5525]
[500204,5521,"受疯道人所托，追查《御风化影诀》的下落",5522,"与疯道人对话(0/1)",{"$nulls":5},{"$f":"IF(J471=\"\",\"\",VLOOKUP(J471,EventNPC!A:E,5,FALSE))","v":""},5526,"（风无咎在一血池之中打坐，身旁妖气环绕，一眼望去全是生灵血肉）",null,5002,4,"",null,null,{"$f":"IF(R471=\"\",\"\",\"-\"&VLOOKUP(R471,EventConditionConfig!A:C,3,FALSE)&IF(S471=\"\",\"\",CHAR(10)&\"-\"&VLOOKUP(S471,EventConditionConfig!A:C,3,FALSE)))","v":""},"","","","",null,null,"",{"$nulls":4},{"$f":"IF(A471=\"\",\"\",IF(ISNUMBER(Y471),2,IF(A472=\"\",IF(OR(AH471>0,VLOOKUP(O471,EventConfig!A:C,3,FALSE)=4),3,\"\"),1)))","v":1},500205,null,5526]
[500205,5521,"受疯道人所托，追查《御风化影诀》的下落",5522,"与疯道人对话(0/1)",{"$nulls":4},103,{"$f":"IF(J472=\"\",\"\",VLOOKUP(J472,EventNPC!A:E,5,FALSE))","v":"疯道人"},5527,"竟用生魂喂养功法...小友当心！",null,5002,5,"",null,null,{"$f":"IF(R472=\"\",\"\",\"-\"&VLOOKUP(R472,EventConditionConfig!A:C,3,FALSE)&IF(S472=\"\",\"\",CHAR(10)&\"-\"&VLOOKUP(S472,EventConditionConfig!A:C,3,FALSE)))","v":""},"","","","",null,null,"",{"$nulls":4},{"$f":"IF(A472=\"\",\"\",IF(ISNUMBER(Y472),2,IF(A473=\"\",IF(OR(AH472>0,VLOOKUP(O472,EventConfig!A:C,3,FALSE)=4),3,\"\"),1)))","v":1},500206,null,5527]
[500206,5521,"受疯道人所托，追查《御风化影诀》的下落",5522,"与疯道人对话(0/1)",{"$nulls":5},{"$f":"IF(J473=\"\",\"\",VLOOKUP(J473,EventNPC!A:E,5,FALSE))","v":""},5528,"（血池突然炸开，风妖与影妖完全融合，妖躯浮现古魔纹路）",null,5002,6,"",null,null,{"$f":"IF(R473=\"\",\"\",\"-\"&VLOOKUP(R473,EventConditionConfig!A:C,3,FALSE)&IF(S473=\"\",\"\",CHAR(10)&\"-\"&VLOOKUP(S473,EventConditionConfig!A:C,3,FALSE)))","v":""},"","","","",null,null,"",{"$nulls":4},{"$f":"IF(A473=\"\",\"\",IF(ISNUMBER(Y473),2,IF(A474=\"\",IF(OR(AH473>0,VLOOKUP(O473,EventConfig!A:C,3,FALSE)=4),3,\"\"),1)))","v":1},500207,null,5528]
[500207,5521,"受疯道人所托，追查《御风化影诀》的下落",5522,"与疯道人对话(0/1)",{"$nulls":4},112,{"$f":"IF(J474=\"\",\"\",VLOOKUP(J474,EventNPC!A:E,5,FALSE))","v":"风无咎"},5529,"那日是我疏忽大意，这《御风化影诀》留给你们也是暴殄天物，如今在我手上才能发挥它的用处，多说无益既然你们追来了就留下给我当做丹引让我的功力更上一步吧！",null,5002,7,"",null,null,{"$f":"IF(R474=\"\",\"\",\"-\"&VLOOKUP(R474,EventConditionConfig!A:C,3,FALSE)&IF(S474=\"\",\"\",CHAR(10)&\"-\"&VLOOKUP(S474,EventConditionConfig!A:C,3,FALSE)))","v":""},"","","","",null,null,"",{"$nulls":4},{"$f":"IF(A474=\"\",\"\",IF(ISNUMBER(Y474),2,IF(A475=\"\",IF(OR(AH474>0,VLOOKUP(O474,EventConfig!A:C,3,FALSE)=4),3,\"\"),1)))","v":1},500208,null,5529]
[500208,5521,"受疯道人所托，追查《御风化影诀》的下落",5530,"击败风无咎(0/1)",{"$nulls":4},100,{"$f":"IF(J475=\"\",\"\",VLOOKUP(J475,EventNPC!A:E,5,FALSE))","v":"玩家"},5531,"大胆邪修，今日就让你魂飞魄散。",null,5002,8,"",null,null,{"$f":"IF(R475=\"\",\"\",\"-\"&VLOOKUP(R475,EventConditionConfig!A:C,3,FALSE)&IF(S475=\"\",\"\",CHAR(10)&\"-\"&VLOOKUP(S475,EventConditionConfig!A:C,3,FALSE)))","v":""},2,100001,"","",100001,null,"",{"$nulls":4},{"$f":"IF(A475=\"\",\"\",IF(ISNUMBER(Y475),2,IF(A476=\"\",IF(OR(AH475>0,VLOOKUP(O475,EventConfig!A:C,3,FALSE)=4),3,\"\"),1)))","v":2},"500209;101",null,5531]
[500209,5521,"受疯道人所托，追查《御风化影诀》的下落",5530,"击败风无咎(0/1)",{"$nulls":4},103,{"$f":"IF(J476=\"\",\"\",VLOOKUP(J476,EventNPC!A:E,5,FALSE))","v":"疯道人"},5532,"妖族灭我父母，修道的也要杀了我，我究竟做错了什么！",null,5002,9,"",null,null,{"$f":"IF(R476=\"\",\"\",\"-\"&VLOOKUP(R476,EventConditionConfig!A:C,3,FALSE)&IF(S476=\"\",\"\",CHAR(10)&\"-\"&VLOOKUP(S476,EventConditionConfig!A:C,3,FALSE)))","v":""},"","","","",null,null,"",{"$nulls":4},{"$f":"IF(A476=\"\",\"\",IF(ISNUMBER(Y476),2,IF(A477=\"\",IF(OR(AH476>0,VLOOKUP(O476,EventConfig!A:C,3,FALSE)=4),3,\"\"),1)))","v":1},500210,null,5532]
[500210,5521,"受疯道人所托，追查《御风化影诀》的下落",5530,"击败风无咎(0/1)",{"$nulls":5},{"$f":"IF(J477=\"\",\"\",VLOOKUP(J477,EventNPC!A:E,5,FALSE))","v":""},5533,"疯道人赶来后醉醺醺的说道",null,5002,10,"",null,null,{"$f":"IF(R477=\"\",\"\",\"-\"&VLOOKUP(R477,EventConditionConfig!A:C,3,FALSE)&IF(S477=\"\",\"\",CHAR(10)&\"-\"&VLOOKUP(S477,EventConditionConfig!A:C,3,FALSE)))","v":""},"","","","",null,null,"",{"$nulls":4},{"$f":"IF(A477=\"\",\"\",IF(ISNUMBER(Y477),2,IF(A478=\"\",IF(OR(AH477>0,VLOOKUP(O477,EventConfig!A:C,3,FALSE)=4),3,\"\"),1)))","v":1},500211,null,5533]
[500211,5521,"受疯道人所托，追查《御风化影诀》的下落",5530,"击败风无咎(0/1)",{"$nulls":4},103,{"$f":"IF(J478=\"\",\"\",VLOOKUP(J478,EventNPC!A:E,5,FALSE))","v":"疯道人"},5534,"小友还请留手。",null,5002,11,"",null,null,{"$f":"IF(R478=\"\",\"\",\"-\"&VLOOKUP(R478,EventConditionConfig!A:C,3,FALSE)&IF(S478=\"\",\"\",CHAR(10)&\"-\"&VLOOKUP(S478,EventConditionConfig!A:C,3,FALSE)))","v":""},"","","","",null,null,"",{"$nulls":4},{"$f":"IF(A478=\"\",\"\",IF(ISNUMBER(Y478),2,IF(A479=\"\",IF(OR(AH478>0,VLOOKUP(O478,EventConfig!A:C,3,FALSE)=4),3,\"\"),1)))","v":1},500212,null,5534]
[500212,5521,"受疯道人所托，追查《御风化影诀》的下落",5530,"击败风无咎(0/1)",{"$nulls":4},100,{"$f":"IF(J479=\"\",\"\",VLOOKUP(J479,EventNPC!A:E,5,FALSE))","v":"玩家"},5535,"\"\"",null,5002,12,"",null,null,{"$f":"IF(R479=\"\",\"\",\"-\"&VLOOKUP(R479,EventConditionConfig!A:C,3,FALSE)&IF(S479=\"\",\"\",CHAR(10)&\"-\"&VLOOKUP(S479,EventConditionConfig!A:C,3,FALSE)))","v":""},1,"500213;500213","5536;5537",5536,"前辈这种时刻还有心思喝酒",null,5537,"这步入邪道之人留着为何",null,null,null,{"$f":"IF(A479=\"\",\"\",IF(ISNUMBER(Y479),2,IF(A480=\"\",IF(OR(AH479>0,VLOOKUP(O479,EventConfig!A:C,3,FALSE)=4),3,\"\"),1)))","v":1},500213,null,5537]
[500213,5521,"受疯道人所托，追查《御风化影诀》的下落",5530,"击败风无咎(0/1)",{"$nulls":4},103,{"$f":"IF(J480=\"\",\"\",VLOOKUP(J480,EventNPC!A:E,5,FALSE))","v":"疯道人"},5538,"所谓《御风化影诀》凡人无法驾驭，老夫念他风灵根强大便想着拿去便是",null,5002,13,"",null,null,{"$f":"IF(R480=\"\",\"\",\"-\"&VLOOKUP(R480,EventConditionConfig!A:C,3,FALSE)&IF(S480=\"\",\"\",CHAR(10)&\"-\"&VLOOKUP(S480,EventConditionConfig!A:C,3,FALSE)))","v":""},"","","","",null,null,"",{"$nulls":4},{"$f":"IF(A480=\"\",\"\",IF(ISNUMBER(Y480),2,IF(A481=\"\",IF(OR(AH480>0,VLOOKUP(O480,EventConfig!A:C,3,FALSE)=4),3,\"\"),1)))","v":1},500214,null,5538]
[500214,5521,"受疯道人所托，追查《御风化影诀》的下落",5530,"击败风无咎(0/1)",{"$nulls":4},103,{"$f":"IF(J481=\"\",\"\",VLOOKUP(J481,EventNPC!A:E,5,FALSE))","v":"疯道人"},5539,"没想到你以魂为薪...以血为引...强行修炼",null,5002,14,"",null,null,{"$f":"IF(R481=\"\",\"\",\"-\"&VLOOKUP(R481,EventConditionConfig!A:C,3,FALSE)&IF(S481=\"\",\"\",CHAR(10)&\"-\"&VLOOKUP(S481,EventConditionConfig!A:C,3,FALSE)))","v":""},"","","","",null,null,"",{"$nulls":4},{"$f":"IF(A481=\"\",\"\",IF(ISNUMBER(Y481),2,IF(A482=\"\",IF(OR(AH481>0,VLOOKUP(O481,EventConfig!A:C,3,FALSE)=4),3,\"\"),1)))","v":1},500215,null,5539]
[500215,5521,"受疯道人所托，追查《御风化影诀》的下落",5530,"击败风无咎(0/1)",{"$nulls":4},103,{"$f":"IF(J482=\"\",\"\",VLOOKUP(J482,EventNPC!A:E,5,FALSE))","v":"疯道人"},5540,"今日放你一马，去洗涤魔气后还能拜入我的门下",null,5002,15,"",null,null,{"$f":"IF(R482=\"\",\"\",\"-\"&VLOOKUP(R482,EventConditionConfig!A:C,3,FALSE)&IF(S482=\"\",\"\",CHAR(10)&\"-\"&VLOOKUP(S482,EventConditionConfig!A:C,3,FALSE)))","v":""},"","","","",null,null,"",{"$nulls":4},{"$f":"IF(A482=\"\",\"\",IF(ISNUMBER(Y482),2,IF(A483=\"\",IF(OR(AH482>0,VLOOKUP(O482,EventConfig!A:C,3,FALSE)=4),3,\"\"),1)))","v":1},500216,null,5540]
[500216,5521,"受疯道人所托，追查《御风化影诀》的下落",5530,"击败风无咎(0/1)",{"$nulls":4},103,{"$f":"IF(J483=\"\",\"\",VLOOKUP(J483,EventNPC!A:E,5,FALSE))","v":"疯道人"},5541,"记住，靠吞噬得来的力量，终有一日会反噬其主。",null,5002,16,"",null,null,{"$f":"IF(R483=\"\",\"\",\"-\"&VLOOKUP(R483,EventConditionConfig!A:C,3,FALSE)&IF(S483=\"\",\"\",CHAR(10)&\"-\"&VLOOKUP(S483,EventConditionConfig!A:C,3,FALSE)))","v":""},"","","","",null,null,"",{"$nulls":4},{"$f":"IF(A483=\"\",\"\",IF(ISNUMBER(Y483),2,IF(A484=\"\",IF(OR(AH483>0,VLOOKUP(O483,EventConfig!A:C,3,FALSE)=4),3,\"\"),1)))","v":""},"",null,5541]
[null,"",null,"",{"$nulls":7},"",null,null,null,"",{"$nulls":7},"",null,null,"",{"$nulls":4},{"$f":"IF(A484=\"\",\"\",IF(ISNUMBER(Y484),2,IF(A485=\"\",IF(OR(AH484>0,VLOOKUP(O484,EventConfig!A:C,3,FALSE)=4),3,\"\"),1)))","v":""},"",null,""]
[{"$f":"O485*100+P485","v":101201},5542,"神识探索至一处矿井之中，此处灵气氤氲","",{"$nulls":6},{"$f":"IF(J485=\"\",\"\",VLOOKUP(J485,EventNPC!A:E,5,FALSE))","v":""},5543,"前往矿井采集灵矿",null,1012,1,{"$f":"_xlfn.TEXTJOIN(\";\",1,R485:S485)","v":""},null,null,{"$f":"IF(R485=\"\",\"\",\"-\"&VLOOKUP(R485,EventConditionConfig!A:C,3,FALSE)&IF(S485=\"\",\"\",CHAR(10)&\"-\"&VLOOKUP(S485,EventConditionConfig!A:C,3,FALSE)))","v":""},{"$f":"IF(Y485=\"\",\"\",1)","v":""},{"$f":"IF(U485=1,A486,\"\")","v":""},{"$f":"_xlfn.TEXTJOIN(\";\",1,X485,AA485)","v":""},"",null,null,"",{"$nulls":4},{"$f":"IF(A485=\"\",\"\",IF(ISNUMBER(Y485),2,IF(A486=\"\",IF(OR(AH485>0,VLOOKUP(O485,EventConfig!A:C,3,FALSE)=4),3,\"\"),1)))","v":""},"",null,5543]
[null,"",null,"",{"$nulls":7},"",null,null,null,"",{"$nulls":7},"",null,null,"",{"$nulls":4},{"$f":"IF(A486=\"\",\"\",IF(ISNUMBER(Y486),2,IF(A487=\"\",IF(OR(AH486>0,VLOOKUP(O486,EventConfig!A:C,3,FALSE)=4),3,\"\"),1)))","v":""},"",null,""]
[101301,5544,"神识经过一处荒废寺庙之外，寺庙之中似乎有不同寻常之物","",{"$nulls":6},{"$f":"IF(J487=\"\",\"\",VLOOKUP(J487,EventNPC!A:E,5,FALSE))","v":""},5545,"进入寺庙找寻散发灵气的修为丹",null,1013,1,"",null,null,{"$f":"IF(R487=\"\",\"\",\"-\"&VLOOKUP(R487,EventConditionConfig!A:C,3,FALSE)&IF(S487=\"\",\"\",CHAR(10)&\"-\"&VLOOKUP(S487,EventConditionConfig!A:C,3,FALSE)))","v":""},"","","","",null,null,"",{"$nulls":4},{"$f":"IF(A487=\"\",\"\",IF(ISNUMBER(Y487),2,IF(A488=\"\",IF(OR(AH487>0,VLOOKUP(O487,EventConfig!A:C,3,FALSE)=4),3,\"\"),1)))","v":""},"",null,5545]
[null,"",null,"",{"$nulls":7},"",null,null,null,"",{"$nulls":7},"",null,null,"",{"$nulls":4},{"$f":"IF(A488=\"\",\"\",IF(ISNUMBER(Y488),2,IF(A489=\"\",IF(OR(AH488>0,VLOOKUP(O488,EventConfig!A:C,3,FALSE)=4),3,\"\"),1)))","v":""},"",null,""]
[101401,5546,"神识至一处灵气充盈之地，似乎是处洞府","",{"$nulls":6},{"$f":"IF(J489=\"\",\"\",VLOOKUP(J489,EventNPC!A:E,5,FALSE))","v":""},5547,"进入洞府收集可用之物",null,1014,1,"",null,null,{"$f":"IF(R489=\"\",\"\",\"-\"&VLOOKUP(R489,EventConditionConfig!A:C,3,FALSE)&IF(S489=\"\",\"\",CHAR(10)&\"-\"&VLOOKUP(S489,EventConditionConfig!A:C,3,FALSE)))","v":""},"","","","",null,null,"",{"$nulls":4},{"$f":"IF(A489=\"\",\"\",IF(ISNUMBER(Y489),2,IF(A490=\"\",IF(OR(AH489>0,VLOOKUP(O489,EventConfig!A:C,3,FALSE)=4),3,\"\"),1)))","v":""},"",null,5547]
[null,"",null,"",{"$nulls":7},"",null,null,null,"",{"$nulls":7},"",null,null,"",{"$nulls":4},{"$f":"IF(A490=\"\",\"\",IF(ISNUMBER(Y490),2,IF(A491=\"\",IF(OR(AH490>0,VLOOKUP(O490,EventConfig!A:C,3,FALSE)=4),3,\"\"),1)))","v":""},"",null,""]
[{"$f":"O491*100+P491","v":101501},5548,"一个不知好歹的邪修拦住了你的去路！",5549,"击败山贼（0/1)",{"$nulls":4},107,{"$f":"IF(J491=\"\",\"\",VLOOKUP(J491,EventNPC!A:E,5,FALSE))","v":"村名甲"},5550,"此路是我开，此树是我栽，要想从此过，留下买命财！",null,1015,1,{"$f":"_xlfn.TEXTJOIN(\";\",1,R491:S491)","v":""},null,null,{"$f":"IF(R491=\"\",\"\",\"-\"&VLOOKUP(R491,EventConditionConfig!A:C,3,FALSE)&IF(S491=\"\",\"\",CHAR(10)&\"-\"&VLOOKUP(S491,EventConditionConfig!A:C,3,FALSE)))","v":""},{"$f":"IF(Y491=\"\",\"\",IF(ISTEXT(Y491),1,2))","v":""},{"$f":"IF(U491=1,_xlfn.TEXTJOIN(\";\",1,IF(Z491=\"\",A491+1,Z491),IF(AND(AA491<>\"\",AC491=\"\"),A491+1,AC491)),IF(U491=2,Y491,\"\"))","v":""},{"$f":"_xlfn.TEXTJOIN(\";\",1,X491,AA491)","v":""},"",null,null,"",{"$nulls":4},{"$f":"IF(A491=\"\",\"\",IF(ISNUMBER(Y491),2,IF(A492=\"\",IF(OR(AH491>0,VLOOKUP(O491,EventConfig!A:C,3,FALSE)=4),3,\"\"),1)))","v":1},101502,null,5550]
[101502,5548,"一个不知好歹的邪修拦住了你的去路！",5551,"击败山贼（1/1)",{"$nulls":4},107,{"$f":"IF(J492=\"\",\"\",VLOOKUP(J492,EventNPC!A:E,5,FALSE))","v":"村名甲"},5552,"大胆山贼，拿命来！",null,1015,2,"",null,null,{"$f":"IF(R492=\"\",\"\",\"-\"&VLOOKUP(R492,EventConditionConfig!A:C,3,FALSE)&IF(S492=\"\",\"\",CHAR(10)&\"-\"&VLOOKUP(S492,EventConditionConfig!A:C,3,FALSE)))","v":""},2,100001,"","",100001,null,"",{"$nulls":4},{"$f":"IF(A492=\"\",\"\",IF(ISNUMBER(Y492),2,IF(A493=\"\",IF(OR(AH492>0,VLOOKUP(O492,EventConfig!A:C,3,FALSE)=4),3,\"\"),1)))","v":2},"101503;101",null,5552]
[null,"",null,"",{"$nulls":7},"",null,null,null,"",{"$nulls":7},"",null,null,"",{"$nulls":4},{"$f":"IF(A493=\"\",\"\",IF(ISNUMBER(Y493),2,IF(A494=\"\",IF(OR(AH493>0,VLOOKUP(O493,EventConfig!A:C,3,FALSE)=4),3,\"\"),1)))","v":""},"",null,""]
[{"$f":"O494*100+P494","v":101601},5553,"一位和尚叫住了你，貌似有什么急事",5554,"找到袈裟",{"$nulls":4},108,{"$f":"IF(J494=\"\",\"\",VLOOKUP(J494,EventNPC!A:E,5,FALSE))","v":"村名乙"},5555,"仙长，我的袈裟被可恶的妖兽夺走了，还请为老僧主持公道啊",null,1016,1,{"$f":"_xlfn.TEXTJOIN(\";\",1,R494:S494)","v":""},null,null,{"$f":"IF(R494=\"\",\"\",\"-\"&VLOOKUP(R494,EventConditionConfig!A:C,3,FALSE)&IF(S494=\"\",\"\",CHAR(10)&\"-\"&VLOOKUP(S494,EventConditionConfig!A:C,3,FALSE)))","v":""},"","",{"$f":"_xlfn.TEXTJOIN(\";\",1,X494,AA494)","v":""},"",null,null,"",{"$nulls":4},{"$f":"IF(A494=\"\",\"\",IF(ISNUMBER(Y494),2,IF(A495=\"\",IF(OR(AH494>0,VLOOKUP(O494,EventConfig!A:C,3,FALSE)=4),3,\"\"),1)))","v":1},101602,null,5555]
[101602,5553,"一位和尚叫住了你，貌似有什么急事",5556,"使用神识寻找袈裟",{"$nulls":4},100,{"$f":"IF(J495=\"\",\"\",VLOOKUP(J495,EventNPC!A:E,5,FALSE))","v":"玩家"},5557,"在此等待即可",null,1016,2,"",null,null,{"$f":"IF(R495=\"\",\"\",\"-\"&VLOOKUP(R495,EventConditionConfig!A:C,3,FALSE)&IF(S495=\"\",\"\",CHAR(10)&\"-\"&VLOOKUP(S495,EventConditionConfig!A:C,3,FALSE)))","v":""},"","","","",null,null,"",{"$nulls":4},{"$f":"IF(A495=\"\",\"\",IF(ISNUMBER(Y495),2,IF(A496=\"\",IF(OR(AH495>0,VLOOKUP(O495,EventConfig!A:C,3,FALSE)=4),3,\"\"),1)))","v":3},30009,30009,5557]
[null,"",null,"",{"$nulls":7},"",null,null,null,"",{"$nulls":7},"",null,null,"",{"$nulls":4},{"$f":"IF(A496=\"\",\"\",IF(ISNUMBER(Y496),2,IF(A497=\"\",IF(OR(AH496>0,VLOOKUP(O496,EventConfig!A:C,3,FALSE)=4),3,\"\"),1)))","v":""},"",null,""]
[101701,5558,"一位和尚叫住了你，貌似有什么急事",5559,"找到袈裟",{"$nulls":4},108,{"$f":"IF(J497=\"\",\"\",VLOOKUP(J497,EventNPC!A:E,5,FALSE))","v":"村名乙"},5560,"感谢仙长帮我寻回这件袈裟！",null,1017,1,"18",18,null,{"$f":"IF(R497=\"\",\"\",\"-\"&VLOOKUP(R497,EventConditionConfig!A:C,3,FALSE)&IF(S497=\"\",\"\",CHAR(10)&\"-\"&VLOOKUP(S497,EventConditionConfig!A:C,3,FALSE)))","v":"-获得一件袈裟"},{"$f":"IF(Y497=\"\",\"\",IF(ISTEXT(Y497),1,2))","v":""},{"$f":"IF(U497=1,_xlfn.TEXTJOIN(\";\",1,IF(Z497=\"\",A497+1,Z497),IF(AND(AA497<>\"\",AC497=\"\"),A497+1,AC497)),IF(U497=2,Y497,\"\"))","v":""},"","",null,null,"",{"$nulls":4},{"$f":"IF(A497=\"\",\"\",IF(ISNUMBER(Y497),2,IF(A498=\"\",IF(OR(AH497>0,VLOOKUP(O497,EventConfig!A:C,3,FALSE)=4),3,\"\"),1)))","v":""},"",null,5560]
[null,"",null,"",{"$nulls":7},"",null,null,null,"",{"$nulls":7},"",null,null,"",{"$nulls":4},{"$f":"IF(A498=\"\",\"\",IF(ISNUMBER(Y498),2,IF(A499=\"\",IF(OR(AH498>0,VLOOKUP(O498,EventConfig!A:C,3,FALSE)=4),3,\"\"),1)))","v":""},"",null,""]
[{"$f":"O499*100+P499","v":3000901},5561,"击杀灵兽获得袈裟","",{"$nulls":6},{"$f":"IF(J499=\"\",\"\",VLOOKUP(J499,EventNPC!A:E,5,FALSE))","v":""},"",null,null,30009,1,{"$f":"_xlfn.TEXTJOIN(\";\",1,R499:S499)","v":""},null,null,{"$f":"IF(R499=\"\",\"\",\"-\"&VLOOKUP(R499,EventConditionConfig!A:C,3,FALSE)&IF(S499=\"\",\"\",CHAR(10)&\"-\"&VLOOKUP(S499,EventConditionConfig!A:C,3,FALSE)))","v":""},{"$f":"IF(Y499=\"\",\"\",IF(ISTEXT(Y499),1,2))","v":2},{"$f":"IF(U499=1,_xlfn.TEXTJOIN(\";\",1,IF(Z499=\"\",A499+1,Z499),IF(AND(AA499<>\"\",AC499=\"\"),A499+1,AC499)),IF(U499=2,Y499,\"\"))","v":10001},{"$f":"_xlfn.TEXTJOIN(\";\",1,X499,AA499)","v":""},"",10001,null,"",null,null,1301,1,{"$f":"IF(A499=\"\",\"\",IF(ISNUMBER(Y499),2,IF(A500=\"\",IF(OR(AH499>0,VLOOKUP(O499,EventConfig!A:C,3,FALSE)=4),3,\"\"),1)))","v":2},"300902;101",300902,5561]
[{"$f":"O500*100+P500","v":3000902},5561,"击杀灵兽获得袈裟","",{"$nulls":6},{"$f":"IF(J500=\"\",\"\",VLOOKUP(J500,EventNPC!A:E,5,FALSE))","v":""},"",null,null,30009,2,{"$f":"_xlfn.TEXTJOIN(\";\",1,R500:S500)","v":""},null,null,{"$f":"IF(R500=\"\",\"\",\"-\"&VLOOKUP(R500,EventConditionConfig!A:C,3,FALSE)&IF(S500=\"\",\"\",CHAR(10)&\"-\"&VLOOKUP(S500,EventConditionConfig!A:C,3,FALSE)))","v":""},null,null,{"$f":"_xlfn.TEXTJOIN(\";\",1,X500,AA500)","v":""},"",null,null,"",{"$nulls":4},{"$f":"IF(A500=\"\",\"\",IF(ISNUMBER(Y500),2,IF(A501=\"\",IF(OR(AH500>0,VLOOKUP(O500,EventConfig!A:C,3,FALSE)=4),3,\"\"),1)))","v":3},1017,1017,5561]
[null,"",null,"",{"$nulls":7},"",null,null,null,"",{"$nulls":7},"",null,null,"",{"$nulls":4},{"$f":"IF(A501=\"\",\"\",IF(ISNUMBER(Y501),2,IF(A502=\"\",IF(OR(AH501>0,VLOOKUP(O501,EventConfig!A:C,3,FALSE)=4),3,\"\"),1)))","v":""},"",null,""]
[101801,5562,"云游修士历练在即，急待前辈指点一二",5563,"指引云游修士",{"$nulls":4},107,{"$f":"IF(J502=\"\",\"\",VLOOKUP(J502,EventNPC!A:E,5,FALSE))","v":"村名甲"},5564,"前辈还请赐教一二",null,1018,1,"",null,null,{"$f":"IF(R502=\"\",\"\",\"-\"&VLOOKUP(R502,EventConditionConfig!A:C,3,FALSE)&IF(S502=\"\",\"\",CHAR(10)&\"-\"&VLOOKUP(S502,EventConditionConfig!A:C,3,FALSE)))","v":""},"","",{"$f":"_xlfn.TEXTJOIN(\";\",1,X502,AA502)","v":""},"",null,null,"",{"$nulls":4},{"$f":"IF(A502=\"\",\"\",IF(ISNUMBER(Y502),2,IF(A503=\"\",IF(OR(AH502>0,VLOOKUP(O502,EventConfig!A:C,3,FALSE)=4),3,\"\"),1)))","v":1},101802,null,5564]
[101802,5562,"云游修士历练在即，急待前辈指点一二",5563,"指引云游修士",{"$nulls":4},100,{"$f":"IF(J503=\"\",\"\",VLOOKUP(J503,EventNPC!A:E,5,FALSE))","v":"玩家"},5565,"\"\"",null,1018,2,"",null,null,{"$f":"IF(R503=\"\",\"\",\"-\"&VLOOKUP(R503,EventConditionConfig!A:C,3,FALSE)&IF(S503=\"\",\"\",CHAR(10)&\"-\"&VLOOKUP(S503,EventConditionConfig!A:C,3,FALSE)))","v":""},1,"101804;101803","5566;5567",5566,"不予理睬直接离开",101804,5567,"指导云游修士进行修炼",null,null,null,{"$f":"IF(A503=\"\",\"\",IF(ISNUMBER(Y503),2,IF(A504=\"\",IF(OR(AH503>0,VLOOKUP(O503,EventConfig!A:C,3,FALSE)=4),3,\"\"),1)))","v":1},101803,null,5567]
[101803,5562,"云游修士历练在即，急待前辈指点一二",5563,"指引云游修士",{"$nulls":4},107,{"$f":"IF(J504=\"\",\"\",VLOOKUP(J504,EventNPC!A:E,5,FALSE))","v":"村名甲"},5568,"多谢前辈！",null,1018,3,"",null,null,{"$f":"IF(R504=\"\",\"\",\"-\"&VLOOKUP(R504,EventConditionConfig!A:C,3,FALSE)&IF(S504=\"\",\"\",CHAR(10)&\"-\"&VLOOKUP(S504,EventConditionConfig!A:C,3,FALSE)))","v":""},"","","","",null,null,"",null,null,1202,1,{"$f":"IF(A504=\"\",\"\",IF(ISNUMBER(Y504),2,IF(A505=\"\",IF(OR(AH504>0,VLOOKUP(O504,EventConfig!A:C,3,FALSE)=4),3,\"\"),1)))","v":1},101804,null,5568]
[101804,5562,"云游修士历练在即，急待前辈指点一二",5563,"指引云游修士",{"$nulls":5},{"$f":"IF(J505=\"\",\"\",VLOOKUP(J505,EventNPC!A:E,5,FALSE))","v":""},5569,"云游修士见你不愿教导便离开了",null,1018,4,"",null,null,{"$f":"IF(R505=\"\",\"\",\"-\"&VLOOKUP(R505,EventConditionConfig!A:C,3,FALSE)&IF(S505=\"\",\"\",CHAR(10)&\"-\"&VLOOKUP(S505,EventConditionConfig!A:C,3,FALSE)))","v":""},"","","","",null,null,"",null,null,1201,1,{"$f":"IF(A505=\"\",\"\",IF(ISNUMBER(Y505),2,IF(A506=\"\",IF(OR(AH505>0,VLOOKUP(O505,EventConfig!A:C,3,FALSE)=4),3,\"\"),1)))","v":""},"",null,5569]
[null,"",null,"",{"$nulls":7},"",null,null,null,"",{"$nulls":7},"",null,null,"",{"$nulls":4},{"$f":"IF(A506=\"\",\"\",IF(ISNUMBER(Y506),2,IF(A507=\"\",IF(OR(AH506>0,VLOOKUP(O506,EventConfig!A:C,3,FALSE)=4),3,\"\"),1)))","v":""},"",null,""]
[{"$f":"O507*100+P507","v":101901},5570,"逍遥宗的长老似乎有事找你",5571,"清剿妖王（0/1）",{"$nulls":4},108,{"$f":"IF(J507=\"\",\"\",VLOOKUP(J507,EventNPC!A:E,5,FALSE))","v":"村名乙"},5572,"今日我宗弟子发现云海妖气冲天，怕是有妖兽来临。还望小友走一趟，消灭那的妖王",null,1019,1,{"$f":"_xlfn.TEXTJOIN(\";\",1,R507:S507)","v":""},null,null,null,{"$f":"IF(Y507=\"\",\"\",IF(ISTEXT(Y507),1,2))","v":""},{"$f":"IF(U507=1,_xlfn.TEXTJOIN(\";\",1,IF(Z507=\"\",A507+1,Z507),IF(AND(AA507<>\"\",AC507=\"\"),A507+1,AC507)),IF(U507=2,Y507,\"\"))","v":""},{"$f":"_xlfn.TEXTJOIN(\";\",1,X507,AA507)","v":""},"",null,null,"",{"$nulls":4},{"$f":"IF(A507=\"\",\"\",IF(ISNUMBER(Y507),2,IF(A508=\"\",IF(OR(AH507>0,VLOOKUP(O507,EventConfig!A:C,3,FALSE)=4),3,\"\"),1)))","v":1},101902,null,5572]
[101902,5570,"逍遥宗的长老似乎有事找你",5571,"清剿妖王（0/1）",{"$nulls":4},100,{"$f":"IF(J508=\"\",\"\",VLOOKUP(J508,EventNPC!A:E,5,FALSE))","v":"玩家"},5573,"小事一桩",null,1019,2,"",null,null,{"$f":"IF(R508=\"\",\"\",\"-\"&VLOOKUP(R508,EventConditionConfig!A:C,3,FALSE)&IF(S508=\"\",\"\",CHAR(10)&\"-\"&VLOOKUP(S508,EventConditionConfig!A:C,3,FALSE)))","v":""},5,"","","",null,null,"",{"$nulls":4},{"$f":"IF(A508=\"\",\"\",IF(ISNUMBER(Y508),2,IF(A509=\"\",IF(OR(AH508>0,VLOOKUP(O508,EventConfig!A:C,3,FALSE)=4),3,\"\"),1)))","v":1},101903,null,5573]
[101903,5574,"前往清剿妖王",5571,"清剿妖王（0/1）",{"$nulls":5},{"$f":"IF(J509=\"\",\"\",VLOOKUP(J509,EventNPC!A:E,5,FALSE))","v":""},"",null,null,1019,3,"",null,null,{"$f":"IF(R509=\"\",\"\",\"-\"&VLOOKUP(R509,EventConditionConfig!A:C,3,FALSE)&IF(S509=\"\",\"\",CHAR(10)&\"-\"&VLOOKUP(S509,EventConditionConfig!A:C,3,FALSE)))","v":""},{"$f":"IF(Y509=\"\",\"\",IF(ISTEXT(Y509),1,2))","v":2},{"$f":"IF(U509=1,_xlfn.TEXTJOIN(\";\",1,IF(Z509=\"\",A509+1,Z509),IF(AND(AA509<>\"\",AC509=\"\"),A509+1,AC509)),IF(U509=2,Y509,\"\"))","v":100001},"","",100001,null,"",{"$nulls":4},{"$f":"IF(A509=\"\",\"\",IF(ISNUMBER(Y509),2,IF(A510=\"\",IF(OR(AH509>0,VLOOKUP(O509,EventConfig!A:C,3,FALSE)=4),3,\"\"),1)))","v":2},"101904;101",null,5574]
[null,"",null,"",{"$nulls":7},"",null,null,null,"",{"$nulls":7},"",null,null,"",{"$nulls":4},{"$f":"IF(A510=\"\",\"\",IF(ISNUMBER(Y510),2,IF(A511=\"\",IF(OR(AH510>0,VLOOKUP(O510,EventConfig!A:C,3,FALSE)=4),3,\"\"),1)))","v":""},"",null,""]
[{"$f":"O511*100+P511","v":102001},5575,"村民急匆匆的前来找你",5576,"清剿妖兽（0/1）",{"$nulls":4},108,{"$f":"IF(J511=\"\",\"\",VLOOKUP(J511,EventNPC!A:E,5,FALSE))","v":"村名乙"},5577,"仙长，村中有妖兽闹事，还请出手解决！",null,1020,1,{"$f":"_xlfn.TEXTJOIN(\";\",1,R511:S511)","v":""},null,null,null,1,"102002;102002",{"$f":"_xlfn.TEXTJOIN(\";\",1,X511,AA511)","v":"5578;5579"},5578,"区区妖兽，灭掉便是",null,5579,"我可是要酬劳的",null,null,null,{"$f":"IF(A511=\"\",\"\",IF(ISNUMBER(Y511),2,IF(A512=\"\",IF(OR(AH511>0,VLOOKUP(O511,EventConfig!A:C,3,FALSE)=4),3,\"\"),1)))","v":1},102002,null,5579]
[102002,5575,"村民急匆匆的前来找你",5576,"清剿妖兽（0/1）",{"$nulls":4},108,{"$f":"IF(J512=\"\",\"\",VLOOKUP(J512,EventNPC!A:E,5,FALSE))","v":"村名乙"},5580,"多谢仙长相救!报酬好说",null,1020,2,"",null,null,null,2,100001,"","",100001,null,"",null,null,1203,1,{"$f":"IF(A512=\"\",\"\",IF(ISNUMBER(Y512),2,IF(A513=\"\",IF(OR(AH512>0,VLOOKUP(O512,EventConfig!A:C,3,FALSE)=4),3,\"\"),1)))","v":2},"102003;101",null,5580]
[null,"",null,"",{"$nulls":7},"",null,null,null,"",{"$nulls":7},"",null,null,"",{"$nulls":4},{"$f":"IF(A513=\"\",\"\",IF(ISNUMBER(Y513),2,IF(A514=\"\",IF(OR(AH513>0,VLOOKUP(O513,EventConfig!A:C,3,FALSE)=4),3,\"\"),1)))","v":""},"",null,""]
[102101,5581,"一个和尚急匆匆的叫住了你",5582,"与和尚对话",{"$nulls":4},108,{"$f":"IF(J514=\"\",\"\",VLOOKUP(J514,EventNPC!A:E,5,FALSE))","v":"村名乙"},5583,"前些日子有妖兽在寺中大闹，盗走了琉璃盏，还请仙长出手相助",null,1021,1,"",null,null,null,{"$f":"IF(Y514=\"\",\"\",IF(ISTEXT(Y514),1,2))","v":""},{"$f":"IF(U514=1,_xlfn.TEXTJOIN(\";\",1,IF(Z514=\"\",A514+1,Z514),IF(AND(AA514<>\"\",AC514=\"\"),A514+1,AC514)),IF(U514=2,Y514,\"\"))","v":""},"","",null,null,"",{"$nulls":4},{"$f":"IF(A514=\"\",\"\",IF(ISNUMBER(Y514),2,IF(A515=\"\",IF(OR(AH514>0,VLOOKUP(O514,EventConfig!A:C,3,FALSE)=4),3,\"\"),1)))","v":1},102102,null,5583]
[102102,5581,"一个和尚急匆匆的叫住了你",5582,"与和尚对话",{"$nulls":4},100,{"$f":"IF(J515=\"\",\"\",VLOOKUP(J515,EventNPC!A:E,5,FALSE))","v":"玩家"},5584," ",null,1021,2,"",null,null,{"$f":"IF(R515=\"\",\"\",\"-\"&VLOOKUP(R515,EventConditionConfig!A:C,3,FALSE)&IF(S515=\"\",\"\",CHAR(10)&\"-\"&VLOOKUP(S515,EventConditionConfig!A:C,3,FALSE)))","v":""},1,"102103","5585",5585,"还请在此等候我拿来琉璃盏",null,"",{"$nulls":4},{"$f":"IF(A515=\"\",\"\",IF(ISNUMBER(Y515),2,IF(A516=\"\",IF(OR(AH515>0,VLOOKUP(O515,EventConfig!A:C,3,FALSE)=4),3,\"\"),1)))","v":1},102103,null,5585]
[102103,5581,"一个和尚急匆匆的叫住了你",5582,"与和尚对话",{"$nulls":4},108,{"$f":"IF(J516=\"\",\"\",VLOOKUP(J516,EventNPC!A:E,5,FALSE))","v":"村名乙"},5586,"感谢仙长相助！",null,1021,3,"19",19,null,{"$f":"IF(R516=\"\",\"\",\"-\"&VLOOKUP(R516,EventConditionConfig!A:C,3,FALSE)&IF(S516=\"\",\"\",CHAR(10)&\"-\"&VLOOKUP(S516,EventConditionConfig!A:C,3,FALSE)))","v":"-夺回琉璃盏"},"","","","",null,null,"",null,null,1203,1,{"$f":"IF(A516=\"\",\"\",IF(ISNUMBER(Y516),2,IF(A517=\"\",IF(OR(AH516>0,VLOOKUP(O516,EventConfig!A:C,3,FALSE)=4),3,\"\"),1)))","v":""},"",null,5586]
[null,"",null,"",{"$nulls":7},"",null,null,null,"",{"$nulls":7},"",null,null,"",{"$nulls":4},{"$f":"IF(A517=\"\",\"\",IF(ISNUMBER(Y517),2,IF(A518=\"\",IF(OR(AH517>0,VLOOKUP(O517,EventConfig!A:C,3,FALSE)=4),3,\"\"),1)))","v":""},"",null,""]
[{"$f":"O518*100+P518","v":3001001},{"$f":"IF(C518=\"\",\"\",IF(C518=C517,B517,MAX(AI517,AI516)+1))","v":5587},"击败盗走琉璃盏的妖兽",{"$f":"IF(E518=\"\",\"\",IF(E518=E517,D517,MAX(AI517,AI516,B518)+1))","v":5588},"击败妖兽",{"$nulls":4},100,{"$f":"IF(J518=\"\",\"\",VLOOKUP(J518,EventNPC!A:E,5,FALSE))","v":"玩家"},{"$f":"IF(M518=\"\",\"\",MAX(AI517,AI516,B518,D518)+1)","v":5589},"好一个妖兽竟敢盗走琉璃盏！",null,30010,{"$f":"IF(O518=\"\",\"\",IF(O518=O517,P517+1,1))","v":1},{"$f":"_xlfn.TEXTJOIN(\";\",1,R518:S518)","v":""},null,null,null,{"$f":"IF(Y518=\"\",\"\",IF(ISTEXT(Y518),1,2))","v":2},{"$f":"IF(U518=1,_xlfn.TEXTJOIN(\";\",1,IF(Z518=\"\",A518+1,Z518),IF(AND(AA518<>\"\",AC518=\"\"),A518+1,AC518)),IF(U518=2,Y518,\"\"))","v":100001},{"$f":"_xlfn.TEXTJOIN(\";\",1,X518,AA518)","v":""},{"$f":"IF(OR(ISNUMBER(Y518),Y518=\"\"),\"\",MAX(AI517,AI516,B518,D518,L518)+1)","v":""},100001,null,{"$f":"IF(OR(ISNUMBER(AB518),AB518=\"\"),\"\",X518+1)","v":""},null,null,1001,null,{"$f":"IF(A518=\"\",\"\",IF(ISNUMBER(Y518),2,IF(A519=\"\",IF(OR(AH518>0,VLOOKUP(O518,EventConfig!A:C,3,FALSE)=4),3,\"\"),1)))","v":2},"3001002;101",null,{"$f":"IF(A518=\"\",\"\",MAX(B518,D518,L518,X518,AA518,AI517,AI516))","v":5589}]
[null,"",null,"",{"$nulls":7},"",null,null,null,"",{"$nulls":4},"","","","",null,null,"",{"$nulls":4},{"$f":"IF(A519=\"\",\"\",IF(ISNUMBER(Y519),2,IF(A520=\"\",IF(OR(AH519>0,VLOOKUP(O519,EventConfig!A:C,3,FALSE)=4),3,\"\"),1)))","v":""},"",null,""]
[102201,5590,"道之何在，明境道长前来论道",5591,"与道长进行对话",{"$nulls":4},107,{"$f":"IF(J520=\"\",\"\",VLOOKUP(J520,EventNPC!A:E,5,FALSE))","v":"村名甲"},5592,"世人都知神仙好，惟有功名忘不了。",null,1022,1,"",null,null,{"$f":"IF(R520=\"\",\"\",\"-\"&VLOOKUP(R520,EventConditionConfig!A:C,3,FALSE)&IF(S520=\"\",\"\",CHAR(10)&\"-\"&VLOOKUP(S520,EventConditionConfig!A:C,3,FALSE)))","v":""},"","","","",null,null,"",{"$nulls":4},{"$f":"IF(A520=\"\",\"\",IF(ISNUMBER(Y520),2,IF(A521=\"\",IF(OR(AH520>0,VLOOKUP(O520,EventConfig!A:C,3,FALSE)=4),3,\"\"),1)))","v":1},102202,null,5592]
[102202,5590,"道之何在，明境道长前来论道",5591,"与道长进行对话",{"$nulls":4},107,{"$f":"IF(J521=\"\",\"\",VLOOKUP(J521,EventNPC!A:E,5,FALSE))","v":"村名甲"},5593,"古今将相在何方？荒冢一堆草没了。",null,1022,2,"",null,null,{"$f":"IF(R521=\"\",\"\",\"-\"&VLOOKUP(R521,EventConditionConfig!A:C,3,FALSE)&IF(S521=\"\",\"\",CHAR(10)&\"-\"&VLOOKUP(S521,EventConditionConfig!A:C,3,FALSE)))","v":""},"","","","",null,null,"",{"$nulls":4},{"$f":"IF(A521=\"\",\"\",IF(ISNUMBER(Y521),2,IF(A522=\"\",IF(OR(AH521>0,VLOOKUP(O521,EventConfig!A:C,3,FALSE)=4),3,\"\"),1)))","v":1},102203,null,5593]
[102203,5590,"道之何在，明境道长前来论道",5591,"与道长进行对话",{"$nulls":4},107,{"$f":"IF(J522=\"\",\"\",VLOOKUP(J522,EventNPC!A:E,5,FALSE))","v":"村名甲"},5594,"仙友，这歌儿有些意思，可替我注解？",null,1022,3,"",null,null,{"$f":"IF(R522=\"\",\"\",\"-\"&VLOOKUP(R522,EventConditionConfig!A:C,3,FALSE)&IF(S522=\"\",\"\",CHAR(10)&\"-\"&VLOOKUP(S522,EventConditionConfig!A:C,3,FALSE)))","v":""},"","","","",null,null,"",{"$nulls":4},{"$f":"IF(A522=\"\",\"\",IF(ISNUMBER(Y522),2,IF(A523=\"\",IF(OR(AH522>0,VLOOKUP(O522,EventConfig!A:C,3,FALSE)=4),3,\"\"),1)))","v":1},102204,null,5594]
[102204,5590,"道之何在，明境道长前来论道",5591,"与道长进行对话",{"$nulls":4},100,{"$f":"IF(J523=\"\",\"\",VLOOKUP(J523,EventNPC!A:E,5,FALSE))","v":"玩家"},5595,"\"\"",null,1022,4,"",null,null,{"$f":"IF(R523=\"\",\"\",\"-\"&VLOOKUP(R523,EventConditionConfig!A:C,3,FALSE)&IF(S523=\"\",\"\",CHAR(10)&\"-\"&VLOOKUP(S523,EventConditionConfig!A:C,3,FALSE)))","v":""},1,"102205;102207","5596;5597",5596,"言语论道",null,5597,"拒绝回答",102207,null,null,{"$f":"IF(A523=\"\",\"\",IF(ISNUMBER(Y523),2,IF(A524=\"\",IF(OR(AH523>0,VLOOKUP(O523,EventConfig!A:C,3,FALSE)=4),3,\"\"),1)))","v":1},102205,null,5597]
[102205,5590,"道之何在，明境道长前来论道",5591,"与道长进行对话",{"$nulls":4},107,{"$f":"IF(J524=\"\",\"\",VLOOKUP(J524,EventNPC!A:E,5,FALSE))","v":"村名甲"},5598,"求仙不舍功名场，甚荒唐，到头来都是为他人作嫁衣裳。",null,1022,5,"",null,null,{"$f":"IF(R524=\"\",\"\",\"-\"&VLOOKUP(R524,EventConditionConfig!A:C,3,FALSE)&IF(S524=\"\",\"\",CHAR(10)&\"-\"&VLOOKUP(S524,EventConditionConfig!A:C,3,FALSE)))","v":""},"","","","",null,null,"",{"$nulls":4},{"$f":"IF(A524=\"\",\"\",IF(ISNUMBER(Y524),2,IF(A525=\"\",IF(OR(AH524>0,VLOOKUP(O524,EventConfig!A:C,3,FALSE)=4),3,\"\"),1)))","v":1},102206,null,5598]
[102206,5590,"道之何在，明境道长前来论道",5591,"与道长进行对话",{"$nulls":4},107,{"$f":"IF(J525=\"\",\"\",VLOOKUP(J525,EventNPC!A:E,5,FALSE))","v":"村名甲"},5599,"明镜道长听到你的回复后，甚为满意的离去了。",null,1022,6,"",null,null,{"$f":"IF(R525=\"\",\"\",\"-\"&VLOOKUP(R525,EventConditionConfig!A:C,3,FALSE)&IF(S525=\"\",\"\",CHAR(10)&\"-\"&VLOOKUP(S525,EventConditionConfig!A:C,3,FALSE)))","v":""},"","","","",null,null,"",{"$nulls":4},{"$f":"IF(A525=\"\",\"\",IF(ISNUMBER(Y525),2,IF(A526=\"\",IF(OR(AH525>0,VLOOKUP(O525,EventConfig!A:C,3,FALSE)=4),3,\"\"),1)))","v":1},102207,null,5599]
[102207,5590,"道之何在，明境道长前来论道",5591,"与道长进行对话",{"$nulls":4},107,{"$f":"IF(J526=\"\",\"\",VLOOKUP(J526,EventNPC!A:E,5,FALSE))","v":"村名甲"},5600,"明镜道长听到你的回复后，离开了。",null,1022,7,"",null,null,{"$f":"IF(R526=\"\",\"\",\"-\"&VLOOKUP(R526,EventConditionConfig!A:C,3,FALSE)&IF(S526=\"\",\"\",CHAR(10)&\"-\"&VLOOKUP(S526,EventConditionConfig!A:C,3,FALSE)))","v":""},"","","","",null,null,"",{"$nulls":4},{"$f":"IF(A526=\"\",\"\",IF(ISNUMBER(Y526),2,IF(A527=\"\",IF(OR(AH526>0,VLOOKUP(O526,EventConfig!A:C,3,FALSE)=4),3,\"\"),1)))","v":""},{"$f":"IF(AF526=\"\",\"\",CHOOSE(AF526,IF(AH526=\"\",A526+1,AH526),CONCATENATE(IF(AH526=\"\",A526+1,AH526),\";101\"),IF(AH526=\"\",O526+1,AH526)))","v":""},null,5600]
[null,"",null,"",{"$nulls":7},"",null,null,null,"",{"$nulls":4},"","","","",null,null,"",{"$nulls":4},{"$f":"IF(A527=\"\",\"\",IF(ISNUMBER(Y527),2,IF(A528=\"\",IF(OR(AH527>0,VLOOKUP(O527,EventConfig!A:C,3,FALSE)=4),3,\"\"),1)))","v":""},"",null,""]
[{"$f":"O528*100+P528","v":102301},5601,"药童前来求得一枚丹药",5602,"与小药童对话(0/1)",{"$nulls":4},107,{"$f":"IF(J528=\"\",\"\",VLOOKUP(J528,EventNPC!A:E,5,FALSE))","v":"村名甲"},5603,"听闻道友经常出外历练，今日我师傅炼制丹药，尚缺一颗渡劫丹作为药引，苦寻不得，道友可否赠与一颗。",null,1023,1,{"$f":"_xlfn.TEXTJOIN(\";\",1,R528:S528)","v":""},null,null,{"$f":"IF(R528=\"\",\"\",\"-\"&VLOOKUP(R528,EventConditionConfig!A:C,3,FALSE)&IF(S528=\"\",\"\",CHAR(10)&\"-\"&VLOOKUP(S528,EventConditionConfig!A:C,3,FALSE)))","v":""},{"$f":"IF(Y528=\"\",\"\",IF(ISTEXT(Y528),1,2))","v":1},{"$f":"IF(U528=1,_xlfn.TEXTJOIN(\";\",1,IF(Z528=\"\",A528+1,Z528),IF(AND(AA528<>\"\",AC528=\"\"),A528+1,AC528)),IF(U528=2,Y528,\"\"))","v":"102302;102303"},{"$f":"_xlfn.TEXTJOIN(\";\",1,X528,AA528)","v":"5604;5605"},5604,"给予一颗渡劫丹",102302,5605,"没有此渡劫丹",102303,null,null,{"$f":"IF(A528=\"\",\"\",IF(ISNUMBER(Y528),2,IF(A529=\"\",IF(OR(AH528>0,VLOOKUP(O528,EventConfig!A:C,3,FALSE)=4),3,\"\"),1)))","v":1},102302,null,5605]
[102302,5601,"药童前来求得一枚丹药",5602,"与小药童对话(0/1)",{"$nulls":5},{"$f":"IF(J529=\"\",\"\",VLOOKUP(J529,EventNPC!A:E,5,FALSE))","v":""},5606,"你将丹药赠与药童。药童十分高兴表示可以回复命了。",null,1023,2,"20",20,null,{"$f":"IF(R529=\"\",\"\",\"-\"&VLOOKUP(R529,EventConditionConfig!A:C,3,FALSE)&IF(S529=\"\",\"\",CHAR(10)&\"-\"&VLOOKUP(S529,EventConditionConfig!A:C,3,FALSE)))","v":"-给予渡劫丹"},"","","","",null,null,"",null,null,1001,null,{"$f":"IF(A529=\"\",\"\",IF(ISNUMBER(Y529),2,IF(A530=\"\",IF(OR(AH529>0,VLOOKUP(O529,EventConfig!A:C,3,FALSE)=4),3,\"\"),1)))","v":1},102303,null,5606]
[102303,5601,"药童前来求得一枚丹药",5602,"与小药童对话(0/1)",{"$nulls":5},{"$f":"IF(J530=\"\",\"\",VLOOKUP(J530,EventNPC!A:E,5,FALSE))","v":""},5607,"药童听完便离开了",null,1023,3,"",null,null,{"$f":"IF(R530=\"\",\"\",\"-\"&VLOOKUP(R530,EventConditionConfig!A:C,3,FALSE)&IF(S530=\"\",\"\",CHAR(10)&\"-\"&VLOOKUP(S530,EventConditionConfig!A:C,3,FALSE)))","v":""},"","","","",null,null,"",{"$nulls":4},{"$f":"IF(A530=\"\",\"\",IF(ISNUMBER(Y530),2,IF(A531=\"\",IF(OR(AH530>0,VLOOKUP(O530,EventConfig!A:C,3,FALSE)=4),3,\"\"),1)))","v":""},"",null,5607]
[null,"",null,"",{"$nulls":7},"",null,null,null,"",{"$nulls":4},"","","","",null,null,"",{"$nulls":4},{"$f":"IF(A531=\"\",\"\",IF(ISNUMBER(Y531),2,IF(A532=\"\",IF(OR(AH531>0,VLOOKUP(O531,EventConfig!A:C,3,FALSE)=4),3,\"\"),1)))","v":""},"",null,""]
[{"$f":"O532*100+P532","v":102401},5608,"风无咎前来武艺论道",5609,"与风无咎对话(0/1)",{"$nulls":4},112,{"$f":"IF(J532=\"\",\"\",VLOOKUP(J532,EventNPC!A:E,5,FALSE))","v":"风无咎"},5610,"听闻道友最近修为又有所精进，特来讨教，望能切磋一二",null,1024,1,{"$f":"_xlfn.TEXTJOIN(\";\",1,R532:S532)","v":""},null,null,{"$f":"IF(R532=\"\",\"\",\"-\"&VLOOKUP(R532,EventConditionConfig!A:C,3,FALSE)&IF(S532=\"\",\"\",CHAR(10)&\"-\"&VLOOKUP(S532,EventConditionConfig!A:C,3,FALSE)))","v":""},{"$f":"IF(Y532=\"\",\"\",IF(ISTEXT(Y532),1,2))","v":1},{"$f":"IF(U532=1,_xlfn.TEXTJOIN(\";\",1,IF(Z532=\"\",A532+1,Z532),IF(AND(AA532<>\"\",AC532=\"\"),A532+1,AC532)),IF(U532=2,Y532,\"\"))","v":"102402;102403"},"5611;5612",5611,"全力切磋",102402,5612,"回绝切磋",102403,null,null,{"$f":"IF(A532=\"\",\"\",IF(ISNUMBER(Y532),2,IF(A533=\"\",IF(OR(AH532>0,VLOOKUP(O532,EventConfig!A:C,3,FALSE)=4),3,\"\"),1)))","v":1},102402,null,5612]
[102402,5608,"风无咎前来武艺论道",5609,"与风无咎对话(0/1)",{"$nulls":4},112,{"$f":"IF(J533=\"\",\"\",VLOOKUP(J533,EventNPC!A:E,5,FALSE))","v":"风无咎"},5613,"还请讨教！",null,1024,2,"",null,null,{"$f":"IF(R533=\"\",\"\",\"-\"&VLOOKUP(R533,EventConditionConfig!A:C,3,FALSE)&IF(S533=\"\",\"\",CHAR(10)&\"-\"&VLOOKUP(S533,EventConditionConfig!A:C,3,FALSE)))","v":""},{"$f":"IF(Y533=\"\",\"\",IF(ISTEXT(Y533),1,2))","v":2},{"$f":"IF(U533=1,_xlfn.TEXTJOIN(\";\",1,IF(Z533=\"\",A533+1,Z533),IF(AND(AA533<>\"\",AC533=\"\"),A533+1,AC533)),IF(U533=2,Y533,\"\"))","v":100001},{"$f":"_xlfn.TEXTJOIN(\";\",1,X533,AA533)","v":""},"",100001,null,"",null,null,1001,2,{"$f":"IF(A533=\"\",\"\",IF(ISNUMBER(Y533),2,IF(A534=\"\",IF(OR(AH533>0,VLOOKUP(O533,EventConfig!A:C,3,FALSE)=4),3,\"\"),1)))","v":2},"102403;101",null,5613]
[102403,5608,"风无咎前来武艺论道",5609,"与风无咎对话(0/1)",{"$nulls":4},112,{"$f":"IF(J534=\"\",\"\",VLOOKUP(J534,EventNPC!A:E,5,FALSE))","v":"风无咎"},5614,"若不愿意，也无妨，此物赠与道友继续修行",null,1024,3,"",null,null,{"$f":"IF(R534=\"\",\"\",\"-\"&VLOOKUP(R534,EventConditionConfig!A:C,3,FALSE)&IF(S534=\"\",\"\",CHAR(10)&\"-\"&VLOOKUP(S534,EventConditionConfig!A:C,3,FALSE)))","v":""},"","","","",null,null,"",null,null,1001,1,{"$f":"IF(A534=\"\",\"\",IF(ISNUMBER(Y534),2,IF(A535=\"\",IF(OR(AH534>0,VLOOKUP(O534,EventConfig!A:C,3,FALSE)=4),3,\"\"),1)))","v":""},"",null,5614]
[null,"",null,"",{"$nulls":7},"",null,null,null,"",{"$nulls":4},"","","","",null,null,"",{"$nulls":4},{"$f":"IF(A535=\"\",\"\",IF(ISNUMBER(Y535),2,IF(A536=\"\",IF(OR(AH535>0,VLOOKUP(O535,EventConfig!A:C,3,FALSE)=4),3,\"\"),1)))","v":""},"",null,""]
[{"$f":"O536*100+P536","v":102501},5615,"魔族修士前来威胁你加入魔族",5616,"与魔族交涉",{"$nulls":4},107,{"$f":"IF(J536=\"\",\"\",VLOOKUP(J536,EventNPC!A:E,5,FALSE))","v":"村名甲"},5617,"三番两次邀请你加入我魔族，你却为了北海执迷不悟，今日本宫便让你知道拒绝魔族的后果！",null,1025,1,{"$f":"_xlfn.TEXTJOIN(\";\",1,R536:S536)","v":""},null,null,{"$f":"IF(R536=\"\",\"\",\"-\"&VLOOKUP(R536,EventConditionConfig!A:C,3,FALSE)&IF(S536=\"\",\"\",CHAR(10)&\"-\"&VLOOKUP(S536,EventConditionConfig!A:C,3,FALSE)))","v":""},1,"102502;102503","5618;5619",5618,"全力应战",102502,5619,"御剑逃离",102503,null,null,{"$f":"IF(A536=\"\",\"\",IF(ISNUMBER(Y536),2,IF(A537=\"\",IF(OR(AH536>0,VLOOKUP(O536,EventConfig!A:C,3,FALSE)=4),3,\"\"),1)))","v":1},102502,null,5619]
[102502,5615,"魔族修士前来威胁你加入魔族",5616,"与魔族交涉",{"$nulls":4},107,{"$f":"IF(J537=\"\",\"\",VLOOKUP(J537,EventNPC!A:E,5,FALSE))","v":"村名甲"},5620,"你可知魔族威名！受死吧！",null,1025,2,"",null,null,{"$f":"IF(R537=\"\",\"\",\"-\"&VLOOKUP(R537,EventConditionConfig!A:C,3,FALSE)&IF(S537=\"\",\"\",CHAR(10)&\"-\"&VLOOKUP(S537,EventConditionConfig!A:C,3,FALSE)))","v":""},2,100001,"","",100001,null,"",null,null,1001,1,{"$f":"IF(A537=\"\",\"\",IF(ISNUMBER(Y537),2,IF(A538=\"\",IF(OR(AH537>0,VLOOKUP(O537,EventConfig!A:C,3,FALSE)=4),3,\"\"),1)))","v":2},"102503;101",null,5620]
[102503,5615,"魔族修士前来威胁你加入魔族",5616,"与魔族交涉",{"$nulls":4},107,{"$f":"IF(J538=\"\",\"\",VLOOKUP(J538,EventNPC!A:E,5,FALSE))","v":"村名甲"},5621,"可恶！今日饶你一马",null,1025,3,"",null,null,{"$f":"IF(R538=\"\",\"\",\"-\"&VLOOKUP(R538,EventConditionConfig!A:C,3,FALSE)&IF(S538=\"\",\"\",CHAR(10)&\"-\"&VLOOKUP(S538,EventConditionConfig!A:C,3,FALSE)))","v":""},"","","","",null,null,"",{"$nulls":4},{"$f":"IF(A538=\"\",\"\",IF(ISNUMBER(Y538),2,IF(A539=\"\",IF(OR(AH538>0,VLOOKUP(O538,EventConfig!A:C,3,FALSE)=4),3,\"\"),1)))","v":""},"",null,5621]
[null,"",null,"",{"$nulls":7},"",null,null,null,"",{"$nulls":4},"","","","",null,null,"",{"$nulls":4},{"$f":"IF(A539=\"\",\"\",IF(ISNUMBER(Y539),2,IF(A540=\"\",IF(OR(AH539>0,VLOOKUP(O539,EventConfig!A:C,3,FALSE)=4),3,\"\"),1)))","v":""},"",null,""]
[{"$f":"O540*100+P540","v":102601},5622,"妖兽入侵",5623,"前去击杀妖兽",{"$nulls":4},107,{"$f":"IF(J540=\"\",\"\",VLOOKUP(J540,EventNPC!A:E,5,FALSE))","v":"村名甲"},5624,"我在北海境内发现一只妖兽闯入，还请道友前往镇压",null,1026,1,{"$f":"_xlfn.TEXTJOIN(\";\",1,R540:S540)","v":""},null,null,{"$f":"IF(R540=\"\",\"\",\"-\"&VLOOKUP(R540,EventConditionConfig!A:C,3,FALSE)&IF(S540=\"\",\"\",CHAR(10)&\"-\"&VLOOKUP(S540,EventConditionConfig!A:C,3,FALSE)))","v":""},2,100001,"","",100001,null,"",{"$nulls":4},{"$f":"IF(A540=\"\",\"\",IF(ISNUMBER(Y540),2,IF(A541=\"\",IF(OR(AH540>0,VLOOKUP(O540,EventConfig!A:C,3,FALSE)=4),3,\"\"),1)))","v":2},"102602;101",null,5624]
[102602,5622,"妖兽入侵",5623,"前去击杀妖兽",{"$nulls":4},107,{"$f":"IF(J541=\"\",\"\",VLOOKUP(J541,EventNPC!A:E,5,FALSE))","v":"村名甲"},5625,"北海境内越来越不安定了，若还有妖兽闯入，我会第一时间告知你",null,1026,2,"",null,null,{"$f":"IF(R541=\"\",\"\",\"-\"&VLOOKUP(R541,EventConditionConfig!A:C,3,FALSE)&IF(S541=\"\",\"\",CHAR(10)&\"-\"&VLOOKUP(S541,EventConditionConfig!A:C,3,FALSE)))","v":""},"","","","",null,null,"",{"$nulls":4},{"$f":"IF(A541=\"\",\"\",IF(ISNUMBER(Y541),2,IF(A542=\"\",IF(OR(AH541>0,VLOOKUP(O541,EventConfig!A:C,3,FALSE)=4),3,\"\"),1)))","v":""},"",null,5625]
[null,"",null,"",{"$nulls":7},"",null,null,null,"",{"$nulls":4},"","","","",null,null,"",{"$nulls":4},{"$f":"IF(A542=\"\",\"\",IF(ISNUMBER(Y542),2,IF(A543=\"\",IF(OR(AH542>0,VLOOKUP(O542,EventConfig!A:C,3,FALSE)=4),3,\"\"),1)))","v":""},"",null,""]
[102701,5626,"妖兽拦住了你的去路",5627,"阻止妖族前往北海",{"$nulls":4},114,{"$f":"IF(J543=\"\",\"\",VLOOKUP(J543,EventNPC!A:E,5,FALSE))","v":"拦路妖兽"},5628,"站住，乖乖告诉我北海在哪",null,1027,1,"",null,null,{"$f":"IF(R543=\"\",\"\",\"-\"&VLOOKUP(R543,EventConditionConfig!A:C,3,FALSE)&IF(S543=\"\",\"\",CHAR(10)&\"-\"&VLOOKUP(S543,EventConditionConfig!A:C,3,FALSE)))","v":""},1,"102702","5629",5629,"大胆妖兽，今日就让你葬身于此",null,"",{"$nulls":4},{"$f":"IF(A543=\"\",\"\",IF(ISNUMBER(Y543),2,IF(A544=\"\",IF(OR(AH543>0,VLOOKUP(O543,EventConfig!A:C,3,FALSE)=4),3,\"\"),1)))","v":1},102702,null,5629]
[102702,5626,"妖兽拦住了你的去路",5627,"阻止妖族前往北海",{"$nulls":4},114,{"$f":"IF(J544=\"\",\"\",VLOOKUP(J544,EventNPC!A:E,5,FALSE))","v":"拦路妖兽"},5630,"不识抬举，去死吧",null,1027,2,"",null,null,{"$f":"IF(R544=\"\",\"\",\"-\"&VLOOKUP(R544,EventConditionConfig!A:C,3,FALSE)&IF(S544=\"\",\"\",CHAR(10)&\"-\"&VLOOKUP(S544,EventConditionConfig!A:C,3,FALSE)))","v":""},2,{"$f":"IF(U544=1,_xlfn.TEXTJOIN(\";\",1,IF(Z544=\"\",A544+1,Z544),IF(AND(AA544<>\"\",AC544=\"\"),A544+1,AC544)),IF(U544=2,Y544,\"\"))","v":100001},"","",100001,null,"",{"$nulls":4},{"$f":"IF(A544=\"\",\"\",IF(ISNUMBER(Y544),2,IF(A545=\"\",IF(OR(AH544>0,VLOOKUP(O544,EventConfig!A:C,3,FALSE)=4),3,\"\"),1)))","v":2},"102703;101",null,5630]
[null,"",null,"",{"$nulls":7},"",null,null,null,"",{"$nulls":4},"","","","",null,null,"",{"$nulls":4},{"$f":"IF(A545=\"\",\"\",IF(ISNUMBER(Y545),2,IF(A546=\"\",IF(OR(AH545>0,VLOOKUP(O545,EventConfig!A:C,3,FALSE)=4),3,\"\"),1)))","v":""},"",null,""]
[{"$f":"O546*100+P546","v":102801},5631,"前去击败入侵妖兽",5632,"击败入侵的妖兽",{"$nulls":4},114,{"$f":"IF(J546=\"\",\"\",VLOOKUP(J546,EventNPC!A:E,5,FALSE))","v":"拦路妖兽"},5633,"终于找到了北海城镇了，你拦不住我的，滚吧",null,1028,1,{"$f":"_xlfn.TEXTJOIN(\";\",1,R546:S546)","v":""},null,null,{"$f":"IF(R546=\"\",\"\",\"-\"&VLOOKUP(R546,EventConditionConfig!A:C,3,FALSE)&IF(S546=\"\",\"\",CHAR(10)&\"-\"&VLOOKUP(S546,EventConditionConfig!A:C,3,FALSE)))","v":""},1,"102802","5634",5634,"迎接敌人",null,"",{"$nulls":4},{"$f":"IF(A546=\"\",\"\",IF(ISNUMBER(Y546),2,IF(A547=\"\",IF(OR(AH546>0,VLOOKUP(O546,EventConfig!A:C,3,FALSE)=4),3,\"\"),1)))","v":1},102802,null,5634]
[102802,5631,"前去击败入侵妖兽",5632,"击败入侵的妖兽",{"$nulls":4},114,{"$f":"IF(J547=\"\",\"\",VLOOKUP(J547,EventNPC!A:E,5,FALSE))","v":"拦路妖兽"},5635,"不识抬举，去死吧",null,1028,2,"",null,null,{"$f":"IF(R547=\"\",\"\",\"-\"&VLOOKUP(R547,EventConditionConfig!A:C,3,FALSE)&IF(S547=\"\",\"\",CHAR(10)&\"-\"&VLOOKUP(S547,EventConditionConfig!A:C,3,FALSE)))","v":""},2,100001,"","",100001,null,"",{"$nulls":4},{"$f":"IF(A547=\"\",\"\",IF(ISNUMBER(Y547),2,IF(A548=\"\",IF(OR(AH547>0,VLOOKUP(O547,EventConfig!A:C,3,FALSE)=4),3,\"\"),1)))","v":2},"102803;101",null,5635]
[102803,5631,"前去击败入侵妖兽",5632,"击败入侵的妖兽",{"$nulls":5},{"$f":"IF(J548=\"\",\"\",VLOOKUP(J548,EventNPC!A:E,5,FALSE))","v":""},5636,"妖兽被重伤后吞下丹药激发了潜力，实力突然暴涨，阻止他破坏城镇",null,1028,3,"",null,null,{"$f":"IF(R548=\"\",\"\",\"-\"&VLOOKUP(R548,EventConditionConfig!A:C,3,FALSE)&IF(S548=\"\",\"\",CHAR(10)&\"-\"&VLOOKUP(S548,EventConditionConfig!A:C,3,FALSE)))","v":""},1,"102804;102805","5637;5638",5637,"稍作休整",102804,5638,"挑战妖兽",102805,null,null,{"$f":"IF(A548=\"\",\"\",IF(ISNUMBER(Y548),2,IF(A549=\"\",IF(OR(AH548>0,VLOOKUP(O548,EventConfig!A:C,3,FALSE)=4),3,\"\"),1)))","v":1},102804,null,5638]
[102804,5631,"前去击败入侵妖兽",5632,"击败入侵的妖兽",{"$nulls":5},{"$f":"IF(J549=\"\",\"\",VLOOKUP(J549,EventNPC!A:E,5,FALSE))","v":""},5639,"见到情况不对，稍作休整再去击杀妖兽",null,1028,4,"",null,null,{"$f":"IF(R549=\"\",\"\",\"-\"&VLOOKUP(R549,EventConditionConfig!A:C,3,FALSE)&IF(S549=\"\",\"\",CHAR(10)&\"-\"&VLOOKUP(S549,EventConditionConfig!A:C,3,FALSE)))","v":""},5,"","","",null,null,"",{"$nulls":4},{"$f":"IF(A549=\"\",\"\",IF(ISNUMBER(Y549),2,IF(A550=\"\",IF(OR(AH549>0,VLOOKUP(O549,EventConfig!A:C,3,FALSE)=4),3,\"\"),1)))","v":1},102805,null,5639]
[102805,5631,"前去击败入侵妖兽",5632,"击败入侵的妖兽",{"$nulls":4},114,{"$f":"IF(J550=\"\",\"\",VLOOKUP(J550,EventNPC!A:E,5,FALSE))","v":"拦路妖兽"},5640,"见到我不逃跑反而朝我攻来吗，有趣",null,1028,5,"",null,null,{"$f":"IF(R550=\"\",\"\",\"-\"&VLOOKUP(R550,EventConditionConfig!A:C,3,FALSE)&IF(S550=\"\",\"\",CHAR(10)&\"-\"&VLOOKUP(S550,EventConditionConfig!A:C,3,FALSE)))","v":""},{"$f":"IF(Y550=\"\",\"\",IF(ISTEXT(Y550),1,2))","v":2},100001,"","",100001,null,"",null,null,1001,10,{"$f":"IF(A550=\"\",\"\",IF(ISNUMBER(Y550),2,IF(A551=\"\",IF(OR(AH550>0,VLOOKUP(O550,EventConfig!A:C,3,FALSE)=4),3,\"\"),1)))","v":2},"102806;101",null,5640]
[null,"",null,"",{"$nulls":7},"",null,null,null,"",{"$nulls":4},"","","","",null,null,"",{"$nulls":4},{"$f":"IF(A551=\"\",\"\",IF(ISNUMBER(Y551),2,IF(A552=\"\",IF(OR(AH551>0,VLOOKUP(O551,EventConfig!A:C,3,FALSE)=4),3,\"\"),1)))","v":""},"",null,""]
[{"$f":"O552*100+P552","v":102901},5641,"明境道长邀请你前去论道",5642,"与道长进行对话",{"$nulls":4},107,{"$f":"IF(J552=\"\",\"\",VLOOKUP(J552,EventNPC!A:E,5,FALSE))","v":"村名甲"},5643,"小友修为有所长进，但我却不知你的道是独自一人还是众人前行",null,1029,1,{"$f":"_xlfn.TEXTJOIN(\";\",1,R552:S552)","v":""},null,null,{"$f":"IF(R552=\"\",\"\",\"-\"&VLOOKUP(R552,EventConditionConfig!A:C,3,FALSE)&IF(S552=\"\",\"\",CHAR(10)&\"-\"&VLOOKUP(S552,EventConditionConfig!A:C,3,FALSE)))","v":""},1,"102902;102903","5644;5645",5644,"道之所在，在于自己，修炼其身即可成星火之势",102902,5645,"道之所在，在于众势，天下大同可让蚍蜉撼树",102903,null,null,{"$f":"IF(A552=\"\",\"\",IF(ISNUMBER(Y552),2,IF(A553=\"\",IF(OR(AH552>0,VLOOKUP(O552,EventConfig!A:C,3,FALSE)=4),3,\"\"),1)))","v":1},102902,null,5645]
[102902,5646,"明镜道长邀请你前去论道",5642,"与道长进行对话",{"$nulls":4},107,{"$f":"IF(J553=\"\",\"\",VLOOKUP(J553,EventNPC!A:E,5,FALSE))","v":"村名甲"},5647,"此言甚好，却不知小友遇见难关，是真的独自面对，还是寻求了他人帮助",null,1029,2,"",null,null,{"$f":"IF(R553=\"\",\"\",\"-\"&VLOOKUP(R553,EventConditionConfig!A:C,3,FALSE)&IF(S553=\"\",\"\",CHAR(10)&\"-\"&VLOOKUP(S553,EventConditionConfig!A:C,3,FALSE)))","v":""},1,"102904;102905","5648;5649",5648,"这....",102904,5649,"道长此言甚有意为之，如遇难关确实迷茫会去寻求他人",102905,null,null,{"$f":"IF(A553=\"\",\"\",IF(ISNUMBER(Y553),2,IF(A554=\"\",IF(OR(AH553>0,VLOOKUP(O553,EventConfig!A:C,3,FALSE)=4),3,\"\"),1)))","v":1},102903,null,5649]
[102903,5646,"明镜道长邀请你前去论道",5642,"与道长进行对话",{"$nulls":4},107,{"$f":"IF(J554=\"\",\"\",VLOOKUP(J554,EventNPC!A:E,5,FALSE))","v":"村名甲"},5650,"绝境之中，众人离去，你又该如何呢?",null,1029,3,"",null,null,{"$f":"IF(R554=\"\",\"\",\"-\"&VLOOKUP(R554,EventConditionConfig!A:C,3,FALSE)&IF(S554=\"\",\"\",CHAR(10)&\"-\"&VLOOKUP(S554,EventConditionConfig!A:C,3,FALSE)))","v":""},1,"102904;102907","5651;5652",5651,"这....",102904,5652,"绝境之下，亦能爆发潜能，无需借助他人也能成功",102907,null,null,{"$f":"IF(A554=\"\",\"\",IF(ISNUMBER(Y554),2,IF(A555=\"\",IF(OR(AH554>0,VLOOKUP(O554,EventConfig!A:C,3,FALSE)=4),3,\"\"),1)))","v":1},102904,null,5652]
[102904,5653,"明境道长邀请你前去论道",5642,"与道长进行对话",{"$nulls":4},107,{"$f":"IF(J555=\"\",\"\",VLOOKUP(J555,EventNPC!A:E,5,FALSE))","v":"村名甲"},5654,"看来你的道，还在混沌之中，独自面对亦或是众人攻克，这事并无绝对，还请小友继续去追寻自己正确的道",null,1029,4,"",null,null,{"$f":"IF(R555=\"\",\"\",\"-\"&VLOOKUP(R555,EventConditionConfig!A:C,3,FALSE)&IF(S555=\"\",\"\",CHAR(10)&\"-\"&VLOOKUP(S555,EventConditionConfig!A:C,3,FALSE)))","v":""},1,"102905","5655",5655,"多谢道长指点，晚辈明白",null,"",{"$nulls":4},{"$f":"IF(A555=\"\",\"\",IF(ISNUMBER(Y555),2,IF(A556=\"\",IF(OR(AH555>0,VLOOKUP(O555,EventConfig!A:C,3,FALSE)=4),3,\"\"),1)))","v":1},102905,null,5655]
[102905,5653,"明境道长邀请你前去论道",5642,"与道长进行对话",{"$nulls":4},107,{"$f":"IF(J556=\"\",\"\",VLOOKUP(J556,EventNPC!A:E,5,FALSE))","v":"村名甲"},5656,"如你所说，道还不够坚定，你已经告诉了你自己还没有足够的力量去找到真正的道",null,1029,5,"",null,null,{"$f":"IF(R556=\"\",\"\",\"-\"&VLOOKUP(R556,EventConditionConfig!A:C,3,FALSE)&IF(S556=\"\",\"\",CHAR(10)&\"-\"&VLOOKUP(S556,EventConditionConfig!A:C,3,FALSE)))","v":""},"","","","",null,null,"",{"$nulls":4},{"$f":"IF(A556=\"\",\"\",IF(ISNUMBER(Y556),2,IF(A557=\"\",IF(OR(AH556>0,VLOOKUP(O556,EventConfig!A:C,3,FALSE)=4),3,\"\"),1)))","v":1},102906,102906,5656]
[102906,5653,"明境道长邀请你前去论道",5642,"与道长进行对话",{"$nulls":4},100,{"$f":"IF(J557=\"\",\"\",VLOOKUP(J557,EventNPC!A:E,5,FALSE))","v":"玩家"},5657,"晚辈明白，多谢道长",null,1029,6,"",null,null,{"$f":"IF(R557=\"\",\"\",\"-\"&VLOOKUP(R557,EventConditionConfig!A:C,3,FALSE)&IF(S557=\"\",\"\",CHAR(10)&\"-\"&VLOOKUP(S557,EventConditionConfig!A:C,3,FALSE)))","v":""},"","","","",null,null,"",{"$nulls":4},{"$f":"IF(A557=\"\",\"\",IF(ISNUMBER(Y557),2,IF(A558=\"\",IF(OR(AH557>0,VLOOKUP(O557,EventConfig!A:C,3,FALSE)=4),3,\"\"),1)))","v":1},102907,null,5657]
[102907,5653,"明境道长邀请你前去论道",5642,"与道长进行对话",{"$nulls":4},107,{"$f":"IF(J558=\"\",\"\",VLOOKUP(J558,EventNPC!A:E,5,FALSE))","v":"村名甲"},5658,"有趣，既然不是独步天下，为何又说无需借助",null,1029,7,"",null,null,{"$f":"IF(R558=\"\",\"\",\"-\"&VLOOKUP(R558,EventConditionConfig!A:C,3,FALSE)&IF(S558=\"\",\"\",CHAR(10)&\"-\"&VLOOKUP(S558,EventConditionConfig!A:C,3,FALSE)))","v":""},1,{"$f":"IF(U558=1,_xlfn.TEXTJOIN(\";\",1,IF(Z558=\"\",A558+1,Z558),IF(AND(AA558<>\"\",AC558=\"\"),A558+1,AC558)),IF(U558=2,Y558,\"\"))","v":"102908;102908"},"5659;5660",5659,"道长此言差矣，没有他人帮助，怎会在绝境之战激发潜能去攻克难关，这并非独步天下",null,5660,"无需借助并非独步天下，能结缘不同的人，才能在绝境之中爆发潜能",null,null,null,{"$f":"IF(A558=\"\",\"\",IF(ISNUMBER(Y558),2,IF(A559=\"\",IF(OR(AH558>0,VLOOKUP(O558,EventConfig!A:C,3,FALSE)=4),3,\"\"),1)))","v":1},102908,null,5660]
[102908,5653,"明境道长邀请你前去论道",5642,"与道长进行对话",{"$nulls":4},107,{"$f":"IF(J559=\"\",\"\",VLOOKUP(J559,EventNPC!A:E,5,FALSE))","v":"村名甲"},5661,"禹能众万人心，舜能独断万古，你的道如禹舜之续，我很满意",null,1029,8,"",null,null,{"$f":"IF(R559=\"\",\"\",\"-\"&VLOOKUP(R559,EventConditionConfig!A:C,3,FALSE)&IF(S559=\"\",\"\",CHAR(10)&\"-\"&VLOOKUP(S559,EventConditionConfig!A:C,3,FALSE)))","v":""},"","","","",null,null,"",{"$nulls":4},{"$f":"IF(A559=\"\",\"\",IF(ISNUMBER(Y559),2,IF(A560=\"\",IF(OR(AH559>0,VLOOKUP(O559,EventConfig!A:C,3,FALSE)=4),3,\"\"),1)))","v":""},"",null,5661]
[null,"",null,"",{"$nulls":7},"",null,null,null,"",{"$nulls":7},"",null,null,"",{"$nulls":4},{"$f":"IF(A560=\"\",\"\",IF(ISNUMBER(Y560),2,IF(A561=\"\",IF(OR(AH560>0,VLOOKUP(O560,EventConfig!A:C,3,FALSE)=4),3,\"\"),1)))","v":""},"",null,""]
[{"$f":"O561*100+P561","v":103001},5662,"印宗邀请你一同论道",5663,"与印宗法师进行对话",{"$nulls":5},{"$f":"IF(J561=\"\",\"\",VLOOKUP(J561,EventNPC!A:E,5,FALSE))","v":""},5664,"你正遇上这里的印宗法师在讲经书。这时吹来了一阵风，把挂在门口和堂内的佛幡吹得飘舞起来。印宗法师看到佛幡舞动，于是问你",null,1030,1,{"$f":"_xlfn.TEXTJOIN(\";\",1,R561:S561)","v":""},null,null,{"$f":"IF(R561=\"\",\"\",\"-\"&VLOOKUP(R561,EventConditionConfig!A:C,3,FALSE)&IF(S561=\"\",\"\",CHAR(10)&\"-\"&VLOOKUP(S561,EventConditionConfig!A:C,3,FALSE)))","v":""},{"$f":"IF(Y561=\"\",\"\",IF(ISTEXT(Y561),1,2))","v":""},"",{"$f":"_xlfn.TEXTJOIN(\";\",1,X561,AA561)","v":""},"",null,null,"",{"$nulls":4},{"$f":"IF(A561=\"\",\"\",IF(ISNUMBER(Y561),2,IF(A562=\"\",IF(OR(AH561>0,VLOOKUP(O561,EventConfig!A:C,3,FALSE)=4),3,\"\"),1)))","v":1},103002,null,5664]
[103002,5662,"印宗邀请你一同论道",5663,"与印宗法师进行对话",{"$nulls":4},107,{"$f":"IF(J562=\"\",\"\",VLOOKUP(J562,EventNPC!A:E,5,FALSE))","v":"村名甲"},5665,"小友可知，这是风动？还是幡动？",null,1030,2,"",null,null,{"$f":"IF(R562=\"\",\"\",\"-\"&VLOOKUP(R562,EventConditionConfig!A:C,3,FALSE)&IF(S562=\"\",\"\",CHAR(10)&\"-\"&VLOOKUP(S562,EventConditionConfig!A:C,3,FALSE)))","v":""},1,"103003;103004","5666;5667",5666,"是风在动而幡没有动",103003,5667,"是幡在动而风没有动",103004,null,null,{"$f":"IF(A562=\"\",\"\",IF(ISNUMBER(Y562),2,IF(A563=\"\",IF(OR(AH562>0,VLOOKUP(O562,EventConfig!A:C,3,FALSE)=4),3,\"\"),1)))","v":1},103003,null,5667]
[103003,5662,"印宗邀请你一同论道",5663,"与印宗法师进行对话",{"$nulls":4},107,{"$f":"IF(J563=\"\",\"\",VLOOKUP(J563,EventNPC!A:E,5,FALSE))","v":"村名甲"},5668,"小友为何会认为是风动呢？",null,1030,3,"",null,null,{"$f":"IF(R563=\"\",\"\",\"-\"&VLOOKUP(R563,EventConditionConfig!A:C,3,FALSE)&IF(S563=\"\",\"\",CHAR(10)&\"-\"&VLOOKUP(S563,EventConditionConfig!A:C,3,FALSE)))","v":""},1,"103005","5669",5669,"风若不吹，幡怎么会自己动",103005,"",{"$nulls":4},{"$f":"IF(A563=\"\",\"\",IF(ISNUMBER(Y563),2,IF(A564=\"\",IF(OR(AH563>0,VLOOKUP(O563,EventConfig!A:C,3,FALSE)=4),3,\"\"),1)))","v":1},103004,null,5669]
[103004,5662,"印宗邀请你一同论道",5663,"与印宗法师进行对话",{"$nulls":4},107,{"$f":"IF(J564=\"\",\"\",VLOOKUP(J564,EventNPC!A:E,5,FALSE))","v":"村名甲"},5670,"小友为何会认为是幡动呢？",null,1030,4,"",null,null,{"$f":"IF(R564=\"\",\"\",\"-\"&VLOOKUP(R564,EventConditionConfig!A:C,3,FALSE)&IF(S564=\"\",\"\",CHAR(10)&\"-\"&VLOOKUP(S564,EventConditionConfig!A:C,3,FALSE)))","v":""},1,"103005","5671",5671,"可能是幡有灵气，自己动了起来",103005,"",{"$nulls":4},{"$f":"IF(A564=\"\",\"\",IF(ISNUMBER(Y564),2,IF(A565=\"\",IF(OR(AH564>0,VLOOKUP(O564,EventConfig!A:C,3,FALSE)=4),3,\"\"),1)))","v":1},103005,null,5671]
[103005,5662,"印宗邀请你一同论道",5663,"与印宗法师进行对话",{"$nulls":4},107,{"$f":"IF(J565=\"\",\"\",VLOOKUP(J565,EventNPC!A:E,5,FALSE))","v":"村名甲"},5672,"小友此解释确实有意思，但还是不对",null,1030,5,"",null,null,{"$f":"IF(R565=\"\",\"\",\"-\"&VLOOKUP(R565,EventConditionConfig!A:C,3,FALSE)&IF(S565=\"\",\"\",CHAR(10)&\"-\"&VLOOKUP(S565,EventConditionConfig!A:C,3,FALSE)))","v":""},1,"103006","5673",5673,"大师此话怎讲，还请赐教",null,"",{"$nulls":4},{"$f":"IF(A565=\"\",\"\",IF(ISNUMBER(Y565),2,IF(A566=\"\",IF(OR(AH565>0,VLOOKUP(O565,EventConfig!A:C,3,FALSE)=4),3,\"\"),1)))","v":1},103006,null,5673]
[103006,5662,"印宗邀请你一同论道",5663,"与印宗法师进行对话",{"$nulls":4},107,{"$f":"IF(J566=\"\",\"\",VLOOKUP(J566,EventNPC!A:E,5,FALSE))","v":"村名甲"},5674,"不是风动，不是幡动，是仁者心动",null,1030,6,"",null,null,{"$f":"IF(R566=\"\",\"\",\"-\"&VLOOKUP(R566,EventConditionConfig!A:C,3,FALSE)&IF(S566=\"\",\"\",CHAR(10)&\"-\"&VLOOKUP(S566,EventConditionConfig!A:C,3,FALSE)))","v":""},1,"103007","5675",5675,"既不是风在动，也不是幡在动，而是我内心认为是在动的吗",null,"",{"$nulls":4},{"$f":"IF(A566=\"\",\"\",IF(ISNUMBER(Y566),2,IF(A567=\"\",IF(OR(AH566>0,VLOOKUP(O566,EventConfig!A:C,3,FALSE)=4),3,\"\"),1)))","v":1},103007,null,5675]
[103007,5662,"印宗邀请你一同论道",5663,"与印宗法师进行对话",{"$nulls":4},107,{"$f":"IF(J567=\"\",\"\",VLOOKUP(J567,EventNPC!A:E,5,FALSE))","v":"村名甲"},5676,"此话也不对。小友，你听经不得心识不专注，心识看到了旗帜上，而非经书上，你的心若在修行之上，那风与幡怎么会因你的心而舞动呢",null,1030,7,"",null,null,{"$f":"IF(R567=\"\",\"\",\"-\"&VLOOKUP(R567,EventConditionConfig!A:C,3,FALSE)&IF(S567=\"\",\"\",CHAR(10)&\"-\"&VLOOKUP(S567,EventConditionConfig!A:C,3,FALSE)))","v":""},"","","","",null,null,"",{"$nulls":4},{"$f":"IF(A567=\"\",\"\",IF(ISNUMBER(Y567),2,IF(A568=\"\",IF(OR(AH567>0,VLOOKUP(O567,EventConfig!A:C,3,FALSE)=4),3,\"\"),1)))","v":""},"",null,5676]
[null,"",null,"",{"$nulls":7},"",null,null,null,"",{"$nulls":7},"",null,null,"",{"$nulls":4},{"$f":"IF(A568=\"\",\"\",IF(ISNUMBER(Y568),2,IF(A569=\"\",IF(OR(AH568>0,VLOOKUP(O568,EventConfig!A:C,3,FALSE)=4),3,\"\"),1)))","v":""},"",null,""]
[{"$f":"O569*100+P569","v":103101},5677,"明境道长邀请你前去论道",5678,"与道长进行对话",{"$nulls":4},107,{"$f":"IF(J569=\"\",\"\",VLOOKUP(J569,EventNPC!A:E,5,FALSE))","v":"村名甲"},5679,"小友好些日子不见，可有时间与我看些经文",null,1031,1,{"$f":"_xlfn.TEXTJOIN(\";\",1,R569:S569)","v":""},null,null,{"$f":"IF(R569=\"\",\"\",\"-\"&VLOOKUP(R569,EventConditionConfig!A:C,3,FALSE)&IF(S569=\"\",\"\",CHAR(10)&\"-\"&VLOOKUP(S569,EventConditionConfig!A:C,3,FALSE)))","v":""},{"$f":"IF(Y569=\"\",\"\",IF(ISTEXT(Y569),1,2))","v":1},{"$f":"IF(U569=1,_xlfn.TEXTJOIN(\";\",1,IF(Z569=\"\",A569+1,Z569),IF(AND(AA569<>\"\",AC569=\"\"),A569+1,AC569)),IF(U569=2,Y569,\"\"))","v":"103102;103105"},{"$f":"_xlfn.TEXTJOIN(\";\",1,X569,AA569)","v":"5680;5681"},5680,"道长请讲",103102,5681,"回绝论道",103105,null,null,{"$f":"IF(A569=\"\",\"\",IF(ISNUMBER(Y569),2,IF(A570=\"\",IF(OR(AH569>0,VLOOKUP(O569,EventConfig!A:C,3,FALSE)=4),3,\"\"),1)))","v":1},103102,null,5681]
[103102,5677,"明境道长邀请你前去论道",5678,"与道长进行对话",{"$nulls":4},107,{"$f":"IF(J570=\"\",\"\",VLOOKUP(J570,EventNPC!A:E,5,FALSE))","v":"村名甲"},5682,"人生天地之间，若白驹之过隙，忽然而已。道友，这话有些意思，可知何意？",null,1031,2,"",null,null,{"$f":"IF(R570=\"\",\"\",\"-\"&VLOOKUP(R570,EventConditionConfig!A:C,3,FALSE)&IF(S570=\"\",\"\",CHAR(10)&\"-\"&VLOOKUP(S570,EventConditionConfig!A:C,3,FALSE)))","v":""},1,"103103","5683",5683,"生命如骏马跃过缝隙般短暂",null,"",{"$nulls":4},{"$f":"IF(A570=\"\",\"\",IF(ISNUMBER(Y570),2,IF(A571=\"\",IF(OR(AH570>0,VLOOKUP(O570,EventConfig!A:C,3,FALSE)=4),3,\"\"),1)))","v":1},103103,null,5683]
[103103,5677,"明境道长邀请你前去论道",5678,"与道长进行对话",{"$nulls":4},107,{"$f":"IF(J571=\"\",\"\",VLOOKUP(J571,EventNPC!A:E,5,FALSE))","v":"村名甲"},5684,"小友可深得此话所讲？",null,1031,3,"",null,null,{"$f":"IF(R571=\"\",\"\",\"-\"&VLOOKUP(R571,EventConditionConfig!A:C,3,FALSE)&IF(S571=\"\",\"\",CHAR(10)&\"-\"&VLOOKUP(S571,EventConditionConfig!A:C,3,FALSE)))","v":""},1,"103104","5685",5685,"道长之意，可是想让我珍惜当下",null,"",{"$nulls":4},{"$f":"IF(A571=\"\",\"\",IF(ISNUMBER(Y571),2,IF(A572=\"\",IF(OR(AH571>0,VLOOKUP(O571,EventConfig!A:C,3,FALSE)=4),3,\"\"),1)))","v":1},103104,null,5685]
[103104,5677,"明境道长邀请你前去论道",5678,"与道长进行对话",{"$nulls":4},107,{"$f":"IF(J572=\"\",\"\",VLOOKUP(J572,EventNPC!A:E,5,FALSE))","v":"村名甲"},5686,"看来你心有所感，我甚为满意。时间匆匆，还请小友破除对时间流逝的焦虑，好好感受现在的每一刻。",null,1031,4,"",null,null,{"$f":"IF(R572=\"\",\"\",\"-\"&VLOOKUP(R572,EventConditionConfig!A:C,3,FALSE)&IF(S572=\"\",\"\",CHAR(10)&\"-\"&VLOOKUP(S572,EventConditionConfig!A:C,3,FALSE)))","v":""},"","","","",null,null,"",{"$nulls":4},{"$f":"IF(A572=\"\",\"\",IF(ISNUMBER(Y572),2,IF(A573=\"\",IF(OR(AH572>0,VLOOKUP(O572,EventConfig!A:C,3,FALSE)=4),3,\"\"),1)))","v":1},103105,null,5686]
[103105,5677,"明境道长邀请你前去论道",5678,"与道长进行对话",{"$nulls":4},107,{"$f":"IF(J573=\"\",\"\",VLOOKUP(J573,EventNPC!A:E,5,FALSE))","v":"村名甲"},5687,"明镜道长听到你的拒绝后暂时离开了",null,1031,5,"",null,null,{"$f":"IF(R573=\"\",\"\",\"-\"&VLOOKUP(R573,EventConditionConfig!A:C,3,FALSE)&IF(S573=\"\",\"\",CHAR(10)&\"-\"&VLOOKUP(S573,EventConditionConfig!A:C,3,FALSE)))","v":""},"","","","",null,null,"",{"$nulls":4},{"$f":"IF(A573=\"\",\"\",IF(ISNUMBER(Y573),2,IF(A574=\"\",IF(OR(AH573>0,VLOOKUP(O573,EventConfig!A:C,3,FALSE)=4),3,\"\"),1)))","v":""},"",null,5687]
[null,"",null,"",{"$nulls":7},"",null,null,null,"",{"$nulls":7},"",null,null,"",{"$nulls":4},{"$f":"IF(A574=\"\",\"\",IF(ISNUMBER(Y574),2,IF(A575=\"\",IF(OR(AH574>0,VLOOKUP(O574,EventConfig!A:C,3,FALSE)=4),3,\"\"),1)))","v":""},"",null,""]
[{"$f":"O575*100+P575","v":500401},5688,"纳福-灵石","",{"$nulls":6},{"$f":"IF(J575=\"\",\"\",VLOOKUP(J575,EventNPC!A:E,5,FALSE))","v":""},5689,"你偶得良缘，大量灵石从天而降。",null,5004,1,{"$f":"_xlfn.TEXTJOIN(\";\",1,R575:S575)","v":""},null,null,{"$f":"IF(R575=\"\",\"\",\"-\"&VLOOKUP(R575,EventConditionConfig!A:C,3,FALSE)&IF(S575=\"\",\"\",CHAR(10)&\"-\"&VLOOKUP(S575,EventConditionConfig!A:C,3,FALSE)))","v":""},{"$f":"IF(Y575=\"\",\"\",IF(ISTEXT(Y575),1,2))","v":""},{"$f":"IF(U575=1,_xlfn.TEXTJOIN(\";\",1,IF(Z575=\"\",A575+1,Z575),IF(AND(AA575<>\"\",AC575=\"\"),A575+1,AC575)),IF(U575=2,Y575,\"\"))","v":""},{"$f":"_xlfn.TEXTJOIN(\";\",1,X575,AA575)","v":""},"",null,null,"",{"$nulls":4},{"$f":"IF(A575=\"\",\"\",IF(ISNUMBER(Y575),2,IF(A576=\"\",IF(OR(AH575>0,VLOOKUP(O575,EventConfig!A:C,3,FALSE)=4),3,\"\"),1)))","v":""},"",null,5689]
[null,"",null,"",{"$nulls":7},"",null,null,null,"",{"$nulls":7},"",null,null,"",{"$nulls":4},{"$f":"IF(A576=\"\",\"\",IF(ISNUMBER(Y576),2,IF(A577=\"\",IF(OR(AH576>0,VLOOKUP(O576,EventConfig!A:C,3,FALSE)=4),3,\"\"),1)))","v":""},"",null,""]
[{"$f":"O577*100+P577","v":500501},5690,"纳福-修为","",{"$nulls":6},{"$f":"IF(J577=\"\",\"\",VLOOKUP(J577,EventNPC!A:E,5,FALSE))","v":""},5691,"你偶得良缘，大量修为从天而降。",null,5005,1,{"$f":"_xlfn.TEXTJOIN(\";\",1,R577:S577)","v":""},null,null,{"$f":"IF(R577=\"\",\"\",\"-\"&VLOOKUP(R577,EventConditionConfig!A:C,3,FALSE)&IF(S577=\"\",\"\",CHAR(10)&\"-\"&VLOOKUP(S577,EventConditionConfig!A:C,3,FALSE)))","v":""},{"$f":"IF(Y577=\"\",\"\",IF(ISTEXT(Y577),1,2))","v":""},{"$f":"IF(U577=1,_xlfn.TEXTJOIN(\";\",1,IF(Z577=\"\",A577+1,Z577),IF(AND(AA577<>\"\",AC577=\"\"),A577+1,AC577)),IF(U577=2,Y577,\"\"))","v":""},{"$f":"_xlfn.TEXTJOIN(\";\",1,X577,AA577)","v":""},"",null,null,"",{"$nulls":4},{"$f":"IF(A577=\"\",\"\",IF(ISNUMBER(Y577),2,IF(A578=\"\",IF(OR(AH577>0,VLOOKUP(O577,EventConfig!A:C,3,FALSE)=4),3,\"\"),1)))","v":""},"",null,5691]
[null,"",null,"",{"$nulls":7},"",null,null,null,"",{"$nulls":7},"",null,null,"",{"$nulls":4},{"$f":"IF(A578=\"\",\"\",IF(ISNUMBER(Y578),2,IF(A579=\"\",IF(OR(AH578>0,VLOOKUP(O578,EventConfig!A:C,3,FALSE)=4),3,\"\"),1)))","v":""},"",null,""]
[{"$f":"O579*100+P579","v":500601},5692,"纳福-灵气","",{"$nulls":6},{"$f":"IF(J579=\"\",\"\",VLOOKUP(J579,EventNPC!A:E,5,FALSE))","v":""},5693,"你偶得良缘，大量灵气从天而降。",null,5006,1,{"$f":"_xlfn.TEXTJOIN(\";\",1,R579:S579)","v":""},null,null,{"$f":"IF(R579=\"\",\"\",\"-\"&VLOOKUP(R579,EventConditionConfig!A:C,3,FALSE)&IF(S579=\"\",\"\",CHAR(10)&\"-\"&VLOOKUP(S579,EventConditionConfig!A:C,3,FALSE)))","v":""},{"$f":"IF(Y579=\"\",\"\",IF(ISTEXT(Y579),1,2))","v":""},{"$f":"IF(U579=1,_xlfn.TEXTJOIN(\";\",1,IF(Z579=\"\",A579+1,Z579),IF(AND(AA579<>\"\",AC579=\"\"),A579+1,AC579)),IF(U579=2,Y579,\"\"))","v":""},{"$f":"_xlfn.TEXTJOIN(\";\",1,X579,AA579)","v":""},"",null,null,"",{"$nulls":4},{"$f":"IF(A579=\"\",\"\",IF(ISNUMBER(Y579),2,IF(A580=\"\",IF(OR(AH579>0,VLOOKUP(O579,EventConfig!A:C,3,FALSE)=4),3,\"\"),1)))","v":""},"",null,5693]
[null,"",null,"",{"$nulls":7},"",null,null,null,"",{"$nulls":7},"",null,null,"",{"$nulls":4},{"$f":"IF(A580=\"\",\"\",IF(ISNUMBER(Y580),2,IF(A581=\"\",IF(OR(AH580>0,VLOOKUP(O580,EventConfig!A:C,3,FALSE)=4),3,\"\"),1)))","v":""},"",null,""]
[{"$f":"O581*100+P581","v":500701},5694,"纳福-玄晶","",{"$nulls":6},{"$f":"IF(J581=\"\",\"\",VLOOKUP(J581,EventNPC!A:E,5,FALSE))","v":""},5695,"你偶得良缘，大量玄晶从天而降。",null,5007,1,{"$f":"_xlfn.TEXTJOIN(\";\",1,R581:S581)","v":""},null,null,{"$f":"IF(R581=\"\",\"\",\"-\"&VLOOKUP(R581,EventConditionConfig!A:C,3,FALSE)&IF(S581=\"\",\"\",CHAR(10)&\"-\"&VLOOKUP(S581,EventConditionConfig!A:C,3,FALSE)))","v":""},{"$f":"IF(Y581=\"\",\"\",IF(ISTEXT(Y581),1,2))","v":""},{"$f":"IF(U581=1,_xlfn.TEXTJOIN(\";\",1,IF(Z581=\"\",A581+1,Z581),IF(AND(AA581<>\"\",AC581=\"\"),A581+1,AC581)),IF(U581=2,Y581,\"\"))","v":""},{"$f":"_xlfn.TEXTJOIN(\";\",1,X581,AA581)","v":""},"",null,null,"",{"$nulls":4},{"$f":"IF(A581=\"\",\"\",IF(ISNUMBER(Y581),2,IF(A582=\"\",IF(OR(AH581>0,VLOOKUP(O581,EventConfig!A:C,3,FALSE)=4),3,\"\"),1)))","v":""},"",null,5695]
[null,{"$f":"IF(C582=\"\",\"\",IF(C582=C581,B581,MAX(AI581,AI580)+1))","v":""},null,{"$f":"IF(E582=\"\",\"\",IF(E582=E581,D581,MAX(AI581,AI580,B582)+1))","v":""},{"$nulls":7},{"$f":"IF(M582=\"\",\"\",MAX(AI581,AI580,B582,D582)+1)","v":""},null,null,null,{"$f":"IF(O582=\"\",\"\",IF(O582=O581,P581+1,1))","v":""},{"$nulls":7},{"$f":"IF(OR(ISNUMBER(Y582),Y582=\"\"),\"\",MAX(AI581,AI580,B582,D582,L582)+1)","v":""},null,null,{"$f":"IF(OR(ISNUMBER(AB582),AB582=\"\"),\"\",X582+1)","v":""},{"$nulls":4},{"$f":"IF(A582=\"\",\"\",IF(ISNUMBER(Y582),2,IF(A583=\"\",IF(OR(AH582>0,VLOOKUP(O582,EventConfig!A:C,3,FALSE)=4),3,\"\"),1)))","v":""},"",null,{"$f":"IF(A582=\"\",\"\",MAX(B582,D582,L582,X582,AA582,AI581,AI580))","v":""}]
[{"$f":"O583*100+P583","v":910101},5696,{"$f":"CONCATENATE(\"你偶遇正在修炼的\",K583)","v":"你偶遇正在修炼的雀灵儿"},"",{"$nulls":5},2,{"$f":"IF(J583=\"\",\"\",VLOOKUP(J583,EventNPC!A:E,5,FALSE))","v":"雀灵儿"},5697,"嘿小友你好，初次见面不甚兴奋，赠你一朵小花花~",null,9101,1,{"$f":"_xlfn.TEXTJOIN(\";\",1,R583:S583)","v":""},null,null,{"$f":"IF(R583=\"\",\"\",\"-\"&VLOOKUP(R583,EventConditionConfig!A:C,3,FALSE)&IF(S583=\"\",\"\",CHAR(10)&\"-\"&VLOOKUP(S583,EventConditionConfig!A:C,3,FALSE)))","v":""},{"$f":"IF(Y583=\"\",\"\",IF(ISTEXT(Y583),1,2))","v":""},{"$f":"IF(U583=1,_xlfn.TEXTJOIN(\";\",1,IF(Z583=\"\",A583+1,Z583),IF(AND(AA583<>\"\",AC583=\"\"),A583+1,AC583)),IF(U583=2,Y583,\"\"))","v":""},{"$f":"_xlfn.TEXTJOIN(\";\",1,X583,AA583)","v":""},"",null,null,"",{"$nulls":4},{"$f":"IF(A583=\"\",\"\",IF(ISNUMBER(Y583),2,IF(A584=\"\",IF(OR(AH583>0,VLOOKUP(O583,EventConfig!A:C,3,FALSE)=4),3,\"\"),1)))","v":""},"",null,5697]
[null,"",null,"",{"$nulls":7},"",null,null,null,"",{"$nulls":7},"",null,null,"",{"$nulls":4},{"$f":"IF(A584=\"\",\"\",IF(ISNUMBER(Y584),2,IF(A585=\"\",IF(OR(AH584>0,VLOOKUP(O584,EventConfig!A:C,3,FALSE)=4),3,\"\"),1)))","v":""},"",null,""]
[{"$f":"O585*100+P585","v":910201},5698,{"$f":"CONCATENATE(\"你偶遇正在修炼的\",K585)","v":"你偶遇正在修炼的云枝"},"",{"$nulls":5},3,{"$f":"IF(J585=\"\",\"\",VLOOKUP(J585,EventNPC!A:E,5,FALSE))","v":"云枝"},5699,"嘿小友你好，初次见面不甚兴奋，赠你一朵小花花~",null,9102,1,{"$f":"_xlfn.TEXTJOIN(\";\",1,R585:S585)","v":""},null,null,{"$f":"IF(R585=\"\",\"\",\"-\"&VLOOKUP(R585,EventConditionConfig!A:C,3,FALSE)&IF(S585=\"\",\"\",CHAR(10)&\"-\"&VLOOKUP(S585,EventConditionConfig!A:C,3,FALSE)))","v":""},{"$f":"IF(Y585=\"\",\"\",IF(ISTEXT(Y585),1,2))","v":""},{"$f":"IF(U585=1,_xlfn.TEXTJOIN(\";\",1,IF(Z585=\"\",A585+1,Z585),IF(AND(AA585<>\"\",AC585=\"\"),A585+1,AC585)),IF(U585=2,Y585,\"\"))","v":""},{"$f":"_xlfn.TEXTJOIN(\";\",1,X585,AA585)","v":""},"",null,null,"",{"$nulls":4},{"$f":"IF(A585=\"\",\"\",IF(ISNUMBER(Y585),2,IF(A586=\"\",IF(OR(AH585>0,VLOOKUP(O585,EventConfig!A:C,3,FALSE)=4),3,\"\"),1)))","v":""},"",null,5699]
[null,"",null,"",{"$nulls":7},"",null,null,null,"",{"$nulls":7},"",null,null,"",{"$nulls":4},{"$f":"IF(A586=\"\",\"\",IF(ISNUMBER(Y586),2,IF(A587=\"\",IF(OR(AH586>0,VLOOKUP(O586,EventConfig!A:C,3,FALSE)=4),3,\"\"),1)))","v":""},"",null,""]
[{"$f":"O587*100+P587","v":910301},5700,{"$f":"CONCATENATE(\"你偶遇正在修炼的\",K587)","v":"你偶遇正在修炼的风瑶"},"",{"$nulls":5},4,{"$f":"IF(J587=\"\",\"\",VLOOKUP(J587,EventNPC!A:E,5,FALSE))","v":"风瑶"},5701,"嘿小友你好，初次见面不甚兴奋，赠你一朵小花花~",null,9103,1,{"$f":"_xlfn.TEXTJOIN(\";\",1,R587:S587)","v":""},null,null,{"$f":"IF(R587=\"\",\"\",\"-\"&VLOOKUP(R587,EventConditionConfig!A:C,3,FALSE)&IF(S587=\"\",\"\",CHAR(10)&\"-\"&VLOOKUP(S587,EventConditionConfig!A:C,3,FALSE)))","v":""},{"$f":"IF(Y587=\"\",\"\",IF(ISTEXT(Y587),1,2))","v":""},{"$f":"IF(U587=1,_xlfn.TEXTJOIN(\";\",1,IF(Z587=\"\",A587+1,Z587),IF(AND(AA587<>\"\",AC587=\"\"),A587+1,AC587)),IF(U587=2,Y587,\"\"))","v":""},{"$f":"_xlfn.TEXTJOIN(\";\",1,X587,AA587)","v":""},"",null,null,"",{"$nulls":4},{"$f":"IF(A587=\"\",\"\",IF(ISNUMBER(Y587),2,IF(A588=\"\",IF(OR(AH587>0,VLOOKUP(O587,EventConfig!A:C,3,FALSE)=4),3,\"\"),1)))","v":""},"",null,5701]
[null,"",null,"",{"$nulls":7},"",null,null,null,"",{"$nulls":7},"",null,null,"",{"$nulls":4},{"$f":"IF(A588=\"\",\"\",IF(ISNUMBER(Y588),2,IF(A589=\"\",IF(OR(AH588>0,VLOOKUP(O588,EventConfig!A:C,3,FALSE)=4),3,\"\"),1)))","v":""},"",null,""]
[{"$f":"O589*100+P589","v":910401},5702,{"$f":"CONCATENATE(\"你偶遇正在修炼的\",K589)","v":"你偶遇正在修炼的婉溪"},"",{"$nulls":5},5,{"$f":"IF(J589=\"\",\"\",VLOOKUP(J589,EventNPC!A:E,5,FALSE))","v":"婉溪"},5703,"嘿小友你好，初次见面不甚兴奋，赠你一朵小花花~",null,9104,1,{"$f":"_xlfn.TEXTJOIN(\";\",1,R589:S589)","v":""},null,null,{"$f":"IF(R589=\"\",\"\",\"-\"&VLOOKUP(R589,EventConditionConfig!A:C,3,FALSE)&IF(S589=\"\",\"\",CHAR(10)&\"-\"&VLOOKUP(S589,EventConditionConfig!A:C,3,FALSE)))","v":""},{"$f":"IF(Y589=\"\",\"\",IF(ISTEXT(Y589),1,2))","v":""},{"$f":"IF(U589=1,_xlfn.TEXTJOIN(\";\",1,IF(Z589=\"\",A589+1,Z589),IF(AND(AA589<>\"\",AC589=\"\"),A589+1,AC589)),IF(U589=2,Y589,\"\"))","v":""},{"$f":"_xlfn.TEXTJOIN(\";\",1,X589,AA589)","v":""},"",null,null,"",{"$nulls":4},{"$f":"IF(A589=\"\",\"\",IF(ISNUMBER(Y589),2,IF(A590=\"\",IF(OR(AH589>0,VLOOKUP(O589,EventConfig!A:C,3,FALSE)=4),3,\"\"),1)))","v":""},"",null,5703]
[null,"",null,"",{"$nulls":7},"",null,null,null,"",{"$nulls":7},"",null,null,"",{"$nulls":4},{"$f":"IF(A590=\"\",\"\",IF(ISNUMBER(Y590),2,IF(A591=\"\",IF(OR(AH590>0,VLOOKUP(O590,EventConfig!A:C,3,FALSE)=4),3,\"\"),1)))","v":""},{"$f":"IF(AF590=\"\",\"\",CHOOSE(AF590,IF(AH590=\"\",A590+1,AH590),CONCATENATE(IF(AH590=\"\",A590+1,AH590),\";101\"),IF(AH590=\"\",O590+1,AH590)))","v":""},null,""]
[{"$f":"O591*100+P591","v":910501},5704,{"$f":"CONCATENATE(\"你偶遇正在修炼的\",K591)","v":"你偶遇正在修炼的许由"},"",{"$nulls":5},6,{"$f":"IF(J591=\"\",\"\",VLOOKUP(J591,EventNPC!A:E,5,FALSE))","v":"许由"},5705,"嘿小友你好，初次见面不甚兴奋，赠你一朵小花花~",null,9105,1,{"$f":"_xlfn.TEXTJOIN(\";\",1,R591:S591)","v":""},null,null,{"$f":"IF(R591=\"\",\"\",\"-\"&VLOOKUP(R591,EventConditionConfig!A:C,3,FALSE)&IF(S591=\"\",\"\",CHAR(10)&\"-\"&VLOOKUP(S591,EventConditionConfig!A:C,3,FALSE)))","v":""},{"$f":"IF(Y591=\"\",\"\",IF(ISTEXT(Y591),1,2))","v":""},{"$f":"IF(U591=1,_xlfn.TEXTJOIN(\";\",1,IF(Z591=\"\",A591+1,Z591),IF(AND(AA591<>\"\",AC591=\"\"),A591+1,AC591)),IF(U591=2,Y591,\"\"))","v":""},{"$f":"_xlfn.TEXTJOIN(\";\",1,X591,AA591)","v":""},"",null,null,"",{"$nulls":4},{"$f":"IF(A591=\"\",\"\",IF(ISNUMBER(Y591),2,IF(A592=\"\",IF(OR(AH591>0,VLOOKUP(O591,EventConfig!A:C,3,FALSE)=4),3,\"\"),1)))","v":""},"",null,5705]
[null,"",null,"",{"$nulls":7},"",null,null,null,"",{"$nulls":7},"",null,null,"",{"$nulls":4},{"$f":"IF(A592=\"\",\"\",IF(ISNUMBER(Y592),2,IF(A593=\"\",IF(OR(AH592>0,VLOOKUP(O592,EventConfig!A:C,3,FALSE)=4),3,\"\"),1)))","v":""},{"$f":"IF(AF592=\"\",\"\",CHOOSE(AF592,IF(AH592=\"\",A592+1,AH592),CONCATENATE(IF(AH592=\"\",A592+1,AH592),\";101\"),IF(AH592=\"\",O592+1,AH592)))","v":""},null,""]
[{"$f":"O593*100+P593","v":910601},5706,{"$f":"CONCATENATE(\"你偶遇正在修炼的\",K593)","v":"你偶遇正在修炼的疯道人"},"",{"$nulls":5},7,{"$f":"IF(J593=\"\",\"\",VLOOKUP(J593,EventNPC!A:E,5,FALSE))","v":"疯道人"},5707,"嘿小友你好，初次见面不甚兴奋，赠你一朵小花花~",null,9106,1,{"$f":"_xlfn.TEXTJOIN(\";\",1,R593:S593)","v":""},null,null,{"$f":"IF(R593=\"\",\"\",\"-\"&VLOOKUP(R593,EventConditionConfig!A:C,3,FALSE)&IF(S593=\"\",\"\",CHAR(10)&\"-\"&VLOOKUP(S593,EventConditionConfig!A:C,3,FALSE)))","v":""},{"$f":"IF(Y593=\"\",\"\",IF(ISTEXT(Y593),1,2))","v":""},{"$f":"IF(U593=1,_xlfn.TEXTJOIN(\";\",1,IF(Z593=\"\",A593+1,Z593),IF(AND(AA593<>\"\",AC593=\"\"),A593+1,AC593)),IF(U593=2,Y593,\"\"))","v":""},{"$f":"_xlfn.TEXTJOIN(\";\",1,X593,AA593)","v":""},"",null,null,"",{"$nulls":4},{"$f":"IF(A593=\"\",\"\",IF(ISNUMBER(Y593),2,IF(A594=\"\",IF(OR(AH593>0,VLOOKUP(O593,EventConfig!A:C,3,FALSE)=4),3,\"\"),1)))","v":""},"",null,5707]
[null,"",null,"",{"$nulls":7},"",null,null,null,"",{"$nulls":7},"",null,null,"",{"$nulls":4},{"$f":"IF(A594=\"\",\"\",IF(ISNUMBER(Y594),2,IF(A595=\"\",IF(OR(AH594>0,VLOOKUP(O594,EventConfig!A:C,3,FALSE)=4),3,\"\"),1)))","v":""},"",null,""]
[{"$f":"O595*100+P595","v":910701},5708,{"$f":"CONCATENATE(\"你偶遇正在修炼的\",K595)","v":"你偶遇正在修炼的道友7"},"",{"$nulls":5},8,{"$f":"IF(J595=\"\",\"\",VLOOKUP(J595,EventNPC!A:E,5,FALSE))","v":"道友7"},5709,"嘿小友你好，初次见面不甚兴奋，赠你一朵小花花~",null,9107,1,{"$f":"_xlfn.TEXTJOIN(\";\",1,R595:S595)","v":""},null,null,{"$f":"IF(R595=\"\",\"\",\"-\"&VLOOKUP(R595,EventConditionConfig!A:C,3,FALSE)&IF(S595=\"\",\"\",CHAR(10)&\"-\"&VLOOKUP(S595,EventConditionConfig!A:C,3,FALSE)))","v":""},{"$f":"IF(Y595=\"\",\"\",IF(ISTEXT(Y595),1,2))","v":""},{"$f":"IF(U595=1,_xlfn.TEXTJOIN(\";\",1,IF(Z595=\"\",A595+1,Z595),IF(AND(AA595<>\"\",AC595=\"\"),A595+1,AC595)),IF(U595=2,Y595,\"\"))","v":""},{"$f":"_xlfn.TEXTJOIN(\";\",1,X595,AA595)","v":""},"",null,null,"",{"$nulls":4},{"$f":"IF(A595=\"\",\"\",IF(ISNUMBER(Y595),2,IF(A596=\"\",IF(OR(AH595>0,VLOOKUP(O595,EventConfig!A:C,3,FALSE)=4),3,\"\"),1)))","v":""},"",null,5709]
[null,"",null,"",{"$nulls":7},"",null,null,null,"",{"$nulls":7},"",null,null,"",{"$nulls":4},{"$f":"IF(A596=\"\",\"\",IF(ISNUMBER(Y596),2,IF(A597=\"\",IF(OR(AH596>0,VLOOKUP(O596,EventConfig!A:C,3,FALSE)=4),3,\"\"),1)))","v":""},"",null,""]
[{"$f":"O597*100+P597","v":910801},5710,{"$f":"CONCATENATE(\"你偶遇正在修炼的\",K597)","v":"你偶遇正在修炼的道友8"},"",{"$nulls":5},9,{"$f":"IF(J597=\"\",\"\",VLOOKUP(J597,EventNPC!A:E,5,FALSE))","v":"道友8"},5711,"嘿小友你好，初次见面不甚兴奋，赠你一朵小花花~",null,9108,1,{"$f":"_xlfn.TEXTJOIN(\";\",1,R597:S597)","v":""},null,null,{"$f":"IF(R597=\"\",\"\",\"-\"&VLOOKUP(R597,EventConditionConfig!A:C,3,FALSE)&IF(S597=\"\",\"\",CHAR(10)&\"-\"&VLOOKUP(S597,EventConditionConfig!A:C,3,FALSE)))","v":""},{"$f":"IF(Y597=\"\",\"\",IF(ISTEXT(Y597),1,2))","v":""},{"$f":"IF(U597=1,_xlfn.TEXTJOIN(\";\",1,IF(Z597=\"\",A597+1,Z597),IF(AND(AA597<>\"\",AC597=\"\"),A597+1,AC597)),IF(U597=2,Y597,\"\"))","v":""},{"$f":"_xlfn.TEXTJOIN(\";\",1,X597,AA597)","v":""},"",null,null,"",{"$nulls":4},{"$f":"IF(A597=\"\",\"\",IF(ISNUMBER(Y597),2,IF(A598=\"\",IF(OR(AH597>0,VLOOKUP(O597,EventConfig!A:C,3,FALSE)=4),3,\"\"),1)))","v":""},"",null,5711]
[null,"",null,"",{"$nulls":7},"",null,null,null,"",{"$nulls":7},"",null,null,"",{"$nulls":4},{"$f":"IF(A598=\"\",\"\",IF(ISNUMBER(Y598),2,IF(A599=\"\",IF(OR(AH598>0,VLOOKUP(O598,EventConfig!A:C,3,FALSE)=4),3,\"\"),1)))","v":""},"",null,""]
[{"$f":"O599*100+P599","v":910901},5712,{"$f":"CONCATENATE(\"你偶遇正在修炼的\",K599)","v":"你偶遇正在修炼的道友9"},"",{"$nulls":5},10,{"$f":"IF(J599=\"\",\"\",VLOOKUP(J599,EventNPC!A:E,5,FALSE))","v":"道友9"},5713,"嘿小友你好，初次见面不甚兴奋，赠你一朵小花花~",null,9109,1,{"$f":"_xlfn.TEXTJOIN(\";\",1,R599:S599)","v":""},null,null,{"$f":"IF(R599=\"\",\"\",\"-\"&VLOOKUP(R599,EventConditionConfig!A:C,3,FALSE)&IF(S599=\"\",\"\",CHAR(10)&\"-\"&VLOOKUP(S599,EventConditionConfig!A:C,3,FALSE)))","v":""},{"$f":"IF(Y599=\"\",\"\",IF(ISTEXT(Y599),1,2))","v":""},{"$f":"IF(U599=1,_xlfn.TEXTJOIN(\";\",1,IF(Z599=\"\",A599+1,Z599),IF(AND(AA599<>\"\",AC599=\"\"),A599+1,AC599)),IF(U599=2,Y599,\"\"))","v":""},{"$f":"_xlfn.TEXTJOIN(\";\",1,X599,AA599)","v":""},"",null,null,"",{"$nulls":4},{"$f":"IF(A599=\"\",\"\",IF(ISNUMBER(Y599),2,IF(A600=\"\",IF(OR(AH599>0,VLOOKUP(O599,EventConfig!A:C,3,FALSE)=4),3,\"\"),1)))","v":""},"",null,5713]
[null,"",null,"",{"$nulls":7},"",null,null,null,"",{"$nulls":7},"",null,null,"",{"$nulls":4},{"$f":"IF(A600=\"\",\"\",IF(ISNUMBER(Y600),2,IF(A601=\"\",IF(OR(AH600>0,VLOOKUP(O600,EventConfig!A:C,3,FALSE)=4),3,\"\"),1)))","v":""},"",null,""]
[{"$f":"O601*100+P601","v":911001},5714,{"$f":"CONCATENATE(\"你偶遇正在修炼的\",K601)","v":"你偶遇正在修炼的道友10"},"",{"$nulls":5},11,{"$f":"IF(J601=\"\",\"\",VLOOKUP(J601,EventNPC!A:E,5,FALSE))","v":"道友10"},5715,"嘿小友你好，初次见面不甚兴奋，赠你一朵小花花~",null,9110,1,{"$f":"_xlfn.TEXTJOIN(\";\",1,R601:S601)","v":""},null,null,{"$f":"IF(R601=\"\",\"\",\"-\"&VLOOKUP(R601,EventConditionConfig!A:C,3,FALSE)&IF(S601=\"\",\"\",CHAR(10)&\"-\"&VLOOKUP(S601,EventConditionConfig!A:C,3,FALSE)))","v":""},{"$f":"IF(Y601=\"\",\"\",IF(ISTEXT(Y601),1,2))","v":""},{"$f":"IF(U601=1,_xlfn.TEXTJOIN(\";\",1,IF(Z601=\"\",A601+1,Z601),IF(AND(AA601<>\"\",AC601=\"\"),A601+1,AC601)),IF(U601=2,Y601,\"\"))","v":""},{"$f":"_xlfn.TEXTJOIN(\";\",1,X601,AA601)","v":""},"",null,null,"",{"$nulls":4},{"$f":"IF(A601=\"\",\"\",IF(ISNUMBER(Y601),2,IF(A602=\"\",IF(OR(AH601>0,VLOOKUP(O601,EventConfig!A:C,3,FALSE)=4),3,\"\"),1)))","v":""},"",null,5715]
[null,"",null,"",{"$nulls":7},"",null,null,null,"",{"$nulls":7},"",null,null,"",{"$nulls":4},{"$f":"IF(A602=\"\",\"\",IF(ISNUMBER(Y602),2,IF(A603=\"\",IF(OR(AH602>0,VLOOKUP(O602,EventConfig!A:C,3,FALSE)=4),3,\"\"),1)))","v":""},"",null,""]
[{"$f":"O603*100+P603","v":3001201},"",null,"",{"$nulls":6},{"$f":"IF(J603=\"\",\"\",VLOOKUP(J603,EventNPC!A:E,5,FALSE))","v":""},5716,"你偶然发现一股法力之泉，上前取得一滴甘露。",null,30012,1,{"$f":"_xlfn.TEXTJOIN(\";\",1,R603:S603)","v":""},null,null,{"$f":"IF(R603=\"\",\"\",\"-\"&VLOOKUP(R603,EventConditionConfig!A:C,3,FALSE)&IF(S603=\"\",\"\",CHAR(10)&\"-\"&VLOOKUP(S603,EventConditionConfig!A:C,3,FALSE)))","v":""},{"$f":"IF(Y603=\"\",\"\",IF(ISTEXT(Y603),1,2))","v":""},{"$f":"IF(U603=1,_xlfn.TEXTJOIN(\";\",1,IF(Z603=\"\",A603+1,Z603),IF(AND(AA603<>\"\",AC603=\"\"),A603+1,AC603)),IF(U603=2,Y603,\"\"))","v":""},{"$f":"_xlfn.TEXTJOIN(\";\",1,X603,AA603)","v":""},"",null,null,"",{"$nulls":4},{"$f":"IF(A603=\"\",\"\",IF(ISNUMBER(Y603),2,IF(A604=\"\",IF(OR(AH603>0,VLOOKUP(O603,EventConfig!A:C,3,FALSE)=4),3,\"\"),1)))","v":""},"",null,5716]
[null,"",null,"",{"$nulls":11},"",{"$nulls":7},"",null,null,"",{"$nulls":4},{"$f":"IF(A604=\"\",\"\",IF(ISNUMBER(Y604),2,IF(A605=\"\",IF(OR(AH604>0,VLOOKUP(O604,EventConfig!A:C,3,FALSE)=4),3,\"\"),1)))","v":""},{"$f":"IF(AF604=\"\",\"\",CHOOSE(AF604,IF(AH604=\"\",A604+1,AH604),CONCATENATE(IF(AH604=\"\",A604+1,AH604),\";101\"),IF(AH604=\"\",O604+1,AH604)))","v":""},null,""]
[{"$f":"O605*100+P605","v":3001301},"",null,"",{"$nulls":6},{"$f":"IF(J605=\"\",\"\",VLOOKUP(J605,EventNPC!A:E,5,FALSE))","v":""},{"$f":"IF(M605=\"\",\"\",MAX(AI604,AI603,B605,D605)+1)","v":5717},"你探索神识时，无意间获得1枚漂亮的风铃。把它送给雀灵儿的话，不知道她有多高兴呢。",null,30013,1,{"$f":"_xlfn.TEXTJOIN(\";\",1,R605:S605)","v":""},null,null,{"$f":"IF(R605=\"\",\"\",\"-\"&VLOOKUP(R605,EventConditionConfig!A:C,3,FALSE)&IF(S605=\"\",\"\",CHAR(10)&\"-\"&VLOOKUP(S605,EventConditionConfig!A:C,3,FALSE)))","v":""},{"$f":"IF(Y605=\"\",\"\",IF(ISTEXT(Y605),1,2))","v":""},{"$f":"IF(U605=1,_xlfn.TEXTJOIN(\";\",1,IF(Z605=\"\",A605+1,Z605),IF(AND(AA605<>\"\",AC605=\"\"),A605+1,AC605)),IF(U605=2,Y605,\"\"))","v":""},{"$f":"_xlfn.TEXTJOIN(\";\",1,X605,AA605)","v":""},"",null,null,"",{"$nulls":4},{"$f":"IF(A605=\"\",\"\",IF(ISNUMBER(Y605),2,IF(A606=\"\",IF(OR(AH605>0,VLOOKUP(O605,EventConfig!A:C,3,FALSE)=4),3,\"\"),1)))","v":""},"",null,5717]
[null,"",null,"",{"$nulls":11},"",{"$nulls":7},"",null,null,"",{"$nulls":4},{"$f":"IF(A606=\"\",\"\",IF(ISNUMBER(Y606),2,IF(A607=\"\",IF(OR(AH606>0,VLOOKUP(O606,EventConfig!A:C,3,FALSE)=4),3,\"\"),1)))","v":""},"",null,""]
[{"$f":"O607*100+P607","v":3001401},5718,"击败风妖","",{"$nulls":6},{"$f":"IF(J607=\"\",\"\",VLOOKUP(J607,EventNPC!A:E,5,FALSE))","v":""},{"$f":"IF(M607=\"\",\"\",MAX(AI606,AI605,B607,D607)+1)","v":5719},"你遇到了一队拦路的风妖",null,30014,1,{"$f":"_xlfn.TEXTJOIN(\";\",1,R607:S607)","v":""},null,null,{"$f":"IF(R607=\"\",\"\",\"-\"&VLOOKUP(R607,EventConditionConfig!A:C,3,FALSE)&IF(S607=\"\",\"\",CHAR(10)&\"-\"&VLOOKUP(S607,EventConditionConfig!A:C,3,FALSE)))","v":""},{"$f":"IF(Y607=\"\",\"\",IF(ISTEXT(Y607),1,2))","v":2},{"$f":"IF(U607=1,_xlfn.TEXTJOIN(\";\",1,IF(Z607=\"\",A607+1,Z607),IF(AND(AA607<>\"\",AC607=\"\"),A607+1,AC607)),IF(U607=2,Y607,\"\"))","v":3003},{"$f":"_xlfn.TEXTJOIN(\";\",1,X607,AA607)","v":""},"",3003,null,"",{"$nulls":4},{"$f":"IF(A607=\"\",\"\",IF(ISNUMBER(Y607),2,IF(A608=\"\",IF(OR(AH607>0,VLOOKUP(O607,EventConfig!A:C,3,FALSE)=4),3,\"\"),1)))","v":2},"3001402;101",null,5719]
[null,"",null,"",{"$nulls":11},"",{"$nulls":7},"",null,null,"",{"$nulls":4},{"$f":"IF(A608=\"\",\"\",IF(ISNUMBER(Y608),2,IF(A609=\"\",IF(OR(AH608>0,VLOOKUP(O608,EventConfig!A:C,3,FALSE)=4),3,\"\"),1)))","v":""},"",null,""]
[{"$f":"O609*100+P609","v":3001501},{"$f":"IF(C609=\"\",\"\",IF(C609=C608,B608,MAX(AI608,AI607)+1))","v":5720},"收集风灵碎片",{"$f":"IF(E609=\"\",\"\",IF(E609=E608,D608,MAX(AI608,AI607,B609)+1))","v":""},{"$nulls":6},{"$f":"IF(J609=\"\",\"\",VLOOKUP(J609,EventNPC!A:E,5,FALSE))","v":""},{"$f":"IF(M609=\"\",\"\",MAX(AI608,AI607,B609,D609)+1)","v":5721},"你探索神识时，无意间获得一枚风灵碎片。",null,30015,1,{"$f":"_xlfn.TEXTJOIN(\";\",1,R609:S609)","v":""},null,null,{"$f":"IF(R609=\"\",\"\",\"-\"&VLOOKUP(R609,EventConditionConfig!A:C,3,FALSE)&IF(S609=\"\",\"\",CHAR(10)&\"-\"&VLOOKUP(S609,EventConditionConfig!A:C,3,FALSE)))","v":""},{"$f":"IF(Y609=\"\",\"\",IF(ISTEXT(Y609),1,2))","v":""},{"$f":"IF(U609=1,_xlfn.TEXTJOIN(\";\",1,IF(Z609=\"\",A609+1,Z609),IF(AND(AA609<>\"\",AC609=\"\"),A609+1,AC609)),IF(U609=2,Y609,\"\"))","v":""},{"$f":"_xlfn.TEXTJOIN(\";\",1,X609,AA609)","v":""},{"$f":"IF(OR(ISNUMBER(Y609),Y609=\"\"),\"\",MAX(AI608,AI607,B609,D609,L609)+1)","v":""},null,null,{"$f":"IF(OR(ISNUMBER(AB609),AB609=\"\"),\"\",X609+1)","v":""},{"$nulls":4},{"$f":"IF(A609=\"\",\"\",IF(ISNUMBER(Y609),2,IF(A610=\"\",IF(OR(AH609>0,VLOOKUP(O609,EventConfig!A:C,3,FALSE)=4),3,\"\"),1)))","v":""},"",null,{"$f":"IF(A609=\"\",\"\",MAX(B609,D609,L609,X609,AA609,AI608,AI607))","v":5721}]
[null,"",null,"",{"$nulls":11},"",{"$nulls":7},"",null,null,"",{"$nulls":4},{"$f":"IF(A610=\"\",\"\",IF(ISNUMBER(Y610),2,IF(A611=\"\",IF(OR(AH610>0,VLOOKUP(O610,EventConfig!A:C,3,FALSE)=4),3,\"\"),1)))","v":""},"",null,""]
[{"$f":"O611*100+P611","v":3001601},{"$f":"IF(C611=\"\",\"\",IF(C611=C610,B610,MAX(AI610,AI609)+1))","v":5722},"向散修打听云隐宗的传闻",{"$f":"IF(E611=\"\",\"\",IF(E611=E610,D610,MAX(AI610,AI609,B611)+1))","v":""},{"$nulls":6},{"$f":"IF(J611=\"\",\"\",VLOOKUP(J611,EventNPC!A:E,5,FALSE))","v":""},{"$f":"IF(M611=\"\",\"\",MAX(AI610,AI609,B611,D611)+1)","v":5723},"你探索神识时，无意间遇到散修们在闲聊关于云隐宗的传闻，你决定上前打听一番。",null,30016,1,{"$f":"_xlfn.TEXTJOIN(\";\",1,R611:S611)","v":""},null,null,{"$f":"IF(R611=\"\",\"\",\"-\"&VLOOKUP(R611,EventConditionConfig!A:C,3,FALSE)&IF(S611=\"\",\"\",CHAR(10)&\"-\"&VLOOKUP(S611,EventConditionConfig!A:C,3,FALSE)))","v":""},{"$f":"IF(Y611=\"\",\"\",IF(ISTEXT(Y611),1,2))","v":""},{"$f":"IF(U611=1,_xlfn.TEXTJOIN(\";\",1,IF(Z611=\"\",A611+1,Z611),IF(AND(AA611<>\"\",AC611=\"\"),A611+1,AC611)),IF(U611=2,Y611,\"\"))","v":""},{"$f":"_xlfn.TEXTJOIN(\";\",1,X611,AA611)","v":""},{"$f":"IF(OR(ISNUMBER(Y611),Y611=\"\"),\"\",MAX(AI610,AI609,B611,D611,L611)+1)","v":""},null,null,{"$f":"IF(OR(ISNUMBER(AB611),AB611=\"\"),\"\",X611+1)","v":""},{"$nulls":4},{"$f":"IF(A611=\"\",\"\",IF(ISNUMBER(Y611),2,IF(A612=\"\",IF(OR(AH611>0,VLOOKUP(O611,EventConfig!A:C,3,FALSE)=4),3,\"\"),1)))","v":1},3001602,null,{"$f":"IF(A611=\"\",\"\",MAX(B611,D611,L611,X611,AA611,AI610,AI609))","v":5723}]
[{"$f":"O612*100+P612","v":3001602},{"$f":"IF(C612=\"\",\"\",IF(C612=C611,B611,MAX(AI611,AI610)+1))","v":5722},"向散修打听云隐宗的传闻",{"$f":"IF(E612=\"\",\"\",IF(E612=E611,D611,MAX(AI611,AI610,B612)+1))","v":""},{"$nulls":5},123,{"$f":"IF(J612=\"\",\"\",VLOOKUP(J612,EventNPC!A:E,5,FALSE))","v":"散修甲"},{"$f":"IF(M612=\"\",\"\",MAX(AI611,AI610,B612,D612)+1)","v":5724},"云隐宗？最近确实怪，宗门外围的风阵偶尔闪烁黑光，像被什么侵蚀了。不过我可不敢靠近。",null,30016,2,{"$f":"_xlfn.TEXTJOIN(\";\",1,R612:S612)","v":""},null,null,{"$f":"IF(R612=\"\",\"\",\"-\"&VLOOKUP(R612,EventConditionConfig!A:C,3,FALSE)&IF(S612=\"\",\"\",CHAR(10)&\"-\"&VLOOKUP(S612,EventConditionConfig!A:C,3,FALSE)))","v":""},{"$f":"IF(Y612=\"\",\"\",IF(ISTEXT(Y612),1,2))","v":""},{"$f":"IF(U612=1,_xlfn.TEXTJOIN(\";\",1,IF(Z612=\"\",A612+1,Z612),IF(AND(AA612<>\"\",AC612=\"\"),A612+1,AC612)),IF(U612=2,Y612,\"\"))","v":""},{"$f":"_xlfn.TEXTJOIN(\";\",1,X612,AA612)","v":""},{"$f":"IF(OR(ISNUMBER(Y612),Y612=\"\"),\"\",MAX(AI611,AI610,B612,D612,L612)+1)","v":""},null,null,{"$f":"IF(OR(ISNUMBER(AB612),AB612=\"\"),\"\",X612+1)","v":""},{"$nulls":4},{"$f":"IF(A612=\"\",\"\",IF(ISNUMBER(Y612),2,IF(A613=\"\",IF(OR(AH612>0,VLOOKUP(O612,EventConfig!A:C,3,FALSE)=4),3,\"\"),1)))","v":1},3001603,null,{"$f":"IF(A612=\"\",\"\",MAX(B612,D612,L612,X612,AA612,AI611,AI610))","v":5724}]
[{"$f":"O613*100+P613","v":3001603},{"$f":"IF(C613=\"\",\"\",IF(C613=C612,B612,MAX(AI612,AI611)+1))","v":5722},"向散修打听云隐宗的传闻",{"$f":"IF(E613=\"\",\"\",IF(E613=E612,D612,MAX(AI612,AI611,B613)+1))","v":""},{"$nulls":5},124,{"$f":"IF(J613=\"\",\"\",VLOOKUP(J613,EventNPC!A:E,5,FALSE))","v":"散修乙"},{"$f":"IF(M613=\"\",\"\",MAX(AI612,AI611,B613,D613)+1)","v":5725},"听说宗内有长老在炼制诡异的丹药，服用后修为暴增，但眼神空洞。别传出去啊！",null,30016,3,{"$f":"_xlfn.TEXTJOIN(\";\",1,R613:S613)","v":""},null,null,{"$f":"IF(R613=\"\",\"\",\"-\"&VLOOKUP(R613,EventConditionConfig!A:C,3,FALSE)&IF(S613=\"\",\"\",CHAR(10)&\"-\"&VLOOKUP(S613,EventConditionConfig!A:C,3,FALSE)))","v":""},{"$f":"IF(Y613=\"\",\"\",IF(ISTEXT(Y613),1,2))","v":""},{"$f":"IF(U613=1,_xlfn.TEXTJOIN(\";\",1,IF(Z613=\"\",A613+1,Z613),IF(AND(AA613<>\"\",AC613=\"\"),A613+1,AC613)),IF(U613=2,Y613,\"\"))","v":""},{"$f":"_xlfn.TEXTJOIN(\";\",1,X613,AA613)","v":""},{"$f":"IF(OR(ISNUMBER(Y613),Y613=\"\"),\"\",MAX(AI612,AI611,B613,D613,L613)+1)","v":""},null,null,{"$f":"IF(OR(ISNUMBER(AB613),AB613=\"\"),\"\",X613+1)","v":""},{"$nulls":4},{"$f":"IF(A613=\"\",\"\",IF(ISNUMBER(Y613),2,IF(A614=\"\",IF(OR(AH613>0,VLOOKUP(O613,EventConfig!A:C,3,FALSE)=4),3,\"\"),1)))","v":1},3001604,null,{"$f":"IF(A613=\"\",\"\",MAX(B613,D613,L613,X613,AA613,AI612,AI611))","v":5725}]
[{"$f":"O614*100+P614","v":3001604},{"$f":"IF(C614=\"\",\"\",IF(C614=C613,B613,MAX(AI613,AI612)+1))","v":5722},"向散修打听云隐宗的传闻",{"$f":"IF(E614=\"\",\"\",IF(E614=E613,D613,MAX(AI613,AI612,B614)+1))","v":""},{"$nulls":5},125,{"$f":"IF(J614=\"\",\"\",VLOOKUP(J614,EventNPC!A:E,5,FALSE))","v":"散修丙"},{"$f":"IF(M614=\"\",\"\",MAX(AI613,AI612,B614,D614)+1)","v":5726},"我见过一枚从云隐宗飘出的岛屿灵石，里面有股阴冷气息，不像正道之物。",null,30016,4,{"$f":"_xlfn.TEXTJOIN(\";\",1,R614:S614)","v":""},null,null,{"$f":"IF(R614=\"\",\"\",\"-\"&VLOOKUP(R614,EventConditionConfig!A:C,3,FALSE)&IF(S614=\"\",\"\",CHAR(10)&\"-\"&VLOOKUP(S614,EventConditionConfig!A:C,3,FALSE)))","v":""},{"$f":"IF(Y614=\"\",\"\",IF(ISTEXT(Y614),1,2))","v":""},{"$f":"IF(U614=1,_xlfn.TEXTJOIN(\";\",1,IF(Z614=\"\",A614+1,Z614),IF(AND(AA614<>\"\",AC614=\"\"),A614+1,AC614)),IF(U614=2,Y614,\"\"))","v":""},{"$f":"_xlfn.TEXTJOIN(\";\",1,X614,AA614)","v":""},{"$f":"IF(OR(ISNUMBER(Y614),Y614=\"\"),\"\",MAX(AI613,AI612,B614,D614,L614)+1)","v":""},null,null,{"$f":"IF(OR(ISNUMBER(AB614),AB614=\"\"),\"\",X614+1)","v":""},{"$nulls":4},{"$f":"IF(A614=\"\",\"\",IF(ISNUMBER(Y614),2,IF(A615=\"\",IF(OR(AH614>0,VLOOKUP(O614,EventConfig!A:C,3,FALSE)=4),3,\"\"),1)))","v":""},"",null,{"$f":"IF(A614=\"\",\"\",MAX(B614,D614,L614,X614,AA614,AI613,AI612))","v":5726}]
[null,{"$f":"IF(C615=\"\",\"\",IF(C615=C611,B611,MAX(AI611,AI610)+1))","v":""},null,{"$f":"IF(E615=\"\",\"\",IF(E615=E611,D611,MAX(AI611,AI610,B615)+1))","v":""},{"$nulls":11},"",{"$nulls":7},{"$f":"IF(OR(ISNUMBER(Y615),Y615=\"\"),\"\",MAX(AI611,AI610,B615,D615,L615)+1)","v":""},null,null,"",{"$nulls":4},{"$f":"IF(A615=\"\",\"\",IF(ISNUMBER(Y615),2,IF(A631=\"\",IF(OR(AH615>0,VLOOKUP(O615,EventConfig!A:C,3,FALSE)=4),3,\"\"),1)))","v":""},"",null,{"$f":"IF(A615=\"\",\"\",MAX(B615,D615,L615,X615,AA615,AI611,AI610))","v":""}]
[{"$f":"O616*100+P616","v":3001701},{"$f":"IF(C616=\"\",\"\",IF(C616=C615,B615,MAX(AI615,AI614)+1))","v":5727},"击败误食灵石的妖兽",{"$f":"IF(E616=\"\",\"\",IF(E616=E615,D615,MAX(AI615,AI614,B616)+1))","v":""},{"$nulls":6},{"$f":"IF(J616=\"\",\"\",VLOOKUP(J616,EventNPC!A:E,5,FALSE))","v":""},{"$f":"IF(M616=\"\",\"\",MAX(AI615,AI614,B616,D616)+1)","v":5728},"你探索神识时，无意间遇到一只误食灵石的妖兽。你决定上前结束他的痛苦。",null,30017,1,{"$f":"_xlfn.TEXTJOIN(\";\",1,R616:S616)","v":""},null,null,{"$f":"IF(R616=\"\",\"\",\"-\"&VLOOKUP(R616,EventConditionConfig!A:C,3,FALSE)&IF(S616=\"\",\"\",CHAR(10)&\"-\"&VLOOKUP(S616,EventConditionConfig!A:C,3,FALSE)))","v":""},{"$f":"IF(Y616=\"\",\"\",IF(ISTEXT(Y616),1,2))","v":2},{"$f":"IF(U616=1,_xlfn.TEXTJOIN(\";\",1,IF(Z616=\"\",A616+1,Z616),IF(AND(AA616<>\"\",AC616=\"\"),A616+1,AC616)),IF(U616=2,Y616,\"\"))","v":30017},{"$f":"_xlfn.TEXTJOIN(\";\",1,X616,AA616)","v":""},{"$f":"IF(OR(ISNUMBER(Y616),Y616=\"\"),\"\",MAX(AI615,AI614,B616,D616,L616)+1)","v":""},30017,null,"",{"$nulls":4},{"$f":"IF(A616=\"\",\"\",IF(ISNUMBER(Y616),2,IF(A617=\"\",IF(OR(AH616>0,VLOOKUP(O616,EventConfig!A:C,3,FALSE)=4),3,\"\"),1)))","v":2},{"$f":"IF(AF616=\"\",\"\",CHOOSE(AF616,IF(AH616=\"\",A616+1,AH616),CONCATENATE(IF(AH616=\"\",A616+1,AH616),\";101\"),IF(AH616=\"\",O616+1,AH616)))","v":"3001702;101"},null,{"$f":"IF(A616=\"\",\"\",MAX(B616,D616,L616,X616,AA616,AI615,AI614))","v":5728}]
[null,{"$f":"IF(C617=\"\",\"\",IF(C617=C613,B613,MAX(AI613,AI612)+1))","v":""},null,{"$f":"IF(E617=\"\",\"\",IF(E617=E613,D613,MAX(AI613,AI612,B617)+1))","v":""},{"$nulls":11},"",{"$nulls":7},{"$f":"IF(OR(ISNUMBER(Y617),Y617=\"\"),\"\",MAX(AI613,AI612,B617,D617,L617)+1)","v":""},null,null,{"$f":"IF(OR(ISNUMBER(AB617),AB617=\"\"),\"\",X617+1)","v":""},{"$nulls":4},{"$f":"IF(A617=\"\",\"\",IF(ISNUMBER(Y617),2,IF(A633=\"\",IF(OR(AH617>0,VLOOKUP(O617,EventConfig!A:C,3,FALSE)=4),3,\"\"),1)))","v":""},"",null,{"$f":"IF(A617=\"\",\"\",MAX(B617,D617,L617,X617,AA617,AI613,AI612))","v":""}]
[{"$f":"O618*100+P618","v":3001801},{"$f":"IF(C618=\"\",\"\",IF(C618=C617,B617,MAX(AI617,AI616)+1))","v":5729},"截取密信",{"$f":"IF(E618=\"\",\"\",IF(E618=E617,D617,MAX(AI617,AI616,B618)+1))","v":""},{"$nulls":6},{"$f":"IF(J618=\"\",\"\",VLOOKUP(J618,EventNPC!A:E,5,FALSE))","v":""},{"$f":"IF(M618=\"\",\"\",MAX(AI617,AI616,B618,D618)+1)","v":5730},"你探索神识时，无意间遇到一只信鸽，爪子上的标记让你识出它来自云隐宗。你决定截取这封密信。",null,30018,1,{"$f":"_xlfn.TEXTJOIN(\";\",1,R618:S618)","v":""},null,null,{"$f":"IF(R618=\"\",\"\",\"-\"&VLOOKUP(R618,EventConditionConfig!A:C,3,FALSE)&IF(S618=\"\",\"\",CHAR(10)&\"-\"&VLOOKUP(S618,EventConditionConfig!A:C,3,FALSE)))","v":""},{"$f":"IF(Y618=\"\",\"\",IF(ISTEXT(Y618),1,2))","v":""},{"$f":"IF(U618=1,_xlfn.TEXTJOIN(\";\",1,IF(Z618=\"\",A618+1,Z618),IF(AND(AA618<>\"\",AC618=\"\"),A618+1,AC618)),IF(U618=2,Y618,\"\"))","v":""},{"$f":"_xlfn.TEXTJOIN(\";\",1,X618,AA618)","v":""},{"$f":"IF(OR(ISNUMBER(Y618),Y618=\"\"),\"\",MAX(AI617,AI616,B618,D618,L618)+1)","v":""},null,null,"",{"$nulls":4},{"$f":"IF(A618=\"\",\"\",IF(ISNUMBER(Y618),2,IF(A619=\"\",IF(OR(AH618>0,VLOOKUP(O618,EventConfig!A:C,3,FALSE)=4),3,\"\"),1)))","v":""},{"$f":"IF(AF618=\"\",\"\",CHOOSE(AF618,IF(AH618=\"\",A618+1,AH618),CONCATENATE(IF(AH618=\"\",A618+1,AH618),\";101\"),IF(AH618=\"\",O618+1,AH618)))","v":""},null,{"$f":"IF(A618=\"\",\"\",MAX(B618,D618,L618,X618,AA618,AI617,AI616))","v":5730}]
[null,{"$f":"IF(C619=\"\",\"\",IF(C619=C615,B615,MAX(AI615,AI614)+1))","v":""},null,{"$f":"IF(E619=\"\",\"\",IF(E619=E615,D615,MAX(AI615,AI614,B619)+1))","v":""},{"$nulls":11},"",{"$nulls":7},{"$f":"IF(OR(ISNUMBER(Y619),Y619=\"\"),\"\",MAX(AI615,AI614,B619,D619,L619)+1)","v":""},null,null,{"$f":"IF(OR(ISNUMBER(AB619),AB619=\"\"),\"\",X619+1)","v":""},{"$nulls":4},{"$f":"IF(A619=\"\",\"\",IF(ISNUMBER(Y619),2,IF(A635=\"\",IF(OR(AH619>0,VLOOKUP(O619,EventConfig!A:C,3,FALSE)=4),3,\"\"),1)))","v":""},"",null,{"$f":"IF(A619=\"\",\"\",MAX(B619,D619,L619,X619,AA619,AI615,AI614))","v":""}]
[{"$f":"O620*100+P620","v":3001901},{"$f":"IF(C620=\"\",\"\",IF(C620=C619,B619,MAX(AI619,AI618)+1))","v":5731},"截取密信",{"$f":"IF(E620=\"\",\"\",IF(E620=E619,D619,MAX(AI619,AI618,B620)+1))","v":""},{"$nulls":6},{"$f":"IF(J620=\"\",\"\",VLOOKUP(J620,EventNPC!A:E,5,FALSE))","v":""},{"$f":"IF(M620=\"\",\"\",MAX(AI619,AI618,B620,D620)+1)","v":5732},"你在山林巡查时，看到一只山林小妖正在炫耀它抢到的玉佩，看来这就是婉溪口中所说的尧都玉佩了。你决定教训一下小妖。",null,30019,1,{"$f":"_xlfn.TEXTJOIN(\";\",1,R620:S620)","v":""},null,null,{"$f":"IF(R620=\"\",\"\",\"-\"&VLOOKUP(R620,EventConditionConfig!A:C,3,FALSE)&IF(S620=\"\",\"\",CHAR(10)&\"-\"&VLOOKUP(S620,EventConditionConfig!A:C,3,FALSE)))","v":""},{"$f":"IF(Y620=\"\",\"\",IF(ISTEXT(Y620),1,2))","v":2},{"$f":"IF(U620=1,_xlfn.TEXTJOIN(\";\",1,IF(Z620=\"\",A620+1,Z620),IF(AND(AA620<>\"\",AC620=\"\"),A620+1,AC620)),IF(U620=2,Y620,\"\"))","v":3009},{"$f":"_xlfn.TEXTJOIN(\";\",1,X620,AA620)","v":""},{"$f":"IF(OR(ISNUMBER(Y620),Y620=\"\"),\"\",MAX(AI619,AI618,B620,D620,L620)+1)","v":""},3009,null,"",{"$nulls":4},{"$f":"IF(A620=\"\",\"\",IF(ISNUMBER(Y620),2,IF(A621=\"\",IF(OR(AH620>0,VLOOKUP(O620,EventConfig!A:C,3,FALSE)=4),3,\"\"),1)))","v":2},{"$f":"IF(AF620=\"\",\"\",CHOOSE(AF620,IF(AH620=\"\",A620+1,AH620),CONCATENATE(IF(AH620=\"\",A620+1,AH620),\";101\"),IF(AH620=\"\",O620+1,AH620)))","v":"3001902;101"},null,{"$f":"IF(A620=\"\",\"\",MAX(B620,D620,L620,X620,AA620,AI619,AI618))","v":5732}]
[null,{"$f":"IF(C621=\"\",\"\",IF(C621=C617,B617,MAX(AI617,AI616)+1))","v":""},null,{"$f":"IF(E621=\"\",\"\",IF(E621=E617,D617,MAX(AI617,AI616,B621)+1))","v":""},{"$nulls":11},"",{"$nulls":7},{"$f":"IF(OR(ISNUMBER(Y621),Y621=\"\"),\"\",MAX(AI617,AI616,B621,D621,L621)+1)","v":""},null,null,{"$f":"IF(OR(ISNUMBER(AB621),AB621=\"\"),\"\",X621+1)","v":""},{"$nulls":4},{"$f":"IF(A621=\"\",\"\",IF(ISNUMBER(Y621),2,IF(A637=\"\",IF(OR(AH621>0,VLOOKUP(O621,EventConfig!A:C,3,FALSE)=4),3,\"\"),1)))","v":""},"",null,{"$f":"IF(A621=\"\",\"\",MAX(B621,D621,L621,X621,AA621,AI617,AI616))","v":""}]
[{"$f":"O622*100+P622","v":3002001},{"$f":"IF(C622=\"\",\"\",IF(C622=C621,B621,MAX(AI621,AI620)+1))","v":5733},"收集山野灵草",{"$f":"IF(E622=\"\",\"\",IF(E622=E621,D621,MAX(AI621,AI620,B622)+1))","v":""},{"$nulls":6},{"$f":"IF(J622=\"\",\"\",VLOOKUP(J622,EventNPC!A:E,5,FALSE))","v":""},{"$f":"IF(M622=\"\",\"\",MAX(AI621,AI620,B622,D622)+1)","v":5734},"你帮助许由采集灵草，但遇到一只小妖兽作祟，你不得不上前迎战。",null,30020,1,{"$f":"_xlfn.TEXTJOIN(\";\",1,R622:S622)","v":""},null,null,{"$f":"IF(R622=\"\",\"\",\"-\"&VLOOKUP(R622,EventConditionConfig!A:C,3,FALSE)&IF(S622=\"\",\"\",CHAR(10)&\"-\"&VLOOKUP(S622,EventConditionConfig!A:C,3,FALSE)))","v":""},{"$f":"IF(Y622=\"\",\"\",IF(ISTEXT(Y622),1,2))","v":2},{"$f":"IF(U622=1,_xlfn.TEXTJOIN(\";\",1,IF(Z622=\"\",A622+1,Z622),IF(AND(AA622<>\"\",AC622=\"\"),A622+1,AC622)),IF(U622=2,Y622,\"\"))","v":3011},{"$f":"_xlfn.TEXTJOIN(\";\",1,X622,AA622)","v":""},{"$f":"IF(OR(ISNUMBER(Y622),Y622=\"\"),\"\",MAX(AI621,AI620,B622,D622,L622)+1)","v":""},3011,null,"",{"$nulls":4},{"$f":"IF(A622=\"\",\"\",IF(ISNUMBER(Y622),2,IF(A623=\"\",IF(OR(AH622>0,VLOOKUP(O622,EventConfig!A:C,3,FALSE)=4),3,\"\"),1)))","v":2},{"$f":"IF(AF622=\"\",\"\",CHOOSE(AF622,IF(AH622=\"\",A622+1,AH622),CONCATENATE(IF(AH622=\"\",A622+1,AH622),\";101\"),IF(AH622=\"\",O622+1,AH622)))","v":"3002002;101"},null,{"$f":"IF(A622=\"\",\"\",MAX(B622,D622,L622,X622,AA622,AI621,AI620))","v":5734}]
[null,{"$f":"IF(C623=\"\",\"\",IF(C623=C619,B619,MAX(AI619,AI618)+1))","v":""},null,{"$f":"IF(E623=\"\",\"\",IF(E623=E619,D619,MAX(AI619,AI618,B623)+1))","v":""},{"$nulls":11},"",{"$nulls":7},{"$f":"IF(OR(ISNUMBER(Y623),Y623=\"\"),\"\",MAX(AI619,AI618,B623,D623,L623)+1)","v":""},null,null,{"$f":"IF(OR(ISNUMBER(AB623),AB623=\"\"),\"\",X623+1)","v":""},{"$nulls":4},{"$f":"IF(A623=\"\",\"\",IF(ISNUMBER(Y623),2,IF(A639=\"\",IF(OR(AH623>0,VLOOKUP(O623,EventConfig!A:C,3,FALSE)=4),3,\"\"),1)))","v":""},"",null,{"$f":"IF(A623=\"\",\"\",MAX(B623,D623,L623,X623,AA623,AI619,AI618))","v":""}]
[{"$f":"O624*100+P624","v":3002101},{"$f":"IF(C624=\"\",\"\",IF(C624=C623,B623,MAX(AI623,AI622)+1))","v":5735},"收集秘境种子",{"$f":"IF(E624=\"\",\"\",IF(E624=E623,D623,MAX(AI623,AI622,B624)+1))","v":""},{"$nulls":6},{"$f":"IF(J624=\"\",\"\",VLOOKUP(J624,EventNPC!A:E,5,FALSE))","v":""},{"$f":"IF(M624=\"\",\"\",MAX(AI623,AI622,B624,D624)+1)","v":5736},"经由许由允许，你来到一处后山的秘境。",null,30021,1,{"$f":"_xlfn.TEXTJOIN(\";\",1,R624:S624)","v":""},null,null,{"$f":"IF(R624=\"\",\"\",\"-\"&VLOOKUP(R624,EventConditionConfig!A:C,3,FALSE)&IF(S624=\"\",\"\",CHAR(10)&\"-\"&VLOOKUP(S624,EventConditionConfig!A:C,3,FALSE)))","v":""},{"$f":"IF(Y624=\"\",\"\",IF(ISTEXT(Y624),1,2))","v":""},{"$f":"IF(U624=1,_xlfn.TEXTJOIN(\";\",1,IF(Z624=\"\",A624+1,Z624),IF(AND(AA624<>\"\",AC624=\"\"),A624+1,AC624)),IF(U624=2,Y624,\"\"))","v":""},{"$f":"_xlfn.TEXTJOIN(\";\",1,X624,AA624)","v":""},{"$f":"IF(OR(ISNUMBER(Y624),Y624=\"\"),\"\",MAX(AI623,AI622,B624,D624,L624)+1)","v":""},null,null,"",{"$nulls":4},{"$f":"IF(A624=\"\",\"\",IF(ISNUMBER(Y624),2,IF(A627=\"\",IF(OR(AH624>0,VLOOKUP(O624,EventConfig!A:C,3,FALSE)=4),3,\"\"),1)))","v":""},{"$f":"IF(AF624=\"\",\"\",CHOOSE(AF624,IF(AH624=\"\",A624+1,AH624),CONCATENATE(IF(AH624=\"\",A624+1,AH624),\";101\"),IF(AH624=\"\",O624+1,AH624)))","v":""},null,{"$f":"IF(A624=\"\",\"\",MAX(B624,D624,L624,X624,AA624,AI623,AI622))","v":5736}]
[{"$f":"O625*100+P625","v":3002102},{"$f":"IF(C625=\"\",\"\",IF(C625=C624,B624,MAX(AI624,AI623)+1))","v":5735},"收集秘境种子",{"$f":"IF(E625=\"\",\"\",IF(E625=E624,D624,MAX(AI624,AI623,B625)+1))","v":""},{"$nulls":6},{"$f":"IF(J625=\"\",\"\",VLOOKUP(J625,EventNPC!A:E,5,FALSE))","v":""},{"$f":"IF(M625=\"\",\"\",MAX(AI624,AI623,B625,D625)+1)","v":5737},"秘境中生长着你前所未见的花草，它们争奇斗艳颇为神秘。",null,30021,2,{"$f":"_xlfn.TEXTJOIN(\";\",1,R625:S625)","v":""},null,null,{"$f":"IF(R625=\"\",\"\",\"-\"&VLOOKUP(R625,EventConditionConfig!A:C,3,FALSE)&IF(S625=\"\",\"\",CHAR(10)&\"-\"&VLOOKUP(S625,EventConditionConfig!A:C,3,FALSE)))","v":""},{"$f":"IF(Y625=\"\",\"\",IF(ISTEXT(Y625),1,2))","v":""},{"$f":"IF(U625=1,_xlfn.TEXTJOIN(\";\",1,IF(Z625=\"\",A625+1,Z625),IF(AND(AA625<>\"\",AC625=\"\"),A625+1,AC625)),IF(U625=2,Y625,\"\"))","v":""},{"$f":"_xlfn.TEXTJOIN(\";\",1,X625,AA625)","v":""},{"$f":"IF(OR(ISNUMBER(Y625),Y625=\"\"),\"\",MAX(AI624,AI623,B625,D625,L625)+1)","v":""},null,null,{"$f":"IF(OR(ISNUMBER(AB625),AB625=\"\"),\"\",X625+1)","v":""},{"$nulls":4},{"$f":"IF(A625=\"\",\"\",IF(ISNUMBER(Y625),2,IF(A631=\"\",IF(OR(AH625>0,VLOOKUP(O625,EventConfig!A:C,3,FALSE)=4),3,\"\"),1)))","v":1},{"$f":"IF(AF625=\"\",\"\",CHOOSE(AF625,IF(AH625=\"\",A625+1,AH625),CONCATENATE(IF(AH625=\"\",A625+1,AH625),\";101\"),IF(AH625=\"\",O625+1,AH625)))","v":3002103},null,{"$f":"IF(A625=\"\",\"\",MAX(B625,D625,L625,X625,AA625,AI624,AI623))","v":5737}]
[{"$f":"O626*100+P626","v":3002103},{"$f":"IF(C626=\"\",\"\",IF(C626=C625,B625,MAX(AI625,AI624)+1))","v":5735},"收集秘境种子",{"$f":"IF(E626=\"\",\"\",IF(E626=E625,D625,MAX(AI625,AI624,B626)+1))","v":""},{"$nulls":6},{"$f":"IF(J626=\"\",\"\",VLOOKUP(J626,EventNPC!A:E,5,FALSE))","v":""},{"$f":"IF(M626=\"\",\"\",MAX(AI625,AI624,B626,D626)+1)","v":5738},"你忍不住上前想摘下一朵，殊不知危险就藏在身后…",null,30021,3,{"$f":"_xlfn.TEXTJOIN(\";\",1,R626:S626)","v":""},null,null,{"$f":"IF(R626=\"\",\"\",\"-\"&VLOOKUP(R626,EventConditionConfig!A:C,3,FALSE)&IF(S626=\"\",\"\",CHAR(10)&\"-\"&VLOOKUP(S626,EventConditionConfig!A:C,3,FALSE)))","v":""},{"$f":"IF(Y626=\"\",\"\",IF(ISTEXT(Y626),1,2))","v":2},{"$f":"IF(U626=1,_xlfn.TEXTJOIN(\";\",1,IF(Z626=\"\",A626+1,Z626),IF(AND(AA626<>\"\",AC626=\"\"),A626+1,AC626)),IF(U626=2,Y626,\"\"))","v":3012},{"$f":"_xlfn.TEXTJOIN(\";\",1,X626,AA626)","v":""},{"$f":"IF(OR(ISNUMBER(Y626),Y626=\"\"),\"\",MAX(AI625,AI624,B626,D626,L626)+1)","v":""},3012,null,{"$f":"IF(OR(ISNUMBER(AB626),AB626=\"\"),\"\",X626+1)","v":""},{"$nulls":4},{"$f":"IF(A626=\"\",\"\",IF(ISNUMBER(Y626),2,IF(A632=\"\",IF(OR(AH626>0,VLOOKUP(O626,EventConfig!A:C,3,FALSE)=4),3,\"\"),1)))","v":2},{"$f":"IF(AF626=\"\",\"\",CHOOSE(AF626,IF(AH626=\"\",A626+1,AH626),CONCATENATE(IF(AH626=\"\",A626+1,AH626),\";101\"),IF(AH626=\"\",O626+1,AH626)))","v":"3002104;101"},null,{"$f":"IF(A626=\"\",\"\",MAX(B626,D626,L626,X626,AA626,AI625,AI624))","v":5738}]
[null,{"$f":"IF(C627=\"\",\"\",IF(C627=C621,B621,MAX(AI621,AI620)+1))","v":""},null,{"$f":"IF(E627=\"\",\"\",IF(E627=E621,D621,MAX(AI621,AI620,B627)+1))","v":""},{"$nulls":11},"",{"$nulls":7},{"$f":"IF(OR(ISNUMBER(Y627),Y627=\"\"),\"\",MAX(AI621,AI620,B627,D627,L627)+1)","v":""},null,null,{"$f":"IF(OR(ISNUMBER(AB627),AB627=\"\"),\"\",X627+1)","v":""},{"$nulls":4},{"$f":"IF(A627=\"\",\"\",IF(ISNUMBER(Y627),2,IF(A641=\"\",IF(OR(AH627>0,VLOOKUP(O627,EventConfig!A:C,3,FALSE)=4),3,\"\"),1)))","v":""},"",null,{"$f":"IF(A627=\"\",\"\",MAX(B627,D627,L627,X627,AA627,AI621,AI620))","v":""}]
[{"$f":"O628*100+P628","v":3002201},{"$f":"IF(C628=\"\",\"\",IF(C628=C627,B627,MAX(AI627,AI626)+1))","v":5739},"收集秘境种子",{"$f":"IF(E628=\"\",\"\",IF(E628=E627,D627,MAX(AI627,AI626,B628)+1))","v":""},{"$nulls":6},{"$f":"IF(J628=\"\",\"\",VLOOKUP(J628,EventNPC!A:E,5,FALSE))","v":""},{"$f":"IF(M628=\"\",\"\",MAX(AI627,AI626,B628,D628)+1)","v":5740},"你探索神识时，无意间闯入一片仙气飘飘的果园。不妨采几颗果实给疯道人尝尝吧？",null,30022,1,{"$f":"_xlfn.TEXTJOIN(\";\",1,R628:S628)","v":""},null,null,{"$f":"IF(R628=\"\",\"\",\"-\"&VLOOKUP(R628,EventConditionConfig!A:C,3,FALSE)&IF(S628=\"\",\"\",CHAR(10)&\"-\"&VLOOKUP(S628,EventConditionConfig!A:C,3,FALSE)))","v":""},{"$f":"IF(Y628=\"\",\"\",IF(ISTEXT(Y628),1,2))","v":""},{"$f":"IF(U628=1,_xlfn.TEXTJOIN(\";\",1,IF(Z628=\"\",A628+1,Z628),IF(AND(AA628<>\"\",AC628=\"\"),A628+1,AC628)),IF(U628=2,Y628,\"\"))","v":""},{"$f":"_xlfn.TEXTJOIN(\";\",1,X628,AA628)","v":""},{"$f":"IF(OR(ISNUMBER(Y628),Y628=\"\"),\"\",MAX(AI627,AI626,B628,D628,L628)+1)","v":""},null,null,"",{"$nulls":4},{"$f":"IF(A628=\"\",\"\",IF(ISNUMBER(Y628),2,IF(A634=\"\",IF(OR(AH628>0,VLOOKUP(O628,EventConfig!A:C,3,FALSE)=4),3,\"\"),1)))","v":1},3002202,null,{"$f":"IF(A628=\"\",\"\",MAX(B628,D628,L628,X628,AA628,AI627,AI626))","v":5740}]
[{"$f":"O629*100+P629","v":3002202},{"$f":"IF(C629=\"\",\"\",IF(C629=C628,B628,MAX(AI628,AI627)+1))","v":5739},"收集秘境种子",{"$f":"IF(E629=\"\",\"\",IF(E629=E628,D628,MAX(AI628,AI627,B629)+1))","v":""},{"$nulls":6},{"$f":"IF(J629=\"\",\"\",VLOOKUP(J629,EventNPC!A:E,5,FALSE))","v":""},{"$f":"IF(M629=\"\",\"\",MAX(AI628,AI627,B629,D629)+1)","v":5741},"你刚伸手去够，谁知从树上跳下来一只灵猴，对比张牙舞爪。看来它不太同意你的想法。接招！",null,30022,2,{"$f":"_xlfn.TEXTJOIN(\";\",1,R629:S629)","v":""},null,null,{"$f":"IF(R629=\"\",\"\",\"-\"&VLOOKUP(R629,EventConditionConfig!A:C,3,FALSE)&IF(S629=\"\",\"\",CHAR(10)&\"-\"&VLOOKUP(S629,EventConditionConfig!A:C,3,FALSE)))","v":""},{"$f":"IF(Y629=\"\",\"\",IF(ISTEXT(Y629),1,2))","v":2},{"$f":"IF(U629=1,_xlfn.TEXTJOIN(\";\",1,IF(Z629=\"\",A629+1,Z629),IF(AND(AA629<>\"\",AC629=\"\"),A629+1,AC629)),IF(U629=2,Y629,\"\"))","v":3013},{"$f":"_xlfn.TEXTJOIN(\";\",1,X629,AA629)","v":""},{"$f":"IF(OR(ISNUMBER(Y629),Y629=\"\"),\"\",MAX(AI628,AI627,B629,D629,L629)+1)","v":""},3013,null,{"$f":"IF(OR(ISNUMBER(AB629),AB629=\"\"),\"\",X629+1)","v":""},{"$nulls":4},{"$f":"IF(A629=\"\",\"\",IF(ISNUMBER(Y629),2,IF(A635=\"\",IF(OR(AH629>0,VLOOKUP(O629,EventConfig!A:C,3,FALSE)=4),3,\"\"),1)))","v":2},{"$f":"IF(AF629=\"\",\"\",CHOOSE(AF629,IF(AH629=\"\",A629+1,AH629),CONCATENATE(IF(AH629=\"\",A629+1,AH629),\";101\"),IF(AH629=\"\",O629+1,AH629)))","v":"3002203;101"},null,{"$f":"IF(A629=\"\",\"\",MAX(B629,D629,L629,X629,AA629,AI628,AI627))","v":5741}]
[null,{"$f":"IF(C630=\"\",\"\",IF(C630=C623,B623,MAX(AI623,AI622)+1))","v":""},null,{"$f":"IF(E630=\"\",\"\",IF(E630=E623,D623,MAX(AI623,AI622,B630)+1))","v":""},{"$nulls":11},"",{"$nulls":7},{"$f":"IF(OR(ISNUMBER(Y630),Y630=\"\"),\"\",MAX(AI623,AI622,B630,D630,L630)+1)","v":""},null,null,{"$f":"IF(OR(ISNUMBER(AB630),AB630=\"\"),\"\",X630+1)","v":""},{"$nulls":4},{"$f":"IF(A630=\"\",\"\",IF(ISNUMBER(Y630),2,IF(A643=\"\",IF(OR(AH630>0,VLOOKUP(O630,EventConfig!A:C,3,FALSE)=4),3,\"\"),1)))","v":""},{"$f":"IF(AF630=\"\",\"\",CHOOSE(AF630,IF(AH630=\"\",A630+1,AH630),CONCATENATE(IF(AH630=\"\",A630+1,AH630),\";101\"),IF(AH630=\"\",O630+1,AH630)))","v":""},null,{"$f":"IF(A630=\"\",\"\",MAX(B630,D630,L630,X630,AA630,AI623,AI622))","v":""}]
[{"$f":"O631*100+P631","v":600101},{"$f":"IF(C631=\"\",\"\",IF(C631=C608,B608,MAX(AI608,AI607)+1))","v":5720},"陪幻雀一起玩",{"$f":"IF(E631=\"\",\"\",IF(E631=E608,D608,MAX(AI608,AI607,B631)+1))","v":""},{"$nulls":6},{"$f":"IF(J631=\"\",\"\",VLOOKUP(J631,EventNPC!A:E,5,FALSE))","v":""},{"$f":"IF(M631=\"\",\"\",MAX(AI604,AI603,B631,D631)+1)","v":5721},"你返回北海密径，古松灵气未散。微风轻拂，树叶沙沙作响。",null,6001,1,{"$f":"_xlfn.TEXTJOIN(\";\",1,R631:S631)","v":""},null,null,{"$f":"IF(R631=\"\",\"\",\"-\"&VLOOKUP(R631,EventConditionConfig!A:C,3,FALSE)&IF(S631=\"\",\"\",CHAR(10)&\"-\"&VLOOKUP(S631,EventConditionConfig!A:C,3,FALSE)))","v":""},{"$f":"IF(Y631=\"\",\"\",IF(ISTEXT(Y631),1,2))","v":""},{"$f":"IF(U631=1,_xlfn.TEXTJOIN(\";\",1,IF(Z631=\"\",A631+1,Z631),IF(AND(AA631<>\"\",AC631=\"\"),A631+1,AC631)),IF(U631=2,Y631,\"\"))","v":""},{"$f":"_xlfn.TEXTJOIN(\";\",1,X631,AA631)","v":""},{"$f":"IF(OR(ISNUMBER(Y631),Y631=\"\"),\"\",MAX(AI608,AI607,B631,D631,L631)+1)","v":""},null,null,"",{"$nulls":4},{"$f":"IF(A631=\"\",\"\",IF(ISNUMBER(Y631),2,IF(A632=\"\",IF(OR(AH631>0,VLOOKUP(O631,EventConfig!A:C,3,FALSE)=4),3,\"\"),1)))","v":1},600102,null,{"$f":"IF(A631=\"\",\"\",MAX(B631,D631,L631,X631,AA631,AI608,AI607))","v":5721}]
[{"$f":"O632*100+P632","v":600102},{"$f":"IF(C632=\"\",\"\",IF(C632=C631,B631,MAX(AI631,AI608)+1))","v":5720},"陪幻雀一起玩",{"$f":"IF(E632=\"\",\"\",IF(E632=E631,D631,MAX(AI631,AI608,B632)+1))","v":""},{"$nulls":6},{"$f":"IF(J632=\"\",\"\",VLOOKUP(J632,EventNPC!A:E,5,FALSE))","v":""},{"$f":"IF(M632=\"\",\"\",MAX(AI631,AI604,B632,D632)+1)","v":5722},"小麻雀化形为少女，扑棱袖子落在树枝上。",null,6001,2,{"$f":"_xlfn.TEXTJOIN(\";\",1,R632:S632)","v":""},null,null,{"$f":"IF(R632=\"\",\"\",\"-\"&VLOOKUP(R632,EventConditionConfig!A:C,3,FALSE)&IF(S632=\"\",\"\",CHAR(10)&\"-\"&VLOOKUP(S632,EventConditionConfig!A:C,3,FALSE)))","v":""},{"$f":"IF(Y632=\"\",\"\",IF(ISTEXT(Y632),1,2))","v":""},{"$f":"IF(U632=1,_xlfn.TEXTJOIN(\";\",1,IF(Z632=\"\",A632+1,Z632),IF(AND(AA632<>\"\",AC632=\"\"),A632+1,AC632)),IF(U632=2,Y632,\"\"))","v":""},{"$f":"_xlfn.TEXTJOIN(\";\",1,X632,AA632)","v":""},{"$f":"IF(OR(ISNUMBER(Y632),Y632=\"\"),\"\",MAX(AI631,AI608,B632,D632,L632)+1)","v":""},null,null,"",{"$nulls":4},{"$f":"IF(A632=\"\",\"\",IF(ISNUMBER(Y632),2,IF(A633=\"\",IF(OR(AH632>0,VLOOKUP(O632,EventConfig!A:C,3,FALSE)=4),3,\"\"),1)))","v":1},600103,null,{"$f":"IF(A632=\"\",\"\",MAX(B632,D632,L632,X632,AA632,AI631,AI608))","v":5722}]
[{"$f":"O633*100+P633","v":600103},5720,"陪幻雀一起玩","",{"$nulls":6},{"$f":"IF(J633=\"\",\"\",VLOOKUP(J633,EventNPC!A:E,5,FALSE))","v":""},{"$f":"IF(M633=\"\",\"\",MAX(AI632,AI631,B633,D633)+1)","v":5723},"她看起来约十六岁，头发蓬松如雀羽，眼睛亮晶晶的，带着调皮的笑意。",null,6001,3,{"$f":"_xlfn.TEXTJOIN(\";\",1,R633:S633)","v":""},null,null,{"$f":"IF(R633=\"\",\"\",\"-\"&VLOOKUP(R633,EventConditionConfig!A:C,3,FALSE)&IF(S633=\"\",\"\",CHAR(10)&\"-\"&VLOOKUP(S633,EventConditionConfig!A:C,3,FALSE)))","v":""},{"$f":"IF(Y633=\"\",\"\",IF(ISTEXT(Y633),1,2))","v":""},{"$f":"IF(U633=1,_xlfn.TEXTJOIN(\";\",1,IF(Z633=\"\",A633+1,Z633),IF(AND(AA633<>\"\",AC633=\"\"),A633+1,AC633)),IF(U633=2,Y633,\"\"))","v":""},{"$f":"_xlfn.TEXTJOIN(\";\",1,X633,AA633)","v":""},"",null,null,"",{"$nulls":4},{"$f":"IF(A633=\"\",\"\",IF(ISNUMBER(Y633),2,IF(A634=\"\",IF(OR(AH633>0,VLOOKUP(O633,EventConfig!A:C,3,FALSE)=4),3,\"\"),1)))","v":1},600104,null,5723]
[{"$f":"O634*100+P634","v":600104},5720,"陪幻雀一起玩","",{"$nulls":5},2,{"$f":"IF(J634=\"\",\"\",VLOOKUP(J634,EventNPC!A:E,5,FALSE))","v":"雀灵儿"},{"$f":"IF(M634=\"\",\"\",MAX(AI633,AI632,B634,D634)+1)","v":5724},"（歪头笑，跳来跳去）哎呀，你这大傻瓜，打败我们后就想溜？",null,6001,4,{"$f":"_xlfn.TEXTJOIN(\";\",1,R634:S634)","v":""},null,null,{"$f":"IF(R634=\"\",\"\",\"-\"&VLOOKUP(R634,EventConditionConfig!A:C,3,FALSE)&IF(S634=\"\",\"\",CHAR(10)&\"-\"&VLOOKUP(S634,EventConditionConfig!A:C,3,FALSE)))","v":""},{"$f":"IF(Y634=\"\",\"\",IF(ISTEXT(Y634),1,2))","v":""},{"$f":"IF(U634=1,_xlfn.TEXTJOIN(\";\",1,IF(Z634=\"\",A634+1,Z634),IF(AND(AA634<>\"\",AC634=\"\"),A634+1,AC634)),IF(U634=2,Y634,\"\"))","v":""},{"$f":"_xlfn.TEXTJOIN(\";\",1,X634,AA634)","v":""},"",null,null,"",{"$nulls":4},{"$f":"IF(A634=\"\",\"\",IF(ISNUMBER(Y634),2,IF(A635=\"\",IF(OR(AH634>0,VLOOKUP(O634,EventConfig!A:C,3,FALSE)=4),3,\"\"),1)))","v":1},600105,null,5724]
[{"$f":"O635*100+P635","v":600105},5720,"陪幻雀一起玩","",{"$nulls":5},2,{"$f":"IF(J635=\"\",\"\",VLOOKUP(J635,EventNPC!A:E,5,FALSE))","v":"雀灵儿"},{"$f":"IF(M635=\"\",\"\",MAX(AI634,AI633,B635,D635)+1)","v":5725},"我天天守在北海，好无聊，来陪我玩一会吧！从这儿到老松顶，看谁先到！",null,6001,5,{"$f":"_xlfn.TEXTJOIN(\";\",1,R635:S635)","v":""},null,null,{"$f":"IF(R635=\"\",\"\",\"-\"&VLOOKUP(R635,EventConditionConfig!A:C,3,FALSE)&IF(S635=\"\",\"\",CHAR(10)&\"-\"&VLOOKUP(S635,EventConditionConfig!A:C,3,FALSE)))","v":""},{"$f":"IF(Y635=\"\",\"\",IF(ISTEXT(Y635),1,2))","v":1},{"$f":"IF(U635=1,_xlfn.TEXTJOIN(\";\",1,IF(Z635=\"\",A635+1,Z635),IF(AND(AA635<>\"\",AC635=\"\"),A635+1,AC635)),IF(U635=2,Y635,\"\"))","v":"600106"},{"$f":"_xlfn.TEXTJOIN(\";\",1,X635,AA635)","v":"5726"},5726,"好，来追你！",null,"",{"$nulls":4},{"$f":"IF(A635=\"\",\"\",IF(ISNUMBER(Y635),2,IF(A636=\"\",IF(OR(AH635>0,VLOOKUP(O635,EventConfig!A:C,3,FALSE)=4),3,\"\"),1)))","v":1},600106,null,5726]
[600106,5720,"陪幻雀一起玩","",{"$nulls":5},2,{"$f":"IF(J636=\"\",\"\",VLOOKUP(J636,EventNPC!A:E,5,FALSE))","v":"雀灵儿"},5727,"（边跳边笑，在前方树枝上叫）哈哈，来追啊！你飞得真慢，好笨！",null,6001,6,"",null,null,{"$f":"IF(R636=\"\",\"\",\"-\"&VLOOKUP(R636,EventConditionConfig!A:C,3,FALSE)&IF(S636=\"\",\"\",CHAR(10)&\"-\"&VLOOKUP(S636,EventConditionConfig!A:C,3,FALSE)))","v":""},"","","","",null,null,"",{"$nulls":4},{"$f":"IF(A636=\"\",\"\",IF(ISNUMBER(Y636),2,IF(A637=\"\",IF(OR(AH636>0,VLOOKUP(O636,EventConfig!A:C,3,FALSE)=4),3,\"\"),1)))","v":1},600107,null,5727]
[{"$f":"O637*100+P637","v":600107},5720,"陪幻雀一起玩","",{"$nulls":5},2,{"$f":"IF(J637=\"\",\"\",VLOOKUP(J637,EventNPC!A:E,5,FALSE))","v":"雀灵儿"},{"$f":"IF(M637=\"\",\"\",MAX(AI636,AI635,B637,D637)+1)","v":5728},"（继续往上跳）\n对了，北海深处风很大，你不怕吗？",null,6001,7,{"$f":"_xlfn.TEXTJOIN(\";\",1,R637:S637)","v":""},null,null,{"$f":"IF(R637=\"\",\"\",\"-\"&VLOOKUP(R637,EventConditionConfig!A:C,3,FALSE)&IF(S637=\"\",\"\",CHAR(10)&\"-\"&VLOOKUP(S637,EventConditionConfig!A:C,3,FALSE)))","v":""},{"$f":"IF(Y637=\"\",\"\",IF(ISTEXT(Y637),1,2))","v":""},{"$f":"IF(U637=1,_xlfn.TEXTJOIN(\";\",1,IF(Z637=\"\",A637+1,Z637),IF(AND(AA637<>\"\",AC637=\"\"),A637+1,AC637)),IF(U637=2,Y637,\"\"))","v":""},{"$f":"_xlfn.TEXTJOIN(\";\",1,X637,AA637)","v":""},"",null,null,"",{"$nulls":4},{"$f":"IF(A637=\"\",\"\",IF(ISNUMBER(Y637),2,IF(A638=\"\",IF(OR(AH637>0,VLOOKUP(O637,EventConfig!A:C,3,FALSE)=4),3,\"\"),1)))","v":1},600108,null,5728]
[600108,5720,"陪幻雀一起玩","",{"$nulls":5},100,{"$f":"IF(J638=\"\",\"\",VLOOKUP(J638,EventNPC!A:E,5,FALSE))","v":"玩家"},5729,"不怕，风大有风大的乐趣。\n你平时就躲树上玩？",null,6001,8,"",null,null,{"$f":"IF(R638=\"\",\"\",\"-\"&VLOOKUP(R638,EventConditionConfig!A:C,3,FALSE)&IF(S638=\"\",\"\",CHAR(10)&\"-\"&VLOOKUP(S638,EventConditionConfig!A:C,3,FALSE)))","v":""},"","","","",null,null,"",{"$nulls":4},{"$f":"IF(A638=\"\",\"\",IF(ISNUMBER(Y638),2,IF(A639=\"\",IF(OR(AH638>0,VLOOKUP(O638,EventConfig!A:C,3,FALSE)=4),3,\"\"),1)))","v":1},600109,null,5729]
[{"$f":"O639*100+P639","v":600109},5720,"陪幻雀一起玩","",{"$nulls":5},2,{"$f":"IF(J639=\"\",\"\",VLOOKUP(J639,EventNPC!A:E,5,FALSE))","v":"雀灵儿"},{"$f":"IF(M639=\"\",\"\",MAX(AI638,AI637,B639,D639)+1)","v":5730},"（跳到下一枝）对啊，树上安全，上蹿下跳就够开心了！\n外面的世界，有什么好玩的吗？",null,6001,9,{"$f":"_xlfn.TEXTJOIN(\";\",1,R639:S639)","v":""},null,null,{"$f":"IF(R639=\"\",\"\",\"-\"&VLOOKUP(R639,EventConditionConfig!A:C,3,FALSE)&IF(S639=\"\",\"\",CHAR(10)&\"-\"&VLOOKUP(S639,EventConditionConfig!A:C,3,FALSE)))","v":""},{"$f":"IF(Y639=\"\",\"\",IF(ISTEXT(Y639),1,2))","v":""},{"$f":"IF(U639=1,_xlfn.TEXTJOIN(\";\",1,IF(Z639=\"\",A639+1,Z639),IF(AND(AA639<>\"\",AC639=\"\"),A639+1,AC639)),IF(U639=2,Y639,\"\"))","v":""},{"$f":"_xlfn.TEXTJOIN(\";\",1,X639,AA639)","v":""},"",null,null,"",{"$nulls":4},{"$f":"IF(A639=\"\",\"\",IF(ISNUMBER(Y639),2,IF(A640=\"\",IF(OR(AH639>0,VLOOKUP(O639,EventConfig!A:C,3,FALSE)=4),3,\"\"),1)))","v":1},600110,null,5730]
[600110,5720,"陪幻雀一起玩","",{"$nulls":5},100,{"$f":"IF(J640=\"\",\"\",VLOOKUP(J640,EventNPC!A:E,5,FALSE))","v":"玩家"},5731,"有大海、山林……还有鲲鹏要去的天池，风景壮阔。",null,6001,10,"",null,null,{"$f":"IF(R640=\"\",\"\",\"-\"&VLOOKUP(R640,EventConditionConfig!A:C,3,FALSE)&IF(S640=\"\",\"\",CHAR(10)&\"-\"&VLOOKUP(S640,EventConditionConfig!A:C,3,FALSE)))","v":""},"","","","",null,null,"",{"$nulls":4},{"$f":"IF(A640=\"\",\"\",IF(ISNUMBER(Y640),2,IF(A641=\"\",IF(OR(AH640>0,VLOOKUP(O640,EventConfig!A:C,3,FALSE)=4),3,\"\"),1)))","v":1},600111,null,5731]
[{"$f":"O641*100+P641","v":600111},5720,"陪幻雀一起玩","",{"$nulls":5},2,{"$f":"IF(J641=\"\",\"\",VLOOKUP(J641,EventNPC!A:E,5,FALSE))","v":"雀灵儿"},{"$f":"IF(M641=\"\",\"\",MAX(AI640,AI639,B641,D641)+1)","v":5732},"（又跳一枝，喘气笑）南海天池？听起来远……但或许有趣。\n（不知不觉到树顶了）",null,6001,11,{"$f":"_xlfn.TEXTJOIN(\";\",1,R641:S641)","v":""},null,null,{"$f":"IF(R641=\"\",\"\",\"-\"&VLOOKUP(R641,EventConditionConfig!A:C,3,FALSE)&IF(S641=\"\",\"\",CHAR(10)&\"-\"&VLOOKUP(S641,EventConditionConfig!A:C,3,FALSE)))","v":""},{"$f":"IF(Y641=\"\",\"\",IF(ISTEXT(Y641),1,2))","v":""},{"$f":"IF(U641=1,_xlfn.TEXTJOIN(\";\",1,IF(Z641=\"\",A641+1,Z641),IF(AND(AA641<>\"\",AC641=\"\"),A641+1,AC641)),IF(U641=2,Y641,\"\"))","v":""},{"$f":"_xlfn.TEXTJOIN(\";\",1,X641,AA641)","v":""},"",null,null,"",{"$nulls":4},{"$f":"IF(A641=\"\",\"\",IF(ISNUMBER(Y641),2,IF(A642=\"\",IF(OR(AH641>0,VLOOKUP(O641,EventConfig!A:C,3,FALSE)=4),3,\"\"),1)))","v":1},600112,null,5732]
[{"$f":"O642*100+P642","v":600112},5720,"陪幻雀一起玩","",{"$nulls":5},2,{"$f":"IF(J642=\"\",\"\",VLOOKUP(J642,EventNPC!A:E,5,FALSE))","v":"雀灵儿"},{"$f":"IF(M642=\"\",\"\",MAX(AI641,AI640,B642,D642)+1)","v":5733},"（坐在树顶，开心）玩得挺开心……谢谢陪我。下次再来找我吧，我还有其他游戏！",null,6001,12,{"$f":"_xlfn.TEXTJOIN(\";\",1,R642:S642)","v":""},null,null,{"$f":"IF(R642=\"\",\"\",\"-\"&VLOOKUP(R642,EventConditionConfig!A:C,3,FALSE)&IF(S642=\"\",\"\",CHAR(10)&\"-\"&VLOOKUP(S642,EventConditionConfig!A:C,3,FALSE)))","v":""},{"$f":"IF(Y642=\"\",\"\",IF(ISTEXT(Y642),1,2))","v":""},{"$f":"IF(U642=1,_xlfn.TEXTJOIN(\";\",1,IF(Z642=\"\",A642+1,Z642),IF(AND(AA642<>\"\",AC642=\"\"),A642+1,AC642)),IF(U642=2,Y642,\"\"))","v":""},{"$f":"_xlfn.TEXTJOIN(\";\",1,X642,AA642)","v":""},"",null,null,"",{"$nulls":4},{"$f":"IF(A642=\"\",\"\",IF(ISNUMBER(Y642),2,IF(A643=\"\",IF(OR(AH642>0,VLOOKUP(O642,EventConfig!A:C,3,FALSE)=4),3,\"\"),1)))","v":1},600113,null,5733]
[600113,5720,"陪幻雀一起玩","",{"$nulls":6},{"$f":"IF(J643=\"\",\"\",VLOOKUP(J643,EventNPC!A:E,5,FALSE))","v":""},5734,"（此时，一道优雅身影从树后飞出）",null,6001,13,"",null,null,{"$f":"IF(R643=\"\",\"\",\"-\"&VLOOKUP(R643,EventConditionConfig!A:C,3,FALSE)&IF(S643=\"\",\"\",CHAR(10)&\"-\"&VLOOKUP(S643,EventConditionConfig!A:C,3,FALSE)))","v":""},"","","","",null,null,"",{"$nulls":4},{"$f":"IF(A643=\"\",\"\",IF(ISNUMBER(Y643),2,IF(A644=\"\",IF(OR(AH643>0,VLOOKUP(O643,EventConfig!A:C,3,FALSE)=4),3,\"\"),1)))","v":1},600114,null,5734]
[{"$f":"O644*100+P644","v":600114},5720,"陪幻雀一起玩","",{"$nulls":5},121,{"$f":"IF(J644=\"\",\"\",VLOOKUP(J644,EventNPC!A:E,5,FALSE))","v":"云枝"},{"$f":"IF(M644=\"\",\"\",MAX(AI643,AI642,B644,D644)+1)","v":5735},"（严肃，眼神警惕）灵儿，别和外人玩太疯。北海风大，你又不是不知道，小心被卷走。",null,6001,14,{"$f":"_xlfn.TEXTJOIN(\";\",1,R644:S644)","v":""},null,null,{"$f":"IF(R644=\"\",\"\",\"-\"&VLOOKUP(R644,EventConditionConfig!A:C,3,FALSE)&IF(S644=\"\",\"\",CHAR(10)&\"-\"&VLOOKUP(S644,EventConditionConfig!A:C,3,FALSE)))","v":""},{"$f":"IF(Y644=\"\",\"\",IF(ISTEXT(Y644),1,2))","v":""},{"$f":"IF(U644=1,_xlfn.TEXTJOIN(\";\",1,IF(Z644=\"\",A644+1,Z644),IF(AND(AA644<>\"\",AC644=\"\"),A644+1,AC644)),IF(U644=2,Y644,\"\"))","v":""},{"$f":"_xlfn.TEXTJOIN(\";\",1,X644,AA644)","v":""},"",null,null,"",{"$nulls":4},{"$f":"IF(A644=\"\",\"\",IF(ISNUMBER(Y644),2,IF(A645=\"\",IF(OR(AH644>0,VLOOKUP(O644,EventConfig!A:C,3,FALSE)=4),3,\"\"),1)))","v":1},600115,null,5735]
[600115,5720,"陪幻雀一起玩","",{"$nulls":5},2,{"$f":"IF(J645=\"\",\"\",VLOOKUP(J645,EventNPC!A:E,5,FALSE))","v":"雀灵儿"},5736,"（撅嘴，不服）姐，我知道啦！……就玩玩而已嘛！",null,6001,15,"",null,null,{"$f":"IF(R645=\"\",\"\",\"-\"&VLOOKUP(R645,EventConditionConfig!A:C,3,FALSE)&IF(S645=\"\",\"\",CHAR(10)&\"-\"&VLOOKUP(S645,EventConditionConfig!A:C,3,FALSE)))","v":""},"","","","",null,null,"",{"$nulls":4},{"$f":"IF(A645=\"\",\"\",IF(ISNUMBER(Y645),2,IF(A646=\"\",IF(OR(AH645>0,VLOOKUP(O645,EventConfig!A:C,3,FALSE)=4),3,\"\"),1)))","v":1},600116,null,5736]
[{"$f":"O646*100+P646","v":600116},5720,"陪幻雀一起玩","",{"$nulls":5},121,{"$f":"IF(J646=\"\",\"\",VLOOKUP(J646,EventNPC!A:E,5,FALSE))","v":"云枝"},{"$f":"IF(M646=\"\",\"\",MAX(AI645,AI644,B646,D646)+1)","v":5737},"（严肃）还有你，请速速离去，别再纠缠我妹妹",null,6001,{"$f":"IF(O646=\"\",\"\",IF(O646=O645,P645+1,1))","v":16},{"$f":"_xlfn.TEXTJOIN(\";\",1,R646:S646)","v":""},null,null,{"$f":"IF(R646=\"\",\"\",\"-\"&VLOOKUP(R646,EventConditionConfig!A:C,3,FALSE)&IF(S646=\"\",\"\",CHAR(10)&\"-\"&VLOOKUP(S646,EventConditionConfig!A:C,3,FALSE)))","v":""},{"$f":"IF(Y646=\"\",\"\",IF(ISTEXT(Y646),1,2))","v":""},{"$f":"IF(U646=1,_xlfn.TEXTJOIN(\";\",1,IF(Z646=\"\",A646+1,Z646),IF(AND(AA646<>\"\",AC646=\"\"),A646+1,AC646)),IF(U646=2,Y646,\"\"))","v":""},{"$f":"_xlfn.TEXTJOIN(\";\",1,X646,AA646)","v":""},"",null,null,"",{"$nulls":4},{"$f":"IF(A646=\"\",\"\",IF(ISNUMBER(Y646),2,IF(A647=\"\",IF(OR(AH646>0,VLOOKUP(O646,EventConfig!A:C,3,FALSE)=4),3,\"\"),1)))","v":1},600117,null,5737]
[600117,5720,"陪幻雀一起玩","",{"$nulls":5},100,{"$f":"IF(J647=\"\",\"\",VLOOKUP(J647,EventNPC!A:E,5,FALSE))","v":"玩家"},5738,"告辞..\n（这小丫头调皮又可爱……北海的日子，也能这么有趣。）\n（或许多来几次，能知道她更多心事。）",null,6001,17,"",null,null,{"$f":"IF(R647=\"\",\"\",\"-\"&VLOOKUP(R647,EventConditionConfig!A:C,3,FALSE)&IF(S647=\"\",\"\",CHAR(10)&\"-\"&VLOOKUP(S647,EventConditionConfig!A:C,3,FALSE)))","v":""},"","","","",null,null,"",{"$nulls":4},{"$f":"IF(A647=\"\",\"\",IF(ISNUMBER(Y647),2,IF(A648=\"\",IF(OR(AH647>0,VLOOKUP(O647,EventConfig!A:C,3,FALSE)=4),3,\"\"),1)))","v":""},"",null,5738]
[null,"",{"$nulls":13},"",{"$nulls":10},"",{"$nulls":7},""]
[{"$f":"O649*100+P649","v":600201},5739,"收集北海风铃",{"$f":"IF(E649=\"\",\"\",IF(E649=E648,D648,MAX(AI648,AI647,B649)+1))","v":""},{"$nulls":6},{"$f":"IF(J649=\"\",\"\",VLOOKUP(J649,EventNPC!A:E,5,FALSE))","v":""},{"$f":"IF(M649=\"\",\"\",MAX(AI648,AI647,B649,D649)+1)","v":5740},"灵儿拉你到树上，这里零零散散有几只风铃。",null,6002,1,{"$f":"_xlfn.TEXTJOIN(\";\",1,R649:S649)","v":""},null,null,{"$f":"IF(R649=\"\",\"\",\"-\"&VLOOKUP(R649,EventConditionConfig!A:C,3,FALSE)&IF(S649=\"\",\"\",CHAR(10)&\"-\"&VLOOKUP(S649,EventConditionConfig!A:C,3,FALSE)))","v":""},{"$f":"IF(Y649=\"\",\"\",IF(ISTEXT(Y649),1,2))","v":""},{"$f":"IF(U649=1,_xlfn.TEXTJOIN(\";\",1,IF(Z649=\"\",A649+1,Z649),IF(AND(AA649<>\"\",AC649=\"\"),A649+1,AC649)),IF(U649=2,Y649,\"\"))","v":""},{"$f":"_xlfn.TEXTJOIN(\";\",1,X649,AA649)","v":""},{"$f":"IF(OR(ISNUMBER(Y649),Y649=\"\"),\"\",MAX(AI648,AI647,B649,D649,L649)+1)","v":""},null,null,"",{"$nulls":4},{"$f":"IF(A649=\"\",\"\",IF(ISNUMBER(Y649),2,IF(A650=\"\",IF(OR(AH649>0,VLOOKUP(O649,EventConfig!A:C,3,FALSE)=4),3,\"\"),1)))","v":1},{"$f":"IF(AF649=\"\",\"\",CHOOSE(AF649,IF(AH649=\"\",A649+1,AH649),CONCATENATE(IF(AH649=\"\",A649+1,AH649),\";101\"),IF(AH649=\"\",O649+1,AH649)))","v":600202},null,5740]
[{"$f":"O650*100+P650","v":600202},5739,"收集北海风铃",{"$f":"IF(E650=\"\",\"\",IF(E650=E649,D649,MAX(AI649,AI648,B650)+1))","v":""},{"$nulls":5},2,{"$f":"IF(J650=\"\",\"\",VLOOKUP(J650,EventNPC!A:E,5,FALSE))","v":"雀灵儿"},{"$f":"IF(M650=\"\",\"\",MAX(AI649,AI648,B650,D650)+1)","v":5741},"（扑棱袖子）风铃丢了一些，树上没声好无聊！你帮找，我怕风大。",null,6002,2,{"$f":"_xlfn.TEXTJOIN(\";\",1,R650:S650)","v":""},null,null,{"$f":"IF(R650=\"\",\"\",\"-\"&VLOOKUP(R650,EventConditionConfig!A:C,3,FALSE)&IF(S650=\"\",\"\",CHAR(10)&\"-\"&VLOOKUP(S650,EventConditionConfig!A:C,3,FALSE)))","v":""},{"$f":"IF(Y650=\"\",\"\",IF(ISTEXT(Y650),1,2))","v":1},{"$f":"IF(U650=1,_xlfn.TEXTJOIN(\";\",1,IF(Z650=\"\",A650+1,Z650),IF(AND(AA650<>\"\",AC650=\"\"),A650+1,AC650)),IF(U650=2,Y650,\"\"))","v":"600203"},{"$f":"_xlfn.TEXTJOIN(\";\",1,X650,AA650)","v":"5742"},{"$f":"IF(OR(ISNUMBER(Y650),Y650=\"\"),\"\",MAX(AI649,AI648,B650,D650,L650)+1)","v":5742},"好，我去。",null,"",{"$nulls":4},{"$f":"IF(A650=\"\",\"\",IF(ISNUMBER(Y650),2,IF(A651=\"\",IF(OR(AH650>0,VLOOKUP(O650,EventConfig!A:C,3,FALSE)=4),3,\"\"),1)))","v":1},{"$f":"IF(AF650=\"\",\"\",CHOOSE(AF650,IF(AH650=\"\",A650+1,AH650),CONCATENATE(IF(AH650=\"\",A650+1,AH650),\";101\"),IF(AH650=\"\",O650+1,AH650)))","v":600203},null,5742]
[{"$f":"O651*100+P651","v":600203},5739,"收集北海风铃",{"$f":"IF(E651=\"\",\"\",IF(E651=E650,D650,MAX(AI650,AI649,B651)+1))","v":""},{"$nulls":5},100,{"$f":"IF(J651=\"\",\"\",VLOOKUP(J651,EventNPC!A:E,5,FALSE))","v":"玩家"},{"$f":"IF(M651=\"\",\"\",MAX(AI650,AI649,B651,D651)+1)","v":5743},"来，给你这些铃铛，我好不容才找回来。",null,6002,3,{"$f":"_xlfn.TEXTJOIN(\";\",1,R651:S651)","v":"37"},37,null,{"$f":"IF(R651=\"\",\"\",\"-\"&VLOOKUP(R651,EventConditionConfig!A:C,3,FALSE)&IF(S651=\"\",\"\",CHAR(10)&\"-\"&VLOOKUP(S651,EventConditionConfig!A:C,3,FALSE)))","v":"-帮雀灵儿搜集风铃"},{"$f":"IF(Y651=\"\",\"\",IF(ISTEXT(Y651),1,2))","v":""},{"$f":"IF(U651=1,_xlfn.TEXTJOIN(\";\",1,IF(Z651=\"\",A651+1,Z651),IF(AND(AA651<>\"\",AC651=\"\"),A651+1,AC651)),IF(U651=2,Y651,\"\"))","v":""},{"$f":"_xlfn.TEXTJOIN(\";\",1,X651,AA651)","v":""},{"$f":"IF(OR(ISNUMBER(Y651),Y651=\"\"),\"\",MAX(AI650,AI649,B651,D651,L651)+1)","v":""},null,null,"",{"$nulls":4},{"$f":"IF(A651=\"\",\"\",IF(ISNUMBER(Y651),2,IF(A652=\"\",IF(OR(AH651>0,VLOOKUP(O651,EventConfig!A:C,3,FALSE)=4),3,\"\"),1)))","v":1},{"$f":"IF(AF651=\"\",\"\",CHOOSE(AF651,IF(AH651=\"\",A651+1,AH651),CONCATENATE(IF(AH651=\"\",A651+1,AH651),\";101\"),IF(AH651=\"\",O651+1,AH651)))","v":600204},null,5743]
[{"$f":"O652*100+P652","v":600204},5739,"收集北海风铃",{"$f":"IF(E652=\"\",\"\",IF(E652=E651,D651,MAX(AI651,AI650,B652)+1))","v":""},{"$nulls":5},2,{"$f":"IF(J652=\"\",\"\",VLOOKUP(J652,EventNPC!A:E,5,FALSE))","v":"雀灵儿"},{"$f":"IF(M652=\"\",\"\",MAX(AI651,AI650,B652,D652)+1)","v":5744},"（拿到，开心挂上）谢谢！听见这风铃声，北海就没那么可怕了。",null,6002,4,{"$f":"_xlfn.TEXTJOIN(\";\",1,R652:S652)","v":""},null,null,{"$f":"IF(R652=\"\",\"\",\"-\"&VLOOKUP(R652,EventConditionConfig!A:C,3,FALSE)&IF(S652=\"\",\"\",CHAR(10)&\"-\"&VLOOKUP(S652,EventConditionConfig!A:C,3,FALSE)))","v":""},{"$f":"IF(Y652=\"\",\"\",IF(ISTEXT(Y652),1,2))","v":1},{"$f":"IF(U652=1,_xlfn.TEXTJOIN(\";\",1,IF(Z652=\"\",A652+1,Z652),IF(AND(AA652<>\"\",AC652=\"\"),A652+1,AC652)),IF(U652=2,Y652,\"\"))","v":"600205"},{"$f":"_xlfn.TEXTJOIN(\";\",1,X652,AA652)","v":"5745"},{"$f":"IF(OR(ISNUMBER(Y652),Y652=\"\"),\"\",MAX(AI651,AI650,B652,D652,L652)+1)","v":5745},"你为什么怎么喜欢风铃的声音呢？",null,"",{"$nulls":4},{"$f":"IF(A652=\"\",\"\",IF(ISNUMBER(Y652),2,IF(A653=\"\",IF(OR(AH652>0,VLOOKUP(O652,EventConfig!A:C,3,FALSE)=4),3,\"\"),1)))","v":1},{"$f":"IF(AF652=\"\",\"\",CHOOSE(AF652,IF(AH652=\"\",A652+1,AH652),CONCATENATE(IF(AH652=\"\",A652+1,AH652),\";101\"),IF(AH652=\"\",O652+1,AH652)))","v":600205},null,5745]
[{"$f":"O653*100+P653","v":600205},5739,"收集北海风铃",{"$f":"IF(E653=\"\",\"\",IF(E653=E652,D652,MAX(AI652,AI651,B653)+1))","v":""},{"$nulls":5},2,{"$f":"IF(J653=\"\",\"\",VLOOKUP(J653,EventNPC!A:E,5,FALSE))","v":"雀灵儿"},{"$f":"IF(M653=\"\",\"\",MAX(AI652,AI651,B653,D653)+1)","v":5746},"喜欢就是喜欢，哪里有怎么多为什么呀。你去过那么多地方，远方有更好铃铛吗？",null,6002,5,{"$f":"_xlfn.TEXTJOIN(\";\",1,R653:S653)","v":""},null,null,{"$f":"IF(R653=\"\",\"\",\"-\"&VLOOKUP(R653,EventConditionConfig!A:C,3,FALSE)&IF(S653=\"\",\"\",CHAR(10)&\"-\"&VLOOKUP(S653,EventConditionConfig!A:C,3,FALSE)))","v":""},{"$f":"IF(Y653=\"\",\"\",IF(ISTEXT(Y653),1,2))","v":1},{"$f":"IF(U653=1,_xlfn.TEXTJOIN(\";\",1,IF(Z653=\"\",A653+1,Z653),IF(AND(AA653<>\"\",AC653=\"\"),A653+1,AC653)),IF(U653=2,Y653,\"\"))","v":"600206"},{"$f":"_xlfn.TEXTJOIN(\";\",1,X653,AA653)","v":"5747"},{"$f":"IF(OR(ISNUMBER(Y653),Y653=\"\"),\"\",MAX(AI652,AI651,B653,D653,L653)+1)","v":5747},"或许有,下次带给你。",null,"",{"$nulls":4},{"$f":"IF(A653=\"\",\"\",IF(ISNUMBER(Y653),2,IF(A654=\"\",IF(OR(AH653>0,VLOOKUP(O653,EventConfig!A:C,3,FALSE)=4),3,\"\"),1)))","v":1},{"$f":"IF(AF653=\"\",\"\",CHOOSE(AF653,IF(AH653=\"\",A653+1,AH653),CONCATENATE(IF(AH653=\"\",A653+1,AH653),\";101\"),IF(AH653=\"\",O653+1,AH653)))","v":600206},null,5747]
[{"$f":"O654*100+P654","v":600206},5739,"收集北海风铃",{"$f":"IF(E654=\"\",\"\",IF(E654=E653,D653,MAX(AI653,AI652,B654)+1))","v":""},{"$nulls":5},2,{"$f":"IF(J654=\"\",\"\",VLOOKUP(J654,EventNPC!A:E,5,FALSE))","v":"雀灵儿"},{"$f":"IF(M654=\"\",\"\",MAX(AI653,AI652,B654,D654)+1)","v":5748},"好呀，说话要算数哦。",null,6002,6,{"$f":"_xlfn.TEXTJOIN(\";\",1,R654:S654)","v":""},null,null,{"$f":"IF(R654=\"\",\"\",\"-\"&VLOOKUP(R654,EventConditionConfig!A:C,3,FALSE)&IF(S654=\"\",\"\",CHAR(10)&\"-\"&VLOOKUP(S654,EventConditionConfig!A:C,3,FALSE)))","v":""},{"$f":"IF(Y654=\"\",\"\",IF(ISTEXT(Y654),1,2))","v":""},{"$f":"IF(U654=1,_xlfn.TEXTJOIN(\";\",1,IF(Z654=\"\",A654+1,Z654),IF(AND(AA654<>\"\",AC654=\"\"),A654+1,AC654)),IF(U654=2,Y654,\"\"))","v":""},{"$f":"_xlfn.TEXTJOIN(\";\",1,X654,AA654)","v":""},{"$f":"IF(OR(ISNUMBER(Y654),Y654=\"\"),\"\",MAX(AI653,AI652,B654,D654,L654)+1)","v":""},null,null,"",{"$nulls":4},{"$f":"IF(A654=\"\",\"\",IF(ISNUMBER(Y654),2,IF(A655=\"\",IF(OR(AH654>0,VLOOKUP(O654,EventConfig!A:C,3,FALSE)=4),3,\"\"),1)))","v":""},{"$f":"IF(AF654=\"\",\"\",CHOOSE(AF654,IF(AH654=\"\",A654+1,AH654),CONCATENATE(IF(AH654=\"\",A654+1,AH654),\";101\"),IF(AH654=\"\",O654+1,AH654)))","v":""},null,5748]
[null,"",{"$nulls":13},"",{"$nulls":10},"",{"$nulls":7},""]
[{"$f":"O656*100+P656","v":600301},5749,"击败袭击雀灵儿的妖兽",{"$f":"IF(E656=\"\",\"\",IF(E656=E655,D655,MAX(AI655,AI654,B656)+1))","v":""},{"$nulls":6},{"$f":"IF(J656=\"\",\"\",VLOOKUP(J656,EventNPC!A:E,5,FALSE))","v":""},{"$f":"IF(M656=\"\",\"\",MAX(AI655,AI654,B656,D656)+1)","v":5750},"北海大风渐起，树林阴影晃动。小风妖出没，雀灵儿有些不安，她拉你一起巡逻树林，守护她的“小天地”。",null,6003,1,{"$f":"_xlfn.TEXTJOIN(\";\",1,R656:S656)","v":""},null,null,{"$f":"IF(R656=\"\",\"\",\"-\"&VLOOKUP(R656,EventConditionConfig!A:C,3,FALSE)&IF(S656=\"\",\"\",CHAR(10)&\"-\"&VLOOKUP(S656,EventConditionConfig!A:C,3,FALSE)))","v":""},{"$f":"IF(Y656=\"\",\"\",IF(ISTEXT(Y656),1,2))","v":""},{"$f":"IF(U656=1,_xlfn.TEXTJOIN(\";\",1,IF(Z656=\"\",A656+1,Z656),IF(AND(AA656<>\"\",AC656=\"\"),A656+1,AC656)),IF(U656=2,Y656,\"\"))","v":""},{"$f":"_xlfn.TEXTJOIN(\";\",1,X656,AA656)","v":""},{"$f":"IF(OR(ISNUMBER(Y656),Y656=\"\"),\"\",MAX(AI655,AI654,B656,D656,L656)+1)","v":""},null,null,"",{"$nulls":4},{"$f":"IF(A656=\"\",\"\",IF(ISNUMBER(Y656),2,IF(A657=\"\",IF(OR(AH656>0,VLOOKUP(O656,EventConfig!A:C,3,FALSE)=4),3,\"\"),1)))","v":1},{"$f":"IF(AF656=\"\",\"\",CHOOSE(AF656,IF(AH656=\"\",A656+1,AH656),CONCATENATE(IF(AH656=\"\",A656+1,AH656),\";101\"),IF(AH656=\"\",O656+1,AH656)))","v":600302},null,5750]
[{"$f":"O657*100+P657","v":600302},5749,"击败袭击雀灵儿的妖兽",{"$f":"IF(E657=\"\",\"\",IF(E657=E656,D656,MAX(AI656,AI655,B657)+1))","v":""},{"$nulls":6},{"$f":"IF(J657=\"\",\"\",VLOOKUP(J657,EventNPC!A:E,5,FALSE))","v":""},{"$f":"IF(M657=\"\",\"\",MAX(AI656,AI655,B657,D657)+1)","v":5751},"风中隐约有啸声，空气中弥漫着凉意。",null,6003,2,{"$f":"_xlfn.TEXTJOIN(\";\",1,R657:S657)","v":""},null,null,{"$f":"IF(R657=\"\",\"\",\"-\"&VLOOKUP(R657,EventConditionConfig!A:C,3,FALSE)&IF(S657=\"\",\"\",CHAR(10)&\"-\"&VLOOKUP(S657,EventConditionConfig!A:C,3,FALSE)))","v":""},{"$f":"IF(Y657=\"\",\"\",IF(ISTEXT(Y657),1,2))","v":""},{"$f":"IF(U657=1,_xlfn.TEXTJOIN(\";\",1,IF(Z657=\"\",A657+1,Z657),IF(AND(AA657<>\"\",AC657=\"\"),A657+1,AC657)),IF(U657=2,Y657,\"\"))","v":""},{"$f":"_xlfn.TEXTJOIN(\";\",1,X657,AA657)","v":""},{"$f":"IF(OR(ISNUMBER(Y657),Y657=\"\"),\"\",MAX(AI656,AI655,B657,D657,L657)+1)","v":""},null,null,"",{"$nulls":4},{"$f":"IF(A657=\"\",\"\",IF(ISNUMBER(Y657),2,IF(A658=\"\",IF(OR(AH657>0,VLOOKUP(O657,EventConfig!A:C,3,FALSE)=4),3,\"\"),1)))","v":1},{"$f":"IF(AF657=\"\",\"\",CHOOSE(AF657,IF(AH657=\"\",A657+1,AH657),CONCATENATE(IF(AH657=\"\",A657+1,AH657),\";101\"),IF(AH657=\"\",O657+1,AH657)))","v":600303},null,5751]
[{"$f":"O658*100+P658","v":600303},5749,"击败袭击雀灵儿的妖兽",{"$f":"IF(E658=\"\",\"\",IF(E658=E657,D657,MAX(AI657,AI656,B658)+1))","v":""},{"$nulls":5},2,{"$f":"IF(J658=\"\",\"\",VLOOKUP(J658,EventNPC!A:E,5,FALSE))","v":"雀灵儿"},{"$f":"IF(M658=\"\",\"\",MAX(AI657,AI656,B658,D658)+1)","v":5752},"（轻声，抓着袖子）这树林就是我的小天地，平时我都在这里玩游戏，很有趣的！",null,6003,3,{"$f":"_xlfn.TEXTJOIN(\";\",1,R658:S658)","v":""},null,null,{"$f":"IF(R658=\"\",\"\",\"-\"&VLOOKUP(R658,EventConditionConfig!A:C,3,FALSE)&IF(S658=\"\",\"\",CHAR(10)&\"-\"&VLOOKUP(S658,EventConditionConfig!A:C,3,FALSE)))","v":""},{"$f":"IF(Y658=\"\",\"\",IF(ISTEXT(Y658),1,2))","v":""},{"$f":"IF(U658=1,_xlfn.TEXTJOIN(\";\",1,IF(Z658=\"\",A658+1,Z658),IF(AND(AA658<>\"\",AC658=\"\"),A658+1,AC658)),IF(U658=2,Y658,\"\"))","v":""},{"$f":"_xlfn.TEXTJOIN(\";\",1,X658,AA658)","v":""},{"$f":"IF(OR(ISNUMBER(Y658),Y658=\"\"),\"\",MAX(AI657,AI656,B658,D658,L658)+1)","v":""},null,null,"",{"$nulls":4},{"$f":"IF(A658=\"\",\"\",IF(ISNUMBER(Y658),2,IF(A659=\"\",IF(OR(AH658>0,VLOOKUP(O658,EventConfig!A:C,3,FALSE)=4),3,\"\"),1)))","v":1},{"$f":"IF(AF658=\"\",\"\",CHOOSE(AF658,IF(AH658=\"\",A658+1,AH658),CONCATENATE(IF(AH658=\"\",A658+1,AH658),\";101\"),IF(AH658=\"\",O658+1,AH658)))","v":600304},null,5752]
[{"$f":"O659*100+P659","v":600304},5749,"击败袭击雀灵儿的妖兽",{"$f":"IF(E659=\"\",\"\",IF(E659=E658,D658,MAX(AI658,AI657,B659)+1))","v":""},{"$nulls":5},2,{"$f":"IF(J659=\"\",\"\",VLOOKUP(J659,EventNPC!A:E,5,FALSE))","v":"雀灵儿"},{"$f":"IF(M659=\"\",\"\",MAX(AI658,AI657,B659,D659)+1)","v":5753},"可这风妖经常来树林捣乱……我有点怕，大傻瓜，你陪我赶走它们，好吗？",null,6003,4,{"$f":"_xlfn.TEXTJOIN(\";\",1,R659:S659)","v":""},null,null,{"$f":"IF(R659=\"\",\"\",\"-\"&VLOOKUP(R659,EventConditionConfig!A:C,3,FALSE)&IF(S659=\"\",\"\",CHAR(10)&\"-\"&VLOOKUP(S659,EventConditionConfig!A:C,3,FALSE)))","v":""},{"$f":"IF(Y659=\"\",\"\",IF(ISTEXT(Y659),1,2))","v":1},{"$f":"IF(U659=1,_xlfn.TEXTJOIN(\";\",1,IF(Z659=\"\",A659+1,Z659),IF(AND(AA659<>\"\",AC659=\"\"),A659+1,AC659)),IF(U659=2,Y659,\"\"))","v":"600305"},{"$f":"_xlfn.TEXTJOIN(\";\",1,X659,AA659)","v":"5754"},{"$f":"IF(OR(ISNUMBER(Y659),Y659=\"\"),\"\",MAX(AI658,AI657,B659,D659,L659)+1)","v":5754},"好,我护着你。",null,"",{"$nulls":4},{"$f":"IF(A659=\"\",\"\",IF(ISNUMBER(Y659),2,IF(A660=\"\",IF(OR(AH659>0,VLOOKUP(O659,EventConfig!A:C,3,FALSE)=4),3,\"\"),1)))","v":1},{"$f":"IF(AF659=\"\",\"\",CHOOSE(AF659,IF(AH659=\"\",A659+1,AH659),CONCATENATE(IF(AH659=\"\",A659+1,AH659),\";101\"),IF(AH659=\"\",O659+1,AH659)))","v":600305},null,5754]
[{"$f":"O660*100+P660","v":600305},5749,"击败袭击雀灵儿的妖兽",{"$f":"IF(E660=\"\",\"\",IF(E660=E659,D659,MAX(AI659,AI658,B660)+1))","v":""},{"$nulls":6},{"$f":"IF(J660=\"\",\"\",VLOOKUP(J660,EventNPC!A:E,5,FALSE))","v":""},{"$f":"IF(M660=\"\",\"\",MAX(AI659,AI658,B660,D660)+1)","v":""},null,null,6003,5,{"$f":"_xlfn.TEXTJOIN(\";\",1,R660:S660)","v":""},null,null,{"$f":"IF(R660=\"\",\"\",\"-\"&VLOOKUP(R660,EventConditionConfig!A:C,3,FALSE)&IF(S660=\"\",\"\",CHAR(10)&\"-\"&VLOOKUP(S660,EventConditionConfig!A:C,3,FALSE)))","v":""},{"$f":"IF(Y660=\"\",\"\",IF(ISTEXT(Y660),1,2))","v":2},{"$f":"IF(U660=1,_xlfn.TEXTJOIN(\";\",1,IF(Z660=\"\",A660+1,Z660),IF(AND(AA660<>\"\",AC660=\"\"),A660+1,AC660)),IF(U660=2,Y660,\"\"))","v":3001},{"$f":"_xlfn.TEXTJOIN(\";\",1,X660,AA660)","v":""},{"$f":"IF(OR(ISNUMBER(Y660),Y660=\"\"),\"\",MAX(AI659,AI658,B660,D660,L660)+1)","v":""},3001,null,"",{"$nulls":4},{"$f":"IF(A660=\"\",\"\",IF(ISNUMBER(Y660),2,IF(A661=\"\",IF(OR(AH660>0,VLOOKUP(O660,EventConfig!A:C,3,FALSE)=4),3,\"\"),1)))","v":2},{"$f":"IF(AF660=\"\",\"\",CHOOSE(AF660,IF(AH660=\"\",A660+1,AH660),CONCATENATE(IF(AH660=\"\",A660+1,AH660),\";101\"),IF(AH660=\"\",O660+1,AH660)))","v":"600306;101"},null,5754]
[{"$f":"O661*100+P661","v":600306},5749,"击败袭击雀灵儿的妖兽",{"$f":"IF(E661=\"\",\"\",IF(E661=E660,D660,MAX(AI660,AI659,B661)+1))","v":""},{"$nulls":5},2,{"$f":"IF(J661=\"\",\"\",VLOOKUP(J661,EventNPC!A:E,5,FALSE))","v":"雀灵儿"},{"$f":"IF(M661=\"\",\"\",MAX(AI660,AI659,B661,D661)+1)","v":5755},"（跟在身边，兴奋低声）看，那边还有风妖影子，快打它！平时我一个人，常常躲树后看风妖傻傻转圈，咯咯笑半天。",null,6003,6,{"$f":"_xlfn.TEXTJOIN(\";\",1,R661:S661)","v":""},null,null,{"$f":"IF(R661=\"\",\"\",\"-\"&VLOOKUP(R661,EventConditionConfig!A:C,3,FALSE)&IF(S661=\"\",\"\",CHAR(10)&\"-\"&VLOOKUP(S661,EventConditionConfig!A:C,3,FALSE)))","v":""},{"$f":"IF(Y661=\"\",\"\",IF(ISTEXT(Y661),1,2))","v":""},{"$f":"IF(U661=1,_xlfn.TEXTJOIN(\";\",1,IF(Z661=\"\",A661+1,Z661),IF(AND(AA661<>\"\",AC661=\"\"),A661+1,AC661)),IF(U661=2,Y661,\"\"))","v":""},{"$f":"_xlfn.TEXTJOIN(\";\",1,X661,AA661)","v":""},{"$f":"IF(OR(ISNUMBER(Y661),Y661=\"\"),\"\",MAX(AI660,AI659,B661,D661,L661)+1)","v":""},null,null,"",{"$nulls":4},{"$f":"IF(A661=\"\",\"\",IF(ISNUMBER(Y661),2,IF(A662=\"\",IF(OR(AH661>0,VLOOKUP(O661,EventConfig!A:C,3,FALSE)=4),3,\"\"),1)))","v":1},{"$f":"IF(AF661=\"\",\"\",CHOOSE(AF661,IF(AH661=\"\",A661+1,AH661),CONCATENATE(IF(AH661=\"\",A661+1,AH661),\";101\"),IF(AH661=\"\",O661+1,AH661)))","v":600307},null,5755]
[600307,5749,"击败袭击雀灵儿的妖兽","",{"$nulls":6},{"$f":"IF(J662=\"\",\"\",VLOOKUP(J662,EventNPC!A:E,5,FALSE))","v":""},"",null,null,6003,7,"",null,null,{"$f":"IF(R662=\"\",\"\",\"-\"&VLOOKUP(R662,EventConditionConfig!A:C,3,FALSE)&IF(S662=\"\",\"\",CHAR(10)&\"-\"&VLOOKUP(S662,EventConditionConfig!A:C,3,FALSE)))","v":""},2,3001,"","",3001,null,"",{"$nulls":4},{"$f":"IF(A662=\"\",\"\",IF(ISNUMBER(Y662),2,IF(A663=\"\",IF(OR(AH662>0,VLOOKUP(O662,EventConfig!A:C,3,FALSE)=4),3,\"\"),1)))","v":2},"600308;101",null,5755]
[{"$f":"O663*100+P663","v":600308},5749,"击败袭击雀灵儿的妖兽",{"$f":"IF(E663=\"\",\"\",IF(E663=E662,D662,MAX(AI662,AI661,B663)+1))","v":""},{"$nulls":5},2,{"$f":"IF(J663=\"\",\"\",VLOOKUP(J663,EventNPC!A:E,5,FALSE))","v":"雀灵儿"},{"$f":"IF(M663=\"\",\"\",MAX(AI662,AI661,B663,D663)+1)","v":5756},"（跳起来拍手，眼睛亮晶晶）哇，你好厉害！\n这里玩躲猫猫最棒——树影多，风吹着叶子乱舞，我藏起来，连姐姐都找不到我呢。",null,6003,8,{"$f":"_xlfn.TEXTJOIN(\";\",1,R663:S663)","v":""},null,null,{"$f":"IF(R663=\"\",\"\",\"-\"&VLOOKUP(R663,EventConditionConfig!A:C,3,FALSE)&IF(S663=\"\",\"\",CHAR(10)&\"-\"&VLOOKUP(S663,EventConditionConfig!A:C,3,FALSE)))","v":""},{"$f":"IF(Y663=\"\",\"\",IF(ISTEXT(Y663),1,2))","v":""},{"$f":"IF(U663=1,_xlfn.TEXTJOIN(\";\",1,IF(Z663=\"\",A663+1,Z663),IF(AND(AA663<>\"\",AC663=\"\"),A663+1,AC663)),IF(U663=2,Y663,\"\"))","v":""},{"$f":"_xlfn.TEXTJOIN(\";\",1,X663,AA663)","v":""},{"$f":"IF(OR(ISNUMBER(Y663),Y663=\"\"),\"\",MAX(AI662,AI661,B663,D663,L663)+1)","v":""},null,null,"",{"$nulls":4},{"$f":"IF(A663=\"\",\"\",IF(ISNUMBER(Y663),2,IF(A664=\"\",IF(OR(AH663>0,VLOOKUP(O663,EventConfig!A:C,3,FALSE)=4),3,\"\"),1)))","v":1},{"$f":"IF(AF663=\"\",\"\",CHOOSE(AF663,IF(AH663=\"\",A663+1,AH663),CONCATENATE(IF(AH663=\"\",A663+1,AH663),\";101\"),IF(AH663=\"\",O663+1,AH663)))","v":600309},null,5756]
[{"$f":"O664*100+P664","v":600309},5749,"击败袭击雀灵儿的妖兽",{"$f":"IF(E664=\"\",\"\",IF(E664=E663,D663,MAX(AI663,AI662,B664)+1))","v":""},{"$nulls":5},2,{"$f":"IF(J664=\"\",\"\",VLOOKUP(J664,EventNPC!A:E,5,FALSE))","v":"雀灵儿"},{"$f":"IF(M664=\"\",\"\",MAX(AI663,AI662,B664,D664)+1)","v":5757},"你在外面的世界，也这么玩吗？”",null,6003,9,{"$f":"_xlfn.TEXTJOIN(\";\",1,R664:S664)","v":""},null,null,{"$f":"IF(R664=\"\",\"\",\"-\"&VLOOKUP(R664,EventConditionConfig!A:C,3,FALSE)&IF(S664=\"\",\"\",CHAR(10)&\"-\"&VLOOKUP(S664,EventConditionConfig!A:C,3,FALSE)))","v":""},{"$f":"IF(Y664=\"\",\"\",IF(ISTEXT(Y664),1,2))","v":""},{"$f":"IF(U664=1,_xlfn.TEXTJOIN(\";\",1,IF(Z664=\"\",A664+1,Z664),IF(AND(AA664<>\"\",AC664=\"\"),A664+1,AC664)),IF(U664=2,Y664,\"\"))","v":""},{"$f":"_xlfn.TEXTJOIN(\";\",1,X664,AA664)","v":""},{"$f":"IF(OR(ISNUMBER(Y664),Y664=\"\"),\"\",MAX(AI663,AI662,B664,D664,L664)+1)","v":""},null,null,"",{"$nulls":4},{"$f":"IF(A664=\"\",\"\",IF(ISNUMBER(Y664),2,IF(A665=\"\",IF(OR(AH664>0,VLOOKUP(O664,EventConfig!A:C,3,FALSE)=4),3,\"\"),1)))","v":1},{"$f":"IF(AF664=\"\",\"\",CHOOSE(AF664,IF(AH664=\"\",A664+1,AH664),CONCATENATE(IF(AH664=\"\",A664+1,AH664),\";101\"),IF(AH664=\"\",O664+1,AH664)))","v":600310},null,5757]
[{"$f":"O665*100+P665","v":600310},5749,"击败袭击雀灵儿的妖兽",{"$f":"IF(E665=\"\",\"\",IF(E665=E664,D664,MAX(AI664,AI663,B665)+1))","v":""},{"$nulls":5},100,{"$f":"IF(J665=\"\",\"\",VLOOKUP(J665,EventNPC!A:E,5,FALSE))","v":"玩家"},{"$f":"IF(M665=\"\",\"\",MAX(AI664,AI663,B665,D665)+1)","v":5758},"外面的玩法不一样，但也有趣。\n小心，可能还有妖兽。",null,6003,10,{"$f":"_xlfn.TEXTJOIN(\";\",1,R665:S665)","v":""},null,null,{"$f":"IF(R665=\"\",\"\",\"-\"&VLOOKUP(R665,EventConditionConfig!A:C,3,FALSE)&IF(S665=\"\",\"\",CHAR(10)&\"-\"&VLOOKUP(S665,EventConditionConfig!A:C,3,FALSE)))","v":""},{"$f":"IF(Y665=\"\",\"\",IF(ISTEXT(Y665),1,2))","v":""},{"$f":"IF(U665=1,_xlfn.TEXTJOIN(\";\",1,IF(Z665=\"\",A665+1,Z665),IF(AND(AA665<>\"\",AC665=\"\"),A665+1,AC665)),IF(U665=2,Y665,\"\"))","v":""},{"$f":"_xlfn.TEXTJOIN(\";\",1,X665,AA665)","v":""},{"$f":"IF(OR(ISNUMBER(Y665),Y665=\"\"),\"\",MAX(AI664,AI663,B665,D665,L665)+1)","v":""},null,null,"",{"$nulls":4},{"$f":"IF(A665=\"\",\"\",IF(ISNUMBER(Y665),2,IF(A666=\"\",IF(OR(AH665>0,VLOOKUP(O665,EventConfig!A:C,3,FALSE)=4),3,\"\"),1)))","v":1},{"$f":"IF(AF665=\"\",\"\",CHOOSE(AF665,IF(AH665=\"\",A665+1,AH665),CONCATENATE(IF(AH665=\"\",A665+1,AH665),\";101\"),IF(AH665=\"\",O665+1,AH665)))","v":600311},null,5758]
[600311,5749,"击败袭击雀灵儿的妖兽","",{"$nulls":5},2,{"$f":"IF(J666=\"\",\"\",VLOOKUP(J666,EventNPC!A:E,5,FALSE))","v":"雀灵儿"},5759,"（咯咯笑，蹦蹦跳跳）那你有空一定要给我讲讲外面的世界！\n哎呀，那边又有风妖，快赶走它们！",null,6003,11,"",null,null,{"$f":"IF(R666=\"\",\"\",\"-\"&VLOOKUP(R666,EventConditionConfig!A:C,3,FALSE)&IF(S666=\"\",\"\",CHAR(10)&\"-\"&VLOOKUP(S666,EventConditionConfig!A:C,3,FALSE)))","v":""},"","","","",null,null,"",{"$nulls":4},{"$f":"IF(A666=\"\",\"\",IF(ISNUMBER(Y666),2,IF(A667=\"\",IF(OR(AH666>0,VLOOKUP(O666,EventConfig!A:C,3,FALSE)=4),3,\"\"),1)))","v":1},600312,null,5759]
[600312,5749,"击败袭击雀灵儿的妖兽","",{"$nulls":6},{"$f":"IF(J667=\"\",\"\",VLOOKUP(J667,EventNPC!A:E,5,FALSE))","v":""},"",null,null,6003,12,"",null,null,{"$f":"IF(R667=\"\",\"\",\"-\"&VLOOKUP(R667,EventConditionConfig!A:C,3,FALSE)&IF(S667=\"\",\"\",CHAR(10)&\"-\"&VLOOKUP(S667,EventConditionConfig!A:C,3,FALSE)))","v":""},2,3001,"","",3001,null,"",{"$nulls":4},{"$f":"IF(A667=\"\",\"\",IF(ISNUMBER(Y667),2,IF(A668=\"\",IF(OR(AH667>0,VLOOKUP(O667,EventConfig!A:C,3,FALSE)=4),3,\"\"),1)))","v":2},"600313;101",null,5759]
[{"$f":"O668*100+P668","v":600313},{"$f":"IF(C668=\"\",\"\",IF(C668=C667,B667,MAX(AI667,AI666)+1))","v":5749},"击败袭击雀灵儿的妖兽",{"$f":"IF(E668=\"\",\"\",IF(E668=E667,D667,MAX(AI667,AI666,B668)+1))","v":""},{"$nulls":5},2,{"$f":"IF(J668=\"\",\"\",VLOOKUP(J668,EventNPC!A:E,5,FALSE))","v":"雀灵儿"},{"$f":"IF(M668=\"\",\"\",MAX(AI667,AI666,B668,D668)+1)","v":5760},"（开心转圈）全赶走了！树林又属于我了……睁大你的眼睛看看，这片小天地是不是很美呀！",null,6003,13,{"$f":"_xlfn.TEXTJOIN(\";\",1,R668:S668)","v":""},null,null,{"$f":"IF(R668=\"\",\"\",\"-\"&VLOOKUP(R668,EventConditionConfig!A:C,3,FALSE)&IF(S668=\"\",\"\",CHAR(10)&\"-\"&VLOOKUP(S668,EventConditionConfig!A:C,3,FALSE)))","v":""},{"$f":"IF(Y668=\"\",\"\",IF(ISTEXT(Y668),1,2))","v":""},{"$f":"IF(U668=1,_xlfn.TEXTJOIN(\";\",1,IF(Z668=\"\",A668+1,Z668),IF(AND(AA668<>\"\",AC668=\"\"),A668+1,AC668)),IF(U668=2,Y668,\"\"))","v":""},{"$f":"_xlfn.TEXTJOIN(\";\",1,X668,AA668)","v":""},{"$f":"IF(OR(ISNUMBER(Y668),Y668=\"\"),\"\",MAX(AI667,AI666,B668,D668,L668)+1)","v":""},null,null,{"$f":"IF(OR(ISNUMBER(AB668),AB668=\"\"),\"\",X668+1)","v":""},{"$nulls":4},{"$f":"IF(A668=\"\",\"\",IF(ISNUMBER(Y668),2,IF(A669=\"\",IF(OR(AH668>0,VLOOKUP(O668,EventConfig!A:C,3,FALSE)=4),3,\"\"),1)))","v":1},{"$f":"IF(AF668=\"\",\"\",CHOOSE(AF668,IF(AH668=\"\",A668+1,AH668),CONCATENATE(IF(AH668=\"\",A668+1,AH668),\";101\"),IF(AH668=\"\",O668+1,AH668)))","v":600314},null,{"$f":"IF(A668=\"\",\"\",MAX(B668,D668,L668,X668,AA668,AI667,AI666))","v":5760}]
[600314,5749,"击败袭击雀灵儿的妖兽","",{"$nulls":5},100,{"$f":"IF(J669=\"\",\"\",VLOOKUP(J669,EventNPC!A:E,5,FALSE))","v":"玩家"},5761,"(北风吹过树梢，叶子如舞者在月光下飞旋，你仿佛置身一场浪漫的梦境）\n嗯，很美..",null,6003,14,"",null,null,{"$f":"IF(R669=\"\",\"\",\"-\"&VLOOKUP(R669,EventConditionConfig!A:C,3,FALSE)&IF(S669=\"\",\"\",CHAR(10)&\"-\"&VLOOKUP(S669,EventConditionConfig!A:C,3,FALSE)))","v":""},"","","","",null,null,"",{"$nulls":4},{"$f":"IF(A669=\"\",\"\",IF(ISNUMBER(Y669),2,IF(A670=\"\",IF(OR(AH669>0,VLOOKUP(O669,EventConfig!A:C,3,FALSE)=4),3,\"\"),1)))","v":1},600315,null,5761]
[{"$f":"O670*100+P670","v":600315},5749,"击败袭击雀灵儿的妖兽",{"$f":"IF(E670=\"\",\"\",IF(E670=E669,D669,MAX(AI669,AI668,B670)+1))","v":""},{"$nulls":5},2,{"$f":"IF(J670=\"\",\"\",VLOOKUP(J670,EventNPC!A:E,5,FALSE))","v":"雀灵儿"},{"$f":"IF(M670=\"\",\"\",MAX(AI669,AI668,B670,D670)+1)","v":5762},"谢谢你，拯救我的小天地！\n下次风大时，我们再一起玩追叶子！",null,6003,15,{"$f":"_xlfn.TEXTJOIN(\";\",1,R670:S670)","v":""},null,null,{"$f":"IF(R670=\"\",\"\",\"-\"&VLOOKUP(R670,EventConditionConfig!A:C,3,FALSE)&IF(S670=\"\",\"\",CHAR(10)&\"-\"&VLOOKUP(S670,EventConditionConfig!A:C,3,FALSE)))","v":""},{"$f":"IF(Y670=\"\",\"\",IF(ISTEXT(Y670),1,2))","v":""},{"$f":"IF(U670=1,_xlfn.TEXTJOIN(\";\",1,IF(Z670=\"\",A670+1,Z670),IF(AND(AA670<>\"\",AC670=\"\"),A670+1,AC670)),IF(U670=2,Y670,\"\"))","v":""},{"$f":"_xlfn.TEXTJOIN(\";\",1,X670,AA670)","v":""},{"$f":"IF(OR(ISNUMBER(Y670),Y670=\"\"),\"\",MAX(AI669,AI668,B670,D670,L670)+1)","v":""},null,null,"",{"$nulls":4},{"$f":"IF(A670=\"\",\"\",IF(ISNUMBER(Y670),2,IF(A671=\"\",IF(OR(AH670>0,VLOOKUP(O670,EventConfig!A:C,3,FALSE)=4),3,\"\"),1)))","v":""},{"$f":"IF(AF670=\"\",\"\",CHOOSE(AF670,IF(AH670=\"\",A670+1,AH670),CONCATENATE(IF(AH670=\"\",A670+1,AH670),\";101\"),IF(AH670=\"\",O670+1,AH670)))","v":""},null,5762]
[null,"",{"$nulls":13},"",{"$nulls":10},{"$f":"IF(OR(ISNUMBER(AB671),AB671=\"\"),\"\",X671+1)","v":""},{"$nulls":7},""]
[{"$f":"O672*100+P672","v":600401},5763,"陪雀灵儿飞行",{"$f":"IF(E672=\"\",\"\",IF(E672=E671,D671,MAX(AI671,AI670,B672)+1))","v":""},{"$nulls":6},{"$f":"IF(J672=\"\",\"\",VLOOKUP(J672,EventNPC!A:E,5,FALSE))","v":""},{"$f":"IF(M672=\"\",\"\",MAX(AI671,AI670,B672,D672)+1)","v":5764},"北海风轻，雀灵儿被外面的世界吸引，她站在树枝上，眼睛亮晶晶的，头发随风微微飘动，像在犹豫什么。",null,6004,1,{"$f":"_xlfn.TEXTJOIN(\";\",1,R672:S672)","v":""},null,null,{"$f":"IF(R672=\"\",\"\",\"-\"&VLOOKUP(R672,EventConditionConfig!A:C,3,FALSE)&IF(S672=\"\",\"\",CHAR(10)&\"-\"&VLOOKUP(S672,EventConditionConfig!A:C,3,FALSE)))","v":""},{"$f":"IF(Y672=\"\",\"\",IF(ISTEXT(Y672),1,2))","v":""},{"$f":"IF(U672=1,_xlfn.TEXTJOIN(\";\",1,IF(Z672=\"\",A672+1,Z672),IF(AND(AA672<>\"\",AC672=\"\"),A672+1,AC672)),IF(U672=2,Y672,\"\"))","v":""},{"$f":"_xlfn.TEXTJOIN(\";\",1,X672,AA672)","v":""},{"$f":"IF(OR(ISNUMBER(Y672),Y672=\"\"),\"\",MAX(AI671,AI670,B672,D672,L672)+1)","v":""},null,null,{"$f":"IF(OR(ISNUMBER(AB672),AB672=\"\"),\"\",X672+1)","v":""},{"$nulls":4},{"$f":"IF(A672=\"\",\"\",IF(ISNUMBER(Y672),2,IF(A673=\"\",IF(OR(AH672>0,VLOOKUP(O672,EventConfig!A:C,3,FALSE)=4),3,\"\"),1)))","v":1},{"$f":"IF(AF672=\"\",\"\",CHOOSE(AF672,IF(AH672=\"\",A672+1,AH672),CONCATENATE(IF(AH672=\"\",A672+1,AH672),\";101\"),IF(AH672=\"\",O672+1,AH672)))","v":600402},null,5764]
[{"$f":"O673*100+P673","v":600402},5763,"陪雀灵儿飞行",{"$f":"IF(E673=\"\",\"\",IF(E673=E672,D672,MAX(AI672,AI671,B673)+1))","v":""},{"$nulls":5},2,{"$f":"IF(J673=\"\",\"\",VLOOKUP(J673,EventNPC!A:E,5,FALSE))","v":"雀灵儿"},{"$f":"IF(M673=\"\",\"\",MAX(AI672,AI671,B673,D673)+1)","v":5765},"（脸微红，拽着袖子）“大傻瓜，你说的外世界那么有趣……陪我飞一小段试试，好吗？",null,6004,2,{"$f":"_xlfn.TEXTJOIN(\";\",1,R673:S673)","v":""},null,null,{"$f":"IF(R673=\"\",\"\",\"-\"&VLOOKUP(R673,EventConditionConfig!A:C,3,FALSE)&IF(S673=\"\",\"\",CHAR(10)&\"-\"&VLOOKUP(S673,EventConditionConfig!A:C,3,FALSE)))","v":""},{"$f":"IF(Y673=\"\",\"\",IF(ISTEXT(Y673),1,2))","v":""},{"$f":"IF(U673=1,_xlfn.TEXTJOIN(\";\",1,IF(Z673=\"\",A673+1,Z673),IF(AND(AA673<>\"\",AC673=\"\"),A673+1,AC673)),IF(U673=2,Y673,\"\"))","v":""},{"$f":"_xlfn.TEXTJOIN(\";\",1,X673,AA673)","v":""},{"$f":"IF(OR(ISNUMBER(Y673),Y673=\"\"),\"\",MAX(AI672,AI671,B673,D673,L673)+1)","v":""},null,null,"",{"$nulls":4},{"$f":"IF(A673=\"\",\"\",IF(ISNUMBER(Y673),2,IF(A674=\"\",IF(OR(AH673>0,VLOOKUP(O673,EventConfig!A:C,3,FALSE)=4),3,\"\"),1)))","v":1},{"$f":"IF(AF673=\"\",\"\",CHOOSE(AF673,IF(AH673=\"\",A673+1,AH673),CONCATENATE(IF(AH673=\"\",A673+1,AH673),\";101\"),IF(AH673=\"\",O673+1,AH673)))","v":600403},null,5765]
[{"$f":"O674*100+P674","v":600403},5763,"陪雀灵儿飞行",{"$f":"IF(E674=\"\",\"\",IF(E674=E673,D673,MAX(AI673,AI672,B674)+1))","v":""},{"$nulls":5},2,{"$f":"IF(J674=\"\",\"\",VLOOKUP(J674,EventNPC!A:E,5,FALSE))","v":"雀灵儿"},{"$f":"IF(M674=\"\",\"\",MAX(AI673,AI672,B674,D674)+1)","v":5766},"我想去到那边小岛，不远！但风有点大，我有点怕……”",null,6004,3,{"$f":"_xlfn.TEXTJOIN(\";\",1,R674:S674)","v":""},null,null,{"$f":"IF(R674=\"\",\"\",\"-\"&VLOOKUP(R674,EventConditionConfig!A:C,3,FALSE)&IF(S674=\"\",\"\",CHAR(10)&\"-\"&VLOOKUP(S674,EventConditionConfig!A:C,3,FALSE)))","v":""},{"$f":"IF(Y674=\"\",\"\",IF(ISTEXT(Y674),1,2))","v":1},{"$f":"IF(U674=1,_xlfn.TEXTJOIN(\";\",1,IF(Z674=\"\",A674+1,Z674),IF(AND(AA674<>\"\",AC674=\"\"),A674+1,AC674)),IF(U674=2,Y674,\"\"))","v":"600404"},{"$f":"_xlfn.TEXTJOIN(\";\",1,X674,AA674)","v":"5767"},{"$f":"IF(OR(ISNUMBER(Y674),Y674=\"\"),\"\",MAX(AI673,AI672,B674,D674,L674)+1)","v":5767},"好,我拉着你飞。",null,"",{"$nulls":4},{"$f":"IF(A674=\"\",\"\",IF(ISNUMBER(Y674),2,IF(A675=\"\",IF(OR(AH674>0,VLOOKUP(O674,EventConfig!A:C,3,FALSE)=4),3,\"\"),1)))","v":1},{"$f":"IF(AF674=\"\",\"\",CHOOSE(AF674,IF(AH674=\"\",A674+1,AH674),CONCATENATE(IF(AH674=\"\",A674+1,AH674),\";101\"),IF(AH674=\"\",O674+1,AH674)))","v":600404},null,5767]
[{"$f":"O675*100+P675","v":600404},5763,"陪雀灵儿飞行",{"$f":"IF(E675=\"\",\"\",IF(E675=E674,D674,MAX(AI674,AI673,B675)+1))","v":""},{"$nulls":5},2,{"$f":"IF(J675=\"\",\"\",VLOOKUP(J675,EventNPC!A:E,5,FALSE))","v":"雀灵儿"},{"$f":"IF(M675=\"\",\"\",MAX(AI674,AI673,B675,D675)+1)","v":5768},"（小手抓紧你）嘿，大傻瓜，你知道吗？风一吹，树叶沙沙、花儿摇摆，一切都跟着跳舞呢。",null,6004,4,{"$f":"_xlfn.TEXTJOIN(\";\",1,R675:S675)","v":""},null,null,{"$f":"IF(R675=\"\",\"\",\"-\"&VLOOKUP(R675,EventConditionConfig!A:C,3,FALSE)&IF(S675=\"\",\"\",CHAR(10)&\"-\"&VLOOKUP(S675,EventConditionConfig!A:C,3,FALSE)))","v":""},{"$f":"IF(Y675=\"\",\"\",IF(ISTEXT(Y675),1,2))","v":""},{"$f":"IF(U675=1,_xlfn.TEXTJOIN(\";\",1,IF(Z675=\"\",A675+1,Z675),IF(AND(AA675<>\"\",AC675=\"\"),A675+1,AC675)),IF(U675=2,Y675,\"\"))","v":""},{"$f":"_xlfn.TEXTJOIN(\";\",1,X675,AA675)","v":""},{"$f":"IF(OR(ISNUMBER(Y675),Y675=\"\"),\"\",MAX(AI674,AI673,B675,D675,L675)+1)","v":""},null,null,"",{"$nulls":4},{"$f":"IF(A675=\"\",\"\",IF(ISNUMBER(Y675),2,IF(A676=\"\",IF(OR(AH675>0,VLOOKUP(O675,EventConfig!A:C,3,FALSE)=4),3,\"\"),1)))","v":1},{"$f":"IF(AF675=\"\",\"\",CHOOSE(AF675,IF(AH675=\"\",A675+1,AH675),CONCATENATE(IF(AH675=\"\",A675+1,AH675),\";101\"),IF(AH675=\"\",O675+1,AH675)))","v":600405},null,5768]
[600405,5763,"陪雀灵儿飞行","",{"$nulls":5},100,{"$f":"IF(J676=\"\",\"\",VLOOKUP(J676,EventNPC!A:E,5,FALSE))","v":"玩家"},5769,"是啊，风一吹，一切都活络了。",null,6004,5,"",null,null,{"$f":"IF(R676=\"\",\"\",\"-\"&VLOOKUP(R676,EventConditionConfig!A:C,3,FALSE)&IF(S676=\"\",\"\",CHAR(10)&\"-\"&VLOOKUP(S676,EventConditionConfig!A:C,3,FALSE)))","v":""},"","","","",null,null,"",{"$nulls":4},{"$f":"IF(A676=\"\",\"\",IF(ISNUMBER(Y676),2,IF(A677=\"\",IF(OR(AH676>0,VLOOKUP(O676,EventConfig!A:C,3,FALSE)=4),3,\"\"),1)))","v":1},600406,null,5769]
[{"$f":"O677*100+P677","v":600406},5763,"陪雀灵儿飞行",{"$f":"IF(E677=\"\",\"\",IF(E677=E676,D676,MAX(AI676,AI675,B677)+1))","v":""},{"$nulls":5},2,{"$f":"IF(J677=\"\",\"\",VLOOKUP(J677,EventNPC!A:E,5,FALSE))","v":"雀灵儿"},{"$f":"IF(M677=\"\",\"\",MAX(AI676,AI675,B677,D677)+1)","v":5770},"（咯咯笑，眼睛眯成月牙）快看，天真蓝！\n你说天本来就这样蓝，还是离我们太远了，看不清它的颜色呢？",null,6004,6,{"$f":"_xlfn.TEXTJOIN(\";\",1,R677:S677)","v":""},null,null,{"$f":"IF(R677=\"\",\"\",\"-\"&VLOOKUP(R677,EventConditionConfig!A:C,3,FALSE)&IF(S677=\"\",\"\",CHAR(10)&\"-\"&VLOOKUP(S677,EventConditionConfig!A:C,3,FALSE)))","v":""},{"$f":"IF(Y677=\"\",\"\",IF(ISTEXT(Y677),1,2))","v":""},{"$f":"IF(U677=1,_xlfn.TEXTJOIN(\";\",1,IF(Z677=\"\",A677+1,Z677),IF(AND(AA677<>\"\",AC677=\"\"),A677+1,AC677)),IF(U677=2,Y677,\"\"))","v":""},{"$f":"_xlfn.TEXTJOIN(\";\",1,X677,AA677)","v":""},{"$f":"IF(OR(ISNUMBER(Y677),Y677=\"\"),\"\",MAX(AI676,AI675,B677,D677,L677)+1)","v":""},null,null,"",{"$nulls":4},{"$f":"IF(A677=\"\",\"\",IF(ISNUMBER(Y677),2,IF(A678=\"\",IF(OR(AH677>0,VLOOKUP(O677,EventConfig!A:C,3,FALSE)=4),3,\"\"),1)))","v":1},{"$f":"IF(AF677=\"\",\"\",CHOOSE(AF677,IF(AH677=\"\",A677+1,AH677),CONCATENATE(IF(AH677=\"\",A677+1,AH677),\";101\"),IF(AH677=\"\",O677+1,AH677)))","v":600407},null,5770]
[600407,5763,"陪雀灵儿飞行","",{"$nulls":5},100,{"$f":"IF(J678=\"\",\"\",VLOOKUP(J678,EventNPC!A:E,5,FALSE))","v":"玩家"},5771,"谁知道呢.. \n外面的世界，有更多惊喜。",null,6004,7,"",null,null,{"$f":"IF(R678=\"\",\"\",\"-\"&VLOOKUP(R678,EventConditionConfig!A:C,3,FALSE)&IF(S678=\"\",\"\",CHAR(10)&\"-\"&VLOOKUP(S678,EventConditionConfig!A:C,3,FALSE)))","v":""},"","","","",null,null,"",{"$nulls":4},{"$f":"IF(A678=\"\",\"\",IF(ISNUMBER(Y678),2,IF(A679=\"\",IF(OR(AH678>0,VLOOKUP(O678,EventConfig!A:C,3,FALSE)=4),3,\"\"),1)))","v":1},600408,null,5771]
[{"$f":"O679*100+P679","v":600408},5763,"陪雀灵儿飞行",{"$f":"IF(E679=\"\",\"\",IF(E679=E678,D678,MAX(AI678,AI677,B679)+1))","v":""},{"$nulls":5},2,{"$f":"IF(J679=\"\",\"\",VLOOKUP(J679,EventNPC!A:E,5,FALSE))","v":"雀灵儿"},{"$f":"IF(M679=\"\",\"\",MAX(AI678,AI677,B679,D679)+1)","v":5772},"（落地，脸红红的）“嗯……谢谢陪我。\n下次……飞远点？但还得你拉着哦！”",null,6004,8,{"$f":"_xlfn.TEXTJOIN(\";\",1,R679:S679)","v":""},null,null,{"$f":"IF(R679=\"\",\"\",\"-\"&VLOOKUP(R679,EventConditionConfig!A:C,3,FALSE)&IF(S679=\"\",\"\",CHAR(10)&\"-\"&VLOOKUP(S679,EventConditionConfig!A:C,3,FALSE)))","v":""},{"$f":"IF(Y679=\"\",\"\",IF(ISTEXT(Y679),1,2))","v":""},{"$f":"IF(U679=1,_xlfn.TEXTJOIN(\";\",1,IF(Z679=\"\",A679+1,Z679),IF(AND(AA679<>\"\",AC679=\"\"),A679+1,AC679)),IF(U679=2,Y679,\"\"))","v":""},{"$f":"_xlfn.TEXTJOIN(\";\",1,X679,AA679)","v":""},{"$f":"IF(OR(ISNUMBER(Y679),Y679=\"\"),\"\",MAX(AI678,AI677,B679,D679,L679)+1)","v":""},null,null,"",{"$nulls":4},{"$f":"IF(A679=\"\",\"\",IF(ISNUMBER(Y679),2,IF(A680=\"\",IF(OR(AH679>0,VLOOKUP(O679,EventConfig!A:C,3,FALSE)=4),3,\"\"),1)))","v":1},{"$f":"IF(AF679=\"\",\"\",CHOOSE(AF679,IF(AH679=\"\",A679+1,AH679),CONCATENATE(IF(AH679=\"\",A679+1,AH679),\";101\"),IF(AH679=\"\",O679+1,AH679)))","v":600409},null,5772]
[600409,5763,"陪雀灵儿飞行","",{"$nulls":5},100,{"$f":"IF(J680=\"\",\"\",VLOOKUP(J680,EventNPC!A:E,5,FALSE))","v":"玩家"},5773,"她飞起来那么开心，像只自由的小鸟……\n也越来越黏人了。",null,6004,9,"",null,null,{"$f":"IF(R680=\"\",\"\",\"-\"&VLOOKUP(R680,EventConditionConfig!A:C,3,FALSE)&IF(S680=\"\",\"\",CHAR(10)&\"-\"&VLOOKUP(S680,EventConditionConfig!A:C,3,FALSE)))","v":""},"","","","",null,null,"",{"$nulls":4},{"$f":"IF(A680=\"\",\"\",IF(ISNUMBER(Y680),2,IF(A681=\"\",IF(OR(AH680>0,VLOOKUP(O680,EventConfig!A:C,3,FALSE)=4),3,\"\"),1)))","v":""},"",null,5773]
[null,"",{"$nulls":13},"",{"$nulls":10},"",{"$nulls":7},""]
[{"$f":"O682*100+P682","v":600501},5774,"找到雀灵儿",{"$f":"IF(E682=\"\",\"\",IF(E682=E681,D681,MAX(AI681,AI680,B682)+1))","v":""},{"$nulls":6},{"$f":"IF(J682=\"\",\"\",VLOOKUP(J682,EventNPC!A:E,5,FALSE))","v":""},{"$f":"IF(M682=\"\",\"\",MAX(AI681,AI680,B682,D682)+1)","v":5775},"北海突发大风，幻雀儿冒险飞出树林被困风涡。你收到她的灵讯求救。",null,6005,1,{"$f":"_xlfn.TEXTJOIN(\";\",1,R682:S682)","v":""},null,null,{"$f":"IF(R682=\"\",\"\",\"-\"&VLOOKUP(R682,EventConditionConfig!A:C,3,FALSE)&IF(S682=\"\",\"\",CHAR(10)&\"-\"&VLOOKUP(S682,EventConditionConfig!A:C,3,FALSE)))","v":""},{"$f":"IF(Y682=\"\",\"\",IF(ISTEXT(Y682),1,2))","v":""},{"$f":"IF(U682=1,_xlfn.TEXTJOIN(\";\",1,IF(Z682=\"\",A682+1,Z682),IF(AND(AA682<>\"\",AC682=\"\"),A682+1,AC682)),IF(U682=2,Y682,\"\"))","v":""},{"$f":"_xlfn.TEXTJOIN(\";\",1,X682,AA682)","v":""},{"$f":"IF(OR(ISNUMBER(Y682),Y682=\"\"),\"\",MAX(AI681,AI680,B682,D682,L682)+1)","v":""},null,null,"",{"$nulls":4},{"$f":"IF(A682=\"\",\"\",IF(ISNUMBER(Y682),2,IF(A683=\"\",IF(OR(AH682>0,VLOOKUP(O682,EventConfig!A:C,3,FALSE)=4),3,\"\"),1)))","v":1},{"$f":"IF(AF682=\"\",\"\",CHOOSE(AF682,IF(AH682=\"\",A682+1,AH682),CONCATENATE(IF(AH682=\"\",A682+1,AH682),\";101\"),IF(AH682=\"\",O682+1,AH682)))","v":600502},null,5775]
[{"$f":"O683*100+P683","v":600502},5774,"找到雀灵儿",{"$f":"IF(E683=\"\",\"\",IF(E683=E682,D682,MAX(AI682,AI681,B683)+1))","v":""},{"$nulls":5},2,{"$f":"IF(J683=\"\",\"\",VLOOKUP(J683,EventNPC!A:E,5,FALSE))","v":"雀灵儿"},{"$f":"IF(M683=\"\",\"\",MAX(AI682,AI681,B683,D683)+1)","v":5776},"（灵讯，慌张）傻瓜，大风来了，我飞太远被困了！快来救我！",null,6005,2,{"$f":"_xlfn.TEXTJOIN(\";\",1,R683:S683)","v":""},null,null,{"$f":"IF(R683=\"\",\"\",\"-\"&VLOOKUP(R683,EventConditionConfig!A:C,3,FALSE)&IF(S683=\"\",\"\",CHAR(10)&\"-\"&VLOOKUP(S683,EventConditionConfig!A:C,3,FALSE)))","v":""},{"$f":"IF(Y683=\"\",\"\",IF(ISTEXT(Y683),1,2))","v":1},{"$f":"IF(U683=1,_xlfn.TEXTJOIN(\";\",1,IF(Z683=\"\",A683+1,Z683),IF(AND(AA683<>\"\",AC683=\"\"),A683+1,AC683)),IF(U683=2,Y683,\"\"))","v":"600503"},{"$f":"_xlfn.TEXTJOIN(\";\",1,X683,AA683)","v":"5777"},{"$f":"IF(OR(ISNUMBER(Y683),Y683=\"\"),\"\",MAX(AI682,AI681,B683,D683,L683)+1)","v":5777},"坚持住，我来了！",null,"",{"$nulls":4},{"$f":"IF(A683=\"\",\"\",IF(ISNUMBER(Y683),2,IF(A684=\"\",IF(OR(AH683>0,VLOOKUP(O683,EventConfig!A:C,3,FALSE)=4),3,\"\"),1)))","v":1},{"$f":"IF(AF683=\"\",\"\",CHOOSE(AF683,IF(AH683=\"\",A683+1,AH683),CONCATENATE(IF(AH683=\"\",A683+1,AH683),\";101\"),IF(AH683=\"\",O683+1,AH683)))","v":600503},null,5777]
[{"$f":"O684*100+P684","v":600503},5778,"击败大风妖兽",{"$f":"IF(E684=\"\",\"\",IF(E684=E683,D683,MAX(AI683,AI682,B684)+1))","v":""},{"$nulls":6},{"$f":"IF(J684=\"\",\"\",VLOOKUP(J684,EventNPC!A:E,5,FALSE))","v":""},{"$f":"IF(M684=\"\",\"\",MAX(AI683,AI682,B684,D684)+1)","v":5779},"灵儿，别怕，我看到你了！这风妖交给我，先护住自己",null,6005,3,{"$f":"_xlfn.TEXTJOIN(\";\",1,R684:S684)","v":""},null,null,{"$f":"IF(R684=\"\",\"\",\"-\"&VLOOKUP(R684,EventConditionConfig!A:C,3,FALSE)&IF(S684=\"\",\"\",CHAR(10)&\"-\"&VLOOKUP(S684,EventConditionConfig!A:C,3,FALSE)))","v":""},{"$f":"IF(Y684=\"\",\"\",IF(ISTEXT(Y684),1,2))","v":2},{"$f":"IF(U684=1,_xlfn.TEXTJOIN(\";\",1,IF(Z684=\"\",A684+1,Z684),IF(AND(AA684<>\"\",AC684=\"\"),A684+1,AC684)),IF(U684=2,Y684,\"\"))","v":3002},{"$f":"_xlfn.TEXTJOIN(\";\",1,X684,AA684)","v":""},{"$f":"IF(OR(ISNUMBER(Y684),Y684=\"\"),\"\",MAX(AI683,AI682,B684,D684,L684)+1)","v":""},3002,null,"",{"$nulls":4},{"$f":"IF(A684=\"\",\"\",IF(ISNUMBER(Y684),2,IF(A685=\"\",IF(OR(AH684>0,VLOOKUP(O684,EventConfig!A:C,3,FALSE)=4),3,\"\"),1)))","v":2},{"$f":"IF(AF684=\"\",\"\",CHOOSE(AF684,IF(AH684=\"\",A684+1,AH684),CONCATENATE(IF(AH684=\"\",A684+1,AH684),\";101\"),IF(AH684=\"\",O684+1,AH684)))","v":"600504;101"},null,5779]
[600504,5778,"击败大风妖兽","",{"$nulls":5},2,{"$f":"IF(J685=\"\",\"\",VLOOKUP(J685,EventNPC!A:E,5,FALSE))","v":"雀灵儿"},5780,"（获救后，抱紧）谢谢……风这么大，我以为要被卷走了，像爸妈那样……\n但你一出现，一切都不怕了。",null,6005,4,"",null,null,{"$f":"IF(R685=\"\",\"\",\"-\"&VLOOKUP(R685,EventConditionConfig!A:C,3,FALSE)&IF(S685=\"\",\"\",CHAR(10)&\"-\"&VLOOKUP(S685,EventConditionConfig!A:C,3,FALSE)))","v":""},"","","","",null,null,"",{"$nulls":4},{"$f":"IF(A685=\"\",\"\",IF(ISNUMBER(Y685),2,IF(A686=\"\",IF(OR(AH685>0,VLOOKUP(O685,EventConfig!A:C,3,FALSE)=4),3,\"\"),1)))","v":1},600505,null,5780]
[{"$f":"O686*100+P686","v":600505},5778,"击败大风妖兽",{"$f":"IF(E686=\"\",\"\",IF(E686=E685,D685,MAX(AI685,AI684,B686)+1))","v":""},{"$nulls":5},100,{"$f":"IF(J686=\"\",\"\",VLOOKUP(J686,EventNPC!A:E,5,FALSE))","v":"玩家"},{"$f":"IF(M686=\"\",\"\",MAX(AI685,AI684,B686,D686)+1)","v":5781},"没事了，从今以后，我们一起飞，再大的风也挡不住。",null,6005,5,{"$f":"_xlfn.TEXTJOIN(\";\",1,R686:S686)","v":""},null,null,{"$f":"IF(R686=\"\",\"\",\"-\"&VLOOKUP(R686,EventConditionConfig!A:C,3,FALSE)&IF(S686=\"\",\"\",CHAR(10)&\"-\"&VLOOKUP(S686,EventConditionConfig!A:C,3,FALSE)))","v":""},{"$f":"IF(Y686=\"\",\"\",IF(ISTEXT(Y686),1,2))","v":""},{"$f":"IF(U686=1,_xlfn.TEXTJOIN(\";\",1,IF(Z686=\"\",A686+1,Z686),IF(AND(AA686<>\"\",AC686=\"\"),A686+1,AC686)),IF(U686=2,Y686,\"\"))","v":""},{"$f":"_xlfn.TEXTJOIN(\";\",1,X686,AA686)","v":""},{"$f":"IF(OR(ISNUMBER(Y686),Y686=\"\"),\"\",MAX(AI685,AI684,B686,D686,L686)+1)","v":""},null,null,"",{"$nulls":4},{"$f":"IF(A686=\"\",\"\",IF(ISNUMBER(Y686),2,IF(A687=\"\",IF(OR(AH686>0,VLOOKUP(O686,EventConfig!A:C,3,FALSE)=4),3,\"\"),1)))","v":1},{"$f":"IF(AF686=\"\",\"\",CHOOSE(AF686,IF(AH686=\"\",A686+1,AH686),CONCATENATE(IF(AH686=\"\",A686+1,AH686),\";101\"),IF(AH686=\"\",O686+1,AH686)))","v":600506},null,5781]
[600506,5778,"击败大风妖兽","",{"$nulls":5},2,{"$f":"IF(J687=\"\",\"\",VLOOKUP(J687,EventNPC!A:E,5,FALSE))","v":"雀灵儿"},5782,"（小声，脸红靠近）嗯……跟你一起，树林外头的世界，好像也没那么可怕了。",null,6005,6,"",null,null,{"$f":"IF(R687=\"\",\"\",\"-\"&VLOOKUP(R687,EventConditionConfig!A:C,3,FALSE)&IF(S687=\"\",\"\",CHAR(10)&\"-\"&VLOOKUP(S687,EventConditionConfig!A:C,3,FALSE)))","v":""},"","","","",null,null,"",{"$nulls":4},{"$f":"IF(A687=\"\",\"\",IF(ISNUMBER(Y687),2,IF(A688=\"\",IF(OR(AH687>0,VLOOKUP(O687,EventConfig!A:C,3,FALSE)=4),3,\"\"),1)))","v":""},"",null,5782]
[null,"",{"$nulls":13},"",{"$nulls":10},"",{"$nulls":7},""]
[{"$f":"O689*100+P689","v":600601},5783,"和雀灵儿对话",{"$f":"IF(E689=\"\",\"\",IF(E689=E688,D688,MAX(AI688,AI687,B689)+1))","v":""},{"$nulls":6},{"$f":"IF(J689=\"\",\"\",VLOOKUP(J689,EventNPC!A:E,5,FALSE))","v":""},{"$f":"IF(M689=\"\",\"\",MAX(AI688,AI687,B689,D689)+1)","v":5784},"北海风平浪静，古松树下阳光斑驳。",null,6006,1,{"$f":"_xlfn.TEXTJOIN(\";\",1,R689:S689)","v":""},null,null,{"$f":"IF(R689=\"\",\"\",\"-\"&VLOOKUP(R689,EventConditionConfig!A:C,3,FALSE)&IF(S689=\"\",\"\",CHAR(10)&\"-\"&VLOOKUP(S689,EventConditionConfig!A:C,3,FALSE)))","v":""},{"$f":"IF(Y689=\"\",\"\",IF(ISTEXT(Y689),1,2))","v":""},{"$f":"IF(U689=1,_xlfn.TEXTJOIN(\";\",1,IF(Z689=\"\",A689+1,Z689),IF(AND(AA689<>\"\",AC689=\"\"),A689+1,AC689)),IF(U689=2,Y689,\"\"))","v":""},{"$f":"_xlfn.TEXTJOIN(\";\",1,X689,AA689)","v":""},{"$f":"IF(OR(ISNUMBER(Y689),Y689=\"\"),\"\",MAX(AI688,AI687,B689,D689,L689)+1)","v":""},null,null,"",{"$nulls":4},{"$f":"IF(A689=\"\",\"\",IF(ISNUMBER(Y689),2,IF(A690=\"\",IF(OR(AH689>0,VLOOKUP(O689,EventConfig!A:C,3,FALSE)=4),3,\"\"),1)))","v":1},{"$f":"IF(AF689=\"\",\"\",CHOOSE(AF689,IF(AH689=\"\",A689+1,AH689),CONCATENATE(IF(AH689=\"\",A689+1,AH689),\";101\"),IF(AH689=\"\",O689+1,AH689)))","v":600602},null,5784]
[{"$f":"O690*100+P690","v":600602},5783,"和雀灵儿对话",{"$f":"IF(E690=\"\",\"\",IF(E690=E689,D689,MAX(AI689,AI688,B690)+1))","v":""},{"$nulls":6},{"$f":"IF(J690=\"\",\"\",VLOOKUP(J690,EventNPC!A:E,5,FALSE))","v":""},{"$f":"IF(M690=\"\",\"\",MAX(AI689,AI688,B690,D690)+1)","v":5785},"雀灵儿站在树枝上等着你，她穿着浅蓝羽衣，头发在微风中轻轻飘动，脸颊微红，眼睛里满是期待和一丝羞涩。",null,6006,2,{"$f":"_xlfn.TEXTJOIN(\";\",1,R690:S690)","v":""},null,null,{"$f":"IF(R690=\"\",\"\",\"-\"&VLOOKUP(R690,EventConditionConfig!A:C,3,FALSE)&IF(S690=\"\",\"\",CHAR(10)&\"-\"&VLOOKUP(S690,EventConditionConfig!A:C,3,FALSE)))","v":""},{"$f":"IF(Y690=\"\",\"\",IF(ISTEXT(Y690),1,2))","v":""},{"$f":"IF(U690=1,_xlfn.TEXTJOIN(\";\",1,IF(Z690=\"\",A690+1,Z690),IF(AND(AA690<>\"\",AC690=\"\"),A690+1,AC690)),IF(U690=2,Y690,\"\"))","v":""},{"$f":"_xlfn.TEXTJOIN(\";\",1,X690,AA690)","v":""},{"$f":"IF(OR(ISNUMBER(Y690),Y690=\"\"),\"\",MAX(AI689,AI688,B690,D690,L690)+1)","v":""},null,null,"",{"$nulls":4},{"$f":"IF(A690=\"\",\"\",IF(ISNUMBER(Y690),2,IF(A691=\"\",IF(OR(AH690>0,VLOOKUP(O690,EventConfig!A:C,3,FALSE)=4),3,\"\"),1)))","v":1},{"$f":"IF(AF690=\"\",\"\",CHOOSE(AF690,IF(AH690=\"\",A690+1,AH690),CONCATENATE(IF(AH690=\"\",A690+1,AH690),\";101\"),IF(AH690=\"\",O690+1,AH690)))","v":600603},null,5785]
[600603,5786,"击败大风妖兽","",{"$nulls":5},2,{"$f":"IF(J691=\"\",\"\",VLOOKUP(J691,EventNPC!A:E,5,FALSE))","v":"雀灵儿"},5787,"（开心扑来，跳到你面前，小手拽着衣角）“大傻瓜，谢谢你陪我玩、守护我……",null,6006,3,"",null,null,{"$f":"IF(R691=\"\",\"\",\"-\"&VLOOKUP(R691,EventConditionConfig!A:C,3,FALSE)&IF(S691=\"\",\"\",CHAR(10)&\"-\"&VLOOKUP(S691,EventConditionConfig!A:C,3,FALSE)))","v":""},"","","","",null,null,"",{"$nulls":4},{"$f":"IF(A691=\"\",\"\",IF(ISNUMBER(Y691),2,IF(A692=\"\",IF(OR(AH691>0,VLOOKUP(O691,EventConfig!A:C,3,FALSE)=4),3,\"\"),1)))","v":1},600604,null,5787]
[{"$f":"O692*100+P692","v":600604},5786,"击败大风妖兽",{"$f":"IF(E692=\"\",\"\",IF(E692=E691,D691,MAX(AI691,AI690,B692)+1))","v":""},{"$nulls":5},2,{"$f":"IF(J692=\"\",\"\",VLOOKUP(J692,EventNPC!A:E,5,FALSE))","v":"雀灵儿"},{"$f":"IF(M692=\"\",\"\",MAX(AI691,AI690,B692,D692)+1)","v":5788},"我现在觉得外面的世界没那么可怕了。",null,6006,4,{"$f":"_xlfn.TEXTJOIN(\";\",1,R692:S692)","v":""},null,null,{"$f":"IF(R692=\"\",\"\",\"-\"&VLOOKUP(R692,EventConditionConfig!A:C,3,FALSE)&IF(S692=\"\",\"\",CHAR(10)&\"-\"&VLOOKUP(S692,EventConditionConfig!A:C,3,FALSE)))","v":""},{"$f":"IF(Y692=\"\",\"\",IF(ISTEXT(Y692),1,2))","v":""},{"$f":"IF(U692=1,_xlfn.TEXTJOIN(\";\",1,IF(Z692=\"\",A692+1,Z692),IF(AND(AA692<>\"\",AC692=\"\"),A692+1,AC692)),IF(U692=2,Y692,\"\"))","v":""},{"$f":"_xlfn.TEXTJOIN(\";\",1,X692,AA692)","v":""},{"$f":"IF(OR(ISNUMBER(Y692),Y692=\"\"),\"\",MAX(AI691,AI690,B692,D692,L692)+1)","v":""},null,null,"",{"$nulls":4},{"$f":"IF(A692=\"\",\"\",IF(ISNUMBER(Y692),2,IF(A693=\"\",IF(OR(AH692>0,VLOOKUP(O692,EventConfig!A:C,3,FALSE)=4),3,\"\"),1)))","v":1},{"$f":"IF(AF692=\"\",\"\",CHOOSE(AF692,IF(AH692=\"\",A692+1,AH692),CONCATENATE(IF(AH692=\"\",A692+1,AH692),\";101\"),IF(AH692=\"\",O692+1,AH692)))","v":600605},null,5788]
[{"$f":"O693*100+P693","v":600605},5786,"击败大风妖兽",{"$f":"IF(E693=\"\",\"\",IF(E693=E692,D692,MAX(AI692,AI691,B693)+1))","v":""},{"$nulls":5},2,{"$f":"IF(J693=\"\",\"\",VLOOKUP(J693,EventNPC!A:E,5,FALSE))","v":"雀灵儿"},{"$f":"IF(M693=\"\",\"\",MAX(AI692,AI691,B693,D693)+1)","v":5789},"我想跟你飞远点，看看大海、山林，甚至南海天池！……行吗？我们一起？”",null,6006,5,{"$f":"_xlfn.TEXTJOIN(\";\",1,R693:S693)","v":""},null,null,{"$f":"IF(R693=\"\",\"\",\"-\"&VLOOKUP(R693,EventConditionConfig!A:C,3,FALSE)&IF(S693=\"\",\"\",CHAR(10)&\"-\"&VLOOKUP(S693,EventConditionConfig!A:C,3,FALSE)))","v":""},{"$f":"IF(Y693=\"\",\"\",IF(ISTEXT(Y693),1,2))","v":1},{"$f":"IF(U693=1,_xlfn.TEXTJOIN(\";\",1,IF(Z693=\"\",A693+1,Z693),IF(AND(AA693<>\"\",AC693=\"\"),A693+1,AC693)),IF(U693=2,Y693,\"\"))","v":"600606"},{"$f":"_xlfn.TEXTJOIN(\";\",1,X693,AA693)","v":"5790"},{"$f":"IF(OR(ISNUMBER(Y693),Y693=\"\"),\"\",MAX(AI692,AI691,B693,D693,L693)+1)","v":5790},"当然可以",null,"",{"$nulls":4},{"$f":"IF(A693=\"\",\"\",IF(ISNUMBER(Y693),2,IF(A694=\"\",IF(OR(AH693>0,VLOOKUP(O693,EventConfig!A:C,3,FALSE)=4),3,\"\"),1)))","v":1},{"$f":"IF(AF693=\"\",\"\",CHOOSE(AF693,IF(AH693=\"\",A693+1,AH693),CONCATENATE(IF(AH693=\"\",A693+1,AH693),\";101\"),IF(AH693=\"\",O693+1,AH693)))","v":600606},null,5790]
[600606,5786,"击败大风妖兽","",{"$nulls":5},2,{"$f":"IF(J694=\"\",\"\",VLOOKUP(J694,EventNPC!A:E,5,FALSE))","v":"雀灵儿"},5791,"（脸红如霞）好！以后一起冒险飞远！有你在，风再大，也不怕了……",null,6006,6,"",null,null,{"$f":"IF(R694=\"\",\"\",\"-\"&VLOOKUP(R694,EventConditionConfig!A:C,3,FALSE)&IF(S694=\"\",\"\",CHAR(10)&\"-\"&VLOOKUP(S694,EventConditionConfig!A:C,3,FALSE)))","v":""},"","","","",null,null,"",{"$nulls":4},{"$f":"IF(A694=\"\",\"\",IF(ISNUMBER(Y694),2,IF(A695=\"\",IF(OR(AH694>0,VLOOKUP(O694,EventConfig!A:C,3,FALSE)=4),3,\"\"),1)))","v":1},600607,null,5791]
[{"$f":"O695*100+P695","v":600607},5786,"击败大风妖兽",{"$f":"IF(E695=\"\",\"\",IF(E695=E694,D694,MAX(AI694,AI693,B695)+1))","v":""},{"$nulls":5},100,{"$f":"IF(J695=\"\",\"\",VLOOKUP(J695,EventNPC!A:E,5,FALSE))","v":"玩家"},{"$f":"IF(M695=\"\",\"\",MAX(AI694,AI693,B695,D695)+1)","v":5792},"嗯，我会一直陪着你。",null,6006,7,{"$f":"_xlfn.TEXTJOIN(\";\",1,R695:S695)","v":""},null,null,{"$f":"IF(R695=\"\",\"\",\"-\"&VLOOKUP(R695,EventConditionConfig!A:C,3,FALSE)&IF(S695=\"\",\"\",CHAR(10)&\"-\"&VLOOKUP(S695,EventConditionConfig!A:C,3,FALSE)))","v":""},{"$f":"IF(Y695=\"\",\"\",IF(ISTEXT(Y695),1,2))","v":""},{"$f":"IF(U695=1,_xlfn.TEXTJOIN(\";\",1,IF(Z695=\"\",A695+1,Z695),IF(AND(AA695<>\"\",AC695=\"\"),A695+1,AC695)),IF(U695=2,Y695,\"\"))","v":""},{"$f":"_xlfn.TEXTJOIN(\";\",1,X695,AA695)","v":""},{"$f":"IF(OR(ISNUMBER(Y695),Y695=\"\"),\"\",MAX(AI694,AI693,B695,D695,L695)+1)","v":""},null,null,"",{"$nulls":4},{"$f":"IF(A695=\"\",\"\",IF(ISNUMBER(Y695),2,IF(A696=\"\",IF(OR(AH695>0,VLOOKUP(O695,EventConfig!A:C,3,FALSE)=4),3,\"\"),1)))","v":1},{"$f":"IF(AF695=\"\",\"\",CHOOSE(AF695,IF(AH695=\"\",A695+1,AH695),CONCATENATE(IF(AH695=\"\",A695+1,AH695),\";101\"),IF(AH695=\"\",O695+1,AH695)))","v":600608},null,5792]
[600608,5786,"击败大风妖兽","",{"$nulls":5},2,{"$f":"IF(J696=\"\",\"\",VLOOKUP(J696,EventNPC!A:E,5,FALSE))","v":"雀灵儿"},5793,"（抱紧你，开心笑）太好了！从今以后，我们就是……\n走吧，大傻瓜！",null,6006,8,"",null,null,{"$f":"IF(R696=\"\",\"\",\"-\"&VLOOKUP(R696,EventConditionConfig!A:C,3,FALSE)&IF(S696=\"\",\"\",CHAR(10)&\"-\"&VLOOKUP(S696,EventConditionConfig!A:C,3,FALSE)))","v":""},"","","","",null,null,"",{"$nulls":4},{"$f":"IF(A696=\"\",\"\",IF(ISNUMBER(Y696),2,IF(A697=\"\",IF(OR(AH696>0,VLOOKUP(O696,EventConfig!A:C,3,FALSE)=4),3,\"\"),1)))","v":1},600609,null,5793]
[{"$f":"O697*100+P697","v":600609},5786,"击败大风妖兽",{"$f":"IF(E697=\"\",\"\",IF(E697=E696,D696,MAX(AI696,AI695,B697)+1))","v":""},{"$nulls":5},100,{"$f":"IF(J697=\"\",\"\",VLOOKUP(J697,EventNPC!A:E,5,FALSE))","v":"玩家"},{"$f":"IF(M697=\"\",\"\",MAX(AI696,AI695,B697,D697)+1)","v":5794},"（之前的冒险让她变了，不再只是树上玩耍的小丫头，现在她看起来更自信，像一只准备展翅的鸟儿）",null,6006,9,{"$f":"_xlfn.TEXTJOIN(\";\",1,R697:S697)","v":""},null,null,{"$f":"IF(R697=\"\",\"\",\"-\"&VLOOKUP(R697,EventConditionConfig!A:C,3,FALSE)&IF(S697=\"\",\"\",CHAR(10)&\"-\"&VLOOKUP(S697,EventConditionConfig!A:C,3,FALSE)))","v":""},{"$f":"IF(Y697=\"\",\"\",IF(ISTEXT(Y697),1,2))","v":""},{"$f":"IF(U697=1,_xlfn.TEXTJOIN(\";\",1,IF(Z697=\"\",A697+1,Z697),IF(AND(AA697<>\"\",AC697=\"\"),A697+1,AC697)),IF(U697=2,Y697,\"\"))","v":""},{"$f":"_xlfn.TEXTJOIN(\";\",1,X697,AA697)","v":""},{"$f":"IF(OR(ISNUMBER(Y697),Y697=\"\"),\"\",MAX(AI696,AI695,B697,D697,L697)+1)","v":""},null,null,"",{"$nulls":4},{"$f":"IF(A697=\"\",\"\",IF(ISNUMBER(Y697),2,IF(A698=\"\",IF(OR(AH697>0,VLOOKUP(O697,EventConfig!A:C,3,FALSE)=4),3,\"\"),1)))","v":""},{"$f":"IF(AF697=\"\",\"\",CHOOSE(AF697,IF(AH697=\"\",A697+1,AH697),CONCATENATE(IF(AH697=\"\",A697+1,AH697),\";101\"),IF(AH697=\"\",O697+1,AH697)))","v":""},null,5794]
[null,"",{"$nulls":13},"",{"$nulls":10},"",{"$nulls":7},""]
[{"$f":"O699*100+P699","v":601101},5795,"与云枝对话",{"$f":"IF(E699=\"\",\"\",IF(E699=E698,D698,MAX(AI698,AI697,B699)+1))","v":""},{"$nulls":6},{"$f":"IF(J699=\"\",\"\",VLOOKUP(J699,EventNPC!A:E,5,FALSE))","v":""},{"$f":"IF(M699=\"\",\"\",MAX(AI698,AI697,B699,D699)+1)","v":5796},"你返回北海古松，云枝从树影中现身。她身姿修长，穿着绿叶长袍，头发盘起如古松枝，眼神冷静警惕。\n微风吹过，古松如在低语，守护着这片密径。",null,6011,1,{"$f":"_xlfn.TEXTJOIN(\";\",1,R699:S699)","v":""},null,null,{"$f":"IF(R699=\"\",\"\",\"-\"&VLOOKUP(R699,EventConditionConfig!A:C,3,FALSE)&IF(S699=\"\",\"\",CHAR(10)&\"-\"&VLOOKUP(S699,EventConditionConfig!A:C,3,FALSE)))","v":""},{"$f":"IF(Y699=\"\",\"\",IF(ISTEXT(Y699),1,2))","v":""},{"$f":"IF(U699=1,_xlfn.TEXTJOIN(\";\",1,IF(Z699=\"\",A699+1,Z699),IF(AND(AA699<>\"\",AC699=\"\"),A699+1,AC699)),IF(U699=2,Y699,\"\"))","v":""},{"$f":"_xlfn.TEXTJOIN(\";\",1,X699,AA699)","v":""},{"$f":"IF(OR(ISNUMBER(Y699),Y699=\"\"),\"\",MAX(AI698,AI697,B699,D699,L699)+1)","v":""},null,null,"",{"$nulls":4},{"$f":"IF(A699=\"\",\"\",IF(ISNUMBER(Y699),2,IF(A700=\"\",IF(OR(AH699>0,VLOOKUP(O699,EventConfig!A:C,3,FALSE)=4),3,\"\"),1)))","v":1},{"$f":"IF(AF699=\"\",\"\",CHOOSE(AF699,IF(AH699=\"\",A699+1,AH699),CONCATENATE(IF(AH699=\"\",A699+1,AH699),\";101\"),IF(AH699=\"\",O699+1,AH699)))","v":601102},null,5796]
[{"$f":"O700*100+P700","v":601102},5795,"与云枝对话",{"$f":"IF(E700=\"\",\"\",IF(E700=E699,D699,MAX(AI699,AI698,B700)+1))","v":""},{"$nulls":5},121,{"$f":"IF(J700=\"\",\"\",VLOOKUP(J700,EventNPC!A:E,5,FALSE))","v":"云枝"},{"$f":"IF(M700=\"\",\"\",MAX(AI699,AI698,B700,D700)+1)","v":5797},"（冷冷注视，袖子微动）“外人，你又回来作甚？北海风大，妹妹刚和你玩闹，就别再纠缠。速速离去。”",null,6011,2,{"$f":"_xlfn.TEXTJOIN(\";\",1,R700:S700)","v":""},null,null,{"$f":"IF(R700=\"\",\"\",\"-\"&VLOOKUP(R700,EventConditionConfig!A:C,3,FALSE)&IF(S700=\"\",\"\",CHAR(10)&\"-\"&VLOOKUP(S700,EventConditionConfig!A:C,3,FALSE)))","v":""},{"$f":"IF(Y700=\"\",\"\",IF(ISTEXT(Y700),1,2))","v":1},{"$f":"IF(U700=1,_xlfn.TEXTJOIN(\";\",1,IF(Z700=\"\",A700+1,Z700),IF(AND(AA700<>\"\",AC700=\"\"),A700+1,AC700)),IF(U700=2,Y700,\"\"))","v":"601103"},{"$f":"_xlfn.TEXTJOIN(\";\",1,X700,AA700)","v":"5798"},{"$f":"IF(OR(ISNUMBER(Y700),Y700=\"\"),\"\",MAX(AI699,AI698,B700,D700,L700)+1)","v":5798},"我只是想再见雀灵儿一面。",null,"",{"$nulls":4},{"$f":"IF(A700=\"\",\"\",IF(ISNUMBER(Y700),2,IF(A701=\"\",IF(OR(AH700>0,VLOOKUP(O700,EventConfig!A:C,3,FALSE)=4),3,\"\"),1)))","v":1},{"$f":"IF(AF700=\"\",\"\",CHOOSE(AF700,IF(AH700=\"\",A700+1,AH700),CONCATENATE(IF(AH700=\"\",A700+1,AH700),\";101\"),IF(AH700=\"\",O700+1,AH700)))","v":601103},null,5798]
[{"$f":"O701*100+P701","v":601103},5795,"与云枝对话",{"$f":"IF(E701=\"\",\"\",IF(E701=E700,D700,MAX(AI700,AI699,B701)+1))","v":""},{"$nulls":5},121,{"$f":"IF(J701=\"\",\"\",VLOOKUP(J701,EventNPC!A:E,5,FALSE))","v":"云枝"},{"$f":"IF(M701=\"\",\"\",MAX(AI700,AI699,B701,D701)+1)","v":5799},"（眼神稍缓，但仍警惕）雀灵儿天真，你莫要带她冒险。",null,6011,3,{"$f":"_xlfn.TEXTJOIN(\";\",1,R701:S701)","v":""},null,null,{"$f":"IF(R701=\"\",\"\",\"-\"&VLOOKUP(R701,EventConditionConfig!A:C,3,FALSE)&IF(S701=\"\",\"\",CHAR(10)&\"-\"&VLOOKUP(S701,EventConditionConfig!A:C,3,FALSE)))","v":""},{"$f":"IF(Y701=\"\",\"\",IF(ISTEXT(Y701),1,2))","v":""},{"$f":"IF(U701=1,_xlfn.TEXTJOIN(\";\",1,IF(Z701=\"\",A701+1,Z701),IF(AND(AA701<>\"\",AC701=\"\"),A701+1,AC701)),IF(U701=2,Y701,\"\"))","v":""},{"$f":"_xlfn.TEXTJOIN(\";\",1,X701,AA701)","v":""},{"$f":"IF(OR(ISNUMBER(Y701),Y701=\"\"),\"\",MAX(AI700,AI699,B701,D701,L701)+1)","v":""},null,null,"",{"$nulls":4},{"$f":"IF(A701=\"\",\"\",IF(ISNUMBER(Y701),2,IF(A702=\"\",IF(OR(AH701>0,VLOOKUP(O701,EventConfig!A:C,3,FALSE)=4),3,\"\"),1)))","v":1},{"$f":"IF(AF701=\"\",\"\",CHOOSE(AF701,IF(AH701=\"\",A701+1,AH701),CONCATENATE(IF(AH701=\"\",A701+1,AH701),\";101\"),IF(AH701=\"\",O701+1,AH701)))","v":601104},null,5799]
[{"$f":"O702*100+P702","v":601104},5795,"与云枝对话",{"$f":"IF(E702=\"\",\"\",IF(E702=E701,D701,MAX(AI701,AI700,B702)+1))","v":""},{"$nulls":5},121,{"$f":"IF(J702=\"\",\"\",VLOOKUP(J702,EventNPC!A:E,5,FALSE))","v":"云枝"},{"$f":"IF(M702=\"\",\"\",MAX(AI701,AI700,B702,D702)+1)","v":5800},"北海风卷走太多东西……若你无事可做，帮我守一守树林边缘，看看有没有妖兽靠近。",null,6011,4,{"$f":"_xlfn.TEXTJOIN(\";\",1,R702:S702)","v":""},null,null,{"$f":"IF(R702=\"\",\"\",\"-\"&VLOOKUP(R702,EventConditionConfig!A:C,3,FALSE)&IF(S702=\"\",\"\",CHAR(10)&\"-\"&VLOOKUP(S702,EventConditionConfig!A:C,3,FALSE)))","v":""},{"$f":"IF(Y702=\"\",\"\",IF(ISTEXT(Y702),1,2))","v":1},{"$f":"IF(U702=1,_xlfn.TEXTJOIN(\";\",1,IF(Z702=\"\",A702+1,Z702),IF(AND(AA702<>\"\",AC702=\"\"),A702+1,AC702)),IF(U702=2,Y702,\"\"))","v":"601105"},{"$f":"_xlfn.TEXTJOIN(\";\",1,X702,AA702)","v":"5801"},{"$f":"IF(OR(ISNUMBER(Y702),Y702=\"\"),\"\",MAX(AI701,AI700,B702,D702,L702)+1)","v":5801},"好，我去巡查。",null,"",{"$nulls":4},{"$f":"IF(A702=\"\",\"\",IF(ISNUMBER(Y702),2,IF(A703=\"\",IF(OR(AH702>0,VLOOKUP(O702,EventConfig!A:C,3,FALSE)=4),3,\"\"),1)))","v":1},{"$f":"IF(AF702=\"\",\"\",CHOOSE(AF702,IF(AH702=\"\",A702+1,AH702),CONCATENATE(IF(AH702=\"\",A702+1,AH702),\";101\"),IF(AH702=\"\",O702+1,AH702)))","v":601105},null,5801]
[{"$f":"O703*100+P703","v":601105},5795,"与云枝对话",{"$f":"IF(E703=\"\",\"\",IF(E703=E702,D702,MAX(AI702,AI701,B703)+1))","v":""},{"$nulls":5},121,{"$f":"IF(J703=\"\",\"\",VLOOKUP(J703,EventNPC!A:E,5,FALSE))","v":"云枝"},{"$f":"IF(M703=\"\",\"\",MAX(AI702,AI701,B703,D703)+1)","v":5802},"“哼，算你识相。下次别来打扰。”",null,6011,5,{"$f":"_xlfn.TEXTJOIN(\";\",1,R703:S703)","v":""},null,null,{"$f":"IF(R703=\"\",\"\",\"-\"&VLOOKUP(R703,EventConditionConfig!A:C,3,FALSE)&IF(S703=\"\",\"\",CHAR(10)&\"-\"&VLOOKUP(S703,EventConditionConfig!A:C,3,FALSE)))","v":""},{"$f":"IF(Y703=\"\",\"\",IF(ISTEXT(Y703),1,2))","v":""},{"$f":"IF(U703=1,_xlfn.TEXTJOIN(\";\",1,IF(Z703=\"\",A703+1,Z703),IF(AND(AA703<>\"\",AC703=\"\"),A703+1,AC703)),IF(U703=2,Y703,\"\"))","v":""},{"$f":"_xlfn.TEXTJOIN(\";\",1,X703,AA703)","v":""},{"$f":"IF(OR(ISNUMBER(Y703),Y703=\"\"),\"\",MAX(AI702,AI701,B703,D703,L703)+1)","v":""},null,null,"",{"$nulls":4},{"$f":"IF(A703=\"\",\"\",IF(ISNUMBER(Y703),2,IF(A704=\"\",IF(OR(AH703>0,VLOOKUP(O703,EventConfig!A:C,3,FALSE)=4),3,\"\"),1)))","v":1},{"$f":"IF(AF703=\"\",\"\",CHOOSE(AF703,IF(AH703=\"\",A703+1,AH703),CONCATENATE(IF(AH703=\"\",A703+1,AH703),\";101\"),IF(AH703=\"\",O703+1,AH703)))","v":601106},null,5802]
[{"$f":"O704*100+P704","v":601106},5803,"击败风妖",{"$f":"IF(E704=\"\",\"\",IF(E704=E703,D703,MAX(AI703,AI702,B704)+1))","v":""},{"$nulls":5},100,{"$f":"IF(J704=\"\",\"\",VLOOKUP(J704,EventNPC!A:E,5,FALSE))","v":"玩家"},{"$f":"IF(M704=\"\",\"\",MAX(AI703,AI702,B704,D704)+1)","v":5804},"(警惕性很强……或许是保护妹妹太紧。)",null,6011,6,{"$f":"_xlfn.TEXTJOIN(\";\",1,R704:S704)","v":""},null,null,{"$f":"IF(R704=\"\",\"\",\"-\"&VLOOKUP(R704,EventConditionConfig!A:C,3,FALSE)&IF(S704=\"\",\"\",CHAR(10)&\"-\"&VLOOKUP(S704,EventConditionConfig!A:C,3,FALSE)))","v":""},{"$f":"IF(Y704=\"\",\"\",IF(ISTEXT(Y704),1,2))","v":""},{"$f":"IF(U704=1,_xlfn.TEXTJOIN(\";\",1,IF(Z704=\"\",A704+1,Z704),IF(AND(AA704<>\"\",AC704=\"\"),A704+1,AC704)),IF(U704=2,Y704,\"\"))","v":""},{"$f":"_xlfn.TEXTJOIN(\";\",1,X704,AA704)","v":""},{"$f":"IF(OR(ISNUMBER(Y704),Y704=\"\"),\"\",MAX(AI703,AI702,B704,D704,L704)+1)","v":""},null,null,"",{"$nulls":4},{"$f":"IF(A704=\"\",\"\",IF(ISNUMBER(Y704),2,IF(A705=\"\",IF(OR(AH704>0,VLOOKUP(O704,EventConfig!A:C,3,FALSE)=4),3,\"\"),1)))","v":1},{"$f":"IF(AF704=\"\",\"\",CHOOSE(AF704,IF(AH704=\"\",A704+1,AH704),CONCATENATE(IF(AH704=\"\",A704+1,AH704),\";101\"),IF(AH704=\"\",O704+1,AH704)))","v":601107},null,5804]
[{"$f":"O705*100+P705","v":601107},5803,"击败风妖",{"$f":"IF(E705=\"\",\"\",IF(E705=E704,D704,MAX(AI704,AI703,B705)+1))","v":""},{"$nulls":5},100,{"$f":"IF(J705=\"\",\"\",VLOOKUP(J705,EventNPC!A:E,5,FALSE))","v":"玩家"},{"$f":"IF(M705=\"\",\"\",MAX(AI704,AI703,B705,D705)+1)","v":5805},"云枝，风妖我清理干净了..\n云枝...人呢？怎么走了…",null,6011,7,{"$f":"_xlfn.TEXTJOIN(\";\",1,R705:S705)","v":"38"},38,null,{"$f":"IF(R705=\"\",\"\",\"-\"&VLOOKUP(R705,EventConditionConfig!A:C,3,FALSE)&IF(S705=\"\",\"\",CHAR(10)&\"-\"&VLOOKUP(S705,EventConditionConfig!A:C,3,FALSE)))","v":"-击败风妖"},{"$f":"IF(Y705=\"\",\"\",IF(ISTEXT(Y705),1,2))","v":""},{"$f":"IF(U705=1,_xlfn.TEXTJOIN(\";\",1,IF(Z705=\"\",A705+1,Z705),IF(AND(AA705<>\"\",AC705=\"\"),A705+1,AC705)),IF(U705=2,Y705,\"\"))","v":""},{"$f":"_xlfn.TEXTJOIN(\";\",1,X705,AA705)","v":""},{"$f":"IF(OR(ISNUMBER(Y705),Y705=\"\"),\"\",MAX(AI704,AI703,B705,D705,L705)+1)","v":""},null,null,"",{"$nulls":4},{"$f":"IF(A705=\"\",\"\",IF(ISNUMBER(Y705),2,IF(A706=\"\",IF(OR(AH705>0,VLOOKUP(O705,EventConfig!A:C,3,FALSE)=4),3,\"\"),1)))","v":""},{"$f":"IF(AF705=\"\",\"\",CHOOSE(AF705,IF(AH705=\"\",A705+1,AH705),CONCATENATE(IF(AH705=\"\",A705+1,AH705),\";101\"),IF(AH705=\"\",O705+1,AH705)))","v":""},null,5805]
[{"$nulls":15},""]
[{"$f":"O707*100+P707","v":601201},{"$f":"IF(C707=\"\",\"\",IF(C707=C706,B706,MAX(AI706,AI705)+1))","v":5806},"击败小风妖",{"$f":"IF(E707=\"\",\"\",IF(E707=E706,D706,MAX(AI706,AI705,B707)+1))","v":""},{"$nulls":6},{"$f":"IF(J707=\"\",\"\",VLOOKUP(J707,EventNPC!A:E,5,FALSE))","v":""},{"$f":"IF(M707=\"\",\"\",MAX(AI706,AI705,B707,D707)+1)","v":5807},"树林边缘风起，云枝现身。\n她绿袍微摆，眼神锐利如风刃，身后古松如守护者般矗立，妖兽啸声时隐时现。",null,6012,1,{"$f":"_xlfn.TEXTJOIN(\";\",1,R707:S707)","v":""},null,null,{"$f":"IF(R707=\"\",\"\",\"-\"&VLOOKUP(R707,EventConditionConfig!A:C,3,FALSE)&IF(S707=\"\",\"\",CHAR(10)&\"-\"&VLOOKUP(S707,EventConditionConfig!A:C,3,FALSE)))","v":""},{"$f":"IF(Y707=\"\",\"\",IF(ISTEXT(Y707),1,2))","v":""},{"$f":"IF(U707=1,_xlfn.TEXTJOIN(\";\",1,IF(Z707=\"\",A707+1,Z707),IF(AND(AA707<>\"\",AC707=\"\"),A707+1,AC707)),IF(U707=2,Y707,\"\"))","v":""},{"$f":"_xlfn.TEXTJOIN(\";\",1,X707,AA707)","v":""},{"$f":"IF(OR(ISNUMBER(Y707),Y707=\"\"),\"\",MAX(AI706,AI705,B707,D707,L707)+1)","v":""},null,null,{"$f":"IF(OR(ISNUMBER(AB707),AB707=\"\"),\"\",X707+1)","v":""},{"$nulls":4},{"$f":"IF(A707=\"\",\"\",IF(ISNUMBER(Y707),2,IF(A708=\"\",IF(OR(AH707>0,VLOOKUP(O707,EventConfig!A:C,3,FALSE)=4),3,\"\"),1)))","v":1},{"$f":"IF(AF707=\"\",\"\",CHOOSE(AF707,IF(AH707=\"\",A707+1,AH707),CONCATENATE(IF(AH707=\"\",A707+1,AH707),\";101\"),IF(AH707=\"\",O707+1,AH707)))","v":601202},null,{"$f":"IF(A707=\"\",\"\",MAX(B707,D707,L707,X707,AA707,AI706,AI705))","v":5807}]
[{"$f":"O708*100+P708","v":601202},{"$f":"IF(C708=\"\",\"\",IF(C708=C707,B707,MAX(AI707,AI706)+1))","v":5806},"击败小风妖",{"$f":"IF(E708=\"\",\"\",IF(E708=E707,D707,MAX(AI707,AI706,B708)+1))","v":""},{"$nulls":5},121,{"$f":"IF(J708=\"\",\"\",VLOOKUP(J708,EventNPC!A:E,5,FALSE))","v":"云枝"},{"$f":"IF(M708=\"\",\"\",MAX(AI707,AI706,B708,D708)+1)","v":5808},"又来找灵儿！？\n那得看你没有这个本事，正好来了几只妖兽，帮我赶走它们。”",null,6012,2,{"$f":"_xlfn.TEXTJOIN(\";\",1,R708:S708)","v":""},null,null,{"$f":"IF(R708=\"\",\"\",\"-\"&VLOOKUP(R708,EventConditionConfig!A:C,3,FALSE)&IF(S708=\"\",\"\",CHAR(10)&\"-\"&VLOOKUP(S708,EventConditionConfig!A:C,3,FALSE)))","v":""},{"$f":"IF(Y708=\"\",\"\",IF(ISTEXT(Y708),1,2))","v":1},{"$f":"IF(U708=1,_xlfn.TEXTJOIN(\";\",1,IF(Z708=\"\",A708+1,Z708),IF(AND(AA708<>\"\",AC708=\"\"),A708+1,AC708)),IF(U708=2,Y708,\"\"))","v":"601203;601204"},{"$f":"_xlfn.TEXTJOIN(\";\",1,X708,AA708)","v":"5809;5810"},{"$f":"IF(OR(ISNUMBER(Y708),Y708=\"\"),\"\",MAX(AI707,AI706,B708,D708,L708)+1)","v":5809},"好，我来对付这几只小妖。",{"$f":"A709","v":601203},{"$f":"IF(OR(ISNUMBER(AB708),AB708=\"\"),\"\",X708+1)","v":5810},"让开，我来对付这几只高阶妖兽。",{"$f":"A710","v":601204},null,null,{"$f":"IF(A708=\"\",\"\",IF(ISNUMBER(Y708),2,IF(A709=\"\",IF(OR(AH708>0,VLOOKUP(O708,EventConfig!A:C,3,FALSE)=4),3,\"\"),1)))","v":1},{"$f":"IF(AF708=\"\",\"\",CHOOSE(AF708,IF(AH708=\"\",A708+1,AH708),CONCATENATE(IF(AH708=\"\",A708+1,AH708),\";101\"),IF(AH708=\"\",O708+1,AH708)))","v":601203},null,{"$f":"IF(A708=\"\",\"\",MAX(B708,D708,L708,X708,AA708,AI707,AI706))","v":5810}]
[601203,5806,"击败小风妖","",{"$nulls":5},121,{"$f":"IF(J709=\"\",\"\",VLOOKUP(J709,EventNPC!A:E,5,FALSE))","v":"云枝"},5811,"小心..",null,6012,3,"",null,null,{"$f":"IF(R709=\"\",\"\",\"-\"&VLOOKUP(R709,EventConditionConfig!A:C,3,FALSE)&IF(S709=\"\",\"\",CHAR(10)&\"-\"&VLOOKUP(S709,EventConditionConfig!A:C,3,FALSE)))","v":""},2,3004,"","",3004,null,"",{"$nulls":4},{"$f":"IF(A709=\"\",\"\",IF(ISNUMBER(Y709),2,IF(A710=\"\",IF(OR(AH709>0,VLOOKUP(O709,EventConfig!A:C,3,FALSE)=4),3,\"\"),1)))","v":2},"601205;101",{"$f":"A711","v":601205},5811]
[{"$f":"O710*100+P710","v":601204},{"$f":"IF(C710=\"\",\"\",IF(C710=C709,B709,MAX(AI709,AI708)+1))","v":5806},"击败小风妖",{"$f":"IF(E710=\"\",\"\",IF(E710=E709,D709,MAX(AI709,AI708,B710)+1))","v":""},{"$nulls":5},121,{"$f":"IF(J710=\"\",\"\",VLOOKUP(J710,EventNPC!A:E,5,FALSE))","v":"云枝"},{"$f":"IF(M710=\"\",\"\",MAX(AI709,AI708,B710,D710)+1)","v":5812},"......小心，别逞能，风妖狡猾，别掉以轻心。",null,6012,{"$f":"IF(O710=\"\",\"\",IF(O710=O709,P709+1,1))","v":4},{"$f":"_xlfn.TEXTJOIN(\";\",1,R710:S710)","v":""},null,null,{"$f":"IF(R710=\"\",\"\",\"-\"&VLOOKUP(R710,EventConditionConfig!A:C,3,FALSE)&IF(S710=\"\",\"\",CHAR(10)&\"-\"&VLOOKUP(S710,EventConditionConfig!A:C,3,FALSE)))","v":""},{"$f":"IF(Y710=\"\",\"\",IF(ISTEXT(Y710),1,2))","v":2},{"$f":"IF(U710=1,_xlfn.TEXTJOIN(\";\",1,IF(Z710=\"\",A710+1,Z710),IF(AND(AA710<>\"\",AC710=\"\"),A710+1,AC710)),IF(U710=2,Y710,\"\"))","v":3005},{"$f":"_xlfn.TEXTJOIN(\";\",1,X710,AA710)","v":""},{"$f":"IF(OR(ISNUMBER(Y710),Y710=\"\"),\"\",MAX(AI709,AI708,B710,D710,L710)+1)","v":""},3005,null,{"$f":"IF(OR(ISNUMBER(AB710),AB710=\"\"),\"\",X710+1)","v":""},{"$nulls":4},{"$f":"IF(A710=\"\",\"\",IF(ISNUMBER(Y710),2,IF(A711=\"\",IF(OR(AH710>0,VLOOKUP(O710,EventConfig!A:C,3,FALSE)=4),3,\"\"),1)))","v":2},{"$f":"IF(AF710=\"\",\"\",CHOOSE(AF710,IF(AH710=\"\",A710+1,AH710),CONCATENATE(IF(AH710=\"\",A710+1,AH710),\";101\"),IF(AH710=\"\",O710+1,AH710)))","v":"601205;101"},{"$f":"A711","v":601205},{"$f":"IF(A710=\"\",\"\",MAX(B710,D710,L710,X710,AA710,AI709,AI708))","v":5812}]
[601205,5806,"击败小风妖","",{"$nulls":5},121,{"$f":"IF(J711=\"\",\"\",VLOOKUP(J711,EventNPC!A:E,5,FALSE))","v":"云枝"},5813,"还算有点本事……雀灵儿喜欢玩闹，但我得护她周全。\n我不能让她冒险。你懂吗？",null,6012,5,"",null,null,{"$f":"IF(R711=\"\",\"\",\"-\"&VLOOKUP(R711,EventConditionConfig!A:C,3,FALSE)&IF(S711=\"\",\"\",CHAR(10)&\"-\"&VLOOKUP(S711,EventConditionConfig!A:C,3,FALSE)))","v":""},"","","","",null,null,"",{"$nulls":4},{"$f":"IF(A711=\"\",\"\",IF(ISNUMBER(Y711),2,IF(A712=\"\",IF(OR(AH711>0,VLOOKUP(O711,EventConfig!A:C,3,FALSE)=4),3,\"\"),1)))","v":1},601206,null,5813]
[{"$f":"O712*100+P712","v":601206},{"$f":"IF(C712=\"\",\"\",IF(C712=C711,B711,MAX(AI711,AI710)+1))","v":5806},"击败小风妖",{"$f":"IF(E712=\"\",\"\",IF(E712=E711,D711,MAX(AI711,AI710,B712)+1))","v":""},{"$nulls":5},100,{"$f":"IF(J712=\"\",\"\",VLOOKUP(J712,EventNPC!A:E,5,FALSE))","v":"玩家"},{"$f":"IF(M712=\"\",\"\",MAX(AI711,AI710,B712,D712)+1)","v":5814},"我懂……我会小心。",null,6012,6,{"$f":"_xlfn.TEXTJOIN(\";\",1,R712:S712)","v":""},null,null,{"$f":"IF(R712=\"\",\"\",\"-\"&VLOOKUP(R712,EventConditionConfig!A:C,3,FALSE)&IF(S712=\"\",\"\",CHAR(10)&\"-\"&VLOOKUP(S712,EventConditionConfig!A:C,3,FALSE)))","v":""},{"$f":"IF(Y712=\"\",\"\",IF(ISTEXT(Y712),1,2))","v":""},{"$f":"IF(U712=1,_xlfn.TEXTJOIN(\";\",1,IF(Z712=\"\",A712+1,Z712),IF(AND(AA712<>\"\",AC712=\"\"),A712+1,AC712)),IF(U712=2,Y712,\"\"))","v":""},{"$f":"_xlfn.TEXTJOIN(\";\",1,X712,AA712)","v":""},{"$f":"IF(OR(ISNUMBER(Y712),Y712=\"\"),\"\",MAX(AI711,AI710,B712,D712,L712)+1)","v":""},null,null,{"$f":"IF(OR(ISNUMBER(AB712),AB712=\"\"),\"\",X712+1)","v":""},{"$nulls":4},{"$f":"IF(A712=\"\",\"\",IF(ISNUMBER(Y712),2,IF(A713=\"\",IF(OR(AH712>0,VLOOKUP(O712,EventConfig!A:C,3,FALSE)=4),3,\"\"),1)))","v":1},{"$f":"IF(AF712=\"\",\"\",CHOOSE(AF712,IF(AH712=\"\",A712+1,AH712),CONCATENATE(IF(AH712=\"\",A712+1,AH712),\";101\"),IF(AH712=\"\",O712+1,AH712)))","v":601207},null,{"$f":"IF(A712=\"\",\"\",MAX(B712,D712,L712,X712,AA712,AI711,AI710))","v":5814}]
[601207,5806,"击败小风妖","",{"$nulls":5},121,{"$f":"IF(J713=\"\",\"\",VLOOKUP(J713,EventNPC!A:E,5,FALSE))","v":"云枝"},5815,"哼，灵儿出去了，下次再来吧。",null,6012,7,"",null,null,{"$f":"IF(R713=\"\",\"\",\"-\"&VLOOKUP(R713,EventConditionConfig!A:C,3,FALSE)&IF(S713=\"\",\"\",CHAR(10)&\"-\"&VLOOKUP(S713,EventConditionConfig!A:C,3,FALSE)))","v":""},"","","","",null,null,"",{"$nulls":4},{"$f":"IF(A713=\"\",\"\",IF(ISNUMBER(Y713),2,IF(A714=\"\",IF(OR(AH713>0,VLOOKUP(O713,EventConfig!A:C,3,FALSE)=4),3,\"\"),1)))","v":1},601208,null,5815]
[{"$f":"O714*100+P714","v":601208},{"$f":"IF(C714=\"\",\"\",IF(C714=C713,B713,MAX(AI713,AI712)+1))","v":5806},"击败小风妖",{"$f":"IF(E714=\"\",\"\",IF(E714=E713,D713,MAX(AI713,AI712,B714)+1))","v":""},{"$nulls":5},100,{"$f":"IF(J714=\"\",\"\",VLOOKUP(J714,EventNPC!A:E,5,FALSE))","v":"玩家"},{"$f":"IF(M714=\"\",\"\",MAX(AI713,AI712,B714,D714)+1)","v":5816},"（高冷外表下，是姐姐的温柔，她似乎开始信任我了）",null,6012,8,{"$f":"_xlfn.TEXTJOIN(\";\",1,R714:S714)","v":""},null,null,{"$f":"IF(R714=\"\",\"\",\"-\"&VLOOKUP(R714,EventConditionConfig!A:C,3,FALSE)&IF(S714=\"\",\"\",CHAR(10)&\"-\"&VLOOKUP(S714,EventConditionConfig!A:C,3,FALSE)))","v":""},{"$f":"IF(Y714=\"\",\"\",IF(ISTEXT(Y714),1,2))","v":""},{"$f":"IF(U714=1,_xlfn.TEXTJOIN(\";\",1,IF(Z714=\"\",A714+1,Z714),IF(AND(AA714<>\"\",AC714=\"\"),A714+1,AC714)),IF(U714=2,Y714,\"\"))","v":""},{"$f":"_xlfn.TEXTJOIN(\";\",1,X714,AA714)","v":""},{"$f":"IF(OR(ISNUMBER(Y714),Y714=\"\"),\"\",MAX(AI713,AI712,B714,D714,L714)+1)","v":""},null,null,{"$f":"IF(OR(ISNUMBER(AB714),AB714=\"\"),\"\",X714+1)","v":""},{"$nulls":4},{"$f":"IF(A714=\"\",\"\",IF(ISNUMBER(Y714),2,IF(A715=\"\",IF(OR(AH714>0,VLOOKUP(O714,EventConfig!A:C,3,FALSE)=4),3,\"\"),1)))","v":""},{"$f":"IF(AF714=\"\",\"\",CHOOSE(AF714,IF(AH714=\"\",A714+1,AH714),CONCATENATE(IF(AH714=\"\",A714+1,AH714),\";101\"),IF(AH714=\"\",O714+1,AH714)))","v":""},null,{"$f":"IF(A714=\"\",\"\",MAX(B714,D714,L714,X714,AA714,AI713,AI712))","v":5816}]
[{"$nulls":15},""]
[{"$f":"O716*100+P716","v":601301},{"$f":"IF(C716=\"\",\"\",IF(C716=C715,B715,MAX(AI715,AI714)+1))","v":5817},"协助云枝保护灵草",{"$f":"IF(E716=\"\",\"\",IF(E716=E715,D715,MAX(AI715,AI714,B716)+1))","v":""},{"$nulls":6},{"$f":"IF(J716=\"\",\"\",VLOOKUP(J716,EventNPC!A:E,5,FALSE))","v":""},{"$f":"IF(M716=\"\",\"\",MAX(AI715,AI714,B716,D716)+1)","v":5818},"云枝带你到树林深处，她轻抚琴弦，琴音如风过林，将灵力注入灵草中，助其生长并形成防护光幕。",null,6013,1,{"$f":"_xlfn.TEXTJOIN(\";\",1,R716:S716)","v":""},null,null,{"$f":"IF(R716=\"\",\"\",\"-\"&VLOOKUP(R716,EventConditionConfig!A:C,3,FALSE)&IF(S716=\"\",\"\",CHAR(10)&\"-\"&VLOOKUP(S716,EventConditionConfig!A:C,3,FALSE)))","v":""},{"$f":"IF(Y716=\"\",\"\",IF(ISTEXT(Y716),1,2))","v":""},{"$f":"IF(U716=1,_xlfn.TEXTJOIN(\";\",1,IF(Z716=\"\",A716+1,Z716),IF(AND(AA716<>\"\",AC716=\"\"),A716+1,AC716)),IF(U716=2,Y716,\"\"))","v":""},{"$f":"_xlfn.TEXTJOIN(\";\",1,X716,AA716)","v":""},{"$f":"IF(OR(ISNUMBER(Y716),Y716=\"\"),\"\",MAX(AI715,AI714,B716,D716,L716)+1)","v":""},null,null,{"$f":"IF(OR(ISNUMBER(AB716),AB716=\"\"),\"\",X716+1)","v":""},{"$nulls":4},{"$f":"IF(A716=\"\",\"\",IF(ISNUMBER(Y716),2,IF(A717=\"\",IF(OR(AH716>0,VLOOKUP(O716,EventConfig!A:C,3,FALSE)=4),3,\"\"),1)))","v":1},{"$f":"IF(AF716=\"\",\"\",CHOOSE(AF716,IF(AH716=\"\",A716+1,AH716),CONCATENATE(IF(AH716=\"\",A716+1,AH716),\";101\"),IF(AH716=\"\",O716+1,AH716)))","v":601302},null,{"$f":"IF(A716=\"\",\"\",MAX(B716,D716,L716,X716,AA716,AI715,AI714))","v":5818}]
[{"$f":"O717*100+P717","v":601302},{"$f":"IF(C717=\"\",\"\",IF(C717=C716,B716,MAX(AI716,AI715)+1))","v":5817},"协助云枝保护灵草",{"$f":"IF(E717=\"\",\"\",IF(E717=E716,D716,MAX(AI716,AI715,B717)+1))","v":""},{"$nulls":6},{"$f":"IF(J717=\"\",\"\",VLOOKUP(J717,EventNPC!A:E,5,FALSE))","v":""},{"$f":"IF(M717=\"\",\"\",MAX(AI716,AI715,B717,D717)+1)","v":5819},"但灵草能增强力量，风妖常来偷食，她让你帮忙守护。树林夜色渐深，风啸声中，灵草散发微光，仿佛在诉说北海的秘密。",null,6013,2,{"$f":"_xlfn.TEXTJOIN(\";\",1,R717:S717)","v":""},null,null,{"$f":"IF(R717=\"\",\"\",\"-\"&VLOOKUP(R717,EventConditionConfig!A:C,3,FALSE)&IF(S717=\"\",\"\",CHAR(10)&\"-\"&VLOOKUP(S717,EventConditionConfig!A:C,3,FALSE)))","v":""},{"$f":"IF(Y717=\"\",\"\",IF(ISTEXT(Y717),1,2))","v":""},{"$f":"IF(U717=1,_xlfn.TEXTJOIN(\";\",1,IF(Z717=\"\",A717+1,Z717),IF(AND(AA717<>\"\",AC717=\"\"),A717+1,AC717)),IF(U717=2,Y717,\"\"))","v":""},{"$f":"_xlfn.TEXTJOIN(\";\",1,X717,AA717)","v":""},{"$f":"IF(OR(ISNUMBER(Y717),Y717=\"\"),\"\",MAX(AI716,AI715,B717,D717,L717)+1)","v":""},null,null,{"$f":"IF(OR(ISNUMBER(AB717),AB717=\"\"),\"\",X717+1)","v":""},{"$nulls":4},{"$f":"IF(A717=\"\",\"\",IF(ISNUMBER(Y717),2,IF(A718=\"\",IF(OR(AH717>0,VLOOKUP(O717,EventConfig!A:C,3,FALSE)=4),3,\"\"),1)))","v":1},{"$f":"IF(AF717=\"\",\"\",CHOOSE(AF717,IF(AH717=\"\",A717+1,AH717),CONCATENATE(IF(AH717=\"\",A717+1,AH717),\";101\"),IF(AH717=\"\",O717+1,AH717)))","v":601303},null,{"$f":"IF(A717=\"\",\"\",MAX(B717,D717,L717,X717,AA717,AI716,AI715))","v":5819}]
[{"$f":"O718*100+P718","v":601303},{"$f":"IF(C718=\"\",\"\",IF(C718=C717,B717,MAX(AI717,AI716)+1))","v":5817},"协助云枝保护灵草",{"$f":"IF(E718=\"\",\"\",IF(E718=E717,D717,MAX(AI717,AI716,B718)+1))","v":""},{"$nulls":5},121,{"$f":"IF(J718=\"\",\"\",VLOOKUP(J718,EventNPC!A:E,5,FALSE))","v":"云枝"},{"$f":"IF(M718=\"\",\"\",MAX(AI717,AI716,B718,D718)+1)","v":5820},"（优雅抚琴，声音柔和）看到这片草地了吗？\n经常有妖兽前来偷食，我会用灵力注入琴音，助其生长并防护。\n你在旁协助我，谨防高阶妖兽前来偷袭。",null,6013,3,{"$f":"_xlfn.TEXTJOIN(\";\",1,R718:S718)","v":""},null,null,{"$f":"IF(R718=\"\",\"\",\"-\"&VLOOKUP(R718,EventConditionConfig!A:C,3,FALSE)&IF(S718=\"\",\"\",CHAR(10)&\"-\"&VLOOKUP(S718,EventConditionConfig!A:C,3,FALSE)))","v":""},{"$f":"IF(Y718=\"\",\"\",IF(ISTEXT(Y718),1,2))","v":1},{"$f":"IF(U718=1,_xlfn.TEXTJOIN(\";\",1,IF(Z718=\"\",A718+1,Z718),IF(AND(AA718<>\"\",AC718=\"\"),A718+1,AC718)),IF(U718=2,Y718,\"\"))","v":"601304"},{"$f":"_xlfn.TEXTJOIN(\";\",1,X718,AA718)","v":"5821"},{"$f":"IF(OR(ISNUMBER(Y718),Y718=\"\"),\"\",MAX(AI717,AI716,B718,D718,L718)+1)","v":5821},"这些草看起来普普通通，为何会吸引妖兽？",null,{"$f":"IF(OR(ISNUMBER(AB718),AB718=\"\"),\"\",X718+1)","v":""},{"$nulls":4},{"$f":"IF(A718=\"\",\"\",IF(ISNUMBER(Y718),2,IF(A719=\"\",IF(OR(AH718>0,VLOOKUP(O718,EventConfig!A:C,3,FALSE)=4),3,\"\"),1)))","v":1},{"$f":"IF(AF718=\"\",\"\",CHOOSE(AF718,IF(AH718=\"\",A718+1,AH718),CONCATENATE(IF(AH718=\"\",A718+1,AH718),\";101\"),IF(AH718=\"\",O718+1,AH718)))","v":601304},null,{"$f":"IF(A718=\"\",\"\",MAX(B718,D718,L718,X718,AA718,AI717,AI716))","v":5821}]
[{"$f":"O719*100+P719","v":601304},{"$f":"IF(C719=\"\",\"\",IF(C719=C718,B718,MAX(AI718,AI717)+1))","v":5817},"协助云枝保护灵草",{"$f":"IF(E719=\"\",\"\",IF(E719=E718,D718,MAX(AI718,AI717,B719)+1))","v":""},{"$nulls":5},121,{"$f":"IF(J719=\"\",\"\",VLOOKUP(J719,EventNPC!A:E,5,FALSE))","v":"云枝"},{"$f":"IF(M719=\"\",\"\",MAX(AI718,AI717,B719,D719)+1)","v":5822},"这些草拥有强大的灵力，复用后可增强力量，因此被妖兽盯上。",null,6013,4,{"$f":"_xlfn.TEXTJOIN(\";\",1,R719:S719)","v":""},null,null,{"$f":"IF(R719=\"\",\"\",\"-\"&VLOOKUP(R719,EventConditionConfig!A:C,3,FALSE)&IF(S719=\"\",\"\",CHAR(10)&\"-\"&VLOOKUP(S719,EventConditionConfig!A:C,3,FALSE)))","v":""},{"$f":"IF(Y719=\"\",\"\",IF(ISTEXT(Y719),1,2))","v":1},{"$f":"IF(U719=1,_xlfn.TEXTJOIN(\";\",1,IF(Z719=\"\",A719+1,Z719),IF(AND(AA719<>\"\",AC719=\"\"),A719+1,AC719)),IF(U719=2,Y719,\"\"))","v":"601305"},{"$f":"_xlfn.TEXTJOIN(\";\",1,X719,AA719)","v":"5823"},{"$f":"IF(OR(ISNUMBER(Y719),Y719=\"\"),\"\",MAX(AI718,AI717,B719,D719,L719)+1)","v":5823},"原来如此,我帮你守护灵草。",null,{"$f":"IF(OR(ISNUMBER(AB719),AB719=\"\"),\"\",X719+1)","v":""},{"$nulls":4},{"$f":"IF(A719=\"\",\"\",IF(ISNUMBER(Y719),2,IF(A720=\"\",IF(OR(AH719>0,VLOOKUP(O719,EventConfig!A:C,3,FALSE)=4),3,\"\"),1)))","v":1},{"$f":"IF(AF719=\"\",\"\",CHOOSE(AF719,IF(AH719=\"\",A719+1,AH719),CONCATENATE(IF(AH719=\"\",A719+1,AH719),\";101\"),IF(AH719=\"\",O719+1,AH719)))","v":601305},null,{"$f":"IF(A719=\"\",\"\",MAX(B719,D719,L719,X719,AA719,AI718,AI717))","v":5823}]
[{"$f":"O720*100+P720","v":601305},{"$f":"IF(C720=\"\",\"\",IF(C720=C719,B719,MAX(AI719,AI718)+1))","v":5817},"协助云枝保护灵草",{"$f":"IF(E720=\"\",\"\",IF(E720=E719,D719,MAX(AI719,AI718,B720)+1))","v":""},{"$nulls":5},121,{"$f":"IF(J720=\"\",\"\",VLOOKUP(J720,EventNPC!A:E,5,FALSE))","v":"云枝"},{"$f":"IF(M720=\"\",\"\",MAX(AI719,AI718,B720,D720)+1)","v":5824},"嗯，谢谢",null,6013,5,{"$f":"_xlfn.TEXTJOIN(\";\",1,R720:S720)","v":""},null,null,{"$f":"IF(R720=\"\",\"\",\"-\"&VLOOKUP(R720,EventConditionConfig!A:C,3,FALSE)&IF(S720=\"\",\"\",CHAR(10)&\"-\"&VLOOKUP(S720,EventConditionConfig!A:C,3,FALSE)))","v":""},{"$f":"IF(Y720=\"\",\"\",IF(ISTEXT(Y720),1,2))","v":""},{"$f":"IF(U720=1,_xlfn.TEXTJOIN(\";\",1,IF(Z720=\"\",A720+1,Z720),IF(AND(AA720<>\"\",AC720=\"\"),A720+1,AC720)),IF(U720=2,Y720,\"\"))","v":""},{"$f":"_xlfn.TEXTJOIN(\";\",1,X720,AA720)","v":""},{"$f":"IF(OR(ISNUMBER(Y720),Y720=\"\"),\"\",MAX(AI719,AI718,B720,D720,L720)+1)","v":""},null,null,{"$f":"IF(OR(ISNUMBER(AB720),AB720=\"\"),\"\",X720+1)","v":""},{"$nulls":4},{"$f":"IF(A720=\"\",\"\",IF(ISNUMBER(Y720),2,IF(A721=\"\",IF(OR(AH720>0,VLOOKUP(O720,EventConfig!A:C,3,FALSE)=4),3,\"\"),1)))","v":1},{"$f":"IF(AF720=\"\",\"\",CHOOSE(AF720,IF(AH720=\"\",A720+1,AH720),CONCATENATE(IF(AH720=\"\",A720+1,AH720),\";101\"),IF(AH720=\"\",O720+1,AH720)))","v":601306},null,{"$f":"IF(A720=\"\",\"\",MAX(B720,D720,L720,X720,AA720,AI719,AI718))","v":5824}]
[{"$f":"O721*100+P721","v":601306},{"$f":"IF(C721=\"\",\"\",IF(C721=C720,B720,MAX(AI720,AI719)+1))","v":5817},"协助云枝保护灵草",{"$f":"IF(E721=\"\",\"\",IF(E721=E720,D720,MAX(AI720,AI719,B721)+1))","v":""},{"$nulls":5},121,{"$f":"IF(J721=\"\",\"\",VLOOKUP(J721,EventNPC!A:E,5,FALSE))","v":"云枝"},{"$f":"IF(M721=\"\",\"\",MAX(AI720,AI719,B721,D721)+1)","v":5825},"风妖来了！它们冲着灵草而来，我的琴音能弱化它们，你快打。",null,6013,6,{"$f":"_xlfn.TEXTJOIN(\";\",1,R721:S721)","v":""},null,null,{"$f":"IF(R721=\"\",\"\",\"-\"&VLOOKUP(R721,EventConditionConfig!A:C,3,FALSE)&IF(S721=\"\",\"\",CHAR(10)&\"-\"&VLOOKUP(S721,EventConditionConfig!A:C,3,FALSE)))","v":""},{"$f":"IF(Y721=\"\",\"\",IF(ISTEXT(Y721),1,2))","v":2},{"$f":"IF(U721=1,_xlfn.TEXTJOIN(\";\",1,IF(Z721=\"\",A721+1,Z721),IF(AND(AA721<>\"\",AC721=\"\"),A721+1,AC721)),IF(U721=2,Y721,\"\"))","v":3006},{"$f":"_xlfn.TEXTJOIN(\";\",1,X721,AA721)","v":""},{"$f":"IF(OR(ISNUMBER(Y721),Y721=\"\"),\"\",MAX(AI720,AI719,B721,D721,L721)+1)","v":""},3006,null,{"$f":"IF(OR(ISNUMBER(AB721),AB721=\"\"),\"\",X721+1)","v":""},{"$nulls":4},{"$f":"IF(A721=\"\",\"\",IF(ISNUMBER(Y721),2,IF(A722=\"\",IF(OR(AH721>0,VLOOKUP(O721,EventConfig!A:C,3,FALSE)=4),3,\"\"),1)))","v":2},{"$f":"IF(AF721=\"\",\"\",CHOOSE(AF721,IF(AH721=\"\",A721+1,AH721),CONCATENATE(IF(AH721=\"\",A721+1,AH721),\";101\"),IF(AH721=\"\",O721+1,AH721)))","v":"601307;101"},null,{"$f":"IF(A721=\"\",\"\",MAX(B721,D721,L721,X721,AA721,AI720,AI719))","v":5825}]
[{"$f":"O722*100+P722","v":601307},{"$f":"IF(C722=\"\",\"\",IF(C722=C721,B721,MAX(AI721,AI720)+1))","v":5817},"协助云枝保护灵草",{"$f":"IF(E722=\"\",\"\",IF(E722=E721,D721,MAX(AI721,AI720,B722)+1))","v":""},{"$nulls":5},121,{"$f":"IF(J722=\"\",\"\",VLOOKUP(J722,EventNPC!A:E,5,FALSE))","v":"云枝"},{"$f":"IF(M722=\"\",\"\",MAX(AI721,AI720,B722,D722)+1)","v":5826},"好……灵草安全了些。平时我一人守这儿，琴音能驱邪，但风大时总力不从心。\n你……为什么愿意帮我？",null,6013,7,{"$f":"_xlfn.TEXTJOIN(\";\",1,R722:S722)","v":""},null,null,{"$f":"IF(R722=\"\",\"\",\"-\"&VLOOKUP(R722,EventConditionConfig!A:C,3,FALSE)&IF(S722=\"\",\"\",CHAR(10)&\"-\"&VLOOKUP(S722,EventConditionConfig!A:C,3,FALSE)))","v":""},{"$f":"IF(Y722=\"\",\"\",IF(ISTEXT(Y722),1,2))","v":1},{"$f":"IF(U722=1,_xlfn.TEXTJOIN(\";\",1,IF(Z722=\"\",A722+1,Z722),IF(AND(AA722<>\"\",AC722=\"\"),A722+1,AC722)),IF(U722=2,Y722,\"\"))","v":"601308"},{"$f":"_xlfn.TEXTJOIN(\";\",1,X722,AA722)","v":"5827"},{"$f":"IF(OR(ISNUMBER(Y722),Y722=\"\"),\"\",MAX(AI721,AI720,B722,D722,L722)+1)","v":5827},"因为雀灵儿，也因为这树林值得守护。",null,{"$f":"IF(OR(ISNUMBER(AB722),AB722=\"\"),\"\",X722+1)","v":""},{"$nulls":4},{"$f":"IF(A722=\"\",\"\",IF(ISNUMBER(Y722),2,IF(A723=\"\",IF(OR(AH722>0,VLOOKUP(O722,EventConfig!A:C,3,FALSE)=4),3,\"\"),1)))","v":1},{"$f":"IF(AF722=\"\",\"\",CHOOSE(AF722,IF(AH722=\"\",A722+1,AH722),CONCATENATE(IF(AH722=\"\",A722+1,AH722),\";101\"),IF(AH722=\"\",O722+1,AH722)))","v":601308},null,{"$f":"IF(A722=\"\",\"\",MAX(B722,D722,L722,X722,AA722,AI721,AI720))","v":5827}]
[{"$f":"O723*100+P723","v":601308},{"$f":"IF(C723=\"\",\"\",IF(C723=C722,B722,MAX(AI722,AI721)+1))","v":5817},"协助云枝保护灵草",{"$f":"IF(E723=\"\",\"\",IF(E723=E722,D722,MAX(AI722,AI721,B723)+1))","v":""},{"$nulls":5},121,{"$f":"IF(J723=\"\",\"\",VLOOKUP(J723,EventNPC!A:E,5,FALSE))","v":"云枝"},{"$f":"IF(M723=\"\",\"\",MAX(AI722,AI721,B723,D723)+1)","v":5828},"（低声）雀灵儿天真，你懂守护……\n或许这是好最好安排..\n（欲言又止）",null,6013,8,{"$f":"_xlfn.TEXTJOIN(\";\",1,R723:S723)","v":""},null,null,{"$f":"IF(R723=\"\",\"\",\"-\"&VLOOKUP(R723,EventConditionConfig!A:C,3,FALSE)&IF(S723=\"\",\"\",CHAR(10)&\"-\"&VLOOKUP(S723,EventConditionConfig!A:C,3,FALSE)))","v":""},{"$f":"IF(Y723=\"\",\"\",IF(ISTEXT(Y723),1,2))","v":1},{"$f":"IF(U723=1,_xlfn.TEXTJOIN(\";\",1,IF(Z723=\"\",A723+1,Z723),IF(AND(AA723<>\"\",AC723=\"\"),A723+1,AC723)),IF(U723=2,Y723,\"\"))","v":"601309"},{"$f":"_xlfn.TEXTJOIN(\";\",1,X723,AA723)","v":"5829"},{"$f":"IF(OR(ISNUMBER(Y723),Y723=\"\"),\"\",MAX(AI722,AI721,B723,D723,L723)+1)","v":5829},"能守护你，我也很开心",null,{"$f":"IF(OR(ISNUMBER(AB723),AB723=\"\"),\"\",X723+1)","v":""},{"$nulls":4},{"$f":"IF(A723=\"\",\"\",IF(ISNUMBER(Y723),2,IF(A724=\"\",IF(OR(AH723>0,VLOOKUP(O723,EventConfig!A:C,3,FALSE)=4),3,\"\"),1)))","v":1},{"$f":"IF(AF723=\"\",\"\",CHOOSE(AF723,IF(AH723=\"\",A723+1,AH723),CONCATENATE(IF(AH723=\"\",A723+1,AH723),\";101\"),IF(AH723=\"\",O723+1,AH723)))","v":601309},null,{"$f":"IF(A723=\"\",\"\",MAX(B723,D723,L723,X723,AA723,AI722,AI721))","v":5829}]
[{"$f":"O724*100+P724","v":601309},{"$f":"IF(C724=\"\",\"\",IF(C724=C723,B723,MAX(AI723,AI722)+1))","v":5817},"协助云枝保护灵草",{"$f":"IF(E724=\"\",\"\",IF(E724=E723,D723,MAX(AI723,AI722,B724)+1))","v":""},{"$nulls":5},121,{"$f":"IF(J724=\"\",\"\",VLOOKUP(J724,EventNPC!A:E,5,FALSE))","v":"云枝"},{"$f":"IF(M724=\"\",\"\",MAX(AI723,AI722,B724,D724)+1)","v":5830},"（低头去摘灵草）这几株灵草给你，能增强你的力量。",null,6013,9,{"$f":"_xlfn.TEXTJOIN(\";\",1,R724:S724)","v":""},null,null,{"$f":"IF(R724=\"\",\"\",\"-\"&VLOOKUP(R724,EventConditionConfig!A:C,3,FALSE)&IF(S724=\"\",\"\",CHAR(10)&\"-\"&VLOOKUP(S724,EventConditionConfig!A:C,3,FALSE)))","v":""},{"$f":"IF(Y724=\"\",\"\",IF(ISTEXT(Y724),1,2))","v":""},{"$f":"IF(U724=1,_xlfn.TEXTJOIN(\";\",1,IF(Z724=\"\",A724+1,Z724),IF(AND(AA724<>\"\",AC724=\"\"),A724+1,AC724)),IF(U724=2,Y724,\"\"))","v":""},{"$f":"_xlfn.TEXTJOIN(\";\",1,X724,AA724)","v":""},{"$f":"IF(OR(ISNUMBER(Y724),Y724=\"\"),\"\",MAX(AI723,AI722,B724,D724,L724)+1)","v":""},null,null,{"$f":"IF(OR(ISNUMBER(AB724),AB724=\"\"),\"\",X724+1)","v":""},{"$nulls":4},{"$f":"IF(A724=\"\",\"\",IF(ISNUMBER(Y724),2,IF(A725=\"\",IF(OR(AH724>0,VLOOKUP(O724,EventConfig!A:C,3,FALSE)=4),3,\"\"),1)))","v":1},{"$f":"IF(AF724=\"\",\"\",CHOOSE(AF724,IF(AH724=\"\",A724+1,AH724),CONCATENATE(IF(AH724=\"\",A724+1,AH724),\";101\"),IF(AH724=\"\",O724+1,AH724)))","v":601310},null,{"$f":"IF(A724=\"\",\"\",MAX(B724,D724,L724,X724,AA724,AI723,AI722))","v":5830}]
[{"$f":"O725*100+P725","v":601310},{"$f":"IF(C725=\"\",\"\",IF(C725=C724,B724,MAX(AI724,AI723)+1))","v":5817},"协助云枝保护灵草",{"$f":"IF(E725=\"\",\"\",IF(E725=E724,D724,MAX(AI724,AI723,B725)+1))","v":""},{"$nulls":5},121,{"$f":"IF(J725=\"\",\"\",VLOOKUP(J725,EventNPC!A:E,5,FALSE))","v":"云枝"},{"$f":"IF(M725=\"\",\"\",MAX(AI724,AI723,B725,D725)+1)","v":5831},"多谢云枝。\n（高冷姐姐，也有柔软一面）",null,6013,10,{"$f":"_xlfn.TEXTJOIN(\";\",1,R725:S725)","v":""},null,null,{"$f":"IF(R725=\"\",\"\",\"-\"&VLOOKUP(R725,EventConditionConfig!A:C,3,FALSE)&IF(S725=\"\",\"\",CHAR(10)&\"-\"&VLOOKUP(S725,EventConditionConfig!A:C,3,FALSE)))","v":""},{"$f":"IF(Y725=\"\",\"\",IF(ISTEXT(Y725),1,2))","v":""},{"$f":"IF(U725=1,_xlfn.TEXTJOIN(\";\",1,IF(Z725=\"\",A725+1,Z725),IF(AND(AA725<>\"\",AC725=\"\"),A725+1,AC725)),IF(U725=2,Y725,\"\"))","v":""},{"$f":"_xlfn.TEXTJOIN(\";\",1,X725,AA725)","v":""},{"$f":"IF(OR(ISNUMBER(Y725),Y725=\"\"),\"\",MAX(AI724,AI723,B725,D725,L725)+1)","v":""},null,null,{"$f":"IF(OR(ISNUMBER(AB725),AB725=\"\"),\"\",X725+1)","v":""},{"$nulls":4},{"$f":"IF(A725=\"\",\"\",IF(ISNUMBER(Y725),2,IF(A726=\"\",IF(OR(AH725>0,VLOOKUP(O725,EventConfig!A:C,3,FALSE)=4),3,\"\"),1)))","v":""},{"$f":"IF(AF725=\"\",\"\",CHOOSE(AF725,IF(AH725=\"\",A725+1,AH725),CONCATENATE(IF(AH725=\"\",A725+1,AH725),\";101\"),IF(AH725=\"\",O725+1,AH725)))","v":""},null,{"$f":"IF(A725=\"\",\"\",MAX(B725,D725,L725,X725,AA725,AI724,AI723))","v":5831}]
[{"$nulls":15},""]
[{"$f":"O727*100+P727","v":601401},{"$f":"IF(C727=\"\",\"\",IF(C727=C726,B726,MAX(AI726,AI725)+1))","v":5832},"云枝的回忆",{"$f":"IF(E727=\"\",\"\",IF(E727=E726,D726,MAX(AI726,AI725,B727)+1))","v":""},{"$nulls":6},{"$f":"IF(J727=\"\",\"\",VLOOKUP(J727,EventNPC!A:E,5,FALSE))","v":""},{"$f":"IF(M727=\"\",\"\",MAX(AI726,AI725,B727,D727)+1)","v":5833},"夜风轻，云枝坐在古松下，眼神遥远。她想你陪她聊聊往事。",null,6014,1,{"$f":"_xlfn.TEXTJOIN(\";\",1,R727:S727)","v":""},null,null,{"$f":"IF(R727=\"\",\"\",\"-\"&VLOOKUP(R727,EventConditionConfig!A:C,3,FALSE)&IF(S727=\"\",\"\",CHAR(10)&\"-\"&VLOOKUP(S727,EventConditionConfig!A:C,3,FALSE)))","v":""},{"$f":"IF(Y727=\"\",\"\",IF(ISTEXT(Y727),1,2))","v":""},{"$f":"IF(U727=1,_xlfn.TEXTJOIN(\";\",1,IF(Z727=\"\",A727+1,Z727),IF(AND(AA727<>\"\",AC727=\"\"),A727+1,AC727)),IF(U727=2,Y727,\"\"))","v":""},{"$f":"_xlfn.TEXTJOIN(\";\",1,X727,AA727)","v":""},{"$f":"IF(OR(ISNUMBER(Y727),Y727=\"\"),\"\",MAX(AI726,AI725,B727,D727,L727)+1)","v":""},null,null,{"$f":"IF(OR(ISNUMBER(AB727),AB727=\"\"),\"\",X727+1)","v":""},{"$nulls":4},{"$f":"IF(A727=\"\",\"\",IF(ISNUMBER(Y727),2,IF(A728=\"\",IF(OR(AH727>0,VLOOKUP(O727,EventConfig!A:C,3,FALSE)=4),3,\"\"),1)))","v":1},{"$f":"IF(AF727=\"\",\"\",CHOOSE(AF727,IF(AH727=\"\",A727+1,AH727),CONCATENATE(IF(AH727=\"\",A727+1,AH727),\";101\"),IF(AH727=\"\",O727+1,AH727)))","v":601402},null,{"$f":"IF(A727=\"\",\"\",MAX(B727,D727,L727,X727,AA727,AI726,AI725))","v":5833}]
[{"$f":"O728*100+P728","v":601402},{"$f":"IF(C728=\"\",\"\",IF(C728=C727,B727,MAX(AI727,AI726)+1))","v":5832},"云枝的回忆",{"$f":"IF(E728=\"\",\"\",IF(E728=E727,D727,MAX(AI727,AI726,B728)+1))","v":""},{"$nulls":5},121,{"$f":"IF(J728=\"\",\"\",VLOOKUP(J728,EventNPC!A:E,5,FALSE))","v":"云枝"},{"$f":"IF(M728=\"\",\"\",MAX(AI727,AI726,B728,D728)+1)","v":5834},"（低声，抚摸树干）北海的大风，卷走了太多……父母走后，我守着雀灵儿，不让她冒险。\n灵儿天真，你莫要带她走我的老路。你云游四方，可曾有后悔之事？",null,6014,2,{"$f":"_xlfn.TEXTJOIN(\";\",1,R728:S728)","v":""},null,null,{"$f":"IF(R728=\"\",\"\",\"-\"&VLOOKUP(R728,EventConditionConfig!A:C,3,FALSE)&IF(S728=\"\",\"\",CHAR(10)&\"-\"&VLOOKUP(S728,EventConditionConfig!A:C,3,FALSE)))","v":""},{"$f":"IF(Y728=\"\",\"\",IF(ISTEXT(Y728),1,2))","v":1},{"$f":"IF(U728=1,_xlfn.TEXTJOIN(\";\",1,IF(Z728=\"\",A728+1,Z728),IF(AND(AA728<>\"\",AC728=\"\"),A728+1,AC728)),IF(U728=2,Y728,\"\"))","v":"601403"},{"$f":"_xlfn.TEXTJOIN(\";\",1,X728,AA728)","v":"5835"},{"$f":"IF(OR(ISNUMBER(Y728),Y728=\"\"),\"\",MAX(AI727,AI726,B728,D728,L728)+1)","v":5835},"不知道，但每次冒险，都让我离成仙更近。",null,{"$f":"IF(OR(ISNUMBER(AB728),AB728=\"\"),\"\",X728+1)","v":""},{"$nulls":4},{"$f":"IF(A728=\"\",\"\",IF(ISNUMBER(Y728),2,IF(A729=\"\",IF(OR(AH728>0,VLOOKUP(O728,EventConfig!A:C,3,FALSE)=4),3,\"\"),1)))","v":1},{"$f":"IF(AF728=\"\",\"\",CHOOSE(AF728,IF(AH728=\"\",A728+1,AH728),CONCATENATE(IF(AH728=\"\",A728+1,AH728),\";101\"),IF(AH728=\"\",O728+1,AH728)))","v":601403},null,{"$f":"IF(A728=\"\",\"\",MAX(B728,D728,L728,X728,AA728,AI727,AI726))","v":5835}]
[{"$f":"O729*100+P729","v":601403},{"$f":"IF(C729=\"\",\"\",IF(C729=C728,B728,MAX(AI728,AI727)+1))","v":5832},"云枝的回忆",{"$f":"IF(E729=\"\",\"\",IF(E729=E728,D728,MAX(AI728,AI727,B729)+1))","v":""},{"$nulls":5},121,{"$f":"IF(J729=\"\",\"\",VLOOKUP(J729,EventNPC!A:E,5,FALSE))","v":"云枝"},{"$f":"IF(M729=\"\",\"\",MAX(AI728,AI727,B729,D729)+1)","v":5836},"（眼神柔和）成仙吗？我没想过……\n小的时候我父母还在，我们一家在北海飞来飞去。",null,6014,3,{"$f":"_xlfn.TEXTJOIN(\";\",1,R729:S729)","v":""},null,null,{"$f":"IF(R729=\"\",\"\",\"-\"&VLOOKUP(R729,EventConditionConfig!A:C,3,FALSE)&IF(S729=\"\",\"\",CHAR(10)&\"-\"&VLOOKUP(S729,EventConditionConfig!A:C,3,FALSE)))","v":""},{"$f":"IF(Y729=\"\",\"\",IF(ISTEXT(Y729),1,2))","v":""},{"$f":"IF(U729=1,_xlfn.TEXTJOIN(\";\",1,IF(Z729=\"\",A729+1,Z729),IF(AND(AA729<>\"\",AC729=\"\"),A729+1,AC729)),IF(U729=2,Y729,\"\"))","v":""},{"$f":"_xlfn.TEXTJOIN(\";\",1,X729,AA729)","v":""},{"$f":"IF(OR(ISNUMBER(Y729),Y729=\"\"),\"\",MAX(AI728,AI727,B729,D729,L729)+1)","v":""},null,null,{"$f":"IF(OR(ISNUMBER(AB729),AB729=\"\"),\"\",X729+1)","v":""},{"$nulls":4},{"$f":"IF(A729=\"\",\"\",IF(ISNUMBER(Y729),2,IF(A730=\"\",IF(OR(AH729>0,VLOOKUP(O729,EventConfig!A:C,3,FALSE)=4),3,\"\"),1)))","v":1},{"$f":"IF(AF729=\"\",\"\",CHOOSE(AF729,IF(AH729=\"\",A729+1,AH729),CONCATENATE(IF(AH729=\"\",A729+1,AH729),\";101\"),IF(AH729=\"\",O729+1,AH729)))","v":601404},null,{"$f":"IF(A729=\"\",\"\",MAX(B729,D729,L729,X729,AA729,AI728,AI727))","v":5836}]
[{"$f":"O730*100+P730","v":601404},{"$f":"IF(C730=\"\",\"\",IF(C730=C729,B729,MAX(AI729,AI728)+1))","v":5832},"云枝的回忆",{"$f":"IF(E730=\"\",\"\",IF(E730=E729,D729,MAX(AI729,AI728,B730)+1))","v":""},{"$nulls":5},121,{"$f":"IF(J730=\"\",\"\",VLOOKUP(J730,EventNPC!A:E,5,FALSE))","v":"云枝"},{"$f":"IF(M730=\"\",\"\",MAX(AI729,AI728,B730,D730)+1)","v":5837},"父亲教我御风，母亲弹琴驱妖。风大时，他们总笑说“借风飞远”，北海就是我们的游乐场。",null,6014,4,{"$f":"_xlfn.TEXTJOIN(\";\",1,R730:S730)","v":""},null,null,{"$f":"IF(R730=\"\",\"\",\"-\"&VLOOKUP(R730,EventConditionConfig!A:C,3,FALSE)&IF(S730=\"\",\"\",CHAR(10)&\"-\"&VLOOKUP(S730,EventConditionConfig!A:C,3,FALSE)))","v":""},{"$f":"IF(Y730=\"\",\"\",IF(ISTEXT(Y730),1,2))","v":""},{"$f":"IF(U730=1,_xlfn.TEXTJOIN(\";\",1,IF(Z730=\"\",A730+1,Z730),IF(AND(AA730<>\"\",AC730=\"\"),A730+1,AC730)),IF(U730=2,Y730,\"\"))","v":""},{"$f":"_xlfn.TEXTJOIN(\";\",1,X730,AA730)","v":""},{"$f":"IF(OR(ISNUMBER(Y730),Y730=\"\"),\"\",MAX(AI729,AI728,B730,D730,L730)+1)","v":""},null,null,{"$f":"IF(OR(ISNUMBER(AB730),AB730=\"\"),\"\",X730+1)","v":""},{"$nulls":4},{"$f":"IF(A730=\"\",\"\",IF(ISNUMBER(Y730),2,IF(A731=\"\",IF(OR(AH730>0,VLOOKUP(O730,EventConfig!A:C,3,FALSE)=4),3,\"\"),1)))","v":1},{"$f":"IF(AF730=\"\",\"\",CHOOSE(AF730,IF(AH730=\"\",A730+1,AH730),CONCATENATE(IF(AH730=\"\",A730+1,AH730),\";101\"),IF(AH730=\"\",O730+1,AH730)))","v":601405},null,{"$f":"IF(A730=\"\",\"\",MAX(B730,D730,L730,X730,AA730,AI729,AI728))","v":5837}]
[{"$f":"O731*100+P731","v":601405},{"$f":"IF(C731=\"\",\"\",IF(C731=C730,B730,MAX(AI730,AI729)+1))","v":5832},"云枝的回忆",{"$f":"IF(E731=\"\",\"\",IF(E731=E730,D730,MAX(AI730,AI729,B731)+1))","v":""},{"$nulls":5},121,{"$f":"IF(J731=\"\",\"\",VLOOKUP(J731,EventNPC!A:E,5,FALSE))","v":"云枝"},{"$f":"IF(M731=\"\",\"\",MAX(AI730,AI729,B731,D731)+1)","v":5838},"我们常在树林追风玩闹，雀灵儿还小，咯咯笑着抓树叶……",null,6014,5,{"$f":"_xlfn.TEXTJOIN(\";\",1,R731:S731)","v":""},null,null,{"$f":"IF(R731=\"\",\"\",\"-\"&VLOOKUP(R731,EventConditionConfig!A:C,3,FALSE)&IF(S731=\"\",\"\",CHAR(10)&\"-\"&VLOOKUP(S731,EventConditionConfig!A:C,3,FALSE)))","v":""},{"$f":"IF(Y731=\"\",\"\",IF(ISTEXT(Y731),1,2))","v":1},{"$f":"IF(U731=1,_xlfn.TEXTJOIN(\";\",1,IF(Z731=\"\",A731+1,Z731),IF(AND(AA731<>\"\",AC731=\"\"),A731+1,AC731)),IF(U731=2,Y731,\"\"))","v":"601406"},{"$f":"_xlfn.TEXTJOIN(\";\",1,X731,AA731)","v":"5839"},{"$f":"IF(OR(ISNUMBER(Y731),Y731=\"\"),\"\",MAX(AI730,AI729,B731,D731,L731)+1)","v":5839},"听起来很温暖……后来呢？",null,{"$f":"IF(OR(ISNUMBER(AB731),AB731=\"\"),\"\",X731+1)","v":""},{"$nulls":4},{"$f":"IF(A731=\"\",\"\",IF(ISNUMBER(Y731),2,IF(A732=\"\",IF(OR(AH731>0,VLOOKUP(O731,EventConfig!A:C,3,FALSE)=4),3,\"\"),1)))","v":1},{"$f":"IF(AF731=\"\",\"\",CHOOSE(AF731,IF(AH731=\"\",A731+1,AH731),CONCATENATE(IF(AH731=\"\",A731+1,AH731),\";101\"),IF(AH731=\"\",O731+1,AH731)))","v":601406},null,{"$f":"IF(A731=\"\",\"\",MAX(B731,D731,L731,X731,AA731,AI730,AI729))","v":5839}]
[601406,5832,"云枝的回忆","",{"$nulls":5},121,{"$f":"IF(J732=\"\",\"\",VLOOKUP(J732,EventNPC!A:E,5,FALSE))","v":"云枝"},5840,"（微微颤声，泪光闪现）后来，一夜大风暴，风卷走他们，只剩我和雀灵儿……从那后，我再不敢飞远，只守树林。",null,6014,6,"",null,null,{"$f":"IF(R732=\"\",\"\",\"-\"&VLOOKUP(R732,EventConditionConfig!A:C,3,FALSE)&IF(S732=\"\",\"\",CHAR(10)&\"-\"&VLOOKUP(S732,EventConditionConfig!A:C,3,FALSE)))","v":""},"","","","",null,null,"",{"$nulls":4},{"$f":"IF(A732=\"\",\"\",IF(ISNUMBER(Y732),2,IF(A733=\"\",IF(OR(AH732>0,VLOOKUP(O732,EventConfig!A:C,3,FALSE)=4),3,\"\"),1)))","v":1},601407,null,5840]
[{"$f":"O733*100+P733","v":601407},{"$f":"IF(C733=\"\",\"\",IF(C733=C732,B732,MAX(AI732,AI731)+1))","v":5832},"云枝的回忆",{"$f":"IF(E733=\"\",\"\",IF(E733=E732,D732,MAX(AI732,AI731,B733)+1))","v":""},{"$nulls":5},121,{"$f":"IF(J733=\"\",\"\",VLOOKUP(J733,EventNPC!A:E,5,FALSE))","v":"云枝"},{"$f":"IF(M733=\"\",\"\",MAX(AI732,AI731,B733,D733)+1)","v":5841},"雀灵儿像小时候的我，天真好奇，总想飞出去。",null,6014,7,{"$f":"_xlfn.TEXTJOIN(\";\",1,R733:S733)","v":""},null,null,{"$f":"IF(R733=\"\",\"\",\"-\"&VLOOKUP(R733,EventConditionConfig!A:C,3,FALSE)&IF(S733=\"\",\"\",CHAR(10)&\"-\"&VLOOKUP(S733,EventConditionConfig!A:C,3,FALSE)))","v":""},{"$f":"IF(Y733=\"\",\"\",IF(ISTEXT(Y733),1,2))","v":""},{"$f":"IF(U733=1,_xlfn.TEXTJOIN(\";\",1,IF(Z733=\"\",A733+1,Z733),IF(AND(AA733<>\"\",AC733=\"\"),A733+1,AC733)),IF(U733=2,Y733,\"\"))","v":""},{"$f":"_xlfn.TEXTJOIN(\";\",1,X733,AA733)","v":""},{"$f":"IF(OR(ISNUMBER(Y733),Y733=\"\"),\"\",MAX(AI732,AI731,B733,D733,L733)+1)","v":""},null,null,{"$f":"IF(OR(ISNUMBER(AB733),AB733=\"\"),\"\",X733+1)","v":""},{"$nulls":4},{"$f":"IF(A733=\"\",\"\",IF(ISNUMBER(Y733),2,IF(A734=\"\",IF(OR(AH733>0,VLOOKUP(O733,EventConfig!A:C,3,FALSE)=4),3,\"\"),1)))","v":1},{"$f":"IF(AF733=\"\",\"\",CHOOSE(AF733,IF(AH733=\"\",A733+1,AH733),CONCATENATE(IF(AH733=\"\",A733+1,AH733),\";101\"),IF(AH733=\"\",O733+1,AH733)))","v":601408},null,{"$f":"IF(A733=\"\",\"\",MAX(B733,D733,L733,X733,AA733,AI732,AI731))","v":5841}]
[{"$f":"O734*100+P734","v":601408},{"$f":"IF(C734=\"\",\"\",IF(C734=C733,B733,MAX(AI733,AI732)+1))","v":5832},"云枝的回忆",{"$f":"IF(E734=\"\",\"\",IF(E734=E733,D733,MAX(AI733,AI732,B734)+1))","v":""},{"$nulls":5},121,{"$f":"IF(J734=\"\",\"\",VLOOKUP(J734,EventNPC!A:E,5,FALSE))","v":"云枝"},{"$f":"IF(M734=\"\",\"\",MAX(AI733,AI732,B734,D734)+1)","v":5842},"但我怕……怕她也像父母那样消失。\n你懂这种怕吗？",null,6014,8,{"$f":"_xlfn.TEXTJOIN(\";\",1,R734:S734)","v":""},null,null,{"$f":"IF(R734=\"\",\"\",\"-\"&VLOOKUP(R734,EventConditionConfig!A:C,3,FALSE)&IF(S734=\"\",\"\",CHAR(10)&\"-\"&VLOOKUP(S734,EventConditionConfig!A:C,3,FALSE)))","v":""},{"$f":"IF(Y734=\"\",\"\",IF(ISTEXT(Y734),1,2))","v":""},{"$f":"IF(U734=1,_xlfn.TEXTJOIN(\";\",1,IF(Z734=\"\",A734+1,Z734),IF(AND(AA734<>\"\",AC734=\"\"),A734+1,AC734)),IF(U734=2,Y734,\"\"))","v":""},{"$f":"_xlfn.TEXTJOIN(\";\",1,X734,AA734)","v":""},{"$f":"IF(OR(ISNUMBER(Y734),Y734=\"\"),\"\",MAX(AI733,AI732,B734,D734,L734)+1)","v":""},null,null,{"$f":"IF(OR(ISNUMBER(AB734),AB734=\"\"),\"\",X734+1)","v":""},{"$nulls":4},{"$f":"IF(A734=\"\",\"\",IF(ISNUMBER(Y734),2,IF(A735=\"\",IF(OR(AH734>0,VLOOKUP(O734,EventConfig!A:C,3,FALSE)=4),3,\"\"),1)))","v":1},{"$f":"IF(AF734=\"\",\"\",CHOOSE(AF734,IF(AH734=\"\",A734+1,AH734),CONCATENATE(IF(AH734=\"\",A734+1,AH734),\";101\"),IF(AH734=\"\",O734+1,AH734)))","v":601409},null,{"$f":"IF(A734=\"\",\"\",MAX(B734,D734,L734,X734,AA734,AI733,AI732))","v":5842}]
[{"$f":"O735*100+P735","v":601409},{"$f":"IF(C735=\"\",\"\",IF(C735=C734,B734,MAX(AI734,AI733)+1))","v":5832},"云枝的回忆",{"$f":"IF(E735=\"\",\"\",IF(E735=E734,D734,MAX(AI734,AI733,B735)+1))","v":""},{"$nulls":5},100,{"$f":"IF(J735=\"\",\"\",VLOOKUP(J735,EventNPC!A:E,5,FALSE))","v":"玩家"},{"$f":"IF(M735=\"\",\"\",MAX(AI734,AI733,B735,D735)+1)","v":5843},"我可能不懂，但我会守护你们。",null,6014,9,{"$f":"_xlfn.TEXTJOIN(\";\",1,R735:S735)","v":""},null,null,{"$f":"IF(R735=\"\",\"\",\"-\"&VLOOKUP(R735,EventConditionConfig!A:C,3,FALSE)&IF(S735=\"\",\"\",CHAR(10)&\"-\"&VLOOKUP(S735,EventConditionConfig!A:C,3,FALSE)))","v":""},{"$f":"IF(Y735=\"\",\"\",IF(ISTEXT(Y735),1,2))","v":""},{"$f":"IF(U735=1,_xlfn.TEXTJOIN(\";\",1,IF(Z735=\"\",A735+1,Z735),IF(AND(AA735<>\"\",AC735=\"\"),A735+1,AC735)),IF(U735=2,Y735,\"\"))","v":""},{"$f":"_xlfn.TEXTJOIN(\";\",1,X735,AA735)","v":""},{"$f":"IF(OR(ISNUMBER(Y735),Y735=\"\"),\"\",MAX(AI734,AI733,B735,D735,L735)+1)","v":""},null,null,{"$f":"IF(OR(ISNUMBER(AB735),AB735=\"\"),\"\",X735+1)","v":""},{"$nulls":4},{"$f":"IF(A735=\"\",\"\",IF(ISNUMBER(Y735),2,IF(A736=\"\",IF(OR(AH735>0,VLOOKUP(O735,EventConfig!A:C,3,FALSE)=4),3,\"\"),1)))","v":1},{"$f":"IF(AF735=\"\",\"\",CHOOSE(AF735,IF(AH735=\"\",A735+1,AH735),CONCATENATE(IF(AH735=\"\",A735+1,AH735),\";101\"),IF(AH735=\"\",O735+1,AH735)))","v":601410},null,{"$f":"IF(A735=\"\",\"\",MAX(B735,D735,L735,X735,AA735,AI734,AI733))","v":5843}]
[601410,5832,"云枝的回忆","",{"$nulls":5},121,{"$f":"IF(J736=\"\",\"\",VLOOKUP(J736,EventNPC!A:E,5,FALSE))","v":"云枝"},5844,"（微笑一瞬，擦泪）谁要你的守护！\n不过还是谢谢你，听我讲怎么多的往事。",null,6014,10,"",null,null,{"$f":"IF(R736=\"\",\"\",\"-\"&VLOOKUP(R736,EventConditionConfig!A:C,3,FALSE)&IF(S736=\"\",\"\",CHAR(10)&\"-\"&VLOOKUP(S736,EventConditionConfig!A:C,3,FALSE)))","v":""},1,"601411","5845",5845,"（……高冷外壳下，是一颗温柔的心。）",null,"",{"$nulls":4},{"$f":"IF(A736=\"\",\"\",IF(ISNUMBER(Y736),2,IF(A737=\"\",IF(OR(AH736>0,VLOOKUP(O736,EventConfig!A:C,3,FALSE)=4),3,\"\"),1)))","v":""},"",null,5845]
[{"$nulls":15},""]
[{"$f":"O738*100+P738","v":601501},{"$f":"IF(C738=\"\",\"\",IF(C738=C737,B737,MAX(AI737,AI736)+1))","v":5846},"帮助云枝击败来袭的妖兽",{"$f":"IF(E738=\"\",\"\",IF(E738=E737,D737,MAX(AI737,AI736,B738)+1))","v":""},{"$nulls":6},{"$f":"IF(J738=\"\",\"\",VLOOKUP(J738,EventNPC!A:E,5,FALSE))","v":""},{"$f":"IF(M738=\"\",\"\",MAX(AI737,AI736,B738,D738)+1)","v":5847},"乱风突袭北海树林，一群风妖借风势来袭，威胁古松小天地。",null,6015,1,{"$f":"_xlfn.TEXTJOIN(\";\",1,R738:S738)","v":""},null,null,{"$f":"IF(R738=\"\",\"\",\"-\"&VLOOKUP(R738,EventConditionConfig!A:C,3,FALSE)&IF(S738=\"\",\"\",CHAR(10)&\"-\"&VLOOKUP(S738,EventConditionConfig!A:C,3,FALSE)))","v":""},{"$f":"IF(Y738=\"\",\"\",IF(ISTEXT(Y738),1,2))","v":""},{"$f":"IF(U738=1,_xlfn.TEXTJOIN(\";\",1,IF(Z738=\"\",A738+1,Z738),IF(AND(AA738<>\"\",AC738=\"\"),A738+1,AC738)),IF(U738=2,Y738,\"\"))","v":""},{"$f":"_xlfn.TEXTJOIN(\";\",1,X738,AA738)","v":""},{"$f":"IF(OR(ISNUMBER(Y738),Y738=\"\"),\"\",MAX(AI737,AI736,B738,D738,L738)+1)","v":""},null,null,{"$f":"IF(OR(ISNUMBER(AB738),AB738=\"\"),\"\",X738+1)","v":""},{"$nulls":4},{"$f":"IF(A738=\"\",\"\",IF(ISNUMBER(Y738),2,IF(A739=\"\",IF(OR(AH738>0,VLOOKUP(O738,EventConfig!A:C,3,FALSE)=4),3,\"\"),1)))","v":1},{"$f":"IF(AF738=\"\",\"\",CHOOSE(AF738,IF(AH738=\"\",A738+1,AH738),CONCATENATE(IF(AH738=\"\",A738+1,AH738),\";101\"),IF(AH738=\"\",O738+1,AH738)))","v":601502},null,{"$f":"IF(A738=\"\",\"\",MAX(B738,D738,L738,X738,AA738,AI737,AI736))","v":5847}]
[{"$f":"O739*100+P739","v":601502},{"$f":"IF(C739=\"\",\"\",IF(C739=C738,B738,MAX(AI738,AI737)+1))","v":5846},"帮助云枝击败来袭的妖兽",{"$f":"IF(E739=\"\",\"\",IF(E739=E738,D738,MAX(AI738,AI737,B739)+1))","v":""},{"$nulls":6},{"$f":"IF(J739=\"\",\"\",VLOOKUP(J739,EventNPC!A:E,5,FALSE))","v":""},{"$f":"IF(M739=\"\",\"\",MAX(AI738,AI737,B739,D739)+1)","v":5848},"云枝护着雀灵儿战斗，但妖兽太多，她焦急向你求助。",null,6015,2,{"$f":"_xlfn.TEXTJOIN(\";\",1,R739:S739)","v":""},null,null,{"$f":"IF(R739=\"\",\"\",\"-\"&VLOOKUP(R739,EventConditionConfig!A:C,3,FALSE)&IF(S739=\"\",\"\",CHAR(10)&\"-\"&VLOOKUP(S739,EventConditionConfig!A:C,3,FALSE)))","v":""},{"$f":"IF(Y739=\"\",\"\",IF(ISTEXT(Y739),1,2))","v":""},{"$f":"IF(U739=1,_xlfn.TEXTJOIN(\";\",1,IF(Z739=\"\",A739+1,Z739),IF(AND(AA739<>\"\",AC739=\"\"),A739+1,AC739)),IF(U739=2,Y739,\"\"))","v":""},{"$f":"_xlfn.TEXTJOIN(\";\",1,X739,AA739)","v":""},{"$f":"IF(OR(ISNUMBER(Y739),Y739=\"\"),\"\",MAX(AI738,AI737,B739,D739,L739)+1)","v":""},null,null,{"$f":"IF(OR(ISNUMBER(AB739),AB739=\"\"),\"\",X739+1)","v":""},{"$nulls":4},{"$f":"IF(A739=\"\",\"\",IF(ISNUMBER(Y739),2,IF(A740=\"\",IF(OR(AH739>0,VLOOKUP(O739,EventConfig!A:C,3,FALSE)=4),3,\"\"),1)))","v":1},{"$f":"IF(AF739=\"\",\"\",CHOOSE(AF739,IF(AH739=\"\",A739+1,AH739),CONCATENATE(IF(AH739=\"\",A739+1,AH739),\";101\"),IF(AH739=\"\",O739+1,AH739)))","v":601503},null,{"$f":"IF(A739=\"\",\"\",MAX(B739,D739,L739,X739,AA739,AI738,AI737))","v":5848}]
[{"$f":"O740*100+P740","v":601503},{"$f":"IF(C740=\"\",\"\",IF(C740=C739,B739,MAX(AI739,AI738)+1))","v":5846},"帮助云枝击败来袭的妖兽",{"$f":"IF(E740=\"\",\"\",IF(E740=E739,D739,MAX(AI739,AI738,B740)+1))","v":""},{"$nulls":6},{"$f":"IF(J740=\"\",\"\",VLOOKUP(J740,EventNPC!A:E,5,FALSE))","v":""},{"$f":"IF(M740=\"\",\"\",MAX(AI739,AI738,B740,D740)+1)","v":5849},"树叶乱飞，妖啸回荡，云枝绿袍在乱风中飘荡，雀灵儿躲在她身后，眼神害怕却坚强。",null,6015,3,{"$f":"_xlfn.TEXTJOIN(\";\",1,R740:S740)","v":""},null,null,{"$f":"IF(R740=\"\",\"\",\"-\"&VLOOKUP(R740,EventConditionConfig!A:C,3,FALSE)&IF(S740=\"\",\"\",CHAR(10)&\"-\"&VLOOKUP(S740,EventConditionConfig!A:C,3,FALSE)))","v":""},{"$f":"IF(Y740=\"\",\"\",IF(ISTEXT(Y740),1,2))","v":""},{"$f":"IF(U740=1,_xlfn.TEXTJOIN(\";\",1,IF(Z740=\"\",A740+1,Z740),IF(AND(AA740<>\"\",AC740=\"\"),A740+1,AC740)),IF(U740=2,Y740,\"\"))","v":""},{"$f":"_xlfn.TEXTJOIN(\";\",1,X740,AA740)","v":""},{"$f":"IF(OR(ISNUMBER(Y740),Y740=\"\"),\"\",MAX(AI739,AI738,B740,D740,L740)+1)","v":""},null,null,{"$f":"IF(OR(ISNUMBER(AB740),AB740=\"\"),\"\",X740+1)","v":""},{"$nulls":4},{"$f":"IF(A740=\"\",\"\",IF(ISNUMBER(Y740),2,IF(A741=\"\",IF(OR(AH740>0,VLOOKUP(O740,EventConfig!A:C,3,FALSE)=4),3,\"\"),1)))","v":1},{"$f":"IF(AF740=\"\",\"\",CHOOSE(AF740,IF(AH740=\"\",A740+1,AH740),CONCATENATE(IF(AH740=\"\",A740+1,AH740),\";101\"),IF(AH740=\"\",O740+1,AH740)))","v":601504},null,{"$f":"IF(A740=\"\",\"\",MAX(B740,D740,L740,X740,AA740,AI739,AI738))","v":5849}]
[{"$f":"O741*100+P741","v":601504},{"$f":"IF(C741=\"\",\"\",IF(C741=C740,B740,MAX(AI740,AI739)+1))","v":5846},"帮助云枝击败来袭的妖兽",{"$f":"IF(E741=\"\",\"\",IF(E741=E740,D740,MAX(AI740,AI739,B741)+1))","v":""},{"$nulls":5},121,{"$f":"IF(J741=\"\",\"\",VLOOKUP(J741,EventNPC!A:E,5,FALSE))","v":"云枝"},{"$f":"IF(M741=\"\",\"\",MAX(AI740,AI739,B741,D741)+1)","v":5850},"（着急，用琴音抵挡妖群）妖群突袭！\n它们借大风群攻，雀灵儿在这里不安全……帮我击退它们，我护着她撤到安全处！",null,6015,4,{"$f":"_xlfn.TEXTJOIN(\";\",1,R741:S741)","v":""},null,null,{"$f":"IF(R741=\"\",\"\",\"-\"&VLOOKUP(R741,EventConditionConfig!A:C,3,FALSE)&IF(S741=\"\",\"\",CHAR(10)&\"-\"&VLOOKUP(S741,EventConditionConfig!A:C,3,FALSE)))","v":""},{"$f":"IF(Y741=\"\",\"\",IF(ISTEXT(Y741),1,2))","v":1},{"$f":"IF(U741=1,_xlfn.TEXTJOIN(\";\",1,IF(Z741=\"\",A741+1,Z741),IF(AND(AA741<>\"\",AC741=\"\"),A741+1,AC741)),IF(U741=2,Y741,\"\"))","v":"601505"},{"$f":"_xlfn.TEXTJOIN(\";\",1,X741,AA741)","v":"5851"},{"$f":"IF(OR(ISNUMBER(Y741),Y741=\"\"),\"\",MAX(AI740,AI739,B741,D741,L741)+1)","v":5851},"好，我们一起守护！",null,{"$f":"IF(OR(ISNUMBER(AB741),AB741=\"\"),\"\",X741+1)","v":""},{"$nulls":4},{"$f":"IF(A741=\"\",\"\",IF(ISNUMBER(Y741),2,IF(A742=\"\",IF(OR(AH741>0,VLOOKUP(O741,EventConfig!A:C,3,FALSE)=4),3,\"\"),1)))","v":1},{"$f":"IF(AF741=\"\",\"\",CHOOSE(AF741,IF(AH741=\"\",A741+1,AH741),CONCATENATE(IF(AH741=\"\",A741+1,AH741),\";101\"),IF(AH741=\"\",O741+1,AH741)))","v":601505},null,{"$f":"IF(A741=\"\",\"\",MAX(B741,D741,L741,X741,AA741,AI740,AI739))","v":5851}]
[{"$f":"O742*100+P742","v":601505},{"$f":"IF(C742=\"\",\"\",IF(C742=C741,B741,MAX(AI741,AI740)+1))","v":5846},"帮助云枝击败来袭的妖兽",{"$f":"IF(E742=\"\",\"\",IF(E742=E741,D741,MAX(AI741,AI740,B742)+1))","v":""},{"$nulls":5},121,{"$f":"IF(J742=\"\",\"\",VLOOKUP(J742,EventNPC!A:E,5,FALSE))","v":"云枝"},{"$f":"IF(M742=\"\",\"\",MAX(AI741,AI740,B742,D742)+1)","v":5852},"（用琴音护住雀灵儿）灵儿，别怕，有姐姐在……一定保护你！！\n妖兽太多，这一群交给我，你看住我身后的妖兽！",null,6015,5,{"$f":"_xlfn.TEXTJOIN(\";\",1,R742:S742)","v":""},null,null,{"$f":"IF(R742=\"\",\"\",\"-\"&VLOOKUP(R742,EventConditionConfig!A:C,3,FALSE)&IF(S742=\"\",\"\",CHAR(10)&\"-\"&VLOOKUP(S742,EventConditionConfig!A:C,3,FALSE)))","v":""},{"$f":"IF(Y742=\"\",\"\",IF(ISTEXT(Y742),1,2))","v":""},{"$f":"IF(U742=1,_xlfn.TEXTJOIN(\";\",1,IF(Z742=\"\",A742+1,Z742),IF(AND(AA742<>\"\",AC742=\"\"),A742+1,AC742)),IF(U742=2,Y742,\"\"))","v":""},{"$f":"_xlfn.TEXTJOIN(\";\",1,X742,AA742)","v":""},{"$f":"IF(OR(ISNUMBER(Y742),Y742=\"\"),\"\",MAX(AI741,AI740,B742,D742,L742)+1)","v":""},null,null,{"$f":"IF(OR(ISNUMBER(AB742),AB742=\"\"),\"\",X742+1)","v":""},{"$nulls":4},{"$f":"IF(A742=\"\",\"\",IF(ISNUMBER(Y742),2,IF(A743=\"\",IF(OR(AH742>0,VLOOKUP(O742,EventConfig!A:C,3,FALSE)=4),3,\"\"),1)))","v":1},{"$f":"IF(AF742=\"\",\"\",CHOOSE(AF742,IF(AH742=\"\",A742+1,AH742),CONCATENATE(IF(AH742=\"\",A742+1,AH742),\";101\"),IF(AH742=\"\",O742+1,AH742)))","v":601506},null,{"$f":"IF(A742=\"\",\"\",MAX(B742,D742,L742,X742,AA742,AI741,AI740))","v":5852}]
[{"$f":"O743*100+P743","v":601506},{"$f":"IF(C743=\"\",\"\",IF(C743=C742,B742,MAX(AI742,AI741)+1))","v":5846},"帮助云枝击败来袭的妖兽",{"$f":"IF(E743=\"\",\"\",IF(E743=E742,D742,MAX(AI742,AI741,B743)+1))","v":""},{"$nulls":5},2,{"$f":"IF(J743=\"\",\"\",VLOOKUP(J743,EventNPC!A:E,5,FALSE))","v":"雀灵儿"},{"$f":"IF(M743=\"\",\"\",MAX(AI742,AI741,B743,D743)+1)","v":5853},"（大声）大傻瓜，快帮姐姐！",null,6015,6,{"$f":"_xlfn.TEXTJOIN(\";\",1,R743:S743)","v":""},null,null,{"$f":"IF(R743=\"\",\"\",\"-\"&VLOOKUP(R743,EventConditionConfig!A:C,3,FALSE)&IF(S743=\"\",\"\",CHAR(10)&\"-\"&VLOOKUP(S743,EventConditionConfig!A:C,3,FALSE)))","v":""},{"$f":"IF(Y743=\"\",\"\",IF(ISTEXT(Y743),1,2))","v":2},{"$f":"IF(U743=1,_xlfn.TEXTJOIN(\";\",1,IF(Z743=\"\",A743+1,Z743),IF(AND(AA743<>\"\",AC743=\"\"),A743+1,AC743)),IF(U743=2,Y743,\"\"))","v":3007},{"$f":"_xlfn.TEXTJOIN(\";\",1,X743,AA743)","v":""},{"$f":"IF(OR(ISNUMBER(Y743),Y743=\"\"),\"\",MAX(AI742,AI741,B743,D743,L743)+1)","v":""},3007,null,{"$f":"IF(OR(ISNUMBER(AB743),AB743=\"\"),\"\",X743+1)","v":""},{"$nulls":4},{"$f":"IF(A743=\"\",\"\",IF(ISNUMBER(Y743),2,IF(A744=\"\",IF(OR(AH743>0,VLOOKUP(O743,EventConfig!A:C,3,FALSE)=4),3,\"\"),1)))","v":2},{"$f":"IF(AF743=\"\",\"\",CHOOSE(AF743,IF(AH743=\"\",A743+1,AH743),CONCATENATE(IF(AH743=\"\",A743+1,AH743),\";101\"),IF(AH743=\"\",O743+1,AH743)))","v":"601507;101"},null,{"$f":"IF(A743=\"\",\"\",MAX(B743,D743,L743,X743,AA743,AI742,AI741))","v":5853}]
[{"$f":"O744*100+P744","v":601507},{"$f":"IF(C744=\"\",\"\",IF(C744=C743,B743,MAX(AI743,AI742)+1))","v":5846},"帮助云枝击败来袭的妖兽",{"$f":"IF(E744=\"\",\"\",IF(E744=E743,D743,MAX(AI743,AI742,B744)+1))","v":""},{"$nulls":5},121,{"$f":"IF(J744=\"\",\"\",VLOOKUP(J744,EventNPC!A:E,5,FALSE))","v":"云枝"},{"$f":"IF(M744=\"\",\"\",MAX(AI743,AI742,B744,D744)+1)","v":5854},"（受伤）小心，这只妖兽灵力极强！",null,6015,7,{"$f":"_xlfn.TEXTJOIN(\";\",1,R744:S744)","v":""},null,null,{"$f":"IF(R744=\"\",\"\",\"-\"&VLOOKUP(R744,EventConditionConfig!A:C,3,FALSE)&IF(S744=\"\",\"\",CHAR(10)&\"-\"&VLOOKUP(S744,EventConditionConfig!A:C,3,FALSE)))","v":""},{"$f":"IF(Y744=\"\",\"\",IF(ISTEXT(Y744),1,2))","v":1},{"$f":"IF(U744=1,_xlfn.TEXTJOIN(\";\",1,IF(Z744=\"\",A744+1,Z744),IF(AND(AA744<>\"\",AC744=\"\"),A744+1,AC744)),IF(U744=2,Y744,\"\"))","v":"601508"},{"$f":"_xlfn.TEXTJOIN(\";\",1,X744,AA744)","v":"5855"},{"$f":"IF(OR(ISNUMBER(Y744),Y744=\"\"),\"\",MAX(AI743,AI742,B744,D744,L744)+1)","v":5855},"你们快走，交给我！",null,{"$f":"IF(OR(ISNUMBER(AB744),AB744=\"\"),\"\",X744+1)","v":""},{"$nulls":4},{"$f":"IF(A744=\"\",\"\",IF(ISNUMBER(Y744),2,IF(A745=\"\",IF(OR(AH744>0,VLOOKUP(O744,EventConfig!A:C,3,FALSE)=4),3,\"\"),1)))","v":1},{"$f":"IF(AF744=\"\",\"\",CHOOSE(AF744,IF(AH744=\"\",A744+1,AH744),CONCATENATE(IF(AH744=\"\",A744+1,AH744),\";101\"),IF(AH744=\"\",O744+1,AH744)))","v":601508},null,{"$f":"IF(A744=\"\",\"\",MAX(B744,D744,L744,X744,AA744,AI743,AI742))","v":5855}]
[{"$f":"O745*100+P745","v":601508},{"$f":"IF(C745=\"\",\"\",IF(C745=C744,B744,MAX(AI744,AI743)+1))","v":5846},"帮助云枝击败来袭的妖兽",{"$f":"IF(E745=\"\",\"\",IF(E745=E744,D744,MAX(AI744,AI743,B745)+1))","v":""},{"$nulls":6},{"$f":"IF(J745=\"\",\"\",VLOOKUP(J745,EventNPC!A:E,5,FALSE))","v":""},{"$f":"IF(M745=\"\",\"\",MAX(AI744,AI743,B745,D745)+1)","v":""},null,null,6015,8,{"$f":"_xlfn.TEXTJOIN(\";\",1,R745:S745)","v":""},null,null,{"$f":"IF(R745=\"\",\"\",\"-\"&VLOOKUP(R745,EventConditionConfig!A:C,3,FALSE)&IF(S745=\"\",\"\",CHAR(10)&\"-\"&VLOOKUP(S745,EventConditionConfig!A:C,3,FALSE)))","v":""},{"$f":"IF(Y745=\"\",\"\",IF(ISTEXT(Y745),1,2))","v":2},{"$f":"IF(U745=1,_xlfn.TEXTJOIN(\";\",1,IF(Z745=\"\",A745+1,Z745),IF(AND(AA745<>\"\",AC745=\"\"),A745+1,AC745)),IF(U745=2,Y745,\"\"))","v":3008},{"$f":"_xlfn.TEXTJOIN(\";\",1,X745,AA745)","v":""},{"$f":"IF(OR(ISNUMBER(Y745),Y745=\"\"),\"\",MAX(AI744,AI743,B745,D745,L745)+1)","v":""},3008,null,{"$f":"IF(OR(ISNUMBER(AB745),AB745=\"\"),\"\",X745+1)","v":""},{"$nulls":4},{"$f":"IF(A745=\"\",\"\",IF(ISNUMBER(Y745),2,IF(A746=\"\",IF(OR(AH745>0,VLOOKUP(O745,EventConfig!A:C,3,FALSE)=4),3,\"\"),1)))","v":2},{"$f":"IF(AF745=\"\",\"\",CHOOSE(AF745,IF(AH745=\"\",A745+1,AH745),CONCATENATE(IF(AH745=\"\",A745+1,AH745),\";101\"),IF(AH745=\"\",O745+1,AH745)))","v":"601509;101"},null,{"$f":"IF(A745=\"\",\"\",MAX(B745,D745,L745,X745,AA745,AI744,AI743))","v":5855}]
[601509,5846,"帮助云枝击败来袭的妖兽","",{"$nulls":5},121,{"$f":"IF(J746=\"\",\"\",VLOOKUP(J746,EventNPC!A:E,5,FALSE))","v":"云枝"},5856,"（喘气，受伤但微笑）谢谢……风势退了，雀灵儿安全了。\n我平时总护她，这次多亏你。\n不进保护了灵儿，还守护了我...或许……",null,6015,9,"",null,null,{"$f":"IF(R746=\"\",\"\",\"-\"&VLOOKUP(R746,EventConditionConfig!A:C,3,FALSE)&IF(S746=\"\",\"\",CHAR(10)&\"-\"&VLOOKUP(S746,EventConditionConfig!A:C,3,FALSE)))","v":""},"","","","",null,null,"",{"$nulls":4},{"$f":"IF(A746=\"\",\"\",IF(ISNUMBER(Y746),2,IF(A747=\"\",IF(OR(AH746>0,VLOOKUP(O746,EventConfig!A:C,3,FALSE)=4),3,\"\"),1)))","v":1},601510,null,5856]
[601510,5846,"帮助云枝击败来袭的妖兽","",{"$nulls":5},2,{"$f":"IF(J747=\"\",\"\",VLOOKUP(J747,EventNPC!A:E,5,FALSE))","v":"雀灵儿"},5857,"（抱云枝）姐姐受伤了……谢谢大傻瓜！",null,6015,10,"",null,null,{"$f":"IF(R747=\"\",\"\",\"-\"&VLOOKUP(R747,EventConditionConfig!A:C,3,FALSE)&IF(S747=\"\",\"\",CHAR(10)&\"-\"&VLOOKUP(S747,EventConditionConfig!A:C,3,FALSE)))","v":""},"","","","",null,null,"",{"$nulls":4},{"$f":"IF(A747=\"\",\"\",IF(ISNUMBER(Y747),2,IF(A748=\"\",IF(OR(AH747>0,VLOOKUP(O747,EventConfig!A:C,3,FALSE)=4),3,\"\"),1)))","v":1},601511,null,5857]
[{"$f":"O748*100+P748","v":601511},{"$f":"IF(C748=\"\",\"\",IF(C748=C747,B747,MAX(AI747,AI746)+1))","v":5846},"帮助云枝击败来袭的妖兽",{"$f":"IF(E748=\"\",\"\",IF(E748=E747,D747,MAX(AI747,AI746,B748)+1))","v":""},{"$nulls":5},100,{"$f":"IF(J748=\"\",\"\",VLOOKUP(J748,EventNPC!A:E,5,FALSE))","v":"玩家"},{"$f":"IF(M748=\"\",\"\",MAX(AI747,AI746,B748,D748)+1)","v":5858},"(云枝...真是一个好女孩，好姐姐）",null,6015,11,{"$f":"_xlfn.TEXTJOIN(\";\",1,R748:S748)","v":""},null,null,{"$f":"IF(R748=\"\",\"\",\"-\"&VLOOKUP(R748,EventConditionConfig!A:C,3,FALSE)&IF(S748=\"\",\"\",CHAR(10)&\"-\"&VLOOKUP(S748,EventConditionConfig!A:C,3,FALSE)))","v":""},{"$f":"IF(Y748=\"\",\"\",IF(ISTEXT(Y748),1,2))","v":""},{"$f":"IF(U748=1,_xlfn.TEXTJOIN(\";\",1,IF(Z748=\"\",A748+1,Z748),IF(AND(AA748<>\"\",AC748=\"\"),A748+1,AC748)),IF(U748=2,Y748,\"\"))","v":""},{"$f":"_xlfn.TEXTJOIN(\";\",1,X748,AA748)","v":""},{"$f":"IF(OR(ISNUMBER(Y748),Y748=\"\"),\"\",MAX(AI747,AI746,B748,D748,L748)+1)","v":""},null,null,{"$f":"IF(OR(ISNUMBER(AB748),AB748=\"\"),\"\",X748+1)","v":""},{"$nulls":4},{"$f":"IF(A748=\"\",\"\",IF(ISNUMBER(Y748),2,IF(A749=\"\",IF(OR(AH748>0,VLOOKUP(O748,EventConfig!A:C,3,FALSE)=4),3,\"\"),1)))","v":""},{"$f":"IF(AF748=\"\",\"\",CHOOSE(AF748,IF(AH748=\"\",A748+1,AH748),CONCATENATE(IF(AH748=\"\",A748+1,AH748),\";101\"),IF(AH748=\"\",O748+1,AH748)))","v":""},null,{"$f":"IF(A748=\"\",\"\",MAX(B748,D748,L748,X748,AA748,AI747,AI746))","v":5858}]
[{"$nulls":15},""]
[{"$f":"O750*100+P750","v":601601},{"$f":"IF(C750=\"\",\"\",IF(C750=C749,B749,MAX(AI749,AI748)+1))","v":5859},"与云枝对话",{"$f":"IF(E750=\"\",\"\",IF(E750=E749,D749,MAX(AI749,AI748,B750)+1))","v":""},{"$nulls":6},{"$f":"IF(J750=\"\",\"\",VLOOKUP(J750,EventNPC!A:E,5,FALSE))","v":""},{"$f":"IF(M750=\"\",\"\",MAX(AI749,AI748,B750,D750)+1)","v":5860},"云枝在古松等你。\n她绿袍轻摆，眼神柔和，不再高冷。\n树林外，云海如画。",null,6016,1,{"$f":"_xlfn.TEXTJOIN(\";\",1,R750:S750)","v":""},null,null,{"$f":"IF(R750=\"\",\"\",\"-\"&VLOOKUP(R750,EventConditionConfig!A:C,3,FALSE)&IF(S750=\"\",\"\",CHAR(10)&\"-\"&VLOOKUP(S750,EventConditionConfig!A:C,3,FALSE)))","v":""},{"$f":"IF(Y750=\"\",\"\",IF(ISTEXT(Y750),1,2))","v":""},{"$f":"IF(U750=1,_xlfn.TEXTJOIN(\";\",1,IF(Z750=\"\",A750+1,Z750),IF(AND(AA750<>\"\",AC750=\"\"),A750+1,AC750)),IF(U750=2,Y750,\"\"))","v":""},{"$f":"_xlfn.TEXTJOIN(\";\",1,X750,AA750)","v":""},{"$f":"IF(OR(ISNUMBER(Y750),Y750=\"\"),\"\",MAX(AI749,AI748,B750,D750,L750)+1)","v":""},null,null,{"$f":"IF(OR(ISNUMBER(AB750),AB750=\"\"),\"\",X750+1)","v":""},{"$nulls":4},{"$f":"IF(A750=\"\",\"\",IF(ISNUMBER(Y750),2,IF(A751=\"\",IF(OR(AH750>0,VLOOKUP(O750,EventConfig!A:C,3,FALSE)=4),3,\"\"),1)))","v":1},{"$f":"IF(AF750=\"\",\"\",CHOOSE(AF750,IF(AH750=\"\",A750+1,AH750),CONCATENATE(IF(AH750=\"\",A750+1,AH750),\";101\"),IF(AH750=\"\",O750+1,AH750)))","v":601602},null,{"$f":"IF(A750=\"\",\"\",MAX(B750,D750,L750,X750,AA750,AI749,AI748))","v":5860}]
[{"$f":"O751*100+P751","v":601602},{"$f":"IF(C751=\"\",\"\",IF(C751=C750,B750,MAX(AI750,AI749)+1))","v":5859},"与云枝对话",{"$f":"IF(E751=\"\",\"\",IF(E751=E750,D750,MAX(AI750,AI749,B751)+1))","v":""},{"$nulls":5},121,{"$f":"IF(J751=\"\",\"\",VLOOKUP(J751,EventNPC!A:E,5,FALSE))","v":"云枝"},{"$f":"IF(M751=\"\",\"\",MAX(AI750,AI749,B751,D751)+1)","v":5861},"（微笑，靠近）“谢谢你帮我守树林、救雀灵儿……北海风不再可怕，我想跟你飞远，守护更大世界……行吗？我们一起？”",null,6016,2,{"$f":"_xlfn.TEXTJOIN(\";\",1,R751:S751)","v":""},null,null,{"$f":"IF(R751=\"\",\"\",\"-\"&VLOOKUP(R751,EventConditionConfig!A:C,3,FALSE)&IF(S751=\"\",\"\",CHAR(10)&\"-\"&VLOOKUP(S751,EventConditionConfig!A:C,3,FALSE)))","v":""},{"$f":"IF(Y751=\"\",\"\",IF(ISTEXT(Y751),1,2))","v":1},{"$f":"IF(U751=1,_xlfn.TEXTJOIN(\";\",1,IF(Z751=\"\",A751+1,Z751),IF(AND(AA751<>\"\",AC751=\"\"),A751+1,AC751)),IF(U751=2,Y751,\"\"))","v":"601603"},{"$f":"_xlfn.TEXTJOIN(\";\",1,X751,AA751)","v":"5862"},{"$f":"IF(OR(ISNUMBER(Y751),Y751=\"\"),\"\",MAX(AI750,AI749,B751,D751,L751)+1)","v":5862},"好，我们结为道侣吧",null,{"$f":"IF(OR(ISNUMBER(AB751),AB751=\"\"),\"\",X751+1)","v":""},{"$nulls":4},{"$f":"IF(A751=\"\",\"\",IF(ISNUMBER(Y751),2,IF(A752=\"\",IF(OR(AH751>0,VLOOKUP(O751,EventConfig!A:C,3,FALSE)=4),3,\"\"),1)))","v":1},{"$f":"IF(AF751=\"\",\"\",CHOOSE(AF751,IF(AH751=\"\",A751+1,AH751),CONCATENATE(IF(AH751=\"\",A751+1,AH751),\";101\"),IF(AH751=\"\",O751+1,AH751)))","v":601603},null,{"$f":"IF(A751=\"\",\"\",MAX(B751,D751,L751,X751,AA751,AI750,AI749))","v":5862}]
[{"$f":"O752*100+P752","v":601603},{"$f":"IF(C752=\"\",\"\",IF(C752=C751,B751,MAX(AI751,AI750)+1))","v":5859},"与云枝对话",{"$f":"IF(E752=\"\",\"\",IF(E752=E751,D751,MAX(AI751,AI750,B752)+1))","v":""},{"$nulls":5},121,{"$f":"IF(J752=\"\",\"\",VLOOKUP(J752,EventNPC!A:E,5,FALSE))","v":"云枝"},{"$f":"IF(M752=\"\",\"\",MAX(AI751,AI750,B752,D752)+1)","v":5863},"（脸红，低声）”道侣？嗯……我愿意！\n跟你一起，风中也有温柔。我们手牵手，飞到南海天池，飞到天涯海角！",null,6016,3,{"$f":"_xlfn.TEXTJOIN(\";\",1,R752:S752)","v":""},null,null,{"$f":"IF(R752=\"\",\"\",\"-\"&VLOOKUP(R752,EventConditionConfig!A:C,3,FALSE)&IF(S752=\"\",\"\",CHAR(10)&\"-\"&VLOOKUP(S752,EventConditionConfig!A:C,3,FALSE)))","v":""},{"$f":"IF(Y752=\"\",\"\",IF(ISTEXT(Y752),1,2))","v":""},{"$f":"IF(U752=1,_xlfn.TEXTJOIN(\";\",1,IF(Z752=\"\",A752+1,Z752),IF(AND(AA752<>\"\",AC752=\"\"),A752+1,AC752)),IF(U752=2,Y752,\"\"))","v":""},{"$f":"_xlfn.TEXTJOIN(\";\",1,X752,AA752)","v":""},{"$f":"IF(OR(ISNUMBER(Y752),Y752=\"\"),\"\",MAX(AI751,AI750,B752,D752,L752)+1)","v":""},null,null,{"$f":"IF(OR(ISNUMBER(AB752),AB752=\"\"),\"\",X752+1)","v":""},{"$nulls":4},{"$f":"IF(A752=\"\",\"\",IF(ISNUMBER(Y752),2,IF(A753=\"\",IF(OR(AH752>0,VLOOKUP(O752,EventConfig!A:C,3,FALSE)=4),3,\"\"),1)))","v":1},{"$f":"IF(AF752=\"\",\"\",CHOOSE(AF752,IF(AH752=\"\",A752+1,AH752),CONCATENATE(IF(AH752=\"\",A752+1,AH752),\";101\"),IF(AH752=\"\",O752+1,AH752)))","v":601604},null,{"$f":"IF(A752=\"\",\"\",MAX(B752,D752,L752,X752,AA752,AI751,AI750))","v":5863}]
[{"$f":"O753*100+P753","v":601604},{"$f":"IF(C753=\"\",\"\",IF(C753=C752,B752,MAX(AI752,AI751)+1))","v":5859},"与云枝对话",{"$f":"IF(E753=\"\",\"\",IF(E753=E752,D752,MAX(AI752,AI751,B753)+1))","v":""},{"$nulls":5},100,{"$f":"IF(J753=\"\",\"\",VLOOKUP(J753,EventNPC!A:E,5,FALSE))","v":"玩家"},{"$f":"IF(M753=\"\",\"\",MAX(AI752,AI751,B753,D753)+1)","v":5864},"我会一直陪着你，守护你和雀灵儿。",null,6016,4,{"$f":"_xlfn.TEXTJOIN(\";\",1,R753:S753)","v":""},null,null,{"$f":"IF(R753=\"\",\"\",\"-\"&VLOOKUP(R753,EventConditionConfig!A:C,3,FALSE)&IF(S753=\"\",\"\",CHAR(10)&\"-\"&VLOOKUP(S753,EventConditionConfig!A:C,3,FALSE)))","v":""},{"$f":"IF(Y753=\"\",\"\",IF(ISTEXT(Y753),1,2))","v":""},{"$f":"IF(U753=1,_xlfn.TEXTJOIN(\";\",1,IF(Z753=\"\",A753+1,Z753),IF(AND(AA753<>\"\",AC753=\"\"),A753+1,AC753)),IF(U753=2,Y753,\"\"))","v":""},{"$f":"_xlfn.TEXTJOIN(\";\",1,X753,AA753)","v":""},{"$f":"IF(OR(ISNUMBER(Y753),Y753=\"\"),\"\",MAX(AI752,AI751,B753,D753,L753)+1)","v":""},null,null,{"$f":"IF(OR(ISNUMBER(AB753),AB753=\"\"),\"\",X753+1)","v":""},{"$nulls":4},{"$f":"IF(A753=\"\",\"\",IF(ISNUMBER(Y753),2,IF(A754=\"\",IF(OR(AH753>0,VLOOKUP(O753,EventConfig!A:C,3,FALSE)=4),3,\"\"),1)))","v":1},{"$f":"IF(AF753=\"\",\"\",CHOOSE(AF753,IF(AH753=\"\",A753+1,AH753),CONCATENATE(IF(AH753=\"\",A753+1,AH753),\";101\"),IF(AH753=\"\",O753+1,AH753)))","v":601605},null,{"$f":"IF(A753=\"\",\"\",MAX(B753,D753,L753,X753,AA753,AI752,AI751))","v":5864}]
[{"$f":"O754*100+P754","v":601605},{"$f":"IF(C754=\"\",\"\",IF(C754=C753,B753,MAX(AI753,AI752)+1))","v":5859},"与云枝对话",{"$f":"IF(E754=\"\",\"\",IF(E754=E753,D753,MAX(AI753,AI752,B754)+1))","v":""},{"$nulls":5},121,{"$f":"IF(J754=\"\",\"\",VLOOKUP(J754,EventNPC!A:E,5,FALSE))","v":"云枝"},{"$f":"IF(M754=\"\",\"\",MAX(AI753,AI752,B754,D754)+1)","v":5865},"（抱紧）太好了…我们一起破风远行，那未知的云海，或许藏着永恒的自由。",null,6016,5,{"$f":"_xlfn.TEXTJOIN(\";\",1,R754:S754)","v":""},null,null,{"$f":"IF(R754=\"\",\"\",\"-\"&VLOOKUP(R754,EventConditionConfig!A:C,3,FALSE)&IF(S754=\"\",\"\",CHAR(10)&\"-\"&VLOOKUP(S754,EventConditionConfig!A:C,3,FALSE)))","v":""},{"$f":"IF(Y754=\"\",\"\",IF(ISTEXT(Y754),1,2))","v":""},{"$f":"IF(U754=1,_xlfn.TEXTJOIN(\";\",1,IF(Z754=\"\",A754+1,Z754),IF(AND(AA754<>\"\",AC754=\"\"),A754+1,AC754)),IF(U754=2,Y754,\"\"))","v":""},{"$f":"_xlfn.TEXTJOIN(\";\",1,X754,AA754)","v":""},{"$f":"IF(OR(ISNUMBER(Y754),Y754=\"\"),\"\",MAX(AI753,AI752,B754,D754,L754)+1)","v":""},null,null,{"$f":"IF(OR(ISNUMBER(AB754),AB754=\"\"),\"\",X754+1)","v":""},{"$nulls":4},{"$f":"IF(A754=\"\",\"\",IF(ISNUMBER(Y754),2,IF(A755=\"\",IF(OR(AH754>0,VLOOKUP(O754,EventConfig!A:C,3,FALSE)=4),3,\"\"),1)))","v":""},{"$f":"IF(AF754=\"\",\"\",CHOOSE(AF754,IF(AH754=\"\",A754+1,AH754),CONCATENATE(IF(AH754=\"\",A754+1,AH754),\";101\"),IF(AH754=\"\",O754+1,AH754)))","v":""},null,{"$f":"IF(A754=\"\",\"\",MAX(B754,D754,L754,X754,AA754,AI753,AI752))","v":5865}]
[{"$nulls":15},""]
[{"$f":"O756*100+P756","v":602101},{"$f":"IF(C756=\"\",\"\",IF(C756=C755,B755,MAX(AI755,AI754)+1))","v":5866},"完成所有对话",{"$f":"IF(E756=\"\",\"\",IF(E756=E755,D755,MAX(AI755,AI754,B756)+1))","v":""},{"$nulls":6},{"$f":"IF(J756=\"\",\"\",VLOOKUP(J756,EventNPC!A:E,5,FALSE))","v":""},{"$f":"IF(M756=\"\",\"\",MAX(AI755,AI754,B756,D756)+1)","v":5867},"你御剑来到浮空岛边缘，一位身姿轻盈的女子站在崖边，风吹起她的浅青长发。她似乎在凝视远方云海，手中握着一枚闪烁微光的碎片。",null,6021,1,{"$f":"_xlfn.TEXTJOIN(\";\",1,R756:S756)","v":""},null,null,{"$f":"IF(R756=\"\",\"\",\"-\"&VLOOKUP(R756,EventConditionConfig!A:C,3,FALSE)&IF(S756=\"\",\"\",CHAR(10)&\"-\"&VLOOKUP(S756,EventConditionConfig!A:C,3,FALSE)))","v":""},{"$f":"IF(Y756=\"\",\"\",IF(ISTEXT(Y756),1,2))","v":1},{"$f":"IF(U756=1,_xlfn.TEXTJOIN(\";\",1,IF(Z756=\"\",A756+1,Z756),IF(AND(AA756<>\"\",AC756=\"\"),A756+1,AC756)),IF(U756=2,Y756,\"\"))","v":"602102"},{"$f":"_xlfn.TEXTJOIN(\";\",1,X756,AA756)","v":"5868"},{"$f":"IF(OR(ISNUMBER(Y756),Y756=\"\"),\"\",MAX(AI755,AI754,B756,D756,L756)+1)","v":5868},"敢问道友是？",null,{"$f":"IF(OR(ISNUMBER(AB756),AB756=\"\"),\"\",X756+1)","v":""},{"$nulls":4},{"$f":"IF(A756=\"\",\"\",IF(ISNUMBER(Y756),2,IF(A757=\"\",IF(OR(AH756>0,VLOOKUP(O756,EventConfig!A:C,3,FALSE)=4),3,\"\"),1)))","v":1},{"$f":"IF(AF756=\"\",\"\",CHOOSE(AF756,IF(AH756=\"\",A756+1,AH756),CONCATENATE(IF(AH756=\"\",A756+1,AH756),\";101\"),IF(AH756=\"\",O756+1,AH756)))","v":602102},null,{"$f":"IF(A756=\"\",\"\",MAX(B756,D756,L756,X756,AA756,AI755,AI754))","v":5868}]
[{"$f":"O757*100+P757","v":602102},{"$f":"IF(C757=\"\",\"\",IF(C757=C756,B756,MAX(AI756,AI755)+1))","v":5866},"完成所有对话",{"$f":"IF(E757=\"\",\"\",IF(E757=E756,D756,MAX(AI756,AI755,B757)+1))","v":""},{"$nulls":5},122,{"$f":"IF(J757=\"\",\"\",VLOOKUP(J757,EventNPC!A:E,5,FALSE))","v":"风瑶"},{"$f":"IF(M757=\"\",\"\",MAX(AI756,AI755,B757,D757)+1)","v":5869},"（转头，明亮的眼睛打量你片刻，微微一笑）我叫风瑶，这里风大，你能来到此地，修为不浅。你是何人？",null,6021,2,{"$f":"_xlfn.TEXTJOIN(\";\",1,R757:S757)","v":""},null,null,{"$f":"IF(R757=\"\",\"\",\"-\"&VLOOKUP(R757,EventConditionConfig!A:C,3,FALSE)&IF(S757=\"\",\"\",CHAR(10)&\"-\"&VLOOKUP(S757,EventConditionConfig!A:C,3,FALSE)))","v":""},{"$f":"IF(Y757=\"\",\"\",IF(ISTEXT(Y757),1,2))","v":1},{"$f":"IF(U757=1,_xlfn.TEXTJOIN(\";\",1,IF(Z757=\"\",A757+1,Z757),IF(AND(AA757<>\"\",AC757=\"\"),A757+1,AC757)),IF(U757=2,Y757,\"\"))","v":"602103"},{"$f":"_xlfn.TEXTJOIN(\";\",1,X757,AA757)","v":"5870"},{"$f":"IF(OR(ISNUMBER(Y757),Y757=\"\"),\"\",MAX(AI756,AI755,B757,D757,L757)+1)","v":5870},"先前受疯道人指点，在此游历。",null,{"$f":"IF(OR(ISNUMBER(AB757),AB757=\"\"),\"\",X757+1)","v":""},{"$nulls":4},{"$f":"IF(A757=\"\",\"\",IF(ISNUMBER(Y757),2,IF(A758=\"\",IF(OR(AH757>0,VLOOKUP(O757,EventConfig!A:C,3,FALSE)=4),3,\"\"),1)))","v":1},{"$f":"IF(AF757=\"\",\"\",CHOOSE(AF757,IF(AH757=\"\",A757+1,AH757),CONCATENATE(IF(AH757=\"\",A757+1,AH757),\";101\"),IF(AH757=\"\",O757+1,AH757)))","v":602103},null,{"$f":"IF(A757=\"\",\"\",MAX(B757,D757,L757,X757,AA757,AI756,AI755))","v":5870}]
[{"$f":"O758*100+P758","v":602103},{"$f":"IF(C758=\"\",\"\",IF(C758=C757,B757,MAX(AI757,AI756)+1))","v":5866},"完成所有对话",{"$f":"IF(E758=\"\",\"\",IF(E758=E757,D757,MAX(AI757,AI756,B758)+1))","v":""},{"$nulls":5},122,{"$f":"IF(J758=\"\",\"\",VLOOKUP(J758,EventNPC!A:E,5,FALSE))","v":"风瑶"},{"$f":"IF(M758=\"\",\"\",MAX(AI757,AI756,B758,D758)+1)","v":5871},"兄长总爱帮人……不过这里浮岛多变，风势不定，你小心些。\n我出身云隐宗，那里本是修仙圣地，可最近有些不对劲……",null,6021,3,{"$f":"_xlfn.TEXTJOIN(\";\",1,R758:S758)","v":""},null,null,{"$f":"IF(R758=\"\",\"\",\"-\"&VLOOKUP(R758,EventConditionConfig!A:C,3,FALSE)&IF(S758=\"\",\"\",CHAR(10)&\"-\"&VLOOKUP(S758,EventConditionConfig!A:C,3,FALSE)))","v":""},{"$f":"IF(Y758=\"\",\"\",IF(ISTEXT(Y758),1,2))","v":""},{"$f":"IF(U758=1,_xlfn.TEXTJOIN(\";\",1,IF(Z758=\"\",A758+1,Z758),IF(AND(AA758<>\"\",AC758=\"\"),A758+1,AC758)),IF(U758=2,Y758,\"\"))","v":""},{"$f":"_xlfn.TEXTJOIN(\";\",1,X758,AA758)","v":""},{"$f":"IF(OR(ISNUMBER(Y758),Y758=\"\"),\"\",MAX(AI757,AI756,B758,D758,L758)+1)","v":""},null,null,{"$f":"IF(OR(ISNUMBER(AB758),AB758=\"\"),\"\",X758+1)","v":""},{"$nulls":4},{"$f":"IF(A758=\"\",\"\",IF(ISNUMBER(Y758),2,IF(A759=\"\",IF(OR(AH758>0,VLOOKUP(O758,EventConfig!A:C,3,FALSE)=4),3,\"\"),1)))","v":1},{"$f":"IF(AF758=\"\",\"\",CHOOSE(AF758,IF(AH758=\"\",A758+1,AH758),CONCATENATE(IF(AH758=\"\",A758+1,AH758),\";101\"),IF(AH758=\"\",O758+1,AH758)))","v":602104},null,{"$f":"IF(A758=\"\",\"\",MAX(B758,D758,L758,X758,AA758,AI757,AI756))","v":5871}]
[{"$f":"O759*100+P759","v":602104},{"$f":"IF(C759=\"\",\"\",IF(C759=C758,B758,MAX(AI758,AI757)+1))","v":5866},"完成所有对话",{"$f":"IF(E759=\"\",\"\",IF(E759=E758,D758,MAX(AI758,AI757,B759)+1))","v":""},{"$nulls":5},122,{"$f":"IF(J759=\"\",\"\",VLOOKUP(J759,EventNPC!A:E,5,FALSE))","v":"风瑶"},{"$f":"IF(M759=\"\",\"\",MAX(AI758,AI757,B759,D759)+1)","v":5872},"（她顿了顿，似乎欲言又止）\n罢了，不说这些。你若有空，能帮我收集些风灵碎片吗？岛间风口常有碎片飘落，能助我稳固此地。",null,6021,4,{"$f":"_xlfn.TEXTJOIN(\";\",1,R759:S759)","v":""},null,null,{"$f":"IF(R759=\"\",\"\",\"-\"&VLOOKUP(R759,EventConditionConfig!A:C,3,FALSE)&IF(S759=\"\",\"\",CHAR(10)&\"-\"&VLOOKUP(S759,EventConditionConfig!A:C,3,FALSE)))","v":""},{"$f":"IF(Y759=\"\",\"\",IF(ISTEXT(Y759),1,2))","v":1},{"$f":"IF(U759=1,_xlfn.TEXTJOIN(\";\",1,IF(Z759=\"\",A759+1,Z759),IF(AND(AA759<>\"\",AC759=\"\"),A759+1,AC759)),IF(U759=2,Y759,\"\"))","v":"602105"},{"$f":"_xlfn.TEXTJOIN(\";\",1,X759,AA759)","v":"5873"},{"$f":"IF(OR(ISNUMBER(Y759),Y759=\"\"),\"\",MAX(AI758,AI757,B759,D759,L759)+1)","v":5873},"好，我去试试。",null,{"$f":"IF(OR(ISNUMBER(AB759),AB759=\"\"),\"\",X759+1)","v":""},{"$nulls":4},{"$f":"IF(A759=\"\",\"\",IF(ISNUMBER(Y759),2,IF(A760=\"\",IF(OR(AH759>0,VLOOKUP(O759,EventConfig!A:C,3,FALSE)=4),3,\"\"),1)))","v":""},{"$f":"IF(AF759=\"\",\"\",CHOOSE(AF759,IF(AH759=\"\",A759+1,AH759),CONCATENATE(IF(AH759=\"\",A759+1,AH759),\";101\"),IF(AH759=\"\",O759+1,AH759)))","v":""},null,{"$f":"IF(A759=\"\",\"\",MAX(B759,D759,L759,X759,AA759,AI758,AI757))","v":5873}]
[{"$nulls":15},""]
[{"$f":"O761*100+P761","v":602201},{"$f":"IF(C761=\"\",\"\",IF(C761=C760,B760,MAX(AI760,AI759)+1))","v":5874},"收集风灵碎片",{"$f":"IF(E761=\"\",\"\",IF(E761=E760,D760,MAX(AI760,AI759,B761)+1))","v":""},{"$nulls":6},{"$f":"IF(J761=\"\",\"\",VLOOKUP(J761,EventNPC!A:E,5,FALSE))","v":""},{"$f":"IF(M761=\"\",\"\",MAX(AI760,AI759,B761,D761)+1)","v":5875},"你在浮空岛间御剑飞行，风啸耳边，碎片如流光散落。采集时，偶尔有小型风兽从漩涡中跃出，守护碎片。",null,6022,1,{"$f":"_xlfn.TEXTJOIN(\";\",1,R761:S761)","v":""},null,null,{"$f":"IF(R761=\"\",\"\",\"-\"&VLOOKUP(R761,EventConditionConfig!A:C,3,FALSE)&IF(S761=\"\",\"\",CHAR(10)&\"-\"&VLOOKUP(S761,EventConditionConfig!A:C,3,FALSE)))","v":""},{"$f":"IF(Y761=\"\",\"\",IF(ISTEXT(Y761),1,2))","v":""},{"$f":"IF(U761=1,_xlfn.TEXTJOIN(\";\",1,IF(Z761=\"\",A761+1,Z761),IF(AND(AA761<>\"\",AC761=\"\"),A761+1,AC761)),IF(U761=2,Y761,\"\"))","v":""},{"$f":"_xlfn.TEXTJOIN(\";\",1,X761,AA761)","v":""},{"$f":"IF(OR(ISNUMBER(Y761),Y761=\"\"),\"\",MAX(AI760,AI759,B761,D761,L761)+1)","v":""},null,null,{"$f":"IF(OR(ISNUMBER(AB761),AB761=\"\"),\"\",X761+1)","v":""},{"$nulls":4},{"$f":"IF(A761=\"\",\"\",IF(ISNUMBER(Y761),2,IF(A762=\"\",IF(OR(AH761>0,VLOOKUP(O761,EventConfig!A:C,3,FALSE)=4),3,\"\"),1)))","v":1},{"$f":"IF(AF761=\"\",\"\",CHOOSE(AF761,IF(AH761=\"\",A761+1,AH761),CONCATENATE(IF(AH761=\"\",A761+1,AH761),\";101\"),IF(AH761=\"\",O761+1,AH761)))","v":602202},null,{"$f":"IF(A761=\"\",\"\",MAX(B761,D761,L761,X761,AA761,AI760,AI759))","v":5875}]
[{"$f":"O762*100+P762","v":602202},{"$f":"IF(C762=\"\",\"\",IF(C762=C761,B761,MAX(AI761,AI760)+1))","v":5874},"收集风灵碎片",{"$f":"IF(E762=\"\",\"\",IF(E762=E761,D761,MAX(AI761,AI760,B762)+1))","v":""},{"$nulls":5},100,{"$f":"IF(J762=\"\",\"\",VLOOKUP(J762,EventNPC!A:E,5,FALSE))","v":"玩家"},{"$f":"IF(M762=\"\",\"\",MAX(AI761,AI760,B762,D762)+1)","v":5876},"道友，这些碎片可够？",null,6022,2,{"$f":"_xlfn.TEXTJOIN(\";\",1,R762:S762)","v":"39"},39,null,{"$f":"IF(R762=\"\",\"\",\"-\"&VLOOKUP(R762,EventConditionConfig!A:C,3,FALSE)&IF(S762=\"\",\"\",CHAR(10)&\"-\"&VLOOKUP(S762,EventConditionConfig!A:C,3,FALSE)))","v":"-收集风灵碎片"},{"$f":"IF(Y762=\"\",\"\",IF(ISTEXT(Y762),1,2))","v":""},{"$f":"IF(U762=1,_xlfn.TEXTJOIN(\";\",1,IF(Z762=\"\",A762+1,Z762),IF(AND(AA762<>\"\",AC762=\"\"),A762+1,AC762)),IF(U762=2,Y762,\"\"))","v":""},{"$f":"_xlfn.TEXTJOIN(\";\",1,X762,AA762)","v":""},{"$f":"IF(OR(ISNUMBER(Y762),Y762=\"\"),\"\",MAX(AI761,AI760,B762,D762,L762)+1)","v":""},null,null,{"$f":"IF(OR(ISNUMBER(AB762),AB762=\"\"),\"\",X762+1)","v":""},{"$nulls":4},{"$f":"IF(A762=\"\",\"\",IF(ISNUMBER(Y762),2,IF(A763=\"\",IF(OR(AH762>0,VLOOKUP(O762,EventConfig!A:C,3,FALSE)=4),3,\"\"),1)))","v":1},{"$f":"IF(AF762=\"\",\"\",CHOOSE(AF762,IF(AH762=\"\",A762+1,AH762),CONCATENATE(IF(AH762=\"\",A762+1,AH762),\";101\"),IF(AH762=\"\",O762+1,AH762)))","v":602203},null,{"$f":"IF(A762=\"\",\"\",MAX(B762,D762,L762,X762,AA762,AI761,AI760))","v":5876}]
[{"$f":"O763*100+P763","v":602203},{"$f":"IF(C763=\"\",\"\",IF(C763=C762,B762,MAX(AI762,AI761)+1))","v":5874},"收集风灵碎片",{"$f":"IF(E763=\"\",\"\",IF(E763=E762,D762,MAX(AI762,AI761,B763)+1))","v":""},{"$nulls":5},122,{"$f":"IF(J763=\"\",\"\",VLOOKUP(J763,EventNPC!A:E,5,FALSE))","v":"风瑶"},{"$f":"IF(M763=\"\",\"\",MAX(AI762,AI761,B763,D763)+1)","v":5877},"（接过碎片，眼中闪过一丝感激）多谢。这些碎片本是云隐宗的镇宗之宝的一部分，可惜散落了。",null,6022,3,{"$f":"_xlfn.TEXTJOIN(\";\",1,R763:S763)","v":""},null,null,{"$f":"IF(R763=\"\",\"\",\"-\"&VLOOKUP(R763,EventConditionConfig!A:C,3,FALSE)&IF(S763=\"\",\"\",CHAR(10)&\"-\"&VLOOKUP(S763,EventConditionConfig!A:C,3,FALSE)))","v":""},{"$f":"IF(Y763=\"\",\"\",IF(ISTEXT(Y763),1,2))","v":""},{"$f":"IF(U763=1,_xlfn.TEXTJOIN(\";\",1,IF(Z763=\"\",A763+1,Z763),IF(AND(AA763<>\"\",AC763=\"\"),A763+1,AC763)),IF(U763=2,Y763,\"\"))","v":""},{"$f":"_xlfn.TEXTJOIN(\";\",1,X763,AA763)","v":""},{"$f":"IF(OR(ISNUMBER(Y763),Y763=\"\"),\"\",MAX(AI762,AI761,B763,D763,L763)+1)","v":""},null,null,{"$f":"IF(OR(ISNUMBER(AB763),AB763=\"\"),\"\",X763+1)","v":""},{"$nulls":4},{"$f":"IF(A763=\"\",\"\",IF(ISNUMBER(Y763),2,IF(A764=\"\",IF(OR(AH763>0,VLOOKUP(O763,EventConfig!A:C,3,FALSE)=4),3,\"\"),1)))","v":1},{"$f":"IF(AF763=\"\",\"\",CHOOSE(AF763,IF(AH763=\"\",A763+1,AH763),CONCATENATE(IF(AH763=\"\",A763+1,AH763),\";101\"),IF(AH763=\"\",O763+1,AH763)))","v":602204},null,{"$f":"IF(A763=\"\",\"\",MAX(B763,D763,L763,X763,AA763,AI762,AI761))","v":5877}]
[{"$f":"O764*100+P764","v":602204},{"$f":"IF(C764=\"\",\"\",IF(C764=C763,B763,MAX(AI763,AI762)+1))","v":5874},"收集风灵碎片",{"$f":"IF(E764=\"\",\"\",IF(E764=E763,D763,MAX(AI763,AI762,B764)+1))","v":""},{"$nulls":5},122,{"$f":"IF(J764=\"\",\"\",VLOOKUP(J764,EventNPC!A:E,5,FALSE))","v":"风瑶"},{"$f":"IF(M764=\"\",\"\",MAX(AI763,AI762,B764,D764)+1)","v":5878},"我在宗门时，无意中发现长老们在私下交易奇怪的灵石，似乎与外域势力有关……宗门一向清正，这事让我不安。",null,6022,4,{"$f":"_xlfn.TEXTJOIN(\";\",1,R764:S764)","v":""},null,null,{"$f":"IF(R764=\"\",\"\",\"-\"&VLOOKUP(R764,EventConditionConfig!A:C,3,FALSE)&IF(S764=\"\",\"\",CHAR(10)&\"-\"&VLOOKUP(S764,EventConditionConfig!A:C,3,FALSE)))","v":""},{"$f":"IF(Y764=\"\",\"\",IF(ISTEXT(Y764),1,2))","v":""},{"$f":"IF(U764=1,_xlfn.TEXTJOIN(\";\",1,IF(Z764=\"\",A764+1,Z764),IF(AND(AA764<>\"\",AC764=\"\"),A764+1,AC764)),IF(U764=2,Y764,\"\"))","v":""},{"$f":"_xlfn.TEXTJOIN(\";\",1,X764,AA764)","v":""},{"$f":"IF(OR(ISNUMBER(Y764),Y764=\"\"),\"\",MAX(AI763,AI762,B764,D764,L764)+1)","v":""},null,null,{"$f":"IF(OR(ISNUMBER(AB764),AB764=\"\"),\"\",X764+1)","v":""},{"$nulls":4},{"$f":"IF(A764=\"\",\"\",IF(ISNUMBER(Y764),2,IF(A765=\"\",IF(OR(AH764>0,VLOOKUP(O764,EventConfig!A:C,3,FALSE)=4),3,\"\"),1)))","v":1},{"$f":"IF(AF764=\"\",\"\",CHOOSE(AF764,IF(AH764=\"\",A764+1,AH764),CONCATENATE(IF(AH764=\"\",A764+1,AH764),\";101\"),IF(AH764=\"\",O764+1,AH764)))","v":602205},null,{"$f":"IF(A764=\"\",\"\",MAX(B764,D764,L764,X764,AA764,AI763,AI762))","v":5878}]
[{"$f":"O765*100+P765","v":602205},{"$f":"IF(C765=\"\",\"\",IF(C765=C764,B764,MAX(AI764,AI763)+1))","v":5874},"收集风灵碎片",{"$f":"IF(E765=\"\",\"\",IF(E765=E764,D764,MAX(AI764,AI763,B765)+1))","v":""},{"$nulls":5},122,{"$f":"IF(J765=\"\",\"\",VLOOKUP(J765,EventNPC!A:E,5,FALSE))","v":"风瑶"},{"$f":"IF(M765=\"\",\"\",MAX(AI764,AI763,B765,D765)+1)","v":5879},"但我修为有限，无法深入查探。你看起来可靠，或许以后能帮我留意。",null,6022,5,{"$f":"_xlfn.TEXTJOIN(\";\",1,R765:S765)","v":""},null,null,{"$f":"IF(R765=\"\",\"\",\"-\"&VLOOKUP(R765,EventConditionConfig!A:C,3,FALSE)&IF(S765=\"\",\"\",CHAR(10)&\"-\"&VLOOKUP(S765,EventConditionConfig!A:C,3,FALSE)))","v":""},{"$f":"IF(Y765=\"\",\"\",IF(ISTEXT(Y765),1,2))","v":1},{"$f":"IF(U765=1,_xlfn.TEXTJOIN(\";\",1,IF(Z765=\"\",A765+1,Z765),IF(AND(AA765<>\"\",AC765=\"\"),A765+1,AC765)),IF(U765=2,Y765,\"\"))","v":"602206"},{"$f":"_xlfn.TEXTJOIN(\";\",1,X765,AA765)","v":"5880"},{"$f":"IF(OR(ISNUMBER(Y765),Y765=\"\"),\"\",MAX(AI764,AI763,B765,D765,L765)+1)","v":5880},"云隐宗有何异常？",null,{"$f":"IF(OR(ISNUMBER(AB765),AB765=\"\"),\"\",X765+1)","v":""},{"$nulls":4},{"$f":"IF(A765=\"\",\"\",IF(ISNUMBER(Y765),2,IF(A766=\"\",IF(OR(AH765>0,VLOOKUP(O765,EventConfig!A:C,3,FALSE)=4),3,\"\"),1)))","v":1},{"$f":"IF(AF765=\"\",\"\",CHOOSE(AF765,IF(AH765=\"\",A765+1,AH765),CONCATENATE(IF(AH765=\"\",A765+1,AH765),\";101\"),IF(AH765=\"\",O765+1,AH765)))","v":602206},null,{"$f":"IF(A765=\"\",\"\",MAX(B765,D765,L765,X765,AA765,AI764,AI763))","v":5880}]
[602206,5874,"收集风灵碎片","",{"$nulls":5},122,{"$f":"IF(J766=\"\",\"\",VLOOKUP(J766,EventNPC!A:E,5,FALSE))","v":"风瑶"},5881,"只是些小线索，比如长老们频繁外出，带回的灵石有魔气残留。但别担心，我会自己调查。",null,6022,6,"",null,null,{"$f":"IF(R766=\"\",\"\",\"-\"&VLOOKUP(R766,EventConditionConfig!A:C,3,FALSE)&IF(S766=\"\",\"\",CHAR(10)&\"-\"&VLOOKUP(S766,EventConditionConfig!A:C,3,FALSE)))","v":""},"","","","",null,null,"",{"$nulls":4},{"$f":"IF(A766=\"\",\"\",IF(ISNUMBER(Y766),2,IF(A767=\"\",IF(OR(AH766>0,VLOOKUP(O766,EventConfig!A:C,3,FALSE)=4),3,\"\"),1)))","v":""},"",null,5881]
[{"$nulls":15},""]
[{"$f":"O768*100+P768","v":602301},{"$f":"IF(C768=\"\",\"\",IF(C768=C767,B767,MAX(AI767,AI766)+1))","v":5882},"向风瑶报告你打听到的传闻",{"$f":"IF(E768=\"\",\"\",IF(E768=E767,D767,MAX(AI767,AI766,B768)+1))","v":""},{"$nulls":5},122,{"$f":"IF(J768=\"\",\"\",VLOOKUP(J768,EventNPC!A:E,5,FALSE))","v":"风瑶"},{"$f":"IF(M768=\"\",\"\",MAX(AI767,AI766,B768,D768)+1)","v":5883},"多谢上次的碎片。我最近听到风中传来的传闻，云隐宗附近有不明修士出没。\n你能帮我打听一下吗？",null,6023,1,{"$f":"_xlfn.TEXTJOIN(\";\",1,R768:S768)","v":""},null,null,{"$f":"IF(R768=\"\",\"\",\"-\"&VLOOKUP(R768,EventConditionConfig!A:C,3,FALSE)&IF(S768=\"\",\"\",CHAR(10)&\"-\"&VLOOKUP(S768,EventConditionConfig!A:C,3,FALSE)))","v":""},{"$f":"IF(Y768=\"\",\"\",IF(ISTEXT(Y768),1,2))","v":""},{"$f":"IF(U768=1,_xlfn.TEXTJOIN(\";\",1,IF(Z768=\"\",A768+1,Z768),IF(AND(AA768<>\"\",AC768=\"\"),A768+1,AC768)),IF(U768=2,Y768,\"\"))","v":""},{"$f":"_xlfn.TEXTJOIN(\";\",1,X768,AA768)","v":""},{"$f":"IF(OR(ISNUMBER(Y768),Y768=\"\"),\"\",MAX(AI767,AI766,B768,D768,L768)+1)","v":""},null,null,{"$f":"IF(OR(ISNUMBER(AB768),AB768=\"\"),\"\",X768+1)","v":""},{"$nulls":4},{"$f":"IF(A768=\"\",\"\",IF(ISNUMBER(Y768),2,IF(A769=\"\",IF(OR(AH768>0,VLOOKUP(O768,EventConfig!A:C,3,FALSE)=4),3,\"\"),1)))","v":1},{"$f":"IF(AF768=\"\",\"\",CHOOSE(AF768,IF(AH768=\"\",A768+1,AH768),CONCATENATE(IF(AH768=\"\",A768+1,AH768),\";101\"),IF(AH768=\"\",O768+1,AH768)))","v":602302},null,{"$f":"IF(A768=\"\",\"\",MAX(B768,D768,L768,X768,AA768,AI767,AI766))","v":5883}]
[{"$f":"O769*100+P769","v":602302},{"$f":"IF(C769=\"\",\"\",IF(C769=C768,B768,MAX(AI768,AI767)+1))","v":5882},"向风瑶报告你打听到的传闻",{"$f":"IF(E769=\"\",\"\",IF(E769=E768,D768,MAX(AI768,AI767,B769)+1))","v":""},{"$nulls":5},100,{"$f":"IF(J769=\"\",\"\",VLOOKUP(J769,EventNPC!A:E,5,FALSE))","v":"玩家"},{"$f":"IF(M769=\"\",\"\",MAX(AI768,AI767,B769,D769)+1)","v":5884},"（返回报告）道友，我听说了这些信息……",null,6023,2,{"$f":"_xlfn.TEXTJOIN(\";\",1,R769:S769)","v":"40"},40,null,{"$f":"IF(R769=\"\",\"\",\"-\"&VLOOKUP(R769,EventConditionConfig!A:C,3,FALSE)&IF(S769=\"\",\"\",CHAR(10)&\"-\"&VLOOKUP(S769,EventConditionConfig!A:C,3,FALSE)))","v":"-完成神识探索-云隐秘闻"},{"$f":"IF(Y769=\"\",\"\",IF(ISTEXT(Y769),1,2))","v":""},{"$f":"IF(U769=1,_xlfn.TEXTJOIN(\";\",1,IF(Z769=\"\",A769+1,Z769),IF(AND(AA769<>\"\",AC769=\"\"),A769+1,AC769)),IF(U769=2,Y769,\"\"))","v":""},{"$f":"_xlfn.TEXTJOIN(\";\",1,X769,AA769)","v":""},{"$f":"IF(OR(ISNUMBER(Y769),Y769=\"\"),\"\",MAX(AI768,AI767,B769,D769,L769)+1)","v":""},null,null,{"$f":"IF(OR(ISNUMBER(AB769),AB769=\"\"),\"\",X769+1)","v":""},{"$nulls":4},{"$f":"IF(A769=\"\",\"\",IF(ISNUMBER(Y769),2,IF(A770=\"\",IF(OR(AH769>0,VLOOKUP(O769,EventConfig!A:C,3,FALSE)=4),3,\"\"),1)))","v":1},{"$f":"IF(AF769=\"\",\"\",CHOOSE(AF769,IF(AH769=\"\",A769+1,AH769),CONCATENATE(IF(AH769=\"\",A769+1,AH769),\";101\"),IF(AH769=\"\",O769+1,AH769)))","v":602303},null,{"$f":"IF(A769=\"\",\"\",MAX(B769,D769,L769,X769,AA769,AI768,AI767))","v":5884}]
[602303,5882,"向风瑶报告你打听到的传闻","",{"$nulls":5},122,{"$f":"IF(J770=\"\",\"\",VLOOKUP(J770,EventNPC!A:E,5,FALSE))","v":"风瑶"},5885,"（眉头紧锁，眼中闪过忧虑）果然不对劲。长老们可能在暗中与魔修勾结，但证据不足。我不能贸然回去，得再想想办法。",null,6023,3,"",null,null,{"$f":"IF(R770=\"\",\"\",\"-\"&VLOOKUP(R770,EventConditionConfig!A:C,3,FALSE)&IF(S770=\"\",\"\",CHAR(10)&\"-\"&VLOOKUP(S770,EventConditionConfig!A:C,3,FALSE)))","v":""},"","","","",null,null,"",{"$nulls":4},{"$f":"IF(A770=\"\",\"\",IF(ISNUMBER(Y770),2,IF(A771=\"\",IF(OR(AH770>0,VLOOKUP(O770,EventConfig!A:C,3,FALSE)=4),3,\"\"),1)))","v":""},"",null,5885]
[{"$nulls":15},""]
[{"$f":"O772*100+P772","v":602401},{"$f":"IF(C772=\"\",\"\",IF(C772=C771,B771,MAX(AI771,AI770)+1))","v":5886},"收集岛屿灵石",{"$f":"IF(E772=\"\",\"\",IF(E772=E771,D771,MAX(AI771,AI770,B772)+1))","v":""},{"$nulls":5},122,{"$f":"IF(J772=\"\",\"\",VLOOKUP(J772,EventNPC!A:E,5,FALSE))","v":"风瑶"},{"$f":"IF(M772=\"\",\"\",MAX(AI771,AI770,B772,D772)+1)","v":5887},"那些情报让我更担心了。云隐宗的岛屿灵石本是纯净之物，若有魔气残留，必有大问题。",null,6024,1,{"$f":"_xlfn.TEXTJOIN(\";\",1,R772:S772)","v":""},null,null,{"$f":"IF(R772=\"\",\"\",\"-\"&VLOOKUP(R772,EventConditionConfig!A:C,3,FALSE)&IF(S772=\"\",\"\",CHAR(10)&\"-\"&VLOOKUP(S772,EventConditionConfig!A:C,3,FALSE)))","v":""},{"$f":"IF(Y772=\"\",\"\",IF(ISTEXT(Y772),1,2))","v":""},{"$f":"IF(U772=1,_xlfn.TEXTJOIN(\";\",1,IF(Z772=\"\",A772+1,Z772),IF(AND(AA772<>\"\",AC772=\"\"),A772+1,AC772)),IF(U772=2,Y772,\"\"))","v":""},{"$f":"_xlfn.TEXTJOIN(\";\",1,X772,AA772)","v":""},{"$f":"IF(OR(ISNUMBER(Y772),Y772=\"\"),\"\",MAX(AI771,AI770,B772,D772,L772)+1)","v":""},null,null,{"$f":"IF(OR(ISNUMBER(AB772),AB772=\"\"),\"\",X772+1)","v":""},{"$nulls":4},{"$f":"IF(A772=\"\",\"\",IF(ISNUMBER(Y772),2,IF(A773=\"\",IF(OR(AH772>0,VLOOKUP(O772,EventConfig!A:C,3,FALSE)=4),3,\"\"),1)))","v":1},{"$f":"IF(AF772=\"\",\"\",CHOOSE(AF772,IF(AH772=\"\",A772+1,AH772),CONCATENATE(IF(AH772=\"\",A772+1,AH772),\";101\"),IF(AH772=\"\",O772+1,AH772)))","v":602402},null,{"$f":"IF(A772=\"\",\"\",MAX(B772,D772,L772,X772,AA772,AI771,AI770))","v":5887}]
[{"$f":"O773*100+P773","v":602402},{"$f":"IF(C773=\"\",\"\",IF(C773=C772,B772,MAX(AI772,AI771)+1))","v":5886},"收集岛屿灵石",{"$f":"IF(E773=\"\",\"\",IF(E773=E772,D772,MAX(AI772,AI771,B773)+1))","v":""},{"$nulls":5},122,{"$f":"IF(J773=\"\",\"\",VLOOKUP(J773,EventNPC!A:E,5,FALSE))","v":"风瑶"},{"$f":"IF(M773=\"\",\"\",MAX(AI772,AI771,B773,D773)+1)","v":5888},"你能帮我猎杀些一些妖兽吗？它们常吞食飘落的灵石，或许能从中找到线索。",null,6024,2,{"$f":"_xlfn.TEXTJOIN(\";\",1,R773:S773)","v":""},null,null,{"$f":"IF(R773=\"\",\"\",\"-\"&VLOOKUP(R773,EventConditionConfig!A:C,3,FALSE)&IF(S773=\"\",\"\",CHAR(10)&\"-\"&VLOOKUP(S773,EventConditionConfig!A:C,3,FALSE)))","v":""},{"$f":"IF(Y773=\"\",\"\",IF(ISTEXT(Y773),1,2))","v":""},{"$f":"IF(U773=1,_xlfn.TEXTJOIN(\";\",1,IF(Z773=\"\",A773+1,Z773),IF(AND(AA773<>\"\",AC773=\"\"),A773+1,AC773)),IF(U773=2,Y773,\"\"))","v":""},{"$f":"_xlfn.TEXTJOIN(\";\",1,X773,AA773)","v":""},{"$f":"IF(OR(ISNUMBER(Y773),Y773=\"\"),\"\",MAX(AI772,AI771,B773,D773,L773)+1)","v":""},null,null,{"$f":"IF(OR(ISNUMBER(AB773),AB773=\"\"),\"\",X773+1)","v":""},{"$nulls":4},{"$f":"IF(A773=\"\",\"\",IF(ISNUMBER(Y773),2,IF(A774=\"\",IF(OR(AH773>0,VLOOKUP(O773,EventConfig!A:C,3,FALSE)=4),3,\"\"),1)))","v":1},{"$f":"IF(AF773=\"\",\"\",CHOOSE(AF773,IF(AH773=\"\",A773+1,AH773),CONCATENATE(IF(AH773=\"\",A773+1,AH773),\";101\"),IF(AH773=\"\",O773+1,AH773)))","v":602403},null,{"$f":"IF(A773=\"\",\"\",MAX(B773,D773,L773,X773,AA773,AI772,AI771))","v":5888}]
[{"$f":"O774*100+P774","v":602403},{"$f":"IF(C774=\"\",\"\",IF(C774=C773,B773,MAX(AI773,AI772)+1))","v":5886},"收集岛屿灵石",{"$f":"IF(E774=\"\",\"\",IF(E774=E773,D773,MAX(AI773,AI772,B774)+1))","v":""},{"$nulls":5},100,{"$f":"IF(J774=\"\",\"\",VLOOKUP(J774,EventNPC!A:E,5,FALSE))","v":"玩家"},{"$f":"IF(M774=\"\",\"\",MAX(AI773,AI772,B774,D774)+1)","v":5889},"从妖兽身上找到了这些浮岛灵石。",null,6024,{"$f":"IF(O774=\"\",\"\",IF(O774=O773,P773+1,1))","v":3},{"$f":"_xlfn.TEXTJOIN(\";\",1,R774:S774)","v":"41"},41,null,{"$f":"IF(R774=\"\",\"\",\"-\"&VLOOKUP(R774,EventConditionConfig!A:C,3,FALSE)&IF(S774=\"\",\"\",CHAR(10)&\"-\"&VLOOKUP(S774,EventConditionConfig!A:C,3,FALSE)))","v":"-完成神识探索-误食灵石的妖兽"},{"$f":"IF(Y774=\"\",\"\",IF(ISTEXT(Y774),1,2))","v":""},{"$f":"IF(U774=1,_xlfn.TEXTJOIN(\";\",1,IF(Z774=\"\",A774+1,Z774),IF(AND(AA774<>\"\",AC774=\"\"),A774+1,AC774)),IF(U774=2,Y774,\"\"))","v":""},{"$f":"_xlfn.TEXTJOIN(\";\",1,X774,AA774)","v":""},{"$f":"IF(OR(ISNUMBER(Y774),Y774=\"\"),\"\",MAX(AI773,AI772,B774,D774,L774)+1)","v":""},null,null,{"$f":"IF(OR(ISNUMBER(AB774),AB774=\"\"),\"\",X774+1)","v":""},{"$nulls":4},{"$f":"IF(A774=\"\",\"\",IF(ISNUMBER(Y774),2,IF(A775=\"\",IF(OR(AH774>0,VLOOKUP(O774,EventConfig!A:C,3,FALSE)=4),3,\"\"),1)))","v":1},{"$f":"IF(AF774=\"\",\"\",CHOOSE(AF774,IF(AH774=\"\",A774+1,AH774),CONCATENATE(IF(AH774=\"\",A774+1,AH774),\";101\"),IF(AH774=\"\",O774+1,AH774)))","v":602404},null,{"$f":"IF(A774=\"\",\"\",MAX(B774,D774,L774,X774,AA774,AI773,AI772))","v":5889}]
[602404,5886,"收集岛屿灵石","",{"$nulls":5},122,{"$f":"IF(J775=\"\",\"\",VLOOKUP(J775,EventNPC!A:E,5,FALSE))","v":"风瑶"},5890,"（仔细检查，脸色微变）这黑纹……是云隐宗禁地阵法的痕迹！\n长老们可能在用阵法掩盖什么。",null,6024,4,"",null,null,{"$f":"IF(R775=\"\",\"\",\"-\"&VLOOKUP(R775,EventConditionConfig!A:C,3,FALSE)&IF(S775=\"\",\"\",CHAR(10)&\"-\"&VLOOKUP(S775,EventConditionConfig!A:C,3,FALSE)))","v":""},"","","","",null,null,"",{"$nulls":4},{"$f":"IF(A775=\"\",\"\",IF(ISNUMBER(Y775),2,IF(A776=\"\",IF(OR(AH775>0,VLOOKUP(O775,EventConfig!A:C,3,FALSE)=4),3,\"\"),1)))","v":""},"",null,5890]
[{"$nulls":15},""]
[{"$f":"O777*100+P777","v":602501},{"$f":"IF(C777=\"\",\"\",IF(C777=C776,B776,MAX(AI776,AI775)+1))","v":5891},"探索神识获得密信",{"$f":"IF(E777=\"\",\"\",IF(E777=E776,D776,MAX(AI776,AI775,B777)+1))","v":""},{"$nulls":5},122,{"$f":"IF(J777=\"\",\"\",VLOOKUP(J777,EventNPC!A:E,5,FALSE))","v":"风瑶"},{"$f":"IF(M777=\"\",\"\",MAX(AI776,AI775,B777,D777)+1)","v":5892},"我利用阵法放大了我的神识。捕捉到一缕从云隐宗方向飘来的风信。里面可能有长老的密信，你能帮我截获吗？",null,6025,1,{"$f":"_xlfn.TEXTJOIN(\";\",1,R777:S777)","v":""},null,null,{"$f":"IF(R777=\"\",\"\",\"-\"&VLOOKUP(R777,EventConditionConfig!A:C,3,FALSE)&IF(S777=\"\",\"\",CHAR(10)&\"-\"&VLOOKUP(S777,EventConditionConfig!A:C,3,FALSE)))","v":""},{"$f":"IF(Y777=\"\",\"\",IF(ISTEXT(Y777),1,2))","v":1},{"$f":"IF(U777=1,_xlfn.TEXTJOIN(\";\",1,IF(Z777=\"\",A777+1,Z777),IF(AND(AA777<>\"\",AC777=\"\"),A777+1,AC777)),IF(U777=2,Y777,\"\"))","v":"602502"},{"$f":"_xlfn.TEXTJOIN(\";\",1,X777,AA777)","v":"5893"},{"$f":"IF(OR(ISNUMBER(Y777),Y777=\"\"),\"\",MAX(AI776,AI775,B777,D777,L777)+1)","v":5893},"好的，我试试。",null,{"$f":"IF(OR(ISNUMBER(AB777),AB777=\"\"),\"\",X777+1)","v":""},{"$nulls":4},{"$f":"IF(A777=\"\",\"\",IF(ISNUMBER(Y777),2,IF(A778=\"\",IF(OR(AH777>0,VLOOKUP(O777,EventConfig!A:C,3,FALSE)=4),3,\"\"),1)))","v":1},{"$f":"IF(AF777=\"\",\"\",CHOOSE(AF777,IF(AH777=\"\",A777+1,AH777),CONCATENATE(IF(AH777=\"\",A777+1,AH777),\";101\"),IF(AH777=\"\",O777+1,AH777)))","v":602502},null,{"$f":"IF(A777=\"\",\"\",MAX(B777,D777,L777,X777,AA777,AI776,AI775))","v":5893}]
[{"$f":"O778*100+P778","v":602502},{"$f":"IF(C778=\"\",\"\",IF(C778=C777,B777,MAX(AI777,AI776)+1))","v":5894},"击败信使",{"$f":"IF(E778=\"\",\"\",IF(E778=E777,D777,MAX(AI777,AI776,B778)+1))","v":""},{"$nulls":6},{"$f":"IF(J778=\"\",\"\",VLOOKUP(J778,EventNPC!A:E,5,FALSE))","v":""},{"$f":"IF(M778=\"\",\"\",MAX(AI777,AI776,B778,D778)+1)","v":""},null,null,6025,2,{"$f":"_xlfn.TEXTJOIN(\";\",1,R778:S778)","v":"42"},42,null,{"$f":"IF(R778=\"\",\"\",\"-\"&VLOOKUP(R778,EventConditionConfig!A:C,3,FALSE)&IF(S778=\"\",\"\",CHAR(10)&\"-\"&VLOOKUP(S778,EventConditionConfig!A:C,3,FALSE)))","v":"-完成神识探索-云隐宗长老密信"},{"$f":"IF(Y778=\"\",\"\",IF(ISTEXT(Y778),1,2))","v":1},{"$f":"IF(U778=1,_xlfn.TEXTJOIN(\";\",1,IF(Z778=\"\",A778+1,Z778),IF(AND(AA778<>\"\",AC778=\"\"),A778+1,AC778)),IF(U778=2,Y778,\"\"))","v":"602503"},{"$f":"_xlfn.TEXTJOIN(\";\",1,X778,AA778)","v":"5895"},{"$f":"IF(OR(ISNUMBER(Y778),Y778=\"\"),\"\",MAX(AI777,AI776,B778,D778,L778)+1)","v":5895},"找到一封信，你看看。",null,{"$f":"IF(OR(ISNUMBER(AB778),AB778=\"\"),\"\",X778+1)","v":""},{"$nulls":4},{"$f":"IF(A778=\"\",\"\",IF(ISNUMBER(Y778),2,IF(A779=\"\",IF(OR(AH778>0,VLOOKUP(O778,EventConfig!A:C,3,FALSE)=4),3,\"\"),1)))","v":1},{"$f":"IF(AF778=\"\",\"\",CHOOSE(AF778,IF(AH778=\"\",A778+1,AH778),CONCATENATE(IF(AH778=\"\",A778+1,AH778),\";101\"),IF(AH778=\"\",O778+1,AH778)))","v":602503},null,{"$f":"IF(A778=\"\",\"\",MAX(B778,D778,L778,X778,AA778,AI777,AI776))","v":5895}]
[602503,5896,"探索神识获得密信","",{"$nulls":5},122,{"$f":"IF(J779=\"\",\"\",VLOOKUP(J779,EventNPC!A:E,5,FALSE))","v":"风瑶"},5897,"（震惊，但保持冷静）果然有大长老在修炼禁术。\n但信中没提阵法细节，看来长老们野心不小，去帮我找兄长！",null,6025,3,"",null,null,{"$f":"IF(R779=\"\",\"\",\"-\"&VLOOKUP(R779,EventConditionConfig!A:C,3,FALSE)&IF(S779=\"\",\"\",CHAR(10)&\"-\"&VLOOKUP(S779,EventConditionConfig!A:C,3,FALSE)))","v":""},"","","","",null,null,"",{"$nulls":4},{"$f":"IF(A779=\"\",\"\",IF(ISNUMBER(Y779),2,IF(A780=\"\",IF(OR(AH779>0,VLOOKUP(O779,EventConfig!A:C,3,FALSE)=4),3,\"\"),1)))","v":""},"",null,5897]
[{"$nulls":15},""]
[{"$f":"O781*100+P781","v":602601},{"$f":"IF(C781=\"\",\"\",IF(C781=C780,B780,MAX(AI780,AI779)+1))","v":5898},"完成与风瑶和疯道人的三方对话",{"$f":"IF(E781=\"\",\"\",IF(E781=E780,D780,MAX(AI780,AI779,B781)+1))","v":""},{"$nulls":6},{"$f":"IF(J781=\"\",\"\",VLOOKUP(J781,EventNPC!A:E,5,FALSE))","v":""},{"$f":"IF(M781=\"\",\"\",MAX(AI780,AI779,B781,D781)+1)","v":5899},"你找到疯道人，带他来见风瑶。（三人聚于岛边）",null,6026,1,{"$f":"_xlfn.TEXTJOIN(\";\",1,R781:S781)","v":""},null,null,{"$f":"IF(R781=\"\",\"\",\"-\"&VLOOKUP(R781,EventConditionConfig!A:C,3,FALSE)&IF(S781=\"\",\"\",CHAR(10)&\"-\"&VLOOKUP(S781,EventConditionConfig!A:C,3,FALSE)))","v":""},{"$f":"IF(Y781=\"\",\"\",IF(ISTEXT(Y781),1,2))","v":""},{"$f":"IF(U781=1,_xlfn.TEXTJOIN(\";\",1,IF(Z781=\"\",A781+1,Z781),IF(AND(AA781<>\"\",AC781=\"\"),A781+1,AC781)),IF(U781=2,Y781,\"\"))","v":""},{"$f":"_xlfn.TEXTJOIN(\";\",1,X781,AA781)","v":""},{"$f":"IF(OR(ISNUMBER(Y781),Y781=\"\"),\"\",MAX(AI780,AI779,B781,D781,L781)+1)","v":""},null,null,{"$f":"IF(OR(ISNUMBER(AB781),AB781=\"\"),\"\",X781+1)","v":""},{"$nulls":4},{"$f":"IF(A781=\"\",\"\",IF(ISNUMBER(Y781),2,IF(A782=\"\",IF(OR(AH781>0,VLOOKUP(O781,EventConfig!A:C,3,FALSE)=4),3,\"\"),1)))","v":1},{"$f":"IF(AF781=\"\",\"\",CHOOSE(AF781,IF(AH781=\"\",A781+1,AH781),CONCATENATE(IF(AH781=\"\",A781+1,AH781),\";101\"),IF(AH781=\"\",O781+1,AH781)))","v":602602},null,{"$f":"IF(A781=\"\",\"\",MAX(B781,D781,L781,X781,AA781,AI780,AI779))","v":5899}]
[{"$f":"O782*100+P782","v":602602},{"$f":"IF(C782=\"\",\"\",IF(C782=C781,B781,MAX(AI781,AI780)+1))","v":5898},"完成与风瑶和疯道人的三方对话",{"$f":"IF(E782=\"\",\"\",IF(E782=E781,D781,MAX(AI781,AI780,B782)+1))","v":""},{"$nulls":5},122,{"$f":"IF(J782=\"\",\"\",VLOOKUP(J782,EventNPC!A:E,5,FALSE))","v":"风瑶"},{"$f":"IF(M782=\"\",\"\",MAX(AI781,AI780,B782,D782)+1)","v":5900},"这些线索让我害怕……",null,6026,2,{"$f":"_xlfn.TEXTJOIN(\";\",1,R782:S782)","v":""},null,null,{"$f":"IF(R782=\"\",\"\",\"-\"&VLOOKUP(R782,EventConditionConfig!A:C,3,FALSE)&IF(S782=\"\",\"\",CHAR(10)&\"-\"&VLOOKUP(S782,EventConditionConfig!A:C,3,FALSE)))","v":""},{"$f":"IF(Y782=\"\",\"\",IF(ISTEXT(Y782),1,2))","v":""},{"$f":"IF(U782=1,_xlfn.TEXTJOIN(\";\",1,IF(Z782=\"\",A782+1,Z782),IF(AND(AA782<>\"\",AC782=\"\"),A782+1,AC782)),IF(U782=2,Y782,\"\"))","v":""},{"$f":"_xlfn.TEXTJOIN(\";\",1,X782,AA782)","v":""},{"$f":"IF(OR(ISNUMBER(Y782),Y782=\"\"),\"\",MAX(AI781,AI780,B782,D782,L782)+1)","v":""},null,null,{"$f":"IF(OR(ISNUMBER(AB782),AB782=\"\"),\"\",X782+1)","v":""},{"$nulls":4},{"$f":"IF(A782=\"\",\"\",IF(ISNUMBER(Y782),2,IF(A783=\"\",IF(OR(AH782>0,VLOOKUP(O782,EventConfig!A:C,3,FALSE)=4),3,\"\"),1)))","v":1},{"$f":"IF(AF782=\"\",\"\",CHOOSE(AF782,IF(AH782=\"\",A782+1,AH782),CONCATENATE(IF(AH782=\"\",A782+1,AH782),\";101\"),IF(AH782=\"\",O782+1,AH782)))","v":602603},null,{"$f":"IF(A782=\"\",\"\",MAX(B782,D782,L782,X782,AA782,AI781,AI780))","v":5900}]
[{"$f":"O783*100+P783","v":602603},{"$f":"IF(C783=\"\",\"\",IF(C783=C782,B782,MAX(AI782,AI781)+1))","v":5898},"完成与风瑶和疯道人的三方对话",{"$f":"IF(E783=\"\",\"\",IF(E783=E782,D782,MAX(AI782,AI781,B783)+1))","v":""},{"$nulls":5},103,{"$f":"IF(J783=\"\",\"\",VLOOKUP(J783,EventNPC!A:E,5,FALSE))","v":"疯道人"},{"$f":"IF(M783=\"\",\"\",MAX(AI782,AI781,B783,D783)+1)","v":5901},"妹妹，你又在查云隐宗的事？那地方，早就不干净了。",null,6026,3,{"$f":"_xlfn.TEXTJOIN(\";\",1,R783:S783)","v":""},null,null,{"$f":"IF(R783=\"\",\"\",\"-\"&VLOOKUP(R783,EventConditionConfig!A:C,3,FALSE)&IF(S783=\"\",\"\",CHAR(10)&\"-\"&VLOOKUP(S783,EventConditionConfig!A:C,3,FALSE)))","v":""},{"$f":"IF(Y783=\"\",\"\",IF(ISTEXT(Y783),1,2))","v":""},{"$f":"IF(U783=1,_xlfn.TEXTJOIN(\";\",1,IF(Z783=\"\",A783+1,Z783),IF(AND(AA783<>\"\",AC783=\"\"),A783+1,AC783)),IF(U783=2,Y783,\"\"))","v":""},{"$f":"_xlfn.TEXTJOIN(\";\",1,X783,AA783)","v":""},{"$f":"IF(OR(ISNUMBER(Y783),Y783=\"\"),\"\",MAX(AI782,AI781,B783,D783,L783)+1)","v":""},null,null,{"$f":"IF(OR(ISNUMBER(AB783),AB783=\"\"),\"\",X783+1)","v":""},{"$nulls":4},{"$f":"IF(A783=\"\",\"\",IF(ISNUMBER(Y783),2,IF(A784=\"\",IF(OR(AH783>0,VLOOKUP(O783,EventConfig!A:C,3,FALSE)=4),3,\"\"),1)))","v":1},{"$f":"IF(AF783=\"\",\"\",CHOOSE(AF783,IF(AH783=\"\",A783+1,AH783),CONCATENATE(IF(AH783=\"\",A783+1,AH783),\";101\"),IF(AH783=\"\",O783+1,AH783)))","v":602604},null,{"$f":"IF(A783=\"\",\"\",MAX(B783,D783,L783,X783,AA783,AI782,AI781))","v":5901}]
[602604,5898,"完成与风瑶和疯道人的三方对话","",{"$nulls":5},122,{"$f":"IF(J784=\"\",\"\",VLOOKUP(J784,EventNPC!A:E,5,FALSE))","v":"风瑶"},5902,"兄长，你知道？他们与魔修勾结！",null,6026,4,"",null,null,{"$f":"IF(R784=\"\",\"\",\"-\"&VLOOKUP(R784,EventConditionConfig!A:C,3,FALSE)&IF(S784=\"\",\"\",CHAR(10)&\"-\"&VLOOKUP(S784,EventConditionConfig!A:C,3,FALSE)))","v":""},"","","","",null,null,"",{"$nulls":4},{"$f":"IF(A784=\"\",\"\",IF(ISNUMBER(Y784),2,IF(A785=\"\",IF(OR(AH784>0,VLOOKUP(O784,EventConfig!A:C,3,FALSE)=4),3,\"\"),1)))","v":1},602605,null,5902]
[{"$f":"O785*100+P785","v":602605},{"$f":"IF(C785=\"\",\"\",IF(C785=C784,B784,MAX(AI784,AI783)+1))","v":5898},"完成与风瑶和疯道人的三方对话",{"$f":"IF(E785=\"\",\"\",IF(E785=E784,D784,MAX(AI784,AI783,B785)+1))","v":""},{"$nulls":5},103,{"$f":"IF(J785=\"\",\"\",VLOOKUP(J785,EventNPC!A:E,5,FALSE))","v":"疯道人"},{"$f":"IF(M785=\"\",\"\",MAX(AI784,AI783,B785,D785)+1)","v":5903},"（叹息）我早有察觉，当年离开宗门，就是因为长老们开始炼制诡丹，借宗门资源为私。\n我无意参与斗争，因此离开。",null,6026,5,{"$f":"_xlfn.TEXTJOIN(\";\",1,R785:S785)","v":""},null,null,{"$f":"IF(R785=\"\",\"\",\"-\"&VLOOKUP(R785,EventConditionConfig!A:C,3,FALSE)&IF(S785=\"\",\"\",CHAR(10)&\"-\"&VLOOKUP(S785,EventConditionConfig!A:C,3,FALSE)))","v":""},{"$f":"IF(Y785=\"\",\"\",IF(ISTEXT(Y785),1,2))","v":1},{"$f":"IF(U785=1,_xlfn.TEXTJOIN(\";\",1,IF(Z785=\"\",A785+1,Z785),IF(AND(AA785<>\"\",AC785=\"\"),A785+1,AC785)),IF(U785=2,Y785,\"\"))","v":"602606"},{"$f":"_xlfn.TEXTJOIN(\";\",1,X785,AA785)","v":"5904"},{"$f":"IF(OR(ISNUMBER(Y785),Y785=\"\"),\"\",MAX(AI784,AI783,B785,D785,L785)+1)","v":5904},"我们该如何应对？",null,{"$f":"IF(OR(ISNUMBER(AB785),AB785=\"\"),\"\",X785+1)","v":""},{"$nulls":4},{"$f":"IF(A785=\"\",\"\",IF(ISNUMBER(Y785),2,IF(A786=\"\",IF(OR(AH785>0,VLOOKUP(O785,EventConfig!A:C,3,FALSE)=4),3,\"\"),1)))","v":1},{"$f":"IF(AF785=\"\",\"\",CHOOSE(AF785,IF(AH785=\"\",A785+1,AH785),CONCATENATE(IF(AH785=\"\",A785+1,AH785),\";101\"),IF(AH785=\"\",O785+1,AH785)))","v":602606},null,{"$f":"IF(A785=\"\",\"\",MAX(B785,D785,L785,X785,AA785,AI784,AI783))","v":5904}]
[602606,5898,"完成与风瑶和疯道人的三方对话","",{"$nulls":5},122,{"$f":"IF(J786=\"\",\"\",VLOOKUP(J786,EventNPC!A:E,5,FALSE))","v":"风瑶"},5905,"（坚定）不能就这样不管！",null,6026,6,"",null,null,{"$f":"IF(R786=\"\",\"\",\"-\"&VLOOKUP(R786,EventConditionConfig!A:C,3,FALSE)&IF(S786=\"\",\"\",CHAR(10)&\"-\"&VLOOKUP(S786,EventConditionConfig!A:C,3,FALSE)))","v":""},"","","","",null,null,"",{"$nulls":4},{"$f":"IF(A786=\"\",\"\",IF(ISNUMBER(Y786),2,IF(A787=\"\",IF(OR(AH786>0,VLOOKUP(O786,EventConfig!A:C,3,FALSE)=4),3,\"\"),1)))","v":1},602607,null,5905]
[602607,5898,"完成与风瑶和疯道人的三方对话","",{"$nulls":5},103,{"$f":"IF(J787=\"\",\"\",VLOOKUP(J787,EventNPC!A:E,5,FALSE))","v":"疯道人"},5906,"小友，你走吧，云隐宗的事，别卷太深。",null,6026,7,"",null,null,{"$f":"IF(R787=\"\",\"\",\"-\"&VLOOKUP(R787,EventConditionConfig!A:C,3,FALSE)&IF(S787=\"\",\"\",CHAR(10)&\"-\"&VLOOKUP(S787,EventConditionConfig!A:C,3,FALSE)))","v":""},"","","","",null,null,"",{"$nulls":4},{"$f":"IF(A787=\"\",\"\",IF(ISNUMBER(Y787),2,IF(A788=\"\",IF(OR(AH787>0,VLOOKUP(O787,EventConfig!A:C,3,FALSE)=4),3,\"\"),1)))","v":""},"",null,5906]
[{"$nulls":15},""]
[{"$f":"O789*100+P789","v":603101},{"$f":"IF(C789=\"\",\"\",IF(C789=C788,B788,MAX(AI788,AI787)+1))","v":5907},"完成所有对话",{"$f":"IF(E789=\"\",\"\",IF(E789=E788,D788,MAX(AI788,AI787,B789)+1))","v":""},{"$nulls":6},{"$f":"IF(J789=\"\",\"\",VLOOKUP(J789,EventNPC!A:E,5,FALSE))","v":""},{"$f":"IF(M789=\"\",\"\",MAX(AI788,AI787,B789,D789)+1)","v":5908},"你沿着溪水小径前行，一位纤细优雅的女子正弯腰采摘溪边灵草，她的浅褐长发如藤蔓般垂落，眼睛柔和宁静。她抬起头，微微一笑，仿佛山林中的一缕清风。",null,6031,1,{"$f":"_xlfn.TEXTJOIN(\";\",1,R789:S789)","v":""},null,null,{"$f":"IF(R789=\"\",\"\",\"-\"&VLOOKUP(R789,EventConditionConfig!A:C,3,FALSE)&IF(S789=\"\",\"\",CHAR(10)&\"-\"&VLOOKUP(S789,EventConditionConfig!A:C,3,FALSE)))","v":""},{"$f":"IF(Y789=\"\",\"\",IF(ISTEXT(Y789),1,2))","v":""},{"$f":"IF(U789=1,_xlfn.TEXTJOIN(\";\",1,IF(Z789=\"\",A789+1,Z789),IF(AND(AA789<>\"\",AC789=\"\"),A789+1,AC789)),IF(U789=2,Y789,\"\"))","v":""},{"$f":"_xlfn.TEXTJOIN(\";\",1,X789,AA789)","v":""},{"$f":"IF(OR(ISNUMBER(Y789),Y789=\"\"),\"\",MAX(AI788,AI787,B789,D789,L789)+1)","v":""},null,null,{"$f":"IF(OR(ISNUMBER(AB789),AB789=\"\"),\"\",X789+1)","v":""},{"$nulls":4},{"$f":"IF(A789=\"\",\"\",IF(ISNUMBER(Y789),2,IF(A790=\"\",IF(OR(AH789>0,VLOOKUP(O789,EventConfig!A:C,3,FALSE)=4),3,\"\"),1)))","v":1},{"$f":"IF(AF789=\"\",\"\",CHOOSE(AF789,IF(AH789=\"\",A789+1,AH789),CONCATENATE(IF(AH789=\"\",A789+1,AH789),\";101\"),IF(AH789=\"\",O789+1,AH789)))","v":603102},null,{"$f":"IF(A789=\"\",\"\",MAX(B789,D789,L789,X789,AA789,AI788,AI787))","v":5908}]
[{"$f":"O790*100+P790","v":603102},{"$f":"IF(C790=\"\",\"\",IF(C790=C789,B789,MAX(AI789,AI788)+1))","v":5907},"完成所有对话",{"$f":"IF(E790=\"\",\"\",IF(E790=E789,D789,MAX(AI789,AI788,B790)+1))","v":""},{"$nulls":5},100,{"$f":"IF(J790=\"\",\"\",VLOOKUP(J790,EventNPC!A:E,5,FALSE))","v":"玩家"},{"$f":"IF(M790=\"\",\"\",MAX(AI789,AI788,B790,D790)+1)","v":5909},"敢问道友是？",null,6031,2,{"$f":"_xlfn.TEXTJOIN(\";\",1,R790:S790)","v":""},null,null,{"$f":"IF(R790=\"\",\"\",\"-\"&VLOOKUP(R790,EventConditionConfig!A:C,3,FALSE)&IF(S790=\"\",\"\",CHAR(10)&\"-\"&VLOOKUP(S790,EventConditionConfig!A:C,3,FALSE)))","v":""},{"$f":"IF(Y790=\"\",\"\",IF(ISTEXT(Y790),1,2))","v":""},{"$f":"IF(U790=1,_xlfn.TEXTJOIN(\";\",1,IF(Z790=\"\",A790+1,Z790),IF(AND(AA790<>\"\",AC790=\"\"),A790+1,AC790)),IF(U790=2,Y790,\"\"))","v":""},{"$f":"_xlfn.TEXTJOIN(\";\",1,X790,AA790)","v":""},{"$f":"IF(OR(ISNUMBER(Y790),Y790=\"\"),\"\",MAX(AI789,AI788,B790,D790,L790)+1)","v":""},null,null,{"$f":"IF(OR(ISNUMBER(AB790),AB790=\"\"),\"\",X790+1)","v":""},{"$nulls":4},{"$f":"IF(A790=\"\",\"\",IF(ISNUMBER(Y790),2,IF(A791=\"\",IF(OR(AH790>0,VLOOKUP(O790,EventConfig!A:C,3,FALSE)=4),3,\"\"),1)))","v":1},{"$f":"IF(AF790=\"\",\"\",CHOOSE(AF790,IF(AH790=\"\",A790+1,AH790),CONCATENATE(IF(AH790=\"\",A790+1,AH790),\";101\"),IF(AH790=\"\",O790+1,AH790)))","v":603103},null,{"$f":"IF(A790=\"\",\"\",MAX(B790,D790,L790,X790,AA790,AI789,AI788))","v":5909}]
[{"$f":"O791*100+P791","v":603103},{"$f":"IF(C791=\"\",\"\",IF(C791=C790,B790,MAX(AI790,AI789)+1))","v":5907},"完成所有对话",{"$f":"IF(E791=\"\",\"\",IF(E791=E790,D790,MAX(AI790,AI789,B791)+1))","v":""},{"$nulls":5},5,{"$f":"IF(J791=\"\",\"\",VLOOKUP(J791,EventNPC!A:E,5,FALSE))","v":"婉溪"},{"$f":"IF(M791=\"\",\"\",MAX(AI790,AI789,B791,D791)+1)","v":5910},"（温和地直起身，声音如溪水潺潺）我是婉溪，兄长的妹妹。这里是幽山秘境，我们家族世代隐居于此，守护着一些古老的灵植。",null,6031,3,{"$f":"_xlfn.TEXTJOIN(\";\",1,R791:S791)","v":""},null,null,{"$f":"IF(R791=\"\",\"\",\"-\"&VLOOKUP(R791,EventConditionConfig!A:C,3,FALSE)&IF(S791=\"\",\"\",CHAR(10)&\"-\"&VLOOKUP(S791,EventConditionConfig!A:C,3,FALSE)))","v":""},{"$f":"IF(Y791=\"\",\"\",IF(ISTEXT(Y791),1,2))","v":""},{"$f":"IF(U791=1,_xlfn.TEXTJOIN(\";\",1,IF(Z791=\"\",A791+1,Z791),IF(AND(AA791<>\"\",AC791=\"\"),A791+1,AC791)),IF(U791=2,Y791,\"\"))","v":""},{"$f":"_xlfn.TEXTJOIN(\";\",1,X791,AA791)","v":""},{"$f":"IF(OR(ISNUMBER(Y791),Y791=\"\"),\"\",MAX(AI790,AI789,B791,D791,L791)+1)","v":""},null,null,{"$f":"IF(OR(ISNUMBER(AB791),AB791=\"\"),\"\",X791+1)","v":""},{"$nulls":4},{"$f":"IF(A791=\"\",\"\",IF(ISNUMBER(Y791),2,IF(A792=\"\",IF(OR(AH791>0,VLOOKUP(O791,EventConfig!A:C,3,FALSE)=4),3,\"\"),1)))","v":1},{"$f":"IF(AF791=\"\",\"\",CHOOSE(AF791,IF(AH791=\"\",A791+1,AH791),CONCATENATE(IF(AH791=\"\",A791+1,AH791),\";101\"),IF(AH791=\"\",O791+1,AH791)))","v":603104},null,{"$f":"IF(A791=\"\",\"\",MAX(B791,D791,L791,X791,AA791,AI790,AI789))","v":5910}]
[{"$f":"O792*100+P792","v":603104},{"$f":"IF(C792=\"\",\"\",IF(C792=C791,B791,MAX(AI791,AI790)+1))","v":5907},"完成所有对话",{"$f":"IF(E792=\"\",\"\",IF(E792=E791,D791,MAX(AI791,AI790,B792)+1))","v":""},{"$nulls":5},5,{"$f":"IF(J792=\"\",\"\",VLOOKUP(J792,EventNPC!A:E,5,FALSE))","v":"婉溪"},{"$f":"IF(M792=\"\",\"\",MAX(AI791,AI790,B792,D792)+1)","v":5911},"我平日帮兄长劳作，种些茶草，煮些清茶。",null,6031,4,{"$f":"_xlfn.TEXTJOIN(\";\",1,R792:S792)","v":""},null,null,{"$f":"IF(R792=\"\",\"\",\"-\"&VLOOKUP(R792,EventConditionConfig!A:C,3,FALSE)&IF(S792=\"\",\"\",CHAR(10)&\"-\"&VLOOKUP(S792,EventConditionConfig!A:C,3,FALSE)))","v":""},{"$f":"IF(Y792=\"\",\"\",IF(ISTEXT(Y792),1,2))","v":""},{"$f":"IF(U792=1,_xlfn.TEXTJOIN(\";\",1,IF(Z792=\"\",A792+1,Z792),IF(AND(AA792<>\"\",AC792=\"\"),A792+1,AC792)),IF(U792=2,Y792,\"\"))","v":""},{"$f":"_xlfn.TEXTJOIN(\";\",1,X792,AA792)","v":""},{"$f":"IF(OR(ISNUMBER(Y792),Y792=\"\"),\"\",MAX(AI791,AI790,B792,D792,L792)+1)","v":""},null,null,{"$f":"IF(OR(ISNUMBER(AB792),AB792=\"\"),\"\",X792+1)","v":""},{"$nulls":4},{"$f":"IF(A792=\"\",\"\",IF(ISNUMBER(Y792),2,IF(A793=\"\",IF(OR(AH792>0,VLOOKUP(O792,EventConfig!A:C,3,FALSE)=4),3,\"\"),1)))","v":1},{"$f":"IF(AF792=\"\",\"\",CHOOSE(AF792,IF(AH792=\"\",A792+1,AH792),CONCATENATE(IF(AH792=\"\",A792+1,AH792),\";101\"),IF(AH792=\"\",O792+1,AH792)))","v":603105},null,{"$f":"IF(A792=\"\",\"\",MAX(B792,D792,L792,X792,AA792,AI791,AI790))","v":5911}]
[{"$f":"O793*100+P793","v":603105},{"$f":"IF(C793=\"\",\"\",IF(C793=C792,B792,MAX(AI792,AI791)+1))","v":5907},"完成所有对话",{"$f":"IF(E793=\"\",\"\",IF(E793=E792,D792,MAX(AI792,AI791,B793)+1))","v":""},{"$nulls":5},5,{"$f":"IF(J793=\"\",\"\",VLOOKUP(J793,EventNPC!A:E,5,FALSE))","v":"婉溪"},{"$f":"IF(M793=\"\",\"\",MAX(AI792,AI791,B793,D793)+1)","v":5912},"你是外来游历的修士吧？山林幽静，少有客人。",null,6031,5,{"$f":"_xlfn.TEXTJOIN(\";\",1,R793:S793)","v":""},null,null,{"$f":"IF(R793=\"\",\"\",\"-\"&VLOOKUP(R793,EventConditionConfig!A:C,3,FALSE)&IF(S793=\"\",\"\",CHAR(10)&\"-\"&VLOOKUP(S793,EventConditionConfig!A:C,3,FALSE)))","v":""},{"$f":"IF(Y793=\"\",\"\",IF(ISTEXT(Y793),1,2))","v":1},{"$f":"IF(U793=1,_xlfn.TEXTJOIN(\";\",1,IF(Z793=\"\",A793+1,Z793),IF(AND(AA793<>\"\",AC793=\"\"),A793+1,AC793)),IF(U793=2,Y793,\"\"))","v":"603106;603106"},{"$f":"_xlfn.TEXTJOIN(\";\",1,X793,AA793)","v":"5913;5914"},{"$f":"IF(OR(ISNUMBER(Y793),Y793=\"\"),\"\",MAX(AI792,AI791,B793,D793,L793)+1)","v":5913},"是的，我在寻七道心境。",null,{"$f":"IF(OR(ISNUMBER(AB793),AB793=\"\"),\"\",X793+1)","v":5914},"许由前辈让我帮忙开辟灵田。",null,null,null,{"$f":"IF(A793=\"\",\"\",IF(ISNUMBER(Y793),2,IF(A794=\"\",IF(OR(AH793>0,VLOOKUP(O793,EventConfig!A:C,3,FALSE)=4),3,\"\"),1)))","v":1},{"$f":"IF(AF793=\"\",\"\",CHOOSE(AF793,IF(AH793=\"\",A793+1,AH793),CONCATENATE(IF(AH793=\"\",A793+1,AH793),\";101\"),IF(AH793=\"\",O793+1,AH793)))","v":603106},null,{"$f":"IF(A793=\"\",\"\",MAX(B793,D793,L793,X793,AA793,AI792,AI791))","v":5914}]
[603106,5907,"完成所有对话","",{"$nulls":5},5,{"$f":"IF(J794=\"\",\"\",VLOOKUP(J794,EventNPC!A:E,5,FALSE))","v":"婉溪"},5915,"（轻笑）兄长总爱麻烦人……不过你来得巧，我正缺些帮手。溪边灵田的种子发芽了，但需人照料。",null,6031,6,"",null,null,{"$f":"IF(R794=\"\",\"\",\"-\"&VLOOKUP(R794,EventConditionConfig!A:C,3,FALSE)&IF(S794=\"\",\"\",CHAR(10)&\"-\"&VLOOKUP(S794,EventConditionConfig!A:C,3,FALSE)))","v":""},"","","","",null,null,"",{"$nulls":4},{"$f":"IF(A794=\"\",\"\",IF(ISNUMBER(Y794),2,IF(A795=\"\",IF(OR(AH794>0,VLOOKUP(O794,EventConfig!A:C,3,FALSE)=4),3,\"\"),1)))","v":1},603107,null,5915]
[{"$f":"O795*100+P795","v":603107},{"$f":"IF(C795=\"\",\"\",IF(C795=C794,B794,MAX(AI794,AI793)+1))","v":5907},"完成所有对话",{"$f":"IF(E795=\"\",\"\",IF(E795=E794,D794,MAX(AI794,AI793,B795)+1))","v":""},{"$nulls":5},5,{"$f":"IF(J795=\"\",\"\",VLOOKUP(J795,EventNPC!A:E,5,FALSE))","v":"婉溪"},{"$f":"IF(M795=\"\",\"\",MAX(AI794,AI793,B795,D795)+1)","v":5916},"你若不介意，能帮我浇灌一下吗？，我请你喝杯茶。",null,6031,7,{"$f":"_xlfn.TEXTJOIN(\";\",1,R795:S795)","v":""},null,null,{"$f":"IF(R795=\"\",\"\",\"-\"&VLOOKUP(R795,EventConditionConfig!A:C,3,FALSE)&IF(S795=\"\",\"\",CHAR(10)&\"-\"&VLOOKUP(S795,EventConditionConfig!A:C,3,FALSE)))","v":""},{"$f":"IF(Y795=\"\",\"\",IF(ISTEXT(Y795),1,2))","v":""},{"$f":"IF(U795=1,_xlfn.TEXTJOIN(\";\",1,IF(Z795=\"\",A795+1,Z795),IF(AND(AA795<>\"\",AC795=\"\"),A795+1,AC795)),IF(U795=2,Y795,\"\"))","v":""},{"$f":"_xlfn.TEXTJOIN(\";\",1,X795,AA795)","v":""},{"$f":"IF(OR(ISNUMBER(Y795),Y795=\"\"),\"\",MAX(AI794,AI793,B795,D795,L795)+1)","v":""},null,null,{"$f":"IF(OR(ISNUMBER(AB795),AB795=\"\"),\"\",X795+1)","v":""},{"$nulls":4},{"$f":"IF(A795=\"\",\"\",IF(ISNUMBER(Y795),2,IF(A796=\"\",IF(OR(AH795>0,VLOOKUP(O795,EventConfig!A:C,3,FALSE)=4),3,\"\"),1)))","v":1},{"$f":"IF(AF795=\"\",\"\",CHOOSE(AF795,IF(AH795=\"\",A795+1,AH795),CONCATENATE(IF(AH795=\"\",A795+1,AH795),\";101\"),IF(AH795=\"\",O795+1,AH795)))","v":603108},null,{"$f":"IF(A795=\"\",\"\",MAX(B795,D795,L795,X795,AA795,AI794,AI793))","v":5916}]
[603108,5907,"完成所有对话","",{"$nulls":5},100,{"$f":"IF(J796=\"\",\"\",VLOOKUP(J796,EventNPC!A:E,5,FALSE))","v":"玩家"},5917,"（又喝茶...）\n乐意效劳。",null,6031,8,"",null,null,{"$f":"IF(R796=\"\",\"\",\"-\"&VLOOKUP(R796,EventConditionConfig!A:C,3,FALSE)&IF(S796=\"\",\"\",CHAR(10)&\"-\"&VLOOKUP(S796,EventConditionConfig!A:C,3,FALSE)))","v":""},"","","","",null,null,"",{"$nulls":4},{"$f":"IF(A796=\"\",\"\",IF(ISNUMBER(Y796),2,IF(A797=\"\",IF(OR(AH796>0,VLOOKUP(O796,EventConfig!A:C,3,FALSE)=4),3,\"\"),1)))","v":""},"",null,5917]
[{"$nulls":15},""]
[{"$f":"O798*100+P798","v":603201},{"$f":"IF(C798=\"\",\"\",IF(C798=C797,B797,MAX(AI797,AI796)+1))","v":5918},"浇灌灵田 ",{"$f":"IF(E798=\"\",\"\",IF(E798=E797,D797,MAX(AI797,AI796,B798)+1))","v":""},{"$nulls":6},{"$f":"IF(J798=\"\",\"\",VLOOKUP(J798,EventNPC!A:E,5,FALSE))","v":""},{"$f":"IF(M798=\"\",\"\",MAX(AI797,AI796,B798,D798)+1)","v":5919},"你跟随婉溪来到溪边灵田，新芽嫩绿，灵气缭绕。\n她递给你一个玉瓢，教你如何用溪水滋养，避免惊扰灵根。",null,6032,1,{"$f":"_xlfn.TEXTJOIN(\";\",1,R798:S798)","v":""},null,null,{"$f":"IF(R798=\"\",\"\",\"-\"&VLOOKUP(R798,EventConditionConfig!A:C,3,FALSE)&IF(S798=\"\",\"\",CHAR(10)&\"-\"&VLOOKUP(S798,EventConditionConfig!A:C,3,FALSE)))","v":""},{"$f":"IF(Y798=\"\",\"\",IF(ISTEXT(Y798),1,2))","v":""},{"$f":"IF(U798=1,_xlfn.TEXTJOIN(\";\",1,IF(Z798=\"\",A798+1,Z798),IF(AND(AA798<>\"\",AC798=\"\"),A798+1,AC798)),IF(U798=2,Y798,\"\"))","v":""},{"$f":"_xlfn.TEXTJOIN(\";\",1,X798,AA798)","v":""},{"$f":"IF(OR(ISNUMBER(Y798),Y798=\"\"),\"\",MAX(AI797,AI796,B798,D798,L798)+1)","v":""},null,null,{"$f":"IF(OR(ISNUMBER(AB798),AB798=\"\"),\"\",X798+1)","v":""},{"$nulls":4},{"$f":"IF(A798=\"\",\"\",IF(ISNUMBER(Y798),2,IF(A799=\"\",IF(OR(AH798>0,VLOOKUP(O798,EventConfig!A:C,3,FALSE)=4),3,\"\"),1)))","v":1},{"$f":"IF(AF798=\"\",\"\",CHOOSE(AF798,IF(AH798=\"\",A798+1,AH798),CONCATENATE(IF(AH798=\"\",A798+1,AH798),\";101\"),IF(AH798=\"\",O798+1,AH798)))","v":603202},null,{"$f":"IF(A798=\"\",\"\",MAX(B798,D798,L798,X798,AA798,AI797,AI796))","v":5919}]
[{"$f":"O799*100+P799","v":603202},{"$f":"IF(C799=\"\",\"\",IF(C799=C798,B798,MAX(AI798,AI797)+1))","v":5918},"浇灌灵田 ",{"$f":"IF(E799=\"\",\"\",IF(E799=E798,D798,MAX(AI798,AI797,B799)+1))","v":""},{"$nulls":5},5,{"$f":"IF(J799=\"\",\"\",VLOOKUP(J799,EventNPC!A:E,5,FALSE))","v":"婉溪"},{"$f":"IF(M799=\"\",\"\",MAX(AI798,AI797,B799,D799)+1)","v":5920},"这灵田是我们家族的传承，种的茶草能酿出清心茶。\n可否帮我浇浇水。",null,6032,2,{"$f":"_xlfn.TEXTJOIN(\";\",1,R799:S799)","v":""},null,null,{"$f":"IF(R799=\"\",\"\",\"-\"&VLOOKUP(R799,EventConditionConfig!A:C,3,FALSE)&IF(S799=\"\",\"\",CHAR(10)&\"-\"&VLOOKUP(S799,EventConditionConfig!A:C,3,FALSE)))","v":""},{"$f":"IF(Y799=\"\",\"\",IF(ISTEXT(Y799),1,2))","v":1},{"$f":"IF(U799=1,_xlfn.TEXTJOIN(\";\",1,IF(Z799=\"\",A799+1,Z799),IF(AND(AA799<>\"\",AC799=\"\"),A799+1,AC799)),IF(U799=2,Y799,\"\"))","v":"603203"},{"$f":"_xlfn.TEXTJOIN(\";\",1,X799,AA799)","v":"5921"},{"$f":"IF(OR(ISNUMBER(Y799),Y799=\"\"),\"\",MAX(AI798,AI797,B799,D799,L799)+1)","v":5921},"好的，我去浇水",null,{"$f":"IF(OR(ISNUMBER(AB799),AB799=\"\"),\"\",X799+1)","v":""},{"$nulls":4},{"$f":"IF(A799=\"\",\"\",IF(ISNUMBER(Y799),2,IF(A800=\"\",IF(OR(AH799>0,VLOOKUP(O799,EventConfig!A:C,3,FALSE)=4),3,\"\"),1)))","v":1},{"$f":"IF(AF799=\"\",\"\",CHOOSE(AF799,IF(AH799=\"\",A799+1,AH799),CONCATENATE(IF(AH799=\"\",A799+1,AH799),\";101\"),IF(AH799=\"\",O799+1,AH799)))","v":603203},null,{"$f":"IF(A799=\"\",\"\",MAX(B799,D799,L799,X799,AA799,AI798,AI797))","v":5921}]
[{"$f":"O800*100+P800","v":603203},{"$f":"IF(C800=\"\",\"\",IF(C800=C799,B799,MAX(AI799,AI798)+1))","v":5918},"浇灌灵田 ",{"$f":"IF(E800=\"\",\"\",IF(E800=E799,D799,MAX(AI799,AI798,B800)+1))","v":""},{"$nulls":6},{"$f":"IF(J800=\"\",\"\",VLOOKUP(J800,EventNPC!A:E,5,FALSE))","v":""},{"$f":"IF(M800=\"\",\"\",MAX(AI799,AI798,B800,D800)+1)","v":5922},"玩家看到水面映出自己的镜像，从忙碌御剑到悠闲品茶，镜像模糊后消散。\n（这水中的影子……像是我，却又不像。）",null,6032,3,{"$f":"_xlfn.TEXTJOIN(\";\",1,R800:S800)","v":""},null,null,{"$f":"IF(R800=\"\",\"\",\"-\"&VLOOKUP(R800,EventConditionConfig!A:C,3,FALSE)&IF(S800=\"\",\"\",CHAR(10)&\"-\"&VLOOKUP(S800,EventConditionConfig!A:C,3,FALSE)))","v":""},{"$f":"IF(Y800=\"\",\"\",IF(ISTEXT(Y800),1,2))","v":1},{"$f":"IF(U800=1,_xlfn.TEXTJOIN(\";\",1,IF(Z800=\"\",A800+1,Z800),IF(AND(AA800<>\"\",AC800=\"\"),A800+1,AC800)),IF(U800=2,Y800,\"\"))","v":"603204"},{"$f":"_xlfn.TEXTJOIN(\";\",1,X800,AA800)","v":"5923"},{"$f":"IF(OR(ISNUMBER(Y800),Y800=\"\"),\"\",MAX(AI799,AI798,B800,D800,L800)+1)","v":5923},"灵田已浇灌好",null,{"$f":"IF(OR(ISNUMBER(AB800),AB800=\"\"),\"\",X800+1)","v":""},{"$nulls":4},{"$f":"IF(A800=\"\",\"\",IF(ISNUMBER(Y800),2,IF(A801=\"\",IF(OR(AH800>0,VLOOKUP(O800,EventConfig!A:C,3,FALSE)=4),3,\"\"),1)))","v":1},{"$f":"IF(AF800=\"\",\"\",CHOOSE(AF800,IF(AH800=\"\",A800+1,AH800),CONCATENATE(IF(AH800=\"\",A800+1,AH800),\";101\"),IF(AH800=\"\",O800+1,AH800)))","v":603204},null,{"$f":"IF(A800=\"\",\"\",MAX(B800,D800,L800,X800,AA800,AI799,AI798))","v":5923}]
[603204,5918,"浇灌灵田 ","",{"$nulls":5},5,{"$f":"IF(J801=\"\",\"\",VLOOKUP(J801,EventNPC!A:E,5,FALSE))","v":"婉溪"},5924,"（检查后）多谢，来尝尝我煮的灵茶。",null,6032,4,"",null,null,{"$f":"IF(R801=\"\",\"\",\"-\"&VLOOKUP(R801,EventConditionConfig!A:C,3,FALSE)&IF(S801=\"\",\"\",CHAR(10)&\"-\"&VLOOKUP(S801,EventConditionConfig!A:C,3,FALSE)))","v":""},"","","","",null,null,"",{"$nulls":4},{"$f":"IF(A801=\"\",\"\",IF(ISNUMBER(Y801),2,IF(A802=\"\",IF(OR(AH801>0,VLOOKUP(O801,EventConfig!A:C,3,FALSE)=4),3,\"\"),1)))","v":""},"",null,5924]
[{"$nulls":15},""]
[{"$f":"O803*100+P803","v":603301},{"$f":"IF(C803=\"\",\"\",IF(C803=C802,B802,MAX(AI802,AI801)+1))","v":5925},"给婉溪讲讲外面的世界",{"$f":"IF(E803=\"\",\"\",IF(E803=E802,D802,MAX(AI802,AI801,B803)+1))","v":""},{"$nulls":5},5,{"$f":"IF(J803=\"\",\"\",VLOOKUP(J803,EventNPC!A:E,5,FALSE))","v":"婉溪"},{"$f":"IF(M803=\"\",\"\",MAX(AI802,AI801,B803,D803)+1)","v":5926},"又见面了，坐吧，我请你喝茶。\n你给我讲讲有趣的故事，可好？",null,6033,1,{"$f":"_xlfn.TEXTJOIN(\";\",1,R803:S803)","v":""},null,null,{"$f":"IF(R803=\"\",\"\",\"-\"&VLOOKUP(R803,EventConditionConfig!A:C,3,FALSE)&IF(S803=\"\",\"\",CHAR(10)&\"-\"&VLOOKUP(S803,EventConditionConfig!A:C,3,FALSE)))","v":""},{"$f":"IF(Y803=\"\",\"\",IF(ISTEXT(Y803),1,2))","v":""},{"$f":"IF(U803=1,_xlfn.TEXTJOIN(\";\",1,IF(Z803=\"\",A803+1,Z803),IF(AND(AA803<>\"\",AC803=\"\"),A803+1,AC803)),IF(U803=2,Y803,\"\"))","v":""},{"$f":"_xlfn.TEXTJOIN(\";\",1,X803,AA803)","v":""},{"$f":"IF(OR(ISNUMBER(Y803),Y803=\"\"),\"\",MAX(AI802,AI801,B803,D803,L803)+1)","v":""},null,null,{"$f":"IF(OR(ISNUMBER(AB803),AB803=\"\"),\"\",X803+1)","v":""},{"$nulls":4},{"$f":"IF(A803=\"\",\"\",IF(ISNUMBER(Y803),2,IF(A804=\"\",IF(OR(AH803>0,VLOOKUP(O803,EventConfig!A:C,3,FALSE)=4),3,\"\"),1)))","v":1},{"$f":"IF(AF803=\"\",\"\",CHOOSE(AF803,IF(AH803=\"\",A803+1,AH803),CONCATENATE(IF(AH803=\"\",A803+1,AH803),\";101\"),IF(AH803=\"\",O803+1,AH803)))","v":603302},null,{"$f":"IF(A803=\"\",\"\",MAX(B803,D803,L803,X803,AA803,AI802,AI801))","v":5926}]
[{"$f":"O804*100+P804","v":603302},{"$f":"IF(C804=\"\",\"\",IF(C804=C803,B803,MAX(AI803,AI802)+1))","v":5925},"给婉溪讲讲外面的世界",{"$f":"IF(E804=\"\",\"\",IF(E804=E803,D803,MAX(AI803,AI802,B804)+1))","v":""},{"$nulls":6},{"$f":"IF(J804=\"\",\"\",VLOOKUP(J804,EventNPC!A:E,5,FALSE))","v":""},{"$f":"IF(M804=\"\",\"\",MAX(AI803,AI802,B804,D804)+1)","v":5927},"（玩家与婉溪围坐溪边，蒸汽袅袅。她煮茶时动作优雅，眼中偶尔闪过对外界的向往。）",null,6033,2,{"$f":"_xlfn.TEXTJOIN(\";\",1,R804:S804)","v":""},null,null,{"$f":"IF(R804=\"\",\"\",\"-\"&VLOOKUP(R804,EventConditionConfig!A:C,3,FALSE)&IF(S804=\"\",\"\",CHAR(10)&\"-\"&VLOOKUP(S804,EventConditionConfig!A:C,3,FALSE)))","v":""},{"$f":"IF(Y804=\"\",\"\",IF(ISTEXT(Y804),1,2))","v":1},{"$f":"IF(U804=1,_xlfn.TEXTJOIN(\";\",1,IF(Z804=\"\",A804+1,Z804),IF(AND(AA804<>\"\",AC804=\"\"),A804+1,AC804)),IF(U804=2,Y804,\"\"))","v":"603303"},{"$f":"_xlfn.TEXTJOIN(\";\",1,X804,AA804)","v":"5928"},{"$f":"IF(OR(ISNUMBER(Y804),Y804=\"\"),\"\",MAX(AI803,AI802,B804,D804,L804)+1)","v":5928},"讲述北海鲲鹏的故事",null,{"$f":"IF(OR(ISNUMBER(AB804),AB804=\"\"),\"\",X804+1)","v":""},{"$nulls":4},{"$f":"IF(A804=\"\",\"\",IF(ISNUMBER(Y804),2,IF(A805=\"\",IF(OR(AH804>0,VLOOKUP(O804,EventConfig!A:C,3,FALSE)=4),3,\"\"),1)))","v":1},{"$f":"IF(AF804=\"\",\"\",CHOOSE(AF804,IF(AH804=\"\",A804+1,AH804),CONCATENATE(IF(AH804=\"\",A804+1,AH804),\";101\"),IF(AH804=\"\",O804+1,AH804)))","v":603303},null,{"$f":"IF(A804=\"\",\"\",MAX(B804,D804,L804,X804,AA804,AI803,AI802))","v":5928}]
[{"$f":"O805*100+P805","v":603303},{"$f":"IF(C805=\"\",\"\",IF(C805=C804,B804,MAX(AI804,AI803)+1))","v":5925},"给婉溪讲讲外面的世界",{"$f":"IF(E805=\"\",\"\",IF(E805=E804,D804,MAX(AI804,AI803,B805)+1))","v":""},{"$nulls":5},5,{"$f":"IF(J805=\"\",\"\",VLOOKUP(J805,EventNPC!A:E,5,FALSE))","v":"婉溪"},{"$f":"IF(M805=\"\",\"\",MAX(AI804,AI803,B805,D805)+1)","v":5929},"（睁大了眼睛听的滋滋有味）看来兄长提及的鲲鹏，是真的存在呀。我还想听一些故事，你还有么？",null,6033,3,{"$f":"_xlfn.TEXTJOIN(\";\",1,R805:S805)","v":""},null,null,{"$f":"IF(R805=\"\",\"\",\"-\"&VLOOKUP(R805,EventConditionConfig!A:C,3,FALSE)&IF(S805=\"\",\"\",CHAR(10)&\"-\"&VLOOKUP(S805,EventConditionConfig!A:C,3,FALSE)))","v":""},{"$f":"IF(Y805=\"\",\"\",IF(ISTEXT(Y805),1,2))","v":1},{"$f":"IF(U805=1,_xlfn.TEXTJOIN(\";\",1,IF(Z805=\"\",A805+1,Z805),IF(AND(AA805<>\"\",AC805=\"\"),A805+1,AC805)),IF(U805=2,Y805,\"\"))","v":"603304"},{"$f":"_xlfn.TEXTJOIN(\";\",1,X805,AA805)","v":"5930"},{"$f":"IF(OR(ISNUMBER(Y805),Y805=\"\"),\"\",MAX(AI804,AI803,B805,D805,L805)+1)","v":5930},"分享尧都的祥和景象",null,{"$f":"IF(OR(ISNUMBER(AB805),AB805=\"\"),\"\",X805+1)","v":""},{"$nulls":4},{"$f":"IF(A805=\"\",\"\",IF(ISNUMBER(Y805),2,IF(A806=\"\",IF(OR(AH805>0,VLOOKUP(O805,EventConfig!A:C,3,FALSE)=4),3,\"\"),1)))","v":1},{"$f":"IF(AF805=\"\",\"\",CHOOSE(AF805,IF(AH805=\"\",A805+1,AH805),CONCATENATE(IF(AH805=\"\",A805+1,AH805),\";101\"),IF(AH805=\"\",O805+1,AH805)))","v":603304},null,{"$f":"IF(A805=\"\",\"\",MAX(B805,D805,L805,X805,AA805,AI804,AI803))","v":5930}]
[{"$f":"O806*100+P806","v":603304},{"$f":"IF(C806=\"\",\"\",IF(C806=C805,B805,MAX(AI805,AI804)+1))","v":5925},"给婉溪讲讲外面的世界",{"$f":"IF(E806=\"\",\"\",IF(E806=E805,D805,MAX(AI805,AI804,B806)+1))","v":""},{"$nulls":5},5,{"$f":"IF(J806=\"\",\"\",VLOOKUP(J806,EventNPC!A:E,5,FALSE))","v":"婉溪"},{"$f":"IF(M806=\"\",\"\",MAX(AI805,AI804,B806,D806)+1)","v":5931},"（意犹未尽的眼神）这么热闹繁华的大都市，我什么时候才能一睹风采呢？还有什么有趣的故事都说来听听呀（催促）",null,6033,4,{"$f":"_xlfn.TEXTJOIN(\";\",1,R806:S806)","v":""},null,null,{"$f":"IF(R806=\"\",\"\",\"-\"&VLOOKUP(R806,EventConditionConfig!A:C,3,FALSE)&IF(S806=\"\",\"\",CHAR(10)&\"-\"&VLOOKUP(S806,EventConditionConfig!A:C,3,FALSE)))","v":""},{"$f":"IF(Y806=\"\",\"\",IF(ISTEXT(Y806),1,2))","v":1},{"$f":"IF(U806=1,_xlfn.TEXTJOIN(\";\",1,IF(Z806=\"\",A806+1,Z806),IF(AND(AA806<>\"\",AC806=\"\"),A806+1,AC806)),IF(U806=2,Y806,\"\"))","v":"603305"},{"$f":"_xlfn.TEXTJOIN(\";\",1,X806,AA806)","v":"5932"},{"$f":"IF(OR(ISNUMBER(Y806),Y806=\"\"),\"\",MAX(AI805,AI804,B806,D806,L806)+1)","v":5932},"描述藐姑射山的仙人",null,{"$f":"IF(OR(ISNUMBER(AB806),AB806=\"\"),\"\",X806+1)","v":""},{"$nulls":4},{"$f":"IF(A806=\"\",\"\",IF(ISNUMBER(Y806),2,IF(A807=\"\",IF(OR(AH806>0,VLOOKUP(O806,EventConfig!A:C,3,FALSE)=4),3,\"\"),1)))","v":1},{"$f":"IF(AF806=\"\",\"\",CHOOSE(AF806,IF(AH806=\"\",A806+1,AH806),CONCATENATE(IF(AH806=\"\",A806+1,AH806),\";101\"),IF(AH806=\"\",O806+1,AH806)))","v":603305},null,{"$f":"IF(A806=\"\",\"\",MAX(B806,D806,L806,X806,AA806,AI805,AI804))","v":5932}]
[{"$f":"O807*100+P807","v":603305},{"$f":"IF(C807=\"\",\"\",IF(C807=C806,B806,MAX(AI806,AI805)+1))","v":5925},"给婉溪讲讲外面的世界",{"$f":"IF(E807=\"\",\"\",IF(E807=E806,D806,MAX(AI806,AI805,B807)+1))","v":""},{"$nulls":5},5,{"$f":"IF(J807=\"\",\"\",VLOOKUP(J807,EventNPC!A:E,5,FALSE))","v":"婉溪"},{"$f":"IF(M807=\"\",\"\",MAX(AI806,AI805,B807,D807)+1)","v":5933},"（听后，柔和眼睛中多了一丝憧憬）外面的世界真奇妙……我虽爱这山林劳作，但也想偶尔出去看看。",null,6033,5,{"$f":"_xlfn.TEXTJOIN(\";\",1,R807:S807)","v":""},null,null,{"$f":"IF(R807=\"\",\"\",\"-\"&VLOOKUP(R807,EventConditionConfig!A:C,3,FALSE)&IF(S807=\"\",\"\",CHAR(10)&\"-\"&VLOOKUP(S807,EventConditionConfig!A:C,3,FALSE)))","v":""},{"$f":"IF(Y807=\"\",\"\",IF(ISTEXT(Y807),1,2))","v":""},{"$f":"IF(U807=1,_xlfn.TEXTJOIN(\";\",1,IF(Z807=\"\",A807+1,Z807),IF(AND(AA807<>\"\",AC807=\"\"),A807+1,AC807)),IF(U807=2,Y807,\"\"))","v":""},{"$f":"_xlfn.TEXTJOIN(\";\",1,X807,AA807)","v":""},{"$f":"IF(OR(ISNUMBER(Y807),Y807=\"\"),\"\",MAX(AI806,AI805,B807,D807,L807)+1)","v":""},null,null,{"$f":"IF(OR(ISNUMBER(AB807),AB807=\"\"),\"\",X807+1)","v":""},{"$nulls":4},{"$f":"IF(A807=\"\",\"\",IF(ISNUMBER(Y807),2,IF(A808=\"\",IF(OR(AH807>0,VLOOKUP(O807,EventConfig!A:C,3,FALSE)=4),3,\"\"),1)))","v":""},{"$f":"IF(AF807=\"\",\"\",CHOOSE(AF807,IF(AH807=\"\",A807+1,AH807),CONCATENATE(IF(AH807=\"\",A807+1,AH807),\";101\"),IF(AH807=\"\",O807+1,AH807)))","v":""},null,{"$f":"IF(A807=\"\",\"\",MAX(B807,D807,L807,X807,AA807,AI806,AI805))","v":5933}]
[{"$nulls":15},""]
[{"$f":"O809*100+P809","v":603401},{"$f":"IF(C809=\"\",\"\",IF(C809=C808,B808,MAX(AI808,AI807)+1))","v":5934},"收集尧都玉佩",{"$f":"IF(E809=\"\",\"\",IF(E809=E808,D808,MAX(AI808,AI807,B809)+1))","v":""},{"$nulls":5},5,{"$f":"IF(J809=\"\",\"\",VLOOKUP(J809,EventNPC!A:E,5,FALSE))","v":"婉溪"},{"$f":"IF(M809=\"\",\"\",MAX(AI808,AI807,B809,D809)+1)","v":5935},"尧都玉佩能镇压灵气波动，我家族的茶树最近不稳，你能帮我找来吗？山林小妖有时会抢走游人的玉佩。",null,6034,1,{"$f":"_xlfn.TEXTJOIN(\";\",1,R809:S809)","v":""},null,null,{"$f":"IF(R809=\"\",\"\",\"-\"&VLOOKUP(R809,EventConditionConfig!A:C,3,FALSE)&IF(S809=\"\",\"\",CHAR(10)&\"-\"&VLOOKUP(S809,EventConditionConfig!A:C,3,FALSE)))","v":""},{"$f":"IF(Y809=\"\",\"\",IF(ISTEXT(Y809),1,2))","v":""},{"$f":"IF(U809=1,_xlfn.TEXTJOIN(\";\",1,IF(Z809=\"\",A809+1,Z809),IF(AND(AA809<>\"\",AC809=\"\"),A809+1,AC809)),IF(U809=2,Y809,\"\"))","v":""},{"$f":"_xlfn.TEXTJOIN(\";\",1,X809,AA809)","v":""},{"$f":"IF(OR(ISNUMBER(Y809),Y809=\"\"),\"\",MAX(AI808,AI807,B809,D809,L809)+1)","v":""},null,null,{"$f":"IF(OR(ISNUMBER(AB809),AB809=\"\"),\"\",X809+1)","v":""},{"$nulls":4},{"$f":"IF(A809=\"\",\"\",IF(ISNUMBER(Y809),2,IF(A810=\"\",IF(OR(AH809>0,VLOOKUP(O809,EventConfig!A:C,3,FALSE)=4),3,\"\"),1)))","v":1},{"$f":"IF(AF809=\"\",\"\",CHOOSE(AF809,IF(AH809=\"\",A809+1,AH809),CONCATENATE(IF(AH809=\"\",A809+1,AH809),\";101\"),IF(AH809=\"\",O809+1,AH809)))","v":603402},null,{"$f":"IF(A809=\"\",\"\",MAX(B809,D809,L809,X809,AA809,AI808,AI807))","v":5935}]
[{"$f":"O810*100+P810","v":603402},{"$f":"IF(C810=\"\",\"\",IF(C810=C809,B809,MAX(AI809,AI808)+1))","v":5934},"收集尧都玉佩",{"$f":"IF(E810=\"\",\"\",IF(E810=E809,D809,MAX(AI809,AI808,B810)+1))","v":""},{"$nulls":5},100,{"$f":"IF(J810=\"\",\"\",VLOOKUP(J810,EventNPC!A:E,5,FALSE))","v":"玩家"},{"$f":"IF(M810=\"\",\"\",MAX(AI809,AI808,B810,D810)+1)","v":5936},"（返回）道友，这些玉佩可对？",null,6034,2,{"$f":"_xlfn.TEXTJOIN(\";\",1,R810:S810)","v":"43"},43,null,{"$f":"IF(R810=\"\",\"\",\"-\"&VLOOKUP(R810,EventConditionConfig!A:C,3,FALSE)&IF(S810=\"\",\"\",CHAR(10)&\"-\"&VLOOKUP(S810,EventConditionConfig!A:C,3,FALSE)))","v":"-完成神识探索-抢走玉佩的山林小妖"},{"$f":"IF(Y810=\"\",\"\",IF(ISTEXT(Y810),1,2))","v":""},{"$f":"IF(U810=1,_xlfn.TEXTJOIN(\";\",1,IF(Z810=\"\",A810+1,Z810),IF(AND(AA810<>\"\",AC810=\"\"),A810+1,AC810)),IF(U810=2,Y810,\"\"))","v":""},{"$f":"_xlfn.TEXTJOIN(\";\",1,X810,AA810)","v":""},{"$f":"IF(OR(ISNUMBER(Y810),Y810=\"\"),\"\",MAX(AI809,AI808,B810,D810,L810)+1)","v":""},null,null,{"$f":"IF(OR(ISNUMBER(AB810),AB810=\"\"),\"\",X810+1)","v":""},{"$nulls":4},{"$f":"IF(A810=\"\",\"\",IF(ISNUMBER(Y810),2,IF(A811=\"\",IF(OR(AH810>0,VLOOKUP(O810,EventConfig!A:C,3,FALSE)=4),3,\"\"),1)))","v":1},{"$f":"IF(AF810=\"\",\"\",CHOOSE(AF810,IF(AH810=\"\",A810+1,AH810),CONCATENATE(IF(AH810=\"\",A810+1,AH810),\";101\"),IF(AH810=\"\",O810+1,AH810)))","v":603403},null,{"$f":"IF(A810=\"\",\"\",MAX(B810,D810,L810,X810,AA810,AI809,AI808))","v":5936}]
[603403,5934,"收集尧都玉佩","",{"$nulls":5},5,{"$f":"IF(J811=\"\",\"\",VLOOKUP(J811,EventNPC!A:E,5,FALSE))","v":"婉溪"},5937,"（仔细查看）多谢，你真可靠。",null,6034,3,"",null,null,{"$f":"IF(R811=\"\",\"\",\"-\"&VLOOKUP(R811,EventConditionConfig!A:C,3,FALSE)&IF(S811=\"\",\"\",CHAR(10)&\"-\"&VLOOKUP(S811,EventConditionConfig!A:C,3,FALSE)))","v":""},"","","","",null,null,"",{"$nulls":4},{"$f":"IF(A811=\"\",\"\",IF(ISNUMBER(Y811),2,IF(A812=\"\",IF(OR(AH811>0,VLOOKUP(O811,EventConfig!A:C,3,FALSE)=4),3,\"\"),1)))","v":""},"",null,5937]
[{"$nulls":15},""]
[{"$f":"O813*100+P813","v":603501},{"$f":"IF(C813=\"\",\"\",IF(C813=C812,B812,MAX(AI812,AI811)+1))","v":5938},"击败溪边水灵",{"$f":"IF(E813=\"\",\"\",IF(E813=E812,D812,MAX(AI812,AI811,B813)+1))","v":""},{"$nulls":5},5,{"$f":"IF(J813=\"\",\"\",VLOOKUP(J813,EventNPC!A:E,5,FALSE))","v":"婉溪"},{"$f":"IF(M813=\"\",\"\",MAX(AI812,AI811,B813,D813)+1)","v":5939},"溪水又异动了，水中似有灵影作祟，影响灵田。你能帮我驱散吗？小心别伤了溪源。",null,6035,1,{"$f":"_xlfn.TEXTJOIN(\";\",1,R813:S813)","v":""},null,null,{"$f":"IF(R813=\"\",\"\",\"-\"&VLOOKUP(R813,EventConditionConfig!A:C,3,FALSE)&IF(S813=\"\",\"\",CHAR(10)&\"-\"&VLOOKUP(S813,EventConditionConfig!A:C,3,FALSE)))","v":""},{"$f":"IF(Y813=\"\",\"\",IF(ISTEXT(Y813),1,2))","v":2},{"$f":"IF(U813=1,_xlfn.TEXTJOIN(\";\",1,IF(Z813=\"\",A813+1,Z813),IF(AND(AA813<>\"\",AC813=\"\"),A813+1,AC813)),IF(U813=2,Y813,\"\"))","v":3010},{"$f":"_xlfn.TEXTJOIN(\";\",1,X813,AA813)","v":""},{"$f":"IF(OR(ISNUMBER(Y813),Y813=\"\"),\"\",MAX(AI812,AI811,B813,D813,L813)+1)","v":""},3010,null,{"$f":"IF(OR(ISNUMBER(AB813),AB813=\"\"),\"\",X813+1)","v":""},{"$nulls":4},{"$f":"IF(A813=\"\",\"\",IF(ISNUMBER(Y813),2,IF(A814=\"\",IF(OR(AH813>0,VLOOKUP(O813,EventConfig!A:C,3,FALSE)=4),3,\"\"),1)))","v":2},{"$f":"IF(AF813=\"\",\"\",CHOOSE(AF813,IF(AH813=\"\",A813+1,AH813),CONCATENATE(IF(AH813=\"\",A813+1,AH813),\";101\"),IF(AH813=\"\",O813+1,AH813)))","v":"603502;101"},null,{"$f":"IF(A813=\"\",\"\",MAX(B813,D813,L813,X813,AA813,AI812,AI811))","v":5939}]
[{"$f":"O814*100+P814","v":603502},{"$f":"IF(C814=\"\",\"\",IF(C814=C813,B813,MAX(AI813,AI812)+1))","v":5938},"击败溪边水灵",{"$f":"IF(E814=\"\",\"\",IF(E814=E813,D813,MAX(AI813,AI812,B814)+1))","v":""},{"$nulls":5},100,{"$f":"IF(J814=\"\",\"\",VLOOKUP(J814,EventNPC!A:E,5,FALSE))","v":"玩家"},{"$f":"IF(M814=\"\",\"\",MAX(AI813,AI812,B814,D814)+1)","v":5940},"道友,干扰已除,但水中有股陌生气息。",null,6035,2,{"$f":"_xlfn.TEXTJOIN(\";\",1,R814:S814)","v":""},null,null,{"$f":"IF(R814=\"\",\"\",\"-\"&VLOOKUP(R814,EventConditionConfig!A:C,3,FALSE)&IF(S814=\"\",\"\",CHAR(10)&\"-\"&VLOOKUP(S814,EventConditionConfig!A:C,3,FALSE)))","v":""},{"$f":"IF(Y814=\"\",\"\",IF(ISTEXT(Y814),1,2))","v":""},{"$f":"IF(U814=1,_xlfn.TEXTJOIN(\";\",1,IF(Z814=\"\",A814+1,Z814),IF(AND(AA814<>\"\",AC814=\"\"),A814+1,AC814)),IF(U814=2,Y814,\"\"))","v":""},{"$f":"_xlfn.TEXTJOIN(\";\",1,X814,AA814)","v":""},{"$f":"IF(OR(ISNUMBER(Y814),Y814=\"\"),\"\",MAX(AI813,AI812,B814,D814,L814)+1)","v":""},null,null,{"$f":"IF(OR(ISNUMBER(AB814),AB814=\"\"),\"\",X814+1)","v":""},{"$nulls":4},{"$f":"IF(A814=\"\",\"\",IF(ISNUMBER(Y814),2,IF(A815=\"\",IF(OR(AH814>0,VLOOKUP(O814,EventConfig!A:C,3,FALSE)=4),3,\"\"),1)))","v":1},{"$f":"IF(AF814=\"\",\"\",CHOOSE(AF814,IF(AH814=\"\",A814+1,AH814),CONCATENATE(IF(AH814=\"\",A814+1,AH814),\";101\"),IF(AH814=\"\",O814+1,AH814)))","v":603503},null,{"$f":"IF(A814=\"\",\"\",MAX(B814,D814,L814,X814,AA814,AI813,AI812))","v":5940}]
[{"$f":"O815*100+P815","v":603503},{"$f":"IF(C815=\"\",\"\",IF(C815=C814,B814,MAX(AI814,AI813)+1))","v":5938},"击败溪边水灵",{"$f":"IF(E815=\"\",\"\",IF(E815=E814,D814,MAX(AI814,AI813,B815)+1))","v":""},{"$nulls":5},5,{"$f":"IF(J815=\"\",\"\",VLOOKUP(J815,EventNPC!A:E,5,FALSE))","v":"婉溪"},{"$f":"IF(M815=\"\",\"\",MAX(AI814,AI813,B815,D815)+1)","v":5941},"这气息……像山外修士的痕迹！\n家族守护的茶树，能通灵感天地，或许吸引了窥探者。但我们隐居多年，为何现在异动？",null,6035,3,{"$f":"_xlfn.TEXTJOIN(\";\",1,R815:S815)","v":""},null,null,{"$f":"IF(R815=\"\",\"\",\"-\"&VLOOKUP(R815,EventConditionConfig!A:C,3,FALSE)&IF(S815=\"\",\"\",CHAR(10)&\"-\"&VLOOKUP(S815,EventConditionConfig!A:C,3,FALSE)))","v":""},{"$f":"IF(Y815=\"\",\"\",IF(ISTEXT(Y815),1,2))","v":""},{"$f":"IF(U815=1,_xlfn.TEXTJOIN(\";\",1,IF(Z815=\"\",A815+1,Z815),IF(AND(AA815<>\"\",AC815=\"\"),A815+1,AC815)),IF(U815=2,Y815,\"\"))","v":""},{"$f":"_xlfn.TEXTJOIN(\";\",1,X815,AA815)","v":""},{"$f":"IF(OR(ISNUMBER(Y815),Y815=\"\"),\"\",MAX(AI814,AI813,B815,D815,L815)+1)","v":""},null,null,{"$f":"IF(OR(ISNUMBER(AB815),AB815=\"\"),\"\",X815+1)","v":""},{"$nulls":4},{"$f":"IF(A815=\"\",\"\",IF(ISNUMBER(Y815),2,IF(A816=\"\",IF(OR(AH815>0,VLOOKUP(O815,EventConfig!A:C,3,FALSE)=4),3,\"\"),1)))","v":""},{"$f":"IF(AF815=\"\",\"\",CHOOSE(AF815,IF(AH815=\"\",A815+1,AH815),CONCATENATE(IF(AH815=\"\",A815+1,AH815),\";101\"),IF(AH815=\"\",O815+1,AH815)))","v":""},null,{"$f":"IF(A815=\"\",\"\",MAX(B815,D815,L815,X815,AA815,AI814,AI813))","v":5941}]
[{"$nulls":15},""]
[{"$f":"O817*100+P817","v":603601},{"$f":"IF(C817=\"\",\"\",IF(C817=C816,B816,MAX(AI816,AI815)+1))","v":5942},"完成与婉溪和许由的三方对话",{"$f":"IF(E817=\"\",\"\",IF(E817=E816,D816,MAX(AI816,AI815,B817)+1))","v":""},{"$nulls":5},5,{"$f":"IF(J817=\"\",\"\",VLOOKUP(J817,EventNPC!A:E,5,FALSE))","v":"婉溪"},{"$f":"IF(M817=\"\",\"\",MAX(AI816,AI815,B817,D817)+1)","v":5943},"这些事让我不安……我去找兄长问问。你一起来吧。\n（三人聚于小屋前，溪水潺潺。）",null,6036,1,{"$f":"_xlfn.TEXTJOIN(\";\",1,R817:S817)","v":""},null,null,{"$f":"IF(R817=\"\",\"\",\"-\"&VLOOKUP(R817,EventConditionConfig!A:C,3,FALSE)&IF(S817=\"\",\"\",CHAR(10)&\"-\"&VLOOKUP(S817,EventConditionConfig!A:C,3,FALSE)))","v":""},{"$f":"IF(Y817=\"\",\"\",IF(ISTEXT(Y817),1,2))","v":""},{"$f":"IF(U817=1,_xlfn.TEXTJOIN(\";\",1,IF(Z817=\"\",A817+1,Z817),IF(AND(AA817<>\"\",AC817=\"\"),A817+1,AC817)),IF(U817=2,Y817,\"\"))","v":""},{"$f":"_xlfn.TEXTJOIN(\";\",1,X817,AA817)","v":""},{"$f":"IF(OR(ISNUMBER(Y817),Y817=\"\"),\"\",MAX(AI816,AI815,B817,D817,L817)+1)","v":""},null,null,{"$f":"IF(OR(ISNUMBER(AB817),AB817=\"\"),\"\",X817+1)","v":""},{"$nulls":4},{"$f":"IF(A817=\"\",\"\",IF(ISNUMBER(Y817),2,IF(A818=\"\",IF(OR(AH817>0,VLOOKUP(O817,EventConfig!A:C,3,FALSE)=4),3,\"\"),1)))","v":1},{"$f":"IF(AF817=\"\",\"\",CHOOSE(AF817,IF(AH817=\"\",A817+1,AH817),CONCATENATE(IF(AH817=\"\",A817+1,AH817),\";101\"),IF(AH817=\"\",O817+1,AH817)))","v":603602},null,{"$f":"IF(A817=\"\",\"\",MAX(B817,D817,L817,X817,AA817,AI816,AI815))","v":5943}]
[{"$f":"O818*100+P818","v":603602},{"$f":"IF(C818=\"\",\"\",IF(C818=C817,B817,MAX(AI817,AI816)+1))","v":5942},"完成与婉溪和许由的三方对话",{"$f":"IF(E818=\"\",\"\",IF(E818=E817,D817,MAX(AI817,AI816,B818)+1))","v":""},{"$nulls":5},106,{"$f":"IF(J818=\"\",\"\",VLOOKUP(J818,EventNPC!A:E,5,FALSE))","v":"许由"},{"$f":"IF(M818=\"\",\"\",MAX(AI817,AI816,B818,D818)+1)","v":5944},"妹妹，你又在多想？家族的事，别乱查。",null,6036,2,{"$f":"_xlfn.TEXTJOIN(\";\",1,R818:S818)","v":""},null,null,{"$f":"IF(R818=\"\",\"\",\"-\"&VLOOKUP(R818,EventConditionConfig!A:C,3,FALSE)&IF(S818=\"\",\"\",CHAR(10)&\"-\"&VLOOKUP(S818,EventConditionConfig!A:C,3,FALSE)))","v":""},{"$f":"IF(Y818=\"\",\"\",IF(ISTEXT(Y818),1,2))","v":""},{"$f":"IF(U818=1,_xlfn.TEXTJOIN(\";\",1,IF(Z818=\"\",A818+1,Z818),IF(AND(AA818<>\"\",AC818=\"\"),A818+1,AC818)),IF(U818=2,Y818,\"\"))","v":""},{"$f":"_xlfn.TEXTJOIN(\";\",1,X818,AA818)","v":""},{"$f":"IF(OR(ISNUMBER(Y818),Y818=\"\"),\"\",MAX(AI817,AI816,B818,D818,L818)+1)","v":""},null,null,{"$f":"IF(OR(ISNUMBER(AB818),AB818=\"\"),\"\",X818+1)","v":""},{"$nulls":4},{"$f":"IF(A818=\"\",\"\",IF(ISNUMBER(Y818),2,IF(A819=\"\",IF(OR(AH818>0,VLOOKUP(O818,EventConfig!A:C,3,FALSE)=4),3,\"\"),1)))","v":1},{"$f":"IF(AF818=\"\",\"\",CHOOSE(AF818,IF(AH818=\"\",A818+1,AH818),CONCATENATE(IF(AH818=\"\",A818+1,AH818),\";101\"),IF(AH818=\"\",O818+1,AH818)))","v":603603},null,{"$f":"IF(A818=\"\",\"\",MAX(B818,D818,L818,X818,AA818,AI817,AI816))","v":5944}]
[603603,5942,"完成与婉溪和许由的三方对话","",{"$nulls":5},5,{"$f":"IF(J819=\"\",\"\",VLOOKUP(J819,EventNPC!A:E,5,FALSE))","v":"婉溪"},5945,"兄长，最近溪流异动，可有什么我不知道的事情？",null,6036,3,"",null,null,{"$f":"IF(R819=\"\",\"\",\"-\"&VLOOKUP(R819,EventConditionConfig!A:C,3,FALSE)&IF(S819=\"\",\"\",CHAR(10)&\"-\"&VLOOKUP(S819,EventConditionConfig!A:C,3,FALSE)))","v":""},"","","","",null,null,"",{"$nulls":4},{"$f":"IF(A819=\"\",\"\",IF(ISNUMBER(Y819),2,IF(A820=\"\",IF(OR(AH819>0,VLOOKUP(O819,EventConfig!A:C,3,FALSE)=4),3,\"\"),1)))","v":1},603604,null,5945]
[{"$f":"O820*100+P820","v":603604},{"$f":"IF(C820=\"\",\"\",IF(C820=C819,B819,MAX(AI819,AI818)+1))","v":5942},"完成与婉溪和许由的三方对话",{"$f":"IF(E820=\"\",\"\",IF(E820=E819,D819,MAX(AI819,AI818,B820)+1))","v":""},{"$nulls":5},106,{"$f":"IF(J820=\"\",\"\",VLOOKUP(J820,EventNPC!A:E,5,FALSE))","v":"许由"},{"$f":"IF(M820=\"\",\"\",MAX(AI819,AI818,B820,D820)+1)","v":5946},"（叹息）或许是旧敌重现，祸福未知。",null,6036,4,{"$f":"_xlfn.TEXTJOIN(\";\",1,R820:S820)","v":""},null,null,{"$f":"IF(R820=\"\",\"\",\"-\"&VLOOKUP(R820,EventConditionConfig!A:C,3,FALSE)&IF(S820=\"\",\"\",CHAR(10)&\"-\"&VLOOKUP(S820,EventConditionConfig!A:C,3,FALSE)))","v":""},{"$f":"IF(Y820=\"\",\"\",IF(ISTEXT(Y820),1,2))","v":""},{"$f":"IF(U820=1,_xlfn.TEXTJOIN(\";\",1,IF(Z820=\"\",A820+1,Z820),IF(AND(AA820<>\"\",AC820=\"\"),A820+1,AC820)),IF(U820=2,Y820,\"\"))","v":""},{"$f":"_xlfn.TEXTJOIN(\";\",1,X820,AA820)","v":""},{"$f":"IF(OR(ISNUMBER(Y820),Y820=\"\"),\"\",MAX(AI819,AI818,B820,D820,L820)+1)","v":""},null,null,{"$f":"IF(OR(ISNUMBER(AB820),AB820=\"\"),\"\",X820+1)","v":""},{"$nulls":4},{"$f":"IF(A820=\"\",\"\",IF(ISNUMBER(Y820),2,IF(A821=\"\",IF(OR(AH820>0,VLOOKUP(O820,EventConfig!A:C,3,FALSE)=4),3,\"\"),1)))","v":1},{"$f":"IF(AF820=\"\",\"\",CHOOSE(AF820,IF(AH820=\"\",A820+1,AH820),CONCATENATE(IF(AH820=\"\",A820+1,AH820),\";101\"),IF(AH820=\"\",O820+1,AH820)))","v":603605},null,{"$f":"IF(A820=\"\",\"\",MAX(B820,D820,L820,X820,AA820,AI819,AI818))","v":5946}]
[603605,5942,"完成与婉溪和许由的三方对话","",{"$nulls":5},5,{"$f":"IF(J821=\"\",\"\",VLOOKUP(J821,EventNPC!A:E,5,FALSE))","v":"婉溪"},5947,"（坚定却温和）兄长，我已经长大了，可以帮你的。",null,6036,5,"",null,null,{"$f":"IF(R821=\"\",\"\",\"-\"&VLOOKUP(R821,EventConditionConfig!A:C,3,FALSE)&IF(S821=\"\",\"\",CHAR(10)&\"-\"&VLOOKUP(S821,EventConditionConfig!A:C,3,FALSE)))","v":""},"","","","",null,null,"",{"$nulls":4},{"$f":"IF(A821=\"\",\"\",IF(ISNUMBER(Y821),2,IF(A822=\"\",IF(OR(AH821>0,VLOOKUP(O821,EventConfig!A:C,3,FALSE)=4),3,\"\"),1)))","v":1},603606,null,5947]
[{"$f":"O822*100+P822","v":603606},{"$f":"IF(C822=\"\",\"\",IF(C822=C821,B821,MAX(AI821,AI820)+1))","v":5942},"完成与婉溪和许由的三方对话",{"$f":"IF(E822=\"\",\"\",IF(E822=E821,D821,MAX(AI821,AI820,B822)+1))","v":""},{"$nulls":5},106,{"$f":"IF(J822=\"\",\"\",VLOOKUP(J822,EventNPC!A:E,5,FALSE))","v":"许由"},{"$f":"IF(M822=\"\",\"\",MAX(AI821,AI820,B822,D822)+1)","v":5948},"小友，这是我家族的事，你到此为止吧。",null,6036,6,{"$f":"_xlfn.TEXTJOIN(\";\",1,R822:S822)","v":""},null,null,{"$f":"IF(R822=\"\",\"\",\"-\"&VLOOKUP(R822,EventConditionConfig!A:C,3,FALSE)&IF(S822=\"\",\"\",CHAR(10)&\"-\"&VLOOKUP(S822,EventConditionConfig!A:C,3,FALSE)))","v":""},{"$f":"IF(Y822=\"\",\"\",IF(ISTEXT(Y822),1,2))","v":""},{"$f":"IF(U822=1,_xlfn.TEXTJOIN(\";\",1,IF(Z822=\"\",A822+1,Z822),IF(AND(AA822<>\"\",AC822=\"\"),A822+1,AC822)),IF(U822=2,Y822,\"\"))","v":""},{"$f":"_xlfn.TEXTJOIN(\";\",1,X822,AA822)","v":""},{"$f":"IF(OR(ISNUMBER(Y822),Y822=\"\"),\"\",MAX(AI821,AI820,B822,D822,L822)+1)","v":""},null,null,{"$f":"IF(OR(ISNUMBER(AB822),AB822=\"\"),\"\",X822+1)","v":""},{"$nulls":4},{"$f":"IF(A822=\"\",\"\",IF(ISNUMBER(Y822),2,IF(A823=\"\",IF(OR(AH822>0,VLOOKUP(O822,EventConfig!A:C,3,FALSE)=4),3,\"\"),1)))","v":""},{"$f":"IF(AF822=\"\",\"\",CHOOSE(AF822,IF(AH822=\"\",A822+1,AH822),CONCATENATE(IF(AH822=\"\",A822+1,AH822),\";101\"),IF(AH822=\"\",O822+1,AH822)))","v":""},null,{"$f":"IF(A822=\"\",\"\",MAX(B822,D822,L822,X822,AA822,AI821,AI820))","v":5948}]
[{"$nulls":15},""]
[{"$f":"O824*100+P824","v":604101},{"$f":"IF(C824=\"\",\"\",IF(C824=C823,B823,MAX(AI823,AI822)+1))","v":5949},"和许由对话",{"$f":"IF(E824=\"\",\"\",IF(E824=E823,D823,MAX(AI823,AI822,B824)+1))","v":""},{"$nulls":5},106,{"$f":"IF(J824=\"\",\"\",VLOOKUP(J824,EventNPC!A:E,5,FALSE))","v":"许由"},{"$f":"IF(M824=\"\",\"\",MAX(AI823,AI822,B824,D824)+1)","v":5950},"你重返许由的隐居之地，他正坐在青石上，面前一个小丹炉冒着淡淡青烟。\n山风徐徐，茶香飘散，他转头微笑，仿佛早已知晓你的到来。",null,6041,1,{"$f":"_xlfn.TEXTJOIN(\";\",1,R824:S824)","v":""},null,null,{"$f":"IF(R824=\"\",\"\",\"-\"&VLOOKUP(R824,EventConditionConfig!A:C,3,FALSE)&IF(S824=\"\",\"\",CHAR(10)&\"-\"&VLOOKUP(S824,EventConditionConfig!A:C,3,FALSE)))","v":""},{"$f":"IF(Y824=\"\",\"\",IF(ISTEXT(Y824),1,2))","v":""},{"$f":"IF(U824=1,_xlfn.TEXTJOIN(\";\",1,IF(Z824=\"\",A824+1,Z824),IF(AND(AA824<>\"\",AC824=\"\"),A824+1,AC824)),IF(U824=2,Y824,\"\"))","v":""},{"$f":"_xlfn.TEXTJOIN(\";\",1,X824,AA824)","v":""},{"$f":"IF(OR(ISNUMBER(Y824),Y824=\"\"),\"\",MAX(AI823,AI822,B824,D824,L824)+1)","v":""},null,null,{"$f":"IF(OR(ISNUMBER(AB824),AB824=\"\"),\"\",X824+1)","v":""},{"$nulls":4},{"$f":"IF(A824=\"\",\"\",IF(ISNUMBER(Y824),2,IF(A825=\"\",IF(OR(AH824>0,VLOOKUP(O824,EventConfig!A:C,3,FALSE)=4),3,\"\"),1)))","v":1},{"$f":"IF(AF824=\"\",\"\",CHOOSE(AF824,IF(AH824=\"\",A824+1,AH824),CONCATENATE(IF(AH824=\"\",A824+1,AH824),\";101\"),IF(AH824=\"\",O824+1,AH824)))","v":604102},null,{"$f":"IF(A824=\"\",\"\",MAX(B824,D824,L824,X824,AA824,AI823,AI822))","v":5950}]
[{"$f":"O825*100+P825","v":604102},{"$f":"IF(C825=\"\",\"\",IF(C825=C824,B824,MAX(AI824,AI823)+1))","v":5949},"和许由对话",{"$f":"IF(E825=\"\",\"\",IF(E825=E824,D824,MAX(AI824,AI823,B825)+1))","v":""},{"$nulls":5},100,{"$f":"IF(J825=\"\",\"\",VLOOKUP(J825,EventNPC!A:E,5,FALSE))","v":"玩家"},{"$f":"IF(M825=\"\",\"\",MAX(AI824,AI823,B825,D825)+1)","v":5951},"前辈，我已完成尧帝的托付，再来拜访。",null,6041,2,{"$f":"_xlfn.TEXTJOIN(\";\",1,R825:S825)","v":""},null,null,{"$f":"IF(R825=\"\",\"\",\"-\"&VLOOKUP(R825,EventConditionConfig!A:C,3,FALSE)&IF(S825=\"\",\"\",CHAR(10)&\"-\"&VLOOKUP(S825,EventConditionConfig!A:C,3,FALSE)))","v":""},{"$f":"IF(Y825=\"\",\"\",IF(ISTEXT(Y825),1,2))","v":""},{"$f":"IF(U825=1,_xlfn.TEXTJOIN(\";\",1,IF(Z825=\"\",A825+1,Z825),IF(AND(AA825<>\"\",AC825=\"\"),A825+1,AC825)),IF(U825=2,Y825,\"\"))","v":""},{"$f":"_xlfn.TEXTJOIN(\";\",1,X825,AA825)","v":""},{"$f":"IF(OR(ISNUMBER(Y825),Y825=\"\"),\"\",MAX(AI824,AI823,B825,D825,L825)+1)","v":""},null,null,{"$f":"IF(OR(ISNUMBER(AB825),AB825=\"\"),\"\",X825+1)","v":""},{"$nulls":4},{"$f":"IF(A825=\"\",\"\",IF(ISNUMBER(Y825),2,IF(A826=\"\",IF(OR(AH825>0,VLOOKUP(O825,EventConfig!A:C,3,FALSE)=4),3,\"\"),1)))","v":1},{"$f":"IF(AF825=\"\",\"\",CHOOSE(AF825,IF(AH825=\"\",A825+1,AH825),CONCATENATE(IF(AH825=\"\",A825+1,AH825),\";101\"),IF(AH825=\"\",O825+1,AH825)))","v":604103},null,{"$f":"IF(A825=\"\",\"\",MAX(B825,D825,L825,X825,AA825,AI824,AI823))","v":5951}]
[{"$f":"O826*100+P826","v":604103},{"$f":"IF(C826=\"\",\"\",IF(C826=C825,B825,MAX(AI825,AI824)+1))","v":5949},"和许由对话",{"$f":"IF(E826=\"\",\"\",IF(E826=E825,D825,MAX(AI825,AI824,B826)+1))","v":""},{"$nulls":5},106,{"$f":"IF(J826=\"\",\"\",VLOOKUP(J826,EventNPC!A:E,5,FALSE))","v":"许由"},{"$f":"IF(M826=\"\",\"\",MAX(AI825,AI824,B826,D826)+1)","v":5952},"（平静点头）尧的事，我已知晓。\n小友此次前来，有何事？",null,6041,3,{"$f":"_xlfn.TEXTJOIN(\";\",1,R826:S826)","v":""},null,null,{"$f":"IF(R826=\"\",\"\",\"-\"&VLOOKUP(R826,EventConditionConfig!A:C,3,FALSE)&IF(S826=\"\",\"\",CHAR(10)&\"-\"&VLOOKUP(S826,EventConditionConfig!A:C,3,FALSE)))","v":""},{"$f":"IF(Y826=\"\",\"\",IF(ISTEXT(Y826),1,2))","v":1},{"$f":"IF(U826=1,_xlfn.TEXTJOIN(\";\",1,IF(Z826=\"\",A826+1,Z826),IF(AND(AA826<>\"\",AC826=\"\"),A826+1,AC826)),IF(U826=2,Y826,\"\"))","v":"604104"},{"$f":"_xlfn.TEXTJOIN(\";\",1,X826,AA826)","v":"5953"},{"$f":"IF(OR(ISNUMBER(Y826),Y826=\"\"),\"\",MAX(AI825,AI824,B826,D826,L826)+1)","v":5953},"无事，碰巧路过，前来拜访。",null,{"$f":"IF(OR(ISNUMBER(AB826),AB826=\"\"),\"\",X826+1)","v":""},{"$nulls":4},{"$f":"IF(A826=\"\",\"\",IF(ISNUMBER(Y826),2,IF(A827=\"\",IF(OR(AH826>0,VLOOKUP(O826,EventConfig!A:C,3,FALSE)=4),3,\"\"),1)))","v":1},{"$f":"IF(AF826=\"\",\"\",CHOOSE(AF826,IF(AH826=\"\",A826+1,AH826),CONCATENATE(IF(AH826=\"\",A826+1,AH826),\";101\"),IF(AH826=\"\",O826+1,AH826)))","v":604104},null,{"$f":"IF(A826=\"\",\"\",MAX(B826,D826,L826,X826,AA826,AI825,AI824))","v":5953}]
[{"$f":"O827*100+P827","v":604104},{"$f":"IF(C827=\"\",\"\",IF(C827=C826,B826,MAX(AI826,AI825)+1))","v":5949},"和许由对话",{"$f":"IF(E827=\"\",\"\",IF(E827=E826,D826,MAX(AI826,AI825,B827)+1))","v":""},{"$nulls":5},106,{"$f":"IF(J827=\"\",\"\",VLOOKUP(J827,EventNPC!A:E,5,FALSE))","v":"许由"},{"$f":"IF(M827=\"\",\"\",MAX(AI826,AI825,B827,D827)+1)","v":5954},"（轻笑）无事甚好，不妨帮我采些山野灵草，助我炼一炉丹药。",null,6041,4,{"$f":"_xlfn.TEXTJOIN(\";\",1,R827:S827)","v":""},null,null,{"$f":"IF(R827=\"\",\"\",\"-\"&VLOOKUP(R827,EventConditionConfig!A:C,3,FALSE)&IF(S827=\"\",\"\",CHAR(10)&\"-\"&VLOOKUP(S827,EventConditionConfig!A:C,3,FALSE)))","v":""},{"$f":"IF(Y827=\"\",\"\",IF(ISTEXT(Y827),1,2))","v":1},{"$f":"IF(U827=1,_xlfn.TEXTJOIN(\";\",1,IF(Z827=\"\",A827+1,Z827),IF(AND(AA827<>\"\",AC827=\"\"),A827+1,AC827)),IF(U827=2,Y827,\"\"))","v":"604105"},{"$f":"_xlfn.TEXTJOIN(\";\",1,X827,AA827)","v":"5955"},{"$f":"IF(OR(ISNUMBER(Y827),Y827=\"\"),\"\",MAX(AI826,AI825,B827,D827,L827)+1)","v":5955},"好的,前辈。",null,{"$f":"IF(OR(ISNUMBER(AB827),AB827=\"\"),\"\",X827+1)","v":""},{"$nulls":4},{"$f":"IF(A827=\"\",\"\",IF(ISNUMBER(Y827),2,IF(A828=\"\",IF(OR(AH827>0,VLOOKUP(O827,EventConfig!A:C,3,FALSE)=4),3,\"\"),1)))","v":""},{"$f":"IF(AF827=\"\",\"\",CHOOSE(AF827,IF(AH827=\"\",A827+1,AH827),CONCATENATE(IF(AH827=\"\",A827+1,AH827),\";101\"),IF(AH827=\"\",O827+1,AH827)))","v":""},null,{"$f":"IF(A827=\"\",\"\",MAX(B827,D827,L827,X827,AA827,AI826,AI825))","v":5955}]
[{"$nulls":15},""]
[{"$f":"O829*100+P829","v":604201},{"$f":"IF(C829=\"\",\"\",IF(C829=C828,B828,MAX(AI828,AI827)+1))","v":5956},"收集山野灵草",{"$f":"IF(E829=\"\",\"\",IF(E829=E828,D828,MAX(AI828,AI827,B829)+1))","v":""},{"$nulls":6},{"$f":"IF(J829=\"\",\"\",VLOOKUP(J829,EventNPC!A:E,5,FALSE))","v":""},{"$f":"IF(M829=\"\",\"\",MAX(AI828,AI827,B829,D829)+1)","v":5957},"你在山林间寻觅灵草，古木参天，草叶间灵气隐现。偶尔有小兽守护草丛，需小心避开或驱散。",null,6042,1,{"$f":"_xlfn.TEXTJOIN(\";\",1,R829:S829)","v":""},null,null,{"$f":"IF(R829=\"\",\"\",\"-\"&VLOOKUP(R829,EventConditionConfig!A:C,3,FALSE)&IF(S829=\"\",\"\",CHAR(10)&\"-\"&VLOOKUP(S829,EventConditionConfig!A:C,3,FALSE)))","v":""},{"$f":"IF(Y829=\"\",\"\",IF(ISTEXT(Y829),1,2))","v":""},{"$f":"IF(U829=1,_xlfn.TEXTJOIN(\";\",1,IF(Z829=\"\",A829+1,Z829),IF(AND(AA829<>\"\",AC829=\"\"),A829+1,AC829)),IF(U829=2,Y829,\"\"))","v":""},{"$f":"_xlfn.TEXTJOIN(\";\",1,X829,AA829)","v":""},{"$f":"IF(OR(ISNUMBER(Y829),Y829=\"\"),\"\",MAX(AI828,AI827,B829,D829,L829)+1)","v":""},null,null,{"$f":"IF(OR(ISNUMBER(AB829),AB829=\"\"),\"\",X829+1)","v":""},{"$nulls":4},{"$f":"IF(A829=\"\",\"\",IF(ISNUMBER(Y829),2,IF(A830=\"\",IF(OR(AH829>0,VLOOKUP(O829,EventConfig!A:C,3,FALSE)=4),3,\"\"),1)))","v":1},{"$f":"IF(AF829=\"\",\"\",CHOOSE(AF829,IF(AH829=\"\",A829+1,AH829),CONCATENATE(IF(AH829=\"\",A829+1,AH829),\";101\"),IF(AH829=\"\",O829+1,AH829)))","v":604202},null,{"$f":"IF(A829=\"\",\"\",MAX(B829,D829,L829,X829,AA829,AI828,AI827))","v":5957}]
[{"$f":"O830*100+P830","v":604202},{"$f":"IF(C830=\"\",\"\",IF(C830=C829,B829,MAX(AI829,AI828)+1))","v":5956},"收集山野灵草",{"$f":"IF(E830=\"\",\"\",IF(E830=E829,D829,MAX(AI829,AI828,B830)+1))","v":""},{"$nulls":5},106,{"$f":"IF(J830=\"\",\"\",VLOOKUP(J830,EventNPC!A:E,5,FALSE))","v":"许由"},{"$f":"IF(M830=\"\",\"\",MAX(AI829,AI828,B830,D830)+1)","v":5958},"这些灵草是炼丹之基，需采于晨露之时，方有纯净之气。山林万物，各有其时——你游历时，可曾想过何时是你的“晨露”？",null,6042,2,{"$f":"_xlfn.TEXTJOIN(\";\",1,R830:S830)","v":"44"},44,null,{"$f":"IF(R830=\"\",\"\",\"-\"&VLOOKUP(R830,EventConditionConfig!A:C,3,FALSE)&IF(S830=\"\",\"\",CHAR(10)&\"-\"&VLOOKUP(S830,EventConditionConfig!A:C,3,FALSE)))","v":"-完成神识探索-山野采草"},{"$f":"IF(Y830=\"\",\"\",IF(ISTEXT(Y830),1,2))","v":1},{"$f":"IF(U830=1,_xlfn.TEXTJOIN(\";\",1,IF(Z830=\"\",A830+1,Z830),IF(AND(AA830<>\"\",AC830=\"\"),A830+1,AC830)),IF(U830=2,Y830,\"\"))","v":"604203"},{"$f":"_xlfn.TEXTJOIN(\";\",1,X830,AA830)","v":"5959"},{"$f":"IF(OR(ISNUMBER(Y830),Y830=\"\"),\"\",MAX(AI829,AI828,B830,D830,L830)+1)","v":5959},"前辈，灵草已采齐。",null,{"$f":"IF(OR(ISNUMBER(AB830),AB830=\"\"),\"\",X830+1)","v":""},{"$nulls":4},{"$f":"IF(A830=\"\",\"\",IF(ISNUMBER(Y830),2,IF(A831=\"\",IF(OR(AH830>0,VLOOKUP(O830,EventConfig!A:C,3,FALSE)=4),3,\"\"),1)))","v":1},{"$f":"IF(AF830=\"\",\"\",CHOOSE(AF830,IF(AH830=\"\",A830+1,AH830),CONCATENATE(IF(AH830=\"\",A830+1,AH830),\";101\"),IF(AH830=\"\",O830+1,AH830)))","v":604203},null,{"$f":"IF(A830=\"\",\"\",MAX(B830,D830,L830,X830,AA830,AI829,AI828))","v":5959}]
[604203,5956,"收集山野灵草","",{"$nulls":5},106,{"$f":"IF(J831=\"\",\"\",VLOOKUP(J831,EventNPC!A:E,5,FALSE))","v":"许由"},5960,"（检查后，眼中闪过一丝赞许）多谢，小友。我们来炼丹吧。\n炼丹如修道，急不得——可世间事，总有急时，你如何处之？",null,6042,3,"",null,null,{"$f":"IF(R831=\"\",\"\",\"-\"&VLOOKUP(R831,EventConditionConfig!A:C,3,FALSE)&IF(S831=\"\",\"\",CHAR(10)&\"-\"&VLOOKUP(S831,EventConditionConfig!A:C,3,FALSE)))","v":""},1,"604204","5961",5961,"请前辈指教",null,"",{"$nulls":4},{"$f":"IF(A831=\"\",\"\",IF(ISNUMBER(Y831),2,IF(A832=\"\",IF(OR(AH831>0,VLOOKUP(O831,EventConfig!A:C,3,FALSE)=4),3,\"\"),1)))","v":1},604204,null,5961]
[{"$f":"O832*100+P832","v":604204},{"$f":"IF(C832=\"\",\"\",IF(C832=C831,B831,MAX(AI831,AI830)+1))","v":5956},"收集山野灵草",{"$f":"IF(E832=\"\",\"\",IF(E832=E831,D831,MAX(AI831,AI830,B832)+1))","v":""},{"$nulls":5},106,{"$f":"IF(J832=\"\",\"\",VLOOKUP(J832,EventNPC!A:E,5,FALSE))","v":"许由"},{"$f":"IF(M832=\"\",\"\",MAX(AI831,AI830,B832,D832)+1)","v":5962},"顺其自然，方不乱心，如山林，四季轮转，无需强求。",null,6042,4,{"$f":"_xlfn.TEXTJOIN(\";\",1,R832:S832)","v":""},null,null,{"$f":"IF(R832=\"\",\"\",\"-\"&VLOOKUP(R832,EventConditionConfig!A:C,3,FALSE)&IF(S832=\"\",\"\",CHAR(10)&\"-\"&VLOOKUP(S832,EventConditionConfig!A:C,3,FALSE)))","v":""},{"$f":"IF(Y832=\"\",\"\",IF(ISTEXT(Y832),1,2))","v":""},{"$f":"IF(U832=1,_xlfn.TEXTJOIN(\";\",1,IF(Z832=\"\",A832+1,Z832),IF(AND(AA832<>\"\",AC832=\"\"),A832+1,AC832)),IF(U832=2,Y832,\"\"))","v":""},{"$f":"_xlfn.TEXTJOIN(\";\",1,X832,AA832)","v":""},{"$f":"IF(OR(ISNUMBER(Y832),Y832=\"\"),\"\",MAX(AI831,AI830,B832,D832,L832)+1)","v":""},null,null,{"$f":"IF(OR(ISNUMBER(AB832),AB832=\"\"),\"\",X832+1)","v":""},{"$nulls":4},{"$f":"IF(A832=\"\",\"\",IF(ISNUMBER(Y832),2,IF(A833=\"\",IF(OR(AH832>0,VLOOKUP(O832,EventConfig!A:C,3,FALSE)=4),3,\"\"),1)))","v":""},{"$f":"IF(AF832=\"\",\"\",CHOOSE(AF832,IF(AH832=\"\",A832+1,AH832),CONCATENATE(IF(AH832=\"\",A832+1,AH832),\";101\"),IF(AH832=\"\",O832+1,AH832)))","v":""},null,{"$f":"IF(A832=\"\",\"\",MAX(B832,D832,L832,X832,AA832,AI831,AI830))","v":5962}]
[{"$nulls":15},"",{"$nulls":8},"前辈，火候已稳。"]
[{"$f":"O834*100+P834","v":604301},{"$f":"IF(C834=\"\",\"\",IF(C834=C833,B833,MAX(AI833,AI832)+1))","v":5963},"与许由对话",{"$f":"IF(E834=\"\",\"\",IF(E834=E833,D833,MAX(AI833,AI832,B834)+1))","v":""},{"$nulls":5},106,{"$f":"IF(J834=\"\",\"\",VLOOKUP(J834,EventNPC!A:E,5,FALSE))","v":"许由"},{"$f":"IF(M834=\"\",\"\",MAX(AI833,AI832,B834,D834)+1)","v":5964},"丹炉已备，你来助我控火。",null,6043,1,{"$f":"_xlfn.TEXTJOIN(\";\",1,R834:S834)","v":""},null,null,{"$f":"IF(R834=\"\",\"\",\"-\"&VLOOKUP(R834,EventConditionConfig!A:C,3,FALSE)&IF(S834=\"\",\"\",CHAR(10)&\"-\"&VLOOKUP(S834,EventConditionConfig!A:C,3,FALSE)))","v":""},{"$f":"IF(Y834=\"\",\"\",IF(ISTEXT(Y834),1,2))","v":""},{"$f":"IF(U834=1,_xlfn.TEXTJOIN(\";\",1,IF(Z834=\"\",A834+1,Z834),IF(AND(AA834<>\"\",AC834=\"\"),A834+1,AC834)),IF(U834=2,Y834,\"\"))","v":""},{"$f":"_xlfn.TEXTJOIN(\";\",1,X834,AA834)","v":""},{"$f":"IF(OR(ISNUMBER(Y834),Y834=\"\"),\"\",MAX(AI833,AI832,B834,D834,L834)+1)","v":""},null,null,{"$f":"IF(OR(ISNUMBER(AB834),AB834=\"\"),\"\",X834+1)","v":""},{"$nulls":4},{"$f":"IF(A834=\"\",\"\",IF(ISNUMBER(Y834),2,IF(A835=\"\",IF(OR(AH834>0,VLOOKUP(O834,EventConfig!A:C,3,FALSE)=4),3,\"\"),1)))","v":1},{"$f":"IF(AF834=\"\",\"\",CHOOSE(AF834,IF(AH834=\"\",A834+1,AH834),CONCATENATE(IF(AH834=\"\",A834+1,AH834),\";101\"),IF(AH834=\"\",O834+1,AH834)))","v":604302},null,{"$f":"IF(A834=\"\",\"\",MAX(B834,D834,L834,X834,AA834,AI833,AI832))","v":5964}]
[{"$f":"O835*100+P835","v":604302},{"$f":"IF(C835=\"\",\"\",IF(C835=C834,B834,MAX(AI834,AI833)+1))","v":5963},"与许由对话",{"$f":"IF(E835=\"\",\"\",IF(E835=E834,D834,MAX(AI834,AI833,B835)+1))","v":""},{"$nulls":5},106,{"$f":"IF(J835=\"\",\"\",VLOOKUP(J835,EventNPC!A:E,5,FALSE))","v":"许由"},{"$f":"IF(M835=\"\",\"\",MAX(AI834,AI833,B835,D835)+1)","v":5965},"多谢你。\n隐居炼丹，让我避开尘世纷扰，可有时我也想：拒绝天下，是真自在，还是另一种执着？",null,6043,2,{"$f":"_xlfn.TEXTJOIN(\";\",1,R835:S835)","v":""},null,null,{"$f":"IF(R835=\"\",\"\",\"-\"&VLOOKUP(R835,EventConditionConfig!A:C,3,FALSE)&IF(S835=\"\",\"\",CHAR(10)&\"-\"&VLOOKUP(S835,EventConditionConfig!A:C,3,FALSE)))","v":""},{"$f":"IF(Y835=\"\",\"\",IF(ISTEXT(Y835),1,2))","v":1},{"$f":"IF(U835=1,_xlfn.TEXTJOIN(\";\",1,IF(Z835=\"\",A835+1,Z835),IF(AND(AA835<>\"\",AC835=\"\"),A835+1,AC835)),IF(U835=2,Y835,\"\"))","v":"604303"},{"$f":"_xlfn.TEXTJOIN(\";\",1,X835,AA835)","v":"5966"},{"$f":"IF(OR(ISNUMBER(Y835),Y835=\"\"),\"\",MAX(AI834,AI833,B835,D835,L835)+1)","v":5966},"晚辈不懂...",null,{"$f":"IF(OR(ISNUMBER(AB835),AB835=\"\"),\"\",X835+1)","v":""},{"$nulls":4},{"$f":"IF(A835=\"\",\"\",IF(ISNUMBER(Y835),2,IF(A836=\"\",IF(OR(AH835>0,VLOOKUP(O835,EventConfig!A:C,3,FALSE)=4),3,\"\"),1)))","v":1},{"$f":"IF(AF835=\"\",\"\",CHOOSE(AF835,IF(AH835=\"\",A835+1,AH835),CONCATENATE(IF(AH835=\"\",A835+1,AH835),\";101\"),IF(AH835=\"\",O835+1,AH835)))","v":604303},null,{"$f":"IF(A835=\"\",\"\",MAX(B835,D835,L835,X835,AA835,AI834,AI833))","v":5966}]
[{"$f":"O836*100+P836","v":604303},{"$f":"IF(C836=\"\",\"\",IF(C836=C835,B835,MAX(AI835,AI834)+1))","v":5963},"与许由对话",{"$f":"IF(E836=\"\",\"\",IF(E836=E835,D835,MAX(AI835,AI834,B836)+1))","v":""},{"$nulls":5},106,{"$f":"IF(J836=\"\",\"\",VLOOKUP(J836,EventNPC!A:E,5,FALSE))","v":"许由"},{"$f":"IF(M836=\"\",\"\",MAX(AI835,AI834,B836,D836)+1)","v":5967},"哈哈，我胡言乱语罢了。",null,6043,3,{"$f":"_xlfn.TEXTJOIN(\";\",1,R836:S836)","v":""},null,null,{"$f":"IF(R836=\"\",\"\",\"-\"&VLOOKUP(R836,EventConditionConfig!A:C,3,FALSE)&IF(S836=\"\",\"\",CHAR(10)&\"-\"&VLOOKUP(S836,EventConditionConfig!A:C,3,FALSE)))","v":""},{"$f":"IF(Y836=\"\",\"\",IF(ISTEXT(Y836),1,2))","v":""},{"$f":"IF(U836=1,_xlfn.TEXTJOIN(\";\",1,IF(Z836=\"\",A836+1,Z836),IF(AND(AA836<>\"\",AC836=\"\"),A836+1,AC836)),IF(U836=2,Y836,\"\"))","v":""},{"$f":"_xlfn.TEXTJOIN(\";\",1,X836,AA836)","v":""},{"$f":"IF(OR(ISNUMBER(Y836),Y836=\"\"),\"\",MAX(AI835,AI834,B836,D836,L836)+1)","v":""},null,null,{"$f":"IF(OR(ISNUMBER(AB836),AB836=\"\"),\"\",X836+1)","v":""},{"$nulls":4},{"$f":"IF(A836=\"\",\"\",IF(ISNUMBER(Y836),2,IF(A837=\"\",IF(OR(AH836>0,VLOOKUP(O836,EventConfig!A:C,3,FALSE)=4),3,\"\"),1)))","v":""},{"$f":"IF(AF836=\"\",\"\",CHOOSE(AF836,IF(AH836=\"\",A836+1,AH836),CONCATENATE(IF(AH836=\"\",A836+1,AH836),\";101\"),IF(AH836=\"\",O836+1,AH836)))","v":""},null,{"$f":"IF(A836=\"\",\"\",MAX(B836,D836,L836,X836,AA836,AI835,AI834))","v":5967}]
[{"$nulls":15},""]
[{"$f":"O838*100+P838","v":604401},{"$f":"IF(C838=\"\",\"\",IF(C838=C837,B837,MAX(AI837,AI836)+1))","v":5968},"收集秘境种子",{"$f":"IF(E838=\"\",\"\",IF(E838=E837,D837,MAX(AI837,AI836,B838)+1))","v":""},{"$nulls":5},106,{"$f":"IF(J838=\"\",\"\",VLOOKUP(J838,EventNPC!A:E,5,FALSE))","v":"许由"},{"$f":"IF(M838=\"\",\"\",MAX(AI837,AI836,B838,D838)+1)","v":5969},"我需要一些秘境种子。",null,6044,{"$f":"IF(O838=\"\",\"\",IF(O838=O837,P837+1,1))","v":1},{"$f":"_xlfn.TEXTJOIN(\";\",1,R838:S838)","v":""},null,null,{"$f":"IF(R838=\"\",\"\",\"-\"&VLOOKUP(R838,EventConditionConfig!A:C,3,FALSE)&IF(S838=\"\",\"\",CHAR(10)&\"-\"&VLOOKUP(S838,EventConditionConfig!A:C,3,FALSE)))","v":""},{"$f":"IF(Y838=\"\",\"\",IF(ISTEXT(Y838),1,2))","v":""},{"$f":"IF(U838=1,_xlfn.TEXTJOIN(\";\",1,IF(Z838=\"\",A838+1,Z838),IF(AND(AA838<>\"\",AC838=\"\"),A838+1,AC838)),IF(U838=2,Y838,\"\"))","v":""},{"$f":"_xlfn.TEXTJOIN(\";\",1,X838,AA838)","v":""},{"$f":"IF(OR(ISNUMBER(Y838),Y838=\"\"),\"\",MAX(AI837,AI836,B838,D838,L838)+1)","v":""},null,null,{"$f":"IF(OR(ISNUMBER(AB838),AB838=\"\"),\"\",X838+1)","v":""},{"$nulls":4},{"$f":"IF(A838=\"\",\"\",IF(ISNUMBER(Y838),2,IF(A839=\"\",IF(OR(AH838>0,VLOOKUP(O838,EventConfig!A:C,3,FALSE)=4),3,\"\"),1)))","v":1},{"$f":"IF(AF838=\"\",\"\",CHOOSE(AF838,IF(AH838=\"\",A838+1,AH838),CONCATENATE(IF(AH838=\"\",A838+1,AH838),\";101\"),IF(AH838=\"\",O838+1,AH838)))","v":604402},null,{"$f":"IF(A838=\"\",\"\",MAX(B838,D838,L838,X838,AA838,AI837,AI836))","v":5969}]
[{"$f":"O839*100+P839","v":604402},{"$f":"IF(C839=\"\",\"\",IF(C839=C838,B838,MAX(AI838,AI837)+1))","v":5968},"收集秘境种子",{"$f":"IF(E839=\"\",\"\",IF(E839=E838,D838,MAX(AI838,AI837,B839)+1))","v":""},{"$nulls":5},100,{"$f":"IF(J839=\"\",\"\",VLOOKUP(J839,EventNPC!A:E,5,FALSE))","v":"玩家"},{"$f":"IF(M839=\"\",\"\",MAX(AI838,AI837,B839,D839)+1)","v":5970},"前辈,你要的种子。",null,6044,2,{"$f":"_xlfn.TEXTJOIN(\";\",1,R839:S839)","v":"45"},45,null,{"$f":"IF(R839=\"\",\"\",\"-\"&VLOOKUP(R839,EventConditionConfig!A:C,3,FALSE)&IF(S839=\"\",\"\",CHAR(10)&\"-\"&VLOOKUP(S839,EventConditionConfig!A:C,3,FALSE)))","v":"-完成神识探索-秘境种子"},{"$f":"IF(Y839=\"\",\"\",IF(ISTEXT(Y839),1,2))","v":""},{"$f":"IF(U839=1,_xlfn.TEXTJOIN(\";\",1,IF(Z839=\"\",A839+1,Z839),IF(AND(AA839<>\"\",AC839=\"\"),A839+1,AC839)),IF(U839=2,Y839,\"\"))","v":""},{"$f":"_xlfn.TEXTJOIN(\";\",1,X839,AA839)","v":""},{"$f":"IF(OR(ISNUMBER(Y839),Y839=\"\"),\"\",MAX(AI838,AI837,B839,D839,L839)+1)","v":""},null,null,{"$f":"IF(OR(ISNUMBER(AB839),AB839=\"\"),\"\",X839+1)","v":""},{"$nulls":4},{"$f":"IF(A839=\"\",\"\",IF(ISNUMBER(Y839),2,IF(A840=\"\",IF(OR(AH839>0,VLOOKUP(O839,EventConfig!A:C,3,FALSE)=4),3,\"\"),1)))","v":1},{"$f":"IF(AF839=\"\",\"\",CHOOSE(AF839,IF(AH839=\"\",A839+1,AH839),CONCATENATE(IF(AH839=\"\",A839+1,AH839),\";101\"),IF(AH839=\"\",O839+1,AH839)))","v":604403},null,{"$f":"IF(A839=\"\",\"\",MAX(B839,D839,L839,X839,AA839,AI838,AI837))","v":5970}]
[604403,5968,"收集秘境种子","",{"$nulls":5},106,{"$f":"IF(J840=\"\",\"\",VLOOKUP(J840,EventNPC!A:E,5,FALSE))","v":"许由"},5971,"（融入丹炉，点头）天下大，却非我所求。隐居小，却足我心。\n你说，大与小，谁更好？",null,6044,3,"",null,null,{"$f":"IF(R840=\"\",\"\",\"-\"&VLOOKUP(R840,EventConditionConfig!A:C,3,FALSE)&IF(S840=\"\",\"\",CHAR(10)&\"-\"&VLOOKUP(S840,EventConditionConfig!A:C,3,FALSE)))","v":""},1,"604404;604404","5972;5973",5972,"大有大自在，小有小逍遥。",null,5973,"心定，则处处自在。",null,null,null,{"$f":"IF(A840=\"\",\"\",IF(ISNUMBER(Y840),2,IF(A841=\"\",IF(OR(AH840>0,VLOOKUP(O840,EventConfig!A:C,3,FALSE)=4),3,\"\"),1)))","v":1},604404,null,5973]
[604404,5968,"收集秘境种子","",{"$nulls":5},106,{"$f":"IF(J841=\"\",\"\",VLOOKUP(J841,EventNPC!A:E,5,FALSE))","v":"许由"},5974,"哈哈哈，小友悟性不浅。",null,6044,4,"",null,null,{"$f":"IF(R841=\"\",\"\",\"-\"&VLOOKUP(R841,EventConditionConfig!A:C,3,FALSE)&IF(S841=\"\",\"\",CHAR(10)&\"-\"&VLOOKUP(S841,EventConditionConfig!A:C,3,FALSE)))","v":""},"","","","",null,null,"",{"$nulls":4},{"$f":"IF(A841=\"\",\"\",IF(ISNUMBER(Y841),2,IF(A842=\"\",IF(OR(AH841>0,VLOOKUP(O841,EventConfig!A:C,3,FALSE)=4),3,\"\"),1)))","v":""},"",null,5974]
[{"$nulls":15},""]
[{"$f":"O843*100+P843","v":604501},{"$f":"IF(C843=\"\",\"\",IF(C843=C842,B842,MAX(AI842,AI841)+1))","v":5975},"与许由对话",{"$f":"IF(E843=\"\",\"\",IF(E843=E842,D842,MAX(AI842,AI841,B843)+1))","v":""},{"$nulls":5},106,{"$f":"IF(J843=\"\",\"\",VLOOKUP(J843,EventNPC!A:E,5,FALSE))","v":"许由"},{"$f":"IF(M843=\"\",\"\",MAX(AI842,AI841,B843,D843)+1)","v":5976},"来，喝茶吧。\n再来聊聊你游历故事？",null,6045,1,{"$f":"_xlfn.TEXTJOIN(\";\",1,R843:S843)","v":""},null,null,{"$f":"IF(R843=\"\",\"\",\"-\"&VLOOKUP(R843,EventConditionConfig!A:C,3,FALSE)&IF(S843=\"\",\"\",CHAR(10)&\"-\"&VLOOKUP(S843,EventConditionConfig!A:C,3,FALSE)))","v":""},{"$f":"IF(Y843=\"\",\"\",IF(ISTEXT(Y843),1,2))","v":1},{"$f":"IF(U843=1,_xlfn.TEXTJOIN(\";\",1,IF(Z843=\"\",A843+1,Z843),IF(AND(AA843<>\"\",AC843=\"\"),A843+1,AC843)),IF(U843=2,Y843,\"\"))","v":"604502"},{"$f":"_xlfn.TEXTJOIN(\";\",1,X843,AA843)","v":"5977"},{"$f":"IF(OR(ISNUMBER(Y843),Y843=\"\"),\"\",MAX(AI842,AI841,B843,D843,L843)+1)","v":5977},"讲述鲲鹏志向",null,{"$f":"IF(OR(ISNUMBER(AB843),AB843=\"\"),\"\",X843+1)","v":""},{"$nulls":4},{"$f":"IF(A843=\"\",\"\",IF(ISNUMBER(Y843),2,IF(A844=\"\",IF(OR(AH843>0,VLOOKUP(O843,EventConfig!A:C,3,FALSE)=4),3,\"\"),1)))","v":1},{"$f":"IF(AF843=\"\",\"\",CHOOSE(AF843,IF(AH843=\"\",A843+1,AH843),CONCATENATE(IF(AH843=\"\",A843+1,AH843),\";101\"),IF(AH843=\"\",O843+1,AH843)))","v":604502},null,{"$f":"IF(A843=\"\",\"\",MAX(B843,D843,L843,X843,AA843,AI842,AI841))","v":5977}]
[{"$f":"O844*100+P844","v":604502},{"$f":"IF(C844=\"\",\"\",IF(C844=C843,B843,MAX(AI843,AI842)+1))","v":5975},"与许由对话",{"$f":"IF(E844=\"\",\"\",IF(E844=E843,D843,MAX(AI843,AI842,B844)+1))","v":""},{"$nulls":5},106,{"$f":"IF(J844=\"\",\"\",VLOOKUP(J844,EventNPC!A:E,5,FALSE))","v":"许由"},{"$f":"IF(M844=\"\",\"\",MAX(AI843,AI842,B844,D844)+1)","v":5978},"鲲鹏飞高，可风一停就会落下，值得吗？",null,6045,2,{"$f":"_xlfn.TEXTJOIN(\";\",1,R844:S844)","v":""},null,null,{"$f":"IF(R844=\"\",\"\",\"-\"&VLOOKUP(R844,EventConditionConfig!A:C,3,FALSE)&IF(S844=\"\",\"\",CHAR(10)&\"-\"&VLOOKUP(S844,EventConditionConfig!A:C,3,FALSE)))","v":""},{"$f":"IF(Y844=\"\",\"\",IF(ISTEXT(Y844),1,2))","v":1},{"$f":"IF(U844=1,_xlfn.TEXTJOIN(\";\",1,IF(Z844=\"\",A844+1,Z844),IF(AND(AA844<>\"\",AC844=\"\"),A844+1,AC844)),IF(U844=2,Y844,\"\"))","v":"604503"},{"$f":"_xlfn.TEXTJOIN(\";\",1,X844,AA844)","v":"5979"},{"$f":"IF(OR(ISNUMBER(Y844),Y844=\"\"),\"\",MAX(AI843,AI842,B844,D844,L844)+1)","v":5979},"分享樗木无用",null,{"$f":"IF(OR(ISNUMBER(AB844),AB844=\"\"),\"\",X844+1)","v":""},{"$nulls":4},{"$f":"IF(A844=\"\",\"\",IF(ISNUMBER(Y844),2,IF(A845=\"\",IF(OR(AH844>0,VLOOKUP(O844,EventConfig!A:C,3,FALSE)=4),3,\"\"),1)))","v":1},{"$f":"IF(AF844=\"\",\"\",CHOOSE(AF844,IF(AH844=\"\",A844+1,AH844),CONCATENATE(IF(AH844=\"\",A844+1,AH844),\";101\"),IF(AH844=\"\",O844+1,AH844)))","v":604503},null,5979]
[{"$f":"O845*100+P845","v":604503},{"$f":"IF(C845=\"\",\"\",IF(C845=C844,B844,MAX(AI844,AI843)+1))","v":5975},"与许由对话",{"$f":"IF(E845=\"\",\"\",IF(E845=E844,D844,MAX(AI844,AI843,B845)+1))","v":""},{"$nulls":5},106,{"$f":"IF(J845=\"\",\"\",VLOOKUP(J845,EventNPC!A:E,5,FALSE))","v":"许由"},{"$f":"IF(M845=\"\",\"\",MAX(AI844,AI843,B845,D845)+1)","v":5980},"无用长存，可长存中，是否少了花开的瞬间？",null,6045,3,{"$f":"_xlfn.TEXTJOIN(\";\",1,R845:S845)","v":""},null,null,{"$f":"IF(R845=\"\",\"\",\"-\"&VLOOKUP(R845,EventConditionConfig!A:C,3,FALSE)&IF(S845=\"\",\"\",CHAR(10)&\"-\"&VLOOKUP(S845,EventConditionConfig!A:C,3,FALSE)))","v":""},{"$f":"IF(Y845=\"\",\"\",IF(ISTEXT(Y845),1,2))","v":1},{"$f":"IF(U845=1,_xlfn.TEXTJOIN(\";\",1,IF(Z845=\"\",A845+1,Z845),IF(AND(AA845<>\"\",AC845=\"\"),A845+1,AC845)),IF(U845=2,Y845,\"\"))","v":"604504"},{"$f":"_xlfn.TEXTJOIN(\";\",1,X845,AA845)","v":"5981"},{"$f":"IF(OR(ISNUMBER(Y845),Y845=\"\"),\"\",MAX(AI844,AI843,B845,D845,L845)+1)","v":5981},"描述姑射仙人",null,{"$f":"IF(OR(ISNUMBER(AB845),AB845=\"\"),\"\",X845+1)","v":""},{"$nulls":4},{"$f":"IF(A845=\"\",\"\",IF(ISNUMBER(Y845),2,IF(A846=\"\",IF(OR(AH845>0,VLOOKUP(O845,EventConfig!A:C,3,FALSE)=4),3,\"\"),1)))","v":1},{"$f":"IF(AF845=\"\",\"\",CHOOSE(AF845,IF(AH845=\"\",A845+1,AH845),CONCATENATE(IF(AH845=\"\",A845+1,AH845),\";101\"),IF(AH845=\"\",O845+1,AH845)))","v":604504},null,5981]
[{"$f":"O846*100+P846","v":604504},{"$f":"IF(C846=\"\",\"\",IF(C846=C845,B845,MAX(AI845,AI844)+1))","v":5975},"与许由对话",{"$f":"IF(E846=\"\",\"\",IF(E846=E845,D845,MAX(AI845,AI844,B846)+1))","v":""},{"$nulls":5},106,{"$f":"IF(J846=\"\",\"\",VLOOKUP(J846,EventNPC!A:E,5,FALSE))","v":"许由"},{"$f":"IF(M846=\"\",\"\",MAX(AI845,AI844,B846,D846)+1)","v":5982},"仙人逍遥，是否永远没有烦恼？",null,6045,4,{"$f":"_xlfn.TEXTJOIN(\";\",1,R846:S846)","v":""},null,null,{"$f":"IF(R846=\"\",\"\",\"-\"&VLOOKUP(R846,EventConditionConfig!A:C,3,FALSE)&IF(S846=\"\",\"\",CHAR(10)&\"-\"&VLOOKUP(S846,EventConditionConfig!A:C,3,FALSE)))","v":""},{"$f":"IF(Y846=\"\",\"\",IF(ISTEXT(Y846),1,2))","v":1},{"$f":"IF(U846=1,_xlfn.TEXTJOIN(\";\",1,IF(Z846=\"\",A846+1,Z846),IF(AND(AA846<>\"\",AC846=\"\"),A846+1,AC846)),IF(U846=2,Y846,\"\"))","v":"604505"},{"$f":"_xlfn.TEXTJOIN(\";\",1,X846,AA846)","v":"5983"},{"$f":"IF(OR(ISNUMBER(Y846),Y846=\"\"),\"\",MAX(AI845,AI844,B846,D846,L846)+1)","v":5983},"多谢前辈指点",null,{"$f":"IF(OR(ISNUMBER(AB846),AB846=\"\"),\"\",X846+1)","v":""},{"$nulls":4},{"$f":"IF(A846=\"\",\"\",IF(ISNUMBER(Y846),2,IF(A847=\"\",IF(OR(AH846>0,VLOOKUP(O846,EventConfig!A:C,3,FALSE)=4),3,\"\"),1)))","v":""},{"$f":"IF(AF846=\"\",\"\",CHOOSE(AF846,IF(AH846=\"\",A846+1,AH846),CONCATENATE(IF(AH846=\"\",A846+1,AH846),\";101\"),IF(AH846=\"\",O846+1,AH846)))","v":""},null,5983]
[{"$nulls":15},"",{"$nulls":18},""]
[{"$f":"O848*100+P848","v":604601},{"$f":"IF(C848=\"\",\"\",IF(C848=C847,B847,MAX(AI847,AI846)+1))","v":5984},"与许由对话",{"$f":"IF(E848=\"\",\"\",IF(E848=E847,D847,MAX(AI847,AI846,B848)+1))","v":""},{"$nulls":5},106,{"$f":"IF(J848=\"\",\"\",VLOOKUP(J848,EventNPC!A:E,5,FALSE))","v":"许由"},{"$f":"IF(M848=\"\",\"\",MAX(AI847,AI846,B848,D848)+1)","v":5985},"小友，近来与你品茶论道，我也获益良多。\n日后若有丹药，灵草之事，欢迎来找我。",null,6046,1,{"$f":"_xlfn.TEXTJOIN(\";\",1,R848:S848)","v":""},null,null,{"$f":"IF(R848=\"\",\"\",\"-\"&VLOOKUP(R848,EventConditionConfig!A:C,3,FALSE)&IF(S848=\"\",\"\",CHAR(10)&\"-\"&VLOOKUP(S848,EventConditionConfig!A:C,3,FALSE)))","v":""},{"$f":"IF(Y848=\"\",\"\",IF(ISTEXT(Y848),1,2))","v":1},{"$f":"IF(U848=1,_xlfn.TEXTJOIN(\";\",1,IF(Z848=\"\",A848+1,Z848),IF(AND(AA848<>\"\",AC848=\"\"),A848+1,AC848)),IF(U848=2,Y848,\"\"))","v":"604602"},{"$f":"_xlfn.TEXTJOIN(\";\",1,X848,AA848)","v":"5986"},{"$f":"IF(OR(ISNUMBER(Y848),Y848=\"\"),\"\",MAX(AI847,AI846,B848,D848,L848)+1)","v":5986},"多谢前辈！",null,{"$f":"IF(OR(ISNUMBER(AB848),AB848=\"\"),\"\",X848+1)","v":""},{"$nulls":4},{"$f":"IF(A848=\"\",\"\",IF(ISNUMBER(Y848),2,IF(A849=\"\",IF(OR(AH848>0,VLOOKUP(O848,EventConfig!A:C,3,FALSE)=4),3,\"\"),1)))","v":1},{"$f":"IF(AF848=\"\",\"\",CHOOSE(AF848,IF(AH848=\"\",A848+1,AH848),CONCATENATE(IF(AH848=\"\",A848+1,AH848),\";101\"),IF(AH848=\"\",O848+1,AH848)))","v":604602},null,5986]
[{"$f":"O849*100+P849","v":604602},{"$f":"IF(C849=\"\",\"\",IF(C849=C848,B848,MAX(AI848,AI847)+1))","v":5984},"与许由对话",{"$f":"IF(E849=\"\",\"\",IF(E849=E848,D848,MAX(AI848,AI847,B849)+1))","v":""},{"$nulls":5},106,{"$f":"IF(J849=\"\",\"\",VLOOKUP(J849,EventNPC!A:E,5,FALSE))","v":"许由"},{"$f":"IF(M849=\"\",\"\",MAX(AI848,AI847,B849,D849)+1)","v":5987},"你去吧，继续你的旅程，有缘再见。",null,6046,2,{"$f":"_xlfn.TEXTJOIN(\";\",1,R849:S849)","v":""},null,null,{"$f":"IF(R849=\"\",\"\",\"-\"&VLOOKUP(R849,EventConditionConfig!A:C,3,FALSE)&IF(S849=\"\",\"\",CHAR(10)&\"-\"&VLOOKUP(S849,EventConditionConfig!A:C,3,FALSE)))","v":""},{"$f":"IF(Y849=\"\",\"\",IF(ISTEXT(Y849),1,2))","v":""},{"$f":"IF(U849=1,_xlfn.TEXTJOIN(\";\",1,IF(Z849=\"\",A849+1,Z849),IF(AND(AA849<>\"\",AC849=\"\"),A849+1,AC849)),IF(U849=2,Y849,\"\"))","v":""},{"$f":"_xlfn.TEXTJOIN(\";\",1,X849,AA849)","v":""},{"$f":"IF(OR(ISNUMBER(Y849),Y849=\"\"),\"\",MAX(AI848,AI847,B849,D849,L849)+1)","v":""},null,null,{"$f":"IF(OR(ISNUMBER(AB849),AB849=\"\"),\"\",X849+1)","v":""},{"$nulls":4},{"$f":"IF(A849=\"\",\"\",IF(ISNUMBER(Y849),2,IF(A850=\"\",IF(OR(AH849>0,VLOOKUP(O849,EventConfig!A:C,3,FALSE)=4),3,\"\"),1)))","v":""},{"$f":"IF(AF849=\"\",\"\",CHOOSE(AF849,IF(AH849=\"\",A849+1,AH849),CONCATENATE(IF(AH849=\"\",A849+1,AH849),\";101\"),IF(AH849=\"\",O849+1,AH849)))","v":""},null,5987]
[{"$nulls":15},"",{"$nulls":18},""]
[{"$f":"O851*100+P851","v":605101},{"$f":"IF(C851=\"\",\"\",IF(C851=C850,B850,MAX(AI850,AI849)+1))","v":5988},"完成所有对话",{"$f":"IF(E851=\"\",\"\",IF(E851=E850,D850,MAX(AI850,AI849,B851)+1))","v":""},{"$nulls":6},{"$f":"IF(J851=\"\",\"\",VLOOKUP(J851,EventNPC!A:E,5,FALSE))","v":""},{"$f":"IF(M851=\"\",\"\",MAX(AI850,AI849,B851,D851)+1)","v":5989},"你游历途中，忽见疯道人御风而来，或立于云端，或坐于路边。他看起来像在随处发呆，却又像在听风说话。",null,6051,1,{"$f":"_xlfn.TEXTJOIN(\";\",1,R851:S851)","v":""},null,null,{"$f":"IF(R851=\"\",\"\",\"-\"&VLOOKUP(R851,EventConditionConfig!A:C,3,FALSE)&IF(S851=\"\",\"\",CHAR(10)&\"-\"&VLOOKUP(S851,EventConditionConfig!A:C,3,FALSE)))","v":""},{"$f":"IF(Y851=\"\",\"\",IF(ISTEXT(Y851),1,2))","v":""},{"$f":"IF(U851=1,_xlfn.TEXTJOIN(\";\",1,IF(Z851=\"\",A851+1,Z851),IF(AND(AA851<>\"\",AC851=\"\"),A851+1,AC851)),IF(U851=2,Y851,\"\"))","v":""},{"$f":"_xlfn.TEXTJOIN(\";\",1,X851,AA851)","v":""},{"$f":"IF(OR(ISNUMBER(Y851),Y851=\"\"),\"\",MAX(AI850,AI849,B851,D851,L851)+1)","v":""},null,null,{"$f":"IF(OR(ISNUMBER(AB851),AB851=\"\"),\"\",X851+1)","v":""},{"$nulls":4},{"$f":"IF(A851=\"\",\"\",IF(ISNUMBER(Y851),2,IF(A852=\"\",IF(OR(AH851>0,VLOOKUP(O851,EventConfig!A:C,3,FALSE)=4),3,\"\"),1)))","v":1},{"$f":"IF(AF851=\"\",\"\",CHOOSE(AF851,IF(AH851=\"\",A851+1,AH851),CONCATENATE(IF(AH851=\"\",A851+1,AH851),\";101\"),IF(AH851=\"\",O851+1,AH851)))","v":605102},null,5989]
[{"$f":"O852*100+P852","v":605102},{"$f":"IF(C852=\"\",\"\",IF(C852=C851,B851,MAX(AI851,AI850)+1))","v":5988},"完成所有对话",{"$f":"IF(E852=\"\",\"\",IF(E852=E851,D851,MAX(AI851,AI850,B852)+1))","v":""},{"$nulls":5},100,{"$f":"IF(J852=\"\",\"\",VLOOKUP(J852,EventNPC!A:E,5,FALSE))","v":"玩家"},{"$f":"IF(M852=\"\",\"\",MAX(AI851,AI850,B852,D852)+1)","v":5990},"前辈，好久不见。您怎会在此？",null,6051,2,{"$f":"_xlfn.TEXTJOIN(\";\",1,R852:S852)","v":""},null,null,{"$f":"IF(R852=\"\",\"\",\"-\"&VLOOKUP(R852,EventConditionConfig!A:C,3,FALSE)&IF(S852=\"\",\"\",CHAR(10)&\"-\"&VLOOKUP(S852,EventConditionConfig!A:C,3,FALSE)))","v":""},{"$f":"IF(Y852=\"\",\"\",IF(ISTEXT(Y852),1,2))","v":""},{"$f":"IF(U852=1,_xlfn.TEXTJOIN(\";\",1,IF(Z852=\"\",A852+1,Z852),IF(AND(AA852<>\"\",AC852=\"\"),A852+1,AC852)),IF(U852=2,Y852,\"\"))","v":""},{"$f":"_xlfn.TEXTJOIN(\";\",1,X852,AA852)","v":""},{"$f":"IF(OR(ISNUMBER(Y852),Y852=\"\"),\"\",MAX(AI851,AI850,B852,D852,L852)+1)","v":""},null,null,{"$f":"IF(OR(ISNUMBER(AB852),AB852=\"\"),\"\",X852+1)","v":""},{"$nulls":4},{"$f":"IF(A852=\"\",\"\",IF(ISNUMBER(Y852),2,IF(A853=\"\",IF(OR(AH852>0,VLOOKUP(O852,EventConfig!A:C,3,FALSE)=4),3,\"\"),1)))","v":1},{"$f":"IF(AF852=\"\",\"\",CHOOSE(AF852,IF(AH852=\"\",A852+1,AH852),CONCATENATE(IF(AH852=\"\",A852+1,AH852),\";101\"),IF(AH852=\"\",O852+1,AH852)))","v":605103},null,5990]
[{"$f":"O853*100+P853","v":605103},{"$f":"IF(C853=\"\",\"\",IF(C853=C852,B852,MAX(AI852,AI851)+1))","v":5988},"完成所有对话",{"$f":"IF(E853=\"\",\"\",IF(E853=E852,D852,MAX(AI852,AI851,B853)+1))","v":""},{"$nulls":5},7,{"$f":"IF(J853=\"\",\"\",VLOOKUP(J853,EventNPC!A:E,5,FALSE))","v":"疯道人"},{"$f":"IF(M853=\"\",\"\",MAX(AI852,AI851,B853,D853)+1)","v":5991},"（大笑，声音如风啸）小友，又是你。\n我在此发呆有段时间了，有人笑我疯，有人说我傻。",null,6051,3,{"$f":"_xlfn.TEXTJOIN(\";\",1,R853:S853)","v":""},null,null,{"$f":"IF(R853=\"\",\"\",\"-\"&VLOOKUP(R853,EventConditionConfig!A:C,3,FALSE)&IF(S853=\"\",\"\",CHAR(10)&\"-\"&VLOOKUP(S853,EventConditionConfig!A:C,3,FALSE)))","v":""},{"$f":"IF(Y853=\"\",\"\",IF(ISTEXT(Y853),1,2))","v":1},{"$f":"IF(U853=1,_xlfn.TEXTJOIN(\";\",1,IF(Z853=\"\",A853+1,Z853),IF(AND(AA853<>\"\",AC853=\"\"),A853+1,AC853)),IF(U853=2,Y853,\"\"))","v":"605104"},{"$f":"_xlfn.TEXTJOIN(\";\",1,X853,AA853)","v":"5992"},{"$f":"IF(OR(ISNUMBER(Y853),Y853=\"\"),\"\",MAX(AI852,AI851,B853,D853,L853)+1)","v":5992},"是什么人，如此大胆？",null,{"$f":"IF(OR(ISNUMBER(AB853),AB853=\"\"),\"\",X853+1)","v":""},{"$nulls":4},{"$f":"IF(A853=\"\",\"\",IF(ISNUMBER(Y853),2,IF(A854=\"\",IF(OR(AH853>0,VLOOKUP(O853,EventConfig!A:C,3,FALSE)=4),3,\"\"),1)))","v":1},{"$f":"IF(AF853=\"\",\"\",CHOOSE(AF853,IF(AH853=\"\",A853+1,AH853),CONCATENATE(IF(AH853=\"\",A853+1,AH853),\";101\"),IF(AH853=\"\",O853+1,AH853)))","v":605104},null,5992]
[{"$f":"O854*100+P854","v":605104},{"$f":"IF(C854=\"\",\"\",IF(C854=C853,B853,MAX(AI853,AI852)+1))","v":5988},"完成所有对话",{"$f":"IF(E854=\"\",\"\",IF(E854=E853,D853,MAX(AI853,AI852,B854)+1))","v":""},{"$nulls":5},7,{"$f":"IF(J854=\"\",\"\",VLOOKUP(J854,EventNPC!A:E,5,FALSE))","v":"疯道人"},{"$f":"IF(M854=\"\",\"\",MAX(AI853,AI852,B854,D854)+1)","v":5993},"我可没空理会他们。\n你若有心，不妨帮我找些甜蜜果实，助我解乏。",null,6051,4,{"$f":"_xlfn.TEXTJOIN(\";\",1,R854:S854)","v":""},null,null,{"$f":"IF(R854=\"\",\"\",\"-\"&VLOOKUP(R854,EventConditionConfig!A:C,3,FALSE)&IF(S854=\"\",\"\",CHAR(10)&\"-\"&VLOOKUP(S854,EventConditionConfig!A:C,3,FALSE)))","v":""},{"$f":"IF(Y854=\"\",\"\",IF(ISTEXT(Y854),1,2))","v":1},{"$f":"IF(U854=1,_xlfn.TEXTJOIN(\";\",1,IF(Z854=\"\",A854+1,Z854),IF(AND(AA854<>\"\",AC854=\"\"),A854+1,AC854)),IF(U854=2,Y854,\"\"))","v":"605105"},{"$f":"_xlfn.TEXTJOIN(\";\",1,X854,AA854)","v":"5994"},{"$f":"IF(OR(ISNUMBER(Y854),Y854=\"\"),\"\",MAX(AI853,AI852,B854,D854,L854)+1)","v":5994},"好的前辈",null,{"$f":"IF(OR(ISNUMBER(AB854),AB854=\"\"),\"\",X854+1)","v":""},{"$nulls":4},{"$f":"IF(A854=\"\",\"\",IF(ISNUMBER(Y854),2,IF(A855=\"\",IF(OR(AH854>0,VLOOKUP(O854,EventConfig!A:C,3,FALSE)=4),3,\"\"),1)))","v":""},{"$f":"IF(AF854=\"\",\"\",CHOOSE(AF854,IF(AH854=\"\",A854+1,AH854),CONCATENATE(IF(AH854=\"\",A854+1,AH854),\";101\"),IF(AH854=\"\",O854+1,AH854)))","v":""},null,5994]
[{"$nulls":15},"",{"$nulls":18},""]
[{"$f":"O856*100+P856","v":605201},{"$f":"IF(C856=\"\",\"\",IF(C856=C855,B855,MAX(AI855,AI854)+1))","v":5995},"收集甜蜜果实",{"$f":"IF(E856=\"\",\"\",IF(E856=E855,D855,MAX(AI855,AI854,B856)+1))","v":""},{"$nulls":6},{"$f":"IF(J856=\"\",\"\",VLOOKUP(J856,EventNPC!A:E,5,FALSE))","v":""},{"$f":"IF(M856=\"\",\"\",MAX(AI855,AI854,B856,D856)+1)","v":5996},"你在游历间寻觅果实，果子甜香，灵气隐现。偶尔有小兽守护，需要小心避开或驱散。",null,6052,1,{"$f":"_xlfn.TEXTJOIN(\";\",1,R856:S856)","v":""},null,null,{"$f":"IF(R856=\"\",\"\",\"-\"&VLOOKUP(R856,EventConditionConfig!A:C,3,FALSE)&IF(S856=\"\",\"\",CHAR(10)&\"-\"&VLOOKUP(S856,EventConditionConfig!A:C,3,FALSE)))","v":""},{"$f":"IF(Y856=\"\",\"\",IF(ISTEXT(Y856),1,2))","v":""},{"$f":"IF(U856=1,_xlfn.TEXTJOIN(\";\",1,IF(Z856=\"\",A856+1,Z856),IF(AND(AA856<>\"\",AC856=\"\"),A856+1,AC856)),IF(U856=2,Y856,\"\"))","v":""},{"$f":"_xlfn.TEXTJOIN(\";\",1,X856,AA856)","v":""},{"$f":"IF(OR(ISNUMBER(Y856),Y856=\"\"),\"\",MAX(AI855,AI854,B856,D856,L856)+1)","v":""},null,null,{"$f":"IF(OR(ISNUMBER(AB856),AB856=\"\"),\"\",X856+1)","v":""},{"$nulls":4},{"$f":"IF(A856=\"\",\"\",IF(ISNUMBER(Y856),2,IF(A857=\"\",IF(OR(AH856>0,VLOOKUP(O856,EventConfig!A:C,3,FALSE)=4),3,\"\"),1)))","v":1},{"$f":"IF(AF856=\"\",\"\",CHOOSE(AF856,IF(AH856=\"\",A856+1,AH856),CONCATENATE(IF(AH856=\"\",A856+1,AH856),\";101\"),IF(AH856=\"\",O856+1,AH856)))","v":605202},null,5996]
[{"$f":"O857*100+P857","v":605202},{"$f":"IF(C857=\"\",\"\",IF(C857=C856,B856,MAX(AI856,AI855)+1))","v":5995},"收集甜蜜果实",{"$f":"IF(E857=\"\",\"\",IF(E857=E856,D856,MAX(AI856,AI855,B857)+1))","v":""},{"$nulls":5},100,{"$f":"IF(J857=\"\",\"\",VLOOKUP(J857,EventNPC!A:E,5,FALSE))","v":"玩家"},{"$f":"IF(M857=\"\",\"\",MAX(AI856,AI855,B857,D857)+1)","v":5997},"前辈，果实已集齐。",null,6052,2,{"$f":"_xlfn.TEXTJOIN(\";\",1,R857:S857)","v":"46"},46,null,{"$f":"IF(R857=\"\",\"\",\"-\"&VLOOKUP(R857,EventConditionConfig!A:C,3,FALSE)&IF(S857=\"\",\"\",CHAR(10)&\"-\"&VLOOKUP(S857,EventConditionConfig!A:C,3,FALSE)))","v":"-完成神识探索-甜蜜果实"},{"$f":"IF(Y857=\"\",\"\",IF(ISTEXT(Y857),1,2))","v":""},{"$f":"IF(U857=1,_xlfn.TEXTJOIN(\";\",1,IF(Z857=\"\",A857+1,Z857),IF(AND(AA857<>\"\",AC857=\"\"),A857+1,AC857)),IF(U857=2,Y857,\"\"))","v":""},{"$f":"_xlfn.TEXTJOIN(\";\",1,X857,AA857)","v":""},{"$f":"IF(OR(ISNUMBER(Y857),Y857=\"\"),\"\",MAX(AI856,AI855,B857,D857,L857)+1)","v":""},null,null,{"$f":"IF(OR(ISNUMBER(AB857),AB857=\"\"),\"\",X857+1)","v":""},{"$nulls":4},{"$f":"IF(A857=\"\",\"\",IF(ISNUMBER(Y857),2,IF(A858=\"\",IF(OR(AH857>0,VLOOKUP(O857,EventConfig!A:C,3,FALSE)=4),3,\"\"),1)))","v":1},{"$f":"IF(AF857=\"\",\"\",CHOOSE(AF857,IF(AH857=\"\",A857+1,AH857),CONCATENATE(IF(AH857=\"\",A857+1,AH857),\";101\"),IF(AH857=\"\",O857+1,AH857)))","v":605203},null,5997]
[{"$f":"O858*100+P858","v":605203},{"$f":"IF(C858=\"\",\"\",IF(C858=C857,B857,MAX(AI857,AI856)+1))","v":5995},"收集甜蜜果实",{"$f":"IF(E858=\"\",\"\",IF(E858=E857,D857,MAX(AI857,AI856,B858)+1))","v":""},{"$nulls":5},7,{"$f":"IF(J858=\"\",\"\",VLOOKUP(J858,EventNPC!A:E,5,FALSE))","v":"疯道人"},{"$f":"IF(M858=\"\",\"\",MAX(AI857,AI856,B858,D858)+1)","v":5998},"这些果实是解乏之物，长于树梢，有灵兽守护，这一趟辛苦你了。",null,6052,3,{"$f":"_xlfn.TEXTJOIN(\";\",1,R858:S858)","v":""},null,null,{"$f":"IF(R858=\"\",\"\",\"-\"&VLOOKUP(R858,EventConditionConfig!A:C,3,FALSE)&IF(S858=\"\",\"\",CHAR(10)&\"-\"&VLOOKUP(S858,EventConditionConfig!A:C,3,FALSE)))","v":""},{"$f":"IF(Y858=\"\",\"\",IF(ISTEXT(Y858),1,2))","v":""},{"$f":"IF(U858=1,_xlfn.TEXTJOIN(\";\",1,IF(Z858=\"\",A858+1,Z858),IF(AND(AA858<>\"\",AC858=\"\"),A858+1,AC858)),IF(U858=2,Y858,\"\"))","v":""},{"$f":"_xlfn.TEXTJOIN(\";\",1,X858,AA858)","v":""},{"$f":"IF(OR(ISNUMBER(Y858),Y858=\"\"),\"\",MAX(AI857,AI856,B858,D858,L858)+1)","v":""},null,null,{"$f":"IF(OR(ISNUMBER(AB858),AB858=\"\"),\"\",X858+1)","v":""},{"$nulls":4},{"$f":"IF(A858=\"\",\"\",IF(ISNUMBER(Y858),2,IF(A859=\"\",IF(OR(AH858>0,VLOOKUP(O858,EventConfig!A:C,3,FALSE)=4),3,\"\"),1)))","v":1},{"$f":"IF(AF858=\"\",\"\",CHOOSE(AF858,IF(AH858=\"\",A858+1,AH858),CONCATENATE(IF(AH858=\"\",A858+1,AH858),\";101\"),IF(AH858=\"\",O858+1,AH858)))","v":605204},null,5998]
[{"$f":"O859*100+P859","v":605204},{"$f":"IF(C859=\"\",\"\",IF(C859=C858,B858,MAX(AI858,AI857)+1))","v":5995},"收集甜蜜果实",{"$f":"IF(E859=\"\",\"\",IF(E859=E858,D858,MAX(AI858,AI857,B859)+1))","v":""},{"$nulls":5},7,{"$f":"IF(J859=\"\",\"\",VLOOKUP(J859,EventNPC!A:E,5,FALSE))","v":"疯道人"},{"$f":"IF(M859=\"\",\"\",MAX(AI858,AI857,B859,D859)+1)","v":5999},"（咬一口，眼中闪过一丝赞许）多谢。小友眼力不错，都是上好的果子。",null,6052,4,{"$f":"_xlfn.TEXTJOIN(\";\",1,R859:S859)","v":""},null,null,{"$f":"IF(R859=\"\",\"\",\"-\"&VLOOKUP(R859,EventConditionConfig!A:C,3,FALSE)&IF(S859=\"\",\"\",CHAR(10)&\"-\"&VLOOKUP(S859,EventConditionConfig!A:C,3,FALSE)))","v":""},{"$f":"IF(Y859=\"\",\"\",IF(ISTEXT(Y859),1,2))","v":""},{"$f":"IF(U859=1,_xlfn.TEXTJOIN(\";\",1,IF(Z859=\"\",A859+1,Z859),IF(AND(AA859<>\"\",AC859=\"\"),A859+1,AC859)),IF(U859=2,Y859,\"\"))","v":""},{"$f":"_xlfn.TEXTJOIN(\";\",1,X859,AA859)","v":""},{"$f":"IF(OR(ISNUMBER(Y859),Y859=\"\"),\"\",MAX(AI858,AI857,B859,D859,L859)+1)","v":""},null,null,{"$f":"IF(OR(ISNUMBER(AB859),AB859=\"\"),\"\",X859+1)","v":""},{"$nulls":4},{"$f":"IF(A859=\"\",\"\",IF(ISNUMBER(Y859),2,IF(A860=\"\",IF(OR(AH859>0,VLOOKUP(O859,EventConfig!A:C,3,FALSE)=4),3,\"\"),1)))","v":""},{"$f":"IF(AF859=\"\",\"\",CHOOSE(AF859,IF(AH859=\"\",A859+1,AH859),CONCATENATE(IF(AH859=\"\",A859+1,AH859),\";101\"),IF(AH859=\"\",O859+1,AH859)))","v":""},null,5999]
[{"$nulls":15},"",{"$nulls":18},""]
[{"$f":"O861*100+P861","v":605301},{"$f":"IF(C861=\"\",\"\",IF(C861=C860,B860,MAX(AI860,AI859)+1))","v":6000},"收集甜蜜果实",{"$f":"IF(E861=\"\",\"\",IF(E861=E860,D860,MAX(AI860,AI859,B861)+1))","v":""},{"$nulls":5},7,{"$f":"IF(J861=\"\",\"\",VLOOKUP(J861,EventNPC!A:E,5,FALSE))","v":"疯道人"},{"$f":"IF(M861=\"\",\"\",MAX(AI860,AI859,B861,D861)+1)","v":6001},"果子已备，你来助我驱妖。",null,6053,1,{"$f":"_xlfn.TEXTJOIN(\";\",1,R861:S861)","v":""},null,null,{"$f":"IF(R861=\"\",\"\",\"-\"&VLOOKUP(R861,EventConditionConfig!A:C,3,FALSE)&IF(S861=\"\",\"\",CHAR(10)&\"-\"&VLOOKUP(S861,EventConditionConfig!A:C,3,FALSE)))","v":""},{"$f":"IF(Y861=\"\",\"\",IF(ISTEXT(Y861),1,2))","v":2},{"$f":"IF(U861=1,_xlfn.TEXTJOIN(\";\",1,IF(Z861=\"\",A861+1,Z861),IF(AND(AA861<>\"\",AC861=\"\"),A861+1,AC861)),IF(U861=2,Y861,\"\"))","v":3014},{"$f":"_xlfn.TEXTJOIN(\";\",1,X861,AA861)","v":""},{"$f":"IF(OR(ISNUMBER(Y861),Y861=\"\"),\"\",MAX(AI860,AI859,B861,D861,L861)+1)","v":""},3014,null,{"$f":"IF(OR(ISNUMBER(AB861),AB861=\"\"),\"\",X861+1)","v":""},{"$nulls":4},{"$f":"IF(A861=\"\",\"\",IF(ISNUMBER(Y861),2,IF(A863=\"\",IF(OR(AH861>0,VLOOKUP(O861,EventConfig!A:C,3,FALSE)=4),3,\"\"),1)))","v":2},{"$f":"IF(AF861=\"\",\"\",CHOOSE(AF861,IF(AH861=\"\",A861+1,AH861),CONCATENATE(IF(AH861=\"\",A861+1,AH861),\";101\"),IF(AH861=\"\",O861+1,AH861)))","v":"605302;101"},null,6001]
[605302,6000,"收集甜蜜果实","",{"$nulls":6},{"$f":"IF(J862=\"\",\"\",VLOOKUP(J862,EventNPC!A:E,5,FALSE))","v":""},"",null,null,6053,2,"",null,null,{"$f":"IF(R862=\"\",\"\",\"-\"&VLOOKUP(R862,EventConditionConfig!A:C,3,FALSE)&IF(S862=\"\",\"\",CHAR(10)&\"-\"&VLOOKUP(S862,EventConditionConfig!A:C,3,FALSE)))","v":""},1,"605303","6002",6002,"啊！前辈原来是在驱魔除妖，却被世人误会，为何不早解释。",null,"",{"$nulls":4},{"$f":"IF(A862=\"\",\"\",IF(ISNUMBER(Y862),2,IF(A863=\"\",IF(OR(AH862>0,VLOOKUP(O862,EventConfig!A:C,3,FALSE)=4),3,\"\"),1)))","v":1},605303,null,6002]
[605303,6000,"收集甜蜜果实","",{"$nulls":5},7,{"$f":"IF(J863=\"\",\"\",VLOOKUP(J863,EventNPC!A:E,5,FALSE))","v":"疯道人"},6003,"我游荡多年，有人说我聪明，有人说我糊涂。可聪明糊涂，又有何区别？",null,6053,3,{"$f":"_xlfn.TEXTJOIN(\";\",1,R863:S863)","v":""},null,null,{"$f":"IF(R863=\"\",\"\",\"-\"&VLOOKUP(R863,EventConditionConfig!A:C,3,FALSE)&IF(S863=\"\",\"\",CHAR(10)&\"-\"&VLOOKUP(S863,EventConditionConfig!A:C,3,FALSE)))","v":""},{"$f":"IF(Y863=\"\",\"\",IF(ISTEXT(Y863),1,2))","v":1},{"$f":"IF(U863=1,_xlfn.TEXTJOIN(\";\",1,IF(Z863=\"\",A863+1,Z863),IF(AND(AA863<>\"\",AC863=\"\"),A863+1,AC863)),IF(U863=2,Y863,\"\"))","v":"605304"},{"$f":"_xlfn.TEXTJOIN(\";\",1,X863,AA863)","v":"6004"},6004,"别人怎么评,前辈真不放在心上？",null,{"$f":"IF(OR(ISNUMBER(AB863),AB863=\"\"),\"\",X863+1)","v":""},{"$nulls":4},{"$f":"IF(A863=\"\",\"\",IF(ISNUMBER(Y863),2,IF(A864=\"\",IF(OR(AH863>0,VLOOKUP(O863,EventConfig!A:C,3,FALSE)=4),3,\"\"),1)))","v":1},{"$f":"IF(AF863=\"\",\"\",CHOOSE(AF863,IF(AH863=\"\",A863+1,AH863),CONCATENATE(IF(AH863=\"\",A863+1,AH863),\";101\"),IF(AH863=\"\",O863+1,AH863)))","v":605304},null,6004]
[605304,6000,"收集甜蜜果实","",{"$nulls":5},7,{"$f":"IF(J864=\"\",\"\",VLOOKUP(J864,EventNPC!A:E,5,FALSE))","v":"疯道人"},6005,"不会。",null,6053,4,{"$f":"_xlfn.TEXTJOIN(\";\",1,R864:S864)","v":""},null,null,{"$f":"IF(R864=\"\",\"\",\"-\"&VLOOKUP(R864,EventConditionConfig!A:C,3,FALSE)&IF(S864=\"\",\"\",CHAR(10)&\"-\"&VLOOKUP(S864,EventConditionConfig!A:C,3,FALSE)))","v":""},{"$f":"IF(Y864=\"\",\"\",IF(ISTEXT(Y864),1,2))","v":""},{"$f":"IF(U864=1,_xlfn.TEXTJOIN(\";\",1,IF(Z864=\"\",A864+1,Z864),IF(AND(AA864<>\"\",AC864=\"\"),A864+1,AC864)),IF(U864=2,Y864,\"\"))","v":""},{"$f":"_xlfn.TEXTJOIN(\";\",1,X864,AA864)","v":""},"",null,null,{"$f":"IF(OR(ISNUMBER(AB864),AB864=\"\"),\"\",X864+1)","v":""},{"$nulls":4},{"$f":"IF(A864=\"\",\"\",IF(ISNUMBER(Y864),2,IF(A865=\"\",IF(OR(AH864>0,VLOOKUP(O864,EventConfig!A:C,3,FALSE)=4),3,\"\"),1)))","v":""},{"$f":"IF(AF864=\"\",\"\",CHOOSE(AF864,IF(AH864=\"\",A864+1,AH864),CONCATENATE(IF(AH864=\"\",A864+1,AH864),\";101\"),IF(AH864=\"\",O864+1,AH864)))","v":""},null,6005]
[{"$nulls":34},""]
[{"$f":"O866*100+P866","v":605401},{"$f":"IF(C866=\"\",\"\",IF(C866=C865,B865,MAX(AI865,AI864)+1))","v":6006},"搜集灵石",{"$f":"IF(E866=\"\",\"\",IF(E866=E865,D865,MAX(AI865,AI864,B866)+1))","v":""},{"$nulls":5},7,{"$f":"IF(J866=\"\",\"\",VLOOKUP(J866,EventNPC!A:E,5,FALSE))","v":"疯道人"},{"$f":"IF(M866=\"\",\"\",MAX(AI865,AI864,B866,D866)+1)","v":6007},"最近灵石都花光了，能否借我一下。",null,6054,{"$f":"IF(O866=\"\",\"\",IF(O866=O865,P865+1,1))","v":1},{"$f":"_xlfn.TEXTJOIN(\";\",1,R866:S866)","v":""},null,null,{"$f":"IF(R866=\"\",\"\",\"-\"&VLOOKUP(R866,EventConditionConfig!A:C,3,FALSE)&IF(S866=\"\",\"\",CHAR(10)&\"-\"&VLOOKUP(S866,EventConditionConfig!A:C,3,FALSE)))","v":""},{"$f":"IF(Y866=\"\",\"\",IF(ISTEXT(Y866),1,2))","v":1},{"$f":"IF(U866=1,_xlfn.TEXTJOIN(\";\",1,IF(Z866=\"\",A866+1,Z866),IF(AND(AA866<>\"\",AC866=\"\"),A866+1,AC866)),IF(U866=2,Y866,\"\"))","v":"605402;605403"},{"$f":"_xlfn.TEXTJOIN(\";\",1,X866,AA866)","v":"6008;6009"},{"$f":"IF(OR(ISNUMBER(Y866),Y866=\"\"),\"\",MAX(AI865,AI864,B866,D866,L866)+1)","v":6008},"给",{"$f":"A867","v":605402},{"$f":"IF(OR(ISNUMBER(AB866),AB866=\"\"),\"\",X866+1)","v":6009},"不给",{"$f":"A868","v":605403},null,null,{"$f":"IF(A866=\"\",\"\",IF(ISNUMBER(Y866),2,IF(A867=\"\",IF(OR(AH866>0,VLOOKUP(O866,EventConfig!A:C,3,FALSE)=4),3,\"\"),1)))","v":1},{"$f":"IF(AF866=\"\",\"\",CHOOSE(AF866,IF(AH866=\"\",A866+1,AH866),CONCATENATE(IF(AH866=\"\",A866+1,AH866),\";101\"),IF(AH866=\"\",O866+1,AH866)))","v":605402},null,{"$f":"IF(A866=\"\",\"\",MAX(B866,D866,L866,X866,AA866,AI865,AI864))","v":6009}]
[{"$f":"O867*100+P867","v":605402},{"$f":"IF(C867=\"\",\"\",IF(C867=C866,B866,MAX(AI866,AI865)+1))","v":6006},"搜集灵石",{"$f":"IF(E867=\"\",\"\",IF(E867=E866,D866,MAX(AI866,AI865,B867)+1))","v":""},{"$nulls":5},7,{"$f":"IF(J867=\"\",\"\",VLOOKUP(J867,EventNPC!A:E,5,FALSE))","v":"疯道人"},{"$f":"IF(M867=\"\",\"\",MAX(AI866,AI865,B867,D867)+1)","v":6010},"（融入稳身，点头）多谢。",null,6054,{"$f":"IF(O867=\"\",\"\",IF(O867=O866,P866+1,1))","v":2},{"$f":"_xlfn.TEXTJOIN(\";\",1,R867:S867)","v":""},null,null,{"$f":"IF(R867=\"\",\"\",\"-\"&VLOOKUP(R867,EventConditionConfig!A:C,3,FALSE)&IF(S867=\"\",\"\",CHAR(10)&\"-\"&VLOOKUP(S867,EventConditionConfig!A:C,3,FALSE)))","v":""},{"$f":"IF(Y867=\"\",\"\",IF(ISTEXT(Y867),1,2))","v":""},{"$f":"IF(U867=1,_xlfn.TEXTJOIN(\";\",1,IF(Z867=\"\",A867+1,Z867),IF(AND(AA867<>\"\",AC867=\"\"),A867+1,AC867)),IF(U867=2,Y867,\"\"))","v":""},{"$f":"_xlfn.TEXTJOIN(\";\",1,X867,AA867)","v":""},{"$f":"IF(OR(ISNUMBER(Y867),Y867=\"\"),\"\",MAX(AI866,AI865,B867,D867,L867)+1)","v":""},null,null,{"$f":"IF(OR(ISNUMBER(AB867),AB867=\"\"),\"\",X867+1)","v":""},{"$nulls":4},{"$f":"IF(A867=\"\",\"\",IF(ISNUMBER(Y867),2,IF(A868=\"\",IF(OR(AH867>0,VLOOKUP(O867,EventConfig!A:C,3,FALSE)=4),3,\"\"),1)))","v":1},{"$f":"IF(AF867=\"\",\"\",CHOOSE(AF867,IF(AH867=\"\",A867+1,AH867),CONCATENATE(IF(AH867=\"\",A867+1,AH867),\";101\"),IF(AH867=\"\",O867+1,AH867)))","v":605403},null,{"$f":"IF(A867=\"\",\"\",MAX(B867,D867,L867,X867,AA867,AI866,AI865))","v":6010}]
[{"$f":"O868*100+P868","v":605403},{"$f":"IF(C868=\"\",\"\",IF(C868=C867,B867,MAX(AI867,AI866)+1))","v":6006},"搜集灵石",{"$f":"IF(E868=\"\",\"\",IF(E868=E867,D867,MAX(AI867,AI866,B868)+1))","v":""},{"$nulls":5},7,{"$f":"IF(J868=\"\",\"\",VLOOKUP(J868,EventNPC!A:E,5,FALSE))","v":"疯道人"},{"$f":"IF(M868=\"\",\"\",MAX(AI867,AI866,B868,D868)+1)","v":6011},"也罢，小友有我当年的气势，哈哈。",null,6054,{"$f":"IF(O868=\"\",\"\",IF(O868=O867,P867+1,1))","v":3},{"$f":"_xlfn.TEXTJOIN(\";\",1,R868:S868)","v":""},null,null,{"$f":"IF(R868=\"\",\"\",\"-\"&VLOOKUP(R868,EventConditionConfig!A:C,3,FALSE)&IF(S868=\"\",\"\",CHAR(10)&\"-\"&VLOOKUP(S868,EventConditionConfig!A:C,3,FALSE)))","v":""},{"$f":"IF(Y868=\"\",\"\",IF(ISTEXT(Y868),1,2))","v":""},{"$f":"IF(U868=1,_xlfn.TEXTJOIN(\";\",1,IF(Z868=\"\",A868+1,Z868),IF(AND(AA868<>\"\",AC868=\"\"),A868+1,AC868)),IF(U868=2,Y868,\"\"))","v":""},{"$f":"_xlfn.TEXTJOIN(\";\",1,X868,AA868)","v":""},{"$f":"IF(OR(ISNUMBER(Y868),Y868=\"\"),\"\",MAX(AI867,AI866,B868,D868,L868)+1)","v":""},null,null,{"$f":"IF(OR(ISNUMBER(AB868),AB868=\"\"),\"\",X868+1)","v":""},{"$nulls":4},{"$f":"IF(A868=\"\",\"\",IF(ISNUMBER(Y868),2,IF(A870=\"\",IF(OR(AH868>0,VLOOKUP(O868,EventConfig!A:C,3,FALSE)=4),3,\"\"),1)))","v":""},{"$f":"IF(AF868=\"\",\"\",CHOOSE(AF868,IF(AH868=\"\",A868+1,AH868),CONCATENATE(IF(AH868=\"\",A868+1,AH868),\";101\"),IF(AH868=\"\",O868+1,AH868)))","v":""},null,{"$f":"IF(A868=\"\",\"\",MAX(B868,D868,L868,X868,AA868,AI867,AI866))","v":6011}]
[{"$f":"O869*100+P869","v":605404},{"$f":"IF(C869=\"\",\"\",IF(C869=C868,B868,MAX(AI868,AI867)+1))","v":6006},"搜集灵石",{"$f":"IF(E869=\"\",\"\",IF(E869=E868,D868,MAX(AI868,AI867,B869)+1))","v":""},{"$nulls":6},{"$f":"IF(J869=\"\",\"\",VLOOKUP(J869,EventNPC!A:E,5,FALSE))","v":""},{"$f":"IF(M869=\"\",\"\",MAX(AI868,AI867,B869,D869)+1)","v":6012},"（疯道人还是趁你不备顺走了你的一些灵石）虽然你发现了，但还是给前辈一个面子就此作罢。",null,6054,{"$f":"IF(O869=\"\",\"\",IF(O869=O868,P868+1,1))","v":4},{"$f":"_xlfn.TEXTJOIN(\";\",1,R869:S869)","v":""},null,null,{"$f":"IF(R869=\"\",\"\",\"-\"&VLOOKUP(R869,EventConditionConfig!A:C,3,FALSE)&IF(S869=\"\",\"\",CHAR(10)&\"-\"&VLOOKUP(S869,EventConditionConfig!A:C,3,FALSE)))","v":""},{"$f":"IF(Y869=\"\",\"\",IF(ISTEXT(Y869),1,2))","v":""},{"$f":"IF(U869=1,_xlfn.TEXTJOIN(\";\",1,IF(Z869=\"\",A869+1,Z869),IF(AND(AA869<>\"\",AC869=\"\"),A869+1,AC869)),IF(U869=2,Y869,\"\"))","v":""},{"$f":"_xlfn.TEXTJOIN(\";\",1,X869,AA869)","v":""},{"$f":"IF(OR(ISNUMBER(Y869),Y869=\"\"),\"\",MAX(AI868,AI867,B869,D869,L869)+1)","v":""},null,null,{"$f":"IF(OR(ISNUMBER(AB869),AB869=\"\"),\"\",X869+1)","v":""},{"$nulls":4},{"$f":"IF(A869=\"\",\"\",IF(ISNUMBER(Y869),2,IF(A871=\"\",IF(OR(AH869>0,VLOOKUP(O869,EventConfig!A:C,3,FALSE)=4),3,\"\"),1)))","v":1},{"$f":"IF(AF869=\"\",\"\",CHOOSE(AF869,IF(AH869=\"\",A869+1,AH869),CONCATENATE(IF(AH869=\"\",A869+1,AH869),\";101\"),IF(AH869=\"\",O869+1,AH869)))","v":605405},null,{"$f":"IF(A869=\"\",\"\",MAX(B869,D869,L869,X869,AA869,AI868,AI867))","v":6012}]
[{"$nulls":34},{"$f":"IF(A870=\"\",\"\",MAX(B870,D870,L870,X870,AA870,AI868,AI867))","v":""}]
[{"$f":"O871*100+P871","v":605501},{"$f":"IF(C871=\"\",\"\",IF(C871=C870,B870,MAX(AI870,AI868)+1))","v":6012},"搜集灵石",{"$f":"IF(E871=\"\",\"\",IF(E871=E870,D870,MAX(AI870,AI868,B871)+1))","v":""},{"$nulls":6},{"$f":"IF(J871=\"\",\"\",VLOOKUP(J871,EventNPC!A:E,5,FALSE))","v":""},{"$f":"IF(M871=\"\",\"\",MAX(AI870,AI868,B871,D871)+1)","v":6013},"你游历途中，发现疯道人正和一群凡人赌钱，还输的一塌糊涂…",null,6055,{"$f":"IF(O871=\"\",\"\",IF(O871=O870,P870+1,1))","v":1},{"$f":"_xlfn.TEXTJOIN(\";\",1,R871:S871)","v":""},null,null,{"$f":"IF(R871=\"\",\"\",\"-\"&VLOOKUP(R871,EventConditionConfig!A:C,3,FALSE)&IF(S871=\"\",\"\",CHAR(10)&\"-\"&VLOOKUP(S871,EventConditionConfig!A:C,3,FALSE)))","v":""},{"$f":"IF(Y871=\"\",\"\",IF(ISTEXT(Y871),1,2))","v":""},{"$f":"IF(U871=1,_xlfn.TEXTJOIN(\";\",1,IF(Z871=\"\",A871+1,Z871),IF(AND(AA871<>\"\",AC871=\"\"),A871+1,AC871)),IF(U871=2,Y871,\"\"))","v":""},{"$f":"_xlfn.TEXTJOIN(\";\",1,X871,AA871)","v":""},{"$f":"IF(OR(ISNUMBER(Y871),Y871=\"\"),\"\",MAX(AI870,AI868,B871,D871,L871)+1)","v":""},null,null,{"$f":"IF(OR(ISNUMBER(AB871),AB871=\"\"),\"\",X871+1)","v":""},{"$nulls":4},{"$f":"IF(A871=\"\",\"\",IF(ISNUMBER(Y871),2,IF(A872=\"\",IF(OR(AH871>0,VLOOKUP(O871,EventConfig!A:C,3,FALSE)=4),3,\"\"),1)))","v":1},{"$f":"IF(AF871=\"\",\"\",CHOOSE(AF871,IF(AH871=\"\",A871+1,AH871),CONCATENATE(IF(AH871=\"\",A871+1,AH871),\";101\"),IF(AH871=\"\",O871+1,AH871)))","v":605502},null,{"$f":"IF(A871=\"\",\"\",MAX(B871,D871,L871,X871,AA871,AI870,AI868))","v":6013}]
[{"$f":"O872*100+P872","v":605502},{"$f":"IF(C872=\"\",\"\",IF(C872=C871,B871,MAX(AI871,AI870)+1))","v":6012},"搜集灵石",{"$f":"IF(E872=\"\",\"\",IF(E872=E871,D871,MAX(AI871,AI870,B872)+1))","v":""},{"$nulls":5},7,{"$f":"IF(J872=\"\",\"\",VLOOKUP(J872,EventNPC!A:E,5,FALSE))","v":"疯道人"},{"$f":"IF(M872=\"\",\"\",MAX(AI871,AI870,B872,D872)+1)","v":6014},"小友，又见面了！",null,6055,{"$f":"IF(O872=\"\",\"\",IF(O872=O871,P871+1,1))","v":2},{"$f":"_xlfn.TEXTJOIN(\";\",1,R872:S872)","v":""},null,null,{"$f":"IF(R872=\"\",\"\",\"-\"&VLOOKUP(R872,EventConditionConfig!A:C,3,FALSE)&IF(S872=\"\",\"\",CHAR(10)&\"-\"&VLOOKUP(S872,EventConditionConfig!A:C,3,FALSE)))","v":""},{"$f":"IF(Y872=\"\",\"\",IF(ISTEXT(Y872),1,2))","v":1},{"$f":"IF(U872=1,_xlfn.TEXTJOIN(\";\",1,IF(Z872=\"\",A872+1,Z872),IF(AND(AA872<>\"\",AC872=\"\"),A872+1,AC872)),IF(U872=2,Y872,\"\"))","v":"605503"},{"$f":"_xlfn.TEXTJOIN(\";\",1,X872,AA872)","v":"6015"},{"$f":"IF(OR(ISNUMBER(Y872),Y872=\"\"),\"\",MAX(AI871,AI870,B872,D872,L872)+1)","v":6015},"前辈你！？我借你的钱，都拿去和人赌博了？？",null,{"$f":"IF(OR(ISNUMBER(AB872),AB872=\"\"),\"\",X872+1)","v":""},{"$nulls":4},{"$f":"IF(A872=\"\",\"\",IF(ISNUMBER(Y872),2,IF(A873=\"\",IF(OR(AH872>0,VLOOKUP(O872,EventConfig!A:C,3,FALSE)=4),3,\"\"),1)))","v":1},{"$f":"IF(AF872=\"\",\"\",CHOOSE(AF872,IF(AH872=\"\",A872+1,AH872),CONCATENATE(IF(AH872=\"\",A872+1,AH872),\";101\"),IF(AH872=\"\",O872+1,AH872)))","v":605503},null,{"$f":"IF(A872=\"\",\"\",MAX(B872,D872,L872,X872,AA872,AI871,AI870))","v":6015}]
[{"$f":"O873*100+P873","v":605503},{"$f":"IF(C873=\"\",\"\",IF(C873=C872,B872,MAX(AI872,AI871)+1))","v":6012},"搜集灵石",{"$f":"IF(E873=\"\",\"\",IF(E873=E872,D872,MAX(AI872,AI871,B873)+1))","v":""},{"$nulls":5},7,{"$f":"IF(J873=\"\",\"\",VLOOKUP(J873,EventNPC!A:E,5,FALSE))","v":"疯道人"},{"$f":"IF(M873=\"\",\"\",MAX(AI872,AI871,B873,D873)+1)","v":6016},"不错，手气不好，小友不如再借我2000灵石，我很快就翻本了。",null,6055,{"$f":"IF(O873=\"\",\"\",IF(O873=O872,P872+1,1))","v":3},{"$f":"_xlfn.TEXTJOIN(\";\",1,R873:S873)","v":""},null,null,{"$f":"IF(R873=\"\",\"\",\"-\"&VLOOKUP(R873,EventConditionConfig!A:C,3,FALSE)&IF(S873=\"\",\"\",CHAR(10)&\"-\"&VLOOKUP(S873,EventConditionConfig!A:C,3,FALSE)))","v":""},{"$f":"IF(Y873=\"\",\"\",IF(ISTEXT(Y873),1,2))","v":1},{"$f":"IF(U873=1,_xlfn.TEXTJOIN(\";\",1,IF(Z873=\"\",A873+1,Z873),IF(AND(AA873<>\"\",AC873=\"\"),A873+1,AC873)),IF(U873=2,Y873,\"\"))","v":"605504"},{"$f":"_xlfn.TEXTJOIN(\";\",1,X873,AA873)","v":"6017"},{"$f":"IF(OR(ISNUMBER(Y873),Y873=\"\"),\"\",MAX(AI872,AI871,B873,D873,L873)+1)","v":6017},"（愤怒）太过分了，居然骗我钱。。",null,{"$f":"IF(OR(ISNUMBER(AB873),AB873=\"\"),\"\",X873+1)","v":""},{"$nulls":4},{"$f":"IF(A873=\"\",\"\",IF(ISNUMBER(Y873),2,IF(A874=\"\",IF(OR(AH873>0,VLOOKUP(O873,EventConfig!A:C,3,FALSE)=4),3,\"\"),1)))","v":1},{"$f":"IF(AF873=\"\",\"\",CHOOSE(AF873,IF(AH873=\"\",A873+1,AH873),CONCATENATE(IF(AH873=\"\",A873+1,AH873),\";101\"),IF(AH873=\"\",O873+1,AH873)))","v":605504},null,{"$f":"IF(A873=\"\",\"\",MAX(B873,D873,L873,X873,AA873,AI872,AI871))","v":6017}]
[{"$f":"O874*100+P874","v":605504},{"$f":"IF(C874=\"\",\"\",IF(C874=C873,B873,MAX(AI873,AI872)+1))","v":6012},"搜集灵石",{"$f":"IF(E874=\"\",\"\",IF(E874=E873,D873,MAX(AI873,AI872,B874)+1))","v":""},{"$nulls":5},7,{"$f":"IF(J874=\"\",\"\",VLOOKUP(J874,EventNPC!A:E,5,FALSE))","v":"疯道人"},{"$f":"IF(M874=\"\",\"\",MAX(AI873,AI872,B874,D874)+1)","v":6018},"小友，有话好好说，我可没骗你。\n你上次不也没问我借钱干嘛呀。",null,6055,{"$f":"IF(O874=\"\",\"\",IF(O874=O873,P873+1,1))","v":4},{"$f":"_xlfn.TEXTJOIN(\";\",1,R874:S874)","v":""},null,null,{"$f":"IF(R874=\"\",\"\",\"-\"&VLOOKUP(R874,EventConditionConfig!A:C,3,FALSE)&IF(S874=\"\",\"\",CHAR(10)&\"-\"&VLOOKUP(S874,EventConditionConfig!A:C,3,FALSE)))","v":""},{"$f":"IF(Y874=\"\",\"\",IF(ISTEXT(Y874),1,2))","v":1},{"$f":"IF(U874=1,_xlfn.TEXTJOIN(\";\",1,IF(Z874=\"\",A874+1,Z874),IF(AND(AA874<>\"\",AC874=\"\"),A874+1,AC874)),IF(U874=2,Y874,\"\"))","v":"605505"},{"$f":"_xlfn.TEXTJOIN(\";\",1,X874,AA874)","v":"6019"},{"$f":"IF(OR(ISNUMBER(Y874),Y874=\"\"),\"\",MAX(AI873,AI872,B874,D874,L874)+1)","v":6019},"还在狡辩，看招。",null,{"$f":"IF(OR(ISNUMBER(AB874),AB874=\"\"),\"\",X874+1)","v":""},{"$nulls":4},{"$f":"IF(A874=\"\",\"\",IF(ISNUMBER(Y874),2,IF(A875=\"\",IF(OR(AH874>0,VLOOKUP(O874,EventConfig!A:C,3,FALSE)=4),3,\"\"),1)))","v":1},{"$f":"IF(AF874=\"\",\"\",CHOOSE(AF874,IF(AH874=\"\",A874+1,AH874),CONCATENATE(IF(AH874=\"\",A874+1,AH874),\";101\"),IF(AH874=\"\",O874+1,AH874)))","v":605505},null,{"$f":"IF(A874=\"\",\"\",MAX(B874,D874,L874,X874,AA874,AI873,AI872))","v":6019}]
[{"$f":"O875*100+P875","v":605505},{"$f":"IF(C875=\"\",\"\",IF(C875=C874,B874,MAX(AI874,AI873)+1))","v":6020},"击败疯道人",{"$f":"IF(E875=\"\",\"\",IF(E875=E874,D874,MAX(AI874,AI873,B875)+1))","v":""},{"$nulls":6},{"$f":"IF(J875=\"\",\"\",VLOOKUP(J875,EventNPC!A:E,5,FALSE))","v":""},{"$f":"IF(M875=\"\",\"\",MAX(AI874,AI873,B875,D875)+1)","v":""},null,null,6055,{"$f":"IF(O875=\"\",\"\",IF(O875=O874,P874+1,1))","v":5},{"$f":"_xlfn.TEXTJOIN(\";\",1,R875:S875)","v":""},null,null,{"$f":"IF(R875=\"\",\"\",\"-\"&VLOOKUP(R875,EventConditionConfig!A:C,3,FALSE)&IF(S875=\"\",\"\",CHAR(10)&\"-\"&VLOOKUP(S875,EventConditionConfig!A:C,3,FALSE)))","v":""},{"$f":"IF(Y875=\"\",\"\",IF(ISTEXT(Y875),1,2))","v":2},{"$f":"IF(U875=1,_xlfn.TEXTJOIN(\";\",1,IF(Z875=\"\",A875+1,Z875),IF(AND(AA875<>\"\",AC875=\"\"),A875+1,AC875)),IF(U875=2,Y875,\"\"))","v":3015},{"$f":"_xlfn.TEXTJOIN(\";\",1,X875,AA875)","v":""},{"$f":"IF(OR(ISNUMBER(Y875),Y875=\"\"),\"\",MAX(AI874,AI873,B875,D875,L875)+1)","v":""},3015,null,{"$f":"IF(OR(ISNUMBER(AB875),AB875=\"\"),\"\",X875+1)","v":""},{"$nulls":4},{"$f":"IF(A875=\"\",\"\",IF(ISNUMBER(Y875),2,IF(A876=\"\",IF(OR(AH875>0,VLOOKUP(O875,EventConfig!A:C,3,FALSE)=4),3,\"\"),1)))","v":2},{"$f":"IF(AF875=\"\",\"\",CHOOSE(AF875,IF(AH875=\"\",A875+1,AH875),CONCATENATE(IF(AH875=\"\",A875+1,AH875),\";101\"),IF(AH875=\"\",O875+1,AH875)))","v":"605506;101"},null,{"$f":"IF(A875=\"\",\"\",MAX(B875,D875,L875,X875,AA875,AI874,AI873))","v":6020}]
[{"$nulls":34},""]

{"sheet":"EventConditionConfig","index":2,"n_rows":49,"n_cols":16,"rows_kept":49,"cut":false,"hidden":false,"merged":[]}
["ID","message",null,null,"Operation",null,"ConditionType","ConditionPara","finishCount","RelatedEvents",null,"SkiptoIds"]
["int","int",null,null,"int",null,"int","int[]","int","int[]",null,"int[]"]
[]
["ID","描述",null,null,"与0\n或1",null,"条件判断类型","条件判断值","条件完成次数or数量","关联的事件Id","提示","跳转Id"]
[1,9001,"拥有金币",{"$f":"CONCATENATE(\"- \",C5,\"{0}/{1}\")","v":"- 拥有金币{0}/{1}"},null,null,1,1001,10,null,null,"1;2;3;4"]
[2,9002,{"$f":"CONCATENATE(\"达到境界：\",M6,\"-\",N6)","v":"达到境界：练气-中期"},{"$f":"CONCATENATE(\"- \",C6,\"{0}/{1}\")","v":"- 达到境界：练气-中期{0}/{1}"},null,null,3,11,1,null,null,"1;2;3;4","练气","中期",11,{"$f":"CONCATENATE(M6,\"-\",N6)","v":"练气-中期"}]
[3,9003,"击杀魔休","- 击杀魔休{0}/{1}",null,null,5,1001,5,9031,null,"1;2;3;4"]
[4,9004,"获得钻石","- 获得钻石{0}/{1}",null,null,6,1002,10,null,null,"1;2;3;4"]
[5,9005,"使用神识","- 使用神识{0}/{1}",null,null,8,null,1,null,null,"1;2;3;4"]
[6,9006,"继续飞行一段时间","- 继续飞行一段时间{0}/{1}",null,null,9,null,6,null,null,"1;2;3;4"]
[7,9007,"击败结界兽","- 击败结界兽{0}/{1}",null,null,5,1002,1,null,null,"1;2;3;4"]
[8,9008,{"$f":"CONCATENATE(\"达到境界：\",M12,\"-\",N12)","v":"达到境界：练气-后期"},"- 达到境界：练气-后期{0}/{1}",null,null,3,21,1,null,null,"1;2;3;4","练气","后期",21,{"$f":"CONCATENATE(M12,\"-\",N12)","v":"练气-后期"}]
[9,9009,"击杀北海小妖","- 击杀北海小妖{0}/{1}",null,null,5,1015,3,30003,null,"1;2;3;4"]
[10,9010,"击败后山小妖","- 击败后山小妖{0}/{1}",null,null,5,1004,3,30004,null,"1;2;3;4"]
[11,9011,"收集灵草种子","- 收集灵草种子{0}/{1}",null,null,6,20003,3,30011,null,"1;2;3;4"]
[12,9012,"击败夜袭的妖兽","- 击败夜袭的妖兽{0}/{1}",null,null,5,1005,1,30005,null,"1;2;3;4"]
[13,9013,"击败峰顶的妖王","- 击败峰顶的妖王{0}/{1}",null,null,5,1006,1,30006,null,"1;2;3;4"]
[14,9014,{"$f":"CONCATENATE(\"达到境界：\",M18,\"-\",N18)","v":"达到境界：筑基-前期"},"- 达到境界：筑基-前期{0}/{1}",null,null,3,31,1,null,null,"1;2;3;4","筑基","前期",31,{"$f":"CONCATENATE(M18,\"-\",N18)","v":"筑基-前期"}]
[15,9015,"击败仙山的阵眼妖兽","- 击败仙山的阵眼妖兽{0}/{1}",null,null,5,1007,1,30007,null,"1;2;3;4"]
[17,9016,"击杀灵兽获得天肥",{"$f":"CONCATENATE(\"- \",C20,\"{0}/{1}\")","v":"- 击杀灵兽获得天肥{0}/{1}"},null,null,5,1008,1,30008,null,"1;2;3;4"]
[18,9017,"获得一件袈裟","- 获得一件袈裟{0}/{1}",null,null,6,1301,1,30009,null,"1;2;3;4"]
[19,9018,"夺回琉璃盏","- 夺回琉璃盏{0}/{1}",null,null,6,1001,1,30010,null,"1;2;3;4"]
[20,9019,"给予渡劫丹","- 给予渡劫丹{0}/{1}",null,null,1,1001,1,null,null,"1;2;3;4"]
[21,9020,{"$f":"CONCATENATE(\"达到境界：\",M24,\"-\",N24)","v":"达到境界：筑基-中期"},"- 达到境界：筑基-中期{0}/{1}",null,null,3,41,1,null,null,"1;2;3;4","筑基","中期",41,{"$f":"CONCATENATE(M24,\"-\",N24)","v":"筑基-中期"}]
[22,9021,{"$f":"CONCATENATE(\"达到境界：\",M25,\"-\",N25)","v":"达到境界：筑基-后期"},{"$f":"CONCATENATE(\"- \",C25,\"{0}/{1}\")","v":"- 达到境界：筑基-后期{0}/{1}"},null,null,3,51,1,null,null,"1;2;3;4","筑基","后期",51,{"$f":"CONCATENATE(M25,\"-\",N25)","v":"筑基-后期"}]
[23,9022,"达到境界：结丹-前期",{"$f":"CONCATENATE(\"- \",C26,\"{0}/{1}\")","v":"- 达到境界：结丹-前期{0}/{1}"},null,null,3,61,1,null,null,"1;2;3;4","结丹","前期",61,"结丹-前期"]
[24,9023,"达到境界：结丹-中期","- 达到境界：结丹-中期{0}/{1}",null,null,3,71,1,null,null,"1;2;3;4","结丹","中期",71,"结丹-中期"]
[25,9024,"达到境界：结丹-后期","- 达到境界：结丹-后期{0}/{1}",null,null,3,81,1,null,null,"1;2;3;4","结丹","后期",81,"结丹-后期"]
[26,9025,"达到境界：元婴-前期",{"$f":"CONCATENATE(\"- \",C29,\"{0}/{1}\")","v":"- 达到境界：元婴-前期{0}/{1}"},null,null,3,91,1,null,null,"1;2;3;4","元婴","前期",91,"元婴-前期"]
[27,9026,"收集并饮用甘露",{"$f":"CONCATENATE(\"- \",C30,\"{0}/{1}\")","v":"- 收集并饮用甘露{0}/{1}"},null,null,6,20004,3,null,null,"1;2;3;4"]
[28,9027,"击败心魔",{"$f":"CONCATENATE(\"- \",C31,\"{0}/{1}\")","v":"- 击败心魔{0}/{1}"},null,null,5,1013,1,null,null,"1;2;3;4"]
[29,9028,"击败北海妖兽",{"$f":"CONCATENATE(\"- \",C32,\"{0}/{1}\")","v":"- 击败北海妖兽{0}/{1}"},null,null,5,1014,5,null,null,"1;2;3;4"]
[30,9029,{"$f":"CONCATENATE(\"达到境界：\",M33,\"-\",N33)","v":"达到境界：元婴-中期"},"- 达到境界：元婴-中期{0}/{1}",null,null,3,101,1,null,null,"1;2;3;4","元婴","中期",101,{"$f":"CONCATENATE(M33,\"-\",N33)","v":"元婴-中期"}]
[31,9030,{"$f":"CONCATENATE(\"达到境界：\",M34,\"-\",N34)","v":"达到境界：元婴-后期"},"- 达到境界：元婴-后期{0}/{1}",null,null,3,111,1,null,null,"1;2;3;4","元婴","后期",111,{"$f":"CONCATENATE(M34,\"-\",N34)","v":"元婴-后期"}]
[32,9031,"达到境界：化神-前期","- 达到境界：化神-前期{0}/{1}",null,null,3,121,1,null,null,"1;2;3;4","化神","前期",121,"化神-前期"]
[33,9032,"达到境界：化神-中期",{"$f":"CONCATENATE(\"- \",C36,\"{0}/{1}\")","v":"- 达到境界：化神-中期{0}/{1}"},null,null,3,131,1,null,null,"1;2;3;4","化神","中期",131,"化神-中期"]
[34,9033,"达到境界：化神-后期","- 达到境界：化神-后期{0}/{1}",null,null,3,141,1,null,null,"1;2;3;4","化神","后期",141,"化神-后期"]
[35,9034,"达到境界：炼虚-前期","- 达到境界：炼虚-前期{0}/{1}",null,null,3,151,1,null,null,"1;2;3;4","炼虚","前期",151,"炼虚-前期"]
[36,9035,"击杀北海妖兽精英","- 击杀北海妖兽精英{0}/{1}",null,null,5,1003,1,30003,null,"1;2;3;4"]
[37,9036,"帮雀灵儿搜集风铃","- 帮雀灵儿搜集风铃{0}/{1}",null,null,1,20005,3,null,null,"1;2;3;4"]
[{"$f":"A40+1","v":38},{"$f":"B40+1","v":9037},"击败风妖",{"$f":"CONCATENATE(\"- \",C41,\"{0}/{1}\")","v":"- 击败风妖{0}/{1}"},null,null,5,3003,3,30014,null,"1;2;3;4"]
[39,9038,"收集风灵碎片",{"$f":"CONCATENATE(\"- \",C42,\"{0}/{1}\")","v":"- 收集风灵碎片{0}/{1}"},null,null,1,20006,3,30015,null,"1;2;3;4"]
[40,9039,"完成神识探索-云隐秘闻",{"$f":"CONCATENATE(\"- \",C43,\"{0}/{1}\")","v":"- 完成神识探索-云隐秘闻{0}/{1}"},null,null,10,30016,1,30016,null,"1;2;3;4"]
[41,9040,"完成神识探索-误食灵石的妖兽",{"$f":"CONCATENATE(\"- \",C44,\"{0}/{1}\")","v":"- 完成神识探索-误食灵石的妖兽{0}/{1}"},null,null,10,30017,3,30017,null,"1;2;3;4"]
[42,9041,"完成神识探索-云隐宗长老密信",{"$f":"CONCATENATE(\"- \",C45,\"{0}/{1}\")","v":"- 完成神识探索-云隐宗长老密信{0}/{1}"},null,null,10,30018,1,30018,null,"1;2;3;4"]
[43,9042,"完成神识探索-抢走玉佩的山林小妖",{"$f":"CONCATENATE(\"- \",C46,\"{0}/{1}\")","v":"- 完成神识探索-抢走玉佩的山林小妖{0}/{1}"},null,null,10,30019,2,30019,null,"1;2;3;4"]
[44,9043,"完成神识探索-山野采草",{"$f":"CONCATENATE(\"- \",C47,\"{0}/{1}\")","v":"- 完成神识探索-山野采草{0}/{1}"},null,null,10,30020,3,30020,null,"1;2;3;4"]
[45,9044,"完成神识探索-秘境种子",{"$f":"CONCATENATE(\"- \",C48,\"{0}/{1}\")","v":"- 完成神识探索-秘境种子{0}/{1}"},null,null,10,30021,2,30021,null,"1;2;3;4"]
[46,9045,"完成神识探索-甜蜜果实",{"$f":"CONCATENATE(\"- \",C49,\"{0}/{1}\")","v":"- 完成神识探索-甜蜜果实{0}/{1}"},null,null,10,30022,3,30022,null,"1;2;3;4"]

{"sheet":"条件类型查询","index":3,"n_rows":10,"n_cols":11,"rows_kept":10,"cut":false,"hidden":false,"merged":[]}
["ID","条件判断类型","条件判断值","条件完成次数or数量","额外文本","不可用","是否可用于事件",null,null,null,"事件类型："]
[1,"拥有特定道具","道具ID","数量≥","检测背包道具",null,1,null,null,1,"1.通用事件"]
[2,"灵根判定","哪个灵根","灵根值≥",null,1,null,null,null,2,"2.挂机事件"]
[3,"境界判断","境界id",null,null,null,1,null,null,4,"4.主线任务"]
[5,"战斗胜利","战斗组ID","胜利次数≥",{"$nulls":5},5,"5.仙山探险"]
[6,"获得道具","道具的ID","数量≥","探测出事件才开始检测",{"$nulls":4},6,"6.支线事件"]
[7,"触发概率","概率值 1000=100%",null,null,null,1,null,null,88,"88.特定任务触发的事件"]
[8,"使用神识",null,"数量≥",{"$nulls":5},99,"99.无标记"]
[9,"游戏在线多少时长（秒）",null,"时间≥（秒）",null,null,1,null,null,7,"道友剧情任务"]
[10,"前置事件","事件ID",null,null,null,1]

{"sheet":"产出tag查询","index":4,"n_rows":23,"n_cols":2,"rows_kept":23,"cut":false,"hidden":false,"merged":[]}
["产出TAG","产出类型"]
[1,"金币"]
[2,"修为"]
[3,"功法灵气"]
[4,"法宝灵韵"]
[5,"功法碎片"]
[6,"法宝碎片"]
[7,"修为丹"]
[8,"天材地宝"]
[9,"渡劫丹"]
[10,"好感度礼物"]
[11,"心情礼物"]
[12]
[13]
[14]
[15]
[16]
[17]
[18]
[19]
[20]
[21]
[22]

{"sheet":"EventNPC","index":5,"n_rows":42,"n_cols":5,"rows_kept":42,"cut":false,"hidden":false,"merged":[]}
["ID","name","ID","DaoyouID"]
["int","int","int","int"]
[]
["ID","名字","半身像icon","道友ID","名称"]
[1,3000,null,null,"玩家"]
[2,1953,null,1,"雀灵儿"]
[3,1954,null,2,"云枝"]
[4,1955,null,3,"风瑶"]
[5,1956,null,4,"婉溪"]
[6,1957,null,5,"许由"]
[7,1958,null,6,"疯道人"]
[8,1959,null,7,"道友7"]
[9,1960,null,8,"道友8"]
[10,1961,null,9,"道友9"]
[11,1962,null,10,"道友10"]
[]
[100,3000,null,null,"玩家"]
[101,3001,null,null,"蜩鸟"]
[102,3002,null,null,"小麻雀"]
[103,3003,null,null,"疯道人"]
[104,3004,null,null,"痴道人"]
[105,3005,null,null,"尧帝"]
[106,3006,null,null,"许由"]
[107,3007,null,null,"村名甲"]
[108,3008,null,null,"村名乙"]
[109,3009,null,null,"村名丙"]
[110,3010,null,null,"樗木之灵"]
[111,2078,null,null,"惠子"]
[112,3021,null,null,"风无咎"]
[113,3034,null,null,"北海剑妖"]
[114,3067,null,null,"拦路妖兽"]
[115,2091,null,null,"小麻雀幻影"]
[116,2092,null,null,"痴道人幻影"]
[117,2093,null,null,"樗木之灵幻影"]
[118,2094,null,null,"神人"]
[119,2095,null,null,"鲲鹏"]
[120,2096,null,null,"妖兽"]
[121,2097,null,null,"云枝"]
[122,2098,null,null,"风瑶"]
[123,2099,null,null,"散修甲"]
[124,2100,null,null,"散修乙"]
[125,2101,null,null,"散修丙"]

{"sheet":"XianTuLogConfig","index":6,"n_rows":8,"n_cols":7,"rows_kept":8,"cut":false,"hidden":false,"merged":[]}
["ID","EventType","Title","Desc","BigMapID"]
["int","int","int","int","int"]
[]
["ID","1主线\n2事件","名称","描述","属于哪个章节"]
[1,1,2087,2089,1,"第一章.逍遥游","多次渡劫失败的你，误入“无何有之乡”，在这里受到了列子的指引，踏上了寻找七道心境的修仙之路。"]
[2,2,2088,2090,1,"无用的大葫芦","惠子种出了巨大葫芦，他觉得毫无用处，非常生气！"]
[3,2,2088,2090,2,"无用的大葫芦","惠子种出了巨大葫芦，他觉得毫无用处，非常生气！"]
[4,2,2088,2090,3,"无用的大葫芦","惠子种出了巨大葫芦，他觉得毫无用处，非常生气！"]