{"text_format":"2","workbook":"xlsx","n_sheets":7,"sheets":["EventConfig","EventLinkConfig","EventConditionConfig","条件类型查询","产出tag查询","EventNPC","XianTuLogConfig"],"not_rendered":{"charts":0,"images":0,"macros":0,"external_links":2,"defined_names":4,"comments":0,"pivot_tables":0},"unopened":[],"bounds":{"document_bytes":16777216,"sheet_cells":100000,"run_cost":"one","rows_first":2000,"rows_last":500,"rows_between":2000,"halvings":0,"cell_chars":16384,"cell_head_chars":4096},"cells_cut":0,"cells_raw":0,"read":"whole","date_system":"1900"}

{"sheet":"EventConfig","index":0,"n_rows":211,"n_cols":49,"rows_kept":211,"cut":false,"hidden":false,"merged":[]}
["ID","EventLinksId","EventTriggerType","EventTag","EventType","Score","EventQuality","PrizeType","PrizeIDs","PrizeNums","RefreshProbability","RefreshCount","placeID","SmallPlacesId",null,"XiantuID",{"$f":"SUMIF(C:C,2,K:K)","v":0},"EventConditionId","EventValue","EventCount","EventName","Description"]
["int","int[]","int","int","int","int","int","int[]","int[]","int[]","int","int","int","int",null,"int",null,"int","int[]","int","int","int"]
[{"$nulls":22},"语言表最大值",{"$f":"MAX(U:V)","v":4297},null,1,2,3,4,5,6,7,8,9,10,11,12,13,14,15,16,17,18,19,20]
["ID","事件包含的ID","事件类型：\n1.通用事件\n2.挂机事件\n4.主线任务\n5.仙山探险\n6.支线事件\n88.特定任务触发的事件\n99.无标记\n","tag\n1主线2支线\n3通用\n4地图通用\n5道友6任务\n7资源","1.正常触发\n2.直接结算","增加进度值","事件品质","产出tag\n在辅助表查询","事件结局奖励","事件结局奖励数量","刷新的概率\n（100=100%）","最大刷新数量","属于哪张地图","属于哪张小地图",null,"仙途日志ID","触发条件","触发条件类型\n只能配处于什么状态和数值，不能配变化的数值","触发效果值","触发判定数量or次数","任务标题","任务详情界面的总描述","标题","整体描述","总步数","步骤1","步骤2","步骤3","步骤4","步骤5","步骤6","步骤7","步骤8","步骤9","步骤10","步骤11","步骤12","步骤13","步骤14","步骤15","步骤16","步骤17","步骤18","步骤19","步骤20","道具1","数量1","道具2","数量2"]
[1,{"$f":"IF(A5=\"\",\"\",_xlfn.TEXTJOIN(\";\",1,Z5:AS5,102))","v":"1001;1002;1003;1004;1005;100;102"},99,7,1,0,1,5,{"$f":"_xlfn.TEXTJOIN(\";\",1,AT5,AV5)","v":"1003;999001"},{"$f":"_xlfn.TEXTJOIN(\";\",1,AU5,AW5)","v":"-1000;1"},100,{"$nulls":5},{"$f":"IF(R5=\"\",\"\",VLOOKUP(R5,条件类型查询!A:B,2,FALSE))","v":""},null,null,null,4001,4076,"受伤的狼","你发现一只奄奄一息的狼，决定上前一探究竟。",{"$f":"COUNTIF(EventLinkConfig!O:O,EventConfig!A5)","v":5},1001,1002,1003,1004,1005,{"$nulls":14},100,1003,-1000,999001,1]
[2,{"$f":"IF(A6=\"\",\"\",_xlfn.TEXTJOIN(\";\",1,Z6:AS6,102))","v":"1010;1011;1012;1013;1014;1015;1016;100;102"},1,7,1,0,1,6,{"$f":"_xlfn.TEXTJOIN(\";\",1,AT6,AV6)","v":"1003;999002"},{"$f":"_xlfn.TEXTJOIN(\";\",1,AU6,AW6)","v":"-1000;1"},100,{"$nulls":5},{"$f":"IF(R6=\"\",\"\",VLOOKUP(R6,条件类型查询!A:B,2,FALSE))","v":""},null,null,null,4002,4077,"鹬蚌相争","附近的小树林闹的不可开交，你决定去看看怎么回事。",{"$f":"COUNTIF(EventLinkConfig!O:O,EventConfig!A6)","v":6},1010,1011,1012,1013,1014,1015,1016,{"$nulls":12},100,1003,-1000,999002,1]
[4,"1030;100;102",1,7,2,0,1,1,"1003;1001","-1000;-5000",100,{"$nulls":5},{"$f":"IF(R7=\"\",\"\",VLOOKUP(R7,条件类型查询!A:B,2,FALSE))","v":""},null,null,null,4003,4078,"溅血背包","不远处有一个小红点，走近一看你发现是一个带血的背包。",{"$f":"COUNTIF(EventLinkConfig!O:O,EventConfig!A7)","v":1},1030,{"$nulls":18},100,1003,-1000,1001,-5000]
[5,"1040;100;102",1,7,2,0,1,2,"1003;1005","-1000;-5000",100,{"$nulls":5},{"$f":"IF(R8=\"\",\"\",VLOOKUP(R8,条件类型查询!A:B,2,FALSE))","v":""},null,null,null,4004,4079,"废弃矿山","底下一座矿山甚是磅礴雄伟，走，去看一看。",{"$f":"COUNTIF(EventLinkConfig!O:O,EventConfig!A8)","v":1},1040,{"$nulls":18},100,1003,-1000,1005,-5000]
[6,"1050;100;102",1,7,2,0,1,3,"1003;1006","-1000;-5000",100,{"$nulls":5},{"$f":"IF(R9=\"\",\"\",VLOOKUP(R9,条件类型查询!A:B,2,FALSE))","v":""},null,null,null,4005,4080,"吵架声","你被一男一女的吵架声吸引。",{"$f":"COUNTIF(EventLinkConfig!O:O,EventConfig!A9)","v":1},1050,{"$nulls":18},100,1003,-1000,1006,-5000]
[7,"1060;100;102",1,7,2,0,1,4,"1003;999001","-1000;1",100,{"$nulls":5},{"$f":"IF(R10=\"\",\"\",VLOOKUP(R10,条件类型查询!A:B,2,FALSE))","v":""},null,null,null,4006,4081,"一座道观","远处一座道观仙气缭绕，似有仙人在此。",{"$f":"COUNTIF(EventLinkConfig!O:O,EventConfig!A10)","v":1},1060,{"$nulls":18},100,1003,-1000,999001,1]
[1011,{"$f":"IF(A11=\"\",\"\",_xlfn.TEXTJOIN(\";\",1,Z11:AS11,102))","v":"101101;100;102"},1,7,1,0,1,7,"1003;999002","-1000;1",100,{"$nulls":9},4007,4082,"药田","神识探索至一处山洞之中，似乎别有洞天",{"$f":"COUNTIF(EventLinkConfig!O:O,EventConfig!A11)","v":1},{"$f":"IF($Y11>=Z$3,$A11*100+Z$3,\"\")","v":101101},"","","","","","","","","","","","","","","",null,null,null,100,1003,-1000,999002,1]
[1012,"101201;100;102",1,7,1,0,3,7,"1003;1001","-1000;-5000",100,{"$nulls":9},4008,4083,"矿井","神识探索至一处矿井之中，此处灵气氤氲",{"$f":"COUNTIF(EventLinkConfig!O:O,EventConfig!A12)","v":1},101201,"","","","","","","","","","","","","","","",null,null,null,100,1003,-1000,1001,-5000]
[1013,"101301;100;102",1,7,1,0,3,7,"1003;1005","-1000;-5000",100,{"$nulls":9},4009,4084,"寺庙","神识经过一处荒废寺庙之外，寺庙之中似乎有不同寻常之物",{"$f":"COUNTIF(EventLinkConfig!O:O,EventConfig!A13)","v":1},101301,"","","","","","","","","","","","","","","",null,null,null,100,1003,-1000,1005,-5000]
[1014,"101401;100;102",1,7,1,0,3,7,"1003;1006","-1000;-5000",100,{"$nulls":9},4010,4085,"洞府遗址","神识至一处灵气充盈之地，似乎是处洞府",{"$f":"COUNTIF(EventLinkConfig!O:O,EventConfig!A14)","v":1},101401,"","","","","","","","","","","","","","","",null,null,null,100,1003,-1000,1006,-5000]
[null,"",1,7,1,0,1,8,"1003;999001","-1000;1",100,{"$nulls":9},4011,4086,"拦路山贼","一个不知好歹的山贼拦住了你的去路",{"$f":"COUNTIF(EventLinkConfig!O:O,EventConfig!A15)","v":0},"","","","","","","","","","","","","","","","",null,null,null,100,1003,-1000,999001,1]
[null,"",1,7,1,0,1,8,"1003;999002","-1000;1",100,{"$nulls":9},4012,4087,"丢袈裟的和尚","一位和尚叫住了你，似乎有什么急事",{"$f":"COUNTIF(EventLinkConfig!O:O,EventConfig!A16)","v":0},"","","","","","","","","","","","","","","","",null,null,null,100,1003,-1000,999002,1]
[null,"",1,7,1,0,1,8,"1003;1001","-1000;-5000",100,{"$nulls":6},10,30009,null,4013,4088,"丢袈裟的和尚","将袈裟还给和尚",{"$f":"COUNTIF(EventLinkConfig!O:O,EventConfig!A17)","v":0},"","","","","","","","","","","","","","","","",null,null,null,100,1003,-1000,1001,-5000]
[null,"",1,7,1,0,1,8,"1003;1005","-1000;-5000",100,{"$nulls":9},4014,4089,"云游修士","一名云游修士前来问道",{"$f":"COUNTIF(EventLinkConfig!O:O,EventConfig!A18)","v":0},"","","","","","","","","","","","","","","","",null,null,null,100,1003,-1000,1005,-5000]
[null,"",1,7,1,0,1,9,"1003;1006","-1000;-5000",100,{"$nulls":9},4015,4090,"镇压妖王","逍遥宗长老前来求教",{"$f":"COUNTIF(EventLinkConfig!O:O,EventConfig!A19)","v":0},"","","","","","","","","","","","","","","","",null,null,null,100,1003,-1000,1006,-5000]
[null,"",1,7,1,0,1,9,"1003;999001","-1000;1",100,{"$nulls":9},4016,4091,"清剿妖兽","妖兽入侵了村子，消灭掉它们",{"$f":"COUNTIF(EventLinkConfig!O:O,EventConfig!A20)","v":0},"","","","","","","","","","","","","","","","",null,null,null,100,1003,-1000,999001,1]
[null,"",1,7,1,0,1,9,"1003;999002","-1000;1",100,{"$nulls":9},4017,4092,"失窃的琉璃盏","琉璃盏被妖兽盗窃，前去寻回",{"$f":"COUNTIF(EventLinkConfig!O:O,EventConfig!A21)","v":0},{"$f":"IF($Y21>=Z$3,$A21*100+Z$3,\"\")","v":""},"","","","","","","","","","","","","","","",null,null,null,100,1003,-1000,999002,1]
[null,"",1,7,1,0,1,10,"1003;1001","-1000;-5000",100,{"$nulls":9},4018,4093,"论道何长","明镜道长前来论道",{"$f":"COUNTIF(EventLinkConfig!O:O,EventConfig!A22)","v":0},"","","","","","","","","","","","","","","","",null,null,null,100,1003,-1000,1001,-5000]
[null,"",1,7,1,0,1,10,"1003;1005","-1000;-5000",100,{"$nulls":9},4019,4094,"炼丹药童","炼丹药童前来询问丹药",{"$f":"COUNTIF(EventLinkConfig!O:O,EventConfig!A23)","v":0},"","","","","","","","","","","","","","","","",null,null,null,100,1003,-1000,1005,-5000]
[null,"",1,7,1,0,1,11,"1003;1006","-1000;-5000",100,{"$nulls":9},4020,4095,"风无咎前来切磋","风无咎前来与你武艺论道",{"$f":"COUNTIF(EventLinkConfig!O:O,EventConfig!A24)","v":0},"","","","","","","","","","","","","","","","",null,null,null,100,1003,-1000,1006,-5000]
[null,"",1,7,1,0,1,1,"1003;1002","-1000;100",100,{"$nulls":9},4021,4096,"魔族来犯","与魔族交涉",{"$f":"COUNTIF(EventLinkConfig!O:O,EventConfig!A25)","v":0},"","","","","","","","","","","","","","","","",null,null,null,100,1003,-1000,1002,100]
[null,"",1,7,1,0,1,2,"1003;1004","-1000;10",100,{"$nulls":9},4022,4097,"妖族入侵","击败妖族",{"$f":"COUNTIF(EventLinkConfig!O:O,EventConfig!A26)","v":0},"","","","","","","","","","","","","","","","",null,null,null,100,1003,-1000,1004,10]
[null,"",1,7,1,0,1,3,"1003;1501","-1000;1",100,{"$nulls":9},4023,4098,"北海危机","击败拦路妖兽",{"$f":"COUNTIF(EventLinkConfig!O:O,EventConfig!A27)","v":0},"","","","","","","","","","","","","","","","",null,null,null,100,1003,-1000,1501,1]
[null,"",1,7,1,0,1,4,"1003;1601","-1000;1",100,{"$nulls":9},4024,4099,"保护北海","击败入侵妖兽",{"$f":"COUNTIF(EventLinkConfig!O:O,EventConfig!A28)","v":0},"","","","","","","","","","","","","","","","",null,null,null,100,1003,-1000,1601,1]
[null,"",1,7,1,0,1,7,"1003;21012","-1000;1",100,{"$nulls":9},4025,4100,"境明论道","境明道长邀请你与其论道",{"$f":"COUNTIF(EventLinkConfig!O:O,EventConfig!A29)","v":0},"","","","","","","","","","","","","","","","",null,null,null,100,1003,-1000,21012,1]
[null,"",1,7,1,0,1,8,"1003;21013","-1000;1",100,{"$nulls":9},4026,4101,"听经习道","前去寺庙之中听经",{"$f":"COUNTIF(EventLinkConfig!O:O,EventConfig!A30)","v":0},"","","","","","","","","","","","","","","","",null,null,null,100,1003,-1000,21013,1]
[null,"",1,7,1,0,1,9,"1003;1002","-1000;50",100,{"$nulls":9},4027,4102,"境明论道二","境明道长邀请你与其论道",{"$f":"COUNTIF(EventLinkConfig!O:O,EventConfig!A31)","v":0},"","","","","","","","","","","","","","","","",null,null,null,100,1003,-1000,1002,50]
[]
[null,"",2,3,1,0,1,null,{"$f":"_xlfn.TEXTJOIN(\";\",1,AT33,AV33)","v":"1003"},{"$f":"_xlfn.TEXTJOIN(\";\",1,AU33,AW33)","v":"-5"},{"$nulls":12},"挂机1","修为",{"$f":"COUNTIF(EventLinkConfig!O:O,EventConfig!A33)","v":0},{"$f":"IF($Y33>=Z$3,$A33*100+Z$3,\"\")","v":""},"","","","","","","","","","","",{"$nulls":7},100,1003,-5]
[null,"",2,3,1,0,1,null,{"$f":"_xlfn.TEXTJOIN(\";\",1,AT34,AV34)","v":"1005"},{"$f":"_xlfn.TEXTJOIN(\";\",1,AU34,AW34)","v":"-5"},{"$nulls":12},"挂机2","灵气",{"$f":"COUNTIF(EventLinkConfig!O:O,EventConfig!A34)","v":0},"","","","","","","","","","","","",{"$nulls":7},100,1005,-5]
[null,"",2,3,1,0,1,null,"1006","-5",{"$nulls":12},"挂机3","玄晶",{"$f":"COUNTIF(EventLinkConfig!O:O,EventConfig!A35)","v":0},"","","","","","","","","","","","",{"$nulls":7},100,1006,-5]
[null,"",2,3,1,0,1,null,"1001","-5",{"$nulls":12},"挂机4","灵石",{"$f":"COUNTIF(EventLinkConfig!O:O,EventConfig!A36)","v":0},"","","","","","","","","","","","",{"$nulls":7},100,1001,-5]
[null,"",2,3,1,0,1,null,"1001","-5",{"$nulls":12},"挂机5","神识丹",{"$f":"COUNTIF(EventLinkConfig!O:O,EventConfig!A37)","v":0},"","","","","","","","","","","","",{"$nulls":7},100,1001,-5]
[null,{"$f":"IF(A38=\"\",\"\",_xlfn.TEXTJOIN(\";\",1,Z38:AS38,102))","v":""},2,3,1,0,1,null,"1001","-5",{"$nulls":12},"挂机6","妖丹",{"$f":"COUNTIF(EventLinkConfig!O:O,EventConfig!A38)","v":0},"","","","","","","","","","","","",{"$nulls":7},100,1001,-5]
[]
[10000,{"$f":"IF(Y40>0,_xlfn.TEXTJOIN(\";\",1,ROW(INDIRECT(CONCATENATE(\"\",A40*100+1,\":\",A40*100+Y40,\"\"))),102),\"\")","v":"1000001;1000002;1000003;1000004;1000005;1000006;1000007;1000008;1000009;1000010;1000011;1000012;1000013;1000014;1000015;1000016;1000017;1000018;1000019;1000020;1000021;102"},99,1,1,10,1,null,"","",null,null,1,null,null,1,{"$nulls":4},4259,null,"渡劫之殇",null,{"$f":"COUNTIF(EventLinkConfig!O:O,EventConfig!A40)","v":21},{"$f":"IF($Y40>=Z$3,$A40*100+Z$3,\"\")","v":1000001},1000002,1000003,1000004,1000005,1000006,1000007,1000008,1000009,1000010,1000011,1000012,1000013,1000014,1000015,1000016]
[10001,{"$f":"IF(Y41>0,_xlfn.TEXTJOIN(\";\",1,ROW(INDIRECT(CONCATENATE(\"\",A41*100+1,\":\",A41*100+Y41,\"\"))),102),\"\")","v":"1000101;1000102;1000103;1000104;102"},4,1,1,10,1,null,{"$f":"_xlfn.TEXTJOIN(\";\",1,AT41,AV41)","v":"12004;1702"},{"$f":"_xlfn.TEXTJOIN(\";\",1,AU41,AW41)","v":"1;1"},null,null,1,null,null,1,{"$nulls":4},4028,4103,"鲲鹏何在","神识未灭",{"$f":"COUNTIF(EventLinkConfig!O:O,EventConfig!A41)","v":4},1000101,1000102,1000103,1000104,"","","","","","","","","","","","",{"$nulls":4},12004,1,1702,{"$f":"[1]升级!$AM3","v":1}]
[10002,{"$f":"IF(Y42>0,_xlfn.TEXTJOIN(\";\",1,ROW(INDIRECT(CONCATENATE(\"\",A42*100+1,\":\",A42*100+Y42,\"\"))),102),\"\")","v":"1000201;1000202;1000203;102"},4,1,1,10,1,null,{"$f":"_xlfn.TEXTJOIN(\";\",1,AT42,AV42)","v":"12507;1702"},{"$f":"_xlfn.TEXTJOIN(\";\",1,AU42,AW42)","v":"1;1"},null,null,1,2,null,1,{"$nulls":4},4029,4104,"北海迷径1","御剑而行",{"$f":"COUNTIF(EventLinkConfig!O:O,EventConfig!A42)","v":3},1000201,1000202,1000203,"","","","","","","","","","","","","",{"$nulls":4},12507,1,1702,{"$f":"[1]升级!$AM4","v":1}]
[10003,{"$f":"IF(Y43>0,_xlfn.TEXTJOIN(\";\",1,ROW(INDIRECT(CONCATENATE(\"\",A43*100+1,\":\",A43*100+Y43,\"\"))),102),\"\")","v":"1000301;1000302;1000303;1000304;1000305;1000306;1000307;1000308;1000309;102"},4,1,1,10,1,null,"12005;1702","1;1",null,null,1,2,null,1,{"$nulls":4},4030,4105,"北海迷径2","雀笑大鹏",{"$f":"COUNTIF(EventLinkConfig!O:O,EventConfig!A43)","v":9},1000301,1000302,1000303,1000304,1000305,1000306,1000307,1000308,1000309,"","","","","","","",{"$nulls":4},12005,1,1702,{"$f":"[1]升级!$AM5","v":1}]
[10004,{"$f":"IF(Y44>0,_xlfn.TEXTJOIN(\";\",1,ROW(INDIRECT(CONCATENATE(\"\",A44*100+1,\":\",A44*100+Y44,\"\"))),102),\"\")","v":"1000401;1000402;1000403;1000404;102"},4,1,1,10,1,null,"10001;1702","1;1",null,null,1,2,null,1,{"$nulls":4},4031,4106,"古径阵法","击败结界兽",{"$f":"COUNTIF(EventLinkConfig!O:O,EventConfig!A44)","v":4},1000401,1000402,1000403,1000404,"","","","","","","","","","","","",{"$nulls":4},10001,1,1702,{"$f":"[1]升级!$AM6","v":1}]
[10005,{"$f":"IF(Y45>0,_xlfn.TEXTJOIN(\";\",1,ROW(INDIRECT(CONCATENATE(\"\",A45*100+1,\":\",A45*100+Y45,\"\"))),102),\"\")","v":"1000501;1000502;1000503;1000504;1000505;1000506;1000507;1000508;1000509;1000510;1000511;1000512;1000513;1000514;102"},4,1,1,10,1,null,"12501;1702","1;1",null,null,1,2,null,1,11,null,null,null,4032,4107,"浮空之岛1","初见疯道人",{"$f":"COUNTIF(EventLinkConfig!O:O,EventConfig!A45)","v":14},1000501,1000502,1000503,1000504,1000505,1000506,1000507,1000508,1000509,1000510,1000511,1000512,1000513,1000514,"","",{"$nulls":4},12501,1,1702,{"$f":"[1]升级!$AM7","v":1}]
[10006,{"$f":"IF(Y46>0,_xlfn.TEXTJOIN(\";\",1,ROW(INDIRECT(CONCATENATE(\"\",A46*100+1,\":\",A46*100+Y46,\"\"))),102),\"\")","v":"1000601;1000602;1000603;1000604;1000605;1000606;102"},4,1,1,10,1,null,"12009;1702","1;2",null,null,1,3,null,1,{"$nulls":4},4033,4108,"浮空之岛2","筑基中期",{"$f":"COUNTIF(EventLinkConfig!O:O,EventConfig!A46)","v":6},1000601,1000602,1000603,1000604,1000605,1000606,"","","","","","","","","","",{"$nulls":4},12009,1,1702,{"$f":"[1]升级!$AM8","v":2}]
[10007,{"$f":"IF(Y47>0,_xlfn.TEXTJOIN(\";\",1,ROW(INDIRECT(CONCATENATE(\"\",A47*100+1,\":\",A47*100+Y47,\"\"))),102),\"\")","v":"1000701;1000702;1000703;1000704;1000705;102"},4,1,1,10,1,null,"12506;1702","1;2",null,null,1,3,null,1,{"$nulls":4},4034,4109,"风中洞府1","击败痴道人",{"$f":"COUNTIF(EventLinkConfig!O:O,EventConfig!A47)","v":5},1000701,1000702,1000703,1000704,1000705,"","","","","","","","","","","",{"$nulls":4},12506,1,1702,{"$f":"[1]升级!$AM9","v":2}]
[10008,{"$f":"IF(Y48>0,_xlfn.TEXTJOIN(\";\",1,ROW(INDIRECT(CONCATENATE(\"\",A48*100+1,\":\",A48*100+Y48,\"\"))),102),\"\")","v":"1000801;1000802;1000803;1000804;1000805;1000806;1000807;1000808;1000809;1000810;1000811;1000812;1000813;1000814;102"},4,1,1,10,1,null,"10003;1702","1;2",null,null,1,3,null,1,{"$nulls":4},4035,4110,"风中洞府2","疯痴相聚",{"$f":"COUNTIF(EventLinkConfig!O:O,EventConfig!A48)","v":14},1000801,1000802,1000803,1000804,1000805,1000806,1000807,1000808,1000809,1000810,1000811,1000812,1000813,1000814,"","",{"$nulls":4},10003,1,1702,{"$f":"[1]升级!$AM10","v":2}]
[10009,{"$f":"IF(Y49>0,_xlfn.TEXTJOIN(\";\",1,ROW(INDIRECT(CONCATENATE(\"\",A49*100+1,\":\",A49*100+Y49,\"\"))),102),\"\")","v":"1000901;1000902;1000903;102"},4,1,1,10,1,null,"12010;1702","1;2",null,null,1,3,null,1,21,null,null,null,4036,4111,"风灵之力","筑基后期",{"$f":"COUNTIF(EventLinkConfig!O:O,EventConfig!A49)","v":3},1000901,1000902,1000903,"","","","","","","","","","","","","",{"$nulls":4},12010,1,1702,{"$f":"[1]升级!$AM11","v":2}]
[10010,{"$f":"IF(Y50>0,_xlfn.TEXTJOIN(\";\",1,ROW(INDIRECT(CONCATENATE(\"\",A50*100+1,\":\",A50*100+Y50,\"\"))),102),\"\")","v":"1001001;1001002;1001003;1001004;1001005;1001006;102"},4,1,1,10,1,null,"12502;1702","1;2",null,null,1,4,null,1,{"$nulls":4},4037,4112,"北海深处1","妖兽横行",{"$f":"COUNTIF(EventLinkConfig!O:O,EventConfig!A50)","v":6},{"$f":"IF($Y50>=Z$3,$A50*100+Z$3,\"\")","v":1001001},1001002,1001003,1001004,1001005,1001006,"","","","","","","","","","",{"$nulls":4},12502,1,1702,{"$f":"[1]升级!$AM12","v":2}]
[10011,{"$f":"IF(Y51>0,_xlfn.TEXTJOIN(\";\",1,ROW(INDIRECT(CONCATENATE(\"\",A51*100+1,\":\",A51*100+Y51,\"\"))),102),\"\")","v":"1001101;1001102;1001103;1001104;1001105;1001106;1001107;1001108;1001109;1001110;1001111;1001112;102"},4,1,1,10,1,null,"12014;1702","1;2",null,null,1,4,null,1,31,null,null,null,4038,4113,"北海深处2","遇见鲲鹏",{"$f":"COUNTIF(EventLinkConfig!O:O,EventConfig!A51)","v":12},1001101,1001102,1001103,1001104,1001105,1001106,1001107,1001108,1001109,1001110,1001111,1001112,"","","","",{"$nulls":4},12014,1,1702,{"$f":"[1]升级!$AM13","v":2}]
[10012,{"$f":"IF(Y52>0,_xlfn.TEXTJOIN(\";\",1,ROW(INDIRECT(CONCATENATE(\"\",A52*100+1,\":\",A52*100+Y52,\"\"))),102),\"\")","v":"1001201;1001202;1001203;102"},4,1,1,10,1,null,"12508;1702","1;2",null,null,2,null,null,1,{"$nulls":4},4039,4114,"尧都寻踪",null,{"$f":"COUNTIF(EventLinkConfig!O:O,EventConfig!A52)","v":3},1001201,1001202,1001203,"","","","","","","","","","","","","",{"$nulls":4},12508,1,1702,{"$f":"[1]升级!$AM14","v":2}]
[10013,{"$f":"IF(Y53>0,_xlfn.TEXTJOIN(\";\",1,ROW(INDIRECT(CONCATENATE(\"\",A53*100+1,\":\",A53*100+Y53,\"\"))),102),\"\")","v":"1001301;1001302;1001303;1001304;1001305;1001306;1001307;1001308;1001309;1001310;1001311;1001312;102"},4,1,1,10,1,null,"10006;1702","1;2",null,null,2,null,null,1,{"$nulls":4},4040,4115,"尧之都","尧让天下",{"$f":"COUNTIF(EventLinkConfig!O:O,EventConfig!A53)","v":12},1001301,1001302,1001303,1001304,1001305,1001306,1001307,1001308,1001309,1001310,1001311,1001312,"","","","",{"$nulls":4},10006,1,1702,{"$f":"[1]升级!$AM15","v":2}]
[10014,{"$f":"IF(Y54>0,_xlfn.TEXTJOIN(\";\",1,ROW(INDIRECT(CONCATENATE(\"\",A54*100+1,\":\",A54*100+Y54,\"\"))),102),\"\")","v":"1001401;1001402;1001403;1001404;1001405;1001406;1001407;1001408;1001409;1001410;1001411;1001412;1001413;1001414;1001415;1001416;102"},4,1,1,10,1,null,"12015;1702","1;2",null,null,2,null,null,1,41,null,null,null,4041,4116,"山林清音","访贤许由",{"$f":"COUNTIF(EventLinkConfig!O:O,EventConfig!A54)","v":16},1001401,1001402,1001403,1001404,1001405,1001406,1001407,1001408,1001409,1001410,1001411,1001412,1001413,1001414,1001415,1001416,{"$nulls":4},12015,1,1702,{"$f":"[1]升级!$AM16","v":2}]
[10015,{"$f":"IF(Y55>0,_xlfn.TEXTJOIN(\";\",1,ROW(INDIRECT(CONCATENATE(\"\",A55*100+1,\":\",A55*100+Y55,\"\"))),102),\"\")","v":"1001501;1001502;1001503;1001504;1001505;1001506;1001507;1001508;102"},4,1,1,10,1,null,"12503;1702","1;2",null,null,2,null,null,1,{"$nulls":4},4042,4117,"山中劳作","割草喝茶",{"$f":"COUNTIF(EventLinkConfig!O:O,EventConfig!A55)","v":8},1001501,1001502,1001503,1001504,1001505,1001506,1001507,1001508,"","","","","","","","",{"$nulls":4},12503,1,1702,{"$f":"[1]升级!$AM17","v":2}]
[10016,{"$f":"IF(Y56>0,_xlfn.TEXTJOIN(\";\",1,ROW(INDIRECT(CONCATENATE(\"\",A56*100+1,\":\",A56*100+Y56,\"\"))),102),\"\")","v":"1001601;1001602;1001603;1001604;1001605;1001606;1001607;1001608;102"},4,1,1,10,1,null,"12019;1702","1;2",null,null,2,null,null,1,51,null,null,null,4043,4118,"风起夜战","再来一杯",{"$f":"COUNTIF(EventLinkConfig!O:O,EventConfig!A56)","v":8},1001601,1001602,1001603,1001604,1001605,1001606,1001607,1001608,"","","","","","","","",{"$nulls":4},12019,1,1702,{"$f":"[1]升级!$AM18","v":2}]
[10017,{"$f":"IF(Y57>0,_xlfn.TEXTJOIN(\";\",1,ROW(INDIRECT(CONCATENATE(\"\",A57*100+1,\":\",A57*100+Y57,\"\"))),102),\"\")","v":"1001701;1001702;1001703;1001704;1001705;1001706;1001707;1001708;1001709;1001710;1001711;1001712;1001713;102"},4,1,1,10,1,null,"12509;1702","1;2",null,null,2,null,null,1,{"$nulls":4},4044,4119,"吃茶三问","战胜妖王",{"$f":"COUNTIF(EventLinkConfig!O:O,EventConfig!A57)","v":13},1001701,1001702,1001703,1001704,1001705,1001706,1001707,1001708,1001709,1001710,1001711,1001712,1001713,"","","",{"$nulls":4},12509,1,1702,{"$f":"[1]升级!$AM19","v":2}]
[10018,{"$f":"IF(Y58>0,_xlfn.TEXTJOIN(\";\",1,ROW(INDIRECT(CONCATENATE(\"\",A58*100+1,\":\",A58*100+Y58,\"\"))),102),\"\")","v":"1001801;1001802;1001803;1001804;1001805;1001806;1001807;1001808;1001809;1001810;102"},4,1,1,10,1,null,"10008;1702","1;1",null,null,2,null,null,1,61,null,null,null,4045,4120,"尧让天下","复命尧帝",{"$f":"COUNTIF(EventLinkConfig!O:O,EventConfig!A58)","v":10},1001801,1001802,1001803,1001804,1001805,1001806,1001807,1001808,1001809,1001810,"","","","","","",{"$nulls":4},10008,1,1702,{"$f":"[1]升级!$AM20","v":1}]
[10019,{"$f":"IF(Y59>0,_xlfn.TEXTJOIN(\";\",1,ROW(INDIRECT(CONCATENATE(\"\",A59*100+1,\":\",A59*100+Y59,\"\"))),102),\"\")","v":"1001901;1001902;1001903;1001904;1001905;1001906;1001907;1001908;1001909;1001910;1001911;1001912;1001913;1001914;1001915;1001916;1001917;1001918;1001919;1001920;102"},4,1,1,10,1,null,"12020;1702","1;2",null,null,2,null,null,1,{"$nulls":4},4046,4121,"无用之树","树下闲话",{"$f":"COUNTIF(EventLinkConfig!O:O,EventConfig!A59)","v":20},1001901,1001902,1001903,1001904,1001905,1001906,1001907,1001908,1001909,1001910,1001911,1001912,1001913,1001914,1001915,1001916,{"$f":"IF($Y59>=AP$3,$A59*100+AP$3,\"\")","v":1001917},{"$f":"IF($Y59>=AQ$3,$A59*100+AQ$3,\"\")","v":1001918},{"$f":"IF($Y59>=AR$3,$A59*100+AR$3,\"\")","v":1001919},{"$f":"IF($Y59>=AS$3,$A59*100+AS$3,\"\")","v":1001920},12020,1,1702,{"$f":"[1]升级!$AM21","v":2}]
[10020,{"$f":"IF(Y60>0,_xlfn.TEXTJOIN(\";\",1,ROW(INDIRECT(CONCATENATE(\"\",A60*100+1,\":\",A60*100+Y60,\"\"))),102),\"\")","v":"1002001;1002002;102"},4,1,1,10,1,null,"12505;1702","1;1",null,null,2,null,null,1,{"$nulls":4},4047,4122,"樗木之灵","切磋切磋",{"$f":"COUNTIF(EventLinkConfig!O:O,EventConfig!A60)","v":2},{"$f":"IF($Y60>=Z$3,$A60*100+Z$3,\"\")","v":1002001},1002002,"","","","","","","","","","","","","","",{"$nulls":4},12505,1,1702,{"$f":"[1]升级!$AM22","v":1}]
[10021,{"$f":"IF(Y61>0,_xlfn.TEXTJOIN(\";\",1,ROW(INDIRECT(CONCATENATE(\"\",A61*100+1,\":\",A61*100+Y61,\"\"))),102),\"\")","v":"1002101;1002102;1002103;1002104;102"},4,1,1,10,1,null,"12024;1702","1;2",null,null,2,null,null,1,71,null,null,null,4048,4123,"游尧都","金丹前期",{"$f":"COUNTIF(EventLinkConfig!O:O,EventConfig!A61)","v":4},1002101,1002102,1002103,1002104,"","","","","","","","","","","","",{"$nulls":4},12024,1,1702,{"$f":"[1]升级!$AM23","v":2}]
[10022,{"$f":"IF(Y62>0,_xlfn.TEXTJOIN(\";\",1,ROW(INDIRECT(CONCATENATE(\"\",A62*100+1,\":\",A62*100+Y62,\"\"))),102),\"\")","v":"1002201;1002202;1002203;1002204;1002205;1002206;1002207;1002208;1002209;1002210;1002211;1002212;102"},4,1,1,10,1,null,"12510;1702","1;2",null,null,2,null,null,1,81,null,null,null,4049,4124,"再见尧帝","仙山传说",{"$f":"COUNTIF(EventLinkConfig!O:O,EventConfig!A62)","v":12},1002201,1002202,1002203,1002204,1002205,1002206,1002207,1002208,1002209,1002210,1002211,1002212,"","","","",{"$nulls":4},12510,1,1702,{"$f":"[1]升级!$AM24","v":2}]
[10023,{"$f":"IF(Y63>0,_xlfn.TEXTJOIN(\";\",1,ROW(INDIRECT(CONCATENATE(\"\",A63*100+1,\":\",A63*100+Y63,\"\"))),102),\"\")","v":"1002301;1002302;1002303;102"},4,1,1,10,1,null,"10010;1702","1;2",null,null,3,null,null,1,{"$nulls":4},4050,4125,"云海漫行","入山幻阵",{"$f":"COUNTIF(EventLinkConfig!O:O,EventConfig!A63)","v":3},1002301,1002302,1002303,"","","","","","","","","","","","","",{"$nulls":4},10010,1,1702,{"$f":"[1]升级!$AM25","v":2}]
[10024,{"$f":"IF(Y64>0,_xlfn.TEXTJOIN(\";\",1,ROW(INDIRECT(CONCATENATE(\"\",A64*100+1,\":\",A64*100+Y64,\"\"))),102),\"\")","v":"1002401;1002402;1002403;1002404;1002405;1002406;1002407;1002408;1002409;1002410;1002411;1002412;1002413;102"},4,1,1,10,1,null,"12025;1702","1;3",null,null,3,null,null,1,91,null,null,null,4051,4126,"初见惠子","葫芦种子",{"$f":"COUNTIF(EventLinkConfig!O:O,EventConfig!A64)","v":13},1002401,1002402,1002403,1002404,1002405,1002406,1002407,1002408,1002409,1002410,1002411,1002412,1002413,"","","",{"$nulls":4},12025,1,1702,{"$f":"[1]升级!$AM26","v":3}]
[10025,{"$f":"IF(Y65>0,_xlfn.TEXTJOIN(\";\",1,ROW(INDIRECT(CONCATENATE(\"\",A65*100+1,\":\",A65*100+Y65,\"\"))),102),\"\")","v":"1002501;1002502;1002503;1002504;1002505;1002506;1002507;1002508;102"},4,1,1,10,1,null,"12504;1702","1;3",null,null,3,null,null,1,101,null,null,null,4052,4127,"葫芦肥料","天肥地肥",{"$f":"COUNTIF(EventLinkConfig!O:O,EventConfig!A65)","v":8},1002501,1002502,1002503,1002504,1002505,1002506,1002507,1002508,"","","","","","","","",{"$nulls":4},12504,1,1702,{"$f":"[1]升级!$AM27","v":3}]
[10026,{"$f":"IF(Y66>0,_xlfn.TEXTJOIN(\";\",1,ROW(INDIRECT(CONCATENATE(\"\",A66*100+1,\":\",A66*100+Y66,\"\"))),102),\"\")","v":"1002601;1002602;1002603;1002604;1002605;1002606;1002607;1002608;1002609;102"},4,1,1,10,1,null,"1702","4",null,null,3,null,null,1,111,null,null,null,4053,4128,"藐姑射山","登山",{"$f":"COUNTIF(EventLinkConfig!O:O,EventConfig!A66)","v":9},1002601,1002602,1002603,1002604,1002605,1002606,1002607,1002608,1002609,"","","","","","","",{"$nulls":6},1702,{"$f":"[1]升级!$AM28","v":4}]
[10027,{"$f":"IF(Y67>0,_xlfn.TEXTJOIN(\";\",1,ROW(INDIRECT(CONCATENATE(\"\",A67*100+1,\":\",A67*100+Y67,\"\"))),102),\"\")","v":"1002701;1002702;1002703;1002704;1002705;1002706;1002707;1002708;1002709;1002710;1002711;1002712;1002713;1002714;1002715;1002716;1002717;1002718;1002719;1002720;1002721;1002722;1002723;1002724;1002725;1002726;1002727;1002728;1002729;1002730;1002731;1002732;1002733;1002734;1002735;1002736;102"},4,1,1,10,1,null,"1702","2",null,null,3,null,null,1,121,null,null,null,4054,4129,"藐姑射山","雾中幻径",{"$f":"COUNTIF(EventLinkConfig!O:O,EventConfig!A67)","v":36},1002701,1002702,1002703,1002704,1002705,1002706,1002707,1002708,1002709,1002710,1002711,1002712,1002713,1002714,1002715,1002716,{"$nulls":6},1702,{"$f":"[1]升级!$AM29","v":2}]
[10028,{"$f":"IF(Y68>0,_xlfn.TEXTJOIN(\";\",1,ROW(INDIRECT(CONCATENATE(\"\",A68*100+1,\":\",A68*100+Y68,\"\"))),102),\"\")","v":"1002801;102"},4,1,1,10,1,null,"1702","3",null,null,3,null,null,1,{"$nulls":4},4055,4130,"露水清心",null,{"$f":"COUNTIF(EventLinkConfig!O:O,EventConfig!A68)","v":1},1002801,"","","","","","","","","","","","","","","",{"$nulls":6},1702,{"$f":"[1]升级!$AM30","v":3}]
[10029,{"$f":"IF(Y69>0,_xlfn.TEXTJOIN(\";\",1,ROW(INDIRECT(CONCATENATE(\"\",A69*100+1,\":\",A69*100+Y69,\"\"))),102),\"\")","v":"1002901;1002902;1002903;1002904;1002905;1002906;1002907;1002908;1002909;1002910;1002911;1002912;1002913;1002914;1002915;1002916;1002917;1002918;1002919;1002920;102"},4,1,1,10,1,null,"1702","2",null,null,3,null,null,1,131,null,null,null,4056,4131,"山顶神仙",null,{"$f":"COUNTIF(EventLinkConfig!O:O,EventConfig!A69)","v":20},1002901,1002902,1002903,1002904,1002905,1002906,1002907,1002908,1002909,1002910,1002911,1002912,1002913,1002914,1002915,1002916,{"$nulls":6},1702,{"$f":"[1]升级!$AM31","v":2}]
[10030,{"$f":"IF(Y70>0,_xlfn.TEXTJOIN(\";\",1,ROW(INDIRECT(CONCATENATE(\"\",A70*100+1,\":\",A70*100+Y70,\"\"))),102),\"\")","v":"1003001;1003002;1003003;1003004;1003005;1003006;1003007;1003008;102"},4,1,1,10,1,null,"1702","3",null,null,3,null,null,1,141,null,null,null,4057,4132,"心魔之战","破除枷锁",{"$f":"COUNTIF(EventLinkConfig!O:O,EventConfig!A70)","v":8},1003001,1003002,1003003,1003004,1003005,1003006,1003007,1003008,"","","","","","","","",{"$nulls":6},1702,{"$f":"[1]升级!$AM32","v":3}]
[10031,{"$f":"IF(Y71>0,_xlfn.TEXTJOIN(\";\",1,ROW(INDIRECT(CONCATENATE(\"\",A71*100+1,\":\",A71*100+Y71,\"\"))),102),\"\")","v":"1003101;1003102;1003103;1003104;1003105;1003106;1003107;1003108;1003109;1003110;1003111;1003112;1003113;1003114;1003115;1003116;102"},4,1,1,10,1,null,"","",null,null,3,null,null,1,151,null,null,null,4191,4192,"鲲鹏飞天",null,{"$f":"COUNTIF(EventLinkConfig!O:O,EventConfig!A71)","v":16},1003101,1003102,1003103,1003104,1003105,1003106,1003107,1003108,1003109,1003110,1003111,1003112,1003113,1003114,1003115,1003116]
[null,""]
[20001,"1001;1002;1003;1004;1005;102",5,null,1,0,1,null,1001,10,{"$nulls":10},4058,4133,"受伤的狼","你发现一只奄奄一息的狼，决定上前一探究竟。",null,1001,1002,1003,1004,1005]
[20002,{"$f":"IF(A74=\"\",\"\",_xlfn.TEXTJOIN(\";\",1,Z74:AS74,102))","v":"1010;1011;1012;1013;1014;1015;1016;102"},5,null,1,0,1,null,1001,10,{"$nulls":6},{"$f":"IF(R74=\"\",\"\",VLOOKUP(R74,条件类型查询!A:B,2,FALSE))","v":""},null,null,null,4059,4134,"鹬蚌相争","附近的小树林闹的不可开交，你决定去看看怎么回事。",null,1010,1011,1012,1013,1014,1015,1016]
[20003,"1001;1002;1003;1004;1005;102",5,null,1,0,1,null,1001,10,{"$nulls":10},4060,4135,"受伤的鸟","你发现一只奄奄一息的鸟，决定上前一探究竟。",null,1001,1002,1003,1004,1005]
[null,""]
[9001,"1001;1002;1003;1004;1005;102",6,3,1,0,1,null,1001,10,{"$nulls":10},4061,4136,"受伤的狼","你发现一只奄奄一息的狼，决定上前一探究竟。",null,1001,1002,1003,1004,1005]
[9002,"1010;1011;1012;1013;1014;1015;1016;102",6,3,1,0,1,null,1001,10,{"$nulls":6},{"$f":"IF(R78=\"\",\"\",VLOOKUP(R78,条件类型查询!A:B,2,FALSE))","v":""},null,null,null,4062,4137,"鹬蚌相争","附近的小树林闹的不可开交，你决定去看看怎么回事。",null,1010,1011,1012,1013,1014,1015,1016]
[9025,"102",6,3,1,0,1,null,1001,10,null,null,1,null,null,2,{"$nulls":4},4063,4138,"惠子.没用的大葫芦","惠子种的葫芦没用，他非常生气"]
[9014,"9014;102",6,3,1,0,1,null,1001,10,null,null,2,null,null,2,{"$nulls":4},4064,4139,"发现魔修","发现一群魔修，正在夺人钱财",null,9014]
[9031,"9031;102",6,3,1,0,1,null,1001,10,30,2,3,null,null,2,{"$nulls":4},4065,4140,"魔修","打败魔休",null,9031]
[9003,"9003;9004;9005;9006;9007;9008;102",6,5,1,0,1,null,1001,10,{"$nulls":10},4066,4141,"幽谷剑鸣","你在闭关修炼时，感受到一股凌厉的剑意波动。深入探查，发现一名白衣剑修“清霜”盘坐于谷中，周围剑气环绕，正与一柄散发不祥气息的灵剑对峙。她似在参悟剑诀，却灵气不足，剑灵桀骜。",null,9003,9004,9005,9006,9007,9008]
[]
[3,{"$f":"IF(A84=\"\",\"\",_xlfn.TEXTJOIN(\";\",1,Z84:AS84,102))","v":"1020;1021;1022;1023;1024;1025;1026;102"},99,2,1,10,1,null,1001,10,null,null,1,null,null,4,{"$f":"IF(R84=\"\",\"\",VLOOKUP(R84,条件类型查询!A:B,2,FALSE))","v":"拥有特定道具"},1,1004,1,4067,4142,"鹬蚌相争2","附近的小树林闹的不可开交，你决定去看看怎么回事。",null,1020,1021,1022,1023,1024,1025,1026]
[1001,{"$f":"IF(A85=\"\",\"\",_xlfn.TEXTJOIN(\";\",1,Z85:AS85,102))","v":"1001;1002;1003;1004;1005;100;102"},99,4,1,10,1,null,1001,10,{"$nulls":6},{"$f":"IF(R85=\"\",\"\",VLOOKUP(R85,条件类型查询!A:B,2,FALSE))","v":""},null,null,null,4068,4143,"受伤的鸟","你发现一只奄奄一息的鸟，决定上前一探究竟。",null,1001,1002,1003,1004,1005,{"$nulls":14},100]
[30001,"100;102",98,6,1,0,1,null,null,null,50,5,{"$nulls":4},{"$f":"IF(R86=\"\",\"\",VLOOKUP(R86,条件类型查询!A:B,2,FALSE))","v":""},{"$nulls":7},{"$f":"COUNTIF(EventLinkConfig!O:O,EventConfig!A86)","v":0},{"$f":"IF($Y86>=Z$3,$A86*100+Z$3,\"\")","v":""},"","","","","","","","","","","","","","","",null,null,null,100]
[{"$f":"A86+1","v":30002},"100;102",98,6,1,0,1,null,null,null,50,1,{"$nulls":4},{"$f":"IF(R87=\"\",\"\",VLOOKUP(R87,条件类型查询!A:B,2,FALSE))","v":""},{"$nulls":7},{"$f":"COUNTIF(EventLinkConfig!O:O,EventConfig!A87)","v":0},"","","","","","","","","","","","","","","","",null,null,null,100]
[30003,"3000301;100;102",98,6,1,0,1,null,null,null,50,1,1,null,null,null,{"$f":"IF(R88=\"\",\"\",VLOOKUP(R88,条件类型查询!A:B,2,FALSE))","v":""},{"$nulls":7},{"$f":"COUNTIF(EventLinkConfig!O:O,EventConfig!A88)","v":1},3000301,"","","","","","","","","","","","","","","",null,null,null,100]
[30004,"3000401;100;102",98,6,1,0,1,null,null,null,50,3,2,null,null,null,{"$f":"IF(R89=\"\",\"\",VLOOKUP(R89,条件类型查询!A:B,2,FALSE))","v":""},{"$nulls":7},{"$f":"COUNTIF(EventLinkConfig!O:O,EventConfig!A89)","v":1},3000401,"","","","","","","","","","","","","","","",null,null,null,100]
[30005,"3000501;100;102",98,6,1,0,1,null,null,null,50,1,2,null,null,null,{"$f":"IF(R90=\"\",\"\",VLOOKUP(R90,条件类型查询!A:B,2,FALSE))","v":""},{"$nulls":7},{"$f":"COUNTIF(EventLinkConfig!O:O,EventConfig!A90)","v":1},3000501,"","","","","","","","","","","","","","","",null,null,null,100]
[30006,"3000601;100;102",98,6,1,0,1,null,null,null,50,1,2,null,null,null,{"$f":"IF(R91=\"\",\"\",VLOOKUP(R91,条件类型查询!A:B,2,FALSE))","v":""},{"$nulls":7},{"$f":"COUNTIF(EventLinkConfig!O:O,EventConfig!A91)","v":1},3000601,"","","","","","","","","","","","","","","",null,null,null,100]
[30007,"3000701;100;102",98,6,1,0,1,null,null,null,50,1,3,null,null,null,{"$f":"IF(R92=\"\",\"\",VLOOKUP(R92,条件类型查询!A:B,2,FALSE))","v":""},{"$nulls":7},{"$f":"COUNTIF(EventLinkConfig!O:O,EventConfig!A92)","v":1},3000701,"","","","","","","","","","","","","","","",null,null,null,100]
[30008,"3000801;100;102",98,6,1,0,1,null,null,null,15,1,3,null,null,null,{"$f":"IF(R93=\"\",\"\",VLOOKUP(R93,条件类型查询!A:B,2,FALSE))","v":""},{"$nulls":7},{"$f":"COUNTIF(EventLinkConfig!O:O,EventConfig!A93)","v":1},3000801,"","","","","","","","","","","","","","","",null,null,null,100]
[30009,"3000901;3000902;100;102",98,6,1,0,1,null,1301,1,100,1,3,null,null,null,{"$f":"IF(R94=\"\",\"\",VLOOKUP(R94,条件类型查询!A:B,2,FALSE))","v":""},{"$nulls":7},{"$f":"COUNTIF(EventLinkConfig!O:O,EventConfig!A94)","v":2},3000901,3000902,"","","","","","","","","","","","","","",null,null,null,100]
[30010,"3001001;100;102",98,6,1,0,1,null,1001,1,100,1,3,null,null,null,{"$f":"IF(R95=\"\",\"\",VLOOKUP(R95,条件类型查询!A:B,2,FALSE))","v":"前置事件"},10,1021,{"$nulls":5},{"$f":"COUNTIF(EventLinkConfig!O:O,EventConfig!A95)","v":1},3001001,"","","","","","","","","","","","","","","",null,null,null,100]
[30011,"3001101;3001102;100;102",98,6,1,0,1,null,20003,3,100,1,2,null,null,null,{"$f":"IF(R96=\"\",\"\",VLOOKUP(R96,条件类型查询!A:B,2,FALSE))","v":""},{"$nulls":7},{"$f":"COUNTIF(EventLinkConfig!O:O,EventConfig!A96)","v":2},3001101,3001102,"","","","","","","","","","","","","","",null,null,null,100]
[30012,"3001201;102",98,6,1,0,1,null,20004,1,20,1,2,null,null,null,{"$f":"IF(R97=\"\",\"\",VLOOKUP(R97,条件类型查询!A:B,2,FALSE))","v":""},{"$nulls":7},{"$f":"COUNTIF(EventLinkConfig!O:O,EventConfig!A97)","v":1},3001201,"","","","","","","","","","","","","","",""]
[30013,{"$f":"IF(A98=\"\",\"\",_xlfn.TEXTJOIN(\";\",1,Z98:AS98,102))","v":"3001301;102"},98,6,1,0,1,null,20005,1,20,1,1,null,null,null,{"$f":"IF(R98=\"\",\"\",VLOOKUP(R98,条件类型查询!A:B,2,FALSE))","v":""},null,null,3,4163,4164,"搜集风铃","为雀灵儿搜集风铃",{"$f":"COUNTIF(EventLinkConfig!O:O,EventConfig!A98)","v":1},3001301,"","","","","","","","","","","","","","",""]
[30014,{"$f":"IF(A99=\"\",\"\",_xlfn.TEXTJOIN(\";\",1,Z99:AS99,102))","v":"3001401;102"},98,6,1,0,1,null,1001,100,20,1,1,null,null,null,{"$f":"IF(R99=\"\",\"\",VLOOKUP(R99,条件类型查询!A:B,2,FALSE))","v":""},null,null,1,4177,4178,"击败风妖","云枝-击败风妖",{"$f":"COUNTIF(EventLinkConfig!O:O,EventConfig!A99)","v":1},3001401,"","","","","","","","","","","","","","",""]
[30015,{"$f":"IF(A100=\"\",\"\",_xlfn.TEXTJOIN(\";\",1,Z100:AS100,102))","v":"3001501;102"},98,6,1,0,1,null,20006,1,33,1,1,null,null,null,{"$f":"IF(R100=\"\",\"\",VLOOKUP(R100,条件类型查询!A:B,2,FALSE))","v":""},null,null,3,4193,4194,"搜集风灵碎片","风瑶-2. 风灵碎片.岛间搜寻",{"$f":"COUNTIF(EventLinkConfig!O:O,EventConfig!A100)","v":1},3001501,"","","","","","","","","","","","","","",""]
[30016,{"$f":"IF(A101=\"\",\"\",_xlfn.TEXTJOIN(\";\",1,Z101:AS101,102))","v":"3001601;3001602;3001603;3001604;102"},98,6,1,0,1,null,1001,100,20,1,1,null,null,null,{"$f":"IF(R101=\"\",\"\",VLOOKUP(R101,条件类型查询!A:B,2,FALSE))","v":""},null,null,1,4195,4196,"云隐秘闻","风瑶-3. 风中疑云.探听消息",{"$f":"COUNTIF(EventLinkConfig!O:O,EventConfig!A101)","v":4},{"$f":"IF($Y101>=Z$3,$A101*100+Z$3,\"\")","v":3001601},3001602,3001603,3001604,"","","","","","","","","","","",{"$f":"IF($Y101>=AO$3,$A101*100+AO$3,\"\")","v":""}]
[{"$f":"A101+1","v":30017},{"$f":"IF(A102=\"\",\"\",_xlfn.TEXTJOIN(\";\",1,Z102:AS102,102))","v":"3001701;102"},98,6,1,0,1,null,20007,1,20,1,1,null,null,null,{"$f":"IF(R102=\"\",\"\",VLOOKUP(R102,条件类型查询!A:B,2,FALSE))","v":""},null,null,3,4197,4198,"搜集浮岛灵石","风瑶-4. 隐秘信物.追踪残片",{"$f":"COUNTIF(EventLinkConfig!O:O,EventConfig!A102)","v":1},3001701,"","","","","","","","","","","","","","",""]
[30018,{"$f":"IF(A103=\"\",\"\",_xlfn.TEXTJOIN(\";\",1,Z103:AS103,102))","v":"3001801;102"},98,6,1,0,1,null,20008,1,20,1,1,null,null,null,{"$f":"IF(R103=\"\",\"\",VLOOKUP(R103,条件类型查询!A:B,2,FALSE))","v":""},null,null,1,4199,4200,"搜集浮岛灵石","风瑶-5. 风中密信.截获情报",{"$f":"COUNTIF(EventLinkConfig!O:O,EventConfig!A103)","v":1},3001801,"","","","","","","","","","","","","","",""]
[30019,{"$f":"IF(A104=\"\",\"\",_xlfn.TEXTJOIN(\";\",1,Z104:AS104,102))","v":"3001901;102"},98,6,1,0,1,null,20009,1,20,1,1,null,null,null,{"$f":"IF(R104=\"\",\"\",VLOOKUP(R104,条件类型查询!A:B,2,FALSE))","v":""},null,null,2,4213,4214,"搜集尧都玉佩","婉溪-4. 玉佩稳灵.收集信物",{"$f":"COUNTIF(EventLinkConfig!O:O,EventConfig!A104)","v":1},3001901,"","","","","","","","","","","","","","",""]
[30020,{"$f":"IF(A105=\"\",\"\",_xlfn.TEXTJOIN(\";\",1,Z105:AS105,102))","v":"3002001;102"},98,6,1,0,1,null,20010,1,20,1,1,null,null,null,{"$f":"IF(R105=\"\",\"\",VLOOKUP(R105,条件类型查询!A:B,2,FALSE))","v":""},null,null,2,4227,4228,"搜集山野灵草","许由-2. 山野采草.炼丹初助",{"$f":"COUNTIF(EventLinkConfig!O:O,EventConfig!A105)","v":1},3002001,"","","","","","","","","","","","","","",""]
[30021,{"$f":"IF(A106=\"\",\"\",_xlfn.TEXTJOIN(\";\",1,Z106:AS106,102))","v":"3002101;3002102;3002103;102"},98,6,1,0,1,null,20011,1,20,1,1,null,null,null,{"$f":"IF(R106=\"\",\"\",VLOOKUP(R106,条件类型查询!A:B,2,FALSE))","v":""},null,null,2,4229,4230,"搜集秘境种子","许由-4. 玉佩镇丹.稳气寻材",{"$f":"COUNTIF(EventLinkConfig!O:O,EventConfig!A106)","v":3},3002101,3002102,3002103,"","","","","","","","","","","","",""]
[30022,{"$f":"IF(A107=\"\",\"\",_xlfn.TEXTJOIN(\";\",1,Z107:AS107,102))","v":"3002201;3002202;102"},98,6,1,0,1,null,20012,1,20,1,1,null,null,null,{"$f":"IF(R107=\"\",\"\",VLOOKUP(R107,条件类型查询!A:B,2,FALSE))","v":""},null,null,3,4242,4243,"搜集甜蜜果实","疯道人-2. 途中解乏",{"$f":"COUNTIF(EventLinkConfig!O:O,EventConfig!A107)","v":2},3002201,3002202,"","","","","","","","","","","","","",""]
[30023,{"$f":"IF(A108=\"\",\"\",_xlfn.TEXTJOIN(\";\",1,Z108:AS108,102))","v":"3002301;3002302;102"},98,6,1,0,1,null,null,null,20,5,1,null,null,null,{"$f":"IF(R108=\"\",\"\",VLOOKUP(R108,条件类型查询!A:B,2,FALSE))","v":""},null,null,3,4275,null,"消灭妖邪",null,{"$f":"COUNTIF(EventLinkConfig!O:O,EventConfig!A108)","v":2},3002301,3002302,"","","","","","","","","","","","","",""]
[30024,{"$f":"IF(A109=\"\",\"\",_xlfn.TEXTJOIN(\";\",1,Z109:AS109,102))","v":"3002401;3002402;102"},98,6,1,0,1,null,null,null,20,5,1,null,null,null,{"$f":"IF(R109=\"\",\"\",VLOOKUP(R109,条件类型查询!A:B,2,FALSE))","v":""},null,null,3,4276,null,"消灭仙山西边的妖物",null,{"$f":"COUNTIF(EventLinkConfig!O:O,EventConfig!A109)","v":2},3002401,3002402,"","","","","","","","","","","","","",""]
[]
[5001,"500101;500102;500103;500104;500105;500106;500107;500108;500109;500110;500111;500112;500113;500114;500115;500116;500117;500118;500119;102",99,5,1,10,1,10,1501,1,null,null,1,null,null,1,{"$f":"IF(R111=\"\",\"\",VLOOKUP(R111,条件类型查询!A:B,2,FALSE))","v":""},null,null,null,4069,4144,"风影为二","风影为二详情占位",{"$f":"COUNTIF(EventLinkConfig!O:O,EventConfig!A111)","v":19},{"$f":"IF($Y111>=Z$3,$A111*100+Z$3,\"\")","v":500101},500102,500103,500104,500105,500106,500107,500108,500109,500110,{"$f":"IF($Y111>=AJ$3,$A111*100+AJ$3,\"\")","v":500111},500112,500113,500114,500115,500116,500117,500118,500119,""]
[5002,"500201;500202;500203;500204;500205;500206;500207;500208;500209;500210;500211;500212;500213;500214;500215;500216;102",99,5,1,10,1,11,1601,1,null,null,1,null,null,1,{"$f":"IF(R112=\"\",\"\",VLOOKUP(R112,条件类型查询!A:B,2,FALSE))","v":"前置事件"},10,5001,null,4070,4145,"风影合一","风影合一详情占位",{"$f":"COUNTIF(EventLinkConfig!O:O,EventConfig!A112)","v":16},500201,500202,500203,500204,500205,500206,500207,500208,500209,500210,500211,500212,500213,500214,500215,500216,"","","",""]
[5003,"500301;500302;500303;500304;500305;500306;500307;500308;500309;500310;500311;500312;500313;500314;500315;500316;500317;500318;500319;500320;102",99,2,1,0,1,1,1001,500,null,null,1,null,null,1,{"$f":"IF(R113=\"\",\"\",VLOOKUP(R113,条件类型查询!A:B,2,FALSE))","v":""},null,null,null,4071,4146,"北海剑妖","百年化妖为红颜，一剑焚海断孽缘",{"$f":"COUNTIF(EventLinkConfig!O:O,EventConfig!A113)","v":20},500301,500302,500303,500304,500305,500306,500307,500308,500309,500310,500311,500312,500313,500314,500315,500316,500317,500318,500319,500320]
[5004,{"$f":"IF(A114=\"\",\"\",_xlfn.TEXTJOIN(\";\",1,Z114:AS114,102))","v":"500401;102"},99,7,1,0,1,1,1001,-20000,{"$nulls":6},{"$f":"IF(R114=\"\",\"\",VLOOKUP(R114,条件类型查询!A:B,2,FALSE))","v":""},null,null,null,4072,4147,"【纳福】灵石","大量获取灵石",{"$f":"COUNTIF(EventLinkConfig!O:O,EventConfig!A114)","v":1},500401,"","","","","","","","","","","","","","","","","","",""]
[5005,{"$f":"IF(A115=\"\",\"\",_xlfn.TEXTJOIN(\";\",1,Z115:AS115,102))","v":"500501;102"},99,7,1,0,1,1,1003,-20000,{"$nulls":6},{"$f":"IF(R115=\"\",\"\",VLOOKUP(R115,条件类型查询!A:B,2,FALSE))","v":""},null,null,null,4073,4148,"【纳福】修为","大量获取修为",{"$f":"COUNTIF(EventLinkConfig!O:O,EventConfig!A115)","v":1},500501,"","","","","","","","","","","","","","","","","","",""]
[5006,"500601;102",99,7,1,0,1,1,1005,-20000,{"$nulls":6},{"$f":"IF(R116=\"\",\"\",VLOOKUP(R116,条件类型查询!A:B,2,FALSE))","v":""},null,null,null,4074,4149,"【纳福】灵气","大量获取灵气",{"$f":"COUNTIF(EventLinkConfig!O:O,EventConfig!A116)","v":1},500601,"","","","","","","","","","","","","","","","","","",""]
[5007,{"$f":"IF(A117=\"\",\"\",_xlfn.TEXTJOIN(\";\",1,Z117:AS117,102))","v":"500701;102"},99,7,1,0,1,1,1006,-20000,{"$nulls":6},{"$f":"IF(R117=\"\",\"\",VLOOKUP(R117,条件类型查询!A:B,2,FALSE))","v":""},null,null,null,4075,4150,"【纳福】玄晶","大量获取玄晶",{"$f":"COUNTIF(EventLinkConfig!O:O,EventConfig!A117)","v":1},500701,"","","","","","","","","","","","","","","","","","",""]
[]
[6001,"600101;600102;600103;600104;600105;600106;600107;600108;600109;600110;600111;600112;600113;600114;600115;600116;600117;102",7,5,1,0,1,null,null,null,35,1,1,null,null,null,{"$f":"IF(R119=\"\",\"\",VLOOKUP(R119,条件类型查询!A:B,2,FALSE))","v":"前置事件"},10,10003,null,4151,4152,"树间闲聊","雀灵儿1",{"$f":"COUNTIF(EventLinkConfig!O:O,EventConfig!A119)","v":17},{"$f":"IF($Y119>=Z$3,$A119*100+Z$3,\"\")","v":600101},600102,600103,600104,600105,600106,600107,600108,600109,600110,{"$f":"IF($Y119>=AJ$3,$A119*100+AJ$3,\"\")","v":600111},600112,600113,600114,600115,600116,600117,"","",""]
[6002,{"$f":"IF(A120=\"\",\"\",_xlfn.TEXTJOIN(\";\",1,Z120:AS120,102))","v":"600201;600202;600203;600204;600205;600206;102"},7,5,1,0,1,null,null,null,30,1,1,null,null,null,{"$f":"IF(R120=\"\",\"\",VLOOKUP(R120,条件类型查询!A:B,2,FALSE))","v":"前置事件"},10,{"$f":"A119","v":6001},null,4153,4154,"风铃寻趣","雀灵儿2",{"$f":"COUNTIF(EventLinkConfig!O:O,EventConfig!A120)","v":6},600201,600202,600203,600204,600205,600206,"","","","","","","","","","","","","",""]
[6003,"600301;600302;600303;600304;600305;600306;600307;600308;600309;600310;600311;600312;600313;600314;600315;102",7,5,1,0,1,null,null,null,25,1,1,null,null,null,{"$f":"IF(R121=\"\",\"\",VLOOKUP(R121,条件类型查询!A:B,2,FALSE))","v":"前置事件"},10,{"$f":"A120","v":6002},null,4155,4156,"守护雀巢","雀灵儿3",{"$f":"COUNTIF(EventLinkConfig!O:O,EventConfig!A121)","v":15},600301,600302,600303,600304,600305,600306,600307,600308,600309,600310,600311,600312,600313,600314,600315,"","","","",""]
[6004,"600401;600402;600403;600404;600405;600406;600407;600408;600409;102",7,5,1,0,1,null,null,null,20,1,1,null,null,null,{"$f":"IF(R122=\"\",\"\",VLOOKUP(R122,条件类型查询!A:B,2,FALSE))","v":"前置事件"},10,6003,null,4157,4158,"小飞试胆","雀灵儿4",{"$f":"COUNTIF(EventLinkConfig!O:O,EventConfig!A122)","v":9},600401,600402,600403,600404,600405,600406,600407,600408,600409,"","","","","","","","","","",""]
[6005,"600501;600502;600503;600504;600505;600506;102",7,5,1,0,1,null,null,null,15,1,1,null,null,null,{"$f":"IF(R123=\"\",\"\",VLOOKUP(R123,条件类型查询!A:B,2,FALSE))","v":"前置事件"},10,6004,null,4159,4160,"风涡营救","雀灵儿5",{"$f":"COUNTIF(EventLinkConfig!O:O,EventConfig!A123)","v":6},600501,600502,600503,600504,600505,600506,"","","","","","","","","","","","","",""]
[6006,"600601;600602;600603;600604;600605;600606;600607;600608;600609;102",7,5,1,0,1,null,null,null,10,1,1,null,null,null,{"$f":"IF(R124=\"\",\"\",VLOOKUP(R124,条件类型查询!A:B,2,FALSE))","v":"前置事件"},10,6005,null,4161,4162,"雀侣同行","雀灵儿6",{"$f":"COUNTIF(EventLinkConfig!O:O,EventConfig!A124)","v":9},600601,600602,600603,600604,600605,600606,600607,600608,600609,"","","","","","","","","","",""]
[]
[6011,{"$f":"IF(A126=\"\",\"\",_xlfn.TEXTJOIN(\";\",1,Z126:AS126,102))","v":"601101;601102;601103;601104;601105;601106;601107;102"},7,5,1,0,1,null,null,null,35,1,1,null,null,null,{"$f":"IF(R126=\"\",\"\",VLOOKUP(R126,条件类型查询!A:B,2,FALSE))","v":"前置事件"},10,6001,null,4165,4171,"绿林试探","云枝1",{"$f":"COUNTIF(EventLinkConfig!O:O,EventConfig!A126)","v":7},{"$f":"IF($Y126>=Z$3,$A126*100+Z$3,\"\")","v":601101},601102,601103,601104,601105,601106,601107,"","","",{"$f":"IF($Y126>=AJ$3,$A126*100+AJ$3,\"\")","v":""},"","","","","","","","",""]
[6012,"601201;601202;601203;601204;601205;601206;601207;601208;102",7,5,1,0,1,null,null,null,30,1,1,null,null,null,{"$f":"IF(R127=\"\",\"\",VLOOKUP(R127,条件类型查询!A:B,2,FALSE))","v":"前置事件"},10,{"$f":"A126","v":6011},null,4166,4172,"风林除妖","云枝2",{"$f":"COUNTIF(EventLinkConfig!O:O,EventConfig!A127)","v":8},601201,601202,601203,601204,601205,601206,601207,601208,"","","","","","","","","","","",""]
[6013,"601301;601302;601303;601304;601305;601306;601307;601308;601309;601310;102",7,5,1,0,1,null,null,null,25,1,1,null,null,null,{"$f":"IF(R128=\"\",\"\",VLOOKUP(R128,条件类型查询!A:B,2,FALSE))","v":"前置事件"},10,{"$f":"A127","v":6012},null,4167,4173,"琴音守护","云枝3",{"$f":"COUNTIF(EventLinkConfig!O:O,EventConfig!A128)","v":10},601301,601302,601303,601304,601305,601306,601307,601308,601309,601310,"","","","","","","","","",""]
[6014,"601401;601402;601403;601404;601405;601406;601407;601408;601409;601410;102",7,5,1,0,1,null,null,null,20,1,1,null,null,null,{"$f":"IF(R129=\"\",\"\",VLOOKUP(R129,条件类型查询!A:B,2,FALSE))","v":"前置事件"},10,6013,null,4168,4174,"往事如风","云枝4",{"$f":"COUNTIF(EventLinkConfig!O:O,EventConfig!A129)","v":10},601401,601402,601403,601404,601405,601406,601407,601408,601409,601410,"","","","","","","","","",""]
[6015,"601501;601502;601503;601504;601505;601506;601507;601508;601509;601510;601511;102",7,5,1,0,1,null,null,null,15,1,1,null,null,null,{"$f":"IF(R130=\"\",\"\",VLOOKUP(R130,条件类型查询!A:B,2,FALSE))","v":"前置事件"},10,6014,null,4169,4175,"大风危机","云枝5",{"$f":"COUNTIF(EventLinkConfig!O:O,EventConfig!A130)","v":11},601501,601502,601503,601504,601505,601506,601507,601508,601509,601510,601511,"","","","","","","","",""]
[6016,"601601;601602;601603;601604;601605;102",7,5,1,0,1,null,null,null,10,1,1,null,null,null,{"$f":"IF(R131=\"\",\"\",VLOOKUP(R131,条件类型查询!A:B,2,FALSE))","v":"前置事件"},10,6015,null,4170,4176,"枝侣同行","云枝6",{"$f":"COUNTIF(EventLinkConfig!O:O,EventConfig!A131)","v":5},601601,601602,601603,601604,601605,"","","","","","","","","","","","","","",""]
[]
[6021,{"$f":"IF(A133=\"\",\"\",_xlfn.TEXTJOIN(\";\",1,Z133:AS133,102))","v":"602101;602102;602103;602104;102"},7,5,1,0,1,null,null,null,35,1,1,null,null,null,{"$f":"IF(R133=\"\",\"\",VLOOKUP(R133,条件类型查询!A:B,2,FALSE))","v":"境界判断"},3,81,null,4179,4185,"1. 浮岛边缘.初遇风瑶","风瑶1",{"$f":"COUNTIF(EventLinkConfig!O:O,EventConfig!A133)","v":4},{"$f":"IF($Y133>=Z$3,$A133*100+Z$3,\"\")","v":602101},602102,602103,602104,"","","","","","",{"$f":"IF($Y133>=AJ$3,$A133*100+AJ$3,\"\")","v":""},"","","","","","","","",""]
[6022,"602201;602202;602203;602204;602205;602206;102",7,5,1,0,1,null,null,null,30,1,1,null,null,null,{"$f":"IF(R134=\"\",\"\",VLOOKUP(R134,条件类型查询!A:B,2,FALSE))","v":"前置事件"},10,{"$f":"A133","v":6021},null,4180,4186,"2. 风灵碎片.岛间搜寻","风瑶2",{"$f":"COUNTIF(EventLinkConfig!O:O,EventConfig!A134)","v":6},602201,602202,602203,602204,602205,602206,"","","","","","","","","","","","","",""]
[6023,"602301;602302;602303;102",7,5,1,0,1,null,null,null,25,1,1,null,null,null,{"$f":"IF(R135=\"\",\"\",VLOOKUP(R135,条件类型查询!A:B,2,FALSE))","v":"前置事件"},10,{"$f":"A134","v":6022},null,4181,4187,"3. 风中疑云.探听消息","风瑶3",{"$f":"COUNTIF(EventLinkConfig!O:O,EventConfig!A135)","v":3},602301,602302,602303,"","","","","","","","","","","","","","","","",""]
[6024,"602401;602402;602403;602404;102",7,5,1,0,1,null,null,null,20,1,1,null,null,null,{"$f":"IF(R136=\"\",\"\",VLOOKUP(R136,条件类型查询!A:B,2,FALSE))","v":"前置事件"},10,6023,null,4182,4188,"4. 隐秘信物.追踪残片","风瑶4",{"$f":"COUNTIF(EventLinkConfig!O:O,EventConfig!A136)","v":4},602401,602402,602403,602404,"","","","","","","","","","","","","","","",""]
[6025,"602501;602502;602503;102",7,5,1,0,1,null,null,null,15,1,1,null,null,null,{"$f":"IF(R137=\"\",\"\",VLOOKUP(R137,条件类型查询!A:B,2,FALSE))","v":"前置事件"},10,6024,null,4183,4189,"5. 风中密信.截获情报","风瑶5",{"$f":"COUNTIF(EventLinkConfig!O:O,EventConfig!A137)","v":3},602501,602502,602503,"","","","","","","","","","","","","","","","",""]
[6026,"602601;602602;602603;602604;602605;602606;602607;102",7,5,1,0,1,null,null,null,10,1,1,null,null,null,{"$f":"IF(R138=\"\",\"\",VLOOKUP(R138,条件类型查询!A:B,2,FALSE))","v":"前置事件"},10,6025,null,4184,4190,"6. 兄妹密谈.初步真相","风瑶6",{"$f":"COUNTIF(EventLinkConfig!O:O,EventConfig!A138)","v":7},602601,602602,602603,602604,602605,602606,602607,"","","","","","","","","","","","",""]
[]
[6031,{"$f":"IF(A140=\"\",\"\",_xlfn.TEXTJOIN(\";\",1,Z140:AS140,102))","v":"603101;603102;603103;603104;603105;603106;603107;603108;102"},7,5,1,0,1,null,null,null,35,1,1,null,null,null,{"$f":"IF(R140=\"\",\"\",VLOOKUP(R140,条件类型查询!A:B,2,FALSE))","v":"境界判断"},3,101,null,4201,4207,"1. 山溪小屋.初遇婉溪","婉溪1",{"$f":"COUNTIF(EventLinkConfig!O:O,EventConfig!A140)","v":8},{"$f":"IF($Y140>=Z$3,$A140*100+Z$3,\"\")","v":603101},603102,603103,603104,603105,603106,603107,603108,"","",{"$f":"IF($Y140>=AJ$3,$A140*100+AJ$3,\"\")","v":""},"","","","","","","","",""]
[6032,"603201;603202;603203;603204;102",7,5,1,0,1,null,null,null,30,1,1,null,null,null,{"$f":"IF(R141=\"\",\"\",VLOOKUP(R141,条件类型查询!A:B,2,FALSE))","v":"前置事件"},10,{"$f":"A140","v":6031},null,4202,4208,"2. 溪边劳作.浇灌灵田","婉溪2",{"$f":"COUNTIF(EventLinkConfig!O:O,EventConfig!A141)","v":4},603201,603202,603203,603204,"","","","","","","","","","","","","","","",""]
[6033,"603301;603302;603303;603304;603305;102",7,5,1,0,1,null,null,null,25,1,1,null,null,null,{"$f":"IF(R142=\"\",\"\",VLOOKUP(R142,条件类型查询!A:B,2,FALSE))","v":"前置事件"},10,{"$f":"A141","v":6032},null,4203,4209,"3. 清茶闲话.品茗论道","婉溪3",{"$f":"COUNTIF(EventLinkConfig!O:O,EventConfig!A142)","v":5},603301,603302,603303,603304,603305,"","","","","","","","","","","","","","",""]
[6034,"603401;603402;603403;102",7,5,1,0,1,null,null,null,20,1,1,null,null,null,{"$f":"IF(R143=\"\",\"\",VLOOKUP(R143,条件类型查询!A:B,2,FALSE))","v":"前置事件"},10,6033,null,4204,4210,"4. 玉佩稳灵.收集信物","婉溪4",{"$f":"COUNTIF(EventLinkConfig!O:O,EventConfig!A143)","v":3},603401,603402,603403,"","","","","","","","","","","","","","","","",""]
[6035,"603501;603502;603503;102",7,5,1,0,1,null,null,null,15,1,1,null,null,null,{"$f":"IF(R144=\"\",\"\",VLOOKUP(R144,条件类型查询!A:B,2,FALSE))","v":"前置事件"},10,6034,null,4205,4211,"5. 溪水异动.驱散干扰","婉溪5",{"$f":"COUNTIF(EventLinkConfig!O:O,EventConfig!A144)","v":3},603501,603502,603503,"","","","","","","","","","","","","","","","",""]
[6036,"603601;603602;603603;603604;603605;603606;102",7,5,1,0,1,null,null,null,10,1,1,null,null,null,{"$f":"IF(R145=\"\",\"\",VLOOKUP(R145,条件类型查询!A:B,2,FALSE))","v":"前置事件"},10,6035,null,4206,4212,"6. 兄妹心语.隐秘初现","婉溪6",{"$f":"COUNTIF(EventLinkConfig!O:O,EventConfig!A145)","v":6},603601,603602,603603,603604,603605,603606,"","","","","","","","","","","","","",""]
[]
[6041,{"$f":"IF(A147=\"\",\"\",_xlfn.TEXTJOIN(\";\",1,Z147:AS147,102))","v":"604101;604102;604103;604104;102"},7,5,1,0,1,null,null,null,35,1,1,null,null,null,{"$f":"IF(R147=\"\",\"\",VLOOKUP(R147,条件类型查询!A:B,2,FALSE))","v":"境界判断"},3,121,null,4215,4221,"1. 山林重逢.隐士闲谈","许由1",{"$f":"COUNTIF(EventLinkConfig!O:O,EventConfig!A147)","v":4},{"$f":"IF($Y147>=Z$3,$A147*100+Z$3,\"\")","v":604101},604102,604103,604104,"","","","","","",{"$f":"IF($Y147>=AJ$3,$A147*100+AJ$3,\"\")","v":""},"","","","","","","","",""]
[6042,"604201;604202;604203;604204;102",7,5,1,0,1,null,null,null,30,1,1,null,null,null,{"$f":"IF(R148=\"\",\"\",VLOOKUP(R148,条件类型查询!A:B,2,FALSE))","v":"前置事件"},10,{"$f":"A147","v":6041},null,4216,4222,"2. 山野采草.炼丹初助","许由2",{"$f":"COUNTIF(EventLinkConfig!O:O,EventConfig!A148)","v":4},604201,604202,604203,604204,"","","","","","","","","","","","","","","",""]
[6043,"604301;604302;604303;102",7,5,1,0,1,null,null,null,25,1,1,null,null,null,{"$f":"IF(R149=\"\",\"\",VLOOKUP(R149,条件类型查询!A:B,2,FALSE))","v":"前置事件"},10,{"$f":"A148","v":6042},null,4217,4223,"3. 丹炉论道.火候之悟","许由3",{"$f":"COUNTIF(EventLinkConfig!O:O,EventConfig!A149)","v":3},604301,604302,604303,"","","","","","","","","","","","","","","","",""]
[6044,"604401;604402;604403;604404;102",7,5,1,0,1,null,null,null,20,1,1,null,null,null,{"$f":"IF(R150=\"\",\"\",VLOOKUP(R150,条件类型查询!A:B,2,FALSE))","v":"前置事件"},10,6043,null,4218,4224,"4. 玉佩镇丹.稳气寻材","许由4",{"$f":"COUNTIF(EventLinkConfig!O:O,EventConfig!A150)","v":4},604401,604402,604403,604404,"","","","","","","","","","","","","","","",""]
[6045,"604501;604502;604503;604504;102",7,5,1,0,1,null,null,null,15,1,1,null,null,null,{"$f":"IF(R151=\"\",\"\",VLOOKUP(R151,条件类型查询!A:B,2,FALSE))","v":"前置事件"},10,6044,null,4219,4225,"5. 茶丹相融.品味山林","许由5",{"$f":"COUNTIF(EventLinkConfig!O:O,EventConfig!A151)","v":4},604501,604502,604503,604504,"","","","","","","","","","","","","","","",""]
[6046,"604601;604602;102",7,5,1,0,1,null,null,null,10,1,1,null,null,null,{"$f":"IF(R152=\"\",\"\",VLOOKUP(R152,条件类型查询!A:B,2,FALSE))","v":"前置事件"},10,6045,null,4220,4226,"6. 隐士心语.道在山林","许由6",{"$f":"COUNTIF(EventLinkConfig!O:O,EventConfig!A152)","v":2},604601,604602,"","","","","","","","","","","","","","","","","",""]
[]
[6051,{"$f":"IF(A154=\"\",\"\",_xlfn.TEXTJOIN(\";\",1,Z154:AS154,102))","v":"605101;605102;605103;605104;102"},7,5,1,0,1,null,null,null,35,1,1,null,null,null,{"$f":"IF(R154=\"\",\"\",VLOOKUP(R154,条件类型查询!A:B,2,FALSE))","v":"境界判断"},3,141,null,4231,4237,"1. 随风偶遇.风中疑问","疯道人1",{"$f":"COUNTIF(EventLinkConfig!O:O,EventConfig!A154)","v":4},{"$f":"IF($Y154>=Z$3,$A154*100+Z$3,\"\")","v":605101},605102,605103,605104,"","","","","","",{"$f":"IF($Y154>=AJ$3,$A154*100+AJ$3,\"\")","v":""},"","","","","","","","",""]
[6052,"605201;605202;605203;605204;102",7,5,1,0,1,null,null,null,30,1,1,null,null,null,{"$f":"IF(R155=\"\",\"\",VLOOKUP(R155,条件类型查询!A:B,2,FALSE))","v":"前置事件"},10,{"$f":"A154","v":6051},null,4232,4238,"2. 途中解乏","疯道人2",{"$f":"COUNTIF(EventLinkConfig!O:O,EventConfig!A155)","v":4},605201,605202,605203,605204,"","","","","","","","","","","","","","","",""]
[6053,"605301;605302;605303;605304;102",7,5,1,0,1,null,null,null,25,1,1,null,null,null,{"$f":"IF(R156=\"\",\"\",VLOOKUP(R156,条件类型查询!A:B,2,FALSE))","v":"前置事件"},10,{"$f":"A155","v":6052},null,4233,4239,"3.  游乐论道.评判之辨","疯道人3",{"$f":"COUNTIF(EventLinkConfig!O:O,EventConfig!A156)","v":4},605301,605302,605303,605304,"","","","","","","","","","","","","","","",""]
[6054,"605401;605402;605403;605404;102",7,5,1,0,1,null,null,null,20,1,1,null,null,null,{"$f":"IF(R157=\"\",\"\",VLOOKUP(R157,条件类型查询!A:B,2,FALSE))","v":"前置事件"},10,6053,null,4234,4240,"4. 灵石稳身.自在寻味","疯道人4",{"$f":"COUNTIF(EventLinkConfig!O:O,EventConfig!A157)","v":4},605401,605402,605403,605404,"","","","","","","","","","","","","","","",""]
[6055,"605501;605502;605503;605504;605505;605506;102",7,5,1,0,1,null,null,null,15,1,1,null,null,null,{"$f":"IF(R158=\"\",\"\",VLOOKUP(R158,条件类型查询!A:B,2,FALSE))","v":"前置事件"},10,6054,null,4235,4241,"5. 沉迷赌博.有借无还","疯道人5",{"$f":"COUNTIF(EventLinkConfig!O:O,EventConfig!A158)","v":6},605501,605502,605503,605504,605505,605506,"","","","","","","","","","","","","",""]
[]
[9111,{"$f":"IF(Y160>0,_xlfn.TEXTJOIN(\";\",1,ROW(INDIRECT(CONCATENATE(\"\",A160*100+1,\":\",A160*100+Y160,\"\"))),102),\"\")","v":"911101;911102;911103;911104;911105;911106;911107;911108;911109;911110;911111;911112;911113;911114;911115;911116;102"},6,2,1,0,3,null,{"$f":"_xlfn.TEXTJOIN(\";\",1,AT160,AV160)","v":""},{"$f":"_xlfn.TEXTJOIN(\";\",1,AU160,AW160)","v":""},30,1,1,1,{"$f":"CONCATENATE(VLOOKUP(M160,[2]PlacesConfig!$A:$C,3,FALSE),IF(N160=\"\",\"\",\" - \"&VLOOKUP(N160,[2]SmallPlacesConfig!$A:$G,7,FALSE)))","v":"北海 - 海边"},null,{"$f":"IF(R160=\"\",\"\",VLOOKUP(R160,条件类型查询!A:B,2,FALSE))","v":""},null,null,1,4244,null,"渔民的帮助","海岸异象",{"$f":"COUNTIF(EventLinkConfig!O:O,EventConfig!A160)","v":16}]
[{"$f":"A160+1","v":9112},{"$f":"IF(Y161>0,_xlfn.TEXTJOIN(\";\",1,ROW(INDIRECT(CONCATENATE(\"\",A161*100+1,\":\",A161*100+Y161,\"\"))),102),\"\")","v":"911201;911202;911203;911204;911205;911206;911207;102"},6,2,1,0,3,null,{"$f":"_xlfn.TEXTJOIN(\";\",1,AT161,AV161)","v":""},{"$f":"_xlfn.TEXTJOIN(\";\",1,AU161,AW161)","v":""},30,1,1,1,{"$f":"CONCATENATE(VLOOKUP(M161,[2]PlacesConfig!$A:$C,3,FALSE),IF(N161=\"\",\"\",\" - \"&VLOOKUP(N161,[2]SmallPlacesConfig!$A:$G,7,FALSE)))","v":"北海 - 海边"},null,{"$f":"IF(R161=\"\",\"\",VLOOKUP(R161,条件类型查询!A:B,2,FALSE))","v":"前置事件"},10,{"$f":"A160","v":9111},1,4245,null,"妖物调查","海岸异象",{"$f":"COUNTIF(EventLinkConfig!O:O,EventConfig!A161)","v":7}]
[9113,{"$f":"IF(Y162>0,_xlfn.TEXTJOIN(\";\",1,ROW(INDIRECT(CONCATENATE(\"\",A162*100+1,\":\",A162*100+Y162,\"\"))),102),\"\")","v":"911301;911302;911303;911304;911305;102"},6,2,1,0,3,null,"","",30,1,1,1,{"$f":"CONCATENATE(VLOOKUP(M162,[2]PlacesConfig!$A:$C,3,FALSE),IF(N162=\"\",\"\",\" - \"&VLOOKUP(N162,[2]SmallPlacesConfig!$A:$G,7,FALSE)))","v":"北海 - 海边"},null,{"$f":"IF(R162=\"\",\"\",VLOOKUP(R162,条件类型查询!A:B,2,FALSE))","v":"前置事件"},10,{"$f":"A161","v":9112},1,4246,null,"渔民汇报消息","海岸异象",{"$f":"COUNTIF(EventLinkConfig!O:O,EventConfig!A162)","v":5}]
[9114,{"$f":"IF(Y163>0,_xlfn.TEXTJOIN(\";\",1,ROW(INDIRECT(CONCATENATE(\"\",A163*100+1,\":\",A163*100+Y163,\"\"))),102),\"\")","v":"911401;911402;911403;911404;911405;911406;911407;911408;102"},6,2,1,0,3,null,"","",30,1,1,1,{"$f":"CONCATENATE(VLOOKUP(M163,[2]PlacesConfig!$A:$C,3,FALSE),IF(N163=\"\",\"\",\" - \"&VLOOKUP(N163,[2]SmallPlacesConfig!$A:$G,7,FALSE)))","v":"北海 - 海边"},null,{"$f":"IF(R163=\"\",\"\",VLOOKUP(R163,条件类型查询!A:B,2,FALSE))","v":"前置事件"},10,{"$f":"A162","v":9113},1,4247,null,"初遇幽魂","幽魂",{"$f":"COUNTIF(EventLinkConfig!O:O,EventConfig!A163)","v":8}]
[9115,{"$f":"IF(Y164>0,_xlfn.TEXTJOIN(\";\",1,ROW(INDIRECT(CONCATENATE(\"\",A164*100+1,\":\",A164*100+Y164,\"\"))),102),\"\")","v":"911501;911502;102"},6,2,1,0,3,null,"","",30,1,1,1,{"$f":"CONCATENATE(VLOOKUP(M164,[2]PlacesConfig!$A:$C,3,FALSE),IF(N164=\"\",\"\",\" - \"&VLOOKUP(N164,[2]SmallPlacesConfig!$A:$G,7,FALSE)))","v":"北海 - 海边"},null,{"$f":"IF(R164=\"\",\"\",VLOOKUP(R164,条件类型查询!A:B,2,FALSE))","v":"前置事件"},10,{"$f":"A163","v":9114},3,4248,null,"幽魂石守护兽","幽魂",{"$f":"COUNTIF(EventLinkConfig!O:O,EventConfig!A164)","v":2}]
[9116,{"$f":"IF(Y165>0,_xlfn.TEXTJOIN(\";\",1,ROW(INDIRECT(CONCATENATE(\"\",A165*100+1,\":\",A165*100+Y165,\"\"))),102),\"\")","v":"911601;911602;911603;911604;911605;911606;911607;911608;911609;911610;911611;911612;911613;911614;911615;911616;911617;911618;911619;911620;102"},6,2,1,0,3,null,"","",30,1,1,1,{"$f":"CONCATENATE(VLOOKUP(M165,[2]PlacesConfig!$A:$C,3,FALSE),IF(N165=\"\",\"\",\" - \"&VLOOKUP(N165,[2]SmallPlacesConfig!$A:$G,7,FALSE)))","v":"北海 - 海边"},null,{"$f":"IF(R165=\"\",\"\",VLOOKUP(R165,条件类型查询!A:B,2,FALSE))","v":"拥有特定道具"},1,20013,3,4249,null,"带回幽魂石","幽魂",{"$f":"COUNTIF(EventLinkConfig!O:O,EventConfig!A165)","v":20}]
[9117,{"$f":"IF(Y166>0,_xlfn.TEXTJOIN(\";\",1,ROW(INDIRECT(CONCATENATE(\"\",A166*100+1,\":\",A166*100+Y166,\"\"))),102),\"\")","v":"911701;911702;911703;911704;911705;911706;911707;911708;911709;911710;911711;102"},6,2,1,0,3,null,"","",30,1,1,2,{"$f":"CONCATENATE(VLOOKUP(M166,[2]PlacesConfig!$A:$C,3,FALSE),IF(N166=\"\",\"\",\" - \"&VLOOKUP(N166,[2]SmallPlacesConfig!$A:$G,7,FALSE)))","v":"北海 - 秘境"},null,{"$f":"IF(R166=\"\",\"\",VLOOKUP(R166,条件类型查询!A:B,2,FALSE))","v":""},null,null,3,4250,null,"初遇馨儿","馨儿",{"$f":"COUNTIF(EventLinkConfig!O:O,EventConfig!A166)","v":11}]
[9118,{"$f":"IF(Y167>0,_xlfn.TEXTJOIN(\";\",1,ROW(INDIRECT(CONCATENATE(\"\",A167*100+1,\":\",A167*100+Y167,\"\"))),102),\"\")","v":"911801;911802;911803;911804;911805;911806;911807;911808;102"},6,2,1,0,3,null,"","",30,1,1,2,{"$f":"CONCATENATE(VLOOKUP(M167,[2]PlacesConfig!$A:$C,3,FALSE),IF(N167=\"\",\"\",\" - \"&VLOOKUP(N167,[2]SmallPlacesConfig!$A:$G,7,FALSE)))","v":"北海 - 秘境"},null,{"$f":"IF(R167=\"\",\"\",VLOOKUP(R167,条件类型查询!A:B,2,FALSE))","v":"前置事件"},10,{"$f":"A166","v":9117},3,4251,null,"迷雾妖怪","馨儿",{"$f":"COUNTIF(EventLinkConfig!O:O,EventConfig!A167)","v":8}]
[9119,{"$f":"IF(Y168>0,_xlfn.TEXTJOIN(\";\",1,ROW(INDIRECT(CONCATENATE(\"\",A168*100+1,\":\",A168*100+Y168,\"\"))),102),\"\")","v":"911901;911902;911903;911904;911905;911906;911907;911908;911909;911910;911911;911912;911913;102"},6,2,1,0,3,null,"","",30,1,1,2,{"$f":"CONCATENATE(VLOOKUP(M168,[2]PlacesConfig!$A:$C,3,FALSE),IF(N168=\"\",\"\",\" - \"&VLOOKUP(N168,[2]SmallPlacesConfig!$A:$G,7,FALSE)))","v":"北海 - 秘境"},null,{"$f":"IF(R168=\"\",\"\",VLOOKUP(R168,条件类型查询!A:B,2,FALSE))","v":"前置事件"},10,{"$f":"A167","v":9118},3,4252,null,"发现信使","馨儿",{"$f":"COUNTIF(EventLinkConfig!O:O,EventConfig!A168)","v":13}]
[9120,{"$f":"IF(Y169>0,_xlfn.TEXTJOIN(\";\",1,ROW(INDIRECT(CONCATENATE(\"\",A169*100+1,\":\",A169*100+Y169,\"\"))),102),\"\")","v":"912001;912002;912003;912004;912005;912006;912007;912008;102"},6,2,1,0,3,null,"","",30,1,1,3,{"$f":"CONCATENATE(VLOOKUP(M169,[2]PlacesConfig!$A:$C,3,FALSE),IF(N169=\"\",\"\",\" - \"&VLOOKUP(N169,[2]SmallPlacesConfig!$A:$G,7,FALSE)))","v":"北海 - 浮岛"},null,{"$f":"IF(R169=\"\",\"\",VLOOKUP(R169,条件类型查询!A:B,2,FALSE))","v":"前置事件"},10,{"$f":"A168","v":9119},3,4253,null,"风灵鸟的宝藏","馨儿",{"$f":"COUNTIF(EventLinkConfig!O:O,EventConfig!A169)","v":8}]
[9121,{"$f":"IF(Y170>0,_xlfn.TEXTJOIN(\";\",1,ROW(INDIRECT(CONCATENATE(\"\",A170*100+1,\":\",A170*100+Y170,\"\"))),102),\"\")","v":"912101;912102;912103;912104;912105;912106;102"},6,2,1,0,3,null,"","",30,1,1,3,{"$f":"CONCATENATE(VLOOKUP(M170,[2]PlacesConfig!$A:$C,3,FALSE),IF(N170=\"\",\"\",\" - \"&VLOOKUP(N170,[2]SmallPlacesConfig!$A:$G,7,FALSE)))","v":"北海 - 浮岛"},null,{"$f":"IF(R170=\"\",\"\",VLOOKUP(R170,条件类型查询!A:B,2,FALSE))","v":"前置事件"},10,{"$f":"A169","v":9120},3,4254,null,"浮岛灵泉的净化","馨儿",{"$f":"COUNTIF(EventLinkConfig!O:O,EventConfig!A170)","v":6}]
[9122,{"$f":"IF(Y171>0,_xlfn.TEXTJOIN(\";\",1,ROW(INDIRECT(CONCATENATE(\"\",A171*100+1,\":\",A171*100+Y171,\"\"))),102),\"\")","v":"912201;912202;912203;912204;912205;912206;912207;912208;912209;912210;912211;912212;912213;912214;912215;102"},6,2,1,0,3,null,"","",30,1,1,3,{"$f":"CONCATENATE(VLOOKUP(M171,[2]PlacesConfig!$A:$C,3,FALSE),IF(N171=\"\",\"\",\" - \"&VLOOKUP(N171,[2]SmallPlacesConfig!$A:$G,7,FALSE)))","v":"北海 - 浮岛"},null,{"$f":"IF(R171=\"\",\"\",VLOOKUP(R171,条件类型查询!A:B,2,FALSE))","v":"前置事件"},10,{"$f":"A170","v":9121},3,4255,null,"浮岛盗修的阴谋","馨儿",{"$f":"COUNTIF(EventLinkConfig!O:O,EventConfig!A171)","v":15}]
[9123,{"$f":"IF(Y172>0,_xlfn.TEXTJOIN(\";\",1,ROW(INDIRECT(CONCATENATE(\"\",A172*100+1,\":\",A172*100+Y172,\"\"))),102),\"\")","v":"912301;912302;912303;912304;912305;912306;912307;912308;912309;912310;912311;912312;912313;912314;912315;912316;912317;912318;912319;912320;912321;912322;912323;912324;912325;912326;912327;912328;912329;102"},6,2,1,0,3,null,"","",30,1,1,4,{"$f":"CONCATENATE(VLOOKUP(M172,[2]PlacesConfig!$A:$C,3,FALSE),IF(N172=\"\",\"\",\" - \"&VLOOKUP(N172,[2]SmallPlacesConfig!$A:$G,7,FALSE)))","v":"北海 - 深处"},null,{"$f":"IF(R172=\"\",\"\",VLOOKUP(R172,条件类型查询!A:B,2,FALSE))","v":""},null,null,3,4256,null,"初遇柳轻烟","柳轻烟",{"$f":"COUNTIF(EventLinkConfig!O:O,EventConfig!A172)","v":29}]
[9124,{"$f":"IF(Y173>0,_xlfn.TEXTJOIN(\";\",1,ROW(INDIRECT(CONCATENATE(\"\",A173*100+1,\":\",A173*100+Y173,\"\"))),102),\"\")","v":"912401;912402;912403;102"},6,2,1,0,3,null,"","",30,1,1,4,{"$f":"CONCATENATE(VLOOKUP(M173,[2]PlacesConfig!$A:$C,3,FALSE),IF(N173=\"\",\"\",\" - \"&VLOOKUP(N173,[2]SmallPlacesConfig!$A:$G,7,FALSE)))","v":"北海 - 深处"},null,{"$f":"IF(R173=\"\",\"\",VLOOKUP(R173,条件类型查询!A:B,2,FALSE))","v":"前置事件"},10,{"$f":"A172","v":9123},3,4257,null,"找到血海宗的人","柳轻烟",{"$f":"COUNTIF(EventLinkConfig!O:O,EventConfig!A173)","v":3}]
[9125,{"$f":"IF(Y174>0,_xlfn.TEXTJOIN(\";\",1,ROW(INDIRECT(CONCATENATE(\"\",A174*100+1,\":\",A174*100+Y174,\"\"))),102),\"\")","v":"912501;912502;912503;102"},6,2,1,0,3,null,"20014","1",30,1,1,4,{"$f":"CONCATENATE(VLOOKUP(M174,[2]PlacesConfig!$A:$C,3,FALSE),IF(N174=\"\",\"\",\" - \"&VLOOKUP(N174,[2]SmallPlacesConfig!$A:$G,7,FALSE)))","v":"北海 - 深处"},null,{"$f":"IF(R174=\"\",\"\",VLOOKUP(R174,条件类型查询!A:B,2,FALSE))","v":"前置事件"},10,{"$f":"A173","v":9124},3,4258,null,"找到血海宗的人2","柳轻烟",{"$f":"COUNTIF(EventLinkConfig!O:O,EventConfig!A174)","v":3},{"$nulls":20},20014,1]
[9126,{"$f":"IF(Y175>0,_xlfn.TEXTJOIN(\";\",1,ROW(INDIRECT(CONCATENATE(\"\",A175*100+1,\":\",A175*100+Y175,\"\"))),102),\"\")","v":"912601;912602;912603;912604;102"},6,2,1,0,3,null,"","",30,1,1,4,{"$f":"CONCATENATE(VLOOKUP(M175,[2]PlacesConfig!$A:$C,3,FALSE),IF(N175=\"\",\"\",\" - \"&VLOOKUP(N175,[2]SmallPlacesConfig!$A:$G,7,FALSE)))","v":"北海 - 深处"},null,{"$f":"IF(R175=\"\",\"\",VLOOKUP(R175,条件类型查询!A:B,2,FALSE))","v":"前置事件"},10,{"$f":"A174","v":9125},3,4259,null,"回到柳轻烟交任务","柳轻烟",{"$f":"COUNTIF(EventLinkConfig!O:O,EventConfig!A175)","v":4}]
[9127,{"$f":"IF(Y176>0,_xlfn.TEXTJOIN(\";\",1,ROW(INDIRECT(CONCATENATE(\"\",A176*100+1,\":\",A176*100+Y176,\"\"))),102),\"\")","v":"912701;912702;912703;912704;912705;912706;912707;912708;912709;102"},6,2,1,0,3,null,"","",30,1,2,5,{"$f":"CONCATENATE(VLOOKUP(M176,[2]PlacesConfig!$A:$C,3,FALSE),IF(N176=\"\",\"\",\" - \"&VLOOKUP(N176,[2]SmallPlacesConfig!$A:$G,7,FALSE)))","v":"尧之都 - 主城"},null,{"$f":"IF(R176=\"\",\"\",VLOOKUP(R176,条件类型查询!A:B,2,FALSE))","v":""},null,null,3,4260,null,"灵花","馨儿",{"$f":"COUNTIF(EventLinkConfig!O:O,EventConfig!A176)","v":9}]
[9128,{"$f":"IF(Y177>0,_xlfn.TEXTJOIN(\";\",1,ROW(INDIRECT(CONCATENATE(\"\",A177*100+1,\":\",A177*100+Y177,\"\"))),102),\"\")","v":"912801;912802;912803;912804;912805;912806;912807;102"},6,2,1,0,3,null,"","",30,1,2,5,{"$f":"CONCATENATE(VLOOKUP(M177,[2]PlacesConfig!$A:$C,3,FALSE),IF(N177=\"\",\"\",\" - \"&VLOOKUP(N177,[2]SmallPlacesConfig!$A:$G,7,FALSE)))","v":"尧之都 - 主城"},null,{"$f":"IF(R177=\"\",\"\",VLOOKUP(R177,条件类型查询!A:B,2,FALSE))","v":"前置事件"},10,{"$f":"A176","v":9127},3,{"$f":"U176+1","v":4261},null,"散修劫掠","馨儿",{"$f":"COUNTIF(EventLinkConfig!O:O,EventConfig!A177)","v":7}]
[9129,{"$f":"IF(Y178>0,_xlfn.TEXTJOIN(\";\",1,ROW(INDIRECT(CONCATENATE(\"\",A178*100+1,\":\",A178*100+Y178,\"\"))),102),\"\")","v":"912901;912902;912903;912904;912905;912906;912907;912908;912909;912910;912911;912912;912913;912914;912915;102"},6,2,1,0,3,null,"","",30,1,2,5,{"$f":"CONCATENATE(VLOOKUP(M178,[2]PlacesConfig!$A:$C,3,FALSE),IF(N178=\"\",\"\",\" - \"&VLOOKUP(N178,[2]SmallPlacesConfig!$A:$G,7,FALSE)))","v":"尧之都 - 主城"},null,{"$f":"IF(R178=\"\",\"\",VLOOKUP(R178,条件类型查询!A:B,2,FALSE))","v":"前置事件"},10,{"$f":"A177","v":9128},3,4262,null,"散修劫掠2","馨儿",{"$f":"COUNTIF(EventLinkConfig!O:O,EventConfig!A178)","v":15}]
[9130,{"$f":"IF(Y179>0,_xlfn.TEXTJOIN(\";\",1,ROW(INDIRECT(CONCATENATE(\"\",A179*100+1,\":\",A179*100+Y179,\"\"))),102),\"\")","v":"913001;913002;913003;913004;913005;913006;913007;102"},6,2,1,0,3,null,"","",30,1,2,5,{"$f":"CONCATENATE(VLOOKUP(M179,[2]PlacesConfig!$A:$C,3,FALSE),IF(N179=\"\",\"\",\" - \"&VLOOKUP(N179,[2]SmallPlacesConfig!$A:$G,7,FALSE)))","v":"尧之都 - 主城"},null,{"$f":"IF(R179=\"\",\"\",VLOOKUP(R179,条件类型查询!A:B,2,FALSE))","v":""},null,null,3,4263,null,"灵宝","楚云缪",{"$f":"COUNTIF(EventLinkConfig!O:O,EventConfig!A179)","v":7}]
[9131,{"$f":"IF(Y180>0,_xlfn.TEXTJOIN(\";\",1,ROW(INDIRECT(CONCATENATE(\"\",A180*100+1,\":\",A180*100+Y180,\"\"))),102),\"\")","v":"913101;913102;913103;913104;102"},6,2,1,0,3,null,"","",30,1,2,5,{"$f":"CONCATENATE(VLOOKUP(M180,[2]PlacesConfig!$A:$C,3,FALSE),IF(N180=\"\",\"\",\" - \"&VLOOKUP(N180,[2]SmallPlacesConfig!$A:$G,7,FALSE)))","v":"尧之都 - 主城"},null,{"$f":"IF(R180=\"\",\"\",VLOOKUP(R180,条件类型查询!A:B,2,FALSE))","v":"前置事件"},10,{"$f":"A179","v":9130},3,4264,null,"追逐抢夺之人","楚云缪",{"$f":"COUNTIF(EventLinkConfig!O:O,EventConfig!A180)","v":4}]
[9132,{"$f":"IF(Y181>0,_xlfn.TEXTJOIN(\";\",1,ROW(INDIRECT(CONCATENATE(\"\",A181*100+1,\":\",A181*100+Y181,\"\"))),102),\"\")","v":"913201;913202;913203;913204;913205;913206;913207;913208;913209;913210;913211;913212;913213;102"},6,2,1,0,3,null,"","",30,1,2,5,{"$f":"CONCATENATE(VLOOKUP(M181,[2]PlacesConfig!$A:$C,3,FALSE),IF(N181=\"\",\"\",\" - \"&VLOOKUP(N181,[2]SmallPlacesConfig!$A:$G,7,FALSE)))","v":"尧之都 - 主城"},null,{"$f":"IF(R181=\"\",\"\",VLOOKUP(R181,条件类型查询!A:B,2,FALSE))","v":"前置事件"},10,{"$f":"A180","v":9131},3,4265,null,"青狼散人","楚云缪",{"$f":"COUNTIF(EventLinkConfig!O:O,EventConfig!A181)","v":13}]
[9133,{"$f":"IF(Y182>0,_xlfn.TEXTJOIN(\";\",1,ROW(INDIRECT(CONCATENATE(\"\",A182*100+1,\":\",A182*100+Y182,\"\"))),102),\"\")","v":"913301;913302;913303;913304;913305;913306;913307;913308;913309;102"},6,2,1,0,3,null,"","",30,1,2,6,{"$f":"CONCATENATE(VLOOKUP(M182,[2]PlacesConfig!$A:$C,3,FALSE),IF(N182=\"\",\"\",\" - \"&VLOOKUP(N182,[2]SmallPlacesConfig!$A:$G,7,FALSE)))","v":"尧之都 - 山林"},null,{"$f":"IF(R182=\"\",\"\",VLOOKUP(R182,条件类型查询!A:B,2,FALSE))","v":""},null,null,3,4266,null,"血海宗的掠夺","血海宗的掠夺",{"$f":"COUNTIF(EventLinkConfig!O:O,EventConfig!A182)","v":9}]
[9134,{"$f":"IF(Y183>0,_xlfn.TEXTJOIN(\";\",1,ROW(INDIRECT(CONCATENATE(\"\",A183*100+1,\":\",A183*100+Y183,\"\"))),102),\"\")","v":"913401;913402;913403;913404;913405;913406;913407;913408;913409;913410;913411;913412;913413;913414;913415;913416;913417;102"},6,2,1,0,3,null,"","",30,1,2,6,{"$f":"CONCATENATE(VLOOKUP(M183,[2]PlacesConfig!$A:$C,3,FALSE),IF(N183=\"\",\"\",\" - \"&VLOOKUP(N183,[2]SmallPlacesConfig!$A:$G,7,FALSE)))","v":"尧之都 - 山林"},null,{"$f":"IF(R183=\"\",\"\",VLOOKUP(R183,条件类型查询!A:B,2,FALSE))","v":"前置事件"},10,{"$f":"A182","v":9133},3,4267,null,"逃离追杀","林风",{"$f":"COUNTIF(EventLinkConfig!O:O,EventConfig!A183)","v":17}]
[9135,{"$f":"IF(Y184>0,_xlfn.TEXTJOIN(\";\",1,ROW(INDIRECT(CONCATENATE(\"\",A184*100+1,\":\",A184*100+Y184,\"\"))),102),\"\")","v":"913501;913502;913503;913504;102"},6,2,1,0,3,null,"","",30,1,2,6,{"$f":"CONCATENATE(VLOOKUP(M184,[2]PlacesConfig!$A:$C,3,FALSE),IF(N184=\"\",\"\",\" - \"&VLOOKUP(N184,[2]SmallPlacesConfig!$A:$G,7,FALSE)))","v":"尧之都 - 山林"},null,{"$f":"IF(R184=\"\",\"\",VLOOKUP(R184,条件类型查询!A:B,2,FALSE))","v":"前置事件"},10,{"$f":"A183","v":9134},3,4268,null,"血海宗弟子","林风",{"$f":"COUNTIF(EventLinkConfig!O:O,EventConfig!A184)","v":4}]
[9136,{"$f":"IF(Y185>0,_xlfn.TEXTJOIN(\";\",1,ROW(INDIRECT(CONCATENATE(\"\",A185*100+1,\":\",A185*100+Y185,\"\"))),102),\"\")","v":"913601;913602;913603;913604;913605;102"},6,2,1,0,3,null,"","",30,1,2,6,{"$f":"CONCATENATE(VLOOKUP(M185,[2]PlacesConfig!$A:$C,3,FALSE),IF(N185=\"\",\"\",\" - \"&VLOOKUP(N185,[2]SmallPlacesConfig!$A:$G,7,FALSE)))","v":"尧之都 - 山林"},null,{"$f":"IF(R185=\"\",\"\",VLOOKUP(R185,条件类型查询!A:B,2,FALSE))","v":"前置事件"},10,{"$f":"A184","v":9135},3,4269,null,"柳清清","林风",{"$f":"COUNTIF(EventLinkConfig!O:O,EventConfig!A185)","v":5}]
[9137,{"$f":"IF(Y186>0,_xlfn.TEXTJOIN(\";\",1,ROW(INDIRECT(CONCATENATE(\"\",A186*100+1,\":\",A186*100+Y186,\"\"))),102),\"\")","v":"913701;913702;913703;913704;913705;913706;913707;102"},6,2,1,0,3,null,"","",30,1,2,6,{"$f":"CONCATENATE(VLOOKUP(M186,[2]PlacesConfig!$A:$C,3,FALSE),IF(N186=\"\",\"\",\" - \"&VLOOKUP(N186,[2]SmallPlacesConfig!$A:$G,7,FALSE)))","v":"尧之都 - 山林"},null,{"$f":"IF(R186=\"\",\"\",VLOOKUP(R186,条件类型查询!A:B,2,FALSE))","v":"前置事件"},10,{"$f":"A185","v":9136},3,4270,null,"玄冥晶再被盗","林风",{"$f":"COUNTIF(EventLinkConfig!O:O,EventConfig!A186)","v":7}]
[9138,{"$f":"IF(Y187>0,_xlfn.TEXTJOIN(\";\",1,ROW(INDIRECT(CONCATENATE(\"\",A187*100+1,\":\",A187*100+Y187,\"\"))),102),\"\")","v":"913801;913802;913803;913804;913805;913806;913807;913808;913809;102"},6,2,1,0,3,null,"","",30,1,2,6,{"$f":"CONCATENATE(VLOOKUP(M187,[2]PlacesConfig!$A:$C,3,FALSE),IF(N187=\"\",\"\",\" - \"&VLOOKUP(N187,[2]SmallPlacesConfig!$A:$G,7,FALSE)))","v":"尧之都 - 山林"},null,{"$f":"IF(R187=\"\",\"\",VLOOKUP(R187,条件类型查询!A:B,2,FALSE))","v":"前置事件"},10,{"$f":"A189","v":9140},3,4271,null,"带回玄冥晶","林风",{"$f":"COUNTIF(EventLinkConfig!O:O,EventConfig!A187)","v":9}]
[9139,{"$f":"IF(Y188>0,_xlfn.TEXTJOIN(\";\",1,ROW(INDIRECT(CONCATENATE(\"\",A188*100+1,\":\",A188*100+Y188,\"\"))),102),\"\")","v":"913901;913902;913903;913904;913905;913906;913907;913908;913909;102"},6,2,1,0,3,null,"","",30,1,2,7,{"$f":"CONCATENATE(VLOOKUP(M188,[2]PlacesConfig!$A:$C,3,FALSE),IF(N188=\"\",\"\",\" - \"&VLOOKUP(N188,[2]SmallPlacesConfig!$A:$G,7,FALSE)))","v":"尧之都 - 郊外"},null,{"$f":"IF(R188=\"\",\"\",VLOOKUP(R188,条件类型查询!A:B,2,FALSE))","v":""},null,null,3,4272,null,"夺晶之战","林风后续",{"$f":"COUNTIF(EventLinkConfig!O:O,EventConfig!A188)","v":9}]
[9140,{"$f":"IF(Y189>0,_xlfn.TEXTJOIN(\";\",1,ROW(INDIRECT(CONCATENATE(\"\",A189*100+1,\":\",A189*100+Y189,\"\"))),102),\"\")","v":"914001;914002;914003;102"},6,2,1,0,3,null,"","",30,1,2,7,{"$f":"CONCATENATE(VLOOKUP(M189,[2]PlacesConfig!$A:$C,3,FALSE),IF(N189=\"\",\"\",\" - \"&VLOOKUP(N189,[2]SmallPlacesConfig!$A:$G,7,FALSE)))","v":"尧之都 - 郊外"},null,{"$f":"IF(R189=\"\",\"\",VLOOKUP(R189,条件类型查询!A:B,2,FALSE))","v":"前置事件"},10,{"$f":"A188","v":9139},3,4273,null,"夺晶之战2-援军","林风后续",{"$f":"COUNTIF(EventLinkConfig!O:O,EventConfig!A189)","v":3}]
[9141,{"$f":"IF(Y190>0,_xlfn.TEXTJOIN(\";\",1,ROW(INDIRECT(CONCATENATE(\"\",A190*100+1,\":\",A190*100+Y190,\"\"))),102),\"\")","v":"914101;914102;914103;914104;914105;914106;914107;914108;102"},6,2,1,0,3,null,"","",30,1,3,8,{"$f":"CONCATENATE(VLOOKUP(M190,[2]PlacesConfig!$A:$C,3,FALSE),IF(N190=\"\",\"\",\" - \"&VLOOKUP(N190,[2]SmallPlacesConfig!$A:$G,7,FALSE)))","v":"藐姑射山 - 山脚"},null,{"$f":"IF(R190=\"\",\"\",VLOOKUP(R190,条件类型查询!A:B,2,FALSE))","v":""},null,null,3,4274,null,"灵泉","玄水真人",{"$f":"COUNTIF(EventLinkConfig!O:O,EventConfig!A190)","v":8}]
[9142,{"$f":"IF(Y191>0,_xlfn.TEXTJOIN(\";\",1,ROW(INDIRECT(CONCATENATE(\"\",A191*100+1,\":\",A191*100+Y191,\"\"))),102),\"\")","v":"914201;914202;914203;914204;914205;914206;102"},6,2,1,0,3,null,"","",30,1,3,8,{"$f":"CONCATENATE(VLOOKUP(M191,[2]PlacesConfig!$A:$C,3,FALSE),IF(N191=\"\",\"\",\" - \"&VLOOKUP(N191,[2]SmallPlacesConfig!$A:$G,7,FALSE)))","v":"藐姑射山 - 山脚"},null,{"$f":"IF(R191=\"\",\"\",VLOOKUP(R191,条件类型查询!A:B,2,FALSE))","v":"前置事件"},10,30023,3,4277,null,"灵泉异动平息","玄水真人",{"$f":"COUNTIF(EventLinkConfig!O:O,EventConfig!A191)","v":6}]
[9143,{"$f":"IF(Y192>0,_xlfn.TEXTJOIN(\";\",1,ROW(INDIRECT(CONCATENATE(\"\",A192*100+1,\":\",A192*100+Y192,\"\"))),102),\"\")","v":"914301;914302;914303;914304;914305;914306;914307;914308;914309;914310;914311;914312;914313;102"},6,2,1,0,3,null,"","",30,1,3,9,{"$f":"CONCATENATE(VLOOKUP(M192,[2]PlacesConfig!$A:$C,3,FALSE),IF(N192=\"\",\"\",\" - \"&VLOOKUP(N192,[2]SmallPlacesConfig!$A:$G,7,FALSE)))","v":"藐姑射山 - 山径"},null,{"$f":"IF(R192=\"\",\"\",VLOOKUP(R192,条件类型查询!A:B,2,FALSE))","v":""},null,null,3,{"$f":"U191+1","v":4278},null,"在遇馨儿","馨儿",{"$f":"COUNTIF(EventLinkConfig!O:O,EventConfig!A192)","v":13}]
[9144,{"$f":"IF(Y193>0,_xlfn.TEXTJOIN(\";\",1,ROW(INDIRECT(CONCATENATE(\"\",A193*100+1,\":\",A193*100+Y193,\"\"))),102),\"\")","v":"914401;914402;914403;102"},6,2,1,0,3,null,"","",30,1,3,9,{"$f":"CONCATENATE(VLOOKUP(M193,[2]PlacesConfig!$A:$C,3,FALSE),IF(N193=\"\",\"\",\" - \"&VLOOKUP(N193,[2]SmallPlacesConfig!$A:$G,7,FALSE)))","v":"藐姑射山 - 山径"},null,{"$f":"IF(R193=\"\",\"\",VLOOKUP(R193,条件类型查询!A:B,2,FALSE))","v":"前置事件"},10,30024,3,4279,null,"清理山间的妖物","馨儿",{"$f":"COUNTIF(EventLinkConfig!O:O,EventConfig!A193)","v":3}]
[9145,{"$f":"IF(Y194>0,_xlfn.TEXTJOIN(\";\",1,ROW(INDIRECT(CONCATENATE(\"\",A194*100+1,\":\",A194*100+Y194,\"\"))),102),\"\")","v":"914501;914502;914503;914504;914505;914506;914507;914508;914509;914510;914511;914512;914513;102"},6,2,1,0,3,null,"","",30,1,3,10,{"$f":"CONCATENATE(VLOOKUP(M194,[2]PlacesConfig!$A:$C,3,FALSE),IF(N194=\"\",\"\",\" - \"&VLOOKUP(N194,[2]SmallPlacesConfig!$A:$G,7,FALSE)))","v":"藐姑射山 - 山顶"},null,{"$f":"IF(R194=\"\",\"\",VLOOKUP(R194,条件类型查询!A:B,2,FALSE))","v":"前置事件"},10,{"$f":"A193","v":9144},3,4280,null,"仙山异样的秘密","仙山异样",{"$f":"COUNTIF(EventLinkConfig!O:O,EventConfig!A194)","v":13}]
[9146,{"$f":"IF(Y195>0,_xlfn.TEXTJOIN(\";\",1,ROW(INDIRECT(CONCATENATE(\"\",A195*100+1,\":\",A195*100+Y195,\"\"))),102),\"\")","v":"914601;914602;914603;914604;914605;914606;914607;914608;914609;914610;914611;102"},6,2,1,0,3,null,"","",30,1,3,10,{"$f":"CONCATENATE(VLOOKUP(M195,[2]PlacesConfig!$A:$C,3,FALSE),IF(N195=\"\",\"\",\" - \"&VLOOKUP(N195,[2]SmallPlacesConfig!$A:$G,7,FALSE)))","v":"藐姑射山 - 山顶"},null,{"$f":"IF(R195=\"\",\"\",VLOOKUP(R195,条件类型查询!A:B,2,FALSE))","v":"前置事件"},10,9145,3,4281,null,"圣地门前","仙山异样",{"$f":"COUNTIF(EventLinkConfig!O:O,EventConfig!A195)","v":11}]
[9147,{"$f":"IF(Y196>0,_xlfn.TEXTJOIN(\";\",1,ROW(INDIRECT(CONCATENATE(\"\",A196*100+1,\":\",A196*100+Y196,\"\"))),102),\"\")","v":"914701;914702;914703;914704;102"},6,2,1,0,3,null,"","",30,1,1,1,{"$f":"CONCATENATE(VLOOKUP(M196,[2]PlacesConfig!$A:$C,3,FALSE),IF(N196=\"\",\"\",\" - \"&VLOOKUP(N196,[2]SmallPlacesConfig!$A:$G,7,FALSE)))","v":"北海 - 海边"},null,{"$f":"IF(R196=\"\",\"\",VLOOKUP(R196,条件类型查询!A:B,2,FALSE))","v":"前置事件"},10,9111,3,4282,null,"发光的鱼","鱼1",{"$f":"COUNTIF(EventLinkConfig!O:O,EventConfig!A196)","v":4}]
[9148,{"$f":"IF(Y197>0,_xlfn.TEXTJOIN(\";\",1,ROW(INDIRECT(CONCATENATE(\"\",A197*100+1,\":\",A197*100+Y197,\"\"))),102),\"\")","v":"914801;914802;914803;914804;102"},6,2,1,0,3,null,"","",30,1,1,1,{"$f":"CONCATENATE(VLOOKUP(M197,[2]PlacesConfig!$A:$C,3,FALSE),IF(N197=\"\",\"\",\" - \"&VLOOKUP(N197,[2]SmallPlacesConfig!$A:$G,7,FALSE)))","v":"北海 - 海边"},null,{"$f":"IF(R197=\"\",\"\",VLOOKUP(R197,条件类型查询!A:B,2,FALSE))","v":"前置事件"},10,{"$f":"A196","v":9147},3,4283,null,"发光的鱼2","鱼2",{"$f":"COUNTIF(EventLinkConfig!O:O,EventConfig!A197)","v":4}]
[9149,{"$f":"IF(Y198>0,_xlfn.TEXTJOIN(\";\",1,ROW(INDIRECT(CONCATENATE(\"\",A198*100+1,\":\",A198*100+Y198,\"\"))),102),\"\")","v":"914901;914902;914903;914904;914905;102"},6,2,1,0,3,null,"","",30,1,1,1,{"$f":"CONCATENATE(VLOOKUP(M198,[2]PlacesConfig!$A:$C,3,FALSE),IF(N198=\"\",\"\",\" - \"&VLOOKUP(N198,[2]SmallPlacesConfig!$A:$G,7,FALSE)))","v":"北海 - 海边"},null,{"$f":"IF(R198=\"\",\"\",VLOOKUP(R198,条件类型查询!A:B,2,FALSE))","v":"前置事件"},10,{"$f":"A197","v":9148},3,4284,null,"发光的鱼3","鱼3",{"$f":"COUNTIF(EventLinkConfig!O:O,EventConfig!A198)","v":5}]
[9150,{"$f":"IF(Y199>0,_xlfn.TEXTJOIN(\";\",1,ROW(INDIRECT(CONCATENATE(\"\",A199*100+1,\":\",A199*100+Y199,\"\"))),102),\"\")","v":"915001;915002;915003;915004;915005;102"},6,2,1,0,3,null,"","",30,1,3,10,{"$f":"CONCATENATE(VLOOKUP(M199,[2]PlacesConfig!$A:$C,3,FALSE),IF(N199=\"\",\"\",\" - \"&VLOOKUP(N199,[2]SmallPlacesConfig!$A:$G,7,FALSE)))","v":"藐姑射山 - 山顶"},null,{"$f":"IF(R199=\"\",\"\",VLOOKUP(R199,条件类型查询!A:B,2,FALSE))","v":"前置事件"},10,9149,3,4285,null,"自称剑仙的石头","剑仙",{"$f":"COUNTIF(EventLinkConfig!O:O,EventConfig!A199)","v":5}]
[9151,{"$f":"IF(Y200>0,_xlfn.TEXTJOIN(\";\",1,ROW(INDIRECT(CONCATENATE(\"\",A200*100+1,\":\",A200*100+Y200,\"\"))),102),\"\")","v":"915101;915102;915103;915104;915105;915106;915107;915108;102"},6,2,1,0,3,null,"","",30,1,3,10,{"$f":"CONCATENATE(VLOOKUP(M200,[2]PlacesConfig!$A:$C,3,FALSE),IF(N200=\"\",\"\",\" - \"&VLOOKUP(N200,[2]SmallPlacesConfig!$A:$G,7,FALSE)))","v":"藐姑射山 - 山顶"},null,{"$f":"IF(R200=\"\",\"\",VLOOKUP(R200,条件类型查询!A:B,2,FALSE))","v":"前置事件"},10,9149,3,4286,null,"石精的赌局","石精",{"$f":"COUNTIF(EventLinkConfig!O:O,EventConfig!A200)","v":8}]
[9152,{"$f":"IF(Y201>0,_xlfn.TEXTJOIN(\";\",1,ROW(INDIRECT(CONCATENATE(\"\",A201*100+1,\":\",A201*100+Y201,\"\"))),102),\"\")","v":"915201;915202;915203;915204;915205;915206;915207;915208;102"},6,2,1,0,3,null,"","",30,1,3,10,{"$f":"CONCATENATE(VLOOKUP(M201,[2]PlacesConfig!$A:$C,3,FALSE),IF(N201=\"\",\"\",\" - \"&VLOOKUP(N201,[2]SmallPlacesConfig!$A:$G,7,FALSE)))","v":"藐姑射山 - 山顶"},null,{"$f":"IF(R201=\"\",\"\",VLOOKUP(R201,条件类型查询!A:B,2,FALSE))","v":"前置事件"},10,9149,3,4287,null,"石头精的不服","石精2",{"$f":"COUNTIF(EventLinkConfig!O:O,EventConfig!A201)","v":8}]
[9153,{"$f":"IF(Y202>0,_xlfn.TEXTJOIN(\";\",1,ROW(INDIRECT(CONCATENATE(\"\",A202*100+1,\":\",A202*100+Y202,\"\"))),102),\"\")","v":"915301;915302;915303;915304;915305;915306;915307;915308;915309;915310;102"},6,2,1,0,3,null,"","",30,1,3,10,{"$f":"CONCATENATE(VLOOKUP(M202,[2]PlacesConfig!$A:$C,3,FALSE),IF(N202=\"\",\"\",\" - \"&VLOOKUP(N202,[2]SmallPlacesConfig!$A:$G,7,FALSE)))","v":"藐姑射山 - 山顶"},null,{"$f":"IF(R202=\"\",\"\",VLOOKUP(R202,条件类型查询!A:B,2,FALSE))","v":"前置事件"},10,9149,3,4288,null,"石头精的作弊","石精3",{"$f":"COUNTIF(EventLinkConfig!O:O,EventConfig!A202)","v":10}]
[9154,{"$f":"IF(Y203>0,_xlfn.TEXTJOIN(\";\",1,ROW(INDIRECT(CONCATENATE(\"\",A203*100+1,\":\",A203*100+Y203,\"\"))),102),\"\")","v":"915401;915402;915403;915404;915405;915406;915407;102"},6,2,1,0,3,null,"","",30,1,3,10,{"$f":"CONCATENATE(VLOOKUP(M203,[2]PlacesConfig!$A:$C,3,FALSE),IF(N203=\"\",\"\",\" - \"&VLOOKUP(N203,[2]SmallPlacesConfig!$A:$G,7,FALSE)))","v":"藐姑射山 - 山顶"},null,{"$f":"IF(R203=\"\",\"\",VLOOKUP(R203,条件类型查询!A:B,2,FALSE))","v":"前置事件"},10,9149,3,4289,null,"石头精","石精4",{"$f":"COUNTIF(EventLinkConfig!O:O,EventConfig!A203)","v":7}]
[9155,{"$f":"IF(Y204>0,_xlfn.TEXTJOIN(\";\",1,ROW(INDIRECT(CONCATENATE(\"\",A204*100+1,\":\",A204*100+Y204,\"\"))),102),\"\")","v":"915501;915502;915503;915504;915505;102"},6,2,1,0,3,null,"","",30,1,3,10,{"$f":"CONCATENATE(VLOOKUP(M204,[2]PlacesConfig!$A:$C,3,FALSE),IF(N204=\"\",\"\",\" - \"&VLOOKUP(N204,[2]SmallPlacesConfig!$A:$G,7,FALSE)))","v":"藐姑射山 - 山顶"},null,{"$f":"IF(R204=\"\",\"\",VLOOKUP(R204,条件类型查询!A:B,2,FALSE))","v":"前置事件"},10,9149,3,4290,null,"胆小的雷霆兽","雷霆兽",{"$f":"COUNTIF(EventLinkConfig!O:O,EventConfig!A204)","v":5}]
[9156,{"$f":"IF(Y205>0,_xlfn.TEXTJOIN(\";\",1,ROW(INDIRECT(CONCATENATE(\"\",A205*100+1,\":\",A205*100+Y205,\"\"))),102),\"\")","v":"915601;915602;915603;915604;915605;915606;915607;102"},6,2,1,0,3,null,"","",30,1,3,10,{"$f":"CONCATENATE(VLOOKUP(M205,[2]PlacesConfig!$A:$C,3,FALSE),IF(N205=\"\",\"\",\" - \"&VLOOKUP(N205,[2]SmallPlacesConfig!$A:$G,7,FALSE)))","v":"藐姑射山 - 山顶"},null,{"$f":"IF(R205=\"\",\"\",VLOOKUP(R205,条件类型查询!A:B,2,FALSE))","v":"前置事件"},10,9149,3,4291,null,"自称神兽的蚊子","蚊子",{"$f":"COUNTIF(EventLinkConfig!O:O,EventConfig!A205)","v":7}]
[9157,{"$f":"IF(Y206>0,_xlfn.TEXTJOIN(\";\",1,ROW(INDIRECT(CONCATENATE(\"\",A206*100+1,\":\",A206*100+Y206,\"\"))),102),\"\")","v":"915701;915702;915703;915704;102"},6,2,1,0,3,null,"","",30,1,3,10,{"$f":"CONCATENATE(VLOOKUP(M206,[2]PlacesConfig!$A:$C,3,FALSE),IF(N206=\"\",\"\",\" - \"&VLOOKUP(N206,[2]SmallPlacesConfig!$A:$G,7,FALSE)))","v":"藐姑射山 - 山顶"},null,{"$f":"IF(R206=\"\",\"\",VLOOKUP(R206,条件类型查询!A:B,2,FALSE))","v":"前置事件"},10,9149,3,4292,null,"折翅的灵雀","灵雀",{"$f":"COUNTIF(EventLinkConfig!O:O,EventConfig!A206)","v":4}]
[9158,{"$f":"IF(Y207>0,_xlfn.TEXTJOIN(\";\",1,ROW(INDIRECT(CONCATENATE(\"\",A207*100+1,\":\",A207*100+Y207,\"\"))),102),\"\")","v":"915801;915802;915803;915804;102"},6,2,1,0,3,null,"","",30,1,3,10,{"$f":"CONCATENATE(VLOOKUP(M207,[2]PlacesConfig!$A:$C,3,FALSE),IF(N207=\"\",\"\",\" - \"&VLOOKUP(N207,[2]SmallPlacesConfig!$A:$G,7,FALSE)))","v":"藐姑射山 - 山顶"},null,{"$f":"IF(R207=\"\",\"\",VLOOKUP(R207,条件类型查询!A:B,2,FALSE))","v":"前置事件"},10,9149,3,4293,null,"守墓的老犬","老犬",{"$f":"COUNTIF(EventLinkConfig!O:O,EventConfig!A207)","v":4}]
[9159,{"$f":"IF(Y208>0,_xlfn.TEXTJOIN(\";\",1,ROW(INDIRECT(CONCATENATE(\"\",A208*100+1,\":\",A208*100+Y208,\"\"))),102),\"\")","v":"915901;915902;915903;915904;102"},6,2,1,0,3,null,"","",30,1,3,10,{"$f":"CONCATENATE(VLOOKUP(M208,[2]PlacesConfig!$A:$C,3,FALSE),IF(N208=\"\",\"\",\" - \"&VLOOKUP(N208,[2]SmallPlacesConfig!$A:$G,7,FALSE)))","v":"藐姑射山 - 山顶"},null,{"$f":"IF(R208=\"\",\"\",VLOOKUP(R208,条件类型查询!A:B,2,FALSE))","v":"前置事件"},10,9149,3,4294,null,"被困的萤火虫","萤火虫",{"$f":"COUNTIF(EventLinkConfig!O:O,EventConfig!A208)","v":4}]
[9160,{"$f":"IF(Y209>0,_xlfn.TEXTJOIN(\";\",1,ROW(INDIRECT(CONCATENATE(\"\",A209*100+1,\":\",A209*100+Y209,\"\"))),102),\"\")","v":"916001;916002;916003;916004;916005;102"},6,2,1,0,3,null,"","",30,1,3,10,{"$f":"CONCATENATE(VLOOKUP(M209,[2]PlacesConfig!$A:$C,3,FALSE),IF(N209=\"\",\"\",\" - \"&VLOOKUP(N209,[2]SmallPlacesConfig!$A:$G,7,FALSE)))","v":"藐姑射山 - 山顶"},null,{"$f":"IF(R209=\"\",\"\",VLOOKUP(R209,条件类型查询!A:B,2,FALSE))","v":"前置事件"},10,9149,3,4295,null,"掉牙的小妖","小妖",{"$f":"COUNTIF(EventLinkConfig!O:O,EventConfig!A209)","v":5}]
[9161,{"$f":"IF(Y210>0,_xlfn.TEXTJOIN(\";\",1,ROW(INDIRECT(CONCATENATE(\"\",A210*100+1,\":\",A210*100+Y210,\"\"))),102),\"\")","v":"916101;916102;916103;916104;916105;102"},6,2,1,0,3,null,"","",30,1,3,10,{"$f":"CONCATENATE(VLOOKUP(M210,[2]PlacesConfig!$A:$C,3,FALSE),IF(N210=\"\",\"\",\" - \"&VLOOKUP(N210,[2]SmallPlacesConfig!$A:$G,7,FALSE)))","v":"藐姑射山 - 山顶"},null,{"$f":"IF(R210=\"\",\"\",VLOOKUP(R210,条件类型查询!A:B,2,FALSE))","v":"前置事件"},10,9149,3,4296,null,"藏石的老乌龟","老乌龟",{"$f":"COUNTIF(EventLinkConfig!O:O,EventConfig!A210)","v":5}]
[9162,{"$f":"IF(Y211>0,_xlfn.TEXTJOIN(\";\",1,ROW(INDIRECT(CONCATENATE(\"\",A211*100+1,\":\",A211*100+Y211,\"\"))),102),\"\")","v":"916201;916202;916203;916204;916205;102"},6,2,1,0,3,null,"","",30,1,3,10,{"$f":"CONCATENATE(VLOOKUP(M211,[2]PlacesConfig!$A:$C,3,FALSE),IF(N211=\"\",\"\",\" - \"&VLOOKUP(N211,[2]SmallPlacesConfig!$A:$G,7,FALSE)))","v":"藐姑射山 - 山顶"},null,{"$f":"IF(R211=\"\",\"\",VLOOKUP(R211,条件类型查询!A:B,2,FALSE))","v":"前置事件"},10,9149,3,4297,null,"奇怪的歌声","石头精",{"$f":"COUNTIF(EventLinkConfig!O:O,EventConfig!A211)","v":5}]

{"sheet":"EventLinkConfig","index":1,"n_rows":1376,"n_cols":40,"rows_kept":1376,"cut":false,"hidden":false,"merged":[]}
["ID","conciseEventMessage",null,"EventConditionMessage",null,null,"PreShow","PreShowPar",null,"NPCID",null,"LanID",null,"DialogueType","EventID",null,"ConditionId",null,null,null,"optionType","optionPara1","optionPara2",{"$nulls":9},"PrizeIDs","PrizeNums","ResultType","ResultOptions"]
["int","int",null,"int",null,null,"int","int",null,"int",null,"int[]",null,"int","int",null,"int[]",null,null,null,"int","int[]","int[]",{"$nulls":9},"int[]","int[]","int","int[]"]
[null,null,5001,{"$nulls":34},5000]
["ID","任务列表中的简洁描述","任务列表中的简洁描述","无任务目标时的补充文本","无任务目标时的补充文本",null,"前置表现\n1飞行","前置表现参数\n",null,"对话NPCID\n空白=不显示\n100=玩家","NPC","对话","对话1","对话框类型","属于哪个事件","步骤","条件判断类型","任务目标1","任务目标2","条件判断内容","步骤类型\n1=提供选项\n2=进入战斗\n5=自动退出\n3=获得奖励\n4=扣除道具","事件常量1\n1=步骤IDs\n2=战斗ID","事件常量2\n1=事件文本","选择1","选择1\n步骤：填选项文本1\n战斗：填战斗ID","选择1\n步骤1：跳转到哪一步\n不填默认跳转到下一步","选择2","选择2\n步骤：填选项文本2","选择1\n步骤2：跳转到哪一步\n不填默认跳转到下一步","选择2","选择3\n步骤：填选项文本3","选择1\n步骤3：跳转到哪一步\n不填默认跳转到下一步","事件结局奖励","事件结局奖励数量","事件结束类型\n1：跳转步骤\n2：根据战斗结果跳转\n3.触发新事件","结局后提供选项\n1.EventLinkId\n2.胜利id;失败id\n3.EventConfigId","1.步骤ID\n2.胜利ID\n3.事件ID\n不填：默认下一个步骤ID","语言表最大值"]
[100,{"$f":"IF(C5=\"\",\"\",IF(C5=C4,B4,MAX(AL4,AL3)+1))","v":""},null,{"$f":"IF(E5=\"\",\"\",IF(E5=E4,D4,MAX(AL4,AL3,B5)+1))","v":""},{"$nulls":7},{"$f":"IF(M5=\"\",\"\",MAX(AL4,AL3,B5,D5)+1)","v":5001},"你被怪物击败，神识也随之消散了。",null,null,{"$f":"IF(O5=\"\",\"\",IF(O5=O4,P4+1,1))","v":""},{"$f":"_xlfn.TEXTJOIN(\";\",1,R5:S5)","v":""},null,null,{"$f":"IF(R5=\"\",\"\",\"-\"&VLOOKUP(R5,EventConditionConfig!A:C,3,FALSE)&IF(S5=\"\",\"\",CHAR(10)&\"-\"&VLOOKUP(S5,EventConditionConfig!A:C,3,FALSE)))","v":""},null,null,null,{"$f":"IF(OR(ISNUMBER(Y5),Y5=\"\"),\"\",MAX(AL4,AL3,B5,D5,L5)+1)","v":""},null,null,{"$f":"IF(OR(ISNUMBER(AB5),AB5=\"\"),\"\",X5+1)","v":""},null,null,{"$f":"IF(OR(ISNUMBER(AE5),AE5=\"\"),\"\",AA5+1)","v":""},{"$nulls":7},{"$f":"IF(A5=\"\",\"\",MAX(B5,D5,L5,X5,AA5,AL4,AL3,AD5))","v":5001}]
[101,{"$f":"IF(C6=\"\",\"\",IF(C6=C5,B5,MAX(AL5,AL4)+1))","v":""},null,{"$f":"IF(E6=\"\",\"\",IF(E6=E5,D5,MAX(AL5,AL4,B6)+1))","v":""},{"$nulls":7},{"$f":"IF(M6=\"\",\"\",MAX(AL5,AL4,B6,D6)+1)","v":5002},"你败下阵来，感到头晕目眩，试图努力回忆起刚才发生的事情。",null,null,{"$f":"IF(O6=\"\",\"\",IF(O6=O5,P5+1,1))","v":""},{"$f":"_xlfn.TEXTJOIN(\";\",1,R6:S6)","v":""},null,null,{"$f":"IF(R6=\"\",\"\",\"-\"&VLOOKUP(R6,EventConditionConfig!A:C,3,FALSE)&IF(S6=\"\",\"\",CHAR(10)&\"-\"&VLOOKUP(S6,EventConditionConfig!A:C,3,FALSE)))","v":""},null,null,null,{"$f":"IF(OR(ISNUMBER(Y6),Y6=\"\"),\"\",MAX(AL5,AL4,B6,D6,L6)+1)","v":""},null,null,{"$f":"IF(OR(ISNUMBER(AB6),AB6=\"\"),\"\",X6+1)","v":""},null,null,{"$f":"IF(OR(ISNUMBER(AE6),AE6=\"\"),\"\",AA6+1)","v":""},{"$nulls":7},{"$f":"IF(A6=\"\",\"\",MAX(B6,D6,L6,X6,AA6,AL5,AL4,AD6))","v":5002}]
[102,"",null,"",{"$nulls":7},5003,"战斗胜利，你的任务进度增加了。",null,null,"",{"$nulls":7},"",null,null,"",null,null,"",{"$nulls":7},5003]
[null,"",null,"",{"$nulls":7},"",null,null,null,"","",null,null,{"$f":"IF(R8=\"\",\"\",\"-\"&VLOOKUP(R8,EventConditionConfig!A:C,3,FALSE)&IF(S8=\"\",\"\",CHAR(10)&\"-\"&VLOOKUP(S8,EventConditionConfig!A:C,3,FALSE)))","v":""},null,null,null,"",null,null,"",null,null,"",{"$nulls":7},""]
[1001,"",null,"",{"$nulls":5},2,null,5004,"你遇到一只奄奄一息的野狼，从周围四散的血迹来看，想必它刚才经历了一场恶战。",2,1,1,"",null,null,{"$f":"IF(R9=\"\",\"\",\"-\"&VLOOKUP(R9,EventConditionConfig!A:C,3,FALSE)&IF(S9=\"\",\"\",CHAR(10)&\"-\"&VLOOKUP(S9,EventConditionConfig!A:C,3,FALSE)))","v":""},1,"1002;1003","198;199",5005,"趁它虚弱赶紧除掉它！",null,5006,"你不忍见它受苦，选择帮它减轻痛苦。",null,"",{"$nulls":7},5006]
[1002,"",null,"",{"$nulls":7},5007,"野狼用它最后一口气，朝你扑了过来！",2,1,2,"",null,null,{"$f":"IF(R10=\"\",\"\",\"-\"&VLOOKUP(R10,EventConditionConfig!A:C,3,FALSE)&IF(S10=\"\",\"\",CHAR(10)&\"-\"&VLOOKUP(S10,EventConditionConfig!A:C,3,FALSE)))","v":""},2,100001,null,"",null,null,"",null,null,"",{"$nulls":4},2,"1004;100",null,5007]
[1003,"",null,"",{"$nulls":7},5008,"你抽出匕首准备了结它的生命，却发现怀中还躺着一只刚出生的狼崽。",2,1,3,"",null,null,{"$f":"IF(R11=\"\",\"\",\"-\"&VLOOKUP(R11,EventConditionConfig!A:C,3,FALSE)&IF(S11=\"\",\"\",CHAR(10)&\"-\"&VLOOKUP(S11,EventConditionConfig!A:C,3,FALSE)))","v":""},1,1005,200,"",null,null,"",null,null,"",{"$nulls":7},5008]
[1004,"",null,"",{"$nulls":7},5009,"随着你的最后一击，野狼应声倒下，你罔顾它幽怨的眼神，从它怀中拿走了一些财物。",2,1,4,"",null,null,{"$f":"IF(R12=\"\",\"\",\"-\"&VLOOKUP(R12,EventConditionConfig!A:C,3,FALSE)&IF(S12=\"\",\"\",CHAR(10)&\"-\"&VLOOKUP(S12,EventConditionConfig!A:C,3,FALSE)))","v":""},3,null,null,"",null,null,"",null,null,"",null,null,1002,100,null,null,null,5009]
[1005,"",null,"",{"$nulls":7},5010,"母狼似乎懂你要做什么，眼神归于平静。你终结了她，决定收养这只小狼仔。",2,1,5,"",null,null,{"$f":"IF(R13=\"\",\"\",\"-\"&VLOOKUP(R13,EventConditionConfig!A:C,3,FALSE)&IF(S13=\"\",\"\",CHAR(10)&\"-\"&VLOOKUP(S13,EventConditionConfig!A:C,3,FALSE)))","v":""},3,null,null,"",null,null,"",null,null,"",null,null,1001,50,null,null,null,5010]
[null,"",null,"",{"$nulls":7},"",null,null,null,"","",null,null,{"$f":"IF(R14=\"\",\"\",\"-\"&VLOOKUP(R14,EventConditionConfig!A:C,3,FALSE)&IF(S14=\"\",\"\",CHAR(10)&\"-\"&VLOOKUP(S14,EventConditionConfig!A:C,3,FALSE)))","v":""},null,null,null,"",null,null,"",null,null,"",{"$nulls":7},""]
[1010,"",null,"",{"$nulls":7},5011,"从不远处传来刀剑声，听起来双方已经精疲力尽了。",null,2,1,"",null,null,{"$f":"IF(R15=\"\",\"\",\"-\"&VLOOKUP(R15,EventConditionConfig!A:C,3,FALSE)&IF(S15=\"\",\"\",CHAR(10)&\"-\"&VLOOKUP(S15,EventConditionConfig!A:C,3,FALSE)))","v":""},1,"1011;1012","201;202",5012,"去看看",null,5013,"(需拥有法宝凝神珠）听起来都是鸡毛蒜皮的小摩擦，你选择祭出凝神珠化解他们的怨气。",null,"",{"$nulls":7},5013]
[1011,"",null,"",{"$nulls":7},5014,"你走进一看，原来是一伙山贼分赃不均内讧了起来。你看着旁边被砍的七零八落的轿子和这群山贼，选择怎么做呢：",null,2,2,"",null,null,{"$f":"IF(R16=\"\",\"\",\"-\"&VLOOKUP(R16,EventConditionConfig!A:C,3,FALSE)&IF(S16=\"\",\"\",CHAR(10)&\"-\"&VLOOKUP(S16,EventConditionConfig!A:C,3,FALSE)))","v":""},1,"1014;1015","203;204",5015,"你顿时杀心四起，决定杀了贼寇，救出轿中之人",null,5016,"盗贼们个个双眼杀的通红，你决定来个渔翁得利。",null,"",{"$nulls":7},5016]
[1012,"",null,"",{"$nulls":7},5017,"法宝现身，效果立竿见影，刀剑声逐渐消失，这个世界安静了。",null,2,3,"",null,null,{"$f":"IF(R17=\"\",\"\",\"-\"&VLOOKUP(R17,EventConditionConfig!A:C,3,FALSE)&IF(S17=\"\",\"\",CHAR(10)&\"-\"&VLOOKUP(S17,EventConditionConfig!A:C,3,FALSE)))","v":""},3,null,null,"",null,null,"",null,null,"",null,null,1001,10,null,null,null,5017,1,"1001;1"]
[1014,"",null,"",{"$nulls":7},5018,"你怒斥贼寇的恶行，贼寇们被你激怒了，准备迎战！",null,2,4,"",null,null,{"$f":"IF(R18=\"\",\"\",\"-\"&VLOOKUP(R18,EventConditionConfig!A:C,3,FALSE)&IF(S18=\"\",\"\",CHAR(10)&\"-\"&VLOOKUP(S18,EventConditionConfig!A:C,3,FALSE)))","v":""},2,100002,null,"",null,null,"",null,null,"",{"$nulls":4},2,"1016;100",null,5018,2,"4;150"]
[1015,"",null,"",{"$nulls":7},5019,"你趁人不备顺走了轿内主人的包裹，任留轿内人痛苦的挣扎。",null,2,5,"",null,null,{"$f":"IF(R19=\"\",\"\",\"-\"&VLOOKUP(R19,EventConditionConfig!A:C,3,FALSE)&IF(S19=\"\",\"\",CHAR(10)&\"-\"&VLOOKUP(S19,EventConditionConfig!A:C,3,FALSE)))","v":""},3,null,null,"",null,null,"",null,null,"",null,null,1003,1000,null,null,null,5019]
[1016,"",null,"",{"$nulls":7},5020,"杀退贼寇，你上演了一出英雄救美的桥段。姑娘为了答谢你的救命之恩，将藏在贴身处的珍贵首饰赠与你作为定情信物。",null,2,6,"",null,null,{"$f":"IF(R20=\"\",\"\",\"-\"&VLOOKUP(R20,EventConditionConfig!A:C,3,FALSE)&IF(S20=\"\",\"\",CHAR(10)&\"-\"&VLOOKUP(S20,EventConditionConfig!A:C,3,FALSE)))","v":""},null,null,null,"",null,null,"",null,null,"",null,null,1001,200,null,null,null,5020]
[null,"",null,"",{"$nulls":7},"",null,null,null,"","",null,null,{"$f":"IF(R21=\"\",\"\",\"-\"&VLOOKUP(R21,EventConditionConfig!A:C,3,FALSE)&IF(S21=\"\",\"\",CHAR(10)&\"-\"&VLOOKUP(S21,EventConditionConfig!A:C,3,FALSE)))","v":""},null,null,null,"",null,null,"",null,null,"",{"$nulls":7},""]
[1020,"",null,"",{"$nulls":7},5021,"从不远处传来刀剑声，听起来双方已经精疲力尽了。",null,null,"","",null,null,{"$f":"IF(R22=\"\",\"\",\"-\"&VLOOKUP(R22,EventConditionConfig!A:C,3,FALSE)&IF(S22=\"\",\"\",CHAR(10)&\"-\"&VLOOKUP(S22,EventConditionConfig!A:C,3,FALSE)))","v":""},1,"1021;1022","201;202",5022,"去看看",null,5023,"使用法宝息事宁人",null,"",{"$nulls":7},5023]
[1021,"",null,"",{"$nulls":7},5024,"你走进一看，原来是一伙山贼抢了一名坐在官轿内的女子，因分赃不均内讧了起来。山贼二话不说就朝你冲了过来！",null,null,"","",null,null,{"$f":"IF(R23=\"\",\"\",\"-\"&VLOOKUP(R23,EventConditionConfig!A:C,3,FALSE)&IF(S23=\"\",\"\",CHAR(10)&\"-\"&VLOOKUP(S23,EventConditionConfig!A:C,3,FALSE)))","v":""},2,100003,null,"",null,null,"",null,null,"",null,null,1002,100,2,"1026;100",null,5024]
[1022,"",null,"",{"$nulls":7},5025,"法宝现身，效果立竿见影，刀剑声逐渐消失，这个世界安静了。",null,null,"","",null,null,{"$f":"IF(R24=\"\",\"\",\"-\"&VLOOKUP(R24,EventConditionConfig!A:C,3,FALSE)&IF(S24=\"\",\"\",CHAR(10)&\"-\"&VLOOKUP(S24,EventConditionConfig!A:C,3,FALSE)))","v":""},null,null,null,"",null,null,"",null,null,"",null,null,1002,10,null,null,null,5025,1,"1001;1"]
[1024,"",null,"",{"$nulls":7},5026,"你大声怒斥贼寇的恶行，贼首发现你了，准备迎战！",null,null,"","",null,null,{"$f":"IF(R25=\"\",\"\",\"-\"&VLOOKUP(R25,EventConditionConfig!A:C,3,FALSE)&IF(S25=\"\",\"\",CHAR(10)&\"-\"&VLOOKUP(S25,EventConditionConfig!A:C,3,FALSE)))","v":""},2,100004,null,"",null,null,"",null,null,"",null,null,1004,100,2,"1016;100",null,5026,2,"4;150"]
[1025,"",null,"",{"$nulls":7},5027,"你趁人不备顺走了轿内主人的包裹，任留轿内人痛苦的挣扎。",null,null,"","",null,null,{"$f":"IF(R26=\"\",\"\",\"-\"&VLOOKUP(R26,EventConditionConfig!A:C,3,FALSE)&IF(S26=\"\",\"\",CHAR(10)&\"-\"&VLOOKUP(S26,EventConditionConfig!A:C,3,FALSE)))","v":""},3,null,null,"",null,null,"",null,null,"",null,null,1002,1000,null,null,null,5027]
[1026,"",null,"",{"$nulls":7},5028,"你将山贼们打的落花流水，成功吸引了山贼头子的注意。",null,null,"","",null,null,{"$f":"IF(R27=\"\",\"\",\"-\"&VLOOKUP(R27,EventConditionConfig!A:C,3,FALSE)&IF(S27=\"\",\"\",CHAR(10)&\"-\"&VLOOKUP(S27,EventConditionConfig!A:C,3,FALSE)))","v":""},1,"1024;1025","205;206",5029,"选择正面迎战山贼头领（困难）",null,5030,"你决定避开山贼头领的视线，来个渔翁得利。",null,"",{"$nulls":7},5030]
[null,"",null,"",{"$nulls":7},"",null,null,null,"","",null,null,{"$f":"IF(R28=\"\",\"\",\"-\"&VLOOKUP(R28,EventConditionConfig!A:C,3,FALSE)&IF(S28=\"\",\"\",CHAR(10)&\"-\"&VLOOKUP(S28,EventConditionConfig!A:C,3,FALSE)))","v":""},null,null,null,"",null,null,"",null,null,"",{"$nulls":7},""]
[1030,"",null,"",{"$nulls":7},5031,"发现一个血迹斑斑的背包，好像刚刚发生了战斗，我翻翻背包...",null,4,1,"",null,null,{"$f":"IF(R29=\"\",\"\",\"-\"&VLOOKUP(R29,EventConditionConfig!A:C,3,FALSE)&IF(S29=\"\",\"\",CHAR(10)&\"-\"&VLOOKUP(S29,EventConditionConfig!A:C,3,FALSE)))","v":""},3,null,null,"",null,null,"",null,null,"",null,null,1002,10,null,null,null,5031]
[null,"",null,"",{"$nulls":7},"",null,null,null,"","",null,null,{"$f":"IF(R30=\"\",\"\",\"-\"&VLOOKUP(R30,EventConditionConfig!A:C,3,FALSE)&IF(S30=\"\",\"\",CHAR(10)&\"-\"&VLOOKUP(S30,EventConditionConfig!A:C,3,FALSE)))","v":""},null,null,null,"",null,null,"",null,null,"",{"$nulls":7},""]
[1040,"",null,"",{"$nulls":7},5032,"啥也没有....除了钱",null,5,1,"",null,null,{"$f":"IF(R31=\"\",\"\",\"-\"&VLOOKUP(R31,EventConditionConfig!A:C,3,FALSE)&IF(S31=\"\",\"\",CHAR(10)&\"-\"&VLOOKUP(S31,EventConditionConfig!A:C,3,FALSE)))","v":""},3,null,null,"",null,null,"",null,null,"",null,null,1002,10,null,null,null,5032]
[null,"",null,"",{"$nulls":7},"",null,null,null,"","",null,null,{"$f":"IF(R32=\"\",\"\",\"-\"&VLOOKUP(R32,EventConditionConfig!A:C,3,FALSE)&IF(S32=\"\",\"\",CHAR(10)&\"-\"&VLOOKUP(S32,EventConditionConfig!A:C,3,FALSE)))","v":""},null,null,null,"",null,null,"",null,null,"",{"$nulls":7},""]
[1050,"",null,"",{"$nulls":7},5033,"两夫妻在吵架，似乎为了一件大事..",null,6,1,"",null,null,{"$f":"IF(R33=\"\",\"\",\"-\"&VLOOKUP(R33,EventConditionConfig!A:C,3,FALSE)&IF(S33=\"\",\"\",CHAR(10)&\"-\"&VLOOKUP(S33,EventConditionConfig!A:C,3,FALSE)))","v":""},3,null,null,"",null,null,"",null,null,"",null,null,"1002;1001","10;20",null,null,null,5033]
[null,"",null,"",{"$nulls":7},"",null,null,null,"","",null,null,{"$f":"IF(R34=\"\",\"\",\"-\"&VLOOKUP(R34,EventConditionConfig!A:C,3,FALSE)&IF(S34=\"\",\"\",CHAR(10)&\"-\"&VLOOKUP(S34,EventConditionConfig!A:C,3,FALSE)))","v":""},null,null,null,"",null,null,"",null,null,"",{"$nulls":7},""]
[1060,"",null,"",{"$nulls":7},5034,"没有任何发现，但感觉空气很好....下次有空再来看看",null,7,1,"",null,null,{"$f":"IF(R35=\"\",\"\",\"-\"&VLOOKUP(R35,EventConditionConfig!A:C,3,FALSE)&IF(S35=\"\",\"\",CHAR(10)&\"-\"&VLOOKUP(S35,EventConditionConfig!A:C,3,FALSE)))","v":""},null,null,null,"",null,null,"",null,null,"",{"$nulls":7},5034]
[null,"",null,"",{"$nulls":7},"",null,null,null,"","",null,null,{"$f":"IF(R36=\"\",\"\",\"-\"&VLOOKUP(R36,EventConditionConfig!A:C,3,FALSE)&IF(S36=\"\",\"\",CHAR(10)&\"-\"&VLOOKUP(S36,EventConditionConfig!A:C,3,FALSE)))","v":""},null,null,null,"",null,null,"",null,null,"",{"$nulls":7},""]
[{"$f":"O37*100+P37","v":1101},"",null,"",{"$nulls":7},5035,"你遇到一只拦路的妖兽，它看起来饥肠辘辘",null,11,1,"",null,null,{"$f":"IF(R37=\"\",\"\",\"-\"&VLOOKUP(R37,EventConditionConfig!A:C,3,FALSE)&IF(S37=\"\",\"\",CHAR(10)&\"-\"&VLOOKUP(S37,EventConditionConfig!A:C,3,FALSE)))","v":""},null,null,null,"",null,null,"",null,null,"",{"$nulls":4},1,{"$f":"A38","v":1102},null,5035]
[{"$f":"O38*100+P38","v":1102},"",null,"",{"$nulls":7},5036,"你扔出一块鹿肉，趁它抢食之际，你祭出腰间的法宝",null,11,2,"",null,null,{"$f":"IF(R38=\"\",\"\",\"-\"&VLOOKUP(R38,EventConditionConfig!A:C,3,FALSE)&IF(S38=\"\",\"\",CHAR(10)&\"-\"&VLOOKUP(S38,EventConditionConfig!A:C,3,FALSE)))","v":""},null,null,null,"",null,null,"",null,null,"",{"$nulls":4},1,{"$f":"A39","v":1103},null,5036]
[{"$f":"O39*100+P39","v":1103},"",null,"",{"$nulls":7},5037,"你成功诱捕了怪物，并从它身上吸取了一些修为",null,11,3,{"$f":"_xlfn.TEXTJOIN(\";\",1,R39:S39)","v":""},null,null,{"$f":"IF(R39=\"\",\"\",\"-\"&VLOOKUP(R39,EventConditionConfig!A:C,3,FALSE)&IF(S39=\"\",\"\",CHAR(10)&\"-\"&VLOOKUP(S39,EventConditionConfig!A:C,3,FALSE)))","v":""},null,null,null,"",null,null,"",null,null,"",{"$nulls":7},5037]
[null,"",null,"",{"$nulls":7},"",null,null,null,"","",null,null,{"$f":"IF(R40=\"\",\"\",\"-\"&VLOOKUP(R40,EventConditionConfig!A:C,3,FALSE)&IF(S40=\"\",\"\",CHAR(10)&\"-\"&VLOOKUP(S40,EventConditionConfig!A:C,3,FALSE)))","v":""},null,null,null,"",null,null,"",null,null,"",{"$nulls":7},""]
[{"$f":"O41*100+P41","v":1201},"",null,"",{"$nulls":7},5038,"你偶遇一处仙气四溢无人生活的洞穴",null,12,1,"",null,null,{"$f":"IF(R41=\"\",\"\",\"-\"&VLOOKUP(R41,EventConditionConfig!A:C,3,FALSE)&IF(S41=\"\",\"\",CHAR(10)&\"-\"&VLOOKUP(S41,EventConditionConfig!A:C,3,FALSE)))","v":""},null,null,null,"",null,null,"",null,null,"",{"$nulls":4},1,{"$f":"A42","v":1202},null,5038]
[{"$f":"O42*100+P42","v":1202},"",null,"",{"$nulls":7},5039,"不知哪位高人在洞穴内壁留下绝世秘籍",null,12,2,"",null,null,{"$f":"IF(R42=\"\",\"\",\"-\"&VLOOKUP(R42,EventConditionConfig!A:C,3,FALSE)&IF(S42=\"\",\"\",CHAR(10)&\"-\"&VLOOKUP(S42,EventConditionConfig!A:C,3,FALSE)))","v":""},null,null,null,"",null,null,"",null,null,"",{"$nulls":4},1,{"$f":"A43","v":1203},null,5039]
[{"$f":"O43*100+P43","v":1203},"",null,"",{"$nulls":7},5040,"你仔细研读后，功法得到精进",null,12,3,"",null,null,{"$f":"IF(R43=\"\",\"\",\"-\"&VLOOKUP(R43,EventConditionConfig!A:C,3,FALSE)&IF(S43=\"\",\"\",CHAR(10)&\"-\"&VLOOKUP(S43,EventConditionConfig!A:C,3,FALSE)))","v":""},null,null,null,"",null,null,"",null,null,"",{"$nulls":7},5040]
[null,"",null,"",{"$nulls":7},"",null,null,null,"","",null,null,{"$f":"IF(R44=\"\",\"\",\"-\"&VLOOKUP(R44,EventConditionConfig!A:C,3,FALSE)&IF(S44=\"\",\"\",CHAR(10)&\"-\"&VLOOKUP(S44,EventConditionConfig!A:C,3,FALSE)))","v":""},null,null,null,"",null,null,"",null,null,"",{"$nulls":7},""]
[{"$f":"O45*100+P45","v":1301},"",null,"",{"$nulls":7},5041,"你偶然发现一只枯萎的葫芦，但泛着蓝光",null,13,1,"",null,null,{"$f":"IF(R45=\"\",\"\",\"-\"&VLOOKUP(R45,EventConditionConfig!A:C,3,FALSE)&IF(S45=\"\",\"\",CHAR(10)&\"-\"&VLOOKUP(S45,EventConditionConfig!A:C,3,FALSE)))","v":""},null,null,null,"",null,null,"",null,null,"",{"$nulls":4},1,{"$f":"A46","v":1302},null,5041]
[{"$f":"O46*100+P46","v":1302},"",null,"",{"$nulls":7},5042,"好奇的你凑近一看，不知谁将这件法宝遗落于此",null,13,2,"",null,null,{"$f":"IF(R46=\"\",\"\",\"-\"&VLOOKUP(R46,EventConditionConfig!A:C,3,FALSE)&IF(S46=\"\",\"\",CHAR(10)&\"-\"&VLOOKUP(S46,EventConditionConfig!A:C,3,FALSE)))","v":""},null,null,null,"",null,null,"",null,null,"",{"$nulls":4},1,{"$f":"A47","v":1303},null,5042]
[1303,"",null,"",{"$nulls":7},5043,"但法宝已经枯竭，你后悔没有早点发现它",null,13,3,"",null,null,{"$f":"IF(R47=\"\",\"\",\"-\"&VLOOKUP(R47,EventConditionConfig!A:C,3,FALSE)&IF(S47=\"\",\"\",CHAR(10)&\"-\"&VLOOKUP(S47,EventConditionConfig!A:C,3,FALSE)))","v":""},null,null,null,"",null,null,"",null,null,"",{"$nulls":4},1,{"$f":"A48","v":1304},null,5043]
[1304,"",null,"",{"$nulls":7},5044,"最后你从法宝中回收了一些玄晶",null,13,4,"",null,null,{"$f":"IF(R48=\"\",\"\",\"-\"&VLOOKUP(R48,EventConditionConfig!A:C,3,FALSE)&IF(S48=\"\",\"\",CHAR(10)&\"-\"&VLOOKUP(S48,EventConditionConfig!A:C,3,FALSE)))","v":""},null,null,null,"",null,null,"",null,null,"",{"$nulls":7},5044]
[null,"",null,"",{"$nulls":7},"",null,null,null,"","",null,null,{"$f":"IF(R49=\"\",\"\",\"-\"&VLOOKUP(R49,EventConditionConfig!A:C,3,FALSE)&IF(S49=\"\",\"\",CHAR(10)&\"-\"&VLOOKUP(S49,EventConditionConfig!A:C,3,FALSE)))","v":""},null,null,null,"",null,null,"",null,null,"",{"$nulls":7},""]
[{"$f":"O50*100+P50","v":1401},"",null,"",{"$nulls":7},5045,"你路过一座矿山，一个闪光点引起了你的注意",null,14,1,{"$f":"_xlfn.TEXTJOIN(\";\",1,R50:S50)","v":""},null,null,{"$f":"IF(R50=\"\",\"\",\"-\"&VLOOKUP(R50,EventConditionConfig!A:C,3,FALSE)&IF(S50=\"\",\"\",CHAR(10)&\"-\"&VLOOKUP(S50,EventConditionConfig!A:C,3,FALSE)))","v":""},null,null,null,"",null,null,"",null,null,"",{"$nulls":4},1,{"$f":"A51","v":1402},null,5045]
[{"$f":"O51*100+P51","v":1402},"",null,"",{"$nulls":7},5046,"原来这是一颗珍贵的绿玛瑙",null,14,2,"",null,null,{"$f":"IF(R51=\"\",\"\",\"-\"&VLOOKUP(R51,EventConditionConfig!A:C,3,FALSE)&IF(S51=\"\",\"\",CHAR(10)&\"-\"&VLOOKUP(S51,EventConditionConfig!A:C,3,FALSE)))","v":""},null,null,null,"",null,null,"",null,null,"",{"$nulls":4},1,{"$f":"A52","v":1403},null,5046]
[{"$f":"O52*100+P52","v":1403},"",null,"",{"$nulls":7},5047,"你祭出法宝，将它转化成一些灵石",null,14,3,"",null,null,{"$f":"IF(R52=\"\",\"\",\"-\"&VLOOKUP(R52,EventConditionConfig!A:C,3,FALSE)&IF(S52=\"\",\"\",CHAR(10)&\"-\"&VLOOKUP(S52,EventConditionConfig!A:C,3,FALSE)))","v":""},null,null,null,"",null,null,"",null,null,"",{"$nulls":7},5047]
[null,"",null,"",{"$nulls":7},"",null,null,null,"",{"$nulls":7},"",null,null,"",null,null,"",{"$nulls":7},""]
[{"$f":"O54*100+P54","v":1501},"",null,"",{"$nulls":7},5048,"漫漫旅途，你通过神识释放增进不少阅历",null,15,1,{"$f":"_xlfn.TEXTJOIN(\";\",1,R54:S54)","v":""},null,null,{"$f":"IF(R54=\"\",\"\",\"-\"&VLOOKUP(R54,EventConditionConfig!A:C,3,FALSE)&IF(S54=\"\",\"\",CHAR(10)&\"-\"&VLOOKUP(S54,EventConditionConfig!A:C,3,FALSE)))","v":""},null,null,null,"",null,null,"",null,null,"",{"$nulls":4},1,{"$f":"A55","v":1502},null,5048]
[{"$f":"O55*100+P55","v":1502},"",null,"",{"$nulls":7},5049,"但随之而来的是神识用尽的空虚感",null,15,2,"",null,null,{"$f":"IF(R55=\"\",\"\",\"-\"&VLOOKUP(R55,EventConditionConfig!A:C,3,FALSE)&IF(S55=\"\",\"\",CHAR(10)&\"-\"&VLOOKUP(S55,EventConditionConfig!A:C,3,FALSE)))","v":""},null,null,null,"",null,null,"",null,null,"",{"$nulls":4},1,{"$f":"A56","v":1503},null,5049]
[{"$f":"O56*100+P56","v":1503},"",null,"",{"$nulls":7},5050,"但这种感受何尝又不是一种新的阅历呢",null,15,3,"",null,null,{"$f":"IF(R56=\"\",\"\",\"-\"&VLOOKUP(R56,EventConditionConfig!A:C,3,FALSE)&IF(S56=\"\",\"\",CHAR(10)&\"-\"&VLOOKUP(S56,EventConditionConfig!A:C,3,FALSE)))","v":""},null,null,null,"",null,null,"",null,null,"",{"$nulls":4},1,{"$f":"A57","v":1504},null,5050]
[{"$f":"O57*100+P57","v":1504},"",null,"",{"$nulls":7},5051,"你将这些新的感悟存进了一颗神识丹",null,15,4,{"$f":"_xlfn.TEXTJOIN(\";\",1,R57:S57)","v":""},null,null,{"$f":"IF(R57=\"\",\"\",\"-\"&VLOOKUP(R57,EventConditionConfig!A:C,3,FALSE)&IF(S57=\"\",\"\",CHAR(10)&\"-\"&VLOOKUP(S57,EventConditionConfig!A:C,3,FALSE)))","v":""},null,null,null,"",null,null,"",null,null,"",{"$nulls":7},5051]
[null,"",null,"",{"$nulls":7},"",null,null,null,"",{"$nulls":7},"",null,null,"",null,null,"",{"$nulls":7},""]
[{"$f":"O59*100+P59","v":1601},"",null,"",{"$nulls":7},5052,"两只体型硕大的妖兽正在为了一颗灵丹而缠斗",null,16,1,{"$f":"_xlfn.TEXTJOIN(\";\",1,R59:S59)","v":""},null,null,{"$f":"IF(R59=\"\",\"\",\"-\"&VLOOKUP(R59,EventConditionConfig!A:C,3,FALSE)&IF(S59=\"\",\"\",CHAR(10)&\"-\"&VLOOKUP(S59,EventConditionConfig!A:C,3,FALSE)))","v":""},null,null,null,"",null,null,"",null,null,"",{"$nulls":4},1,{"$f":"A60","v":1602},null,5052]
[{"$f":"O60*100+P60","v":1602},"",null,"",{"$nulls":7},5053,"突然一道闪电自天而降，正中两只妖兽",null,16,2,"",null,null,{"$f":"IF(R60=\"\",\"\",\"-\"&VLOOKUP(R60,EventConditionConfig!A:C,3,FALSE)&IF(S60=\"\",\"\",CHAR(10)&\"-\"&VLOOKUP(S60,EventConditionConfig!A:C,3,FALSE)))","v":""},null,null,null,"",null,null,"",null,null,"",{"$nulls":4},1,{"$f":"A61","v":1603},null,5053]
[{"$f":"O61*100+P61","v":1603},"",null,"",{"$nulls":7},5054,"何其悲哉，念完往生咒，你顺手拿走了这颗珍贵的妖丹",null,16,3,"",null,null,{"$f":"IF(R61=\"\",\"\",\"-\"&VLOOKUP(R61,EventConditionConfig!A:C,3,FALSE)&IF(S61=\"\",\"\",CHAR(10)&\"-\"&VLOOKUP(S61,EventConditionConfig!A:C,3,FALSE)))","v":""},null,null,null,"",null,null,"",null,null,"",{"$nulls":7},5054]
[null,"",null,"",{"$nulls":7},"",null,null,null,"",{"$nulls":7},"",null,null,"",null,null,"",{"$nulls":7},""]
[9003,"",null,"",{"$nulls":7},5055,"你在闭关修炼时，感受到一股凌厉的剑意波动。深入探查，发现一名白衣剑修“清霜”盘坐于谷中，周围剑气环绕，正与一柄散发不祥气息的灵剑对峙。她似在参悟剑诀，却灵气不足，剑灵桀骜。",null,null,"","",null,null,{"$f":"IF(R63=\"\",\"\",\"-\"&VLOOKUP(R63,EventConditionConfig!A:C,3,FALSE)&IF(S63=\"\",\"\",CHAR(10)&\"-\"&VLOOKUP(S63,EventConditionConfig!A:C,3,FALSE)))","v":""},1,"9004;9006","2041;2042","",null,null,"",null,null,"",{"$nulls":7},5055]
[9004,"",null,"",{"$nulls":7},5056,"你上前以剑意对抗剑灵",null,null,"","",null,null,{"$f":"IF(R64=\"\",\"\",\"-\"&VLOOKUP(R64,EventConditionConfig!A:C,3,FALSE)&IF(S64=\"\",\"\",CHAR(10)&\"-\"&VLOOKUP(S64,EventConditionConfig!A:C,3,FALSE)))","v":""},2,100001,null,"",null,null,"",null,null,"",{"$nulls":4},2,"9005;100",null,5056]
[9005,"",null,"",{"$nulls":7},5057,"成功压制剑灵，清霜赠你“霜华剑符”并结下道友之谊",null,null,"","",null,null,{"$f":"IF(R65=\"\",\"\",\"-\"&VLOOKUP(R65,EventConditionConfig!A:C,3,FALSE)&IF(S65=\"\",\"\",CHAR(10)&\"-\"&VLOOKUP(S65,EventConditionConfig!A:C,3,FALSE)))","v":""},null,null,null,"",null,null,"",null,null,"",{"$nulls":7},5057]
[9006,"",null,"",{"$nulls":7},5058,"你察觉谷中灵气匮乏，清霜剑意凝滞。神识探查得知，附近秘境可采集“玄冰花”",null,null,"","",null,null,{"$f":"IF(R66=\"\",\"\",\"-\"&VLOOKUP(R66,EventConditionConfig!A:C,3,FALSE)&IF(S66=\"\",\"\",CHAR(10)&\"-\"&VLOOKUP(S66,EventConditionConfig!A:C,3,FALSE)))","v":""},null,null,null,"",null,null,"",null,null,"",{"$nulls":7},5058]
[9007,"",null,"",{"$nulls":7},5059,"献上玄冰花，清霜炼化灵气突破瓶颈，赠你“玄霜剑意”",null,null,"","",null,null,{"$f":"IF(R67=\"\",\"\",\"-\"&VLOOKUP(R67,EventConditionConfig!A:C,3,FALSE)&IF(S67=\"\",\"\",CHAR(10)&\"-\"&VLOOKUP(S67,EventConditionConfig!A:C,3,FALSE)))","v":""},null,null,null,"",null,null,"",null,null,"",{"$nulls":4},1,9007,null,5059]
[9008,"",null,"",{"$nulls":7},"",null,null,null,"","",null,null,{"$f":"IF(R68=\"\",\"\",\"-\"&VLOOKUP(R68,EventConditionConfig!A:C,3,FALSE)&IF(S68=\"\",\"\",CHAR(10)&\"-\"&VLOOKUP(S68,EventConditionConfig!A:C,3,FALSE)))","v":""},3,null,null,"",null,null,"",null,null,"",null,null,1001,999,null,null,null,5059]
[null,"",null,"",{"$nulls":7},"",null,null,null,"","",null,null,{"$f":"IF(R69=\"\",\"\",\"-\"&VLOOKUP(R69,EventConditionConfig!A:C,3,FALSE)&IF(S69=\"\",\"\",CHAR(10)&\"-\"&VLOOKUP(S69,EventConditionConfig!A:C,3,FALSE)))","v":""},null,null,null,"",null,null,"",null,null,"",{"$nulls":7},""]
[9025,{"$f":"IF(C70=\"\",\"\",IF(C70=C69,B69,MAX(AL69,AL68)+1))","v":""},null,{"$f":"IF(E70=\"\",\"\",IF(E70=E69,D69,MAX(AL69,AL68,B70)+1))","v":5060},"和惠子交谈",{"$nulls":6},{"$f":"IF(M70=\"\",\"\",MAX(AL69,AL68,B70,D70)+1)","v":5061},"惠子种的葫芦没用，他非常生气，需要打败魔休",null,null,{"$f":"IF(O70=\"\",\"\",IF(O70=O69,P69+1,1))","v":""},"",null,null,{"$f":"IF(R70=\"\",\"\",\"-\"&VLOOKUP(R70,EventConditionConfig!A:C,3,FALSE)&IF(S70=\"\",\"\",CHAR(10)&\"-\"&VLOOKUP(S70,EventConditionConfig!A:C,3,FALSE)))","v":""},1,9026,2075,{"$f":"IF(OR(ISNUMBER(Y70),Y70=\"\"),\"\",MAX(AL69,AL68,B70,D70,L70)+1)","v":""},null,null,{"$f":"IF(OR(ISNUMBER(AB70),AB70=\"\"),\"\",X70+1)","v":""},null,null,{"$f":"IF(OR(ISNUMBER(AE70),AE70=\"\"),\"\",AA70+1)","v":""},{"$nulls":7},{"$f":"IF(A70=\"\",\"\",MAX(B70,D70,L70,X70,AA70,AL69,AL68,AD70))","v":5061}]
[9026,"",null,"",{"$nulls":7},5062,"选择后接新的事件",null,null,"","",null,null,{"$f":"IF(R71=\"\",\"\",\"-\"&VLOOKUP(R71,EventConditionConfig!A:C,3,FALSE)&IF(S71=\"\",\"\",CHAR(10)&\"-\"&VLOOKUP(S71,EventConditionConfig!A:C,3,FALSE)))","v":""},null,null,null,5063,"接受任务",null,"",null,null,"",{"$nulls":4},3,9014,null,5063]
[null,"",null,"",{"$nulls":7},"",null,null,null,"","",null,null,{"$f":"IF(R72=\"\",\"\",\"-\"&VLOOKUP(R72,EventConditionConfig!A:C,3,FALSE)&IF(S72=\"\",\"\",CHAR(10)&\"-\"&VLOOKUP(S72,EventConditionConfig!A:C,3,FALSE)))","v":""},null,null,null,"",null,null,"",null,null,"",{"$nulls":7},""]
[9014,"",null,5064,"击杀魔休",{"$nulls":6},"",null,null,null,"","3",3,null,{"$f":"IF(R73=\"\",\"\",\"-\"&VLOOKUP(R73,EventConditionConfig!A:C,3,FALSE)&IF(S73=\"\",\"\",CHAR(10)&\"-\"&VLOOKUP(S73,EventConditionConfig!A:C,3,FALSE)))","v":"-击杀魔休"},null,null,null,"",null,null,"",null,null,"",{"$nulls":7},5064]
[null,"",null,"",{"$nulls":7},"",null,null,null,"",{"$f":"_xlfn.TEXTJOIN(\";\",1,R74:S74)","v":""},null,null,{"$f":"IF(R74=\"\",\"\",\"-\"&VLOOKUP(R74,EventConditionConfig!A:C,3,FALSE)&IF(S74=\"\",\"\",CHAR(10)&\"-\"&VLOOKUP(S74,EventConditionConfig!A:C,3,FALSE)))","v":""},null,null,null,"",null,null,"",null,null,"",{"$nulls":7},""]
[9031,5065,"出现Boss魔修",5066,"打败魔修",{"$nulls":6},"",null,null,null,"","",null,null,{"$f":"IF(R75=\"\",\"\",\"-\"&VLOOKUP(R75,EventConditionConfig!A:C,3,FALSE)&IF(S75=\"\",\"\",CHAR(10)&\"-\"&VLOOKUP(S75,EventConditionConfig!A:C,3,FALSE)))","v":""},2,100001,null,"",null,null,"",null,null,"",{"$nulls":7},5066]
[null,"",null,"",{"$nulls":7},"",{"$nulls":25},""]
[{"$f":"O77*100+P77","v":1000001},{"$f":"IF(C77=\"\",\"\",IF(C77=C76,B76,MAX(AL76,AL75)+1))","v":""},null,"",{"$nulls":6},{"$f":"IF(J77=\"\",\"\",VLOOKUP(J77,EventNPC!A:E,5,FALSE))","v":""},5067,"（渡劫失败后，悬浮于混沌虚空，破碎道袍微微飘动，丹田空虚。）",null,10000,{"$f":"IF(O77=\"\",\"\",IF(O77=O76,P76+1,1))","v":1},{"$f":"_xlfn.TEXTJOIN(\";\",1,R77:S77)","v":""},null,null,{"$f":"IF(R77=\"\",\"\",\"-\"&VLOOKUP(R77,EventConditionConfig!A:C,3,FALSE)&IF(S77=\"\",\"\",CHAR(10)&\"-\"&VLOOKUP(S77,EventConditionConfig!A:C,3,FALSE)))","v":""},{"$f":"IF(Y77=\"\",\"\",IF(ISTEXT(Y77),1,2))","v":""},{"$f":"IF(U77=1,_xlfn.TEXTJOIN(\";\",1,IF(Z77=\"\",A77+1,Z77),IF(AND(AA77<>\"\",AC77=\"\"),A77+1,AC77),IF(AND(AD77<>\"\",AF77=\"\"),A77+1,AF77)),IF(U77=2,Y77,\"\"))","v":""},{"$f":"_xlfn.TEXTJOIN(\";\",1,X77,AA77,AD77)","v":""},{"$f":"IF(OR(ISNUMBER(Y77),Y77=\"\"),\"\",MAX(AL76,AL74,B77,D77,L77)+1)","v":""},null,null,{"$f":"IF(OR(ISNUMBER(AB77),AB77=\"\"),\"\",X77+1)","v":""},null,null,{"$f":"IF(OR(ISNUMBER(AE77),AE77=\"\"),\"\",AA77+1)","v":""},{"$nulls":4},{"$f":"IF(A77=\"\",\"\",IF(ISNUMBER(Y77),2,IF(A78=\"\",IF(OR(AK77>0,VLOOKUP(O77,EventConfig!A:C,3,FALSE)=4),3,\"\"),1)))","v":1},{"$f":"IF(AI77=\"\",\"\",CHOOSE(AI77,IF(AK77=\"\",A77+1,AK77),CONCATENATE(IF(AK77=\"\",A77+1,AK77),\";101\"),IF(AK77=\"\",O77+1,AK77)))","v":1000002},null,5067]
[{"$f":"O78*100+P78","v":1000002},"",null,"",{"$nulls":5},100,{"$f":"IF(J78=\"\",\"\",VLOOKUP(J78,EventNPC!A:E,5,FALSE))","v":"玩家"},5068,"还是做不到吗……多次渡劫，又功亏一篑！",null,10000,{"$f":"IF(O78=\"\",\"\",IF(O78=O77,P77+1,1))","v":2},{"$f":"_xlfn.TEXTJOIN(\";\",1,R78:S78)","v":""},null,null,{"$f":"IF(R78=\"\",\"\",\"-\"&VLOOKUP(R78,EventConditionConfig!A:C,3,FALSE)&IF(S78=\"\",\"\",CHAR(10)&\"-\"&VLOOKUP(S78,EventConditionConfig!A:C,3,FALSE)))","v":""},{"$f":"IF(Y78=\"\",\"\",IF(ISTEXT(Y78),1,2))","v":""},{"$f":"IF(U78=1,_xlfn.TEXTJOIN(\";\",1,IF(Z78=\"\",A78+1,Z78),IF(AND(AA78<>\"\",AC78=\"\"),A78+1,AC78),IF(AND(AD78<>\"\",AF78=\"\"),A78+1,AF78)),IF(U78=2,Y78,\"\"))","v":""},{"$f":"_xlfn.TEXTJOIN(\";\",1,X78,AA78,AD78)","v":""},"",null,null,"",null,null,"",{"$nulls":4},{"$f":"IF(A78=\"\",\"\",IF(ISNUMBER(Y78),2,IF(A79=\"\",IF(OR(AK78>0,VLOOKUP(O78,EventConfig!A:C,3,FALSE)=4),3,\"\"),1)))","v":1},{"$f":"IF(AI78=\"\",\"\",CHOOSE(AI78,IF(AK78=\"\",A78+1,AK78),CONCATENATE(IF(AK78=\"\",A78+1,AK78),\";101\"),IF(AK78=\"\",O78+1,AK78)))","v":1000003},null,5068]
[{"$f":"O79*100+P79","v":1000003},"",null,"",{"$nulls":5},100,{"$f":"IF(J79=\"\",\"\",VLOOKUP(J79,EventNPC!A:E,5,FALSE))","v":"玩家"},5069,"好在神魂未灭，不过一身修为几乎散尽，只剩练气修为……",null,10000,{"$f":"IF(O79=\"\",\"\",IF(O79=O78,P78+1,1))","v":3},{"$f":"_xlfn.TEXTJOIN(\";\",1,R79:S79)","v":""},null,null,{"$f":"IF(R79=\"\",\"\",\"-\"&VLOOKUP(R79,EventConditionConfig!A:C,3,FALSE)&IF(S79=\"\",\"\",CHAR(10)&\"-\"&VLOOKUP(S79,EventConditionConfig!A:C,3,FALSE)))","v":""},{"$f":"IF(Y79=\"\",\"\",IF(ISTEXT(Y79),1,2))","v":""},"","","",null,null,"",null,null,"",{"$nulls":4},{"$f":"IF(A79=\"\",\"\",IF(ISNUMBER(Y79),2,IF(A80=\"\",IF(OR(AK79>0,VLOOKUP(O79,EventConfig!A:C,3,FALSE)=4),3,\"\"),1)))","v":1},1000004,null,5069]
[{"$f":"O80*100+P80","v":1000004},"",null,"",{"$nulls":5},100,{"$f":"IF(J80=\"\",\"\",VLOOKUP(J80,EventNPC!A:E,5,FALSE))","v":"玩家"},5070,"此处是何地？",null,10000,{"$f":"IF(O80=\"\",\"\",IF(O80=O79,P79+1,1))","v":4},{"$f":"_xlfn.TEXTJOIN(\";\",1,R80:S80)","v":""},null,null,{"$f":"IF(R80=\"\",\"\",\"-\"&VLOOKUP(R80,EventConditionConfig!A:C,3,FALSE)&IF(S80=\"\",\"\",CHAR(10)&\"-\"&VLOOKUP(S80,EventConditionConfig!A:C,3,FALSE)))","v":""},{"$f":"IF(Y80=\"\",\"\",IF(ISTEXT(Y80),1,2))","v":""},"","","",null,null,"",null,null,"",{"$nulls":4},{"$f":"IF(A80=\"\",\"\",IF(ISNUMBER(Y80),2,IF(A81=\"\",IF(OR(AK80>0,VLOOKUP(O80,EventConfig!A:C,3,FALSE)=4),3,\"\"),1)))","v":1},1000005,null,5070]
[{"$f":"O81*100+P81","v":1000005},"",null,"",{"$nulls":6},{"$f":"IF(J81=\"\",\"\",VLOOKUP(J81,EventNPC!A:E,5,FALSE))","v":""},5071,"（虚空中，一块石碑若隐若现，上书：“无何有之乡”。）",null,10000,{"$f":"IF(O81=\"\",\"\",IF(O81=O80,P80+1,1))","v":5},{"$f":"_xlfn.TEXTJOIN(\";\",1,R81:S81)","v":""},null,null,{"$f":"IF(R81=\"\",\"\",\"-\"&VLOOKUP(R81,EventConditionConfig!A:C,3,FALSE)&IF(S81=\"\",\"\",CHAR(10)&\"-\"&VLOOKUP(S81,EventConditionConfig!A:C,3,FALSE)))","v":""},{"$f":"IF(Y81=\"\",\"\",IF(ISTEXT(Y81),1,2))","v":""},"","","",null,null,"",null,null,"",{"$nulls":4},{"$f":"IF(A81=\"\",\"\",IF(ISNUMBER(Y81),2,IF(A82=\"\",IF(OR(AK81>0,VLOOKUP(O81,EventConfig!A:C,3,FALSE)=4),3,\"\"),1)))","v":1},1000006,null,5071]
[{"$f":"O82*100+P82","v":1000006},"",null,"",{"$nulls":6},{"$f":"IF(J82=\"\",\"\",VLOOKUP(J82,EventNPC!A:E,5,FALSE))","v":""},5072,"（忽然，一本古卷从天而落，落入掌中）",null,10000,{"$f":"IF(O82=\"\",\"\",IF(O82=O81,P81+1,1))","v":6},{"$f":"_xlfn.TEXTJOIN(\";\",1,R82:S82)","v":""},null,null,{"$f":"IF(R82=\"\",\"\",\"-\"&VLOOKUP(R82,EventConditionConfig!A:C,3,FALSE)&IF(S82=\"\",\"\",CHAR(10)&\"-\"&VLOOKUP(S82,EventConditionConfig!A:C,3,FALSE)))","v":""},{"$f":"IF(Y82=\"\",\"\",IF(ISTEXT(Y82),1,2))","v":""},"","","",null,null,"",null,null,"",{"$nulls":4},{"$f":"IF(A82=\"\",\"\",IF(ISNUMBER(Y82),2,IF(A83=\"\",IF(OR(AK82>0,VLOOKUP(O82,EventConfig!A:C,3,FALSE)=4),3,\"\"),1)))","v":1},1000007,null,5072]
[{"$f":"O83*100+P83","v":1000007},"",null,"",{"$nulls":6},{"$f":"IF(J83=\"\",\"\",VLOOKUP(J83,EventNPC!A:E,5,FALSE))","v":""},5073,"（书封斑驳，触之微凉，似有灵气流转）",null,10000,{"$f":"IF(O83=\"\",\"\",IF(O83=O82,P82+1,1))","v":7},{"$f":"_xlfn.TEXTJOIN(\";\",1,R83:S83)","v":""},null,null,{"$f":"IF(R83=\"\",\"\",\"-\"&VLOOKUP(R83,EventConditionConfig!A:C,3,FALSE)&IF(S83=\"\",\"\",CHAR(10)&\"-\"&VLOOKUP(S83,EventConditionConfig!A:C,3,FALSE)))","v":""},{"$f":"IF(Y83=\"\",\"\",IF(ISTEXT(Y83),1,2))","v":""},"","","",null,null,"",null,null,"",{"$nulls":4},{"$f":"IF(A83=\"\",\"\",IF(ISNUMBER(Y83),2,IF(A84=\"\",IF(OR(AK83>0,VLOOKUP(O83,EventConfig!A:C,3,FALSE)=4),3,\"\"),1)))","v":1},1000008,null,5073]
[{"$f":"O84*100+P84","v":1000008},"",null,"",{"$nulls":6},{"$f":"IF(J84=\"\",\"\",VLOOKUP(J84,EventNPC!A:E,5,FALSE))","v":""},5074,"（你翻开书页，不自觉的低声诵读..）",null,10000,{"$f":"IF(O84=\"\",\"\",IF(O84=O83,P83+1,1))","v":8},{"$f":"_xlfn.TEXTJOIN(\";\",1,R84:S84)","v":""},null,null,{"$f":"IF(R84=\"\",\"\",\"-\"&VLOOKUP(R84,EventConditionConfig!A:C,3,FALSE)&IF(S84=\"\",\"\",CHAR(10)&\"-\"&VLOOKUP(S84,EventConditionConfig!A:C,3,FALSE)))","v":""},{"$f":"IF(Y84=\"\",\"\",IF(ISTEXT(Y84),1,2))","v":""},"","","",null,null,"",null,null,"",{"$nulls":4},{"$f":"IF(A84=\"\",\"\",IF(ISNUMBER(Y84),2,IF(A85=\"\",IF(OR(AK84>0,VLOOKUP(O84,EventConfig!A:C,3,FALSE)=4),3,\"\"),1)))","v":1},1000009,null,5074]
[1000009,"",null,"",{"$nulls":5},100,{"$f":"IF(J85=\"\",\"\",VLOOKUP(J85,EventNPC!A:E,5,FALSE))","v":"玩家"},5075,"北冥有鱼，其名为鲲。鲲之大，不知其几千里也……",null,10000,9,"",null,null,{"$f":"IF(R85=\"\",\"\",\"-\"&VLOOKUP(R85,EventConditionConfig!A:C,3,FALSE)&IF(S85=\"\",\"\",CHAR(10)&\"-\"&VLOOKUP(S85,EventConditionConfig!A:C,3,FALSE)))","v":""},"","","","",null,null,"",null,null,"",{"$nulls":4},{"$f":"IF(A85=\"\",\"\",IF(ISNUMBER(Y85),2,IF(A86=\"\",IF(OR(AK85>0,VLOOKUP(O85,EventConfig!A:C,3,FALSE)=4),3,\"\"),1)))","v":1},1000010,null,5075]
[1000010,"",null,"",{"$nulls":6},{"$f":"IF(J86=\"\",\"\",VLOOKUP(J86,EventNPC!A:E,5,FALSE))","v":""},5076,"（随着吟诵，泛起缕缕清气，虚空震颤，一道白鹤般的身影自混沌中现身，仙风道骨，目光如星。）",null,10000,10,"",null,null,{"$f":"IF(R86=\"\",\"\",\"-\"&VLOOKUP(R86,EventConditionConfig!A:C,3,FALSE)&IF(S86=\"\",\"\",CHAR(10)&\"-\"&VLOOKUP(S86,EventConditionConfig!A:C,3,FALSE)))","v":""},"","","","",null,null,"",null,null,"",{"$nulls":4},{"$f":"IF(A86=\"\",\"\",IF(ISNUMBER(Y86),2,IF(A87=\"\",IF(OR(AK86>0,VLOOKUP(O86,EventConfig!A:C,3,FALSE)=4),3,\"\"),1)))","v":1},1000011,null,5076]
[1000011,"",null,"",{"$nulls":5},137,{"$f":"IF(J87=\"\",\"\",VLOOKUP(J87,EventNPC!A:E,5,FALSE))","v":"冲虚真人"},5077,"“小友的诵读，出自《逍遥游》。可知逍遥为何物？",null,10000,11,"",null,null,{"$f":"IF(R87=\"\",\"\",\"-\"&VLOOKUP(R87,EventConditionConfig!A:C,3,FALSE)&IF(S87=\"\",\"\",CHAR(10)&\"-\"&VLOOKUP(S87,EventConditionConfig!A:C,3,FALSE)))","v":""},"","","","",null,null,"",null,null,"",{"$nulls":4},{"$f":"IF(A87=\"\",\"\",IF(ISNUMBER(Y87),2,IF(A88=\"\",IF(OR(AK87>0,VLOOKUP(O87,EventConfig!A:C,3,FALSE)=4),3,\"\"),1)))","v":1},1000012,null,5077]
[1000012,"",null,"",{"$nulls":5},137,{"$f":"IF(J88=\"\",\"\",VLOOKUP(J88,EventNPC!A:E,5,FALSE))","v":"冲虚真人"},5078,"鲲鹏扶摇九天，究竟是真实存在，还是心之所向？",null,10000,12,"",null,null,{"$f":"IF(R88=\"\",\"\",\"-\"&VLOOKUP(R88,EventConditionConfig!A:C,3,FALSE)&IF(S88=\"\",\"\",CHAR(10)&\"-\"&VLOOKUP(S88,EventConditionConfig!A:C,3,FALSE)))","v":""},1,"1000013;1000014","5079;5080",5079,"渡劫失败，谈何逍遥？晚辈只求重返仙途！",{"$f":"A89","v":1000013},5080,"何为逍遥？请前辈开示。",{"$f":"A90","v":1000014},"",null,{"$f":"D90","v":""},null,null,{"$f":"IF(A88=\"\",\"\",IF(ISNUMBER(Y88),2,IF(A89=\"\",IF(OR(AK88>0,VLOOKUP(O88,EventConfig!A:C,3,FALSE)=4),3,\"\"),1)))","v":1},1000013,null,5080]
[1000013,"",null,"",{"$nulls":5},137,{"$f":"IF(J89=\"\",\"\",VLOOKUP(J89,EventNPC!A:E,5,FALSE))","v":"冲虚真人"},5081," 你虽执着于飞升，却屡败不悟，谈何仙途？",null,10000,13,"",null,null,{"$f":"IF(R89=\"\",\"\",\"-\"&VLOOKUP(R89,EventConditionConfig!A:C,3,FALSE)&IF(S89=\"\",\"\",CHAR(10)&\"-\"&VLOOKUP(S89,EventConditionConfig!A:C,3,FALSE)))","v":""},"","","","",null,null,"",null,null,"",{"$nulls":4},{"$f":"IF(A89=\"\",\"\",IF(ISNUMBER(Y89),2,IF(A90=\"\",IF(OR(AK89>0,VLOOKUP(O89,EventConfig!A:C,3,FALSE)=4),3,\"\"),1)))","v":1},1000015,{"$f":"A91","v":1000015},5081]
[1000014,"",null,"",{"$nulls":5},137,{"$f":"IF(J90=\"\",\"\",VLOOKUP(J90,EventNPC!A:E,5,FALSE))","v":"冲虚真人"},5082," 逍遥存于内心。你心有执念，怎得逍遥？",null,10000,14,"",null,null,{"$f":"IF(R90=\"\",\"\",\"-\"&VLOOKUP(R90,EventConditionConfig!A:C,3,FALSE)&IF(S90=\"\",\"\",CHAR(10)&\"-\"&VLOOKUP(S90,EventConditionConfig!A:C,3,FALSE)))","v":""},"","","","",null,null,"",null,null,"",{"$nulls":4},{"$f":"IF(A90=\"\",\"\",IF(ISNUMBER(Y90),2,IF(A91=\"\",IF(OR(AK90>0,VLOOKUP(O90,EventConfig!A:C,3,FALSE)=4),3,\"\"),1)))","v":1},1000015,{"$f":"A91","v":1000015},5082]
[{"$f":"O91*100+P91","v":1000015},"",null,"",{"$nulls":5},137,{"$f":"IF(J91=\"\",\"\",VLOOKUP(J91,EventNPC!A:E,5,FALSE))","v":"冲虚真人"},5083,"（冲虚真人扫过你破碎的道袍，叹息道）凡界、仙界、魔界，皆是棋盘，你只是棋子。",null,10000,{"$f":"IF(O91=\"\",\"\",IF(O91=O90,P90+1,1))","v":15},{"$f":"_xlfn.TEXTJOIN(\";\",1,R91:S91)","v":""},null,null,{"$f":"IF(R91=\"\",\"\",\"-\"&VLOOKUP(R91,EventConditionConfig!A:C,3,FALSE)&IF(S91=\"\",\"\",CHAR(10)&\"-\"&VLOOKUP(S91,EventConditionConfig!A:C,3,FALSE)))","v":""},{"$f":"IF(Y91=\"\",\"\",IF(ISTEXT(Y91),1,2))","v":""},"","","",null,null,"",null,null,"",{"$nulls":4},{"$f":"IF(A91=\"\",\"\",IF(ISNUMBER(Y91),2,IF(A92=\"\",IF(OR(AK91>0,VLOOKUP(O91,EventConfig!A:C,3,FALSE)=4),3,\"\"),1)))","v":1},1000016,null,5083]
[{"$f":"O92*100+P92","v":1000016},"",null,"",{"$nulls":5},137,{"$f":"IF(J92=\"\",\"\",VLOOKUP(J92,EventNPC!A:E,5,FALSE))","v":"冲虚真人"},5084,"若只是棋子，又如何能窥见天道？",null,10000,{"$f":"IF(O92=\"\",\"\",IF(O92=O91,P91+1,1))","v":16},{"$f":"_xlfn.TEXTJOIN(\";\",1,R92:S92)","v":""},null,null,{"$f":"IF(R92=\"\",\"\",\"-\"&VLOOKUP(R92,EventConditionConfig!A:C,3,FALSE)&IF(S92=\"\",\"\",CHAR(10)&\"-\"&VLOOKUP(S92,EventConditionConfig!A:C,3,FALSE)))","v":""},{"$f":"IF(Y92=\"\",\"\",IF(ISTEXT(Y92),1,2))","v":1},"1000017","5085",5085,"前辈说得玄妙，可有具体指引？",{"$f":"A93","v":1000017},"",null,null,"",{"$nulls":4},{"$f":"IF(A92=\"\",\"\",IF(ISNUMBER(Y92),2,IF(A93=\"\",IF(OR(AK92>0,VLOOKUP(O92,EventConfig!A:C,3,FALSE)=4),3,\"\"),1)))","v":1},1000017,null,5085]
[1000017,"",null,"",{"$nulls":5},137,{"$f":"IF(J93=\"\",\"\",VLOOKUP(J93,EventNPC!A:E,5,FALSE))","v":"冲虚真人"},5086,"天机不可泄露。\n（说罢，从袖中拿出一个风铃..）\n但此风铃，可以为你指引前路。",null,10000,17,"",null,null,{"$f":"IF(R93=\"\",\"\",\"-\"&VLOOKUP(R93,EventConditionConfig!A:C,3,FALSE)&IF(S93=\"\",\"\",CHAR(10)&\"-\"&VLOOKUP(S93,EventConditionConfig!A:C,3,FALSE)))","v":""},1,"1000018","5087",5087,"多谢前辈赠铃..",null,"",null,null,"",{"$nulls":4},{"$f":"IF(A93=\"\",\"\",IF(ISNUMBER(Y93),2,IF(A94=\"\",IF(OR(AK93>0,VLOOKUP(O93,EventConfig!A:C,3,FALSE)=4),3,\"\"),1)))","v":1},1000018,null,5087]
[1000018,"",null,"",{"$nulls":5},137,{"$f":"IF(J94=\"\",\"\",VLOOKUP(J94,EventNPC!A:E,5,FALSE))","v":"冲虚真人"},5088,"（凝视远方，喃喃道）\n凡界有尧，欲让天下而不得其法；\n惠子得大葫芦，却不知其用；\n姑射仙山，藏无形之仙；\n列子可御风而行，却任有所求。\n（说完，便化作清风消散。）",null,10000,18,"",null,null,{"$f":"IF(R94=\"\",\"\",\"-\"&VLOOKUP(R94,EventConditionConfig!A:C,3,FALSE)&IF(S94=\"\",\"\",CHAR(10)&\"-\"&VLOOKUP(S94,EventConditionConfig!A:C,3,FALSE)))","v":""},"","","","",null,null,"",null,null,"",{"$nulls":4},{"$f":"IF(A94=\"\",\"\",IF(ISNUMBER(Y94),2,IF(A95=\"\",IF(OR(AK94>0,VLOOKUP(O94,EventConfig!A:C,3,FALSE)=4),3,\"\"),1)))","v":1},1000019,null,5088]
[{"$f":"O95*100+P95","v":1000019},"",null,"",{"$nulls":5},100,{"$f":"IF(J95=\"\",\"\",VLOOKUP(J95,EventNPC!A:E,5,FALSE))","v":"玩家"},5089,".....\n“逍遥之意，何处可寻？”",null,10000,{"$f":"IF(O95=\"\",\"\",IF(O95=O94,P94+1,1))","v":19},{"$f":"_xlfn.TEXTJOIN(\";\",1,R95:S95)","v":""},null,null,{"$f":"IF(R95=\"\",\"\",\"-\"&VLOOKUP(R95,EventConditionConfig!A:C,3,FALSE)&IF(S95=\"\",\"\",CHAR(10)&\"-\"&VLOOKUP(S95,EventConditionConfig!A:C,3,FALSE)))","v":""},{"$f":"IF(Y95=\"\",\"\",IF(ISTEXT(Y95),1,2))","v":""},"","","",null,null,"",null,null,"",{"$nulls":4},{"$f":"IF(A95=\"\",\"\",IF(ISNUMBER(Y95),2,IF(A96=\"\",IF(OR(AK95>0,VLOOKUP(O95,EventConfig!A:C,3,FALSE)=4),3,\"\"),1)))","v":1},1000020,null,5089]
[{"$f":"O96*100+P96","v":1000020},"",null,"",{"$nulls":5},100,{"$f":"IF(J96=\"\",\"\",VLOOKUP(J96,EventNPC!A:E,5,FALSE))","v":"玩家"},5090,"算了，先看看这个风铃。\n(你拿起刚刚获得的风铃，仔细看了一下)",null,10000,{"$f":"IF(O96=\"\",\"\",IF(O96=O95,P95+1,1))","v":20},{"$f":"_xlfn.TEXTJOIN(\";\",1,R96:S96)","v":""},null,null,{"$f":"IF(R96=\"\",\"\",\"-\"&VLOOKUP(R96,EventConditionConfig!A:C,3,FALSE)&IF(S96=\"\",\"\",CHAR(10)&\"-\"&VLOOKUP(S96,EventConditionConfig!A:C,3,FALSE)))","v":""},{"$f":"IF(Y96=\"\",\"\",IF(ISTEXT(Y96),1,2))","v":""},"","","",null,null,"",null,null,"",{"$nulls":4},{"$f":"IF(A96=\"\",\"\",IF(ISNUMBER(Y96),2,IF(A97=\"\",IF(OR(AK96>0,VLOOKUP(O96,EventConfig!A:C,3,FALSE)=4),3,\"\"),1)))","v":1},1000021,null,5090]
[{"$f":"O97*100+P97","v":1000021},"",null,"",{"$nulls":6},{"$f":"IF(J97=\"\",\"\",VLOOKUP(J97,EventNPC!A:E,5,FALSE))","v":""},5091,"铃身刻有“逍遥”二字，铃声清脆悠远，似有灵性，隐约指向北海.",null,10000,{"$f":"IF(O97=\"\",\"\",IF(O97=O96,P96+1,1))","v":21},{"$f":"_xlfn.TEXTJOIN(\";\",1,R97:S97)","v":""},null,null,{"$f":"IF(R97=\"\",\"\",\"-\"&VLOOKUP(R97,EventConditionConfig!A:C,3,FALSE)&IF(S97=\"\",\"\",CHAR(10)&\"-\"&VLOOKUP(S97,EventConditionConfig!A:C,3,FALSE)))","v":""},{"$f":"IF(Y97=\"\",\"\",IF(ISTEXT(Y97),1,2))","v":""},"","","",null,null,"",null,null,"",{"$nulls":4},{"$f":"IF(A97=\"\",\"\",IF(ISNUMBER(Y97),2,IF(A98=\"\",IF(OR(AK97>0,VLOOKUP(O97,EventConfig!A:C,3,FALSE)=4),3,\"\"),1)))","v":""},"",null,5091]
[null,"",null,"",{"$nulls":7},"",null,null,null,{"$f":"IF(O98=\"\",\"\",IF(O98=O75,P75+1,1))","v":""},"",null,null,{"$f":"IF(R98=\"\",\"\",\"-\"&VLOOKUP(R98,EventConditionConfig!A:C,3,FALSE)&IF(S98=\"\",\"\",CHAR(10)&\"-\"&VLOOKUP(S98,EventConditionConfig!A:C,3,FALSE)))","v":""},null,"","","",null,null,"",null,null,"",{"$nulls":4},{"$f":"IF(A98=\"\",\"\",IF(ISNUMBER(Y98),2,IF(A99=\"\",IF(OR(AK98>0,VLOOKUP(O98,EventConfig!A:C,3,FALSE)=4),3,\"\"),1)))","v":""},"",null,""]
[{"$f":"O99*100+P99","v":1000101},5092,"使用风铃唤醒还未泯灭的神识","",{"$nulls":7},5093,"北冥有鱼，其名为鲲……",2,10001,1,"",null,null,{"$f":"IF(R99=\"\",\"\",\"-\"&VLOOKUP(R99,EventConditionConfig!A:C,3,FALSE)&IF(S99=\"\",\"\",CHAR(10)&\"-\"&VLOOKUP(S99,EventConditionConfig!A:C,3,FALSE)))","v":""},null,"","","",null,null,"",null,null,"",{"$nulls":4},{"$f":"IF(A99=\"\",\"\",IF(ISNUMBER(Y99),2,IF(A100=\"\",IF(OR(AK99>0,VLOOKUP(O99,EventConfig!A:C,3,FALSE)=4),3,\"\"),1)))","v":1},1000102,null,5093]
[{"$f":"O100*100+P100","v":1000102},5092,"使用风铃唤醒还未泯灭的神识","",{"$nulls":7},5094,"不过北海遥远，何时能寻得鲲鹏的踪迹。",2,10001,2,"",null,null,{"$f":"IF(R100=\"\",\"\",\"-\"&VLOOKUP(R100,EventConditionConfig!A:C,3,FALSE)&IF(S100=\"\",\"\",CHAR(10)&\"-\"&VLOOKUP(S100,EventConditionConfig!A:C,3,FALSE)))","v":""},null,"","","",null,null,"",null,null,"",{"$nulls":4},{"$f":"IF(A100=\"\",\"\",IF(ISNUMBER(Y100),2,IF(A101=\"\",IF(OR(AK100>0,VLOOKUP(O100,EventConfig!A:C,3,FALSE)=4),3,\"\"),1)))","v":1},1000103,null,5094]
[{"$f":"O101*100+P101","v":1000103},5092,"使用风铃唤醒还未泯灭的神识","",{"$nulls":7},5095,"好在我的神识尚在，可探天地，再加上刚刚的风铃，或许能寻得前路线索。",2,10001,3,"",null,null,{"$f":"IF(R101=\"\",\"\",\"-\"&VLOOKUP(R101,EventConditionConfig!A:C,3,FALSE)&IF(S101=\"\",\"\",CHAR(10)&\"-\"&VLOOKUP(S101,EventConditionConfig!A:C,3,FALSE)))","v":""},null,"","","",null,null,"",null,null,"",{"$nulls":4},{"$f":"IF(A101=\"\",\"\",IF(ISNUMBER(Y101),2,IF(A102=\"\",IF(OR(AK101>0,VLOOKUP(O101,EventConfig!A:C,3,FALSE)=4),3,\"\"),1)))","v":1},1000104,null,5095]
[{"$f":"O102*100+P102","v":1000104},5092,"使用风铃唤醒还未泯灭的神识","",{"$nulls":7},"",null,null,10001,4,"5",5,null,{"$f":"IF(R102=\"\",\"\",\"-\"&VLOOKUP(R102,EventConditionConfig!A:C,3,FALSE)&IF(S102=\"\",\"\",CHAR(10)&\"-\"&VLOOKUP(S102,EventConditionConfig!A:C,3,FALSE)))","v":"-使用神识"},null,"","","",null,null,"",null,null,"",{"$nulls":4},{"$f":"IF(A102=\"\",\"\",IF(ISNUMBER(Y102),2,IF(A103=\"\",IF(OR(AK102>0,VLOOKUP(O102,EventConfig!A:C,3,FALSE)=4),3,\"\"),1)))","v":3},10002,null,5095]
[null,"",null,"",{"$nulls":7},"",null,null,null,"","",null,null,{"$f":"IF(R103=\"\",\"\",\"-\"&VLOOKUP(R103,EventConditionConfig!A:C,3,FALSE)&IF(S103=\"\",\"\",CHAR(10)&\"-\"&VLOOKUP(S103,EventConditionConfig!A:C,3,FALSE)))","v":""},null,"","","",null,null,"",null,null,"",{"$nulls":4},{"$f":"IF(A103=\"\",\"\",IF(ISNUMBER(Y103),2,IF(A104=\"\",IF(OR(AK103>0,VLOOKUP(O103,EventConfig!A:C,3,FALSE)=4),3,\"\"),1)))","v":""},"",null,""]
[{"$f":"O104*100+P104","v":1000201},5096,"前往妖兽盘踞的地方",5097,"御剑飞行",{"$nulls":6},5098,"神识发现有一条古径，隐于云山之间，不过似乎有妖兽盘踞。",3,10002,1,"",null,null,{"$f":"IF(R104=\"\",\"\",\"-\"&VLOOKUP(R104,EventConditionConfig!A:C,3,FALSE)&IF(S104=\"\",\"\",CHAR(10)&\"-\"&VLOOKUP(S104,EventConditionConfig!A:C,3,FALSE)))","v":""},null,"","","",null,null,"",null,null,"",{"$nulls":4},{"$f":"IF(A104=\"\",\"\",IF(ISNUMBER(Y104),2,IF(A105=\"\",IF(OR(AK104>0,VLOOKUP(O104,EventConfig!A:C,3,FALSE)=4),3,\"\"),1)))","v":1},1000202,null,5098]
[{"$f":"O105*100+P105","v":1000202},5096,"前往妖兽盘踞的地方",5097,"御剑飞行",{"$nulls":6},5099,"没其他办法了，过去看看吧。",3,10002,2,"",null,null,{"$f":"IF(R105=\"\",\"\",\"-\"&VLOOKUP(R105,EventConditionConfig!A:C,3,FALSE)&IF(S105=\"\",\"\",CHAR(10)&\"-\"&VLOOKUP(S105,EventConditionConfig!A:C,3,FALSE)))","v":""},null,"","","",null,null,"",null,null,"",{"$nulls":4},{"$f":"IF(A105=\"\",\"\",IF(ISNUMBER(Y105),2,IF(A106=\"\",IF(OR(AK105>0,VLOOKUP(O105,EventConfig!A:C,3,FALSE)=4),3,\"\"),1)))","v":1},1000203,null,5099]
[{"$f":"O106*100+P106","v":1000203},5096,"前往妖兽盘踞的地方",5097,"御剑飞行",null,1,5,null,null,null,"",null,null,10002,3,"",null,null,{"$f":"IF(R106=\"\",\"\",\"-\"&VLOOKUP(R106,EventConditionConfig!A:C,3,FALSE)&IF(S106=\"\",\"\",CHAR(10)&\"-\"&VLOOKUP(S106,EventConditionConfig!A:C,3,FALSE)))","v":""},null,"","","",null,null,"",null,null,"",{"$nulls":4},{"$f":"IF(A106=\"\",\"\",IF(ISNUMBER(Y106),2,IF(A107=\"\",IF(OR(AK106>0,VLOOKUP(O106,EventConfig!A:C,3,FALSE)=4),3,\"\"),1)))","v":3},10003,null,5099]
[null,"",null,"",{"$nulls":7},"",null,null,null,"","",null,null,{"$f":"IF(R107=\"\",\"\",\"-\"&VLOOKUP(R107,EventConditionConfig!A:C,3,FALSE)&IF(S107=\"\",\"\",CHAR(10)&\"-\"&VLOOKUP(S107,EventConditionConfig!A:C,3,FALSE)))","v":""},null,"","","",null,null,"",null,null,"",{"$nulls":4},{"$f":"IF(A107=\"\",\"\",IF(ISNUMBER(Y107),2,IF(A108=\"\",IF(OR(AK107>0,VLOOKUP(O107,EventConfig!A:C,3,FALSE)=4),3,\"\"),1)))","v":""},"",null,""]
[1000301,5100,"蜩鸟和小麻雀对你的到来很好奇","",{"$nulls":6},{"$f":"IF(J108=\"\",\"\",VLOOKUP(J108,EventNPC!A:E,5,FALSE))","v":""},5101,"应该就是这里了，似乎有古老的阵法挡住了去路",null,10003,1,"",null,null,{"$f":"IF(R108=\"\",\"\",\"-\"&VLOOKUP(R108,EventConditionConfig!A:C,3,FALSE)&IF(S108=\"\",\"\",CHAR(10)&\"-\"&VLOOKUP(S108,EventConditionConfig!A:C,3,FALSE)))","v":""},null,"","","",null,null,"",null,null,"",{"$nulls":4},{"$f":"IF(A108=\"\",\"\",IF(ISNUMBER(Y108),2,IF(A109=\"\",IF(OR(AK108>0,VLOOKUP(O108,EventConfig!A:C,3,FALSE)=4),3,\"\"),1)))","v":1},1000302,null,5101]
[{"$f":"O109*100+P109","v":1000302},5100,"蜩鸟和小麻雀对你的到来很好奇","",{"$nulls":6},{"$f":"IF(J109=\"\",\"\",VLOOKUP(J109,EventNPC!A:E,5,FALSE))","v":""},5102,"（结界门前，三只小鸟飞来，落在一旁古松上）",null,10003,2,"",null,null,{"$f":"IF(R109=\"\",\"\",\"-\"&VLOOKUP(R109,EventConditionConfig!A:C,3,FALSE)&IF(S109=\"\",\"\",CHAR(10)&\"-\"&VLOOKUP(S109,EventConditionConfig!A:C,3,FALSE)))","v":""},null,"","","",null,null,"",null,null,"",{"$nulls":4},{"$f":"IF(A109=\"\",\"\",IF(ISNUMBER(Y109),2,IF(A110=\"\",IF(OR(AK109>0,VLOOKUP(O109,EventConfig!A:C,3,FALSE)=4),3,\"\"),1)))","v":1},1000303,null,5102]
[{"$f":"O110*100+P110","v":1000303},5100,"蜩鸟和小麻雀对你的到来很好奇","",{"$nulls":5},101,{"$f":"IF(J110=\"\",\"\",VLOOKUP(J110,EventNPC!A:E,5,FALSE))","v":"蜩鸟"},5103,"（拍翅）：“咦？又是妄图穿行北海之人？”",null,10003,3,"",null,null,{"$f":"IF(R110=\"\",\"\",\"-\"&VLOOKUP(R110,EventConditionConfig!A:C,3,FALSE)&IF(S110=\"\",\"\",CHAR(10)&\"-\"&VLOOKUP(S110,EventConditionConfig!A:C,3,FALSE)))","v":""},1,"1000304","5104",5104,"我在寻找鲲鹏，你们知道它在哪里吗？",null,"",null,null,"",{"$nulls":4},{"$f":"IF(A110=\"\",\"\",IF(ISNUMBER(Y110),2,IF(A111=\"\",IF(OR(AK110>0,VLOOKUP(O110,EventConfig!A:C,3,FALSE)=4),3,\"\"),1)))","v":1},1000304,null,5104]
[{"$f":"O111*100+P111","v":1000304},5100,"蜩鸟和小麻雀对你的到来很好奇","",{"$nulls":5},102,{"$f":"IF(J111=\"\",\"\",VLOOKUP(J111,EventNPC!A:E,5,FALSE))","v":"小麻雀"},5105,"（扑棱翅膀）是想要从北海飞往南海的超级大鸟吧？",null,10003,4,"",null,null,{"$f":"IF(R111=\"\",\"\",\"-\"&VLOOKUP(R111,EventConditionConfig!A:C,3,FALSE)&IF(S111=\"\",\"\",CHAR(10)&\"-\"&VLOOKUP(S111,EventConditionConfig!A:C,3,FALSE)))","v":""},null,"","","",null,null,"",null,null,"",{"$nulls":4},{"$f":"IF(A111=\"\",\"\",IF(ISNUMBER(Y111),2,IF(A112=\"\",IF(OR(AK111>0,VLOOKUP(O111,EventConfig!A:C,3,FALSE)=4),3,\"\"),1)))","v":1},1000305,null,5105]
[{"$f":"O112*100+P112","v":1000305},5100,"蜩鸟和小麻雀对你的到来很好奇","",{"$nulls":5},102,{"$f":"IF(J112=\"\",\"\",VLOOKUP(J112,EventNPC!A:E,5,FALSE))","v":"小麻雀"},5106,"我就想不明白，她为何要飞如此之远，太奇怪啦！",null,10003,5,"",null,null,{"$f":"IF(R112=\"\",\"\",\"-\"&VLOOKUP(R112,EventConditionConfig!A:C,3,FALSE)&IF(S112=\"\",\"\",CHAR(10)&\"-\"&VLOOKUP(S112,EventConditionConfig!A:C,3,FALSE)))","v":""},1,"1000306","5107",5107,"鲲鹏是在追求心中的目标吧。",null,"",null,null,"",{"$nulls":4},{"$f":"IF(A112=\"\",\"\",IF(ISNUMBER(Y112),2,IF(A113=\"\",IF(OR(AK112>0,VLOOKUP(O112,EventConfig!A:C,3,FALSE)=4),3,\"\"),1)))","v":1},1000306,null,5107]
[{"$f":"O113*100+P113","v":1000306},5100,"蜩鸟和小麻雀对你的到来很好奇","",{"$nulls":5},102,{"$f":"IF(J113=\"\",\"\",VLOOKUP(J113,EventNPC!A:E,5,FALSE))","v":"小麻雀"},5108,"（偏头想了想）目标？我天天在这里上蹿下跳，在附近树林飞来飞去，就已经很幸福啦。",null,10003,6,"",null,null,{"$f":"IF(R113=\"\",\"\",\"-\"&VLOOKUP(R113,EventConditionConfig!A:C,3,FALSE)&IF(S113=\"\",\"\",CHAR(10)&\"-\"&VLOOKUP(S113,EventConditionConfig!A:C,3,FALSE)))","v":""},null,"","","",null,null,"",null,null,"",{"$nulls":4},{"$f":"IF(A113=\"\",\"\",IF(ISNUMBER(Y113),2,IF(A114=\"\",IF(OR(AK113>0,VLOOKUP(O113,EventConfig!A:C,3,FALSE)=4),3,\"\"),1)))","v":1},1000307,null,5108]
[{"$f":"O114*100+P114","v":1000307},5100,"蜩鸟和小麻雀对你的到来很好奇","",{"$nulls":5},102,{"$f":"IF(J114=\"\",\"\",VLOOKUP(J114,EventNPC!A:E,5,FALSE))","v":"小麻雀"},5109,"就那大傻鸟，非要飞那么远，又笨又蠢...真没意思。",null,10003,7,"",null,null,{"$f":"IF(R114=\"\",\"\",\"-\"&VLOOKUP(R114,EventConditionConfig!A:C,3,FALSE)&IF(S114=\"\",\"\",CHAR(10)&\"-\"&VLOOKUP(S114,EventConditionConfig!A:C,3,FALSE)))","v":""},1,"1000308;1000308","5110;5111",5110,"你说得也有一定道理…",null,5111,"你懂什么..这大鹏鸟可比你更有志向多了。",null,"",{"$nulls":4},{"$f":"IF(A114=\"\",\"\",IF(ISNUMBER(Y114),2,IF(A115=\"\",IF(OR(AK114>0,VLOOKUP(O114,EventConfig!A:C,3,FALSE)=4),3,\"\"),1)))","v":1},1000308,null,5111]
[{"$f":"O115*100+P115","v":1000308},5100,"蜩鸟和小麻雀对你的到来很好奇","",{"$nulls":5},101,{"$f":"IF(J115=\"\",\"\",VLOOKUP(J115,EventNPC!A:E,5,FALSE))","v":"蜩鸟"},5112,"（翻飞一圈）志向有什么用？到头来还不是风停了就落地。",null,10003,8,"",null,null,{"$f":"IF(R115=\"\",\"\",\"-\"&VLOOKUP(R115,EventConditionConfig!A:C,3,FALSE)&IF(S115=\"\",\"\",CHAR(10)&\"-\"&VLOOKUP(S115,EventConditionConfig!A:C,3,FALSE)))","v":""},1,"1000309","5113",5113,"......",null,"",null,null,"",{"$nulls":4},{"$f":"IF(A115=\"\",\"\",IF(ISNUMBER(Y115),2,IF(A116=\"\",IF(OR(AK115>0,VLOOKUP(O115,EventConfig!A:C,3,FALSE)=4),3,\"\"),1)))","v":1},1000309,null,5113]
[{"$f":"O116*100+P116","v":1000309},5100,"蜩鸟和小麻雀对你的到来很好奇","",{"$nulls":6},{"$f":"IF(J116=\"\",\"\",VLOOKUP(J116,EventNPC!A:E,5,FALSE))","v":""},5114,"（此时，结界微动，一缕风穿林而过，古径阵法竟有一丝松动）",null,10003,9,"",null,null,{"$f":"IF(R116=\"\",\"\",\"-\"&VLOOKUP(R116,EventConditionConfig!A:C,3,FALSE)&IF(S116=\"\",\"\",CHAR(10)&\"-\"&VLOOKUP(S116,EventConditionConfig!A:C,3,FALSE)))","v":""},null,"","","",null,null,"",null,null,"",{"$nulls":4},{"$f":"IF(A116=\"\",\"\",IF(ISNUMBER(Y116),2,IF(A117=\"\",IF(OR(AK116>0,VLOOKUP(O116,EventConfig!A:C,3,FALSE)=4),3,\"\"),1)))","v":3},10004,null,5114]
[null,"",null,"",{"$nulls":7},"",null,null,null,"","",null,null,{"$f":"IF(R117=\"\",\"\",\"-\"&VLOOKUP(R117,EventConditionConfig!A:C,3,FALSE)&IF(S117=\"\",\"\",CHAR(10)&\"-\"&VLOOKUP(S117,EventConditionConfig!A:C,3,FALSE)))","v":""},null,"","","",null,null,"",null,null,"",{"$nulls":4},{"$f":"IF(A117=\"\",\"\",IF(ISNUMBER(Y117),2,IF(A118=\"\",IF(OR(AK117>0,VLOOKUP(O117,EventConfig!A:C,3,FALSE)=4),3,\"\"),1)))","v":""},"",null,""]
[{"$f":"O118*100+P118","v":1000401},5115,"原来它们就是镇守阵法的结界兽",5116,"击败结界兽",{"$nulls":4},101,{"$f":"IF(J118=\"\",\"\",VLOOKUP(J118,EventNPC!A:E,5,FALSE))","v":"蜩鸟"},5117,"这结界似乎有所反应…",null,10004,1,"",null,null,{"$f":"IF(R118=\"\",\"\",\"-\"&VLOOKUP(R118,EventConditionConfig!A:C,3,FALSE)&IF(S118=\"\",\"\",CHAR(10)&\"-\"&VLOOKUP(S118,EventConditionConfig!A:C,3,FALSE)))","v":""},1,"1000402","5118",5118,"与你们聊天很有意思，不过今天我是非过去不可，没人能阻止我重返仙途！",null,"",null,null,"",{"$nulls":4},{"$f":"IF(A118=\"\",\"\",IF(ISNUMBER(Y118),2,IF(A119=\"\",IF(OR(AK118>0,VLOOKUP(O118,EventConfig!A:C,3,FALSE)=4),3,\"\"),1)))","v":1},1000402,null,5118]
[{"$f":"O119*100+P119","v":1000402},5115,"原来它们就是镇守阵法的结界兽",5116,"击败结界兽",{"$nulls":4},102,{"$f":"IF(J119=\"\",\"\",VLOOKUP(J119,EventNPC!A:E,5,FALSE))","v":"小麻雀"},5119,"\"小鸟..\"现身吧！",null,10004,2,"",null,null,{"$f":"IF(R119=\"\",\"\",\"-\"&VLOOKUP(R119,EventConditionConfig!A:C,3,FALSE)&IF(S119=\"\",\"\",CHAR(10)&\"-\"&VLOOKUP(S119,EventConditionConfig!A:C,3,FALSE)))","v":""},null,"","","",null,null,"",null,null,"",{"$nulls":4},{"$f":"IF(A119=\"\",\"\",IF(ISNUMBER(Y119),2,IF(A120=\"\",IF(OR(AK119>0,VLOOKUP(O119,EventConfig!A:C,3,FALSE)=4),3,\"\"),1)))","v":1},1000403,null,5119]
[{"$f":"O120*100+P120","v":1000403},5115,"原来它们就是镇守阵法的结界兽",5116,"击败结界兽",{"$nulls":4},101,{"$f":"IF(J120=\"\",\"\",VLOOKUP(J120,EventNPC!A:E,5,FALSE))","v":"蜩鸟"},5120,"（轻轻飞下来..）又来...来吧来吧..",null,10004,3,"",null,null,{"$f":"IF(R120=\"\",\"\",\"-\"&VLOOKUP(R120,EventConditionConfig!A:C,3,FALSE)&IF(S120=\"\",\"\",CHAR(10)&\"-\"&VLOOKUP(S120,EventConditionConfig!A:C,3,FALSE)))","v":""},{"$f":"IF(Y120=\"\",\"\",IF(ISTEXT(Y120),1,2))","v":2},1002,"","",1002,null,"",null,null,"",{"$nulls":4},{"$f":"IF(A120=\"\",\"\",IF(ISNUMBER(Y120),2,IF(A121=\"\",IF(OR(AK120>0,VLOOKUP(O120,EventConfig!A:C,3,FALSE)=4),3,\"\"),1)))","v":2},"1000404;101",null,5120]
[{"$f":"O121*100+P121","v":1000404},5115,"原来它们就是镇守阵法的结界兽","",{"$nulls":5},102,{"$f":"IF(J121=\"\",\"\",VLOOKUP(J121,EventNPC!A:E,5,FALSE))","v":"小麻雀"},5121,"这么想过去，就去吧...",null,10004,4,"",null,null,{"$f":"IF(R121=\"\",\"\",\"-\"&VLOOKUP(R121,EventConditionConfig!A:C,3,FALSE)&IF(S121=\"\",\"\",CHAR(10)&\"-\"&VLOOKUP(S121,EventConditionConfig!A:C,3,FALSE)))","v":""},null,"","","",null,null,"",null,null,"",{"$nulls":4},{"$f":"IF(A121=\"\",\"\",IF(ISNUMBER(Y121),2,IF(A122=\"\",IF(OR(AK121>0,VLOOKUP(O121,EventConfig!A:C,3,FALSE)=4),3,\"\"),1)))","v":3},10005,null,5121]
[null,"",null,"",{"$nulls":7},"",null,null,null,"","",null,null,{"$f":"IF(R122=\"\",\"\",\"-\"&VLOOKUP(R122,EventConditionConfig!A:C,3,FALSE)&IF(S122=\"\",\"\",CHAR(10)&\"-\"&VLOOKUP(S122,EventConditionConfig!A:C,3,FALSE)))","v":""},null,"","","",null,null,"",null,null,"",{"$nulls":4},{"$f":"IF(A122=\"\",\"\",IF(ISNUMBER(Y122),2,IF(A123=\"\",IF(OR(AK122>0,VLOOKUP(O122,EventConfig!A:C,3,FALSE)=4),3,\"\"),1)))","v":""},"",null,""]
[{"$f":"O123*100+P123","v":1000501},5122,"初见疯道人","",{"$nulls":6},{"$f":"IF(J123=\"\",\"\",VLOOKUP(J123,EventNPC!A:E,5,FALSE))","v":""},5123,"你穿过古径结界，来到一片被风托起的浮空灵岛群。",null,10005,1,"",null,null,{"$f":"IF(R123=\"\",\"\",\"-\"&VLOOKUP(R123,EventConditionConfig!A:C,3,FALSE)&IF(S123=\"\",\"\",CHAR(10)&\"-\"&VLOOKUP(S123,EventConditionConfig!A:C,3,FALSE)))","v":""},null,"","","",null,null,"",null,null,"",{"$nulls":4},{"$f":"IF(A123=\"\",\"\",IF(ISNUMBER(Y123),2,IF(A124=\"\",IF(OR(AK123>0,VLOOKUP(O123,EventConfig!A:C,3,FALSE)=4),3,\"\"),1)))","v":1},1000502,null,5123]
[{"$f":"O124*100+P124","v":1000502},5122,"初见疯道人","",{"$nulls":6},{"$f":"IF(J124=\"\",\"\",VLOOKUP(J124,EventNPC!A:E,5,FALSE))","v":""},5124,"风势强劲，岛与岛之间缝隙深不见底，无桥无梯。",null,10005,2,"",null,null,{"$f":"IF(R124=\"\",\"\",\"-\"&VLOOKUP(R124,EventConditionConfig!A:C,3,FALSE)&IF(S124=\"\",\"\",CHAR(10)&\"-\"&VLOOKUP(S124,EventConditionConfig!A:C,3,FALSE)))","v":""},null,"","","",null,null,"",null,null,"",{"$nulls":4},{"$f":"IF(A124=\"\",\"\",IF(ISNUMBER(Y124),2,IF(A125=\"\",IF(OR(AK124>0,VLOOKUP(O124,EventConfig!A:C,3,FALSE)=4),3,\"\"),1)))","v":1},1000503,null,5124]
[{"$f":"O125*100+P125","v":1000503},5122,"初见疯道人","",{"$nulls":6},{"$f":"IF(J125=\"\",\"\",VLOOKUP(J125,EventNPC!A:E,5,FALSE))","v":""},5125,"此处盘踞一位神秘道人，常独自站在岛边望风，仿佛等待什么。",null,10005,3,"",null,null,{"$f":"IF(R125=\"\",\"\",\"-\"&VLOOKUP(R125,EventConditionConfig!A:C,3,FALSE)&IF(S125=\"\",\"\",CHAR(10)&\"-\"&VLOOKUP(S125,EventConditionConfig!A:C,3,FALSE)))","v":""},null,"","","",null,null,"",null,null,"",{"$nulls":4},{"$f":"IF(A125=\"\",\"\",IF(ISNUMBER(Y125),2,IF(A126=\"\",IF(OR(AK125>0,VLOOKUP(O125,EventConfig!A:C,3,FALSE)=4),3,\"\"),1)))","v":1},1000504,null,5125]
[{"$f":"O126*100+P126","v":1000504},5122,"初见疯道人","",{"$nulls":6},{"$f":"IF(J126=\"\",\"\",VLOOKUP(J126,EventNPC!A:E,5,FALSE))","v":""},5126,"（你尝试御剑，却在风中打转，被吹回原地）",null,10005,4,"",null,null,{"$f":"IF(R126=\"\",\"\",\"-\"&VLOOKUP(R126,EventConditionConfig!A:C,3,FALSE)&IF(S126=\"\",\"\",CHAR(10)&\"-\"&VLOOKUP(S126,EventConditionConfig!A:C,3,FALSE)))","v":""},1,"1000505","5127",5127,"前辈，这里的风太大，我无法飞行，请教如何才能通过？",null,"",null,null,"",{"$nulls":4},{"$f":"IF(A126=\"\",\"\",IF(ISNUMBER(Y126),2,IF(A127=\"\",IF(OR(AK126>0,VLOOKUP(O126,EventConfig!A:C,3,FALSE)=4),3,\"\"),1)))","v":1},1000505,null,5127]
[1000505,5122,"初见疯道人","",{"$nulls":5},103,{"$f":"IF(J127=\"\",\"\",VLOOKUP(J127,EventNPC!A:E,5,FALSE))","v":"疯道人"},5128,"......",null,10005,5,"",null,null,{"$f":"IF(R127=\"\",\"\",\"-\"&VLOOKUP(R127,EventConditionConfig!A:C,3,FALSE)&IF(S127=\"\",\"\",CHAR(10)&\"-\"&VLOOKUP(S127,EventConditionConfig!A:C,3,FALSE)))","v":""},1,"1000506","5129",5129,"前辈，我准备前往北海深处，寻鲲鹏。",null,"",null,null,"",{"$nulls":4},{"$f":"IF(A127=\"\",\"\",IF(ISNUMBER(Y127),2,IF(A128=\"\",IF(OR(AK127>0,VLOOKUP(O127,EventConfig!A:C,3,FALSE)=4),3,\"\"),1)))","v":1},1000506,null,5129]
[1000506,5122,"初见疯道人","",{"$nulls":5},103,{"$f":"IF(J128=\"\",\"\",VLOOKUP(J128,EventNPC!A:E,5,FALSE))","v":"疯道人"},5130,"鲲鹏？……世间竟还有人记得它。",null,10005,6,"",null,null,{"$f":"IF(R128=\"\",\"\",\"-\"&VLOOKUP(R128,EventConditionConfig!A:C,3,FALSE)&IF(S128=\"\",\"\",CHAR(10)&\"-\"&VLOOKUP(S128,EventConditionConfig!A:C,3,FALSE)))","v":""},null,"","","",null,null,"",null,null,"",{"$nulls":4},{"$f":"IF(A128=\"\",\"\",IF(ISNUMBER(Y128),2,IF(A129=\"\",IF(OR(AK128>0,VLOOKUP(O128,EventConfig!A:C,3,FALSE)=4),3,\"\"),1)))","v":1},1000507,null,5130]
[{"$f":"O129*100+P129","v":1000507},5122,"初见疯道人","",{"$nulls":5},103,{"$f":"IF(J129=\"\",\"\",VLOOKUP(J129,EventNPC!A:E,5,FALSE))","v":"疯道人"},5131,"（说着从手中掏出一个碎片，往空中一震，瞬间风停）过来吧。",null,10005,7,"",null,null,{"$f":"IF(R129=\"\",\"\",\"-\"&VLOOKUP(R129,EventConditionConfig!A:C,3,FALSE)&IF(S129=\"\",\"\",CHAR(10)&\"-\"&VLOOKUP(S129,EventConditionConfig!A:C,3,FALSE)))","v":""},null,"","","",null,null,"",null,null,"",{"$nulls":4},{"$f":"IF(A129=\"\",\"\",IF(ISNUMBER(Y129),2,IF(A130=\"\",IF(OR(AK129>0,VLOOKUP(O129,EventConfig!A:C,3,FALSE)=4),3,\"\"),1)))","v":1},1000508,null,5131]
[{"$f":"O130*100+P130","v":1000508},5122,"初见疯道人","",{"$nulls":5},103,{"$f":"IF(J130=\"\",\"\",VLOOKUP(J130,EventNPC!A:E,5,FALSE))","v":"疯道人"},5132,"说吧，为何寻那鲲鹏？",null,10005,8,"",null,null,{"$f":"IF(R130=\"\",\"\",\"-\"&VLOOKUP(R130,EventConditionConfig!A:C,3,FALSE)&IF(S130=\"\",\"\",CHAR(10)&\"-\"&VLOOKUP(S130,EventConditionConfig!A:C,3,FALSE)))","v":""},1,"1000509;1000509","5133;5134",5133,"冲虚真人让我去的",null,5134,"我只是好奇..",null,"",{"$nulls":4},{"$f":"IF(A130=\"\",\"\",IF(ISNUMBER(Y130),2,IF(A131=\"\",IF(OR(AK130>0,VLOOKUP(O130,EventConfig!A:C,3,FALSE)=4),3,\"\"),1)))","v":1},1000509,null,5134]
[1000509,5122,"初见疯道人","",{"$nulls":5},103,{"$f":"IF(J131=\"\",\"\",VLOOKUP(J131,EventNPC!A:E,5,FALSE))","v":"疯道人"},5135,"你可知鹏飞九万里，需凭借龙卷风，才可达成？",null,10005,9,"",null,null,{"$f":"IF(R131=\"\",\"\",\"-\"&VLOOKUP(R131,EventConditionConfig!A:C,3,FALSE)&IF(S131=\"\",\"\",CHAR(10)&\"-\"&VLOOKUP(S131,EventConditionConfig!A:C,3,FALSE)))","v":""},1,"1000510","5136",5136,"请前辈赐教......",null,"",null,null,"",{"$nulls":4},{"$f":"IF(A131=\"\",\"\",IF(ISNUMBER(Y131),2,IF(A132=\"\",IF(OR(AK131>0,VLOOKUP(O131,EventConfig!A:C,3,FALSE)=4),3,\"\"),1)))","v":1},1000510,null,5136]
[1000510,5122,"初见疯道人","",{"$nulls":5},103,{"$f":"IF(J132=\"\",\"\",VLOOKUP(J132,EventNPC!A:E,5,FALSE))","v":"疯道人"},5137,"看你修为尚浅，跟你说多了也无用。",null,10005,10,"",null,null,{"$f":"IF(R132=\"\",\"\",\"-\"&VLOOKUP(R132,EventConditionConfig!A:C,3,FALSE)&IF(S132=\"\",\"\",CHAR(10)&\"-\"&VLOOKUP(S132,EventConditionConfig!A:C,3,FALSE)))","v":""},null,"","","",null,null,"",null,null,"",{"$nulls":4},{"$f":"IF(A132=\"\",\"\",IF(ISNUMBER(Y132),2,IF(A133=\"\",IF(OR(AK132>0,VLOOKUP(O132,EventConfig!A:C,3,FALSE)=4),3,\"\"),1)))","v":1},1000511,null,5137]
[{"$f":"O133*100+P133","v":1000511},5122,"初见疯道人","",{"$nulls":5},103,{"$f":"IF(J133=\"\",\"\",VLOOKUP(J133,EventNPC!A:E,5,FALSE))","v":"疯道人"},5138,"再往前是我师弟的洞府了，他可不好说话。",null,10005,11,"",null,null,{"$f":"IF(R133=\"\",\"\",\"-\"&VLOOKUP(R133,EventConditionConfig!A:C,3,FALSE)&IF(S133=\"\",\"\",CHAR(10)&\"-\"&VLOOKUP(S133,EventConditionConfig!A:C,3,FALSE)))","v":""},null,"","","",null,null,"",null,null,"",{"$nulls":4},{"$f":"IF(A133=\"\",\"\",IF(ISNUMBER(Y133),2,IF(A134=\"\",IF(OR(AK133>0,VLOOKUP(O133,EventConfig!A:C,3,FALSE)=4),3,\"\"),1)))","v":1},1000512,null,5138]
[{"$f":"O134*100+P134","v":1000512},5122,"初见疯道人",{"$f":"IF(E134=\"\",\"\",IF(E134=E133,D133,MAX(AL133,AL132,B134)+1))","v":""},{"$nulls":5},103,{"$f":"IF(J134=\"\",\"\",VLOOKUP(J134,EventNPC!A:E,5,FALSE))","v":"疯道人"},{"$f":"IF(M134=\"\",\"\",MAX(AL133,AL132,B134,D134)+1)","v":5139},"就在我这附近好好修炼吧，至少提升至筑基修为。",null,10005,12,"",null,null,{"$f":"IF(R134=\"\",\"\",\"-\"&VLOOKUP(R134,EventConditionConfig!A:C,3,FALSE)&IF(S134=\"\",\"\",CHAR(10)&\"-\"&VLOOKUP(S134,EventConditionConfig!A:C,3,FALSE)))","v":""},1,"1000513","5140",5140,"前辈为何如此助我？",null,"",null,null,"",{"$nulls":4},{"$f":"IF(A134=\"\",\"\",IF(ISNUMBER(Y134),2,IF(A135=\"\",IF(OR(AK134>0,VLOOKUP(O134,EventConfig!A:C,3,FALSE)=4),3,\"\"),1)))","v":1},1000513,null,{"$f":"IF(A134=\"\",\"\",MAX(B134,D134,L134,X134,AA134,AL133,AL132,AD134))","v":5140}]
[1000513,5122,"初见疯道人","",{"$nulls":5},103,{"$f":"IF(J135=\"\",\"\",VLOOKUP(J135,EventNPC!A:E,5,FALSE))","v":"疯道人"},5141,"（疯道人望你一眼，没有回答，但丢过来一本功法）修到[筑基-中期]再来找我。",null,10005,13,"",null,null,{"$f":"IF(R135=\"\",\"\",\"-\"&VLOOKUP(R135,EventConditionConfig!A:C,3,FALSE)&IF(S135=\"\",\"\",CHAR(10)&\"-\"&VLOOKUP(S135,EventConditionConfig!A:C,3,FALSE)))","v":""},null,"","","",null,null,"",null,null,"",{"$nulls":4},{"$f":"IF(A135=\"\",\"\",IF(ISNUMBER(Y135),2,IF(A136=\"\",IF(OR(AK135>0,VLOOKUP(O135,EventConfig!A:C,3,FALSE)=4),3,\"\"),1)))","v":1},1000514,null,5141]
[{"$f":"O136*100+P136","v":1000514},5122,"初见疯道人","",{"$nulls":6},{"$f":"IF(J136=\"\",\"\",VLOOKUP(J136,EventNPC!A:E,5,FALSE))","v":""},"",null,null,10005,14,"2",2,null,{"$f":"IF(R136=\"\",\"\",\"-\"&VLOOKUP(R136,EventConditionConfig!A:C,3,FALSE)&IF(S136=\"\",\"\",CHAR(10)&\"-\"&VLOOKUP(S136,EventConditionConfig!A:C,3,FALSE)))","v":"-达到境界：练气-中期"},null,"","","",null,null,"",null,null,"",{"$nulls":4},{"$f":"IF(A136=\"\",\"\",IF(ISNUMBER(Y136),2,IF(A137=\"\",IF(OR(AK136>0,VLOOKUP(O136,EventConfig!A:C,3,FALSE)=4),3,\"\"),1)))","v":3},10006,null,5141]
[null,"",null,"",{"$nulls":7},"",null,null,null,"","",null,null,{"$f":"IF(R137=\"\",\"\",\"-\"&VLOOKUP(R137,EventConditionConfig!A:C,3,FALSE)&IF(S137=\"\",\"\",CHAR(10)&\"-\"&VLOOKUP(S137,EventConditionConfig!A:C,3,FALSE)))","v":""},null,"","","",null,null,"",null,null,"",{"$nulls":4},{"$f":"IF(A137=\"\",\"\",IF(ISNUMBER(Y137),2,IF(A138=\"\",IF(OR(AK137>0,VLOOKUP(O137,EventConfig!A:C,3,FALSE)=4),3,\"\"),1)))","v":""},"",null,""]
[{"$f":"O138*100+P138","v":1000601},5142,"疯道人赠与一半风灵珠","",{"$nulls":5},103,{"$f":"IF(J138=\"\",\"\",VLOOKUP(J138,EventNPC!A:E,5,FALSE))","v":"疯道人"},5143,"你已突破筑基前期达到中期，灵力通畅，是时候去会一会我的师弟了。",null,10006,1,"",null,null,{"$f":"IF(R138=\"\",\"\",\"-\"&VLOOKUP(R138,EventConditionConfig!A:C,3,FALSE)&IF(S138=\"\",\"\",CHAR(10)&\"-\"&VLOOKUP(S138,EventConditionConfig!A:C,3,FALSE)))","v":""},1,"1000602;1000602","5144;5145",5144,"是的。鲲鹏之行，志在必达。",null,5145,"看看风的尽头到底有什么。",null,"",{"$nulls":4},{"$f":"IF(A138=\"\",\"\",IF(ISNUMBER(Y138),2,IF(A139=\"\",IF(OR(AK138>0,VLOOKUP(O138,EventConfig!A:C,3,FALSE)=4),3,\"\"),1)))","v":1},1000602,null,5145]
[{"$f":"O139*100+P139","v":1000602},5142,"疯道人赠与一半风灵珠","",{"$nulls":5},103,{"$f":"IF(J139=\"\",\"\",VLOOKUP(J139,EventNPC!A:E,5,FALSE))","v":"疯道人"},5146,"（轻轻一笑）你说风的尽头……我也曾想看。\n（他望向远处翻涌的云海）",null,10006,2,"",null,null,{"$f":"IF(R139=\"\",\"\",\"-\"&VLOOKUP(R139,EventConditionConfig!A:C,3,FALSE)&IF(S139=\"\",\"\",CHAR(10)&\"-\"&VLOOKUP(S139,EventConditionConfig!A:C,3,FALSE)))","v":""},1,"1000603","5147",5147,"是的。鲲鹏之行，志在必达。",null,"",null,null,"",{"$nulls":4},{"$f":"IF(A139=\"\",\"\",IF(ISNUMBER(Y139),2,IF(A140=\"\",IF(OR(AK139>0,VLOOKUP(O139,EventConfig!A:C,3,FALSE)=4),3,\"\"),1)))","v":1},1000603,null,5147]
[{"$f":"O140*100+P140","v":1000603},5142,"疯道人赠与一半风灵珠","",{"$nulls":5},103,{"$f":"IF(J140=\"\",\"\",VLOOKUP(J140,EventNPC!A:E,5,FALSE))","v":"疯道人"},5148,"我和师弟，共守这处风眼多年。我想出去，他却偏要留。",null,10006,3,"",null,null,{"$f":"IF(R140=\"\",\"\",\"-\"&VLOOKUP(R140,EventConditionConfig!A:C,3,FALSE)&IF(S140=\"\",\"\",CHAR(10)&\"-\"&VLOOKUP(S140,EventConditionConfig!A:C,3,FALSE)))","v":""},null,"","","",null,null,"",null,null,"",{"$nulls":4},{"$f":"IF(A140=\"\",\"\",IF(ISNUMBER(Y140),2,IF(A141=\"\",IF(OR(AK140>0,VLOOKUP(O140,EventConfig!A:C,3,FALSE)=4),3,\"\"),1)))","v":1},1000604,null,5148]
[{"$f":"O141*100+P141","v":1000604},{"$f":"IF(C141=\"\",\"\",IF(C141=C140,B140,MAX(AL140,AL139)+1))","v":5142},"疯道人赠与一半风灵珠","",{"$nulls":5},103,{"$f":"IF(J141=\"\",\"\",VLOOKUP(J141,EventNPC!A:E,5,FALSE))","v":"疯道人"},5149,"风灵珠碎成两半，一半在我这里，另一半……在他洞府中。",null,10006,4,"",null,null,{"$f":"IF(R141=\"\",\"\",\"-\"&VLOOKUP(R141,EventConditionConfig!A:C,3,FALSE)&IF(S141=\"\",\"\",CHAR(10)&\"-\"&VLOOKUP(S141,EventConditionConfig!A:C,3,FALSE)))","v":""},null,"","",{"$f":"IF(OR(ISNUMBER(Y141),Y141=\"\"),\"\",MAX(AL140,AL138,B141,D141,L141)+1)","v":""},null,null,{"$f":"IF(OR(ISNUMBER(AB141),AB141=\"\"),\"\",X141+1)","v":""},null,null,{"$f":"IF(OR(ISNUMBER(AE141),AE141=\"\"),\"\",AA141+1)","v":""},{"$nulls":4},{"$f":"IF(A141=\"\",\"\",IF(ISNUMBER(Y141),2,IF(A142=\"\",IF(OR(AK141>0,VLOOKUP(O141,EventConfig!A:C,3,FALSE)=4),3,\"\"),1)))","v":1},1000605,null,5149]
[{"$f":"O142*100+P142","v":1000605},5142,"疯道人赠与一半风灵珠","",{"$nulls":5},103,{"$f":"IF(J142=\"\",\"\",VLOOKUP(J142,EventNPC!A:E,5,FALSE))","v":"疯道人"},5150,"你若想见鲲鹏，必须要集齐整个风灵珠。",null,10006,5,"",null,null,{"$f":"IF(R142=\"\",\"\",\"-\"&VLOOKUP(R142,EventConditionConfig!A:C,3,FALSE)&IF(S142=\"\",\"\",CHAR(10)&\"-\"&VLOOKUP(S142,EventConditionConfig!A:C,3,FALSE)))","v":""},null,{"$f":"IF(U142=1,_xlfn.TEXTJOIN(\";\",1,IF(Z142=\"\",A142+1,Z142),IF(AND(AA142<>\"\",AC142=\"\"),A142+1,AC142),IF(AND(AD142<>\"\",AF142=\"\"),A142+1,AF142)),IF(U142=2,Y142,\"\"))","v":""},{"$f":"_xlfn.TEXTJOIN(\";\",1,X142,AA142,AD142)","v":""},"",null,null,"",null,null,"",{"$nulls":4},{"$f":"IF(A142=\"\",\"\",IF(ISNUMBER(Y142),2,IF(A143=\"\",IF(OR(AK142>0,VLOOKUP(O142,EventConfig!A:C,3,FALSE)=4),3,\"\"),1)))","v":1},{"$f":"IF(AI142=\"\",\"\",CHOOSE(AI142,IF(AK142=\"\",A142+1,AK142),CONCATENATE(IF(AK142=\"\",A142+1,AK142),\";101\"),IF(AK142=\"\",O142+1,AK142)))","v":1000606},null,5150]
[{"$f":"O143*100+P143","v":1000606},5142,"疯道人赠与一半风灵珠","",{"$nulls":5},103,{"$f":"IF(J143=\"\",\"\",VLOOKUP(J143,EventNPC!A:E,5,FALSE))","v":"疯道人"},5151,"我这一半给你，可助你在大风中，来去自如。",null,10006,6,"",null,null,{"$f":"IF(R143=\"\",\"\",\"-\"&VLOOKUP(R143,EventConditionConfig!A:C,3,FALSE)&IF(S143=\"\",\"\",CHAR(10)&\"-\"&VLOOKUP(S143,EventConditionConfig!A:C,3,FALSE)))","v":""},null,"","","",null,null,"",null,null,"",{"$nulls":4},{"$f":"IF(A143=\"\",\"\",IF(ISNUMBER(Y143),2,IF(A144=\"\",IF(OR(AK143>0,VLOOKUP(O143,EventConfig!A:C,3,FALSE)=4),3,\"\"),1)))","v":3},10007,null,5151]
[null,"",null,"",{"$nulls":7},"",null,null,null,"","",null,null,{"$f":"IF(R144=\"\",\"\",\"-\"&VLOOKUP(R144,EventConditionConfig!A:C,3,FALSE)&IF(S144=\"\",\"\",CHAR(10)&\"-\"&VLOOKUP(S144,EventConditionConfig!A:C,3,FALSE)))","v":""},null,"","","",null,null,"",null,null,"",{"$nulls":4},{"$f":"IF(A144=\"\",\"\",IF(ISNUMBER(Y144),2,IF(A145=\"\",IF(OR(AK144>0,VLOOKUP(O144,EventConfig!A:C,3,FALSE)=4),3,\"\"),1)))","v":""},"",null,""]
[{"$f":"O145*100+P145","v":1000701},5152,"没想到痴道人一来就要与你交手","",{"$nulls":6},{"$f":"IF(J145=\"\",\"\",VLOOKUP(J145,EventNPC!A:E,5,FALSE))","v":""},5153,"你获得了疯道人的半颗风灵珠，在狂风中自由飞行，好不自在。",null,10007,1,"",null,null,{"$f":"IF(R145=\"\",\"\",\"-\"&VLOOKUP(R145,EventConditionConfig!A:C,3,FALSE)&IF(S145=\"\",\"\",CHAR(10)&\"-\"&VLOOKUP(S145,EventConditionConfig!A:C,3,FALSE)))","v":""},null,"","","",null,null,"",null,null,"",{"$nulls":4},{"$f":"IF(A145=\"\",\"\",IF(ISNUMBER(Y145),2,IF(A146=\"\",IF(OR(AK145>0,VLOOKUP(O145,EventConfig!A:C,3,FALSE)=4),3,\"\"),1)))","v":1},1000702,null,5153]
[{"$f":"O146*100+P146","v":1000702},5152,"没想到痴道人一来就要与你交手","",{"$nulls":6},{"$f":"IF(J146=\"\",\"\",VLOOKUP(J146,EventNPC!A:E,5,FALSE))","v":""},5154,"这......就是逍遥游吗？",null,10007,2,"",null,null,{"$f":"IF(R146=\"\",\"\",\"-\"&VLOOKUP(R146,EventConditionConfig!A:C,3,FALSE)&IF(S146=\"\",\"\",CHAR(10)&\"-\"&VLOOKUP(S146,EventConditionConfig!A:C,3,FALSE)))","v":""},null,"","","",null,null,"",null,null,"",{"$nulls":4},{"$f":"IF(A146=\"\",\"\",IF(ISNUMBER(Y146),2,IF(A147=\"\",IF(OR(AK146>0,VLOOKUP(O146,EventConfig!A:C,3,FALSE)=4),3,\"\"),1)))","v":1},1000703,null,5154]
[{"$f":"O147*100+P147","v":1000703},5152,"没想到痴道人一来就要与你交手","",{"$nulls":5},104,{"$f":"IF(J147=\"\",\"\",VLOOKUP(J147,EventNPC!A:E,5,FALSE))","v":"痴道人"},5155,"你终于来了......",null,10007,3,"",null,null,{"$f":"IF(R147=\"\",\"\",\"-\"&VLOOKUP(R147,EventConditionConfig!A:C,3,FALSE)&IF(S147=\"\",\"\",CHAR(10)&\"-\"&VLOOKUP(S147,EventConditionConfig!A:C,3,FALSE)))","v":""},1,"1000704","5156",5156,"你知道我要来？",null,"",null,null,"",{"$nulls":4},{"$f":"IF(A147=\"\",\"\",IF(ISNUMBER(Y147),2,IF(A148=\"\",IF(OR(AK147>0,VLOOKUP(O147,EventConfig!A:C,3,FALSE)=4),3,\"\"),1)))","v":1},1000704,null,5156]
[{"$f":"O148*100+P148","v":1000704},5152,"没想到痴道人一来就要与你交手","",{"$nulls":5},104,{"$f":"IF(J148=\"\",\"\",VLOOKUP(J148,EventNPC!A:E,5,FALSE))","v":"痴道人"},5157,"多说无益，我早已感应到你身上的半颗风灵珠。必是那疯老头让来的。出手吧！",null,10007,4,"",null,null,{"$f":"IF(R148=\"\",\"\",\"-\"&VLOOKUP(R148,EventConditionConfig!A:C,3,FALSE)&IF(S148=\"\",\"\",CHAR(10)&\"-\"&VLOOKUP(S148,EventConditionConfig!A:C,3,FALSE)))","v":""},{"$f":"IF(Y148=\"\",\"\",IF(ISTEXT(Y148),1,2))","v":2},1003,"","",1003,null,"",null,null,"",{"$nulls":4},{"$f":"IF(A148=\"\",\"\",IF(ISNUMBER(Y148),2,IF(A149=\"\",IF(OR(AK148>0,VLOOKUP(O148,EventConfig!A:C,3,FALSE)=4),3,\"\"),1)))","v":2},"1000705;101",null,5157]
[1000705,5152,"没想到痴道人一来就要与你交手","",{"$nulls":5},104,{"$f":"IF(J149=\"\",\"\",VLOOKUP(J149,EventNPC!A:E,5,FALSE))","v":"痴道人"},5158,"（被击倒在一边）够了！",null,10007,5,"",null,null,{"$f":"IF(R149=\"\",\"\",\"-\"&VLOOKUP(R149,EventConditionConfig!A:C,3,FALSE)&IF(S149=\"\",\"\",CHAR(10)&\"-\"&VLOOKUP(S149,EventConditionConfig!A:C,3,FALSE)))","v":""},null,"","","",null,null,"",null,null,"",{"$nulls":4},{"$f":"IF(A149=\"\",\"\",IF(ISNUMBER(Y149),2,IF(A150=\"\",IF(OR(AK149>0,VLOOKUP(O149,EventConfig!A:C,3,FALSE)=4),3,\"\"),1)))","v":3},10008,null,5158]
[null,"",null,"",{"$nulls":7},"",null,null,null,"","",null,null,{"$f":"IF(R150=\"\",\"\",\"-\"&VLOOKUP(R150,EventConditionConfig!A:C,3,FALSE)&IF(S150=\"\",\"\",CHAR(10)&\"-\"&VLOOKUP(S150,EventConditionConfig!A:C,3,FALSE)))","v":""},null,"","","",null,null,"",null,null,"",{"$nulls":4},{"$f":"IF(A150=\"\",\"\",IF(ISNUMBER(Y150),2,IF(A151=\"\",IF(OR(AK150>0,VLOOKUP(O150,EventConfig!A:C,3,FALSE)=4),3,\"\"),1)))","v":""},"",null,""]
[{"$f":"O151*100+P151","v":1000801},5159,"疯痴相聚","",{"$nulls":5},104,{"$f":"IF(J151=\"\",\"\",VLOOKUP(J151,EventNPC!A:E,5,FALSE))","v":"痴道人"},5160,"......",null,10008,1,"",null,null,{"$f":"IF(R151=\"\",\"\",\"-\"&VLOOKUP(R151,EventConditionConfig!A:C,3,FALSE)&IF(S151=\"\",\"\",CHAR(10)&\"-\"&VLOOKUP(S151,EventConditionConfig!A:C,3,FALSE)))","v":""},1,"1000802","5161",5161,"（你靠近痴道人）你真的想一直留在这里？你师兄说你不肯走。",null,"",null,null,"",{"$nulls":4},{"$f":"IF(A151=\"\",\"\",IF(ISNUMBER(Y151),2,IF(A152=\"\",IF(OR(AK151>0,VLOOKUP(O151,EventConfig!A:C,3,FALSE)=4),3,\"\"),1)))","v":1},1000802,null,5161]
[1000802,5159,"疯痴相聚","",{"$nulls":5},104,{"$f":"IF(J152=\"\",\"\",VLOOKUP(J152,EventNPC!A:E,5,FALSE))","v":"痴道人"},5162,"你修炼的时候，有没有过那种感觉——身边的人都在往前走，只有你还在原地。",null,10008,2,"",null,null,{"$f":"IF(R152=\"\",\"\",\"-\"&VLOOKUP(R152,EventConditionConfig!A:C,3,FALSE)&IF(S152=\"\",\"\",CHAR(10)&\"-\"&VLOOKUP(S152,EventConditionConfig!A:C,3,FALSE)))","v":""},null,"","","",null,null,"",null,null,"",{"$nulls":4},{"$f":"IF(A152=\"\",\"\",IF(ISNUMBER(Y152),2,IF(A153=\"\",IF(OR(AK152>0,VLOOKUP(O152,EventConfig!A:C,3,FALSE)=4),3,\"\"),1)))","v":1},1000803,null,5162]
[{"$f":"O153*100+P153","v":1000803},5159,"疯痴相聚","",{"$nulls":5},104,{"$f":"IF(J153=\"\",\"\",VLOOKUP(J153,EventNPC!A:E,5,FALSE))","v":"痴道人"},5163,"我师兄，他悟性极高，一年就能走我三年的路。我不服气，想努力赶上他。",null,10008,3,"",null,null,{"$f":"IF(R153=\"\",\"\",\"-\"&VLOOKUP(R153,EventConditionConfig!A:C,3,FALSE)&IF(S153=\"\",\"\",CHAR(10)&\"-\"&VLOOKUP(S153,EventConditionConfig!A:C,3,FALSE)))","v":""},1,"1000804","5164",5164,"然后呢？",null,"",null,null,"",{"$nulls":4},{"$f":"IF(A153=\"\",\"\",IF(ISNUMBER(Y153),2,IF(A154=\"\",IF(OR(AK153>0,VLOOKUP(O153,EventConfig!A:C,3,FALSE)=4),3,\"\"),1)))","v":1},1000804,null,5164]
[{"$f":"O154*100+P154","v":1000804},5159,"疯痴相聚","",{"$nulls":5},104,{"$f":"IF(J154=\"\",\"\",VLOOKUP(J154,EventNPC!A:E,5,FALSE))","v":"痴道人"},5165,"我一直苦心修炼，可人也困在这儿了……越修炼，越困难，修不动了。",null,10008,4,"",null,null,{"$f":"IF(R154=\"\",\"\",\"-\"&VLOOKUP(R154,EventConditionConfig!A:C,3,FALSE)&IF(S154=\"\",\"\",CHAR(10)&\"-\"&VLOOKUP(S154,EventConditionConfig!A:C,3,FALSE)))","v":""},null,"","","",null,null,"",null,null,"",{"$nulls":4},{"$f":"IF(A154=\"\",\"\",IF(ISNUMBER(Y154),2,IF(A155=\"\",IF(OR(AK154>0,VLOOKUP(O154,EventConfig!A:C,3,FALSE)=4),3,\"\"),1)))","v":1},1000805,null,5165]
[{"$f":"O155*100+P155","v":1000805},5159,"疯痴相聚","",{"$nulls":6},{"$f":"IF(J155=\"\",\"\",VLOOKUP(J155,EventNPC!A:E,5,FALSE))","v":""},5166,"[此时，疯道人踏风而至，就在几步之外]",null,10008,5,"",null,null,{"$f":"IF(R155=\"\",\"\",\"-\"&VLOOKUP(R155,EventConditionConfig!A:C,3,FALSE)&IF(S155=\"\",\"\",CHAR(10)&\"-\"&VLOOKUP(S155,EventConditionConfig!A:C,3,FALSE)))","v":""},null,"","","",null,null,"",null,null,"",{"$nulls":4},{"$f":"IF(A155=\"\",\"\",IF(ISNUMBER(Y155),2,IF(A156=\"\",IF(OR(AK155>0,VLOOKUP(O155,EventConfig!A:C,3,FALSE)=4),3,\"\"),1)))","v":1},1000806,null,5166]
[{"$f":"O156*100+P156","v":1000806},5159,"疯痴相聚","",{"$nulls":5},103,{"$f":"IF(J156=\"\",\"\",VLOOKUP(J156,EventNPC!A:E,5,FALSE))","v":"疯道人"},5167,"师弟，你修着修着，就不记得一开始，是为了什么而修行。",null,10008,{"$f":"IF(O156=\"\",\"\",IF(O156=O155,P155+1,1))","v":6},"",null,null,{"$f":"IF(R156=\"\",\"\",\"-\"&VLOOKUP(R156,EventConditionConfig!A:C,3,FALSE)&IF(S156=\"\",\"\",CHAR(10)&\"-\"&VLOOKUP(S156,EventConditionConfig!A:C,3,FALSE)))","v":""},null,"","","",null,null,"",null,null,"",{"$nulls":4},{"$f":"IF(A156=\"\",\"\",IF(ISNUMBER(Y156),2,IF(A157=\"\",IF(OR(AK156>0,VLOOKUP(O156,EventConfig!A:C,3,FALSE)=4),3,\"\"),1)))","v":1},1000807,null,5167]
[{"$f":"O157*100+P157","v":1000807},5159,"疯痴相聚","",{"$nulls":5},104,{"$f":"IF(J157=\"\",\"\",VLOOKUP(J157,EventNPC!A:E,5,FALSE))","v":"痴道人"},5168,"（抬头）......我，我真的不记得了。",null,10008,7,"",null,null,{"$f":"IF(R157=\"\",\"\",\"-\"&VLOOKUP(R157,EventConditionConfig!A:C,3,FALSE)&IF(S157=\"\",\"\",CHAR(10)&\"-\"&VLOOKUP(S157,EventConditionConfig!A:C,3,FALSE)))","v":""},null,"","","",null,null,"",null,null,"",{"$nulls":4},{"$f":"IF(A157=\"\",\"\",IF(ISNUMBER(Y157),2,IF(A158=\"\",IF(OR(AK157>0,VLOOKUP(O157,EventConfig!A:C,3,FALSE)=4),3,\"\"),1)))","v":1},1000808,null,5168]
[{"$f":"O158*100+P158","v":1000808},5159,"疯痴相聚","",{"$nulls":5},103,{"$f":"IF(J158=\"\",\"\",VLOOKUP(J158,EventNPC!A:E,5,FALSE))","v":"疯道人"},5169,"那就放下风灵珠，和我出去走走。",null,10008,8,"",null,null,{"$f":"IF(R158=\"\",\"\",\"-\"&VLOOKUP(R158,EventConditionConfig!A:C,3,FALSE)&IF(S158=\"\",\"\",CHAR(10)&\"-\"&VLOOKUP(S158,EventConditionConfig!A:C,3,FALSE)))","v":""},null,"","","",null,null,"",null,null,"",{"$nulls":4},{"$f":"IF(A158=\"\",\"\",IF(ISNUMBER(Y158),2,IF(A159=\"\",IF(OR(AK158>0,VLOOKUP(O158,EventConfig!A:C,3,FALSE)=4),3,\"\"),1)))","v":1},1000809,null,5169]
[{"$f":"O159*100+P159","v":1000809},5159,"疯痴相聚","",{"$nulls":5},103,{"$f":"IF(J159=\"\",\"\",VLOOKUP(J159,EventNPC!A:E,5,FALSE))","v":"疯道人"},5170,"[痴道人楞了一下，片刻后轻轻点头]",null,10008,9,{"$f":"_xlfn.TEXTJOIN(\";\",1,R159:S159)","v":""},null,null,{"$f":"IF(R159=\"\",\"\",\"-\"&VLOOKUP(R159,EventConditionConfig!A:C,3,FALSE)&IF(S159=\"\",\"\",CHAR(10)&\"-\"&VLOOKUP(S159,EventConditionConfig!A:C,3,FALSE)))","v":""},null,"","","",null,null,"",null,null,"",{"$nulls":4},{"$f":"IF(A159=\"\",\"\",IF(ISNUMBER(Y159),2,IF(A160=\"\",IF(OR(AK159>0,VLOOKUP(O159,EventConfig!A:C,3,FALSE)=4),3,\"\"),1)))","v":1},1000810,null,5170]
[{"$f":"O160*100+P160","v":1000810},5159,"疯痴相聚","",{"$nulls":6},{"$f":"IF(J160=\"\",\"\",VLOOKUP(J160,EventNPC!A:E,5,FALSE))","v":""},5171,"[突然..洞府周围灵气汇聚，快速涌入痴道人的身体.]",null,10008,10,"",null,null,{"$f":"IF(R160=\"\",\"\",\"-\"&VLOOKUP(R160,EventConditionConfig!A:C,3,FALSE)&IF(S160=\"\",\"\",CHAR(10)&\"-\"&VLOOKUP(S160,EventConditionConfig!A:C,3,FALSE)))","v":""},1,"1000811","5172",5172,"前辈，为何灵气会动！",null,"",null,null,"",{"$nulls":4},{"$f":"IF(A160=\"\",\"\",IF(ISNUMBER(Y160),2,IF(A161=\"\",IF(OR(AK160>0,VLOOKUP(O160,EventConfig!A:C,3,FALSE)=4),3,\"\"),1)))","v":1},1000811,null,5172]
[{"$f":"O161*100+P161","v":1000811},5159,"疯痴相聚","",{"$nulls":5},103,{"$f":"IF(J161=\"\",\"\",VLOOKUP(J161,EventNPC!A:E,5,FALSE))","v":"疯道人"},5173,"恭喜师弟，突破心魔。",null,10008,11,"",null,null,{"$f":"IF(R161=\"\",\"\",\"-\"&VLOOKUP(R161,EventConditionConfig!A:C,3,FALSE)&IF(S161=\"\",\"\",CHAR(10)&\"-\"&VLOOKUP(S161,EventConditionConfig!A:C,3,FALSE)))","v":""},null,"","","",null,null,"",null,null,"",{"$nulls":4},{"$f":"IF(A161=\"\",\"\",IF(ISNUMBER(Y161),2,IF(A162=\"\",IF(OR(AK161>0,VLOOKUP(O161,EventConfig!A:C,3,FALSE)=4),3,\"\"),1)))","v":1},1000812,null,5173]
[{"$f":"O162*100+P162","v":1000812},5159,"疯痴相聚","",{"$nulls":5},104,{"$f":"IF(J162=\"\",\"\",VLOOKUP(J162,EventNPC!A:E,5,FALSE))","v":"痴道人"},5174,"多谢师兄！",null,10008,12,"",null,null,{"$f":"IF(R162=\"\",\"\",\"-\"&VLOOKUP(R162,EventConditionConfig!A:C,3,FALSE)&IF(S162=\"\",\"\",CHAR(10)&\"-\"&VLOOKUP(S162,EventConditionConfig!A:C,3,FALSE)))","v":""},1,"1000813;1000813","5175;5176",5175,"原来如此…",null,5176,"请前辈赐我风灵珠。",null,"",{"$nulls":4},{"$f":"IF(A162=\"\",\"\",IF(ISNUMBER(Y162),2,IF(A163=\"\",IF(OR(AK162>0,VLOOKUP(O162,EventConfig!A:C,3,FALSE)=4),3,\"\"),1)))","v":1},1000813,null,5176]
[{"$f":"O163*100+P163","v":1000813},5159,"疯痴相聚","",{"$nulls":5},104,{"$f":"IF(J163=\"\",\"\",VLOOKUP(J163,EventNPC!A:E,5,FALSE))","v":"痴道人"},5177,"小友莫急… (说罢，痴道人将风灵珠的碎片合成了一颗完整的风灵珠)",null,10008,13,"",null,null,{"$f":"IF(R163=\"\",\"\",\"-\"&VLOOKUP(R163,EventConditionConfig!A:C,3,FALSE)&IF(S163=\"\",\"\",CHAR(10)&\"-\"&VLOOKUP(S163,EventConditionConfig!A:C,3,FALSE)))","v":""},null,"","","",null,null,"",null,null,"",{"$nulls":4},{"$f":"IF(A163=\"\",\"\",IF(ISNUMBER(Y163),2,IF(A164=\"\",IF(OR(AK163>0,VLOOKUP(O163,EventConfig!A:C,3,FALSE)=4),3,\"\"),1)))","v":1},1000814,null,5177]
[{"$f":"O164*100+P164","v":1000814},5159,"疯痴相聚","",{"$nulls":5},104,{"$f":"IF(J164=\"\",\"\",VLOOKUP(J164,EventNPC!A:E,5,FALSE))","v":"痴道人"},5178,"拿好了，这风啊……来一回，不容易。",null,10008,14,"",null,null,{"$f":"IF(R164=\"\",\"\",\"-\"&VLOOKUP(R164,EventConditionConfig!A:C,3,FALSE)&IF(S164=\"\",\"\",CHAR(10)&\"-\"&VLOOKUP(S164,EventConditionConfig!A:C,3,FALSE)))","v":""},null,"","","",null,null,"",null,null,"",{"$nulls":4},{"$f":"IF(A164=\"\",\"\",IF(ISNUMBER(Y164),2,IF(A165=\"\",IF(OR(AK164>0,VLOOKUP(O164,EventConfig!A:C,3,FALSE)=4),3,\"\"),1)))","v":3},10009,null,5178]
[null,"",null,"",{"$nulls":7},"",null,null,null,"","",null,null,{"$f":"IF(R165=\"\",\"\",\"-\"&VLOOKUP(R165,EventConditionConfig!A:C,3,FALSE)&IF(S165=\"\",\"\",CHAR(10)&\"-\"&VLOOKUP(S165,EventConditionConfig!A:C,3,FALSE)))","v":""},null,"","","",null,null,"",null,null,"",{"$nulls":4},{"$f":"IF(A165=\"\",\"\",IF(ISNUMBER(Y165),2,IF(A166=\"\",IF(OR(AK165>0,VLOOKUP(O165,EventConfig!A:C,3,FALSE)=4),3,\"\"),1)))","v":""},"",null,""]
[{"$f":"O166*100+P166","v":1000901},5179,"达到筑基后期","",{"$nulls":5},100,{"$f":"IF(J166=\"\",\"\",VLOOKUP(J166,EventNPC!A:E,5,FALSE))","v":"玩家"},5180,"完整的风灵珠果然不同凡响，我可以更大的狂风中穿行了。",null,{"$f":"IF(O165=\"\",O164+1,O165)","v":10009},1,"",null,null,{"$f":"IF(R166=\"\",\"\",\"-\"&VLOOKUP(R166,EventConditionConfig!A:C,3,FALSE)&IF(S166=\"\",\"\",CHAR(10)&\"-\"&VLOOKUP(S166,EventConditionConfig!A:C,3,FALSE)))","v":""},null,"","","",null,null,"",null,null,"",{"$nulls":4},{"$f":"IF(A166=\"\",\"\",IF(ISNUMBER(Y166),2,IF(A167=\"\",IF(OR(AK166>0,VLOOKUP(O166,EventConfig!A:C,3,FALSE)=4),3,\"\"),1)))","v":1},1000902,null,5180]
[{"$f":"O167*100+P167","v":1000902},5179,"达到筑基后期","",{"$nulls":5},100,{"$f":"IF(J167=\"\",\"\",VLOOKUP(J167,EventNPC!A:E,5,FALSE))","v":"玩家"},5181,"前方似乎有不少高阶妖兽，我先在此地提升一些修为吧。",null,{"$f":"IF(O166=\"\",O165+1,O166)","v":10009},2,"",null,null,{"$f":"IF(R167=\"\",\"\",\"-\"&VLOOKUP(R167,EventConditionConfig!A:C,3,FALSE)&IF(S167=\"\",\"\",CHAR(10)&\"-\"&VLOOKUP(S167,EventConditionConfig!A:C,3,FALSE)))","v":""},null,"","","",null,null,"",null,null,"",{"$nulls":4},{"$f":"IF(A167=\"\",\"\",IF(ISNUMBER(Y167),2,IF(A168=\"\",IF(OR(AK167>0,VLOOKUP(O167,EventConfig!A:C,3,FALSE)=4),3,\"\"),1)))","v":1},1000903,null,5181]
[{"$f":"O168*100+P168","v":1000903},5179,"达到筑基后期","",{"$nulls":5},100,{"$f":"IF(J168=\"\",\"\",VLOOKUP(J168,EventNPC!A:E,5,FALSE))","v":"玩家"},5182,"继续寻找冲虚提到的“七道心境”吧，不知鲲鹏是否会给我答案。",null,10009,3,"8",8,null,{"$f":"IF(R168=\"\",\"\",\"-\"&VLOOKUP(R168,EventConditionConfig!A:C,3,FALSE)&IF(S168=\"\",\"\",CHAR(10)&\"-\"&VLOOKUP(S168,EventConditionConfig!A:C,3,FALSE)))","v":"-达到境界：练气-后期"},null,"","","",null,null,"",null,null,"",{"$nulls":4},{"$f":"IF(A168=\"\",\"\",IF(ISNUMBER(Y168),2,IF(A169=\"\",IF(OR(AK168>0,VLOOKUP(O168,EventConfig!A:C,3,FALSE)=4),3,\"\"),1)))","v":3},10010,null,5182]
[null,"",null,"",{"$nulls":7},"",null,null,null,"","",null,null,{"$f":"IF(R169=\"\",\"\",\"-\"&VLOOKUP(R169,EventConditionConfig!A:C,3,FALSE)&IF(S169=\"\",\"\",CHAR(10)&\"-\"&VLOOKUP(S169,EventConditionConfig!A:C,3,FALSE)))","v":""},null,"","","",null,null,"",null,null,"",{"$nulls":4},{"$f":"IF(A169=\"\",\"\",IF(ISNUMBER(Y169),2,IF(A170=\"\",IF(OR(AK169>0,VLOOKUP(O169,EventConfig!A:C,3,FALSE)=4),3,\"\"),1)))","v":""},"",null,""]
[{"$f":"O170*100+P170","v":1001001},5183,"妖兽横行","",{"$nulls":6},{"$f":"IF(J170=\"\",\"\",VLOOKUP(J170,EventNPC!A:E,5,FALSE))","v":""},5184,"你深入北海，海浪翻涌，云雾缭绕。",null,{"$f":"IF(O169=\"\",O168+1,O169)","v":10010},1,"",null,null,{"$f":"IF(R170=\"\",\"\",\"-\"&VLOOKUP(R170,EventConditionConfig!A:C,3,FALSE)&IF(S170=\"\",\"\",CHAR(10)&\"-\"&VLOOKUP(S170,EventConditionConfig!A:C,3,FALSE)))","v":""},null,"","","",null,null,"",null,null,"",{"$nulls":4},{"$f":"IF(A170=\"\",\"\",IF(ISNUMBER(Y170),2,IF(A171=\"\",IF(OR(AK170>0,VLOOKUP(O170,EventConfig!A:C,3,FALSE)=4),3,\"\"),1)))","v":1},1001002,null,5184]
[{"$f":"O171*100+P171","v":1001002},5183,"妖兽横行","",{"$nulls":6},{"$f":"IF(J171=\"\",\"\",VLOOKUP(J171,EventNPC!A:E,5,FALSE))","v":""},5185,"深处阴冷气息笼罩，妖兽从浪中涌出，狂暴阻路，仿佛在守护北海的秘密。",null,{"$f":"IF(O170=\"\",O169+1,O170)","v":10010},2,{"$f":"_xlfn.TEXTJOIN(\";\",1,R171:S171)","v":""},null,null,{"$f":"IF(R171=\"\",\"\",\"-\"&VLOOKUP(R171,EventConditionConfig!A:C,3,FALSE)&IF(S171=\"\",\"\",CHAR(10)&\"-\"&VLOOKUP(S171,EventConditionConfig!A:C,3,FALSE)))","v":""},null,"","","",null,null,"",null,null,"",{"$nulls":4},{"$f":"IF(A171=\"\",\"\",IF(ISNUMBER(Y171),2,IF(A172=\"\",IF(OR(AK171>0,VLOOKUP(O171,EventConfig!A:C,3,FALSE)=4),3,\"\"),1)))","v":1},1001003,null,5185]
[{"$f":"O172*100+P172","v":1001003},5183,"妖兽横行","",{"$nulls":6},{"$f":"IF(J172=\"\",\"\",VLOOKUP(J172,EventNPC!A:E,5,FALSE))","v":""},5186,"风灵珠碎片微微发光，助你御风而战。",null,{"$f":"IF(O171=\"\",O170+1,O171)","v":10010},3,{"$f":"_xlfn.TEXTJOIN(\";\",1,R172:S172)","v":""},null,null,{"$f":"IF(R172=\"\",\"\",\"-\"&VLOOKUP(R172,EventConditionConfig!A:C,3,FALSE)&IF(S172=\"\",\"\",CHAR(10)&\"-\"&VLOOKUP(S172,EventConditionConfig!A:C,3,FALSE)))","v":""},null,"","","",null,null,"",null,null,"",{"$nulls":4},{"$f":"IF(A172=\"\",\"\",IF(ISNUMBER(Y172),2,IF(A173=\"\",IF(OR(AK172>0,VLOOKUP(O172,EventConfig!A:C,3,FALSE)=4),3,\"\"),1)))","v":1},1001004,null,5186]
[1001004,5183,"妖兽横行","",{"$nulls":6},{"$f":"IF(J173=\"\",\"\",VLOOKUP(J173,EventNPC!A:E,5,FALSE))","v":""},5187,"这些妖兽挡道……看来得先清扫一番，才能继续前行。",null,{"$f":"IF(O170=\"\",O169+1,O170)","v":10010},4,{"$f":"_xlfn.TEXTJOIN(\";\",1,R173:S173)","v":""},null,null,{"$f":"IF(R173=\"\",\"\",\"-\"&VLOOKUP(R173,EventConditionConfig!A:C,3,FALSE)&IF(S173=\"\",\"\",CHAR(10)&\"-\"&VLOOKUP(S173,EventConditionConfig!A:C,3,FALSE)))","v":""},null,"","","",null,null,"",null,null,"",{"$nulls":4},{"$f":"IF(A173=\"\",\"\",IF(ISNUMBER(Y173),2,IF(A174=\"\",IF(OR(AK173>0,VLOOKUP(O173,EventConfig!A:C,3,FALSE)=4),3,\"\"),1)))","v":1},1001005,null,5187]
[1001005,5188,"妖兽肆虐","",{"$nulls":5},120,{"$f":"IF(J174=\"\",\"\",VLOOKUP(J174,EventNPC!A:E,5,FALSE))","v":"妖兽"},5189,"（咆哮，从深浪跃出）“外来者，北海无路！”",null,{"$f":"IF(O170=\"\",O169+1,O170)","v":10010},5,{"$f":"_xlfn.TEXTJOIN(\";\",1,R174:S174)","v":"9"},9,null,{"$f":"IF(R174=\"\",\"\",\"-\"&VLOOKUP(R174,EventConditionConfig!A:C,3,FALSE)&IF(S174=\"\",\"\",CHAR(10)&\"-\"&VLOOKUP(S174,EventConditionConfig!A:C,3,FALSE)))","v":"-击杀北海小妖"},null,"","","",null,null,"",null,null,"",{"$nulls":4},{"$f":"IF(A174=\"\",\"\",IF(ISNUMBER(Y174),2,IF(A175=\"\",IF(OR(AK174>0,VLOOKUP(O174,EventConfig!A:C,3,FALSE)=4),3,\"\"),1)))","v":1},1001006,null,5189]
[{"$f":"O175*100+P175","v":1001006},5188,"妖兽肆虐","",{"$nulls":6},{"$f":"IF(J175=\"\",\"\",VLOOKUP(J175,EventNPC!A:E,5,FALSE))","v":""},"",null,null,{"$f":"IF(O171=\"\",O170+1,O171)","v":10010},6,{"$f":"_xlfn.TEXTJOIN(\";\",1,R175:S175)","v":"36"},36,null,{"$f":"IF(R175=\"\",\"\",\"-\"&VLOOKUP(R175,EventConditionConfig!A:C,3,FALSE)&IF(S175=\"\",\"\",CHAR(10)&\"-\"&VLOOKUP(S175,EventConditionConfig!A:C,3,FALSE)))","v":"-击杀北海妖兽精英"},2,1003,"","",1003,null,"",null,null,"",{"$nulls":4},{"$f":"IF(A175=\"\",\"\",IF(ISNUMBER(Y175),2,IF(A176=\"\",IF(OR(AK175>0,VLOOKUP(O175,EventConfig!A:C,3,FALSE)=4),3,\"\"),1)))","v":2},"1001007;101",null,5189]
[null,"",null,"",{"$nulls":7},"",null,null,null,"","",null,null,{"$f":"IF(R176=\"\",\"\",\"-\"&VLOOKUP(R176,EventConditionConfig!A:C,3,FALSE)&IF(S176=\"\",\"\",CHAR(10)&\"-\"&VLOOKUP(S176,EventConditionConfig!A:C,3,FALSE)))","v":""},null,"","","",null,null,"",null,null,"",{"$nulls":4},{"$f":"IF(A176=\"\",\"\",IF(ISNUMBER(Y176),2,IF(A177=\"\",IF(OR(AK176>0,VLOOKUP(O176,EventConfig!A:C,3,FALSE)=4),3,\"\"),1)))","v":""},"",null,""]
[{"$f":"O177*100+P177","v":1001101},5190,"与鲲鹏对话","",{"$nulls":6},{"$f":"IF(J177=\"\",\"\",VLOOKUP(J177,EventNPC!A:E,5,FALSE))","v":""},5191,"你来到北海尽头。水面如镜，深不见底。一道巨影在水底游弋，这就是北海之鱼——鲲，至少有几千里那么大。",null,{"$f":"IF(O176=\"\",O170+1,O176)","v":10011},1,"",null,null,{"$f":"IF(R177=\"\",\"\",\"-\"&VLOOKUP(R177,EventConditionConfig!A:C,3,FALSE)&IF(S177=\"\",\"\",CHAR(10)&\"-\"&VLOOKUP(S177,EventConditionConfig!A:C,3,FALSE)))","v":""},null,"","","",null,null,"",null,null,"",{"$nulls":4},{"$f":"IF(A177=\"\",\"\",IF(ISNUMBER(Y177),2,IF(A178=\"\",IF(OR(AK177>0,VLOOKUP(O177,EventConfig!A:C,3,FALSE)=4),3,\"\"),1)))","v":1},1001102,null,5191]
[{"$f":"O178*100+P178","v":1001102},5190,"与鲲鹏对话","",{"$nulls":5},119,{"$f":"IF(J178=\"\",\"\",VLOOKUP(J178,EventNPC!A:E,5,FALSE))","v":"鲲鹏"},5192,"(低沉声，从水底传出，如闷雷回荡）……小子，你寻我何事？身上竟有风灵珠的气息，不简单。",null,10011,2,{"$f":"_xlfn.TEXTJOIN(\";\",1,R178:S178)","v":""},null,null,{"$f":"IF(R178=\"\",\"\",\"-\"&VLOOKUP(R178,EventConditionConfig!A:C,3,FALSE)&IF(S178=\"\",\"\",CHAR(10)&\"-\"&VLOOKUP(S178,EventConditionConfig!A:C,3,FALSE)))","v":""},null,"","","",null,null,"",null,null,"",{"$nulls":4},{"$f":"IF(A178=\"\",\"\",IF(ISNUMBER(Y178),2,IF(A179=\"\",IF(OR(AK178>0,VLOOKUP(O178,EventConfig!A:C,3,FALSE)=4),3,\"\"),1)))","v":1},1001103,null,5192]
[{"$f":"O179*100+P179","v":1001103},5190,"与鲲鹏对话","",{"$nulls":5},100,{"$f":"IF(J179=\"\",\"\",VLOOKUP(J179,EventNPC!A:E,5,FALSE))","v":"玩家"},5193,"前辈，我受冲虚真人指引，游历天下，正在寻找七道心境。",null,10011,3,{"$f":"_xlfn.TEXTJOIN(\";\",1,R179:S179)","v":""},null,null,{"$f":"IF(R179=\"\",\"\",\"-\"&VLOOKUP(R179,EventConditionConfig!A:C,3,FALSE)&IF(S179=\"\",\"\",CHAR(10)&\"-\"&VLOOKUP(S179,EventConditionConfig!A:C,3,FALSE)))","v":""},null,"","","",null,null,"",null,null,"",{"$nulls":4},{"$f":"IF(A179=\"\",\"\",IF(ISNUMBER(Y179),2,IF(A180=\"\",IF(OR(AK179>0,VLOOKUP(O179,EventConfig!A:C,3,FALSE)=4),3,\"\"),1)))","v":1},1001104,null,5193]
[{"$f":"O180*100+P180","v":1001104},5190,"与鲲鹏对话","",{"$nulls":5},100,{"$f":"IF(J180=\"\",\"\",VLOOKUP(J180,EventNPC!A:E,5,FALSE))","v":"玩家"},5194,"有缘路过此地，听闻前辈欲飞南海天池，可为何停滞于此？",null,10011,4,{"$f":"_xlfn.TEXTJOIN(\";\",1,R180:S180)","v":""},null,null,{"$f":"IF(R180=\"\",\"\",\"-\"&VLOOKUP(R180,EventConditionConfig!A:C,3,FALSE)&IF(S180=\"\",\"\",CHAR(10)&\"-\"&VLOOKUP(S180,EventConditionConfig!A:C,3,FALSE)))","v":""},null,"","","",null,null,"",null,null,"",{"$nulls":4},{"$f":"IF(A180=\"\",\"\",IF(ISNUMBER(Y180),2,IF(A181=\"\",IF(OR(AK180>0,VLOOKUP(O180,EventConfig!A:C,3,FALSE)=4),3,\"\"),1)))","v":1},1001105,null,5194]
[1001105,5190,"与鲲鹏对话","",{"$nulls":5},119,{"$f":"IF(J181=\"\",\"\",VLOOKUP(J181,EventNPC!A:E,5,FALSE))","v":"鲲鹏"},5195,"（叹息，水面微颤）北海虽广，却无龙卷大风，我无法化鹏南飞，已困千年。",null,10011,5,"",null,null,{"$f":"IF(R181=\"\",\"\",\"-\"&VLOOKUP(R181,EventConditionConfig!A:C,3,FALSE)&IF(S181=\"\",\"\",CHAR(10)&\"-\"&VLOOKUP(S181,EventConditionConfig!A:C,3,FALSE)))","v":""},null,"","5196",5196,"我愿助一臂之力",null,"",null,null,"",{"$nulls":4},{"$f":"IF(A181=\"\",\"\",IF(ISNUMBER(Y181),2,IF(A182=\"\",IF(OR(AK181>0,VLOOKUP(O181,EventConfig!A:C,3,FALSE)=4),3,\"\"),1)))","v":1},1001106,null,5196]
[1001106,5190,"与鲲鹏对话","",{"$nulls":5},119,{"$f":"IF(J182=\"\",\"\",VLOOKUP(J182,EventNPC!A:E,5,FALSE))","v":"鲲鹏"},5197,"（低笑）你修为尚浅，虽然聚齐了风灵珠，但却无法召唤龙卷大风。",null,10011,6,"",null,null,{"$f":"IF(R182=\"\",\"\",\"-\"&VLOOKUP(R182,EventConditionConfig!A:C,3,FALSE)&IF(S182=\"\",\"\",CHAR(10)&\"-\"&VLOOKUP(S182,EventConditionConfig!A:C,3,FALSE)))","v":""},null,"","","",null,null,"",null,null,"",{"$nulls":4},{"$f":"IF(A182=\"\",\"\",IF(ISNUMBER(Y182),2,IF(A183=\"\",IF(OR(AK182>0,VLOOKUP(O182,EventConfig!A:C,3,FALSE)=4),3,\"\"),1)))","v":1},1001107,null,5197]
[{"$f":"O183*100+P183","v":1001107},5190,"与鲲鹏对话","",{"$nulls":5},119,{"$f":"IF(J183=\"\",\"\",VLOOKUP(J183,EventNPC!A:E,5,FALSE))","v":"鲲鹏"},5198,"走吧，去尧都看看，继续你的游历，或许机缘自来。",null,10011,7,{"$f":"_xlfn.TEXTJOIN(\";\",1,R183:S183)","v":""},null,null,{"$f":"IF(R183=\"\",\"\",\"-\"&VLOOKUP(R183,EventConditionConfig!A:C,3,FALSE)&IF(S183=\"\",\"\",CHAR(10)&\"-\"&VLOOKUP(S183,EventConditionConfig!A:C,3,FALSE)))","v":""},null,"","","",null,null,"",null,null,"",{"$nulls":4},{"$f":"IF(A183=\"\",\"\",IF(ISNUMBER(Y183),2,IF(A184=\"\",IF(OR(AK183>0,VLOOKUP(O183,EventConfig!A:C,3,FALSE)=4),3,\"\"),1)))","v":1},1001108,null,5198]
[1001108,5190,"与鲲鹏对话","",{"$nulls":5},100,{"$f":"IF(J184=\"\",\"\",VLOOKUP(J184,EventNPC!A:E,5,FALSE))","v":"玩家"},5199,"多谢前辈指点。我一定会回来，再助前辈一飞冲天。",null,10011,8,"",null,null,{"$f":"IF(R184=\"\",\"\",\"-\"&VLOOKUP(R184,EventConditionConfig!A:C,3,FALSE)&IF(S184=\"\",\"\",CHAR(10)&\"-\"&VLOOKUP(S184,EventConditionConfig!A:C,3,FALSE)))","v":""},null,"","","",null,null,"",null,null,"",{"$nulls":4},{"$f":"IF(A184=\"\",\"\",IF(ISNUMBER(Y184),2,IF(A185=\"\",IF(OR(AK184>0,VLOOKUP(O184,EventConfig!A:C,3,FALSE)=4),3,\"\"),1)))","v":1},1001109,null,5199]
[{"$f":"O185*100+P185","v":1001109},5190,"与鲲鹏对话","",{"$nulls":5},100,{"$f":"IF(J185=\"\",\"\",VLOOKUP(J185,EventNPC!A:E,5,FALSE))","v":"玩家"},5200,"鲲鹏困于无风……看来我的旅程才刚开始。",null,10011,9,{"$f":"_xlfn.TEXTJOIN(\";\",1,R185:S185)","v":""},null,null,{"$f":"IF(R185=\"\",\"\",\"-\"&VLOOKUP(R185,EventConditionConfig!A:C,3,FALSE)&IF(S185=\"\",\"\",CHAR(10)&\"-\"&VLOOKUP(S185,EventConditionConfig!A:C,3,FALSE)))","v":""},null,"","","",null,null,"",null,null,"",{"$nulls":4},{"$f":"IF(A185=\"\",\"\",IF(ISNUMBER(Y185),2,IF(A186=\"\",IF(OR(AK185>0,VLOOKUP(O185,EventConfig!A:C,3,FALSE)=4),3,\"\"),1)))","v":1},1001110,null,5200]
[{"$f":"O186*100+P186","v":1001110},5190,"与鲲鹏对话","",{"$nulls":5},100,{"$f":"IF(J186=\"\",\"\",VLOOKUP(J186,EventNPC!A:E,5,FALSE))","v":"玩家"},5201,"冲虚真人所言的“七道心境”，或许就在前方。",null,10011,10,{"$f":"_xlfn.TEXTJOIN(\";\",1,R186:S186)","v":""},null,null,{"$f":"IF(R186=\"\",\"\",\"-\"&VLOOKUP(R186,EventConditionConfig!A:C,3,FALSE)&IF(S186=\"\",\"\",CHAR(10)&\"-\"&VLOOKUP(S186,EventConditionConfig!A:C,3,FALSE)))","v":""},null,"","","",null,null,"",null,null,"",{"$nulls":4},{"$f":"IF(A186=\"\",\"\",IF(ISNUMBER(Y186),2,IF(A187=\"\",IF(OR(AK186>0,VLOOKUP(O186,EventConfig!A:C,3,FALSE)=4),3,\"\"),1)))","v":1},1001111,null,5201]
[{"$f":"O187*100+P187","v":1001111},5190,"与鲲鹏对话","",{"$nulls":5},100,{"$f":"IF(J187=\"\",\"\",VLOOKUP(J187,EventNPC!A:E,5,FALSE))","v":"玩家"},5202,"去尧之都走一遭吧。",null,10011,11,{"$f":"_xlfn.TEXTJOIN(\";\",1,R187:S187)","v":""},null,null,{"$f":"IF(R187=\"\",\"\",\"-\"&VLOOKUP(R187,EventConditionConfig!A:C,3,FALSE)&IF(S187=\"\",\"\",CHAR(10)&\"-\"&VLOOKUP(S187,EventConditionConfig!A:C,3,FALSE)))","v":""},null,"","","",null,null,"",null,null,"",{"$nulls":4},{"$f":"IF(A187=\"\",\"\",IF(ISNUMBER(Y187),2,IF(A188=\"\",IF(OR(AK187>0,VLOOKUP(O187,EventConfig!A:C,3,FALSE)=4),3,\"\"),1)))","v":1},1001112,null,5202]
[{"$f":"O188*100+P188","v":1001112},5190,"与鲲鹏对话","",{"$nulls":6},{"$f":"IF(J188=\"\",\"\",VLOOKUP(J188,EventNPC!A:E,5,FALSE))","v":""},"",null,null,10011,12,{"$f":"_xlfn.TEXTJOIN(\";\",1,R188:S188)","v":"14"},14,null,{"$f":"IF(R188=\"\",\"\",\"-\"&VLOOKUP(R188,EventConditionConfig!A:C,3,FALSE)&IF(S188=\"\",\"\",CHAR(10)&\"-\"&VLOOKUP(S188,EventConditionConfig!A:C,3,FALSE)))","v":"-达到境界：筑基-前期"},null,"","","",null,null,"",null,null,"",{"$nulls":4},{"$f":"IF(A188=\"\",\"\",IF(ISNUMBER(Y188),2,IF(A189=\"\",IF(OR(AK188>0,VLOOKUP(O188,EventConfig!A:C,3,FALSE)=4),3,\"\"),1)))","v":3},10012,null,5202]
[null,"",null,"",{"$nulls":7},"",null,null,{"$f":"IF(M189=\"\",\"\",IF(O177=\"\",O176+1,O177))","v":""},"","",null,null,{"$f":"IF(R189=\"\",\"\",\"-\"&VLOOKUP(R189,EventConditionConfig!A:C,3,FALSE)&IF(S189=\"\",\"\",CHAR(10)&\"-\"&VLOOKUP(S189,EventConditionConfig!A:C,3,FALSE)))","v":""},null,"","","",null,null,"",null,null,"",{"$nulls":4},{"$f":"IF(A189=\"\",\"\",IF(ISNUMBER(Y189),2,IF(A190=\"\",IF(OR(AK189>0,VLOOKUP(O189,EventConfig!A:C,3,FALSE)=4),3,\"\"),1)))","v":""},"",null,""]
[{"$f":"O190*100+P190","v":1001201},5203,"前往尧都地界","",{"$nulls":6},{"$f":"IF(J190=\"\",\"\",VLOOKUP(J190,EventNPC!A:E,5,FALSE))","v":""},5204,"你离开北海，御剑而行。逍遥铃微微颤动，似乎在指引下一个方向——尧之都，那片祥和的仙域。",null,{"$f":"IF(M190=\"\",\"\",IF(O189=\"\",O177+1,O189))","v":10012},1,"",null,null,{"$f":"IF(R190=\"\",\"\",\"-\"&VLOOKUP(R190,EventConditionConfig!A:C,3,FALSE)&IF(S190=\"\",\"\",CHAR(10)&\"-\"&VLOOKUP(S190,EventConditionConfig!A:C,3,FALSE)))","v":""},{"$f":"IF(Y190=\"\",\"\",IF(ISTEXT(Y190),1,2))","v":""},"","","",null,null,"",null,null,"",{"$nulls":4},{"$f":"IF(A190=\"\",\"\",IF(ISNUMBER(Y190),2,IF(A191=\"\",IF(OR(AK190>0,VLOOKUP(O190,EventConfig!A:C,3,FALSE)=4),3,\"\"),1)))","v":1},1001202,null,5204]
[{"$f":"O191*100+P191","v":1001202},5203,"前往尧都地界","",{"$nulls":6},{"$f":"IF(J191=\"\",\"\",VLOOKUP(J191,EventNPC!A:E,5,FALSE))","v":""},5205,"鲲鹏前辈提及尧都，或许那里有助你悟道的关键。",null,{"$f":"IF(M191=\"\",\"\",IF(O190=\"\",O178+1,O190))","v":10012},2,{"$f":"_xlfn.TEXTJOIN(\";\",1,R191:S191)","v":""},null,null,{"$f":"IF(R191=\"\",\"\",\"-\"&VLOOKUP(R191,EventConditionConfig!A:C,3,FALSE)&IF(S191=\"\",\"\",CHAR(10)&\"-\"&VLOOKUP(S191,EventConditionConfig!A:C,3,FALSE)))","v":""},{"$f":"IF(Y191=\"\",\"\",IF(ISTEXT(Y191),1,2))","v":""},"","","",null,null,"",null,null,"",{"$nulls":4},{"$f":"IF(A191=\"\",\"\",IF(ISNUMBER(Y191),2,IF(A192=\"\",IF(OR(AK191>0,VLOOKUP(O191,EventConfig!A:C,3,FALSE)=4),3,\"\"),1)))","v":1},1001203,null,5205]
[{"$f":"O192*100+P192","v":1001203},5203,"前往尧都地界","",{"$nulls":6},{"$f":"IF(J192=\"\",\"\",VLOOKUP(J192,EventNPC!A:E,5,FALSE))","v":""},5206,"尧都……据说这里仙凡混居，国泰民安。帝尧治理有方，或许能找到更多线索。",null,{"$f":"IF(M192=\"\",\"\",IF(O191=\"\",O179+1,O191))","v":10012},3,{"$f":"_xlfn.TEXTJOIN(\";\",1,R192:S192)","v":""},null,null,{"$f":"IF(R192=\"\",\"\",\"-\"&VLOOKUP(R192,EventConditionConfig!A:C,3,FALSE)&IF(S192=\"\",\"\",CHAR(10)&\"-\"&VLOOKUP(S192,EventConditionConfig!A:C,3,FALSE)))","v":""},{"$f":"IF(Y192=\"\",\"\",IF(ISTEXT(Y192),1,2))","v":""},"","","",null,null,"",null,null,"",{"$nulls":4},{"$f":"IF(A192=\"\",\"\",IF(ISNUMBER(Y192),2,IF(A193=\"\",IF(OR(AK192>0,VLOOKUP(O192,EventConfig!A:C,3,FALSE)=4),3,\"\"),1)))","v":3},10013,null,5206]
[null,"",null,"",{"$nulls":7},"",null,null,{"$f":"IF(M193=\"\",\"\",IF(O190=\"\",O189+1,O190))","v":""},"",{"$nulls":5},"","","",null,null,"",null,null,"",{"$nulls":4},{"$f":"IF(A193=\"\",\"\",IF(ISNUMBER(Y193),2,IF(A194=\"\",IF(OR(AK193>0,VLOOKUP(O193,EventConfig!A:C,3,FALSE)=4),3,\"\"),1)))","v":""},"",null,""]
[{"$f":"O194*100+P194","v":1001301},5207,"尧让天下",5208,"倾听尧帝的烦恼",{"$nulls":5},{"$f":"IF(J194=\"\",\"\",VLOOKUP(J194,EventNPC!A:E,5,FALSE))","v":""},5209,"你踏入帝尧治下的仙域——一片祥和之地，灵气充沛，民众安居，仿佛世外桃源。",null,{"$f":"IF(M194=\"\",\"\",IF(O193=\"\",O190+1,O193))","v":10013},1,"",null,null,{"$f":"IF(R194=\"\",\"\",\"-\"&VLOOKUP(R194,EventConditionConfig!A:C,3,FALSE)&IF(S194=\"\",\"\",CHAR(10)&\"-\"&VLOOKUP(S194,EventConditionConfig!A:C,3,FALSE)))","v":""},null,"","","",null,null,"",null,null,"",{"$nulls":4},{"$f":"IF(A194=\"\",\"\",IF(ISNUMBER(Y194),2,IF(A195=\"\",IF(OR(AK194>0,VLOOKUP(O194,EventConfig!A:C,3,FALSE)=4),3,\"\"),1)))","v":1},1001302,null,5209]
[{"$f":"O195*100+P195","v":1001302},5207,"尧让天下",5208,"倾听尧帝的烦恼",{"$nulls":5},{"$f":"IF(J195=\"\",\"\",VLOOKUP(J195,EventNPC!A:E,5,FALSE))","v":""},5210,"然而，这位千年帝君，却眉宇间有难掩的忧色。",null,{"$f":"IF(O194=\"\",O193+1,O194)","v":10013},2,"",null,null,{"$f":"IF(R195=\"\",\"\",\"-\"&VLOOKUP(R195,EventConditionConfig!A:C,3,FALSE)&IF(S195=\"\",\"\",CHAR(10)&\"-\"&VLOOKUP(S195,EventConditionConfig!A:C,3,FALSE)))","v":""},null,"","","",null,null,"",null,null,"",{"$nulls":4},{"$f":"IF(A195=\"\",\"\",IF(ISNUMBER(Y195),2,IF(A196=\"\",IF(OR(AK195>0,VLOOKUP(O195,EventConfig!A:C,3,FALSE)=4),3,\"\"),1)))","v":1},1001303,null,5210]
[{"$f":"O196*100+P196","v":1001303},5207,"尧让天下",5208,"倾听尧帝的烦恼",{"$nulls":5},{"$f":"IF(J196=\"\",\"\",VLOOKUP(J196,EventNPC!A:E,5,FALSE))","v":""},5211,"（你根据逍遥铃的指引，找到了尧）",null,10013,3,"",null,null,{"$f":"IF(R196=\"\",\"\",\"-\"&VLOOKUP(R196,EventConditionConfig!A:C,3,FALSE)&IF(S196=\"\",\"\",CHAR(10)&\"-\"&VLOOKUP(S196,EventConditionConfig!A:C,3,FALSE)))","v":""},1,"1001304","5212",5212,"拜见帝尧，晚辈受冲虚真人的指引，游历到此处。",null,"",null,null,"",{"$nulls":4},{"$f":"IF(A196=\"\",\"\",IF(ISNUMBER(Y196),2,IF(A197=\"\",IF(OR(AK196>0,VLOOKUP(O196,EventConfig!A:C,3,FALSE)=4),3,\"\"),1)))","v":1},1001304,null,5212]
[{"$f":"O197*100+P197","v":1001304},5207,"尧让天下",5208,"倾听尧帝的烦恼",{"$nulls":4},105,{"$f":"IF(J197=\"\",\"\",VLOOKUP(J197,EventNPC!A:E,5,FALSE))","v":"尧帝"},5213,"（缓缓回头，脸上带着淡淡忧虑）冲虚真人吗？我也许久没见了..",null,10013,4,"",null,null,{"$f":"IF(R197=\"\",\"\",\"-\"&VLOOKUP(R197,EventConditionConfig!A:C,3,FALSE)&IF(S197=\"\",\"\",CHAR(10)&\"-\"&VLOOKUP(S197,EventConditionConfig!A:C,3,FALSE)))","v":""},null,"","","",null,null,"",null,null,"",{"$nulls":4},{"$f":"IF(A197=\"\",\"\",IF(ISNUMBER(Y197),2,IF(A198=\"\",IF(OR(AK197>0,VLOOKUP(O197,EventConfig!A:C,3,FALSE)=4),3,\"\"),1)))","v":1},1001305,null,5213]
[{"$f":"O198*100+P198","v":1001305},5207,"尧让天下",{"$f":"IF(E198=\"\",\"\",IF(E198=E197,D197,MAX(AL197,AL196,B198)+1))","v":5208},"倾听尧帝的烦恼",{"$nulls":4},105,{"$f":"IF(J198=\"\",\"\",VLOOKUP(J198,EventNPC!A:E,5,FALSE))","v":"尧帝"},{"$f":"IF(M198=\"\",\"\",MAX(AL197,AL196,B198,D198)+1)","v":5214},"(尧帝邀你来到一高处)\n小友，你看此处景致如何？",null,10013,5,"",null,null,{"$f":"IF(R198=\"\",\"\",\"-\"&VLOOKUP(R198,EventConditionConfig!A:C,3,FALSE)&IF(S198=\"\",\"\",CHAR(10)&\"-\"&VLOOKUP(S198,EventConditionConfig!A:C,3,FALSE)))","v":""},1,"1001306;1001306","5215;5216",5215,"万象更新，灵气环绕，是修行的福地。",null,5216,"国泰民安，仙人治理，世间罕见。",null,"",{"$nulls":4},{"$f":"IF(A198=\"\",\"\",IF(ISNUMBER(Y198),2,IF(A199=\"\",IF(OR(AK198>0,VLOOKUP(O198,EventConfig!A:C,3,FALSE)=4),3,\"\"),1)))","v":1},1001306,null,{"$f":"IF(A198=\"\",\"\",MAX(B198,D198,L198,X198,AA198,AL197,AL196,AD198))","v":5216}]
[{"$f":"O199*100+P199","v":1001306},5207,"尧让天下",5208,"倾听尧帝的烦恼",{"$nulls":4},105,{"$f":"IF(J199=\"\",\"\",VLOOKUP(J199,EventNPC!A:E,5,FALSE))","v":"尧帝"},5217,"（叹息）是啊，人人自在，唯我不自在。这些年来，我境界难以寸进，已有百年。",null,10013,6,"",null,null,{"$f":"IF(R199=\"\",\"\",\"-\"&VLOOKUP(R199,EventConditionConfig!A:C,3,FALSE)&IF(S199=\"\",\"\",CHAR(10)&\"-\"&VLOOKUP(S199,EventConditionConfig!A:C,3,FALSE)))","v":""},1,"1001307","5218",5218,"帝尧何出此言？",null,"",null,null,"",{"$nulls":4},{"$f":"IF(A199=\"\",\"\",IF(ISNUMBER(Y199),2,IF(A200=\"\",IF(OR(AK199>0,VLOOKUP(O199,EventConfig!A:C,3,FALSE)=4),3,\"\"),1)))","v":1},1001307,null,5218]
[{"$f":"O200*100+P200","v":1001307},5207,"尧让天下",5208,"倾听尧帝的烦恼",{"$nulls":4},105,{"$f":"IF(J200=\"\",\"\",VLOOKUP(J200,EventNPC!A:E,5,FALSE))","v":"尧帝"},5219,"你等散修，自由自在，来去如风，可曾体会过身负重任的滋味？",null,10013,7,"",null,null,{"$f":"IF(R200=\"\",\"\",\"-\"&VLOOKUP(R200,EventConditionConfig!A:C,3,FALSE)&IF(S200=\"\",\"\",CHAR(10)&\"-\"&VLOOKUP(S200,EventConditionConfig!A:C,3,FALSE)))","v":""},1,"1001308","5220",5220,"也有重担，却未必如帝尧这样复杂。",null,"",null,null,"",{"$nulls":4},{"$f":"IF(A200=\"\",\"\",IF(ISNUMBER(Y200),2,IF(A201=\"\",IF(OR(AK200>0,VLOOKUP(O200,EventConfig!A:C,3,FALSE)=4),3,\"\"),1)))","v":1},1001308,null,5220]
[{"$f":"O201*100+P201","v":1001308},5207,"尧让天下",5208,"倾听尧帝的烦恼",{"$nulls":4},105,{"$f":"IF(J201=\"\",\"\",VLOOKUP(J201,EventNPC!A:E,5,FALSE))","v":"尧帝"},5221,"（微微一笑，摇头）天下如画卷，画卷再美，日夜背负，也终是负担。",null,10013,8,"",null,null,{"$f":"IF(R201=\"\",\"\",\"-\"&VLOOKUP(R201,EventConditionConfig!A:C,3,FALSE)&IF(S201=\"\",\"\",CHAR(10)&\"-\"&VLOOKUP(S201,EventConditionConfig!A:C,3,FALSE)))","v":""},1,"1001309","5222",5222,"......",null,"",null,null,"",{"$nulls":4},{"$f":"IF(A201=\"\",\"\",IF(ISNUMBER(Y201),2,IF(A202=\"\",IF(OR(AK201>0,VLOOKUP(O201,EventConfig!A:C,3,FALSE)=4),3,\"\"),1)))","v":1},1001309,null,5222]
[{"$f":"O202*100+P202","v":1001309},5207,"尧让天下",5208,"倾听尧帝的烦恼",{"$nulls":4},105,{"$f":"IF(J202=\"\",\"\",VLOOKUP(J202,EventNPC!A:E,5,FALSE))","v":"尧帝"},5223,"（凝望远方云海）深山之中有位贤士，名为许由，素有盛名，我曾多次请他出山，但未成如愿。",null,10013,9,"",null,null,{"$f":"IF(R202=\"\",\"\",\"-\"&VLOOKUP(R202,EventConditionConfig!A:C,3,FALSE)&IF(S202=\"\",\"\",CHAR(10)&\"-\"&VLOOKUP(S202,EventConditionConfig!A:C,3,FALSE)))","v":""},null,"","","",null,null,"",null,null,"",{"$nulls":4},{"$f":"IF(A202=\"\",\"\",IF(ISNUMBER(Y202),2,IF(A203=\"\",IF(OR(AK202>0,VLOOKUP(O202,EventConfig!A:C,3,FALSE)=4),3,\"\"),1)))","v":1},1001310,null,5223]
[{"$f":"O203*100+P203","v":1001310},5207,"尧让天下",5208,"倾听尧帝的烦恼",{"$nulls":4},105,{"$f":"IF(J203=\"\",\"\",VLOOKUP(J203,EventNPC!A:E,5,FALSE))","v":"尧帝"},5224,"我甚至提出让天下于他，他也不为所动。",null,10013,10,"",null,null,{"$f":"IF(R203=\"\",\"\",\"-\"&VLOOKUP(R203,EventConditionConfig!A:C,3,FALSE)&IF(S203=\"\",\"\",CHAR(10)&\"-\"&VLOOKUP(S203,EventConditionConfig!A:C,3,FALSE)))","v":""},1,"1001311","5225",5225,"世间竟然有此奇人？",null,"",null,null,"",{"$nulls":4},{"$f":"IF(A203=\"\",\"\",IF(ISNUMBER(Y203),2,IF(A204=\"\",IF(OR(AK203>0,VLOOKUP(O203,EventConfig!A:C,3,FALSE)=4),3,\"\"),1)))","v":1},1001311,null,5225]
[{"$f":"O204*100+P204","v":1001311},5207,"尧让天下",5208,"倾听尧帝的烦恼",{"$nulls":4},105,{"$f":"IF(J204=\"\",\"\",VLOOKUP(J204,EventNPC!A:E,5,FALSE))","v":"尧帝"},5226,"（凝望远方云海）若小友有空，帮我再请许由出山，我定当感谢。",null,10013,11,"",null,null,{"$f":"IF(R204=\"\",\"\",\"-\"&VLOOKUP(R204,EventConditionConfig!A:C,3,FALSE)&IF(S204=\"\",\"\",CHAR(10)&\"-\"&VLOOKUP(S204,EventConditionConfig!A:C,3,FALSE)))","v":""},1,"1001312","5227",5227,"好的，既然来了，我就走一趟。",null,"",null,null,"",{"$nulls":4},{"$f":"IF(A204=\"\",\"\",IF(ISNUMBER(Y204),2,IF(A205=\"\",IF(OR(AK204>0,VLOOKUP(O204,EventConfig!A:C,3,FALSE)=4),3,\"\"),1)))","v":1},1001312,null,5227]
[{"$f":"O205*100+P205","v":1001312},{"$f":"IF(C205=\"\",\"\",IF(C205=C204,B204,MAX(AL204,AL203)+1))","v":5207},"尧让天下",5208,"倾听尧帝的烦恼",{"$nulls":5},{"$f":"IF(J205=\"\",\"\",VLOOKUP(J205,EventNPC!A:E,5,FALSE))","v":""},"",null,null,10013,12,"",null,null,{"$f":"IF(R205=\"\",\"\",\"-\"&VLOOKUP(R205,EventConditionConfig!A:C,3,FALSE)&IF(S205=\"\",\"\",CHAR(10)&\"-\"&VLOOKUP(S205,EventConditionConfig!A:C,3,FALSE)))","v":""},null,"","",{"$f":"IF(OR(ISNUMBER(Y205),Y205=\"\"),\"\",MAX(AL204,AL202,B205,D205,L205)+1)","v":""},null,null,{"$f":"IF(OR(ISNUMBER(AB205),AB205=\"\"),\"\",X205+1)","v":""},null,null,{"$f":"IF(OR(ISNUMBER(AE205),AE205=\"\"),\"\",AA205+1)","v":""},{"$nulls":4},{"$f":"IF(A205=\"\",\"\",IF(ISNUMBER(Y205),2,IF(A206=\"\",IF(OR(AK205>0,VLOOKUP(O205,EventConfig!A:C,3,FALSE)=4),3,\"\"),1)))","v":3},10014,null,5227]
[null,"",null,"",{"$nulls":7},"",null,null,null,"","",null,null,{"$f":"IF(R206=\"\",\"\",\"-\"&VLOOKUP(R206,EventConditionConfig!A:C,3,FALSE)&IF(S206=\"\",\"\",CHAR(10)&\"-\"&VLOOKUP(S206,EventConditionConfig!A:C,3,FALSE)))","v":""},null,{"$f":"IF(U206=1,_xlfn.TEXTJOIN(\";\",1,IF(Z206=\"\",A206+1,Z206),IF(AND(AA206<>\"\",AC206=\"\"),A206+1,AC206),IF(AND(AD206<>\"\",AF206=\"\"),A206+1,AF206)),IF(U206=2,Y206,\"\"))","v":""},{"$f":"_xlfn.TEXTJOIN(\";\",1,X206,AA206,AD206)","v":""},"",null,null,"",null,null,"",{"$nulls":4},{"$f":"IF(A206=\"\",\"\",IF(ISNUMBER(Y206),2,IF(A207=\"\",IF(OR(AK206>0,VLOOKUP(O206,EventConfig!A:C,3,FALSE)=4),3,\"\"),1)))","v":""},{"$f":"IF(AI206=\"\",\"\",CHOOSE(AI206,IF(AK206=\"\",A206+1,AK206),CONCATENATE(IF(AK206=\"\",A206+1,AK206),\";101\"),IF(AK206=\"\",O206+1,AK206)))","v":""},null,""]
[{"$f":"O207*100+P207","v":1001401},5228,"访贤许由",5229,"听一听这位尧帝口中的贤士有何说法",{"$nulls":5},{"$f":"IF(J207=\"\",\"\",VLOOKUP(J207,EventNPC!A:E,5,FALSE))","v":""},5230,"你循帝尧所言，御剑前往幽山秘境。此处灵气绵长，古木参天，溪水潺潺。",null,10014,1,"",null,null,{"$f":"IF(R207=\"\",\"\",\"-\"&VLOOKUP(R207,EventConditionConfig!A:C,3,FALSE)&IF(S207=\"\",\"\",CHAR(10)&\"-\"&VLOOKUP(S207,EventConditionConfig!A:C,3,FALSE)))","v":""},null,"","","",null,null,"",null,null,"",{"$nulls":4},{"$f":"IF(A207=\"\",\"\",IF(ISNUMBER(Y207),2,IF(A208=\"\",IF(OR(AK207>0,VLOOKUP(O207,EventConfig!A:C,3,FALSE)=4),3,\"\"),1)))","v":1},1001402,null,5230]
[{"$f":"O208*100+P208","v":1001402},5228,"访贤许由",5229,"听一听这位尧帝口中的贤士有何说法",{"$nulls":5},{"$f":"IF(J208=\"\",\"\",VLOOKUP(J208,EventNPC!A:E,5,FALSE))","v":""},5231,"据说，许由栖身于此，绝迹尘世，已有数百年。",null,10014,2,"",null,null,{"$f":"IF(R208=\"\",\"\",\"-\"&VLOOKUP(R208,EventConditionConfig!A:C,3,FALSE)&IF(S208=\"\",\"\",CHAR(10)&\"-\"&VLOOKUP(S208,EventConditionConfig!A:C,3,FALSE)))","v":""},null,"","","",null,null,"",null,null,"",{"$nulls":4},{"$f":"IF(A208=\"\",\"\",IF(ISNUMBER(Y208),2,IF(A209=\"\",IF(OR(AK208>0,VLOOKUP(O208,EventConfig!A:C,3,FALSE)=4),3,\"\"),1)))","v":1},1001403,null,5231]
[{"$f":"O209*100+P209","v":1001403},5228,"访贤许由",5229,"听一听这位尧帝口中的贤士有何说法",{"$nulls":5},{"$f":"IF(J209=\"\",\"\",VLOOKUP(J209,EventNPC!A:E,5,FALSE))","v":""},5232,"山风徐徐，水声如琴，你踏过青石小径，看见一位白衣道人正倚石观水。",null,10014,3,"",null,null,{"$f":"IF(R209=\"\",\"\",\"-\"&VLOOKUP(R209,EventConditionConfig!A:C,3,FALSE)&IF(S209=\"\",\"\",CHAR(10)&\"-\"&VLOOKUP(S209,EventConditionConfig!A:C,3,FALSE)))","v":""},1,"1001404","5233",5233,"前辈可是许由？",null,"",null,null,"",{"$nulls":4},{"$f":"IF(A209=\"\",\"\",IF(ISNUMBER(Y209),2,IF(A210=\"\",IF(OR(AK209>0,VLOOKUP(O209,EventConfig!A:C,3,FALSE)=4),3,\"\"),1)))","v":1},1001404,null,5233]
[{"$f":"O210*100+P210","v":1001404},5228,"访贤许由",5229,"听一听这位尧帝口中的贤士有何说法",{"$nulls":4},106,{"$f":"IF(J210=\"\",\"\",VLOOKUP(J210,EventNPC!A:E,5,FALSE))","v":"许由"},5234,"正是，小友何事？",null,10014,4,"",null,null,{"$f":"IF(R210=\"\",\"\",\"-\"&VLOOKUP(R210,EventConditionConfig!A:C,3,FALSE)&IF(S210=\"\",\"\",CHAR(10)&\"-\"&VLOOKUP(S210,EventConditionConfig!A:C,3,FALSE)))","v":""},null,"","","",null,null,"",null,null,"",{"$nulls":4},{"$f":"IF(A210=\"\",\"\",IF(ISNUMBER(Y210),2,IF(A211=\"\",IF(OR(AK210>0,VLOOKUP(O210,EventConfig!A:C,3,FALSE)=4),3,\"\"),1)))","v":1},1001405,null,5234]
[{"$f":"O211*100+P211","v":1001405},5228,"访贤许由",5229,"听一听这位尧帝口中的贤士有何说法",{"$nulls":4},100,{"$f":"IF(J211=\"\",\"\",VLOOKUP(J211,EventNPC!A:E,5,FALSE))","v":"玩家"},5235,"帝尧欲专心修行，求道问玄，又怕耽误世事，特托我前来相请，欲让天下于你。",null,10014,5,"",null,null,{"$f":"IF(R211=\"\",\"\",\"-\"&VLOOKUP(R211,EventConditionConfig!A:C,3,FALSE)&IF(S211=\"\",\"\",CHAR(10)&\"-\"&VLOOKUP(S211,EventConditionConfig!A:C,3,FALSE)))","v":""},null,"","","",null,null,"",null,null,"",{"$nulls":4},{"$f":"IF(A211=\"\",\"\",IF(ISNUMBER(Y211),2,IF(A212=\"\",IF(OR(AK211>0,VLOOKUP(O211,EventConfig!A:C,3,FALSE)=4),3,\"\"),1)))","v":1},1001406,null,5235]
[{"$f":"O212*100+P212","v":1001406},5228,"访贤许由",5229,"听一听这位尧帝口中的贤士有何说法",{"$nulls":4},106,{"$f":"IF(J212=\"\",\"\",VLOOKUP(J212,EventNPC!A:E,5,FALSE))","v":"许由"},5236,"（静默片刻）昔日帝尧就提过此事，我已辞之。",null,10014,6,"",null,null,{"$f":"IF(R212=\"\",\"\",\"-\"&VLOOKUP(R212,EventConditionConfig!A:C,3,FALSE)&IF(S212=\"\",\"\",CHAR(10)&\"-\"&VLOOKUP(S212,EventConditionConfig!A:C,3,FALSE)))","v":""},null,"","","",null,null,"",null,null,"",{"$nulls":4},{"$f":"IF(A212=\"\",\"\",IF(ISNUMBER(Y212),2,IF(A213=\"\",IF(OR(AK212>0,VLOOKUP(O212,EventConfig!A:C,3,FALSE)=4),3,\"\"),1)))","v":1},1001407,null,5236]
[{"$f":"O213*100+P213","v":1001407},5228,"访贤许由",5229,"听一听这位尧帝口中的贤士有何说法",{"$nulls":4},106,{"$f":"IF(J213=\"\",\"\",VLOOKUP(J213,EventNPC!A:E,5,FALSE))","v":"许由"},5237,"今日又来，想是道心不定，执念未除。",null,10014,7,"",null,null,{"$f":"IF(R213=\"\",\"\",\"-\"&VLOOKUP(R213,EventConditionConfig!A:C,3,FALSE)&IF(S213=\"\",\"\",CHAR(10)&\"-\"&VLOOKUP(S213,EventConditionConfig!A:C,3,FALSE)))","v":""},1,"1001408","5238",5238,"请前辈出山。",null,"",null,null,"",{"$nulls":4},{"$f":"IF(A213=\"\",\"\",IF(ISNUMBER(Y213),2,IF(A214=\"\",IF(OR(AK213>0,VLOOKUP(O213,EventConfig!A:C,3,FALSE)=4),3,\"\"),1)))","v":1},1001408,null,5238]
[1001408,5228,"访贤许由",5229,"听一听这位尧帝口中的贤士有何说法",{"$nulls":4},106,{"$f":"IF(J214=\"\",\"\",VLOOKUP(J214,EventNPC!A:E,5,FALSE))","v":"许由"},5239,"哼，让我去？",null,10014,8,"",null,null,{"$f":"IF(R214=\"\",\"\",\"-\"&VLOOKUP(R214,EventConditionConfig!A:C,3,FALSE)&IF(S214=\"\",\"\",CHAR(10)&\"-\"&VLOOKUP(S214,EventConditionConfig!A:C,3,FALSE)))","v":""},null,"","","",null,null,"",null,null,"",{"$nulls":4},{"$f":"IF(A214=\"\",\"\",IF(ISNUMBER(Y214),2,IF(A215=\"\",IF(OR(AK214>0,VLOOKUP(O214,EventConfig!A:C,3,FALSE)=4),3,\"\"),1)))","v":1},1001409,null,5239]
[{"$f":"O215*100+P215","v":1001409},5228,"访贤许由",5229,"听一听这位尧帝口中的贤士有何说法",{"$nulls":4},106,{"$f":"IF(J215=\"\",\"\",VLOOKUP(J215,EventNPC!A:E,5,FALSE))","v":"许由"},5240,"那我问你，日月升天，照耀四方。若这时有人手举火把照路，岂不徒劳？",null,10014,9,"",null,null,{"$f":"IF(R215=\"\",\"\",\"-\"&VLOOKUP(R215,EventConditionConfig!A:C,3,FALSE)&IF(S215=\"\",\"\",CHAR(10)&\"-\"&VLOOKUP(S215,EventConditionConfig!A:C,3,FALSE)))","v":""},null,"","","",null,null,"",null,null,"",{"$nulls":4},{"$f":"IF(A215=\"\",\"\",IF(ISNUMBER(Y215),2,IF(A216=\"\",IF(OR(AK215>0,VLOOKUP(O215,EventConfig!A:C,3,FALSE)=4),3,\"\"),1)))","v":1},1001410,null,5240]
[{"$f":"O216*100+P216","v":1001410},5228,"访贤许由",5229,"听一听这位尧帝口中的贤士有何说法",{"$nulls":4},106,{"$f":"IF(J216=\"\",\"\",VLOOKUP(J216,EventNPC!A:E,5,FALSE))","v":"许由"},5241,"那我再问你，斜风细雨，滋养万物。若这时有人用水桶来灌溉，岂不可笑？",null,10014,10,"",null,null,{"$f":"IF(R216=\"\",\"\",\"-\"&VLOOKUP(R216,EventConditionConfig!A:C,3,FALSE)&IF(S216=\"\",\"\",CHAR(10)&\"-\"&VLOOKUP(S216,EventConditionConfig!A:C,3,FALSE)))","v":""},null,"","","",null,null,"",null,null,"",{"$nulls":4},{"$f":"IF(A216=\"\",\"\",IF(ISNUMBER(Y216),2,IF(A217=\"\",IF(OR(AK216>0,VLOOKUP(O216,EventConfig!A:C,3,FALSE)=4),3,\"\"),1)))","v":1},1001411,null,5241]
[{"$f":"O217*100+P217","v":1001411},5228,"访贤许由",5229,"听一听这位尧帝口中的贤士有何说法",{"$nulls":4},106,{"$f":"IF(J217=\"\",\"\",VLOOKUP(J217,EventNPC!A:E,5,FALSE))","v":"许由"},5242,"天下在尧的带领下，已经治理得很好了，又何必要我，我是要去混个功成名就吗？",null,10014,11,"",null,null,{"$f":"IF(R217=\"\",\"\",\"-\"&VLOOKUP(R217,EventConditionConfig!A:C,3,FALSE)&IF(S217=\"\",\"\",CHAR(10)&\"-\"&VLOOKUP(S217,EventConditionConfig!A:C,3,FALSE)))","v":""},null,"","","",null,null,"",null,null,"",{"$nulls":4},{"$f":"IF(A217=\"\",\"\",IF(ISNUMBER(Y217),2,IF(A218=\"\",IF(OR(AK217>0,VLOOKUP(O217,EventConfig!A:C,3,FALSE)=4),3,\"\"),1)))","v":1},1001412,null,5242]
[{"$f":"O218*100+P218","v":1001412},5228,"访贤许由",5229,"听一听这位尧帝口中的贤士有何说法",{"$nulls":4},106,{"$f":"IF(J218=\"\",\"\",VLOOKUP(J218,EventNPC!A:E,5,FALSE))","v":"许由"},5243,"回答我？",null,10014,12,"",null,null,{"$f":"IF(R218=\"\",\"\",\"-\"&VLOOKUP(R218,EventConditionConfig!A:C,3,FALSE)&IF(S218=\"\",\"\",CHAR(10)&\"-\"&VLOOKUP(S218,EventConditionConfig!A:C,3,FALSE)))","v":""},1,"1001413","5244",5244,"就算只得功成名就也不错。",null,"",null,null,"",{"$nulls":4},{"$f":"IF(A218=\"\",\"\",IF(ISNUMBER(Y218),2,IF(A219=\"\",IF(OR(AK218>0,VLOOKUP(O218,EventConfig!A:C,3,FALSE)=4),3,\"\"),1)))","v":1},1001413,null,5244]
[1001413,5228,"访贤许由",5229,"听一听这位尧帝口中的贤士有何说法",{"$nulls":4},106,{"$f":"IF(J219=\"\",\"\",VLOOKUP(J219,EventNPC!A:E,5,FALSE))","v":"许由"},5245,"小友，名就像宾客一样，难道我们的一生是为了宾客吗？",null,10014,13,"",null,null,{"$f":"IF(R219=\"\",\"\",\"-\"&VLOOKUP(R219,EventConditionConfig!A:C,3,FALSE)&IF(S219=\"\",\"\",CHAR(10)&\"-\"&VLOOKUP(S219,EventConditionConfig!A:C,3,FALSE)))","v":""},1,"1001414","5246",5246,"（愣住）......",null,"",null,null,"",{"$nulls":4},{"$f":"IF(A219=\"\",\"\",IF(ISNUMBER(Y219),2,IF(A220=\"\",IF(OR(AK219>0,VLOOKUP(O219,EventConfig!A:C,3,FALSE)=4),3,\"\"),1)))","v":1},1001414,null,5246]
[{"$f":"O220*100+P220","v":1001414},5228,"访贤许由",5229,"听一听这位尧帝口中的贤士有何说法",{"$nulls":4},106,{"$f":"IF(J220=\"\",\"\",VLOOKUP(J220,EventNPC!A:E,5,FALSE))","v":"许由"},5247,"他若真想修道，便该知“道不碍政，心自碍道”。",null,10014,{"$f":"IF(O220=\"\",\"\",IF(O220=O219,P219+1,1))","v":14},"",null,null,{"$f":"IF(R220=\"\",\"\",\"-\"&VLOOKUP(R220,EventConditionConfig!A:C,3,FALSE)&IF(S220=\"\",\"\",CHAR(10)&\"-\"&VLOOKUP(S220,EventConditionConfig!A:C,3,FALSE)))","v":""},null,"","","",null,null,"",null,null,"",{"$nulls":4},{"$f":"IF(A220=\"\",\"\",IF(ISNUMBER(Y220),2,IF(A221=\"\",IF(OR(AK220>0,VLOOKUP(O220,EventConfig!A:C,3,FALSE)=4),3,\"\"),1)))","v":1},1001415,null,5247]
[1001415,5228,"访贤许由",5229,"听一听这位尧帝口中的贤士有何说法",{"$nulls":4},106,{"$f":"IF(J221=\"\",\"\",VLOOKUP(J221,EventNPC!A:E,5,FALSE))","v":"许由"},5248,"若心不净，纵避千山万水，又有何用。",null,10014,15,"",null,null,{"$f":"IF(R221=\"\",\"\",\"-\"&VLOOKUP(R221,EventConditionConfig!A:C,3,FALSE)&IF(S221=\"\",\"\",CHAR(10)&\"-\"&VLOOKUP(S221,EventConditionConfig!A:C,3,FALSE)))","v":""},1,"1001416","5249",5249,"（愣住）......",null,"",null,null,"",{"$nulls":4},{"$f":"IF(A221=\"\",\"\",IF(ISNUMBER(Y221),2,IF(A222=\"\",IF(OR(AK221>0,VLOOKUP(O221,EventConfig!A:C,3,FALSE)=4),3,\"\"),1)))","v":1},1001416,null,5249]
[1001416,5228,"访贤许由",5229,"听一听这位尧帝口中的贤士有何说法",{"$nulls":5},{"$f":"IF(J222=\"\",\"\",VLOOKUP(J222,EventNPC!A:E,5,FALSE))","v":""},"",null,null,10014,16,"21",21,null,{"$f":"IF(R222=\"\",\"\",\"-\"&VLOOKUP(R222,EventConditionConfig!A:C,3,FALSE)&IF(S222=\"\",\"\",CHAR(10)&\"-\"&VLOOKUP(S222,EventConditionConfig!A:C,3,FALSE)))","v":"-达到境界：筑基-中期"},null,"","","",null,null,"",null,null,"",{"$nulls":4},{"$f":"IF(A222=\"\",\"\",IF(ISNUMBER(Y222),2,IF(A223=\"\",IF(OR(AK222>0,VLOOKUP(O222,EventConfig!A:C,3,FALSE)=4),3,\"\"),1)))","v":3},10015,null,5249]
[null,"",null,"",{"$nulls":7},"",null,null,null,"","",null,null,{"$f":"IF(R223=\"\",\"\",\"-\"&VLOOKUP(R223,EventConditionConfig!A:C,3,FALSE)&IF(S223=\"\",\"\",CHAR(10)&\"-\"&VLOOKUP(S223,EventConditionConfig!A:C,3,FALSE)))","v":""},null,"","","",null,null,"",null,null,"",{"$nulls":4},{"$f":"IF(A223=\"\",\"\",IF(ISNUMBER(Y223),2,IF(A224=\"\",IF(OR(AK223>0,VLOOKUP(O223,EventConfig!A:C,3,FALSE)=4),3,\"\"),1)))","v":""},"",null,""]
[{"$f":"O224*100+P224","v":1001501},5250,"割草喝茶","",{"$nulls":5},106,{"$f":"IF(J224=\"\",\"\",VLOOKUP(J224,EventNPC!A:E,5,FALSE))","v":"许由"},5251,"（转身望向屋后的山坡）你来得也巧，我正想在开辟一块新药田。",null,10015,1,"",null,null,{"$f":"IF(R224=\"\",\"\",\"-\"&VLOOKUP(R224,EventConditionConfig!A:C,3,FALSE)&IF(S224=\"\",\"\",CHAR(10)&\"-\"&VLOOKUP(S224,EventConditionConfig!A:C,3,FALSE)))","v":""},null,"","","",null,null,"",null,null,"",{"$nulls":4},{"$f":"IF(A224=\"\",\"\",IF(ISNUMBER(Y224),2,IF(A225=\"\",IF(OR(AK224>0,VLOOKUP(O224,EventConfig!A:C,3,FALSE)=4),3,\"\"),1)))","v":1},1001502,null,5251]
[{"$f":"O225*100+P225","v":1001502},5250,"割草喝茶","",{"$nulls":5},106,{"$f":"IF(J225=\"\",\"\",VLOOKUP(J225,EventNPC!A:E,5,FALSE))","v":"许由"},5252,"后山有一块不错的地，离家有一点远平时我也懒得去打理，正好你来了帮我开辟出来吧。",null,10015,2,"",null,null,{"$f":"IF(R225=\"\",\"\",\"-\"&VLOOKUP(R225,EventConditionConfig!A:C,3,FALSE)&IF(S225=\"\",\"\",CHAR(10)&\"-\"&VLOOKUP(S225,EventConditionConfig!A:C,3,FALSE)))","v":""},1,"1001503","5253",5253,"……前辈是让我干农活吗",null,"",null,null,"",{"$nulls":4},{"$f":"IF(A225=\"\",\"\",IF(ISNUMBER(Y225),2,IF(A226=\"\",IF(OR(AK225>0,VLOOKUP(O225,EventConfig!A:C,3,FALSE)=4),3,\"\"),1)))","v":1},1001503,null,5253]
[1001503,5250,"割草喝茶","",{"$nulls":5},106,{"$f":"IF(J226=\"\",\"\",VLOOKUP(J226,EventNPC!A:E,5,FALSE))","v":"许由"},5254,"（笑）哈哈，正是，帮我清理一下灵田，回来请你喝茶。",null,10015,3,{"$f":"_xlfn.TEXTJOIN(\";\",1,R226:S226)","v":""},null,null,{"$f":"IF(R226=\"\",\"\",\"-\"&VLOOKUP(R226,EventConditionConfig!A:C,3,FALSE)&IF(S226=\"\",\"\",CHAR(10)&\"-\"&VLOOKUP(S226,EventConditionConfig!A:C,3,FALSE)))","v":""},null,"","","",null,null,"",null,null,"",{"$nulls":4},{"$f":"IF(A226=\"\",\"\",IF(ISNUMBER(Y226),2,IF(A227=\"\",IF(OR(AK226>0,VLOOKUP(O226,EventConfig!A:C,3,FALSE)=4),3,\"\"),1)))","v":1},1001504,null,5254]
[{"$f":"O227*100+P227","v":1001504},5250,"割草喝茶","",{"$nulls":5},106,{"$f":"IF(J227=\"\",\"\",VLOOKUP(J227,EventNPC!A:E,5,FALSE))","v":"许由"},5255,"对了，在哪些杂草中不也会生长着一些药效不错的药草，这些药草在杂草中没有更好的成长起来，如果发现了药草帮我收集一些药草的种子回来。",null,10015,4,{"$f":"_xlfn.TEXTJOIN(\";\",1,R227:S227)","v":""},null,null,{"$f":"IF(R227=\"\",\"\",\"-\"&VLOOKUP(R227,EventConditionConfig!A:C,3,FALSE)&IF(S227=\"\",\"\",CHAR(10)&\"-\"&VLOOKUP(S227,EventConditionConfig!A:C,3,FALSE)))","v":""},null,"","","",null,null,"",null,null,"",{"$nulls":4},{"$f":"IF(A227=\"\",\"\",IF(ISNUMBER(Y227),2,IF(A228=\"\",IF(OR(AK227>0,VLOOKUP(O227,EventConfig!A:C,3,FALSE)=4),3,\"\"),1)))","v":1},1001505,null,5255]
[{"$f":"O228*100+P228","v":1001505},5250,"割草喝茶","",{"$nulls":5},106,{"$f":"IF(J228=\"\",\"\",VLOOKUP(J228,EventNPC!A:E,5,FALSE))","v":"许由"},5256,"在开辟的过程中也请小心一点，后山也经常有妖怪出没。",null,10015,5,{"$f":"_xlfn.TEXTJOIN(\";\",1,R228:S228)","v":"10;11"},10,11,{"$f":"IF(R228=\"\",\"\",\"-\"&VLOOKUP(R228,EventConditionConfig!A:C,3,FALSE)&IF(S228=\"\",\"\",CHAR(10)&\"-\"&VLOOKUP(S228,EventConditionConfig!A:C,3,FALSE)))","v":"-击败后山小妖\n-收集灵草种子"},null,"","","",null,null,"",null,null,"",{"$nulls":4},{"$f":"IF(A228=\"\",\"\",IF(ISNUMBER(Y228),2,IF(A229=\"\",IF(OR(AK228>0,VLOOKUP(O228,EventConfig!A:C,3,FALSE)=4),3,\"\"),1)))","v":1},1001506,null,5256]
[1001506,5250,"割草喝茶","",{"$nulls":6},{"$f":"IF(J229=\"\",\"\",VLOOKUP(J229,EventNPC!A:E,5,FALSE))","v":""},5257,"（你回到屋前，满身草屑与泥土，许由在烧水，煮茶）",null,10015,6,"",null,null,{"$f":"IF(R229=\"\",\"\",\"-\"&VLOOKUP(R229,EventConditionConfig!A:C,3,FALSE)&IF(S229=\"\",\"\",CHAR(10)&\"-\"&VLOOKUP(S229,EventConditionConfig!A:C,3,FALSE)))","v":""},null,"","","",null,null,"",null,null,"",{"$nulls":4},{"$f":"IF(A229=\"\",\"\",IF(ISNUMBER(Y229),2,IF(A230=\"\",IF(OR(AK229>0,VLOOKUP(O229,EventConfig!A:C,3,FALSE)=4),3,\"\"),1)))","v":1},1001507,null,5257]
[{"$f":"O230*100+P230","v":1001507},5250,"割草喝茶","",{"$nulls":5},106,{"$f":"IF(J230=\"\",\"\",VLOOKUP(J230,EventNPC!A:E,5,FALSE))","v":"许由"},5258,"动得挺快。坐，喝口茶。",null,10015,7,{"$f":"_xlfn.TEXTJOIN(\";\",1,R230:S230)","v":""},null,null,{"$f":"IF(R230=\"\",\"\",\"-\"&VLOOKUP(R230,EventConditionConfig!A:C,3,FALSE)&IF(S230=\"\",\"\",CHAR(10)&\"-\"&VLOOKUP(S230,EventConditionConfig!A:C,3,FALSE)))","v":""},{"$f":"IF(Y230=\"\",\"\",1)","v":1},"1001508","5259",5259,"多谢前辈。",null,"",null,null,"",{"$nulls":4},{"$f":"IF(A230=\"\",\"\",IF(ISNUMBER(Y230),2,IF(A231=\"\",IF(OR(AK230>0,VLOOKUP(O230,EventConfig!A:C,3,FALSE)=4),3,\"\"),1)))","v":1},1001508,null,5259]
[{"$f":"O231*100+P231","v":1001508},5250,"割草喝茶","",{"$nulls":6},{"$f":"IF(J231=\"\",\"\",VLOOKUP(J231,EventNPC!A:E,5,FALSE))","v":""},5260,"（你获得了永久属性提升）（此处需要进一步处理）",null,10015,8,{"$f":"_xlfn.TEXTJOIN(\";\",1,R231:S231)","v":""},null,null,{"$f":"IF(R231=\"\",\"\",\"-\"&VLOOKUP(R231,EventConditionConfig!A:C,3,FALSE)&IF(S231=\"\",\"\",CHAR(10)&\"-\"&VLOOKUP(S231,EventConditionConfig!A:C,3,FALSE)))","v":""},{"$f":"IF(Y231=\"\",\"\",1)","v":""},"","","",null,null,"",null,null,"",{"$nulls":4},{"$f":"IF(A231=\"\",\"\",IF(ISNUMBER(Y231),2,IF(A232=\"\",IF(OR(AK231>0,VLOOKUP(O231,EventConfig!A:C,3,FALSE)=4),3,\"\"),1)))","v":3},10016,null,5260]
[null,"",null,"",{"$nulls":7},"",null,null,null,"",{"$nulls":5},"","","",null,null,"",null,null,"",{"$nulls":4},{"$f":"IF(A232=\"\",\"\",IF(ISNUMBER(Y232),2,IF(A233=\"\",IF(OR(AK232>0,VLOOKUP(O232,EventConfig!A:C,3,FALSE)=4),3,\"\"),1)))","v":""},"",null,""]
[{"$f":"O233*100+P233","v":1001601},5261,"再来一杯","",{"$nulls":5},106,{"$f":"IF(J233=\"\",\"\",VLOOKUP(J233,EventNPC!A:E,5,FALSE))","v":"许由"},5262,"今天的风有点不对，开来昨日你在后山的动静不小呀，山那头怕是要来些不速之客。",null,10016,1,{"$f":"_xlfn.TEXTJOIN(\";\",1,R233:S233)","v":""},null,null,{"$f":"IF(R233=\"\",\"\",\"-\"&VLOOKUP(R233,EventConditionConfig!A:C,3,FALSE)&IF(S233=\"\",\"\",CHAR(10)&\"-\"&VLOOKUP(S233,EventConditionConfig!A:C,3,FALSE)))","v":""},{"$f":"IF(Y233=\"\",\"\",1)","v":""},"","","",null,null,"",null,null,"",{"$nulls":4},{"$f":"IF(A233=\"\",\"\",IF(ISNUMBER(Y233),2,IF(A234=\"\",IF(OR(AK233>0,VLOOKUP(O233,EventConfig!A:C,3,FALSE)=4),3,\"\"),1)))","v":1},1001602,null,5262]
[{"$f":"O234*100+P234","v":1001602},5261,"再来一杯","",{"$nulls":5},106,{"$f":"IF(J234=\"\",\"\",VLOOKUP(J234,EventNPC!A:E,5,FALSE))","v":"许由"},5263,"你才帮我弄好灵草种子和灵田，别让妖兽给毁了。",null,10016,2,{"$f":"_xlfn.TEXTJOIN(\";\",1,R234:S234)","v":""},null,null,{"$f":"IF(R234=\"\",\"\",\"-\"&VLOOKUP(R234,EventConditionConfig!A:C,3,FALSE)&IF(S234=\"\",\"\",CHAR(10)&\"-\"&VLOOKUP(S234,EventConditionConfig!A:C,3,FALSE)))","v":""},"","","","",null,null,"",null,null,"",{"$nulls":4},{"$f":"IF(A234=\"\",\"\",IF(ISNUMBER(Y234),2,IF(A235=\"\",IF(OR(AK234>0,VLOOKUP(O234,EventConfig!A:C,3,FALSE)=4),3,\"\"),1)))","v":1},1001603,null,5263]
[{"$f":"O235*100+P235","v":1001603},5261,"再来一杯","",{"$nulls":5},106,{"$f":"IF(J235=\"\",\"\",VLOOKUP(J235,EventNPC!A:E,5,FALSE))","v":"许由"},5264,"你去走一趟。",null,10016,3,{"$f":"_xlfn.TEXTJOIN(\";\",1,R235:S235)","v":""},null,null,{"$f":"IF(R235=\"\",\"\",\"-\"&VLOOKUP(R235,EventConditionConfig!A:C,3,FALSE)&IF(S235=\"\",\"\",CHAR(10)&\"-\"&VLOOKUP(S235,EventConditionConfig!A:C,3,FALSE)))","v":""},1,"1001604","5265",5265,"好的......",null,"",null,null,"",{"$nulls":4},{"$f":"IF(A235=\"\",\"\",IF(ISNUMBER(Y235),2,IF(A236=\"\",IF(OR(AK235>0,VLOOKUP(O235,EventConfig!A:C,3,FALSE)=4),3,\"\"),1)))","v":1},1001604,null,5265]
[1001604,5261,"再来一杯","",{"$nulls":6},{"$f":"IF(J236=\"\",\"\",VLOOKUP(J236,EventNPC!A:E,5,FALSE))","v":""},"",null,null,10016,4,"12",12,null,{"$f":"IF(R236=\"\",\"\",\"-\"&VLOOKUP(R236,EventConditionConfig!A:C,3,FALSE)&IF(S236=\"\",\"\",CHAR(10)&\"-\"&VLOOKUP(S236,EventConditionConfig!A:C,3,FALSE)))","v":"-击败夜袭的妖兽"},"","","","",null,null,"",null,null,"",{"$nulls":4},{"$f":"IF(A236=\"\",\"\",IF(ISNUMBER(Y236),2,IF(A237=\"\",IF(OR(AK236>0,VLOOKUP(O236,EventConfig!A:C,3,FALSE)=4),3,\"\"),1)))","v":1},1001605,null,5265]
[1001605,5261,"再来一杯","",{"$nulls":6},{"$f":"IF(J237=\"\",\"\",VLOOKUP(J237,EventNPC!A:E,5,FALSE))","v":""},5266,"（回到屋前，看到许由又在烧水，煮茶，和上次一样）",null,10016,5,"",null,null,{"$f":"IF(R237=\"\",\"\",\"-\"&VLOOKUP(R237,EventConditionConfig!A:C,3,FALSE)&IF(S237=\"\",\"\",CHAR(10)&\"-\"&VLOOKUP(S237,EventConditionConfig!A:C,3,FALSE)))","v":""},"","","","",null,null,"",null,null,"",{"$nulls":4},{"$f":"IF(A237=\"\",\"\",IF(ISNUMBER(Y237),2,IF(A238=\"\",IF(OR(AK237>0,VLOOKUP(O237,EventConfig!A:C,3,FALSE)=4),3,\"\"),1)))","v":1},1001606,null,5266]
[{"$f":"O238*100+P238","v":1001606},5261,"再来一杯","",{"$nulls":5},106,{"$f":"IF(J238=\"\",\"\",VLOOKUP(J238,EventNPC!A:E,5,FALSE))","v":"许由"},5267,"来，喝茶。",null,10016,6,{"$f":"_xlfn.TEXTJOIN(\";\",1,R238:S238)","v":""},null,null,{"$f":"IF(R238=\"\",\"\",\"-\"&VLOOKUP(R238,EventConditionConfig!A:C,3,FALSE)&IF(S238=\"\",\"\",CHAR(10)&\"-\"&VLOOKUP(S238,EventConditionConfig!A:C,3,FALSE)))","v":""},"","","","",null,null,"",null,null,"",{"$nulls":4},{"$f":"IF(A238=\"\",\"\",IF(ISNUMBER(Y238),2,IF(A239=\"\",IF(OR(AK238>0,VLOOKUP(O238,EventConfig!A:C,3,FALSE)=4),3,\"\"),1)))","v":1},1001607,null,5267]
[{"$f":"O239*100+P239","v":1001607},5261,"再来一杯","",{"$nulls":5},100,{"$f":"IF(J239=\"\",\"\",VLOOKUP(J239,EventNPC!A:E,5,FALSE))","v":"玩家"},5268,"（心中默念...这个精英妖兽，可费我一些功夫，怎么又是茶？）",null,10016,7,{"$f":"_xlfn.TEXTJOIN(\";\",1,R239:S239)","v":""},null,null,{"$f":"IF(R239=\"\",\"\",\"-\"&VLOOKUP(R239,EventConditionConfig!A:C,3,FALSE)&IF(S239=\"\",\"\",CHAR(10)&\"-\"&VLOOKUP(S239,EventConditionConfig!A:C,3,FALSE)))","v":""},1,"1001608","5269",5269,"（你没说话，默默喝下）",null,"",null,null,"",{"$nulls":4},{"$f":"IF(A239=\"\",\"\",IF(ISNUMBER(Y239),2,IF(A240=\"\",IF(OR(AK239>0,VLOOKUP(O239,EventConfig!A:C,3,FALSE)=4),3,\"\"),1)))","v":1},1001608,null,5269]
[1001608,5261,"再来一杯","",{"$nulls":6},{"$f":"IF(J240=\"\",\"\",VLOOKUP(J240,EventNPC!A:E,5,FALSE))","v":""},5270,"（你获得了永久属性提升）（此处需要进一步处理）",null,10016,8,"22",22,null,{"$f":"IF(R240=\"\",\"\",\"-\"&VLOOKUP(R240,EventConditionConfig!A:C,3,FALSE)&IF(S240=\"\",\"\",CHAR(10)&\"-\"&VLOOKUP(S240,EventConditionConfig!A:C,3,FALSE)))","v":"-达到境界：筑基-后期"},"","","","",null,null,"",null,null,"",{"$nulls":4},{"$f":"IF(A240=\"\",\"\",IF(ISNUMBER(Y240),2,IF(A241=\"\",IF(OR(AK240>0,VLOOKUP(O240,EventConfig!A:C,3,FALSE)=4),3,\"\"),1)))","v":3},10017,null,5270]
[null,"",null,"",{"$nulls":7},"",null,null,null,"",{"$nulls":5},"","","",null,null,"",null,null,"",{"$nulls":4},{"$f":"IF(A241=\"\",\"\",IF(ISNUMBER(Y241),2,IF(A242=\"\",IF(OR(AK241>0,VLOOKUP(O241,EventConfig!A:C,3,FALSE)=4),3,\"\"),1)))","v":""},"",null,""]
[{"$f":"O242*100+P242","v":1001701},5271,"战胜妖王","",{"$nulls":6},{"$f":"IF(J242=\"\",\"\",VLOOKUP(J242,EventNPC!A:E,5,FALSE))","v":""},5272,"（次日清晨，山顶云气升腾，许由站在灵田边，看着远山）",null,10017,1,{"$f":"_xlfn.TEXTJOIN(\";\",1,R242:S242)","v":""},null,null,{"$f":"IF(R242=\"\",\"\",\"-\"&VLOOKUP(R242,EventConditionConfig!A:C,3,FALSE)&IF(S242=\"\",\"\",CHAR(10)&\"-\"&VLOOKUP(S242,EventConditionConfig!A:C,3,FALSE)))","v":""},{"$f":"IF(Y242=\"\",\"\",1)","v":""},"","","",null,null,"",null,null,"",{"$nulls":4},{"$f":"IF(A242=\"\",\"\",IF(ISNUMBER(Y242),2,IF(A243=\"\",IF(OR(AK242>0,VLOOKUP(O242,EventConfig!A:C,3,FALSE)=4),3,\"\"),1)))","v":1},1001702,null,5272]
[{"$f":"O243*100+P243","v":1001702},5271,"战胜妖王","",{"$nulls":6},{"$f":"IF(J243=\"\",\"\",VLOOKUP(J243,EventNPC!A:E,5,FALSE))","v":""},5273," 先前的妖兽，被你压了下去。可峰顶还有一头老家伙，脾气大。",null,10017,2,{"$f":"_xlfn.TEXTJOIN(\";\",1,R243:S243)","v":""},null,null,{"$f":"IF(R243=\"\",\"\",\"-\"&VLOOKUP(R243,EventConditionConfig!A:C,3,FALSE)&IF(S243=\"\",\"\",CHAR(10)&\"-\"&VLOOKUP(S243,EventConditionConfig!A:C,3,FALSE)))","v":""},1,"1001703","5274",5274,"前辈可是希望我去处理？",null,"",null,null,"",{"$nulls":4},{"$f":"IF(A243=\"\",\"\",IF(ISNUMBER(Y243),2,IF(A244=\"\",IF(OR(AK243>0,VLOOKUP(O243,EventConfig!A:C,3,FALSE)=4),3,\"\"),1)))","v":1},1001703,null,5274]
[1001703,5271,"战胜妖王","",{"$nulls":5},106,{"$f":"IF(J244=\"\",\"\",VLOOKUP(J244,EventNPC!A:E,5,FALSE))","v":"许由"},5275,"（淡笑）去吧，你可以应付的。",null,10017,3,"",null,null,{"$f":"IF(R244=\"\",\"\",\"-\"&VLOOKUP(R244,EventConditionConfig!A:C,3,FALSE)&IF(S244=\"\",\"\",CHAR(10)&\"-\"&VLOOKUP(S244,EventConditionConfig!A:C,3,FALSE)))","v":""},"","","","",null,null,"",null,null,"",{"$nulls":4},{"$f":"IF(A244=\"\",\"\",IF(ISNUMBER(Y244),2,IF(A245=\"\",IF(OR(AK244>0,VLOOKUP(O244,EventConfig!A:C,3,FALSE)=4),3,\"\"),1)))","v":1},1001704,null,5275]
[1001704,5271,"战胜妖王","",{"$nulls":6},{"$f":"IF(J245=\"\",\"\",VLOOKUP(J245,EventNPC!A:E,5,FALSE))","v":""},"",null,null,10017,4,{"$f":"_xlfn.TEXTJOIN(\";\",1,R245:S245)","v":"13"},13,null,{"$f":"IF(R245=\"\",\"\",\"-\"&VLOOKUP(R245,EventConditionConfig!A:C,3,FALSE)&IF(S245=\"\",\"\",CHAR(10)&\"-\"&VLOOKUP(S245,EventConditionConfig!A:C,3,FALSE)))","v":"-击败峰顶的妖王"},"","","","",null,null,"",null,null,"",{"$nulls":4},{"$f":"IF(A245=\"\",\"\",IF(ISNUMBER(Y245),2,IF(A246=\"\",IF(OR(AK245>0,VLOOKUP(O245,EventConfig!A:C,3,FALSE)=4),3,\"\"),1)))","v":1},1001705,null,5275]
[{"$f":"O246*100+P246","v":1001705},5271,"战胜妖王","",{"$nulls":6},{"$f":"IF(J246=\"\",\"\",VLOOKUP(J246,EventNPC!A:E,5,FALSE))","v":""},5276,"（你回到屋前，略显疲惫，许由依然在烧水，煮茶）",null,10017,5,"",null,null,{"$f":"IF(R246=\"\",\"\",\"-\"&VLOOKUP(R246,EventConditionConfig!A:C,3,FALSE)&IF(S246=\"\",\"\",CHAR(10)&\"-\"&VLOOKUP(S246,EventConditionConfig!A:C,3,FALSE)))","v":""},"","","","",null,null,"",null,null,"",{"$nulls":4},{"$f":"IF(A246=\"\",\"\",IF(ISNUMBER(Y246),2,IF(A247=\"\",IF(OR(AK246>0,VLOOKUP(O246,EventConfig!A:C,3,FALSE)=4),3,\"\"),1)))","v":1},1001706,null,5276]
[{"$f":"O247*100+P247","v":1001706},5271,"战胜妖王","",{"$nulls":5},106,{"$f":"IF(J247=\"\",\"\",VLOOKUP(J247,EventNPC!A:E,5,FALSE))","v":"许由"},5277,"（不动声色，递茶）喝吧。",null,10017,6,{"$f":"_xlfn.TEXTJOIN(\";\",1,R247:S247)","v":""},null,null,{"$f":"IF(R247=\"\",\"\",\"-\"&VLOOKUP(R247,EventConditionConfig!A:C,3,FALSE)&IF(S247=\"\",\"\",CHAR(10)&\"-\"&VLOOKUP(S247,EventConditionConfig!A:C,3,FALSE)))","v":""},"","","","",null,null,"",null,null,"",{"$nulls":4},{"$f":"IF(A247=\"\",\"\",IF(ISNUMBER(Y247),2,IF(A248=\"\",IF(OR(AK247>0,VLOOKUP(O247,EventConfig!A:C,3,FALSE)=4),3,\"\"),1)))","v":1},1001707,null,5277]
[{"$f":"O248*100+P248","v":1001707},5271,"战胜妖王","",{"$nulls":5},100,{"$f":"IF(J248=\"\",\"\",VLOOKUP(J248,EventNPC!A:E,5,FALSE))","v":"玩家"},5278,"（低声）……前辈，我做了怎么多事，一次比一次难。为何每次都让我喝茶？",null,10017,7,{"$f":"_xlfn.TEXTJOIN(\";\",1,R248:S248)","v":""},null,null,{"$f":"IF(R248=\"\",\"\",\"-\"&VLOOKUP(R248,EventConditionConfig!A:C,3,FALSE)&IF(S248=\"\",\"\",CHAR(10)&\"-\"&VLOOKUP(S248,EventConditionConfig!A:C,3,FALSE)))","v":""},"","","","",null,null,"",null,null,"",{"$nulls":4},{"$f":"IF(A248=\"\",\"\",IF(ISNUMBER(Y248),2,IF(A249=\"\",IF(OR(AK248>0,VLOOKUP(O248,EventConfig!A:C,3,FALSE)=4),3,\"\"),1)))","v":1},1001708,null,5278]
[{"$f":"O249*100+P249","v":1001708},5271,"战胜妖王","",{"$nulls":5},106,{"$f":"IF(J249=\"\",\"\",VLOOKUP(J249,EventNPC!A:E,5,FALSE))","v":"许由"},5279,"哈哈哈，小友.你赢得越来越多，喝得却越来越不甘心。",null,10017,8,{"$f":"_xlfn.TEXTJOIN(\";\",1,R249:S249)","v":""},null,null,{"$f":"IF(R249=\"\",\"\",\"-\"&VLOOKUP(R249,EventConditionConfig!A:C,3,FALSE)&IF(S249=\"\",\"\",CHAR(10)&\"-\"&VLOOKUP(S249,EventConditionConfig!A:C,3,FALSE)))","v":""},"","","","",null,null,"",null,null,"",{"$nulls":4},{"$f":"IF(A249=\"\",\"\",IF(ISNUMBER(Y249),2,IF(A250=\"\",IF(OR(AK249>0,VLOOKUP(O249,EventConfig!A:C,3,FALSE)=4),3,\"\"),1)))","v":1},1001709,null,5279]
[{"$f":"O250*100+P250","v":1001709},5271,"战胜妖王","",{"$nulls":5},106,{"$f":"IF(J250=\"\",\"\",VLOOKUP(J250,EventNPC!A:E,5,FALSE))","v":"许由"},5280,"尧现在，或许也是这个心情吧。一路赢到底，却再没能静下心来，喝一杯茶。",null,10017,9,{"$f":"_xlfn.TEXTJOIN(\";\",1,R250:S250)","v":""},null,null,{"$f":"IF(R250=\"\",\"\",\"-\"&VLOOKUP(R250,EventConditionConfig!A:C,3,FALSE)&IF(S250=\"\",\"\",CHAR(10)&\"-\"&VLOOKUP(S250,EventConditionConfig!A:C,3,FALSE)))","v":""},"","","","",null,null,"",null,null,"",{"$nulls":4},{"$f":"IF(A250=\"\",\"\",IF(ISNUMBER(Y250),2,IF(A251=\"\",IF(OR(AK250>0,VLOOKUP(O250,EventConfig!A:C,3,FALSE)=4),3,\"\"),1)))","v":1},1001710,null,5280]
[{"$f":"O251*100+P251","v":1001710},5271,"战胜妖王","",{"$nulls":5},106,{"$f":"IF(J251=\"\",\"\",VLOOKUP(J251,EventNPC!A:E,5,FALSE))","v":"许由"},5281,"好了，你回去吧。",null,10017,10,{"$f":"_xlfn.TEXTJOIN(\";\",1,R251:S251)","v":""},null,null,{"$f":"IF(R251=\"\",\"\",\"-\"&VLOOKUP(R251,EventConditionConfig!A:C,3,FALSE)&IF(S251=\"\",\"\",CHAR(10)&\"-\"&VLOOKUP(S251,EventConditionConfig!A:C,3,FALSE)))","v":""},1,"1001711;1001712","5282;5283",5282,"我该如何回复尧帝？",{"$f":"A252","v":1001711},5283,"多谢前辈提醒。",{"$f":"A253","v":1001712},"",null,{"$f":"D253","v":""},null,null,{"$f":"IF(A251=\"\",\"\",IF(ISNUMBER(Y251),2,IF(A252=\"\",IF(OR(AK251>0,VLOOKUP(O251,EventConfig!A:C,3,FALSE)=4),3,\"\"),1)))","v":1},1001711,null,5283]
[1001711,5271,"战胜妖王","",{"$nulls":5},106,{"$f":"IF(J252=\"\",\"\",VLOOKUP(J252,EventNPC!A:E,5,FALSE))","v":"许由"},5284,"“道不碍政，心自碍道”。若心不净，纵避千山万水，又有何用。",null,10017,11,"",null,null,{"$f":"IF(R252=\"\",\"\",\"-\"&VLOOKUP(R252,EventConditionConfig!A:C,3,FALSE)&IF(S252=\"\",\"\",CHAR(10)&\"-\"&VLOOKUP(S252,EventConditionConfig!A:C,3,FALSE)))","v":""},"","","","",null,null,"",null,null,"",{"$nulls":4},{"$f":"IF(A252=\"\",\"\",IF(ISNUMBER(Y252),2,IF(A253=\"\",IF(OR(AK252>0,VLOOKUP(O252,EventConfig!A:C,3,FALSE)=4),3,\"\"),1)))","v":1},1001712,null,5284]
[{"$f":"O253*100+P253","v":1001712},5271,"战胜妖王","",{"$nulls":6},{"$f":"IF(J253=\"\",\"\",VLOOKUP(J253,EventNPC!A:E,5,FALSE))","v":""},5285,"（你低头，看着杯中微动的茶水）\n（喝下第三杯茶，觉得一身轻松）",null,10017,12,{"$f":"_xlfn.TEXTJOIN(\";\",1,R253:S253)","v":""},null,null,{"$f":"IF(R253=\"\",\"\",\"-\"&VLOOKUP(R253,EventConditionConfig!A:C,3,FALSE)&IF(S253=\"\",\"\",CHAR(10)&\"-\"&VLOOKUP(S253,EventConditionConfig!A:C,3,FALSE)))","v":""},"","","","",null,null,"",null,null,"",{"$nulls":4},{"$f":"IF(A253=\"\",\"\",IF(ISNUMBER(Y253),2,IF(A254=\"\",IF(OR(AK253>0,VLOOKUP(O253,EventConfig!A:C,3,FALSE)=4),3,\"\"),1)))","v":1},1001713,null,5285]
[1001713,5271,"战胜妖王","",{"$nulls":6},{"$f":"IF(J254=\"\",\"\",VLOOKUP(J254,EventNPC!A:E,5,FALSE))","v":""},5286,"（你获得了永久属性提升）（此处需要进一步处理）",null,10017,13,"",null,null,{"$f":"IF(R254=\"\",\"\",\"-\"&VLOOKUP(R254,EventConditionConfig!A:C,3,FALSE)&IF(S254=\"\",\"\",CHAR(10)&\"-\"&VLOOKUP(S254,EventConditionConfig!A:C,3,FALSE)))","v":""},"","","","",null,null,"",null,null,"",{"$nulls":4},{"$f":"IF(A254=\"\",\"\",IF(ISNUMBER(Y254),2,IF(A255=\"\",IF(OR(AK254>0,VLOOKUP(O254,EventConfig!A:C,3,FALSE)=4),3,\"\"),1)))","v":3},10018,null,5286]
[null,"",null,"",{"$nulls":7},"",null,null,null,"",{"$nulls":5},"","","",null,null,"",null,null,"",{"$nulls":4},{"$f":"IF(A255=\"\",\"\",IF(ISNUMBER(Y255),2,IF(A256=\"\",IF(OR(AK255>0,VLOOKUP(O255,EventConfig!A:C,3,FALSE)=4),3,\"\"),1)))","v":""},"",null,""]
[{"$f":"O256*100+P256","v":1001801},5287,"回尧城与帝尧对话，复述许由之言","",{"$nulls":5},100,{"$f":"IF(J256=\"\",\"\",VLOOKUP(J256,EventNPC!A:E,5,FALSE))","v":"玩家"},5288,"前辈，晚辈已往访许由，将事情告知他。",null,10018,1,{"$f":"_xlfn.TEXTJOIN(\";\",1,R256:S256)","v":""},null,null,{"$f":"IF(R256=\"\",\"\",\"-\"&VLOOKUP(R256,EventConditionConfig!A:C,3,FALSE)&IF(S256=\"\",\"\",CHAR(10)&\"-\"&VLOOKUP(S256,EventConditionConfig!A:C,3,FALSE)))","v":""},{"$f":"IF(Y256=\"\",\"\",1)","v":""},"","","",null,null,"",null,null,"",{"$nulls":4},{"$f":"IF(A256=\"\",\"\",IF(ISNUMBER(Y256),2,IF(A257=\"\",IF(OR(AK256>0,VLOOKUP(O256,EventConfig!A:C,3,FALSE)=4),3,\"\"),1)))","v":1},1001802,null,5288]
[{"$f":"O257*100+P257","v":1001802},5287,"回尧城与帝尧对话，复述许由之言","",{"$nulls":5},105,{"$f":"IF(J257=\"\",\"\",VLOOKUP(J257,EventNPC!A:E,5,FALSE))","v":"尧帝"},5289,"他如何说？",null,10018,2,{"$f":"_xlfn.TEXTJOIN(\";\",1,R257:S257)","v":""},null,null,{"$f":"IF(R257=\"\",\"\",\"-\"&VLOOKUP(R257,EventConditionConfig!A:C,3,FALSE)&IF(S257=\"\",\"\",CHAR(10)&\"-\"&VLOOKUP(S257,EventConditionConfig!A:C,3,FALSE)))","v":""},"","","","",null,null,"",null,null,"",{"$nulls":4},{"$f":"IF(A257=\"\",\"\",IF(ISNUMBER(Y257),2,IF(A258=\"\",IF(OR(AK257>0,VLOOKUP(O257,EventConfig!A:C,3,FALSE)=4),3,\"\"),1)))","v":1},1001803,null,5289]
[{"$f":"O258*100+P258","v":1001803},5287,"回尧城与帝尧对话，复述许由之言","",{"$nulls":5},100,{"$f":"IF(J258=\"\",\"\",VLOOKUP(J258,EventNPC!A:E,5,FALSE))","v":"玩家"},5290,"许由不愿出山，让我转告您一句话。\n“道不碍政，心自碍道。”\n若心不净，纵避千山万水，又有何用。”",null,10018,3,{"$f":"_xlfn.TEXTJOIN(\";\",1,R258:S258)","v":""},null,null,{"$f":"IF(R258=\"\",\"\",\"-\"&VLOOKUP(R258,EventConditionConfig!A:C,3,FALSE)&IF(S258=\"\",\"\",CHAR(10)&\"-\"&VLOOKUP(S258,EventConditionConfig!A:C,3,FALSE)))","v":""},"","","","",null,null,"",null,null,"",{"$nulls":4},{"$f":"IF(A258=\"\",\"\",IF(ISNUMBER(Y258),2,IF(A259=\"\",IF(OR(AK258>0,VLOOKUP(O258,EventConfig!A:C,3,FALSE)=4),3,\"\"),1)))","v":1},1001804,null,5290]
[1001804,5287,"回尧城与帝尧对话，复述许由之言","",{"$nulls":5},105,{"$f":"IF(J259=\"\",\"\",VLOOKUP(J259,EventNPC!A:E,5,FALSE))","v":"尧帝"},5291,"（帝尧沉默，良久，轻轻点头）他还是那副模样……不肯出山。",null,{"$f":"IF(O258=\"\",O257+1,O258)","v":10018},4,{"$f":"_xlfn.TEXTJOIN(\";\",1,R259:S259)","v":""},null,null,{"$f":"IF(R259=\"\",\"\",\"-\"&VLOOKUP(R259,EventConditionConfig!A:C,3,FALSE)&IF(S259=\"\",\"\",CHAR(10)&\"-\"&VLOOKUP(S259,EventConditionConfig!A:C,3,FALSE)))","v":""},"","","","",null,null,"",null,null,"",{"$nulls":4},{"$f":"IF(A259=\"\",\"\",IF(ISNUMBER(Y259),2,IF(A260=\"\",IF(OR(AK259>0,VLOOKUP(O259,EventConfig!A:C,3,FALSE)=4),3,\"\"),1)))","v":1},1001805,null,5291]
[1001805,5287,"回尧城与帝尧对话，复述许由之言","",{"$nulls":5},105,{"$f":"IF(J260=\"\",\"\",VLOOKUP(J260,EventNPC!A:E,5,FALSE))","v":"尧帝"},5292,"（抬眼望你）不过，他说得也有几分道理。",null,10018,5,{"$f":"_xlfn.TEXTJOIN(\";\",1,R260:S260)","v":""},null,null,{"$f":"IF(R260=\"\",\"\",\"-\"&VLOOKUP(R260,EventConditionConfig!A:C,3,FALSE)&IF(S260=\"\",\"\",CHAR(10)&\"-\"&VLOOKUP(S260,EventConditionConfig!A:C,3,FALSE)))","v":""},"","","","",null,null,"",null,null,"",{"$nulls":4},{"$f":"IF(A260=\"\",\"\",IF(ISNUMBER(Y260),2,IF(A261=\"\",IF(OR(AK260>0,VLOOKUP(O260,EventConfig!A:C,3,FALSE)=4),3,\"\"),1)))","v":1},1001806,null,5292]
[1001806,5287,"回尧城与帝尧对话，复述许由之言","",{"$nulls":5},105,{"$f":"IF(J261=\"\",\"\",VLOOKUP(J261,EventNPC!A:E,5,FALSE))","v":"尧帝"},5293,"我以为，是天下扰我修行，难道是我自己扰了自己？我再想想吧。（轻叹）",null,10018,6,{"$f":"_xlfn.TEXTJOIN(\";\",1,R261:S261)","v":""},null,null,{"$f":"IF(R261=\"\",\"\",\"-\"&VLOOKUP(R261,EventConditionConfig!A:C,3,FALSE)&IF(S261=\"\",\"\",CHAR(10)&\"-\"&VLOOKUP(S261,EventConditionConfig!A:C,3,FALSE)))","v":""},"","","","",null,null,"",null,null,"",{"$nulls":4},{"$f":"IF(A261=\"\",\"\",IF(ISNUMBER(Y261),2,IF(A262=\"\",IF(OR(AK261>0,VLOOKUP(O261,EventConfig!A:C,3,FALSE)=4),3,\"\"),1)))","v":1},1001807,null,5293]
[1001807,5287,"回尧城与帝尧对话，复述许由之言",{"$f":"IF(E262=\"\",\"\",IF(E262=E261,D261,MAX(AL261,AL260,B262)+1))","v":""},{"$nulls":5},105,{"$f":"IF(J262=\"\",\"\",VLOOKUP(J262,EventNPC!A:E,5,FALSE))","v":"尧帝"},{"$f":"IF(M262=\"\",\"\",MAX(AL261,AL260,B262,D262)+1)","v":5294},"小友，辛苦你这一趟。",null,10018,7,{"$f":"_xlfn.TEXTJOIN(\";\",1,R262:S262)","v":""},null,null,{"$f":"IF(R262=\"\",\"\",\"-\"&VLOOKUP(R262,EventConditionConfig!A:C,3,FALSE)&IF(S262=\"\",\"\",CHAR(10)&\"-\"&VLOOKUP(S262,EventConditionConfig!A:C,3,FALSE)))","v":""},"","","","",null,null,"",null,null,"",{"$nulls":4},{"$f":"IF(A262=\"\",\"\",IF(ISNUMBER(Y262),2,IF(A263=\"\",IF(OR(AK262>0,VLOOKUP(O262,EventConfig!A:C,3,FALSE)=4),3,\"\"),1)))","v":1},1001808,null,{"$f":"IF(A262=\"\",\"\",MAX(B262,D262,L262,X262,AA262,AL261,AL260,AD262))","v":5294}]
[1001808,5287,"回尧城与帝尧对话，复述许由之言","",{"$nulls":5},105,{"$f":"IF(J263=\"\",\"\",VLOOKUP(J263,EventNPC!A:E,5,FALSE))","v":"尧帝"},5295,"你让我想起，我当年初修时，也常在山野之间，与人论道、与妖兽斗法……",null,10018,8,{"$f":"_xlfn.TEXTJOIN(\";\",1,R263:S263)","v":""},null,null,{"$f":"IF(R263=\"\",\"\",\"-\"&VLOOKUP(R263,EventConditionConfig!A:C,3,FALSE)&IF(S263=\"\",\"\",CHAR(10)&\"-\"&VLOOKUP(S263,EventConditionConfig!A:C,3,FALSE)))","v":""},"","","","",null,null,"",null,null,"",{"$nulls":4},{"$f":"IF(A263=\"\",\"\",IF(ISNUMBER(Y263),2,IF(A264=\"\",IF(OR(AK263>0,VLOOKUP(O263,EventConfig!A:C,3,FALSE)=4),3,\"\"),1)))","v":1},1001809,null,5295]
[1001809,5287,"回尧城与帝尧对话，复述许由之言","",{"$nulls":5},105,{"$f":"IF(J264=\"\",\"\",VLOOKUP(J264,EventNPC!A:E,5,FALSE))","v":"尧帝"},5296,"（转身，望向殿后灵山）我这里灵气充沛，古迹亦多，不妨在此逗留几日，四处看看。",null,10018,9,{"$f":"_xlfn.TEXTJOIN(\";\",1,R264:S264)","v":""},null,null,{"$f":"IF(R264=\"\",\"\",\"-\"&VLOOKUP(R264,EventConditionConfig!A:C,3,FALSE)&IF(S264=\"\",\"\",CHAR(10)&\"-\"&VLOOKUP(S264,EventConditionConfig!A:C,3,FALSE)))","v":""},"","","","",null,null,"",null,null,"",{"$nulls":4},{"$f":"IF(A264=\"\",\"\",IF(ISNUMBER(Y264),2,IF(A265=\"\",IF(OR(AK264>0,VLOOKUP(O264,EventConfig!A:C,3,FALSE)=4),3,\"\"),1)))","v":1},1001810,null,5296]
[1001810,5287,"回尧城与帝尧对话，复述许由之言","",{"$nulls":5},105,{"$f":"IF(J265=\"\",\"\",VLOOKUP(J265,EventNPC!A:E,5,FALSE))","v":"尧帝"},5297,"或许这也是冲虚真人引你来的真正用意。",null,10018,10,{"$f":"_xlfn.TEXTJOIN(\";\",1,R265:S265)","v":"23"},23,null,{"$f":"IF(R265=\"\",\"\",\"-\"&VLOOKUP(R265,EventConditionConfig!A:C,3,FALSE)&IF(S265=\"\",\"\",CHAR(10)&\"-\"&VLOOKUP(S265,EventConditionConfig!A:C,3,FALSE)))","v":"-达到境界：结丹-前期"},"","","","",null,null,"",null,null,"",{"$nulls":4},{"$f":"IF(A265=\"\",\"\",IF(ISNUMBER(Y265),2,IF(A266=\"\",IF(OR(AK265>0,VLOOKUP(O265,EventConfig!A:C,3,FALSE)=4),3,\"\"),1)))","v":3},10019,null,5297]
[null,"",null,"",{"$nulls":7},"",null,null,null,"",{"$nulls":5},"","","",null,null,"",null,null,"",{"$nulls":4},{"$f":"IF(A266=\"\",\"\",IF(ISNUMBER(Y266),2,IF(A267=\"\",IF(OR(AK266>0,VLOOKUP(O266,EventConfig!A:C,3,FALSE)=4),3,\"\"),1)))","v":""},"",null,""]
[{"$f":"O267*100+P267","v":1001901},5298,"和村民对话","",{"$nulls":5},107,{"$f":"IF(J267=\"\",\"\",VLOOKUP(J267,EventNPC!A:E,5,FALSE))","v":"村名甲"},5299,"（抬头看树）啧，这棵老怪树，又矮又歪，枝杈乱伸，挡着田，碍着路。",null,{"$f":"IF(O266=\"\",O265+1,O266)","v":10019},1,{"$f":"_xlfn.TEXTJOIN(\";\",1,R267:S267)","v":""},null,null,{"$f":"IF(R267=\"\",\"\",\"-\"&VLOOKUP(R267,EventConditionConfig!A:C,3,FALSE)&IF(S267=\"\",\"\",CHAR(10)&\"-\"&VLOOKUP(S267,EventConditionConfig!A:C,3,FALSE)))","v":""},{"$f":"IF(Y267=\"\",\"\",1)","v":""},"","","",null,null,"",null,null,"",{"$nulls":4},{"$f":"IF(A267=\"\",\"\",IF(ISNUMBER(Y267),2,IF(A268=\"\",IF(OR(AK267>0,VLOOKUP(O267,EventConfig!A:C,3,FALSE)=4),3,\"\"),1)))","v":1},1001902,null,5299]
[1001902,5298,"和村民对话","",{"$nulls":5},108,{"$f":"IF(J268=\"\",\"\",VLOOKUP(J268,EventNPC!A:E,5,FALSE))","v":"村名乙"},5300,"（叹气）啊，对对对。\n长得歪七扭八的，根还凸出土，差点把我家牛绊了。",null,10019,2,{"$f":"_xlfn.TEXTJOIN(\";\",1,R268:S268)","v":""},null,null,{"$f":"IF(R268=\"\",\"\",\"-\"&VLOOKUP(R268,EventConditionConfig!A:C,3,FALSE)&IF(S268=\"\",\"\",CHAR(10)&\"-\"&VLOOKUP(S268,EventConditionConfig!A:C,3,FALSE)))","v":""},"","","","",null,null,"",null,null,"",{"$nulls":4},{"$f":"IF(A268=\"\",\"\",IF(ISNUMBER(Y268),2,IF(A269=\"\",IF(OR(AK268>0,VLOOKUP(O268,EventConfig!A:C,3,FALSE)=4),3,\"\"),1)))","v":1},1001903,null,5300]
[1001903,{"$f":"IF(C269=\"\",\"\",IF(C269=C268,B268,MAX(AL268,AL267)+1))","v":5298},"和村民对话","",{"$nulls":5},109,{"$f":"IF(J269=\"\",\"\",VLOOKUP(J269,EventNPC!A:E,5,FALSE))","v":"村名丙"},5301,"对对对，要是没有这棵树就好了，空占这么大块好地。",null,10019,3,{"$f":"_xlfn.TEXTJOIN(\";\",1,R269:S269)","v":""},null,null,{"$f":"IF(R269=\"\",\"\",\"-\"&VLOOKUP(R269,EventConditionConfig!A:C,3,FALSE)&IF(S269=\"\",\"\",CHAR(10)&\"-\"&VLOOKUP(S269,EventConditionConfig!A:C,3,FALSE)))","v":""},"","","",{"$f":"IF(OR(ISNUMBER(Y269),Y269=\"\"),\"\",MAX(AL268,AL266,B269,D269,L269)+1)","v":""},null,null,{"$f":"IF(OR(ISNUMBER(AB269),AB269=\"\"),\"\",X269+1)","v":""},null,null,{"$f":"IF(OR(ISNUMBER(AE269),AE269=\"\"),\"\",AA269+1)","v":""},{"$nulls":4},{"$f":"IF(A269=\"\",\"\",IF(ISNUMBER(Y269),2,IF(A270=\"\",IF(OR(AK269>0,VLOOKUP(O269,EventConfig!A:C,3,FALSE)=4),3,\"\"),1)))","v":1},1001904,null,5301]
[1001904,5298,"和村民对话","",{"$nulls":5},107,{"$f":"IF(J270=\"\",\"\",VLOOKUP(J270,EventNPC!A:E,5,FALSE))","v":"村名甲"},5302,"这树是真没用，连个树荫都没，晴天底下站着热，雨天底下水多。",null,10019,4,"",null,null,{"$f":"IF(R270=\"\",\"\",\"-\"&VLOOKUP(R270,EventConditionConfig!A:C,3,FALSE)&IF(S270=\"\",\"\",CHAR(10)&\"-\"&VLOOKUP(S270,EventConditionConfig!A:C,3,FALSE)))","v":""},"",{"$f":"IF(U270=1,_xlfn.TEXTJOIN(\";\",1,IF(Z270=\"\",A270+1,Z270),IF(AND(AA270<>\"\",AC270=\"\"),A270+1,AC270),IF(AND(AD270<>\"\",AF270=\"\"),A270+1,AF270)),IF(U270=2,Y270,\"\"))","v":""},{"$f":"_xlfn.TEXTJOIN(\";\",1,X270,AA270,AD270)","v":""},"",null,null,"",null,null,"",{"$nulls":4},{"$f":"IF(A270=\"\",\"\",IF(ISNUMBER(Y270),2,IF(A271=\"\",IF(OR(AK270>0,VLOOKUP(O270,EventConfig!A:C,3,FALSE)=4),3,\"\"),1)))","v":1},{"$f":"IF(AI270=\"\",\"\",CHOOSE(AI270,IF(AK270=\"\",A270+1,AK270),CONCATENATE(IF(AK270=\"\",A270+1,AK270),\";101\"),IF(AK270=\"\",O270+1,AK270)))","v":1001905},null,5302]
[1001905,5298,"和村民对话","",{"$nulls":5},108,{"$f":"IF(J271=\"\",\"\",VLOOKUP(J271,EventNPC!A:E,5,FALSE))","v":"村名乙"},5303,"就是啊，想在树下歇个脚都不行。",null,10019,5,"",null,null,{"$f":"IF(R271=\"\",\"\",\"-\"&VLOOKUP(R271,EventConditionConfig!A:C,3,FALSE)&IF(S271=\"\",\"\",CHAR(10)&\"-\"&VLOOKUP(S271,EventConditionConfig!A:C,3,FALSE)))","v":""},1,"1001906","5304",5304,"（环顾左右）是吗，我就不信，这棵树没有用…",null,"",null,null,"",{"$nulls":4},{"$f":"IF(A271=\"\",\"\",IF(ISNUMBER(Y271),2,IF(A272=\"\",IF(OR(AK271>0,VLOOKUP(O271,EventConfig!A:C,3,FALSE)=4),3,\"\"),1)))","v":1},1001906,null,5304]
[1001906,5298,"和村民对话","",{"$nulls":5},109,{"$f":"IF(J272=\"\",\"\",VLOOKUP(J272,EventNPC!A:E,5,FALSE))","v":"村名丙"},5305,"这位仙长，那你说说看，这树能干什么？",null,10019,6,{"$f":"_xlfn.TEXTJOIN(\";\",1,R272:S272)","v":""},null,null,{"$f":"IF(R272=\"\",\"\",\"-\"&VLOOKUP(R272,EventConditionConfig!A:C,3,FALSE)&IF(S272=\"\",\"\",CHAR(10)&\"-\"&VLOOKUP(S272,EventConditionConfig!A:C,3,FALSE)))","v":""},1,"1001907","5306",5306,"劈了当柴烧。",null,"",null,null,"",{"$nulls":4},{"$f":"IF(A272=\"\",\"\",IF(ISNUMBER(Y272),2,IF(A273=\"\",IF(OR(AK272>0,VLOOKUP(O272,EventConfig!A:C,3,FALSE)=4),3,\"\"),1)))","v":1},1001907,null,5306]
[1001907,5298,"和村民对话","",{"$nulls":5},107,{"$f":"IF(J273=\"\",\"\",VLOOKUP(J273,EventNPC!A:E,5,FALSE))","v":"村名甲"},5307,"这位仙长，你有所不知，这树又大又硬，根本没法劈。",null,10019,7,"",null,null,{"$f":"IF(R273=\"\",\"\",\"-\"&VLOOKUP(R273,EventConditionConfig!A:C,3,FALSE)&IF(S273=\"\",\"\",CHAR(10)&\"-\"&VLOOKUP(S273,EventConditionConfig!A:C,3,FALSE)))","v":""},1,"1001908","5308",5308,"劈了做家具。",null,"",null,null,"",{"$nulls":4},{"$f":"IF(A273=\"\",\"\",IF(ISNUMBER(Y273),2,IF(A274=\"\",IF(OR(AK273>0,VLOOKUP(O273,EventConfig!A:C,3,FALSE)=4),3,\"\"),1)))","v":1},1001908,null,5308]
[1001908,5298,"和村民对话","",{"$nulls":5},108,{"$f":"IF(J274=\"\",\"\",VLOOKUP(J274,EventNPC!A:E,5,FALSE))","v":"村名乙"},5309,"我就是匠人，这树一看就不中用。",null,10019,8,"",null,null,{"$f":"IF(R274=\"\",\"\",\"-\"&VLOOKUP(R274,EventConditionConfig!A:C,3,FALSE)&IF(S274=\"\",\"\",CHAR(10)&\"-\"&VLOOKUP(S274,EventConditionConfig!A:C,3,FALSE)))","v":""},"","","","",null,null,"",null,null,"",{"$nulls":4},{"$f":"IF(A274=\"\",\"\",IF(ISNUMBER(Y274),2,IF(A275=\"\",IF(OR(AK274>0,VLOOKUP(O274,EventConfig!A:C,3,FALSE)=4),3,\"\"),1)))","v":1},1001909,null,5309]
[1001909,5298,"和村民对话","",{"$nulls":5},108,{"$f":"IF(J275=\"\",\"\",VLOOKUP(J275,EventNPC!A:E,5,FALSE))","v":"村名乙"},5310,"锯下来的木头，绳墨拉不直，做不了梁柱，做不了门板，更别说其他家具了。",null,10019,9,{"$f":"_xlfn.TEXTJOIN(\";\",1,R275:S275)","v":""},null,null,{"$f":"IF(R275=\"\",\"\",\"-\"&VLOOKUP(R275,EventConditionConfig!A:C,3,FALSE)&IF(S275=\"\",\"\",CHAR(10)&\"-\"&VLOOKUP(S275,EventConditionConfig!A:C,3,FALSE)))","v":""},"","","","",null,null,"",null,null,"",{"$nulls":4},{"$f":"IF(A275=\"\",\"\",IF(ISNUMBER(Y275),2,IF(A276=\"\",IF(OR(AK275>0,VLOOKUP(O275,EventConfig!A:C,3,FALSE)=4),3,\"\"),1)))","v":1},1001910,null,5310]
[1001910,5298,"和村民对话","",{"$nulls":5},109,{"$f":"IF(J276=\"\",\"\",VLOOKUP(J276,EventNPC!A:E,5,FALSE))","v":"村名丙"},5311,"没错，我是木匠，此树木质发涩发腥，连漆都涂不上，当真无用。",null,10019,10,"",null,null,{"$f":"IF(R276=\"\",\"\",\"-\"&VLOOKUP(R276,EventConditionConfig!A:C,3,FALSE)&IF(S276=\"\",\"\",CHAR(10)&\"-\"&VLOOKUP(S276,EventConditionConfig!A:C,3,FALSE)))","v":""},"","","","",null,null,"",null,null,"",{"$nulls":4},{"$f":"IF(A276=\"\",\"\",IF(ISNUMBER(Y276),2,IF(A277=\"\",IF(OR(AK276>0,VLOOKUP(O276,EventConfig!A:C,3,FALSE)=4),3,\"\"),1)))","v":1},1001911,null,5311]
[1001911,5298,"和村民对话","",{"$nulls":5},100,{"$f":"IF(J277=\"\",\"\",VLOOKUP(J277,EventNPC!A:E,5,FALSE))","v":"玩家"},5312,"此树如此之大，真的毫无用处吗？\n此树看起来有数千年了。",null,10019,11,{"$f":"_xlfn.TEXTJOIN(\";\",1,R277:S277)","v":""},null,null,{"$f":"IF(R277=\"\",\"\",\"-\"&VLOOKUP(R277,EventConditionConfig!A:C,3,FALSE)&IF(S277=\"\",\"\",CHAR(10)&\"-\"&VLOOKUP(S277,EventConditionConfig!A:C,3,FALSE)))","v":""},"","","","",null,null,"",null,null,"",{"$nulls":4},{"$f":"IF(A277=\"\",\"\",IF(ISNUMBER(Y277),2,IF(A278=\"\",IF(OR(AK277>0,VLOOKUP(O277,EventConfig!A:C,3,FALSE)=4),3,\"\"),1)))","v":1},1001912,null,5312]
[1001912,5298,"和村民对话","",{"$nulls":5},100,{"$f":"IF(J278=\"\",\"\",VLOOKUP(J278,EventNPC!A:E,5,FALSE))","v":"玩家"},5313,"（见村民纷纷离开了，你靠近大树）",null,10019,12,{"$f":"_xlfn.TEXTJOIN(\";\",1,R278:S278)","v":""},null,null,{"$f":"IF(R278=\"\",\"\",\"-\"&VLOOKUP(R278,EventConditionConfig!A:C,3,FALSE)&IF(S278=\"\",\"\",CHAR(10)&\"-\"&VLOOKUP(S278,EventConditionConfig!A:C,3,FALSE)))","v":""},"","","","",null,null,"",null,null,"",{"$nulls":4},{"$f":"IF(A278=\"\",\"\",IF(ISNUMBER(Y278),2,IF(A279=\"\",IF(OR(AK278>0,VLOOKUP(O278,EventConfig!A:C,3,FALSE)=4),3,\"\"),1)))","v":1},1001913,null,5313]
[1001913,5298,"和村民对话","",{"$nulls":5},110,{"$f":"IF(J279=\"\",\"\",VLOOKUP(J279,EventNPC!A:E,5,FALSE))","v":"樗木之灵"},5314,"（低沉悠远的声音）我是樗。\n世人见我歪斜，粗大，笑我无用……",null,10019,13,{"$f":"_xlfn.TEXTJOIN(\";\",1,R279:S279)","v":""},null,null,{"$f":"IF(R279=\"\",\"\",\"-\"&VLOOKUP(R279,EventConditionConfig!A:C,3,FALSE)&IF(S279=\"\",\"\",CHAR(10)&\"-\"&VLOOKUP(S279,EventConditionConfig!A:C,3,FALSE)))","v":""},"","","","",null,null,"",null,null,"",{"$nulls":4},{"$f":"IF(A279=\"\",\"\",IF(ISNUMBER(Y279),2,IF(A280=\"\",IF(OR(AK279>0,VLOOKUP(O279,EventConfig!A:C,3,FALSE)=4),3,\"\"),1)))","v":1},1001914,null,5314]
[1001914,5298,"和村民对话","",{"$nulls":5},110,{"$f":"IF(J280=\"\",\"\",VLOOKUP(J280,EventNPC!A:E,5,FALSE))","v":"樗木之灵"},5315,"可他们不知，正是这‘无用’，让我活过三千年。",null,10019,14,{"$f":"_xlfn.TEXTJOIN(\";\",1,R280:S280)","v":""},null,null,{"$f":"IF(R280=\"\",\"\",\"-\"&VLOOKUP(R280,EventConditionConfig!A:C,3,FALSE)&IF(S280=\"\",\"\",CHAR(10)&\"-\"&VLOOKUP(S280,EventConditionConfig!A:C,3,FALSE)))","v":""},1,"1001915","5316",5316,"那你可曾遗憾？毕竟无人欣赏你。",null,"",null,null,"",{"$nulls":4},{"$f":"IF(A280=\"\",\"\",IF(ISNUMBER(Y280),2,IF(A281=\"\",IF(OR(AK280>0,VLOOKUP(O280,EventConfig!A:C,3,FALSE)=4),3,\"\"),1)))","v":1},1001915,null,5316]
[1001915,5298,"和村民对话","",{"$nulls":5},110,{"$f":"IF(J281=\"\",\"\",VLOOKUP(J281,EventNPC!A:E,5,FALSE))","v":"樗木之灵"},5317,"（枝叶轻摇）欣赏？那些笔直的楠木，被伐去做梁柱，不过百年；",null,10019,15,"",null,null,{"$f":"IF(R281=\"\",\"\",\"-\"&VLOOKUP(R281,EventConditionConfig!A:C,3,FALSE)&IF(S281=\"\",\"\",CHAR(10)&\"-\"&VLOOKUP(S281,EventConditionConfig!A:C,3,FALSE)))","v":""},"","","","",null,null,"",null,null,"",{"$nulls":4},{"$f":"IF(A281=\"\",\"\",IF(ISNUMBER(Y281),2,IF(A282=\"\",IF(OR(AK281>0,VLOOKUP(O281,EventConfig!A:C,3,FALSE)=4),3,\"\"),1)))","v":1},1001916,null,5317]
[1001916,5298,"和村民对话","",{"$nulls":5},110,{"$f":"IF(J282=\"\",\"\",VLOOKUP(J282,EventNPC!A:E,5,FALSE))","v":"樗木之灵"},5318,"那些秀美的花树，被移栽进庭院，也不过百年。",null,10019,16,{"$f":"_xlfn.TEXTJOIN(\";\",1,R282:S282)","v":""},null,null,{"$f":"IF(R282=\"\",\"\",\"-\"&VLOOKUP(R282,EventConditionConfig!A:C,3,FALSE)&IF(S282=\"\",\"\",CHAR(10)&\"-\"&VLOOKUP(S282,EventConditionConfig!A:C,3,FALSE)))","v":""},"","","","",null,null,"",null,null,"",{"$nulls":4},{"$f":"IF(A282=\"\",\"\",IF(ISNUMBER(Y282),2,IF(A283=\"\",IF(OR(AK282>0,VLOOKUP(O282,EventConfig!A:C,3,FALSE)=4),3,\"\"),1)))","v":1},1001917,null,5318]
[1001917,5298,"和村民对话","",{"$nulls":5},110,{"$f":"IF(J283=\"\",\"\",VLOOKUP(J283,EventNPC!A:E,5,FALSE))","v":"樗木之灵"},5319,"而我，仍在此处，看春去秋来，听风过林梢，不亦乐乎？",null,10019,17,{"$f":"_xlfn.TEXTJOIN(\";\",1,R283:S283)","v":""},null,null,{"$f":"IF(R283=\"\",\"\",\"-\"&VLOOKUP(R283,EventConditionConfig!A:C,3,FALSE)&IF(S283=\"\",\"\",CHAR(10)&\"-\"&VLOOKUP(S283,EventConditionConfig!A:C,3,FALSE)))","v":""},1,"1001918","5320",5320,"可你终究只是一棵树，不能动，不能说话",null,"",null,null,"",{"$nulls":4},{"$f":"IF(A283=\"\",\"\",IF(ISNUMBER(Y283),2,IF(A284=\"\",IF(OR(AK283>0,VLOOKUP(O283,EventConfig!A:C,3,FALSE)=4),3,\"\"),1)))","v":1},1001918,null,5320]
[1001918,5298,"和村民对话","",{"$nulls":5},110,{"$f":"IF(J284=\"\",\"\",VLOOKUP(J284,EventNPC!A:E,5,FALSE))","v":"樗木之灵"},5321,"（树皮浮现苍老面容）动？说话？\n数千年过去，我早已有灵智，可以说话。",null,10019,{"$f":"IF(O284=\"\",\"\",IF(O284=O283,P283+1,1))","v":18},"",null,null,{"$f":"IF(R284=\"\",\"\",\"-\"&VLOOKUP(R284,EventConditionConfig!A:C,3,FALSE)&IF(S284=\"\",\"\",CHAR(10)&\"-\"&VLOOKUP(S284,EventConditionConfig!A:C,3,FALSE)))","v":""},"","","","",null,null,"",null,null,"",{"$nulls":4},{"$f":"IF(A284=\"\",\"\",IF(ISNUMBER(Y284),2,IF(A285=\"\",IF(OR(AK284>0,VLOOKUP(O284,EventConfig!A:C,3,FALSE)=4),3,\"\"),1)))","v":1},1001919,null,5321]
[1001919,5298,"和村民对话","",{"$nulls":5},110,{"$f":"IF(J285=\"\",\"\",VLOOKUP(J285,EventNPC!A:E,5,FALSE))","v":"樗木之灵"},5322,"不过我确实好久没动过了，小友，今日与你有缘，不如陪我动一动。",null,10019,19,{"$f":"_xlfn.TEXTJOIN(\";\",1,R285:S285)","v":""},null,null,{"$f":"IF(R285=\"\",\"\",\"-\"&VLOOKUP(R285,EventConditionConfig!A:C,3,FALSE)&IF(S285=\"\",\"\",CHAR(10)&\"-\"&VLOOKUP(S285,EventConditionConfig!A:C,3,FALSE)))","v":""},1,"1001920","5323",5323,"不好...这是要找我打架..",null,"",null,null,"",{"$nulls":4},{"$f":"IF(A285=\"\",\"\",IF(ISNUMBER(Y285),2,IF(A286=\"\",IF(OR(AK285>0,VLOOKUP(O285,EventConfig!A:C,3,FALSE)=4),3,\"\"),1)))","v":1},1001920,null,5323]
[1001920,5298,"和村民对话","",{"$nulls":6},{"$f":"IF(J286=\"\",\"\",VLOOKUP(J286,EventNPC!A:E,5,FALSE))","v":""},"",null,null,10019,20,"",null,null,{"$f":"IF(R286=\"\",\"\",\"-\"&VLOOKUP(R286,EventConditionConfig!A:C,3,FALSE)&IF(S286=\"\",\"\",CHAR(10)&\"-\"&VLOOKUP(S286,EventConditionConfig!A:C,3,FALSE)))","v":""},"","","","",null,null,"",null,null,"",{"$nulls":4},{"$f":"IF(A286=\"\",\"\",IF(ISNUMBER(Y286),2,IF(A287=\"\",IF(OR(AK286>0,VLOOKUP(O286,EventConfig!A:C,3,FALSE)=4),3,\"\"),1)))","v":3},10020,null,5323]
[null,"",null,"",{"$nulls":7},"",null,null,null,"",{"$nulls":5},"","","",null,null,"",null,null,"",{"$nulls":4},{"$f":"IF(A287=\"\",\"\",IF(ISNUMBER(Y287),2,IF(A288=\"\",IF(OR(AK287>0,VLOOKUP(O287,EventConfig!A:C,3,FALSE)=4),3,\"\"),1)))","v":""},"",null,""]
[{"$f":"O288*100+P288","v":1002001},5324,"击败樗木之灵",5325,"击败樗木之灵",{"$nulls":5},{"$f":"IF(J288=\"\",\"\",VLOOKUP(J288,EventNPC!A:E,5,FALSE))","v":""},"",null,null,{"$f":"IF(O287=\"\",O286+1,O287)","v":10020},1,{"$f":"_xlfn.TEXTJOIN(\";\",1,R288:S288)","v":""},null,null,{"$f":"IF(R288=\"\",\"\",\"-\"&VLOOKUP(R288,EventConditionConfig!A:C,3,FALSE)&IF(S288=\"\",\"\",CHAR(10)&\"-\"&VLOOKUP(S288,EventConditionConfig!A:C,3,FALSE)))","v":""},{"$f":"IF(Y288=\"\",\"\",IF(ISTEXT(Y288),1,2))","v":2},1016,"","",1016,null,"",null,null,"",{"$nulls":4},{"$f":"IF(A288=\"\",\"\",IF(ISNUMBER(Y288),2,IF(A289=\"\",IF(OR(AK288>0,VLOOKUP(O288,EventConfig!A:C,3,FALSE)=4),3,\"\"),1)))","v":2},"1002002;101",null,5325]
[{"$f":"O289*100+P289","v":1002002},5324,"击败樗木之灵",5325,"击败樗木之灵",{"$nulls":5},{"$f":"IF(J289=\"\",\"\",VLOOKUP(J289,EventNPC!A:E,5,FALSE))","v":""},"",null,null,{"$f":"IF(O288=\"\",O287+1,O288)","v":10020},2,"",null,null,{"$f":"IF(R289=\"\",\"\",\"-\"&VLOOKUP(R289,EventConditionConfig!A:C,3,FALSE)&IF(S289=\"\",\"\",CHAR(10)&\"-\"&VLOOKUP(S289,EventConditionConfig!A:C,3,FALSE)))","v":""},{"$f":"IF(Y289=\"\",\"\",1)","v":""},"","","",null,null,"",null,null,"",{"$nulls":4},{"$f":"IF(A289=\"\",\"\",IF(ISNUMBER(Y289),2,IF(A290=\"\",IF(OR(AK289>0,VLOOKUP(O289,EventConfig!A:C,3,FALSE)=4),3,\"\"),1)))","v":3},10021,null,5325]
[null,"",null,"",{"$nulls":7},"",null,null,null,"",{"$nulls":5},"","","",null,null,"",null,null,"",{"$nulls":4},{"$f":"IF(A290=\"\",\"\",IF(ISNUMBER(Y290),2,IF(A291=\"\",IF(OR(AK290>0,VLOOKUP(O290,EventConfig!A:C,3,FALSE)=4),3,\"\"),1)))","v":""},"",null,""]
[{"$f":"O291*100+P291","v":1002101},5326,"境界达到[金丹-前期]","",{"$nulls":5},100,{"$f":"IF(J291=\"\",\"\",VLOOKUP(J291,EventNPC!A:E,5,FALSE))","v":"玩家"},5327,"此处奇遇众多，灵气充裕，就留在此处修行，达到筑基巅峰吧。",null,{"$f":"IF(O290=\"\",O289+1,O290)","v":10021},1,{"$f":"_xlfn.TEXTJOIN(\";\",1,R291:S291)","v":""},null,null,{"$f":"IF(R291=\"\",\"\",\"-\"&VLOOKUP(R291,EventConditionConfig!A:C,3,FALSE)&IF(S291=\"\",\"\",CHAR(10)&\"-\"&VLOOKUP(S291,EventConditionConfig!A:C,3,FALSE)))","v":""},{"$f":"IF(Y291=\"\",\"\",1)","v":""},"","","",null,null,"",null,null,"",{"$nulls":4},{"$f":"IF(A291=\"\",\"\",IF(ISNUMBER(Y291),2,IF(A292=\"\",IF(OR(AK291>0,VLOOKUP(O291,EventConfig!A:C,3,FALSE)=4),3,\"\"),1)))","v":1},1002102,null,5327]
[{"$f":"O292*100+P292","v":1002102},5326,"境界达到[金丹-前期]","",{"$nulls":5},100,{"$f":"IF(J292=\"\",\"\",VLOOKUP(J292,EventNPC!A:E,5,FALSE))","v":"玩家"},5328,"此地果真是好地方，修为又有精进。",null,{"$f":"IF(O291=\"\",O290+1,O291)","v":10021},2,{"$f":"_xlfn.TEXTJOIN(\";\",1,R292:S292)","v":"24"},24,null,{"$f":"IF(R292=\"\",\"\",\"-\"&VLOOKUP(R292,EventConditionConfig!A:C,3,FALSE)&IF(S292=\"\",\"\",CHAR(10)&\"-\"&VLOOKUP(S292,EventConditionConfig!A:C,3,FALSE)))","v":"-达到境界：结丹-中期"},{"$f":"IF(Y292=\"\",\"\",1)","v":""},"","","",null,null,"",null,null,"",{"$nulls":4},{"$f":"IF(A292=\"\",\"\",IF(ISNUMBER(Y292),2,IF(A293=\"\",IF(OR(AK292>0,VLOOKUP(O292,EventConfig!A:C,3,FALSE)=4),3,\"\"),1)))","v":1},1002103,null,5328]
[{"$f":"O293*100+P293","v":1002103},5326,"境界达到[金丹-前期]","",{"$nulls":5},100,{"$f":"IF(J293=\"\",\"\",VLOOKUP(J293,EventNPC!A:E,5,FALSE))","v":"玩家"},5329,"不过想要达到更高的境界，突破冲虚说的什么心境，还需继续修行。",null,{"$f":"IF(O292=\"\",O291+1,O292)","v":10021},3,"",null,null,{"$f":"IF(R293=\"\",\"\",\"-\"&VLOOKUP(R293,EventConditionConfig!A:C,3,FALSE)&IF(S293=\"\",\"\",CHAR(10)&\"-\"&VLOOKUP(S293,EventConditionConfig!A:C,3,FALSE)))","v":""},{"$f":"IF(Y293=\"\",\"\",1)","v":""},"","","",null,null,"",null,null,"",{"$nulls":4},{"$f":"IF(A293=\"\",\"\",IF(ISNUMBER(Y293),2,IF(A294=\"\",IF(OR(AK293>0,VLOOKUP(O293,EventConfig!A:C,3,FALSE)=4),3,\"\"),1)))","v":1},1002104,null,5329]
[{"$f":"O294*100+P294","v":1002104},5326,"境界达到[金丹-前期]","",{"$nulls":5},100,{"$f":"IF(J294=\"\",\"\",VLOOKUP(J294,EventNPC!A:E,5,FALSE))","v":"玩家"},5330,"是时候离开了，去问问尧帝有何建议。",null,{"$f":"IF(O293=\"\",O292+1,O293)","v":10021},4,{"$f":"_xlfn.TEXTJOIN(\";\",1,R294:S294)","v":""},null,null,{"$f":"IF(R294=\"\",\"\",\"-\"&VLOOKUP(R294,EventConditionConfig!A:C,3,FALSE)&IF(S294=\"\",\"\",CHAR(10)&\"-\"&VLOOKUP(S294,EventConditionConfig!A:C,3,FALSE)))","v":""},{"$f":"IF(Y294=\"\",\"\",1)","v":""},"","","",null,null,"",null,null,"",{"$nulls":4},{"$f":"IF(A294=\"\",\"\",IF(ISNUMBER(Y294),2,IF(A295=\"\",IF(OR(AK294>0,VLOOKUP(O294,EventConfig!A:C,3,FALSE)=4),3,\"\"),1)))","v":3},10022,null,5330]
[null,"",null,"",{"$nulls":7},"",null,null,null,"",{"$nulls":5},"","","",null,null,"",null,null,"",{"$nulls":4},{"$f":"IF(A295=\"\",\"\",IF(ISNUMBER(Y295),2,IF(A296=\"\",IF(OR(AK295>0,VLOOKUP(O295,EventConfig!A:C,3,FALSE)=4),3,\"\"),1)))","v":""},"",null,""]
[{"$f":"O296*100+P296","v":1002201},5331,"仙山传说","",{"$nulls":5},105,{"$f":"IF(J296=\"\",\"\",VLOOKUP(J296,EventNPC!A:E,5,FALSE))","v":"尧帝"},5332,"（高兴）小友，你来了。",null,{"$f":"IF(O295=\"\",O294+1,O295)","v":10022},1,{"$f":"_xlfn.TEXTJOIN(\";\",1,R296:S296)","v":""},null,null,{"$f":"IF(R296=\"\",\"\",\"-\"&VLOOKUP(R296,EventConditionConfig!A:C,3,FALSE)&IF(S296=\"\",\"\",CHAR(10)&\"-\"&VLOOKUP(S296,EventConditionConfig!A:C,3,FALSE)))","v":""},{"$f":"IF(Y296=\"\",\"\",1)","v":""},"","","",null,null,"",null,null,"",{"$nulls":4},{"$f":"IF(A296=\"\",\"\",IF(ISNUMBER(Y296),2,IF(A297=\"\",IF(OR(AK296>0,VLOOKUP(O296,EventConfig!A:C,3,FALSE)=4),3,\"\"),1)))","v":1},1002202,null,5332]
[1002202,5331,"仙山传说","",{"$nulls":5},105,{"$f":"IF(J297=\"\",\"\",VLOOKUP(J297,EventNPC!A:E,5,FALSE))","v":"尧帝"},5333,"数月不见，你已入筑基巅峰，距离结丹，也是指日可待！",null,10022,2,{"$f":"_xlfn.TEXTJOIN(\";\",1,R297:S297)","v":""},null,null,{"$f":"IF(R297=\"\",\"\",\"-\"&VLOOKUP(R297,EventConditionConfig!A:C,3,FALSE)&IF(S297=\"\",\"\",CHAR(10)&\"-\"&VLOOKUP(S297,EventConditionConfig!A:C,3,FALSE)))","v":""},"","","","",null,null,"",null,null,"",{"$nulls":4},{"$f":"IF(A297=\"\",\"\",IF(ISNUMBER(Y297),2,IF(A298=\"\",IF(OR(AK297>0,VLOOKUP(O297,EventConfig!A:C,3,FALSE)=4),3,\"\"),1)))","v":1},1002203,null,5333]
[1002203,5331,"仙山传说","",{"$nulls":5},100,{"$f":"IF(J298=\"\",\"\",VLOOKUP(J298,EventNPC!A:E,5,FALSE))","v":"玩家"},5334,"多谢尧帝，我是来辞行的，也想打听一下，关于“七道心境”的更多线索",null,10022,3,{"$f":"_xlfn.TEXTJOIN(\";\",1,R298:S298)","v":""},null,null,{"$f":"IF(R298=\"\",\"\",\"-\"&VLOOKUP(R298,EventConditionConfig!A:C,3,FALSE)&IF(S298=\"\",\"\",CHAR(10)&\"-\"&VLOOKUP(S298,EventConditionConfig!A:C,3,FALSE)))","v":""},"","","","",null,null,"",null,null,"",{"$nulls":4},{"$f":"IF(A298=\"\",\"\",IF(ISNUMBER(Y298),2,IF(A299=\"\",IF(OR(AK298>0,VLOOKUP(O298,EventConfig!A:C,3,FALSE)=4),3,\"\"),1)))","v":1},1002204,null,5334]
[1002204,5331,"仙山传说","",{"$nulls":5},105,{"$f":"IF(J299=\"\",\"\",VLOOKUP(J299,EventNPC!A:E,5,FALSE))","v":"尧帝"},5335,"小友，你可曾听过‘藐姑射山’",null,10022,4,{"$f":"_xlfn.TEXTJOIN(\";\",1,R299:S299)","v":""},null,null,{"$f":"IF(R299=\"\",\"\",\"-\"&VLOOKUP(R299,EventConditionConfig!A:C,3,FALSE)&IF(S299=\"\",\"\",CHAR(10)&\"-\"&VLOOKUP(S299,EventConditionConfig!A:C,3,FALSE)))","v":""},1,"1002205;1002209","5336;5337",5336,"未曾听闻，请前辈指点。",{"$f":"A300","v":1002205},5337,"莫非是传说中的仙人居所？",{"$f":"A304","v":1002209},"",null,{"$f":"D304","v":""},null,null,{"$f":"IF(A299=\"\",\"\",IF(ISNUMBER(Y299),2,IF(A300=\"\",IF(OR(AK299>0,VLOOKUP(O299,EventConfig!A:C,3,FALSE)=4),3,\"\"),1)))","v":1},1002205,null,5337]
[1002205,5331,"仙山传说","",{"$nulls":5},105,{"$f":"IF(J300=\"\",\"\",VLOOKUP(J300,EventNPC!A:E,5,FALSE))","v":"尧帝"},5338,"此山在尧都之北，云雾缭绕，凡人难见。当年我巡狩天下，偶遇山中神人……\n（尧帝眼神恍惚，似陷入回忆）",null,10022,5,"",null,null,{"$f":"IF(R300=\"\",\"\",\"-\"&VLOOKUP(R300,EventConditionConfig!A:C,3,FALSE)&IF(S300=\"\",\"\",CHAR(10)&\"-\"&VLOOKUP(S300,EventConditionConfig!A:C,3,FALSE)))","v":""},"","","","",null,null,"",null,null,"",{"$nulls":4},{"$f":"IF(A300=\"\",\"\",IF(ISNUMBER(Y300),2,IF(A301=\"\",IF(OR(AK300>0,VLOOKUP(O300,EventConfig!A:C,3,FALSE)=4),3,\"\"),1)))","v":1},1002206,null,5338]
[1002206,5331,"仙山传说","",{"$nulls":5},105,{"$f":"IF(J301=\"\",\"\",VLOOKUP(J301,EventNPC!A:E,5,FALSE))","v":"尧帝"},5339,"不错。山中神人，她皮肤润白像冰雪，体态柔美如年轻的女子，不食五谷，吸清风饮甘露，乘云气驾飞龙，遨游于四海之外。",null,10022,6,{"$f":"_xlfn.TEXTJOIN(\";\",1,R301:S301)","v":""},null,null,{"$f":"IF(R301=\"\",\"\",\"-\"&VLOOKUP(R301,EventConditionConfig!A:C,3,FALSE)&IF(S301=\"\",\"\",CHAR(10)&\"-\"&VLOOKUP(S301,EventConditionConfig!A:C,3,FALSE)))","v":""},"","","","",null,null,"",null,null,"",{"$nulls":4},{"$f":"IF(A301=\"\",\"\",IF(ISNUMBER(Y301),2,IF(A302=\"\",IF(OR(AK301>0,VLOOKUP(O301,EventConfig!A:C,3,FALSE)=4),3,\"\"),1)))","v":1},1002207,null,5339]
[1002207,5331,"仙山传说","",{"$nulls":5},105,{"$f":"IF(J302=\"\",\"\",VLOOKUP(J302,EventNPC!A:E,5,FALSE))","v":"尧帝"},5340,"当年见到神人时，我已是一都之君。可在她面前，自觉渺小如尘沙，治理的天下如同儿戏一般。",null,10022,7,{"$f":"_xlfn.TEXTJOIN(\";\",1,R302:S302)","v":""},null,null,{"$f":"IF(R302=\"\",\"\",\"-\"&VLOOKUP(R302,EventConditionConfig!A:C,3,FALSE)&IF(S302=\"\",\"\",CHAR(10)&\"-\"&VLOOKUP(S302,EventConditionConfig!A:C,3,FALSE)))","v":""},"","","","",null,null,"",null,null,"",{"$nulls":4},{"$f":"IF(A302=\"\",\"\",IF(ISNUMBER(Y302),2,IF(A303=\"\",IF(OR(AK302>0,VLOOKUP(O302,EventConfig!A:C,3,FALSE)=4),3,\"\"),1)))","v":1},1002208,null,5340]
[1002208,5331,"仙山传说","",{"$nulls":5},105,{"$f":"IF(J303=\"\",\"\",VLOOKUP(J303,EventNPC!A:E,5,FALSE))","v":"尧帝"},5341,"甚至连开口说话，都没有勇气…",null,10022,8,{"$f":"_xlfn.TEXTJOIN(\";\",1,R303:S303)","v":""},null,null,{"$f":"IF(R303=\"\",\"\",\"-\"&VLOOKUP(R303,EventConditionConfig!A:C,3,FALSE)&IF(S303=\"\",\"\",CHAR(10)&\"-\"&VLOOKUP(S303,EventConditionConfig!A:C,3,FALSE)))","v":""},"","","","",null,null,"",null,null,"",{"$nulls":4},{"$f":"IF(A303=\"\",\"\",IF(ISNUMBER(Y303),2,IF(A304=\"\",IF(OR(AK303>0,VLOOKUP(O303,EventConfig!A:C,3,FALSE)=4),3,\"\"),1)))","v":1},1002209,null,5341]
[1002209,5331,"仙山传说","",{"$nulls":5},100,{"$f":"IF(J304=\"\",\"\",VLOOKUP(J304,EventNPC!A:E,5,FALSE))","v":"玩家"},5342,"......",null,10022,9,{"$f":"_xlfn.TEXTJOIN(\";\",1,R304:S304)","v":""},null,null,{"$f":"IF(R304=\"\",\"\",\"-\"&VLOOKUP(R304,EventConditionConfig!A:C,3,FALSE)&IF(S304=\"\",\"\",CHAR(10)&\"-\"&VLOOKUP(S304,EventConditionConfig!A:C,3,FALSE)))","v":""},1,"1002210","5343",5343,"连尧帝都如此敬畏，那神人究竟何等境界？",null,"",null,null,"",{"$nulls":4},{"$f":"IF(A304=\"\",\"\",IF(ISNUMBER(Y304),2,IF(A305=\"\",IF(OR(AK304>0,VLOOKUP(O304,EventConfig!A:C,3,FALSE)=4),3,\"\"),1)))","v":1},1002210,null,5343]
[1002210,5331,"仙山传说","",{"$nulls":5},105,{"$f":"IF(J305=\"\",\"\",VLOOKUP(J305,EventNPC!A:E,5,FALSE))","v":"尧帝"},5344,"我也不知..你可前去寻觅，如有缘遇见，定能提升修为，突破心境。",null,10022,10,"",null,null,{"$f":"IF(R305=\"\",\"\",\"-\"&VLOOKUP(R305,EventConditionConfig!A:C,3,FALSE)&IF(S305=\"\",\"\",CHAR(10)&\"-\"&VLOOKUP(S305,EventConditionConfig!A:C,3,FALSE)))","v":""},"","","","",null,null,"",null,null,"",{"$nulls":4},{"$f":"IF(A305=\"\",\"\",IF(ISNUMBER(Y305),2,IF(A306=\"\",IF(OR(AK305>0,VLOOKUP(O305,EventConfig!A:C,3,FALSE)=4),3,\"\"),1)))","v":1},1002211,null,5344]
[1002211,5331,"仙山传说","",{"$nulls":5},105,{"$f":"IF(J306=\"\",\"\",VLOOKUP(J306,EventNPC!A:E,5,FALSE))","v":"尧帝"},5345,"你手中的逍遥铃，绝非凡物，跟着它的指引，应该能找到藐姑射山。",null,10022,11,{"$f":"_xlfn.TEXTJOIN(\";\",1,R306:S306)","v":""},null,null,{"$f":"IF(R306=\"\",\"\",\"-\"&VLOOKUP(R306,EventConditionConfig!A:C,3,FALSE)&IF(S306=\"\",\"\",CHAR(10)&\"-\"&VLOOKUP(S306,EventConditionConfig!A:C,3,FALSE)))","v":""},1,"1002212","5346",5346,"多谢前辈。",null,"",null,null,"",{"$nulls":4},{"$f":"IF(A306=\"\",\"\",IF(ISNUMBER(Y306),2,IF(A307=\"\",IF(OR(AK306>0,VLOOKUP(O306,EventConfig!A:C,3,FALSE)=4),3,\"\"),1)))","v":1},1002212,null,5346]
[1002212,5331,"仙山传说","",{"$nulls":6},{"$f":"IF(J307=\"\",\"\",VLOOKUP(J307,EventNPC!A:E,5,FALSE))","v":""},"",null,null,10022,12,{"$f":"_xlfn.TEXTJOIN(\";\",1,R307:S307)","v":"25"},25,null,{"$f":"IF(R307=\"\",\"\",\"-\"&VLOOKUP(R307,EventConditionConfig!A:C,3,FALSE)&IF(S307=\"\",\"\",CHAR(10)&\"-\"&VLOOKUP(S307,EventConditionConfig!A:C,3,FALSE)))","v":"-达到境界：结丹-后期"},"","","","",null,null,"",null,null,"",{"$nulls":4},{"$f":"IF(A307=\"\",\"\",IF(ISNUMBER(Y307),2,IF(A308=\"\",IF(OR(AK307>0,VLOOKUP(O307,EventConfig!A:C,3,FALSE)=4),3,\"\"),1)))","v":3},10023,null,5346]
[null,"",null,"",{"$nulls":7},"",null,null,null,"",{"$nulls":5},"","","",null,null,"",null,null,"",{"$nulls":4},{"$f":"IF(A308=\"\",\"\",IF(ISNUMBER(Y308),2,IF(A309=\"\",IF(OR(AK308>0,VLOOKUP(O308,EventConfig!A:C,3,FALSE)=4),3,\"\"),1)))","v":""},"",null,""]
[{"$f":"O309*100+P309","v":1002301},5347,"入山幻阵","",{"$nulls":6},{"$f":"IF(J309=\"\",\"\",VLOOKUP(J309,EventNPC!A:E,5,FALSE))","v":""},5348,"仙山被五行阵笼罩，需要击败阵眼方可破除（细节待设计）",null,{"$f":"IF(O308=\"\",O307+1,O308)","v":10023},1,{"$f":"_xlfn.TEXTJOIN(\";\",1,R309:S309)","v":""},null,null,{"$f":"IF(R309=\"\",\"\",\"-\"&VLOOKUP(R309,EventConditionConfig!A:C,3,FALSE)&IF(S309=\"\",\"\",CHAR(10)&\"-\"&VLOOKUP(S309,EventConditionConfig!A:C,3,FALSE)))","v":""},{"$f":"IF(Y309=\"\",\"\",1)","v":""},"","","",null,null,"",null,null,"",{"$nulls":4},{"$f":"IF(A309=\"\",\"\",IF(ISNUMBER(Y309),2,IF(A310=\"\",IF(OR(AK309>0,VLOOKUP(O309,EventConfig!A:C,3,FALSE)=4),3,\"\"),1)))","v":1},1002302,null,5348]
[{"$f":"O310*100+P310","v":1002302},5347,"入山幻阵","",{"$nulls":6},{"$f":"IF(J310=\"\",\"\",VLOOKUP(J310,EventNPC!A:E,5,FALSE))","v":""},5349,"阵眼妖兽被击败，仙山现在可以进入了（细节待设计）",null,{"$f":"IF(O309=\"\",O308+1,O309)","v":10023},2,{"$f":"_xlfn.TEXTJOIN(\";\",1,R310:S310)","v":"15"},15,null,{"$f":"IF(R310=\"\",\"\",\"-\"&VLOOKUP(R310,EventConditionConfig!A:C,3,FALSE)&IF(S310=\"\",\"\",CHAR(10)&\"-\"&VLOOKUP(S310,EventConditionConfig!A:C,3,FALSE)))","v":"-击败仙山的阵眼妖兽"},{"$f":"IF(Y310=\"\",\"\",1)","v":""},"","","",null,null,"",null,null,"",{"$nulls":4},{"$f":"IF(A310=\"\",\"\",IF(ISNUMBER(Y310),2,IF(A311=\"\",IF(OR(AK310>0,VLOOKUP(O310,EventConfig!A:C,3,FALSE)=4),3,\"\"),1)))","v":1},1002303,null,5349]
[{"$f":"O311*100+P311","v":1002303},5347,"入山幻阵","",{"$nulls":6},{"$f":"IF(J311=\"\",\"\",VLOOKUP(J311,EventNPC!A:E,5,FALSE))","v":""},"",null,null,{"$f":"IF(O310=\"\",O309+1,O310)","v":10023},3,"",null,null,{"$f":"IF(R311=\"\",\"\",\"-\"&VLOOKUP(R311,EventConditionConfig!A:C,3,FALSE)&IF(S311=\"\",\"\",CHAR(10)&\"-\"&VLOOKUP(S311,EventConditionConfig!A:C,3,FALSE)))","v":""},{"$f":"IF(Y311=\"\",\"\",1)","v":""},"","","",null,null,"",null,null,"",{"$nulls":4},{"$f":"IF(A311=\"\",\"\",IF(ISNUMBER(Y311),2,IF(A312=\"\",IF(OR(AK311>0,VLOOKUP(O311,EventConfig!A:C,3,FALSE)=4),3,\"\"),1)))","v":3},10024,null,5349]
[null,"",null,"",{"$nulls":7},"",null,null,null,"",{"$nulls":5},"","","",null,null,"",null,null,"",{"$nulls":4},{"$f":"IF(A312=\"\",\"\",IF(ISNUMBER(Y312),2,IF(A313=\"\",IF(OR(AK312>0,VLOOKUP(O312,EventConfig!A:C,3,FALSE)=4),3,\"\"),1)))","v":""},"",null,""]
[{"$f":"O313*100+P313","v":1002401},5350,"听惠子吹嘘种子来历，并答应帮他种葫芦","",{"$nulls":5},111,{"$f":"IF(J313=\"\",\"\",VLOOKUP(J313,EventNPC!A:E,5,FALSE))","v":"惠子"},5351,"（惠子手持一颗七彩流光的种子，满脸得意）\n“小友！来得正好！瞧我这宝贝——”",null,{"$f":"IF(O312=\"\",O311+1,O312)","v":10024},1,{"$f":"_xlfn.TEXTJOIN(\";\",1,R313:S313)","v":""},null,null,{"$f":"IF(R313=\"\",\"\",\"-\"&VLOOKUP(R313,EventConditionConfig!A:C,3,FALSE)&IF(S313=\"\",\"\",CHAR(10)&\"-\"&VLOOKUP(S313,EventConditionConfig!A:C,3,FALSE)))","v":""},{"$f":"IF(Y313=\"\",\"\",1)","v":""},"","","",null,null,"",null,null,"",{"$nulls":4},{"$f":"IF(A313=\"\",\"\",IF(ISNUMBER(Y313),2,IF(A314=\"\",IF(OR(AK313>0,VLOOKUP(O313,EventConfig!A:C,3,FALSE)=4),3,\"\"),1)))","v":1},1002402,null,5351]
[1002402,5350,"听惠子吹嘘种子来历，并答应帮他种葫芦","",{"$nulls":5},111,{"$f":"IF(J314=\"\",\"\",VLOOKUP(J314,EventNPC!A:E,5,FALSE))","v":"惠子"},5352,"（惠子举起一颗种子，阳光照射下熠熠生辉）\n“此乃‘五石葫芦’之种！虽然我也不知道能种出来什么，但绝非凡品，一定大有用处！”",null,10024,2,{"$f":"_xlfn.TEXTJOIN(\";\",1,R314:S314)","v":""},null,null,{"$f":"IF(R314=\"\",\"\",\"-\"&VLOOKUP(R314,EventConditionConfig!A:C,3,FALSE)&IF(S314=\"\",\"\",CHAR(10)&\"-\"&VLOOKUP(S314,EventConditionConfig!A:C,3,FALSE)))","v":""},1,"1002403","5353",5353,"这么厉害？哪来的？",null,"",null,null,"",{"$nulls":4},{"$f":"IF(A314=\"\",\"\",IF(ISNUMBER(Y314),2,IF(A315=\"\",IF(OR(AK314>0,VLOOKUP(O314,EventConfig!A:C,3,FALSE)=4),3,\"\"),1)))","v":1},1002403,null,5353]
[1002403,5350,"听惠子吹嘘种子来历，并答应帮他种葫芦","",{"$nulls":5},111,{"$f":"IF(J315=\"\",\"\",VLOOKUP(J315,EventNPC!A:E,5,FALSE))","v":"惠子"},5354,"这是我的好朋友庄子送我的，给的时候，还神神秘秘的，说种出来的东西很好玩。",null,10024,3,{"$f":"_xlfn.TEXTJOIN(\";\",1,R315:S315)","v":""},null,null,{"$f":"IF(R315=\"\",\"\",\"-\"&VLOOKUP(R315,EventConditionConfig!A:C,3,FALSE)&IF(S315=\"\",\"\",CHAR(10)&\"-\"&VLOOKUP(S315,EventConditionConfig!A:C,3,FALSE)))","v":""},"","","","",null,null,"",null,null,"",{"$nulls":4},{"$f":"IF(A315=\"\",\"\",IF(ISNUMBER(Y315),2,IF(A316=\"\",IF(OR(AK315>0,VLOOKUP(O315,EventConfig!A:C,3,FALSE)=4),3,\"\"),1)))","v":1},1002404,null,5354]
[1002404,5350,"听惠子吹嘘种子来历，并答应帮他种葫芦","",{"$nulls":5},100,{"$f":"IF(J316=\"\",\"\",VLOOKUP(J316,EventNPC!A:E,5,FALSE))","v":"玩家"},5355,"原来如此。\n我游历到这里，是想拜访山中神仙，请道友指路。",null,10024,4,{"$f":"_xlfn.TEXTJOIN(\";\",1,R316:S316)","v":""},null,null,{"$f":"IF(R316=\"\",\"\",\"-\"&VLOOKUP(R316,EventConditionConfig!A:C,3,FALSE)&IF(S316=\"\",\"\",CHAR(10)&\"-\"&VLOOKUP(S316,EventConditionConfig!A:C,3,FALSE)))","v":""},"","","","",null,null,"",null,null,"",{"$nulls":4},{"$f":"IF(A316=\"\",\"\",IF(ISNUMBER(Y316),2,IF(A317=\"\",IF(OR(AK316>0,VLOOKUP(O316,EventConfig!A:C,3,FALSE)=4),3,\"\"),1)))","v":1},1002405,null,5355]
[1002405,5350,"听惠子吹嘘种子来历，并答应帮他种葫芦","",{"$nulls":5},111,{"$f":"IF(J317=\"\",\"\",VLOOKUP(J317,EventNPC!A:E,5,FALSE))","v":"惠子"},5356,"又是来找神仙的？\n帮你也不是不行，但是你得先帮我，帮我种葫芦！",null,10024,5,{"$f":"_xlfn.TEXTJOIN(\";\",1,R317:S317)","v":""},null,null,{"$f":"IF(R317=\"\",\"\",\"-\"&VLOOKUP(R317,EventConditionConfig!A:C,3,FALSE)&IF(S317=\"\",\"\",CHAR(10)&\"-\"&VLOOKUP(S317,EventConditionConfig!A:C,3,FALSE)))","v":""},1,"1002406","5357",5357,"我不擅长种植",null,"",null,null,"",{"$nulls":4},{"$f":"IF(A317=\"\",\"\",IF(ISNUMBER(Y317),2,IF(A318=\"\",IF(OR(AK317>0,VLOOKUP(O317,EventConfig!A:C,3,FALSE)=4),3,\"\"),1)))","v":1},1002406,null,5357]
[1002406,5350,"听惠子吹嘘种子来历，并答应帮他种葫芦","",{"$nulls":5},111,{"$f":"IF(J318=\"\",\"\",VLOOKUP(J318,EventNPC!A:E,5,FALSE))","v":"惠子"},5358,"没事，我非常擅长，哈哈。\n道友只需要帮我找几种肥料即可。",null,10024,6,"",null,null,{"$f":"IF(R318=\"\",\"\",\"-\"&VLOOKUP(R318,EventConditionConfig!A:C,3,FALSE)&IF(S318=\"\",\"\",CHAR(10)&\"-\"&VLOOKUP(S318,EventConditionConfig!A:C,3,FALSE)))","v":""},1,"1002407","5359",5359,"道友请讲…",null,"",null,null,"",{"$nulls":4},{"$f":"IF(A318=\"\",\"\",IF(ISNUMBER(Y318),2,IF(A319=\"\",IF(OR(AK318>0,VLOOKUP(O318,EventConfig!A:C,3,FALSE)=4),3,\"\"),1)))","v":1},1002407,null,5359]
[1002407,5350,"听惠子吹嘘种子来历，并答应帮他种葫芦","",{"$nulls":5},111,{"$f":"IF(J319=\"\",\"\",VLOOKUP(J319,EventNPC!A:E,5,FALSE))","v":"惠子"},5360,"此葫芦种子，需要2种肥料：“天肥”和“地肥”。",null,10024,7,"",null,null,{"$f":"IF(R319=\"\",\"\",\"-\"&VLOOKUP(R319,EventConditionConfig!A:C,3,FALSE)&IF(S319=\"\",\"\",CHAR(10)&\"-\"&VLOOKUP(S319,EventConditionConfig!A:C,3,FALSE)))","v":""},"","","","",null,null,"",null,null,"",{"$nulls":4},{"$f":"IF(A319=\"\",\"\",IF(ISNUMBER(Y319),2,IF(A320=\"\",IF(OR(AK319>0,VLOOKUP(O319,EventConfig!A:C,3,FALSE)=4),3,\"\"),1)))","v":1},1002408,null,5360]
[1002408,5350,"听惠子吹嘘种子来历，并答应帮他种葫芦","",{"$nulls":5},100,{"$f":"IF(J320=\"\",\"\",VLOOKUP(J320,EventNPC!A:E,5,FALSE))","v":"玩家"},5361,"....未曾听闻…",null,10024,8,{"$f":"_xlfn.TEXTJOIN(\";\",1,R320:S320)","v":""},null,null,{"$f":"IF(R320=\"\",\"\",\"-\"&VLOOKUP(R320,EventConditionConfig!A:C,3,FALSE)&IF(S320=\"\",\"\",CHAR(10)&\"-\"&VLOOKUP(S320,EventConditionConfig!A:C,3,FALSE)))","v":""},1,"1002409","5362",5362,"何为“天肥”",null,"",null,null,"",{"$nulls":4},{"$f":"IF(A320=\"\",\"\",IF(ISNUMBER(Y320),2,IF(A321=\"\",IF(OR(AK320>0,VLOOKUP(O320,EventConfig!A:C,3,FALSE)=4),3,\"\"),1)))","v":1},1002409,null,5362]
[1002409,5350,"听惠子吹嘘种子来历，并答应帮他种葫芦","",{"$nulls":5},111,{"$f":"IF(J321=\"\",\"\",VLOOKUP(J321,EventNPC!A:E,5,FALSE))","v":"惠子"},5363,"天肥很简单，你往上看\n（惠子把手指向云端）",null,10024,9,"",null,null,{"$f":"IF(R321=\"\",\"\",\"-\"&VLOOKUP(R321,EventConditionConfig!A:C,3,FALSE)&IF(S321=\"\",\"\",CHAR(10)&\"-\"&VLOOKUP(S321,EventConditionConfig!A:C,3,FALSE)))","v":""},"","","","",null,null,"",null,null,"",{"$nulls":4},{"$f":"IF(A321=\"\",\"\",IF(ISNUMBER(Y321),2,IF(A322=\"\",IF(OR(AK321>0,VLOOKUP(O321,EventConfig!A:C,3,FALSE)=4),3,\"\"),1)))","v":1},1002410,null,5363]
[1002410,5350,"听惠子吹嘘种子来历，并答应帮他种葫芦","",{"$nulls":5},111,{"$f":"IF(J322=\"\",\"\",VLOOKUP(J322,EventNPC!A:E,5,FALSE))","v":"惠子"},5364,"此山附近有许多飞行的灵兽围绕，你去击败几只飞行的灵兽，就有机会拿到了。",null,10024,10,{"$f":"_xlfn.TEXTJOIN(\";\",1,R322:S322)","v":""},null,null,{"$f":"IF(R322=\"\",\"\",\"-\"&VLOOKUP(R322,EventConditionConfig!A:C,3,FALSE)&IF(S322=\"\",\"\",CHAR(10)&\"-\"&VLOOKUP(S322,EventConditionConfig!A:C,3,FALSE)))","v":""},1,"1002411","5365",5365,"何为“地肥”",null,"",null,null,"",{"$nulls":4},{"$f":"IF(A322=\"\",\"\",IF(ISNUMBER(Y322),2,IF(A323=\"\",IF(OR(AK322>0,VLOOKUP(O322,EventConfig!A:C,3,FALSE)=4),3,\"\"),1)))","v":1},1002411,null,5365]
[1002411,5350,"听惠子吹嘘种子来历，并答应帮他种葫芦","",{"$nulls":5},111,{"$f":"IF(J323=\"\",\"\",VLOOKUP(J323,EventNPC!A:E,5,FALSE))","v":"惠子"},5366,"这地肥就比较麻烦了，需要2000年以上的灵木树枝才能当“地肥”",null,10024,11,{"$f":"_xlfn.TEXTJOIN(\";\",1,R323:S323)","v":""},null,null,{"$f":"IF(R323=\"\",\"\",\"-\"&VLOOKUP(R323,EventConditionConfig!A:C,3,FALSE)&IF(S323=\"\",\"\",CHAR(10)&\"-\"&VLOOKUP(S323,EventConditionConfig!A:C,3,FALSE)))","v":""},"","","","",null,null,"",null,null,"",{"$nulls":4},{"$f":"IF(A323=\"\",\"\",IF(ISNUMBER(Y323),2,IF(A324=\"\",IF(OR(AK323>0,VLOOKUP(O323,EventConfig!A:C,3,FALSE)=4),3,\"\"),1)))","v":1},1002412,null,5366]
[1002412,5350,"听惠子吹嘘种子来历，并答应帮他种葫芦","",{"$nulls":5},111,{"$f":"IF(J324=\"\",\"\",VLOOKUP(J324,EventNPC!A:E,5,FALSE))","v":"惠子"},5367,"不过，这千年以上的树木，都会化形，不好找啊，不好找。",null,10024,12,{"$f":"_xlfn.TEXTJOIN(\";\",1,R324:S324)","v":""},null,null,{"$f":"IF(R324=\"\",\"\",\"-\"&VLOOKUP(R324,EventConditionConfig!A:C,3,FALSE)&IF(S324=\"\",\"\",CHAR(10)&\"-\"&VLOOKUP(S324,EventConditionConfig!A:C,3,FALSE)))","v":""},1,"1002413","5368",5368,"好的道友，那我这就去寻。",null,"",null,null,"",{"$nulls":4},{"$f":"IF(A324=\"\",\"\",IF(ISNUMBER(Y324),2,IF(A325=\"\",IF(OR(AK324>0,VLOOKUP(O324,EventConfig!A:C,3,FALSE)=4),3,\"\"),1)))","v":1},1002413,null,5368]
[{"$f":"O325*100+P325","v":1002413},5350,"听惠子吹嘘种子来历，并答应帮他种葫芦","",{"$nulls":6},{"$f":"IF(J325=\"\",\"\",VLOOKUP(J325,EventNPC!A:E,5,FALSE))","v":""},"",null,null,10024,13,{"$f":"_xlfn.TEXTJOIN(\";\",1,R325:S325)","v":"26"},26,null,{"$f":"IF(R325=\"\",\"\",\"-\"&VLOOKUP(R325,EventConditionConfig!A:C,3,FALSE)&IF(S325=\"\",\"\",CHAR(10)&\"-\"&VLOOKUP(S325,EventConditionConfig!A:C,3,FALSE)))","v":"-达到境界：元婴-前期"},{"$f":"IF(Y325=\"\",\"\",1)","v":""},"","","",null,null,"",null,null,"",{"$nulls":4},{"$f":"IF(A325=\"\",\"\",IF(ISNUMBER(Y325),2,IF(A326=\"\",IF(OR(AK325>0,VLOOKUP(O325,EventConfig!A:C,3,FALSE)=4),3,\"\"),1)))","v":3},10025,null,5368]
[null,"",null,{"$f":"IF(E326=\"\",\"\",IF(E326=E325,D325,MAX(AL325,AL324,B326)+1))","v":""},{"$nulls":7},{"$f":"IF(M326=\"\",\"\",MAX(AL325,AL324,B326,D326)+1)","v":""},null,null,null,"",{"$nulls":5},"","","",null,null,"",null,null,"",{"$nulls":4},{"$f":"IF(A326=\"\",\"\",IF(ISNUMBER(Y326),2,IF(A327=\"\",IF(OR(AK326>0,VLOOKUP(O326,EventConfig!A:C,3,FALSE)=4),3,\"\"),1)))","v":""},"",null,{"$f":"IF(A326=\"\",\"\",MAX(B326,D326,L326,X326,AA326,AL325,AL324,AD326))","v":""}]
[{"$f":"O327*100+P327","v":1002501},5369,"天肥地肥","",{"$nulls":6},{"$f":"IF(J327=\"\",\"\",VLOOKUP(J327,EventNPC!A:E,5,FALSE))","v":""},5370,"你来到飞行的灵兽周围，碰碰运气吧。",null,{"$f":"IF(O326=\"\",O324+1,O326)","v":10025},1,{"$f":"_xlfn.TEXTJOIN(\";\",1,R327:S327)","v":""},null,null,{"$f":"IF(R327=\"\",\"\",\"-\"&VLOOKUP(R327,EventConditionConfig!A:C,3,FALSE)&IF(S327=\"\",\"\",CHAR(10)&\"-\"&VLOOKUP(S327,EventConditionConfig!A:C,3,FALSE)))","v":""},{"$f":"IF(Y327=\"\",\"\",1)","v":""},"","","",null,null,"",null,null,"",{"$nulls":4},{"$f":"IF(A327=\"\",\"\",IF(ISNUMBER(Y327),2,IF(A328=\"\",IF(OR(AK327>0,VLOOKUP(O327,EventConfig!A:C,3,FALSE)=4),3,\"\"),1)))","v":1},1002502,null,5370]
[1002502,5369,"天肥地肥","",{"$nulls":6},{"$f":"IF(J328=\"\",\"\",VLOOKUP(J328,EventNPC!A:E,5,FALSE))","v":""},5371,"天肥搜集到了，关于地肥，你突然想到之前碰到的樗木之灵",null,{"$f":"IF(O327=\"\",O326+1,O327)","v":10025},2,{"$f":"_xlfn.TEXTJOIN(\";\",1,R328:S328)","v":"17"},17,null,{"$f":"IF(R328=\"\",\"\",\"-\"&VLOOKUP(R328,EventConditionConfig!A:C,3,FALSE)&IF(S328=\"\",\"\",CHAR(10)&\"-\"&VLOOKUP(S328,EventConditionConfig!A:C,3,FALSE)))","v":"-击杀灵兽获得天肥"},"","","","",null,null,"",null,null,"",{"$nulls":4},{"$f":"IF(A328=\"\",\"\",IF(ISNUMBER(Y328),2,IF(A329=\"\",IF(OR(AK328>0,VLOOKUP(O328,EventConfig!A:C,3,FALSE)=4),3,\"\"),1)))","v":1},1002503,null,5371]
[1002503,5369,"天肥地肥","",{"$nulls":5},100,{"$f":"IF(J329=\"\",\"\",VLOOKUP(J329,EventNPC!A:E,5,FALSE))","v":"玩家"},5372,"前辈，我有一事相求。",null,10025,3,"",null,null,{"$f":"IF(R329=\"\",\"\",\"-\"&VLOOKUP(R329,EventConditionConfig!A:C,3,FALSE)&IF(S329=\"\",\"\",CHAR(10)&\"-\"&VLOOKUP(S329,EventConditionConfig!A:C,3,FALSE)))","v":""},"","","","",null,null,"",null,null,"",{"$nulls":4},{"$f":"IF(A329=\"\",\"\",IF(ISNUMBER(Y329),2,IF(A330=\"\",IF(OR(AK329>0,VLOOKUP(O329,EventConfig!A:C,3,FALSE)=4),3,\"\"),1)))","v":1},1002504,null,5372]
[1002504,5369,"天肥地肥","",{"$nulls":5},110,{"$f":"IF(J330=\"\",\"\",VLOOKUP(J330,EventNPC!A:E,5,FALSE))","v":"樗木之灵"},5373,"小友请说",null,10025,4,{"$f":"_xlfn.TEXTJOIN(\";\",1,R330:S330)","v":""},null,null,{"$f":"IF(R330=\"\",\"\",\"-\"&VLOOKUP(R330,EventConditionConfig!A:C,3,FALSE)&IF(S330=\"\",\"\",CHAR(10)&\"-\"&VLOOKUP(S330,EventConditionConfig!A:C,3,FALSE)))","v":""},"","","","",null,null,"",null,null,"",{"$nulls":4},{"$f":"IF(A330=\"\",\"\",IF(ISNUMBER(Y330),2,IF(A331=\"\",IF(OR(AK330>0,VLOOKUP(O330,EventConfig!A:C,3,FALSE)=4),3,\"\"),1)))","v":1},1002505,null,5373]
[1002505,5369,"天肥地肥","",{"$nulls":5},100,{"$f":"IF(J331=\"\",\"\",VLOOKUP(J331,EventNPC!A:E,5,FALSE))","v":"玩家"},5374,"我在藐姑射山时，遇到有位道友让我帮他找“地肥”来种葫芦...\n不止前辈可否借我一点点树枝。",null,10025,5,{"$f":"_xlfn.TEXTJOIN(\";\",1,R331:S331)","v":""},null,null,{"$f":"IF(R331=\"\",\"\",\"-\"&VLOOKUP(R331,EventConditionConfig!A:C,3,FALSE)&IF(S331=\"\",\"\",CHAR(10)&\"-\"&VLOOKUP(S331,EventConditionConfig!A:C,3,FALSE)))","v":""},"","","","",null,null,"",null,null,"",{"$nulls":4},{"$f":"IF(A331=\"\",\"\",IF(ISNUMBER(Y331),2,IF(A332=\"\",IF(OR(AK331>0,VLOOKUP(O331,EventConfig!A:C,3,FALSE)=4),3,\"\"),1)))","v":1},1002506,null,5374]
[1002506,5369,"天肥地肥","",{"$nulls":5},110,{"$f":"IF(J332=\"\",\"\",VLOOKUP(J332,EventNPC!A:E,5,FALSE))","v":"樗木之灵"},5375,"好说好说，以后多来陪我聊聊天就好。",null,10025,6,"",null,null,{"$f":"IF(R332=\"\",\"\",\"-\"&VLOOKUP(R332,EventConditionConfig!A:C,3,FALSE)&IF(S332=\"\",\"\",CHAR(10)&\"-\"&VLOOKUP(S332,EventConditionConfig!A:C,3,FALSE)))","v":""},"","","","",null,null,"",null,null,"",{"$nulls":4},{"$f":"IF(A332=\"\",\"\",IF(ISNUMBER(Y332),2,IF(A333=\"\",IF(OR(AK332>0,VLOOKUP(O332,EventConfig!A:C,3,FALSE)=4),3,\"\"),1)))","v":1},1002507,null,5375]
[1002507,{"$f":"IF(C333=\"\",\"\",IF(C333=C332,B332,MAX(AL332,AL331)+1))","v":5369},"天肥地肥","",{"$nulls":5},100,{"$f":"IF(J333=\"\",\"\",VLOOKUP(J333,EventNPC!A:E,5,FALSE))","v":"玩家"},5376,"多谢前辈！  （得到樗木的树枝）",null,10025,7,{"$f":"_xlfn.TEXTJOIN(\";\",1,R333:S333)","v":""},null,null,{"$f":"IF(R333=\"\",\"\",\"-\"&VLOOKUP(R333,EventConditionConfig!A:C,3,FALSE)&IF(S333=\"\",\"\",CHAR(10)&\"-\"&VLOOKUP(S333,EventConditionConfig!A:C,3,FALSE)))","v":""},"","","",{"$f":"IF(OR(ISNUMBER(Y333),Y333=\"\"),\"\",MAX(AL332,AL330,B333,D333,L333)+1)","v":""},null,null,{"$f":"IF(OR(ISNUMBER(AB333),AB333=\"\"),\"\",X333+1)","v":""},null,null,{"$f":"IF(OR(ISNUMBER(AE333),AE333=\"\"),\"\",AA333+1)","v":""},null,null,20001,1,{"$f":"IF(A333=\"\",\"\",IF(ISNUMBER(Y333),2,IF(A334=\"\",IF(OR(AK333>0,VLOOKUP(O333,EventConfig!A:C,3,FALSE)=4),3,\"\"),1)))","v":1},1002508,null,5376]
[1002508,5369,"天肥地肥","",{"$nulls":6},{"$f":"IF(J334=\"\",\"\",VLOOKUP(J334,EventNPC!A:E,5,FALSE))","v":""},"",null,null,10025,8,"30",30,null,{"$f":"IF(R334=\"\",\"\",\"-\"&VLOOKUP(R334,EventConditionConfig!A:C,3,FALSE)&IF(S334=\"\",\"\",CHAR(10)&\"-\"&VLOOKUP(S334,EventConditionConfig!A:C,3,FALSE)))","v":"-达到境界：元婴-中期"},"",{"$f":"IF(U334=1,_xlfn.TEXTJOIN(\";\",1,IF(Z334=\"\",A334+1,Z334),IF(AND(AA334<>\"\",AC334=\"\"),A334+1,AC334),IF(AND(AD334<>\"\",AF334=\"\"),A334+1,AF334)),IF(U334=2,Y334,\"\"))","v":""},{"$f":"_xlfn.TEXTJOIN(\";\",1,X334,AA334,AD334)","v":""},"",null,null,"",null,null,"",{"$nulls":4},{"$f":"IF(A334=\"\",\"\",IF(ISNUMBER(Y334),2,IF(A335=\"\",IF(OR(AK334>0,VLOOKUP(O334,EventConfig!A:C,3,FALSE)=4),3,\"\"),1)))","v":3},{"$f":"IF(AI334=\"\",\"\",CHOOSE(AI334,IF(AK334=\"\",A334+1,AK334),CONCATENATE(IF(AK334=\"\",A334+1,AK334),\";101\"),IF(AK334=\"\",O334+1,AK334)))","v":10026},null,5376]
[null,"",null,"",{"$nulls":7},"",null,null,null,"",{"$nulls":5},"","","",null,null,"",null,null,"",{"$nulls":4},{"$f":"IF(A335=\"\",\"\",IF(ISNUMBER(Y335),2,IF(A336=\"\",IF(OR(AK335>0,VLOOKUP(O335,EventConfig!A:C,3,FALSE)=4),3,\"\"),1)))","v":""},"",null,""]
[{"$f":"O336*100+P336","v":1002601},5377,"登山","",{"$nulls":5},111,{"$f":"IF(J336=\"\",\"\",VLOOKUP(J336,EventNPC!A:E,5,FALSE))","v":"惠子"},5378,"（眼睛一亮）好好好！\n这位道友果然好手段！竟真能找到“地肥”！",null,{"$f":"IF(O335=\"\",O333+1,O335)","v":10026},1,{"$f":"_xlfn.TEXTJOIN(\";\",1,R336:S336)","v":""},null,null,{"$f":"IF(R336=\"\",\"\",\"-\"&VLOOKUP(R336,EventConditionConfig!A:C,3,FALSE)&IF(S336=\"\",\"\",CHAR(10)&\"-\"&VLOOKUP(S336,EventConditionConfig!A:C,3,FALSE)))","v":""},{"$f":"IF(Y336=\"\",\"\",1)","v":""},"","","",null,null,"",null,null,"",{"$nulls":4},{"$f":"IF(A336=\"\",\"\",IF(ISNUMBER(Y336),2,IF(A337=\"\",IF(OR(AK336>0,VLOOKUP(O336,EventConfig!A:C,3,FALSE)=4),3,\"\"),1)))","v":1},1002602,null,5378]
[1002602,5377,"登山","",{"$nulls":5},100,{"$f":"IF(J337=\"\",\"\",VLOOKUP(J337,EventNPC!A:E,5,FALSE))","v":"玩家"},5379,"（谁管你的葫芦....）\n请道友告知，哪里可以见到神仙，我有事相求。",null,{"$f":"IF(O336=\"\",O335+1,O336)","v":10026},2,{"$f":"_xlfn.TEXTJOIN(\";\",1,R337:S337)","v":""},null,null,{"$f":"IF(R337=\"\",\"\",\"-\"&VLOOKUP(R337,EventConditionConfig!A:C,3,FALSE)&IF(S337=\"\",\"\",CHAR(10)&\"-\"&VLOOKUP(S337,EventConditionConfig!A:C,3,FALSE)))","v":""},"","","","",null,null,"",null,null,"",{"$nulls":4},{"$f":"IF(A337=\"\",\"\",IF(ISNUMBER(Y337),2,IF(A338=\"\",IF(OR(AK337>0,VLOOKUP(O337,EventConfig!A:C,3,FALSE)=4),3,\"\"),1)))","v":1},1002603,null,5379]
[1002603,5377,"登山","",{"$nulls":5},111,{"$f":"IF(J338=\"\",\"\",VLOOKUP(J338,EventNPC!A:E,5,FALSE))","v":"惠子"},5380,"不瞒道友，我在这藐姑射山的山脚生活多年，并未见过神仙。\n来找神仙的倒是多…",null,10026,3,{"$f":"_xlfn.TEXTJOIN(\";\",1,R338:S338)","v":""},null,null,{"$f":"IF(R338=\"\",\"\",\"-\"&VLOOKUP(R338,EventConditionConfig!A:C,3,FALSE)&IF(S338=\"\",\"\",CHAR(10)&\"-\"&VLOOKUP(S338,EventConditionConfig!A:C,3,FALSE)))","v":""},1,"1002604","5381",5381,"…",null,"",null,null,"",{"$nulls":4},{"$f":"IF(A338=\"\",\"\",IF(ISNUMBER(Y338),2,IF(A339=\"\",IF(OR(AK338>0,VLOOKUP(O338,EventConfig!A:C,3,FALSE)=4),3,\"\"),1)))","v":1},1002604,null,5381]
[1002604,5377,"登山","",{"$nulls":5},111,{"$f":"IF(J339=\"\",\"\",VLOOKUP(J339,EventNPC!A:E,5,FALSE))","v":"惠子"},5382,"不过道友也不要急，我确实听庄子提过，此山有神仙的事迹。",null,10026,4,"",null,null,{"$f":"IF(R339=\"\",\"\",\"-\"&VLOOKUP(R339,EventConditionConfig!A:C,3,FALSE)&IF(S339=\"\",\"\",CHAR(10)&\"-\"&VLOOKUP(S339,EventConditionConfig!A:C,3,FALSE)))","v":""},"","","","",null,null,"",null,null,"",{"$nulls":4},{"$f":"IF(A339=\"\",\"\",IF(ISNUMBER(Y339),2,IF(A340=\"\",IF(OR(AK339>0,VLOOKUP(O339,EventConfig!A:C,3,FALSE)=4),3,\"\"),1)))","v":1},1002605,null,5382]
[1002605,5377,"登山","",{"$nulls":5},111,{"$f":"IF(J340=\"\",\"\",VLOOKUP(J340,EventNPC!A:E,5,FALSE))","v":"惠子"},5383,"我屋后设有一阵法，隐藏了上山的小路，我一会开启法阵，你从那边上山吧。",null,10026,5,{"$f":"_xlfn.TEXTJOIN(\";\",1,R340:S340)","v":""},null,null,{"$f":"IF(R340=\"\",\"\",\"-\"&VLOOKUP(R340,EventConditionConfig!A:C,3,FALSE)&IF(S340=\"\",\"\",CHAR(10)&\"-\"&VLOOKUP(S340,EventConditionConfig!A:C,3,FALSE)))","v":""},1,"1002606;1002607","5384;5385",5384,"我这就启程登山！",{"$f":"A341","v":1002606},5385,"道友竟然精通阵法？",{"$f":"A342","v":1002607},"",null,{"$f":"D342","v":""},null,null,{"$f":"IF(A340=\"\",\"\",IF(ISNUMBER(Y340),2,IF(A341=\"\",IF(OR(AK340>0,VLOOKUP(O340,EventConfig!A:C,3,FALSE)=4),3,\"\"),1)))","v":1},1002606,null,5385]
[1002606,5377,"登山","",{"$nulls":5},111,{"$f":"IF(J341=\"\",\"\",VLOOKUP(J341,EventNPC!A:E,5,FALSE))","v":"惠子"},5386,"去吧，登上山顶，也许能找到你想要的。",null,10026,6,"",null,null,{"$f":"IF(R341=\"\",\"\",\"-\"&VLOOKUP(R341,EventConditionConfig!A:C,3,FALSE)&IF(S341=\"\",\"\",CHAR(10)&\"-\"&VLOOKUP(S341,EventConditionConfig!A:C,3,FALSE)))","v":""},"","","","",null,null,"",null,null,"",{"$nulls":4},{"$f":"IF(A341=\"\",\"\",IF(ISNUMBER(Y341),2,IF(A342=\"\",IF(OR(AK341>0,VLOOKUP(O341,EventConfig!A:C,3,FALSE)=4),3,\"\"),1)))","v":1},1002509,1002509,5386]
[1002607,5377,"登山","",{"$nulls":5},111,{"$f":"IF(J342=\"\",\"\",VLOOKUP(J342,EventNPC!A:E,5,FALSE))","v":"惠子"},5387,"好说好说，我确实无心修炼，也对神仙没兴趣。",null,10026,7,{"$f":"_xlfn.TEXTJOIN(\";\",1,R342:S342)","v":""},null,null,{"$f":"IF(R342=\"\",\"\",\"-\"&VLOOKUP(R342,EventConditionConfig!A:C,3,FALSE)&IF(S342=\"\",\"\",CHAR(10)&\"-\"&VLOOKUP(S342,EventConditionConfig!A:C,3,FALSE)))","v":""},"","","","",null,null,"",null,null,"",{"$nulls":4},{"$f":"IF(A342=\"\",\"\",IF(ISNUMBER(Y342),2,IF(A343=\"\",IF(OR(AK342>0,VLOOKUP(O342,EventConfig!A:C,3,FALSE)=4),3,\"\"),1)))","v":1},1002608,null,5387]
[1002608,5377,"登山","",{"$nulls":5},111,{"$f":"IF(J343=\"\",\"\",VLOOKUP(J343,EventNPC!A:E,5,FALSE))","v":"惠子"},5388,"闲来无事，种种花草，研究研究阵法。\n如果道友有兴趣，可以随时交流。",null,10026,8,{"$f":"_xlfn.TEXTJOIN(\";\",1,R343:S343)","v":""},null,null,{"$f":"IF(R343=\"\",\"\",\"-\"&VLOOKUP(R343,EventConditionConfig!A:C,3,FALSE)&IF(S343=\"\",\"\",CHAR(10)&\"-\"&VLOOKUP(S343,EventConditionConfig!A:C,3,FALSE)))","v":""},"","","","",null,null,"",null,null,"",{"$nulls":4},{"$f":"IF(A343=\"\",\"\",IF(ISNUMBER(Y343),2,IF(A344=\"\",IF(OR(AK343>0,VLOOKUP(O343,EventConfig!A:C,3,FALSE)=4),3,\"\"),1)))","v":1},1002609,null,5388]
[1002609,5377,"登山","",{"$nulls":6},{"$f":"IF(J344=\"\",\"\",VLOOKUP(J344,EventNPC!A:E,5,FALSE))","v":""},"",null,null,10026,9,{"$f":"_xlfn.TEXTJOIN(\";\",1,R344:S344)","v":"31"},31,null,{"$f":"IF(R344=\"\",\"\",\"-\"&VLOOKUP(R344,EventConditionConfig!A:C,3,FALSE)&IF(S344=\"\",\"\",CHAR(10)&\"-\"&VLOOKUP(S344,EventConditionConfig!A:C,3,FALSE)))","v":"-达到境界：元婴-后期"},"","","","",null,null,"",null,null,"",{"$nulls":4},{"$f":"IF(A344=\"\",\"\",IF(ISNUMBER(Y344),2,IF(A345=\"\",IF(OR(AK344>0,VLOOKUP(O344,EventConfig!A:C,3,FALSE)=4),3,\"\"),1)))","v":3},10027,null,5388]
[null,"",null,"",{"$nulls":7},"",null,null,null,"",{"$nulls":5},"","","",null,null,"",null,null,"",{"$nulls":4},{"$f":"IF(A345=\"\",\"\",IF(ISNUMBER(Y345),2,IF(A346=\"\",IF(OR(AK345>0,VLOOKUP(O345,EventConfig!A:C,3,FALSE)=4),3,\"\"),1)))","v":""},"",null,""]
[{"$f":"O346*100+P346","v":1002701},5389,"穿越山雾","",{"$nulls":6},{"$f":"IF(J346=\"\",\"\",VLOOKUP(J346,EventNPC!A:E,5,FALSE))","v":""},5390,"你穿过惠子开启的阵法，踏上藐姑射山的羊肠小径。",null,10027,1,{"$f":"_xlfn.TEXTJOIN(\";\",1,R346:S346)","v":""},null,null,{"$f":"IF(R346=\"\",\"\",\"-\"&VLOOKUP(R346,EventConditionConfig!A:C,3,FALSE)&IF(S346=\"\",\"\",CHAR(10)&\"-\"&VLOOKUP(S346,EventConditionConfig!A:C,3,FALSE)))","v":""},{"$f":"IF(Y346=\"\",\"\",IF(ISTEXT(Y346),1,2))","v":""},"","","",null,null,"",null,null,"",{"$nulls":4},{"$f":"IF(A346=\"\",\"\",IF(ISNUMBER(Y346),2,IF(A347=\"\",IF(OR(AK346>0,VLOOKUP(O346,EventConfig!A:C,3,FALSE)=4),3,\"\"),1)))","v":1},1002702,null,5390]
[{"$f":"O347*100+P347","v":1002702},5389,"穿越山雾","",{"$nulls":6},{"$f":"IF(J347=\"\",\"\",VLOOKUP(J347,EventNPC!A:E,5,FALSE))","v":""},5391,"山路蜿蜒，云雾渐浓，似有无形之力扭曲空间。",null,10027,2,{"$f":"_xlfn.TEXTJOIN(\";\",1,R347:S347)","v":""},null,null,{"$f":"IF(R347=\"\",\"\",\"-\"&VLOOKUP(R347,EventConditionConfig!A:C,3,FALSE)&IF(S347=\"\",\"\",CHAR(10)&\"-\"&VLOOKUP(S347,EventConditionConfig!A:C,3,FALSE)))","v":""},{"$f":"IF(Y347=\"\",\"\",IF(ISTEXT(Y347),1,2))","v":""},"","","",null,null,"",null,null,"",{"$nulls":4},{"$f":"IF(A347=\"\",\"\",IF(ISNUMBER(Y347),2,IF(A348=\"\",IF(OR(AK347>0,VLOOKUP(O347,EventConfig!A:C,3,FALSE)=4),3,\"\"),1)))","v":1},1002703,null,5391]
[{"$f":"O348*100+P348","v":1002703},5389,"穿越山雾","",{"$nulls":6},{"$f":"IF(J348=\"\",\"\",VLOOKUP(J348,EventNPC!A:E,5,FALSE))","v":""},5392,"远方隐约传来风吟露滴之声，仿佛仙乐。",null,10027,{"$f":"IF(O348=\"\",\"\",IF(O348=O347,P347+1,1))","v":3},{"$f":"_xlfn.TEXTJOIN(\";\",1,R348:S348)","v":""},null,null,{"$f":"IF(R348=\"\",\"\",\"-\"&VLOOKUP(R348,EventConditionConfig!A:C,3,FALSE)&IF(S348=\"\",\"\",CHAR(10)&\"-\"&VLOOKUP(S348,EventConditionConfig!A:C,3,FALSE)))","v":""},{"$f":"IF(Y348=\"\",\"\",IF(ISTEXT(Y348),1,2))","v":""},"","","",null,null,"",null,null,"",{"$nulls":4},{"$f":"IF(A348=\"\",\"\",IF(ISNUMBER(Y348),2,IF(A349=\"\",IF(OR(AK348>0,VLOOKUP(O348,EventConfig!A:C,3,FALSE)=4),3,\"\"),1)))","v":1},1002704,null,5392]
[{"$f":"O349*100+P349","v":1002704},5389,"穿越山雾","",{"$nulls":6},{"$f":"IF(J349=\"\",\"\",VLOOKUP(J349,EventNPC!A:E,5,FALSE))","v":""},5393,"然而，雾中忽现幻影，阻挡去路——",null,10027,4,{"$f":"_xlfn.TEXTJOIN(\";\",1,R349:S349)","v":""},null,null,{"$f":"IF(R349=\"\",\"\",\"-\"&VLOOKUP(R349,EventConditionConfig!A:C,3,FALSE)&IF(S349=\"\",\"\",CHAR(10)&\"-\"&VLOOKUP(S349,EventConditionConfig!A:C,3,FALSE)))","v":""},{"$f":"IF(Y349=\"\",\"\",IF(ISTEXT(Y349),1,2))","v":""},"","","",null,null,"",null,null,"",{"$nulls":4},{"$f":"IF(A349=\"\",\"\",IF(ISNUMBER(Y349),2,IF(A350=\"\",IF(OR(AK349>0,VLOOKUP(O349,EventConfig!A:C,3,FALSE)=4),3,\"\"),1)))","v":1},1002705,null,5393]
[{"$f":"O350*100+P350","v":1002705},5389,"穿越山雾","",{"$nulls":5},100,{"$f":"IF(J350=\"\",\"\",VLOOKUP(J350,EventNPC!A:E,5,FALSE))","v":"玩家"},5394,"雾里怎么会出现这些？看来是阵法在捣鬼……\n前面那是什么..",null,10027,5,{"$f":"_xlfn.TEXTJOIN(\";\",1,R350:S350)","v":""},null,null,{"$f":"IF(R350=\"\",\"\",\"-\"&VLOOKUP(R350,EventConditionConfig!A:C,3,FALSE)&IF(S350=\"\",\"\",CHAR(10)&\"-\"&VLOOKUP(S350,EventConditionConfig!A:C,3,FALSE)))","v":""},{"$f":"IF(Y350=\"\",\"\",IF(ISTEXT(Y350),1,2))","v":""},"","","",null,null,"",null,null,"",{"$nulls":4},{"$f":"IF(A350=\"\",\"\",IF(ISNUMBER(Y350),2,IF(A351=\"\",IF(OR(AK350>0,VLOOKUP(O350,EventConfig!A:C,3,FALSE)=4),3,\"\"),1)))","v":1},1002706,null,5394]
[{"$f":"O351*100+P351","v":1002706},5395,"小麻雀的幻影","",{"$nulls":5},115,{"$f":"IF(J351=\"\",\"\",VLOOKUP(J351,EventNPC!A:E,5,FALSE))","v":"小麻雀幻影"},5396,"大傻鸟飞那么远，有什么用？像我这样，上蹿下跳就够了！",null,10027,6,{"$f":"_xlfn.TEXTJOIN(\";\",1,R351:S351)","v":""},null,null,{"$f":"IF(R351=\"\",\"\",\"-\"&VLOOKUP(R351,EventConditionConfig!A:C,3,FALSE)&IF(S351=\"\",\"\",CHAR(10)&\"-\"&VLOOKUP(S351,EventConditionConfig!A:C,3,FALSE)))","v":""},{"$f":"IF(Y351=\"\",\"\",IF(ISTEXT(Y351),1,2))","v":1},"1002707;1002711","5397;5398",5397,"你不懂鲲鹏的志向！",null,5398,"或许你说得对，但我要亲眼看看。",{"$f":"A356","v":1002711},"",null,{"$f":"D356","v":""},null,null,{"$f":"IF(A351=\"\",\"\",IF(ISNUMBER(Y351),2,IF(A352=\"\",IF(OR(AK351>0,VLOOKUP(O351,EventConfig!A:C,3,FALSE)=4),3,\"\"),1)))","v":1},1002707,null,5398]
[{"$f":"O352*100+P352","v":1002707},5395,"小麻雀的幻影","",{"$nulls":5},115,{"$f":"IF(J352=\"\",\"\",VLOOKUP(J352,EventNPC!A:E,5,FALSE))","v":"小麻雀幻影"},5399,"（歪头嘲笑）志向？那大鸟飞得再高，风一停还不是摔下来！你这傻瓜，也想学它？",null,10027,7,{"$f":"_xlfn.TEXTJOIN(\";\",1,R352:S352)","v":""},null,null,{"$f":"IF(R352=\"\",\"\",\"-\"&VLOOKUP(R352,EventConditionConfig!A:C,3,FALSE)&IF(S352=\"\",\"\",CHAR(10)&\"-\"&VLOOKUP(S352,EventConditionConfig!A:C,3,FALSE)))","v":""},{"$f":"IF(Y352=\"\",\"\",IF(ISTEXT(Y352),1,2))","v":""},"","","",null,null,"",null,null,"",{"$nulls":4},{"$f":"IF(A352=\"\",\"\",IF(ISNUMBER(Y352),2,IF(A353=\"\",IF(OR(AK352>0,VLOOKUP(O352,EventConfig!A:C,3,FALSE)=4),3,\"\"),1)))","v":1},1002708,null,5399]
[{"$f":"O353*100+P353","v":1002708},5395,"小麻雀的幻影","",{"$nulls":5},100,{"$f":"IF(J353=\"\",\"\",VLOOKUP(J353,EventNPC!A:E,5,FALSE))","v":"玩家"},5400,"鲲鹏的志向不是为了飞高，而是为了追寻心中的自由——你这小雀，永远不懂！",null,10027,8,{"$f":"_xlfn.TEXTJOIN(\";\",1,R353:S353)","v":""},null,null,{"$f":"IF(R353=\"\",\"\",\"-\"&VLOOKUP(R353,EventConditionConfig!A:C,3,FALSE)&IF(S353=\"\",\"\",CHAR(10)&\"-\"&VLOOKUP(S353,EventConditionConfig!A:C,3,FALSE)))","v":""},{"$f":"IF(Y353=\"\",\"\",IF(ISTEXT(Y353),1,2))","v":""},"","","",null,null,"",null,null,"",{"$nulls":4},{"$f":"IF(A353=\"\",\"\",IF(ISNUMBER(Y353),2,IF(A354=\"\",IF(OR(AK353>0,VLOOKUP(O353,EventConfig!A:C,3,FALSE)=4),3,\"\"),1)))","v":1},1002709,null,5400]
[1002709,5395,"小麻雀的幻影","",{"$nulls":5},115,{"$f":"IF(J354=\"\",\"\",VLOOKUP(J354,EventNPC!A:E,5,FALSE))","v":"小麻雀幻影"},5401,"到底是你不懂，还是我不懂？",null,10027,9,"",null,null,{"$f":"IF(R354=\"\",\"\",\"-\"&VLOOKUP(R354,EventConditionConfig!A:C,3,FALSE)&IF(S354=\"\",\"\",CHAR(10)&\"-\"&VLOOKUP(S354,EventConditionConfig!A:C,3,FALSE)))","v":""},"","","","",null,null,"",null,null,"",{"$nulls":4},{"$f":"IF(A354=\"\",\"\",IF(ISNUMBER(Y354),2,IF(A355=\"\",IF(OR(AK354>0,VLOOKUP(O354,EventConfig!A:C,3,FALSE)=4),3,\"\"),1)))","v":1},1002710,null,5401]
[{"$f":"O355*100+P355","v":1002710},5395,"小麻雀的幻影","",{"$nulls":5},100,{"$f":"IF(J355=\"\",\"\",VLOOKUP(J355,EventNPC!A:E,5,FALSE))","v":"玩家"},5402,"........\n总之，我的路得自己走下去！",null,10027,10,{"$f":"_xlfn.TEXTJOIN(\";\",1,R355:S355)","v":""},null,null,{"$f":"IF(R355=\"\",\"\",\"-\"&VLOOKUP(R355,EventConditionConfig!A:C,3,FALSE)&IF(S355=\"\",\"\",CHAR(10)&\"-\"&VLOOKUP(S355,EventConditionConfig!A:C,3,FALSE)))","v":""},{"$f":"IF(Y355=\"\",\"\",IF(ISTEXT(Y355),1,2))","v":""},"","","",null,null,"",null,null,"",{"$nulls":4},{"$f":"IF(A355=\"\",\"\",IF(ISNUMBER(Y355),2,IF(A356=\"\",IF(OR(AK355>0,VLOOKUP(O355,EventConfig!A:C,3,FALSE)=4),3,\"\"),1)))","v":1},1002714,{"$f":"A359","v":1002714},5402]
[1002711,5395,"小麻雀的幻影","",{"$nulls":5},115,{"$f":"IF(J356=\"\",\"\",VLOOKUP(J356,EventNPC!A:E,5,FALSE))","v":"小麻雀幻影"},5403,"（扑腾翅膀开心）“哈哈，终于有人同意我了！那你干脆留下来，我陪你一起玩，何必四处奔波",null,10027,11,"",null,null,{"$f":"IF(R356=\"\",\"\",\"-\"&VLOOKUP(R356,EventConditionConfig!A:C,3,FALSE)&IF(S356=\"\",\"\",CHAR(10)&\"-\"&VLOOKUP(S356,EventConditionConfig!A:C,3,FALSE)))","v":""},"","","","",null,null,"",null,null,"",{"$nulls":4},{"$f":"IF(A356=\"\",\"\",IF(ISNUMBER(Y356),2,IF(A357=\"\",IF(OR(AK356>0,VLOOKUP(O356,EventConfig!A:C,3,FALSE)=4),3,\"\"),1)))","v":1},1002712,null,5403]
[{"$f":"O357*100+P357","v":1002712},5395,"小麻雀的幻影","",{"$nulls":5},100,{"$f":"IF(J357=\"\",\"\",VLOOKUP(J357,EventNPC!A:E,5,FALSE))","v":"玩家"},5404,"你的说法有点道理，树上的自在倒也不错……",null,10027,12,{"$f":"_xlfn.TEXTJOIN(\";\",1,R357:S357)","v":""},null,null,{"$f":"IF(R357=\"\",\"\",\"-\"&VLOOKUP(R357,EventConditionConfig!A:C,3,FALSE)&IF(S357=\"\",\"\",CHAR(10)&\"-\"&VLOOKUP(S357,EventConditionConfig!A:C,3,FALSE)))","v":""},{"$f":"IF(Y357=\"\",\"\",IF(ISTEXT(Y357),1,2))","v":""},"","","",null,null,"",null,null,"",{"$nulls":4},{"$f":"IF(A357=\"\",\"\",IF(ISNUMBER(Y357),2,IF(A358=\"\",IF(OR(AK357>0,VLOOKUP(O357,EventConfig!A:C,3,FALSE)=4),3,\"\"),1)))","v":1},1002713,null,5404]
[{"$f":"O358*100+P358","v":1002713},5395,"小麻雀的幻影","",{"$nulls":5},100,{"$f":"IF(J358=\"\",\"\",VLOOKUP(J358,EventNPC!A:E,5,FALSE))","v":"玩家"},5405,"但我还是想亲眼去看看外面的天地，哪怕有点冒险也无妨！",null,10027,13,{"$f":"_xlfn.TEXTJOIN(\";\",1,R358:S358)","v":""},null,null,{"$f":"IF(R358=\"\",\"\",\"-\"&VLOOKUP(R358,EventConditionConfig!A:C,3,FALSE)&IF(S358=\"\",\"\",CHAR(10)&\"-\"&VLOOKUP(S358,EventConditionConfig!A:C,3,FALSE)))","v":""},{"$f":"IF(Y358=\"\",\"\",IF(ISTEXT(Y358),1,2))","v":""},"","","",null,null,"",null,null,"",{"$nulls":4},{"$f":"IF(A358=\"\",\"\",IF(ISNUMBER(Y358),2,IF(A359=\"\",IF(OR(AK358>0,VLOOKUP(O358,EventConfig!A:C,3,FALSE)=4),3,\"\"),1)))","v":1},1002714,null,5405]
[1002714,5395,"小麻雀的幻影","",{"$nulls":5},115,{"$f":"IF(J359=\"\",\"\",VLOOKUP(J359,EventNPC!A:E,5,FALSE))","v":"小麻雀幻影"},5406,"（翅膀扇起雾气）既然你这么顽固，那我就不客气了！",null,10027,14,"",null,null,{"$f":"IF(R359=\"\",\"\",\"-\"&VLOOKUP(R359,EventConditionConfig!A:C,3,FALSE)&IF(S359=\"\",\"\",CHAR(10)&\"-\"&VLOOKUP(S359,EventConditionConfig!A:C,3,FALSE)))","v":""},1,"1002715","5407",5407,"来吧，别再叽叽喳喳了！",null,"",null,null,"",{"$nulls":4},{"$f":"IF(A359=\"\",\"\",IF(ISNUMBER(Y359),2,IF(A360=\"\",IF(OR(AK359>0,VLOOKUP(O359,EventConfig!A:C,3,FALSE)=4),3,\"\"),1)))","v":1},1002715,null,5407]
[{"$f":"O360*100+P360","v":1002715},5395,"小麻雀的幻影","",{"$nulls":6},{"$f":"IF(J360=\"\",\"\",VLOOKUP(J360,EventNPC!A:E,5,FALSE))","v":""},5408,"雾气凝聚，小麻雀幻影化作灵光扑来，战斗一触即发。",null,10027,15,{"$f":"_xlfn.TEXTJOIN(\";\",1,R360:S360)","v":""},null,null,{"$f":"IF(R360=\"\",\"\",\"-\"&VLOOKUP(R360,EventConditionConfig!A:C,3,FALSE)&IF(S360=\"\",\"\",CHAR(10)&\"-\"&VLOOKUP(S360,EventConditionConfig!A:C,3,FALSE)))","v":""},{"$f":"IF(Y360=\"\",\"\",IF(ISTEXT(Y360),1,2))","v":2},1010,"","",1010,null,"",null,null,"",{"$nulls":4},{"$f":"IF(A360=\"\",\"\",IF(ISNUMBER(Y360),2,IF(A361=\"\",IF(OR(AK360>0,VLOOKUP(O360,EventConfig!A:C,3,FALSE)=4),3,\"\"),1)))","v":2},"1002716;101",null,5408]
[{"$f":"O361*100+P361","v":1002716},5409,"痴道人的幻影","",{"$nulls":5},116,{"$f":"IF(J361=\"\",\"\",VLOOKUP(J361,EventNPC!A:E,5,FALSE))","v":"痴道人幻影"},5410,"苦修一生，却寸步难行……何不就此止步？外面的世界，不过镜花水月罢了",null,10027,16,{"$f":"_xlfn.TEXTJOIN(\";\",1,R361:S361)","v":""},null,null,{"$f":"IF(R361=\"\",\"\",\"-\"&VLOOKUP(R361,EventConditionConfig!A:C,3,FALSE)&IF(S361=\"\",\"\",CHAR(10)&\"-\"&VLOOKUP(S361,EventConditionConfig!A:C,3,FALSE)))","v":""},{"$f":"IF(Y361=\"\",\"\",IF(ISTEXT(Y361),1,2))","v":1},"1002717;1002719","5411;5412",5411,"停步等于自缚，前行才能解脱！",null,5412,"听你师兄说，真正的束缚来自内心，为何不放过自己？",{"$f":"A364","v":1002719},"",null,{"$f":"D364","v":""},null,null,{"$f":"IF(A361=\"\",\"\",IF(ISNUMBER(Y361),2,IF(A362=\"\",IF(OR(AK361>0,VLOOKUP(O361,EventConfig!A:C,3,FALSE)=4),3,\"\"),1)))","v":1},1002717,null,5412]
[1002717,5409,"痴道人的幻影","",{"$nulls":5},116,{"$f":"IF(J362=\"\",\"\",VLOOKUP(J362,EventNPC!A:E,5,FALSE))","v":"痴道人幻影"},5413,"（苦笑摇头）解脱？当年我也以为前行就能解脱，结果越走越累，越累越想停。你又怎知不会步我后尘？",null,10027,17,"",null,null,{"$f":"IF(R362=\"\",\"\",\"-\"&VLOOKUP(R362,EventConditionConfig!A:C,3,FALSE)&IF(S362=\"\",\"\",CHAR(10)&\"-\"&VLOOKUP(S362,EventConditionConfig!A:C,3,FALSE)))","v":""},"","","","",null,null,"",null,null,"",{"$nulls":4},{"$f":"IF(A362=\"\",\"\",IF(ISNUMBER(Y362),2,IF(A363=\"\",IF(OR(AK362>0,VLOOKUP(O362,EventConfig!A:C,3,FALSE)=4),3,\"\"),1)))","v":1},1002718,null,5413]
[{"$f":"O363*100+P363","v":1002718},5409,"痴道人的幻影","",{"$nulls":5},100,{"$f":"IF(J363=\"\",\"\",VLOOKUP(J363,EventNPC!A:E,5,FALSE))","v":"玩家"},5414,"如果不走，怎么知道前方不是柳暗花明？\n停在这里，只会让心越来越沉重。",null,10027,18,{"$f":"_xlfn.TEXTJOIN(\";\",1,R363:S363)","v":""},null,null,{"$f":"IF(R363=\"\",\"\",\"-\"&VLOOKUP(R363,EventConditionConfig!A:C,3,FALSE)&IF(S363=\"\",\"\",CHAR(10)&\"-\"&VLOOKUP(S363,EventConditionConfig!A:C,3,FALSE)))","v":""},{"$f":"IF(Y363=\"\",\"\",IF(ISTEXT(Y363),1,2))","v":""},"","","",null,null,"",null,null,"",{"$nulls":4},{"$f":"IF(A363=\"\",\"\",IF(ISNUMBER(Y363),2,IF(A364=\"\",IF(OR(AK363>0,VLOOKUP(O363,EventConfig!A:C,3,FALSE)=4),3,\"\"),1)))","v":1},1002721,{"$f":"A366","v":1002721},5414]
[{"$f":"O364*100+P364","v":1002719},5409,"痴道人的幻影","",{"$nulls":5},116,{"$f":"IF(J364=\"\",\"\",VLOOKUP(J364,EventNPC!A:E,5,FALSE))","v":"痴道人幻影"},5415,"师兄总是这么说，可这风灵珠和浮岛，是我最后的依靠。\n离开它们，我就能找到出路？",null,10027,19,{"$f":"_xlfn.TEXTJOIN(\";\",1,R364:S364)","v":""},null,null,{"$f":"IF(R364=\"\",\"\",\"-\"&VLOOKUP(R364,EventConditionConfig!A:C,3,FALSE)&IF(S364=\"\",\"\",CHAR(10)&\"-\"&VLOOKUP(S364,EventConditionConfig!A:C,3,FALSE)))","v":""},{"$f":"IF(Y364=\"\",\"\",IF(ISTEXT(Y364),1,2))","v":""},"","","",null,null,"",null,null,"",{"$nulls":4},{"$f":"IF(A364=\"\",\"\",IF(ISNUMBER(Y364),2,IF(A365=\"\",IF(OR(AK364>0,VLOOKUP(O364,EventConfig!A:C,3,FALSE)=4),3,\"\"),1)))","v":1},1002720,null,5415]
[1002720,5409,"痴道人的幻影","",{"$nulls":5},100,{"$f":"IF(J365=\"\",\"\",VLOOKUP(J365,EventNPC!A:E,5,FALSE))","v":"玩家"},5416,"这些不过是外物，离开会让你更好——何不试着放下？",null,10027,20,"",null,null,{"$f":"IF(R365=\"\",\"\",\"-\"&VLOOKUP(R365,EventConditionConfig!A:C,3,FALSE)&IF(S365=\"\",\"\",CHAR(10)&\"-\"&VLOOKUP(S365,EventConditionConfig!A:C,3,FALSE)))","v":""},"","","","",null,null,"",null,null,"",{"$nulls":4},{"$f":"IF(A365=\"\",\"\",IF(ISNUMBER(Y365),2,IF(A366=\"\",IF(OR(AK365>0,VLOOKUP(O365,EventConfig!A:C,3,FALSE)=4),3,\"\"),1)))","v":1},1002721,null,5416]
[{"$f":"O366*100+P366","v":1002721},5409,"痴道人的幻影","",{"$nulls":5},116,{"$f":"IF(J366=\"\",\"\",VLOOKUP(J366,EventNPC!A:E,5,FALSE))","v":"痴道人幻影"},5417,"（灵力涌动）一派胡言，试试我的风灵之力！",null,10027,21,{"$f":"_xlfn.TEXTJOIN(\";\",1,R366:S366)","v":""},null,null,{"$f":"IF(R366=\"\",\"\",\"-\"&VLOOKUP(R366,EventConditionConfig!A:C,3,FALSE)&IF(S366=\"\",\"\",CHAR(10)&\"-\"&VLOOKUP(S366,EventConditionConfig!A:C,3,FALSE)))","v":""},{"$f":"IF(Y366=\"\",\"\",IF(ISTEXT(Y366),1,2))","v":2},1011,"","",1011,null,"",null,null,"",{"$nulls":4},{"$f":"IF(A366=\"\",\"\",IF(ISNUMBER(Y366),2,IF(A367=\"\",IF(OR(AK366>0,VLOOKUP(O366,EventConfig!A:C,3,FALSE)=4),3,\"\"),1)))","v":2},"1002722;101",null,5417]
[1002722,5418,"樗木之灵的幻影","",{"$nulls":5},117,{"$f":"IF(J367=\"\",\"\",VLOOKUP(J367,EventNPC!A:E,5,FALSE))","v":"樗木之灵幻影"},5419,"无用方能长存，你这忙碌之人，何不学我静立？",null,10027,22,"",null,null,{"$f":"IF(R367=\"\",\"\",\"-\"&VLOOKUP(R367,EventConditionConfig!A:C,3,FALSE)&IF(S367=\"\",\"\",CHAR(10)&\"-\"&VLOOKUP(S367,EventConditionConfig!A:C,3,FALSE)))","v":""},1,"1002723","5420",5420,"你有你的无用之道，但我有我的路。",null,"",null,null,"",{"$nulls":4},{"$f":"IF(A367=\"\",\"\",IF(ISNUMBER(Y367),2,IF(A368=\"\",IF(OR(AK367>0,VLOOKUP(O367,EventConfig!A:C,3,FALSE)=4),3,\"\"),1)))","v":1},1002723,null,5420]
[{"$f":"O368*100+P368","v":1002723},5418,"樗木之灵的幻影","",{"$nulls":5},117,{"$f":"IF(J368=\"\",\"\",VLOOKUP(J368,EventNPC!A:E,5,FALSE))","v":"樗木之灵幻影"},5421,"（枝叶轻摇）你的路？忙忙碌碌，砍来伐去，到头来还不是尘土。",null,10027,23,{"$f":"_xlfn.TEXTJOIN(\";\",1,R368:S368)","v":""},null,null,{"$f":"IF(R368=\"\",\"\",\"-\"&VLOOKUP(R368,EventConditionConfig!A:C,3,FALSE)&IF(S368=\"\",\"\",CHAR(10)&\"-\"&VLOOKUP(S368,EventConditionConfig!A:C,3,FALSE)))","v":""},{"$f":"IF(Y368=\"\",\"\",IF(ISTEXT(Y368),1,2))","v":""},"","","",null,null,"",null,null,"",{"$nulls":4},{"$f":"IF(A368=\"\",\"\",IF(ISNUMBER(Y368),2,IF(A369=\"\",IF(OR(AK368>0,VLOOKUP(O368,EventConfig!A:C,3,FALSE)=4),3,\"\"),1)))","v":1},1002724,null,5421]
[{"$f":"O369*100+P369","v":1002724},5418,"樗木之灵的幻影","",{"$nulls":5},117,{"$f":"IF(J369=\"\",\"\",VLOOKUP(J369,EventNPC!A:E,5,FALSE))","v":"樗木之灵幻影"},5422,"像我这样无用，谁也不会动我。",null,10027,24,{"$f":"_xlfn.TEXTJOIN(\";\",1,R369:S369)","v":""},null,null,{"$f":"IF(R369=\"\",\"\",\"-\"&VLOOKUP(R369,EventConditionConfig!A:C,3,FALSE)&IF(S369=\"\",\"\",CHAR(10)&\"-\"&VLOOKUP(S369,EventConditionConfig!A:C,3,FALSE)))","v":""},{"$f":"IF(Y369=\"\",\"\",IF(ISTEXT(Y369),1,2))","v":""},"","","",null,null,"",null,null,"",{"$nulls":4},{"$f":"IF(A369=\"\",\"\",IF(ISNUMBER(Y369),2,IF(A370=\"\",IF(OR(AK369>0,VLOOKUP(O369,EventConfig!A:C,3,FALSE)=4),3,\"\"),1)))","v":1},1002725,null,5422]
[{"$f":"O370*100+P370","v":1002725},5418,"樗木之灵的幻影","",{"$nulls":5},100,{"$f":"IF(J370=\"\",\"\",VLOOKUP(J370,EventNPC!A:E,5,FALSE))","v":"玩家"},5423,"无用或许能长存，但千年不动，你又错过了多少风景？",null,10027,25,{"$f":"_xlfn.TEXTJOIN(\";\",1,R370:S370)","v":""},null,null,{"$f":"IF(R370=\"\",\"\",\"-\"&VLOOKUP(R370,EventConditionConfig!A:C,3,FALSE)&IF(S370=\"\",\"\",CHAR(10)&\"-\"&VLOOKUP(S370,EventConditionConfig!A:C,3,FALSE)))","v":""},{"$f":"IF(Y370=\"\",\"\",IF(ISTEXT(Y370),1,2))","v":""},"","","",null,null,"",null,null,"",{"$nulls":4},{"$f":"IF(A370=\"\",\"\",IF(ISNUMBER(Y370),2,IF(A371=\"\",IF(OR(AK370>0,VLOOKUP(O370,EventConfig!A:C,3,FALSE)=4),3,\"\"),1)))","v":1},1002726,null,5423]
[{"$f":"O371*100+P371","v":1002726},5418,"樗木之灵的幻影","",{"$nulls":5},117,{"$f":"IF(J371=\"\",\"\",VLOOKUP(J371,EventNPC!A:E,5,FALSE))","v":"樗木之灵幻影"},5424,"哈哈，我已活千年，经历山河变迁，见过的风景又岂能是你所能想象的。",null,10027,26,{"$f":"_xlfn.TEXTJOIN(\";\",1,R371:S371)","v":""},null,null,{"$f":"IF(R371=\"\",\"\",\"-\"&VLOOKUP(R371,EventConditionConfig!A:C,3,FALSE)&IF(S371=\"\",\"\",CHAR(10)&\"-\"&VLOOKUP(S371,EventConditionConfig!A:C,3,FALSE)))","v":""},{"$f":"IF(Y371=\"\",\"\",IF(ISTEXT(Y371),1,2))","v":""},"","","",null,null,"",null,null,"",{"$nulls":4},{"$f":"IF(A371=\"\",\"\",IF(ISNUMBER(Y371),2,IF(A372=\"\",IF(OR(AK371>0,VLOOKUP(O371,EventConfig!A:C,3,FALSE)=4),3,\"\"),1)))","v":1},1002727,null,5424]
[1002727,5418,"樗木之灵的幻影","",{"$nulls":5},100,{"$f":"IF(J372=\"\",\"\",VLOOKUP(J372,EventNPC!A:E,5,FALSE))","v":"玩家"},5425,"但我想去探索未知——就算短暂，也比千年不动更有趣！",null,10027,27,"",null,null,{"$f":"IF(R372=\"\",\"\",\"-\"&VLOOKUP(R372,EventConditionConfig!A:C,3,FALSE)&IF(S372=\"\",\"\",CHAR(10)&\"-\"&VLOOKUP(S372,EventConditionConfig!A:C,3,FALSE)))","v":""},"","","","",null,null,"",null,null,"",{"$nulls":4},{"$f":"IF(A372=\"\",\"\",IF(ISNUMBER(Y372),2,IF(A373=\"\",IF(OR(AK372>0,VLOOKUP(O372,EventConfig!A:C,3,FALSE)=4),3,\"\"),1)))","v":1},1002728,null,5425]
[{"$f":"O373*100+P373","v":1002728},5418,"樗木之灵的幻影","",{"$nulls":5},117,{"$f":"IF(J373=\"\",\"\",VLOOKUP(J373,EventNPC!A:E,5,FALSE))","v":"樗木之灵幻影"},5426,"哎，你真是执迷不悟",null,10027,28,{"$f":"_xlfn.TEXTJOIN(\";\",1,R373:S373)","v":""},null,null,{"$f":"IF(R373=\"\",\"\",\"-\"&VLOOKUP(R373,EventConditionConfig!A:C,3,FALSE)&IF(S373=\"\",\"\",CHAR(10)&\"-\"&VLOOKUP(S373,EventConditionConfig!A:C,3,FALSE)))","v":""},{"$f":"IF(Y373=\"\",\"\",IF(ISTEXT(Y373),1,2))","v":""},"","","",null,null,"",null,null,"",{"$nulls":4},{"$f":"IF(A373=\"\",\"\",IF(ISNUMBER(Y373),2,IF(A374=\"\",IF(OR(AK373>0,VLOOKUP(O373,EventConfig!A:C,3,FALSE)=4),3,\"\"),1)))","v":1},1002729,null,5426]
[1002729,5418,"樗木之灵的幻影","",{"$nulls":5},100,{"$f":"IF(J374=\"\",\"\",VLOOKUP(J374,EventNPC!A:E,5,FALSE))","v":"玩家"},5427,"（这些幻影……定然是阵法在作祟。）\n看来不打败它们，就过不去这迷雾了。",null,10027,29,"",null,null,{"$f":"IF(R374=\"\",\"\",\"-\"&VLOOKUP(R374,EventConditionConfig!A:C,3,FALSE)&IF(S374=\"\",\"\",CHAR(10)&\"-\"&VLOOKUP(S374,EventConditionConfig!A:C,3,FALSE)))","v":""},2,1012,"","",1012,null,"",null,null,"",{"$nulls":4},{"$f":"IF(A374=\"\",\"\",IF(ISNUMBER(Y374),2,IF(A375=\"\",IF(OR(AK374>0,VLOOKUP(O374,EventConfig!A:C,3,FALSE)=4),3,\"\"),1)))","v":2},"1002730;101",null,5427]
[1002730,5418,"樗木之灵的幻影","",{"$nulls":5},100,{"$f":"IF(J375=\"\",\"\",VLOOKUP(J375,EventNPC!A:E,5,FALSE))","v":"玩家"},5428,"雾散了……前方山路清晰了许多。",null,10027,30,"",null,null,{"$f":"IF(R375=\"\",\"\",\"-\"&VLOOKUP(R375,EventConditionConfig!A:C,3,FALSE)&IF(S375=\"\",\"\",CHAR(10)&\"-\"&VLOOKUP(S375,EventConditionConfig!A:C,3,FALSE)))","v":""},"","","","",null,null,"",null,null,"",{"$nulls":4},{"$f":"IF(A375=\"\",\"\",IF(ISNUMBER(Y375),2,IF(A376=\"\",IF(OR(AK375>0,VLOOKUP(O375,EventConfig!A:C,3,FALSE)=4),3,\"\"),1)))","v":1},1002731,null,5428]
[{"$f":"O376*100+P376","v":1002731},5418,"樗木之灵的幻影","",{"$nulls":5},100,{"$f":"IF(J376=\"\",\"\",VLOOKUP(J376,EventNPC!A:E,5,FALSE))","v":"玩家"},5429,"小麻雀嘲笑远飞无用，只求树间的小乐；",null,10027,31,{"$f":"_xlfn.TEXTJOIN(\";\",1,R376:S376)","v":""},null,null,{"$f":"IF(R376=\"\",\"\",\"-\"&VLOOKUP(R376,EventConditionConfig!A:C,3,FALSE)&IF(S376=\"\",\"\",CHAR(10)&\"-\"&VLOOKUP(S376,EventConditionConfig!A:C,3,FALSE)))","v":""},{"$f":"IF(Y376=\"\",\"\",IF(ISTEXT(Y376),1,2))","v":""},"","","",null,null,"",null,null,"",{"$nulls":4},{"$f":"IF(A376=\"\",\"\",IF(ISNUMBER(Y376),2,IF(A377=\"\",IF(OR(AK376>0,VLOOKUP(O376,EventConfig!A:C,3,FALSE)=4),3,\"\"),1)))","v":1},1002732,null,5429]
[{"$f":"O377*100+P377","v":1002732},5418,"樗木之灵的幻影","",{"$nulls":5},100,{"$f":"IF(J377=\"\",\"\",VLOOKUP(J377,EventNPC!A:E,5,FALSE))","v":"玩家"},5430,"疯道人叹息苦修难进，劝我守住当下；",null,10027,32,{"$f":"_xlfn.TEXTJOIN(\";\",1,R377:S377)","v":""},null,null,{"$f":"IF(R377=\"\",\"\",\"-\"&VLOOKUP(R377,EventConditionConfig!A:C,3,FALSE)&IF(S377=\"\",\"\",CHAR(10)&\"-\"&VLOOKUP(S377,EventConditionConfig!A:C,3,FALSE)))","v":""},{"$f":"IF(Y377=\"\",\"\",IF(ISTEXT(Y377),1,2))","v":""},"","","",null,null,"",null,null,"",{"$nulls":4},{"$f":"IF(A377=\"\",\"\",IF(ISNUMBER(Y377),2,IF(A378=\"\",IF(OR(AK377>0,VLOOKUP(O377,EventConfig!A:C,3,FALSE)=4),3,\"\"),1)))","v":1},1002733,null,5430]
[{"$f":"O378*100+P378","v":1002733},5418,"樗木之灵的幻影","",{"$nulls":5},100,{"$f":"IF(J378=\"\",\"\",VLOOKUP(J378,EventNPC!A:E,5,FALSE))","v":"玩家"},5431,"樗木之灵诉说无用才能长存，忙碌总归尘土。",null,10027,33,{"$f":"_xlfn.TEXTJOIN(\";\",1,R378:S378)","v":""},null,null,{"$f":"IF(R378=\"\",\"\",\"-\"&VLOOKUP(R378,EventConditionConfig!A:C,3,FALSE)&IF(S378=\"\",\"\",CHAR(10)&\"-\"&VLOOKUP(S378,EventConditionConfig!A:C,3,FALSE)))","v":""},{"$f":"IF(Y378=\"\",\"\",IF(ISTEXT(Y378),1,2))","v":""},"","","",null,null,"",null,null,"",{"$nulls":4},{"$f":"IF(A378=\"\",\"\",IF(ISNUMBER(Y378),2,IF(A379=\"\",IF(OR(AK378>0,VLOOKUP(O378,EventConfig!A:C,3,FALSE)=4),3,\"\"),1)))","v":1},1002734,null,5431]
[{"$f":"O379*100+P379","v":1002734},5418,"樗木之灵的幻影","",{"$nulls":5},100,{"$f":"IF(J379=\"\",\"\",VLOOKUP(J379,EventNPC!A:E,5,FALSE))","v":"玩家"},5432,"听着都有些道理，却又说不清哪里不对，令我心神不宁！!",null,10027,34,{"$f":"_xlfn.TEXTJOIN(\";\",1,R379:S379)","v":""},null,null,{"$f":"IF(R379=\"\",\"\",\"-\"&VLOOKUP(R379,EventConditionConfig!A:C,3,FALSE)&IF(S379=\"\",\"\",CHAR(10)&\"-\"&VLOOKUP(S379,EventConditionConfig!A:C,3,FALSE)))","v":""},{"$f":"IF(Y379=\"\",\"\",IF(ISTEXT(Y379),1,2))","v":""},"","","",null,null,"",null,null,"",{"$nulls":4},{"$f":"IF(A379=\"\",\"\",IF(ISNUMBER(Y379),2,IF(A380=\"\",IF(OR(AK379>0,VLOOKUP(O379,EventConfig!A:C,3,FALSE)=4),3,\"\"),1)))","v":1},1002735,null,5432]
[{"$f":"O380*100+P380","v":1002735},5418,"樗木之灵的幻影","",{"$nulls":5},100,{"$f":"IF(J380=\"\",\"\",VLOOKUP(J380,EventNPC!A:E,5,FALSE))","v":"玩家"},5433,"我的修仙之路，到底在何方啊？",null,10027,35,{"$f":"_xlfn.TEXTJOIN(\";\",1,R380:S380)","v":""},null,null,{"$f":"IF(R380=\"\",\"\",\"-\"&VLOOKUP(R380,EventConditionConfig!A:C,3,FALSE)&IF(S380=\"\",\"\",CHAR(10)&\"-\"&VLOOKUP(S380,EventConditionConfig!A:C,3,FALSE)))","v":""},{"$f":"IF(Y380=\"\",\"\",IF(ISTEXT(Y380),1,2))","v":""},"","","",null,null,"",null,null,"",{"$nulls":4},{"$f":"IF(A380=\"\",\"\",IF(ISNUMBER(Y380),2,IF(A381=\"\",IF(OR(AK380>0,VLOOKUP(O380,EventConfig!A:C,3,FALSE)=4),3,\"\"),1)))","v":1},1002736,null,5433]
[1002736,5418,"樗木之灵的幻影","",{"$nulls":6},{"$f":"IF(J381=\"\",\"\",VLOOKUP(J381,EventNPC!A:E,5,FALSE))","v":""},"",null,null,10027,36,"32",32,null,{"$f":"IF(R381=\"\",\"\",\"-\"&VLOOKUP(R381,EventConditionConfig!A:C,3,FALSE)&IF(S381=\"\",\"\",CHAR(10)&\"-\"&VLOOKUP(S381,EventConditionConfig!A:C,3,FALSE)))","v":"-达到境界：化神-前期"},{"$f":"IF(Y381=\"\",\"\",1)","v":""},"","","",null,null,"",null,null,"",{"$nulls":4},{"$f":"IF(A381=\"\",\"\",IF(ISNUMBER(Y381),2,IF(A382=\"\",IF(OR(AK381>0,VLOOKUP(O381,EventConfig!A:C,3,FALSE)=4),3,\"\"),1)))","v":3},10028,null,5433]
[null,"",null,"",{"$nulls":7},"",null,null,null,"",{"$nulls":5},"","","",null,null,"",null,null,"",{"$nulls":4},{"$f":"IF(A382=\"\",\"\",IF(ISNUMBER(Y382),2,IF(A383=\"\",IF(OR(AK382>0,VLOOKUP(O382,EventConfig!A:C,3,FALSE)=4),3,\"\"),1)))","v":""},"",null,""]
[{"$f":"O383*100+P383","v":1002801},5434,"神识探索的奥秘","",{"$nulls":6},{"$f":"IF(J383=\"\",\"\",VLOOKUP(J383,EventNPC!A:E,5,FALSE))","v":""},"",null,null,{"$f":"IF(O382=\"\",O380+1,O382)","v":10028},1,{"$f":"_xlfn.TEXTJOIN(\";\",1,R383:S383)","v":"27"},27,null,{"$f":"IF(R383=\"\",\"\",\"-\"&VLOOKUP(R383,EventConditionConfig!A:C,3,FALSE)&IF(S383=\"\",\"\",CHAR(10)&\"-\"&VLOOKUP(S383,EventConditionConfig!A:C,3,FALSE)))","v":"-收集并饮用甘露"},{"$f":"IF(Y383=\"\",\"\",IF(ISTEXT(Y383),1,2))","v":""},"","","",null,null,"",null,null,"",null,null,1003,-1000,{"$f":"IF(A383=\"\",\"\",IF(ISNUMBER(Y383),2,IF(A384=\"\",IF(OR(AK383>0,VLOOKUP(O383,EventConfig!A:C,3,FALSE)=4),3,\"\"),1)))","v":3},10029,null,5434]
[null,"",null,"",{"$nulls":7},"",null,null,null,"",{"$nulls":5},"","","",null,null,"",null,null,"",{"$nulls":4},{"$f":"IF(A384=\"\",\"\",IF(ISNUMBER(Y384),2,IF(A385=\"\",IF(OR(AK384>0,VLOOKUP(O384,EventConfig!A:C,3,FALSE)=4),3,\"\"),1)))","v":""},"",null,""]
[{"$f":"O385*100+P385","v":1002901},5435,"与神仙对话","",{"$nulls":6},{"$f":"IF(J385=\"\",\"\",VLOOKUP(J385,EventNPC!A:E,5,FALSE))","v":""},5436,"你终于登顶藐姑射山。",null,10029,1,{"$f":"_xlfn.TEXTJOIN(\";\",1,R385:S385)","v":""},null,null,{"$f":"IF(R385=\"\",\"\",\"-\"&VLOOKUP(R385,EventConditionConfig!A:C,3,FALSE)&IF(S385=\"\",\"\",CHAR(10)&\"-\"&VLOOKUP(S385,EventConditionConfig!A:C,3,FALSE)))","v":""},{"$f":"IF(Y385=\"\",\"\",IF(ISTEXT(Y385),1,2))","v":""},"","","",null,null,"",null,null,"",{"$nulls":4},{"$f":"IF(A385=\"\",\"\",IF(ISNUMBER(Y385),2,IF(A386=\"\",IF(OR(AK385>0,VLOOKUP(O385,EventConfig!A:C,3,FALSE)=4),3,\"\"),1)))","v":1},1002902,null,5436]
[{"$f":"O386*100+P386","v":1002902},5435,"与神仙对话","",{"$nulls":6},{"$f":"IF(J386=\"\",\"\",VLOOKUP(J386,EventNPC!A:E,5,FALSE))","v":""},5437,"峰顶云海翻涌，一位神人独立于虚空：皮肤如冰雪，体态柔美，乘云气，御飞龙，周身无尘世之气。",null,10029,2,{"$f":"_xlfn.TEXTJOIN(\";\",1,R386:S386)","v":""},null,null,{"$f":"IF(R386=\"\",\"\",\"-\"&VLOOKUP(R386,EventConditionConfig!A:C,3,FALSE)&IF(S386=\"\",\"\",CHAR(10)&\"-\"&VLOOKUP(S386,EventConditionConfig!A:C,3,FALSE)))","v":""},{"$f":"IF(Y386=\"\",\"\",IF(ISTEXT(Y386),1,2))","v":""},"","","",null,null,"",null,null,"",{"$nulls":4},{"$f":"IF(A386=\"\",\"\",IF(ISNUMBER(Y386),2,IF(A387=\"\",IF(OR(AK386>0,VLOOKUP(O386,EventConfig!A:C,3,FALSE)=4),3,\"\"),1)))","v":1},1002903,null,5437]
[{"$f":"O387*100+P387","v":1002903},5435,"与神仙对话","",{"$nulls":6},{"$f":"IF(J387=\"\",\"\",VLOOKUP(J387,EventNPC!A:E,5,FALSE))","v":""},5438,"她不言不语，却似洞察万物。与尧帝描述相同，你在她面前，自觉渺小。",null,10029,3,{"$f":"_xlfn.TEXTJOIN(\";\",1,R387:S387)","v":""},null,null,{"$f":"IF(R387=\"\",\"\",\"-\"&VLOOKUP(R387,EventConditionConfig!A:C,3,FALSE)&IF(S387=\"\",\"\",CHAR(10)&\"-\"&VLOOKUP(S387,EventConditionConfig!A:C,3,FALSE)))","v":""},{"$f":"IF(Y387=\"\",\"\",IF(ISTEXT(Y387),1,2))","v":""},"","","",null,null,"",null,null,"",{"$nulls":4},{"$f":"IF(A387=\"\",\"\",IF(ISNUMBER(Y387),2,IF(A388=\"\",IF(OR(AK387>0,VLOOKUP(O387,EventConfig!A:C,3,FALSE)=4),3,\"\"),1)))","v":1},1002904,null,5438]
[{"$f":"O388*100+P388","v":1002904},5435,"与神仙对话","",{"$nulls":5},100,{"$f":"IF(J388=\"\",\"\",VLOOKUP(J388,EventNPC!A:E,5,FALSE))","v":"玩家"},5439,"晚辈游历至此，求见神人，望赐教“逍遥”之道。",null,10029,4,{"$f":"_xlfn.TEXTJOIN(\";\",1,R388:S388)","v":""},null,null,{"$f":"IF(R388=\"\",\"\",\"-\"&VLOOKUP(R388,EventConditionConfig!A:C,3,FALSE)&IF(S388=\"\",\"\",CHAR(10)&\"-\"&VLOOKUP(S388,EventConditionConfig!A:C,3,FALSE)))","v":""},{"$f":"IF(Y388=\"\",\"\",IF(ISTEXT(Y388),1,2))","v":""},"","","",null,null,"",null,null,"",{"$nulls":4},{"$f":"IF(A388=\"\",\"\",IF(ISNUMBER(Y388),2,IF(A389=\"\",IF(OR(AK388>0,VLOOKUP(O388,EventConfig!A:C,3,FALSE)=4),3,\"\"),1)))","v":1},1002905,null,5439]
[{"$f":"O389*100+P389","v":1002905},5435,"与神仙对话","",{"$nulls":5},100,{"$f":"IF(J389=\"\",\"\",VLOOKUP(J389,EventNPC!A:E,5,FALSE))","v":"玩家"},5440,"冲虚真人指引我寻七道心境，此山可是其中一处？",null,10029,5,{"$f":"_xlfn.TEXTJOIN(\";\",1,R389:S389)","v":""},null,null,{"$f":"IF(R389=\"\",\"\",\"-\"&VLOOKUP(R389,EventConditionConfig!A:C,3,FALSE)&IF(S389=\"\",\"\",CHAR(10)&\"-\"&VLOOKUP(S389,EventConditionConfig!A:C,3,FALSE)))","v":""},{"$f":"IF(Y389=\"\",\"\",IF(ISTEXT(Y389),1,2))","v":""},"","","",null,null,"",null,null,"",{"$nulls":4},{"$f":"IF(A389=\"\",\"\",IF(ISNUMBER(Y389),2,IF(A390=\"\",IF(OR(AK389>0,VLOOKUP(O389,EventConfig!A:C,3,FALSE)=4),3,\"\"),1)))","v":1},1002906,null,5440]
[{"$f":"O390*100+P390","v":1002906},5435,"与神仙对话",{"$f":"IF(E390=\"\",\"\",IF(E390=E389,D389,MAX(AL389,AL388,B390)+1))","v":""},{"$nulls":5},118,{"$f":"IF(J390=\"\",\"\",VLOOKUP(J390,EventNPC!A:E,5,FALSE))","v":"神人"},{"$f":"IF(M390=\"\",\"\",MAX(AL389,AL388,B390,D390)+1)","v":5441},"（声音如风过林）“逍遥？何为逍遥？”",null,10029,6,{"$f":"_xlfn.TEXTJOIN(\";\",1,R390:S390)","v":""},null,null,{"$f":"IF(R390=\"\",\"\",\"-\"&VLOOKUP(R390,EventConditionConfig!A:C,3,FALSE)&IF(S390=\"\",\"\",CHAR(10)&\"-\"&VLOOKUP(S390,EventConditionConfig!A:C,3,FALSE)))","v":""},{"$f":"IF(Y390=\"\",\"\",IF(ISTEXT(Y390),1,2))","v":1},"1002907;1002908","5442;5443",5442,"如鲲鹏般鹏飞九万里。",{"$f":"A391","v":1002907},5443,"如许由般放下天下，隐于山林。",{"$f":"A392","v":1002908},"",null,{"$f":"D392","v":""},null,null,{"$f":"IF(A390=\"\",\"\",IF(ISNUMBER(Y390),2,IF(A391=\"\",IF(OR(AK390>0,VLOOKUP(O390,EventConfig!A:C,3,FALSE)=4),3,\"\"),1)))","v":1},1002907,null,{"$f":"IF(A390=\"\",\"\",MAX(B390,D390,L390,X390,AA390,AL389,AL388,AD390))","v":5443}]
[{"$f":"O391*100+P391","v":1002907},5435,"与神仙对话","",{"$nulls":5},118,{"$f":"IF(J391=\"\",\"\",VLOOKUP(J391,EventNPC!A:E,5,FALSE))","v":"神人"},5444,"鲲鹏待风方起，才能飞九万里。",null,10029,7,{"$f":"_xlfn.TEXTJOIN(\";\",1,R391:S391)","v":""},null,null,{"$f":"IF(R391=\"\",\"\",\"-\"&VLOOKUP(R391,EventConditionConfig!A:C,3,FALSE)&IF(S391=\"\",\"\",CHAR(10)&\"-\"&VLOOKUP(S391,EventConditionConfig!A:C,3,FALSE)))","v":""},{"$f":"IF(Y391=\"\",\"\",IF(ISTEXT(Y391),1,2))","v":1},"1002909;1002910","5445;5446",5445,"如樗木般无用，长存千年。",{"$f":"A393","v":1002909},5446,"如麻雀般，知足常乐",{"$f":"A394","v":1002910},"",null,{"$f":"D394","v":""},null,null,{"$f":"IF(A391=\"\",\"\",IF(ISNUMBER(Y391),2,IF(A392=\"\",IF(OR(AK391>0,VLOOKUP(O391,EventConfig!A:C,3,FALSE)=4),3,\"\"),1)))","v":1},1002908,null,5446]
[{"$f":"O392*100+P392","v":1002908},5435,"与神仙对话","",{"$nulls":5},118,{"$f":"IF(J392=\"\",\"\",VLOOKUP(J392,EventNPC!A:E,5,FALSE))","v":"神人"},5447,"许由避世却仍有心扰。",null,10029,8,{"$f":"_xlfn.TEXTJOIN(\";\",1,R392:S392)","v":""},null,null,{"$f":"IF(R392=\"\",\"\",\"-\"&VLOOKUP(R392,EventConditionConfig!A:C,3,FALSE)&IF(S392=\"\",\"\",CHAR(10)&\"-\"&VLOOKUP(S392,EventConditionConfig!A:C,3,FALSE)))","v":""},{"$f":"IF(Y392=\"\",\"\",IF(ISTEXT(Y392),1,2))","v":1},"1002909;1002910","5448;5449",5448,"如樗木般无用，长存千年。",{"$f":"A393","v":1002909},5449,"如麻雀般，知足常乐",{"$f":"A394","v":1002910},"",null,{"$f":"D394","v":""},null,null,{"$f":"IF(A392=\"\",\"\",IF(ISNUMBER(Y392),2,IF(A393=\"\",IF(OR(AK392>0,VLOOKUP(O392,EventConfig!A:C,3,FALSE)=4),3,\"\"),1)))","v":1},1002909,null,5449]
[{"$f":"O393*100+P393","v":1002909},5435,"与神仙对话","",{"$nulls":5},118,{"$f":"IF(J393=\"\",\"\",VLOOKUP(J393,EventNPC!A:E,5,FALSE))","v":"神人"},5450,"樗木不动岂知四海？",null,10029,9,{"$f":"_xlfn.TEXTJOIN(\";\",1,R393:S393)","v":""},null,null,{"$f":"IF(R393=\"\",\"\",\"-\"&VLOOKUP(R393,EventConditionConfig!A:C,3,FALSE)&IF(S393=\"\",\"\",CHAR(10)&\"-\"&VLOOKUP(S393,EventConditionConfig!A:C,3,FALSE)))","v":""},{"$f":"IF(Y393=\"\",\"\",IF(ISTEXT(Y393),1,2))","v":""},"","","",null,null,"",null,null,"",{"$nulls":4},{"$f":"IF(A393=\"\",\"\",IF(ISNUMBER(Y393),2,IF(A394=\"\",IF(OR(AK393>0,VLOOKUP(O393,EventConfig!A:C,3,FALSE)=4),3,\"\"),1)))","v":1},1002911,{"$f":"A395","v":1002911},5450]
[{"$f":"O394*100+P394","v":1002910},5435,"与神仙对话","",{"$nulls":5},118,{"$f":"IF(J394=\"\",\"\",VLOOKUP(J394,EventNPC!A:E,5,FALSE))","v":"神人"},5451,"麻雀虽长乐，却嘲笑大鹏。",null,10029,10,{"$f":"_xlfn.TEXTJOIN(\";\",1,R394:S394)","v":""},null,null,{"$f":"IF(R394=\"\",\"\",\"-\"&VLOOKUP(R394,EventConditionConfig!A:C,3,FALSE)&IF(S394=\"\",\"\",CHAR(10)&\"-\"&VLOOKUP(S394,EventConditionConfig!A:C,3,FALSE)))","v":""},{"$f":"IF(Y394=\"\",\"\",IF(ISTEXT(Y394),1,2))","v":""},"","","",null,null,"",null,null,"",{"$nulls":4},{"$f":"IF(A394=\"\",\"\",IF(ISNUMBER(Y394),2,IF(A395=\"\",IF(OR(AK394>0,VLOOKUP(O394,EventConfig!A:C,3,FALSE)=4),3,\"\"),1)))","v":1},1002911,{"$f":"A395","v":1002911},5451]
[{"$f":"O395*100+P395","v":1002911},5435,"与神仙对话","",{"$nulls":5},100,{"$f":"IF(J395=\"\",\"\",VLOOKUP(J395,EventNPC!A:E,5,FALSE))","v":"玩家"},5452,"（苦笑）请恕晚辈愚钝，无法理解何为逍遥，只觉心烦意乱。",null,10029,11,{"$f":"_xlfn.TEXTJOIN(\";\",1,R395:S395)","v":""},null,null,{"$f":"IF(R395=\"\",\"\",\"-\"&VLOOKUP(R395,EventConditionConfig!A:C,3,FALSE)&IF(S395=\"\",\"\",CHAR(10)&\"-\"&VLOOKUP(S395,EventConditionConfig!A:C,3,FALSE)))","v":""},{"$f":"IF(Y395=\"\",\"\",IF(ISTEXT(Y395),1,2))","v":""},"","","",null,null,"",null,null,"",{"$nulls":4},{"$f":"IF(A395=\"\",\"\",IF(ISNUMBER(Y395),2,IF(A396=\"\",IF(OR(AK395>0,VLOOKUP(O395,EventConfig!A:C,3,FALSE)=4),3,\"\"),1)))","v":1},1002912,null,5452]
[{"$f":"O396*100+P396","v":1002912},5435,"与神仙对话","",{"$nulls":5},118,{"$f":"IF(J396=\"\",\"\",VLOOKUP(J396,EventNPC!A:E,5,FALSE))","v":"神人"},5453,"真正的逍遥是：乘天地之正，御六气之辩。",null,10029,12,{"$f":"_xlfn.TEXTJOIN(\";\",1,R396:S396)","v":""},null,null,{"$f":"IF(R396=\"\",\"\",\"-\"&VLOOKUP(R396,EventConditionConfig!A:C,3,FALSE)&IF(S396=\"\",\"\",CHAR(10)&\"-\"&VLOOKUP(S396,EventConditionConfig!A:C,3,FALSE)))","v":""},{"$f":"IF(Y396=\"\",\"\",IF(ISTEXT(Y396),1,2))","v":""},"","","",null,null,"",null,null,"",{"$nulls":4},{"$f":"IF(A396=\"\",\"\",IF(ISNUMBER(Y396),2,IF(A397=\"\",IF(OR(AK396>0,VLOOKUP(O396,EventConfig!A:C,3,FALSE)=4),3,\"\"),1)))","v":1},1002913,null,5453]
[{"$f":"O397*100+P397","v":1002913},{"$f":"IF(C397=\"\",\"\",IF(C397=C396,B396,MAX(AL396,AL395)+1))","v":5435},"与神仙对话","",{"$nulls":5},100,{"$f":"IF(J397=\"\",\"\",VLOOKUP(J397,EventNPC!A:E,5,FALSE))","v":"玩家"},5454,"什么是“乘天地之正，御六气之辩”？",null,10029,13,{"$f":"_xlfn.TEXTJOIN(\";\",1,R397:S397)","v":""},null,null,{"$f":"IF(R397=\"\",\"\",\"-\"&VLOOKUP(R397,EventConditionConfig!A:C,3,FALSE)&IF(S397=\"\",\"\",CHAR(10)&\"-\"&VLOOKUP(S397,EventConditionConfig!A:C,3,FALSE)))","v":""},{"$f":"IF(Y397=\"\",\"\",IF(ISTEXT(Y397),1,2))","v":""},"","",{"$f":"IF(OR(ISNUMBER(Y397),Y397=\"\"),\"\",MAX(AL396,AL394,B397,D397,L397)+1)","v":""},null,null,{"$f":"IF(OR(ISNUMBER(AB397),AB397=\"\"),\"\",X397+1)","v":""},null,null,{"$f":"IF(OR(ISNUMBER(AE397),AE397=\"\"),\"\",AA397+1)","v":""},{"$nulls":4},{"$f":"IF(A397=\"\",\"\",IF(ISNUMBER(Y397),2,IF(A398=\"\",IF(OR(AK397>0,VLOOKUP(O397,EventConfig!A:C,3,FALSE)=4),3,\"\"),1)))","v":1},1002914,null,5454]
[1002914,5435,"与神仙对话","",{"$nulls":5},118,{"$f":"IF(J398=\"\",\"\",VLOOKUP(J398,EventNPC!A:E,5,FALSE))","v":"神人"},5455,"便是不依附外物，不执着内心。",null,10029,14,"",null,null,{"$f":"IF(R398=\"\",\"\",\"-\"&VLOOKUP(R398,EventConditionConfig!A:C,3,FALSE)&IF(S398=\"\",\"\",CHAR(10)&\"-\"&VLOOKUP(S398,EventConditionConfig!A:C,3,FALSE)))","v":""},"",{"$f":"IF(U398=1,_xlfn.TEXTJOIN(\";\",1,IF(Z398=\"\",A398+1,Z398),IF(AND(AA398<>\"\",AC398=\"\"),A398+1,AC398),IF(AND(AD398<>\"\",AF398=\"\"),A398+1,AF398)),IF(U398=2,Y398,\"\"))","v":""},{"$f":"_xlfn.TEXTJOIN(\";\",1,X398,AA398,AD398)","v":""},"",null,null,"",null,null,"",{"$nulls":4},{"$f":"IF(A398=\"\",\"\",IF(ISNUMBER(Y398),2,IF(A399=\"\",IF(OR(AK398>0,VLOOKUP(O398,EventConfig!A:C,3,FALSE)=4),3,\"\"),1)))","v":1},{"$f":"IF(AI398=\"\",\"\",CHOOSE(AI398,IF(AK398=\"\",A398+1,AK398),CONCATENATE(IF(AK398=\"\",A398+1,AK398),\";101\"),IF(AK398=\"\",O398+1,AK398)))","v":1002915},null,5455]
[{"$f":"O399*100+P399","v":1002915},5435,"与神仙对话","",{"$nulls":5},118,{"$f":"IF(J399=\"\",\"\",VLOOKUP(J399,EventNPC!A:E,5,FALSE))","v":"神人"},5456,"能顺应天地的自然规律，驾驭风云的变化。",null,10029,15,{"$f":"_xlfn.TEXTJOIN(\";\",1,R399:S399)","v":""},null,null,{"$f":"IF(R399=\"\",\"\",\"-\"&VLOOKUP(R399,EventConditionConfig!A:C,3,FALSE)&IF(S399=\"\",\"\",CHAR(10)&\"-\"&VLOOKUP(S399,EventConditionConfig!A:C,3,FALSE)))","v":""},{"$f":"IF(Y399=\"\",\"\",IF(ISTEXT(Y399),1,2))","v":""},"","","",null,null,"",null,null,"",{"$nulls":4},{"$f":"IF(A399=\"\",\"\",IF(ISNUMBER(Y399),2,IF(A400=\"\",IF(OR(AK399>0,VLOOKUP(O399,EventConfig!A:C,3,FALSE)=4),3,\"\"),1)))","v":1},1002916,null,5456]
[{"$f":"O400*100+P400","v":1002916},5435,"与神仙对话","",{"$nulls":5},118,{"$f":"IF(J400=\"\",\"\",VLOOKUP(J400,EventNPC!A:E,5,FALSE))","v":"神人"},5457,"这样的人，心无挂碍，来去如风，逍遥自在。",null,10029,16,{"$f":"_xlfn.TEXTJOIN(\";\",1,R400:S400)","v":""},null,null,{"$f":"IF(R400=\"\",\"\",\"-\"&VLOOKUP(R400,EventConditionConfig!A:C,3,FALSE)&IF(S400=\"\",\"\",CHAR(10)&\"-\"&VLOOKUP(S400,EventConditionConfig!A:C,3,FALSE)))","v":""},{"$f":"IF(Y400=\"\",\"\",IF(ISTEXT(Y400),1,2))","v":""},"","","",null,null,"",null,null,"",{"$nulls":4},{"$f":"IF(A400=\"\",\"\",IF(ISNUMBER(Y400),2,IF(A401=\"\",IF(OR(AK400>0,VLOOKUP(O400,EventConfig!A:C,3,FALSE)=4),3,\"\"),1)))","v":1},1002917,null,5457]
[1002917,5435,"与神仙对话","",{"$nulls":5},100,{"$f":"IF(J401=\"\",\"\",VLOOKUP(J401,EventNPC!A:E,5,FALSE))","v":"玩家"},5458,"这境界听来高远，请神人指点！",null,10029,17,"",null,null,{"$f":"IF(R401=\"\",\"\",\"-\"&VLOOKUP(R401,EventConditionConfig!A:C,3,FALSE)&IF(S401=\"\",\"\",CHAR(10)&\"-\"&VLOOKUP(S401,EventConditionConfig!A:C,3,FALSE)))","v":""},"","","","",null,null,"",null,null,"",{"$nulls":4},{"$f":"IF(A401=\"\",\"\",IF(ISNUMBER(Y401),2,IF(A402=\"\",IF(OR(AK401>0,VLOOKUP(O401,EventConfig!A:C,3,FALSE)=4),3,\"\"),1)))","v":1},1002918,null,5458]
[1002918,5435,"与神仙对话","",{"$nulls":5},118,{"$f":"IF(J402=\"\",\"\",VLOOKUP(J402,EventNPC!A:E,5,FALSE))","v":"神人"},5459,"你已历诸多事，却仍有心魔缠身。看清自己，方能破之。\n（神人一挥手，云海中现出一面灵镜，映出你的身影）",null,10029,18,"",null,null,{"$f":"IF(R402=\"\",\"\",\"-\"&VLOOKUP(R402,EventConditionConfig!A:C,3,FALSE)&IF(S402=\"\",\"\",CHAR(10)&\"-\"&VLOOKUP(S402,EventConditionConfig!A:C,3,FALSE)))","v":""},"","","","",null,null,"",null,null,"",{"$nulls":4},{"$f":"IF(A402=\"\",\"\",IF(ISNUMBER(Y402),2,IF(A403=\"\",IF(OR(AK402>0,VLOOKUP(O402,EventConfig!A:C,3,FALSE)=4),3,\"\"),1)))","v":1},1002919,null,5459]
[{"$f":"O403*100+P403","v":1002919},5435,"与神仙对话","",{"$nulls":5},118,{"$f":"IF(J403=\"\",\"\",VLOOKUP(J403,EventNPC!A:E,5,FALSE))","v":"神人"},5460,"此镜照心。击败它，便知一二。",null,10029,19,{"$f":"_xlfn.TEXTJOIN(\";\",1,R403:S403)","v":""},null,null,{"$f":"IF(R403=\"\",\"\",\"-\"&VLOOKUP(R403,EventConditionConfig!A:C,3,FALSE)&IF(S403=\"\",\"\",CHAR(10)&\"-\"&VLOOKUP(S403,EventConditionConfig!A:C,3,FALSE)))","v":""},{"$f":"IF(Y403=\"\",\"\",IF(ISTEXT(Y403),1,2))","v":""},"","","",null,null,"",null,null,"",{"$nulls":4},{"$f":"IF(A403=\"\",\"\",IF(ISNUMBER(Y403),2,IF(A404=\"\",IF(OR(AK403>0,VLOOKUP(O403,EventConfig!A:C,3,FALSE)=4),3,\"\"),1)))","v":1},1002920,null,5460]
[1002920,5435,"与神仙对话","",{"$nulls":6},{"$f":"IF(J404=\"\",\"\",VLOOKUP(J404,EventNPC!A:E,5,FALSE))","v":""},"",null,null,10029,20,"33",33,null,{"$f":"IF(R404=\"\",\"\",\"-\"&VLOOKUP(R404,EventConditionConfig!A:C,3,FALSE)&IF(S404=\"\",\"\",CHAR(10)&\"-\"&VLOOKUP(S404,EventConditionConfig!A:C,3,FALSE)))","v":"-达到境界：化神-中期"},{"$f":"IF(Y404=\"\",\"\",1)","v":""},"","","",null,null,"",null,null,"",{"$nulls":4},{"$f":"IF(A404=\"\",\"\",IF(ISNUMBER(Y404),2,IF(A405=\"\",IF(OR(AK404>0,VLOOKUP(O404,EventConfig!A:C,3,FALSE)=4),3,\"\"),1)))","v":3},10030,null,5460]
[null,"",null,"",{"$nulls":7},"",null,null,null,"",{"$nulls":5},"","","",null,null,"",null,null,"",{"$nulls":4},{"$f":"IF(A405=\"\",\"\",IF(ISNUMBER(Y405),2,IF(A406=\"\",IF(OR(AK405>0,VLOOKUP(O405,EventConfig!A:C,3,FALSE)=4),3,\"\"),1)))","v":""},"",null,""]
[{"$f":"O406*100+P406","v":1003001},"",null,5461,"击败心魔",{"$nulls":5},{"$f":"IF(J406=\"\",\"\",VLOOKUP(J406,EventNPC!A:E,5,FALSE))","v":""},"",null,null,{"$f":"IF(O405=\"\",O403+1,O405)","v":10030},1,{"$f":"_xlfn.TEXTJOIN(\";\",1,R406:S406)","v":""},null,null,{"$f":"IF(R406=\"\",\"\",\"-\"&VLOOKUP(R406,EventConditionConfig!A:C,3,FALSE)&IF(S406=\"\",\"\",CHAR(10)&\"-\"&VLOOKUP(S406,EventConditionConfig!A:C,3,FALSE)))","v":""},{"$f":"IF(Y406=\"\",\"\",IF(ISTEXT(Y406),1,2))","v":2},1013,"","",1013,null,"",null,null,"",{"$nulls":4},{"$f":"IF(A406=\"\",\"\",IF(ISNUMBER(Y406),2,IF(A407=\"\",IF(OR(AK406>0,VLOOKUP(O406,EventConfig!A:C,3,FALSE)=4),3,\"\"),1)))","v":2},"1003002;101",null,5461]
[{"$f":"O407*100+P407","v":1003002},5462,"心魔消散","",{"$nulls":5},100,{"$f":"IF(J407=\"\",\"\",VLOOKUP(J407,EventNPC!A:E,5,FALSE))","v":"玩家"},5463,"心魔已破……那些过去的疑问，原来皆是“有所等待”的枷锁。",null,10030,2,{"$f":"_xlfn.TEXTJOIN(\";\",1,R407:S407)","v":"28"},28,null,{"$f":"IF(R407=\"\",\"\",\"-\"&VLOOKUP(R407,EventConditionConfig!A:C,3,FALSE)&IF(S407=\"\",\"\",CHAR(10)&\"-\"&VLOOKUP(S407,EventConditionConfig!A:C,3,FALSE)))","v":"-击败心魔"},{"$f":"IF(Y407=\"\",\"\",IF(ISTEXT(Y407),1,2))","v":""},"","","",null,null,"",null,null,"",{"$nulls":4},{"$f":"IF(A407=\"\",\"\",IF(ISNUMBER(Y407),2,IF(A408=\"\",IF(OR(AK407>0,VLOOKUP(O407,EventConfig!A:C,3,FALSE)=4),3,\"\"),1)))","v":1},1003003,null,5463]
[{"$f":"O408*100+P408","v":1003003},5462,"心魔消散","",{"$nulls":5},100,{"$f":"IF(J408=\"\",\"\",VLOOKUP(J408,EventNPC!A:E,5,FALSE))","v":"玩家"},5464,"鲲鹏待风，我待顿悟。",null,10030,3,{"$f":"_xlfn.TEXTJOIN(\";\",1,R408:S408)","v":""},null,null,{"$f":"IF(R408=\"\",\"\",\"-\"&VLOOKUP(R408,EventConditionConfig!A:C,3,FALSE)&IF(S408=\"\",\"\",CHAR(10)&\"-\"&VLOOKUP(S408,EventConditionConfig!A:C,3,FALSE)))","v":""},{"$f":"IF(Y408=\"\",\"\",IF(ISTEXT(Y408),1,2))","v":""},"","","",null,null,"",null,null,"",{"$nulls":4},{"$f":"IF(A408=\"\",\"\",IF(ISNUMBER(Y408),2,IF(A409=\"\",IF(OR(AK408>0,VLOOKUP(O408,EventConfig!A:C,3,FALSE)=4),3,\"\"),1)))","v":1},1003004,null,5464]
[{"$f":"O409*100+P409","v":1003004},5462,"心魔消散","",{"$nulls":5},100,{"$f":"IF(J409=\"\",\"\",VLOOKUP(J409,EventNPC!A:E,5,FALSE))","v":"玩家"},5465,"不依附外物，不执着内心，就是真正的逍遥！",null,10030,4,{"$f":"_xlfn.TEXTJOIN(\";\",1,R409:S409)","v":""},null,null,{"$f":"IF(R409=\"\",\"\",\"-\"&VLOOKUP(R409,EventConditionConfig!A:C,3,FALSE)&IF(S409=\"\",\"\",CHAR(10)&\"-\"&VLOOKUP(S409,EventConditionConfig!A:C,3,FALSE)))","v":""},{"$f":"IF(Y409=\"\",\"\",IF(ISTEXT(Y409),1,2))","v":""},"","","",null,null,"",null,null,"",{"$nulls":4},{"$f":"IF(A409=\"\",\"\",IF(ISNUMBER(Y409),2,IF(A410=\"\",IF(OR(AK409>0,VLOOKUP(O409,EventConfig!A:C,3,FALSE)=4),3,\"\"),1)))","v":1},1003005,null,5465]
[1003005,5462,"心魔消散","",{"$nulls":5},118,{"$f":"IF(J410=\"\",\"\",VLOOKUP(J410,EventNPC!A:E,5,FALSE))","v":"神人"},5466,"不错。你已领悟第一道心境：逍遥自在。",null,10030,5,"",null,null,{"$f":"IF(R410=\"\",\"\",\"-\"&VLOOKUP(R410,EventConditionConfig!A:C,3,FALSE)&IF(S410=\"\",\"\",CHAR(10)&\"-\"&VLOOKUP(S410,EventConditionConfig!A:C,3,FALSE)))","v":""},"","","","",null,null,"",null,null,"",{"$nulls":4},{"$f":"IF(A410=\"\",\"\",IF(ISNUMBER(Y410),2,IF(A411=\"\",IF(OR(AK410>0,VLOOKUP(O410,EventConfig!A:C,3,FALSE)=4),3,\"\"),1)))","v":1},1003006,null,5466]
[1003006,5462,"心魔消散","",{"$nulls":5},118,{"$f":"IF(J411=\"\",\"\",VLOOKUP(J411,EventNPC!A:E,5,FALSE))","v":"神人"},5467,"心无挂碍，来去如风，你的风灵珠也能发挥更大威力。（乘龙而去）",null,{"$f":"IF(O410=\"\",O409+1,O410)","v":10030},6,"",null,null,{"$f":"IF(R411=\"\",\"\",\"-\"&VLOOKUP(R411,EventConditionConfig!A:C,3,FALSE)&IF(S411=\"\",\"\",CHAR(10)&\"-\"&VLOOKUP(S411,EventConditionConfig!A:C,3,FALSE)))","v":""},"","","","",null,null,"",null,null,"",{"$nulls":4},{"$f":"IF(A411=\"\",\"\",IF(ISNUMBER(Y411),2,IF(A412=\"\",IF(OR(AK411>0,VLOOKUP(O411,EventConfig!A:C,3,FALSE)=4),3,\"\"),1)))","v":1},1003007,null,5467]
[{"$f":"O412*100+P412","v":1003007},5462,"心魔消散","",{"$nulls":5},100,{"$f":"IF(J412=\"\",\"\",VLOOKUP(J412,EventNPC!A:E,5,FALSE))","v":"玩家"},5468,"多谢前辈指点！",null,10030,{"$f":"IF(O412=\"\",\"\",IF(O412=O411,P411+1,1))","v":7},{"$f":"_xlfn.TEXTJOIN(\";\",1,R412:S412)","v":""},null,null,{"$f":"IF(R412=\"\",\"\",\"-\"&VLOOKUP(R412,EventConditionConfig!A:C,3,FALSE)&IF(S412=\"\",\"\",CHAR(10)&\"-\"&VLOOKUP(S412,EventConditionConfig!A:C,3,FALSE)))","v":""},{"$f":"IF(Y412=\"\",\"\",IF(ISTEXT(Y412),1,2))","v":""},"","","",null,null,"",null,null,"",{"$nulls":4},{"$f":"IF(A412=\"\",\"\",IF(ISNUMBER(Y412),2,IF(A413=\"\",IF(OR(AK412>0,VLOOKUP(O412,EventConfig!A:C,3,FALSE)=4),3,\"\"),1)))","v":1},1003008,null,5468]
[1003008,5462,"心魔消散","",{"$nulls":6},{"$f":"IF(J413=\"\",\"\",VLOOKUP(J413,EventNPC!A:E,5,FALSE))","v":""},"",null,null,10030,8,"34",34,null,{"$f":"IF(R413=\"\",\"\",\"-\"&VLOOKUP(R413,EventConditionConfig!A:C,3,FALSE)&IF(S413=\"\",\"\",CHAR(10)&\"-\"&VLOOKUP(S413,EventConditionConfig!A:C,3,FALSE)))","v":"-达到境界：化神-后期"},{"$f":"IF(Y413=\"\",\"\",1)","v":""},"","","",null,null,"",null,null,"",{"$nulls":4},{"$f":"IF(A413=\"\",\"\",IF(ISNUMBER(Y413),2,IF(A414=\"\",IF(OR(AK413>0,VLOOKUP(O413,EventConfig!A:C,3,FALSE)=4),3,\"\"),1)))","v":3},10031,null,5468]
[null,"",null,"",{"$nulls":7},"",null,null,null,"",{"$nulls":5},"","","",null,null,"",null,null,"",{"$nulls":4},{"$f":"IF(A414=\"\",\"\",IF(ISNUMBER(Y414),2,IF(A415=\"\",IF(OR(AK414>0,VLOOKUP(O414,EventConfig!A:C,3,FALSE)=4),3,\"\"),1)))","v":""},"",null,""]
[{"$f":"O415*100+P415","v":1003101},5469,"击败北海妖兽","",{"$nulls":6},{"$f":"IF(J415=\"\",\"\",VLOOKUP(J415,EventNPC!A:E,5,FALSE))","v":""},5470,"你重返北海深处。四处狂风呼啸，你却随风而行，好不自在。",null,{"$f":"IF(O414=\"\",O412+1,O414)","v":10031},1,{"$f":"_xlfn.TEXTJOIN(\";\",1,R415:S415)","v":""},null,null,{"$f":"IF(R415=\"\",\"\",\"-\"&VLOOKUP(R415,EventConditionConfig!A:C,3,FALSE)&IF(S415=\"\",\"\",CHAR(10)&\"-\"&VLOOKUP(S415,EventConditionConfig!A:C,3,FALSE)))","v":""},{"$f":"IF(Y415=\"\",\"\",IF(ISTEXT(Y415),1,2))","v":""},"","","",null,null,"",null,null,"",{"$nulls":4},{"$f":"IF(A415=\"\",\"\",IF(ISNUMBER(Y415),2,IF(A416=\"\",IF(OR(AK415>0,VLOOKUP(O415,EventConfig!A:C,3,FALSE)=4),3,\"\"),1)))","v":1},1003102,null,5470]
[{"$f":"O416*100+P416","v":1003102},5469,"击败北海妖兽","",{"$nulls":6},{"$f":"IF(J416=\"\",\"\",VLOOKUP(J416,EventNPC!A:E,5,FALSE))","v":""},5471,"北海妖兽狂暴异常，挡住去路。",null,10031,2,{"$f":"_xlfn.TEXTJOIN(\";\",1,R416:S416)","v":""},null,null,{"$f":"IF(R416=\"\",\"\",\"-\"&VLOOKUP(R416,EventConditionConfig!A:C,3,FALSE)&IF(S416=\"\",\"\",CHAR(10)&\"-\"&VLOOKUP(S416,EventConditionConfig!A:C,3,FALSE)))","v":""},{"$f":"IF(Y416=\"\",\"\",IF(ISTEXT(Y416),1,2))","v":""},"","","",null,null,"",null,null,"",{"$nulls":4},{"$f":"IF(A416=\"\",\"\",IF(ISNUMBER(Y416),2,IF(A417=\"\",IF(OR(AK416>0,VLOOKUP(O416,EventConfig!A:C,3,FALSE)=4),3,\"\"),1)))","v":1},1003103,null,5471]
[{"$f":"O417*100+P417","v":1003103},5469,"击败北海妖兽","",{"$nulls":5},100,{"$f":"IF(J417=\"\",\"\",VLOOKUP(J417,EventNPC!A:E,5,FALSE))","v":"玩家"},5472,"这些妖兽……看来必须先清扫一番，才能见到鲲鹏。",null,10031,3,{"$f":"_xlfn.TEXTJOIN(\";\",1,R417:S417)","v":""},null,null,{"$f":"IF(R417=\"\",\"\",\"-\"&VLOOKUP(R417,EventConditionConfig!A:C,3,FALSE)&IF(S417=\"\",\"\",CHAR(10)&\"-\"&VLOOKUP(S417,EventConditionConfig!A:C,3,FALSE)))","v":""},{"$f":"IF(Y417=\"\",\"\",IF(ISTEXT(Y417),1,2))","v":2},1014,"","",1014,null,"",null,null,"",{"$nulls":4},{"$f":"IF(A417=\"\",\"\",IF(ISNUMBER(Y417),2,IF(A418=\"\",IF(OR(AK417>0,VLOOKUP(O417,EventConfig!A:C,3,FALSE)=4),3,\"\"),1)))","v":2},"1003104;101",null,5472]
[{"$f":"O418*100+P418","v":1003104},5473,"鲲鹏对话","",{"$nulls":5},100,{"$f":"IF(J418=\"\",\"\",VLOOKUP(J418,EventNPC!A:E,5,FALSE))","v":"玩家"},5474,"妖兽退散了……鲲鹏前辈，我回来了。",null,10031,4,{"$f":"_xlfn.TEXTJOIN(\";\",1,R418:S418)","v":"29"},29,null,{"$f":"IF(R418=\"\",\"\",\"-\"&VLOOKUP(R418,EventConditionConfig!A:C,3,FALSE)&IF(S418=\"\",\"\",CHAR(10)&\"-\"&VLOOKUP(S418,EventConditionConfig!A:C,3,FALSE)))","v":"-击败北海妖兽"},{"$f":"IF(Y418=\"\",\"\",IF(ISTEXT(Y418),1,2))","v":""},"","","",null,null,"",null,null,"",{"$nulls":4},{"$f":"IF(A418=\"\",\"\",IF(ISNUMBER(Y418),2,IF(A419=\"\",IF(OR(AK418>0,VLOOKUP(O418,EventConfig!A:C,3,FALSE)=4),3,\"\"),1)))","v":1},1003105,null,5474]
[{"$f":"O419*100+P419","v":1003105},5473,"鲲鹏对话","",{"$nulls":5},119,{"$f":"IF(J419=\"\",\"\",VLOOKUP(J419,EventNPC!A:E,5,FALSE))","v":"鲲鹏"},5475,"（低沉声，从水底传出）“北海虽广，却无足够之风。我待九万里之飞，已千年。小子，你又来作甚？”",null,10031,5,{"$f":"_xlfn.TEXTJOIN(\";\",1,R419:S419)","v":""},null,null,{"$f":"IF(R419=\"\",\"\",\"-\"&VLOOKUP(R419,EventConditionConfig!A:C,3,FALSE)&IF(S419=\"\",\"\",CHAR(10)&\"-\"&VLOOKUP(S419,EventConditionConfig!A:C,3,FALSE)))","v":""},{"$f":"IF(Y419=\"\",\"\",IF(ISTEXT(Y419),1,2))","v":""},"","","",null,null,"",null,null,"",{"$nulls":4},{"$f":"IF(A419=\"\",\"\",IF(ISNUMBER(Y419),2,IF(A420=\"\",IF(OR(AK419>0,VLOOKUP(O419,EventConfig!A:C,3,FALSE)=4),3,\"\"),1)))","v":1},1003106,null,5475]
[{"$f":"O420*100+P420","v":1003106},5473,"鲲鹏对话","",{"$nulls":5},100,{"$f":"IF(J420=\"\",\"\",VLOOKUP(J420,EventNPC!A:E,5,FALSE))","v":"玩家"},5476,"我历鲲鹏之志、尧让于许、无用之树、仙山神人，终悟“逍遥自在”。",null,10031,6,{"$f":"_xlfn.TEXTJOIN(\";\",1,R420:S420)","v":""},null,null,{"$f":"IF(R420=\"\",\"\",\"-\"&VLOOKUP(R420,EventConditionConfig!A:C,3,FALSE)&IF(S420=\"\",\"\",CHAR(10)&\"-\"&VLOOKUP(S420,EventConditionConfig!A:C,3,FALSE)))","v":""},{"$f":"IF(Y420=\"\",\"\",IF(ISTEXT(Y420),1,2))","v":""},"","","",null,null,"",null,null,"",{"$nulls":4},{"$f":"IF(A420=\"\",\"\",IF(ISNUMBER(Y420),2,IF(A421=\"\",IF(OR(AK420>0,VLOOKUP(O420,EventConfig!A:C,3,FALSE)=4),3,\"\"),1)))","v":1},1003107,null,5476]
[{"$f":"O421*100+P421","v":1003107},5473,"鲲鹏对话","",{"$nulls":5},100,{"$f":"IF(J421=\"\",\"\",VLOOKUP(J421,EventNPC!A:E,5,FALSE))","v":"玩家"},5477,"我已能完整驱动风灵珠，或许能助前辈一臂之力，召唤那九万里之风。",null,10031,7,{"$f":"_xlfn.TEXTJOIN(\";\",1,R421:S421)","v":""},null,null,{"$f":"IF(R421=\"\",\"\",\"-\"&VLOOKUP(R421,EventConditionConfig!A:C,3,FALSE)&IF(S421=\"\",\"\",CHAR(10)&\"-\"&VLOOKUP(S421,EventConditionConfig!A:C,3,FALSE)))","v":""},{"$f":"IF(Y421=\"\",\"\",IF(ISTEXT(Y421),1,2))","v":""},"","","",null,null,"",null,null,"",{"$nulls":4},{"$f":"IF(A421=\"\",\"\",IF(ISNUMBER(Y421),2,IF(A422=\"\",IF(OR(AK421>0,VLOOKUP(O421,EventConfig!A:C,3,FALSE)=4),3,\"\"),1)))","v":1},1003108,null,5477]
[{"$f":"O422*100+P422","v":1003108},5473,"鲲鹏对话","",{"$nulls":5},119,{"$f":"IF(J422=\"\",\"\",VLOOKUP(J422,EventNPC!A:E,5,FALSE))","v":"鲲鹏"},5478,"此话当真？你小子竟有此机缘，与神仙相遇？",null,10031,8,{"$f":"_xlfn.TEXTJOIN(\";\",1,R422:S422)","v":""},null,null,{"$f":"IF(R422=\"\",\"\",\"-\"&VLOOKUP(R422,EventConditionConfig!A:C,3,FALSE)&IF(S422=\"\",\"\",CHAR(10)&\"-\"&VLOOKUP(S422,EventConditionConfig!A:C,3,FALSE)))","v":""},{"$f":"IF(Y422=\"\",\"\",IF(ISTEXT(Y422),1,2))","v":""},"","","",null,null,"",null,null,"",{"$nulls":4},{"$f":"IF(A422=\"\",\"\",IF(ISNUMBER(Y422),2,IF(A423=\"\",IF(OR(AK422>0,VLOOKUP(O422,EventConfig!A:C,3,FALSE)=4),3,\"\"),1)))","v":1},1003109,null,5478]
[1003109,5473,"鲲鹏对话","",{"$nulls":5},100,{"$f":"IF(J423=\"\",\"\",VLOOKUP(J423,EventNPC!A:E,5,FALSE))","v":"玩家"},5479,"前辈请看.",null,10031,9,"",null,null,{"$f":"IF(R423=\"\",\"\",\"-\"&VLOOKUP(R423,EventConditionConfig!A:C,3,FALSE)&IF(S423=\"\",\"\",CHAR(10)&\"-\"&VLOOKUP(S423,EventConditionConfig!A:C,3,FALSE)))","v":""},1,"1003110","5480",5480,"使用风灵珠召唤龙卷风",null,"",null,null,"",{"$nulls":4},{"$f":"IF(A423=\"\",\"\",IF(ISNUMBER(Y423),2,IF(A424=\"\",IF(OR(AK423>0,VLOOKUP(O423,EventConfig!A:C,3,FALSE)=4),3,\"\"),1)))","v":1},1003110,null,5480]
[1003110,5473,"鲲鹏对话","",{"$nulls":5},100,{"$f":"IF(J424=\"\",\"\",VLOOKUP(J424,EventNPC!A:E,5,FALSE))","v":"玩家"},5481,"你高举风灵珠，灵力涌动，周身风起云涌。",null,10031,10,"",null,null,{"$f":"IF(R424=\"\",\"\",\"-\"&VLOOKUP(R424,EventConditionConfig!A:C,3,FALSE)&IF(S424=\"\",\"\",CHAR(10)&\"-\"&VLOOKUP(S424,EventConditionConfig!A:C,3,FALSE)))","v":""},"","","","",null,null,"",null,null,"",{"$nulls":4},{"$f":"IF(A424=\"\",\"\",IF(ISNUMBER(Y424),2,IF(A425=\"\",IF(OR(AK424>0,VLOOKUP(O424,EventConfig!A:C,3,FALSE)=4),3,\"\"),1)))","v":1},1003111,null,5481]
[{"$f":"O425*100+P425","v":1003111},5473,"鲲鹏对话","",{"$nulls":5},100,{"$f":"IF(J425=\"\",\"\",VLOOKUP(J425,EventNPC!A:E,5,FALSE))","v":"玩家"},5482,"珠中蕴藏的风灵之力如决堤般释放，北海上空风云变幻，狂风汇聚成巨大龙卷，直冲天际。",null,10031,11,{"$f":"_xlfn.TEXTJOIN(\";\",1,R425:S425)","v":""},null,null,{"$f":"IF(R425=\"\",\"\",\"-\"&VLOOKUP(R425,EventConditionConfig!A:C,3,FALSE)&IF(S425=\"\",\"\",CHAR(10)&\"-\"&VLOOKUP(S425,EventConditionConfig!A:C,3,FALSE)))","v":""},{"$f":"IF(Y425=\"\",\"\",IF(ISTEXT(Y425),1,2))","v":""},"","","",null,null,"",null,null,"",{"$nulls":4},{"$f":"IF(A425=\"\",\"\",IF(ISNUMBER(Y425),2,IF(A426=\"\",IF(OR(AK425>0,VLOOKUP(O425,EventConfig!A:C,3,FALSE)=4),3,\"\"),1)))","v":1},1003112,null,5482]
[{"$f":"O426*100+P426","v":1003112},5473,"鲲鹏对话","",{"$nulls":5},100,{"$f":"IF(J426=\"\",\"\",VLOOKUP(J426,EventNPC!A:E,5,FALSE))","v":"玩家"},5483,"水面翻腾，巨鲲破浪而出，化作大鹏，翼若垂天之云，乘风而上，扶摇直上九万里！",null,10031,12,{"$f":"_xlfn.TEXTJOIN(\";\",1,R426:S426)","v":""},null,null,{"$f":"IF(R426=\"\",\"\",\"-\"&VLOOKUP(R426,EventConditionConfig!A:C,3,FALSE)&IF(S426=\"\",\"\",CHAR(10)&\"-\"&VLOOKUP(S426,EventConditionConfig!A:C,3,FALSE)))","v":""},{"$f":"IF(Y426=\"\",\"\",IF(ISTEXT(Y426),1,2))","v":""},"","","",null,null,"",null,null,"",{"$nulls":4},{"$f":"IF(A426=\"\",\"\",IF(ISNUMBER(Y426),2,IF(A427=\"\",IF(OR(AK426>0,VLOOKUP(O426,EventConfig!A:C,3,FALSE)=4),3,\"\"),1)))","v":1},1003113,null,5483]
[{"$f":"O427*100+P427","v":1003113},5473,"鲲鹏对话","",{"$nulls":5},100,{"$f":"IF(J427=\"\",\"\",VLOOKUP(J427,EventNPC!A:E,5,FALSE))","v":"玩家"},5484,"北海为之震动，云海为之开道，此刻，水天一色，无边无际。",null,10031,13,{"$f":"_xlfn.TEXTJOIN(\";\",1,R427:S427)","v":""},null,null,{"$f":"IF(R427=\"\",\"\",\"-\"&VLOOKUP(R427,EventConditionConfig!A:C,3,FALSE)&IF(S427=\"\",\"\",CHAR(10)&\"-\"&VLOOKUP(S427,EventConditionConfig!A:C,3,FALSE)))","v":""},{"$f":"IF(Y427=\"\",\"\",IF(ISTEXT(Y427),1,2))","v":""},"","","",null,null,"",null,null,"",{"$nulls":4},{"$f":"IF(A427=\"\",\"\",IF(ISNUMBER(Y427),2,IF(A428=\"\",IF(OR(AK427>0,VLOOKUP(O427,EventConfig!A:C,3,FALSE)=4),3,\"\"),1)))","v":1},1003114,null,5484]
[1003114,5473,"鲲鹏对话","",{"$nulls":5},119,{"$f":"IF(J428=\"\",\"\",VLOOKUP(J428,EventNPC!A:E,5,FALSE))","v":"鲲鹏"},5485,"（振翅长啸，声音回荡天际）小子，多谢！这正是我要的大风。南海天池见，若有缘，再论大道。",null,10031,14,"",null,null,{"$f":"IF(R428=\"\",\"\",\"-\"&VLOOKUP(R428,EventConditionConfig!A:C,3,FALSE)&IF(S428=\"\",\"\",CHAR(10)&\"-\"&VLOOKUP(S428,EventConditionConfig!A:C,3,FALSE)))","v":""},"","","","",null,null,"",null,null,"",{"$nulls":4},{"$f":"IF(A428=\"\",\"\",IF(ISNUMBER(Y428),2,IF(A429=\"\",IF(OR(AK428>0,VLOOKUP(O428,EventConfig!A:C,3,FALSE)=4),3,\"\"),1)))","v":1},1003115,null,5485]
[{"$f":"O429*100+P429","v":1003115},5473,"鲲鹏对话","",{"$nulls":5},100,{"$f":"IF(J429=\"\",\"\",VLOOKUP(J429,EventNPC!A:E,5,FALSE))","v":"玩家"},5486,"前辈，一路顺风！",null,10031,15,{"$f":"_xlfn.TEXTJOIN(\";\",1,R429:S429)","v":""},null,null,{"$f":"IF(R429=\"\",\"\",\"-\"&VLOOKUP(R429,EventConditionConfig!A:C,3,FALSE)&IF(S429=\"\",\"\",CHAR(10)&\"-\"&VLOOKUP(S429,EventConditionConfig!A:C,3,FALSE)))","v":""},{"$f":"IF(Y429=\"\",\"\",IF(ISTEXT(Y429),1,2))","v":""},"","","",null,null,"",null,null,"",{"$nulls":4},{"$f":"IF(A429=\"\",\"\",IF(ISNUMBER(Y429),2,IF(A430=\"\",IF(OR(AK429>0,VLOOKUP(O429,EventConfig!A:C,3,FALSE)=4),3,\"\"),1)))","v":1},1003116,null,5486]
[1003116,5473,"鲲鹏对话","",{"$nulls":6},{"$f":"IF(J430=\"\",\"\",VLOOKUP(J430,EventNPC!A:E,5,FALSE))","v":""},"",null,null,10031,16,"35",35,null,{"$f":"IF(R430=\"\",\"\",\"-\"&VLOOKUP(R430,EventConditionConfig!A:C,3,FALSE)&IF(S430=\"\",\"\",CHAR(10)&\"-\"&VLOOKUP(S430,EventConditionConfig!A:C,3,FALSE)))","v":"-达到境界：炼虚-前期"},{"$f":"IF(Y430=\"\",\"\",1)","v":""},"","","",null,null,"",null,null,"",{"$nulls":4},{"$f":"IF(A430=\"\",\"\",IF(ISNUMBER(Y430),2,IF(A431=\"\",IF(OR(AK430>0,VLOOKUP(O430,EventConfig!A:C,3,FALSE)=4),3,\"\"),1)))","v":3},10032,null,5486]
[null,"",null,"",{"$nulls":7},"",null,null,null,"",{"$nulls":5},"","","",null,null,"",null,null,"",{"$nulls":4},{"$f":"IF(A431=\"\",\"\",IF(ISNUMBER(Y431),2,IF(A432=\"\",IF(OR(AK431>0,VLOOKUP(O431,EventConfig!A:C,3,FALSE)=4),3,\"\"),1)))","v":""},"",null,""]
[{"$f":"O432*100+P432","v":3000301},5487,"击杀妖兽","",{"$nulls":6},{"$f":"IF(J432=\"\",\"\",VLOOKUP(J432,EventNPC!A:E,5,FALSE))","v":""},"",null,null,30003,1,{"$f":"_xlfn.TEXTJOIN(\";\",1,R432:S432)","v":""},null,null,{"$f":"IF(R432=\"\",\"\",\"-\"&VLOOKUP(R432,EventConditionConfig!A:C,3,FALSE)&IF(S432=\"\",\"\",CHAR(10)&\"-\"&VLOOKUP(S432,EventConditionConfig!A:C,3,FALSE)))","v":""},{"$f":"IF(Y432=\"\",\"\",IF(ISTEXT(Y432),1,2))","v":2},1003,"","",1003,null,"",null,null,"",{"$nulls":4},{"$f":"IF(A432=\"\",\"\",IF(ISNUMBER(Y432),2,IF(A433=\"\",IF(OR(AK432>0,VLOOKUP(O432,EventConfig!A:C,3,FALSE)=4),3,\"\"),1)))","v":2},"3000302;101",null,5487]
[null,"",null,"",{"$nulls":7},"",null,null,null,"",{"$nulls":5},"","","",null,null,"",null,null,"",{"$nulls":4},{"$f":"IF(A433=\"\",\"\",IF(ISNUMBER(Y433),2,IF(A434=\"\",IF(OR(AK433>0,VLOOKUP(O433,EventConfig!A:C,3,FALSE)=4),3,\"\"),1)))","v":""},"",null,""]
[{"$f":"O434*100+P434","v":3000401},5488,"击败后山小妖","",{"$nulls":6},{"$f":"IF(J434=\"\",\"\",VLOOKUP(J434,EventNPC!A:E,5,FALSE))","v":""},"",null,null,30004,1,{"$f":"_xlfn.TEXTJOIN(\";\",1,R434:S434)","v":""},null,null,{"$f":"IF(R434=\"\",\"\",\"-\"&VLOOKUP(R434,EventConditionConfig!A:C,3,FALSE)&IF(S434=\"\",\"\",CHAR(10)&\"-\"&VLOOKUP(S434,EventConditionConfig!A:C,3,FALSE)))","v":""},{"$f":"IF(Y434=\"\",\"\",IF(ISTEXT(Y434),1,2))","v":2},1004,"","",1004,null,"",null,null,"",{"$nulls":4},{"$f":"IF(A434=\"\",\"\",IF(ISNUMBER(Y434),2,IF(A435=\"\",IF(OR(AK434>0,VLOOKUP(O434,EventConfig!A:C,3,FALSE)=4),3,\"\"),1)))","v":2},"3000402;101",null,5488]
[null,"",null,"",{"$nulls":7},"",null,null,null,"",{"$nulls":5},"","","",null,null,"",null,null,"",{"$nulls":4},{"$f":"IF(A435=\"\",\"\",IF(ISNUMBER(Y435),2,IF(A436=\"\",IF(OR(AK435>0,VLOOKUP(O435,EventConfig!A:C,3,FALSE)=4),3,\"\"),1)))","v":""},"",null,""]
[{"$f":"O436*100+P436","v":3000501},5489,"击败夜袭的妖兽","",{"$nulls":6},{"$f":"IF(J436=\"\",\"\",VLOOKUP(J436,EventNPC!A:E,5,FALSE))","v":""},"",null,null,30005,1,{"$f":"_xlfn.TEXTJOIN(\";\",1,R436:S436)","v":""},null,null,{"$f":"IF(R436=\"\",\"\",\"-\"&VLOOKUP(R436,EventConditionConfig!A:C,3,FALSE)&IF(S436=\"\",\"\",CHAR(10)&\"-\"&VLOOKUP(S436,EventConditionConfig!A:C,3,FALSE)))","v":""},{"$f":"IF(Y436=\"\",\"\",IF(ISTEXT(Y436),1,2))","v":2},1005,"","",1005,null,"",null,null,"",{"$nulls":4},{"$f":"IF(A436=\"\",\"\",IF(ISNUMBER(Y436),2,IF(A437=\"\",IF(OR(AK436>0,VLOOKUP(O436,EventConfig!A:C,3,FALSE)=4),3,\"\"),1)))","v":2},"3000502;101",null,5489]
[null,"",null,"",{"$nulls":7},"",null,null,null,"",{"$nulls":5},"","","",null,null,"",null,null,"",{"$nulls":4},{"$f":"IF(A437=\"\",\"\",IF(ISNUMBER(Y437),2,IF(A438=\"\",IF(OR(AK437>0,VLOOKUP(O437,EventConfig!A:C,3,FALSE)=4),3,\"\"),1)))","v":""},"",null,""]
[{"$f":"O438*100+P438","v":3000601},5490,"击败峰顶的妖王","",{"$nulls":6},{"$f":"IF(J438=\"\",\"\",VLOOKUP(J438,EventNPC!A:E,5,FALSE))","v":""},"",null,null,30006,1,{"$f":"_xlfn.TEXTJOIN(\";\",1,R438:S438)","v":""},null,null,{"$f":"IF(R438=\"\",\"\",\"-\"&VLOOKUP(R438,EventConditionConfig!A:C,3,FALSE)&IF(S438=\"\",\"\",CHAR(10)&\"-\"&VLOOKUP(S438,EventConditionConfig!A:C,3,FALSE)))","v":""},{"$f":"IF(Y438=\"\",\"\",IF(ISTEXT(Y438),1,2))","v":2},1006,"","",1006,null,"",null,null,"",{"$nulls":4},{"$f":"IF(A438=\"\",\"\",IF(ISNUMBER(Y438),2,IF(A439=\"\",IF(OR(AK438>0,VLOOKUP(O438,EventConfig!A:C,3,FALSE)=4),3,\"\"),1)))","v":2},"3000602;101",null,5490]
[null,"",null,"",{"$nulls":7},"",null,null,null,"",{"$nulls":5},"","","",null,null,"",null,null,"",{"$nulls":4},{"$f":"IF(A439=\"\",\"\",IF(ISNUMBER(Y439),2,IF(A440=\"\",IF(OR(AK439>0,VLOOKUP(O439,EventConfig!A:C,3,FALSE)=4),3,\"\"),1)))","v":""},"",null,""]
[{"$f":"O440*100+P440","v":3000701},5491,"击败仙山的阵眼妖兽","",{"$nulls":6},{"$f":"IF(J440=\"\",\"\",VLOOKUP(J440,EventNPC!A:E,5,FALSE))","v":""},"",null,null,30007,1,{"$f":"_xlfn.TEXTJOIN(\";\",1,R440:S440)","v":""},null,null,{"$f":"IF(R440=\"\",\"\",\"-\"&VLOOKUP(R440,EventConditionConfig!A:C,3,FALSE)&IF(S440=\"\",\"\",CHAR(10)&\"-\"&VLOOKUP(S440,EventConditionConfig!A:C,3,FALSE)))","v":""},{"$f":"IF(Y440=\"\",\"\",IF(ISTEXT(Y440),1,2))","v":2},1007,"","",1007,null,"",null,null,"",{"$nulls":4},{"$f":"IF(A440=\"\",\"\",IF(ISNUMBER(Y440),2,IF(A441=\"\",IF(OR(AK440>0,VLOOKUP(O440,EventConfig!A:C,3,FALSE)=4),3,\"\"),1)))","v":2},"3000702;101",null,5491]
[null,"",null,"",{"$nulls":7},"",null,null,null,"",{"$nulls":5},"","","",null,null,"",null,null,"",{"$nulls":4},{"$f":"IF(A441=\"\",\"\",IF(ISNUMBER(Y441),2,IF(A442=\"\",IF(OR(AK441>0,VLOOKUP(O441,EventConfig!A:C,3,FALSE)=4),3,\"\"),1)))","v":""},"",null,""]
[3000801,5492,"击杀灵兽获得天肥","",{"$nulls":6},{"$f":"IF(J442=\"\",\"\",VLOOKUP(J442,EventNPC!A:E,5,FALSE))","v":""},"",null,null,30008,1,{"$f":"_xlfn.TEXTJOIN(\";\",1,R442:S442)","v":""},null,null,{"$f":"IF(R442=\"\",\"\",\"-\"&VLOOKUP(R442,EventConditionConfig!A:C,3,FALSE)&IF(S442=\"\",\"\",CHAR(10)&\"-\"&VLOOKUP(S442,EventConditionConfig!A:C,3,FALSE)))","v":""},{"$f":"IF(Y442=\"\",\"\",IF(ISTEXT(Y442),1,2))","v":2},1008,"","",1008,null,"",null,null,"",{"$nulls":4},{"$f":"IF(A442=\"\",\"\",IF(ISNUMBER(Y442),2,IF(A443=\"\",IF(OR(AK442>0,VLOOKUP(O442,EventConfig!A:C,3,FALSE)=4),3,\"\"),1)))","v":2},"3000802;101",null,5492]
[null,"",null,"",{"$nulls":7},"",null,null,null,"",{"$nulls":5},"","","",null,null,"",null,null,"",{"$nulls":4},{"$f":"IF(A443=\"\",\"\",IF(ISNUMBER(Y443),2,IF(A444=\"\",IF(OR(AK443>0,VLOOKUP(O443,EventConfig!A:C,3,FALSE)=4),3,\"\"),1)))","v":""},"",null,""]
[{"$f":"O444*100+P444","v":3001101},5493,"获得灵草种子","",{"$nulls":6},{"$f":"IF(J444=\"\",\"\",VLOOKUP(J444,EventNPC!A:E,5,FALSE))","v":""},5494,"你来到后山的草园中，按照许由的要求，摘了几株灵草种子。",null,30011,1,{"$f":"_xlfn.TEXTJOIN(\";\",1,R444:S444)","v":""},null,null,{"$f":"IF(R444=\"\",\"\",\"-\"&VLOOKUP(R444,EventConditionConfig!A:C,3,FALSE)&IF(S444=\"\",\"\",CHAR(10)&\"-\"&VLOOKUP(S444,EventConditionConfig!A:C,3,FALSE)))","v":""},{"$f":"IF(Y444=\"\",\"\",IF(ISTEXT(Y444),1,2))","v":1},"3001102","5495",5495,"将种子收好",null,"",null,null,"",{"$nulls":4},{"$f":"IF(A444=\"\",\"\",IF(ISNUMBER(Y444),2,IF(A445=\"\",IF(OR(AK444>0,VLOOKUP(O444,EventConfig!A:C,3,FALSE)=4),3,\"\"),1)))","v":1},3001102,null,5495]
[{"$f":"O445*100+P445","v":3001102},5493,"获得灵草种子","",{"$nulls":6},{"$f":"IF(J445=\"\",\"\",VLOOKUP(J445,EventNPC!A:E,5,FALSE))","v":""},"",null,null,30011,2,{"$f":"_xlfn.TEXTJOIN(\";\",1,R445:S445)","v":""},null,null,{"$f":"IF(R445=\"\",\"\",\"-\"&VLOOKUP(R445,EventConditionConfig!A:C,3,FALSE)&IF(S445=\"\",\"\",CHAR(10)&\"-\"&VLOOKUP(S445,EventConditionConfig!A:C,3,FALSE)))","v":""},{"$f":"IF(Y445=\"\",\"\",IF(ISTEXT(Y445),1,2))","v":""},"","","",null,null,"",null,null,"",{"$nulls":4},{"$f":"IF(A445=\"\",\"\",IF(ISNUMBER(Y445),2,IF(A446=\"\",IF(OR(AK445>0,VLOOKUP(O445,EventConfig!A:C,3,FALSE)=4),3,\"\"),1)))","v":""},"",null,5495]
[null,"",null,"",{"$nulls":7},"",null,null,null,"",{"$nulls":5},"","","",null,null,"",null,null,"",{"$nulls":4},{"$f":"IF(A446=\"\",\"\",IF(ISNUMBER(Y446),2,IF(A447=\"\",IF(OR(AK446>0,VLOOKUP(O446,EventConfig!A:C,3,FALSE)=4),3,\"\"),1)))","v":""},"",null,""]
[{"$f":"O447*100+P447","v":101101},5496,"神识探索至一处山洞之中，似乎别有洞天","",{"$nulls":6},{"$f":"IF(J447=\"\",\"\",VLOOKUP(J447,EventNPC!A:E,5,FALSE))","v":""},5497,"前往山洞之中收集药材",null,1011,1,{"$f":"_xlfn.TEXTJOIN(\";\",1,R447:S447)","v":""},null,null,{"$f":"IF(R447=\"\",\"\",\"-\"&VLOOKUP(R447,EventConditionConfig!A:C,3,FALSE)&IF(S447=\"\",\"\",CHAR(10)&\"-\"&VLOOKUP(S447,EventConditionConfig!A:C,3,FALSE)))","v":""},{"$f":"IF(Y447=\"\",\"\",1)","v":""},"","","",null,null,"",null,null,"",{"$nulls":4},{"$f":"IF(A447=\"\",\"\",IF(ISNUMBER(Y447),2,IF(A448=\"\",IF(OR(AK447>0,VLOOKUP(O447,EventConfig!A:C,3,FALSE)=4),3,\"\"),1)))","v":""},"",null,5497]
[null,"",null,"",{"$nulls":7},"",null,null,null,"",{"$nulls":5},"","","",null,null,"",null,null,"",{"$nulls":4},{"$f":"IF(A448=\"\",\"\",IF(ISNUMBER(Y448),2,IF(A449=\"\",IF(OR(AK448>0,VLOOKUP(O448,EventConfig!A:C,3,FALSE)=4),3,\"\"),1)))","v":""},"",null,""]
[{"$f":"O449*100+P449","v":500101},5498,"受疯道人所托，追查《御风化影诀》的下落",5499,"与疯道人对话(0/1)",{"$nulls":4},103,{"$f":"IF(J449=\"\",\"\",VLOOKUP(J449,EventNPC!A:E,5,FALSE))","v":"疯道人"},5500,"小友留步，老夫有一事相求",null,5001,1,{"$f":"_xlfn.TEXTJOIN(\";\",1,R449:S449)","v":""},null,null,{"$f":"IF(R449=\"\",\"\",\"-\"&VLOOKUP(R449,EventConditionConfig!A:C,3,FALSE)&IF(S449=\"\",\"\",CHAR(10)&\"-\"&VLOOKUP(S449,EventConditionConfig!A:C,3,FALSE)))","v":""},{"$f":"IF(Y449=\"\",\"\",IF(ISTEXT(Y449),1,2))","v":""},"","","",null,null,"",null,null,"",{"$nulls":4},{"$f":"IF(A449=\"\",\"\",IF(ISNUMBER(Y449),2,IF(A450=\"\",IF(OR(AK449>0,VLOOKUP(O449,EventConfig!A:C,3,FALSE)=4),3,\"\"),1)))","v":1},500102,null,5500]
[500102,5498,"受疯道人所托，追查《御风化影诀》的下落",5499,"与疯道人对话(0/1)",{"$nulls":4},103,{"$f":"IF(J450=\"\",\"\",VLOOKUP(J450,EventNPC!A:E,5,FALSE))","v":"疯道人"},5501,"三十年前北海妖族来犯，击退妖族后老夫捡到个被妖兽重伤的娃娃。",null,5001,2,"",null,null,{"$f":"IF(R450=\"\",\"\",\"-\"&VLOOKUP(R450,EventConditionConfig!A:C,3,FALSE)&IF(S450=\"\",\"\",CHAR(10)&\"-\"&VLOOKUP(S450,EventConditionConfig!A:C,3,FALSE)))","v":""},{"$f":"IF(Y450=\"\",\"\",IF(ISTEXT(Y450),1,2))","v":""},"","","",null,null,"",null,null,"",{"$nulls":4},{"$f":"IF(A450=\"\",\"\",IF(ISNUMBER(Y450),2,IF(A451=\"\",IF(OR(AK450>0,VLOOKUP(O450,EventConfig!A:C,3,FALSE)=4),3,\"\"),1)))","v":1},500103,null,5501]
[500103,5498,"受疯道人所托，追查《御风化影诀》的下落",5499,"与疯道人对话(0/1)",{"$nulls":4},103,{"$f":"IF(J451=\"\",\"\",VLOOKUP(J451,EventNPC!A:E,5,FALSE))","v":"疯道人"},5502,"他心口妖气汇聚，周身却萦绕着纯净的风灵根。这般矛盾体质，注定要卷入因果轮回。",null,5001,3,"",null,null,{"$f":"IF(R451=\"\",\"\",\"-\"&VLOOKUP(R451,EventConditionConfig!A:C,3,FALSE)&IF(S451=\"\",\"\",CHAR(10)&\"-\"&VLOOKUP(S451,EventConditionConfig!A:C,3,FALSE)))","v":""},"","","","",null,null,"",null,null,"",{"$nulls":4},{"$f":"IF(A451=\"\",\"\",IF(ISNUMBER(Y451),2,IF(A452=\"\",IF(OR(AK451>0,VLOOKUP(O451,EventConfig!A:C,3,FALSE)=4),3,\"\"),1)))","v":1},500104,null,5502]
[500104,5498,"受疯道人所托，追查《御风化影诀》的下落",5499,"与疯道人对话(0/1)",{"$nulls":4},103,{"$f":"IF(J452=\"\",\"\",VLOOKUP(J452,EventNPC!A:E,5,FALSE))","v":"疯道人"},5503,"于是老夫收留他在门下修养",null,5001,4,"",null,null,{"$f":"IF(R452=\"\",\"\",\"-\"&VLOOKUP(R452,EventConditionConfig!A:C,3,FALSE)&IF(S452=\"\",\"\",CHAR(10)&\"-\"&VLOOKUP(S452,EventConditionConfig!A:C,3,FALSE)))","v":""},"","","","",null,null,"",null,null,"",{"$nulls":4},{"$f":"IF(A452=\"\",\"\",IF(ISNUMBER(Y452),2,IF(A453=\"\",IF(OR(AK452>0,VLOOKUP(O452,EventConfig!A:C,3,FALSE)=4),3,\"\"),1)))","v":1},500105,null,5503]
[500105,5498,"受疯道人所托，追查《御风化影诀》的下落",5499,"与疯道人对话(0/1)",{"$nulls":4},103,{"$f":"IF(J453=\"\",\"\",VLOOKUP(J453,EventNPC!A:E,5,FALSE))","v":"疯道人"},5504,"但他心智被妖气所蛊惑一心只想报仇，整日念叨着要杀尽北海妖族。",null,5001,5,"",null,null,{"$f":"IF(R453=\"\",\"\",\"-\"&VLOOKUP(R453,EventConditionConfig!A:C,3,FALSE)&IF(S453=\"\",\"\",CHAR(10)&\"-\"&VLOOKUP(S453,EventConditionConfig!A:C,3,FALSE)))","v":""},"","","","",null,null,"",null,null,"",{"$nulls":4},{"$f":"IF(A453=\"\",\"\",IF(ISNUMBER(Y453),2,IF(A454=\"\",IF(OR(AK453>0,VLOOKUP(O453,EventConfig!A:C,3,FALSE)=4),3,\"\"),1)))","v":1},500106,null,5504]
[500106,5498,"受疯道人所托，追查《御风化影诀》的下落",{"$f":"IF(E454=\"\",\"\",IF(E454=E453,D453,MAX(AL453,AL452,B454)+1))","v":5499},"与疯道人对话(0/1)",{"$nulls":4},103,{"$f":"IF(J454=\"\",\"\",VLOOKUP(J454,EventNPC!A:E,5,FALSE))","v":"疯道人"},{"$f":"IF(M454=\"\",\"\",MAX(AL453,AL452,B454,D454)+1)","v":5505},"但十年的相处老夫早就把他当做亲人看待，为了断掉念想，只得让他离去，他离开之时盗走了洞府中的禁书《御风化影诀》。",null,5001,6,"",null,null,{"$f":"IF(R454=\"\",\"\",\"-\"&VLOOKUP(R454,EventConditionConfig!A:C,3,FALSE)&IF(S454=\"\",\"\",CHAR(10)&\"-\"&VLOOKUP(S454,EventConditionConfig!A:C,3,FALSE)))","v":""},"","","","",null,null,"",null,null,"",{"$nulls":4},{"$f":"IF(A454=\"\",\"\",IF(ISNUMBER(Y454),2,IF(A455=\"\",IF(OR(AK454>0,VLOOKUP(O454,EventConfig!A:C,3,FALSE)=4),3,\"\"),1)))","v":1},500107,null,{"$f":"IF(A454=\"\",\"\",MAX(B454,D454,L454,X454,AA454,AL453,AL452,AD454))","v":5505}]
[{"$f":"O455*100+P455","v":500107},5498,"受疯道人所托，追查《御风化影诀》的下落",5499,"与疯道人对话(0/1)",{"$nulls":4},100,{"$f":"IF(J455=\"\",\"\",VLOOKUP(J455,EventNPC!A:E,5,FALSE))","v":"玩家"},5506,"\"\"",null,5001,7,{"$f":"_xlfn.TEXTJOIN(\";\",1,R455:S455)","v":""},null,null,{"$f":"IF(R455=\"\",\"\",\"-\"&VLOOKUP(R455,EventConditionConfig!A:C,3,FALSE)&IF(S455=\"\",\"\",CHAR(10)&\"-\"&VLOOKUP(S455,EventConditionConfig!A:C,3,FALSE)))","v":""},1,"500108;500108","5507;5508",5507,"前辈为何不追",null,5508,"他怎会轻易盗走此书",null,"",{"$nulls":4},{"$f":"IF(A455=\"\",\"\",IF(ISNUMBER(Y455),2,IF(A456=\"\",IF(OR(AK455>0,VLOOKUP(O455,EventConfig!A:C,3,FALSE)=4),3,\"\"),1)))","v":1},500108,null,5508]
[500108,5498,"受疯道人所托，追查《御风化影诀》的下落",5499,"与疯道人对话(0/1)",{"$nulls":4},103,{"$f":"IF(J456=\"\",\"\",VLOOKUP(J456,EventNPC!A:E,5,FALSE))","v":"疯道人"},5509,"那孩子恐是为了给爹妈寻仇，也是看往日情面，老夫不想亲自动手。",null,5001,8,"",null,null,{"$f":"IF(R456=\"\",\"\",\"-\"&VLOOKUP(R456,EventConditionConfig!A:C,3,FALSE)&IF(S456=\"\",\"\",CHAR(10)&\"-\"&VLOOKUP(S456,EventConditionConfig!A:C,3,FALSE)))","v":""},"","","","",null,null,"",null,null,"",{"$nulls":4},{"$f":"IF(A456=\"\",\"\",IF(ISNUMBER(Y456),2,IF(A457=\"\",IF(OR(AK456>0,VLOOKUP(O456,EventConfig!A:C,3,FALSE)=4),3,\"\"),1)))","v":1},500109,null,5509]
[500109,5498,"受疯道人所托，追查《御风化影诀》的下落",5499,"与疯道人对话(0/1)",{"$nulls":4},103,{"$f":"IF(J457=\"\",\"\",VLOOKUP(J457,EventNPC!A:E,5,FALSE))","v":"疯道人"},5510,"现如今老夫发现山中的生灵会莫名消失，村中孩童也是被神秘的妖气所卷走，这和书中的血肉炼化的方法一模一样，老夫断定是那孩子所为。",null,5001,9,"",null,null,{"$f":"IF(R457=\"\",\"\",\"-\"&VLOOKUP(R457,EventConditionConfig!A:C,3,FALSE)&IF(S457=\"\",\"\",CHAR(10)&\"-\"&VLOOKUP(S457,EventConditionConfig!A:C,3,FALSE)))","v":""},"","","","",null,null,"",null,null,"",{"$nulls":4},{"$f":"IF(A457=\"\",\"\",IF(ISNUMBER(Y457),2,IF(A458=\"\",IF(OR(AK457>0,VLOOKUP(O457,EventConfig!A:C,3,FALSE)=4),3,\"\"),1)))","v":1},500110,null,5510]
[500110,5498,"受疯道人所托，追查《御风化影诀》的下落",5499,"与疯道人对话(0/1)",{"$nulls":4},103,{"$f":"IF(J458=\"\",\"\",VLOOKUP(J458,EventNPC!A:E,5,FALSE))","v":"疯道人"},5511,"小友，我追踪妖气波动，他就在西边的树林之中！",null,5001,10,"",null,null,{"$f":"IF(R458=\"\",\"\",\"-\"&VLOOKUP(R458,EventConditionConfig!A:C,3,FALSE)&IF(S458=\"\",\"\",CHAR(10)&\"-\"&VLOOKUP(S458,EventConditionConfig!A:C,3,FALSE)))","v":""},5,"","","",null,null,"",null,null,"",{"$nulls":4},{"$f":"IF(A458=\"\",\"\",IF(ISNUMBER(Y458),2,IF(A459=\"\",IF(OR(AK458>0,VLOOKUP(O458,EventConfig!A:C,3,FALSE)=4),3,\"\"),1)))","v":1},500111,null,5511]
[500111,5498,"受疯道人所托，追查《御风化影诀》的下落",5512,"追查风无咎(0/1)",{"$nulls":5},{"$f":"IF(J459=\"\",\"\",VLOOKUP(J459,EventNPC!A:E,5,FALSE))","v":""},5513,"（枯叶居然无风漂浮在空中，地面残留着扭曲的符文刻痕，见风无咎在地上刻画着什么）",null,5001,11,"",null,null,{"$f":"IF(R459=\"\",\"\",\"-\"&VLOOKUP(R459,EventConditionConfig!A:C,3,FALSE)&IF(S459=\"\",\"\",CHAR(10)&\"-\"&VLOOKUP(S459,EventConditionConfig!A:C,3,FALSE)))","v":""},{"$f":"IF(Y459=\"\",\"\",IF(ISTEXT(Y459),1,2))","v":""},"","","",null,null,"",null,null,"",{"$nulls":4},{"$f":"IF(A459=\"\",\"\",IF(ISNUMBER(Y459),2,IF(A460=\"\",IF(OR(AK459>0,VLOOKUP(O459,EventConfig!A:C,3,FALSE)=4),3,\"\"),1)))","v":1},500112,null,5513]
[500112,5498,"受疯道人所托，追查《御风化影诀》的下落",5512,"追查风无咎(0/1)",{"$nulls":4},112,{"$f":"IF(J460=\"\",\"\",VLOOKUP(J460,EventNPC!A:E,5,FALSE))","v":"风无咎"},5514,"(看见主角到来)你小子身上怎会有老疯子的气，是那老头让你来抓我的吗。",null,5001,12,"",null,null,{"$f":"IF(R460=\"\",\"\",\"-\"&VLOOKUP(R460,EventConditionConfig!A:C,3,FALSE)&IF(S460=\"\",\"\",CHAR(10)&\"-\"&VLOOKUP(S460,EventConditionConfig!A:C,3,FALSE)))","v":""},"","","","",null,null,"",null,null,"",{"$nulls":4},{"$f":"IF(A460=\"\",\"\",IF(ISNUMBER(Y460),2,IF(A461=\"\",IF(OR(AK460>0,VLOOKUP(O460,EventConfig!A:C,3,FALSE)=4),3,\"\"),1)))","v":1},500113,null,5514]
[500113,{"$f":"IF(C461=\"\",\"\",IF(C461=C460,B460,MAX(AL460,AL459)+1))","v":5498},"受疯道人所托，追查《御风化影诀》的下落",5512,"追查风无咎(0/1)",{"$nulls":4},100,{"$f":"IF(J461=\"\",\"\",VLOOKUP(J461,EventNPC!A:E,5,FALSE))","v":"玩家"},5515,"前辈见往日情面不愿亲自动手，我一人足以",null,5001,13,"",null,null,{"$f":"IF(R461=\"\",\"\",\"-\"&VLOOKUP(R461,EventConditionConfig!A:C,3,FALSE)&IF(S461=\"\",\"\",CHAR(10)&\"-\"&VLOOKUP(S461,EventConditionConfig!A:C,3,FALSE)))","v":""},"","","",{"$f":"IF(OR(ISNUMBER(Y461),Y461=\"\"),\"\",MAX(AL460,AL458,B461,D461,L461)+1)","v":""},null,null,{"$f":"IF(OR(ISNUMBER(AB461),AB461=\"\"),\"\",X461+1)","v":""},null,null,{"$f":"IF(OR(ISNUMBER(AE461),AE461=\"\"),\"\",AA461+1)","v":""},{"$nulls":4},{"$f":"IF(A461=\"\",\"\",IF(ISNUMBER(Y461),2,IF(A462=\"\",IF(OR(AK461>0,VLOOKUP(O461,EventConfig!A:C,3,FALSE)=4),3,\"\"),1)))","v":1},500114,null,5515]
[500114,5498,"受疯道人所托，追查《御风化影诀》的下落",5512,"追查风无咎(0/1)",{"$nulls":5},{"$f":"IF(J462=\"\",\"\",VLOOKUP(J462,EventNPC!A:E,5,FALSE))","v":""},5516,"（说罢，风无咎的影子化形，为了一妖，顿时煞气暴涨）",null,5001,14,"",null,null,{"$f":"IF(R462=\"\",\"\",\"-\"&VLOOKUP(R462,EventConditionConfig!A:C,3,FALSE)&IF(S462=\"\",\"\",CHAR(10)&\"-\"&VLOOKUP(S462,EventConditionConfig!A:C,3,FALSE)))","v":""},"",{"$f":"IF(U462=1,_xlfn.TEXTJOIN(\";\",1,IF(Z462=\"\",A462+1,Z462),IF(AND(AA462<>\"\",AC462=\"\"),A462+1,AC462),IF(AND(AD462<>\"\",AF462=\"\"),A462+1,AF462)),IF(U462=2,Y462,\"\"))","v":""},{"$f":"_xlfn.TEXTJOIN(\";\",1,X462,AA462,AD462)","v":""},"",null,null,"",null,null,"",{"$nulls":4},{"$f":"IF(A462=\"\",\"\",IF(ISNUMBER(Y462),2,IF(A463=\"\",IF(OR(AK462>0,VLOOKUP(O462,EventConfig!A:C,3,FALSE)=4),3,\"\"),1)))","v":1},{"$f":"IF(AI462=\"\",\"\",CHOOSE(AI462,IF(AK462=\"\",A462+1,AK462),CONCATENATE(IF(AK462=\"\",A462+1,AK462),\";101\"),IF(AK462=\"\",O462+1,AK462)))","v":500115},null,5516]
[500115,5498,"受疯道人所托，追查《御风化影诀》的下落",5512,"追查风无咎(0/1)",{"$nulls":4},112,{"$f":"IF(J463=\"\",\"\",VLOOKUP(J463,EventNPC!A:E,5,FALSE))","v":"风无咎"},5517,"如今我自断妖魂炼出影身，正好今天拿你试试！",null,5001,15,"",null,null,{"$f":"IF(R463=\"\",\"\",\"-\"&VLOOKUP(R463,EventConditionConfig!A:C,3,FALSE)&IF(S463=\"\",\"\",CHAR(10)&\"-\"&VLOOKUP(S463,EventConditionConfig!A:C,3,FALSE)))","v":""},2,100001,"","",100001,null,"",null,null,"",{"$nulls":4},{"$f":"IF(A463=\"\",\"\",IF(ISNUMBER(Y463),2,IF(A464=\"\",IF(OR(AK463>0,VLOOKUP(O463,EventConfig!A:C,3,FALSE)=4),3,\"\"),1)))","v":2},"500116;101",null,5517]
[500116,5498,"受疯道人所托，追查《御风化影诀》的下落",5512,"追查风无咎(0/1)",{"$nulls":4},112,{"$f":"IF(J464=\"\",\"\",VLOOKUP(J464,EventNPC!A:E,5,FALSE))","v":"风无咎"},5518,"岂会如此！",null,5001,16,"",null,null,{"$f":"IF(R464=\"\",\"\",\"-\"&VLOOKUP(R464,EventConditionConfig!A:C,3,FALSE)&IF(S464=\"\",\"\",CHAR(10)&\"-\"&VLOOKUP(S464,EventConditionConfig!A:C,3,FALSE)))","v":""},1,"500117","5519",5519,"交还书页，我可留你魂魄入轮回。",null,"",null,null,"",{"$nulls":4},{"$f":"IF(A464=\"\",\"\",IF(ISNUMBER(Y464),2,IF(A465=\"\",IF(OR(AK464>0,VLOOKUP(O464,EventConfig!A:C,3,FALSE)=4),3,\"\"),1)))","v":1},500117,null,5519]
[500117,5498,"受疯道人所托，追查《御风化影诀》的下落",5512,"追查风无咎(0/1)",{"$nulls":4},112,{"$f":"IF(J465=\"\",\"\",VLOOKUP(J465,EventNPC!A:E,5,FALSE))","v":"风无咎"},5520,"轮回？今日是我大意了！老东西还有你，给我等着！（化作一震妖风带着《御风化影诀》逃往远方",null,5001,17,"",null,null,{"$f":"IF(R465=\"\",\"\",\"-\"&VLOOKUP(R465,EventConditionConfig!A:C,3,FALSE)&IF(S465=\"\",\"\",CHAR(10)&\"-\"&VLOOKUP(S465,EventConditionConfig!A:C,3,FALSE)))","v":""},"","","","",null,null,"",null,null,"",{"$nulls":4},{"$f":"IF(A465=\"\",\"\",IF(ISNUMBER(Y465),2,IF(A466=\"\",IF(OR(AK465>0,VLOOKUP(O465,EventConfig!A:C,3,FALSE)=4),3,\"\"),1)))","v":1},500118,null,5520]
[500118,5498,"受疯道人所托，追查《御风化影诀》的下落",5512,"追查风无咎(0/1)",{"$nulls":4},103,{"$f":"IF(J466=\"\",\"\",VLOOKUP(J466,EventNPC!A:E,5,FALSE))","v":"疯道人"},5521,"这孩子天资聪颖，短短二十年就能参悟书中所写。",null,5001,18,"",null,null,{"$f":"IF(R466=\"\",\"\",\"-\"&VLOOKUP(R466,EventConditionConfig!A:C,3,FALSE)&IF(S466=\"\",\"\",CHAR(10)&\"-\"&VLOOKUP(S466,EventConditionConfig!A:C,3,FALSE)))","v":""},"","","","",null,null,"",null,null,"",{"$nulls":4},{"$f":"IF(A466=\"\",\"\",IF(ISNUMBER(Y466),2,IF(A467=\"\",IF(OR(AK466>0,VLOOKUP(O466,EventConfig!A:C,3,FALSE)=4),3,\"\"),1)))","v":1},500119,null,5521]
[500119,5498,"受疯道人所托，追查《御风化影诀》的下落",5512,"追查风无咎(0/1)",{"$nulls":4},103,{"$f":"IF(J467=\"\",\"\",VLOOKUP(J467,EventNPC!A:E,5,FALSE))","v":"疯道人"},5522,"无妨，此法需要大量血肉献祭，如此规模的法术定会妖气四散，找到他也是迟早之事。",null,5001,19,"",null,null,{"$f":"IF(R467=\"\",\"\",\"-\"&VLOOKUP(R467,EventConditionConfig!A:C,3,FALSE)&IF(S467=\"\",\"\",CHAR(10)&\"-\"&VLOOKUP(S467,EventConditionConfig!A:C,3,FALSE)))","v":""},"","","","",null,null,"",null,null,"",{"$nulls":4},{"$f":"IF(A467=\"\",\"\",IF(ISNUMBER(Y467),2,IF(A468=\"\",IF(OR(AK467>0,VLOOKUP(O467,EventConfig!A:C,3,FALSE)=4),3,\"\"),1)))","v":""},"",null,5522]
[null,"",null,"",{"$nulls":7},"",null,null,null,"",{"$nulls":5},"","","",null,null,"",null,null,"",{"$nulls":4},{"$f":"IF(A468=\"\",\"\",IF(ISNUMBER(Y468),2,IF(A469=\"\",IF(OR(AK468>0,VLOOKUP(O468,EventConfig!A:C,3,FALSE)=4),3,\"\"),1)))","v":""},"",null,""]
[{"$f":"O469*100+P469","v":500301},5523,"受化妖剑士所托，帮助他消灭藏匿北海的海妖",5524,"与化妖剑士对话",{"$nulls":5},{"$f":"IF(J469=\"\",\"\",VLOOKUP(J469,EventNPC!A:E,5,FALSE))","v":""},5525,"咸腥的海风中，你看见礁石上蜷缩着人形怪物——它的脊椎刺破皮肤形成剑鞘，一柄生满红锈的巨剑就背在嵴骨之间。当它转头看向你时，你不由得心底生寒。",null,5003,1,{"$f":"_xlfn.TEXTJOIN(\";\",1,R469:S469)","v":""},null,null,{"$f":"IF(R469=\"\",\"\",\"-\"&VLOOKUP(R469,EventConditionConfig!A:C,3,FALSE)&IF(S469=\"\",\"\",CHAR(10)&\"-\"&VLOOKUP(S469,EventConditionConfig!A:C,3,FALSE)))","v":""},{"$f":"IF(Y469=\"\",\"\",IF(ISTEXT(Y469),1,2))","v":""},"","","",null,null,"",null,null,"",{"$nulls":4},{"$f":"IF(A469=\"\",\"\",IF(ISNUMBER(Y469),2,IF(A470=\"\",IF(OR(AK469>0,VLOOKUP(O469,EventConfig!A:C,3,FALSE)=4),3,\"\"),1)))","v":1},500302,null,5525]
[500302,5523,"受化妖剑士所托，帮助他消灭藏匿北海的海妖",5524,"与化妖剑士对话",{"$nulls":4},113,{"$f":"IF(J470=\"\",\"\",VLOOKUP(J470,EventNPC!A:E,5,FALSE))","v":"北海剑妖"},5526,"你闻到了吗...海里的血锈味。那厮海妖在这片海滩卷走阿蘅时的这种味道",null,5003,2,"",null,null,{"$f":"IF(R470=\"\",\"\",\"-\"&VLOOKUP(R470,EventConditionConfig!A:C,3,FALSE)&IF(S470=\"\",\"\",CHAR(10)&\"-\"&VLOOKUP(S470,EventConditionConfig!A:C,3,FALSE)))","v":""},"","","","",null,null,"",null,null,"",{"$nulls":4},{"$f":"IF(A470=\"\",\"\",IF(ISNUMBER(Y470),2,IF(A471=\"\",IF(OR(AK470>0,VLOOKUP(O470,EventConfig!A:C,3,FALSE)=4),3,\"\"),1)))","v":1},500303,null,5526]
[500303,5523,"受化妖剑士所托，帮助他消灭藏匿北海的海妖",5524,"与化妖剑士对话",{"$nulls":4},100,{"$f":"IF(J471=\"\",\"\",VLOOKUP(J471,EventNPC!A:E,5,FALSE))","v":"玩家"},5527,"什么血锈味，我闻不见，你口中的阿蘅是？",null,5003,3,"",null,null,{"$f":"IF(R471=\"\",\"\",\"-\"&VLOOKUP(R471,EventConditionConfig!A:C,3,FALSE)&IF(S471=\"\",\"\",CHAR(10)&\"-\"&VLOOKUP(S471,EventConditionConfig!A:C,3,FALSE)))","v":""},"","","","",null,null,"",null,null,"",{"$nulls":4},{"$f":"IF(A471=\"\",\"\",IF(ISNUMBER(Y471),2,IF(A472=\"\",IF(OR(AK471>0,VLOOKUP(O471,EventConfig!A:C,3,FALSE)=4),3,\"\"),1)))","v":1},500304,null,5527]
[500304,5523,"受化妖剑士所托，帮助他消灭藏匿北海的海妖",5524,"与化妖剑士对话",{"$nulls":4},113,{"$f":"IF(J472=\"\",\"\",VLOOKUP(J472,EventNPC!A:E,5,FALSE))","v":"北海剑妖"},5528,"我的妻子。",null,5003,4,"",null,null,{"$f":"IF(R472=\"\",\"\",\"-\"&VLOOKUP(R472,EventConditionConfig!A:C,3,FALSE)&IF(S472=\"\",\"\",CHAR(10)&\"-\"&VLOOKUP(S472,EventConditionConfig!A:C,3,FALSE)))","v":""},"","","","",null,null,"",null,null,"",{"$nulls":4},{"$f":"IF(A472=\"\",\"\",IF(ISNUMBER(Y472),2,IF(A473=\"\",IF(OR(AK472>0,VLOOKUP(O472,EventConfig!A:C,3,FALSE)=4),3,\"\"),1)))","v":1},500305,null,5528]
[500305,5523,"受化妖剑士所托，帮助他消灭藏匿北海的海妖",5524,"与化妖剑士对话",{"$nulls":4},100,{"$f":"IF(J473=\"\",\"\",VLOOKUP(J473,EventNPC!A:E,5,FALSE))","v":"玩家"},5529,"妖怪还有妻子，还挺稀奇。",null,5003,5,"",null,null,{"$f":"IF(R473=\"\",\"\",\"-\"&VLOOKUP(R473,EventConditionConfig!A:C,3,FALSE)&IF(S473=\"\",\"\",CHAR(10)&\"-\"&VLOOKUP(S473,EventConditionConfig!A:C,3,FALSE)))","v":""},"","","","",null,null,"",null,null,"",{"$nulls":4},{"$f":"IF(A473=\"\",\"\",IF(ISNUMBER(Y473),2,IF(A474=\"\",IF(OR(AK473>0,VLOOKUP(O473,EventConfig!A:C,3,FALSE)=4),3,\"\"),1)))","v":1},500306,null,5529]
[500306,5523,"受化妖剑士所托，帮助他消灭藏匿北海的海妖",5524,"与化妖剑士对话",{"$nulls":4},113,{"$f":"IF(J474=\"\",\"\",VLOOKUP(J474,EventNPC!A:E,5,FALSE))","v":"北海剑妖"},5530,"当年我可是和你一样的修士，但从那之后一切都变了",null,5003,6,"",null,null,{"$f":"IF(R474=\"\",\"\",\"-\"&VLOOKUP(R474,EventConditionConfig!A:C,3,FALSE)&IF(S474=\"\",\"\",CHAR(10)&\"-\"&VLOOKUP(S474,EventConditionConfig!A:C,3,FALSE)))","v":""},"","","","",null,null,"",null,null,"",{"$nulls":4},{"$f":"IF(A474=\"\",\"\",IF(ISNUMBER(Y474),2,IF(A475=\"\",IF(OR(AK474>0,VLOOKUP(O474,EventConfig!A:C,3,FALSE)=4),3,\"\"),1)))","v":1},500307,null,5530]
[500307,5523,"受化妖剑士所托，帮助他消灭藏匿北海的海妖",5524,"与化妖剑士对话",{"$nulls":4},113,{"$f":"IF(J475=\"\",\"\",VLOOKUP(J475,EventNPC!A:E,5,FALSE))","v":"北海剑妖"},5531,"百余年我送给阿蘅的定情信物贝壳项链，被阿蘅不慎遗失在这片海滩，她于是在这苦苦寻找。可突然间一头妖兽现身，将她拖入了海中！",null,5003,7,"",null,null,{"$f":"IF(R475=\"\",\"\",\"-\"&VLOOKUP(R475,EventConditionConfig!A:C,3,FALSE)&IF(S475=\"\",\"\",CHAR(10)&\"-\"&VLOOKUP(S475,EventConditionConfig!A:C,3,FALSE)))","v":""},"","","","",null,null,"",null,null,"",{"$nulls":4},{"$f":"IF(A475=\"\",\"\",IF(ISNUMBER(Y475),2,IF(A476=\"\",IF(OR(AK475>0,VLOOKUP(O475,EventConfig!A:C,3,FALSE)=4),3,\"\"),1)))","v":1},500308,null,5531]
[500308,5523,"受化妖剑士所托，帮助他消灭藏匿北海的海妖",5524,"与化妖剑士对话",{"$nulls":4},113,{"$f":"IF(J476=\"\",\"\",VLOOKUP(J476,EventNPC!A:E,5,FALSE))","v":"北海剑妖"},5532,"得知此事后一直守在这，等着那厮妖兽从海中现身。",null,5003,{"$f":"IF(O476=\"\",\"\",IF(O476=O475,P475+1,1))","v":8},"",null,null,{"$f":"IF(R476=\"\",\"\",\"-\"&VLOOKUP(R476,EventConditionConfig!A:C,3,FALSE)&IF(S476=\"\",\"\",CHAR(10)&\"-\"&VLOOKUP(S476,EventConditionConfig!A:C,3,FALSE)))","v":""},"","","","",null,null,"",null,null,"",{"$nulls":4},{"$f":"IF(A476=\"\",\"\",IF(ISNUMBER(Y476),2,IF(A477=\"\",IF(OR(AK476>0,VLOOKUP(O476,EventConfig!A:C,3,FALSE)=4),3,\"\"),1)))","v":1},500309,null,5532]
[500309,5523,"受化妖剑士所托，帮助他消灭藏匿北海的海妖",5524,"与化妖剑士对话",{"$nulls":4},113,{"$f":"IF(J477=\"\",\"\",VLOOKUP(J477,EventNPC!A:E,5,FALSE))","v":"北海剑妖"},5533,"我在这片海滩终于等到那厮妖兽从海中出现，我便提剑向其冲去，我的剑深深刺入了妖兽的身体，它一吃痛逃入了这片海中，空中忽然刮起了狂风，被狂风阻拦无法进入海中追寻，妖兽也被狂风困在了海中",null,5003,9,"",null,null,{"$f":"IF(R477=\"\",\"\",\"-\"&VLOOKUP(R477,EventConditionConfig!A:C,3,FALSE)&IF(S477=\"\",\"\",CHAR(10)&\"-\"&VLOOKUP(S477,EventConditionConfig!A:C,3,FALSE)))","v":""},"","","","",null,null,"",null,null,"",{"$nulls":4},{"$f":"IF(A477=\"\",\"\",IF(ISNUMBER(Y477),2,IF(A478=\"\",IF(OR(AK477>0,VLOOKUP(O477,EventConfig!A:C,3,FALSE)=4),3,\"\"),1)))","v":1},500310,null,5533]
[500310,5523,"受化妖剑士所托，帮助他消灭藏匿北海的海妖",5524,"与化妖剑士对话",{"$nulls":4},113,{"$f":"IF(J478=\"\",\"\",VLOOKUP(J478,EventNPC!A:E,5,FALSE))","v":"北海剑妖"},5534,"那你为何会变成了妖",null,5003,10,"",null,null,{"$f":"IF(R478=\"\",\"\",\"-\"&VLOOKUP(R478,EventConditionConfig!A:C,3,FALSE)&IF(S478=\"\",\"\",CHAR(10)&\"-\"&VLOOKUP(S478,EventConditionConfig!A:C,3,FALSE)))","v":""},"","","","",null,null,"",null,null,"",{"$nulls":4},{"$f":"IF(A478=\"\",\"\",IF(ISNUMBER(Y478),2,IF(A479=\"\",IF(OR(AK478>0,VLOOKUP(O478,EventConfig!A:C,3,FALSE)=4),3,\"\"),1)))","v":1},500311,null,5534]
[500311,5523,"受化妖剑士所托，帮助他消灭藏匿北海的海妖",5524,"与化妖剑士对话",{"$nulls":4},113,{"$f":"IF(J479=\"\",\"\",VLOOKUP(J479,EventNPC!A:E,5,FALSE))","v":"北海剑妖"},5535,"因北海妖气横行，我被妖气入体，身体慢慢发生了变化，不妨这也算北海对我的恩赐，妻子死后我日以继日的待在这里等着复仇，等着斩杀掉那只吞掉我妻子的妖兽。",null,5003,11,"",null,null,{"$f":"IF(R479=\"\",\"\",\"-\"&VLOOKUP(R479,EventConditionConfig!A:C,3,FALSE)&IF(S479=\"\",\"\",CHAR(10)&\"-\"&VLOOKUP(S479,EventConditionConfig!A:C,3,FALSE)))","v":""},"","","","",null,null,"",null,null,"",{"$nulls":4},{"$f":"IF(A479=\"\",\"\",IF(ISNUMBER(Y479),2,IF(A480=\"\",IF(OR(AK479>0,VLOOKUP(O479,EventConfig!A:C,3,FALSE)=4),3,\"\"),1)))","v":1},500312,null,5535]
[500312,5523,"受化妖剑士所托，帮助他消灭藏匿北海的海妖",5524,"与化妖剑士对话",{"$nulls":4},113,{"$f":"IF(J480=\"\",\"\",VLOOKUP(J480,EventNPC!A:E,5,FALSE))","v":"北海剑妖"},5536,"我有办法驱散狂风",null,5003,12,"",null,null,{"$f":"IF(R480=\"\",\"\",\"-\"&VLOOKUP(R480,EventConditionConfig!A:C,3,FALSE)&IF(S480=\"\",\"\",CHAR(10)&\"-\"&VLOOKUP(S480,EventConditionConfig!A:C,3,FALSE)))","v":""},"","","","",null,null,"",null,null,"",{"$nulls":4},{"$f":"IF(A480=\"\",\"\",IF(ISNUMBER(Y480),2,IF(A481=\"\",IF(OR(AK480>0,VLOOKUP(O480,EventConfig!A:C,3,FALSE)=4),3,\"\"),1)))","v":1},500313,null,5536]
[500313,5523,"受化妖剑士所托，帮助他消灭藏匿北海的海妖",5524,"与化妖剑士对话",{"$nulls":5},{"$f":"IF(J481=\"\",\"\",VLOOKUP(J481,EventNPC!A:E,5,FALSE))","v":""},5537,"（拿出风灵珠驱散海面狂风）（瞬间海面变的不平，一头妖力浑厚的妖兽从海面中跃出）",null,5003,13,"",null,null,{"$f":"IF(R481=\"\",\"\",\"-\"&VLOOKUP(R481,EventConditionConfig!A:C,3,FALSE)&IF(S481=\"\",\"\",CHAR(10)&\"-\"&VLOOKUP(S481,EventConditionConfig!A:C,3,FALSE)))","v":""},"","","","",null,null,"",null,null,"",{"$nulls":4},{"$f":"IF(A481=\"\",\"\",IF(ISNUMBER(Y481),2,IF(A482=\"\",IF(OR(AK481>0,VLOOKUP(O481,EventConfig!A:C,3,FALSE)=4),3,\"\"),1)))","v":1},500314,null,5537]
[500314,5523,"受化妖剑士所托，帮助他消灭藏匿北海的海妖",5538,"追查海妖(0/1)",{"$nulls":4},113,{"$f":"IF(J482=\"\",\"\",VLOOKUP(J482,EventNPC!A:E,5,FALSE))","v":"北海剑妖"},5539,"小友有如此绝技，当斩杀那厮妖兽后定当好好报答你！",null,5003,14,"",null,null,{"$f":"IF(R482=\"\",\"\",\"-\"&VLOOKUP(R482,EventConditionConfig!A:C,3,FALSE)&IF(S482=\"\",\"\",CHAR(10)&\"-\"&VLOOKUP(S482,EventConditionConfig!A:C,3,FALSE)))","v":""},2,100001,"","",100001,null,"",null,null,"",{"$nulls":4},{"$f":"IF(A482=\"\",\"\",IF(ISNUMBER(Y482),2,IF(A483=\"\",IF(OR(AK482>0,VLOOKUP(O482,EventConfig!A:C,3,FALSE)=4),3,\"\"),1)))","v":2},"500315;101",null,5539]
[500315,5523,"受化妖剑士所托，帮助他消灭藏匿北海的海妖",5538,"追查海妖(0/1)",{"$nulls":4},113,{"$f":"IF(J483=\"\",\"\",VLOOKUP(J483,EventNPC!A:E,5,FALSE))","v":"北海剑妖"},5540,"小友你快躲开，无论如何我也要这妖兽葬身于此！即便魂飞魄散永世不得轮回也无所谓！阿蘅，我来见你了！",null,5003,15,"",null,null,{"$f":"IF(R483=\"\",\"\",\"-\"&VLOOKUP(R483,EventConditionConfig!A:C,3,FALSE)&IF(S483=\"\",\"\",CHAR(10)&\"-\"&VLOOKUP(S483,EventConditionConfig!A:C,3,FALSE)))","v":""},"","","","",null,null,"",null,null,"",{"$nulls":4},{"$f":"IF(A483=\"\",\"\",IF(ISNUMBER(Y483),2,IF(A484=\"\",IF(OR(AK483>0,VLOOKUP(O483,EventConfig!A:C,3,FALSE)=4),3,\"\"),1)))","v":1},500316,null,5540]
[500316,5523,"受化妖剑士所托，帮助他消灭藏匿北海的海妖",5538,"追查海妖(0/1)",{"$nulls":5},{"$f":"IF(J484=\"\",\"\",VLOOKUP(J484,EventNPC!A:E,5,FALSE))","v":""},5541,"海面沸腾，妖兽嘶吼着掀起滔天巨浪，触须如铁鞭般抽向你。剑妖猛地推开你，他脊骨间的锈剑剧烈震颤，裂纹中迸发出刺目的血光。",null,5003,16,"",null,null,{"$f":"IF(R484=\"\",\"\",\"-\"&VLOOKUP(R484,EventConditionConfig!A:C,3,FALSE)&IF(S484=\"\",\"\",CHAR(10)&\"-\"&VLOOKUP(S484,EventConditionConfig!A:C,3,FALSE)))","v":""},"","","","",null,null,"",null,null,"",{"$nulls":4},{"$f":"IF(A484=\"\",\"\",IF(ISNUMBER(Y484),2,IF(A485=\"\",IF(OR(AK484>0,VLOOKUP(O484,EventConfig!A:C,3,FALSE)=4),3,\"\"),1)))","v":1},500317,null,5541]
[500317,5523,"受化妖剑士所托，帮助他消灭藏匿北海的海妖",5538,"追查海妖(0/1)",{"$nulls":4},113,{"$f":"IF(J485=\"\",\"\",VLOOKUP(J485,EventNPC!A:E,5,FALSE))","v":"北海剑妖"},5542,"百年的执念……今日，该了结了！",null,5003,17,"",null,null,{"$f":"IF(R485=\"\",\"\",\"-\"&VLOOKUP(R485,EventConditionConfig!A:C,3,FALSE)&IF(S485=\"\",\"\",CHAR(10)&\"-\"&VLOOKUP(S485,EventConditionConfig!A:C,3,FALSE)))","v":""},"","","","",null,null,"",null,null,"",{"$nulls":4},{"$f":"IF(A485=\"\",\"\",IF(ISNUMBER(Y485),2,IF(A486=\"\",IF(OR(AK485>0,VLOOKUP(O485,EventConfig!A:C,3,FALSE)=4),3,\"\"),1)))","v":1},500318,null,5542]
[500318,5523,"受化妖剑士所托，帮助他消灭藏匿北海的海妖",5538,"追查海妖(0/1)",{"$nulls":5},{"$f":"IF(J486=\"\",\"\",VLOOKUP(J486,EventNPC!A:E,5,FALSE))","v":""},5543,"剑妖的身体开始崩解，血肉化作赤红的火焰，缠绕着锈剑熊熊燃烧。那半枚嵌在脸上的银簪突然亮起幽蓝的光，与妖兽颅骨中的另半枚遥相呼应。",null,5003,18,"",null,null,{"$f":"IF(R486=\"\",\"\",\"-\"&VLOOKUP(R486,EventConditionConfig!A:C,3,FALSE)&IF(S486=\"\",\"\",CHAR(10)&\"-\"&VLOOKUP(S486,EventConditionConfig!A:C,3,FALSE)))","v":""},"","","","",null,null,"",null,null,"",{"$nulls":4},{"$f":"IF(A486=\"\",\"\",IF(ISNUMBER(Y486),2,IF(A487=\"\",IF(OR(AK486>0,VLOOKUP(O486,EventConfig!A:C,3,FALSE)=4),3,\"\"),1)))","v":1},500319,null,5543]
[500319,5523,"受化妖剑士所托，帮助他消灭藏匿北海的海妖",5538,"追查海妖(0/1)",{"$nulls":4},113,{"$f":"IF(J487=\"\",\"\",VLOOKUP(J487,EventNPC!A:E,5,FALSE))","v":"北海剑妖"},5544,"阿蘅……你看到了吗？我终于……能带你回家了！",null,5003,19,"",null,null,{"$f":"IF(R487=\"\",\"\",\"-\"&VLOOKUP(R487,EventConditionConfig!A:C,3,FALSE)&IF(S487=\"\",\"\",CHAR(10)&\"-\"&VLOOKUP(S487,EventConditionConfig!A:C,3,FALSE)))","v":""},"","","","",null,null,"",null,null,"",{"$nulls":4},{"$f":"IF(A487=\"\",\"\",IF(ISNUMBER(Y487),2,IF(A488=\"\",IF(OR(AK487>0,VLOOKUP(O487,EventConfig!A:C,3,FALSE)=4),3,\"\"),1)))","v":1},500320,null,5544]
[500320,5523,"受化妖剑士所托，帮助他消灭藏匿北海的海妖",5538,"追查海妖(0/1)",{"$nulls":5},{"$f":"IF(J488=\"\",\"\",VLOOKUP(J488,EventNPC!A:E,5,FALSE))","v":""},5545,"他化作一道血色，贯穿妖兽的头颅。银簪在爆炸的强光中被蹦飞，妖兽发出凄厉的哀嚎，庞大的身躯寸寸瓦解，化作漫天荧光。",null,5003,20,"",null,null,{"$f":"IF(R488=\"\",\"\",\"-\"&VLOOKUP(R488,EventConditionConfig!A:C,3,FALSE)&IF(S488=\"\",\"\",CHAR(10)&\"-\"&VLOOKUP(S488,EventConditionConfig!A:C,3,FALSE)))","v":""},"","","","",null,null,"",null,null,"",{"$nulls":4},{"$f":"IF(A488=\"\",\"\",IF(ISNUMBER(Y488),2,IF(A489=\"\",IF(OR(AK488>0,VLOOKUP(O488,EventConfig!A:C,3,FALSE)=4),3,\"\"),1)))","v":""},"",null,5545]
[null,"",null,"",{"$nulls":7},"",null,null,null,"",{"$nulls":5},"","","",null,null,"",null,null,"",{"$nulls":4},{"$f":"IF(A489=\"\",\"\",IF(ISNUMBER(Y489),2,IF(A490=\"\",IF(OR(AK489>0,VLOOKUP(O489,EventConfig!A:C,3,FALSE)=4),3,\"\"),1)))","v":""},"",null,""]
[{"$f":"O490*100+P490","v":500201},5546,"受疯道人所托，追查《御风化影诀》的下落",5547,"与疯道人对话(0/1)",{"$nulls":4},103,{"$f":"IF(J490=\"\",\"\",VLOOKUP(J490,EventNPC!A:E,5,FALSE))","v":"疯道人"},5548,"小友，可曾记得风无咎",null,5002,1,{"$f":"_xlfn.TEXTJOIN(\";\",1,R490:S490)","v":""},null,null,{"$f":"IF(R490=\"\",\"\",\"-\"&VLOOKUP(R490,EventConditionConfig!A:C,3,FALSE)&IF(S490=\"\",\"\",CHAR(10)&\"-\"&VLOOKUP(S490,EventConditionConfig!A:C,3,FALSE)))","v":""},{"$f":"IF(Y490=\"\",\"\",IF(ISTEXT(Y490),1,2))","v":""},"","","",null,null,"",null,null,"",{"$nulls":4},{"$f":"IF(A490=\"\",\"\",IF(ISNUMBER(Y490),2,IF(A491=\"\",IF(OR(AK490>0,VLOOKUP(O490,EventConfig!A:C,3,FALSE)=4),3,\"\"),1)))","v":1},500202,null,5548]
[500202,5546,"受疯道人所托，追查《御风化影诀》的下落",5547,"与疯道人对话(0/1)",{"$nulls":4},103,{"$f":"IF(J491=\"\",\"\",VLOOKUP(J491,EventNPC!A:E,5,FALSE))","v":"疯道人"},5549,"老夫感受到了风无咎的藏匿之地。",null,5002,2,"",null,null,{"$f":"IF(R491=\"\",\"\",\"-\"&VLOOKUP(R491,EventConditionConfig!A:C,3,FALSE)&IF(S491=\"\",\"\",CHAR(10)&\"-\"&VLOOKUP(S491,EventConditionConfig!A:C,3,FALSE)))","v":""},"","","","",null,null,"",null,null,"",{"$nulls":4},{"$f":"IF(A491=\"\",\"\",IF(ISNUMBER(Y491),2,IF(A492=\"\",IF(OR(AK491>0,VLOOKUP(O491,EventConfig!A:C,3,FALSE)=4),3,\"\"),1)))","v":1},500203,null,5549]
[500203,5546,"受疯道人所托，追查《御风化影诀》的下落",5547,"与疯道人对话(0/1)",{"$nulls":4},100,{"$f":"IF(J492=\"\",\"\",VLOOKUP(J492,EventNPC!A:E,5,FALSE))","v":"玩家"},5550,"前辈我这就赶去。",null,5002,3,"",null,null,{"$f":"IF(R492=\"\",\"\",\"-\"&VLOOKUP(R492,EventConditionConfig!A:C,3,FALSE)&IF(S492=\"\",\"\",CHAR(10)&\"-\"&VLOOKUP(S492,EventConditionConfig!A:C,3,FALSE)))","v":""},"","","","",null,null,"",null,null,"",{"$nulls":4},{"$f":"IF(A492=\"\",\"\",IF(ISNUMBER(Y492),2,IF(A493=\"\",IF(OR(AK492>0,VLOOKUP(O492,EventConfig!A:C,3,FALSE)=4),3,\"\"),1)))","v":1},500204,null,5550]
[500204,5546,"受疯道人所托，追查《御风化影诀》的下落",5547,"与疯道人对话(0/1)",{"$nulls":5},{"$f":"IF(J493=\"\",\"\",VLOOKUP(J493,EventNPC!A:E,5,FALSE))","v":""},5551,"（风无咎在一血池之中打坐，身旁妖气环绕，一眼望去全是生灵血肉）",null,5002,4,"",null,null,{"$f":"IF(R493=\"\",\"\",\"-\"&VLOOKUP(R493,EventConditionConfig!A:C,3,FALSE)&IF(S493=\"\",\"\",CHAR(10)&\"-\"&VLOOKUP(S493,EventConditionConfig!A:C,3,FALSE)))","v":""},"","","","",null,null,"",null,null,"",{"$nulls":4},{"$f":"IF(A493=\"\",\"\",IF(ISNUMBER(Y493),2,IF(A494=\"\",IF(OR(AK493>0,VLOOKUP(O493,EventConfig!A:C,3,FALSE)=4),3,\"\"),1)))","v":1},500205,null,5551]
[500205,5546,"受疯道人所托，追查《御风化影诀》的下落",5547,"与疯道人对话(0/1)",{"$nulls":4},103,{"$f":"IF(J494=\"\",\"\",VLOOKUP(J494,EventNPC!A:E,5,FALSE))","v":"疯道人"},5552,"竟用生魂喂养功法...小友当心！",null,5002,5,"",null,null,{"$f":"IF(R494=\"\",\"\",\"-\"&VLOOKUP(R494,EventConditionConfig!A:C,3,FALSE)&IF(S494=\"\",\"\",CHAR(10)&\"-\"&VLOOKUP(S494,EventConditionConfig!A:C,3,FALSE)))","v":""},"","","","",null,null,"",null,null,"",{"$nulls":4},{"$f":"IF(A494=\"\",\"\",IF(ISNUMBER(Y494),2,IF(A495=\"\",IF(OR(AK494>0,VLOOKUP(O494,EventConfig!A:C,3,FALSE)=4),3,\"\"),1)))","v":1},500206,null,5552]
[500206,5546,"受疯道人所托，追查《御风化影诀》的下落",5547,"与疯道人对话(0/1)",{"$nulls":5},{"$f":"IF(J495=\"\",\"\",VLOOKUP(J495,EventNPC!A:E,5,FALSE))","v":""},5553,"（血池突然炸开，风妖与影妖完全融合，妖躯浮现古魔纹路）",null,5002,6,"",null,null,{"$f":"IF(R495=\"\",\"\",\"-\"&VLOOKUP(R495,EventConditionConfig!A:C,3,FALSE)&IF(S495=\"\",\"\",CHAR(10)&\"-\"&VLOOKUP(S495,EventConditionConfig!A:C,3,FALSE)))","v":""},"","","","",null,null,"",null,null,"",{"$nulls":4},{"$f":"IF(A495=\"\",\"\",IF(ISNUMBER(Y495),2,IF(A496=\"\",IF(OR(AK495>0,VLOOKUP(O495,EventConfig!A:C,3,FALSE)=4),3,\"\"),1)))","v":1},500207,null,5553]
[500207,5546,"受疯道人所托，追查《御风化影诀》的下落",5547,"与疯道人对话(0/1)",{"$nulls":4},112,{"$f":"IF(J496=\"\",\"\",VLOOKUP(J496,EventNPC!A:E,5,FALSE))","v":"风无咎"},5554,"那日是我疏忽大意，这《御风化影诀》留给你们也是暴殄天物，如今在我手上才能发挥它的用处，多说无益既然你们追来了就留下给我当做丹引让我的功力更上一步吧！",null,5002,7,"",null,null,{"$f":"IF(R496=\"\",\"\",\"-\"&VLOOKUP(R496,EventConditionConfig!A:C,3,FALSE)&IF(S496=\"\",\"\",CHAR(10)&\"-\"&VLOOKUP(S496,EventConditionConfig!A:C,3,FALSE)))","v":""},"","","","",null,null,"",null,null,"",{"$nulls":4},{"$f":"IF(A496=\"\",\"\",IF(ISNUMBER(Y496),2,IF(A497=\"\",IF(OR(AK496>0,VLOOKUP(O496,EventConfig!A:C,3,FALSE)=4),3,\"\"),1)))","v":1},500208,null,5554]
[500208,5546,"受疯道人所托，追查《御风化影诀》的下落",5555,"击败风无咎(0/1)",{"$nulls":4},100,{"$f":"IF(J497=\"\",\"\",VLOOKUP(J497,EventNPC!A:E,5,FALSE))","v":"玩家"},5556,"大胆邪修，今日就让你魂飞魄散。",null,5002,8,"",null,null,{"$f":"IF(R497=\"\",\"\",\"-\"&VLOOKUP(R497,EventConditionConfig!A:C,3,FALSE)&IF(S497=\"\",\"\",CHAR(10)&\"-\"&VLOOKUP(S497,EventConditionConfig!A:C,3,FALSE)))","v":""},2,100001,"","",100001,null,"",null,null,"",{"$nulls":4},{"$f":"IF(A497=\"\",\"\",IF(ISNUMBER(Y497),2,IF(A498=\"\",IF(OR(AK497>0,VLOOKUP(O497,EventConfig!A:C,3,FALSE)=4),3,\"\"),1)))","v":2},"500209;101",null,5556]
[500209,5546,"受疯道人所托，追查《御风化影诀》的下落",5555,"击败风无咎(0/1)",{"$nulls":4},103,{"$f":"IF(J498=\"\",\"\",VLOOKUP(J498,EventNPC!A:E,5,FALSE))","v":"疯道人"},5557,"妖族灭我父母，修道的也要杀了我，我究竟做错了什么！",null,5002,9,"",null,null,{"$f":"IF(R498=\"\",\"\",\"-\"&VLOOKUP(R498,EventConditionConfig!A:C,3,FALSE)&IF(S498=\"\",\"\",CHAR(10)&\"-\"&VLOOKUP(S498,EventConditionConfig!A:C,3,FALSE)))","v":""},"","","","",null,null,"",null,null,"",{"$nulls":4},{"$f":"IF(A498=\"\",\"\",IF(ISNUMBER(Y498),2,IF(A499=\"\",IF(OR(AK498>0,VLOOKUP(O498,EventConfig!A:C,3,FALSE)=4),3,\"\"),1)))","v":1},500210,null,5557]
[500210,5546,"受疯道人所托，追查《御风化影诀》的下落",5555,"击败风无咎(0/1)",{"$nulls":5},{"$f":"IF(J499=\"\",\"\",VLOOKUP(J499,EventNPC!A:E,5,FALSE))","v":""},5558,"疯道人赶来后醉醺醺的说道",null,5002,10,"",null,null,{"$f":"IF(R499=\"\",\"\",\"-\"&VLOOKUP(R499,EventConditionConfig!A:C,3,FALSE)&IF(S499=\"\",\"\",CHAR(10)&\"-\"&VLOOKUP(S499,EventConditionConfig!A:C,3,FALSE)))","v":""},"","","","",null,null,"",null,null,"",{"$nulls":4},{"$f":"IF(A499=\"\",\"\",IF(ISNUMBER(Y499),2,IF(A500=\"\",IF(OR(AK499>0,VLOOKUP(O499,EventConfig!A:C,3,FALSE)=4),3,\"\"),1)))","v":1},500211,null,5558]
[500211,5546,"受疯道人所托，追查《御风化影诀》的下落",5555,"击败风无咎(0/1)",{"$nulls":4},103,{"$f":"IF(J500=\"\",\"\",VLOOKUP(J500,EventNPC!A:E,5,FALSE))","v":"疯道人"},5559,"小友还请留手。",null,5002,11,"",null,null,{"$f":"IF(R500=\"\",\"\",\"-\"&VLOOKUP(R500,EventConditionConfig!A:C,3,FALSE)&IF(S500=\"\",\"\",CHAR(10)&\"-\"&VLOOKUP(S500,EventConditionConfig!A:C,3,FALSE)))","v":""},"","","","",null,null,"",null,null,"",{"$nulls":4},{"$f":"IF(A500=\"\",\"\",IF(ISNUMBER(Y500),2,IF(A501=\"\",IF(OR(AK500>0,VLOOKUP(O500,EventConfig!A:C,3,FALSE)=4),3,\"\"),1)))","v":1},500212,null,5559]
[500212,5546,"受疯道人所托，追查《御风化影诀》的下落",5555,"击败风无咎(0/1)",{"$nulls":4},100,{"$f":"IF(J501=\"\",\"\",VLOOKUP(J501,EventNPC!A:E,5,FALSE))","v":"玩家"},5560,"\"\"",null,5002,12,"",null,null,{"$f":"IF(R501=\"\",\"\",\"-\"&VLOOKUP(R501,EventConditionConfig!A:C,3,FALSE)&IF(S501=\"\",\"\",CHAR(10)&\"-\"&VLOOKUP(S501,EventConditionConfig!A:C,3,FALSE)))","v":""},1,"500213;500213","5561;5562",5561,"前辈这种时刻还有心思喝酒",null,5562,"这步入邪道之人留着为何",null,"",{"$nulls":4},{"$f":"IF(A501=\"\",\"\",IF(ISNUMBER(Y501),2,IF(A502=\"\",IF(OR(AK501>0,VLOOKUP(O501,EventConfig!A:C,3,FALSE)=4),3,\"\"),1)))","v":1},500213,null,5562]
[500213,5546,"受疯道人所托，追查《御风化影诀》的下落",5555,"击败风无咎(0/1)",{"$nulls":4},103,{"$f":"IF(J502=\"\",\"\",VLOOKUP(J502,EventNPC!A:E,5,FALSE))","v":"疯道人"},5563,"所谓《御风化影诀》凡人无法驾驭，老夫念他风灵根强大便想着拿去便是",null,5002,13,"",null,null,{"$f":"IF(R502=\"\",\"\",\"-\"&VLOOKUP(R502,EventConditionConfig!A:C,3,FALSE)&IF(S502=\"\",\"\",CHAR(10)&\"-\"&VLOOKUP(S502,EventConditionConfig!A:C,3,FALSE)))","v":""},"","","","",null,null,"",null,null,"",{"$nulls":4},{"$f":"IF(A502=\"\",\"\",IF(ISNUMBER(Y502),2,IF(A503=\"\",IF(OR(AK502>0,VLOOKUP(O502,EventConfig!A:C,3,FALSE)=4),3,\"\"),1)))","v":1},500214,null,5563]
[500214,5546,"受疯道人所托，追查《御风化影诀》的下落",5555,"击败风无咎(0/1)",{"$nulls":4},103,{"$f":"IF(J503=\"\",\"\",VLOOKUP(J503,EventNPC!A:E,5,FALSE))","v":"疯道人"},5564,"没想到你以魂为薪...以血为引...强行修炼",null,5002,14,"",null,null,{"$f":"IF(R503=\"\",\"\",\"-\"&VLOOKUP(R503,EventConditionConfig!A:C,3,FALSE)&IF(S503=\"\",\"\",CHAR(10)&\"-\"&VLOOKUP(S503,EventConditionConfig!A:C,3,FALSE)))","v":""},"","","","",null,null,"",null,null,"",{"$nulls":4},{"$f":"IF(A503=\"\",\"\",IF(ISNUMBER(Y503),2,IF(A504=\"\",IF(OR(AK503>0,VLOOKUP(O503,EventConfig!A:C,3,FALSE)=4),3,\"\"),1)))","v":1},500215,null,5564]
[500215,5546,"受疯道人所托，追查《御风化影诀》的下落",5555,"击败风无咎(0/1)",{"$nulls":4},103,{"$f":"IF(J504=\"\",\"\",VLOOKUP(J504,EventNPC!A:E,5,FALSE))","v":"疯道人"},5565,"今日放你一马，去洗涤魔气后还能拜入我的门下",null,5002,15,"",null,null,{"$f":"IF(R504=\"\",\"\",\"-\"&VLOOKUP(R504,EventConditionConfig!A:C,3,FALSE)&IF(S504=\"\",\"\",CHAR(10)&\"-\"&VLOOKUP(S504,EventConditionConfig!A:C,3,FALSE)))","v":""},"","","","",null,null,"",null,null,"",{"$nulls":4},{"$f":"IF(A504=\"\",\"\",IF(ISNUMBER(Y504),2,IF(A505=\"\",IF(OR(AK504>0,VLOOKUP(O504,EventConfig!A:C,3,FALSE)=4),3,\"\"),1)))","v":1},500216,null,5565]
[500216,5546,"受疯道人所托，追查《御风化影诀》的下落",5555,"击败风无咎(0/1)",{"$nulls":4},103,{"$f":"IF(J505=\"\",\"\",VLOOKUP(J505,EventNPC!A:E,5,FALSE))","v":"疯道人"},5566,"记住，靠吞噬得来的力量，终有一日会反噬其主。",null,5002,16,"",null,null,{"$f":"IF(R505=\"\",\"\",\"-\"&VLOOKUP(R505,EventConditionConfig!A:C,3,FALSE)&IF(S505=\"\",\"\",CHAR(10)&\"-\"&VLOOKUP(S505,EventConditionConfig!A:C,3,FALSE)))","v":""},"","","","",null,null,"",null,null,"",{"$nulls":4},{"$f":"IF(A505=\"\",\"\",IF(ISNUMBER(Y505),2,IF(A506=\"\",IF(OR(AK505>0,VLOOKUP(O505,EventConfig!A:C,3,FALSE)=4),3,\"\"),1)))","v":""},"",null,5566]
[null,"",null,"",{"$nulls":7},"",null,null,null,"",{"$nulls":5},"","","",null,null,"",null,null,"",{"$nulls":4},{"$f":"IF(A506=\"\",\"\",IF(ISNUMBER(Y506),2,IF(A507=\"\",IF(OR(AK506>0,VLOOKUP(O506,EventConfig!A:C,3,FALSE)=4),3,\"\"),1)))","v":""},"",null,""]
[{"$f":"O507*100+P507","v":101201},5567,"神识探索至一处矿井之中，此处灵气氤氲","",{"$nulls":6},{"$f":"IF(J507=\"\",\"\",VLOOKUP(J507,EventNPC!A:E,5,FALSE))","v":""},5568,"前往矿井采集灵矿",null,1012,1,{"$f":"_xlfn.TEXTJOIN(\";\",1,R507:S507)","v":""},null,null,{"$f":"IF(R507=\"\",\"\",\"-\"&VLOOKUP(R507,EventConditionConfig!A:C,3,FALSE)&IF(S507=\"\",\"\",CHAR(10)&\"-\"&VLOOKUP(S507,EventConditionConfig!A:C,3,FALSE)))","v":""},{"$f":"IF(Y507=\"\",\"\",1)","v":""},"","","",null,null,"",null,null,"",{"$nulls":4},{"$f":"IF(A507=\"\",\"\",IF(ISNUMBER(Y507),2,IF(A508=\"\",IF(OR(AK507>0,VLOOKUP(O507,EventConfig!A:C,3,FALSE)=4),3,\"\"),1)))","v":""},"",null,5568]
[null,"",null,"",{"$nulls":7},"",null,null,null,"",{"$nulls":5},"","","",null,null,"",null,null,"",{"$nulls":4},{"$f":"IF(A508=\"\",\"\",IF(ISNUMBER(Y508),2,IF(A509=\"\",IF(OR(AK508>0,VLOOKUP(O508,EventConfig!A:C,3,FALSE)=4),3,\"\"),1)))","v":""},"",null,""]
[101301,5569,"神识经过一处荒废寺庙之外，寺庙之中似乎有不同寻常之物","",{"$nulls":6},{"$f":"IF(J509=\"\",\"\",VLOOKUP(J509,EventNPC!A:E,5,FALSE))","v":""},5570,"进入寺庙找寻散发灵气的修为丹",null,1013,1,"",null,null,{"$f":"IF(R509=\"\",\"\",\"-\"&VLOOKUP(R509,EventConditionConfig!A:C,3,FALSE)&IF(S509=\"\",\"\",CHAR(10)&\"-\"&VLOOKUP(S509,EventConditionConfig!A:C,3,FALSE)))","v":""},"","","","",null,null,"",null,null,"",{"$nulls":4},{"$f":"IF(A509=\"\",\"\",IF(ISNUMBER(Y509),2,IF(A510=\"\",IF(OR(AK509>0,VLOOKUP(O509,EventConfig!A:C,3,FALSE)=4),3,\"\"),1)))","v":""},"",null,5570]
[null,"",null,"",{"$nulls":7},"",null,null,null,"",{"$nulls":5},"","","",null,null,"",null,null,"",{"$nulls":4},{"$f":"IF(A510=\"\",\"\",IF(ISNUMBER(Y510),2,IF(A511=\"\",IF(OR(AK510>0,VLOOKUP(O510,EventConfig!A:C,3,FALSE)=4),3,\"\"),1)))","v":""},"",null,""]
[101401,5571,"神识至一处灵气充盈之地，似乎是处洞府","",{"$nulls":6},{"$f":"IF(J511=\"\",\"\",VLOOKUP(J511,EventNPC!A:E,5,FALSE))","v":""},5572,"进入洞府收集可用之物",null,1014,1,"",null,null,{"$f":"IF(R511=\"\",\"\",\"-\"&VLOOKUP(R511,EventConditionConfig!A:C,3,FALSE)&IF(S511=\"\",\"\",CHAR(10)&\"-\"&VLOOKUP(S511,EventConditionConfig!A:C,3,FALSE)))","v":""},"","","","",null,null,"",null,null,"",{"$nulls":4},{"$f":"IF(A511=\"\",\"\",IF(ISNUMBER(Y511),2,IF(A512=\"\",IF(OR(AK511>0,VLOOKUP(O511,EventConfig!A:C,3,FALSE)=4),3,\"\"),1)))","v":""},"",null,5572]
[null,"",null,"",{"$nulls":7},"",null,null,null,"",{"$nulls":5},"","","",null,null,"",null,null,"",{"$nulls":4},{"$f":"IF(A512=\"\",\"\",IF(ISNUMBER(Y512),2,IF(A513=\"\",IF(OR(AK512>0,VLOOKUP(O512,EventConfig!A:C,3,FALSE)=4),3,\"\"),1)))","v":""},"",null,""]
[{"$f":"O513*100+P513","v":101501},5573,"一个不知好歹的邪修拦住了你的去路！",5574,"击败山贼（0/1)",{"$nulls":4},107,{"$f":"IF(J513=\"\",\"\",VLOOKUP(J513,EventNPC!A:E,5,FALSE))","v":"村名甲"},5575,"此路是我开，此树是我栽，要想从此过，留下买命财！",null,1015,1,{"$f":"_xlfn.TEXTJOIN(\";\",1,R513:S513)","v":""},null,null,{"$f":"IF(R513=\"\",\"\",\"-\"&VLOOKUP(R513,EventConditionConfig!A:C,3,FALSE)&IF(S513=\"\",\"\",CHAR(10)&\"-\"&VLOOKUP(S513,EventConditionConfig!A:C,3,FALSE)))","v":""},{"$f":"IF(Y513=\"\",\"\",IF(ISTEXT(Y513),1,2))","v":""},"","","",null,null,"",null,null,"",{"$nulls":4},{"$f":"IF(A513=\"\",\"\",IF(ISNUMBER(Y513),2,IF(A514=\"\",IF(OR(AK513>0,VLOOKUP(O513,EventConfig!A:C,3,FALSE)=4),3,\"\"),1)))","v":1},101502,null,5575]
[101502,5573,"一个不知好歹的邪修拦住了你的去路！",5574,"击败山贼（0/1)",{"$nulls":4},107,{"$f":"IF(J514=\"\",\"\",VLOOKUP(J514,EventNPC!A:E,5,FALSE))","v":"村名甲"},5576,"大胆山贼，拿命来！",null,1015,2,"",null,null,{"$f":"IF(R514=\"\",\"\",\"-\"&VLOOKUP(R514,EventConditionConfig!A:C,3,FALSE)&IF(S514=\"\",\"\",CHAR(10)&\"-\"&VLOOKUP(S514,EventConditionConfig!A:C,3,FALSE)))","v":""},2,100001,"","",100001,null,"",null,null,"",{"$nulls":4},{"$f":"IF(A514=\"\",\"\",IF(ISNUMBER(Y514),2,IF(A515=\"\",IF(OR(AK514>0,VLOOKUP(O514,EventConfig!A:C,3,FALSE)=4),3,\"\"),1)))","v":2},"101503;101",null,5576]
[null,"",null,"",{"$nulls":7},"",null,null,null,"",{"$nulls":5},"","","",null,null,"",null,null,"",{"$nulls":4},{"$f":"IF(A515=\"\",\"\",IF(ISNUMBER(Y515),2,IF(A516=\"\",IF(OR(AK515>0,VLOOKUP(O515,EventConfig!A:C,3,FALSE)=4),3,\"\"),1)))","v":""},"",null,""]
[{"$f":"O516*100+P516","v":101601},5577,"一位和尚叫住了你，貌似有什么急事",5578,"找到袈裟",{"$nulls":4},108,{"$f":"IF(J516=\"\",\"\",VLOOKUP(J516,EventNPC!A:E,5,FALSE))","v":"村名乙"},5579,"仙长，我的袈裟被可恶的妖兽夺走了，还请为老僧主持公道啊",null,1016,1,{"$f":"_xlfn.TEXTJOIN(\";\",1,R516:S516)","v":""},null,null,{"$f":"IF(R516=\"\",\"\",\"-\"&VLOOKUP(R516,EventConditionConfig!A:C,3,FALSE)&IF(S516=\"\",\"\",CHAR(10)&\"-\"&VLOOKUP(S516,EventConditionConfig!A:C,3,FALSE)))","v":""},"","","","",null,null,"",null,null,"",{"$nulls":4},{"$f":"IF(A516=\"\",\"\",IF(ISNUMBER(Y516),2,IF(A517=\"\",IF(OR(AK516>0,VLOOKUP(O516,EventConfig!A:C,3,FALSE)=4),3,\"\"),1)))","v":1},101602,null,5579]
[101602,5577,"一位和尚叫住了你，貌似有什么急事",5580,"使用神识寻找袈裟",{"$nulls":4},100,{"$f":"IF(J517=\"\",\"\",VLOOKUP(J517,EventNPC!A:E,5,FALSE))","v":"玩家"},5581,"在此等待即可",null,1016,2,"",null,null,{"$f":"IF(R517=\"\",\"\",\"-\"&VLOOKUP(R517,EventConditionConfig!A:C,3,FALSE)&IF(S517=\"\",\"\",CHAR(10)&\"-\"&VLOOKUP(S517,EventConditionConfig!A:C,3,FALSE)))","v":""},"","","","",null,null,"",null,null,"",{"$nulls":4},{"$f":"IF(A517=\"\",\"\",IF(ISNUMBER(Y517),2,IF(A518=\"\",IF(OR(AK517>0,VLOOKUP(O517,EventConfig!A:C,3,FALSE)=4),3,\"\"),1)))","v":{"$error":"#N/A"}},{"$error":"#N/A"},30009,5581]
[null,"",null,{"$f":"IF(E518=\"\",\"\",IF(E518=E517,D517,MAX(AL517,AL516,B518)+1))","v":""},{"$nulls":7},{"$f":"IF(M518=\"\",\"\",MAX(AL517,AL516,B518,D518)+1)","v":""},null,null,null,"",{"$nulls":5},"","","",null,null,"",null,null,"",{"$nulls":4},{"$f":"IF(A518=\"\",\"\",IF(ISNUMBER(Y518),2,IF(A519=\"\",IF(OR(AK518>0,VLOOKUP(O518,EventConfig!A:C,3,FALSE)=4),3,\"\"),1)))","v":""},"",null,{"$f":"IF(A518=\"\",\"\",MAX(B518,D518,L518,X518,AA518,AL517,AL516,AD518))","v":""}]
[101701,5582,"一位和尚叫住了你，貌似有什么急事",5583,"找到袈裟",{"$nulls":4},108,{"$f":"IF(J519=\"\",\"\",VLOOKUP(J519,EventNPC!A:E,5,FALSE))","v":"村名乙"},5584,"感谢仙长帮我寻回这件袈裟！",null,1017,1,"18",18,null,{"$f":"IF(R519=\"\",\"\",\"-\"&VLOOKUP(R519,EventConditionConfig!A:C,3,FALSE)&IF(S519=\"\",\"\",CHAR(10)&\"-\"&VLOOKUP(S519,EventConditionConfig!A:C,3,FALSE)))","v":"-获得一件袈裟"},{"$f":"IF(Y519=\"\",\"\",IF(ISTEXT(Y519),1,2))","v":""},"","","",null,null,"",null,null,"",{"$nulls":4},{"$f":"IF(A519=\"\",\"\",IF(ISNUMBER(Y519),2,IF(A520=\"\",IF(OR(AK519>0,VLOOKUP(O519,EventConfig!A:C,3,FALSE)=4),3,\"\"),1)))","v":{"$error":"#N/A"}},{"$error":"#N/A"},null,5584]
[null,"",null,"",{"$nulls":7},"",null,null,null,"",{"$nulls":5},"","","",null,null,"",null,null,"",{"$nulls":4},{"$f":"IF(A520=\"\",\"\",IF(ISNUMBER(Y520),2,IF(A521=\"\",IF(OR(AK520>0,VLOOKUP(O520,EventConfig!A:C,3,FALSE)=4),3,\"\"),1)))","v":""},"",null,""]
[{"$f":"O521*100+P521","v":3000901},5585,"击杀灵兽获得袈裟","",{"$nulls":6},{"$f":"IF(J521=\"\",\"\",VLOOKUP(J521,EventNPC!A:E,5,FALSE))","v":""},"",null,null,30009,1,{"$f":"_xlfn.TEXTJOIN(\";\",1,R521:S521)","v":""},null,null,{"$f":"IF(R521=\"\",\"\",\"-\"&VLOOKUP(R521,EventConditionConfig!A:C,3,FALSE)&IF(S521=\"\",\"\",CHAR(10)&\"-\"&VLOOKUP(S521,EventConditionConfig!A:C,3,FALSE)))","v":""},{"$f":"IF(Y521=\"\",\"\",IF(ISTEXT(Y521),1,2))","v":2},10001,"","",10001,null,"",null,null,"",null,null,1301,1,{"$f":"IF(A521=\"\",\"\",IF(ISNUMBER(Y521),2,IF(A522=\"\",IF(OR(AK521>0,VLOOKUP(O521,EventConfig!A:C,3,FALSE)=4),3,\"\"),1)))","v":2},"300902;101",300902,5585]
[{"$f":"O522*100+P522","v":3000902},5585,"击杀灵兽获得袈裟","",{"$nulls":6},{"$f":"IF(J522=\"\",\"\",VLOOKUP(J522,EventNPC!A:E,5,FALSE))","v":""},"",null,null,30009,2,{"$f":"_xlfn.TEXTJOIN(\";\",1,R522:S522)","v":""},null,null,{"$f":"IF(R522=\"\",\"\",\"-\"&VLOOKUP(R522,EventConditionConfig!A:C,3,FALSE)&IF(S522=\"\",\"\",CHAR(10)&\"-\"&VLOOKUP(S522,EventConditionConfig!A:C,3,FALSE)))","v":""},null,"","","",null,null,"",null,null,"",{"$nulls":4},{"$f":"IF(A522=\"\",\"\",IF(ISNUMBER(Y522),2,IF(A523=\"\",IF(OR(AK522>0,VLOOKUP(O522,EventConfig!A:C,3,FALSE)=4),3,\"\"),1)))","v":3},1017,1017,5585]
[null,"",null,"",{"$nulls":7},"",null,null,null,"",{"$nulls":5},"","","",null,null,"",null,null,"",{"$nulls":4},{"$f":"IF(A523=\"\",\"\",IF(ISNUMBER(Y523),2,IF(A524=\"\",IF(OR(AK523>0,VLOOKUP(O523,EventConfig!A:C,3,FALSE)=4),3,\"\"),1)))","v":""},"",null,""]
[101801,5586,"云游修士历练在即，急待前辈指点一二",5587,"指引云游修士",{"$nulls":4},107,{"$f":"IF(J524=\"\",\"\",VLOOKUP(J524,EventNPC!A:E,5,FALSE))","v":"村名甲"},5588,"前辈还请赐教一二",null,1018,1,"",null,null,{"$f":"IF(R524=\"\",\"\",\"-\"&VLOOKUP(R524,EventConditionConfig!A:C,3,FALSE)&IF(S524=\"\",\"\",CHAR(10)&\"-\"&VLOOKUP(S524,EventConditionConfig!A:C,3,FALSE)))","v":""},"","","","",null,null,"",null,null,"",{"$nulls":4},{"$f":"IF(A524=\"\",\"\",IF(ISNUMBER(Y524),2,IF(A525=\"\",IF(OR(AK524>0,VLOOKUP(O524,EventConfig!A:C,3,FALSE)=4),3,\"\"),1)))","v":1},101802,null,5588]
[101802,{"$f":"IF(C525=\"\",\"\",IF(C525=C524,B524,MAX(AL524,AL523)+1))","v":5586},"云游修士历练在即，急待前辈指点一二",5587,"指引云游修士",{"$nulls":4},100,{"$f":"IF(J525=\"\",\"\",VLOOKUP(J525,EventNPC!A:E,5,FALSE))","v":"玩家"},5589,"\"\"",null,1018,2,"",null,null,{"$f":"IF(R525=\"\",\"\",\"-\"&VLOOKUP(R525,EventConditionConfig!A:C,3,FALSE)&IF(S525=\"\",\"\",CHAR(10)&\"-\"&VLOOKUP(S525,EventConditionConfig!A:C,3,FALSE)))","v":""},1,"101804;101803","5590;5591",{"$f":"IF(OR(ISNUMBER(Y525),Y525=\"\"),\"\",MAX(AL524,AL522,B525,D525,L525)+1)","v":5590},"不予理睬直接离开",101804,{"$f":"IF(OR(ISNUMBER(AB525),AB525=\"\"),\"\",X525+1)","v":5591},"指导云游修士进行修炼",null,{"$f":"IF(OR(ISNUMBER(AE525),AE525=\"\"),\"\",AA525+1)","v":""},{"$nulls":4},{"$f":"IF(A525=\"\",\"\",IF(ISNUMBER(Y525),2,IF(A526=\"\",IF(OR(AK525>0,VLOOKUP(O525,EventConfig!A:C,3,FALSE)=4),3,\"\"),1)))","v":1},101803,null,5591]
[101803,5586,"云游修士历练在即，急待前辈指点一二",5587,"指引云游修士",{"$nulls":4},107,{"$f":"IF(J526=\"\",\"\",VLOOKUP(J526,EventNPC!A:E,5,FALSE))","v":"村名甲"},5592,"多谢前辈！",null,1018,3,"",null,null,{"$f":"IF(R526=\"\",\"\",\"-\"&VLOOKUP(R526,EventConditionConfig!A:C,3,FALSE)&IF(S526=\"\",\"\",CHAR(10)&\"-\"&VLOOKUP(S526,EventConditionConfig!A:C,3,FALSE)))","v":""},"",{"$f":"IF(U526=1,_xlfn.TEXTJOIN(\";\",1,IF(Z526=\"\",A526+1,Z526),IF(AND(AA526<>\"\",AC526=\"\"),A526+1,AC526),IF(AND(AD526<>\"\",AF526=\"\"),A526+1,AF526)),IF(U526=2,Y526,\"\"))","v":""},{"$f":"_xlfn.TEXTJOIN(\";\",1,X526,AA526,AD526)","v":""},"",null,null,"",null,null,"",null,null,1202,1,{"$f":"IF(A526=\"\",\"\",IF(ISNUMBER(Y526),2,IF(A527=\"\",IF(OR(AK526>0,VLOOKUP(O526,EventConfig!A:C,3,FALSE)=4),3,\"\"),1)))","v":1},{"$f":"IF(AI526=\"\",\"\",CHOOSE(AI526,IF(AK526=\"\",A526+1,AK526),CONCATENATE(IF(AK526=\"\",A526+1,AK526),\";101\"),IF(AK526=\"\",O526+1,AK526)))","v":101804},null,5592]
[101804,5586,"云游修士历练在即，急待前辈指点一二",5587,"指引云游修士",{"$nulls":5},{"$f":"IF(J527=\"\",\"\",VLOOKUP(J527,EventNPC!A:E,5,FALSE))","v":""},5593,"云游修士见你不愿教导便离开了",null,1018,4,"",null,null,{"$f":"IF(R527=\"\",\"\",\"-\"&VLOOKUP(R527,EventConditionConfig!A:C,3,FALSE)&IF(S527=\"\",\"\",CHAR(10)&\"-\"&VLOOKUP(S527,EventConditionConfig!A:C,3,FALSE)))","v":""},"","","","",null,null,"",null,null,"",null,null,1201,1,{"$f":"IF(A527=\"\",\"\",IF(ISNUMBER(Y527),2,IF(A528=\"\",IF(OR(AK527>0,VLOOKUP(O527,EventConfig!A:C,3,FALSE)=4),3,\"\"),1)))","v":{"$error":"#N/A"}},{"$error":"#N/A"},null,5593]
[null,"",null,"",{"$nulls":7},"",null,null,null,"",{"$nulls":5},"","","",null,null,"",null,null,"",{"$nulls":4},{"$f":"IF(A528=\"\",\"\",IF(ISNUMBER(Y528),2,IF(A529=\"\",IF(OR(AK528>0,VLOOKUP(O528,EventConfig!A:C,3,FALSE)=4),3,\"\"),1)))","v":""},"",null,""]
[{"$f":"O529*100+P529","v":101901},5594,"逍遥宗的长老似乎有事找你",5595,"清剿妖王（0/1）",{"$nulls":4},108,{"$f":"IF(J529=\"\",\"\",VLOOKUP(J529,EventNPC!A:E,5,FALSE))","v":"村名乙"},5596,"今日我宗弟子发现云海妖气冲天，怕是有妖兽来临。还望小友走一趟，消灭那的妖王",null,1019,1,{"$f":"_xlfn.TEXTJOIN(\";\",1,R529:S529)","v":""},null,null,null,{"$f":"IF(Y529=\"\",\"\",IF(ISTEXT(Y529),1,2))","v":""},"","","",null,null,"",null,null,"",{"$nulls":4},{"$f":"IF(A529=\"\",\"\",IF(ISNUMBER(Y529),2,IF(A530=\"\",IF(OR(AK529>0,VLOOKUP(O529,EventConfig!A:C,3,FALSE)=4),3,\"\"),1)))","v":1},101902,null,5596]
[101902,5594,"逍遥宗的长老似乎有事找你",5595,"清剿妖王（0/1）",{"$nulls":4},100,{"$f":"IF(J530=\"\",\"\",VLOOKUP(J530,EventNPC!A:E,5,FALSE))","v":"玩家"},5597,"小事一桩",null,1019,2,"",null,null,{"$f":"IF(R530=\"\",\"\",\"-\"&VLOOKUP(R530,EventConditionConfig!A:C,3,FALSE)&IF(S530=\"\",\"\",CHAR(10)&\"-\"&VLOOKUP(S530,EventConditionConfig!A:C,3,FALSE)))","v":""},5,"","","",null,null,"",null,null,"",{"$nulls":4},{"$f":"IF(A530=\"\",\"\",IF(ISNUMBER(Y530),2,IF(A531=\"\",IF(OR(AK530>0,VLOOKUP(O530,EventConfig!A:C,3,FALSE)=4),3,\"\"),1)))","v":1},101903,null,5597]
[101903,5598,"前往清剿妖王",5595,"清剿妖王（0/1）",{"$nulls":5},{"$f":"IF(J531=\"\",\"\",VLOOKUP(J531,EventNPC!A:E,5,FALSE))","v":""},"",null,null,1019,3,"",null,null,{"$f":"IF(R531=\"\",\"\",\"-\"&VLOOKUP(R531,EventConditionConfig!A:C,3,FALSE)&IF(S531=\"\",\"\",CHAR(10)&\"-\"&VLOOKUP(S531,EventConditionConfig!A:C,3,FALSE)))","v":""},{"$f":"IF(Y531=\"\",\"\",IF(ISTEXT(Y531),1,2))","v":2},100001,"","",100001,null,"",null,null,"",{"$nulls":4},{"$f":"IF(A531=\"\",\"\",IF(ISNUMBER(Y531),2,IF(A532=\"\",IF(OR(AK531>0,VLOOKUP(O531,EventConfig!A:C,3,FALSE)=4),3,\"\"),1)))","v":2},"101904;101",null,5598]
[null,"",null,"",{"$nulls":7},"",null,null,null,"",{"$nulls":5},"","","",null,null,"",null,null,"",{"$nulls":4},{"$f":"IF(A532=\"\",\"\",IF(ISNUMBER(Y532),2,IF(A533=\"\",IF(OR(AK532>0,VLOOKUP(O532,EventConfig!A:C,3,FALSE)=4),3,\"\"),1)))","v":""},"",null,""]
[{"$f":"O533*100+P533","v":102001},5599,"村民急匆匆的前来找你",5600,"清剿妖兽（0/1）",{"$nulls":4},108,{"$f":"IF(J533=\"\",\"\",VLOOKUP(J533,EventNPC!A:E,5,FALSE))","v":"村名乙"},5601,"仙长，村中有妖兽闹事，还请出手解决！",null,1020,1,{"$f":"_xlfn.TEXTJOIN(\";\",1,R533:S533)","v":""},null,null,null,1,"102002;102002","5602;5603",5602,"区区妖兽，灭掉便是",null,5603,"我可是要酬劳的",null,"",{"$nulls":4},{"$f":"IF(A533=\"\",\"\",IF(ISNUMBER(Y533),2,IF(A534=\"\",IF(OR(AK533>0,VLOOKUP(O533,EventConfig!A:C,3,FALSE)=4),3,\"\"),1)))","v":1},102002,null,5603]
[102002,5599,"村民急匆匆的前来找你",5600,"清剿妖兽（0/1）",{"$nulls":4},108,{"$f":"IF(J534=\"\",\"\",VLOOKUP(J534,EventNPC!A:E,5,FALSE))","v":"村名乙"},5604,"多谢仙长相救!报酬好说",null,1020,2,"",null,null,null,2,100001,"","",100001,null,"",null,null,"",null,null,1203,1,{"$f":"IF(A534=\"\",\"\",IF(ISNUMBER(Y534),2,IF(A535=\"\",IF(OR(AK534>0,VLOOKUP(O534,EventConfig!A:C,3,FALSE)=4),3,\"\"),1)))","v":2},"102003;101",null,5604]
[null,"",null,"",{"$nulls":7},"",null,null,null,"",{"$nulls":5},"","","",null,null,"",null,null,"",{"$nulls":4},{"$f":"IF(A535=\"\",\"\",IF(ISNUMBER(Y535),2,IF(A536=\"\",IF(OR(AK535>0,VLOOKUP(O535,EventConfig!A:C,3,FALSE)=4),3,\"\"),1)))","v":""},"",null,""]
[102101,5605,"一个和尚急匆匆的叫住了你",5606,"与和尚对话",{"$nulls":4},108,{"$f":"IF(J536=\"\",\"\",VLOOKUP(J536,EventNPC!A:E,5,FALSE))","v":"村名乙"},5607,"前些日子有妖兽在寺中大闹，盗走了琉璃盏，还请仙长出手相助",null,1021,1,"",null,null,null,{"$f":"IF(Y536=\"\",\"\",IF(ISTEXT(Y536),1,2))","v":""},"","","",null,null,"",null,null,"",{"$nulls":4},{"$f":"IF(A536=\"\",\"\",IF(ISNUMBER(Y536),2,IF(A537=\"\",IF(OR(AK536>0,VLOOKUP(O536,EventConfig!A:C,3,FALSE)=4),3,\"\"),1)))","v":1},102102,null,5607]
[102102,5605,"一个和尚急匆匆的叫住了你",5606,"与和尚对话",{"$nulls":4},100,{"$f":"IF(J537=\"\",\"\",VLOOKUP(J537,EventNPC!A:E,5,FALSE))","v":"玩家"},5608," ",null,1021,2,"",null,null,{"$f":"IF(R537=\"\",\"\",\"-\"&VLOOKUP(R537,EventConditionConfig!A:C,3,FALSE)&IF(S537=\"\",\"\",CHAR(10)&\"-\"&VLOOKUP(S537,EventConditionConfig!A:C,3,FALSE)))","v":""},1,"102103","5609",5609,"还请在此等候我拿来琉璃盏",null,"",null,null,"",{"$nulls":4},{"$f":"IF(A537=\"\",\"\",IF(ISNUMBER(Y537),2,IF(A538=\"\",IF(OR(AK537>0,VLOOKUP(O537,EventConfig!A:C,3,FALSE)=4),3,\"\"),1)))","v":1},102103,null,5609]
[102103,5605,"一个和尚急匆匆的叫住了你",5606,"与和尚对话",{"$nulls":4},108,{"$f":"IF(J538=\"\",\"\",VLOOKUP(J538,EventNPC!A:E,5,FALSE))","v":"村名乙"},5610,"感谢仙长相助！",null,1021,3,"19",19,null,{"$f":"IF(R538=\"\",\"\",\"-\"&VLOOKUP(R538,EventConditionConfig!A:C,3,FALSE)&IF(S538=\"\",\"\",CHAR(10)&\"-\"&VLOOKUP(S538,EventConditionConfig!A:C,3,FALSE)))","v":"-夺回琉璃盏"},"","","","",null,null,"",null,null,"",null,null,1203,1,{"$f":"IF(A538=\"\",\"\",IF(ISNUMBER(Y538),2,IF(A539=\"\",IF(OR(AK538>0,VLOOKUP(O538,EventConfig!A:C,3,FALSE)=4),3,\"\"),1)))","v":{"$error":"#N/A"}},{"$error":"#N/A"},null,5610]
[null,"",null,"",{"$nulls":7},"",null,null,null,"",{"$nulls":5},"","","",null,null,"",null,null,"",{"$nulls":4},{"$f":"IF(A539=\"\",\"\",IF(ISNUMBER(Y539),2,IF(A540=\"\",IF(OR(AK539>0,VLOOKUP(O539,EventConfig!A:C,3,FALSE)=4),3,\"\"),1)))","v":""},"",null,""]
[{"$f":"O540*100+P540","v":3001001},5611,"击败盗走琉璃盏的妖兽",5612,"击败妖兽",{"$nulls":4},100,{"$f":"IF(J540=\"\",\"\",VLOOKUP(J540,EventNPC!A:E,5,FALSE))","v":"玩家"},5613,"好一个妖兽竟敢盗走琉璃盏！",null,30010,{"$f":"IF(O540=\"\",\"\",IF(O540=O539,P539+1,1))","v":1},{"$f":"_xlfn.TEXTJOIN(\";\",1,R540:S540)","v":""},null,null,null,{"$f":"IF(Y540=\"\",\"\",IF(ISTEXT(Y540),1,2))","v":2},100001,"","",100001,null,"",null,null,"",null,null,1001,null,{"$f":"IF(A540=\"\",\"\",IF(ISNUMBER(Y540),2,IF(A541=\"\",IF(OR(AK540>0,VLOOKUP(O540,EventConfig!A:C,3,FALSE)=4),3,\"\"),1)))","v":2},"3001002;101",null,5613]
[null,"",null,"",{"$nulls":7},"",null,null,null,"",{"$nulls":4},"","","","",null,null,"",null,null,"",{"$nulls":4},{"$f":"IF(A541=\"\",\"\",IF(ISNUMBER(Y541),2,IF(A542=\"\",IF(OR(AK541>0,VLOOKUP(O541,EventConfig!A:C,3,FALSE)=4),3,\"\"),1)))","v":""},"",null,""]
[102201,5614,"道之何在，明境道长前来论道",5615,"与道长进行对话",{"$nulls":4},107,{"$f":"IF(J542=\"\",\"\",VLOOKUP(J542,EventNPC!A:E,5,FALSE))","v":"村名甲"},5616,"世人都知神仙好，惟有功名忘不了。",null,1022,1,"",null,null,{"$f":"IF(R542=\"\",\"\",\"-\"&VLOOKUP(R542,EventConditionConfig!A:C,3,FALSE)&IF(S542=\"\",\"\",CHAR(10)&\"-\"&VLOOKUP(S542,EventConditionConfig!A:C,3,FALSE)))","v":""},"","","","",null,null,"",null,null,"",{"$nulls":4},{"$f":"IF(A542=\"\",\"\",IF(ISNUMBER(Y542),2,IF(A543=\"\",IF(OR(AK542>0,VLOOKUP(O542,EventConfig!A:C,3,FALSE)=4),3,\"\"),1)))","v":1},102202,null,5616]
[102202,5614,"道之何在，明境道长前来论道",5615,"与道长进行对话",{"$nulls":4},107,{"$f":"IF(J543=\"\",\"\",VLOOKUP(J543,EventNPC!A:E,5,FALSE))","v":"村名甲"},5617,"古今将相在何方？荒冢一堆草没了。",null,1022,2,"",null,null,{"$f":"IF(R543=\"\",\"\",\"-\"&VLOOKUP(R543,EventConditionConfig!A:C,3,FALSE)&IF(S543=\"\",\"\",CHAR(10)&\"-\"&VLOOKUP(S543,EventConditionConfig!A:C,3,FALSE)))","v":""},"","","","",null,null,"",null,null,"",{"$nulls":4},{"$f":"IF(A543=\"\",\"\",IF(ISNUMBER(Y543),2,IF(A544=\"\",IF(OR(AK543>0,VLOOKUP(O543,EventConfig!A:C,3,FALSE)=4),3,\"\"),1)))","v":1},102203,null,5617]
[102203,5614,"道之何在，明境道长前来论道",5615,"与道长进行对话",{"$nulls":4},107,{"$f":"IF(J544=\"\",\"\",VLOOKUP(J544,EventNPC!A:E,5,FALSE))","v":"村名甲"},5618,"仙友，这歌儿有些意思，可替我注解？",null,1022,3,"",null,null,{"$f":"IF(R544=\"\",\"\",\"-\"&VLOOKUP(R544,EventConditionConfig!A:C,3,FALSE)&IF(S544=\"\",\"\",CHAR(10)&\"-\"&VLOOKUP(S544,EventConditionConfig!A:C,3,FALSE)))","v":""},"","","","",null,null,"",null,null,"",{"$nulls":4},{"$f":"IF(A544=\"\",\"\",IF(ISNUMBER(Y544),2,IF(A545=\"\",IF(OR(AK544>0,VLOOKUP(O544,EventConfig!A:C,3,FALSE)=4),3,\"\"),1)))","v":1},102204,null,5618]
[102204,5614,"道之何在，明境道长前来论道",5615,"与道长进行对话",{"$nulls":4},100,{"$f":"IF(J545=\"\",\"\",VLOOKUP(J545,EventNPC!A:E,5,FALSE))","v":"玩家"},5619,"\"\"",null,1022,4,"",null,null,{"$f":"IF(R545=\"\",\"\",\"-\"&VLOOKUP(R545,EventConditionConfig!A:C,3,FALSE)&IF(S545=\"\",\"\",CHAR(10)&\"-\"&VLOOKUP(S545,EventConditionConfig!A:C,3,FALSE)))","v":""},1,"102205;102207;102207","5620;5621",5620,"言语论道",null,5621,"拒绝回答",102207,"",null,102207,null,null,{"$f":"IF(A545=\"\",\"\",IF(ISNUMBER(Y545),2,IF(A546=\"\",IF(OR(AK545>0,VLOOKUP(O545,EventConfig!A:C,3,FALSE)=4),3,\"\"),1)))","v":1},102205,null,5621]
[102205,5614,"道之何在，明境道长前来论道",5615,"与道长进行对话",{"$nulls":4},107,{"$f":"IF(J546=\"\",\"\",VLOOKUP(J546,EventNPC!A:E,5,FALSE))","v":"村名甲"},5622,"求仙不舍功名场，甚荒唐，到头来都是为他人作嫁衣裳。",null,1022,5,"",null,null,{"$f":"IF(R546=\"\",\"\",\"-\"&VLOOKUP(R546,EventConditionConfig!A:C,3,FALSE)&IF(S546=\"\",\"\",CHAR(10)&\"-\"&VLOOKUP(S546,EventConditionConfig!A:C,3,FALSE)))","v":""},"","","","",null,null,"",null,null,"",{"$nulls":4},{"$f":"IF(A546=\"\",\"\",IF(ISNUMBER(Y546),2,IF(A547=\"\",IF(OR(AK546>0,VLOOKUP(O546,EventConfig!A:C,3,FALSE)=4),3,\"\"),1)))","v":1},102206,null,5622]
[102206,5614,"道之何在，明境道长前来论道",5615,"与道长进行对话",{"$nulls":4},107,{"$f":"IF(J547=\"\",\"\",VLOOKUP(J547,EventNPC!A:E,5,FALSE))","v":"村名甲"},5623,"明镜道长听到你的回复后，甚为满意的离去了。",null,1022,6,"",null,null,{"$f":"IF(R547=\"\",\"\",\"-\"&VLOOKUP(R547,EventConditionConfig!A:C,3,FALSE)&IF(S547=\"\",\"\",CHAR(10)&\"-\"&VLOOKUP(S547,EventConditionConfig!A:C,3,FALSE)))","v":""},"","","","",null,null,"",null,null,"",{"$nulls":4},{"$f":"IF(A547=\"\",\"\",IF(ISNUMBER(Y547),2,IF(A548=\"\",IF(OR(AK547>0,VLOOKUP(O547,EventConfig!A:C,3,FALSE)=4),3,\"\"),1)))","v":1},102207,null,5623]
[102207,5614,"道之何在，明境道长前来论道",5615,"与道长进行对话",{"$nulls":4},107,{"$f":"IF(J548=\"\",\"\",VLOOKUP(J548,EventNPC!A:E,5,FALSE))","v":"村名甲"},5624,"明镜道长听到你的回复后，离开了。",null,1022,7,"",null,null,{"$f":"IF(R548=\"\",\"\",\"-\"&VLOOKUP(R548,EventConditionConfig!A:C,3,FALSE)&IF(S548=\"\",\"\",CHAR(10)&\"-\"&VLOOKUP(S548,EventConditionConfig!A:C,3,FALSE)))","v":""},"","","","",null,null,"",null,null,"",{"$nulls":4},{"$f":"IF(A548=\"\",\"\",IF(ISNUMBER(Y548),2,IF(A549=\"\",IF(OR(AK548>0,VLOOKUP(O548,EventConfig!A:C,3,FALSE)=4),3,\"\"),1)))","v":{"$error":"#N/A"}},{"$error":"#N/A"},null,5624]
[null,"",null,"",{"$nulls":7},"",null,null,null,"",{"$nulls":4},"","","","",null,null,"",null,null,"",{"$nulls":4},{"$f":"IF(A549=\"\",\"\",IF(ISNUMBER(Y549),2,IF(A550=\"\",IF(OR(AK549>0,VLOOKUP(O549,EventConfig!A:C,3,FALSE)=4),3,\"\"),1)))","v":""},"",null,""]
[{"$f":"O550*100+P550","v":102301},5625,"药童前来求得一枚丹药",5626,"与小药童对话(0/1)",{"$nulls":4},107,{"$f":"IF(J550=\"\",\"\",VLOOKUP(J550,EventNPC!A:E,5,FALSE))","v":"村名甲"},5627,"听闻道友经常出外历练，今日我师傅炼制丹药，尚缺一颗渡劫丹作为药引，苦寻不得，道友可否赠与一颗。",null,1023,1,{"$f":"_xlfn.TEXTJOIN(\";\",1,R550:S550)","v":""},null,null,{"$f":"IF(R550=\"\",\"\",\"-\"&VLOOKUP(R550,EventConditionConfig!A:C,3,FALSE)&IF(S550=\"\",\"\",CHAR(10)&\"-\"&VLOOKUP(S550,EventConditionConfig!A:C,3,FALSE)))","v":""},{"$f":"IF(Y550=\"\",\"\",IF(ISTEXT(Y550),1,2))","v":1},"102302;102303;102303","5628;5629",5628,"给予一颗渡劫丹",102302,5629,"没有此渡劫丹",102303,"",null,102303,null,null,{"$f":"IF(A550=\"\",\"\",IF(ISNUMBER(Y550),2,IF(A551=\"\",IF(OR(AK550>0,VLOOKUP(O550,EventConfig!A:C,3,FALSE)=4),3,\"\"),1)))","v":1},102302,null,5629]
[102302,5625,"药童前来求得一枚丹药",5626,"与小药童对话(0/1)",{"$nulls":5},{"$f":"IF(J551=\"\",\"\",VLOOKUP(J551,EventNPC!A:E,5,FALSE))","v":""},5630,"你将丹药赠与药童。药童十分高兴表示可以回复命了。",null,1023,2,"20",20,null,{"$f":"IF(R551=\"\",\"\",\"-\"&VLOOKUP(R551,EventConditionConfig!A:C,3,FALSE)&IF(S551=\"\",\"\",CHAR(10)&\"-\"&VLOOKUP(S551,EventConditionConfig!A:C,3,FALSE)))","v":"-给予渡劫丹"},"","","","",null,null,"",null,null,"",null,null,1001,null,{"$f":"IF(A551=\"\",\"\",IF(ISNUMBER(Y551),2,IF(A552=\"\",IF(OR(AK551>0,VLOOKUP(O551,EventConfig!A:C,3,FALSE)=4),3,\"\"),1)))","v":1},102303,null,5630]
[102303,5625,"药童前来求得一枚丹药",5626,"与小药童对话(0/1)",{"$nulls":5},{"$f":"IF(J552=\"\",\"\",VLOOKUP(J552,EventNPC!A:E,5,FALSE))","v":""},5631,"药童听完便离开了",null,1023,3,"",null,null,{"$f":"IF(R552=\"\",\"\",\"-\"&VLOOKUP(R552,EventConditionConfig!A:C,3,FALSE)&IF(S552=\"\",\"\",CHAR(10)&\"-\"&VLOOKUP(S552,EventConditionConfig!A:C,3,FALSE)))","v":""},"","","","",null,null,"",null,null,"",{"$nulls":4},{"$f":"IF(A552=\"\",\"\",IF(ISNUMBER(Y552),2,IF(A553=\"\",IF(OR(AK552>0,VLOOKUP(O552,EventConfig!A:C,3,FALSE)=4),3,\"\"),1)))","v":{"$error":"#N/A"}},{"$error":"#N/A"},null,5631]
[null,"",null,"",{"$nulls":7},"",null,null,null,"",{"$nulls":4},"","","","",null,null,"",null,null,"",{"$nulls":4},{"$f":"IF(A553=\"\",\"\",IF(ISNUMBER(Y553),2,IF(A554=\"\",IF(OR(AK553>0,VLOOKUP(O553,EventConfig!A:C,3,FALSE)=4),3,\"\"),1)))","v":""},"",null,""]
[{"$f":"O554*100+P554","v":102401},5632,"风无咎前来武艺论道",5633,"与风无咎对话(0/1)",{"$nulls":4},112,{"$f":"IF(J554=\"\",\"\",VLOOKUP(J554,EventNPC!A:E,5,FALSE))","v":"风无咎"},5634,"听闻道友最近修为又有所精进，特来讨教，望能切磋一二",null,1024,1,{"$f":"_xlfn.TEXTJOIN(\";\",1,R554:S554)","v":""},null,null,{"$f":"IF(R554=\"\",\"\",\"-\"&VLOOKUP(R554,EventConditionConfig!A:C,3,FALSE)&IF(S554=\"\",\"\",CHAR(10)&\"-\"&VLOOKUP(S554,EventConditionConfig!A:C,3,FALSE)))","v":""},{"$f":"IF(Y554=\"\",\"\",IF(ISTEXT(Y554),1,2))","v":1},"102402;102403;102403","5635;5636",5635,"全力切磋",102402,5636,"回绝切磋",102403,"",null,102403,null,null,{"$f":"IF(A554=\"\",\"\",IF(ISNUMBER(Y554),2,IF(A555=\"\",IF(OR(AK554>0,VLOOKUP(O554,EventConfig!A:C,3,FALSE)=4),3,\"\"),1)))","v":1},102402,null,5636]
[102402,5632,"风无咎前来武艺论道",5633,"与风无咎对话(0/1)",{"$nulls":4},112,{"$f":"IF(J555=\"\",\"\",VLOOKUP(J555,EventNPC!A:E,5,FALSE))","v":"风无咎"},5637,"还请讨教！",null,1024,2,"",null,null,{"$f":"IF(R555=\"\",\"\",\"-\"&VLOOKUP(R555,EventConditionConfig!A:C,3,FALSE)&IF(S555=\"\",\"\",CHAR(10)&\"-\"&VLOOKUP(S555,EventConditionConfig!A:C,3,FALSE)))","v":""},{"$f":"IF(Y555=\"\",\"\",IF(ISTEXT(Y555),1,2))","v":2},100001,"","",100001,null,"",null,null,"",null,null,1001,2,{"$f":"IF(A555=\"\",\"\",IF(ISNUMBER(Y555),2,IF(A556=\"\",IF(OR(AK555>0,VLOOKUP(O555,EventConfig!A:C,3,FALSE)=4),3,\"\"),1)))","v":2},"102403;101",null,5637]
[102403,5632,"风无咎前来武艺论道",5633,"与风无咎对话(0/1)",{"$nulls":4},112,{"$f":"IF(J556=\"\",\"\",VLOOKUP(J556,EventNPC!A:E,5,FALSE))","v":"风无咎"},5638,"若不愿意，也无妨，此物赠与道友继续修行",null,1024,3,"",null,null,{"$f":"IF(R556=\"\",\"\",\"-\"&VLOOKUP(R556,EventConditionConfig!A:C,3,FALSE)&IF(S556=\"\",\"\",CHAR(10)&\"-\"&VLOOKUP(S556,EventConditionConfig!A:C,3,FALSE)))","v":""},"","","","",null,null,"",null,null,"",null,null,1001,1,{"$f":"IF(A556=\"\",\"\",IF(ISNUMBER(Y556),2,IF(A557=\"\",IF(OR(AK556>0,VLOOKUP(O556,EventConfig!A:C,3,FALSE)=4),3,\"\"),1)))","v":{"$error":"#N/A"}},{"$error":"#N/A"},null,5638]
[null,"",null,"",{"$nulls":7},"",null,null,null,"",{"$nulls":4},"","","","",null,null,"",null,null,"",{"$nulls":4},{"$f":"IF(A557=\"\",\"\",IF(ISNUMBER(Y557),2,IF(A558=\"\",IF(OR(AK557>0,VLOOKUP(O557,EventConfig!A:C,3,FALSE)=4),3,\"\"),1)))","v":""},"",null,""]
[{"$f":"O558*100+P558","v":102501},5639,"魔族修士前来威胁你加入魔族",5640,"与魔族交涉",{"$nulls":4},107,{"$f":"IF(J558=\"\",\"\",VLOOKUP(J558,EventNPC!A:E,5,FALSE))","v":"村名甲"},5641,"三番两次邀请你加入我魔族，你却为了北海执迷不悟，今日本宫便让你知道拒绝魔族的后果！",null,1025,1,{"$f":"_xlfn.TEXTJOIN(\";\",1,R558:S558)","v":""},null,null,{"$f":"IF(R558=\"\",\"\",\"-\"&VLOOKUP(R558,EventConditionConfig!A:C,3,FALSE)&IF(S558=\"\",\"\",CHAR(10)&\"-\"&VLOOKUP(S558,EventConditionConfig!A:C,3,FALSE)))","v":""},1,"102502;102503;102503","5642;5643",5642,"全力应战",102502,5643,"御剑逃离",102503,"",null,102503,null,null,{"$f":"IF(A558=\"\",\"\",IF(ISNUMBER(Y558),2,IF(A559=\"\",IF(OR(AK558>0,VLOOKUP(O558,EventConfig!A:C,3,FALSE)=4),3,\"\"),1)))","v":1},102502,null,5643]
[102502,5639,"魔族修士前来威胁你加入魔族",5640,"与魔族交涉",{"$nulls":4},107,{"$f":"IF(J559=\"\",\"\",VLOOKUP(J559,EventNPC!A:E,5,FALSE))","v":"村名甲"},5644,"你可知魔族威名！受死吧！",null,1025,2,"",null,null,{"$f":"IF(R559=\"\",\"\",\"-\"&VLOOKUP(R559,EventConditionConfig!A:C,3,FALSE)&IF(S559=\"\",\"\",CHAR(10)&\"-\"&VLOOKUP(S559,EventConditionConfig!A:C,3,FALSE)))","v":""},2,100001,"","",100001,null,"",null,null,"",null,null,1001,1,{"$f":"IF(A559=\"\",\"\",IF(ISNUMBER(Y559),2,IF(A560=\"\",IF(OR(AK559>0,VLOOKUP(O559,EventConfig!A:C,3,FALSE)=4),3,\"\"),1)))","v":2},"102503;101",null,5644]
[102503,5639,"魔族修士前来威胁你加入魔族",5640,"与魔族交涉",{"$nulls":4},107,{"$f":"IF(J560=\"\",\"\",VLOOKUP(J560,EventNPC!A:E,5,FALSE))","v":"村名甲"},5645,"可恶！今日饶你一马",null,1025,3,"",null,null,{"$f":"IF(R560=\"\",\"\",\"-\"&VLOOKUP(R560,EventConditionConfig!A:C,3,FALSE)&IF(S560=\"\",\"\",CHAR(10)&\"-\"&VLOOKUP(S560,EventConditionConfig!A:C,3,FALSE)))","v":""},"","","","",null,null,"",null,null,"",{"$nulls":4},{"$f":"IF(A560=\"\",\"\",IF(ISNUMBER(Y560),2,IF(A561=\"\",IF(OR(AK560>0,VLOOKUP(O560,EventConfig!A:C,3,FALSE)=4),3,\"\"),1)))","v":{"$error":"#N/A"}},{"$error":"#N/A"},null,5645]
[null,"",null,"",{"$nulls":7},"",null,null,null,"",{"$nulls":4},"","","","",null,null,"",null,null,"",{"$nulls":4},{"$f":"IF(A561=\"\",\"\",IF(ISNUMBER(Y561),2,IF(A562=\"\",IF(OR(AK561>0,VLOOKUP(O561,EventConfig!A:C,3,FALSE)=4),3,\"\"),1)))","v":""},"",null,""]
[{"$f":"O562*100+P562","v":102601},5646,"妖兽入侵",5647,"前去击杀妖兽",{"$nulls":4},107,{"$f":"IF(J562=\"\",\"\",VLOOKUP(J562,EventNPC!A:E,5,FALSE))","v":"村名甲"},5648,"我在北海境内发现一只妖兽闯入，还请道友前往镇压",null,1026,1,{"$f":"_xlfn.TEXTJOIN(\";\",1,R562:S562)","v":""},null,null,{"$f":"IF(R562=\"\",\"\",\"-\"&VLOOKUP(R562,EventConditionConfig!A:C,3,FALSE)&IF(S562=\"\",\"\",CHAR(10)&\"-\"&VLOOKUP(S562,EventConditionConfig!A:C,3,FALSE)))","v":""},2,100001,"","",100001,null,"",null,null,"",{"$nulls":4},{"$f":"IF(A562=\"\",\"\",IF(ISNUMBER(Y562),2,IF(A563=\"\",IF(OR(AK562>0,VLOOKUP(O562,EventConfig!A:C,3,FALSE)=4),3,\"\"),1)))","v":2},"102602;101",null,5648]
[102602,5646,"妖兽入侵",5647,"前去击杀妖兽",{"$nulls":4},107,{"$f":"IF(J563=\"\",\"\",VLOOKUP(J563,EventNPC!A:E,5,FALSE))","v":"村名甲"},5649,"北海境内越来越不安定了，若还有妖兽闯入，我会第一时间告知你",null,1026,2,"",null,null,{"$f":"IF(R563=\"\",\"\",\"-\"&VLOOKUP(R563,EventConditionConfig!A:C,3,FALSE)&IF(S563=\"\",\"\",CHAR(10)&\"-\"&VLOOKUP(S563,EventConditionConfig!A:C,3,FALSE)))","v":""},"","","","",null,null,"",null,null,"",{"$nulls":4},{"$f":"IF(A563=\"\",\"\",IF(ISNUMBER(Y563),2,IF(A564=\"\",IF(OR(AK563>0,VLOOKUP(O563,EventConfig!A:C,3,FALSE)=4),3,\"\"),1)))","v":{"$error":"#N/A"}},{"$error":"#N/A"},null,5649]
[null,"",null,"",{"$nulls":7},"",null,null,null,"",{"$nulls":4},"","","","",null,null,"",null,null,"",{"$nulls":4},{"$f":"IF(A564=\"\",\"\",IF(ISNUMBER(Y564),2,IF(A565=\"\",IF(OR(AK564>0,VLOOKUP(O564,EventConfig!A:C,3,FALSE)=4),3,\"\"),1)))","v":""},"",null,""]
[102701,5650,"妖兽拦住了你的去路",5651,"阻止妖族前往北海",{"$nulls":4},114,{"$f":"IF(J565=\"\",\"\",VLOOKUP(J565,EventNPC!A:E,5,FALSE))","v":"拦路妖兽"},5652,"站住，乖乖告诉我北海在哪",null,1027,1,"",null,null,{"$f":"IF(R565=\"\",\"\",\"-\"&VLOOKUP(R565,EventConditionConfig!A:C,3,FALSE)&IF(S565=\"\",\"\",CHAR(10)&\"-\"&VLOOKUP(S565,EventConditionConfig!A:C,3,FALSE)))","v":""},1,"102702","5653",5653,"大胆妖兽，今日就让你葬身于此",null,"",null,null,"",{"$nulls":4},{"$f":"IF(A565=\"\",\"\",IF(ISNUMBER(Y565),2,IF(A566=\"\",IF(OR(AK565>0,VLOOKUP(O565,EventConfig!A:C,3,FALSE)=4),3,\"\"),1)))","v":1},102702,null,5653]
[102702,5650,"妖兽拦住了你的去路",5651,"阻止妖族前往北海",{"$nulls":4},114,{"$f":"IF(J566=\"\",\"\",VLOOKUP(J566,EventNPC!A:E,5,FALSE))","v":"拦路妖兽"},5654,"不识抬举，去死吧",null,1027,2,"",null,null,{"$f":"IF(R566=\"\",\"\",\"-\"&VLOOKUP(R566,EventConditionConfig!A:C,3,FALSE)&IF(S566=\"\",\"\",CHAR(10)&\"-\"&VLOOKUP(S566,EventConditionConfig!A:C,3,FALSE)))","v":""},2,100001,"","",100001,null,"",null,null,"",{"$nulls":4},{"$f":"IF(A566=\"\",\"\",IF(ISNUMBER(Y566),2,IF(A567=\"\",IF(OR(AK566>0,VLOOKUP(O566,EventConfig!A:C,3,FALSE)=4),3,\"\"),1)))","v":2},"102703;101",null,5654]
[null,"",null,"",{"$nulls":7},"",null,null,null,"",{"$nulls":4},"","","","",null,null,"",null,null,"",{"$nulls":4},{"$f":"IF(A567=\"\",\"\",IF(ISNUMBER(Y567),2,IF(A568=\"\",IF(OR(AK567>0,VLOOKUP(O567,EventConfig!A:C,3,FALSE)=4),3,\"\"),1)))","v":""},"",null,""]
[{"$f":"O568*100+P568","v":102801},5655,"前去击败入侵妖兽",5656,"击败入侵的妖兽",{"$nulls":4},114,{"$f":"IF(J568=\"\",\"\",VLOOKUP(J568,EventNPC!A:E,5,FALSE))","v":"拦路妖兽"},5657,"终于找到了北海城镇了，你拦不住我的，滚吧",null,1028,1,{"$f":"_xlfn.TEXTJOIN(\";\",1,R568:S568)","v":""},null,null,{"$f":"IF(R568=\"\",\"\",\"-\"&VLOOKUP(R568,EventConditionConfig!A:C,3,FALSE)&IF(S568=\"\",\"\",CHAR(10)&\"-\"&VLOOKUP(S568,EventConditionConfig!A:C,3,FALSE)))","v":""},1,"102802","5658",5658,"迎接敌人",null,"",null,null,"",{"$nulls":4},{"$f":"IF(A568=\"\",\"\",IF(ISNUMBER(Y568),2,IF(A569=\"\",IF(OR(AK568>0,VLOOKUP(O568,EventConfig!A:C,3,FALSE)=4),3,\"\"),1)))","v":1},102802,null,5658]
[102802,5655,"前去击败入侵妖兽",5656,"击败入侵的妖兽",{"$nulls":4},114,{"$f":"IF(J569=\"\",\"\",VLOOKUP(J569,EventNPC!A:E,5,FALSE))","v":"拦路妖兽"},5659,"不识抬举，去死吧",null,1028,2,"",null,null,{"$f":"IF(R569=\"\",\"\",\"-\"&VLOOKUP(R569,EventConditionConfig!A:C,3,FALSE)&IF(S569=\"\",\"\",CHAR(10)&\"-\"&VLOOKUP(S569,EventConditionConfig!A:C,3,FALSE)))","v":""},2,100001,"","",100001,null,"",null,null,"",{"$nulls":4},{"$f":"IF(A569=\"\",\"\",IF(ISNUMBER(Y569),2,IF(A570=\"\",IF(OR(AK569>0,VLOOKUP(O569,EventConfig!A:C,3,FALSE)=4),3,\"\"),1)))","v":2},"102803;101",null,5659]
[102803,5655,"前去击败入侵妖兽",5656,"击败入侵的妖兽",{"$nulls":5},{"$f":"IF(J570=\"\",\"\",VLOOKUP(J570,EventNPC!A:E,5,FALSE))","v":""},5660,"妖兽被重伤后吞下丹药激发了潜力，实力突然暴涨，阻止他破坏城镇",null,1028,3,"",null,null,{"$f":"IF(R570=\"\",\"\",\"-\"&VLOOKUP(R570,EventConditionConfig!A:C,3,FALSE)&IF(S570=\"\",\"\",CHAR(10)&\"-\"&VLOOKUP(S570,EventConditionConfig!A:C,3,FALSE)))","v":""},1,"102804;102805;102805","5661;5662",5661,"稍作休整",102804,5662,"挑战妖兽",102805,"",null,102805,null,null,{"$f":"IF(A570=\"\",\"\",IF(ISNUMBER(Y570),2,IF(A571=\"\",IF(OR(AK570>0,VLOOKUP(O570,EventConfig!A:C,3,FALSE)=4),3,\"\"),1)))","v":1},102804,null,5662]
[102804,5655,"前去击败入侵妖兽",5656,"击败入侵的妖兽",{"$nulls":5},{"$f":"IF(J571=\"\",\"\",VLOOKUP(J571,EventNPC!A:E,5,FALSE))","v":""},5663,"见到情况不对，稍作休整再去击杀妖兽",null,1028,4,"",null,null,{"$f":"IF(R571=\"\",\"\",\"-\"&VLOOKUP(R571,EventConditionConfig!A:C,3,FALSE)&IF(S571=\"\",\"\",CHAR(10)&\"-\"&VLOOKUP(S571,EventConditionConfig!A:C,3,FALSE)))","v":""},5,"","","",null,null,"",null,null,"",{"$nulls":4},{"$f":"IF(A571=\"\",\"\",IF(ISNUMBER(Y571),2,IF(A572=\"\",IF(OR(AK571>0,VLOOKUP(O571,EventConfig!A:C,3,FALSE)=4),3,\"\"),1)))","v":1},102805,null,5663]
[102805,5655,"前去击败入侵妖兽",5656,"击败入侵的妖兽",{"$nulls":4},114,{"$f":"IF(J572=\"\",\"\",VLOOKUP(J572,EventNPC!A:E,5,FALSE))","v":"拦路妖兽"},5664,"见到我不逃跑反而朝我攻来吗，有趣",null,1028,5,"",null,null,{"$f":"IF(R572=\"\",\"\",\"-\"&VLOOKUP(R572,EventConditionConfig!A:C,3,FALSE)&IF(S572=\"\",\"\",CHAR(10)&\"-\"&VLOOKUP(S572,EventConditionConfig!A:C,3,FALSE)))","v":""},{"$f":"IF(Y572=\"\",\"\",IF(ISTEXT(Y572),1,2))","v":2},100001,"","",100001,null,"",null,null,"",null,null,1001,10,{"$f":"IF(A572=\"\",\"\",IF(ISNUMBER(Y572),2,IF(A573=\"\",IF(OR(AK572>0,VLOOKUP(O572,EventConfig!A:C,3,FALSE)=4),3,\"\"),1)))","v":2},"102806;101",null,5664]
[null,"",null,"",{"$nulls":7},"",null,null,null,"",{"$nulls":4},"","","","",null,null,"",null,null,"",{"$nulls":4},{"$f":"IF(A573=\"\",\"\",IF(ISNUMBER(Y573),2,IF(A574=\"\",IF(OR(AK573>0,VLOOKUP(O573,EventConfig!A:C,3,FALSE)=4),3,\"\"),1)))","v":""},"",null,""]
[{"$f":"O574*100+P574","v":102901},5665,"明境道长邀请你前去论道",5666,"与道长进行对话",{"$nulls":4},107,{"$f":"IF(J574=\"\",\"\",VLOOKUP(J574,EventNPC!A:E,5,FALSE))","v":"村名甲"},5667,"小友修为有所长进，但我却不知你的道是独自一人还是众人前行",null,1029,1,{"$f":"_xlfn.TEXTJOIN(\";\",1,R574:S574)","v":""},null,null,{"$f":"IF(R574=\"\",\"\",\"-\"&VLOOKUP(R574,EventConditionConfig!A:C,3,FALSE)&IF(S574=\"\",\"\",CHAR(10)&\"-\"&VLOOKUP(S574,EventConditionConfig!A:C,3,FALSE)))","v":""},1,"102902;102903;102903","5668;5669",5668,"道之所在，在于自己，修炼其身即可成星火之势",102902,5669,"道之所在，在于众势，天下大同可让蚍蜉撼树",102903,"",null,102903,null,null,{"$f":"IF(A574=\"\",\"\",IF(ISNUMBER(Y574),2,IF(A575=\"\",IF(OR(AK574>0,VLOOKUP(O574,EventConfig!A:C,3,FALSE)=4),3,\"\"),1)))","v":1},102902,null,5669]
[102902,5670,"明镜道长邀请你前去论道",5666,"与道长进行对话",{"$nulls":4},107,{"$f":"IF(J575=\"\",\"\",VLOOKUP(J575,EventNPC!A:E,5,FALSE))","v":"村名甲"},5671,"此言甚好，却不知小友遇见难关，是真的独自面对，还是寻求了他人帮助",null,1029,2,"",null,null,{"$f":"IF(R575=\"\",\"\",\"-\"&VLOOKUP(R575,EventConditionConfig!A:C,3,FALSE)&IF(S575=\"\",\"\",CHAR(10)&\"-\"&VLOOKUP(S575,EventConditionConfig!A:C,3,FALSE)))","v":""},1,"102904;102905;102905","5672;5673",5672,"这....",102904,5673,"道长此言甚有意为之，如遇难关确实迷茫会去寻求他人",102905,"",null,102905,null,null,{"$f":"IF(A575=\"\",\"\",IF(ISNUMBER(Y575),2,IF(A576=\"\",IF(OR(AK575>0,VLOOKUP(O575,EventConfig!A:C,3,FALSE)=4),3,\"\"),1)))","v":1},102903,null,5673]
[102903,5670,"明镜道长邀请你前去论道",5666,"与道长进行对话",{"$nulls":4},107,{"$f":"IF(J576=\"\",\"\",VLOOKUP(J576,EventNPC!A:E,5,FALSE))","v":"村名甲"},5674,"绝境之中，众人离去，你又该如何呢?",null,1029,3,"",null,null,{"$f":"IF(R576=\"\",\"\",\"-\"&VLOOKUP(R576,EventConditionConfig!A:C,3,FALSE)&IF(S576=\"\",\"\",CHAR(10)&\"-\"&VLOOKUP(S576,EventConditionConfig!A:C,3,FALSE)))","v":""},1,"102904;102907;102907","5675;5676",5675,"这....",102904,5676,"绝境之下，亦能爆发潜能，无需借助他人也能成功",102907,"",null,102907,null,null,{"$f":"IF(A576=\"\",\"\",IF(ISNUMBER(Y576),2,IF(A577=\"\",IF(OR(AK576>0,VLOOKUP(O576,EventConfig!A:C,3,FALSE)=4),3,\"\"),1)))","v":1},102904,null,5676]
[102904,5677,"明境道长邀请你前去论道",5666,"与道长进行对话",{"$nulls":4},107,{"$f":"IF(J577=\"\",\"\",VLOOKUP(J577,EventNPC!A:E,5,FALSE))","v":"村名甲"},5678,"看来你的道，还在混沌之中，独自面对亦或是众人攻克，这事并无绝对，还请小友继续去追寻自己正确的道",null,1029,4,"",null,null,{"$f":"IF(R577=\"\",\"\",\"-\"&VLOOKUP(R577,EventConditionConfig!A:C,3,FALSE)&IF(S577=\"\",\"\",CHAR(10)&\"-\"&VLOOKUP(S577,EventConditionConfig!A:C,3,FALSE)))","v":""},1,"102905","5679",5679,"多谢道长指点，晚辈明白",null,"",null,null,"",{"$nulls":4},{"$f":"IF(A577=\"\",\"\",IF(ISNUMBER(Y577),2,IF(A578=\"\",IF(OR(AK577>0,VLOOKUP(O577,EventConfig!A:C,3,FALSE)=4),3,\"\"),1)))","v":1},102905,null,5679]
[102905,5677,"明境道长邀请你前去论道",5666,"与道长进行对话",{"$nulls":4},107,{"$f":"IF(J578=\"\",\"\",VLOOKUP(J578,EventNPC!A:E,5,FALSE))","v":"村名甲"},5680,"如你所说，道还不够坚定，你已经告诉了你自己还没有足够的力量去找到真正的道",null,1029,5,"",null,null,{"$f":"IF(R578=\"\",\"\",\"-\"&VLOOKUP(R578,EventConditionConfig!A:C,3,FALSE)&IF(S578=\"\",\"\",CHAR(10)&\"-\"&VLOOKUP(S578,EventConditionConfig!A:C,3,FALSE)))","v":""},"","","","",null,null,"",null,null,"",{"$nulls":4},{"$f":"IF(A578=\"\",\"\",IF(ISNUMBER(Y578),2,IF(A579=\"\",IF(OR(AK578>0,VLOOKUP(O578,EventConfig!A:C,3,FALSE)=4),3,\"\"),1)))","v":1},102906,102906,5680]
[102906,5677,"明境道长邀请你前去论道",5666,"与道长进行对话",{"$nulls":4},100,{"$f":"IF(J579=\"\",\"\",VLOOKUP(J579,EventNPC!A:E,5,FALSE))","v":"玩家"},5681,"晚辈明白，多谢道长",null,1029,6,"",null,null,{"$f":"IF(R579=\"\",\"\",\"-\"&VLOOKUP(R579,EventConditionConfig!A:C,3,FALSE)&IF(S579=\"\",\"\",CHAR(10)&\"-\"&VLOOKUP(S579,EventConditionConfig!A:C,3,FALSE)))","v":""},"","","","",null,null,"",null,null,"",{"$nulls":4},{"$f":"IF(A579=\"\",\"\",IF(ISNUMBER(Y579),2,IF(A580=\"\",IF(OR(AK579>0,VLOOKUP(O579,EventConfig!A:C,3,FALSE)=4),3,\"\"),1)))","v":1},102907,null,5681]
[102907,5677,"明境道长邀请你前去论道",5666,"与道长进行对话",{"$nulls":4},107,{"$f":"IF(J580=\"\",\"\",VLOOKUP(J580,EventNPC!A:E,5,FALSE))","v":"村名甲"},5682,"有趣，既然不是独步天下，为何又说无需借助",null,1029,7,"",null,null,{"$f":"IF(R580=\"\",\"\",\"-\"&VLOOKUP(R580,EventConditionConfig!A:C,3,FALSE)&IF(S580=\"\",\"\",CHAR(10)&\"-\"&VLOOKUP(S580,EventConditionConfig!A:C,3,FALSE)))","v":""},1,"102908;102908","5683;5684",5683,"道长此言差矣，没有他人帮助，怎会在绝境之战激发潜能去攻克难关，这并非独步天下",null,5684,"无需借助并非独步天下，能结缘不同的人，才能在绝境之中爆发潜能",null,"",{"$nulls":4},{"$f":"IF(A580=\"\",\"\",IF(ISNUMBER(Y580),2,IF(A581=\"\",IF(OR(AK580>0,VLOOKUP(O580,EventConfig!A:C,3,FALSE)=4),3,\"\"),1)))","v":1},102908,null,5684]
[102908,5677,"明境道长邀请你前去论道",5666,"与道长进行对话",{"$nulls":4},107,{"$f":"IF(J581=\"\",\"\",VLOOKUP(J581,EventNPC!A:E,5,FALSE))","v":"村名甲"},5685,"禹能众万人心，舜能独断万古，你的道如禹舜之续，我很满意",null,1029,8,"",null,null,{"$f":"IF(R581=\"\",\"\",\"-\"&VLOOKUP(R581,EventConditionConfig!A:C,3,FALSE)&IF(S581=\"\",\"\",CHAR(10)&\"-\"&VLOOKUP(S581,EventConditionConfig!A:C,3,FALSE)))","v":""},"","","","",null,null,"",null,null,"",{"$nulls":4},{"$f":"IF(A581=\"\",\"\",IF(ISNUMBER(Y581),2,IF(A582=\"\",IF(OR(AK581>0,VLOOKUP(O581,EventConfig!A:C,3,FALSE)=4),3,\"\"),1)))","v":{"$error":"#N/A"}},{"$error":"#N/A"},null,5685]
[null,"",null,{"$f":"IF(E582=\"\",\"\",IF(E582=E581,D581,MAX(AL581,AL580,B582)+1))","v":""},{"$nulls":7},{"$f":"IF(M582=\"\",\"\",MAX(AL581,AL580,B582,D582)+1)","v":""},null,null,null,"",{"$nulls":5},"","","",null,null,"",null,null,"",{"$nulls":4},{"$f":"IF(A582=\"\",\"\",IF(ISNUMBER(Y582),2,IF(A583=\"\",IF(OR(AK582>0,VLOOKUP(O582,EventConfig!A:C,3,FALSE)=4),3,\"\"),1)))","v":""},"",null,{"$f":"IF(A582=\"\",\"\",MAX(B582,D582,L582,X582,AA582,AL581,AL580,AD582))","v":""}]
[{"$f":"O583*100+P583","v":103001},5686,"印宗邀请你一同论道",5687,"与印宗法师进行对话",{"$nulls":5},{"$f":"IF(J583=\"\",\"\",VLOOKUP(J583,EventNPC!A:E,5,FALSE))","v":""},5688,"你正遇上这里的印宗法师在讲经书。这时吹来了一阵风，把挂在门口和堂内的佛幡吹得飘舞起来。印宗法师看到佛幡舞动，于是问你",null,1030,1,{"$f":"_xlfn.TEXTJOIN(\";\",1,R583:S583)","v":""},null,null,{"$f":"IF(R583=\"\",\"\",\"-\"&VLOOKUP(R583,EventConditionConfig!A:C,3,FALSE)&IF(S583=\"\",\"\",CHAR(10)&\"-\"&VLOOKUP(S583,EventConditionConfig!A:C,3,FALSE)))","v":""},{"$f":"IF(Y583=\"\",\"\",IF(ISTEXT(Y583),1,2))","v":""},"","","",null,null,"",null,null,"",{"$nulls":4},{"$f":"IF(A583=\"\",\"\",IF(ISNUMBER(Y583),2,IF(A584=\"\",IF(OR(AK583>0,VLOOKUP(O583,EventConfig!A:C,3,FALSE)=4),3,\"\"),1)))","v":1},103002,null,5688]
[103002,5686,"印宗邀请你一同论道",5687,"与印宗法师进行对话",{"$nulls":4},107,{"$f":"IF(J584=\"\",\"\",VLOOKUP(J584,EventNPC!A:E,5,FALSE))","v":"村名甲"},5689,"小友可知，这是风动？还是幡动？",null,1030,2,"",null,null,{"$f":"IF(R584=\"\",\"\",\"-\"&VLOOKUP(R584,EventConditionConfig!A:C,3,FALSE)&IF(S584=\"\",\"\",CHAR(10)&\"-\"&VLOOKUP(S584,EventConditionConfig!A:C,3,FALSE)))","v":""},1,"103003;103004;103004","5690;5691",5690,"是风在动而幡没有动",103003,5691,"是幡在动而风没有动",103004,"",null,103004,null,null,{"$f":"IF(A584=\"\",\"\",IF(ISNUMBER(Y584),2,IF(A585=\"\",IF(OR(AK584>0,VLOOKUP(O584,EventConfig!A:C,3,FALSE)=4),3,\"\"),1)))","v":1},103003,null,5691]
[103003,5686,"印宗邀请你一同论道",5687,"与印宗法师进行对话",{"$nulls":4},107,{"$f":"IF(J585=\"\",\"\",VLOOKUP(J585,EventNPC!A:E,5,FALSE))","v":"村名甲"},5692,"小友为何会认为是风动呢？",null,1030,3,"",null,null,{"$f":"IF(R585=\"\",\"\",\"-\"&VLOOKUP(R585,EventConditionConfig!A:C,3,FALSE)&IF(S585=\"\",\"\",CHAR(10)&\"-\"&VLOOKUP(S585,EventConditionConfig!A:C,3,FALSE)))","v":""},1,"103005","5693",5693,"风若不吹，幡怎么会自己动",103005,"",null,null,"",{"$nulls":4},{"$f":"IF(A585=\"\",\"\",IF(ISNUMBER(Y585),2,IF(A586=\"\",IF(OR(AK585>0,VLOOKUP(O585,EventConfig!A:C,3,FALSE)=4),3,\"\"),1)))","v":1},103004,null,5693]
[103004,5686,"印宗邀请你一同论道",5687,"与印宗法师进行对话",{"$nulls":4},107,{"$f":"IF(J586=\"\",\"\",VLOOKUP(J586,EventNPC!A:E,5,FALSE))","v":"村名甲"},5694,"小友为何会认为是幡动呢？",null,1030,4,"",null,null,{"$f":"IF(R586=\"\",\"\",\"-\"&VLOOKUP(R586,EventConditionConfig!A:C,3,FALSE)&IF(S586=\"\",\"\",CHAR(10)&\"-\"&VLOOKUP(S586,EventConditionConfig!A:C,3,FALSE)))","v":""},1,"103005","5695",5695,"可能是幡有灵气，自己动了起来",103005,"",null,null,"",{"$nulls":4},{"$f":"IF(A586=\"\",\"\",IF(ISNUMBER(Y586),2,IF(A587=\"\",IF(OR(AK586>0,VLOOKUP(O586,EventConfig!A:C,3,FALSE)=4),3,\"\"),1)))","v":1},103005,null,5695]
[103005,5686,"印宗邀请你一同论道",5687,"与印宗法师进行对话",{"$nulls":4},107,{"$f":"IF(J587=\"\",\"\",VLOOKUP(J587,EventNPC!A:E,5,FALSE))","v":"村名甲"},5696,"小友此解释确实有意思，但还是不对",null,1030,5,"",null,null,{"$f":"IF(R587=\"\",\"\",\"-\"&VLOOKUP(R587,EventConditionConfig!A:C,3,FALSE)&IF(S587=\"\",\"\",CHAR(10)&\"-\"&VLOOKUP(S587,EventConditionConfig!A:C,3,FALSE)))","v":""},1,"103006","5697",5697,"大师此话怎讲，还请赐教",null,"",null,null,"",{"$nulls":4},{"$f":"IF(A587=\"\",\"\",IF(ISNUMBER(Y587),2,IF(A588=\"\",IF(OR(AK587>0,VLOOKUP(O587,EventConfig!A:C,3,FALSE)=4),3,\"\"),1)))","v":1},103006,null,5697]
[103006,5686,"印宗邀请你一同论道",5687,"与印宗法师进行对话",{"$nulls":4},107,{"$f":"IF(J588=\"\",\"\",VLOOKUP(J588,EventNPC!A:E,5,FALSE))","v":"村名甲"},5698,"不是风动，不是幡动，是仁者心动",null,1030,6,"",null,null,{"$f":"IF(R588=\"\",\"\",\"-\"&VLOOKUP(R588,EventConditionConfig!A:C,3,FALSE)&IF(S588=\"\",\"\",CHAR(10)&\"-\"&VLOOKUP(S588,EventConditionConfig!A:C,3,FALSE)))","v":""},1,"103007","5699",5699,"既不是风在动，也不是幡在动，而是我内心认为是在动的吗",null,"",null,null,"",{"$nulls":4},{"$f":"IF(A588=\"\",\"\",IF(ISNUMBER(Y588),2,IF(A589=\"\",IF(OR(AK588>0,VLOOKUP(O588,EventConfig!A:C,3,FALSE)=4),3,\"\"),1)))","v":1},103007,null,5699]
[103007,{"$f":"IF(C589=\"\",\"\",IF(C589=C588,B588,MAX(AL588,AL587)+1))","v":5686},"印宗邀请你一同论道",5687,"与印宗法师进行对话",{"$nulls":4},107,{"$f":"IF(J589=\"\",\"\",VLOOKUP(J589,EventNPC!A:E,5,FALSE))","v":"村名甲"},5700,"此话也不对。小友，你听经不得心识不专注，心识看到了旗帜上，而非经书上，你的心若在修行之上，那风与幡怎么会因你的心而舞动呢",null,1030,7,"",null,null,{"$f":"IF(R589=\"\",\"\",\"-\"&VLOOKUP(R589,EventConditionConfig!A:C,3,FALSE)&IF(S589=\"\",\"\",CHAR(10)&\"-\"&VLOOKUP(S589,EventConditionConfig!A:C,3,FALSE)))","v":""},"","","",{"$f":"IF(OR(ISNUMBER(Y589),Y589=\"\"),\"\",MAX(AL588,AL586,B589,D589,L589)+1)","v":""},null,null,{"$f":"IF(OR(ISNUMBER(AB589),AB589=\"\"),\"\",X589+1)","v":""},null,null,{"$f":"IF(OR(ISNUMBER(AE589),AE589=\"\"),\"\",AA589+1)","v":""},{"$nulls":4},{"$f":"IF(A589=\"\",\"\",IF(ISNUMBER(Y589),2,IF(A590=\"\",IF(OR(AK589>0,VLOOKUP(O589,EventConfig!A:C,3,FALSE)=4),3,\"\"),1)))","v":{"$error":"#N/A"}},{"$error":"#N/A"},null,5700]
[null,"",null,"",{"$nulls":7},"",null,null,null,"",{"$nulls":5},{"$f":"IF(U590=1,_xlfn.TEXTJOIN(\";\",1,IF(Z590=\"\",A590+1,Z590),IF(AND(AA590<>\"\",AC590=\"\"),A590+1,AC590),IF(AND(AD590<>\"\",AF590=\"\"),A590+1,AF590)),IF(U590=2,Y590,\"\"))","v":""},{"$f":"_xlfn.TEXTJOIN(\";\",1,X590,AA590,AD590)","v":""},"",null,null,"",null,null,"",{"$nulls":4},{"$f":"IF(A590=\"\",\"\",IF(ISNUMBER(Y590),2,IF(A591=\"\",IF(OR(AK590>0,VLOOKUP(O590,EventConfig!A:C,3,FALSE)=4),3,\"\"),1)))","v":""},{"$f":"IF(AI590=\"\",\"\",CHOOSE(AI590,IF(AK590=\"\",A590+1,AK590),CONCATENATE(IF(AK590=\"\",A590+1,AK590),\";101\"),IF(AK590=\"\",O590+1,AK590)))","v":""},null,""]
[{"$f":"O591*100+P591","v":103101},5701,"明境道长邀请你前去论道",5702,"与道长进行对话",{"$nulls":4},107,{"$f":"IF(J591=\"\",\"\",VLOOKUP(J591,EventNPC!A:E,5,FALSE))","v":"村名甲"},5703,"小友好些日子不见，可有时间与我看些经文",null,1031,1,{"$f":"_xlfn.TEXTJOIN(\";\",1,R591:S591)","v":""},null,null,{"$f":"IF(R591=\"\",\"\",\"-\"&VLOOKUP(R591,EventConditionConfig!A:C,3,FALSE)&IF(S591=\"\",\"\",CHAR(10)&\"-\"&VLOOKUP(S591,EventConditionConfig!A:C,3,FALSE)))","v":""},{"$f":"IF(Y591=\"\",\"\",IF(ISTEXT(Y591),1,2))","v":1},"103102;103105;103105","5704;5705",5704,"道长请讲",103102,5705,"回绝论道",103105,"",null,103105,null,null,{"$f":"IF(A591=\"\",\"\",IF(ISNUMBER(Y591),2,IF(A592=\"\",IF(OR(AK591>0,VLOOKUP(O591,EventConfig!A:C,3,FALSE)=4),3,\"\"),1)))","v":1},103102,null,5705]
[103102,5701,"明境道长邀请你前去论道",5702,"与道长进行对话",{"$nulls":4},107,{"$f":"IF(J592=\"\",\"\",VLOOKUP(J592,EventNPC!A:E,5,FALSE))","v":"村名甲"},5706,"人生天地之间，若白驹之过隙，忽然而已。道友，这话有些意思，可知何意？",null,1031,2,"",null,null,{"$f":"IF(R592=\"\",\"\",\"-\"&VLOOKUP(R592,EventConditionConfig!A:C,3,FALSE)&IF(S592=\"\",\"\",CHAR(10)&\"-\"&VLOOKUP(S592,EventConditionConfig!A:C,3,FALSE)))","v":""},1,"103103","5707",5707,"生命如骏马跃过缝隙般短暂",null,"",null,null,"",{"$nulls":4},{"$f":"IF(A592=\"\",\"\",IF(ISNUMBER(Y592),2,IF(A593=\"\",IF(OR(AK592>0,VLOOKUP(O592,EventConfig!A:C,3,FALSE)=4),3,\"\"),1)))","v":1},103103,null,5707]
[103103,5701,"明境道长邀请你前去论道",5702,"与道长进行对话",{"$nulls":4},107,{"$f":"IF(J593=\"\",\"\",VLOOKUP(J593,EventNPC!A:E,5,FALSE))","v":"村名甲"},5708,"小友可深得此话所讲？",null,1031,3,"",null,null,{"$f":"IF(R593=\"\",\"\",\"-\"&VLOOKUP(R593,EventConditionConfig!A:C,3,FALSE)&IF(S593=\"\",\"\",CHAR(10)&\"-\"&VLOOKUP(S593,EventConditionConfig!A:C,3,FALSE)))","v":""},1,"103104","5709",5709,"道长之意，可是想让我珍惜当下",null,"",null,null,"",{"$nulls":4},{"$f":"IF(A593=\"\",\"\",IF(ISNUMBER(Y593),2,IF(A594=\"\",IF(OR(AK593>0,VLOOKUP(O593,EventConfig!A:C,3,FALSE)=4),3,\"\"),1)))","v":1},103104,null,5709]
[103104,5701,"明境道长邀请你前去论道",5702,"与道长进行对话",{"$nulls":4},107,{"$f":"IF(J594=\"\",\"\",VLOOKUP(J594,EventNPC!A:E,5,FALSE))","v":"村名甲"},5710,"看来你心有所感，我甚为满意。时间匆匆，还请小友破除对时间流逝的焦虑，好好感受现在的每一刻。",null,1031,4,"",null,null,{"$f":"IF(R594=\"\",\"\",\"-\"&VLOOKUP(R594,EventConditionConfig!A:C,3,FALSE)&IF(S594=\"\",\"\",CHAR(10)&\"-\"&VLOOKUP(S594,EventConditionConfig!A:C,3,FALSE)))","v":""},"","","","",null,null,"",null,null,"",{"$nulls":4},{"$f":"IF(A594=\"\",\"\",IF(ISNUMBER(Y594),2,IF(A595=\"\",IF(OR(AK594>0,VLOOKUP(O594,EventConfig!A:C,3,FALSE)=4),3,\"\"),1)))","v":1},103105,null,5710]
[103105,5701,"明境道长邀请你前去论道",5702,"与道长进行对话",{"$nulls":4},107,{"$f":"IF(J595=\"\",\"\",VLOOKUP(J595,EventNPC!A:E,5,FALSE))","v":"村名甲"},5711,"明镜道长听到你的拒绝后暂时离开了",null,1031,5,"",null,null,{"$f":"IF(R595=\"\",\"\",\"-\"&VLOOKUP(R595,EventConditionConfig!A:C,3,FALSE)&IF(S595=\"\",\"\",CHAR(10)&\"-\"&VLOOKUP(S595,EventConditionConfig!A:C,3,FALSE)))","v":""},"","","","",null,null,"",null,null,"",{"$nulls":4},{"$f":"IF(A595=\"\",\"\",IF(ISNUMBER(Y595),2,IF(A596=\"\",IF(OR(AK595>0,VLOOKUP(O595,EventConfig!A:C,3,FALSE)=4),3,\"\"),1)))","v":{"$error":"#N/A"}},{"$error":"#N/A"},null,5711]
[null,"",null,"",{"$nulls":7},"",null,null,null,"",{"$nulls":5},"","","",null,null,"",null,null,"",{"$nulls":4},{"$f":"IF(A596=\"\",\"\",IF(ISNUMBER(Y596),2,IF(A597=\"\",IF(OR(AK596>0,VLOOKUP(O596,EventConfig!A:C,3,FALSE)=4),3,\"\"),1)))","v":""},"",null,""]
[{"$f":"O597*100+P597","v":500401},5712,"纳福-灵石","",{"$nulls":6},{"$f":"IF(J597=\"\",\"\",VLOOKUP(J597,EventNPC!A:E,5,FALSE))","v":""},5713,"你偶得良缘，大量灵石从天而降。",null,5004,1,{"$f":"_xlfn.TEXTJOIN(\";\",1,R597:S597)","v":""},null,null,{"$f":"IF(R597=\"\",\"\",\"-\"&VLOOKUP(R597,EventConditionConfig!A:C,3,FALSE)&IF(S597=\"\",\"\",CHAR(10)&\"-\"&VLOOKUP(S597,EventConditionConfig!A:C,3,FALSE)))","v":""},{"$f":"IF(Y597=\"\",\"\",IF(ISTEXT(Y597),1,2))","v":""},"","","",null,null,"",null,null,"",{"$nulls":4},{"$f":"IF(A597=\"\",\"\",IF(ISNUMBER(Y597),2,IF(A598=\"\",IF(OR(AK597>0,VLOOKUP(O597,EventConfig!A:C,3,FALSE)=4),3,\"\"),1)))","v":""},"",null,5713]
[null,"",null,"",{"$nulls":7},"",null,null,null,"",{"$nulls":5},"","","",null,null,"",null,null,"",{"$nulls":4},{"$f":"IF(A598=\"\",\"\",IF(ISNUMBER(Y598),2,IF(A599=\"\",IF(OR(AK598>0,VLOOKUP(O598,EventConfig!A:C,3,FALSE)=4),3,\"\"),1)))","v":""},"",null,""]
[{"$f":"O599*100+P599","v":500501},5714,"纳福-修为","",{"$nulls":6},{"$f":"IF(J599=\"\",\"\",VLOOKUP(J599,EventNPC!A:E,5,FALSE))","v":""},5715,"你偶得良缘，大量修为从天而降。",null,5005,1,{"$f":"_xlfn.TEXTJOIN(\";\",1,R599:S599)","v":""},null,null,{"$f":"IF(R599=\"\",\"\",\"-\"&VLOOKUP(R599,EventConditionConfig!A:C,3,FALSE)&IF(S599=\"\",\"\",CHAR(10)&\"-\"&VLOOKUP(S599,EventConditionConfig!A:C,3,FALSE)))","v":""},{"$f":"IF(Y599=\"\",\"\",IF(ISTEXT(Y599),1,2))","v":""},"","","",null,null,"",null,null,"",{"$nulls":4},{"$f":"IF(A599=\"\",\"\",IF(ISNUMBER(Y599),2,IF(A600=\"\",IF(OR(AK599>0,VLOOKUP(O599,EventConfig!A:C,3,FALSE)=4),3,\"\"),1)))","v":""},"",null,5715]
[null,"",null,"",{"$nulls":7},"",null,null,null,"",{"$nulls":5},"","","",null,null,"",null,null,"",{"$nulls":4},{"$f":"IF(A600=\"\",\"\",IF(ISNUMBER(Y600),2,IF(A601=\"\",IF(OR(AK600>0,VLOOKUP(O600,EventConfig!A:C,3,FALSE)=4),3,\"\"),1)))","v":""},"",null,""]
[{"$f":"O601*100+P601","v":500601},5716,"纳福-灵气","",{"$nulls":6},{"$f":"IF(J601=\"\",\"\",VLOOKUP(J601,EventNPC!A:E,5,FALSE))","v":""},5717,"你偶得良缘，大量灵气从天而降。",null,5006,1,{"$f":"_xlfn.TEXTJOIN(\";\",1,R601:S601)","v":""},null,null,{"$f":"IF(R601=\"\",\"\",\"-\"&VLOOKUP(R601,EventConditionConfig!A:C,3,FALSE)&IF(S601=\"\",\"\",CHAR(10)&\"-\"&VLOOKUP(S601,EventConditionConfig!A:C,3,FALSE)))","v":""},{"$f":"IF(Y601=\"\",\"\",IF(ISTEXT(Y601),1,2))","v":""},"","","",null,null,"",null,null,"",{"$nulls":4},{"$f":"IF(A601=\"\",\"\",IF(ISNUMBER(Y601),2,IF(A602=\"\",IF(OR(AK601>0,VLOOKUP(O601,EventConfig!A:C,3,FALSE)=4),3,\"\"),1)))","v":""},"",null,5717]
[null,"",null,"",{"$nulls":7},"",null,null,null,"",{"$nulls":5},"","","",null,null,"",null,null,"",{"$nulls":4},{"$f":"IF(A602=\"\",\"\",IF(ISNUMBER(Y602),2,IF(A603=\"\",IF(OR(AK602>0,VLOOKUP(O602,EventConfig!A:C,3,FALSE)=4),3,\"\"),1)))","v":""},"",null,""]
[{"$f":"O603*100+P603","v":500701},5718,"纳福-玄晶","",{"$nulls":6},{"$f":"IF(J603=\"\",\"\",VLOOKUP(J603,EventNPC!A:E,5,FALSE))","v":""},5719,"你偶得良缘，大量玄晶从天而降。",null,5007,1,{"$f":"_xlfn.TEXTJOIN(\";\",1,R603:S603)","v":""},null,null,{"$f":"IF(R603=\"\",\"\",\"-\"&VLOOKUP(R603,EventConditionConfig!A:C,3,FALSE)&IF(S603=\"\",\"\",CHAR(10)&\"-\"&VLOOKUP(S603,EventConditionConfig!A:C,3,FALSE)))","v":""},{"$f":"IF(Y603=\"\",\"\",IF(ISTEXT(Y603),1,2))","v":""},"","","",null,null,"",null,null,"",{"$nulls":4},{"$f":"IF(A603=\"\",\"\",IF(ISNUMBER(Y603),2,IF(A604=\"\",IF(OR(AK603>0,VLOOKUP(O603,EventConfig!A:C,3,FALSE)=4),3,\"\"),1)))","v":""},"",null,5719]
[null,"",null,"",{"$nulls":7},"",null,null,null,{"$f":"IF(O604=\"\",\"\",IF(O604=O603,P603+1,1))","v":""},{"$nulls":5},"","","",null,null,"",null,null,"",{"$nulls":4},{"$f":"IF(A604=\"\",\"\",IF(ISNUMBER(Y604),2,IF(A605=\"\",IF(OR(AK604>0,VLOOKUP(O604,EventConfig!A:C,3,FALSE)=4),3,\"\"),1)))","v":""},"",null,""]
[{"$f":"O605*100+P605","v":910101},5720,{"$f":"CONCATENATE(\"你偶遇正在修炼的\",K605)","v":"你偶遇正在修炼的雀灵儿"},"",{"$nulls":5},2,{"$f":"IF(J605=\"\",\"\",VLOOKUP(J605,EventNPC!A:E,5,FALSE))","v":"雀灵儿"},5721,"嘿小友你好，初次见面不甚兴奋，赠你一朵小花花~",null,9101,1,{"$f":"_xlfn.TEXTJOIN(\";\",1,R605:S605)","v":""},null,null,{"$f":"IF(R605=\"\",\"\",\"-\"&VLOOKUP(R605,EventConditionConfig!A:C,3,FALSE)&IF(S605=\"\",\"\",CHAR(10)&\"-\"&VLOOKUP(S605,EventConditionConfig!A:C,3,FALSE)))","v":""},{"$f":"IF(Y605=\"\",\"\",IF(ISTEXT(Y605),1,2))","v":""},"","","",null,null,"",null,null,"",{"$nulls":4},{"$f":"IF(A605=\"\",\"\",IF(ISNUMBER(Y605),2,IF(A606=\"\",IF(OR(AK605>0,VLOOKUP(O605,EventConfig!A:C,3,FALSE)=4),3,\"\"),1)))","v":{"$error":"#N/A"}},{"$error":"#N/A"},null,5721]
[null,"",null,"",{"$nulls":7},"",null,null,null,"",{"$nulls":5},"","","",null,null,"",null,null,"",{"$nulls":4},{"$f":"IF(A606=\"\",\"\",IF(ISNUMBER(Y606),2,IF(A607=\"\",IF(OR(AK606>0,VLOOKUP(O606,EventConfig!A:C,3,FALSE)=4),3,\"\"),1)))","v":""},"",null,""]
[{"$f":"O607*100+P607","v":910201},5722,{"$f":"CONCATENATE(\"你偶遇正在修炼的\",K607)","v":"你偶遇正在修炼的云枝"},"",{"$nulls":5},3,{"$f":"IF(J607=\"\",\"\",VLOOKUP(J607,EventNPC!A:E,5,FALSE))","v":"云枝"},5723,"嘿小友你好，初次见面不甚兴奋，赠你一朵小花花~",null,9102,1,{"$f":"_xlfn.TEXTJOIN(\";\",1,R607:S607)","v":""},null,null,{"$f":"IF(R607=\"\",\"\",\"-\"&VLOOKUP(R607,EventConditionConfig!A:C,3,FALSE)&IF(S607=\"\",\"\",CHAR(10)&\"-\"&VLOOKUP(S607,EventConditionConfig!A:C,3,FALSE)))","v":""},{"$f":"IF(Y607=\"\",\"\",IF(ISTEXT(Y607),1,2))","v":""},"","","",null,null,"",null,null,"",{"$nulls":4},{"$f":"IF(A607=\"\",\"\",IF(ISNUMBER(Y607),2,IF(A608=\"\",IF(OR(AK607>0,VLOOKUP(O607,EventConfig!A:C,3,FALSE)=4),3,\"\"),1)))","v":{"$error":"#N/A"}},{"$error":"#N/A"},null,5723]
[null,"",null,"",{"$nulls":7},"",null,null,null,"",{"$nulls":5},"","","",null,null,"",null,null,"",{"$nulls":4},{"$f":"IF(A608=\"\",\"\",IF(ISNUMBER(Y608),2,IF(A609=\"\",IF(OR(AK608>0,VLOOKUP(O608,EventConfig!A:C,3,FALSE)=4),3,\"\"),1)))","v":""},"",null,""]
[{"$f":"O609*100+P609","v":910301},5724,{"$f":"CONCATENATE(\"你偶遇正在修炼的\",K609)","v":"你偶遇正在修炼的风瑶"},"",{"$nulls":5},4,{"$f":"IF(J609=\"\",\"\",VLOOKUP(J609,EventNPC!A:E,5,FALSE))","v":"风瑶"},5725,"嘿小友你好，初次见面不甚兴奋，赠你一朵小花花~",null,9103,1,{"$f":"_xlfn.TEXTJOIN(\";\",1,R609:S609)","v":""},null,null,{"$f":"IF(R609=\"\",\"\",\"-\"&VLOOKUP(R609,EventConditionConfig!A:C,3,FALSE)&IF(S609=\"\",\"\",CHAR(10)&\"-\"&VLOOKUP(S609,EventConditionConfig!A:C,3,FALSE)))","v":""},{"$f":"IF(Y609=\"\",\"\",IF(ISTEXT(Y609),1,2))","v":""},"","","",null,null,"",null,null,"",{"$nulls":4},{"$f":"IF(A609=\"\",\"\",IF(ISNUMBER(Y609),2,IF(A610=\"\",IF(OR(AK609>0,VLOOKUP(O609,EventConfig!A:C,3,FALSE)=4),3,\"\"),1)))","v":{"$error":"#N/A"}},{"$error":"#N/A"},null,5725]
[null,"",null,"",{"$nulls":7},"",null,null,null,"",{"$nulls":5},"","","",null,null,"",null,null,"",{"$nulls":4},{"$f":"IF(A610=\"\",\"\",IF(ISNUMBER(Y610),2,IF(A611=\"\",IF(OR(AK610>0,VLOOKUP(O610,EventConfig!A:C,3,FALSE)=4),3,\"\"),1)))","v":""},"",null,""]
[{"$f":"O611*100+P611","v":910401},5726,{"$f":"CONCATENATE(\"你偶遇正在修炼的\",K611)","v":"你偶遇正在修炼的婉溪"},"",{"$nulls":5},5,{"$f":"IF(J611=\"\",\"\",VLOOKUP(J611,EventNPC!A:E,5,FALSE))","v":"婉溪"},5727,"嘿小友你好，初次见面不甚兴奋，赠你一朵小花花~",null,9104,1,{"$f":"_xlfn.TEXTJOIN(\";\",1,R611:S611)","v":""},null,null,{"$f":"IF(R611=\"\",\"\",\"-\"&VLOOKUP(R611,EventConditionConfig!A:C,3,FALSE)&IF(S611=\"\",\"\",CHAR(10)&\"-\"&VLOOKUP(S611,EventConditionConfig!A:C,3,FALSE)))","v":""},{"$f":"IF(Y611=\"\",\"\",IF(ISTEXT(Y611),1,2))","v":""},"","","",null,null,"",null,null,"",{"$nulls":4},{"$f":"IF(A611=\"\",\"\",IF(ISNUMBER(Y611),2,IF(A612=\"\",IF(OR(AK611>0,VLOOKUP(O611,EventConfig!A:C,3,FALSE)=4),3,\"\"),1)))","v":{"$error":"#N/A"}},{"$error":"#N/A"},null,5727]
[null,"",null,"",{"$nulls":7},"",null,null,null,"",{"$nulls":5},"","","",null,null,"",null,null,"",{"$nulls":4},{"$f":"IF(A612=\"\",\"\",IF(ISNUMBER(Y612),2,IF(A613=\"\",IF(OR(AK612>0,VLOOKUP(O612,EventConfig!A:C,3,FALSE)=4),3,\"\"),1)))","v":""},"",null,""]
[{"$f":"O613*100+P613","v":910501},5728,{"$f":"CONCATENATE(\"你偶遇正在修炼的\",K613)","v":"你偶遇正在修炼的许由"},"",{"$nulls":5},6,{"$f":"IF(J613=\"\",\"\",VLOOKUP(J613,EventNPC!A:E,5,FALSE))","v":"许由"},5729,"嘿小友你好，初次见面不甚兴奋，赠你一朵小花花~",null,9105,1,{"$f":"_xlfn.TEXTJOIN(\";\",1,R613:S613)","v":""},null,null,{"$f":"IF(R613=\"\",\"\",\"-\"&VLOOKUP(R613,EventConditionConfig!A:C,3,FALSE)&IF(S613=\"\",\"\",CHAR(10)&\"-\"&VLOOKUP(S613,EventConditionConfig!A:C,3,FALSE)))","v":""},{"$f":"IF(Y613=\"\",\"\",IF(ISTEXT(Y613),1,2))","v":""},"","","",null,null,"",null,null,"",{"$nulls":4},{"$f":"IF(A613=\"\",\"\",IF(ISNUMBER(Y613),2,IF(A614=\"\",IF(OR(AK613>0,VLOOKUP(O613,EventConfig!A:C,3,FALSE)=4),3,\"\"),1)))","v":{"$error":"#N/A"}},{"$error":"#N/A"},null,5729]
[null,"",null,"",{"$nulls":7},"",null,null,null,"",{"$nulls":5},"","","",null,null,"",null,null,"",{"$nulls":4},{"$f":"IF(A614=\"\",\"\",IF(ISNUMBER(Y614),2,IF(A615=\"\",IF(OR(AK614>0,VLOOKUP(O614,EventConfig!A:C,3,FALSE)=4),3,\"\"),1)))","v":""},"",null,""]
[{"$f":"O615*100+P615","v":910601},5730,{"$f":"CONCATENATE(\"你偶遇正在修炼的\",K615)","v":"你偶遇正在修炼的疯道人"},"",{"$nulls":5},7,{"$f":"IF(J615=\"\",\"\",VLOOKUP(J615,EventNPC!A:E,5,FALSE))","v":"疯道人"},5731,"嘿小友你好，初次见面不甚兴奋，赠你一朵小花花~",null,9106,1,{"$f":"_xlfn.TEXTJOIN(\";\",1,R615:S615)","v":""},null,null,{"$f":"IF(R615=\"\",\"\",\"-\"&VLOOKUP(R615,EventConditionConfig!A:C,3,FALSE)&IF(S615=\"\",\"\",CHAR(10)&\"-\"&VLOOKUP(S615,EventConditionConfig!A:C,3,FALSE)))","v":""},{"$f":"IF(Y615=\"\",\"\",IF(ISTEXT(Y615),1,2))","v":""},"","","",null,null,"",null,null,"",{"$nulls":4},{"$f":"IF(A615=\"\",\"\",IF(ISNUMBER(Y615),2,IF(A616=\"\",IF(OR(AK615>0,VLOOKUP(O615,EventConfig!A:C,3,FALSE)=4),3,\"\"),1)))","v":{"$error":"#N/A"}},{"$error":"#N/A"},null,5731]
[null,"",null,"",{"$nulls":7},"",null,null,null,"",{"$nulls":5},"","","",null,null,"",null,null,"",{"$nulls":4},{"$f":"IF(A616=\"\",\"\",IF(ISNUMBER(Y616),2,IF(A617=\"\",IF(OR(AK616>0,VLOOKUP(O616,EventConfig!A:C,3,FALSE)=4),3,\"\"),1)))","v":""},"",null,""]
[{"$f":"O617*100+P617","v":910701},5732,{"$f":"CONCATENATE(\"你偶遇正在修炼的\",K617)","v":"你偶遇正在修炼的道友7"},"",{"$nulls":5},8,{"$f":"IF(J617=\"\",\"\",VLOOKUP(J617,EventNPC!A:E,5,FALSE))","v":"道友7"},5733,"嘿小友你好，初次见面不甚兴奋，赠你一朵小花花~",null,9107,1,{"$f":"_xlfn.TEXTJOIN(\";\",1,R617:S617)","v":""},null,null,{"$f":"IF(R617=\"\",\"\",\"-\"&VLOOKUP(R617,EventConditionConfig!A:C,3,FALSE)&IF(S617=\"\",\"\",CHAR(10)&\"-\"&VLOOKUP(S617,EventConditionConfig!A:C,3,FALSE)))","v":""},{"$f":"IF(Y617=\"\",\"\",IF(ISTEXT(Y617),1,2))","v":""},"","","",null,null,"",null,null,"",{"$nulls":4},{"$f":"IF(A617=\"\",\"\",IF(ISNUMBER(Y617),2,IF(A618=\"\",IF(OR(AK617>0,VLOOKUP(O617,EventConfig!A:C,3,FALSE)=4),3,\"\"),1)))","v":{"$error":"#N/A"}},{"$error":"#N/A"},null,5733]
[null,"",null,"",{"$nulls":7},"",null,null,null,"",{"$nulls":5},"","","",null,null,"",null,null,"",{"$nulls":4},{"$f":"IF(A618=\"\",\"\",IF(ISNUMBER(Y618),2,IF(A619=\"\",IF(OR(AK618>0,VLOOKUP(O618,EventConfig!A:C,3,FALSE)=4),3,\"\"),1)))","v":""},"",null,""]
[{"$f":"O619*100+P619","v":910801},5734,{"$f":"CONCATENATE(\"你偶遇正在修炼的\",K619)","v":"你偶遇正在修炼的道友8"},"",{"$nulls":5},9,{"$f":"IF(J619=\"\",\"\",VLOOKUP(J619,EventNPC!A:E,5,FALSE))","v":"道友8"},5735,"嘿小友你好，初次见面不甚兴奋，赠你一朵小花花~",null,9108,1,{"$f":"_xlfn.TEXTJOIN(\";\",1,R619:S619)","v":""},null,null,{"$f":"IF(R619=\"\",\"\",\"-\"&VLOOKUP(R619,EventConditionConfig!A:C,3,FALSE)&IF(S619=\"\",\"\",CHAR(10)&\"-\"&VLOOKUP(S619,EventConditionConfig!A:C,3,FALSE)))","v":""},{"$f":"IF(Y619=\"\",\"\",IF(ISTEXT(Y619),1,2))","v":""},"","","",null,null,"",null,null,"",{"$nulls":4},{"$f":"IF(A619=\"\",\"\",IF(ISNUMBER(Y619),2,IF(A620=\"\",IF(OR(AK619>0,VLOOKUP(O619,EventConfig!A:C,3,FALSE)=4),3,\"\"),1)))","v":{"$error":"#N/A"}},{"$error":"#N/A"},null,5735]
[null,"",null,"",{"$nulls":7},"",null,null,null,"",{"$nulls":5},"","","",null,null,"",null,null,"",{"$nulls":4},{"$f":"IF(A620=\"\",\"\",IF(ISNUMBER(Y620),2,IF(A621=\"\",IF(OR(AK620>0,VLOOKUP(O620,EventConfig!A:C,3,FALSE)=4),3,\"\"),1)))","v":""},"",null,""]
[{"$f":"O621*100+P621","v":910901},5736,{"$f":"CONCATENATE(\"你偶遇正在修炼的\",K621)","v":"你偶遇正在修炼的道友9"},"",{"$nulls":5},10,{"$f":"IF(J621=\"\",\"\",VLOOKUP(J621,EventNPC!A:E,5,FALSE))","v":"道友9"},5737,"嘿小友你好，初次见面不甚兴奋，赠你一朵小花花~",null,9109,1,{"$f":"_xlfn.TEXTJOIN(\";\",1,R621:S621)","v":""},null,null,{"$f":"IF(R621=\"\",\"\",\"-\"&VLOOKUP(R621,EventConditionConfig!A:C,3,FALSE)&IF(S621=\"\",\"\",CHAR(10)&\"-\"&VLOOKUP(S621,EventConditionConfig!A:C,3,FALSE)))","v":""},{"$f":"IF(Y621=\"\",\"\",IF(ISTEXT(Y621),1,2))","v":""},"","","",null,null,"",null,null,"",{"$nulls":4},{"$f":"IF(A621=\"\",\"\",IF(ISNUMBER(Y621),2,IF(A622=\"\",IF(OR(AK621>0,VLOOKUP(O621,EventConfig!A:C,3,FALSE)=4),3,\"\"),1)))","v":{"$error":"#N/A"}},{"$error":"#N/A"},null,5737]
[null,"",null,"",{"$nulls":7},"",null,null,null,"",{"$nulls":5},"","","",null,null,"",null,null,"",{"$nulls":4},{"$f":"IF(A622=\"\",\"\",IF(ISNUMBER(Y622),2,IF(A623=\"\",IF(OR(AK622>0,VLOOKUP(O622,EventConfig!A:C,3,FALSE)=4),3,\"\"),1)))","v":""},"",null,""]
[{"$f":"O623*100+P623","v":911001},5738,{"$f":"CONCATENATE(\"你偶遇正在修炼的\",K623)","v":"你偶遇正在修炼的道友10"},"",{"$nulls":5},11,{"$f":"IF(J623=\"\",\"\",VLOOKUP(J623,EventNPC!A:E,5,FALSE))","v":"道友10"},5739,"嘿小友你好，初次见面不甚兴奋，赠你一朵小花花~",null,9110,1,{"$f":"_xlfn.TEXTJOIN(\";\",1,R623:S623)","v":""},null,null,{"$f":"IF(R623=\"\",\"\",\"-\"&VLOOKUP(R623,EventConditionConfig!A:C,3,FALSE)&IF(S623=\"\",\"\",CHAR(10)&\"-\"&VLOOKUP(S623,EventConditionConfig!A:C,3,FALSE)))","v":""},{"$f":"IF(Y623=\"\",\"\",IF(ISTEXT(Y623),1,2))","v":""},"","","",null,null,"",null,null,"",{"$nulls":4},{"$f":"IF(A623=\"\",\"\",IF(ISNUMBER(Y623),2,IF(A624=\"\",IF(OR(AK623>0,VLOOKUP(O623,EventConfig!A:C,3,FALSE)=4),3,\"\"),1)))","v":{"$error":"#N/A"}},{"$error":"#N/A"},null,5739]
[null,"",null,"",{"$nulls":7},"",null,null,null,"",{"$nulls":5},"","","",null,null,"",null,null,"",{"$nulls":4},{"$f":"IF(A624=\"\",\"\",IF(ISNUMBER(Y624),2,IF(A625=\"\",IF(OR(AK624>0,VLOOKUP(O624,EventConfig!A:C,3,FALSE)=4),3,\"\"),1)))","v":""},"",null,""]
[{"$f":"O625*100+P625","v":3001201},"",null,"",{"$nulls":6},{"$f":"IF(J625=\"\",\"\",VLOOKUP(J625,EventNPC!A:E,5,FALSE))","v":""},5740,"你偶然发现一股法力之泉，上前取得一滴甘露。",null,30012,1,{"$f":"_xlfn.TEXTJOIN(\";\",1,R625:S625)","v":""},null,null,{"$f":"IF(R625=\"\",\"\",\"-\"&VLOOKUP(R625,EventConditionConfig!A:C,3,FALSE)&IF(S625=\"\",\"\",CHAR(10)&\"-\"&VLOOKUP(S625,EventConditionConfig!A:C,3,FALSE)))","v":""},{"$f":"IF(Y625=\"\",\"\",IF(ISTEXT(Y625),1,2))","v":""},"","","",null,null,"",null,null,"",{"$nulls":4},{"$f":"IF(A625=\"\",\"\",IF(ISNUMBER(Y625),2,IF(A626=\"\",IF(OR(AK625>0,VLOOKUP(O625,EventConfig!A:C,3,FALSE)=4),3,\"\"),1)))","v":""},"",null,5740]
[null,"",null,"",{"$nulls":7},"",null,null,null,"",{"$nulls":5},"","","",null,null,"",null,null,"",{"$nulls":4},{"$f":"IF(A626=\"\",\"\",IF(ISNUMBER(Y626),2,IF(A627=\"\",IF(OR(AK626>0,VLOOKUP(O626,EventConfig!A:C,3,FALSE)=4),3,\"\"),1)))","v":""},"",null,""]
[{"$f":"O627*100+P627","v":3001301},"",null,"",{"$nulls":6},{"$f":"IF(J627=\"\",\"\",VLOOKUP(J627,EventNPC!A:E,5,FALSE))","v":""},5741,"你探索神识时，无意间获得1枚漂亮的风铃。把它送给雀灵儿的话，不知道她有多高兴呢。",null,30013,1,{"$f":"_xlfn.TEXTJOIN(\";\",1,R627:S627)","v":""},null,null,{"$f":"IF(R627=\"\",\"\",\"-\"&VLOOKUP(R627,EventConditionConfig!A:C,3,FALSE)&IF(S627=\"\",\"\",CHAR(10)&\"-\"&VLOOKUP(S627,EventConditionConfig!A:C,3,FALSE)))","v":""},{"$f":"IF(Y627=\"\",\"\",IF(ISTEXT(Y627),1,2))","v":""},"","","",null,null,"",null,null,"",{"$nulls":4},{"$f":"IF(A627=\"\",\"\",IF(ISNUMBER(Y627),2,IF(A628=\"\",IF(OR(AK627>0,VLOOKUP(O627,EventConfig!A:C,3,FALSE)=4),3,\"\"),1)))","v":""},"",null,5741]
[null,"",null,"",{"$nulls":7},"",null,null,null,"",{"$nulls":5},"","","",null,null,"",null,null,"",{"$nulls":4},{"$f":"IF(A628=\"\",\"\",IF(ISNUMBER(Y628),2,IF(A629=\"\",IF(OR(AK628>0,VLOOKUP(O628,EventConfig!A:C,3,FALSE)=4),3,\"\"),1)))","v":""},"",null,""]
[{"$f":"O629*100+P629","v":3001401},5742,"击败风妖","",{"$nulls":6},{"$f":"IF(J629=\"\",\"\",VLOOKUP(J629,EventNPC!A:E,5,FALSE))","v":""},5743,"你遇到了一队拦路的风妖",null,30014,1,{"$f":"_xlfn.TEXTJOIN(\";\",1,R629:S629)","v":""},null,null,{"$f":"IF(R629=\"\",\"\",\"-\"&VLOOKUP(R629,EventConditionConfig!A:C,3,FALSE)&IF(S629=\"\",\"\",CHAR(10)&\"-\"&VLOOKUP(S629,EventConditionConfig!A:C,3,FALSE)))","v":""},{"$f":"IF(Y629=\"\",\"\",IF(ISTEXT(Y629),1,2))","v":2},3003,"","",3003,null,"",null,null,"",{"$nulls":4},{"$f":"IF(A629=\"\",\"\",IF(ISNUMBER(Y629),2,IF(A630=\"\",IF(OR(AK629>0,VLOOKUP(O629,EventConfig!A:C,3,FALSE)=4),3,\"\"),1)))","v":2},"3001402;101",null,5743]
[null,"",null,"",{"$nulls":7},"",null,null,null,"",{"$nulls":5},"","","",null,null,"",null,null,"",{"$nulls":4},{"$f":"IF(A630=\"\",\"\",IF(ISNUMBER(Y630),2,IF(A631=\"\",IF(OR(AK630>0,VLOOKUP(O630,EventConfig!A:C,3,FALSE)=4),3,\"\"),1)))","v":""},"",null,""]
[{"$f":"O631*100+P631","v":3001501},5744,"收集风灵碎片","",{"$nulls":6},{"$f":"IF(J631=\"\",\"\",VLOOKUP(J631,EventNPC!A:E,5,FALSE))","v":""},5745,"你探索神识时，无意间获得一枚风灵碎片。",null,30015,1,{"$f":"_xlfn.TEXTJOIN(\";\",1,R631:S631)","v":""},null,null,{"$f":"IF(R631=\"\",\"\",\"-\"&VLOOKUP(R631,EventConditionConfig!A:C,3,FALSE)&IF(S631=\"\",\"\",CHAR(10)&\"-\"&VLOOKUP(S631,EventConditionConfig!A:C,3,FALSE)))","v":""},{"$f":"IF(Y631=\"\",\"\",IF(ISTEXT(Y631),1,2))","v":""},"","","",null,null,"",null,null,"",{"$nulls":4},{"$f":"IF(A631=\"\",\"\",IF(ISNUMBER(Y631),2,IF(A632=\"\",IF(OR(AK631>0,VLOOKUP(O631,EventConfig!A:C,3,FALSE)=4),3,\"\"),1)))","v":""},"",null,5745]
[null,"",null,"",{"$nulls":7},"",null,null,null,"",{"$nulls":5},"","","",null,null,"",null,null,"",{"$nulls":4},{"$f":"IF(A632=\"\",\"\",IF(ISNUMBER(Y632),2,IF(A633=\"\",IF(OR(AK632>0,VLOOKUP(O632,EventConfig!A:C,3,FALSE)=4),3,\"\"),1)))","v":""},"",null,""]
[{"$f":"O633*100+P633","v":3001601},5746,"向散修打听云隐宗的传闻","",{"$nulls":6},{"$f":"IF(J633=\"\",\"\",VLOOKUP(J633,EventNPC!A:E,5,FALSE))","v":""},5747,"你探索神识时，无意间遇到散修们在闲聊关于云隐宗的传闻，你决定上前打听一番。",null,30016,1,{"$f":"_xlfn.TEXTJOIN(\";\",1,R633:S633)","v":""},null,null,{"$f":"IF(R633=\"\",\"\",\"-\"&VLOOKUP(R633,EventConditionConfig!A:C,3,FALSE)&IF(S633=\"\",\"\",CHAR(10)&\"-\"&VLOOKUP(S633,EventConditionConfig!A:C,3,FALSE)))","v":""},{"$f":"IF(Y633=\"\",\"\",IF(ISTEXT(Y633),1,2))","v":""},"","","",null,null,"",null,null,"",{"$nulls":4},{"$f":"IF(A633=\"\",\"\",IF(ISNUMBER(Y633),2,IF(A634=\"\",IF(OR(AK633>0,VLOOKUP(O633,EventConfig!A:C,3,FALSE)=4),3,\"\"),1)))","v":1},3001602,null,5747]
[{"$f":"O634*100+P634","v":3001602},5746,"向散修打听云隐宗的传闻","",{"$nulls":5},123,{"$f":"IF(J634=\"\",\"\",VLOOKUP(J634,EventNPC!A:E,5,FALSE))","v":"散修甲"},5748,"云隐宗？最近确实怪，宗门外围的风阵偶尔闪烁黑光，像被什么侵蚀了。不过我可不敢靠近。",null,30016,2,{"$f":"_xlfn.TEXTJOIN(\";\",1,R634:S634)","v":""},null,null,{"$f":"IF(R634=\"\",\"\",\"-\"&VLOOKUP(R634,EventConditionConfig!A:C,3,FALSE)&IF(S634=\"\",\"\",CHAR(10)&\"-\"&VLOOKUP(S634,EventConditionConfig!A:C,3,FALSE)))","v":""},{"$f":"IF(Y634=\"\",\"\",IF(ISTEXT(Y634),1,2))","v":""},"","","",null,null,"",null,null,"",{"$nulls":4},{"$f":"IF(A634=\"\",\"\",IF(ISNUMBER(Y634),2,IF(A635=\"\",IF(OR(AK634>0,VLOOKUP(O634,EventConfig!A:C,3,FALSE)=4),3,\"\"),1)))","v":1},3001603,null,5748]
[{"$f":"O635*100+P635","v":3001603},5746,"向散修打听云隐宗的传闻","",{"$nulls":5},124,{"$f":"IF(J635=\"\",\"\",VLOOKUP(J635,EventNPC!A:E,5,FALSE))","v":"散修乙"},5749,"听说宗内有长老在炼制诡异的丹药，服用后修为暴增，但眼神空洞。别传出去啊！",null,30016,3,{"$f":"_xlfn.TEXTJOIN(\";\",1,R635:S635)","v":""},null,null,{"$f":"IF(R635=\"\",\"\",\"-\"&VLOOKUP(R635,EventConditionConfig!A:C,3,FALSE)&IF(S635=\"\",\"\",CHAR(10)&\"-\"&VLOOKUP(S635,EventConditionConfig!A:C,3,FALSE)))","v":""},{"$f":"IF(Y635=\"\",\"\",IF(ISTEXT(Y635),1,2))","v":""},"","","",null,null,"",null,null,"",{"$nulls":4},{"$f":"IF(A635=\"\",\"\",IF(ISNUMBER(Y635),2,IF(A636=\"\",IF(OR(AK635>0,VLOOKUP(O635,EventConfig!A:C,3,FALSE)=4),3,\"\"),1)))","v":1},3001604,null,5749]
[{"$f":"O636*100+P636","v":3001604},5746,"向散修打听云隐宗的传闻","",{"$nulls":5},125,{"$f":"IF(J636=\"\",\"\",VLOOKUP(J636,EventNPC!A:E,5,FALSE))","v":"散修丙"},5750,"我见过一枚从云隐宗飘出的岛屿灵石，里面有股阴冷气息，不像正道之物。",null,30016,4,{"$f":"_xlfn.TEXTJOIN(\";\",1,R636:S636)","v":""},null,null,{"$f":"IF(R636=\"\",\"\",\"-\"&VLOOKUP(R636,EventConditionConfig!A:C,3,FALSE)&IF(S636=\"\",\"\",CHAR(10)&\"-\"&VLOOKUP(S636,EventConditionConfig!A:C,3,FALSE)))","v":""},{"$f":"IF(Y636=\"\",\"\",IF(ISTEXT(Y636),1,2))","v":""},"","","",null,null,"",null,null,"",{"$nulls":4},{"$f":"IF(A636=\"\",\"\",IF(ISNUMBER(Y636),2,IF(A637=\"\",IF(OR(AK636>0,VLOOKUP(O636,EventConfig!A:C,3,FALSE)=4),3,\"\"),1)))","v":""},"",null,5750]
[null,"",null,"",{"$nulls":7},"",null,null,null,"",{"$nulls":5},"","","",null,null,"",null,null,"",{"$nulls":4},{"$f":"IF(A637=\"\",\"\",IF(ISNUMBER(Y637),2,IF(A638=\"\",IF(OR(AK637>0,VLOOKUP(O637,EventConfig!A:C,3,FALSE)=4),3,\"\"),1)))","v":""},"",null,""]
[{"$f":"O638*100+P638","v":3001701},5751,"击败误食灵石的妖兽","",{"$nulls":6},{"$f":"IF(J638=\"\",\"\",VLOOKUP(J638,EventNPC!A:E,5,FALSE))","v":""},5752,"你探索神识时，无意间遇到一只误食灵石的妖兽。你决定上前结束他的痛苦。",null,30017,1,{"$f":"_xlfn.TEXTJOIN(\";\",1,R638:S638)","v":""},null,null,{"$f":"IF(R638=\"\",\"\",\"-\"&VLOOKUP(R638,EventConditionConfig!A:C,3,FALSE)&IF(S638=\"\",\"\",CHAR(10)&\"-\"&VLOOKUP(S638,EventConditionConfig!A:C,3,FALSE)))","v":""},{"$f":"IF(Y638=\"\",\"\",IF(ISTEXT(Y638),1,2))","v":2},30017,"","",30017,null,"",null,null,"",{"$nulls":4},{"$f":"IF(A638=\"\",\"\",IF(ISNUMBER(Y638),2,IF(A639=\"\",IF(OR(AK638>0,VLOOKUP(O638,EventConfig!A:C,3,FALSE)=4),3,\"\"),1)))","v":2},"3001702;101",null,5752]
[null,"",null,"",{"$nulls":7},"",null,null,null,"",{"$nulls":5},"","","",null,null,"",null,null,"",{"$nulls":4},{"$f":"IF(A639=\"\",\"\",IF(ISNUMBER(Y639),2,IF(A640=\"\",IF(OR(AK639>0,VLOOKUP(O639,EventConfig!A:C,3,FALSE)=4),3,\"\"),1)))","v":""},"",null,""]
[{"$f":"O640*100+P640","v":3001801},5753,"截取密信","",{"$nulls":6},{"$f":"IF(J640=\"\",\"\",VLOOKUP(J640,EventNPC!A:E,5,FALSE))","v":""},5754,"你探索神识时，无意间遇到一只信鸽，爪子上的标记让你识出它来自云隐宗。你决定截取这封密信。",null,30018,1,{"$f":"_xlfn.TEXTJOIN(\";\",1,R640:S640)","v":""},null,null,{"$f":"IF(R640=\"\",\"\",\"-\"&VLOOKUP(R640,EventConditionConfig!A:C,3,FALSE)&IF(S640=\"\",\"\",CHAR(10)&\"-\"&VLOOKUP(S640,EventConditionConfig!A:C,3,FALSE)))","v":""},{"$f":"IF(Y640=\"\",\"\",IF(ISTEXT(Y640),1,2))","v":""},"","","",null,null,"",null,null,"",{"$nulls":4},{"$f":"IF(A640=\"\",\"\",IF(ISNUMBER(Y640),2,IF(A641=\"\",IF(OR(AK640>0,VLOOKUP(O640,EventConfig!A:C,3,FALSE)=4),3,\"\"),1)))","v":""},"",null,5754]
[null,"",null,"",{"$nulls":7},"",null,null,null,"",{"$nulls":5},"","","",null,null,"",null,null,"",{"$nulls":4},{"$f":"IF(A641=\"\",\"\",IF(ISNUMBER(Y641),2,IF(A642=\"\",IF(OR(AK641>0,VLOOKUP(O641,EventConfig!A:C,3,FALSE)=4),3,\"\"),1)))","v":""},"",null,""]
[{"$f":"O642*100+P642","v":3001901},5755,"截取密信","",{"$nulls":6},{"$f":"IF(J642=\"\",\"\",VLOOKUP(J642,EventNPC!A:E,5,FALSE))","v":""},5756,"你在山林巡查时，看到一只山林小妖正在炫耀它抢到的玉佩，看来这就是婉溪口中所说的尧都玉佩了。你决定教训一下小妖。",null,30019,1,{"$f":"_xlfn.TEXTJOIN(\";\",1,R642:S642)","v":""},null,null,{"$f":"IF(R642=\"\",\"\",\"-\"&VLOOKUP(R642,EventConditionConfig!A:C,3,FALSE)&IF(S642=\"\",\"\",CHAR(10)&\"-\"&VLOOKUP(S642,EventConditionConfig!A:C,3,FALSE)))","v":""},{"$f":"IF(Y642=\"\",\"\",IF(ISTEXT(Y642),1,2))","v":2},3009,"","",3009,null,"",null,null,"",{"$nulls":4},{"$f":"IF(A642=\"\",\"\",IF(ISNUMBER(Y642),2,IF(A643=\"\",IF(OR(AK642>0,VLOOKUP(O642,EventConfig!A:C,3,FALSE)=4),3,\"\"),1)))","v":2},"3001902;101",null,5756]
[null,"",null,"",{"$nulls":7},"",null,null,null,"",{"$nulls":5},"","","",null,null,"",null,null,"",{"$nulls":4},{"$f":"IF(A643=\"\",\"\",IF(ISNUMBER(Y643),2,IF(A644=\"\",IF(OR(AK643>0,VLOOKUP(O643,EventConfig!A:C,3,FALSE)=4),3,\"\"),1)))","v":""},"",null,""]
[{"$f":"O644*100+P644","v":3002001},5757,"收集山野灵草","",{"$nulls":6},{"$f":"IF(J644=\"\",\"\",VLOOKUP(J644,EventNPC!A:E,5,FALSE))","v":""},5758,"你帮助许由采集灵草，但遇到一只小妖兽作祟，你不得不上前迎战。",null,30020,1,{"$f":"_xlfn.TEXTJOIN(\";\",1,R644:S644)","v":""},null,null,{"$f":"IF(R644=\"\",\"\",\"-\"&VLOOKUP(R644,EventConditionConfig!A:C,3,FALSE)&IF(S644=\"\",\"\",CHAR(10)&\"-\"&VLOOKUP(S644,EventConditionConfig!A:C,3,FALSE)))","v":""},{"$f":"IF(Y644=\"\",\"\",IF(ISTEXT(Y644),1,2))","v":2},3011,"","",3011,null,"",null,null,"",{"$nulls":4},{"$f":"IF(A644=\"\",\"\",IF(ISNUMBER(Y644),2,IF(A645=\"\",IF(OR(AK644>0,VLOOKUP(O644,EventConfig!A:C,3,FALSE)=4),3,\"\"),1)))","v":2},"3002002;101",null,5758]
[null,"",null,"",{"$nulls":7},"",null,null,null,"",{"$nulls":5},"","","",null,null,"",null,null,"",{"$nulls":4},{"$f":"IF(A645=\"\",\"\",IF(ISNUMBER(Y645),2,IF(A646=\"\",IF(OR(AK645>0,VLOOKUP(O645,EventConfig!A:C,3,FALSE)=4),3,\"\"),1)))","v":""},"",null,""]
[{"$f":"O646*100+P646","v":3002101},5759,"收集秘境种子",{"$f":"IF(E646=\"\",\"\",IF(E646=E645,D645,MAX(AL645,AL644,B646)+1))","v":""},{"$nulls":6},{"$f":"IF(J646=\"\",\"\",VLOOKUP(J646,EventNPC!A:E,5,FALSE))","v":""},{"$f":"IF(M646=\"\",\"\",MAX(AL645,AL644,B646,D646)+1)","v":5760},"经由许由允许，你来到一处后山的秘境。",null,30021,1,{"$f":"_xlfn.TEXTJOIN(\";\",1,R646:S646)","v":""},null,null,{"$f":"IF(R646=\"\",\"\",\"-\"&VLOOKUP(R646,EventConditionConfig!A:C,3,FALSE)&IF(S646=\"\",\"\",CHAR(10)&\"-\"&VLOOKUP(S646,EventConditionConfig!A:C,3,FALSE)))","v":""},{"$f":"IF(Y646=\"\",\"\",IF(ISTEXT(Y646),1,2))","v":""},"","","",null,null,"",null,null,"",{"$nulls":4},{"$f":"IF(A646=\"\",\"\",IF(ISNUMBER(Y646),2,IF(A647=\"\",IF(OR(AK646>0,VLOOKUP(O646,EventConfig!A:C,3,FALSE)=4),3,\"\"),1)))","v":1},3002102,null,{"$f":"IF(A646=\"\",\"\",MAX(B646,D646,L646,X646,AA646,AL645,AL644,AD646))","v":5760}]
[{"$f":"O647*100+P647","v":3002102},5759,"收集秘境种子","",{"$nulls":6},{"$f":"IF(J647=\"\",\"\",VLOOKUP(J647,EventNPC!A:E,5,FALSE))","v":""},5761,"秘境中生长着你前所未见的花草，它们争奇斗艳颇为神秘。",null,30021,2,{"$f":"_xlfn.TEXTJOIN(\";\",1,R647:S647)","v":""},null,null,{"$f":"IF(R647=\"\",\"\",\"-\"&VLOOKUP(R647,EventConditionConfig!A:C,3,FALSE)&IF(S647=\"\",\"\",CHAR(10)&\"-\"&VLOOKUP(S647,EventConditionConfig!A:C,3,FALSE)))","v":""},{"$f":"IF(Y647=\"\",\"\",IF(ISTEXT(Y647),1,2))","v":""},"","","",null,null,"",null,null,"",{"$nulls":4},{"$f":"IF(A647=\"\",\"\",IF(ISNUMBER(Y647),2,IF(A648=\"\",IF(OR(AK647>0,VLOOKUP(O647,EventConfig!A:C,3,FALSE)=4),3,\"\"),1)))","v":1},3002103,null,5761]
[{"$f":"O648*100+P648","v":3002103},5759,"收集秘境种子","",{"$nulls":6},{"$f":"IF(J648=\"\",\"\",VLOOKUP(J648,EventNPC!A:E,5,FALSE))","v":""},5762,"你忍不住上前想摘下一朵，殊不知危险就藏在身后…",null,30021,3,{"$f":"_xlfn.TEXTJOIN(\";\",1,R648:S648)","v":""},null,null,{"$f":"IF(R648=\"\",\"\",\"-\"&VLOOKUP(R648,EventConditionConfig!A:C,3,FALSE)&IF(S648=\"\",\"\",CHAR(10)&\"-\"&VLOOKUP(S648,EventConditionConfig!A:C,3,FALSE)))","v":""},{"$f":"IF(Y648=\"\",\"\",IF(ISTEXT(Y648),1,2))","v":2},3012,"","",3012,null,"",null,null,"",{"$nulls":4},{"$f":"IF(A648=\"\",\"\",IF(ISNUMBER(Y648),2,IF(A649=\"\",IF(OR(AK648>0,VLOOKUP(O648,EventConfig!A:C,3,FALSE)=4),3,\"\"),1)))","v":2},"3002104;101",null,5762]
[null,"",null,"",{"$nulls":7},"",null,null,null,"",{"$nulls":5},"","","",null,null,"",null,null,"",{"$nulls":4},{"$f":"IF(A649=\"\",\"\",IF(ISNUMBER(Y649),2,IF(A650=\"\",IF(OR(AK649>0,VLOOKUP(O649,EventConfig!A:C,3,FALSE)=4),3,\"\"),1)))","v":""},"",null,""]
[{"$f":"O650*100+P650","v":3002201},5763,"收集秘境种子","",{"$nulls":6},{"$f":"IF(J650=\"\",\"\",VLOOKUP(J650,EventNPC!A:E,5,FALSE))","v":""},5764,"你探索神识时，无意间闯入一片仙气飘飘的果园。不妨采几颗果实给疯道人尝尝吧？",null,30022,1,{"$f":"_xlfn.TEXTJOIN(\";\",1,R650:S650)","v":""},null,null,{"$f":"IF(R650=\"\",\"\",\"-\"&VLOOKUP(R650,EventConditionConfig!A:C,3,FALSE)&IF(S650=\"\",\"\",CHAR(10)&\"-\"&VLOOKUP(S650,EventConditionConfig!A:C,3,FALSE)))","v":""},{"$f":"IF(Y650=\"\",\"\",IF(ISTEXT(Y650),1,2))","v":""},"","","",null,null,"",null,null,"",{"$nulls":4},{"$f":"IF(A650=\"\",\"\",IF(ISNUMBER(Y650),2,IF(A651=\"\",IF(OR(AK650>0,VLOOKUP(O650,EventConfig!A:C,3,FALSE)=4),3,\"\"),1)))","v":1},3002202,null,5764]
[{"$f":"O651*100+P651","v":3002202},5763,"收集秘境种子","",{"$nulls":6},{"$f":"IF(J651=\"\",\"\",VLOOKUP(J651,EventNPC!A:E,5,FALSE))","v":""},5765,"你刚伸手去够，谁知从树上跳下来一只灵猴，对比张牙舞爪。看来它不太同意你的想法。接招！",null,30022,2,{"$f":"_xlfn.TEXTJOIN(\";\",1,R651:S651)","v":""},null,null,{"$f":"IF(R651=\"\",\"\",\"-\"&VLOOKUP(R651,EventConditionConfig!A:C,3,FALSE)&IF(S651=\"\",\"\",CHAR(10)&\"-\"&VLOOKUP(S651,EventConditionConfig!A:C,3,FALSE)))","v":""},{"$f":"IF(Y651=\"\",\"\",IF(ISTEXT(Y651),1,2))","v":2},3013,"","",3013,null,"",null,null,"",{"$nulls":4},{"$f":"IF(A651=\"\",\"\",IF(ISNUMBER(Y651),2,IF(A652=\"\",IF(OR(AK651>0,VLOOKUP(O651,EventConfig!A:C,3,FALSE)=4),3,\"\"),1)))","v":2},"3002203;101",null,5765]
[null,"",null,"",{"$nulls":7},"",null,null,null,"",{"$nulls":5},"","","",null,null,"",null,null,"",{"$nulls":4},{"$f":"IF(A652=\"\",\"\",IF(ISNUMBER(Y652),2,IF(A653=\"\",IF(OR(AK652>0,VLOOKUP(O652,EventConfig!A:C,3,FALSE)=4),3,\"\"),1)))","v":""},"",null,""]
[{"$f":"O653*100+P653","v":600101},{"$f":"IF(C653=\"\",\"\",IF(C653=C652,B652,MAX(AL652,AL651)+1))","v":5766},"陪幻雀一起玩","",{"$nulls":6},{"$f":"IF(J653=\"\",\"\",VLOOKUP(J653,EventNPC!A:E,5,FALSE))","v":""},5767,"你返回北海密径，古松灵气未散。微风轻拂，树叶沙沙作响。",null,6001,1,{"$f":"_xlfn.TEXTJOIN(\";\",1,R653:S653)","v":""},null,null,{"$f":"IF(R653=\"\",\"\",\"-\"&VLOOKUP(R653,EventConditionConfig!A:C,3,FALSE)&IF(S653=\"\",\"\",CHAR(10)&\"-\"&VLOOKUP(S653,EventConditionConfig!A:C,3,FALSE)))","v":""},{"$f":"IF(Y653=\"\",\"\",IF(ISTEXT(Y653),1,2))","v":""},"","",{"$f":"IF(OR(ISNUMBER(Y653),Y653=\"\"),\"\",MAX(AL652,AL650,B653,D653,L653)+1)","v":""},null,null,{"$f":"IF(OR(ISNUMBER(AB653),AB653=\"\"),\"\",X653+1)","v":""},null,null,{"$f":"IF(OR(ISNUMBER(AE653),AE653=\"\"),\"\",AA653+1)","v":""},{"$nulls":4},{"$f":"IF(A653=\"\",\"\",IF(ISNUMBER(Y653),2,IF(A654=\"\",IF(OR(AK653>0,VLOOKUP(O653,EventConfig!A:C,3,FALSE)=4),3,\"\"),1)))","v":1},600102,null,5767]
[{"$f":"O654*100+P654","v":600102},5766,"陪幻雀一起玩","",{"$nulls":6},{"$f":"IF(J654=\"\",\"\",VLOOKUP(J654,EventNPC!A:E,5,FALSE))","v":""},5768,"小麻雀化形为少女，扑棱袖子落在树枝上。",null,6001,2,{"$f":"_xlfn.TEXTJOIN(\";\",1,R654:S654)","v":""},null,null,{"$f":"IF(R654=\"\",\"\",\"-\"&VLOOKUP(R654,EventConditionConfig!A:C,3,FALSE)&IF(S654=\"\",\"\",CHAR(10)&\"-\"&VLOOKUP(S654,EventConditionConfig!A:C,3,FALSE)))","v":""},{"$f":"IF(Y654=\"\",\"\",IF(ISTEXT(Y654),1,2))","v":""},{"$f":"IF(U654=1,_xlfn.TEXTJOIN(\";\",1,IF(Z654=\"\",A654+1,Z654),IF(AND(AA654<>\"\",AC654=\"\"),A654+1,AC654),IF(AND(AD654<>\"\",AF654=\"\"),A654+1,AF654)),IF(U654=2,Y654,\"\"))","v":""},{"$f":"_xlfn.TEXTJOIN(\";\",1,X654,AA654,AD654)","v":""},"",null,null,"",null,null,"",{"$nulls":4},{"$f":"IF(A654=\"\",\"\",IF(ISNUMBER(Y654),2,IF(A655=\"\",IF(OR(AK654>0,VLOOKUP(O654,EventConfig!A:C,3,FALSE)=4),3,\"\"),1)))","v":1},{"$f":"IF(AI654=\"\",\"\",CHOOSE(AI654,IF(AK654=\"\",A654+1,AK654),CONCATENATE(IF(AK654=\"\",A654+1,AK654),\";101\"),IF(AK654=\"\",O654+1,AK654)))","v":600103},null,5768]
[{"$f":"O655*100+P655","v":600103},5766,"陪幻雀一起玩","",{"$nulls":6},{"$f":"IF(J655=\"\",\"\",VLOOKUP(J655,EventNPC!A:E,5,FALSE))","v":""},5769,"她看起来约十六岁，头发蓬松如雀羽，眼睛亮晶晶的，带着调皮的笑意。",null,6001,3,{"$f":"_xlfn.TEXTJOIN(\";\",1,R655:S655)","v":""},null,null,{"$f":"IF(R655=\"\",\"\",\"-\"&VLOOKUP(R655,EventConditionConfig!A:C,3,FALSE)&IF(S655=\"\",\"\",CHAR(10)&\"-\"&VLOOKUP(S655,EventConditionConfig!A:C,3,FALSE)))","v":""},{"$f":"IF(Y655=\"\",\"\",IF(ISTEXT(Y655),1,2))","v":""},"","","",null,null,"",null,null,"",{"$nulls":4},{"$f":"IF(A655=\"\",\"\",IF(ISNUMBER(Y655),2,IF(A656=\"\",IF(OR(AK655>0,VLOOKUP(O655,EventConfig!A:C,3,FALSE)=4),3,\"\"),1)))","v":1},600104,null,5769]
[{"$f":"O656*100+P656","v":600104},5766,"陪幻雀一起玩","",{"$nulls":5},2,{"$f":"IF(J656=\"\",\"\",VLOOKUP(J656,EventNPC!A:E,5,FALSE))","v":"雀灵儿"},5770,"（歪头笑，跳来跳去）哎呀，你这大傻瓜，打败我们后就想溜？",null,6001,4,{"$f":"_xlfn.TEXTJOIN(\";\",1,R656:S656)","v":""},null,null,{"$f":"IF(R656=\"\",\"\",\"-\"&VLOOKUP(R656,EventConditionConfig!A:C,3,FALSE)&IF(S656=\"\",\"\",CHAR(10)&\"-\"&VLOOKUP(S656,EventConditionConfig!A:C,3,FALSE)))","v":""},{"$f":"IF(Y656=\"\",\"\",IF(ISTEXT(Y656),1,2))","v":""},"","","",null,null,"",null,null,"",{"$nulls":4},{"$f":"IF(A656=\"\",\"\",IF(ISNUMBER(Y656),2,IF(A657=\"\",IF(OR(AK656>0,VLOOKUP(O656,EventConfig!A:C,3,FALSE)=4),3,\"\"),1)))","v":1},600105,null,5770]
[{"$f":"O657*100+P657","v":600105},5766,"陪幻雀一起玩","",{"$nulls":5},2,{"$f":"IF(J657=\"\",\"\",VLOOKUP(J657,EventNPC!A:E,5,FALSE))","v":"雀灵儿"},5771,"我天天守在北海，好无聊，来陪我玩一会吧！从这儿到老松顶，看谁先到！",null,6001,5,{"$f":"_xlfn.TEXTJOIN(\";\",1,R657:S657)","v":""},null,null,{"$f":"IF(R657=\"\",\"\",\"-\"&VLOOKUP(R657,EventConditionConfig!A:C,3,FALSE)&IF(S657=\"\",\"\",CHAR(10)&\"-\"&VLOOKUP(S657,EventConditionConfig!A:C,3,FALSE)))","v":""},{"$f":"IF(Y657=\"\",\"\",IF(ISTEXT(Y657),1,2))","v":1},"600106","5772",5772,"好，来追你！",null,"",null,null,"",{"$nulls":4},{"$f":"IF(A657=\"\",\"\",IF(ISNUMBER(Y657),2,IF(A658=\"\",IF(OR(AK657>0,VLOOKUP(O657,EventConfig!A:C,3,FALSE)=4),3,\"\"),1)))","v":1},600106,null,5772]
[600106,5766,"陪幻雀一起玩","",{"$nulls":5},2,{"$f":"IF(J658=\"\",\"\",VLOOKUP(J658,EventNPC!A:E,5,FALSE))","v":"雀灵儿"},5773,"（边跳边笑，在前方树枝上叫）哈哈，来追啊！你飞得真慢，好笨！",null,6001,6,"",null,null,{"$f":"IF(R658=\"\",\"\",\"-\"&VLOOKUP(R658,EventConditionConfig!A:C,3,FALSE)&IF(S658=\"\",\"\",CHAR(10)&\"-\"&VLOOKUP(S658,EventConditionConfig!A:C,3,FALSE)))","v":""},"","","","",null,null,"",null,null,"",{"$nulls":4},{"$f":"IF(A658=\"\",\"\",IF(ISNUMBER(Y658),2,IF(A659=\"\",IF(OR(AK658>0,VLOOKUP(O658,EventConfig!A:C,3,FALSE)=4),3,\"\"),1)))","v":1},600107,null,5773]
[{"$f":"O659*100+P659","v":600107},5766,"陪幻雀一起玩","",{"$nulls":5},2,{"$f":"IF(J659=\"\",\"\",VLOOKUP(J659,EventNPC!A:E,5,FALSE))","v":"雀灵儿"},5774,"（继续往上跳）\n对了，北海深处风很大，你不怕吗？",null,6001,7,{"$f":"_xlfn.TEXTJOIN(\";\",1,R659:S659)","v":""},null,null,{"$f":"IF(R659=\"\",\"\",\"-\"&VLOOKUP(R659,EventConditionConfig!A:C,3,FALSE)&IF(S659=\"\",\"\",CHAR(10)&\"-\"&VLOOKUP(S659,EventConditionConfig!A:C,3,FALSE)))","v":""},{"$f":"IF(Y659=\"\",\"\",IF(ISTEXT(Y659),1,2))","v":""},"","","",null,null,"",null,null,"",{"$nulls":4},{"$f":"IF(A659=\"\",\"\",IF(ISNUMBER(Y659),2,IF(A660=\"\",IF(OR(AK659>0,VLOOKUP(O659,EventConfig!A:C,3,FALSE)=4),3,\"\"),1)))","v":1},600108,null,5774]
[600108,5766,"陪幻雀一起玩","",{"$nulls":5},100,{"$f":"IF(J660=\"\",\"\",VLOOKUP(J660,EventNPC!A:E,5,FALSE))","v":"玩家"},5775,"不怕，风大有风大的乐趣。\n你平时就躲树上玩？",null,6001,8,"",null,null,{"$f":"IF(R660=\"\",\"\",\"-\"&VLOOKUP(R660,EventConditionConfig!A:C,3,FALSE)&IF(S660=\"\",\"\",CHAR(10)&\"-\"&VLOOKUP(S660,EventConditionConfig!A:C,3,FALSE)))","v":""},"","","","",null,null,"",null,null,"",{"$nulls":4},{"$f":"IF(A660=\"\",\"\",IF(ISNUMBER(Y660),2,IF(A661=\"\",IF(OR(AK660>0,VLOOKUP(O660,EventConfig!A:C,3,FALSE)=4),3,\"\"),1)))","v":1},600109,null,5775]
[{"$f":"O661*100+P661","v":600109},5766,"陪幻雀一起玩","",{"$nulls":5},2,{"$f":"IF(J661=\"\",\"\",VLOOKUP(J661,EventNPC!A:E,5,FALSE))","v":"雀灵儿"},5776,"（跳到下一枝）对啊，树上安全，上蹿下跳就够开心了！\n外面的世界，有什么好玩的吗？",null,6001,9,{"$f":"_xlfn.TEXTJOIN(\";\",1,R661:S661)","v":""},null,null,{"$f":"IF(R661=\"\",\"\",\"-\"&VLOOKUP(R661,EventConditionConfig!A:C,3,FALSE)&IF(S661=\"\",\"\",CHAR(10)&\"-\"&VLOOKUP(S661,EventConditionConfig!A:C,3,FALSE)))","v":""},{"$f":"IF(Y661=\"\",\"\",IF(ISTEXT(Y661),1,2))","v":""},"","","",null,null,"",null,null,"",{"$nulls":4},{"$f":"IF(A661=\"\",\"\",IF(ISNUMBER(Y661),2,IF(A662=\"\",IF(OR(AK661>0,VLOOKUP(O661,EventConfig!A:C,3,FALSE)=4),3,\"\"),1)))","v":1},600110,null,5776]
[600110,5766,"陪幻雀一起玩","",{"$nulls":5},100,{"$f":"IF(J662=\"\",\"\",VLOOKUP(J662,EventNPC!A:E,5,FALSE))","v":"玩家"},5777,"有大海、山林……还有鲲鹏要去的天池，风景壮阔。",null,6001,10,"",null,null,{"$f":"IF(R662=\"\",\"\",\"-\"&VLOOKUP(R662,EventConditionConfig!A:C,3,FALSE)&IF(S662=\"\",\"\",CHAR(10)&\"-\"&VLOOKUP(S662,EventConditionConfig!A:C,3,FALSE)))","v":""},"","","","",null,null,"",null,null,"",{"$nulls":4},{"$f":"IF(A662=\"\",\"\",IF(ISNUMBER(Y662),2,IF(A663=\"\",IF(OR(AK662>0,VLOOKUP(O662,EventConfig!A:C,3,FALSE)=4),3,\"\"),1)))","v":1},600111,null,5777]
[{"$f":"O663*100+P663","v":600111},5766,"陪幻雀一起玩","",{"$nulls":5},2,{"$f":"IF(J663=\"\",\"\",VLOOKUP(J663,EventNPC!A:E,5,FALSE))","v":"雀灵儿"},5778,"（又跳一枝，喘气笑）南海天池？听起来远……但或许有趣。\n（不知不觉到树顶了）",null,6001,11,{"$f":"_xlfn.TEXTJOIN(\";\",1,R663:S663)","v":""},null,null,{"$f":"IF(R663=\"\",\"\",\"-\"&VLOOKUP(R663,EventConditionConfig!A:C,3,FALSE)&IF(S663=\"\",\"\",CHAR(10)&\"-\"&VLOOKUP(S663,EventConditionConfig!A:C,3,FALSE)))","v":""},{"$f":"IF(Y663=\"\",\"\",IF(ISTEXT(Y663),1,2))","v":""},"","","",null,null,"",null,null,"",{"$nulls":4},{"$f":"IF(A663=\"\",\"\",IF(ISNUMBER(Y663),2,IF(A664=\"\",IF(OR(AK663>0,VLOOKUP(O663,EventConfig!A:C,3,FALSE)=4),3,\"\"),1)))","v":1},600112,null,5778]
[{"$f":"O664*100+P664","v":600112},5766,"陪幻雀一起玩","",{"$nulls":5},2,{"$f":"IF(J664=\"\",\"\",VLOOKUP(J664,EventNPC!A:E,5,FALSE))","v":"雀灵儿"},5779,"（坐在树顶，开心）玩得挺开心……谢谢陪我。下次再来找我吧，我还有其他游戏！",null,6001,12,{"$f":"_xlfn.TEXTJOIN(\";\",1,R664:S664)","v":""},null,null,{"$f":"IF(R664=\"\",\"\",\"-\"&VLOOKUP(R664,EventConditionConfig!A:C,3,FALSE)&IF(S664=\"\",\"\",CHAR(10)&\"-\"&VLOOKUP(S664,EventConditionConfig!A:C,3,FALSE)))","v":""},{"$f":"IF(Y664=\"\",\"\",IF(ISTEXT(Y664),1,2))","v":""},"","","",null,null,"",null,null,"",{"$nulls":4},{"$f":"IF(A664=\"\",\"\",IF(ISNUMBER(Y664),2,IF(A665=\"\",IF(OR(AK664>0,VLOOKUP(O664,EventConfig!A:C,3,FALSE)=4),3,\"\"),1)))","v":1},600113,null,5779]
[600113,5766,"陪幻雀一起玩","",{"$nulls":6},{"$f":"IF(J665=\"\",\"\",VLOOKUP(J665,EventNPC!A:E,5,FALSE))","v":""},5780,"（此时，一道优雅身影从树后飞出）",null,6001,13,"",null,null,{"$f":"IF(R665=\"\",\"\",\"-\"&VLOOKUP(R665,EventConditionConfig!A:C,3,FALSE)&IF(S665=\"\",\"\",CHAR(10)&\"-\"&VLOOKUP(S665,EventConditionConfig!A:C,3,FALSE)))","v":""},"","","","",null,null,"",null,null,"",{"$nulls":4},{"$f":"IF(A665=\"\",\"\",IF(ISNUMBER(Y665),2,IF(A666=\"\",IF(OR(AK665>0,VLOOKUP(O665,EventConfig!A:C,3,FALSE)=4),3,\"\"),1)))","v":1},600114,null,5780]
[{"$f":"O666*100+P666","v":600114},5766,"陪幻雀一起玩","",{"$nulls":5},121,{"$f":"IF(J666=\"\",\"\",VLOOKUP(J666,EventNPC!A:E,5,FALSE))","v":"云枝"},5781,"（严肃，眼神警惕）灵儿，别和外人玩太疯。北海风大，你又不是不知道，小心被卷走。",null,6001,14,{"$f":"_xlfn.TEXTJOIN(\";\",1,R666:S666)","v":""},null,null,{"$f":"IF(R666=\"\",\"\",\"-\"&VLOOKUP(R666,EventConditionConfig!A:C,3,FALSE)&IF(S666=\"\",\"\",CHAR(10)&\"-\"&VLOOKUP(S666,EventConditionConfig!A:C,3,FALSE)))","v":""},{"$f":"IF(Y666=\"\",\"\",IF(ISTEXT(Y666),1,2))","v":""},"","","",null,null,"",null,null,"",{"$nulls":4},{"$f":"IF(A666=\"\",\"\",IF(ISNUMBER(Y666),2,IF(A667=\"\",IF(OR(AK666>0,VLOOKUP(O666,EventConfig!A:C,3,FALSE)=4),3,\"\"),1)))","v":1},600115,null,5781]
[600115,5766,"陪幻雀一起玩","",{"$nulls":5},2,{"$f":"IF(J667=\"\",\"\",VLOOKUP(J667,EventNPC!A:E,5,FALSE))","v":"雀灵儿"},5782,"（撅嘴，不服）姐，我知道啦！……就玩玩而已嘛！",null,6001,15,"",null,null,{"$f":"IF(R667=\"\",\"\",\"-\"&VLOOKUP(R667,EventConditionConfig!A:C,3,FALSE)&IF(S667=\"\",\"\",CHAR(10)&\"-\"&VLOOKUP(S667,EventConditionConfig!A:C,3,FALSE)))","v":""},"","","","",null,null,"",null,null,"",{"$nulls":4},{"$f":"IF(A667=\"\",\"\",IF(ISNUMBER(Y667),2,IF(A668=\"\",IF(OR(AK667>0,VLOOKUP(O667,EventConfig!A:C,3,FALSE)=4),3,\"\"),1)))","v":1},600116,null,5782]
[{"$f":"O668*100+P668","v":600116},5766,"陪幻雀一起玩","",{"$nulls":5},121,{"$f":"IF(J668=\"\",\"\",VLOOKUP(J668,EventNPC!A:E,5,FALSE))","v":"云枝"},5783,"（严肃）还有你，请速速离去，别再纠缠我妹妹",null,6001,{"$f":"IF(O668=\"\",\"\",IF(O668=O667,P667+1,1))","v":16},{"$f":"_xlfn.TEXTJOIN(\";\",1,R668:S668)","v":""},null,null,{"$f":"IF(R668=\"\",\"\",\"-\"&VLOOKUP(R668,EventConditionConfig!A:C,3,FALSE)&IF(S668=\"\",\"\",CHAR(10)&\"-\"&VLOOKUP(S668,EventConditionConfig!A:C,3,FALSE)))","v":""},{"$f":"IF(Y668=\"\",\"\",IF(ISTEXT(Y668),1,2))","v":""},"","","",null,null,"",null,null,"",{"$nulls":4},{"$f":"IF(A668=\"\",\"\",IF(ISNUMBER(Y668),2,IF(A669=\"\",IF(OR(AK668>0,VLOOKUP(O668,EventConfig!A:C,3,FALSE)=4),3,\"\"),1)))","v":1},600117,null,5783]
[600117,5766,"陪幻雀一起玩","",{"$nulls":5},100,{"$f":"IF(J669=\"\",\"\",VLOOKUP(J669,EventNPC!A:E,5,FALSE))","v":"玩家"},5784,"告辞..\n（这小丫头调皮又可爱……北海的日子，也能这么有趣。）\n（或许多来几次，能知道她更多心事。）",null,6001,17,"",null,null,{"$f":"IF(R669=\"\",\"\",\"-\"&VLOOKUP(R669,EventConditionConfig!A:C,3,FALSE)&IF(S669=\"\",\"\",CHAR(10)&\"-\"&VLOOKUP(S669,EventConditionConfig!A:C,3,FALSE)))","v":""},"","","","",null,null,"",null,null,"",{"$nulls":4},{"$f":"IF(A669=\"\",\"\",IF(ISNUMBER(Y669),2,IF(A670=\"\",IF(OR(AK669>0,VLOOKUP(O669,EventConfig!A:C,3,FALSE)=4),3,\"\"),1)))","v":""},"",null,5784]
[null,"",null,"",{"$nulls":7},"",null,null,null,"",{"$nulls":5},"","","",null,null,"",null,null,"",{"$nulls":4},{"$f":"IF(A670=\"\",\"\",IF(ISNUMBER(Y670),2,IF(A671=\"\",IF(OR(AK670>0,VLOOKUP(O670,EventConfig!A:C,3,FALSE)=4),3,\"\"),1)))","v":""},"",null,""]
[{"$f":"O671*100+P671","v":600201},5785,"收集北海风铃","",{"$nulls":6},{"$f":"IF(J671=\"\",\"\",VLOOKUP(J671,EventNPC!A:E,5,FALSE))","v":""},5786,"灵儿拉你到树上，这里零零散散有几只风铃。",null,6002,1,{"$f":"_xlfn.TEXTJOIN(\";\",1,R671:S671)","v":""},null,null,{"$f":"IF(R671=\"\",\"\",\"-\"&VLOOKUP(R671,EventConditionConfig!A:C,3,FALSE)&IF(S671=\"\",\"\",CHAR(10)&\"-\"&VLOOKUP(S671,EventConditionConfig!A:C,3,FALSE)))","v":""},{"$f":"IF(Y671=\"\",\"\",IF(ISTEXT(Y671),1,2))","v":""},"","","",null,null,"",null,null,"",{"$nulls":4},{"$f":"IF(A671=\"\",\"\",IF(ISNUMBER(Y671),2,IF(A672=\"\",IF(OR(AK671>0,VLOOKUP(O671,EventConfig!A:C,3,FALSE)=4),3,\"\"),1)))","v":1},600202,null,5786]
[{"$f":"O672*100+P672","v":600202},5785,"收集北海风铃","",{"$nulls":5},2,{"$f":"IF(J672=\"\",\"\",VLOOKUP(J672,EventNPC!A:E,5,FALSE))","v":"雀灵儿"},5787,"（扑棱袖子）风铃丢了一些，树上没声好无聊！你帮找，我怕风大。",null,6002,2,{"$f":"_xlfn.TEXTJOIN(\";\",1,R672:S672)","v":""},null,null,{"$f":"IF(R672=\"\",\"\",\"-\"&VLOOKUP(R672,EventConditionConfig!A:C,3,FALSE)&IF(S672=\"\",\"\",CHAR(10)&\"-\"&VLOOKUP(S672,EventConditionConfig!A:C,3,FALSE)))","v":""},{"$f":"IF(Y672=\"\",\"\",IF(ISTEXT(Y672),1,2))","v":1},"600203","5788",5788,"好，我去。",null,"",null,null,"",{"$nulls":4},{"$f":"IF(A672=\"\",\"\",IF(ISNUMBER(Y672),2,IF(A673=\"\",IF(OR(AK672>0,VLOOKUP(O672,EventConfig!A:C,3,FALSE)=4),3,\"\"),1)))","v":1},600203,null,5788]
[{"$f":"O673*100+P673","v":600203},5785,"收集北海风铃","",{"$nulls":5},100,{"$f":"IF(J673=\"\",\"\",VLOOKUP(J673,EventNPC!A:E,5,FALSE))","v":"玩家"},5789,"来，给你这些铃铛，我好不容才找回来。",null,6002,3,{"$f":"_xlfn.TEXTJOIN(\";\",1,R673:S673)","v":"37"},37,null,{"$f":"IF(R673=\"\",\"\",\"-\"&VLOOKUP(R673,EventConditionConfig!A:C,3,FALSE)&IF(S673=\"\",\"\",CHAR(10)&\"-\"&VLOOKUP(S673,EventConditionConfig!A:C,3,FALSE)))","v":"-帮雀灵儿搜集风铃"},{"$f":"IF(Y673=\"\",\"\",IF(ISTEXT(Y673),1,2))","v":""},"","","",null,null,"",null,null,"",{"$nulls":4},{"$f":"IF(A673=\"\",\"\",IF(ISNUMBER(Y673),2,IF(A674=\"\",IF(OR(AK673>0,VLOOKUP(O673,EventConfig!A:C,3,FALSE)=4),3,\"\"),1)))","v":1},600204,null,5789]
[{"$f":"O674*100+P674","v":600204},5785,"收集北海风铃","",{"$nulls":5},2,{"$f":"IF(J674=\"\",\"\",VLOOKUP(J674,EventNPC!A:E,5,FALSE))","v":"雀灵儿"},5790,"（拿到，开心挂上）谢谢！听见这风铃声，北海就没那么可怕了。",null,6002,4,{"$f":"_xlfn.TEXTJOIN(\";\",1,R674:S674)","v":""},null,null,{"$f":"IF(R674=\"\",\"\",\"-\"&VLOOKUP(R674,EventConditionConfig!A:C,3,FALSE)&IF(S674=\"\",\"\",CHAR(10)&\"-\"&VLOOKUP(S674,EventConditionConfig!A:C,3,FALSE)))","v":""},{"$f":"IF(Y674=\"\",\"\",IF(ISTEXT(Y674),1,2))","v":1},"600205","5791",5791,"你为什么怎么喜欢风铃的声音呢？",null,"",null,null,"",{"$nulls":4},{"$f":"IF(A674=\"\",\"\",IF(ISNUMBER(Y674),2,IF(A675=\"\",IF(OR(AK674>0,VLOOKUP(O674,EventConfig!A:C,3,FALSE)=4),3,\"\"),1)))","v":1},600205,null,5791]
[{"$f":"O675*100+P675","v":600205},5785,"收集北海风铃","",{"$nulls":5},2,{"$f":"IF(J675=\"\",\"\",VLOOKUP(J675,EventNPC!A:E,5,FALSE))","v":"雀灵儿"},5792,"喜欢就是喜欢，哪里有怎么多为什么呀。你去过那么多地方，远方有更好铃铛吗？",null,6002,5,{"$f":"_xlfn.TEXTJOIN(\";\",1,R675:S675)","v":""},null,null,{"$f":"IF(R675=\"\",\"\",\"-\"&VLOOKUP(R675,EventConditionConfig!A:C,3,FALSE)&IF(S675=\"\",\"\",CHAR(10)&\"-\"&VLOOKUP(S675,EventConditionConfig!A:C,3,FALSE)))","v":""},{"$f":"IF(Y675=\"\",\"\",IF(ISTEXT(Y675),1,2))","v":1},"600206","5793",5793,"或许有,下次带给你。",null,"",null,null,"",{"$nulls":4},{"$f":"IF(A675=\"\",\"\",IF(ISNUMBER(Y675),2,IF(A676=\"\",IF(OR(AK675>0,VLOOKUP(O675,EventConfig!A:C,3,FALSE)=4),3,\"\"),1)))","v":1},600206,null,5793]
[{"$f":"O676*100+P676","v":600206},5785,"收集北海风铃","",{"$nulls":5},2,{"$f":"IF(J676=\"\",\"\",VLOOKUP(J676,EventNPC!A:E,5,FALSE))","v":"雀灵儿"},5794,"好呀，说话要算数哦。",null,6002,6,{"$f":"_xlfn.TEXTJOIN(\";\",1,R676:S676)","v":""},null,null,{"$f":"IF(R676=\"\",\"\",\"-\"&VLOOKUP(R676,EventConditionConfig!A:C,3,FALSE)&IF(S676=\"\",\"\",CHAR(10)&\"-\"&VLOOKUP(S676,EventConditionConfig!A:C,3,FALSE)))","v":""},{"$f":"IF(Y676=\"\",\"\",IF(ISTEXT(Y676),1,2))","v":""},"","","",null,null,"",null,null,"",{"$nulls":4},{"$f":"IF(A676=\"\",\"\",IF(ISNUMBER(Y676),2,IF(A677=\"\",IF(OR(AK676>0,VLOOKUP(O676,EventConfig!A:C,3,FALSE)=4),3,\"\"),1)))","v":""},"",null,5794]
[null,"",null,"",{"$nulls":7},"",null,null,null,"",{"$nulls":5},"","","",null,null,"",null,null,"",{"$nulls":4},{"$f":"IF(A677=\"\",\"\",IF(ISNUMBER(Y677),2,IF(A678=\"\",IF(OR(AK677>0,VLOOKUP(O677,EventConfig!A:C,3,FALSE)=4),3,\"\"),1)))","v":""},"",null,""]
[{"$f":"O678*100+P678","v":600301},5795,"击败袭击雀灵儿的妖兽","",{"$nulls":6},{"$f":"IF(J678=\"\",\"\",VLOOKUP(J678,EventNPC!A:E,5,FALSE))","v":""},5796,"北海大风渐起，树林阴影晃动。小风妖出没，雀灵儿有些不安，她拉你一起巡逻树林，守护她的“小天地”。",null,6003,1,{"$f":"_xlfn.TEXTJOIN(\";\",1,R678:S678)","v":""},null,null,{"$f":"IF(R678=\"\",\"\",\"-\"&VLOOKUP(R678,EventConditionConfig!A:C,3,FALSE)&IF(S678=\"\",\"\",CHAR(10)&\"-\"&VLOOKUP(S678,EventConditionConfig!A:C,3,FALSE)))","v":""},{"$f":"IF(Y678=\"\",\"\",IF(ISTEXT(Y678),1,2))","v":""},"","","",null,null,"",null,null,"",{"$nulls":4},{"$f":"IF(A678=\"\",\"\",IF(ISNUMBER(Y678),2,IF(A679=\"\",IF(OR(AK678>0,VLOOKUP(O678,EventConfig!A:C,3,FALSE)=4),3,\"\"),1)))","v":1},600302,null,5796]
[{"$f":"O679*100+P679","v":600302},5795,"击败袭击雀灵儿的妖兽","",{"$nulls":6},{"$f":"IF(J679=\"\",\"\",VLOOKUP(J679,EventNPC!A:E,5,FALSE))","v":""},5797,"风中隐约有啸声，空气中弥漫着凉意。",null,6003,2,{"$f":"_xlfn.TEXTJOIN(\";\",1,R679:S679)","v":""},null,null,{"$f":"IF(R679=\"\",\"\",\"-\"&VLOOKUP(R679,EventConditionConfig!A:C,3,FALSE)&IF(S679=\"\",\"\",CHAR(10)&\"-\"&VLOOKUP(S679,EventConditionConfig!A:C,3,FALSE)))","v":""},{"$f":"IF(Y679=\"\",\"\",IF(ISTEXT(Y679),1,2))","v":""},"","","",null,null,"",null,null,"",{"$nulls":4},{"$f":"IF(A679=\"\",\"\",IF(ISNUMBER(Y679),2,IF(A680=\"\",IF(OR(AK679>0,VLOOKUP(O679,EventConfig!A:C,3,FALSE)=4),3,\"\"),1)))","v":1},600303,null,5797]
[{"$f":"O680*100+P680","v":600303},5795,"击败袭击雀灵儿的妖兽","",{"$nulls":5},2,{"$f":"IF(J680=\"\",\"\",VLOOKUP(J680,EventNPC!A:E,5,FALSE))","v":"雀灵儿"},5798,"（轻声，抓着袖子）这树林就是我的小天地，平时我都在这里玩游戏，很有趣的！",null,6003,3,{"$f":"_xlfn.TEXTJOIN(\";\",1,R680:S680)","v":""},null,null,{"$f":"IF(R680=\"\",\"\",\"-\"&VLOOKUP(R680,EventConditionConfig!A:C,3,FALSE)&IF(S680=\"\",\"\",CHAR(10)&\"-\"&VLOOKUP(S680,EventConditionConfig!A:C,3,FALSE)))","v":""},{"$f":"IF(Y680=\"\",\"\",IF(ISTEXT(Y680),1,2))","v":""},"","","",null,null,"",null,null,"",{"$nulls":4},{"$f":"IF(A680=\"\",\"\",IF(ISNUMBER(Y680),2,IF(A681=\"\",IF(OR(AK680>0,VLOOKUP(O680,EventConfig!A:C,3,FALSE)=4),3,\"\"),1)))","v":1},600304,null,5798]
[{"$f":"O681*100+P681","v":600304},5795,"击败袭击雀灵儿的妖兽","",{"$nulls":5},2,{"$f":"IF(J681=\"\",\"\",VLOOKUP(J681,EventNPC!A:E,5,FALSE))","v":"雀灵儿"},5799,"可这风妖经常来树林捣乱……我有点怕，大傻瓜，你陪我赶走它们，好吗？",null,6003,4,{"$f":"_xlfn.TEXTJOIN(\";\",1,R681:S681)","v":""},null,null,{"$f":"IF(R681=\"\",\"\",\"-\"&VLOOKUP(R681,EventConditionConfig!A:C,3,FALSE)&IF(S681=\"\",\"\",CHAR(10)&\"-\"&VLOOKUP(S681,EventConditionConfig!A:C,3,FALSE)))","v":""},{"$f":"IF(Y681=\"\",\"\",IF(ISTEXT(Y681),1,2))","v":1},"600305","5800",5800,"好,我护着你。",null,"",null,null,"",{"$nulls":4},{"$f":"IF(A681=\"\",\"\",IF(ISNUMBER(Y681),2,IF(A682=\"\",IF(OR(AK681>0,VLOOKUP(O681,EventConfig!A:C,3,FALSE)=4),3,\"\"),1)))","v":1},600305,null,5800]
[{"$f":"O682*100+P682","v":600305},5795,"击败袭击雀灵儿的妖兽","",{"$nulls":6},{"$f":"IF(J682=\"\",\"\",VLOOKUP(J682,EventNPC!A:E,5,FALSE))","v":""},"",null,null,6003,5,{"$f":"_xlfn.TEXTJOIN(\";\",1,R682:S682)","v":""},null,null,{"$f":"IF(R682=\"\",\"\",\"-\"&VLOOKUP(R682,EventConditionConfig!A:C,3,FALSE)&IF(S682=\"\",\"\",CHAR(10)&\"-\"&VLOOKUP(S682,EventConditionConfig!A:C,3,FALSE)))","v":""},{"$f":"IF(Y682=\"\",\"\",IF(ISTEXT(Y682),1,2))","v":2},3001,"","",3001,null,"",null,null,"",{"$nulls":4},{"$f":"IF(A682=\"\",\"\",IF(ISNUMBER(Y682),2,IF(A683=\"\",IF(OR(AK682>0,VLOOKUP(O682,EventConfig!A:C,3,FALSE)=4),3,\"\"),1)))","v":2},"600306;101",null,5800]
[{"$f":"O683*100+P683","v":600306},5795,"击败袭击雀灵儿的妖兽","",{"$nulls":5},2,{"$f":"IF(J683=\"\",\"\",VLOOKUP(J683,EventNPC!A:E,5,FALSE))","v":"雀灵儿"},5801,"（跟在身边，兴奋低声）看，那边还有风妖影子，快打它！平时我一个人，常常躲树后看风妖傻傻转圈，咯咯笑半天。",null,6003,6,{"$f":"_xlfn.TEXTJOIN(\";\",1,R683:S683)","v":""},null,null,{"$f":"IF(R683=\"\",\"\",\"-\"&VLOOKUP(R683,EventConditionConfig!A:C,3,FALSE)&IF(S683=\"\",\"\",CHAR(10)&\"-\"&VLOOKUP(S683,EventConditionConfig!A:C,3,FALSE)))","v":""},{"$f":"IF(Y683=\"\",\"\",IF(ISTEXT(Y683),1,2))","v":""},"","","",null,null,"",null,null,"",{"$nulls":4},{"$f":"IF(A683=\"\",\"\",IF(ISNUMBER(Y683),2,IF(A684=\"\",IF(OR(AK683>0,VLOOKUP(O683,EventConfig!A:C,3,FALSE)=4),3,\"\"),1)))","v":1},600307,null,5801]
[600307,5795,"击败袭击雀灵儿的妖兽","",{"$nulls":6},{"$f":"IF(J684=\"\",\"\",VLOOKUP(J684,EventNPC!A:E,5,FALSE))","v":""},"",null,null,6003,7,"",null,null,{"$f":"IF(R684=\"\",\"\",\"-\"&VLOOKUP(R684,EventConditionConfig!A:C,3,FALSE)&IF(S684=\"\",\"\",CHAR(10)&\"-\"&VLOOKUP(S684,EventConditionConfig!A:C,3,FALSE)))","v":""},2,3001,"","",3001,null,"",null,null,"",{"$nulls":4},{"$f":"IF(A684=\"\",\"\",IF(ISNUMBER(Y684),2,IF(A685=\"\",IF(OR(AK684>0,VLOOKUP(O684,EventConfig!A:C,3,FALSE)=4),3,\"\"),1)))","v":2},"600308;101",null,5801]
[{"$f":"O685*100+P685","v":600308},5795,"击败袭击雀灵儿的妖兽","",{"$nulls":5},2,{"$f":"IF(J685=\"\",\"\",VLOOKUP(J685,EventNPC!A:E,5,FALSE))","v":"雀灵儿"},5802,"（跳起来拍手，眼睛亮晶晶）哇，你好厉害！\n这里玩躲猫猫最棒——树影多，风吹着叶子乱舞，我藏起来，连姐姐都找不到我呢。",null,6003,8,{"$f":"_xlfn.TEXTJOIN(\";\",1,R685:S685)","v":""},null,null,{"$f":"IF(R685=\"\",\"\",\"-\"&VLOOKUP(R685,EventConditionConfig!A:C,3,FALSE)&IF(S685=\"\",\"\",CHAR(10)&\"-\"&VLOOKUP(S685,EventConditionConfig!A:C,3,FALSE)))","v":""},{"$f":"IF(Y685=\"\",\"\",IF(ISTEXT(Y685),1,2))","v":""},"","","",null,null,"",null,null,"",{"$nulls":4},{"$f":"IF(A685=\"\",\"\",IF(ISNUMBER(Y685),2,IF(A686=\"\",IF(OR(AK685>0,VLOOKUP(O685,EventConfig!A:C,3,FALSE)=4),3,\"\"),1)))","v":1},600309,null,5802]
[{"$f":"O686*100+P686","v":600309},5795,"击败袭击雀灵儿的妖兽","",{"$nulls":5},2,{"$f":"IF(J686=\"\",\"\",VLOOKUP(J686,EventNPC!A:E,5,FALSE))","v":"雀灵儿"},5803,"你在外面的世界，也这么玩吗？”",null,6003,9,{"$f":"_xlfn.TEXTJOIN(\";\",1,R686:S686)","v":""},null,null,{"$f":"IF(R686=\"\",\"\",\"-\"&VLOOKUP(R686,EventConditionConfig!A:C,3,FALSE)&IF(S686=\"\",\"\",CHAR(10)&\"-\"&VLOOKUP(S686,EventConditionConfig!A:C,3,FALSE)))","v":""},{"$f":"IF(Y686=\"\",\"\",IF(ISTEXT(Y686),1,2))","v":""},"","","",null,null,"",null,null,"",{"$nulls":4},{"$f":"IF(A686=\"\",\"\",IF(ISNUMBER(Y686),2,IF(A687=\"\",IF(OR(AK686>0,VLOOKUP(O686,EventConfig!A:C,3,FALSE)=4),3,\"\"),1)))","v":1},600310,null,5803]
[{"$f":"O687*100+P687","v":600310},5795,"击败袭击雀灵儿的妖兽","",{"$nulls":5},100,{"$f":"IF(J687=\"\",\"\",VLOOKUP(J687,EventNPC!A:E,5,FALSE))","v":"玩家"},5804,"外面的玩法不一样，但也有趣。\n小心，可能还有妖兽。",null,6003,10,{"$f":"_xlfn.TEXTJOIN(\";\",1,R687:S687)","v":""},null,null,{"$f":"IF(R687=\"\",\"\",\"-\"&VLOOKUP(R687,EventConditionConfig!A:C,3,FALSE)&IF(S687=\"\",\"\",CHAR(10)&\"-\"&VLOOKUP(S687,EventConditionConfig!A:C,3,FALSE)))","v":""},{"$f":"IF(Y687=\"\",\"\",IF(ISTEXT(Y687),1,2))","v":""},"","","",null,null,"",null,null,"",{"$nulls":4},{"$f":"IF(A687=\"\",\"\",IF(ISNUMBER(Y687),2,IF(A688=\"\",IF(OR(AK687>0,VLOOKUP(O687,EventConfig!A:C,3,FALSE)=4),3,\"\"),1)))","v":1},600311,null,5804]
[600311,5795,"击败袭击雀灵儿的妖兽","",{"$nulls":5},2,{"$f":"IF(J688=\"\",\"\",VLOOKUP(J688,EventNPC!A:E,5,FALSE))","v":"雀灵儿"},5805,"（咯咯笑，蹦蹦跳跳）那你有空一定要给我讲讲外面的世界！\n哎呀，那边又有风妖，快赶走它们！",null,6003,11,"",null,null,{"$f":"IF(R688=\"\",\"\",\"-\"&VLOOKUP(R688,EventConditionConfig!A:C,3,FALSE)&IF(S688=\"\",\"\",CHAR(10)&\"-\"&VLOOKUP(S688,EventConditionConfig!A:C,3,FALSE)))","v":""},"","","","",null,null,"",null,null,"",{"$nulls":4},{"$f":"IF(A688=\"\",\"\",IF(ISNUMBER(Y688),2,IF(A689=\"\",IF(OR(AK688>0,VLOOKUP(O688,EventConfig!A:C,3,FALSE)=4),3,\"\"),1)))","v":1},600312,null,5805]
[600312,5795,"击败袭击雀灵儿的妖兽","",{"$nulls":6},{"$f":"IF(J689=\"\",\"\",VLOOKUP(J689,EventNPC!A:E,5,FALSE))","v":""},"",null,null,6003,12,"",null,null,{"$f":"IF(R689=\"\",\"\",\"-\"&VLOOKUP(R689,EventConditionConfig!A:C,3,FALSE)&IF(S689=\"\",\"\",CHAR(10)&\"-\"&VLOOKUP(S689,EventConditionConfig!A:C,3,FALSE)))","v":""},2,3001,"","",3001,null,"",null,null,"",{"$nulls":4},{"$f":"IF(A689=\"\",\"\",IF(ISNUMBER(Y689),2,IF(A690=\"\",IF(OR(AK689>0,VLOOKUP(O689,EventConfig!A:C,3,FALSE)=4),3,\"\"),1)))","v":2},"600313;101",null,5805]
[{"$f":"O690*100+P690","v":600313},5795,"击败袭击雀灵儿的妖兽","",{"$nulls":5},2,{"$f":"IF(J690=\"\",\"\",VLOOKUP(J690,EventNPC!A:E,5,FALSE))","v":"雀灵儿"},5806,"（开心转圈）全赶走了！树林又属于我了……睁大你的眼睛看看，这片小天地是不是很美呀！",null,6003,13,{"$f":"_xlfn.TEXTJOIN(\";\",1,R690:S690)","v":""},null,null,{"$f":"IF(R690=\"\",\"\",\"-\"&VLOOKUP(R690,EventConditionConfig!A:C,3,FALSE)&IF(S690=\"\",\"\",CHAR(10)&\"-\"&VLOOKUP(S690,EventConditionConfig!A:C,3,FALSE)))","v":""},{"$f":"IF(Y690=\"\",\"\",IF(ISTEXT(Y690),1,2))","v":""},"","","",null,null,"",null,null,"",{"$nulls":4},{"$f":"IF(A690=\"\",\"\",IF(ISNUMBER(Y690),2,IF(A691=\"\",IF(OR(AK690>0,VLOOKUP(O690,EventConfig!A:C,3,FALSE)=4),3,\"\"),1)))","v":1},600314,null,5806]
[600314,5795,"击败袭击雀灵儿的妖兽","",{"$nulls":5},100,{"$f":"IF(J691=\"\",\"\",VLOOKUP(J691,EventNPC!A:E,5,FALSE))","v":"玩家"},5807,"(北风吹过树梢，叶子如舞者在月光下飞旋，你仿佛置身一场浪漫的梦境）\n嗯，很美..",null,6003,14,"",null,null,{"$f":"IF(R691=\"\",\"\",\"-\"&VLOOKUP(R691,EventConditionConfig!A:C,3,FALSE)&IF(S691=\"\",\"\",CHAR(10)&\"-\"&VLOOKUP(S691,EventConditionConfig!A:C,3,FALSE)))","v":""},"","","","",null,null,"",null,null,"",{"$nulls":4},{"$f":"IF(A691=\"\",\"\",IF(ISNUMBER(Y691),2,IF(A692=\"\",IF(OR(AK691>0,VLOOKUP(O691,EventConfig!A:C,3,FALSE)=4),3,\"\"),1)))","v":1},600315,null,5807]
[{"$f":"O692*100+P692","v":600315},5795,"击败袭击雀灵儿的妖兽","",{"$nulls":5},2,{"$f":"IF(J692=\"\",\"\",VLOOKUP(J692,EventNPC!A:E,5,FALSE))","v":"雀灵儿"},5808,"谢谢你，拯救我的小天地！\n下次风大时，我们再一起玩追叶子！",null,6003,15,{"$f":"_xlfn.TEXTJOIN(\";\",1,R692:S692)","v":""},null,null,{"$f":"IF(R692=\"\",\"\",\"-\"&VLOOKUP(R692,EventConditionConfig!A:C,3,FALSE)&IF(S692=\"\",\"\",CHAR(10)&\"-\"&VLOOKUP(S692,EventConditionConfig!A:C,3,FALSE)))","v":""},{"$f":"IF(Y692=\"\",\"\",IF(ISTEXT(Y692),1,2))","v":""},"","","",null,null,"",null,null,"",{"$nulls":4},{"$f":"IF(A692=\"\",\"\",IF(ISNUMBER(Y692),2,IF(A693=\"\",IF(OR(AK692>0,VLOOKUP(O692,EventConfig!A:C,3,FALSE)=4),3,\"\"),1)))","v":""},"",null,5808]
[null,"",null,"",{"$nulls":7},"",null,null,null,"",{"$nulls":5},"","","",null,null,"",null,null,"",{"$nulls":4},{"$f":"IF(A693=\"\",\"\",IF(ISNUMBER(Y693),2,IF(A694=\"\",IF(OR(AK693>0,VLOOKUP(O693,EventConfig!A:C,3,FALSE)=4),3,\"\"),1)))","v":""},"",null,""]
[{"$f":"O694*100+P694","v":600401},5809,"陪雀灵儿飞行","",{"$nulls":6},{"$f":"IF(J694=\"\",\"\",VLOOKUP(J694,EventNPC!A:E,5,FALSE))","v":""},5810,"北海风轻，雀灵儿被外面的世界吸引，她站在树枝上，眼睛亮晶晶的，头发随风微微飘动，像在犹豫什么。",null,6004,1,{"$f":"_xlfn.TEXTJOIN(\";\",1,R694:S694)","v":""},null,null,{"$f":"IF(R694=\"\",\"\",\"-\"&VLOOKUP(R694,EventConditionConfig!A:C,3,FALSE)&IF(S694=\"\",\"\",CHAR(10)&\"-\"&VLOOKUP(S694,EventConditionConfig!A:C,3,FALSE)))","v":""},{"$f":"IF(Y694=\"\",\"\",IF(ISTEXT(Y694),1,2))","v":""},"","","",null,null,"",null,null,"",{"$nulls":4},{"$f":"IF(A694=\"\",\"\",IF(ISNUMBER(Y694),2,IF(A695=\"\",IF(OR(AK694>0,VLOOKUP(O694,EventConfig!A:C,3,FALSE)=4),3,\"\"),1)))","v":1},600402,null,5810]
[{"$f":"O695*100+P695","v":600402},5809,"陪雀灵儿飞行","",{"$nulls":5},2,{"$f":"IF(J695=\"\",\"\",VLOOKUP(J695,EventNPC!A:E,5,FALSE))","v":"雀灵儿"},5811,"（脸微红，拽着袖子）“大傻瓜，你说的外世界那么有趣……陪我飞一小段试试，好吗？",null,6004,2,{"$f":"_xlfn.TEXTJOIN(\";\",1,R695:S695)","v":""},null,null,{"$f":"IF(R695=\"\",\"\",\"-\"&VLOOKUP(R695,EventConditionConfig!A:C,3,FALSE)&IF(S695=\"\",\"\",CHAR(10)&\"-\"&VLOOKUP(S695,EventConditionConfig!A:C,3,FALSE)))","v":""},{"$f":"IF(Y695=\"\",\"\",IF(ISTEXT(Y695),1,2))","v":""},"","","",null,null,"",null,null,"",{"$nulls":4},{"$f":"IF(A695=\"\",\"\",IF(ISNUMBER(Y695),2,IF(A696=\"\",IF(OR(AK695>0,VLOOKUP(O695,EventConfig!A:C,3,FALSE)=4),3,\"\"),1)))","v":1},600403,null,5811]
[{"$f":"O696*100+P696","v":600403},5809,"陪雀灵儿飞行","",{"$nulls":5},2,{"$f":"IF(J696=\"\",\"\",VLOOKUP(J696,EventNPC!A:E,5,FALSE))","v":"雀灵儿"},5812,"我想去到那边小岛，不远！但风有点大，我有点怕……”",null,6004,3,{"$f":"_xlfn.TEXTJOIN(\";\",1,R696:S696)","v":""},null,null,{"$f":"IF(R696=\"\",\"\",\"-\"&VLOOKUP(R696,EventConditionConfig!A:C,3,FALSE)&IF(S696=\"\",\"\",CHAR(10)&\"-\"&VLOOKUP(S696,EventConditionConfig!A:C,3,FALSE)))","v":""},{"$f":"IF(Y696=\"\",\"\",IF(ISTEXT(Y696),1,2))","v":1},"600404","5813",5813,"好,我拉着你飞。",null,"",null,null,"",{"$nulls":4},{"$f":"IF(A696=\"\",\"\",IF(ISNUMBER(Y696),2,IF(A697=\"\",IF(OR(AK696>0,VLOOKUP(O696,EventConfig!A:C,3,FALSE)=4),3,\"\"),1)))","v":1},600404,null,5813]
[{"$f":"O697*100+P697","v":600404},5809,"陪雀灵儿飞行","",{"$nulls":5},2,{"$f":"IF(J697=\"\",\"\",VLOOKUP(J697,EventNPC!A:E,5,FALSE))","v":"雀灵儿"},5814,"（小手抓紧你）嘿，大傻瓜，你知道吗？风一吹，树叶沙沙、花儿摇摆，一切都跟着跳舞呢。",null,6004,4,{"$f":"_xlfn.TEXTJOIN(\";\",1,R697:S697)","v":""},null,null,{"$f":"IF(R697=\"\",\"\",\"-\"&VLOOKUP(R697,EventConditionConfig!A:C,3,FALSE)&IF(S697=\"\",\"\",CHAR(10)&\"-\"&VLOOKUP(S697,EventConditionConfig!A:C,3,FALSE)))","v":""},{"$f":"IF(Y697=\"\",\"\",IF(ISTEXT(Y697),1,2))","v":""},"","","",null,null,"",null,null,"",{"$nulls":4},{"$f":"IF(A697=\"\",\"\",IF(ISNUMBER(Y697),2,IF(A698=\"\",IF(OR(AK697>0,VLOOKUP(O697,EventConfig!A:C,3,FALSE)=4),3,\"\"),1)))","v":1},600405,null,5814]
[600405,5809,"陪雀灵儿飞行","",{"$nulls":5},100,{"$f":"IF(J698=\"\",\"\",VLOOKUP(J698,EventNPC!A:E,5,FALSE))","v":"玩家"},5815,"是啊，风一吹，一切都活络了。",null,6004,5,"",null,null,{"$f":"IF(R698=\"\",\"\",\"-\"&VLOOKUP(R698,EventConditionConfig!A:C,3,FALSE)&IF(S698=\"\",\"\",CHAR(10)&\"-\"&VLOOKUP(S698,EventConditionConfig!A:C,3,FALSE)))","v":""},"","","","",null,null,"",null,null,"",{"$nulls":4},{"$f":"IF(A698=\"\",\"\",IF(ISNUMBER(Y698),2,IF(A699=\"\",IF(OR(AK698>0,VLOOKUP(O698,EventConfig!A:C,3,FALSE)=4),3,\"\"),1)))","v":1},600406,null,5815]
[{"$f":"O699*100+P699","v":600406},5809,"陪雀灵儿飞行","",{"$nulls":5},2,{"$f":"IF(J699=\"\",\"\",VLOOKUP(J699,EventNPC!A:E,5,FALSE))","v":"雀灵儿"},5816,"（咯咯笑，眼睛眯成月牙）快看，天真蓝！\n你说天本来就这样蓝，还是离我们太远了，看不清它的颜色呢？",null,6004,6,{"$f":"_xlfn.TEXTJOIN(\";\",1,R699:S699)","v":""},null,null,{"$f":"IF(R699=\"\",\"\",\"-\"&VLOOKUP(R699,EventConditionConfig!A:C,3,FALSE)&IF(S699=\"\",\"\",CHAR(10)&\"-\"&VLOOKUP(S699,EventConditionConfig!A:C,3,FALSE)))","v":""},{"$f":"IF(Y699=\"\",\"\",IF(ISTEXT(Y699),1,2))","v":""},"","","",null,null,"",null,null,"",{"$nulls":4},{"$f":"IF(A699=\"\",\"\",IF(ISNUMBER(Y699),2,IF(A700=\"\",IF(OR(AK699>0,VLOOKUP(O699,EventConfig!A:C,3,FALSE)=4),3,\"\"),1)))","v":1},600407,null,5816]
[600407,5809,"陪雀灵儿飞行","",{"$nulls":5},100,{"$f":"IF(J700=\"\",\"\",VLOOKUP(J700,EventNPC!A:E,5,FALSE))","v":"玩家"},5817,"谁知道呢.. \n外面的世界，有更多惊喜。",null,6004,7,"",null,null,{"$f":"IF(R700=\"\",\"\",\"-\"&VLOOKUP(R700,EventConditionConfig!A:C,3,FALSE)&IF(S700=\"\",\"\",CHAR(10)&\"-\"&VLOOKUP(S700,EventConditionConfig!A:C,3,FALSE)))","v":""},"","","","",null,null,"",null,null,"",{"$nulls":4},{"$f":"IF(A700=\"\",\"\",IF(ISNUMBER(Y700),2,IF(A701=\"\",IF(OR(AK700>0,VLOOKUP(O700,EventConfig!A:C,3,FALSE)=4),3,\"\"),1)))","v":1},600408,null,5817]
[{"$f":"O701*100+P701","v":600408},5809,"陪雀灵儿飞行","",{"$nulls":5},2,{"$f":"IF(J701=\"\",\"\",VLOOKUP(J701,EventNPC!A:E,5,FALSE))","v":"雀灵儿"},5818,"（落地，脸红红的）“嗯……谢谢陪我。\n下次……飞远点？但还得你拉着哦！”",null,6004,8,{"$f":"_xlfn.TEXTJOIN(\";\",1,R701:S701)","v":""},null,null,{"$f":"IF(R701=\"\",\"\",\"-\"&VLOOKUP(R701,EventConditionConfig!A:C,3,FALSE)&IF(S701=\"\",\"\",CHAR(10)&\"-\"&VLOOKUP(S701,EventConditionConfig!A:C,3,FALSE)))","v":""},{"$f":"IF(Y701=\"\",\"\",IF(ISTEXT(Y701),1,2))","v":""},"","","",null,null,"",null,null,"",{"$nulls":4},{"$f":"IF(A701=\"\",\"\",IF(ISNUMBER(Y701),2,IF(A702=\"\",IF(OR(AK701>0,VLOOKUP(O701,EventConfig!A:C,3,FALSE)=4),3,\"\"),1)))","v":1},600409,null,5818]
[600409,5809,"陪雀灵儿飞行","",{"$nulls":5},100,{"$f":"IF(J702=\"\",\"\",VLOOKUP(J702,EventNPC!A:E,5,FALSE))","v":"玩家"},5819,"她飞起来那么开心，像只自由的小鸟……\n也越来越黏人了。",null,6004,9,"",null,null,{"$f":"IF(R702=\"\",\"\",\"-\"&VLOOKUP(R702,EventConditionConfig!A:C,3,FALSE)&IF(S702=\"\",\"\",CHAR(10)&\"-\"&VLOOKUP(S702,EventConditionConfig!A:C,3,FALSE)))","v":""},"","","","",null,null,"",null,null,"",{"$nulls":4},{"$f":"IF(A702=\"\",\"\",IF(ISNUMBER(Y702),2,IF(A703=\"\",IF(OR(AK702>0,VLOOKUP(O702,EventConfig!A:C,3,FALSE)=4),3,\"\"),1)))","v":""},"",null,5819]
[null,"",null,"",{"$nulls":7},"",null,null,null,"",{"$nulls":5},"","","",null,null,"",null,null,"",{"$nulls":4},{"$f":"IF(A703=\"\",\"\",IF(ISNUMBER(Y703),2,IF(A704=\"\",IF(OR(AK703>0,VLOOKUP(O703,EventConfig!A:C,3,FALSE)=4),3,\"\"),1)))","v":""},"",null,""]
[{"$f":"O704*100+P704","v":600501},5820,"找到雀灵儿","",{"$nulls":6},{"$f":"IF(J704=\"\",\"\",VLOOKUP(J704,EventNPC!A:E,5,FALSE))","v":""},5821,"北海突发大风，幻雀儿冒险飞出树林被困风涡。你收到她的灵讯求救。",null,6005,1,{"$f":"_xlfn.TEXTJOIN(\";\",1,R704:S704)","v":""},null,null,{"$f":"IF(R704=\"\",\"\",\"-\"&VLOOKUP(R704,EventConditionConfig!A:C,3,FALSE)&IF(S704=\"\",\"\",CHAR(10)&\"-\"&VLOOKUP(S704,EventConditionConfig!A:C,3,FALSE)))","v":""},{"$f":"IF(Y704=\"\",\"\",IF(ISTEXT(Y704),1,2))","v":""},"","","",null,null,"",null,null,"",{"$nulls":4},{"$f":"IF(A704=\"\",\"\",IF(ISNUMBER(Y704),2,IF(A705=\"\",IF(OR(AK704>0,VLOOKUP(O704,EventConfig!A:C,3,FALSE)=4),3,\"\"),1)))","v":1},600502,null,5821]
[{"$f":"O705*100+P705","v":600502},5820,"找到雀灵儿","",{"$nulls":5},2,{"$f":"IF(J705=\"\",\"\",VLOOKUP(J705,EventNPC!A:E,5,FALSE))","v":"雀灵儿"},5822,"（灵讯，慌张）傻瓜，大风来了，我飞太远被困了！快来救我！",null,6005,2,{"$f":"_xlfn.TEXTJOIN(\";\",1,R705:S705)","v":""},null,null,{"$f":"IF(R705=\"\",\"\",\"-\"&VLOOKUP(R705,EventConditionConfig!A:C,3,FALSE)&IF(S705=\"\",\"\",CHAR(10)&\"-\"&VLOOKUP(S705,EventConditionConfig!A:C,3,FALSE)))","v":""},{"$f":"IF(Y705=\"\",\"\",IF(ISTEXT(Y705),1,2))","v":1},"600503","5823",5823,"坚持住，我来了！",null,"",null,null,"",{"$nulls":4},{"$f":"IF(A705=\"\",\"\",IF(ISNUMBER(Y705),2,IF(A706=\"\",IF(OR(AK705>0,VLOOKUP(O705,EventConfig!A:C,3,FALSE)=4),3,\"\"),1)))","v":1},600503,null,5823]
[{"$f":"O706*100+P706","v":600503},5824,"击败大风妖兽","",{"$nulls":6},{"$f":"IF(J706=\"\",\"\",VLOOKUP(J706,EventNPC!A:E,5,FALSE))","v":""},5825,"灵儿，别怕，我看到你了！这风妖交给我，先护住自己",null,6005,3,{"$f":"_xlfn.TEXTJOIN(\";\",1,R706:S706)","v":""},null,null,{"$f":"IF(R706=\"\",\"\",\"-\"&VLOOKUP(R706,EventConditionConfig!A:C,3,FALSE)&IF(S706=\"\",\"\",CHAR(10)&\"-\"&VLOOKUP(S706,EventConditionConfig!A:C,3,FALSE)))","v":""},{"$f":"IF(Y706=\"\",\"\",IF(ISTEXT(Y706),1,2))","v":2},3002,"","",3002,null,"",null,null,"",{"$nulls":4},{"$f":"IF(A706=\"\",\"\",IF(ISNUMBER(Y706),2,IF(A707=\"\",IF(OR(AK706>0,VLOOKUP(O706,EventConfig!A:C,3,FALSE)=4),3,\"\"),1)))","v":2},"600504;101",null,5825]
[600504,5824,"击败大风妖兽","",{"$nulls":5},2,{"$f":"IF(J707=\"\",\"\",VLOOKUP(J707,EventNPC!A:E,5,FALSE))","v":"雀灵儿"},5826,"（获救后，抱紧）谢谢……风这么大，我以为要被卷走了，像爸妈那样……\n但你一出现，一切都不怕了。",null,6005,4,"",null,null,{"$f":"IF(R707=\"\",\"\",\"-\"&VLOOKUP(R707,EventConditionConfig!A:C,3,FALSE)&IF(S707=\"\",\"\",CHAR(10)&\"-\"&VLOOKUP(S707,EventConditionConfig!A:C,3,FALSE)))","v":""},"","","","",null,null,"",null,null,"",{"$nulls":4},{"$f":"IF(A707=\"\",\"\",IF(ISNUMBER(Y707),2,IF(A708=\"\",IF(OR(AK707>0,VLOOKUP(O707,EventConfig!A:C,3,FALSE)=4),3,\"\"),1)))","v":1},600505,null,5826]
[{"$f":"O708*100+P708","v":600505},5824,"击败大风妖兽","",{"$nulls":5},100,{"$f":"IF(J708=\"\",\"\",VLOOKUP(J708,EventNPC!A:E,5,FALSE))","v":"玩家"},5827,"没事了，从今以后，我们一起飞，再大的风也挡不住。",null,6005,5,{"$f":"_xlfn.TEXTJOIN(\";\",1,R708:S708)","v":""},null,null,{"$f":"IF(R708=\"\",\"\",\"-\"&VLOOKUP(R708,EventConditionConfig!A:C,3,FALSE)&IF(S708=\"\",\"\",CHAR(10)&\"-\"&VLOOKUP(S708,EventConditionConfig!A:C,3,FALSE)))","v":""},{"$f":"IF(Y708=\"\",\"\",IF(ISTEXT(Y708),1,2))","v":""},"","","",null,null,"",null,null,"",{"$nulls":4},{"$f":"IF(A708=\"\",\"\",IF(ISNUMBER(Y708),2,IF(A709=\"\",IF(OR(AK708>0,VLOOKUP(O708,EventConfig!A:C,3,FALSE)=4),3,\"\"),1)))","v":1},600506,null,5827]
[600506,5824,"击败大风妖兽","",{"$nulls":5},2,{"$f":"IF(J709=\"\",\"\",VLOOKUP(J709,EventNPC!A:E,5,FALSE))","v":"雀灵儿"},5828,"（小声，脸红靠近）嗯……跟你一起，树林外头的世界，好像也没那么可怕了。",null,6005,6,"",null,null,{"$f":"IF(R709=\"\",\"\",\"-\"&VLOOKUP(R709,EventConditionConfig!A:C,3,FALSE)&IF(S709=\"\",\"\",CHAR(10)&\"-\"&VLOOKUP(S709,EventConditionConfig!A:C,3,FALSE)))","v":""},"","","","",null,null,"",null,null,"",{"$nulls":4},{"$f":"IF(A709=\"\",\"\",IF(ISNUMBER(Y709),2,IF(A710=\"\",IF(OR(AK709>0,VLOOKUP(O709,EventConfig!A:C,3,FALSE)=4),3,\"\"),1)))","v":""},"",null,5828]
[null,"",null,{"$f":"IF(E710=\"\",\"\",IF(E710=E709,D709,MAX(AL709,AL708,B710)+1))","v":""},{"$nulls":7},{"$f":"IF(M710=\"\",\"\",MAX(AL709,AL708,B710,D710)+1)","v":""},null,null,null,"",{"$nulls":5},"","","",null,null,"",null,null,"",{"$nulls":4},{"$f":"IF(A710=\"\",\"\",IF(ISNUMBER(Y710),2,IF(A711=\"\",IF(OR(AK710>0,VLOOKUP(O710,EventConfig!A:C,3,FALSE)=4),3,\"\"),1)))","v":""},"",null,{"$f":"IF(A710=\"\",\"\",MAX(B710,D710,L710,X710,AA710,AL709,AL708,AD710))","v":""}]
[{"$f":"O711*100+P711","v":600601},5829,"和雀灵儿对话","",{"$nulls":6},{"$f":"IF(J711=\"\",\"\",VLOOKUP(J711,EventNPC!A:E,5,FALSE))","v":""},5830,"北海风平浪静，古松树下阳光斑驳。",null,6006,1,{"$f":"_xlfn.TEXTJOIN(\";\",1,R711:S711)","v":""},null,null,{"$f":"IF(R711=\"\",\"\",\"-\"&VLOOKUP(R711,EventConditionConfig!A:C,3,FALSE)&IF(S711=\"\",\"\",CHAR(10)&\"-\"&VLOOKUP(S711,EventConditionConfig!A:C,3,FALSE)))","v":""},{"$f":"IF(Y711=\"\",\"\",IF(ISTEXT(Y711),1,2))","v":""},"","","",null,null,"",null,null,"",{"$nulls":4},{"$f":"IF(A711=\"\",\"\",IF(ISNUMBER(Y711),2,IF(A712=\"\",IF(OR(AK711>0,VLOOKUP(O711,EventConfig!A:C,3,FALSE)=4),3,\"\"),1)))","v":1},600602,null,5830]
[{"$f":"O712*100+P712","v":600602},5829,"和雀灵儿对话","",{"$nulls":6},{"$f":"IF(J712=\"\",\"\",VLOOKUP(J712,EventNPC!A:E,5,FALSE))","v":""},5831,"雀灵儿站在树枝上等着你，她穿着浅蓝羽衣，头发在微风中轻轻飘动，脸颊微红，眼睛里满是期待和一丝羞涩。",null,6006,2,{"$f":"_xlfn.TEXTJOIN(\";\",1,R712:S712)","v":""},null,null,{"$f":"IF(R712=\"\",\"\",\"-\"&VLOOKUP(R712,EventConditionConfig!A:C,3,FALSE)&IF(S712=\"\",\"\",CHAR(10)&\"-\"&VLOOKUP(S712,EventConditionConfig!A:C,3,FALSE)))","v":""},{"$f":"IF(Y712=\"\",\"\",IF(ISTEXT(Y712),1,2))","v":""},"","","",null,null,"",null,null,"",{"$nulls":4},{"$f":"IF(A712=\"\",\"\",IF(ISNUMBER(Y712),2,IF(A713=\"\",IF(OR(AK712>0,VLOOKUP(O712,EventConfig!A:C,3,FALSE)=4),3,\"\"),1)))","v":1},600603,null,5831]
[600603,5832,"击败大风妖兽","",{"$nulls":5},2,{"$f":"IF(J713=\"\",\"\",VLOOKUP(J713,EventNPC!A:E,5,FALSE))","v":"雀灵儿"},5833,"（开心扑来，跳到你面前，小手拽着衣角）“大傻瓜，谢谢你陪我玩、守护我……",null,6006,3,"",null,null,{"$f":"IF(R713=\"\",\"\",\"-\"&VLOOKUP(R713,EventConditionConfig!A:C,3,FALSE)&IF(S713=\"\",\"\",CHAR(10)&\"-\"&VLOOKUP(S713,EventConditionConfig!A:C,3,FALSE)))","v":""},"","","","",null,null,"",null,null,"",{"$nulls":4},{"$f":"IF(A713=\"\",\"\",IF(ISNUMBER(Y713),2,IF(A714=\"\",IF(OR(AK713>0,VLOOKUP(O713,EventConfig!A:C,3,FALSE)=4),3,\"\"),1)))","v":1},600604,null,5833]
[{"$f":"O714*100+P714","v":600604},5832,"击败大风妖兽","",{"$nulls":5},2,{"$f":"IF(J714=\"\",\"\",VLOOKUP(J714,EventNPC!A:E,5,FALSE))","v":"雀灵儿"},5834,"我现在觉得外面的世界没那么可怕了。",null,6006,4,{"$f":"_xlfn.TEXTJOIN(\";\",1,R714:S714)","v":""},null,null,{"$f":"IF(R714=\"\",\"\",\"-\"&VLOOKUP(R714,EventConditionConfig!A:C,3,FALSE)&IF(S714=\"\",\"\",CHAR(10)&\"-\"&VLOOKUP(S714,EventConditionConfig!A:C,3,FALSE)))","v":""},{"$f":"IF(Y714=\"\",\"\",IF(ISTEXT(Y714),1,2))","v":""},"","","",null,null,"",null,null,"",{"$nulls":4},{"$f":"IF(A714=\"\",\"\",IF(ISNUMBER(Y714),2,IF(A715=\"\",IF(OR(AK714>0,VLOOKUP(O714,EventConfig!A:C,3,FALSE)=4),3,\"\"),1)))","v":1},600605,null,5834]
[{"$f":"O715*100+P715","v":600605},5832,"击败大风妖兽","",{"$nulls":5},2,{"$f":"IF(J715=\"\",\"\",VLOOKUP(J715,EventNPC!A:E,5,FALSE))","v":"雀灵儿"},5835,"我想跟你飞远点，看看大海、山林，甚至南海天池！……行吗？我们一起？”",null,6006,5,{"$f":"_xlfn.TEXTJOIN(\";\",1,R715:S715)","v":""},null,null,{"$f":"IF(R715=\"\",\"\",\"-\"&VLOOKUP(R715,EventConditionConfig!A:C,3,FALSE)&IF(S715=\"\",\"\",CHAR(10)&\"-\"&VLOOKUP(S715,EventConditionConfig!A:C,3,FALSE)))","v":""},{"$f":"IF(Y715=\"\",\"\",IF(ISTEXT(Y715),1,2))","v":1},"600606","5836",5836,"当然可以",null,"",null,null,"",{"$nulls":4},{"$f":"IF(A715=\"\",\"\",IF(ISNUMBER(Y715),2,IF(A716=\"\",IF(OR(AK715>0,VLOOKUP(O715,EventConfig!A:C,3,FALSE)=4),3,\"\"),1)))","v":1},600606,null,5836]
[600606,5832,"击败大风妖兽","",{"$nulls":5},2,{"$f":"IF(J716=\"\",\"\",VLOOKUP(J716,EventNPC!A:E,5,FALSE))","v":"雀灵儿"},5837,"（脸红如霞）好！以后一起冒险飞远！有你在，风再大，也不怕了……",null,6006,6,"",null,null,{"$f":"IF(R716=\"\",\"\",\"-\"&VLOOKUP(R716,EventConditionConfig!A:C,3,FALSE)&IF(S716=\"\",\"\",CHAR(10)&\"-\"&VLOOKUP(S716,EventConditionConfig!A:C,3,FALSE)))","v":""},"","","","",null,null,"",null,null,"",{"$nulls":4},{"$f":"IF(A716=\"\",\"\",IF(ISNUMBER(Y716),2,IF(A717=\"\",IF(OR(AK716>0,VLOOKUP(O716,EventConfig!A:C,3,FALSE)=4),3,\"\"),1)))","v":1},600607,null,5837]
[{"$f":"O717*100+P717","v":600607},{"$f":"IF(C717=\"\",\"\",IF(C717=C716,B716,MAX(AL716,AL715)+1))","v":5832},"击败大风妖兽","",{"$nulls":5},100,{"$f":"IF(J717=\"\",\"\",VLOOKUP(J717,EventNPC!A:E,5,FALSE))","v":"玩家"},5838,"嗯，我会一直陪着你。",null,6006,7,{"$f":"_xlfn.TEXTJOIN(\";\",1,R717:S717)","v":""},null,null,{"$f":"IF(R717=\"\",\"\",\"-\"&VLOOKUP(R717,EventConditionConfig!A:C,3,FALSE)&IF(S717=\"\",\"\",CHAR(10)&\"-\"&VLOOKUP(S717,EventConditionConfig!A:C,3,FALSE)))","v":""},{"$f":"IF(Y717=\"\",\"\",IF(ISTEXT(Y717),1,2))","v":""},"","",{"$f":"IF(OR(ISNUMBER(Y717),Y717=\"\"),\"\",MAX(AL716,AL714,B717,D717,L717)+1)","v":""},null,null,{"$f":"IF(OR(ISNUMBER(AB717),AB717=\"\"),\"\",X717+1)","v":""},null,null,{"$f":"IF(OR(ISNUMBER(AE717),AE717=\"\"),\"\",AA717+1)","v":""},{"$nulls":4},{"$f":"IF(A717=\"\",\"\",IF(ISNUMBER(Y717),2,IF(A718=\"\",IF(OR(AK717>0,VLOOKUP(O717,EventConfig!A:C,3,FALSE)=4),3,\"\"),1)))","v":1},600608,null,5838]
[600608,5832,"击败大风妖兽","",{"$nulls":5},2,{"$f":"IF(J718=\"\",\"\",VLOOKUP(J718,EventNPC!A:E,5,FALSE))","v":"雀灵儿"},5839,"（抱紧你，开心笑）太好了！从今以后，我们就是……\n走吧，大傻瓜！",null,6006,8,"",null,null,{"$f":"IF(R718=\"\",\"\",\"-\"&VLOOKUP(R718,EventConditionConfig!A:C,3,FALSE)&IF(S718=\"\",\"\",CHAR(10)&\"-\"&VLOOKUP(S718,EventConditionConfig!A:C,3,FALSE)))","v":""},"",{"$f":"IF(U718=1,_xlfn.TEXTJOIN(\";\",1,IF(Z718=\"\",A718+1,Z718),IF(AND(AA718<>\"\",AC718=\"\"),A718+1,AC718),IF(AND(AD718<>\"\",AF718=\"\"),A718+1,AF718)),IF(U718=2,Y718,\"\"))","v":""},{"$f":"_xlfn.TEXTJOIN(\";\",1,X718,AA718,AD718)","v":""},"",null,null,"",null,null,"",{"$nulls":4},{"$f":"IF(A718=\"\",\"\",IF(ISNUMBER(Y718),2,IF(A719=\"\",IF(OR(AK718>0,VLOOKUP(O718,EventConfig!A:C,3,FALSE)=4),3,\"\"),1)))","v":1},{"$f":"IF(AI718=\"\",\"\",CHOOSE(AI718,IF(AK718=\"\",A718+1,AK718),CONCATENATE(IF(AK718=\"\",A718+1,AK718),\";101\"),IF(AK718=\"\",O718+1,AK718)))","v":600609},null,5839]
[{"$f":"O719*100+P719","v":600609},5832,"击败大风妖兽","",{"$nulls":5},100,{"$f":"IF(J719=\"\",\"\",VLOOKUP(J719,EventNPC!A:E,5,FALSE))","v":"玩家"},5840,"（之前的冒险让她变了，不再只是树上玩耍的小丫头，现在她看起来更自信，像一只准备展翅的鸟儿）",null,6006,9,{"$f":"_xlfn.TEXTJOIN(\";\",1,R719:S719)","v":""},null,null,{"$f":"IF(R719=\"\",\"\",\"-\"&VLOOKUP(R719,EventConditionConfig!A:C,3,FALSE)&IF(S719=\"\",\"\",CHAR(10)&\"-\"&VLOOKUP(S719,EventConditionConfig!A:C,3,FALSE)))","v":""},{"$f":"IF(Y719=\"\",\"\",IF(ISTEXT(Y719),1,2))","v":""},"","","",null,null,"",null,null,"",{"$nulls":4},{"$f":"IF(A719=\"\",\"\",IF(ISNUMBER(Y719),2,IF(A720=\"\",IF(OR(AK719>0,VLOOKUP(O719,EventConfig!A:C,3,FALSE)=4),3,\"\"),1)))","v":""},"",null,5840]
[null,"",null,"",{"$nulls":7},"",null,null,null,"",{"$nulls":5},"","","",null,null,"",null,null,"",{"$nulls":4},{"$f":"IF(A720=\"\",\"\",IF(ISNUMBER(Y720),2,IF(A721=\"\",IF(OR(AK720>0,VLOOKUP(O720,EventConfig!A:C,3,FALSE)=4),3,\"\"),1)))","v":""},"",null,""]
[{"$f":"O721*100+P721","v":601101},5841,"与云枝对话","",{"$nulls":6},{"$f":"IF(J721=\"\",\"\",VLOOKUP(J721,EventNPC!A:E,5,FALSE))","v":""},5842,"你返回北海古松，云枝从树影中现身。她身姿修长，穿着绿叶长袍，头发盘起如古松枝，眼神冷静警惕。\n微风吹过，古松如在低语，守护着这片密径。",null,6011,1,{"$f":"_xlfn.TEXTJOIN(\";\",1,R721:S721)","v":""},null,null,{"$f":"IF(R721=\"\",\"\",\"-\"&VLOOKUP(R721,EventConditionConfig!A:C,3,FALSE)&IF(S721=\"\",\"\",CHAR(10)&\"-\"&VLOOKUP(S721,EventConditionConfig!A:C,3,FALSE)))","v":""},{"$f":"IF(Y721=\"\",\"\",IF(ISTEXT(Y721),1,2))","v":""},"","","",null,null,"",null,null,"",{"$nulls":4},{"$f":"IF(A721=\"\",\"\",IF(ISNUMBER(Y721),2,IF(A722=\"\",IF(OR(AK721>0,VLOOKUP(O721,EventConfig!A:C,3,FALSE)=4),3,\"\"),1)))","v":1},601102,null,5842]
[{"$f":"O722*100+P722","v":601102},5841,"与云枝对话","",{"$nulls":5},121,{"$f":"IF(J722=\"\",\"\",VLOOKUP(J722,EventNPC!A:E,5,FALSE))","v":"云枝"},5843,"（冷冷注视，袖子微动）“外人，你又回来作甚？北海风大，妹妹刚和你玩闹，就别再纠缠。速速离去。”",null,6011,2,{"$f":"_xlfn.TEXTJOIN(\";\",1,R722:S722)","v":""},null,null,{"$f":"IF(R722=\"\",\"\",\"-\"&VLOOKUP(R722,EventConditionConfig!A:C,3,FALSE)&IF(S722=\"\",\"\",CHAR(10)&\"-\"&VLOOKUP(S722,EventConditionConfig!A:C,3,FALSE)))","v":""},{"$f":"IF(Y722=\"\",\"\",IF(ISTEXT(Y722),1,2))","v":1},"601103","5844",5844,"我只是想再见雀灵儿一面。",null,"",null,null,"",{"$nulls":4},{"$f":"IF(A722=\"\",\"\",IF(ISNUMBER(Y722),2,IF(A723=\"\",IF(OR(AK722>0,VLOOKUP(O722,EventConfig!A:C,3,FALSE)=4),3,\"\"),1)))","v":1},601103,null,5844]
[{"$f":"O723*100+P723","v":601103},5841,"与云枝对话","",{"$nulls":5},121,{"$f":"IF(J723=\"\",\"\",VLOOKUP(J723,EventNPC!A:E,5,FALSE))","v":"云枝"},5845,"（眼神稍缓，但仍警惕）雀灵儿天真，你莫要带她冒险。",null,6011,3,{"$f":"_xlfn.TEXTJOIN(\";\",1,R723:S723)","v":""},null,null,{"$f":"IF(R723=\"\",\"\",\"-\"&VLOOKUP(R723,EventConditionConfig!A:C,3,FALSE)&IF(S723=\"\",\"\",CHAR(10)&\"-\"&VLOOKUP(S723,EventConditionConfig!A:C,3,FALSE)))","v":""},{"$f":"IF(Y723=\"\",\"\",IF(ISTEXT(Y723),1,2))","v":""},"","","",null,null,"",null,null,"",{"$nulls":4},{"$f":"IF(A723=\"\",\"\",IF(ISNUMBER(Y723),2,IF(A724=\"\",IF(OR(AK723>0,VLOOKUP(O723,EventConfig!A:C,3,FALSE)=4),3,\"\"),1)))","v":1},601104,null,5845]
[{"$f":"O724*100+P724","v":601104},5841,"与云枝对话","",{"$nulls":5},121,{"$f":"IF(J724=\"\",\"\",VLOOKUP(J724,EventNPC!A:E,5,FALSE))","v":"云枝"},5846,"北海风卷走太多东西……若你无事可做，帮我守一守树林边缘，看看有没有妖兽靠近。",null,6011,4,{"$f":"_xlfn.TEXTJOIN(\";\",1,R724:S724)","v":""},null,null,{"$f":"IF(R724=\"\",\"\",\"-\"&VLOOKUP(R724,EventConditionConfig!A:C,3,FALSE)&IF(S724=\"\",\"\",CHAR(10)&\"-\"&VLOOKUP(S724,EventConditionConfig!A:C,3,FALSE)))","v":""},{"$f":"IF(Y724=\"\",\"\",IF(ISTEXT(Y724),1,2))","v":1},"601105","5847",5847,"好，我去巡查。",null,"",null,null,"",{"$nulls":4},{"$f":"IF(A724=\"\",\"\",IF(ISNUMBER(Y724),2,IF(A725=\"\",IF(OR(AK724>0,VLOOKUP(O724,EventConfig!A:C,3,FALSE)=4),3,\"\"),1)))","v":1},601105,null,5847]
[{"$f":"O725*100+P725","v":601105},5841,"与云枝对话","",{"$nulls":5},121,{"$f":"IF(J725=\"\",\"\",VLOOKUP(J725,EventNPC!A:E,5,FALSE))","v":"云枝"},5848,"“哼，算你识相。下次别来打扰。”",null,6011,5,{"$f":"_xlfn.TEXTJOIN(\";\",1,R725:S725)","v":""},null,null,{"$f":"IF(R725=\"\",\"\",\"-\"&VLOOKUP(R725,EventConditionConfig!A:C,3,FALSE)&IF(S725=\"\",\"\",CHAR(10)&\"-\"&VLOOKUP(S725,EventConditionConfig!A:C,3,FALSE)))","v":""},{"$f":"IF(Y725=\"\",\"\",IF(ISTEXT(Y725),1,2))","v":""},"","","",null,null,"",null,null,"",{"$nulls":4},{"$f":"IF(A725=\"\",\"\",IF(ISNUMBER(Y725),2,IF(A726=\"\",IF(OR(AK725>0,VLOOKUP(O725,EventConfig!A:C,3,FALSE)=4),3,\"\"),1)))","v":1},601106,null,5848]
[{"$f":"O726*100+P726","v":601106},5849,"击败风妖","",{"$nulls":5},100,{"$f":"IF(J726=\"\",\"\",VLOOKUP(J726,EventNPC!A:E,5,FALSE))","v":"玩家"},5850,"(警惕性很强……或许是保护妹妹太紧。)",null,6011,6,{"$f":"_xlfn.TEXTJOIN(\";\",1,R726:S726)","v":""},null,null,{"$f":"IF(R726=\"\",\"\",\"-\"&VLOOKUP(R726,EventConditionConfig!A:C,3,FALSE)&IF(S726=\"\",\"\",CHAR(10)&\"-\"&VLOOKUP(S726,EventConditionConfig!A:C,3,FALSE)))","v":""},{"$f":"IF(Y726=\"\",\"\",IF(ISTEXT(Y726),1,2))","v":""},"","","",null,null,"",null,null,"",{"$nulls":4},{"$f":"IF(A726=\"\",\"\",IF(ISNUMBER(Y726),2,IF(A727=\"\",IF(OR(AK726>0,VLOOKUP(O726,EventConfig!A:C,3,FALSE)=4),3,\"\"),1)))","v":1},601107,null,5850]
[{"$f":"O727*100+P727","v":601107},5849,"击败风妖","",{"$nulls":5},100,{"$f":"IF(J727=\"\",\"\",VLOOKUP(J727,EventNPC!A:E,5,FALSE))","v":"玩家"},5851,"云枝，风妖我清理干净了..\n云枝...人呢？怎么走了…",null,6011,7,{"$f":"_xlfn.TEXTJOIN(\";\",1,R727:S727)","v":"38"},38,null,{"$f":"IF(R727=\"\",\"\",\"-\"&VLOOKUP(R727,EventConditionConfig!A:C,3,FALSE)&IF(S727=\"\",\"\",CHAR(10)&\"-\"&VLOOKUP(S727,EventConditionConfig!A:C,3,FALSE)))","v":"-击败风妖"},{"$f":"IF(Y727=\"\",\"\",IF(ISTEXT(Y727),1,2))","v":""},"","","",null,null,"",null,null,"",{"$nulls":4},{"$f":"IF(A727=\"\",\"\",IF(ISNUMBER(Y727),2,IF(A728=\"\",IF(OR(AK727>0,VLOOKUP(O727,EventConfig!A:C,3,FALSE)=4),3,\"\"),1)))","v":""},"",null,5851]
[null,"",null,"",{"$nulls":7},"",null,null,null,"",{"$nulls":5},"","","",null,null,"",null,null,"",{"$nulls":4},{"$f":"IF(A728=\"\",\"\",IF(ISNUMBER(Y728),2,IF(A729=\"\",IF(OR(AK728>0,VLOOKUP(O728,EventConfig!A:C,3,FALSE)=4),3,\"\"),1)))","v":""},"",null,""]
[{"$f":"O729*100+P729","v":601201},5852,"击败小风妖","",{"$nulls":6},{"$f":"IF(J729=\"\",\"\",VLOOKUP(J729,EventNPC!A:E,5,FALSE))","v":""},5853,"树林边缘风起，云枝现身。\n她绿袍微摆，眼神锐利如风刃，身后古松如守护者般矗立，妖兽啸声时隐时现。",null,6012,1,{"$f":"_xlfn.TEXTJOIN(\";\",1,R729:S729)","v":""},null,null,{"$f":"IF(R729=\"\",\"\",\"-\"&VLOOKUP(R729,EventConditionConfig!A:C,3,FALSE)&IF(S729=\"\",\"\",CHAR(10)&\"-\"&VLOOKUP(S729,EventConditionConfig!A:C,3,FALSE)))","v":""},{"$f":"IF(Y729=\"\",\"\",IF(ISTEXT(Y729),1,2))","v":""},"","","",null,null,"",null,null,"",{"$nulls":4},{"$f":"IF(A729=\"\",\"\",IF(ISNUMBER(Y729),2,IF(A730=\"\",IF(OR(AK729>0,VLOOKUP(O729,EventConfig!A:C,3,FALSE)=4),3,\"\"),1)))","v":1},601202,null,5853]
[{"$f":"O730*100+P730","v":601202},{"$f":"IF(C730=\"\",\"\",IF(C730=C729,B729,MAX(AL729,AL728)+1))","v":5852},"击败小风妖","",{"$nulls":5},121,{"$f":"IF(J730=\"\",\"\",VLOOKUP(J730,EventNPC!A:E,5,FALSE))","v":"云枝"},5854,"又来找灵儿！？\n那得看你没有这个本事，正好来了几只妖兽，帮我赶走它们。”",null,6012,2,{"$f":"_xlfn.TEXTJOIN(\";\",1,R730:S730)","v":""},null,null,{"$f":"IF(R730=\"\",\"\",\"-\"&VLOOKUP(R730,EventConditionConfig!A:C,3,FALSE)&IF(S730=\"\",\"\",CHAR(10)&\"-\"&VLOOKUP(S730,EventConditionConfig!A:C,3,FALSE)))","v":""},{"$f":"IF(Y730=\"\",\"\",IF(ISTEXT(Y730),1,2))","v":1},"601203;601204","5855;5856",5855,"好，我来对付这几只小妖。",{"$f":"A731","v":601203},5856,"让开，我来对付这几只高阶妖兽。",{"$f":"A732","v":601204},"",null,{"$f":"D732","v":""},null,null,{"$f":"IF(A730=\"\",\"\",IF(ISNUMBER(Y730),2,IF(A731=\"\",IF(OR(AK730>0,VLOOKUP(O730,EventConfig!A:C,3,FALSE)=4),3,\"\"),1)))","v":1},601203,null,5856]
[601203,5852,"击败小风妖","",{"$nulls":5},121,{"$f":"IF(J731=\"\",\"\",VLOOKUP(J731,EventNPC!A:E,5,FALSE))","v":"云枝"},5857,"小心..",null,6012,3,"",null,null,{"$f":"IF(R731=\"\",\"\",\"-\"&VLOOKUP(R731,EventConditionConfig!A:C,3,FALSE)&IF(S731=\"\",\"\",CHAR(10)&\"-\"&VLOOKUP(S731,EventConditionConfig!A:C,3,FALSE)))","v":""},2,3004,"","",3004,null,"",null,null,"",{"$nulls":4},{"$f":"IF(A731=\"\",\"\",IF(ISNUMBER(Y731),2,IF(A732=\"\",IF(OR(AK731>0,VLOOKUP(O731,EventConfig!A:C,3,FALSE)=4),3,\"\"),1)))","v":2},"601205;101",{"$f":"A733","v":601205},5857]
[{"$f":"O732*100+P732","v":601204},5852,"击败小风妖","",{"$nulls":5},121,{"$f":"IF(J732=\"\",\"\",VLOOKUP(J732,EventNPC!A:E,5,FALSE))","v":"云枝"},5858,"......小心，别逞能，风妖狡猾，别掉以轻心。",null,6012,{"$f":"IF(O732=\"\",\"\",IF(O732=O731,P731+1,1))","v":4},{"$f":"_xlfn.TEXTJOIN(\";\",1,R732:S732)","v":""},null,null,{"$f":"IF(R732=\"\",\"\",\"-\"&VLOOKUP(R732,EventConditionConfig!A:C,3,FALSE)&IF(S732=\"\",\"\",CHAR(10)&\"-\"&VLOOKUP(S732,EventConditionConfig!A:C,3,FALSE)))","v":""},{"$f":"IF(Y732=\"\",\"\",IF(ISTEXT(Y732),1,2))","v":2},3005,"","",3005,null,"",null,null,"",{"$nulls":4},{"$f":"IF(A732=\"\",\"\",IF(ISNUMBER(Y732),2,IF(A733=\"\",IF(OR(AK732>0,VLOOKUP(O732,EventConfig!A:C,3,FALSE)=4),3,\"\"),1)))","v":2},"601205;101",{"$f":"A733","v":601205},5858]
[601205,5852,"击败小风妖","",{"$nulls":5},121,{"$f":"IF(J733=\"\",\"\",VLOOKUP(J733,EventNPC!A:E,5,FALSE))","v":"云枝"},5859,"还算有点本事……雀灵儿喜欢玩闹，但我得护她周全。\n我不能让她冒险。你懂吗？",null,6012,5,"",null,null,{"$f":"IF(R733=\"\",\"\",\"-\"&VLOOKUP(R733,EventConditionConfig!A:C,3,FALSE)&IF(S733=\"\",\"\",CHAR(10)&\"-\"&VLOOKUP(S733,EventConditionConfig!A:C,3,FALSE)))","v":""},"","","","",null,null,"",null,null,"",{"$nulls":4},{"$f":"IF(A733=\"\",\"\",IF(ISNUMBER(Y733),2,IF(A734=\"\",IF(OR(AK733>0,VLOOKUP(O733,EventConfig!A:C,3,FALSE)=4),3,\"\"),1)))","v":1},601206,null,5859]
[{"$f":"O734*100+P734","v":601206},5852,"击败小风妖","",{"$nulls":5},100,{"$f":"IF(J734=\"\",\"\",VLOOKUP(J734,EventNPC!A:E,5,FALSE))","v":"玩家"},5860,"我懂……我会小心。",null,6012,6,{"$f":"_xlfn.TEXTJOIN(\";\",1,R734:S734)","v":""},null,null,{"$f":"IF(R734=\"\",\"\",\"-\"&VLOOKUP(R734,EventConditionConfig!A:C,3,FALSE)&IF(S734=\"\",\"\",CHAR(10)&\"-\"&VLOOKUP(S734,EventConditionConfig!A:C,3,FALSE)))","v":""},{"$f":"IF(Y734=\"\",\"\",IF(ISTEXT(Y734),1,2))","v":""},"","","",null,null,"",null,null,"",{"$nulls":4},{"$f":"IF(A734=\"\",\"\",IF(ISNUMBER(Y734),2,IF(A735=\"\",IF(OR(AK734>0,VLOOKUP(O734,EventConfig!A:C,3,FALSE)=4),3,\"\"),1)))","v":1},601207,null,5860]
[601207,5852,"击败小风妖","",{"$nulls":5},121,{"$f":"IF(J735=\"\",\"\",VLOOKUP(J735,EventNPC!A:E,5,FALSE))","v":"云枝"},5861,"哼，灵儿出去了，下次再来吧。",null,6012,7,"",null,null,{"$f":"IF(R735=\"\",\"\",\"-\"&VLOOKUP(R735,EventConditionConfig!A:C,3,FALSE)&IF(S735=\"\",\"\",CHAR(10)&\"-\"&VLOOKUP(S735,EventConditionConfig!A:C,3,FALSE)))","v":""},"","","","",null,null,"",null,null,"",{"$nulls":4},{"$f":"IF(A735=\"\",\"\",IF(ISNUMBER(Y735),2,IF(A736=\"\",IF(OR(AK735>0,VLOOKUP(O735,EventConfig!A:C,3,FALSE)=4),3,\"\"),1)))","v":1},601208,null,5861]
[{"$f":"O736*100+P736","v":601208},5852,"击败小风妖","",{"$nulls":5},100,{"$f":"IF(J736=\"\",\"\",VLOOKUP(J736,EventNPC!A:E,5,FALSE))","v":"玩家"},5862,"（高冷外表下，是姐姐的温柔，她似乎开始信任我了）",null,6012,8,{"$f":"_xlfn.TEXTJOIN(\";\",1,R736:S736)","v":""},null,null,{"$f":"IF(R736=\"\",\"\",\"-\"&VLOOKUP(R736,EventConditionConfig!A:C,3,FALSE)&IF(S736=\"\",\"\",CHAR(10)&\"-\"&VLOOKUP(S736,EventConditionConfig!A:C,3,FALSE)))","v":""},{"$f":"IF(Y736=\"\",\"\",IF(ISTEXT(Y736),1,2))","v":""},"","","",null,null,"",null,null,"",{"$nulls":4},{"$f":"IF(A736=\"\",\"\",IF(ISNUMBER(Y736),2,IF(A737=\"\",IF(OR(AK736>0,VLOOKUP(O736,EventConfig!A:C,3,FALSE)=4),3,\"\"),1)))","v":""},"",null,5862]
[null,"",null,"",{"$nulls":7},"",null,null,null,"",{"$nulls":5},"","","",null,null,"",null,null,"",{"$nulls":4},{"$f":"IF(A737=\"\",\"\",IF(ISNUMBER(Y737),2,IF(A738=\"\",IF(OR(AK737>0,VLOOKUP(O737,EventConfig!A:C,3,FALSE)=4),3,\"\"),1)))","v":""},"",null,""]
[{"$f":"O738*100+P738","v":601301},{"$f":"IF(C738=\"\",\"\",IF(C738=C737,B737,MAX(AL737,AL736)+1))","v":5863},"协助云枝保护灵草","",{"$nulls":6},{"$f":"IF(J738=\"\",\"\",VLOOKUP(J738,EventNPC!A:E,5,FALSE))","v":""},5864,"云枝带你到树林深处，她轻抚琴弦，琴音如风过林，将灵力注入灵草中，助其生长并形成防护光幕。",null,6013,1,{"$f":"_xlfn.TEXTJOIN(\";\",1,R738:S738)","v":""},null,null,{"$f":"IF(R738=\"\",\"\",\"-\"&VLOOKUP(R738,EventConditionConfig!A:C,3,FALSE)&IF(S738=\"\",\"\",CHAR(10)&\"-\"&VLOOKUP(S738,EventConditionConfig!A:C,3,FALSE)))","v":""},{"$f":"IF(Y738=\"\",\"\",IF(ISTEXT(Y738),1,2))","v":""},"","","",null,null,"",null,null,"",{"$nulls":4},{"$f":"IF(A738=\"\",\"\",IF(ISNUMBER(Y738),2,IF(A739=\"\",IF(OR(AK738>0,VLOOKUP(O738,EventConfig!A:C,3,FALSE)=4),3,\"\"),1)))","v":1},601302,null,5864]
[{"$f":"O739*100+P739","v":601302},5863,"协助云枝保护灵草","",{"$nulls":6},{"$f":"IF(J739=\"\",\"\",VLOOKUP(J739,EventNPC!A:E,5,FALSE))","v":""},5865,"但灵草能增强力量，风妖常来偷食，她让你帮忙守护。树林夜色渐深，风啸声中，灵草散发微光，仿佛在诉说北海的秘密。",null,6013,2,{"$f":"_xlfn.TEXTJOIN(\";\",1,R739:S739)","v":""},null,null,{"$f":"IF(R739=\"\",\"\",\"-\"&VLOOKUP(R739,EventConditionConfig!A:C,3,FALSE)&IF(S739=\"\",\"\",CHAR(10)&\"-\"&VLOOKUP(S739,EventConditionConfig!A:C,3,FALSE)))","v":""},{"$f":"IF(Y739=\"\",\"\",IF(ISTEXT(Y739),1,2))","v":""},"","","",null,null,"",null,null,"",{"$nulls":4},{"$f":"IF(A739=\"\",\"\",IF(ISNUMBER(Y739),2,IF(A740=\"\",IF(OR(AK739>0,VLOOKUP(O739,EventConfig!A:C,3,FALSE)=4),3,\"\"),1)))","v":1},601303,null,5865]
[{"$f":"O740*100+P740","v":601303},5863,"协助云枝保护灵草","",{"$nulls":5},121,{"$f":"IF(J740=\"\",\"\",VLOOKUP(J740,EventNPC!A:E,5,FALSE))","v":"云枝"},5866,"（优雅抚琴，声音柔和）看到这片草地了吗？\n经常有妖兽前来偷食，我会用灵力注入琴音，助其生长并防护。\n你在旁协助我，谨防高阶妖兽前来偷袭。",null,6013,3,{"$f":"_xlfn.TEXTJOIN(\";\",1,R740:S740)","v":""},null,null,{"$f":"IF(R740=\"\",\"\",\"-\"&VLOOKUP(R740,EventConditionConfig!A:C,3,FALSE)&IF(S740=\"\",\"\",CHAR(10)&\"-\"&VLOOKUP(S740,EventConditionConfig!A:C,3,FALSE)))","v":""},{"$f":"IF(Y740=\"\",\"\",IF(ISTEXT(Y740),1,2))","v":1},"601304","5867",5867,"这些草看起来普普通通，为何会吸引妖兽？",null,"",null,null,"",{"$nulls":4},{"$f":"IF(A740=\"\",\"\",IF(ISNUMBER(Y740),2,IF(A741=\"\",IF(OR(AK740>0,VLOOKUP(O740,EventConfig!A:C,3,FALSE)=4),3,\"\"),1)))","v":1},601304,null,5867]
[{"$f":"O741*100+P741","v":601304},5863,"协助云枝保护灵草","",{"$nulls":5},121,{"$f":"IF(J741=\"\",\"\",VLOOKUP(J741,EventNPC!A:E,5,FALSE))","v":"云枝"},5868,"这些草拥有强大的灵力，复用后可增强力量，因此被妖兽盯上。",null,6013,4,{"$f":"_xlfn.TEXTJOIN(\";\",1,R741:S741)","v":""},null,null,{"$f":"IF(R741=\"\",\"\",\"-\"&VLOOKUP(R741,EventConditionConfig!A:C,3,FALSE)&IF(S741=\"\",\"\",CHAR(10)&\"-\"&VLOOKUP(S741,EventConditionConfig!A:C,3,FALSE)))","v":""},{"$f":"IF(Y741=\"\",\"\",IF(ISTEXT(Y741),1,2))","v":1},"601305","5869",5869,"原来如此,我帮你守护灵草。",null,"",null,null,"",{"$nulls":4},{"$f":"IF(A741=\"\",\"\",IF(ISNUMBER(Y741),2,IF(A742=\"\",IF(OR(AK741>0,VLOOKUP(O741,EventConfig!A:C,3,FALSE)=4),3,\"\"),1)))","v":1},601305,null,5869]
[{"$f":"O742*100+P742","v":601305},5863,"协助云枝保护灵草","",{"$nulls":5},121,{"$f":"IF(J742=\"\",\"\",VLOOKUP(J742,EventNPC!A:E,5,FALSE))","v":"云枝"},5870,"嗯，谢谢",null,6013,5,{"$f":"_xlfn.TEXTJOIN(\";\",1,R742:S742)","v":""},null,null,{"$f":"IF(R742=\"\",\"\",\"-\"&VLOOKUP(R742,EventConditionConfig!A:C,3,FALSE)&IF(S742=\"\",\"\",CHAR(10)&\"-\"&VLOOKUP(S742,EventConditionConfig!A:C,3,FALSE)))","v":""},{"$f":"IF(Y742=\"\",\"\",IF(ISTEXT(Y742),1,2))","v":""},"","","",null,null,"",null,null,"",{"$nulls":4},{"$f":"IF(A742=\"\",\"\",IF(ISNUMBER(Y742),2,IF(A743=\"\",IF(OR(AK742>0,VLOOKUP(O742,EventConfig!A:C,3,FALSE)=4),3,\"\"),1)))","v":1},601306,null,5870]
[{"$f":"O743*100+P743","v":601306},5863,"协助云枝保护灵草","",{"$nulls":5},121,{"$f":"IF(J743=\"\",\"\",VLOOKUP(J743,EventNPC!A:E,5,FALSE))","v":"云枝"},5871,"风妖来了！它们冲着灵草而来，我的琴音能弱化它们，你快打。",null,6013,6,{"$f":"_xlfn.TEXTJOIN(\";\",1,R743:S743)","v":""},null,null,{"$f":"IF(R743=\"\",\"\",\"-\"&VLOOKUP(R743,EventConditionConfig!A:C,3,FALSE)&IF(S743=\"\",\"\",CHAR(10)&\"-\"&VLOOKUP(S743,EventConditionConfig!A:C,3,FALSE)))","v":""},{"$f":"IF(Y743=\"\",\"\",IF(ISTEXT(Y743),1,2))","v":2},3006,"","",3006,null,"",null,null,"",{"$nulls":4},{"$f":"IF(A743=\"\",\"\",IF(ISNUMBER(Y743),2,IF(A744=\"\",IF(OR(AK743>0,VLOOKUP(O743,EventConfig!A:C,3,FALSE)=4),3,\"\"),1)))","v":2},"601307;101",null,5871]
[{"$f":"O744*100+P744","v":601307},5863,"协助云枝保护灵草","",{"$nulls":5},121,{"$f":"IF(J744=\"\",\"\",VLOOKUP(J744,EventNPC!A:E,5,FALSE))","v":"云枝"},5872,"好……灵草安全了些。平时我一人守这儿，琴音能驱邪，但风大时总力不从心。\n你……为什么愿意帮我？",null,6013,7,{"$f":"_xlfn.TEXTJOIN(\";\",1,R744:S744)","v":""},null,null,{"$f":"IF(R744=\"\",\"\",\"-\"&VLOOKUP(R744,EventConditionConfig!A:C,3,FALSE)&IF(S744=\"\",\"\",CHAR(10)&\"-\"&VLOOKUP(S744,EventConditionConfig!A:C,3,FALSE)))","v":""},{"$f":"IF(Y744=\"\",\"\",IF(ISTEXT(Y744),1,2))","v":1},"601308","5873",5873,"因为雀灵儿，也因为这树林值得守护。",null,"",null,null,"",{"$nulls":4},{"$f":"IF(A744=\"\",\"\",IF(ISNUMBER(Y744),2,IF(A745=\"\",IF(OR(AK744>0,VLOOKUP(O744,EventConfig!A:C,3,FALSE)=4),3,\"\"),1)))","v":1},601308,null,5873]
[{"$f":"O745*100+P745","v":601308},5863,"协助云枝保护灵草","",{"$nulls":5},121,{"$f":"IF(J745=\"\",\"\",VLOOKUP(J745,EventNPC!A:E,5,FALSE))","v":"云枝"},5874,"（低声）雀灵儿天真，你懂守护……\n或许这是好最好安排..\n（欲言又止）",null,6013,8,{"$f":"_xlfn.TEXTJOIN(\";\",1,R745:S745)","v":""},null,null,{"$f":"IF(R745=\"\",\"\",\"-\"&VLOOKUP(R745,EventConditionConfig!A:C,3,FALSE)&IF(S745=\"\",\"\",CHAR(10)&\"-\"&VLOOKUP(S745,EventConditionConfig!A:C,3,FALSE)))","v":""},{"$f":"IF(Y745=\"\",\"\",IF(ISTEXT(Y745),1,2))","v":1},"601309","5875",5875,"能守护你，我也很开心",null,"",null,null,"",{"$nulls":4},{"$f":"IF(A745=\"\",\"\",IF(ISNUMBER(Y745),2,IF(A746=\"\",IF(OR(AK745>0,VLOOKUP(O745,EventConfig!A:C,3,FALSE)=4),3,\"\"),1)))","v":1},601309,null,5875]
[{"$f":"O746*100+P746","v":601309},5863,"协助云枝保护灵草","",{"$nulls":5},121,{"$f":"IF(J746=\"\",\"\",VLOOKUP(J746,EventNPC!A:E,5,FALSE))","v":"云枝"},5876,"（低头去摘灵草）这几株灵草给你，能增强你的力量。",null,6013,9,{"$f":"_xlfn.TEXTJOIN(\";\",1,R746:S746)","v":""},null,null,{"$f":"IF(R746=\"\",\"\",\"-\"&VLOOKUP(R746,EventConditionConfig!A:C,3,FALSE)&IF(S746=\"\",\"\",CHAR(10)&\"-\"&VLOOKUP(S746,EventConditionConfig!A:C,3,FALSE)))","v":""},{"$f":"IF(Y746=\"\",\"\",IF(ISTEXT(Y746),1,2))","v":""},"","","",null,null,"",null,null,"",{"$nulls":4},{"$f":"IF(A746=\"\",\"\",IF(ISNUMBER(Y746),2,IF(A747=\"\",IF(OR(AK746>0,VLOOKUP(O746,EventConfig!A:C,3,FALSE)=4),3,\"\"),1)))","v":1},601310,null,5876]
[{"$f":"O747*100+P747","v":601310},5863,"协助云枝保护灵草","",{"$nulls":5},121,{"$f":"IF(J747=\"\",\"\",VLOOKUP(J747,EventNPC!A:E,5,FALSE))","v":"云枝"},5877,"多谢云枝。\n（高冷姐姐，也有柔软一面）",null,6013,10,{"$f":"_xlfn.TEXTJOIN(\";\",1,R747:S747)","v":""},null,null,{"$f":"IF(R747=\"\",\"\",\"-\"&VLOOKUP(R747,EventConditionConfig!A:C,3,FALSE)&IF(S747=\"\",\"\",CHAR(10)&\"-\"&VLOOKUP(S747,EventConditionConfig!A:C,3,FALSE)))","v":""},{"$f":"IF(Y747=\"\",\"\",IF(ISTEXT(Y747),1,2))","v":""},"","","",null,null,"",null,null,"",{"$nulls":4},{"$f":"IF(A747=\"\",\"\",IF(ISNUMBER(Y747),2,IF(A748=\"\",IF(OR(AK747>0,VLOOKUP(O747,EventConfig!A:C,3,FALSE)=4),3,\"\"),1)))","v":""},"",null,5877]
[null,"",null,"",{"$nulls":7},"",null,null,null,"",{"$nulls":5},"","","",null,null,"",null,null,"",{"$nulls":4},{"$f":"IF(A748=\"\",\"\",IF(ISNUMBER(Y748),2,IF(A749=\"\",IF(OR(AK748>0,VLOOKUP(O748,EventConfig!A:C,3,FALSE)=4),3,\"\"),1)))","v":""},"",null,""]
[{"$f":"O749*100+P749","v":601401},5878,"云枝的回忆","",{"$nulls":6},{"$f":"IF(J749=\"\",\"\",VLOOKUP(J749,EventNPC!A:E,5,FALSE))","v":""},5879,"夜风轻，云枝坐在古松下，眼神遥远。她想你陪她聊聊往事。",null,6014,1,{"$f":"_xlfn.TEXTJOIN(\";\",1,R749:S749)","v":""},null,null,{"$f":"IF(R749=\"\",\"\",\"-\"&VLOOKUP(R749,EventConditionConfig!A:C,3,FALSE)&IF(S749=\"\",\"\",CHAR(10)&\"-\"&VLOOKUP(S749,EventConditionConfig!A:C,3,FALSE)))","v":""},{"$f":"IF(Y749=\"\",\"\",IF(ISTEXT(Y749),1,2))","v":""},"","","",null,null,"",null,null,"",{"$nulls":4},{"$f":"IF(A749=\"\",\"\",IF(ISNUMBER(Y749),2,IF(A750=\"\",IF(OR(AK749>0,VLOOKUP(O749,EventConfig!A:C,3,FALSE)=4),3,\"\"),1)))","v":1},601402,null,5879]
[{"$f":"O750*100+P750","v":601402},5878,"云枝的回忆","",{"$nulls":5},121,{"$f":"IF(J750=\"\",\"\",VLOOKUP(J750,EventNPC!A:E,5,FALSE))","v":"云枝"},5880,"（低声，抚摸树干）北海的大风，卷走了太多……父母走后，我守着雀灵儿，不让她冒险。\n灵儿天真，你莫要带她走我的老路。你云游四方，可曾有后悔之事？",null,6014,2,{"$f":"_xlfn.TEXTJOIN(\";\",1,R750:S750)","v":""},null,null,{"$f":"IF(R750=\"\",\"\",\"-\"&VLOOKUP(R750,EventConditionConfig!A:C,3,FALSE)&IF(S750=\"\",\"\",CHAR(10)&\"-\"&VLOOKUP(S750,EventConditionConfig!A:C,3,FALSE)))","v":""},{"$f":"IF(Y750=\"\",\"\",IF(ISTEXT(Y750),1,2))","v":1},"601403","5881",5881,"不知道，但每次冒险，都让我离成仙更近。",null,"",null,null,"",{"$nulls":4},{"$f":"IF(A750=\"\",\"\",IF(ISNUMBER(Y750),2,IF(A751=\"\",IF(OR(AK750>0,VLOOKUP(O750,EventConfig!A:C,3,FALSE)=4),3,\"\"),1)))","v":1},601403,null,5881]
[{"$f":"O751*100+P751","v":601403},5878,"云枝的回忆","",{"$nulls":5},121,{"$f":"IF(J751=\"\",\"\",VLOOKUP(J751,EventNPC!A:E,5,FALSE))","v":"云枝"},5882,"（眼神柔和）成仙吗？我没想过……\n小的时候我父母还在，我们一家在北海飞来飞去。",null,6014,3,{"$f":"_xlfn.TEXTJOIN(\";\",1,R751:S751)","v":""},null,null,{"$f":"IF(R751=\"\",\"\",\"-\"&VLOOKUP(R751,EventConditionConfig!A:C,3,FALSE)&IF(S751=\"\",\"\",CHAR(10)&\"-\"&VLOOKUP(S751,EventConditionConfig!A:C,3,FALSE)))","v":""},{"$f":"IF(Y751=\"\",\"\",IF(ISTEXT(Y751),1,2))","v":""},"","","",null,null,"",null,null,"",{"$nulls":4},{"$f":"IF(A751=\"\",\"\",IF(ISNUMBER(Y751),2,IF(A752=\"\",IF(OR(AK751>0,VLOOKUP(O751,EventConfig!A:C,3,FALSE)=4),3,\"\"),1)))","v":1},601404,null,5882]
[{"$f":"O752*100+P752","v":601404},5878,"云枝的回忆","",{"$nulls":5},121,{"$f":"IF(J752=\"\",\"\",VLOOKUP(J752,EventNPC!A:E,5,FALSE))","v":"云枝"},5883,"父亲教我御风，母亲弹琴驱妖。风大时，他们总笑说“借风飞远”，北海就是我们的游乐场。",null,6014,4,{"$f":"_xlfn.TEXTJOIN(\";\",1,R752:S752)","v":""},null,null,{"$f":"IF(R752=\"\",\"\",\"-\"&VLOOKUP(R752,EventConditionConfig!A:C,3,FALSE)&IF(S752=\"\",\"\",CHAR(10)&\"-\"&VLOOKUP(S752,EventConditionConfig!A:C,3,FALSE)))","v":""},{"$f":"IF(Y752=\"\",\"\",IF(ISTEXT(Y752),1,2))","v":""},"","","",null,null,"",null,null,"",{"$nulls":4},{"$f":"IF(A752=\"\",\"\",IF(ISNUMBER(Y752),2,IF(A753=\"\",IF(OR(AK752>0,VLOOKUP(O752,EventConfig!A:C,3,FALSE)=4),3,\"\"),1)))","v":1},601405,null,5883]
[{"$f":"O753*100+P753","v":601405},5878,"云枝的回忆","",{"$nulls":5},121,{"$f":"IF(J753=\"\",\"\",VLOOKUP(J753,EventNPC!A:E,5,FALSE))","v":"云枝"},5884,"我们常在树林追风玩闹，雀灵儿还小，咯咯笑着抓树叶……",null,6014,5,{"$f":"_xlfn.TEXTJOIN(\";\",1,R753:S753)","v":""},null,null,{"$f":"IF(R753=\"\",\"\",\"-\"&VLOOKUP(R753,EventConditionConfig!A:C,3,FALSE)&IF(S753=\"\",\"\",CHAR(10)&\"-\"&VLOOKUP(S753,EventConditionConfig!A:C,3,FALSE)))","v":""},{"$f":"IF(Y753=\"\",\"\",IF(ISTEXT(Y753),1,2))","v":1},"601406","5885",5885,"听起来很温暖……后来呢？",null,"",null,null,"",{"$nulls":4},{"$f":"IF(A753=\"\",\"\",IF(ISNUMBER(Y753),2,IF(A754=\"\",IF(OR(AK753>0,VLOOKUP(O753,EventConfig!A:C,3,FALSE)=4),3,\"\"),1)))","v":1},601406,null,5885]
[601406,5878,"云枝的回忆","",{"$nulls":5},121,{"$f":"IF(J754=\"\",\"\",VLOOKUP(J754,EventNPC!A:E,5,FALSE))","v":"云枝"},5886,"（微微颤声，泪光闪现）后来，一夜大风暴，风卷走他们，只剩我和雀灵儿……从那后，我再不敢飞远，只守树林。",null,6014,6,"",null,null,{"$f":"IF(R754=\"\",\"\",\"-\"&VLOOKUP(R754,EventConditionConfig!A:C,3,FALSE)&IF(S754=\"\",\"\",CHAR(10)&\"-\"&VLOOKUP(S754,EventConditionConfig!A:C,3,FALSE)))","v":""},"","","","",null,null,"",null,null,"",{"$nulls":4},{"$f":"IF(A754=\"\",\"\",IF(ISNUMBER(Y754),2,IF(A755=\"\",IF(OR(AK754>0,VLOOKUP(O754,EventConfig!A:C,3,FALSE)=4),3,\"\"),1)))","v":1},601407,null,5886]
[{"$f":"O755*100+P755","v":601407},5878,"云枝的回忆","",{"$nulls":5},121,{"$f":"IF(J755=\"\",\"\",VLOOKUP(J755,EventNPC!A:E,5,FALSE))","v":"云枝"},5887,"雀灵儿像小时候的我，天真好奇，总想飞出去。",null,6014,7,{"$f":"_xlfn.TEXTJOIN(\";\",1,R755:S755)","v":""},null,null,{"$f":"IF(R755=\"\",\"\",\"-\"&VLOOKUP(R755,EventConditionConfig!A:C,3,FALSE)&IF(S755=\"\",\"\",CHAR(10)&\"-\"&VLOOKUP(S755,EventConditionConfig!A:C,3,FALSE)))","v":""},{"$f":"IF(Y755=\"\",\"\",IF(ISTEXT(Y755),1,2))","v":""},"","","",null,null,"",null,null,"",{"$nulls":4},{"$f":"IF(A755=\"\",\"\",IF(ISNUMBER(Y755),2,IF(A756=\"\",IF(OR(AK755>0,VLOOKUP(O755,EventConfig!A:C,3,FALSE)=4),3,\"\"),1)))","v":1},601408,null,5887]
[{"$f":"O756*100+P756","v":601408},5878,"云枝的回忆","",{"$nulls":5},121,{"$f":"IF(J756=\"\",\"\",VLOOKUP(J756,EventNPC!A:E,5,FALSE))","v":"云枝"},5888,"但我怕……怕她也像父母那样消失。\n你懂这种怕吗？",null,6014,8,{"$f":"_xlfn.TEXTJOIN(\";\",1,R756:S756)","v":""},null,null,{"$f":"IF(R756=\"\",\"\",\"-\"&VLOOKUP(R756,EventConditionConfig!A:C,3,FALSE)&IF(S756=\"\",\"\",CHAR(10)&\"-\"&VLOOKUP(S756,EventConditionConfig!A:C,3,FALSE)))","v":""},{"$f":"IF(Y756=\"\",\"\",IF(ISTEXT(Y756),1,2))","v":""},"","","",null,null,"",null,null,"",{"$nulls":4},{"$f":"IF(A756=\"\",\"\",IF(ISNUMBER(Y756),2,IF(A757=\"\",IF(OR(AK756>0,VLOOKUP(O756,EventConfig!A:C,3,FALSE)=4),3,\"\"),1)))","v":1},601409,null,5888]
[{"$f":"O757*100+P757","v":601409},5878,"云枝的回忆","",{"$nulls":5},100,{"$f":"IF(J757=\"\",\"\",VLOOKUP(J757,EventNPC!A:E,5,FALSE))","v":"玩家"},5889,"我可能不懂，但我会守护你们。",null,6014,9,{"$f":"_xlfn.TEXTJOIN(\";\",1,R757:S757)","v":""},null,null,{"$f":"IF(R757=\"\",\"\",\"-\"&VLOOKUP(R757,EventConditionConfig!A:C,3,FALSE)&IF(S757=\"\",\"\",CHAR(10)&\"-\"&VLOOKUP(S757,EventConditionConfig!A:C,3,FALSE)))","v":""},{"$f":"IF(Y757=\"\",\"\",IF(ISTEXT(Y757),1,2))","v":""},"","","",null,null,"",null,null,"",{"$nulls":4},{"$f":"IF(A757=\"\",\"\",IF(ISNUMBER(Y757),2,IF(A758=\"\",IF(OR(AK757>0,VLOOKUP(O757,EventConfig!A:C,3,FALSE)=4),3,\"\"),1)))","v":1},601410,null,5889]
[601410,5878,"云枝的回忆","",{"$nulls":5},121,{"$f":"IF(J758=\"\",\"\",VLOOKUP(J758,EventNPC!A:E,5,FALSE))","v":"云枝"},5890,"（微笑一瞬，擦泪）谁要你的守护！\n不过还是谢谢你，听我讲怎么多的往事。",null,6014,10,"",null,null,{"$f":"IF(R758=\"\",\"\",\"-\"&VLOOKUP(R758,EventConditionConfig!A:C,3,FALSE)&IF(S758=\"\",\"\",CHAR(10)&\"-\"&VLOOKUP(S758,EventConditionConfig!A:C,3,FALSE)))","v":""},1,"601411","5891",5891,"（……高冷外壳下，是一颗温柔的心。）",null,"",null,null,"",{"$nulls":4},{"$f":"IF(A758=\"\",\"\",IF(ISNUMBER(Y758),2,IF(A759=\"\",IF(OR(AK758>0,VLOOKUP(O758,EventConfig!A:C,3,FALSE)=4),3,\"\"),1)))","v":""},"",null,5891]
[null,"",null,"",{"$nulls":7},"",null,null,null,"",{"$nulls":5},"","","",null,null,"",null,null,"",{"$nulls":4},{"$f":"IF(A759=\"\",\"\",IF(ISNUMBER(Y759),2,IF(A760=\"\",IF(OR(AK759>0,VLOOKUP(O759,EventConfig!A:C,3,FALSE)=4),3,\"\"),1)))","v":""},"",null,""]
[{"$f":"O760*100+P760","v":601501},5892,"帮助云枝击败来袭的妖兽","",{"$nulls":6},{"$f":"IF(J760=\"\",\"\",VLOOKUP(J760,EventNPC!A:E,5,FALSE))","v":""},5893,"乱风突袭北海树林，一群风妖借风势来袭，威胁古松小天地。",null,6015,1,{"$f":"_xlfn.TEXTJOIN(\";\",1,R760:S760)","v":""},null,null,{"$f":"IF(R760=\"\",\"\",\"-\"&VLOOKUP(R760,EventConditionConfig!A:C,3,FALSE)&IF(S760=\"\",\"\",CHAR(10)&\"-\"&VLOOKUP(S760,EventConditionConfig!A:C,3,FALSE)))","v":""},{"$f":"IF(Y760=\"\",\"\",IF(ISTEXT(Y760),1,2))","v":""},"","","",null,null,"",null,null,"",{"$nulls":4},{"$f":"IF(A760=\"\",\"\",IF(ISNUMBER(Y760),2,IF(A761=\"\",IF(OR(AK760>0,VLOOKUP(O760,EventConfig!A:C,3,FALSE)=4),3,\"\"),1)))","v":1},601502,null,5893]
[{"$f":"O761*100+P761","v":601502},5892,"帮助云枝击败来袭的妖兽","",{"$nulls":6},{"$f":"IF(J761=\"\",\"\",VLOOKUP(J761,EventNPC!A:E,5,FALSE))","v":""},5894,"云枝护着雀灵儿战斗，但妖兽太多，她焦急向你求助。",null,6015,2,{"$f":"_xlfn.TEXTJOIN(\";\",1,R761:S761)","v":""},null,null,{"$f":"IF(R761=\"\",\"\",\"-\"&VLOOKUP(R761,EventConditionConfig!A:C,3,FALSE)&IF(S761=\"\",\"\",CHAR(10)&\"-\"&VLOOKUP(S761,EventConditionConfig!A:C,3,FALSE)))","v":""},{"$f":"IF(Y761=\"\",\"\",IF(ISTEXT(Y761),1,2))","v":""},"","","",null,null,"",null,null,"",{"$nulls":4},{"$f":"IF(A761=\"\",\"\",IF(ISNUMBER(Y761),2,IF(A762=\"\",IF(OR(AK761>0,VLOOKUP(O761,EventConfig!A:C,3,FALSE)=4),3,\"\"),1)))","v":1},601503,null,5894]
[{"$f":"O762*100+P762","v":601503},5892,"帮助云枝击败来袭的妖兽","",{"$nulls":6},{"$f":"IF(J762=\"\",\"\",VLOOKUP(J762,EventNPC!A:E,5,FALSE))","v":""},5895,"树叶乱飞，妖啸回荡，云枝绿袍在乱风中飘荡，雀灵儿躲在她身后，眼神害怕却坚强。",null,6015,3,{"$f":"_xlfn.TEXTJOIN(\";\",1,R762:S762)","v":""},null,null,{"$f":"IF(R762=\"\",\"\",\"-\"&VLOOKUP(R762,EventConditionConfig!A:C,3,FALSE)&IF(S762=\"\",\"\",CHAR(10)&\"-\"&VLOOKUP(S762,EventConditionConfig!A:C,3,FALSE)))","v":""},{"$f":"IF(Y762=\"\",\"\",IF(ISTEXT(Y762),1,2))","v":""},"","","",null,null,"",null,null,"",{"$nulls":4},{"$f":"IF(A762=\"\",\"\",IF(ISNUMBER(Y762),2,IF(A763=\"\",IF(OR(AK762>0,VLOOKUP(O762,EventConfig!A:C,3,FALSE)=4),3,\"\"),1)))","v":1},601504,null,5895]
[{"$f":"O763*100+P763","v":601504},5892,"帮助云枝击败来袭的妖兽","",{"$nulls":5},121,{"$f":"IF(J763=\"\",\"\",VLOOKUP(J763,EventNPC!A:E,5,FALSE))","v":"云枝"},5896,"（着急，用琴音抵挡妖群）妖群突袭！\n它们借大风群攻，雀灵儿在这里不安全……帮我击退它们，我护着她撤到安全处！",null,6015,4,{"$f":"_xlfn.TEXTJOIN(\";\",1,R763:S763)","v":""},null,null,{"$f":"IF(R763=\"\",\"\",\"-\"&VLOOKUP(R763,EventConditionConfig!A:C,3,FALSE)&IF(S763=\"\",\"\",CHAR(10)&\"-\"&VLOOKUP(S763,EventConditionConfig!A:C,3,FALSE)))","v":""},{"$f":"IF(Y763=\"\",\"\",IF(ISTEXT(Y763),1,2))","v":1},"601505","5897",5897,"好，我们一起守护！",null,"",null,null,"",{"$nulls":4},{"$f":"IF(A763=\"\",\"\",IF(ISNUMBER(Y763),2,IF(A764=\"\",IF(OR(AK763>0,VLOOKUP(O763,EventConfig!A:C,3,FALSE)=4),3,\"\"),1)))","v":1},601505,null,5897]
[{"$f":"O764*100+P764","v":601505},5892,"帮助云枝击败来袭的妖兽","",{"$nulls":5},121,{"$f":"IF(J764=\"\",\"\",VLOOKUP(J764,EventNPC!A:E,5,FALSE))","v":"云枝"},5898,"（用琴音护住雀灵儿）灵儿，别怕，有姐姐在……一定保护你！！\n妖兽太多，这一群交给我，你看住我身后的妖兽！",null,6015,5,{"$f":"_xlfn.TEXTJOIN(\";\",1,R764:S764)","v":""},null,null,{"$f":"IF(R764=\"\",\"\",\"-\"&VLOOKUP(R764,EventConditionConfig!A:C,3,FALSE)&IF(S764=\"\",\"\",CHAR(10)&\"-\"&VLOOKUP(S764,EventConditionConfig!A:C,3,FALSE)))","v":""},{"$f":"IF(Y764=\"\",\"\",IF(ISTEXT(Y764),1,2))","v":""},"","","",null,null,"",null,null,"",{"$nulls":4},{"$f":"IF(A764=\"\",\"\",IF(ISNUMBER(Y764),2,IF(A765=\"\",IF(OR(AK764>0,VLOOKUP(O764,EventConfig!A:C,3,FALSE)=4),3,\"\"),1)))","v":1},601506,null,5898]
[{"$f":"O765*100+P765","v":601506},5892,"帮助云枝击败来袭的妖兽","",{"$nulls":5},2,{"$f":"IF(J765=\"\",\"\",VLOOKUP(J765,EventNPC!A:E,5,FALSE))","v":"雀灵儿"},5899,"（大声）大傻瓜，快帮姐姐！",null,6015,6,{"$f":"_xlfn.TEXTJOIN(\";\",1,R765:S765)","v":""},null,null,{"$f":"IF(R765=\"\",\"\",\"-\"&VLOOKUP(R765,EventConditionConfig!A:C,3,FALSE)&IF(S765=\"\",\"\",CHAR(10)&\"-\"&VLOOKUP(S765,EventConditionConfig!A:C,3,FALSE)))","v":""},{"$f":"IF(Y765=\"\",\"\",IF(ISTEXT(Y765),1,2))","v":2},3007,"","",3007,null,"",null,null,"",{"$nulls":4},{"$f":"IF(A765=\"\",\"\",IF(ISNUMBER(Y765),2,IF(A766=\"\",IF(OR(AK765>0,VLOOKUP(O765,EventConfig!A:C,3,FALSE)=4),3,\"\"),1)))","v":2},"601507;101",null,5899]
[{"$f":"O766*100+P766","v":601507},5892,"帮助云枝击败来袭的妖兽","",{"$nulls":5},121,{"$f":"IF(J766=\"\",\"\",VLOOKUP(J766,EventNPC!A:E,5,FALSE))","v":"云枝"},5900,"（受伤）小心，这只妖兽灵力极强！",null,6015,7,{"$f":"_xlfn.TEXTJOIN(\";\",1,R766:S766)","v":""},null,null,{"$f":"IF(R766=\"\",\"\",\"-\"&VLOOKUP(R766,EventConditionConfig!A:C,3,FALSE)&IF(S766=\"\",\"\",CHAR(10)&\"-\"&VLOOKUP(S766,EventConditionConfig!A:C,3,FALSE)))","v":""},{"$f":"IF(Y766=\"\",\"\",IF(ISTEXT(Y766),1,2))","v":1},"601508","5901",5901,"你们快走，交给我！",null,"",null,null,"",{"$nulls":4},{"$f":"IF(A766=\"\",\"\",IF(ISNUMBER(Y766),2,IF(A767=\"\",IF(OR(AK766>0,VLOOKUP(O766,EventConfig!A:C,3,FALSE)=4),3,\"\"),1)))","v":1},601508,null,5901]
[{"$f":"O767*100+P767","v":601508},5892,"帮助云枝击败来袭的妖兽","",{"$nulls":6},{"$f":"IF(J767=\"\",\"\",VLOOKUP(J767,EventNPC!A:E,5,FALSE))","v":""},"",null,null,6015,8,{"$f":"_xlfn.TEXTJOIN(\";\",1,R767:S767)","v":""},null,null,{"$f":"IF(R767=\"\",\"\",\"-\"&VLOOKUP(R767,EventConditionConfig!A:C,3,FALSE)&IF(S767=\"\",\"\",CHAR(10)&\"-\"&VLOOKUP(S767,EventConditionConfig!A:C,3,FALSE)))","v":""},{"$f":"IF(Y767=\"\",\"\",IF(ISTEXT(Y767),1,2))","v":2},3008,"","",3008,null,"",null,null,"",{"$nulls":4},{"$f":"IF(A767=\"\",\"\",IF(ISNUMBER(Y767),2,IF(A768=\"\",IF(OR(AK767>0,VLOOKUP(O767,EventConfig!A:C,3,FALSE)=4),3,\"\"),1)))","v":2},"601509;101",null,5901]
[601509,5892,"帮助云枝击败来袭的妖兽","",{"$nulls":5},121,{"$f":"IF(J768=\"\",\"\",VLOOKUP(J768,EventNPC!A:E,5,FALSE))","v":"云枝"},5902,"（喘气，受伤但微笑）谢谢……风势退了，雀灵儿安全了。\n我平时总护她，这次多亏你。\n不进保护了灵儿，还守护了我...或许……",null,6015,9,"",null,null,{"$f":"IF(R768=\"\",\"\",\"-\"&VLOOKUP(R768,EventConditionConfig!A:C,3,FALSE)&IF(S768=\"\",\"\",CHAR(10)&\"-\"&VLOOKUP(S768,EventConditionConfig!A:C,3,FALSE)))","v":""},"","","","",null,null,"",null,null,"",{"$nulls":4},{"$f":"IF(A768=\"\",\"\",IF(ISNUMBER(Y768),2,IF(A769=\"\",IF(OR(AK768>0,VLOOKUP(O768,EventConfig!A:C,3,FALSE)=4),3,\"\"),1)))","v":1},601510,null,5902]
[601510,5892,"帮助云枝击败来袭的妖兽","",{"$nulls":5},2,{"$f":"IF(J769=\"\",\"\",VLOOKUP(J769,EventNPC!A:E,5,FALSE))","v":"雀灵儿"},5903,"（抱云枝）姐姐受伤了……谢谢大傻瓜！",null,6015,10,"",null,null,{"$f":"IF(R769=\"\",\"\",\"-\"&VLOOKUP(R769,EventConditionConfig!A:C,3,FALSE)&IF(S769=\"\",\"\",CHAR(10)&\"-\"&VLOOKUP(S769,EventConditionConfig!A:C,3,FALSE)))","v":""},"","","","",null,null,"",null,null,"",{"$nulls":4},{"$f":"IF(A769=\"\",\"\",IF(ISNUMBER(Y769),2,IF(A770=\"\",IF(OR(AK769>0,VLOOKUP(O769,EventConfig!A:C,3,FALSE)=4),3,\"\"),1)))","v":1},601511,null,5903]
[{"$f":"O770*100+P770","v":601511},5892,"帮助云枝击败来袭的妖兽","",{"$nulls":5},100,{"$f":"IF(J770=\"\",\"\",VLOOKUP(J770,EventNPC!A:E,5,FALSE))","v":"玩家"},5904,"(云枝...真是一个好女孩，好姐姐）",null,6015,11,{"$f":"_xlfn.TEXTJOIN(\";\",1,R770:S770)","v":""},null,null,{"$f":"IF(R770=\"\",\"\",\"-\"&VLOOKUP(R770,EventConditionConfig!A:C,3,FALSE)&IF(S770=\"\",\"\",CHAR(10)&\"-\"&VLOOKUP(S770,EventConditionConfig!A:C,3,FALSE)))","v":""},{"$f":"IF(Y770=\"\",\"\",IF(ISTEXT(Y770),1,2))","v":""},"","","",null,null,"",null,null,"",{"$nulls":4},{"$f":"IF(A770=\"\",\"\",IF(ISNUMBER(Y770),2,IF(A771=\"\",IF(OR(AK770>0,VLOOKUP(O770,EventConfig!A:C,3,FALSE)=4),3,\"\"),1)))","v":""},"",null,5904]
[null,"",null,"",{"$nulls":7},"",null,null,null,"",{"$nulls":5},"","","",null,null,"",null,null,"",{"$nulls":4},{"$f":"IF(A771=\"\",\"\",IF(ISNUMBER(Y771),2,IF(A772=\"\",IF(OR(AK771>0,VLOOKUP(O771,EventConfig!A:C,3,FALSE)=4),3,\"\"),1)))","v":""},"",null,""]
[{"$f":"O772*100+P772","v":601601},5905,"与云枝对话","",{"$nulls":6},{"$f":"IF(J772=\"\",\"\",VLOOKUP(J772,EventNPC!A:E,5,FALSE))","v":""},5906,"云枝在古松等你。\n她绿袍轻摆，眼神柔和，不再高冷。\n树林外，云海如画。",null,6016,1,{"$f":"_xlfn.TEXTJOIN(\";\",1,R772:S772)","v":""},null,null,{"$f":"IF(R772=\"\",\"\",\"-\"&VLOOKUP(R772,EventConditionConfig!A:C,3,FALSE)&IF(S772=\"\",\"\",CHAR(10)&\"-\"&VLOOKUP(S772,EventConditionConfig!A:C,3,FALSE)))","v":""},{"$f":"IF(Y772=\"\",\"\",IF(ISTEXT(Y772),1,2))","v":""},"","","",null,null,"",null,null,"",{"$nulls":4},{"$f":"IF(A772=\"\",\"\",IF(ISNUMBER(Y772),2,IF(A773=\"\",IF(OR(AK772>0,VLOOKUP(O772,EventConfig!A:C,3,FALSE)=4),3,\"\"),1)))","v":1},601602,null,5906]
[{"$f":"O773*100+P773","v":601602},5905,"与云枝对话","",{"$nulls":5},121,{"$f":"IF(J773=\"\",\"\",VLOOKUP(J773,EventNPC!A:E,5,FALSE))","v":"云枝"},5907,"（微笑，靠近）“谢谢你帮我守树林、救雀灵儿……北海风不再可怕，我想跟你飞远，守护更大世界……行吗？我们一起？”",null,6016,2,{"$f":"_xlfn.TEXTJOIN(\";\",1,R773:S773)","v":""},null,null,{"$f":"IF(R773=\"\",\"\",\"-\"&VLOOKUP(R773,EventConditionConfig!A:C,3,FALSE)&IF(S773=\"\",\"\",CHAR(10)&\"-\"&VLOOKUP(S773,EventConditionConfig!A:C,3,FALSE)))","v":""},{"$f":"IF(Y773=\"\",\"\",IF(ISTEXT(Y773),1,2))","v":1},"601603","5908",5908,"好，我们结为道侣吧",null,"",null,null,"",{"$nulls":4},{"$f":"IF(A773=\"\",\"\",IF(ISNUMBER(Y773),2,IF(A774=\"\",IF(OR(AK773>0,VLOOKUP(O773,EventConfig!A:C,3,FALSE)=4),3,\"\"),1)))","v":1},601603,null,5908]
[{"$f":"O774*100+P774","v":601603},5905,"与云枝对话",{"$f":"IF(E774=\"\",\"\",IF(E774=E773,D773,MAX(AL773,AL772,B774)+1))","v":""},{"$nulls":5},121,{"$f":"IF(J774=\"\",\"\",VLOOKUP(J774,EventNPC!A:E,5,FALSE))","v":"云枝"},{"$f":"IF(M774=\"\",\"\",MAX(AL773,AL772,B774,D774)+1)","v":5909},"（脸红，低声）”道侣？嗯……我愿意！\n跟你一起，风中也有温柔。我们手牵手，飞到南海天池，飞到天涯海角！",null,6016,3,{"$f":"_xlfn.TEXTJOIN(\";\",1,R774:S774)","v":""},null,null,{"$f":"IF(R774=\"\",\"\",\"-\"&VLOOKUP(R774,EventConditionConfig!A:C,3,FALSE)&IF(S774=\"\",\"\",CHAR(10)&\"-\"&VLOOKUP(S774,EventConditionConfig!A:C,3,FALSE)))","v":""},{"$f":"IF(Y774=\"\",\"\",IF(ISTEXT(Y774),1,2))","v":""},"","","",null,null,"",null,null,"",{"$nulls":4},{"$f":"IF(A774=\"\",\"\",IF(ISNUMBER(Y774),2,IF(A775=\"\",IF(OR(AK774>0,VLOOKUP(O774,EventConfig!A:C,3,FALSE)=4),3,\"\"),1)))","v":1},601604,null,{"$f":"IF(A774=\"\",\"\",MAX(B774,D774,L774,X774,AA774,AL773,AL772,AD774))","v":5909}]
[{"$f":"O775*100+P775","v":601604},5905,"与云枝对话","",{"$nulls":5},100,{"$f":"IF(J775=\"\",\"\",VLOOKUP(J775,EventNPC!A:E,5,FALSE))","v":"玩家"},5910,"我会一直陪着你，守护你和雀灵儿。",null,6016,4,{"$f":"_xlfn.TEXTJOIN(\";\",1,R775:S775)","v":""},null,null,{"$f":"IF(R775=\"\",\"\",\"-\"&VLOOKUP(R775,EventConditionConfig!A:C,3,FALSE)&IF(S775=\"\",\"\",CHAR(10)&\"-\"&VLOOKUP(S775,EventConditionConfig!A:C,3,FALSE)))","v":""},{"$f":"IF(Y775=\"\",\"\",IF(ISTEXT(Y775),1,2))","v":""},"","","",null,null,"",null,null,"",{"$nulls":4},{"$f":"IF(A775=\"\",\"\",IF(ISNUMBER(Y775),2,IF(A776=\"\",IF(OR(AK775>0,VLOOKUP(O775,EventConfig!A:C,3,FALSE)=4),3,\"\"),1)))","v":1},601605,null,5910]
[{"$f":"O776*100+P776","v":601605},5905,"与云枝对话","",{"$nulls":5},121,{"$f":"IF(J776=\"\",\"\",VLOOKUP(J776,EventNPC!A:E,5,FALSE))","v":"云枝"},5911,"（抱紧）太好了…我们一起破风远行，那未知的云海，或许藏着永恒的自由。",null,6016,5,{"$f":"_xlfn.TEXTJOIN(\";\",1,R776:S776)","v":""},null,null,{"$f":"IF(R776=\"\",\"\",\"-\"&VLOOKUP(R776,EventConditionConfig!A:C,3,FALSE)&IF(S776=\"\",\"\",CHAR(10)&\"-\"&VLOOKUP(S776,EventConditionConfig!A:C,3,FALSE)))","v":""},{"$f":"IF(Y776=\"\",\"\",IF(ISTEXT(Y776),1,2))","v":""},"","","",null,null,"",null,null,"",{"$nulls":4},{"$f":"IF(A776=\"\",\"\",IF(ISNUMBER(Y776),2,IF(A777=\"\",IF(OR(AK776>0,VLOOKUP(O776,EventConfig!A:C,3,FALSE)=4),3,\"\"),1)))","v":""},"",null,5911]
[null,"",null,"",{"$nulls":7},"",null,null,null,"",{"$nulls":5},"","","",null,null,"",null,null,"",{"$nulls":4},{"$f":"IF(A777=\"\",\"\",IF(ISNUMBER(Y777),2,IF(A778=\"\",IF(OR(AK777>0,VLOOKUP(O777,EventConfig!A:C,3,FALSE)=4),3,\"\"),1)))","v":""},"",null,""]
[{"$f":"O778*100+P778","v":602101},5912,"完成所有对话","",{"$nulls":6},{"$f":"IF(J778=\"\",\"\",VLOOKUP(J778,EventNPC!A:E,5,FALSE))","v":""},5913,"你御剑来到浮空岛边缘，一位身姿轻盈的女子站在崖边，风吹起她的浅青长发。她似乎在凝视远方云海，手中握着一枚闪烁微光的碎片。",null,6021,1,{"$f":"_xlfn.TEXTJOIN(\";\",1,R778:S778)","v":""},null,null,{"$f":"IF(R778=\"\",\"\",\"-\"&VLOOKUP(R778,EventConditionConfig!A:C,3,FALSE)&IF(S778=\"\",\"\",CHAR(10)&\"-\"&VLOOKUP(S778,EventConditionConfig!A:C,3,FALSE)))","v":""},{"$f":"IF(Y778=\"\",\"\",IF(ISTEXT(Y778),1,2))","v":1},"602102","5914",5914,"敢问道友是？",null,"",null,null,"",{"$nulls":4},{"$f":"IF(A778=\"\",\"\",IF(ISNUMBER(Y778),2,IF(A779=\"\",IF(OR(AK778>0,VLOOKUP(O778,EventConfig!A:C,3,FALSE)=4),3,\"\"),1)))","v":1},602102,null,5914]
[{"$f":"O779*100+P779","v":602102},5912,"完成所有对话","",{"$nulls":5},122,{"$f":"IF(J779=\"\",\"\",VLOOKUP(J779,EventNPC!A:E,5,FALSE))","v":"风瑶"},5915,"（转头，明亮的眼睛打量你片刻，微微一笑）我叫风瑶，这里风大，你能来到此地，修为不浅。你是何人？",null,6021,2,{"$f":"_xlfn.TEXTJOIN(\";\",1,R779:S779)","v":""},null,null,{"$f":"IF(R779=\"\",\"\",\"-\"&VLOOKUP(R779,EventConditionConfig!A:C,3,FALSE)&IF(S779=\"\",\"\",CHAR(10)&\"-\"&VLOOKUP(S779,EventConditionConfig!A:C,3,FALSE)))","v":""},{"$f":"IF(Y779=\"\",\"\",IF(ISTEXT(Y779),1,2))","v":1},"602103","5916",5916,"先前受疯道人指点，在此游历。",null,"",null,null,"",{"$nulls":4},{"$f":"IF(A779=\"\",\"\",IF(ISNUMBER(Y779),2,IF(A780=\"\",IF(OR(AK779>0,VLOOKUP(O779,EventConfig!A:C,3,FALSE)=4),3,\"\"),1)))","v":1},602103,null,5916]
[{"$f":"O780*100+P780","v":602103},5912,"完成所有对话","",{"$nulls":5},122,{"$f":"IF(J780=\"\",\"\",VLOOKUP(J780,EventNPC!A:E,5,FALSE))","v":"风瑶"},5917,"兄长总爱帮人……不过这里浮岛多变，风势不定，你小心些。\n我出身云隐宗，那里本是修仙圣地，可最近有些不对劲……",null,6021,3,{"$f":"_xlfn.TEXTJOIN(\";\",1,R780:S780)","v":""},null,null,{"$f":"IF(R780=\"\",\"\",\"-\"&VLOOKUP(R780,EventConditionConfig!A:C,3,FALSE)&IF(S780=\"\",\"\",CHAR(10)&\"-\"&VLOOKUP(S780,EventConditionConfig!A:C,3,FALSE)))","v":""},{"$f":"IF(Y780=\"\",\"\",IF(ISTEXT(Y780),1,2))","v":""},"","","",null,null,"",null,null,"",{"$nulls":4},{"$f":"IF(A780=\"\",\"\",IF(ISNUMBER(Y780),2,IF(A781=\"\",IF(OR(AK780>0,VLOOKUP(O780,EventConfig!A:C,3,FALSE)=4),3,\"\"),1)))","v":1},602104,null,5917]
[{"$f":"O781*100+P781","v":602104},5912,"完成所有对话","",{"$nulls":5},122,{"$f":"IF(J781=\"\",\"\",VLOOKUP(J781,EventNPC!A:E,5,FALSE))","v":"风瑶"},5918,"（她顿了顿，似乎欲言又止）\n罢了，不说这些。你若有空，能帮我收集些风灵碎片吗？岛间风口常有碎片飘落，能助我稳固此地。",null,6021,4,{"$f":"_xlfn.TEXTJOIN(\";\",1,R781:S781)","v":""},null,null,{"$f":"IF(R781=\"\",\"\",\"-\"&VLOOKUP(R781,EventConditionConfig!A:C,3,FALSE)&IF(S781=\"\",\"\",CHAR(10)&\"-\"&VLOOKUP(S781,EventConditionConfig!A:C,3,FALSE)))","v":""},{"$f":"IF(Y781=\"\",\"\",IF(ISTEXT(Y781),1,2))","v":1},"602105","5919",{"$f":"IF(OR(ISNUMBER(Y781),Y781=\"\"),\"\",MAX(AL780,AL778,B781,D781,L781)+1)","v":5919},"好，我去试试。",null,{"$f":"IF(OR(ISNUMBER(AB781),AB781=\"\"),\"\",X781+1)","v":""},null,null,{"$f":"IF(OR(ISNUMBER(AE781),AE781=\"\"),\"\",AA781+1)","v":""},{"$nulls":4},{"$f":"IF(A781=\"\",\"\",IF(ISNUMBER(Y781),2,IF(A782=\"\",IF(OR(AK781>0,VLOOKUP(O781,EventConfig!A:C,3,FALSE)=4),3,\"\"),1)))","v":""},"",null,5919]
[null,"",null,"",{"$nulls":7},"",null,null,null,"",{"$nulls":5},{"$f":"IF(U782=1,_xlfn.TEXTJOIN(\";\",1,IF(Z782=\"\",A782+1,Z782),IF(AND(AA782<>\"\",AC782=\"\"),A782+1,AC782),IF(AND(AD782<>\"\",AF782=\"\"),A782+1,AF782)),IF(U782=2,Y782,\"\"))","v":""},{"$f":"_xlfn.TEXTJOIN(\";\",1,X782,AA782,AD782)","v":""},"",null,null,"",null,null,"",{"$nulls":4},{"$f":"IF(A782=\"\",\"\",IF(ISNUMBER(Y782),2,IF(A783=\"\",IF(OR(AK782>0,VLOOKUP(O782,EventConfig!A:C,3,FALSE)=4),3,\"\"),1)))","v":""},{"$f":"IF(AI782=\"\",\"\",CHOOSE(AI782,IF(AK782=\"\",A782+1,AK782),CONCATENATE(IF(AK782=\"\",A782+1,AK782),\";101\"),IF(AK782=\"\",O782+1,AK782)))","v":""},null,""]
[{"$f":"O783*100+P783","v":602201},5920,"收集风灵碎片","",{"$nulls":6},{"$f":"IF(J783=\"\",\"\",VLOOKUP(J783,EventNPC!A:E,5,FALSE))","v":""},5921,"你在浮空岛间御剑飞行，风啸耳边，碎片如流光散落。采集时，偶尔有小型风兽从漩涡中跃出，守护碎片。",null,6022,1,{"$f":"_xlfn.TEXTJOIN(\";\",1,R783:S783)","v":""},null,null,{"$f":"IF(R783=\"\",\"\",\"-\"&VLOOKUP(R783,EventConditionConfig!A:C,3,FALSE)&IF(S783=\"\",\"\",CHAR(10)&\"-\"&VLOOKUP(S783,EventConditionConfig!A:C,3,FALSE)))","v":""},{"$f":"IF(Y783=\"\",\"\",IF(ISTEXT(Y783),1,2))","v":""},"","","",null,null,"",null,null,"",{"$nulls":4},{"$f":"IF(A783=\"\",\"\",IF(ISNUMBER(Y783),2,IF(A784=\"\",IF(OR(AK783>0,VLOOKUP(O783,EventConfig!A:C,3,FALSE)=4),3,\"\"),1)))","v":1},602202,null,5921]
[{"$f":"O784*100+P784","v":602202},5920,"收集风灵碎片","",{"$nulls":5},100,{"$f":"IF(J784=\"\",\"\",VLOOKUP(J784,EventNPC!A:E,5,FALSE))","v":"玩家"},5922,"道友，这些碎片可够？",null,6022,2,{"$f":"_xlfn.TEXTJOIN(\";\",1,R784:S784)","v":"39"},39,null,{"$f":"IF(R784=\"\",\"\",\"-\"&VLOOKUP(R784,EventConditionConfig!A:C,3,FALSE)&IF(S784=\"\",\"\",CHAR(10)&\"-\"&VLOOKUP(S784,EventConditionConfig!A:C,3,FALSE)))","v":"-收集风灵碎片"},{"$f":"IF(Y784=\"\",\"\",IF(ISTEXT(Y784),1,2))","v":""},"","","",null,null,"",null,null,"",{"$nulls":4},{"$f":"IF(A784=\"\",\"\",IF(ISNUMBER(Y784),2,IF(A785=\"\",IF(OR(AK784>0,VLOOKUP(O784,EventConfig!A:C,3,FALSE)=4),3,\"\"),1)))","v":1},602203,null,5922]
[{"$f":"O785*100+P785","v":602203},5920,"收集风灵碎片","",{"$nulls":5},122,{"$f":"IF(J785=\"\",\"\",VLOOKUP(J785,EventNPC!A:E,5,FALSE))","v":"风瑶"},5923,"（接过碎片，眼中闪过一丝感激）多谢。这些碎片本是云隐宗的镇宗之宝的一部分，可惜散落了。",null,6022,3,{"$f":"_xlfn.TEXTJOIN(\";\",1,R785:S785)","v":""},null,null,{"$f":"IF(R785=\"\",\"\",\"-\"&VLOOKUP(R785,EventConditionConfig!A:C,3,FALSE)&IF(S785=\"\",\"\",CHAR(10)&\"-\"&VLOOKUP(S785,EventConditionConfig!A:C,3,FALSE)))","v":""},{"$f":"IF(Y785=\"\",\"\",IF(ISTEXT(Y785),1,2))","v":""},"","","",null,null,"",null,null,"",{"$nulls":4},{"$f":"IF(A785=\"\",\"\",IF(ISNUMBER(Y785),2,IF(A786=\"\",IF(OR(AK785>0,VLOOKUP(O785,EventConfig!A:C,3,FALSE)=4),3,\"\"),1)))","v":1},602204,null,5923]
[{"$f":"O786*100+P786","v":602204},5920,"收集风灵碎片","",{"$nulls":5},122,{"$f":"IF(J786=\"\",\"\",VLOOKUP(J786,EventNPC!A:E,5,FALSE))","v":"风瑶"},5924,"我在宗门时，无意中发现长老们在私下交易奇怪的灵石，似乎与外域势力有关……宗门一向清正，这事让我不安。",null,6022,4,{"$f":"_xlfn.TEXTJOIN(\";\",1,R786:S786)","v":""},null,null,{"$f":"IF(R786=\"\",\"\",\"-\"&VLOOKUP(R786,EventConditionConfig!A:C,3,FALSE)&IF(S786=\"\",\"\",CHAR(10)&\"-\"&VLOOKUP(S786,EventConditionConfig!A:C,3,FALSE)))","v":""},{"$f":"IF(Y786=\"\",\"\",IF(ISTEXT(Y786),1,2))","v":""},"","","",null,null,"",null,null,"",{"$nulls":4},{"$f":"IF(A786=\"\",\"\",IF(ISNUMBER(Y786),2,IF(A787=\"\",IF(OR(AK786>0,VLOOKUP(O786,EventConfig!A:C,3,FALSE)=4),3,\"\"),1)))","v":1},602205,null,5924]
[{"$f":"O787*100+P787","v":602205},5920,"收集风灵碎片","",{"$nulls":5},122,{"$f":"IF(J787=\"\",\"\",VLOOKUP(J787,EventNPC!A:E,5,FALSE))","v":"风瑶"},5925,"但我修为有限，无法深入查探。你看起来可靠，或许以后能帮我留意。",null,6022,5,{"$f":"_xlfn.TEXTJOIN(\";\",1,R787:S787)","v":""},null,null,{"$f":"IF(R787=\"\",\"\",\"-\"&VLOOKUP(R787,EventConditionConfig!A:C,3,FALSE)&IF(S787=\"\",\"\",CHAR(10)&\"-\"&VLOOKUP(S787,EventConditionConfig!A:C,3,FALSE)))","v":""},{"$f":"IF(Y787=\"\",\"\",IF(ISTEXT(Y787),1,2))","v":1},"602206","5926",5926,"云隐宗有何异常？",null,"",null,null,"",{"$nulls":4},{"$f":"IF(A787=\"\",\"\",IF(ISNUMBER(Y787),2,IF(A788=\"\",IF(OR(AK787>0,VLOOKUP(O787,EventConfig!A:C,3,FALSE)=4),3,\"\"),1)))","v":1},602206,null,5926]
[602206,5920,"收集风灵碎片","",{"$nulls":5},122,{"$f":"IF(J788=\"\",\"\",VLOOKUP(J788,EventNPC!A:E,5,FALSE))","v":"风瑶"},5927,"只是些小线索，比如长老们频繁外出，带回的灵石有魔气残留。但别担心，我会自己调查。",null,6022,6,"",null,null,{"$f":"IF(R788=\"\",\"\",\"-\"&VLOOKUP(R788,EventConditionConfig!A:C,3,FALSE)&IF(S788=\"\",\"\",CHAR(10)&\"-\"&VLOOKUP(S788,EventConditionConfig!A:C,3,FALSE)))","v":""},"","","","",null,null,"",null,null,"",{"$nulls":4},{"$f":"IF(A788=\"\",\"\",IF(ISNUMBER(Y788),2,IF(A789=\"\",IF(OR(AK788>0,VLOOKUP(O788,EventConfig!A:C,3,FALSE)=4),3,\"\"),1)))","v":""},"",null,5927]
[null,"",null,"",{"$nulls":7},"",null,null,null,"",{"$nulls":5},"","","",null,null,"",null,null,"",{"$nulls":4},{"$f":"IF(A789=\"\",\"\",IF(ISNUMBER(Y789),2,IF(A790=\"\",IF(OR(AK789>0,VLOOKUP(O789,EventConfig!A:C,3,FALSE)=4),3,\"\"),1)))","v":""},"",null,""]
[{"$f":"O790*100+P790","v":602301},5928,"向风瑶报告你打听到的传闻","",{"$nulls":5},122,{"$f":"IF(J790=\"\",\"\",VLOOKUP(J790,EventNPC!A:E,5,FALSE))","v":"风瑶"},5929,"多谢上次的碎片。我最近听到风中传来的传闻，云隐宗附近有不明修士出没。\n你能帮我打听一下吗？",null,6023,1,{"$f":"_xlfn.TEXTJOIN(\";\",1,R790:S790)","v":""},null,null,{"$f":"IF(R790=\"\",\"\",\"-\"&VLOOKUP(R790,EventConditionConfig!A:C,3,FALSE)&IF(S790=\"\",\"\",CHAR(10)&\"-\"&VLOOKUP(S790,EventConditionConfig!A:C,3,FALSE)))","v":""},{"$f":"IF(Y790=\"\",\"\",IF(ISTEXT(Y790),1,2))","v":""},"","","",null,null,"",null,null,"",{"$nulls":4},{"$f":"IF(A790=\"\",\"\",IF(ISNUMBER(Y790),2,IF(A791=\"\",IF(OR(AK790>0,VLOOKUP(O790,EventConfig!A:C,3,FALSE)=4),3,\"\"),1)))","v":1},602302,null,5929]
[{"$f":"O791*100+P791","v":602302},5928,"向风瑶报告你打听到的传闻","",{"$nulls":5},100,{"$f":"IF(J791=\"\",\"\",VLOOKUP(J791,EventNPC!A:E,5,FALSE))","v":"玩家"},5930,"（返回报告）道友，我听说了这些信息……",null,6023,2,{"$f":"_xlfn.TEXTJOIN(\";\",1,R791:S791)","v":"40"},40,null,{"$f":"IF(R791=\"\",\"\",\"-\"&VLOOKUP(R791,EventConditionConfig!A:C,3,FALSE)&IF(S791=\"\",\"\",CHAR(10)&\"-\"&VLOOKUP(S791,EventConditionConfig!A:C,3,FALSE)))","v":"-完成神识探索-云隐秘闻"},{"$f":"IF(Y791=\"\",\"\",IF(ISTEXT(Y791),1,2))","v":""},"","","",null,null,"",null,null,"",{"$nulls":4},{"$f":"IF(A791=\"\",\"\",IF(ISNUMBER(Y791),2,IF(A792=\"\",IF(OR(AK791>0,VLOOKUP(O791,EventConfig!A:C,3,FALSE)=4),3,\"\"),1)))","v":1},602303,null,5930]
[602303,5928,"向风瑶报告你打听到的传闻","",{"$nulls":5},122,{"$f":"IF(J792=\"\",\"\",VLOOKUP(J792,EventNPC!A:E,5,FALSE))","v":"风瑶"},5931,"（眉头紧锁，眼中闪过忧虑）果然不对劲。长老们可能在暗中与魔修勾结，但证据不足。我不能贸然回去，得再想想办法。",null,6023,3,"",null,null,{"$f":"IF(R792=\"\",\"\",\"-\"&VLOOKUP(R792,EventConditionConfig!A:C,3,FALSE)&IF(S792=\"\",\"\",CHAR(10)&\"-\"&VLOOKUP(S792,EventConditionConfig!A:C,3,FALSE)))","v":""},"","","","",null,null,"",null,null,"",{"$nulls":4},{"$f":"IF(A792=\"\",\"\",IF(ISNUMBER(Y792),2,IF(A793=\"\",IF(OR(AK792>0,VLOOKUP(O792,EventConfig!A:C,3,FALSE)=4),3,\"\"),1)))","v":""},"",null,5931]
[null,"",null,"",{"$nulls":7},"",null,null,null,"",{"$nulls":5},"","","",null,null,"",null,null,"",{"$nulls":4},{"$f":"IF(A793=\"\",\"\",IF(ISNUMBER(Y793),2,IF(A794=\"\",IF(OR(AK793>0,VLOOKUP(O793,EventConfig!A:C,3,FALSE)=4),3,\"\"),1)))","v":""},"",null,""]
[{"$f":"O794*100+P794","v":602401},5932,"收集岛屿灵石","",{"$nulls":5},122,{"$f":"IF(J794=\"\",\"\",VLOOKUP(J794,EventNPC!A:E,5,FALSE))","v":"风瑶"},5933,"那些情报让我更担心了。云隐宗的岛屿灵石本是纯净之物，若有魔气残留，必有大问题。",null,6024,1,{"$f":"_xlfn.TEXTJOIN(\";\",1,R794:S794)","v":""},null,null,{"$f":"IF(R794=\"\",\"\",\"-\"&VLOOKUP(R794,EventConditionConfig!A:C,3,FALSE)&IF(S794=\"\",\"\",CHAR(10)&\"-\"&VLOOKUP(S794,EventConditionConfig!A:C,3,FALSE)))","v":""},{"$f":"IF(Y794=\"\",\"\",IF(ISTEXT(Y794),1,2))","v":""},"","","",null,null,"",null,null,"",{"$nulls":4},{"$f":"IF(A794=\"\",\"\",IF(ISNUMBER(Y794),2,IF(A795=\"\",IF(OR(AK794>0,VLOOKUP(O794,EventConfig!A:C,3,FALSE)=4),3,\"\"),1)))","v":1},602402,null,5933]
[{"$f":"O795*100+P795","v":602402},5932,"收集岛屿灵石","",{"$nulls":5},122,{"$f":"IF(J795=\"\",\"\",VLOOKUP(J795,EventNPC!A:E,5,FALSE))","v":"风瑶"},5934,"你能帮我猎杀些一些妖兽吗？它们常吞食飘落的灵石，或许能从中找到线索。",null,6024,2,{"$f":"_xlfn.TEXTJOIN(\";\",1,R795:S795)","v":""},null,null,{"$f":"IF(R795=\"\",\"\",\"-\"&VLOOKUP(R795,EventConditionConfig!A:C,3,FALSE)&IF(S795=\"\",\"\",CHAR(10)&\"-\"&VLOOKUP(S795,EventConditionConfig!A:C,3,FALSE)))","v":""},{"$f":"IF(Y795=\"\",\"\",IF(ISTEXT(Y795),1,2))","v":""},"","","",null,null,"",null,null,"",{"$nulls":4},{"$f":"IF(A795=\"\",\"\",IF(ISNUMBER(Y795),2,IF(A796=\"\",IF(OR(AK795>0,VLOOKUP(O795,EventConfig!A:C,3,FALSE)=4),3,\"\"),1)))","v":1},602403,null,5934]
[{"$f":"O796*100+P796","v":602403},5932,"收集岛屿灵石","",{"$nulls":5},100,{"$f":"IF(J796=\"\",\"\",VLOOKUP(J796,EventNPC!A:E,5,FALSE))","v":"玩家"},5935,"从妖兽身上找到了这些浮岛灵石。",null,6024,{"$f":"IF(O796=\"\",\"\",IF(O796=O795,P795+1,1))","v":3},{"$f":"_xlfn.TEXTJOIN(\";\",1,R796:S796)","v":"41"},41,null,{"$f":"IF(R796=\"\",\"\",\"-\"&VLOOKUP(R796,EventConditionConfig!A:C,3,FALSE)&IF(S796=\"\",\"\",CHAR(10)&\"-\"&VLOOKUP(S796,EventConditionConfig!A:C,3,FALSE)))","v":"-完成神识探索-误食灵石的妖兽"},{"$f":"IF(Y796=\"\",\"\",IF(ISTEXT(Y796),1,2))","v":""},"","","",null,null,"",null,null,"",{"$nulls":4},{"$f":"IF(A796=\"\",\"\",IF(ISNUMBER(Y796),2,IF(A797=\"\",IF(OR(AK796>0,VLOOKUP(O796,EventConfig!A:C,3,FALSE)=4),3,\"\"),1)))","v":1},602404,null,5935]
[602404,5932,"收集岛屿灵石","",{"$nulls":5},122,{"$f":"IF(J797=\"\",\"\",VLOOKUP(J797,EventNPC!A:E,5,FALSE))","v":"风瑶"},5936,"（仔细检查，脸色微变）这黑纹……是云隐宗禁地阵法的痕迹！\n长老们可能在用阵法掩盖什么。",null,6024,4,"",null,null,{"$f":"IF(R797=\"\",\"\",\"-\"&VLOOKUP(R797,EventConditionConfig!A:C,3,FALSE)&IF(S797=\"\",\"\",CHAR(10)&\"-\"&VLOOKUP(S797,EventConditionConfig!A:C,3,FALSE)))","v":""},"","","","",null,null,"",null,null,"",{"$nulls":4},{"$f":"IF(A797=\"\",\"\",IF(ISNUMBER(Y797),2,IF(A798=\"\",IF(OR(AK797>0,VLOOKUP(O797,EventConfig!A:C,3,FALSE)=4),3,\"\"),1)))","v":""},"",null,5936]
[null,"",null,"",{"$nulls":7},"",null,null,null,"",{"$nulls":5},"","","",null,null,"",null,null,"",{"$nulls":4},{"$f":"IF(A798=\"\",\"\",IF(ISNUMBER(Y798),2,IF(A799=\"\",IF(OR(AK798>0,VLOOKUP(O798,EventConfig!A:C,3,FALSE)=4),3,\"\"),1)))","v":""},"",null,""]
[{"$f":"O799*100+P799","v":602501},5937,"探索神识获得密信","",{"$nulls":5},122,{"$f":"IF(J799=\"\",\"\",VLOOKUP(J799,EventNPC!A:E,5,FALSE))","v":"风瑶"},5938,"我利用阵法放大了我的神识。捕捉到一缕从云隐宗方向飘来的风信。里面可能有长老的密信，你能帮我截获吗？",null,6025,1,{"$f":"_xlfn.TEXTJOIN(\";\",1,R799:S799)","v":""},null,null,{"$f":"IF(R799=\"\",\"\",\"-\"&VLOOKUP(R799,EventConditionConfig!A:C,3,FALSE)&IF(S799=\"\",\"\",CHAR(10)&\"-\"&VLOOKUP(S799,EventConditionConfig!A:C,3,FALSE)))","v":""},{"$f":"IF(Y799=\"\",\"\",IF(ISTEXT(Y799),1,2))","v":1},"602502","5939",5939,"好的，我试试。",null,"",null,null,"",{"$nulls":4},{"$f":"IF(A799=\"\",\"\",IF(ISNUMBER(Y799),2,IF(A800=\"\",IF(OR(AK799>0,VLOOKUP(O799,EventConfig!A:C,3,FALSE)=4),3,\"\"),1)))","v":1},602502,null,5939]
[{"$f":"O800*100+P800","v":602502},5940,"击败信使","",{"$nulls":6},{"$f":"IF(J800=\"\",\"\",VLOOKUP(J800,EventNPC!A:E,5,FALSE))","v":""},"",null,null,6025,2,{"$f":"_xlfn.TEXTJOIN(\";\",1,R800:S800)","v":"42"},42,null,{"$f":"IF(R800=\"\",\"\",\"-\"&VLOOKUP(R800,EventConditionConfig!A:C,3,FALSE)&IF(S800=\"\",\"\",CHAR(10)&\"-\"&VLOOKUP(S800,EventConditionConfig!A:C,3,FALSE)))","v":"-完成神识探索-云隐宗长老密信"},{"$f":"IF(Y800=\"\",\"\",IF(ISTEXT(Y800),1,2))","v":1},"602503","5941",5941,"找到一封信，你看看。",null,"",null,null,"",{"$nulls":4},{"$f":"IF(A800=\"\",\"\",IF(ISNUMBER(Y800),2,IF(A801=\"\",IF(OR(AK800>0,VLOOKUP(O800,EventConfig!A:C,3,FALSE)=4),3,\"\"),1)))","v":1},602503,null,5941]
[602503,5942,"探索神识获得密信","",{"$nulls":5},122,{"$f":"IF(J801=\"\",\"\",VLOOKUP(J801,EventNPC!A:E,5,FALSE))","v":"风瑶"},5943,"（震惊，但保持冷静）果然有大长老在修炼禁术。\n但信中没提阵法细节，看来长老们野心不小，去帮我找兄长！",null,6025,3,"",null,null,{"$f":"IF(R801=\"\",\"\",\"-\"&VLOOKUP(R801,EventConditionConfig!A:C,3,FALSE)&IF(S801=\"\",\"\",CHAR(10)&\"-\"&VLOOKUP(S801,EventConditionConfig!A:C,3,FALSE)))","v":""},"","","","",null,null,"",null,null,"",{"$nulls":4},{"$f":"IF(A801=\"\",\"\",IF(ISNUMBER(Y801),2,IF(A802=\"\",IF(OR(AK801>0,VLOOKUP(O801,EventConfig!A:C,3,FALSE)=4),3,\"\"),1)))","v":""},"",null,5943]
[null,{"$f":"IF(C802=\"\",\"\",IF(C802=C801,B801,MAX(AL801,AL800)+1))","v":""},null,"",{"$nulls":7},"",null,null,null,"",{"$nulls":5},"","","",null,null,"",null,null,"",{"$nulls":4},{"$f":"IF(A802=\"\",\"\",IF(ISNUMBER(Y802),2,IF(A803=\"\",IF(OR(AK802>0,VLOOKUP(O802,EventConfig!A:C,3,FALSE)=4),3,\"\"),1)))","v":""},"",null,""]
[{"$f":"O803*100+P803","v":602601},5944,"完成与风瑶和疯道人的三方对话","",{"$nulls":6},{"$f":"IF(J803=\"\",\"\",VLOOKUP(J803,EventNPC!A:E,5,FALSE))","v":""},5945,"你找到疯道人，带他来见风瑶。（三人聚于岛边）",null,6026,1,{"$f":"_xlfn.TEXTJOIN(\";\",1,R803:S803)","v":""},null,null,{"$f":"IF(R803=\"\",\"\",\"-\"&VLOOKUP(R803,EventConditionConfig!A:C,3,FALSE)&IF(S803=\"\",\"\",CHAR(10)&\"-\"&VLOOKUP(S803,EventConditionConfig!A:C,3,FALSE)))","v":""},{"$f":"IF(Y803=\"\",\"\",IF(ISTEXT(Y803),1,2))","v":""},"","","",null,null,"",null,null,"",{"$nulls":4},{"$f":"IF(A803=\"\",\"\",IF(ISNUMBER(Y803),2,IF(A804=\"\",IF(OR(AK803>0,VLOOKUP(O803,EventConfig!A:C,3,FALSE)=4),3,\"\"),1)))","v":1},602602,null,5945]
[{"$f":"O804*100+P804","v":602602},5944,"完成与风瑶和疯道人的三方对话","",{"$nulls":5},122,{"$f":"IF(J804=\"\",\"\",VLOOKUP(J804,EventNPC!A:E,5,FALSE))","v":"风瑶"},5946,"这些线索让我害怕……",null,6026,2,{"$f":"_xlfn.TEXTJOIN(\";\",1,R804:S804)","v":""},null,null,{"$f":"IF(R804=\"\",\"\",\"-\"&VLOOKUP(R804,EventConditionConfig!A:C,3,FALSE)&IF(S804=\"\",\"\",CHAR(10)&\"-\"&VLOOKUP(S804,EventConditionConfig!A:C,3,FALSE)))","v":""},{"$f":"IF(Y804=\"\",\"\",IF(ISTEXT(Y804),1,2))","v":""},"","","",null,null,"",null,null,"",{"$nulls":4},{"$f":"IF(A804=\"\",\"\",IF(ISNUMBER(Y804),2,IF(A805=\"\",IF(OR(AK804>0,VLOOKUP(O804,EventConfig!A:C,3,FALSE)=4),3,\"\"),1)))","v":1},602603,null,5946]
[{"$f":"O805*100+P805","v":602603},5944,"完成与风瑶和疯道人的三方对话","",{"$nulls":5},103,{"$f":"IF(J805=\"\",\"\",VLOOKUP(J805,EventNPC!A:E,5,FALSE))","v":"疯道人"},5947,"妹妹，你又在查云隐宗的事？那地方，早就不干净了。",null,6026,3,{"$f":"_xlfn.TEXTJOIN(\";\",1,R805:S805)","v":""},null,null,{"$f":"IF(R805=\"\",\"\",\"-\"&VLOOKUP(R805,EventConditionConfig!A:C,3,FALSE)&IF(S805=\"\",\"\",CHAR(10)&\"-\"&VLOOKUP(S805,EventConditionConfig!A:C,3,FALSE)))","v":""},{"$f":"IF(Y805=\"\",\"\",IF(ISTEXT(Y805),1,2))","v":""},"","","",null,null,"",null,null,"",{"$nulls":4},{"$f":"IF(A805=\"\",\"\",IF(ISNUMBER(Y805),2,IF(A806=\"\",IF(OR(AK805>0,VLOOKUP(O805,EventConfig!A:C,3,FALSE)=4),3,\"\"),1)))","v":1},602604,null,5947]
[602604,5944,"完成与风瑶和疯道人的三方对话","",{"$nulls":5},122,{"$f":"IF(J806=\"\",\"\",VLOOKUP(J806,EventNPC!A:E,5,FALSE))","v":"风瑶"},5948,"兄长，你知道？他们与魔修勾结！",null,6026,4,"",null,null,{"$f":"IF(R806=\"\",\"\",\"-\"&VLOOKUP(R806,EventConditionConfig!A:C,3,FALSE)&IF(S806=\"\",\"\",CHAR(10)&\"-\"&VLOOKUP(S806,EventConditionConfig!A:C,3,FALSE)))","v":""},"","","","",null,null,"",null,null,"",{"$nulls":4},{"$f":"IF(A806=\"\",\"\",IF(ISNUMBER(Y806),2,IF(A807=\"\",IF(OR(AK806>0,VLOOKUP(O806,EventConfig!A:C,3,FALSE)=4),3,\"\"),1)))","v":1},602605,null,5948]
[{"$f":"O807*100+P807","v":602605},5944,"完成与风瑶和疯道人的三方对话","",{"$nulls":5},103,{"$f":"IF(J807=\"\",\"\",VLOOKUP(J807,EventNPC!A:E,5,FALSE))","v":"疯道人"},5949,"（叹息）我早有察觉，当年离开宗门，就是因为长老们开始炼制诡丹，借宗门资源为私。\n我无意参与斗争，因此离开。",null,6026,5,{"$f":"_xlfn.TEXTJOIN(\";\",1,R807:S807)","v":""},null,null,{"$f":"IF(R807=\"\",\"\",\"-\"&VLOOKUP(R807,EventConditionConfig!A:C,3,FALSE)&IF(S807=\"\",\"\",CHAR(10)&\"-\"&VLOOKUP(S807,EventConditionConfig!A:C,3,FALSE)))","v":""},{"$f":"IF(Y807=\"\",\"\",IF(ISTEXT(Y807),1,2))","v":1},"602606","5950",5950,"我们该如何应对？",null,"",null,null,"",{"$nulls":4},{"$f":"IF(A807=\"\",\"\",IF(ISNUMBER(Y807),2,IF(A808=\"\",IF(OR(AK807>0,VLOOKUP(O807,EventConfig!A:C,3,FALSE)=4),3,\"\"),1)))","v":1},602606,null,5950]
[602606,5944,"完成与风瑶和疯道人的三方对话","",{"$nulls":5},122,{"$f":"IF(J808=\"\",\"\",VLOOKUP(J808,EventNPC!A:E,5,FALSE))","v":"风瑶"},5951,"（坚定）不能就这样不管！",null,6026,6,"",null,null,{"$f":"IF(R808=\"\",\"\",\"-\"&VLOOKUP(R808,EventConditionConfig!A:C,3,FALSE)&IF(S808=\"\",\"\",CHAR(10)&\"-\"&VLOOKUP(S808,EventConditionConfig!A:C,3,FALSE)))","v":""},"","","","",null,null,"",null,null,"",{"$nulls":4},{"$f":"IF(A808=\"\",\"\",IF(ISNUMBER(Y808),2,IF(A809=\"\",IF(OR(AK808>0,VLOOKUP(O808,EventConfig!A:C,3,FALSE)=4),3,\"\"),1)))","v":1},602607,null,5951]
[602607,{"$f":"IF(C809=\"\",\"\",IF(C809=C808,B808,MAX(AL808,AL807)+1))","v":5944},"完成与风瑶和疯道人的三方对话","",{"$nulls":5},103,{"$f":"IF(J809=\"\",\"\",VLOOKUP(J809,EventNPC!A:E,5,FALSE))","v":"疯道人"},5952,"小友，你走吧，云隐宗的事，别卷太深。",null,6026,7,"",null,null,{"$f":"IF(R809=\"\",\"\",\"-\"&VLOOKUP(R809,EventConditionConfig!A:C,3,FALSE)&IF(S809=\"\",\"\",CHAR(10)&\"-\"&VLOOKUP(S809,EventConditionConfig!A:C,3,FALSE)))","v":""},"","","","",null,null,"",null,null,"",{"$nulls":4},{"$f":"IF(A809=\"\",\"\",IF(ISNUMBER(Y809),2,IF(A810=\"\",IF(OR(AK809>0,VLOOKUP(O809,EventConfig!A:C,3,FALSE)=4),3,\"\"),1)))","v":""},"",null,5952]
[null,"",null,"",{"$nulls":7},"",null,null,null,"",{"$nulls":5},"","","",null,null,"",null,null,"",{"$nulls":4},{"$f":"IF(A810=\"\",\"\",IF(ISNUMBER(Y810),2,IF(A811=\"\",IF(OR(AK810>0,VLOOKUP(O810,EventConfig!A:C,3,FALSE)=4),3,\"\"),1)))","v":""},"",null,""]
[{"$f":"O811*100+P811","v":603101},5953,"完成所有对话","",{"$nulls":6},{"$f":"IF(J811=\"\",\"\",VLOOKUP(J811,EventNPC!A:E,5,FALSE))","v":""},5954,"你沿着溪水小径前行，一位纤细优雅的女子正弯腰采摘溪边灵草，她的浅褐长发如藤蔓般垂落，眼睛柔和宁静。她抬起头，微微一笑，仿佛山林中的一缕清风。",null,6031,1,{"$f":"_xlfn.TEXTJOIN(\";\",1,R811:S811)","v":""},null,null,{"$f":"IF(R811=\"\",\"\",\"-\"&VLOOKUP(R811,EventConditionConfig!A:C,3,FALSE)&IF(S811=\"\",\"\",CHAR(10)&\"-\"&VLOOKUP(S811,EventConditionConfig!A:C,3,FALSE)))","v":""},{"$f":"IF(Y811=\"\",\"\",IF(ISTEXT(Y811),1,2))","v":""},"","","",null,null,"",null,null,"",{"$nulls":4},{"$f":"IF(A811=\"\",\"\",IF(ISNUMBER(Y811),2,IF(A812=\"\",IF(OR(AK811>0,VLOOKUP(O811,EventConfig!A:C,3,FALSE)=4),3,\"\"),1)))","v":1},603102,null,5954]
[{"$f":"O812*100+P812","v":603102},5953,"完成所有对话","",{"$nulls":5},100,{"$f":"IF(J812=\"\",\"\",VLOOKUP(J812,EventNPC!A:E,5,FALSE))","v":"玩家"},5955,"敢问道友是？",null,6031,2,{"$f":"_xlfn.TEXTJOIN(\";\",1,R812:S812)","v":""},null,null,{"$f":"IF(R812=\"\",\"\",\"-\"&VLOOKUP(R812,EventConditionConfig!A:C,3,FALSE)&IF(S812=\"\",\"\",CHAR(10)&\"-\"&VLOOKUP(S812,EventConditionConfig!A:C,3,FALSE)))","v":""},{"$f":"IF(Y812=\"\",\"\",IF(ISTEXT(Y812),1,2))","v":""},"","","",null,null,"",null,null,"",{"$nulls":4},{"$f":"IF(A812=\"\",\"\",IF(ISNUMBER(Y812),2,IF(A813=\"\",IF(OR(AK812>0,VLOOKUP(O812,EventConfig!A:C,3,FALSE)=4),3,\"\"),1)))","v":1},603103,null,5955]
[{"$f":"O813*100+P813","v":603103},5953,"完成所有对话","",{"$nulls":5},5,{"$f":"IF(J813=\"\",\"\",VLOOKUP(J813,EventNPC!A:E,5,FALSE))","v":"婉溪"},5956,"（温和地直起身，声音如溪水潺潺）我是婉溪，兄长的妹妹。这里是幽山秘境，我们家族世代隐居于此，守护着一些古老的灵植。",null,6031,3,{"$f":"_xlfn.TEXTJOIN(\";\",1,R813:S813)","v":""},null,null,{"$f":"IF(R813=\"\",\"\",\"-\"&VLOOKUP(R813,EventConditionConfig!A:C,3,FALSE)&IF(S813=\"\",\"\",CHAR(10)&\"-\"&VLOOKUP(S813,EventConditionConfig!A:C,3,FALSE)))","v":""},{"$f":"IF(Y813=\"\",\"\",IF(ISTEXT(Y813),1,2))","v":""},"","","",null,null,"",null,null,"",{"$nulls":4},{"$f":"IF(A813=\"\",\"\",IF(ISNUMBER(Y813),2,IF(A814=\"\",IF(OR(AK813>0,VLOOKUP(O813,EventConfig!A:C,3,FALSE)=4),3,\"\"),1)))","v":1},603104,null,5956]
[{"$f":"O814*100+P814","v":603104},5953,"完成所有对话","",{"$nulls":5},5,{"$f":"IF(J814=\"\",\"\",VLOOKUP(J814,EventNPC!A:E,5,FALSE))","v":"婉溪"},5957,"我平日帮兄长劳作，种些茶草，煮些清茶。",null,6031,4,{"$f":"_xlfn.TEXTJOIN(\";\",1,R814:S814)","v":""},null,null,{"$f":"IF(R814=\"\",\"\",\"-\"&VLOOKUP(R814,EventConditionConfig!A:C,3,FALSE)&IF(S814=\"\",\"\",CHAR(10)&\"-\"&VLOOKUP(S814,EventConditionConfig!A:C,3,FALSE)))","v":""},{"$f":"IF(Y814=\"\",\"\",IF(ISTEXT(Y814),1,2))","v":""},"","","",null,null,"",null,null,"",{"$nulls":4},{"$f":"IF(A814=\"\",\"\",IF(ISNUMBER(Y814),2,IF(A815=\"\",IF(OR(AK814>0,VLOOKUP(O814,EventConfig!A:C,3,FALSE)=4),3,\"\"),1)))","v":1},603105,null,5957]
[{"$f":"O815*100+P815","v":603105},5953,"完成所有对话","",{"$nulls":5},5,{"$f":"IF(J815=\"\",\"\",VLOOKUP(J815,EventNPC!A:E,5,FALSE))","v":"婉溪"},5958,"你是外来游历的修士吧？山林幽静，少有客人。",null,6031,5,{"$f":"_xlfn.TEXTJOIN(\";\",1,R815:S815)","v":""},null,null,{"$f":"IF(R815=\"\",\"\",\"-\"&VLOOKUP(R815,EventConditionConfig!A:C,3,FALSE)&IF(S815=\"\",\"\",CHAR(10)&\"-\"&VLOOKUP(S815,EventConditionConfig!A:C,3,FALSE)))","v":""},{"$f":"IF(Y815=\"\",\"\",IF(ISTEXT(Y815),1,2))","v":1},"603106;603106","5959;5960",5959,"是的，我在寻七道心境。",null,5960,"许由前辈让我帮忙开辟灵田。",null,"",{"$nulls":4},{"$f":"IF(A815=\"\",\"\",IF(ISNUMBER(Y815),2,IF(A816=\"\",IF(OR(AK815>0,VLOOKUP(O815,EventConfig!A:C,3,FALSE)=4),3,\"\"),1)))","v":1},603106,null,5960]
[603106,5953,"完成所有对话","",{"$nulls":5},5,{"$f":"IF(J816=\"\",\"\",VLOOKUP(J816,EventNPC!A:E,5,FALSE))","v":"婉溪"},5961,"（轻笑）兄长总爱麻烦人……不过你来得巧，我正缺些帮手。溪边灵田的种子发芽了，但需人照料。",null,6031,6,"",null,null,{"$f":"IF(R816=\"\",\"\",\"-\"&VLOOKUP(R816,EventConditionConfig!A:C,3,FALSE)&IF(S816=\"\",\"\",CHAR(10)&\"-\"&VLOOKUP(S816,EventConditionConfig!A:C,3,FALSE)))","v":""},"","","","",null,null,"",null,null,"",{"$nulls":4},{"$f":"IF(A816=\"\",\"\",IF(ISNUMBER(Y816),2,IF(A817=\"\",IF(OR(AK816>0,VLOOKUP(O816,EventConfig!A:C,3,FALSE)=4),3,\"\"),1)))","v":1},603107,null,5961]
[{"$f":"O817*100+P817","v":603107},5953,"完成所有对话","",{"$nulls":5},5,{"$f":"IF(J817=\"\",\"\",VLOOKUP(J817,EventNPC!A:E,5,FALSE))","v":"婉溪"},5962,"你若不介意，能帮我浇灌一下吗？，我请你喝杯茶。",null,6031,7,{"$f":"_xlfn.TEXTJOIN(\";\",1,R817:S817)","v":""},null,null,{"$f":"IF(R817=\"\",\"\",\"-\"&VLOOKUP(R817,EventConditionConfig!A:C,3,FALSE)&IF(S817=\"\",\"\",CHAR(10)&\"-\"&VLOOKUP(S817,EventConditionConfig!A:C,3,FALSE)))","v":""},{"$f":"IF(Y817=\"\",\"\",IF(ISTEXT(Y817),1,2))","v":""},"","","",null,null,"",null,null,"",{"$nulls":4},{"$f":"IF(A817=\"\",\"\",IF(ISNUMBER(Y817),2,IF(A818=\"\",IF(OR(AK817>0,VLOOKUP(O817,EventConfig!A:C,3,FALSE)=4),3,\"\"),1)))","v":1},603108,null,5962]
[603108,5953,"完成所有对话","",{"$nulls":5},100,{"$f":"IF(J818=\"\",\"\",VLOOKUP(J818,EventNPC!A:E,5,FALSE))","v":"玩家"},5963,"（又喝茶...）\n乐意效劳。",null,6031,8,"",null,null,{"$f":"IF(R818=\"\",\"\",\"-\"&VLOOKUP(R818,EventConditionConfig!A:C,3,FALSE)&IF(S818=\"\",\"\",CHAR(10)&\"-\"&VLOOKUP(S818,EventConditionConfig!A:C,3,FALSE)))","v":""},"","","","",null,null,"",null,null,"",{"$nulls":4},{"$f":"IF(A818=\"\",\"\",IF(ISNUMBER(Y818),2,IF(A819=\"\",IF(OR(AK818>0,VLOOKUP(O818,EventConfig!A:C,3,FALSE)=4),3,\"\"),1)))","v":""},"",null,5963]
[null,"",null,"",{"$nulls":7},"",null,null,null,"",{"$nulls":5},"","","",null,null,"",null,null,"",{"$nulls":4},{"$f":"IF(A819=\"\",\"\",IF(ISNUMBER(Y819),2,IF(A820=\"\",IF(OR(AK819>0,VLOOKUP(O819,EventConfig!A:C,3,FALSE)=4),3,\"\"),1)))","v":""},"",null,""]
[{"$f":"O820*100+P820","v":603201},5964,"浇灌灵田 ","",{"$nulls":6},{"$f":"IF(J820=\"\",\"\",VLOOKUP(J820,EventNPC!A:E,5,FALSE))","v":""},5965,"你跟随婉溪来到溪边灵田，新芽嫩绿，灵气缭绕。\n她递给你一个玉瓢，教你如何用溪水滋养，避免惊扰灵根。",null,6032,1,{"$f":"_xlfn.TEXTJOIN(\";\",1,R820:S820)","v":""},null,null,{"$f":"IF(R820=\"\",\"\",\"-\"&VLOOKUP(R820,EventConditionConfig!A:C,3,FALSE)&IF(S820=\"\",\"\",CHAR(10)&\"-\"&VLOOKUP(S820,EventConditionConfig!A:C,3,FALSE)))","v":""},{"$f":"IF(Y820=\"\",\"\",IF(ISTEXT(Y820),1,2))","v":""},"","","",null,null,"",null,null,"",{"$nulls":4},{"$f":"IF(A820=\"\",\"\",IF(ISNUMBER(Y820),2,IF(A821=\"\",IF(OR(AK820>0,VLOOKUP(O820,EventConfig!A:C,3,FALSE)=4),3,\"\"),1)))","v":1},603202,null,5965]
[{"$f":"O821*100+P821","v":603202},5964,"浇灌灵田 ","",{"$nulls":5},5,{"$f":"IF(J821=\"\",\"\",VLOOKUP(J821,EventNPC!A:E,5,FALSE))","v":"婉溪"},5966,"这灵田是我们家族的传承，种的茶草能酿出清心茶。\n可否帮我浇浇水。",null,6032,2,{"$f":"_xlfn.TEXTJOIN(\";\",1,R821:S821)","v":""},null,null,{"$f":"IF(R821=\"\",\"\",\"-\"&VLOOKUP(R821,EventConditionConfig!A:C,3,FALSE)&IF(S821=\"\",\"\",CHAR(10)&\"-\"&VLOOKUP(S821,EventConditionConfig!A:C,3,FALSE)))","v":""},{"$f":"IF(Y821=\"\",\"\",IF(ISTEXT(Y821),1,2))","v":1},"603203","5967",5967,"好的，我去浇水",null,"",null,null,"",{"$nulls":4},{"$f":"IF(A821=\"\",\"\",IF(ISNUMBER(Y821),2,IF(A822=\"\",IF(OR(AK821>0,VLOOKUP(O821,EventConfig!A:C,3,FALSE)=4),3,\"\"),1)))","v":1},603203,null,5967]
[{"$f":"O822*100+P822","v":603203},5964,"浇灌灵田 ","",{"$nulls":6},{"$f":"IF(J822=\"\",\"\",VLOOKUP(J822,EventNPC!A:E,5,FALSE))","v":""},5968,"玩家看到水面映出自己的镜像，从忙碌御剑到悠闲品茶，镜像模糊后消散。\n（这水中的影子……像是我，却又不像。）",null,6032,3,{"$f":"_xlfn.TEXTJOIN(\";\",1,R822:S822)","v":""},null,null,{"$f":"IF(R822=\"\",\"\",\"-\"&VLOOKUP(R822,EventConditionConfig!A:C,3,FALSE)&IF(S822=\"\",\"\",CHAR(10)&\"-\"&VLOOKUP(S822,EventConditionConfig!A:C,3,FALSE)))","v":""},{"$f":"IF(Y822=\"\",\"\",IF(ISTEXT(Y822),1,2))","v":1},"603204","5969",5969,"灵田已浇灌好",null,"",null,null,"",{"$nulls":4},{"$f":"IF(A822=\"\",\"\",IF(ISNUMBER(Y822),2,IF(A823=\"\",IF(OR(AK822>0,VLOOKUP(O822,EventConfig!A:C,3,FALSE)=4),3,\"\"),1)))","v":1},603204,null,5969]
[603204,5964,"浇灌灵田 ","",{"$nulls":5},5,{"$f":"IF(J823=\"\",\"\",VLOOKUP(J823,EventNPC!A:E,5,FALSE))","v":"婉溪"},5970,"（检查后）多谢，来尝尝我煮的灵茶。",null,6032,4,"",null,null,{"$f":"IF(R823=\"\",\"\",\"-\"&VLOOKUP(R823,EventConditionConfig!A:C,3,FALSE)&IF(S823=\"\",\"\",CHAR(10)&\"-\"&VLOOKUP(S823,EventConditionConfig!A:C,3,FALSE)))","v":""},"","","","",null,null,"",null,null,"",{"$nulls":4},{"$f":"IF(A823=\"\",\"\",IF(ISNUMBER(Y823),2,IF(A824=\"\",IF(OR(AK823>0,VLOOKUP(O823,EventConfig!A:C,3,FALSE)=4),3,\"\"),1)))","v":""},"",null,5970]
[null,"",null,"",{"$nulls":7},"",null,null,null,"",{"$nulls":5},"","","",null,null,"",null,null,"",{"$nulls":4},{"$f":"IF(A824=\"\",\"\",IF(ISNUMBER(Y824),2,IF(A825=\"\",IF(OR(AK824>0,VLOOKUP(O824,EventConfig!A:C,3,FALSE)=4),3,\"\"),1)))","v":""},"",null,""]
[{"$f":"O825*100+P825","v":603301},5971,"给婉溪讲讲外面的世界","",{"$nulls":5},5,{"$f":"IF(J825=\"\",\"\",VLOOKUP(J825,EventNPC!A:E,5,FALSE))","v":"婉溪"},5972,"又见面了，坐吧，我请你喝茶。\n你给我讲讲有趣的故事，可好？",null,6033,1,{"$f":"_xlfn.TEXTJOIN(\";\",1,R825:S825)","v":""},null,null,{"$f":"IF(R825=\"\",\"\",\"-\"&VLOOKUP(R825,EventConditionConfig!A:C,3,FALSE)&IF(S825=\"\",\"\",CHAR(10)&\"-\"&VLOOKUP(S825,EventConditionConfig!A:C,3,FALSE)))","v":""},{"$f":"IF(Y825=\"\",\"\",IF(ISTEXT(Y825),1,2))","v":""},"","","",null,null,"",null,null,"",{"$nulls":4},{"$f":"IF(A825=\"\",\"\",IF(ISNUMBER(Y825),2,IF(A826=\"\",IF(OR(AK825>0,VLOOKUP(O825,EventConfig!A:C,3,FALSE)=4),3,\"\"),1)))","v":1},603302,null,5972]
[{"$f":"O826*100+P826","v":603302},5971,"给婉溪讲讲外面的世界","",{"$nulls":6},{"$f":"IF(J826=\"\",\"\",VLOOKUP(J826,EventNPC!A:E,5,FALSE))","v":""},5973,"（玩家与婉溪围坐溪边，蒸汽袅袅。她煮茶时动作优雅，眼中偶尔闪过对外界的向往。）",null,6033,2,{"$f":"_xlfn.TEXTJOIN(\";\",1,R826:S826)","v":""},null,null,{"$f":"IF(R826=\"\",\"\",\"-\"&VLOOKUP(R826,EventConditionConfig!A:C,3,FALSE)&IF(S826=\"\",\"\",CHAR(10)&\"-\"&VLOOKUP(S826,EventConditionConfig!A:C,3,FALSE)))","v":""},{"$f":"IF(Y826=\"\",\"\",IF(ISTEXT(Y826),1,2))","v":1},"603303","5974",5974,"讲述北海鲲鹏的故事",null,"",null,null,"",{"$nulls":4},{"$f":"IF(A826=\"\",\"\",IF(ISNUMBER(Y826),2,IF(A827=\"\",IF(OR(AK826>0,VLOOKUP(O826,EventConfig!A:C,3,FALSE)=4),3,\"\"),1)))","v":1},603303,null,5974]
[{"$f":"O827*100+P827","v":603303},5971,"给婉溪讲讲外面的世界","",{"$nulls":5},5,{"$f":"IF(J827=\"\",\"\",VLOOKUP(J827,EventNPC!A:E,5,FALSE))","v":"婉溪"},5975,"（睁大了眼睛听的滋滋有味）看来兄长提及的鲲鹏，是真的存在呀。我还想听一些故事，你还有么？",null,6033,3,{"$f":"_xlfn.TEXTJOIN(\";\",1,R827:S827)","v":""},null,null,{"$f":"IF(R827=\"\",\"\",\"-\"&VLOOKUP(R827,EventConditionConfig!A:C,3,FALSE)&IF(S827=\"\",\"\",CHAR(10)&\"-\"&VLOOKUP(S827,EventConditionConfig!A:C,3,FALSE)))","v":""},{"$f":"IF(Y827=\"\",\"\",IF(ISTEXT(Y827),1,2))","v":1},"603304","5976",5976,"分享尧都的祥和景象",null,"",null,null,"",{"$nulls":4},{"$f":"IF(A827=\"\",\"\",IF(ISNUMBER(Y827),2,IF(A828=\"\",IF(OR(AK827>0,VLOOKUP(O827,EventConfig!A:C,3,FALSE)=4),3,\"\"),1)))","v":1},603304,null,5976]
[{"$f":"O828*100+P828","v":603304},5971,"给婉溪讲讲外面的世界","",{"$nulls":5},5,{"$f":"IF(J828=\"\",\"\",VLOOKUP(J828,EventNPC!A:E,5,FALSE))","v":"婉溪"},5977,"（意犹未尽的眼神）这么热闹繁华的大都市，我什么时候才能一睹风采呢？还有什么有趣的故事都说来听听呀（催促）",null,6033,4,{"$f":"_xlfn.TEXTJOIN(\";\",1,R828:S828)","v":""},null,null,{"$f":"IF(R828=\"\",\"\",\"-\"&VLOOKUP(R828,EventConditionConfig!A:C,3,FALSE)&IF(S828=\"\",\"\",CHAR(10)&\"-\"&VLOOKUP(S828,EventConditionConfig!A:C,3,FALSE)))","v":""},{"$f":"IF(Y828=\"\",\"\",IF(ISTEXT(Y828),1,2))","v":1},"603305","5978",5978,"描述藐姑射山的仙人",null,"",null,null,"",{"$nulls":4},{"$f":"IF(A828=\"\",\"\",IF(ISNUMBER(Y828),2,IF(A829=\"\",IF(OR(AK828>0,VLOOKUP(O828,EventConfig!A:C,3,FALSE)=4),3,\"\"),1)))","v":1},603305,null,5978]
[{"$f":"O829*100+P829","v":603305},5971,"给婉溪讲讲外面的世界","",{"$nulls":5},5,{"$f":"IF(J829=\"\",\"\",VLOOKUP(J829,EventNPC!A:E,5,FALSE))","v":"婉溪"},5979,"（听后，柔和眼睛中多了一丝憧憬）外面的世界真奇妙……我虽爱这山林劳作，但也想偶尔出去看看。",null,6033,5,{"$f":"_xlfn.TEXTJOIN(\";\",1,R829:S829)","v":""},null,null,{"$f":"IF(R829=\"\",\"\",\"-\"&VLOOKUP(R829,EventConditionConfig!A:C,3,FALSE)&IF(S829=\"\",\"\",CHAR(10)&\"-\"&VLOOKUP(S829,EventConditionConfig!A:C,3,FALSE)))","v":""},{"$f":"IF(Y829=\"\",\"\",IF(ISTEXT(Y829),1,2))","v":""},"","","",null,null,"",null,null,"",{"$nulls":4},{"$f":"IF(A829=\"\",\"\",IF(ISNUMBER(Y829),2,IF(A830=\"\",IF(OR(AK829>0,VLOOKUP(O829,EventConfig!A:C,3,FALSE)=4),3,\"\"),1)))","v":""},"",null,5979]
[null,"",null,"",{"$nulls":7},"",null,null,null,"",{"$nulls":5},"","","",null,null,"",null,null,"",{"$nulls":4},{"$f":"IF(A830=\"\",\"\",IF(ISNUMBER(Y830),2,IF(A831=\"\",IF(OR(AK830>0,VLOOKUP(O830,EventConfig!A:C,3,FALSE)=4),3,\"\"),1)))","v":""},"",null,""]
[{"$f":"O831*100+P831","v":603401},5980,"收集尧都玉佩","",{"$nulls":5},5,{"$f":"IF(J831=\"\",\"\",VLOOKUP(J831,EventNPC!A:E,5,FALSE))","v":"婉溪"},5981,"尧都玉佩能镇压灵气波动，我家族的茶树最近不稳，你能帮我找来吗？山林小妖有时会抢走游人的玉佩。",null,6034,1,{"$f":"_xlfn.TEXTJOIN(\";\",1,R831:S831)","v":""},null,null,{"$f":"IF(R831=\"\",\"\",\"-\"&VLOOKUP(R831,EventConditionConfig!A:C,3,FALSE)&IF(S831=\"\",\"\",CHAR(10)&\"-\"&VLOOKUP(S831,EventConditionConfig!A:C,3,FALSE)))","v":""},{"$f":"IF(Y831=\"\",\"\",IF(ISTEXT(Y831),1,2))","v":""},"","","",null,null,"",null,null,"",{"$nulls":4},{"$f":"IF(A831=\"\",\"\",IF(ISNUMBER(Y831),2,IF(A832=\"\",IF(OR(AK831>0,VLOOKUP(O831,EventConfig!A:C,3,FALSE)=4),3,\"\"),1)))","v":1},603402,null,5981]
[{"$f":"O832*100+P832","v":603402},5980,"收集尧都玉佩","",{"$nulls":5},100,{"$f":"IF(J832=\"\",\"\",VLOOKUP(J832,EventNPC!A:E,5,FALSE))","v":"玩家"},5982,"（返回）道友，这些玉佩可对？",null,6034,2,{"$f":"_xlfn.TEXTJOIN(\";\",1,R832:S832)","v":"43"},43,null,{"$f":"IF(R832=\"\",\"\",\"-\"&VLOOKUP(R832,EventConditionConfig!A:C,3,FALSE)&IF(S832=\"\",\"\",CHAR(10)&\"-\"&VLOOKUP(S832,EventConditionConfig!A:C,3,FALSE)))","v":"-完成神识探索-抢走玉佩的山林小妖"},{"$f":"IF(Y832=\"\",\"\",IF(ISTEXT(Y832),1,2))","v":""},"","","",null,null,"",null,null,"",{"$nulls":4},{"$f":"IF(A832=\"\",\"\",IF(ISNUMBER(Y832),2,IF(A833=\"\",IF(OR(AK832>0,VLOOKUP(O832,EventConfig!A:C,3,FALSE)=4),3,\"\"),1)))","v":1},603403,null,5982]
[603403,5980,"收集尧都玉佩","",{"$nulls":5},5,{"$f":"IF(J833=\"\",\"\",VLOOKUP(J833,EventNPC!A:E,5,FALSE))","v":"婉溪"},5983,"（仔细查看）多谢，你真可靠。",null,6034,3,"",null,null,{"$f":"IF(R833=\"\",\"\",\"-\"&VLOOKUP(R833,EventConditionConfig!A:C,3,FALSE)&IF(S833=\"\",\"\",CHAR(10)&\"-\"&VLOOKUP(S833,EventConditionConfig!A:C,3,FALSE)))","v":""},"","","","",null,null,"",null,null,"",{"$nulls":4},{"$f":"IF(A833=\"\",\"\",IF(ISNUMBER(Y833),2,IF(A834=\"\",IF(OR(AK833>0,VLOOKUP(O833,EventConfig!A:C,3,FALSE)=4),3,\"\"),1)))","v":""},"",null,5983]
[null,"",null,"",{"$nulls":7},"",null,null,null,"",{"$nulls":5},"","","",null,null,"",null,null,"",{"$nulls":4},{"$f":"IF(A834=\"\",\"\",IF(ISNUMBER(Y834),2,IF(A835=\"\",IF(OR(AK834>0,VLOOKUP(O834,EventConfig!A:C,3,FALSE)=4),3,\"\"),1)))","v":""},"",null,""]
[{"$f":"O835*100+P835","v":603501},5984,"击败溪边水灵","",{"$nulls":5},5,{"$f":"IF(J835=\"\",\"\",VLOOKUP(J835,EventNPC!A:E,5,FALSE))","v":"婉溪"},5985,"溪水又异动了，水中似有灵影作祟，影响灵田。你能帮我驱散吗？小心别伤了溪源。",null,6035,1,{"$f":"_xlfn.TEXTJOIN(\";\",1,R835:S835)","v":""},null,null,{"$f":"IF(R835=\"\",\"\",\"-\"&VLOOKUP(R835,EventConditionConfig!A:C,3,FALSE)&IF(S835=\"\",\"\",CHAR(10)&\"-\"&VLOOKUP(S835,EventConditionConfig!A:C,3,FALSE)))","v":""},{"$f":"IF(Y835=\"\",\"\",IF(ISTEXT(Y835),1,2))","v":2},3010,"","",3010,null,"",null,null,"",{"$nulls":4},{"$f":"IF(A835=\"\",\"\",IF(ISNUMBER(Y835),2,IF(A836=\"\",IF(OR(AK835>0,VLOOKUP(O835,EventConfig!A:C,3,FALSE)=4),3,\"\"),1)))","v":2},"603502;101",null,5985]
[{"$f":"O836*100+P836","v":603502},5984,"击败溪边水灵","",{"$nulls":5},100,{"$f":"IF(J836=\"\",\"\",VLOOKUP(J836,EventNPC!A:E,5,FALSE))","v":"玩家"},5986,"道友,干扰已除,但水中有股陌生气息。",null,6035,2,{"$f":"_xlfn.TEXTJOIN(\";\",1,R836:S836)","v":""},null,null,{"$f":"IF(R836=\"\",\"\",\"-\"&VLOOKUP(R836,EventConditionConfig!A:C,3,FALSE)&IF(S836=\"\",\"\",CHAR(10)&\"-\"&VLOOKUP(S836,EventConditionConfig!A:C,3,FALSE)))","v":""},{"$f":"IF(Y836=\"\",\"\",IF(ISTEXT(Y836),1,2))","v":""},"","","",null,null,"",null,null,"",{"$nulls":4},{"$f":"IF(A836=\"\",\"\",IF(ISNUMBER(Y836),2,IF(A837=\"\",IF(OR(AK836>0,VLOOKUP(O836,EventConfig!A:C,3,FALSE)=4),3,\"\"),1)))","v":1},603503,null,5986]
[{"$f":"O837*100+P837","v":603503},5984,"击败溪边水灵","",{"$nulls":5},5,{"$f":"IF(J837=\"\",\"\",VLOOKUP(J837,EventNPC!A:E,5,FALSE))","v":"婉溪"},5987,"这气息……像山外修士的痕迹！\n家族守护的茶树，能通灵感天地，或许吸引了窥探者。但我们隐居多年，为何现在异动？",null,6035,3,{"$f":"_xlfn.TEXTJOIN(\";\",1,R837:S837)","v":""},null,null,{"$f":"IF(R837=\"\",\"\",\"-\"&VLOOKUP(R837,EventConditionConfig!A:C,3,FALSE)&IF(S837=\"\",\"\",CHAR(10)&\"-\"&VLOOKUP(S837,EventConditionConfig!A:C,3,FALSE)))","v":""},{"$f":"IF(Y837=\"\",\"\",IF(ISTEXT(Y837),1,2))","v":""},"","","",null,null,"",null,null,"",{"$nulls":4},{"$f":"IF(A837=\"\",\"\",IF(ISNUMBER(Y837),2,IF(A838=\"\",IF(OR(AK837>0,VLOOKUP(O837,EventConfig!A:C,3,FALSE)=4),3,\"\"),1)))","v":""},"",null,5987]
[null,"",null,{"$f":"IF(E838=\"\",\"\",IF(E838=E837,D837,MAX(AL837,AL836,B838)+1))","v":""},{"$nulls":7},{"$f":"IF(M838=\"\",\"\",MAX(AL837,AL836,B838,D838)+1)","v":""},null,null,null,"",{"$nulls":5},"","","",null,null,"",null,null,"",{"$nulls":4},{"$f":"IF(A838=\"\",\"\",IF(ISNUMBER(Y838),2,IF(A839=\"\",IF(OR(AK838>0,VLOOKUP(O838,EventConfig!A:C,3,FALSE)=4),3,\"\"),1)))","v":""},"",null,{"$f":"IF(A838=\"\",\"\",MAX(B838,D838,L838,X838,AA838,AL837,AL836,AD838))","v":""}]
[{"$f":"O839*100+P839","v":603601},5988,"完成与婉溪和许由的三方对话","",{"$nulls":5},5,{"$f":"IF(J839=\"\",\"\",VLOOKUP(J839,EventNPC!A:E,5,FALSE))","v":"婉溪"},5989,"这些事让我不安……我去找兄长问问。你一起来吧。\n（三人聚于小屋前，溪水潺潺。）",null,6036,1,{"$f":"_xlfn.TEXTJOIN(\";\",1,R839:S839)","v":""},null,null,{"$f":"IF(R839=\"\",\"\",\"-\"&VLOOKUP(R839,EventConditionConfig!A:C,3,FALSE)&IF(S839=\"\",\"\",CHAR(10)&\"-\"&VLOOKUP(S839,EventConditionConfig!A:C,3,FALSE)))","v":""},{"$f":"IF(Y839=\"\",\"\",IF(ISTEXT(Y839),1,2))","v":""},"","","",null,null,"",null,null,"",{"$nulls":4},{"$f":"IF(A839=\"\",\"\",IF(ISNUMBER(Y839),2,IF(A840=\"\",IF(OR(AK839>0,VLOOKUP(O839,EventConfig!A:C,3,FALSE)=4),3,\"\"),1)))","v":1},603602,null,5989]
[{"$f":"O840*100+P840","v":603602},5988,"完成与婉溪和许由的三方对话","",{"$nulls":5},106,{"$f":"IF(J840=\"\",\"\",VLOOKUP(J840,EventNPC!A:E,5,FALSE))","v":"许由"},5990,"妹妹，你又在多想？家族的事，别乱查。",null,6036,2,{"$f":"_xlfn.TEXTJOIN(\";\",1,R840:S840)","v":""},null,null,{"$f":"IF(R840=\"\",\"\",\"-\"&VLOOKUP(R840,EventConditionConfig!A:C,3,FALSE)&IF(S840=\"\",\"\",CHAR(10)&\"-\"&VLOOKUP(S840,EventConditionConfig!A:C,3,FALSE)))","v":""},{"$f":"IF(Y840=\"\",\"\",IF(ISTEXT(Y840),1,2))","v":""},"","","",null,null,"",null,null,"",{"$nulls":4},{"$f":"IF(A840=\"\",\"\",IF(ISNUMBER(Y840),2,IF(A841=\"\",IF(OR(AK840>0,VLOOKUP(O840,EventConfig!A:C,3,FALSE)=4),3,\"\"),1)))","v":1},603603,null,5990]
[603603,5988,"完成与婉溪和许由的三方对话","",{"$nulls":5},5,{"$f":"IF(J841=\"\",\"\",VLOOKUP(J841,EventNPC!A:E,5,FALSE))","v":"婉溪"},5991,"兄长，最近溪流异动，可有什么我不知道的事情？",null,6036,3,"",null,null,{"$f":"IF(R841=\"\",\"\",\"-\"&VLOOKUP(R841,EventConditionConfig!A:C,3,FALSE)&IF(S841=\"\",\"\",CHAR(10)&\"-\"&VLOOKUP(S841,EventConditionConfig!A:C,3,FALSE)))","v":""},"","","","",null,null,"",null,null,"",{"$nulls":4},{"$f":"IF(A841=\"\",\"\",IF(ISNUMBER(Y841),2,IF(A842=\"\",IF(OR(AK841>0,VLOOKUP(O841,EventConfig!A:C,3,FALSE)=4),3,\"\"),1)))","v":1},603604,null,5991]
[{"$f":"O842*100+P842","v":603604},5988,"完成与婉溪和许由的三方对话","",{"$nulls":5},106,{"$f":"IF(J842=\"\",\"\",VLOOKUP(J842,EventNPC!A:E,5,FALSE))","v":"许由"},5992,"（叹息）或许是旧敌重现，祸福未知。",null,6036,4,{"$f":"_xlfn.TEXTJOIN(\";\",1,R842:S842)","v":""},null,null,{"$f":"IF(R842=\"\",\"\",\"-\"&VLOOKUP(R842,EventConditionConfig!A:C,3,FALSE)&IF(S842=\"\",\"\",CHAR(10)&\"-\"&VLOOKUP(S842,EventConditionConfig!A:C,3,FALSE)))","v":""},{"$f":"IF(Y842=\"\",\"\",IF(ISTEXT(Y842),1,2))","v":""},"","","",null,null,"",null,null,"",{"$nulls":4},{"$f":"IF(A842=\"\",\"\",IF(ISNUMBER(Y842),2,IF(A843=\"\",IF(OR(AK842>0,VLOOKUP(O842,EventConfig!A:C,3,FALSE)=4),3,\"\"),1)))","v":1},603605,null,5992]
[603605,5988,"完成与婉溪和许由的三方对话","",{"$nulls":5},5,{"$f":"IF(J843=\"\",\"\",VLOOKUP(J843,EventNPC!A:E,5,FALSE))","v":"婉溪"},5993,"（坚定却温和）兄长，我已经长大了，可以帮你的。",null,6036,5,"",null,null,{"$f":"IF(R843=\"\",\"\",\"-\"&VLOOKUP(R843,EventConditionConfig!A:C,3,FALSE)&IF(S843=\"\",\"\",CHAR(10)&\"-\"&VLOOKUP(S843,EventConditionConfig!A:C,3,FALSE)))","v":""},"","","","",null,null,"",null,null,"",{"$nulls":4},{"$f":"IF(A843=\"\",\"\",IF(ISNUMBER(Y843),2,IF(A844=\"\",IF(OR(AK843>0,VLOOKUP(O843,EventConfig!A:C,3,FALSE)=4),3,\"\"),1)))","v":1},603606,null,5993]
[{"$f":"O844*100+P844","v":603606},5988,"完成与婉溪和许由的三方对话","",{"$nulls":5},106,{"$f":"IF(J844=\"\",\"\",VLOOKUP(J844,EventNPC!A:E,5,FALSE))","v":"许由"},5994,"小友，这是我家族的事，你到此为止吧。",null,6036,6,{"$f":"_xlfn.TEXTJOIN(\";\",1,R844:S844)","v":""},null,null,{"$f":"IF(R844=\"\",\"\",\"-\"&VLOOKUP(R844,EventConditionConfig!A:C,3,FALSE)&IF(S844=\"\",\"\",CHAR(10)&\"-\"&VLOOKUP(S844,EventConditionConfig!A:C,3,FALSE)))","v":""},{"$f":"IF(Y844=\"\",\"\",IF(ISTEXT(Y844),1,2))","v":""},"","","",null,null,"",null,null,"",{"$nulls":4},{"$f":"IF(A844=\"\",\"\",IF(ISNUMBER(Y844),2,IF(A845=\"\",IF(OR(AK844>0,VLOOKUP(O844,EventConfig!A:C,3,FALSE)=4),3,\"\"),1)))","v":""},"",null,5994]
[null,"",null,"",{"$nulls":7},"",null,null,null,"",{"$nulls":5},"","",{"$f":"IF(OR(ISNUMBER(Y845),Y845=\"\"),\"\",MAX(AL844,AL842,B845,D845,L845)+1)","v":""},null,null,{"$f":"IF(OR(ISNUMBER(AB845),AB845=\"\"),\"\",X845+1)","v":""},null,null,{"$f":"IF(OR(ISNUMBER(AE845),AE845=\"\"),\"\",AA845+1)","v":""},{"$nulls":4},{"$f":"IF(A845=\"\",\"\",IF(ISNUMBER(Y845),2,IF(A846=\"\",IF(OR(AK845>0,VLOOKUP(O845,EventConfig!A:C,3,FALSE)=4),3,\"\"),1)))","v":""},"",null,""]
[{"$f":"O846*100+P846","v":604101},5995,"和许由对话","",{"$nulls":5},106,{"$f":"IF(J846=\"\",\"\",VLOOKUP(J846,EventNPC!A:E,5,FALSE))","v":"许由"},5996,"你重返许由的隐居之地，他正坐在青石上，面前一个小丹炉冒着淡淡青烟。\n山风徐徐，茶香飘散，他转头微笑，仿佛早已知晓你的到来。",null,6041,1,{"$f":"_xlfn.TEXTJOIN(\";\",1,R846:S846)","v":""},null,null,{"$f":"IF(R846=\"\",\"\",\"-\"&VLOOKUP(R846,EventConditionConfig!A:C,3,FALSE)&IF(S846=\"\",\"\",CHAR(10)&\"-\"&VLOOKUP(S846,EventConditionConfig!A:C,3,FALSE)))","v":""},{"$f":"IF(Y846=\"\",\"\",IF(ISTEXT(Y846),1,2))","v":""},{"$f":"IF(U846=1,_xlfn.TEXTJOIN(\";\",1,IF(Z846=\"\",A846+1,Z846),IF(AND(AA846<>\"\",AC846=\"\"),A846+1,AC846),IF(AND(AD846<>\"\",AF846=\"\"),A846+1,AF846)),IF(U846=2,Y846,\"\"))","v":""},{"$f":"_xlfn.TEXTJOIN(\";\",1,X846,AA846,AD846)","v":""},"",null,null,"",null,null,"",{"$nulls":4},{"$f":"IF(A846=\"\",\"\",IF(ISNUMBER(Y846),2,IF(A847=\"\",IF(OR(AK846>0,VLOOKUP(O846,EventConfig!A:C,3,FALSE)=4),3,\"\"),1)))","v":1},{"$f":"IF(AI846=\"\",\"\",CHOOSE(AI846,IF(AK846=\"\",A846+1,AK846),CONCATENATE(IF(AK846=\"\",A846+1,AK846),\";101\"),IF(AK846=\"\",O846+1,AK846)))","v":604102},null,5996]
[{"$f":"O847*100+P847","v":604102},5995,"和许由对话","",{"$nulls":5},100,{"$f":"IF(J847=\"\",\"\",VLOOKUP(J847,EventNPC!A:E,5,FALSE))","v":"玩家"},5997,"前辈，我已完成尧帝的托付，再来拜访。",null,6041,2,{"$f":"_xlfn.TEXTJOIN(\";\",1,R847:S847)","v":""},null,null,{"$f":"IF(R847=\"\",\"\",\"-\"&VLOOKUP(R847,EventConditionConfig!A:C,3,FALSE)&IF(S847=\"\",\"\",CHAR(10)&\"-\"&VLOOKUP(S847,EventConditionConfig!A:C,3,FALSE)))","v":""},{"$f":"IF(Y847=\"\",\"\",IF(ISTEXT(Y847),1,2))","v":""},"","","",null,null,"",null,null,"",{"$nulls":4},{"$f":"IF(A847=\"\",\"\",IF(ISNUMBER(Y847),2,IF(A848=\"\",IF(OR(AK847>0,VLOOKUP(O847,EventConfig!A:C,3,FALSE)=4),3,\"\"),1)))","v":1},604103,null,5997]
[{"$f":"O848*100+P848","v":604103},5995,"和许由对话","",{"$nulls":5},106,{"$f":"IF(J848=\"\",\"\",VLOOKUP(J848,EventNPC!A:E,5,FALSE))","v":"许由"},5998,"（平静点头）尧的事，我已知晓。\n小友此次前来，有何事？",null,6041,3,{"$f":"_xlfn.TEXTJOIN(\";\",1,R848:S848)","v":""},null,null,{"$f":"IF(R848=\"\",\"\",\"-\"&VLOOKUP(R848,EventConditionConfig!A:C,3,FALSE)&IF(S848=\"\",\"\",CHAR(10)&\"-\"&VLOOKUP(S848,EventConditionConfig!A:C,3,FALSE)))","v":""},{"$f":"IF(Y848=\"\",\"\",IF(ISTEXT(Y848),1,2))","v":1},"604104","5999",5999,"无事，碰巧路过，前来拜访。",null,"",null,null,"",{"$nulls":4},{"$f":"IF(A848=\"\",\"\",IF(ISNUMBER(Y848),2,IF(A849=\"\",IF(OR(AK848>0,VLOOKUP(O848,EventConfig!A:C,3,FALSE)=4),3,\"\"),1)))","v":1},604104,null,5999]
[{"$f":"O849*100+P849","v":604104},5995,"和许由对话","",{"$nulls":5},106,{"$f":"IF(J849=\"\",\"\",VLOOKUP(J849,EventNPC!A:E,5,FALSE))","v":"许由"},6000,"（轻笑）无事甚好，不妨帮我采些山野灵草，助我炼一炉丹药。",null,6041,4,{"$f":"_xlfn.TEXTJOIN(\";\",1,R849:S849)","v":""},null,null,{"$f":"IF(R849=\"\",\"\",\"-\"&VLOOKUP(R849,EventConditionConfig!A:C,3,FALSE)&IF(S849=\"\",\"\",CHAR(10)&\"-\"&VLOOKUP(S849,EventConditionConfig!A:C,3,FALSE)))","v":""},{"$f":"IF(Y849=\"\",\"\",IF(ISTEXT(Y849),1,2))","v":1},"604105","6001",6001,"好的,前辈。",null,"",null,null,"",{"$nulls":4},{"$f":"IF(A849=\"\",\"\",IF(ISNUMBER(Y849),2,IF(A850=\"\",IF(OR(AK849>0,VLOOKUP(O849,EventConfig!A:C,3,FALSE)=4),3,\"\"),1)))","v":""},"",null,6001]
[null,"",null,"",{"$nulls":7},"",null,null,null,"",{"$nulls":5},"","","",null,null,"",null,null,"",{"$nulls":4},{"$f":"IF(A850=\"\",\"\",IF(ISNUMBER(Y850),2,IF(A851=\"\",IF(OR(AK850>0,VLOOKUP(O850,EventConfig!A:C,3,FALSE)=4),3,\"\"),1)))","v":""},"",null,""]
[{"$f":"O851*100+P851","v":604201},6002,"收集山野灵草","",{"$nulls":6},{"$f":"IF(J851=\"\",\"\",VLOOKUP(J851,EventNPC!A:E,5,FALSE))","v":""},6003,"你在山林间寻觅灵草，古木参天，草叶间灵气隐现。偶尔有小兽守护草丛，需小心避开或驱散。",null,6042,1,{"$f":"_xlfn.TEXTJOIN(\";\",1,R851:S851)","v":""},null,null,{"$f":"IF(R851=\"\",\"\",\"-\"&VLOOKUP(R851,EventConditionConfig!A:C,3,FALSE)&IF(S851=\"\",\"\",CHAR(10)&\"-\"&VLOOKUP(S851,EventConditionConfig!A:C,3,FALSE)))","v":""},{"$f":"IF(Y851=\"\",\"\",IF(ISTEXT(Y851),1,2))","v":""},"","","",null,null,"",null,null,"",{"$nulls":4},{"$f":"IF(A851=\"\",\"\",IF(ISNUMBER(Y851),2,IF(A852=\"\",IF(OR(AK851>0,VLOOKUP(O851,EventConfig!A:C,3,FALSE)=4),3,\"\"),1)))","v":1},604202,null,6003]
[{"$f":"O852*100+P852","v":604202},6002,"收集山野灵草","",{"$nulls":5},106,{"$f":"IF(J852=\"\",\"\",VLOOKUP(J852,EventNPC!A:E,5,FALSE))","v":"许由"},6004,"这些灵草是炼丹之基，需采于晨露之时，方有纯净之气。山林万物，各有其时——你游历时，可曾想过何时是你的“晨露”？",null,6042,2,{"$f":"_xlfn.TEXTJOIN(\";\",1,R852:S852)","v":"44"},44,null,{"$f":"IF(R852=\"\",\"\",\"-\"&VLOOKUP(R852,EventConditionConfig!A:C,3,FALSE)&IF(S852=\"\",\"\",CHAR(10)&\"-\"&VLOOKUP(S852,EventConditionConfig!A:C,3,FALSE)))","v":"-完成神识探索-山野采草"},{"$f":"IF(Y852=\"\",\"\",IF(ISTEXT(Y852),1,2))","v":1},"604203","6005",6005,"前辈，灵草已采齐。",null,"",null,null,"",{"$nulls":4},{"$f":"IF(A852=\"\",\"\",IF(ISNUMBER(Y852),2,IF(A853=\"\",IF(OR(AK852>0,VLOOKUP(O852,EventConfig!A:C,3,FALSE)=4),3,\"\"),1)))","v":1},604203,null,6005]
[604203,6002,"收集山野灵草","",{"$nulls":5},106,{"$f":"IF(J853=\"\",\"\",VLOOKUP(J853,EventNPC!A:E,5,FALSE))","v":"许由"},6006,"（检查后，眼中闪过一丝赞许）多谢，小友。我们来炼丹吧。\n炼丹如修道，急不得——可世间事，总有急时，你如何处之？",null,6042,3,"",null,null,{"$f":"IF(R853=\"\",\"\",\"-\"&VLOOKUP(R853,EventConditionConfig!A:C,3,FALSE)&IF(S853=\"\",\"\",CHAR(10)&\"-\"&VLOOKUP(S853,EventConditionConfig!A:C,3,FALSE)))","v":""},1,"604204","6007",6007,"请前辈指教",null,"",null,null,"",{"$nulls":4},{"$f":"IF(A853=\"\",\"\",IF(ISNUMBER(Y853),2,IF(A854=\"\",IF(OR(AK853>0,VLOOKUP(O853,EventConfig!A:C,3,FALSE)=4),3,\"\"),1)))","v":1},604204,null,6007]
[{"$f":"O854*100+P854","v":604204},6002,"收集山野灵草","",{"$nulls":5},106,{"$f":"IF(J854=\"\",\"\",VLOOKUP(J854,EventNPC!A:E,5,FALSE))","v":"许由"},6008,"顺其自然，方不乱心，如山林，四季轮转，无需强求。",null,6042,4,{"$f":"_xlfn.TEXTJOIN(\";\",1,R854:S854)","v":""},null,null,{"$f":"IF(R854=\"\",\"\",\"-\"&VLOOKUP(R854,EventConditionConfig!A:C,3,FALSE)&IF(S854=\"\",\"\",CHAR(10)&\"-\"&VLOOKUP(S854,EventConditionConfig!A:C,3,FALSE)))","v":""},{"$f":"IF(Y854=\"\",\"\",IF(ISTEXT(Y854),1,2))","v":""},"","","",null,null,"",null,null,"",{"$nulls":4},{"$f":"IF(A854=\"\",\"\",IF(ISNUMBER(Y854),2,IF(A855=\"\",IF(OR(AK854>0,VLOOKUP(O854,EventConfig!A:C,3,FALSE)=4),3,\"\"),1)))","v":""},"",null,6008]
[null,"",null,"",{"$nulls":7},"",null,null,null,"",{"$nulls":5},"","6009",6009,"前辈，火候已稳。",null,"",null,null,"",{"$nulls":4},{"$f":"IF(A855=\"\",\"\",IF(ISNUMBER(Y855),2,IF(A856=\"\",IF(OR(AK855>0,VLOOKUP(O855,EventConfig!A:C,3,FALSE)=4),3,\"\"),1)))","v":""},"",null,""]
[{"$f":"O856*100+P856","v":604301},6009,"与许由对话","",{"$nulls":5},106,{"$f":"IF(J856=\"\",\"\",VLOOKUP(J856,EventNPC!A:E,5,FALSE))","v":"许由"},6010,"丹炉已备，你来助我控火。",null,6043,1,{"$f":"_xlfn.TEXTJOIN(\";\",1,R856:S856)","v":""},null,null,{"$f":"IF(R856=\"\",\"\",\"-\"&VLOOKUP(R856,EventConditionConfig!A:C,3,FALSE)&IF(S856=\"\",\"\",CHAR(10)&\"-\"&VLOOKUP(S856,EventConditionConfig!A:C,3,FALSE)))","v":""},{"$f":"IF(Y856=\"\",\"\",IF(ISTEXT(Y856),1,2))","v":""},"","","",null,null,"",null,null,"",{"$nulls":4},{"$f":"IF(A856=\"\",\"\",IF(ISNUMBER(Y856),2,IF(A857=\"\",IF(OR(AK856>0,VLOOKUP(O856,EventConfig!A:C,3,FALSE)=4),3,\"\"),1)))","v":1},604302,null,6010]
[{"$f":"O857*100+P857","v":604302},6009,"与许由对话","",{"$nulls":5},106,{"$f":"IF(J857=\"\",\"\",VLOOKUP(J857,EventNPC!A:E,5,FALSE))","v":"许由"},6011,"多谢你。\n隐居炼丹，让我避开尘世纷扰，可有时我也想：拒绝天下，是真自在，还是另一种执着？",null,6043,2,{"$f":"_xlfn.TEXTJOIN(\";\",1,R857:S857)","v":""},null,null,{"$f":"IF(R857=\"\",\"\",\"-\"&VLOOKUP(R857,EventConditionConfig!A:C,3,FALSE)&IF(S857=\"\",\"\",CHAR(10)&\"-\"&VLOOKUP(S857,EventConditionConfig!A:C,3,FALSE)))","v":""},{"$f":"IF(Y857=\"\",\"\",IF(ISTEXT(Y857),1,2))","v":1},"604303","6012",6012,"晚辈不懂...",null,"",null,null,"",{"$nulls":4},{"$f":"IF(A857=\"\",\"\",IF(ISNUMBER(Y857),2,IF(A858=\"\",IF(OR(AK857>0,VLOOKUP(O857,EventConfig!A:C,3,FALSE)=4),3,\"\"),1)))","v":1},604303,null,6012]
[{"$f":"O858*100+P858","v":604303},6009,"与许由对话","",{"$nulls":5},106,{"$f":"IF(J858=\"\",\"\",VLOOKUP(J858,EventNPC!A:E,5,FALSE))","v":"许由"},6013,"哈哈，我胡言乱语罢了。",null,6043,3,{"$f":"_xlfn.TEXTJOIN(\";\",1,R858:S858)","v":""},null,null,{"$f":"IF(R858=\"\",\"\",\"-\"&VLOOKUP(R858,EventConditionConfig!A:C,3,FALSE)&IF(S858=\"\",\"\",CHAR(10)&\"-\"&VLOOKUP(S858,EventConditionConfig!A:C,3,FALSE)))","v":""},{"$f":"IF(Y858=\"\",\"\",IF(ISTEXT(Y858),1,2))","v":""},"","","",null,null,"",null,null,"",{"$nulls":4},{"$f":"IF(A858=\"\",\"\",IF(ISNUMBER(Y858),2,IF(A859=\"\",IF(OR(AK858>0,VLOOKUP(O858,EventConfig!A:C,3,FALSE)=4),3,\"\"),1)))","v":""},"",null,6013]
[null,"",null,"",{"$nulls":7},"",null,null,null,"",{"$nulls":5},"","","",null,null,"",null,null,"",{"$nulls":4},{"$f":"IF(A859=\"\",\"\",IF(ISNUMBER(Y859),2,IF(A860=\"\",IF(OR(AK859>0,VLOOKUP(O859,EventConfig!A:C,3,FALSE)=4),3,\"\"),1)))","v":""},"",null,""]
[{"$f":"O860*100+P860","v":604401},6014,"收集秘境种子","",{"$nulls":5},106,{"$f":"IF(J860=\"\",\"\",VLOOKUP(J860,EventNPC!A:E,5,FALSE))","v":"许由"},6015,"我需要一些秘境种子。",null,6044,{"$f":"IF(O860=\"\",\"\",IF(O860=O859,P859+1,1))","v":1},{"$f":"_xlfn.TEXTJOIN(\";\",1,R860:S860)","v":""},null,null,{"$f":"IF(R860=\"\",\"\",\"-\"&VLOOKUP(R860,EventConditionConfig!A:C,3,FALSE)&IF(S860=\"\",\"\",CHAR(10)&\"-\"&VLOOKUP(S860,EventConditionConfig!A:C,3,FALSE)))","v":""},{"$f":"IF(Y860=\"\",\"\",IF(ISTEXT(Y860),1,2))","v":""},"","","",null,null,"",null,null,"",{"$nulls":4},{"$f":"IF(A860=\"\",\"\",IF(ISNUMBER(Y860),2,IF(A861=\"\",IF(OR(AK860>0,VLOOKUP(O860,EventConfig!A:C,3,FALSE)=4),3,\"\"),1)))","v":1},604402,null,6015]
[{"$f":"O861*100+P861","v":604402},6014,"收集秘境种子","",{"$nulls":5},100,{"$f":"IF(J861=\"\",\"\",VLOOKUP(J861,EventNPC!A:E,5,FALSE))","v":"玩家"},6016,"前辈,你要的种子。",null,6044,2,{"$f":"_xlfn.TEXTJOIN(\";\",1,R861:S861)","v":"45"},45,null,{"$f":"IF(R861=\"\",\"\",\"-\"&VLOOKUP(R861,EventConditionConfig!A:C,3,FALSE)&IF(S861=\"\",\"\",CHAR(10)&\"-\"&VLOOKUP(S861,EventConditionConfig!A:C,3,FALSE)))","v":"-完成神识探索-秘境种子"},{"$f":"IF(Y861=\"\",\"\",IF(ISTEXT(Y861),1,2))","v":""},"","","",null,null,"",null,null,"",{"$nulls":4},{"$f":"IF(A861=\"\",\"\",IF(ISNUMBER(Y861),2,IF(A862=\"\",IF(OR(AK861>0,VLOOKUP(O861,EventConfig!A:C,3,FALSE)=4),3,\"\"),1)))","v":1},604403,null,6016]
[604403,6014,"收集秘境种子","",{"$nulls":5},106,{"$f":"IF(J862=\"\",\"\",VLOOKUP(J862,EventNPC!A:E,5,FALSE))","v":"许由"},6017,"（融入丹炉，点头）天下大，却非我所求。隐居小，却足我心。\n你说，大与小，谁更好？",null,6044,3,"",null,null,{"$f":"IF(R862=\"\",\"\",\"-\"&VLOOKUP(R862,EventConditionConfig!A:C,3,FALSE)&IF(S862=\"\",\"\",CHAR(10)&\"-\"&VLOOKUP(S862,EventConditionConfig!A:C,3,FALSE)))","v":""},1,"604404;604404","6018;6019",6018,"大有大自在，小有小逍遥。",null,6019,"心定，则处处自在。",null,"",{"$nulls":4},{"$f":"IF(A862=\"\",\"\",IF(ISNUMBER(Y862),2,IF(A863=\"\",IF(OR(AK862>0,VLOOKUP(O862,EventConfig!A:C,3,FALSE)=4),3,\"\"),1)))","v":1},604404,null,6019]
[604404,6014,"收集秘境种子","",{"$nulls":5},106,{"$f":"IF(J863=\"\",\"\",VLOOKUP(J863,EventNPC!A:E,5,FALSE))","v":"许由"},6020,"哈哈哈，小友悟性不浅。",null,6044,4,"",null,null,{"$f":"IF(R863=\"\",\"\",\"-\"&VLOOKUP(R863,EventConditionConfig!A:C,3,FALSE)&IF(S863=\"\",\"\",CHAR(10)&\"-\"&VLOOKUP(S863,EventConditionConfig!A:C,3,FALSE)))","v":""},"","","","",null,null,"",null,null,"",{"$nulls":4},{"$f":"IF(A863=\"\",\"\",IF(ISNUMBER(Y863),2,IF(A864=\"\",IF(OR(AK863>0,VLOOKUP(O863,EventConfig!A:C,3,FALSE)=4),3,\"\"),1)))","v":""},"",null,6020]
[null,"",null,"",{"$nulls":7},"",null,null,null,"",{"$nulls":5},"","","",null,null,"",null,null,"",{"$nulls":4},{"$f":"IF(A864=\"\",\"\",IF(ISNUMBER(Y864),2,IF(A865=\"\",IF(OR(AK864>0,VLOOKUP(O864,EventConfig!A:C,3,FALSE)=4),3,\"\"),1)))","v":""},"",null,""]
[{"$f":"O865*100+P865","v":604501},6021,"与许由对话","",{"$nulls":5},106,{"$f":"IF(J865=\"\",\"\",VLOOKUP(J865,EventNPC!A:E,5,FALSE))","v":"许由"},6022,"来，喝茶吧。\n再来聊聊你游历故事？",null,6045,1,{"$f":"_xlfn.TEXTJOIN(\";\",1,R865:S865)","v":""},null,null,{"$f":"IF(R865=\"\",\"\",\"-\"&VLOOKUP(R865,EventConditionConfig!A:C,3,FALSE)&IF(S865=\"\",\"\",CHAR(10)&\"-\"&VLOOKUP(S865,EventConditionConfig!A:C,3,FALSE)))","v":""},{"$f":"IF(Y865=\"\",\"\",IF(ISTEXT(Y865),1,2))","v":1},"604502","6023",6023,"讲述鲲鹏志向",null,"",null,null,"",{"$nulls":4},{"$f":"IF(A865=\"\",\"\",IF(ISNUMBER(Y865),2,IF(A866=\"\",IF(OR(AK865>0,VLOOKUP(O865,EventConfig!A:C,3,FALSE)=4),3,\"\"),1)))","v":1},604502,null,6023]
[{"$f":"O866*100+P866","v":604502},6021,"与许由对话","",{"$nulls":5},106,{"$f":"IF(J866=\"\",\"\",VLOOKUP(J866,EventNPC!A:E,5,FALSE))","v":"许由"},6024,"鲲鹏飞高，可风一停就会落下，值得吗？",null,6045,2,{"$f":"_xlfn.TEXTJOIN(\";\",1,R866:S866)","v":""},null,null,{"$f":"IF(R866=\"\",\"\",\"-\"&VLOOKUP(R866,EventConditionConfig!A:C,3,FALSE)&IF(S866=\"\",\"\",CHAR(10)&\"-\"&VLOOKUP(S866,EventConditionConfig!A:C,3,FALSE)))","v":""},{"$f":"IF(Y866=\"\",\"\",IF(ISTEXT(Y866),1,2))","v":1},"604503","6025",6025,"分享樗木无用",null,"",null,null,"",{"$nulls":4},{"$f":"IF(A866=\"\",\"\",IF(ISNUMBER(Y866),2,IF(A867=\"\",IF(OR(AK866>0,VLOOKUP(O866,EventConfig!A:C,3,FALSE)=4),3,\"\"),1)))","v":1},604503,null,6025]
[{"$f":"O867*100+P867","v":604503},6021,"与许由对话","",{"$nulls":5},106,{"$f":"IF(J867=\"\",\"\",VLOOKUP(J867,EventNPC!A:E,5,FALSE))","v":"许由"},6026,"无用长存，可长存中，是否少了花开的瞬间？",null,6045,3,{"$f":"_xlfn.TEXTJOIN(\";\",1,R867:S867)","v":""},null,null,{"$f":"IF(R867=\"\",\"\",\"-\"&VLOOKUP(R867,EventConditionConfig!A:C,3,FALSE)&IF(S867=\"\",\"\",CHAR(10)&\"-\"&VLOOKUP(S867,EventConditionConfig!A:C,3,FALSE)))","v":""},{"$f":"IF(Y867=\"\",\"\",IF(ISTEXT(Y867),1,2))","v":1},"604504","6027",6027,"描述姑射仙人",null,"",null,null,"",{"$nulls":4},{"$f":"IF(A867=\"\",\"\",IF(ISNUMBER(Y867),2,IF(A868=\"\",IF(OR(AK867>0,VLOOKUP(O867,EventConfig!A:C,3,FALSE)=4),3,\"\"),1)))","v":1},604504,null,6027]
[{"$f":"O868*100+P868","v":604504},6021,"与许由对话","",{"$nulls":5},106,{"$f":"IF(J868=\"\",\"\",VLOOKUP(J868,EventNPC!A:E,5,FALSE))","v":"许由"},6028,"仙人逍遥，是否永远没有烦恼？",null,6045,4,{"$f":"_xlfn.TEXTJOIN(\";\",1,R868:S868)","v":""},null,null,{"$f":"IF(R868=\"\",\"\",\"-\"&VLOOKUP(R868,EventConditionConfig!A:C,3,FALSE)&IF(S868=\"\",\"\",CHAR(10)&\"-\"&VLOOKUP(S868,EventConditionConfig!A:C,3,FALSE)))","v":""},{"$f":"IF(Y868=\"\",\"\",IF(ISTEXT(Y868),1,2))","v":1},"604505","6029",6029,"多谢前辈指点",null,"",null,null,"",{"$nulls":4},{"$f":"IF(A868=\"\",\"\",IF(ISNUMBER(Y868),2,IF(A869=\"\",IF(OR(AK868>0,VLOOKUP(O868,EventConfig!A:C,3,FALSE)=4),3,\"\"),1)))","v":""},"",null,6029]
[null,"",null,"",{"$nulls":7},"",null,null,null,"",{"$nulls":5},"","","",null,null,"",null,null,"",{"$nulls":4},{"$f":"IF(A869=\"\",\"\",IF(ISNUMBER(Y869),2,IF(A870=\"\",IF(OR(AK869>0,VLOOKUP(O869,EventConfig!A:C,3,FALSE)=4),3,\"\"),1)))","v":""},"",null,""]
[{"$f":"O870*100+P870","v":604601},6030,"与许由对话","",{"$nulls":5},106,{"$f":"IF(J870=\"\",\"\",VLOOKUP(J870,EventNPC!A:E,5,FALSE))","v":"许由"},6031,"小友，近来与你品茶论道，我也获益良多。\n日后若有丹药，灵草之事，欢迎来找我。",null,6046,1,{"$f":"_xlfn.TEXTJOIN(\";\",1,R870:S870)","v":""},null,null,{"$f":"IF(R870=\"\",\"\",\"-\"&VLOOKUP(R870,EventConditionConfig!A:C,3,FALSE)&IF(S870=\"\",\"\",CHAR(10)&\"-\"&VLOOKUP(S870,EventConditionConfig!A:C,3,FALSE)))","v":""},{"$f":"IF(Y870=\"\",\"\",IF(ISTEXT(Y870),1,2))","v":1},"604602","6032",6032,"多谢前辈！",null,"",null,null,"",{"$nulls":4},{"$f":"IF(A870=\"\",\"\",IF(ISNUMBER(Y870),2,IF(A871=\"\",IF(OR(AK870>0,VLOOKUP(O870,EventConfig!A:C,3,FALSE)=4),3,\"\"),1)))","v":1},604602,null,6032]
[{"$f":"O871*100+P871","v":604602},6030,"与许由对话","",{"$nulls":5},106,{"$f":"IF(J871=\"\",\"\",VLOOKUP(J871,EventNPC!A:E,5,FALSE))","v":"许由"},6033,"你去吧，继续你的旅程，有缘再见。",null,6046,2,{"$f":"_xlfn.TEXTJOIN(\";\",1,R871:S871)","v":""},null,null,{"$f":"IF(R871=\"\",\"\",\"-\"&VLOOKUP(R871,EventConditionConfig!A:C,3,FALSE)&IF(S871=\"\",\"\",CHAR(10)&\"-\"&VLOOKUP(S871,EventConditionConfig!A:C,3,FALSE)))","v":""},{"$f":"IF(Y871=\"\",\"\",IF(ISTEXT(Y871),1,2))","v":""},"","","",null,null,"",null,null,"",{"$nulls":4},{"$f":"IF(A871=\"\",\"\",IF(ISNUMBER(Y871),2,IF(A872=\"\",IF(OR(AK871>0,VLOOKUP(O871,EventConfig!A:C,3,FALSE)=4),3,\"\"),1)))","v":""},"",null,6033]
[null,"",null,"",{"$nulls":7},"",null,null,null,"",{"$nulls":5},"","","",null,null,"",null,null,"",{"$nulls":4},{"$f":"IF(A872=\"\",\"\",IF(ISNUMBER(Y872),2,IF(A873=\"\",IF(OR(AK872>0,VLOOKUP(O872,EventConfig!A:C,3,FALSE)=4),3,\"\"),1)))","v":""},"",null,""]
[{"$f":"O873*100+P873","v":605101},{"$f":"IF(C873=\"\",\"\",IF(C873=C872,B872,MAX(AL872,AL871)+1))","v":6034},"完成所有对话","",{"$nulls":6},{"$f":"IF(J873=\"\",\"\",VLOOKUP(J873,EventNPC!A:E,5,FALSE))","v":""},6035,"你游历途中，忽见疯道人御风而来，或立于云端，或坐于路边。他看起来像在随处发呆，却又像在听风说话。",null,6051,1,{"$f":"_xlfn.TEXTJOIN(\";\",1,R873:S873)","v":""},null,null,{"$f":"IF(R873=\"\",\"\",\"-\"&VLOOKUP(R873,EventConditionConfig!A:C,3,FALSE)&IF(S873=\"\",\"\",CHAR(10)&\"-\"&VLOOKUP(S873,EventConditionConfig!A:C,3,FALSE)))","v":""},{"$f":"IF(Y873=\"\",\"\",IF(ISTEXT(Y873),1,2))","v":""},"","","",null,null,"",null,null,"",{"$nulls":4},{"$f":"IF(A873=\"\",\"\",IF(ISNUMBER(Y873),2,IF(A874=\"\",IF(OR(AK873>0,VLOOKUP(O873,EventConfig!A:C,3,FALSE)=4),3,\"\"),1)))","v":1},605102,null,6035]
[{"$f":"O874*100+P874","v":605102},6034,"完成所有对话","",{"$nulls":5},100,{"$f":"IF(J874=\"\",\"\",VLOOKUP(J874,EventNPC!A:E,5,FALSE))","v":"玩家"},6036,"前辈，好久不见。您怎会在此？",null,6051,2,{"$f":"_xlfn.TEXTJOIN(\";\",1,R874:S874)","v":""},null,null,{"$f":"IF(R874=\"\",\"\",\"-\"&VLOOKUP(R874,EventConditionConfig!A:C,3,FALSE)&IF(S874=\"\",\"\",CHAR(10)&\"-\"&VLOOKUP(S874,EventConditionConfig!A:C,3,FALSE)))","v":""},{"$f":"IF(Y874=\"\",\"\",IF(ISTEXT(Y874),1,2))","v":""},"","","",null,null,"",null,null,"",{"$nulls":4},{"$f":"IF(A874=\"\",\"\",IF(ISNUMBER(Y874),2,IF(A875=\"\",IF(OR(AK874>0,VLOOKUP(O874,EventConfig!A:C,3,FALSE)=4),3,\"\"),1)))","v":1},605103,null,6036]
[{"$f":"O875*100+P875","v":605103},6034,"完成所有对话","",{"$nulls":5},7,{"$f":"IF(J875=\"\",\"\",VLOOKUP(J875,EventNPC!A:E,5,FALSE))","v":"疯道人"},6037,"（大笑，声音如风啸）小友，又是你。\n我在此发呆有段时间了，有人笑我疯，有人说我傻。",null,6051,3,{"$f":"_xlfn.TEXTJOIN(\";\",1,R875:S875)","v":""},null,null,{"$f":"IF(R875=\"\",\"\",\"-\"&VLOOKUP(R875,EventConditionConfig!A:C,3,FALSE)&IF(S875=\"\",\"\",CHAR(10)&\"-\"&VLOOKUP(S875,EventConditionConfig!A:C,3,FALSE)))","v":""},{"$f":"IF(Y875=\"\",\"\",IF(ISTEXT(Y875),1,2))","v":1},"605104","6038",6038,"是什么人，如此大胆？",null,"",null,null,"",{"$nulls":4},{"$f":"IF(A875=\"\",\"\",IF(ISNUMBER(Y875),2,IF(A876=\"\",IF(OR(AK875>0,VLOOKUP(O875,EventConfig!A:C,3,FALSE)=4),3,\"\"),1)))","v":1},605104,null,6038]
[{"$f":"O876*100+P876","v":605104},6034,"完成所有对话","",{"$nulls":5},7,{"$f":"IF(J876=\"\",\"\",VLOOKUP(J876,EventNPC!A:E,5,FALSE))","v":"疯道人"},6039,"我可没空理会他们。\n你若有心，不妨帮我找些甜蜜果实，助我解乏。",null,6051,4,{"$f":"_xlfn.TEXTJOIN(\";\",1,R876:S876)","v":""},null,null,{"$f":"IF(R876=\"\",\"\",\"-\"&VLOOKUP(R876,EventConditionConfig!A:C,3,FALSE)&IF(S876=\"\",\"\",CHAR(10)&\"-\"&VLOOKUP(S876,EventConditionConfig!A:C,3,FALSE)))","v":""},{"$f":"IF(Y876=\"\",\"\",IF(ISTEXT(Y876),1,2))","v":1},"605105","6040",6040,"好的前辈",null,"",null,null,"",{"$nulls":4},{"$f":"IF(A876=\"\",\"\",IF(ISNUMBER(Y876),2,IF(A877=\"\",IF(OR(AK876>0,VLOOKUP(O876,EventConfig!A:C,3,FALSE)=4),3,\"\"),1)))","v":""},"",null,6040]
[null,"",null,"",{"$nulls":7},"",null,null,null,"",{"$nulls":5},"","","",null,null,"",null,null,"",{"$nulls":4},{"$f":"IF(A877=\"\",\"\",IF(ISNUMBER(Y877),2,IF(A878=\"\",IF(OR(AK877>0,VLOOKUP(O877,EventConfig!A:C,3,FALSE)=4),3,\"\"),1)))","v":""},"",null,""]
[{"$f":"O878*100+P878","v":605201},6041,"收集甜蜜果实","",{"$nulls":6},{"$f":"IF(J878=\"\",\"\",VLOOKUP(J878,EventNPC!A:E,5,FALSE))","v":""},6042,"你在游历间寻觅果实，果子甜香，灵气隐现。偶尔有小兽守护，需要小心避开或驱散。",null,6052,1,{"$f":"_xlfn.TEXTJOIN(\";\",1,R878:S878)","v":""},null,null,{"$f":"IF(R878=\"\",\"\",\"-\"&VLOOKUP(R878,EventConditionConfig!A:C,3,FALSE)&IF(S878=\"\",\"\",CHAR(10)&\"-\"&VLOOKUP(S878,EventConditionConfig!A:C,3,FALSE)))","v":""},{"$f":"IF(Y878=\"\",\"\",IF(ISTEXT(Y878),1,2))","v":""},"","","",null,null,"",null,null,"",{"$nulls":4},{"$f":"IF(A878=\"\",\"\",IF(ISNUMBER(Y878),2,IF(A879=\"\",IF(OR(AK878>0,VLOOKUP(O878,EventConfig!A:C,3,FALSE)=4),3,\"\"),1)))","v":1},605202,null,6042]
[{"$f":"O879*100+P879","v":605202},6041,"收集甜蜜果实","",{"$nulls":5},100,{"$f":"IF(J879=\"\",\"\",VLOOKUP(J879,EventNPC!A:E,5,FALSE))","v":"玩家"},6043,"前辈，果实已集齐。",null,6052,2,{"$f":"_xlfn.TEXTJOIN(\";\",1,R879:S879)","v":"46"},46,null,{"$f":"IF(R879=\"\",\"\",\"-\"&VLOOKUP(R879,EventConditionConfig!A:C,3,FALSE)&IF(S879=\"\",\"\",CHAR(10)&\"-\"&VLOOKUP(S879,EventConditionConfig!A:C,3,FALSE)))","v":"-完成神识探索-甜蜜果实"},{"$f":"IF(Y879=\"\",\"\",IF(ISTEXT(Y879),1,2))","v":""},"","","",null,null,"",null,null,"",{"$nulls":4},{"$f":"IF(A879=\"\",\"\",IF(ISNUMBER(Y879),2,IF(A880=\"\",IF(OR(AK879>0,VLOOKUP(O879,EventConfig!A:C,3,FALSE)=4),3,\"\"),1)))","v":1},605203,null,6043]
[{"$f":"O880*100+P880","v":605203},6041,"收集甜蜜果实","",{"$nulls":5},7,{"$f":"IF(J880=\"\",\"\",VLOOKUP(J880,EventNPC!A:E,5,FALSE))","v":"疯道人"},6044,"这些果实是解乏之物，长于树梢，有灵兽守护，这一趟辛苦你了。",null,6052,3,{"$f":"_xlfn.TEXTJOIN(\";\",1,R880:S880)","v":""},null,null,{"$f":"IF(R880=\"\",\"\",\"-\"&VLOOKUP(R880,EventConditionConfig!A:C,3,FALSE)&IF(S880=\"\",\"\",CHAR(10)&\"-\"&VLOOKUP(S880,EventConditionConfig!A:C,3,FALSE)))","v":""},{"$f":"IF(Y880=\"\",\"\",IF(ISTEXT(Y880),1,2))","v":""},"","","",null,null,"",null,null,"",{"$nulls":4},{"$f":"IF(A880=\"\",\"\",IF(ISNUMBER(Y880),2,IF(A881=\"\",IF(OR(AK880>0,VLOOKUP(O880,EventConfig!A:C,3,FALSE)=4),3,\"\"),1)))","v":1},605204,null,6044]
[{"$f":"O881*100+P881","v":605204},6041,"收集甜蜜果实","",{"$nulls":5},7,{"$f":"IF(J881=\"\",\"\",VLOOKUP(J881,EventNPC!A:E,5,FALSE))","v":"疯道人"},6045,"（咬一口，眼中闪过一丝赞许）多谢。小友眼力不错，都是上好的果子。",null,6052,4,{"$f":"_xlfn.TEXTJOIN(\";\",1,R881:S881)","v":""},null,null,{"$f":"IF(R881=\"\",\"\",\"-\"&VLOOKUP(R881,EventConditionConfig!A:C,3,FALSE)&IF(S881=\"\",\"\",CHAR(10)&\"-\"&VLOOKUP(S881,EventConditionConfig!A:C,3,FALSE)))","v":""},{"$f":"IF(Y881=\"\",\"\",IF(ISTEXT(Y881),1,2))","v":""},"","","",null,null,"",null,null,"",{"$nulls":4},{"$f":"IF(A881=\"\",\"\",IF(ISNUMBER(Y881),2,IF(A882=\"\",IF(OR(AK881>0,VLOOKUP(O881,EventConfig!A:C,3,FALSE)=4),3,\"\"),1)))","v":""},"",null,6045]
[null,"",null,"",{"$nulls":7},"",null,null,null,"",{"$nulls":5},"","","",null,null,"",null,null,"",{"$nulls":4},{"$f":"IF(A882=\"\",\"\",IF(ISNUMBER(Y882),2,IF(A883=\"\",IF(OR(AK882>0,VLOOKUP(O882,EventConfig!A:C,3,FALSE)=4),3,\"\"),1)))","v":""},"",null,""]
[{"$f":"O883*100+P883","v":605301},6046,"收集甜蜜果实","",{"$nulls":5},7,{"$f":"IF(J883=\"\",\"\",VLOOKUP(J883,EventNPC!A:E,5,FALSE))","v":"疯道人"},6047,"果子已备，你来助我驱妖。",null,6053,1,{"$f":"_xlfn.TEXTJOIN(\";\",1,R883:S883)","v":""},null,null,{"$f":"IF(R883=\"\",\"\",\"-\"&VLOOKUP(R883,EventConditionConfig!A:C,3,FALSE)&IF(S883=\"\",\"\",CHAR(10)&\"-\"&VLOOKUP(S883,EventConditionConfig!A:C,3,FALSE)))","v":""},{"$f":"IF(Y883=\"\",\"\",IF(ISTEXT(Y883),1,2))","v":2},3014,"","",3014,null,"",null,null,"",{"$nulls":4},{"$f":"IF(A883=\"\",\"\",IF(ISNUMBER(Y883),2,IF(A884=\"\",IF(OR(AK883>0,VLOOKUP(O883,EventConfig!A:C,3,FALSE)=4),3,\"\"),1)))","v":2},"605302;101",null,6047]
[605302,6046,"收集甜蜜果实","",{"$nulls":6},{"$f":"IF(J884=\"\",\"\",VLOOKUP(J884,EventNPC!A:E,5,FALSE))","v":""},"",null,null,6053,2,"",null,null,{"$f":"IF(R884=\"\",\"\",\"-\"&VLOOKUP(R884,EventConditionConfig!A:C,3,FALSE)&IF(S884=\"\",\"\",CHAR(10)&\"-\"&VLOOKUP(S884,EventConditionConfig!A:C,3,FALSE)))","v":""},1,"605303","6048",6048,"啊！前辈原来是在驱魔除妖，却被世人误会，为何不早解释。",null,"",null,null,"",{"$nulls":4},{"$f":"IF(A884=\"\",\"\",IF(ISNUMBER(Y884),2,IF(A885=\"\",IF(OR(AK884>0,VLOOKUP(O884,EventConfig!A:C,3,FALSE)=4),3,\"\"),1)))","v":1},605303,null,6048]
[605303,6046,"收集甜蜜果实","",{"$nulls":5},7,{"$f":"IF(J885=\"\",\"\",VLOOKUP(J885,EventNPC!A:E,5,FALSE))","v":"疯道人"},6049,"我游荡多年，有人说我聪明，有人说我糊涂。可聪明糊涂，又有何区别？",null,6053,3,{"$f":"_xlfn.TEXTJOIN(\";\",1,R885:S885)","v":""},null,null,{"$f":"IF(R885=\"\",\"\",\"-\"&VLOOKUP(R885,EventConditionConfig!A:C,3,FALSE)&IF(S885=\"\",\"\",CHAR(10)&\"-\"&VLOOKUP(S885,EventConditionConfig!A:C,3,FALSE)))","v":""},{"$f":"IF(Y885=\"\",\"\",IF(ISTEXT(Y885),1,2))","v":1},"605304","6050",6050,"别人怎么评,前辈真不放在心上？",null,"",null,null,"",{"$nulls":4},{"$f":"IF(A885=\"\",\"\",IF(ISNUMBER(Y885),2,IF(A886=\"\",IF(OR(AK885>0,VLOOKUP(O885,EventConfig!A:C,3,FALSE)=4),3,\"\"),1)))","v":1},605304,null,6050]
[605304,6046,"收集甜蜜果实","",{"$nulls":5},7,{"$f":"IF(J886=\"\",\"\",VLOOKUP(J886,EventNPC!A:E,5,FALSE))","v":"疯道人"},6051,"不会。",null,6053,4,{"$f":"_xlfn.TEXTJOIN(\";\",1,R886:S886)","v":""},null,null,{"$f":"IF(R886=\"\",\"\",\"-\"&VLOOKUP(R886,EventConditionConfig!A:C,3,FALSE)&IF(S886=\"\",\"\",CHAR(10)&\"-\"&VLOOKUP(S886,EventConditionConfig!A:C,3,FALSE)))","v":""},{"$f":"IF(Y886=\"\",\"\",IF(ISTEXT(Y886),1,2))","v":""},"","","",null,null,"",null,null,"",{"$nulls":4},{"$f":"IF(A886=\"\",\"\",IF(ISNUMBER(Y886),2,IF(A887=\"\",IF(OR(AK886>0,VLOOKUP(O886,EventConfig!A:C,3,FALSE)=4),3,\"\"),1)))","v":""},"",null,6051]
[null,"",null,"",{"$nulls":7},"",{"$nulls":9},"","","",null,null,"",null,null,"",{"$nulls":4},{"$f":"IF(A887=\"\",\"\",IF(ISNUMBER(Y887),2,IF(A888=\"\",IF(OR(AK887>0,VLOOKUP(O887,EventConfig!A:C,3,FALSE)=4),3,\"\"),1)))","v":""},"",null,""]
[{"$f":"O888*100+P888","v":605401},6052,"搜集灵石","",{"$nulls":5},7,{"$f":"IF(J888=\"\",\"\",VLOOKUP(J888,EventNPC!A:E,5,FALSE))","v":"疯道人"},6053,"最近灵石都花光了，能否借我一下。",null,6054,{"$f":"IF(O888=\"\",\"\",IF(O888=O887,P887+1,1))","v":1},{"$f":"_xlfn.TEXTJOIN(\";\",1,R888:S888)","v":""},null,null,{"$f":"IF(R888=\"\",\"\",\"-\"&VLOOKUP(R888,EventConditionConfig!A:C,3,FALSE)&IF(S888=\"\",\"\",CHAR(10)&\"-\"&VLOOKUP(S888,EventConditionConfig!A:C,3,FALSE)))","v":""},{"$f":"IF(Y888=\"\",\"\",IF(ISTEXT(Y888),1,2))","v":1},"605402;605403","6054;6055",6054,"给",{"$f":"A889","v":605402},6055,"不给",{"$f":"A890","v":605403},"",null,{"$f":"D890","v":""},null,null,{"$f":"IF(A888=\"\",\"\",IF(ISNUMBER(Y888),2,IF(A889=\"\",IF(OR(AK888>0,VLOOKUP(O888,EventConfig!A:C,3,FALSE)=4),3,\"\"),1)))","v":1},605402,null,6055]
[{"$f":"O889*100+P889","v":605402},6052,"搜集灵石","",{"$nulls":5},7,{"$f":"IF(J889=\"\",\"\",VLOOKUP(J889,EventNPC!A:E,5,FALSE))","v":"疯道人"},6056,"（融入稳身，点头）多谢。",null,6054,{"$f":"IF(O889=\"\",\"\",IF(O889=O888,P888+1,1))","v":2},{"$f":"_xlfn.TEXTJOIN(\";\",1,R889:S889)","v":""},null,null,{"$f":"IF(R889=\"\",\"\",\"-\"&VLOOKUP(R889,EventConditionConfig!A:C,3,FALSE)&IF(S889=\"\",\"\",CHAR(10)&\"-\"&VLOOKUP(S889,EventConditionConfig!A:C,3,FALSE)))","v":""},{"$f":"IF(Y889=\"\",\"\",IF(ISTEXT(Y889),1,2))","v":""},"","","",null,null,"",null,null,"",{"$nulls":4},{"$f":"IF(A889=\"\",\"\",IF(ISNUMBER(Y889),2,IF(A890=\"\",IF(OR(AK889>0,VLOOKUP(O889,EventConfig!A:C,3,FALSE)=4),3,\"\"),1)))","v":1},605403,null,6056]
[{"$f":"O890*100+P890","v":605403},6052,"搜集灵石","",{"$nulls":5},7,{"$f":"IF(J890=\"\",\"\",VLOOKUP(J890,EventNPC!A:E,5,FALSE))","v":"疯道人"},6057,"也罢，小友有我当年的气势，哈哈。",null,6054,{"$f":"IF(O890=\"\",\"\",IF(O890=O889,P889+1,1))","v":3},{"$f":"_xlfn.TEXTJOIN(\";\",1,R890:S890)","v":""},null,null,{"$f":"IF(R890=\"\",\"\",\"-\"&VLOOKUP(R890,EventConditionConfig!A:C,3,FALSE)&IF(S890=\"\",\"\",CHAR(10)&\"-\"&VLOOKUP(S890,EventConditionConfig!A:C,3,FALSE)))","v":""},{"$f":"IF(Y890=\"\",\"\",IF(ISTEXT(Y890),1,2))","v":""},"","","",null,null,"",null,null,"",{"$nulls":4},{"$f":"IF(A890=\"\",\"\",IF(ISNUMBER(Y890),2,IF(A891=\"\",IF(OR(AK890>0,VLOOKUP(O890,EventConfig!A:C,3,FALSE)=4),3,\"\"),1)))","v":1},605404,null,6057]
[{"$f":"O891*100+P891","v":605404},6052,"搜集灵石","",{"$nulls":6},{"$f":"IF(J891=\"\",\"\",VLOOKUP(J891,EventNPC!A:E,5,FALSE))","v":""},6058,"（疯道人还是趁你不备顺走了你的一些灵石）虽然你发现了，但还是给前辈一个面子就此作罢。",null,6054,{"$f":"IF(O891=\"\",\"\",IF(O891=O890,P890+1,1))","v":4},{"$f":"_xlfn.TEXTJOIN(\";\",1,R891:S891)","v":""},null,null,{"$f":"IF(R891=\"\",\"\",\"-\"&VLOOKUP(R891,EventConditionConfig!A:C,3,FALSE)&IF(S891=\"\",\"\",CHAR(10)&\"-\"&VLOOKUP(S891,EventConditionConfig!A:C,3,FALSE)))","v":""},{"$f":"IF(Y891=\"\",\"\",IF(ISTEXT(Y891),1,2))","v":""},"","","",null,null,"",null,null,"",{"$nulls":4},{"$f":"IF(A891=\"\",\"\",IF(ISNUMBER(Y891),2,IF(A892=\"\",IF(OR(AK891>0,VLOOKUP(O891,EventConfig!A:C,3,FALSE)=4),3,\"\"),1)))","v":""},"",null,6058]
[null,"",null,"",{"$nulls":7},"",{"$nulls":9},"","","",null,null,"",null,null,"",{"$nulls":4},{"$f":"IF(A892=\"\",\"\",IF(ISNUMBER(Y892),2,IF(A893=\"\",IF(OR(AK892>0,VLOOKUP(O892,EventConfig!A:C,3,FALSE)=4),3,\"\"),1)))","v":""},"",null,""]
[{"$f":"O893*100+P893","v":605501},6059,"搜集灵石","",{"$nulls":6},{"$f":"IF(J893=\"\",\"\",VLOOKUP(J893,EventNPC!A:E,5,FALSE))","v":""},6060,"你游历途中，发现疯道人正和一群凡人赌钱，还输的一塌糊涂…",null,6055,{"$f":"IF(O893=\"\",\"\",IF(O893=O892,P892+1,1))","v":1},{"$f":"_xlfn.TEXTJOIN(\";\",1,R893:S893)","v":""},null,null,{"$f":"IF(R893=\"\",\"\",\"-\"&VLOOKUP(R893,EventConditionConfig!A:C,3,FALSE)&IF(S893=\"\",\"\",CHAR(10)&\"-\"&VLOOKUP(S893,EventConditionConfig!A:C,3,FALSE)))","v":""},{"$f":"IF(Y893=\"\",\"\",IF(ISTEXT(Y893),1,2))","v":""},"","","",null,null,"",null,null,"",{"$nulls":4},{"$f":"IF(A893=\"\",\"\",IF(ISNUMBER(Y893),2,IF(A894=\"\",IF(OR(AK893>0,VLOOKUP(O893,EventConfig!A:C,3,FALSE)=4),3,\"\"),1)))","v":1},605502,null,6060]
[{"$f":"O894*100+P894","v":605502},6059,"搜集灵石","",{"$nulls":5},7,{"$f":"IF(J894=\"\",\"\",VLOOKUP(J894,EventNPC!A:E,5,FALSE))","v":"疯道人"},6061,"小友，又见面了！",null,6055,{"$f":"IF(O894=\"\",\"\",IF(O894=O893,P893+1,1))","v":2},{"$f":"_xlfn.TEXTJOIN(\";\",1,R894:S894)","v":""},null,null,{"$f":"IF(R894=\"\",\"\",\"-\"&VLOOKUP(R894,EventConditionConfig!A:C,3,FALSE)&IF(S894=\"\",\"\",CHAR(10)&\"-\"&VLOOKUP(S894,EventConditionConfig!A:C,3,FALSE)))","v":""},{"$f":"IF(Y894=\"\",\"\",IF(ISTEXT(Y894),1,2))","v":1},"605503","6062",6062,"前辈你！？我借你的钱，都拿去和人赌博了？？",null,"",null,null,"",{"$nulls":4},{"$f":"IF(A894=\"\",\"\",IF(ISNUMBER(Y894),2,IF(A895=\"\",IF(OR(AK894>0,VLOOKUP(O894,EventConfig!A:C,3,FALSE)=4),3,\"\"),1)))","v":1},605503,null,6062]
[{"$f":"O895*100+P895","v":605503},6059,"搜集灵石","",{"$nulls":5},7,{"$f":"IF(J895=\"\",\"\",VLOOKUP(J895,EventNPC!A:E,5,FALSE))","v":"疯道人"},6063,"不错，手气不好，小友不如再借我2000灵石，我很快就翻本了。",null,6055,{"$f":"IF(O895=\"\",\"\",IF(O895=O894,P894+1,1))","v":3},{"$f":"_xlfn.TEXTJOIN(\";\",1,R895:S895)","v":""},null,null,{"$f":"IF(R895=\"\",\"\",\"-\"&VLOOKUP(R895,EventConditionConfig!A:C,3,FALSE)&IF(S895=\"\",\"\",CHAR(10)&\"-\"&VLOOKUP(S895,EventConditionConfig!A:C,3,FALSE)))","v":""},{"$f":"IF(Y895=\"\",\"\",IF(ISTEXT(Y895),1,2))","v":1},"605504","6064",6064,"（愤怒）太过分了，居然骗我钱。。",null,"",null,null,"",{"$nulls":4},{"$f":"IF(A895=\"\",\"\",IF(ISNUMBER(Y895),2,IF(A896=\"\",IF(OR(AK895>0,VLOOKUP(O895,EventConfig!A:C,3,FALSE)=4),3,\"\"),1)))","v":1},605504,null,6064]
[{"$f":"O896*100+P896","v":605504},6059,"搜集灵石","",{"$nulls":5},7,{"$f":"IF(J896=\"\",\"\",VLOOKUP(J896,EventNPC!A:E,5,FALSE))","v":"疯道人"},6065,"小友，有话好好说，我可没骗你。\n你上次不也没问我借钱干嘛呀。",null,6055,{"$f":"IF(O896=\"\",\"\",IF(O896=O895,P895+1,1))","v":4},{"$f":"_xlfn.TEXTJOIN(\";\",1,R896:S896)","v":""},null,null,{"$f":"IF(R896=\"\",\"\",\"-\"&VLOOKUP(R896,EventConditionConfig!A:C,3,FALSE)&IF(S896=\"\",\"\",CHAR(10)&\"-\"&VLOOKUP(S896,EventConditionConfig!A:C,3,FALSE)))","v":""},{"$f":"IF(Y896=\"\",\"\",IF(ISTEXT(Y896),1,2))","v":1},"605505","6066",6066,"还在狡辩，看招。",null,"",null,null,"",{"$nulls":4},{"$f":"IF(A896=\"\",\"\",IF(ISNUMBER(Y896),2,IF(A897=\"\",IF(OR(AK896>0,VLOOKUP(O896,EventConfig!A:C,3,FALSE)=4),3,\"\"),1)))","v":1},605505,null,6066]
[{"$f":"O897*100+P897","v":605505},6067,"击败疯道人","",{"$nulls":6},{"$f":"IF(J897=\"\",\"\",VLOOKUP(J897,EventNPC!A:E,5,FALSE))","v":""},"",null,null,6055,{"$f":"IF(O897=\"\",\"\",IF(O897=O896,P896+1,1))","v":5},{"$f":"_xlfn.TEXTJOIN(\";\",1,R897:S897)","v":""},null,null,{"$f":"IF(R897=\"\",\"\",\"-\"&VLOOKUP(R897,EventConditionConfig!A:C,3,FALSE)&IF(S897=\"\",\"\",CHAR(10)&\"-\"&VLOOKUP(S897,EventConditionConfig!A:C,3,FALSE)))","v":""},{"$f":"IF(Y897=\"\",\"\",IF(ISTEXT(Y897),1,2))","v":2},3015,"","",3015,null,"",null,null,"",{"$nulls":4},{"$f":"IF(A897=\"\",\"\",IF(ISNUMBER(Y897),2,IF(A898=\"\",IF(OR(AK897>0,VLOOKUP(O897,EventConfig!A:C,3,FALSE)=4),3,\"\"),1)))","v":2},"605506;101",null,6067]
[{"$f":"O898*100+P898","v":605506},6067,"击败疯道人","",{"$nulls":6},{"$f":"IF(J898=\"\",\"\",VLOOKUP(J898,EventNPC!A:E,5,FALSE))","v":""},6068,"你击败了疯道人。",null,6055,{"$f":"IF(O898=\"\",\"\",IF(O898=O897,P897+1,1))","v":6},{"$f":"_xlfn.TEXTJOIN(\";\",1,R898:S898)","v":""},null,null,{"$f":"IF(R898=\"\",\"\",\"-\"&VLOOKUP(R898,EventConditionConfig!A:C,3,FALSE)&IF(S898=\"\",\"\",CHAR(10)&\"-\"&VLOOKUP(S898,EventConditionConfig!A:C,3,FALSE)))","v":""},{"$f":"IF(Y898=\"\",\"\",IF(ISTEXT(Y898),1,2))","v":""},"","","",null,null,"",null,null,"",{"$nulls":4},{"$f":"IF(A898=\"\",\"\",IF(ISNUMBER(Y898),2,IF(A899=\"\",IF(OR(AK898>0,VLOOKUP(O898,EventConfig!A:C,3,FALSE)=4),3,\"\"),1)))","v":""},"",null,6068]
[null,"",null,"",{"$nulls":7},"",{"$nulls":9},"","","",null,null,"",null,null,"",{"$nulls":4},{"$f":"IF(A899=\"\",\"\",IF(ISNUMBER(Y899),2,IF(A900=\"\",IF(OR(AK899>0,VLOOKUP(O899,EventConfig!A:C,3,FALSE)=4),3,\"\"),1)))","v":""},"",null,""]
[{"$f":"O900*100+P900","v":911101},6069,"和渔民们对话，了解渔民遇到什么困难","",{"$nulls":5},126,{"$f":"IF(J900=\"\",\"\",VLOOKUP(J900,EventNPC!A:E,5,FALSE))","v":"老张"},6070,"（紧张）你是路过的仙师吧？我们渔村遭了大难！",null,9111,{"$f":"IF(O900=\"\",\"\",IF(O900=O899,P899+1,1))","v":1},{"$f":"_xlfn.TEXTJOIN(\";\",1,R900:S900)","v":""},null,null,{"$f":"IF(R900=\"\",\"\",\"-\"&VLOOKUP(R900,EventConditionConfig!A:C,3,FALSE)&IF(S900=\"\",\"\",CHAR(10)&\"-\"&VLOOKUP(S900,EventConditionConfig!A:C,3,FALSE)))","v":""},{"$f":"IF(Y900=\"\",\"\",IF(ISTEXT(Y900),1,2))","v":""},"","","",null,null,"",null,null,"",{"$nulls":4},{"$f":"IF(A900=\"\",\"\",IF(ISNUMBER(Y900),2,IF(A901=\"\",IF(OR(AK900>0,VLOOKUP(O900,EventConfig!A:C,3,FALSE)=4),3,\"\"),1)))","v":1},911102,null,6070]
[911102,6069,"和渔民们对话，了解渔民遇到什么困难","",{"$nulls":5},126,{"$f":"IF(J901=\"\",\"\",VLOOKUP(J901,EventNPC!A:E,5,FALSE))","v":"老张"},6071,"这几晚，海面亮得像铺了星辰，渔民出海就被水鬼缠上，网破船翻，连老李的儿子都失踪了！",null,9111,2,"",null,null,{"$f":"IF(R901=\"\",\"\",\"-\"&VLOOKUP(R901,EventConditionConfig!A:C,3,FALSE)&IF(S901=\"\",\"\",CHAR(10)&\"-\"&VLOOKUP(S901,EventConditionConfig!A:C,3,FALSE)))","v":""},"","","","",null,null,"",null,null,"",{"$nulls":4},{"$f":"IF(A901=\"\",\"\",IF(ISNUMBER(Y901),2,IF(A902=\"\",IF(OR(AK901>0,VLOOKUP(O901,EventConfig!A:C,3,FALSE)=4),3,\"\"),1)))","v":1},911103,null,6071]
[911103,6069,"和渔民们对话，了解渔民遇到什么困难",{"$f":"IF(E902=\"\",\"\",IF(E902=E901,D901,MAX(AL901,AL900,B902)+1))","v":""},{"$nulls":5},126,{"$f":"IF(J902=\"\",\"\",VLOOKUP(J902,EventNPC!A:E,5,FALSE))","v":"老张"},{"$f":"IF(M902=\"\",\"\",MAX(AL901,AL900,B902,D902)+1)","v":6072},"仙师，求你帮帮我们，查查这怪事！",null,9111,3,"",null,null,{"$f":"IF(R902=\"\",\"\",\"-\"&VLOOKUP(R902,EventConditionConfig!A:C,3,FALSE)&IF(S902=\"\",\"\",CHAR(10)&\"-\"&VLOOKUP(S902,EventConditionConfig!A:C,3,FALSE)))","v":""},1,"911104;911107","6073;6074",6073,"妖物袭击？能否说说具体情况？",{"$f":"A903","v":911104},6074,"听起来很严重，我会尽力帮你们查明真相！",{"$f":"A906","v":911107},"",null,{"$f":"D906","v":""},null,null,{"$f":"IF(A902=\"\",\"\",IF(ISNUMBER(Y902),2,IF(A903=\"\",IF(OR(AK902>0,VLOOKUP(O902,EventConfig!A:C,3,FALSE)=4),3,\"\"),1)))","v":1},911104,null,{"$f":"IF(A902=\"\",\"\",MAX(B902,D902,L902,X902,AA902,AL901,AL900,AD902))","v":6074}]
[911104,6069,"和渔民们对话，了解渔民遇到什么困难","",{"$nulls":5},126,{"$f":"IF(J903=\"\",\"\",VLOOKUP(J903,EventNPC!A:E,5,FALSE))","v":"老张"},6075,"唉，三天前开始，每到子时，海面就泛起蓝光，像有灵宝出世。",null,9111,4,"",null,null,{"$f":"IF(R903=\"\",\"\",\"-\"&VLOOKUP(R903,EventConditionConfig!A:C,3,FALSE)&IF(S903=\"\",\"\",CHAR(10)&\"-\"&VLOOKUP(S903,EventConditionConfig!A:C,3,FALSE)))","v":""},"","","","",null,null,"",null,null,"",{"$nulls":4},{"$f":"IF(A903=\"\",\"\",IF(ISNUMBER(Y903),2,IF(A904=\"\",IF(OR(AK903>0,VLOOKUP(O903,EventConfig!A:C,3,FALSE)=4),3,\"\"),1)))","v":1},911105,null,6075]
[911105,6069,"和渔民们对话，了解渔民遇到什么困难","",{"$nulls":5},126,{"$f":"IF(J904=\"\",\"\",VLOOKUP(J904,EventNPC!A:E,5,FALSE))","v":"老张"},6076,"可渔民靠近就被水鬼拖下水，尖叫声传遍村子。",null,9111,5,"",null,null,{"$f":"IF(R904=\"\",\"\",\"-\"&VLOOKUP(R904,EventConditionConfig!A:C,3,FALSE)&IF(S904=\"\",\"\",CHAR(10)&\"-\"&VLOOKUP(S904,EventConditionConfig!A:C,3,FALSE)))","v":""},"","","","",null,null,"",null,null,"",{"$nulls":4},{"$f":"IF(A904=\"\",\"\",IF(ISNUMBER(Y904),2,IF(A905=\"\",IF(OR(AK904>0,VLOOKUP(O904,EventConfig!A:C,3,FALSE)=4),3,\"\"),1)))","v":1},911106,null,6076]
[911106,6069,"和渔民们对话，了解渔民遇到什么困难","",{"$nulls":5},126,{"$f":"IF(J905=\"\",\"\",VLOOKUP(J905,EventNPC!A:E,5,FALSE))","v":"老张"},6077,"老李的船回来时，上面全是抓痕，像是被妖兽挠的。我们怀疑是海灵发怒，可没人敢再出海了。",null,9111,6,"",null,null,{"$f":"IF(R905=\"\",\"\",\"-\"&VLOOKUP(R905,EventConditionConfig!A:C,3,FALSE)&IF(S905=\"\",\"\",CHAR(10)&\"-\"&VLOOKUP(S905,EventConditionConfig!A:C,3,FALSE)))","v":""},"","","","",null,null,"",null,null,"",{"$nulls":4},{"$f":"IF(A905=\"\",\"\",IF(ISNUMBER(Y905),2,IF(A906=\"\",IF(OR(AK905>0,VLOOKUP(O905,EventConfig!A:C,3,FALSE)=4),3,\"\"),1)))","v":1},911108,{"$f":"A907","v":911108},6077]
[911107,6069,"和渔民们对话，了解渔民遇到什么困难","",{"$nulls":5},126,{"$f":"IF(J906=\"\",\"\",VLOOKUP(J906,EventNPC!A:E,5,FALSE))","v":"老张"},6078,"仙师仗义！我们这些凡人只能靠你了。。",null,9111,7,"",null,null,{"$f":"IF(R906=\"\",\"\",\"-\"&VLOOKUP(R906,EventConditionConfig!A:C,3,FALSE)&IF(S906=\"\",\"\",CHAR(10)&\"-\"&VLOOKUP(S906,EventConditionConfig!A:C,3,FALSE)))","v":""},"","","","",null,null,"",null,null,"",{"$nulls":4},{"$f":"IF(A906=\"\",\"\",IF(ISNUMBER(Y906),2,IF(A907=\"\",IF(OR(AK906>0,VLOOKUP(O906,EventConfig!A:C,3,FALSE)=4),3,\"\"),1)))","v":1},911108,{"$f":"A907","v":911108},6078]
[911108,6069,"和渔民们对话，了解渔民遇到什么困难","",{"$nulls":5},127,{"$f":"IF(J907=\"\",\"\",VLOOKUP(J907,EventNPC!A:E,5,FALSE))","v":"老李"},6079,"儿……我儿出海后就没回来！那天晚上，海水亮得吓人，像是鬼火。",null,9111,8,"",null,null,{"$f":"IF(R907=\"\",\"\",\"-\"&VLOOKUP(R907,EventConditionConfig!A:C,3,FALSE)&IF(S907=\"\",\"\",CHAR(10)&\"-\"&VLOOKUP(S907,EventConditionConfig!A:C,3,FALSE)))","v":""},"","","","",null,null,"",null,null,"",{"$nulls":4},{"$f":"IF(A907=\"\",\"\",IF(ISNUMBER(Y907),2,IF(A908=\"\",IF(OR(AK907>0,VLOOKUP(O907,EventConfig!A:C,3,FALSE)=4),3,\"\"),1)))","v":1},911109,null,6079]
[911109,6069,"和渔民们对话，了解渔民遇到什么困难","",{"$nulls":5},127,{"$f":"IF(J908=\"\",\"\",VLOOKUP(J908,EventNPC!A:E,5,FALSE))","v":"老李"},6080,"他船上留了这块鳞片，你看看，是不是妖物留下的？",null,9111,9,"",null,null,{"$f":"IF(R908=\"\",\"\",\"-\"&VLOOKUP(R908,EventConditionConfig!A:C,3,FALSE)&IF(S908=\"\",\"\",CHAR(10)&\"-\"&VLOOKUP(S908,EventConditionConfig!A:C,3,FALSE)))","v":""},"","","","",null,null,"",null,null,"",{"$nulls":4},{"$f":"IF(A908=\"\",\"\",IF(ISNUMBER(Y908),2,IF(A909=\"\",IF(OR(AK908>0,VLOOKUP(O908,EventConfig!A:C,3,FALSE)=4),3,\"\"),1)))","v":1},911110,null,6080]
[911110,6069,"和渔民们对话，了解渔民遇到什么困难","",{"$nulls":5},100,{"$f":"IF(J909=\"\",\"\",VLOOKUP(J909,EventNPC!A:E,5,FALSE))","v":"玩家"},6081,"（接过鳞片）此物我也未曾见过，应该是妖怪所留。",null,9111,10,"",null,null,{"$f":"IF(R909=\"\",\"\",\"-\"&VLOOKUP(R909,EventConditionConfig!A:C,3,FALSE)&IF(S909=\"\",\"\",CHAR(10)&\"-\"&VLOOKUP(S909,EventConditionConfig!A:C,3,FALSE)))","v":""},"","","",{"$f":"IF(OR(ISNUMBER(Y909),Y909=\"\"),\"\",MAX(AL908,AL906,B909,D909,L909)+1)","v":""},null,null,{"$f":"IF(OR(ISNUMBER(AB909),AB909=\"\"),\"\",X909+1)","v":""},null,null,{"$f":"IF(OR(ISNUMBER(AE909),AE909=\"\"),\"\",AA909+1)","v":""},{"$nulls":4},{"$f":"IF(A909=\"\",\"\",IF(ISNUMBER(Y909),2,IF(A910=\"\",IF(OR(AK909>0,VLOOKUP(O909,EventConfig!A:C,3,FALSE)=4),3,\"\"),1)))","v":1},911111,null,6081]
[911111,6069,"和渔民们对话，了解渔民遇到什么困难","",{"$nulls":5},127,{"$f":"IF(J910=\"\",\"\",VLOOKUP(J910,EventNPC!A:E,5,FALSE))","v":"老李"},6082,"这个鳞片你先拿着，我等凡人也看不出此物有何作用。也许对仙师对付妖物有用。",null,9111,11,"",null,null,{"$f":"IF(R910=\"\",\"\",\"-\"&VLOOKUP(R910,EventConditionConfig!A:C,3,FALSE)&IF(S910=\"\",\"\",CHAR(10)&\"-\"&VLOOKUP(S910,EventConditionConfig!A:C,3,FALSE)))","v":""},"",{"$f":"IF(U910=1,_xlfn.TEXTJOIN(\";\",1,IF(Z910=\"\",A910+1,Z910),IF(AND(AA910<>\"\",AC910=\"\"),A910+1,AC910),IF(AND(AD910<>\"\",AF910=\"\"),A910+1,AF910)),IF(U910=2,Y910,\"\"))","v":""},{"$f":"_xlfn.TEXTJOIN(\";\",1,X910,AA910,AD910)","v":""},"",null,null,"",null,null,"",{"$nulls":4},{"$f":"IF(A910=\"\",\"\",IF(ISNUMBER(Y910),2,IF(A911=\"\",IF(OR(AK910>0,VLOOKUP(O910,EventConfig!A:C,3,FALSE)=4),3,\"\"),1)))","v":1},{"$f":"IF(AI910=\"\",\"\",CHOOSE(AI910,IF(AK910=\"\",A910+1,AK910),CONCATENATE(IF(AK910=\"\",A910+1,AK910),\";101\"),IF(AK910=\"\",O910+1,AK910)))","v":911112},null,6082]
[911112,6069,"和渔民们对话，了解渔民遇到什么困难","",{"$nulls":5},100,{"$f":"IF(J911=\"\",\"\",VLOOKUP(J911,EventNPC!A:E,5,FALSE))","v":"玩家"},6083,"好的，此物我先收下，你儿可有什么辨别之物？（玩家收下龙鳞，只感觉着龙鳞并非凡物）。",null,9111,12,"",null,null,{"$f":"IF(R911=\"\",\"\",\"-\"&VLOOKUP(R911,EventConditionConfig!A:C,3,FALSE)&IF(S911=\"\",\"\",CHAR(10)&\"-\"&VLOOKUP(S911,EventConditionConfig!A:C,3,FALSE)))","v":""},"","","","",null,null,"",null,null,"",{"$nulls":4},{"$f":"IF(A911=\"\",\"\",IF(ISNUMBER(Y911),2,IF(A912=\"\",IF(OR(AK911>0,VLOOKUP(O911,EventConfig!A:C,3,FALSE)=4),3,\"\"),1)))","v":1},911113,null,6083]
[911113,6069,"和渔民们对话，了解渔民遇到什么困难","",{"$nulls":5},127,{"$f":"IF(J912=\"\",\"\",VLOOKUP(J912,EventNPC!A:E,5,FALSE))","v":"老李"},6084,"他脖子上带有我为他祈求的平安符。就是这种。（老李将平安符拿给玩家看）",null,9111,13,"",null,null,{"$f":"IF(R912=\"\",\"\",\"-\"&VLOOKUP(R912,EventConditionConfig!A:C,3,FALSE)&IF(S912=\"\",\"\",CHAR(10)&\"-\"&VLOOKUP(S912,EventConditionConfig!A:C,3,FALSE)))","v":""},"","","","",null,null,"",null,null,"",{"$nulls":4},{"$f":"IF(A912=\"\",\"\",IF(ISNUMBER(Y912),2,IF(A913=\"\",IF(OR(AK912>0,VLOOKUP(O912,EventConfig!A:C,3,FALSE)=4),3,\"\"),1)))","v":1},911114,null,6084]
[911114,6069,"和渔民们对话，了解渔民遇到什么困难","",{"$nulls":5},100,{"$f":"IF(J913=\"\",\"\",VLOOKUP(J913,EventNPC!A:E,5,FALSE))","v":"玩家"},6085,"好的我前去查看一番。",null,9111,14,"",null,null,{"$f":"IF(R913=\"\",\"\",\"-\"&VLOOKUP(R913,EventConditionConfig!A:C,3,FALSE)&IF(S913=\"\",\"\",CHAR(10)&\"-\"&VLOOKUP(S913,EventConditionConfig!A:C,3,FALSE)))","v":""},"","","","",null,null,"",null,null,"",{"$nulls":4},{"$f":"IF(A913=\"\",\"\",IF(ISNUMBER(Y913),2,IF(A914=\"\",IF(OR(AK913>0,VLOOKUP(O913,EventConfig!A:C,3,FALSE)=4),3,\"\"),1)))","v":1},911115,null,6085]
[911115,6069,"和渔民们对话，了解渔民遇到什么困难","",{"$nulls":5},127,{"$f":"IF(J914=\"\",\"\",VLOOKUP(J914,EventNPC!A:E,5,FALSE))","v":"老李"},6086,"他脖子上带有我为他祈求的平安符。就是这种。（老李将平安符拿给玩家看）",null,9111,15,"",null,null,{"$f":"IF(R914=\"\",\"\",\"-\"&VLOOKUP(R914,EventConditionConfig!A:C,3,FALSE)&IF(S914=\"\",\"\",CHAR(10)&\"-\"&VLOOKUP(S914,EventConditionConfig!A:C,3,FALSE)))","v":""},"","","","",null,null,"",null,null,"",{"$nulls":4},{"$f":"IF(A914=\"\",\"\",IF(ISNUMBER(Y914),2,IF(A915=\"\",IF(OR(AK914>0,VLOOKUP(O914,EventConfig!A:C,3,FALSE)=4),3,\"\"),1)))","v":1},911116,null,6086]
[911116,6069,"和渔民们对话，了解渔民遇到什么困难","",{"$nulls":5},126,{"$f":"IF(J915=\"\",\"\",VLOOKUP(J915,EventNPC!A:E,5,FALSE))","v":"老张"},6087,"仙师这是村里前几日在后山发现的一点灵石希望仙师能手下。",null,9111,16,"",null,null,{"$f":"IF(R915=\"\",\"\",\"-\"&VLOOKUP(R915,EventConditionConfig!A:C,3,FALSE)&IF(S915=\"\",\"\",CHAR(10)&\"-\"&VLOOKUP(S915,EventConditionConfig!A:C,3,FALSE)))","v":""},"","","","",null,null,"",null,null,"",{"$nulls":4},{"$f":"IF(A915=\"\",\"\",IF(ISNUMBER(Y915),2,IF(A916=\"\",IF(OR(AK915>0,VLOOKUP(O915,EventConfig!A:C,3,FALSE)=4),3,\"\"),1)))","v":""},"",null,6087]
[null,"",null,"",{"$nulls":7},"",{"$nulls":9},"","","",null,null,"",null,null,"",{"$nulls":4},{"$f":"IF(A916=\"\",\"\",IF(ISNUMBER(Y916),2,IF(A917=\"\",IF(OR(AK916>0,VLOOKUP(O916,EventConfig!A:C,3,FALSE)=4),3,\"\"),1)))","v":""},"",null,""]
[{"$f":"O917*100+P917","v":911201},6088,"战胜妖物","",{"$nulls":5},128,{"$f":"IF(J917=\"\",\"\",VLOOKUP(J917,EventNPC!A:E,5,FALSE))","v":"敌人"},6089,"（有一点愤怒）上一个傀儡刚炼制好又有人前来送死了。",null,9112,{"$f":"IF(O917=\"\",\"\",IF(O917=O916,P916+1,1))","v":1},{"$f":"_xlfn.TEXTJOIN(\";\",1,R917:S917)","v":""},null,null,{"$f":"IF(R917=\"\",\"\",\"-\"&VLOOKUP(R917,EventConditionConfig!A:C,3,FALSE)&IF(S917=\"\",\"\",CHAR(10)&\"-\"&VLOOKUP(S917,EventConditionConfig!A:C,3,FALSE)))","v":""},{"$f":"IF(Y917=\"\",\"\",IF(ISTEXT(Y917),1,2))","v":""},"","","",null,null,"",null,null,"",{"$nulls":4},{"$f":"IF(A917=\"\",\"\",IF(ISNUMBER(Y917),2,IF(A918=\"\",IF(OR(AK917>0,VLOOKUP(O917,EventConfig!A:C,3,FALSE)=4),3,\"\"),1)))","v":1},911202,null,6089]
[911202,6088,"战胜妖物","",{"$nulls":5},128,{"$f":"IF(J918=\"\",\"\",VLOOKUP(J918,EventNPC!A:E,5,FALSE))","v":"敌人"},6090,"（惊讶）龙鳞的气息……归还！归还！",null,9112,2,"",null,null,{"$f":"IF(R918=\"\",\"\",\"-\"&VLOOKUP(R918,EventConditionConfig!A:C,3,FALSE)&IF(S918=\"\",\"\",CHAR(10)&\"-\"&VLOOKUP(S918,EventConditionConfig!A:C,3,FALSE)))","v":""},1,"911203;911204","6091;6092",6091,"什么龙鳞？我可没有！",{"$f":"A919","v":911203},6092,"为何要袭击村民？",{"$f":"A920","v":911204},"",null,{"$f":"D920","v":""},null,null,{"$f":"IF(A918=\"\",\"\",IF(ISNUMBER(Y918),2,IF(A919=\"\",IF(OR(AK918>0,VLOOKUP(O918,EventConfig!A:C,3,FALSE)=4),3,\"\"),1)))","v":1},911203,null,6092]
[911203,6088,"战胜妖物","",{"$nulls":5},128,{"$f":"IF(J919=\"\",\"\",VLOOKUP(J919,EventNPC!A:E,5,FALSE))","v":"敌人"},6093,"没有？那我就杀了你在自己找。",null,9112,3,"",null,null,{"$f":"IF(R919=\"\",\"\",\"-\"&VLOOKUP(R919,EventConditionConfig!A:C,3,FALSE)&IF(S919=\"\",\"\",CHAR(10)&\"-\"&VLOOKUP(S919,EventConditionConfig!A:C,3,FALSE)))","v":""},2,4001,"","",4001,null,"",null,null,"",{"$nulls":4},{"$f":"IF(A919=\"\",\"\",IF(ISNUMBER(Y919),2,IF(A920=\"\",IF(OR(AK919>0,VLOOKUP(O919,EventConfig!A:C,3,FALSE)=4),3,\"\"),1)))","v":2},"911205;101",{"$f":"A921","v":911205},6093]
[911204,6088,"战胜妖物","",{"$nulls":5},128,{"$f":"IF(J920=\"\",\"\",VLOOKUP(J920,EventNPC!A:E,5,FALSE))","v":"敌人"},6094,"尔等凡人竟敢打扰我沉睡，我要将尔等炼化成我的傀儡。交出龙鳞，我会让你死的痛快一点。",null,9112,4,"",null,null,{"$f":"IF(R920=\"\",\"\",\"-\"&VLOOKUP(R920,EventConditionConfig!A:C,3,FALSE)&IF(S920=\"\",\"\",CHAR(10)&\"-\"&VLOOKUP(S920,EventConditionConfig!A:C,3,FALSE)))","v":""},2,4001,"","",4001,null,"",null,null,"",{"$nulls":4},{"$f":"IF(A920=\"\",\"\",IF(ISNUMBER(Y920),2,IF(A921=\"\",IF(OR(AK920>0,VLOOKUP(O920,EventConfig!A:C,3,FALSE)=4),3,\"\"),1)))","v":2},"911205;101",{"$f":"A921","v":911205},6094]
[911205,6088,"战胜妖物","",{"$nulls":5},100,{"$f":"IF(J921=\"\",\"\",VLOOKUP(J921,EventNPC!A:E,5,FALSE))","v":"玩家"},6095,"（玩家看着一旁的傀儡）着傀儡上的平安符和老李给我看的一模一样，难道老李的儿子被炼制成了傀儡。",null,9112,5,"",null,null,{"$f":"IF(R921=\"\",\"\",\"-\"&VLOOKUP(R921,EventConditionConfig!A:C,3,FALSE)&IF(S921=\"\",\"\",CHAR(10)&\"-\"&VLOOKUP(S921,EventConditionConfig!A:C,3,FALSE)))","v":""},"","","","",null,null,"",null,null,"",{"$nulls":4},{"$f":"IF(A921=\"\",\"\",IF(ISNUMBER(Y921),2,IF(A922=\"\",IF(OR(AK921>0,VLOOKUP(O921,EventConfig!A:C,3,FALSE)=4),3,\"\"),1)))","v":1},911206,null,6095]
[911206,6088,"战胜妖物","",{"$nulls":5},100,{"$f":"IF(J922=\"\",\"\",VLOOKUP(J922,EventNPC!A:E,5,FALSE))","v":"玩家"},6096,"妖物说所龙鳞，难道是这个鳞片。（玩家将背包里的鳞片拿出来仔细观摩）",null,9112,6,"",null,null,{"$f":"IF(R922=\"\",\"\",\"-\"&VLOOKUP(R922,EventConditionConfig!A:C,3,FALSE)&IF(S922=\"\",\"\",CHAR(10)&\"-\"&VLOOKUP(S922,EventConditionConfig!A:C,3,FALSE)))","v":""},"","","","",null,null,"",null,null,"",{"$nulls":4},{"$f":"IF(A922=\"\",\"\",IF(ISNUMBER(Y922),2,IF(A923=\"\",IF(OR(AK922>0,VLOOKUP(O922,EventConfig!A:C,3,FALSE)=4),3,\"\"),1)))","v":1},911207,null,6096]
[911207,6088,"战胜妖物","",{"$nulls":5},100,{"$f":"IF(J923=\"\",\"\",VLOOKUP(J923,EventNPC!A:E,5,FALSE))","v":"玩家"},6097,"先不管了，感觉妖物这么重视此物肯定有它的用处，先收下再说。",null,9112,7,"",null,null,{"$f":"IF(R923=\"\",\"\",\"-\"&VLOOKUP(R923,EventConditionConfig!A:C,3,FALSE)&IF(S923=\"\",\"\",CHAR(10)&\"-\"&VLOOKUP(S923,EventConditionConfig!A:C,3,FALSE)))","v":""},"","","","",null,null,"",null,null,"",{"$nulls":4},{"$f":"IF(A923=\"\",\"\",IF(ISNUMBER(Y923),2,IF(A924=\"\",IF(OR(AK923>0,VLOOKUP(O923,EventConfig!A:C,3,FALSE)=4),3,\"\"),1)))","v":""},"",null,6097]
[null,"",null,"",{"$nulls":7},"",{"$nulls":9},"","","",null,null,"",null,null,"",{"$nulls":4},{"$f":"IF(A924=\"\",\"\",IF(ISNUMBER(Y924),2,IF(A925=\"\",IF(OR(AK924>0,VLOOKUP(O924,EventConfig!A:C,3,FALSE)=4),3,\"\"),1)))","v":""},"",null,""]
[{"$f":"O925*100+P925","v":911301},6098,"完成和NPC的对话","",{"$nulls":5},126,{"$f":"IF(J925=\"\",\"\",VLOOKUP(J925,EventNPC!A:E,5,FALSE))","v":"老张"},6099,"（期待）仙师你回来，有什么结果吗？",null,9113,{"$f":"IF(O925=\"\",\"\",IF(O925=O924,P924+1,1))","v":1},{"$f":"_xlfn.TEXTJOIN(\";\",1,R925:S925)","v":""},null,null,{"$f":"IF(R925=\"\",\"\",\"-\"&VLOOKUP(R925,EventConditionConfig!A:C,3,FALSE)&IF(S925=\"\",\"\",CHAR(10)&\"-\"&VLOOKUP(S925,EventConditionConfig!A:C,3,FALSE)))","v":""},{"$f":"IF(Y925=\"\",\"\",IF(ISTEXT(Y925),1,2))","v":""},"","","",null,null,"",null,null,"",{"$nulls":4},{"$f":"IF(A925=\"\",\"\",IF(ISNUMBER(Y925),2,IF(A926=\"\",IF(OR(AK925>0,VLOOKUP(O925,EventConfig!A:C,3,FALSE)=4),3,\"\"),1)))","v":1},911302,null,6099]
[911302,6098,"完成和NPC的对话","",{"$nulls":5},100,{"$f":"IF(J926=\"\",\"\",VLOOKUP(J926,EventNPC!A:E,5,FALSE))","v":"玩家"},6100,"海上的水怪已被我消灭，在现场没有找到老李的儿子（不忍心告诉老李真相）。",null,9113,2,"",null,null,{"$f":"IF(R926=\"\",\"\",\"-\"&VLOOKUP(R926,EventConditionConfig!A:C,3,FALSE)&IF(S926=\"\",\"\",CHAR(10)&\"-\"&VLOOKUP(S926,EventConditionConfig!A:C,3,FALSE)))","v":""},"","","","",null,null,"",null,null,"",{"$nulls":4},{"$f":"IF(A926=\"\",\"\",IF(ISNUMBER(Y926),2,IF(A927=\"\",IF(OR(AK926>0,VLOOKUP(O926,EventConfig!A:C,3,FALSE)=4),3,\"\"),1)))","v":1},911303,null,6100]
[911303,6098,"完成和NPC的对话","",{"$nulls":5},100,{"$f":"IF(J927=\"\",\"\",VLOOKUP(J927,EventNPC!A:E,5,FALSE))","v":"玩家"},6101,"这是在现场找到的平安符。（玩家将平安符交给老李）。",null,9113,3,"",null,null,{"$f":"IF(R927=\"\",\"\",\"-\"&VLOOKUP(R927,EventConditionConfig!A:C,3,FALSE)&IF(S927=\"\",\"\",CHAR(10)&\"-\"&VLOOKUP(S927,EventConditionConfig!A:C,3,FALSE)))","v":""},"","","","",null,null,"",null,null,"",{"$nulls":4},{"$f":"IF(A927=\"\",\"\",IF(ISNUMBER(Y927),2,IF(A928=\"\",IF(OR(AK927>0,VLOOKUP(O927,EventConfig!A:C,3,FALSE)=4),3,\"\"),1)))","v":1},911304,null,6101]
[911304,6098,"完成和NPC的对话","",{"$nulls":5},127,{"$f":"IF(J928=\"\",\"\",VLOOKUP(J928,EventNPC!A:E,5,FALSE))","v":"老李"},6102,"（收下平安福后眼泪不经意间落下，也许他已经知道了结果）谢谢仙师。（能够从老李的表情中看出心里非常的痛苦）",null,9113,4,"",null,null,{"$f":"IF(R928=\"\",\"\",\"-\"&VLOOKUP(R928,EventConditionConfig!A:C,3,FALSE)&IF(S928=\"\",\"\",CHAR(10)&\"-\"&VLOOKUP(S928,EventConditionConfig!A:C,3,FALSE)))","v":""},"","","","",null,null,"",null,null,"",{"$nulls":4},{"$f":"IF(A928=\"\",\"\",IF(ISNUMBER(Y928),2,IF(A929=\"\",IF(OR(AK928>0,VLOOKUP(O928,EventConfig!A:C,3,FALSE)=4),3,\"\"),1)))","v":1},911305,null,6102]
[911305,6098,"完成和NPC的对话","",{"$nulls":5},126,{"$f":"IF(J929=\"\",\"\",VLOOKUP(J929,EventNPC!A:E,5,FALSE))","v":"老张"},6103,"仙师辛苦了，以后我等村民又可出海了。",null,9113,5,"",null,null,{"$f":"IF(R929=\"\",\"\",\"-\"&VLOOKUP(R929,EventConditionConfig!A:C,3,FALSE)&IF(S929=\"\",\"\",CHAR(10)&\"-\"&VLOOKUP(S929,EventConditionConfig!A:C,3,FALSE)))","v":""},"","","","",null,null,"",null,null,"",{"$nulls":4},{"$f":"IF(A929=\"\",\"\",IF(ISNUMBER(Y929),2,IF(A930=\"\",IF(OR(AK929>0,VLOOKUP(O929,EventConfig!A:C,3,FALSE)=4),3,\"\"),1)))","v":""},"",null,6103]
[null,"",null,"",{"$nulls":7},"",{"$nulls":9},"","","",null,null,"",null,null,"",{"$nulls":4},{"$f":"IF(A930=\"\",\"\",IF(ISNUMBER(Y930),2,IF(A931=\"\",IF(OR(AK930>0,VLOOKUP(O930,EventConfig!A:C,3,FALSE)=4),3,\"\"),1)))","v":""},"",null,""]
[{"$f":"O931*100+P931","v":911401},6104,"完成和NPC的对话","",{"$nulls":5},100,{"$f":"IF(J931=\"\",\"\",VLOOKUP(J931,EventNPC!A:E,5,FALSE))","v":"玩家"},6105,"前方怎么感觉阴森恐怖，似有鬼气环绕。",null,9114,{"$f":"IF(O931=\"\",\"\",IF(O931=O930,P930+1,1))","v":1},{"$f":"_xlfn.TEXTJOIN(\";\",1,R931:S931)","v":""},null,null,{"$f":"IF(R931=\"\",\"\",\"-\"&VLOOKUP(R931,EventConditionConfig!A:C,3,FALSE)&IF(S931=\"\",\"\",CHAR(10)&\"-\"&VLOOKUP(S931,EventConditionConfig!A:C,3,FALSE)))","v":""},{"$f":"IF(Y931=\"\",\"\",IF(ISTEXT(Y931),1,2))","v":""},"","","",null,null,"",null,null,"",{"$nulls":4},{"$f":"IF(A931=\"\",\"\",IF(ISNUMBER(Y931),2,IF(A932=\"\",IF(OR(AK931>0,VLOOKUP(O931,EventConfig!A:C,3,FALSE)=4),3,\"\"),1)))","v":1},911402,null,6105]
[911402,6104,"完成和NPC的对话","",{"$nulls":5},129,{"$f":"IF(J932=\"\",\"\",VLOOKUP(J932,EventNPC!A:E,5,FALSE))","v":"灵姬"},6106,"（隔空传音）小道友留步，不要在向前走，前方怨魂盘踞，鬼气侵魂，非练气修士可前去。你初入仙途，为何踏入此地。",null,9114,2,"",null,null,{"$f":"IF(R932=\"\",\"\",\"-\"&VLOOKUP(R932,EventConditionConfig!A:C,3,FALSE)&IF(S932=\"\",\"\",CHAR(10)&\"-\"&VLOOKUP(S932,EventConditionConfig!A:C,3,FALSE)))","v":""},1,"911403;911404","6107;6108",6107,"前辈，晚辈寻灵草机缘，误入此地。",{"$f":"A933","v":911403},6108,"晚辈看前方有点异常前来探个究竟。",{"$f":"A934","v":911404},"",null,{"$f":"D934","v":""},null,null,{"$f":"IF(A932=\"\",\"\",IF(ISNUMBER(Y932),2,IF(A933=\"\",IF(OR(AK932>0,VLOOKUP(O932,EventConfig!A:C,3,FALSE)=4),3,\"\"),1)))","v":1},911403,null,6108]
[911403,6104,"完成和NPC的对话","",{"$nulls":5},129,{"$f":"IF(J933=\"\",\"\",VLOOKUP(J933,EventNPC!A:E,5,FALSE))","v":"灵姬"},6109,"（好奇）哦？寻灵草机缘，却能察觉鬼气异常，灵识倒是不俗。",null,9114,3,"",null,null,{"$f":"IF(R933=\"\",\"\",\"-\"&VLOOKUP(R933,EventConditionConfig!A:C,3,FALSE)&IF(S933=\"\",\"\",CHAR(10)&\"-\"&VLOOKUP(S933,EventConditionConfig!A:C,3,FALSE)))","v":""},"","","","",null,null,"",null,null,"",{"$nulls":4},{"$f":"IF(A933=\"\",\"\",IF(ISNUMBER(Y933),2,IF(A934=\"\",IF(OR(AK933>0,VLOOKUP(O933,EventConfig!A:C,3,FALSE)=4),3,\"\"),1)))","v":1},911405,{"$f":"A935","v":911405},6109]
[911404,6104,"完成和NPC的对话","",{"$nulls":5},129,{"$f":"IF(J934=\"\",\"\",VLOOKUP(J934,EventNPC!A:E,5,FALSE))","v":"灵姬"},6110,"前方乃古战场遗址，有不少上古战死怨魂在此处。",null,9114,4,"",null,null,{"$f":"IF(R934=\"\",\"\",\"-\"&VLOOKUP(R934,EventConditionConfig!A:C,3,FALSE)&IF(S934=\"\",\"\",CHAR(10)&\"-\"&VLOOKUP(S934,EventConditionConfig!A:C,3,FALSE)))","v":""},"","","","",null,null,"",null,null,"",{"$nulls":4},{"$f":"IF(A934=\"\",\"\",IF(ISNUMBER(Y934),2,IF(A935=\"\",IF(OR(AK934>0,VLOOKUP(O934,EventConfig!A:C,3,FALSE)=4),3,\"\"),1)))","v":1},911405,null,6110]
[911405,6104,"完成和NPC的对话","",{"$nulls":5},129,{"$f":"IF(J935=\"\",\"\",VLOOKUP(J935,EventNPC!A:E,5,FALSE))","v":"灵姬"},6111,"此处有阵法封印，怨魂是不会逃出来的，近日怨魂躁动，若不平息，恐生事端。你若愿助，完成简易祭魂仪式，吾当赠你机缘。",null,9114,5,"",null,null,{"$f":"IF(R935=\"\",\"\",\"-\"&VLOOKUP(R935,EventConditionConfig!A:C,3,FALSE)&IF(S935=\"\",\"\",CHAR(10)&\"-\"&VLOOKUP(S935,EventConditionConfig!A:C,3,FALSE)))","v":""},1,"911406;911407","6112;6113",6112,"前辈为何不亲自平息？ ",{"$f":"A936","v":911406},6113,"请前辈详述所需之物与仪式之法",{"$f":"A937","v":911407},"",null,{"$f":"D937","v":""},null,null,{"$f":"IF(A935=\"\",\"\",IF(ISNUMBER(Y935),2,IF(A936=\"\",IF(OR(AK935>0,VLOOKUP(O935,EventConfig!A:C,3,FALSE)=4),3,\"\"),1)))","v":1},911406,null,6113]
[911406,6104,"完成和NPC的对话","",{"$nulls":5},129,{"$f":"IF(J936=\"\",\"\",VLOOKUP(J936,EventNPC!A:E,5,FALSE))","v":"灵姬"},6114,"小道友，吾若能亲自动手，何须借你之力？吾魂体受古灯束缚，行动不得超出十丈，且魂力日渐衰弱，强行出手恐引魂灯崩解，怨魂暴动更甚。",null,9114,6,"",null,null,{"$f":"IF(R936=\"\",\"\",\"-\"&VLOOKUP(R936,EventConditionConfig!A:C,3,FALSE)&IF(S936=\"\",\"\",CHAR(10)&\"-\"&VLOOKUP(S936,EventConditionConfig!A:C,3,FALSE)))","v":""},"","","","",null,null,"",null,null,"",{"$nulls":4},{"$f":"IF(A936=\"\",\"\",IF(ISNUMBER(Y936),2,IF(A937=\"\",IF(OR(AK936>0,VLOOKUP(O936,EventConfig!A:C,3,FALSE)=4),3,\"\"),1)))","v":1},911407,{"$f":"A937","v":911407},6114]
[911407,{"$f":"IF(C937=\"\",\"\",IF(C937=C936,B936,MAX(AL936,AL935)+1))","v":6104},"完成和NPC的对话","",{"$nulls":5},129,{"$f":"IF(J937=\"\",\"\",VLOOKUP(J937,EventNPC!A:E,5,FALSE))","v":"灵姬"},6115,"祭魂仪式需幽魂石，幽魂石周围一般有野兽护之，还请小道友小心。你若带来我便能用此物修复阵法，不需要太多有3颗足以。",null,9114,7,"",null,null,{"$f":"IF(R937=\"\",\"\",\"-\"&VLOOKUP(R937,EventConditionConfig!A:C,3,FALSE)&IF(S937=\"\",\"\",CHAR(10)&\"-\"&VLOOKUP(S937,EventConditionConfig!A:C,3,FALSE)))","v":""},"","","","",null,null,"",null,null,"",{"$nulls":4},{"$f":"IF(A937=\"\",\"\",IF(ISNUMBER(Y937),2,IF(A938=\"\",IF(OR(AK937>0,VLOOKUP(O937,EventConfig!A:C,3,FALSE)=4),3,\"\"),1)))","v":1},911408,null,6115]
[911408,6104,"完成和NPC的对话","",{"$nulls":5},100,{"$f":"IF(J938=\"\",\"\",VLOOKUP(J938,EventNPC!A:E,5,FALSE))","v":"玩家"},6116,"晚辈这就前去收集。",null,9114,8,"",null,null,{"$f":"IF(R938=\"\",\"\",\"-\"&VLOOKUP(R938,EventConditionConfig!A:C,3,FALSE)&IF(S938=\"\",\"\",CHAR(10)&\"-\"&VLOOKUP(S938,EventConditionConfig!A:C,3,FALSE)))","v":""},"","","","",null,null,"",null,null,"",{"$nulls":4},{"$f":"IF(A938=\"\",\"\",IF(ISNUMBER(Y938),2,IF(A939=\"\",IF(OR(AK938>0,VLOOKUP(O938,EventConfig!A:C,3,FALSE)=4),3,\"\"),1)))","v":""},"",null,6116]
[null,"",null,"",{"$nulls":7},"",{"$nulls":9},"","","",null,null,"",null,null,"",{"$nulls":4},{"$f":"IF(A939=\"\",\"\",IF(ISNUMBER(Y939),2,IF(A940=\"\",IF(OR(AK939>0,VLOOKUP(O939,EventConfig!A:C,3,FALSE)=4),3,\"\"),1)))","v":""},"",null,""]
[{"$f":"O940*100+P940","v":911501},6117,"完成和NPC的对话","",{"$nulls":5},100,{"$f":"IF(J940=\"\",\"\",VLOOKUP(J940,EventNPC!A:E,5,FALSE))","v":"玩家"},6118,"看来这就是幽魂石的守护兽了，看招！",null,9115,{"$f":"IF(O940=\"\",\"\",IF(O940=O939,P939+1,1))","v":1},{"$f":"_xlfn.TEXTJOIN(\";\",1,R940:S940)","v":""},null,null,{"$f":"IF(R940=\"\",\"\",\"-\"&VLOOKUP(R940,EventConditionConfig!A:C,3,FALSE)&IF(S940=\"\",\"\",CHAR(10)&\"-\"&VLOOKUP(S940,EventConditionConfig!A:C,3,FALSE)))","v":""},{"$f":"IF(Y940=\"\",\"\",IF(ISTEXT(Y940),1,2))","v":2},4002,"","",4002,null,"",null,null,"",{"$nulls":4},{"$f":"IF(A940=\"\",\"\",IF(ISNUMBER(Y940),2,IF(A941=\"\",IF(OR(AK940>0,VLOOKUP(O940,EventConfig!A:C,3,FALSE)=4),3,\"\"),1)))","v":2},"911502;101",null,6118]
[911502,6117,"完成和NPC的对话","",{"$nulls":5},100,{"$f":"IF(J941=\"\",\"\",VLOOKUP(J941,EventNPC!A:E,5,FALSE))","v":"玩家"},6119,"看来这就是幽魂石了。",null,9115,2,"",null,null,{"$f":"IF(R941=\"\",\"\",\"-\"&VLOOKUP(R941,EventConditionConfig!A:C,3,FALSE)&IF(S941=\"\",\"\",CHAR(10)&\"-\"&VLOOKUP(S941,EventConditionConfig!A:C,3,FALSE)))","v":""},"","","","",null,null,"",null,null,"",{"$nulls":4},{"$f":"IF(A941=\"\",\"\",IF(ISNUMBER(Y941),2,IF(A942=\"\",IF(OR(AK941>0,VLOOKUP(O941,EventConfig!A:C,3,FALSE)=4),3,\"\"),1)))","v":""},"",null,6119]
[null,"",null,"",{"$nulls":7},"",{"$nulls":9},"","","",null,null,"",null,null,"",{"$nulls":4},{"$f":"IF(A942=\"\",\"\",IF(ISNUMBER(Y942),2,IF(A943=\"\",IF(OR(AK942>0,VLOOKUP(O942,EventConfig!A:C,3,FALSE)=4),3,\"\"),1)))","v":""},"",null,""]
[{"$f":"O943*100+P943","v":911601},6120,"完成和NPC的对话","",{"$nulls":5},129,{"$f":"IF(J943=\"\",\"\",VLOOKUP(J943,EventNPC!A:E,5,FALSE))","v":"灵姬"},6121,"（高兴）小道友，幽魂石已集齐，干得不错。速将幽魂石置于灯前，吾以魂力引渡怨魂，平息躁动。",null,9116,{"$f":"IF(O943=\"\",\"\",IF(O943=O942,P942+1,1))","v":1},{"$f":"_xlfn.TEXTJOIN(\";\",1,R943:S943)","v":""},null,null,{"$f":"IF(R943=\"\",\"\",\"-\"&VLOOKUP(R943,EventConditionConfig!A:C,3,FALSE)&IF(S943=\"\",\"\",CHAR(10)&\"-\"&VLOOKUP(S943,EventConditionConfig!A:C,3,FALSE)))","v":""},{"$f":"IF(Y943=\"\",\"\",IF(ISTEXT(Y943),1,2))","v":""},"","","",null,null,"",null,null,"",{"$nulls":4},{"$f":"IF(A943=\"\",\"\",IF(ISNUMBER(Y943),2,IF(A944=\"\",IF(OR(AK943>0,VLOOKUP(O943,EventConfig!A:C,3,FALSE)=4),3,\"\"),1)))","v":1},911602,null,6121]
[911602,6120,"完成和NPC的对话","",{"$nulls":5},129,{"$f":"IF(J944=\"\",\"\",VLOOKUP(J944,EventNPC!A:E,5,FALSE))","v":"灵姬"},6122,"此仪式简单，你只须护住灵识，勿被鬼气干扰，我将以守护之名完成镇压。",null,9116,2,"",null,null,{"$f":"IF(R944=\"\",\"\",\"-\"&VLOOKUP(R944,EventConditionConfig!A:C,3,FALSE)&IF(S944=\"\",\"\",CHAR(10)&\"-\"&VLOOKUP(S944,EventConditionConfig!A:C,3,FALSE)))","v":""},"","","","",null,null,"",null,null,"",{"$nulls":4},{"$f":"IF(A944=\"\",\"\",IF(ISNUMBER(Y944),2,IF(A945=\"\",IF(OR(AK944>0,VLOOKUP(O944,EventConfig!A:C,3,FALSE)=4),3,\"\"),1)))","v":1},911603,null,6122]
[911603,6120,"完成和NPC的对话","",{"$nulls":5},130,{"$f":"IF(J945=\"\",\"\",VLOOKUP(J945,EventNPC!A:E,5,FALSE))","v":"冤魂"},6123,"（愤怒）为何镇压封印我等！我为仙踪立下赫赫战绩却落得如此下场。不甘！不甘！",null,9116,3,"",null,null,{"$f":"IF(R945=\"\",\"\",\"-\"&VLOOKUP(R945,EventConditionConfig!A:C,3,FALSE)&IF(S945=\"\",\"\",CHAR(10)&\"-\"&VLOOKUP(S945,EventConditionConfig!A:C,3,FALSE)))","v":""},"","","","",null,null,"",null,null,"",{"$nulls":4},{"$f":"IF(A945=\"\",\"\",IF(ISNUMBER(Y945),2,IF(A946=\"\",IF(OR(AK945>0,VLOOKUP(O945,EventConfig!A:C,3,FALSE)=4),3,\"\"),1)))","v":1},911604,null,6123]
[911604,6120,"完成和NPC的对话","",{"$nulls":5},129,{"$f":"IF(J946=\"\",\"\",VLOOKUP(J946,EventNPC!A:E,5,FALSE))","v":"灵姬"},6124,"（吃力）镇压你等非我所愿。",null,9116,4,"",null,null,{"$f":"IF(R946=\"\",\"\",\"-\"&VLOOKUP(R946,EventConditionConfig!A:C,3,FALSE)&IF(S946=\"\",\"\",CHAR(10)&\"-\"&VLOOKUP(S946,EventConditionConfig!A:C,3,FALSE)))","v":""},"","","","",null,null,"",null,null,"",{"$nulls":4},{"$f":"IF(A946=\"\",\"\",IF(ISNUMBER(Y946),2,IF(A947=\"\",IF(OR(AK946>0,VLOOKUP(O946,EventConfig!A:C,3,FALSE)=4),3,\"\"),1)))","v":1},911605,null,6124]
[911605,6120,"完成和NPC的对话","",{"$nulls":5},129,{"$f":"IF(J947=\"\",\"\",VLOOKUP(J947,EventNPC!A:E,5,FALSE))","v":"灵姬"},6125,"（对玩家说）怨魂怒气冲天，欲挣脱我镇压！小道友，守住心神，勿为其怒所惑！古灯之力，镇！",null,9116,5,"",null,null,{"$f":"IF(R947=\"\",\"\",\"-\"&VLOOKUP(R947,EventConditionConfig!A:C,3,FALSE)&IF(S947=\"\",\"\",CHAR(10)&\"-\"&VLOOKUP(S947,EventConditionConfig!A:C,3,FALSE)))","v":""},"","","","",null,null,"",null,null,"",{"$nulls":4},{"$f":"IF(A947=\"\",\"\",IF(ISNUMBER(Y947),2,IF(A948=\"\",IF(OR(AK947>0,VLOOKUP(O947,EventConfig!A:C,3,FALSE)=4),3,\"\"),1)))","v":1},911606,null,6125]
[911606,6120,"完成和NPC的对话","",{"$nulls":5},130,{"$f":"IF(J948=\"\",\"\",VLOOKUP(J948,EventNPC!A:E,5,FALSE))","v":"冤魂"},6126,"（愤怒）终有一日我将冲出此地杀上宗门。",null,9116,6,"",null,null,{"$f":"IF(R948=\"\",\"\",\"-\"&VLOOKUP(R948,EventConditionConfig!A:C,3,FALSE)&IF(S948=\"\",\"\",CHAR(10)&\"-\"&VLOOKUP(S948,EventConditionConfig!A:C,3,FALSE)))","v":""},"","","","",null,null,"",null,null,"",{"$nulls":4},{"$f":"IF(A948=\"\",\"\",IF(ISNUMBER(Y948),2,IF(A949=\"\",IF(OR(AK948>0,VLOOKUP(O948,EventConfig!A:C,3,FALSE)=4),3,\"\"),1)))","v":1},911607,null,6126]
[911607,6120,"完成和NPC的对话","",{"$nulls":5},129,{"$f":"IF(J949=\"\",\"\",VLOOKUP(J949,EventNPC!A:E,5,FALSE))","v":"灵姬"},6127,"仪式已成。",null,9116,7,"",null,null,{"$f":"IF(R949=\"\",\"\",\"-\"&VLOOKUP(R949,EventConditionConfig!A:C,3,FALSE)&IF(S949=\"\",\"\",CHAR(10)&\"-\"&VLOOKUP(S949,EventConditionConfig!A:C,3,FALSE)))","v":""},"","","","",null,null,"",null,null,"",{"$nulls":4},{"$f":"IF(A949=\"\",\"\",IF(ISNUMBER(Y949),2,IF(A950=\"\",IF(OR(AK949>0,VLOOKUP(O949,EventConfig!A:C,3,FALSE)=4),3,\"\"),1)))","v":1},911608,null,6127]
[911608,6120,"完成和NPC的对话","",{"$nulls":5},100,{"$f":"IF(J950=\"\",\"\",VLOOKUP(J950,EventNPC!A:E,5,FALSE))","v":"玩家"},6128,"此怨魂好像是仙踪之人为何要将他们镇压在次？",null,9116,8,"",null,null,{"$f":"IF(R950=\"\",\"\",\"-\"&VLOOKUP(R950,EventConditionConfig!A:C,3,FALSE)&IF(S950=\"\",\"\",CHAR(10)&\"-\"&VLOOKUP(S950,EventConditionConfig!A:C,3,FALSE)))","v":""},"","","","",null,null,"",null,null,"",{"$nulls":4},{"$f":"IF(A950=\"\",\"\",IF(ISNUMBER(Y950),2,IF(A951=\"\",IF(OR(AK950>0,VLOOKUP(O950,EventConfig!A:C,3,FALSE)=4),3,\"\"),1)))","v":1},911609,null,6128]
[911609,6120,"完成和NPC的对话","",{"$nulls":5},129,{"$f":"IF(J951=\"\",\"\",VLOOKUP(J951,EventNPC!A:E,5,FALSE))","v":"灵姬"},6129,"上古时期妖魔入侵，仙踪集合多为化神级人物在此处激战，最后将大部分妖魔斩杀在此处",null,9116,9,"",null,null,{"$f":"IF(R951=\"\",\"\",\"-\"&VLOOKUP(R951,EventConditionConfig!A:C,3,FALSE)&IF(S951=\"\",\"\",CHAR(10)&\"-\"&VLOOKUP(S951,EventConditionConfig!A:C,3,FALSE)))","v":""},"","","","",null,null,"",null,null,"",{"$nulls":4},{"$f":"IF(A951=\"\",\"\",IF(ISNUMBER(Y951),2,IF(A952=\"\",IF(OR(AK951>0,VLOOKUP(O951,EventConfig!A:C,3,FALSE)=4),3,\"\"),1)))","v":1},911610,null,6129]
[911610,6120,"完成和NPC的对话","",{"$nulls":5},129,{"$f":"IF(J952=\"\",\"\",VLOOKUP(J952,EventNPC!A:E,5,FALSE))","v":"灵姬"},6130,"但有一个魔物拥有不死之身，最后只能将他封印在此，此阵有镇魂之用，死去的人魂魄也不能离开此地。",null,9116,10,"",null,null,{"$f":"IF(R952=\"\",\"\",\"-\"&VLOOKUP(R952,EventConditionConfig!A:C,3,FALSE)&IF(S952=\"\",\"\",CHAR(10)&\"-\"&VLOOKUP(S952,EventConditionConfig!A:C,3,FALSE)))","v":""},"","","","",null,null,"",null,null,"",{"$nulls":4},{"$f":"IF(A952=\"\",\"\",IF(ISNUMBER(Y952),2,IF(A953=\"\",IF(OR(AK952>0,VLOOKUP(O952,EventConfig!A:C,3,FALSE)=4),3,\"\"),1)))","v":1},911611,null,6130]
[911611,6120,"完成和NPC的对话","",{"$nulls":5},129,{"$f":"IF(J953=\"\",\"\",VLOOKUP(J953,EventNPC!A:E,5,FALSE))","v":"灵姬"},6131,"时间久了不少同门心生怨气。也许有一日能有其他办法帮助同门解脱平息他们的怨气。",null,9116,11,"",null,null,{"$f":"IF(R953=\"\",\"\",\"-\"&VLOOKUP(R953,EventConditionConfig!A:C,3,FALSE)&IF(S953=\"\",\"\",CHAR(10)&\"-\"&VLOOKUP(S953,EventConditionConfig!A:C,3,FALSE)))","v":""},"","","","",null,null,"",null,null,"",{"$nulls":4},{"$f":"IF(A953=\"\",\"\",IF(ISNUMBER(Y953),2,IF(A954=\"\",IF(OR(AK953>0,VLOOKUP(O953,EventConfig!A:C,3,FALSE)=4),3,\"\"),1)))","v":1},911612,null,6131]
[911612,6120,"完成和NPC的对话","",{"$nulls":5},129,{"$f":"IF(J954=\"\",\"\",VLOOKUP(J954,EventNPC!A:E,5,FALSE))","v":"灵姬"},6132,"你虽初入仙途，心性与胆识可嘉。近日又有缘在此处相遇，也许你能想到其他办法。",null,9116,12,"",null,null,{"$f":"IF(R954=\"\",\"\",\"-\"&VLOOKUP(R954,EventConditionConfig!A:C,3,FALSE)&IF(S954=\"\",\"\",CHAR(10)&\"-\"&VLOOKUP(S954,EventConditionConfig!A:C,3,FALSE)))","v":""},"","","","",null,null,"",null,null,"",{"$nulls":4},{"$f":"IF(A954=\"\",\"\",IF(ISNUMBER(Y954),2,IF(A955=\"\",IF(OR(AK954>0,VLOOKUP(O954,EventConfig!A:C,3,FALSE)=4),3,\"\"),1)))","v":1},911613,null,6132]
[911613,6120,"完成和NPC的对话","",{"$nulls":5},100,{"$f":"IF(J955=\"\",\"\",VLOOKUP(J955,EventNPC!A:E,5,FALSE))","v":"玩家"},6133,"谢谢前辈夸奖！",null,9116,13,"",null,null,{"$f":"IF(R955=\"\",\"\",\"-\"&VLOOKUP(R955,EventConditionConfig!A:C,3,FALSE)&IF(S955=\"\",\"\",CHAR(10)&\"-\"&VLOOKUP(S955,EventConditionConfig!A:C,3,FALSE)))","v":""},"","","","",null,null,"",null,null,"",{"$nulls":4},{"$f":"IF(A955=\"\",\"\",IF(ISNUMBER(Y955),2,IF(A956=\"\",IF(OR(AK955>0,VLOOKUP(O955,EventConfig!A:C,3,FALSE)=4),3,\"\"),1)))","v":1},911614,null,6133]
[911614,6120,"完成和NPC的对话","",{"$nulls":5},129,{"$f":"IF(J956=\"\",\"\",VLOOKUP(J956,EventNPC!A:E,5,FALSE))","v":"灵姬"},6134,"前几日有妖物前来此处被我击杀，我从它身上发现了龙鳞，现在我把他赠于你，也许有朝一日对你有帮助。",null,9116,14,"",null,null,{"$f":"IF(R956=\"\",\"\",\"-\"&VLOOKUP(R956,EventConditionConfig!A:C,3,FALSE)&IF(S956=\"\",\"\",CHAR(10)&\"-\"&VLOOKUP(S956,EventConditionConfig!A:C,3,FALSE)))","v":""},"","","","",null,null,"",null,null,"",{"$nulls":4},{"$f":"IF(A956=\"\",\"\",IF(ISNUMBER(Y956),2,IF(A957=\"\",IF(OR(AK956>0,VLOOKUP(O956,EventConfig!A:C,3,FALSE)=4),3,\"\"),1)))","v":1},911615,null,6134]
[911615,6120,"完成和NPC的对话","",{"$nulls":5},100,{"$f":"IF(J957=\"\",\"\",VLOOKUP(J957,EventNPC!A:E,5,FALSE))","v":"玩家"},6135,"龙鳞？前几日我也获得几个，这个有何作用？",null,9116,15,"",null,null,{"$f":"IF(R957=\"\",\"\",\"-\"&VLOOKUP(R957,EventConditionConfig!A:C,3,FALSE)&IF(S957=\"\",\"\",CHAR(10)&\"-\"&VLOOKUP(S957,EventConditionConfig!A:C,3,FALSE)))","v":""},"","","","",null,null,"",null,null,"",{"$nulls":4},{"$f":"IF(A957=\"\",\"\",IF(ISNUMBER(Y957),2,IF(A958=\"\",IF(OR(AK957>0,VLOOKUP(O957,EventConfig!A:C,3,FALSE)=4),3,\"\"),1)))","v":1},911616,null,6135]
[911616,6120,"完成和NPC的对话","",{"$nulls":5},129,{"$f":"IF(J958=\"\",\"\",VLOOKUP(J958,EventNPC!A:E,5,FALSE))","v":"灵姬"},6136,"（惊讶）获得几个？看来此物确实于你有缘哈哈。",null,9116,16,"",null,null,{"$f":"IF(R958=\"\",\"\",\"-\"&VLOOKUP(R958,EventConditionConfig!A:C,3,FALSE)&IF(S958=\"\",\"\",CHAR(10)&\"-\"&VLOOKUP(S958,EventConditionConfig!A:C,3,FALSE)))","v":""},"","","","",null,null,"",null,null,"",{"$nulls":4},{"$f":"IF(A958=\"\",\"\",IF(ISNUMBER(Y958),2,IF(A959=\"\",IF(OR(AK958>0,VLOOKUP(O958,EventConfig!A:C,3,FALSE)=4),3,\"\"),1)))","v":1},911617,null,6136]
[911617,6120,"完成和NPC的对话","",{"$nulls":5},129,{"$f":"IF(J959=\"\",\"\",VLOOKUP(J959,EventNPC!A:E,5,FALSE))","v":"灵姬"},6137,"龙鳞是上古龙族遗留下来的鳞片，相传此鳞片能开启前往龙族圣地的大门。相传圣地里有各种宝物。",null,9116,17,"",null,null,{"$f":"IF(R959=\"\",\"\",\"-\"&VLOOKUP(R959,EventConditionConfig!A:C,3,FALSE)&IF(S959=\"\",\"\",CHAR(10)&\"-\"&VLOOKUP(S959,EventConditionConfig!A:C,3,FALSE)))","v":""},"","","","",null,null,"",null,null,"",{"$nulls":4},{"$f":"IF(A959=\"\",\"\",IF(ISNUMBER(Y959),2,IF(A960=\"\",IF(OR(AK959>0,VLOOKUP(O959,EventConfig!A:C,3,FALSE)=4),3,\"\"),1)))","v":1},911618,null,6137]
[911618,6120,"完成和NPC的对话","",{"$nulls":5},100,{"$f":"IF(J960=\"\",\"\",VLOOKUP(J960,EventNPC!A:E,5,FALSE))","v":"玩家"},6138,"前辈可知圣地在何处？",null,9116,18,"",null,null,{"$f":"IF(R960=\"\",\"\",\"-\"&VLOOKUP(R960,EventConditionConfig!A:C,3,FALSE)&IF(S960=\"\",\"\",CHAR(10)&\"-\"&VLOOKUP(S960,EventConditionConfig!A:C,3,FALSE)))","v":""},"","","","",null,null,"",null,null,"",{"$nulls":4},{"$f":"IF(A960=\"\",\"\",IF(ISNUMBER(Y960),2,IF(A961=\"\",IF(OR(AK960>0,VLOOKUP(O960,EventConfig!A:C,3,FALSE)=4),3,\"\"),1)))","v":1},911619,null,6138]
[911619,6120,"完成和NPC的对话","",{"$nulls":5},129,{"$f":"IF(J961=\"\",\"\",VLOOKUP(J961,EventNPC!A:E,5,FALSE))","v":"灵姬"},6139,"龙族圣地的开启大门的位置可遇不可求，没有多少人知道。这个只能靠你自己了。",null,9116,19,"",null,null,{"$f":"IF(R961=\"\",\"\",\"-\"&VLOOKUP(R961,EventConditionConfig!A:C,3,FALSE)&IF(S961=\"\",\"\",CHAR(10)&\"-\"&VLOOKUP(S961,EventConditionConfig!A:C,3,FALSE)))","v":""},"","","","",null,null,"",null,null,"",{"$nulls":4},{"$f":"IF(A961=\"\",\"\",IF(ISNUMBER(Y961),2,IF(A962=\"\",IF(OR(AK961>0,VLOOKUP(O961,EventConfig!A:C,3,FALSE)=4),3,\"\"),1)))","v":1},911620,null,6139]
[911620,6120,"完成和NPC的对话","",{"$nulls":5},100,{"$f":"IF(J962=\"\",\"\",VLOOKUP(J962,EventNPC!A:E,5,FALSE))","v":"玩家"},6140,"好的谢谢前辈，那晚辈告辞",null,9116,20,"",null,null,{"$f":"IF(R962=\"\",\"\",\"-\"&VLOOKUP(R962,EventConditionConfig!A:C,3,FALSE)&IF(S962=\"\",\"\",CHAR(10)&\"-\"&VLOOKUP(S962,EventConditionConfig!A:C,3,FALSE)))","v":""},"","","","",null,null,"",null,null,"",{"$nulls":4},{"$f":"IF(A962=\"\",\"\",IF(ISNUMBER(Y962),2,IF(A963=\"\",IF(OR(AK962>0,VLOOKUP(O962,EventConfig!A:C,3,FALSE)=4),3,\"\"),1)))","v":""},"",null,6140]
[null,"",null,"",{"$nulls":7},"",{"$nulls":9},"","","",null,null,"",null,null,"",{"$nulls":4},{"$f":"IF(A963=\"\",\"\",IF(ISNUMBER(Y963),2,IF(A964=\"\",IF(OR(AK963>0,VLOOKUP(O963,EventConfig!A:C,3,FALSE)=4),3,\"\"),1)))","v":""},"",null,""]
[{"$f":"O964*100+P964","v":911701},6141,"完成和NPC的对话","",{"$nulls":5},131,{"$f":"IF(J964=\"\",\"\",VLOOKUP(J964,EventNPC!A:E,5,FALSE))","v":"馨儿"},6142,"喂！你是哪宗的修士？看你在这秘境里晃悠，是不是想探秘境的宝藏？",null,9117,{"$f":"IF(O964=\"\",\"\",IF(O964=O963,P963+1,1))","v":1},{"$f":"_xlfn.TEXTJOIN(\";\",1,R964:S964)","v":""},null,null,{"$f":"IF(R964=\"\",\"\",\"-\"&VLOOKUP(R964,EventConditionConfig!A:C,3,FALSE)&IF(S964=\"\",\"\",CHAR(10)&\"-\"&VLOOKUP(S964,EventConditionConfig!A:C,3,FALSE)))","v":""},{"$f":"IF(Y964=\"\",\"\",IF(ISTEXT(Y964),1,2))","v":""},"","","",null,null,"",null,null,"",{"$nulls":4},{"$f":"IF(A964=\"\",\"\",IF(ISNUMBER(Y964),2,IF(A965=\"\",IF(OR(AK964>0,VLOOKUP(O964,EventConfig!A:C,3,FALSE)=4),3,\"\"),1)))","v":1},911702,null,6142]
[{"$f":"O965*100+P965","v":911702},6141,"完成和NPC的对话","",{"$nulls":5},131,{"$f":"IF(J965=\"\",\"\",VLOOKUP(J965,EventNPC!A:E,5,FALSE))","v":"馨儿"},6143,"咳，算了，先不说这个……我叫馨儿，云隐宗的弟子，初次见面，幸会啦！",null,9117,{"$f":"IF(O965=\"\",\"\",IF(O965=O964,P964+1,1))","v":2},{"$f":"_xlfn.TEXTJOIN(\";\",1,R965:S965)","v":""},null,null,{"$f":"IF(R965=\"\",\"\",\"-\"&VLOOKUP(R965,EventConditionConfig!A:C,3,FALSE)&IF(S965=\"\",\"\",CHAR(10)&\"-\"&VLOOKUP(S965,EventConditionConfig!A:C,3,FALSE)))","v":""},{"$f":"IF(Y965=\"\",\"\",IF(ISTEXT(Y965),1,2))","v":""},"","","",null,null,"",null,null,"",{"$nulls":4},{"$f":"IF(A965=\"\",\"\",IF(ISNUMBER(Y965),2,IF(A966=\"\",IF(OR(AK965>0,VLOOKUP(O965,EventConfig!A:C,3,FALSE)=4),3,\"\"),1)))","v":1},911703,null,6143]
[{"$f":"O966*100+P966","v":911703},6141,"完成和NPC的对话",{"$f":"IF(E966=\"\",\"\",IF(E966=E965,D965,MAX(AL965,AL964,B966)+1))","v":""},{"$nulls":5},100,{"$f":"IF(J966=\"\",\"\",VLOOKUP(J966,EventNPC!A:E,5,FALSE))","v":"玩家"},{"$f":"IF(M966=\"\",\"\",MAX(AL965,AL964,B966,D966)+1)","v":6144},"我叫{玩家名字}，幸会！不知道友叫住我有何事？",null,9117,{"$f":"IF(O966=\"\",\"\",IF(O966=O965,P965+1,1))","v":3},{"$f":"_xlfn.TEXTJOIN(\";\",1,R966:S966)","v":""},null,null,{"$f":"IF(R966=\"\",\"\",\"-\"&VLOOKUP(R966,EventConditionConfig!A:C,3,FALSE)&IF(S966=\"\",\"\",CHAR(10)&\"-\"&VLOOKUP(S966,EventConditionConfig!A:C,3,FALSE)))","v":""},{"$f":"IF(Y966=\"\",\"\",IF(ISTEXT(Y966),1,2))","v":""},"","","",null,null,"",null,null,"",{"$nulls":4},{"$f":"IF(A966=\"\",\"\",IF(ISNUMBER(Y966),2,IF(A967=\"\",IF(OR(AK966>0,VLOOKUP(O966,EventConfig!A:C,3,FALSE)=4),3,\"\"),1)))","v":1},911704,null,{"$f":"IF(A966=\"\",\"\",MAX(B966,D966,L966,X966,AA966,AL965,AL964,AD966))","v":6144}]
[911704,6141,"完成和NPC的对话","",{"$nulls":5},131,{"$f":"IF(J967=\"\",\"\",VLOOKUP(J967,EventNPC!A:E,5,FALSE))","v":"馨儿"},6145,"其实吧，我正头疼呢！我们宗门的信使在这林子里失踪了，带着超级重要的密信！",null,9117,4,"",null,null,{"$f":"IF(R967=\"\",\"\",\"-\"&VLOOKUP(R967,EventConditionConfig!A:C,3,FALSE)&IF(S967=\"\",\"\",CHAR(10)&\"-\"&VLOOKUP(S967,EventConditionConfig!A:C,3,FALSE)))","v":""},"","","","",null,null,"",null,null,"",{"$nulls":4},{"$f":"IF(A967=\"\",\"\",IF(ISNUMBER(Y967),2,IF(A968=\"\",IF(OR(AK967>0,VLOOKUP(O967,EventConfig!A:C,3,FALSE)=4),3,\"\"),1)))","v":1},911705,null,6145]
[{"$f":"O968*100+P968","v":911705},6141,"完成和NPC的对话","",{"$nulls":5},131,{"$f":"IF(J968=\"\",\"\",VLOOKUP(J968,EventNPC!A:E,5,FALSE))","v":"馨儿"},6146,"师姐非让我找回来，可这雾气浓得跟迷魂阵似的，我一个人完全晕头转向……你看起来挺靠谱的，帮我个忙呗？",null,9117,{"$f":"IF(O968=\"\",\"\",IF(O968=O967,P967+1,1))","v":5},{"$f":"_xlfn.TEXTJOIN(\";\",1,R968:S968)","v":""},null,null,{"$f":"IF(R968=\"\",\"\",\"-\"&VLOOKUP(R968,EventConditionConfig!A:C,3,FALSE)&IF(S968=\"\",\"\",CHAR(10)&\"-\"&VLOOKUP(S968,EventConditionConfig!A:C,3,FALSE)))","v":""},{"$f":"IF(Y968=\"\",\"\",IF(ISTEXT(Y968),1,2))","v":1},"911706;911708","6147;6148",6147,"初次见面就让我帮忙？你这人真自来熟……",{"$f":"A969","v":911706},6148,"云雾林这么危险，我得掂量掂量。",{"$f":"A971","v":911708},"",null,{"$f":"D971","v":""},null,null,{"$f":"IF(A968=\"\",\"\",IF(ISNUMBER(Y968),2,IF(A969=\"\",IF(OR(AK968>0,VLOOKUP(O968,EventConfig!A:C,3,FALSE)=4),3,\"\"),1)))","v":1},911706,null,6148]
[911706,6141,"完成和NPC的对话","",{"$nulls":5},131,{"$f":"IF(J969=\"\",\"\",VLOOKUP(J969,EventNPC!A:E,5,FALSE))","v":"馨儿"},6149,"自来熟怎么了？修仙界不就得互相帮忙吗？再说，这密信关系到云隐宗的大事！",null,9117,6,"",null,null,{"$f":"IF(R969=\"\",\"\",\"-\"&VLOOKUP(R969,EventConditionConfig!A:C,3,FALSE)&IF(S969=\"\",\"\",CHAR(10)&\"-\"&VLOOKUP(S969,EventConditionConfig!A:C,3,FALSE)))","v":""},"","","","",null,null,"",null,null,"",{"$nulls":4},{"$f":"IF(A969=\"\",\"\",IF(ISNUMBER(Y969),2,IF(A970=\"\",IF(OR(AK969>0,VLOOKUP(O969,EventConfig!A:C,3,FALSE)=4),3,\"\"),1)))","v":1},911707,null,6149]
[{"$f":"O970*100+P970","v":911707},6141,"完成和NPC的对话","",{"$nulls":5},131,{"$f":"IF(J970=\"\",\"\",VLOOKUP(J970,EventNPC!A:E,5,FALSE))","v":"馨儿"},6150,"丢了它，我得被师姐骂得狗血淋头！你忍心看我这么个娇滴滴的修士被责罚吗？帮帮忙事成后少不了你好处！",null,9117,{"$f":"IF(O970=\"\",\"\",IF(O970=O969,P969+1,1))","v":7},{"$f":"_xlfn.TEXTJOIN(\";\",1,R970:S970)","v":""},null,null,{"$f":"IF(R970=\"\",\"\",\"-\"&VLOOKUP(R970,EventConditionConfig!A:C,3,FALSE)&IF(S970=\"\",\"\",CHAR(10)&\"-\"&VLOOKUP(S970,EventConditionConfig!A:C,3,FALSE)))","v":""},{"$f":"IF(Y970=\"\",\"\",IF(ISTEXT(Y970),1,2))","v":""},"","","",null,null,"",null,null,"",{"$nulls":4},{"$f":"IF(A970=\"\",\"\",IF(ISNUMBER(Y970),2,IF(A971=\"\",IF(OR(AK970>0,VLOOKUP(O970,EventConfig!A:C,3,FALSE)=4),3,\"\"),1)))","v":1},911710,{"$f":"A973","v":911710},6150]
[{"$f":"O971*100+P971","v":911708},6141,"完成和NPC的对话","",{"$nulls":5},131,{"$f":"IF(J971=\"\",\"\",VLOOKUP(J971,EventNPC!A:E,5,FALSE))","v":"馨儿"},6151,"危险？哼，修仙哪有不冒险的！再说，有我这云隐宗的天才弟子在旁边撑腰，你怕啥？",null,9117,{"$f":"IF(O971=\"\",\"\",IF(O971=O970,P970+1,1))","v":8},{"$f":"_xlfn.TEXTJOIN(\";\",1,R971:S971)","v":""},null,null,{"$f":"IF(R971=\"\",\"\",\"-\"&VLOOKUP(R971,EventConditionConfig!A:C,3,FALSE)&IF(S971=\"\",\"\",CHAR(10)&\"-\"&VLOOKUP(S971,EventConditionConfig!A:C,3,FALSE)))","v":""},{"$f":"IF(Y971=\"\",\"\",IF(ISTEXT(Y971),1,2))","v":""},"","","",null,null,"",null,null,"",{"$nulls":4},{"$f":"IF(A971=\"\",\"\",IF(ISNUMBER(Y971),2,IF(A972=\"\",IF(OR(AK971>0,VLOOKUP(O971,EventConfig!A:C,3,FALSE)=4),3,\"\"),1)))","v":1},911709,null,6151]
[{"$f":"O972*100+P972","v":911709},6141,"完成和NPC的对话","",{"$nulls":5},131,{"$f":"IF(J972=\"\",\"\",VLOOKUP(J972,EventNPC!A:E,5,FALSE))","v":"馨儿"},6152,"雾妖而已，小意思！快点，帮我找信使，事后我请你吃灵果！",null,9117,{"$f":"IF(O972=\"\",\"\",IF(O972=O971,P971+1,1))","v":9},{"$f":"_xlfn.TEXTJOIN(\";\",1,R972:S972)","v":""},null,null,{"$f":"IF(R972=\"\",\"\",\"-\"&VLOOKUP(R972,EventConditionConfig!A:C,3,FALSE)&IF(S972=\"\",\"\",CHAR(10)&\"-\"&VLOOKUP(S972,EventConditionConfig!A:C,3,FALSE)))","v":""},{"$f":"IF(Y972=\"\",\"\",IF(ISTEXT(Y972),1,2))","v":""},"","","",null,null,"",null,null,"",{"$nulls":4},{"$f":"IF(A972=\"\",\"\",IF(ISNUMBER(Y972),2,IF(A973=\"\",IF(OR(AK972>0,VLOOKUP(O972,EventConfig!A:C,3,FALSE)=4),3,\"\"),1)))","v":1},911710,{"$f":"A973","v":911710},6152]
[911710,6141,"完成和NPC的对话","",{"$nulls":5},100,{"$f":"IF(J973=\"\",\"\",VLOOKUP(J973,EventNPC!A:E,5,FALSE))","v":"玩家"},6153,"好吧，我帮你找信使.",null,9117,10,"",null,null,{"$f":"IF(R973=\"\",\"\",\"-\"&VLOOKUP(R973,EventConditionConfig!A:C,3,FALSE)&IF(S973=\"\",\"\",CHAR(10)&\"-\"&VLOOKUP(S973,EventConditionConfig!A:C,3,FALSE)))","v":""},"","","",{"$f":"IF(OR(ISNUMBER(Y973),Y973=\"\"),\"\",MAX(AL972,AL970,B973,D973,L973)+1)","v":""},null,null,{"$f":"IF(OR(ISNUMBER(AB973),AB973=\"\"),\"\",X973+1)","v":""},null,null,{"$f":"IF(OR(ISNUMBER(AE973),AE973=\"\"),\"\",AA973+1)","v":""},{"$nulls":4},{"$f":"IF(A973=\"\",\"\",IF(ISNUMBER(Y973),2,IF(A974=\"\",IF(OR(AK973>0,VLOOKUP(O973,EventConfig!A:C,3,FALSE)=4),3,\"\"),1)))","v":1},911711,null,6153]
[{"$f":"O974*100+P974","v":911711},6141,"完成和NPC的对话","",{"$nulls":5},131,{"$f":"IF(J974=\"\",\"\",VLOOKUP(J974,EventNPC!A:E,5,FALSE))","v":"馨儿"},6154,"哈哈，果然没看错你！我就喜欢你这种爽快的修士！走走走，密信可不能落进别人手里。这是一点见面礼收下。",null,9117,{"$f":"IF(O974=\"\",\"\",IF(O974=O973,P973+1,1))","v":11},{"$f":"_xlfn.TEXTJOIN(\";\",1,R974:S974)","v":""},null,null,{"$f":"IF(R974=\"\",\"\",\"-\"&VLOOKUP(R974,EventConditionConfig!A:C,3,FALSE)&IF(S974=\"\",\"\",CHAR(10)&\"-\"&VLOOKUP(S974,EventConditionConfig!A:C,3,FALSE)))","v":""},{"$f":"IF(Y974=\"\",\"\",IF(ISTEXT(Y974),1,2))","v":""},{"$f":"IF(U974=1,_xlfn.TEXTJOIN(\";\",1,IF(Z974=\"\",A974+1,Z974),IF(AND(AA974<>\"\",AC974=\"\"),A974+1,AC974),IF(AND(AD974<>\"\",AF974=\"\"),A974+1,AF974)),IF(U974=2,Y974,\"\"))","v":""},{"$f":"_xlfn.TEXTJOIN(\";\",1,X974,AA974,AD974)","v":""},"",null,null,"",null,null,"",{"$nulls":4},{"$f":"IF(A974=\"\",\"\",IF(ISNUMBER(Y974),2,IF(A975=\"\",IF(OR(AK974>0,VLOOKUP(O974,EventConfig!A:C,3,FALSE)=4),3,\"\"),1)))","v":""},{"$f":"IF(AI974=\"\",\"\",CHOOSE(AI974,IF(AK974=\"\",A974+1,AK974),CONCATENATE(IF(AK974=\"\",A974+1,AK974),\";101\"),IF(AK974=\"\",O974+1,AK974)))","v":""},null,6154]
[null,"",null,"",{"$nulls":7},"",{"$nulls":9},"","","",null,null,"",null,null,"",{"$nulls":4},{"$f":"IF(A975=\"\",\"\",IF(ISNUMBER(Y975),2,IF(A976=\"\",IF(OR(AK975>0,VLOOKUP(O975,EventConfig!A:C,3,FALSE)=4),3,\"\"),1)))","v":""},"",null,""]
[{"$f":"O976*100+P976","v":911801},6155,"完成和NPC的对话","",{"$nulls":5},131,{"$f":"IF(J976=\"\",\"\",VLOOKUP(J976,EventNPC!A:E,5,FALSE))","v":"馨儿"},6156,"这秘境里的云雾真是邪门，雾气浓得跟师姐的脾气一样吓人！",null,9118,{"$f":"IF(O976=\"\",\"\",IF(O976=O975,P975+1,1))","v":1},{"$f":"_xlfn.TEXTJOIN(\";\",1,R976:S976)","v":""},null,null,{"$f":"IF(R976=\"\",\"\",\"-\"&VLOOKUP(R976,EventConditionConfig!A:C,3,FALSE)&IF(S976=\"\",\"\",CHAR(10)&\"-\"&VLOOKUP(S976,EventConditionConfig!A:C,3,FALSE)))","v":""},{"$f":"IF(Y976=\"\",\"\",IF(ISTEXT(Y976),1,2))","v":""},"","","",null,null,"",null,null,"",{"$nulls":4},{"$f":"IF(A976=\"\",\"\",IF(ISNUMBER(Y976),2,IF(A977=\"\",IF(OR(AK976>0,VLOOKUP(O976,EventConfig!A:C,3,FALSE)=4),3,\"\"),1)))","v":1},911802,null,6156]
[{"$f":"O977*100+P977","v":911802},6155,"完成和NPC的对话","",{"$nulls":5},131,{"$f":"IF(J977=\"\",\"\",VLOOKUP(J977,EventNPC!A:E,5,FALSE))","v":"馨儿"},6157,"玉符显示信使就在前面，不过老是有妖怪躲在雾里偷袭，烦死人了！",null,9118,{"$f":"IF(O977=\"\",\"\",IF(O977=O976,P976+1,1))","v":2},{"$f":"_xlfn.TEXTJOIN(\";\",1,R977:S977)","v":""},null,null,{"$f":"IF(R977=\"\",\"\",\"-\"&VLOOKUP(R977,EventConditionConfig!A:C,3,FALSE)&IF(S977=\"\",\"\",CHAR(10)&\"-\"&VLOOKUP(S977,EventConditionConfig!A:C,3,FALSE)))","v":""},{"$f":"IF(Y977=\"\",\"\",IF(ISTEXT(Y977),1,2))","v":""},"","","",null,null,"",null,null,"",{"$nulls":4},{"$f":"IF(A977=\"\",\"\",IF(ISNUMBER(Y977),2,IF(A978=\"\",IF(OR(AK977>0,VLOOKUP(O977,EventConfig!A:C,3,FALSE)=4),3,\"\"),1)))","v":1},911803,null,6157]
[{"$f":"O978*100+P978","v":911803},6155,"完成和NPC的对话","",{"$nulls":5},131,{"$f":"IF(J978=\"\",\"\",VLOOKUP(J978,EventNPC!A:E,5,FALSE))","v":"馨儿"},6158,"{玩家名字}道友，你准备好了吧？咱们得先干掉几只妖怪，免得它们捣乱！",null,9118,{"$f":"IF(O978=\"\",\"\",IF(O978=O977,P977+1,1))","v":3},{"$f":"_xlfn.TEXTJOIN(\";\",1,R978:S978)","v":""},null,null,{"$f":"IF(R978=\"\",\"\",\"-\"&VLOOKUP(R978,EventConditionConfig!A:C,3,FALSE)&IF(S978=\"\",\"\",CHAR(10)&\"-\"&VLOOKUP(S978,EventConditionConfig!A:C,3,FALSE)))","v":""},{"$f":"IF(Y978=\"\",\"\",IF(ISTEXT(Y978),1,2))","v":""},"","","",null,null,"",null,null,"",{"$nulls":4},{"$f":"IF(A978=\"\",\"\",IF(ISNUMBER(Y978),2,IF(A979=\"\",IF(OR(AK978>0,VLOOKUP(O978,EventConfig!A:C,3,FALSE)=4),3,\"\"),1)))","v":1},911804,null,6158]
[{"$f":"O979*100+P979","v":911804},6155,"完成和NPC的对话","",{"$nulls":5},100,{"$f":"IF(J979=\"\",\"\",VLOOKUP(J979,EventNPC!A:E,5,FALSE))","v":"玩家"},6159,"这妖怪看起来不好对付，你有什么计划？",null,9118,{"$f":"IF(O979=\"\",\"\",IF(O979=O978,P978+1,1))","v":4},{"$f":"_xlfn.TEXTJOIN(\";\",1,R979:S979)","v":""},null,null,{"$f":"IF(R979=\"\",\"\",\"-\"&VLOOKUP(R979,EventConditionConfig!A:C,3,FALSE)&IF(S979=\"\",\"\",CHAR(10)&\"-\"&VLOOKUP(S979,EventConditionConfig!A:C,3,FALSE)))","v":""},{"$f":"IF(Y979=\"\",\"\",IF(ISTEXT(Y979),1,2))","v":""},"","","",null,null,"",null,null,"",{"$nulls":4},{"$f":"IF(A979=\"\",\"\",IF(ISNUMBER(Y979),2,IF(A980=\"\",IF(OR(AK979>0,VLOOKUP(O979,EventConfig!A:C,3,FALSE)=4),3,\"\"),1)))","v":1},911805,null,6159]
[911805,6155,"完成和NPC的对话","",{"$nulls":5},131,{"$f":"IF(J980=\"\",\"\",VLOOKUP(J980,EventNPC!A:E,5,FALSE))","v":"馨儿"},6160,"计划？当然有！我的云雾术能让雾里的妖怪现形，你负责主攻，我来辅助！",null,9118,5,"",null,null,{"$f":"IF(R980=\"\",\"\",\"-\"&VLOOKUP(R980,EventConditionConfig!A:C,3,FALSE)&IF(S980=\"\",\"\",CHAR(10)&\"-\"&VLOOKUP(S980,EventConditionConfig!A:C,3,FALSE)))","v":""},"","","","",null,null,"",null,null,"",{"$nulls":4},{"$f":"IF(A980=\"\",\"\",IF(ISNUMBER(Y980),2,IF(A981=\"\",IF(OR(AK980>0,VLOOKUP(O980,EventConfig!A:C,3,FALSE)=4),3,\"\"),1)))","v":1},911806,null,6160]
[{"$f":"O981*100+P981","v":911806},6155,"完成和NPC的对话","",{"$nulls":5},131,{"$f":"IF(J981=\"\",\"\",VLOOKUP(J981,EventNPC!A:E,5,FALSE))","v":"馨儿"},6161,"别看我修为不高，阵法可是一流！怎么样，配合我一把？",null,9118,{"$f":"IF(O981=\"\",\"\",IF(O981=O980,P980+1,1))","v":6},{"$f":"_xlfn.TEXTJOIN(\";\",1,R981:S981)","v":""},null,null,{"$f":"IF(R981=\"\",\"\",\"-\"&VLOOKUP(R981,EventConditionConfig!A:C,3,FALSE)&IF(S981=\"\",\"\",CHAR(10)&\"-\"&VLOOKUP(S981,EventConditionConfig!A:C,3,FALSE)))","v":""},{"$f":"IF(Y981=\"\",\"\",IF(ISTEXT(Y981),1,2))","v":""},"","","",null,null,"",null,null,"",{"$nulls":4},{"$f":"IF(A981=\"\",\"\",IF(ISNUMBER(Y981),2,IF(A982=\"\",IF(OR(AK981>0,VLOOKUP(O981,EventConfig!A:C,3,FALSE)=4),3,\"\"),1)))","v":1},911807,null,6161]
[911807,6155,"完成和NPC的对话","",{"$nulls":5},100,{"$f":"IF(J982=\"\",\"\",VLOOKUP(J982,EventNPC!A:E,5,FALSE))","v":"玩家"},6162,"好，直接开打吧！",null,9118,7,"",null,null,{"$f":"IF(R982=\"\",\"\",\"-\"&VLOOKUP(R982,EventConditionConfig!A:C,3,FALSE)&IF(S982=\"\",\"\",CHAR(10)&\"-\"&VLOOKUP(S982,EventConditionConfig!A:C,3,FALSE)))","v":""},2,4003,"","",4003,null,"",null,null,"",{"$nulls":4},{"$f":"IF(A982=\"\",\"\",IF(ISNUMBER(Y982),2,IF(A983=\"\",IF(OR(AK982>0,VLOOKUP(O982,EventConfig!A:C,3,FALSE)=4),3,\"\"),1)))","v":2},"911808;101",null,6162]
[{"$f":"O983*100+P983","v":911808},6155,"完成和NPC的对话","",{"$nulls":5},131,{"$f":"IF(J983=\"\",\"\",VLOOKUP(J983,EventNPC!A:E,5,FALSE))","v":"馨儿"},6163,"信使就在前面了，我们抓紧时间吧。",null,9118,{"$f":"IF(O983=\"\",\"\",IF(O983=O982,P982+1,1))","v":8},{"$f":"_xlfn.TEXTJOIN(\";\",1,R983:S983)","v":""},null,null,{"$f":"IF(R983=\"\",\"\",\"-\"&VLOOKUP(R983,EventConditionConfig!A:C,3,FALSE)&IF(S983=\"\",\"\",CHAR(10)&\"-\"&VLOOKUP(S983,EventConditionConfig!A:C,3,FALSE)))","v":""},{"$f":"IF(Y983=\"\",\"\",IF(ISTEXT(Y983),1,2))","v":""},"","","",null,null,"",null,null,"",{"$nulls":4},{"$f":"IF(A983=\"\",\"\",IF(ISNUMBER(Y983),2,IF(A984=\"\",IF(OR(AK983>0,VLOOKUP(O983,EventConfig!A:C,3,FALSE)=4),3,\"\"),1)))","v":""},"",null,6163]
[null,"",null,"",{"$nulls":7},"",{"$nulls":9},"","","",null,null,"",null,null,"",{"$nulls":4},{"$f":"IF(A984=\"\",\"\",IF(ISNUMBER(Y984),2,IF(A985=\"\",IF(OR(AK984>0,VLOOKUP(O984,EventConfig!A:C,3,FALSE)=4),3,\"\"),1)))","v":""},"",null,""]
[{"$f":"O985*100+P985","v":911901},6164,"完成和NPC的对话","",{"$nulls":5},131,{"$f":"IF(J985=\"\",\"\",VLOOKUP(J985,EventNPC!A:E,5,FALSE))","v":"馨儿"},6165,"找到了！这就是我们宗的信使！",null,9119,{"$f":"IF(O985=\"\",\"\",IF(O985=O984,P984+1,1))","v":1},{"$f":"_xlfn.TEXTJOIN(\";\",1,R985:S985)","v":""},null,null,{"$f":"IF(R985=\"\",\"\",\"-\"&VLOOKUP(R985,EventConditionConfig!A:C,3,FALSE)&IF(S985=\"\",\"\",CHAR(10)&\"-\"&VLOOKUP(S985,EventConditionConfig!A:C,3,FALSE)))","v":""},{"$f":"IF(Y985=\"\",\"\",IF(ISTEXT(Y985),1,2))","v":""},"","","",null,null,"",null,null,"",{"$nulls":4},{"$f":"IF(A985=\"\",\"\",IF(ISNUMBER(Y985),2,IF(A986=\"\",IF(OR(AK985>0,VLOOKUP(O985,EventConfig!A:C,3,FALSE)=4),3,\"\"),1)))","v":1},911902,null,6165]
[{"$f":"O986*100+P986","v":911902},6164,"完成和NPC的对话","",{"$nulls":5},132,{"$f":"IF(J986=\"\",\"\",VLOOKUP(J986,EventNPC!A:E,5,FALSE))","v":"信使"},6166,"馨儿师姐你来了，小心阵法周围的妖物，我有阵法护佑他们伤害不了我。但也被阵法所困出去。",null,9119,{"$f":"IF(O986=\"\",\"\",IF(O986=O985,P985+1,1))","v":2},{"$f":"_xlfn.TEXTJOIN(\";\",1,R986:S986)","v":""},null,null,{"$f":"IF(R986=\"\",\"\",\"-\"&VLOOKUP(R986,EventConditionConfig!A:C,3,FALSE)&IF(S986=\"\",\"\",CHAR(10)&\"-\"&VLOOKUP(S986,EventConditionConfig!A:C,3,FALSE)))","v":""},{"$f":"IF(Y986=\"\",\"\",IF(ISTEXT(Y986),1,2))","v":""},"","","",null,null,"",null,null,"",{"$nulls":4},{"$f":"IF(A986=\"\",\"\",IF(ISNUMBER(Y986),2,IF(A987=\"\",IF(OR(AK986>0,VLOOKUP(O986,EventConfig!A:C,3,FALSE)=4),3,\"\"),1)))","v":1},911903,null,6166]
[911903,6164,"完成和NPC的对话","",{"$nulls":5},131,{"$f":"IF(J987=\"\",\"\",VLOOKUP(J987,EventNPC!A:E,5,FALSE))","v":"馨儿"},6167,"看样子是阵法失控。这可是云隐宗的独门手法，稍微有点复杂！",null,9119,3,"",null,null,{"$f":"IF(R987=\"\",\"\",\"-\"&VLOOKUP(R987,EventConditionConfig!A:C,3,FALSE)&IF(S987=\"\",\"\",CHAR(10)&\"-\"&VLOOKUP(S987,EventConditionConfig!A:C,3,FALSE)))","v":""},"","","","",null,null,"",null,null,"",{"$nulls":4},{"$f":"IF(A987=\"\",\"\",IF(ISNUMBER(Y987),2,IF(A988=\"\",IF(OR(AK987>0,VLOOKUP(O987,EventConfig!A:C,3,FALSE)=4),3,\"\"),1)))","v":1},911904,null,6167]
[{"$f":"O988*100+P988","v":911904},6164,"完成和NPC的对话","",{"$nulls":5},100,{"$f":"IF(J988=\"\",\"\",VLOOKUP(J988,EventNPC!A:E,5,FALSE))","v":"玩家"},6168,"我能做什么？",null,9119,{"$f":"IF(O988=\"\",\"\",IF(O988=O987,P987+1,1))","v":4},{"$f":"_xlfn.TEXTJOIN(\";\",1,R988:S988)","v":""},null,null,{"$f":"IF(R988=\"\",\"\",\"-\"&VLOOKUP(R988,EventConditionConfig!A:C,3,FALSE)&IF(S988=\"\",\"\",CHAR(10)&\"-\"&VLOOKUP(S988,EventConditionConfig!A:C,3,FALSE)))","v":""},{"$f":"IF(Y988=\"\",\"\",IF(ISTEXT(Y988),1,2))","v":""},"","","",null,null,"",null,null,"",{"$nulls":4},{"$f":"IF(A988=\"\",\"\",IF(ISNUMBER(Y988),2,IF(A989=\"\",IF(OR(AK988>0,VLOOKUP(O988,EventConfig!A:C,3,FALSE)=4),3,\"\"),1)))","v":1},911905,null,6168]
[911905,6164,"完成和NPC的对话","",{"$nulls":5},131,{"$f":"IF(J989=\"\",\"\",VLOOKUP(J989,EventNPC!A:E,5,FALSE))","v":"馨儿"},6169,"帮我护阵，我在破阵期间可能会有妖怪来袭",null,9119,5,"",null,null,{"$f":"IF(R989=\"\",\"\",\"-\"&VLOOKUP(R989,EventConditionConfig!A:C,3,FALSE)&IF(S989=\"\",\"\",CHAR(10)&\"-\"&VLOOKUP(S989,EventConditionConfig!A:C,3,FALSE)))","v":""},"","","","",null,null,"",null,null,"",{"$nulls":4},{"$f":"IF(A989=\"\",\"\",IF(ISNUMBER(Y989),2,IF(A990=\"\",IF(OR(AK989>0,VLOOKUP(O989,EventConfig!A:C,3,FALSE)=4),3,\"\"),1)))","v":1},911906,null,6169]
[{"$f":"O990*100+P990","v":911906},6164,"完成和NPC的对话","",{"$nulls":5},100,{"$f":"IF(J990=\"\",\"\",VLOOKUP(J990,EventNPC!A:E,5,FALSE))","v":"玩家"},6170,"好的没问题，你专心破阵。",null,9119,{"$f":"IF(O990=\"\",\"\",IF(O990=O989,P989+1,1))","v":6},{"$f":"_xlfn.TEXTJOIN(\";\",1,R990:S990)","v":""},null,null,{"$f":"IF(R990=\"\",\"\",\"-\"&VLOOKUP(R990,EventConditionConfig!A:C,3,FALSE)&IF(S990=\"\",\"\",CHAR(10)&\"-\"&VLOOKUP(S990,EventConditionConfig!A:C,3,FALSE)))","v":""},{"$f":"IF(Y990=\"\",\"\",IF(ISTEXT(Y990),1,2))","v":2},4004,"","",4004,null,"",null,null,"",{"$nulls":4},{"$f":"IF(A990=\"\",\"\",IF(ISNUMBER(Y990),2,IF(A991=\"\",IF(OR(AK990>0,VLOOKUP(O990,EventConfig!A:C,3,FALSE)=4),3,\"\"),1)))","v":2},"911907;101",null,6170]
[{"$f":"O991*100+P991","v":911907},6164,"完成和NPC的对话","",{"$nulls":5},100,{"$f":"IF(J991=\"\",\"\",VLOOKUP(J991,EventNPC!A:E,5,FALSE))","v":"玩家"},6171,"周围的妖物又来了，看我的！",null,9119,{"$f":"IF(O991=\"\",\"\",IF(O991=O990,P990+1,1))","v":7},{"$f":"_xlfn.TEXTJOIN(\";\",1,R991:S991)","v":""},null,null,{"$f":"IF(R991=\"\",\"\",\"-\"&VLOOKUP(R991,EventConditionConfig!A:C,3,FALSE)&IF(S991=\"\",\"\",CHAR(10)&\"-\"&VLOOKUP(S991,EventConditionConfig!A:C,3,FALSE)))","v":""},{"$f":"IF(Y991=\"\",\"\",IF(ISTEXT(Y991),1,2))","v":2},4005,"","",4005,null,"",null,null,"",{"$nulls":4},{"$f":"IF(A991=\"\",\"\",IF(ISNUMBER(Y991),2,IF(A992=\"\",IF(OR(AK991>0,VLOOKUP(O991,EventConfig!A:C,3,FALSE)=4),3,\"\"),1)))","v":2},"911908;101",null,6171]
[911908,6164,"完成和NPC的对话","",{"$nulls":5},131,{"$f":"IF(J992=\"\",\"\",VLOOKUP(J992,EventNPC!A:E,5,FALSE))","v":"馨儿"},6172,"破~！（阵法破裂开来）",null,9119,8,"",null,null,{"$f":"IF(R992=\"\",\"\",\"-\"&VLOOKUP(R992,EventConditionConfig!A:C,3,FALSE)&IF(S992=\"\",\"\",CHAR(10)&\"-\"&VLOOKUP(S992,EventConditionConfig!A:C,3,FALSE)))","v":""},"","","","",null,null,"",null,null,"",{"$nulls":4},{"$f":"IF(A992=\"\",\"\",IF(ISNUMBER(Y992),2,IF(A993=\"\",IF(OR(AK992>0,VLOOKUP(O992,EventConfig!A:C,3,FALSE)=4),3,\"\"),1)))","v":1},911909,null,6172]
[911909,6164,"完成和NPC的对话","",{"$nulls":5},132,{"$f":"IF(J993=\"\",\"\",VLOOKUP(J993,EventNPC!A:E,5,FALSE))","v":"信使"},6173,"多谢师姐和这位道友相助，不知这位道友如何称呼。",null,9119,9,"",null,null,{"$f":"IF(R993=\"\",\"\",\"-\"&VLOOKUP(R993,EventConditionConfig!A:C,3,FALSE)&IF(S993=\"\",\"\",CHAR(10)&\"-\"&VLOOKUP(S993,EventConditionConfig!A:C,3,FALSE)))","v":""},"","","","",null,null,"",null,null,"",{"$nulls":4},{"$f":"IF(A993=\"\",\"\",IF(ISNUMBER(Y993),2,IF(A994=\"\",IF(OR(AK993>0,VLOOKUP(O993,EventConfig!A:C,3,FALSE)=4),3,\"\"),1)))","v":1},911910,null,6173]
[911910,6164,"完成和NPC的对话","",{"$nulls":5},100,{"$f":"IF(J994=\"\",\"\",VLOOKUP(J994,EventNPC!A:E,5,FALSE))","v":"玩家"},6174,"我叫{玩家名}",null,9119,10,"",null,null,{"$f":"IF(R994=\"\",\"\",\"-\"&VLOOKUP(R994,EventConditionConfig!A:C,3,FALSE)&IF(S994=\"\",\"\",CHAR(10)&\"-\"&VLOOKUP(S994,EventConditionConfig!A:C,3,FALSE)))","v":""},"","","","",null,null,"",null,null,"",{"$nulls":4},{"$f":"IF(A994=\"\",\"\",IF(ISNUMBER(Y994),2,IF(A995=\"\",IF(OR(AK994>0,VLOOKUP(O994,EventConfig!A:C,3,FALSE)=4),3,\"\"),1)))","v":1},911911,null,6174]
[{"$f":"O995*100+P995","v":911911},6164,"完成和NPC的对话","",{"$nulls":5},132,{"$f":"IF(J995=\"\",\"\",VLOOKUP(J995,EventNPC!A:E,5,FALSE))","v":"信使"},6175,"密信在我怀中，千万别让它落入外人之手",null,9119,{"$f":"IF(O995=\"\",\"\",IF(O995=O994,P994+1,1))","v":11},{"$f":"_xlfn.TEXTJOIN(\";\",1,R995:S995)","v":""},null,null,{"$f":"IF(R995=\"\",\"\",\"-\"&VLOOKUP(R995,EventConditionConfig!A:C,3,FALSE)&IF(S995=\"\",\"\",CHAR(10)&\"-\"&VLOOKUP(S995,EventConditionConfig!A:C,3,FALSE)))","v":""},{"$f":"IF(Y995=\"\",\"\",IF(ISTEXT(Y995),1,2))","v":""},"","","",null,null,"",null,null,"",{"$nulls":4},{"$f":"IF(A995=\"\",\"\",IF(ISNUMBER(Y995),2,IF(A996=\"\",IF(OR(AK995>0,VLOOKUP(O995,EventConfig!A:C,3,FALSE)=4),3,\"\"),1)))","v":1},911912,null,6175]
[911912,6164,"完成和NPC的对话","",{"$nulls":5},131,{"$f":"IF(J996=\"\",\"\",VLOOKUP(J996,EventNPC!A:E,5,FALSE))","v":"馨儿"},6176,"还好密信完好。{玩家名}道友谢谢你了，这是你的奖励拿着。",null,9119,12,"",null,null,{"$f":"IF(R996=\"\",\"\",\"-\"&VLOOKUP(R996,EventConditionConfig!A:C,3,FALSE)&IF(S996=\"\",\"\",CHAR(10)&\"-\"&VLOOKUP(S996,EventConditionConfig!A:C,3,FALSE)))","v":""},"","","","",null,null,"",null,null,"",{"$nulls":4},{"$f":"IF(A996=\"\",\"\",IF(ISNUMBER(Y996),2,IF(A997=\"\",IF(OR(AK996>0,VLOOKUP(O996,EventConfig!A:C,3,FALSE)=4),3,\"\"),1)))","v":1},911913,null,6176]
[911913,6164,"完成和NPC的对话","",{"$nulls":5},100,{"$f":"IF(J997=\"\",\"\",VLOOKUP(J997,EventNPC!A:E,5,FALSE))","v":"玩家"},6177,"那我先走了，道友保重。",null,9119,13,"",null,null,{"$f":"IF(R997=\"\",\"\",\"-\"&VLOOKUP(R997,EventConditionConfig!A:C,3,FALSE)&IF(S997=\"\",\"\",CHAR(10)&\"-\"&VLOOKUP(S997,EventConditionConfig!A:C,3,FALSE)))","v":""},"","","","",null,null,"",null,null,"",{"$nulls":4},{"$f":"IF(A997=\"\",\"\",IF(ISNUMBER(Y997),2,IF(A998=\"\",IF(OR(AK997>0,VLOOKUP(O997,EventConfig!A:C,3,FALSE)=4),3,\"\"),1)))","v":""},"",null,6177]
[null,"",null,"",{"$nulls":7},"",{"$nulls":9},"","","",null,null,"",null,null,"",{"$nulls":4},{"$f":"IF(A998=\"\",\"\",IF(ISNUMBER(Y998),2,IF(A999=\"\",IF(OR(AK998>0,VLOOKUP(O998,EventConfig!A:C,3,FALSE)=4),3,\"\"),1)))","v":""},"",null,""]
[{"$f":"O999*100+P999","v":912001},6178,"完成和NPC的对话","",{"$nulls":5},131,{"$f":"IF(J999=\"\",\"\",VLOOKUP(J999,EventNPC!A:E,5,FALSE))","v":"馨儿"},6179,"{玩家名}道友，是你！快来帮我一把！",null,9120,{"$f":"IF(O999=\"\",\"\",IF(O999=O998,P998+1,1))","v":1},{"$f":"_xlfn.TEXTJOIN(\";\",1,R999:S999)","v":""},null,null,{"$f":"IF(R999=\"\",\"\",\"-\"&VLOOKUP(R999,EventConditionConfig!A:C,3,FALSE)&IF(S999=\"\",\"\",CHAR(10)&\"-\"&VLOOKUP(S999,EventConditionConfig!A:C,3,FALSE)))","v":""},{"$f":"IF(Y999=\"\",\"\",IF(ISTEXT(Y999),1,2))","v":""},"","","",null,null,"",null,null,"",{"$nulls":4},{"$f":"IF(A999=\"\",\"\",IF(ISNUMBER(Y999),2,IF(A1000=\"\",IF(OR(AK999>0,VLOOKUP(O999,EventConfig!A:C,3,FALSE)=4),3,\"\"),1)))","v":1},912002,null,6179]
[{"$f":"O1000*100+P1000","v":912002},6178,"完成和NPC的对话","",{"$nulls":5},100,{"$f":"IF(J1000=\"\",\"\",VLOOKUP(J1000,EventNPC!A:E,5,FALSE))","v":"玩家"},6180,"好久不见！馨儿道友是有什么事吗？",null,9120,{"$f":"IF(O1000=\"\",\"\",IF(O1000=O999,P999+1,1))","v":2},{"$f":"_xlfn.TEXTJOIN(\";\",1,R1000:S1000)","v":""},null,null,{"$f":"IF(R1000=\"\",\"\",\"-\"&VLOOKUP(R1000,EventConditionConfig!A:C,3,FALSE)&IF(S1000=\"\",\"\",CHAR(10)&\"-\"&VLOOKUP(S1000,EventConditionConfig!A:C,3,FALSE)))","v":""},{"$f":"IF(Y1000=\"\",\"\",IF(ISTEXT(Y1000),1,2))","v":""},"","","",null,null,"",null,null,"",{"$nulls":4},{"$f":"IF(A1000=\"\",\"\",IF(ISNUMBER(Y1000),2,IF(A1001=\"\",IF(OR(AK1000>0,VLOOKUP(O1000,EventConfig!A:C,3,FALSE)=4),3,\"\"),1)))","v":1},912003,null,6180]
[912003,{"$f":"IF(C1001=\"\",\"\",IF(C1001=C1000,B1000,MAX(AL1000,AL999)+1))","v":6178},"完成和NPC的对话","",{"$nulls":5},131,{"$f":"IF(J1001=\"\",\"\",VLOOKUP(J1001,EventNPC!A:E,5,FALSE))","v":"馨儿"},6181,"这风灵鸟偷了我的灵草，快帮我把它干掉！有我在，保你不吃亏！",null,9120,3,"",null,null,{"$f":"IF(R1001=\"\",\"\",\"-\"&VLOOKUP(R1001,EventConditionConfig!A:C,3,FALSE)&IF(S1001=\"\",\"\",CHAR(10)&\"-\"&VLOOKUP(S1001,EventConditionConfig!A:C,3,FALSE)))","v":""},1,"912004;912006","6182;6183",6182,"这鸟不好对付吧？",{"$f":"A1002","v":912004},6183,"我正忙着，你又惹麻烦了？",{"$f":"A1004","v":912006},"",null,{"$f":"D1004","v":""},null,null,{"$f":"IF(A1001=\"\",\"\",IF(ISNUMBER(Y1001),2,IF(A1002=\"\",IF(OR(AK1001>0,VLOOKUP(O1001,EventConfig!A:C,3,FALSE)=4),3,\"\"),1)))","v":1},912004,null,6183]
[{"$f":"O1002*100+P1002","v":912004},6178,"完成和NPC的对话","",{"$nulls":5},131,{"$f":"IF(J1002=\"\",\"\",VLOOKUP(J1002,EventNPC!A:E,5,FALSE))","v":"馨儿"},6184,"不好对付？哼，它也就仗着飞得快！有我的云雾阵困着它，你出手准能搞定！",null,9120,{"$f":"IF(O1002=\"\",\"\",IF(O1002=O1001,P1001+1,1))","v":4},{"$f":"_xlfn.TEXTJOIN(\";\",1,R1002:S1002)","v":""},null,null,{"$f":"IF(R1002=\"\",\"\",\"-\"&VLOOKUP(R1002,EventConditionConfig!A:C,3,FALSE)&IF(S1002=\"\",\"\",CHAR(10)&\"-\"&VLOOKUP(S1002,EventConditionConfig!A:C,3,FALSE)))","v":""},{"$f":"IF(Y1002=\"\",\"\",IF(ISTEXT(Y1002),1,2))","v":""},"","","",null,null,"",null,null,"",{"$nulls":4},{"$f":"IF(A1002=\"\",\"\",IF(ISNUMBER(Y1002),2,IF(A1003=\"\",IF(OR(AK1002>0,VLOOKUP(O1002,EventConfig!A:C,3,FALSE)=4),3,\"\"),1)))","v":1},912005,null,6184]
[{"$f":"O1003*100+P1003","v":912005},6178,"完成和NPC的对话","",{"$nulls":5},131,{"$f":"IF(J1003=\"\",\"\",VLOOKUP(J1003,EventNPC!A:E,5,FALSE))","v":"馨儿"},6185,"快点，灵草可是我好不容易找到的！",null,9120,{"$f":"IF(O1003=\"\",\"\",IF(O1003=O1002,P1002+1,1))","v":5},{"$f":"_xlfn.TEXTJOIN(\";\",1,R1003:S1003)","v":""},null,null,{"$f":"IF(R1003=\"\",\"\",\"-\"&VLOOKUP(R1003,EventConditionConfig!A:C,3,FALSE)&IF(S1003=\"\",\"\",CHAR(10)&\"-\"&VLOOKUP(S1003,EventConditionConfig!A:C,3,FALSE)))","v":""},{"$f":"IF(Y1003=\"\",\"\",IF(ISTEXT(Y1003),1,2))","v":""},"","","",null,null,"",null,null,"",{"$nulls":4},{"$f":"IF(A1003=\"\",\"\",IF(ISNUMBER(Y1003),2,IF(A1004=\"\",IF(OR(AK1003>0,VLOOKUP(O1003,EventConfig!A:C,3,FALSE)=4),3,\"\"),1)))","v":1},912006,null,6185]
[912006,6178,"完成和NPC的对话","",{"$nulls":5},131,{"$f":"IF(J1004=\"\",\"\",VLOOKUP(J1004,EventNPC!A:E,5,FALSE))","v":"馨儿"},6186,"惹麻烦？拜托，这叫机缘好不好！这风灵鸟的羽毛可是炼器好材料，帮我抓它，战利品咱们平分！",null,9120,6,"",null,null,{"$f":"IF(R1004=\"\",\"\",\"-\"&VLOOKUP(R1004,EventConditionConfig!A:C,3,FALSE)&IF(S1004=\"\",\"\",CHAR(10)&\"-\"&VLOOKUP(S1004,EventConditionConfig!A:C,3,FALSE)))","v":""},"","","","",null,null,"",null,null,"",{"$nulls":4},{"$f":"IF(A1004=\"\",\"\",IF(ISNUMBER(Y1004),2,IF(A1005=\"\",IF(OR(AK1004>0,VLOOKUP(O1004,EventConfig!A:C,3,FALSE)=4),3,\"\"),1)))","v":1},912007,null,6186]
[912007,6178,"完成和NPC的对话","",{"$nulls":5},100,{"$f":"IF(J1005=\"\",\"\",VLOOKUP(J1005,EventNPC!A:E,5,FALSE))","v":"玩家"},6187,"好吧！相遇就是缘分。",null,9120,7,"",null,null,{"$f":"IF(R1005=\"\",\"\",\"-\"&VLOOKUP(R1005,EventConditionConfig!A:C,3,FALSE)&IF(S1005=\"\",\"\",CHAR(10)&\"-\"&VLOOKUP(S1005,EventConditionConfig!A:C,3,FALSE)))","v":""},2,4006,"","",4006,null,"",null,null,"",{"$nulls":4},{"$f":"IF(A1005=\"\",\"\",IF(ISNUMBER(Y1005),2,IF(A1006=\"\",IF(OR(AK1005>0,VLOOKUP(O1005,EventConfig!A:C,3,FALSE)=4),3,\"\"),1)))","v":2},"912008;101",null,6187]
[{"$f":"O1006*100+P1006","v":912008},6178,"完成和NPC的对话","",{"$nulls":5},131,{"$f":"IF(J1006=\"\",\"\",VLOOKUP(J1006,EventNPC!A:E,5,FALSE))","v":"馨儿"},6188,"这灵药我拿走了，那风灵鸟的材料就给你了。",null,9120,{"$f":"IF(O1006=\"\",\"\",IF(O1006=O1005,P1005+1,1))","v":8},{"$f":"_xlfn.TEXTJOIN(\";\",1,R1006:S1006)","v":""},null,null,{"$f":"IF(R1006=\"\",\"\",\"-\"&VLOOKUP(R1006,EventConditionConfig!A:C,3,FALSE)&IF(S1006=\"\",\"\",CHAR(10)&\"-\"&VLOOKUP(S1006,EventConditionConfig!A:C,3,FALSE)))","v":""},{"$f":"IF(Y1006=\"\",\"\",IF(ISTEXT(Y1006),1,2))","v":""},"","","",null,null,"",null,null,"",{"$nulls":4},{"$f":"IF(A1006=\"\",\"\",IF(ISNUMBER(Y1006),2,IF(A1007=\"\",IF(OR(AK1006>0,VLOOKUP(O1006,EventConfig!A:C,3,FALSE)=4),3,\"\"),1)))","v":""},"",null,6188]
[null,"",null,"",{"$nulls":7},"",{"$nulls":9},"","","",null,null,"",null,null,"",{"$nulls":4},{"$f":"IF(A1007=\"\",\"\",IF(ISNUMBER(Y1007),2,IF(A1008=\"\",IF(OR(AK1007>0,VLOOKUP(O1007,EventConfig!A:C,3,FALSE)=4),3,\"\"),1)))","v":""},"",null,""]
[{"$f":"O1008*100+P1008","v":912101},6189,"完成和NPC的对话","",{"$nulls":5},131,{"$f":"IF(J1008=\"\",\"\",VLOOKUP(J1008,EventNPC!A:E,5,FALSE))","v":"馨儿"},6190,"你看这浮岛的灵泉本来灵气充沛，可最近被一头怪物污染了，灵气都变浑浊了！",null,9121,{"$f":"IF(O1008=\"\",\"\",IF(O1008=O1007,P1007+1,1))","v":1},{"$f":"_xlfn.TEXTJOIN(\";\",1,R1008:S1008)","v":""},null,null,{"$f":"IF(R1008=\"\",\"\",\"-\"&VLOOKUP(R1008,EventConditionConfig!A:C,3,FALSE)&IF(S1008=\"\",\"\",CHAR(10)&\"-\"&VLOOKUP(S1008,EventConditionConfig!A:C,3,FALSE)))","v":""},{"$f":"IF(Y1008=\"\",\"\",IF(ISTEXT(Y1008),1,2))","v":""},"","","",null,null,"",null,null,"",{"$nulls":4},{"$f":"IF(A1008=\"\",\"\",IF(ISNUMBER(Y1008),2,IF(A1009=\"\",IF(OR(AK1008>0,VLOOKUP(O1008,EventConfig!A:C,3,FALSE)=4),3,\"\"),1)))","v":1},912102,null,6190]
[912102,6189,"完成和NPC的对话","",{"$nulls":5},131,{"$f":"IF(J1009=\"\",\"\",VLOOKUP(J1009,EventNPC!A:E,5,FALSE))","v":"馨儿"},6191,"我们云隐宗想用这灵泉炼丹，得先把它净化。你帮我干掉那头怪物呗？",null,9121,2,"",null,null,{"$f":"IF(R1009=\"\",\"\",\"-\"&VLOOKUP(R1009,EventConditionConfig!A:C,3,FALSE)&IF(S1009=\"\",\"\",CHAR(10)&\"-\"&VLOOKUP(S1009,EventConditionConfig!A:C,3,FALSE)))","v":""},1,"912103;912104","6192;6193",6192,"听起来不好惹，我得想想",{"$f":"A1010","v":912103},6193,"好，我帮干掉这妖物",{"$f":"A1011","v":912104},"",null,{"$f":"D1011","v":""},null,null,{"$f":"IF(A1009=\"\",\"\",IF(ISNUMBER(Y1009),2,IF(A1010=\"\",IF(OR(AK1009>0,VLOOKUP(O1009,EventConfig!A:C,3,FALSE)=4),3,\"\"),1)))","v":1},912103,null,6193]
[912103,6189,"完成和NPC的对话","",{"$nulls":5},131,{"$f":"IF(J1010=\"\",\"\",VLOOKUP(J1010,EventNPC!A:E,5,FALSE))","v":"馨儿"},6194,"有我的云雾阵辅助，你怕啥？净化灵泉，宗门长老都得谢你！",null,9121,3,"",null,null,{"$f":"IF(R1010=\"\",\"\",\"-\"&VLOOKUP(R1010,EventConditionConfig!A:C,3,FALSE)&IF(S1010=\"\",\"\",CHAR(10)&\"-\"&VLOOKUP(S1010,EventConditionConfig!A:C,3,FALSE)))","v":""},"","","","",null,null,"",null,null,"",{"$nulls":4},{"$f":"IF(A1010=\"\",\"\",IF(ISNUMBER(Y1010),2,IF(A1011=\"\",IF(OR(AK1010>0,VLOOKUP(O1010,EventConfig!A:C,3,FALSE)=4),3,\"\"),1)))","v":1},912105,{"$f":"A1012","v":912105},6194]
[912104,6189,"完成和NPC的对话","",{"$nulls":5},131,{"$f":"IF(J1011=\"\",\"\",VLOOKUP(J1011,EventNPC!A:E,5,FALSE))","v":"馨儿"},6195,"哈哈，够义气！",null,9121,4,"",null,null,{"$f":"IF(R1011=\"\",\"\",\"-\"&VLOOKUP(R1011,EventConditionConfig!A:C,3,FALSE)&IF(S1011=\"\",\"\",CHAR(10)&\"-\"&VLOOKUP(S1011,EventConditionConfig!A:C,3,FALSE)))","v":""},"","","","",null,null,"",null,null,"",{"$nulls":4},{"$f":"IF(A1011=\"\",\"\",IF(ISNUMBER(Y1011),2,IF(A1012=\"\",IF(OR(AK1011>0,VLOOKUP(O1011,EventConfig!A:C,3,FALSE)=4),3,\"\"),1)))","v":1},912105,{"$f":"A1012","v":912105},6195]
[912105,6189,"完成和NPC的对话","",{"$nulls":5},131,{"$f":"IF(J1012=\"\",\"\",VLOOKUP(J1012,EventNPC!A:E,5,FALSE))","v":"馨儿"},6196,"我开始布阵，你准备好。",null,9121,5,"",null,null,{"$f":"IF(R1012=\"\",\"\",\"-\"&VLOOKUP(R1012,EventConditionConfig!A:C,3,FALSE)&IF(S1012=\"\",\"\",CHAR(10)&\"-\"&VLOOKUP(S1012,EventConditionConfig!A:C,3,FALSE)))","v":""},2,4007,"","",4007,null,"",null,null,"",{"$nulls":4},{"$f":"IF(A1012=\"\",\"\",IF(ISNUMBER(Y1012),2,IF(A1013=\"\",IF(OR(AK1012>0,VLOOKUP(O1012,EventConfig!A:C,3,FALSE)=4),3,\"\"),1)))","v":2},"912106;101",null,6196]
[912106,6189,"完成和NPC的对话","",{"$nulls":5},131,{"$f":"IF(J1013=\"\",\"\",VLOOKUP(J1013,EventNPC!A:E,5,FALSE))","v":"馨儿"},6197,"多谢{玩家名}道友相助。",null,9121,6,"",null,null,{"$f":"IF(R1013=\"\",\"\",\"-\"&VLOOKUP(R1013,EventConditionConfig!A:C,3,FALSE)&IF(S1013=\"\",\"\",CHAR(10)&\"-\"&VLOOKUP(S1013,EventConditionConfig!A:C,3,FALSE)))","v":""},{"$f":"IF(Y1013=\"\",\"\",IF(ISTEXT(Y1013),1,2))","v":""},"","","",null,null,"",null,null,"",{"$nulls":4},{"$f":"IF(A1013=\"\",\"\",IF(ISNUMBER(Y1013),2,IF(A1014=\"\",IF(OR(AK1013>0,VLOOKUP(O1013,EventConfig!A:C,3,FALSE)=4),3,\"\"),1)))","v":""},"",null,6197]
[null,"",null,"",{"$nulls":7},"",{"$nulls":9},"","","",null,null,"",null,null,"",{"$nulls":4},{"$f":"IF(A1014=\"\",\"\",IF(ISNUMBER(Y1014),2,IF(A1015=\"\",IF(OR(AK1014>0,VLOOKUP(O1014,EventConfig!A:C,3,FALSE)=4),3,\"\"),1)))","v":""},"",null,""]
[{"$f":"O1015*100+P1015","v":912201},6198,"完成和NPC的对话","",{"$nulls":5},131,{"$f":"IF(J1015=\"\",\"\",VLOOKUP(J1015,EventNPC!A:E,5,FALSE))","v":"馨儿"},6199,"嘘！我在浮岛发现一群盗修，偷偷摸摸地在挖掘什么，估计是冲着浮岛的宝藏来的！",null,9122,{"$f":"IF(O1015=\"\",\"\",IF(O1015=O1014,P1014+1,1))","v":1},{"$f":"_xlfn.TEXTJOIN(\";\",1,R1015:S1015)","v":""},null,null,{"$f":"IF(R1015=\"\",\"\",\"-\"&VLOOKUP(R1015,EventConditionConfig!A:C,3,FALSE)&IF(S1015=\"\",\"\",CHAR(10)&\"-\"&VLOOKUP(S1015,EventConditionConfig!A:C,3,FALSE)))","v":""},{"$f":"IF(Y1015=\"\",\"\",IF(ISTEXT(Y1015),1,2))","v":""},"","","",null,null,"",null,null,"",{"$nulls":4},{"$f":"IF(A1015=\"\",\"\",IF(ISNUMBER(Y1015),2,IF(A1016=\"\",IF(OR(AK1015>0,VLOOKUP(O1015,EventConfig!A:C,3,FALSE)=4),3,\"\"),1)))","v":1},912202,null,6199]
[{"$f":"O1016*100+P1016","v":912202},6198,"完成和NPC的对话","",{"$nulls":5},131,{"$f":"IF(J1016=\"\",\"\",VLOOKUP(J1016,EventNPC!A:E,5,FALSE))","v":"馨儿"},6200,"他们还提到什么圣地，肯定有阴谋！咱们上去瞧瞧。",null,9122,{"$f":"IF(O1016=\"\",\"\",IF(O1016=O1015,P1015+1,1))","v":2},{"$f":"_xlfn.TEXTJOIN(\";\",1,R1016:S1016)","v":""},null,null,{"$f":"IF(R1016=\"\",\"\",\"-\"&VLOOKUP(R1016,EventConditionConfig!A:C,3,FALSE)&IF(S1016=\"\",\"\",CHAR(10)&\"-\"&VLOOKUP(S1016,EventConditionConfig!A:C,3,FALSE)))","v":""},{"$f":"IF(Y1016=\"\",\"\",IF(ISTEXT(Y1016),1,2))","v":1},"912203;912204","6201;6202",6201,"盗修人多，我怕打不过。",{"$f":"A1017","v":912203},6202,"（圣地难道是龙族圣地）走去瞧瞧！",{"$f":"A1018","v":912204},"",null,{"$f":"D1018","v":""},null,null,{"$f":"IF(A1016=\"\",\"\",IF(ISNUMBER(Y1016),2,IF(A1017=\"\",IF(OR(AK1016>0,VLOOKUP(O1016,EventConfig!A:C,3,FALSE)=4),3,\"\"),1)))","v":1},912203,null,6202]
[912203,6198,"完成和NPC的对话","",{"$nulls":5},131,{"$f":"IF(J1017=\"\",\"\",VLOOKUP(J1017,EventNPC!A:E,5,FALSE))","v":"馨儿"},6203,"他们就是一群乌合之众！快来，宝藏等着咱们！",null,9122,3,"",null,null,{"$f":"IF(R1017=\"\",\"\",\"-\"&VLOOKUP(R1017,EventConditionConfig!A:C,3,FALSE)&IF(S1017=\"\",\"\",CHAR(10)&\"-\"&VLOOKUP(S1017,EventConditionConfig!A:C,3,FALSE)))","v":""},"","","","",null,null,"",null,null,"",{"$nulls":4},{"$f":"IF(A1017=\"\",\"\",IF(ISNUMBER(Y1017),2,IF(A1018=\"\",IF(OR(AK1017>0,VLOOKUP(O1017,EventConfig!A:C,3,FALSE)=4),3,\"\"),1)))","v":1},912204,{"$f":"A1018","v":912204},6203]
[{"$f":"O1018*100+P1018","v":912204},6198,"完成和NPC的对话","",{"$nulls":5},128,{"$f":"IF(J1018=\"\",\"\",VLOOKUP(J1018,EventNPC!A:E,5,FALSE))","v":"敌人"},6204,"什么人？",null,9122,{"$f":"IF(O1018=\"\",\"\",IF(O1018=O1017,P1017+1,1))","v":4},{"$f":"_xlfn.TEXTJOIN(\";\",1,R1018:S1018)","v":""},null,null,{"$f":"IF(R1018=\"\",\"\",\"-\"&VLOOKUP(R1018,EventConditionConfig!A:C,3,FALSE)&IF(S1018=\"\",\"\",CHAR(10)&\"-\"&VLOOKUP(S1018,EventConditionConfig!A:C,3,FALSE)))","v":""},{"$f":"IF(Y1018=\"\",\"\",IF(ISTEXT(Y1018),1,2))","v":""},"","","",null,null,"",null,null,"",{"$nulls":4},{"$f":"IF(A1018=\"\",\"\",IF(ISNUMBER(Y1018),2,IF(A1019=\"\",IF(OR(AK1018>0,VLOOKUP(O1018,EventConfig!A:C,3,FALSE)=4),3,\"\"),1)))","v":1},912205,null,6204]
[912205,6198,"完成和NPC的对话","",{"$nulls":5},131,{"$f":"IF(J1019=\"\",\"\",VLOOKUP(J1019,EventNPC!A:E,5,FALSE))","v":"馨儿"},6205,"你们偷偷摸摸的在干什么老实交代。",null,9122,5,"",null,null,{"$f":"IF(R1019=\"\",\"\",\"-\"&VLOOKUP(R1019,EventConditionConfig!A:C,3,FALSE)&IF(S1019=\"\",\"\",CHAR(10)&\"-\"&VLOOKUP(S1019,EventConditionConfig!A:C,3,FALSE)))","v":""},"","","","",null,null,"",null,null,"",{"$nulls":4},{"$f":"IF(A1019=\"\",\"\",IF(ISNUMBER(Y1019),2,IF(A1020=\"\",IF(OR(AK1019>0,VLOOKUP(O1019,EventConfig!A:C,3,FALSE)=4),3,\"\"),1)))","v":1},912206,null,6205]
[{"$f":"O1020*100+P1020","v":912206},6198,"完成和NPC的对话","",{"$nulls":5},128,{"$f":"IF(J1020=\"\",\"\",VLOOKUP(J1020,EventNPC!A:E,5,FALSE))","v":"敌人"},6206,"干什么不需要你们知道，既然发现了我们那你们就去死吧。",null,9122,{"$f":"IF(O1020=\"\",\"\",IF(O1020=O1019,P1019+1,1))","v":6},{"$f":"_xlfn.TEXTJOIN(\";\",1,R1020:S1020)","v":""},null,null,{"$f":"IF(R1020=\"\",\"\",\"-\"&VLOOKUP(R1020,EventConditionConfig!A:C,3,FALSE)&IF(S1020=\"\",\"\",CHAR(10)&\"-\"&VLOOKUP(S1020,EventConditionConfig!A:C,3,FALSE)))","v":""},{"$f":"IF(Y1020=\"\",\"\",IF(ISTEXT(Y1020),1,2))","v":""},"","","",null,null,"",null,null,"",{"$nulls":4},{"$f":"IF(A1020=\"\",\"\",IF(ISNUMBER(Y1020),2,IF(A1021=\"\",IF(OR(AK1020>0,VLOOKUP(O1020,EventConfig!A:C,3,FALSE)=4),3,\"\"),1)))","v":1},912207,null,6206]
[912207,6198,"完成和NPC的对话","",{"$nulls":5},131,{"$f":"IF(J1021=\"\",\"\",VLOOKUP(J1021,EventNPC!A:E,5,FALSE))","v":"馨儿"},6207,"那2个交给我，剩下的你解决。",null,9122,7,"",null,null,{"$f":"IF(R1021=\"\",\"\",\"-\"&VLOOKUP(R1021,EventConditionConfig!A:C,3,FALSE)&IF(S1021=\"\",\"\",CHAR(10)&\"-\"&VLOOKUP(S1021,EventConditionConfig!A:C,3,FALSE)))","v":""},"","","","",null,null,"",null,null,"",{"$nulls":4},{"$f":"IF(A1021=\"\",\"\",IF(ISNUMBER(Y1021),2,IF(A1022=\"\",IF(OR(AK1021>0,VLOOKUP(O1021,EventConfig!A:C,3,FALSE)=4),3,\"\"),1)))","v":1},912208,null,6207]
[{"$f":"O1022*100+P1022","v":912208},6198,"完成和NPC的对话","",{"$nulls":5},100,{"$f":"IF(J1022=\"\",\"\",VLOOKUP(J1022,EventNPC!A:E,5,FALSE))","v":"玩家"},6208,"啊？留给我的这2个怎么看起来厉害一些！",null,9122,{"$f":"IF(O1022=\"\",\"\",IF(O1022=O1021,P1021+1,1))","v":8},{"$f":"_xlfn.TEXTJOIN(\";\",1,R1022:S1022)","v":""},null,null,{"$f":"IF(R1022=\"\",\"\",\"-\"&VLOOKUP(R1022,EventConditionConfig!A:C,3,FALSE)&IF(S1022=\"\",\"\",CHAR(10)&\"-\"&VLOOKUP(S1022,EventConditionConfig!A:C,3,FALSE)))","v":""},{"$f":"IF(Y1022=\"\",\"\",IF(ISTEXT(Y1022),1,2))","v":2},4008,"","",4008,null,"",null,null,"",{"$nulls":4},{"$f":"IF(A1022=\"\",\"\",IF(ISNUMBER(Y1022),2,IF(A1023=\"\",IF(OR(AK1022>0,VLOOKUP(O1022,EventConfig!A:C,3,FALSE)=4),3,\"\"),1)))","v":2},"912209;101",null,6208]
[912209,6198,"完成和NPC的对话","",{"$nulls":5},131,{"$f":"IF(J1023=\"\",\"\",VLOOKUP(J1023,EventNPC!A:E,5,FALSE))","v":"馨儿"},6209,"我们去看看他们刚刚挖的什么。",null,9122,9,"",null,null,{"$f":"IF(R1023=\"\",\"\",\"-\"&VLOOKUP(R1023,EventConditionConfig!A:C,3,FALSE)&IF(S1023=\"\",\"\",CHAR(10)&\"-\"&VLOOKUP(S1023,EventConditionConfig!A:C,3,FALSE)))","v":""},"","","","",null,null,"",null,null,"",{"$nulls":4},{"$f":"IF(A1023=\"\",\"\",IF(ISNUMBER(Y1023),2,IF(A1024=\"\",IF(OR(AK1023>0,VLOOKUP(O1023,EventConfig!A:C,3,FALSE)=4),3,\"\"),1)))","v":1},912210,null,6209]
[{"$f":"O1024*100+P1024","v":912210},6198,"完成和NPC的对话","",{"$nulls":5},131,{"$f":"IF(J1024=\"\",\"\",VLOOKUP(J1024,EventNPC!A:E,5,FALSE))","v":"馨儿"},6210,"这里有一个宝盒。（打开）",null,9122,{"$f":"IF(O1024=\"\",\"\",IF(O1024=O1023,P1023+1,1))","v":10},{"$f":"_xlfn.TEXTJOIN(\";\",1,R1024:S1024)","v":""},null,null,{"$f":"IF(R1024=\"\",\"\",\"-\"&VLOOKUP(R1024,EventConditionConfig!A:C,3,FALSE)&IF(S1024=\"\",\"\",CHAR(10)&\"-\"&VLOOKUP(S1024,EventConditionConfig!A:C,3,FALSE)))","v":""},{"$f":"IF(Y1024=\"\",\"\",IF(ISTEXT(Y1024),1,2))","v":""},"","","",null,null,"",null,null,"",{"$nulls":4},{"$f":"IF(A1024=\"\",\"\",IF(ISNUMBER(Y1024),2,IF(A1025=\"\",IF(OR(AK1024>0,VLOOKUP(O1024,EventConfig!A:C,3,FALSE)=4),3,\"\"),1)))","v":1},912211,null,6210]
[{"$f":"O1025*100+P1025","v":912211},6198,"完成和NPC的对话","",{"$nulls":5},131,{"$f":"IF(J1025=\"\",\"\",VLOOKUP(J1025,EventNPC!A:E,5,FALSE))","v":"馨儿"},6211,"哇千年灵草，这个给我了没意见吧！",null,9122,{"$f":"IF(O1025=\"\",\"\",IF(O1025=O1024,P1024+1,1))","v":11},{"$f":"_xlfn.TEXTJOIN(\";\",1,R1025:S1025)","v":""},null,null,{"$f":"IF(R1025=\"\",\"\",\"-\"&VLOOKUP(R1025,EventConditionConfig!A:C,3,FALSE)&IF(S1025=\"\",\"\",CHAR(10)&\"-\"&VLOOKUP(S1025,EventConditionConfig!A:C,3,FALSE)))","v":""},{"$f":"IF(Y1025=\"\",\"\",IF(ISTEXT(Y1025),1,2))","v":""},"","","",null,null,"",null,null,"",{"$nulls":4},{"$f":"IF(A1025=\"\",\"\",IF(ISNUMBER(Y1025),2,IF(A1026=\"\",IF(OR(AK1025>0,VLOOKUP(O1025,EventConfig!A:C,3,FALSE)=4),3,\"\"),1)))","v":1},912212,null,6211]
[{"$f":"O1026*100+P1026","v":912212},6198,"完成和NPC的对话","",{"$nulls":5},100,{"$f":"IF(J1026=\"\",\"\",VLOOKUP(J1026,EventNPC!A:E,5,FALSE))","v":"玩家"},6212,"......",null,9122,{"$f":"IF(O1026=\"\",\"\",IF(O1026=O1025,P1025+1,1))","v":12},{"$f":"_xlfn.TEXTJOIN(\";\",1,R1026:S1026)","v":""},null,null,{"$f":"IF(R1026=\"\",\"\",\"-\"&VLOOKUP(R1026,EventConditionConfig!A:C,3,FALSE)&IF(S1026=\"\",\"\",CHAR(10)&\"-\"&VLOOKUP(S1026,EventConditionConfig!A:C,3,FALSE)))","v":""},{"$f":"IF(Y1026=\"\",\"\",IF(ISTEXT(Y1026),1,2))","v":""},"","","",null,null,"",null,null,"",{"$nulls":4},{"$f":"IF(A1026=\"\",\"\",IF(ISNUMBER(Y1026),2,IF(A1027=\"\",IF(OR(AK1026>0,VLOOKUP(O1026,EventConfig!A:C,3,FALSE)=4),3,\"\"),1)))","v":1},912213,null,6212]
[912213,6198,"完成和NPC的对话","",{"$nulls":5},131,{"$f":"IF(J1027=\"\",\"\",VLOOKUP(J1027,EventNPC!A:E,5,FALSE))","v":"馨儿"},6213,"不说话就是同意了，那我收下了，这里还有一个像是鱼鳞什么的给你吧。",null,9122,13,"",null,null,{"$f":"IF(R1027=\"\",\"\",\"-\"&VLOOKUP(R1027,EventConditionConfig!A:C,3,FALSE)&IF(S1027=\"\",\"\",CHAR(10)&\"-\"&VLOOKUP(S1027,EventConditionConfig!A:C,3,FALSE)))","v":""},"","","","",null,null,"",null,null,"",{"$nulls":4},{"$f":"IF(A1027=\"\",\"\",IF(ISNUMBER(Y1027),2,IF(A1028=\"\",IF(OR(AK1027>0,VLOOKUP(O1027,EventConfig!A:C,3,FALSE)=4),3,\"\"),1)))","v":1},912214,null,6213]
[{"$f":"O1028*100+P1028","v":912214},6198,"完成和NPC的对话","",{"$nulls":5},100,{"$f":"IF(J1028=\"\",\"\",VLOOKUP(J1028,EventNPC!A:E,5,FALSE))","v":"玩家"},6214,"......（算了正好我也想要此物）",null,9122,{"$f":"IF(O1028=\"\",\"\",IF(O1028=O1027,P1027+1,1))","v":14},{"$f":"_xlfn.TEXTJOIN(\";\",1,R1028:S1028)","v":""},null,null,{"$f":"IF(R1028=\"\",\"\",\"-\"&VLOOKUP(R1028,EventConditionConfig!A:C,3,FALSE)&IF(S1028=\"\",\"\",CHAR(10)&\"-\"&VLOOKUP(S1028,EventConditionConfig!A:C,3,FALSE)))","v":""},{"$f":"IF(Y1028=\"\",\"\",IF(ISTEXT(Y1028),1,2))","v":""},"","","",null,null,"",null,null,"",{"$nulls":4},{"$f":"IF(A1028=\"\",\"\",IF(ISNUMBER(Y1028),2,IF(A1029=\"\",IF(OR(AK1028>0,VLOOKUP(O1028,EventConfig!A:C,3,FALSE)=4),3,\"\"),1)))","v":1},912215,null,6214]
[912215,6198,"完成和NPC的对话","",{"$nulls":5},131,{"$f":"IF(J1029=\"\",\"\",VLOOKUP(J1029,EventNPC!A:E,5,FALSE))","v":"馨儿"},6215,"不要不开心嘛，这点灵石也给你。",null,9122,15,"",null,null,{"$f":"IF(R1029=\"\",\"\",\"-\"&VLOOKUP(R1029,EventConditionConfig!A:C,3,FALSE)&IF(S1029=\"\",\"\",CHAR(10)&\"-\"&VLOOKUP(S1029,EventConditionConfig!A:C,3,FALSE)))","v":""},"","","","",null,null,"",null,null,"",{"$nulls":4},{"$f":"IF(A1029=\"\",\"\",IF(ISNUMBER(Y1029),2,IF(A1030=\"\",IF(OR(AK1029>0,VLOOKUP(O1029,EventConfig!A:C,3,FALSE)=4),3,\"\"),1)))","v":""},"",null,6215]
[null,"",null,{"$f":"IF(E1030=\"\",\"\",IF(E1030=E1029,D1029,MAX(AL1029,AL1028,B1030)+1))","v":""},{"$nulls":7},{"$f":"IF(M1030=\"\",\"\",MAX(AL1029,AL1028,B1030,D1030)+1)","v":""},{"$nulls":9},"","","",null,null,"",null,null,"",{"$nulls":4},{"$f":"IF(A1030=\"\",\"\",IF(ISNUMBER(Y1030),2,IF(A1031=\"\",IF(OR(AK1030>0,VLOOKUP(O1030,EventConfig!A:C,3,FALSE)=4),3,\"\"),1)))","v":""},"",null,{"$f":"IF(A1030=\"\",\"\",MAX(B1030,D1030,L1030,X1030,AA1030,AL1029,AL1028,AD1030))","v":""}]
[{"$f":"O1031*100+P1031","v":912301},6216,"完成和NPC的对话","",{"$nulls":5},100,{"$f":"IF(J1031=\"\",\"\",VLOOKUP(J1031,EventNPC!A:E,5,FALSE))","v":"玩家"},6217,"前方好似有人在斗法，屏蔽下神识以免被人发现。（玩家悄悄的过去）",null,9123,{"$f":"IF(O1031=\"\",\"\",IF(O1031=O1030,P1030+1,1))","v":1},{"$f":"_xlfn.TEXTJOIN(\";\",1,R1031:S1031)","v":""},null,null,{"$f":"IF(R1031=\"\",\"\",\"-\"&VLOOKUP(R1031,EventConditionConfig!A:C,3,FALSE)&IF(S1031=\"\",\"\",CHAR(10)&\"-\"&VLOOKUP(S1031,EventConditionConfig!A:C,3,FALSE)))","v":""},{"$f":"IF(Y1031=\"\",\"\",IF(ISTEXT(Y1031),1,2))","v":""},"","","",null,null,"",null,null,"",{"$nulls":4},{"$f":"IF(A1031=\"\",\"\",IF(ISNUMBER(Y1031),2,IF(A1032=\"\",IF(OR(AK1031>0,VLOOKUP(O1031,EventConfig!A:C,3,FALSE)=4),3,\"\"),1)))","v":1},912302,null,6217]
[{"$f":"O1032*100+P1032","v":912302},6216,"完成和NPC的对话","",{"$nulls":5},100,{"$f":"IF(J1032=\"\",\"\",VLOOKUP(J1032,EventNPC!A:E,5,FALSE))","v":"玩家"},6218,"这不是血海宗和云雾宗的弟子吗，先看看他们在做什么",null,9123,{"$f":"IF(O1032=\"\",\"\",IF(O1032=O1031,P1031+1,1))","v":2},{"$f":"_xlfn.TEXTJOIN(\";\",1,R1032:S1032)","v":""},null,null,{"$f":"IF(R1032=\"\",\"\",\"-\"&VLOOKUP(R1032,EventConditionConfig!A:C,3,FALSE)&IF(S1032=\"\",\"\",CHAR(10)&\"-\"&VLOOKUP(S1032,EventConditionConfig!A:C,3,FALSE)))","v":""},{"$f":"IF(Y1032=\"\",\"\",IF(ISTEXT(Y1032),1,2))","v":""},"","","",null,null,"",null,null,"",{"$nulls":4},{"$f":"IF(A1032=\"\",\"\",IF(ISNUMBER(Y1032),2,IF(A1033=\"\",IF(OR(AK1032>0,VLOOKUP(O1032,EventConfig!A:C,3,FALSE)=4),3,\"\"),1)))","v":1},912303,null,6218]
[{"$f":"O1033*100+P1033","v":912303},6216,"完成和NPC的对话","",{"$nulls":5},133,{"$f":"IF(J1033=\"\",\"\",VLOOKUP(J1033,EventNPC!A:E,5,FALSE))","v":"血海宗弟子A"},6219,"你们云雾宗是没有人了吗？竟派你这等修为的弟子前来追击。",null,9123,{"$f":"IF(O1033=\"\",\"\",IF(O1033=O1032,P1032+1,1))","v":3},{"$f":"_xlfn.TEXTJOIN(\";\",1,R1033:S1033)","v":""},null,null,{"$f":"IF(R1033=\"\",\"\",\"-\"&VLOOKUP(R1033,EventConditionConfig!A:C,3,FALSE)&IF(S1033=\"\",\"\",CHAR(10)&\"-\"&VLOOKUP(S1033,EventConditionConfig!A:C,3,FALSE)))","v":""},{"$f":"IF(Y1033=\"\",\"\",IF(ISTEXT(Y1033),1,2))","v":""},"","","",null,null,"",null,null,"",{"$nulls":4},{"$f":"IF(A1033=\"\",\"\",IF(ISNUMBER(Y1033),2,IF(A1034=\"\",IF(OR(AK1033>0,VLOOKUP(O1033,EventConfig!A:C,3,FALSE)=4),3,\"\"),1)))","v":1},912304,null,6219]
[{"$f":"O1034*100+P1034","v":912304},6216,"完成和NPC的对话","",{"$nulls":5},134,{"$f":"IF(J1034=\"\",\"\",VLOOKUP(J1034,EventNPC!A:E,5,FALSE))","v":"柳轻烟"},6220,"（受伤的状态）：你不要高兴太早，敢抢夺云雾宗密钥，你以为就只有我来追击吗？",null,9123,{"$f":"IF(O1034=\"\",\"\",IF(O1034=O1033,P1033+1,1))","v":4},{"$f":"_xlfn.TEXTJOIN(\";\",1,R1034:S1034)","v":""},null,null,{"$f":"IF(R1034=\"\",\"\",\"-\"&VLOOKUP(R1034,EventConditionConfig!A:C,3,FALSE)&IF(S1034=\"\",\"\",CHAR(10)&\"-\"&VLOOKUP(S1034,EventConditionConfig!A:C,3,FALSE)))","v":""},{"$f":"IF(Y1034=\"\",\"\",IF(ISTEXT(Y1034),1,2))","v":""},"","","",null,null,"",null,null,"",{"$nulls":4},{"$f":"IF(A1034=\"\",\"\",IF(ISNUMBER(Y1034),2,IF(A1035=\"\",IF(OR(AK1034>0,VLOOKUP(O1034,EventConfig!A:C,3,FALSE)=4),3,\"\"),1)))","v":1},912305,null,6220]
[912305,6216,"完成和NPC的对话","",{"$nulls":5},133,{"$f":"IF(J1035=\"\",\"\",VLOOKUP(J1035,EventNPC!A:E,5,FALSE))","v":"血海宗弟子A"},6221,"哼，什么叫抢，这叫借用几天，用完血海宗自会还你。",null,9123,5,"",null,null,{"$f":"IF(R1035=\"\",\"\",\"-\"&VLOOKUP(R1035,EventConditionConfig!A:C,3,FALSE)&IF(S1035=\"\",\"\",CHAR(10)&\"-\"&VLOOKUP(S1035,EventConditionConfig!A:C,3,FALSE)))","v":""},"","","","",null,null,"",null,null,"",{"$nulls":4},{"$f":"IF(A1035=\"\",\"\",IF(ISNUMBER(Y1035),2,IF(A1036=\"\",IF(OR(AK1035>0,VLOOKUP(O1035,EventConfig!A:C,3,FALSE)=4),3,\"\"),1)))","v":1},912306,null,6221]
[{"$f":"O1036*100+P1036","v":912306},6216,"完成和NPC的对话","",{"$nulls":5},134,{"$f":"IF(J1036=\"\",\"\",VLOOKUP(J1036,EventNPC!A:E,5,FALSE))","v":"柳轻烟"},6222,"（受伤的状态）：呸，冠冕堂皇。",null,9123,{"$f":"IF(O1036=\"\",\"\",IF(O1036=O1035,P1035+1,1))","v":6},{"$f":"_xlfn.TEXTJOIN(\";\",1,R1036:S1036)","v":""},null,null,{"$f":"IF(R1036=\"\",\"\",\"-\"&VLOOKUP(R1036,EventConditionConfig!A:C,3,FALSE)&IF(S1036=\"\",\"\",CHAR(10)&\"-\"&VLOOKUP(S1036,EventConditionConfig!A:C,3,FALSE)))","v":""},{"$f":"IF(Y1036=\"\",\"\",IF(ISTEXT(Y1036),1,2))","v":""},"","","",null,null,"",null,null,"",{"$nulls":4},{"$f":"IF(A1036=\"\",\"\",IF(ISNUMBER(Y1036),2,IF(A1037=\"\",IF(OR(AK1036>0,VLOOKUP(O1036,EventConfig!A:C,3,FALSE)=4),3,\"\"),1)))","v":1},912307,null,6222]
[912307,6216,"完成和NPC的对话","",{"$nulls":5},135,{"$f":"IF(J1037=\"\",\"\",VLOOKUP(J1037,EventNPC!A:E,5,FALSE))","v":"血海宗弟子B"},6223,"师兄少给她废话，我们还是赶快走，以免误了宗主的计划。",null,9123,7,"",null,null,{"$f":"IF(R1037=\"\",\"\",\"-\"&VLOOKUP(R1037,EventConditionConfig!A:C,3,FALSE)&IF(S1037=\"\",\"\",CHAR(10)&\"-\"&VLOOKUP(S1037,EventConditionConfig!A:C,3,FALSE)))","v":""},"","","",{"$f":"IF(OR(ISNUMBER(Y1037),Y1037=\"\"),\"\",MAX(AL1036,AL1034,B1037,D1037,L1037)+1)","v":""},null,null,{"$f":"IF(OR(ISNUMBER(AB1037),AB1037=\"\"),\"\",X1037+1)","v":""},null,null,{"$f":"IF(OR(ISNUMBER(AE1037),AE1037=\"\"),\"\",AA1037+1)","v":""},{"$nulls":4},{"$f":"IF(A1037=\"\",\"\",IF(ISNUMBER(Y1037),2,IF(A1038=\"\",IF(OR(AK1037>0,VLOOKUP(O1037,EventConfig!A:C,3,FALSE)=4),3,\"\"),1)))","v":1},912308,null,6223]
[912308,6216,"完成和NPC的对话","",{"$nulls":5},133,{"$f":"IF(J1038=\"\",\"\",VLOOKUP(J1038,EventNPC!A:E,5,FALSE))","v":"血海宗弟子A"},6224,"今天就先放过你，回去练练在出来吧哈哈（快速飞走）",null,9123,8,"",null,null,{"$f":"IF(R1038=\"\",\"\",\"-\"&VLOOKUP(R1038,EventConditionConfig!A:C,3,FALSE)&IF(S1038=\"\",\"\",CHAR(10)&\"-\"&VLOOKUP(S1038,EventConditionConfig!A:C,3,FALSE)))","v":""},1,{"$f":"IF(U1038=1,_xlfn.TEXTJOIN(\";\",1,IF(Z1038=\"\",A1038+1,Z1038),IF(AND(AA1038<>\"\",AC1038=\"\"),A1038+1,AC1038),IF(AND(AD1038<>\"\",AF1038=\"\"),A1038+1,AF1038)),IF(U1038=2,Y1038,\"\"))","v":"912310;912314"},{"$f":"_xlfn.TEXTJOIN(\";\",1,X1038,AA1038,AD1038)","v":"6225;6226"},6225,"多一事不如少一事，我还是走吧",{"$f":"A1040","v":912310},6226,"修仙者修的是境界，也修的是人性。现前去了解情况做打算",{"$f":"A1044","v":912314},"",null,{"$f":"D1044","v":""},null,null,{"$f":"IF(A1038=\"\",\"\",IF(ISNUMBER(Y1038),2,IF(A1039=\"\",IF(OR(AK1038>0,VLOOKUP(O1038,EventConfig!A:C,3,FALSE)=4),3,\"\"),1)))","v":1},{"$f":"IF(AI1038=\"\",\"\",CHOOSE(AI1038,IF(AK1038=\"\",A1038+1,AK1038),CONCATENATE(IF(AK1038=\"\",A1038+1,AK1038),\";101\"),IF(AK1038=\"\",O1038+1,AK1038)))","v":912309},null,6226]
[912309,6216,"完成和NPC的对话","",{"$nulls":5},100,{"$f":"IF(J1039=\"\",\"\",VLOOKUP(J1039,EventNPC!A:E,5,FALSE))","v":"玩家"},6227,"（此人好像受伤很严重）",null,9123,9,"",null,null,{"$f":"IF(R1039=\"\",\"\",\"-\"&VLOOKUP(R1039,EventConditionConfig!A:C,3,FALSE)&IF(S1039=\"\",\"\",CHAR(10)&\"-\"&VLOOKUP(S1039,EventConditionConfig!A:C,3,FALSE)))","v":""},"","","","",null,null,"",null,null,"",{"$nulls":4},{"$f":"IF(A1039=\"\",\"\",IF(ISNUMBER(Y1039),2,IF(A1040=\"\",IF(OR(AK1039>0,VLOOKUP(O1039,EventConfig!A:C,3,FALSE)=4),3,\"\"),1)))","v":1},912310,null,6227]
[{"$f":"O1040*100+P1040","v":912310},6216,"完成和NPC的对话","",{"$nulls":5},134,{"$f":"IF(J1040=\"\",\"\",VLOOKUP(J1040,EventNPC!A:E,5,FALSE))","v":"柳轻烟"},6228,"（受伤的状态）：道友何不现生。看了这么久相比道友也已知来龙去脉。",null,9123,{"$f":"IF(O1040=\"\",\"\",IF(O1040=O1039,P1039+1,1))","v":10},{"$f":"_xlfn.TEXTJOIN(\";\",1,R1040:S1040)","v":""},null,null,{"$f":"IF(R1040=\"\",\"\",\"-\"&VLOOKUP(R1040,EventConditionConfig!A:C,3,FALSE)&IF(S1040=\"\",\"\",CHAR(10)&\"-\"&VLOOKUP(S1040,EventConditionConfig!A:C,3,FALSE)))","v":""},{"$f":"IF(Y1040=\"\",\"\",IF(ISTEXT(Y1040),1,2))","v":""},"","","",null,null,"",null,null,"",{"$nulls":4},{"$f":"IF(A1040=\"\",\"\",IF(ISNUMBER(Y1040),2,IF(A1041=\"\",IF(OR(AK1040>0,VLOOKUP(O1040,EventConfig!A:C,3,FALSE)=4),3,\"\"),1)))","v":1},912311,null,6228]
[{"$f":"O1041*100+P1041","v":912311},6216,"完成和NPC的对话","",{"$nulls":5},100,{"$f":"IF(J1041=\"\",\"\",VLOOKUP(J1041,EventNPC!A:E,5,FALSE))","v":"玩家"},6229,"（惊讶）：（被发现了？）",null,9123,{"$f":"IF(O1041=\"\",\"\",IF(O1041=O1040,P1040+1,1))","v":11},{"$f":"_xlfn.TEXTJOIN(\";\",1,R1041:S1041)","v":""},null,null,{"$f":"IF(R1041=\"\",\"\",\"-\"&VLOOKUP(R1041,EventConditionConfig!A:C,3,FALSE)&IF(S1041=\"\",\"\",CHAR(10)&\"-\"&VLOOKUP(S1041,EventConditionConfig!A:C,3,FALSE)))","v":""},{"$f":"IF(Y1041=\"\",\"\",IF(ISTEXT(Y1041),1,2))","v":""},"","","",null,null,"",null,null,"",{"$nulls":4},{"$f":"IF(A1041=\"\",\"\",IF(ISNUMBER(Y1041),2,IF(A1042=\"\",IF(OR(AK1041>0,VLOOKUP(O1041,EventConfig!A:C,3,FALSE)=4),3,\"\"),1)))","v":1},912312,null,6229]
[912312,6216,"完成和NPC的对话","",{"$nulls":5},134,{"$f":"IF(J1042=\"\",\"\",VLOOKUP(J1042,EventNPC!A:E,5,FALSE))","v":"柳轻烟"},6230,"不要感到惊讶，你虽屏蔽了神识，但我有宗门法宝窥识珠，能识方圆10公里修仙者。",null,9123,12,"",null,null,{"$f":"IF(R1042=\"\",\"\",\"-\"&VLOOKUP(R1042,EventConditionConfig!A:C,3,FALSE)&IF(S1042=\"\",\"\",CHAR(10)&\"-\"&VLOOKUP(S1042,EventConditionConfig!A:C,3,FALSE)))","v":""},"","","","",null,null,"",null,null,"",{"$nulls":4},{"$f":"IF(A1042=\"\",\"\",IF(ISNUMBER(Y1042),2,IF(A1043=\"\",IF(OR(AK1042>0,VLOOKUP(O1042,EventConfig!A:C,3,FALSE)=4),3,\"\"),1)))","v":1},912313,null,6230]
[{"$f":"O1043*100+P1043","v":912313},6216,"完成和NPC的对话","",{"$nulls":5},100,{"$f":"IF(J1043=\"\",\"\",VLOOKUP(J1043,EventNPC!A:E,5,FALSE))","v":"玩家"},6231,"（索性也不隐藏了）",null,9123,{"$f":"IF(O1043=\"\",\"\",IF(O1043=O1042,P1042+1,1))","v":13},{"$f":"_xlfn.TEXTJOIN(\";\",1,R1043:S1043)","v":""},null,null,{"$f":"IF(R1043=\"\",\"\",\"-\"&VLOOKUP(R1043,EventConditionConfig!A:C,3,FALSE)&IF(S1043=\"\",\"\",CHAR(10)&\"-\"&VLOOKUP(S1043,EventConditionConfig!A:C,3,FALSE)))","v":""},{"$f":"IF(Y1043=\"\",\"\",IF(ISTEXT(Y1043),1,2))","v":""},"","","",null,null,"",null,null,"",{"$nulls":4},{"$f":"IF(A1043=\"\",\"\",IF(ISNUMBER(Y1043),2,IF(A1044=\"\",IF(OR(AK1043>0,VLOOKUP(O1043,EventConfig!A:C,3,FALSE)=4),3,\"\"),1)))","v":1},912318,{"$f":"A1048","v":912318},6231]
[{"$f":"O1044*100+P1044","v":912314},6216,"完成和NPC的对话","",{"$nulls":5},100,{"$f":"IF(J1044=\"\",\"\",VLOOKUP(J1044,EventNPC!A:E,5,FALSE))","v":"玩家"},6232,"（从树林背后走出）",null,9123,{"$f":"IF(O1044=\"\",\"\",IF(O1044=O1043,P1043+1,1))","v":14},{"$f":"_xlfn.TEXTJOIN(\";\",1,R1044:S1044)","v":""},null,null,{"$f":"IF(R1044=\"\",\"\",\"-\"&VLOOKUP(R1044,EventConditionConfig!A:C,3,FALSE)&IF(S1044=\"\",\"\",CHAR(10)&\"-\"&VLOOKUP(S1044,EventConditionConfig!A:C,3,FALSE)))","v":""},{"$f":"IF(Y1044=\"\",\"\",IF(ISTEXT(Y1044),1,2))","v":""},"","","",null,null,"",null,null,"",{"$nulls":4},{"$f":"IF(A1044=\"\",\"\",IF(ISNUMBER(Y1044),2,IF(A1045=\"\",IF(OR(AK1044>0,VLOOKUP(O1044,EventConfig!A:C,3,FALSE)=4),3,\"\"),1)))","v":1},912315,null,6232]
[912315,6216,"完成和NPC的对话","",{"$nulls":5},134,{"$f":"IF(J1045=\"\",\"\",VLOOKUP(J1045,EventNPC!A:E,5,FALSE))","v":"柳轻烟"},6233,"（受伤的状态）这位道友看了这么久相比道友也已知来龙去脉。",null,9123,15,"",null,null,{"$f":"IF(R1045=\"\",\"\",\"-\"&VLOOKUP(R1045,EventConditionConfig!A:C,3,FALSE)&IF(S1045=\"\",\"\",CHAR(10)&\"-\"&VLOOKUP(S1045,EventConditionConfig!A:C,3,FALSE)))","v":""},"","","","",null,null,"",null,null,"",{"$nulls":4},{"$f":"IF(A1045=\"\",\"\",IF(ISNUMBER(Y1045),2,IF(A1046=\"\",IF(OR(AK1045>0,VLOOKUP(O1045,EventConfig!A:C,3,FALSE)=4),3,\"\"),1)))","v":1},912316,null,6233]
[912316,6216,"完成和NPC的对话","",{"$nulls":5},100,{"$f":"IF(J1046=\"\",\"\",VLOOKUP(J1046,EventNPC!A:E,5,FALSE))","v":"玩家"},6234,"（惊讶）：你早知我以到此地？",null,9123,16,"",null,null,{"$f":"IF(R1046=\"\",\"\",\"-\"&VLOOKUP(R1046,EventConditionConfig!A:C,3,FALSE)&IF(S1046=\"\",\"\",CHAR(10)&\"-\"&VLOOKUP(S1046,EventConditionConfig!A:C,3,FALSE)))","v":""},"","","","",null,null,"",null,null,"",{"$nulls":4},{"$f":"IF(A1046=\"\",\"\",IF(ISNUMBER(Y1046),2,IF(A1047=\"\",IF(OR(AK1046>0,VLOOKUP(O1046,EventConfig!A:C,3,FALSE)=4),3,\"\"),1)))","v":1},912317,null,6234]
[{"$f":"O1047*100+P1047","v":912317},6216,"完成和NPC的对话","",{"$nulls":5},134,{"$f":"IF(J1047=\"\",\"\",VLOOKUP(J1047,EventNPC!A:E,5,FALSE))","v":"柳轻烟"},6235,"不要感到惊讶，你虽屏蔽了神识，但我有宗门法宝窥识珠，能识方圆10公里修仙者。",null,9123,{"$f":"IF(O1047=\"\",\"\",IF(O1047=O1046,P1046+1,1))","v":17},{"$f":"_xlfn.TEXTJOIN(\";\",1,R1047:S1047)","v":""},null,null,{"$f":"IF(R1047=\"\",\"\",\"-\"&VLOOKUP(R1047,EventConditionConfig!A:C,3,FALSE)&IF(S1047=\"\",\"\",CHAR(10)&\"-\"&VLOOKUP(S1047,EventConditionConfig!A:C,3,FALSE)))","v":""},{"$f":"IF(Y1047=\"\",\"\",IF(ISTEXT(Y1047),1,2))","v":""},"","","",null,null,"",null,null,"",{"$nulls":4},{"$f":"IF(A1047=\"\",\"\",IF(ISNUMBER(Y1047),2,IF(A1048=\"\",IF(OR(AK1047>0,VLOOKUP(O1047,EventConfig!A:C,3,FALSE)=4),3,\"\"),1)))","v":1},912318,{"$f":"A1048","v":912318},6235]
[{"$f":"O1048*100+P1048","v":912318},6216,"完成和NPC的对话","",{"$nulls":5},134,{"$f":"IF(J1048=\"\",\"\",VLOOKUP(J1048,EventNPC!A:E,5,FALSE))","v":"柳轻烟"},6236,"（受伤的状态）：道友……咳咳……在下柳轻烟，不知道友如何称呼？",null,9123,{"$f":"IF(O1048=\"\",\"\",IF(O1048=O1047,P1047+1,1))","v":18},{"$f":"_xlfn.TEXTJOIN(\";\",1,R1048:S1048)","v":""},null,null,{"$f":"IF(R1048=\"\",\"\",\"-\"&VLOOKUP(R1048,EventConditionConfig!A:C,3,FALSE)&IF(S1048=\"\",\"\",CHAR(10)&\"-\"&VLOOKUP(S1048,EventConditionConfig!A:C,3,FALSE)))","v":""},{"$f":"IF(Y1048=\"\",\"\",IF(ISTEXT(Y1048),1,2))","v":""},"","","",null,null,"",null,null,"",{"$nulls":4},{"$f":"IF(A1048=\"\",\"\",IF(ISNUMBER(Y1048),2,IF(A1049=\"\",IF(OR(AK1048>0,VLOOKUP(O1048,EventConfig!A:C,3,FALSE)=4),3,\"\"),1)))","v":1},912319,null,6236]
[912319,6216,"完成和NPC的对话","",{"$nulls":5},100,{"$f":"IF(J1049=\"\",\"\",VLOOKUP(J1049,EventNPC!A:E,5,FALSE))","v":"玩家"},6237,"我叫{玩家名}，柳道友现服下这颗丹药",null,9123,19,"",null,null,{"$f":"IF(R1049=\"\",\"\",\"-\"&VLOOKUP(R1049,EventConditionConfig!A:C,3,FALSE)&IF(S1049=\"\",\"\",CHAR(10)&\"-\"&VLOOKUP(S1049,EventConditionConfig!A:C,3,FALSE)))","v":""},"","","","",null,null,"",null,null,"",{"$nulls":4},{"$f":"IF(A1049=\"\",\"\",IF(ISNUMBER(Y1049),2,IF(A1050=\"\",IF(OR(AK1049>0,VLOOKUP(O1049,EventConfig!A:C,3,FALSE)=4),3,\"\"),1)))","v":1},912320,null,6237]
[{"$f":"O1050*100+P1050","v":912320},6216,"完成和NPC的对话","",{"$nulls":5},134,{"$f":"IF(J1050=\"\",\"\",VLOOKUP(J1050,EventNPC!A:E,5,FALSE))","v":"柳轻烟"},6238,"道友的心意我领了，我伤无大碍",null,9123,{"$f":"IF(O1050=\"\",\"\",IF(O1050=O1049,P1049+1,1))","v":20},{"$f":"_xlfn.TEXTJOIN(\";\",1,R1050:S1050)","v":""},null,null,{"$f":"IF(R1050=\"\",\"\",\"-\"&VLOOKUP(R1050,EventConditionConfig!A:C,3,FALSE)&IF(S1050=\"\",\"\",CHAR(10)&\"-\"&VLOOKUP(S1050,EventConditionConfig!A:C,3,FALSE)))","v":""},{"$f":"IF(Y1050=\"\",\"\",IF(ISTEXT(Y1050),1,2))","v":""},"","","",null,null,"",null,null,"",{"$nulls":4},{"$f":"IF(A1050=\"\",\"\",IF(ISNUMBER(Y1050),2,IF(A1051=\"\",IF(OR(AK1050>0,VLOOKUP(O1050,EventConfig!A:C,3,FALSE)=4),3,\"\"),1)))","v":1},912321,null,6238]
[{"$f":"O1051*100+P1051","v":912321},6216,"完成和NPC的对话","",{"$nulls":5},134,{"$f":"IF(J1051=\"\",\"\",VLOOKUP(J1051,EventNPC!A:E,5,FALSE))","v":"柳轻烟"},6239,"我乃云雾宗内门弟子，奉师命探查北海深处寻找云雾秘钥，却不慎被血海宗埋伏，身受重伤。",null,9123,{"$f":"IF(O1051=\"\",\"\",IF(O1051=O1050,P1050+1,1))","v":21},{"$f":"_xlfn.TEXTJOIN(\";\",1,R1051:S1051)","v":""},null,null,{"$f":"IF(R1051=\"\",\"\",\"-\"&VLOOKUP(R1051,EventConditionConfig!A:C,3,FALSE)&IF(S1051=\"\",\"\",CHAR(10)&\"-\"&VLOOKUP(S1051,EventConditionConfig!A:C,3,FALSE)))","v":""},{"$f":"IF(Y1051=\"\",\"\",IF(ISTEXT(Y1051),1,2))","v":""},"","","",null,null,"",null,null,"",{"$nulls":4},{"$f":"IF(A1051=\"\",\"\",IF(ISNUMBER(Y1051),2,IF(A1052=\"\",IF(OR(AK1051>0,VLOOKUP(O1051,EventConfig!A:C,3,FALSE)=4),3,\"\"),1)))","v":1},912322,null,6239]
[{"$f":"O1052*100+P1052","v":912322},6216,"完成和NPC的对话","",{"$nulls":5},134,{"$f":"IF(J1052=\"\",\"\",VLOOKUP(J1052,EventNPC!A:E,5,FALSE))","v":"柳轻烟"},6240,"他们抢走了我宗至宝‘云雾秘钥’,此物能开启祖师堂的封印，内藏突破元婴的机缘！",null,9123,{"$f":"IF(O1052=\"\",\"\",IF(O1052=O1051,P1051+1,1))","v":22},{"$f":"_xlfn.TEXTJOIN(\";\",1,R1052:S1052)","v":""},null,null,{"$f":"IF(R1052=\"\",\"\",\"-\"&VLOOKUP(R1052,EventConditionConfig!A:C,3,FALSE)&IF(S1052=\"\",\"\",CHAR(10)&\"-\"&VLOOKUP(S1052,EventConditionConfig!A:C,3,FALSE)))","v":""},{"$f":"IF(Y1052=\"\",\"\",IF(ISTEXT(Y1052),1,2))","v":""},"","","",null,null,"",null,null,"",{"$nulls":4},{"$f":"IF(A1052=\"\",\"\",IF(ISNUMBER(Y1052),2,IF(A1053=\"\",IF(OR(AK1052>0,VLOOKUP(O1052,EventConfig!A:C,3,FALSE)=4),3,\"\"),1)))","v":1},912323,null,6240]
[{"$f":"O1053*100+P1053","v":912323},6216,"完成和NPC的对话","",{"$nulls":5},134,{"$f":"IF(J1053=\"\",\"\",VLOOKUP(J1053,EventNPC!A:E,5,FALSE))","v":"柳轻烟"},6241,"若秘钥落入血海宗之手，云雾宗气运将受重创……求你帮我夺回秘钥。",null,9123,{"$f":"IF(O1053=\"\",\"\",IF(O1053=O1052,P1052+1,1))","v":23},{"$f":"_xlfn.TEXTJOIN(\";\",1,R1053:S1053)","v":""},null,null,{"$f":"IF(R1053=\"\",\"\",\"-\"&VLOOKUP(R1053,EventConditionConfig!A:C,3,FALSE)&IF(S1053=\"\",\"\",CHAR(10)&\"-\"&VLOOKUP(S1053,EventConditionConfig!A:C,3,FALSE)))","v":""},{"$f":"IF(Y1053=\"\",\"\",IF(ISTEXT(Y1053),1,2))","v":1},"912324;912325","6242;6243",6242,"柳道友放心，我定会夺回秘钥，助云雾宗渡过此劫！",{"$f":"A1054","v":912324},6243,"柳道友，血海宗实力强大，我恐怕力有不逮……",{"$f":"A1055","v":912325},"",null,{"$f":"D1055","v":""},null,null,{"$f":"IF(A1053=\"\",\"\",IF(ISNUMBER(Y1053),2,IF(A1054=\"\",IF(OR(AK1053>0,VLOOKUP(O1053,EventConfig!A:C,3,FALSE)=4),3,\"\"),1)))","v":1},912324,null,6243]
[912324,6216,"完成和NPC的对话","",{"$nulls":5},134,{"$f":"IF(J1054=\"\",\"\",VLOOKUP(J1054,EventNPC!A:E,5,FALSE))","v":"柳轻烟"},6244,"多谢道友仗义相助！此符交给你，愿你平安归来……禁地凶险，若遇不测，务必以保命为先！",null,9123,24,"",null,null,{"$f":"IF(R1054=\"\",\"\",\"-\"&VLOOKUP(R1054,EventConditionConfig!A:C,3,FALSE)&IF(S1054=\"\",\"\",CHAR(10)&\"-\"&VLOOKUP(S1054,EventConditionConfig!A:C,3,FALSE)))","v":""},"","","","",null,null,"",null,null,"",{"$nulls":4},{"$f":"IF(A1054=\"\",\"\",IF(ISNUMBER(Y1054),2,IF(A1055=\"\",IF(OR(AK1054>0,VLOOKUP(O1054,EventConfig!A:C,3,FALSE)=4),3,\"\"),1)))","v":1},912328,{"$f":"A1058","v":912328},6244]
[{"$f":"O1055*100+P1055","v":912325},6216,"完成和NPC的对话","",{"$nulls":5},134,{"$f":"IF(J1055=\"\",\"\",VLOOKUP(J1055,EventNPC!A:E,5,FALSE))","v":"柳轻烟"},6245,"我知此行凶险，强人所难了……但秘钥关乎云雾宗存亡，我身受重伤，已无他法！！",null,9123,{"$f":"IF(O1055=\"\",\"\",IF(O1055=O1054,P1054+1,1))","v":25},{"$f":"_xlfn.TEXTJOIN(\";\",1,R1055:S1055)","v":""},null,null,{"$f":"IF(R1055=\"\",\"\",\"-\"&VLOOKUP(R1055,EventConditionConfig!A:C,3,FALSE)&IF(S1055=\"\",\"\",CHAR(10)&\"-\"&VLOOKUP(S1055,EventConditionConfig!A:C,3,FALSE)))","v":""},{"$f":"IF(Y1055=\"\",\"\",IF(ISTEXT(Y1055),1,2))","v":""},"","","",null,null,"",null,null,"",{"$nulls":4},{"$f":"IF(A1055=\"\",\"\",IF(ISNUMBER(Y1055),2,IF(A1056=\"\",IF(OR(AK1055>0,VLOOKUP(O1055,EventConfig!A:C,3,FALSE)=4),3,\"\"),1)))","v":1},912326,null,6245]
[{"$f":"O1056*100+P1056","v":912326},6216,"完成和NPC的对话","",{"$nulls":5},134,{"$f":"IF(J1056=\"\",\"\",VLOOKUP(J1056,EventNPC!A:E,5,FALSE))","v":"柳轻烟"},6246,"道友若肯相助，以后有任何困难云雾宗都已全力以赴帮助道友。",null,9123,{"$f":"IF(O1056=\"\",\"\",IF(O1056=O1055,P1055+1,1))","v":26},{"$f":"_xlfn.TEXTJOIN(\";\",1,R1056:S1056)","v":""},null,null,{"$f":"IF(R1056=\"\",\"\",\"-\"&VLOOKUP(R1056,EventConditionConfig!A:C,3,FALSE)&IF(S1056=\"\",\"\",CHAR(10)&\"-\"&VLOOKUP(S1056,EventConditionConfig!A:C,3,FALSE)))","v":""},{"$f":"IF(Y1056=\"\",\"\",IF(ISTEXT(Y1056),1,2))","v":""},"","","",null,null,"",null,null,"",{"$nulls":4},{"$f":"IF(A1056=\"\",\"\",IF(ISNUMBER(Y1056),2,IF(A1057=\"\",IF(OR(AK1056>0,VLOOKUP(O1056,EventConfig!A:C,3,FALSE)=4),3,\"\"),1)))","v":1},912328,{"$f":"A1058","v":912328},6246]
[{"$f":"O1057*100+P1057","v":912327},6216,"完成和NPC的对话","",{"$nulls":5},134,{"$f":"IF(J1057=\"\",\"\",VLOOKUP(J1057,EventNPC!A:E,5,FALSE))","v":"柳轻烟"},6247,"对了，这里有几个丹药对道友的修为有所帮助，望道友鼎力相助！",null,9123,{"$f":"IF(O1057=\"\",\"\",IF(O1057=O1056,P1056+1,1))","v":27},{"$f":"_xlfn.TEXTJOIN(\";\",1,R1057:S1057)","v":""},null,null,{"$f":"IF(R1057=\"\",\"\",\"-\"&VLOOKUP(R1057,EventConditionConfig!A:C,3,FALSE)&IF(S1057=\"\",\"\",CHAR(10)&\"-\"&VLOOKUP(S1057,EventConditionConfig!A:C,3,FALSE)))","v":""},{"$f":"IF(Y1057=\"\",\"\",IF(ISTEXT(Y1057),1,2))","v":""},"","","",null,null,"",null,null,"",{"$nulls":4},{"$f":"IF(A1057=\"\",\"\",IF(ISNUMBER(Y1057),2,IF(A1058=\"\",IF(OR(AK1057>0,VLOOKUP(O1057,EventConfig!A:C,3,FALSE)=4),3,\"\"),1)))","v":1},912328,null,6247]
[{"$f":"O1058*100+P1058","v":912328},6216,"完成和NPC的对话","",{"$nulls":5},100,{"$f":"IF(J1058=\"\",\"\",VLOOKUP(J1058,EventNPC!A:E,5,FALSE))","v":"玩家"},6248,"好的，我尽力而为。",null,9123,{"$f":"IF(O1058=\"\",\"\",IF(O1058=O1057,P1057+1,1))","v":28},{"$f":"_xlfn.TEXTJOIN(\";\",1,R1058:S1058)","v":""},null,null,{"$f":"IF(R1058=\"\",\"\",\"-\"&VLOOKUP(R1058,EventConditionConfig!A:C,3,FALSE)&IF(S1058=\"\",\"\",CHAR(10)&\"-\"&VLOOKUP(S1058,EventConditionConfig!A:C,3,FALSE)))","v":""},{"$f":"IF(Y1058=\"\",\"\",IF(ISTEXT(Y1058),1,2))","v":""},"","","",null,null,"",null,null,"",{"$nulls":4},{"$f":"IF(A1058=\"\",\"\",IF(ISNUMBER(Y1058),2,IF(A1059=\"\",IF(OR(AK1058>0,VLOOKUP(O1058,EventConfig!A:C,3,FALSE)=4),3,\"\"),1)))","v":1},912329,null,6248]
[912329,6216,"完成和NPC的对话","",{"$nulls":5},134,{"$f":"IF(J1059=\"\",\"\",VLOOKUP(J1059,EventNPC!A:E,5,FALSE))","v":"柳轻烟"},6249,"感谢道友，我在此地疗伤，道友如找到后在此处找我。",null,9123,29,"",null,null,{"$f":"IF(R1059=\"\",\"\",\"-\"&VLOOKUP(R1059,EventConditionConfig!A:C,3,FALSE)&IF(S1059=\"\",\"\",CHAR(10)&\"-\"&VLOOKUP(S1059,EventConditionConfig!A:C,3,FALSE)))","v":""},"","","","",null,null,"",null,null,"",{"$nulls":4},{"$f":"IF(A1059=\"\",\"\",IF(ISNUMBER(Y1059),2,IF(A1060=\"\",IF(OR(AK1059>0,VLOOKUP(O1059,EventConfig!A:C,3,FALSE)=4),3,\"\"),1)))","v":""},"",null,6249]
[null,"",null,"",{"$nulls":7},"",{"$nulls":9},"","","",null,null,"",null,null,"",{"$nulls":4},{"$f":"IF(A1060=\"\",\"\",IF(ISNUMBER(Y1060),2,IF(A1061=\"\",IF(OR(AK1060>0,VLOOKUP(O1060,EventConfig!A:C,3,FALSE)=4),3,\"\"),1)))","v":""},"",null,""]
[{"$f":"O1061*100+P1061","v":912401},6250,"完成和NPC的对话","",{"$nulls":5},100,{"$f":"IF(J1061=\"\",\"\",VLOOKUP(J1061,EventNPC!A:E,5,FALSE))","v":"玩家"},6251,"你就是血海宗的人吧，交出云雾秘钥绕你们不死。",null,9124,{"$f":"IF(O1061=\"\",\"\",IF(O1061=O1060,P1060+1,1))","v":1},{"$f":"_xlfn.TEXTJOIN(\";\",1,R1061:S1061)","v":""},null,null,{"$f":"IF(R1061=\"\",\"\",\"-\"&VLOOKUP(R1061,EventConditionConfig!A:C,3,FALSE)&IF(S1061=\"\",\"\",CHAR(10)&\"-\"&VLOOKUP(S1061,EventConditionConfig!A:C,3,FALSE)))","v":""},{"$f":"IF(Y1061=\"\",\"\",IF(ISTEXT(Y1061),1,2))","v":""},"","","",null,null,"",null,null,"",{"$nulls":4},{"$f":"IF(A1061=\"\",\"\",IF(ISNUMBER(Y1061),2,IF(A1062=\"\",IF(OR(AK1061>0,VLOOKUP(O1061,EventConfig!A:C,3,FALSE)=4),3,\"\"),1)))","v":1},912402,null,6251]
[{"$f":"O1062*100+P1062","v":912402},6250,"完成和NPC的对话","",{"$nulls":5},136,{"$f":"IF(J1062=\"\",\"\",VLOOKUP(J1062,EventNPC!A:E,5,FALSE))","v":"血海宗敌人"},6252,"（对另外一个NPC说）你们先带个云雾秘钥快走，我来断后。",null,9124,{"$f":"IF(O1062=\"\",\"\",IF(O1062=O1061,P1061+1,1))","v":2},{"$f":"_xlfn.TEXTJOIN(\";\",1,R1062:S1062)","v":""},null,null,{"$f":"IF(R1062=\"\",\"\",\"-\"&VLOOKUP(R1062,EventConditionConfig!A:C,3,FALSE)&IF(S1062=\"\",\"\",CHAR(10)&\"-\"&VLOOKUP(S1062,EventConditionConfig!A:C,3,FALSE)))","v":""},{"$f":"IF(Y1062=\"\",\"\",IF(ISTEXT(Y1062),1,2))","v":2},4009,"","",4009,null,"",null,null,"",{"$nulls":4},{"$f":"IF(A1062=\"\",\"\",IF(ISNUMBER(Y1062),2,IF(A1063=\"\",IF(OR(AK1062>0,VLOOKUP(O1062,EventConfig!A:C,3,FALSE)=4),3,\"\"),1)))","v":2},"912403;101",null,6252]
[912403,6250,"完成和NPC的对话","",{"$nulls":5},100,{"$f":"IF(J1063=\"\",\"\",VLOOKUP(J1063,EventNPC!A:E,5,FALSE))","v":"玩家"},6253,"不好，让另一个血海宗的人带着钥匙跑掉了",null,9124,3,"",null,null,{"$f":"IF(R1063=\"\",\"\",\"-\"&VLOOKUP(R1063,EventConditionConfig!A:C,3,FALSE)&IF(S1063=\"\",\"\",CHAR(10)&\"-\"&VLOOKUP(S1063,EventConditionConfig!A:C,3,FALSE)))","v":""},"","","","",null,null,"",null,null,"",{"$nulls":4},{"$f":"IF(A1063=\"\",\"\",IF(ISNUMBER(Y1063),2,IF(A1064=\"\",IF(OR(AK1063>0,VLOOKUP(O1063,EventConfig!A:C,3,FALSE)=4),3,\"\"),1)))","v":""},"",null,6253]
[null,"",null,"",{"$nulls":7},"",{"$nulls":9},"","","",null,null,"",null,null,"",{"$nulls":4},{"$f":"IF(A1064=\"\",\"\",IF(ISNUMBER(Y1064),2,IF(A1065=\"\",IF(OR(AK1064>0,VLOOKUP(O1064,EventConfig!A:C,3,FALSE)=4),3,\"\"),1)))","v":""},"",null,""]
[{"$f":"O1065*100+P1065","v":912501},{"$f":"IF(C1065=\"\",\"\",IF(C1065=C1064,B1064,MAX(AL1064,AL1063)+1))","v":6254},"完成和NPC的对话","",{"$nulls":5},100,{"$f":"IF(J1065=\"\",\"\",VLOOKUP(J1065,EventNPC!A:E,5,FALSE))","v":"玩家"},6255,"还想跑，交出云雾秘钥。",null,9125,{"$f":"IF(O1065=\"\",\"\",IF(O1065=O1064,P1064+1,1))","v":1},{"$f":"_xlfn.TEXTJOIN(\";\",1,R1065:S1065)","v":""},null,null,{"$f":"IF(R1065=\"\",\"\",\"-\"&VLOOKUP(R1065,EventConditionConfig!A:C,3,FALSE)&IF(S1065=\"\",\"\",CHAR(10)&\"-\"&VLOOKUP(S1065,EventConditionConfig!A:C,3,FALSE)))","v":""},{"$f":"IF(Y1065=\"\",\"\",IF(ISTEXT(Y1065),1,2))","v":""},"","","",null,null,"",null,null,"",{"$nulls":4},{"$f":"IF(A1065=\"\",\"\",IF(ISNUMBER(Y1065),2,IF(A1066=\"\",IF(OR(AK1065>0,VLOOKUP(O1065,EventConfig!A:C,3,FALSE)=4),3,\"\"),1)))","v":1},912502,null,6255]
[{"$f":"O1066*100+P1066","v":912502},6254,"完成和NPC的对话","",{"$nulls":5},136,{"$f":"IF(J1066=\"\",\"\",VLOOKUP(J1066,EventNPC!A:E,5,FALSE))","v":"血海宗敌人"},6256,"找死！",null,9125,{"$f":"IF(O1066=\"\",\"\",IF(O1066=O1065,P1065+1,1))","v":2},{"$f":"_xlfn.TEXTJOIN(\";\",1,R1066:S1066)","v":""},null,null,{"$f":"IF(R1066=\"\",\"\",\"-\"&VLOOKUP(R1066,EventConditionConfig!A:C,3,FALSE)&IF(S1066=\"\",\"\",CHAR(10)&\"-\"&VLOOKUP(S1066,EventConditionConfig!A:C,3,FALSE)))","v":""},{"$f":"IF(Y1066=\"\",\"\",IF(ISTEXT(Y1066),1,2))","v":2},4010,"","",4010,null,"",null,null,"",{"$nulls":4},{"$f":"IF(A1066=\"\",\"\",IF(ISNUMBER(Y1066),2,IF(A1067=\"\",IF(OR(AK1066>0,VLOOKUP(O1066,EventConfig!A:C,3,FALSE)=4),3,\"\"),1)))","v":2},{"$f":"IF(AI1066=\"\",\"\",CHOOSE(AI1066,IF(AK1066=\"\",A1066+1,AK1066),CONCATENATE(IF(AK1066=\"\",A1066+1,AK1066),\";101\"),IF(AK1066=\"\",O1066+1,AK1066)))","v":"912503;101"},null,6256]
[912503,6254,"完成和NPC的对话",{"$f":"IF(E1067=\"\",\"\",IF(E1067=E1066,D1066,MAX(AL1066,AL1065,B1067)+1))","v":""},{"$nulls":5},100,{"$f":"IF(J1067=\"\",\"\",VLOOKUP(J1067,EventNPC!A:E,5,FALSE))","v":"玩家"},{"$f":"IF(M1067=\"\",\"\",MAX(AL1066,AL1065,B1067,D1067)+1)","v":6257},"终于拿到钥匙了",null,9125,3,"",null,null,{"$f":"IF(R1067=\"\",\"\",\"-\"&VLOOKUP(R1067,EventConditionConfig!A:C,3,FALSE)&IF(S1067=\"\",\"\",CHAR(10)&\"-\"&VLOOKUP(S1067,EventConditionConfig!A:C,3,FALSE)))","v":""},"","","",{"$f":"IF(OR(ISNUMBER(Y1067),Y1067=\"\"),\"\",MAX(AL1066,AL1064,B1067,D1067,L1067)+1)","v":""},null,null,{"$f":"IF(OR(ISNUMBER(AB1067),AB1067=\"\"),\"\",X1067+1)","v":""},null,null,"",{"$nulls":4},{"$f":"IF(A1067=\"\",\"\",IF(ISNUMBER(Y1067),2,IF(A1068=\"\",IF(OR(AK1067>0,VLOOKUP(O1067,EventConfig!A:C,3,FALSE)=4),3,\"\"),1)))","v":""},"",null,6257]
[{"$nulls":21},"","",{"$nulls":14},""]
[{"$f":"O1069*100+P1069","v":912601},{"$f":"IF(C1069=\"\",\"\",IF(C1069=C1068,B1068,MAX(AL1068,AL1067)+1))","v":6258},"完成和NPC的对话",{"$f":"IF(E1069=\"\",\"\",IF(E1069=E1068,D1068,MAX(AL1068,AL1067,B1069)+1))","v":""},{"$nulls":5},134,{"$f":"IF(J1069=\"\",\"\",VLOOKUP(J1069,EventNPC!A:E,5,FALSE))","v":"柳轻烟"},{"$f":"IF(M1069=\"\",\"\",MAX(AL1068,AL1067,B1069,D1069)+1)","v":6259},"道友可否带回云雾秘钥？",null,9126,{"$f":"IF(O1069=\"\",\"\",IF(O1069=O1068,P1068+1,1))","v":1},{"$f":"_xlfn.TEXTJOIN(\";\",1,R1069:S1069)","v":""},null,null,{"$f":"IF(R1069=\"\",\"\",\"-\"&VLOOKUP(R1069,EventConditionConfig!A:C,3,FALSE)&IF(S1069=\"\",\"\",CHAR(10)&\"-\"&VLOOKUP(S1069,EventConditionConfig!A:C,3,FALSE)))","v":""},{"$f":"IF(Y1069=\"\",\"\",IF(ISTEXT(Y1069),1,2))","v":""},"","",{"$f":"IF(OR(ISNUMBER(Y1069),Y1069=\"\"),\"\",MAX(AL1068,AL1066,B1069,D1069,L1069)+1)","v":""},null,null,{"$f":"IF(OR(ISNUMBER(AB1069),AB1069=\"\"),\"\",X1069+1)","v":""},null,null,{"$f":"IF(OR(ISNUMBER(AE1069),AE1069=\"\"),\"\",AA1069+1)","v":""},{"$nulls":4},{"$f":"IF(A1069=\"\",\"\",IF(ISNUMBER(Y1069),2,IF(A1070=\"\",IF(OR(AK1069>0,VLOOKUP(O1069,EventConfig!A:C,3,FALSE)=4),3,\"\"),1)))","v":1},{"$f":"IF(AI1069=\"\",\"\",CHOOSE(AI1069,IF(AK1069=\"\",A1069+1,AK1069),CONCATENATE(IF(AK1069=\"\",A1069+1,AK1069),\";101\"),IF(AK1069=\"\",O1069+1,AK1069)))","v":912602},null,{"$f":"IF(A1069=\"\",\"\",MAX(B1069,D1069,L1069,X1069,AA1069,AL1068,AL1067,AD1069))","v":6259}]
[{"$f":"O1070*100+P1070","v":912602},{"$f":"IF(C1070=\"\",\"\",IF(C1070=C1069,B1069,MAX(AL1069,AL1068)+1))","v":6258},"完成和NPC的对话",{"$f":"IF(E1070=\"\",\"\",IF(E1070=E1069,D1069,MAX(AL1069,AL1068,B1070)+1))","v":""},{"$nulls":5},100,{"$f":"IF(J1070=\"\",\"\",VLOOKUP(J1070,EventNPC!A:E,5,FALSE))","v":"玩家"},{"$f":"IF(M1070=\"\",\"\",MAX(AL1069,AL1068,B1070,D1070)+1)","v":6260},"你看是否是此物。",null,9126,{"$f":"IF(O1070=\"\",\"\",IF(O1070=O1069,P1069+1,1))","v":2},{"$f":"_xlfn.TEXTJOIN(\";\",1,R1070:S1070)","v":""},null,null,{"$f":"IF(R1070=\"\",\"\",\"-\"&VLOOKUP(R1070,EventConditionConfig!A:C,3,FALSE)&IF(S1070=\"\",\"\",CHAR(10)&\"-\"&VLOOKUP(S1070,EventConditionConfig!A:C,3,FALSE)))","v":""},{"$f":"IF(Y1070=\"\",\"\",IF(ISTEXT(Y1070),1,2))","v":""},"","",{"$f":"IF(OR(ISNUMBER(Y1070),Y1070=\"\"),\"\",MAX(AL1069,AL1067,B1070,D1070,L1070)+1)","v":""},null,null,{"$f":"IF(OR(ISNUMBER(AB1070),AB1070=\"\"),\"\",X1070+1)","v":""},null,null,"",{"$nulls":4},{"$f":"IF(A1070=\"\",\"\",IF(ISNUMBER(Y1070),2,IF(A1071=\"\",IF(OR(AK1070>0,VLOOKUP(O1070,EventConfig!A:C,3,FALSE)=4),3,\"\"),1)))","v":1},{"$f":"IF(AI1070=\"\",\"\",CHOOSE(AI1070,IF(AK1070=\"\",A1070+1,AK1070),CONCATENATE(IF(AK1070=\"\",A1070+1,AK1070),\";101\"),IF(AK1070=\"\",O1070+1,AK1070)))","v":912603},null,6260]
[{"$f":"O1071*100+P1071","v":912603},{"$f":"IF(C1071=\"\",\"\",IF(C1071=C1070,B1070,MAX(AL1070,AL1069)+1))","v":6258},"完成和NPC的对话",{"$f":"IF(E1071=\"\",\"\",IF(E1071=E1070,D1070,MAX(AL1070,AL1069,B1071)+1))","v":""},{"$nulls":5},134,{"$f":"IF(J1071=\"\",\"\",VLOOKUP(J1071,EventNPC!A:E,5,FALSE))","v":"柳轻烟"},{"$f":"IF(M1071=\"\",\"\",MAX(AL1070,AL1069,B1071,D1071)+1)","v":6261},"对就是此物，感谢道友鼎力相助。日后有什么困难来云雾宗找我。",null,9126,{"$f":"IF(O1071=\"\",\"\",IF(O1071=O1070,P1070+1,1))","v":3},{"$f":"_xlfn.TEXTJOIN(\";\",1,R1071:S1071)","v":""},null,null,{"$f":"IF(R1071=\"\",\"\",\"-\"&VLOOKUP(R1071,EventConditionConfig!A:C,3,FALSE)&IF(S1071=\"\",\"\",CHAR(10)&\"-\"&VLOOKUP(S1071,EventConditionConfig!A:C,3,FALSE)))","v":""},{"$f":"IF(Y1071=\"\",\"\",IF(ISTEXT(Y1071),1,2))","v":""},"","",{"$f":"IF(OR(ISNUMBER(Y1071),Y1071=\"\"),\"\",MAX(AL1070,AL1068,B1071,D1071,L1071)+1)","v":""},null,null,{"$f":"IF(OR(ISNUMBER(AB1071),AB1071=\"\"),\"\",X1071+1)","v":""},null,null,"",{"$nulls":4},{"$f":"IF(A1071=\"\",\"\",IF(ISNUMBER(Y1071),2,IF(A1072=\"\",IF(OR(AK1071>0,VLOOKUP(O1071,EventConfig!A:C,3,FALSE)=4),3,\"\"),1)))","v":1},{"$f":"IF(AI1071=\"\",\"\",CHOOSE(AI1071,IF(AK1071=\"\",A1071+1,AK1071),CONCATENATE(IF(AK1071=\"\",A1071+1,AK1071),\";101\"),IF(AK1071=\"\",O1071+1,AK1071)))","v":912604},null,6261]
[{"$f":"O1072*100+P1072","v":912604},{"$f":"IF(C1072=\"\",\"\",IF(C1072=C1071,B1071,MAX(AL1071,AL1070)+1))","v":6258},"完成和NPC的对话",{"$f":"IF(E1072=\"\",\"\",IF(E1072=E1071,D1071,MAX(AL1071,AL1070,B1072)+1))","v":""},{"$nulls":5},134,{"$f":"IF(J1072=\"\",\"\",VLOOKUP(J1072,EventNPC!A:E,5,FALSE))","v":"柳轻烟"},{"$f":"IF(M1072=\"\",\"\",MAX(AL1071,AL1070,B1072,D1072)+1)","v":6262},"  我的伤也可好得差不多了，也该回宗门了，这是一点心意还请道友收下。",null,9126,{"$f":"IF(O1072=\"\",\"\",IF(O1072=O1071,P1071+1,1))","v":4},{"$f":"_xlfn.TEXTJOIN(\";\",1,R1072:S1072)","v":""},null,null,{"$f":"IF(R1072=\"\",\"\",\"-\"&VLOOKUP(R1072,EventConditionConfig!A:C,3,FALSE)&IF(S1072=\"\",\"\",CHAR(10)&\"-\"&VLOOKUP(S1072,EventConditionConfig!A:C,3,FALSE)))","v":""},{"$f":"IF(Y1072=\"\",\"\",IF(ISTEXT(Y1072),1,2))","v":""},"","",{"$f":"IF(OR(ISNUMBER(Y1072),Y1072=\"\"),\"\",MAX(AL1071,AL1069,B1072,D1072,L1072)+1)","v":""},null,null,{"$f":"IF(OR(ISNUMBER(AB1072),AB1072=\"\"),\"\",X1072+1)","v":""},null,null,"",{"$nulls":4},{"$f":"IF(A1072=\"\",\"\",IF(ISNUMBER(Y1072),2,IF(A1073=\"\",IF(OR(AK1072>0,VLOOKUP(O1072,EventConfig!A:C,3,FALSE)=4),3,\"\"),1)))","v":""},{"$f":"IF(AI1072=\"\",\"\",CHOOSE(AI1072,IF(AK1072=\"\",A1072+1,AK1072),CONCATENATE(IF(AK1072=\"\",A1072+1,AK1072),\";101\"),IF(AK1072=\"\",O1072+1,AK1072)))","v":""},null,6262]
[{"$nulls":21},"","",{"$nulls":14},""]
[{"$f":"O1074*100+P1074","v":912701},{"$f":"IF(C1074=\"\",\"\",IF(C1074=C1073,B1073,MAX(AL1073,AL1072)+1))","v":6263},"完成和NPC的对话",{"$f":"IF(E1074=\"\",\"\",IF(E1074=E1073,D1073,MAX(AL1073,AL1072,B1074)+1))","v":""},{"$nulls":5},131,{"$f":"IF(J1074=\"\",\"\",VLOOKUP(J1074,EventNPC!A:E,5,FALSE))","v":"馨儿"},{"$f":"IF(M1074=\"\",\"\",MAX(AL1073,AL1072,B1074,D1074)+1)","v":6264},"（喘着气，语气带着兴奋）哈哈，又是你！我来这儿采灵花，为拍卖云霞丹做准备，可这些熊妖死缠烂打！能帮我清掉它们吗？",null,9127,{"$f":"IF(O1074=\"\",\"\",IF(O1074=O1073,P1073+1,1))","v":1},{"$f":"_xlfn.TEXTJOIN(\";\",1,R1074:S1074)","v":""},null,null,{"$f":"IF(R1074=\"\",\"\",\"-\"&VLOOKUP(R1074,EventConditionConfig!A:C,3,FALSE)&IF(S1074=\"\",\"\",CHAR(10)&\"-\"&VLOOKUP(S1074,EventConditionConfig!A:C,3,FALSE)))","v":""},{"$f":"IF(Y1074=\"\",\"\",IF(ISTEXT(Y1074),1,2))","v":1},"912702;912703","6265;6266",{"$f":"IF(OR(ISNUMBER(Y1074),Y1074=\"\"),\"\",MAX(AL1073,AL1071,B1074,D1074,L1074)+1)","v":6265},"这灵花有啥特别的？",{"$f":"A1075","v":912702},{"$f":"IF(OR(ISNUMBER(AB1074),AB1074=\"\"),\"\",X1074+1)","v":6266},"好，我来帮你！",{"$f":"A1076","v":912703},{"$f":"IF(OR(ISNUMBER(AE1074),AE1074=\"\"),\"\",AA1074+1)","v":""},null,{"$f":"D1076","v":""},null,null,{"$f":"IF(A1074=\"\",\"\",IF(ISNUMBER(Y1074),2,IF(A1075=\"\",IF(OR(AK1074>0,VLOOKUP(O1074,EventConfig!A:C,3,FALSE)=4),3,\"\"),1)))","v":1},{"$f":"IF(AI1074=\"\",\"\",CHOOSE(AI1074,IF(AK1074=\"\",A1074+1,AK1074),CONCATENATE(IF(AK1074=\"\",A1074+1,AK1074),\";101\"),IF(AK1074=\"\",O1074+1,AK1074)))","v":912702},null,6266]
[912702,6263,"完成和NPC的对话","",{"$nulls":5},131,{"$f":"IF(J1075=\"\",\"\",VLOOKUP(J1075,EventNPC!A:E,5,FALSE))","v":"馨儿"},6267,"特别？当然！这冰霜灵花是云霞丹的辅材，拍卖会全靠它增色！",null,9127,2,"",null,null,{"$f":"IF(R1075=\"\",\"\",\"-\"&VLOOKUP(R1075,EventConditionConfig!A:C,3,FALSE)&IF(S1075=\"\",\"\",CHAR(10)&\"-\"&VLOOKUP(S1075,EventConditionConfig!A:C,3,FALSE)))","v":""},"","","","",null,null,"",null,null,"",{"$nulls":4},{"$f":"IF(A1075=\"\",\"\",IF(ISNUMBER(Y1075),2,IF(A1076=\"\",IF(OR(AK1075>0,VLOOKUP(O1075,EventConfig!A:C,3,FALSE)=4),3,\"\"),1)))","v":1},912704,{"$f":"A1077","v":912704},6267]
[{"$f":"O1076*100+P1076","v":912703},{"$f":"IF(C1076=\"\",\"\",IF(C1076=C1075,B1075,MAX(AL1075,AL1074)+1))","v":6263},"完成和NPC的对话",{"$f":"IF(E1076=\"\",\"\",IF(E1076=E1075,D1075,MAX(AL1075,AL1074,B1076)+1))","v":""},{"$nulls":5},131,{"$f":"IF(J1076=\"\",\"\",VLOOKUP(J1076,EventNPC!A:E,5,FALSE))","v":"馨儿"},{"$f":"IF(M1076=\"\",\"\",MAX(AL1075,AL1074,B1076,D1076)+1)","v":6268},"我就知道你靠得住！来，咱们联手让这些熊妖吃瘪！",null,9127,{"$f":"IF(O1076=\"\",\"\",IF(O1076=O1075,P1075+1,1))","v":3},{"$f":"_xlfn.TEXTJOIN(\";\",1,R1076:S1076)","v":""},null,null,{"$f":"IF(R1076=\"\",\"\",\"-\"&VLOOKUP(R1076,EventConditionConfig!A:C,3,FALSE)&IF(S1076=\"\",\"\",CHAR(10)&\"-\"&VLOOKUP(S1076,EventConditionConfig!A:C,3,FALSE)))","v":""},{"$f":"IF(Y1076=\"\",\"\",IF(ISTEXT(Y1076),1,2))","v":""},"","",{"$f":"IF(OR(ISNUMBER(Y1076),Y1076=\"\"),\"\",MAX(AL1075,AL1073,B1076,D1076,L1076)+1)","v":""},null,null,{"$f":"IF(OR(ISNUMBER(AB1076),AB1076=\"\"),\"\",X1076+1)","v":""},null,null,"",{"$nulls":4},{"$f":"IF(A1076=\"\",\"\",IF(ISNUMBER(Y1076),2,IF(A1077=\"\",IF(OR(AK1076>0,VLOOKUP(O1076,EventConfig!A:C,3,FALSE)=4),3,\"\"),1)))","v":1},{"$f":"IF(AI1076=\"\",\"\",CHOOSE(AI1076,IF(AK1076=\"\",A1076+1,AK1076),CONCATENATE(IF(AK1076=\"\",A1076+1,AK1076),\";101\"),IF(AK1076=\"\",O1076+1,AK1076)))","v":912704},{"$f":"A1077","v":912704},6268]
[{"$f":"O1077*100+P1077","v":912704},{"$f":"IF(C1077=\"\",\"\",IF(C1077=C1076,B1076,MAX(AL1076,AL1075)+1))","v":6263},"完成和NPC的对话",{"$f":"IF(E1077=\"\",\"\",IF(E1077=E1076,D1076,MAX(AL1076,AL1075,B1077)+1))","v":""},{"$nulls":5},100,{"$f":"IF(J1077=\"\",\"\",VLOOKUP(J1077,EventNPC!A:E,5,FALSE))","v":"玩家"},{"$f":"IF(M1077=\"\",\"\",MAX(AL1076,AL1075,B1077,D1077)+1)","v":6269},"你开阵，我来输出！",null,9127,{"$f":"IF(O1077=\"\",\"\",IF(O1077=O1076,P1076+1,1))","v":4},{"$f":"_xlfn.TEXTJOIN(\";\",1,R1077:S1077)","v":""},null,null,{"$f":"IF(R1077=\"\",\"\",\"-\"&VLOOKUP(R1077,EventConditionConfig!A:C,3,FALSE)&IF(S1077=\"\",\"\",CHAR(10)&\"-\"&VLOOKUP(S1077,EventConditionConfig!A:C,3,FALSE)))","v":""},{"$f":"IF(Y1077=\"\",\"\",IF(ISTEXT(Y1077),1,2))","v":2},4011,"",{"$f":"IF(OR(ISNUMBER(Y1077),Y1077=\"\"),\"\",MAX(AL1076,AL1074,B1077,D1077,L1077)+1)","v":""},4011,null,{"$f":"IF(OR(ISNUMBER(AB1077),AB1077=\"\"),\"\",X1077+1)","v":""},null,null,"",{"$nulls":4},{"$f":"IF(A1077=\"\",\"\",IF(ISNUMBER(Y1077),2,IF(A1078=\"\",IF(OR(AK1077>0,VLOOKUP(O1077,EventConfig!A:C,3,FALSE)=4),3,\"\"),1)))","v":2},{"$f":"IF(AI1077=\"\",\"\",CHOOSE(AI1077,IF(AK1077=\"\",A1077+1,AK1077),CONCATENATE(IF(AK1077=\"\",A1077+1,AK1077),\";101\"),IF(AK1077=\"\",O1077+1,AK1077)))","v":"912705;101"},null,6269]
[{"$f":"O1078*100+P1078","v":912705},{"$f":"IF(C1078=\"\",\"\",IF(C1078=C1077,B1077,MAX(AL1077,AL1076)+1))","v":6263},"完成和NPC的对话",{"$f":"IF(E1078=\"\",\"\",IF(E1078=E1077,D1077,MAX(AL1077,AL1076,B1078)+1))","v":""},{"$nulls":5},131,{"$f":"IF(J1078=\"\",\"\",VLOOKUP(J1078,EventNPC!A:E,5,FALSE))","v":"馨儿"},{"$f":"IF(M1078=\"\",\"\",MAX(AL1077,AL1076,B1078,D1078)+1)","v":6270},"灵花终于到手，这下我的云霞丹能买个好价钱了。",null,9127,{"$f":"IF(O1078=\"\",\"\",IF(O1078=O1077,P1077+1,1))","v":5},{"$f":"_xlfn.TEXTJOIN(\";\",1,R1078:S1078)","v":""},null,null,{"$f":"IF(R1078=\"\",\"\",\"-\"&VLOOKUP(R1078,EventConditionConfig!A:C,3,FALSE)&IF(S1078=\"\",\"\",CHAR(10)&\"-\"&VLOOKUP(S1078,EventConditionConfig!A:C,3,FALSE)))","v":""},{"$f":"IF(Y1078=\"\",\"\",IF(ISTEXT(Y1078),1,2))","v":""},"","",{"$f":"IF(OR(ISNUMBER(Y1078),Y1078=\"\"),\"\",MAX(AL1077,AL1075,B1078,D1078,L1078)+1)","v":""},null,null,{"$f":"IF(OR(ISNUMBER(AB1078),AB1078=\"\"),\"\",X1078+1)","v":""},null,null,"",{"$nulls":4},{"$f":"IF(A1078=\"\",\"\",IF(ISNUMBER(Y1078),2,IF(A1079=\"\",IF(OR(AK1078>0,VLOOKUP(O1078,EventConfig!A:C,3,FALSE)=4),3,\"\"),1)))","v":1},{"$f":"IF(AI1078=\"\",\"\",CHOOSE(AI1078,IF(AK1078=\"\",A1078+1,AK1078),CONCATENATE(IF(AK1078=\"\",A1078+1,AK1078),\";101\"),IF(AK1078=\"\",O1078+1,AK1078)))","v":912706},null,6270]
[{"$f":"O1079*100+P1079","v":912706},{"$f":"IF(C1079=\"\",\"\",IF(C1079=C1078,B1078,MAX(AL1078,AL1077)+1))","v":6263},"完成和NPC的对话",{"$f":"IF(E1079=\"\",\"\",IF(E1079=E1078,D1078,MAX(AL1078,AL1077,B1079)+1))","v":""},{"$nulls":5},100,{"$f":"IF(J1079=\"\",\"\",VLOOKUP(J1079,EventNPC!A:E,5,FALSE))","v":"玩家"},{"$f":"IF(M1079=\"\",\"\",MAX(AL1078,AL1077,B1079,D1079)+1)","v":6271},"云霞丹是什么？",null,9127,{"$f":"IF(O1079=\"\",\"\",IF(O1079=O1078,P1078+1,1))","v":6},{"$f":"_xlfn.TEXTJOIN(\";\",1,R1079:S1079)","v":""},null,null,{"$f":"IF(R1079=\"\",\"\",\"-\"&VLOOKUP(R1079,EventConditionConfig!A:C,3,FALSE)&IF(S1079=\"\",\"\",CHAR(10)&\"-\"&VLOOKUP(S1079,EventConditionConfig!A:C,3,FALSE)))","v":""},{"$f":"IF(Y1079=\"\",\"\",IF(ISTEXT(Y1079),1,2))","v":""},"","",{"$f":"IF(OR(ISNUMBER(Y1079),Y1079=\"\"),\"\",MAX(AL1078,AL1076,B1079,D1079,L1079)+1)","v":""},null,null,{"$f":"IF(OR(ISNUMBER(AB1079),AB1079=\"\"),\"\",X1079+1)","v":""},null,null,"",{"$nulls":4},{"$f":"IF(A1079=\"\",\"\",IF(ISNUMBER(Y1079),2,IF(A1080=\"\",IF(OR(AK1079>0,VLOOKUP(O1079,EventConfig!A:C,3,FALSE)=4),3,\"\"),1)))","v":1},{"$f":"IF(AI1079=\"\",\"\",CHOOSE(AI1079,IF(AK1079=\"\",A1079+1,AK1079),CONCATENATE(IF(AK1079=\"\",A1079+1,AK1079),\";101\"),IF(AK1079=\"\",O1079+1,AK1079)))","v":912707},null,6271]
[912707,6263,"完成和NPC的对话","",{"$nulls":5},131,{"$f":"IF(J1080=\"\",\"\",VLOOKUP(J1080,EventNPC!A:E,5,FALSE))","v":"馨儿"},6272,"云霞丹乃我宗秘制丹药能助人修为大进。",null,9127,7,"",null,null,{"$f":"IF(R1080=\"\",\"\",\"-\"&VLOOKUP(R1080,EventConditionConfig!A:C,3,FALSE)&IF(S1080=\"\",\"\",CHAR(10)&\"-\"&VLOOKUP(S1080,EventConditionConfig!A:C,3,FALSE)))","v":""},"","","","",null,null,"",null,null,"",{"$nulls":4},{"$f":"IF(A1080=\"\",\"\",IF(ISNUMBER(Y1080),2,IF(A1081=\"\",IF(OR(AK1080>0,VLOOKUP(O1080,EventConfig!A:C,3,FALSE)=4),3,\"\"),1)))","v":1},912708,null,6272]
[{"$f":"O1081*100+P1081","v":912708},{"$f":"IF(C1081=\"\",\"\",IF(C1081=C1080,B1080,MAX(AL1080,AL1079)+1))","v":6263},"完成和NPC的对话",{"$f":"IF(E1081=\"\",\"\",IF(E1081=E1080,D1080,MAX(AL1080,AL1079,B1081)+1))","v":""},{"$nulls":5},131,{"$f":"IF(J1081=\"\",\"\",VLOOKUP(J1081,EventNPC!A:E,5,FALSE))","v":"馨儿"},{"$f":"IF(M1081=\"\",\"\",MAX(AL1080,AL1079,B1081,D1081)+1)","v":6273},"要不你和我结伴前行，听说有散修在峡谷设伏，想抢前往拍卖会的宝物！我们结伴而行更安全，事成后我给一颗尝尝怎么样。哈哈。",null,9127,{"$f":"IF(O1081=\"\",\"\",IF(O1081=O1080,P1080+1,1))","v":8},{"$f":"_xlfn.TEXTJOIN(\";\",1,R1081:S1081)","v":""},null,null,{"$f":"IF(R1081=\"\",\"\",\"-\"&VLOOKUP(R1081,EventConditionConfig!A:C,3,FALSE)&IF(S1081=\"\",\"\",CHAR(10)&\"-\"&VLOOKUP(S1081,EventConditionConfig!A:C,3,FALSE)))","v":""},{"$f":"IF(Y1081=\"\",\"\",IF(ISTEXT(Y1081),1,2))","v":""},"","",{"$f":"IF(OR(ISNUMBER(Y1081),Y1081=\"\"),\"\",MAX(AL1080,AL1078,B1081,D1081,L1081)+1)","v":""},null,null,{"$f":"IF(OR(ISNUMBER(AB1081),AB1081=\"\"),\"\",X1081+1)","v":""},null,null,"",{"$nulls":4},{"$f":"IF(A1081=\"\",\"\",IF(ISNUMBER(Y1081),2,IF(A1082=\"\",IF(OR(AK1081>0,VLOOKUP(O1081,EventConfig!A:C,3,FALSE)=4),3,\"\"),1)))","v":1},{"$f":"IF(AI1081=\"\",\"\",CHOOSE(AI1081,IF(AK1081=\"\",A1081+1,AK1081),CONCATENATE(IF(AK1081=\"\",A1081+1,AK1081),\";101\"),IF(AK1081=\"\",O1081+1,AK1081)))","v":912709},null,6273]
[912709,6263,"完成和NPC的对话","",{"$nulls":5},100,{"$f":"IF(J1082=\"\",\"\",VLOOKUP(J1082,EventNPC!A:E,5,FALSE))","v":"玩家"},6274,"没问题，正好顺路。",null,9127,9,"",null,null,{"$f":"IF(R1082=\"\",\"\",\"-\"&VLOOKUP(R1082,EventConditionConfig!A:C,3,FALSE)&IF(S1082=\"\",\"\",CHAR(10)&\"-\"&VLOOKUP(S1082,EventConditionConfig!A:C,3,FALSE)))","v":""},"","","","",null,null,"",null,null,"",{"$nulls":4},{"$f":"IF(A1082=\"\",\"\",IF(ISNUMBER(Y1082),2,IF(A1083=\"\",IF(OR(AK1082>0,VLOOKUP(O1082,EventConfig!A:C,3,FALSE)=4),3,\"\"),1)))","v":""},"",null,6274]
[{"$nulls":21},"","",{"$nulls":14},""]
[{"$f":"O1084*100+P1084","v":912801},{"$f":"IF(C1084=\"\",\"\",IF(C1084=C1083,B1083,MAX(AL1083,AL1082)+1))","v":6275},"完成和NPC的对话",{"$f":"IF(E1084=\"\",\"\",IF(E1084=E1083,D1083,MAX(AL1083,AL1082,B1084)+1))","v":""},{"$nulls":5},138,{"$f":"IF(J1084=\"\",\"\",VLOOKUP(J1084,EventNPC!A:E,5,FALSE))","v":"散修"},{"$f":"IF(M1084=\"\",\"\",MAX(AL1083,AL1082,B1084,D1084)+1)","v":6276},"没问题，正好顺路。",null,9128,{"$f":"IF(O1084=\"\",\"\",IF(O1084=O1083,P1083+1,1))","v":1},{"$f":"_xlfn.TEXTJOIN(\";\",1,R1084:S1084)","v":""},null,null,{"$f":"IF(R1084=\"\",\"\",\"-\"&VLOOKUP(R1084,EventConditionConfig!A:C,3,FALSE)&IF(S1084=\"\",\"\",CHAR(10)&\"-\"&VLOOKUP(S1084,EventConditionConfig!A:C,3,FALSE)))","v":""},{"$f":"IF(Y1084=\"\",\"\",IF(ISTEXT(Y1084),1,2))","v":""},"","",{"$f":"IF(OR(ISNUMBER(Y1084),Y1084=\"\"),\"\",MAX(AL1083,AL1081,B1084,D1084,L1084)+1)","v":""},null,null,{"$f":"IF(OR(ISNUMBER(AB1084),AB1084=\"\"),\"\",X1084+1)","v":""},null,null,{"$f":"IF(OR(ISNUMBER(AE1084),AE1084=\"\"),\"\",AA1084+1)","v":""},{"$nulls":4},{"$f":"IF(A1084=\"\",\"\",IF(ISNUMBER(Y1084),2,IF(A1085=\"\",IF(OR(AK1084>0,VLOOKUP(O1084,EventConfig!A:C,3,FALSE)=4),3,\"\"),1)))","v":1},{"$f":"IF(AI1084=\"\",\"\",CHOOSE(AI1084,IF(AK1084=\"\",A1084+1,AK1084),CONCATENATE(IF(AK1084=\"\",A1084+1,AK1084),\";101\"),IF(AK1084=\"\",O1084+1,AK1084)))","v":912802},null,6276]
[912802,6275,"完成和NPC的对话","",{"$nulls":5},131,{"$f":"IF(J1085=\"\",\"\",VLOOKUP(J1085,EventNPC!A:E,5,FALSE))","v":"馨儿"},6277,"（大笑）：买路财？你们这群散修脑子冻坏了？敢拦我云隐宗的路！",null,9128,2,"",null,null,{"$f":"IF(R1085=\"\",\"\",\"-\"&VLOOKUP(R1085,EventConditionConfig!A:C,3,FALSE)&IF(S1085=\"\",\"\",CHAR(10)&\"-\"&VLOOKUP(S1085,EventConditionConfig!A:C,3,FALSE)))","v":""},"","","","",null,null,"",null,null,"",{"$nulls":4},{"$f":"IF(A1085=\"\",\"\",IF(ISNUMBER(Y1085),2,IF(A1086=\"\",IF(OR(AK1085>0,VLOOKUP(O1085,EventConfig!A:C,3,FALSE)=4),3,\"\"),1)))","v":1},912803,null,6277]
[{"$f":"O1086*100+P1086","v":912803},{"$f":"IF(C1086=\"\",\"\",IF(C1086=C1085,B1085,MAX(AL1085,AL1084)+1))","v":6275},"完成和NPC的对话",{"$f":"IF(E1086=\"\",\"\",IF(E1086=E1085,D1085,MAX(AL1085,AL1084,B1086)+1))","v":""},{"$nulls":5},138,{"$f":"IF(J1086=\"\",\"\",VLOOKUP(J1086,EventNPC!A:E,5,FALSE))","v":"散修"},{"$f":"IF(M1086=\"\",\"\",MAX(AL1085,AL1084,B1086,D1086)+1)","v":6278},"（不屑）：我管你什么宗，路过此地就必须留点东西。",null,9128,{"$f":"IF(O1086=\"\",\"\",IF(O1086=O1085,P1085+1,1))","v":3},{"$f":"_xlfn.TEXTJOIN(\";\",1,R1086:S1086)","v":""},null,null,{"$f":"IF(R1086=\"\",\"\",\"-\"&VLOOKUP(R1086,EventConditionConfig!A:C,3,FALSE)&IF(S1086=\"\",\"\",CHAR(10)&\"-\"&VLOOKUP(S1086,EventConditionConfig!A:C,3,FALSE)))","v":""},{"$f":"IF(Y1086=\"\",\"\",IF(ISTEXT(Y1086),1,2))","v":""},"","",{"$f":"IF(OR(ISNUMBER(Y1086),Y1086=\"\"),\"\",MAX(AL1085,AL1083,B1086,D1086,L1086)+1)","v":""},null,null,{"$f":"IF(OR(ISNUMBER(AB1086),AB1086=\"\"),\"\",X1086+1)","v":""},null,null,"",{"$nulls":4},{"$f":"IF(A1086=\"\",\"\",IF(ISNUMBER(Y1086),2,IF(A1087=\"\",IF(OR(AK1086>0,VLOOKUP(O1086,EventConfig!A:C,3,FALSE)=4),3,\"\"),1)))","v":1},{"$f":"IF(AI1086=\"\",\"\",CHOOSE(AI1086,IF(AK1086=\"\",A1086+1,AK1086),CONCATENATE(IF(AK1086=\"\",A1086+1,AK1086),\";101\"),IF(AK1086=\"\",O1086+1,AK1086)))","v":912804},null,6278]
[912804,6275,"完成和NPC的对话","",{"$nulls":5},131,{"$f":"IF(J1087=\"\",\"\",VLOOKUP(J1087,EventNPC!A:E,5,FALSE))","v":"馨儿"},6279,"那就没得商量了，{玩家名}道友我们上。",null,9128,4,"",null,null,{"$f":"IF(R1087=\"\",\"\",\"-\"&VLOOKUP(R1087,EventConditionConfig!A:C,3,FALSE)&IF(S1087=\"\",\"\",CHAR(10)&\"-\"&VLOOKUP(S1087,EventConditionConfig!A:C,3,FALSE)))","v":""},2,4012,"","",4012,null,"",null,null,"",{"$nulls":4},{"$f":"IF(A1087=\"\",\"\",IF(ISNUMBER(Y1087),2,IF(A1088=\"\",IF(OR(AK1087>0,VLOOKUP(O1087,EventConfig!A:C,3,FALSE)=4),3,\"\"),1)))","v":2},"912805;101",null,6279]
[{"$f":"O1088*100+P1088","v":912805},{"$f":"IF(C1088=\"\",\"\",IF(C1088=C1087,B1087,MAX(AL1087,AL1086)+1))","v":6275},"完成和NPC的对话",{"$f":"IF(E1088=\"\",\"\",IF(E1088=E1087,D1087,MAX(AL1087,AL1086,B1088)+1))","v":""},{"$nulls":5},131,{"$f":"IF(J1088=\"\",\"\",VLOOKUP(J1088,EventNPC!A:E,5,FALSE))","v":"馨儿"},{"$f":"IF(M1088=\"\",\"\",MAX(AL1087,AL1086,B1088,D1088)+1)","v":6280},"就这境界也敢来抢劫。",null,9128,{"$f":"IF(O1088=\"\",\"\",IF(O1088=O1087,P1087+1,1))","v":5},{"$f":"_xlfn.TEXTJOIN(\";\",1,R1088:S1088)","v":""},null,null,{"$f":"IF(R1088=\"\",\"\",\"-\"&VLOOKUP(R1088,EventConditionConfig!A:C,3,FALSE)&IF(S1088=\"\",\"\",CHAR(10)&\"-\"&VLOOKUP(S1088,EventConditionConfig!A:C,3,FALSE)))","v":""},{"$f":"IF(Y1088=\"\",\"\",IF(ISTEXT(Y1088),1,2))","v":""},"","",{"$f":"IF(OR(ISNUMBER(Y1088),Y1088=\"\"),\"\",MAX(AL1087,AL1085,B1088,D1088,L1088)+1)","v":""},null,null,{"$f":"IF(OR(ISNUMBER(AB1088),AB1088=\"\"),\"\",X1088+1)","v":""},null,null,"",{"$nulls":4},{"$f":"IF(A1088=\"\",\"\",IF(ISNUMBER(Y1088),2,IF(A1089=\"\",IF(OR(AK1088>0,VLOOKUP(O1088,EventConfig!A:C,3,FALSE)=4),3,\"\"),1)))","v":1},{"$f":"IF(AI1088=\"\",\"\",CHOOSE(AI1088,IF(AK1088=\"\",A1088+1,AK1088),CONCATENATE(IF(AK1088=\"\",A1088+1,AK1088),\";101\"),IF(AK1088=\"\",O1088+1,AK1088)))","v":912806},null,6280]
[{"$f":"O1089*100+P1089","v":912806},{"$f":"IF(C1089=\"\",\"\",IF(C1089=C1088,B1088,MAX(AL1088,AL1087)+1))","v":6275},"完成和NPC的对话",{"$f":"IF(E1089=\"\",\"\",IF(E1089=E1088,D1088,MAX(AL1088,AL1087,B1089)+1))","v":""},{"$nulls":5},100,{"$f":"IF(J1089=\"\",\"\",VLOOKUP(J1089,EventNPC!A:E,5,FALSE))","v":"玩家"},{"$f":"IF(M1089=\"\",\"\",MAX(AL1088,AL1087,B1089,D1089)+1)","v":6281},"还是多加小心，后面恐有高手坐阵。",null,9128,{"$f":"IF(O1089=\"\",\"\",IF(O1089=O1088,P1088+1,1))","v":6},{"$f":"_xlfn.TEXTJOIN(\";\",1,R1089:S1089)","v":""},null,null,{"$f":"IF(R1089=\"\",\"\",\"-\"&VLOOKUP(R1089,EventConditionConfig!A:C,3,FALSE)&IF(S1089=\"\",\"\",CHAR(10)&\"-\"&VLOOKUP(S1089,EventConditionConfig!A:C,3,FALSE)))","v":""},{"$f":"IF(Y1089=\"\",\"\",IF(ISTEXT(Y1089),1,2))","v":""},"","",{"$f":"IF(OR(ISNUMBER(Y1089),Y1089=\"\"),\"\",MAX(AL1088,AL1086,B1089,D1089,L1089)+1)","v":""},null,null,{"$f":"IF(OR(ISNUMBER(AB1089),AB1089=\"\"),\"\",X1089+1)","v":""},null,null,"",{"$nulls":4},{"$f":"IF(A1089=\"\",\"\",IF(ISNUMBER(Y1089),2,IF(A1090=\"\",IF(OR(AK1089>0,VLOOKUP(O1089,EventConfig!A:C,3,FALSE)=4),3,\"\"),1)))","v":1},{"$f":"IF(AI1089=\"\",\"\",CHOOSE(AI1089,IF(AK1089=\"\",A1089+1,AK1089),CONCATENATE(IF(AK1089=\"\",A1089+1,AK1089),\";101\"),IF(AK1089=\"\",O1089+1,AK1089)))","v":912807},null,6281]
[912807,6275,"完成和NPC的对话","",{"$nulls":5},131,{"$f":"IF(J1090=\"\",\"\",VLOOKUP(J1090,EventNPC!A:E,5,FALSE))","v":"馨儿"},6282,"好的，过了前面那座山峰应该就安全了",null,9128,7,"",null,null,{"$f":"IF(R1090=\"\",\"\",\"-\"&VLOOKUP(R1090,EventConditionConfig!A:C,3,FALSE)&IF(S1090=\"\",\"\",CHAR(10)&\"-\"&VLOOKUP(S1090,EventConditionConfig!A:C,3,FALSE)))","v":""},"","","","",null,null,"",null,null,"",{"$nulls":4},{"$f":"IF(A1090=\"\",\"\",IF(ISNUMBER(Y1090),2,IF(A1091=\"\",IF(OR(AK1090>0,VLOOKUP(O1090,EventConfig!A:C,3,FALSE)=4),3,\"\"),1)))","v":""},"",null,6282]
[{"$nulls":21},"","",{"$nulls":14},""]
[{"$f":"O1092*100+P1092","v":912901},{"$f":"IF(C1092=\"\",\"\",IF(C1092=C1091,B1091,MAX(AL1091,AL1090)+1))","v":6283},"完成和NPC的对话",{"$f":"IF(E1092=\"\",\"\",IF(E1092=E1091,D1091,MAX(AL1091,AL1090,B1092)+1))","v":""},{"$nulls":5},139,{"$f":"IF(J1092=\"\",\"\",VLOOKUP(J1092,EventNPC!A:E,5,FALSE))","v":"蒙面散修精英"},{"$f":"IF(M1092=\"\",\"\",MAX(AL1091,AL1090,B1092,D1092)+1)","v":6284},"今天真是一个不错的日子，各种宝贝送上门来哈哈。",null,9129,{"$f":"IF(O1092=\"\",\"\",IF(O1092=O1091,P1091+1,1))","v":1},{"$f":"_xlfn.TEXTJOIN(\";\",1,R1092:S1092)","v":""},null,null,{"$f":"IF(R1092=\"\",\"\",\"-\"&VLOOKUP(R1092,EventConditionConfig!A:C,3,FALSE)&IF(S1092=\"\",\"\",CHAR(10)&\"-\"&VLOOKUP(S1092,EventConditionConfig!A:C,3,FALSE)))","v":""},{"$f":"IF(Y1092=\"\",\"\",IF(ISTEXT(Y1092),1,2))","v":""},"","",{"$f":"IF(OR(ISNUMBER(Y1092),Y1092=\"\"),\"\",MAX(AL1091,AL1089,B1092,D1092,L1092)+1)","v":""},null,null,{"$f":"IF(OR(ISNUMBER(AB1092),AB1092=\"\"),\"\",X1092+1)","v":""},null,null,{"$f":"IF(OR(ISNUMBER(AE1092),AE1092=\"\"),\"\",AA1092+1)","v":""},{"$nulls":4},{"$f":"IF(A1092=\"\",\"\",IF(ISNUMBER(Y1092),2,IF(A1093=\"\",IF(OR(AK1092>0,VLOOKUP(O1092,EventConfig!A:C,3,FALSE)=4),3,\"\"),1)))","v":1},{"$f":"IF(AI1092=\"\",\"\",CHOOSE(AI1092,IF(AK1092=\"\",A1092+1,AK1092),CONCATENATE(IF(AK1092=\"\",A1092+1,AK1092),\";101\"),IF(AK1092=\"\",O1092+1,AK1092)))","v":912902},null,6284]
[{"$f":"O1093*100+P1093","v":912902},{"$f":"IF(C1093=\"\",\"\",IF(C1093=C1092,B1092,MAX(AL1092,AL1091)+1))","v":6283},"完成和NPC的对话",{"$f":"IF(E1093=\"\",\"\",IF(E1093=E1092,D1092,MAX(AL1092,AL1091,B1093)+1))","v":""},{"$nulls":5},131,{"$f":"IF(J1093=\"\",\"\",VLOOKUP(J1093,EventNPC!A:E,5,FALSE))","v":"馨儿"},{"$f":"IF(M1093=\"\",\"\",MAX(AL1092,AL1091,B1093,D1093)+1)","v":6285},"宝贝？什么宝贝拿来给我瞧瞧。",null,9129,{"$f":"IF(O1093=\"\",\"\",IF(O1093=O1092,P1092+1,1))","v":2},{"$f":"_xlfn.TEXTJOIN(\";\",1,R1093:S1093)","v":""},null,null,{"$f":"IF(R1093=\"\",\"\",\"-\"&VLOOKUP(R1093,EventConditionConfig!A:C,3,FALSE)&IF(S1093=\"\",\"\",CHAR(10)&\"-\"&VLOOKUP(S1093,EventConditionConfig!A:C,3,FALSE)))","v":""},{"$f":"IF(Y1093=\"\",\"\",IF(ISTEXT(Y1093),1,2))","v":""},"","",{"$f":"IF(OR(ISNUMBER(Y1093),Y1093=\"\"),\"\",MAX(AL1092,AL1090,B1093,D1093,L1093)+1)","v":""},null,null,{"$f":"IF(OR(ISNUMBER(AB1093),AB1093=\"\"),\"\",X1093+1)","v":""},null,null,"",{"$nulls":4},{"$f":"IF(A1093=\"\",\"\",IF(ISNUMBER(Y1093),2,IF(A1094=\"\",IF(OR(AK1093>0,VLOOKUP(O1093,EventConfig!A:C,3,FALSE)=4),3,\"\"),1)))","v":1},{"$f":"IF(AI1093=\"\",\"\",CHOOSE(AI1093,IF(AK1093=\"\",A1093+1,AK1093),CONCATENATE(IF(AK1093=\"\",A1093+1,AK1093),\";101\"),IF(AK1093=\"\",O1093+1,AK1093)))","v":912903},null,6285]
[912903,6283,"完成和NPC的对话","",{"$nulls":5},139,{"$f":"IF(J1094=\"\",\"\",VLOOKUP(J1094,EventNPC!A:E,5,FALSE))","v":"蒙面散修精英"},6286,"（奸笑）：跟我走，我让你瞧个够。",null,9129,3,"",null,null,{"$f":"IF(R1094=\"\",\"\",\"-\"&VLOOKUP(R1094,EventConditionConfig!A:C,3,FALSE)&IF(S1094=\"\",\"\",CHAR(10)&\"-\"&VLOOKUP(S1094,EventConditionConfig!A:C,3,FALSE)))","v":""},"","","","",null,null,"",null,null,"",{"$nulls":4},{"$f":"IF(A1094=\"\",\"\",IF(ISNUMBER(Y1094),2,IF(A1095=\"\",IF(OR(AK1094>0,VLOOKUP(O1094,EventConfig!A:C,3,FALSE)=4),3,\"\"),1)))","v":1},912904,null,6286]
[{"$f":"O1095*100+P1095","v":912904},{"$f":"IF(C1095=\"\",\"\",IF(C1095=C1094,B1094,MAX(AL1094,AL1093)+1))","v":6283},"完成和NPC的对话",{"$f":"IF(E1095=\"\",\"\",IF(E1095=E1094,D1094,MAX(AL1094,AL1093,B1095)+1))","v":""},{"$nulls":5},140,{"$f":"IF(J1095=\"\",\"\",VLOOKUP(J1095,EventNPC!A:E,5,FALSE))","v":"楚云缪"},{"$f":"IF(M1095=\"\",\"\",MAX(AL1094,AL1093,B1095,D1095)+1)","v":6287},"（有点受伤）：二位道友小心，这蒙面者实力可不一般。",null,9129,{"$f":"IF(O1095=\"\",\"\",IF(O1095=O1094,P1094+1,1))","v":4},{"$f":"_xlfn.TEXTJOIN(\";\",1,R1095:S1095)","v":""},null,null,{"$f":"IF(R1095=\"\",\"\",\"-\"&VLOOKUP(R1095,EventConditionConfig!A:C,3,FALSE)&IF(S1095=\"\",\"\",CHAR(10)&\"-\"&VLOOKUP(S1095,EventConditionConfig!A:C,3,FALSE)))","v":""},{"$f":"IF(Y1095=\"\",\"\",IF(ISTEXT(Y1095),1,2))","v":""},"","",{"$f":"IF(OR(ISNUMBER(Y1095),Y1095=\"\"),\"\",MAX(AL1094,AL1092,B1095,D1095,L1095)+1)","v":""},null,null,{"$f":"IF(OR(ISNUMBER(AB1095),AB1095=\"\"),\"\",X1095+1)","v":""},null,null,"",{"$nulls":4},{"$f":"IF(A1095=\"\",\"\",IF(ISNUMBER(Y1095),2,IF(A1096=\"\",IF(OR(AK1095>0,VLOOKUP(O1095,EventConfig!A:C,3,FALSE)=4),3,\"\"),1)))","v":1},{"$f":"IF(AI1095=\"\",\"\",CHOOSE(AI1095,IF(AK1095=\"\",A1095+1,AK1095),CONCATENATE(IF(AK1095=\"\",A1095+1,AK1095),\";101\"),IF(AK1095=\"\",O1095+1,AK1095)))","v":912905},null,6287]
[912905,6283,"完成和NPC的对话","",{"$nulls":5},131,{"$f":"IF(J1096=\"\",\"\",VLOOKUP(J1096,EventNPC!A:E,5,FALSE))","v":"馨儿"},6288,"这位道友放心，有我两在今天就是他最后一天站着说话了。",null,9129,5,"",null,null,{"$f":"IF(R1096=\"\",\"\",\"-\"&VLOOKUP(R1096,EventConditionConfig!A:C,3,FALSE)&IF(S1096=\"\",\"\",CHAR(10)&\"-\"&VLOOKUP(S1096,EventConditionConfig!A:C,3,FALSE)))","v":""},"","","","",null,null,"",null,null,"",{"$nulls":4},{"$f":"IF(A1096=\"\",\"\",IF(ISNUMBER(Y1096),2,IF(A1097=\"\",IF(OR(AK1096>0,VLOOKUP(O1096,EventConfig!A:C,3,FALSE)=4),3,\"\"),1)))","v":1},912906,null,6288]
[{"$f":"O1097*100+P1097","v":912906},{"$f":"IF(C1097=\"\",\"\",IF(C1097=C1096,B1096,MAX(AL1096,AL1095)+1))","v":6283},"完成和NPC的对话",{"$f":"IF(E1097=\"\",\"\",IF(E1097=E1096,D1096,MAX(AL1096,AL1095,B1097)+1))","v":""},{"$nulls":5},138,{"$f":"IF(J1097=\"\",\"\",VLOOKUP(J1097,EventNPC!A:E,5,FALSE))","v":"散修"},{"$f":"IF(M1097=\"\",\"\",MAX(AL1096,AL1095,B1097,D1097)+1)","v":6289},"云隐宗的弟子，胆子不小！",null,9129,{"$f":"IF(O1097=\"\",\"\",IF(O1097=O1096,P1096+1,1))","v":6},{"$f":"_xlfn.TEXTJOIN(\";\",1,R1097:S1097)","v":""},null,null,{"$f":"IF(R1097=\"\",\"\",\"-\"&VLOOKUP(R1097,EventConditionConfig!A:C,3,FALSE)&IF(S1097=\"\",\"\",CHAR(10)&\"-\"&VLOOKUP(S1097,EventConditionConfig!A:C,3,FALSE)))","v":""},{"$f":"IF(Y1097=\"\",\"\",IF(ISTEXT(Y1097),1,2))","v":""},"","",{"$f":"IF(OR(ISNUMBER(Y1097),Y1097=\"\"),\"\",MAX(AL1096,AL1094,B1097,D1097,L1097)+1)","v":""},null,null,{"$f":"IF(OR(ISNUMBER(AB1097),AB1097=\"\"),\"\",X1097+1)","v":""},null,null,"",{"$nulls":4},{"$f":"IF(A1097=\"\",\"\",IF(ISNUMBER(Y1097),2,IF(A1098=\"\",IF(OR(AK1097>0,VLOOKUP(O1097,EventConfig!A:C,3,FALSE)=4),3,\"\"),1)))","v":1},{"$f":"IF(AI1097=\"\",\"\",CHOOSE(AI1097,IF(AK1097=\"\",A1097+1,AK1097),CONCATENATE(IF(AK1097=\"\",A1097+1,AK1097),\";101\"),IF(AK1097=\"\",O1097+1,AK1097)))","v":912907},null,6289]
[912907,6283,"完成和NPC的对话","",{"$nulls":5},131,{"$f":"IF(J1098=\"\",\"\",VLOOKUP(J1098,EventNPC!A:E,5,FALSE))","v":"馨儿"},6290,"{玩家名}这大个就交给你了，我来结阵。",null,9129,7,"",null,null,{"$f":"IF(R1098=\"\",\"\",\"-\"&VLOOKUP(R1098,EventConditionConfig!A:C,3,FALSE)&IF(S1098=\"\",\"\",CHAR(10)&\"-\"&VLOOKUP(S1098,EventConditionConfig!A:C,3,FALSE)))","v":""},"","","","",null,null,"",null,null,"",{"$nulls":4},{"$f":"IF(A1098=\"\",\"\",IF(ISNUMBER(Y1098),2,IF(A1099=\"\",IF(OR(AK1098>0,VLOOKUP(O1098,EventConfig!A:C,3,FALSE)=4),3,\"\"),1)))","v":1},912908,null,6290]
[{"$f":"O1099*100+P1099","v":912908},{"$f":"IF(C1099=\"\",\"\",IF(C1099=C1098,B1098,MAX(AL1098,AL1097)+1))","v":6283},"完成和NPC的对话",{"$f":"IF(E1099=\"\",\"\",IF(E1099=E1098,D1098,MAX(AL1098,AL1097,B1099)+1))","v":""},{"$nulls":5},138,{"$f":"IF(J1099=\"\",\"\",VLOOKUP(J1099,EventNPC!A:E,5,FALSE))","v":"散修"},{"$f":"IF(M1099=\"\",\"\",MAX(AL1098,AL1097,B1099,D1099)+1)","v":6291},"看我撕了你们！",null,9129,{"$f":"IF(O1099=\"\",\"\",IF(O1099=O1098,P1098+1,1))","v":8},{"$f":"_xlfn.TEXTJOIN(\";\",1,R1099:S1099)","v":""},null,null,{"$f":"IF(R1099=\"\",\"\",\"-\"&VLOOKUP(R1099,EventConditionConfig!A:C,3,FALSE)&IF(S1099=\"\",\"\",CHAR(10)&\"-\"&VLOOKUP(S1099,EventConditionConfig!A:C,3,FALSE)))","v":""},{"$f":"IF(Y1099=\"\",\"\",IF(ISTEXT(Y1099),1,2))","v":2},4013,"",{"$f":"IF(OR(ISNUMBER(Y1099),Y1099=\"\"),\"\",MAX(AL1098,AL1096,B1099,D1099,L1099)+1)","v":""},4013,null,{"$f":"IF(OR(ISNUMBER(AB1099),AB1099=\"\"),\"\",X1099+1)","v":""},null,null,"",{"$nulls":4},{"$f":"IF(A1099=\"\",\"\",IF(ISNUMBER(Y1099),2,IF(A1100=\"\",IF(OR(AK1099>0,VLOOKUP(O1099,EventConfig!A:C,3,FALSE)=4),3,\"\"),1)))","v":2},{"$f":"IF(AI1099=\"\",\"\",CHOOSE(AI1099,IF(AK1099=\"\",A1099+1,AK1099),CONCATENATE(IF(AK1099=\"\",A1099+1,AK1099),\";101\"),IF(AK1099=\"\",O1099+1,AK1099)))","v":"912909;101"},null,6291]
[912909,6283,"完成和NPC的对话","",{"$nulls":5},131,{"$f":"IF(J1100=\"\",\"\",VLOOKUP(J1100,EventNPC!A:E,5,FALSE))","v":"馨儿"},6292,"这家伙是比上次的难缠一点，还好有你在。不然这次拍卖会我可能还真到不了。",null,9129,9,"",null,null,{"$f":"IF(R1100=\"\",\"\",\"-\"&VLOOKUP(R1100,EventConditionConfig!A:C,3,FALSE)&IF(S1100=\"\",\"\",CHAR(10)&\"-\"&VLOOKUP(S1100,EventConditionConfig!A:C,3,FALSE)))","v":""},"","","","",null,null,"",null,null,"",{"$nulls":4},{"$f":"IF(A1100=\"\",\"\",IF(ISNUMBER(Y1100),2,IF(A1101=\"\",IF(OR(AK1100>0,VLOOKUP(O1100,EventConfig!A:C,3,FALSE)=4),3,\"\"),1)))","v":1},912910,null,6292]
[912910,6283,"完成和NPC的对话","",{"$nulls":5},140,{"$f":"IF(J1101=\"\",\"\",VLOOKUP(J1101,EventNPC!A:E,5,FALSE))","v":"楚云缪"},6293,"二位道友真是好身手，在下楚云缪一名散修。",null,9129,10,"",null,null,{"$f":"IF(R1101=\"\",\"\",\"-\"&VLOOKUP(R1101,EventConditionConfig!A:C,3,FALSE)&IF(S1101=\"\",\"\",CHAR(10)&\"-\"&VLOOKUP(S1101,EventConditionConfig!A:C,3,FALSE)))","v":""},"","","","",null,null,"",null,null,"",{"$nulls":4},{"$f":"IF(A1101=\"\",\"\",IF(ISNUMBER(Y1101),2,IF(A1102=\"\",IF(OR(AK1101>0,VLOOKUP(O1101,EventConfig!A:C,3,FALSE)=4),3,\"\"),1)))","v":1},912911,null,6293]
[{"$f":"O1102*100+P1102","v":912911},{"$f":"IF(C1102=\"\",\"\",IF(C1102=C1101,B1101,MAX(AL1101,AL1100)+1))","v":6283},"完成和NPC的对话",{"$f":"IF(E1102=\"\",\"\",IF(E1102=E1101,D1101,MAX(AL1101,AL1100,B1102)+1))","v":""},{"$nulls":5},100,{"$f":"IF(J1102=\"\",\"\",VLOOKUP(J1102,EventNPC!A:E,5,FALSE))","v":"玩家"},{"$f":"IF(M1102=\"\",\"\",MAX(AL1101,AL1100,B1102,D1102)+1)","v":6294},"在下{玩家名}。这位是馨儿，楚道友伤势怎么样。",null,9129,{"$f":"IF(O1102=\"\",\"\",IF(O1102=O1101,P1101+1,1))","v":11},{"$f":"_xlfn.TEXTJOIN(\";\",1,R1102:S1102)","v":""},null,null,{"$f":"IF(R1102=\"\",\"\",\"-\"&VLOOKUP(R1102,EventConditionConfig!A:C,3,FALSE)&IF(S1102=\"\",\"\",CHAR(10)&\"-\"&VLOOKUP(S1102,EventConditionConfig!A:C,3,FALSE)))","v":""},{"$f":"IF(Y1102=\"\",\"\",IF(ISTEXT(Y1102),1,2))","v":""},{"$f":"IF(U1102=1,_xlfn.TEXTJOIN(\";\",1,IF(Z1102=\"\",A1102+1,Z1102),IF(AND(AA1102<>\"\",AC1102=\"\"),A1102+1,AC1102),IF(AND(AD1102<>\"\",AF1102=\"\"),A1102+1,AF1102)),IF(U1102=2,Y1102,\"\"))","v":""},{"$f":"_xlfn.TEXTJOIN(\";\",1,X1102,AA1102,AD1102)","v":""},{"$f":"IF(OR(ISNUMBER(Y1102),Y1102=\"\"),\"\",MAX(AL1101,AL1099,B1102,D1102,L1102)+1)","v":""},null,null,{"$f":"IF(OR(ISNUMBER(AB1102),AB1102=\"\"),\"\",X1102+1)","v":""},null,null,"",{"$nulls":4},{"$f":"IF(A1102=\"\",\"\",IF(ISNUMBER(Y1102),2,IF(A1103=\"\",IF(OR(AK1102>0,VLOOKUP(O1102,EventConfig!A:C,3,FALSE)=4),3,\"\"),1)))","v":1},{"$f":"IF(AI1102=\"\",\"\",CHOOSE(AI1102,IF(AK1102=\"\",A1102+1,AK1102),CONCATENATE(IF(AK1102=\"\",A1102+1,AK1102),\";101\"),IF(AK1102=\"\",O1102+1,AK1102)))","v":912912},null,6294]
[912912,6283,"完成和NPC的对话","",{"$nulls":5},140,{"$f":"IF(J1103=\"\",\"\",VLOOKUP(J1103,EventNPC!A:E,5,FALSE))","v":"楚云缪"},6295,"无碍，二位道友可是前往尧都主城参加拍卖会？不知可否一路也好有个照应。",null,9129,12,"",null,null,{"$f":"IF(R1103=\"\",\"\",\"-\"&VLOOKUP(R1103,EventConditionConfig!A:C,3,FALSE)&IF(S1103=\"\",\"\",CHAR(10)&\"-\"&VLOOKUP(S1103,EventConditionConfig!A:C,3,FALSE)))","v":""},"","","","",null,null,"",null,null,"",{"$nulls":4},{"$f":"IF(A1103=\"\",\"\",IF(ISNUMBER(Y1103),2,IF(A1104=\"\",IF(OR(AK1103>0,VLOOKUP(O1103,EventConfig!A:C,3,FALSE)=4),3,\"\"),1)))","v":1},912913,null,6295]
[{"$f":"O1104*100+P1104","v":912913},{"$f":"IF(C1104=\"\",\"\",IF(C1104=C1103,B1103,MAX(AL1103,AL1102)+1))","v":6283},"完成和NPC的对话",{"$f":"IF(E1104=\"\",\"\",IF(E1104=E1103,D1103,MAX(AL1103,AL1102,B1104)+1))","v":""},{"$nulls":5},100,{"$f":"IF(J1104=\"\",\"\",VLOOKUP(J1104,EventNPC!A:E,5,FALSE))","v":"玩家"},{"$f":"IF(M1104=\"\",\"\",MAX(AL1103,AL1102,B1104,D1104)+1)","v":6296},"我也没有什么值钱的东西拿去拍卖，再加上我还有其他事需要做，拍卖会我就不参加了。",null,9129,{"$f":"IF(O1104=\"\",\"\",IF(O1104=O1103,P1103+1,1))","v":13},{"$f":"_xlfn.TEXTJOIN(\";\",1,R1104:S1104)","v":""},null,null,{"$f":"IF(R1104=\"\",\"\",\"-\"&VLOOKUP(R1104,EventConditionConfig!A:C,3,FALSE)&IF(S1104=\"\",\"\",CHAR(10)&\"-\"&VLOOKUP(S1104,EventConditionConfig!A:C,3,FALSE)))","v":""},{"$f":"IF(Y1104=\"\",\"\",IF(ISTEXT(Y1104),1,2))","v":""},"","",{"$f":"IF(OR(ISNUMBER(Y1104),Y1104=\"\"),\"\",MAX(AL1103,AL1101,B1104,D1104,L1104)+1)","v":""},null,null,{"$f":"IF(OR(ISNUMBER(AB1104),AB1104=\"\"),\"\",X1104+1)","v":""},null,null,"",{"$nulls":4},{"$f":"IF(A1104=\"\",\"\",IF(ISNUMBER(Y1104),2,IF(A1105=\"\",IF(OR(AK1104>0,VLOOKUP(O1104,EventConfig!A:C,3,FALSE)=4),3,\"\"),1)))","v":1},{"$f":"IF(AI1104=\"\",\"\",CHOOSE(AI1104,IF(AK1104=\"\",A1104+1,AK1104),CONCATENATE(IF(AK1104=\"\",A1104+1,AK1104),\";101\"),IF(AK1104=\"\",O1104+1,AK1104)))","v":912914},null,6296]
[{"$f":"O1105*100+P1105","v":912914},{"$f":"IF(C1105=\"\",\"\",IF(C1105=C1104,B1104,MAX(AL1104,AL1103)+1))","v":6283},"完成和NPC的对话",{"$f":"IF(E1105=\"\",\"\",IF(E1105=E1104,D1104,MAX(AL1104,AL1103,B1105)+1))","v":""},{"$nulls":5},131,{"$f":"IF(J1105=\"\",\"\",VLOOKUP(J1105,EventNPC!A:E,5,FALSE))","v":"馨儿"},{"$f":"IF(M1105=\"\",\"\",MAX(AL1104,AL1103,B1105,D1105)+1)","v":6297},"楚道友是吧，我要去拍卖会，咱们一起。",null,9129,{"$f":"IF(O1105=\"\",\"\",IF(O1105=O1104,P1104+1,1))","v":14},{"$f":"_xlfn.TEXTJOIN(\";\",1,R1105:S1105)","v":""},null,null,{"$f":"IF(R1105=\"\",\"\",\"-\"&VLOOKUP(R1105,EventConditionConfig!A:C,3,FALSE)&IF(S1105=\"\",\"\",CHAR(10)&\"-\"&VLOOKUP(S1105,EventConditionConfig!A:C,3,FALSE)))","v":""},{"$f":"IF(Y1105=\"\",\"\",IF(ISTEXT(Y1105),1,2))","v":""},"","",{"$f":"IF(OR(ISNUMBER(Y1105),Y1105=\"\"),\"\",MAX(AL1104,AL1102,B1105,D1105,L1105)+1)","v":""},null,null,{"$f":"IF(OR(ISNUMBER(AB1105),AB1105=\"\"),\"\",X1105+1)","v":""},null,null,"",{"$nulls":4},{"$f":"IF(A1105=\"\",\"\",IF(ISNUMBER(Y1105),2,IF(A1106=\"\",IF(OR(AK1105>0,VLOOKUP(O1105,EventConfig!A:C,3,FALSE)=4),3,\"\"),1)))","v":1},{"$f":"IF(AI1105=\"\",\"\",CHOOSE(AI1105,IF(AK1105=\"\",A1105+1,AK1105),CONCATENATE(IF(AK1105=\"\",A1105+1,AK1105),\";101\"),IF(AK1105=\"\",O1105+1,AK1105)))","v":912915},null,6297]
[{"$f":"O1106*100+P1106","v":912915},{"$f":"IF(C1106=\"\",\"\",IF(C1106=C1105,B1105,MAX(AL1105,AL1104)+1))","v":6283},"完成和NPC的对话",{"$f":"IF(E1106=\"\",\"\",IF(E1106=E1105,D1105,MAX(AL1105,AL1104,B1106)+1))","v":""},{"$nulls":5},131,{"$f":"IF(J1106=\"\",\"\",VLOOKUP(J1106,EventNPC!A:E,5,FALSE))","v":"馨儿"},{"$f":"IF(M1106=\"\",\"\",MAX(AL1105,AL1104,B1106,D1106)+1)","v":6298},"{玩家名}道友，那我和楚道友就先行一步告辞。",null,9129,{"$f":"IF(O1106=\"\",\"\",IF(O1106=O1105,P1105+1,1))","v":15},{"$f":"_xlfn.TEXTJOIN(\";\",1,R1106:S1106)","v":""},null,null,{"$f":"IF(R1106=\"\",\"\",\"-\"&VLOOKUP(R1106,EventConditionConfig!A:C,3,FALSE)&IF(S1106=\"\",\"\",CHAR(10)&\"-\"&VLOOKUP(S1106,EventConditionConfig!A:C,3,FALSE)))","v":""},{"$f":"IF(Y1106=\"\",\"\",IF(ISTEXT(Y1106),1,2))","v":""},"","",{"$f":"IF(OR(ISNUMBER(Y1106),Y1106=\"\"),\"\",MAX(AL1105,AL1103,B1106,D1106,L1106)+1)","v":""},null,null,{"$f":"IF(OR(ISNUMBER(AB1106),AB1106=\"\"),\"\",X1106+1)","v":""},null,null,"",{"$nulls":4},{"$f":"IF(A1106=\"\",\"\",IF(ISNUMBER(Y1106),2,IF(A1107=\"\",IF(OR(AK1106>0,VLOOKUP(O1106,EventConfig!A:C,3,FALSE)=4),3,\"\"),1)))","v":""},{"$f":"IF(AI1106=\"\",\"\",CHOOSE(AI1106,IF(AK1106=\"\",A1106+1,AK1106),CONCATENATE(IF(AK1106=\"\",A1106+1,AK1106),\";101\"),IF(AK1106=\"\",O1106+1,AK1106)))","v":""},null,6298]
[{"$nulls":21},"","",{"$nulls":14},""]
[{"$f":"O1108*100+P1108","v":913001},{"$f":"IF(C1108=\"\",\"\",IF(C1108=C1107,B1107,MAX(AL1107,AL1106)+1))","v":6299},"完成和NPC的对话",{"$f":"IF(E1108=\"\",\"\",IF(E1108=E1107,D1107,MAX(AL1107,AL1106,B1108)+1))","v":""},{"$nulls":5},140,{"$f":"IF(J1108=\"\",\"\",VLOOKUP(J1108,EventNPC!A:E,5,FALSE))","v":"楚云缪"},{"$f":"IF(M1108=\"\",\"\",MAX(AL1107,AL1106,B1108,D1108)+1)","v":6300},"（受伤）：{玩家名}道友！",null,9130,{"$f":"IF(O1108=\"\",\"\",IF(O1108=O1107,P1107+1,1))","v":1},{"$f":"_xlfn.TEXTJOIN(\";\",1,R1108:S1108)","v":""},null,null,{"$f":"IF(R1108=\"\",\"\",\"-\"&VLOOKUP(R1108,EventConditionConfig!A:C,3,FALSE)&IF(S1108=\"\",\"\",CHAR(10)&\"-\"&VLOOKUP(S1108,EventConditionConfig!A:C,3,FALSE)))","v":""},{"$f":"IF(Y1108=\"\",\"\",IF(ISTEXT(Y1108),1,2))","v":""},"","",{"$f":"IF(OR(ISNUMBER(Y1108),Y1108=\"\"),\"\",MAX(AL1107,AL1105,B1108,D1108,L1108)+1)","v":""},null,null,{"$f":"IF(OR(ISNUMBER(AB1108),AB1108=\"\"),\"\",X1108+1)","v":""},null,null,{"$f":"IF(OR(ISNUMBER(AE1108),AE1108=\"\"),\"\",AA1108+1)","v":""},{"$nulls":4},{"$f":"IF(A1108=\"\",\"\",IF(ISNUMBER(Y1108),2,IF(A1109=\"\",IF(OR(AK1108>0,VLOOKUP(O1108,EventConfig!A:C,3,FALSE)=4),3,\"\"),1)))","v":1},{"$f":"IF(AI1108=\"\",\"\",CHOOSE(AI1108,IF(AK1108=\"\",A1108+1,AK1108),CONCATENATE(IF(AK1108=\"\",A1108+1,AK1108),\";101\"),IF(AK1108=\"\",O1108+1,AK1108)))","v":913002},null,6300]
[{"$f":"O1109*100+P1109","v":913002},{"$f":"IF(C1109=\"\",\"\",IF(C1109=C1108,B1108,MAX(AL1108,AL1107)+1))","v":6299},"完成和NPC的对话",{"$f":"IF(E1109=\"\",\"\",IF(E1109=E1108,D1108,MAX(AL1108,AL1107,B1109)+1))","v":""},{"$nulls":5},100,{"$f":"IF(J1109=\"\",\"\",VLOOKUP(J1109,EventNPC!A:E,5,FALSE))","v":"玩家"},{"$f":"IF(M1109=\"\",\"\",MAX(AL1108,AL1107,B1109,D1109)+1)","v":6301},"楚道友，你这是怎么了？",null,9130,{"$f":"IF(O1109=\"\",\"\",IF(O1109=O1108,P1108+1,1))","v":2},{"$f":"_xlfn.TEXTJOIN(\";\",1,R1109:S1109)","v":""},null,null,{"$f":"IF(R1109=\"\",\"\",\"-\"&VLOOKUP(R1109,EventConditionConfig!A:C,3,FALSE)&IF(S1109=\"\",\"\",CHAR(10)&\"-\"&VLOOKUP(S1109,EventConditionConfig!A:C,3,FALSE)))","v":""},{"$f":"IF(Y1109=\"\",\"\",IF(ISTEXT(Y1109),1,2))","v":""},"","",{"$f":"IF(OR(ISNUMBER(Y1109),Y1109=\"\"),\"\",MAX(AL1108,AL1106,B1109,D1109,L1109)+1)","v":""},null,null,{"$f":"IF(OR(ISNUMBER(AB1109),AB1109=\"\"),\"\",X1109+1)","v":""},null,null,"",{"$nulls":4},{"$f":"IF(A1109=\"\",\"\",IF(ISNUMBER(Y1109),2,IF(A1110=\"\",IF(OR(AK1109>0,VLOOKUP(O1109,EventConfig!A:C,3,FALSE)=4),3,\"\"),1)))","v":1},{"$f":"IF(AI1109=\"\",\"\",CHOOSE(AI1109,IF(AK1109=\"\",A1109+1,AK1109),CONCATENATE(IF(AK1109=\"\",A1109+1,AK1109),\";101\"),IF(AK1109=\"\",O1109+1,AK1109)))","v":913003},null,6301]
[913003,6299,"完成和NPC的对话","",{"$nulls":5},140,{"$f":"IF(J1110=\"\",\"\",VLOOKUP(J1110,EventNPC!A:E,5,FALSE))","v":"楚云缪"},6302,"说来话长，我和馨儿姑凉刚进入城中就被以男子从背后偷袭，我的碧云佩被抢了，此物本要送往天宝阁拍卖的。馨儿姑娘以前去追击那么男子去了。",null,9130,3,"",null,null,{"$f":"IF(R1110=\"\",\"\",\"-\"&VLOOKUP(R1110,EventConditionConfig!A:C,3,FALSE)&IF(S1110=\"\",\"\",CHAR(10)&\"-\"&VLOOKUP(S1110,EventConditionConfig!A:C,3,FALSE)))","v":""},"","","","",null,null,"",null,null,"",{"$nulls":4},{"$f":"IF(A1110=\"\",\"\",IF(ISNUMBER(Y1110),2,IF(A1111=\"\",IF(OR(AK1110>0,VLOOKUP(O1110,EventConfig!A:C,3,FALSE)=4),3,\"\"),1)))","v":1},913004,null,6302]
[{"$f":"O1111*100+P1111","v":913004},{"$f":"IF(C1111=\"\",\"\",IF(C1111=C1110,B1110,MAX(AL1110,AL1109)+1))","v":6299},"完成和NPC的对话",{"$f":"IF(E1111=\"\",\"\",IF(E1111=E1110,D1110,MAX(AL1110,AL1109,B1111)+1))","v":""},{"$nulls":5},100,{"$f":"IF(J1111=\"\",\"\",VLOOKUP(J1111,EventNPC!A:E,5,FALSE))","v":"玩家"},{"$f":"IF(M1111=\"\",\"\",MAX(AL1110,AL1109,B1111,D1111)+1)","v":6303},"城中也能发生此事。馨儿是往什么方向去了？",null,9130,{"$f":"IF(O1111=\"\",\"\",IF(O1111=O1110,P1110+1,1))","v":4},{"$f":"_xlfn.TEXTJOIN(\";\",1,R1111:S1111)","v":""},null,null,{"$f":"IF(R1111=\"\",\"\",\"-\"&VLOOKUP(R1111,EventConditionConfig!A:C,3,FALSE)&IF(S1111=\"\",\"\",CHAR(10)&\"-\"&VLOOKUP(S1111,EventConditionConfig!A:C,3,FALSE)))","v":""},{"$f":"IF(Y1111=\"\",\"\",IF(ISTEXT(Y1111),1,2))","v":""},"","",{"$f":"IF(OR(ISNUMBER(Y1111),Y1111=\"\"),\"\",MAX(AL1110,AL1108,B1111,D1111,L1111)+1)","v":""},null,null,{"$f":"IF(OR(ISNUMBER(AB1111),AB1111=\"\"),\"\",X1111+1)","v":""},null,null,"",{"$nulls":4},{"$f":"IF(A1111=\"\",\"\",IF(ISNUMBER(Y1111),2,IF(A1112=\"\",IF(OR(AK1111>0,VLOOKUP(O1111,EventConfig!A:C,3,FALSE)=4),3,\"\"),1)))","v":1},{"$f":"IF(AI1111=\"\",\"\",CHOOSE(AI1111,IF(AK1111=\"\",A1111+1,AK1111),CONCATENATE(IF(AK1111=\"\",A1111+1,AK1111),\";101\"),IF(AK1111=\"\",O1111+1,AK1111)))","v":913005},null,6303]
[913005,6299,"完成和NPC的对话","",{"$nulls":5},140,{"$f":"IF(J1112=\"\",\"\",VLOOKUP(J1112,EventNPC!A:E,5,FALSE))","v":"楚云缪"},6304,"东南方向，我看偷袭之人好像还有同伴，我担心馨儿不敌。",null,9130,5,"",null,null,{"$f":"IF(R1112=\"\",\"\",\"-\"&VLOOKUP(R1112,EventConditionConfig!A:C,3,FALSE)&IF(S1112=\"\",\"\",CHAR(10)&\"-\"&VLOOKUP(S1112,EventConditionConfig!A:C,3,FALSE)))","v":""},"","","","",null,null,"",null,null,"",{"$nulls":4},{"$f":"IF(A1112=\"\",\"\",IF(ISNUMBER(Y1112),2,IF(A1113=\"\",IF(OR(AK1112>0,VLOOKUP(O1112,EventConfig!A:C,3,FALSE)=4),3,\"\"),1)))","v":1},913006,null,6304]
[{"$f":"O1113*100+P1113","v":913006},{"$f":"IF(C1113=\"\",\"\",IF(C1113=C1112,B1112,MAX(AL1112,AL1111)+1))","v":6299},"完成和NPC的对话",{"$f":"IF(E1113=\"\",\"\",IF(E1113=E1112,D1112,MAX(AL1112,AL1111,B1113)+1))","v":""},{"$nulls":5},100,{"$f":"IF(J1113=\"\",\"\",VLOOKUP(J1113,EventNPC!A:E,5,FALSE))","v":"玩家"},{"$f":"IF(M1113=\"\",\"\",MAX(AL1112,AL1111,B1113,D1113)+1)","v":6305},"好，你先在此疗伤，我速去看看。",null,9130,{"$f":"IF(O1113=\"\",\"\",IF(O1113=O1112,P1112+1,1))","v":6},{"$f":"_xlfn.TEXTJOIN(\";\",1,R1113:S1113)","v":""},null,null,{"$f":"IF(R1113=\"\",\"\",\"-\"&VLOOKUP(R1113,EventConditionConfig!A:C,3,FALSE)&IF(S1113=\"\",\"\",CHAR(10)&\"-\"&VLOOKUP(S1113,EventConditionConfig!A:C,3,FALSE)))","v":""},{"$f":"IF(Y1113=\"\",\"\",IF(ISTEXT(Y1113),1,2))","v":""},"","",{"$f":"IF(OR(ISNUMBER(Y1113),Y1113=\"\"),\"\",MAX(AL1112,AL1110,B1113,D1113,L1113)+1)","v":""},null,null,{"$f":"IF(OR(ISNUMBER(AB1113),AB1113=\"\"),\"\",X1113+1)","v":""},null,null,"",{"$nulls":4},{"$f":"IF(A1113=\"\",\"\",IF(ISNUMBER(Y1113),2,IF(A1114=\"\",IF(OR(AK1113>0,VLOOKUP(O1113,EventConfig!A:C,3,FALSE)=4),3,\"\"),1)))","v":1},{"$f":"IF(AI1113=\"\",\"\",CHOOSE(AI1113,IF(AK1113=\"\",A1113+1,AK1113),CONCATENATE(IF(AK1113=\"\",A1113+1,AK1113),\";101\"),IF(AK1113=\"\",O1113+1,AK1113)))","v":913007},null,6305]
[913007,6299,"完成和NPC的对话","",{"$nulls":5},140,{"$f":"IF(J1114=\"\",\"\",VLOOKUP(J1114,EventNPC!A:E,5,FALSE))","v":"楚云缪"},6306,"{玩家名}道友小心，我伤无大碍，我随后就来。",null,9130,7,"",null,null,{"$f":"IF(R1114=\"\",\"\",\"-\"&VLOOKUP(R1114,EventConditionConfig!A:C,3,FALSE)&IF(S1114=\"\",\"\",CHAR(10)&\"-\"&VLOOKUP(S1114,EventConditionConfig!A:C,3,FALSE)))","v":""},"","","","",null,null,"",null,null,"",{"$nulls":4},{"$f":"IF(A1114=\"\",\"\",IF(ISNUMBER(Y1114),2,IF(A1115=\"\",IF(OR(AK1114>0,VLOOKUP(O1114,EventConfig!A:C,3,FALSE)=4),3,\"\"),1)))","v":""},"",null,6306]
[{"$nulls":21},"","",{"$nulls":14},""]
[{"$f":"O1116*100+P1116","v":913101},{"$f":"IF(C1116=\"\",\"\",IF(C1116=C1115,B1115,MAX(AL1115,AL1114)+1))","v":6307},"完成和NPC的对话",{"$f":"IF(E1116=\"\",\"\",IF(E1116=E1115,D1115,MAX(AL1115,AL1114,B1116)+1))","v":""},{"$nulls":5},100,{"$f":"IF(J1116=\"\",\"\",VLOOKUP(J1116,EventNPC!A:E,5,FALSE))","v":"玩家"},{"$f":"IF(M1116=\"\",\"\",MAX(AL1115,AL1114,B1116,D1116)+1)","v":6308},"终于追上了。",null,9131,{"$f":"IF(O1116=\"\",\"\",IF(O1116=O1115,P1115+1,1))","v":1},{"$f":"_xlfn.TEXTJOIN(\";\",1,R1116:S1116)","v":""},null,null,{"$f":"IF(R1116=\"\",\"\",\"-\"&VLOOKUP(R1116,EventConditionConfig!A:C,3,FALSE)&IF(S1116=\"\",\"\",CHAR(10)&\"-\"&VLOOKUP(S1116,EventConditionConfig!A:C,3,FALSE)))","v":""},{"$f":"IF(Y1116=\"\",\"\",IF(ISTEXT(Y1116),1,2))","v":""},"","",{"$f":"IF(OR(ISNUMBER(Y1116),Y1116=\"\"),\"\",MAX(AL1115,AL1113,B1116,D1116,L1116)+1)","v":""},null,null,{"$f":"IF(OR(ISNUMBER(AB1116),AB1116=\"\"),\"\",X1116+1)","v":""},null,null,{"$f":"IF(OR(ISNUMBER(AE1116),AE1116=\"\"),\"\",AA1116+1)","v":""},{"$nulls":4},{"$f":"IF(A1116=\"\",\"\",IF(ISNUMBER(Y1116),2,IF(A1117=\"\",IF(OR(AK1116>0,VLOOKUP(O1116,EventConfig!A:C,3,FALSE)=4),3,\"\"),1)))","v":1},{"$f":"IF(AI1116=\"\",\"\",CHOOSE(AI1116,IF(AK1116=\"\",A1116+1,AK1116),CONCATENATE(IF(AK1116=\"\",A1116+1,AK1116),\";101\"),IF(AK1116=\"\",O1116+1,AK1116)))","v":913102},null,6308]
[{"$f":"O1117*100+P1117","v":913102},{"$f":"IF(C1117=\"\",\"\",IF(C1117=C1116,B1116,MAX(AL1116,AL1115)+1))","v":6307},"完成和NPC的对话",{"$f":"IF(E1117=\"\",\"\",IF(E1117=E1116,D1116,MAX(AL1116,AL1115,B1117)+1))","v":""},{"$nulls":5},131,{"$f":"IF(J1117=\"\",\"\",VLOOKUP(J1117,EventNPC!A:E,5,FALSE))","v":"馨儿"},{"$f":"IF(M1117=\"\",\"\",MAX(AL1116,AL1115,B1117,D1117)+1)","v":6309},"{玩家名}道友，你怎么在这里？",null,9131,{"$f":"IF(O1117=\"\",\"\",IF(O1117=O1116,P1116+1,1))","v":2},{"$f":"_xlfn.TEXTJOIN(\";\",1,R1117:S1117)","v":""},null,null,{"$f":"IF(R1117=\"\",\"\",\"-\"&VLOOKUP(R1117,EventConditionConfig!A:C,3,FALSE)&IF(S1117=\"\",\"\",CHAR(10)&\"-\"&VLOOKUP(S1117,EventConditionConfig!A:C,3,FALSE)))","v":""},{"$f":"IF(Y1117=\"\",\"\",IF(ISTEXT(Y1117),1,2))","v":""},"","",{"$f":"IF(OR(ISNUMBER(Y1117),Y1117=\"\"),\"\",MAX(AL1116,AL1114,B1117,D1117,L1117)+1)","v":""},null,null,{"$f":"IF(OR(ISNUMBER(AB1117),AB1117=\"\"),\"\",X1117+1)","v":""},null,null,"",{"$nulls":4},{"$f":"IF(A1117=\"\",\"\",IF(ISNUMBER(Y1117),2,IF(A1118=\"\",IF(OR(AK1117>0,VLOOKUP(O1117,EventConfig!A:C,3,FALSE)=4),3,\"\"),1)))","v":1},{"$f":"IF(AI1117=\"\",\"\",CHOOSE(AI1117,IF(AK1117=\"\",A1117+1,AK1117),CONCATENATE(IF(AK1117=\"\",A1117+1,AK1117),\";101\"),IF(AK1117=\"\",O1117+1,AK1117)))","v":913103},null,6309]
[913103,6307,"完成和NPC的对话","",{"$nulls":5},100,{"$f":"IF(J1118=\"\",\"\",VLOOKUP(J1118,EventNPC!A:E,5,FALSE))","v":"玩家"},6310,"楚道友已给我说明缘由了。",null,9131,3,"",null,null,{"$f":"IF(R1118=\"\",\"\",\"-\"&VLOOKUP(R1118,EventConditionConfig!A:C,3,FALSE)&IF(S1118=\"\",\"\",CHAR(10)&\"-\"&VLOOKUP(S1118,EventConditionConfig!A:C,3,FALSE)))","v":""},"","","","",null,null,"",null,null,"",{"$nulls":4},{"$f":"IF(A1118=\"\",\"\",IF(ISNUMBER(Y1118),2,IF(A1119=\"\",IF(OR(AK1118>0,VLOOKUP(O1118,EventConfig!A:C,3,FALSE)=4),3,\"\"),1)))","v":1},913104,null,6310]
[{"$f":"O1119*100+P1119","v":913104},{"$f":"IF(C1119=\"\",\"\",IF(C1119=C1118,B1118,MAX(AL1118,AL1117)+1))","v":6307},"完成和NPC的对话",{"$f":"IF(E1119=\"\",\"\",IF(E1119=E1118,D1118,MAX(AL1118,AL1117,B1119)+1))","v":""},{"$nulls":5},131,{"$f":"IF(J1119=\"\",\"\",VLOOKUP(J1119,EventNPC!A:E,5,FALSE))","v":"馨儿"},{"$f":"IF(M1119=\"\",\"\",MAX(AL1118,AL1117,B1119,D1119)+1)","v":6311},"正好，那偷袭之人就在前方，我看好像有接引之人，我们抓紧时间。",null,9131,{"$f":"IF(O1119=\"\",\"\",IF(O1119=O1118,P1118+1,1))","v":4},{"$f":"_xlfn.TEXTJOIN(\";\",1,R1119:S1119)","v":""},null,null,{"$f":"IF(R1119=\"\",\"\",\"-\"&VLOOKUP(R1119,EventConditionConfig!A:C,3,FALSE)&IF(S1119=\"\",\"\",CHAR(10)&\"-\"&VLOOKUP(S1119,EventConditionConfig!A:C,3,FALSE)))","v":""},{"$f":"IF(Y1119=\"\",\"\",IF(ISTEXT(Y1119),1,2))","v":""},"","",{"$f":"IF(OR(ISNUMBER(Y1119),Y1119=\"\"),\"\",MAX(AL1118,AL1116,B1119,D1119,L1119)+1)","v":""},null,null,{"$f":"IF(OR(ISNUMBER(AB1119),AB1119=\"\"),\"\",X1119+1)","v":""},null,null,"",{"$nulls":4},{"$f":"IF(A1119=\"\",\"\",IF(ISNUMBER(Y1119),2,IF(A1120=\"\",IF(OR(AK1119>0,VLOOKUP(O1119,EventConfig!A:C,3,FALSE)=4),3,\"\"),1)))","v":""},{"$f":"IF(AI1119=\"\",\"\",CHOOSE(AI1119,IF(AK1119=\"\",A1119+1,AK1119),CONCATENATE(IF(AK1119=\"\",A1119+1,AK1119),\";101\"),IF(AK1119=\"\",O1119+1,AK1119)))","v":""},null,6311]
[{"$nulls":21},"","",{"$nulls":14},""]
[{"$f":"O1121*100+P1121","v":913201},{"$f":"IF(C1121=\"\",\"\",IF(C1121=C1120,B1120,MAX(AL1120,AL1119)+1))","v":6312},"完成和NPC的对话",{"$f":"IF(E1121=\"\",\"\",IF(E1121=E1120,D1120,MAX(AL1120,AL1119,B1121)+1))","v":""},{"$nulls":5},131,{"$f":"IF(J1121=\"\",\"\",VLOOKUP(J1121,EventNPC!A:E,5,FALSE))","v":"馨儿"},{"$f":"IF(M1121=\"\",\"\",MAX(AL1120,AL1119,B1121,D1121)+1)","v":6313},"还跑？背后偷袭，果然不是什么正派修士。",null,9132,{"$f":"IF(O1121=\"\",\"\",IF(O1121=O1120,P1120+1,1))","v":1},{"$f":"_xlfn.TEXTJOIN(\";\",1,R1121:S1121)","v":""},null,null,{"$f":"IF(R1121=\"\",\"\",\"-\"&VLOOKUP(R1121,EventConditionConfig!A:C,3,FALSE)&IF(S1121=\"\",\"\",CHAR(10)&\"-\"&VLOOKUP(S1121,EventConditionConfig!A:C,3,FALSE)))","v":""},{"$f":"IF(Y1121=\"\",\"\",IF(ISTEXT(Y1121),1,2))","v":""},"","",{"$f":"IF(OR(ISNUMBER(Y1121),Y1121=\"\"),\"\",MAX(AL1120,AL1118,B1121,D1121,L1121)+1)","v":""},null,null,{"$f":"IF(OR(ISNUMBER(AB1121),AB1121=\"\"),\"\",X1121+1)","v":""},null,null,{"$f":"IF(OR(ISNUMBER(AE1121),AE1121=\"\"),\"\",AA1121+1)","v":""},{"$nulls":4},{"$f":"IF(A1121=\"\",\"\",IF(ISNUMBER(Y1121),2,IF(A1122=\"\",IF(OR(AK1121>0,VLOOKUP(O1121,EventConfig!A:C,3,FALSE)=4),3,\"\"),1)))","v":1},{"$f":"IF(AI1121=\"\",\"\",CHOOSE(AI1121,IF(AK1121=\"\",A1121+1,AK1121),CONCATENATE(IF(AK1121=\"\",A1121+1,AK1121),\";101\"),IF(AK1121=\"\",O1121+1,AK1121)))","v":913202},null,6313]
[{"$f":"O1122*100+P1122","v":913202},{"$f":"IF(C1122=\"\",\"\",IF(C1122=C1121,B1121,MAX(AL1121,AL1120)+1))","v":6312},"完成和NPC的对话",{"$f":"IF(E1122=\"\",\"\",IF(E1122=E1121,D1121,MAX(AL1121,AL1120,B1122)+1))","v":""},{"$nulls":5},141,{"$f":"IF(J1122=\"\",\"\",VLOOKUP(J1122,EventNPC!A:E,5,FALSE))","v":"青狼散人"},{"$f":"IF(M1122=\"\",\"\",MAX(AL1121,AL1120,B1122,D1122)+1)","v":6314},"什么狗屁正派，敢坏我青狼帮好事？碧云佩已是本座之物，识相的速速退去，免得魂飞魄散！",null,9132,{"$f":"IF(O1122=\"\",\"\",IF(O1122=O1121,P1121+1,1))","v":2},{"$f":"_xlfn.TEXTJOIN(\";\",1,R1122:S1122)","v":""},null,null,{"$f":"IF(R1122=\"\",\"\",\"-\"&VLOOKUP(R1122,EventConditionConfig!A:C,3,FALSE)&IF(S1122=\"\",\"\",CHAR(10)&\"-\"&VLOOKUP(S1122,EventConditionConfig!A:C,3,FALSE)))","v":""},{"$f":"IF(Y1122=\"\",\"\",IF(ISTEXT(Y1122),1,2))","v":""},"","",{"$f":"IF(OR(ISNUMBER(Y1122),Y1122=\"\"),\"\",MAX(AL1121,AL1119,B1122,D1122,L1122)+1)","v":""},null,null,{"$f":"IF(OR(ISNUMBER(AB1122),AB1122=\"\"),\"\",X1122+1)","v":""},null,null,"",{"$nulls":4},{"$f":"IF(A1122=\"\",\"\",IF(ISNUMBER(Y1122),2,IF(A1123=\"\",IF(OR(AK1122>0,VLOOKUP(O1122,EventConfig!A:C,3,FALSE)=4),3,\"\"),1)))","v":1},{"$f":"IF(AI1122=\"\",\"\",CHOOSE(AI1122,IF(AK1122=\"\",A1122+1,AK1122),CONCATENATE(IF(AK1122=\"\",A1122+1,AK1122),\";101\"),IF(AK1122=\"\",O1122+1,AK1122)))","v":913203},null,6314]
[913203,6312,"完成和NPC的对话","",{"$nulls":5},131,{"$f":"IF(J1123=\"\",\"\",VLOOKUP(J1123,EventNPC!A:E,5,FALSE))","v":"馨儿"},6315,"{玩家名}道友，我们上。",null,9132,3,"",null,null,{"$f":"IF(R1123=\"\",\"\",\"-\"&VLOOKUP(R1123,EventConditionConfig!A:C,3,FALSE)&IF(S1123=\"\",\"\",CHAR(10)&\"-\"&VLOOKUP(S1123,EventConditionConfig!A:C,3,FALSE)))","v":""},2,4014,"","",4014,null,"",null,null,"",{"$nulls":4},{"$f":"IF(A1123=\"\",\"\",IF(ISNUMBER(Y1123),2,IF(A1124=\"\",IF(OR(AK1123>0,VLOOKUP(O1123,EventConfig!A:C,3,FALSE)=4),3,\"\"),1)))","v":2},"913204;101",null,6315]
[{"$f":"O1124*100+P1124","v":913204},{"$f":"IF(C1124=\"\",\"\",IF(C1124=C1123,B1123,MAX(AL1123,AL1122)+1))","v":6312},"完成和NPC的对话",{"$f":"IF(E1124=\"\",\"\",IF(E1124=E1123,D1123,MAX(AL1123,AL1122,B1124)+1))","v":""},{"$nulls":5},141,{"$f":"IF(J1124=\"\",\"\",VLOOKUP(J1124,EventNPC!A:E,5,FALSE))","v":"青狼散人"},{"$f":"IF(M1124=\"\",\"\",MAX(AL1123,AL1122,B1124,D1124)+1)","v":6316},"（奄奄一息）：青狼帮不会放过你们的~",null,9132,{"$f":"IF(O1124=\"\",\"\",IF(O1124=O1123,P1123+1,1))","v":4},{"$f":"_xlfn.TEXTJOIN(\";\",1,R1124:S1124)","v":""},null,null,{"$f":"IF(R1124=\"\",\"\",\"-\"&VLOOKUP(R1124,EventConditionConfig!A:C,3,FALSE)&IF(S1124=\"\",\"\",CHAR(10)&\"-\"&VLOOKUP(S1124,EventConditionConfig!A:C,3,FALSE)))","v":""},{"$f":"IF(Y1124=\"\",\"\",IF(ISTEXT(Y1124),1,2))","v":""},"","",{"$f":"IF(OR(ISNUMBER(Y1124),Y1124=\"\"),\"\",MAX(AL1123,AL1121,B1124,D1124,L1124)+1)","v":""},null,null,{"$f":"IF(OR(ISNUMBER(AB1124),AB1124=\"\"),\"\",X1124+1)","v":""},null,null,"",{"$nulls":4},{"$f":"IF(A1124=\"\",\"\",IF(ISNUMBER(Y1124),2,IF(A1125=\"\",IF(OR(AK1124>0,VLOOKUP(O1124,EventConfig!A:C,3,FALSE)=4),3,\"\"),1)))","v":1},{"$f":"IF(AI1124=\"\",\"\",CHOOSE(AI1124,IF(AK1124=\"\",A1124+1,AK1124),CONCATENATE(IF(AK1124=\"\",A1124+1,AK1124),\";101\"),IF(AK1124=\"\",O1124+1,AK1124)))","v":913205},null,6316]
[913205,6312,"完成和NPC的对话","",{"$nulls":5},131,{"$f":"IF(J1125=\"\",\"\",VLOOKUP(J1125,EventNPC!A:E,5,FALSE))","v":"馨儿"},6317,"什么青狼帮从未听说过。还好碧云佩到手。",null,9132,5,"",null,null,{"$f":"IF(R1125=\"\",\"\",\"-\"&VLOOKUP(R1125,EventConditionConfig!A:C,3,FALSE)&IF(S1125=\"\",\"\",CHAR(10)&\"-\"&VLOOKUP(S1125,EventConditionConfig!A:C,3,FALSE)))","v":""},"","","","",null,null,"",null,null,"",{"$nulls":4},{"$f":"IF(A1125=\"\",\"\",IF(ISNUMBER(Y1125),2,IF(A1126=\"\",IF(OR(AK1125>0,VLOOKUP(O1125,EventConfig!A:C,3,FALSE)=4),3,\"\"),1)))","v":1},913206,null,6317]
[{"$f":"O1126*100+P1126","v":913206},{"$f":"IF(C1126=\"\",\"\",IF(C1126=C1125,B1125,MAX(AL1125,AL1124)+1))","v":6312},"完成和NPC的对话",{"$f":"IF(E1126=\"\",\"\",IF(E1126=E1125,D1125,MAX(AL1125,AL1124,B1126)+1))","v":""},{"$nulls":5},140,{"$f":"IF(J1126=\"\",\"\",VLOOKUP(J1126,EventNPC!A:E,5,FALSE))","v":"楚云缪"},{"$f":"IF(M1126=\"\",\"\",MAX(AL1125,AL1124,B1126,D1126)+1)","v":6318},"（飞了过来）已经摆平了？真是感谢二位道友。",null,9132,{"$f":"IF(O1126=\"\",\"\",IF(O1126=O1125,P1125+1,1))","v":6},{"$f":"_xlfn.TEXTJOIN(\";\",1,R1126:S1126)","v":""},null,null,{"$f":"IF(R1126=\"\",\"\",\"-\"&VLOOKUP(R1126,EventConditionConfig!A:C,3,FALSE)&IF(S1126=\"\",\"\",CHAR(10)&\"-\"&VLOOKUP(S1126,EventConditionConfig!A:C,3,FALSE)))","v":""},{"$f":"IF(Y1126=\"\",\"\",IF(ISTEXT(Y1126),1,2))","v":""},"","",{"$f":"IF(OR(ISNUMBER(Y1126),Y1126=\"\"),\"\",MAX(AL1125,AL1123,B1126,D1126,L1126)+1)","v":""},null,null,{"$f":"IF(OR(ISNUMBER(AB1126),AB1126=\"\"),\"\",X1126+1)","v":""},null,null,"",{"$nulls":4},{"$f":"IF(A1126=\"\",\"\",IF(ISNUMBER(Y1126),2,IF(A1127=\"\",IF(OR(AK1126>0,VLOOKUP(O1126,EventConfig!A:C,3,FALSE)=4),3,\"\"),1)))","v":1},{"$f":"IF(AI1126=\"\",\"\",CHOOSE(AI1126,IF(AK1126=\"\",A1126+1,AK1126),CONCATENATE(IF(AK1126=\"\",A1126+1,AK1126),\";101\"),IF(AK1126=\"\",O1126+1,AK1126)))","v":913207},null,6318]
[{"$f":"O1127*100+P1127","v":913207},{"$f":"IF(C1127=\"\",\"\",IF(C1127=C1126,B1126,MAX(AL1126,AL1125)+1))","v":6312},"完成和NPC的对话",{"$f":"IF(E1127=\"\",\"\",IF(E1127=E1126,D1126,MAX(AL1126,AL1125,B1127)+1))","v":""},{"$nulls":5},100,{"$f":"IF(J1127=\"\",\"\",VLOOKUP(J1127,EventNPC!A:E,5,FALSE))","v":"玩家"},{"$f":"IF(M1127=\"\",\"\",MAX(AL1126,AL1125,B1127,D1127)+1)","v":6319},"道友不必客气。",null,9132,{"$f":"IF(O1127=\"\",\"\",IF(O1127=O1126,P1126+1,1))","v":7},{"$f":"_xlfn.TEXTJOIN(\";\",1,R1127:S1127)","v":""},null,null,{"$f":"IF(R1127=\"\",\"\",\"-\"&VLOOKUP(R1127,EventConditionConfig!A:C,3,FALSE)&IF(S1127=\"\",\"\",CHAR(10)&\"-\"&VLOOKUP(S1127,EventConditionConfig!A:C,3,FALSE)))","v":""},{"$f":"IF(Y1127=\"\",\"\",IF(ISTEXT(Y1127),1,2))","v":""},"","",{"$f":"IF(OR(ISNUMBER(Y1127),Y1127=\"\"),\"\",MAX(AL1126,AL1124,B1127,D1127,L1127)+1)","v":""},null,null,{"$f":"IF(OR(ISNUMBER(AB1127),AB1127=\"\"),\"\",X1127+1)","v":""},null,null,"",{"$nulls":4},{"$f":"IF(A1127=\"\",\"\",IF(ISNUMBER(Y1127),2,IF(A1128=\"\",IF(OR(AK1127>0,VLOOKUP(O1127,EventConfig!A:C,3,FALSE)=4),3,\"\"),1)))","v":1},{"$f":"IF(AI1127=\"\",\"\",CHOOSE(AI1127,IF(AK1127=\"\",A1127+1,AK1127),CONCATENATE(IF(AK1127=\"\",A1127+1,AK1127),\";101\"),IF(AK1127=\"\",O1127+1,AK1127)))","v":913208},null,6319]
[{"$f":"O1128*100+P1128","v":913208},{"$f":"IF(C1128=\"\",\"\",IF(C1128=C1127,B1127,MAX(AL1127,AL1126)+1))","v":6312},"完成和NPC的对话",{"$f":"IF(E1128=\"\",\"\",IF(E1128=E1127,D1127,MAX(AL1127,AL1126,B1128)+1))","v":""},{"$nulls":5},131,{"$f":"IF(J1128=\"\",\"\",VLOOKUP(J1128,EventNPC!A:E,5,FALSE))","v":"馨儿"},{"$f":"IF(M1128=\"\",\"\",MAX(AL1127,AL1126,B1128,D1128)+1)","v":6320},"（调皮）好辛苦呀，有没有什么宝物相赠呀。",null,9132,{"$f":"IF(O1128=\"\",\"\",IF(O1128=O1127,P1127+1,1))","v":8},{"$f":"_xlfn.TEXTJOIN(\";\",1,R1128:S1128)","v":""},null,null,{"$f":"IF(R1128=\"\",\"\",\"-\"&VLOOKUP(R1128,EventConditionConfig!A:C,3,FALSE)&IF(S1128=\"\",\"\",CHAR(10)&\"-\"&VLOOKUP(S1128,EventConditionConfig!A:C,3,FALSE)))","v":""},{"$f":"IF(Y1128=\"\",\"\",IF(ISTEXT(Y1128),1,2))","v":""},"","",{"$f":"IF(OR(ISNUMBER(Y1128),Y1128=\"\"),\"\",MAX(AL1127,AL1125,B1128,D1128,L1128)+1)","v":""},null,null,{"$f":"IF(OR(ISNUMBER(AB1128),AB1128=\"\"),\"\",X1128+1)","v":""},null,null,"",{"$nulls":4},{"$f":"IF(A1128=\"\",\"\",IF(ISNUMBER(Y1128),2,IF(A1129=\"\",IF(OR(AK1128>0,VLOOKUP(O1128,EventConfig!A:C,3,FALSE)=4),3,\"\"),1)))","v":1},{"$f":"IF(AI1128=\"\",\"\",CHOOSE(AI1128,IF(AK1128=\"\",A1128+1,AK1128),CONCATENATE(IF(AK1128=\"\",A1128+1,AK1128),\";101\"),IF(AK1128=\"\",O1128+1,AK1128)))","v":913209},null,6320]
[913209,6312,"完成和NPC的对话","",{"$nulls":5},140,{"$f":"IF(J1129=\"\",\"\",VLOOKUP(J1129,EventNPC!A:E,5,FALSE))","v":"楚云缪"},6321,"哈哈，有，这点材料本来也是想在拍卖会上拍卖的，二位如不嫌弃就请收下。",null,9132,9,"",null,null,{"$f":"IF(R1129=\"\",\"\",\"-\"&VLOOKUP(R1129,EventConditionConfig!A:C,3,FALSE)&IF(S1129=\"\",\"\",CHAR(10)&\"-\"&VLOOKUP(S1129,EventConditionConfig!A:C,3,FALSE)))","v":""},"","","","",null,null,"",null,null,"",{"$nulls":4},{"$f":"IF(A1129=\"\",\"\",IF(ISNUMBER(Y1129),2,IF(A1130=\"\",IF(OR(AK1129>0,VLOOKUP(O1129,EventConfig!A:C,3,FALSE)=4),3,\"\"),1)))","v":1},913210,null,6321]
[913210,6312,"完成和NPC的对话","",{"$nulls":5},100,{"$f":"IF(J1130=\"\",\"\",VLOOKUP(J1130,EventNPC!A:E,5,FALSE))","v":"玩家"},6322,"这..",null,9132,10,"",null,null,{"$f":"IF(R1130=\"\",\"\",\"-\"&VLOOKUP(R1130,EventConditionConfig!A:C,3,FALSE)&IF(S1130=\"\",\"\",CHAR(10)&\"-\"&VLOOKUP(S1130,EventConditionConfig!A:C,3,FALSE)))","v":""},"","","","",null,null,"",null,null,"",{"$nulls":4},{"$f":"IF(A1130=\"\",\"\",IF(ISNUMBER(Y1130),2,IF(A1131=\"\",IF(OR(AK1130>0,VLOOKUP(O1130,EventConfig!A:C,3,FALSE)=4),3,\"\"),1)))","v":1},913211,null,6322]
[{"$f":"O1131*100+P1131","v":913211},{"$f":"IF(C1131=\"\",\"\",IF(C1131=C1130,B1130,MAX(AL1130,AL1129)+1))","v":6312},"完成和NPC的对话",{"$f":"IF(E1131=\"\",\"\",IF(E1131=E1130,D1130,MAX(AL1130,AL1129,B1131)+1))","v":""},{"$nulls":5},131,{"$f":"IF(J1131=\"\",\"\",VLOOKUP(J1131,EventNPC!A:E,5,FALSE))","v":"馨儿"},{"$f":"IF(M1131=\"\",\"\",MAX(AL1130,AL1129,B1131,D1131)+1)","v":6323},"我不嫌弃！（快速向前拿走一份）",null,9132,{"$f":"IF(O1131=\"\",\"\",IF(O1131=O1130,P1130+1,1))","v":11},{"$f":"_xlfn.TEXTJOIN(\";\",1,R1131:S1131)","v":""},null,null,{"$f":"IF(R1131=\"\",\"\",\"-\"&VLOOKUP(R1131,EventConditionConfig!A:C,3,FALSE)&IF(S1131=\"\",\"\",CHAR(10)&\"-\"&VLOOKUP(S1131,EventConditionConfig!A:C,3,FALSE)))","v":""},{"$f":"IF(Y1131=\"\",\"\",IF(ISTEXT(Y1131),1,2))","v":""},"","",{"$f":"IF(OR(ISNUMBER(Y1131),Y1131=\"\"),\"\",MAX(AL1130,AL1128,B1131,D1131,L1131)+1)","v":""},null,null,{"$f":"IF(OR(ISNUMBER(AB1131),AB1131=\"\"),\"\",X1131+1)","v":""},null,null,"",{"$nulls":4},{"$f":"IF(A1131=\"\",\"\",IF(ISNUMBER(Y1131),2,IF(A1132=\"\",IF(OR(AK1131>0,VLOOKUP(O1131,EventConfig!A:C,3,FALSE)=4),3,\"\"),1)))","v":1},{"$f":"IF(AI1131=\"\",\"\",CHOOSE(AI1131,IF(AK1131=\"\",A1131+1,AK1131),CONCATENATE(IF(AK1131=\"\",A1131+1,AK1131),\";101\"),IF(AK1131=\"\",O1131+1,AK1131)))","v":913212},null,6323]
[913212,6312,"完成和NPC的对话","",{"$nulls":5},140,{"$f":"IF(J1132=\"\",\"\",VLOOKUP(J1132,EventNPC!A:E,5,FALSE))","v":"楚云缪"},6324,"{玩家名}道友，你也拿着。这也不是什么很值钱的东西。",null,9132,12,"",null,null,{"$f":"IF(R1132=\"\",\"\",\"-\"&VLOOKUP(R1132,EventConditionConfig!A:C,3,FALSE)&IF(S1132=\"\",\"\",CHAR(10)&\"-\"&VLOOKUP(S1132,EventConditionConfig!A:C,3,FALSE)))","v":""},"","","","",null,null,"",null,null,"",{"$nulls":4},{"$f":"IF(A1132=\"\",\"\",IF(ISNUMBER(Y1132),2,IF(A1133=\"\",IF(OR(AK1132>0,VLOOKUP(O1132,EventConfig!A:C,3,FALSE)=4),3,\"\"),1)))","v":1},913213,null,6324]
[{"$f":"O1133*100+P1133","v":913213},{"$f":"IF(C1133=\"\",\"\",IF(C1133=C1132,B1132,MAX(AL1132,AL1131)+1))","v":6312},"完成和NPC的对话",{"$f":"IF(E1133=\"\",\"\",IF(E1133=E1132,D1132,MAX(AL1132,AL1131,B1133)+1))","v":""},{"$nulls":5},140,{"$f":"IF(J1133=\"\",\"\",VLOOKUP(J1133,EventNPC!A:E,5,FALSE))","v":"楚云缪"},{"$f":"IF(M1133=\"\",\"\",MAX(AL1132,AL1131,B1133,D1133)+1)","v":6325},"馨儿道友那我们赶快会拍卖会吧，应该马上就要开始了，{玩家名}道友，我们就先走了。",null,9132,{"$f":"IF(O1133=\"\",\"\",IF(O1133=O1132,P1132+1,1))","v":13},{"$f":"_xlfn.TEXTJOIN(\";\",1,R1133:S1133)","v":""},null,null,{"$f":"IF(R1133=\"\",\"\",\"-\"&VLOOKUP(R1133,EventConditionConfig!A:C,3,FALSE)&IF(S1133=\"\",\"\",CHAR(10)&\"-\"&VLOOKUP(S1133,EventConditionConfig!A:C,3,FALSE)))","v":""},{"$f":"IF(Y1133=\"\",\"\",IF(ISTEXT(Y1133),1,2))","v":""},"","",{"$f":"IF(OR(ISNUMBER(Y1133),Y1133=\"\"),\"\",MAX(AL1132,AL1130,B1133,D1133,L1133)+1)","v":""},null,null,{"$f":"IF(OR(ISNUMBER(AB1133),AB1133=\"\"),\"\",X1133+1)","v":""},null,null,"",{"$nulls":4},{"$f":"IF(A1133=\"\",\"\",IF(ISNUMBER(Y1133),2,IF(A1134=\"\",IF(OR(AK1133>0,VLOOKUP(O1133,EventConfig!A:C,3,FALSE)=4),3,\"\"),1)))","v":""},{"$f":"IF(AI1133=\"\",\"\",CHOOSE(AI1133,IF(AK1133=\"\",A1133+1,AK1133),CONCATENATE(IF(AK1133=\"\",A1133+1,AK1133),\";101\"),IF(AK1133=\"\",O1133+1,AK1133)))","v":""},null,{"$f":"IF(A1133=\"\",\"\",MAX(B1133,D1133,L1133,X1133,AA1133,AL1132,AL1131,AD1133))","v":6325}]
[{"$nulls":21},"","",{"$nulls":14},""]
[{"$f":"O1135*100+P1135","v":913301},{"$f":"IF(C1135=\"\",\"\",IF(C1135=C1134,B1134,MAX(AL1134,AL1133)+1))","v":6326},"完成和NPC的对话",{"$f":"IF(E1135=\"\",\"\",IF(E1135=E1134,D1134,MAX(AL1134,AL1133,B1135)+1))","v":""},{"$nulls":5},133,{"$f":"IF(J1135=\"\",\"\",VLOOKUP(J1135,EventNPC!A:E,5,FALSE))","v":"血海宗弟子A"},{"$f":"IF(M1135=\"\",\"\",MAX(AL1134,AL1133,B1135,D1135)+1)","v":6327},"这位道友可是从尧都主城而来？",null,9133,{"$f":"IF(O1135=\"\",\"\",IF(O1135=O1134,P1134+1,1))","v":1},{"$f":"_xlfn.TEXTJOIN(\";\",1,R1135:S1135)","v":""},null,null,{"$f":"IF(R1135=\"\",\"\",\"-\"&VLOOKUP(R1135,EventConditionConfig!A:C,3,FALSE)&IF(S1135=\"\",\"\",CHAR(10)&\"-\"&VLOOKUP(S1135,EventConditionConfig!A:C,3,FALSE)))","v":""},{"$f":"IF(Y1135=\"\",\"\",IF(ISTEXT(Y1135),1,2))","v":""},"","",{"$f":"IF(OR(ISNUMBER(Y1135),Y1135=\"\"),\"\",MAX(AL1134,AL1132,B1135,D1135,L1135)+1)","v":""},null,null,{"$f":"IF(OR(ISNUMBER(AB1135),AB1135=\"\"),\"\",X1135+1)","v":""},null,null,{"$f":"IF(OR(ISNUMBER(AE1135),AE1135=\"\"),\"\",AA1135+1)","v":""},{"$nulls":4},{"$f":"IF(A1135=\"\",\"\",IF(ISNUMBER(Y1135),2,IF(A1136=\"\",IF(OR(AK1135>0,VLOOKUP(O1135,EventConfig!A:C,3,FALSE)=4),3,\"\"),1)))","v":1},{"$f":"IF(AI1135=\"\",\"\",CHOOSE(AI1135,IF(AK1135=\"\",A1135+1,AK1135),CONCATENATE(IF(AK1135=\"\",A1135+1,AK1135),\";101\"),IF(AK1135=\"\",O1135+1,AK1135)))","v":913302},null,6327]
[{"$f":"O1136*100+P1136","v":913302},{"$f":"IF(C1136=\"\",\"\",IF(C1136=C1135,B1135,MAX(AL1135,AL1134)+1))","v":6326},"完成和NPC的对话",{"$f":"IF(E1136=\"\",\"\",IF(E1136=E1135,D1135,MAX(AL1135,AL1134,B1136)+1))","v":""},{"$nulls":5},100,{"$f":"IF(J1136=\"\",\"\",VLOOKUP(J1136,EventNPC!A:E,5,FALSE))","v":"玩家"},{"$f":"IF(M1136=\"\",\"\",MAX(AL1135,AL1134,B1136,D1136)+1)","v":6328},"正是。不知道友有何事？（看到此人有点来者不善，玩家提高了警惕）",null,9133,{"$f":"IF(O1136=\"\",\"\",IF(O1136=O1135,P1135+1,1))","v":2},{"$f":"_xlfn.TEXTJOIN(\";\",1,R1136:S1136)","v":""},null,null,{"$f":"IF(R1136=\"\",\"\",\"-\"&VLOOKUP(R1136,EventConditionConfig!A:C,3,FALSE)&IF(S1136=\"\",\"\",CHAR(10)&\"-\"&VLOOKUP(S1136,EventConditionConfig!A:C,3,FALSE)))","v":""},{"$f":"IF(Y1136=\"\",\"\",IF(ISTEXT(Y1136),1,2))","v":""},"","",{"$f":"IF(OR(ISNUMBER(Y1136),Y1136=\"\"),\"\",MAX(AL1135,AL1133,B1136,D1136,L1136)+1)","v":""},null,null,{"$f":"IF(OR(ISNUMBER(AB1136),AB1136=\"\"),\"\",X1136+1)","v":""},null,null,"",{"$nulls":4},{"$f":"IF(A1136=\"\",\"\",IF(ISNUMBER(Y1136),2,IF(A1137=\"\",IF(OR(AK1136>0,VLOOKUP(O1136,EventConfig!A:C,3,FALSE)=4),3,\"\"),1)))","v":1},{"$f":"IF(AI1136=\"\",\"\",CHOOSE(AI1136,IF(AK1136=\"\",A1136+1,AK1136),CONCATENATE(IF(AK1136=\"\",A1136+1,AK1136),\";101\"),IF(AK1136=\"\",O1136+1,AK1136)))","v":913303},null,6328]
[913303,6326,"完成和NPC的对话","",{"$nulls":5},133,{"$f":"IF(J1137=\"\",\"\",VLOOKUP(J1137,EventNPC!A:E,5,FALSE))","v":"血海宗弟子A"},6329,"尧都刚举办完拍卖大会，不知道友可拍到什么值钱的东西吗？",null,9133,3,"",null,null,{"$f":"IF(R1137=\"\",\"\",\"-\"&VLOOKUP(R1137,EventConditionConfig!A:C,3,FALSE)&IF(S1137=\"\",\"\",CHAR(10)&\"-\"&VLOOKUP(S1137,EventConditionConfig!A:C,3,FALSE)))","v":""},1,"913304;913305","6330;6331",6330,"我也只是路过尧都而已，没参加拍卖会",{"$f":"A1138","v":913304},6331,"说明你真正的来意吧。",{"$f":"A1139","v":913305},"",null,{"$f":"D1139","v":""},null,null,{"$f":"IF(A1137=\"\",\"\",IF(ISNUMBER(Y1137),2,IF(A1138=\"\",IF(OR(AK1137>0,VLOOKUP(O1137,EventConfig!A:C,3,FALSE)=4),3,\"\"),1)))","v":1},913304,null,6331]
[913304,6326,"完成和NPC的对话","",{"$nulls":5},133,{"$f":"IF(J1138=\"\",\"\",VLOOKUP(J1138,EventNPC!A:E,5,FALSE))","v":"血海宗弟子A"},6332,"没参加？哼！那就把你值钱的东西留下吧。",null,9133,4,"",null,null,{"$f":"IF(R1138=\"\",\"\",\"-\"&VLOOKUP(R1138,EventConditionConfig!A:C,3,FALSE)&IF(S1138=\"\",\"\",CHAR(10)&\"-\"&VLOOKUP(S1138,EventConditionConfig!A:C,3,FALSE)))","v":""},"","","","",null,null,"",null,null,"",{"$nulls":4},{"$f":"IF(A1138=\"\",\"\",IF(ISNUMBER(Y1138),2,IF(A1139=\"\",IF(OR(AK1138>0,VLOOKUP(O1138,EventConfig!A:C,3,FALSE)=4),3,\"\"),1)))","v":1},913306,{"$f":"A1140","v":913306},6332]
[{"$f":"O1139*100+P1139","v":913305},{"$f":"IF(C1139=\"\",\"\",IF(C1139=C1138,B1138,MAX(AL1138,AL1137)+1))","v":6326},"完成和NPC的对话",{"$f":"IF(E1139=\"\",\"\",IF(E1139=E1138,D1138,MAX(AL1138,AL1137,B1139)+1))","v":""},{"$nulls":5},133,{"$f":"IF(J1139=\"\",\"\",VLOOKUP(J1139,EventNPC!A:E,5,FALSE))","v":"血海宗弟子A"},{"$f":"IF(M1139=\"\",\"\",MAX(AL1138,AL1137,B1139,D1139)+1)","v":6333},"哈哈，果然敏锐。我也不绕弯子了，把身上的宝物留下就行。",null,9133,{"$f":"IF(O1139=\"\",\"\",IF(O1139=O1138,P1138+1,1))","v":5},{"$f":"_xlfn.TEXTJOIN(\";\",1,R1139:S1139)","v":""},null,null,{"$f":"IF(R1139=\"\",\"\",\"-\"&VLOOKUP(R1139,EventConditionConfig!A:C,3,FALSE)&IF(S1139=\"\",\"\",CHAR(10)&\"-\"&VLOOKUP(S1139,EventConditionConfig!A:C,3,FALSE)))","v":""},{"$f":"IF(Y1139=\"\",\"\",IF(ISTEXT(Y1139),1,2))","v":""},"","",{"$f":"IF(OR(ISNUMBER(Y1139),Y1139=\"\"),\"\",MAX(AL1138,AL1136,B1139,D1139,L1139)+1)","v":""},null,null,{"$f":"IF(OR(ISNUMBER(AB1139),AB1139=\"\"),\"\",X1139+1)","v":""},null,null,"",{"$nulls":4},{"$f":"IF(A1139=\"\",\"\",IF(ISNUMBER(Y1139),2,IF(A1140=\"\",IF(OR(AK1139>0,VLOOKUP(O1139,EventConfig!A:C,3,FALSE)=4),3,\"\"),1)))","v":1},{"$f":"IF(AI1139=\"\",\"\",CHOOSE(AI1139,IF(AK1139=\"\",A1139+1,AK1139),CONCATENATE(IF(AK1139=\"\",A1139+1,AK1139),\";101\"),IF(AK1139=\"\",O1139+1,AK1139)))","v":913306},{"$f":"A1140","v":913306},6333]
[913306,6326,"完成和NPC的对话","",{"$nulls":5},100,{"$f":"IF(J1140=\"\",\"\",VLOOKUP(J1140,EventNPC!A:E,5,FALSE))","v":"玩家"},6334,"那就看你有没有这个本事了。",null,9133,6,"",null,null,{"$f":"IF(R1140=\"\",\"\",\"-\"&VLOOKUP(R1140,EventConditionConfig!A:C,3,FALSE)&IF(S1140=\"\",\"\",CHAR(10)&\"-\"&VLOOKUP(S1140,EventConditionConfig!A:C,3,FALSE)))","v":""},2,4015,"","",4015,null,"",null,null,"",{"$nulls":4},{"$f":"IF(A1140=\"\",\"\",IF(ISNUMBER(Y1140),2,IF(A1141=\"\",IF(OR(AK1140>0,VLOOKUP(O1140,EventConfig!A:C,3,FALSE)=4),3,\"\"),1)))","v":2},"913307;101",null,6334]
[913307,6326,"完成和NPC的对话","",{"$nulls":5},133,{"$f":"IF(J1141=\"\",\"\",VLOOKUP(J1141,EventNPC!A:E,5,FALSE))","v":"血海宗弟子A"},6335,"不要杀我，不要杀我，我是血海宗弟子，你若杀了我血海宗不会放过你。",null,9133,7,"",null,null,{"$f":"IF(R1141=\"\",\"\",\"-\"&VLOOKUP(R1141,EventConditionConfig!A:C,3,FALSE)&IF(S1141=\"\",\"\",CHAR(10)&\"-\"&VLOOKUP(S1141,EventConditionConfig!A:C,3,FALSE)))","v":""},"","","","",null,null,"",null,null,"",{"$nulls":4},{"$f":"IF(A1141=\"\",\"\",IF(ISNUMBER(Y1141),2,IF(A1142=\"\",IF(OR(AK1141>0,VLOOKUP(O1141,EventConfig!A:C,3,FALSE)=4),3,\"\"),1)))","v":1},913308,null,6335]
[{"$f":"O1142*100+P1142","v":913308},{"$f":"IF(C1142=\"\",\"\",IF(C1142=C1141,B1141,MAX(AL1141,AL1140)+1))","v":6326},"完成和NPC的对话",{"$f":"IF(E1142=\"\",\"\",IF(E1142=E1141,D1141,MAX(AL1141,AL1140,B1142)+1))","v":""},{"$nulls":5},100,{"$f":"IF(J1142=\"\",\"\",VLOOKUP(J1142,EventNPC!A:E,5,FALSE))","v":"玩家"},{"$f":"IF(M1142=\"\",\"\",MAX(AL1141,AL1140,B1142,D1142)+1)","v":6336},"血海宗是吧，我记住了。（玩家一丙飞剑贯穿敌人咽喉）",null,9133,{"$f":"IF(O1142=\"\",\"\",IF(O1142=O1141,P1141+1,1))","v":8},{"$f":"_xlfn.TEXTJOIN(\";\",1,R1142:S1142)","v":""},null,null,{"$f":"IF(R1142=\"\",\"\",\"-\"&VLOOKUP(R1142,EventConditionConfig!A:C,3,FALSE)&IF(S1142=\"\",\"\",CHAR(10)&\"-\"&VLOOKUP(S1142,EventConditionConfig!A:C,3,FALSE)))","v":""},{"$f":"IF(Y1142=\"\",\"\",IF(ISTEXT(Y1142),1,2))","v":""},"","",{"$f":"IF(OR(ISNUMBER(Y1142),Y1142=\"\"),\"\",MAX(AL1141,AL1139,B1142,D1142,L1142)+1)","v":""},null,null,{"$f":"IF(OR(ISNUMBER(AB1142),AB1142=\"\"),\"\",X1142+1)","v":""},null,null,"",{"$nulls":4},{"$f":"IF(A1142=\"\",\"\",IF(ISNUMBER(Y1142),2,IF(A1143=\"\",IF(OR(AK1142>0,VLOOKUP(O1142,EventConfig!A:C,3,FALSE)=4),3,\"\"),1)))","v":1},{"$f":"IF(AI1142=\"\",\"\",CHOOSE(AI1142,IF(AK1142=\"\",A1142+1,AK1142),CONCATENATE(IF(AK1142=\"\",A1142+1,AK1142),\";101\"),IF(AK1142=\"\",O1142+1,AK1142)))","v":913309},null,6336]
[913309,6326,"完成和NPC的对话","",{"$nulls":5},133,{"$f":"IF(J1143=\"\",\"\",VLOOKUP(J1143,EventNPC!A:E,5,FALSE))","v":"血海宗弟子A"},6337,"啊~啊~啊~",null,9133,9,"",null,null,{"$f":"IF(R1143=\"\",\"\",\"-\"&VLOOKUP(R1143,EventConditionConfig!A:C,3,FALSE)&IF(S1143=\"\",\"\",CHAR(10)&\"-\"&VLOOKUP(S1143,EventConditionConfig!A:C,3,FALSE)))","v":""},"","","","",null,null,"",null,null,"",{"$nulls":4},{"$f":"IF(A1143=\"\",\"\",IF(ISNUMBER(Y1143),2,IF(A1144=\"\",IF(OR(AK1143>0,VLOOKUP(O1143,EventConfig!A:C,3,FALSE)=4),3,\"\"),1)))","v":""},"",null,6337]
[{"$nulls":21},"","",{"$nulls":14},""]
[{"$f":"O1145*100+P1145","v":913401},{"$f":"IF(C1145=\"\",\"\",IF(C1145=C1144,B1144,MAX(AL1144,AL1143)+1))","v":6338},"完成和NPC的对话",{"$f":"IF(E1145=\"\",\"\",IF(E1145=E1144,D1144,MAX(AL1144,AL1143,B1145)+1))","v":""},{"$nulls":5},135,{"$f":"IF(J1145=\"\",\"\",VLOOKUP(J1145,EventNPC!A:E,5,FALSE))","v":"血海宗弟子B"},{"$f":"IF(M1145=\"\",\"\",MAX(AL1144,AL1143,B1145,D1145)+1)","v":6339},"你可真能跑，拍卖会上竟敢和血海宗争夺玄冥晶，你小子活腻了。",null,9134,{"$f":"IF(O1145=\"\",\"\",IF(O1145=O1144,P1144+1,1))","v":1},{"$f":"_xlfn.TEXTJOIN(\";\",1,R1145:S1145)","v":""},null,null,{"$f":"IF(R1145=\"\",\"\",\"-\"&VLOOKUP(R1145,EventConditionConfig!A:C,3,FALSE)&IF(S1145=\"\",\"\",CHAR(10)&\"-\"&VLOOKUP(S1145,EventConditionConfig!A:C,3,FALSE)))","v":""},{"$f":"IF(Y1145=\"\",\"\",IF(ISTEXT(Y1145),1,2))","v":""},"","",{"$f":"IF(OR(ISNUMBER(Y1145),Y1145=\"\"),\"\",MAX(AL1144,AL1142,B1145,D1145,L1145)+1)","v":""},null,null,{"$f":"IF(OR(ISNUMBER(AB1145),AB1145=\"\"),\"\",X1145+1)","v":""},null,null,{"$f":"IF(OR(ISNUMBER(AE1145),AE1145=\"\"),\"\",AA1145+1)","v":""},{"$nulls":4},{"$f":"IF(A1145=\"\",\"\",IF(ISNUMBER(Y1145),2,IF(A1146=\"\",IF(OR(AK1145>0,VLOOKUP(O1145,EventConfig!A:C,3,FALSE)=4),3,\"\"),1)))","v":1},{"$f":"IF(AI1145=\"\",\"\",CHOOSE(AI1145,IF(AK1145=\"\",A1145+1,AK1145),CONCATENATE(IF(AK1145=\"\",A1145+1,AK1145),\";101\"),IF(AK1145=\"\",O1145+1,AK1145)))","v":913402},null,6339]
[{"$f":"O1146*100+P1146","v":913402},{"$f":"IF(C1146=\"\",\"\",IF(C1146=C1145,B1145,MAX(AL1145,AL1144)+1))","v":6338},"完成和NPC的对话",{"$f":"IF(E1146=\"\",\"\",IF(E1146=E1145,D1145,MAX(AL1145,AL1144,B1146)+1))","v":""},{"$nulls":5},142,{"$f":"IF(J1146=\"\",\"\",VLOOKUP(J1146,EventNPC!A:E,5,FALSE))","v":"林风"},{"$f":"IF(M1146=\"\",\"\",MAX(AL1145,AL1144,B1146,D1146)+1)","v":6340},"（疲惫受伤）：血海宗不要欺人太甚，竟敢违背拍卖会铁律。不怕尧都城主追责吗？",null,9134,{"$f":"IF(O1146=\"\",\"\",IF(O1146=O1145,P1145+1,1))","v":2},{"$f":"_xlfn.TEXTJOIN(\";\",1,R1146:S1146)","v":""},null,null,{"$f":"IF(R1146=\"\",\"\",\"-\"&VLOOKUP(R1146,EventConditionConfig!A:C,3,FALSE)&IF(S1146=\"\",\"\",CHAR(10)&\"-\"&VLOOKUP(S1146,EventConditionConfig!A:C,3,FALSE)))","v":""},{"$f":"IF(Y1146=\"\",\"\",IF(ISTEXT(Y1146),1,2))","v":""},"","",{"$f":"IF(OR(ISNUMBER(Y1146),Y1146=\"\"),\"\",MAX(AL1145,AL1143,B1146,D1146,L1146)+1)","v":""},null,null,{"$f":"IF(OR(ISNUMBER(AB1146),AB1146=\"\"),\"\",X1146+1)","v":""},null,null,"",{"$nulls":4},{"$f":"IF(A1146=\"\",\"\",IF(ISNUMBER(Y1146),2,IF(A1147=\"\",IF(OR(AK1146>0,VLOOKUP(O1146,EventConfig!A:C,3,FALSE)=4),3,\"\"),1)))","v":1},{"$f":"IF(AI1146=\"\",\"\",CHOOSE(AI1146,IF(AK1146=\"\",A1146+1,AK1146),CONCATENATE(IF(AK1146=\"\",A1146+1,AK1146),\";101\"),IF(AK1146=\"\",O1146+1,AK1146)))","v":913403},null,6340]
[913403,6338,"完成和NPC的对话","",{"$nulls":5},135,{"$f":"IF(J1147=\"\",\"\",VLOOKUP(J1147,EventNPC!A:E,5,FALSE))","v":"血海宗弟子B"},6341,"尧都城主？在这山林之间把你毁灭了城主怎知？哈哈，这玄冥晶我就收下了，受死吧！",null,9134,3,"",null,null,{"$f":"IF(R1147=\"\",\"\",\"-\"&VLOOKUP(R1147,EventConditionConfig!A:C,3,FALSE)&IF(S1147=\"\",\"\",CHAR(10)&\"-\"&VLOOKUP(S1147,EventConditionConfig!A:C,3,FALSE)))","v":""},"","","","",null,null,"",null,null,"",{"$nulls":4},{"$f":"IF(A1147=\"\",\"\",IF(ISNUMBER(Y1147),2,IF(A1148=\"\",IF(OR(AK1147>0,VLOOKUP(O1147,EventConfig!A:C,3,FALSE)=4),3,\"\"),1)))","v":1},913404,null,6341]
[{"$f":"O1148*100+P1148","v":913404},{"$f":"IF(C1148=\"\",\"\",IF(C1148=C1147,B1147,MAX(AL1147,AL1146)+1))","v":6338},"完成和NPC的对话",{"$f":"IF(E1148=\"\",\"\",IF(E1148=E1147,D1147,MAX(AL1147,AL1146,B1148)+1))","v":""},{"$nulls":5},100,{"$f":"IF(J1148=\"\",\"\",VLOOKUP(J1148,EventNPC!A:E,5,FALSE))","v":"玩家"},{"$f":"IF(M1148=\"\",\"\",MAX(AL1147,AL1146,B1148,D1148)+1)","v":6342},"（一丙飞剑打断了血海宗弟子对林风的致命攻击）我看你们血海宗以后还是改名叫强盗宗吧，到处抢人宝物。",null,9134,{"$f":"IF(O1148=\"\",\"\",IF(O1148=O1147,P1147+1,1))","v":4},{"$f":"_xlfn.TEXTJOIN(\";\",1,R1148:S1148)","v":""},null,null,{"$f":"IF(R1148=\"\",\"\",\"-\"&VLOOKUP(R1148,EventConditionConfig!A:C,3,FALSE)&IF(S1148=\"\",\"\",CHAR(10)&\"-\"&VLOOKUP(S1148,EventConditionConfig!A:C,3,FALSE)))","v":""},{"$f":"IF(Y1148=\"\",\"\",IF(ISTEXT(Y1148),1,2))","v":""},"","",{"$f":"IF(OR(ISNUMBER(Y1148),Y1148=\"\"),\"\",MAX(AL1147,AL1145,B1148,D1148,L1148)+1)","v":""},null,null,{"$f":"IF(OR(ISNUMBER(AB1148),AB1148=\"\"),\"\",X1148+1)","v":""},null,null,"",{"$nulls":4},{"$f":"IF(A1148=\"\",\"\",IF(ISNUMBER(Y1148),2,IF(A1149=\"\",IF(OR(AK1148>0,VLOOKUP(O1148,EventConfig!A:C,3,FALSE)=4),3,\"\"),1)))","v":1},{"$f":"IF(AI1148=\"\",\"\",CHOOSE(AI1148,IF(AK1148=\"\",A1148+1,AK1148),CONCATENATE(IF(AK1148=\"\",A1148+1,AK1148),\";101\"),IF(AK1148=\"\",O1148+1,AK1148)))","v":913405},null,6342]
[913405,6338,"完成和NPC的对话","",{"$nulls":5},135,{"$f":"IF(J1149=\"\",\"\",VLOOKUP(J1149,EventNPC!A:E,5,FALSE))","v":"血海宗弟子B"},6343,"什么人？竟敢阻挡血海宗办事。",null,9134,5,"",null,null,{"$f":"IF(R1149=\"\",\"\",\"-\"&VLOOKUP(R1149,EventConditionConfig!A:C,3,FALSE)&IF(S1149=\"\",\"\",CHAR(10)&\"-\"&VLOOKUP(S1149,EventConditionConfig!A:C,3,FALSE)))","v":""},"","","","",null,null,"",null,null,"",{"$nulls":4},{"$f":"IF(A1149=\"\",\"\",IF(ISNUMBER(Y1149),2,IF(A1150=\"\",IF(OR(AK1149>0,VLOOKUP(O1149,EventConfig!A:C,3,FALSE)=4),3,\"\"),1)))","v":1},913406,null,6343]
[{"$f":"O1150*100+P1150","v":913406},{"$f":"IF(C1150=\"\",\"\",IF(C1150=C1149,B1149,MAX(AL1149,AL1148)+1))","v":6338},"完成和NPC的对话",{"$f":"IF(E1150=\"\",\"\",IF(E1150=E1149,D1149,MAX(AL1149,AL1148,B1150)+1))","v":""},{"$nulls":5},100,{"$f":"IF(J1150=\"\",\"\",VLOOKUP(J1150,EventNPC!A:E,5,FALSE))","v":"玩家"},{"$f":"IF(M1150=\"\",\"\",MAX(AL1149,AL1148,B1150,D1150)+1)","v":6344},"我就一名散修，看不惯你们血海宗的肮脏行为。",null,9134,{"$f":"IF(O1150=\"\",\"\",IF(O1150=O1149,P1149+1,1))","v":6},{"$f":"_xlfn.TEXTJOIN(\";\",1,R1150:S1150)","v":""},null,null,{"$f":"IF(R1150=\"\",\"\",\"-\"&VLOOKUP(R1150,EventConditionConfig!A:C,3,FALSE)&IF(S1150=\"\",\"\",CHAR(10)&\"-\"&VLOOKUP(S1150,EventConditionConfig!A:C,3,FALSE)))","v":""},{"$f":"IF(Y1150=\"\",\"\",IF(ISTEXT(Y1150),1,2))","v":""},"","",{"$f":"IF(OR(ISNUMBER(Y1150),Y1150=\"\"),\"\",MAX(AL1149,AL1147,B1150,D1150,L1150)+1)","v":""},null,null,{"$f":"IF(OR(ISNUMBER(AB1150),AB1150=\"\"),\"\",X1150+1)","v":""},null,null,"",{"$nulls":4},{"$f":"IF(A1150=\"\",\"\",IF(ISNUMBER(Y1150),2,IF(A1151=\"\",IF(OR(AK1150>0,VLOOKUP(O1150,EventConfig!A:C,3,FALSE)=4),3,\"\"),1)))","v":1},{"$f":"IF(AI1150=\"\",\"\",CHOOSE(AI1150,IF(AK1150=\"\",A1150+1,AK1150),CONCATENATE(IF(AK1150=\"\",A1150+1,AK1150),\";101\"),IF(AK1150=\"\",O1150+1,AK1150)))","v":913407},null,6344]
[913407,6338,"完成和NPC的对话","",{"$nulls":5},142,{"$f":"IF(J1151=\"\",\"\",VLOOKUP(J1151,EventNPC!A:E,5,FALSE))","v":"林风"},6345,"（疲惫受伤）：道友救命！在下林风，望道友相助！",null,9134,7,"",null,null,{"$f":"IF(R1151=\"\",\"\",\"-\"&VLOOKUP(R1151,EventConditionConfig!A:C,3,FALSE)&IF(S1151=\"\",\"\",CHAR(10)&\"-\"&VLOOKUP(S1151,EventConditionConfig!A:C,3,FALSE)))","v":""},"","","","",null,null,"",null,null,"",{"$nulls":4},{"$f":"IF(A1151=\"\",\"\",IF(ISNUMBER(Y1151),2,IF(A1152=\"\",IF(OR(AK1151>0,VLOOKUP(O1151,EventConfig!A:C,3,FALSE)=4),3,\"\"),1)))","v":1},913408,null,6345]
[{"$f":"O1152*100+P1152","v":913408},{"$f":"IF(C1152=\"\",\"\",IF(C1152=C1151,B1151,MAX(AL1151,AL1150)+1))","v":6338},"完成和NPC的对话",{"$f":"IF(E1152=\"\",\"\",IF(E1152=E1151,D1151,MAX(AL1151,AL1150,B1152)+1))","v":""},{"$nulls":5},100,{"$f":"IF(J1152=\"\",\"\",VLOOKUP(J1152,EventNPC!A:E,5,FALSE))","v":"玩家"},{"$f":"IF(M1152=\"\",\"\",MAX(AL1151,AL1150,B1152,D1152)+1)","v":6346},"血海宗欺人太甚！林道友放心，我必护你周全",null,9134,{"$f":"IF(O1152=\"\",\"\",IF(O1152=O1151,P1151+1,1))","v":8},{"$f":"_xlfn.TEXTJOIN(\";\",1,R1152:S1152)","v":""},null,null,{"$f":"IF(R1152=\"\",\"\",\"-\"&VLOOKUP(R1152,EventConditionConfig!A:C,3,FALSE)&IF(S1152=\"\",\"\",CHAR(10)&\"-\"&VLOOKUP(S1152,EventConditionConfig!A:C,3,FALSE)))","v":""},{"$f":"IF(Y1152=\"\",\"\",IF(ISTEXT(Y1152),1,2))","v":""},"","",{"$f":"IF(OR(ISNUMBER(Y1152),Y1152=\"\"),\"\",MAX(AL1151,AL1149,B1152,D1152,L1152)+1)","v":""},null,null,{"$f":"IF(OR(ISNUMBER(AB1152),AB1152=\"\"),\"\",X1152+1)","v":""},null,null,"",{"$nulls":4},{"$f":"IF(A1152=\"\",\"\",IF(ISNUMBER(Y1152),2,IF(A1153=\"\",IF(OR(AK1152>0,VLOOKUP(O1152,EventConfig!A:C,3,FALSE)=4),3,\"\"),1)))","v":1},{"$f":"IF(AI1152=\"\",\"\",CHOOSE(AI1152,IF(AK1152=\"\",A1152+1,AK1152),CONCATENATE(IF(AK1152=\"\",A1152+1,AK1152),\";101\"),IF(AK1152=\"\",O1152+1,AK1152)))","v":913409},null,6346]
[913409,6338,"完成和NPC的对话","",{"$nulls":5},142,{"$f":"IF(J1153=\"\",\"\",VLOOKUP(J1153,EventNPC!A:E,5,FALSE))","v":"林风"},6347,"道友大恩，林某没齿难忘！只是血海宗狡诈，恐有埋伏，需小心行事！",null,9134,9,"",null,null,{"$f":"IF(R1153=\"\",\"\",\"-\"&VLOOKUP(R1153,EventConditionConfig!A:C,3,FALSE)&IF(S1153=\"\",\"\",CHAR(10)&\"-\"&VLOOKUP(S1153,EventConditionConfig!A:C,3,FALSE)))","v":""},"","","","",null,null,"",null,null,"",{"$nulls":4},{"$f":"IF(A1153=\"\",\"\",IF(ISNUMBER(Y1153),2,IF(A1154=\"\",IF(OR(AK1153>0,VLOOKUP(O1153,EventConfig!A:C,3,FALSE)=4),3,\"\"),1)))","v":1},913410,null,6347]
[913410,6338,"完成和NPC的对话","",{"$nulls":5},135,{"$f":"IF(J1154=\"\",\"\",VLOOKUP(J1154,EventNPC!A:E,5,FALSE))","v":"血海宗弟子B"},6348,"真是找死！",null,9134,10,"",null,null,{"$f":"IF(R1154=\"\",\"\",\"-\"&VLOOKUP(R1154,EventConditionConfig!A:C,3,FALSE)&IF(S1154=\"\",\"\",CHAR(10)&\"-\"&VLOOKUP(S1154,EventConditionConfig!A:C,3,FALSE)))","v":""},2,4016,"","",4016,null,"",null,null,"",{"$nulls":4},{"$f":"IF(A1154=\"\",\"\",IF(ISNUMBER(Y1154),2,IF(A1155=\"\",IF(OR(AK1154>0,VLOOKUP(O1154,EventConfig!A:C,3,FALSE)=4),3,\"\"),1)))","v":2},"913411;101",null,6348]
[{"$f":"O1155*100+P1155","v":913411},{"$f":"IF(C1155=\"\",\"\",IF(C1155=C1154,B1154,MAX(AL1154,AL1153)+1))","v":6338},"完成和NPC的对话",{"$f":"IF(E1155=\"\",\"\",IF(E1155=E1154,D1154,MAX(AL1154,AL1153,B1155)+1))","v":""},{"$nulls":5},142,{"$f":"IF(J1155=\"\",\"\",VLOOKUP(J1155,EventNPC!A:E,5,FALSE))","v":"林风"},{"$f":"IF(M1155=\"\",\"\",MAX(AL1154,AL1153,B1155,D1155)+1)","v":6349},"感谢道友出手相助，不知道友贵姓？",null,9134,{"$f":"IF(O1155=\"\",\"\",IF(O1155=O1154,P1154+1,1))","v":11},{"$f":"_xlfn.TEXTJOIN(\";\",1,R1155:S1155)","v":""},null,null,{"$f":"IF(R1155=\"\",\"\",\"-\"&VLOOKUP(R1155,EventConditionConfig!A:C,3,FALSE)&IF(S1155=\"\",\"\",CHAR(10)&\"-\"&VLOOKUP(S1155,EventConditionConfig!A:C,3,FALSE)))","v":""},{"$f":"IF(Y1155=\"\",\"\",IF(ISTEXT(Y1155),1,2))","v":""},"","",{"$f":"IF(OR(ISNUMBER(Y1155),Y1155=\"\"),\"\",MAX(AL1154,AL1152,B1155,D1155,L1155)+1)","v":""},null,null,{"$f":"IF(OR(ISNUMBER(AB1155),AB1155=\"\"),\"\",X1155+1)","v":""},null,null,"",{"$nulls":4},{"$f":"IF(A1155=\"\",\"\",IF(ISNUMBER(Y1155),2,IF(A1156=\"\",IF(OR(AK1155>0,VLOOKUP(O1155,EventConfig!A:C,3,FALSE)=4),3,\"\"),1)))","v":1},{"$f":"IF(AI1155=\"\",\"\",CHOOSE(AI1155,IF(AK1155=\"\",A1155+1,AK1155),CONCATENATE(IF(AK1155=\"\",A1155+1,AK1155),\";101\"),IF(AK1155=\"\",O1155+1,AK1155)))","v":913412},null,6349]
[913412,6338,"完成和NPC的对话","",{"$nulls":5},100,{"$f":"IF(J1156=\"\",\"\",VLOOKUP(J1156,EventNPC!A:E,5,FALSE))","v":"玩家"},6350,"在下{玩家名}",null,9134,12,"",null,null,{"$f":"IF(R1156=\"\",\"\",\"-\"&VLOOKUP(R1156,EventConditionConfig!A:C,3,FALSE)&IF(S1156=\"\",\"\",CHAR(10)&\"-\"&VLOOKUP(S1156,EventConditionConfig!A:C,3,FALSE)))","v":""},"","","","",null,null,"",null,null,"",{"$nulls":4},{"$f":"IF(A1156=\"\",\"\",IF(ISNUMBER(Y1156),2,IF(A1157=\"\",IF(OR(AK1156>0,VLOOKUP(O1156,EventConfig!A:C,3,FALSE)=4),3,\"\"),1)))","v":1},913413,null,6350]
[{"$f":"O1157*100+P1157","v":913413},{"$f":"IF(C1157=\"\",\"\",IF(C1157=C1156,B1156,MAX(AL1156,AL1155)+1))","v":6338},"完成和NPC的对话",{"$f":"IF(E1157=\"\",\"\",IF(E1157=E1156,D1156,MAX(AL1156,AL1155,B1157)+1))","v":""},{"$nulls":5},142,{"$f":"IF(J1157=\"\",\"\",VLOOKUP(J1157,EventNPC!A:E,5,FALSE))","v":"林风"},{"$f":"IF(M1157=\"\",\"\",MAX(AL1156,AL1155,B1157,D1157)+1)","v":6351},"{玩家名}道友，在下身受重伤，血海宗的恶贼肯定还是派人来追杀夺走玄冥晶，若道友能护我到百里外的青云镇，我愿献上二阶灵丹，助你修行！",null,9134,{"$f":"IF(O1157=\"\",\"\",IF(O1157=O1156,P1156+1,1))","v":13},{"$f":"_xlfn.TEXTJOIN(\";\",1,R1157:S1157)","v":""},null,null,{"$f":"IF(R1157=\"\",\"\",\"-\"&VLOOKUP(R1157,EventConditionConfig!A:C,3,FALSE)&IF(S1157=\"\",\"\",CHAR(10)&\"-\"&VLOOKUP(S1157,EventConditionConfig!A:C,3,FALSE)))","v":""},{"$f":"IF(Y1157=\"\",\"\",IF(ISTEXT(Y1157),1,2))","v":1},"913414;913415","6352;6353",{"$f":"IF(OR(ISNUMBER(Y1157),Y1157=\"\"),\"\",MAX(AL1156,AL1154,B1157,D1157,L1157)+1)","v":6352},"血海宗欺人太甚！林道友，我必护你周全，前往青云镇！",{"$f":"A1158","v":913414},{"$f":"IF(OR(ISNUMBER(AB1157),AB1157=\"\"),\"\",X1157+1)","v":6353},"玄冥晶为何引来血海宗如此追杀？",{"$f":"A1159","v":913415},"",null,{"$f":"D1159","v":""},null,null,{"$f":"IF(A1157=\"\",\"\",IF(ISNUMBER(Y1157),2,IF(A1158=\"\",IF(OR(AK1157>0,VLOOKUP(O1157,EventConfig!A:C,3,FALSE)=4),3,\"\"),1)))","v":1},{"$f":"IF(AI1157=\"\",\"\",CHOOSE(AI1157,IF(AK1157=\"\",A1157+1,AK1157),CONCATENATE(IF(AK1157=\"\",A1157+1,AK1157),\";101\"),IF(AK1157=\"\",O1157+1,AK1157)))","v":913414},null,6353]
[913414,6338,"完成和NPC的对话","",{"$nulls":5},142,{"$f":"IF(J1158=\"\",\"\",VLOOKUP(J1158,EventNPC!A:E,5,FALSE))","v":"林风"},6354,"道友大恩，林某没齿难忘！只是血海宗狡诈，恐有埋伏，需小心行事！",null,9134,14,"",null,null,{"$f":"IF(R1158=\"\",\"\",\"-\"&VLOOKUP(R1158,EventConditionConfig!A:C,3,FALSE)&IF(S1158=\"\",\"\",CHAR(10)&\"-\"&VLOOKUP(S1158,EventConditionConfig!A:C,3,FALSE)))","v":""},"","","","",null,null,"",null,null,"",{"$nulls":4},{"$f":"IF(A1158=\"\",\"\",IF(ISNUMBER(Y1158),2,IF(A1159=\"\",IF(OR(AK1158>0,VLOOKUP(O1158,EventConfig!A:C,3,FALSE)=4),3,\"\"),1)))","v":1},913417,{"$f":"A1161","v":913417},6354]
[{"$f":"O1159*100+P1159","v":913415},{"$f":"IF(C1159=\"\",\"\",IF(C1159=C1158,B1158,MAX(AL1158,AL1157)+1))","v":6338},"完成和NPC的对话",{"$f":"IF(E1159=\"\",\"\",IF(E1159=E1158,D1158,MAX(AL1158,AL1157,B1159)+1))","v":""},{"$nulls":5},142,{"$f":"IF(J1159=\"\",\"\",VLOOKUP(J1159,EventNPC!A:E,5,FALSE))","v":"林风"},{"$f":"IF(M1159=\"\",\"\",MAX(AL1158,AL1157,B1159,D1159)+1)","v":6355},"玄冥晶乃炼制上品法宝的至宝，血海宗欲用它炼制邪器，祸害苍生。",null,9134,{"$f":"IF(O1159=\"\",\"\",IF(O1159=O1158,P1158+1,1))","v":15},{"$f":"_xlfn.TEXTJOIN(\";\",1,R1159:S1159)","v":""},null,null,{"$f":"IF(R1159=\"\",\"\",\"-\"&VLOOKUP(R1159,EventConditionConfig!A:C,3,FALSE)&IF(S1159=\"\",\"\",CHAR(10)&\"-\"&VLOOKUP(S1159,EventConditionConfig!A:C,3,FALSE)))","v":""},{"$f":"IF(Y1159=\"\",\"\",IF(ISTEXT(Y1159),1,2))","v":""},"","",{"$f":"IF(OR(ISNUMBER(Y1159),Y1159=\"\"),\"\",MAX(AL1158,AL1156,B1159,D1159,L1159)+1)","v":""},null,null,{"$f":"IF(OR(ISNUMBER(AB1159),AB1159=\"\"),\"\",X1159+1)","v":""},null,null,"",{"$nulls":4},{"$f":"IF(A1159=\"\",\"\",IF(ISNUMBER(Y1159),2,IF(A1160=\"\",IF(OR(AK1159>0,VLOOKUP(O1159,EventConfig!A:C,3,FALSE)=4),3,\"\"),1)))","v":1},{"$f":"IF(AI1159=\"\",\"\",CHOOSE(AI1159,IF(AK1159=\"\",A1159+1,AK1159),CONCATENATE(IF(AK1159=\"\",A1159+1,AK1159),\";101\"),IF(AK1159=\"\",O1159+1,AK1159)))","v":913416},null,6355]
[913416,6338,"完成和NPC的对话","",{"$nulls":5},100,{"$f":"IF(J1160=\"\",\"\",VLOOKUP(J1160,EventNPC!A:E,5,FALSE))","v":"玩家"},6356,"这血海宗真是一大邪宗，林道友放心，我必护你周全，前往青云镇。",null,9134,16,"",null,null,{"$f":"IF(R1160=\"\",\"\",\"-\"&VLOOKUP(R1160,EventConditionConfig!A:C,3,FALSE)&IF(S1160=\"\",\"\",CHAR(10)&\"-\"&VLOOKUP(S1160,EventConditionConfig!A:C,3,FALSE)))","v":""},"","","","",null,null,"",null,null,"",{"$nulls":4},{"$f":"IF(A1160=\"\",\"\",IF(ISNUMBER(Y1160),2,IF(A1161=\"\",IF(OR(AK1160>0,VLOOKUP(O1160,EventConfig!A:C,3,FALSE)=4),3,\"\"),1)))","v":1},913417,{"$f":"A1161","v":913417},6356]
[{"$f":"O1161*100+P1161","v":913417},{"$f":"IF(C1161=\"\",\"\",IF(C1161=C1160,B1160,MAX(AL1160,AL1159)+1))","v":6338},"完成和NPC的对话",{"$f":"IF(E1161=\"\",\"\",IF(E1161=E1160,D1160,MAX(AL1160,AL1159,B1161)+1))","v":""},{"$nulls":5},142,{"$f":"IF(J1161=\"\",\"\",VLOOKUP(J1161,EventNPC!A:E,5,FALSE))","v":"林风"},{"$f":"IF(M1161=\"\",\"\",MAX(AL1160,AL1159,B1161,D1161)+1)","v":6357},"多谢{玩家名}道友，这丹药你先拿着",null,9134,{"$f":"IF(O1161=\"\",\"\",IF(O1161=O1160,P1160+1,1))","v":17},{"$f":"_xlfn.TEXTJOIN(\";\",1,R1161:S1161)","v":""},null,null,{"$f":"IF(R1161=\"\",\"\",\"-\"&VLOOKUP(R1161,EventConditionConfig!A:C,3,FALSE)&IF(S1161=\"\",\"\",CHAR(10)&\"-\"&VLOOKUP(S1161,EventConditionConfig!A:C,3,FALSE)))","v":""},{"$f":"IF(Y1161=\"\",\"\",IF(ISTEXT(Y1161),1,2))","v":""},"","",{"$f":"IF(OR(ISNUMBER(Y1161),Y1161=\"\"),\"\",MAX(AL1160,AL1158,B1161,D1161,L1161)+1)","v":""},null,null,{"$f":"IF(OR(ISNUMBER(AB1161),AB1161=\"\"),\"\",X1161+1)","v":""},null,null,"",{"$nulls":4},{"$f":"IF(A1161=\"\",\"\",IF(ISNUMBER(Y1161),2,IF(A1162=\"\",IF(OR(AK1161>0,VLOOKUP(O1161,EventConfig!A:C,3,FALSE)=4),3,\"\"),1)))","v":""},{"$f":"IF(AI1161=\"\",\"\",CHOOSE(AI1161,IF(AK1161=\"\",A1161+1,AK1161),CONCATENATE(IF(AK1161=\"\",A1161+1,AK1161),\";101\"),IF(AK1161=\"\",O1161+1,AK1161)))","v":""},null,6357]
[{"$nulls":21},"","",{"$nulls":14},""]
[{"$f":"O1163*100+P1163","v":913501},{"$f":"IF(C1163=\"\",\"\",IF(C1163=C1162,B1162,MAX(AL1162,AL1161)+1))","v":6358},"完成和NPC的对话",{"$f":"IF(E1163=\"\",\"\",IF(E1163=E1162,D1162,MAX(AL1162,AL1161,B1163)+1))","v":""},{"$nulls":5},133,{"$f":"IF(J1163=\"\",\"\",VLOOKUP(J1163,EventNPC!A:E,5,FALSE))","v":"血海宗弟子A"},{"$f":"IF(M1163=\"\",\"\",MAX(AL1162,AL1161,B1163,D1163)+1)","v":6359},"交出玄冥晶，饶你不死！",null,9135,{"$f":"IF(O1163=\"\",\"\",IF(O1163=O1162,P1162+1,1))","v":1},{"$f":"_xlfn.TEXTJOIN(\";\",1,R1163:S1163)","v":""},null,null,{"$f":"IF(R1163=\"\",\"\",\"-\"&VLOOKUP(R1163,EventConditionConfig!A:C,3,FALSE)&IF(S1163=\"\",\"\",CHAR(10)&\"-\"&VLOOKUP(S1163,EventConditionConfig!A:C,3,FALSE)))","v":""},{"$f":"IF(Y1163=\"\",\"\",IF(ISTEXT(Y1163),1,2))","v":2},4017,"",{"$f":"IF(OR(ISNUMBER(Y1163),Y1163=\"\"),\"\",MAX(AL1162,AL1160,B1163,D1163,L1163)+1)","v":""},4017,null,{"$f":"IF(OR(ISNUMBER(AB1163),AB1163=\"\"),\"\",X1163+1)","v":""},null,null,{"$f":"IF(OR(ISNUMBER(AE1163),AE1163=\"\"),\"\",AA1163+1)","v":""},{"$nulls":4},{"$f":"IF(A1163=\"\",\"\",IF(ISNUMBER(Y1163),2,IF(A1164=\"\",IF(OR(AK1163>0,VLOOKUP(O1163,EventConfig!A:C,3,FALSE)=4),3,\"\"),1)))","v":2},{"$f":"IF(AI1163=\"\",\"\",CHOOSE(AI1163,IF(AK1163=\"\",A1163+1,AK1163),CONCATENATE(IF(AK1163=\"\",A1163+1,AK1163),\";101\"),IF(AK1163=\"\",O1163+1,AK1163)))","v":"913502;101"},null,6359]
[{"$f":"O1164*100+P1164","v":913502},{"$f":"IF(C1164=\"\",\"\",IF(C1164=C1163,B1163,MAX(AL1163,AL1162)+1))","v":6358},"完成和NPC的对话",{"$f":"IF(E1164=\"\",\"\",IF(E1164=E1163,D1163,MAX(AL1163,AL1162,B1164)+1))","v":""},{"$nulls":5},135,{"$f":"IF(J1164=\"\",\"\",VLOOKUP(J1164,EventNPC!A:E,5,FALSE))","v":"血海宗弟子B"},{"$f":"IF(M1164=\"\",\"\",MAX(AL1163,AL1162,B1164,D1164)+1)","v":6360},"师兄你暂且休息，换我来会会他~",null,9135,{"$f":"IF(O1164=\"\",\"\",IF(O1164=O1163,P1163+1,1))","v":2},{"$f":"_xlfn.TEXTJOIN(\";\",1,R1164:S1164)","v":""},null,null,{"$f":"IF(R1164=\"\",\"\",\"-\"&VLOOKUP(R1164,EventConditionConfig!A:C,3,FALSE)&IF(S1164=\"\",\"\",CHAR(10)&\"-\"&VLOOKUP(S1164,EventConditionConfig!A:C,3,FALSE)))","v":""},{"$f":"IF(Y1164=\"\",\"\",IF(ISTEXT(Y1164),1,2))","v":2},4018,"",{"$f":"IF(OR(ISNUMBER(Y1164),Y1164=\"\"),\"\",MAX(AL1163,AL1161,B1164,D1164,L1164)+1)","v":""},4018,null,{"$f":"IF(OR(ISNUMBER(AB1164),AB1164=\"\"),\"\",X1164+1)","v":""},null,null,"",{"$nulls":4},{"$f":"IF(A1164=\"\",\"\",IF(ISNUMBER(Y1164),2,IF(A1165=\"\",IF(OR(AK1164>0,VLOOKUP(O1164,EventConfig!A:C,3,FALSE)=4),3,\"\"),1)))","v":2},{"$f":"IF(AI1164=\"\",\"\",CHOOSE(AI1164,IF(AK1164=\"\",A1164+1,AK1164),CONCATENATE(IF(AK1164=\"\",A1164+1,AK1164),\";101\"),IF(AK1164=\"\",O1164+1,AK1164)))","v":"913503;101"},null,6360]
[{"$f":"O1165*100+P1165","v":913503},{"$f":"IF(C1165=\"\",\"\",IF(C1165=C1164,B1164,MAX(AL1164,AL1163)+1))","v":6358},"完成和NPC的对话",{"$f":"IF(E1165=\"\",\"\",IF(E1165=E1164,D1164,MAX(AL1164,AL1163,B1165)+1))","v":""},{"$nulls":5},136,{"$f":"IF(J1165=\"\",\"\",VLOOKUP(J1165,EventNPC!A:E,5,FALSE))","v":"血海宗敌人"},{"$f":"IF(M1165=\"\",\"\",MAX(AL1164,AL1163,B1165,D1165)+1)","v":6361},"两个废物！一个散修都打不过！",null,9135,{"$f":"IF(O1165=\"\",\"\",IF(O1165=O1164,P1164+1,1))","v":3},{"$f":"_xlfn.TEXTJOIN(\";\",1,R1165:S1165)","v":""},null,null,{"$f":"IF(R1165=\"\",\"\",\"-\"&VLOOKUP(R1165,EventConditionConfig!A:C,3,FALSE)&IF(S1165=\"\",\"\",CHAR(10)&\"-\"&VLOOKUP(S1165,EventConditionConfig!A:C,3,FALSE)))","v":""},{"$f":"IF(Y1165=\"\",\"\",IF(ISTEXT(Y1165),1,2))","v":2},4019,"",{"$f":"IF(OR(ISNUMBER(Y1165),Y1165=\"\"),\"\",MAX(AL1164,AL1162,B1165,D1165,L1165)+1)","v":""},4019,null,{"$f":"IF(OR(ISNUMBER(AB1165),AB1165=\"\"),\"\",X1165+1)","v":""},null,null,"",{"$nulls":4},{"$f":"IF(A1165=\"\",\"\",IF(ISNUMBER(Y1165),2,IF(A1166=\"\",IF(OR(AK1165>0,VLOOKUP(O1165,EventConfig!A:C,3,FALSE)=4),3,\"\"),1)))","v":2},{"$f":"IF(AI1165=\"\",\"\",CHOOSE(AI1165,IF(AK1165=\"\",A1165+1,AK1165),CONCATENATE(IF(AK1165=\"\",A1165+1,AK1165),\";101\"),IF(AK1165=\"\",O1165+1,AK1165)))","v":"913504;101"},null,6361]
[913504,6358,"完成和NPC的对话","",{"$nulls":5},142,{"$f":"IF(J1166=\"\",\"\",VLOOKUP(J1166,EventNPC!A:E,5,FALSE))","v":"林风"},6362,"终于摆脱了追敌，前方不远处就是青云镇。",null,9135,4,"",null,null,{"$f":"IF(R1166=\"\",\"\",\"-\"&VLOOKUP(R1166,EventConditionConfig!A:C,3,FALSE)&IF(S1166=\"\",\"\",CHAR(10)&\"-\"&VLOOKUP(S1166,EventConditionConfig!A:C,3,FALSE)))","v":""},"",{"$f":"IF(U1166=1,_xlfn.TEXTJOIN(\";\",1,IF(Z1166=\"\",A1166+1,Z1166),IF(AND(AA1166<>\"\",AC1166=\"\"),A1166+1,AC1166),IF(AND(AD1166<>\"\",AF1166=\"\"),A1166+1,AF1166)),IF(U1166=2,Y1166,\"\"))","v":""},{"$f":"_xlfn.TEXTJOIN(\";\",1,X1166,AA1166,AD1166)","v":""},"",null,null,"",null,null,"",{"$nulls":4},{"$f":"IF(A1166=\"\",\"\",IF(ISNUMBER(Y1166),2,IF(A1167=\"\",IF(OR(AK1166>0,VLOOKUP(O1166,EventConfig!A:C,3,FALSE)=4),3,\"\"),1)))","v":""},"",null,6362]
[{"$nulls":21},"","",{"$nulls":14},""]
[{"$f":"O1168*100+P1168","v":913601},{"$f":"IF(C1168=\"\",\"\",IF(C1168=C1167,B1167,MAX(AL1167,AL1166)+1))","v":6363},"完成和NPC的对话",{"$f":"IF(E1168=\"\",\"\",IF(E1168=E1167,D1167,MAX(AL1167,AL1166,B1168)+1))","v":""},{"$nulls":5},143,{"$f":"IF(J1168=\"\",\"\",VLOOKUP(J1168,EventNPC!A:E,5,FALSE))","v":"柳清清"},{"$f":"IF(M1168=\"\",\"\",MAX(AL1167,AL1166,B1168,D1168)+1)","v":6364},"师兄这是怎么了？",null,9136,{"$f":"IF(O1168=\"\",\"\",IF(O1168=O1167,P1167+1,1))","v":1},{"$f":"_xlfn.TEXTJOIN(\";\",1,R1168:S1168)","v":""},null,null,{"$f":"IF(R1168=\"\",\"\",\"-\"&VLOOKUP(R1168,EventConditionConfig!A:C,3,FALSE)&IF(S1168=\"\",\"\",CHAR(10)&\"-\"&VLOOKUP(S1168,EventConditionConfig!A:C,3,FALSE)))","v":""},{"$f":"IF(Y1168=\"\",\"\",IF(ISTEXT(Y1168),1,2))","v":""},"","",{"$f":"IF(OR(ISNUMBER(Y1168),Y1168=\"\"),\"\",MAX(AL1167,AL1165,B1168,D1168,L1168)+1)","v":""},null,null,{"$f":"IF(OR(ISNUMBER(AB1168),AB1168=\"\"),\"\",X1168+1)","v":""},null,null,{"$f":"IF(OR(ISNUMBER(AE1168),AE1168=\"\"),\"\",AA1168+1)","v":""},{"$nulls":4},{"$f":"IF(A1168=\"\",\"\",IF(ISNUMBER(Y1168),2,IF(A1169=\"\",IF(OR(AK1168>0,VLOOKUP(O1168,EventConfig!A:C,3,FALSE)=4),3,\"\"),1)))","v":1},{"$f":"IF(AI1168=\"\",\"\",CHOOSE(AI1168,IF(AK1168=\"\",A1168+1,AK1168),CONCATENATE(IF(AK1168=\"\",A1168+1,AK1168),\";101\"),IF(AK1168=\"\",O1168+1,AK1168)))","v":913602},null,6364]
[{"$f":"O1169*100+P1169","v":913602},{"$f":"IF(C1169=\"\",\"\",IF(C1169=C1168,B1168,MAX(AL1168,AL1167)+1))","v":6363},"完成和NPC的对话",{"$f":"IF(E1169=\"\",\"\",IF(E1169=E1168,D1168,MAX(AL1168,AL1167,B1169)+1))","v":""},{"$nulls":5},142,{"$f":"IF(J1169=\"\",\"\",VLOOKUP(J1169,EventNPC!A:E,5,FALSE))","v":"林风"},{"$f":"IF(M1169=\"\",\"\",MAX(AL1168,AL1167,B1169,D1169)+1)","v":6365},"（带伤）：拍卖会回来的路上被血海宗的人暗算，幸亏获得这位道兄相助才逃过此劫。",null,9136,{"$f":"IF(O1169=\"\",\"\",IF(O1169=O1168,P1168+1,1))","v":2},{"$f":"_xlfn.TEXTJOIN(\";\",1,R1169:S1169)","v":""},null,null,{"$f":"IF(R1169=\"\",\"\",\"-\"&VLOOKUP(R1169,EventConditionConfig!A:C,3,FALSE)&IF(S1169=\"\",\"\",CHAR(10)&\"-\"&VLOOKUP(S1169,EventConditionConfig!A:C,3,FALSE)))","v":""},{"$f":"IF(Y1169=\"\",\"\",IF(ISTEXT(Y1169),1,2))","v":""},"","",{"$f":"IF(OR(ISNUMBER(Y1169),Y1169=\"\"),\"\",MAX(AL1168,AL1166,B1169,D1169,L1169)+1)","v":""},null,null,{"$f":"IF(OR(ISNUMBER(AB1169),AB1169=\"\"),\"\",X1169+1)","v":""},null,null,"",{"$nulls":4},{"$f":"IF(A1169=\"\",\"\",IF(ISNUMBER(Y1169),2,IF(A1170=\"\",IF(OR(AK1169>0,VLOOKUP(O1169,EventConfig!A:C,3,FALSE)=4),3,\"\"),1)))","v":1},{"$f":"IF(AI1169=\"\",\"\",CHOOSE(AI1169,IF(AK1169=\"\",A1169+1,AK1169),CONCATENATE(IF(AK1169=\"\",A1169+1,AK1169),\";101\"),IF(AK1169=\"\",O1169+1,AK1169)))","v":913603},null,6365]
[913603,6363,"完成和NPC的对话","",{"$nulls":5},143,{"$f":"IF(J1170=\"\",\"\",VLOOKUP(J1170,EventNPC!A:E,5,FALSE))","v":"柳清清"},6366,"道兄救命之恩小女子无以回报，在下柳清清这是一点心意还请不要推辞。",null,9136,3,"",null,null,{"$f":"IF(R1170=\"\",\"\",\"-\"&VLOOKUP(R1170,EventConditionConfig!A:C,3,FALSE)&IF(S1170=\"\",\"\",CHAR(10)&\"-\"&VLOOKUP(S1170,EventConditionConfig!A:C,3,FALSE)))","v":""},"","","","",null,null,"",null,null,"",{"$nulls":4},{"$f":"IF(A1170=\"\",\"\",IF(ISNUMBER(Y1170),2,IF(A1171=\"\",IF(OR(AK1170>0,VLOOKUP(O1170,EventConfig!A:C,3,FALSE)=4),3,\"\"),1)))","v":1},913604,null,6366]
[{"$f":"O1171*100+P1171","v":913604},{"$f":"IF(C1171=\"\",\"\",IF(C1171=C1170,B1170,MAX(AL1170,AL1169)+1))","v":6363},"完成和NPC的对话",{"$f":"IF(E1171=\"\",\"\",IF(E1171=E1170,D1170,MAX(AL1170,AL1169,B1171)+1))","v":""},{"$nulls":5},100,{"$f":"IF(J1171=\"\",\"\",VLOOKUP(J1171,EventNPC!A:E,5,FALSE))","v":"玩家"},{"$f":"IF(M1171=\"\",\"\",MAX(AL1170,AL1169,B1171,D1171)+1)","v":6367},"举手之劳，林兄已安全到达此地。那我们就在此别过。",null,9136,{"$f":"IF(O1171=\"\",\"\",IF(O1171=O1170,P1170+1,1))","v":4},{"$f":"_xlfn.TEXTJOIN(\";\",1,R1171:S1171)","v":""},null,null,{"$f":"IF(R1171=\"\",\"\",\"-\"&VLOOKUP(R1171,EventConditionConfig!A:C,3,FALSE)&IF(S1171=\"\",\"\",CHAR(10)&\"-\"&VLOOKUP(S1171,EventConditionConfig!A:C,3,FALSE)))","v":""},{"$f":"IF(Y1171=\"\",\"\",IF(ISTEXT(Y1171),1,2))","v":""},"","",{"$f":"IF(OR(ISNUMBER(Y1171),Y1171=\"\"),\"\",MAX(AL1170,AL1168,B1171,D1171,L1171)+1)","v":""},null,null,{"$f":"IF(OR(ISNUMBER(AB1171),AB1171=\"\"),\"\",X1171+1)","v":""},null,null,"",{"$nulls":4},{"$f":"IF(A1171=\"\",\"\",IF(ISNUMBER(Y1171),2,IF(A1172=\"\",IF(OR(AK1171>0,VLOOKUP(O1171,EventConfig!A:C,3,FALSE)=4),3,\"\"),1)))","v":1},{"$f":"IF(AI1171=\"\",\"\",CHOOSE(AI1171,IF(AK1171=\"\",A1171+1,AK1171),CONCATENATE(IF(AK1171=\"\",A1171+1,AK1171),\";101\"),IF(AK1171=\"\",O1171+1,AK1171)))","v":913605},null,6367]
[913605,6363,"完成和NPC的对话","",{"$nulls":5},142,{"$f":"IF(J1172=\"\",\"\",VLOOKUP(J1172,EventNPC!A:E,5,FALSE))","v":"林风"},6368,"（跟柳清清一起）道友保重！",null,9136,5,"",null,null,{"$f":"IF(R1172=\"\",\"\",\"-\"&VLOOKUP(R1172,EventConditionConfig!A:C,3,FALSE)&IF(S1172=\"\",\"\",CHAR(10)&\"-\"&VLOOKUP(S1172,EventConditionConfig!A:C,3,FALSE)))","v":""},"","","","",null,null,"",null,null,"",{"$nulls":4},{"$f":"IF(A1172=\"\",\"\",IF(ISNUMBER(Y1172),2,IF(A1173=\"\",IF(OR(AK1172>0,VLOOKUP(O1172,EventConfig!A:C,3,FALSE)=4),3,\"\"),1)))","v":""},"",null,6368]
[{"$nulls":21},"","",{"$nulls":14},""]
[{"$f":"O1174*100+P1174","v":913701},{"$f":"IF(C1174=\"\",\"\",IF(C1174=C1173,B1173,MAX(AL1173,AL1172)+1))","v":6369},"完成和NPC的对话",{"$f":"IF(E1174=\"\",\"\",IF(E1174=E1173,D1173,MAX(AL1173,AL1172,B1174)+1))","v":""},{"$nulls":5},142,{"$f":"IF(J1174=\"\",\"\",VLOOKUP(J1174,EventNPC!A:E,5,FALSE))","v":"林风"},{"$f":"IF(M1174=\"\",\"\",MAX(AL1173,AL1172,B1174,D1174)+1)","v":6370},"道友，又遇见你了。",null,9137,{"$f":"IF(O1174=\"\",\"\",IF(O1174=O1173,P1173+1,1))","v":1},{"$f":"_xlfn.TEXTJOIN(\";\",1,R1174:S1174)","v":""},null,null,{"$f":"IF(R1174=\"\",\"\",\"-\"&VLOOKUP(R1174,EventConditionConfig!A:C,3,FALSE)&IF(S1174=\"\",\"\",CHAR(10)&\"-\"&VLOOKUP(S1174,EventConditionConfig!A:C,3,FALSE)))","v":""},{"$f":"IF(Y1174=\"\",\"\",IF(ISTEXT(Y1174),1,2))","v":""},"","",{"$f":"IF(OR(ISNUMBER(Y1174),Y1174=\"\"),\"\",MAX(AL1173,AL1171,B1174,D1174,L1174)+1)","v":""},null,null,{"$f":"IF(OR(ISNUMBER(AB1174),AB1174=\"\"),\"\",X1174+1)","v":""},null,null,{"$f":"IF(OR(ISNUMBER(AE1174),AE1174=\"\"),\"\",AA1174+1)","v":""},{"$nulls":4},{"$f":"IF(A1174=\"\",\"\",IF(ISNUMBER(Y1174),2,IF(A1175=\"\",IF(OR(AK1174>0,VLOOKUP(O1174,EventConfig!A:C,3,FALSE)=4),3,\"\"),1)))","v":1},{"$f":"IF(AI1174=\"\",\"\",CHOOSE(AI1174,IF(AK1174=\"\",A1174+1,AK1174),CONCATENATE(IF(AK1174=\"\",A1174+1,AK1174),\";101\"),IF(AK1174=\"\",O1174+1,AK1174)))","v":913702},null,6370]
[{"$f":"O1175*100+P1175","v":913702},{"$f":"IF(C1175=\"\",\"\",IF(C1175=C1174,B1174,MAX(AL1174,AL1173)+1))","v":6369},"完成和NPC的对话",{"$f":"IF(E1175=\"\",\"\",IF(E1175=E1174,D1174,MAX(AL1174,AL1173,B1175)+1))","v":""},{"$nulls":5},100,{"$f":"IF(J1175=\"\",\"\",VLOOKUP(J1175,EventNPC!A:E,5,FALSE))","v":"玩家"},{"$f":"IF(M1175=\"\",\"\",MAX(AL1174,AL1173,B1175,D1175)+1)","v":6371},"林兄这伤势还没痊愈怎么又出来了。",null,9137,{"$f":"IF(O1175=\"\",\"\",IF(O1175=O1174,P1174+1,1))","v":2},{"$f":"_xlfn.TEXTJOIN(\";\",1,R1175:S1175)","v":""},null,null,{"$f":"IF(R1175=\"\",\"\",\"-\"&VLOOKUP(R1175,EventConditionConfig!A:C,3,FALSE)&IF(S1175=\"\",\"\",CHAR(10)&\"-\"&VLOOKUP(S1175,EventConditionConfig!A:C,3,FALSE)))","v":""},{"$f":"IF(Y1175=\"\",\"\",IF(ISTEXT(Y1175),1,2))","v":""},"","",{"$f":"IF(OR(ISNUMBER(Y1175),Y1175=\"\"),\"\",MAX(AL1174,AL1172,B1175,D1175,L1175)+1)","v":""},null,null,{"$f":"IF(OR(ISNUMBER(AB1175),AB1175=\"\"),\"\",X1175+1)","v":""},null,null,"",{"$nulls":4},{"$f":"IF(A1175=\"\",\"\",IF(ISNUMBER(Y1175),2,IF(A1176=\"\",IF(OR(AK1175>0,VLOOKUP(O1175,EventConfig!A:C,3,FALSE)=4),3,\"\"),1)))","v":1},{"$f":"IF(AI1175=\"\",\"\",CHOOSE(AI1175,IF(AK1175=\"\",A1175+1,AK1175),CONCATENATE(IF(AK1175=\"\",A1175+1,AK1175),\";101\"),IF(AK1175=\"\",O1175+1,AK1175)))","v":913703},null,6371]
[913703,6369,"完成和NPC的对话","",{"$nulls":5},142,{"$f":"IF(J1176=\"\",\"\",VLOOKUP(J1176,EventNPC!A:E,5,FALSE))","v":"林风"},6372,"我太大意了！昨夜一蒙面修士偷袭，玄冥晶被夺，我师妹也被重伤，幸得镇上修士相救才保住性命。那贼人留下血海宗印记，定是带晶石去了郊外。道兄可否再替我前去夺回这晶石?",null,9137,3,"",null,null,{"$f":"IF(R1176=\"\",\"\",\"-\"&VLOOKUP(R1176,EventConditionConfig!A:C,3,FALSE)&IF(S1176=\"\",\"\",CHAR(10)&\"-\"&VLOOKUP(S1176,EventConditionConfig!A:C,3,FALSE)))","v":""},"","","","",null,null,"",null,null,"",{"$nulls":4},{"$f":"IF(A1176=\"\",\"\",IF(ISNUMBER(Y1176),2,IF(A1177=\"\",IF(OR(AK1176>0,VLOOKUP(O1176,EventConfig!A:C,3,FALSE)=4),3,\"\"),1)))","v":1},913704,null,6372]
[{"$f":"O1177*100+P1177","v":913704},{"$f":"IF(C1177=\"\",\"\",IF(C1177=C1176,B1176,MAX(AL1176,AL1175)+1))","v":6369},"完成和NPC的对话",{"$f":"IF(E1177=\"\",\"\",IF(E1177=E1176,D1176,MAX(AL1176,AL1175,B1177)+1))","v":""},{"$nulls":5},100,{"$f":"IF(J1177=\"\",\"\",VLOOKUP(J1177,EventNPC!A:E,5,FALSE))","v":"玩家"},{"$f":"IF(M1177=\"\",\"\",MAX(AL1176,AL1175,B1177,D1177)+1)","v":6373},"林兄放心，我这就前往。",null,9137,{"$f":"IF(O1177=\"\",\"\",IF(O1177=O1176,P1176+1,1))","v":4},{"$f":"_xlfn.TEXTJOIN(\";\",1,R1177:S1177)","v":""},null,null,{"$f":"IF(R1177=\"\",\"\",\"-\"&VLOOKUP(R1177,EventConditionConfig!A:C,3,FALSE)&IF(S1177=\"\",\"\",CHAR(10)&\"-\"&VLOOKUP(S1177,EventConditionConfig!A:C,3,FALSE)))","v":""},{"$f":"IF(Y1177=\"\",\"\",IF(ISTEXT(Y1177),1,2))","v":""},"","",{"$f":"IF(OR(ISNUMBER(Y1177),Y1177=\"\"),\"\",MAX(AL1176,AL1174,B1177,D1177,L1177)+1)","v":""},null,null,{"$f":"IF(OR(ISNUMBER(AB1177),AB1177=\"\"),\"\",X1177+1)","v":""},null,null,"",{"$nulls":4},{"$f":"IF(A1177=\"\",\"\",IF(ISNUMBER(Y1177),2,IF(A1178=\"\",IF(OR(AK1177>0,VLOOKUP(O1177,EventConfig!A:C,3,FALSE)=4),3,\"\"),1)))","v":1},{"$f":"IF(AI1177=\"\",\"\",CHOOSE(AI1177,IF(AK1177=\"\",A1177+1,AK1177),CONCATENATE(IF(AK1177=\"\",A1177+1,AK1177),\";101\"),IF(AK1177=\"\",O1177+1,AK1177)))","v":913705},null,6373]
[913705,6369,"完成和NPC的对话","",{"$nulls":5},142,{"$f":"IF(J1178=\"\",\"\",VLOOKUP(J1178,EventNPC!A:E,5,FALSE))","v":"林风"},6374,"多谢道友。",null,9137,5,"",null,null,{"$f":"IF(R1178=\"\",\"\",\"-\"&VLOOKUP(R1178,EventConditionConfig!A:C,3,FALSE)&IF(S1178=\"\",\"\",CHAR(10)&\"-\"&VLOOKUP(S1178,EventConditionConfig!A:C,3,FALSE)))","v":""},"","","","",null,null,"",null,null,"",{"$nulls":4},{"$f":"IF(A1178=\"\",\"\",IF(ISNUMBER(Y1178),2,IF(A1179=\"\",IF(OR(AK1178>0,VLOOKUP(O1178,EventConfig!A:C,3,FALSE)=4),3,\"\"),1)))","v":1},913706,null,6374]
[{"$f":"O1179*100+P1179","v":913706},{"$f":"IF(C1179=\"\",\"\",IF(C1179=C1178,B1178,MAX(AL1178,AL1177)+1))","v":6369},"完成和NPC的对话",{"$f":"IF(E1179=\"\",\"\",IF(E1179=E1178,D1178,MAX(AL1178,AL1177,B1179)+1))","v":""},{"$nulls":5},142,{"$f":"IF(J1179=\"\",\"\",VLOOKUP(J1179,EventNPC!A:E,5,FALSE))","v":"林风"},{"$f":"IF(M1179=\"\",\"\",MAX(AL1178,AL1177,B1179,D1179)+1)","v":6375},"这是一点我和师妹以前炼制的法宝，看能否帮助到道友。",null,9137,{"$f":"IF(O1179=\"\",\"\",IF(O1179=O1178,P1178+1,1))","v":6},{"$f":"_xlfn.TEXTJOIN(\";\",1,R1179:S1179)","v":""},null,null,{"$f":"IF(R1179=\"\",\"\",\"-\"&VLOOKUP(R1179,EventConditionConfig!A:C,3,FALSE)&IF(S1179=\"\",\"\",CHAR(10)&\"-\"&VLOOKUP(S1179,EventConditionConfig!A:C,3,FALSE)))","v":""},{"$f":"IF(Y1179=\"\",\"\",IF(ISTEXT(Y1179),1,2))","v":""},"","",{"$f":"IF(OR(ISNUMBER(Y1179),Y1179=\"\"),\"\",MAX(AL1178,AL1176,B1179,D1179,L1179)+1)","v":""},null,null,{"$f":"IF(OR(ISNUMBER(AB1179),AB1179=\"\"),\"\",X1179+1)","v":""},null,null,"",{"$nulls":4},{"$f":"IF(A1179=\"\",\"\",IF(ISNUMBER(Y1179),2,IF(A1180=\"\",IF(OR(AK1179>0,VLOOKUP(O1179,EventConfig!A:C,3,FALSE)=4),3,\"\"),1)))","v":1},{"$f":"IF(AI1179=\"\",\"\",CHOOSE(AI1179,IF(AK1179=\"\",A1179+1,AK1179),CONCATENATE(IF(AK1179=\"\",A1179+1,AK1179),\";101\"),IF(AK1179=\"\",O1179+1,AK1179)))","v":913707},null,6375]
[913707,6369,"完成和NPC的对话","",{"$nulls":5},100,{"$f":"IF(J1180=\"\",\"\",VLOOKUP(J1180,EventNPC!A:E,5,FALSE))","v":"玩家"},6376,"好的，交给我，你先回去安静疗伤。",null,9137,7,"",null,null,{"$f":"IF(R1180=\"\",\"\",\"-\"&VLOOKUP(R1180,EventConditionConfig!A:C,3,FALSE)&IF(S1180=\"\",\"\",CHAR(10)&\"-\"&VLOOKUP(S1180,EventConditionConfig!A:C,3,FALSE)))","v":""},"","","","",null,null,"",null,null,"",{"$nulls":4},{"$f":"IF(A1180=\"\",\"\",IF(ISNUMBER(Y1180),2,IF(A1181=\"\",IF(OR(AK1180>0,VLOOKUP(O1180,EventConfig!A:C,3,FALSE)=4),3,\"\"),1)))","v":""},"",null,6376]
[{"$nulls":21},"","",{"$nulls":14},""]
[{"$f":"O1182*100+P1182","v":913801},{"$f":"IF(C1182=\"\",\"\",IF(C1182=C1181,B1181,MAX(AL1181,AL1180)+1))","v":6377},"完成和NPC的对话",{"$f":"IF(E1182=\"\",\"\",IF(E1182=E1181,D1181,MAX(AL1181,AL1180,B1182)+1))","v":""},{"$nulls":5},142,{"$f":"IF(J1182=\"\",\"\",VLOOKUP(J1182,EventNPC!A:E,5,FALSE))","v":"林风"},{"$f":"IF(M1182=\"\",\"\",MAX(AL1181,AL1180,B1182,D1182)+1)","v":6378},"道兄可是带回了玄冥晶？",null,9138,{"$f":"IF(O1182=\"\",\"\",IF(O1182=O1181,P1181+1,1))","v":1},{"$f":"_xlfn.TEXTJOIN(\";\",1,R1182:S1182)","v":""},null,null,{"$f":"IF(R1182=\"\",\"\",\"-\"&VLOOKUP(R1182,EventConditionConfig!A:C,3,FALSE)&IF(S1182=\"\",\"\",CHAR(10)&\"-\"&VLOOKUP(S1182,EventConditionConfig!A:C,3,FALSE)))","v":""},{"$f":"IF(Y1182=\"\",\"\",IF(ISTEXT(Y1182),1,2))","v":""},"","",{"$f":"IF(OR(ISNUMBER(Y1182),Y1182=\"\"),\"\",MAX(AL1181,AL1179,B1182,D1182,L1182)+1)","v":""},null,null,{"$f":"IF(OR(ISNUMBER(AB1182),AB1182=\"\"),\"\",X1182+1)","v":""},null,null,{"$f":"IF(OR(ISNUMBER(AE1182),AE1182=\"\"),\"\",AA1182+1)","v":""},{"$nulls":4},{"$f":"IF(A1182=\"\",\"\",IF(ISNUMBER(Y1182),2,IF(A1183=\"\",IF(OR(AK1182>0,VLOOKUP(O1182,EventConfig!A:C,3,FALSE)=4),3,\"\"),1)))","v":1},{"$f":"IF(AI1182=\"\",\"\",CHOOSE(AI1182,IF(AK1182=\"\",A1182+1,AK1182),CONCATENATE(IF(AK1182=\"\",A1182+1,AK1182),\";101\"),IF(AK1182=\"\",O1182+1,AK1182)))","v":913802},null,6378]
[{"$f":"O1183*100+P1183","v":913802},{"$f":"IF(C1183=\"\",\"\",IF(C1183=C1182,B1182,MAX(AL1182,AL1181)+1))","v":6377},"完成和NPC的对话",{"$f":"IF(E1183=\"\",\"\",IF(E1183=E1182,D1182,MAX(AL1182,AL1181,B1183)+1))","v":""},{"$nulls":5},100,{"$f":"IF(J1183=\"\",\"\",VLOOKUP(J1183,EventNPC!A:E,5,FALSE))","v":"玩家"},{"$f":"IF(M1183=\"\",\"\",MAX(AL1182,AL1181,B1183,D1183)+1)","v":6379},"是的，你看有没有少。",null,9138,{"$f":"IF(O1183=\"\",\"\",IF(O1183=O1182,P1182+1,1))","v":2},{"$f":"_xlfn.TEXTJOIN(\";\",1,R1183:S1183)","v":""},null,null,{"$f":"IF(R1183=\"\",\"\",\"-\"&VLOOKUP(R1183,EventConditionConfig!A:C,3,FALSE)&IF(S1183=\"\",\"\",CHAR(10)&\"-\"&VLOOKUP(S1183,EventConditionConfig!A:C,3,FALSE)))","v":""},{"$f":"IF(Y1183=\"\",\"\",IF(ISTEXT(Y1183),1,2))","v":""},"","",{"$f":"IF(OR(ISNUMBER(Y1183),Y1183=\"\"),\"\",MAX(AL1182,AL1180,B1183,D1183,L1183)+1)","v":""},null,null,{"$f":"IF(OR(ISNUMBER(AB1183),AB1183=\"\"),\"\",X1183+1)","v":""},null,null,"",{"$nulls":4},{"$f":"IF(A1183=\"\",\"\",IF(ISNUMBER(Y1183),2,IF(A1184=\"\",IF(OR(AK1183>0,VLOOKUP(O1183,EventConfig!A:C,3,FALSE)=4),3,\"\"),1)))","v":1},{"$f":"IF(AI1183=\"\",\"\",CHOOSE(AI1183,IF(AK1183=\"\",A1183+1,AK1183),CONCATENATE(IF(AK1183=\"\",A1183+1,AK1183),\";101\"),IF(AK1183=\"\",O1183+1,AK1183)))","v":913803},null,6379]
[913803,6377,"完成和NPC的对话","",{"$nulls":5},142,{"$f":"IF(J1184=\"\",\"\",VLOOKUP(J1184,EventNPC!A:E,5,FALSE))","v":"林风"},6380,"少了一点，不过没关系，有这些也足够了。",null,9138,3,"",null,null,{"$f":"IF(R1184=\"\",\"\",\"-\"&VLOOKUP(R1184,EventConditionConfig!A:C,3,FALSE)&IF(S1184=\"\",\"\",CHAR(10)&\"-\"&VLOOKUP(S1184,EventConditionConfig!A:C,3,FALSE)))","v":""},"","","","",null,null,"",null,null,"",{"$nulls":4},{"$f":"IF(A1184=\"\",\"\",IF(ISNUMBER(Y1184),2,IF(A1185=\"\",IF(OR(AK1184>0,VLOOKUP(O1184,EventConfig!A:C,3,FALSE)=4),3,\"\"),1)))","v":1},913804,null,6380]
[{"$f":"O1185*100+P1185","v":913804},{"$f":"IF(C1185=\"\",\"\",IF(C1185=C1184,B1184,MAX(AL1184,AL1183)+1))","v":6377},"完成和NPC的对话",{"$f":"IF(E1185=\"\",\"\",IF(E1185=E1184,D1184,MAX(AL1184,AL1183,B1185)+1))","v":""},{"$nulls":5},100,{"$f":"IF(J1185=\"\",\"\",VLOOKUP(J1185,EventNPC!A:E,5,FALSE))","v":"玩家"},{"$f":"IF(M1185=\"\",\"\",MAX(AL1184,AL1183,B1185,D1185)+1)","v":6381},"我看血海宗对这个玄冥晶很重视，玄冥晶除了炼制法宝还有什么用？",null,9138,{"$f":"IF(O1185=\"\",\"\",IF(O1185=O1184,P1184+1,1))","v":4},{"$f":"_xlfn.TEXTJOIN(\";\",1,R1185:S1185)","v":""},null,null,{"$f":"IF(R1185=\"\",\"\",\"-\"&VLOOKUP(R1185,EventConditionConfig!A:C,3,FALSE)&IF(S1185=\"\",\"\",CHAR(10)&\"-\"&VLOOKUP(S1185,EventConditionConfig!A:C,3,FALSE)))","v":""},{"$f":"IF(Y1185=\"\",\"\",IF(ISTEXT(Y1185),1,2))","v":""},"","",{"$f":"IF(OR(ISNUMBER(Y1185),Y1185=\"\"),\"\",MAX(AL1184,AL1182,B1185,D1185,L1185)+1)","v":""},null,null,{"$f":"IF(OR(ISNUMBER(AB1185),AB1185=\"\"),\"\",X1185+1)","v":""},null,null,"",{"$nulls":4},{"$f":"IF(A1185=\"\",\"\",IF(ISNUMBER(Y1185),2,IF(A1186=\"\",IF(OR(AK1185>0,VLOOKUP(O1185,EventConfig!A:C,3,FALSE)=4),3,\"\"),1)))","v":1},{"$f":"IF(AI1185=\"\",\"\",CHOOSE(AI1185,IF(AK1185=\"\",A1185+1,AK1185),CONCATENATE(IF(AK1185=\"\",A1185+1,AK1185),\";101\"),IF(AK1185=\"\",O1185+1,AK1185)))","v":913805},null,6381]
[913805,6377,"完成和NPC的对话","",{"$nulls":5},142,{"$f":"IF(J1186=\"\",\"\",VLOOKUP(J1186,EventNPC!A:E,5,FALSE))","v":"林风"},6382,"这我也不太清楚，我只知道这个可以炼制法宝。血海宗为什么这么重视，可能只有血海宗的人清楚。",null,9138,5,"",null,null,{"$f":"IF(R1186=\"\",\"\",\"-\"&VLOOKUP(R1186,EventConditionConfig!A:C,3,FALSE)&IF(S1186=\"\",\"\",CHAR(10)&\"-\"&VLOOKUP(S1186,EventConditionConfig!A:C,3,FALSE)))","v":""},"","","","",null,null,"",null,null,"",{"$nulls":4},{"$f":"IF(A1186=\"\",\"\",IF(ISNUMBER(Y1186),2,IF(A1187=\"\",IF(OR(AK1186>0,VLOOKUP(O1186,EventConfig!A:C,3,FALSE)=4),3,\"\"),1)))","v":1},913806,null,6382]
[{"$f":"O1187*100+P1187","v":913806},{"$f":"IF(C1187=\"\",\"\",IF(C1187=C1186,B1186,MAX(AL1186,AL1185)+1))","v":6377},"完成和NPC的对话",{"$f":"IF(E1187=\"\",\"\",IF(E1187=E1186,D1186,MAX(AL1186,AL1185,B1187)+1))","v":""},{"$nulls":5},100,{"$f":"IF(J1187=\"\",\"\",VLOOKUP(J1187,EventNPC!A:E,5,FALSE))","v":"玩家"},{"$f":"IF(M1187=\"\",\"\",MAX(AL1186,AL1185,B1187,D1187)+1)","v":6383},"也是，有时间我去血海宗打听打听。",null,9138,{"$f":"IF(O1187=\"\",\"\",IF(O1187=O1186,P1186+1,1))","v":6},{"$f":"_xlfn.TEXTJOIN(\";\",1,R1187:S1187)","v":""},null,null,{"$f":"IF(R1187=\"\",\"\",\"-\"&VLOOKUP(R1187,EventConditionConfig!A:C,3,FALSE)&IF(S1187=\"\",\"\",CHAR(10)&\"-\"&VLOOKUP(S1187,EventConditionConfig!A:C,3,FALSE)))","v":""},{"$f":"IF(Y1187=\"\",\"\",IF(ISTEXT(Y1187),1,2))","v":""},"","",{"$f":"IF(OR(ISNUMBER(Y1187),Y1187=\"\"),\"\",MAX(AL1186,AL1184,B1187,D1187,L1187)+1)","v":""},null,null,{"$f":"IF(OR(ISNUMBER(AB1187),AB1187=\"\"),\"\",X1187+1)","v":""},null,null,"",{"$nulls":4},{"$f":"IF(A1187=\"\",\"\",IF(ISNUMBER(Y1187),2,IF(A1188=\"\",IF(OR(AK1187>0,VLOOKUP(O1187,EventConfig!A:C,3,FALSE)=4),3,\"\"),1)))","v":1},{"$f":"IF(AI1187=\"\",\"\",CHOOSE(AI1187,IF(AK1187=\"\",A1187+1,AK1187),CONCATENATE(IF(AK1187=\"\",A1187+1,AK1187),\";101\"),IF(AK1187=\"\",O1187+1,AK1187)))","v":913807},null,6383]
[913807,6377,"完成和NPC的对话","",{"$nulls":5},142,{"$f":"IF(J1188=\"\",\"\",VLOOKUP(J1188,EventNPC!A:E,5,FALSE))","v":"林风"},6384,"道兄这是一点心意还请收下。",null,9138,7,"",null,null,{"$f":"IF(R1188=\"\",\"\",\"-\"&VLOOKUP(R1188,EventConditionConfig!A:C,3,FALSE)&IF(S1188=\"\",\"\",CHAR(10)&\"-\"&VLOOKUP(S1188,EventConditionConfig!A:C,3,FALSE)))","v":""},"","","","",null,null,"",null,null,"",{"$nulls":4},{"$f":"IF(A1188=\"\",\"\",IF(ISNUMBER(Y1188),2,IF(A1189=\"\",IF(OR(AK1188>0,VLOOKUP(O1188,EventConfig!A:C,3,FALSE)=4),3,\"\"),1)))","v":1},913808,null,6384]
[{"$f":"O1189*100+P1189","v":913808},{"$f":"IF(C1189=\"\",\"\",IF(C1189=C1188,B1188,MAX(AL1188,AL1187)+1))","v":6377},"完成和NPC的对话",{"$f":"IF(E1189=\"\",\"\",IF(E1189=E1188,D1188,MAX(AL1188,AL1187,B1189)+1))","v":""},{"$nulls":5},100,{"$f":"IF(J1189=\"\",\"\",VLOOKUP(J1189,EventNPC!A:E,5,FALSE))","v":"玩家"},{"$f":"IF(M1189=\"\",\"\",MAX(AL1188,AL1187,B1189,D1189)+1)","v":6385},"那我告辞了。",null,9138,{"$f":"IF(O1189=\"\",\"\",IF(O1189=O1188,P1188+1,1))","v":8},{"$f":"_xlfn.TEXTJOIN(\";\",1,R1189:S1189)","v":""},null,null,{"$f":"IF(R1189=\"\",\"\",\"-\"&VLOOKUP(R1189,EventConditionConfig!A:C,3,FALSE)&IF(S1189=\"\",\"\",CHAR(10)&\"-\"&VLOOKUP(S1189,EventConditionConfig!A:C,3,FALSE)))","v":""},{"$f":"IF(Y1189=\"\",\"\",IF(ISTEXT(Y1189),1,2))","v":""},"","",{"$f":"IF(OR(ISNUMBER(Y1189),Y1189=\"\"),\"\",MAX(AL1188,AL1186,B1189,D1189,L1189)+1)","v":""},null,null,{"$f":"IF(OR(ISNUMBER(AB1189),AB1189=\"\"),\"\",X1189+1)","v":""},null,null,"",{"$nulls":4},{"$f":"IF(A1189=\"\",\"\",IF(ISNUMBER(Y1189),2,IF(A1190=\"\",IF(OR(AK1189>0,VLOOKUP(O1189,EventConfig!A:C,3,FALSE)=4),3,\"\"),1)))","v":1},{"$f":"IF(AI1189=\"\",\"\",CHOOSE(AI1189,IF(AK1189=\"\",A1189+1,AK1189),CONCATENATE(IF(AK1189=\"\",A1189+1,AK1189),\";101\"),IF(AK1189=\"\",O1189+1,AK1189)))","v":913809},null,6385]
[913809,6377,"完成和NPC的对话","",{"$nulls":5},142,{"$f":"IF(J1190=\"\",\"\",VLOOKUP(J1190,EventNPC!A:E,5,FALSE))","v":"林风"},6386,"道兄慢走。",null,9138,9,"",null,null,{"$f":"IF(R1190=\"\",\"\",\"-\"&VLOOKUP(R1190,EventConditionConfig!A:C,3,FALSE)&IF(S1190=\"\",\"\",CHAR(10)&\"-\"&VLOOKUP(S1190,EventConditionConfig!A:C,3,FALSE)))","v":""},"","","","",null,null,"",null,null,"",{"$nulls":4},{"$f":"IF(A1190=\"\",\"\",IF(ISNUMBER(Y1190),2,IF(A1191=\"\",IF(OR(AK1190>0,VLOOKUP(O1190,EventConfig!A:C,3,FALSE)=4),3,\"\"),1)))","v":""},"",null,6386]
[{"$nulls":21},"","",{"$nulls":14},""]
[{"$f":"O1192*100+P1192","v":913901},{"$f":"IF(C1192=\"\",\"\",IF(C1192=C1191,B1191,MAX(AL1191,AL1190)+1))","v":6387},"完成和NPC的对话",{"$f":"IF(E1192=\"\",\"\",IF(E1192=E1191,D1191,MAX(AL1191,AL1190,B1192)+1))","v":""},{"$nulls":5},136,{"$f":"IF(J1192=\"\",\"\",VLOOKUP(J1192,EventNPC!A:E,5,FALSE))","v":"血海宗敌人"},{"$f":"IF(M1192=\"\",\"\",MAX(AL1191,AL1190,B1192,D1192)+1)","v":6388},"啧啧，倒是小瞧了你这散修，竟能追到此处！这玄冥晶乃我血海宗必得之物。",null,9139,{"$f":"IF(O1192=\"\",\"\",IF(O1192=O1191,P1191+1,1))","v":1},{"$f":"_xlfn.TEXTJOIN(\";\",1,R1192:S1192)","v":""},null,null,{"$f":"IF(R1192=\"\",\"\",\"-\"&VLOOKUP(R1192,EventConditionConfig!A:C,3,FALSE)&IF(S1192=\"\",\"\",CHAR(10)&\"-\"&VLOOKUP(S1192,EventConditionConfig!A:C,3,FALSE)))","v":""},{"$f":"IF(Y1192=\"\",\"\",IF(ISTEXT(Y1192),1,2))","v":""},"","",{"$f":"IF(OR(ISNUMBER(Y1192),Y1192=\"\"),\"\",MAX(AL1191,AL1189,B1192,D1192,L1192)+1)","v":""},null,null,{"$f":"IF(OR(ISNUMBER(AB1192),AB1192=\"\"),\"\",X1192+1)","v":""},null,null,{"$f":"IF(OR(ISNUMBER(AE1192),AE1192=\"\"),\"\",AA1192+1)","v":""},{"$nulls":4},{"$f":"IF(A1192=\"\",\"\",IF(ISNUMBER(Y1192),2,IF(A1193=\"\",IF(OR(AK1192>0,VLOOKUP(O1192,EventConfig!A:C,3,FALSE)=4),3,\"\"),1)))","v":1},{"$f":"IF(AI1192=\"\",\"\",CHOOSE(AI1192,IF(AK1192=\"\",A1192+1,AK1192),CONCATENATE(IF(AK1192=\"\",A1192+1,AK1192),\";101\"),IF(AK1192=\"\",O1192+1,AK1192)))","v":913902},null,6388]
[{"$f":"O1193*100+P1193","v":913902},{"$f":"IF(C1193=\"\",\"\",IF(C1193=C1192,B1192,MAX(AL1192,AL1191)+1))","v":6387},"完成和NPC的对话",{"$f":"IF(E1193=\"\",\"\",IF(E1193=E1192,D1192,MAX(AL1192,AL1191,B1193)+1))","v":""},{"$nulls":5},136,{"$f":"IF(J1193=\"\",\"\",VLOOKUP(J1193,EventNPC!A:E,5,FALSE))","v":"血海宗敌人"},{"$f":"IF(M1193=\"\",\"\",MAX(AL1192,AL1191,B1193,D1193)+1)","v":6389},"你若识相，速速退去，本座可饶你一命！否则，这废墟便是你的埋骨之地！",null,9139,{"$f":"IF(O1193=\"\",\"\",IF(O1193=O1192,P1192+1,1))","v":2},{"$f":"_xlfn.TEXTJOIN(\";\",1,R1193:S1193)","v":""},null,null,{"$f":"IF(R1193=\"\",\"\",\"-\"&VLOOKUP(R1193,EventConditionConfig!A:C,3,FALSE)&IF(S1193=\"\",\"\",CHAR(10)&\"-\"&VLOOKUP(S1193,EventConditionConfig!A:C,3,FALSE)))","v":""},{"$f":"IF(Y1193=\"\",\"\",IF(ISTEXT(Y1193),1,2))","v":1},"913903;913904","6390;6391",{"$f":"IF(OR(ISNUMBER(Y1193),Y1193=\"\"),\"\",MAX(AL1192,AL1190,B1193,D1193,L1193)+1)","v":6390},"交出玄冥晶，免你一死！",{"$f":"A1194","v":913903},{"$f":"IF(OR(ISNUMBER(AB1193),AB1193=\"\"),\"\",X1193+1)","v":6391},"玄冥晶有何用？血海宗为何如此执着，不惜派你这筑基修士偷袭？",{"$f":"A1195","v":913904},"",null,{"$f":"D1195","v":""},null,null,{"$f":"IF(A1193=\"\",\"\",IF(ISNUMBER(Y1193),2,IF(A1194=\"\",IF(OR(AK1193>0,VLOOKUP(O1193,EventConfig!A:C,3,FALSE)=4),3,\"\"),1)))","v":1},{"$f":"IF(AI1193=\"\",\"\",CHOOSE(AI1193,IF(AK1193=\"\",A1193+1,AK1193),CONCATENATE(IF(AK1193=\"\",A1193+1,AK1193),\";101\"),IF(AK1193=\"\",O1193+1,AK1193)))","v":913903},null,6391]
[913903,6387,"完成和NPC的对话","",{"$nulls":5},136,{"$f":"IF(J1194=\"\",\"\",VLOOKUP(J1194,EventNPC!A:E,5,FALSE))","v":"血海宗敌人"},6392,"好大胆！区区散修，也敢挑衅血海宗？来吧，让你见识血刃术的厉害！",null,9139,3,"",null,null,{"$f":"IF(R1194=\"\",\"\",\"-\"&VLOOKUP(R1194,EventConditionConfig!A:C,3,FALSE)&IF(S1194=\"\",\"\",CHAR(10)&\"-\"&VLOOKUP(S1194,EventConditionConfig!A:C,3,FALSE)))","v":""},2,4020,"","",4020,null,"",null,null,"",{"$nulls":4},{"$f":"IF(A1194=\"\",\"\",IF(ISNUMBER(Y1194),2,IF(A1195=\"\",IF(OR(AK1194>0,VLOOKUP(O1194,EventConfig!A:C,3,FALSE)=4),3,\"\"),1)))","v":2},"913907;101",{"$f":"A1198","v":913907},6392]
[{"$f":"O1195*100+P1195","v":913904},{"$f":"IF(C1195=\"\",\"\",IF(C1195=C1194,B1194,MAX(AL1194,AL1193)+1))","v":6387},"完成和NPC的对话",{"$f":"IF(E1195=\"\",\"\",IF(E1195=E1194,D1194,MAX(AL1194,AL1193,B1195)+1))","v":""},{"$nulls":5},136,{"$f":"IF(J1195=\"\",\"\",VLOOKUP(J1195,EventNPC!A:E,5,FALSE))","v":"血海宗敌人"},{"$f":"IF(M1195=\"\",\"\",MAX(AL1194,AL1193,B1195,D1195)+1)","v":6393},"哦？倒有些头脑。这晶石的秘密，你这散修不配知道！不过……若你肯投靠血海宗，本座可分你一成好处，如何？",null,9139,{"$f":"IF(O1195=\"\",\"\",IF(O1195=O1194,P1194+1,1))","v":4},{"$f":"_xlfn.TEXTJOIN(\";\",1,R1195:S1195)","v":""},null,null,{"$f":"IF(R1195=\"\",\"\",\"-\"&VLOOKUP(R1195,EventConditionConfig!A:C,3,FALSE)&IF(S1195=\"\",\"\",CHAR(10)&\"-\"&VLOOKUP(S1195,EventConditionConfig!A:C,3,FALSE)))","v":""},{"$f":"IF(Y1195=\"\",\"\",IF(ISTEXT(Y1195),1,2))","v":""},"","",{"$f":"IF(OR(ISNUMBER(Y1195),Y1195=\"\"),\"\",MAX(AL1194,AL1192,B1195,D1195,L1195)+1)","v":""},null,null,{"$f":"IF(OR(ISNUMBER(AB1195),AB1195=\"\"),\"\",X1195+1)","v":""},null,null,"",{"$nulls":4},{"$f":"IF(A1195=\"\",\"\",IF(ISNUMBER(Y1195),2,IF(A1196=\"\",IF(OR(AK1195>0,VLOOKUP(O1195,EventConfig!A:C,3,FALSE)=4),3,\"\"),1)))","v":1},{"$f":"IF(AI1195=\"\",\"\",CHOOSE(AI1195,IF(AK1195=\"\",A1195+1,AK1195),CONCATENATE(IF(AK1195=\"\",A1195+1,AK1195),\";101\"),IF(AK1195=\"\",O1195+1,AK1195)))","v":913905},null,6393]
[{"$f":"O1196*100+P1196","v":913905},{"$f":"IF(C1196=\"\",\"\",IF(C1196=C1195,B1195,MAX(AL1195,AL1194)+1))","v":6387},"完成和NPC的对话",{"$f":"IF(E1196=\"\",\"\",IF(E1196=E1195,D1195,MAX(AL1195,AL1194,B1196)+1))","v":""},{"$nulls":5},100,{"$f":"IF(J1196=\"\",\"\",VLOOKUP(J1196,EventNPC!A:E,5,FALSE))","v":"玩家"},{"$f":"IF(M1196=\"\",\"\",MAX(AL1195,AL1194,B1196,D1196)+1)","v":6394},"那可不必，我自由自在惯了。带我拿下你在逼问你说出来就行了。",null,9139,{"$f":"IF(O1196=\"\",\"\",IF(O1196=O1195,P1195+1,1))","v":5},{"$f":"_xlfn.TEXTJOIN(\";\",1,R1196:S1196)","v":""},null,null,{"$f":"IF(R1196=\"\",\"\",\"-\"&VLOOKUP(R1196,EventConditionConfig!A:C,3,FALSE)&IF(S1196=\"\",\"\",CHAR(10)&\"-\"&VLOOKUP(S1196,EventConditionConfig!A:C,3,FALSE)))","v":""},{"$f":"IF(Y1196=\"\",\"\",IF(ISTEXT(Y1196),1,2))","v":""},"","",{"$f":"IF(OR(ISNUMBER(Y1196),Y1196=\"\"),\"\",MAX(AL1195,AL1193,B1196,D1196,L1196)+1)","v":""},null,null,{"$f":"IF(OR(ISNUMBER(AB1196),AB1196=\"\"),\"\",X1196+1)","v":""},null,null,"",{"$nulls":4},{"$f":"IF(A1196=\"\",\"\",IF(ISNUMBER(Y1196),2,IF(A1197=\"\",IF(OR(AK1196>0,VLOOKUP(O1196,EventConfig!A:C,3,FALSE)=4),3,\"\"),1)))","v":1},{"$f":"IF(AI1196=\"\",\"\",CHOOSE(AI1196,IF(AK1196=\"\",A1196+1,AK1196),CONCATENATE(IF(AK1196=\"\",A1196+1,AK1196),\";101\"),IF(AK1196=\"\",O1196+1,AK1196)))","v":913906},null,6394]
[{"$f":"O1197*100+P1197","v":913906},{"$f":"IF(C1197=\"\",\"\",IF(C1197=C1196,B1196,MAX(AL1196,AL1195)+1))","v":6387},"完成和NPC的对话",{"$f":"IF(E1197=\"\",\"\",IF(E1197=E1196,D1196,MAX(AL1196,AL1195,B1197)+1))","v":""},{"$nulls":5},136,{"$f":"IF(J1197=\"\",\"\",VLOOKUP(J1197,EventNPC!A:E,5,FALSE))","v":"血海宗敌人"},{"$f":"IF(M1197=\"\",\"\",MAX(AL1196,AL1195,B1197,D1197)+1)","v":6395},"找死！",null,9139,{"$f":"IF(O1197=\"\",\"\",IF(O1197=O1196,P1196+1,1))","v":6},{"$f":"_xlfn.TEXTJOIN(\";\",1,R1197:S1197)","v":""},null,null,{"$f":"IF(R1197=\"\",\"\",\"-\"&VLOOKUP(R1197,EventConditionConfig!A:C,3,FALSE)&IF(S1197=\"\",\"\",CHAR(10)&\"-\"&VLOOKUP(S1197,EventConditionConfig!A:C,3,FALSE)))","v":""},{"$f":"IF(Y1197=\"\",\"\",IF(ISTEXT(Y1197),1,2))","v":2},4021,"",{"$f":"IF(OR(ISNUMBER(Y1197),Y1197=\"\"),\"\",MAX(AL1196,AL1194,B1197,D1197,L1197)+1)","v":""},4021,null,{"$f":"IF(OR(ISNUMBER(AB1197),AB1197=\"\"),\"\",X1197+1)","v":""},null,null,"",{"$nulls":4},{"$f":"IF(A1197=\"\",\"\",IF(ISNUMBER(Y1197),2,IF(A1198=\"\",IF(OR(AK1197>0,VLOOKUP(O1197,EventConfig!A:C,3,FALSE)=4),3,\"\"),1)))","v":2},{"$f":"IF(AI1197=\"\",\"\",CHOOSE(AI1197,IF(AK1197=\"\",A1197+1,AK1197),CONCATENATE(IF(AK1197=\"\",A1197+1,AK1197),\";101\"),IF(AK1197=\"\",O1197+1,AK1197)))","v":"913907;101"},{"$f":"A1198","v":913907},{"$f":"IF(A1197=\"\",\"\",MAX(B1197,D1197,L1197,X1197,AA1197,AL1196,AL1195,AD1197))","v":6395}]
[{"$f":"O1198*100+P1198","v":913907},{"$f":"IF(C1198=\"\",\"\",IF(C1198=C1197,B1197,MAX(AL1197,AL1196)+1))","v":6387},"完成和NPC的对话",{"$f":"IF(E1198=\"\",\"\",IF(E1198=E1197,D1197,MAX(AL1197,AL1196,B1198)+1))","v":""},{"$nulls":5},136,{"$f":"IF(J1198=\"\",\"\",VLOOKUP(J1198,EventNPC!A:E,5,FALSE))","v":"血海宗敌人"},{"$f":"IF(M1198=\"\",\"\",MAX(AL1197,AL1196,B1198,D1198)+1)","v":6396},"没想到我竟不是你的对手，这玄冥晶你也别想拿走。",null,9139,{"$f":"IF(O1198=\"\",\"\",IF(O1198=O1197,P1197+1,1))","v":7},{"$f":"_xlfn.TEXTJOIN(\";\",1,R1198:S1198)","v":""},null,null,{"$f":"IF(R1198=\"\",\"\",\"-\"&VLOOKUP(R1198,EventConditionConfig!A:C,3,FALSE)&IF(S1198=\"\",\"\",CHAR(10)&\"-\"&VLOOKUP(S1198,EventConditionConfig!A:C,3,FALSE)))","v":""},{"$f":"IF(Y1198=\"\",\"\",IF(ISTEXT(Y1198),1,2))","v":""},"","",{"$f":"IF(OR(ISNUMBER(Y1198),Y1198=\"\"),\"\",MAX(AL1197,AL1195,B1198,D1198,L1198)+1)","v":""},null,null,{"$f":"IF(OR(ISNUMBER(AB1198),AB1198=\"\"),\"\",X1198+1)","v":""},null,null,"",{"$nulls":4},{"$f":"IF(A1198=\"\",\"\",IF(ISNUMBER(Y1198),2,IF(A1199=\"\",IF(OR(AK1198>0,VLOOKUP(O1198,EventConfig!A:C,3,FALSE)=4),3,\"\"),1)))","v":1},{"$f":"IF(AI1198=\"\",\"\",CHOOSE(AI1198,IF(AK1198=\"\",A1198+1,AK1198),CONCATENATE(IF(AK1198=\"\",A1198+1,AK1198),\";101\"),IF(AK1198=\"\",O1198+1,AK1198)))","v":913908},null,6396]
[{"$f":"O1199*100+P1199","v":913908},{"$f":"IF(C1199=\"\",\"\",IF(C1199=C1198,B1198,MAX(AL1198,AL1197)+1))","v":6387},"完成和NPC的对话",{"$f":"IF(E1199=\"\",\"\",IF(E1199=E1198,D1198,MAX(AL1198,AL1197,B1199)+1))","v":""},{"$nulls":5},100,{"$f":"IF(J1199=\"\",\"\",VLOOKUP(J1199,EventNPC!A:E,5,FALSE))","v":"玩家"},{"$f":"IF(M1199=\"\",\"\",MAX(AL1198,AL1197,B1199,D1199)+1)","v":6397},"不好。（玩家快速使出一柄飞剑刺向蒙面修士，但还是晚了一步）（只见蒙面修士用处最后一口气发出了一个求救信号）",null,9139,{"$f":"IF(O1199=\"\",\"\",IF(O1199=O1198,P1198+1,1))","v":8},{"$f":"_xlfn.TEXTJOIN(\";\",1,R1199:S1199)","v":""},null,null,{"$f":"IF(R1199=\"\",\"\",\"-\"&VLOOKUP(R1199,EventConditionConfig!A:C,3,FALSE)&IF(S1199=\"\",\"\",CHAR(10)&\"-\"&VLOOKUP(S1199,EventConditionConfig!A:C,3,FALSE)))","v":""},{"$f":"IF(Y1199=\"\",\"\",IF(ISTEXT(Y1199),1,2))","v":""},"","",{"$f":"IF(OR(ISNUMBER(Y1199),Y1199=\"\"),\"\",MAX(AL1198,AL1196,B1199,D1199,L1199)+1)","v":""},null,null,{"$f":"IF(OR(ISNUMBER(AB1199),AB1199=\"\"),\"\",X1199+1)","v":""},null,null,"",{"$nulls":4},{"$f":"IF(A1199=\"\",\"\",IF(ISNUMBER(Y1199),2,IF(A1200=\"\",IF(OR(AK1199>0,VLOOKUP(O1199,EventConfig!A:C,3,FALSE)=4),3,\"\"),1)))","v":1},{"$f":"IF(AI1199=\"\",\"\",CHOOSE(AI1199,IF(AK1199=\"\",A1199+1,AK1199),CONCATENATE(IF(AK1199=\"\",A1199+1,AK1199),\";101\"),IF(AK1199=\"\",O1199+1,AK1199)))","v":913909},null,6397]
[{"$f":"O1200*100+P1200","v":913909},{"$f":"IF(C1200=\"\",\"\",IF(C1200=C1199,B1199,MAX(AL1199,AL1198)+1))","v":6387},"完成和NPC的对话",{"$f":"IF(E1200=\"\",\"\",IF(E1200=E1199,D1199,MAX(AL1199,AL1198,B1200)+1))","v":""},{"$nulls":5},100,{"$f":"IF(J1200=\"\",\"\",VLOOKUP(J1200,EventNPC!A:E,5,FALSE))","v":"玩家"},{"$f":"IF(M1200=\"\",\"\",MAX(AL1199,AL1198,B1200,D1200)+1)","v":6398},"我得赶快离开此地。",null,9139,{"$f":"IF(O1200=\"\",\"\",IF(O1200=O1199,P1199+1,1))","v":9},{"$f":"_xlfn.TEXTJOIN(\";\",1,R1200:S1200)","v":""},null,null,{"$f":"IF(R1200=\"\",\"\",\"-\"&VLOOKUP(R1200,EventConditionConfig!A:C,3,FALSE)&IF(S1200=\"\",\"\",CHAR(10)&\"-\"&VLOOKUP(S1200,EventConditionConfig!A:C,3,FALSE)))","v":""},{"$f":"IF(Y1200=\"\",\"\",IF(ISTEXT(Y1200),1,2))","v":""},"","",{"$f":"IF(OR(ISNUMBER(Y1200),Y1200=\"\"),\"\",MAX(AL1199,AL1197,B1200,D1200,L1200)+1)","v":""},null,null,{"$f":"IF(OR(ISNUMBER(AB1200),AB1200=\"\"),\"\",X1200+1)","v":""},null,null,"",{"$nulls":4},{"$f":"IF(A1200=\"\",\"\",IF(ISNUMBER(Y1200),2,IF(A1201=\"\",IF(OR(AK1200>0,VLOOKUP(O1200,EventConfig!A:C,3,FALSE)=4),3,\"\"),1)))","v":""},{"$f":"IF(AI1200=\"\",\"\",CHOOSE(AI1200,IF(AK1200=\"\",A1200+1,AK1200),CONCATENATE(IF(AK1200=\"\",A1200+1,AK1200),\";101\"),IF(AK1200=\"\",O1200+1,AK1200)))","v":""},null,6398]
[{"$nulls":21},"","",{"$nulls":14},""]
[{"$f":"O1202*100+P1202","v":914001},{"$f":"IF(C1202=\"\",\"\",IF(C1202=C1201,B1201,MAX(AL1201,AL1200)+1))","v":6399},"完成和NPC的对话",{"$f":"IF(E1202=\"\",\"\",IF(E1202=E1201,D1201,MAX(AL1201,AL1200,B1202)+1))","v":""},{"$nulls":5},136,{"$f":"IF(J1202=\"\",\"\",VLOOKUP(J1202,EventNPC!A:E,5,FALSE))","v":"血海宗敌人"},{"$f":"IF(M1202=\"\",\"\",MAX(AL1201,AL1200,B1202,D1202)+1)","v":6400},"你竟敢杀我师弟！玄冥晶是你这散修能碰的，交出晶石。留你一个全尸。",null,9140,{"$f":"IF(O1202=\"\",\"\",IF(O1202=O1201,P1201+1,1))","v":1},{"$f":"_xlfn.TEXTJOIN(\";\",1,R1202:S1202)","v":""},null,null,{"$f":"IF(R1202=\"\",\"\",\"-\"&VLOOKUP(R1202,EventConditionConfig!A:C,3,FALSE)&IF(S1202=\"\",\"\",CHAR(10)&\"-\"&VLOOKUP(S1202,EventConditionConfig!A:C,3,FALSE)))","v":""},{"$f":"IF(Y1202=\"\",\"\",IF(ISTEXT(Y1202),1,2))","v":""},"","",{"$f":"IF(OR(ISNUMBER(Y1202),Y1202=\"\"),\"\",MAX(AL1201,AL1199,B1202,D1202,L1202)+1)","v":""},null,null,{"$f":"IF(OR(ISNUMBER(AB1202),AB1202=\"\"),\"\",X1202+1)","v":""},null,null,{"$f":"IF(OR(ISNUMBER(AE1202),AE1202=\"\"),\"\",AA1202+1)","v":""},{"$nulls":4},{"$f":"IF(A1202=\"\",\"\",IF(ISNUMBER(Y1202),2,IF(A1203=\"\",IF(OR(AK1202>0,VLOOKUP(O1202,EventConfig!A:C,3,FALSE)=4),3,\"\"),1)))","v":1},{"$f":"IF(AI1202=\"\",\"\",CHOOSE(AI1202,IF(AK1202=\"\",A1202+1,AK1202),CONCATENATE(IF(AK1202=\"\",A1202+1,AK1202),\";101\"),IF(AK1202=\"\",O1202+1,AK1202)))","v":914002},null,6400]
[{"$f":"O1203*100+P1203","v":914002},{"$f":"IF(C1203=\"\",\"\",IF(C1203=C1202,B1202,MAX(AL1202,AL1201)+1))","v":6399},"完成和NPC的对话",{"$f":"IF(E1203=\"\",\"\",IF(E1203=E1202,D1202,MAX(AL1202,AL1201,B1203)+1))","v":""},{"$nulls":5},100,{"$f":"IF(J1203=\"\",\"\",VLOOKUP(J1203,EventNPC!A:E,5,FALSE))","v":"玩家"},{"$f":"IF(M1203=\"\",\"\",MAX(AL1202,AL1201,B1203,D1203)+1)","v":6401},"血海宗一再挑衅，今日我便让你血债血偿。",null,9140,{"$f":"IF(O1203=\"\",\"\",IF(O1203=O1202,P1202+1,1))","v":2},{"$f":"_xlfn.TEXTJOIN(\";\",1,R1203:S1203)","v":""},null,null,{"$f":"IF(R1203=\"\",\"\",\"-\"&VLOOKUP(R1203,EventConditionConfig!A:C,3,FALSE)&IF(S1203=\"\",\"\",CHAR(10)&\"-\"&VLOOKUP(S1203,EventConditionConfig!A:C,3,FALSE)))","v":""},{"$f":"IF(Y1203=\"\",\"\",IF(ISTEXT(Y1203),1,2))","v":2},4022,"",{"$f":"IF(OR(ISNUMBER(Y1203),Y1203=\"\"),\"\",MAX(AL1202,AL1200,B1203,D1203,L1203)+1)","v":""},4022,null,{"$f":"IF(OR(ISNUMBER(AB1203),AB1203=\"\"),\"\",X1203+1)","v":""},null,null,"",{"$nulls":4},{"$f":"IF(A1203=\"\",\"\",IF(ISNUMBER(Y1203),2,IF(A1204=\"\",IF(OR(AK1203>0,VLOOKUP(O1203,EventConfig!A:C,3,FALSE)=4),3,\"\"),1)))","v":2},{"$f":"IF(AI1203=\"\",\"\",CHOOSE(AI1203,IF(AK1203=\"\",A1203+1,AK1203),CONCATENATE(IF(AK1203=\"\",A1203+1,AK1203),\";101\"),IF(AK1203=\"\",O1203+1,AK1203)))","v":"914003;101"},null,6401]
[{"$f":"O1204*100+P1204","v":914003},{"$f":"IF(C1204=\"\",\"\",IF(C1204=C1203,B1203,MAX(AL1203,AL1202)+1))","v":6399},"完成和NPC的对话",{"$f":"IF(E1204=\"\",\"\",IF(E1204=E1203,D1203,MAX(AL1203,AL1202,B1204)+1))","v":""},{"$nulls":5},100,{"$f":"IF(J1204=\"\",\"\",VLOOKUP(J1204,EventNPC!A:E,5,FALSE))","v":"玩家"},{"$f":"IF(M1204=\"\",\"\",MAX(AL1203,AL1202,B1204,D1204)+1)","v":6402},"（拿走玄冥晶）",null,9140,{"$f":"IF(O1204=\"\",\"\",IF(O1204=O1203,P1203+1,1))","v":3},{"$f":"_xlfn.TEXTJOIN(\";\",1,R1204:S1204)","v":""},null,null,{"$f":"IF(R1204=\"\",\"\",\"-\"&VLOOKUP(R1204,EventConditionConfig!A:C,3,FALSE)&IF(S1204=\"\",\"\",CHAR(10)&\"-\"&VLOOKUP(S1204,EventConditionConfig!A:C,3,FALSE)))","v":""},{"$f":"IF(Y1204=\"\",\"\",IF(ISTEXT(Y1204),1,2))","v":""},"","",{"$f":"IF(OR(ISNUMBER(Y1204),Y1204=\"\"),\"\",MAX(AL1203,AL1201,B1204,D1204,L1204)+1)","v":""},null,null,{"$f":"IF(OR(ISNUMBER(AB1204),AB1204=\"\"),\"\",X1204+1)","v":""},null,null,"",{"$nulls":4},{"$f":"IF(A1204=\"\",\"\",IF(ISNUMBER(Y1204),2,IF(A1205=\"\",IF(OR(AK1204>0,VLOOKUP(O1204,EventConfig!A:C,3,FALSE)=4),3,\"\"),1)))","v":""},{"$f":"IF(AI1204=\"\",\"\",CHOOSE(AI1204,IF(AK1204=\"\",A1204+1,AK1204),CONCATENATE(IF(AK1204=\"\",A1204+1,AK1204),\";101\"),IF(AK1204=\"\",O1204+1,AK1204)))","v":""},null,6402]
[{"$nulls":21},"","",{"$nulls":14},""]
[{"$f":"O1206*100+P1206","v":914101},{"$f":"IF(C1206=\"\",\"\",IF(C1206=C1205,B1205,MAX(AL1205,AL1204)+1))","v":6403},"完成和NPC的对话",{"$f":"IF(E1206=\"\",\"\",IF(E1206=E1205,D1205,MAX(AL1205,AL1204,B1206)+1))","v":""},{"$nulls":5},144,{"$f":"IF(J1206=\"\",\"\",VLOOKUP(J1206,EventNPC!A:E,5,FALSE))","v":"玄水真人"},{"$f":"IF(M1206=\"\",\"\",MAX(AL1205,AL1204,B1206,D1206)+1)","v":6404},"年轻的修仙者，你来得正是时候。",null,9141,{"$f":"IF(O1206=\"\",\"\",IF(O1206=O1205,P1205+1,1))","v":1},{"$f":"_xlfn.TEXTJOIN(\";\",1,R1206:S1206)","v":""},null,null,{"$f":"IF(R1206=\"\",\"\",\"-\"&VLOOKUP(R1206,EventConditionConfig!A:C,3,FALSE)&IF(S1206=\"\",\"\",CHAR(10)&\"-\"&VLOOKUP(S1206,EventConditionConfig!A:C,3,FALSE)))","v":""},{"$f":"IF(Y1206=\"\",\"\",IF(ISTEXT(Y1206),1,2))","v":""},"","",{"$f":"IF(OR(ISNUMBER(Y1206),Y1206=\"\"),\"\",MAX(AL1205,AL1203,B1206,D1206,L1206)+1)","v":""},null,null,{"$f":"IF(OR(ISNUMBER(AB1206),AB1206=\"\"),\"\",X1206+1)","v":""},null,null,{"$f":"IF(OR(ISNUMBER(AE1206),AE1206=\"\"),\"\",AA1206+1)","v":""},{"$nulls":4},{"$f":"IF(A1206=\"\",\"\",IF(ISNUMBER(Y1206),2,IF(A1207=\"\",IF(OR(AK1206>0,VLOOKUP(O1206,EventConfig!A:C,3,FALSE)=4),3,\"\"),1)))","v":1},{"$f":"IF(AI1206=\"\",\"\",CHOOSE(AI1206,IF(AK1206=\"\",A1206+1,AK1206),CONCATENATE(IF(AK1206=\"\",A1206+1,AK1206),\";101\"),IF(AK1206=\"\",O1206+1,AK1206)))","v":914102},null,6404]
[{"$f":"O1207*100+P1207","v":914102},{"$f":"IF(C1207=\"\",\"\",IF(C1207=C1206,B1206,MAX(AL1206,AL1205)+1))","v":6403},"完成和NPC的对话",{"$f":"IF(E1207=\"\",\"\",IF(E1207=E1206,D1206,MAX(AL1206,AL1205,B1207)+1))","v":""},{"$nulls":5},100,{"$f":"IF(J1207=\"\",\"\",VLOOKUP(J1207,EventNPC!A:E,5,FALSE))","v":"玩家"},{"$f":"IF(M1207=\"\",\"\",MAX(AL1206,AL1205,B1207,D1207)+1)","v":6405},"不知如何称呼前辈？前辈这是有什么事？",null,9141,{"$f":"IF(O1207=\"\",\"\",IF(O1207=O1206,P1206+1,1))","v":2},{"$f":"_xlfn.TEXTJOIN(\";\",1,R1207:S1207)","v":""},null,null,{"$f":"IF(R1207=\"\",\"\",\"-\"&VLOOKUP(R1207,EventConditionConfig!A:C,3,FALSE)&IF(S1207=\"\",\"\",CHAR(10)&\"-\"&VLOOKUP(S1207,EventConditionConfig!A:C,3,FALSE)))","v":""},{"$f":"IF(Y1207=\"\",\"\",IF(ISTEXT(Y1207),1,2))","v":""},"","",{"$f":"IF(OR(ISNUMBER(Y1207),Y1207=\"\"),\"\",MAX(AL1206,AL1204,B1207,D1207,L1207)+1)","v":""},null,null,{"$f":"IF(OR(ISNUMBER(AB1207),AB1207=\"\"),\"\",X1207+1)","v":""},null,null,"",{"$nulls":4},{"$f":"IF(A1207=\"\",\"\",IF(ISNUMBER(Y1207),2,IF(A1208=\"\",IF(OR(AK1207>0,VLOOKUP(O1207,EventConfig!A:C,3,FALSE)=4),3,\"\"),1)))","v":1},{"$f":"IF(AI1207=\"\",\"\",CHOOSE(AI1207,IF(AK1207=\"\",A1207+1,AK1207),CONCATENATE(IF(AK1207=\"\",A1207+1,AK1207),\";101\"),IF(AK1207=\"\",O1207+1,AK1207)))","v":914103},null,6405]
[914103,6403,"完成和NPC的对话","",{"$nulls":5},144,{"$f":"IF(J1208=\"\",\"\",VLOOKUP(J1208,EventNPC!A:E,5,FALSE))","v":"玄水真人"},6406,"我乃灵泉守护者玄水真人，守护者灵泉千百余年，此灵泉，乃是仙山灵脉之源，千年来滋养无数灵植仙草，助各道宗弟子修行。",null,9141,3,"",null,null,{"$f":"IF(R1208=\"\",\"\",\"-\"&VLOOKUP(R1208,EventConditionConfig!A:C,3,FALSE)&IF(S1208=\"\",\"\",CHAR(10)&\"-\"&VLOOKUP(S1208,EventConditionConfig!A:C,3,FALSE)))","v":""},"","","","",null,null,"",null,null,"",{"$nulls":4},{"$f":"IF(A1208=\"\",\"\",IF(ISNUMBER(Y1208),2,IF(A1209=\"\",IF(OR(AK1208>0,VLOOKUP(O1208,EventConfig!A:C,3,FALSE)=4),3,\"\"),1)))","v":1},914104,null,6406]
[{"$f":"O1209*100+P1209","v":914104},{"$f":"IF(C1209=\"\",\"\",IF(C1209=C1208,B1208,MAX(AL1208,AL1207)+1))","v":6403},"完成和NPC的对话",{"$f":"IF(E1209=\"\",\"\",IF(E1209=E1208,D1208,MAX(AL1208,AL1207,B1209)+1))","v":""},{"$nulls":5},144,{"$f":"IF(J1209=\"\",\"\",VLOOKUP(J1209,EventNPC!A:E,5,FALSE))","v":"玄水真人"},{"$f":"IF(M1209=\"\",\"\",MAX(AL1208,AL1207,B1209,D1209)+1)","v":6407},"可近日，灵泉深处泛起紫光，灵气紊乱，怕是有异物潜入，扰乱灵脉。我本欲亲自前往探查，奈何有故，难以脱身。你可愿代我一探灵泉深处，查明异动根源？",null,9141,{"$f":"IF(O1209=\"\",\"\",IF(O1209=O1208,P1208+1,1))","v":4},{"$f":"_xlfn.TEXTJOIN(\";\",1,R1209:S1209)","v":""},null,null,{"$f":"IF(R1209=\"\",\"\",\"-\"&VLOOKUP(R1209,EventConditionConfig!A:C,3,FALSE)&IF(S1209=\"\",\"\",CHAR(10)&\"-\"&VLOOKUP(S1209,EventConditionConfig!A:C,3,FALSE)))","v":""},{"$f":"IF(Y1209=\"\",\"\",IF(ISTEXT(Y1209),1,2))","v":1},"914105;914107","6408;6409",{"$f":"IF(OR(ISNUMBER(Y1209),Y1209=\"\"),\"\",MAX(AL1208,AL1206,B1209,D1209,L1209)+1)","v":6408},"前辈，灵泉异动如此严重，为何您不亲自前往？以您的修为，定能轻易解决吧？",{"$f":"A1210","v":914105},{"$f":"IF(OR(ISNUMBER(AB1209),AB1209=\"\"),\"\",X1209+1)","v":6409},"好的，居然前辈信任我那个这就前去一探究竟。",{"$f":"A1212","v":914107},"",{"$nulls":4},{"$f":"IF(A1209=\"\",\"\",IF(ISNUMBER(Y1209),2,IF(A1210=\"\",IF(OR(AK1209>0,VLOOKUP(O1209,EventConfig!A:C,3,FALSE)=4),3,\"\"),1)))","v":1},{"$f":"IF(AI1209=\"\",\"\",CHOOSE(AI1209,IF(AK1209=\"\",A1209+1,AK1209),CONCATENATE(IF(AK1209=\"\",A1209+1,AK1209),\";101\"),IF(AK1209=\"\",O1209+1,AK1209)))","v":914105},null,6409]
[914105,6403,"完成和NPC的对话","",{"$nulls":5},144,{"$f":"IF(J1210=\"\",\"\",VLOOKUP(J1210,EventNPC!A:E,5,FALSE))","v":"玄水真人"},6410,"年轻人，你倒是敏锐。不瞒你说，我修为虽不弱，但千百年前为镇压一头四阶妖蛟，曾以精血立下‘灵泉血誓’，将自身灵力与灵泉阵法相连。",null,9141,5,"",null,null,{"$f":"IF(R1210=\"\",\"\",\"-\"&VLOOKUP(R1210,EventConditionConfig!A:C,3,FALSE)&IF(S1210=\"\",\"\",CHAR(10)&\"-\"&VLOOKUP(S1210,EventConditionConfig!A:C,3,FALSE)))","v":""},"","","","",null,null,"",null,null,"",{"$nulls":4},{"$f":"IF(A1210=\"\",\"\",IF(ISNUMBER(Y1210),2,IF(A1211=\"\",IF(OR(AK1210>0,VLOOKUP(O1210,EventConfig!A:C,3,FALSE)=4),3,\"\"),1)))","v":1},914106,null,6410]
[{"$f":"O1211*100+P1211","v":914106},{"$f":"IF(C1211=\"\",\"\",IF(C1211=C1210,B1210,MAX(AL1210,AL1209)+1))","v":6403},"完成和NPC的对话",{"$f":"IF(E1211=\"\",\"\",IF(E1211=E1210,D1210,MAX(AL1210,AL1209,B1211)+1))","v":""},{"$nulls":5},144,{"$f":"IF(J1211=\"\",\"\",VLOOKUP(J1211,EventNPC!A:E,5,FALSE))","v":"玄水真人"},{"$f":"IF(M1211=\"\",\"\",MAX(AL1210,AL1209,B1211,D1211)+1)","v":6411},"如今灵泉异动，阵法反噬，我若强行入泉深处，恐引发更大乱象，甚至毁了灵脉根基。你虽修为尚浅，但未受阵法束缚，正适合前往。",null,9141,{"$f":"IF(O1211=\"\",\"\",IF(O1211=O1210,P1210+1,1))","v":6},{"$f":"_xlfn.TEXTJOIN(\";\",1,R1211:S1211)","v":""},null,null,{"$f":"IF(R1211=\"\",\"\",\"-\"&VLOOKUP(R1211,EventConditionConfig!A:C,3,FALSE)&IF(S1211=\"\",\"\",CHAR(10)&\"-\"&VLOOKUP(S1211,EventConditionConfig!A:C,3,FALSE)))","v":""},{"$f":"IF(Y1211=\"\",\"\",IF(ISTEXT(Y1211),1,2))","v":""},"","",{"$f":"IF(OR(ISNUMBER(Y1211),Y1211=\"\"),\"\",MAX(AL1210,AL1208,B1211,D1211,L1211)+1)","v":""},null,null,{"$f":"IF(OR(ISNUMBER(AB1211),AB1211=\"\"),\"\",X1211+1)","v":""},null,null,"",{"$nulls":4},{"$f":"IF(A1211=\"\",\"\",IF(ISNUMBER(Y1211),2,IF(A1212=\"\",IF(OR(AK1211>0,VLOOKUP(O1211,EventConfig!A:C,3,FALSE)=4),3,\"\"),1)))","v":1},{"$f":"IF(AI1211=\"\",\"\",CHOOSE(AI1211,IF(AK1211=\"\",A1211+1,AK1211),CONCATENATE(IF(AK1211=\"\",A1211+1,AK1211),\";101\"),IF(AK1211=\"\",O1211+1,AK1211)))","v":914107},{"$f":"A1212","v":914107},6411]
[{"$f":"O1212*100+P1212","v":914107},{"$f":"IF(C1212=\"\",\"\",IF(C1212=C1211,B1211,MAX(AL1211,AL1210)+1))","v":6403},"完成和NPC的对话",{"$f":"IF(E1212=\"\",\"\",IF(E1212=E1211,D1211,MAX(AL1211,AL1210,B1212)+1))","v":""},{"$nulls":5},144,{"$f":"IF(J1212=\"\",\"\",VLOOKUP(J1212,EventNPC!A:E,5,FALSE))","v":"玄水真人"},{"$f":"IF(M1212=\"\",\"\",MAX(AL1211,AL1210,B1212,D1212)+1)","v":6412},"我赐你一枚丹药助力修行，事成后这里的仙草你可以随意来采摘。",null,9141,{"$f":"IF(O1212=\"\",\"\",IF(O1212=O1211,P1211+1,1))","v":7},{"$f":"_xlfn.TEXTJOIN(\";\",1,R1212:S1212)","v":""},null,null,{"$f":"IF(R1212=\"\",\"\",\"-\"&VLOOKUP(R1212,EventConditionConfig!A:C,3,FALSE)&IF(S1212=\"\",\"\",CHAR(10)&\"-\"&VLOOKUP(S1212,EventConditionConfig!A:C,3,FALSE)))","v":""},{"$f":"IF(Y1212=\"\",\"\",IF(ISTEXT(Y1212),1,2))","v":""},"","",{"$f":"IF(OR(ISNUMBER(Y1212),Y1212=\"\"),\"\",MAX(AL1211,AL1209,B1212,D1212,L1212)+1)","v":""},null,null,{"$f":"IF(OR(ISNUMBER(AB1212),AB1212=\"\"),\"\",X1212+1)","v":""},null,null,"",{"$nulls":4},{"$f":"IF(A1212=\"\",\"\",IF(ISNUMBER(Y1212),2,IF(A1213=\"\",IF(OR(AK1212>0,VLOOKUP(O1212,EventConfig!A:C,3,FALSE)=4),3,\"\"),1)))","v":1},{"$f":"IF(AI1212=\"\",\"\",CHOOSE(AI1212,IF(AK1212=\"\",A1212+1,AK1212),CONCATENATE(IF(AK1212=\"\",A1212+1,AK1212),\";101\"),IF(AK1212=\"\",O1212+1,AK1212)))","v":914108},null,6412]
[{"$f":"O1213*100+P1213","v":914108},{"$f":"IF(C1213=\"\",\"\",IF(C1213=C1212,B1212,MAX(AL1212,AL1211)+1))","v":6403},"完成和NPC的对话",{"$f":"IF(E1213=\"\",\"\",IF(E1213=E1212,D1212,MAX(AL1212,AL1211,B1213)+1))","v":""},{"$nulls":5},100,{"$f":"IF(J1213=\"\",\"\",VLOOKUP(J1213,EventNPC!A:E,5,FALSE))","v":"玩家"},{"$f":"IF(M1213=\"\",\"\",MAX(AL1212,AL1211,B1213,D1213)+1)","v":6413},"我这就去清理周围的妖邪",null,9141,{"$f":"IF(O1213=\"\",\"\",IF(O1213=O1212,P1212+1,1))","v":8},{"$f":"_xlfn.TEXTJOIN(\";\",1,R1213:S1213)","v":""},null,null,{"$f":"IF(R1213=\"\",\"\",\"-\"&VLOOKUP(R1213,EventConditionConfig!A:C,3,FALSE)&IF(S1213=\"\",\"\",CHAR(10)&\"-\"&VLOOKUP(S1213,EventConditionConfig!A:C,3,FALSE)))","v":""},{"$f":"IF(Y1213=\"\",\"\",IF(ISTEXT(Y1213),1,2))","v":""},"","",{"$f":"IF(OR(ISNUMBER(Y1213),Y1213=\"\"),\"\",MAX(AL1212,AL1210,B1213,D1213,L1213)+1)","v":""},null,null,{"$f":"IF(OR(ISNUMBER(AB1213),AB1213=\"\"),\"\",X1213+1)","v":""},null,null,"",{"$nulls":4},{"$f":"IF(A1213=\"\",\"\",IF(ISNUMBER(Y1213),2,IF(A1214=\"\",IF(OR(AK1213>0,VLOOKUP(O1213,EventConfig!A:C,3,FALSE)=4),3,\"\"),1)))","v":""},{"$f":"IF(AI1213=\"\",\"\",CHOOSE(AI1213,IF(AK1213=\"\",A1213+1,AK1213),CONCATENATE(IF(AK1213=\"\",A1213+1,AK1213),\";101\"),IF(AK1213=\"\",O1213+1,AK1213)))","v":""},null,6413]
[{"$nulls":21},"","",{"$nulls":14},""]
[{"$f":"O1215*100+P1215","v":3002301},{"$f":"IF(C1215=\"\",\"\",IF(C1215=C1214,B1214,MAX(AL1214,AL1213)+1))","v":6414},"击杀妖邪",{"$f":"IF(E1215=\"\",\"\",IF(E1215=E1214,D1214,MAX(AL1214,AL1213,B1215)+1))","v":""},{"$nulls":5},100,{"$f":"IF(J1215=\"\",\"\",VLOOKUP(J1215,EventNPC!A:E,5,FALSE))","v":"玩家"},{"$f":"IF(M1215=\"\",\"\",MAX(AL1214,AL1213,B1215,D1215)+1)","v":6415},"看来这灵泉周围妖邪甚多，迎战",null,30023,{"$f":"IF(O1215=\"\",\"\",IF(O1215=O1214,P1214+1,1))","v":1},{"$f":"_xlfn.TEXTJOIN(\";\",1,R1215:S1215)","v":""},null,null,{"$f":"IF(R1215=\"\",\"\",\"-\"&VLOOKUP(R1215,EventConditionConfig!A:C,3,FALSE)&IF(S1215=\"\",\"\",CHAR(10)&\"-\"&VLOOKUP(S1215,EventConditionConfig!A:C,3,FALSE)))","v":""},{"$f":"IF(Y1215=\"\",\"\",IF(ISTEXT(Y1215),1,2))","v":2},4023,"",{"$f":"IF(OR(ISNUMBER(Y1215),Y1215=\"\"),\"\",MAX(AL1214,AL1212,B1215,D1215,L1215)+1)","v":""},4023,null,{"$f":"IF(OR(ISNUMBER(AB1215),AB1215=\"\"),\"\",X1215+1)","v":""},null,null,{"$f":"IF(OR(ISNUMBER(AE1215),AE1215=\"\"),\"\",AA1215+1)","v":""},{"$nulls":4},{"$f":"IF(A1215=\"\",\"\",IF(ISNUMBER(Y1215),2,IF(A1216=\"\",IF(OR(AK1215>0,VLOOKUP(O1215,EventConfig!A:C,3,FALSE)=4),3,\"\"),1)))","v":2},{"$f":"IF(AI1215=\"\",\"\",CHOOSE(AI1215,IF(AK1215=\"\",A1215+1,AK1215),CONCATENATE(IF(AK1215=\"\",A1215+1,AK1215),\";101\"),IF(AK1215=\"\",O1215+1,AK1215)))","v":"3002302;101"},null,6415]
[{"$f":"O1216*100+P1216","v":3002302},{"$f":"IF(C1216=\"\",\"\",IF(C1216=C1215,B1215,MAX(AL1215,AL1214)+1))","v":6414},"击杀妖邪",{"$f":"IF(E1216=\"\",\"\",IF(E1216=E1215,D1215,MAX(AL1215,AL1214,B1216)+1))","v":""},{"$nulls":5},100,{"$f":"IF(J1216=\"\",\"\",VLOOKUP(J1216,EventNPC!A:E,5,FALSE))","v":"玩家"},{"$f":"IF(M1216=\"\",\"\",MAX(AL1215,AL1214,B1216,D1216)+1)","v":6416},"这妖邪甚是厉害，多亏玄水真人赠与的丹药才能险胜。",null,30023,{"$f":"IF(O1216=\"\",\"\",IF(O1216=O1215,P1215+1,1))","v":2},{"$f":"_xlfn.TEXTJOIN(\";\",1,R1216:S1216)","v":""},null,null,{"$f":"IF(R1216=\"\",\"\",\"-\"&VLOOKUP(R1216,EventConditionConfig!A:C,3,FALSE)&IF(S1216=\"\",\"\",CHAR(10)&\"-\"&VLOOKUP(S1216,EventConditionConfig!A:C,3,FALSE)))","v":""},{"$f":"IF(Y1216=\"\",\"\",IF(ISTEXT(Y1216),1,2))","v":""},"","",{"$f":"IF(OR(ISNUMBER(Y1216),Y1216=\"\"),\"\",MAX(AL1215,AL1213,B1216,D1216,L1216)+1)","v":""},null,null,{"$f":"IF(OR(ISNUMBER(AB1216),AB1216=\"\"),\"\",X1216+1)","v":""},null,null,"",{"$nulls":4},{"$f":"IF(A1216=\"\",\"\",IF(ISNUMBER(Y1216),2,IF(A1217=\"\",IF(OR(AK1216>0,VLOOKUP(O1216,EventConfig!A:C,3,FALSE)=4),3,\"\"),1)))","v":""},{"$f":"IF(AI1216=\"\",\"\",CHOOSE(AI1216,IF(AK1216=\"\",A1216+1,AK1216),CONCATENATE(IF(AK1216=\"\",A1216+1,AK1216),\";101\"),IF(AK1216=\"\",O1216+1,AK1216)))","v":""},null,6416]
[{"$nulls":21},"","",{"$nulls":14},""]
[{"$f":"O1218*100+P1218","v":914201},{"$f":"IF(C1218=\"\",\"\",IF(C1218=C1217,B1217,MAX(AL1217,AL1216)+1))","v":6417},"完成和NPC的对话",{"$f":"IF(E1218=\"\",\"\",IF(E1218=E1217,D1217,MAX(AL1217,AL1216,B1218)+1))","v":""},{"$nulls":5},144,{"$f":"IF(J1218=\"\",\"\",VLOOKUP(J1218,EventNPC!A:E,5,FALSE))","v":"玄水真人"},{"$f":"IF(M1218=\"\",\"\",MAX(AL1217,AL1216,B1218,D1218)+1)","v":6418},"年轻的修仙者，你回来了！灵泉紫光已消，灵气复归平稳，看来你已成功平息异动。不愧是后起之秀！",null,9142,{"$f":"IF(O1218=\"\",\"\",IF(O1218=O1217,P1217+1,1))","v":1},{"$f":"_xlfn.TEXTJOIN(\";\",1,R1218:S1218)","v":"47"},47,null,{"$f":"IF(R1218=\"\",\"\",\"-\"&VLOOKUP(R1218,EventConditionConfig!A:C,3,FALSE)&IF(S1218=\"\",\"\",CHAR(10)&\"-\"&VLOOKUP(S1218,EventConditionConfig!A:C,3,FALSE)))","v":"-完成神识探索-消灭妖邪"},{"$f":"IF(Y1218=\"\",\"\",IF(ISTEXT(Y1218),1,2))","v":""},"","",{"$f":"IF(OR(ISNUMBER(Y1218),Y1218=\"\"),\"\",MAX(AL1217,AL1215,B1218,D1218,L1218)+1)","v":""},null,null,{"$f":"IF(OR(ISNUMBER(AB1218),AB1218=\"\"),\"\",X1218+1)","v":""},null,null,{"$f":"IF(OR(ISNUMBER(AE1218),AE1218=\"\"),\"\",AA1218+1)","v":""},{"$nulls":4},{"$f":"IF(A1218=\"\",\"\",IF(ISNUMBER(Y1218),2,IF(A1219=\"\",IF(OR(AK1218>0,VLOOKUP(O1218,EventConfig!A:C,3,FALSE)=4),3,\"\"),1)))","v":1},{"$f":"IF(AI1218=\"\",\"\",CHOOSE(AI1218,IF(AK1218=\"\",A1218+1,AK1218),CONCATENATE(IF(AK1218=\"\",A1218+1,AK1218),\";101\"),IF(AK1218=\"\",O1218+1,AK1218)))","v":914202},null,6418]
[914202,6419,"击杀妖邪","",{"$nulls":5},100,{"$f":"IF(J1219=\"\",\"\",VLOOKUP(J1219,EventNPC!A:E,5,FALSE))","v":"玩家"},6420,"前辈先前许我的以后可随意来采摘药材可否当真。",null,9142,2,"",null,null,{"$f":"IF(R1219=\"\",\"\",\"-\"&VLOOKUP(R1219,EventConditionConfig!A:C,3,FALSE)&IF(S1219=\"\",\"\",CHAR(10)&\"-\"&VLOOKUP(S1219,EventConditionConfig!A:C,3,FALSE)))","v":""},"","","","",null,null,"",null,null,"",{"$nulls":4},{"$f":"IF(A1219=\"\",\"\",IF(ISNUMBER(Y1219),2,IF(A1220=\"\",IF(OR(AK1219>0,VLOOKUP(O1219,EventConfig!A:C,3,FALSE)=4),3,\"\"),1)))","v":1},914203,null,6420]
[{"$f":"O1220*100+P1220","v":914203},{"$f":"IF(C1220=\"\",\"\",IF(C1220=C1219,B1219,MAX(AL1219,AL1218)+1))","v":6419},"击杀妖邪",{"$f":"IF(E1220=\"\",\"\",IF(E1220=E1219,D1219,MAX(AL1219,AL1218,B1220)+1))","v":""},{"$nulls":5},144,{"$f":"IF(J1220=\"\",\"\",VLOOKUP(J1220,EventNPC!A:E,5,FALSE))","v":"玄水真人"},{"$f":"IF(M1220=\"\",\"\",MAX(AL1219,AL1218,B1220,D1220)+1)","v":6421},"当然当真，只是灵泉刚修复，药材的药性现在还不是最好，以后你要有药材需求随时前来。(后面开了炼丹再说吧)",null,9142,{"$f":"IF(O1220=\"\",\"\",IF(O1220=O1219,P1219+1,1))","v":3},{"$f":"_xlfn.TEXTJOIN(\";\",1,R1220:S1220)","v":""},null,null,{"$f":"IF(R1220=\"\",\"\",\"-\"&VLOOKUP(R1220,EventConditionConfig!A:C,3,FALSE)&IF(S1220=\"\",\"\",CHAR(10)&\"-\"&VLOOKUP(S1220,EventConditionConfig!A:C,3,FALSE)))","v":""},{"$f":"IF(Y1220=\"\",\"\",IF(ISTEXT(Y1220),1,2))","v":""},"","",{"$f":"IF(OR(ISNUMBER(Y1220),Y1220=\"\"),\"\",MAX(AL1219,AL1217,B1220,D1220,L1220)+1)","v":""},null,null,{"$f":"IF(OR(ISNUMBER(AB1220),AB1220=\"\"),\"\",X1220+1)","v":""},null,null,"",{"$nulls":4},{"$f":"IF(A1220=\"\",\"\",IF(ISNUMBER(Y1220),2,IF(A1221=\"\",IF(OR(AK1220>0,VLOOKUP(O1220,EventConfig!A:C,3,FALSE)=4),3,\"\"),1)))","v":1},{"$f":"IF(AI1220=\"\",\"\",CHOOSE(AI1220,IF(AK1220=\"\",A1220+1,AK1220),CONCATENATE(IF(AK1220=\"\",A1220+1,AK1220),\";101\"),IF(AK1220=\"\",O1220+1,AK1220)))","v":914204},null,6421]
[914204,6419,"击杀妖邪","",{"$nulls":5},100,{"$f":"IF(J1221=\"\",\"\",VLOOKUP(J1221,EventNPC!A:E,5,FALSE))","v":"玩家"},6422,"多谢前辈，那晚辈告辞。",null,9142,4,"",null,null,{"$f":"IF(R1221=\"\",\"\",\"-\"&VLOOKUP(R1221,EventConditionConfig!A:C,3,FALSE)&IF(S1221=\"\",\"\",CHAR(10)&\"-\"&VLOOKUP(S1221,EventConditionConfig!A:C,3,FALSE)))","v":""},"","","","",null,null,"",null,null,"",{"$nulls":4},{"$f":"IF(A1221=\"\",\"\",IF(ISNUMBER(Y1221),2,IF(A1222=\"\",IF(OR(AK1221>0,VLOOKUP(O1221,EventConfig!A:C,3,FALSE)=4),3,\"\"),1)))","v":1},914205,null,6422]
[{"$f":"O1222*100+P1222","v":914205},{"$f":"IF(C1222=\"\",\"\",IF(C1222=C1221,B1221,MAX(AL1221,AL1220)+1))","v":6419},"击杀妖邪",{"$f":"IF(E1222=\"\",\"\",IF(E1222=E1221,D1221,MAX(AL1221,AL1220,B1222)+1))","v":""},{"$nulls":5},144,{"$f":"IF(J1222=\"\",\"\",VLOOKUP(J1222,EventNPC!A:E,5,FALSE))","v":"玄水真人"},{"$f":"IF(M1222=\"\",\"\",MAX(AL1221,AL1220,B1222,D1222)+1)","v":6423},"我看那山顶好似也有异样，如果要去上山还请多加小心。",null,9142,{"$f":"IF(O1222=\"\",\"\",IF(O1222=O1221,P1221+1,1))","v":5},{"$f":"_xlfn.TEXTJOIN(\";\",1,R1222:S1222)","v":""},null,null,{"$f":"IF(R1222=\"\",\"\",\"-\"&VLOOKUP(R1222,EventConditionConfig!A:C,3,FALSE)&IF(S1222=\"\",\"\",CHAR(10)&\"-\"&VLOOKUP(S1222,EventConditionConfig!A:C,3,FALSE)))","v":""},{"$f":"IF(Y1222=\"\",\"\",IF(ISTEXT(Y1222),1,2))","v":""},"","",{"$f":"IF(OR(ISNUMBER(Y1222),Y1222=\"\"),\"\",MAX(AL1221,AL1219,B1222,D1222,L1222)+1)","v":""},null,null,{"$f":"IF(OR(ISNUMBER(AB1222),AB1222=\"\"),\"\",X1222+1)","v":""},null,null,"",{"$nulls":4},{"$f":"IF(A1222=\"\",\"\",IF(ISNUMBER(Y1222),2,IF(A1223=\"\",IF(OR(AK1222>0,VLOOKUP(O1222,EventConfig!A:C,3,FALSE)=4),3,\"\"),1)))","v":1},{"$f":"IF(AI1222=\"\",\"\",CHOOSE(AI1222,IF(AK1222=\"\",A1222+1,AK1222),CONCATENATE(IF(AK1222=\"\",A1222+1,AK1222),\";101\"),IF(AK1222=\"\",O1222+1,AK1222)))","v":914206},null,6423]
[914206,6419,"击杀妖邪","",{"$nulls":5},100,{"$f":"IF(J1223=\"\",\"\",VLOOKUP(J1223,EventNPC!A:E,5,FALSE))","v":"玩家"},6424,"晚辈谨记。",null,9142,6,"",null,null,{"$f":"IF(R1223=\"\",\"\",\"-\"&VLOOKUP(R1223,EventConditionConfig!A:C,3,FALSE)&IF(S1223=\"\",\"\",CHAR(10)&\"-\"&VLOOKUP(S1223,EventConditionConfig!A:C,3,FALSE)))","v":""},"","","","",null,null,"",null,null,"",{"$nulls":4},{"$f":"IF(A1223=\"\",\"\",IF(ISNUMBER(Y1223),2,IF(A1224=\"\",IF(OR(AK1223>0,VLOOKUP(O1223,EventConfig!A:C,3,FALSE)=4),3,\"\"),1)))","v":""},"",null,6424]
[{"$nulls":21},"","",{"$nulls":14},""]
[{"$f":"O1225*100+P1225","v":914301},{"$f":"IF(C1225=\"\",\"\",IF(C1225=C1224,B1224,MAX(AL1224,AL1223)+1))","v":6425},"击杀妖邪",{"$f":"IF(E1225=\"\",\"\",IF(E1225=E1224,D1224,MAX(AL1224,AL1223,B1225)+1))","v":""},{"$nulls":5},131,{"$f":"IF(J1225=\"\",\"\",VLOOKUP(J1225,EventNPC!A:E,5,FALSE))","v":"馨儿"},{"$f":"IF(M1225=\"\",\"\",MAX(AL1224,AL1223,B1225,D1225)+1)","v":6426},"（高兴）：{玩家名}道友，咱们又见面了",null,9143,{"$f":"IF(O1225=\"\",\"\",IF(O1225=O1224,P1224+1,1))","v":1},{"$f":"_xlfn.TEXTJOIN(\";\",1,R1225:S1225)","v":""},null,null,{"$f":"IF(R1225=\"\",\"\",\"-\"&VLOOKUP(R1225,EventConditionConfig!A:C,3,FALSE)&IF(S1225=\"\",\"\",CHAR(10)&\"-\"&VLOOKUP(S1225,EventConditionConfig!A:C,3,FALSE)))","v":""},{"$f":"IF(Y1225=\"\",\"\",IF(ISTEXT(Y1225),1,2))","v":""},"","",{"$f":"IF(OR(ISNUMBER(Y1225),Y1225=\"\"),\"\",MAX(AL1224,AL1222,B1225,D1225,L1225)+1)","v":""},null,null,{"$f":"IF(OR(ISNUMBER(AB1225),AB1225=\"\"),\"\",X1225+1)","v":""},null,null,{"$f":"IF(OR(ISNUMBER(AE1225),AE1225=\"\"),\"\",AA1225+1)","v":""},{"$nulls":4},{"$f":"IF(A1225=\"\",\"\",IF(ISNUMBER(Y1225),2,IF(A1226=\"\",IF(OR(AK1225>0,VLOOKUP(O1225,EventConfig!A:C,3,FALSE)=4),3,\"\"),1)))","v":1},{"$f":"IF(AI1225=\"\",\"\",CHOOSE(AI1225,IF(AK1225=\"\",A1225+1,AK1225),CONCATENATE(IF(AK1225=\"\",A1225+1,AK1225),\";101\"),IF(AK1225=\"\",O1225+1,AK1225)))","v":914302},null,6426]
[{"$f":"O1226*100+P1226","v":914302},{"$f":"IF(C1226=\"\",\"\",IF(C1226=C1225,B1225,MAX(AL1225,AL1224)+1))","v":6425},"击杀妖邪",{"$f":"IF(E1226=\"\",\"\",IF(E1226=E1225,D1225,MAX(AL1225,AL1224,B1226)+1))","v":""},{"$nulls":5},134,{"$f":"IF(J1226=\"\",\"\",VLOOKUP(J1226,EventNPC!A:E,5,FALSE))","v":"柳轻烟"},{"$f":"IF(M1226=\"\",\"\",MAX(AL1225,AL1224,B1226,D1226)+1)","v":6427},"（惊讶）：你们也认识？",null,9143,{"$f":"IF(O1226=\"\",\"\",IF(O1226=O1225,P1225+1,1))","v":2},{"$f":"_xlfn.TEXTJOIN(\";\",1,R1226:S1226)","v":""},null,null,{"$f":"IF(R1226=\"\",\"\",\"-\"&VLOOKUP(R1226,EventConditionConfig!A:C,3,FALSE)&IF(S1226=\"\",\"\",CHAR(10)&\"-\"&VLOOKUP(S1226,EventConditionConfig!A:C,3,FALSE)))","v":""},{"$f":"IF(Y1226=\"\",\"\",IF(ISTEXT(Y1226),1,2))","v":""},"","",{"$f":"IF(OR(ISNUMBER(Y1226),Y1226=\"\"),\"\",MAX(AL1225,AL1223,B1226,D1226,L1226)+1)","v":""},null,null,{"$f":"IF(OR(ISNUMBER(AB1226),AB1226=\"\"),\"\",X1226+1)","v":""},null,null,"",{"$nulls":4},{"$f":"IF(A1226=\"\",\"\",IF(ISNUMBER(Y1226),2,IF(A1227=\"\",IF(OR(AK1226>0,VLOOKUP(O1226,EventConfig!A:C,3,FALSE)=4),3,\"\"),1)))","v":1},{"$f":"IF(AI1226=\"\",\"\",CHOOSE(AI1226,IF(AK1226=\"\",A1226+1,AK1226),CONCATENATE(IF(AK1226=\"\",A1226+1,AK1226),\";101\"),IF(AK1226=\"\",O1226+1,AK1226)))","v":914303},null,6427]
[914303,6425,"击杀妖邪","",{"$nulls":5},131,{"$f":"IF(J1227=\"\",\"\",VLOOKUP(J1227,EventNPC!A:E,5,FALSE))","v":"馨儿"},6428,"对呀！这位道友曾多次帮助与我。师姐也认识？",null,9143,3,"",null,null,{"$f":"IF(R1227=\"\",\"\",\"-\"&VLOOKUP(R1227,EventConditionConfig!A:C,3,FALSE)&IF(S1227=\"\",\"\",CHAR(10)&\"-\"&VLOOKUP(S1227,EventConditionConfig!A:C,3,FALSE)))","v":""},"","","","",null,null,"",null,null,"",{"$nulls":4},{"$f":"IF(A1227=\"\",\"\",IF(ISNUMBER(Y1227),2,IF(A1228=\"\",IF(OR(AK1227>0,VLOOKUP(O1227,EventConfig!A:C,3,FALSE)=4),3,\"\"),1)))","v":1},914304,null,6428]
[{"$f":"O1228*100+P1228","v":914304},{"$f":"IF(C1228=\"\",\"\",IF(C1228=C1227,B1227,MAX(AL1227,AL1226)+1))","v":6425},"击杀妖邪",{"$f":"IF(E1228=\"\",\"\",IF(E1228=E1227,D1227,MAX(AL1227,AL1226,B1228)+1))","v":""},{"$nulls":5},134,{"$f":"IF(J1228=\"\",\"\",VLOOKUP(J1228,EventNPC!A:E,5,FALSE))","v":"柳轻烟"},{"$f":"IF(M1228=\"\",\"\",MAX(AL1227,AL1226,B1228,D1228)+1)","v":6429},"（打趣）：没想到{玩家名}道友这么有女人缘呀！",null,9143,{"$f":"IF(O1228=\"\",\"\",IF(O1228=O1227,P1227+1,1))","v":4},{"$f":"_xlfn.TEXTJOIN(\";\",1,R1228:S1228)","v":""},null,null,{"$f":"IF(R1228=\"\",\"\",\"-\"&VLOOKUP(R1228,EventConditionConfig!A:C,3,FALSE)&IF(S1228=\"\",\"\",CHAR(10)&\"-\"&VLOOKUP(S1228,EventConditionConfig!A:C,3,FALSE)))","v":""},{"$f":"IF(Y1228=\"\",\"\",IF(ISTEXT(Y1228),1,2))","v":""},"","",{"$f":"IF(OR(ISNUMBER(Y1228),Y1228=\"\"),\"\",MAX(AL1227,AL1225,B1228,D1228,L1228)+1)","v":""},null,null,{"$f":"IF(OR(ISNUMBER(AB1228),AB1228=\"\"),\"\",X1228+1)","v":""},null,null,"",{"$nulls":4},{"$f":"IF(A1228=\"\",\"\",IF(ISNUMBER(Y1228),2,IF(A1229=\"\",IF(OR(AK1228>0,VLOOKUP(O1228,EventConfig!A:C,3,FALSE)=4),3,\"\"),1)))","v":1},{"$f":"IF(AI1228=\"\",\"\",CHOOSE(AI1228,IF(AK1228=\"\",A1228+1,AK1228),CONCATENATE(IF(AK1228=\"\",A1228+1,AK1228),\";101\"),IF(AK1228=\"\",O1228+1,AK1228)))","v":914305},null,6429]
[{"$f":"O1229*100+P1229","v":914305},{"$f":"IF(C1229=\"\",\"\",IF(C1229=C1228,B1228,MAX(AL1228,AL1227)+1))","v":6425},"击杀妖邪",{"$f":"IF(E1229=\"\",\"\",IF(E1229=E1228,D1228,MAX(AL1228,AL1227,B1229)+1))","v":""},{"$nulls":5},100,{"$f":"IF(J1229=\"\",\"\",VLOOKUP(J1229,EventNPC!A:E,5,FALSE))","v":"玩家"},{"$f":"IF(M1229=\"\",\"\",MAX(AL1228,AL1227,B1229,D1229)+1)","v":6430},"你们也在这里真是巧呀！你们来这里做什么？",null,9143,{"$f":"IF(O1229=\"\",\"\",IF(O1229=O1228,P1228+1,1))","v":5},{"$f":"_xlfn.TEXTJOIN(\";\",1,R1229:S1229)","v":""},null,null,{"$f":"IF(R1229=\"\",\"\",\"-\"&VLOOKUP(R1229,EventConditionConfig!A:C,3,FALSE)&IF(S1229=\"\",\"\",CHAR(10)&\"-\"&VLOOKUP(S1229,EventConditionConfig!A:C,3,FALSE)))","v":""},{"$f":"IF(Y1229=\"\",\"\",IF(ISTEXT(Y1229),1,2))","v":""},"","",{"$f":"IF(OR(ISNUMBER(Y1229),Y1229=\"\"),\"\",MAX(AL1228,AL1226,B1229,D1229,L1229)+1)","v":""},null,null,{"$f":"IF(OR(ISNUMBER(AB1229),AB1229=\"\"),\"\",X1229+1)","v":""},null,null,"",{"$nulls":4},{"$f":"IF(A1229=\"\",\"\",IF(ISNUMBER(Y1229),2,IF(A1230=\"\",IF(OR(AK1229>0,VLOOKUP(O1229,EventConfig!A:C,3,FALSE)=4),3,\"\"),1)))","v":1},{"$f":"IF(AI1229=\"\",\"\",CHOOSE(AI1229,IF(AK1229=\"\",A1229+1,AK1229),CONCATENATE(IF(AK1229=\"\",A1229+1,AK1229),\";101\"),IF(AK1229=\"\",O1229+1,AK1229)))","v":914306},null,6430]
[914306,6425,"击杀妖邪","",{"$nulls":5},131,{"$f":"IF(J1230=\"\",\"\",VLOOKUP(J1230,EventNPC!A:E,5,FALSE))","v":"馨儿"},6431,"宗门长老说仙山上空有异样，灵气波动异常，我和如烟师姐前来调查一番。",null,9143,6,"",null,null,{"$f":"IF(R1230=\"\",\"\",\"-\"&VLOOKUP(R1230,EventConditionConfig!A:C,3,FALSE)&IF(S1230=\"\",\"\",CHAR(10)&\"-\"&VLOOKUP(S1230,EventConditionConfig!A:C,3,FALSE)))","v":""},"",{"$f":"IF(U1230=1,_xlfn.TEXTJOIN(\";\",1,IF(Z1230=\"\",A1230+1,Z1230),IF(AND(AA1230<>\"\",AC1230=\"\"),A1230+1,AC1230),IF(AND(AD1230<>\"\",AF1230=\"\"),A1230+1,AF1230)),IF(U1230=2,Y1230,\"\"))","v":""},{"$f":"_xlfn.TEXTJOIN(\";\",1,X1230,AA1230,AD1230)","v":""},"",null,null,"",null,null,"",{"$nulls":4},{"$f":"IF(A1230=\"\",\"\",IF(ISNUMBER(Y1230),2,IF(A1231=\"\",IF(OR(AK1230>0,VLOOKUP(O1230,EventConfig!A:C,3,FALSE)=4),3,\"\"),1)))","v":1},914307,null,6431]
[914307,6425,"击杀妖邪","",{"$nulls":5},134,{"$f":"IF(J1231=\"\",\"\",VLOOKUP(J1231,EventNPC!A:E,5,FALSE))","v":"柳轻烟"},6432,"仙山异样非同小可，可能藏着大秘密。灵气波动中有股奇特气息吸引了不少妖物前来，道友可否帮助我们清理掉眼前的妖物？",null,9143,7,"",null,null,{"$f":"IF(R1231=\"\",\"\",\"-\"&VLOOKUP(R1231,EventConditionConfig!A:C,3,FALSE)&IF(S1231=\"\",\"\",CHAR(10)&\"-\"&VLOOKUP(S1231,EventConditionConfig!A:C,3,FALSE)))","v":""},"","","","",null,null,"",null,null,"",{"$nulls":4},{"$f":"IF(A1231=\"\",\"\",IF(ISNUMBER(Y1231),2,IF(A1232=\"\",IF(OR(AK1231>0,VLOOKUP(O1231,EventConfig!A:C,3,FALSE)=4),3,\"\"),1)))","v":1},914308,null,6432]
[{"$f":"O1232*100+P1232","v":914308},{"$f":"IF(C1232=\"\",\"\",IF(C1232=C1231,B1231,MAX(AL1231,AL1230)+1))","v":6425},"击杀妖邪",{"$f":"IF(E1232=\"\",\"\",IF(E1232=E1231,D1231,MAX(AL1231,AL1230,B1232)+1))","v":""},{"$nulls":5},100,{"$f":"IF(J1232=\"\",\"\",VLOOKUP(J1232,EventNPC!A:E,5,FALSE))","v":"玩家"},{"$f":"IF(M1232=\"\",\"\",MAX(AL1231,AL1230,B1232,D1232)+1)","v":6433},"没问题！",null,9143,{"$f":"IF(O1232=\"\",\"\",IF(O1232=O1231,P1231+1,1))","v":8},{"$f":"_xlfn.TEXTJOIN(\";\",1,R1232:S1232)","v":""},null,null,{"$f":"IF(R1232=\"\",\"\",\"-\"&VLOOKUP(R1232,EventConditionConfig!A:C,3,FALSE)&IF(S1232=\"\",\"\",CHAR(10)&\"-\"&VLOOKUP(S1232,EventConditionConfig!A:C,3,FALSE)))","v":""},{"$f":"IF(Y1232=\"\",\"\",IF(ISTEXT(Y1232),1,2))","v":""},"","",{"$f":"IF(OR(ISNUMBER(Y1232),Y1232=\"\"),\"\",MAX(AL1231,AL1229,B1232,D1232,L1232)+1)","v":""},null,null,{"$f":"IF(OR(ISNUMBER(AB1232),AB1232=\"\"),\"\",X1232+1)","v":""},null,null,"",{"$nulls":4},{"$f":"IF(A1232=\"\",\"\",IF(ISNUMBER(Y1232),2,IF(A1233=\"\",IF(OR(AK1232>0,VLOOKUP(O1232,EventConfig!A:C,3,FALSE)=4),3,\"\"),1)))","v":1},{"$f":"IF(AI1232=\"\",\"\",CHOOSE(AI1232,IF(AK1232=\"\",A1232+1,AK1232),CONCATENATE(IF(AK1232=\"\",A1232+1,AK1232),\";101\"),IF(AK1232=\"\",O1232+1,AK1232)))","v":914309},null,6433]
[914309,6425,"击杀妖邪","",{"$nulls":5},134,{"$f":"IF(J1233=\"\",\"\",VLOOKUP(J1233,EventNPC!A:E,5,FALSE))","v":"柳轻烟"},6434,"多谢道友。",null,9143,9,"",null,null,{"$f":"IF(R1233=\"\",\"\",\"-\"&VLOOKUP(R1233,EventConditionConfig!A:C,3,FALSE)&IF(S1233=\"\",\"\",CHAR(10)&\"-\"&VLOOKUP(S1233,EventConditionConfig!A:C,3,FALSE)))","v":""},"","","","",null,null,"",null,null,"",{"$nulls":4},{"$f":"IF(A1233=\"\",\"\",IF(ISNUMBER(Y1233),2,IF(A1234=\"\",IF(OR(AK1233>0,VLOOKUP(O1233,EventConfig!A:C,3,FALSE)=4),3,\"\"),1)))","v":1},914310,null,6434]
[{"$f":"O1234*100+P1234","v":914310},{"$f":"IF(C1234=\"\",\"\",IF(C1234=C1233,B1233,MAX(AL1233,AL1232)+1))","v":6425},"击杀妖邪",{"$f":"IF(E1234=\"\",\"\",IF(E1234=E1233,D1233,MAX(AL1233,AL1232,B1234)+1))","v":""},{"$nulls":5},100,{"$f":"IF(J1234=\"\",\"\",VLOOKUP(J1234,EventNPC!A:E,5,FALSE))","v":"玩家"},{"$f":"IF(M1234=\"\",\"\",MAX(AL1233,AL1232,B1234,D1234)+1)","v":6435},"事后可不能少了好处哟",null,9143,{"$f":"IF(O1234=\"\",\"\",IF(O1234=O1233,P1233+1,1))","v":10},{"$f":"_xlfn.TEXTJOIN(\";\",1,R1234:S1234)","v":""},null,null,{"$f":"IF(R1234=\"\",\"\",\"-\"&VLOOKUP(R1234,EventConditionConfig!A:C,3,FALSE)&IF(S1234=\"\",\"\",CHAR(10)&\"-\"&VLOOKUP(S1234,EventConditionConfig!A:C,3,FALSE)))","v":""},{"$f":"IF(Y1234=\"\",\"\",IF(ISTEXT(Y1234),1,2))","v":""},"","",{"$f":"IF(OR(ISNUMBER(Y1234),Y1234=\"\"),\"\",MAX(AL1233,AL1231,B1234,D1234,L1234)+1)","v":""},null,null,{"$f":"IF(OR(ISNUMBER(AB1234),AB1234=\"\"),\"\",X1234+1)","v":""},null,null,"",{"$nulls":4},{"$f":"IF(A1234=\"\",\"\",IF(ISNUMBER(Y1234),2,IF(A1235=\"\",IF(OR(AK1234>0,VLOOKUP(O1234,EventConfig!A:C,3,FALSE)=4),3,\"\"),1)))","v":1},{"$f":"IF(AI1234=\"\",\"\",CHOOSE(AI1234,IF(AK1234=\"\",A1234+1,AK1234),CONCATENATE(IF(AK1234=\"\",A1234+1,AK1234),\";101\"),IF(AK1234=\"\",O1234+1,AK1234)))","v":914311},null,6435]
[914311,6425,"击杀妖邪","",{"$nulls":5},134,{"$f":"IF(J1235=\"\",\"\",VLOOKUP(J1235,EventNPC!A:E,5,FALSE))","v":"柳轻烟"},6436,"哈哈！自当如此。",null,9143,11,"",null,null,{"$f":"IF(R1235=\"\",\"\",\"-\"&VLOOKUP(R1235,EventConditionConfig!A:C,3,FALSE)&IF(S1235=\"\",\"\",CHAR(10)&\"-\"&VLOOKUP(S1235,EventConditionConfig!A:C,3,FALSE)))","v":""},"","","","",null,null,"",null,null,"",{"$nulls":4},{"$f":"IF(A1235=\"\",\"\",IF(ISNUMBER(Y1235),2,IF(A1236=\"\",IF(OR(AK1235>0,VLOOKUP(O1235,EventConfig!A:C,3,FALSE)=4),3,\"\"),1)))","v":1},914312,null,6436]
[{"$f":"O1236*100+P1236","v":914312},{"$f":"IF(C1236=\"\",\"\",IF(C1236=C1235,B1235,MAX(AL1235,AL1234)+1))","v":6425},"击杀妖邪",{"$f":"IF(E1236=\"\",\"\",IF(E1236=E1235,D1235,MAX(AL1235,AL1234,B1236)+1))","v":""},{"$nulls":5},131,{"$f":"IF(J1236=\"\",\"\",VLOOKUP(J1236,EventNPC!A:E,5,FALSE))","v":"馨儿"},{"$f":"IF(M1236=\"\",\"\",MAX(AL1235,AL1234,B1236,D1236)+1)","v":6437},"我和师姐解决东边的。西边的就交给你了。",null,9143,{"$f":"IF(O1236=\"\",\"\",IF(O1236=O1235,P1235+1,1))","v":12},{"$f":"_xlfn.TEXTJOIN(\";\",1,R1236:S1236)","v":""},null,null,{"$f":"IF(R1236=\"\",\"\",\"-\"&VLOOKUP(R1236,EventConditionConfig!A:C,3,FALSE)&IF(S1236=\"\",\"\",CHAR(10)&\"-\"&VLOOKUP(S1236,EventConditionConfig!A:C,3,FALSE)))","v":""},{"$f":"IF(Y1236=\"\",\"\",IF(ISTEXT(Y1236),1,2))","v":""},"","",{"$f":"IF(OR(ISNUMBER(Y1236),Y1236=\"\"),\"\",MAX(AL1235,AL1233,B1236,D1236,L1236)+1)","v":""},null,null,{"$f":"IF(OR(ISNUMBER(AB1236),AB1236=\"\"),\"\",X1236+1)","v":""},null,null,"",{"$nulls":4},{"$f":"IF(A1236=\"\",\"\",IF(ISNUMBER(Y1236),2,IF(A1237=\"\",IF(OR(AK1236>0,VLOOKUP(O1236,EventConfig!A:C,3,FALSE)=4),3,\"\"),1)))","v":""},{"$f":"IF(AI1236=\"\",\"\",CHOOSE(AI1236,IF(AK1236=\"\",A1236+1,AK1236),CONCATENATE(IF(AK1236=\"\",A1236+1,AK1236),\";101\"),IF(AK1236=\"\",O1236+1,AK1236)))","v":""},null,6437]
[{"$nulls":21},"","",{"$nulls":14},""]
[{"$f":"O1238*100+P1238","v":3002401},{"$f":"IF(C1238=\"\",\"\",IF(C1238=C1237,B1237,MAX(AL1237,AL1236)+1))","v":6438},"击杀妖邪",{"$f":"IF(E1238=\"\",\"\",IF(E1238=E1237,D1237,MAX(AL1237,AL1236,B1238)+1))","v":""},{"$nulls":5},131,{"$f":"IF(J1238=\"\",\"\",VLOOKUP(J1238,EventNPC!A:E,5,FALSE))","v":"馨儿"},{"$f":"IF(M1238=\"\",\"\",MAX(AL1237,AL1236,B1238,D1238)+1)","v":6439},"看来这里就是馨儿和柳如烟所说的妖物盘踞的地方了，应战",null,30024,{"$f":"IF(O1238=\"\",\"\",IF(O1238=O1237,P1237+1,1))","v":1},{"$f":"_xlfn.TEXTJOIN(\";\",1,R1238:S1238)","v":""},null,null,{"$f":"IF(R1238=\"\",\"\",\"-\"&VLOOKUP(R1238,EventConditionConfig!A:C,3,FALSE)&IF(S1238=\"\",\"\",CHAR(10)&\"-\"&VLOOKUP(S1238,EventConditionConfig!A:C,3,FALSE)))","v":""},{"$f":"IF(Y1238=\"\",\"\",IF(ISTEXT(Y1238),1,2))","v":2},4024,"",{"$f":"IF(OR(ISNUMBER(Y1238),Y1238=\"\"),\"\",MAX(AL1237,AL1235,B1238,D1238,L1238)+1)","v":""},4024,null,{"$f":"IF(OR(ISNUMBER(AB1238),AB1238=\"\"),\"\",X1238+1)","v":""},null,null,{"$f":"IF(OR(ISNUMBER(AE1238),AE1238=\"\"),\"\",AA1238+1)","v":""},{"$nulls":4},{"$f":"IF(A1238=\"\",\"\",IF(ISNUMBER(Y1238),2,IF(A1239=\"\",IF(OR(AK1238>0,VLOOKUP(O1238,EventConfig!A:C,3,FALSE)=4),3,\"\"),1)))","v":2},{"$f":"IF(AI1238=\"\",\"\",CHOOSE(AI1238,IF(AK1238=\"\",A1238+1,AK1238),CONCATENATE(IF(AK1238=\"\",A1238+1,AK1238),\";101\"),IF(AK1238=\"\",O1238+1,AK1238)))","v":"3002402;101"},null,6439]
[{"$f":"O1239*100+P1239","v":3002402},{"$f":"IF(C1239=\"\",\"\",IF(C1239=C1238,B1238,MAX(AL1238,AL1237)+1))","v":6438},"击杀妖邪",{"$f":"IF(E1239=\"\",\"\",IF(E1239=E1238,D1238,MAX(AL1238,AL1237,B1239)+1))","v":""},{"$nulls":5},131,{"$f":"IF(J1239=\"\",\"\",VLOOKUP(J1239,EventNPC!A:E,5,FALSE))","v":"馨儿"},{"$f":"IF(M1239=\"\",\"\",MAX(AL1238,AL1237,B1239,D1239)+1)","v":6440},"呼~终于解决掉了",null,30024,{"$f":"IF(O1239=\"\",\"\",IF(O1239=O1238,P1238+1,1))","v":2},{"$f":"_xlfn.TEXTJOIN(\";\",1,R1239:S1239)","v":""},null,null,{"$f":"IF(R1239=\"\",\"\",\"-\"&VLOOKUP(R1239,EventConditionConfig!A:C,3,FALSE)&IF(S1239=\"\",\"\",CHAR(10)&\"-\"&VLOOKUP(S1239,EventConditionConfig!A:C,3,FALSE)))","v":""},{"$f":"IF(Y1239=\"\",\"\",IF(ISTEXT(Y1239),1,2))","v":""},"","",{"$f":"IF(OR(ISNUMBER(Y1239),Y1239=\"\"),\"\",MAX(AL1238,AL1236,B1239,D1239,L1239)+1)","v":""},null,null,{"$f":"IF(OR(ISNUMBER(AB1239),AB1239=\"\"),\"\",X1239+1)","v":""},null,null,"",{"$nulls":4},{"$f":"IF(A1239=\"\",\"\",IF(ISNUMBER(Y1239),2,IF(A1240=\"\",IF(OR(AK1239>0,VLOOKUP(O1239,EventConfig!A:C,3,FALSE)=4),3,\"\"),1)))","v":""},{"$f":"IF(AI1239=\"\",\"\",CHOOSE(AI1239,IF(AK1239=\"\",A1239+1,AK1239),CONCATENATE(IF(AK1239=\"\",A1239+1,AK1239),\";101\"),IF(AK1239=\"\",O1239+1,AK1239)))","v":""},null,6440]
[{"$nulls":21},"","",{"$nulls":14},""]
[{"$f":"O1241*100+P1241","v":914401},{"$f":"IF(C1241=\"\",\"\",IF(C1241=C1240,B1240,MAX(AL1240,AL1239)+1))","v":6441},"完成对话",{"$f":"IF(E1241=\"\",\"\",IF(E1241=E1240,D1240,MAX(AL1240,AL1239,B1241)+1))","v":""},{"$nulls":5},131,{"$f":"IF(J1241=\"\",\"\",VLOOKUP(J1241,EventNPC!A:E,5,FALSE))","v":"馨儿"},{"$f":"IF(M1241=\"\",\"\",MAX(AL1240,AL1239,B1241,D1241)+1)","v":6442},"终于清理掉了眼前这些，这些妖物真是烦人。还好有你相助。",null,9144,{"$f":"IF(O1241=\"\",\"\",IF(O1241=O1240,P1240+1,1))","v":1},{"$f":"_xlfn.TEXTJOIN(\";\",1,R1241:S1241)","v":"48"},48,null,{"$f":"IF(R1241=\"\",\"\",\"-\"&VLOOKUP(R1241,EventConditionConfig!A:C,3,FALSE)&IF(S1241=\"\",\"\",CHAR(10)&\"-\"&VLOOKUP(S1241,EventConditionConfig!A:C,3,FALSE)))","v":"-完成神识探索-消灭仙山山径西边的妖物"},{"$f":"IF(Y1241=\"\",\"\",IF(ISTEXT(Y1241),1,2))","v":""},"","",{"$f":"IF(OR(ISNUMBER(Y1241),Y1241=\"\"),\"\",MAX(AL1240,AL1238,B1241,D1241,L1241)+1)","v":""},null,null,{"$f":"IF(OR(ISNUMBER(AB1241),AB1241=\"\"),\"\",X1241+1)","v":""},null,null,{"$f":"IF(OR(ISNUMBER(AE1241),AE1241=\"\"),\"\",AA1241+1)","v":""},{"$nulls":4},{"$f":"IF(A1241=\"\",\"\",IF(ISNUMBER(Y1241),2,IF(A1242=\"\",IF(OR(AK1241>0,VLOOKUP(O1241,EventConfig!A:C,3,FALSE)=4),3,\"\"),1)))","v":1},{"$f":"IF(AI1241=\"\",\"\",CHOOSE(AI1241,IF(AK1241=\"\",A1241+1,AK1241),CONCATENATE(IF(AK1241=\"\",A1241+1,AK1241),\";101\"),IF(AK1241=\"\",O1241+1,AK1241)))","v":914402},null,6442]
[{"$f":"O1242*100+P1242","v":914402},{"$f":"IF(C1242=\"\",\"\",IF(C1242=C1241,B1241,MAX(AL1241,AL1240)+1))","v":6441},"完成对话",{"$f":"IF(E1242=\"\",\"\",IF(E1242=E1241,D1241,MAX(AL1241,AL1240,B1242)+1))","v":""},{"$nulls":5},134,{"$f":"IF(J1242=\"\",\"\",VLOOKUP(J1242,EventNPC!A:E,5,FALSE))","v":"柳轻烟"},{"$f":"IF(M1242=\"\",\"\",MAX(AL1241,AL1240,B1242,D1242)+1)","v":6443},"多谢道友相助！我和师妹准备前往山顶，道友可否一路？",null,9144,{"$f":"IF(O1242=\"\",\"\",IF(O1242=O1241,P1241+1,1))","v":2},{"$f":"_xlfn.TEXTJOIN(\";\",1,R1242:S1242)","v":""},null,null,{"$f":"IF(R1242=\"\",\"\",\"-\"&VLOOKUP(R1242,EventConditionConfig!A:C,3,FALSE)&IF(S1242=\"\",\"\",CHAR(10)&\"-\"&VLOOKUP(S1242,EventConditionConfig!A:C,3,FALSE)))","v":""},{"$f":"IF(Y1242=\"\",\"\",IF(ISTEXT(Y1242),1,2))","v":""},"","",{"$f":"IF(OR(ISNUMBER(Y1242),Y1242=\"\"),\"\",MAX(AL1241,AL1239,B1242,D1242,L1242)+1)","v":""},null,null,{"$f":"IF(OR(ISNUMBER(AB1242),AB1242=\"\"),\"\",X1242+1)","v":""},null,null,"",{"$nulls":4},{"$f":"IF(A1242=\"\",\"\",IF(ISNUMBER(Y1242),2,IF(A1243=\"\",IF(OR(AK1242>0,VLOOKUP(O1242,EventConfig!A:C,3,FALSE)=4),3,\"\"),1)))","v":1},{"$f":"IF(AI1242=\"\",\"\",CHOOSE(AI1242,IF(AK1242=\"\",A1242+1,AK1242),CONCATENATE(IF(AK1242=\"\",A1242+1,AK1242),\";101\"),IF(AK1242=\"\",O1242+1,AK1242)))","v":914403},null,6443]
[914301,6441,"完成对话","",{"$nulls":5},100,{"$f":"IF(J1243=\"\",\"\",VLOOKUP(J1243,EventNPC!A:E,5,FALSE))","v":"玩家"},6444,"我还有一点自己的事情需要处理，你们先行。有缘我们会在山顶相见。",null,9143,1,"",null,null,{"$f":"IF(R1243=\"\",\"\",\"-\"&VLOOKUP(R1243,EventConditionConfig!A:C,3,FALSE)&IF(S1243=\"\",\"\",CHAR(10)&\"-\"&VLOOKUP(S1243,EventConditionConfig!A:C,3,FALSE)))","v":""},"","","","",null,null,"",null,null,"",{"$nulls":4},{"$f":"IF(A1243=\"\",\"\",IF(ISNUMBER(Y1243),2,IF(A1244=\"\",IF(OR(AK1243>0,VLOOKUP(O1243,EventConfig!A:C,3,FALSE)=4),3,\"\"),1)))","v":1},914302,null,6444]
[{"$f":"O1244*100+P1244","v":914401},{"$f":"IF(C1244=\"\",\"\",IF(C1244=C1243,B1243,MAX(AL1243,AL1242)+1))","v":6441},"完成对话",{"$f":"IF(E1244=\"\",\"\",IF(E1244=E1243,D1243,MAX(AL1243,AL1242,B1244)+1))","v":""},{"$nulls":5},134,{"$f":"IF(J1244=\"\",\"\",VLOOKUP(J1244,EventNPC!A:E,5,FALSE))","v":"柳轻烟"},{"$f":"IF(M1244=\"\",\"\",MAX(AL1243,AL1242,B1244,D1244)+1)","v":6445},"那道友保重！",null,9144,{"$f":"IF(O1244=\"\",\"\",IF(O1244=O1243,P1243+1,1))","v":1},{"$f":"_xlfn.TEXTJOIN(\";\",1,R1244:S1244)","v":""},null,null,{"$f":"IF(R1244=\"\",\"\",\"-\"&VLOOKUP(R1244,EventConditionConfig!A:C,3,FALSE)&IF(S1244=\"\",\"\",CHAR(10)&\"-\"&VLOOKUP(S1244,EventConditionConfig!A:C,3,FALSE)))","v":""},{"$f":"IF(Y1244=\"\",\"\",IF(ISTEXT(Y1244),1,2))","v":""},"","",{"$f":"IF(OR(ISNUMBER(Y1244),Y1244=\"\"),\"\",MAX(AL1243,AL1241,B1244,D1244,L1244)+1)","v":""},null,null,{"$f":"IF(OR(ISNUMBER(AB1244),AB1244=\"\"),\"\",X1244+1)","v":""},null,null,"",{"$nulls":4},{"$f":"IF(A1244=\"\",\"\",IF(ISNUMBER(Y1244),2,IF(A1245=\"\",IF(OR(AK1244>0,VLOOKUP(O1244,EventConfig!A:C,3,FALSE)=4),3,\"\"),1)))","v":""},{"$f":"IF(AI1244=\"\",\"\",CHOOSE(AI1244,IF(AK1244=\"\",A1244+1,AK1244),CONCATENATE(IF(AK1244=\"\",A1244+1,AK1244),\";101\"),IF(AK1244=\"\",O1244+1,AK1244)))","v":""},null,6445]
[{"$nulls":21},"","",{"$nulls":14},""]
[{"$f":"O1246*100+P1246","v":914501},{"$f":"IF(C1246=\"\",\"\",IF(C1246=C1245,B1245,MAX(AL1245,AL1244)+1))","v":6446},"完成对话",{"$f":"IF(E1246=\"\",\"\",IF(E1246=E1245,D1245,MAX(AL1245,AL1244,B1246)+1))","v":""},{"$nulls":5},134,{"$f":"IF(J1246=\"\",\"\",VLOOKUP(J1246,EventNPC!A:E,5,FALSE))","v":"柳轻烟"},{"$f":"IF(M1246=\"\",\"\",MAX(AL1245,AL1244,B1246,D1246)+1)","v":6447},"此处好像正在举行什么仪式？",null,9145,{"$f":"IF(O1246=\"\",\"\",IF(O1246=O1245,P1245+1,1))","v":1},{"$f":"_xlfn.TEXTJOIN(\";\",1,R1246:S1246)","v":""},null,null,{"$f":"IF(R1246=\"\",\"\",\"-\"&VLOOKUP(R1246,EventConditionConfig!A:C,3,FALSE)&IF(S1246=\"\",\"\",CHAR(10)&\"-\"&VLOOKUP(S1246,EventConditionConfig!A:C,3,FALSE)))","v":""},{"$f":"IF(Y1246=\"\",\"\",IF(ISTEXT(Y1246),1,2))","v":""},"","",{"$f":"IF(OR(ISNUMBER(Y1246),Y1246=\"\"),\"\",MAX(AL1245,AL1243,B1246,D1246,L1246)+1)","v":""},null,null,{"$f":"IF(OR(ISNUMBER(AB1246),AB1246=\"\"),\"\",X1246+1)","v":""},null,null,{"$f":"IF(OR(ISNUMBER(AE1246),AE1246=\"\"),\"\",AA1246+1)","v":""},{"$nulls":4},{"$f":"IF(A1246=\"\",\"\",IF(ISNUMBER(Y1246),2,IF(A1247=\"\",IF(OR(AK1246>0,VLOOKUP(O1246,EventConfig!A:C,3,FALSE)=4),3,\"\"),1)))","v":1},{"$f":"IF(AI1246=\"\",\"\",CHOOSE(AI1246,IF(AK1246=\"\",A1246+1,AK1246),CONCATENATE(IF(AK1246=\"\",A1246+1,AK1246),\";101\"),IF(AK1246=\"\",O1246+1,AK1246)))","v":914502},null,6447]
[{"$f":"O1247*100+P1247","v":914502},{"$f":"IF(C1247=\"\",\"\",IF(C1247=C1246,B1246,MAX(AL1246,AL1245)+1))","v":6446},"完成对话",{"$f":"IF(E1247=\"\",\"\",IF(E1247=E1246,D1246,MAX(AL1246,AL1245,B1247)+1))","v":""},{"$nulls":5},131,{"$f":"IF(J1247=\"\",\"\",VLOOKUP(J1247,EventNPC!A:E,5,FALSE))","v":"馨儿"},{"$f":"IF(M1247=\"\",\"\",MAX(AL1246,AL1245,B1247,D1247)+1)","v":6448},"哇！灵气乱得像要炸，难怪上空云雾翻得那么疯！这地方绝对不简单！喂，你看这大妖，守在这儿，八成是护着啥宝贝！",null,9145,{"$f":"IF(O1247=\"\",\"\",IF(O1247=O1246,P1246+1,1))","v":2},{"$f":"_xlfn.TEXTJOIN(\";\",1,R1247:S1247)","v":""},null,null,{"$f":"IF(R1247=\"\",\"\",\"-\"&VLOOKUP(R1247,EventConditionConfig!A:C,3,FALSE)&IF(S1247=\"\",\"\",CHAR(10)&\"-\"&VLOOKUP(S1247,EventConditionConfig!A:C,3,FALSE)))","v":""},{"$f":"IF(Y1247=\"\",\"\",IF(ISTEXT(Y1247),1,2))","v":""},"","",{"$f":"IF(OR(ISNUMBER(Y1247),Y1247=\"\"),\"\",MAX(AL1246,AL1244,B1247,D1247,L1247)+1)","v":""},null,null,{"$f":"IF(OR(ISNUMBER(AB1247),AB1247=\"\"),\"\",X1247+1)","v":""},null,null,"",{"$nulls":4},{"$f":"IF(A1247=\"\",\"\",IF(ISNUMBER(Y1247),2,IF(A1248=\"\",IF(OR(AK1247>0,VLOOKUP(O1247,EventConfig!A:C,3,FALSE)=4),3,\"\"),1)))","v":1},{"$f":"IF(AI1247=\"\",\"\",CHOOSE(AI1247,IF(AK1247=\"\",A1247+1,AK1247),CONCATENATE(IF(AK1247=\"\",A1247+1,AK1247),\";101\"),IF(AK1247=\"\",O1247+1,AK1247)))","v":914503},null,6448]
[914503,6446,"完成对话","",{"$nulls":5},134,{"$f":"IF(J1248=\"\",\"\",VLOOKUP(J1248,EventNPC!A:E,5,FALSE))","v":"柳轻烟"},6449,"灵脉气息带着一股古老威压，似是传说中的禁地……我曾听师尊提过，仙山上古时期乃是龙族的地盘，莫非与此有关？",null,9145,3,"",null,null,{"$f":"IF(R1248=\"\",\"\",\"-\"&VLOOKUP(R1248,EventConditionConfig!A:C,3,FALSE)&IF(S1248=\"\",\"\",CHAR(10)&\"-\"&VLOOKUP(S1248,EventConditionConfig!A:C,3,FALSE)))","v":""},"","","","",null,null,"",null,null,"",{"$nulls":4},{"$f":"IF(A1248=\"\",\"\",IF(ISNUMBER(Y1248),2,IF(A1249=\"\",IF(OR(AK1248>0,VLOOKUP(O1248,EventConfig!A:C,3,FALSE)=4),3,\"\"),1)))","v":1},914504,null,6449]
[{"$f":"O1249*100+P1249","v":914504},{"$f":"IF(C1249=\"\",\"\",IF(C1249=C1248,B1248,MAX(AL1248,AL1247)+1))","v":6446},"完成对话",{"$f":"IF(E1249=\"\",\"\",IF(E1249=E1248,D1248,MAX(AL1248,AL1247,B1249)+1))","v":""},{"$nulls":5},100,{"$f":"IF(J1249=\"\",\"\",VLOOKUP(J1249,EventNPC!A:E,5,FALSE))","v":"玩家"},{"$f":"IF(M1249=\"\",\"\",MAX(AL1248,AL1247,B1249,D1249)+1)","v":6450},"龙族？我从未听说过。",null,9145,{"$f":"IF(O1249=\"\",\"\",IF(O1249=O1248,P1248+1,1))","v":4},{"$f":"_xlfn.TEXTJOIN(\";\",1,R1249:S1249)","v":""},null,null,{"$f":"IF(R1249=\"\",\"\",\"-\"&VLOOKUP(R1249,EventConditionConfig!A:C,3,FALSE)&IF(S1249=\"\",\"\",CHAR(10)&\"-\"&VLOOKUP(S1249,EventConditionConfig!A:C,3,FALSE)))","v":""},{"$f":"IF(Y1249=\"\",\"\",IF(ISTEXT(Y1249),1,2))","v":""},"","",{"$f":"IF(OR(ISNUMBER(Y1249),Y1249=\"\"),\"\",MAX(AL1248,AL1246,B1249,D1249,L1249)+1)","v":""},null,null,{"$f":"IF(OR(ISNUMBER(AB1249),AB1249=\"\"),\"\",X1249+1)","v":""},null,null,"",{"$nulls":4},{"$f":"IF(A1249=\"\",\"\",IF(ISNUMBER(Y1249),2,IF(A1250=\"\",IF(OR(AK1249>0,VLOOKUP(O1249,EventConfig!A:C,3,FALSE)=4),3,\"\"),1)))","v":1},{"$f":"IF(AI1249=\"\",\"\",CHOOSE(AI1249,IF(AK1249=\"\",A1249+1,AK1249),CONCATENATE(IF(AK1249=\"\",A1249+1,AK1249),\";101\"),IF(AK1249=\"\",O1249+1,AK1249)))","v":914505},null,6450]
[914505,6446,"完成对话","",{"$nulls":5},134,{"$f":"IF(J1250=\"\",\"\",VLOOKUP(J1250,EventNPC!A:E,5,FALSE))","v":"柳轻烟"},6451,"龙族是上古时期最强妖族，后因上古之战全数陨落。这世间便在没有龙族了。你没听说过很正常，不是师尊偶然间告诉我我也不知。",null,9145,5,"",null,null,{"$f":"IF(R1250=\"\",\"\",\"-\"&VLOOKUP(R1250,EventConditionConfig!A:C,3,FALSE)&IF(S1250=\"\",\"\",CHAR(10)&\"-\"&VLOOKUP(S1250,EventConditionConfig!A:C,3,FALSE)))","v":""},"","","","",null,null,"",null,null,"",{"$nulls":4},{"$f":"IF(A1250=\"\",\"\",IF(ISNUMBER(Y1250),2,IF(A1251=\"\",IF(OR(AK1250>0,VLOOKUP(O1250,EventConfig!A:C,3,FALSE)=4),3,\"\"),1)))","v":1},914506,null,6451]
[{"$f":"O1251*100+P1251","v":914506},{"$f":"IF(C1251=\"\",\"\",IF(C1251=C1250,B1250,MAX(AL1250,AL1249)+1))","v":6446},"完成对话",{"$f":"IF(E1251=\"\",\"\",IF(E1251=E1250,D1250,MAX(AL1250,AL1249,B1251)+1))","v":""},{"$nulls":5},145,{"$f":"IF(J1251=\"\",\"\",VLOOKUP(J1251,EventNPC!A:E,5,FALSE))","v":"云霄龙鹰"},{"$f":"IF(M1251=\"\",\"\",MAX(AL1250,AL1249,B1251,D1251)+1)","v":6452},"（从远处飞来）：（咆哮）：“无知小辈，此处圣地岂是尔等该来之地，赶快离开饶你们不死！”",null,9145,{"$f":"IF(O1251=\"\",\"\",IF(O1251=O1250,P1250+1,1))","v":6},{"$f":"_xlfn.TEXTJOIN(\";\",1,R1251:S1251)","v":""},null,null,{"$f":"IF(R1251=\"\",\"\",\"-\"&VLOOKUP(R1251,EventConditionConfig!A:C,3,FALSE)&IF(S1251=\"\",\"\",CHAR(10)&\"-\"&VLOOKUP(S1251,EventConditionConfig!A:C,3,FALSE)))","v":""},{"$f":"IF(Y1251=\"\",\"\",IF(ISTEXT(Y1251),1,2))","v":""},"","",{"$f":"IF(OR(ISNUMBER(Y1251),Y1251=\"\"),\"\",MAX(AL1250,AL1248,B1251,D1251,L1251)+1)","v":""},null,null,{"$f":"IF(OR(ISNUMBER(AB1251),AB1251=\"\"),\"\",X1251+1)","v":""},null,null,"",{"$nulls":4},{"$f":"IF(A1251=\"\",\"\",IF(ISNUMBER(Y1251),2,IF(A1252=\"\",IF(OR(AK1251>0,VLOOKUP(O1251,EventConfig!A:C,3,FALSE)=4),3,\"\"),1)))","v":1},{"$f":"IF(AI1251=\"\",\"\",CHOOSE(AI1251,IF(AK1251=\"\",A1251+1,AK1251),CONCATENATE(IF(AK1251=\"\",A1251+1,AK1251),\";101\"),IF(AK1251=\"\",O1251+1,AK1251)))","v":914507},null,6452]
[914507,6446,"完成对话","",{"$nulls":5},131,{"$f":"IF(J1252=\"\",\"\",VLOOKUP(J1252,EventNPC!A:E,5,FALSE))","v":"馨儿"},6453,"这大妖口气不小，啥圣地不圣地的，估计是吓唬人！灵脉这么强，八成藏着大宝贝！",null,9145,7,"",null,null,{"$f":"IF(R1252=\"\",\"\",\"-\"&VLOOKUP(R1252,EventConditionConfig!A:C,3,FALSE)&IF(S1252=\"\",\"\",CHAR(10)&\"-\"&VLOOKUP(S1252,EventConditionConfig!A:C,3,FALSE)))","v":""},"","","","",null,null,"",null,null,"",{"$nulls":4},{"$f":"IF(A1252=\"\",\"\",IF(ISNUMBER(Y1252),2,IF(A1253=\"\",IF(OR(AK1252>0,VLOOKUP(O1252,EventConfig!A:C,3,FALSE)=4),3,\"\"),1)))","v":1},914508,null,6453]
[{"$f":"O1253*100+P1253","v":914508},{"$f":"IF(C1253=\"\",\"\",IF(C1253=C1252,B1252,MAX(AL1252,AL1251)+1))","v":6446},"完成对话",{"$f":"IF(E1253=\"\",\"\",IF(E1253=E1252,D1252,MAX(AL1252,AL1251,B1253)+1))","v":""},{"$nulls":5},134,{"$f":"IF(J1253=\"\",\"\",VLOOKUP(J1253,EventNPC!A:E,5,FALSE))","v":"柳轻烟"},{"$f":"IF(M1253=\"\",\"\",MAX(AL1252,AL1251,B1253,D1253)+1)","v":6454},"妖兽提及圣地，灵脉气息确有古老威严，似非凡物。",null,9145,{"$f":"IF(O1253=\"\",\"\",IF(O1253=O1252,P1252+1,1))","v":8},{"$f":"_xlfn.TEXTJOIN(\";\",1,R1253:S1253)","v":""},null,null,{"$f":"IF(R1253=\"\",\"\",\"-\"&VLOOKUP(R1253,EventConditionConfig!A:C,3,FALSE)&IF(S1253=\"\",\"\",CHAR(10)&\"-\"&VLOOKUP(S1253,EventConditionConfig!A:C,3,FALSE)))","v":""},{"$f":"IF(Y1253=\"\",\"\",IF(ISTEXT(Y1253),1,2))","v":""},"","",{"$f":"IF(OR(ISNUMBER(Y1253),Y1253=\"\"),\"\",MAX(AL1252,AL1250,B1253,D1253,L1253)+1)","v":""},null,null,{"$f":"IF(OR(ISNUMBER(AB1253),AB1253=\"\"),\"\",X1253+1)","v":""},null,null,"",{"$nulls":4},{"$f":"IF(A1253=\"\",\"\",IF(ISNUMBER(Y1253),2,IF(A1254=\"\",IF(OR(AK1253>0,VLOOKUP(O1253,EventConfig!A:C,3,FALSE)=4),3,\"\"),1)))","v":1},{"$f":"IF(AI1253=\"\",\"\",CHOOSE(AI1253,IF(AK1253=\"\",A1253+1,AK1253),CONCATENATE(IF(AK1253=\"\",A1253+1,AK1253),\";101\"),IF(AK1253=\"\",O1253+1,AK1253)))","v":914509},null,6454]
[914509,6446,"完成对话","",{"$nulls":5},145,{"$f":"IF(J1254=\"\",\"\",VLOOKUP(J1254,EventNPC!A:E,5,FALSE))","v":"云霄龙鹰"},6455,"圣地之秘，尔等无权触碰！受死！",null,9145,9,"",null,null,{"$f":"IF(R1254=\"\",\"\",\"-\"&VLOOKUP(R1254,EventConditionConfig!A:C,3,FALSE)&IF(S1254=\"\",\"\",CHAR(10)&\"-\"&VLOOKUP(S1254,EventConditionConfig!A:C,3,FALSE)))","v":""},"","","","",null,null,"",null,null,"",{"$nulls":4},{"$f":"IF(A1254=\"\",\"\",IF(ISNUMBER(Y1254),2,IF(A1255=\"\",IF(OR(AK1254>0,VLOOKUP(O1254,EventConfig!A:C,3,FALSE)=4),3,\"\"),1)))","v":1},914510,null,6455]
[{"$f":"O1255*100+P1255","v":914510},{"$f":"IF(C1255=\"\",\"\",IF(C1255=C1254,B1254,MAX(AL1254,AL1253)+1))","v":6456},"击杀妖邪",{"$f":"IF(E1255=\"\",\"\",IF(E1255=E1254,D1254,MAX(AL1254,AL1253,B1255)+1))","v":""},{"$nulls":5},131,{"$f":"IF(J1255=\"\",\"\",VLOOKUP(J1255,EventNPC!A:E,5,FALSE))","v":"馨儿"},{"$f":"IF(M1255=\"\",\"\",MAX(AL1254,AL1253,B1255,D1255)+1)","v":6457},"{玩家名}道友，你来输出，我和如烟师姐帮你牵制它！",null,9145,{"$f":"IF(O1255=\"\",\"\",IF(O1255=O1254,P1254+1,1))","v":10},{"$f":"_xlfn.TEXTJOIN(\";\",1,R1255:S1255)","v":""},null,null,{"$f":"IF(R1255=\"\",\"\",\"-\"&VLOOKUP(R1255,EventConditionConfig!A:C,3,FALSE)&IF(S1255=\"\",\"\",CHAR(10)&\"-\"&VLOOKUP(S1255,EventConditionConfig!A:C,3,FALSE)))","v":""},{"$f":"IF(Y1255=\"\",\"\",IF(ISTEXT(Y1255),1,2))","v":2},4025,"",{"$f":"IF(OR(ISNUMBER(Y1255),Y1255=\"\"),\"\",MAX(AL1254,AL1252,B1255,D1255,L1255)+1)","v":""},4025,null,{"$f":"IF(OR(ISNUMBER(AB1255),AB1255=\"\"),\"\",X1255+1)","v":""},null,null,"",{"$nulls":4},{"$f":"IF(A1255=\"\",\"\",IF(ISNUMBER(Y1255),2,IF(A1256=\"\",IF(OR(AK1255>0,VLOOKUP(O1255,EventConfig!A:C,3,FALSE)=4),3,\"\"),1)))","v":2},{"$f":"IF(AI1255=\"\",\"\",CHOOSE(AI1255,IF(AK1255=\"\",A1255+1,AK1255),CONCATENATE(IF(AK1255=\"\",A1255+1,AK1255),\";101\"),IF(AK1255=\"\",O1255+1,AK1255)))","v":"914511;101"},null,6457]
[914511,6458,"完成对话","",{"$nulls":5},145,{"$f":"IF(J1256=\"\",\"\",VLOOKUP(J1256,EventNPC!A:E,5,FALSE))","v":"云霄龙鹰"},6459,"（奄奄一息，小声低语）：仪式终究没有完成，不过终于一日龙族会再现世间…",null,9145,11,"",null,null,{"$f":"IF(R1256=\"\",\"\",\"-\"&VLOOKUP(R1256,EventConditionConfig!A:C,3,FALSE)&IF(S1256=\"\",\"\",CHAR(10)&\"-\"&VLOOKUP(S1256,EventConditionConfig!A:C,3,FALSE)))","v":""},"","","","",null,null,"",null,null,"",{"$nulls":4},{"$f":"IF(A1256=\"\",\"\",IF(ISNUMBER(Y1256),2,IF(A1257=\"\",IF(OR(AK1256>0,VLOOKUP(O1256,EventConfig!A:C,3,FALSE)=4),3,\"\"),1)))","v":1},914512,null,6459]
[914512,6458,"完成对话","",{"$nulls":5},131,{"$f":"IF(J1257=\"\",\"\",VLOOKUP(J1257,EventNPC!A:E,5,FALSE))","v":"馨儿"},6460,"哈哈！大妖倒了！这云霄龙鹰还真猛，差点让我飞剑断弦！{玩家名}道友，你太强了！",null,9145,12,"",null,null,{"$f":"IF(R1257=\"\",\"\",\"-\"&VLOOKUP(R1257,EventConditionConfig!A:C,3,FALSE)&IF(S1257=\"\",\"\",CHAR(10)&\"-\"&VLOOKUP(S1257,EventConditionConfig!A:C,3,FALSE)))","v":""},"","","","",null,null,"",null,null,"",{"$nulls":4},{"$f":"IF(A1257=\"\",\"\",IF(ISNUMBER(Y1257),2,IF(A1258=\"\",IF(OR(AK1257>0,VLOOKUP(O1257,EventConfig!A:C,3,FALSE)=4),3,\"\"),1)))","v":1},914513,null,6460]
[{"$f":"O1258*100+P1258","v":914513},{"$f":"IF(C1258=\"\",\"\",IF(C1258=C1257,B1257,MAX(AL1257,AL1256)+1))","v":6458},"完成对话",{"$f":"IF(E1258=\"\",\"\",IF(E1258=E1257,D1257,MAX(AL1257,AL1256,B1258)+1))","v":""},{"$nulls":5},131,{"$f":"IF(J1258=\"\",\"\",VLOOKUP(J1258,EventNPC!A:E,5,FALSE))","v":"馨儿"},{"$f":"IF(M1258=\"\",\"\",MAX(AL1257,AL1256,B1258,D1258)+1)","v":6461},"灵脉核心就在前面我们前去一探究竟。（天空中的灵气缓缓的归于平静）",null,9145,{"$f":"IF(O1258=\"\",\"\",IF(O1258=O1257,P1257+1,1))","v":13},{"$f":"_xlfn.TEXTJOIN(\";\",1,R1258:S1258)","v":""},null,null,{"$f":"IF(R1258=\"\",\"\",\"-\"&VLOOKUP(R1258,EventConditionConfig!A:C,3,FALSE)&IF(S1258=\"\",\"\",CHAR(10)&\"-\"&VLOOKUP(S1258,EventConditionConfig!A:C,3,FALSE)))","v":""},{"$f":"IF(Y1258=\"\",\"\",IF(ISTEXT(Y1258),1,2))","v":""},"","",{"$f":"IF(OR(ISNUMBER(Y1258),Y1258=\"\"),\"\",MAX(AL1257,AL1255,B1258,D1258,L1258)+1)","v":""},null,null,{"$f":"IF(OR(ISNUMBER(AB1258),AB1258=\"\"),\"\",X1258+1)","v":""},null,null,"",{"$nulls":4},{"$f":"IF(A1258=\"\",\"\",IF(ISNUMBER(Y1258),2,IF(A1259=\"\",IF(OR(AK1258>0,VLOOKUP(O1258,EventConfig!A:C,3,FALSE)=4),3,\"\"),1)))","v":""},{"$f":"IF(AI1258=\"\",\"\",CHOOSE(AI1258,IF(AK1258=\"\",A1258+1,AK1258),CONCATENATE(IF(AK1258=\"\",A1258+1,AK1258),\";101\"),IF(AK1258=\"\",O1258+1,AK1258)))","v":""},null,6461]
[{"$nulls":21},"","",{"$nulls":14},""]
[{"$f":"O1260*100+P1260","v":914601},{"$f":"IF(C1260=\"\",\"\",IF(C1260=C1259,B1259,MAX(AL1259,AL1258)+1))","v":6462},"完成对话",{"$f":"IF(E1260=\"\",\"\",IF(E1260=E1259,D1259,MAX(AL1259,AL1258,B1260)+1))","v":""},{"$nulls":5},131,{"$f":"IF(J1260=\"\",\"\",VLOOKUP(J1260,EventNPC!A:E,5,FALSE))","v":"馨儿"},{"$f":"IF(M1260=\"\",\"\",MAX(AL1259,AL1258,B1260,D1260)+1)","v":6463},"这里是否有一扇门，我们试试能不能打开。（柳如烟一起施法也无法打开）",null,9146,{"$f":"IF(O1260=\"\",\"\",IF(O1260=O1259,P1259+1,1))","v":1},{"$f":"_xlfn.TEXTJOIN(\";\",1,R1260:S1260)","v":""},null,null,{"$f":"IF(R1260=\"\",\"\",\"-\"&VLOOKUP(R1260,EventConditionConfig!A:C,3,FALSE)&IF(S1260=\"\",\"\",CHAR(10)&\"-\"&VLOOKUP(S1260,EventConditionConfig!A:C,3,FALSE)))","v":""},{"$f":"IF(Y1260=\"\",\"\",IF(ISTEXT(Y1260),1,2))","v":""},"","",{"$f":"IF(OR(ISNUMBER(Y1260),Y1260=\"\"),\"\",MAX(AL1259,AL1257,B1260,D1260,L1260)+1)","v":""},null,null,{"$f":"IF(OR(ISNUMBER(AB1260),AB1260=\"\"),\"\",X1260+1)","v":""},null,null,{"$f":"IF(OR(ISNUMBER(AE1260),AE1260=\"\"),\"\",AA1260+1)","v":""},{"$nulls":4},{"$f":"IF(A1260=\"\",\"\",IF(ISNUMBER(Y1260),2,IF(A1261=\"\",IF(OR(AK1260>0,VLOOKUP(O1260,EventConfig!A:C,3,FALSE)=4),3,\"\"),1)))","v":1},{"$f":"IF(AI1260=\"\",\"\",CHOOSE(AI1260,IF(AK1260=\"\",A1260+1,AK1260),CONCATENATE(IF(AK1260=\"\",A1260+1,AK1260),\";101\"),IF(AK1260=\"\",O1260+1,AK1260)))","v":914602},null,6463]
[{"$f":"O1261*100+P1261","v":914602},{"$f":"IF(C1261=\"\",\"\",IF(C1261=C1260,B1260,MAX(AL1260,AL1259)+1))","v":6462},"完成对话",{"$f":"IF(E1261=\"\",\"\",IF(E1261=E1260,D1260,MAX(AL1260,AL1259,B1261)+1))","v":""},{"$nulls":5},131,{"$f":"IF(J1261=\"\",\"\",VLOOKUP(J1261,EventNPC!A:E,5,FALSE))","v":"馨儿"},{"$f":"IF(M1261=\"\",\"\",MAX(AL1260,AL1259,B1261,D1261)+1)","v":6464},"打不开怎么办？看着宝贝取不能拿。",null,9146,{"$f":"IF(O1261=\"\",\"\",IF(O1261=O1260,P1260+1,1))","v":2},{"$f":"_xlfn.TEXTJOIN(\";\",1,R1261:S1261)","v":""},null,null,{"$f":"IF(R1261=\"\",\"\",\"-\"&VLOOKUP(R1261,EventConditionConfig!A:C,3,FALSE)&IF(S1261=\"\",\"\",CHAR(10)&\"-\"&VLOOKUP(S1261,EventConditionConfig!A:C,3,FALSE)))","v":""},{"$f":"IF(Y1261=\"\",\"\",IF(ISTEXT(Y1261),1,2))","v":""},"","",{"$f":"IF(OR(ISNUMBER(Y1261),Y1261=\"\"),\"\",MAX(AL1260,AL1258,B1261,D1261,L1261)+1)","v":""},null,null,{"$f":"IF(OR(ISNUMBER(AB1261),AB1261=\"\"),\"\",X1261+1)","v":""},null,null,"",{"$nulls":4},{"$f":"IF(A1261=\"\",\"\",IF(ISNUMBER(Y1261),2,IF(A1262=\"\",IF(OR(AK1261>0,VLOOKUP(O1261,EventConfig!A:C,3,FALSE)=4),3,\"\"),1)))","v":1},{"$f":"IF(AI1261=\"\",\"\",CHOOSE(AI1261,IF(AK1261=\"\",A1261+1,AK1261),CONCATENATE(IF(AK1261=\"\",A1261+1,AK1261),\";101\"),IF(AK1261=\"\",O1261+1,AK1261)))","v":914603},null,{"$f":"IF(A1261=\"\",\"\",MAX(B1261,D1261,L1261,X1261,AA1261,AL1260,AL1259,AD1261))","v":6464}]
[{"$f":"O1262*100+P1262","v":914603},{"$f":"IF(C1262=\"\",\"\",IF(C1262=C1261,B1261,MAX(AL1261,AL1260)+1))","v":6462},"完成对话",{"$f":"IF(E1262=\"\",\"\",IF(E1262=E1261,D1261,MAX(AL1261,AL1260,B1262)+1))","v":""},{"$nulls":5},134,{"$f":"IF(J1262=\"\",\"\",VLOOKUP(J1262,EventNPC!A:E,5,FALSE))","v":"柳轻烟"},{"$f":"IF(M1262=\"\",\"\",MAX(AL1261,AL1260,B1262,D1262)+1)","v":6465},"等等。你们开着石门上有几个凹槽，看起来是要什么物品才能开启此门。",null,9146,{"$f":"IF(O1262=\"\",\"\",IF(O1262=O1261,P1261+1,1))","v":3},{"$f":"_xlfn.TEXTJOIN(\";\",1,R1262:S1262)","v":""},null,null,{"$f":"IF(R1262=\"\",\"\",\"-\"&VLOOKUP(R1262,EventConditionConfig!A:C,3,FALSE)&IF(S1262=\"\",\"\",CHAR(10)&\"-\"&VLOOKUP(S1262,EventConditionConfig!A:C,3,FALSE)))","v":""},{"$f":"IF(Y1262=\"\",\"\",IF(ISTEXT(Y1262),1,2))","v":""},"","",{"$f":"IF(OR(ISNUMBER(Y1262),Y1262=\"\"),\"\",MAX(AL1261,AL1259,B1262,D1262,L1262)+1)","v":""},null,null,{"$f":"IF(OR(ISNUMBER(AB1262),AB1262=\"\"),\"\",X1262+1)","v":""},null,null,"",{"$nulls":4},{"$f":"IF(A1262=\"\",\"\",IF(ISNUMBER(Y1262),2,IF(A1263=\"\",IF(OR(AK1262>0,VLOOKUP(O1262,EventConfig!A:C,3,FALSE)=4),3,\"\"),1)))","v":1},{"$f":"IF(AI1262=\"\",\"\",CHOOSE(AI1262,IF(AK1262=\"\",A1262+1,AK1262),CONCATENATE(IF(AK1262=\"\",A1262+1,AK1262),\";101\"),IF(AK1262=\"\",O1262+1,AK1262)))","v":914604},null,6465]
[{"$f":"O1263*100+P1263","v":914604},{"$f":"IF(C1263=\"\",\"\",IF(C1263=C1262,B1262,MAX(AL1262,AL1261)+1))","v":6462},"完成对话",{"$f":"IF(E1263=\"\",\"\",IF(E1263=E1262,D1262,MAX(AL1262,AL1261,B1263)+1))","v":""},{"$nulls":5},134,{"$f":"IF(J1263=\"\",\"\",VLOOKUP(J1263,EventNPC!A:E,5,FALSE))","v":"柳轻烟"},{"$f":"IF(M1263=\"\",\"\",MAX(AL1262,AL1261,B1263,D1263)+1)","v":6466},"（仔细观摩）：上面的形状像是一片鳞甲。",null,9146,{"$f":"IF(O1263=\"\",\"\",IF(O1263=O1262,P1262+1,1))","v":4},{"$f":"_xlfn.TEXTJOIN(\";\",1,R1263:S1263)","v":""},null,null,{"$f":"IF(R1263=\"\",\"\",\"-\"&VLOOKUP(R1263,EventConditionConfig!A:C,3,FALSE)&IF(S1263=\"\",\"\",CHAR(10)&\"-\"&VLOOKUP(S1263,EventConditionConfig!A:C,3,FALSE)))","v":""},{"$f":"IF(Y1263=\"\",\"\",IF(ISTEXT(Y1263),1,2))","v":""},"","",{"$f":"IF(OR(ISNUMBER(Y1263),Y1263=\"\"),\"\",MAX(AL1262,AL1260,B1263,D1263,L1263)+1)","v":""},null,null,{"$f":"IF(OR(ISNUMBER(AB1263),AB1263=\"\"),\"\",X1263+1)","v":""},null,null,"",{"$nulls":4},{"$f":"IF(A1263=\"\",\"\",IF(ISNUMBER(Y1263),2,IF(A1264=\"\",IF(OR(AK1263>0,VLOOKUP(O1263,EventConfig!A:C,3,FALSE)=4),3,\"\"),1)))","v":1},{"$f":"IF(AI1263=\"\",\"\",CHOOSE(AI1263,IF(AK1263=\"\",A1263+1,AK1263),CONCATENATE(IF(AK1263=\"\",A1263+1,AK1263),\";101\"),IF(AK1263=\"\",O1263+1,AK1263)))","v":914605},null,6466]
[{"$f":"O1264*100+P1264","v":914605},{"$f":"IF(C1264=\"\",\"\",IF(C1264=C1263,B1263,MAX(AL1263,AL1262)+1))","v":6462},"完成对话",{"$f":"IF(E1264=\"\",\"\",IF(E1264=E1263,D1263,MAX(AL1263,AL1262,B1264)+1))","v":""},{"$nulls":5},100,{"$f":"IF(J1264=\"\",\"\",VLOOKUP(J1264,EventNPC!A:E,5,FALSE))","v":"玩家"},{"$f":"IF(M1264=\"\",\"\",MAX(AL1263,AL1262,B1264,D1264)+1)","v":6467},"难道这是龙族圣地，以前听说过，我这里有几片龙鳞，但好像数量不够。",null,9146,{"$f":"IF(O1264=\"\",\"\",IF(O1264=O1263,P1263+1,1))","v":5},{"$f":"_xlfn.TEXTJOIN(\";\",1,R1264:S1264)","v":""},null,null,{"$f":"IF(R1264=\"\",\"\",\"-\"&VLOOKUP(R1264,EventConditionConfig!A:C,3,FALSE)&IF(S1264=\"\",\"\",CHAR(10)&\"-\"&VLOOKUP(S1264,EventConditionConfig!A:C,3,FALSE)))","v":""},{"$f":"IF(Y1264=\"\",\"\",IF(ISTEXT(Y1264),1,2))","v":""},"","",{"$f":"IF(OR(ISNUMBER(Y1264),Y1264=\"\"),\"\",MAX(AL1263,AL1261,B1264,D1264,L1264)+1)","v":""},null,null,{"$f":"IF(OR(ISNUMBER(AB1264),AB1264=\"\"),\"\",X1264+1)","v":""},null,null,"",{"$nulls":4},{"$f":"IF(A1264=\"\",\"\",IF(ISNUMBER(Y1264),2,IF(A1265=\"\",IF(OR(AK1264>0,VLOOKUP(O1264,EventConfig!A:C,3,FALSE)=4),3,\"\"),1)))","v":1},{"$f":"IF(AI1264=\"\",\"\",CHOOSE(AI1264,IF(AK1264=\"\",A1264+1,AK1264),CONCATENATE(IF(AK1264=\"\",A1264+1,AK1264),\";101\"),IF(AK1264=\"\",O1264+1,AK1264)))","v":914606},null,6467]
[914606,6462,"完成对话","",{"$nulls":5},131,{"$f":"IF(J1265=\"\",\"\",VLOOKUP(J1265,EventNPC!A:E,5,FALSE))","v":"馨儿"},6468,"（惊讶）：啊，这不是上次我不要的东西吗？居然是个宝！",null,9146,6,"",null,null,{"$f":"IF(R1265=\"\",\"\",\"-\"&VLOOKUP(R1265,EventConditionConfig!A:C,3,FALSE)&IF(S1265=\"\",\"\",CHAR(10)&\"-\"&VLOOKUP(S1265,EventConditionConfig!A:C,3,FALSE)))","v":""},"","","","",null,null,"",null,null,"",{"$nulls":4},{"$f":"IF(A1265=\"\",\"\",IF(ISNUMBER(Y1265),2,IF(A1266=\"\",IF(OR(AK1265>0,VLOOKUP(O1265,EventConfig!A:C,3,FALSE)=4),3,\"\"),1)))","v":1},914607,null,6468]
[{"$f":"O1266*100+P1266","v":914607},{"$f":"IF(C1266=\"\",\"\",IF(C1266=C1265,B1265,MAX(AL1265,AL1264)+1))","v":6462},"完成对话",{"$f":"IF(E1266=\"\",\"\",IF(E1266=E1265,D1265,MAX(AL1265,AL1264,B1266)+1))","v":""},{"$nulls":5},100,{"$f":"IF(J1266=\"\",\"\",VLOOKUP(J1266,EventNPC!A:E,5,FALSE))","v":"玩家"},{"$f":"IF(M1266=\"\",\"\",MAX(AL1265,AL1264,B1266,D1266)+1)","v":6469},"这叫什么？有眼什么。。。",null,9146,{"$f":"IF(O1266=\"\",\"\",IF(O1266=O1265,P1265+1,1))","v":7},{"$f":"_xlfn.TEXTJOIN(\";\",1,R1266:S1266)","v":""},null,null,{"$f":"IF(R1266=\"\",\"\",\"-\"&VLOOKUP(R1266,EventConditionConfig!A:C,3,FALSE)&IF(S1266=\"\",\"\",CHAR(10)&\"-\"&VLOOKUP(S1266,EventConditionConfig!A:C,3,FALSE)))","v":""},{"$f":"IF(Y1266=\"\",\"\",IF(ISTEXT(Y1266),1,2))","v":""},"","",{"$f":"IF(OR(ISNUMBER(Y1266),Y1266=\"\"),\"\",MAX(AL1265,AL1263,B1266,D1266,L1266)+1)","v":""},null,null,{"$f":"IF(OR(ISNUMBER(AB1266),AB1266=\"\"),\"\",X1266+1)","v":""},null,null,"",{"$nulls":4},{"$f":"IF(A1266=\"\",\"\",IF(ISNUMBER(Y1266),2,IF(A1267=\"\",IF(OR(AK1266>0,VLOOKUP(O1266,EventConfig!A:C,3,FALSE)=4),3,\"\"),1)))","v":1},{"$f":"IF(AI1266=\"\",\"\",CHOOSE(AI1266,IF(AK1266=\"\",A1266+1,AK1266),CONCATENATE(IF(AK1266=\"\",A1266+1,AK1266),\";101\"),IF(AK1266=\"\",O1266+1,AK1266)))","v":914608},null,6469]
[914608,6462,"完成对话","",{"$nulls":5},131,{"$f":"IF(J1267=\"\",\"\",VLOOKUP(J1267,EventNPC!A:E,5,FALSE))","v":"馨儿"},6470,"(生气)：找死！",null,9146,8,"",null,null,{"$f":"IF(R1267=\"\",\"\",\"-\"&VLOOKUP(R1267,EventConditionConfig!A:C,3,FALSE)&IF(S1267=\"\",\"\",CHAR(10)&\"-\"&VLOOKUP(S1267,EventConditionConfig!A:C,3,FALSE)))","v":""},"","","","",null,null,"",null,null,"",{"$nulls":4},{"$f":"IF(A1267=\"\",\"\",IF(ISNUMBER(Y1267),2,IF(A1268=\"\",IF(OR(AK1267>0,VLOOKUP(O1267,EventConfig!A:C,3,FALSE)=4),3,\"\"),1)))","v":1},914609,null,6470]
[914609,6462,"完成对话","",{"$nulls":5},134,{"$f":"IF(J1268=\"\",\"\",VLOOKUP(J1268,EventNPC!A:E,5,FALSE))","v":"柳轻烟"},6471,"龙族圣地？此事关系重大我得和师妹赶快回宗门禀报师尊。",null,9146,9,"",null,null,{"$f":"IF(R1268=\"\",\"\",\"-\"&VLOOKUP(R1268,EventConditionConfig!A:C,3,FALSE)&IF(S1268=\"\",\"\",CHAR(10)&\"-\"&VLOOKUP(S1268,EventConditionConfig!A:C,3,FALSE)))","v":""},"","","","",null,null,"",null,null,"",{"$nulls":4},{"$f":"IF(A1268=\"\",\"\",IF(ISNUMBER(Y1268),2,IF(A1269=\"\",IF(OR(AK1268>0,VLOOKUP(O1268,EventConfig!A:C,3,FALSE)=4),3,\"\"),1)))","v":1},914610,null,6471]
[{"$f":"O1269*100+P1269","v":914610},{"$f":"IF(C1269=\"\",\"\",IF(C1269=C1268,B1268,MAX(AL1268,AL1267)+1))","v":6462},"完成对话",{"$f":"IF(E1269=\"\",\"\",IF(E1269=E1268,D1268,MAX(AL1268,AL1267,B1269)+1))","v":""},{"$nulls":5},131,{"$f":"IF(J1269=\"\",\"\",VLOOKUP(J1269,EventNPC!A:E,5,FALSE))","v":"馨儿"},{"$f":"IF(M1269=\"\",\"\",MAX(AL1268,AL1267,B1269,D1269)+1)","v":6472},"下次遇见在收拾你。",null,9146,{"$f":"IF(O1269=\"\",\"\",IF(O1269=O1268,P1268+1,1))","v":10},{"$f":"_xlfn.TEXTJOIN(\";\",1,R1269:S1269)","v":""},null,null,{"$f":"IF(R1269=\"\",\"\",\"-\"&VLOOKUP(R1269,EventConditionConfig!A:C,3,FALSE)&IF(S1269=\"\",\"\",CHAR(10)&\"-\"&VLOOKUP(S1269,EventConditionConfig!A:C,3,FALSE)))","v":""},{"$f":"IF(Y1269=\"\",\"\",IF(ISTEXT(Y1269),1,2))","v":""},"","",{"$f":"IF(OR(ISNUMBER(Y1269),Y1269=\"\"),\"\",MAX(AL1268,AL1266,B1269,D1269,L1269)+1)","v":""},null,null,{"$f":"IF(OR(ISNUMBER(AB1269),AB1269=\"\"),\"\",X1269+1)","v":""},null,null,"",{"$nulls":4},{"$f":"IF(A1269=\"\",\"\",IF(ISNUMBER(Y1269),2,IF(A1270=\"\",IF(OR(AK1269>0,VLOOKUP(O1269,EventConfig!A:C,3,FALSE)=4),3,\"\"),1)))","v":1},{"$f":"IF(AI1269=\"\",\"\",CHOOSE(AI1269,IF(AK1269=\"\",A1269+1,AK1269),CONCATENATE(IF(AK1269=\"\",A1269+1,AK1269),\";101\"),IF(AK1269=\"\",O1269+1,AK1269)))","v":914611},null,6472]
[{"$f":"O1270*100+P1270","v":914611},{"$f":"IF(C1270=\"\",\"\",IF(C1270=C1269,B1269,MAX(AL1269,AL1268)+1))","v":6462},"完成对话",{"$f":"IF(E1270=\"\",\"\",IF(E1270=E1269,D1269,MAX(AL1269,AL1268,B1270)+1))","v":""},{"$nulls":5},100,{"$f":"IF(J1270=\"\",\"\",VLOOKUP(J1270,EventNPC!A:E,5,FALSE))","v":"玩家"},{"$f":"IF(M1270=\"\",\"\",MAX(AL1269,AL1268,B1270,D1270)+1)","v":6473},"那二位路上小心。",null,9146,{"$f":"IF(O1270=\"\",\"\",IF(O1270=O1269,P1269+1,1))","v":11},{"$f":"_xlfn.TEXTJOIN(\";\",1,R1270:S1270)","v":""},null,null,{"$f":"IF(R1270=\"\",\"\",\"-\"&VLOOKUP(R1270,EventConditionConfig!A:C,3,FALSE)&IF(S1270=\"\",\"\",CHAR(10)&\"-\"&VLOOKUP(S1270,EventConditionConfig!A:C,3,FALSE)))","v":""},{"$f":"IF(Y1270=\"\",\"\",IF(ISTEXT(Y1270),1,2))","v":""},"","",{"$f":"IF(OR(ISNUMBER(Y1270),Y1270=\"\"),\"\",MAX(AL1269,AL1267,B1270,D1270,L1270)+1)","v":""},null,null,{"$f":"IF(OR(ISNUMBER(AB1270),AB1270=\"\"),\"\",X1270+1)","v":""},null,null,"",{"$nulls":4},{"$f":"IF(A1270=\"\",\"\",IF(ISNUMBER(Y1270),2,IF(A1271=\"\",IF(OR(AK1270>0,VLOOKUP(O1270,EventConfig!A:C,3,FALSE)=4),3,\"\"),1)))","v":""},{"$f":"IF(AI1270=\"\",\"\",CHOOSE(AI1270,IF(AK1270=\"\",A1270+1,AK1270),CONCATENATE(IF(AK1270=\"\",A1270+1,AK1270),\";101\"),IF(AK1270=\"\",O1270+1,AK1270)))","v":""},null,6473]
[]
[{"$f":"O1272*100+P1272","v":914701},{"$f":"IF(C1272=\"\",\"\",IF(C1272=C1271,B1271,MAX(AL1271,AL1270)+1))","v":6474},"完成对话",{"$f":"IF(E1272=\"\",\"\",IF(E1272=E1271,D1271,MAX(AL1271,AL1270,B1272)+1))","v":""},{"$nulls":6},{"$f":"IF(J1272=\"\",\"\",VLOOKUP(J1272,EventNPC!A:E,5,FALSE))","v":""},{"$f":"IF(M1272=\"\",\"\",MAX(AL1271,AL1270,B1272,D1272)+1)","v":6475},"一条大眼睛的鱼扑腾冒头，居然开口说话：\n “仙长啊！小鱼本是鲤族，误吞污水，灵脉受损，如今奄奄一息……若有灵丹一颗，或许能续命！”\n 鱼还挤了几滴“眼泪”，浮在水面打滚。",null,9147,{"$f":"IF(O1272=\"\",\"\",IF(O1272=O1271,P1271+1,1))","v":1},{"$f":"_xlfn.TEXTJOIN(\";\",1,R1272:S1272)","v":""},null,null,{"$f":"IF(R1272=\"\",\"\",\"-\"&VLOOKUP(R1272,EventConditionConfig!A:C,3,FALSE)&IF(S1272=\"\",\"\",CHAR(10)&\"-\"&VLOOKUP(S1272,EventConditionConfig!A:C,3,FALSE)))","v":""},{"$f":"IF(Y1272=\"\",\"\",IF(ISTEXT(Y1272),1,2))","v":1},{"$f":"IF(U1272=1,_xlfn.TEXTJOIN(\";\",1,IF(Z1272=\"\",A1272+1,Z1272),IF(AND(AA1272<>\"\",AC1272=\"\"),A1272+1,AC1272),IF(AND(AD1272<>\"\",AF1272=\"\"),A1272+1,AF1272)),IF(U1272=2,Y1272,\"\"))","v":"914702;914703;914704"},{"$f":"_xlfn.TEXTJOIN(\";\",1,X1272,AA1272,AD1272)","v":"6476;6477;6478"},{"$f":"IF(OR(ISNUMBER(Y1272),Y1272=\"\"),\"\",MAX(AL1271,AL1269,B1272,D1272,L1272)+1)","v":6476},"给它 1 颗增元丹",914702,{"$f":"IF(OR(ISNUMBER(AB1272),AB1272=\"\"),\"\",X1272+1)","v":6477},"给它 2 颗增元丹",914703,{"$f":"IF(OR(ISNUMBER(AE1272),AE1272=\"\"),\"\",AA1272+1)","v":6478},"3. 冷笑：滚开",914704,null,null,{"$f":"IF(A1272=\"\",\"\",IF(ISNUMBER(Y1272),2,IF(A1273=\"\",IF(OR(AK1272>0,VLOOKUP(O1272,EventConfig!A:C,3,FALSE)=4),3,\"\"),1)))","v":1},{"$f":"IF(AI1272=\"\",\"\",CHOOSE(AI1272,IF(AK1272=\"\",A1272+1,AK1272),CONCATENATE(IF(AK1272=\"\",A1272+1,AK1272),\";101\"),IF(AK1272=\"\",O1272+1,AK1272)))","v":914702},null,{"$f":"IF(A1272=\"\",\"\",MAX(B1272,D1272,L1272,X1272,AA1272,AL1271,AL1270,AD1272))","v":6478}]
[914702,6474,"完成对话","",{"$nulls":5},146,{"$f":"IF(J1273=\"\",\"\",VLOOKUP(J1273,EventNPC!A:E,5,FALSE))","v":"鱼"},6479,"鱼激动得直翻白肚皮，多谢仙长！小鱼会记下这份恩德！",null,9147,2,"",null,null,{"$f":"IF(R1273=\"\",\"\",\"-\"&VLOOKUP(R1273,EventConditionConfig!A:C,3,FALSE)&IF(S1273=\"\",\"\",CHAR(10)&\"-\"&VLOOKUP(S1273,EventConditionConfig!A:C,3,FALSE)))","v":""},"","","","",null,null,"",null,null,"",{"$nulls":7},6479]
[914703,6474,"完成对话","",{"$nulls":5},146,{"$f":"IF(J1274=\"\",\"\",VLOOKUP(J1274,EventNPC!A:E,5,FALSE))","v":"鱼"},6480,"鱼两眼放光，两颗！仙长大恩大德，小鱼来世当牛做马报答！",null,9147,3,"",null,null,{"$f":"IF(R1274=\"\",\"\",\"-\"&VLOOKUP(R1274,EventConditionConfig!A:C,3,FALSE)&IF(S1274=\"\",\"\",CHAR(10)&\"-\"&VLOOKUP(S1274,EventConditionConfig!A:C,3,FALSE)))","v":""},"","","","",null,null,"",null,null,"",{"$nulls":7},6480]
[914704,6474,"完成对话","",{"$nulls":5},146,{"$f":"IF(J1275=\"\",\"\",VLOOKUP(J1275,EventNPC!A:E,5,FALSE))","v":"鱼"},6481,"愣了下，翻个身装死：“呃……好吧，真是冷漠……”\n 鱼还挤了几滴“眼泪”，浮在水面打滚。",null,9147,4,{"$f":"_xlfn.TEXTJOIN(\";\",1,R1275:S1275)","v":""},null,null,{"$f":"IF(R1275=\"\",\"\",\"-\"&VLOOKUP(R1275,EventConditionConfig!A:C,3,FALSE)&IF(S1275=\"\",\"\",CHAR(10)&\"-\"&VLOOKUP(S1275,EventConditionConfig!A:C,3,FALSE)))","v":""},"","","","",null,null,"",null,null,"",{"$nulls":4},{"$f":"IF(A1275=\"\",\"\",IF(ISNUMBER(Y1275),2,IF(A1276=\"\",IF(OR(AK1275>0,VLOOKUP(O1275,EventConfig!A:C,3,FALSE)=4),3,\"\"),1)))","v":3},101,101,6481]
[]
[914801,6482,"完成对话","",{"$nulls":6},{"$f":"IF(J1277=\"\",\"\",VLOOKUP(J1277,EventNPC!A:E,5,FALSE))","v":""},6483,"那条鱼又蹦了出来",null,9148,1,"",null,null,{"$f":"IF(R1277=\"\",\"\",\"-\"&VLOOKUP(R1277,EventConditionConfig!A:C,3,FALSE)&IF(S1277=\"\",\"\",CHAR(10)&\"-\"&VLOOKUP(S1277,EventConditionConfig!A:C,3,FALSE)))","v":""},"","","","",null,null,"",null,null,"",{"$nulls":4},{"$f":"IF(A1277=\"\",\"\",IF(ISNUMBER(Y1277),2,IF(A1278=\"\",IF(OR(AK1277>0,VLOOKUP(O1277,EventConfig!A:C,3,FALSE)=4),3,\"\"),1)))","v":1},914802,null,6483]
[{"$f":"O1278*100+P1278","v":914802},{"$f":"IF(C1278=\"\",\"\",IF(C1278=C1277,B1277,MAX(AL1277,AL1276)+1))","v":6482},"完成对话",{"$f":"IF(E1278=\"\",\"\",IF(E1278=E1277,D1277,MAX(AL1277,AL1276,B1278)+1))","v":""},{"$nulls":5},146,{"$f":"IF(J1278=\"\",\"\",VLOOKUP(J1278,EventNPC!A:E,5,FALSE))","v":"鱼"},{"$f":"IF(M1278=\"\",\"\",MAX(AL1277,AL1276,B1278,D1278)+1)","v":6484},"仙长！上回的灵丹果然救了我，可是——咳咳！丹力不够，小鱼差点没挺过来，再给一颗吧？就一颗！",null,9148,{"$f":"IF(O1278=\"\",\"\",IF(O1278=O1277,P1277+1,1))","v":2},{"$f":"_xlfn.TEXTJOIN(\";\",1,R1278:S1278)","v":""},null,null,{"$f":"IF(R1278=\"\",\"\",\"-\"&VLOOKUP(R1278,EventConditionConfig!A:C,3,FALSE)&IF(S1278=\"\",\"\",CHAR(10)&\"-\"&VLOOKUP(S1278,EventConditionConfig!A:C,3,FALSE)))","v":""},{"$f":"IF(Y1278=\"\",\"\",IF(ISTEXT(Y1278),1,2))","v":1},{"$f":"IF(U1278=1,_xlfn.TEXTJOIN(\";\",1,IF(Z1278=\"\",A1278+1,Z1278),IF(AND(AA1278<>\"\",AC1278=\"\"),A1278+1,AC1278),IF(AND(AD1278<>\"\",AF1278=\"\"),A1278+1,AF1278)),IF(U1278=2,Y1278,\"\"))","v":"914803;914803;914804"},{"$f":"_xlfn.TEXTJOIN(\";\",1,X1278,AA1278,AD1278)","v":"6485;6486;6487"},{"$f":"IF(OR(ISNUMBER(Y1278),Y1278=\"\"),\"\",MAX(AL1277,AL1275,B1278,D1278,L1278)+1)","v":6485},"再给1颗",914803,{"$f":"IF(OR(ISNUMBER(AB1278),AB1278=\"\"),\"\",X1278+1)","v":6486},"再给2颗",914803,{"$f":"IF(OR(ISNUMBER(AE1278),AE1278=\"\"),\"\",AA1278+1)","v":6487},"怒：你是不是在骗我？",914804,null,null,{"$f":"IF(A1278=\"\",\"\",IF(ISNUMBER(Y1278),2,IF(A1279=\"\",IF(OR(AK1278>0,VLOOKUP(O1278,EventConfig!A:C,3,FALSE)=4),3,\"\"),1)))","v":1},{"$f":"IF(AI1278=\"\",\"\",CHOOSE(AI1278,IF(AK1278=\"\",A1278+1,AK1278),CONCATENATE(IF(AK1278=\"\",A1278+1,AK1278),\";101\"),IF(AK1278=\"\",O1278+1,AK1278)))","v":914803},null,{"$f":"IF(A1278=\"\",\"\",MAX(B1278,D1278,L1278,X1278,AA1278,AL1277,AL1276,AD1278))","v":6487}]
[914803,6482,"完成对话","",{"$nulls":5},146,{"$f":"IF(J1279=\"\",\"\",VLOOKUP(J1279,EventNPC!A:E,5,FALSE))","v":"鱼"},6488,"鱼立刻精神百倍，翻腾打滚：“仙长真是鱼界福星！”",null,9148,3,"",null,null,{"$f":"IF(R1279=\"\",\"\",\"-\"&VLOOKUP(R1279,EventConditionConfig!A:C,3,FALSE)&IF(S1279=\"\",\"\",CHAR(10)&\"-\"&VLOOKUP(S1279,EventConditionConfig!A:C,3,FALSE)))","v":""},"","","","",null,null,"",null,null,"",{"$nulls":7},6488]
[914804,6482,"完成对话","",{"$nulls":5},146,{"$f":"IF(J1280=\"\",\"\",VLOOKUP(J1280,EventNPC!A:E,5,FALSE))","v":"鱼"},6489,"（委屈巴巴）仙长竟不信我！呜呜呜——那小鱼就此别过！”",null,9148,4,"",null,null,{"$f":"IF(R1280=\"\",\"\",\"-\"&VLOOKUP(R1280,EventConditionConfig!A:C,3,FALSE)&IF(S1280=\"\",\"\",CHAR(10)&\"-\"&VLOOKUP(S1280,EventConditionConfig!A:C,3,FALSE)))","v":""},"","","","",null,null,"",null,null,"",{"$nulls":4},{"$f":"IF(A1280=\"\",\"\",IF(ISNUMBER(Y1280),2,IF(A1281=\"\",IF(OR(AK1280>0,VLOOKUP(O1280,EventConfig!A:C,3,FALSE)=4),3,\"\"),1)))","v":3},{"$f":"IF(AI1280=\"\",\"\",CHOOSE(AI1280,IF(AK1280=\"\",A1280+1,AK1280),CONCATENATE(IF(AK1280=\"\",A1280+1,AK1280),\";101\"),IF(AK1280=\"\",O1280+1,AK1280)))","v":101},101,6489]
[]
[914901,6490,"完成对话","",{"$nulls":6},{"$f":"IF(J1282=\"\",\"\",VLOOKUP(J1282,EventNPC!A:E,5,FALSE))","v":""},6491,"水面灵光一闪，鱼浑身金鳞微现，竟露出“即将化龙”的气象。",null,9149,1,"",null,null,{"$f":"IF(R1282=\"\",\"\",\"-\"&VLOOKUP(R1282,EventConditionConfig!A:C,3,FALSE)&IF(S1282=\"\",\"\",CHAR(10)&\"-\"&VLOOKUP(S1282,EventConditionConfig!A:C,3,FALSE)))","v":""},"","","","",null,null,"",null,null,"",{"$nulls":4},{"$f":"IF(A1282=\"\",\"\",IF(ISNUMBER(Y1282),2,IF(A1283=\"\",IF(OR(AK1282>0,VLOOKUP(O1282,EventConfig!A:C,3,FALSE)=4),3,\"\"),1)))","v":1},914902,null,6491]
[{"$f":"O1283*100+P1283","v":914902},{"$f":"IF(C1283=\"\",\"\",IF(C1283=C1282,B1282,MAX(AL1282,AL1281)+1))","v":6490},"完成对话",{"$f":"IF(E1283=\"\",\"\",IF(E1283=E1282,D1282,MAX(AL1282,AL1281,B1283)+1))","v":""},{"$nulls":5},146,{"$f":"IF(J1283=\"\",\"\",VLOOKUP(J1283,EventNPC!A:E,5,FALSE))","v":"鱼"},{"$f":"IF(M1283=\"\",\"\",MAX(AL1282,AL1281,B1283,D1283)+1)","v":6492},"“仙长！这就是最后一步！只需再得一颗灵丹，小鱼必定飞升成龙，到时定感激图报！”",null,9149,{"$f":"IF(O1283=\"\",\"\",IF(O1283=O1282,P1282+1,1))","v":2},{"$f":"_xlfn.TEXTJOIN(\";\",1,R1283:S1283)","v":""},null,null,{"$f":"IF(R1283=\"\",\"\",\"-\"&VLOOKUP(R1283,EventConditionConfig!A:C,3,FALSE)&IF(S1283=\"\",\"\",CHAR(10)&\"-\"&VLOOKUP(S1283,EventConditionConfig!A:C,3,FALSE)))","v":""},{"$f":"IF(Y1283=\"\",\"\",IF(ISTEXT(Y1283),1,2))","v":1},{"$f":"IF(U1283=1,_xlfn.TEXTJOIN(\";\",1,IF(Z1283=\"\",A1283+1,Z1283),IF(AND(AA1283<>\"\",AC1283=\"\"),A1283+1,AC1283),IF(AND(AD1283<>\"\",AF1283=\"\"),A1283+1,AF1283)),IF(U1283=2,Y1283,\"\"))","v":"914903;914903;914903"},{"$f":"_xlfn.TEXTJOIN(\";\",1,X1283,AA1283,AD1283)","v":"6493;6494;6495"},{"$f":"IF(OR(ISNUMBER(Y1283),Y1283=\"\"),\"\",MAX(AL1282,AL1280,B1283,D1283,L1283)+1)","v":6493},"再给1颗",null,{"$f":"IF(OR(ISNUMBER(AB1283),AB1283=\"\"),\"\",X1283+1)","v":6494},"再给2颗",null,{"$f":"IF(OR(ISNUMBER(AE1283),AE1283=\"\"),\"\",AA1283+1)","v":6495},"冷冷盯着它，不动",null,null,null,{"$f":"IF(A1283=\"\",\"\",IF(ISNUMBER(Y1283),2,IF(A1284=\"\",IF(OR(AK1283>0,VLOOKUP(O1283,EventConfig!A:C,3,FALSE)=4),3,\"\"),1)))","v":1},{"$f":"IF(AI1283=\"\",\"\",CHOOSE(AI1283,IF(AK1283=\"\",A1283+1,AK1283),CONCATENATE(IF(AK1283=\"\",A1283+1,AK1283),\";101\"),IF(AK1283=\"\",O1283+1,AK1283)))","v":914903},null,{"$f":"IF(A1283=\"\",\"\",MAX(B1283,D1283,L1283,X1283,AA1283,AL1282,AL1281,AD1283))","v":6495}]
[914903,6490,"完成对话","",{"$nulls":5},146,{"$f":"IF(J1284=\"\",\"\",VLOOKUP(J1284,EventNPC!A:E,5,FALSE))","v":"鱼"},6496,"鱼猛地吸收灵丹，身上金光大作，随即一个猛子钻入水中，再没露头。只留下回声：“哈哈哈哈！真是个傻子！”",null,9149,3,"",null,null,{"$f":"IF(R1284=\"\",\"\",\"-\"&VLOOKUP(R1284,EventConditionConfig!A:C,3,FALSE)&IF(S1284=\"\",\"\",CHAR(10)&\"-\"&VLOOKUP(S1284,EventConditionConfig!A:C,3,FALSE)))","v":""},"","","","",null,null,"",null,null,"",{"$nulls":4},{"$f":"IF(A1284=\"\",\"\",IF(ISNUMBER(Y1284),2,IF(A1285=\"\",IF(OR(AK1284>0,VLOOKUP(O1284,EventConfig!A:C,3,FALSE)=4),3,\"\"),1)))","v":1},914905,914905,6496]
[914904,6490,"完成对话","",{"$nulls":5},146,{"$f":"IF(J1285=\"\",\"\",VLOOKUP(J1285,EventNPC!A:E,5,FALSE))","v":"鱼"},6497,"鱼僵在水里尴尬：“呃……仙长真冷漠……那小鱼走了……”",null,9149,4,"",null,null,{"$f":"IF(R1285=\"\",\"\",\"-\"&VLOOKUP(R1285,EventConditionConfig!A:C,3,FALSE)&IF(S1285=\"\",\"\",CHAR(10)&\"-\"&VLOOKUP(S1285,EventConditionConfig!A:C,3,FALSE)))","v":""},"","","","",null,null,"",null,null,"",{"$nulls":4},{"$f":"IF(A1285=\"\",\"\",IF(ISNUMBER(Y1285),2,IF(A1286=\"\",IF(OR(AK1285>0,VLOOKUP(O1285,EventConfig!A:C,3,FALSE)=4),3,\"\"),1)))","v":1},101,101,6497]
[914905,6490,"完成对话","",{"$nulls":6},{"$f":"IF(J1286=\"\",\"\",VLOOKUP(J1286,EventNPC!A:E,5,FALSE))","v":""},6498,"你似乎被耍了",null,9149,5,"",null,null,{"$f":"IF(R1286=\"\",\"\",\"-\"&VLOOKUP(R1286,EventConditionConfig!A:C,3,FALSE)&IF(S1286=\"\",\"\",CHAR(10)&\"-\"&VLOOKUP(S1286,EventConditionConfig!A:C,3,FALSE)))","v":""},"","","","",null,null,"",null,null,"",{"$nulls":4},{"$f":"IF(A1286=\"\",\"\",IF(ISNUMBER(Y1286),2,IF(A1287=\"\",IF(OR(AK1286>0,VLOOKUP(O1286,EventConfig!A:C,3,FALSE)=4),3,\"\"),1)))","v":""},"",null,6498]
[]
[{"$f":"O1288*100+P1288","v":915001},{"$f":"IF(C1288=\"\",\"\",IF(C1288=C1287,B1287,MAX(AL1287,AL1286)+1))","v":6499},"完成对话",{"$f":"IF(E1288=\"\",\"\",IF(E1288=E1287,D1287,MAX(AL1287,AL1286,B1288)+1))","v":""},{"$nulls":6},{"$f":"IF(J1288=\"\",\"\",VLOOKUP(J1288,EventNPC!A:E,5,FALSE))","v":""},{"$f":"IF(M1288=\"\",\"\",MAX(AL1287,AL1286,B1288,D1288)+1)","v":6500},"神识探查到一块巨石，忽然传出声音：\n “吾曾为剑仙！因修炼出了差错，如今化作顽石。只要给我些灵气，我必重现昔日锋芒！”",null,9150,{"$f":"IF(O1288=\"\",\"\",IF(O1288=O1287,P1287+1,1))","v":1},{"$f":"_xlfn.TEXTJOIN(\";\",1,R1288:S1288)","v":""},null,null,{"$f":"IF(R1288=\"\",\"\",\"-\"&VLOOKUP(R1288,EventConditionConfig!A:C,3,FALSE)&IF(S1288=\"\",\"\",CHAR(10)&\"-\"&VLOOKUP(S1288,EventConditionConfig!A:C,3,FALSE)))","v":""},{"$f":"IF(Y1288=\"\",\"\",IF(ISTEXT(Y1288),1,2))","v":""},{"$f":"IF(U1288=1,_xlfn.TEXTJOIN(\";\",1,IF(Z1288=\"\",A1288+1,Z1288),IF(AND(AA1288<>\"\",AC1288=\"\"),A1288+1,AC1288),IF(AND(AD1288<>\"\",AF1288=\"\"),A1288+1,AF1288)),IF(U1288=2,Y1288,\"\"))","v":""},{"$f":"_xlfn.TEXTJOIN(\";\",1,X1288,AA1288,AD1288)","v":""},{"$f":"IF(OR(ISNUMBER(Y1288),Y1288=\"\"),\"\",MAX(AL1287,AL1285,B1288,D1288,L1288)+1)","v":""},null,null,{"$f":"IF(OR(ISNUMBER(AB1288),AB1288=\"\"),\"\",X1288+1)","v":""},null,null,{"$f":"IF(OR(ISNUMBER(AE1288),AE1288=\"\"),\"\",AA1288+1)","v":""},{"$nulls":4},{"$f":"IF(A1288=\"\",\"\",IF(ISNUMBER(Y1288),2,IF(A1289=\"\",IF(OR(AK1288>0,VLOOKUP(O1288,EventConfig!A:C,3,FALSE)=4),3,\"\"),1)))","v":1},{"$f":"IF(AI1288=\"\",\"\",CHOOSE(AI1288,IF(AK1288=\"\",A1288+1,AK1288),CONCATENATE(IF(AK1288=\"\",A1288+1,AK1288),\";101\"),IF(AK1288=\"\",O1288+1,AK1288)))","v":915002},null,{"$f":"IF(A1288=\"\",\"\",MAX(B1288,D1288,L1288,X1288,AA1288,AL1287,AL1286,AD1288))","v":6500}]
[{"$f":"O1289*100+P1289","v":915002},{"$f":"IF(C1289=\"\",\"\",IF(C1289=C1288,B1288,MAX(AL1288,AL1287)+1))","v":6499},"完成对话",{"$f":"IF(E1289=\"\",\"\",IF(E1289=E1288,D1288,MAX(AL1288,AL1287,B1289)+1))","v":""},{"$nulls":6},{"$f":"IF(J1289=\"\",\"\",VLOOKUP(J1289,EventNPC!A:E,5,FALSE))","v":""},{"$f":"IF(M1289=\"\",\"\",MAX(AL1288,AL1287,B1289,D1289)+1)","v":6501},"巨石震得嗡嗡作响，看上去倒像在撒娇。",null,9150,{"$f":"IF(O1289=\"\",\"\",IF(O1289=O1288,P1288+1,1))","v":2},{"$f":"_xlfn.TEXTJOIN(\";\",1,R1289:S1289)","v":""},null,null,{"$f":"IF(R1289=\"\",\"\",\"-\"&VLOOKUP(R1289,EventConditionConfig!A:C,3,FALSE)&IF(S1289=\"\",\"\",CHAR(10)&\"-\"&VLOOKUP(S1289,EventConditionConfig!A:C,3,FALSE)))","v":""},{"$f":"IF(Y1289=\"\",\"\",IF(ISTEXT(Y1289),1,2))","v":1},{"$f":"IF(U1289=1,_xlfn.TEXTJOIN(\";\",1,IF(Z1289=\"\",A1289+1,Z1289),IF(AND(AA1289<>\"\",AC1289=\"\"),A1289+1,AC1289),IF(AND(AD1289<>\"\",AF1289=\"\"),A1289+1,AF1289)),IF(U1289=2,Y1289,\"\"))","v":"915003;915004;915005"},{"$f":"_xlfn.TEXTJOIN(\";\",1,X1289,AA1289,AD1289)","v":"6502;6503;6504"},{"$f":"IF(OR(ISNUMBER(Y1289),Y1289=\"\"),\"\",MAX(AL1288,AL1286,B1289,D1289,L1289)+1)","v":6502},"【输入一丝灵气】消耗1颗修为丹",915003,{"$f":"IF(OR(ISNUMBER(AB1289),AB1289=\"\"),\"\",X1289+1)","v":6503},"【狠狠一脚踢它】",915004,{"$f":"IF(OR(ISNUMBER(AE1289),AE1289=\"\"),\"\",AA1289+1)","v":6504},"【不理睬】",915005,null,null,{"$f":"IF(A1289=\"\",\"\",IF(ISNUMBER(Y1289),2,IF(A1290=\"\",IF(OR(AK1289>0,VLOOKUP(O1289,EventConfig!A:C,3,FALSE)=4),3,\"\"),1)))","v":1},{"$f":"IF(AI1289=\"\",\"\",CHOOSE(AI1289,IF(AK1289=\"\",A1289+1,AK1289),CONCATENATE(IF(AK1289=\"\",A1289+1,AK1289),\";101\"),IF(AK1289=\"\",O1289+1,AK1289)))","v":915003},null,{"$f":"IF(A1289=\"\",\"\",MAX(B1289,D1289,L1289,X1289,AA1289,AL1288,AL1287,AD1289))","v":6504}]
[915003,6499,"完成对话","",{"$nulls":6},{"$f":"IF(J1290=\"\",\"\",VLOOKUP(J1290,EventNPC!A:E,5,FALSE))","v":""},6505,"石头颤抖几下，吐出一句：“嗯…舒服！下次记得再来！”然后一动不动。",null,9150,3,"",null,null,{"$f":"IF(R1290=\"\",\"\",\"-\"&VLOOKUP(R1290,EventConditionConfig!A:C,3,FALSE)&IF(S1290=\"\",\"\",CHAR(10)&\"-\"&VLOOKUP(S1290,EventConditionConfig!A:C,3,FALSE)))","v":""},"","","","",null,null,"",null,null,"",{"$nulls":7},6505]
[915004,6499,"完成对话","",{"$nulls":6},{"$f":"IF(J1291=\"\",\"\",VLOOKUP(J1291,EventNPC!A:E,5,FALSE))","v":""},6506,"石头怒吼：“欺剑仙太甚！”随即崩裂成碎石，掉出一只石头虫，爬走了。（碎石里有不少灵石）",null,9150,4,"",null,null,{"$f":"IF(R1291=\"\",\"\",\"-\"&VLOOKUP(R1291,EventConditionConfig!A:C,3,FALSE)&IF(S1291=\"\",\"\",CHAR(10)&\"-\"&VLOOKUP(S1291,EventConditionConfig!A:C,3,FALSE)))","v":""},"","","","",null,null,"",null,null,"",{"$nulls":7},6506]
[915005,6499,"完成对话","",{"$nulls":6},{"$f":"IF(J1292=\"\",\"\",VLOOKUP(J1292,EventNPC!A:E,5,FALSE))","v":""},6507,"石头小声嘀咕：“没人理我，好寂寞……”",null,9150,5,"",null,null,{"$f":"IF(R1292=\"\",\"\",\"-\"&VLOOKUP(R1292,EventConditionConfig!A:C,3,FALSE)&IF(S1292=\"\",\"\",CHAR(10)&\"-\"&VLOOKUP(S1292,EventConditionConfig!A:C,3,FALSE)))","v":""},"","","","",null,null,"",null,null,"",{"$nulls":4},{"$f":"IF(A1292=\"\",\"\",IF(ISNUMBER(Y1292),2,IF(A1293=\"\",IF(OR(AK1292>0,VLOOKUP(O1292,EventConfig!A:C,3,FALSE)=4),3,\"\"),1)))","v":""},"",null,6507]
[]
[{"$f":"O1294*100+P1294","v":915101},{"$f":"IF(C1294=\"\",\"\",IF(C1294=C1293,B1293,MAX(AL1293,AL1292)+1))","v":6508},"完成对话",{"$f":"IF(E1294=\"\",\"\",IF(E1294=E1293,D1293,MAX(AL1293,AL1292,B1294)+1))","v":""},{"$nulls":6},{"$f":"IF(J1294=\"\",\"\",VLOOKUP(J1294,EventNPC!A:E,5,FALSE))","v":""},{"$f":"IF(M1294=\"\",\"\",MAX(AL1293,AL1292,B1294,D1294)+1)","v":6509},"神识捕捉到一块奇怪的石头。它忽然“咔”地裂开，露出一张憨厚的脸",null,9151,{"$f":"IF(O1294=\"\",\"\",IF(O1294=O1293,P1293+1,1))","v":1},{"$f":"_xlfn.TEXTJOIN(\";\",1,R1294:S1294)","v":""},null,null,{"$f":"IF(R1294=\"\",\"\",\"-\"&VLOOKUP(R1294,EventConditionConfig!A:C,3,FALSE)&IF(S1294=\"\",\"\",CHAR(10)&\"-\"&VLOOKUP(S1294,EventConditionConfig!A:C,3,FALSE)))","v":""},{"$f":"IF(Y1294=\"\",\"\",IF(ISTEXT(Y1294),1,2))","v":""},{"$f":"IF(U1294=1,_xlfn.TEXTJOIN(\";\",1,IF(Z1294=\"\",A1294+1,Z1294),IF(AND(AA1294<>\"\",AC1294=\"\"),A1294+1,AC1294),IF(AND(AD1294<>\"\",AF1294=\"\"),A1294+1,AF1294)),IF(U1294=2,Y1294,\"\"))","v":""},{"$f":"_xlfn.TEXTJOIN(\";\",1,X1294,AA1294,AD1294)","v":""},{"$f":"IF(OR(ISNUMBER(Y1294),Y1294=\"\"),\"\",MAX(AL1293,AL1291,B1294,D1294,L1294)+1)","v":""},null,null,{"$f":"IF(OR(ISNUMBER(AB1294),AB1294=\"\"),\"\",X1294+1)","v":""},null,null,{"$f":"IF(OR(ISNUMBER(AE1294),AE1294=\"\"),\"\",AA1294+1)","v":""},{"$nulls":4},{"$f":"IF(A1294=\"\",\"\",IF(ISNUMBER(Y1294),2,IF(A1295=\"\",IF(OR(AK1294>0,VLOOKUP(O1294,EventConfig!A:C,3,FALSE)=4),3,\"\"),1)))","v":1},915102,null,{"$f":"IF(A1294=\"\",\"\",MAX(B1294,D1294,L1294,X1294,AA1294,AL1293,AL1292,AD1294))","v":6509}]
[{"$f":"O1295*100+P1295","v":915102},{"$f":"IF(C1295=\"\",\"\",IF(C1295=C1294,B1294,MAX(AL1294,AL1293)+1))","v":6508},"完成对话",{"$f":"IF(E1295=\"\",\"\",IF(E1295=E1294,D1294,MAX(AL1294,AL1293,B1295)+1))","v":""},{"$nulls":5},147,{"$f":"IF(J1295=\"\",\"\",VLOOKUP(J1295,EventNPC!A:E,5,FALSE))","v":"石精"},{"$f":"IF(M1295=\"\",\"\",MAX(AL1294,AL1293,B1295,D1295)+1)","v":6510},"“嘿嘿，仙长，要不要跟我赌一场？猜拳！赢了我给你灵石，输了你给我灵石！”石头精兴奋地挥着自己唯一的拳头。",null,9151,{"$f":"IF(O1295=\"\",\"\",IF(O1295=O1294,P1294+1,1))","v":2},{"$f":"_xlfn.TEXTJOIN(\";\",1,R1295:S1295)","v":""},null,null,{"$f":"IF(R1295=\"\",\"\",\"-\"&VLOOKUP(R1295,EventConditionConfig!A:C,3,FALSE)&IF(S1295=\"\",\"\",CHAR(10)&\"-\"&VLOOKUP(S1295,EventConditionConfig!A:C,3,FALSE)))","v":""},{"$f":"IF(Y1295=\"\",\"\",IF(ISTEXT(Y1295),1,2))","v":1},{"$f":"IF(U1295=1,_xlfn.TEXTJOIN(\";\",1,IF(Z1295=\"\",A1295+1,Z1295),IF(AND(AA1295<>\"\",AC1295=\"\"),A1295+1,AC1295),IF(AND(AD1295<>\"\",AF1295=\"\"),A1295+1,AF1295)),IF(U1295=2,Y1295,\"\"))","v":"915103;915105;915107"},{"$f":"_xlfn.TEXTJOIN(\";\",1,X1295,AA1295,AD1295)","v":"6511;6512;6513"},{"$f":"IF(OR(ISNUMBER(Y1295),Y1295=\"\"),\"\",MAX(AL1294,AL1292,B1295,D1295,L1295)+1)","v":6511},"283. 【出石头】",915103,{"$f":"IF(OR(ISNUMBER(AB1295),AB1295=\"\"),\"\",X1295+1)","v":6512},"2. 【出剪刀】",915105,{"$f":"IF(OR(ISNUMBER(AE1295),AE1295=\"\"),\"\",AA1295+1)","v":6513},"3. 【出布】",915107,null,null,{"$f":"IF(A1295=\"\",\"\",IF(ISNUMBER(Y1295),2,IF(A1296=\"\",IF(OR(AK1295>0,VLOOKUP(O1295,EventConfig!A:C,3,FALSE)=4),3,\"\"),1)))","v":1},{"$f":"IF(AI1295=\"\",\"\",CHOOSE(AI1295,IF(AK1295=\"\",A1295+1,AK1295),CONCATENATE(IF(AK1295=\"\",A1295+1,AK1295),\";101\"),IF(AK1295=\"\",O1295+1,AK1295)))","v":915103},null,{"$f":"IF(A1295=\"\",\"\",MAX(B1295,D1295,L1295,X1295,AA1295,AL1294,AL1293,AD1295))","v":6513}]
[915103,6508,"完成对话","",{"$nulls":5},100,{"$f":"IF(J1296=\"\",\"\",VLOOKUP(J1296,EventNPC!A:E,5,FALSE))","v":"玩家"},6514,"「我也出石头！」",null,9151,3,"",null,null,{"$f":"IF(R1296=\"\",\"\",\"-\"&VLOOKUP(R1296,EventConditionConfig!A:C,3,FALSE)&IF(S1296=\"\",\"\",CHAR(10)&\"-\"&VLOOKUP(S1296,EventConditionConfig!A:C,3,FALSE)))","v":""},"","","","",null,null,"",null,null,"",{"$nulls":4},{"$f":"IF(A1296=\"\",\"\",IF(ISNUMBER(Y1296),2,IF(A1297=\"\",IF(OR(AK1296>0,VLOOKUP(O1296,EventConfig!A:C,3,FALSE)=4),3,\"\"),1)))","v":1},915104,null,6514]
[915104,6508,"完成对话","",{"$nulls":5},147,{"$f":"IF(J1297=\"\",\"\",VLOOKUP(J1297,EventNPC!A:E,5,FALSE))","v":"石精"},6515,"平手！不算不算，再来一次！",null,9151,4,"",null,null,{"$f":"IF(R1297=\"\",\"\",\"-\"&VLOOKUP(R1297,EventConditionConfig!A:C,3,FALSE)&IF(S1297=\"\",\"\",CHAR(10)&\"-\"&VLOOKUP(S1297,EventConditionConfig!A:C,3,FALSE)))","v":""},"","","","",null,null,"",null,null,"",{"$nulls":7},6515]
[915105,6508,"完成对话","",{"$nulls":5},100,{"$f":"IF(J1298=\"\",\"\",VLOOKUP(J1298,EventNPC!A:E,5,FALSE))","v":"玩家"},6516,"剪刀！",null,9151,5,"",null,null,{"$f":"IF(R1298=\"\",\"\",\"-\"&VLOOKUP(R1298,EventConditionConfig!A:C,3,FALSE)&IF(S1298=\"\",\"\",CHAR(10)&\"-\"&VLOOKUP(S1298,EventConditionConfig!A:C,3,FALSE)))","v":""},"","","","",null,null,"",null,null,"",{"$nulls":4},{"$f":"IF(A1298=\"\",\"\",IF(ISNUMBER(Y1298),2,IF(A1299=\"\",IF(OR(AK1298>0,VLOOKUP(O1298,EventConfig!A:C,3,FALSE)=4),3,\"\"),1)))","v":1},915106,null,6516]
[915106,6508,"完成对话","",{"$nulls":5},147,{"$f":"IF(J1299=\"\",\"\",VLOOKUP(J1299,EventNPC!A:E,5,FALSE))","v":"石精"},6517,"拳头！赢啦！灵石，快拿来！",null,9151,6,"",null,null,{"$f":"IF(R1299=\"\",\"\",\"-\"&VLOOKUP(R1299,EventConditionConfig!A:C,3,FALSE)&IF(S1299=\"\",\"\",CHAR(10)&\"-\"&VLOOKUP(S1299,EventConditionConfig!A:C,3,FALSE)))","v":""},"","","","",null,null,"",null,null,"",{"$nulls":7},6517]
[915107,6508,"完成对话","",{"$nulls":5},100,{"$f":"IF(J1300=\"\",\"\",VLOOKUP(J1300,EventNPC!A:E,5,FALSE))","v":"玩家"},6518,"哼，你只有拳头，那我出布",null,9151,7,"",null,null,{"$f":"IF(R1300=\"\",\"\",\"-\"&VLOOKUP(R1300,EventConditionConfig!A:C,3,FALSE)&IF(S1300=\"\",\"\",CHAR(10)&\"-\"&VLOOKUP(S1300,EventConditionConfig!A:C,3,FALSE)))","v":""},"","","","",null,null,"",null,null,"",{"$nulls":4},{"$f":"IF(A1300=\"\",\"\",IF(ISNUMBER(Y1300),2,IF(A1301=\"\",IF(OR(AK1300>0,VLOOKUP(O1300,EventConfig!A:C,3,FALSE)=4),3,\"\"),1)))","v":1},915108,null,6518]
[915108,6508,"完成对话","",{"$nulls":5},147,{"$f":"IF(J1301=\"\",\"\",VLOOKUP(J1301,EventNPC!A:E,5,FALSE))","v":"石精"},6519,"啊？这……不公平啊！- 它勉强掏出几颗灵石递上来。",null,9151,8,"",null,null,{"$f":"IF(R1301=\"\",\"\",\"-\"&VLOOKUP(R1301,EventConditionConfig!A:C,3,FALSE)&IF(S1301=\"\",\"\",CHAR(10)&\"-\"&VLOOKUP(S1301,EventConditionConfig!A:C,3,FALSE)))","v":""},"","","","",null,null,"",null,null,"",{"$nulls":4},{"$f":"IF(A1301=\"\",\"\",IF(ISNUMBER(Y1301),2,IF(A1302=\"\",IF(OR(AK1301>0,VLOOKUP(O1301,EventConfig!A:C,3,FALSE)=4),3,\"\"),1)))","v":""},"",null,6519]
[]
[{"$f":"O1303*100+P1303","v":915201},{"$f":"IF(C1303=\"\",\"\",IF(C1303=C1302,B1302,MAX(AL1302,AL1301)+1))","v":6520},"完成对话",{"$f":"IF(E1303=\"\",\"\",IF(E1303=E1302,D1302,MAX(AL1302,AL1301,B1303)+1))","v":""},{"$nulls":5},147,{"$f":"IF(J1303=\"\",\"\",VLOOKUP(J1303,EventNPC!A:E,5,FALSE))","v":"石精"},{"$f":"IF(M1303=\"\",\"\",MAX(AL1302,AL1301,B1303,D1303)+1)","v":6521},"神识又捕捉到那块石头，它气呼呼地蹦出来。它勉强掏出几颗灵石递上来。",null,9152,{"$f":"IF(O1303=\"\",\"\",IF(O1303=O1302,P1302+1,1))","v":1},{"$f":"_xlfn.TEXTJOIN(\";\",1,R1303:S1303)","v":""},null,null,{"$f":"IF(R1303=\"\",\"\",\"-\"&VLOOKUP(R1303,EventConditionConfig!A:C,3,FALSE)&IF(S1303=\"\",\"\",CHAR(10)&\"-\"&VLOOKUP(S1303,EventConditionConfig!A:C,3,FALSE)))","v":""},{"$f":"IF(Y1303=\"\",\"\",IF(ISTEXT(Y1303),1,2))","v":""},{"$f":"IF(U1303=1,_xlfn.TEXTJOIN(\";\",1,IF(Z1303=\"\",A1303+1,Z1303),IF(AND(AA1303<>\"\",AC1303=\"\"),A1303+1,AC1303),IF(AND(AD1303<>\"\",AF1303=\"\"),A1303+1,AF1303)),IF(U1303=2,Y1303,\"\"))","v":""},{"$f":"_xlfn.TEXTJOIN(\";\",1,X1303,AA1303,AD1303)","v":""},{"$f":"IF(OR(ISNUMBER(Y1303),Y1303=\"\"),\"\",MAX(AL1302,AL1300,B1303,D1303,L1303)+1)","v":""},null,null,{"$f":"IF(OR(ISNUMBER(AB1303),AB1303=\"\"),\"\",X1303+1)","v":""},null,null,{"$f":"IF(OR(ISNUMBER(AE1303),AE1303=\"\"),\"\",AA1303+1)","v":""},{"$nulls":4},{"$f":"IF(A1303=\"\",\"\",IF(ISNUMBER(Y1303),2,IF(A1304=\"\",IF(OR(AK1303>0,VLOOKUP(O1303,EventConfig!A:C,3,FALSE)=4),3,\"\"),1)))","v":1},{"$f":"IF(AI1303=\"\",\"\",CHOOSE(AI1303,IF(AK1303=\"\",A1303+1,AK1303),CONCATENATE(IF(AK1303=\"\",A1303+1,AK1303),\";101\"),IF(AK1303=\"\",O1303+1,AK1303)))","v":915202},null,{"$f":"IF(A1303=\"\",\"\",MAX(B1303,D1303,L1303,X1303,AA1303,AL1302,AL1301,AD1303))","v":6521}]
[{"$f":"O1304*100+P1304","v":915202},{"$f":"IF(C1304=\"\",\"\",IF(C1304=C1303,B1303,MAX(AL1303,AL1302)+1))","v":6520},"完成对话",{"$f":"IF(E1304=\"\",\"\",IF(E1304=E1303,D1303,MAX(AL1303,AL1302,B1304)+1))","v":""},{"$nulls":5},147,{"$f":"IF(J1304=\"\",\"\",VLOOKUP(J1304,EventNPC!A:E,5,FALSE))","v":"石精"},{"$f":"IF(M1304=\"\",\"\",MAX(AL1303,AL1302,B1304,D1304)+1)","v":6522},"仙长！上次算我大意！这次我一定能赢！” 它还是挥舞着那只拳头……",null,9152,{"$f":"IF(O1304=\"\",\"\",IF(O1304=O1303,P1303+1,1))","v":2},{"$f":"_xlfn.TEXTJOIN(\";\",1,R1304:S1304)","v":""},null,null,{"$f":"IF(R1304=\"\",\"\",\"-\"&VLOOKUP(R1304,EventConditionConfig!A:C,3,FALSE)&IF(S1304=\"\",\"\",CHAR(10)&\"-\"&VLOOKUP(S1304,EventConditionConfig!A:C,3,FALSE)))","v":""},{"$f":"IF(Y1304=\"\",\"\",IF(ISTEXT(Y1304),1,2))","v":1},{"$f":"IF(U1304=1,_xlfn.TEXTJOIN(\";\",1,IF(Z1304=\"\",A1304+1,Z1304),IF(AND(AA1304<>\"\",AC1304=\"\"),A1304+1,AC1304),IF(AND(AD1304<>\"\",AF1304=\"\"),A1304+1,AF1304)),IF(U1304=2,Y1304,\"\"))","v":"915203;915205;915207"},{"$f":"_xlfn.TEXTJOIN(\";\",1,X1304,AA1304,AD1304)","v":"6523;6524;6525"},{"$f":"IF(OR(ISNUMBER(Y1304),Y1304=\"\"),\"\",MAX(AL1303,AL1301,B1304,D1304,L1304)+1)","v":6523},"再出布",915203,{"$f":"IF(OR(ISNUMBER(AB1304),AB1304=\"\"),\"\",X1304+1)","v":6524},"出石头",915205,{"$f":"IF(OR(ISNUMBER(AE1304),AE1304=\"\"),\"\",AA1304+1)","v":6525},"出剪刀",915207,null,null,{"$f":"IF(A1304=\"\",\"\",IF(ISNUMBER(Y1304),2,IF(A1305=\"\",IF(OR(AK1304>0,VLOOKUP(O1304,EventConfig!A:C,3,FALSE)=4),3,\"\"),1)))","v":1},{"$f":"IF(AI1304=\"\",\"\",CHOOSE(AI1304,IF(AK1304=\"\",A1304+1,AK1304),CONCATENATE(IF(AK1304=\"\",A1304+1,AK1304),\";101\"),IF(AK1304=\"\",O1304+1,AK1304)))","v":915203},null,{"$f":"IF(A1304=\"\",\"\",MAX(B1304,D1304,L1304,X1304,AA1304,AL1303,AL1302,AD1304))","v":6525}]
[915203,6520,"完成对话","",{"$nulls":5},100,{"$f":"IF(J1305=\"\",\"\",VLOOKUP(J1305,EventNPC!A:E,5,FALSE))","v":"玩家"},6526,"老套路，你还是拳头吧？来。",null,9152,3,"",null,null,{"$f":"IF(R1305=\"\",\"\",\"-\"&VLOOKUP(R1305,EventConditionConfig!A:C,3,FALSE)&IF(S1305=\"\",\"\",CHAR(10)&\"-\"&VLOOKUP(S1305,EventConditionConfig!A:C,3,FALSE)))","v":""},"","","","",null,null,"",null,null,"",{"$nulls":4},{"$f":"IF(A1305=\"\",\"\",IF(ISNUMBER(Y1305),2,IF(A1306=\"\",IF(OR(AK1305>0,VLOOKUP(O1305,EventConfig!A:C,3,FALSE)=4),3,\"\"),1)))","v":1},915204,null,6526]
[915204,6520,"完成对话","",{"$nulls":5},147,{"$f":"IF(J1306=\"\",\"\",VLOOKUP(J1306,EventNPC!A:E,5,FALSE))","v":"石精"},6527,"可恶，又输了！石头精羞愤难当",null,9152,4,"",null,null,{"$f":"IF(R1306=\"\",\"\",\"-\"&VLOOKUP(R1306,EventConditionConfig!A:C,3,FALSE)&IF(S1306=\"\",\"\",CHAR(10)&\"-\"&VLOOKUP(S1306,EventConditionConfig!A:C,3,FALSE)))","v":""},"","","","",null,null,"",null,null,"",{"$nulls":7},6527]
[915205,6520,"完成对话","",{"$nulls":5},100,{"$f":"IF(J1307=\"\",\"\",VLOOKUP(J1307,EventNPC!A:E,5,FALSE))","v":"玩家"},6528,"好吧，这次我出石头。",null,9152,5,"",null,null,{"$f":"IF(R1307=\"\",\"\",\"-\"&VLOOKUP(R1307,EventConditionConfig!A:C,3,FALSE)&IF(S1307=\"\",\"\",CHAR(10)&\"-\"&VLOOKUP(S1307,EventConditionConfig!A:C,3,FALSE)))","v":""},"","","","",null,null,"",null,null,"",{"$nulls":4},{"$f":"IF(A1307=\"\",\"\",IF(ISNUMBER(Y1307),2,IF(A1308=\"\",IF(OR(AK1307>0,VLOOKUP(O1307,EventConfig!A:C,3,FALSE)=4),3,\"\"),1)))","v":1},915206,null,6528]
[915206,6520,"完成对话","",{"$nulls":5},147,{"$f":"IF(J1308=\"\",\"\",VLOOKUP(J1308,EventNPC!A:E,5,FALSE))","v":"石精"},6529,"嘿嘿，平局！仙长果然讲义气！",null,9152,6,"",null,null,{"$f":"IF(R1308=\"\",\"\",\"-\"&VLOOKUP(R1308,EventConditionConfig!A:C,3,FALSE)&IF(S1308=\"\",\"\",CHAR(10)&\"-\"&VLOOKUP(S1308,EventConditionConfig!A:C,3,FALSE)))","v":""},"","","","",null,null,"",null,null,"",{"$nulls":7},6529]
[915207,6520,"完成对话","",{"$nulls":5},100,{"$f":"IF(J1309=\"\",\"\",VLOOKUP(J1309,EventNPC!A:E,5,FALSE))","v":"玩家"},6530,"还是剪刀！",null,9152,7,"",null,null,{"$f":"IF(R1309=\"\",\"\",\"-\"&VLOOKUP(R1309,EventConditionConfig!A:C,3,FALSE)&IF(S1309=\"\",\"\",CHAR(10)&\"-\"&VLOOKUP(S1309,EventConditionConfig!A:C,3,FALSE)))","v":""},"","","","",null,null,"",null,null,"",{"$nulls":4},{"$f":"IF(A1309=\"\",\"\",IF(ISNUMBER(Y1309),2,IF(A1310=\"\",IF(OR(AK1309>0,VLOOKUP(O1309,EventConfig!A:C,3,FALSE)=4),3,\"\"),1)))","v":1},915208,null,6530]
[915208,6520,"完成对话","",{"$nulls":5},147,{"$f":"IF(J1310=\"\",\"\",VLOOKUP(J1310,EventNPC!A:E,5,FALSE))","v":"石精"},6531,"拳头赢啦！快快交灵石！",null,9152,8,"",null,null,{"$f":"IF(R1310=\"\",\"\",\"-\"&VLOOKUP(R1310,EventConditionConfig!A:C,3,FALSE)&IF(S1310=\"\",\"\",CHAR(10)&\"-\"&VLOOKUP(S1310,EventConditionConfig!A:C,3,FALSE)))","v":""},"","","","",null,null,"",null,null,"",{"$nulls":4},{"$f":"IF(A1310=\"\",\"\",IF(ISNUMBER(Y1310),2,IF(A1311=\"\",IF(OR(AK1310>0,VLOOKUP(O1310,EventConfig!A:C,3,FALSE)=4),3,\"\"),1)))","v":""},"",null,6531]
[]
[{"$f":"O1312*100+P1312","v":915301},{"$f":"IF(C1312=\"\",\"\",IF(C1312=C1311,B1311,MAX(AL1311,AL1310)+1))","v":6532},"完成对话",{"$f":"IF(E1312=\"\",\"\",IF(E1312=E1311,D1311,MAX(AL1311,AL1310,B1312)+1))","v":""},{"$nulls":6},{"$f":"IF(J1312=\"\",\"\",VLOOKUP(J1312,EventNPC!A:E,5,FALSE))","v":""},{"$f":"IF(M1312=\"\",\"\",MAX(AL1311,AL1310,B1312,D1312)+1)","v":6533},"神识探到，那块石头正鬼鬼祟祟画着什么。见到你，它立刻站直，神情自信",null,9153,{"$f":"IF(O1312=\"\",\"\",IF(O1312=O1311,P1311+1,1))","v":1},{"$f":"_xlfn.TEXTJOIN(\";\",1,R1312:S1312)","v":""},null,null,{"$f":"IF(R1312=\"\",\"\",\"-\"&VLOOKUP(R1312,EventConditionConfig!A:C,3,FALSE)&IF(S1312=\"\",\"\",CHAR(10)&\"-\"&VLOOKUP(S1312,EventConditionConfig!A:C,3,FALSE)))","v":""},{"$f":"IF(Y1312=\"\",\"\",IF(ISTEXT(Y1312),1,2))","v":""},{"$f":"IF(U1312=1,_xlfn.TEXTJOIN(\";\",1,IF(Z1312=\"\",A1312+1,Z1312),IF(AND(AA1312<>\"\",AC1312=\"\"),A1312+1,AC1312),IF(AND(AD1312<>\"\",AF1312=\"\"),A1312+1,AF1312)),IF(U1312=2,Y1312,\"\"))","v":""},{"$f":"_xlfn.TEXTJOIN(\";\",1,X1312,AA1312,AD1312)","v":""},{"$f":"IF(OR(ISNUMBER(Y1312),Y1312=\"\"),\"\",MAX(AL1311,AL1309,B1312,D1312,L1312)+1)","v":""},null,null,{"$f":"IF(OR(ISNUMBER(AB1312),AB1312=\"\"),\"\",X1312+1)","v":""},null,null,{"$f":"IF(OR(ISNUMBER(AE1312),AE1312=\"\"),\"\",AA1312+1)","v":""},{"$nulls":4},{"$f":"IF(A1312=\"\",\"\",IF(ISNUMBER(Y1312),2,IF(A1313=\"\",IF(OR(AK1312>0,VLOOKUP(O1312,EventConfig!A:C,3,FALSE)=4),3,\"\"),1)))","v":1},{"$f":"IF(AI1312=\"\",\"\",CHOOSE(AI1312,IF(AK1312=\"\",A1312+1,AK1312),CONCATENATE(IF(AK1312=\"\",A1312+1,AK1312),\";101\"),IF(AK1312=\"\",O1312+1,AK1312)))","v":915302},null,{"$f":"IF(A1312=\"\",\"\",MAX(B1312,D1312,L1312,X1312,AA1312,AL1311,AL1310,AD1312))","v":6533}]
[{"$f":"O1313*100+P1313","v":915302},{"$f":"IF(C1313=\"\",\"\",IF(C1313=C1312,B1312,MAX(AL1312,AL1311)+1))","v":6532},"完成对话",{"$f":"IF(E1313=\"\",\"\",IF(E1313=E1312,D1312,MAX(AL1312,AL1311,B1313)+1))","v":""},{"$nulls":5},147,{"$f":"IF(J1313=\"\",\"\",VLOOKUP(J1313,EventNPC!A:E,5,FALSE))","v":"石精"},{"$f":"IF(M1313=\"\",\"\",MAX(AL1312,AL1311,B1313,D1313)+1)","v":6534},"仙长！这次我学会了新招数！我可不止拳头了",null,9153,{"$f":"IF(O1313=\"\",\"\",IF(O1313=O1312,P1312+1,1))","v":2},{"$f":"_xlfn.TEXTJOIN(\";\",1,R1313:S1313)","v":""},null,null,{"$f":"IF(R1313=\"\",\"\",\"-\"&VLOOKUP(R1313,EventConditionConfig!A:C,3,FALSE)&IF(S1313=\"\",\"\",CHAR(10)&\"-\"&VLOOKUP(S1313,EventConditionConfig!A:C,3,FALSE)))","v":""},{"$f":"IF(Y1313=\"\",\"\",IF(ISTEXT(Y1313),1,2))","v":1},{"$f":"IF(U1313=1,_xlfn.TEXTJOIN(\";\",1,IF(Z1313=\"\",A1313+1,Z1313),IF(AND(AA1313<>\"\",AC1313=\"\"),A1313+1,AC1313),IF(AND(AD1313<>\"\",AF1313=\"\"),A1313+1,AF1313)),IF(U1313=2,Y1313,\"\"))","v":"915303;915305;915307"},{"$f":"_xlfn.TEXTJOIN(\";\",1,X1313,AA1313,AD1313)","v":"6535;6536;6537"},{"$f":"IF(OR(ISNUMBER(Y1313),Y1313=\"\"),\"\",MAX(AL1312,AL1310,B1313,D1313,L1313)+1)","v":6535},"出剪刀",915303,{"$f":"IF(OR(ISNUMBER(AB1313),AB1313=\"\"),\"\",X1313+1)","v":6536},"出石头",915305,{"$f":"IF(OR(ISNUMBER(AE1313),AE1313=\"\"),\"\",AA1313+1)","v":6537},"出布",915307,null,null,{"$f":"IF(A1313=\"\",\"\",IF(ISNUMBER(Y1313),2,IF(A1314=\"\",IF(OR(AK1313>0,VLOOKUP(O1313,EventConfig!A:C,3,FALSE)=4),3,\"\"),1)))","v":1},{"$f":"IF(AI1313=\"\",\"\",CHOOSE(AI1313,IF(AK1313=\"\",A1313+1,AK1313),CONCATENATE(IF(AK1313=\"\",A1313+1,AK1313),\";101\"),IF(AK1313=\"\",O1313+1,AK1313)))","v":915303},null,{"$f":"IF(A1313=\"\",\"\",MAX(B1313,D1313,L1313,X1313,AA1313,AL1312,AL1311,AD1313))","v":6537}]
[915303,6532,"完成对话","",{"$nulls":5},147,"s",6538,"剪刀，对付你画的‘布’",null,9153,3,"",null,null,{"$f":"IF(R1314=\"\",\"\",\"-\"&VLOOKUP(R1314,EventConditionConfig!A:C,3,FALSE)&IF(S1314=\"\",\"\",CHAR(10)&\"-\"&VLOOKUP(S1314,EventConditionConfig!A:C,3,FALSE)))","v":""},"","","","",null,null,"",null,null,"",{"$nulls":4},{"$f":"IF(A1314=\"\",\"\",IF(ISNUMBER(Y1314),2,IF(A1315=\"\",IF(OR(AK1314>0,VLOOKUP(O1314,EventConfig!A:C,3,FALSE)=4),3,\"\"),1)))","v":1},915304,null,6538]
[915304,6532,"完成对话","",{"$nulls":5},147,{"$f":"IF(J1315=\"\",\"\",VLOOKUP(J1315,EventNPC!A:E,5,FALSE))","v":"石精"},6539,"（大笑）骗到你了！我还是拳头！",null,9153,4,"",null,null,{"$f":"IF(R1315=\"\",\"\",\"-\"&VLOOKUP(R1315,EventConditionConfig!A:C,3,FALSE)&IF(S1315=\"\",\"\",CHAR(10)&\"-\"&VLOOKUP(S1315,EventConditionConfig!A:C,3,FALSE)))","v":""},"","","","",null,null,"",null,null,"",{"$nulls":7},6539]
[915305,6532,"完成对话","",{"$nulls":5},100,{"$f":"IF(J1316=\"\",\"\",VLOOKUP(J1316,EventNPC!A:E,5,FALSE))","v":"玩家"},6540,"我也出石头。",null,9153,5,"",null,null,{"$f":"IF(R1316=\"\",\"\",\"-\"&VLOOKUP(R1316,EventConditionConfig!A:C,3,FALSE)&IF(S1316=\"\",\"\",CHAR(10)&\"-\"&VLOOKUP(S1316,EventConditionConfig!A:C,3,FALSE)))","v":""},"","","","",null,null,"",null,null,"",{"$nulls":4},{"$f":"IF(A1316=\"\",\"\",IF(ISNUMBER(Y1316),2,IF(A1317=\"\",IF(OR(AK1316>0,VLOOKUP(O1316,EventConfig!A:C,3,FALSE)=4),3,\"\"),1)))","v":1},915306,null,6540]
[915306,6532,"完成对话","",{"$nulls":5},147,{"$f":"IF(J1317=\"\",\"\",VLOOKUP(J1317,EventNPC!A:E,5,FALSE))","v":"石精"},6541,"哈哈！平手，但这次我至少不输！",null,9153,6,"",null,null,{"$f":"IF(R1317=\"\",\"\",\"-\"&VLOOKUP(R1317,EventConditionConfig!A:C,3,FALSE)&IF(S1317=\"\",\"\",CHAR(10)&\"-\"&VLOOKUP(S1317,EventConditionConfig!A:C,3,FALSE)))","v":""},"","","","",null,null,"",null,null,"",{"$nulls":7},6541]
[915307,6532,"完成对话","",{"$nulls":5},100,{"$f":"IF(J1318=\"\",\"\",VLOOKUP(J1318,EventNPC!A:E,5,FALSE))","v":"玩家"},6542,"石头精，你再怎么装，终究还是拳头。",null,9153,7,"",null,null,{"$f":"IF(R1318=\"\",\"\",\"-\"&VLOOKUP(R1318,EventConditionConfig!A:C,3,FALSE)&IF(S1318=\"\",\"\",CHAR(10)&\"-\"&VLOOKUP(S1318,EventConditionConfig!A:C,3,FALSE)))","v":""},"","","","",null,null,"",null,null,"",{"$nulls":4},{"$f":"IF(A1318=\"\",\"\",IF(ISNUMBER(Y1318),2,IF(A1319=\"\",IF(OR(AK1318>0,VLOOKUP(O1318,EventConfig!A:C,3,FALSE)=4),3,\"\"),1)))","v":1},915308,null,6542]
[915308,6532,"完成对话","",{"$nulls":6},{"$f":"IF(J1319=\"\",\"\",VLOOKUP(J1319,EventNPC!A:E,5,FALSE))","v":""},6543,"石头精一愣，咬牙切齿，最后瘫倒在地",null,9153,8,"",null,null,{"$f":"IF(R1319=\"\",\"\",\"-\"&VLOOKUP(R1319,EventConditionConfig!A:C,3,FALSE)&IF(S1319=\"\",\"\",CHAR(10)&\"-\"&VLOOKUP(S1319,EventConditionConfig!A:C,3,FALSE)))","v":""},"","","","",null,null,"",null,null,"",{"$nulls":4},{"$f":"IF(A1319=\"\",\"\",IF(ISNUMBER(Y1319),2,IF(A1320=\"\",IF(OR(AK1319>0,VLOOKUP(O1319,EventConfig!A:C,3,FALSE)=4),3,\"\"),1)))","v":1},915309,null,6543]
[915309,6532,"完成对话","",{"$nulls":5},147,{"$f":"IF(J1320=\"\",\"\",VLOOKUP(J1320,EventNPC!A:E,5,FALSE))","v":"石精"},6544,"仙长太狡猾了……我认输。",null,9153,9,"",null,null,{"$f":"IF(R1320=\"\",\"\",\"-\"&VLOOKUP(R1320,EventConditionConfig!A:C,3,FALSE)&IF(S1320=\"\",\"\",CHAR(10)&\"-\"&VLOOKUP(S1320,EventConditionConfig!A:C,3,FALSE)))","v":""},"","","","",null,null,"",null,null,"",{"$nulls":4},{"$f":"IF(A1320=\"\",\"\",IF(ISNUMBER(Y1320),2,IF(A1321=\"\",IF(OR(AK1320>0,VLOOKUP(O1320,EventConfig!A:C,3,FALSE)=4),3,\"\"),1)))","v":1},915310,null,6544]
[915310,6532,"完成对话","",{"$nulls":5},147,{"$f":"IF(J1321=\"\",\"\",VLOOKUP(J1321,EventNPC!A:E,5,FALSE))","v":"石精"},6545,"它掏出一堆灵石，嘀咕着：我还是去练习别的游戏吧……",null,9153,10,"",null,null,{"$f":"IF(R1321=\"\",\"\",\"-\"&VLOOKUP(R1321,EventConditionConfig!A:C,3,FALSE)&IF(S1321=\"\",\"\",CHAR(10)&\"-\"&VLOOKUP(S1321,EventConditionConfig!A:C,3,FALSE)))","v":""},"","","","",null,null,"",null,null,"",{"$nulls":4},{"$f":"IF(A1321=\"\",\"\",IF(ISNUMBER(Y1321),2,IF(A1322=\"\",IF(OR(AK1321>0,VLOOKUP(O1321,EventConfig!A:C,3,FALSE)=4),3,\"\"),1)))","v":""},"",null,6545]
[]
[{"$f":"O1323*100+P1323","v":915401},{"$f":"IF(C1323=\"\",\"\",IF(C1323=C1322,B1322,MAX(AL1322,AL1321)+1))","v":6546},"完成对话",{"$f":"IF(E1323=\"\",\"\",IF(E1323=E1322,D1322,MAX(AL1322,AL1321,B1323)+1))","v":""},{"$nulls":5},147,{"$f":"IF(J1323=\"\",\"\",VLOOKUP(J1323,EventNPC!A:E,5,FALSE))","v":"石精"},{"$f":"IF(M1323=\"\",\"\",MAX(AL1322,AL1321,B1323,D1323)+1)","v":6547},"石头精抱着一堆灵石，愣愣地看着你。",null,9154,{"$f":"IF(O1323=\"\",\"\",IF(O1323=O1322,P1322+1,1))","v":1},{"$f":"_xlfn.TEXTJOIN(\";\",1,R1323:S1323)","v":""},null,null,{"$f":"IF(R1323=\"\",\"\",\"-\"&VLOOKUP(R1323,EventConditionConfig!A:C,3,FALSE)&IF(S1323=\"\",\"\",CHAR(10)&\"-\"&VLOOKUP(S1323,EventConditionConfig!A:C,3,FALSE)))","v":""},{"$f":"IF(Y1323=\"\",\"\",IF(ISTEXT(Y1323),1,2))","v":""},{"$f":"IF(U1323=1,_xlfn.TEXTJOIN(\";\",1,IF(Z1323=\"\",A1323+1,Z1323),IF(AND(AA1323<>\"\",AC1323=\"\"),A1323+1,AC1323),IF(AND(AD1323<>\"\",AF1323=\"\"),A1323+1,AF1323)),IF(U1323=2,Y1323,\"\"))","v":""},{"$f":"_xlfn.TEXTJOIN(\";\",1,X1323,AA1323,AD1323)","v":""},{"$f":"IF(OR(ISNUMBER(Y1323),Y1323=\"\"),\"\",MAX(AL1322,AL1320,B1323,D1323,L1323)+1)","v":""},null,null,{"$f":"IF(OR(ISNUMBER(AB1323),AB1323=\"\"),\"\",X1323+1)","v":""},null,null,{"$f":"IF(OR(ISNUMBER(AE1323),AE1323=\"\"),\"\",AA1323+1)","v":""},{"$nulls":4},{"$f":"IF(A1323=\"\",\"\",IF(ISNUMBER(Y1323),2,IF(A1324=\"\",IF(OR(AK1323>0,VLOOKUP(O1323,EventConfig!A:C,3,FALSE)=4),3,\"\"),1)))","v":1},{"$f":"IF(AI1323=\"\",\"\",CHOOSE(AI1323,IF(AK1323=\"\",A1323+1,AK1323),CONCATENATE(IF(AK1323=\"\",A1323+1,AK1323),\";101\"),IF(AK1323=\"\",O1323+1,AK1323)))","v":915402},null,{"$f":"IF(A1323=\"\",\"\",MAX(B1323,D1323,L1323,X1323,AA1323,AL1322,AL1321,AD1323))","v":6547}]
[{"$f":"O1324*100+P1324","v":915402},{"$f":"IF(C1324=\"\",\"\",IF(C1324=C1323,B1323,MAX(AL1323,AL1322)+1))","v":6546},"完成对话",{"$f":"IF(E1324=\"\",\"\",IF(E1324=E1323,D1323,MAX(AL1323,AL1322,B1324)+1))","v":""},{"$nulls":5},147,{"$f":"IF(J1324=\"\",\"\",VLOOKUP(J1324,EventNPC!A:E,5,FALSE))","v":"石精"},{"$f":"IF(M1324=\"\",\"\",MAX(AL1323,AL1322,B1324,D1324)+1)","v":6548},"仙长……你每次都输。",null,9154,{"$f":"IF(O1324=\"\",\"\",IF(O1324=O1323,P1323+1,1))","v":2},{"$f":"_xlfn.TEXTJOIN(\";\",1,R1324:S1324)","v":""},null,null,{"$f":"IF(R1324=\"\",\"\",\"-\"&VLOOKUP(R1324,EventConditionConfig!A:C,3,FALSE)&IF(S1324=\"\",\"\",CHAR(10)&\"-\"&VLOOKUP(S1324,EventConditionConfig!A:C,3,FALSE)))","v":""},{"$f":"IF(Y1324=\"\",\"\",IF(ISTEXT(Y1324),1,2))","v":""},{"$f":"IF(U1324=1,_xlfn.TEXTJOIN(\";\",1,IF(Z1324=\"\",A1324+1,Z1324),IF(AND(AA1324<>\"\",AC1324=\"\"),A1324+1,AC1324),IF(AND(AD1324<>\"\",AF1324=\"\"),A1324+1,AF1324)),IF(U1324=2,Y1324,\"\"))","v":""},{"$f":"_xlfn.TEXTJOIN(\";\",1,X1324,AA1324,AD1324)","v":""},{"$f":"IF(OR(ISNUMBER(Y1324),Y1324=\"\"),\"\",MAX(AL1323,AL1321,B1324,D1324,L1324)+1)","v":""},null,null,{"$f":"IF(OR(ISNUMBER(AB1324),AB1324=\"\"),\"\",X1324+1)","v":""},null,null,{"$f":"IF(OR(ISNUMBER(AE1324),AE1324=\"\"),\"\",AA1324+1)","v":""},{"$nulls":4},{"$f":"IF(A1324=\"\",\"\",IF(ISNUMBER(Y1324),2,IF(A1325=\"\",IF(OR(AK1324>0,VLOOKUP(O1324,EventConfig!A:C,3,FALSE)=4),3,\"\"),1)))","v":1},{"$f":"IF(AI1324=\"\",\"\",CHOOSE(AI1324,IF(AK1324=\"\",A1324+1,AK1324),CONCATENATE(IF(AK1324=\"\",A1324+1,AK1324),\";101\"),IF(AK1324=\"\",O1324+1,AK1324)))","v":915403},null,{"$f":"IF(A1324=\"\",\"\",MAX(B1324,D1324,L1324,X1324,AA1324,AL1323,AL1322,AD1324))","v":6548}]
[915403,6546,"完成对话","",{"$nulls":5},147,{"$f":"IF(J1325=\"\",\"\",VLOOKUP(J1325,EventNPC!A:E,5,FALSE))","v":"石精"},6549,"我……我本来是想多赢几次灵石的，可你总是出剪刀，好像是……故意让我赢的？",null,9154,3,"",null,null,{"$f":"IF(R1325=\"\",\"\",\"-\"&VLOOKUP(R1325,EventConditionConfig!A:C,3,FALSE)&IF(S1325=\"\",\"\",CHAR(10)&\"-\"&VLOOKUP(S1325,EventConditionConfig!A:C,3,FALSE)))","v":""},"","","","",null,null,"",null,null,"",{"$nulls":4},{"$f":"IF(A1325=\"\",\"\",IF(ISNUMBER(Y1325),2,IF(A1326=\"\",IF(OR(AK1325>0,VLOOKUP(O1325,EventConfig!A:C,3,FALSE)=4),3,\"\"),1)))","v":1},915404,null,6549]
[915404,6546,"完成对话","",{"$nulls":5},147,{"$f":"IF(J1326=\"\",\"\",VLOOKUP(J1326,EventNPC!A:E,5,FALSE))","v":"石精"},6550,"它小心翼翼地把灵石推到你面前",null,9154,4,"",null,null,{"$f":"IF(R1326=\"\",\"\",\"-\"&VLOOKUP(R1326,EventConditionConfig!A:C,3,FALSE)&IF(S1326=\"\",\"\",CHAR(10)&\"-\"&VLOOKUP(S1326,EventConditionConfig!A:C,3,FALSE)))","v":""},"","","","",null,null,"",null,null,"",{"$nulls":4},{"$f":"IF(A1326=\"\",\"\",IF(ISNUMBER(Y1326),2,IF(A1327=\"\",IF(OR(AK1326>0,VLOOKUP(O1326,EventConfig!A:C,3,FALSE)=4),3,\"\"),1)))","v":1},915405,null,6550]
[915405,6546,"完成对话","",{"$nulls":5},147,{"$f":"IF(J1327=\"\",\"\",VLOOKUP(J1327,EventNPC!A:E,5,FALSE))","v":"石精"},6551,"这些……还是还给你吧。我石头精傻是傻，但也知道，若不是你让我，哪有我连赢三次的道理？仙长你是个好人，我……我不占你便宜。",null,9154,5,"",null,null,{"$f":"IF(R1327=\"\",\"\",\"-\"&VLOOKUP(R1327,EventConditionConfig!A:C,3,FALSE)&IF(S1327=\"\",\"\",CHAR(10)&\"-\"&VLOOKUP(S1327,EventConditionConfig!A:C,3,FALSE)))","v":""},"","","","",null,null,"",null,null,"",{"$nulls":4},{"$f":"IF(A1327=\"\",\"\",IF(ISNUMBER(Y1327),2,IF(A1328=\"\",IF(OR(AK1327>0,VLOOKUP(O1327,EventConfig!A:C,3,FALSE)=4),3,\"\"),1)))","v":1},915406,null,6551]
[915406,6546,"完成对话","",{"$nulls":5},147,{"$f":"IF(J1328=\"\",\"\",VLOOKUP(J1328,EventNPC!A:E,5,FALSE))","v":"石精"},6552,"石头精憨笑着，身体慢慢沉入土中，最后只留下一句声音",null,9154,6,"",null,null,{"$f":"IF(R1328=\"\",\"\",\"-\"&VLOOKUP(R1328,EventConditionConfig!A:C,3,FALSE)&IF(S1328=\"\",\"\",CHAR(10)&\"-\"&VLOOKUP(S1328,EventConditionConfig!A:C,3,FALSE)))","v":""},"","","","",null,null,"",null,null,"",{"$nulls":4},{"$f":"IF(A1328=\"\",\"\",IF(ISNUMBER(Y1328),2,IF(A1329=\"\",IF(OR(AK1328>0,VLOOKUP(O1328,EventConfig!A:C,3,FALSE)=4),3,\"\"),1)))","v":1},915407,null,6552]
[915407,6546,"完成对话","",{"$nulls":5},147,{"$f":"IF(J1329=\"\",\"\",VLOOKUP(J1329,EventNPC!A:E,5,FALSE))","v":"石精"},6553,"以后……我也要学会输一输，才能算是真正的游戏吧",null,9154,7,"",null,null,{"$f":"IF(R1329=\"\",\"\",\"-\"&VLOOKUP(R1329,EventConditionConfig!A:C,3,FALSE)&IF(S1329=\"\",\"\",CHAR(10)&\"-\"&VLOOKUP(S1329,EventConditionConfig!A:C,3,FALSE)))","v":""},"","","","",null,null,"",null,null,"",{"$nulls":4},{"$f":"IF(A1329=\"\",\"\",IF(ISNUMBER(Y1329),2,IF(A1330=\"\",IF(OR(AK1329>0,VLOOKUP(O1329,EventConfig!A:C,3,FALSE)=4),3,\"\"),1)))","v":""},"",null,6553]
[]
[{"$f":"O1331*100+P1331","v":915501},{"$f":"IF(C1331=\"\",\"\",IF(C1331=C1330,B1330,MAX(AL1330,AL1329)+1))","v":6554},"完成对话",{"$f":"IF(E1331=\"\",\"\",IF(E1331=E1330,D1330,MAX(AL1330,AL1329,B1331)+1))","v":""},{"$nulls":5},147,{"$f":"IF(J1331=\"\",\"\",VLOOKUP(J1331,EventNPC!A:E,5,FALSE))","v":"石精"},{"$f":"IF(M1331=\"\",\"\",MAX(AL1330,AL1329,B1331,D1331)+1)","v":6555},"一只浑身带电的小兽蜷缩在树洞，神识扫过，它尖叫：“别过来！我会放电的！”",null,9155,{"$f":"IF(O1331=\"\",\"\",IF(O1331=O1330,P1330+1,1))","v":1},{"$f":"_xlfn.TEXTJOIN(\";\",1,R1331:S1331)","v":""},null,null,{"$f":"IF(R1331=\"\",\"\",\"-\"&VLOOKUP(R1331,EventConditionConfig!A:C,3,FALSE)&IF(S1331=\"\",\"\",CHAR(10)&\"-\"&VLOOKUP(S1331,EventConditionConfig!A:C,3,FALSE)))","v":""},{"$f":"IF(Y1331=\"\",\"\",IF(ISTEXT(Y1331),1,2))","v":""},{"$f":"IF(U1331=1,_xlfn.TEXTJOIN(\";\",1,IF(Z1331=\"\",A1331+1,Z1331),IF(AND(AA1331<>\"\",AC1331=\"\"),A1331+1,AC1331),IF(AND(AD1331<>\"\",AF1331=\"\"),A1331+1,AF1331)),IF(U1331=2,Y1331,\"\"))","v":""},{"$f":"_xlfn.TEXTJOIN(\";\",1,X1331,AA1331,AD1331)","v":""},{"$f":"IF(OR(ISNUMBER(Y1331),Y1331=\"\"),\"\",MAX(AL1330,AL1328,B1331,D1331,L1331)+1)","v":""},null,null,{"$f":"IF(OR(ISNUMBER(AB1331),AB1331=\"\"),\"\",X1331+1)","v":""},null,null,{"$f":"IF(OR(ISNUMBER(AE1331),AE1331=\"\"),\"\",AA1331+1)","v":""},{"$nulls":4},{"$f":"IF(A1331=\"\",\"\",IF(ISNUMBER(Y1331),2,IF(A1332=\"\",IF(OR(AK1331>0,VLOOKUP(O1331,EventConfig!A:C,3,FALSE)=4),3,\"\"),1)))","v":1},{"$f":"IF(AI1331=\"\",\"\",CHOOSE(AI1331,IF(AK1331=\"\",A1331+1,AK1331),CONCATENATE(IF(AK1331=\"\",A1331+1,AK1331),\";101\"),IF(AK1331=\"\",O1331+1,AK1331)))","v":915502},null,{"$f":"IF(A1331=\"\",\"\",MAX(B1331,D1331,L1331,X1331,AA1331,AL1330,AL1329,AD1331))","v":6555}]
[{"$f":"O1332*100+P1332","v":915502},{"$f":"IF(C1332=\"\",\"\",IF(C1332=C1331,B1331,MAX(AL1331,AL1330)+1))","v":6554},"完成对话",{"$f":"IF(E1332=\"\",\"\",IF(E1332=E1331,D1331,MAX(AL1331,AL1330,B1332)+1))","v":""},{"$nulls":5},148,{"$f":"IF(J1332=\"\",\"\",VLOOKUP(J1332,EventNPC!A:E,5,FALSE))","v":"小雷霆兽"},{"$f":"IF(M1332=\"\",\"\",MAX(AL1331,AL1330,B1332,D1332)+1)","v":6556},"然而它抖得厉害，电花四溅，明显吓坏了。",null,9155,{"$f":"IF(O1332=\"\",\"\",IF(O1332=O1331,P1331+1,1))","v":2},{"$f":"_xlfn.TEXTJOIN(\";\",1,R1332:S1332)","v":""},null,null,{"$f":"IF(R1332=\"\",\"\",\"-\"&VLOOKUP(R1332,EventConditionConfig!A:C,3,FALSE)&IF(S1332=\"\",\"\",CHAR(10)&\"-\"&VLOOKUP(S1332,EventConditionConfig!A:C,3,FALSE)))","v":""},{"$f":"IF(Y1332=\"\",\"\",IF(ISTEXT(Y1332),1,2))","v":1},{"$f":"IF(U1332=1,_xlfn.TEXTJOIN(\";\",1,IF(Z1332=\"\",A1332+1,Z1332),IF(AND(AA1332<>\"\",AC1332=\"\"),A1332+1,AC1332),IF(AND(AD1332<>\"\",AF1332=\"\"),A1332+1,AF1332)),IF(U1332=2,Y1332,\"\"))","v":"915503;915504;915505"},{"$f":"_xlfn.TEXTJOIN(\";\",1,X1332,AA1332,AD1332)","v":"6557;6558;6559"},{"$f":"IF(OR(ISNUMBER(Y1332),Y1332=\"\"),\"\",MAX(AL1331,AL1329,B1332,D1332,L1332)+1)","v":6557},"安抚它：“我不会伤害你”",915503,{"$f":"IF(OR(ISNUMBER(AB1332),AB1332=\"\"),\"\",X1332+1)","v":6558},"伸手过去，试探一下",915504,{"$f":"IF(OR(ISNUMBER(AE1332),AE1332=\"\"),\"\",AA1332+1)","v":6559},"吓唬它：“我就是猎兽人！”",915505,null,null,{"$f":"IF(A1332=\"\",\"\",IF(ISNUMBER(Y1332),2,IF(A1333=\"\",IF(OR(AK1332>0,VLOOKUP(O1332,EventConfig!A:C,3,FALSE)=4),3,\"\"),1)))","v":1},{"$f":"IF(AI1332=\"\",\"\",CHOOSE(AI1332,IF(AK1332=\"\",A1332+1,AK1332),CONCATENATE(IF(AK1332=\"\",A1332+1,AK1332),\";101\"),IF(AK1332=\"\",O1332+1,AK1332)))","v":915503},null,{"$f":"IF(A1332=\"\",\"\",MAX(B1332,D1332,L1332,X1332,AA1332,AL1331,AL1330,AD1332))","v":6559}]
[915503,6554,"完成对话","",{"$nulls":5},148,{"$f":"IF(J1333=\"\",\"\",VLOOKUP(J1333,EventNPC!A:E,5,FALSE))","v":"小雷霆兽"},6560,"小兽感动得嗡嗡响，掉下一根带电的胡须给你。",null,9155,3,"",null,null,{"$f":"IF(R1333=\"\",\"\",\"-\"&VLOOKUP(R1333,EventConditionConfig!A:C,3,FALSE)&IF(S1333=\"\",\"\",CHAR(10)&\"-\"&VLOOKUP(S1333,EventConditionConfig!A:C,3,FALSE)))","v":""},"","","","",null,null,"",null,null,"",{"$nulls":7},6560]
[915504,6554,"完成对话","",{"$nulls":5},148,{"$f":"IF(J1334=\"\",\"\",VLOOKUP(J1334,EventNPC!A:E,5,FALSE))","v":"小雷霆兽"},6561,"被电得头发炸开，小兽惊叫：“对不起对不起！”",null,9155,4,"",null,null,{"$f":"IF(R1334=\"\",\"\",\"-\"&VLOOKUP(R1334,EventConditionConfig!A:C,3,FALSE)&IF(S1334=\"\",\"\",CHAR(10)&\"-\"&VLOOKUP(S1334,EventConditionConfig!A:C,3,FALSE)))","v":""},"","","","",null,null,"",null,null,"",{"$nulls":7},6561]
[915505,6554,"完成对话","",{"$nulls":5},148,{"$f":"IF(J1335=\"\",\"\",VLOOKUP(J1335,EventNPC!A:E,5,FALSE))","v":"小雷霆兽"},6562,"小兽吓晕过去，留下一股焦糊味。",null,9155,5,"",null,null,{"$f":"IF(R1335=\"\",\"\",\"-\"&VLOOKUP(R1335,EventConditionConfig!A:C,3,FALSE)&IF(S1335=\"\",\"\",CHAR(10)&\"-\"&VLOOKUP(S1335,EventConditionConfig!A:C,3,FALSE)))","v":""},"","","","",null,null,"",null,null,"",{"$nulls":4},{"$f":"IF(A1335=\"\",\"\",IF(ISNUMBER(Y1335),2,IF(A1336=\"\",IF(OR(AK1335>0,VLOOKUP(O1335,EventConfig!A:C,3,FALSE)=4),3,\"\"),1)))","v":""},"",null,6562]
[]
[915601,6563,"完成对话","",{"$nulls":5},149,{"$f":"IF(J1337=\"\",\"\",VLOOKUP(J1337,EventNPC!A:E,5,FALSE))","v":"自称神兽的蚊子"},6564,"一只肥大的蚊子在你神识中嗡嗡直叫：\n “大胆修士！吾乃上古神兽转世，赐我些灵丹，我便能恢复真身！”",null,9156,1,"",null,null,{"$f":"IF(R1337=\"\",\"\",\"-\"&VLOOKUP(R1337,EventConditionConfig!A:C,3,FALSE)&IF(S1337=\"\",\"\",CHAR(10)&\"-\"&VLOOKUP(S1337,EventConditionConfig!A:C,3,FALSE)))","v":""},"","","","",null,null,"",null,null,"",{"$nulls":4},{"$f":"IF(A1337=\"\",\"\",IF(ISNUMBER(Y1337),2,IF(A1338=\"\",IF(OR(AK1337>0,VLOOKUP(O1337,EventConfig!A:C,3,FALSE)=4),3,\"\"),1)))","v":1},915602,null,6564]
[{"$f":"O1338*100+P1338","v":915602},{"$f":"IF(C1338=\"\",\"\",IF(C1338=C1337,B1337,MAX(AL1337,AL1336)+1))","v":6563},"完成对话",{"$f":"IF(E1338=\"\",\"\",IF(E1338=E1337,D1337,MAX(AL1337,AL1336,B1338)+1))","v":""},{"$nulls":6},{"$f":"IF(J1338=\"\",\"\",VLOOKUP(J1338,EventNPC!A:E,5,FALSE))","v":""},{"$f":"IF(M1338=\"\",\"\",MAX(AL1337,AL1336,B1338,D1338)+1)","v":6565},"它拍着翅膀，表情却一本正经",null,9156,{"$f":"IF(O1338=\"\",\"\",IF(O1338=O1337,P1337+1,1))","v":2},{"$f":"_xlfn.TEXTJOIN(\";\",1,R1338:S1338)","v":""},null,null,{"$f":"IF(R1338=\"\",\"\",\"-\"&VLOOKUP(R1338,EventConditionConfig!A:C,3,FALSE)&IF(S1338=\"\",\"\",CHAR(10)&\"-\"&VLOOKUP(S1338,EventConditionConfig!A:C,3,FALSE)))","v":""},{"$f":"IF(Y1338=\"\",\"\",IF(ISTEXT(Y1338),1,2))","v":1},{"$f":"IF(U1338=1,_xlfn.TEXTJOIN(\";\",1,IF(Z1338=\"\",A1338+1,Z1338),IF(AND(AA1338<>\"\",AC1338=\"\"),A1338+1,AC1338),IF(AND(AD1338<>\"\",AF1338=\"\"),A1338+1,AF1338)),IF(U1338=2,Y1338,\"\"))","v":"915603;915604;915606"},{"$f":"_xlfn.TEXTJOIN(\";\",1,X1338,AA1338,AD1338)","v":"6566;6567;6568"},{"$f":"IF(OR(ISNUMBER(Y1338),Y1338=\"\"),\"\",MAX(AL1337,AL1335,B1338,D1338,L1338)+1)","v":6566},"给它一颗灵丹",915603,{"$f":"IF(OR(ISNUMBER(AB1338),AB1338=\"\"),\"\",X1338+1)","v":6567},"给它两颗灵丹",915604,{"$f":"IF(OR(ISNUMBER(AE1338),AE1338=\"\"),\"\",AA1338+1)","v":6568},"直接一巴掌拍死",915606,null,null,{"$f":"IF(A1338=\"\",\"\",IF(ISNUMBER(Y1338),2,IF(A1339=\"\",IF(OR(AK1338>0,VLOOKUP(O1338,EventConfig!A:C,3,FALSE)=4),3,\"\"),1)))","v":1},{"$f":"IF(AI1338=\"\",\"\",CHOOSE(AI1338,IF(AK1338=\"\",A1338+1,AK1338),CONCATENATE(IF(AK1338=\"\",A1338+1,AK1338),\";101\"),IF(AK1338=\"\",O1338+1,AK1338)))","v":915603},null,{"$f":"IF(A1338=\"\",\"\",MAX(B1338,D1338,L1338,X1338,AA1338,AL1337,AL1336,AD1338))","v":6568}]
[915603,6563,"完成对话","",{"$nulls":5},149,{"$f":"IF(J1339=\"\",\"\",VLOOKUP(J1339,EventNPC!A:E,5,FALSE))","v":"自称神兽的蚊子"},6569,"蚊子吸收后体型变大：“再来！再来！我快要恢复了！”",null,9156,3,"",null,null,{"$f":"IF(R1339=\"\",\"\",\"-\"&VLOOKUP(R1339,EventConditionConfig!A:C,3,FALSE)&IF(S1339=\"\",\"\",CHAR(10)&\"-\"&VLOOKUP(S1339,EventConditionConfig!A:C,3,FALSE)))","v":""},1,"915605;915606","6570;6571",6570,"再给它一颗灵丹",915605,6571,"直接一巴掌拍死",915606,"",{"$nulls":4},{"$f":"IF(A1339=\"\",\"\",IF(ISNUMBER(Y1339),2,IF(A1340=\"\",IF(OR(AK1339>0,VLOOKUP(O1339,EventConfig!A:C,3,FALSE)=4),3,\"\"),1)))","v":1},915604,null,6571]
[915604,6563,"完成对话","",{"$nulls":6},{"$f":"IF(J1340=\"\",\"\",VLOOKUP(J1340,EventNPC!A:E,5,FALSE))","v":""},6572,"蚊子吸收后身体开始肿胀起来，不一会儿，爆成一团血雾。",null,9156,4,"",null,null,{"$f":"IF(R1340=\"\",\"\",\"-\"&VLOOKUP(R1340,EventConditionConfig!A:C,3,FALSE)&IF(S1340=\"\",\"\",CHAR(10)&\"-\"&VLOOKUP(S1340,EventConditionConfig!A:C,3,FALSE)))","v":""},"","","","",null,null,"",null,null,"",{"$nulls":4},{"$f":"IF(A1340=\"\",\"\",IF(ISNUMBER(Y1340),2,IF(A1341=\"\",IF(OR(AK1340>0,VLOOKUP(O1340,EventConfig!A:C,3,FALSE)=4),3,\"\"),1)))","v":1},915607,915607,6572]
[915605,6563,"完成对话","",{"$nulls":6},{"$f":"IF(J1341=\"\",\"\",VLOOKUP(J1341,EventNPC!A:E,5,FALSE))","v":""},6573,"蚊子兴奋变得拳头大小，结果被风一吹，直接拍在岩石上，黏住不动。",null,9156,5,"",null,null,{"$f":"IF(R1341=\"\",\"\",\"-\"&VLOOKUP(R1341,EventConditionConfig!A:C,3,FALSE)&IF(S1341=\"\",\"\",CHAR(10)&\"-\"&VLOOKUP(S1341,EventConditionConfig!A:C,3,FALSE)))","v":""},"","","","",null,null,"",null,null,"",{"$nulls":4},{"$f":"IF(A1341=\"\",\"\",IF(ISNUMBER(Y1341),2,IF(A1342=\"\",IF(OR(AK1341>0,VLOOKUP(O1341,EventConfig!A:C,3,FALSE)=4),3,\"\"),1)))","v":1},915606,null,6573]
[915606,6563,"完成对话","",{"$nulls":6},{"$f":"IF(J1342=\"\",\"\",VLOOKUP(J1342,EventNPC!A:E,5,FALSE))","v":""},6574,"你一巴掌拍下去，蚊子爆成一滩血迹",null,9156,6,"",null,null,{"$f":"IF(R1342=\"\",\"\",\"-\"&VLOOKUP(R1342,EventConditionConfig!A:C,3,FALSE)&IF(S1342=\"\",\"\",CHAR(10)&\"-\"&VLOOKUP(S1342,EventConditionConfig!A:C,3,FALSE)))","v":""},"","","","",null,null,"",null,null,"",{"$nulls":4},{"$f":"IF(A1342=\"\",\"\",IF(ISNUMBER(Y1342),2,IF(A1343=\"\",IF(OR(AK1342>0,VLOOKUP(O1342,EventConfig!A:C,3,FALSE)=4),3,\"\"),1)))","v":1},915607,null,6574]
[915607,6563,"完成对话","",{"$nulls":6},{"$f":"IF(J1343=\"\",\"\",VLOOKUP(J1343,EventNPC!A:E,5,FALSE))","v":""},6575,"你拯救了无数凡人。",null,9156,7,"",null,null,{"$f":"IF(R1343=\"\",\"\",\"-\"&VLOOKUP(R1343,EventConditionConfig!A:C,3,FALSE)&IF(S1343=\"\",\"\",CHAR(10)&\"-\"&VLOOKUP(S1343,EventConditionConfig!A:C,3,FALSE)))","v":""},"","","","",null,null,"",null,null,"",{"$nulls":4},{"$f":"IF(A1343=\"\",\"\",IF(ISNUMBER(Y1343),2,IF(A1344=\"\",IF(OR(AK1343>0,VLOOKUP(O1343,EventConfig!A:C,3,FALSE)=4),3,\"\"),1)))","v":""},"",null,6575]
[]
[{"$f":"O1345*100+P1345","v":915701},{"$f":"IF(C1345=\"\",\"\",IF(C1345=C1344,B1344,MAX(AL1344,AL1343)+1))","v":6576},"完成对话",{"$f":"IF(E1345=\"\",\"\",IF(E1345=E1344,D1344,MAX(AL1344,AL1343,B1345)+1))","v":""},{"$nulls":5},150,{"$f":"IF(J1345=\"\",\"\",VLOOKUP(J1345,EventNPC!A:E,5,FALSE))","v":"灵雀"},{"$f":"IF(M1345=\"\",\"\",MAX(AL1344,AL1343,B1345,D1345)+1)","v":6577},"神识探查到一只小灵雀坠落在林间，翅膀骨折。它虚弱地啾啾叫着，眼中满是祈求。",null,9157,{"$f":"IF(O1345=\"\",\"\",IF(O1345=O1344,P1344+1,1))","v":1},null,null,null,{"$f":"IF(R1345=\"\",\"\",\"-\"&VLOOKUP(R1345,EventConditionConfig!A:C,3,FALSE)&IF(S1345=\"\",\"\",CHAR(10)&\"-\"&VLOOKUP(S1345,EventConditionConfig!A:C,3,FALSE)))","v":""},{"$f":"IF(Y1345=\"\",\"\",IF(ISTEXT(Y1345),1,2))","v":1},{"$f":"IF(U1345=1,_xlfn.TEXTJOIN(\";\",1,IF(Z1345=\"\",A1345+1,Z1345),IF(AND(AA1345<>\"\",AC1345=\"\"),A1345+1,AC1345),IF(AND(AD1345<>\"\",AF1345=\"\"),A1345+1,AF1345)),IF(U1345=2,Y1345,\"\"))","v":"915702;915703;915704"},{"$f":"_xlfn.TEXTJOIN(\";\",1,X1345,AA1345,AD1345)","v":"6578;6579;6580"},{"$f":"IF(OR(ISNUMBER(Y1345),Y1345=\"\"),\"\",MAX(AL1344,AL1342,B1345,D1345,L1345)+1)","v":6578},"为它疗伤",915702,{"$f":"IF(OR(ISNUMBER(AB1345),AB1345=\"\"),\"\",X1345+1)","v":6579},"无视",915703,{"$f":"IF(OR(ISNUMBER(AE1345),AE1345=\"\"),\"\",AA1345+1)","v":6580},"打算烤来吃",915704,null,null,{"$f":"IF(A1345=\"\",\"\",IF(ISNUMBER(Y1345),2,IF(A1346=\"\",IF(OR(AK1345>0,VLOOKUP(O1345,EventConfig!A:C,3,FALSE)=4),3,\"\"),1)))","v":1},{"$f":"IF(AI1345=\"\",\"\",CHOOSE(AI1345,IF(AK1345=\"\",A1345+1,AK1345),CONCATENATE(IF(AK1345=\"\",A1345+1,AK1345),\";101\"),IF(AK1345=\"\",O1345+1,AK1345)))","v":915702},null,{"$f":"IF(A1345=\"\",\"\",MAX(B1345,D1345,L1345,X1345,AA1345,AL1344,AL1343,AD1345))","v":6580}]
[915702,6576,"完成对话","",{"$nulls":6},{"$f":"IF(J1346=\"\",\"\",VLOOKUP(J1346,EventNPC!A:E,5,FALSE))","v":""},6581,"灵雀恢复后绕你飞翔，化作灵光钻入你识海。",null,9157,2,{"$f":"_xlfn.TEXTJOIN(\";\",1,R1346:S1346)","v":""},null,null,{"$f":"IF(R1346=\"\",\"\",\"-\"&VLOOKUP(R1346,EventConditionConfig!A:C,3,FALSE)&IF(S1346=\"\",\"\",CHAR(10)&\"-\"&VLOOKUP(S1346,EventConditionConfig!A:C,3,FALSE)))","v":""},"","","","",null,null,"",null,null,"",{"$nulls":7},6581]
[915703,6576,"完成对话","",{"$nulls":6},{"$f":"IF(J1347=\"\",\"\",VLOOKUP(J1347,EventNPC!A:E,5,FALSE))","v":""},6582,"灵雀痛苦死去，你心神微受压抑。",null,9157,3,"",null,null,{"$f":"IF(R1347=\"\",\"\",\"-\"&VLOOKUP(R1347,EventConditionConfig!A:C,3,FALSE)&IF(S1347=\"\",\"\",CHAR(10)&\"-\"&VLOOKUP(S1347,EventConditionConfig!A:C,3,FALSE)))","v":""},"","","","",null,null,"",null,null,"",{"$nulls":7},6582]
[915704,6576,"完成对话","",{"$nulls":6},{"$f":"IF(J1348=\"\",\"\",VLOOKUP(J1348,EventNPC!A:E,5,FALSE))","v":""},6583,"你尝试点火，灵雀化作火羽爆散，灼伤神识。",null,9157,4,"",null,null,{"$f":"IF(R1348=\"\",\"\",\"-\"&VLOOKUP(R1348,EventConditionConfig!A:C,3,FALSE)&IF(S1348=\"\",\"\",CHAR(10)&\"-\"&VLOOKUP(S1348,EventConditionConfig!A:C,3,FALSE)))","v":""},"","","","",null,null,"",null,null,"",{"$nulls":4},{"$f":"IF(A1348=\"\",\"\",IF(ISNUMBER(Y1348),2,IF(A1349=\"\",IF(OR(AK1348>0,VLOOKUP(O1348,EventConfig!A:C,3,FALSE)=4),3,\"\"),1)))","v":""},"",null,6583]
[]
[915801,6584,"完成对话","",{"$nulls":6},{"$f":"IF(J1350=\"\",\"\",VLOOKUP(J1350,EventNPC!A:E,5,FALSE))","v":""},6585,"一只瘦骨嶙峋的老犬趴在一座坟前，眼神坚毅。神识触及，它发出低吼，但尾巴在轻轻摇动。",null,9158,1,"",null,null,{"$f":"IF(R1350=\"\",\"\",\"-\"&VLOOKUP(R1350,EventConditionConfig!A:C,3,FALSE)&IF(S1350=\"\",\"\",CHAR(10)&\"-\"&VLOOKUP(S1350,EventConditionConfig!A:C,3,FALSE)))","v":""},1,{"$f":"IF(U1350=1,_xlfn.TEXTJOIN(\";\",1,IF(Z1350=\"\",A1350+1,Z1350),IF(AND(AA1350<>\"\",AC1350=\"\"),A1350+1,AC1350),IF(AND(AD1350<>\"\",AF1350=\"\"),A1350+1,AF1350)),IF(U1350=2,Y1350,\"\"))","v":"915802;915803;915804"},"6586;6587;6588",6586,"留下些食物",915802,6587,"抚慰它的心灵",915803,6588,"不理它",915804,null,null,{"$f":"IF(A1350=\"\",\"\",IF(ISNUMBER(Y1350),2,IF(A1351=\"\",IF(OR(AK1350>0,VLOOKUP(O1350,EventConfig!A:C,3,FALSE)=4),3,\"\"),1)))","v":1},915802,null,6588]
[{"$f":"O1351*100+P1351","v":915802},{"$f":"IF(C1351=\"\",\"\",IF(C1351=C1350,B1350,MAX(AL1350,AL1349)+1))","v":6584},"完成对话",{"$f":"IF(E1351=\"\",\"\",IF(E1351=E1350,D1350,MAX(AL1350,AL1349,B1351)+1))","v":""},{"$nulls":6},{"$f":"IF(J1351=\"\",\"\",VLOOKUP(J1351,EventNPC!A:E,5,FALSE))","v":""},{"$f":"IF(M1351=\"\",\"\",MAX(AL1350,AL1349,B1351,D1351)+1)","v":6589},"老犬舔了舔食物，眼中闪过光彩，墓上灵气流转。",null,9158,{"$f":"IF(O1351=\"\",\"\",IF(O1351=O1350,P1350+1,1))","v":2},{"$f":"_xlfn.TEXTJOIN(\";\",1,R1351:S1351)","v":""},null,null,{"$f":"IF(R1351=\"\",\"\",\"-\"&VLOOKUP(R1351,EventConditionConfig!A:C,3,FALSE)&IF(S1351=\"\",\"\",CHAR(10)&\"-\"&VLOOKUP(S1351,EventConditionConfig!A:C,3,FALSE)))","v":""},{"$f":"IF(Y1351=\"\",\"\",IF(ISTEXT(Y1351),1,2))","v":""},"",{"$f":"_xlfn.TEXTJOIN(\";\",1,X1351,AA1351,AD1351)","v":""},{"$f":"IF(OR(ISNUMBER(Y1351),Y1351=\"\"),\"\",MAX(AL1350,AL1348,B1351,D1351,L1351)+1)","v":""},null,null,{"$f":"IF(OR(ISNUMBER(AB1351),AB1351=\"\"),\"\",X1351+1)","v":""},null,null,{"$f":"IF(OR(ISNUMBER(AE1351),AE1351=\"\"),\"\",AA1351+1)","v":""},{"$nulls":7},{"$f":"IF(A1351=\"\",\"\",MAX(B1351,D1351,L1351,X1351,AA1351,AL1350,AL1349,AD1351))","v":6589}]
[915803,6584,"完成对话","",{"$nulls":6},{"$f":"IF(J1352=\"\",\"\",VLOOKUP(J1352,EventNPC!A:E,5,FALSE))","v":""},6590,"老犬安静下来，伏地而眠，化作灵气融入大地。",null,9158,3,"",null,null,{"$f":"IF(R1352=\"\",\"\",\"-\"&VLOOKUP(R1352,EventConditionConfig!A:C,3,FALSE)&IF(S1352=\"\",\"\",CHAR(10)&\"-\"&VLOOKUP(S1352,EventConditionConfig!A:C,3,FALSE)))","v":""},"","","","",null,null,"",null,null,"",{"$nulls":7},6590]
[915804,6584,"完成对话","",{"$nulls":6},{"$f":"IF(J1353=\"\",\"\",VLOOKUP(J1353,EventNPC!A:E,5,FALSE))","v":""},6591,"老犬孤独死去，你心头一沉。",null,9158,4,"",null,null,{"$f":"IF(R1353=\"\",\"\",\"-\"&VLOOKUP(R1353,EventConditionConfig!A:C,3,FALSE)&IF(S1353=\"\",\"\",CHAR(10)&\"-\"&VLOOKUP(S1353,EventConditionConfig!A:C,3,FALSE)))","v":""},"","","","",null,null,"",null,null,"",{"$nulls":4},{"$f":"IF(A1353=\"\",\"\",IF(ISNUMBER(Y1353),2,IF(A1354=\"\",IF(OR(AK1353>0,VLOOKUP(O1353,EventConfig!A:C,3,FALSE)=4),3,\"\"),1)))","v":""},{"$f":"IF(AI1353=\"\",\"\",CHOOSE(AI1353,IF(AK1353=\"\",A1353+1,AK1353),CONCATENATE(IF(AK1353=\"\",A1353+1,AK1353),\";101\"),IF(AK1353=\"\",O1353+1,AK1353)))","v":""},null,6591]
[]
[915901,6592,"完成对话","",{"$nulls":6},{"$f":"IF(J1355=\"\",\"\",VLOOKUP(J1355,EventNPC!A:E,5,FALSE))","v":""},6593,"一群萤火虫被困在蛛网中，光点微弱，拼命闪烁，仿佛在呼救。",null,9159,1,"",null,null,{"$f":"IF(R1355=\"\",\"\",\"-\"&VLOOKUP(R1355,EventConditionConfig!A:C,3,FALSE)&IF(S1355=\"\",\"\",CHAR(10)&\"-\"&VLOOKUP(S1355,EventConditionConfig!A:C,3,FALSE)))","v":""},1,"915902;915903;915904","6594;6595;6596",6594,"用灵力解开蛛丝",915902,6595,"任其消亡",915903,6596,"捕捉它们收集光芒",915904,null,null,{"$f":"IF(A1355=\"\",\"\",IF(ISNUMBER(Y1355),2,IF(A1356=\"\",IF(OR(AK1355>0,VLOOKUP(O1355,EventConfig!A:C,3,FALSE)=4),3,\"\"),1)))","v":1},{"$f":"IF(AI1355=\"\",\"\",CHOOSE(AI1355,IF(AK1355=\"\",A1355+1,AK1355),CONCATENATE(IF(AK1355=\"\",A1355+1,AK1355),\";101\"),IF(AK1355=\"\",O1355+1,AK1355)))","v":915902},null,6596]
[{"$f":"O1356*100+P1356","v":915902},{"$f":"IF(C1356=\"\",\"\",IF(C1356=C1355,B1355,MAX(AL1355,AL1354)+1))","v":6592},"完成对话",{"$f":"IF(E1356=\"\",\"\",IF(E1356=E1355,D1355,MAX(AL1355,AL1354,B1356)+1))","v":""},{"$nulls":6},{"$f":"IF(J1356=\"\",\"\",VLOOKUP(J1356,EventNPC!A:E,5,FALSE))","v":""},{"$f":"IF(M1356=\"\",\"\",MAX(AL1355,AL1354,B1356,D1356)+1)","v":6597},"萤火虫振翅而飞，化作灵光聚拢，温润你。",null,9159,{"$f":"IF(O1356=\"\",\"\",IF(O1356=O1355,P1355+1,1))","v":2},{"$f":"_xlfn.TEXTJOIN(\";\",1,R1356:S1356)","v":""},null,null,{"$f":"IF(R1356=\"\",\"\",\"-\"&VLOOKUP(R1356,EventConditionConfig!A:C,3,FALSE)&IF(S1356=\"\",\"\",CHAR(10)&\"-\"&VLOOKUP(S1356,EventConditionConfig!A:C,3,FALSE)))","v":""},{"$f":"IF(Y1356=\"\",\"\",IF(ISTEXT(Y1356),1,2))","v":""},{"$f":"IF(U1356=1,_xlfn.TEXTJOIN(\";\",1,IF(Z1356=\"\",A1356+1,Z1356),IF(AND(AA1356<>\"\",AC1356=\"\"),A1356+1,AC1356),IF(AND(AD1356<>\"\",AF1356=\"\"),A1356+1,AF1356)),IF(U1356=2,Y1356,\"\"))","v":""},{"$f":"_xlfn.TEXTJOIN(\";\",1,X1356,AA1356,AD1356)","v":""},{"$f":"IF(OR(ISNUMBER(Y1356),Y1356=\"\"),\"\",MAX(AL1355,AL1353,B1356,D1356,L1356)+1)","v":""},null,null,{"$f":"IF(OR(ISNUMBER(AB1356),AB1356=\"\"),\"\",X1356+1)","v":""},null,null,{"$f":"IF(OR(ISNUMBER(AE1356),AE1356=\"\"),\"\",AA1356+1)","v":""},{"$nulls":7},{"$f":"IF(A1356=\"\",\"\",MAX(B1356,D1356,L1356,X1356,AA1356,AL1355,AL1354,AD1356))","v":6597}]
[915903,6592,"完成对话","",{"$nulls":6},{"$f":"IF(J1357=\"\",\"\",VLOOKUP(J1357,EventNPC!A:E,5,FALSE))","v":""},6598,"光点渐渐熄灭，你心中一阵沉重。",null,9159,3,"",null,null,{"$f":"IF(R1357=\"\",\"\",\"-\"&VLOOKUP(R1357,EventConditionConfig!A:C,3,FALSE)&IF(S1357=\"\",\"\",CHAR(10)&\"-\"&VLOOKUP(S1357,EventConditionConfig!A:C,3,FALSE)))","v":""},"","","","",null,null,"",null,null,"",{"$nulls":7},6598]
[915904,6592,"完成对话","",{"$nulls":6},{"$f":"IF(J1358=\"\",\"\",VLOOKUP(J1358,EventNPC!A:E,5,FALSE))","v":""},6599,"击败蜘蛛",null,9159,4,"",null,null,{"$f":"IF(R1358=\"\",\"\",\"-\"&VLOOKUP(R1358,EventConditionConfig!A:C,3,FALSE)&IF(S1358=\"\",\"\",CHAR(10)&\"-\"&VLOOKUP(S1358,EventConditionConfig!A:C,3,FALSE)))","v":""},2,4026,"","",4026,null,"",null,null,"",{"$nulls":4},{"$f":"IF(A1358=\"\",\"\",IF(ISNUMBER(Y1358),2,IF(A1359=\"\",IF(OR(AK1358>0,VLOOKUP(O1358,EventConfig!A:C,3,FALSE)=4),3,\"\"),1)))","v":2},"915905;101",null,6599]
[]
[916001,6600,"完成对话","",{"$nulls":6},{"$f":"IF(J1360=\"\",\"\",VLOOKUP(J1360,EventNPC!A:E,5,FALSE))","v":""},6601,"神识探查到一只小妖在地上嚎啕大哭，手里攥着一颗掉落的尖牙。",null,9160,1,"",null,null,{"$f":"IF(R1360=\"\",\"\",\"-\"&VLOOKUP(R1360,EventConditionConfig!A:C,3,FALSE)&IF(S1360=\"\",\"\",CHAR(10)&\"-\"&VLOOKUP(S1360,EventConditionConfig!A:C,3,FALSE)))","v":""},"","","","",null,null,"",null,null,"",{"$nulls":4},{"$f":"IF(A1360=\"\",\"\",IF(ISNUMBER(Y1360),2,IF(A1361=\"\",IF(OR(AK1360>0,VLOOKUP(O1360,EventConfig!A:C,3,FALSE)=4),3,\"\"),1)))","v":1},916002,null,6601]
[{"$f":"O1361*100+P1361","v":916002},{"$f":"IF(C1361=\"\",\"\",IF(C1361=C1360,B1360,MAX(AL1360,AL1359)+1))","v":6600},"完成对话",{"$f":"IF(E1361=\"\",\"\",IF(E1361=E1360,D1360,MAX(AL1360,AL1359,B1361)+1))","v":""},{"$nulls":5},153,{"$f":"IF(J1361=\"\",\"\",VLOOKUP(J1361,EventNPC!A:E,5,FALSE))","v":"小妖"},{"$f":"IF(M1361=\"\",\"\",MAX(AL1360,AL1359,B1361,D1361)+1)","v":6602},"“呜呜……我以后还怎么吓人啊？仙长，你能帮帮我吗？”",null,9160,{"$f":"IF(O1361=\"\",\"\",IF(O1361=O1360,P1360+1,1))","v":2},{"$f":"_xlfn.TEXTJOIN(\";\",1,R1361:S1361)","v":""},null,null,{"$f":"IF(R1361=\"\",\"\",\"-\"&VLOOKUP(R1361,EventConditionConfig!A:C,3,FALSE)&IF(S1361=\"\",\"\",CHAR(10)&\"-\"&VLOOKUP(S1361,EventConditionConfig!A:C,3,FALSE)))","v":""},{"$f":"IF(Y1361=\"\",\"\",IF(ISTEXT(Y1361),1,2))","v":1},{"$f":"IF(U1361=1,_xlfn.TEXTJOIN(\";\",1,IF(Z1361=\"\",A1361+1,Z1361),IF(AND(AA1361<>\"\",AC1361=\"\"),A1361+1,AC1361),IF(AND(AD1361<>\"\",AF1361=\"\"),A1361+1,AF1361)),IF(U1361=2,Y1361,\"\"))","v":"916003;916004;916005"},{"$f":"_xlfn.TEXTJOIN(\";\",1,X1361,AA1361,AD1361)","v":"6603;6604;6605"},{"$f":"IF(OR(ISNUMBER(Y1361),Y1361=\"\"),\"\",MAX(AL1360,AL1358,B1361,D1361,L1361)+1)","v":6603},"安慰它，并告诉它掉牙还能再长",916003,{"$f":"IF(OR(ISNUMBER(AB1361),AB1361=\"\"),\"\",X1361+1)","v":6604},"送它一颗灵石当“新牙”",916004,{"$f":"IF(OR(ISNUMBER(AE1361),AE1361=\"\"),\"\",AA1361+1)","v":6605},"嘲笑它",916005,null,null,{"$f":"IF(A1361=\"\",\"\",IF(ISNUMBER(Y1361),2,IF(A1362=\"\",IF(OR(AK1361>0,VLOOKUP(O1361,EventConfig!A:C,3,FALSE)=4),3,\"\"),1)))","v":1},{"$f":"IF(AI1361=\"\",\"\",CHOOSE(AI1361,IF(AK1361=\"\",A1361+1,AK1361),CONCATENATE(IF(AK1361=\"\",A1361+1,AK1361),\";101\"),IF(AK1361=\"\",O1361+1,AK1361)))","v":916003},null,{"$f":"IF(A1361=\"\",\"\",MAX(B1361,D1361,L1361,X1361,AA1361,AL1360,AL1359,AD1361))","v":6605}]
[916003,6600,"完成对话","",{"$nulls":6},{"$f":"IF(J1362=\"\",\"\",VLOOKUP(J1362,EventNPC!A:E,5,FALSE))","v":""},6606,"小妖破涕为笑，拍拍屁股跑了，留下一个闪亮的小袋子。",null,9160,3,"",null,null,{"$f":"IF(R1362=\"\",\"\",\"-\"&VLOOKUP(R1362,EventConditionConfig!A:C,3,FALSE)&IF(S1362=\"\",\"\",CHAR(10)&\"-\"&VLOOKUP(S1362,EventConditionConfig!A:C,3,FALSE)))","v":""},"","","","",null,null,"",null,null,"",{"$nulls":7},6606]
[916004,6600,"完成对话","",{"$nulls":6},{"$f":"IF(J1363=\"\",\"\",VLOOKUP(J1363,EventNPC!A:E,5,FALSE))","v":""},6607,"小妖开心极了，把原本偷偷藏着的灵石全给你。",null,9160,4,"",null,null,{"$f":"IF(R1363=\"\",\"\",\"-\"&VLOOKUP(R1363,EventConditionConfig!A:C,3,FALSE)&IF(S1363=\"\",\"\",CHAR(10)&\"-\"&VLOOKUP(S1363,EventConditionConfig!A:C,3,FALSE)))","v":""},"","","","",null,null,"",null,null,"",{"$nulls":7},6607]
[916005,6600,"完成对话","",{"$nulls":6},{"$f":"IF(J1364=\"\",\"\",VLOOKUP(J1364,EventNPC!A:E,5,FALSE))","v":""},6608,"小妖嚎得更大声，掀翻地面，惊跑灵气，你神识受到轻微干扰。",null,9160,5,"",null,null,{"$f":"IF(R1364=\"\",\"\",\"-\"&VLOOKUP(R1364,EventConditionConfig!A:C,3,FALSE)&IF(S1364=\"\",\"\",CHAR(10)&\"-\"&VLOOKUP(S1364,EventConditionConfig!A:C,3,FALSE)))","v":""},"","","","",null,null,"",null,null,"",{"$nulls":4},{"$f":"IF(A1364=\"\",\"\",IF(ISNUMBER(Y1364),2,IF(A1365=\"\",IF(OR(AK1364>0,VLOOKUP(O1364,EventConfig!A:C,3,FALSE)=4),3,\"\"),1)))","v":""},"",null,6608]
[]
[916101,6609,"完成对话","",{"$nulls":6},{"$f":"IF(J1366=\"\",\"\",VLOOKUP(J1366,EventNPC!A:E,5,FALSE))","v":""},6610,"只老龟趴在溪水边，神识触及",null,9161,1,"",null,null,{"$f":"IF(R1366=\"\",\"\",\"-\"&VLOOKUP(R1366,EventConditionConfig!A:C,3,FALSE)&IF(S1366=\"\",\"\",CHAR(10)&\"-\"&VLOOKUP(S1366,EventConditionConfig!A:C,3,FALSE)))","v":""},"","","","",null,null,"",null,null,"",{"$nulls":4},{"$f":"IF(A1366=\"\",\"\",IF(ISNUMBER(Y1366),2,IF(A1367=\"\",IF(OR(AK1366>0,VLOOKUP(O1366,EventConfig!A:C,3,FALSE)=4),3,\"\"),1)))","v":1},916102,null,6610]
[{"$f":"O1367*100+P1367","v":916102},{"$f":"IF(C1367=\"\",\"\",IF(C1367=C1366,B1366,MAX(AL1366,AL1365)+1))","v":6609},"完成对话",{"$f":"IF(E1367=\"\",\"\",IF(E1367=E1366,D1366,MAX(AL1366,AL1365,B1367)+1))","v":""},{"$nulls":5},154,{"$f":"IF(J1367=\"\",\"\",VLOOKUP(J1367,EventNPC!A:E,5,FALSE))","v":"老乌龟"},{"$f":"IF(M1367=\"\",\"\",MAX(AL1366,AL1365,B1367,D1367)+1)","v":6611},"它慢悠悠说：\n “年轻人，帮我挠挠背，我的壳里有宝贝。”",null,9161,{"$f":"IF(O1367=\"\",\"\",IF(O1367=O1366,P1366+1,1))","v":2},{"$f":"_xlfn.TEXTJOIN(\";\",1,R1367:S1367)","v":""},null,null,{"$f":"IF(R1367=\"\",\"\",\"-\"&VLOOKUP(R1367,EventConditionConfig!A:C,3,FALSE)&IF(S1367=\"\",\"\",CHAR(10)&\"-\"&VLOOKUP(S1367,EventConditionConfig!A:C,3,FALSE)))","v":""},{"$f":"IF(Y1367=\"\",\"\",IF(ISTEXT(Y1367),1,2))","v":1},{"$f":"IF(U1367=1,_xlfn.TEXTJOIN(\";\",1,IF(Z1367=\"\",A1367+1,Z1367),IF(AND(AA1367<>\"\",AC1367=\"\"),A1367+1,AC1367),IF(AND(AD1367<>\"\",AF1367=\"\"),A1367+1,AF1367)),IF(U1367=2,Y1367,\"\"))","v":"916103;916104;916105"},{"$f":"_xlfn.TEXTJOIN(\";\",1,X1367,AA1367,AD1367)","v":"6612;6613;6614"},{"$f":"IF(OR(ISNUMBER(Y1367),Y1367=\"\"),\"\",MAX(AL1366,AL1364,B1367,D1367,L1367)+1)","v":6612},"耐心替它挠",916103,{"$f":"IF(OR(ISNUMBER(AB1367),AB1367=\"\"),\"\",X1367+1)","v":6613},"翻翻它的龟壳",916104,{"$f":"IF(OR(ISNUMBER(AE1367),AE1367=\"\"),\"\",AA1367+1)","v":6614},"嫌麻烦走开",916105,null,null,{"$f":"IF(A1367=\"\",\"\",IF(ISNUMBER(Y1367),2,IF(A1368=\"\",IF(OR(AK1367>0,VLOOKUP(O1367,EventConfig!A:C,3,FALSE)=4),3,\"\"),1)))","v":1},{"$f":"IF(AI1367=\"\",\"\",CHOOSE(AI1367,IF(AK1367=\"\",A1367+1,AK1367),CONCATENATE(IF(AK1367=\"\",A1367+1,AK1367),\";101\"),IF(AK1367=\"\",O1367+1,AK1367)))","v":916103},null,{"$f":"IF(A1367=\"\",\"\",MAX(B1367,D1367,L1367,X1367,AA1367,AL1366,AL1365,AD1367))","v":6614}]
[916103,6609,"完成对话","",{"$nulls":6},{"$f":"IF(J1368=\"\",\"\",VLOOKUP(J1368,EventNPC!A:E,5,FALSE))","v":""},6615,"老龟舒服得打瞌睡，壳中滚出几颗灵石。",null,9161,3,"",null,null,{"$f":"IF(R1368=\"\",\"\",\"-\"&VLOOKUP(R1368,EventConditionConfig!A:C,3,FALSE)&IF(S1368=\"\",\"\",CHAR(10)&\"-\"&VLOOKUP(S1368,EventConditionConfig!A:C,3,FALSE)))","v":""},"","","","",null,null,"",null,null,"",{"$nulls":7},6615]
[916104,6609,"完成对话","",{"$nulls":6},{"$f":"IF(J1369=\"\",\"\",VLOOKUP(J1369,EventNPC!A:E,5,FALSE))","v":""},6616,"老龟大怒，猛一甩头把你掀翻，灵石掉进河里。",null,9161,4,"",null,null,{"$f":"IF(R1369=\"\",\"\",\"-\"&VLOOKUP(R1369,EventConditionConfig!A:C,3,FALSE)&IF(S1369=\"\",\"\",CHAR(10)&\"-\"&VLOOKUP(S1369,EventConditionConfig!A:C,3,FALSE)))","v":""},"","","","",null,null,"",null,null,"",{"$nulls":7},6616]
[916105,6609,"完成对话","",{"$nulls":6},{"$f":"IF(J1370=\"\",\"\",VLOOKUP(J1370,EventNPC!A:E,5,FALSE))","v":""},6617,"老龟“哼”了一声，慢慢游走。",null,9161,5,"",null,null,{"$f":"IF(R1370=\"\",\"\",\"-\"&VLOOKUP(R1370,EventConditionConfig!A:C,3,FALSE)&IF(S1370=\"\",\"\",CHAR(10)&\"-\"&VLOOKUP(S1370,EventConditionConfig!A:C,3,FALSE)))","v":""},"","","","",null,null,"",null,null,"",{"$nulls":4},{"$f":"IF(A1370=\"\",\"\",IF(ISNUMBER(Y1370),2,IF(A1371=\"\",IF(OR(AK1370>0,VLOOKUP(O1370,EventConfig!A:C,3,FALSE)=4),3,\"\"),1)))","v":""},"",null,6617]
[]
[916201,6618,"完成对话","",{"$nulls":5},147,{"$f":"IF(J1372=\"\",\"\",VLOOKUP(J1372,EventNPC!A:E,5,FALSE))","v":"石精"},6619,"一块灵石长出嘴巴，正跑调唱歌：“啊——修仙路好寂寞呀——”",null,9162,1,"",null,null,{"$f":"IF(R1372=\"\",\"\",\"-\"&VLOOKUP(R1372,EventConditionConfig!A:C,3,FALSE)&IF(S1372=\"\",\"\",CHAR(10)&\"-\"&VLOOKUP(S1372,EventConditionConfig!A:C,3,FALSE)))","v":""},"","","","",null,null,"",null,null,"",{"$nulls":4},{"$f":"IF(A1372=\"\",\"\",IF(ISNUMBER(Y1372),2,IF(A1373=\"\",IF(OR(AK1372>0,VLOOKUP(O1372,EventConfig!A:C,3,FALSE)=4),3,\"\"),1)))","v":1},916202,null,6619]
[{"$f":"O1373*100+P1373","v":916202},{"$f":"IF(C1373=\"\",\"\",IF(C1373=C1372,B1372,MAX(AL1372,AL1371)+1))","v":6618},"完成对话",{"$f":"IF(E1373=\"\",\"\",IF(E1373=E1372,D1372,MAX(AL1372,AL1371,B1373)+1))","v":""},{"$nulls":6},{"$f":"IF(J1373=\"\",\"\",VLOOKUP(J1373,EventNPC!A:E,5,FALSE))","v":""},{"$f":"IF(M1373=\"\",\"\",MAX(AL1372,AL1371,B1373,D1373)+1)","v":6620},"它自信满满，却跑调得惨不忍听。",null,9162,{"$f":"IF(O1373=\"\",\"\",IF(O1373=O1372,P1372+1,1))","v":2},{"$f":"_xlfn.TEXTJOIN(\";\",1,R1373:S1373)","v":""},null,null,{"$f":"IF(R1373=\"\",\"\",\"-\"&VLOOKUP(R1373,EventConditionConfig!A:C,3,FALSE)&IF(S1373=\"\",\"\",CHAR(10)&\"-\"&VLOOKUP(S1373,EventConditionConfig!A:C,3,FALSE)))","v":""},{"$f":"IF(Y1373=\"\",\"\",IF(ISTEXT(Y1373),1,2))","v":1},{"$f":"IF(U1373=1,_xlfn.TEXTJOIN(\";\",1,IF(Z1373=\"\",A1373+1,Z1373),IF(AND(AA1373<>\"\",AC1373=\"\"),A1373+1,AC1373),IF(AND(AD1373<>\"\",AF1373=\"\"),A1373+1,AF1373)),IF(U1373=2,Y1373,\"\"))","v":"916203;916204;916205"},{"$f":"_xlfn.TEXTJOIN(\";\",1,X1373,AA1373,AD1373)","v":"6621;6622;6623"},{"$f":"IF(OR(ISNUMBER(Y1373),Y1373=\"\"),\"\",MAX(AL1372,AL1370,B1373,D1373,L1373)+1)","v":6621},"你唱的……还不错……",916203,{"$f":"IF(OR(ISNUMBER(AB1373),AB1373=\"\"),\"\",X1373+1)","v":6622},"真是难听！",916204,{"$f":"IF(OR(ISNUMBER(AE1373),AE1373=\"\"),\"\",AA1373+1)","v":6623},"跟着它一起唱",916205,null,null,{"$f":"IF(A1373=\"\",\"\",IF(ISNUMBER(Y1373),2,IF(A1374=\"\",IF(OR(AK1373>0,VLOOKUP(O1373,EventConfig!A:C,3,FALSE)=4),3,\"\"),1)))","v":1},{"$f":"IF(AI1373=\"\",\"\",CHOOSE(AI1373,IF(AK1373=\"\",A1373+1,AK1373),CONCATENATE(IF(AK1373=\"\",A1373+1,AK1373),\";101\"),IF(AK1373=\"\",O1373+1,AK1373)))","v":916203},null,{"$f":"IF(A1373=\"\",\"\",MAX(B1373,D1373,L1373,X1373,AA1373,AL1372,AL1371,AD1373))","v":6623}]
[916203,6618,"完成对话","",{"$nulls":6},{"$f":"IF(J1374=\"\",\"\",VLOOKUP(J1374,EventNPC!A:E,5,FALSE))","v":""},6624,"石精感动得泪流满面，把一块碎石送你。",null,9162,3,"",null,null,{"$f":"IF(R1374=\"\",\"\",\"-\"&VLOOKUP(R1374,EventConditionConfig!A:C,3,FALSE)&IF(S1374=\"\",\"\",CHAR(10)&\"-\"&VLOOKUP(S1374,EventConditionConfig!A:C,3,FALSE)))","v":""},"","","","",null,null,"",null,null,"",{"$nulls":4},{"$f":"IF(A1374=\"\",\"\",IF(ISNUMBER(Y1374),2,IF(A1375=\"\",IF(OR(AK1374>0,VLOOKUP(O1374,EventConfig!A:C,3,FALSE)=4),3,\"\"),1)))","v":1},916204,null,6624]
[916204,6618,"完成对话","",{"$nulls":5},147,{"$f":"IF(J1375=\"\",\"\",VLOOKUP(J1375,EventNPC!A:E,5,FALSE))","v":"石精"},6625,"石精哭嚎：“原来大家都嫌弃我！”然后裂成两半。",null,9162,4,"",null,null,{"$f":"IF(R1375=\"\",\"\",\"-\"&VLOOKUP(R1375,EventConditionConfig!A:C,3,FALSE)&IF(S1375=\"\",\"\",CHAR(10)&\"-\"&VLOOKUP(S1375,EventConditionConfig!A:C,3,FALSE)))","v":""},"","","","",null,null,"",null,null,"",{"$nulls":4},{"$f":"IF(A1375=\"\",\"\",IF(ISNUMBER(Y1375),2,IF(A1376=\"\",IF(OR(AK1375>0,VLOOKUP(O1375,EventConfig!A:C,3,FALSE)=4),3,\"\"),1)))","v":1},916205,null,6625]
[916205,6618,"完成对话","",{"$nulls":5},147,{"$f":"IF(J1376=\"\",\"\",VLOOKUP(J1376,EventNPC!A:E,5,FALSE))","v":"石精"},6626,"你也唱跑调了，石精大喜：“知音啊！”送了你一大块碎石",null,9162,5,"",null,null,{"$f":"IF(R1376=\"\",\"\",\"-\"&VLOOKUP(R1376,EventConditionConfig!A:C,3,FALSE)&IF(S1376=\"\",\"\",CHAR(10)&\"-\"&VLOOKUP(S1376,EventConditionConfig!A:C,3,FALSE)))","v":""},"","","","",null,null,"",null,null,"",{"$nulls":4},{"$f":"IF(A1376=\"\",\"\",IF(ISNUMBER(Y1376),2,IF(A1377=\"\",IF(OR(AK1376>0,VLOOKUP(O1376,EventConfig!A:C,3,FALSE)=4),3,\"\"),1)))","v":""},"",null,6626]

{"sheet":"EventConditionConfig","index":2,"n_rows":51,"n_cols":16,"rows_kept":51,"cut":false,"hidden":false,"merged":[]}
["ID","message",null,null,"Operation",null,"ConditionType","ConditionPara","finishCount","RelatedEvents",null,"SkiptoIds"]
["int","int",null,null,"int",null,"int","int[]","int","int[]",null,"int[]"]
[]
["ID","描述",null,null,"与0\n或1",null,"条件判断类型","条件判断值","条件完成次数or数量","关联的事件Id","提示","跳转Id"]
[1,9001,"拥有金币",{"$f":"CONCATENATE(\"- \",C5,\"{0}/{1}\")","v":"- 拥有金币{0}/{1}"},null,null,1,1001,10,null,null,"1;2;3;4"]
[2,9002,{"$f":"CONCATENATE(\"达到境界：\",M6,\"-\",N6)","v":"达到境界：练气-中期"},{"$f":"CONCATENATE(\"- \",C6,\"{0}/{1}\")","v":"- 达到境界：练气-中期{0}/{1}"},null,null,3,11,1,null,null,"1;2;3;4","练气","中期",11,{"$f":"CONCATENATE(M6,\"-\",N6)","v":"练气-中期"}]
[3,9003,"击杀魔休","- 击杀魔休{0}/{1}",null,null,5,1001,5,9031,null,"1;2;3;4"]
[4,9004,"获得钻石","- 获得钻石{0}/{1}",null,null,6,1002,10,null,null,"1;2;3;4"]
[5,9005,"使用神识","- 使用神识{0}/{1}",null,null,8,null,1,null,null,5]
[6,9006,"继续飞行一段时间","- 继续飞行一段时间{0}/{1}",null,null,9,null,6,null,null,"1;2;3;4"]
[7,9007,"击败结界兽","- 击败结界兽{0}/{1}",null,null,5,1002,1,null,null,"1;2;3;4"]
[8,9008,{"$f":"CONCATENATE(\"达到境界：\",M12,\"-\",N12)","v":"达到境界：练气-后期"},"- 达到境界：练气-后期{0}/{1}",null,null,3,21,1,null,null,"1;2;3;4","练气","后期",21,{"$f":"CONCATENATE(M12,\"-\",N12)","v":"练气-后期"}]
[9,9009,"击杀北海小妖","- 击杀北海小妖{0}/{1}",null,null,5,1003,3,30003,null,"1;2;3;4"]
[10,9010,"击败后山小妖","- 击败后山小妖{0}/{1}",null,null,5,1004,3,30004,null,"1;2;3;4"]
[11,9011,"收集灵草种子","- 收集灵草种子{0}/{1}",null,null,6,20003,3,30011,null,"1;2;3;4"]
[12,9012,"击败夜袭的妖兽","- 击败夜袭的妖兽{0}/{1}",null,null,5,1005,1,30005,null,"1;2;3;4"]
[13,9013,"击败峰顶的妖王","- 击败峰顶的妖王{0}/{1}",null,null,5,1006,1,30006,null,"1;2;3;4"]
[14,9014,{"$f":"CONCATENATE(\"达到境界：\",M18,\"-\",N18)","v":"达到境界：筑基-前期"},"- 达到境界：筑基-前期{0}/{1}",null,null,3,31,1,null,null,"1;2;3;4","筑基","前期",31,{"$f":"CONCATENATE(M18,\"-\",N18)","v":"筑基-前期"}]
[15,9015,"击败仙山的阵眼妖兽","- 击败仙山的阵眼妖兽{0}/{1}",null,null,5,1007,1,30007,null,"1;2;3;4"]
[17,9016,"击杀灵兽获得天肥",{"$f":"CONCATENATE(\"- \",C20,\"{0}/{1}\")","v":"- 击杀灵兽获得天肥{0}/{1}"},null,null,5,1008,1,30008,null,"1;2;3;4"]
[18,9017,"获得一件袈裟","- 获得一件袈裟{0}/{1}",null,null,6,1301,1,30009,null,"1;2;3;4"]
[19,9018,"夺回琉璃盏","- 夺回琉璃盏{0}/{1}",null,null,6,1001,1,30010,null,"1;2;3;4"]
[20,9019,"给予渡劫丹","- 给予渡劫丹{0}/{1}",null,null,1,1001,1,null,null,"1;2;3;4"]
[21,9020,{"$f":"CONCATENATE(\"达到境界：\",M24,\"-\",N24)","v":"达到境界：筑基-中期"},"- 达到境界：筑基-中期{0}/{1}",null,null,3,41,1,null,null,"1;2;3;4","筑基","中期",41,{"$f":"CONCATENATE(M24,\"-\",N24)","v":"筑基-中期"}]
[22,9021,{"$f":"CONCATENATE(\"达到境界：\",M25,\"-\",N25)","v":"达到境界：筑基-后期"},{"$f":"CONCATENATE(\"- \",C25,\"{0}/{1}\")","v":"- 达到境界：筑基-后期{0}/{1}"},null,null,3,51,1,null,null,"1;2;3;4","筑基","后期",51,{"$f":"CONCATENATE(M25,\"-\",N25)","v":"筑基-后期"}]
[23,9022,"达到境界：结丹-前期",{"$f":"CONCATENATE(\"- \",C26,\"{0}/{1}\")","v":"- 达到境界：结丹-前期{0}/{1}"},null,null,3,61,1,null,null,"1;2;3;4","结丹","前期",61,"结丹-前期"]
[24,9023,"达到境界：结丹-中期","- 达到境界：结丹-中期{0}/{1}",null,null,3,71,1,null,null,"1;2;3;4","结丹","中期",71,"结丹-中期"]
[25,9024,"达到境界：结丹-后期","- 达到境界：结丹-后期{0}/{1}",null,null,3,81,1,null,null,"1;2;3;4","结丹","后期",81,"结丹-后期"]
[26,9025,"达到境界：元婴-前期",{"$f":"CONCATENATE(\"- \",C29,\"{0}/{1}\")","v":"- 达到境界：元婴-前期{0}/{1}"},null,null,3,91,1,null,null,"1;2;3;4","元婴","前期",91,"元婴-前期"]
[27,9026,"收集并饮用甘露",{"$f":"CONCATENATE(\"- \",C30,\"{0}/{1}\")","v":"- 收集并饮用甘露{0}/{1}"},null,null,6,20004,3,null,null,"1;2;3;4"]
[28,9027,"击败心魔",{"$f":"CONCATENATE(\"- \",C31,\"{0}/{1}\")","v":"- 击败心魔{0}/{1}"},null,null,5,1013,1,null,null,"1;2;3;4"]
[29,9028,"击败北海妖兽",{"$f":"CONCATENATE(\"- \",C32,\"{0}/{1}\")","v":"- 击败北海妖兽{0}/{1}"},null,null,5,1014,5,null,null,"1;2;3;4"]
[30,9029,{"$f":"CONCATENATE(\"达到境界：\",M33,\"-\",N33)","v":"达到境界：元婴-中期"},"- 达到境界：元婴-中期{0}/{1}",null,null,3,101,1,null,null,"1;2;3;4","元婴","中期",101,{"$f":"CONCATENATE(M33,\"-\",N33)","v":"元婴-中期"}]
[31,9030,{"$f":"CONCATENATE(\"达到境界：\",M34,\"-\",N34)","v":"达到境界：元婴-后期"},"- 达到境界：元婴-后期{0}/{1}",null,null,3,111,1,null,null,"1;2;3;4","元婴","后期",111,{"$f":"CONCATENATE(M34,\"-\",N34)","v":"元婴-后期"}]
[32,9031,"达到境界：化神-前期","- 达到境界：化神-前期{0}/{1}",null,null,3,121,1,null,null,"1;2;3;4","化神","前期",121,"化神-前期"]
[33,9032,"达到境界：化神-中期",{"$f":"CONCATENATE(\"- \",C36,\"{0}/{1}\")","v":"- 达到境界：化神-中期{0}/{1}"},null,null,3,131,1,null,null,"1;2;3;4","化神","中期",131,"化神-中期"]
[34,9033,"达到境界：化神-后期","- 达到境界：化神-后期{0}/{1}",null,null,3,141,1,null,null,"1;2;3;4","化神","后期",141,"化神-后期"]
[35,9034,"达到境界：炼虚-前期","- 达到境界：炼虚-前期{0}/{1}",null,null,3,151,1,null,null,"1;2;3;4","炼虚","前期",151,"炼虚-前期"]
[36,9035,"击杀北海妖兽精英","- 击杀北海妖兽精英{0}/{1}",null,null,5,1003,1,null,null,"1;2;3;4"]
[37,9036,"帮雀灵儿搜集风铃","- 帮雀灵儿搜集风铃{0}/{1}",null,null,1,20005,3,null,null,"1;2;3;4"]
[{"$f":"A40+1","v":38},{"$f":"B40+1","v":9037},"击败风妖",{"$f":"CONCATENATE(\"- \",C41,\"{0}/{1}\")","v":"- 击败风妖{0}/{1}"},null,null,5,3003,3,30014,null,"1;2;3;4"]
[39,9038,"收集风灵碎片",{"$f":"CONCATENATE(\"- \",C42,\"{0}/{1}\")","v":"- 收集风灵碎片{0}/{1}"},null,null,1,20006,3,30015,null,"1;2;3;4"]
[40,9039,"完成神识探索-云隐秘闻",{"$f":"CONCATENATE(\"- \",C43,\"{0}/{1}\")","v":"- 完成神识探索-云隐秘闻{0}/{1}"},null,null,10,30016,1,30016,null,"1;2;3;4"]
[41,9040,"完成神识探索-误食灵石的妖兽",{"$f":"CONCATENATE(\"- \",C44,\"{0}/{1}\")","v":"- 完成神识探索-误食灵石的妖兽{0}/{1}"},null,null,10,30017,3,30017,null,"1;2;3;4"]
[42,9041,"完成神识探索-云隐宗长老密信",{"$f":"CONCATENATE(\"- \",C45,\"{0}/{1}\")","v":"- 完成神识探索-云隐宗长老密信{0}/{1}"},null,null,10,30018,1,30018,null,"1;2;3;4"]
[43,9042,"完成神识探索-抢走玉佩的山林小妖",{"$f":"CONCATENATE(\"- \",C46,\"{0}/{1}\")","v":"- 完成神识探索-抢走玉佩的山林小妖{0}/{1}"},null,null,10,30019,2,30019,null,"1;2;3;4"]
[44,9043,"完成神识探索-山野采草",{"$f":"CONCATENATE(\"- \",C47,\"{0}/{1}\")","v":"- 完成神识探索-山野采草{0}/{1}"},null,null,10,30020,3,30020,null,"1;2;3;4"]
[45,9044,"完成神识探索-秘境种子",{"$f":"CONCATENATE(\"- \",C48,\"{0}/{1}\")","v":"- 完成神识探索-秘境种子{0}/{1}"},null,null,10,30021,2,30021,null,"1;2;3;4"]
[46,9045,"完成神识探索-甜蜜果实",{"$f":"CONCATENATE(\"- \",C49,\"{0}/{1}\")","v":"- 完成神识探索-甜蜜果实{0}/{1}"},null,null,10,30022,3,30022,null,"1;2;3;4"]
[47,9046,"完成神识探索-消灭妖邪",{"$f":"CONCATENATE(\"- \",C50,\"{0}/{1}\")","v":"- 完成神识探索-消灭妖邪{0}/{1}"},null,null,10,30023,5,9141,null,"1;2;3;4"]
[48,9047,"完成神识探索-消灭仙山山径西边的妖物",{"$f":"CONCATENATE(\"- \",C51,\"{0}/{1}\")","v":"- 完成神识探索-消灭仙山山径西边的妖物{0}/{1}"},null,null,10,30024,5,9143,null,"1;2;3;4"]

{"sheet":"条件类型查询","index":3,"n_rows":10,"n_cols":11,"rows_kept":10,"cut":false,"hidden":false,"merged":[]}
["ID","条件判断类型","条件判断值","条件完成次数or数量","额外文本","不可用","是否可用于事件",null,null,null,"事件类型："]
[1,"拥有特定道具","道具ID","数量≥","检测背包道具",null,1,null,null,1,"1.通用事件"]
[2,"灵根判定","哪个灵根","灵根值≥",null,1,null,null,null,2,"2.挂机事件"]
[3,"境界判断","境界id",null,null,null,1,null,null,4,"4.主线任务"]
[5,"战斗胜利","战斗组ID","胜利次数≥",{"$nulls":5},5,"5.仙山探险"]
[6,"获得道具","道具的ID","数量≥","探测出事件才开始检测",{"$nulls":4},6,"6.支线事件"]
[7,"触发概率","概率值 1000=100%",null,null,null,1,null,null,88,"88.特定任务触发的事件"]
[8,"使用神识",null,"数量≥",{"$nulls":5},99,"99.无标记"]
[9,"游戏在线多少时长（秒）",null,"时间≥（秒）",null,null,1,null,null,7,"道友剧情任务"]
[10,"前置事件","事件ID",null,null,null,1]

{"sheet":"产出tag查询","index":4,"n_rows":23,"n_cols":2,"rows_kept":23,"cut":false,"hidden":false,"merged":[]}
["产出TAG","产出类型"]
[1,"金币"]
[2,"修为"]
[3,"功法灵气"]
[4,"法宝灵韵"]
[5,"功法碎片"]
[6,"法宝碎片"]
[7,"修为丹"]
[8,"天材地宝"]
[9,"渡劫丹"]
[10,"好感度礼物"]
[11,"心情礼物"]
[12]
[13]
[14]
[15]
[16]
[17]
[18]
[19]
[20]
[21]
[22]

{"sheet":"EventNPC","index":5,"n_rows":71,"n_cols":5,"rows_kept":71,"cut":false,"hidden":false,"merged":[]}
["ID","name","icon","DaoyouID"]
["int","int","string","int"]
[]
["ID","名字","半身像icon","道友ID","名称"]
[1,3000,"bg_lh_chidaoren"]
[2,1953,"bg_lh_quelinger",1,"雀灵儿"]
[3,1954,"bg_lh_chidaoren",2,"云枝"]
[4,1955,"bg_lh_fengyao",3,"风瑶"]
[5,1956,"bg_lh_wanxi",4,"婉溪"]
[6,1957,"bg_lh_xuyou",5,"许由"]
[7,1958,"bg_lh_fengdaoren",6,"疯道人"]
[8,1959,"bg_lh_chidaoren",7,"道友7"]
[9,1960,"bg_lh_chidaoren",8,"道友8"]
[10,1961,"bg_lh_chidaoren",9,"道友9"]
[11,1962,"bg_lh_chidaoren",10,"道友10"]
[]
[100,3000,null,null,"玩家"]
[101,3001,"bg_lh_chidaoren",null,"蜩鸟"]
[102,3002,"bg_lh_quelinger",null,"小麻雀"]
[103,3003,"bg_lh_fengdaoren",null,"疯道人"]
[104,3004,"bg_lh_chidaoren",null,"痴道人"]
[105,3005,"bg_lh_yao",null,"尧帝"]
[106,3006,"bg_lh_xuyou",null,"许由"]
[107,3007,"bg_lh_chidaoren",null,"村名甲"]
[108,3008,"bg_lh_chidaoren",null,"村名乙"]
[109,3009,"bg_lh_chidaoren",null,"村名丙"]
[110,3010,"bg_lh_emuzhiling",null,"樗木之灵"]
[111,2078,"bg_lh_huizi",null,"惠子"]
[112,3021,"bg_lh_chidaoren",null,"风无咎"]
[113,3034,"bg_lh_chidaoren",null,"北海剑妖"]
[114,3067,"bg_lh_chidaoren",null,"拦路妖兽"]
[115,2091,"bg_lh_chidaoren",null,"小麻雀幻影"]
[116,2092,"bg_lh_chidaoren",null,"痴道人幻影"]
[117,2093,"bg_lh_chidaoren",null,"樗木之灵幻影"]
[118,2094,"bg_lh_gushexianzi",null,"神人"]
[119,2095,"bg_lh_chidaoren",null,"鲲鹏"]
[120,2096,"bg_lh_chidaoren",null,"妖兽"]
[121,2097,"bg_lh_zhiyao",null,"云枝"]
[122,2098,"bg_lh_fengyao",null,"风瑶"]
[123,2099,"bg_lh_chidaoren",null,"散修甲"]
[124,2100,"bg_lh_chidaoren",null,"散修乙"]
[125,2101,"bg_lh_chidaoren",null,"散修丙"]
[126,null,null,null,"老张"]
[127,null,null,null,"老李"]
[128,null,null,null,"敌人"]
[129,null,null,null,"灵姬"]
[130,null,null,null,"冤魂"]
[131,null,null,null,"馨儿"]
[132,null,null,null,"信使"]
[133,null,null,null,"血海宗弟子A"]
[134,null,null,null,"柳轻烟"]
[135,null,null,null,"血海宗弟子B"]
[136,null,null,null,"血海宗敌人"]
[137,null,null,null,"冲虚真人"]
[138,null,null,null,"散修"]
[139,null,null,null,"蒙面散修精英"]
[140,null,null,null,"楚云缪"]
[{"$f":"A57+1","v":141},null,null,null,"青狼散人"]
[{"$f":"A58+1","v":142},null,null,null,"林风"]
[{"$f":"A59+1","v":143},null,null,null,"柳清清"]
[{"$f":"A60+1","v":144},null,null,null,"玄水真人"]
[{"$f":"A61+1","v":145},null,null,null,"云霄龙鹰"]
[146,null,null,null,"鱼"]
[147,null,null,null,"石精"]
[148,null,null,null,"小雷霆兽"]
[149,null,null,null,"自称神兽的蚊子"]
[150,null,null,null,"灵雀"]
[151,null,null,null,"老犬"]
[152,null,null,null,"萤火虫"]
[153,null,null,null,"小妖"]
[154,null,null,null,"老乌龟"]

{"sheet":"XianTuLogConfig","index":6,"n_rows":8,"n_cols":7,"rows_kept":8,"cut":false,"hidden":false,"merged":[]}
["ID","EventType","Title","Desc","BigMapID"]
["int","int","int","int","int"]
[]
["ID","1主线\n2事件","名称","描述","属于哪个章节"]
[1,1,2087,2089,1,"第一章.逍遥游","多次渡劫失败的你，误入“无何有之乡”，在这里受到了列子的指引，踏上了寻找七道心境的修仙之路。"]
[2,2,2088,2090,1,"无用的大葫芦","惠子种出了巨大葫芦，他觉得毫无用处，非常生气！"]
[3,2,2088,2090,2,"无用的大葫芦","惠子种出了巨大葫芦，他觉得毫无用处，非常生气！"]
[4,2,2088,2090,3,"无用的大葫芦","惠子种出了巨大葫芦，他觉得毫无用处，非常生气！"]